{"text_format":"1","workbook":"xlsx","n_sheets":32,"sheets":["Sample Report","Summary","Start","!M104B1T.ayl","!M105B4T.ayl","!M106B1T.ayl","!M109B2T.ayl","!M110A5T.ayl","!M111B3T.ayl","!M112B2T.ayl","!M113A5T.ayl","!M114B5T.ayl","!M115A3T.ayl","!M116B2T.ayl","!M117A2T.ayl","!M118B3T.ayl","!M119B4T.ayl","!M120A3T.ayl","!M121A0T.ayl","!M12295T.ayl","!M124B1T.ayl","!M125B0T.ayl","!M126A3T.ayl","!M12795T.ayl","!M128B2T.ayl","!M129B1T.ayl","!M130B0T.ayl","!M131A4T.ayl","!M201A4T.ayl","!M202B4T.ayl","!M204B4T.ayl","!M205B3T.ayl"],"not_rendered":{"charts":0,"images":0,"macros":1,"external_links":0,"defined_names":0,"comments":0,"pivot_tables":0},"unopened":[],"bounds":{"document_bytes":16777216,"sheet_cells":100000,"rows_first":2000,"rows_last":500,"rows_between":2000,"halvings":0,"cell_chars":16384,"cell_head_chars":4096},"cells_cut":0,"cells_raw":0,"read":"whole","date_system":"1900"}

{"sheet":"Sample Report","index":0,"n_rows":12,"n_cols":11,"rows_kept":12,"cut":false,"hidden":true,"merged":[[7,0,7,6]]}
[]
["Date"]
["Hen"]
["Program"]
["Start at 999999"]
["Sequence component 1","Time 1","Seqeunce Component 2","Time 2","Seqeunce Component 3","Time 3","Correct   0 = No 1=Yes",null,null,"Seqeunce","Time"]
[12,7,12,42,13,18,"if 77 new line,                                  if 31 or 41 = yes new line on 77, ",null,null,"=string of Seqeunce compponent 1, 2 & 3","=time 3"]
["This continues until ther is a 1 on its own to indicate start of summary data"]
[null,null,null,null,null,null,null,null,null,"10-19 =1"]
["Summary Data ",null,null,null,null,null,null,null,null,"20-29 =2"]
["Correct","Incorrect","Rft","total","Av Correct","Av Incorrect","Percent correct","Time",null,"in this example the seqeunce would be 111"]
[40,33,40,73,23.95,15,54,806]

{"sheet":"Summary","index":1,"n_rows":32,"n_cols":24,"rows_kept":32,"cut":false,"hidden":false,"merged":[]}
[]
["Day","Date","Average Response Rate","Target %","RF for non correct sequence","U Value",null,null,null,null,"Block 1","Block 2","Block 3","Block 4","Block 5","Block 6"]
[1,{"$f":"'!M104B1T.ayl'!B2:C2","v":"<date>"},{"$f":"('!M104B1T.ayl'!H88/60)/'!M104B1T.ayl'!Q3","v":4.6152439024390244},{"$f":"'!M104B1T.ayl'!N28/'!M104B1T.ayl'!Q3","v":1.2195121951219513E-2},{"$f":"SUM('!M104B1T.ayl'!L28:Q28)/'!M104B1T.ayl'!Q3","v":15.109756097560975},{"$f":"'!M104B1T.ayl'!Q24","v":0.40444951734745899},null,null,null,"Average Response Rate",{"$f":"AVERAGE(C3:C7)","v":6.5001799720298221},{"$f":"AVERAGE(C8:C12)","v":11.173553740014523},{"$f":"AVERAGE(C13:C17)","v":15.708091183841958},{"$f":"AVERAGE(C18:C22)","v":11.63841958041958},{"$f":"AVERAGE(C23:C27)","v":11.803164211674851},{"$f":"AVERAGE(C28:C32)","v":29.476736111111112}]
[2,{"$f":"'!M105B4T.ayl'!B2:C2","v":"<date>"},{"$f":"('!M105B4T.ayl'!H76/60)/'!M105B4T.ayl'!Q3","v":3.4187793427230044},{"$f":"'!M105B4T.ayl'!N28/'!M105B4T.ayl'!Q3","v":0},{"$f":"SUM('!M105B4T.ayl'!L28:Q28)/'!M105B4T.ayl'!Q3","v":17.549295774647888},{"$f":"'!M105B4T.ayl'!Q24","v":0.45549574402287346},null,null,null,"Target %",{"$f":"AVERAGE(D3:D7)","v":2.4390243902439024E-3},{"$f":"AVERAGE(D8:D12)","v":6.2500000000000003E-3},{"$f":"AVERAGE(D13:D17)","v":0},{"$f":"AVERAGE(D18:D22)","v":0},{"$f":"AVERAGE(D23:D27)","v":0},{"$f":"AVERAGE(D28:D32)","v":4.1666666666666664E-2}]
[3,{"$f":"'!M106B1T.ayl'!B2:C2","v":"<date>"},{"$f":"('!M106B1T.ayl'!H49/60)/'!M106B1T.ayl'!Q3","v":8.9953488372093027},{"$f":"'!M106B1T.ayl'!N28/'!M106B1T.ayl'!Q3","v":0},{"$f":"SUM('!M106B1T.ayl'!L28:Q28)/'!M106B1T.ayl'!Q3","v":49.418604651162788},{"$f":"'!M106B1T.ayl'!Q24","v":0.51260843258173672},null,null,null,"CCRF",{"$f":"AVERAGE(E3:E7)","v":34.907197971340999},{"$f":"AVERAGE(E8:E12)","v":33.680939542483664},{"$f":"AVERAGE(E13:E17)","v":0.34267470145953116},{"$f":"AVERAGE(E18:E22)","v":6.7675124875124864},{"$f":"AVERAGE(E23:E27)","v":5.0856301145662846},{"$f":"AVERAGE(E28:E32)","v":0.375}]
[4,{"$f":"'!M109B2T.ayl'!B2:C2","v":"<date>"},{"$f":"('!M109B2T.ayl'!H30/60)/'!M109B2T.ayl'!Q3","v":15.471527777777778},{"$f":"'!M109B2T.ayl'!N28/'!M109B2T.ayl'!Q3","v":0},{"$f":"SUM('!M109B2T.ayl'!L28:Q28)/'!M109B2T.ayl'!Q3","v":92.458333333333329},{"$f":"'!M109B2T.ayl'!Q24","v":0.6181719731950287},null,null,null,"U Value",{"$f":"AVERAGE(F3:F7)","v":0.3981451334294196},{"$f":"AVERAGE(F8:F12)","v":0.540536307899813},{"$f":"AVERAGE(F13:F17)","v":0.67638848633802706},{"$f":"AVERAGE(F18:F22)","v":0.59396302367653586},{"$f":"AVERAGE(F23:F27)","v":0.72099180692648512},{"$f":"AVERAGE(F28:F32)","v":0.72298843958016357}]
[5,{"$f":"'!M110A5T.ayl'!B2:C2","v":"<date>"},0,0,0,0]
[6,{"$f":"'!M111B3T.ayl'!B2:C2","v":"<date>"},{"$f":"('!M111B3T.ayl'!H38/60)/'!M111B3T.ayl'!Q3","v":11.954166666666667},{"$f":"'!M111B3T.ayl'!N28/'!M111B3T.ayl'!Q3","v":3.125E-2},{"$f":"SUM('!M111B3T.ayl'!L28:Q28)/'!M111B3T.ayl'!Q3","v":69.46875},{"$f":"'!M111B3T.ayl'!Q24","v":0.6085675594806832}]
[7,{"$f":"'!M112B2T.ayl'!B2:C2","v":"<date>"},{"$f":"('!M112B2T.ayl'!H22/60)/'!M112B2T.ayl'!Q3","v":18.345098039215685},{"$f":"'!M112B2T.ayl'!N28/'!M112B2T.ayl'!Q3","v":0},{"$f":"SUM('!M112B2T.ayl'!L28:Q28)/'!M112B2T.ayl'!Q3","v":0.35294117647058826},{"$f":"'!M112B2T.ayl'!Q24","v":0.61320488277869578},{"$f":"K3","v":6.5001799720298221},{"$f":"L3","v":11.173553740014523},15.708091183841958,11.63841958041958,11.803164211674851,29.476736111111112,{"$f":"K4","v":2.4390243902439024E-3},{"$f":"L4","v":6.2500000000000003E-3},0,0,0,4.1666666666666664E-2,{"$f":"K6","v":0.3981451334294196},{"$f":"L6","v":0.540536307899813},0.67638848633802706,0.59396302367653586,0.72099180692648512,0.72298843958016357]
[8,{"$f":"'!M113A5T.ayl'!B2:C2","v":"<date>"},{"$f":"('!M113A5T.ayl'!H57/60)/'!M113A5T.ayl'!Q3","v":7.7686274509803921},{"$f":"'!M113A5T.ayl'!N28/'!M113A5T.ayl'!Q3","v":0},{"$f":"SUM('!M113A5T.ayl'!L28:Q28)/'!M113A5T.ayl'!Q3","v":24.294117647058822},{"$f":"'!M113A5T.ayl'!Q24","v":0.45647117928207004}]
[9,{"$f":"'!M114B5T.ayl'!B2:C2","v":"<date>"},{"$f":"('!M114B5T.ayl'!H40/60)/'!M114B5T.ayl'!Q3","v":9.5399999999999991},{"$f":"'!M114B5T.ayl'!N28/'!M114B5T.ayl'!Q3","v":0},{"$f":"SUM('!M114B5T.ayl'!L28:Q28)/'!M114B5T.ayl'!Q3","v":32.4},{"$f":"'!M114B5T.ayl'!Q24","v":0.48809952780601112}]
[10,{"$f":"'!M115A3T.ayl'!B2:C2","v":"<date>"},{"$f":"('!M115A3T.ayl'!H33/60)/'!M115A3T.ayl'!Q3","v":8.2598765432098773},{"$f":"'!M115A3T.ayl'!N28/'!M115A3T.ayl'!Q3","v":0},{"$f":"SUM('!M115A3T.ayl'!L28:Q28)/'!M115A3T.ayl'!Q3","v":41.888888888888886},{"$f":"'!M115A3T.ayl'!Q24","v":0.53633839015160489}]
[11,{"$f":"'!M116B2T.ayl'!B2:C2","v":"<date>"},{"$f":"('!M116B2T.ayl'!H20/60)/'!M116B2T.ayl'!Q3","v":25.879761904761903},{"$f":"'!M116B2T.ayl'!N28/'!M116B2T.ayl'!Q3","v":0},{"$f":"SUM('!M116B2T.ayl'!L28:Q28)/'!M116B2T.ayl'!Q3","v":0.35714285714285715},{"$f":"'!M116B2T.ayl'!Q24","v":0.72318826128790459}]
[12,{"$f":"'!M117A2T.ayl'!B2:C2","v":"<date>"},{"$f":"('!M117A2T.ayl'!H24/60)/'!M117A2T.ayl'!Q3","v":8.1570175438596486},{"$f":"'!M117A2T.ayl'!N28/'!M117A2T.ayl'!Q3","v":0},{"$f":"SUM('!M117A2T.ayl'!L28:Q28)/'!M117A2T.ayl'!Q3","v":0.31578947368421051},{"$f":"'!M117A2T.ayl'!Q24","v":0.67019274269386486}]
[13,{"$f":"'!M118B3T.ayl'!B2:C2","v":"<date>"},{"$f":"('!M118B3T.ayl'!H22/60)/'!M118B3T.ayl'!Q3","v":5.9745098039215687},{"$f":"'!M118B3T.ayl'!N28/'!M118B3T.ayl'!Q3","v":0},{"$f":"SUM('!M118B3T.ayl'!L28:Q28)/'!M118B3T.ayl'!Q3","v":0.35294117647058826},{"$f":"'!M118B3T.ayl'!Q24","v":0.63875913314431632}]
[14,{"$f":"'!M119B4T.ayl'!B2:C2","v":"<date>"},{"$f":"('!M119B4T.ayl'!H21/60)/'!M119B4T.ayl'!Q3","v":24.110416666666666},{"$f":"'!M119B4T.ayl'!N28/'!M119B4T.ayl'!Q3","v":0},{"$f":"SUM('!M119B4T.ayl'!L28:Q28)/'!M119B4T.ayl'!Q3","v":0.3125},{"$f":"'!M119B4T.ayl'!Q24","v":0.63125594048752731}]
[15,{"$f":"'!M120A3T.ayl'!B2:C2","v":"<date>"},{"$f":"('!M120A3T.ayl'!H14/60)/'!M120A3T.ayl'!Q3","v":14.418749999999999},{"$f":"'!M120A3T.ayl'!N28/'!M120A3T.ayl'!Q3","v":0},{"$f":"SUM('!M120A3T.ayl'!L28:Q28)/'!M120A3T.ayl'!Q3","v":0.375},{"$f":"'!M120A3T.ayl'!Q24","v":0.71854635407652212}]
[16,{"$f":"'!M121A0T.ayl'!B2:C2","v":"<date>"},{"$f":"('!M121A0T.ayl'!H17/60)/'!M121A0T.ayl'!Q3","v":33.265151515151516},{"$f":"'!M121A0T.ayl'!N28/'!M121A0T.ayl'!Q3","v":0},{"$f":"SUM('!M121A0T.ayl'!L28:Q28)/'!M121A0T.ayl'!Q3","v":0.36363636363636365},{"$f":"'!M121A0T.ayl'!Q24","v":0.55970466856466961}]
[17,{"$f":"'!M12295T.ayl'!B2:C2","v":"<date>"},{"$f":"('!M12295T.ayl'!H41/60)/'!M12295T.ayl'!Q3","v":9.7566666666666677},{"$f":"'!M12295T.ayl'!N28/'!M12295T.ayl'!Q3","v":0},{"$f":"SUM('!M12295T.ayl'!L28:Q28)/'!M12295T.ayl'!Q3","v":32.4},{"$f":"'!M12295T.ayl'!Q24","v":0.47576558457142754}]
[18,{"$f":"'!M124B1T.ayl'!B2:C2","v":"<date>"},{"$f":"('!M124B1T.ayl'!H27/60)/'!M124B1T.ayl'!Q3","v":5.2151515151515149},{"$f":"'!M124B1T.ayl'!N28/'!M124B1T.ayl'!Q3","v":0},{"$f":"SUM('!M124B1T.ayl'!L28:Q28)/'!M124B1T.ayl'!Q3","v":0.40909090909090912},{"$f":"'!M124B1T.ayl'!Q24","v":0.56347306064040248}]
[19,{"$f":"'!M125B0T.ayl'!B2:C2","v":"<date>"},{"$f":"('!M125B0T.ayl'!H20/60)/'!M125B0T.ayl'!Q3","v":0},{"$f":"'!M125B0T.ayl'!N28/'!M125B0T.ayl'!Q3","v":0},{"$f":"SUM('!M125B0T.ayl'!L28:Q28)/'!M125B0T.ayl'!Q3","v":0.35714285714285715},{"$f":"'!M125B0T.ayl'!Q24","v":0.80231507337012553}]
[20,{"$f":"'!M126A3T.ayl'!B2:C2","v":"<date>"},{"$f":"('!M126A3T.ayl'!H19/60)/'!M126A3T.ayl'!Q3","v":9.9551282051282044},{"$f":"'!M126A3T.ayl'!N28/'!M126A3T.ayl'!Q3","v":0},{"$f":"SUM('!M126A3T.ayl'!L28:Q28)/'!M126A3T.ayl'!Q3","v":0.30769230769230771},{"$f":"'!M126A3T.ayl'!Q24","v":0.56855673123605388}]
[21,{"$f":"'!M12795T.ayl'!B2:C2","v":"<date>"},{"$f":"('!M12795T.ayl'!H53/60)/'!M12795T.ayl'!Q3","v":6.7312056737588657},{"$f":"'!M12795T.ayl'!N28/'!M12795T.ayl'!Q3","v":0},{"$f":"SUM('!M12795T.ayl'!L28:Q28)/'!M12795T.ayl'!Q3","v":24.212765957446809},{"$f":"'!M12795T.ayl'!Q24","v":0.5346613721754081}]
[22,{"$f":"'!M128B2T.ayl'!B2:C2","v":"<date>"},{"$f":"('!M128B2T.ayl'!H19/60)/'!M128B2T.ayl'!Q3","v":4.5205128205128204},{"$f":"'!M128B2T.ayl'!N28/'!M128B2T.ayl'!Q3","v":0},{"$f":"SUM('!M128B2T.ayl'!L28:Q28)/'!M128B2T.ayl'!Q3","v":0.30769230769230771},{"$f":"'!M128B2T.ayl'!Q24","v":0.8336995972754957}]
[23,{"$f":"'!M129B1T.ayl'!B2:C2","v":"<date>"},{"$f":"('!M129B1T.ayl'!H16/60)/'!M129B1T.ayl'!Q3","v":17.333333333333336},{"$f":"'!M129B1T.ayl'!N28/'!M129B1T.ayl'!Q3","v":0},{"$f":"SUM('!M129B1T.ayl'!L28:Q28)/'!M129B1T.ayl'!Q3","v":0.3},{"$f":"'!M129B1T.ayl'!Q24","v":0.81938200260161143}]
[24,{"$f":"'!M130B0T.ayl'!B2:C2","v":"<date>"},{"$f":"('!M130B0T.ayl'!H16/60)/'!M130B0T.ayl'!Q3","v":0},{"$f":"'!M130B0T.ayl'!N28/'!M130B0T.ayl'!Q3","v":0},{"$f":"SUM('!M130B0T.ayl'!L28:Q28)/'!M130B0T.ayl'!Q3","v":0.3},{"$f":"'!M130B0T.ayl'!Q24","v":0.66666666666666674}]
[25,{"$f":"'!M131A4T.ayl'!B2:C2","v":"<date>"},{"$f":"('!M131A4T.ayl'!H19/60)/'!M131A4T.ayl'!Q3","v":30.430769230769233},{"$f":"'!M131A4T.ayl'!N28/'!M131A4T.ayl'!Q3","v":0},{"$f":"SUM('!M131A4T.ayl'!L28:Q28)/'!M131A4T.ayl'!Q3","v":0.30769230769230771},{"$f":"'!M131A4T.ayl'!Q24","v":0.75054939591324332}]
[26,{"$f":"'!M201A4T.ayl'!B2:C2","v":"<date>"},{"$f":"('!M201A4T.ayl'!H26/60)/'!M201A4T.ayl'!Q3","v":8.6641666666666666},{"$f":"'!M201A4T.ayl'!N28/'!M201A4T.ayl'!Q3","v":0},{"$f":"SUM('!M201A4T.ayl'!L28:Q28)/'!M201A4T.ayl'!Q3","v":0.35},{"$f":"'!M201A4T.ayl'!Q24","v":0.48484421726431642}]
[27,{"$f":"'!M202B4T.ayl'!B2:C2","v":"<date>"},{"$f":"('!M202B4T.ayl'!H11/60)/'!M202B4T.ayl'!Q3","v":31.123333333333335},{"$f":"'!M202B4T.ayl'!N28/'!M202B4T.ayl'!Q3","v":0},{"$f":"SUM('!M202B4T.ayl'!L28:Q28)/'!M202B4T.ayl'!Q3","v":0.4},{"$f":"'!M202B4T.ayl'!Q24","v":0.82772937677064262}]
[28,{"$f":"'!M204B4T.ayl'!B2:C2","v":"<date>"},{"$f":"('!M204B4T.ayl'!H9/60)/'!M204B4T.ayl'!Q3","v":20.691666666666666},{"$f":"'!M204B4T.ayl'!N28/'!M204B4T.ayl'!Q3","v":0},{"$f":"SUM('!M204B4T.ayl'!L28:Q28)/'!M204B4T.ayl'!Q3","v":0.25},{"$f":"'!M204B4T.ayl'!Q24","v":0.57938016428569505}]
[29,{"$f":"'!M205B3T.ayl'!B2:C2","v":"<date>"},{"$f":"('!M205B3T.ayl'!H12/60)/'!M205B3T.ayl'!Q3","v":57.427777777777777},{"$f":"'!M205B3T.ayl'!N28/'!M205B3T.ayl'!Q3","v":0.16666666666666666},{"$f":"SUM('!M205B3T.ayl'!L28:Q28)/'!M205B3T.ayl'!Q3","v":0.5},{"$f":"'!M205B3T.ayl'!Q24","v":1}]
[30]

{"sheet":"Start","index":2,"n_rows":35,"n_cols":10,"rows_kept":35,"cut":false,"hidden":false,"merged":[]}
[null,null,null,null,null,"Use Folder 51",null,"Auto Clean Up",null,"Correct sequence"]
[null,null,null,null,null,false,null,true,null,2212]
[]
["Working with Folder",null,null,null,null,null,"Process All/Or Pick A number: ALL or an integer"]
["F:\\Possum Chapter\\Raw Data\\Taylor\\phase 3 var\\",null,null,null,null,null,"ALL"]
["Filenames:"]
["!M126A3T.ayl",null,null,null,null,null,"Paint Cells"]
["!M12795T.ayl",null,null,null,null,null,false]
["!M128B2T.ayl"]
["!M129B1T.ayl"]
["!M130B0T.ayl"]
["!M131A4T.ayl"]
["!M201A4T.ayl"]
["!M202B4T.ayl"]
["!M204B4T.ayl"]
["!M205B3T.ayl"]
["!M104B1T.ayl"]
["!M105B4T.ayl"]
["!M106B1T.ayl"]
["!M109B2T.ayl"]
["!M110A5T.ayl"]
["!M111B3T.ayl"]
["!M112B2T.ayl"]
["!M113A5T.ayl"]
["!M114B5T.ayl"]
["!M115A3T.ayl"]
["!M116B2T.ayl"]
["!M117A2T.ayl"]
["!M118B3T.ayl"]
["!M119B4T.ayl"]
["!M120A3T.ayl"]
["!M121A0T.ayl"]
["!M12295T.ayl"]
["!M124B1T.ayl"]
["!M125B0T.ayl"]

{"sheet":"!M104B1T.ayl","index":3,"n_rows":88,"n_cols":48,"rows_kept":88,"cut":false,"hidden":false,"merged":[[4,39,4,42],[5,39,5,40],[4,44,4,47],[5,44,5,45],[4,24,4,27],[5,24,5,25],[4,29,4,32],[5,29,5,30],[4,34,4,37],[5,34,5,35],[1,1,1,2],[5,13,5,14],[26,13,26,14],[27,13,27,14],[4,19,4,22],[5,19,5,20]]}
["Report for:!M104B1T.ayl"]
["Date:","<date>"]
["Hen:","<hen>",null,null,null,"Correct Sequence",{"$f":"Start!J2","v":2212},null,null,null,null,null,null,null,null,"Total Sequences in Data",{"$f":"4994-COUNTBLANK(L7:L5000)","v":82},null,null,null,null,"Total Sequences in Block Data",{"$f":"COUNTA(L7:L20)","v":14},null,null,null,"Total Sequences in Block Data",{"$f":"COUNTA(L21:L33)","v":13},null,null,null,"Total Sequences in Block Data",{"$f":"COUNTA(L34:L47)","v":14},null,null,null,"Total Sequences in Block Data",{"$f":"COUNTA(L48:L61)","v":14},null,null,null,"Total Sequences in Block Data",{"$f":"COUNTA(L62:L74)","v":13},null,null,null,"Total Sequences in Block Data",{"$f":"COUNTA(L75:L88)","v":14}]
[null,null,null,null,null,null,null,null,null,null,null,null,null,null,null,"Total Sequences in Summary",{"$f":"SUM(O7:O22)","v":82},null,null,null,null,"Total Sequences in Block Summary",{"$f":"SUM(U7:U22)","v":14},null,null,null,"Total Sequences in Block Summary",{"$f":"SUM(Z7:Z22)","v":13},null,null,null,"Total Sequences in Block Summary",{"$f":"SUM(AE7:AE22)","v":14},null,null,null,"Total Sequences in Block Summary",{"$f":"SUM(AJ7:AJ22)","v":14},null,null,null,"Total Sequences in Block Summary",{"$f":"SUM(AO7:AO22)","v":13},null,null,null,"Total Sequences in Block Summary",{"$f":"SUM(AT7:AT22)","v":14}]
[null,null,null,null,null,null,null,null,null,null,null,null,null,null,null,null,null,null,null,"Block 1",null,null,null,null,"Block 2",null,null,null,null,"Block 3",null,null,null,null,"Block 4",null,null,null,null,"Block 5",null,null,null,null,"Block 6"]
["Sequence\nComponent\n1","Time\n1","Sequence\nComponent\n2","Time\n2","Sequence\nComponent\n3","Time\n3","Sequence\nComponent\n4","Time\n4","Sequence\nComponent\n5","Time\n5","Correct?\n0=No 1=Yes","Sequence",null,"Frequency",null,"Relative Frequency","Variability",null,null,"Frequency",null,"Relative Frequency","Variability",null,"Frequency",null,"Relative Frequency","Variability",null,"Frequency",null,"Relative Frequency","Variability",null,"Frequency",null,"Relative Frequency","Variability",null,"Frequency",null,"Relative Frequency","Variability",null,"Frequency",null,"Relative Frequency","Variability"]
[12,15,14,20,13,31,14,38,null,null,0,1111,null,1111,{"$f":"COUNTIF($L$7:$L$500,N7)","v":14},{"$f":"O7/$Q$4","v":0.17073170731707318},{"$f":"IF(P7=0,0,(P7*((LOG(P7))/LOG(2))))","v":-0.4353995019005697},null,null,{"$f":"N7","v":1111},{"$f":"COUNTIF(L7:L20,T7)","v":3},{"$f":"U7/(W4-U20)","v":0.21428571428571427},{"$f":"IF(V7=0,0,(V7*((LOG(V7))/LOG(2))))","v":-0.47622694742923877},null,{"$f":"N7","v":1111},{"$f":"COUNTIF(L21:L33,Y7)","v":1},{"$f":"Z7/(AB4-Z20)","v":8.3333333333333329E-2},{"$f":"IF(AA7=0,0,(AA7*((LOG(AA7))/LOG(2))))","v":-0.29874687506009634},null,{"$f":"N7","v":1111},{"$f":"COUNTIF(L34:L47,AD7)","v":0},{"$f":"AE7/(AG4-AE20)","v":0},{"$f":"IF(AF7=0,0,(AF7*((LOG(AF7))/LOG(2))))","v":0},null,{"$f":"N7","v":1111},{"$f":"COUNTIF(L48:L61,AI7)","v":4},{"$f":"AJ7/(AL4-AJ20)","v":0.2857142857142857},{"$f":"IF(AK7=0,0,(AK7*((LOG(AK7))/LOG(2))))","v":-0.51638712058788683},null,{"$f":"N7","v":1111},{"$f":"COUNTIF(L62:L74,AN7)","v":3},{"$f":"AO7/(AQ4-AO20)","v":0.23076923076923078},{"$f":"IF(AP7=0,0,(AP7*((LOG(AP7))/LOG(2))))","v":-0.48818705017383146},null,{"$f":"N7","v":1111},{"$f":"COUNTIF(L75:L88,AS7)","v":3},{"$f":"AT7/(AV4-AT20)","v":0.21428571428571427},{"$f":"IF(AU7=0,0,(AU7*((LOG(AU7))/LOG(2))))","v":-0.47622694742923877}]
[12,135,23,145,24,150,23,154,null,null,0,1222,null,1112,{"$f":"COUNTIF($L$7:$L$500,N8)","v":8},{"$f":"O8/$Q$4","v":9.7560975609756101E-2},{"$f":"IF(P8=0,0,(P8*((LOG(P8))/LOG(2))))","v":-0.32756604923103255},null,null,{"$f":"N8","v":1112},{"$f":"COUNTIF(L7:L20,T8)","v":1},{"$f":"U8/(W4-U20)","v":7.1428571428571425E-2},{"$f":"IF(V8=0,0,(V8*((LOG(V8))/LOG(2))))","v":-0.27195392300411453},null,{"$f":"N8","v":1112},{"$f":"COUNTIF(L21:L33,Y8)","v":1},{"$f":"Z8/(AB4-Z20)","v":8.3333333333333329E-2},{"$f":"IF(AA8=0,0,(AA8*((LOG(AA8))/LOG(2))))","v":-0.29874687506009634},null,{"$f":"N8","v":1112},{"$f":"COUNTIF(L34:L47,AD8)","v":3},{"$f":"AE8/(AG4-AE20)","v":0.21428571428571427},{"$f":"IF(AF8=0,0,(AF8*((LOG(AF8))/LOG(2))))","v":-0.47622694742923877},null,{"$f":"N8","v":1112},{"$f":"COUNTIF(L48:L61,AI8)","v":0},{"$f":"AJ8/(AL4-AJ20)","v":0},{"$f":"IF(AK8=0,0,(AK8*((LOG(AK8))/LOG(2))))","v":0},null,{"$f":"N8","v":1112},{"$f":"COUNTIF(L62:L74,AN8)","v":1},{"$f":"AO8/(AQ4-AO20)","v":7.6923076923076927E-2},{"$f":"IF(AP8=0,0,(AP8*((LOG(AP8))/LOG(2))))","v":-0.28464920908777636},null,{"$f":"N8","v":1112},{"$f":"COUNTIF(L75:L88,AS8)","v":2},{"$f":"AT8/(AV4-AT20)","v":0.14285714285714285},{"$f":"IF(AU8=0,0,(AU8*((LOG(AU8))/LOG(2))))","v":-0.40105070315108626}]
[12,251,23,262,24,265,23,275,null,null,0,1222,null,1121,{"$f":"COUNTIF($L$7:$L$500,N9)","v":0},{"$f":"O9/$Q$4","v":0},{"$f":"IF(P9=0,0,(P9*((LOG(P9))/LOG(2))))","v":0},null,null,{"$f":"N9","v":1121},{"$f":"COUNTIF(L7:L20,T9)","v":0},{"$f":"U9/(W4-U20)","v":0},{"$f":"IF(V9=0,0,(V9*((LOG(V9))/LOG(2))))","v":0},null,{"$f":"N9","v":1121},{"$f":"COUNTIF(L21:L33,Y9)","v":0},{"$f":"Z9/(AB4-Z20)","v":0},{"$f":"IF(AA9=0,0,(AA9*((LOG(AA9))/LOG(2))))","v":0},null,{"$f":"N9","v":1121},{"$f":"COUNTIF(L34:L47,AD9)","v":0},{"$f":"AE9/(AG4-AE20)","v":0},{"$f":"IF(AF9=0,0,(AF9*((LOG(AF9))/LOG(2))))","v":0},null,{"$f":"N9","v":1121},{"$f":"COUNTIF(L48:L61,AI9)","v":0},{"$f":"AJ9/(AL4-AJ20)","v":0},{"$f":"IF(AK9=0,0,(AK9*((LOG(AK9))/LOG(2))))","v":0},null,{"$f":"N9","v":1121},{"$f":"COUNTIF(L62:L74,AN9)","v":0},{"$f":"AO9/(AQ4-AO20)","v":0},{"$f":"IF(AP9=0,0,(AP9*((LOG(AP9))/LOG(2))))","v":0},null,{"$f":"N9","v":1121},{"$f":"COUNTIF(L75:L88,AS9)","v":0},{"$f":"AT9/(AV4-AT20)","v":0},{"$f":"IF(AU9=0,0,(AU9*((LOG(AU9))/LOG(2))))","v":0}]
[12,373,23,381,24,385,23,389,null,null,0,1222,null,1122,{"$f":"COUNTIF($L$7:$L$500,N10)","v":23},{"$f":"O10/$Q$4","v":0.28048780487804881},{"$f":"IF(P10=0,0,(P10*((LOG(P10))/LOG(2))))","v":-0.51441184288908082},null,null,{"$f":"N10","v":1122},{"$f":"COUNTIF(L7:L20,T10)","v":5},{"$f":"U10/(W4-U20)","v":0.35714285714285715},{"$f":"IF(V10=0,0,(V10*((LOG(V10))/LOG(2))))","v":-0.53050958113222924},null,{"$f":"N10","v":1122},{"$f":"COUNTIF(L21:L33,Y10)","v":2},{"$f":"Z10/(AB4-Z20)","v":0.16666666666666666},{"$f":"IF(AA10=0,0,(AA10*((LOG(AA10))/LOG(2))))","v":-0.43082708345352599},null,{"$f":"N10","v":1122},{"$f":"COUNTIF(L34:L47,AD10)","v":5},{"$f":"AE10/(AG4-AE20)","v":0.35714285714285715},{"$f":"IF(AF10=0,0,(AF10*((LOG(AF10))/LOG(2))))","v":-0.53050958113222924},null,{"$f":"N10","v":1122},{"$f":"COUNTIF(L48:L61,AI10)","v":4},{"$f":"AJ10/(AL4-AJ20)","v":0.2857142857142857},{"$f":"IF(AK10=0,0,(AK10*((LOG(AK10))/LOG(2))))","v":-0.51638712058788683},null,{"$f":"N10","v":1122},{"$f":"COUNTIF(L62:L74,AN10)","v":3},{"$f":"AO10/(AQ4-AO20)","v":0.23076923076923078},{"$f":"IF(AP10=0,0,(AP10*((LOG(AP10))/LOG(2))))","v":-0.48818705017383146},null,{"$f":"N10","v":1122},{"$f":"COUNTIF(L75:L88,AS10)","v":4},{"$f":"AT10/(AV4-AT20)","v":0.2857142857142857},{"$f":"IF(AU10=0,0,(AU10*((LOG(AU10))/LOG(2))))","v":-0.51638712058788683}]
[12,486,14,490,24,499,23,511,null,null,0,1122,null,1211,{"$f":"COUNTIF($L$7:$L$500,N11)","v":1},{"$f":"O11/$Q$4","v":1.2195121951219513E-2},{"$f":"IF(P11=0,0,(P11*((LOG(P11))/LOG(2))))","v":-7.7531122007537603E-2},null,null,{"$f":"N11","v":1211},{"$f":"COUNTIF(L7:L20,T11)","v":0},{"$f":"U11/(W4-U20)","v":0},{"$f":"IF(V11=0,0,(V11*((LOG(V11))/LOG(2))))","v":0},null,{"$f":"N11","v":1211},{"$f":"COUNTIF(L21:L33,Y11)","v":1},{"$f":"Z11/(AB4-Z20)","v":8.3333333333333329E-2},{"$f":"IF(AA11=0,0,(AA11*((LOG(AA11))/LOG(2))))","v":-0.29874687506009634},null,{"$f":"N11","v":1211},{"$f":"COUNTIF(L34:L47,AD11)","v":0},{"$f":"AE11/(AG4-AE20)","v":0},{"$f":"IF(AF11=0,0,(AF11*((LOG(AF11))/LOG(2))))","v":0},null,{"$f":"N11","v":1211},{"$f":"COUNTIF(L48:L61,AI11)","v":0},{"$f":"AJ11/(AL4-AJ20)","v":0},{"$f":"IF(AK11=0,0,(AK11*((LOG(AK11))/LOG(2))))","v":0},null,{"$f":"N11","v":1211},{"$f":"COUNTIF(L62:L74,AN11)","v":0},{"$f":"AO11/(AQ4-AO20)","v":0},{"$f":"IF(AP11=0,0,(AP11*((LOG(AP11))/LOG(2))))","v":0},null,{"$f":"N11","v":1211},{"$f":"COUNTIF(L75:L88,AS11)","v":0},{"$f":"AT11/(AV4-AT20)","v":0},{"$f":"IF(AU11=0,0,(AU11*((LOG(AU11))/LOG(2))))","v":0}]
[12,607,23,619,24,622,23,628,null,null,0,1222,null,1212,{"$f":"COUNTIF($L$7:$L$500,N12)","v":0},{"$f":"O12/$Q$4","v":0},{"$f":"IF(P12=0,0,(P12*((LOG(P12))/LOG(2))))","v":0},null,null,{"$f":"N12","v":1212},{"$f":"COUNTIF(L7:L20,T12)","v":0},{"$f":"U12/(W4-U20)","v":0},{"$f":"IF(V12=0,0,(V12*((LOG(V12))/LOG(2))))","v":0},null,{"$f":"N12","v":1212},{"$f":"COUNTIF(L21:L33,Y12)","v":0},{"$f":"Z12/(AB4-Z20)","v":0},{"$f":"IF(AA12=0,0,(AA12*((LOG(AA12))/LOG(2))))","v":0},null,{"$f":"N12","v":1212},{"$f":"COUNTIF(L34:L47,AD12)","v":0},{"$f":"AE12/(AG4-AE20)","v":0},{"$f":"IF(AF12=0,0,(AF12*((LOG(AF12))/LOG(2))))","v":0},null,{"$f":"N12","v":1212},{"$f":"COUNTIF(L48:L61,AI12)","v":0},{"$f":"AJ12/(AL4-AJ20)","v":0},{"$f":"IF(AK12=0,0,(AK12*((LOG(AK12))/LOG(2))))","v":0},null,{"$f":"N12","v":1212},{"$f":"COUNTIF(L62:L74,AN12)","v":0},{"$f":"AO12/(AQ4-AO20)","v":0},{"$f":"IF(AP12=0,0,(AP12*((LOG(AP12))/LOG(2))))","v":0},null,{"$f":"N12","v":1212},{"$f":"COUNTIF(L75:L88,AS12)","v":0},{"$f":"AT12/(AV4-AT20)","v":0},{"$f":"IF(AU12=0,0,(AU12*((LOG(AU12))/LOG(2))))","v":0}]
[12,739,14,743,24,749,23,752,null,null,0,1122,null,1221,{"$f":"COUNTIF($L$7:$L$500,N13)","v":0},{"$f":"O13/$Q$4","v":0},{"$f":"IF(P13=0,0,(P13*((LOG(P13))/LOG(2))))","v":0},null,null,{"$f":"N13","v":1221},{"$f":"COUNTIF(L7:L20,T13)","v":0},{"$f":"U13/(W4-U20)","v":0},{"$f":"IF(V13=0,0,(V13*((LOG(V13))/LOG(2))))","v":0},null,{"$f":"N13","v":1221},{"$f":"COUNTIF(L21:L33,Y13)","v":0},{"$f":"Z13/(AB4-Z20)","v":0},{"$f":"IF(AA13=0,0,(AA13*((LOG(AA13))/LOG(2))))","v":0},null,{"$f":"N13","v":1221},{"$f":"COUNTIF(L34:L47,AD13)","v":0},{"$f":"AE13/(AG4-AE20)","v":0},{"$f":"IF(AF13=0,0,(AF13*((LOG(AF13))/LOG(2))))","v":0},null,{"$f":"N13","v":1221},{"$f":"COUNTIF(L48:L61,AI13)","v":0},{"$f":"AJ13/(AL4-AJ20)","v":0},{"$f":"IF(AK13=0,0,(AK13*((LOG(AK13))/LOG(2))))","v":0},null,{"$f":"N13","v":1221},{"$f":"COUNTIF(L62:L74,AN13)","v":0},{"$f":"AO13/(AQ4-AO20)","v":0},{"$f":"IF(AP13=0,0,(AP13*((LOG(AP13))/LOG(2))))","v":0},null,{"$f":"N13","v":1221},{"$f":"COUNTIF(L75:L88,AS13)","v":0},{"$f":"AT13/(AV4-AT20)","v":0},{"$f":"IF(AU13=0,0,(AU13*((LOG(AU13))/LOG(2))))","v":0}]
[12,848,14,850,13,854,14,861,null,null,0,1111,null,1222,{"$f":"COUNTIF($L$7:$L$500,N14)","v":22},{"$f":"O14/$Q$4","v":0.26829268292682928},{"$f":"IF(P14=0,0,(P14*((LOG(P14))/LOG(2))))","v":-0.50925181087289395},null,null,{"$f":"N14","v":1222},{"$f":"COUNTIF(L7:L20,T14)","v":5},{"$f":"U14/(W4-U20)","v":0.35714285714285715},{"$f":"IF(V14=0,0,(V14*((LOG(V14))/LOG(2))))","v":-0.53050958113222924},null,{"$f":"N14","v":1222},{"$f":"COUNTIF(L21:L33,Y14)","v":3},{"$f":"Z14/(AB4-Z20)","v":0.25},{"$f":"IF(AA14=0,0,(AA14*((LOG(AA14))/LOG(2))))","v":-0.5},null,{"$f":"N14","v":1222},{"$f":"COUNTIF(L34:L47,AD14)","v":6},{"$f":"AE14/(AG4-AE20)","v":0.42857142857142855},{"$f":"IF(AF14=0,0,(AF14*((LOG(AF14))/LOG(2))))","v":-0.52388246628704915},null,{"$f":"N14","v":1222},{"$f":"COUNTIF(L48:L61,AI14)","v":1},{"$f":"AJ14/(AL4-AJ20)","v":7.1428571428571425E-2},{"$f":"IF(AK14=0,0,(AK14*((LOG(AK14))/LOG(2))))","v":-0.27195392300411453},null,{"$f":"N14","v":1222},{"$f":"COUNTIF(L62:L74,AN14)","v":3},{"$f":"AO14/(AQ4-AO20)","v":0.23076923076923078},{"$f":"IF(AP14=0,0,(AP14*((LOG(AP14))/LOG(2))))","v":-0.48818705017383146},null,{"$f":"N14","v":1222},{"$f":"COUNTIF(L75:L88,AS14)","v":4},{"$f":"AT14/(AV4-AT20)","v":0.2857142857142857},{"$f":"IF(AU14=0,0,(AU14*((LOG(AU14))/LOG(2))))","v":-0.51638712058788683}]
[12,967,23,984,24,987,23,993,null,null,0,1222,null,2111,{"$f":"COUNTIF($L$7:$L$500,N15)","v":6},{"$f":"O15/$Q$4","v":7.3170731707317069E-2},{"$f":"IF(P15=0,0,(P15*((LOG(P15))/LOG(2))))","v":-0.27604313443148248},null,null,{"$f":"N15","v":2111},{"$f":"COUNTIF(L7:L20,T15)","v":0},{"$f":"U15/(W4-U20)","v":0},{"$f":"IF(V15=0,0,(V15*((LOG(V15))/LOG(2))))","v":0},null,{"$f":"N15","v":2111},{"$f":"COUNTIF(L21:L33,Y15)","v":1},{"$f":"Z15/(AB4-Z20)","v":8.3333333333333329E-2},{"$f":"IF(AA15=0,0,(AA15*((LOG(AA15))/LOG(2))))","v":-0.29874687506009634},null,{"$f":"N15","v":2111},{"$f":"COUNTIF(L34:L47,AD15)","v":0},{"$f":"AE15/(AG4-AE20)","v":0},{"$f":"IF(AF15=0,0,(AF15*((LOG(AF15))/LOG(2))))","v":0},null,{"$f":"N15","v":2111},{"$f":"COUNTIF(L48:L61,AI15)","v":3},{"$f":"AJ15/(AL4-AJ20)","v":0.21428571428571427},{"$f":"IF(AK15=0,0,(AK15*((LOG(AK15))/LOG(2))))","v":-0.47622694742923877},null,{"$f":"N15","v":2111},{"$f":"COUNTIF(L62:L74,AN15)","v":1},{"$f":"AO15/(AQ4-AO20)","v":7.6923076923076927E-2},{"$f":"IF(AP15=0,0,(AP15*((LOG(AP15))/LOG(2))))","v":-0.28464920908777636},null,{"$f":"N15","v":2111},{"$f":"COUNTIF(L75:L88,AS15)","v":1},{"$f":"AT15/(AV4-AT20)","v":7.1428571428571425E-2},{"$f":"IF(AU15=0,0,(AU15*((LOG(AU15))/LOG(2))))","v":-0.27195392300411453}]
[12,1091,14,1098,24,1113,23,1116,null,null,0,1122,null,2112,{"$f":"COUNTIF($L$7:$L$500,N16)","v":0},{"$f":"O16/$Q$4","v":0},{"$f":"IF(P16=0,0,(P16*((LOG(P16))/LOG(2))))","v":0},null,null,{"$f":"N16","v":2112},{"$f":"COUNTIF(L7:L20,T16)","v":0},{"$f":"U16/(W4-U20)","v":0},{"$f":"IF(V16=0,0,(V16*((LOG(V16))/LOG(2))))","v":0},null,{"$f":"N16","v":2112},{"$f":"COUNTIF(L21:L33,Y16)","v":0},{"$f":"Z16/(AB4-Z20)","v":0},{"$f":"IF(AA16=0,0,(AA16*((LOG(AA16))/LOG(2))))","v":0},null,{"$f":"N16","v":2112},{"$f":"COUNTIF(L34:L47,AD16)","v":0},{"$f":"AE16/(AG4-AE20)","v":0},{"$f":"IF(AF16=0,0,(AF16*((LOG(AF16))/LOG(2))))","v":0},null,{"$f":"N16","v":2112},{"$f":"COUNTIF(L48:L61,AI16)","v":0},{"$f":"AJ16/(AL4-AJ20)","v":0},{"$f":"IF(AK16=0,0,(AK16*((LOG(AK16))/LOG(2))))","v":0},null,{"$f":"N16","v":2112},{"$f":"COUNTIF(L62:L74,AN16)","v":0},{"$f":"AO16/(AQ4-AO20)","v":0},{"$f":"IF(AP16=0,0,(AP16*((LOG(AP16))/LOG(2))))","v":0},null,{"$f":"N16","v":2112},{"$f":"COUNTIF(L75:L88,AS16)","v":0},{"$f":"AT16/(AV4-AT20)","v":0},{"$f":"IF(AU16=0,0,(AU16*((LOG(AU16))/LOG(2))))","v":0}]
[12,1213,14,1216,13,1219,23,1231,null,null,0,1112,null,2121,{"$f":"COUNTIF($L$7:$L$500,N17)","v":0},{"$f":"O17/$Q$4","v":0},{"$f":"IF(P17=0,0,(P17*((LOG(P17))/LOG(2))))","v":0},null,null,{"$f":"N17","v":2121},{"$f":"COUNTIF(L7:L20,T17)","v":0},{"$f":"U17/(W4-U20)","v":0},{"$f":"IF(V17=0,0,(V17*((LOG(V17))/LOG(2))))","v":0},null,{"$f":"N17","v":2121},{"$f":"COUNTIF(L21:L33,Y17)","v":0},{"$f":"Z17/(AB4-Z20)","v":0},{"$f":"IF(AA17=0,0,(AA17*((LOG(AA17))/LOG(2))))","v":0},null,{"$f":"N17","v":2121},{"$f":"COUNTIF(L34:L47,AD17)","v":0},{"$f":"AE17/(AG4-AE20)","v":0},{"$f":"IF(AF17=0,0,(AF17*((LOG(AF17))/LOG(2))))","v":0},null,{"$f":"N17","v":2121},{"$f":"COUNTIF(L48:L61,AI17)","v":0},{"$f":"AJ17/(AL4-AJ20)","v":0},{"$f":"IF(AK17=0,0,(AK17*((LOG(AK17))/LOG(2))))","v":0},null,{"$f":"N17","v":2121},{"$f":"COUNTIF(L62:L74,AN17)","v":0},{"$f":"AO17/(AQ4-AO20)","v":0},{"$f":"IF(AP17=0,0,(AP17*((LOG(AP17))/LOG(2))))","v":0},null,{"$f":"N17","v":2121},{"$f":"COUNTIF(L75:L88,AS17)","v":0},{"$f":"AT17/(AV4-AT20)","v":0},{"$f":"IF(AU17=0,0,(AU17*((LOG(AU17))/LOG(2))))","v":0}]
[12,1331,14,1338,13,1342,14,1350,null,null,0,1111,null,2122,{"$f":"COUNTIF($L$7:$L$500,N18)","v":1},{"$f":"O18/$Q$4","v":1.2195121951219513E-2},{"$f":"IF(P18=0,0,(P18*((LOG(P18))/LOG(2))))","v":-7.7531122007537603E-2},null,null,{"$f":"N18","v":2122},{"$f":"COUNTIF(L7:L20,T18)","v":0},{"$f":"U18/(W4-U20)","v":0},{"$f":"IF(V18=0,0,(V18*((LOG(V18))/LOG(2))))","v":0},null,{"$f":"N18","v":2122},{"$f":"COUNTIF(L21:L33,Y18)","v":1},{"$f":"Z18/(AB4-Z20)","v":8.3333333333333329E-2},{"$f":"IF(AA18=0,0,(AA18*((LOG(AA18))/LOG(2))))","v":-0.29874687506009634},null,{"$f":"N18","v":2122},{"$f":"COUNTIF(L34:L47,AD18)","v":0},{"$f":"AE18/(AG4-AE20)","v":0},{"$f":"IF(AF18=0,0,(AF18*((LOG(AF18))/LOG(2))))","v":0},null,{"$f":"N18","v":2122},{"$f":"COUNTIF(L48:L61,AI18)","v":0},{"$f":"AJ18/(AL4-AJ20)","v":0},{"$f":"IF(AK18=0,0,(AK18*((LOG(AK18))/LOG(2))))","v":0},null,{"$f":"N18","v":2122},{"$f":"COUNTIF(L62:L74,AN18)","v":0},{"$f":"AO18/(AQ4-AO20)","v":0},{"$f":"IF(AP18=0,0,(AP18*((LOG(AP18))/LOG(2))))","v":0},null,{"$f":"N18","v":2122},{"$f":"COUNTIF(L75:L88,AS18)","v":0},{"$f":"AT18/(AV4-AT20)","v":0},{"$f":"IF(AU18=0,0,(AU18*((LOG(AU18))/LOG(2))))","v":0}]
[12,1448,14,1451,24,1459,23,1464,null,null,0,1122,null,2211,{"$f":"COUNTIF($L$7:$L$500,N19)","v":0},{"$f":"O19/$Q$4","v":0},{"$f":"IF(P19=0,0,(P19*((LOG(P19))/LOG(2))))","v":0},null,null,{"$f":"N19","v":2211},{"$f":"COUNTIF(L7:L20,T19)","v":0},{"$f":"U19/(W4-U20)","v":0},{"$f":"IF(V19=0,0,(V19*((LOG(V19))/LOG(2))))","v":0},null,{"$f":"N19","v":2211},{"$f":"COUNTIF(L21:L33,Y19)","v":0},{"$f":"Z19/(AB4-Z20)","v":0},{"$f":"IF(AA19=0,0,(AA19*((LOG(AA19))/LOG(2))))","v":0},null,{"$f":"N19","v":2211},{"$f":"COUNTIF(L34:L47,AD19)","v":0},{"$f":"AE19/(AG4-AE20)","v":0},{"$f":"IF(AF19=0,0,(AF19*((LOG(AF19))/LOG(2))))","v":0},null,{"$f":"N19","v":2211},{"$f":"COUNTIF(L48:L61,AI19)","v":0},{"$f":"AJ19/(AL4-AJ20)","v":0},{"$f":"IF(AK19=0,0,(AK19*((LOG(AK19))/LOG(2))))","v":0},null,{"$f":"N19","v":2211},{"$f":"COUNTIF(L62:L74,AN19)","v":0},{"$f":"AO19/(AQ4-AO20)","v":0},{"$f":"IF(AP19=0,0,(AP19*((LOG(AP19))/LOG(2))))","v":0},null,{"$f":"N19","v":2211},{"$f":"COUNTIF(L75:L88,AS19)","v":0},{"$f":"AT19/(AV4-AT20)","v":0},{"$f":"IF(AU19=0,0,(AU19*((LOG(AU19))/LOG(2))))","v":0}]
[12,1560,14,1564,24,1575,23,1579,null,null,0,1122,null,2212,{"$f":"COUNTIF($L$7:$L$500,N20)","v":1},{"$f":"O20/$Q$4","v":1.2195121951219513E-2},{"$f":"IF(P20=0,0,(P20*((LOG(P20))/LOG(2))))","v":-7.7531122007537603E-2},null,null,{"$f":"N20","v":2212},{"$f":"COUNTIF(L7:L20,T20)","v":0},null,null,null,{"$f":"N20","v":2212},{"$f":"COUNTIF(L21:L33,Y20)","v":1},null,null,null,{"$f":"N20","v":2212},{"$f":"COUNTIF(L34:L47,AD20)","v":0},null,null,null,{"$f":"N20","v":2212},{"$f":"COUNTIF(L48:L61,AI20)","v":0},null,null,null,{"$f":"N20","v":2212},{"$f":"COUNTIF(L62:L74,AN20)","v":0},null,null,null,{"$f":"N20","v":2212},{"$f":"COUNTIF(L75:L88,AS20)","v":0}]
[12,1675,14,1679,13,1681,14,1696,null,null,0,1111,null,2221,{"$f":"COUNTIF($L$7:$L$500,N21)","v":0},{"$f":"O21/$Q$4","v":0},{"$f":"IF(P21=0,0,(P21*((LOG(P21))/LOG(2))))","v":0},null,null,{"$f":"N21","v":2221},{"$f":"COUNTIF(L7:L20,T21)","v":0},{"$f":"U21/(W4-U20)","v":0},{"$f":"IF(V21=0,0,(V21*((LOG(V21))/LOG(2))))","v":0},null,{"$f":"N21","v":2221},{"$f":"COUNTIF(L21:L33,Y21)","v":0},{"$f":"Z21/(AB4-Z20)","v":0},{"$f":"IF(AA21=0,0,(AA21*((LOG(AA21))/LOG(2))))","v":0},null,{"$f":"N21","v":2221},{"$f":"COUNTIF(L34:L47,AD21)","v":0},{"$f":"AE21/(AG4-AE20)","v":0},{"$f":"IF(AF21=0,0,(AF21*((LOG(AF21))/LOG(2))))","v":0},null,{"$f":"N21","v":2221},{"$f":"COUNTIF(L48:L61,AI21)","v":0},{"$f":"AJ21/(AL4-AJ20)","v":0},{"$f":"IF(AK21=0,0,(AK21*((LOG(AK21))/LOG(2))))","v":0},null,{"$f":"N21","v":2221},{"$f":"COUNTIF(L62:L74,AN21)","v":0},{"$f":"AO21/(AQ4-AO20)","v":0},{"$f":"IF(AP21=0,0,(AP21*((LOG(AP21))/LOG(2))))","v":0},null,{"$f":"N21","v":2221},{"$f":"COUNTIF(L75:L88,AS21)","v":0},{"$f":"AT21/(AV4-AT20)","v":0},{"$f":"IF(AU21=0,0,(AU21*((LOG(AU21))/LOG(2))))","v":0}]
[12,1796,23,1805,24,1814,23,1822,null,null,0,1222,null,2222,{"$f":"COUNTIF($L$7:$L$500,N22)","v":6},{"$f":"O22/$Q$4","v":7.3170731707317069E-2},{"$f":"IF(P22=0,0,(P22*((LOG(P22))/LOG(2))))","v":-0.27604313443148248},null,null,{"$f":"N22","v":2222},{"$f":"COUNTIF(L7:L20,T22)","v":0},{"$f":"U22/(W4-U20)","v":0},{"$f":"IF(V22=0,0,(V22*((LOG(V22))/LOG(2))))","v":0},null,{"$f":"N22","v":2222},{"$f":"COUNTIF(L21:L33,Y22)","v":2},{"$f":"Z22/(AB4-Z20)","v":0.16666666666666666},{"$f":"IF(AA22=0,0,(AA22*((LOG(AA22))/LOG(2))))","v":-0.43082708345352599},null,{"$f":"N22","v":2222},{"$f":"COUNTIF(L34:L47,AD22)","v":0},{"$f":"AE22/(AG4-AE20)","v":0},{"$f":"IF(AF22=0,0,(AF22*((LOG(AF22))/LOG(2))))","v":0},null,{"$f":"N22","v":2222},{"$f":"COUNTIF(L48:L61,AI22)","v":2},{"$f":"AJ22/(AL4-AJ20)","v":0.14285714285714285},{"$f":"IF(AK22=0,0,(AK22*((LOG(AK22))/LOG(2))))","v":-0.40105070315108626},null,{"$f":"N22","v":2222},{"$f":"COUNTIF(L62:L74,AN22)","v":2},{"$f":"AO22/(AQ4-AO20)","v":0.15384615384615385},{"$f":"IF(AP22=0,0,(AP22*((LOG(AP22))/LOG(2))))","v":-0.4154522643293988},null,{"$f":"N22","v":2222},{"$f":"COUNTIF(L75:L88,AS22)","v":0},{"$f":"AT22/(AV4-AT20)","v":0},{"$f":"IF(AU22=0,0,(AU22*((LOG(AU22))/LOG(2))))","v":0}]
[21,1948,12,1980,24,1987,23,1997,null,null,0,2122,null,null,null,{"$f":"SUM(P7:P22)","v":1},{"$f":"-SUM(Q7:Q22)","v":2.5713088397791544},null,null,null,null,{"$f":"SUM(V7:V22)","v":1},{"$f":"-SUM(W7:W22)","v":1.8092000326978117},null,null,null,{"$f":"SUM(AA7:AA22)","v":1},{"$f":"-SUM(AB7:AB22)","v":2.8553885422075336},null,null,null,{"$f":"SUM(AF7:AF22)","v":1},{"$f":"-SUM(AG7:AG22)","v":1.5306189948485172},null,null,null,{"$f":"SUM(AK7:AK22)","v":1},{"$f":"-SUM(AL7:AL22)","v":2.1820058147602133},null,null,null,{"$f":"SUM(AP7:AP22)","v":1},{"$f":"-SUM(AQ7:AQ22)","v":2.4493118330264463},null,null,null,{"$f":"SUM(AU7:AU22)","v":0.99999999999999989},{"$f":"-SUM(AV7:AV22)","v":2.1820058147602128}]
[21,2118,21,2132,22,2144,23,2150,null,null,0,2222,null,null,null,"U=",{"$f":"Q23/(LOG(Q4)/LOG(2))","v":0.40444951734745899},null,null,null,null,"U1=",{"$f":"W23/(LOG(W4)/LOG(2))","v":0.47518554737735563},null,null,null,"U2=",{"$f":"AB23/(LOG(AB4)/LOG(2))","v":0.77163492981907889},null,null,null,"U3=",{"$f":"AG23/(LOG(AG4)/LOG(2))","v":0.40201636731605961},null,null,null,"U4=",{"$f":"AL23/(LOG(AL4)/LOG(2))","v":0.57310281269522279},null,null,null,"U5=",{"$f":"AQ23/(LOG(AQ4)/LOG(2))","v":0.66189750937406233},null,null,null,"U6=",{"$f":"AV23/(LOG(AV4)/LOG(2))","v":0.57310281269522267}]
[12,2249,14,2254,13,2257,23,2267,null,null,0,1112]
[12,2368,14,2370,24,2380,23,2384,null,null,0,1122]
[12,2605,14,2611,24,2621,23,2633,null,null,0,1122,null,"Total Target Seq"]
[12,2774,23,2788,13,2802,14,2806,null,null,0,1211,null,{"$f":"COUNTIF(L7:L88,G3)","v":1},null,14,13,14,14,13,14]
[12,3010,23,3021,24,3027,23,3033,null,null,0,1222,null,null,null,"% of reinforcement given in 6 equal intervals based on number of trials "]
[21,3186,12,3199,13,3205,14,3213,null,null,0,2111,null,null,null,"%_1","%_2","%_3","%_4","%_5","%_6"]
[21,3543,21,3574,11,3584,21,3597,null,null,0,2212,null,null,"target sequence",{"$f":"$G$3","v":2212},{"$f":"$G$3","v":2212},{"$f":"$G$3","v":2212},{"$f":"$G$3","v":2212},{"$f":"$G$3","v":2212},{"$f":"$G$3","v":2212}]
[21,3798,21,3804,22,3809,23,3814,null,null,0,2222,null,null,"total reinforcement",{"$f":"U20","v":0},{"$f":"Z20","v":1},{"$f":"AE20","v":0},{"$f":"AJ20","v":0},{"$f":"AO20","v":0},{"$f":"AT20","v":0}]
[12,3911,23,3919,24,3923,23,3927,null,null,0,1222,null,null,"% target"]
[12,4025,14,4028,24,4036,23,4039,null,null,0,1122,null,null,"CCRF"]
[12,4137,23,4148,24,4151,23,4157,null,null,0,1222,null,null,"% CCRf"]
[12,4299,23,4315,24,4320,23,4328,null,null,0,1222,null,null,"average response rate",{"$f":"H20/P28","v":112.78571428571429},{"$f":"(H33-H20)/Q28","v":180.61538461538461},{"$f":"(H47-H33)/R28","v":126.5},{"$f":"(H61-H47)/S28","v":134.14285714285714},{"$f":"(H74-H61)/T28","v":186.92307692307693},{"$f":"(H88-H74)/U28","v":907.21428571428567}]
[12,4466,23,4478,24,4482,23,4488,null,null,0,1222]
[12,4592,23,4603,24,4606,23,4610,null,null,0,1222]
[12,4707,23,4716,24,4724,23,4728,null,null,0,1222]
[12,4826,14,4832,24,4840,23,4843,null,null,0,1122]
[12,4937,14,4943,13,4950,23,4960,null,null,0,1112]
[12,5062,23,5071,24,5079,23,5084,null,null,0,1222]
[12,5182,14,5189,24,5199,23,5202,null,null,0,1122]
[12,5306,14,5308,13,5316,23,5326,null,null,0,1112]
[12,5424,14,5427,13,5433,23,5442,null,null,0,1112]
[12,5568,14,5570,24,5579,23,5583,null,null,0,1122]
[12,5682,14,5686,24,5695,23,5698,null,null,0,1122]
[12,5796,14,5803,24,5814,23,5819,null,null,0,1122]
[21,5933,21,5943,22,5948,23,5955,null,null,0,2222]
[12,6053,14,6057,24,6065,23,6070,null,null,0,1122]
[12,6168,14,6172,24,6187,23,6191,null,null,0,1122]
[12,6292,14,6312,13,6319,14,6326,null,null,0,1111]
[12,6423,23,6446,24,6454,23,6459,null,null,0,1222]
[12,6557,14,6559,13,6568,14,6576,null,null,0,1111]
[12,6736,14,6742,13,6745,14,6753,null,null,0,1111]
[21,6864,21,6877,22,6886,23,6892,null,null,0,2222]
[21,7027,12,7038,13,7042,14,7049,null,null,0,2111]
[21,7156,12,7172,13,7178,14,7187,null,null,0,2111]
[12,7295,14,7315,13,7321,14,7327,null,null,0,1111]
[21,7434,12,7447,13,7451,14,7454,null,null,0,2111]
[12,7561,14,7564,24,7572,23,7576,null,null,0,1122]
[21,8321,21,8324,22,8330,23,8336,null,null,0,2222]
[12,8434,14,8440,24,8449,23,8452,null,null,0,1122]
[12,8550,23,8572,24,8577,23,8582,null,null,0,1222]
[12,8711,14,8714,24,8727,23,8730,null,null,0,1122]
[12,8898,14,8906,13,8911,14,8918,null,null,0,1111]
[12,9014,14,9020,24,9027,23,9034,null,null,0,1122]
[12,9147,14,9153,13,9166,23,9170,null,null,0,1112]
[21,9320,21,9324,22,9328,23,9332,null,null,0,2222]
[12,9432,23,9441,24,9448,23,9452,null,null,0,1222]
[12,9601,23,9616,24,9620,23,9623,null,null,0,1222]
[12,9721,14,9725,13,9729,14,9731,null,null,0,1111]
[12,9865,14,9868,13,9874,14,9880,null,null,0,1111]
[21,9985,12,9999,13,10001,14,10006,null,null,0,2111]
[12,10127,23,10146,24,10150,23,10156,null,null,0,1222]
[12,10255,14,10260,24,10271,23,10276,null,null,0,1122]
[12,10403,14,10421,13,10426,14,10431,null,null,0,1111]
[12,10548,14,10551,24,10560,23,10563,null,null,0,1122]
[12,10666,14,10677,13,10680,23,10686,null,null,0,1112]
[12,11034,23,11045,24,11049,23,11054,null,null,0,1222]
[12,11202,23,11210,24,11213,23,11220,null,null,0,1222]
[12,16372,14,16376,24,16388,23,16399,null,null,0,1122]
[12,16496,14,16499,24,16511,23,16515,null,null,0,1122]
[12,16618,14,16622,13,16630,23,16642,null,null,0,1112]
[21,16774,12,16789,13,16792,14,16796,null,null,0,2111]
[12,21768,14,21774,13,21778,14,21783,null,null,0,1111]
[12,22450,23,22458,24,22473,23,22476,null,null,0,1222]
[12,22684,14,22686,13,22703,14,22707,null,null,0,1111]

{"sheet":"!M105B4T.ayl","index":4,"n_rows":77,"n_cols":48,"rows_kept":77,"cut":false,"hidden":false,"merged":[[4,39,4,42],[5,39,5,40],[4,44,4,47],[5,44,5,45],[4,24,4,27],[5,24,5,25],[4,29,4,32],[5,29,5,30],[4,34,4,37],[5,34,5,35],[1,1,1,2],[5,13,5,14],[26,13,26,14],[27,13,27,14],[4,19,4,22],[5,19,5,20]]}
["Report for:!M105B4T.ayl"]
["Date:","<date>"]
["Hen:","<hen>",null,null,null,"Correct Sequence",{"$f":"Start!J2","v":2212},null,null,null,null,null,null,null,null,"Total Sequences in Data",{"$f":"4994-COUNTBLANK(L7:L5000)","v":71},null,null,null,null,"Total Sequences in Block Data",{"$f":"COUNTA(L7:L18)","v":12},null,null,null,"Total Sequences in Block Data",{"$f":"COUNTA(L19:L30)","v":12},null,null,null,"Total Sequences in Block Data",{"$f":"COUNTA(L31:L41)","v":11},null,null,null,"Total Sequences in Block Data",{"$f":"COUNTA(L42:L53)","v":12},null,null,null,"Total Sequences in Block Data",{"$f":"COUNTA(L54:L65)","v":12},null,null,null,"Total Sequences in Block Data",{"$f":"COUNTA(L66:L77)","v":12}]
[null,null,null,null,null,null,null,null,null,null,null,null,null,null,null,"Total Sequences in Summary",{"$f":"SUM(O7:O22)","v":70},null,null,null,null,"Total Sequences in Block Summary",{"$f":"SUM(U7:U22)","v":12},null,null,null,"Total Sequences in Block Summary",{"$f":"SUM(Z7:Z22)","v":12},null,null,null,"Total Sequences in Block Summary",{"$f":"SUM(AE7:AE22)","v":11},null,null,null,"Total Sequences in Block Summary",{"$f":"SUM(AJ7:AJ22)","v":12},null,null,null,"Total Sequences in Block Summary",{"$f":"SUM(AO7:AO22)","v":12},null,null,null,"Total Sequences in Block Summary",{"$f":"SUM(AT7:AT22)","v":11}]
[null,null,null,null,null,null,null,null,null,null,null,null,null,null,null,null,null,null,null,"Block 1",null,null,null,null,"Block 2",null,null,null,null,"Block 3",null,null,null,null,"Block 4",null,null,null,null,"Block 5",null,null,null,null,"Block 6"]
["Sequence\nComponent\n1","Time\n1","Sequence\nComponent\n2","Time\n2","Sequence\nComponent\n3","Time\n3","Sequence\nComponent\n4","Time\n4","Sequence\nComponent\n5","Time\n5","Correct?\n0=No 1=Yes","Sequence",null,"Frequency",null,"Relative Frequency","Variability",null,null,"Frequency",null,"Relative Frequency","Variability",null,"Frequency",null,"Relative Frequency","Variability",null,"Frequency",null,"Relative Frequency","Variability",null,"Frequency",null,"Relative Frequency","Variability",null,"Frequency",null,"Relative Frequency","Variability",null,"Frequency",null,"Relative Frequency","Variability"]
[12,8,23,16,24,19,23,23,null,null,0,1222,null,1111,{"$f":"COUNTIF($L$7:$L$500,N7)","v":15},{"$f":"O7/$Q$4","v":0.21428571428571427},{"$f":"IF(P7=0,0,(P7*((LOG(P7))/LOG(2))))","v":-0.47622694742923877},null,null,{"$f":"N7","v":1111},{"$f":"COUNTIF(L7:L18,T7)","v":0},{"$f":"U7/(W4-U20)","v":0},{"$f":"IF(V7=0,0,(V7*((LOG(V7))/LOG(2))))","v":0},null,{"$f":"N7","v":1111},{"$f":"COUNTIF(L19:L30,Y7)","v":0},{"$f":"Z7/(AB4-Z20)","v":0},{"$f":"IF(AA7=0,0,(AA7*((LOG(AA7))/LOG(2))))","v":0},null,{"$f":"N7","v":1111},{"$f":"COUNTIF(L31:L41,AD7)","v":6},{"$f":"AE7/(AG4-AE20)","v":0.54545454545454541},{"$f":"IF(AF7=0,0,(AF7*((LOG(AF7))/LOG(2))))","v":-0.47698315522698609},null,{"$f":"N7","v":1111},{"$f":"COUNTIF(L42:L53,AI7)","v":2},{"$f":"AJ7/(AL4-AJ20)","v":0.16666666666666666},{"$f":"IF(AK7=0,0,(AK7*((LOG(AK7))/LOG(2))))","v":-0.43082708345352599},null,{"$f":"N7","v":1111},{"$f":"COUNTIF(L54:L65,AN7)","v":5},{"$f":"AO7/(AQ4-AO20)","v":0.41666666666666669},{"$f":"IF(AP7=0,0,(AP7*((LOG(AP7))/LOG(2))))","v":-0.52626433576408083},null,{"$f":"N7","v":1111},{"$f":"COUNTIF(L66:L77,AS7)","v":2},{"$f":"AT7/(AV4-AT20)","v":0.18181818181818182},{"$f":"IF(AU7=0,0,(AU7*((LOG(AU7))/LOG(2))))","v":-0.44716938520678134}]
[12,117,23,130,24,134,23,140,null,null,0,1222,null,1112,{"$f":"COUNTIF($L$7:$L$500,N8)","v":5},{"$f":"O8/$Q$4","v":7.1428571428571425E-2},{"$f":"IF(P8=0,0,(P8*((LOG(P8))/LOG(2))))","v":-0.27195392300411453},null,null,{"$f":"N8","v":1112},{"$f":"COUNTIF(L7:L18,T8)","v":0},{"$f":"U8/(W4-U20)","v":0},{"$f":"IF(V8=0,0,(V8*((LOG(V8))/LOG(2))))","v":0},null,{"$f":"N8","v":1112},{"$f":"COUNTIF(L19:L30,Y8)","v":1},{"$f":"Z8/(AB4-Z20)","v":8.3333333333333329E-2},{"$f":"IF(AA8=0,0,(AA8*((LOG(AA8))/LOG(2))))","v":-0.29874687506009634},null,{"$f":"N8","v":1112},{"$f":"COUNTIF(L31:L41,AD8)","v":0},{"$f":"AE8/(AG4-AE20)","v":0},{"$f":"IF(AF8=0,0,(AF8*((LOG(AF8))/LOG(2))))","v":0},null,{"$f":"N8","v":1112},{"$f":"COUNTIF(L42:L53,AI8)","v":1},{"$f":"AJ8/(AL4-AJ20)","v":8.3333333333333329E-2},{"$f":"IF(AK8=0,0,(AK8*((LOG(AK8))/LOG(2))))","v":-0.29874687506009634},null,{"$f":"N8","v":1112},{"$f":"COUNTIF(L54:L65,AN8)","v":2},{"$f":"AO8/(AQ4-AO20)","v":0.16666666666666666},{"$f":"IF(AP8=0,0,(AP8*((LOG(AP8))/LOG(2))))","v":-0.43082708345352599},null,{"$f":"N8","v":1112},{"$f":"COUNTIF(L66:L77,AS8)","v":1},{"$f":"AT8/(AV4-AT20)","v":9.0909090909090912E-2},{"$f":"IF(AU8=0,0,(AU8*((LOG(AU8))/LOG(2))))","v":-0.31449378351248153}]
[12,234,14,245,24,251,23,255,null,null,0,1122,null,1121,{"$f":"COUNTIF($L$7:$L$500,N9)","v":1},{"$f":"O9/$Q$4","v":1.4285714285714285E-2},{"$f":"IF(P9=0,0,(P9*((LOG(P9))/LOG(2))))","v":-8.756118595635666E-2},null,null,{"$f":"N9","v":1121},{"$f":"COUNTIF(L7:L18,T9)","v":0},{"$f":"U9/(W4-U20)","v":0},{"$f":"IF(V9=0,0,(V9*((LOG(V9))/LOG(2))))","v":0},null,{"$f":"N9","v":1121},{"$f":"COUNTIF(L19:L30,Y9)","v":0},{"$f":"Z9/(AB4-Z20)","v":0},{"$f":"IF(AA9=0,0,(AA9*((LOG(AA9))/LOG(2))))","v":0},null,{"$f":"N9","v":1121},{"$f":"COUNTIF(L31:L41,AD9)","v":1},{"$f":"AE9/(AG4-AE20)","v":9.0909090909090912E-2},{"$f":"IF(AF9=0,0,(AF9*((LOG(AF9))/LOG(2))))","v":-0.31449378351248153},null,{"$f":"N9","v":1121},{"$f":"COUNTIF(L42:L53,AI9)","v":0},{"$f":"AJ9/(AL4-AJ20)","v":0},{"$f":"IF(AK9=0,0,(AK9*((LOG(AK9))/LOG(2))))","v":0},null,{"$f":"N9","v":1121},{"$f":"COUNTIF(L54:L65,AN9)","v":0},{"$f":"AO9/(AQ4-AO20)","v":0},{"$f":"IF(AP9=0,0,(AP9*((LOG(AP9))/LOG(2))))","v":0},null,{"$f":"N9","v":1121},{"$f":"COUNTIF(L66:L77,AS9)","v":0},{"$f":"AT9/(AV4-AT20)","v":0},{"$f":"IF(AU9=0,0,(AU9*((LOG(AU9))/LOG(2))))","v":0}]
[12,353,14,355,24,367,23,371,null,null,0,1122,null,1122,{"$f":"COUNTIF($L$7:$L$500,N10)","v":20},{"$f":"O10/$Q$4","v":0.2857142857142857},{"$f":"IF(P10=0,0,(P10*((LOG(P10))/LOG(2))))","v":-0.51638712058788683},null,null,{"$f":"N10","v":1122},{"$f":"COUNTIF(L7:L18,T10)","v":5},{"$f":"U10/(W4-U20)","v":0.41666666666666669},{"$f":"IF(V10=0,0,(V10*((LOG(V10))/LOG(2))))","v":-0.52626433576408083},null,{"$f":"N10","v":1122},{"$f":"COUNTIF(L19:L30,Y10)","v":4},{"$f":"Z10/(AB4-Z20)","v":0.33333333333333331},{"$f":"IF(AA10=0,0,(AA10*((LOG(AA10))/LOG(2))))","v":-0.52832083357371862},null,{"$f":"N10","v":1122},{"$f":"COUNTIF(L31:L41,AD10)","v":2},{"$f":"AE10/(AG4-AE20)","v":0.18181818181818182},{"$f":"IF(AF10=0,0,(AF10*((LOG(AF10))/LOG(2))))","v":-0.44716938520678134},null,{"$f":"N10","v":1122},{"$f":"COUNTIF(L42:L53,AI10)","v":4},{"$f":"AJ10/(AL4-AJ20)","v":0.33333333333333331},{"$f":"IF(AK10=0,0,(AK10*((LOG(AK10))/LOG(2))))","v":-0.52832083357371862},null,{"$f":"N10","v":1122},{"$f":"COUNTIF(L54:L65,AN10)","v":3},{"$f":"AO10/(AQ4-AO20)","v":0.25},{"$f":"IF(AP10=0,0,(AP10*((LOG(AP10))/LOG(2))))","v":-0.5},null,{"$f":"N10","v":1122},{"$f":"COUNTIF(L66:L77,AS10)","v":2},{"$f":"AT10/(AV4-AT20)","v":0.18181818181818182},{"$f":"IF(AU10=0,0,(AU10*((LOG(AU10))/LOG(2))))","v":-0.44716938520678134}]
[12,469,14,472,24,484,23,488,null,null,0,1122,null,1211,{"$f":"COUNTIF($L$7:$L$500,N11)","v":1},{"$f":"O11/$Q$4","v":1.4285714285714285E-2},{"$f":"IF(P11=0,0,(P11*((LOG(P11))/LOG(2))))","v":-8.756118595635666E-2},null,null,{"$f":"N11","v":1211},{"$f":"COUNTIF(L7:L18,T11)","v":0},{"$f":"U11/(W4-U20)","v":0},{"$f":"IF(V11=0,0,(V11*((LOG(V11))/LOG(2))))","v":0},null,{"$f":"N11","v":1211},{"$f":"COUNTIF(L19:L30,Y11)","v":0},{"$f":"Z11/(AB4-Z20)","v":0},{"$f":"IF(AA11=0,0,(AA11*((LOG(AA11))/LOG(2))))","v":0},null,{"$f":"N11","v":1211},{"$f":"COUNTIF(L31:L41,AD11)","v":0},{"$f":"AE11/(AG4-AE20)","v":0},{"$f":"IF(AF11=0,0,(AF11*((LOG(AF11))/LOG(2))))","v":0},null,{"$f":"N11","v":1211},{"$f":"COUNTIF(L42:L53,AI11)","v":0},{"$f":"AJ11/(AL4-AJ20)","v":0},{"$f":"IF(AK11=0,0,(AK11*((LOG(AK11))/LOG(2))))","v":0},null,{"$f":"N11","v":1211},{"$f":"COUNTIF(L54:L65,AN11)","v":0},{"$f":"AO11/(AQ4-AO20)","v":0},{"$f":"IF(AP11=0,0,(AP11*((LOG(AP11))/LOG(2))))","v":0},null,{"$f":"N11","v":1211},{"$f":"COUNTIF(L66:L77,AS11)","v":1},{"$f":"AT11/(AV4-AT20)","v":9.0909090909090912E-2},{"$f":"IF(AU11=0,0,(AU11*((LOG(AU11))/LOG(2))))","v":-0.31449378351248153}]
[12,586,14,589,24,600,23,603,null,null,0,1122,null,1212,{"$f":"COUNTIF($L$7:$L$500,N12)","v":1},{"$f":"O12/$Q$4","v":1.4285714285714285E-2},{"$f":"IF(P12=0,0,(P12*((LOG(P12))/LOG(2))))","v":-8.756118595635666E-2},null,null,{"$f":"N12","v":1212},{"$f":"COUNTIF(L7:L18,T12)","v":0},{"$f":"U12/(W4-U20)","v":0},{"$f":"IF(V12=0,0,(V12*((LOG(V12))/LOG(2))))","v":0},null,{"$f":"N12","v":1212},{"$f":"COUNTIF(L19:L30,Y12)","v":1},{"$f":"Z12/(AB4-Z20)","v":8.3333333333333329E-2},{"$f":"IF(AA12=0,0,(AA12*((LOG(AA12))/LOG(2))))","v":-0.29874687506009634},null,{"$f":"N12","v":1212},{"$f":"COUNTIF(L31:L41,AD12)","v":0},{"$f":"AE12/(AG4-AE20)","v":0},{"$f":"IF(AF12=0,0,(AF12*((LOG(AF12))/LOG(2))))","v":0},null,{"$f":"N12","v":1212},{"$f":"COUNTIF(L42:L53,AI12)","v":0},{"$f":"AJ12/(AL4-AJ20)","v":0},{"$f":"IF(AK12=0,0,(AK12*((LOG(AK12))/LOG(2))))","v":0},null,{"$f":"N12","v":1212},{"$f":"COUNTIF(L54:L65,AN12)","v":0},{"$f":"AO12/(AQ4-AO20)","v":0},{"$f":"IF(AP12=0,0,(AP12*((LOG(AP12))/LOG(2))))","v":0},null,{"$f":"N12","v":1212},{"$f":"COUNTIF(L66:L77,AS12)","v":0},{"$f":"AT12/(AV4-AT20)","v":0},{"$f":"IF(AU12=0,0,(AU12*((LOG(AU12))/LOG(2))))","v":0}]
[12,698,23,712,24,721,23,728,null,null,0,1222,null,1221,{"$f":"COUNTIF($L$7:$L$500,N13)","v":0},{"$f":"O13/$Q$4","v":0},{"$f":"IF(P13=0,0,(P13*((LOG(P13))/LOG(2))))","v":0},null,null,{"$f":"N13","v":1221},{"$f":"COUNTIF(L7:L18,T13)","v":0},{"$f":"U13/(W4-U20)","v":0},{"$f":"IF(V13=0,0,(V13*((LOG(V13))/LOG(2))))","v":0},null,{"$f":"N13","v":1221},{"$f":"COUNTIF(L19:L30,Y13)","v":0},{"$f":"Z13/(AB4-Z20)","v":0},{"$f":"IF(AA13=0,0,(AA13*((LOG(AA13))/LOG(2))))","v":0},null,{"$f":"N13","v":1221},{"$f":"COUNTIF(L31:L41,AD13)","v":0},{"$f":"AE13/(AG4-AE20)","v":0},{"$f":"IF(AF13=0,0,(AF13*((LOG(AF13))/LOG(2))))","v":0},null,{"$f":"N13","v":1221},{"$f":"COUNTIF(L42:L53,AI13)","v":0},{"$f":"AJ13/(AL4-AJ20)","v":0},{"$f":"IF(AK13=0,0,(AK13*((LOG(AK13))/LOG(2))))","v":0},null,{"$f":"N13","v":1221},{"$f":"COUNTIF(L54:L65,AN13)","v":0},{"$f":"AO13/(AQ4-AO20)","v":0},{"$f":"IF(AP13=0,0,(AP13*((LOG(AP13))/LOG(2))))","v":0},null,{"$f":"N13","v":1221},{"$f":"COUNTIF(L66:L77,AS13)","v":0},{"$f":"AT13/(AV4-AT20)","v":0},{"$f":"IF(AU13=0,0,(AU13*((LOG(AU13))/LOG(2))))","v":0}]
[12,860,23,877,24,889,23,895,null,null,0,1222,null,1222,{"$f":"COUNTIF($L$7:$L$500,N14)","v":15},{"$f":"O14/$Q$4","v":0.21428571428571427},{"$f":"IF(P14=0,0,(P14*((LOG(P14))/LOG(2))))","v":-0.47622694742923877},null,null,{"$f":"N14","v":1222},{"$f":"COUNTIF(L7:L18,T14)","v":6},{"$f":"U14/(W4-U20)","v":0.5},{"$f":"IF(V14=0,0,(V14*((LOG(V14))/LOG(2))))","v":-0.5},null,{"$f":"N14","v":1222},{"$f":"COUNTIF(L19:L30,Y14)","v":5},{"$f":"Z14/(AB4-Z20)","v":0.41666666666666669},{"$f":"IF(AA14=0,0,(AA14*((LOG(AA14))/LOG(2))))","v":-0.52626433576408083},null,{"$f":"N14","v":1222},{"$f":"COUNTIF(L31:L41,AD14)","v":0},{"$f":"AE14/(AG4-AE20)","v":0},{"$f":"IF(AF14=0,0,(AF14*((LOG(AF14))/LOG(2))))","v":0},null,{"$f":"N14","v":1222},{"$f":"COUNTIF(L42:L53,AI14)","v":1},{"$f":"AJ14/(AL4-AJ20)","v":8.3333333333333329E-2},{"$f":"IF(AK14=0,0,(AK14*((LOG(AK14))/LOG(2))))","v":-0.29874687506009634},null,{"$f":"N14","v":1222},{"$f":"COUNTIF(L54:L65,AN14)","v":1},{"$f":"AO14/(AQ4-AO20)","v":8.3333333333333329E-2},{"$f":"IF(AP14=0,0,(AP14*((LOG(AP14))/LOG(2))))","v":-0.29874687506009634},null,{"$f":"N14","v":1222},{"$f":"COUNTIF(L66:L77,AS14)","v":2},{"$f":"AT14/(AV4-AT20)","v":0.18181818181818182},{"$f":"IF(AU14=0,0,(AU14*((LOG(AU14))/LOG(2))))","v":-0.44716938520678134}]
[21,1005,21,1013,22,1022,23,1030,null,null,0,2222,null,2111,{"$f":"COUNTIF($L$7:$L$500,N15)","v":1},{"$f":"O15/$Q$4","v":1.4285714285714285E-2},{"$f":"IF(P15=0,0,(P15*((LOG(P15))/LOG(2))))","v":-8.756118595635666E-2},null,null,{"$f":"N15","v":2111},{"$f":"COUNTIF(L7:L18,T15)","v":0},{"$f":"U15/(W4-U20)","v":0},{"$f":"IF(V15=0,0,(V15*((LOG(V15))/LOG(2))))","v":0},null,{"$f":"N15","v":2111},{"$f":"COUNTIF(L19:L30,Y15)","v":0},{"$f":"Z15/(AB4-Z20)","v":0},{"$f":"IF(AA15=0,0,(AA15*((LOG(AA15))/LOG(2))))","v":0},null,{"$f":"N15","v":2111},{"$f":"COUNTIF(L31:L41,AD15)","v":0},{"$f":"AE15/(AG4-AE20)","v":0},{"$f":"IF(AF15=0,0,(AF15*((LOG(AF15))/LOG(2))))","v":0},null,{"$f":"N15","v":2111},{"$f":"COUNTIF(L42:L53,AI15)","v":1},{"$f":"AJ15/(AL4-AJ20)","v":8.3333333333333329E-2},{"$f":"IF(AK15=0,0,(AK15*((LOG(AK15))/LOG(2))))","v":-0.29874687506009634},null,{"$f":"N15","v":2111},{"$f":"COUNTIF(L54:L65,AN15)","v":0},{"$f":"AO15/(AQ4-AO20)","v":0},{"$f":"IF(AP15=0,0,(AP15*((LOG(AP15))/LOG(2))))","v":0},null,{"$f":"N15","v":2111},{"$f":"COUNTIF(L66:L77,AS15)","v":0},{"$f":"AT15/(AV4-AT20)","v":0},{"$f":"IF(AU15=0,0,(AU15*((LOG(AU15))/LOG(2))))","v":0}]
[12,1126,23,1134,24,1143,23,1148,null,null,0,1222,null,2112,{"$f":"COUNTIF($L$7:$L$500,N16)","v":3},{"$f":"O16/$Q$4","v":4.2857142857142858E-2},{"$f":"IF(P16=0,0,(P16*((LOG(P16))/LOG(2))))","v":-0.19475659355244901},null,null,{"$f":"N16","v":2112},{"$f":"COUNTIF(L7:L18,T16)","v":0},{"$f":"U16/(W4-U20)","v":0},{"$f":"IF(V16=0,0,(V16*((LOG(V16))/LOG(2))))","v":0},null,{"$f":"N16","v":2112},{"$f":"COUNTIF(L19:L30,Y16)","v":0},{"$f":"Z16/(AB4-Z20)","v":0},{"$f":"IF(AA16=0,0,(AA16*((LOG(AA16))/LOG(2))))","v":0},null,{"$f":"N16","v":2112},{"$f":"COUNTIF(L31:L41,AD16)","v":0},{"$f":"AE16/(AG4-AE20)","v":0},{"$f":"IF(AF16=0,0,(AF16*((LOG(AF16))/LOG(2))))","v":0},null,{"$f":"N16","v":2112},{"$f":"COUNTIF(L42:L53,AI16)","v":2},{"$f":"AJ16/(AL4-AJ20)","v":0.16666666666666666},{"$f":"IF(AK16=0,0,(AK16*((LOG(AK16))/LOG(2))))","v":-0.43082708345352599},null,{"$f":"N16","v":2112},{"$f":"COUNTIF(L54:L65,AN16)","v":1},{"$f":"AO16/(AQ4-AO20)","v":8.3333333333333329E-2},{"$f":"IF(AP16=0,0,(AP16*((LOG(AP16))/LOG(2))))","v":-0.29874687506009634},null,{"$f":"N16","v":2112},{"$f":"COUNTIF(L66:L77,AS16)","v":0},{"$f":"AT16/(AV4-AT20)","v":0},{"$f":"IF(AU16=0,0,(AU16*((LOG(AU16))/LOG(2))))","v":0}]
[12,1246,14,1249,24,1259,23,1266,null,null,0,1122,null,2121,{"$f":"COUNTIF($L$7:$L$500,N17)","v":0},{"$f":"O17/$Q$4","v":0},{"$f":"IF(P17=0,0,(P17*((LOG(P17))/LOG(2))))","v":0},null,null,{"$f":"N17","v":2121},{"$f":"COUNTIF(L7:L18,T17)","v":0},{"$f":"U17/(W4-U20)","v":0},{"$f":"IF(V17=0,0,(V17*((LOG(V17))/LOG(2))))","v":0},null,{"$f":"N17","v":2121},{"$f":"COUNTIF(L19:L30,Y17)","v":0},{"$f":"Z17/(AB4-Z20)","v":0},{"$f":"IF(AA17=0,0,(AA17*((LOG(AA17))/LOG(2))))","v":0},null,{"$f":"N17","v":2121},{"$f":"COUNTIF(L31:L41,AD17)","v":0},{"$f":"AE17/(AG4-AE20)","v":0},{"$f":"IF(AF17=0,0,(AF17*((LOG(AF17))/LOG(2))))","v":0},null,{"$f":"N17","v":2121},{"$f":"COUNTIF(L42:L53,AI17)","v":0},{"$f":"AJ17/(AL4-AJ20)","v":0},{"$f":"IF(AK17=0,0,(AK17*((LOG(AK17))/LOG(2))))","v":0},null,{"$f":"N17","v":2121},{"$f":"COUNTIF(L54:L65,AN17)","v":0},{"$f":"AO17/(AQ4-AO20)","v":0},{"$f":"IF(AP17=0,0,(AP17*((LOG(AP17))/LOG(2))))","v":0},null,{"$f":"N17","v":2121},{"$f":"COUNTIF(L66:L77,AS17)","v":0},{"$f":"AT17/(AV4-AT20)","v":0},{"$f":"IF(AU17=0,0,(AU17*((LOG(AU17))/LOG(2))))","v":0}]
[12,1364,23,1377,24,1380,23,1387,null,null,0,1222,null,2122,{"$f":"COUNTIF($L$7:$L$500,N18)","v":1},{"$f":"O18/$Q$4","v":1.4285714285714285E-2},{"$f":"IF(P18=0,0,(P18*((LOG(P18))/LOG(2))))","v":-8.756118595635666E-2},null,null,{"$f":"N18","v":2122},{"$f":"COUNTIF(L7:L18,T18)","v":0},{"$f":"U18/(W4-U20)","v":0},{"$f":"IF(V18=0,0,(V18*((LOG(V18))/LOG(2))))","v":0},null,{"$f":"N18","v":2122},{"$f":"COUNTIF(L19:L30,Y18)","v":0},{"$f":"Z18/(AB4-Z20)","v":0},{"$f":"IF(AA18=0,0,(AA18*((LOG(AA18))/LOG(2))))","v":0},null,{"$f":"N18","v":2122},{"$f":"COUNTIF(L31:L41,AD18)","v":1},{"$f":"AE18/(AG4-AE20)","v":9.0909090909090912E-2},{"$f":"IF(AF18=0,0,(AF18*((LOG(AF18))/LOG(2))))","v":-0.31449378351248153},null,{"$f":"N18","v":2122},{"$f":"COUNTIF(L42:L53,AI18)","v":0},{"$f":"AJ18/(AL4-AJ20)","v":0},{"$f":"IF(AK18=0,0,(AK18*((LOG(AK18))/LOG(2))))","v":0},null,{"$f":"N18","v":2122},{"$f":"COUNTIF(L54:L65,AN18)","v":0},{"$f":"AO18/(AQ4-AO20)","v":0},{"$f":"IF(AP18=0,0,(AP18*((LOG(AP18))/LOG(2))))","v":0},null,{"$f":"N18","v":2122},{"$f":"COUNTIF(L66:L77,AS18)","v":0},{"$f":"AT18/(AV4-AT20)","v":0},{"$f":"IF(AU18=0,0,(AU18*((LOG(AU18))/LOG(2))))","v":0}]
[12,1483,14,1487,24,1494,23,1499,null,null,0,1122,null,2211,{"$f":"COUNTIF($L$7:$L$500,N19)","v":2},{"$f":"O19/$Q$4","v":2.8571428571428571E-2},{"$f":"IF(P19=0,0,(P19*((LOG(P19))/LOG(2))))","v":-0.14655094334128474},null,null,{"$f":"N19","v":2211},{"$f":"COUNTIF(L7:L18,T19)","v":0},{"$f":"U19/(W4-U20)","v":0},{"$f":"IF(V19=0,0,(V19*((LOG(V19))/LOG(2))))","v":0},null,{"$f":"N19","v":2211},{"$f":"COUNTIF(L19:L30,Y19)","v":0},{"$f":"Z19/(AB4-Z20)","v":0},{"$f":"IF(AA19=0,0,(AA19*((LOG(AA19))/LOG(2))))","v":0},null,{"$f":"N19","v":2211},{"$f":"COUNTIF(L31:L41,AD19)","v":0},{"$f":"AE19/(AG4-AE20)","v":0},{"$f":"IF(AF19=0,0,(AF19*((LOG(AF19))/LOG(2))))","v":0},null,{"$f":"N19","v":2211},{"$f":"COUNTIF(L42:L53,AI19)","v":0},{"$f":"AJ19/(AL4-AJ20)","v":0},{"$f":"IF(AK19=0,0,(AK19*((LOG(AK19))/LOG(2))))","v":0},null,{"$f":"N19","v":2211},{"$f":"COUNTIF(L54:L65,AN19)","v":0},{"$f":"AO19/(AQ4-AO20)","v":0},{"$f":"IF(AP19=0,0,(AP19*((LOG(AP19))/LOG(2))))","v":0},null,{"$f":"N19","v":2211},{"$f":"COUNTIF(L66:L77,AS19)","v":2},{"$f":"AT19/(AV4-AT20)","v":0.18181818181818182},{"$f":"IF(AU19=0,0,(AU19*((LOG(AU19))/LOG(2))))","v":-0.44716938520678134}]
[12,1595,14,1598,13,1603,23,1610,null,null,0,1112,null,2212,{"$f":"COUNTIF($L$7:$L$500,N20)","v":0},{"$f":"O20/$Q$4","v":0},{"$f":"IF(P20=0,0,(P20*((LOG(P20))/LOG(2))))","v":0},null,null,{"$f":"N20","v":2212},{"$f":"COUNTIF(L7:L18,T20)","v":0},null,null,null,{"$f":"N20","v":2212},{"$f":"COUNTIF(L19:L30,Y20)","v":0},null,null,null,{"$f":"N20","v":2212},{"$f":"COUNTIF(L31:L41,AD20)","v":0},null,null,null,{"$f":"N20","v":2212},{"$f":"COUNTIF(L42:L53,AI20)","v":0},null,null,null,{"$f":"N20","v":2212},{"$f":"COUNTIF(L54:L65,AN20)","v":0},null,null,null,{"$f":"N20","v":2212},{"$f":"COUNTIF(L66:L77,AS20)","v":0}]
[12,1707,14,1710,24,1718,23,1722,null,null,0,1122,null,2221,{"$f":"COUNTIF($L$7:$L$500,N21)","v":0},{"$f":"O21/$Q$4","v":0},{"$f":"IF(P21=0,0,(P21*((LOG(P21))/LOG(2))))","v":0},null,null,{"$f":"N21","v":2221},{"$f":"COUNTIF(L7:L18,T21)","v":0},{"$f":"U21/(W4-U20)","v":0},{"$f":"IF(V21=0,0,(V21*((LOG(V21))/LOG(2))))","v":0},null,{"$f":"N21","v":2221},{"$f":"COUNTIF(L19:L30,Y21)","v":0},{"$f":"Z21/(AB4-Z20)","v":0},{"$f":"IF(AA21=0,0,(AA21*((LOG(AA21))/LOG(2))))","v":0},null,{"$f":"N21","v":2221},{"$f":"COUNTIF(L31:L41,AD21)","v":0},{"$f":"AE21/(AG4-AE20)","v":0},{"$f":"IF(AF21=0,0,(AF21*((LOG(AF21))/LOG(2))))","v":0},null,{"$f":"N21","v":2221},{"$f":"COUNTIF(L42:L53,AI21)","v":0},{"$f":"AJ21/(AL4-AJ20)","v":0},{"$f":"IF(AK21=0,0,(AK21*((LOG(AK21))/LOG(2))))","v":0},null,{"$f":"N21","v":2221},{"$f":"COUNTIF(L54:L65,AN21)","v":0},{"$f":"AO21/(AQ4-AO20)","v":0},{"$f":"IF(AP21=0,0,(AP21*((LOG(AP21))/LOG(2))))","v":0},null,{"$f":"N21","v":2221},{"$f":"COUNTIF(L66:L77,AS21)","v":0},{"$f":"AT21/(AV4-AT20)","v":0},{"$f":"IF(AU21=0,0,(AU21*((LOG(AU21))/LOG(2))))","v":0}]
[12,1819,23,1836,24,1841,23,1847,null,null,0,1222,null,2222,{"$f":"COUNTIF($L$7:$L$500,N22)","v":5},{"$f":"O22/$Q$4","v":7.1428571428571425E-2},{"$f":"IF(P22=0,0,(P22*((LOG(P22))/LOG(2))))","v":-0.27195392300411453},null,null,{"$f":"N22","v":2222},{"$f":"COUNTIF(L7:L18,T22)","v":1},{"$f":"U22/(W4-U20)","v":8.3333333333333329E-2},{"$f":"IF(V22=0,0,(V22*((LOG(V22))/LOG(2))))","v":-0.29874687506009634},null,{"$f":"N22","v":2222},{"$f":"COUNTIF(L19:L30,Y22)","v":1},{"$f":"Z22/(AB4-Z20)","v":8.3333333333333329E-2},{"$f":"IF(AA22=0,0,(AA22*((LOG(AA22))/LOG(2))))","v":-0.29874687506009634},null,{"$f":"N22","v":2222},{"$f":"COUNTIF(L31:L41,AD22)","v":1},{"$f":"AE22/(AG4-AE20)","v":9.0909090909090912E-2},{"$f":"IF(AF22=0,0,(AF22*((LOG(AF22))/LOG(2))))","v":-0.31449378351248153},null,{"$f":"N22","v":2222},{"$f":"COUNTIF(L42:L53,AI22)","v":1},{"$f":"AJ22/(AL4-AJ20)","v":8.3333333333333329E-2},{"$f":"IF(AK22=0,0,(AK22*((LOG(AK22))/LOG(2))))","v":-0.29874687506009634},null,{"$f":"N22","v":2222},{"$f":"COUNTIF(L54:L65,AN22)","v":0},{"$f":"AO22/(AQ4-AO20)","v":0},{"$f":"IF(AP22=0,0,(AP22*((LOG(AP22))/LOG(2))))","v":0},null,{"$f":"N22","v":2222},{"$f":"COUNTIF(L66:L77,AS22)","v":1},{"$f":"AT22/(AV4-AT20)","v":9.0909090909090912E-2},{"$f":"IF(AU22=0,0,(AU22*((LOG(AU22))/LOG(2))))","v":-0.31449378351248153}]
[12,1946,23,1953,24,1956,23,1961,null,null,0,1222,null,null,null,{"$f":"SUM(P7:P22)","v":0.99999999999999967},{"$f":"-SUM(Q7:Q22)","v":2.7918623281301098},null,null,null,null,{"$f":"SUM(V7:V22)","v":1},{"$f":"-SUM(W7:W22)","v":1.3250112108241772},null,null,null,{"$f":"SUM(AA7:AA22)","v":1},{"$f":"-SUM(AB7:AB22)","v":1.9508257945180885},null,null,null,{"$f":"SUM(AF7:AF22)","v":1},{"$f":"-SUM(AG7:AG22)","v":1.8676338909712118},null,null,null,{"$f":"SUM(AK7:AK22)","v":1},{"$f":"-SUM(AL7:AL22)","v":2.5849625007211561},null,null,null,{"$f":"SUM(AP7:AP22)","v":1},{"$f":"-SUM(AQ7:AQ22)","v":2.0545851693377992},null,null,null,{"$f":"SUM(AU7:AU22)","v":1},{"$f":"-SUM(AV7:AV22)","v":2.7321588913645702}]
[21,2064,21,2072,22,2080,23,2086,null,null,0,2222,null,null,null,"U=",{"$f":"Q23/(LOG(Q4)/LOG(2))","v":0.45549574402287346},null,null,null,null,"U1=",{"$f":"W23/(LOG(W4)/LOG(2))","v":0.36960253016806616},null,null,null,"U2=",{"$f":"AB23/(LOG(AB4)/LOG(2))","v":0.54416909357508125},null,null,null,"U3=",{"$f":"AG23/(LOG(AG4)/LOG(2))","v":0.5398672663189944},null,null,null,"U4=",{"$f":"AL23/(LOG(AL4)/LOG(2))","v":0.72105705434887002},null,null,null,"U5=",{"$f":"AQ23/(LOG(AQ4)/LOG(2))","v":0.57311203922621112},null,null,null,"U6=",{"$f":"AV23/(LOG(AV4)/LOG(2))","v":0.78977103540517246}]
[12,2197,23,2205,24,2213,23,2218,null,null,0,1222]
[12,2315,14,2319,24,2329,23,2335,null,null,0,1122]
[12,2437,23,2455,24,2467,23,2473,null,null,0,1222,null,"Total Target Seq"]
[12,2573,23,2583,24,2587,23,2591,null,null,0,1222,null,{"$f":"COUNTIF(L7:L77,G3)","v":0},null,12,12,11,12,12,12]
[12,2684,23,2685,13,2687,23,2703,null,null,0,1212,null,null,null,"% of reinforcement given in 6 equal intervals based on number of trials "]
[12,2832,14,2836,24,2848,23,2858,null,null,0,1122,null,null,null,"%_1","%_2","%_3","%_4","%_5","%_6"]
[12,2954,14,2955,24,2971,23,2976,null,null,0,1122,null,null,"target sequence",{"$f":"$G$3","v":2212},{"$f":"$G$3","v":2212},{"$f":"$G$3","v":2212},{"$f":"$G$3","v":2212},{"$f":"$G$3","v":2212},{"$f":"$G$3","v":2212}]
[12,3099,14,3102,13,3113,14,3120,null,null,0,1111,null,null,"total reinforcement",{"$f":"U20","v":0},{"$f":"Z20","v":0},{"$f":"AE20","v":0},{"$f":"AJ20","v":0},{"$f":"AO20","v":0},{"$f":"AT20","v":0}]
[12,3246,14,3256,13,3265,14,3272,null,null,0,1111,null,null,"% target"]
[21,3391,21,3394,22,3397,23,3405,null,null,0,2222,null,null,"CCRF"]
[21,3534,12,3542,24,3550,23,3559,null,null,0,2122,null,null,"% CCRf"]
[12,3656,14,3662,13,3664,14,3670,null,null,0,1111,null,null,"average response rate",{"$f":"H18/P28","v":115.58333333333333},{"$f":"(H30-H18)/Q28","v":122.58333333333333},{"$f":"(H41-H30)/R28","v":136.45454545454547},{"$f":"(H53-H41)/S28","v":151.66666666666666},{"$f":"(H65-H53)/T28","v":214.83333333333334},{"$f":"(H77-H65)/U28","v":-729.75}]
[12,3793,14,3797,13,3803,14,3808,null,null,0,1111]
[12,3914,14,3919,24,3928,23,3934,null,null,0,1122]
[12,4034,14,4037,13,4041,14,4044,null,null,0,1111]
[12,4184,14,4188,13,4194,14,4198,null,null,0,1111]
[12,4344,14,4350,24,4353,14,4359,null,null,0,1121]
[21,4460,12,4471,13,4476,23,4491,null,null,0,2112]
[12,4602,14,4607,24,4619,23,4624,null,null,0,1122]
[12,4788,23,4803,24,4808,23,4813,null,null,0,1222]
[12,4943,14,4946,24,4957,23,4959,null,null,0,1122]
[12,5080,14,5083,13,5086,14,5091,null,null,0,1111]
[12,5196,14,5199,24,5208,23,5214,null,null,0,1122]
[21,5529,21,5535,22,5541,23,5548,null,null,0,2222]
[12,5647,14,5649,13,5655,23,5671,null,null,0,1112]
[12,5771,14,5774,24,5785,23,5794,null,null,0,1122]
[21,5931,12,5938,13,5942,23,5949,null,null,0,2112]
[21,6051,12,6061,13,6065,14,6069,null,null,0,2111]
[12,6167,14,6169,13,6172,14,6179,null,null,0,1111]
[12,6387,23,6393,24,6401,23,6407,null,null,0,1222]
[12,6517,14,6519,13,6525,23,6539,null,null,0,1112]
[12,6654,14,6658,24,6673,23,6677,null,null,0,1122]
[12,6829,14,6833,13,6853,14,6863,null,null,0,1111]
[12,6968,14,6972,13,6978,14,6983,null,null,0,1111]
[12,7108,14,7111,13,7116,14,7124,null,null,0,1111]
[12,7453,14,7456,24,7466,23,7473,null,null,0,1122]
[12,7574,14,7579,13,7583,23,7596,null,null,0,1112]
[12,7810,14,7813,13,7818,14,7824,null,null,0,1111]
[12,8052,14,8056,24,8066,23,8072,null,null,0,1122]
[12,8215,14,8218,13,8222,14,8227,null,null,0,1111]
[21,8713,12,8744,13,8749,23,8757,null,null,0,2112]
[12,8860,23,8868,24,8879,23,8886,null,null,0,1222]
[12,8984,14,8989,13,8993,23,9002,null,null,0,1112]
[12,9236,14,9242,24,9252,23,9257,null,null,0,1122]
[21,12166,21,12170,11,12191,12,12194,null,null,0,2211]
[12,12294,23,12304,24,12307,23,12311,null,null,0,1222]
[12,12410,14,12413,13,12418,14,12422,null,null,0,1111]
[12,12522,14,12525,13,12531,14,12536,null,null,0,1111]
[21,12826,21,12831,22,12839,23,12845,null,null,0,2222]
[21,12974,21,12977,11,12985,12,12990,null,null,0,2211]
[12,13249,14,13255,24,13270,23,13276,null,null,0,1122]
[12,14534,23,14544,13,14558,14,14564,null,null,0,1211]
[12,22406,null,null,null,null,null,null,null,null,null,1]

{"sheet":"!M106B1T.ayl","index":5,"n_rows":49,"n_cols":48,"rows_kept":49,"cut":false,"hidden":false,"merged":[[4,39,4,42],[5,39,5,40],[4,44,4,47],[5,44,5,45],[4,24,4,27],[5,24,5,25],[4,29,4,32],[5,29,5,30],[4,34,4,37],[5,34,5,35],[1,1,1,2],[5,13,5,14],[26,13,26,14],[27,13,27,14],[4,19,4,22],[5,19,5,20]]}
["Report for:!M106B1T.ayl"]
["Date:","<date>"]
["Hen:","<hen>",null,null,null,"Correct Sequence",{"$f":"Start!J2","v":2212},null,null,null,null,null,null,null,null,"Total Sequences in Data",{"$f":"4994-COUNTBLANK(L7:L5000)","v":43},null,null,null,null,"Total Sequences in Block Data",{"$f":"COUNTA(L7:L13)","v":7},null,null,null,"Total Sequences in Block Data",{"$f":"COUNTA(L14:L20)","v":7},null,null,null,"Total Sequences in Block Data",{"$f":"COUNTA(L21:L28)","v":8},null,null,null,"Total Sequences in Block Data",{"$f":"COUNTA(L29:L35)","v":7},null,null,null,"Total Sequences in Block Data",{"$f":"COUNTA(L36:L42)","v":7},null,null,null,"Total Sequences in Block Data",{"$f":"COUNTA(L43:L49)","v":7}]
[null,null,null,null,null,null,null,null,null,null,null,null,null,null,null,"Total Sequences in Summary",{"$f":"SUM(O7:O22)","v":43},null,null,null,null,"Total Sequences in Block Summary",{"$f":"SUM(U7:U22)","v":7},null,null,null,"Total Sequences in Block Summary",{"$f":"SUM(Z7:Z22)","v":7},null,null,null,"Total Sequences in Block Summary",{"$f":"SUM(AE7:AE22)","v":8},null,null,null,"Total Sequences in Block Summary",{"$f":"SUM(AJ7:AJ22)","v":7},null,null,null,"Total Sequences in Block Summary",{"$f":"SUM(AO7:AO22)","v":7},null,null,null,"Total Sequences in Block Summary",{"$f":"SUM(AT7:AT22)","v":7}]
[null,null,null,null,null,null,null,null,null,null,null,null,null,null,null,null,null,null,null,"Block 1",null,null,null,null,"Block 2",null,null,null,null,"Block 3",null,null,null,null,"Block 4",null,null,null,null,"Block 5",null,null,null,null,"Block 6"]
["Sequence\nComponent\n1","Time\n1","Sequence\nComponent\n2","Time\n2","Sequence\nComponent\n3","Time\n3","Sequence\nComponent\n4","Time\n4","Sequence\nComponent\n5","Time\n5","Correct?\n0=No 1=Yes","Sequence",null,"Frequency",null,"Relative Frequency","Variability",null,null,"Frequency",null,"Relative Frequency","Variability",null,"Frequency",null,"Relative Frequency","Variability",null,"Frequency",null,"Relative Frequency","Variability",null,"Frequency",null,"Relative Frequency","Variability",null,"Frequency",null,"Relative Frequency","Variability",null,"Frequency",null,"Relative Frequency","Variability"]
[21,18,21,22,22,27,23,32,null,null,0,2222,null,1111,{"$f":"COUNTIF($L$7:$L$500,N7)","v":8},{"$f":"O7/$Q$4","v":0.18604651162790697},{"$f":"IF(P7=0,0,(P7*((LOG(P7))/LOG(2))))","v":-0.45139809389806473},null,null,{"$f":"N7","v":1111},{"$f":"COUNTIF(L7:L13,T7)","v":1},{"$f":"U7/(W4-U20)","v":0.14285714285714285},{"$f":"IF(V7=0,0,(V7*((LOG(V7))/LOG(2))))","v":-0.40105070315108626},null,{"$f":"N7","v":1111},{"$f":"COUNTIF(L14:L20,Y7)","v":1},{"$f":"Z7/(AB4-Z20)","v":0.14285714285714285},{"$f":"IF(AA7=0,0,(AA7*((LOG(AA7))/LOG(2))))","v":-0.40105070315108626},null,{"$f":"N7","v":1111},{"$f":"COUNTIF(L21:L28,AD7)","v":3},{"$f":"AE7/(AG4-AE20)","v":0.375},{"$f":"IF(AF7=0,0,(AF7*((LOG(AF7))/LOG(2))))","v":-0.53063906222956647},null,{"$f":"N7","v":1111},{"$f":"COUNTIF(L29:L35,AI7)","v":2},{"$f":"AJ7/(AL4-AJ20)","v":0.2857142857142857},{"$f":"IF(AK7=0,0,(AK7*((LOG(AK7))/LOG(2))))","v":-0.51638712058788683},null,{"$f":"N7","v":1111},{"$f":"COUNTIF(L36:L42,AN7)","v":0},{"$f":"AO7/(AQ4-AO20)","v":0},{"$f":"IF(AP7=0,0,(AP7*((LOG(AP7))/LOG(2))))","v":0},null,{"$f":"N7","v":1111},{"$f":"COUNTIF(L43:L49,AS7)","v":1},{"$f":"AT7/(AV4-AT20)","v":0.14285714285714285},{"$f":"IF(AU7=0,0,(AU7*((LOG(AU7))/LOG(2))))","v":-0.40105070315108626}]
[12,129,14,134,24,146,23,150,null,null,0,1122,null,1112,{"$f":"COUNTIF($L$7:$L$500,N8)","v":5},{"$f":"O8/$Q$4","v":0.11627906976744186},{"$f":"IF(P8=0,0,(P8*((LOG(P8))/LOG(2))))","v":-0.36096937904822501},null,null,{"$f":"N8","v":1112},{"$f":"COUNTIF(L7:L13,T8)","v":1},{"$f":"U8/(W4-U20)","v":0.14285714285714285},{"$f":"IF(V8=0,0,(V8*((LOG(V8))/LOG(2))))","v":-0.40105070315108626},null,{"$f":"N8","v":1112},{"$f":"COUNTIF(L14:L20,Y8)","v":1},{"$f":"Z8/(AB4-Z20)","v":0.14285714285714285},{"$f":"IF(AA8=0,0,(AA8*((LOG(AA8))/LOG(2))))","v":-0.40105070315108626},null,{"$f":"N8","v":1112},{"$f":"COUNTIF(L21:L28,AD8)","v":2},{"$f":"AE8/(AG4-AE20)","v":0.25},{"$f":"IF(AF8=0,0,(AF8*((LOG(AF8))/LOG(2))))","v":-0.5},null,{"$f":"N8","v":1112},{"$f":"COUNTIF(L29:L35,AI8)","v":0},{"$f":"AJ8/(AL4-AJ20)","v":0},{"$f":"IF(AK8=0,0,(AK8*((LOG(AK8))/LOG(2))))","v":0},null,{"$f":"N8","v":1112},{"$f":"COUNTIF(L36:L42,AN8)","v":0},{"$f":"AO8/(AQ4-AO20)","v":0},{"$f":"IF(AP8=0,0,(AP8*((LOG(AP8))/LOG(2))))","v":0},null,{"$f":"N8","v":1112},{"$f":"COUNTIF(L43:L49,AS8)","v":1},{"$f":"AT8/(AV4-AT20)","v":0.14285714285714285},{"$f":"IF(AU8=0,0,(AU8*((LOG(AU8))/LOG(2))))","v":-0.40105070315108626}]
[12,248,23,260,24,268,23,273,null,null,0,1222,null,1121,{"$f":"COUNTIF($L$7:$L$500,N9)","v":1},{"$f":"O9/$Q$4","v":2.3255813953488372E-2},{"$f":"IF(P9=0,0,(P9*((LOG(P9))/LOG(2))))","v":-0.12619220359772321},null,null,{"$f":"N9","v":1121},{"$f":"COUNTIF(L7:L13,T9)","v":0},{"$f":"U9/(W4-U20)","v":0},{"$f":"IF(V9=0,0,(V9*((LOG(V9))/LOG(2))))","v":0},null,{"$f":"N9","v":1121},{"$f":"COUNTIF(L14:L20,Y9)","v":0},{"$f":"Z9/(AB4-Z20)","v":0},{"$f":"IF(AA9=0,0,(AA9*((LOG(AA9))/LOG(2))))","v":0},null,{"$f":"N9","v":1121},{"$f":"COUNTIF(L21:L28,AD9)","v":0},{"$f":"AE9/(AG4-AE20)","v":0},{"$f":"IF(AF9=0,0,(AF9*((LOG(AF9))/LOG(2))))","v":0},null,{"$f":"N9","v":1121},{"$f":"COUNTIF(L29:L35,AI9)","v":0},{"$f":"AJ9/(AL4-AJ20)","v":0},{"$f":"IF(AK9=0,0,(AK9*((LOG(AK9))/LOG(2))))","v":0},null,{"$f":"N9","v":1121},{"$f":"COUNTIF(L36:L42,AN9)","v":1},{"$f":"AO9/(AQ4-AO20)","v":0.14285714285714285},{"$f":"IF(AP9=0,0,(AP9*((LOG(AP9))/LOG(2))))","v":-0.40105070315108626},null,{"$f":"N9","v":1121},{"$f":"COUNTIF(L43:L49,AS9)","v":0},{"$f":"AT9/(AV4-AT20)","v":0},{"$f":"IF(AU9=0,0,(AU9*((LOG(AU9))/LOG(2))))","v":0}]
[12,368,14,372,13,374,14,378,null,null,0,1111,null,1122,{"$f":"COUNTIF($L$7:$L$500,N10)","v":15},{"$f":"O10/$Q$4","v":0.34883720930232559},{"$f":"IF(P10=0,0,(P10*((LOG(P10))/LOG(2))))","v":-0.5300142415442719},null,null,{"$f":"N10","v":1122},{"$f":"COUNTIF(L7:L13,T10)","v":3},{"$f":"U10/(W4-U20)","v":0.42857142857142855},{"$f":"IF(V10=0,0,(V10*((LOG(V10))/LOG(2))))","v":-0.52388246628704915},null,{"$f":"N10","v":1122},{"$f":"COUNTIF(L14:L20,Y10)","v":5},{"$f":"Z10/(AB4-Z20)","v":0.7142857142857143},{"$f":"IF(AA10=0,0,(AA10*((LOG(AA10))/LOG(2))))","v":-0.34673344797874411},null,{"$f":"N10","v":1122},{"$f":"COUNTIF(L21:L28,AD10)","v":1},{"$f":"AE10/(AG4-AE20)","v":0.125},{"$f":"IF(AF10=0,0,(AF10*((LOG(AF10))/LOG(2))))","v":-0.375},null,{"$f":"N10","v":1122},{"$f":"COUNTIF(L29:L35,AI10)","v":2},{"$f":"AJ10/(AL4-AJ20)","v":0.2857142857142857},{"$f":"IF(AK10=0,0,(AK10*((LOG(AK10))/LOG(2))))","v":-0.51638712058788683},null,{"$f":"N10","v":1122},{"$f":"COUNTIF(L36:L42,AN10)","v":2},{"$f":"AO10/(AQ4-AO20)","v":0.2857142857142857},{"$f":"IF(AP10=0,0,(AP10*((LOG(AP10))/LOG(2))))","v":-0.51638712058788683},null,{"$f":"N10","v":1122},{"$f":"COUNTIF(L43:L49,AS10)","v":2},{"$f":"AT10/(AV4-AT20)","v":0.2857142857142857},{"$f":"IF(AU10=0,0,(AU10*((LOG(AU10))/LOG(2))))","v":-0.51638712058788683}]
[12,476,14,479,13,482,23,491,null,null,0,1112,null,1211,{"$f":"COUNTIF($L$7:$L$500,N11)","v":1},{"$f":"O11/$Q$4","v":2.3255813953488372E-2},{"$f":"IF(P11=0,0,(P11*((LOG(P11))/LOG(2))))","v":-0.12619220359772321},null,null,{"$f":"N11","v":1211},{"$f":"COUNTIF(L7:L13,T11)","v":0},{"$f":"U11/(W4-U20)","v":0},{"$f":"IF(V11=0,0,(V11*((LOG(V11))/LOG(2))))","v":0},null,{"$f":"N11","v":1211},{"$f":"COUNTIF(L14:L20,Y11)","v":0},{"$f":"Z11/(AB4-Z20)","v":0},{"$f":"IF(AA11=0,0,(AA11*((LOG(AA11))/LOG(2))))","v":0},null,{"$f":"N11","v":1211},{"$f":"COUNTIF(L21:L28,AD11)","v":0},{"$f":"AE11/(AG4-AE20)","v":0},{"$f":"IF(AF11=0,0,(AF11*((LOG(AF11))/LOG(2))))","v":0},null,{"$f":"N11","v":1211},{"$f":"COUNTIF(L29:L35,AI11)","v":0},{"$f":"AJ11/(AL4-AJ20)","v":0},{"$f":"IF(AK11=0,0,(AK11*((LOG(AK11))/LOG(2))))","v":0},null,{"$f":"N11","v":1211},{"$f":"COUNTIF(L36:L42,AN11)","v":1},{"$f":"AO11/(AQ4-AO20)","v":0.14285714285714285},{"$f":"IF(AP11=0,0,(AP11*((LOG(AP11))/LOG(2))))","v":-0.40105070315108626},null,{"$f":"N11","v":1211},{"$f":"COUNTIF(L43:L49,AS11)","v":0},{"$f":"AT11/(AV4-AT20)","v":0},{"$f":"IF(AU11=0,0,(AU11*((LOG(AU11))/LOG(2))))","v":0}]
[12,588,14,594,24,604,23,613,null,null,0,1122,null,1212,{"$f":"COUNTIF($L$7:$L$500,N12)","v":0},{"$f":"O12/$Q$4","v":0},{"$f":"IF(P12=0,0,(P12*((LOG(P12))/LOG(2))))","v":0},null,null,{"$f":"N12","v":1212},{"$f":"COUNTIF(L7:L13,T12)","v":0},{"$f":"U12/(W4-U20)","v":0},{"$f":"IF(V12=0,0,(V12*((LOG(V12))/LOG(2))))","v":0},null,{"$f":"N12","v":1212},{"$f":"COUNTIF(L14:L20,Y12)","v":0},{"$f":"Z12/(AB4-Z20)","v":0},{"$f":"IF(AA12=0,0,(AA12*((LOG(AA12))/LOG(2))))","v":0},null,{"$f":"N12","v":1212},{"$f":"COUNTIF(L21:L28,AD12)","v":0},{"$f":"AE12/(AG4-AE20)","v":0},{"$f":"IF(AF12=0,0,(AF12*((LOG(AF12))/LOG(2))))","v":0},null,{"$f":"N12","v":1212},{"$f":"COUNTIF(L29:L35,AI12)","v":0},{"$f":"AJ12/(AL4-AJ20)","v":0},{"$f":"IF(AK12=0,0,(AK12*((LOG(AK12))/LOG(2))))","v":0},null,{"$f":"N12","v":1212},{"$f":"COUNTIF(L36:L42,AN12)","v":0},{"$f":"AO12/(AQ4-AO20)","v":0},{"$f":"IF(AP12=0,0,(AP12*((LOG(AP12))/LOG(2))))","v":0},null,{"$f":"N12","v":1212},{"$f":"COUNTIF(L43:L49,AS12)","v":0},{"$f":"AT12/(AV4-AT20)","v":0},{"$f":"IF(AU12=0,0,(AU12*((LOG(AU12))/LOG(2))))","v":0}]
[12,710,14,713,24,725,23,728,null,null,0,1122,null,1221,{"$f":"COUNTIF($L$7:$L$500,N13)","v":1},{"$f":"O13/$Q$4","v":2.3255813953488372E-2},{"$f":"IF(P13=0,0,(P13*((LOG(P13))/LOG(2))))","v":-0.12619220359772321},null,null,{"$f":"N13","v":1221},{"$f":"COUNTIF(L7:L13,T13)","v":0},{"$f":"U13/(W4-U20)","v":0},{"$f":"IF(V13=0,0,(V13*((LOG(V13))/LOG(2))))","v":0},null,{"$f":"N13","v":1221},{"$f":"COUNTIF(L14:L20,Y13)","v":0},{"$f":"Z13/(AB4-Z20)","v":0},{"$f":"IF(AA13=0,0,(AA13*((LOG(AA13))/LOG(2))))","v":0},null,{"$f":"N13","v":1221},{"$f":"COUNTIF(L21:L28,AD13)","v":0},{"$f":"AE13/(AG4-AE20)","v":0},{"$f":"IF(AF13=0,0,(AF13*((LOG(AF13))/LOG(2))))","v":0},null,{"$f":"N13","v":1221},{"$f":"COUNTIF(L29:L35,AI13)","v":0},{"$f":"AJ13/(AL4-AJ20)","v":0},{"$f":"IF(AK13=0,0,(AK13*((LOG(AK13))/LOG(2))))","v":0},null,{"$f":"N13","v":1221},{"$f":"COUNTIF(L36:L42,AN13)","v":0},{"$f":"AO13/(AQ4-AO20)","v":0},{"$f":"IF(AP13=0,0,(AP13*((LOG(AP13))/LOG(2))))","v":0},null,{"$f":"N13","v":1221},{"$f":"COUNTIF(L43:L49,AS13)","v":1},{"$f":"AT13/(AV4-AT20)","v":0.14285714285714285},{"$f":"IF(AU13=0,0,(AU13*((LOG(AU13))/LOG(2))))","v":-0.40105070315108626}]
[12,822,14,825,24,834,23,843,null,null,0,1122,null,1222,{"$f":"COUNTIF($L$7:$L$500,N14)","v":6},{"$f":"O14/$Q$4","v":0.13953488372093023},{"$f":"IF(P14=0,0,(P14*((LOG(P14))/LOG(2))))","v":-0.39646077962524767},null,null,{"$f":"N14","v":1222},{"$f":"COUNTIF(L7:L13,T14)","v":1},{"$f":"U14/(W4-U20)","v":0.14285714285714285},{"$f":"IF(V14=0,0,(V14*((LOG(V14))/LOG(2))))","v":-0.40105070315108626},null,{"$f":"N14","v":1222},{"$f":"COUNTIF(L14:L20,Y14)","v":0},{"$f":"Z14/(AB4-Z20)","v":0},{"$f":"IF(AA14=0,0,(AA14*((LOG(AA14))/LOG(2))))","v":0},null,{"$f":"N14","v":1222},{"$f":"COUNTIF(L21:L28,AD14)","v":1},{"$f":"AE14/(AG4-AE20)","v":0.125},{"$f":"IF(AF14=0,0,(AF14*((LOG(AF14))/LOG(2))))","v":-0.375},null,{"$f":"N14","v":1222},{"$f":"COUNTIF(L29:L35,AI14)","v":1},{"$f":"AJ14/(AL4-AJ20)","v":0.14285714285714285},{"$f":"IF(AK14=0,0,(AK14*((LOG(AK14))/LOG(2))))","v":-0.40105070315108626},null,{"$f":"N14","v":1222},{"$f":"COUNTIF(L36:L42,AN14)","v":1},{"$f":"AO14/(AQ4-AO20)","v":0.14285714285714285},{"$f":"IF(AP14=0,0,(AP14*((LOG(AP14))/LOG(2))))","v":-0.40105070315108626},null,{"$f":"N14","v":1222},{"$f":"COUNTIF(L43:L49,AS14)","v":2},{"$f":"AT14/(AV4-AT20)","v":0.2857142857142857},{"$f":"IF(AU14=0,0,(AU14*((LOG(AU14))/LOG(2))))","v":-0.51638712058788683}]
[12,942,14,947,24,958,23,961,null,null,0,1122,null,2111,{"$f":"COUNTIF($L$7:$L$500,N15)","v":2},{"$f":"O15/$Q$4","v":4.6511627906976744E-2},{"$f":"IF(P15=0,0,(P15*((LOG(P15))/LOG(2))))","v":-0.20587277928846967},null,null,{"$f":"N15","v":2111},{"$f":"COUNTIF(L7:L13,T15)","v":0},{"$f":"U15/(W4-U20)","v":0},{"$f":"IF(V15=0,0,(V15*((LOG(V15))/LOG(2))))","v":0},null,{"$f":"N15","v":2111},{"$f":"COUNTIF(L14:L20,Y15)","v":0},{"$f":"Z15/(AB4-Z20)","v":0},{"$f":"IF(AA15=0,0,(AA15*((LOG(AA15))/LOG(2))))","v":0},null,{"$f":"N15","v":2111},{"$f":"COUNTIF(L21:L28,AD15)","v":1},{"$f":"AE15/(AG4-AE20)","v":0.125},{"$f":"IF(AF15=0,0,(AF15*((LOG(AF15))/LOG(2))))","v":-0.375},null,{"$f":"N15","v":2111},{"$f":"COUNTIF(L29:L35,AI15)","v":1},{"$f":"AJ15/(AL4-AJ20)","v":0.14285714285714285},{"$f":"IF(AK15=0,0,(AK15*((LOG(AK15))/LOG(2))))","v":-0.40105070315108626},null,{"$f":"N15","v":2111},{"$f":"COUNTIF(L36:L42,AN15)","v":0},{"$f":"AO15/(AQ4-AO20)","v":0},{"$f":"IF(AP15=0,0,(AP15*((LOG(AP15))/LOG(2))))","v":0},null,{"$f":"N15","v":2111},{"$f":"COUNTIF(L43:L49,AS15)","v":0},{"$f":"AT15/(AV4-AT20)","v":0},{"$f":"IF(AU15=0,0,(AU15*((LOG(AU15))/LOG(2))))","v":0}]
[12,1061,14,1064,24,1073,23,1077,null,null,0,1122,null,2112,{"$f":"COUNTIF($L$7:$L$500,N16)","v":0},{"$f":"O16/$Q$4","v":0},{"$f":"IF(P16=0,0,(P16*((LOG(P16))/LOG(2))))","v":0},null,null,{"$f":"N16","v":2112},{"$f":"COUNTIF(L7:L13,T16)","v":0},{"$f":"U16/(W4-U20)","v":0},{"$f":"IF(V16=0,0,(V16*((LOG(V16))/LOG(2))))","v":0},null,{"$f":"N16","v":2112},{"$f":"COUNTIF(L14:L20,Y16)","v":0},{"$f":"Z16/(AB4-Z20)","v":0},{"$f":"IF(AA16=0,0,(AA16*((LOG(AA16))/LOG(2))))","v":0},null,{"$f":"N16","v":2112},{"$f":"COUNTIF(L21:L28,AD16)","v":0},{"$f":"AE16/(AG4-AE20)","v":0},{"$f":"IF(AF16=0,0,(AF16*((LOG(AF16))/LOG(2))))","v":0},null,{"$f":"N16","v":2112},{"$f":"COUNTIF(L29:L35,AI16)","v":0},{"$f":"AJ16/(AL4-AJ20)","v":0},{"$f":"IF(AK16=0,0,(AK16*((LOG(AK16))/LOG(2))))","v":0},null,{"$f":"N16","v":2112},{"$f":"COUNTIF(L36:L42,AN16)","v":0},{"$f":"AO16/(AQ4-AO20)","v":0},{"$f":"IF(AP16=0,0,(AP16*((LOG(AP16))/LOG(2))))","v":0},null,{"$f":"N16","v":2112},{"$f":"COUNTIF(L43:L49,AS16)","v":0},{"$f":"AT16/(AV4-AT20)","v":0},{"$f":"IF(AU16=0,0,(AU16*((LOG(AU16))/LOG(2))))","v":0}]
[12,1174,14,1176,24,1190,23,1193,null,null,0,1122,null,2121,{"$f":"COUNTIF($L$7:$L$500,N17)","v":0},{"$f":"O17/$Q$4","v":0},{"$f":"IF(P17=0,0,(P17*((LOG(P17))/LOG(2))))","v":0},null,null,{"$f":"N17","v":2121},{"$f":"COUNTIF(L7:L13,T17)","v":0},{"$f":"U17/(W4-U20)","v":0},{"$f":"IF(V17=0,0,(V17*((LOG(V17))/LOG(2))))","v":0},null,{"$f":"N17","v":2121},{"$f":"COUNTIF(L14:L20,Y17)","v":0},{"$f":"Z17/(AB4-Z20)","v":0},{"$f":"IF(AA17=0,0,(AA17*((LOG(AA17))/LOG(2))))","v":0},null,{"$f":"N17","v":2121},{"$f":"COUNTIF(L21:L28,AD17)","v":0},{"$f":"AE17/(AG4-AE20)","v":0},{"$f":"IF(AF17=0,0,(AF17*((LOG(AF17))/LOG(2))))","v":0},null,{"$f":"N17","v":2121},{"$f":"COUNTIF(L29:L35,AI17)","v":0},{"$f":"AJ17/(AL4-AJ20)","v":0},{"$f":"IF(AK17=0,0,(AK17*((LOG(AK17))/LOG(2))))","v":0},null,{"$f":"N17","v":2121},{"$f":"COUNTIF(L36:L42,AN17)","v":0},{"$f":"AO17/(AQ4-AO20)","v":0},{"$f":"IF(AP17=0,0,(AP17*((LOG(AP17))/LOG(2))))","v":0},null,{"$f":"N17","v":2121},{"$f":"COUNTIF(L43:L49,AS17)","v":0},{"$f":"AT17/(AV4-AT20)","v":0},{"$f":"IF(AU17=0,0,(AU17*((LOG(AU17))/LOG(2))))","v":0}]
[12,1285,14,1294,13,1297,14,1302,null,null,0,1111,null,2122,{"$f":"COUNTIF($L$7:$L$500,N18)","v":0},{"$f":"O18/$Q$4","v":0},{"$f":"IF(P18=0,0,(P18*((LOG(P18))/LOG(2))))","v":0},null,null,{"$f":"N18","v":2122},{"$f":"COUNTIF(L7:L13,T18)","v":0},{"$f":"U18/(W4-U20)","v":0},{"$f":"IF(V18=0,0,(V18*((LOG(V18))/LOG(2))))","v":0},null,{"$f":"N18","v":2122},{"$f":"COUNTIF(L14:L20,Y18)","v":0},{"$f":"Z18/(AB4-Z20)","v":0},{"$f":"IF(AA18=0,0,(AA18*((LOG(AA18))/LOG(2))))","v":0},null,{"$f":"N18","v":2122},{"$f":"COUNTIF(L21:L28,AD18)","v":0},{"$f":"AE18/(AG4-AE20)","v":0},{"$f":"IF(AF18=0,0,(AF18*((LOG(AF18))/LOG(2))))","v":0},null,{"$f":"N18","v":2122},{"$f":"COUNTIF(L29:L35,AI18)","v":0},{"$f":"AJ18/(AL4-AJ20)","v":0},{"$f":"IF(AK18=0,0,(AK18*((LOG(AK18))/LOG(2))))","v":0},null,{"$f":"N18","v":2122},{"$f":"COUNTIF(L36:L42,AN18)","v":0},{"$f":"AO18/(AQ4-AO20)","v":0},{"$f":"IF(AP18=0,0,(AP18*((LOG(AP18))/LOG(2))))","v":0},null,{"$f":"N18","v":2122},{"$f":"COUNTIF(L43:L49,AS18)","v":0},{"$f":"AT18/(AV4-AT20)","v":0},{"$f":"IF(AU18=0,0,(AU18*((LOG(AU18))/LOG(2))))","v":0}]
[12,1401,14,1405,24,1414,23,1427,null,null,0,1122,null,2211,{"$f":"COUNTIF($L$7:$L$500,N19)","v":1},{"$f":"O19/$Q$4","v":2.3255813953488372E-2},{"$f":"IF(P19=0,0,(P19*((LOG(P19))/LOG(2))))","v":-0.12619220359772321},null,null,{"$f":"N19","v":2211},{"$f":"COUNTIF(L7:L13,T19)","v":0},{"$f":"U19/(W4-U20)","v":0},{"$f":"IF(V19=0,0,(V19*((LOG(V19))/LOG(2))))","v":0},null,{"$f":"N19","v":2211},{"$f":"COUNTIF(L14:L20,Y19)","v":0},{"$f":"Z19/(AB4-Z20)","v":0},{"$f":"IF(AA19=0,0,(AA19*((LOG(AA19))/LOG(2))))","v":0},null,{"$f":"N19","v":2211},{"$f":"COUNTIF(L21:L28,AD19)","v":0},{"$f":"AE19/(AG4-AE20)","v":0},{"$f":"IF(AF19=0,0,(AF19*((LOG(AF19))/LOG(2))))","v":0},null,{"$f":"N19","v":2211},{"$f":"COUNTIF(L29:L35,AI19)","v":0},{"$f":"AJ19/(AL4-AJ20)","v":0},{"$f":"IF(AK19=0,0,(AK19*((LOG(AK19))/LOG(2))))","v":0},null,{"$f":"N19","v":2211},{"$f":"COUNTIF(L36:L42,AN19)","v":1},{"$f":"AO19/(AQ4-AO20)","v":0.14285714285714285},{"$f":"IF(AP19=0,0,(AP19*((LOG(AP19))/LOG(2))))","v":-0.40105070315108626},null,{"$f":"N19","v":2211},{"$f":"COUNTIF(L43:L49,AS19)","v":0},{"$f":"AT19/(AV4-AT20)","v":0},{"$f":"IF(AU19=0,0,(AU19*((LOG(AU19))/LOG(2))))","v":0}]
[12,1525,14,1528,13,1539,23,1551,null,null,0,1112,null,2212,{"$f":"COUNTIF($L$7:$L$500,N20)","v":0},{"$f":"O20/$Q$4","v":0},{"$f":"IF(P20=0,0,(P20*((LOG(P20))/LOG(2))))","v":0},null,null,{"$f":"N20","v":2212},{"$f":"COUNTIF(L7:L13,T20)","v":0},null,null,null,{"$f":"N20","v":2212},{"$f":"COUNTIF(L14:L20,Y20)","v":0},null,null,null,{"$f":"N20","v":2212},{"$f":"COUNTIF(L21:L28,AD20)","v":0},null,null,null,{"$f":"N20","v":2212},{"$f":"COUNTIF(L29:L35,AI20)","v":0},null,null,null,{"$f":"N20","v":2212},{"$f":"COUNTIF(L36:L42,AN20)","v":0},null,null,null,{"$f":"N20","v":2212},{"$f":"COUNTIF(L43:L49,AS20)","v":0}]
[12,1656,14,1660,13,1672,14,1677,null,null,0,1111,null,2221,{"$f":"COUNTIF($L$7:$L$500,N21)","v":1},{"$f":"O21/$Q$4","v":2.3255813953488372E-2},{"$f":"IF(P21=0,0,(P21*((LOG(P21))/LOG(2))))","v":-0.12619220359772321},null,null,{"$f":"N21","v":2221},{"$f":"COUNTIF(L7:L13,T21)","v":0},{"$f":"U21/(W4-U20)","v":0},{"$f":"IF(V21=0,0,(V21*((LOG(V21))/LOG(2))))","v":0},null,{"$f":"N21","v":2221},{"$f":"COUNTIF(L14:L20,Y21)","v":0},{"$f":"Z21/(AB4-Z20)","v":0},{"$f":"IF(AA21=0,0,(AA21*((LOG(AA21))/LOG(2))))","v":0},null,{"$f":"N21","v":2221},{"$f":"COUNTIF(L21:L28,AD21)","v":0},{"$f":"AE21/(AG4-AE20)","v":0},{"$f":"IF(AF21=0,0,(AF21*((LOG(AF21))/LOG(2))))","v":0},null,{"$f":"N21","v":2221},{"$f":"COUNTIF(L29:L35,AI21)","v":0},{"$f":"AJ21/(AL4-AJ20)","v":0},{"$f":"IF(AK21=0,0,(AK21*((LOG(AK21))/LOG(2))))","v":0},null,{"$f":"N21","v":2221},{"$f":"COUNTIF(L36:L42,AN21)","v":1},{"$f":"AO21/(AQ4-AO20)","v":0.14285714285714285},{"$f":"IF(AP21=0,0,(AP21*((LOG(AP21))/LOG(2))))","v":-0.40105070315108626},null,{"$f":"N21","v":2221},{"$f":"COUNTIF(L43:L49,AS21)","v":0},{"$f":"AT21/(AV4-AT20)","v":0},{"$f":"IF(AU21=0,0,(AU21*((LOG(AU21))/LOG(2))))","v":0}]
[12,1775,14,1778,13,1781,14,1796,null,null,0,1111,null,2222,{"$f":"COUNTIF($L$7:$L$500,N22)","v":2},{"$f":"O22/$Q$4","v":4.6511627906976744E-2},{"$f":"IF(P22=0,0,(P22*((LOG(P22))/LOG(2))))","v":-0.20587277928846967},null,null,{"$f":"N22","v":2222},{"$f":"COUNTIF(L7:L13,T22)","v":1},{"$f":"U22/(W4-U20)","v":0.14285714285714285},{"$f":"IF(V22=0,0,(V22*((LOG(V22))/LOG(2))))","v":-0.40105070315108626},null,{"$f":"N22","v":2222},{"$f":"COUNTIF(L14:L20,Y22)","v":0},{"$f":"Z22/(AB4-Z20)","v":0},{"$f":"IF(AA22=0,0,(AA22*((LOG(AA22))/LOG(2))))","v":0},null,{"$f":"N22","v":2222},{"$f":"COUNTIF(L21:L28,AD22)","v":0},{"$f":"AE22/(AG4-AE20)","v":0},{"$f":"IF(AF22=0,0,(AF22*((LOG(AF22))/LOG(2))))","v":0},null,{"$f":"N22","v":2222},{"$f":"COUNTIF(L29:L35,AI22)","v":1},{"$f":"AJ22/(AL4-AJ20)","v":0.14285714285714285},{"$f":"IF(AK22=0,0,(AK22*((LOG(AK22))/LOG(2))))","v":-0.40105070315108626},null,{"$f":"N22","v":2222},{"$f":"COUNTIF(L36:L42,AN22)","v":0},{"$f":"AO22/(AQ4-AO20)","v":0},{"$f":"IF(AP22=0,0,(AP22*((LOG(AP22))/LOG(2))))","v":0},null,{"$f":"N22","v":2222},{"$f":"COUNTIF(L43:L49,AS22)","v":0},{"$f":"AT22/(AV4-AT20)","v":0},{"$f":"IF(AU22=0,0,(AU22*((LOG(AU22))/LOG(2))))","v":0}]
[12,1923,23,1932,24,1935,23,1939,null,null,0,1222,null,null,null,{"$f":"SUM(P7:P22)","v":1.0000000000000002},{"$f":"-SUM(Q7:Q22)","v":2.7815490706813644},null,null,null,null,{"$f":"SUM(V7:V22)","v":0.99999999999999978},{"$f":"-SUM(W7:W22)","v":2.1280852788913944},null,null,null,{"$f":"SUM(AA7:AA22)","v":1},{"$f":"-SUM(AB7:AB22)","v":1.1488348542809166},null,null,null,{"$f":"SUM(AF7:AF22)","v":1},{"$f":"-SUM(AG7:AG22)","v":2.1556390622295662},null,null,null,{"$f":"SUM(AK7:AK22)","v":0.99999999999999978},{"$f":"-SUM(AL7:AL22)","v":2.2359263506290326},null,null,null,{"$f":"SUM(AP7:AP22)","v":0.99999999999999978},{"$f":"-SUM(AQ7:AQ22)","v":2.5216406363433186},null,null,null,{"$f":"SUM(AU7:AU22)","v":0.99999999999999989},{"$f":"-SUM(AV7:AV22)","v":2.2359263506290326}]
[12,2040,14,2043,24,2055,23,2058,null,null,0,1122,null,null,null,"U=",{"$f":"Q23/(LOG(Q4)/LOG(2))","v":0.51260843258173672},null,null,null,null,"U1=",{"$f":"W23/(LOG(W4)/LOG(2))","v":0.75803927111989444},null,null,null,"U2=",{"$f":"AB23/(LOG(AB4)/LOG(2))","v":0.40922323189505982},null,null,null,"U3=",{"$f":"AG23/(LOG(AG4)/LOG(2))","v":0.71854635407652212},null,null,null,"U4=",{"$f":"AL23/(LOG(AL4)/LOG(2))","v":0.79645303593827299},null,null,null,"U5=",{"$f":"AQ23/(LOG(AQ4)/LOG(2))","v":0.89822651796913655},null,null,null,"U6=",{"$f":"AV23/(LOG(AV4)/LOG(2))","v":0.79645303593827299}]
[12,2153,14,2156,13,2159,14,2177,null,null,0,1111]
[12,2337,14,2346,13,2350,23,2365,null,null,0,1112]
[12,2480,14,2490,13,2496,23,2511,null,null,0,1112,null,"Total Target Seq"]
[21,2643,12,2665,13,2670,14,2676,null,null,0,2111,null,{"$f":"COUNTIF(L7:L49,G3)","v":0},null,7,7,8,7,7,7]
[21,2774,12,2781,13,2786,14,2791,null,null,0,2111,null,null,null,"% of reinforcement given in 6 equal intervals based on number of trials "]
[12,2887,14,2931,24,2941,23,2949,null,null,0,1122,null,null,null,"%_1","%_2","%_3","%_4","%_5","%_6"]
[12,3101,14,3110,13,3116,14,3123,null,null,0,1111,null,null,"target sequence",{"$f":"$G$3","v":2212},{"$f":"$G$3","v":2212},{"$f":"$G$3","v":2212},{"$f":"$G$3","v":2212},{"$f":"$G$3","v":2212},{"$f":"$G$3","v":2212}]
[12,3357,14,3363,24,3375,23,3384,null,null,0,1122,null,null,"total reinforcement",{"$f":"U20","v":0},{"$f":"Z20","v":0},{"$f":"AE20","v":0},{"$f":"AJ20","v":0},{"$f":"AO20","v":0},{"$f":"AT20","v":0}]
[12,3620,14,3628,13,3633,14,3641,null,null,0,1111,null,null,"% target"]
[21,3761,21,3771,22,3781,23,3786,null,null,0,2222,null,null,"CCRF"]
[12,3884,23,3894,24,3898,23,3903,null,null,0,1222,null,null,"% CCRf"]
[12,4073,23,4075,13,4082,14,4089,null,null,0,1211,null,null,"average response rate",{"$f":"H13/P28","v":104},{"$f":"(H20-H13)/Q28","v":117.57142857142857},{"$f":"(H28-H20)/R28","v":140.625},{"$f":"(H35-H28)/S28","v":175.28571428571428},{"$f":"(H42-H35)/T28","v":245.42857142857142},{"$f":"(H49-H42)/U28","v":2512.4285714285716}]
[21,4419,21,4424,11,4437,12,4444,null,null,0,2211]
[12,4674,14,4694,24,4697,14,4699,null,null,0,1121]
[12,4834,14,4844,24,4848,23,4864,null,null,0,1122]
[21,5255,21,5262,22,5269,14,5288,null,null,0,2221]
[12,5387,14,5390,24,5399,23,5403,null,null,0,1122]
[12,5600,23,5612,24,5615,23,5621,null,null,0,1222]
[12,6941,23,6951,24,9958,23,9961,null,null,0,1222]
[12,13680,14,13686,13,13691,14,13697,null,null,0,1111]
[12,13817,23,13831,24,13837,23,13842,null,null,0,1222]
[12,13940,14,13947,24,13962,23,13968,null,null,0,1122]
[12,22665,14,22669,13,22674,23,22684,null,null,0,1112]
[12,22793,23,22813,24,22823,14,22842,null,null,0,1221]
[12,23163,14,23184,24,23199,23,23208,null,null,0,1122]

{"sheet":"!M109B2T.ayl","index":6,"n_rows":36,"n_cols":48,"rows_kept":36,"cut":false,"hidden":false,"merged":[[4,39,4,42],[5,39,5,40],[4,44,4,47],[5,44,5,45],[4,24,4,27],[5,24,5,25],[4,29,4,32],[5,29,5,30],[4,34,4,37],[5,34,5,35],[1,1,1,2],[5,13,5,14],[26,13,26,14],[27,13,27,14],[4,19,4,22],[5,19,5,20]]}
["Report for:!M109B2T.ayl"]
["Date:","<date>"]
["Hen:","<hen>",null,null,null,"Correct Sequence",{"$f":"Start!J2","v":2212},null,null,null,null,null,null,null,null,"Total Sequences in Data",{"$f":"4994-COUNTBLANK(L7:L5000)","v":24},null,null,null,null,"Total Sequences in Block Data",{"$f":"COUNTA(L7:L10)","v":4},null,null,null,"Total Sequences in Block Data",{"$f":"COUNTA(L11:L14)","v":4},null,null,null,"Total Sequences in Block Data",{"$f":"COUNTA(L15:L18)","v":4},null,null,null,"Total Sequences in Block Data",{"$f":"COUNTA(L19:L22)","v":4},null,null,null,"Total Sequences in Block Data",{"$f":"COUNTA(L23:L26)","v":4},null,null,null,"Total Sequences in Block Data",{"$f":"COUNTA(L27:L30)","v":4}]
[null,null,null,null,null,null,null,null,null,null,null,null,null,null,null,"Total Sequences in Summary",{"$f":"SUM(O7:O22)","v":24},null,null,null,null,"Total Sequences in Block Summary",{"$f":"SUM(U7:U22)","v":4},null,null,null,"Total Sequences in Block Summary",{"$f":"SUM(Z7:Z22)","v":4},null,null,null,"Total Sequences in Block Summary",{"$f":"SUM(AE7:AE22)","v":4},null,null,null,"Total Sequences in Block Summary",{"$f":"SUM(AJ7:AJ22)","v":4},null,null,null,"Total Sequences in Block Summary",{"$f":"SUM(AO7:AO22)","v":4},null,null,null,"Total Sequences in Block Summary",{"$f":"SUM(AT7:AT22)","v":4}]
[null,null,null,null,null,null,null,null,null,null,null,null,null,null,null,null,null,null,null,"Block 1",null,null,null,null,"Block 2",null,null,null,null,"Block 3",null,null,null,null,"Block 4",null,null,null,null,"Block 5",null,null,null,null,"Block 6"]
["Sequence\nComponent\n1","Time\n1","Sequence\nComponent\n2","Time\n2","Sequence\nComponent\n3","Time\n3","Sequence\nComponent\n4","Time\n4","Sequence\nComponent\n5","Time\n5","Correct?\n0=No 1=Yes","Sequence",null,"Frequency",null,"Relative Frequency","Variability",null,null,"Frequency",null,"Relative Frequency","Variability",null,"Frequency",null,"Relative Frequency","Variability",null,"Frequency",null,"Relative Frequency","Variability",null,"Frequency",null,"Relative Frequency","Variability",null,"Frequency",null,"Relative Frequency","Variability",null,"Frequency",null,"Relative Frequency","Variability"]
[12,5,23,17,24,20,23,26,null,null,0,1222,null,1111,{"$f":"COUNTIF($L$7:$L$500,N7)","v":2},{"$f":"O7/$Q$4","v":8.3333333333333329E-2},{"$f":"IF(P7=0,0,(P7*((LOG(P7))/LOG(2))))","v":-0.29874687506009634},null,null,{"$f":"N7","v":1111},{"$f":"COUNTIF(L7:L10,T7)","v":0},{"$f":"U7/(W4-U20)","v":0},{"$f":"IF(V7=0,0,(V7*((LOG(V7))/LOG(2))))","v":0},null,{"$f":"N7","v":1111},{"$f":"COUNTIF(L11:L14,Y7)","v":0},{"$f":"Z7/(AB4-Z20)","v":0},{"$f":"IF(AA7=0,0,(AA7*((LOG(AA7))/LOG(2))))","v":0},null,{"$f":"N7","v":1111},{"$f":"COUNTIF(L15:L18,AD7)","v":0},{"$f":"AE7/(AG4-AE20)","v":0},{"$f":"IF(AF7=0,0,(AF7*((LOG(AF7))/LOG(2))))","v":0},null,{"$f":"N7","v":1111},{"$f":"COUNTIF(L19:L22,AI7)","v":1},{"$f":"AJ7/(AL4-AJ20)","v":0.25},{"$f":"IF(AK7=0,0,(AK7*((LOG(AK7))/LOG(2))))","v":-0.5},null,{"$f":"N7","v":1111},{"$f":"COUNTIF(L23:L26,AN7)","v":1},{"$f":"AO7/(AQ4-AO20)","v":0.25},{"$f":"IF(AP7=0,0,(AP7*((LOG(AP7))/LOG(2))))","v":-0.5},null,{"$f":"N7","v":1111},{"$f":"COUNTIF(L27:L30,AS7)","v":0},{"$f":"AT7/(AV4-AT20)","v":0},{"$f":"IF(AU7=0,0,(AU7*((LOG(AU7))/LOG(2))))","v":0}]
[12,123,14,124,13,130,23,142,null,null,0,1112,null,1112,{"$f":"COUNTIF($L$7:$L$500,N8)","v":7},{"$f":"O8/$Q$4","v":0.29166666666666669},{"$f":"IF(P8=0,0,(P8*((LOG(P8))/LOG(2))))","v":-0.51846887711020273},null,null,{"$f":"N8","v":1112},{"$f":"COUNTIF(L7:L10,T8)","v":1},{"$f":"U8/(W4-U20)","v":0.25},{"$f":"IF(V8=0,0,(V8*((LOG(V8))/LOG(2))))","v":-0.5},null,{"$f":"N8","v":1112},{"$f":"COUNTIF(L11:L14,Y8)","v":2},{"$f":"Z8/(AB4-Z20)","v":0.5},{"$f":"IF(AA8=0,0,(AA8*((LOG(AA8))/LOG(2))))","v":-0.5},null,{"$f":"N8","v":1112},{"$f":"COUNTIF(L15:L18,AD8)","v":3},{"$f":"AE8/(AG4-AE20)","v":0.75},{"$f":"IF(AF8=0,0,(AF8*((LOG(AF8))/LOG(2))))","v":-0.31127812445913283},null,{"$f":"N8","v":1112},{"$f":"COUNTIF(L19:L22,AI8)","v":1},{"$f":"AJ8/(AL4-AJ20)","v":0.25},{"$f":"IF(AK8=0,0,(AK8*((LOG(AK8))/LOG(2))))","v":-0.5},null,{"$f":"N8","v":1112},{"$f":"COUNTIF(L23:L26,AN8)","v":0},{"$f":"AO8/(AQ4-AO20)","v":0},{"$f":"IF(AP8=0,0,(AP8*((LOG(AP8))/LOG(2))))","v":0},null,{"$f":"N8","v":1112},{"$f":"COUNTIF(L27:L30,AS8)","v":0},{"$f":"AT8/(AV4-AT20)","v":0},{"$f":"IF(AU8=0,0,(AU8*((LOG(AU8))/LOG(2))))","v":0}]
[12,240,14,243,24,254,23,261,null,null,0,1122,null,1121,{"$f":"COUNTIF($L$7:$L$500,N9)","v":0},{"$f":"O9/$Q$4","v":0},{"$f":"IF(P9=0,0,(P9*((LOG(P9))/LOG(2))))","v":0},null,null,{"$f":"N9","v":1121},{"$f":"COUNTIF(L7:L10,T9)","v":0},{"$f":"U9/(W4-U20)","v":0},{"$f":"IF(V9=0,0,(V9*((LOG(V9))/LOG(2))))","v":0},null,{"$f":"N9","v":1121},{"$f":"COUNTIF(L11:L14,Y9)","v":0},{"$f":"Z9/(AB4-Z20)","v":0},{"$f":"IF(AA9=0,0,(AA9*((LOG(AA9))/LOG(2))))","v":0},null,{"$f":"N9","v":1121},{"$f":"COUNTIF(L15:L18,AD9)","v":0},{"$f":"AE9/(AG4-AE20)","v":0},{"$f":"IF(AF9=0,0,(AF9*((LOG(AF9))/LOG(2))))","v":0},null,{"$f":"N9","v":1121},{"$f":"COUNTIF(L19:L22,AI9)","v":0},{"$f":"AJ9/(AL4-AJ20)","v":0},{"$f":"IF(AK9=0,0,(AK9*((LOG(AK9))/LOG(2))))","v":0},null,{"$f":"N9","v":1121},{"$f":"COUNTIF(L23:L26,AN9)","v":0},{"$f":"AO9/(AQ4-AO20)","v":0},{"$f":"IF(AP9=0,0,(AP9*((LOG(AP9))/LOG(2))))","v":0},null,{"$f":"N9","v":1121},{"$f":"COUNTIF(L27:L30,AS9)","v":0},{"$f":"AT9/(AV4-AT20)","v":0},{"$f":"IF(AU9=0,0,(AU9*((LOG(AU9))/LOG(2))))","v":0}]
[12,369,23,380,24,385,23,392,null,null,0,1222,null,1122,{"$f":"COUNTIF($L$7:$L$500,N10)","v":5},{"$f":"O10/$Q$4","v":0.20833333333333334},{"$f":"IF(P10=0,0,(P10*((LOG(P10))/LOG(2))))","v":-0.47146550121537367},null,null,{"$f":"N10","v":1122},{"$f":"COUNTIF(L7:L10,T10)","v":1},{"$f":"U10/(W4-U20)","v":0.25},{"$f":"IF(V10=0,0,(V10*((LOG(V10))/LOG(2))))","v":-0.5},null,{"$f":"N10","v":1122},{"$f":"COUNTIF(L11:L14,Y10)","v":2},{"$f":"Z10/(AB4-Z20)","v":0.5},{"$f":"IF(AA10=0,0,(AA10*((LOG(AA10))/LOG(2))))","v":-0.5},null,{"$f":"N10","v":1122},{"$f":"COUNTIF(L15:L18,AD10)","v":0},{"$f":"AE10/(AG4-AE20)","v":0},{"$f":"IF(AF10=0,0,(AF10*((LOG(AF10))/LOG(2))))","v":0},null,{"$f":"N10","v":1122},{"$f":"COUNTIF(L19:L22,AI10)","v":1},{"$f":"AJ10/(AL4-AJ20)","v":0.25},{"$f":"IF(AK10=0,0,(AK10*((LOG(AK10))/LOG(2))))","v":-0.5},null,{"$f":"N10","v":1122},{"$f":"COUNTIF(L23:L26,AN10)","v":0},{"$f":"AO10/(AQ4-AO20)","v":0},{"$f":"IF(AP10=0,0,(AP10*((LOG(AP10))/LOG(2))))","v":0},null,{"$f":"N10","v":1122},{"$f":"COUNTIF(L27:L30,AS10)","v":1},{"$f":"AT10/(AV4-AT20)","v":0.25},{"$f":"IF(AU10=0,0,(AU10*((LOG(AU10))/LOG(2))))","v":-0.5}]
[12,492,14,503,24,516,23,517,null,null,0,1122,null,1211,{"$f":"COUNTIF($L$7:$L$500,N11)","v":0},{"$f":"O11/$Q$4","v":0},{"$f":"IF(P11=0,0,(P11*((LOG(P11))/LOG(2))))","v":0},null,null,{"$f":"N11","v":1211},{"$f":"COUNTIF(L7:L10,T11)","v":0},{"$f":"U11/(W4-U20)","v":0},{"$f":"IF(V11=0,0,(V11*((LOG(V11))/LOG(2))))","v":0},null,{"$f":"N11","v":1211},{"$f":"COUNTIF(L11:L14,Y11)","v":0},{"$f":"Z11/(AB4-Z20)","v":0},{"$f":"IF(AA11=0,0,(AA11*((LOG(AA11))/LOG(2))))","v":0},null,{"$f":"N11","v":1211},{"$f":"COUNTIF(L15:L18,AD11)","v":0},{"$f":"AE11/(AG4-AE20)","v":0},{"$f":"IF(AF11=0,0,(AF11*((LOG(AF11))/LOG(2))))","v":0},null,{"$f":"N11","v":1211},{"$f":"COUNTIF(L19:L22,AI11)","v":0},{"$f":"AJ11/(AL4-AJ20)","v":0},{"$f":"IF(AK11=0,0,(AK11*((LOG(AK11))/LOG(2))))","v":0},null,{"$f":"N11","v":1211},{"$f":"COUNTIF(L23:L26,AN11)","v":0},{"$f":"AO11/(AQ4-AO20)","v":0},{"$f":"IF(AP11=0,0,(AP11*((LOG(AP11))/LOG(2))))","v":0},null,{"$f":"N11","v":1211},{"$f":"COUNTIF(L27:L30,AS11)","v":0},{"$f":"AT11/(AV4-AT20)","v":0},{"$f":"IF(AU11=0,0,(AU11*((LOG(AU11))/LOG(2))))","v":0}]
[12,609,14,612,13,616,23,627,null,null,0,1112,null,1212,{"$f":"COUNTIF($L$7:$L$500,N12)","v":0},{"$f":"O12/$Q$4","v":0},{"$f":"IF(P12=0,0,(P12*((LOG(P12))/LOG(2))))","v":0},null,null,{"$f":"N12","v":1212},{"$f":"COUNTIF(L7:L10,T12)","v":0},{"$f":"U12/(W4-U20)","v":0},{"$f":"IF(V12=0,0,(V12*((LOG(V12))/LOG(2))))","v":0},null,{"$f":"N12","v":1212},{"$f":"COUNTIF(L11:L14,Y12)","v":0},{"$f":"Z12/(AB4-Z20)","v":0},{"$f":"IF(AA12=0,0,(AA12*((LOG(AA12))/LOG(2))))","v":0},null,{"$f":"N12","v":1212},{"$f":"COUNTIF(L15:L18,AD12)","v":0},{"$f":"AE12/(AG4-AE20)","v":0},{"$f":"IF(AF12=0,0,(AF12*((LOG(AF12))/LOG(2))))","v":0},null,{"$f":"N12","v":1212},{"$f":"COUNTIF(L19:L22,AI12)","v":0},{"$f":"AJ12/(AL4-AJ20)","v":0},{"$f":"IF(AK12=0,0,(AK12*((LOG(AK12))/LOG(2))))","v":0},null,{"$f":"N12","v":1212},{"$f":"COUNTIF(L23:L26,AN12)","v":0},{"$f":"AO12/(AQ4-AO20)","v":0},{"$f":"IF(AP12=0,0,(AP12*((LOG(AP12))/LOG(2))))","v":0},null,{"$f":"N12","v":1212},{"$f":"COUNTIF(L27:L30,AS12)","v":0},{"$f":"AT12/(AV4-AT20)","v":0},{"$f":"IF(AU12=0,0,(AU12*((LOG(AU12))/LOG(2))))","v":0}]
[12,726,14,729,13,735,23,753,null,null,0,1112,null,1221,{"$f":"COUNTIF($L$7:$L$500,N13)","v":0},{"$f":"O13/$Q$4","v":0},{"$f":"IF(P13=0,0,(P13*((LOG(P13))/LOG(2))))","v":0},null,null,{"$f":"N13","v":1221},{"$f":"COUNTIF(L7:L10,T13)","v":0},{"$f":"U13/(W4-U20)","v":0},{"$f":"IF(V13=0,0,(V13*((LOG(V13))/LOG(2))))","v":0},null,{"$f":"N13","v":1221},{"$f":"COUNTIF(L11:L14,Y13)","v":0},{"$f":"Z13/(AB4-Z20)","v":0},{"$f":"IF(AA13=0,0,(AA13*((LOG(AA13))/LOG(2))))","v":0},null,{"$f":"N13","v":1221},{"$f":"COUNTIF(L15:L18,AD13)","v":0},{"$f":"AE13/(AG4-AE20)","v":0},{"$f":"IF(AF13=0,0,(AF13*((LOG(AF13))/LOG(2))))","v":0},null,{"$f":"N13","v":1221},{"$f":"COUNTIF(L19:L22,AI13)","v":0},{"$f":"AJ13/(AL4-AJ20)","v":0},{"$f":"IF(AK13=0,0,(AK13*((LOG(AK13))/LOG(2))))","v":0},null,{"$f":"N13","v":1221},{"$f":"COUNTIF(L23:L26,AN13)","v":0},{"$f":"AO13/(AQ4-AO20)","v":0},{"$f":"IF(AP13=0,0,(AP13*((LOG(AP13))/LOG(2))))","v":0},null,{"$f":"N13","v":1221},{"$f":"COUNTIF(L27:L30,AS13)","v":0},{"$f":"AT13/(AV4-AT20)","v":0},{"$f":"IF(AU13=0,0,(AU13*((LOG(AU13))/LOG(2))))","v":0}]
[12,853,14,858,24,870,23,873,null,null,0,1122,null,1222,{"$f":"COUNTIF($L$7:$L$500,N14)","v":3},{"$f":"O14/$Q$4","v":0.125},{"$f":"IF(P14=0,0,(P14*((LOG(P14))/LOG(2))))","v":-0.375},null,null,{"$f":"N14","v":1222},{"$f":"COUNTIF(L7:L10,T14)","v":2},{"$f":"U14/(W4-U20)","v":0.5},{"$f":"IF(V14=0,0,(V14*((LOG(V14))/LOG(2))))","v":-0.5},null,{"$f":"N14","v":1222},{"$f":"COUNTIF(L11:L14,Y14)","v":0},{"$f":"Z14/(AB4-Z20)","v":0},{"$f":"IF(AA14=0,0,(AA14*((LOG(AA14))/LOG(2))))","v":0},null,{"$f":"N14","v":1222},{"$f":"COUNTIF(L15:L18,AD14)","v":0},{"$f":"AE14/(AG4-AE20)","v":0},{"$f":"IF(AF14=0,0,(AF14*((LOG(AF14))/LOG(2))))","v":0},null,{"$f":"N14","v":1222},{"$f":"COUNTIF(L19:L22,AI14)","v":1},{"$f":"AJ14/(AL4-AJ20)","v":0.25},{"$f":"IF(AK14=0,0,(AK14*((LOG(AK14))/LOG(2))))","v":-0.5},null,{"$f":"N14","v":1222},{"$f":"COUNTIF(L23:L26,AN14)","v":0},{"$f":"AO14/(AQ4-AO20)","v":0},{"$f":"IF(AP14=0,0,(AP14*((LOG(AP14))/LOG(2))))","v":0},null,{"$f":"N14","v":1222},{"$f":"COUNTIF(L27:L30,AS14)","v":0},{"$f":"AT14/(AV4-AT20)","v":0},{"$f":"IF(AU14=0,0,(AU14*((LOG(AU14))/LOG(2))))","v":0}]
[12,1014,14,1018,13,1023,23,1037,null,null,0,1112,null,2111,{"$f":"COUNTIF($L$7:$L$500,N15)","v":1},{"$f":"O15/$Q$4","v":4.1666666666666664E-2},{"$f":"IF(P15=0,0,(P15*((LOG(P15))/LOG(2))))","v":-0.19104010419671485},null,null,{"$f":"N15","v":2111},{"$f":"COUNTIF(L7:L10,T15)","v":0},{"$f":"U15/(W4-U20)","v":0},{"$f":"IF(V15=0,0,(V15*((LOG(V15))/LOG(2))))","v":0},null,{"$f":"N15","v":2111},{"$f":"COUNTIF(L11:L14,Y15)","v":0},{"$f":"Z15/(AB4-Z20)","v":0},{"$f":"IF(AA15=0,0,(AA15*((LOG(AA15))/LOG(2))))","v":0},null,{"$f":"N15","v":2111},{"$f":"COUNTIF(L15:L18,AD15)","v":1},{"$f":"AE15/(AG4-AE20)","v":0.25},{"$f":"IF(AF15=0,0,(AF15*((LOG(AF15))/LOG(2))))","v":-0.5},null,{"$f":"N15","v":2111},{"$f":"COUNTIF(L19:L22,AI15)","v":0},{"$f":"AJ15/(AL4-AJ20)","v":0},{"$f":"IF(AK15=0,0,(AK15*((LOG(AK15))/LOG(2))))","v":0},null,{"$f":"N15","v":2111},{"$f":"COUNTIF(L23:L26,AN15)","v":0},{"$f":"AO15/(AQ4-AO20)","v":0},{"$f":"IF(AP15=0,0,(AP15*((LOG(AP15))/LOG(2))))","v":0},null,{"$f":"N15","v":2111},{"$f":"COUNTIF(L27:L30,AS15)","v":0},{"$f":"AT15/(AV4-AT20)","v":0},{"$f":"IF(AU15=0,0,(AU15*((LOG(AU15))/LOG(2))))","v":0}]
[12,1200,14,1204,13,1207,23,1218,null,null,0,1112,null,2112,{"$f":"COUNTIF($L$7:$L$500,N16)","v":0},{"$f":"O16/$Q$4","v":0},{"$f":"IF(P16=0,0,(P16*((LOG(P16))/LOG(2))))","v":0},null,null,{"$f":"N16","v":2112},{"$f":"COUNTIF(L7:L10,T16)","v":0},{"$f":"U16/(W4-U20)","v":0},{"$f":"IF(V16=0,0,(V16*((LOG(V16))/LOG(2))))","v":0},null,{"$f":"N16","v":2112},{"$f":"COUNTIF(L11:L14,Y16)","v":0},{"$f":"Z16/(AB4-Z20)","v":0},{"$f":"IF(AA16=0,0,(AA16*((LOG(AA16))/LOG(2))))","v":0},null,{"$f":"N16","v":2112},{"$f":"COUNTIF(L15:L18,AD16)","v":0},{"$f":"AE16/(AG4-AE20)","v":0},{"$f":"IF(AF16=0,0,(AF16*((LOG(AF16))/LOG(2))))","v":0},null,{"$f":"N16","v":2112},{"$f":"COUNTIF(L19:L22,AI16)","v":0},{"$f":"AJ16/(AL4-AJ20)","v":0},{"$f":"IF(AK16=0,0,(AK16*((LOG(AK16))/LOG(2))))","v":0},null,{"$f":"N16","v":2112},{"$f":"COUNTIF(L23:L26,AN16)","v":0},{"$f":"AO16/(AQ4-AO20)","v":0},{"$f":"IF(AP16=0,0,(AP16*((LOG(AP16))/LOG(2))))","v":0},null,{"$f":"N16","v":2112},{"$f":"COUNTIF(L27:L30,AS16)","v":0},{"$f":"AT16/(AV4-AT20)","v":0},{"$f":"IF(AU16=0,0,(AU16*((LOG(AU16))/LOG(2))))","v":0}]
[12,1336,14,1341,13,1344,23,1356,null,null,0,1112,null,2121,{"$f":"COUNTIF($L$7:$L$500,N17)","v":0},{"$f":"O17/$Q$4","v":0},{"$f":"IF(P17=0,0,(P17*((LOG(P17))/LOG(2))))","v":0},null,null,{"$f":"N17","v":2121},{"$f":"COUNTIF(L7:L10,T17)","v":0},{"$f":"U17/(W4-U20)","v":0},{"$f":"IF(V17=0,0,(V17*((LOG(V17))/LOG(2))))","v":0},null,{"$f":"N17","v":2121},{"$f":"COUNTIF(L11:L14,Y17)","v":0},{"$f":"Z17/(AB4-Z20)","v":0},{"$f":"IF(AA17=0,0,(AA17*((LOG(AA17))/LOG(2))))","v":0},null,{"$f":"N17","v":2121},{"$f":"COUNTIF(L15:L18,AD17)","v":0},{"$f":"AE17/(AG4-AE20)","v":0},{"$f":"IF(AF17=0,0,(AF17*((LOG(AF17))/LOG(2))))","v":0},null,{"$f":"N17","v":2121},{"$f":"COUNTIF(L19:L22,AI17)","v":0},{"$f":"AJ17/(AL4-AJ20)","v":0},{"$f":"IF(AK17=0,0,(AK17*((LOG(AK17))/LOG(2))))","v":0},null,{"$f":"N17","v":2121},{"$f":"COUNTIF(L23:L26,AN17)","v":0},{"$f":"AO17/(AQ4-AO20)","v":0},{"$f":"IF(AP17=0,0,(AP17*((LOG(AP17))/LOG(2))))","v":0},null,{"$f":"N17","v":2121},{"$f":"COUNTIF(L27:L30,AS17)","v":0},{"$f":"AT17/(AV4-AT20)","v":0},{"$f":"IF(AU17=0,0,(AU17*((LOG(AU17))/LOG(2))))","v":0}]
[21,1502,12,1511,13,1519,14,1523,null,null,0,2111,null,2122,{"$f":"COUNTIF($L$7:$L$500,N18)","v":2},{"$f":"O18/$Q$4","v":8.3333333333333329E-2},{"$f":"IF(P18=0,0,(P18*((LOG(P18))/LOG(2))))","v":-0.29874687506009634},null,null,{"$f":"N18","v":2122},{"$f":"COUNTIF(L7:L10,T18)","v":0},{"$f":"U18/(W4-U20)","v":0},{"$f":"IF(V18=0,0,(V18*((LOG(V18))/LOG(2))))","v":0},null,{"$f":"N18","v":2122},{"$f":"COUNTIF(L11:L14,Y18)","v":0},{"$f":"Z18/(AB4-Z20)","v":0},{"$f":"IF(AA18=0,0,(AA18*((LOG(AA18))/LOG(2))))","v":0},null,{"$f":"N18","v":2122},{"$f":"COUNTIF(L15:L18,AD18)","v":0},{"$f":"AE18/(AG4-AE20)","v":0},{"$f":"IF(AF18=0,0,(AF18*((LOG(AF18))/LOG(2))))","v":0},null,{"$f":"N18","v":2122},{"$f":"COUNTIF(L19:L22,AI18)","v":0},{"$f":"AJ18/(AL4-AJ20)","v":0},{"$f":"IF(AK18=0,0,(AK18*((LOG(AK18))/LOG(2))))","v":0},null,{"$f":"N18","v":2122},{"$f":"COUNTIF(L23:L26,AN18)","v":1},{"$f":"AO18/(AQ4-AO20)","v":0.25},{"$f":"IF(AP18=0,0,(AP18*((LOG(AP18))/LOG(2))))","v":-0.5},null,{"$f":"N18","v":2122},{"$f":"COUNTIF(L27:L30,AS18)","v":1},{"$f":"AT18/(AV4-AT20)","v":0.25},{"$f":"IF(AU18=0,0,(AU18*((LOG(AU18))/LOG(2))))","v":-0.5}]
[12,1623,23,1636,24,1640,23,1647,null,null,0,1222,null,2211,{"$f":"COUNTIF($L$7:$L$500,N19)","v":2},{"$f":"O19/$Q$4","v":8.3333333333333329E-2},{"$f":"IF(P19=0,0,(P19*((LOG(P19))/LOG(2))))","v":-0.29874687506009634},null,null,{"$f":"N19","v":2211},{"$f":"COUNTIF(L7:L10,T19)","v":0},{"$f":"U19/(W4-U20)","v":0},{"$f":"IF(V19=0,0,(V19*((LOG(V19))/LOG(2))))","v":0},null,{"$f":"N19","v":2211},{"$f":"COUNTIF(L11:L14,Y19)","v":0},{"$f":"Z19/(AB4-Z20)","v":0},{"$f":"IF(AA19=0,0,(AA19*((LOG(AA19))/LOG(2))))","v":0},null,{"$f":"N19","v":2211},{"$f":"COUNTIF(L15:L18,AD19)","v":0},{"$f":"AE19/(AG4-AE20)","v":0},{"$f":"IF(AF19=0,0,(AF19*((LOG(AF19))/LOG(2))))","v":0},null,{"$f":"N19","v":2211},{"$f":"COUNTIF(L19:L22,AI19)","v":0},{"$f":"AJ19/(AL4-AJ20)","v":0},{"$f":"IF(AK19=0,0,(AK19*((LOG(AK19))/LOG(2))))","v":0},null,{"$f":"N19","v":2211},{"$f":"COUNTIF(L23:L26,AN19)","v":1},{"$f":"AO19/(AQ4-AO20)","v":0.25},{"$f":"IF(AP19=0,0,(AP19*((LOG(AP19))/LOG(2))))","v":-0.5},null,{"$f":"N19","v":2211},{"$f":"COUNTIF(L27:L30,AS19)","v":1},{"$f":"AT19/(AV4-AT20)","v":0.25},{"$f":"IF(AU19=0,0,(AU19*((LOG(AU19))/LOG(2))))","v":-0.5}]
[12,1840,14,1843,13,1846,23,1859,null,null,0,1112,null,2212,{"$f":"COUNTIF($L$7:$L$500,N20)","v":0},{"$f":"O20/$Q$4","v":0},{"$f":"IF(P20=0,0,(P20*((LOG(P20))/LOG(2))))","v":0},null,null,{"$f":"N20","v":2212},{"$f":"COUNTIF(L7:L10,T20)","v":0},null,null,null,{"$f":"N20","v":2212},{"$f":"COUNTIF(L11:L14,Y20)","v":0},null,null,null,{"$f":"N20","v":2212},{"$f":"COUNTIF(L15:L18,AD20)","v":0},null,null,null,{"$f":"N20","v":2212},{"$f":"COUNTIF(L19:L22,AI20)","v":0},null,null,null,{"$f":"N20","v":2212},{"$f":"COUNTIF(L23:L26,AN20)","v":0},null,null,null,{"$f":"N20","v":2212},{"$f":"COUNTIF(L27:L30,AS20)","v":0}]
[12,1972,14,1988,13,1990,14,1996,null,null,0,1111,null,2221,{"$f":"COUNTIF($L$7:$L$500,N21)","v":1},{"$f":"O21/$Q$4","v":4.1666666666666664E-2},{"$f":"IF(P21=0,0,(P21*((LOG(P21))/LOG(2))))","v":-0.19104010419671485},null,null,{"$f":"N21","v":2221},{"$f":"COUNTIF(L7:L10,T21)","v":0},{"$f":"U21/(W4-U20)","v":0},{"$f":"IF(V21=0,0,(V21*((LOG(V21))/LOG(2))))","v":0},null,{"$f":"N21","v":2221},{"$f":"COUNTIF(L11:L14,Y21)","v":0},{"$f":"Z21/(AB4-Z20)","v":0},{"$f":"IF(AA21=0,0,(AA21*((LOG(AA21))/LOG(2))))","v":0},null,{"$f":"N21","v":2221},{"$f":"COUNTIF(L15:L18,AD21)","v":0},{"$f":"AE21/(AG4-AE20)","v":0},{"$f":"IF(AF21=0,0,(AF21*((LOG(AF21))/LOG(2))))","v":0},null,{"$f":"N21","v":2221},{"$f":"COUNTIF(L19:L22,AI21)","v":0},{"$f":"AJ21/(AL4-AJ20)","v":0},{"$f":"IF(AK21=0,0,(AK21*((LOG(AK21))/LOG(2))))","v":0},null,{"$f":"N21","v":2221},{"$f":"COUNTIF(L23:L26,AN21)","v":0},{"$f":"AO21/(AQ4-AO20)","v":0},{"$f":"IF(AP21=0,0,(AP21*((LOG(AP21))/LOG(2))))","v":0},null,{"$f":"N21","v":2221},{"$f":"COUNTIF(L27:L30,AS21)","v":1},{"$f":"AT21/(AV4-AT20)","v":0.25},{"$f":"IF(AU21=0,0,(AU21*((LOG(AU21))/LOG(2))))","v":-0.5}]
[12,2296,14,2299,24,2310,23,2316,null,null,0,1122,null,2222,{"$f":"COUNTIF($L$7:$L$500,N22)","v":1},{"$f":"O22/$Q$4","v":4.1666666666666664E-2},{"$f":"IF(P22=0,0,(P22*((LOG(P22))/LOG(2))))","v":-0.19104010419671485},null,null,{"$f":"N22","v":2222},{"$f":"COUNTIF(L7:L10,T22)","v":0},{"$f":"U22/(W4-U20)","v":0},{"$f":"IF(V22=0,0,(V22*((LOG(V22))/LOG(2))))","v":0},null,{"$f":"N22","v":2222},{"$f":"COUNTIF(L11:L14,Y22)","v":0},{"$f":"Z22/(AB4-Z20)","v":0},{"$f":"IF(AA22=0,0,(AA22*((LOG(AA22))/LOG(2))))","v":0},null,{"$f":"N22","v":2222},{"$f":"COUNTIF(L15:L18,AD22)","v":0},{"$f":"AE22/(AG4-AE20)","v":0},{"$f":"IF(AF22=0,0,(AF22*((LOG(AF22))/LOG(2))))","v":0},null,{"$f":"N22","v":2222},{"$f":"COUNTIF(L19:L22,AI22)","v":0},{"$f":"AJ22/(AL4-AJ20)","v":0},{"$f":"IF(AK22=0,0,(AK22*((LOG(AK22))/LOG(2))))","v":0},null,{"$f":"N22","v":2222},{"$f":"COUNTIF(L23:L26,AN22)","v":1},{"$f":"AO22/(AQ4-AO20)","v":0.25},{"$f":"IF(AP22=0,0,(AP22*((LOG(AP22))/LOG(2))))","v":-0.5},null,{"$f":"N22","v":2222},{"$f":"COUNTIF(L27:L30,AS22)","v":0},{"$f":"AT22/(AV4-AT20)","v":0},{"$f":"IF(AU22=0,0,(AU22*((LOG(AU22))/LOG(2))))","v":0}]
[12,2499,14,2505,13,2511,14,2518,null,null,0,1111,null,null,null,{"$f":"SUM(P7:P22)","v":1},{"$f":"-SUM(Q7:Q22)","v":2.8342953160960103},null,null,null,null,{"$f":"SUM(V7:V22)","v":1},{"$f":"-SUM(W7:W22)","v":1.5},null,null,null,{"$f":"SUM(AA7:AA22)","v":1},{"$f":"-SUM(AB7:AB22)","v":1},null,null,null,{"$f":"SUM(AF7:AF22)","v":1},{"$f":"-SUM(AG7:AG22)","v":0.81127812445913283},null,null,null,{"$f":"SUM(AK7:AK22)","v":1},{"$f":"-SUM(AL7:AL22)","v":2},null,null,null,{"$f":"SUM(AP7:AP22)","v":1},{"$f":"-SUM(AQ7:AQ22)","v":2},null,null,null,{"$f":"SUM(AU7:AU22)","v":1},{"$f":"-SUM(AV7:AV22)","v":2}]
[21,2617,21,2637,11,2658,12,2665,null,null,0,2211,null,null,null,"U=",{"$f":"Q23/(LOG(Q4)/LOG(2))","v":0.6181719731950287},null,null,null,null,"U1=",{"$f":"W23/(LOG(W4)/LOG(2))","v":0.75},null,null,null,"U2=",{"$f":"AB23/(LOG(AB4)/LOG(2))","v":0.5},null,null,null,"U3=",{"$f":"AG23/(LOG(AG4)/LOG(2))","v":0.40563906222956642},null,null,null,"U4=",{"$f":"AL23/(LOG(AL4)/LOG(2))","v":1},null,null,null,"U5=",{"$f":"AQ23/(LOG(AQ4)/LOG(2))","v":1},null,null,null,"U6=",{"$f":"AV23/(LOG(AV4)/LOG(2))","v":1}]
[21,3409,21,3430,22,3438,23,3444,null,null,0,2222]
[21,3794,12,3808,24,3828,23,3832,null,null,0,2122]
[21,5012,21,5036,22,5040,14,5052,null,null,0,2221,null,"Total Target Seq"]
[21,9901,21,15833,11,15847,12,15852,null,null,0,2211,null,{"$f":"COUNTIF(L7:L30,G3)","v":0},null,4,4,4,4,4,4]
[12,19094,14,19097,24,19111,23,19117,null,null,0,1122,null,null,null,"% of reinforcement given in 6 equal intervals based on number of trials "]
[21,22247,12,22255,24,22274,23,22279,null,null,0,2122,null,null,null,"%_1","%_2","%_3","%_4","%_5","%_6"]
[null,null,null,null,null,null,null,null,null,null,null,null,null,null,"target sequence",{"$f":"$G$3","v":2212},{"$f":"$G$3","v":2212},{"$f":"$G$3","v":2212},{"$f":"$G$3","v":2212},{"$f":"$G$3","v":2212},{"$f":"$G$3","v":2212}]
[null,null,null,null,null,null,null,null,null,null,null,null,null,null,"total reinforcement",{"$f":"U20","v":0},{"$f":"Z20","v":0},{"$f":"AE20","v":0},{"$f":"AJ20","v":0},{"$f":"AO20","v":0},{"$f":"AT20","v":0}]
[null,null,null,null,null,null,null,null,null,null,null,null,null,null,"% target"]
[null,null,null,null,null,null,null,null,null,null,null,null,null,null,"CCRF"]
[null,null,null,null,null,null,null,null,null,null,null,null,null,null,"% CCRf"]
[null,null,null,null,null,null,null,null,null,null,null,null,null,null,"average response rate",{"$f":"H10/P28","v":98},{"$f":"(H14-H10)/Q28","v":120.25},{"$f":"(H18-H14)/R28","v":162.5},{"$f":"(H22-H18)/S28","v":198.25},{"$f":"(H26-H22)/T28","v":379},{"$f":"(H30-H26)/U28","v":4611.75}]

{"sheet":"!M110A5T.ayl","index":7,"n_rows":36,"n_cols":48,"rows_kept":36,"cut":false,"hidden":false,"merged":[[4,39,4,42],[5,39,5,40],[4,44,4,47],[5,44,5,45],[4,24,4,27],[5,24,5,25],[4,29,4,32],[5,29,5,30],[4,34,4,37],[5,34,5,35],[1,1,1,2],[5,13,5,14],[26,13,26,14],[27,13,27,14],[4,19,4,22],[5,19,5,20]]}
["Report for:!M110A5T.ayl"]
["Date:","<date>"]
["Hen:","<hen>",null,null,null,"Correct Sequence",{"$f":"Start!J2","v":2212},null,null,null,null,null,null,null,null,"Total Sequences in Data",{"$f":"4994-COUNTBLANK(L7:L5000)","v":0},null,null,null,null,"Total Sequences in Block Data",{"$f":"COUNTA(L6:L7)","v":1},null,null,null,"Total Sequences in Block Data",{"$f":"COUNTA(L6:L7)","v":1},null,null,null,"Total Sequences in Block Data",{"$f":"COUNTA(L6:L7)","v":1},null,null,null,"Total Sequences in Block Data",{"$f":"COUNTA(L6:L7)","v":1},null,null,null,"Total Sequences in Block Data",{"$f":"COUNTA(L6:L7)","v":1},null,null,null,"Total Sequences in Block Data",{"$f":"COUNTA(L6:L7)","v":1}]
[null,null,null,null,null,null,null,null,null,null,null,null,null,null,null,"Total Sequences in Summary",{"$f":"SUM(O7:O22)","v":0},null,null,null,null,"Total Sequences in Block Summary",{"$f":"SUM(U7:U22)","v":0},null,null,null,"Total Sequences in Block Summary",{"$f":"SUM(Z7:Z22)","v":0},null,null,null,"Total Sequences in Block Summary",{"$f":"SUM(AE7:AE22)","v":0},null,null,null,"Total Sequences in Block Summary",{"$f":"SUM(AJ7:AJ22)","v":0},null,null,null,"Total Sequences in Block Summary",{"$f":"SUM(AO7:AO22)","v":0},null,null,null,"Total Sequences in Block Summary",{"$f":"SUM(AT7:AT22)","v":0}]
[null,null,null,null,null,null,null,null,null,null,null,null,null,null,null,null,null,null,null,"Block 1",null,null,null,null,"Block 2",null,null,null,null,"Block 3",null,null,null,null,"Block 4",null,null,null,null,"Block 5",null,null,null,null,"Block 6"]
["Sequence\nComponent\n1","Time\n1","Sequence\nComponent\n2","Time\n2","Sequence\nComponent\n3","Time\n3","Sequence\nComponent\n4","Time\n4","Sequence\nComponent\n5","Time\n5","Correct?\n0=No 1=Yes","Sequence",null,"Frequency",null,"Relative Frequency","Variability",null,null,"Frequency",null,"Relative Frequency","Variability",null,"Frequency",null,"Relative Frequency","Variability",null,"Frequency",null,"Relative Frequency","Variability",null,"Frequency",null,"Relative Frequency","Variability",null,"Frequency",null,"Relative Frequency","Variability",null,"Frequency",null,"Relative Frequency","Variability"]
[null,null,null,null,null,null,null,null,null,null,null,null,null,1111,{"$f":"COUNTIF($L$7:$L$500,N7)","v":0},{"$f":"O7/$Q$4","v":{"$error":"#DIV/0!"}},{"$f":"IF(P7=0,0,(P7*((LOG(P7))/LOG(2))))","v":{"$error":"#DIV/0!"}},null,null,{"$f":"N7","v":1111},{"$f":"COUNTIF(L6:L7,T7)","v":0},{"$f":"U7/(W4-U20)","v":{"$error":"#DIV/0!"}},{"$f":"IF(V7=0,0,(V7*((LOG(V7))/LOG(2))))","v":{"$error":"#DIV/0!"}},null,{"$f":"N7","v":1111},{"$f":"COUNTIF(L6:L7,Y7)","v":0},{"$f":"Z7/(AB4-Z20)","v":{"$error":"#DIV/0!"}},{"$f":"IF(AA7=0,0,(AA7*((LOG(AA7))/LOG(2))))","v":{"$error":"#DIV/0!"}},null,{"$f":"N7","v":1111},{"$f":"COUNTIF(L6:L7,AD7)","v":0},{"$f":"AE7/(AG4-AE20)","v":{"$error":"#DIV/0!"}},{"$f":"IF(AF7=0,0,(AF7*((LOG(AF7))/LOG(2))))","v":{"$error":"#DIV/0!"}},null,{"$f":"N7","v":1111},{"$f":"COUNTIF(L6:L7,AI7)","v":0},{"$f":"AJ7/(AL4-AJ20)","v":{"$error":"#DIV/0!"}},{"$f":"IF(AK7=0,0,(AK7*((LOG(AK7))/LOG(2))))","v":{"$error":"#DIV/0!"}},null,{"$f":"N7","v":1111},{"$f":"COUNTIF(L6:L7,AN7)","v":0},{"$f":"AO7/(AQ4-AO20)","v":{"$error":"#DIV/0!"}},{"$f":"IF(AP7=0,0,(AP7*((LOG(AP7))/LOG(2))))","v":{"$error":"#DIV/0!"}},null,{"$f":"N7","v":1111},{"$f":"COUNTIF(L6:L7,AS7)","v":0},{"$f":"AT7/(AV4-AT20)","v":{"$error":"#DIV/0!"}},{"$f":"IF(AU7=0,0,(AU7*((LOG(AU7))/LOG(2))))","v":{"$error":"#DIV/0!"}}]
[null,null,null,null,null,null,null,null,null,null,null,null,null,1112,{"$f":"COUNTIF($L$7:$L$500,N8)","v":0},{"$f":"O8/$Q$4","v":{"$error":"#DIV/0!"}},{"$f":"IF(P8=0,0,(P8*((LOG(P8))/LOG(2))))","v":{"$error":"#DIV/0!"}},null,null,{"$f":"N8","v":1112},{"$f":"COUNTIF(L6:L7,T8)","v":0},{"$f":"U8/(W4-U20)","v":{"$error":"#DIV/0!"}},{"$f":"IF(V8=0,0,(V8*((LOG(V8))/LOG(2))))","v":{"$error":"#DIV/0!"}},null,{"$f":"N8","v":1112},{"$f":"COUNTIF(L6:L7,Y8)","v":0},{"$f":"Z8/(AB4-Z20)","v":{"$error":"#DIV/0!"}},{"$f":"IF(AA8=0,0,(AA8*((LOG(AA8))/LOG(2))))","v":{"$error":"#DIV/0!"}},null,{"$f":"N8","v":1112},{"$f":"COUNTIF(L6:L7,AD8)","v":0},{"$f":"AE8/(AG4-AE20)","v":{"$error":"#DIV/0!"}},{"$f":"IF(AF8=0,0,(AF8*((LOG(AF8))/LOG(2))))","v":{"$error":"#DIV/0!"}},null,{"$f":"N8","v":1112},{"$f":"COUNTIF(L6:L7,AI8)","v":0},{"$f":"AJ8/(AL4-AJ20)","v":{"$error":"#DIV/0!"}},{"$f":"IF(AK8=0,0,(AK8*((LOG(AK8))/LOG(2))))","v":{"$error":"#DIV/0!"}},null,{"$f":"N8","v":1112},{"$f":"COUNTIF(L6:L7,AN8)","v":0},{"$f":"AO8/(AQ4-AO20)","v":{"$error":"#DIV/0!"}},{"$f":"IF(AP8=0,0,(AP8*((LOG(AP8))/LOG(2))))","v":{"$error":"#DIV/0!"}},null,{"$f":"N8","v":1112},{"$f":"COUNTIF(L6:L7,AS8)","v":0},{"$f":"AT8/(AV4-AT20)","v":{"$error":"#DIV/0!"}},{"$f":"IF(AU8=0,0,(AU8*((LOG(AU8))/LOG(2))))","v":{"$error":"#DIV/0!"}}]
[null,null,null,null,null,null,null,null,null,null,null,null,null,1121,{"$f":"COUNTIF($L$7:$L$500,N9)","v":0},{"$f":"O9/$Q$4","v":{"$error":"#DIV/0!"}},{"$f":"IF(P9=0,0,(P9*((LOG(P9))/LOG(2))))","v":{"$error":"#DIV/0!"}},null,null,{"$f":"N9","v":1121},{"$f":"COUNTIF(L6:L7,T9)","v":0},{"$f":"U9/(W4-U20)","v":{"$error":"#DIV/0!"}},{"$f":"IF(V9=0,0,(V9*((LOG(V9))/LOG(2))))","v":{"$error":"#DIV/0!"}},null,{"$f":"N9","v":1121},{"$f":"COUNTIF(L6:L7,Y9)","v":0},{"$f":"Z9/(AB4-Z20)","v":{"$error":"#DIV/0!"}},{"$f":"IF(AA9=0,0,(AA9*((LOG(AA9))/LOG(2))))","v":{"$error":"#DIV/0!"}},null,{"$f":"N9","v":1121},{"$f":"COUNTIF(L6:L7,AD9)","v":0},{"$f":"AE9/(AG4-AE20)","v":{"$error":"#DIV/0!"}},{"$f":"IF(AF9=0,0,(AF9*((LOG(AF9))/LOG(2))))","v":{"$error":"#DIV/0!"}},null,{"$f":"N9","v":1121},{"$f":"COUNTIF(L6:L7,AI9)","v":0},{"$f":"AJ9/(AL4-AJ20)","v":{"$error":"#DIV/0!"}},{"$f":"IF(AK9=0,0,(AK9*((LOG(AK9))/LOG(2))))","v":{"$error":"#DIV/0!"}},null,{"$f":"N9","v":1121},{"$f":"COUNTIF(L6:L7,AN9)","v":0},{"$f":"AO9/(AQ4-AO20)","v":{"$error":"#DIV/0!"}},{"$f":"IF(AP9=0,0,(AP9*((LOG(AP9))/LOG(2))))","v":{"$error":"#DIV/0!"}},null,{"$f":"N9","v":1121},{"$f":"COUNTIF(L6:L7,AS9)","v":0},{"$f":"AT9/(AV4-AT20)","v":{"$error":"#DIV/0!"}},{"$f":"IF(AU9=0,0,(AU9*((LOG(AU9))/LOG(2))))","v":{"$error":"#DIV/0!"}}]
[null,null,null,null,null,null,null,null,null,null,null,null,null,1122,{"$f":"COUNTIF($L$7:$L$500,N10)","v":0},{"$f":"O10/$Q$4","v":{"$error":"#DIV/0!"}},{"$f":"IF(P10=0,0,(P10*((LOG(P10))/LOG(2))))","v":{"$error":"#DIV/0!"}},null,null,{"$f":"N10","v":1122},{"$f":"COUNTIF(L6:L7,T10)","v":0},{"$f":"U10/(W4-U20)","v":{"$error":"#DIV/0!"}},{"$f":"IF(V10=0,0,(V10*((LOG(V10))/LOG(2))))","v":{"$error":"#DIV/0!"}},null,{"$f":"N10","v":1122},{"$f":"COUNTIF(L6:L7,Y10)","v":0},{"$f":"Z10/(AB4-Z20)","v":{"$error":"#DIV/0!"}},{"$f":"IF(AA10=0,0,(AA10*((LOG(AA10))/LOG(2))))","v":{"$error":"#DIV/0!"}},null,{"$f":"N10","v":1122},{"$f":"COUNTIF(L6:L7,AD10)","v":0},{"$f":"AE10/(AG4-AE20)","v":{"$error":"#DIV/0!"}},{"$f":"IF(AF10=0,0,(AF10*((LOG(AF10))/LOG(2))))","v":{"$error":"#DIV/0!"}},null,{"$f":"N10","v":1122},{"$f":"COUNTIF(L6:L7,AI10)","v":0},{"$f":"AJ10/(AL4-AJ20)","v":{"$error":"#DIV/0!"}},{"$f":"IF(AK10=0,0,(AK10*((LOG(AK10))/LOG(2))))","v":{"$error":"#DIV/0!"}},null,{"$f":"N10","v":1122},{"$f":"COUNTIF(L6:L7,AN10)","v":0},{"$f":"AO10/(AQ4-AO20)","v":{"$error":"#DIV/0!"}},{"$f":"IF(AP10=0,0,(AP10*((LOG(AP10))/LOG(2))))","v":{"$error":"#DIV/0!"}},null,{"$f":"N10","v":1122},{"$f":"COUNTIF(L6:L7,AS10)","v":0},{"$f":"AT10/(AV4-AT20)","v":{"$error":"#DIV/0!"}},{"$f":"IF(AU10=0,0,(AU10*((LOG(AU10))/LOG(2))))","v":{"$error":"#DIV/0!"}}]
[null,null,null,null,null,null,null,null,null,null,null,null,null,1211,{"$f":"COUNTIF($L$7:$L$500,N11)","v":0},{"$f":"O11/$Q$4","v":{"$error":"#DIV/0!"}},{"$f":"IF(P11=0,0,(P11*((LOG(P11))/LOG(2))))","v":{"$error":"#DIV/0!"}},null,null,{"$f":"N11","v":1211},{"$f":"COUNTIF(L6:L7,T11)","v":0},{"$f":"U11/(W4-U20)","v":{"$error":"#DIV/0!"}},{"$f":"IF(V11=0,0,(V11*((LOG(V11))/LOG(2))))","v":{"$error":"#DIV/0!"}},null,{"$f":"N11","v":1211},{"$f":"COUNTIF(L6:L7,Y11)","v":0},{"$f":"Z11/(AB4-Z20)","v":{"$error":"#DIV/0!"}},{"$f":"IF(AA11=0,0,(AA11*((LOG(AA11))/LOG(2))))","v":{"$error":"#DIV/0!"}},null,{"$f":"N11","v":1211},{"$f":"COUNTIF(L6:L7,AD11)","v":0},{"$f":"AE11/(AG4-AE20)","v":{"$error":"#DIV/0!"}},{"$f":"IF(AF11=0,0,(AF11*((LOG(AF11))/LOG(2))))","v":{"$error":"#DIV/0!"}},null,{"$f":"N11","v":1211},{"$f":"COUNTIF(L6:L7,AI11)","v":0},{"$f":"AJ11/(AL4-AJ20)","v":{"$error":"#DIV/0!"}},{"$f":"IF(AK11=0,0,(AK11*((LOG(AK11))/LOG(2))))","v":{"$error":"#DIV/0!"}},null,{"$f":"N11","v":1211},{"$f":"COUNTIF(L6:L7,AN11)","v":0},{"$f":"AO11/(AQ4-AO20)","v":{"$error":"#DIV/0!"}},{"$f":"IF(AP11=0,0,(AP11*((LOG(AP11))/LOG(2))))","v":{"$error":"#DIV/0!"}},null,{"$f":"N11","v":1211},{"$f":"COUNTIF(L6:L7,AS11)","v":0},{"$f":"AT11/(AV4-AT20)","v":{"$error":"#DIV/0!"}},{"$f":"IF(AU11=0,0,(AU11*((LOG(AU11))/LOG(2))))","v":{"$error":"#DIV/0!"}}]
[null,null,null,null,null,null,null,null,null,null,null,null,null,1212,{"$f":"COUNTIF($L$7:$L$500,N12)","v":0},{"$f":"O12/$Q$4","v":{"$error":"#DIV/0!"}},{"$f":"IF(P12=0,0,(P12*((LOG(P12))/LOG(2))))","v":{"$error":"#DIV/0!"}},null,null,{"$f":"N12","v":1212},{"$f":"COUNTIF(L6:L7,T12)","v":0},{"$f":"U12/(W4-U20)","v":{"$error":"#DIV/0!"}},{"$f":"IF(V12=0,0,(V12*((LOG(V12))/LOG(2))))","v":{"$error":"#DIV/0!"}},null,{"$f":"N12","v":1212},{"$f":"COUNTIF(L6:L7,Y12)","v":0},{"$f":"Z12/(AB4-Z20)","v":{"$error":"#DIV/0!"}},{"$f":"IF(AA12=0,0,(AA12*((LOG(AA12))/LOG(2))))","v":{"$error":"#DIV/0!"}},null,{"$f":"N12","v":1212},{"$f":"COUNTIF(L6:L7,AD12)","v":0},{"$f":"AE12/(AG4-AE20)","v":{"$error":"#DIV/0!"}},{"$f":"IF(AF12=0,0,(AF12*((LOG(AF12))/LOG(2))))","v":{"$error":"#DIV/0!"}},null,{"$f":"N12","v":1212},{"$f":"COUNTIF(L6:L7,AI12)","v":0},{"$f":"AJ12/(AL4-AJ20)","v":{"$error":"#DIV/0!"}},{"$f":"IF(AK12=0,0,(AK12*((LOG(AK12))/LOG(2))))","v":{"$error":"#DIV/0!"}},null,{"$f":"N12","v":1212},{"$f":"COUNTIF(L6:L7,AN12)","v":0},{"$f":"AO12/(AQ4-AO20)","v":{"$error":"#DIV/0!"}},{"$f":"IF(AP12=0,0,(AP12*((LOG(AP12))/LOG(2))))","v":{"$error":"#DIV/0!"}},null,{"$f":"N12","v":1212},{"$f":"COUNTIF(L6:L7,AS12)","v":0},{"$f":"AT12/(AV4-AT20)","v":{"$error":"#DIV/0!"}},{"$f":"IF(AU12=0,0,(AU12*((LOG(AU12))/LOG(2))))","v":{"$error":"#DIV/0!"}}]
[null,null,null,null,null,null,null,null,null,null,null,null,null,1221,{"$f":"COUNTIF($L$7:$L$500,N13)","v":0},{"$f":"O13/$Q$4","v":{"$error":"#DIV/0!"}},{"$f":"IF(P13=0,0,(P13*((LOG(P13))/LOG(2))))","v":{"$error":"#DIV/0!"}},null,null,{"$f":"N13","v":1221},{"$f":"COUNTIF(L6:L7,T13)","v":0},{"$f":"U13/(W4-U20)","v":{"$error":"#DIV/0!"}},{"$f":"IF(V13=0,0,(V13*((LOG(V13))/LOG(2))))","v":{"$error":"#DIV/0!"}},null,{"$f":"N13","v":1221},{"$f":"COUNTIF(L6:L7,Y13)","v":0},{"$f":"Z13/(AB4-Z20)","v":{"$error":"#DIV/0!"}},{"$f":"IF(AA13=0,0,(AA13*((LOG(AA13))/LOG(2))))","v":{"$error":"#DIV/0!"}},null,{"$f":"N13","v":1221},{"$f":"COUNTIF(L6:L7,AD13)","v":0},{"$f":"AE13/(AG4-AE20)","v":{"$error":"#DIV/0!"}},{"$f":"IF(AF13=0,0,(AF13*((LOG(AF13))/LOG(2))))","v":{"$error":"#DIV/0!"}},null,{"$f":"N13","v":1221},{"$f":"COUNTIF(L6:L7,AI13)","v":0},{"$f":"AJ13/(AL4-AJ20)","v":{"$error":"#DIV/0!"}},{"$f":"IF(AK13=0,0,(AK13*((LOG(AK13))/LOG(2))))","v":{"$error":"#DIV/0!"}},null,{"$f":"N13","v":1221},{"$f":"COUNTIF(L6:L7,AN13)","v":0},{"$f":"AO13/(AQ4-AO20)","v":{"$error":"#DIV/0!"}},{"$f":"IF(AP13=0,0,(AP13*((LOG(AP13))/LOG(2))))","v":{"$error":"#DIV/0!"}},null,{"$f":"N13","v":1221},{"$f":"COUNTIF(L6:L7,AS13)","v":0},{"$f":"AT13/(AV4-AT20)","v":{"$error":"#DIV/0!"}},{"$f":"IF(AU13=0,0,(AU13*((LOG(AU13))/LOG(2))))","v":{"$error":"#DIV/0!"}}]
[null,null,null,null,null,null,null,null,null,null,null,null,null,1222,{"$f":"COUNTIF($L$7:$L$500,N14)","v":0},{"$f":"O14/$Q$4","v":{"$error":"#DIV/0!"}},{"$f":"IF(P14=0,0,(P14*((LOG(P14))/LOG(2))))","v":{"$error":"#DIV/0!"}},null,null,{"$f":"N14","v":1222},{"$f":"COUNTIF(L6:L7,T14)","v":0},{"$f":"U14/(W4-U20)","v":{"$error":"#DIV/0!"}},{"$f":"IF(V14=0,0,(V14*((LOG(V14))/LOG(2))))","v":{"$error":"#DIV/0!"}},null,{"$f":"N14","v":1222},{"$f":"COUNTIF(L6:L7,Y14)","v":0},{"$f":"Z14/(AB4-Z20)","v":{"$error":"#DIV/0!"}},{"$f":"IF(AA14=0,0,(AA14*((LOG(AA14))/LOG(2))))","v":{"$error":"#DIV/0!"}},null,{"$f":"N14","v":1222},{"$f":"COUNTIF(L6:L7,AD14)","v":0},{"$f":"AE14/(AG4-AE20)","v":{"$error":"#DIV/0!"}},{"$f":"IF(AF14=0,0,(AF14*((LOG(AF14))/LOG(2))))","v":{"$error":"#DIV/0!"}},null,{"$f":"N14","v":1222},{"$f":"COUNTIF(L6:L7,AI14)","v":0},{"$f":"AJ14/(AL4-AJ20)","v":{"$error":"#DIV/0!"}},{"$f":"IF(AK14=0,0,(AK14*((LOG(AK14))/LOG(2))))","v":{"$error":"#DIV/0!"}},null,{"$f":"N14","v":1222},{"$f":"COUNTIF(L6:L7,AN14)","v":0},{"$f":"AO14/(AQ4-AO20)","v":{"$error":"#DIV/0!"}},{"$f":"IF(AP14=0,0,(AP14*((LOG(AP14))/LOG(2))))","v":{"$error":"#DIV/0!"}},null,{"$f":"N14","v":1222},{"$f":"COUNTIF(L6:L7,AS14)","v":0},{"$f":"AT14/(AV4-AT20)","v":{"$error":"#DIV/0!"}},{"$f":"IF(AU14=0,0,(AU14*((LOG(AU14))/LOG(2))))","v":{"$error":"#DIV/0!"}}]
[null,null,null,null,null,null,null,null,null,null,null,null,null,2111,{"$f":"COUNTIF($L$7:$L$500,N15)","v":0},{"$f":"O15/$Q$4","v":{"$error":"#DIV/0!"}},{"$f":"IF(P15=0,0,(P15*((LOG(P15))/LOG(2))))","v":{"$error":"#DIV/0!"}},null,null,{"$f":"N15","v":2111},{"$f":"COUNTIF(L6:L7,T15)","v":0},{"$f":"U15/(W4-U20)","v":{"$error":"#DIV/0!"}},{"$f":"IF(V15=0,0,(V15*((LOG(V15))/LOG(2))))","v":{"$error":"#DIV/0!"}},null,{"$f":"N15","v":2111},{"$f":"COUNTIF(L6:L7,Y15)","v":0},{"$f":"Z15/(AB4-Z20)","v":{"$error":"#DIV/0!"}},{"$f":"IF(AA15=0,0,(AA15*((LOG(AA15))/LOG(2))))","v":{"$error":"#DIV/0!"}},null,{"$f":"N15","v":2111},{"$f":"COUNTIF(L6:L7,AD15)","v":0},{"$f":"AE15/(AG4-AE20)","v":{"$error":"#DIV/0!"}},{"$f":"IF(AF15=0,0,(AF15*((LOG(AF15))/LOG(2))))","v":{"$error":"#DIV/0!"}},null,{"$f":"N15","v":2111},{"$f":"COUNTIF(L6:L7,AI15)","v":0},{"$f":"AJ15/(AL4-AJ20)","v":{"$error":"#DIV/0!"}},{"$f":"IF(AK15=0,0,(AK15*((LOG(AK15))/LOG(2))))","v":{"$error":"#DIV/0!"}},null,{"$f":"N15","v":2111},{"$f":"COUNTIF(L6:L7,AN15)","v":0},{"$f":"AO15/(AQ4-AO20)","v":{"$error":"#DIV/0!"}},{"$f":"IF(AP15=0,0,(AP15*((LOG(AP15))/LOG(2))))","v":{"$error":"#DIV/0!"}},null,{"$f":"N15","v":2111},{"$f":"COUNTIF(L6:L7,AS15)","v":0},{"$f":"AT15/(AV4-AT20)","v":{"$error":"#DIV/0!"}},{"$f":"IF(AU15=0,0,(AU15*((LOG(AU15))/LOG(2))))","v":{"$error":"#DIV/0!"}}]
[null,null,null,null,null,null,null,null,null,null,null,null,null,2112,{"$f":"COUNTIF($L$7:$L$500,N16)","v":0},{"$f":"O16/$Q$4","v":{"$error":"#DIV/0!"}},{"$f":"IF(P16=0,0,(P16*((LOG(P16))/LOG(2))))","v":{"$error":"#DIV/0!"}},null,null,{"$f":"N16","v":2112},{"$f":"COUNTIF(L6:L7,T16)","v":0},{"$f":"U16/(W4-U20)","v":{"$error":"#DIV/0!"}},{"$f":"IF(V16=0,0,(V16*((LOG(V16))/LOG(2))))","v":{"$error":"#DIV/0!"}},null,{"$f":"N16","v":2112},{"$f":"COUNTIF(L6:L7,Y16)","v":0},{"$f":"Z16/(AB4-Z20)","v":{"$error":"#DIV/0!"}},{"$f":"IF(AA16=0,0,(AA16*((LOG(AA16))/LOG(2))))","v":{"$error":"#DIV/0!"}},null,{"$f":"N16","v":2112},{"$f":"COUNTIF(L6:L7,AD16)","v":0},{"$f":"AE16/(AG4-AE20)","v":{"$error":"#DIV/0!"}},{"$f":"IF(AF16=0,0,(AF16*((LOG(AF16))/LOG(2))))","v":{"$error":"#DIV/0!"}},null,{"$f":"N16","v":2112},{"$f":"COUNTIF(L6:L7,AI16)","v":0},{"$f":"AJ16/(AL4-AJ20)","v":{"$error":"#DIV/0!"}},{"$f":"IF(AK16=0,0,(AK16*((LOG(AK16))/LOG(2))))","v":{"$error":"#DIV/0!"}},null,{"$f":"N16","v":2112},{"$f":"COUNTIF(L6:L7,AN16)","v":0},{"$f":"AO16/(AQ4-AO20)","v":{"$error":"#DIV/0!"}},{"$f":"IF(AP16=0,0,(AP16*((LOG(AP16))/LOG(2))))","v":{"$error":"#DIV/0!"}},null,{"$f":"N16","v":2112},{"$f":"COUNTIF(L6:L7,AS16)","v":0},{"$f":"AT16/(AV4-AT20)","v":{"$error":"#DIV/0!"}},{"$f":"IF(AU16=0,0,(AU16*((LOG(AU16))/LOG(2))))","v":{"$error":"#DIV/0!"}}]
[null,null,null,null,null,null,null,null,null,null,null,null,null,2121,{"$f":"COUNTIF($L$7:$L$500,N17)","v":0},{"$f":"O17/$Q$4","v":{"$error":"#DIV/0!"}},{"$f":"IF(P17=0,0,(P17*((LOG(P17))/LOG(2))))","v":{"$error":"#DIV/0!"}},null,null,{"$f":"N17","v":2121},{"$f":"COUNTIF(L6:L7,T17)","v":0},{"$f":"U17/(W4-U20)","v":{"$error":"#DIV/0!"}},{"$f":"IF(V17=0,0,(V17*((LOG(V17))/LOG(2))))","v":{"$error":"#DIV/0!"}},null,{"$f":"N17","v":2121},{"$f":"COUNTIF(L6:L7,Y17)","v":0},{"$f":"Z17/(AB4-Z20)","v":{"$error":"#DIV/0!"}},{"$f":"IF(AA17=0,0,(AA17*((LOG(AA17))/LOG(2))))","v":{"$error":"#DIV/0!"}},null,{"$f":"N17","v":2121},{"$f":"COUNTIF(L6:L7,AD17)","v":0},{"$f":"AE17/(AG4-AE20)","v":{"$error":"#DIV/0!"}},{"$f":"IF(AF17=0,0,(AF17*((LOG(AF17))/LOG(2))))","v":{"$error":"#DIV/0!"}},null,{"$f":"N17","v":2121},{"$f":"COUNTIF(L6:L7,AI17)","v":0},{"$f":"AJ17/(AL4-AJ20)","v":{"$error":"#DIV/0!"}},{"$f":"IF(AK17=0,0,(AK17*((LOG(AK17))/LOG(2))))","v":{"$error":"#DIV/0!"}},null,{"$f":"N17","v":2121},{"$f":"COUNTIF(L6:L7,AN17)","v":0},{"$f":"AO17/(AQ4-AO20)","v":{"$error":"#DIV/0!"}},{"$f":"IF(AP17=0,0,(AP17*((LOG(AP17))/LOG(2))))","v":{"$error":"#DIV/0!"}},null,{"$f":"N17","v":2121},{"$f":"COUNTIF(L6:L7,AS17)","v":0},{"$f":"AT17/(AV4-AT20)","v":{"$error":"#DIV/0!"}},{"$f":"IF(AU17=0,0,(AU17*((LOG(AU17))/LOG(2))))","v":{"$error":"#DIV/0!"}}]
[null,null,null,null,null,null,null,null,null,null,null,null,null,2122,{"$f":"COUNTIF($L$7:$L$500,N18)","v":0},{"$f":"O18/$Q$4","v":{"$error":"#DIV/0!"}},{"$f":"IF(P18=0,0,(P18*((LOG(P18))/LOG(2))))","v":{"$error":"#DIV/0!"}},null,null,{"$f":"N18","v":2122},{"$f":"COUNTIF(L6:L7,T18)","v":0},{"$f":"U18/(W4-U20)","v":{"$error":"#DIV/0!"}},{"$f":"IF(V18=0,0,(V18*((LOG(V18))/LOG(2))))","v":{"$error":"#DIV/0!"}},null,{"$f":"N18","v":2122},{"$f":"COUNTIF(L6:L7,Y18)","v":0},{"$f":"Z18/(AB4-Z20)","v":{"$error":"#DIV/0!"}},{"$f":"IF(AA18=0,0,(AA18*((LOG(AA18))/LOG(2))))","v":{"$error":"#DIV/0!"}},null,{"$f":"N18","v":2122},{"$f":"COUNTIF(L6:L7,AD18)","v":0},{"$f":"AE18/(AG4-AE20)","v":{"$error":"#DIV/0!"}},{"$f":"IF(AF18=0,0,(AF18*((LOG(AF18))/LOG(2))))","v":{"$error":"#DIV/0!"}},null,{"$f":"N18","v":2122},{"$f":"COUNTIF(L6:L7,AI18)","v":0},{"$f":"AJ18/(AL4-AJ20)","v":{"$error":"#DIV/0!"}},{"$f":"IF(AK18=0,0,(AK18*((LOG(AK18))/LOG(2))))","v":{"$error":"#DIV/0!"}},null,{"$f":"N18","v":2122},{"$f":"COUNTIF(L6:L7,AN18)","v":0},{"$f":"AO18/(AQ4-AO20)","v":{"$error":"#DIV/0!"}},{"$f":"IF(AP18=0,0,(AP18*((LOG(AP18))/LOG(2))))","v":{"$error":"#DIV/0!"}},null,{"$f":"N18","v":2122},{"$f":"COUNTIF(L6:L7,AS18)","v":0},{"$f":"AT18/(AV4-AT20)","v":{"$error":"#DIV/0!"}},{"$f":"IF(AU18=0,0,(AU18*((LOG(AU18))/LOG(2))))","v":{"$error":"#DIV/0!"}}]
[null,null,null,null,null,null,null,null,null,null,null,null,null,2211,{"$f":"COUNTIF($L$7:$L$500,N19)","v":0},{"$f":"O19/$Q$4","v":{"$error":"#DIV/0!"}},{"$f":"IF(P19=0,0,(P19*((LOG(P19))/LOG(2))))","v":{"$error":"#DIV/0!"}},null,null,{"$f":"N19","v":2211},{"$f":"COUNTIF(L6:L7,T19)","v":0},{"$f":"U19/(W4-U20)","v":{"$error":"#DIV/0!"}},{"$f":"IF(V19=0,0,(V19*((LOG(V19))/LOG(2))))","v":{"$error":"#DIV/0!"}},null,{"$f":"N19","v":2211},{"$f":"COUNTIF(L6:L7,Y19)","v":0},{"$f":"Z19/(AB4-Z20)","v":{"$error":"#DIV/0!"}},{"$f":"IF(AA19=0,0,(AA19*((LOG(AA19))/LOG(2))))","v":{"$error":"#DIV/0!"}},null,{"$f":"N19","v":2211},{"$f":"COUNTIF(L6:L7,AD19)","v":0},{"$f":"AE19/(AG4-AE20)","v":{"$error":"#DIV/0!"}},{"$f":"IF(AF19=0,0,(AF19*((LOG(AF19))/LOG(2))))","v":{"$error":"#DIV/0!"}},null,{"$f":"N19","v":2211},{"$f":"COUNTIF(L6:L7,AI19)","v":0},{"$f":"AJ19/(AL4-AJ20)","v":{"$error":"#DIV/0!"}},{"$f":"IF(AK19=0,0,(AK19*((LOG(AK19))/LOG(2))))","v":{"$error":"#DIV/0!"}},null,{"$f":"N19","v":2211},{"$f":"COUNTIF(L6:L7,AN19)","v":0},{"$f":"AO19/(AQ4-AO20)","v":{"$error":"#DIV/0!"}},{"$f":"IF(AP19=0,0,(AP19*((LOG(AP19))/LOG(2))))","v":{"$error":"#DIV/0!"}},null,{"$f":"N19","v":2211},{"$f":"COUNTIF(L6:L7,AS19)","v":0},{"$f":"AT19/(AV4-AT20)","v":{"$error":"#DIV/0!"}},{"$f":"IF(AU19=0,0,(AU19*((LOG(AU19))/LOG(2))))","v":{"$error":"#DIV/0!"}}]
[null,null,null,null,null,null,null,null,null,null,null,null,null,2212,{"$f":"COUNTIF($L$7:$L$500,N20)","v":0},{"$f":"O20/$Q$4","v":{"$error":"#DIV/0!"}},{"$f":"IF(P20=0,0,(P20*((LOG(P20))/LOG(2))))","v":{"$error":"#DIV/0!"}},null,null,{"$f":"N20","v":2212},{"$f":"COUNTIF(L6:L7,T20)","v":0},null,null,null,{"$f":"N20","v":2212},{"$f":"COUNTIF(L6:L7,Y20)","v":0},null,null,null,{"$f":"N20","v":2212},{"$f":"COUNTIF(L6:L7,AD20)","v":0},null,null,null,{"$f":"N20","v":2212},{"$f":"COUNTIF(L6:L7,AI20)","v":0},null,null,null,{"$f":"N20","v":2212},{"$f":"COUNTIF(L6:L7,AN20)","v":0},null,null,null,{"$f":"N20","v":2212},{"$f":"COUNTIF(L6:L7,AS20)","v":0}]
[null,null,null,null,null,null,null,null,null,null,null,null,null,2221,{"$f":"COUNTIF($L$7:$L$500,N21)","v":0},{"$f":"O21/$Q$4","v":{"$error":"#DIV/0!"}},{"$f":"IF(P21=0,0,(P21*((LOG(P21))/LOG(2))))","v":{"$error":"#DIV/0!"}},null,null,{"$f":"N21","v":2221},{"$f":"COUNTIF(L6:L7,T21)","v":0},{"$f":"U21/(W4-U20)","v":{"$error":"#DIV/0!"}},{"$f":"IF(V21=0,0,(V21*((LOG(V21))/LOG(2))))","v":{"$error":"#DIV/0!"}},null,{"$f":"N21","v":2221},{"$f":"COUNTIF(L6:L7,Y21)","v":0},{"$f":"Z21/(AB4-Z20)","v":{"$error":"#DIV/0!"}},{"$f":"IF(AA21=0,0,(AA21*((LOG(AA21))/LOG(2))))","v":{"$error":"#DIV/0!"}},null,{"$f":"N21","v":2221},{"$f":"COUNTIF(L6:L7,AD21)","v":0},{"$f":"AE21/(AG4-AE20)","v":{"$error":"#DIV/0!"}},{"$f":"IF(AF21=0,0,(AF21*((LOG(AF21))/LOG(2))))","v":{"$error":"#DIV/0!"}},null,{"$f":"N21","v":2221},{"$f":"COUNTIF(L6:L7,AI21)","v":0},{"$f":"AJ21/(AL4-AJ20)","v":{"$error":"#DIV/0!"}},{"$f":"IF(AK21=0,0,(AK21*((LOG(AK21))/LOG(2))))","v":{"$error":"#DIV/0!"}},null,{"$f":"N21","v":2221},{"$f":"COUNTIF(L6:L7,AN21)","v":0},{"$f":"AO21/(AQ4-AO20)","v":{"$error":"#DIV/0!"}},{"$f":"IF(AP21=0,0,(AP21*((LOG(AP21))/LOG(2))))","v":{"$error":"#DIV/0!"}},null,{"$f":"N21","v":2221},{"$f":"COUNTIF(L6:L7,AS21)","v":0},{"$f":"AT21/(AV4-AT20)","v":{"$error":"#DIV/0!"}},{"$f":"IF(AU21=0,0,(AU21*((LOG(AU21))/LOG(2))))","v":{"$error":"#DIV/0!"}}]
[null,null,null,null,null,null,null,null,null,null,null,null,null,2222,{"$f":"COUNTIF($L$7:$L$500,N22)","v":0},{"$f":"O22/$Q$4","v":{"$error":"#DIV/0!"}},{"$f":"IF(P22=0,0,(P22*((LOG(P22))/LOG(2))))","v":{"$error":"#DIV/0!"}},null,null,{"$f":"N22","v":2222},{"$f":"COUNTIF(L6:L7,T22)","v":0},{"$f":"U22/(W4-U20)","v":{"$error":"#DIV/0!"}},{"$f":"IF(V22=0,0,(V22*((LOG(V22))/LOG(2))))","v":{"$error":"#DIV/0!"}},null,{"$f":"N22","v":2222},{"$f":"COUNTIF(L6:L7,Y22)","v":0},{"$f":"Z22/(AB4-Z20)","v":{"$error":"#DIV/0!"}},{"$f":"IF(AA22=0,0,(AA22*((LOG(AA22))/LOG(2))))","v":{"$error":"#DIV/0!"}},null,{"$f":"N22","v":2222},{"$f":"COUNTIF(L6:L7,AD22)","v":0},{"$f":"AE22/(AG4-AE20)","v":{"$error":"#DIV/0!"}},{"$f":"IF(AF22=0,0,(AF22*((LOG(AF22))/LOG(2))))","v":{"$error":"#DIV/0!"}},null,{"$f":"N22","v":2222},{"$f":"COUNTIF(L6:L7,AI22)","v":0},{"$f":"AJ22/(AL4-AJ20)","v":{"$error":"#DIV/0!"}},{"$f":"IF(AK22=0,0,(AK22*((LOG(AK22))/LOG(2))))","v":{"$error":"#DIV/0!"}},null,{"$f":"N22","v":2222},{"$f":"COUNTIF(L6:L7,AN22)","v":0},{"$f":"AO22/(AQ4-AO20)","v":{"$error":"#DIV/0!"}},{"$f":"IF(AP22=0,0,(AP22*((LOG(AP22))/LOG(2))))","v":{"$error":"#DIV/0!"}},null,{"$f":"N22","v":2222},{"$f":"COUNTIF(L6:L7,AS22)","v":0},{"$f":"AT22/(AV4-AT20)","v":{"$error":"#DIV/0!"}},{"$f":"IF(AU22=0,0,(AU22*((LOG(AU22))/LOG(2))))","v":{"$error":"#DIV/0!"}}]
[null,null,null,null,null,null,null,null,null,null,null,null,null,null,null,{"$f":"SUM(P7:P22)","v":{"$error":"#DIV/0!"}},{"$f":"-SUM(Q7:Q22)","v":{"$error":"#DIV/0!"}},null,null,null,null,{"$f":"SUM(V7:V22)","v":{"$error":"#DIV/0!"}},{"$f":"-SUM(W7:W22)","v":{"$error":"#DIV/0!"}},null,null,null,{"$f":"SUM(AA7:AA22)","v":{"$error":"#DIV/0!"}},{"$f":"-SUM(AB7:AB22)","v":{"$error":"#DIV/0!"}},null,null,null,{"$f":"SUM(AF7:AF22)","v":{"$error":"#DIV/0!"}},{"$f":"-SUM(AG7:AG22)","v":{"$error":"#DIV/0!"}},null,null,null,{"$f":"SUM(AK7:AK22)","v":{"$error":"#DIV/0!"}},{"$f":"-SUM(AL7:AL22)","v":{"$error":"#DIV/0!"}},null,null,null,{"$f":"SUM(AP7:AP22)","v":{"$error":"#DIV/0!"}},{"$f":"-SUM(AQ7:AQ22)","v":{"$error":"#DIV/0!"}},null,null,null,{"$f":"SUM(AU7:AU22)","v":{"$error":"#DIV/0!"}},{"$f":"-SUM(AV7:AV22)","v":{"$error":"#DIV/0!"}}]
[null,null,null,null,null,null,null,null,null,null,null,null,null,null,null,"U=",{"$f":"Q23/(LOG(Q4)/LOG(2))","v":{"$error":"#DIV/0!"}},null,null,null,null,"U1=",{"$f":"W23/(LOG(W4)/LOG(2))","v":{"$error":"#DIV/0!"}},null,null,null,"U2=",{"$f":"AB23/(LOG(AB4)/LOG(2))","v":{"$error":"#DIV/0!"}},null,null,null,"U3=",{"$f":"AG23/(LOG(AG4)/LOG(2))","v":{"$error":"#DIV/0!"}},null,null,null,"U4=",{"$f":"AL23/(LOG(AL4)/LOG(2))","v":{"$error":"#DIV/0!"}},null,null,null,"U5=",{"$f":"AQ23/(LOG(AQ4)/LOG(2))","v":{"$error":"#DIV/0!"}},null,null,null,"U6=",{"$f":"AV23/(LOG(AV4)/LOG(2))","v":{"$error":"#DIV/0!"}}]
[]
[]
[null,null,null,null,null,null,null,null,null,null,null,null,null,"Total Target Seq"]
[null,null,null,null,null,null,null,null,null,null,null,null,null,{"$f":"COUNTIF(L6:L7,G3)","v":0},null,0,0,0,0,0,0]
[null,null,null,null,null,null,null,null,null,null,null,null,null,null,null,"% of reinforcement given in 6 equal intervals based on number of trials "]
[null,null,null,null,null,null,null,null,null,null,null,null,null,null,null,"%_1","%_2","%_3","%_4","%_5","%_6"]
[null,null,null,null,null,null,null,null,null,null,null,null,null,null,"target sequence",{"$f":"$G$3","v":2212},{"$f":"$G$3","v":2212},{"$f":"$G$3","v":2212},{"$f":"$G$3","v":2212},{"$f":"$G$3","v":2212},{"$f":"$G$3","v":2212}]
[null,null,null,null,null,null,null,null,null,null,null,null,null,null,"total reinforcement",{"$f":"U20","v":0},{"$f":"Z20","v":0},{"$f":"AE20","v":0},{"$f":"AJ20","v":0},{"$f":"AO20","v":0},{"$f":"AT20","v":0}]
[null,null,null,null,null,null,null,null,null,null,null,null,null,null,"% target"]
[null,null,null,null,null,null,null,null,null,null,null,null,null,null,"CCRF"]
[null,null,null,null,null,null,null,null,null,null,null,null,null,null,"% CCRf"]
[null,null,null,null,null,null,null,null,null,null,null,null,null,null,"average response rate",{"$f":"H6/P28","v":{"$error":"#VALUE!"}},{"$f":"(H6-H6)/Q28","v":{"$error":"#VALUE!"}},{"$f":"(H6-H6)/R28","v":{"$error":"#VALUE!"}},{"$f":"(H6-H6)/S28","v":{"$error":"#VALUE!"}},{"$f":"(H6-H6)/T28","v":{"$error":"#VALUE!"}},{"$f":"(H6-H6)/U28","v":{"$error":"#VALUE!"}}]

{"sheet":"!M111B3T.ayl","index":8,"n_rows":38,"n_cols":48,"rows_kept":38,"cut":false,"hidden":false,"merged":[[4,39,4,42],[5,39,5,40],[4,44,4,47],[5,44,5,45],[4,24,4,27],[5,24,5,25],[4,29,4,32],[5,29,5,30],[4,34,4,37],[5,34,5,35],[1,1,1,2],[5,13,5,14],[26,13,26,14],[27,13,27,14],[4,19,4,22],[5,19,5,20]]}
["Report for:!M111B3T.ayl"]
["Date:","<date>"]
["Hen:","<hen>",null,null,null,"Correct Sequence",{"$f":"Start!J2","v":2212},null,null,null,null,null,null,null,null,"Total Sequences in Data",{"$f":"4994-COUNTBLANK(L7:L5000)","v":32},null,null,null,null,"Total Sequences in Block Data",{"$f":"COUNTA(L7:L11)","v":5},null,null,null,"Total Sequences in Block Data",{"$f":"COUNTA(L12:L17)","v":6},null,null,null,"Total Sequences in Block Data",{"$f":"COUNTA(L18:L22)","v":5},null,null,null,"Total Sequences in Block Data",{"$f":"COUNTA(L23:L27)","v":5},null,null,null,"Total Sequences in Block Data",{"$f":"COUNTA(L28:L33)","v":6},null,null,null,"Total Sequences in Block Data",{"$f":"COUNTA(L34:L38)","v":5}]
[null,null,null,null,null,null,null,null,null,null,null,null,null,null,null,"Total Sequences in Summary",{"$f":"SUM(O7:O22)","v":32},null,null,null,null,"Total Sequences in Block Summary",{"$f":"SUM(U7:U22)","v":5},null,null,null,"Total Sequences in Block Summary",{"$f":"SUM(Z7:Z22)","v":6},null,null,null,"Total Sequences in Block Summary",{"$f":"SUM(AE7:AE22)","v":5},null,null,null,"Total Sequences in Block Summary",{"$f":"SUM(AJ7:AJ22)","v":5},null,null,null,"Total Sequences in Block Summary",{"$f":"SUM(AO7:AO22)","v":6},null,null,null,"Total Sequences in Block Summary",{"$f":"SUM(AT7:AT22)","v":5}]
[null,null,null,null,null,null,null,null,null,null,null,null,null,null,null,null,null,null,null,"Block 1",null,null,null,null,"Block 2",null,null,null,null,"Block 3",null,null,null,null,"Block 4",null,null,null,null,"Block 5",null,null,null,null,"Block 6"]
["Sequence\nComponent\n1","Time\n1","Sequence\nComponent\n2","Time\n2","Sequence\nComponent\n3","Time\n3","Sequence\nComponent\n4","Time\n4","Sequence\nComponent\n5","Time\n5","Correct?\n0=No 1=Yes","Sequence",null,"Frequency",null,"Relative Frequency","Variability",null,null,"Frequency",null,"Relative Frequency","Variability",null,"Frequency",null,"Relative Frequency","Variability",null,"Frequency",null,"Relative Frequency","Variability",null,"Frequency",null,"Relative Frequency","Variability",null,"Frequency",null,"Relative Frequency","Variability",null,"Frequency",null,"Relative Frequency","Variability"]
[21,245,21,248,11,250,21,252,null,null,0,2212,null,1111,{"$f":"COUNTIF($L$7:$L$500,N7)","v":5},{"$f":"O7/$Q$4","v":0.15625},{"$f":"IF(P7=0,0,(P7*((LOG(P7))/LOG(2))))","v":-0.41844873517384967},null,null,{"$f":"N7","v":1111},{"$f":"COUNTIF(L7:L11,T7)","v":0},{"$f":"U7/(W4-U20)","v":0},{"$f":"IF(V7=0,0,(V7*((LOG(V7))/LOG(2))))","v":0},null,{"$f":"N7","v":1111},{"$f":"COUNTIF(L12:L17,Y7)","v":0},{"$f":"Z7/(AB4-Z20)","v":0},{"$f":"IF(AA7=0,0,(AA7*((LOG(AA7))/LOG(2))))","v":0},null,{"$f":"N7","v":1111},{"$f":"COUNTIF(L18:L22,AD7)","v":0},{"$f":"AE7/(AG4-AE20)","v":0},{"$f":"IF(AF7=0,0,(AF7*((LOG(AF7))/LOG(2))))","v":0},null,{"$f":"N7","v":1111},{"$f":"COUNTIF(L23:L27,AI7)","v":2},{"$f":"AJ7/(AL4-AJ20)","v":0.4},{"$f":"IF(AK7=0,0,(AK7*((LOG(AK7))/LOG(2))))","v":-0.52877123795494496},null,{"$f":"N7","v":1111},{"$f":"COUNTIF(L28:L33,AN7)","v":1},{"$f":"AO7/(AQ4-AO20)","v":0.16666666666666666},{"$f":"IF(AP7=0,0,(AP7*((LOG(AP7))/LOG(2))))","v":-0.43082708345352599},null,{"$f":"N7","v":1111},{"$f":"COUNTIF(L34:L38,AS7)","v":2},{"$f":"AT7/(AV4-AT20)","v":0.4},{"$f":"IF(AU7=0,0,(AU7*((LOG(AU7))/LOG(2))))","v":-0.52877123795494496}]
[21,500,21,503,22,508,23,521,null,null,0,2222,null,1112,{"$f":"COUNTIF($L$7:$L$500,N8)","v":6},{"$f":"O8/$Q$4","v":0.1875},{"$f":"IF(P8=0,0,(P8*((LOG(P8))/LOG(2))))","v":-0.45281953111478312},null,null,{"$f":"N8","v":1112},{"$f":"COUNTIF(L7:L11,T8)","v":0},{"$f":"U8/(W4-U20)","v":0},{"$f":"IF(V8=0,0,(V8*((LOG(V8))/LOG(2))))","v":0},null,{"$f":"N8","v":1112},{"$f":"COUNTIF(L12:L17,Y8)","v":1},{"$f":"Z8/(AB4-Z20)","v":0.16666666666666666},{"$f":"IF(AA8=0,0,(AA8*((LOG(AA8))/LOG(2))))","v":-0.43082708345352599},null,{"$f":"N8","v":1112},{"$f":"COUNTIF(L18:L22,AD8)","v":2},{"$f":"AE8/(AG4-AE20)","v":0.4},{"$f":"IF(AF8=0,0,(AF8*((LOG(AF8))/LOG(2))))","v":-0.52877123795494496},null,{"$f":"N8","v":1112},{"$f":"COUNTIF(L23:L27,AI8)","v":1},{"$f":"AJ8/(AL4-AJ20)","v":0.2},{"$f":"IF(AK8=0,0,(AK8*((LOG(AK8))/LOG(2))))","v":-0.46438561897747244},null,{"$f":"N8","v":1112},{"$f":"COUNTIF(L28:L33,AN8)","v":1},{"$f":"AO8/(AQ4-AO20)","v":0.16666666666666666},{"$f":"IF(AP8=0,0,(AP8*((LOG(AP8))/LOG(2))))","v":-0.43082708345352599},null,{"$f":"N8","v":1112},{"$f":"COUNTIF(L34:L38,AS8)","v":1},{"$f":"AT8/(AV4-AT20)","v":0.2},{"$f":"IF(AU8=0,0,(AU8*((LOG(AU8))/LOG(2))))","v":-0.46438561897747244}]
[12,620,23,629,24,633,23,637,null,null,0,1222,null,1121,{"$f":"COUNTIF($L$7:$L$500,N9)","v":2},{"$f":"O9/$Q$4","v":6.25E-2},{"$f":"IF(P9=0,0,(P9*((LOG(P9))/LOG(2))))","v":-0.25},null,null,{"$f":"N9","v":1121},{"$f":"COUNTIF(L7:L11,T9)","v":0},{"$f":"U9/(W4-U20)","v":0},{"$f":"IF(V9=0,0,(V9*((LOG(V9))/LOG(2))))","v":0},null,{"$f":"N9","v":1121},{"$f":"COUNTIF(L12:L17,Y9)","v":0},{"$f":"Z9/(AB4-Z20)","v":0},{"$f":"IF(AA9=0,0,(AA9*((LOG(AA9))/LOG(2))))","v":0},null,{"$f":"N9","v":1121},{"$f":"COUNTIF(L18:L22,AD9)","v":0},{"$f":"AE9/(AG4-AE20)","v":0},{"$f":"IF(AF9=0,0,(AF9*((LOG(AF9))/LOG(2))))","v":0},null,{"$f":"N9","v":1121},{"$f":"COUNTIF(L23:L27,AI9)","v":0},{"$f":"AJ9/(AL4-AJ20)","v":0},{"$f":"IF(AK9=0,0,(AK9*((LOG(AK9))/LOG(2))))","v":0},null,{"$f":"N9","v":1121},{"$f":"COUNTIF(L28:L33,AN9)","v":1},{"$f":"AO9/(AQ4-AO20)","v":0.16666666666666666},{"$f":"IF(AP9=0,0,(AP9*((LOG(AP9))/LOG(2))))","v":-0.43082708345352599},null,{"$f":"N9","v":1121},{"$f":"COUNTIF(L34:L38,AS9)","v":1},{"$f":"AT9/(AV4-AT20)","v":0.2},{"$f":"IF(AU9=0,0,(AU9*((LOG(AU9))/LOG(2))))","v":-0.46438561897747244}]
[12,733,14,735,24,746,23,749,null,null,0,1122,null,1122,{"$f":"COUNTIF($L$7:$L$500,N10)","v":8},{"$f":"O10/$Q$4","v":0.25},{"$f":"IF(P10=0,0,(P10*((LOG(P10))/LOG(2))))","v":-0.5},null,null,{"$f":"N10","v":1122},{"$f":"COUNTIF(L7:L11,T10)","v":2},{"$f":"U10/(W4-U20)","v":0.5},{"$f":"IF(V10=0,0,(V10*((LOG(V10))/LOG(2))))","v":-0.5},null,{"$f":"N10","v":1122},{"$f":"COUNTIF(L12:L17,Y10)","v":2},{"$f":"Z10/(AB4-Z20)","v":0.33333333333333331},{"$f":"IF(AA10=0,0,(AA10*((LOG(AA10))/LOG(2))))","v":-0.52832083357371862},null,{"$f":"N10","v":1122},{"$f":"COUNTIF(L18:L22,AD10)","v":2},{"$f":"AE10/(AG4-AE20)","v":0.4},{"$f":"IF(AF10=0,0,(AF10*((LOG(AF10))/LOG(2))))","v":-0.52877123795494496},null,{"$f":"N10","v":1122},{"$f":"COUNTIF(L23:L27,AI10)","v":1},{"$f":"AJ10/(AL4-AJ20)","v":0.2},{"$f":"IF(AK10=0,0,(AK10*((LOG(AK10))/LOG(2))))","v":-0.46438561897747244},null,{"$f":"N10","v":1122},{"$f":"COUNTIF(L28:L33,AN10)","v":1},{"$f":"AO10/(AQ4-AO20)","v":0.16666666666666666},{"$f":"IF(AP10=0,0,(AP10*((LOG(AP10))/LOG(2))))","v":-0.43082708345352599},null,{"$f":"N10","v":1122},{"$f":"COUNTIF(L34:L38,AS10)","v":0},{"$f":"AT10/(AV4-AT20)","v":0},{"$f":"IF(AU10=0,0,(AU10*((LOG(AU10))/LOG(2))))","v":0}]
[12,847,14,849,24,862,23,866,null,null,0,1122,null,1211,{"$f":"COUNTIF($L$7:$L$500,N11)","v":0},{"$f":"O11/$Q$4","v":0},{"$f":"IF(P11=0,0,(P11*((LOG(P11))/LOG(2))))","v":0},null,null,{"$f":"N11","v":1211},{"$f":"COUNTIF(L7:L11,T11)","v":0},{"$f":"U11/(W4-U20)","v":0},{"$f":"IF(V11=0,0,(V11*((LOG(V11))/LOG(2))))","v":0},null,{"$f":"N11","v":1211},{"$f":"COUNTIF(L12:L17,Y11)","v":0},{"$f":"Z11/(AB4-Z20)","v":0},{"$f":"IF(AA11=0,0,(AA11*((LOG(AA11))/LOG(2))))","v":0},null,{"$f":"N11","v":1211},{"$f":"COUNTIF(L18:L22,AD11)","v":0},{"$f":"AE11/(AG4-AE20)","v":0},{"$f":"IF(AF11=0,0,(AF11*((LOG(AF11))/LOG(2))))","v":0},null,{"$f":"N11","v":1211},{"$f":"COUNTIF(L23:L27,AI11)","v":0},{"$f":"AJ11/(AL4-AJ20)","v":0},{"$f":"IF(AK11=0,0,(AK11*((LOG(AK11))/LOG(2))))","v":0},null,{"$f":"N11","v":1211},{"$f":"COUNTIF(L28:L33,AN11)","v":0},{"$f":"AO11/(AQ4-AO20)","v":0},{"$f":"IF(AP11=0,0,(AP11*((LOG(AP11))/LOG(2))))","v":0},null,{"$f":"N11","v":1211},{"$f":"COUNTIF(L34:L38,AS11)","v":0},{"$f":"AT11/(AV4-AT20)","v":0},{"$f":"IF(AU11=0,0,(AU11*((LOG(AU11))/LOG(2))))","v":0}]
[21,1037,21,1040,22,1047,23,1064,null,null,0,2222,null,1212,{"$f":"COUNTIF($L$7:$L$500,N12)","v":1},{"$f":"O12/$Q$4","v":3.125E-2},{"$f":"IF(P12=0,0,(P12*((LOG(P12))/LOG(2))))","v":-0.15625},null,null,{"$f":"N12","v":1212},{"$f":"COUNTIF(L7:L11,T12)","v":0},{"$f":"U12/(W4-U20)","v":0},{"$f":"IF(V12=0,0,(V12*((LOG(V12))/LOG(2))))","v":0},null,{"$f":"N12","v":1212},{"$f":"COUNTIF(L12:L17,Y12)","v":0},{"$f":"Z12/(AB4-Z20)","v":0},{"$f":"IF(AA12=0,0,(AA12*((LOG(AA12))/LOG(2))))","v":0},null,{"$f":"N12","v":1212},{"$f":"COUNTIF(L18:L22,AD12)","v":0},{"$f":"AE12/(AG4-AE20)","v":0},{"$f":"IF(AF12=0,0,(AF12*((LOG(AF12))/LOG(2))))","v":0},null,{"$f":"N12","v":1212},{"$f":"COUNTIF(L23:L27,AI12)","v":0},{"$f":"AJ12/(AL4-AJ20)","v":0},{"$f":"IF(AK12=0,0,(AK12*((LOG(AK12))/LOG(2))))","v":0},null,{"$f":"N12","v":1212},{"$f":"COUNTIF(L28:L33,AN12)","v":0},{"$f":"AO12/(AQ4-AO20)","v":0},{"$f":"IF(AP12=0,0,(AP12*((LOG(AP12))/LOG(2))))","v":0},null,{"$f":"N12","v":1212},{"$f":"COUNTIF(L34:L38,AS12)","v":1},{"$f":"AT12/(AV4-AT20)","v":0.2},{"$f":"IF(AU12=0,0,(AU12*((LOG(AU12))/LOG(2))))","v":-0.46438561897747244}]
[12,1185,23,1188,24,1193,23,1205,null,null,0,1222,null,1221,{"$f":"COUNTIF($L$7:$L$500,N13)","v":1},{"$f":"O13/$Q$4","v":3.125E-2},{"$f":"IF(P13=0,0,(P13*((LOG(P13))/LOG(2))))","v":-0.15625},null,null,{"$f":"N13","v":1221},{"$f":"COUNTIF(L7:L11,T13)","v":0},{"$f":"U13/(W4-U20)","v":0},{"$f":"IF(V13=0,0,(V13*((LOG(V13))/LOG(2))))","v":0},null,{"$f":"N13","v":1221},{"$f":"COUNTIF(L12:L17,Y13)","v":1},{"$f":"Z13/(AB4-Z20)","v":0.16666666666666666},{"$f":"IF(AA13=0,0,(AA13*((LOG(AA13))/LOG(2))))","v":-0.43082708345352599},null,{"$f":"N13","v":1221},{"$f":"COUNTIF(L18:L22,AD13)","v":0},{"$f":"AE13/(AG4-AE20)","v":0},{"$f":"IF(AF13=0,0,(AF13*((LOG(AF13))/LOG(2))))","v":0},null,{"$f":"N13","v":1221},{"$f":"COUNTIF(L23:L27,AI13)","v":0},{"$f":"AJ13/(AL4-AJ20)","v":0},{"$f":"IF(AK13=0,0,(AK13*((LOG(AK13))/LOG(2))))","v":0},null,{"$f":"N13","v":1221},{"$f":"COUNTIF(L28:L33,AN13)","v":0},{"$f":"AO13/(AQ4-AO20)","v":0},{"$f":"IF(AP13=0,0,(AP13*((LOG(AP13))/LOG(2))))","v":0},null,{"$f":"N13","v":1221},{"$f":"COUNTIF(L34:L38,AS13)","v":0},{"$f":"AT13/(AV4-AT20)","v":0},{"$f":"IF(AU13=0,0,(AU13*((LOG(AU13))/LOG(2))))","v":0}]
[12,1311,14,1314,24,1324,23,1333,null,null,0,1122,null,1222,{"$f":"COUNTIF($L$7:$L$500,N14)","v":3},{"$f":"O14/$Q$4","v":9.375E-2},{"$f":"IF(P14=0,0,(P14*((LOG(P14))/LOG(2))))","v":-0.32015976555739156},null,null,{"$f":"N14","v":1222},{"$f":"COUNTIF(L7:L11,T14)","v":1},{"$f":"U14/(W4-U20)","v":0.25},{"$f":"IF(V14=0,0,(V14*((LOG(V14))/LOG(2))))","v":-0.5},null,{"$f":"N14","v":1222},{"$f":"COUNTIF(L12:L17,Y14)","v":1},{"$f":"Z14/(AB4-Z20)","v":0.16666666666666666},{"$f":"IF(AA14=0,0,(AA14*((LOG(AA14))/LOG(2))))","v":-0.43082708345352599},null,{"$f":"N14","v":1222},{"$f":"COUNTIF(L18:L22,AD14)","v":1},{"$f":"AE14/(AG4-AE20)","v":0.2},{"$f":"IF(AF14=0,0,(AF14*((LOG(AF14))/LOG(2))))","v":-0.46438561897747244},null,{"$f":"N14","v":1222},{"$f":"COUNTIF(L23:L27,AI14)","v":0},{"$f":"AJ14/(AL4-AJ20)","v":0},{"$f":"IF(AK14=0,0,(AK14*((LOG(AK14))/LOG(2))))","v":0},null,{"$f":"N14","v":1222},{"$f":"COUNTIF(L28:L33,AN14)","v":0},{"$f":"AO14/(AQ4-AO20)","v":0},{"$f":"IF(AP14=0,0,(AP14*((LOG(AP14))/LOG(2))))","v":0},null,{"$f":"N14","v":1222},{"$f":"COUNTIF(L34:L38,AS14)","v":0},{"$f":"AT14/(AV4-AT20)","v":0},{"$f":"IF(AU14=0,0,(AU14*((LOG(AU14))/LOG(2))))","v":0}]
[12,1442,14,1443,13,1449,23,1456,null,null,0,1112,null,2111,{"$f":"COUNTIF($L$7:$L$500,N15)","v":0},{"$f":"O15/$Q$4","v":0},{"$f":"IF(P15=0,0,(P15*((LOG(P15))/LOG(2))))","v":0},null,null,{"$f":"N15","v":2111},{"$f":"COUNTIF(L7:L11,T15)","v":0},{"$f":"U15/(W4-U20)","v":0},{"$f":"IF(V15=0,0,(V15*((LOG(V15))/LOG(2))))","v":0},null,{"$f":"N15","v":2111},{"$f":"COUNTIF(L12:L17,Y15)","v":0},{"$f":"Z15/(AB4-Z20)","v":0},{"$f":"IF(AA15=0,0,(AA15*((LOG(AA15))/LOG(2))))","v":0},null,{"$f":"N15","v":2111},{"$f":"COUNTIF(L18:L22,AD15)","v":0},{"$f":"AE15/(AG4-AE20)","v":0},{"$f":"IF(AF15=0,0,(AF15*((LOG(AF15))/LOG(2))))","v":0},null,{"$f":"N15","v":2111},{"$f":"COUNTIF(L23:L27,AI15)","v":0},{"$f":"AJ15/(AL4-AJ20)","v":0},{"$f":"IF(AK15=0,0,(AK15*((LOG(AK15))/LOG(2))))","v":0},null,{"$f":"N15","v":2111},{"$f":"COUNTIF(L28:L33,AN15)","v":0},{"$f":"AO15/(AQ4-AO20)","v":0},{"$f":"IF(AP15=0,0,(AP15*((LOG(AP15))/LOG(2))))","v":0},null,{"$f":"N15","v":2111},{"$f":"COUNTIF(L34:L38,AS15)","v":0},{"$f":"AT15/(AV4-AT20)","v":0},{"$f":"IF(AU15=0,0,(AU15*((LOG(AU15))/LOG(2))))","v":0}]
[12,1554,14,1557,24,1566,23,1573,null,null,0,1122,null,2112,{"$f":"COUNTIF($L$7:$L$500,N16)","v":0},{"$f":"O16/$Q$4","v":0},{"$f":"IF(P16=0,0,(P16*((LOG(P16))/LOG(2))))","v":0},null,null,{"$f":"N16","v":2112},{"$f":"COUNTIF(L7:L11,T16)","v":0},{"$f":"U16/(W4-U20)","v":0},{"$f":"IF(V16=0,0,(V16*((LOG(V16))/LOG(2))))","v":0},null,{"$f":"N16","v":2112},{"$f":"COUNTIF(L12:L17,Y16)","v":0},{"$f":"Z16/(AB4-Z20)","v":0},{"$f":"IF(AA16=0,0,(AA16*((LOG(AA16))/LOG(2))))","v":0},null,{"$f":"N16","v":2112},{"$f":"COUNTIF(L18:L22,AD16)","v":0},{"$f":"AE16/(AG4-AE20)","v":0},{"$f":"IF(AF16=0,0,(AF16*((LOG(AF16))/LOG(2))))","v":0},null,{"$f":"N16","v":2112},{"$f":"COUNTIF(L23:L27,AI16)","v":0},{"$f":"AJ16/(AL4-AJ20)","v":0},{"$f":"IF(AK16=0,0,(AK16*((LOG(AK16))/LOG(2))))","v":0},null,{"$f":"N16","v":2112},{"$f":"COUNTIF(L28:L33,AN16)","v":0},{"$f":"AO16/(AQ4-AO20)","v":0},{"$f":"IF(AP16=0,0,(AP16*((LOG(AP16))/LOG(2))))","v":0},null,{"$f":"N16","v":2112},{"$f":"COUNTIF(L34:L38,AS16)","v":0},{"$f":"AT16/(AV4-AT20)","v":0},{"$f":"IF(AU16=0,0,(AU16*((LOG(AU16))/LOG(2))))","v":0}]
[12,1702,23,1710,24,1716,14,1739,null,null,0,1221,null,2121,{"$f":"COUNTIF($L$7:$L$500,N17)","v":0},{"$f":"O17/$Q$4","v":0},{"$f":"IF(P17=0,0,(P17*((LOG(P17))/LOG(2))))","v":0},null,null,{"$f":"N17","v":2121},{"$f":"COUNTIF(L7:L11,T17)","v":0},{"$f":"U17/(W4-U20)","v":0},{"$f":"IF(V17=0,0,(V17*((LOG(V17))/LOG(2))))","v":0},null,{"$f":"N17","v":2121},{"$f":"COUNTIF(L12:L17,Y17)","v":0},{"$f":"Z17/(AB4-Z20)","v":0},{"$f":"IF(AA17=0,0,(AA17*((LOG(AA17))/LOG(2))))","v":0},null,{"$f":"N17","v":2121},{"$f":"COUNTIF(L18:L22,AD17)","v":0},{"$f":"AE17/(AG4-AE20)","v":0},{"$f":"IF(AF17=0,0,(AF17*((LOG(AF17))/LOG(2))))","v":0},null,{"$f":"N17","v":2121},{"$f":"COUNTIF(L23:L27,AI17)","v":0},{"$f":"AJ17/(AL4-AJ20)","v":0},{"$f":"IF(AK17=0,0,(AK17*((LOG(AK17))/LOG(2))))","v":0},null,{"$f":"N17","v":2121},{"$f":"COUNTIF(L28:L33,AN17)","v":0},{"$f":"AO17/(AQ4-AO20)","v":0},{"$f":"IF(AP17=0,0,(AP17*((LOG(AP17))/LOG(2))))","v":0},null,{"$f":"N17","v":2121},{"$f":"COUNTIF(L34:L38,AS17)","v":0},{"$f":"AT17/(AV4-AT20)","v":0},{"$f":"IF(AU17=0,0,(AU17*((LOG(AU17))/LOG(2))))","v":0}]
[12,1836,14,1841,24,1848,23,1854,null,null,0,1122,null,2122,{"$f":"COUNTIF($L$7:$L$500,N18)","v":0},{"$f":"O18/$Q$4","v":0},{"$f":"IF(P18=0,0,(P18*((LOG(P18))/LOG(2))))","v":0},null,null,{"$f":"N18","v":2122},{"$f":"COUNTIF(L7:L11,T18)","v":0},{"$f":"U18/(W4-U20)","v":0},{"$f":"IF(V18=0,0,(V18*((LOG(V18))/LOG(2))))","v":0},null,{"$f":"N18","v":2122},{"$f":"COUNTIF(L12:L17,Y18)","v":0},{"$f":"Z18/(AB4-Z20)","v":0},{"$f":"IF(AA18=0,0,(AA18*((LOG(AA18))/LOG(2))))","v":0},null,{"$f":"N18","v":2122},{"$f":"COUNTIF(L18:L22,AD18)","v":0},{"$f":"AE18/(AG4-AE20)","v":0},{"$f":"IF(AF18=0,0,(AF18*((LOG(AF18))/LOG(2))))","v":0},null,{"$f":"N18","v":2122},{"$f":"COUNTIF(L23:L27,AI18)","v":0},{"$f":"AJ18/(AL4-AJ20)","v":0},{"$f":"IF(AK18=0,0,(AK18*((LOG(AK18))/LOG(2))))","v":0},null,{"$f":"N18","v":2122},{"$f":"COUNTIF(L28:L33,AN18)","v":0},{"$f":"AO18/(AQ4-AO20)","v":0},{"$f":"IF(AP18=0,0,(AP18*((LOG(AP18))/LOG(2))))","v":0},null,{"$f":"N18","v":2122},{"$f":"COUNTIF(L34:L38,AS18)","v":0},{"$f":"AT18/(AV4-AT20)","v":0},{"$f":"IF(AU18=0,0,(AU18*((LOG(AU18))/LOG(2))))","v":0}]
[12,1956,14,1961,13,2111,23,2120,null,null,0,1112,null,2211,{"$f":"COUNTIF($L$7:$L$500,N19)","v":1},{"$f":"O19/$Q$4","v":3.125E-2},{"$f":"IF(P19=0,0,(P19*((LOG(P19))/LOG(2))))","v":-0.15625},null,null,{"$f":"N19","v":2211},{"$f":"COUNTIF(L7:L11,T19)","v":0},{"$f":"U19/(W4-U20)","v":0},{"$f":"IF(V19=0,0,(V19*((LOG(V19))/LOG(2))))","v":0},null,{"$f":"N19","v":2211},{"$f":"COUNTIF(L12:L17,Y19)","v":0},{"$f":"Z19/(AB4-Z20)","v":0},{"$f":"IF(AA19=0,0,(AA19*((LOG(AA19))/LOG(2))))","v":0},null,{"$f":"N19","v":2211},{"$f":"COUNTIF(L18:L22,AD19)","v":0},{"$f":"AE19/(AG4-AE20)","v":0},{"$f":"IF(AF19=0,0,(AF19*((LOG(AF19))/LOG(2))))","v":0},null,{"$f":"N19","v":2211},{"$f":"COUNTIF(L23:L27,AI19)","v":0},{"$f":"AJ19/(AL4-AJ20)","v":0},{"$f":"IF(AK19=0,0,(AK19*((LOG(AK19))/LOG(2))))","v":0},null,{"$f":"N19","v":2211},{"$f":"COUNTIF(L28:L33,AN19)","v":1},{"$f":"AO19/(AQ4-AO20)","v":0.16666666666666666},{"$f":"IF(AP19=0,0,(AP19*((LOG(AP19))/LOG(2))))","v":-0.43082708345352599},null,{"$f":"N19","v":2211},{"$f":"COUNTIF(L34:L38,AS19)","v":0},{"$f":"AT19/(AV4-AT20)","v":0},{"$f":"IF(AU19=0,0,(AU19*((LOG(AU19))/LOG(2))))","v":0}]
[12,2219,14,2221,24,2234,23,2243,null,null,0,1122,null,2212,{"$f":"COUNTIF($L$7:$L$500,N20)","v":1},{"$f":"O20/$Q$4","v":3.125E-2},{"$f":"IF(P20=0,0,(P20*((LOG(P20))/LOG(2))))","v":-0.15625},null,null,{"$f":"N20","v":2212},{"$f":"COUNTIF(L7:L11,T20)","v":1},null,null,null,{"$f":"N20","v":2212},{"$f":"COUNTIF(L12:L17,Y20)","v":0},null,null,null,{"$f":"N20","v":2212},{"$f":"COUNTIF(L18:L22,AD20)","v":0},null,null,null,{"$f":"N20","v":2212},{"$f":"COUNTIF(L23:L27,AI20)","v":0},null,null,null,{"$f":"N20","v":2212},{"$f":"COUNTIF(L28:L33,AN20)","v":0},null,null,null,{"$f":"N20","v":2212},{"$f":"COUNTIF(L34:L38,AS20)","v":0}]
[12,2340,23,2351,24,2358,23,2365,null,null,0,1222,null,2221,{"$f":"COUNTIF($L$7:$L$500,N21)","v":1},{"$f":"O21/$Q$4","v":3.125E-2},{"$f":"IF(P21=0,0,(P21*((LOG(P21))/LOG(2))))","v":-0.15625},null,null,{"$f":"N21","v":2221},{"$f":"COUNTIF(L7:L11,T21)","v":0},{"$f":"U21/(W4-U20)","v":0},{"$f":"IF(V21=0,0,(V21*((LOG(V21))/LOG(2))))","v":0},null,{"$f":"N21","v":2221},{"$f":"COUNTIF(L12:L17,Y21)","v":0},{"$f":"Z21/(AB4-Z20)","v":0},{"$f":"IF(AA21=0,0,(AA21*((LOG(AA21))/LOG(2))))","v":0},null,{"$f":"N21","v":2221},{"$f":"COUNTIF(L18:L22,AD21)","v":0},{"$f":"AE21/(AG4-AE20)","v":0},{"$f":"IF(AF21=0,0,(AF21*((LOG(AF21))/LOG(2))))","v":0},null,{"$f":"N21","v":2221},{"$f":"COUNTIF(L23:L27,AI21)","v":0},{"$f":"AJ21/(AL4-AJ20)","v":0},{"$f":"IF(AK21=0,0,(AK21*((LOG(AK21))/LOG(2))))","v":0},null,{"$f":"N21","v":2221},{"$f":"COUNTIF(L28:L33,AN21)","v":1},{"$f":"AO21/(AQ4-AO20)","v":0.16666666666666666},{"$f":"IF(AP21=0,0,(AP21*((LOG(AP21))/LOG(2))))","v":-0.43082708345352599},null,{"$f":"N21","v":2221},{"$f":"COUNTIF(L34:L38,AS21)","v":0},{"$f":"AT21/(AV4-AT20)","v":0},{"$f":"IF(AU21=0,0,(AU21*((LOG(AU21))/LOG(2))))","v":0}]
[12,2465,14,2467,13,2469,23,2480,null,null,0,1112,null,2222,{"$f":"COUNTIF($L$7:$L$500,N22)","v":3},{"$f":"O22/$Q$4","v":9.375E-2},{"$f":"IF(P22=0,0,(P22*((LOG(P22))/LOG(2))))","v":-0.32015976555739156},null,null,{"$f":"N22","v":2222},{"$f":"COUNTIF(L7:L11,T22)","v":1},{"$f":"U22/(W4-U20)","v":0.25},{"$f":"IF(V22=0,0,(V22*((LOG(V22))/LOG(2))))","v":-0.5},null,{"$f":"N22","v":2222},{"$f":"COUNTIF(L12:L17,Y22)","v":1},{"$f":"Z22/(AB4-Z20)","v":0.16666666666666666},{"$f":"IF(AA22=0,0,(AA22*((LOG(AA22))/LOG(2))))","v":-0.43082708345352599},null,{"$f":"N22","v":2222},{"$f":"COUNTIF(L18:L22,AD22)","v":0},{"$f":"AE22/(AG4-AE20)","v":0},{"$f":"IF(AF22=0,0,(AF22*((LOG(AF22))/LOG(2))))","v":0},null,{"$f":"N22","v":2222},{"$f":"COUNTIF(L23:L27,AI22)","v":1},{"$f":"AJ22/(AL4-AJ20)","v":0.2},{"$f":"IF(AK22=0,0,(AK22*((LOG(AK22))/LOG(2))))","v":-0.46438561897747244},null,{"$f":"N22","v":2222},{"$f":"COUNTIF(L28:L33,AN22)","v":0},{"$f":"AO22/(AQ4-AO20)","v":0},{"$f":"IF(AP22=0,0,(AP22*((LOG(AP22))/LOG(2))))","v":0},null,{"$f":"N22","v":2222},{"$f":"COUNTIF(L34:L38,AS22)","v":0},{"$f":"AT22/(AV4-AT20)","v":0},{"$f":"IF(AU22=0,0,(AU22*((LOG(AU22))/LOG(2))))","v":0}]
[12,2594,14,2601,13,2604,14,2608,null,null,0,1111,null,null,null,{"$f":"SUM(P7:P22)","v":1},{"$f":"-SUM(Q7:Q22)","v":3.0428377974034162},null,null,null,null,{"$f":"SUM(V7:V22)","v":1},{"$f":"-SUM(W7:W22)","v":1.5},null,null,null,{"$f":"SUM(AA7:AA22)","v":0.99999999999999989},{"$f":"-SUM(AB7:AB22)","v":2.2516291673878226},null,null,null,{"$f":"SUM(AF7:AF22)","v":1},{"$f":"-SUM(AG7:AG22)","v":1.5219280948873624},null,null,null,{"$f":"SUM(AK7:AK22)","v":1},{"$f":"-SUM(AL7:AL22)","v":1.9219280948873623},null,null,null,{"$f":"SUM(AP7:AP22)","v":0.99999999999999989},{"$f":"-SUM(AQ7:AQ22)","v":2.5849625007211561},null,null,null,{"$f":"SUM(AU7:AU22)","v":1},{"$f":"-SUM(AV7:AV22)","v":1.9219280948873623}]
[12,2748,14,2761,13,2764,23,2775,null,null,0,1112,null,null,null,"U=",{"$f":"Q23/(LOG(Q4)/LOG(2))","v":0.6085675594806832},null,null,null,null,"U1=",{"$f":"W23/(LOG(W4)/LOG(2))","v":0.64601483711008945},null,null,null,"U2=",{"$f":"AB23/(LOG(AB4)/LOG(2))","v":0.87104906425515272},null,null,null,"U3=",{"$f":"AG23/(LOG(AG4)/LOG(2))","v":0.65545875354128547},null,null,null,"U4=",{"$f":"AL23/(LOG(AL4)/LOG(2))","v":0.82772937677064262},null,null,null,"U5=",{"$f":"AQ23/(LOG(AQ4)/LOG(2))","v":1},null,null,null,"U6=",{"$f":"AV23/(LOG(AV4)/LOG(2))","v":0.82772937677064262}]
[12,2883,14,2886,13,2892,14,2895,null,null,0,1111]
[21,3018,21,3026,22,3034,23,3043,null,null,0,2222]
[12,3142,14,3149,24,3170,23,3177,null,null,0,1122,null,"Total Target Seq"]
[21,3283,21,3309,11,3459,12,3463,null,null,0,2211,null,{"$f":"COUNTIF(L7:L38,G3)","v":1},null,5,6,5,5,6,5]
[12,3635,14,3639,13,3643,23,3663,null,null,0,1112,null,null,null,"% of reinforcement given in 6 equal intervals based on number of trials "]
[12,4171,14,4174,24,4186,14,4453,null,null,0,1121,null,null,null,"%_1","%_2","%_3","%_4","%_5","%_6"]
[21,4786,21,4803,22,4806,14,4823,null,null,0,2221,null,null,"target sequence",{"$f":"$G$3","v":2212},{"$f":"$G$3","v":2212},{"$f":"$G$3","v":2212},{"$f":"$G$3","v":2212},{"$f":"$G$3","v":2212},{"$f":"$G$3","v":2212}]
[12,4976,14,4981,24,4993,23,4997,null,null,0,1122,null,null,"total reinforcement",{"$f":"U20","v":1},{"$f":"Z20","v":0},{"$f":"AE20","v":0},{"$f":"AJ20","v":0},{"$f":"AO20","v":0},{"$f":"AT20","v":0}]
[12,5344,14,5347,13,5369,14,5383,null,null,0,1111,null,null,"% target"]
[12,5510,14,5514,13,5519,14,5594,null,null,0,1111,null,null,"CCRF"]
[12,7778,14,7780,13,7783,23,7793,null,null,0,1112,null,null,"% CCRf"]
[12,8147,14,8154,13,8159,14,8163,null,null,0,1111,null,null,"average response rate",{"$f":"H11/P28","v":173.2},{"$f":"(H17-H11)/Q28","v":145.5},{"$f":"(H22-H17)/R28","v":148.19999999999999},{"$f":"(H27-H22)/S28","v":139.4},{"$f":"(H33-H27)/T28","v":367.66666666666669},{"$f":"(H38-H33)/U28","v":3513.8}]
[12,10982,23,11002,13,11019,23,11033,null,null,0,1212]
[12,15741,14,22919,24,22938,14,22952,null,null,0,1121]

{"sheet":"!M112B2T.ayl","index":9,"n_rows":36,"n_cols":48,"rows_kept":36,"cut":false,"hidden":false,"merged":[[4,39,4,42],[5,39,5,40],[4,44,4,47],[5,44,5,45],[4,24,4,27],[5,24,5,25],[4,29,4,32],[5,29,5,30],[4,34,4,37],[5,34,5,35],[1,1,1,2],[5,13,5,14],[26,13,26,14],[27,13,27,14],[4,19,4,22],[5,19,5,20]]}
["Report for:!M112B2T.ayl"]
["Date:","<date>"]
["Hen:","<hen>",null,null,null,"Correct Sequence",{"$f":"Start!J2","v":2212},null,null,null,null,null,null,null,null,"Total Sequences in Data",{"$f":"4994-COUNTBLANK(L7:L5000)","v":17},null,null,null,null,"Total Sequences in Block Data",{"$f":"COUNTA(L7:L9)","v":3},null,null,null,"Total Sequences in Block Data",{"$f":"COUNTA(L10:L12)","v":3},null,null,null,"Total Sequences in Block Data",{"$f":"COUNTA(L13:L14)","v":2},null,null,null,"Total Sequences in Block Data",{"$f":"COUNTA(L15:L17)","v":3},null,null,null,"Total Sequences in Block Data",{"$f":"COUNTA(L18:L20)","v":3},null,null,null,"Total Sequences in Block Data",{"$f":"COUNTA(L21:L23)","v":3}]
[null,null,null,null,null,null,null,null,null,null,null,null,null,null,null,"Total Sequences in Summary",{"$f":"SUM(O7:O22)","v":16},null,null,null,null,"Total Sequences in Block Summary",{"$f":"SUM(U7:U22)","v":3},null,null,null,"Total Sequences in Block Summary",{"$f":"SUM(Z7:Z22)","v":3},null,null,null,"Total Sequences in Block Summary",{"$f":"SUM(AE7:AE22)","v":2},null,null,null,"Total Sequences in Block Summary",{"$f":"SUM(AJ7:AJ22)","v":3},null,null,null,"Total Sequences in Block Summary",{"$f":"SUM(AO7:AO22)","v":3},null,null,null,"Total Sequences in Block Summary",{"$f":"SUM(AT7:AT22)","v":2}]
[null,null,null,null,null,null,null,null,null,null,null,null,null,null,null,null,null,null,null,"Block 1",null,null,null,null,"Block 2",null,null,null,null,"Block 3",null,null,null,null,"Block 4",null,null,null,null,"Block 5",null,null,null,null,"Block 6"]
["Sequence\nComponent\n1","Time\n1","Sequence\nComponent\n2","Time\n2","Sequence\nComponent\n3","Time\n3","Sequence\nComponent\n4","Time\n4","Sequence\nComponent\n5","Time\n5","Correct?\n0=No 1=Yes","Sequence",null,"Frequency",null,"Relative Frequency","Variability",null,null,"Frequency",null,"Relative Frequency","Variability",null,"Frequency",null,"Relative Frequency","Variability",null,"Frequency",null,"Relative Frequency","Variability",null,"Frequency",null,"Relative Frequency","Variability",null,"Frequency",null,"Relative Frequency","Variability",null,"Frequency",null,"Relative Frequency","Variability"]
[12,9,14,11,24,24,23,30,null,null,0,1122,null,1111,{"$f":"COUNTIF($L$7:$L$500,N7)","v":3},{"$f":"O7/$Q$4","v":0.1875},{"$f":"IF(P7=0,0,(P7*((LOG(P7))/LOG(2))))","v":-0.45281953111478312},null,null,{"$f":"N7","v":1111},{"$f":"COUNTIF(L7:L9,T7)","v":0},{"$f":"U7/(W4-U20)","v":0},{"$f":"IF(V7=0,0,(V7*((LOG(V7))/LOG(2))))","v":0},null,{"$f":"N7","v":1111},{"$f":"COUNTIF(L10:L12,Y7)","v":1},{"$f":"Z7/(AB4-Z20)","v":0.33333333333333331},{"$f":"IF(AA7=0,0,(AA7*((LOG(AA7))/LOG(2))))","v":-0.52832083357371862},null,{"$f":"N7","v":1111},{"$f":"COUNTIF(L13:L14,AD7)","v":0},{"$f":"AE7/(AG4-AE20)","v":0},{"$f":"IF(AF7=0,0,(AF7*((LOG(AF7))/LOG(2))))","v":0},null,{"$f":"N7","v":1111},{"$f":"COUNTIF(L15:L17,AI7)","v":0},{"$f":"AJ7/(AL4-AJ20)","v":0},{"$f":"IF(AK7=0,0,(AK7*((LOG(AK7))/LOG(2))))","v":0},null,{"$f":"N7","v":1111},{"$f":"COUNTIF(L18:L20,AN7)","v":2},{"$f":"AO7/(AQ4-AO20)","v":0.66666666666666663},{"$f":"IF(AP7=0,0,(AP7*((LOG(AP7))/LOG(2))))","v":-0.38997500048077083},null,{"$f":"N7","v":1111},{"$f":"COUNTIF(L21:L23,AS7)","v":0},{"$f":"AT7/(AV4-AT20)","v":0},{"$f":"IF(AU7=0,0,(AU7*((LOG(AU7))/LOG(2))))","v":0}]
[12,128,23,141,24,148,23,154,null,null,0,1222,null,1112,{"$f":"COUNTIF($L$7:$L$500,N8)","v":4},{"$f":"O8/$Q$4","v":0.25},{"$f":"IF(P8=0,0,(P8*((LOG(P8))/LOG(2))))","v":-0.5},null,null,{"$f":"N8","v":1112},{"$f":"COUNTIF(L7:L9,T8)","v":1},{"$f":"U8/(W4-U20)","v":0.33333333333333331},{"$f":"IF(V8=0,0,(V8*((LOG(V8))/LOG(2))))","v":-0.52832083357371862},null,{"$f":"N8","v":1112},{"$f":"COUNTIF(L10:L12,Y8)","v":1},{"$f":"Z8/(AB4-Z20)","v":0.33333333333333331},{"$f":"IF(AA8=0,0,(AA8*((LOG(AA8))/LOG(2))))","v":-0.52832083357371862},null,{"$f":"N8","v":1112},{"$f":"COUNTIF(L13:L14,AD8)","v":0},{"$f":"AE8/(AG4-AE20)","v":0},{"$f":"IF(AF8=0,0,(AF8*((LOG(AF8))/LOG(2))))","v":0},null,{"$f":"N8","v":1112},{"$f":"COUNTIF(L15:L17,AI8)","v":1},{"$f":"AJ8/(AL4-AJ20)","v":0.33333333333333331},{"$f":"IF(AK8=0,0,(AK8*((LOG(AK8))/LOG(2))))","v":-0.52832083357371862},null,{"$f":"N8","v":1112},{"$f":"COUNTIF(L18:L20,AN8)","v":1},{"$f":"AO8/(AQ4-AO20)","v":0.33333333333333331},{"$f":"IF(AP8=0,0,(AP8*((LOG(AP8))/LOG(2))))","v":-0.52832083357371862},null,{"$f":"N8","v":1112},{"$f":"COUNTIF(L21:L23,AS8)","v":0},{"$f":"AT8/(AV4-AT20)","v":0},{"$f":"IF(AU8=0,0,(AU8*((LOG(AU8))/LOG(2))))","v":0}]
[12,253,14,256,13,261,23,271,null,null,0,1112,null,1121,{"$f":"COUNTIF($L$7:$L$500,N9)","v":0},{"$f":"O9/$Q$4","v":0},{"$f":"IF(P9=0,0,(P9*((LOG(P9))/LOG(2))))","v":0},null,null,{"$f":"N9","v":1121},{"$f":"COUNTIF(L7:L9,T9)","v":0},{"$f":"U9/(W4-U20)","v":0},{"$f":"IF(V9=0,0,(V9*((LOG(V9))/LOG(2))))","v":0},null,{"$f":"N9","v":1121},{"$f":"COUNTIF(L10:L12,Y9)","v":0},{"$f":"Z9/(AB4-Z20)","v":0},{"$f":"IF(AA9=0,0,(AA9*((LOG(AA9))/LOG(2))))","v":0},null,{"$f":"N9","v":1121},{"$f":"COUNTIF(L13:L14,AD9)","v":0},{"$f":"AE9/(AG4-AE20)","v":0},{"$f":"IF(AF9=0,0,(AF9*((LOG(AF9))/LOG(2))))","v":0},null,{"$f":"N9","v":1121},{"$f":"COUNTIF(L15:L17,AI9)","v":0},{"$f":"AJ9/(AL4-AJ20)","v":0},{"$f":"IF(AK9=0,0,(AK9*((LOG(AK9))/LOG(2))))","v":0},null,{"$f":"N9","v":1121},{"$f":"COUNTIF(L18:L20,AN9)","v":0},{"$f":"AO9/(AQ4-AO20)","v":0},{"$f":"IF(AP9=0,0,(AP9*((LOG(AP9))/LOG(2))))","v":0},null,{"$f":"N9","v":1121},{"$f":"COUNTIF(L21:L23,AS9)","v":0},{"$f":"AT9/(AV4-AT20)","v":0},{"$f":"IF(AU9=0,0,(AU9*((LOG(AU9))/LOG(2))))","v":0}]
[12,369,14,373,24,384,23,391,null,null,0,1122,null,1122,{"$f":"COUNTIF($L$7:$L$500,N10)","v":2},{"$f":"O10/$Q$4","v":0.125},{"$f":"IF(P10=0,0,(P10*((LOG(P10))/LOG(2))))","v":-0.375},null,null,{"$f":"N10","v":1122},{"$f":"COUNTIF(L7:L9,T10)","v":1},{"$f":"U10/(W4-U20)","v":0.33333333333333331},{"$f":"IF(V10=0,0,(V10*((LOG(V10))/LOG(2))))","v":-0.52832083357371862},null,{"$f":"N10","v":1122},{"$f":"COUNTIF(L10:L12,Y10)","v":1},{"$f":"Z10/(AB4-Z20)","v":0.33333333333333331},{"$f":"IF(AA10=0,0,(AA10*((LOG(AA10))/LOG(2))))","v":-0.52832083357371862},null,{"$f":"N10","v":1122},{"$f":"COUNTIF(L13:L14,AD10)","v":0},{"$f":"AE10/(AG4-AE20)","v":0},{"$f":"IF(AF10=0,0,(AF10*((LOG(AF10))/LOG(2))))","v":0},null,{"$f":"N10","v":1122},{"$f":"COUNTIF(L15:L17,AI10)","v":0},{"$f":"AJ10/(AL4-AJ20)","v":0},{"$f":"IF(AK10=0,0,(AK10*((LOG(AK10))/LOG(2))))","v":0},null,{"$f":"N10","v":1122},{"$f":"COUNTIF(L18:L20,AN10)","v":0},{"$f":"AO10/(AQ4-AO20)","v":0},{"$f":"IF(AP10=0,0,(AP10*((LOG(AP10))/LOG(2))))","v":0},null,{"$f":"N10","v":1122},{"$f":"COUNTIF(L21:L23,AS10)","v":0},{"$f":"AT10/(AV4-AT20)","v":0},{"$f":"IF(AU10=0,0,(AU10*((LOG(AU10))/LOG(2))))","v":0}]
[12,516,14,542,13,545,14,551,null,null,0,1111,null,1211,{"$f":"COUNTIF($L$7:$L$500,N11)","v":2},{"$f":"O11/$Q$4","v":0.125},{"$f":"IF(P11=0,0,(P11*((LOG(P11))/LOG(2))))","v":-0.375},null,null,{"$f":"N11","v":1211},{"$f":"COUNTIF(L7:L9,T11)","v":0},{"$f":"U11/(W4-U20)","v":0},{"$f":"IF(V11=0,0,(V11*((LOG(V11))/LOG(2))))","v":0},null,{"$f":"N11","v":1211},{"$f":"COUNTIF(L10:L12,Y11)","v":0},{"$f":"Z11/(AB4-Z20)","v":0},{"$f":"IF(AA11=0,0,(AA11*((LOG(AA11))/LOG(2))))","v":0},null,{"$f":"N11","v":1211},{"$f":"COUNTIF(L13:L14,AD11)","v":0},{"$f":"AE11/(AG4-AE20)","v":0},{"$f":"IF(AF11=0,0,(AF11*((LOG(AF11))/LOG(2))))","v":0},null,{"$f":"N11","v":1211},{"$f":"COUNTIF(L15:L17,AI11)","v":1},{"$f":"AJ11/(AL4-AJ20)","v":0.33333333333333331},{"$f":"IF(AK11=0,0,(AK11*((LOG(AK11))/LOG(2))))","v":-0.52832083357371862},null,{"$f":"N11","v":1211},{"$f":"COUNTIF(L18:L20,AN11)","v":0},{"$f":"AO11/(AQ4-AO20)","v":0},{"$f":"IF(AP11=0,0,(AP11*((LOG(AP11))/LOG(2))))","v":0},null,{"$f":"N11","v":1211},{"$f":"COUNTIF(L21:L23,AS11)","v":1},{"$f":"AT11/(AV4-AT20)","v":0.5},{"$f":"IF(AU11=0,0,(AU11*((LOG(AU11))/LOG(2))))","v":-0.5}]
[12,664,14,667,13,671,23,686,null,null,0,1112,null,1212,{"$f":"COUNTIF($L$7:$L$500,N12)","v":0},{"$f":"O12/$Q$4","v":0},{"$f":"IF(P12=0,0,(P12*((LOG(P12))/LOG(2))))","v":0},null,null,{"$f":"N12","v":1212},{"$f":"COUNTIF(L7:L9,T12)","v":0},{"$f":"U12/(W4-U20)","v":0},{"$f":"IF(V12=0,0,(V12*((LOG(V12))/LOG(2))))","v":0},null,{"$f":"N12","v":1212},{"$f":"COUNTIF(L10:L12,Y12)","v":0},{"$f":"Z12/(AB4-Z20)","v":0},{"$f":"IF(AA12=0,0,(AA12*((LOG(AA12))/LOG(2))))","v":0},null,{"$f":"N12","v":1212},{"$f":"COUNTIF(L13:L14,AD12)","v":0},{"$f":"AE12/(AG4-AE20)","v":0},{"$f":"IF(AF12=0,0,(AF12*((LOG(AF12))/LOG(2))))","v":0},null,{"$f":"N12","v":1212},{"$f":"COUNTIF(L15:L17,AI12)","v":0},{"$f":"AJ12/(AL4-AJ20)","v":0},{"$f":"IF(AK12=0,0,(AK12*((LOG(AK12))/LOG(2))))","v":0},null,{"$f":"N12","v":1212},{"$f":"COUNTIF(L18:L20,AN12)","v":0},{"$f":"AO12/(AQ4-AO20)","v":0},{"$f":"IF(AP12=0,0,(AP12*((LOG(AP12))/LOG(2))))","v":0},null,{"$f":"N12","v":1212},{"$f":"COUNTIF(L21:L23,AS12)","v":0},{"$f":"AT12/(AV4-AT20)","v":0},{"$f":"IF(AU12=0,0,(AU12*((LOG(AU12))/LOG(2))))","v":0}]
[12,814,23,829,24,832,23,837,null,null,0,1222,null,1221,{"$f":"COUNTIF($L$7:$L$500,N13)","v":0},{"$f":"O13/$Q$4","v":0},{"$f":"IF(P13=0,0,(P13*((LOG(P13))/LOG(2))))","v":0},null,null,{"$f":"N13","v":1221},{"$f":"COUNTIF(L7:L9,T13)","v":0},{"$f":"U13/(W4-U20)","v":0},{"$f":"IF(V13=0,0,(V13*((LOG(V13))/LOG(2))))","v":0},null,{"$f":"N13","v":1221},{"$f":"COUNTIF(L10:L12,Y13)","v":0},{"$f":"Z13/(AB4-Z20)","v":0},{"$f":"IF(AA13=0,0,(AA13*((LOG(AA13))/LOG(2))))","v":0},null,{"$f":"N13","v":1221},{"$f":"COUNTIF(L13:L14,AD13)","v":0},{"$f":"AE13/(AG4-AE20)","v":0},{"$f":"IF(AF13=0,0,(AF13*((LOG(AF13))/LOG(2))))","v":0},null,{"$f":"N13","v":1221},{"$f":"COUNTIF(L15:L17,AI13)","v":0},{"$f":"AJ13/(AL4-AJ20)","v":0},{"$f":"IF(AK13=0,0,(AK13*((LOG(AK13))/LOG(2))))","v":0},null,{"$f":"N13","v":1221},{"$f":"COUNTIF(L18:L20,AN13)","v":0},{"$f":"AO13/(AQ4-AO20)","v":0},{"$f":"IF(AP13=0,0,(AP13*((LOG(AP13))/LOG(2))))","v":0},null,{"$f":"N13","v":1221},{"$f":"COUNTIF(L21:L23,AS13)","v":0},{"$f":"AT13/(AV4-AT20)","v":0},{"$f":"IF(AU13=0,0,(AU13*((LOG(AU13))/LOG(2))))","v":0}]
[21,1505,21,1508,22,1514,23,1521,null,null,0,2222,null,1222,{"$f":"COUNTIF($L$7:$L$500,N14)","v":4},{"$f":"O14/$Q$4","v":0.25},{"$f":"IF(P14=0,0,(P14*((LOG(P14))/LOG(2))))","v":-0.5},null,null,{"$f":"N14","v":1222},{"$f":"COUNTIF(L7:L9,T14)","v":1},{"$f":"U14/(W4-U20)","v":0.33333333333333331},{"$f":"IF(V14=0,0,(V14*((LOG(V14))/LOG(2))))","v":-0.52832083357371862},null,{"$f":"N14","v":1222},{"$f":"COUNTIF(L10:L12,Y14)","v":0},{"$f":"Z14/(AB4-Z20)","v":0},{"$f":"IF(AA14=0,0,(AA14*((LOG(AA14))/LOG(2))))","v":0},null,{"$f":"N14","v":1222},{"$f":"COUNTIF(L13:L14,AD14)","v":1},{"$f":"AE14/(AG4-AE20)","v":0.5},{"$f":"IF(AF14=0,0,(AF14*((LOG(AF14))/LOG(2))))","v":-0.5},null,{"$f":"N14","v":1222},{"$f":"COUNTIF(L15:L17,AI14)","v":1},{"$f":"AJ14/(AL4-AJ20)","v":0.33333333333333331},{"$f":"IF(AK14=0,0,(AK14*((LOG(AK14))/LOG(2))))","v":-0.52832083357371862},null,{"$f":"N14","v":1222},{"$f":"COUNTIF(L18:L20,AN14)","v":0},{"$f":"AO14/(AQ4-AO20)","v":0},{"$f":"IF(AP14=0,0,(AP14*((LOG(AP14))/LOG(2))))","v":0},null,{"$f":"N14","v":1222},{"$f":"COUNTIF(L21:L23,AS14)","v":1},{"$f":"AT14/(AV4-AT20)","v":0.5},{"$f":"IF(AU14=0,0,(AU14*((LOG(AU14))/LOG(2))))","v":-0.5}]
[12,1643,23,1658,24,1664,23,1670,null,null,0,1222,null,2111,{"$f":"COUNTIF($L$7:$L$500,N15)","v":0},{"$f":"O15/$Q$4","v":0},{"$f":"IF(P15=0,0,(P15*((LOG(P15))/LOG(2))))","v":0},null,null,{"$f":"N15","v":2111},{"$f":"COUNTIF(L7:L9,T15)","v":0},{"$f":"U15/(W4-U20)","v":0},{"$f":"IF(V15=0,0,(V15*((LOG(V15))/LOG(2))))","v":0},null,{"$f":"N15","v":2111},{"$f":"COUNTIF(L10:L12,Y15)","v":0},{"$f":"Z15/(AB4-Z20)","v":0},{"$f":"IF(AA15=0,0,(AA15*((LOG(AA15))/LOG(2))))","v":0},null,{"$f":"N15","v":2111},{"$f":"COUNTIF(L13:L14,AD15)","v":0},{"$f":"AE15/(AG4-AE20)","v":0},{"$f":"IF(AF15=0,0,(AF15*((LOG(AF15))/LOG(2))))","v":0},null,{"$f":"N15","v":2111},{"$f":"COUNTIF(L15:L17,AI15)","v":0},{"$f":"AJ15/(AL4-AJ20)","v":0},{"$f":"IF(AK15=0,0,(AK15*((LOG(AK15))/LOG(2))))","v":0},null,{"$f":"N15","v":2111},{"$f":"COUNTIF(L18:L20,AN15)","v":0},{"$f":"AO15/(AQ4-AO20)","v":0},{"$f":"IF(AP15=0,0,(AP15*((LOG(AP15))/LOG(2))))","v":0},null,{"$f":"N15","v":2111},{"$f":"COUNTIF(L21:L23,AS15)","v":0},{"$f":"AT15/(AV4-AT20)","v":0},{"$f":"IF(AU15=0,0,(AU15*((LOG(AU15))/LOG(2))))","v":0}]
[12,1774,14,1780,13,1783,23,1794,null,null,0,1112,null,2112,{"$f":"COUNTIF($L$7:$L$500,N16)","v":0},{"$f":"O16/$Q$4","v":0},{"$f":"IF(P16=0,0,(P16*((LOG(P16))/LOG(2))))","v":0},null,null,{"$f":"N16","v":2112},{"$f":"COUNTIF(L7:L9,T16)","v":0},{"$f":"U16/(W4-U20)","v":0},{"$f":"IF(V16=0,0,(V16*((LOG(V16))/LOG(2))))","v":0},null,{"$f":"N16","v":2112},{"$f":"COUNTIF(L10:L12,Y16)","v":0},{"$f":"Z16/(AB4-Z20)","v":0},{"$f":"IF(AA16=0,0,(AA16*((LOG(AA16))/LOG(2))))","v":0},null,{"$f":"N16","v":2112},{"$f":"COUNTIF(L13:L14,AD16)","v":0},{"$f":"AE16/(AG4-AE20)","v":0},{"$f":"IF(AF16=0,0,(AF16*((LOG(AF16))/LOG(2))))","v":0},null,{"$f":"N16","v":2112},{"$f":"COUNTIF(L15:L17,AI16)","v":0},{"$f":"AJ16/(AL4-AJ20)","v":0},{"$f":"IF(AK16=0,0,(AK16*((LOG(AK16))/LOG(2))))","v":0},null,{"$f":"N16","v":2112},{"$f":"COUNTIF(L18:L20,AN16)","v":0},{"$f":"AO16/(AQ4-AO20)","v":0},{"$f":"IF(AP16=0,0,(AP16*((LOG(AP16))/LOG(2))))","v":0},null,{"$f":"N16","v":2112},{"$f":"COUNTIF(L21:L23,AS16)","v":0},{"$f":"AT16/(AV4-AT20)","v":0},{"$f":"IF(AU16=0,0,(AU16*((LOG(AU16))/LOG(2))))","v":0}]
[12,1919,23,1932,13,1947,14,1950,null,null,0,1211,null,2121,{"$f":"COUNTIF($L$7:$L$500,N17)","v":0},{"$f":"O17/$Q$4","v":0},{"$f":"IF(P17=0,0,(P17*((LOG(P17))/LOG(2))))","v":0},null,null,{"$f":"N17","v":2121},{"$f":"COUNTIF(L7:L9,T17)","v":0},{"$f":"U17/(W4-U20)","v":0},{"$f":"IF(V17=0,0,(V17*((LOG(V17))/LOG(2))))","v":0},null,{"$f":"N17","v":2121},{"$f":"COUNTIF(L10:L12,Y17)","v":0},{"$f":"Z17/(AB4-Z20)","v":0},{"$f":"IF(AA17=0,0,(AA17*((LOG(AA17))/LOG(2))))","v":0},null,{"$f":"N17","v":2121},{"$f":"COUNTIF(L13:L14,AD17)","v":0},{"$f":"AE17/(AG4-AE20)","v":0},{"$f":"IF(AF17=0,0,(AF17*((LOG(AF17))/LOG(2))))","v":0},null,{"$f":"N17","v":2121},{"$f":"COUNTIF(L15:L17,AI17)","v":0},{"$f":"AJ17/(AL4-AJ20)","v":0},{"$f":"IF(AK17=0,0,(AK17*((LOG(AK17))/LOG(2))))","v":0},null,{"$f":"N17","v":2121},{"$f":"COUNTIF(L18:L20,AN17)","v":0},{"$f":"AO17/(AQ4-AO20)","v":0},{"$f":"IF(AP17=0,0,(AP17*((LOG(AP17))/LOG(2))))","v":0},null,{"$f":"N17","v":2121},{"$f":"COUNTIF(L21:L23,AS17)","v":0},{"$f":"AT17/(AV4-AT20)","v":0},{"$f":"IF(AU17=0,0,(AU17*((LOG(AU17))/LOG(2))))","v":0}]
[12,2056,14,2062,13,2067,14,2225,null,null,0,1111,null,2122,{"$f":"COUNTIF($L$7:$L$500,N18)","v":0},{"$f":"O18/$Q$4","v":0},{"$f":"IF(P18=0,0,(P18*((LOG(P18))/LOG(2))))","v":0},null,null,{"$f":"N18","v":2122},{"$f":"COUNTIF(L7:L9,T18)","v":0},{"$f":"U18/(W4-U20)","v":0},{"$f":"IF(V18=0,0,(V18*((LOG(V18))/LOG(2))))","v":0},null,{"$f":"N18","v":2122},{"$f":"COUNTIF(L10:L12,Y18)","v":0},{"$f":"Z18/(AB4-Z20)","v":0},{"$f":"IF(AA18=0,0,(AA18*((LOG(AA18))/LOG(2))))","v":0},null,{"$f":"N18","v":2122},{"$f":"COUNTIF(L13:L14,AD18)","v":0},{"$f":"AE18/(AG4-AE20)","v":0},{"$f":"IF(AF18=0,0,(AF18*((LOG(AF18))/LOG(2))))","v":0},null,{"$f":"N18","v":2122},{"$f":"COUNTIF(L15:L17,AI18)","v":0},{"$f":"AJ18/(AL4-AJ20)","v":0},{"$f":"IF(AK18=0,0,(AK18*((LOG(AK18))/LOG(2))))","v":0},null,{"$f":"N18","v":2122},{"$f":"COUNTIF(L18:L20,AN18)","v":0},{"$f":"AO18/(AQ4-AO20)","v":0},{"$f":"IF(AP18=0,0,(AP18*((LOG(AP18))/LOG(2))))","v":0},null,{"$f":"N18","v":2122},{"$f":"COUNTIF(L21:L23,AS18)","v":0},{"$f":"AT18/(AV4-AT20)","v":0},{"$f":"IF(AU18=0,0,(AU18*((LOG(AU18))/LOG(2))))","v":0}]
[12,2541,14,2560,13,4880,23,4891,null,null,0,1112,null,2211,{"$f":"COUNTIF($L$7:$L$500,N19)","v":0},{"$f":"O19/$Q$4","v":0},{"$f":"IF(P19=0,0,(P19*((LOG(P19))/LOG(2))))","v":0},null,null,{"$f":"N19","v":2211},{"$f":"COUNTIF(L7:L9,T19)","v":0},{"$f":"U19/(W4-U20)","v":0},{"$f":"IF(V19=0,0,(V19*((LOG(V19))/LOG(2))))","v":0},null,{"$f":"N19","v":2211},{"$f":"COUNTIF(L10:L12,Y19)","v":0},{"$f":"Z19/(AB4-Z20)","v":0},{"$f":"IF(AA19=0,0,(AA19*((LOG(AA19))/LOG(2))))","v":0},null,{"$f":"N19","v":2211},{"$f":"COUNTIF(L13:L14,AD19)","v":0},{"$f":"AE19/(AG4-AE20)","v":0},{"$f":"IF(AF19=0,0,(AF19*((LOG(AF19))/LOG(2))))","v":0},null,{"$f":"N19","v":2211},{"$f":"COUNTIF(L15:L17,AI19)","v":0},{"$f":"AJ19/(AL4-AJ20)","v":0},{"$f":"IF(AK19=0,0,(AK19*((LOG(AK19))/LOG(2))))","v":0},null,{"$f":"N19","v":2211},{"$f":"COUNTIF(L18:L20,AN19)","v":0},{"$f":"AO19/(AQ4-AO20)","v":0},{"$f":"IF(AP19=0,0,(AP19*((LOG(AP19))/LOG(2))))","v":0},null,{"$f":"N19","v":2211},{"$f":"COUNTIF(L21:L23,AS19)","v":0},{"$f":"AT19/(AV4-AT20)","v":0},{"$f":"IF(AU19=0,0,(AU19*((LOG(AU19))/LOG(2))))","v":0}]
[12,5209,14,5214,13,5267,14,5273,null,null,0,1111,null,2212,{"$f":"COUNTIF($L$7:$L$500,N20)","v":0},{"$f":"O20/$Q$4","v":0},{"$f":"IF(P20=0,0,(P20*((LOG(P20))/LOG(2))))","v":0},null,null,{"$f":"N20","v":2212},{"$f":"COUNTIF(L7:L9,T20)","v":0},null,null,null,{"$f":"N20","v":2212},{"$f":"COUNTIF(L10:L12,Y20)","v":0},null,null,null,{"$f":"N20","v":2212},{"$f":"COUNTIF(L13:L14,AD20)","v":0},null,null,null,{"$f":"N20","v":2212},{"$f":"COUNTIF(L15:L17,AI20)","v":0},null,null,null,{"$f":"N20","v":2212},{"$f":"COUNTIF(L18:L20,AN20)","v":0},null,null,null,{"$f":"N20","v":2212},{"$f":"COUNTIF(L21:L23,AS20)","v":0}]
[12,11878,23,11893,24,11899,23,11903,null,null,0,1222,null,2221,{"$f":"COUNTIF($L$7:$L$500,N21)","v":0},{"$f":"O21/$Q$4","v":0},{"$f":"IF(P21=0,0,(P21*((LOG(P21))/LOG(2))))","v":0},null,null,{"$f":"N21","v":2221},{"$f":"COUNTIF(L7:L9,T21)","v":0},{"$f":"U21/(W4-U20)","v":0},{"$f":"IF(V21=0,0,(V21*((LOG(V21))/LOG(2))))","v":0},null,{"$f":"N21","v":2221},{"$f":"COUNTIF(L10:L12,Y21)","v":0},{"$f":"Z21/(AB4-Z20)","v":0},{"$f":"IF(AA21=0,0,(AA21*((LOG(AA21))/LOG(2))))","v":0},null,{"$f":"N21","v":2221},{"$f":"COUNTIF(L13:L14,AD21)","v":0},{"$f":"AE21/(AG4-AE20)","v":0},{"$f":"IF(AF21=0,0,(AF21*((LOG(AF21))/LOG(2))))","v":0},null,{"$f":"N21","v":2221},{"$f":"COUNTIF(L15:L17,AI21)","v":0},{"$f":"AJ21/(AL4-AJ20)","v":0},{"$f":"IF(AK21=0,0,(AK21*((LOG(AK21))/LOG(2))))","v":0},null,{"$f":"N21","v":2221},{"$f":"COUNTIF(L18:L20,AN21)","v":0},{"$f":"AO21/(AQ4-AO20)","v":0},{"$f":"IF(AP21=0,0,(AP21*((LOG(AP21))/LOG(2))))","v":0},null,{"$f":"N21","v":2221},{"$f":"COUNTIF(L21:L23,AS21)","v":0},{"$f":"AT21/(AV4-AT20)","v":0},{"$f":"IF(AU21=0,0,(AU21*((LOG(AU21))/LOG(2))))","v":0}]
[12,12056,23,18547,13,18708,14,18712,null,null,0,1211,null,2222,{"$f":"COUNTIF($L$7:$L$500,N22)","v":1},{"$f":"O22/$Q$4","v":6.25E-2},{"$f":"IF(P22=0,0,(P22*((LOG(P22))/LOG(2))))","v":-0.25},null,null,{"$f":"N22","v":2222},{"$f":"COUNTIF(L7:L9,T22)","v":0},{"$f":"U22/(W4-U20)","v":0},{"$f":"IF(V22=0,0,(V22*((LOG(V22))/LOG(2))))","v":0},null,{"$f":"N22","v":2222},{"$f":"COUNTIF(L10:L12,Y22)","v":0},{"$f":"Z22/(AB4-Z20)","v":0},{"$f":"IF(AA22=0,0,(AA22*((LOG(AA22))/LOG(2))))","v":0},null,{"$f":"N22","v":2222},{"$f":"COUNTIF(L13:L14,AD22)","v":1},{"$f":"AE22/(AG4-AE20)","v":0.5},{"$f":"IF(AF22=0,0,(AF22*((LOG(AF22))/LOG(2))))","v":-0.5},null,{"$f":"N22","v":2222},{"$f":"COUNTIF(L15:L17,AI22)","v":0},{"$f":"AJ22/(AL4-AJ20)","v":0},{"$f":"IF(AK22=0,0,(AK22*((LOG(AK22))/LOG(2))))","v":0},null,{"$f":"N22","v":2222},{"$f":"COUNTIF(L18:L20,AN22)","v":0},{"$f":"AO22/(AQ4-AO20)","v":0},{"$f":"IF(AP22=0,0,(AP22*((LOG(AP22))/LOG(2))))","v":0},null,{"$f":"N22","v":2222},{"$f":"COUNTIF(L21:L23,AS22)","v":0},{"$f":"AT22/(AV4-AT20)","v":0},{"$f":"IF(AU22=0,0,(AU22*((LOG(AU22))/LOG(2))))","v":0}]
[21,21786,21,21793,null,null,null,null,null,null,null,22,null,null,null,{"$f":"SUM(P7:P22)","v":1},{"$f":"-SUM(Q7:Q22)","v":2.4528195311147831},null,null,null,null,{"$f":"SUM(V7:V22)","v":1},{"$f":"-SUM(W7:W22)","v":1.5849625007211559},null,null,null,{"$f":"SUM(AA7:AA22)","v":1},{"$f":"-SUM(AB7:AB22)","v":1.5849625007211559},null,null,null,{"$f":"SUM(AF7:AF22)","v":1},{"$f":"-SUM(AG7:AG22)","v":1},null,null,null,{"$f":"SUM(AK7:AK22)","v":1},{"$f":"-SUM(AL7:AL22)","v":1.5849625007211559},null,null,null,{"$f":"SUM(AP7:AP22)","v":1},{"$f":"-SUM(AQ7:AQ22)","v":0.91829583405448945},null,null,null,{"$f":"SUM(AU7:AU22)","v":1},{"$f":"-SUM(AV7:AV22)","v":1}]
[null,null,null,null,null,null,null,null,null,null,null,null,null,null,null,"U=",{"$f":"Q23/(LOG(Q4)/LOG(2))","v":0.61320488277869578},null,null,null,null,"U1=",{"$f":"W23/(LOG(W4)/LOG(2))","v":0.99999999999999989},null,null,null,"U2=",{"$f":"AB23/(LOG(AB4)/LOG(2))","v":0.99999999999999989},null,null,null,"U3=",{"$f":"AG23/(LOG(AG4)/LOG(2))","v":1},null,null,null,"U4=",{"$f":"AL23/(LOG(AL4)/LOG(2))","v":0.99999999999999989},null,null,null,"U5=",{"$f":"AQ23/(LOG(AQ4)/LOG(2))","v":0.57938016428569505},null,null,null,"U6=",{"$f":"AV23/(LOG(AV4)/LOG(2))","v":1}]
[]
[]
[null,null,null,null,null,null,null,null,null,null,null,null,null,"Total Target Seq"]
[null,null,null,null,null,null,null,null,null,null,null,null,null,{"$f":"COUNTIF(L7:L23,G3)","v":0},null,3,3,2,3,3,3]
[null,null,null,null,null,null,null,null,null,null,null,null,null,null,null,"% of reinforcement given in 6 equal intervals based on number of trials "]
[null,null,null,null,null,null,null,null,null,null,null,null,null,null,null,"%_1","%_2","%_3","%_4","%_5","%_6"]
[null,null,null,null,null,null,null,null,null,null,null,null,null,null,"target sequence",{"$f":"$G$3","v":2212},{"$f":"$G$3","v":2212},{"$f":"$G$3","v":2212},{"$f":"$G$3","v":2212},{"$f":"$G$3","v":2212},{"$f":"$G$3","v":2212}]
[null,null,null,null,null,null,null,null,null,null,null,null,null,null,"total reinforcement",{"$f":"U20","v":0},{"$f":"Z20","v":0},{"$f":"AE20","v":0},{"$f":"AJ20","v":0},{"$f":"AO20","v":0},{"$f":"AT20","v":0}]
[null,null,null,null,null,null,null,null,null,null,null,null,null,null,"% target"]
[null,null,null,null,null,null,null,null,null,null,null,null,null,null,"CCRF"]
[null,null,null,null,null,null,null,null,null,null,null,null,null,null,"% CCRf"]
[null,null,null,null,null,null,null,null,null,null,null,null,null,null,"average response rate",{"$f":"H9/P28","v":90.333333333333329},{"$f":"(H12-H9)/Q28","v":138.33333333333334},{"$f":"(H14-H12)/R28","v":417.5},{"$f":"(H17-H14)/S28","v":143},{"$f":"(H20-H17)/T28","v":1107.6666666666667},{"$f":"(H23-H20)/U28","v":-1757.6666666666667}]

{"sheet":"!M113A5T.ayl","index":10,"n_rows":57,"n_cols":48,"rows_kept":57,"cut":false,"hidden":false,"merged":[[4,39,4,42],[5,39,5,40],[4,44,4,47],[5,44,5,45],[4,24,4,27],[5,24,5,25],[4,29,4,32],[5,29,5,30],[4,34,4,37],[5,34,5,35],[1,1,1,2],[5,13,5,14],[26,13,26,14],[27,13,27,14],[4,19,4,22],[5,19,5,20]]}
["Report for:!M113A5T.ayl"]
["Date:","<date>"]
["Hen:","<hen>",null,null,null,"Correct Sequence",{"$f":"Start!J2","v":2212},null,null,null,null,null,null,null,null,"Total Sequences in Data",{"$f":"4994-COUNTBLANK(L7:L5000)","v":51},null,null,null,null,"Total Sequences in Block Data",{"$f":"COUNTA(L7:L15)","v":9},null,null,null,"Total Sequences in Block Data",{"$f":"COUNTA(L16:L23)","v":8},null,null,null,"Total Sequences in Block Data",{"$f":"COUNTA(L24:L32)","v":9},null,null,null,"Total Sequences in Block Data",{"$f":"COUNTA(L33:L40)","v":8},null,null,null,"Total Sequences in Block Data",{"$f":"COUNTA(L41:L49)","v":9},null,null,null,"Total Sequences in Block Data",{"$f":"COUNTA(L50:L57)","v":8}]
[null,null,null,null,null,null,null,null,null,null,null,null,null,null,null,"Total Sequences in Summary",{"$f":"SUM(O7:O22)","v":51},null,null,null,null,"Total Sequences in Block Summary",{"$f":"SUM(U7:U22)","v":9},null,null,null,"Total Sequences in Block Summary",{"$f":"SUM(Z7:Z22)","v":8},null,null,null,"Total Sequences in Block Summary",{"$f":"SUM(AE7:AE22)","v":9},null,null,null,"Total Sequences in Block Summary",{"$f":"SUM(AJ7:AJ22)","v":8},null,null,null,"Total Sequences in Block Summary",{"$f":"SUM(AO7:AO22)","v":9},null,null,null,"Total Sequences in Block Summary",{"$f":"SUM(AT7:AT22)","v":8}]
[null,null,null,null,null,null,null,null,null,null,null,null,null,null,null,null,null,null,null,"Block 1",null,null,null,null,"Block 2",null,null,null,null,"Block 3",null,null,null,null,"Block 4",null,null,null,null,"Block 5",null,null,null,null,"Block 6"]
["Sequence\nComponent\n1","Time\n1","Sequence\nComponent\n2","Time\n2","Sequence\nComponent\n3","Time\n3","Sequence\nComponent\n4","Time\n4","Sequence\nComponent\n5","Time\n5","Correct?\n0=No 1=Yes","Sequence",null,"Frequency",null,"Relative Frequency","Variability",null,null,"Frequency",null,"Relative Frequency","Variability",null,"Frequency",null,"Relative Frequency","Variability",null,"Frequency",null,"Relative Frequency","Variability",null,"Frequency",null,"Relative Frequency","Variability",null,"Frequency",null,"Relative Frequency","Variability",null,"Frequency",null,"Relative Frequency","Variability"]
[12,10,23,21,24,26,23,34,null,null,0,1222,null,1111,{"$f":"COUNTIF($L$7:$L$500,N7)","v":8},{"$f":"O7/$Q$4","v":0.15686274509803921},{"$f":"IF(P7=0,0,(P7*((LOG(P7))/LOG(2))))","v":-0.419203975211215},null,null,{"$f":"N7","v":1111},{"$f":"COUNTIF(L7:L15,T7)","v":1},{"$f":"U7/(W4-U20)","v":0.1111111111111111},{"$f":"IF(V7=0,0,(V7*((LOG(V7))/LOG(2))))","v":-0.3522138890491458},null,{"$f":"N7","v":1111},{"$f":"COUNTIF(L16:L23,Y7)","v":1},{"$f":"Z7/(AB4-Z20)","v":0.125},{"$f":"IF(AA7=0,0,(AA7*((LOG(AA7))/LOG(2))))","v":-0.375},null,{"$f":"N7","v":1111},{"$f":"COUNTIF(L24:L32,AD7)","v":2},{"$f":"AE7/(AG4-AE20)","v":0.22222222222222221},{"$f":"IF(AF7=0,0,(AF7*((LOG(AF7))/LOG(2))))","v":-0.48220555587606945},null,{"$f":"N7","v":1111},{"$f":"COUNTIF(L33:L40,AI7)","v":1},{"$f":"AJ7/(AL4-AJ20)","v":0.125},{"$f":"IF(AK7=0,0,(AK7*((LOG(AK7))/LOG(2))))","v":-0.375},null,{"$f":"N7","v":1111},{"$f":"COUNTIF(L41:L49,AN7)","v":2},{"$f":"AO7/(AQ4-AO20)","v":0.22222222222222221},{"$f":"IF(AP7=0,0,(AP7*((LOG(AP7))/LOG(2))))","v":-0.48220555587606945},null,{"$f":"N7","v":1111},{"$f":"COUNTIF(L50:L57,AS7)","v":1},{"$f":"AT7/(AV4-AT20)","v":0.125},{"$f":"IF(AU7=0,0,(AU7*((LOG(AU7))/LOG(2))))","v":-0.375}]
[12,131,14,138,24,148,23,152,null,null,0,1122,null,1112,{"$f":"COUNTIF($L$7:$L$500,N8)","v":4},{"$f":"O8/$Q$4","v":7.8431372549019607E-2},{"$f":"IF(P8=0,0,(P8*((LOG(P8))/LOG(2))))","v":-0.2880333601546271},null,null,{"$f":"N8","v":1112},{"$f":"COUNTIF(L7:L15,T8)","v":2},{"$f":"U8/(W4-U20)","v":0.22222222222222221},{"$f":"IF(V8=0,0,(V8*((LOG(V8))/LOG(2))))","v":-0.48220555587606945},null,{"$f":"N8","v":1112},{"$f":"COUNTIF(L16:L23,Y8)","v":1},{"$f":"Z8/(AB4-Z20)","v":0.125},{"$f":"IF(AA8=0,0,(AA8*((LOG(AA8))/LOG(2))))","v":-0.375},null,{"$f":"N8","v":1112},{"$f":"COUNTIF(L24:L32,AD8)","v":0},{"$f":"AE8/(AG4-AE20)","v":0},{"$f":"IF(AF8=0,0,(AF8*((LOG(AF8))/LOG(2))))","v":0},null,{"$f":"N8","v":1112},{"$f":"COUNTIF(L33:L40,AI8)","v":0},{"$f":"AJ8/(AL4-AJ20)","v":0},{"$f":"IF(AK8=0,0,(AK8*((LOG(AK8))/LOG(2))))","v":0},null,{"$f":"N8","v":1112},{"$f":"COUNTIF(L41:L49,AN8)","v":0},{"$f":"AO8/(AQ4-AO20)","v":0},{"$f":"IF(AP8=0,0,(AP8*((LOG(AP8))/LOG(2))))","v":0},null,{"$f":"N8","v":1112},{"$f":"COUNTIF(L50:L57,AS8)","v":1},{"$f":"AT8/(AV4-AT20)","v":0.125},{"$f":"IF(AU8=0,0,(AU8*((LOG(AU8))/LOG(2))))","v":-0.375}]
[12,409,23,422,24,424,23,429,null,null,0,1222,null,1121,{"$f":"COUNTIF($L$7:$L$500,N9)","v":2},{"$f":"O9/$Q$4","v":3.9215686274509803E-2},{"$f":"IF(P9=0,0,(P9*((LOG(P9))/LOG(2))))","v":-0.18323236635182338},null,null,{"$f":"N9","v":1121},{"$f":"COUNTIF(L7:L15,T9)","v":0},{"$f":"U9/(W4-U20)","v":0},{"$f":"IF(V9=0,0,(V9*((LOG(V9))/LOG(2))))","v":0},null,{"$f":"N9","v":1121},{"$f":"COUNTIF(L16:L23,Y9)","v":0},{"$f":"Z9/(AB4-Z20)","v":0},{"$f":"IF(AA9=0,0,(AA9*((LOG(AA9))/LOG(2))))","v":0},null,{"$f":"N9","v":1121},{"$f":"COUNTIF(L24:L32,AD9)","v":0},{"$f":"AE9/(AG4-AE20)","v":0},{"$f":"IF(AF9=0,0,(AF9*((LOG(AF9))/LOG(2))))","v":0},null,{"$f":"N9","v":1121},{"$f":"COUNTIF(L33:L40,AI9)","v":0},{"$f":"AJ9/(AL4-AJ20)","v":0},{"$f":"IF(AK9=0,0,(AK9*((LOG(AK9))/LOG(2))))","v":0},null,{"$f":"N9","v":1121},{"$f":"COUNTIF(L41:L49,AN9)","v":2},{"$f":"AO9/(AQ4-AO20)","v":0.22222222222222221},{"$f":"IF(AP9=0,0,(AP9*((LOG(AP9))/LOG(2))))","v":-0.48220555587606945},null,{"$f":"N9","v":1121},{"$f":"COUNTIF(L50:L57,AS9)","v":0},{"$f":"AT9/(AV4-AT20)","v":0},{"$f":"IF(AU9=0,0,(AU9*((LOG(AU9))/LOG(2))))","v":0}]
[12,638,23,648,24,653,23,658,null,null,0,1222,null,1122,{"$f":"COUNTIF($L$7:$L$500,N10)","v":9},{"$f":"O10/$Q$4","v":0.17647058823529413},{"$f":"IF(P10=0,0,(P10*((LOG(P10))/LOG(2))))","v":-0.44161770715220888},null,null,{"$f":"N10","v":1122},{"$f":"COUNTIF(L7:L15,T10)","v":2},{"$f":"U10/(W4-U20)","v":0.22222222222222221},{"$f":"IF(V10=0,0,(V10*((LOG(V10))/LOG(2))))","v":-0.48220555587606945},null,{"$f":"N10","v":1122},{"$f":"COUNTIF(L16:L23,Y10)","v":2},{"$f":"Z10/(AB4-Z20)","v":0.25},{"$f":"IF(AA10=0,0,(AA10*((LOG(AA10))/LOG(2))))","v":-0.5},null,{"$f":"N10","v":1122},{"$f":"COUNTIF(L24:L32,AD10)","v":2},{"$f":"AE10/(AG4-AE20)","v":0.22222222222222221},{"$f":"IF(AF10=0,0,(AF10*((LOG(AF10))/LOG(2))))","v":-0.48220555587606945},null,{"$f":"N10","v":1122},{"$f":"COUNTIF(L33:L40,AI10)","v":1},{"$f":"AJ10/(AL4-AJ20)","v":0.125},{"$f":"IF(AK10=0,0,(AK10*((LOG(AK10))/LOG(2))))","v":-0.375},null,{"$f":"N10","v":1122},{"$f":"COUNTIF(L41:L49,AN10)","v":1},{"$f":"AO10/(AQ4-AO20)","v":0.1111111111111111},{"$f":"IF(AP10=0,0,(AP10*((LOG(AP10))/LOG(2))))","v":-0.3522138890491458},null,{"$f":"N10","v":1122},{"$f":"COUNTIF(L50:L57,AS10)","v":1},{"$f":"AT10/(AV4-AT20)","v":0.125},{"$f":"IF(AU10=0,0,(AU10*((LOG(AU10))/LOG(2))))","v":-0.375}]
[12,756,14,758,24,769,23,773,null,null,0,1122,null,1211,{"$f":"COUNTIF($L$7:$L$500,N11)","v":1},{"$f":"O11/$Q$4","v":1.9607843137254902E-2},{"$f":"IF(P11=0,0,(P11*((LOG(P11))/LOG(2))))","v":-0.11122402631316657},null,null,{"$f":"N11","v":1211},{"$f":"COUNTIF(L7:L15,T11)","v":0},{"$f":"U11/(W4-U20)","v":0},{"$f":"IF(V11=0,0,(V11*((LOG(V11))/LOG(2))))","v":0},null,{"$f":"N11","v":1211},{"$f":"COUNTIF(L16:L23,Y11)","v":0},{"$f":"Z11/(AB4-Z20)","v":0},{"$f":"IF(AA11=0,0,(AA11*((LOG(AA11))/LOG(2))))","v":0},null,{"$f":"N11","v":1211},{"$f":"COUNTIF(L24:L32,AD11)","v":0},{"$f":"AE11/(AG4-AE20)","v":0},{"$f":"IF(AF11=0,0,(AF11*((LOG(AF11))/LOG(2))))","v":0},null,{"$f":"N11","v":1211},{"$f":"COUNTIF(L33:L40,AI11)","v":0},{"$f":"AJ11/(AL4-AJ20)","v":0},{"$f":"IF(AK11=0,0,(AK11*((LOG(AK11))/LOG(2))))","v":0},null,{"$f":"N11","v":1211},{"$f":"COUNTIF(L41:L49,AN11)","v":0},{"$f":"AO11/(AQ4-AO20)","v":0},{"$f":"IF(AP11=0,0,(AP11*((LOG(AP11))/LOG(2))))","v":0},null,{"$f":"N11","v":1211},{"$f":"COUNTIF(L50:L57,AS11)","v":1},{"$f":"AT11/(AV4-AT20)","v":0.125},{"$f":"IF(AU11=0,0,(AU11*((LOG(AU11))/LOG(2))))","v":-0.375}]
[12,872,14,875,13,881,14,888,null,null,0,1111,null,1212,{"$f":"COUNTIF($L$7:$L$500,N12)","v":0},{"$f":"O12/$Q$4","v":0},{"$f":"IF(P12=0,0,(P12*((LOG(P12))/LOG(2))))","v":0},null,null,{"$f":"N12","v":1212},{"$f":"COUNTIF(L7:L15,T12)","v":0},{"$f":"U12/(W4-U20)","v":0},{"$f":"IF(V12=0,0,(V12*((LOG(V12))/LOG(2))))","v":0},null,{"$f":"N12","v":1212},{"$f":"COUNTIF(L16:L23,Y12)","v":0},{"$f":"Z12/(AB4-Z20)","v":0},{"$f":"IF(AA12=0,0,(AA12*((LOG(AA12))/LOG(2))))","v":0},null,{"$f":"N12","v":1212},{"$f":"COUNTIF(L24:L32,AD12)","v":0},{"$f":"AE12/(AG4-AE20)","v":0},{"$f":"IF(AF12=0,0,(AF12*((LOG(AF12))/LOG(2))))","v":0},null,{"$f":"N12","v":1212},{"$f":"COUNTIF(L33:L40,AI12)","v":0},{"$f":"AJ12/(AL4-AJ20)","v":0},{"$f":"IF(AK12=0,0,(AK12*((LOG(AK12))/LOG(2))))","v":0},null,{"$f":"N12","v":1212},{"$f":"COUNTIF(L41:L49,AN12)","v":0},{"$f":"AO12/(AQ4-AO20)","v":0},{"$f":"IF(AP12=0,0,(AP12*((LOG(AP12))/LOG(2))))","v":0},null,{"$f":"N12","v":1212},{"$f":"COUNTIF(L50:L57,AS12)","v":0},{"$f":"AT12/(AV4-AT20)","v":0},{"$f":"IF(AU12=0,0,(AU12*((LOG(AU12))/LOG(2))))","v":0}]
[12,990,14,992,13,995,23,1005,null,null,0,1112,null,1221,{"$f":"COUNTIF($L$7:$L$500,N13)","v":0},{"$f":"O13/$Q$4","v":0},{"$f":"IF(P13=0,0,(P13*((LOG(P13))/LOG(2))))","v":0},null,null,{"$f":"N13","v":1221},{"$f":"COUNTIF(L7:L15,T13)","v":0},{"$f":"U13/(W4-U20)","v":0},{"$f":"IF(V13=0,0,(V13*((LOG(V13))/LOG(2))))","v":0},null,{"$f":"N13","v":1221},{"$f":"COUNTIF(L16:L23,Y13)","v":0},{"$f":"Z13/(AB4-Z20)","v":0},{"$f":"IF(AA13=0,0,(AA13*((LOG(AA13))/LOG(2))))","v":0},null,{"$f":"N13","v":1221},{"$f":"COUNTIF(L24:L32,AD13)","v":0},{"$f":"AE13/(AG4-AE20)","v":0},{"$f":"IF(AF13=0,0,(AF13*((LOG(AF13))/LOG(2))))","v":0},null,{"$f":"N13","v":1221},{"$f":"COUNTIF(L33:L40,AI13)","v":0},{"$f":"AJ13/(AL4-AJ20)","v":0},{"$f":"IF(AK13=0,0,(AK13*((LOG(AK13))/LOG(2))))","v":0},null,{"$f":"N13","v":1221},{"$f":"COUNTIF(L41:L49,AN13)","v":0},{"$f":"AO13/(AQ4-AO20)","v":0},{"$f":"IF(AP13=0,0,(AP13*((LOG(AP13))/LOG(2))))","v":0},null,{"$f":"N13","v":1221},{"$f":"COUNTIF(L50:L57,AS13)","v":0},{"$f":"AT13/(AV4-AT20)","v":0},{"$f":"IF(AU13=0,0,(AU13*((LOG(AU13))/LOG(2))))","v":0}]
[12,1104,14,1106,13,1111,23,1123,null,null,0,1112,null,1222,{"$f":"COUNTIF($L$7:$L$500,N14)","v":18},{"$f":"O14/$Q$4","v":0.35294117647058826},{"$f":"IF(P14=0,0,(P14*((LOG(P14))/LOG(2))))","v":-0.53029423783382934},null,null,{"$f":"N14","v":1222},{"$f":"COUNTIF(L7:L15,T14)","v":3},{"$f":"U14/(W4-U20)","v":0.33333333333333331},{"$f":"IF(V14=0,0,(V14*((LOG(V14))/LOG(2))))","v":-0.52832083357371862},null,{"$f":"N14","v":1222},{"$f":"COUNTIF(L16:L23,Y14)","v":3},{"$f":"Z14/(AB4-Z20)","v":0.375},{"$f":"IF(AA14=0,0,(AA14*((LOG(AA14))/LOG(2))))","v":-0.53063906222956647},null,{"$f":"N14","v":1222},{"$f":"COUNTIF(L24:L32,AD14)","v":5},{"$f":"AE14/(AG4-AE20)","v":0.55555555555555558},{"$f":"IF(AF14=0,0,(AF14*((LOG(AF14))/LOG(2))))","v":-0.4711093925305278},null,{"$f":"N14","v":1222},{"$f":"COUNTIF(L33:L40,AI14)","v":3},{"$f":"AJ14/(AL4-AJ20)","v":0.375},{"$f":"IF(AK14=0,0,(AK14*((LOG(AK14))/LOG(2))))","v":-0.53063906222956647},null,{"$f":"N14","v":1222},{"$f":"COUNTIF(L41:L49,AN14)","v":1},{"$f":"AO14/(AQ4-AO20)","v":0.1111111111111111},{"$f":"IF(AP14=0,0,(AP14*((LOG(AP14))/LOG(2))))","v":-0.3522138890491458},null,{"$f":"N14","v":1222},{"$f":"COUNTIF(L50:L57,AS14)","v":3},{"$f":"AT14/(AV4-AT20)","v":0.375},{"$f":"IF(AU14=0,0,(AU14*((LOG(AU14))/LOG(2))))","v":-0.53063906222956647}]
[21,1266,21,1285,22,1290,23,1296,null,null,0,2222,null,2111,{"$f":"COUNTIF($L$7:$L$500,N15)","v":0},{"$f":"O15/$Q$4","v":0},{"$f":"IF(P15=0,0,(P15*((LOG(P15))/LOG(2))))","v":0},null,null,{"$f":"N15","v":2111},{"$f":"COUNTIF(L7:L15,T15)","v":0},{"$f":"U15/(W4-U20)","v":0},{"$f":"IF(V15=0,0,(V15*((LOG(V15))/LOG(2))))","v":0},null,{"$f":"N15","v":2111},{"$f":"COUNTIF(L16:L23,Y15)","v":0},{"$f":"Z15/(AB4-Z20)","v":0},{"$f":"IF(AA15=0,0,(AA15*((LOG(AA15))/LOG(2))))","v":0},null,{"$f":"N15","v":2111},{"$f":"COUNTIF(L24:L32,AD15)","v":0},{"$f":"AE15/(AG4-AE20)","v":0},{"$f":"IF(AF15=0,0,(AF15*((LOG(AF15))/LOG(2))))","v":0},null,{"$f":"N15","v":2111},{"$f":"COUNTIF(L33:L40,AI15)","v":0},{"$f":"AJ15/(AL4-AJ20)","v":0},{"$f":"IF(AK15=0,0,(AK15*((LOG(AK15))/LOG(2))))","v":0},null,{"$f":"N15","v":2111},{"$f":"COUNTIF(L41:L49,AN15)","v":0},{"$f":"AO15/(AQ4-AO20)","v":0},{"$f":"IF(AP15=0,0,(AP15*((LOG(AP15))/LOG(2))))","v":0},null,{"$f":"N15","v":2111},{"$f":"COUNTIF(L50:L57,AS15)","v":0},{"$f":"AT15/(AV4-AT20)","v":0},{"$f":"IF(AU15=0,0,(AU15*((LOG(AU15))/LOG(2))))","v":0}]
[12,1396,23,1406,24,1410,23,1414,null,null,0,1222,null,2112,{"$f":"COUNTIF($L$7:$L$500,N16)","v":0},{"$f":"O16/$Q$4","v":0},{"$f":"IF(P16=0,0,(P16*((LOG(P16))/LOG(2))))","v":0},null,null,{"$f":"N16","v":2112},{"$f":"COUNTIF(L7:L15,T16)","v":0},{"$f":"U16/(W4-U20)","v":0},{"$f":"IF(V16=0,0,(V16*((LOG(V16))/LOG(2))))","v":0},null,{"$f":"N16","v":2112},{"$f":"COUNTIF(L16:L23,Y16)","v":0},{"$f":"Z16/(AB4-Z20)","v":0},{"$f":"IF(AA16=0,0,(AA16*((LOG(AA16))/LOG(2))))","v":0},null,{"$f":"N16","v":2112},{"$f":"COUNTIF(L24:L32,AD16)","v":0},{"$f":"AE16/(AG4-AE20)","v":0},{"$f":"IF(AF16=0,0,(AF16*((LOG(AF16))/LOG(2))))","v":0},null,{"$f":"N16","v":2112},{"$f":"COUNTIF(L33:L40,AI16)","v":0},{"$f":"AJ16/(AL4-AJ20)","v":0},{"$f":"IF(AK16=0,0,(AK16*((LOG(AK16))/LOG(2))))","v":0},null,{"$f":"N16","v":2112},{"$f":"COUNTIF(L41:L49,AN16)","v":0},{"$f":"AO16/(AQ4-AO20)","v":0},{"$f":"IF(AP16=0,0,(AP16*((LOG(AP16))/LOG(2))))","v":0},null,{"$f":"N16","v":2112},{"$f":"COUNTIF(L50:L57,AS16)","v":0},{"$f":"AT16/(AV4-AT20)","v":0},{"$f":"IF(AU16=0,0,(AU16*((LOG(AU16))/LOG(2))))","v":0}]
[12,1553,23,1561,24,1564,23,1568,null,null,0,1222,null,2121,{"$f":"COUNTIF($L$7:$L$500,N17)","v":0},{"$f":"O17/$Q$4","v":0},{"$f":"IF(P17=0,0,(P17*((LOG(P17))/LOG(2))))","v":0},null,null,{"$f":"N17","v":2121},{"$f":"COUNTIF(L7:L15,T17)","v":0},{"$f":"U17/(W4-U20)","v":0},{"$f":"IF(V17=0,0,(V17*((LOG(V17))/LOG(2))))","v":0},null,{"$f":"N17","v":2121},{"$f":"COUNTIF(L16:L23,Y17)","v":0},{"$f":"Z17/(AB4-Z20)","v":0},{"$f":"IF(AA17=0,0,(AA17*((LOG(AA17))/LOG(2))))","v":0},null,{"$f":"N17","v":2121},{"$f":"COUNTIF(L24:L32,AD17)","v":0},{"$f":"AE17/(AG4-AE20)","v":0},{"$f":"IF(AF17=0,0,(AF17*((LOG(AF17))/LOG(2))))","v":0},null,{"$f":"N17","v":2121},{"$f":"COUNTIF(L33:L40,AI17)","v":0},{"$f":"AJ17/(AL4-AJ20)","v":0},{"$f":"IF(AK17=0,0,(AK17*((LOG(AK17))/LOG(2))))","v":0},null,{"$f":"N17","v":2121},{"$f":"COUNTIF(L41:L49,AN17)","v":0},{"$f":"AO17/(AQ4-AO20)","v":0},{"$f":"IF(AP17=0,0,(AP17*((LOG(AP17))/LOG(2))))","v":0},null,{"$f":"N17","v":2121},{"$f":"COUNTIF(L50:L57,AS17)","v":0},{"$f":"AT17/(AV4-AT20)","v":0},{"$f":"IF(AU17=0,0,(AU17*((LOG(AU17))/LOG(2))))","v":0}]
[21,1680,21,1686,22,1691,23,1700,null,null,0,2222,null,2122,{"$f":"COUNTIF($L$7:$L$500,N18)","v":1},{"$f":"O18/$Q$4","v":1.9607843137254902E-2},{"$f":"IF(P18=0,0,(P18*((LOG(P18))/LOG(2))))","v":-0.11122402631316657},null,null,{"$f":"N18","v":2122},{"$f":"COUNTIF(L7:L15,T18)","v":0},{"$f":"U18/(W4-U20)","v":0},{"$f":"IF(V18=0,0,(V18*((LOG(V18))/LOG(2))))","v":0},null,{"$f":"N18","v":2122},{"$f":"COUNTIF(L16:L23,Y18)","v":0},{"$f":"Z18/(AB4-Z20)","v":0},{"$f":"IF(AA18=0,0,(AA18*((LOG(AA18))/LOG(2))))","v":0},null,{"$f":"N18","v":2122},{"$f":"COUNTIF(L24:L32,AD18)","v":0},{"$f":"AE18/(AG4-AE20)","v":0},{"$f":"IF(AF18=0,0,(AF18*((LOG(AF18))/LOG(2))))","v":0},null,{"$f":"N18","v":2122},{"$f":"COUNTIF(L33:L40,AI18)","v":0},{"$f":"AJ18/(AL4-AJ20)","v":0},{"$f":"IF(AK18=0,0,(AK18*((LOG(AK18))/LOG(2))))","v":0},null,{"$f":"N18","v":2122},{"$f":"COUNTIF(L41:L49,AN18)","v":1},{"$f":"AO18/(AQ4-AO20)","v":0.1111111111111111},{"$f":"IF(AP18=0,0,(AP18*((LOG(AP18))/LOG(2))))","v":-0.3522138890491458},null,{"$f":"N18","v":2122},{"$f":"COUNTIF(L50:L57,AS18)","v":0},{"$f":"AT18/(AV4-AT20)","v":0},{"$f":"IF(AU18=0,0,(AU18*((LOG(AU18))/LOG(2))))","v":0}]
[12,1799,14,1802,24,1812,23,1816,null,null,0,1122,null,2211,{"$f":"COUNTIF($L$7:$L$500,N19)","v":1},{"$f":"O19/$Q$4","v":1.9607843137254902E-2},{"$f":"IF(P19=0,0,(P19*((LOG(P19))/LOG(2))))","v":-0.11122402631316657},null,null,{"$f":"N19","v":2211},{"$f":"COUNTIF(L7:L15,T19)","v":0},{"$f":"U19/(W4-U20)","v":0},{"$f":"IF(V19=0,0,(V19*((LOG(V19))/LOG(2))))","v":0},null,{"$f":"N19","v":2211},{"$f":"COUNTIF(L16:L23,Y19)","v":0},{"$f":"Z19/(AB4-Z20)","v":0},{"$f":"IF(AA19=0,0,(AA19*((LOG(AA19))/LOG(2))))","v":0},null,{"$f":"N19","v":2211},{"$f":"COUNTIF(L24:L32,AD19)","v":0},{"$f":"AE19/(AG4-AE20)","v":0},{"$f":"IF(AF19=0,0,(AF19*((LOG(AF19))/LOG(2))))","v":0},null,{"$f":"N19","v":2211},{"$f":"COUNTIF(L33:L40,AI19)","v":1},{"$f":"AJ19/(AL4-AJ20)","v":0.125},{"$f":"IF(AK19=0,0,(AK19*((LOG(AK19))/LOG(2))))","v":-0.375},null,{"$f":"N19","v":2211},{"$f":"COUNTIF(L41:L49,AN19)","v":0},{"$f":"AO19/(AQ4-AO20)","v":0},{"$f":"IF(AP19=0,0,(AP19*((LOG(AP19))/LOG(2))))","v":0},null,{"$f":"N19","v":2211},{"$f":"COUNTIF(L50:L57,AS19)","v":0},{"$f":"AT19/(AV4-AT20)","v":0},{"$f":"IF(AU19=0,0,(AU19*((LOG(AU19))/LOG(2))))","v":0}]
[12,1914,14,1926,13,1935,14,1943,null,null,0,1111,null,2212,{"$f":"COUNTIF($L$7:$L$500,N20)","v":0},{"$f":"O20/$Q$4","v":0},{"$f":"IF(P20=0,0,(P20*((LOG(P20))/LOG(2))))","v":0},null,null,{"$f":"N20","v":2212},{"$f":"COUNTIF(L7:L15,T20)","v":0},null,null,null,{"$f":"N20","v":2212},{"$f":"COUNTIF(L16:L23,Y20)","v":0},null,null,null,{"$f":"N20","v":2212},{"$f":"COUNTIF(L24:L32,AD20)","v":0},null,null,null,{"$f":"N20","v":2212},{"$f":"COUNTIF(L33:L40,AI20)","v":0},null,null,null,{"$f":"N20","v":2212},{"$f":"COUNTIF(L41:L49,AN20)","v":0},null,null,null,{"$f":"N20","v":2212},{"$f":"COUNTIF(L50:L57,AS20)","v":0}]
[12,2048,14,2055,24,2070,23,2073,null,null,0,1122,null,2221,{"$f":"COUNTIF($L$7:$L$500,N21)","v":0},{"$f":"O21/$Q$4","v":0},{"$f":"IF(P21=0,0,(P21*((LOG(P21))/LOG(2))))","v":0},null,null,{"$f":"N21","v":2221},{"$f":"COUNTIF(L7:L15,T21)","v":0},{"$f":"U21/(W4-U20)","v":0},{"$f":"IF(V21=0,0,(V21*((LOG(V21))/LOG(2))))","v":0},null,{"$f":"N21","v":2221},{"$f":"COUNTIF(L16:L23,Y21)","v":0},{"$f":"Z21/(AB4-Z20)","v":0},{"$f":"IF(AA21=0,0,(AA21*((LOG(AA21))/LOG(2))))","v":0},null,{"$f":"N21","v":2221},{"$f":"COUNTIF(L24:L32,AD21)","v":0},{"$f":"AE21/(AG4-AE20)","v":0},{"$f":"IF(AF21=0,0,(AF21*((LOG(AF21))/LOG(2))))","v":0},null,{"$f":"N21","v":2221},{"$f":"COUNTIF(L33:L40,AI21)","v":0},{"$f":"AJ21/(AL4-AJ20)","v":0},{"$f":"IF(AK21=0,0,(AK21*((LOG(AK21))/LOG(2))))","v":0},null,{"$f":"N21","v":2221},{"$f":"COUNTIF(L41:L49,AN21)","v":0},{"$f":"AO21/(AQ4-AO20)","v":0},{"$f":"IF(AP21=0,0,(AP21*((LOG(AP21))/LOG(2))))","v":0},null,{"$f":"N21","v":2221},{"$f":"COUNTIF(L50:L57,AS21)","v":0},{"$f":"AT21/(AV4-AT20)","v":0},{"$f":"IF(AU21=0,0,(AU21*((LOG(AU21))/LOG(2))))","v":0}]
[12,2172,14,2175,13,2181,23,2195,null,null,0,1112,null,2222,{"$f":"COUNTIF($L$7:$L$500,N22)","v":7},{"$f":"O22/$Q$4","v":0.13725490196078433},{"$f":"IF(P22=0,0,(P22*((LOG(P22))/LOG(2))))","v":-0.39324495959602429},null,null,{"$f":"N22","v":2222},{"$f":"COUNTIF(L7:L15,T22)","v":1},{"$f":"U22/(W4-U20)","v":0.1111111111111111},{"$f":"IF(V22=0,0,(V22*((LOG(V22))/LOG(2))))","v":-0.3522138890491458},null,{"$f":"N22","v":2222},{"$f":"COUNTIF(L16:L23,Y22)","v":1},{"$f":"Z22/(AB4-Z20)","v":0.125},{"$f":"IF(AA22=0,0,(AA22*((LOG(AA22))/LOG(2))))","v":-0.375},null,{"$f":"N22","v":2222},{"$f":"COUNTIF(L24:L32,AD22)","v":0},{"$f":"AE22/(AG4-AE20)","v":0},{"$f":"IF(AF22=0,0,(AF22*((LOG(AF22))/LOG(2))))","v":0},null,{"$f":"N22","v":2222},{"$f":"COUNTIF(L33:L40,AI22)","v":2},{"$f":"AJ22/(AL4-AJ20)","v":0.25},{"$f":"IF(AK22=0,0,(AK22*((LOG(AK22))/LOG(2))))","v":-0.5},null,{"$f":"N22","v":2222},{"$f":"COUNTIF(L41:L49,AN22)","v":2},{"$f":"AO22/(AQ4-AO20)","v":0.22222222222222221},{"$f":"IF(AP22=0,0,(AP22*((LOG(AP22))/LOG(2))))","v":-0.48220555587606945},null,{"$f":"N22","v":2222},{"$f":"COUNTIF(L50:L57,AS22)","v":1},{"$f":"AT22/(AV4-AT20)","v":0.125},{"$f":"IF(AU22=0,0,(AU22*((LOG(AU22))/LOG(2))))","v":-0.375}]
[12,2301,23,2312,24,2316,23,2319,null,null,0,1222,null,null,null,{"$f":"SUM(P7:P22)","v":1.0000000000000002},{"$f":"-SUM(Q7:Q22)","v":2.5892986852392279},null,null,null,null,{"$f":"SUM(V7:V22)","v":1},{"$f":"-SUM(W7:W22)","v":2.1971597234241491},null,null,null,{"$f":"SUM(AA7:AA22)","v":1},{"$f":"-SUM(AB7:AB22)","v":2.1556390622295662},null,null,null,{"$f":"SUM(AF7:AF22)","v":1},{"$f":"-SUM(AG7:AG22)","v":1.4355205042826666},null,null,null,{"$f":"SUM(AK7:AK22)","v":1},{"$f":"-SUM(AL7:AL22)","v":2.1556390622295662},null,null,null,{"$f":"SUM(AP7:AP22)","v":1},{"$f":"-SUM(AQ7:AQ22)","v":2.5032583347756461},null,null,null,{"$f":"SUM(AU7:AU22)","v":1},{"$f":"-SUM(AV7:AV22)","v":2.4056390622295662}]
[12,2594,23,2609,24,2612,23,2618,null,null,0,1222,null,null,null,"U=",{"$f":"Q23/(LOG(Q4)/LOG(2))","v":0.45647117928207004},null,null,null,null,"U1=",{"$f":"W23/(LOG(W4)/LOG(2))","v":0.69312672142856502},null,null,null,"U2=",{"$f":"AB23/(LOG(AB4)/LOG(2))","v":0.71854635407652212},null,null,null,"U3=",{"$f":"AG23/(LOG(AG4)/LOG(2))","v":0.45285629900691859},null,null,null,"U4=",{"$f":"AL23/(LOG(AL4)/LOG(2))","v":0.71854635407652212},null,null,null,"U5=",{"$f":"AQ23/(LOG(AQ4)/LOG(2))","v":0.78969008214284775},null,null,null,"U6=",{"$f":"AV23/(LOG(AV4)/LOG(2))","v":0.80187968740985538}]
[12,2757,23,2765,24,2769,23,2774,null,null,0,1222]
[12,2874,14,2877,24,2887,23,2892,null,null,0,1122]
[12,2999,23,3015,24,3020,23,3027,null,null,0,1222,null,"Total Target Seq"]
[12,3128,23,3140,24,3146,23,3151,null,null,0,1222,null,{"$f":"COUNTIF(L7:L57,G3)","v":0},null,9,8,9,8,9,8]
[12,3272,14,3275,24,3288,23,3294,null,null,0,1122,null,null,null,"% of reinforcement given in 6 equal intervals based on number of trials "]
[12,3398,14,3403,13,3409,14,3414,null,null,0,1111,null,null,null,"%_1","%_2","%_3","%_4","%_5","%_6"]
[12,3521,23,3533,24,3542,23,3547,null,null,0,1222,null,null,"target sequence",{"$f":"$G$3","v":2212},{"$f":"$G$3","v":2212},{"$f":"$G$3","v":2212},{"$f":"$G$3","v":2212},{"$f":"$G$3","v":2212},{"$f":"$G$3","v":2212}]
[12,3646,14,3649,13,3657,14,3660,null,null,0,1111,null,null,"total reinforcement",{"$f":"U20","v":0},{"$f":"Z20","v":0},{"$f":"AE20","v":0},{"$f":"AJ20","v":0},{"$f":"AO20","v":0},{"$f":"AT20","v":0}]
[12,3777,23,3789,24,3798,23,3803,null,null,0,1222,null,null,"% target"]
[21,3914,21,3928,22,3933,23,3938,null,null,0,2222,null,null,"CCRF"]
[12,4052,23,4064,24,4071,23,4075,null,null,0,1222,null,null,"% CCRf"]
[12,4217,14,4226,24,4239,23,4245,null,null,0,1122,null,null,"average response rate",{"$f":"H15/P28","v":144},{"$f":"(H23-H15)/Q28","v":127.875},{"$f":"(H32-H23)/R28","v":149},{"$f":"(H40-H32)/S28","v":145.375},{"$f":"(H49-H40)/T28","v":439.66666666666669},{"$f":"(H57-H49)/U28","v":1874}]
[21,4349,21,4351,11,4368,12,4374,null,null,0,2211]
[12,4490,23,4503,24,4507,23,4512,null,null,0,1222]
[12,4631,14,4649,13,4652,14,4656,null,null,0,1111]
[21,4793,21,4808,22,4811,23,4823,null,null,0,2222]
[12,4921,14,4926,13,5022,14,5027,null,null,0,1111]
[21,5148,12,5219,24,5234,23,5242,null,null,0,2122]
[21,5414,21,5421,22,5428,23,5436,null,null,0,2222]
[21,6086,21,6129,22,6132,23,6139,null,null,0,2222]
[12,6374,14,6377,24,6397,23,6401,null,null,0,1122]
[12,6527,14,6549,13,6552,14,6559,null,null,0,1111]
[12,7716,14,7748,24,7754,14,7762,null,null,0,1121]
[12,8616,23,8624,24,8628,23,8636,null,null,0,1222]
[12,8753,14,8756,24,8766,14,8780,null,null,0,1121]
[12,9095,23,9104,24,9108,23,9114,null,null,0,1222]
[12,9426,14,9428,13,9448,23,9452,null,null,0,1112]
[12,10280,23,10308,24,10316,23,10323,null,null,0,1222]
[12,10847,23,10863,24,10869,23,10877,null,null,0,1222]
[12,12593,14,12598,24,12608,23,12613,null,null,0,1122]
[12,21430,23,21441,13,21453,14,21456,null,null,0,1211]
[21,23572,21,23575,22,23581,23,23590,null,null,0,2222]
[12,23730,14,23733,13,23757,14,23772,null,null,0,1111]

{"sheet":"!M114B5T.ayl","index":11,"n_rows":41,"n_cols":48,"rows_kept":41,"cut":false,"hidden":false,"merged":[[4,39,4,42],[5,39,5,40],[4,44,4,47],[5,44,5,45],[4,24,4,27],[5,24,5,25],[4,29,4,32],[5,29,5,30],[4,34,4,37],[5,34,5,35],[1,1,1,2],[5,13,5,14],[26,13,26,14],[27,13,27,14],[4,19,4,22],[5,19,5,20]]}
["Report for:!M114B5T.ayl"]
["Date:","<date>"]
["Hen:","<hen>",null,null,null,"Correct Sequence",{"$f":"Start!J2","v":2212},null,null,null,null,null,null,null,null,"Total Sequences in Data",{"$f":"4994-COUNTBLANK(L7:L5000)","v":35},null,null,null,null,"Total Sequences in Block Data",{"$f":"COUNTA(L7:L12)","v":6},null,null,null,"Total Sequences in Block Data",{"$f":"COUNTA(L13:L18)","v":6},null,null,null,"Total Sequences in Block Data",{"$f":"COUNTA(L19:L23)","v":5},null,null,null,"Total Sequences in Block Data",{"$f":"COUNTA(L24:L29)","v":6},null,null,null,"Total Sequences in Block Data",{"$f":"COUNTA(L30:L35)","v":6},null,null,null,"Total Sequences in Block Data",{"$f":"COUNTA(L36:L41)","v":6}]
[null,null,null,null,null,null,null,null,null,null,null,null,null,null,null,"Total Sequences in Summary",{"$f":"SUM(O7:O22)","v":34},null,null,null,null,"Total Sequences in Block Summary",{"$f":"SUM(U7:U22)","v":6},null,null,null,"Total Sequences in Block Summary",{"$f":"SUM(Z7:Z22)","v":6},null,null,null,"Total Sequences in Block Summary",{"$f":"SUM(AE7:AE22)","v":5},null,null,null,"Total Sequences in Block Summary",{"$f":"SUM(AJ7:AJ22)","v":6},null,null,null,"Total Sequences in Block Summary",{"$f":"SUM(AO7:AO22)","v":6},null,null,null,"Total Sequences in Block Summary",{"$f":"SUM(AT7:AT22)","v":5}]
[null,null,null,null,null,null,null,null,null,null,null,null,null,null,null,null,null,null,null,"Block 1",null,null,null,null,"Block 2",null,null,null,null,"Block 3",null,null,null,null,"Block 4",null,null,null,null,"Block 5",null,null,null,null,"Block 6"]
["Sequence\nComponent\n1","Time\n1","Sequence\nComponent\n2","Time\n2","Sequence\nComponent\n3","Time\n3","Sequence\nComponent\n4","Time\n4","Sequence\nComponent\n5","Time\n5","Correct?\n0=No 1=Yes","Sequence",null,"Frequency",null,"Relative Frequency","Variability",null,null,"Frequency",null,"Relative Frequency","Variability",null,"Frequency",null,"Relative Frequency","Variability",null,"Frequency",null,"Relative Frequency","Variability",null,"Frequency",null,"Relative Frequency","Variability",null,"Frequency",null,"Relative Frequency","Variability",null,"Frequency",null,"Relative Frequency","Variability"]
[12,323,14,327,13,331,23,344,null,null,0,1112,null,1111,{"$f":"COUNTIF($L$7:$L$500,N7)","v":9},{"$f":"O7/$Q$4","v":0.26470588235294118},{"$f":"IF(P7=0,0,(P7*((LOG(P7))/LOG(2))))","v":-0.50758354583153664},null,null,{"$f":"N7","v":1111},{"$f":"COUNTIF(L7:L12,T7)","v":0},{"$f":"U7/(W4-U20)","v":0},{"$f":"IF(V7=0,0,(V7*((LOG(V7))/LOG(2))))","v":0},null,{"$f":"N7","v":1111},{"$f":"COUNTIF(L13:L18,Y7)","v":2},{"$f":"Z7/(AB4-Z20)","v":0.33333333333333331},{"$f":"IF(AA7=0,0,(AA7*((LOG(AA7))/LOG(2))))","v":-0.52832083357371862},null,{"$f":"N7","v":1111},{"$f":"COUNTIF(L19:L23,AD7)","v":2},{"$f":"AE7/(AG4-AE20)","v":0.4},{"$f":"IF(AF7=0,0,(AF7*((LOG(AF7))/LOG(2))))","v":-0.52877123795494496},null,{"$f":"N7","v":1111},{"$f":"COUNTIF(L24:L29,AI7)","v":2},{"$f":"AJ7/(AL4-AJ20)","v":0.33333333333333331},{"$f":"IF(AK7=0,0,(AK7*((LOG(AK7))/LOG(2))))","v":-0.52832083357371862},null,{"$f":"N7","v":1111},{"$f":"COUNTIF(L30:L35,AN7)","v":2},{"$f":"AO7/(AQ4-AO20)","v":0.33333333333333331},{"$f":"IF(AP7=0,0,(AP7*((LOG(AP7))/LOG(2))))","v":-0.52832083357371862},null,{"$f":"N7","v":1111},{"$f":"COUNTIF(L36:L41,AS7)","v":1},{"$f":"AT7/(AV4-AT20)","v":0.2},{"$f":"IF(AU7=0,0,(AU7*((LOG(AU7))/LOG(2))))","v":-0.46438561897747244}]
[12,464,23,474,24,477,23,484,null,null,0,1222,null,1112,{"$f":"COUNTIF($L$7:$L$500,N8)","v":5},{"$f":"O8/$Q$4","v":0.14705882352941177},{"$f":"IF(P8=0,0,(P8*((LOG(P8))/LOG(2))))","v":-0.40669628622984955},null,null,{"$f":"N8","v":1112},{"$f":"COUNTIF(L7:L12,T8)","v":1},{"$f":"U8/(W4-U20)","v":0.16666666666666666},{"$f":"IF(V8=0,0,(V8*((LOG(V8))/LOG(2))))","v":-0.43082708345352599},null,{"$f":"N8","v":1112},{"$f":"COUNTIF(L13:L18,Y8)","v":1},{"$f":"Z8/(AB4-Z20)","v":0.16666666666666666},{"$f":"IF(AA8=0,0,(AA8*((LOG(AA8))/LOG(2))))","v":-0.43082708345352599},null,{"$f":"N8","v":1112},{"$f":"COUNTIF(L19:L23,AD8)","v":0},{"$f":"AE8/(AG4-AE20)","v":0},{"$f":"IF(AF8=0,0,(AF8*((LOG(AF8))/LOG(2))))","v":0},null,{"$f":"N8","v":1112},{"$f":"COUNTIF(L24:L29,AI8)","v":0},{"$f":"AJ8/(AL4-AJ20)","v":0},{"$f":"IF(AK8=0,0,(AK8*((LOG(AK8))/LOG(2))))","v":0},null,{"$f":"N8","v":1112},{"$f":"COUNTIF(L30:L35,AN8)","v":1},{"$f":"AO8/(AQ4-AO20)","v":0.16666666666666666},{"$f":"IF(AP8=0,0,(AP8*((LOG(AP8))/LOG(2))))","v":-0.43082708345352599},null,{"$f":"N8","v":1112},{"$f":"COUNTIF(L36:L41,AS8)","v":2},{"$f":"AT8/(AV4-AT20)","v":0.4},{"$f":"IF(AU8=0,0,(AU8*((LOG(AU8))/LOG(2))))","v":-0.52877123795494496}]
[12,581,14,584,24,592,23,596,null,null,0,1122,null,1121,{"$f":"COUNTIF($L$7:$L$500,N9)","v":0},{"$f":"O9/$Q$4","v":0},{"$f":"IF(P9=0,0,(P9*((LOG(P9))/LOG(2))))","v":0},null,null,{"$f":"N9","v":1121},{"$f":"COUNTIF(L7:L12,T9)","v":0},{"$f":"U9/(W4-U20)","v":0},{"$f":"IF(V9=0,0,(V9*((LOG(V9))/LOG(2))))","v":0},null,{"$f":"N9","v":1121},{"$f":"COUNTIF(L13:L18,Y9)","v":0},{"$f":"Z9/(AB4-Z20)","v":0},{"$f":"IF(AA9=0,0,(AA9*((LOG(AA9))/LOG(2))))","v":0},null,{"$f":"N9","v":1121},{"$f":"COUNTIF(L19:L23,AD9)","v":0},{"$f":"AE9/(AG4-AE20)","v":0},{"$f":"IF(AF9=0,0,(AF9*((LOG(AF9))/LOG(2))))","v":0},null,{"$f":"N9","v":1121},{"$f":"COUNTIF(L24:L29,AI9)","v":0},{"$f":"AJ9/(AL4-AJ20)","v":0},{"$f":"IF(AK9=0,0,(AK9*((LOG(AK9))/LOG(2))))","v":0},null,{"$f":"N9","v":1121},{"$f":"COUNTIF(L30:L35,AN9)","v":0},{"$f":"AO9/(AQ4-AO20)","v":0},{"$f":"IF(AP9=0,0,(AP9*((LOG(AP9))/LOG(2))))","v":0},null,{"$f":"N9","v":1121},{"$f":"COUNTIF(L36:L41,AS9)","v":0},{"$f":"AT9/(AV4-AT20)","v":0},{"$f":"IF(AU9=0,0,(AU9*((LOG(AU9))/LOG(2))))","v":0}]
[12,694,23,707,24,709,14,738,null,null,0,1221,null,1122,{"$f":"COUNTIF($L$7:$L$500,N10)","v":8},{"$f":"O10/$Q$4","v":0.23529411764705882},{"$f":"IF(P10=0,0,(P10*((LOG(P10))/LOG(2))))","v":-0.49116772735302094},null,null,{"$f":"N10","v":1122},{"$f":"COUNTIF(L7:L12,T10)","v":3},{"$f":"U10/(W4-U20)","v":0.5},{"$f":"IF(V10=0,0,(V10*((LOG(V10))/LOG(2))))","v":-0.5},null,{"$f":"N10","v":1122},{"$f":"COUNTIF(L13:L18,Y10)","v":1},{"$f":"Z10/(AB4-Z20)","v":0.16666666666666666},{"$f":"IF(AA10=0,0,(AA10*((LOG(AA10))/LOG(2))))","v":-0.43082708345352599},null,{"$f":"N10","v":1122},{"$f":"COUNTIF(L19:L23,AD10)","v":2},{"$f":"AE10/(AG4-AE20)","v":0.4},{"$f":"IF(AF10=0,0,(AF10*((LOG(AF10))/LOG(2))))","v":-0.52877123795494496},null,{"$f":"N10","v":1122},{"$f":"COUNTIF(L24:L29,AI10)","v":1},{"$f":"AJ10/(AL4-AJ20)","v":0.16666666666666666},{"$f":"IF(AK10=0,0,(AK10*((LOG(AK10))/LOG(2))))","v":-0.43082708345352599},null,{"$f":"N10","v":1122},{"$f":"COUNTIF(L30:L35,AN10)","v":0},{"$f":"AO10/(AQ4-AO20)","v":0},{"$f":"IF(AP10=0,0,(AP10*((LOG(AP10))/LOG(2))))","v":0},null,{"$f":"N10","v":1122},{"$f":"COUNTIF(L36:L41,AS10)","v":1},{"$f":"AT10/(AV4-AT20)","v":0.2},{"$f":"IF(AU10=0,0,(AU10*((LOG(AU10))/LOG(2))))","v":-0.46438561897747244}]
[12,866,14,888,24,905,23,918,null,null,0,1122,null,1211,{"$f":"COUNTIF($L$7:$L$500,N11)","v":1},{"$f":"O11/$Q$4","v":2.9411764705882353E-2},{"$f":"IF(P11=0,0,(P11*((LOG(P11))/LOG(2))))","v":-0.14963126003677468},null,null,{"$f":"N11","v":1211},{"$f":"COUNTIF(L7:L12,T11)","v":0},{"$f":"U11/(W4-U20)","v":0},{"$f":"IF(V11=0,0,(V11*((LOG(V11))/LOG(2))))","v":0},null,{"$f":"N11","v":1211},{"$f":"COUNTIF(L13:L18,Y11)","v":0},{"$f":"Z11/(AB4-Z20)","v":0},{"$f":"IF(AA11=0,0,(AA11*((LOG(AA11))/LOG(2))))","v":0},null,{"$f":"N11","v":1211},{"$f":"COUNTIF(L19:L23,AD11)","v":0},{"$f":"AE11/(AG4-AE20)","v":0},{"$f":"IF(AF11=0,0,(AF11*((LOG(AF11))/LOG(2))))","v":0},null,{"$f":"N11","v":1211},{"$f":"COUNTIF(L24:L29,AI11)","v":1},{"$f":"AJ11/(AL4-AJ20)","v":0.16666666666666666},{"$f":"IF(AK11=0,0,(AK11*((LOG(AK11))/LOG(2))))","v":-0.43082708345352599},null,{"$f":"N11","v":1211},{"$f":"COUNTIF(L30:L35,AN11)","v":0},{"$f":"AO11/(AQ4-AO20)","v":0},{"$f":"IF(AP11=0,0,(AP11*((LOG(AP11))/LOG(2))))","v":0},null,{"$f":"N11","v":1211},{"$f":"COUNTIF(L36:L41,AS11)","v":0},{"$f":"AT11/(AV4-AT20)","v":0},{"$f":"IF(AU11=0,0,(AU11*((LOG(AU11))/LOG(2))))","v":0}]
[12,1019,14,1024,24,1038,23,1048,null,null,0,1122,null,1212,{"$f":"COUNTIF($L$7:$L$500,N12)","v":0},{"$f":"O12/$Q$4","v":0},{"$f":"IF(P12=0,0,(P12*((LOG(P12))/LOG(2))))","v":0},null,null,{"$f":"N12","v":1212},{"$f":"COUNTIF(L7:L12,T12)","v":0},{"$f":"U12/(W4-U20)","v":0},{"$f":"IF(V12=0,0,(V12*((LOG(V12))/LOG(2))))","v":0},null,{"$f":"N12","v":1212},{"$f":"COUNTIF(L13:L18,Y12)","v":0},{"$f":"Z12/(AB4-Z20)","v":0},{"$f":"IF(AA12=0,0,(AA12*((LOG(AA12))/LOG(2))))","v":0},null,{"$f":"N12","v":1212},{"$f":"COUNTIF(L19:L23,AD12)","v":0},{"$f":"AE12/(AG4-AE20)","v":0},{"$f":"IF(AF12=0,0,(AF12*((LOG(AF12))/LOG(2))))","v":0},null,{"$f":"N12","v":1212},{"$f":"COUNTIF(L24:L29,AI12)","v":0},{"$f":"AJ12/(AL4-AJ20)","v":0},{"$f":"IF(AK12=0,0,(AK12*((LOG(AK12))/LOG(2))))","v":0},null,{"$f":"N12","v":1212},{"$f":"COUNTIF(L30:L35,AN12)","v":0},{"$f":"AO12/(AQ4-AO20)","v":0},{"$f":"IF(AP12=0,0,(AP12*((LOG(AP12))/LOG(2))))","v":0},null,{"$f":"N12","v":1212},{"$f":"COUNTIF(L36:L41,AS12)","v":0},{"$f":"AT12/(AV4-AT20)","v":0},{"$f":"IF(AU12=0,0,(AU12*((LOG(AU12))/LOG(2))))","v":0}]
[12,1154,14,1167,24,1181,23,1189,null,null,0,1122,null,1221,{"$f":"COUNTIF($L$7:$L$500,N13)","v":1},{"$f":"O13/$Q$4","v":2.9411764705882353E-2},{"$f":"IF(P13=0,0,(P13*((LOG(P13))/LOG(2))))","v":-0.14963126003677468},null,null,{"$f":"N13","v":1221},{"$f":"COUNTIF(L7:L12,T13)","v":1},{"$f":"U13/(W4-U20)","v":0.16666666666666666},{"$f":"IF(V13=0,0,(V13*((LOG(V13))/LOG(2))))","v":-0.43082708345352599},null,{"$f":"N13","v":1221},{"$f":"COUNTIF(L13:L18,Y13)","v":0},{"$f":"Z13/(AB4-Z20)","v":0},{"$f":"IF(AA13=0,0,(AA13*((LOG(AA13))/LOG(2))))","v":0},null,{"$f":"N13","v":1221},{"$f":"COUNTIF(L19:L23,AD13)","v":0},{"$f":"AE13/(AG4-AE20)","v":0},{"$f":"IF(AF13=0,0,(AF13*((LOG(AF13))/LOG(2))))","v":0},null,{"$f":"N13","v":1221},{"$f":"COUNTIF(L24:L29,AI13)","v":0},{"$f":"AJ13/(AL4-AJ20)","v":0},{"$f":"IF(AK13=0,0,(AK13*((LOG(AK13))/LOG(2))))","v":0},null,{"$f":"N13","v":1221},{"$f":"COUNTIF(L30:L35,AN13)","v":0},{"$f":"AO13/(AQ4-AO20)","v":0},{"$f":"IF(AP13=0,0,(AP13*((LOG(AP13))/LOG(2))))","v":0},null,{"$f":"N13","v":1221},{"$f":"COUNTIF(L36:L41,AS13)","v":0},{"$f":"AT13/(AV4-AT20)","v":0},{"$f":"IF(AU13=0,0,(AU13*((LOG(AU13))/LOG(2))))","v":0}]
[12,1299,14,1301,13,1305,14,1316,null,null,0,1111,null,1222,{"$f":"COUNTIF($L$7:$L$500,N14)","v":7},{"$f":"O14/$Q$4","v":0.20588235294117646},{"$f":"IF(P14=0,0,(P14*((LOG(P14))/LOG(2))))","v":-0.46943398336321018},null,null,{"$f":"N14","v":1222},{"$f":"COUNTIF(L7:L12,T14)","v":1},{"$f":"U14/(W4-U20)","v":0.16666666666666666},{"$f":"IF(V14=0,0,(V14*((LOG(V14))/LOG(2))))","v":-0.43082708345352599},null,{"$f":"N14","v":1222},{"$f":"COUNTIF(L13:L18,Y14)","v":2},{"$f":"Z14/(AB4-Z20)","v":0.33333333333333331},{"$f":"IF(AA14=0,0,(AA14*((LOG(AA14))/LOG(2))))","v":-0.52832083357371862},null,{"$f":"N14","v":1222},{"$f":"COUNTIF(L19:L23,AD14)","v":0},{"$f":"AE14/(AG4-AE20)","v":0},{"$f":"IF(AF14=0,0,(AF14*((LOG(AF14))/LOG(2))))","v":0},null,{"$f":"N14","v":1222},{"$f":"COUNTIF(L24:L29,AI14)","v":1},{"$f":"AJ14/(AL4-AJ20)","v":0.16666666666666666},{"$f":"IF(AK14=0,0,(AK14*((LOG(AK14))/LOG(2))))","v":-0.43082708345352599},null,{"$f":"N14","v":1222},{"$f":"COUNTIF(L30:L35,AN14)","v":2},{"$f":"AO14/(AQ4-AO20)","v":0.33333333333333331},{"$f":"IF(AP14=0,0,(AP14*((LOG(AP14))/LOG(2))))","v":-0.52832083357371862},null,{"$f":"N14","v":1222},{"$f":"COUNTIF(L36:L41,AS14)","v":1},{"$f":"AT14/(AV4-AT20)","v":0.2},{"$f":"IF(AU14=0,0,(AU14*((LOG(AU14))/LOG(2))))","v":-0.46438561897747244}]
[12,1473,14,1479,13,1483,14,1488,null,null,0,1111,null,2111,{"$f":"COUNTIF($L$7:$L$500,N15)","v":3},{"$f":"O15/$Q$4","v":8.8235294117647065E-2},{"$f":"IF(P15=0,0,(P15*((LOG(P15))/LOG(2))))","v":-0.30904414769375149},null,null,{"$f":"N15","v":2111},{"$f":"COUNTIF(L7:L12,T15)","v":0},{"$f":"U15/(W4-U20)","v":0},{"$f":"IF(V15=0,0,(V15*((LOG(V15))/LOG(2))))","v":0},null,{"$f":"N15","v":2111},{"$f":"COUNTIF(L13:L18,Y15)","v":0},{"$f":"Z15/(AB4-Z20)","v":0},{"$f":"IF(AA15=0,0,(AA15*((LOG(AA15))/LOG(2))))","v":0},null,{"$f":"N15","v":2111},{"$f":"COUNTIF(L19:L23,AD15)","v":1},{"$f":"AE15/(AG4-AE20)","v":0.2},{"$f":"IF(AF15=0,0,(AF15*((LOG(AF15))/LOG(2))))","v":-0.46438561897747244},null,{"$f":"N15","v":2111},{"$f":"COUNTIF(L24:L29,AI15)","v":1},{"$f":"AJ15/(AL4-AJ20)","v":0.16666666666666666},{"$f":"IF(AK15=0,0,(AK15*((LOG(AK15))/LOG(2))))","v":-0.43082708345352599},null,{"$f":"N15","v":2111},{"$f":"COUNTIF(L30:L35,AN15)","v":1},{"$f":"AO15/(AQ4-AO20)","v":0.16666666666666666},{"$f":"IF(AP15=0,0,(AP15*((LOG(AP15))/LOG(2))))","v":-0.43082708345352599},null,{"$f":"N15","v":2111},{"$f":"COUNTIF(L36:L41,AS15)","v":0},{"$f":"AT15/(AV4-AT20)","v":0},{"$f":"IF(AU15=0,0,(AU15*((LOG(AU15))/LOG(2))))","v":0}]
[12,1587,23,1597,24,1601,23,1605,null,null,0,1222,null,2112,{"$f":"COUNTIF($L$7:$L$500,N16)","v":0},{"$f":"O16/$Q$4","v":0},{"$f":"IF(P16=0,0,(P16*((LOG(P16))/LOG(2))))","v":0},null,null,{"$f":"N16","v":2112},{"$f":"COUNTIF(L7:L12,T16)","v":0},{"$f":"U16/(W4-U20)","v":0},{"$f":"IF(V16=0,0,(V16*((LOG(V16))/LOG(2))))","v":0},null,{"$f":"N16","v":2112},{"$f":"COUNTIF(L13:L18,Y16)","v":0},{"$f":"Z16/(AB4-Z20)","v":0},{"$f":"IF(AA16=0,0,(AA16*((LOG(AA16))/LOG(2))))","v":0},null,{"$f":"N16","v":2112},{"$f":"COUNTIF(L19:L23,AD16)","v":0},{"$f":"AE16/(AG4-AE20)","v":0},{"$f":"IF(AF16=0,0,(AF16*((LOG(AF16))/LOG(2))))","v":0},null,{"$f":"N16","v":2112},{"$f":"COUNTIF(L24:L29,AI16)","v":0},{"$f":"AJ16/(AL4-AJ20)","v":0},{"$f":"IF(AK16=0,0,(AK16*((LOG(AK16))/LOG(2))))","v":0},null,{"$f":"N16","v":2112},{"$f":"COUNTIF(L30:L35,AN16)","v":0},{"$f":"AO16/(AQ4-AO20)","v":0},{"$f":"IF(AP16=0,0,(AP16*((LOG(AP16))/LOG(2))))","v":0},null,{"$f":"N16","v":2112},{"$f":"COUNTIF(L36:L41,AS16)","v":0},{"$f":"AT16/(AV4-AT20)","v":0},{"$f":"IF(AU16=0,0,(AU16*((LOG(AU16))/LOG(2))))","v":0}]
[12,1713,23,1728,24,1750,23,1752,null,null,0,1222,null,2121,{"$f":"COUNTIF($L$7:$L$500,N17)","v":0},{"$f":"O17/$Q$4","v":0},{"$f":"IF(P17=0,0,(P17*((LOG(P17))/LOG(2))))","v":0},null,null,{"$f":"N17","v":2121},{"$f":"COUNTIF(L7:L12,T17)","v":0},{"$f":"U17/(W4-U20)","v":0},{"$f":"IF(V17=0,0,(V17*((LOG(V17))/LOG(2))))","v":0},null,{"$f":"N17","v":2121},{"$f":"COUNTIF(L13:L18,Y17)","v":0},{"$f":"Z17/(AB4-Z20)","v":0},{"$f":"IF(AA17=0,0,(AA17*((LOG(AA17))/LOG(2))))","v":0},null,{"$f":"N17","v":2121},{"$f":"COUNTIF(L19:L23,AD17)","v":0},{"$f":"AE17/(AG4-AE20)","v":0},{"$f":"IF(AF17=0,0,(AF17*((LOG(AF17))/LOG(2))))","v":0},null,{"$f":"N17","v":2121},{"$f":"COUNTIF(L24:L29,AI17)","v":0},{"$f":"AJ17/(AL4-AJ20)","v":0},{"$f":"IF(AK17=0,0,(AK17*((LOG(AK17))/LOG(2))))","v":0},null,{"$f":"N17","v":2121},{"$f":"COUNTIF(L30:L35,AN17)","v":0},{"$f":"AO17/(AQ4-AO20)","v":0},{"$f":"IF(AP17=0,0,(AP17*((LOG(AP17))/LOG(2))))","v":0},null,{"$f":"N17","v":2121},{"$f":"COUNTIF(L36:L41,AS17)","v":0},{"$f":"AT17/(AV4-AT20)","v":0},{"$f":"IF(AU17=0,0,(AU17*((LOG(AU17))/LOG(2))))","v":0}]
[12,1852,14,1854,13,1859,23,1873,null,null,0,1112,null,2122,{"$f":"COUNTIF($L$7:$L$500,N18)","v":0},{"$f":"O18/$Q$4","v":0},{"$f":"IF(P18=0,0,(P18*((LOG(P18))/LOG(2))))","v":0},null,null,{"$f":"N18","v":2122},{"$f":"COUNTIF(L7:L12,T18)","v":0},{"$f":"U18/(W4-U20)","v":0},{"$f":"IF(V18=0,0,(V18*((LOG(V18))/LOG(2))))","v":0},null,{"$f":"N18","v":2122},{"$f":"COUNTIF(L13:L18,Y18)","v":0},{"$f":"Z18/(AB4-Z20)","v":0},{"$f":"IF(AA18=0,0,(AA18*((LOG(AA18))/LOG(2))))","v":0},null,{"$f":"N18","v":2122},{"$f":"COUNTIF(L19:L23,AD18)","v":0},{"$f":"AE18/(AG4-AE20)","v":0},{"$f":"IF(AF18=0,0,(AF18*((LOG(AF18))/LOG(2))))","v":0},null,{"$f":"N18","v":2122},{"$f":"COUNTIF(L24:L29,AI18)","v":0},{"$f":"AJ18/(AL4-AJ20)","v":0},{"$f":"IF(AK18=0,0,(AK18*((LOG(AK18))/LOG(2))))","v":0},null,{"$f":"N18","v":2122},{"$f":"COUNTIF(L30:L35,AN18)","v":0},{"$f":"AO18/(AQ4-AO20)","v":0},{"$f":"IF(AP18=0,0,(AP18*((LOG(AP18))/LOG(2))))","v":0},null,{"$f":"N18","v":2122},{"$f":"COUNTIF(L36:L41,AS18)","v":0},{"$f":"AT18/(AV4-AT20)","v":0},{"$f":"IF(AU18=0,0,(AU18*((LOG(AU18))/LOG(2))))","v":0}]
[12,1972,14,1974,13,1976,14,1982,null,null,0,1111,null,2211,{"$f":"COUNTIF($L$7:$L$500,N19)","v":0},{"$f":"O19/$Q$4","v":0},{"$f":"IF(P19=0,0,(P19*((LOG(P19))/LOG(2))))","v":0},null,null,{"$f":"N19","v":2211},{"$f":"COUNTIF(L7:L12,T19)","v":0},{"$f":"U19/(W4-U20)","v":0},{"$f":"IF(V19=0,0,(V19*((LOG(V19))/LOG(2))))","v":0},null,{"$f":"N19","v":2211},{"$f":"COUNTIF(L13:L18,Y19)","v":0},{"$f":"Z19/(AB4-Z20)","v":0},{"$f":"IF(AA19=0,0,(AA19*((LOG(AA19))/LOG(2))))","v":0},null,{"$f":"N19","v":2211},{"$f":"COUNTIF(L19:L23,AD19)","v":0},{"$f":"AE19/(AG4-AE20)","v":0},{"$f":"IF(AF19=0,0,(AF19*((LOG(AF19))/LOG(2))))","v":0},null,{"$f":"N19","v":2211},{"$f":"COUNTIF(L24:L29,AI19)","v":0},{"$f":"AJ19/(AL4-AJ20)","v":0},{"$f":"IF(AK19=0,0,(AK19*((LOG(AK19))/LOG(2))))","v":0},null,{"$f":"N19","v":2211},{"$f":"COUNTIF(L30:L35,AN19)","v":0},{"$f":"AO19/(AQ4-AO20)","v":0},{"$f":"IF(AP19=0,0,(AP19*((LOG(AP19))/LOG(2))))","v":0},null,{"$f":"N19","v":2211},{"$f":"COUNTIF(L36:L41,AS19)","v":0},{"$f":"AT19/(AV4-AT20)","v":0},{"$f":"IF(AU19=0,0,(AU19*((LOG(AU19))/LOG(2))))","v":0}]
[12,2096,14,2100,24,2125,23,2131,null,null,0,1122,null,2212,{"$f":"COUNTIF($L$7:$L$500,N20)","v":0},{"$f":"O20/$Q$4","v":0},{"$f":"IF(P20=0,0,(P20*((LOG(P20))/LOG(2))))","v":0},null,null,{"$f":"N20","v":2212},{"$f":"COUNTIF(L7:L12,T20)","v":0},null,null,null,{"$f":"N20","v":2212},{"$f":"COUNTIF(L13:L18,Y20)","v":0},null,null,null,{"$f":"N20","v":2212},{"$f":"COUNTIF(L19:L23,AD20)","v":0},null,null,null,{"$f":"N20","v":2212},{"$f":"COUNTIF(L24:L29,AI20)","v":0},null,null,null,{"$f":"N20","v":2212},{"$f":"COUNTIF(L30:L35,AN20)","v":0},null,null,null,{"$f":"N20","v":2212},{"$f":"COUNTIF(L36:L41,AS20)","v":0}]
[12,2232,14,2235,24,2245,23,2249,null,null,0,1122,null,2221,{"$f":"COUNTIF($L$7:$L$500,N21)","v":0},{"$f":"O21/$Q$4","v":0},{"$f":"IF(P21=0,0,(P21*((LOG(P21))/LOG(2))))","v":0},null,null,{"$f":"N21","v":2221},{"$f":"COUNTIF(L7:L12,T21)","v":0},{"$f":"U21/(W4-U20)","v":0},{"$f":"IF(V21=0,0,(V21*((LOG(V21))/LOG(2))))","v":0},null,{"$f":"N21","v":2221},{"$f":"COUNTIF(L13:L18,Y21)","v":0},{"$f":"Z21/(AB4-Z20)","v":0},{"$f":"IF(AA21=0,0,(AA21*((LOG(AA21))/LOG(2))))","v":0},null,{"$f":"N21","v":2221},{"$f":"COUNTIF(L19:L23,AD21)","v":0},{"$f":"AE21/(AG4-AE20)","v":0},{"$f":"IF(AF21=0,0,(AF21*((LOG(AF21))/LOG(2))))","v":0},null,{"$f":"N21","v":2221},{"$f":"COUNTIF(L24:L29,AI21)","v":0},{"$f":"AJ21/(AL4-AJ20)","v":0},{"$f":"IF(AK21=0,0,(AK21*((LOG(AK21))/LOG(2))))","v":0},null,{"$f":"N21","v":2221},{"$f":"COUNTIF(L30:L35,AN21)","v":0},{"$f":"AO21/(AQ4-AO20)","v":0},{"$f":"IF(AP21=0,0,(AP21*((LOG(AP21))/LOG(2))))","v":0},null,{"$f":"N21","v":2221},{"$f":"COUNTIF(L36:L41,AS21)","v":0},{"$f":"AT21/(AV4-AT20)","v":0},{"$f":"IF(AU21=0,0,(AU21*((LOG(AU21))/LOG(2))))","v":0}]
[21,2372,12,2384,13,2389,14,2400,null,null,0,2111,null,2222,{"$f":"COUNTIF($L$7:$L$500,N22)","v":0},{"$f":"O22/$Q$4","v":0},{"$f":"IF(P22=0,0,(P22*((LOG(P22))/LOG(2))))","v":0},null,null,{"$f":"N22","v":2222},{"$f":"COUNTIF(L7:L12,T22)","v":0},{"$f":"U22/(W4-U20)","v":0},{"$f":"IF(V22=0,0,(V22*((LOG(V22))/LOG(2))))","v":0},null,{"$f":"N22","v":2222},{"$f":"COUNTIF(L13:L18,Y22)","v":0},{"$f":"Z22/(AB4-Z20)","v":0},{"$f":"IF(AA22=0,0,(AA22*((LOG(AA22))/LOG(2))))","v":0},null,{"$f":"N22","v":2222},{"$f":"COUNTIF(L19:L23,AD22)","v":0},{"$f":"AE22/(AG4-AE20)","v":0},{"$f":"IF(AF22=0,0,(AF22*((LOG(AF22))/LOG(2))))","v":0},null,{"$f":"N22","v":2222},{"$f":"COUNTIF(L24:L29,AI22)","v":0},{"$f":"AJ22/(AL4-AJ20)","v":0},{"$f":"IF(AK22=0,0,(AK22*((LOG(AK22))/LOG(2))))","v":0},null,{"$f":"N22","v":2222},{"$f":"COUNTIF(L30:L35,AN22)","v":0},{"$f":"AO22/(AQ4-AO20)","v":0},{"$f":"IF(AP22=0,0,(AP22*((LOG(AP22))/LOG(2))))","v":0},null,{"$f":"N22","v":2222},{"$f":"COUNTIF(L36:L41,AS22)","v":0},{"$f":"AT22/(AV4-AT20)","v":0},{"$f":"IF(AU22=0,0,(AU22*((LOG(AU22))/LOG(2))))","v":0}]
[12,2510,14,2513,13,2517,14,2539,null,null,0,1111,null,null,null,{"$f":"SUM(P7:P22)","v":0.99999999999999989},{"$f":"-SUM(Q7:Q22)","v":2.4831882105449181},null,null,null,null,{"$f":"SUM(V7:V22)","v":0.99999999999999989},{"$f":"-SUM(W7:W22)","v":1.7924812503605778},null,null,null,{"$f":"SUM(AA7:AA22)","v":1},{"$f":"-SUM(AB7:AB22)","v":1.9182958340544891},null,null,null,{"$f":"SUM(AF7:AF22)","v":1},{"$f":"-SUM(AG7:AG22)","v":1.5219280948873624},null,null,null,{"$f":"SUM(AK7:AK22)","v":0.99999999999999989},{"$f":"-SUM(AL7:AL22)","v":2.2516291673878226},null,null,null,{"$f":"SUM(AP7:AP22)","v":0.99999999999999989},{"$f":"-SUM(AQ7:AQ22)","v":1.9182958340544891},null,null,null,{"$f":"SUM(AU7:AU22)","v":1},{"$f":"-SUM(AV7:AV22)","v":1.9219280948873623}]
[21,2664,12,2673,13,2676,14,2681,null,null,0,2111,null,null,null,"U=",{"$f":"Q23/(LOG(Q4)/LOG(2))","v":0.48809952780601112},null,null,null,null,"U1=",{"$f":"W23/(LOG(W4)/LOG(2))","v":0.6934264036172707},null,null,null,"U2=",{"$f":"AB23/(LOG(AB4)/LOG(2))","v":0.74209812851030543},null,null,null,"U3=",{"$f":"AG23/(LOG(AG4)/LOG(2))","v":0.65545875354128547},null,null,null,"U4=",{"$f":"AL23/(LOG(AL4)/LOG(2))","v":0.87104906425515272},null,null,null,"U5=",{"$f":"AQ23/(LOG(AQ4)/LOG(2))","v":0.74209812851030543},null,null,null,"U6=",{"$f":"AV23/(LOG(AV4)/LOG(2))","v":0.82772937677064262}]
[12,2815,14,2817,13,2831,14,2833,null,null,0,1111]
[12,2941,14,2946,13,2950,14,2953,null,null,0,1111]
[12,3117,23,3125,13,3137,14,3146,null,null,0,1211,null,"Total Target Seq"]
[12,3266,14,3269,24,3283,23,3293,null,null,0,1122,null,{"$f":"COUNTIF(L7:L41,G3)","v":0},null,6,6,5,6,6,6]
[12,3402,23,3419,24,3426,23,3432,null,null,0,1222,null,null,null,"% of reinforcement given in 6 equal intervals based on number of trials "]
[12,3548,14,3551,13,3559,14,3578,null,null,0,1111,null,null,null,"%_1","%_2","%_3","%_4","%_5","%_6"]
[21,3751,12,3773,13,3778,14,3781,null,null,0,2111,null,null,"target sequence",{"$f":"$G$3","v":2212},{"$f":"$G$3","v":2212},{"$f":"$G$3","v":2212},{"$f":"$G$3","v":2212},{"$f":"$G$3","v":2212},{"$f":"$G$3","v":2212}]
[12,6132,23,6141,24,6145,23,6151,null,null,0,1222,null,null,"total reinforcement",{"$f":"U20","v":0},{"$f":"Z20","v":0},{"$f":"AE20","v":0},{"$f":"AJ20","v":0},{"$f":"AO20","v":0},{"$f":"AT20","v":0}]
[12,6265,14,6268,13,6275,23,6288,null,null,0,1112,null,null,"% target"]
[12,6424,14,6434,13,6440,14,6445,null,null,0,1111,null,null,"CCRF"]
[12,6771,23,6788,24,6793,23,6801,null,null,0,1222,null,null,"% CCRf"]
[12,10688,23,10703,24,10708,23,10714,null,null,0,1222,null,null,"average response rate",{"$f":"H12/P28","v":174.66666666666666},{"$f":"(H18-H12)/Q28","v":137.5},{"$f":"(H23-H18)/R28","v":133.19999999999999},{"$f":"(H29-H23)/S28","v":148.83333333333334},{"$f":"(H35-H29)/T28","v":561.5},{"$f":"(H41-H35)/U28","v":-1133.5}]
[12,10830,14,10845,13,10851,23,10860,null,null,0,1112]
[12,10961,14,10964,13,10967,14,10982,null,null,0,1111]
[12,11108,14,11112,24,11121,23,11139,null,null,0,1122]
[12,19777,14,19783,13,19811,23,20034,null,null,0,1112]
[12,23123,14,23126,null,null,null,null,null,null,null,11]

{"sheet":"!M115A3T.ayl","index":12,"n_rows":36,"n_cols":48,"rows_kept":36,"cut":false,"hidden":false,"merged":[[4,39,4,42],[5,39,5,40],[4,44,4,47],[5,44,5,45],[4,24,4,27],[5,24,5,25],[4,29,4,32],[5,29,5,30],[4,34,4,37],[5,34,5,35],[1,1,1,2],[5,13,5,14],[26,13,26,14],[27,13,27,14],[4,19,4,22],[5,19,5,20]]}
["Report for:!M115A3T.ayl"]
["Date:","<date>"]
["Hen:","<hen>",null,null,null,"Correct Sequence",{"$f":"Start!J2","v":2212},null,null,null,null,null,null,null,null,"Total Sequences in Data",{"$f":"4994-COUNTBLANK(L7:L5000)","v":27},null,null,null,null,"Total Sequences in Block Data",{"$f":"COUNTA(L7:L11)","v":5},null,null,null,"Total Sequences in Block Data",{"$f":"COUNTA(L12:L15)","v":4},null,null,null,"Total Sequences in Block Data",{"$f":"COUNTA(L16:L20)","v":5},null,null,null,"Total Sequences in Block Data",{"$f":"COUNTA(L21:L24)","v":4},null,null,null,"Total Sequences in Block Data",{"$f":"COUNTA(L25:L29)","v":5},null,null,null,"Total Sequences in Block Data",{"$f":"COUNTA(L30:L33)","v":4}]
[null,null,null,null,null,null,null,null,null,null,null,null,null,null,null,"Total Sequences in Summary",{"$f":"SUM(O7:O22)","v":27},null,null,null,null,"Total Sequences in Block Summary",{"$f":"SUM(U7:U22)","v":5},null,null,null,"Total Sequences in Block Summary",{"$f":"SUM(Z7:Z22)","v":4},null,null,null,"Total Sequences in Block Summary",{"$f":"SUM(AE7:AE22)","v":5},null,null,null,"Total Sequences in Block Summary",{"$f":"SUM(AJ7:AJ22)","v":4},null,null,null,"Total Sequences in Block Summary",{"$f":"SUM(AO7:AO22)","v":5},null,null,null,"Total Sequences in Block Summary",{"$f":"SUM(AT7:AT22)","v":4}]
[null,null,null,null,null,null,null,null,null,null,null,null,null,null,null,null,null,null,null,"Block 1",null,null,null,null,"Block 2",null,null,null,null,"Block 3",null,null,null,null,"Block 4",null,null,null,null,"Block 5",null,null,null,null,"Block 6"]
["Sequence\nComponent\n1","Time\n1","Sequence\nComponent\n2","Time\n2","Sequence\nComponent\n3","Time\n3","Sequence\nComponent\n4","Time\n4","Sequence\nComponent\n5","Time\n5","Correct?\n0=No 1=Yes","Sequence",null,"Frequency",null,"Relative Frequency","Variability",null,null,"Frequency",null,"Relative Frequency","Variability",null,"Frequency",null,"Relative Frequency","Variability",null,"Frequency",null,"Relative Frequency","Variability",null,"Frequency",null,"Relative Frequency","Variability",null,"Frequency",null,"Relative Frequency","Variability",null,"Frequency",null,"Relative Frequency","Variability"]
[21,24,21,29,22,35,23,46,null,null,0,2222,null,1111,{"$f":"COUNTIF($L$7:$L$500,N7)","v":7},{"$f":"O7/$Q$4","v":0.25925925925925924},{"$f":"IF(P7=0,0,(P7*((LOG(P7))/LOG(2))))","v":-0.5049158541015204},null,null,{"$f":"N7","v":1111},{"$f":"COUNTIF(L7:L11,T7)","v":0},{"$f":"U7/(W4-U20)","v":0},{"$f":"IF(V7=0,0,(V7*((LOG(V7))/LOG(2))))","v":0},null,{"$f":"N7","v":1111},{"$f":"COUNTIF(L12:L15,Y7)","v":3},{"$f":"Z7/(AB4-Z20)","v":0.75},{"$f":"IF(AA7=0,0,(AA7*((LOG(AA7))/LOG(2))))","v":-0.31127812445913283},null,{"$f":"N7","v":1111},{"$f":"COUNTIF(L16:L20,AD7)","v":1},{"$f":"AE7/(AG4-AE20)","v":0.2},{"$f":"IF(AF7=0,0,(AF7*((LOG(AF7))/LOG(2))))","v":-0.46438561897747244},null,{"$f":"N7","v":1111},{"$f":"COUNTIF(L21:L24,AI7)","v":0},{"$f":"AJ7/(AL4-AJ20)","v":0},{"$f":"IF(AK7=0,0,(AK7*((LOG(AK7))/LOG(2))))","v":0},null,{"$f":"N7","v":1111},{"$f":"COUNTIF(L25:L29,AN7)","v":3},{"$f":"AO7/(AQ4-AO20)","v":0.6},{"$f":"IF(AP7=0,0,(AP7*((LOG(AP7))/LOG(2))))","v":-0.44217935649972373},null,{"$f":"N7","v":1111},{"$f":"COUNTIF(L30:L33,AS7)","v":0},{"$f":"AT7/(AV4-AT20)","v":0},{"$f":"IF(AU7=0,0,(AU7*((LOG(AU7))/LOG(2))))","v":0}]
[12,146,23,157,24,160,23,163,null,null,0,1222,null,1112,{"$f":"COUNTIF($L$7:$L$500,N8)","v":3},{"$f":"O8/$Q$4","v":0.1111111111111111},{"$f":"IF(P8=0,0,(P8*((LOG(P8))/LOG(2))))","v":-0.3522138890491458},null,null,{"$f":"N8","v":1112},{"$f":"COUNTIF(L7:L11,T8)","v":1},{"$f":"U8/(W4-U20)","v":0.2},{"$f":"IF(V8=0,0,(V8*((LOG(V8))/LOG(2))))","v":-0.46438561897747244},null,{"$f":"N8","v":1112},{"$f":"COUNTIF(L12:L15,Y8)","v":0},{"$f":"Z8/(AB4-Z20)","v":0},{"$f":"IF(AA8=0,0,(AA8*((LOG(AA8))/LOG(2))))","v":0},null,{"$f":"N8","v":1112},{"$f":"COUNTIF(L16:L20,AD8)","v":0},{"$f":"AE8/(AG4-AE20)","v":0},{"$f":"IF(AF8=0,0,(AF8*((LOG(AF8))/LOG(2))))","v":0},null,{"$f":"N8","v":1112},{"$f":"COUNTIF(L21:L24,AI8)","v":1},{"$f":"AJ8/(AL4-AJ20)","v":0.25},{"$f":"IF(AK8=0,0,(AK8*((LOG(AK8))/LOG(2))))","v":-0.5},null,{"$f":"N8","v":1112},{"$f":"COUNTIF(L25:L29,AN8)","v":0},{"$f":"AO8/(AQ4-AO20)","v":0},{"$f":"IF(AP8=0,0,(AP8*((LOG(AP8))/LOG(2))))","v":0},null,{"$f":"N8","v":1112},{"$f":"COUNTIF(L30:L33,AS8)","v":1},{"$f":"AT8/(AV4-AT20)","v":0.25},{"$f":"IF(AU8=0,0,(AU8*((LOG(AU8))/LOG(2))))","v":-0.5}]
[12,261,23,273,24,276,23,281,null,null,0,1222,null,1121,{"$f":"COUNTIF($L$7:$L$500,N9)","v":0},{"$f":"O9/$Q$4","v":0},{"$f":"IF(P9=0,0,(P9*((LOG(P9))/LOG(2))))","v":0},null,null,{"$f":"N9","v":1121},{"$f":"COUNTIF(L7:L11,T9)","v":0},{"$f":"U9/(W4-U20)","v":0},{"$f":"IF(V9=0,0,(V9*((LOG(V9))/LOG(2))))","v":0},null,{"$f":"N9","v":1121},{"$f":"COUNTIF(L12:L15,Y9)","v":0},{"$f":"Z9/(AB4-Z20)","v":0},{"$f":"IF(AA9=0,0,(AA9*((LOG(AA9))/LOG(2))))","v":0},null,{"$f":"N9","v":1121},{"$f":"COUNTIF(L16:L20,AD9)","v":0},{"$f":"AE9/(AG4-AE20)","v":0},{"$f":"IF(AF9=0,0,(AF9*((LOG(AF9))/LOG(2))))","v":0},null,{"$f":"N9","v":1121},{"$f":"COUNTIF(L21:L24,AI9)","v":0},{"$f":"AJ9/(AL4-AJ20)","v":0},{"$f":"IF(AK9=0,0,(AK9*((LOG(AK9))/LOG(2))))","v":0},null,{"$f":"N9","v":1121},{"$f":"COUNTIF(L25:L29,AN9)","v":0},{"$f":"AO9/(AQ4-AO20)","v":0},{"$f":"IF(AP9=0,0,(AP9*((LOG(AP9))/LOG(2))))","v":0},null,{"$f":"N9","v":1121},{"$f":"COUNTIF(L30:L33,AS9)","v":0},{"$f":"AT9/(AV4-AT20)","v":0},{"$f":"IF(AU9=0,0,(AU9*((LOG(AU9))/LOG(2))))","v":0}]
[12,379,23,393,24,397,23,403,null,null,0,1222,null,1122,{"$f":"COUNTIF($L$7:$L$500,N10)","v":6},{"$f":"O10/$Q$4","v":0.22222222222222221},{"$f":"IF(P10=0,0,(P10*((LOG(P10))/LOG(2))))","v":-0.48220555587606945},null,null,{"$f":"N10","v":1122},{"$f":"COUNTIF(L7:L11,T10)","v":0},{"$f":"U10/(W4-U20)","v":0},{"$f":"IF(V10=0,0,(V10*((LOG(V10))/LOG(2))))","v":0},null,{"$f":"N10","v":1122},{"$f":"COUNTIF(L12:L15,Y10)","v":1},{"$f":"Z10/(AB4-Z20)","v":0.25},{"$f":"IF(AA10=0,0,(AA10*((LOG(AA10))/LOG(2))))","v":-0.5},null,{"$f":"N10","v":1122},{"$f":"COUNTIF(L16:L20,AD10)","v":2},{"$f":"AE10/(AG4-AE20)","v":0.4},{"$f":"IF(AF10=0,0,(AF10*((LOG(AF10))/LOG(2))))","v":-0.52877123795494496},null,{"$f":"N10","v":1122},{"$f":"COUNTIF(L21:L24,AI10)","v":2},{"$f":"AJ10/(AL4-AJ20)","v":0.5},{"$f":"IF(AK10=0,0,(AK10*((LOG(AK10))/LOG(2))))","v":-0.5},null,{"$f":"N10","v":1122},{"$f":"COUNTIF(L25:L29,AN10)","v":1},{"$f":"AO10/(AQ4-AO20)","v":0.2},{"$f":"IF(AP10=0,0,(AP10*((LOG(AP10))/LOG(2))))","v":-0.46438561897747244},null,{"$f":"N10","v":1122},{"$f":"COUNTIF(L30:L33,AS10)","v":0},{"$f":"AT10/(AV4-AT20)","v":0},{"$f":"IF(AU10=0,0,(AU10*((LOG(AU10))/LOG(2))))","v":0}]
[12,510,14,513,13,519,23,535,null,null,0,1112,null,1211,{"$f":"COUNTIF($L$7:$L$500,N11)","v":1},{"$f":"O11/$Q$4","v":3.7037037037037035E-2},{"$f":"IF(P11=0,0,(P11*((LOG(P11))/LOG(2))))","v":-0.1761069445245729},null,null,{"$f":"N11","v":1211},{"$f":"COUNTIF(L7:L11,T11)","v":0},{"$f":"U11/(W4-U20)","v":0},{"$f":"IF(V11=0,0,(V11*((LOG(V11))/LOG(2))))","v":0},null,{"$f":"N11","v":1211},{"$f":"COUNTIF(L12:L15,Y11)","v":0},{"$f":"Z11/(AB4-Z20)","v":0},{"$f":"IF(AA11=0,0,(AA11*((LOG(AA11))/LOG(2))))","v":0},null,{"$f":"N11","v":1211},{"$f":"COUNTIF(L16:L20,AD11)","v":0},{"$f":"AE11/(AG4-AE20)","v":0},{"$f":"IF(AF11=0,0,(AF11*((LOG(AF11))/LOG(2))))","v":0},null,{"$f":"N11","v":1211},{"$f":"COUNTIF(L21:L24,AI11)","v":0},{"$f":"AJ11/(AL4-AJ20)","v":0},{"$f":"IF(AK11=0,0,(AK11*((LOG(AK11))/LOG(2))))","v":0},null,{"$f":"N11","v":1211},{"$f":"COUNTIF(L25:L29,AN11)","v":0},{"$f":"AO11/(AQ4-AO20)","v":0},{"$f":"IF(AP11=0,0,(AP11*((LOG(AP11))/LOG(2))))","v":0},null,{"$f":"N11","v":1211},{"$f":"COUNTIF(L30:L33,AS11)","v":1},{"$f":"AT11/(AV4-AT20)","v":0.25},{"$f":"IF(AU11=0,0,(AU11*((LOG(AU11))/LOG(2))))","v":-0.5}]
[12,637,14,641,13,644,14,649,null,null,0,1111,null,1212,{"$f":"COUNTIF($L$7:$L$500,N12)","v":0},{"$f":"O12/$Q$4","v":0},{"$f":"IF(P12=0,0,(P12*((LOG(P12))/LOG(2))))","v":0},null,null,{"$f":"N12","v":1212},{"$f":"COUNTIF(L7:L11,T12)","v":0},{"$f":"U12/(W4-U20)","v":0},{"$f":"IF(V12=0,0,(V12*((LOG(V12))/LOG(2))))","v":0},null,{"$f":"N12","v":1212},{"$f":"COUNTIF(L12:L15,Y12)","v":0},{"$f":"Z12/(AB4-Z20)","v":0},{"$f":"IF(AA12=0,0,(AA12*((LOG(AA12))/LOG(2))))","v":0},null,{"$f":"N12","v":1212},{"$f":"COUNTIF(L16:L20,AD12)","v":0},{"$f":"AE12/(AG4-AE20)","v":0},{"$f":"IF(AF12=0,0,(AF12*((LOG(AF12))/LOG(2))))","v":0},null,{"$f":"N12","v":1212},{"$f":"COUNTIF(L21:L24,AI12)","v":0},{"$f":"AJ12/(AL4-AJ20)","v":0},{"$f":"IF(AK12=0,0,(AK12*((LOG(AK12))/LOG(2))))","v":0},null,{"$f":"N12","v":1212},{"$f":"COUNTIF(L25:L29,AN12)","v":0},{"$f":"AO12/(AQ4-AO20)","v":0},{"$f":"IF(AP12=0,0,(AP12*((LOG(AP12))/LOG(2))))","v":0},null,{"$f":"N12","v":1212},{"$f":"COUNTIF(L30:L33,AS12)","v":0},{"$f":"AT12/(AV4-AT20)","v":0},{"$f":"IF(AU12=0,0,(AU12*((LOG(AU12))/LOG(2))))","v":0}]
[12,762,14,777,13,792,14,808,null,null,0,1111,null,1221,{"$f":"COUNTIF($L$7:$L$500,N13)","v":1},{"$f":"O13/$Q$4","v":3.7037037037037035E-2},{"$f":"IF(P13=0,0,(P13*((LOG(P13))/LOG(2))))","v":-0.1761069445245729},null,null,{"$f":"N13","v":1221},{"$f":"COUNTIF(L7:L11,T13)","v":0},{"$f":"U13/(W4-U20)","v":0},{"$f":"IF(V13=0,0,(V13*((LOG(V13))/LOG(2))))","v":0},null,{"$f":"N13","v":1221},{"$f":"COUNTIF(L12:L15,Y13)","v":0},{"$f":"Z13/(AB4-Z20)","v":0},{"$f":"IF(AA13=0,0,(AA13*((LOG(AA13))/LOG(2))))","v":0},null,{"$f":"N13","v":1221},{"$f":"COUNTIF(L16:L20,AD13)","v":0},{"$f":"AE13/(AG4-AE20)","v":0},{"$f":"IF(AF13=0,0,(AF13*((LOG(AF13))/LOG(2))))","v":0},null,{"$f":"N13","v":1221},{"$f":"COUNTIF(L21:L24,AI13)","v":1},{"$f":"AJ13/(AL4-AJ20)","v":0.25},{"$f":"IF(AK13=0,0,(AK13*((LOG(AK13))/LOG(2))))","v":-0.5},null,{"$f":"N13","v":1221},{"$f":"COUNTIF(L25:L29,AN13)","v":0},{"$f":"AO13/(AQ4-AO20)","v":0},{"$f":"IF(AP13=0,0,(AP13*((LOG(AP13))/LOG(2))))","v":0},null,{"$f":"N13","v":1221},{"$f":"COUNTIF(L30:L33,AS13)","v":0},{"$f":"AT13/(AV4-AT20)","v":0},{"$f":"IF(AU13=0,0,(AU13*((LOG(AU13))/LOG(2))))","v":0}]
[12,915,14,918,24,927,23,935,null,null,0,1122,null,1222,{"$f":"COUNTIF($L$7:$L$500,N14)","v":4},{"$f":"O14/$Q$4","v":0.14814814814814814},{"$f":"IF(P14=0,0,(P14*((LOG(P14))/LOG(2))))","v":-0.40813148180199532},null,null,{"$f":"N14","v":1222},{"$f":"COUNTIF(L7:L11,T14)","v":3},{"$f":"U14/(W4-U20)","v":0.6},{"$f":"IF(V14=0,0,(V14*((LOG(V14))/LOG(2))))","v":-0.44217935649972373},null,{"$f":"N14","v":1222},{"$f":"COUNTIF(L12:L15,Y14)","v":0},{"$f":"Z14/(AB4-Z20)","v":0},{"$f":"IF(AA14=0,0,(AA14*((LOG(AA14))/LOG(2))))","v":0},null,{"$f":"N14","v":1222},{"$f":"COUNTIF(L16:L20,AD14)","v":0},{"$f":"AE14/(AG4-AE20)","v":0},{"$f":"IF(AF14=0,0,(AF14*((LOG(AF14))/LOG(2))))","v":0},null,{"$f":"N14","v":1222},{"$f":"COUNTIF(L21:L24,AI14)","v":0},{"$f":"AJ14/(AL4-AJ20)","v":0},{"$f":"IF(AK14=0,0,(AK14*((LOG(AK14))/LOG(2))))","v":0},null,{"$f":"N14","v":1222},{"$f":"COUNTIF(L25:L29,AN14)","v":0},{"$f":"AO14/(AQ4-AO20)","v":0},{"$f":"IF(AP14=0,0,(AP14*((LOG(AP14))/LOG(2))))","v":0},null,{"$f":"N14","v":1222},{"$f":"COUNTIF(L30:L33,AS14)","v":1},{"$f":"AT14/(AV4-AT20)","v":0.25},{"$f":"IF(AU14=0,0,(AU14*((LOG(AU14))/LOG(2))))","v":-0.5}]
[12,1047,14,1055,13,1060,14,1067,null,null,0,1111,null,2111,{"$f":"COUNTIF($L$7:$L$500,N15)","v":0},{"$f":"O15/$Q$4","v":0},{"$f":"IF(P15=0,0,(P15*((LOG(P15))/LOG(2))))","v":0},null,null,{"$f":"N15","v":2111},{"$f":"COUNTIF(L7:L11,T15)","v":0},{"$f":"U15/(W4-U20)","v":0},{"$f":"IF(V15=0,0,(V15*((LOG(V15))/LOG(2))))","v":0},null,{"$f":"N15","v":2111},{"$f":"COUNTIF(L12:L15,Y15)","v":0},{"$f":"Z15/(AB4-Z20)","v":0},{"$f":"IF(AA15=0,0,(AA15*((LOG(AA15))/LOG(2))))","v":0},null,{"$f":"N15","v":2111},{"$f":"COUNTIF(L16:L20,AD15)","v":0},{"$f":"AE15/(AG4-AE20)","v":0},{"$f":"IF(AF15=0,0,(AF15*((LOG(AF15))/LOG(2))))","v":0},null,{"$f":"N15","v":2111},{"$f":"COUNTIF(L21:L24,AI15)","v":0},{"$f":"AJ15/(AL4-AJ20)","v":0},{"$f":"IF(AK15=0,0,(AK15*((LOG(AK15))/LOG(2))))","v":0},null,{"$f":"N15","v":2111},{"$f":"COUNTIF(L25:L29,AN15)","v":0},{"$f":"AO15/(AQ4-AO20)","v":0},{"$f":"IF(AP15=0,0,(AP15*((LOG(AP15))/LOG(2))))","v":0},null,{"$f":"N15","v":2111},{"$f":"COUNTIF(L30:L33,AS15)","v":0},{"$f":"AT15/(AV4-AT20)","v":0},{"$f":"IF(AU15=0,0,(AU15*((LOG(AU15))/LOG(2))))","v":0}]
[12,1313,14,1327,13,1332,14,1337,null,null,0,1111,null,2112,{"$f":"COUNTIF($L$7:$L$500,N16)","v":0},{"$f":"O16/$Q$4","v":0},{"$f":"IF(P16=0,0,(P16*((LOG(P16))/LOG(2))))","v":0},null,null,{"$f":"N16","v":2112},{"$f":"COUNTIF(L7:L11,T16)","v":0},{"$f":"U16/(W4-U20)","v":0},{"$f":"IF(V16=0,0,(V16*((LOG(V16))/LOG(2))))","v":0},null,{"$f":"N16","v":2112},{"$f":"COUNTIF(L12:L15,Y16)","v":0},{"$f":"Z16/(AB4-Z20)","v":0},{"$f":"IF(AA16=0,0,(AA16*((LOG(AA16))/LOG(2))))","v":0},null,{"$f":"N16","v":2112},{"$f":"COUNTIF(L16:L20,AD16)","v":0},{"$f":"AE16/(AG4-AE20)","v":0},{"$f":"IF(AF16=0,0,(AF16*((LOG(AF16))/LOG(2))))","v":0},null,{"$f":"N16","v":2112},{"$f":"COUNTIF(L21:L24,AI16)","v":0},{"$f":"AJ16/(AL4-AJ20)","v":0},{"$f":"IF(AK16=0,0,(AK16*((LOG(AK16))/LOG(2))))","v":0},null,{"$f":"N16","v":2112},{"$f":"COUNTIF(L25:L29,AN16)","v":0},{"$f":"AO16/(AQ4-AO20)","v":0},{"$f":"IF(AP16=0,0,(AP16*((LOG(AP16))/LOG(2))))","v":0},null,{"$f":"N16","v":2112},{"$f":"COUNTIF(L30:L33,AS16)","v":0},{"$f":"AT16/(AV4-AT20)","v":0},{"$f":"IF(AU16=0,0,(AU16*((LOG(AU16))/LOG(2))))","v":0}]
[21,1473,21,1477,22,1482,23,1487,null,null,0,2222,null,2121,{"$f":"COUNTIF($L$7:$L$500,N17)","v":0},{"$f":"O17/$Q$4","v":0},{"$f":"IF(P17=0,0,(P17*((LOG(P17))/LOG(2))))","v":0},null,null,{"$f":"N17","v":2121},{"$f":"COUNTIF(L7:L11,T17)","v":0},{"$f":"U17/(W4-U20)","v":0},{"$f":"IF(V17=0,0,(V17*((LOG(V17))/LOG(2))))","v":0},null,{"$f":"N17","v":2121},{"$f":"COUNTIF(L12:L15,Y17)","v":0},{"$f":"Z17/(AB4-Z20)","v":0},{"$f":"IF(AA17=0,0,(AA17*((LOG(AA17))/LOG(2))))","v":0},null,{"$f":"N17","v":2121},{"$f":"COUNTIF(L16:L20,AD17)","v":0},{"$f":"AE17/(AG4-AE20)","v":0},{"$f":"IF(AF17=0,0,(AF17*((LOG(AF17))/LOG(2))))","v":0},null,{"$f":"N17","v":2121},{"$f":"COUNTIF(L21:L24,AI17)","v":0},{"$f":"AJ17/(AL4-AJ20)","v":0},{"$f":"IF(AK17=0,0,(AK17*((LOG(AK17))/LOG(2))))","v":0},null,{"$f":"N17","v":2121},{"$f":"COUNTIF(L25:L29,AN17)","v":0},{"$f":"AO17/(AQ4-AO20)","v":0},{"$f":"IF(AP17=0,0,(AP17*((LOG(AP17))/LOG(2))))","v":0},null,{"$f":"N17","v":2121},{"$f":"COUNTIF(L30:L33,AS17)","v":0},{"$f":"AT17/(AV4-AT20)","v":0},{"$f":"IF(AU17=0,0,(AU17*((LOG(AU17))/LOG(2))))","v":0}]
[12,1587,14,1589,24,1596,23,1600,null,null,0,1122,null,2122,{"$f":"COUNTIF($L$7:$L$500,N18)","v":0},{"$f":"O18/$Q$4","v":0},{"$f":"IF(P18=0,0,(P18*((LOG(P18))/LOG(2))))","v":0},null,null,{"$f":"N18","v":2122},{"$f":"COUNTIF(L7:L11,T18)","v":0},{"$f":"U18/(W4-U20)","v":0},{"$f":"IF(V18=0,0,(V18*((LOG(V18))/LOG(2))))","v":0},null,{"$f":"N18","v":2122},{"$f":"COUNTIF(L12:L15,Y18)","v":0},{"$f":"Z18/(AB4-Z20)","v":0},{"$f":"IF(AA18=0,0,(AA18*((LOG(AA18))/LOG(2))))","v":0},null,{"$f":"N18","v":2122},{"$f":"COUNTIF(L16:L20,AD18)","v":0},{"$f":"AE18/(AG4-AE20)","v":0},{"$f":"IF(AF18=0,0,(AF18*((LOG(AF18))/LOG(2))))","v":0},null,{"$f":"N18","v":2122},{"$f":"COUNTIF(L21:L24,AI18)","v":0},{"$f":"AJ18/(AL4-AJ20)","v":0},{"$f":"IF(AK18=0,0,(AK18*((LOG(AK18))/LOG(2))))","v":0},null,{"$f":"N18","v":2122},{"$f":"COUNTIF(L25:L29,AN18)","v":0},{"$f":"AO18/(AQ4-AO20)","v":0},{"$f":"IF(AP18=0,0,(AP18*((LOG(AP18))/LOG(2))))","v":0},null,{"$f":"N18","v":2122},{"$f":"COUNTIF(L30:L33,AS18)","v":0},{"$f":"AT18/(AV4-AT20)","v":0},{"$f":"IF(AU18=0,0,(AU18*((LOG(AU18))/LOG(2))))","v":0}]
[12,1727,14,1729,24,1742,23,1746,null,null,0,1122,null,2211,{"$f":"COUNTIF($L$7:$L$500,N19)","v":0},{"$f":"O19/$Q$4","v":0},{"$f":"IF(P19=0,0,(P19*((LOG(P19))/LOG(2))))","v":0},null,null,{"$f":"N19","v":2211},{"$f":"COUNTIF(L7:L11,T19)","v":0},{"$f":"U19/(W4-U20)","v":0},{"$f":"IF(V19=0,0,(V19*((LOG(V19))/LOG(2))))","v":0},null,{"$f":"N19","v":2211},{"$f":"COUNTIF(L12:L15,Y19)","v":0},{"$f":"Z19/(AB4-Z20)","v":0},{"$f":"IF(AA19=0,0,(AA19*((LOG(AA19))/LOG(2))))","v":0},null,{"$f":"N19","v":2211},{"$f":"COUNTIF(L16:L20,AD19)","v":0},{"$f":"AE19/(AG4-AE20)","v":0},{"$f":"IF(AF19=0,0,(AF19*((LOG(AF19))/LOG(2))))","v":0},null,{"$f":"N19","v":2211},{"$f":"COUNTIF(L21:L24,AI19)","v":0},{"$f":"AJ19/(AL4-AJ20)","v":0},{"$f":"IF(AK19=0,0,(AK19*((LOG(AK19))/LOG(2))))","v":0},null,{"$f":"N19","v":2211},{"$f":"COUNTIF(L25:L29,AN19)","v":0},{"$f":"AO19/(AQ4-AO20)","v":0},{"$f":"IF(AP19=0,0,(AP19*((LOG(AP19))/LOG(2))))","v":0},null,{"$f":"N19","v":2211},{"$f":"COUNTIF(L30:L33,AS19)","v":0},{"$f":"AT19/(AV4-AT20)","v":0},{"$f":"IF(AU19=0,0,(AU19*((LOG(AU19))/LOG(2))))","v":0}]
[21,1873,21,1875,22,1881,23,1886,null,null,0,2222,null,2212,{"$f":"COUNTIF($L$7:$L$500,N20)","v":0},{"$f":"O20/$Q$4","v":0},{"$f":"IF(P20=0,0,(P20*((LOG(P20))/LOG(2))))","v":0},null,null,{"$f":"N20","v":2212},{"$f":"COUNTIF(L7:L11,T20)","v":0},null,null,null,{"$f":"N20","v":2212},{"$f":"COUNTIF(L12:L15,Y20)","v":0},null,null,null,{"$f":"N20","v":2212},{"$f":"COUNTIF(L16:L20,AD20)","v":0},null,null,null,{"$f":"N20","v":2212},{"$f":"COUNTIF(L21:L24,AI20)","v":0},null,null,null,{"$f":"N20","v":2212},{"$f":"COUNTIF(L25:L29,AN20)","v":0},null,null,null,{"$f":"N20","v":2212},{"$f":"COUNTIF(L30:L33,AS20)","v":0}]
[12,1997,14,1999,24,2012,23,2016,null,null,0,1122,null,2221,{"$f":"COUNTIF($L$7:$L$500,N21)","v":0},{"$f":"O21/$Q$4","v":0},{"$f":"IF(P21=0,0,(P21*((LOG(P21))/LOG(2))))","v":0},null,null,{"$f":"N21","v":2221},{"$f":"COUNTIF(L7:L11,T21)","v":0},{"$f":"U21/(W4-U20)","v":0},{"$f":"IF(V21=0,0,(V21*((LOG(V21))/LOG(2))))","v":0},null,{"$f":"N21","v":2221},{"$f":"COUNTIF(L12:L15,Y21)","v":0},{"$f":"Z21/(AB4-Z20)","v":0},{"$f":"IF(AA21=0,0,(AA21*((LOG(AA21))/LOG(2))))","v":0},null,{"$f":"N21","v":2221},{"$f":"COUNTIF(L16:L20,AD21)","v":0},{"$f":"AE21/(AG4-AE20)","v":0},{"$f":"IF(AF21=0,0,(AF21*((LOG(AF21))/LOG(2))))","v":0},null,{"$f":"N21","v":2221},{"$f":"COUNTIF(L21:L24,AI21)","v":0},{"$f":"AJ21/(AL4-AJ20)","v":0},{"$f":"IF(AK21=0,0,(AK21*((LOG(AK21))/LOG(2))))","v":0},null,{"$f":"N21","v":2221},{"$f":"COUNTIF(L25:L29,AN21)","v":0},{"$f":"AO21/(AQ4-AO20)","v":0},{"$f":"IF(AP21=0,0,(AP21*((LOG(AP21))/LOG(2))))","v":0},null,{"$f":"N21","v":2221},{"$f":"COUNTIF(L30:L33,AS21)","v":0},{"$f":"AT21/(AV4-AT20)","v":0},{"$f":"IF(AU21=0,0,(AU21*((LOG(AU21))/LOG(2))))","v":0}]
[12,2158,14,2164,24,2184,23,2188,null,null,0,1122,null,2222,{"$f":"COUNTIF($L$7:$L$500,N22)","v":5},{"$f":"O22/$Q$4","v":0.18518518518518517},{"$f":"IF(P22=0,0,(P22*((LOG(P22))/LOG(2))))","v":-0.45054803838446406},null,null,{"$f":"N22","v":2222},{"$f":"COUNTIF(L7:L11,T22)","v":1},{"$f":"U22/(W4-U20)","v":0.2},{"$f":"IF(V22=0,0,(V22*((LOG(V22))/LOG(2))))","v":-0.46438561897747244},null,{"$f":"N22","v":2222},{"$f":"COUNTIF(L12:L15,Y22)","v":0},{"$f":"Z22/(AB4-Z20)","v":0},{"$f":"IF(AA22=0,0,(AA22*((LOG(AA22))/LOG(2))))","v":0},null,{"$f":"N22","v":2222},{"$f":"COUNTIF(L16:L20,AD22)","v":2},{"$f":"AE22/(AG4-AE20)","v":0.4},{"$f":"IF(AF22=0,0,(AF22*((LOG(AF22))/LOG(2))))","v":-0.52877123795494496},null,{"$f":"N22","v":2222},{"$f":"COUNTIF(L21:L24,AI22)","v":0},{"$f":"AJ22/(AL4-AJ20)","v":0},{"$f":"IF(AK22=0,0,(AK22*((LOG(AK22))/LOG(2))))","v":0},null,{"$f":"N22","v":2222},{"$f":"COUNTIF(L25:L29,AN22)","v":1},{"$f":"AO22/(AQ4-AO20)","v":0.2},{"$f":"IF(AP22=0,0,(AP22*((LOG(AP22))/LOG(2))))","v":-0.46438561897747244},null,{"$f":"N22","v":2222},{"$f":"COUNTIF(L30:L33,AS22)","v":1},{"$f":"AT22/(AV4-AT20)","v":0.25},{"$f":"IF(AU22=0,0,(AU22*((LOG(AU22))/LOG(2))))","v":-0.5}]
[12,2877,23,2890,24,2897,14,2913,null,null,0,1221,null,null,null,{"$f":"SUM(P7:P22)","v":0.99999999999999978},{"$f":"-SUM(Q7:Q22)","v":2.5502287082623405},null,null,null,null,{"$f":"SUM(V7:V22)","v":1},{"$f":"-SUM(W7:W22)","v":1.3709505944546687},null,null,null,{"$f":"SUM(AA7:AA22)","v":1},{"$f":"-SUM(AB7:AB22)","v":0.81127812445913283},null,null,null,{"$f":"SUM(AF7:AF22)","v":1},{"$f":"-SUM(AG7:AG22)","v":1.5219280948873624},null,null,null,{"$f":"SUM(AK7:AK22)","v":1},{"$f":"-SUM(AL7:AL22)","v":1.5},null,null,null,{"$f":"SUM(AP7:AP22)","v":1},{"$f":"-SUM(AQ7:AQ22)","v":1.3709505944546687},null,null,null,{"$f":"SUM(AU7:AU22)","v":1},{"$f":"-SUM(AV7:AV22)","v":2}]
[12,3044,14,3052,13,3055,23,3069,null,null,0,1112,null,null,null,"U=",{"$f":"Q23/(LOG(Q4)/LOG(2))","v":0.53633839015160489},null,null,null,null,"U1=",{"$f":"W23/(LOG(W4)/LOG(2))","v":0.5904362833084088},null,null,null,"U2=",{"$f":"AB23/(LOG(AB4)/LOG(2))","v":0.40563906222956642},null,null,null,"U3=",{"$f":"AG23/(LOG(AG4)/LOG(2))","v":0.65545875354128547},null,null,null,"U4=",{"$f":"AL23/(LOG(AL4)/LOG(2))","v":0.75},null,null,null,"U5=",{"$f":"AQ23/(LOG(AQ4)/LOG(2))","v":0.5904362833084088},null,null,null,"U6=",{"$f":"AV23/(LOG(AV4)/LOG(2))","v":1}]
[12,3216,14,3218,13,3221,14,3225,null,null,0,1111]
[21,3828,21,3870,22,3876,23,3882,null,null,0,2222]
[12,4274,14,4277,13,4294,14,4300,null,null,0,1111,null,"Total Target Seq"]
[12,5006,14,5011,24,5025,23,5033,null,null,0,1122,null,{"$f":"COUNTIF(L7:L33,G3)","v":0},null,5,4,5,4,5,4]
[12,5146,14,5150,13,5166,14,5170,null,null,0,1111,null,null,null,"% of reinforcement given in 6 equal intervals based on number of trials "]
[12,5285,14,7080,13,8139,23,8151,null,null,0,1112,null,null,null,"%_1","%_2","%_3","%_4","%_5","%_6"]
[12,8799,23,8813,24,8817,23,8824,null,null,0,1222,null,null,"target sequence",{"$f":"$G$3","v":2212},{"$f":"$G$3","v":2212},{"$f":"$G$3","v":2212},{"$f":"$G$3","v":2212},{"$f":"$G$3","v":2212},{"$f":"$G$3","v":2212}]
[21,9493,21,9497,22,9502,23,9508,null,null,0,2222,null,null,"total reinforcement",{"$f":"U20","v":0},{"$f":"Z20","v":0},{"$f":"AE20","v":0},{"$f":"AJ20","v":0},{"$f":"AO20","v":0},{"$f":"AT20","v":0}]
[12,13358,23,13367,13,13378,14,13381,null,null,0,1211,null,null,"% target"]
[null,null,null,null,null,null,null,null,null,null,null,null,null,null,"CCRF"]
[null,null,null,null,null,null,null,null,null,null,null,null,null,null,"% CCRf"]
[null,null,null,null,null,null,null,null,null,null,null,null,null,null,"average response rate",{"$f":"H11/P28","v":107},{"$f":"(H15-H11)/Q28","v":133},{"$f":"(H20-H15)/R28","v":163.80000000000001},{"$f":"(H24-H20)/S28","v":295.75},{"$f":"(H29-H24)/T28","v":420.2},{"$f":"(H33-H29)/U28","v":2052.75}]

{"sheet":"!M116B2T.ayl","index":13,"n_rows":36,"n_cols":48,"rows_kept":36,"cut":false,"hidden":false,"merged":[[4,39,4,42],[5,39,5,40],[4,44,4,47],[5,44,5,45],[4,24,4,27],[5,24,5,25],[4,29,4,32],[5,29,5,30],[4,34,4,37],[5,34,5,35],[1,1,1,2],[5,13,5,14],[26,13,26,14],[27,13,27,14],[4,19,4,22],[5,19,5,20]]}
["Report for:!M116B2T.ayl"]
["Date:","<date>"]
["Hen:","<hen>",null,null,null,"Correct Sequence",{"$f":"Start!J2","v":2212},null,null,null,null,null,null,null,null,"Total Sequences in Data",{"$f":"4994-COUNTBLANK(L7:L5000)","v":14},null,null,null,null,"Total Sequences in Block Data",{"$f":"COUNTA(L7:L8)","v":2},null,null,null,"Total Sequences in Block Data",{"$f":"COUNTA(L9:L11)","v":3},null,null,null,"Total Sequences in Block Data",{"$f":"COUNTA(L12:L13)","v":2},null,null,null,"Total Sequences in Block Data",{"$f":"COUNTA(L14:L15)","v":2},null,null,null,"Total Sequences in Block Data",{"$f":"COUNTA(L16:L18)","v":3},null,null,null,"Total Sequences in Block Data",{"$f":"COUNTA(L19:L20)","v":2}]
[null,null,null,null,null,null,null,null,null,null,null,null,null,null,null,"Total Sequences in Summary",{"$f":"SUM(O7:O22)","v":14},null,null,null,null,"Total Sequences in Block Summary",{"$f":"SUM(U7:U22)","v":2},null,null,null,"Total Sequences in Block Summary",{"$f":"SUM(Z7:Z22)","v":3},null,null,null,"Total Sequences in Block Summary",{"$f":"SUM(AE7:AE22)","v":2},null,null,null,"Total Sequences in Block Summary",{"$f":"SUM(AJ7:AJ22)","v":2},null,null,null,"Total Sequences in Block Summary",{"$f":"SUM(AO7:AO22)","v":3},null,null,null,"Total Sequences in Block Summary",{"$f":"SUM(AT7:AT22)","v":2}]
[null,null,null,null,null,null,null,null,null,null,null,null,null,null,null,null,null,null,null,"Block 1",null,null,null,null,"Block 2",null,null,null,null,"Block 3",null,null,null,null,"Block 4",null,null,null,null,"Block 5",null,null,null,null,"Block 6"]
["Sequence\nComponent\n1","Time\n1","Sequence\nComponent\n2","Time\n2","Sequence\nComponent\n3","Time\n3","Sequence\nComponent\n4","Time\n4","Sequence\nComponent\n5","Time\n5","Correct?\n0=No 1=Yes","Sequence",null,"Frequency",null,"Relative Frequency","Variability",null,null,"Frequency",null,"Relative Frequency","Variability",null,"Frequency",null,"Relative Frequency","Variability",null,"Frequency",null,"Relative Frequency","Variability",null,"Frequency",null,"Relative Frequency","Variability",null,"Frequency",null,"Relative Frequency","Variability",null,"Frequency",null,"Relative Frequency","Variability"]
[21,266,21,270,22,273,23,280,null,null,0,2222,null,1111,{"$f":"COUNTIF($L$7:$L$500,N7)","v":4},{"$f":"O7/$Q$4","v":0.2857142857142857},{"$f":"IF(P7=0,0,(P7*((LOG(P7))/LOG(2))))","v":-0.51638712058788683},null,null,{"$f":"N7","v":1111},{"$f":"COUNTIF(L7:L8,T7)","v":0},{"$f":"U7/(W4-U20)","v":0},{"$f":"IF(V7=0,0,(V7*((LOG(V7))/LOG(2))))","v":0},null,{"$f":"N7","v":1111},{"$f":"COUNTIF(L9:L11,Y7)","v":0},{"$f":"Z7/(AB4-Z20)","v":0},{"$f":"IF(AA7=0,0,(AA7*((LOG(AA7))/LOG(2))))","v":0},null,{"$f":"N7","v":1111},{"$f":"COUNTIF(L12:L13,AD7)","v":1},{"$f":"AE7/(AG4-AE20)","v":0.5},{"$f":"IF(AF7=0,0,(AF7*((LOG(AF7))/LOG(2))))","v":-0.5},null,{"$f":"N7","v":1111},{"$f":"COUNTIF(L14:L15,AI7)","v":1},{"$f":"AJ7/(AL4-AJ20)","v":0.5},{"$f":"IF(AK7=0,0,(AK7*((LOG(AK7))/LOG(2))))","v":-0.5},null,{"$f":"N7","v":1111},{"$f":"COUNTIF(L16:L18,AN7)","v":2},{"$f":"AO7/(AQ4-AO20)","v":0.66666666666666663},{"$f":"IF(AP7=0,0,(AP7*((LOG(AP7))/LOG(2))))","v":-0.38997500048077083},null,{"$f":"N7","v":1111},{"$f":"COUNTIF(L19:L20,AS7)","v":0},{"$f":"AT7/(AV4-AT20)","v":0},{"$f":"IF(AU7=0,0,(AU7*((LOG(AU7))/LOG(2))))","v":0}]
[12,372,14,375,24,384,23,387,null,null,0,1122,null,1112,{"$f":"COUNTIF($L$7:$L$500,N8)","v":2},{"$f":"O8/$Q$4","v":0.14285714285714285},{"$f":"IF(P8=0,0,(P8*((LOG(P8))/LOG(2))))","v":-0.40105070315108626},null,null,{"$f":"N8","v":1112},{"$f":"COUNTIF(L7:L8,T8)","v":0},{"$f":"U8/(W4-U20)","v":0},{"$f":"IF(V8=0,0,(V8*((LOG(V8))/LOG(2))))","v":0},null,{"$f":"N8","v":1112},{"$f":"COUNTIF(L9:L11,Y8)","v":1},{"$f":"Z8/(AB4-Z20)","v":0.33333333333333331},{"$f":"IF(AA8=0,0,(AA8*((LOG(AA8))/LOG(2))))","v":-0.52832083357371862},null,{"$f":"N8","v":1112},{"$f":"COUNTIF(L12:L13,AD8)","v":1},{"$f":"AE8/(AG4-AE20)","v":0.5},{"$f":"IF(AF8=0,0,(AF8*((LOG(AF8))/LOG(2))))","v":-0.5},null,{"$f":"N8","v":1112},{"$f":"COUNTIF(L14:L15,AI8)","v":0},{"$f":"AJ8/(AL4-AJ20)","v":0},{"$f":"IF(AK8=0,0,(AK8*((LOG(AK8))/LOG(2))))","v":0},null,{"$f":"N8","v":1112},{"$f":"COUNTIF(L16:L18,AN8)","v":0},{"$f":"AO8/(AQ4-AO20)","v":0},{"$f":"IF(AP8=0,0,(AP8*((LOG(AP8))/LOG(2))))","v":0},null,{"$f":"N8","v":1112},{"$f":"COUNTIF(L19:L20,AS8)","v":0},{"$f":"AT8/(AV4-AT20)","v":0},{"$f":"IF(AU8=0,0,(AU8*((LOG(AU8))/LOG(2))))","v":0}]
[12,485,23,495,24,500,23,506,null,null,0,1222,null,1121,{"$f":"COUNTIF($L$7:$L$500,N9)","v":0},{"$f":"O9/$Q$4","v":0},{"$f":"IF(P9=0,0,(P9*((LOG(P9))/LOG(2))))","v":0},null,null,{"$f":"N9","v":1121},{"$f":"COUNTIF(L7:L8,T9)","v":0},{"$f":"U9/(W4-U20)","v":0},{"$f":"IF(V9=0,0,(V9*((LOG(V9))/LOG(2))))","v":0},null,{"$f":"N9","v":1121},{"$f":"COUNTIF(L9:L11,Y9)","v":0},{"$f":"Z9/(AB4-Z20)","v":0},{"$f":"IF(AA9=0,0,(AA9*((LOG(AA9))/LOG(2))))","v":0},null,{"$f":"N9","v":1121},{"$f":"COUNTIF(L12:L13,AD9)","v":0},{"$f":"AE9/(AG4-AE20)","v":0},{"$f":"IF(AF9=0,0,(AF9*((LOG(AF9))/LOG(2))))","v":0},null,{"$f":"N9","v":1121},{"$f":"COUNTIF(L14:L15,AI9)","v":0},{"$f":"AJ9/(AL4-AJ20)","v":0},{"$f":"IF(AK9=0,0,(AK9*((LOG(AK9))/LOG(2))))","v":0},null,{"$f":"N9","v":1121},{"$f":"COUNTIF(L16:L18,AN9)","v":0},{"$f":"AO9/(AQ4-AO20)","v":0},{"$f":"IF(AP9=0,0,(AP9*((LOG(AP9))/LOG(2))))","v":0},null,{"$f":"N9","v":1121},{"$f":"COUNTIF(L19:L20,AS9)","v":0},{"$f":"AT9/(AV4-AT20)","v":0},{"$f":"IF(AU9=0,0,(AU9*((LOG(AU9))/LOG(2))))","v":0}]
[12,598,14,603,24,615,23,623,null,null,0,1122,null,1122,{"$f":"COUNTIF($L$7:$L$500,N10)","v":3},{"$f":"O10/$Q$4","v":0.21428571428571427},{"$f":"IF(P10=0,0,(P10*((LOG(P10))/LOG(2))))","v":-0.47622694742923877},null,null,{"$f":"N10","v":1122},{"$f":"COUNTIF(L7:L8,T10)","v":1},{"$f":"U10/(W4-U20)","v":0.5},{"$f":"IF(V10=0,0,(V10*((LOG(V10))/LOG(2))))","v":-0.5},null,{"$f":"N10","v":1122},{"$f":"COUNTIF(L9:L11,Y10)","v":1},{"$f":"Z10/(AB4-Z20)","v":0.33333333333333331},{"$f":"IF(AA10=0,0,(AA10*((LOG(AA10))/LOG(2))))","v":-0.52832083357371862},null,{"$f":"N10","v":1122},{"$f":"COUNTIF(L12:L13,AD10)","v":0},{"$f":"AE10/(AG4-AE20)","v":0},{"$f":"IF(AF10=0,0,(AF10*((LOG(AF10))/LOG(2))))","v":0},null,{"$f":"N10","v":1122},{"$f":"COUNTIF(L14:L15,AI10)","v":1},{"$f":"AJ10/(AL4-AJ20)","v":0.5},{"$f":"IF(AK10=0,0,(AK10*((LOG(AK10))/LOG(2))))","v":-0.5},null,{"$f":"N10","v":1122},{"$f":"COUNTIF(L16:L18,AN10)","v":0},{"$f":"AO10/(AQ4-AO20)","v":0},{"$f":"IF(AP10=0,0,(AP10*((LOG(AP10))/LOG(2))))","v":0},null,{"$f":"N10","v":1122},{"$f":"COUNTIF(L19:L20,AS10)","v":0},{"$f":"AT10/(AV4-AT20)","v":0},{"$f":"IF(AU10=0,0,(AU10*((LOG(AU10))/LOG(2))))","v":0}]
[12,723,14,725,13,727,23,739,null,null,0,1112,null,1211,{"$f":"COUNTIF($L$7:$L$500,N11)","v":0},{"$f":"O11/$Q$4","v":0},{"$f":"IF(P11=0,0,(P11*((LOG(P11))/LOG(2))))","v":0},null,null,{"$f":"N11","v":1211},{"$f":"COUNTIF(L7:L8,T11)","v":0},{"$f":"U11/(W4-U20)","v":0},{"$f":"IF(V11=0,0,(V11*((LOG(V11))/LOG(2))))","v":0},null,{"$f":"N11","v":1211},{"$f":"COUNTIF(L9:L11,Y11)","v":0},{"$f":"Z11/(AB4-Z20)","v":0},{"$f":"IF(AA11=0,0,(AA11*((LOG(AA11))/LOG(2))))","v":0},null,{"$f":"N11","v":1211},{"$f":"COUNTIF(L12:L13,AD11)","v":0},{"$f":"AE11/(AG4-AE20)","v":0},{"$f":"IF(AF11=0,0,(AF11*((LOG(AF11))/LOG(2))))","v":0},null,{"$f":"N11","v":1211},{"$f":"COUNTIF(L14:L15,AI11)","v":0},{"$f":"AJ11/(AL4-AJ20)","v":0},{"$f":"IF(AK11=0,0,(AK11*((LOG(AK11))/LOG(2))))","v":0},null,{"$f":"N11","v":1211},{"$f":"COUNTIF(L16:L18,AN11)","v":0},{"$f":"AO11/(AQ4-AO20)","v":0},{"$f":"IF(AP11=0,0,(AP11*((LOG(AP11))/LOG(2))))","v":0},null,{"$f":"N11","v":1211},{"$f":"COUNTIF(L19:L20,AS11)","v":0},{"$f":"AT11/(AV4-AT20)","v":0},{"$f":"IF(AU11=0,0,(AU11*((LOG(AU11))/LOG(2))))","v":0}]
[12,851,14,853,13,868,23,881,null,null,0,1112,null,1212,{"$f":"COUNTIF($L$7:$L$500,N12)","v":0},{"$f":"O12/$Q$4","v":0},{"$f":"IF(P12=0,0,(P12*((LOG(P12))/LOG(2))))","v":0},null,null,{"$f":"N12","v":1212},{"$f":"COUNTIF(L7:L8,T12)","v":0},{"$f":"U12/(W4-U20)","v":0},{"$f":"IF(V12=0,0,(V12*((LOG(V12))/LOG(2))))","v":0},null,{"$f":"N12","v":1212},{"$f":"COUNTIF(L9:L11,Y12)","v":0},{"$f":"Z12/(AB4-Z20)","v":0},{"$f":"IF(AA12=0,0,(AA12*((LOG(AA12))/LOG(2))))","v":0},null,{"$f":"N12","v":1212},{"$f":"COUNTIF(L12:L13,AD12)","v":0},{"$f":"AE12/(AG4-AE20)","v":0},{"$f":"IF(AF12=0,0,(AF12*((LOG(AF12))/LOG(2))))","v":0},null,{"$f":"N12","v":1212},{"$f":"COUNTIF(L14:L15,AI12)","v":0},{"$f":"AJ12/(AL4-AJ20)","v":0},{"$f":"IF(AK12=0,0,(AK12*((LOG(AK12))/LOG(2))))","v":0},null,{"$f":"N12","v":1212},{"$f":"COUNTIF(L16:L18,AN12)","v":0},{"$f":"AO12/(AQ4-AO20)","v":0},{"$f":"IF(AP12=0,0,(AP12*((LOG(AP12))/LOG(2))))","v":0},null,{"$f":"N12","v":1212},{"$f":"COUNTIF(L19:L20,AS12)","v":0},{"$f":"AT12/(AV4-AT20)","v":0},{"$f":"IF(AU12=0,0,(AU12*((LOG(AU12))/LOG(2))))","v":0}]
[12,1033,14,1049,13,1056,14,1062,null,null,0,1111,null,1221,{"$f":"COUNTIF($L$7:$L$500,N13)","v":0},{"$f":"O13/$Q$4","v":0},{"$f":"IF(P13=0,0,(P13*((LOG(P13))/LOG(2))))","v":0},null,null,{"$f":"N13","v":1221},{"$f":"COUNTIF(L7:L8,T13)","v":0},{"$f":"U13/(W4-U20)","v":0},{"$f":"IF(V13=0,0,(V13*((LOG(V13))/LOG(2))))","v":0},null,{"$f":"N13","v":1221},{"$f":"COUNTIF(L9:L11,Y13)","v":0},{"$f":"Z13/(AB4-Z20)","v":0},{"$f":"IF(AA13=0,0,(AA13*((LOG(AA13))/LOG(2))))","v":0},null,{"$f":"N13","v":1221},{"$f":"COUNTIF(L12:L13,AD13)","v":0},{"$f":"AE13/(AG4-AE20)","v":0},{"$f":"IF(AF13=0,0,(AF13*((LOG(AF13))/LOG(2))))","v":0},null,{"$f":"N13","v":1221},{"$f":"COUNTIF(L14:L15,AI13)","v":0},{"$f":"AJ13/(AL4-AJ20)","v":0},{"$f":"IF(AK13=0,0,(AK13*((LOG(AK13))/LOG(2))))","v":0},null,{"$f":"N13","v":1221},{"$f":"COUNTIF(L16:L18,AN13)","v":0},{"$f":"AO13/(AQ4-AO20)","v":0},{"$f":"IF(AP13=0,0,(AP13*((LOG(AP13))/LOG(2))))","v":0},null,{"$f":"N13","v":1221},{"$f":"COUNTIF(L19:L20,AS13)","v":0},{"$f":"AT13/(AV4-AT20)","v":0},{"$f":"IF(AU13=0,0,(AU13*((LOG(AU13))/LOG(2))))","v":0}]
[12,1171,14,1175,24,1184,23,1192,null,null,0,1122,null,1222,{"$f":"COUNTIF($L$7:$L$500,N14)","v":1},{"$f":"O14/$Q$4","v":7.1428571428571425E-2},{"$f":"IF(P14=0,0,(P14*((LOG(P14))/LOG(2))))","v":-0.27195392300411453},null,null,{"$f":"N14","v":1222},{"$f":"COUNTIF(L7:L8,T14)","v":0},{"$f":"U14/(W4-U20)","v":0},{"$f":"IF(V14=0,0,(V14*((LOG(V14))/LOG(2))))","v":0},null,{"$f":"N14","v":1222},{"$f":"COUNTIF(L9:L11,Y14)","v":1},{"$f":"Z14/(AB4-Z20)","v":0.33333333333333331},{"$f":"IF(AA14=0,0,(AA14*((LOG(AA14))/LOG(2))))","v":-0.52832083357371862},null,{"$f":"N14","v":1222},{"$f":"COUNTIF(L12:L13,AD14)","v":0},{"$f":"AE14/(AG4-AE20)","v":0},{"$f":"IF(AF14=0,0,(AF14*((LOG(AF14))/LOG(2))))","v":0},null,{"$f":"N14","v":1222},{"$f":"COUNTIF(L14:L15,AI14)","v":0},{"$f":"AJ14/(AL4-AJ20)","v":0},{"$f":"IF(AK14=0,0,(AK14*((LOG(AK14))/LOG(2))))","v":0},null,{"$f":"N14","v":1222},{"$f":"COUNTIF(L16:L18,AN14)","v":0},{"$f":"AO14/(AQ4-AO20)","v":0},{"$f":"IF(AP14=0,0,(AP14*((LOG(AP14))/LOG(2))))","v":0},null,{"$f":"N14","v":1222},{"$f":"COUNTIF(L19:L20,AS14)","v":0},{"$f":"AT14/(AV4-AT20)","v":0},{"$f":"IF(AU14=0,0,(AU14*((LOG(AU14))/LOG(2))))","v":0}]
[12,1513,14,1539,13,1543,14,1553,null,null,0,1111,null,2111,{"$f":"COUNTIF($L$7:$L$500,N15)","v":1},{"$f":"O15/$Q$4","v":7.1428571428571425E-2},{"$f":"IF(P15=0,0,(P15*((LOG(P15))/LOG(2))))","v":-0.27195392300411453},null,null,{"$f":"N15","v":2111},{"$f":"COUNTIF(L7:L8,T15)","v":0},{"$f":"U15/(W4-U20)","v":0},{"$f":"IF(V15=0,0,(V15*((LOG(V15))/LOG(2))))","v":0},null,{"$f":"N15","v":2111},{"$f":"COUNTIF(L9:L11,Y15)","v":0},{"$f":"Z15/(AB4-Z20)","v":0},{"$f":"IF(AA15=0,0,(AA15*((LOG(AA15))/LOG(2))))","v":0},null,{"$f":"N15","v":2111},{"$f":"COUNTIF(L12:L13,AD15)","v":0},{"$f":"AE15/(AG4-AE20)","v":0},{"$f":"IF(AF15=0,0,(AF15*((LOG(AF15))/LOG(2))))","v":0},null,{"$f":"N15","v":2111},{"$f":"COUNTIF(L14:L15,AI15)","v":0},{"$f":"AJ15/(AL4-AJ20)","v":0},{"$f":"IF(AK15=0,0,(AK15*((LOG(AK15))/LOG(2))))","v":0},null,{"$f":"N15","v":2111},{"$f":"COUNTIF(L16:L18,AN15)","v":1},{"$f":"AO15/(AQ4-AO20)","v":0.33333333333333331},{"$f":"IF(AP15=0,0,(AP15*((LOG(AP15))/LOG(2))))","v":-0.52832083357371862},null,{"$f":"N15","v":2111},{"$f":"COUNTIF(L19:L20,AS15)","v":0},{"$f":"AT15/(AV4-AT20)","v":0},{"$f":"IF(AU15=0,0,(AU15*((LOG(AU15))/LOG(2))))","v":0}]
[12,1684,14,1689,13,1693,14,1698,null,null,0,1111,null,2112,{"$f":"COUNTIF($L$7:$L$500,N16)","v":1},{"$f":"O16/$Q$4","v":7.1428571428571425E-2},{"$f":"IF(P16=0,0,(P16*((LOG(P16))/LOG(2))))","v":-0.27195392300411453},null,null,{"$f":"N16","v":2112},{"$f":"COUNTIF(L7:L8,T16)","v":0},{"$f":"U16/(W4-U20)","v":0},{"$f":"IF(V16=0,0,(V16*((LOG(V16))/LOG(2))))","v":0},null,{"$f":"N16","v":2112},{"$f":"COUNTIF(L9:L11,Y16)","v":0},{"$f":"Z16/(AB4-Z20)","v":0},{"$f":"IF(AA16=0,0,(AA16*((LOG(AA16))/LOG(2))))","v":0},null,{"$f":"N16","v":2112},{"$f":"COUNTIF(L12:L13,AD16)","v":0},{"$f":"AE16/(AG4-AE20)","v":0},{"$f":"IF(AF16=0,0,(AF16*((LOG(AF16))/LOG(2))))","v":0},null,{"$f":"N16","v":2112},{"$f":"COUNTIF(L14:L15,AI16)","v":0},{"$f":"AJ16/(AL4-AJ20)","v":0},{"$f":"IF(AK16=0,0,(AK16*((LOG(AK16))/LOG(2))))","v":0},null,{"$f":"N16","v":2112},{"$f":"COUNTIF(L16:L18,AN16)","v":0},{"$f":"AO16/(AQ4-AO20)","v":0},{"$f":"IF(AP16=0,0,(AP16*((LOG(AP16))/LOG(2))))","v":0},null,{"$f":"N16","v":2112},{"$f":"COUNTIF(L19:L20,AS16)","v":1},{"$f":"AT16/(AV4-AT20)","v":0.5},{"$f":"IF(AU16=0,0,(AU16*((LOG(AU16))/LOG(2))))","v":-0.5}]
[21,2996,12,3013,13,3022,14,3029,null,null,0,2111,null,2121,{"$f":"COUNTIF($L$7:$L$500,N17)","v":0},{"$f":"O17/$Q$4","v":0},{"$f":"IF(P17=0,0,(P17*((LOG(P17))/LOG(2))))","v":0},null,null,{"$f":"N17","v":2121},{"$f":"COUNTIF(L7:L8,T17)","v":0},{"$f":"U17/(W4-U20)","v":0},{"$f":"IF(V17=0,0,(V17*((LOG(V17))/LOG(2))))","v":0},null,{"$f":"N17","v":2121},{"$f":"COUNTIF(L9:L11,Y17)","v":0},{"$f":"Z17/(AB4-Z20)","v":0},{"$f":"IF(AA17=0,0,(AA17*((LOG(AA17))/LOG(2))))","v":0},null,{"$f":"N17","v":2121},{"$f":"COUNTIF(L12:L13,AD17)","v":0},{"$f":"AE17/(AG4-AE20)","v":0},{"$f":"IF(AF17=0,0,(AF17*((LOG(AF17))/LOG(2))))","v":0},null,{"$f":"N17","v":2121},{"$f":"COUNTIF(L14:L15,AI17)","v":0},{"$f":"AJ17/(AL4-AJ20)","v":0},{"$f":"IF(AK17=0,0,(AK17*((LOG(AK17))/LOG(2))))","v":0},null,{"$f":"N17","v":2121},{"$f":"COUNTIF(L16:L18,AN17)","v":0},{"$f":"AO17/(AQ4-AO20)","v":0},{"$f":"IF(AP17=0,0,(AP17*((LOG(AP17))/LOG(2))))","v":0},null,{"$f":"N17","v":2121},{"$f":"COUNTIF(L19:L20,AS17)","v":0},{"$f":"AT17/(AV4-AT20)","v":0},{"$f":"IF(AU17=0,0,(AU17*((LOG(AU17))/LOG(2))))","v":0}]
[12,3154,14,3159,13,3167,14,3174,null,null,0,1111,null,2122,{"$f":"COUNTIF($L$7:$L$500,N18)","v":0},{"$f":"O18/$Q$4","v":0},{"$f":"IF(P18=0,0,(P18*((LOG(P18))/LOG(2))))","v":0},null,null,{"$f":"N18","v":2122},{"$f":"COUNTIF(L7:L8,T18)","v":0},{"$f":"U18/(W4-U20)","v":0},{"$f":"IF(V18=0,0,(V18*((LOG(V18))/LOG(2))))","v":0},null,{"$f":"N18","v":2122},{"$f":"COUNTIF(L9:L11,Y18)","v":0},{"$f":"Z18/(AB4-Z20)","v":0},{"$f":"IF(AA18=0,0,(AA18*((LOG(AA18))/LOG(2))))","v":0},null,{"$f":"N18","v":2122},{"$f":"COUNTIF(L12:L13,AD18)","v":0},{"$f":"AE18/(AG4-AE20)","v":0},{"$f":"IF(AF18=0,0,(AF18*((LOG(AF18))/LOG(2))))","v":0},null,{"$f":"N18","v":2122},{"$f":"COUNTIF(L14:L15,AI18)","v":0},{"$f":"AJ18/(AL4-AJ20)","v":0},{"$f":"IF(AK18=0,0,(AK18*((LOG(AK18))/LOG(2))))","v":0},null,{"$f":"N18","v":2122},{"$f":"COUNTIF(L16:L18,AN18)","v":0},{"$f":"AO18/(AQ4-AO20)","v":0},{"$f":"IF(AP18=0,0,(AP18*((LOG(AP18))/LOG(2))))","v":0},null,{"$f":"N18","v":2122},{"$f":"COUNTIF(L19:L20,AS18)","v":0},{"$f":"AT18/(AV4-AT20)","v":0},{"$f":"IF(AU18=0,0,(AU18*((LOG(AU18))/LOG(2))))","v":0}]
[21,3344,21,5247,11,9967,12,9972,null,null,0,2211,null,2211,{"$f":"COUNTIF($L$7:$L$500,N19)","v":1},{"$f":"O19/$Q$4","v":7.1428571428571425E-2},{"$f":"IF(P19=0,0,(P19*((LOG(P19))/LOG(2))))","v":-0.27195392300411453},null,null,{"$f":"N19","v":2211},{"$f":"COUNTIF(L7:L8,T19)","v":0},{"$f":"U19/(W4-U20)","v":0},{"$f":"IF(V19=0,0,(V19*((LOG(V19))/LOG(2))))","v":0},null,{"$f":"N19","v":2211},{"$f":"COUNTIF(L9:L11,Y19)","v":0},{"$f":"Z19/(AB4-Z20)","v":0},{"$f":"IF(AA19=0,0,(AA19*((LOG(AA19))/LOG(2))))","v":0},null,{"$f":"N19","v":2211},{"$f":"COUNTIF(L12:L13,AD19)","v":0},{"$f":"AE19/(AG4-AE20)","v":0},{"$f":"IF(AF19=0,0,(AF19*((LOG(AF19))/LOG(2))))","v":0},null,{"$f":"N19","v":2211},{"$f":"COUNTIF(L14:L15,AI19)","v":0},{"$f":"AJ19/(AL4-AJ20)","v":0},{"$f":"IF(AK19=0,0,(AK19*((LOG(AK19))/LOG(2))))","v":0},null,{"$f":"N19","v":2211},{"$f":"COUNTIF(L16:L18,AN19)","v":0},{"$f":"AO19/(AQ4-AO20)","v":0},{"$f":"IF(AP19=0,0,(AP19*((LOG(AP19))/LOG(2))))","v":0},null,{"$f":"N19","v":2211},{"$f":"COUNTIF(L19:L20,AS19)","v":1},{"$f":"AT19/(AV4-AT20)","v":0.5},{"$f":"IF(AU19=0,0,(AU19*((LOG(AU19))/LOG(2))))","v":-0.5}]
[21,20831,12,21594,13,21729,23,21739,null,null,0,2112,null,2212,{"$f":"COUNTIF($L$7:$L$500,N20)","v":0},{"$f":"O20/$Q$4","v":0},{"$f":"IF(P20=0,0,(P20*((LOG(P20))/LOG(2))))","v":0},null,null,{"$f":"N20","v":2212},{"$f":"COUNTIF(L7:L8,T20)","v":0},null,null,null,{"$f":"N20","v":2212},{"$f":"COUNTIF(L9:L11,Y20)","v":0},null,null,null,{"$f":"N20","v":2212},{"$f":"COUNTIF(L12:L13,AD20)","v":0},null,null,null,{"$f":"N20","v":2212},{"$f":"COUNTIF(L14:L15,AI20)","v":0},null,null,null,{"$f":"N20","v":2212},{"$f":"COUNTIF(L16:L18,AN20)","v":0},null,null,null,{"$f":"N20","v":2212},{"$f":"COUNTIF(L19:L20,AS20)","v":0}]
[null,null,null,null,null,null,null,null,null,null,null,null,null,2221,{"$f":"COUNTIF($L$7:$L$500,N21)","v":0},{"$f":"O21/$Q$4","v":0},{"$f":"IF(P21=0,0,(P21*((LOG(P21))/LOG(2))))","v":0},null,null,{"$f":"N21","v":2221},{"$f":"COUNTIF(L7:L8,T21)","v":0},{"$f":"U21/(W4-U20)","v":0},{"$f":"IF(V21=0,0,(V21*((LOG(V21))/LOG(2))))","v":0},null,{"$f":"N21","v":2221},{"$f":"COUNTIF(L9:L11,Y21)","v":0},{"$f":"Z21/(AB4-Z20)","v":0},{"$f":"IF(AA21=0,0,(AA21*((LOG(AA21))/LOG(2))))","v":0},null,{"$f":"N21","v":2221},{"$f":"COUNTIF(L12:L13,AD21)","v":0},{"$f":"AE21/(AG4-AE20)","v":0},{"$f":"IF(AF21=0,0,(AF21*((LOG(AF21))/LOG(2))))","v":0},null,{"$f":"N21","v":2221},{"$f":"COUNTIF(L14:L15,AI21)","v":0},{"$f":"AJ21/(AL4-AJ20)","v":0},{"$f":"IF(AK21=0,0,(AK21*((LOG(AK21))/LOG(2))))","v":0},null,{"$f":"N21","v":2221},{"$f":"COUNTIF(L16:L18,AN21)","v":0},{"$f":"AO21/(AQ4-AO20)","v":0},{"$f":"IF(AP21=0,0,(AP21*((LOG(AP21))/LOG(2))))","v":0},null,{"$f":"N21","v":2221},{"$f":"COUNTIF(L19:L20,AS21)","v":0},{"$f":"AT21/(AV4-AT20)","v":0},{"$f":"IF(AU21=0,0,(AU21*((LOG(AU21))/LOG(2))))","v":0}]
[null,null,null,null,null,null,null,null,null,null,null,null,null,2222,{"$f":"COUNTIF($L$7:$L$500,N22)","v":1},{"$f":"O22/$Q$4","v":7.1428571428571425E-2},{"$f":"IF(P22=0,0,(P22*((LOG(P22))/LOG(2))))","v":-0.27195392300411453},null,null,{"$f":"N22","v":2222},{"$f":"COUNTIF(L7:L8,T22)","v":1},{"$f":"U22/(W4-U20)","v":0.5},{"$f":"IF(V22=0,0,(V22*((LOG(V22))/LOG(2))))","v":-0.5},null,{"$f":"N22","v":2222},{"$f":"COUNTIF(L9:L11,Y22)","v":0},{"$f":"Z22/(AB4-Z20)","v":0},{"$f":"IF(AA22=0,0,(AA22*((LOG(AA22))/LOG(2))))","v":0},null,{"$f":"N22","v":2222},{"$f":"COUNTIF(L12:L13,AD22)","v":0},{"$f":"AE22/(AG4-AE20)","v":0},{"$f":"IF(AF22=0,0,(AF22*((LOG(AF22))/LOG(2))))","v":0},null,{"$f":"N22","v":2222},{"$f":"COUNTIF(L14:L15,AI22)","v":0},{"$f":"AJ22/(AL4-AJ20)","v":0},{"$f":"IF(AK22=0,0,(AK22*((LOG(AK22))/LOG(2))))","v":0},null,{"$f":"N22","v":2222},{"$f":"COUNTIF(L16:L18,AN22)","v":0},{"$f":"AO22/(AQ4-AO20)","v":0},{"$f":"IF(AP22=0,0,(AP22*((LOG(AP22))/LOG(2))))","v":0},null,{"$f":"N22","v":2222},{"$f":"COUNTIF(L19:L20,AS22)","v":0},{"$f":"AT22/(AV4-AT20)","v":0},{"$f":"IF(AU22=0,0,(AU22*((LOG(AU22))/LOG(2))))","v":0}]
[null,null,null,null,null,null,null,null,null,null,null,null,null,null,null,{"$f":"SUM(P7:P22)","v":0.99999999999999978},{"$f":"-SUM(Q7:Q22)","v":2.753434386188784},null,null,null,null,{"$f":"SUM(V7:V22)","v":1},{"$f":"-SUM(W7:W22)","v":1},null,null,null,{"$f":"SUM(AA7:AA22)","v":1},{"$f":"-SUM(AB7:AB22)","v":1.5849625007211559},null,null,null,{"$f":"SUM(AF7:AF22)","v":1},{"$f":"-SUM(AG7:AG22)","v":1},null,null,null,{"$f":"SUM(AK7:AK22)","v":1},{"$f":"-SUM(AL7:AL22)","v":1},null,null,null,{"$f":"SUM(AP7:AP22)","v":1},{"$f":"-SUM(AQ7:AQ22)","v":0.91829583405448945},null,null,null,{"$f":"SUM(AU7:AU22)","v":1},{"$f":"-SUM(AV7:AV22)","v":1}]
[null,null,null,null,null,null,null,null,null,null,null,null,null,null,null,"U=",{"$f":"Q23/(LOG(Q4)/LOG(2))","v":0.72318826128790459},null,null,null,null,"U1=",{"$f":"W23/(LOG(W4)/LOG(2))","v":1},null,null,null,"U2=",{"$f":"AB23/(LOG(AB4)/LOG(2))","v":0.99999999999999989},null,null,null,"U3=",{"$f":"AG23/(LOG(AG4)/LOG(2))","v":1},null,null,null,"U4=",{"$f":"AL23/(LOG(AL4)/LOG(2))","v":1},null,null,null,"U5=",{"$f":"AQ23/(LOG(AQ4)/LOG(2))","v":0.57938016428569505},null,null,null,"U6=",{"$f":"AV23/(LOG(AV4)/LOG(2))","v":1}]
[]
[]
[null,null,null,null,null,null,null,null,null,null,null,null,null,"Total Target Seq"]
[null,null,null,null,null,null,null,null,null,null,null,null,null,{"$f":"COUNTIF(L7:L20,G3)","v":0},null,2,3,2,2,3,2]
[null,null,null,null,null,null,null,null,null,null,null,null,null,null,null,"% of reinforcement given in 6 equal intervals based on number of trials "]
[null,null,null,null,null,null,null,null,null,null,null,null,null,null,null,"%_1","%_2","%_3","%_4","%_5","%_6"]
[null,null,null,null,null,null,null,null,null,null,null,null,null,null,"target sequence",{"$f":"$G$3","v":2212},{"$f":"$G$3","v":2212},{"$f":"$G$3","v":2212},{"$f":"$G$3","v":2212},{"$f":"$G$3","v":2212},{"$f":"$G$3","v":2212}]
[null,null,null,null,null,null,null,null,null,null,null,null,null,null,"total reinforcement",{"$f":"U20","v":0},{"$f":"Z20","v":0},{"$f":"AE20","v":0},{"$f":"AJ20","v":0},{"$f":"AO20","v":0},{"$f":"AT20","v":0}]
[null,null,null,null,null,null,null,null,null,null,null,null,null,null,"% target"]
[null,null,null,null,null,null,null,null,null,null,null,null,null,null,"CCRF"]
[null,null,null,null,null,null,null,null,null,null,null,null,null,null,"% CCRf"]
[null,null,null,null,null,null,null,null,null,null,null,null,null,null,"average response rate",{"$f":"H8/P28","v":193.5},{"$f":"(H11-H8)/Q28","v":117.33333333333333},{"$f":"(H13-H11)/R28","v":161.5},{"$f":"(H15-H13)/S28","v":245.5},{"$f":"(H18-H15)/T28","v":540.33333333333337},{"$f":"(H20-H18)/U28","v":9282.5}]

{"sheet":"!M117A2T.ayl","index":14,"n_rows":36,"n_cols":48,"rows_kept":36,"cut":false,"hidden":false,"merged":[[4,39,4,42],[5,39,5,40],[4,44,4,47],[5,44,5,45],[4,24,4,27],[5,24,5,25],[4,29,4,32],[5,29,5,30],[4,34,4,37],[5,34,5,35],[1,1,1,2],[5,13,5,14],[26,13,26,14],[27,13,27,14],[4,19,4,22],[5,19,5,20]]}
["Report for:!M117A2T.ayl"]
["Date:","<date>"]
["Hen:","<hen>",null,null,null,"Correct Sequence",{"$f":"Start!J2","v":2212},null,null,null,null,null,null,null,null,"Total Sequences in Data",{"$f":"4994-COUNTBLANK(L7:L5000)","v":19},null,null,null,null,"Total Sequences in Block Data",{"$f":"COUNTA(L7:L9)","v":3},null,null,null,"Total Sequences in Block Data",{"$f":"COUNTA(L10:L12)","v":3},null,null,null,"Total Sequences in Block Data",{"$f":"COUNTA(L13:L16)","v":4},null,null,null,"Total Sequences in Block Data",{"$f":"COUNTA(L17:L19)","v":3},null,null,null,"Total Sequences in Block Data",{"$f":"COUNTA(L20:L22)","v":3},null,null,null,"Total Sequences in Block Data",{"$f":"COUNTA(L23:L25)","v":3}]
[null,null,null,null,null,null,null,null,null,null,null,null,null,null,null,"Total Sequences in Summary",{"$f":"SUM(O7:O22)","v":18},null,null,null,null,"Total Sequences in Block Summary",{"$f":"SUM(U7:U22)","v":3},null,null,null,"Total Sequences in Block Summary",{"$f":"SUM(Z7:Z22)","v":3},null,null,null,"Total Sequences in Block Summary",{"$f":"SUM(AE7:AE22)","v":4},null,null,null,"Total Sequences in Block Summary",{"$f":"SUM(AJ7:AJ22)","v":3},null,null,null,"Total Sequences in Block Summary",{"$f":"SUM(AO7:AO22)","v":3},null,null,null,"Total Sequences in Block Summary",{"$f":"SUM(AT7:AT22)","v":2}]
[null,null,null,null,null,null,null,null,null,null,null,null,null,null,null,null,null,null,null,"Block 1",null,null,null,null,"Block 2",null,null,null,null,"Block 3",null,null,null,null,"Block 4",null,null,null,null,"Block 5",null,null,null,null,"Block 6"]
["Sequence\nComponent\n1","Time\n1","Sequence\nComponent\n2","Time\n2","Sequence\nComponent\n3","Time\n3","Sequence\nComponent\n4","Time\n4","Sequence\nComponent\n5","Time\n5","Correct?\n0=No 1=Yes","Sequence",null,"Frequency",null,"Relative Frequency","Variability",null,null,"Frequency",null,"Relative Frequency","Variability",null,"Frequency",null,"Relative Frequency","Variability",null,"Frequency",null,"Relative Frequency","Variability",null,"Frequency",null,"Relative Frequency","Variability",null,"Frequency",null,"Relative Frequency","Variability",null,"Frequency",null,"Relative Frequency","Variability"]
[12,10,23,24,24,30,23,37,null,null,0,1222,null,1111,{"$f":"COUNTIF($L$7:$L$500,N7)","v":4},{"$f":"O7/$Q$4","v":0.22222222222222221},{"$f":"IF(P7=0,0,(P7*((LOG(P7))/LOG(2))))","v":-0.48220555587606945},null,null,{"$f":"N7","v":1111},{"$f":"COUNTIF(L7:L9,T7)","v":0},{"$f":"U7/(W4-U20)","v":0},{"$f":"IF(V7=0,0,(V7*((LOG(V7))/LOG(2))))","v":0},null,{"$f":"N7","v":1111},{"$f":"COUNTIF(L10:L12,Y7)","v":3},{"$f":"Z7/(AB4-Z20)","v":1},{"$f":"IF(AA7=0,0,(AA7*((LOG(AA7))/LOG(2))))","v":0},null,{"$f":"N7","v":1111},{"$f":"COUNTIF(L13:L16,AD7)","v":0},{"$f":"AE7/(AG4-AE20)","v":0},{"$f":"IF(AF7=0,0,(AF7*((LOG(AF7))/LOG(2))))","v":0},null,{"$f":"N7","v":1111},{"$f":"COUNTIF(L17:L19,AI7)","v":0},{"$f":"AJ7/(AL4-AJ20)","v":0},{"$f":"IF(AK7=0,0,(AK7*((LOG(AK7))/LOG(2))))","v":0},null,{"$f":"N7","v":1111},{"$f":"COUNTIF(L20:L22,AN7)","v":1},{"$f":"AO7/(AQ4-AO20)","v":0.33333333333333331},{"$f":"IF(AP7=0,0,(AP7*((LOG(AP7))/LOG(2))))","v":-0.52832083357371862},null,{"$f":"N7","v":1111},{"$f":"COUNTIF(L23:L25,AS7)","v":0},{"$f":"AT7/(AV4-AT20)","v":0},{"$f":"IF(AU7=0,0,(AU7*((LOG(AU7))/LOG(2))))","v":0}]
[12,143,23,157,24,166,23,180,null,null,0,1222,null,1112,{"$f":"COUNTIF($L$7:$L$500,N8)","v":1},{"$f":"O8/$Q$4","v":5.5555555555555552E-2},{"$f":"IF(P8=0,0,(P8*((LOG(P8))/LOG(2))))","v":-0.23166250008012845},null,null,{"$f":"N8","v":1112},{"$f":"COUNTIF(L7:L9,T8)","v":0},{"$f":"U8/(W4-U20)","v":0},{"$f":"IF(V8=0,0,(V8*((LOG(V8))/LOG(2))))","v":0},null,{"$f":"N8","v":1112},{"$f":"COUNTIF(L10:L12,Y8)","v":0},{"$f":"Z8/(AB4-Z20)","v":0},{"$f":"IF(AA8=0,0,(AA8*((LOG(AA8))/LOG(2))))","v":0},null,{"$f":"N8","v":1112},{"$f":"COUNTIF(L13:L16,AD8)","v":1},{"$f":"AE8/(AG4-AE20)","v":0.25},{"$f":"IF(AF8=0,0,(AF8*((LOG(AF8))/LOG(2))))","v":-0.5},null,{"$f":"N8","v":1112},{"$f":"COUNTIF(L17:L19,AI8)","v":0},{"$f":"AJ8/(AL4-AJ20)","v":0},{"$f":"IF(AK8=0,0,(AK8*((LOG(AK8))/LOG(2))))","v":0},null,{"$f":"N8","v":1112},{"$f":"COUNTIF(L20:L22,AN8)","v":0},{"$f":"AO8/(AQ4-AO20)","v":0},{"$f":"IF(AP8=0,0,(AP8*((LOG(AP8))/LOG(2))))","v":0},null,{"$f":"N8","v":1112},{"$f":"COUNTIF(L23:L25,AS8)","v":0},{"$f":"AT8/(AV4-AT20)","v":0},{"$f":"IF(AU8=0,0,(AU8*((LOG(AU8))/LOG(2))))","v":0}]
[12,280,23,295,24,298,23,302,null,null,0,1222,null,1121,{"$f":"COUNTIF($L$7:$L$500,N9)","v":3},{"$f":"O9/$Q$4","v":0.16666666666666666},{"$f":"IF(P9=0,0,(P9*((LOG(P9))/LOG(2))))","v":-0.43082708345352599},null,null,{"$f":"N9","v":1121},{"$f":"COUNTIF(L7:L9,T9)","v":0},{"$f":"U9/(W4-U20)","v":0},{"$f":"IF(V9=0,0,(V9*((LOG(V9))/LOG(2))))","v":0},null,{"$f":"N9","v":1121},{"$f":"COUNTIF(L10:L12,Y9)","v":0},{"$f":"Z9/(AB4-Z20)","v":0},{"$f":"IF(AA9=0,0,(AA9*((LOG(AA9))/LOG(2))))","v":0},null,{"$f":"N9","v":1121},{"$f":"COUNTIF(L13:L16,AD9)","v":3},{"$f":"AE9/(AG4-AE20)","v":0.75},{"$f":"IF(AF9=0,0,(AF9*((LOG(AF9))/LOG(2))))","v":-0.31127812445913283},null,{"$f":"N9","v":1121},{"$f":"COUNTIF(L17:L19,AI9)","v":0},{"$f":"AJ9/(AL4-AJ20)","v":0},{"$f":"IF(AK9=0,0,(AK9*((LOG(AK9))/LOG(2))))","v":0},null,{"$f":"N9","v":1121},{"$f":"COUNTIF(L20:L22,AN9)","v":0},{"$f":"AO9/(AQ4-AO20)","v":0},{"$f":"IF(AP9=0,0,(AP9*((LOG(AP9))/LOG(2))))","v":0},null,{"$f":"N9","v":1121},{"$f":"COUNTIF(L23:L25,AS9)","v":0},{"$f":"AT9/(AV4-AT20)","v":0},{"$f":"IF(AU9=0,0,(AU9*((LOG(AU9))/LOG(2))))","v":0}]
[12,416,14,437,13,448,14,453,null,null,0,1111,null,1122,{"$f":"COUNTIF($L$7:$L$500,N10)","v":2},{"$f":"O10/$Q$4","v":0.1111111111111111},{"$f":"IF(P10=0,0,(P10*((LOG(P10))/LOG(2))))","v":-0.3522138890491458},null,null,{"$f":"N10","v":1122},{"$f":"COUNTIF(L7:L9,T10)","v":0},{"$f":"U10/(W4-U20)","v":0},{"$f":"IF(V10=0,0,(V10*((LOG(V10))/LOG(2))))","v":0},null,{"$f":"N10","v":1122},{"$f":"COUNTIF(L10:L12,Y10)","v":0},{"$f":"Z10/(AB4-Z20)","v":0},{"$f":"IF(AA10=0,0,(AA10*((LOG(AA10))/LOG(2))))","v":0},null,{"$f":"N10","v":1122},{"$f":"COUNTIF(L13:L16,AD10)","v":0},{"$f":"AE10/(AG4-AE20)","v":0},{"$f":"IF(AF10=0,0,(AF10*((LOG(AF10))/LOG(2))))","v":0},null,{"$f":"N10","v":1122},{"$f":"COUNTIF(L17:L19,AI10)","v":2},{"$f":"AJ10/(AL4-AJ20)","v":0.66666666666666663},{"$f":"IF(AK10=0,0,(AK10*((LOG(AK10))/LOG(2))))","v":-0.38997500048077083},null,{"$f":"N10","v":1122},{"$f":"COUNTIF(L20:L22,AN10)","v":0},{"$f":"AO10/(AQ4-AO20)","v":0},{"$f":"IF(AP10=0,0,(AP10*((LOG(AP10))/LOG(2))))","v":0},null,{"$f":"N10","v":1122},{"$f":"COUNTIF(L23:L25,AS10)","v":0},{"$f":"AT10/(AV4-AT20)","v":0},{"$f":"IF(AU10=0,0,(AU10*((LOG(AU10))/LOG(2))))","v":0}]
[12,554,14,569,13,574,14,582,null,null,0,1111,null,1211,{"$f":"COUNTIF($L$7:$L$500,N11)","v":2},{"$f":"O11/$Q$4","v":0.1111111111111111},{"$f":"IF(P11=0,0,(P11*((LOG(P11))/LOG(2))))","v":-0.3522138890491458},null,null,{"$f":"N11","v":1211},{"$f":"COUNTIF(L7:L9,T11)","v":0},{"$f":"U11/(W4-U20)","v":0},{"$f":"IF(V11=0,0,(V11*((LOG(V11))/LOG(2))))","v":0},null,{"$f":"N11","v":1211},{"$f":"COUNTIF(L10:L12,Y11)","v":0},{"$f":"Z11/(AB4-Z20)","v":0},{"$f":"IF(AA11=0,0,(AA11*((LOG(AA11))/LOG(2))))","v":0},null,{"$f":"N11","v":1211},{"$f":"COUNTIF(L13:L16,AD11)","v":0},{"$f":"AE11/(AG4-AE20)","v":0},{"$f":"IF(AF11=0,0,(AF11*((LOG(AF11))/LOG(2))))","v":0},null,{"$f":"N11","v":1211},{"$f":"COUNTIF(L17:L19,AI11)","v":1},{"$f":"AJ11/(AL4-AJ20)","v":0.33333333333333331},{"$f":"IF(AK11=0,0,(AK11*((LOG(AK11))/LOG(2))))","v":-0.52832083357371862},null,{"$f":"N11","v":1211},{"$f":"COUNTIF(L20:L22,AN11)","v":0},{"$f":"AO11/(AQ4-AO20)","v":0},{"$f":"IF(AP11=0,0,(AP11*((LOG(AP11))/LOG(2))))","v":0},null,{"$f":"N11","v":1211},{"$f":"COUNTIF(L23:L25,AS11)","v":1},{"$f":"AT11/(AV4-AT20)","v":0.5},{"$f":"IF(AU11=0,0,(AU11*((LOG(AU11))/LOG(2))))","v":-0.5}]
[12,680,14,682,13,697,14,704,null,null,0,1111,null,1212,{"$f":"COUNTIF($L$7:$L$500,N12)","v":0},{"$f":"O12/$Q$4","v":0},{"$f":"IF(P12=0,0,(P12*((LOG(P12))/LOG(2))))","v":0},null,null,{"$f":"N12","v":1212},{"$f":"COUNTIF(L7:L9,T12)","v":0},{"$f":"U12/(W4-U20)","v":0},{"$f":"IF(V12=0,0,(V12*((LOG(V12))/LOG(2))))","v":0},null,{"$f":"N12","v":1212},{"$f":"COUNTIF(L10:L12,Y12)","v":0},{"$f":"Z12/(AB4-Z20)","v":0},{"$f":"IF(AA12=0,0,(AA12*((LOG(AA12))/LOG(2))))","v":0},null,{"$f":"N12","v":1212},{"$f":"COUNTIF(L13:L16,AD12)","v":0},{"$f":"AE12/(AG4-AE20)","v":0},{"$f":"IF(AF12=0,0,(AF12*((LOG(AF12))/LOG(2))))","v":0},null,{"$f":"N12","v":1212},{"$f":"COUNTIF(L17:L19,AI12)","v":0},{"$f":"AJ12/(AL4-AJ20)","v":0},{"$f":"IF(AK12=0,0,(AK12*((LOG(AK12))/LOG(2))))","v":0},null,{"$f":"N12","v":1212},{"$f":"COUNTIF(L20:L22,AN12)","v":0},{"$f":"AO12/(AQ4-AO20)","v":0},{"$f":"IF(AP12=0,0,(AP12*((LOG(AP12))/LOG(2))))","v":0},null,{"$f":"N12","v":1212},{"$f":"COUNTIF(L23:L25,AS12)","v":0},{"$f":"AT12/(AV4-AT20)","v":0},{"$f":"IF(AU12=0,0,(AU12*((LOG(AU12))/LOG(2))))","v":0}]
[12,860,14,911,24,924,14,1042,null,null,0,1121,null,1221,{"$f":"COUNTIF($L$7:$L$500,N13)","v":0},{"$f":"O13/$Q$4","v":0},{"$f":"IF(P13=0,0,(P13*((LOG(P13))/LOG(2))))","v":0},null,null,{"$f":"N13","v":1221},{"$f":"COUNTIF(L7:L9,T13)","v":0},{"$f":"U13/(W4-U20)","v":0},{"$f":"IF(V13=0,0,(V13*((LOG(V13))/LOG(2))))","v":0},null,{"$f":"N13","v":1221},{"$f":"COUNTIF(L10:L12,Y13)","v":0},{"$f":"Z13/(AB4-Z20)","v":0},{"$f":"IF(AA13=0,0,(AA13*((LOG(AA13))/LOG(2))))","v":0},null,{"$f":"N13","v":1221},{"$f":"COUNTIF(L13:L16,AD13)","v":0},{"$f":"AE13/(AG4-AE20)","v":0},{"$f":"IF(AF13=0,0,(AF13*((LOG(AF13))/LOG(2))))","v":0},null,{"$f":"N13","v":1221},{"$f":"COUNTIF(L17:L19,AI13)","v":0},{"$f":"AJ13/(AL4-AJ20)","v":0},{"$f":"IF(AK13=0,0,(AK13*((LOG(AK13))/LOG(2))))","v":0},null,{"$f":"N13","v":1221},{"$f":"COUNTIF(L20:L22,AN13)","v":0},{"$f":"AO13/(AQ4-AO20)","v":0},{"$f":"IF(AP13=0,0,(AP13*((LOG(AP13))/LOG(2))))","v":0},null,{"$f":"N13","v":1221},{"$f":"COUNTIF(L23:L25,AS13)","v":0},{"$f":"AT13/(AV4-AT20)","v":0},{"$f":"IF(AU13=0,0,(AU13*((LOG(AU13))/LOG(2))))","v":0}]
[12,1201,14,1203,13,1205,23,1217,null,null,0,1112,null,1222,{"$f":"COUNTIF($L$7:$L$500,N14)","v":4},{"$f":"O14/$Q$4","v":0.22222222222222221},{"$f":"IF(P14=0,0,(P14*((LOG(P14))/LOG(2))))","v":-0.48220555587606945},null,null,{"$f":"N14","v":1222},{"$f":"COUNTIF(L7:L9,T14)","v":3},{"$f":"U14/(W4-U20)","v":1},{"$f":"IF(V14=0,0,(V14*((LOG(V14))/LOG(2))))","v":0},null,{"$f":"N14","v":1222},{"$f":"COUNTIF(L10:L12,Y14)","v":0},{"$f":"Z14/(AB4-Z20)","v":0},{"$f":"IF(AA14=0,0,(AA14*((LOG(AA14))/LOG(2))))","v":0},null,{"$f":"N14","v":1222},{"$f":"COUNTIF(L13:L16,AD14)","v":0},{"$f":"AE14/(AG4-AE20)","v":0},{"$f":"IF(AF14=0,0,(AF14*((LOG(AF14))/LOG(2))))","v":0},null,{"$f":"N14","v":1222},{"$f":"COUNTIF(L17:L19,AI14)","v":0},{"$f":"AJ14/(AL4-AJ20)","v":0},{"$f":"IF(AK14=0,0,(AK14*((LOG(AK14))/LOG(2))))","v":0},null,{"$f":"N14","v":1222},{"$f":"COUNTIF(L20:L22,AN14)","v":1},{"$f":"AO14/(AQ4-AO20)","v":0.33333333333333331},{"$f":"IF(AP14=0,0,(AP14*((LOG(AP14))/LOG(2))))","v":-0.52832083357371862},null,{"$f":"N14","v":1222},{"$f":"COUNTIF(L23:L25,AS14)","v":0},{"$f":"AT14/(AV4-AT20)","v":0},{"$f":"IF(AU14=0,0,(AU14*((LOG(AU14))/LOG(2))))","v":0}]
[12,1533,14,1538,24,1557,14,1586,null,null,0,1121,null,2111,{"$f":"COUNTIF($L$7:$L$500,N15)","v":1},{"$f":"O15/$Q$4","v":5.5555555555555552E-2},{"$f":"IF(P15=0,0,(P15*((LOG(P15))/LOG(2))))","v":-0.23166250008012845},null,null,{"$f":"N15","v":2111},{"$f":"COUNTIF(L7:L9,T15)","v":0},{"$f":"U15/(W4-U20)","v":0},{"$f":"IF(V15=0,0,(V15*((LOG(V15))/LOG(2))))","v":0},null,{"$f":"N15","v":2111},{"$f":"COUNTIF(L10:L12,Y15)","v":0},{"$f":"Z15/(AB4-Z20)","v":0},{"$f":"IF(AA15=0,0,(AA15*((LOG(AA15))/LOG(2))))","v":0},null,{"$f":"N15","v":2111},{"$f":"COUNTIF(L13:L16,AD15)","v":0},{"$f":"AE15/(AG4-AE20)","v":0},{"$f":"IF(AF15=0,0,(AF15*((LOG(AF15))/LOG(2))))","v":0},null,{"$f":"N15","v":2111},{"$f":"COUNTIF(L17:L19,AI15)","v":0},{"$f":"AJ15/(AL4-AJ20)","v":0},{"$f":"IF(AK15=0,0,(AK15*((LOG(AK15))/LOG(2))))","v":0},null,{"$f":"N15","v":2111},{"$f":"COUNTIF(L20:L22,AN15)","v":0},{"$f":"AO15/(AQ4-AO20)","v":0},{"$f":"IF(AP15=0,0,(AP15*((LOG(AP15))/LOG(2))))","v":0},null,{"$f":"N15","v":2111},{"$f":"COUNTIF(L23:L25,AS15)","v":1},{"$f":"AT15/(AV4-AT20)","v":0.5},{"$f":"IF(AU15=0,0,(AU15*((LOG(AU15))/LOG(2))))","v":-0.5}]
[12,1782,14,1784,24,1797,14,1813,null,null,0,1121,null,2112,{"$f":"COUNTIF($L$7:$L$500,N16)","v":1},{"$f":"O16/$Q$4","v":5.5555555555555552E-2},{"$f":"IF(P16=0,0,(P16*((LOG(P16))/LOG(2))))","v":-0.23166250008012845},null,null,{"$f":"N16","v":2112},{"$f":"COUNTIF(L7:L9,T16)","v":0},{"$f":"U16/(W4-U20)","v":0},{"$f":"IF(V16=0,0,(V16*((LOG(V16))/LOG(2))))","v":0},null,{"$f":"N16","v":2112},{"$f":"COUNTIF(L10:L12,Y16)","v":0},{"$f":"Z16/(AB4-Z20)","v":0},{"$f":"IF(AA16=0,0,(AA16*((LOG(AA16))/LOG(2))))","v":0},null,{"$f":"N16","v":2112},{"$f":"COUNTIF(L13:L16,AD16)","v":0},{"$f":"AE16/(AG4-AE20)","v":0},{"$f":"IF(AF16=0,0,(AF16*((LOG(AF16))/LOG(2))))","v":0},null,{"$f":"N16","v":2112},{"$f":"COUNTIF(L17:L19,AI16)","v":0},{"$f":"AJ16/(AL4-AJ20)","v":0},{"$f":"IF(AK16=0,0,(AK16*((LOG(AK16))/LOG(2))))","v":0},null,{"$f":"N16","v":2112},{"$f":"COUNTIF(L20:L22,AN16)","v":1},{"$f":"AO16/(AQ4-AO20)","v":0.33333333333333331},{"$f":"IF(AP16=0,0,(AP16*((LOG(AP16))/LOG(2))))","v":-0.52832083357371862},null,{"$f":"N16","v":2112},{"$f":"COUNTIF(L23:L25,AS16)","v":0},{"$f":"AT16/(AV4-AT20)","v":0},{"$f":"IF(AU16=0,0,(AU16*((LOG(AU16))/LOG(2))))","v":0}]
[12,1966,14,1975,24,1984,23,1990,null,null,0,1122,null,2121,{"$f":"COUNTIF($L$7:$L$500,N17)","v":0},{"$f":"O17/$Q$4","v":0},{"$f":"IF(P17=0,0,(P17*((LOG(P17))/LOG(2))))","v":0},null,null,{"$f":"N17","v":2121},{"$f":"COUNTIF(L7:L9,T17)","v":0},{"$f":"U17/(W4-U20)","v":0},{"$f":"IF(V17=0,0,(V17*((LOG(V17))/LOG(2))))","v":0},null,{"$f":"N17","v":2121},{"$f":"COUNTIF(L10:L12,Y17)","v":0},{"$f":"Z17/(AB4-Z20)","v":0},{"$f":"IF(AA17=0,0,(AA17*((LOG(AA17))/LOG(2))))","v":0},null,{"$f":"N17","v":2121},{"$f":"COUNTIF(L13:L16,AD17)","v":0},{"$f":"AE17/(AG4-AE20)","v":0},{"$f":"IF(AF17=0,0,(AF17*((LOG(AF17))/LOG(2))))","v":0},null,{"$f":"N17","v":2121},{"$f":"COUNTIF(L17:L19,AI17)","v":0},{"$f":"AJ17/(AL4-AJ20)","v":0},{"$f":"IF(AK17=0,0,(AK17*((LOG(AK17))/LOG(2))))","v":0},null,{"$f":"N17","v":2121},{"$f":"COUNTIF(L20:L22,AN17)","v":0},{"$f":"AO17/(AQ4-AO20)","v":0},{"$f":"IF(AP17=0,0,(AP17*((LOG(AP17))/LOG(2))))","v":0},null,{"$f":"N17","v":2121},{"$f":"COUNTIF(L23:L25,AS17)","v":0},{"$f":"AT17/(AV4-AT20)","v":0},{"$f":"IF(AU17=0,0,(AU17*((LOG(AU17))/LOG(2))))","v":0}]
[12,2216,23,2230,13,2249,14,2255,null,null,0,1211,null,2122,{"$f":"COUNTIF($L$7:$L$500,N18)","v":0},{"$f":"O18/$Q$4","v":0},{"$f":"IF(P18=0,0,(P18*((LOG(P18))/LOG(2))))","v":0},null,null,{"$f":"N18","v":2122},{"$f":"COUNTIF(L7:L9,T18)","v":0},{"$f":"U18/(W4-U20)","v":0},{"$f":"IF(V18=0,0,(V18*((LOG(V18))/LOG(2))))","v":0},null,{"$f":"N18","v":2122},{"$f":"COUNTIF(L10:L12,Y18)","v":0},{"$f":"Z18/(AB4-Z20)","v":0},{"$f":"IF(AA18=0,0,(AA18*((LOG(AA18))/LOG(2))))","v":0},null,{"$f":"N18","v":2122},{"$f":"COUNTIF(L13:L16,AD18)","v":0},{"$f":"AE18/(AG4-AE20)","v":0},{"$f":"IF(AF18=0,0,(AF18*((LOG(AF18))/LOG(2))))","v":0},null,{"$f":"N18","v":2122},{"$f":"COUNTIF(L17:L19,AI18)","v":0},{"$f":"AJ18/(AL4-AJ20)","v":0},{"$f":"IF(AK18=0,0,(AK18*((LOG(AK18))/LOG(2))))","v":0},null,{"$f":"N18","v":2122},{"$f":"COUNTIF(L20:L22,AN18)","v":0},{"$f":"AO18/(AQ4-AO20)","v":0},{"$f":"IF(AP18=0,0,(AP18*((LOG(AP18))/LOG(2))))","v":0},null,{"$f":"N18","v":2122},{"$f":"COUNTIF(L23:L25,AS18)","v":0},{"$f":"AT18/(AV4-AT20)","v":0},{"$f":"IF(AU18=0,0,(AU18*((LOG(AU18))/LOG(2))))","v":0}]
[12,2423,14,2428,24,2440,23,2446,null,null,0,1122,null,2211,{"$f":"COUNTIF($L$7:$L$500,N19)","v":0},{"$f":"O19/$Q$4","v":0},{"$f":"IF(P19=0,0,(P19*((LOG(P19))/LOG(2))))","v":0},null,null,{"$f":"N19","v":2211},{"$f":"COUNTIF(L7:L9,T19)","v":0},{"$f":"U19/(W4-U20)","v":0},{"$f":"IF(V19=0,0,(V19*((LOG(V19))/LOG(2))))","v":0},null,{"$f":"N19","v":2211},{"$f":"COUNTIF(L10:L12,Y19)","v":0},{"$f":"Z19/(AB4-Z20)","v":0},{"$f":"IF(AA19=0,0,(AA19*((LOG(AA19))/LOG(2))))","v":0},null,{"$f":"N19","v":2211},{"$f":"COUNTIF(L13:L16,AD19)","v":0},{"$f":"AE19/(AG4-AE20)","v":0},{"$f":"IF(AF19=0,0,(AF19*((LOG(AF19))/LOG(2))))","v":0},null,{"$f":"N19","v":2211},{"$f":"COUNTIF(L17:L19,AI19)","v":0},{"$f":"AJ19/(AL4-AJ20)","v":0},{"$f":"IF(AK19=0,0,(AK19*((LOG(AK19))/LOG(2))))","v":0},null,{"$f":"N19","v":2211},{"$f":"COUNTIF(L20:L22,AN19)","v":0},{"$f":"AO19/(AQ4-AO20)","v":0},{"$f":"IF(AP19=0,0,(AP19*((LOG(AP19))/LOG(2))))","v":0},null,{"$f":"N19","v":2211},{"$f":"COUNTIF(L23:L25,AS19)","v":0},{"$f":"AT19/(AV4-AT20)","v":0},{"$f":"IF(AU19=0,0,(AU19*((LOG(AU19))/LOG(2))))","v":0}]
[21,2984,12,2994,13,2999,23,3009,null,null,0,2112,null,2212,{"$f":"COUNTIF($L$7:$L$500,N20)","v":0},{"$f":"O20/$Q$4","v":0},{"$f":"IF(P20=0,0,(P20*((LOG(P20))/LOG(2))))","v":0},null,null,{"$f":"N20","v":2212},{"$f":"COUNTIF(L7:L9,T20)","v":0},null,null,null,{"$f":"N20","v":2212},{"$f":"COUNTIF(L10:L12,Y20)","v":0},null,null,null,{"$f":"N20","v":2212},{"$f":"COUNTIF(L13:L16,AD20)","v":0},null,null,null,{"$f":"N20","v":2212},{"$f":"COUNTIF(L17:L19,AI20)","v":0},null,null,null,{"$f":"N20","v":2212},{"$f":"COUNTIF(L20:L22,AN20)","v":0},null,null,null,{"$f":"N20","v":2212},{"$f":"COUNTIF(L23:L25,AS20)","v":0}]
[12,3868,14,3872,13,3887,14,5249,null,null,0,1111,null,2221,{"$f":"COUNTIF($L$7:$L$500,N21)","v":0},{"$f":"O21/$Q$4","v":0},{"$f":"IF(P21=0,0,(P21*((LOG(P21))/LOG(2))))","v":0},null,null,{"$f":"N21","v":2221},{"$f":"COUNTIF(L7:L9,T21)","v":0},{"$f":"U21/(W4-U20)","v":0},{"$f":"IF(V21=0,0,(V21*((LOG(V21))/LOG(2))))","v":0},null,{"$f":"N21","v":2221},{"$f":"COUNTIF(L10:L12,Y21)","v":0},{"$f":"Z21/(AB4-Z20)","v":0},{"$f":"IF(AA21=0,0,(AA21*((LOG(AA21))/LOG(2))))","v":0},null,{"$f":"N21","v":2221},{"$f":"COUNTIF(L13:L16,AD21)","v":0},{"$f":"AE21/(AG4-AE20)","v":0},{"$f":"IF(AF21=0,0,(AF21*((LOG(AF21))/LOG(2))))","v":0},null,{"$f":"N21","v":2221},{"$f":"COUNTIF(L17:L19,AI21)","v":0},{"$f":"AJ21/(AL4-AJ20)","v":0},{"$f":"IF(AK21=0,0,(AK21*((LOG(AK21))/LOG(2))))","v":0},null,{"$f":"N21","v":2221},{"$f":"COUNTIF(L20:L22,AN21)","v":0},{"$f":"AO21/(AQ4-AO20)","v":0},{"$f":"IF(AP21=0,0,(AP21*((LOG(AP21))/LOG(2))))","v":0},null,{"$f":"N21","v":2221},{"$f":"COUNTIF(L23:L25,AS21)","v":0},{"$f":"AT21/(AV4-AT20)","v":0},{"$f":"IF(AU21=0,0,(AU21*((LOG(AU21))/LOG(2))))","v":0}]
[12,7095,23,7103,24,7111,23,7116,null,null,0,1222,null,2222,{"$f":"COUNTIF($L$7:$L$500,N22)","v":0},{"$f":"O22/$Q$4","v":0},{"$f":"IF(P22=0,0,(P22*((LOG(P22))/LOG(2))))","v":0},null,null,{"$f":"N22","v":2222},{"$f":"COUNTIF(L7:L9,T22)","v":0},{"$f":"U22/(W4-U20)","v":0},{"$f":"IF(V22=0,0,(V22*((LOG(V22))/LOG(2))))","v":0},null,{"$f":"N22","v":2222},{"$f":"COUNTIF(L10:L12,Y22)","v":0},{"$f":"Z22/(AB4-Z20)","v":0},{"$f":"IF(AA22=0,0,(AA22*((LOG(AA22))/LOG(2))))","v":0},null,{"$f":"N22","v":2222},{"$f":"COUNTIF(L13:L16,AD22)","v":0},{"$f":"AE22/(AG4-AE20)","v":0},{"$f":"IF(AF22=0,0,(AF22*((LOG(AF22))/LOG(2))))","v":0},null,{"$f":"N22","v":2222},{"$f":"COUNTIF(L17:L19,AI22)","v":0},{"$f":"AJ22/(AL4-AJ20)","v":0},{"$f":"IF(AK22=0,0,(AK22*((LOG(AK22))/LOG(2))))","v":0},null,{"$f":"N22","v":2222},{"$f":"COUNTIF(L20:L22,AN22)","v":0},{"$f":"AO22/(AQ4-AO20)","v":0},{"$f":"IF(AP22=0,0,(AP22*((LOG(AP22))/LOG(2))))","v":0},null,{"$f":"N22","v":2222},{"$f":"COUNTIF(L23:L25,AS22)","v":0},{"$f":"AT22/(AV4-AT20)","v":0},{"$f":"IF(AU22=0,0,(AU22*((LOG(AU22))/LOG(2))))","v":0}]
[12,7241,23,7256,13,7266,14,7270,null,null,0,1211,null,null,null,{"$f":"SUM(P7:P22)","v":1},{"$f":"-SUM(Q7:Q22)","v":2.7946534735443418},null,null,null,null,{"$f":"SUM(V7:V22)","v":1},{"$f":"-SUM(W7:W22)","v":0},null,null,null,{"$f":"SUM(AA7:AA22)","v":1},{"$f":"-SUM(AB7:AB22)","v":0},null,null,null,{"$f":"SUM(AF7:AF22)","v":1},{"$f":"-SUM(AG7:AG22)","v":0.81127812445913283},null,null,null,{"$f":"SUM(AK7:AK22)","v":1},{"$f":"-SUM(AL7:AL22)","v":0.91829583405448945},null,null,null,{"$f":"SUM(AP7:AP22)","v":1},{"$f":"-SUM(AQ7:AQ22)","v":1.5849625007211559},null,null,null,{"$f":"SUM(AU7:AU22)","v":1},{"$f":"-SUM(AV7:AV22)","v":1}]
[21,9281,12,9292,13,9295,14,9299,null,null,0,2111,null,null,null,"U=",{"$f":"Q23/(LOG(Q4)/LOG(2))","v":0.67019274269386486},null,null,null,null,"U1=",{"$f":"W23/(LOG(W4)/LOG(2))","v":0},null,null,null,"U2=",{"$f":"AB23/(LOG(AB4)/LOG(2))","v":0},null,null,null,"U3=",{"$f":"AG23/(LOG(AG4)/LOG(2))","v":0.40563906222956642},null,null,null,"U4=",{"$f":"AL23/(LOG(AL4)/LOG(2))","v":0.57938016428569505},null,null,null,"U5=",{"$f":"AQ23/(LOG(AQ4)/LOG(2))","v":0.99999999999999989},null,null,null,"U6=",{"$f":"AV23/(LOG(AV4)/LOG(2))","v":1}]
[12,10640,null,null,null,null,null,null,null,null,null,1]
[]
[null,null,null,null,null,null,null,null,null,null,null,null,null,"Total Target Seq"]
[null,null,null,null,null,null,null,null,null,null,null,null,null,{"$f":"COUNTIF(L7:L25,G3)","v":0},null,3,3,4,3,3,3]
[null,null,null,null,null,null,null,null,null,null,null,null,null,null,null,"% of reinforcement given in 6 equal intervals based on number of trials "]
[null,null,null,null,null,null,null,null,null,null,null,null,null,null,null,"%_1","%_2","%_3","%_4","%_5","%_6"]
[null,null,null,null,null,null,null,null,null,null,null,null,null,null,"target sequence",{"$f":"$G$3","v":2212},{"$f":"$G$3","v":2212},{"$f":"$G$3","v":2212},{"$f":"$G$3","v":2212},{"$f":"$G$3","v":2212},{"$f":"$G$3","v":2212}]
[null,null,null,null,null,null,null,null,null,null,null,null,null,null,"total reinforcement",{"$f":"U20","v":0},{"$f":"Z20","v":0},{"$f":"AE20","v":0},{"$f":"AJ20","v":0},{"$f":"AO20","v":0},{"$f":"AT20","v":0}]
[null,null,null,null,null,null,null,null,null,null,null,null,null,null,"% target"]
[null,null,null,null,null,null,null,null,null,null,null,null,null,null,"CCRF"]
[null,null,null,null,null,null,null,null,null,null,null,null,null,null,"% CCRf"]
[null,null,null,null,null,null,null,null,null,null,null,null,null,null,"average response rate",{"$f":"H9/P28","v":100.66666666666667},{"$f":"(H12-H9)/Q28","v":134},{"$f":"(H16-H12)/R28","v":277.25},{"$f":"(H19-H16)/S28","v":211},{"$f":"(H22-H19)/T28","v":1556.6666666666667},{"$f":"(H25-H22)/U28","v":-2372}]

{"sheet":"!M118B3T.ayl","index":15,"n_rows":36,"n_cols":48,"rows_kept":36,"cut":false,"hidden":false,"merged":[[4,39,4,42],[5,39,5,40],[4,44,4,47],[5,44,5,45],[4,24,4,27],[5,24,5,25],[4,29,4,32],[5,29,5,30],[4,34,4,37],[5,34,5,35],[1,1,1,2],[5,13,5,14],[26,13,26,14],[27,13,27,14],[4,19,4,22],[5,19,5,20]]}
["Report for:!M118B3T.ayl"]
["Date:","<date>"]
["Hen:","<hen>",null,null,null,"Correct Sequence",{"$f":"Start!J2","v":2212},null,null,null,null,null,null,null,null,"Total Sequences in Data",{"$f":"4994-COUNTBLANK(L7:L5000)","v":17},null,null,null,null,"Total Sequences in Block Data",{"$f":"COUNTA(L7:L9)","v":3},null,null,null,"Total Sequences in Block Data",{"$f":"COUNTA(L10:L12)","v":3},null,null,null,"Total Sequences in Block Data",{"$f":"COUNTA(L13:L14)","v":2},null,null,null,"Total Sequences in Block Data",{"$f":"COUNTA(L15:L17)","v":3},null,null,null,"Total Sequences in Block Data",{"$f":"COUNTA(L18:L20)","v":3},null,null,null,"Total Sequences in Block Data",{"$f":"COUNTA(L21:L23)","v":3}]
[null,null,null,null,null,null,null,null,null,null,null,null,null,null,null,"Total Sequences in Summary",{"$f":"SUM(O7:O22)","v":16},null,null,null,null,"Total Sequences in Block Summary",{"$f":"SUM(U7:U22)","v":3},null,null,null,"Total Sequences in Block Summary",{"$f":"SUM(Z7:Z22)","v":3},null,null,null,"Total Sequences in Block Summary",{"$f":"SUM(AE7:AE22)","v":2},null,null,null,"Total Sequences in Block Summary",{"$f":"SUM(AJ7:AJ22)","v":3},null,null,null,"Total Sequences in Block Summary",{"$f":"SUM(AO7:AO22)","v":3},null,null,null,"Total Sequences in Block Summary",{"$f":"SUM(AT7:AT22)","v":2}]
[null,null,null,null,null,null,null,null,null,null,null,null,null,null,null,null,null,null,null,"Block 1",null,null,null,null,"Block 2",null,null,null,null,"Block 3",null,null,null,null,"Block 4",null,null,null,null,"Block 5",null,null,null,null,"Block 6"]
["Sequence\nComponent\n1","Time\n1","Sequence\nComponent\n2","Time\n2","Sequence\nComponent\n3","Time\n3","Sequence\nComponent\n4","Time\n4","Sequence\nComponent\n5","Time\n5","Correct?\n0=No 1=Yes","Sequence",null,"Frequency",null,"Relative Frequency","Variability",null,null,"Frequency",null,"Relative Frequency","Variability",null,"Frequency",null,"Relative Frequency","Variability",null,"Frequency",null,"Relative Frequency","Variability",null,"Frequency",null,"Relative Frequency","Variability",null,"Frequency",null,"Relative Frequency","Variability",null,"Frequency",null,"Relative Frequency","Variability"]
[12,2,14,5,24,14,23,20,null,null,0,1122,null,1111,{"$f":"COUNTIF($L$7:$L$500,N7)","v":3},{"$f":"O7/$Q$4","v":0.1875},{"$f":"IF(P7=0,0,(P7*((LOG(P7))/LOG(2))))","v":-0.45281953111478312},null,null,{"$f":"N7","v":1111},{"$f":"COUNTIF(L7:L9,T7)","v":0},{"$f":"U7/(W4-U20)","v":0},{"$f":"IF(V7=0,0,(V7*((LOG(V7))/LOG(2))))","v":0},null,{"$f":"N7","v":1111},{"$f":"COUNTIF(L10:L12,Y7)","v":0},{"$f":"Z7/(AB4-Z20)","v":0},{"$f":"IF(AA7=0,0,(AA7*((LOG(AA7))/LOG(2))))","v":0},null,{"$f":"N7","v":1111},{"$f":"COUNTIF(L13:L14,AD7)","v":1},{"$f":"AE7/(AG4-AE20)","v":0.5},{"$f":"IF(AF7=0,0,(AF7*((LOG(AF7))/LOG(2))))","v":-0.5},null,{"$f":"N7","v":1111},{"$f":"COUNTIF(L15:L17,AI7)","v":1},{"$f":"AJ7/(AL4-AJ20)","v":0.33333333333333331},{"$f":"IF(AK7=0,0,(AK7*((LOG(AK7))/LOG(2))))","v":-0.52832083357371862},null,{"$f":"N7","v":1111},{"$f":"COUNTIF(L18:L20,AN7)","v":1},{"$f":"AO7/(AQ4-AO20)","v":0.33333333333333331},{"$f":"IF(AP7=0,0,(AP7*((LOG(AP7))/LOG(2))))","v":-0.52832083357371862},null,{"$f":"N7","v":1111},{"$f":"COUNTIF(L21:L23,AS7)","v":0},{"$f":"AT7/(AV4-AT20)","v":0},{"$f":"IF(AU7=0,0,(AU7*((LOG(AU7))/LOG(2))))","v":0}]
[12,118,14,120,24,130,23,138,null,null,0,1122,null,1112,{"$f":"COUNTIF($L$7:$L$500,N8)","v":3},{"$f":"O8/$Q$4","v":0.1875},{"$f":"IF(P8=0,0,(P8*((LOG(P8))/LOG(2))))","v":-0.45281953111478312},null,null,{"$f":"N8","v":1112},{"$f":"COUNTIF(L7:L9,T8)","v":0},{"$f":"U8/(W4-U20)","v":0},{"$f":"IF(V8=0,0,(V8*((LOG(V8))/LOG(2))))","v":0},null,{"$f":"N8","v":1112},{"$f":"COUNTIF(L10:L12,Y8)","v":1},{"$f":"Z8/(AB4-Z20)","v":0.33333333333333331},{"$f":"IF(AA8=0,0,(AA8*((LOG(AA8))/LOG(2))))","v":-0.52832083357371862},null,{"$f":"N8","v":1112},{"$f":"COUNTIF(L13:L14,AD8)","v":1},{"$f":"AE8/(AG4-AE20)","v":0.5},{"$f":"IF(AF8=0,0,(AF8*((LOG(AF8))/LOG(2))))","v":-0.5},null,{"$f":"N8","v":1112},{"$f":"COUNTIF(L15:L17,AI8)","v":0},{"$f":"AJ8/(AL4-AJ20)","v":0},{"$f":"IF(AK8=0,0,(AK8*((LOG(AK8))/LOG(2))))","v":0},null,{"$f":"N8","v":1112},{"$f":"COUNTIF(L18:L20,AN8)","v":1},{"$f":"AO8/(AQ4-AO20)","v":0.33333333333333331},{"$f":"IF(AP8=0,0,(AP8*((LOG(AP8))/LOG(2))))","v":-0.52832083357371862},null,{"$f":"N8","v":1112},{"$f":"COUNTIF(L21:L23,AS8)","v":0},{"$f":"AT8/(AV4-AT20)","v":0},{"$f":"IF(AU8=0,0,(AU8*((LOG(AU8))/LOG(2))))","v":0}]
[12,548,14,559,24,568,23,572,null,null,0,1122,null,1121,{"$f":"COUNTIF($L$7:$L$500,N9)","v":1},{"$f":"O9/$Q$4","v":6.25E-2},{"$f":"IF(P9=0,0,(P9*((LOG(P9))/LOG(2))))","v":-0.25},null,null,{"$f":"N9","v":1121},{"$f":"COUNTIF(L7:L9,T9)","v":0},{"$f":"U9/(W4-U20)","v":0},{"$f":"IF(V9=0,0,(V9*((LOG(V9))/LOG(2))))","v":0},null,{"$f":"N9","v":1121},{"$f":"COUNTIF(L10:L12,Y9)","v":0},{"$f":"Z9/(AB4-Z20)","v":0},{"$f":"IF(AA9=0,0,(AA9*((LOG(AA9))/LOG(2))))","v":0},null,{"$f":"N9","v":1121},{"$f":"COUNTIF(L13:L14,AD9)","v":0},{"$f":"AE9/(AG4-AE20)","v":0},{"$f":"IF(AF9=0,0,(AF9*((LOG(AF9))/LOG(2))))","v":0},null,{"$f":"N9","v":1121},{"$f":"COUNTIF(L15:L17,AI9)","v":0},{"$f":"AJ9/(AL4-AJ20)","v":0},{"$f":"IF(AK9=0,0,(AK9*((LOG(AK9))/LOG(2))))","v":0},null,{"$f":"N9","v":1121},{"$f":"COUNTIF(L18:L20,AN9)","v":0},{"$f":"AO9/(AQ4-AO20)","v":0},{"$f":"IF(AP9=0,0,(AP9*((LOG(AP9))/LOG(2))))","v":0},null,{"$f":"N9","v":1121},{"$f":"COUNTIF(L21:L23,AS9)","v":1},{"$f":"AT9/(AV4-AT20)","v":0.5},{"$f":"IF(AU9=0,0,(AU9*((LOG(AU9))/LOG(2))))","v":-0.5}]
[12,682,14,684,24,694,23,697,null,null,0,1122,null,1122,{"$f":"COUNTIF($L$7:$L$500,N10)","v":5},{"$f":"O10/$Q$4","v":0.3125},{"$f":"IF(P10=0,0,(P10*((LOG(P10))/LOG(2))))","v":-0.52439747034769923},null,null,{"$f":"N10","v":1122},{"$f":"COUNTIF(L7:L9,T10)","v":3},{"$f":"U10/(W4-U20)","v":1},{"$f":"IF(V10=0,0,(V10*((LOG(V10))/LOG(2))))","v":0},null,{"$f":"N10","v":1122},{"$f":"COUNTIF(L10:L12,Y10)","v":1},{"$f":"Z10/(AB4-Z20)","v":0.33333333333333331},{"$f":"IF(AA10=0,0,(AA10*((LOG(AA10))/LOG(2))))","v":-0.52832083357371862},null,{"$f":"N10","v":1122},{"$f":"COUNTIF(L13:L14,AD10)","v":0},{"$f":"AE10/(AG4-AE20)","v":0},{"$f":"IF(AF10=0,0,(AF10*((LOG(AF10))/LOG(2))))","v":0},null,{"$f":"N10","v":1122},{"$f":"COUNTIF(L15:L17,AI10)","v":0},{"$f":"AJ10/(AL4-AJ20)","v":0},{"$f":"IF(AK10=0,0,(AK10*((LOG(AK10))/LOG(2))))","v":0},null,{"$f":"N10","v":1122},{"$f":"COUNTIF(L18:L20,AN10)","v":1},{"$f":"AO10/(AQ4-AO20)","v":0.33333333333333331},{"$f":"IF(AP10=0,0,(AP10*((LOG(AP10))/LOG(2))))","v":-0.52832083357371862},null,{"$f":"N10","v":1122},{"$f":"COUNTIF(L21:L23,AS10)","v":0},{"$f":"AT10/(AV4-AT20)","v":0},{"$f":"IF(AU10=0,0,(AU10*((LOG(AU10))/LOG(2))))","v":0}]
[21,889,21,895,22,900,23,907,null,null,0,2222,null,1211,{"$f":"COUNTIF($L$7:$L$500,N11)","v":0},{"$f":"O11/$Q$4","v":0},{"$f":"IF(P11=0,0,(P11*((LOG(P11))/LOG(2))))","v":0},null,null,{"$f":"N11","v":1211},{"$f":"COUNTIF(L7:L9,T11)","v":0},{"$f":"U11/(W4-U20)","v":0},{"$f":"IF(V11=0,0,(V11*((LOG(V11))/LOG(2))))","v":0},null,{"$f":"N11","v":1211},{"$f":"COUNTIF(L10:L12,Y11)","v":0},{"$f":"Z11/(AB4-Z20)","v":0},{"$f":"IF(AA11=0,0,(AA11*((LOG(AA11))/LOG(2))))","v":0},null,{"$f":"N11","v":1211},{"$f":"COUNTIF(L13:L14,AD11)","v":0},{"$f":"AE11/(AG4-AE20)","v":0},{"$f":"IF(AF11=0,0,(AF11*((LOG(AF11))/LOG(2))))","v":0},null,{"$f":"N11","v":1211},{"$f":"COUNTIF(L15:L17,AI11)","v":0},{"$f":"AJ11/(AL4-AJ20)","v":0},{"$f":"IF(AK11=0,0,(AK11*((LOG(AK11))/LOG(2))))","v":0},null,{"$f":"N11","v":1211},{"$f":"COUNTIF(L18:L20,AN11)","v":0},{"$f":"AO11/(AQ4-AO20)","v":0},{"$f":"IF(AP11=0,0,(AP11*((LOG(AP11))/LOG(2))))","v":0},null,{"$f":"N11","v":1211},{"$f":"COUNTIF(L21:L23,AS11)","v":0},{"$f":"AT11/(AV4-AT20)","v":0},{"$f":"IF(AU11=0,0,(AU11*((LOG(AU11))/LOG(2))))","v":0}]
[12,1006,14,1011,13,1016,23,1026,null,null,0,1112,null,1212,{"$f":"COUNTIF($L$7:$L$500,N12)","v":0},{"$f":"O12/$Q$4","v":0},{"$f":"IF(P12=0,0,(P12*((LOG(P12))/LOG(2))))","v":0},null,null,{"$f":"N12","v":1212},{"$f":"COUNTIF(L7:L9,T12)","v":0},{"$f":"U12/(W4-U20)","v":0},{"$f":"IF(V12=0,0,(V12*((LOG(V12))/LOG(2))))","v":0},null,{"$f":"N12","v":1212},{"$f":"COUNTIF(L10:L12,Y12)","v":0},{"$f":"Z12/(AB4-Z20)","v":0},{"$f":"IF(AA12=0,0,(AA12*((LOG(AA12))/LOG(2))))","v":0},null,{"$f":"N12","v":1212},{"$f":"COUNTIF(L13:L14,AD12)","v":0},{"$f":"AE12/(AG4-AE20)","v":0},{"$f":"IF(AF12=0,0,(AF12*((LOG(AF12))/LOG(2))))","v":0},null,{"$f":"N12","v":1212},{"$f":"COUNTIF(L15:L17,AI12)","v":0},{"$f":"AJ12/(AL4-AJ20)","v":0},{"$f":"IF(AK12=0,0,(AK12*((LOG(AK12))/LOG(2))))","v":0},null,{"$f":"N12","v":1212},{"$f":"COUNTIF(L18:L20,AN12)","v":0},{"$f":"AO12/(AQ4-AO20)","v":0},{"$f":"IF(AP12=0,0,(AP12*((LOG(AP12))/LOG(2))))","v":0},null,{"$f":"N12","v":1212},{"$f":"COUNTIF(L21:L23,AS12)","v":0},{"$f":"AT12/(AV4-AT20)","v":0},{"$f":"IF(AU12=0,0,(AU12*((LOG(AU12))/LOG(2))))","v":0}]
[12,1126,14,1127,13,1130,23,1138,null,null,0,1112,null,1221,{"$f":"COUNTIF($L$7:$L$500,N13)","v":1},{"$f":"O13/$Q$4","v":6.25E-2},{"$f":"IF(P13=0,0,(P13*((LOG(P13))/LOG(2))))","v":-0.25},null,null,{"$f":"N13","v":1221},{"$f":"COUNTIF(L7:L9,T13)","v":0},{"$f":"U13/(W4-U20)","v":0},{"$f":"IF(V13=0,0,(V13*((LOG(V13))/LOG(2))))","v":0},null,{"$f":"N13","v":1221},{"$f":"COUNTIF(L10:L12,Y13)","v":0},{"$f":"Z13/(AB4-Z20)","v":0},{"$f":"IF(AA13=0,0,(AA13*((LOG(AA13))/LOG(2))))","v":0},null,{"$f":"N13","v":1221},{"$f":"COUNTIF(L13:L14,AD13)","v":0},{"$f":"AE13/(AG4-AE20)","v":0},{"$f":"IF(AF13=0,0,(AF13*((LOG(AF13))/LOG(2))))","v":0},null,{"$f":"N13","v":1221},{"$f":"COUNTIF(L15:L17,AI13)","v":0},{"$f":"AJ13/(AL4-AJ20)","v":0},{"$f":"IF(AK13=0,0,(AK13*((LOG(AK13))/LOG(2))))","v":0},null,{"$f":"N13","v":1221},{"$f":"COUNTIF(L18:L20,AN13)","v":0},{"$f":"AO13/(AQ4-AO20)","v":0},{"$f":"IF(AP13=0,0,(AP13*((LOG(AP13))/LOG(2))))","v":0},null,{"$f":"N13","v":1221},{"$f":"COUNTIF(L21:L23,AS13)","v":1},{"$f":"AT13/(AV4-AT20)","v":0.5},{"$f":"IF(AU13=0,0,(AU13*((LOG(AU13))/LOG(2))))","v":-0.5}]
[12,1239,14,1240,13,1242,14,1259,null,null,0,1111,null,1222,{"$f":"COUNTIF($L$7:$L$500,N14)","v":0},{"$f":"O14/$Q$4","v":0},{"$f":"IF(P14=0,0,(P14*((LOG(P14))/LOG(2))))","v":0},null,null,{"$f":"N14","v":1222},{"$f":"COUNTIF(L7:L9,T14)","v":0},{"$f":"U14/(W4-U20)","v":0},{"$f":"IF(V14=0,0,(V14*((LOG(V14))/LOG(2))))","v":0},null,{"$f":"N14","v":1222},{"$f":"COUNTIF(L10:L12,Y14)","v":0},{"$f":"Z14/(AB4-Z20)","v":0},{"$f":"IF(AA14=0,0,(AA14*((LOG(AA14))/LOG(2))))","v":0},null,{"$f":"N14","v":1222},{"$f":"COUNTIF(L13:L14,AD14)","v":0},{"$f":"AE14/(AG4-AE20)","v":0},{"$f":"IF(AF14=0,0,(AF14*((LOG(AF14))/LOG(2))))","v":0},null,{"$f":"N14","v":1222},{"$f":"COUNTIF(L15:L17,AI14)","v":0},{"$f":"AJ14/(AL4-AJ20)","v":0},{"$f":"IF(AK14=0,0,(AK14*((LOG(AK14))/LOG(2))))","v":0},null,{"$f":"N14","v":1222},{"$f":"COUNTIF(L18:L20,AN14)","v":0},{"$f":"AO14/(AQ4-AO20)","v":0},{"$f":"IF(AP14=0,0,(AP14*((LOG(AP14))/LOG(2))))","v":0},null,{"$f":"N14","v":1222},{"$f":"COUNTIF(L21:L23,AS14)","v":0},{"$f":"AT14/(AV4-AT20)","v":0},{"$f":"IF(AU14=0,0,(AU14*((LOG(AU14))/LOG(2))))","v":0}]
[12,1557,14,1829,13,1836,14,1839,null,null,0,1111,null,2111,{"$f":"COUNTIF($L$7:$L$500,N15)","v":0},{"$f":"O15/$Q$4","v":0},{"$f":"IF(P15=0,0,(P15*((LOG(P15))/LOG(2))))","v":0},null,null,{"$f":"N15","v":2111},{"$f":"COUNTIF(L7:L9,T15)","v":0},{"$f":"U15/(W4-U20)","v":0},{"$f":"IF(V15=0,0,(V15*((LOG(V15))/LOG(2))))","v":0},null,{"$f":"N15","v":2111},{"$f":"COUNTIF(L10:L12,Y15)","v":0},{"$f":"Z15/(AB4-Z20)","v":0},{"$f":"IF(AA15=0,0,(AA15*((LOG(AA15))/LOG(2))))","v":0},null,{"$f":"N15","v":2111},{"$f":"COUNTIF(L13:L14,AD15)","v":0},{"$f":"AE15/(AG4-AE20)","v":0},{"$f":"IF(AF15=0,0,(AF15*((LOG(AF15))/LOG(2))))","v":0},null,{"$f":"N15","v":2111},{"$f":"COUNTIF(L15:L17,AI15)","v":0},{"$f":"AJ15/(AL4-AJ20)","v":0},{"$f":"IF(AK15=0,0,(AK15*((LOG(AK15))/LOG(2))))","v":0},null,{"$f":"N15","v":2111},{"$f":"COUNTIF(L18:L20,AN15)","v":0},{"$f":"AO15/(AQ4-AO20)","v":0},{"$f":"IF(AP15=0,0,(AP15*((LOG(AP15))/LOG(2))))","v":0},null,{"$f":"N15","v":2111},{"$f":"COUNTIF(L21:L23,AS15)","v":0},{"$f":"AT15/(AV4-AT20)","v":0},{"$f":"IF(AU15=0,0,(AU15*((LOG(AU15))/LOG(2))))","v":0}]
[21,2212,21,2213,22,2219,23,2225,null,null,0,2222,null,2112,{"$f":"COUNTIF($L$7:$L$500,N16)","v":0},{"$f":"O16/$Q$4","v":0},{"$f":"IF(P16=0,0,(P16*((LOG(P16))/LOG(2))))","v":0},null,null,{"$f":"N16","v":2112},{"$f":"COUNTIF(L7:L9,T16)","v":0},{"$f":"U16/(W4-U20)","v":0},{"$f":"IF(V16=0,0,(V16*((LOG(V16))/LOG(2))))","v":0},null,{"$f":"N16","v":2112},{"$f":"COUNTIF(L10:L12,Y16)","v":0},{"$f":"Z16/(AB4-Z20)","v":0},{"$f":"IF(AA16=0,0,(AA16*((LOG(AA16))/LOG(2))))","v":0},null,{"$f":"N16","v":2112},{"$f":"COUNTIF(L13:L14,AD16)","v":0},{"$f":"AE16/(AG4-AE20)","v":0},{"$f":"IF(AF16=0,0,(AF16*((LOG(AF16))/LOG(2))))","v":0},null,{"$f":"N16","v":2112},{"$f":"COUNTIF(L15:L17,AI16)","v":0},{"$f":"AJ16/(AL4-AJ20)","v":0},{"$f":"IF(AK16=0,0,(AK16*((LOG(AK16))/LOG(2))))","v":0},null,{"$f":"N16","v":2112},{"$f":"COUNTIF(L18:L20,AN16)","v":0},{"$f":"AO16/(AQ4-AO20)","v":0},{"$f":"IF(AP16=0,0,(AP16*((LOG(AP16))/LOG(2))))","v":0},null,{"$f":"N16","v":2112},{"$f":"COUNTIF(L21:L23,AS16)","v":0},{"$f":"AT16/(AV4-AT20)","v":0},{"$f":"IF(AU16=0,0,(AU16*((LOG(AU16))/LOG(2))))","v":0}]
[21,3877,21,3885,22,3892,14,3907,null,null,0,2221,null,2121,{"$f":"COUNTIF($L$7:$L$500,N17)","v":0},{"$f":"O17/$Q$4","v":0},{"$f":"IF(P17=0,0,(P17*((LOG(P17))/LOG(2))))","v":0},null,null,{"$f":"N17","v":2121},{"$f":"COUNTIF(L7:L9,T17)","v":0},{"$f":"U17/(W4-U20)","v":0},{"$f":"IF(V17=0,0,(V17*((LOG(V17))/LOG(2))))","v":0},null,{"$f":"N17","v":2121},{"$f":"COUNTIF(L10:L12,Y17)","v":0},{"$f":"Z17/(AB4-Z20)","v":0},{"$f":"IF(AA17=0,0,(AA17*((LOG(AA17))/LOG(2))))","v":0},null,{"$f":"N17","v":2121},{"$f":"COUNTIF(L13:L14,AD17)","v":0},{"$f":"AE17/(AG4-AE20)","v":0},{"$f":"IF(AF17=0,0,(AF17*((LOG(AF17))/LOG(2))))","v":0},null,{"$f":"N17","v":2121},{"$f":"COUNTIF(L15:L17,AI17)","v":0},{"$f":"AJ17/(AL4-AJ20)","v":0},{"$f":"IF(AK17=0,0,(AK17*((LOG(AK17))/LOG(2))))","v":0},null,{"$f":"N17","v":2121},{"$f":"COUNTIF(L18:L20,AN17)","v":0},{"$f":"AO17/(AQ4-AO20)","v":0},{"$f":"IF(AP17=0,0,(AP17*((LOG(AP17))/LOG(2))))","v":0},null,{"$f":"N17","v":2121},{"$f":"COUNTIF(L21:L23,AS17)","v":0},{"$f":"AT17/(AV4-AT20)","v":0},{"$f":"IF(AU17=0,0,(AU17*((LOG(AU17))/LOG(2))))","v":0}]
[12,4081,14,4099,24,4106,23,4110,null,null,0,1122,null,2122,{"$f":"COUNTIF($L$7:$L$500,N18)","v":0},{"$f":"O18/$Q$4","v":0},{"$f":"IF(P18=0,0,(P18*((LOG(P18))/LOG(2))))","v":0},null,null,{"$f":"N18","v":2122},{"$f":"COUNTIF(L7:L9,T18)","v":0},{"$f":"U18/(W4-U20)","v":0},{"$f":"IF(V18=0,0,(V18*((LOG(V18))/LOG(2))))","v":0},null,{"$f":"N18","v":2122},{"$f":"COUNTIF(L10:L12,Y18)","v":0},{"$f":"Z18/(AB4-Z20)","v":0},{"$f":"IF(AA18=0,0,(AA18*((LOG(AA18))/LOG(2))))","v":0},null,{"$f":"N18","v":2122},{"$f":"COUNTIF(L13:L14,AD18)","v":0},{"$f":"AE18/(AG4-AE20)","v":0},{"$f":"IF(AF18=0,0,(AF18*((LOG(AF18))/LOG(2))))","v":0},null,{"$f":"N18","v":2122},{"$f":"COUNTIF(L15:L17,AI18)","v":0},{"$f":"AJ18/(AL4-AJ20)","v":0},{"$f":"IF(AK18=0,0,(AK18*((LOG(AK18))/LOG(2))))","v":0},null,{"$f":"N18","v":2122},{"$f":"COUNTIF(L18:L20,AN18)","v":0},{"$f":"AO18/(AQ4-AO20)","v":0},{"$f":"IF(AP18=0,0,(AP18*((LOG(AP18))/LOG(2))))","v":0},null,{"$f":"N18","v":2122},{"$f":"COUNTIF(L21:L23,AS18)","v":0},{"$f":"AT18/(AV4-AT20)","v":0},{"$f":"IF(AU18=0,0,(AU18*((LOG(AU18))/LOG(2))))","v":0}]
[12,4242,14,4260,13,4269,14,4274,null,null,0,1111,null,2211,{"$f":"COUNTIF($L$7:$L$500,N19)","v":0},{"$f":"O19/$Q$4","v":0},{"$f":"IF(P19=0,0,(P19*((LOG(P19))/LOG(2))))","v":0},null,null,{"$f":"N19","v":2211},{"$f":"COUNTIF(L7:L9,T19)","v":0},{"$f":"U19/(W4-U20)","v":0},{"$f":"IF(V19=0,0,(V19*((LOG(V19))/LOG(2))))","v":0},null,{"$f":"N19","v":2211},{"$f":"COUNTIF(L10:L12,Y19)","v":0},{"$f":"Z19/(AB4-Z20)","v":0},{"$f":"IF(AA19=0,0,(AA19*((LOG(AA19))/LOG(2))))","v":0},null,{"$f":"N19","v":2211},{"$f":"COUNTIF(L13:L14,AD19)","v":0},{"$f":"AE19/(AG4-AE20)","v":0},{"$f":"IF(AF19=0,0,(AF19*((LOG(AF19))/LOG(2))))","v":0},null,{"$f":"N19","v":2211},{"$f":"COUNTIF(L15:L17,AI19)","v":0},{"$f":"AJ19/(AL4-AJ20)","v":0},{"$f":"IF(AK19=0,0,(AK19*((LOG(AK19))/LOG(2))))","v":0},null,{"$f":"N19","v":2211},{"$f":"COUNTIF(L18:L20,AN19)","v":0},{"$f":"AO19/(AQ4-AO20)","v":0},{"$f":"IF(AP19=0,0,(AP19*((LOG(AP19))/LOG(2))))","v":0},null,{"$f":"N19","v":2211},{"$f":"COUNTIF(L21:L23,AS19)","v":0},{"$f":"AT19/(AV4-AT20)","v":0},{"$f":"IF(AU19=0,0,(AU19*((LOG(AU19))/LOG(2))))","v":0}]
[12,4385,14,4410,13,4413,23,4415,null,null,0,1112,null,2212,{"$f":"COUNTIF($L$7:$L$500,N20)","v":0},{"$f":"O20/$Q$4","v":0},{"$f":"IF(P20=0,0,(P20*((LOG(P20))/LOG(2))))","v":0},null,null,{"$f":"N20","v":2212},{"$f":"COUNTIF(L7:L9,T20)","v":0},null,null,null,{"$f":"N20","v":2212},{"$f":"COUNTIF(L10:L12,Y20)","v":0},null,null,null,{"$f":"N20","v":2212},{"$f":"COUNTIF(L13:L14,AD20)","v":0},null,null,null,{"$f":"N20","v":2212},{"$f":"COUNTIF(L15:L17,AI20)","v":0},null,null,null,{"$f":"N20","v":2212},{"$f":"COUNTIF(L18:L20,AN20)","v":0},null,null,null,{"$f":"N20","v":2212},{"$f":"COUNTIF(L21:L23,AS20)","v":0}]
[12,4518,14,4541,24,4543,14,4545,null,null,0,1121,null,2221,{"$f":"COUNTIF($L$7:$L$500,N21)","v":1},{"$f":"O21/$Q$4","v":6.25E-2},{"$f":"IF(P21=0,0,(P21*((LOG(P21))/LOG(2))))","v":-0.25},null,null,{"$f":"N21","v":2221},{"$f":"COUNTIF(L7:L9,T21)","v":0},{"$f":"U21/(W4-U20)","v":0},{"$f":"IF(V21=0,0,(V21*((LOG(V21))/LOG(2))))","v":0},null,{"$f":"N21","v":2221},{"$f":"COUNTIF(L10:L12,Y21)","v":0},{"$f":"Z21/(AB4-Z20)","v":0},{"$f":"IF(AA21=0,0,(AA21*((LOG(AA21))/LOG(2))))","v":0},null,{"$f":"N21","v":2221},{"$f":"COUNTIF(L13:L14,AD21)","v":0},{"$f":"AE21/(AG4-AE20)","v":0},{"$f":"IF(AF21=0,0,(AF21*((LOG(AF21))/LOG(2))))","v":0},null,{"$f":"N21","v":2221},{"$f":"COUNTIF(L15:L17,AI21)","v":1},{"$f":"AJ21/(AL4-AJ20)","v":0.33333333333333331},{"$f":"IF(AK21=0,0,(AK21*((LOG(AK21))/LOG(2))))","v":-0.52832083357371862},null,{"$f":"N21","v":2221},{"$f":"COUNTIF(L18:L20,AN21)","v":0},{"$f":"AO21/(AQ4-AO20)","v":0},{"$f":"IF(AP21=0,0,(AP21*((LOG(AP21))/LOG(2))))","v":0},null,{"$f":"N21","v":2221},{"$f":"COUNTIF(L21:L23,AS21)","v":0},{"$f":"AT21/(AV4-AT20)","v":0},{"$f":"IF(AU21=0,0,(AU21*((LOG(AU21))/LOG(2))))","v":0}]
[12,5969,23,5978,24,5983,14,6094,null,null,0,1221,null,2222,{"$f":"COUNTIF($L$7:$L$500,N22)","v":2},{"$f":"O22/$Q$4","v":0.125},{"$f":"IF(P22=0,0,(P22*((LOG(P22))/LOG(2))))","v":-0.375},null,null,{"$f":"N22","v":2222},{"$f":"COUNTIF(L7:L9,T22)","v":0},{"$f":"U22/(W4-U20)","v":0},{"$f":"IF(V22=0,0,(V22*((LOG(V22))/LOG(2))))","v":0},null,{"$f":"N22","v":2222},{"$f":"COUNTIF(L10:L12,Y22)","v":1},{"$f":"Z22/(AB4-Z20)","v":0.33333333333333331},{"$f":"IF(AA22=0,0,(AA22*((LOG(AA22))/LOG(2))))","v":-0.52832083357371862},null,{"$f":"N22","v":2222},{"$f":"COUNTIF(L13:L14,AD22)","v":0},{"$f":"AE22/(AG4-AE20)","v":0},{"$f":"IF(AF22=0,0,(AF22*((LOG(AF22))/LOG(2))))","v":0},null,{"$f":"N22","v":2222},{"$f":"COUNTIF(L15:L17,AI22)","v":1},{"$f":"AJ22/(AL4-AJ20)","v":0.33333333333333331},{"$f":"IF(AK22=0,0,(AK22*((LOG(AK22))/LOG(2))))","v":-0.52832083357371862},null,{"$f":"N22","v":2222},{"$f":"COUNTIF(L18:L20,AN22)","v":0},{"$f":"AO22/(AQ4-AO20)","v":0},{"$f":"IF(AP22=0,0,(AP22*((LOG(AP22))/LOG(2))))","v":0},null,{"$f":"N22","v":2222},{"$f":"COUNTIF(L21:L23,AS22)","v":0},{"$f":"AT22/(AV4-AT20)","v":0},{"$f":"IF(AU22=0,0,(AU22*((LOG(AU22))/LOG(2))))","v":0}]
[21,14543,null,null,null,null,null,null,null,null,null,2,null,null,null,{"$f":"SUM(P7:P22)","v":1},{"$f":"-SUM(Q7:Q22)","v":2.5550365325772653},null,null,null,null,{"$f":"SUM(V7:V22)","v":1},{"$f":"-SUM(W7:W22)","v":0},null,null,null,{"$f":"SUM(AA7:AA22)","v":1},{"$f":"-SUM(AB7:AB22)","v":1.5849625007211559},null,null,null,{"$f":"SUM(AF7:AF22)","v":1},{"$f":"-SUM(AG7:AG22)","v":1},null,null,null,{"$f":"SUM(AK7:AK22)","v":1},{"$f":"-SUM(AL7:AL22)","v":1.5849625007211559},null,null,null,{"$f":"SUM(AP7:AP22)","v":1},{"$f":"-SUM(AQ7:AQ22)","v":1.5849625007211559},null,null,null,{"$f":"SUM(AU7:AU22)","v":1},{"$f":"-SUM(AV7:AV22)","v":1}]
[null,null,null,null,null,null,null,null,null,null,null,null,null,null,null,"U=",{"$f":"Q23/(LOG(Q4)/LOG(2))","v":0.63875913314431632},null,null,null,null,"U1=",{"$f":"W23/(LOG(W4)/LOG(2))","v":0},null,null,null,"U2=",{"$f":"AB23/(LOG(AB4)/LOG(2))","v":0.99999999999999989},null,null,null,"U3=",{"$f":"AG23/(LOG(AG4)/LOG(2))","v":1},null,null,null,"U4=",{"$f":"AL23/(LOG(AL4)/LOG(2))","v":0.99999999999999989},null,null,null,"U5=",{"$f":"AQ23/(LOG(AQ4)/LOG(2))","v":0.99999999999999989},null,null,null,"U6=",{"$f":"AV23/(LOG(AV4)/LOG(2))","v":1}]
[]
[]
[null,null,null,null,null,null,null,null,null,null,null,null,null,"Total Target Seq"]
[null,null,null,null,null,null,null,null,null,null,null,null,null,{"$f":"COUNTIF(L7:L23,G3)","v":0},null,3,3,2,3,3,3]
[null,null,null,null,null,null,null,null,null,null,null,null,null,null,null,"% of reinforcement given in 6 equal intervals based on number of trials "]
[null,null,null,null,null,null,null,null,null,null,null,null,null,null,null,"%_1","%_2","%_3","%_4","%_5","%_6"]
[null,null,null,null,null,null,null,null,null,null,null,null,null,null,"target sequence",{"$f":"$G$3","v":2212},{"$f":"$G$3","v":2212},{"$f":"$G$3","v":2212},{"$f":"$G$3","v":2212},{"$f":"$G$3","v":2212},{"$f":"$G$3","v":2212}]
[null,null,null,null,null,null,null,null,null,null,null,null,null,null,"total reinforcement",{"$f":"U20","v":0},{"$f":"Z20","v":0},{"$f":"AE20","v":0},{"$f":"AJ20","v":0},{"$f":"AO20","v":0},{"$f":"AT20","v":0}]
[null,null,null,null,null,null,null,null,null,null,null,null,null,null,"% target"]
[null,null,null,null,null,null,null,null,null,null,null,null,null,null,"CCRF"]
[null,null,null,null,null,null,null,null,null,null,null,null,null,null,"% CCRf"]
[null,null,null,null,null,null,null,null,null,null,null,null,null,null,"average response rate",{"$f":"H9/P28","v":190.66666666666666},{"$f":"(H12-H9)/Q28","v":151.33333333333334},{"$f":"(H14-H12)/R28","v":116.5},{"$f":"(H17-H14)/S28","v":882.66666666666663},{"$f":"(H20-H17)/T28","v":169.33333333333334},{"$f":"(H23-H20)/U28","v":-1471.6666666666667}]

{"sheet":"!M119B4T.ayl","index":16,"n_rows":36,"n_cols":48,"rows_kept":36,"cut":false,"hidden":false,"merged":[[4,39,4,42],[5,39,5,40],[4,44,4,47],[5,44,5,45],[4,24,4,27],[5,24,5,25],[4,29,4,32],[5,29,5,30],[4,34,4,37],[5,34,5,35],[1,1,1,2],[5,13,5,14],[26,13,26,14],[27,13,27,14],[4,19,4,22],[5,19,5,20]]}
["Report for:!M119B4T.ayl"]
["Date:","<date>"]
["Hen:","<hen>",null,null,null,"Correct Sequence",{"$f":"Start!J2","v":2212},null,null,null,null,null,null,null,null,"Total Sequences in Data",{"$f":"4994-COUNTBLANK(L7:L5000)","v":16},null,null,null,null,"Total Sequences in Block Data",{"$f":"COUNTA(L7:L9)","v":3},null,null,null,"Total Sequences in Block Data",{"$f":"COUNTA(L10:L11)","v":2},null,null,null,"Total Sequences in Block Data",{"$f":"COUNTA(L12:L14)","v":3},null,null,null,"Total Sequences in Block Data",{"$f":"COUNTA(L15:L17)","v":3},null,null,null,"Total Sequences in Block Data",{"$f":"COUNTA(L18:L19)","v":2},null,null,null,"Total Sequences in Block Data",{"$f":"COUNTA(L20:L22)","v":3}]
[null,null,null,null,null,null,null,null,null,null,null,null,null,null,null,"Total Sequences in Summary",{"$f":"SUM(O7:O22)","v":15},null,null,null,null,"Total Sequences in Block Summary",{"$f":"SUM(U7:U22)","v":3},null,null,null,"Total Sequences in Block Summary",{"$f":"SUM(Z7:Z22)","v":2},null,null,null,"Total Sequences in Block Summary",{"$f":"SUM(AE7:AE22)","v":3},null,null,null,"Total Sequences in Block Summary",{"$f":"SUM(AJ7:AJ22)","v":3},null,null,null,"Total Sequences in Block Summary",{"$f":"SUM(AO7:AO22)","v":2},null,null,null,"Total Sequences in Block Summary",{"$f":"SUM(AT7:AT22)","v":2}]
[null,null,null,null,null,null,null,null,null,null,null,null,null,null,null,null,null,null,null,"Block 1",null,null,null,null,"Block 2",null,null,null,null,"Block 3",null,null,null,null,"Block 4",null,null,null,null,"Block 5",null,null,null,null,"Block 6"]
["Sequence\nComponent\n1","Time\n1","Sequence\nComponent\n2","Time\n2","Sequence\nComponent\n3","Time\n3","Sequence\nComponent\n4","Time\n4","Sequence\nComponent\n5","Time\n5","Correct?\n0=No 1=Yes","Sequence",null,"Frequency",null,"Relative Frequency","Variability",null,null,"Frequency",null,"Relative Frequency","Variability",null,"Frequency",null,"Relative Frequency","Variability",null,"Frequency",null,"Relative Frequency","Variability",null,"Frequency",null,"Relative Frequency","Variability",null,"Frequency",null,"Relative Frequency","Variability",null,"Frequency",null,"Relative Frequency","Variability"]
[21,46,12,53,24,66,23,72,null,null,0,2122,null,1111,{"$f":"COUNTIF($L$7:$L$500,N7)","v":4},{"$f":"O7/$Q$4","v":0.26666666666666666},{"$f":"IF(P7=0,0,(P7*((LOG(P7))/LOG(2))))","v":-0.50850415882893829},null,null,{"$f":"N7","v":1111},{"$f":"COUNTIF(L7:L9,T7)","v":1},{"$f":"U7/(W4-U20)","v":0.33333333333333331},{"$f":"IF(V7=0,0,(V7*((LOG(V7))/LOG(2))))","v":-0.52832083357371862},null,{"$f":"N7","v":1111},{"$f":"COUNTIF(L10:L11,Y7)","v":2},{"$f":"Z7/(AB4-Z20)","v":1},{"$f":"IF(AA7=0,0,(AA7*((LOG(AA7))/LOG(2))))","v":0},null,{"$f":"N7","v":1111},{"$f":"COUNTIF(L12:L14,AD7)","v":1},{"$f":"AE7/(AG4-AE20)","v":0.33333333333333331},{"$f":"IF(AF7=0,0,(AF7*((LOG(AF7))/LOG(2))))","v":-0.52832083357371862},null,{"$f":"N7","v":1111},{"$f":"COUNTIF(L15:L17,AI7)","v":0},{"$f":"AJ7/(AL4-AJ20)","v":0},{"$f":"IF(AK7=0,0,(AK7*((LOG(AK7))/LOG(2))))","v":0},null,{"$f":"N7","v":1111},{"$f":"COUNTIF(L18:L19,AN7)","v":0},{"$f":"AO7/(AQ4-AO20)","v":0},{"$f":"IF(AP7=0,0,(AP7*((LOG(AP7))/LOG(2))))","v":0},null,{"$f":"N7","v":1111},{"$f":"COUNTIF(L20:L22,AS7)","v":0},{"$f":"AT7/(AV4-AT20)","v":0},{"$f":"IF(AU7=0,0,(AU7*((LOG(AU7))/LOG(2))))","v":0}]
[12,173,23,185,24,188,23,191,null,null,0,1222,null,1112,{"$f":"COUNTIF($L$7:$L$500,N8)","v":1},{"$f":"O8/$Q$4","v":6.6666666666666666E-2},{"$f":"IF(P8=0,0,(P8*((LOG(P8))/LOG(2))))","v":-0.26045937304056793},null,null,{"$f":"N8","v":1112},{"$f":"COUNTIF(L7:L9,T8)","v":0},{"$f":"U8/(W4-U20)","v":0},{"$f":"IF(V8=0,0,(V8*((LOG(V8))/LOG(2))))","v":0},null,{"$f":"N8","v":1112},{"$f":"COUNTIF(L10:L11,Y8)","v":0},{"$f":"Z8/(AB4-Z20)","v":0},{"$f":"IF(AA8=0,0,(AA8*((LOG(AA8))/LOG(2))))","v":0},null,{"$f":"N8","v":1112},{"$f":"COUNTIF(L12:L14,AD8)","v":1},{"$f":"AE8/(AG4-AE20)","v":0.33333333333333331},{"$f":"IF(AF8=0,0,(AF8*((LOG(AF8))/LOG(2))))","v":-0.52832083357371862},null,{"$f":"N8","v":1112},{"$f":"COUNTIF(L15:L17,AI8)","v":0},{"$f":"AJ8/(AL4-AJ20)","v":0},{"$f":"IF(AK8=0,0,(AK8*((LOG(AK8))/LOG(2))))","v":0},null,{"$f":"N8","v":1112},{"$f":"COUNTIF(L18:L19,AN8)","v":0},{"$f":"AO8/(AQ4-AO20)","v":0},{"$f":"IF(AP8=0,0,(AP8*((LOG(AP8))/LOG(2))))","v":0},null,{"$f":"N8","v":1112},{"$f":"COUNTIF(L20:L22,AS8)","v":0},{"$f":"AT8/(AV4-AT20)","v":0},{"$f":"IF(AU8=0,0,(AU8*((LOG(AU8))/LOG(2))))","v":0}]
[12,287,14,289,13,293,14,298,null,null,0,1111,null,1121,{"$f":"COUNTIF($L$7:$L$500,N9)","v":0},{"$f":"O9/$Q$4","v":0},{"$f":"IF(P9=0,0,(P9*((LOG(P9))/LOG(2))))","v":0},null,null,{"$f":"N9","v":1121},{"$f":"COUNTIF(L7:L9,T9)","v":0},{"$f":"U9/(W4-U20)","v":0},{"$f":"IF(V9=0,0,(V9*((LOG(V9))/LOG(2))))","v":0},null,{"$f":"N9","v":1121},{"$f":"COUNTIF(L10:L11,Y9)","v":0},{"$f":"Z9/(AB4-Z20)","v":0},{"$f":"IF(AA9=0,0,(AA9*((LOG(AA9))/LOG(2))))","v":0},null,{"$f":"N9","v":1121},{"$f":"COUNTIF(L12:L14,AD9)","v":0},{"$f":"AE9/(AG4-AE20)","v":0},{"$f":"IF(AF9=0,0,(AF9*((LOG(AF9))/LOG(2))))","v":0},null,{"$f":"N9","v":1121},{"$f":"COUNTIF(L15:L17,AI9)","v":0},{"$f":"AJ9/(AL4-AJ20)","v":0},{"$f":"IF(AK9=0,0,(AK9*((LOG(AK9))/LOG(2))))","v":0},null,{"$f":"N9","v":1121},{"$f":"COUNTIF(L18:L19,AN9)","v":0},{"$f":"AO9/(AQ4-AO20)","v":0},{"$f":"IF(AP9=0,0,(AP9*((LOG(AP9))/LOG(2))))","v":0},null,{"$f":"N9","v":1121},{"$f":"COUNTIF(L20:L22,AS9)","v":0},{"$f":"AT9/(AV4-AT20)","v":0},{"$f":"IF(AU9=0,0,(AU9*((LOG(AU9))/LOG(2))))","v":0}]
[12,396,14,398,13,401,14,405,null,null,0,1111,null,1122,{"$f":"COUNTIF($L$7:$L$500,N10)","v":0},{"$f":"O10/$Q$4","v":0},{"$f":"IF(P10=0,0,(P10*((LOG(P10))/LOG(2))))","v":0},null,null,{"$f":"N10","v":1122},{"$f":"COUNTIF(L7:L9,T10)","v":0},{"$f":"U10/(W4-U20)","v":0},{"$f":"IF(V10=0,0,(V10*((LOG(V10))/LOG(2))))","v":0},null,{"$f":"N10","v":1122},{"$f":"COUNTIF(L10:L11,Y10)","v":0},{"$f":"Z10/(AB4-Z20)","v":0},{"$f":"IF(AA10=0,0,(AA10*((LOG(AA10))/LOG(2))))","v":0},null,{"$f":"N10","v":1122},{"$f":"COUNTIF(L12:L14,AD10)","v":0},{"$f":"AE10/(AG4-AE20)","v":0},{"$f":"IF(AF10=0,0,(AF10*((LOG(AF10))/LOG(2))))","v":0},null,{"$f":"N10","v":1122},{"$f":"COUNTIF(L15:L17,AI10)","v":0},{"$f":"AJ10/(AL4-AJ20)","v":0},{"$f":"IF(AK10=0,0,(AK10*((LOG(AK10))/LOG(2))))","v":0},null,{"$f":"N10","v":1122},{"$f":"COUNTIF(L18:L19,AN10)","v":0},{"$f":"AO10/(AQ4-AO20)","v":0},{"$f":"IF(AP10=0,0,(AP10*((LOG(AP10))/LOG(2))))","v":0},null,{"$f":"N10","v":1122},{"$f":"COUNTIF(L20:L22,AS10)","v":0},{"$f":"AT10/(AV4-AT20)","v":0},{"$f":"IF(AU10=0,0,(AU10*((LOG(AU10))/LOG(2))))","v":0}]
[12,505,14,507,13,510,14,514,null,null,0,1111,null,1211,{"$f":"COUNTIF($L$7:$L$500,N11)","v":1},{"$f":"O11/$Q$4","v":6.6666666666666666E-2},{"$f":"IF(P11=0,0,(P11*((LOG(P11))/LOG(2))))","v":-0.26045937304056793},null,null,{"$f":"N11","v":1211},{"$f":"COUNTIF(L7:L9,T11)","v":0},{"$f":"U11/(W4-U20)","v":0},{"$f":"IF(V11=0,0,(V11*((LOG(V11))/LOG(2))))","v":0},null,{"$f":"N11","v":1211},{"$f":"COUNTIF(L10:L11,Y11)","v":0},{"$f":"Z11/(AB4-Z20)","v":0},{"$f":"IF(AA11=0,0,(AA11*((LOG(AA11))/LOG(2))))","v":0},null,{"$f":"N11","v":1211},{"$f":"COUNTIF(L12:L14,AD11)","v":0},{"$f":"AE11/(AG4-AE20)","v":0},{"$f":"IF(AF11=0,0,(AF11*((LOG(AF11))/LOG(2))))","v":0},null,{"$f":"N11","v":1211},{"$f":"COUNTIF(L15:L17,AI11)","v":0},{"$f":"AJ11/(AL4-AJ20)","v":0},{"$f":"IF(AK11=0,0,(AK11*((LOG(AK11))/LOG(2))))","v":0},null,{"$f":"N11","v":1211},{"$f":"COUNTIF(L18:L19,AN11)","v":1},{"$f":"AO11/(AQ4-AO20)","v":0.5},{"$f":"IF(AP11=0,0,(AP11*((LOG(AP11))/LOG(2))))","v":-0.5},null,{"$f":"N11","v":1211},{"$f":"COUNTIF(L20:L22,AS11)","v":0},{"$f":"AT11/(AV4-AT20)","v":0},{"$f":"IF(AU11=0,0,(AU11*((LOG(AU11))/LOG(2))))","v":0}]
[12,615,14,618,13,621,23,636,null,null,0,1112,null,1212,{"$f":"COUNTIF($L$7:$L$500,N12)","v":0},{"$f":"O12/$Q$4","v":0},{"$f":"IF(P12=0,0,(P12*((LOG(P12))/LOG(2))))","v":0},null,null,{"$f":"N12","v":1212},{"$f":"COUNTIF(L7:L9,T12)","v":0},{"$f":"U12/(W4-U20)","v":0},{"$f":"IF(V12=0,0,(V12*((LOG(V12))/LOG(2))))","v":0},null,{"$f":"N12","v":1212},{"$f":"COUNTIF(L10:L11,Y12)","v":0},{"$f":"Z12/(AB4-Z20)","v":0},{"$f":"IF(AA12=0,0,(AA12*((LOG(AA12))/LOG(2))))","v":0},null,{"$f":"N12","v":1212},{"$f":"COUNTIF(L12:L14,AD12)","v":0},{"$f":"AE12/(AG4-AE20)","v":0},{"$f":"IF(AF12=0,0,(AF12*((LOG(AF12))/LOG(2))))","v":0},null,{"$f":"N12","v":1212},{"$f":"COUNTIF(L15:L17,AI12)","v":0},{"$f":"AJ12/(AL4-AJ20)","v":0},{"$f":"IF(AK12=0,0,(AK12*((LOG(AK12))/LOG(2))))","v":0},null,{"$f":"N12","v":1212},{"$f":"COUNTIF(L18:L19,AN12)","v":0},{"$f":"AO12/(AQ4-AO20)","v":0},{"$f":"IF(AP12=0,0,(AP12*((LOG(AP12))/LOG(2))))","v":0},null,{"$f":"N12","v":1212},{"$f":"COUNTIF(L20:L22,AS12)","v":0},{"$f":"AT12/(AV4-AT20)","v":0},{"$f":"IF(AU12=0,0,(AU12*((LOG(AU12))/LOG(2))))","v":0}]
[12,761,14,765,13,769,14,773,null,null,0,1111,null,1221,{"$f":"COUNTIF($L$7:$L$500,N13)","v":0},{"$f":"O13/$Q$4","v":0},{"$f":"IF(P13=0,0,(P13*((LOG(P13))/LOG(2))))","v":0},null,null,{"$f":"N13","v":1221},{"$f":"COUNTIF(L7:L9,T13)","v":0},{"$f":"U13/(W4-U20)","v":0},{"$f":"IF(V13=0,0,(V13*((LOG(V13))/LOG(2))))","v":0},null,{"$f":"N13","v":1221},{"$f":"COUNTIF(L10:L11,Y13)","v":0},{"$f":"Z13/(AB4-Z20)","v":0},{"$f":"IF(AA13=0,0,(AA13*((LOG(AA13))/LOG(2))))","v":0},null,{"$f":"N13","v":1221},{"$f":"COUNTIF(L12:L14,AD13)","v":0},{"$f":"AE13/(AG4-AE20)","v":0},{"$f":"IF(AF13=0,0,(AF13*((LOG(AF13))/LOG(2))))","v":0},null,{"$f":"N13","v":1221},{"$f":"COUNTIF(L15:L17,AI13)","v":0},{"$f":"AJ13/(AL4-AJ20)","v":0},{"$f":"IF(AK13=0,0,(AK13*((LOG(AK13))/LOG(2))))","v":0},null,{"$f":"N13","v":1221},{"$f":"COUNTIF(L18:L19,AN13)","v":0},{"$f":"AO13/(AQ4-AO20)","v":0},{"$f":"IF(AP13=0,0,(AP13*((LOG(AP13))/LOG(2))))","v":0},null,{"$f":"N13","v":1221},{"$f":"COUNTIF(L20:L22,AS13)","v":0},{"$f":"AT13/(AV4-AT20)","v":0},{"$f":"IF(AU13=0,0,(AU13*((LOG(AU13))/LOG(2))))","v":0}]
[12,888,23,897,24,906,23,913,null,null,0,1222,null,1222,{"$f":"COUNTIF($L$7:$L$500,N14)","v":5},{"$f":"O14/$Q$4","v":0.33333333333333331},{"$f":"IF(P14=0,0,(P14*((LOG(P14))/LOG(2))))","v":-0.52832083357371862},null,null,{"$f":"N14","v":1222},{"$f":"COUNTIF(L7:L9,T14)","v":1},{"$f":"U14/(W4-U20)","v":0.33333333333333331},{"$f":"IF(V14=0,0,(V14*((LOG(V14))/LOG(2))))","v":-0.52832083357371862},null,{"$f":"N14","v":1222},{"$f":"COUNTIF(L10:L11,Y14)","v":0},{"$f":"Z14/(AB4-Z20)","v":0},{"$f":"IF(AA14=0,0,(AA14*((LOG(AA14))/LOG(2))))","v":0},null,{"$f":"N14","v":1222},{"$f":"COUNTIF(L12:L14,AD14)","v":1},{"$f":"AE14/(AG4-AE20)","v":0.33333333333333331},{"$f":"IF(AF14=0,0,(AF14*((LOG(AF14))/LOG(2))))","v":-0.52832083357371862},null,{"$f":"N14","v":1222},{"$f":"COUNTIF(L15:L17,AI14)","v":2},{"$f":"AJ14/(AL4-AJ20)","v":0.66666666666666663},{"$f":"IF(AK14=0,0,(AK14*((LOG(AK14))/LOG(2))))","v":-0.38997500048077083},null,{"$f":"N14","v":1222},{"$f":"COUNTIF(L18:L19,AN14)","v":1},{"$f":"AO14/(AQ4-AO20)","v":0.5},{"$f":"IF(AP14=0,0,(AP14*((LOG(AP14))/LOG(2))))","v":-0.5},null,{"$f":"N14","v":1222},{"$f":"COUNTIF(L20:L22,AS14)","v":0},{"$f":"AT14/(AV4-AT20)","v":0},{"$f":"IF(AU14=0,0,(AU14*((LOG(AU14))/LOG(2))))","v":0}]
[12,1026,23,1044,24,1052,23,1059,null,null,0,1222,null,2111,{"$f":"COUNTIF($L$7:$L$500,N15)","v":1},{"$f":"O15/$Q$4","v":6.6666666666666666E-2},{"$f":"IF(P15=0,0,(P15*((LOG(P15))/LOG(2))))","v":-0.26045937304056793},null,null,{"$f":"N15","v":2111},{"$f":"COUNTIF(L7:L9,T15)","v":0},{"$f":"U15/(W4-U20)","v":0},{"$f":"IF(V15=0,0,(V15*((LOG(V15))/LOG(2))))","v":0},null,{"$f":"N15","v":2111},{"$f":"COUNTIF(L10:L11,Y15)","v":0},{"$f":"Z15/(AB4-Z20)","v":0},{"$f":"IF(AA15=0,0,(AA15*((LOG(AA15))/LOG(2))))","v":0},null,{"$f":"N15","v":2111},{"$f":"COUNTIF(L12:L14,AD15)","v":0},{"$f":"AE15/(AG4-AE20)","v":0},{"$f":"IF(AF15=0,0,(AF15*((LOG(AF15))/LOG(2))))","v":0},null,{"$f":"N15","v":2111},{"$f":"COUNTIF(L15:L17,AI15)","v":1},{"$f":"AJ15/(AL4-AJ20)","v":0.33333333333333331},{"$f":"IF(AK15=0,0,(AK15*((LOG(AK15))/LOG(2))))","v":-0.52832083357371862},null,{"$f":"N15","v":2111},{"$f":"COUNTIF(L18:L19,AN15)","v":0},{"$f":"AO15/(AQ4-AO20)","v":0},{"$f":"IF(AP15=0,0,(AP15*((LOG(AP15))/LOG(2))))","v":0},null,{"$f":"N15","v":2111},{"$f":"COUNTIF(L20:L22,AS15)","v":0},{"$f":"AT15/(AV4-AT20)","v":0},{"$f":"IF(AU15=0,0,(AU15*((LOG(AU15))/LOG(2))))","v":0}]
[12,1178,23,1188,24,1191,23,1198,null,null,0,1222,null,2112,{"$f":"COUNTIF($L$7:$L$500,N16)","v":0},{"$f":"O16/$Q$4","v":0},{"$f":"IF(P16=0,0,(P16*((LOG(P16))/LOG(2))))","v":0},null,null,{"$f":"N16","v":2112},{"$f":"COUNTIF(L7:L9,T16)","v":0},{"$f":"U16/(W4-U20)","v":0},{"$f":"IF(V16=0,0,(V16*((LOG(V16))/LOG(2))))","v":0},null,{"$f":"N16","v":2112},{"$f":"COUNTIF(L10:L11,Y16)","v":0},{"$f":"Z16/(AB4-Z20)","v":0},{"$f":"IF(AA16=0,0,(AA16*((LOG(AA16))/LOG(2))))","v":0},null,{"$f":"N16","v":2112},{"$f":"COUNTIF(L12:L14,AD16)","v":0},{"$f":"AE16/(AG4-AE20)","v":0},{"$f":"IF(AF16=0,0,(AF16*((LOG(AF16))/LOG(2))))","v":0},null,{"$f":"N16","v":2112},{"$f":"COUNTIF(L15:L17,AI16)","v":0},{"$f":"AJ16/(AL4-AJ20)","v":0},{"$f":"IF(AK16=0,0,(AK16*((LOG(AK16))/LOG(2))))","v":0},null,{"$f":"N16","v":2112},{"$f":"COUNTIF(L18:L19,AN16)","v":0},{"$f":"AO16/(AQ4-AO20)","v":0},{"$f":"IF(AP16=0,0,(AP16*((LOG(AP16))/LOG(2))))","v":0},null,{"$f":"N16","v":2112},{"$f":"COUNTIF(L20:L22,AS16)","v":0},{"$f":"AT16/(AV4-AT20)","v":0},{"$f":"IF(AU16=0,0,(AU16*((LOG(AU16))/LOG(2))))","v":0}]
[21,1785,12,1803,13,1807,14,1819,null,null,0,2111,null,2121,{"$f":"COUNTIF($L$7:$L$500,N17)","v":0},{"$f":"O17/$Q$4","v":0},{"$f":"IF(P17=0,0,(P17*((LOG(P17))/LOG(2))))","v":0},null,null,{"$f":"N17","v":2121},{"$f":"COUNTIF(L7:L9,T17)","v":0},{"$f":"U17/(W4-U20)","v":0},{"$f":"IF(V17=0,0,(V17*((LOG(V17))/LOG(2))))","v":0},null,{"$f":"N17","v":2121},{"$f":"COUNTIF(L10:L11,Y17)","v":0},{"$f":"Z17/(AB4-Z20)","v":0},{"$f":"IF(AA17=0,0,(AA17*((LOG(AA17))/LOG(2))))","v":0},null,{"$f":"N17","v":2121},{"$f":"COUNTIF(L12:L14,AD17)","v":0},{"$f":"AE17/(AG4-AE20)","v":0},{"$f":"IF(AF17=0,0,(AF17*((LOG(AF17))/LOG(2))))","v":0},null,{"$f":"N17","v":2121},{"$f":"COUNTIF(L15:L17,AI17)","v":0},{"$f":"AJ17/(AL4-AJ20)","v":0},{"$f":"IF(AK17=0,0,(AK17*((LOG(AK17))/LOG(2))))","v":0},null,{"$f":"N17","v":2121},{"$f":"COUNTIF(L18:L19,AN17)","v":0},{"$f":"AO17/(AQ4-AO20)","v":0},{"$f":"IF(AP17=0,0,(AP17*((LOG(AP17))/LOG(2))))","v":0},null,{"$f":"N17","v":2121},{"$f":"COUNTIF(L20:L22,AS17)","v":0},{"$f":"AT17/(AV4-AT20)","v":0},{"$f":"IF(AU17=0,0,(AU17*((LOG(AU17))/LOG(2))))","v":0}]
[12,1921,23,1932,13,1947,14,1952,null,null,0,1211,null,2122,{"$f":"COUNTIF($L$7:$L$500,N18)","v":2},{"$f":"O18/$Q$4","v":0.13333333333333333},{"$f":"IF(P18=0,0,(P18*((LOG(P18))/LOG(2))))","v":-0.3875854127478025},null,null,{"$f":"N18","v":2122},{"$f":"COUNTIF(L7:L9,T18)","v":1},{"$f":"U18/(W4-U20)","v":0.33333333333333331},{"$f":"IF(V18=0,0,(V18*((LOG(V18))/LOG(2))))","v":-0.52832083357371862},null,{"$f":"N18","v":2122},{"$f":"COUNTIF(L10:L11,Y18)","v":0},{"$f":"Z18/(AB4-Z20)","v":0},{"$f":"IF(AA18=0,0,(AA18*((LOG(AA18))/LOG(2))))","v":0},null,{"$f":"N18","v":2122},{"$f":"COUNTIF(L12:L14,AD18)","v":0},{"$f":"AE18/(AG4-AE20)","v":0},{"$f":"IF(AF18=0,0,(AF18*((LOG(AF18))/LOG(2))))","v":0},null,{"$f":"N18","v":2122},{"$f":"COUNTIF(L15:L17,AI18)","v":0},{"$f":"AJ18/(AL4-AJ20)","v":0},{"$f":"IF(AK18=0,0,(AK18*((LOG(AK18))/LOG(2))))","v":0},null,{"$f":"N18","v":2122},{"$f":"COUNTIF(L18:L19,AN18)","v":0},{"$f":"AO18/(AQ4-AO20)","v":0},{"$f":"IF(AP18=0,0,(AP18*((LOG(AP18))/LOG(2))))","v":0},null,{"$f":"N18","v":2122},{"$f":"COUNTIF(L20:L22,AS18)","v":1},{"$f":"AT18/(AV4-AT20)","v":0.5},{"$f":"IF(AU18=0,0,(AU18*((LOG(AU18))/LOG(2))))","v":-0.5}]
[12,3719,23,3729,24,3735,23,3740,null,null,0,1222,null,2211,{"$f":"COUNTIF($L$7:$L$500,N19)","v":1},{"$f":"O19/$Q$4","v":6.6666666666666666E-2},{"$f":"IF(P19=0,0,(P19*((LOG(P19))/LOG(2))))","v":-0.26045937304056793},null,null,{"$f":"N19","v":2211},{"$f":"COUNTIF(L7:L9,T19)","v":0},{"$f":"U19/(W4-U20)","v":0},{"$f":"IF(V19=0,0,(V19*((LOG(V19))/LOG(2))))","v":0},null,{"$f":"N19","v":2211},{"$f":"COUNTIF(L10:L11,Y19)","v":0},{"$f":"Z19/(AB4-Z20)","v":0},{"$f":"IF(AA19=0,0,(AA19*((LOG(AA19))/LOG(2))))","v":0},null,{"$f":"N19","v":2211},{"$f":"COUNTIF(L12:L14,AD19)","v":0},{"$f":"AE19/(AG4-AE20)","v":0},{"$f":"IF(AF19=0,0,(AF19*((LOG(AF19))/LOG(2))))","v":0},null,{"$f":"N19","v":2211},{"$f":"COUNTIF(L15:L17,AI19)","v":0},{"$f":"AJ19/(AL4-AJ20)","v":0},{"$f":"IF(AK19=0,0,(AK19*((LOG(AK19))/LOG(2))))","v":0},null,{"$f":"N19","v":2211},{"$f":"COUNTIF(L18:L19,AN19)","v":0},{"$f":"AO19/(AQ4-AO20)","v":0},{"$f":"IF(AP19=0,0,(AP19*((LOG(AP19))/LOG(2))))","v":0},null,{"$f":"N19","v":2211},{"$f":"COUNTIF(L20:L22,AS19)","v":1},{"$f":"AT19/(AV4-AT20)","v":0.5},{"$f":"IF(AU19=0,0,(AU19*((LOG(AU19))/LOG(2))))","v":-0.5}]
[21,3990,21,3995,11,4015,12,4022,null,null,0,2211,null,2212,{"$f":"COUNTIF($L$7:$L$500,N20)","v":0},{"$f":"O20/$Q$4","v":0},{"$f":"IF(P20=0,0,(P20*((LOG(P20))/LOG(2))))","v":0},null,null,{"$f":"N20","v":2212},{"$f":"COUNTIF(L7:L9,T20)","v":0},null,null,null,{"$f":"N20","v":2212},{"$f":"COUNTIF(L10:L11,Y20)","v":0},null,null,null,{"$f":"N20","v":2212},{"$f":"COUNTIF(L12:L14,AD20)","v":0},null,null,null,{"$f":"N20","v":2212},{"$f":"COUNTIF(L15:L17,AI20)","v":0},null,null,null,{"$f":"N20","v":2212},{"$f":"COUNTIF(L18:L19,AN20)","v":0},null,null,null,{"$f":"N20","v":2212},{"$f":"COUNTIF(L20:L22,AS20)","v":0}]
[21,5348,12,7086,24,19762,23,23146,null,null,0,2122,null,2221,{"$f":"COUNTIF($L$7:$L$500,N21)","v":0},{"$f":"O21/$Q$4","v":0},{"$f":"IF(P21=0,0,(P21*((LOG(P21))/LOG(2))))","v":0},null,null,{"$f":"N21","v":2221},{"$f":"COUNTIF(L7:L9,T21)","v":0},{"$f":"U21/(W4-U20)","v":0},{"$f":"IF(V21=0,0,(V21*((LOG(V21))/LOG(2))))","v":0},null,{"$f":"N21","v":2221},{"$f":"COUNTIF(L10:L11,Y21)","v":0},{"$f":"Z21/(AB4-Z20)","v":0},{"$f":"IF(AA21=0,0,(AA21*((LOG(AA21))/LOG(2))))","v":0},null,{"$f":"N21","v":2221},{"$f":"COUNTIF(L12:L14,AD21)","v":0},{"$f":"AE21/(AG4-AE20)","v":0},{"$f":"IF(AF21=0,0,(AF21*((LOG(AF21))/LOG(2))))","v":0},null,{"$f":"N21","v":2221},{"$f":"COUNTIF(L15:L17,AI21)","v":0},{"$f":"AJ21/(AL4-AJ20)","v":0},{"$f":"IF(AK21=0,0,(AK21*((LOG(AK21))/LOG(2))))","v":0},null,{"$f":"N21","v":2221},{"$f":"COUNTIF(L18:L19,AN21)","v":0},{"$f":"AO21/(AQ4-AO20)","v":0},{"$f":"IF(AP21=0,0,(AP21*((LOG(AP21))/LOG(2))))","v":0},null,{"$f":"N21","v":2221},{"$f":"COUNTIF(L20:L22,AS21)","v":0},{"$f":"AT21/(AV4-AT20)","v":0},{"$f":"IF(AU21=0,0,(AU21*((LOG(AU21))/LOG(2))))","v":0}]
[21,23673,null,null,null,null,null,null,null,null,null,2,null,2222,{"$f":"COUNTIF($L$7:$L$500,N22)","v":0},{"$f":"O22/$Q$4","v":0},{"$f":"IF(P22=0,0,(P22*((LOG(P22))/LOG(2))))","v":0},null,null,{"$f":"N22","v":2222},{"$f":"COUNTIF(L7:L9,T22)","v":0},{"$f":"U22/(W4-U20)","v":0},{"$f":"IF(V22=0,0,(V22*((LOG(V22))/LOG(2))))","v":0},null,{"$f":"N22","v":2222},{"$f":"COUNTIF(L10:L11,Y22)","v":0},{"$f":"Z22/(AB4-Z20)","v":0},{"$f":"IF(AA22=0,0,(AA22*((LOG(AA22))/LOG(2))))","v":0},null,{"$f":"N22","v":2222},{"$f":"COUNTIF(L12:L14,AD22)","v":0},{"$f":"AE22/(AG4-AE20)","v":0},{"$f":"IF(AF22=0,0,(AF22*((LOG(AF22))/LOG(2))))","v":0},null,{"$f":"N22","v":2222},{"$f":"COUNTIF(L15:L17,AI22)","v":0},{"$f":"AJ22/(AL4-AJ20)","v":0},{"$f":"IF(AK22=0,0,(AK22*((LOG(AK22))/LOG(2))))","v":0},null,{"$f":"N22","v":2222},{"$f":"COUNTIF(L18:L19,AN22)","v":0},{"$f":"AO22/(AQ4-AO20)","v":0},{"$f":"IF(AP22=0,0,(AP22*((LOG(AP22))/LOG(2))))","v":0},null,{"$f":"N22","v":2222},{"$f":"COUNTIF(L20:L22,AS22)","v":0},{"$f":"AT22/(AV4-AT20)","v":0},{"$f":"IF(AU22=0,0,(AU22*((LOG(AU22))/LOG(2))))","v":0}]
[null,null,null,null,null,null,null,null,null,null,null,null,null,null,null,{"$f":"SUM(P7:P22)","v":0.99999999999999989},{"$f":"-SUM(Q7:Q22)","v":2.4662478973127313},null,null,null,null,{"$f":"SUM(V7:V22)","v":1},{"$f":"-SUM(W7:W22)","v":1.5849625007211559},null,null,null,{"$f":"SUM(AA7:AA22)","v":1},{"$f":"-SUM(AB7:AB22)","v":0},null,null,null,{"$f":"SUM(AF7:AF22)","v":1},{"$f":"-SUM(AG7:AG22)","v":1.5849625007211559},null,null,null,{"$f":"SUM(AK7:AK22)","v":1},{"$f":"-SUM(AL7:AL22)","v":0.91829583405448945},null,null,null,{"$f":"SUM(AP7:AP22)","v":1},{"$f":"-SUM(AQ7:AQ22)","v":1},null,null,null,{"$f":"SUM(AU7:AU22)","v":1},{"$f":"-SUM(AV7:AV22)","v":1}]
[null,null,null,null,null,null,null,null,null,null,null,null,null,null,null,"U=",{"$f":"Q23/(LOG(Q4)/LOG(2))","v":0.63125594048752731},null,null,null,null,"U1=",{"$f":"W23/(LOG(W4)/LOG(2))","v":0.99999999999999989},null,null,null,"U2=",{"$f":"AB23/(LOG(AB4)/LOG(2))","v":0},null,null,null,"U3=",{"$f":"AG23/(LOG(AG4)/LOG(2))","v":0.99999999999999989},null,null,null,"U4=",{"$f":"AL23/(LOG(AL4)/LOG(2))","v":0.57938016428569505},null,null,null,"U5=",{"$f":"AQ23/(LOG(AQ4)/LOG(2))","v":1},null,null,null,"U6=",{"$f":"AV23/(LOG(AV4)/LOG(2))","v":1}]
[]
[]
[null,null,null,null,null,null,null,null,null,null,null,null,null,"Total Target Seq"]
[null,null,null,null,null,null,null,null,null,null,null,null,null,{"$f":"COUNTIF(L7:L22,G3)","v":0},null,3,2,3,3,2,3]
[null,null,null,null,null,null,null,null,null,null,null,null,null,null,null,"% of reinforcement given in 6 equal intervals based on number of trials "]
[null,null,null,null,null,null,null,null,null,null,null,null,null,null,null,"%_1","%_2","%_3","%_4","%_5","%_6"]
[null,null,null,null,null,null,null,null,null,null,null,null,null,null,"target sequence",{"$f":"$G$3","v":2212},{"$f":"$G$3","v":2212},{"$f":"$G$3","v":2212},{"$f":"$G$3","v":2212},{"$f":"$G$3","v":2212},{"$f":"$G$3","v":2212}]
[null,null,null,null,null,null,null,null,null,null,null,null,null,null,"total reinforcement",{"$f":"U20","v":0},{"$f":"Z20","v":0},{"$f":"AE20","v":0},{"$f":"AJ20","v":0},{"$f":"AO20","v":0},{"$f":"AT20","v":0}]
[null,null,null,null,null,null,null,null,null,null,null,null,null,null,"% target"]
[null,null,null,null,null,null,null,null,null,null,null,null,null,null,"CCRF"]
[null,null,null,null,null,null,null,null,null,null,null,null,null,null,"% CCRf"]
[null,null,null,null,null,null,null,null,null,null,null,null,null,null,"average response rate",{"$f":"H9/P28","v":99.333333333333329},{"$f":"(H11-H9)/Q28","v":108},{"$f":"(H14-H11)/R28","v":133},{"$f":"(H17-H14)/S28","v":302},{"$f":"(H19-H17)/T28","v":960.5},{"$f":"(H22-H19)/U28","v":-1246.6666666666667}]

{"sheet":"!M120A3T.ayl","index":17,"n_rows":36,"n_cols":48,"rows_kept":36,"cut":false,"hidden":false,"merged":[[4,39,4,42],[5,39,5,40],[4,44,4,47],[5,44,5,45],[4,24,4,27],[5,24,5,25],[4,29,4,32],[5,29,5,30],[4,34,4,37],[5,34,5,35],[1,1,1,2],[5,13,5,14],[26,13,26,14],[27,13,27,14],[4,19,4,22],[5,19,5,20]]}
["Report for:!M120A3T.ayl"]
["Date:","<date>"]
["Hen:","<hen>",null,null,null,"Correct Sequence",{"$f":"Start!J2","v":2212},null,null,null,null,null,null,null,null,"Total Sequences in Data",{"$f":"4994-COUNTBLANK(L7:L5000)","v":8},null,null,null,null,"Total Sequences in Block Data",{"$f":"COUNTA(L7:L7)","v":1},null,null,null,"Total Sequences in Block Data",{"$f":"COUNTA(L8:L9)","v":2},null,null,null,"Total Sequences in Block Data",{"$f":"COUNTA(L10:L10)","v":1},null,null,null,"Total Sequences in Block Data",{"$f":"COUNTA(L11:L11)","v":1},null,null,null,"Total Sequences in Block Data",{"$f":"COUNTA(L12:L13)","v":2},null,null,null,"Total Sequences in Block Data",{"$f":"COUNTA(L14:L14)","v":1}]
[null,null,null,null,null,null,null,null,null,null,null,null,null,null,null,"Total Sequences in Summary",{"$f":"SUM(O7:O22)","v":8},null,null,null,null,"Total Sequences in Block Summary",{"$f":"SUM(U7:U22)","v":1},null,null,null,"Total Sequences in Block Summary",{"$f":"SUM(Z7:Z22)","v":2},null,null,null,"Total Sequences in Block Summary",{"$f":"SUM(AE7:AE22)","v":1},null,null,null,"Total Sequences in Block Summary",{"$f":"SUM(AJ7:AJ22)","v":1},null,null,null,"Total Sequences in Block Summary",{"$f":"SUM(AO7:AO22)","v":2},null,null,null,"Total Sequences in Block Summary",{"$f":"SUM(AT7:AT22)","v":1}]
[null,null,null,null,null,null,null,null,null,null,null,null,null,null,null,null,null,null,null,"Block 1",null,null,null,null,"Block 2",null,null,null,null,"Block 3",null,null,null,null,"Block 4",null,null,null,null,"Block 5",null,null,null,null,"Block 6"]
["Sequence\nComponent\n1","Time\n1","Sequence\nComponent\n2","Time\n2","Sequence\nComponent\n3","Time\n3","Sequence\nComponent\n4","Time\n4","Sequence\nComponent\n5","Time\n5","Correct?\n0=No 1=Yes","Sequence",null,"Frequency",null,"Relative Frequency","Variability",null,null,"Frequency",null,"Relative Frequency","Variability",null,"Frequency",null,"Relative Frequency","Variability",null,"Frequency",null,"Relative Frequency","Variability",null,"Frequency",null,"Relative Frequency","Variability",null,"Frequency",null,"Relative Frequency","Variability",null,"Frequency",null,"Relative Frequency","Variability"]
[21,94,21,100,22,123,23,131,null,null,0,2222,null,1111,{"$f":"COUNTIF($L$7:$L$500,N7)","v":2},{"$f":"O7/$Q$4","v":0.25},{"$f":"IF(P7=0,0,(P7*((LOG(P7))/LOG(2))))","v":-0.5},null,null,{"$f":"N7","v":1111},{"$f":"COUNTIF(L7:L7,T7)","v":0},{"$f":"U7/(W4-U20)","v":0},{"$f":"IF(V7=0,0,(V7*((LOG(V7))/LOG(2))))","v":0},null,{"$f":"N7","v":1111},{"$f":"COUNTIF(L8:L9,Y7)","v":0},{"$f":"Z7/(AB4-Z20)","v":0},{"$f":"IF(AA7=0,0,(AA7*((LOG(AA7))/LOG(2))))","v":0},null,{"$f":"N7","v":1111},{"$f":"COUNTIF(L10:L10,AD7)","v":0},{"$f":"AE7/(AG4-AE20)","v":0},{"$f":"IF(AF7=0,0,(AF7*((LOG(AF7))/LOG(2))))","v":0},null,{"$f":"N7","v":1111},{"$f":"COUNTIF(L11:L11,AI7)","v":0},{"$f":"AJ7/(AL4-AJ20)","v":0},{"$f":"IF(AK7=0,0,(AK7*((LOG(AK7))/LOG(2))))","v":0},null,{"$f":"N7","v":1111},{"$f":"COUNTIF(L12:L13,AN7)","v":2},{"$f":"AO7/(AQ4-AO20)","v":1},{"$f":"IF(AP7=0,0,(AP7*((LOG(AP7))/LOG(2))))","v":0},null,{"$f":"N7","v":1111},{"$f":"COUNTIF(L14:L14,AS7)","v":0},{"$f":"AT7/(AV4-AT20)","v":0},{"$f":"IF(AU7=0,0,(AU7*((LOG(AU7))/LOG(2))))","v":0}]
[21,264,21,268,22,281,14,293,null,null,0,2221,null,1112,{"$f":"COUNTIF($L$7:$L$500,N8)","v":0},{"$f":"O8/$Q$4","v":0},{"$f":"IF(P8=0,0,(P8*((LOG(P8))/LOG(2))))","v":0},null,null,{"$f":"N8","v":1112},{"$f":"COUNTIF(L7:L7,T8)","v":0},{"$f":"U8/(W4-U20)","v":0},{"$f":"IF(V8=0,0,(V8*((LOG(V8))/LOG(2))))","v":0},null,{"$f":"N8","v":1112},{"$f":"COUNTIF(L8:L9,Y8)","v":0},{"$f":"Z8/(AB4-Z20)","v":0},{"$f":"IF(AA8=0,0,(AA8*((LOG(AA8))/LOG(2))))","v":0},null,{"$f":"N8","v":1112},{"$f":"COUNTIF(L10:L10,AD8)","v":0},{"$f":"AE8/(AG4-AE20)","v":0},{"$f":"IF(AF8=0,0,(AF8*((LOG(AF8))/LOG(2))))","v":0},null,{"$f":"N8","v":1112},{"$f":"COUNTIF(L11:L11,AI8)","v":0},{"$f":"AJ8/(AL4-AJ20)","v":0},{"$f":"IF(AK8=0,0,(AK8*((LOG(AK8))/LOG(2))))","v":0},null,{"$f":"N8","v":1112},{"$f":"COUNTIF(L12:L13,AN8)","v":0},{"$f":"AO8/(AQ4-AO20)","v":0},{"$f":"IF(AP8=0,0,(AP8*((LOG(AP8))/LOG(2))))","v":0},null,{"$f":"N8","v":1112},{"$f":"COUNTIF(L14:L14,AS8)","v":0},{"$f":"AT8/(AV4-AT20)","v":0},{"$f":"IF(AU8=0,0,(AU8*((LOG(AU8))/LOG(2))))","v":0}]
[21,394,12,414,13,416,14,420,null,null,0,2111,null,1121,{"$f":"COUNTIF($L$7:$L$500,N9)","v":0},{"$f":"O9/$Q$4","v":0},{"$f":"IF(P9=0,0,(P9*((LOG(P9))/LOG(2))))","v":0},null,null,{"$f":"N9","v":1121},{"$f":"COUNTIF(L7:L7,T9)","v":0},{"$f":"U9/(W4-U20)","v":0},{"$f":"IF(V9=0,0,(V9*((LOG(V9))/LOG(2))))","v":0},null,{"$f":"N9","v":1121},{"$f":"COUNTIF(L8:L9,Y9)","v":0},{"$f":"Z9/(AB4-Z20)","v":0},{"$f":"IF(AA9=0,0,(AA9*((LOG(AA9))/LOG(2))))","v":0},null,{"$f":"N9","v":1121},{"$f":"COUNTIF(L10:L10,AD9)","v":0},{"$f":"AE9/(AG4-AE20)","v":0},{"$f":"IF(AF9=0,0,(AF9*((LOG(AF9))/LOG(2))))","v":0},null,{"$f":"N9","v":1121},{"$f":"COUNTIF(L11:L11,AI9)","v":0},{"$f":"AJ9/(AL4-AJ20)","v":0},{"$f":"IF(AK9=0,0,(AK9*((LOG(AK9))/LOG(2))))","v":0},null,{"$f":"N9","v":1121},{"$f":"COUNTIF(L12:L13,AN9)","v":0},{"$f":"AO9/(AQ4-AO20)","v":0},{"$f":"IF(AP9=0,0,(AP9*((LOG(AP9))/LOG(2))))","v":0},null,{"$f":"N9","v":1121},{"$f":"COUNTIF(L14:L14,AS9)","v":0},{"$f":"AT9/(AV4-AT20)","v":0},{"$f":"IF(AU9=0,0,(AU9*((LOG(AU9))/LOG(2))))","v":0}]
[12,1116,14,1121,24,1137,23,1149,null,null,0,1122,null,1122,{"$f":"COUNTIF($L$7:$L$500,N10)","v":3},{"$f":"O10/$Q$4","v":0.375},{"$f":"IF(P10=0,0,(P10*((LOG(P10))/LOG(2))))","v":-0.53063906222956647},null,null,{"$f":"N10","v":1122},{"$f":"COUNTIF(L7:L7,T10)","v":0},{"$f":"U10/(W4-U20)","v":0},{"$f":"IF(V10=0,0,(V10*((LOG(V10))/LOG(2))))","v":0},null,{"$f":"N10","v":1122},{"$f":"COUNTIF(L8:L9,Y10)","v":0},{"$f":"Z10/(AB4-Z20)","v":0},{"$f":"IF(AA10=0,0,(AA10*((LOG(AA10))/LOG(2))))","v":0},null,{"$f":"N10","v":1122},{"$f":"COUNTIF(L10:L10,AD10)","v":1},{"$f":"AE10/(AG4-AE20)","v":1},{"$f":"IF(AF10=0,0,(AF10*((LOG(AF10))/LOG(2))))","v":0},null,{"$f":"N10","v":1122},{"$f":"COUNTIF(L11:L11,AI10)","v":1},{"$f":"AJ10/(AL4-AJ20)","v":1},{"$f":"IF(AK10=0,0,(AK10*((LOG(AK10))/LOG(2))))","v":0},null,{"$f":"N10","v":1122},{"$f":"COUNTIF(L12:L13,AN10)","v":0},{"$f":"AO10/(AQ4-AO20)","v":0},{"$f":"IF(AP10=0,0,(AP10*((LOG(AP10))/LOG(2))))","v":0},null,{"$f":"N10","v":1122},{"$f":"COUNTIF(L14:L14,AS10)","v":1},{"$f":"AT10/(AV4-AT20)","v":1},{"$f":"IF(AU10=0,0,(AU10*((LOG(AU10))/LOG(2))))","v":0}]
[12,1264,14,1267,24,1278,23,1284,null,null,0,1122,null,1211,{"$f":"COUNTIF($L$7:$L$500,N11)","v":0},{"$f":"O11/$Q$4","v":0},{"$f":"IF(P11=0,0,(P11*((LOG(P11))/LOG(2))))","v":0},null,null,{"$f":"N11","v":1211},{"$f":"COUNTIF(L7:L7,T11)","v":0},{"$f":"U11/(W4-U20)","v":0},{"$f":"IF(V11=0,0,(V11*((LOG(V11))/LOG(2))))","v":0},null,{"$f":"N11","v":1211},{"$f":"COUNTIF(L8:L9,Y11)","v":0},{"$f":"Z11/(AB4-Z20)","v":0},{"$f":"IF(AA11=0,0,(AA11*((LOG(AA11))/LOG(2))))","v":0},null,{"$f":"N11","v":1211},{"$f":"COUNTIF(L10:L10,AD11)","v":0},{"$f":"AE11/(AG4-AE20)","v":0},{"$f":"IF(AF11=0,0,(AF11*((LOG(AF11))/LOG(2))))","v":0},null,{"$f":"N11","v":1211},{"$f":"COUNTIF(L11:L11,AI11)","v":0},{"$f":"AJ11/(AL4-AJ20)","v":0},{"$f":"IF(AK11=0,0,(AK11*((LOG(AK11))/LOG(2))))","v":0},null,{"$f":"N11","v":1211},{"$f":"COUNTIF(L12:L13,AN11)","v":0},{"$f":"AO11/(AQ4-AO20)","v":0},{"$f":"IF(AP11=0,0,(AP11*((LOG(AP11))/LOG(2))))","v":0},null,{"$f":"N11","v":1211},{"$f":"COUNTIF(L14:L14,AS11)","v":0},{"$f":"AT11/(AV4-AT20)","v":0},{"$f":"IF(AU11=0,0,(AU11*((LOG(AU11))/LOG(2))))","v":0}]
[12,1383,14,1385,13,1402,14,1410,null,null,0,1111,null,1212,{"$f":"COUNTIF($L$7:$L$500,N12)","v":0},{"$f":"O12/$Q$4","v":0},{"$f":"IF(P12=0,0,(P12*((LOG(P12))/LOG(2))))","v":0},null,null,{"$f":"N12","v":1212},{"$f":"COUNTIF(L7:L7,T12)","v":0},{"$f":"U12/(W4-U20)","v":0},{"$f":"IF(V12=0,0,(V12*((LOG(V12))/LOG(2))))","v":0},null,{"$f":"N12","v":1212},{"$f":"COUNTIF(L8:L9,Y12)","v":0},{"$f":"Z12/(AB4-Z20)","v":0},{"$f":"IF(AA12=0,0,(AA12*((LOG(AA12))/LOG(2))))","v":0},null,{"$f":"N12","v":1212},{"$f":"COUNTIF(L10:L10,AD12)","v":0},{"$f":"AE12/(AG4-AE20)","v":0},{"$f":"IF(AF12=0,0,(AF12*((LOG(AF12))/LOG(2))))","v":0},null,{"$f":"N12","v":1212},{"$f":"COUNTIF(L11:L11,AI12)","v":0},{"$f":"AJ12/(AL4-AJ20)","v":0},{"$f":"IF(AK12=0,0,(AK12*((LOG(AK12))/LOG(2))))","v":0},null,{"$f":"N12","v":1212},{"$f":"COUNTIF(L12:L13,AN12)","v":0},{"$f":"AO12/(AQ4-AO20)","v":0},{"$f":"IF(AP12=0,0,(AP12*((LOG(AP12))/LOG(2))))","v":0},null,{"$f":"N12","v":1212},{"$f":"COUNTIF(L14:L14,AS12)","v":0},{"$f":"AT12/(AV4-AT20)","v":0},{"$f":"IF(AU12=0,0,(AU12*((LOG(AU12))/LOG(2))))","v":0}]
[12,2781,14,2803,13,2809,14,2812,null,null,0,1111,null,1221,{"$f":"COUNTIF($L$7:$L$500,N13)","v":0},{"$f":"O13/$Q$4","v":0},{"$f":"IF(P13=0,0,(P13*((LOG(P13))/LOG(2))))","v":0},null,null,{"$f":"N13","v":1221},{"$f":"COUNTIF(L7:L7,T13)","v":0},{"$f":"U13/(W4-U20)","v":0},{"$f":"IF(V13=0,0,(V13*((LOG(V13))/LOG(2))))","v":0},null,{"$f":"N13","v":1221},{"$f":"COUNTIF(L8:L9,Y13)","v":0},{"$f":"Z13/(AB4-Z20)","v":0},{"$f":"IF(AA13=0,0,(AA13*((LOG(AA13))/LOG(2))))","v":0},null,{"$f":"N13","v":1221},{"$f":"COUNTIF(L10:L10,AD13)","v":0},{"$f":"AE13/(AG4-AE20)","v":0},{"$f":"IF(AF13=0,0,(AF13*((LOG(AF13))/LOG(2))))","v":0},null,{"$f":"N13","v":1221},{"$f":"COUNTIF(L11:L11,AI13)","v":0},{"$f":"AJ13/(AL4-AJ20)","v":0},{"$f":"IF(AK13=0,0,(AK13*((LOG(AK13))/LOG(2))))","v":0},null,{"$f":"N13","v":1221},{"$f":"COUNTIF(L12:L13,AN13)","v":0},{"$f":"AO13/(AQ4-AO20)","v":0},{"$f":"IF(AP13=0,0,(AP13*((LOG(AP13))/LOG(2))))","v":0},null,{"$f":"N13","v":1221},{"$f":"COUNTIF(L14:L14,AS13)","v":0},{"$f":"AT13/(AV4-AT20)","v":0},{"$f":"IF(AU13=0,0,(AU13*((LOG(AU13))/LOG(2))))","v":0}]
[12,6892,14,6898,24,6914,23,6921,null,null,0,1122,null,1222,{"$f":"COUNTIF($L$7:$L$500,N14)","v":0},{"$f":"O14/$Q$4","v":0},{"$f":"IF(P14=0,0,(P14*((LOG(P14))/LOG(2))))","v":0},null,null,{"$f":"N14","v":1222},{"$f":"COUNTIF(L7:L7,T14)","v":0},{"$f":"U14/(W4-U20)","v":0},{"$f":"IF(V14=0,0,(V14*((LOG(V14))/LOG(2))))","v":0},null,{"$f":"N14","v":1222},{"$f":"COUNTIF(L8:L9,Y14)","v":0},{"$f":"Z14/(AB4-Z20)","v":0},{"$f":"IF(AA14=0,0,(AA14*((LOG(AA14))/LOG(2))))","v":0},null,{"$f":"N14","v":1222},{"$f":"COUNTIF(L10:L10,AD14)","v":0},{"$f":"AE14/(AG4-AE20)","v":0},{"$f":"IF(AF14=0,0,(AF14*((LOG(AF14))/LOG(2))))","v":0},null,{"$f":"N14","v":1222},{"$f":"COUNTIF(L11:L11,AI14)","v":0},{"$f":"AJ14/(AL4-AJ20)","v":0},{"$f":"IF(AK14=0,0,(AK14*((LOG(AK14))/LOG(2))))","v":0},null,{"$f":"N14","v":1222},{"$f":"COUNTIF(L12:L13,AN14)","v":0},{"$f":"AO14/(AQ4-AO20)","v":0},{"$f":"IF(AP14=0,0,(AP14*((LOG(AP14))/LOG(2))))","v":0},null,{"$f":"N14","v":1222},{"$f":"COUNTIF(L14:L14,AS14)","v":0},{"$f":"AT14/(AV4-AT20)","v":0},{"$f":"IF(AU14=0,0,(AU14*((LOG(AU14))/LOG(2))))","v":0}]
[null,null,null,null,null,null,null,null,null,null,null,null,null,2111,{"$f":"COUNTIF($L$7:$L$500,N15)","v":1},{"$f":"O15/$Q$4","v":0.125},{"$f":"IF(P15=0,0,(P15*((LOG(P15))/LOG(2))))","v":-0.375},null,null,{"$f":"N15","v":2111},{"$f":"COUNTIF(L7:L7,T15)","v":0},{"$f":"U15/(W4-U20)","v":0},{"$f":"IF(V15=0,0,(V15*((LOG(V15))/LOG(2))))","v":0},null,{"$f":"N15","v":2111},{"$f":"COUNTIF(L8:L9,Y15)","v":1},{"$f":"Z15/(AB4-Z20)","v":0.5},{"$f":"IF(AA15=0,0,(AA15*((LOG(AA15))/LOG(2))))","v":-0.5},null,{"$f":"N15","v":2111},{"$f":"COUNTIF(L10:L10,AD15)","v":0},{"$f":"AE15/(AG4-AE20)","v":0},{"$f":"IF(AF15=0,0,(AF15*((LOG(AF15))/LOG(2))))","v":0},null,{"$f":"N15","v":2111},{"$f":"COUNTIF(L11:L11,AI15)","v":0},{"$f":"AJ15/(AL4-AJ20)","v":0},{"$f":"IF(AK15=0,0,(AK15*((LOG(AK15))/LOG(2))))","v":0},null,{"$f":"N15","v":2111},{"$f":"COUNTIF(L12:L13,AN15)","v":0},{"$f":"AO15/(AQ4-AO20)","v":0},{"$f":"IF(AP15=0,0,(AP15*((LOG(AP15))/LOG(2))))","v":0},null,{"$f":"N15","v":2111},{"$f":"COUNTIF(L14:L14,AS15)","v":0},{"$f":"AT15/(AV4-AT20)","v":0},{"$f":"IF(AU15=0,0,(AU15*((LOG(AU15))/LOG(2))))","v":0}]
[null,null,null,null,null,null,null,null,null,null,null,null,null,2112,{"$f":"COUNTIF($L$7:$L$500,N16)","v":0},{"$f":"O16/$Q$4","v":0},{"$f":"IF(P16=0,0,(P16*((LOG(P16))/LOG(2))))","v":0},null,null,{"$f":"N16","v":2112},{"$f":"COUNTIF(L7:L7,T16)","v":0},{"$f":"U16/(W4-U20)","v":0},{"$f":"IF(V16=0,0,(V16*((LOG(V16))/LOG(2))))","v":0},null,{"$f":"N16","v":2112},{"$f":"COUNTIF(L8:L9,Y16)","v":0},{"$f":"Z16/(AB4-Z20)","v":0},{"$f":"IF(AA16=0,0,(AA16*((LOG(AA16))/LOG(2))))","v":0},null,{"$f":"N16","v":2112},{"$f":"COUNTIF(L10:L10,AD16)","v":0},{"$f":"AE16/(AG4-AE20)","v":0},{"$f":"IF(AF16=0,0,(AF16*((LOG(AF16))/LOG(2))))","v":0},null,{"$f":"N16","v":2112},{"$f":"COUNTIF(L11:L11,AI16)","v":0},{"$f":"AJ16/(AL4-AJ20)","v":0},{"$f":"IF(AK16=0,0,(AK16*((LOG(AK16))/LOG(2))))","v":0},null,{"$f":"N16","v":2112},{"$f":"COUNTIF(L12:L13,AN16)","v":0},{"$f":"AO16/(AQ4-AO20)","v":0},{"$f":"IF(AP16=0,0,(AP16*((LOG(AP16))/LOG(2))))","v":0},null,{"$f":"N16","v":2112},{"$f":"COUNTIF(L14:L14,AS16)","v":0},{"$f":"AT16/(AV4-AT20)","v":0},{"$f":"IF(AU16=0,0,(AU16*((LOG(AU16))/LOG(2))))","v":0}]
[null,null,null,null,null,null,null,null,null,null,null,null,null,2121,{"$f":"COUNTIF($L$7:$L$500,N17)","v":0},{"$f":"O17/$Q$4","v":0},{"$f":"IF(P17=0,0,(P17*((LOG(P17))/LOG(2))))","v":0},null,null,{"$f":"N17","v":2121},{"$f":"COUNTIF(L7:L7,T17)","v":0},{"$f":"U17/(W4-U20)","v":0},{"$f":"IF(V17=0,0,(V17*((LOG(V17))/LOG(2))))","v":0},null,{"$f":"N17","v":2121},{"$f":"COUNTIF(L8:L9,Y17)","v":0},{"$f":"Z17/(AB4-Z20)","v":0},{"$f":"IF(AA17=0,0,(AA17*((LOG(AA17))/LOG(2))))","v":0},null,{"$f":"N17","v":2121},{"$f":"COUNTIF(L10:L10,AD17)","v":0},{"$f":"AE17/(AG4-AE20)","v":0},{"$f":"IF(AF17=0,0,(AF17*((LOG(AF17))/LOG(2))))","v":0},null,{"$f":"N17","v":2121},{"$f":"COUNTIF(L11:L11,AI17)","v":0},{"$f":"AJ17/(AL4-AJ20)","v":0},{"$f":"IF(AK17=0,0,(AK17*((LOG(AK17))/LOG(2))))","v":0},null,{"$f":"N17","v":2121},{"$f":"COUNTIF(L12:L13,AN17)","v":0},{"$f":"AO17/(AQ4-AO20)","v":0},{"$f":"IF(AP17=0,0,(AP17*((LOG(AP17))/LOG(2))))","v":0},null,{"$f":"N17","v":2121},{"$f":"COUNTIF(L14:L14,AS17)","v":0},{"$f":"AT17/(AV4-AT20)","v":0},{"$f":"IF(AU17=0,0,(AU17*((LOG(AU17))/LOG(2))))","v":0}]
[null,null,null,null,null,null,null,null,null,null,null,null,null,2122,{"$f":"COUNTIF($L$7:$L$500,N18)","v":0},{"$f":"O18/$Q$4","v":0},{"$f":"IF(P18=0,0,(P18*((LOG(P18))/LOG(2))))","v":0},null,null,{"$f":"N18","v":2122},{"$f":"COUNTIF(L7:L7,T18)","v":0},{"$f":"U18/(W4-U20)","v":0},{"$f":"IF(V18=0,0,(V18*((LOG(V18))/LOG(2))))","v":0},null,{"$f":"N18","v":2122},{"$f":"COUNTIF(L8:L9,Y18)","v":0},{"$f":"Z18/(AB4-Z20)","v":0},{"$f":"IF(AA18=0,0,(AA18*((LOG(AA18))/LOG(2))))","v":0},null,{"$f":"N18","v":2122},{"$f":"COUNTIF(L10:L10,AD18)","v":0},{"$f":"AE18/(AG4-AE20)","v":0},{"$f":"IF(AF18=0,0,(AF18*((LOG(AF18))/LOG(2))))","v":0},null,{"$f":"N18","v":2122},{"$f":"COUNTIF(L11:L11,AI18)","v":0},{"$f":"AJ18/(AL4-AJ20)","v":0},{"$f":"IF(AK18=0,0,(AK18*((LOG(AK18))/LOG(2))))","v":0},null,{"$f":"N18","v":2122},{"$f":"COUNTIF(L12:L13,AN18)","v":0},{"$f":"AO18/(AQ4-AO20)","v":0},{"$f":"IF(AP18=0,0,(AP18*((LOG(AP18))/LOG(2))))","v":0},null,{"$f":"N18","v":2122},{"$f":"COUNTIF(L14:L14,AS18)","v":0},{"$f":"AT18/(AV4-AT20)","v":0},{"$f":"IF(AU18=0,0,(AU18*((LOG(AU18))/LOG(2))))","v":0}]
[null,null,null,null,null,null,null,null,null,null,null,null,null,2211,{"$f":"COUNTIF($L$7:$L$500,N19)","v":0},{"$f":"O19/$Q$4","v":0},{"$f":"IF(P19=0,0,(P19*((LOG(P19))/LOG(2))))","v":0},null,null,{"$f":"N19","v":2211},{"$f":"COUNTIF(L7:L7,T19)","v":0},{"$f":"U19/(W4-U20)","v":0},{"$f":"IF(V19=0,0,(V19*((LOG(V19))/LOG(2))))","v":0},null,{"$f":"N19","v":2211},{"$f":"COUNTIF(L8:L9,Y19)","v":0},{"$f":"Z19/(AB4-Z20)","v":0},{"$f":"IF(AA19=0,0,(AA19*((LOG(AA19))/LOG(2))))","v":0},null,{"$f":"N19","v":2211},{"$f":"COUNTIF(L10:L10,AD19)","v":0},{"$f":"AE19/(AG4-AE20)","v":0},{"$f":"IF(AF19=0,0,(AF19*((LOG(AF19))/LOG(2))))","v":0},null,{"$f":"N19","v":2211},{"$f":"COUNTIF(L11:L11,AI19)","v":0},{"$f":"AJ19/(AL4-AJ20)","v":0},{"$f":"IF(AK19=0,0,(AK19*((LOG(AK19))/LOG(2))))","v":0},null,{"$f":"N19","v":2211},{"$f":"COUNTIF(L12:L13,AN19)","v":0},{"$f":"AO19/(AQ4-AO20)","v":0},{"$f":"IF(AP19=0,0,(AP19*((LOG(AP19))/LOG(2))))","v":0},null,{"$f":"N19","v":2211},{"$f":"COUNTIF(L14:L14,AS19)","v":0},{"$f":"AT19/(AV4-AT20)","v":0},{"$f":"IF(AU19=0,0,(AU19*((LOG(AU19))/LOG(2))))","v":0}]
[null,null,null,null,null,null,null,null,null,null,null,null,null,2212,{"$f":"COUNTIF($L$7:$L$500,N20)","v":0},{"$f":"O20/$Q$4","v":0},{"$f":"IF(P20=0,0,(P20*((LOG(P20))/LOG(2))))","v":0},null,null,{"$f":"N20","v":2212},{"$f":"COUNTIF(L7:L7,T20)","v":0},null,null,null,{"$f":"N20","v":2212},{"$f":"COUNTIF(L8:L9,Y20)","v":0},null,null,null,{"$f":"N20","v":2212},{"$f":"COUNTIF(L10:L10,AD20)","v":0},null,null,null,{"$f":"N20","v":2212},{"$f":"COUNTIF(L11:L11,AI20)","v":0},null,null,null,{"$f":"N20","v":2212},{"$f":"COUNTIF(L12:L13,AN20)","v":0},null,null,null,{"$f":"N20","v":2212},{"$f":"COUNTIF(L14:L14,AS20)","v":0}]
[null,null,null,null,null,null,null,null,null,null,null,null,null,2221,{"$f":"COUNTIF($L$7:$L$500,N21)","v":1},{"$f":"O21/$Q$4","v":0.125},{"$f":"IF(P21=0,0,(P21*((LOG(P21))/LOG(2))))","v":-0.375},null,null,{"$f":"N21","v":2221},{"$f":"COUNTIF(L7:L7,T21)","v":0},{"$f":"U21/(W4-U20)","v":0},{"$f":"IF(V21=0,0,(V21*((LOG(V21))/LOG(2))))","v":0},null,{"$f":"N21","v":2221},{"$f":"COUNTIF(L8:L9,Y21)","v":1},{"$f":"Z21/(AB4-Z20)","v":0.5},{"$f":"IF(AA21=0,0,(AA21*((LOG(AA21))/LOG(2))))","v":-0.5},null,{"$f":"N21","v":2221},{"$f":"COUNTIF(L10:L10,AD21)","v":0},{"$f":"AE21/(AG4-AE20)","v":0},{"$f":"IF(AF21=0,0,(AF21*((LOG(AF21))/LOG(2))))","v":0},null,{"$f":"N21","v":2221},{"$f":"COUNTIF(L11:L11,AI21)","v":0},{"$f":"AJ21/(AL4-AJ20)","v":0},{"$f":"IF(AK21=0,0,(AK21*((LOG(AK21))/LOG(2))))","v":0},null,{"$f":"N21","v":2221},{"$f":"COUNTIF(L12:L13,AN21)","v":0},{"$f":"AO21/(AQ4-AO20)","v":0},{"$f":"IF(AP21=0,0,(AP21*((LOG(AP21))/LOG(2))))","v":0},null,{"$f":"N21","v":2221},{"$f":"COUNTIF(L14:L14,AS21)","v":0},{"$f":"AT21/(AV4-AT20)","v":0},{"$f":"IF(AU21=0,0,(AU21*((LOG(AU21))/LOG(2))))","v":0}]
[null,null,null,null,null,null,null,null,null,null,null,null,null,2222,{"$f":"COUNTIF($L$7:$L$500,N22)","v":1},{"$f":"O22/$Q$4","v":0.125},{"$f":"IF(P22=0,0,(P22*((LOG(P22))/LOG(2))))","v":-0.375},null,null,{"$f":"N22","v":2222},{"$f":"COUNTIF(L7:L7,T22)","v":1},{"$f":"U22/(W4-U20)","v":1},{"$f":"IF(V22=0,0,(V22*((LOG(V22))/LOG(2))))","v":0},null,{"$f":"N22","v":2222},{"$f":"COUNTIF(L8:L9,Y22)","v":0},{"$f":"Z22/(AB4-Z20)","v":0},{"$f":"IF(AA22=0,0,(AA22*((LOG(AA22))/LOG(2))))","v":0},null,{"$f":"N22","v":2222},{"$f":"COUNTIF(L10:L10,AD22)","v":0},{"$f":"AE22/(AG4-AE20)","v":0},{"$f":"IF(AF22=0,0,(AF22*((LOG(AF22))/LOG(2))))","v":0},null,{"$f":"N22","v":2222},{"$f":"COUNTIF(L11:L11,AI22)","v":0},{"$f":"AJ22/(AL4-AJ20)","v":0},{"$f":"IF(AK22=0,0,(AK22*((LOG(AK22))/LOG(2))))","v":0},null,{"$f":"N22","v":2222},{"$f":"COUNTIF(L12:L13,AN22)","v":0},{"$f":"AO22/(AQ4-AO20)","v":0},{"$f":"IF(AP22=0,0,(AP22*((LOG(AP22))/LOG(2))))","v":0},null,{"$f":"N22","v":2222},{"$f":"COUNTIF(L14:L14,AS22)","v":0},{"$f":"AT22/(AV4-AT20)","v":0},{"$f":"IF(AU22=0,0,(AU22*((LOG(AU22))/LOG(2))))","v":0}]
[null,null,null,null,null,null,null,null,null,null,null,null,null,null,null,{"$f":"SUM(P7:P22)","v":1},{"$f":"-SUM(Q7:Q22)","v":2.1556390622295662},null,null,null,null,{"$f":"SUM(V7:V22)","v":1},{"$f":"-SUM(W7:W22)","v":0},null,null,null,{"$f":"SUM(AA7:AA22)","v":1},{"$f":"-SUM(AB7:AB22)","v":1},null,null,null,{"$f":"SUM(AF7:AF22)","v":1},{"$f":"-SUM(AG7:AG22)","v":0},null,null,null,{"$f":"SUM(AK7:AK22)","v":1},{"$f":"-SUM(AL7:AL22)","v":0},null,null,null,{"$f":"SUM(AP7:AP22)","v":1},{"$f":"-SUM(AQ7:AQ22)","v":0},null,null,null,{"$f":"SUM(AU7:AU22)","v":1},{"$f":"-SUM(AV7:AV22)","v":0}]
[null,null,null,null,null,null,null,null,null,null,null,null,null,null,null,"U=",{"$f":"Q23/(LOG(Q4)/LOG(2))","v":0.71854635407652212},null,null,null,null,"U1=",{"$f":"W23/(LOG(W4)/LOG(2))","v":{"$error":"#DIV/0!"}},null,null,null,"U2=",{"$f":"AB23/(LOG(AB4)/LOG(2))","v":1},null,null,null,"U3=",{"$f":"AG23/(LOG(AG4)/LOG(2))","v":{"$error":"#DIV/0!"}},null,null,null,"U4=",{"$f":"AL23/(LOG(AL4)/LOG(2))","v":{"$error":"#DIV/0!"}},null,null,null,"U5=",{"$f":"AQ23/(LOG(AQ4)/LOG(2))","v":0},null,null,null,"U6=",{"$f":"AV23/(LOG(AV4)/LOG(2))","v":{"$error":"#DIV/0!"}}]
[]
[]
[null,null,null,null,null,null,null,null,null,null,null,null,null,"Total Target Seq"]
[null,null,null,null,null,null,null,null,null,null,null,null,null,{"$f":"COUNTIF(L7:L14,G3)","v":0},null,1,2,1,1,2,1]
[null,null,null,null,null,null,null,null,null,null,null,null,null,null,null,"% of reinforcement given in 6 equal intervals based on number of trials "]
[null,null,null,null,null,null,null,null,null,null,null,null,null,null,null,"%_1","%_2","%_3","%_4","%_5","%_6"]
[null,null,null,null,null,null,null,null,null,null,null,null,null,null,"target sequence",{"$f":"$G$3","v":2212},{"$f":"$G$3","v":2212},{"$f":"$G$3","v":2212},{"$f":"$G$3","v":2212},{"$f":"$G$3","v":2212},{"$f":"$G$3","v":2212}]
[null,null,null,null,null,null,null,null,null,null,null,null,null,null,"total reinforcement",{"$f":"U20","v":0},{"$f":"Z20","v":0},{"$f":"AE20","v":0},{"$f":"AJ20","v":0},{"$f":"AO20","v":0},{"$f":"AT20","v":0}]
[null,null,null,null,null,null,null,null,null,null,null,null,null,null,"% target"]
[null,null,null,null,null,null,null,null,null,null,null,null,null,null,"CCRF"]
[null,null,null,null,null,null,null,null,null,null,null,null,null,null,"% CCRf"]
[null,null,null,null,null,null,null,null,null,null,null,null,null,null,"average response rate",{"$f":"H7/P28","v":131},{"$f":"(H9-H7)/Q28","v":144.5},{"$f":"(H10-H9)/R28","v":729},{"$f":"(H11-H10)/S28","v":135},{"$f":"(H13-H11)/T28","v":764},{"$f":"(H14-H13)/U28","v":4109}]

{"sheet":"!M121A0T.ayl","index":18,"n_rows":36,"n_cols":48,"rows_kept":36,"cut":false,"hidden":false,"merged":[[4,39,4,42],[5,39,5,40],[4,44,4,47],[5,44,5,45],[4,24,4,27],[5,24,5,25],[4,29,4,32],[5,29,5,30],[4,34,4,37],[5,34,5,35],[1,1,1,2],[5,13,5,14],[26,13,26,14],[27,13,27,14],[4,19,4,22],[5,19,5,20]]}
["Report for:!M121A0T.ayl"]
["Date:","<date>"]
["Hen:","<hen>",null,null,null,"Correct Sequence",{"$f":"Start!J2","v":2212},null,null,null,null,null,null,null,null,"Total Sequences in Data",{"$f":"4994-COUNTBLANK(L7:L5000)","v":11},null,null,null,null,"Total Sequences in Block Data",{"$f":"COUNTA(L7:L8)","v":2},null,null,null,"Total Sequences in Block Data",{"$f":"COUNTA(L9:L10)","v":2},null,null,null,"Total Sequences in Block Data",{"$f":"COUNTA(L11:L11)","v":1},null,null,null,"Total Sequences in Block Data",{"$f":"COUNTA(L12:L13)","v":2},null,null,null,"Total Sequences in Block Data",{"$f":"COUNTA(L14:L15)","v":2},null,null,null,"Total Sequences in Block Data",{"$f":"COUNTA(L16:L17)","v":2}]
[null,null,null,null,null,null,null,null,null,null,null,null,null,null,null,"Total Sequences in Summary",{"$f":"SUM(O7:O22)","v":11},null,null,null,null,"Total Sequences in Block Summary",{"$f":"SUM(U7:U22)","v":2},null,null,null,"Total Sequences in Block Summary",{"$f":"SUM(Z7:Z22)","v":2},null,null,null,"Total Sequences in Block Summary",{"$f":"SUM(AE7:AE22)","v":1},null,null,null,"Total Sequences in Block Summary",{"$f":"SUM(AJ7:AJ22)","v":2},null,null,null,"Total Sequences in Block Summary",{"$f":"SUM(AO7:AO22)","v":2},null,null,null,"Total Sequences in Block Summary",{"$f":"SUM(AT7:AT22)","v":2}]
[null,null,null,null,null,null,null,null,null,null,null,null,null,null,null,null,null,null,null,"Block 1",null,null,null,null,"Block 2",null,null,null,null,"Block 3",null,null,null,null,"Block 4",null,null,null,null,"Block 5",null,null,null,null,"Block 6"]
["Sequence\nComponent\n1","Time\n1","Sequence\nComponent\n2","Time\n2","Sequence\nComponent\n3","Time\n3","Sequence\nComponent\n4","Time\n4","Sequence\nComponent\n5","Time\n5","Correct?\n0=No 1=Yes","Sequence",null,"Frequency",null,"Relative Frequency","Variability",null,null,"Frequency",null,"Relative Frequency","Variability",null,"Frequency",null,"Relative Frequency","Variability",null,"Frequency",null,"Relative Frequency","Variability",null,"Frequency",null,"Relative Frequency","Variability",null,"Frequency",null,"Relative Frequency","Variability",null,"Frequency",null,"Relative Frequency","Variability"]
[12,19,23,28,24,35,23,50,null,null,0,1222,null,1111,{"$f":"COUNTIF($L$7:$L$500,N7)","v":3},{"$f":"O7/$Q$4","v":0.27272727272727271},{"$f":"IF(P7=0,0,(P7*((LOG(P7))/LOG(2))))","v":-0.51121885034076575},null,null,{"$f":"N7","v":1111},{"$f":"COUNTIF(L7:L8,T7)","v":0},{"$f":"U7/(W4-U20)","v":0},{"$f":"IF(V7=0,0,(V7*((LOG(V7))/LOG(2))))","v":0},null,{"$f":"N7","v":1111},{"$f":"COUNTIF(L9:L10,Y7)","v":0},{"$f":"Z7/(AB4-Z20)","v":0},{"$f":"IF(AA7=0,0,(AA7*((LOG(AA7))/LOG(2))))","v":0},null,{"$f":"N7","v":1111},{"$f":"COUNTIF(L11:L11,AD7)","v":1},{"$f":"AE7/(AG4-AE20)","v":1},{"$f":"IF(AF7=0,0,(AF7*((LOG(AF7))/LOG(2))))","v":0},null,{"$f":"N7","v":1111},{"$f":"COUNTIF(L12:L13,AI7)","v":1},{"$f":"AJ7/(AL4-AJ20)","v":0.5},{"$f":"IF(AK7=0,0,(AK7*((LOG(AK7))/LOG(2))))","v":-0.5},null,{"$f":"N7","v":1111},{"$f":"COUNTIF(L14:L15,AN7)","v":1},{"$f":"AO7/(AQ4-AO20)","v":0.5},{"$f":"IF(AP7=0,0,(AP7*((LOG(AP7))/LOG(2))))","v":-0.5},null,{"$f":"N7","v":1111},{"$f":"COUNTIF(L16:L17,AS7)","v":0},{"$f":"AT7/(AV4-AT20)","v":0},{"$f":"IF(AU7=0,0,(AU7*((LOG(AU7))/LOG(2))))","v":0}]
[12,148,14,151,24,162,23,165,null,null,0,1122,null,1112,{"$f":"COUNTIF($L$7:$L$500,N8)","v":2},{"$f":"O8/$Q$4","v":0.18181818181818182},{"$f":"IF(P8=0,0,(P8*((LOG(P8))/LOG(2))))","v":-0.44716938520678134},null,null,{"$f":"N8","v":1112},{"$f":"COUNTIF(L7:L8,T8)","v":0},{"$f":"U8/(W4-U20)","v":0},{"$f":"IF(V8=0,0,(V8*((LOG(V8))/LOG(2))))","v":0},null,{"$f":"N8","v":1112},{"$f":"COUNTIF(L9:L10,Y8)","v":0},{"$f":"Z8/(AB4-Z20)","v":0},{"$f":"IF(AA8=0,0,(AA8*((LOG(AA8))/LOG(2))))","v":0},null,{"$f":"N8","v":1112},{"$f":"COUNTIF(L11:L11,AD8)","v":0},{"$f":"AE8/(AG4-AE20)","v":0},{"$f":"IF(AF8=0,0,(AF8*((LOG(AF8))/LOG(2))))","v":0},null,{"$f":"N8","v":1112},{"$f":"COUNTIF(L12:L13,AI8)","v":0},{"$f":"AJ8/(AL4-AJ20)","v":0},{"$f":"IF(AK8=0,0,(AK8*((LOG(AK8))/LOG(2))))","v":0},null,{"$f":"N8","v":1112},{"$f":"COUNTIF(L14:L15,AN8)","v":1},{"$f":"AO8/(AQ4-AO20)","v":0.5},{"$f":"IF(AP8=0,0,(AP8*((LOG(AP8))/LOG(2))))","v":-0.5},null,{"$f":"N8","v":1112},{"$f":"COUNTIF(L16:L17,AS8)","v":1},{"$f":"AT8/(AV4-AT20)","v":0.5},{"$f":"IF(AU8=0,0,(AU8*((LOG(AU8))/LOG(2))))","v":-0.5}]
[12,390,23,402,24,408,23,412,null,null,0,1222,null,1121,{"$f":"COUNTIF($L$7:$L$500,N9)","v":0},{"$f":"O9/$Q$4","v":0},{"$f":"IF(P9=0,0,(P9*((LOG(P9))/LOG(2))))","v":0},null,null,{"$f":"N9","v":1121},{"$f":"COUNTIF(L7:L8,T9)","v":0},{"$f":"U9/(W4-U20)","v":0},{"$f":"IF(V9=0,0,(V9*((LOG(V9))/LOG(2))))","v":0},null,{"$f":"N9","v":1121},{"$f":"COUNTIF(L9:L10,Y9)","v":0},{"$f":"Z9/(AB4-Z20)","v":0},{"$f":"IF(AA9=0,0,(AA9*((LOG(AA9))/LOG(2))))","v":0},null,{"$f":"N9","v":1121},{"$f":"COUNTIF(L11:L11,AD9)","v":0},{"$f":"AE9/(AG4-AE20)","v":0},{"$f":"IF(AF9=0,0,(AF9*((LOG(AF9))/LOG(2))))","v":0},null,{"$f":"N9","v":1121},{"$f":"COUNTIF(L12:L13,AI9)","v":0},{"$f":"AJ9/(AL4-AJ20)","v":0},{"$f":"IF(AK9=0,0,(AK9*((LOG(AK9))/LOG(2))))","v":0},null,{"$f":"N9","v":1121},{"$f":"COUNTIF(L14:L15,AN9)","v":0},{"$f":"AO9/(AQ4-AO20)","v":0},{"$f":"IF(AP9=0,0,(AP9*((LOG(AP9))/LOG(2))))","v":0},null,{"$f":"N9","v":1121},{"$f":"COUNTIF(L16:L17,AS9)","v":0},{"$f":"AT9/(AV4-AT20)","v":0},{"$f":"IF(AU9=0,0,(AU9*((LOG(AU9))/LOG(2))))","v":0}]
[12,512,23,527,24,530,23,535,null,null,0,1222,null,1122,{"$f":"COUNTIF($L$7:$L$500,N10)","v":2},{"$f":"O10/$Q$4","v":0.18181818181818182},{"$f":"IF(P10=0,0,(P10*((LOG(P10))/LOG(2))))","v":-0.44716938520678134},null,null,{"$f":"N10","v":1122},{"$f":"COUNTIF(L7:L8,T10)","v":1},{"$f":"U10/(W4-U20)","v":0.5},{"$f":"IF(V10=0,0,(V10*((LOG(V10))/LOG(2))))","v":-0.5},null,{"$f":"N10","v":1122},{"$f":"COUNTIF(L9:L10,Y10)","v":0},{"$f":"Z10/(AB4-Z20)","v":0},{"$f":"IF(AA10=0,0,(AA10*((LOG(AA10))/LOG(2))))","v":0},null,{"$f":"N10","v":1122},{"$f":"COUNTIF(L11:L11,AD10)","v":0},{"$f":"AE10/(AG4-AE20)","v":0},{"$f":"IF(AF10=0,0,(AF10*((LOG(AF10))/LOG(2))))","v":0},null,{"$f":"N10","v":1122},{"$f":"COUNTIF(L12:L13,AI10)","v":1},{"$f":"AJ10/(AL4-AJ20)","v":0.5},{"$f":"IF(AK10=0,0,(AK10*((LOG(AK10))/LOG(2))))","v":-0.5},null,{"$f":"N10","v":1122},{"$f":"COUNTIF(L14:L15,AN10)","v":0},{"$f":"AO10/(AQ4-AO20)","v":0},{"$f":"IF(AP10=0,0,(AP10*((LOG(AP10))/LOG(2))))","v":0},null,{"$f":"N10","v":1122},{"$f":"COUNTIF(L16:L17,AS10)","v":0},{"$f":"AT10/(AV4-AT20)","v":0},{"$f":"IF(AU10=0,0,(AU10*((LOG(AU10))/LOG(2))))","v":0}]
[12,657,14,666,13,671,14,677,null,null,0,1111,null,1211,{"$f":"COUNTIF($L$7:$L$500,N11)","v":0},{"$f":"O11/$Q$4","v":0},{"$f":"IF(P11=0,0,(P11*((LOG(P11))/LOG(2))))","v":0},null,null,{"$f":"N11","v":1211},{"$f":"COUNTIF(L7:L8,T11)","v":0},{"$f":"U11/(W4-U20)","v":0},{"$f":"IF(V11=0,0,(V11*((LOG(V11))/LOG(2))))","v":0},null,{"$f":"N11","v":1211},{"$f":"COUNTIF(L9:L10,Y11)","v":0},{"$f":"Z11/(AB4-Z20)","v":0},{"$f":"IF(AA11=0,0,(AA11*((LOG(AA11))/LOG(2))))","v":0},null,{"$f":"N11","v":1211},{"$f":"COUNTIF(L11:L11,AD11)","v":0},{"$f":"AE11/(AG4-AE20)","v":0},{"$f":"IF(AF11=0,0,(AF11*((LOG(AF11))/LOG(2))))","v":0},null,{"$f":"N11","v":1211},{"$f":"COUNTIF(L12:L13,AI11)","v":0},{"$f":"AJ11/(AL4-AJ20)","v":0},{"$f":"IF(AK11=0,0,(AK11*((LOG(AK11))/LOG(2))))","v":0},null,{"$f":"N11","v":1211},{"$f":"COUNTIF(L14:L15,AN11)","v":0},{"$f":"AO11/(AQ4-AO20)","v":0},{"$f":"IF(AP11=0,0,(AP11*((LOG(AP11))/LOG(2))))","v":0},null,{"$f":"N11","v":1211},{"$f":"COUNTIF(L16:L17,AS11)","v":0},{"$f":"AT11/(AV4-AT20)","v":0},{"$f":"IF(AU11=0,0,(AU11*((LOG(AU11))/LOG(2))))","v":0}]
[12,783,14,810,13,815,14,821,null,null,0,1111,null,1212,{"$f":"COUNTIF($L$7:$L$500,N12)","v":0},{"$f":"O12/$Q$4","v":0},{"$f":"IF(P12=0,0,(P12*((LOG(P12))/LOG(2))))","v":0},null,null,{"$f":"N12","v":1212},{"$f":"COUNTIF(L7:L8,T12)","v":0},{"$f":"U12/(W4-U20)","v":0},{"$f":"IF(V12=0,0,(V12*((LOG(V12))/LOG(2))))","v":0},null,{"$f":"N12","v":1212},{"$f":"COUNTIF(L9:L10,Y12)","v":0},{"$f":"Z12/(AB4-Z20)","v":0},{"$f":"IF(AA12=0,0,(AA12*((LOG(AA12))/LOG(2))))","v":0},null,{"$f":"N12","v":1212},{"$f":"COUNTIF(L11:L11,AD12)","v":0},{"$f":"AE12/(AG4-AE20)","v":0},{"$f":"IF(AF12=0,0,(AF12*((LOG(AF12))/LOG(2))))","v":0},null,{"$f":"N12","v":1212},{"$f":"COUNTIF(L12:L13,AI12)","v":0},{"$f":"AJ12/(AL4-AJ20)","v":0},{"$f":"IF(AK12=0,0,(AK12*((LOG(AK12))/LOG(2))))","v":0},null,{"$f":"N12","v":1212},{"$f":"COUNTIF(L14:L15,AN12)","v":0},{"$f":"AO12/(AQ4-AO20)","v":0},{"$f":"IF(AP12=0,0,(AP12*((LOG(AP12))/LOG(2))))","v":0},null,{"$f":"N12","v":1212},{"$f":"COUNTIF(L16:L17,AS12)","v":0},{"$f":"AT12/(AV4-AT20)","v":0},{"$f":"IF(AU12=0,0,(AU12*((LOG(AU12))/LOG(2))))","v":0}]
[12,922,14,925,24,938,23,943,null,null,0,1122,null,1221,{"$f":"COUNTIF($L$7:$L$500,N13)","v":0},{"$f":"O13/$Q$4","v":0},{"$f":"IF(P13=0,0,(P13*((LOG(P13))/LOG(2))))","v":0},null,null,{"$f":"N13","v":1221},{"$f":"COUNTIF(L7:L8,T13)","v":0},{"$f":"U13/(W4-U20)","v":0},{"$f":"IF(V13=0,0,(V13*((LOG(V13))/LOG(2))))","v":0},null,{"$f":"N13","v":1221},{"$f":"COUNTIF(L9:L10,Y13)","v":0},{"$f":"Z13/(AB4-Z20)","v":0},{"$f":"IF(AA13=0,0,(AA13*((LOG(AA13))/LOG(2))))","v":0},null,{"$f":"N13","v":1221},{"$f":"COUNTIF(L11:L11,AD13)","v":0},{"$f":"AE13/(AG4-AE20)","v":0},{"$f":"IF(AF13=0,0,(AF13*((LOG(AF13))/LOG(2))))","v":0},null,{"$f":"N13","v":1221},{"$f":"COUNTIF(L12:L13,AI13)","v":0},{"$f":"AJ13/(AL4-AJ20)","v":0},{"$f":"IF(AK13=0,0,(AK13*((LOG(AK13))/LOG(2))))","v":0},null,{"$f":"N13","v":1221},{"$f":"COUNTIF(L14:L15,AN13)","v":0},{"$f":"AO13/(AQ4-AO20)","v":0},{"$f":"IF(AP13=0,0,(AP13*((LOG(AP13))/LOG(2))))","v":0},null,{"$f":"N13","v":1221},{"$f":"COUNTIF(L16:L17,AS13)","v":0},{"$f":"AT13/(AV4-AT20)","v":0},{"$f":"IF(AU13=0,0,(AU13*((LOG(AU13))/LOG(2))))","v":0}]
[12,1195,14,1199,13,1204,23,1217,null,null,0,1112,null,1222,{"$f":"COUNTIF($L$7:$L$500,N14)","v":4},{"$f":"O14/$Q$4","v":0.36363636363636365},{"$f":"IF(P14=0,0,(P14*((LOG(P14))/LOG(2))))","v":-0.53070240677719893},null,null,{"$f":"N14","v":1222},{"$f":"COUNTIF(L7:L8,T14)","v":1},{"$f":"U14/(W4-U20)","v":0.5},{"$f":"IF(V14=0,0,(V14*((LOG(V14))/LOG(2))))","v":-0.5},null,{"$f":"N14","v":1222},{"$f":"COUNTIF(L9:L10,Y14)","v":2},{"$f":"Z14/(AB4-Z20)","v":1},{"$f":"IF(AA14=0,0,(AA14*((LOG(AA14))/LOG(2))))","v":0},null,{"$f":"N14","v":1222},{"$f":"COUNTIF(L11:L11,AD14)","v":0},{"$f":"AE14/(AG4-AE20)","v":0},{"$f":"IF(AF14=0,0,(AF14*((LOG(AF14))/LOG(2))))","v":0},null,{"$f":"N14","v":1222},{"$f":"COUNTIF(L12:L13,AI14)","v":0},{"$f":"AJ14/(AL4-AJ20)","v":0},{"$f":"IF(AK14=0,0,(AK14*((LOG(AK14))/LOG(2))))","v":0},null,{"$f":"N14","v":1222},{"$f":"COUNTIF(L14:L15,AN14)","v":0},{"$f":"AO14/(AQ4-AO20)","v":0},{"$f":"IF(AP14=0,0,(AP14*((LOG(AP14))/LOG(2))))","v":0},null,{"$f":"N14","v":1222},{"$f":"COUNTIF(L16:L17,AS14)","v":1},{"$f":"AT14/(AV4-AT20)","v":0.5},{"$f":"IF(AU14=0,0,(AU14*((LOG(AU14))/LOG(2))))","v":-0.5}]
[12,1504,14,1537,13,1543,14,1549,null,null,0,1111,null,2111,{"$f":"COUNTIF($L$7:$L$500,N15)","v":0},{"$f":"O15/$Q$4","v":0},{"$f":"IF(P15=0,0,(P15*((LOG(P15))/LOG(2))))","v":0},null,null,{"$f":"N15","v":2111},{"$f":"COUNTIF(L7:L8,T15)","v":0},{"$f":"U15/(W4-U20)","v":0},{"$f":"IF(V15=0,0,(V15*((LOG(V15))/LOG(2))))","v":0},null,{"$f":"N15","v":2111},{"$f":"COUNTIF(L9:L10,Y15)","v":0},{"$f":"Z15/(AB4-Z20)","v":0},{"$f":"IF(AA15=0,0,(AA15*((LOG(AA15))/LOG(2))))","v":0},null,{"$f":"N15","v":2111},{"$f":"COUNTIF(L11:L11,AD15)","v":0},{"$f":"AE15/(AG4-AE20)","v":0},{"$f":"IF(AF15=0,0,(AF15*((LOG(AF15))/LOG(2))))","v":0},null,{"$f":"N15","v":2111},{"$f":"COUNTIF(L12:L13,AI15)","v":0},{"$f":"AJ15/(AL4-AJ20)","v":0},{"$f":"IF(AK15=0,0,(AK15*((LOG(AK15))/LOG(2))))","v":0},null,{"$f":"N15","v":2111},{"$f":"COUNTIF(L14:L15,AN15)","v":0},{"$f":"AO15/(AQ4-AO20)","v":0},{"$f":"IF(AP15=0,0,(AP15*((LOG(AP15))/LOG(2))))","v":0},null,{"$f":"N15","v":2111},{"$f":"COUNTIF(L16:L17,AS15)","v":0},{"$f":"AT15/(AV4-AT20)","v":0},{"$f":"IF(AU15=0,0,(AU15*((LOG(AU15))/LOG(2))))","v":0}]
[12,8207,23,8220,24,8223,23,8229,null,null,0,1222,null,2112,{"$f":"COUNTIF($L$7:$L$500,N16)","v":0},{"$f":"O16/$Q$4","v":0},{"$f":"IF(P16=0,0,(P16*((LOG(P16))/LOG(2))))","v":0},null,null,{"$f":"N16","v":2112},{"$f":"COUNTIF(L7:L8,T16)","v":0},{"$f":"U16/(W4-U20)","v":0},{"$f":"IF(V16=0,0,(V16*((LOG(V16))/LOG(2))))","v":0},null,{"$f":"N16","v":2112},{"$f":"COUNTIF(L9:L10,Y16)","v":0},{"$f":"Z16/(AB4-Z20)","v":0},{"$f":"IF(AA16=0,0,(AA16*((LOG(AA16))/LOG(2))))","v":0},null,{"$f":"N16","v":2112},{"$f":"COUNTIF(L11:L11,AD16)","v":0},{"$f":"AE16/(AG4-AE20)","v":0},{"$f":"IF(AF16=0,0,(AF16*((LOG(AF16))/LOG(2))))","v":0},null,{"$f":"N16","v":2112},{"$f":"COUNTIF(L12:L13,AI16)","v":0},{"$f":"AJ16/(AL4-AJ20)","v":0},{"$f":"IF(AK16=0,0,(AK16*((LOG(AK16))/LOG(2))))","v":0},null,{"$f":"N16","v":2112},{"$f":"COUNTIF(L14:L15,AN16)","v":0},{"$f":"AO16/(AQ4-AO20)","v":0},{"$f":"IF(AP16=0,0,(AP16*((LOG(AP16))/LOG(2))))","v":0},null,{"$f":"N16","v":2112},{"$f":"COUNTIF(L16:L17,AS16)","v":0},{"$f":"AT16/(AV4-AT20)","v":0},{"$f":"IF(AU16=0,0,(AU16*((LOG(AU16))/LOG(2))))","v":0}]
[12,9289,14,21942,13,21945,23,21955,null,null,0,1112,null,2121,{"$f":"COUNTIF($L$7:$L$500,N17)","v":0},{"$f":"O17/$Q$4","v":0},{"$f":"IF(P17=0,0,(P17*((LOG(P17))/LOG(2))))","v":0},null,null,{"$f":"N17","v":2121},{"$f":"COUNTIF(L7:L8,T17)","v":0},{"$f":"U17/(W4-U20)","v":0},{"$f":"IF(V17=0,0,(V17*((LOG(V17))/LOG(2))))","v":0},null,{"$f":"N17","v":2121},{"$f":"COUNTIF(L9:L10,Y17)","v":0},{"$f":"Z17/(AB4-Z20)","v":0},{"$f":"IF(AA17=0,0,(AA17*((LOG(AA17))/LOG(2))))","v":0},null,{"$f":"N17","v":2121},{"$f":"COUNTIF(L11:L11,AD17)","v":0},{"$f":"AE17/(AG4-AE20)","v":0},{"$f":"IF(AF17=0,0,(AF17*((LOG(AF17))/LOG(2))))","v":0},null,{"$f":"N17","v":2121},{"$f":"COUNTIF(L12:L13,AI17)","v":0},{"$f":"AJ17/(AL4-AJ20)","v":0},{"$f":"IF(AK17=0,0,(AK17*((LOG(AK17))/LOG(2))))","v":0},null,{"$f":"N17","v":2121},{"$f":"COUNTIF(L14:L15,AN17)","v":0},{"$f":"AO17/(AQ4-AO20)","v":0},{"$f":"IF(AP17=0,0,(AP17*((LOG(AP17))/LOG(2))))","v":0},null,{"$f":"N17","v":2121},{"$f":"COUNTIF(L16:L17,AS17)","v":0},{"$f":"AT17/(AV4-AT20)","v":0},{"$f":"IF(AU17=0,0,(AU17*((LOG(AU17))/LOG(2))))","v":0}]
[null,null,null,null,null,null,null,null,null,null,null,null,null,2122,{"$f":"COUNTIF($L$7:$L$500,N18)","v":0},{"$f":"O18/$Q$4","v":0},{"$f":"IF(P18=0,0,(P18*((LOG(P18))/LOG(2))))","v":0},null,null,{"$f":"N18","v":2122},{"$f":"COUNTIF(L7:L8,T18)","v":0},{"$f":"U18/(W4-U20)","v":0},{"$f":"IF(V18=0,0,(V18*((LOG(V18))/LOG(2))))","v":0},null,{"$f":"N18","v":2122},{"$f":"COUNTIF(L9:L10,Y18)","v":0},{"$f":"Z18/(AB4-Z20)","v":0},{"$f":"IF(AA18=0,0,(AA18*((LOG(AA18))/LOG(2))))","v":0},null,{"$f":"N18","v":2122},{"$f":"COUNTIF(L11:L11,AD18)","v":0},{"$f":"AE18/(AG4-AE20)","v":0},{"$f":"IF(AF18=0,0,(AF18*((LOG(AF18))/LOG(2))))","v":0},null,{"$f":"N18","v":2122},{"$f":"COUNTIF(L12:L13,AI18)","v":0},{"$f":"AJ18/(AL4-AJ20)","v":0},{"$f":"IF(AK18=0,0,(AK18*((LOG(AK18))/LOG(2))))","v":0},null,{"$f":"N18","v":2122},{"$f":"COUNTIF(L14:L15,AN18)","v":0},{"$f":"AO18/(AQ4-AO20)","v":0},{"$f":"IF(AP18=0,0,(AP18*((LOG(AP18))/LOG(2))))","v":0},null,{"$f":"N18","v":2122},{"$f":"COUNTIF(L16:L17,AS18)","v":0},{"$f":"AT18/(AV4-AT20)","v":0},{"$f":"IF(AU18=0,0,(AU18*((LOG(AU18))/LOG(2))))","v":0}]
[null,null,null,null,null,null,null,null,null,null,null,null,null,2211,{"$f":"COUNTIF($L$7:$L$500,N19)","v":0},{"$f":"O19/$Q$4","v":0},{"$f":"IF(P19=0,0,(P19*((LOG(P19))/LOG(2))))","v":0},null,null,{"$f":"N19","v":2211},{"$f":"COUNTIF(L7:L8,T19)","v":0},{"$f":"U19/(W4-U20)","v":0},{"$f":"IF(V19=0,0,(V19*((LOG(V19))/LOG(2))))","v":0},null,{"$f":"N19","v":2211},{"$f":"COUNTIF(L9:L10,Y19)","v":0},{"$f":"Z19/(AB4-Z20)","v":0},{"$f":"IF(AA19=0,0,(AA19*((LOG(AA19))/LOG(2))))","v":0},null,{"$f":"N19","v":2211},{"$f":"COUNTIF(L11:L11,AD19)","v":0},{"$f":"AE19/(AG4-AE20)","v":0},{"$f":"IF(AF19=0,0,(AF19*((LOG(AF19))/LOG(2))))","v":0},null,{"$f":"N19","v":2211},{"$f":"COUNTIF(L12:L13,AI19)","v":0},{"$f":"AJ19/(AL4-AJ20)","v":0},{"$f":"IF(AK19=0,0,(AK19*((LOG(AK19))/LOG(2))))","v":0},null,{"$f":"N19","v":2211},{"$f":"COUNTIF(L14:L15,AN19)","v":0},{"$f":"AO19/(AQ4-AO20)","v":0},{"$f":"IF(AP19=0,0,(AP19*((LOG(AP19))/LOG(2))))","v":0},null,{"$f":"N19","v":2211},{"$f":"COUNTIF(L16:L17,AS19)","v":0},{"$f":"AT19/(AV4-AT20)","v":0},{"$f":"IF(AU19=0,0,(AU19*((LOG(AU19))/LOG(2))))","v":0}]
[null,null,null,null,null,null,null,null,null,null,null,null,null,2212,{"$f":"COUNTIF($L$7:$L$500,N20)","v":0},{"$f":"O20/$Q$4","v":0},{"$f":"IF(P20=0,0,(P20*((LOG(P20))/LOG(2))))","v":0},null,null,{"$f":"N20","v":2212},{"$f":"COUNTIF(L7:L8,T20)","v":0},null,null,null,{"$f":"N20","v":2212},{"$f":"COUNTIF(L9:L10,Y20)","v":0},null,null,null,{"$f":"N20","v":2212},{"$f":"COUNTIF(L11:L11,AD20)","v":0},null,null,null,{"$f":"N20","v":2212},{"$f":"COUNTIF(L12:L13,AI20)","v":0},null,null,null,{"$f":"N20","v":2212},{"$f":"COUNTIF(L14:L15,AN20)","v":0},null,null,null,{"$f":"N20","v":2212},{"$f":"COUNTIF(L16:L17,AS20)","v":0}]
[null,null,null,null,null,null,null,null,null,null,null,null,null,2221,{"$f":"COUNTIF($L$7:$L$500,N21)","v":0},{"$f":"O21/$Q$4","v":0},{"$f":"IF(P21=0,0,(P21*((LOG(P21))/LOG(2))))","v":0},null,null,{"$f":"N21","v":2221},{"$f":"COUNTIF(L7:L8,T21)","v":0},{"$f":"U21/(W4-U20)","v":0},{"$f":"IF(V21=0,0,(V21*((LOG(V21))/LOG(2))))","v":0},null,{"$f":"N21","v":2221},{"$f":"COUNTIF(L9:L10,Y21)","v":0},{"$f":"Z21/(AB4-Z20)","v":0},{"$f":"IF(AA21=0,0,(AA21*((LOG(AA21))/LOG(2))))","v":0},null,{"$f":"N21","v":2221},{"$f":"COUNTIF(L11:L11,AD21)","v":0},{"$f":"AE21/(AG4-AE20)","v":0},{"$f":"IF(AF21=0,0,(AF21*((LOG(AF21))/LOG(2))))","v":0},null,{"$f":"N21","v":2221},{"$f":"COUNTIF(L12:L13,AI21)","v":0},{"$f":"AJ21/(AL4-AJ20)","v":0},{"$f":"IF(AK21=0,0,(AK21*((LOG(AK21))/LOG(2))))","v":0},null,{"$f":"N21","v":2221},{"$f":"COUNTIF(L14:L15,AN21)","v":0},{"$f":"AO21/(AQ4-AO20)","v":0},{"$f":"IF(AP21=0,0,(AP21*((LOG(AP21))/LOG(2))))","v":0},null,{"$f":"N21","v":2221},{"$f":"COUNTIF(L16:L17,AS21)","v":0},{"$f":"AT21/(AV4-AT20)","v":0},{"$f":"IF(AU21=0,0,(AU21*((LOG(AU21))/LOG(2))))","v":0}]
[null,null,null,null,null,null,null,null,null,null,null,null,null,2222,{"$f":"COUNTIF($L$7:$L$500,N22)","v":0},{"$f":"O22/$Q$4","v":0},{"$f":"IF(P22=0,0,(P22*((LOG(P22))/LOG(2))))","v":0},null,null,{"$f":"N22","v":2222},{"$f":"COUNTIF(L7:L8,T22)","v":0},{"$f":"U22/(W4-U20)","v":0},{"$f":"IF(V22=0,0,(V22*((LOG(V22))/LOG(2))))","v":0},null,{"$f":"N22","v":2222},{"$f":"COUNTIF(L9:L10,Y22)","v":0},{"$f":"Z22/(AB4-Z20)","v":0},{"$f":"IF(AA22=0,0,(AA22*((LOG(AA22))/LOG(2))))","v":0},null,{"$f":"N22","v":2222},{"$f":"COUNTIF(L11:L11,AD22)","v":0},{"$f":"AE22/(AG4-AE20)","v":0},{"$f":"IF(AF22=0,0,(AF22*((LOG(AF22))/LOG(2))))","v":0},null,{"$f":"N22","v":2222},{"$f":"COUNTIF(L12:L13,AI22)","v":0},{"$f":"AJ22/(AL4-AJ20)","v":0},{"$f":"IF(AK22=0,0,(AK22*((LOG(AK22))/LOG(2))))","v":0},null,{"$f":"N22","v":2222},{"$f":"COUNTIF(L14:L15,AN22)","v":0},{"$f":"AO22/(AQ4-AO20)","v":0},{"$f":"IF(AP22=0,0,(AP22*((LOG(AP22))/LOG(2))))","v":0},null,{"$f":"N22","v":2222},{"$f":"COUNTIF(L16:L17,AS22)","v":0},{"$f":"AT22/(AV4-AT20)","v":0},{"$f":"IF(AU22=0,0,(AU22*((LOG(AU22))/LOG(2))))","v":0}]
[null,null,null,null,null,null,null,null,null,null,null,null,null,null,null,{"$f":"SUM(P7:P22)","v":1},{"$f":"-SUM(Q7:Q22)","v":1.9362600275315272},null,null,null,null,{"$f":"SUM(V7:V22)","v":1},{"$f":"-SUM(W7:W22)","v":1},null,null,null,{"$f":"SUM(AA7:AA22)","v":1},{"$f":"-SUM(AB7:AB22)","v":0},null,null,null,{"$f":"SUM(AF7:AF22)","v":1},{"$f":"-SUM(AG7:AG22)","v":0},null,null,null,{"$f":"SUM(AK7:AK22)","v":1},{"$f":"-SUM(AL7:AL22)","v":1},null,null,null,{"$f":"SUM(AP7:AP22)","v":1},{"$f":"-SUM(AQ7:AQ22)","v":1},null,null,null,{"$f":"SUM(AU7:AU22)","v":1},{"$f":"-SUM(AV7:AV22)","v":1}]
[null,null,null,null,null,null,null,null,null,null,null,null,null,null,null,"U=",{"$f":"Q23/(LOG(Q4)/LOG(2))","v":0.55970466856466961},null,null,null,null,"U1=",{"$f":"W23/(LOG(W4)/LOG(2))","v":1},null,null,null,"U2=",{"$f":"AB23/(LOG(AB4)/LOG(2))","v":0},null,null,null,"U3=",{"$f":"AG23/(LOG(AG4)/LOG(2))","v":{"$error":"#DIV/0!"}},null,null,null,"U4=",{"$f":"AL23/(LOG(AL4)/LOG(2))","v":1},null,null,null,"U5=",{"$f":"AQ23/(LOG(AQ4)/LOG(2))","v":1},null,null,null,"U6=",{"$f":"AV23/(LOG(AV4)/LOG(2))","v":1}]
[]
[]
[null,null,null,null,null,null,null,null,null,null,null,null,null,"Total Target Seq"]
[null,null,null,null,null,null,null,null,null,null,null,null,null,{"$f":"COUNTIF(L7:L17,G3)","v":0},null,2,2,1,2,2,2]
[null,null,null,null,null,null,null,null,null,null,null,null,null,null,null,"% of reinforcement given in 6 equal intervals based on number of trials "]
[null,null,null,null,null,null,null,null,null,null,null,null,null,null,null,"%_1","%_2","%_3","%_4","%_5","%_6"]
[null,null,null,null,null,null,null,null,null,null,null,null,null,null,"target sequence",{"$f":"$G$3","v":2212},{"$f":"$G$3","v":2212},{"$f":"$G$3","v":2212},{"$f":"$G$3","v":2212},{"$f":"$G$3","v":2212},{"$f":"$G$3","v":2212}]
[null,null,null,null,null,null,null,null,null,null,null,null,null,null,"total reinforcement",{"$f":"U20","v":0},{"$f":"Z20","v":0},{"$f":"AE20","v":0},{"$f":"AJ20","v":0},{"$f":"AO20","v":0},{"$f":"AT20","v":0}]
[null,null,null,null,null,null,null,null,null,null,null,null,null,null,"% target"]
[null,null,null,null,null,null,null,null,null,null,null,null,null,null,"CCRF"]
[null,null,null,null,null,null,null,null,null,null,null,null,null,null,"% CCRf"]
[null,null,null,null,null,null,null,null,null,null,null,null,null,null,"average response rate",{"$f":"H8/P28","v":82.5},{"$f":"(H10-H8)/Q28","v":185},{"$f":"(H11-H10)/R28","v":142},{"$f":"(H13-H11)/S28","v":133},{"$f":"(H15-H13)/T28","v":303},{"$f":"(H17-H15)/U28","v":10203}]

{"sheet":"!M12295T.ayl","index":19,"n_rows":41,"n_cols":48,"rows_kept":41,"cut":false,"hidden":false,"merged":[[4,39,4,42],[5,39,5,40],[4,44,4,47],[5,44,5,45],[4,24,4,27],[5,24,5,25],[4,29,4,32],[5,29,5,30],[4,34,4,37],[5,34,5,35],[1,1,1,2],[5,13,5,14],[26,13,26,14],[27,13,27,14],[4,19,4,22],[5,19,5,20]]}
["Report for:!M12295T.ayl"]
["Date:","<date>"]
["Hen:","<hen>",null,null,null,"Correct Sequence",{"$f":"Start!J2","v":2212},null,null,null,null,null,null,null,null,"Total Sequences in Data",{"$f":"4994-COUNTBLANK(L7:L5000)","v":35},null,null,null,null,"Total Sequences in Block Data",{"$f":"COUNTA(L7:L12)","v":6},null,null,null,"Total Sequences in Block Data",{"$f":"COUNTA(L13:L18)","v":6},null,null,null,"Total Sequences in Block Data",{"$f":"COUNTA(L19:L23)","v":5},null,null,null,"Total Sequences in Block Data",{"$f":"COUNTA(L24:L29)","v":6},null,null,null,"Total Sequences in Block Data",{"$f":"COUNTA(L30:L35)","v":6},null,null,null,"Total Sequences in Block Data",{"$f":"COUNTA(L36:L41)","v":6}]
[null,null,null,null,null,null,null,null,null,null,null,null,null,null,null,"Total Sequences in Summary",{"$f":"SUM(O7:O22)","v":35},null,null,null,null,"Total Sequences in Block Summary",{"$f":"SUM(U7:U22)","v":6},null,null,null,"Total Sequences in Block Summary",{"$f":"SUM(Z7:Z22)","v":6},null,null,null,"Total Sequences in Block Summary",{"$f":"SUM(AE7:AE22)","v":5},null,null,null,"Total Sequences in Block Summary",{"$f":"SUM(AJ7:AJ22)","v":6},null,null,null,"Total Sequences in Block Summary",{"$f":"SUM(AO7:AO22)","v":6},null,null,null,"Total Sequences in Block Summary",{"$f":"SUM(AT7:AT22)","v":6}]
[null,null,null,null,null,null,null,null,null,null,null,null,null,null,null,null,null,null,null,"Block 1",null,null,null,null,"Block 2",null,null,null,null,"Block 3",null,null,null,null,"Block 4",null,null,null,null,"Block 5",null,null,null,null,"Block 6"]
["Sequence\nComponent\n1","Time\n1","Sequence\nComponent\n2","Time\n2","Sequence\nComponent\n3","Time\n3","Sequence\nComponent\n4","Time\n4","Sequence\nComponent\n5","Time\n5","Correct?\n0=No 1=Yes","Sequence",null,"Frequency",null,"Relative Frequency","Variability",null,null,"Frequency",null,"Relative Frequency","Variability",null,"Frequency",null,"Relative Frequency","Variability",null,"Frequency",null,"Relative Frequency","Variability",null,"Frequency",null,"Relative Frequency","Variability",null,"Frequency",null,"Relative Frequency","Variability",null,"Frequency",null,"Relative Frequency","Variability"]
[12,17,14,21,24,35,23,43,null,null,0,1122,null,1111,{"$f":"COUNTIF($L$7:$L$500,N7)","v":15},{"$f":"O7/$Q$4","v":0.42857142857142855},{"$f":"IF(P7=0,0,(P7*((LOG(P7))/LOG(2))))","v":-0.52388246628704915},null,null,{"$f":"N7","v":1111},{"$f":"COUNTIF(L7:L12,T7)","v":1},{"$f":"U7/(W4-U20)","v":0.16666666666666666},{"$f":"IF(V7=0,0,(V7*((LOG(V7))/LOG(2))))","v":-0.43082708345352599},null,{"$f":"N7","v":1111},{"$f":"COUNTIF(L13:L18,Y7)","v":2},{"$f":"Z7/(AB4-Z20)","v":0.33333333333333331},{"$f":"IF(AA7=0,0,(AA7*((LOG(AA7))/LOG(2))))","v":-0.52832083357371862},null,{"$f":"N7","v":1111},{"$f":"COUNTIF(L19:L23,AD7)","v":3},{"$f":"AE7/(AG4-AE20)","v":0.6},{"$f":"IF(AF7=0,0,(AF7*((LOG(AF7))/LOG(2))))","v":-0.44217935649972373},null,{"$f":"N7","v":1111},{"$f":"COUNTIF(L24:L29,AI7)","v":4},{"$f":"AJ7/(AL4-AJ20)","v":0.66666666666666663},{"$f":"IF(AK7=0,0,(AK7*((LOG(AK7))/LOG(2))))","v":-0.38997500048077083},null,{"$f":"N7","v":1111},{"$f":"COUNTIF(L30:L35,AN7)","v":3},{"$f":"AO7/(AQ4-AO20)","v":0.5},{"$f":"IF(AP7=0,0,(AP7*((LOG(AP7))/LOG(2))))","v":-0.5},null,{"$f":"N7","v":1111},{"$f":"COUNTIF(L36:L41,AS7)","v":2},{"$f":"AT7/(AV4-AT20)","v":0.33333333333333331},{"$f":"IF(AU7=0,0,(AU7*((LOG(AU7))/LOG(2))))","v":-0.52832083357371862}]
[12,160,14,162,24,172,23,183,null,null,0,1122,null,1112,{"$f":"COUNTIF($L$7:$L$500,N8)","v":4},{"$f":"O8/$Q$4","v":0.11428571428571428},{"$f":"IF(P8=0,0,(P8*((LOG(P8))/LOG(2))))","v":-0.35763234479371042},null,null,{"$f":"N8","v":1112},{"$f":"COUNTIF(L7:L12,T8)","v":3},{"$f":"U8/(W4-U20)","v":0.5},{"$f":"IF(V8=0,0,(V8*((LOG(V8))/LOG(2))))","v":-0.5},null,{"$f":"N8","v":1112},{"$f":"COUNTIF(L13:L18,Y8)","v":1},{"$f":"Z8/(AB4-Z20)","v":0.16666666666666666},{"$f":"IF(AA8=0,0,(AA8*((LOG(AA8))/LOG(2))))","v":-0.43082708345352599},null,{"$f":"N8","v":1112},{"$f":"COUNTIF(L19:L23,AD8)","v":0},{"$f":"AE8/(AG4-AE20)","v":0},{"$f":"IF(AF8=0,0,(AF8*((LOG(AF8))/LOG(2))))","v":0},null,{"$f":"N8","v":1112},{"$f":"COUNTIF(L24:L29,AI8)","v":0},{"$f":"AJ8/(AL4-AJ20)","v":0},{"$f":"IF(AK8=0,0,(AK8*((LOG(AK8))/LOG(2))))","v":0},null,{"$f":"N8","v":1112},{"$f":"COUNTIF(L30:L35,AN8)","v":0},{"$f":"AO8/(AQ4-AO20)","v":0},{"$f":"IF(AP8=0,0,(AP8*((LOG(AP8))/LOG(2))))","v":0},null,{"$f":"N8","v":1112},{"$f":"COUNTIF(L36:L41,AS8)","v":0},{"$f":"AT8/(AV4-AT20)","v":0},{"$f":"IF(AU8=0,0,(AU8*((LOG(AU8))/LOG(2))))","v":0}]
[12,283,14,300,13,307,23,320,null,null,0,1112,null,1121,{"$f":"COUNTIF($L$7:$L$500,N9)","v":1},{"$f":"O9/$Q$4","v":2.8571428571428571E-2},{"$f":"IF(P9=0,0,(P9*((LOG(P9))/LOG(2))))","v":-0.14655094334128474},null,null,{"$f":"N9","v":1121},{"$f":"COUNTIF(L7:L12,T9)","v":0},{"$f":"U9/(W4-U20)","v":0},{"$f":"IF(V9=0,0,(V9*((LOG(V9))/LOG(2))))","v":0},null,{"$f":"N9","v":1121},{"$f":"COUNTIF(L13:L18,Y9)","v":0},{"$f":"Z9/(AB4-Z20)","v":0},{"$f":"IF(AA9=0,0,(AA9*((LOG(AA9))/LOG(2))))","v":0},null,{"$f":"N9","v":1121},{"$f":"COUNTIF(L19:L23,AD9)","v":0},{"$f":"AE9/(AG4-AE20)","v":0},{"$f":"IF(AF9=0,0,(AF9*((LOG(AF9))/LOG(2))))","v":0},null,{"$f":"N9","v":1121},{"$f":"COUNTIF(L24:L29,AI9)","v":0},{"$f":"AJ9/(AL4-AJ20)","v":0},{"$f":"IF(AK9=0,0,(AK9*((LOG(AK9))/LOG(2))))","v":0},null,{"$f":"N9","v":1121},{"$f":"COUNTIF(L30:L35,AN9)","v":0},{"$f":"AO9/(AQ4-AO20)","v":0},{"$f":"IF(AP9=0,0,(AP9*((LOG(AP9))/LOG(2))))","v":0},null,{"$f":"N9","v":1121},{"$f":"COUNTIF(L36:L41,AS9)","v":1},{"$f":"AT9/(AV4-AT20)","v":0.16666666666666666},{"$f":"IF(AU9=0,0,(AU9*((LOG(AU9))/LOG(2))))","v":-0.43082708345352599}]
[12,470,14,472,13,478,23,509,null,null,0,1112,null,1122,{"$f":"COUNTIF($L$7:$L$500,N10)","v":6},{"$f":"O10/$Q$4","v":0.17142857142857143},{"$f":"IF(P10=0,0,(P10*((LOG(P10))/LOG(2))))","v":-0.43616923135265318},null,null,{"$f":"N10","v":1122},{"$f":"COUNTIF(L7:L12,T10)","v":2},{"$f":"U10/(W4-U20)","v":0.33333333333333331},{"$f":"IF(V10=0,0,(V10*((LOG(V10))/LOG(2))))","v":-0.52832083357371862},null,{"$f":"N10","v":1122},{"$f":"COUNTIF(L13:L18,Y10)","v":1},{"$f":"Z10/(AB4-Z20)","v":0.16666666666666666},{"$f":"IF(AA10=0,0,(AA10*((LOG(AA10))/LOG(2))))","v":-0.43082708345352599},null,{"$f":"N10","v":1122},{"$f":"COUNTIF(L19:L23,AD10)","v":1},{"$f":"AE10/(AG4-AE20)","v":0.2},{"$f":"IF(AF10=0,0,(AF10*((LOG(AF10))/LOG(2))))","v":-0.46438561897747244},null,{"$f":"N10","v":1122},{"$f":"COUNTIF(L24:L29,AI10)","v":1},{"$f":"AJ10/(AL4-AJ20)","v":0.16666666666666666},{"$f":"IF(AK10=0,0,(AK10*((LOG(AK10))/LOG(2))))","v":-0.43082708345352599},null,{"$f":"N10","v":1122},{"$f":"COUNTIF(L30:L35,AN10)","v":1},{"$f":"AO10/(AQ4-AO20)","v":0.16666666666666666},{"$f":"IF(AP10=0,0,(AP10*((LOG(AP10))/LOG(2))))","v":-0.43082708345352599},null,{"$f":"N10","v":1122},{"$f":"COUNTIF(L36:L41,AS10)","v":0},{"$f":"AT10/(AV4-AT20)","v":0},{"$f":"IF(AU10=0,0,(AU10*((LOG(AU10))/LOG(2))))","v":0}]
[12,650,14,652,13,657,23,668,null,null,0,1112,null,1211,{"$f":"COUNTIF($L$7:$L$500,N11)","v":0},{"$f":"O11/$Q$4","v":0},{"$f":"IF(P11=0,0,(P11*((LOG(P11))/LOG(2))))","v":0},null,null,{"$f":"N11","v":1211},{"$f":"COUNTIF(L7:L12,T11)","v":0},{"$f":"U11/(W4-U20)","v":0},{"$f":"IF(V11=0,0,(V11*((LOG(V11))/LOG(2))))","v":0},null,{"$f":"N11","v":1211},{"$f":"COUNTIF(L13:L18,Y11)","v":0},{"$f":"Z11/(AB4-Z20)","v":0},{"$f":"IF(AA11=0,0,(AA11*((LOG(AA11))/LOG(2))))","v":0},null,{"$f":"N11","v":1211},{"$f":"COUNTIF(L19:L23,AD11)","v":0},{"$f":"AE11/(AG4-AE20)","v":0},{"$f":"IF(AF11=0,0,(AF11*((LOG(AF11))/LOG(2))))","v":0},null,{"$f":"N11","v":1211},{"$f":"COUNTIF(L24:L29,AI11)","v":0},{"$f":"AJ11/(AL4-AJ20)","v":0},{"$f":"IF(AK11=0,0,(AK11*((LOG(AK11))/LOG(2))))","v":0},null,{"$f":"N11","v":1211},{"$f":"COUNTIF(L30:L35,AN11)","v":0},{"$f":"AO11/(AQ4-AO20)","v":0},{"$f":"IF(AP11=0,0,(AP11*((LOG(AP11))/LOG(2))))","v":0},null,{"$f":"N11","v":1211},{"$f":"COUNTIF(L36:L41,AS11)","v":0},{"$f":"AT11/(AV4-AT20)","v":0},{"$f":"IF(AU11=0,0,(AU11*((LOG(AU11))/LOG(2))))","v":0}]
[12,799,14,804,13,809,14,814,null,null,0,1111,null,1212,{"$f":"COUNTIF($L$7:$L$500,N12)","v":0},{"$f":"O12/$Q$4","v":0},{"$f":"IF(P12=0,0,(P12*((LOG(P12))/LOG(2))))","v":0},null,null,{"$f":"N12","v":1212},{"$f":"COUNTIF(L7:L12,T12)","v":0},{"$f":"U12/(W4-U20)","v":0},{"$f":"IF(V12=0,0,(V12*((LOG(V12))/LOG(2))))","v":0},null,{"$f":"N12","v":1212},{"$f":"COUNTIF(L13:L18,Y12)","v":0},{"$f":"Z12/(AB4-Z20)","v":0},{"$f":"IF(AA12=0,0,(AA12*((LOG(AA12))/LOG(2))))","v":0},null,{"$f":"N12","v":1212},{"$f":"COUNTIF(L19:L23,AD12)","v":0},{"$f":"AE12/(AG4-AE20)","v":0},{"$f":"IF(AF12=0,0,(AF12*((LOG(AF12))/LOG(2))))","v":0},null,{"$f":"N12","v":1212},{"$f":"COUNTIF(L24:L29,AI12)","v":0},{"$f":"AJ12/(AL4-AJ20)","v":0},{"$f":"IF(AK12=0,0,(AK12*((LOG(AK12))/LOG(2))))","v":0},null,{"$f":"N12","v":1212},{"$f":"COUNTIF(L30:L35,AN12)","v":0},{"$f":"AO12/(AQ4-AO20)","v":0},{"$f":"IF(AP12=0,0,(AP12*((LOG(AP12))/LOG(2))))","v":0},null,{"$f":"N12","v":1212},{"$f":"COUNTIF(L36:L41,AS12)","v":0},{"$f":"AT12/(AV4-AT20)","v":0},{"$f":"IF(AU12=0,0,(AU12*((LOG(AU12))/LOG(2))))","v":0}]
[12,986,14,990,13,1003,14,1007,null,null,0,1111,null,1221,{"$f":"COUNTIF($L$7:$L$500,N13)","v":0},{"$f":"O13/$Q$4","v":0},{"$f":"IF(P13=0,0,(P13*((LOG(P13))/LOG(2))))","v":0},null,null,{"$f":"N13","v":1221},{"$f":"COUNTIF(L7:L12,T13)","v":0},{"$f":"U13/(W4-U20)","v":0},{"$f":"IF(V13=0,0,(V13*((LOG(V13))/LOG(2))))","v":0},null,{"$f":"N13","v":1221},{"$f":"COUNTIF(L13:L18,Y13)","v":0},{"$f":"Z13/(AB4-Z20)","v":0},{"$f":"IF(AA13=0,0,(AA13*((LOG(AA13))/LOG(2))))","v":0},null,{"$f":"N13","v":1221},{"$f":"COUNTIF(L19:L23,AD13)","v":0},{"$f":"AE13/(AG4-AE20)","v":0},{"$f":"IF(AF13=0,0,(AF13*((LOG(AF13))/LOG(2))))","v":0},null,{"$f":"N13","v":1221},{"$f":"COUNTIF(L24:L29,AI13)","v":0},{"$f":"AJ13/(AL4-AJ20)","v":0},{"$f":"IF(AK13=0,0,(AK13*((LOG(AK13))/LOG(2))))","v":0},null,{"$f":"N13","v":1221},{"$f":"COUNTIF(L30:L35,AN13)","v":0},{"$f":"AO13/(AQ4-AO20)","v":0},{"$f":"IF(AP13=0,0,(AP13*((LOG(AP13))/LOG(2))))","v":0},null,{"$f":"N13","v":1221},{"$f":"COUNTIF(L36:L41,AS13)","v":0},{"$f":"AT13/(AV4-AT20)","v":0},{"$f":"IF(AU13=0,0,(AU13*((LOG(AU13))/LOG(2))))","v":0}]
[21,1110,12,1123,13,1126,14,1143,null,null,0,2111,null,1222,{"$f":"COUNTIF($L$7:$L$500,N14)","v":4},{"$f":"O14/$Q$4","v":0.11428571428571428},{"$f":"IF(P14=0,0,(P14*((LOG(P14))/LOG(2))))","v":-0.35763234479371042},null,null,{"$f":"N14","v":1222},{"$f":"COUNTIF(L7:L12,T14)","v":0},{"$f":"U14/(W4-U20)","v":0},{"$f":"IF(V14=0,0,(V14*((LOG(V14))/LOG(2))))","v":0},null,{"$f":"N14","v":1222},{"$f":"COUNTIF(L13:L18,Y14)","v":1},{"$f":"Z14/(AB4-Z20)","v":0.16666666666666666},{"$f":"IF(AA14=0,0,(AA14*((LOG(AA14))/LOG(2))))","v":-0.43082708345352599},null,{"$f":"N14","v":1222},{"$f":"COUNTIF(L19:L23,AD14)","v":1},{"$f":"AE14/(AG4-AE20)","v":0.2},{"$f":"IF(AF14=0,0,(AF14*((LOG(AF14))/LOG(2))))","v":-0.46438561897747244},null,{"$f":"N14","v":1222},{"$f":"COUNTIF(L24:L29,AI14)","v":0},{"$f":"AJ14/(AL4-AJ20)","v":0},{"$f":"IF(AK14=0,0,(AK14*((LOG(AK14))/LOG(2))))","v":0},null,{"$f":"N14","v":1222},{"$f":"COUNTIF(L30:L35,AN14)","v":2},{"$f":"AO14/(AQ4-AO20)","v":0.33333333333333331},{"$f":"IF(AP14=0,0,(AP14*((LOG(AP14))/LOG(2))))","v":-0.52832083357371862},null,{"$f":"N14","v":1222},{"$f":"COUNTIF(L36:L41,AS14)","v":0},{"$f":"AT14/(AV4-AT20)","v":0},{"$f":"IF(AU14=0,0,(AU14*((LOG(AU14))/LOG(2))))","v":0}]
[12,1245,14,1247,13,1252,23,1265,null,null,0,1112,null,2111,{"$f":"COUNTIF($L$7:$L$500,N15)","v":2},{"$f":"O15/$Q$4","v":5.7142857142857141E-2},{"$f":"IF(P15=0,0,(P15*((LOG(P15))/LOG(2))))","v":-0.23595902953971234},null,null,{"$f":"N15","v":2111},{"$f":"COUNTIF(L7:L12,T15)","v":0},{"$f":"U15/(W4-U20)","v":0},{"$f":"IF(V15=0,0,(V15*((LOG(V15))/LOG(2))))","v":0},null,{"$f":"N15","v":2111},{"$f":"COUNTIF(L13:L18,Y15)","v":1},{"$f":"Z15/(AB4-Z20)","v":0.16666666666666666},{"$f":"IF(AA15=0,0,(AA15*((LOG(AA15))/LOG(2))))","v":-0.43082708345352599},null,{"$f":"N15","v":2111},{"$f":"COUNTIF(L19:L23,AD15)","v":0},{"$f":"AE15/(AG4-AE20)","v":0},{"$f":"IF(AF15=0,0,(AF15*((LOG(AF15))/LOG(2))))","v":0},null,{"$f":"N15","v":2111},{"$f":"COUNTIF(L24:L29,AI15)","v":0},{"$f":"AJ15/(AL4-AJ20)","v":0},{"$f":"IF(AK15=0,0,(AK15*((LOG(AK15))/LOG(2))))","v":0},null,{"$f":"N15","v":2111},{"$f":"COUNTIF(L30:L35,AN15)","v":0},{"$f":"AO15/(AQ4-AO20)","v":0},{"$f":"IF(AP15=0,0,(AP15*((LOG(AP15))/LOG(2))))","v":0},null,{"$f":"N15","v":2111},{"$f":"COUNTIF(L36:L41,AS15)","v":1},{"$f":"AT15/(AV4-AT20)","v":0.16666666666666666},{"$f":"IF(AU15=0,0,(AU15*((LOG(AU15))/LOG(2))))","v":-0.43082708345352599}]
[12,1370,23,1390,24,1394,23,1423,null,null,0,1222,null,2112,{"$f":"COUNTIF($L$7:$L$500,N16)","v":0},{"$f":"O16/$Q$4","v":0},{"$f":"IF(P16=0,0,(P16*((LOG(P16))/LOG(2))))","v":0},null,null,{"$f":"N16","v":2112},{"$f":"COUNTIF(L7:L12,T16)","v":0},{"$f":"U16/(W4-U20)","v":0},{"$f":"IF(V16=0,0,(V16*((LOG(V16))/LOG(2))))","v":0},null,{"$f":"N16","v":2112},{"$f":"COUNTIF(L13:L18,Y16)","v":0},{"$f":"Z16/(AB4-Z20)","v":0},{"$f":"IF(AA16=0,0,(AA16*((LOG(AA16))/LOG(2))))","v":0},null,{"$f":"N16","v":2112},{"$f":"COUNTIF(L19:L23,AD16)","v":0},{"$f":"AE16/(AG4-AE20)","v":0},{"$f":"IF(AF16=0,0,(AF16*((LOG(AF16))/LOG(2))))","v":0},null,{"$f":"N16","v":2112},{"$f":"COUNTIF(L24:L29,AI16)","v":0},{"$f":"AJ16/(AL4-AJ20)","v":0},{"$f":"IF(AK16=0,0,(AK16*((LOG(AK16))/LOG(2))))","v":0},null,{"$f":"N16","v":2112},{"$f":"COUNTIF(L30:L35,AN16)","v":0},{"$f":"AO16/(AQ4-AO20)","v":0},{"$f":"IF(AP16=0,0,(AP16*((LOG(AP16))/LOG(2))))","v":0},null,{"$f":"N16","v":2112},{"$f":"COUNTIF(L36:L41,AS16)","v":0},{"$f":"AT16/(AV4-AT20)","v":0},{"$f":"IF(AU16=0,0,(AU16*((LOG(AU16))/LOG(2))))","v":0}]
[12,1524,14,1527,24,1536,23,1539,null,null,0,1122,null,2121,{"$f":"COUNTIF($L$7:$L$500,N17)","v":0},{"$f":"O17/$Q$4","v":0},{"$f":"IF(P17=0,0,(P17*((LOG(P17))/LOG(2))))","v":0},null,null,{"$f":"N17","v":2121},{"$f":"COUNTIF(L7:L12,T17)","v":0},{"$f":"U17/(W4-U20)","v":0},{"$f":"IF(V17=0,0,(V17*((LOG(V17))/LOG(2))))","v":0},null,{"$f":"N17","v":2121},{"$f":"COUNTIF(L13:L18,Y17)","v":0},{"$f":"Z17/(AB4-Z20)","v":0},{"$f":"IF(AA17=0,0,(AA17*((LOG(AA17))/LOG(2))))","v":0},null,{"$f":"N17","v":2121},{"$f":"COUNTIF(L19:L23,AD17)","v":0},{"$f":"AE17/(AG4-AE20)","v":0},{"$f":"IF(AF17=0,0,(AF17*((LOG(AF17))/LOG(2))))","v":0},null,{"$f":"N17","v":2121},{"$f":"COUNTIF(L24:L29,AI17)","v":0},{"$f":"AJ17/(AL4-AJ20)","v":0},{"$f":"IF(AK17=0,0,(AK17*((LOG(AK17))/LOG(2))))","v":0},null,{"$f":"N17","v":2121},{"$f":"COUNTIF(L30:L35,AN17)","v":0},{"$f":"AO17/(AQ4-AO20)","v":0},{"$f":"IF(AP17=0,0,(AP17*((LOG(AP17))/LOG(2))))","v":0},null,{"$f":"N17","v":2121},{"$f":"COUNTIF(L36:L41,AS17)","v":0},{"$f":"AT17/(AV4-AT20)","v":0},{"$f":"IF(AU17=0,0,(AU17*((LOG(AU17))/LOG(2))))","v":0}]
[12,1637,14,1640,13,1650,14,1659,null,null,0,1111,null,2122,{"$f":"COUNTIF($L$7:$L$500,N18)","v":1},{"$f":"O18/$Q$4","v":2.8571428571428571E-2},{"$f":"IF(P18=0,0,(P18*((LOG(P18))/LOG(2))))","v":-0.14655094334128474},null,null,{"$f":"N18","v":2122},{"$f":"COUNTIF(L7:L12,T18)","v":0},{"$f":"U18/(W4-U20)","v":0},{"$f":"IF(V18=0,0,(V18*((LOG(V18))/LOG(2))))","v":0},null,{"$f":"N18","v":2122},{"$f":"COUNTIF(L13:L18,Y18)","v":0},{"$f":"Z18/(AB4-Z20)","v":0},{"$f":"IF(AA18=0,0,(AA18*((LOG(AA18))/LOG(2))))","v":0},null,{"$f":"N18","v":2122},{"$f":"COUNTIF(L19:L23,AD18)","v":0},{"$f":"AE18/(AG4-AE20)","v":0},{"$f":"IF(AF18=0,0,(AF18*((LOG(AF18))/LOG(2))))","v":0},null,{"$f":"N18","v":2122},{"$f":"COUNTIF(L24:L29,AI18)","v":0},{"$f":"AJ18/(AL4-AJ20)","v":0},{"$f":"IF(AK18=0,0,(AK18*((LOG(AK18))/LOG(2))))","v":0},null,{"$f":"N18","v":2122},{"$f":"COUNTIF(L30:L35,AN18)","v":0},{"$f":"AO18/(AQ4-AO20)","v":0},{"$f":"IF(AP18=0,0,(AP18*((LOG(AP18))/LOG(2))))","v":0},null,{"$f":"N18","v":2122},{"$f":"COUNTIF(L36:L41,AS18)","v":1},{"$f":"AT18/(AV4-AT20)","v":0.16666666666666666},{"$f":"IF(AU18=0,0,(AU18*((LOG(AU18))/LOG(2))))","v":-0.43082708345352599}]
[12,1775,14,1780,13,1782,14,1787,null,null,0,1111,null,2211,{"$f":"COUNTIF($L$7:$L$500,N19)","v":2},{"$f":"O19/$Q$4","v":5.7142857142857141E-2},{"$f":"IF(P19=0,0,(P19*((LOG(P19))/LOG(2))))","v":-0.23595902953971234},null,null,{"$f":"N19","v":2211},{"$f":"COUNTIF(L7:L12,T19)","v":0},{"$f":"U19/(W4-U20)","v":0},{"$f":"IF(V19=0,0,(V19*((LOG(V19))/LOG(2))))","v":0},null,{"$f":"N19","v":2211},{"$f":"COUNTIF(L13:L18,Y19)","v":0},{"$f":"Z19/(AB4-Z20)","v":0},{"$f":"IF(AA19=0,0,(AA19*((LOG(AA19))/LOG(2))))","v":0},null,{"$f":"N19","v":2211},{"$f":"COUNTIF(L19:L23,AD19)","v":0},{"$f":"AE19/(AG4-AE20)","v":0},{"$f":"IF(AF19=0,0,(AF19*((LOG(AF19))/LOG(2))))","v":0},null,{"$f":"N19","v":2211},{"$f":"COUNTIF(L24:L29,AI19)","v":1},{"$f":"AJ19/(AL4-AJ20)","v":0.16666666666666666},{"$f":"IF(AK19=0,0,(AK19*((LOG(AK19))/LOG(2))))","v":-0.43082708345352599},null,{"$f":"N19","v":2211},{"$f":"COUNTIF(L30:L35,AN19)","v":0},{"$f":"AO19/(AQ4-AO20)","v":0},{"$f":"IF(AP19=0,0,(AP19*((LOG(AP19))/LOG(2))))","v":0},null,{"$f":"N19","v":2211},{"$f":"COUNTIF(L36:L41,AS19)","v":1},{"$f":"AT19/(AV4-AT20)","v":0.16666666666666666},{"$f":"IF(AU19=0,0,(AU19*((LOG(AU19))/LOG(2))))","v":-0.43082708345352599}]
[12,1889,14,1892,24,1900,23,1905,null,null,0,1122,null,2212,{"$f":"COUNTIF($L$7:$L$500,N20)","v":0},{"$f":"O20/$Q$4","v":0},{"$f":"IF(P20=0,0,(P20*((LOG(P20))/LOG(2))))","v":0},null,null,{"$f":"N20","v":2212},{"$f":"COUNTIF(L7:L12,T20)","v":0},null,null,null,{"$f":"N20","v":2212},{"$f":"COUNTIF(L13:L18,Y20)","v":0},null,null,null,{"$f":"N20","v":2212},{"$f":"COUNTIF(L19:L23,AD20)","v":0},null,null,null,{"$f":"N20","v":2212},{"$f":"COUNTIF(L24:L29,AI20)","v":0},null,null,null,{"$f":"N20","v":2212},{"$f":"COUNTIF(L30:L35,AN20)","v":0},null,null,null,{"$f":"N20","v":2212},{"$f":"COUNTIF(L36:L41,AS20)","v":0}]
[12,2106,14,2109,13,2113,14,2115,null,null,0,1111,null,2221,{"$f":"COUNTIF($L$7:$L$500,N21)","v":0},{"$f":"O21/$Q$4","v":0},{"$f":"IF(P21=0,0,(P21*((LOG(P21))/LOG(2))))","v":0},null,null,{"$f":"N21","v":2221},{"$f":"COUNTIF(L7:L12,T21)","v":0},{"$f":"U21/(W4-U20)","v":0},{"$f":"IF(V21=0,0,(V21*((LOG(V21))/LOG(2))))","v":0},null,{"$f":"N21","v":2221},{"$f":"COUNTIF(L13:L18,Y21)","v":0},{"$f":"Z21/(AB4-Z20)","v":0},{"$f":"IF(AA21=0,0,(AA21*((LOG(AA21))/LOG(2))))","v":0},null,{"$f":"N21","v":2221},{"$f":"COUNTIF(L19:L23,AD21)","v":0},{"$f":"AE21/(AG4-AE20)","v":0},{"$f":"IF(AF21=0,0,(AF21*((LOG(AF21))/LOG(2))))","v":0},null,{"$f":"N21","v":2221},{"$f":"COUNTIF(L24:L29,AI21)","v":0},{"$f":"AJ21/(AL4-AJ20)","v":0},{"$f":"IF(AK21=0,0,(AK21*((LOG(AK21))/LOG(2))))","v":0},null,{"$f":"N21","v":2221},{"$f":"COUNTIF(L30:L35,AN21)","v":0},{"$f":"AO21/(AQ4-AO20)","v":0},{"$f":"IF(AP21=0,0,(AP21*((LOG(AP21))/LOG(2))))","v":0},null,{"$f":"N21","v":2221},{"$f":"COUNTIF(L36:L41,AS21)","v":0},{"$f":"AT21/(AV4-AT20)","v":0},{"$f":"IF(AU21=0,0,(AU21*((LOG(AU21))/LOG(2))))","v":0}]
[12,2217,23,2230,24,2237,23,2245,null,null,0,1222,null,2222,{"$f":"COUNTIF($L$7:$L$500,N22)","v":0},{"$f":"O22/$Q$4","v":0},{"$f":"IF(P22=0,0,(P22*((LOG(P22))/LOG(2))))","v":0},null,null,{"$f":"N22","v":2222},{"$f":"COUNTIF(L7:L12,T22)","v":0},{"$f":"U22/(W4-U20)","v":0},{"$f":"IF(V22=0,0,(V22*((LOG(V22))/LOG(2))))","v":0},null,{"$f":"N22","v":2222},{"$f":"COUNTIF(L13:L18,Y22)","v":0},{"$f":"Z22/(AB4-Z20)","v":0},{"$f":"IF(AA22=0,0,(AA22*((LOG(AA22))/LOG(2))))","v":0},null,{"$f":"N22","v":2222},{"$f":"COUNTIF(L19:L23,AD22)","v":0},{"$f":"AE22/(AG4-AE20)","v":0},{"$f":"IF(AF22=0,0,(AF22*((LOG(AF22))/LOG(2))))","v":0},null,{"$f":"N22","v":2222},{"$f":"COUNTIF(L24:L29,AI22)","v":0},{"$f":"AJ22/(AL4-AJ20)","v":0},{"$f":"IF(AK22=0,0,(AK22*((LOG(AK22))/LOG(2))))","v":0},null,{"$f":"N22","v":2222},{"$f":"COUNTIF(L30:L35,AN22)","v":0},{"$f":"AO22/(AQ4-AO20)","v":0},{"$f":"IF(AP22=0,0,(AP22*((LOG(AP22))/LOG(2))))","v":0},null,{"$f":"N22","v":2222},{"$f":"COUNTIF(L36:L41,AS22)","v":0},{"$f":"AT22/(AV4-AT20)","v":0},{"$f":"IF(AU22=0,0,(AU22*((LOG(AU22))/LOG(2))))","v":0}]
[12,2366,14,2369,13,2383,14,2389,null,null,0,1111,null,null,null,{"$f":"SUM(P7:P22)","v":1},{"$f":"-SUM(Q7:Q22)","v":2.4403363329891175},null,null,null,null,{"$f":"SUM(V7:V22)","v":1},{"$f":"-SUM(W7:W22)","v":1.4591479170272446},null,null,null,{"$f":"SUM(AA7:AA22)","v":0.99999999999999989},{"$f":"-SUM(AB7:AB22)","v":2.2516291673878226},null,null,null,{"$f":"SUM(AF7:AF22)","v":1},{"$f":"-SUM(AG7:AG22)","v":1.3709505944546687},null,null,null,{"$f":"SUM(AK7:AK22)","v":0.99999999999999989},{"$f":"-SUM(AL7:AL22)","v":1.2516291673878228},null,null,null,{"$f":"SUM(AP7:AP22)","v":1},{"$f":"-SUM(AQ7:AQ22)","v":1.4591479170272446},null,null,null,{"$f":"SUM(AU7:AU22)","v":0.99999999999999989},{"$f":"-SUM(AV7:AV22)","v":2.2516291673878226}]
[12,2506,14,2508,13,2514,14,2519,null,null,0,1111,null,null,null,"U=",{"$f":"Q23/(LOG(Q4)/LOG(2))","v":0.47576558457142754},null,null,null,null,"U1=",{"$f":"W23/(LOG(W4)/LOG(2))","v":0.56447546787242353},null,null,null,"U2=",{"$f":"AB23/(LOG(AB4)/LOG(2))","v":0.87104906425515272},null,null,null,"U3=",{"$f":"AG23/(LOG(AG4)/LOG(2))","v":0.5904362833084088},null,null,null,"U4=",{"$f":"AL23/(LOG(AL4)/LOG(2))","v":0.4841962570206112},null,null,null,"U5=",{"$f":"AQ23/(LOG(AQ4)/LOG(2))","v":0.56447546787242353},null,null,null,"U6=",{"$f":"AV23/(LOG(AV4)/LOG(2))","v":0.87104906425515272}]
[12,2709,14,2727,13,2733,14,2738,null,null,0,1111]
[12,2838,14,2842,13,2845,14,2851,null,null,0,1111]
[21,2962,21,2971,11,2979,12,2982,null,null,0,2211,null,"Total Target Seq"]
[12,3160,14,3165,24,3174,23,3179,null,null,0,1122,null,{"$f":"COUNTIF(L7:L41,G3)","v":0},null,6,6,5,6,6,6]
[12,3771,14,3776,13,3781,14,3787,null,null,0,1111,null,null,null,"% of reinforcement given in 6 equal intervals based on number of trials "]
[12,3888,14,3890,13,3894,14,3901,null,null,0,1111,null,null,null,"%_1","%_2","%_3","%_4","%_5","%_6"]
[12,4019,14,4023,13,4071,14,4073,null,null,0,1111,null,null,"target sequence",{"$f":"$G$3","v":2212},{"$f":"$G$3","v":2212},{"$f":"$G$3","v":2212},{"$f":"$G$3","v":2212},{"$f":"$G$3","v":2212},{"$f":"$G$3","v":2212}]
[12,4594,23,4605,24,4607,23,4614,null,null,0,1222,null,null,"total reinforcement",{"$f":"U20","v":0},{"$f":"Z20","v":0},{"$f":"AE20","v":0},{"$f":"AJ20","v":0},{"$f":"AO20","v":0},{"$f":"AT20","v":0}]
[12,6595,14,6603,24,6619,23,6625,null,null,0,1122,null,null,"% target"]
[12,9020,23,9040,24,9044,23,9051,null,null,0,1222,null,null,"CCRF"]
[12,9211,14,9231,13,9236,14,9242,null,null,0,1111,null,null,"% CCRf"]
[21,11522,21,11530,11,11533,12,11539,null,null,0,2211,null,null,"average response rate",{"$f":"H12/P28","v":135.66666666666666},{"$f":"(H18-H12)/Q28","v":140.83333333333334},{"$f":"(H23-H18)/R28","v":146},{"$f":"(H29-H23)/S28","v":233},{"$f":"(H35-H29)/T28","v":909.16666666666663},{"$f":"(H41-H35)/U28","v":1874.5}]
[21,13114,12,13151,24,13164,23,13171,null,null,0,2122]
[12,13382,14,13388,13,13393,14,13398,null,null,0,1111]
[12,13641,14,13645,13,13648,14,13651,null,null,0,1111]
[21,13933,12,13942,13,13944,14,13951,null,null,0,2111]
[12,20443,14,20454,24,20467,14,20489,null,null,0,1121]

{"sheet":"!M124B1T.ayl","index":20,"n_rows":36,"n_cols":48,"rows_kept":36,"cut":false,"hidden":false,"merged":[[4,39,4,42],[5,39,5,40],[4,44,4,47],[5,44,5,45],[4,24,4,27],[5,24,5,25],[4,29,4,32],[5,29,5,30],[4,34,4,37],[5,34,5,35],[1,1,1,2],[5,13,5,14],[26,13,26,14],[27,13,27,14],[4,19,4,22],[5,19,5,20]]}
["Report for:!M124B1T.ayl"]
["Date:","<date>"]
["Hen:","<hen>",null,null,null,"Correct Sequence",{"$f":"Start!J2","v":2212},null,null,null,null,null,null,null,null,"Total Sequences in Data",{"$f":"4994-COUNTBLANK(L7:L5000)","v":22},null,null,null,null,"Total Sequences in Block Data",{"$f":"COUNTA(L7:L10)","v":4},null,null,null,"Total Sequences in Block Data",{"$f":"COUNTA(L11:L13)","v":3},null,null,null,"Total Sequences in Block Data",{"$f":"COUNTA(L14:L17)","v":4},null,null,null,"Total Sequences in Block Data",{"$f":"COUNTA(L18:L21)","v":4},null,null,null,"Total Sequences in Block Data",{"$f":"COUNTA(L22:L24)","v":3},null,null,null,"Total Sequences in Block Data",{"$f":"COUNTA(L25:L28)","v":4}]
[null,null,null,null,null,null,null,null,null,null,null,null,null,null,null,"Total Sequences in Summary",{"$f":"SUM(O7:O22)","v":21},null,null,null,null,"Total Sequences in Block Summary",{"$f":"SUM(U7:U22)","v":4},null,null,null,"Total Sequences in Block Summary",{"$f":"SUM(Z7:Z22)","v":3},null,null,null,"Total Sequences in Block Summary",{"$f":"SUM(AE7:AE22)","v":4},null,null,null,"Total Sequences in Block Summary",{"$f":"SUM(AJ7:AJ22)","v":4},null,null,null,"Total Sequences in Block Summary",{"$f":"SUM(AO7:AO22)","v":3},null,null,null,"Total Sequences in Block Summary",{"$f":"SUM(AT7:AT22)","v":3}]
[null,null,null,null,null,null,null,null,null,null,null,null,null,null,null,null,null,null,null,"Block 1",null,null,null,null,"Block 2",null,null,null,null,"Block 3",null,null,null,null,"Block 4",null,null,null,null,"Block 5",null,null,null,null,"Block 6"]
["Sequence\nComponent\n1","Time\n1","Sequence\nComponent\n2","Time\n2","Sequence\nComponent\n3","Time\n3","Sequence\nComponent\n4","Time\n4","Sequence\nComponent\n5","Time\n5","Correct?\n0=No 1=Yes","Sequence",null,"Frequency",null,"Relative Frequency","Variability",null,null,"Frequency",null,"Relative Frequency","Variability",null,"Frequency",null,"Relative Frequency","Variability",null,"Frequency",null,"Relative Frequency","Variability",null,"Frequency",null,"Relative Frequency","Variability",null,"Frequency",null,"Relative Frequency","Variability",null,"Frequency",null,"Relative Frequency","Variability"]
[12,12,14,15,24,26,23,31,null,null,0,1122,null,1111,{"$f":"COUNTIF($L$7:$L$500,N7)","v":8},{"$f":"O7/$Q$4","v":0.38095238095238093},{"$f":"IF(P7=0,0,(P7*((LOG(P7))/LOG(2))))","v":-0.53040663724905157},null,null,{"$f":"N7","v":1111},{"$f":"COUNTIF(L7:L10,T7)","v":2},{"$f":"U7/(W4-U20)","v":0.5},{"$f":"IF(V7=0,0,(V7*((LOG(V7))/LOG(2))))","v":-0.5},null,{"$f":"N7","v":1111},{"$f":"COUNTIF(L11:L13,Y7)","v":2},{"$f":"Z7/(AB4-Z20)","v":0.66666666666666663},{"$f":"IF(AA7=0,0,(AA7*((LOG(AA7))/LOG(2))))","v":-0.38997500048077083},null,{"$f":"N7","v":1111},{"$f":"COUNTIF(L14:L17,AD7)","v":2},{"$f":"AE7/(AG4-AE20)","v":0.5},{"$f":"IF(AF7=0,0,(AF7*((LOG(AF7))/LOG(2))))","v":-0.5},null,{"$f":"N7","v":1111},{"$f":"COUNTIF(L18:L21,AI7)","v":1},{"$f":"AJ7/(AL4-AJ20)","v":0.25},{"$f":"IF(AK7=0,0,(AK7*((LOG(AK7))/LOG(2))))","v":-0.5},null,{"$f":"N7","v":1111},{"$f":"COUNTIF(L22:L24,AN7)","v":1},{"$f":"AO7/(AQ4-AO20)","v":0.33333333333333331},{"$f":"IF(AP7=0,0,(AP7*((LOG(AP7))/LOG(2))))","v":-0.52832083357371862},null,{"$f":"N7","v":1111},{"$f":"COUNTIF(L25:L28,AS7)","v":0},{"$f":"AT7/(AV4-AT20)","v":0},{"$f":"IF(AU7=0,0,(AU7*((LOG(AU7))/LOG(2))))","v":0}]
[12,159,14,162,13,168,14,172,null,null,0,1111,null,1112,{"$f":"COUNTIF($L$7:$L$500,N8)","v":2},{"$f":"O8/$Q$4","v":9.5238095238095233E-2},{"$f":"IF(P8=0,0,(P8*((LOG(P8))/LOG(2))))","v":-0.32307784978845333},null,null,{"$f":"N8","v":1112},{"$f":"COUNTIF(L7:L10,T8)","v":0},{"$f":"U8/(W4-U20)","v":0},{"$f":"IF(V8=0,0,(V8*((LOG(V8))/LOG(2))))","v":0},null,{"$f":"N8","v":1112},{"$f":"COUNTIF(L11:L13,Y8)","v":0},{"$f":"Z8/(AB4-Z20)","v":0},{"$f":"IF(AA8=0,0,(AA8*((LOG(AA8))/LOG(2))))","v":0},null,{"$f":"N8","v":1112},{"$f":"COUNTIF(L14:L17,AD8)","v":1},{"$f":"AE8/(AG4-AE20)","v":0.25},{"$f":"IF(AF8=0,0,(AF8*((LOG(AF8))/LOG(2))))","v":-0.5},null,{"$f":"N8","v":1112},{"$f":"COUNTIF(L18:L21,AI8)","v":0},{"$f":"AJ8/(AL4-AJ20)","v":0},{"$f":"IF(AK8=0,0,(AK8*((LOG(AK8))/LOG(2))))","v":0},null,{"$f":"N8","v":1112},{"$f":"COUNTIF(L22:L24,AN8)","v":0},{"$f":"AO8/(AQ4-AO20)","v":0},{"$f":"IF(AP8=0,0,(AP8*((LOG(AP8))/LOG(2))))","v":0},null,{"$f":"N8","v":1112},{"$f":"COUNTIF(L25:L28,AS8)","v":1},{"$f":"AT8/(AV4-AT20)","v":0.33333333333333331},{"$f":"IF(AU8=0,0,(AU8*((LOG(AU8))/LOG(2))))","v":-0.52832083357371862}]
[21,279,21,285,22,291,23,296,null,null,0,2222,null,1121,{"$f":"COUNTIF($L$7:$L$500,N9)","v":0},{"$f":"O9/$Q$4","v":0},{"$f":"IF(P9=0,0,(P9*((LOG(P9))/LOG(2))))","v":0},null,null,{"$f":"N9","v":1121},{"$f":"COUNTIF(L7:L10,T9)","v":0},{"$f":"U9/(W4-U20)","v":0},{"$f":"IF(V9=0,0,(V9*((LOG(V9))/LOG(2))))","v":0},null,{"$f":"N9","v":1121},{"$f":"COUNTIF(L11:L13,Y9)","v":0},{"$f":"Z9/(AB4-Z20)","v":0},{"$f":"IF(AA9=0,0,(AA9*((LOG(AA9))/LOG(2))))","v":0},null,{"$f":"N9","v":1121},{"$f":"COUNTIF(L14:L17,AD9)","v":0},{"$f":"AE9/(AG4-AE20)","v":0},{"$f":"IF(AF9=0,0,(AF9*((LOG(AF9))/LOG(2))))","v":0},null,{"$f":"N9","v":1121},{"$f":"COUNTIF(L18:L21,AI9)","v":0},{"$f":"AJ9/(AL4-AJ20)","v":0},{"$f":"IF(AK9=0,0,(AK9*((LOG(AK9))/LOG(2))))","v":0},null,{"$f":"N9","v":1121},{"$f":"COUNTIF(L22:L24,AN9)","v":0},{"$f":"AO9/(AQ4-AO20)","v":0},{"$f":"IF(AP9=0,0,(AP9*((LOG(AP9))/LOG(2))))","v":0},null,{"$f":"N9","v":1121},{"$f":"COUNTIF(L25:L28,AS9)","v":0},{"$f":"AT9/(AV4-AT20)","v":0},{"$f":"IF(AU9=0,0,(AU9*((LOG(AU9))/LOG(2))))","v":0}]
[12,394,14,418,13,424,14,427,null,null,0,1111,null,1122,{"$f":"COUNTIF($L$7:$L$500,N10)","v":1},{"$f":"O10/$Q$4","v":4.7619047619047616E-2},{"$f":"IF(P10=0,0,(P10*((LOG(P10))/LOG(2))))","v":-0.20915797251327431},null,null,{"$f":"N10","v":1122},{"$f":"COUNTIF(L7:L10,T10)","v":1},{"$f":"U10/(W4-U20)","v":0.25},{"$f":"IF(V10=0,0,(V10*((LOG(V10))/LOG(2))))","v":-0.5},null,{"$f":"N10","v":1122},{"$f":"COUNTIF(L11:L13,Y10)","v":0},{"$f":"Z10/(AB4-Z20)","v":0},{"$f":"IF(AA10=0,0,(AA10*((LOG(AA10))/LOG(2))))","v":0},null,{"$f":"N10","v":1122},{"$f":"COUNTIF(L14:L17,AD10)","v":0},{"$f":"AE10/(AG4-AE20)","v":0},{"$f":"IF(AF10=0,0,(AF10*((LOG(AF10))/LOG(2))))","v":0},null,{"$f":"N10","v":1122},{"$f":"COUNTIF(L18:L21,AI10)","v":0},{"$f":"AJ10/(AL4-AJ20)","v":0},{"$f":"IF(AK10=0,0,(AK10*((LOG(AK10))/LOG(2))))","v":0},null,{"$f":"N10","v":1122},{"$f":"COUNTIF(L22:L24,AN10)","v":0},{"$f":"AO10/(AQ4-AO20)","v":0},{"$f":"IF(AP10=0,0,(AP10*((LOG(AP10))/LOG(2))))","v":0},null,{"$f":"N10","v":1122},{"$f":"COUNTIF(L25:L28,AS10)","v":0},{"$f":"AT10/(AV4-AT20)","v":0},{"$f":"IF(AU10=0,0,(AU10*((LOG(AU10))/LOG(2))))","v":0}]
[12,575,23,588,24,592,23,599,null,null,0,1222,null,1211,{"$f":"COUNTIF($L$7:$L$500,N11)","v":0},{"$f":"O11/$Q$4","v":0},{"$f":"IF(P11=0,0,(P11*((LOG(P11))/LOG(2))))","v":0},null,null,{"$f":"N11","v":1211},{"$f":"COUNTIF(L7:L10,T11)","v":0},{"$f":"U11/(W4-U20)","v":0},{"$f":"IF(V11=0,0,(V11*((LOG(V11))/LOG(2))))","v":0},null,{"$f":"N11","v":1211},{"$f":"COUNTIF(L11:L13,Y11)","v":0},{"$f":"Z11/(AB4-Z20)","v":0},{"$f":"IF(AA11=0,0,(AA11*((LOG(AA11))/LOG(2))))","v":0},null,{"$f":"N11","v":1211},{"$f":"COUNTIF(L14:L17,AD11)","v":0},{"$f":"AE11/(AG4-AE20)","v":0},{"$f":"IF(AF11=0,0,(AF11*((LOG(AF11))/LOG(2))))","v":0},null,{"$f":"N11","v":1211},{"$f":"COUNTIF(L18:L21,AI11)","v":0},{"$f":"AJ11/(AL4-AJ20)","v":0},{"$f":"IF(AK11=0,0,(AK11*((LOG(AK11))/LOG(2))))","v":0},null,{"$f":"N11","v":1211},{"$f":"COUNTIF(L22:L24,AN11)","v":0},{"$f":"AO11/(AQ4-AO20)","v":0},{"$f":"IF(AP11=0,0,(AP11*((LOG(AP11))/LOG(2))))","v":0},null,{"$f":"N11","v":1211},{"$f":"COUNTIF(L25:L28,AS11)","v":0},{"$f":"AT11/(AV4-AT20)","v":0},{"$f":"IF(AU11=0,0,(AU11*((LOG(AU11))/LOG(2))))","v":0}]
[12,697,14,705,13,717,14,723,null,null,0,1111,null,1212,{"$f":"COUNTIF($L$7:$L$500,N12)","v":0},{"$f":"O12/$Q$4","v":0},{"$f":"IF(P12=0,0,(P12*((LOG(P12))/LOG(2))))","v":0},null,null,{"$f":"N12","v":1212},{"$f":"COUNTIF(L7:L10,T12)","v":0},{"$f":"U12/(W4-U20)","v":0},{"$f":"IF(V12=0,0,(V12*((LOG(V12))/LOG(2))))","v":0},null,{"$f":"N12","v":1212},{"$f":"COUNTIF(L11:L13,Y12)","v":0},{"$f":"Z12/(AB4-Z20)","v":0},{"$f":"IF(AA12=0,0,(AA12*((LOG(AA12))/LOG(2))))","v":0},null,{"$f":"N12","v":1212},{"$f":"COUNTIF(L14:L17,AD12)","v":0},{"$f":"AE12/(AG4-AE20)","v":0},{"$f":"IF(AF12=0,0,(AF12*((LOG(AF12))/LOG(2))))","v":0},null,{"$f":"N12","v":1212},{"$f":"COUNTIF(L18:L21,AI12)","v":0},{"$f":"AJ12/(AL4-AJ20)","v":0},{"$f":"IF(AK12=0,0,(AK12*((LOG(AK12))/LOG(2))))","v":0},null,{"$f":"N12","v":1212},{"$f":"COUNTIF(L22:L24,AN12)","v":0},{"$f":"AO12/(AQ4-AO20)","v":0},{"$f":"IF(AP12=0,0,(AP12*((LOG(AP12))/LOG(2))))","v":0},null,{"$f":"N12","v":1212},{"$f":"COUNTIF(L25:L28,AS12)","v":0},{"$f":"AT12/(AV4-AT20)","v":0},{"$f":"IF(AU12=0,0,(AU12*((LOG(AU12))/LOG(2))))","v":0}]
[12,865,14,883,13,889,14,894,null,null,0,1111,null,1221,{"$f":"COUNTIF($L$7:$L$500,N13)","v":0},{"$f":"O13/$Q$4","v":0},{"$f":"IF(P13=0,0,(P13*((LOG(P13))/LOG(2))))","v":0},null,null,{"$f":"N13","v":1221},{"$f":"COUNTIF(L7:L10,T13)","v":0},{"$f":"U13/(W4-U20)","v":0},{"$f":"IF(V13=0,0,(V13*((LOG(V13))/LOG(2))))","v":0},null,{"$f":"N13","v":1221},{"$f":"COUNTIF(L11:L13,Y13)","v":0},{"$f":"Z13/(AB4-Z20)","v":0},{"$f":"IF(AA13=0,0,(AA13*((LOG(AA13))/LOG(2))))","v":0},null,{"$f":"N13","v":1221},{"$f":"COUNTIF(L14:L17,AD13)","v":0},{"$f":"AE13/(AG4-AE20)","v":0},{"$f":"IF(AF13=0,0,(AF13*((LOG(AF13))/LOG(2))))","v":0},null,{"$f":"N13","v":1221},{"$f":"COUNTIF(L18:L21,AI13)","v":0},{"$f":"AJ13/(AL4-AJ20)","v":0},{"$f":"IF(AK13=0,0,(AK13*((LOG(AK13))/LOG(2))))","v":0},null,{"$f":"N13","v":1221},{"$f":"COUNTIF(L22:L24,AN13)","v":0},{"$f":"AO13/(AQ4-AO20)","v":0},{"$f":"IF(AP13=0,0,(AP13*((LOG(AP13))/LOG(2))))","v":0},null,{"$f":"N13","v":1221},{"$f":"COUNTIF(L25:L28,AS13)","v":0},{"$f":"AT13/(AV4-AT20)","v":0},{"$f":"IF(AU13=0,0,(AU13*((LOG(AU13))/LOG(2))))","v":0}]
[12,1007,14,1009,13,1013,23,1023,null,null,0,1112,null,1222,{"$f":"COUNTIF($L$7:$L$500,N14)","v":1},{"$f":"O14/$Q$4","v":4.7619047619047616E-2},{"$f":"IF(P14=0,0,(P14*((LOG(P14))/LOG(2))))","v":-0.20915797251327431},null,null,{"$f":"N14","v":1222},{"$f":"COUNTIF(L7:L10,T14)","v":0},{"$f":"U14/(W4-U20)","v":0},{"$f":"IF(V14=0,0,(V14*((LOG(V14))/LOG(2))))","v":0},null,{"$f":"N14","v":1222},{"$f":"COUNTIF(L11:L13,Y14)","v":1},{"$f":"Z14/(AB4-Z20)","v":0.33333333333333331},{"$f":"IF(AA14=0,0,(AA14*((LOG(AA14))/LOG(2))))","v":-0.52832083357371862},null,{"$f":"N14","v":1222},{"$f":"COUNTIF(L14:L17,AD14)","v":0},{"$f":"AE14/(AG4-AE20)","v":0},{"$f":"IF(AF14=0,0,(AF14*((LOG(AF14))/LOG(2))))","v":0},null,{"$f":"N14","v":1222},{"$f":"COUNTIF(L18:L21,AI14)","v":0},{"$f":"AJ14/(AL4-AJ20)","v":0},{"$f":"IF(AK14=0,0,(AK14*((LOG(AK14))/LOG(2))))","v":0},null,{"$f":"N14","v":1222},{"$f":"COUNTIF(L22:L24,AN14)","v":0},{"$f":"AO14/(AQ4-AO20)","v":0},{"$f":"IF(AP14=0,0,(AP14*((LOG(AP14))/LOG(2))))","v":0},null,{"$f":"N14","v":1222},{"$f":"COUNTIF(L25:L28,AS14)","v":0},{"$f":"AT14/(AV4-AT20)","v":0},{"$f":"IF(AU14=0,0,(AU14*((LOG(AU14))/LOG(2))))","v":0}]
[12,1148,14,1152,13,1157,14,1164,null,null,0,1111,null,2111,{"$f":"COUNTIF($L$7:$L$500,N15)","v":3},{"$f":"O15/$Q$4","v":0.14285714285714285},{"$f":"IF(P15=0,0,(P15*((LOG(P15))/LOG(2))))","v":-0.40105070315108626},null,null,{"$f":"N15","v":2111},{"$f":"COUNTIF(L7:L10,T15)","v":0},{"$f":"U15/(W4-U20)","v":0},{"$f":"IF(V15=0,0,(V15*((LOG(V15))/LOG(2))))","v":0},null,{"$f":"N15","v":2111},{"$f":"COUNTIF(L11:L13,Y15)","v":0},{"$f":"Z15/(AB4-Z20)","v":0},{"$f":"IF(AA15=0,0,(AA15*((LOG(AA15))/LOG(2))))","v":0},null,{"$f":"N15","v":2111},{"$f":"COUNTIF(L14:L17,AD15)","v":0},{"$f":"AE15/(AG4-AE20)","v":0},{"$f":"IF(AF15=0,0,(AF15*((LOG(AF15))/LOG(2))))","v":0},null,{"$f":"N15","v":2111},{"$f":"COUNTIF(L18:L21,AI15)","v":2},{"$f":"AJ15/(AL4-AJ20)","v":0.5},{"$f":"IF(AK15=0,0,(AK15*((LOG(AK15))/LOG(2))))","v":-0.5},null,{"$f":"N15","v":2111},{"$f":"COUNTIF(L22:L24,AN15)","v":0},{"$f":"AO15/(AQ4-AO20)","v":0},{"$f":"IF(AP15=0,0,(AP15*((LOG(AP15))/LOG(2))))","v":0},null,{"$f":"N15","v":2111},{"$f":"COUNTIF(L25:L28,AS15)","v":1},{"$f":"AT15/(AV4-AT20)","v":0.33333333333333331},{"$f":"IF(AU15=0,0,(AU15*((LOG(AU15))/LOG(2))))","v":-0.52832083357371862}]
[12,1513,14,1515,13,1540,14,1544,null,null,0,1111,null,2112,{"$f":"COUNTIF($L$7:$L$500,N16)","v":0},{"$f":"O16/$Q$4","v":0},{"$f":"IF(P16=0,0,(P16*((LOG(P16))/LOG(2))))","v":0},null,null,{"$f":"N16","v":2112},{"$f":"COUNTIF(L7:L10,T16)","v":0},{"$f":"U16/(W4-U20)","v":0},{"$f":"IF(V16=0,0,(V16*((LOG(V16))/LOG(2))))","v":0},null,{"$f":"N16","v":2112},{"$f":"COUNTIF(L11:L13,Y16)","v":0},{"$f":"Z16/(AB4-Z20)","v":0},{"$f":"IF(AA16=0,0,(AA16*((LOG(AA16))/LOG(2))))","v":0},null,{"$f":"N16","v":2112},{"$f":"COUNTIF(L14:L17,AD16)","v":0},{"$f":"AE16/(AG4-AE20)","v":0},{"$f":"IF(AF16=0,0,(AF16*((LOG(AF16))/LOG(2))))","v":0},null,{"$f":"N16","v":2112},{"$f":"COUNTIF(L18:L21,AI16)","v":0},{"$f":"AJ16/(AL4-AJ20)","v":0},{"$f":"IF(AK16=0,0,(AK16*((LOG(AK16))/LOG(2))))","v":0},null,{"$f":"N16","v":2112},{"$f":"COUNTIF(L22:L24,AN16)","v":0},{"$f":"AO16/(AQ4-AO20)","v":0},{"$f":"IF(AP16=0,0,(AP16*((LOG(AP16))/LOG(2))))","v":0},null,{"$f":"N16","v":2112},{"$f":"COUNTIF(L25:L28,AS16)","v":0},{"$f":"AT16/(AV4-AT20)","v":0},{"$f":"IF(AU16=0,0,(AU16*((LOG(AU16))/LOG(2))))","v":0}]
[21,1744,21,1750,11,2028,12,2038,null,null,0,2211,null,2121,{"$f":"COUNTIF($L$7:$L$500,N17)","v":0},{"$f":"O17/$Q$4","v":0},{"$f":"IF(P17=0,0,(P17*((LOG(P17))/LOG(2))))","v":0},null,null,{"$f":"N17","v":2121},{"$f":"COUNTIF(L7:L10,T17)","v":0},{"$f":"U17/(W4-U20)","v":0},{"$f":"IF(V17=0,0,(V17*((LOG(V17))/LOG(2))))","v":0},null,{"$f":"N17","v":2121},{"$f":"COUNTIF(L11:L13,Y17)","v":0},{"$f":"Z17/(AB4-Z20)","v":0},{"$f":"IF(AA17=0,0,(AA17*((LOG(AA17))/LOG(2))))","v":0},null,{"$f":"N17","v":2121},{"$f":"COUNTIF(L14:L17,AD17)","v":0},{"$f":"AE17/(AG4-AE20)","v":0},{"$f":"IF(AF17=0,0,(AF17*((LOG(AF17))/LOG(2))))","v":0},null,{"$f":"N17","v":2121},{"$f":"COUNTIF(L18:L21,AI17)","v":0},{"$f":"AJ17/(AL4-AJ20)","v":0},{"$f":"IF(AK17=0,0,(AK17*((LOG(AK17))/LOG(2))))","v":0},null,{"$f":"N17","v":2121},{"$f":"COUNTIF(L22:L24,AN17)","v":0},{"$f":"AO17/(AQ4-AO20)","v":0},{"$f":"IF(AP17=0,0,(AP17*((LOG(AP17))/LOG(2))))","v":0},null,{"$f":"N17","v":2121},{"$f":"COUNTIF(L25:L28,AS17)","v":0},{"$f":"AT17/(AV4-AT20)","v":0},{"$f":"IF(AU17=0,0,(AU17*((LOG(AU17))/LOG(2))))","v":0}]
[21,2258,21,2266,11,2301,12,2308,null,null,0,2211,null,2122,{"$f":"COUNTIF($L$7:$L$500,N18)","v":0},{"$f":"O18/$Q$4","v":0},{"$f":"IF(P18=0,0,(P18*((LOG(P18))/LOG(2))))","v":0},null,null,{"$f":"N18","v":2122},{"$f":"COUNTIF(L7:L10,T18)","v":0},{"$f":"U18/(W4-U20)","v":0},{"$f":"IF(V18=0,0,(V18*((LOG(V18))/LOG(2))))","v":0},null,{"$f":"N18","v":2122},{"$f":"COUNTIF(L11:L13,Y18)","v":0},{"$f":"Z18/(AB4-Z20)","v":0},{"$f":"IF(AA18=0,0,(AA18*((LOG(AA18))/LOG(2))))","v":0},null,{"$f":"N18","v":2122},{"$f":"COUNTIF(L14:L17,AD18)","v":0},{"$f":"AE18/(AG4-AE20)","v":0},{"$f":"IF(AF18=0,0,(AF18*((LOG(AF18))/LOG(2))))","v":0},null,{"$f":"N18","v":2122},{"$f":"COUNTIF(L18:L21,AI18)","v":0},{"$f":"AJ18/(AL4-AJ20)","v":0},{"$f":"IF(AK18=0,0,(AK18*((LOG(AK18))/LOG(2))))","v":0},null,{"$f":"N18","v":2122},{"$f":"COUNTIF(L22:L24,AN18)","v":0},{"$f":"AO18/(AQ4-AO20)","v":0},{"$f":"IF(AP18=0,0,(AP18*((LOG(AP18))/LOG(2))))","v":0},null,{"$f":"N18","v":2122},{"$f":"COUNTIF(L25:L28,AS18)","v":0},{"$f":"AT18/(AV4-AT20)","v":0},{"$f":"IF(AU18=0,0,(AU18*((LOG(AU18))/LOG(2))))","v":0}]
[21,4968,12,4978,13,4985,14,4988,null,null,0,2111,null,2211,{"$f":"COUNTIF($L$7:$L$500,N19)","v":3},{"$f":"O19/$Q$4","v":0.14285714285714285},{"$f":"IF(P19=0,0,(P19*((LOG(P19))/LOG(2))))","v":-0.40105070315108626},null,null,{"$f":"N19","v":2211},{"$f":"COUNTIF(L7:L10,T19)","v":0},{"$f":"U19/(W4-U20)","v":0},{"$f":"IF(V19=0,0,(V19*((LOG(V19))/LOG(2))))","v":0},null,{"$f":"N19","v":2211},{"$f":"COUNTIF(L11:L13,Y19)","v":0},{"$f":"Z19/(AB4-Z20)","v":0},{"$f":"IF(AA19=0,0,(AA19*((LOG(AA19))/LOG(2))))","v":0},null,{"$f":"N19","v":2211},{"$f":"COUNTIF(L14:L17,AD19)","v":1},{"$f":"AE19/(AG4-AE20)","v":0.25},{"$f":"IF(AF19=0,0,(AF19*((LOG(AF19))/LOG(2))))","v":-0.5},null,{"$f":"N19","v":2211},{"$f":"COUNTIF(L18:L21,AI19)","v":1},{"$f":"AJ19/(AL4-AJ20)","v":0.25},{"$f":"IF(AK19=0,0,(AK19*((LOG(AK19))/LOG(2))))","v":-0.5},null,{"$f":"N19","v":2211},{"$f":"COUNTIF(L22:L24,AN19)","v":1},{"$f":"AO19/(AQ4-AO20)","v":0.33333333333333331},{"$f":"IF(AP19=0,0,(AP19*((LOG(AP19))/LOG(2))))","v":-0.52832083357371862},null,{"$f":"N19","v":2211},{"$f":"COUNTIF(L25:L28,AS19)","v":0},{"$f":"AT19/(AV4-AT20)","v":0},{"$f":"IF(AU19=0,0,(AU19*((LOG(AU19))/LOG(2))))","v":0}]
[21,5147,12,5160,13,5165,14,5170,null,null,0,2111,null,2212,{"$f":"COUNTIF($L$7:$L$500,N20)","v":0},{"$f":"O20/$Q$4","v":0},{"$f":"IF(P20=0,0,(P20*((LOG(P20))/LOG(2))))","v":0},null,null,{"$f":"N20","v":2212},{"$f":"COUNTIF(L7:L10,T20)","v":0},null,null,null,{"$f":"N20","v":2212},{"$f":"COUNTIF(L11:L13,Y20)","v":0},null,null,null,{"$f":"N20","v":2212},{"$f":"COUNTIF(L14:L17,AD20)","v":0},null,null,null,{"$f":"N20","v":2212},{"$f":"COUNTIF(L18:L21,AI20)","v":0},null,null,null,{"$f":"N20","v":2212},{"$f":"COUNTIF(L22:L24,AN20)","v":0},null,null,null,{"$f":"N20","v":2212},{"$f":"COUNTIF(L25:L28,AS20)","v":0}]
[12,5289,14,5294,13,5303,14,5310,null,null,0,1111,null,2221,{"$f":"COUNTIF($L$7:$L$500,N21)","v":0},{"$f":"O21/$Q$4","v":0},{"$f":"IF(P21=0,0,(P21*((LOG(P21))/LOG(2))))","v":0},null,null,{"$f":"N21","v":2221},{"$f":"COUNTIF(L7:L10,T21)","v":0},{"$f":"U21/(W4-U20)","v":0},{"$f":"IF(V21=0,0,(V21*((LOG(V21))/LOG(2))))","v":0},null,{"$f":"N21","v":2221},{"$f":"COUNTIF(L11:L13,Y21)","v":0},{"$f":"Z21/(AB4-Z20)","v":0},{"$f":"IF(AA21=0,0,(AA21*((LOG(AA21))/LOG(2))))","v":0},null,{"$f":"N21","v":2221},{"$f":"COUNTIF(L14:L17,AD21)","v":0},{"$f":"AE21/(AG4-AE20)","v":0},{"$f":"IF(AF21=0,0,(AF21*((LOG(AF21))/LOG(2))))","v":0},null,{"$f":"N21","v":2221},{"$f":"COUNTIF(L18:L21,AI21)","v":0},{"$f":"AJ21/(AL4-AJ20)","v":0},{"$f":"IF(AK21=0,0,(AK21*((LOG(AK21))/LOG(2))))","v":0},null,{"$f":"N21","v":2221},{"$f":"COUNTIF(L22:L24,AN21)","v":0},{"$f":"AO21/(AQ4-AO20)","v":0},{"$f":"IF(AP21=0,0,(AP21*((LOG(AP21))/LOG(2))))","v":0},null,{"$f":"N21","v":2221},{"$f":"COUNTIF(L25:L28,AS21)","v":0},{"$f":"AT21/(AV4-AT20)","v":0},{"$f":"IF(AU21=0,0,(AU21*((LOG(AU21))/LOG(2))))","v":0}]
[12,5415,14,5418,13,5422,14,5429,null,null,0,1111,null,2222,{"$f":"COUNTIF($L$7:$L$500,N22)","v":3},{"$f":"O22/$Q$4","v":0.14285714285714285},{"$f":"IF(P22=0,0,(P22*((LOG(P22))/LOG(2))))","v":-0.40105070315108626},null,null,{"$f":"N22","v":2222},{"$f":"COUNTIF(L7:L10,T22)","v":1},{"$f":"U22/(W4-U20)","v":0.25},{"$f":"IF(V22=0,0,(V22*((LOG(V22))/LOG(2))))","v":-0.5},null,{"$f":"N22","v":2222},{"$f":"COUNTIF(L11:L13,Y22)","v":0},{"$f":"Z22/(AB4-Z20)","v":0},{"$f":"IF(AA22=0,0,(AA22*((LOG(AA22))/LOG(2))))","v":0},null,{"$f":"N22","v":2222},{"$f":"COUNTIF(L14:L17,AD22)","v":0},{"$f":"AE22/(AG4-AE20)","v":0},{"$f":"IF(AF22=0,0,(AF22*((LOG(AF22))/LOG(2))))","v":0},null,{"$f":"N22","v":2222},{"$f":"COUNTIF(L18:L21,AI22)","v":0},{"$f":"AJ22/(AL4-AJ20)","v":0},{"$f":"IF(AK22=0,0,(AK22*((LOG(AK22))/LOG(2))))","v":0},null,{"$f":"N22","v":2222},{"$f":"COUNTIF(L22:L24,AN22)","v":1},{"$f":"AO22/(AQ4-AO20)","v":0.33333333333333331},{"$f":"IF(AP22=0,0,(AP22*((LOG(AP22))/LOG(2))))","v":-0.52832083357371862},null,{"$f":"N22","v":2222},{"$f":"COUNTIF(L25:L28,AS22)","v":1},{"$f":"AT22/(AV4-AT20)","v":0.33333333333333331},{"$f":"IF(AU22=0,0,(AU22*((LOG(AU22))/LOG(2))))","v":-0.52832083357371862}]
[21,5878,21,6067,11,6085,12,6092,null,null,0,2211,null,null,null,{"$f":"SUM(P7:P22)","v":0.99999999999999978},{"$f":"-SUM(Q7:Q22)","v":2.4749525415173128},null,null,null,null,{"$f":"SUM(V7:V22)","v":1},{"$f":"-SUM(W7:W22)","v":1.5},null,null,null,{"$f":"SUM(AA7:AA22)","v":1},{"$f":"-SUM(AB7:AB22)","v":0.91829583405448945},null,null,null,{"$f":"SUM(AF7:AF22)","v":1},{"$f":"-SUM(AG7:AG22)","v":1.5},null,null,null,{"$f":"SUM(AK7:AK22)","v":1},{"$f":"-SUM(AL7:AL22)","v":1.5},null,null,null,{"$f":"SUM(AP7:AP22)","v":1},{"$f":"-SUM(AQ7:AQ22)","v":1.5849625007211559},null,null,null,{"$f":"SUM(AU7:AU22)","v":1},{"$f":"-SUM(AV7:AV22)","v":1.5849625007211559}]
[21,6241,21,6244,22,6249,23,6254,null,null,0,2222,null,null,null,"U=",{"$f":"Q23/(LOG(Q4)/LOG(2))","v":0.56347306064040248},null,null,null,null,"U1=",{"$f":"W23/(LOG(W4)/LOG(2))","v":0.75},null,null,null,"U2=",{"$f":"AB23/(LOG(AB4)/LOG(2))","v":0.57938016428569505},null,null,null,"U3=",{"$f":"AG23/(LOG(AG4)/LOG(2))","v":0.75},null,null,null,"U4=",{"$f":"AL23/(LOG(AL4)/LOG(2))","v":0.75},null,null,null,"U5=",{"$f":"AQ23/(LOG(AQ4)/LOG(2))","v":0.99999999999999989},null,null,null,"U6=",{"$f":"AV23/(LOG(AV4)/LOG(2))","v":0.99999999999999989}]
[21,6357,12,6377,13,6383,14,6389,null,null,0,2111]
[21,6520,21,6524,22,6529,23,6539,null,null,0,2222]
[12,6863,14,6866,13,6872,23,6884,null,null,0,1112,null,"Total Target Seq"]
[21,17240,null,null,null,null,null,null,null,null,null,2,null,{"$f":"COUNTIF(L7:L28,G3)","v":0},null,4,3,4,4,3,4]
[null,null,null,null,null,null,null,null,null,null,null,null,null,null,null,"% of reinforcement given in 6 equal intervals based on number of trials "]
[null,null,null,null,null,null,null,null,null,null,null,null,null,null,null,"%_1","%_2","%_3","%_4","%_5","%_6"]
[null,null,null,null,null,null,null,null,null,null,null,null,null,null,"target sequence",{"$f":"$G$3","v":2212},{"$f":"$G$3","v":2212},{"$f":"$G$3","v":2212},{"$f":"$G$3","v":2212},{"$f":"$G$3","v":2212},{"$f":"$G$3","v":2212}]
[null,null,null,null,null,null,null,null,null,null,null,null,null,null,"total reinforcement",{"$f":"U20","v":0},{"$f":"Z20","v":0},{"$f":"AE20","v":0},{"$f":"AJ20","v":0},{"$f":"AO20","v":0},{"$f":"AT20","v":0}]
[null,null,null,null,null,null,null,null,null,null,null,null,null,null,"% target"]
[null,null,null,null,null,null,null,null,null,null,null,null,null,null,"CCRF"]
[null,null,null,null,null,null,null,null,null,null,null,null,null,null,"% CCRf"]
[null,null,null,null,null,null,null,null,null,null,null,null,null,null,"average response rate",{"$f":"H10/P28","v":106.75},{"$f":"(H13-H10)/Q28","v":155.66666666666666},{"$f":"(H17-H13)/R28","v":286},{"$f":"(H21-H17)/S28","v":818},{"$f":"(H24-H21)/T28","v":314.66666666666669},{"$f":"(H28-H24)/U28","v":-1563.5}]

{"sheet":"!M125B0T.ayl","index":21,"n_rows":36,"n_cols":48,"rows_kept":36,"cut":false,"hidden":false,"merged":[[4,39,4,42],[5,39,5,40],[4,44,4,47],[5,44,5,45],[4,24,4,27],[5,24,5,25],[4,29,4,32],[5,29,5,30],[4,34,4,37],[5,34,5,35],[1,1,1,2],[5,13,5,14],[26,13,26,14],[27,13,27,14],[4,19,4,22],[5,19,5,20]]}
["Report for:!M125B0T.ayl"]
["Date:","<date>"]
["Hen:","<hen>",null,null,null,"Correct Sequence",{"$f":"Start!J2","v":2212},null,null,null,null,null,null,null,null,"Total Sequences in Data",{"$f":"4994-COUNTBLANK(L7:L5000)","v":14},null,null,null,null,"Total Sequences in Block Data",{"$f":"COUNTA(L7:L8)","v":2},null,null,null,"Total Sequences in Block Data",{"$f":"COUNTA(L9:L11)","v":3},null,null,null,"Total Sequences in Block Data",{"$f":"COUNTA(L12:L13)","v":2},null,null,null,"Total Sequences in Block Data",{"$f":"COUNTA(L14:L15)","v":2},null,null,null,"Total Sequences in Block Data",{"$f":"COUNTA(L16:L18)","v":3},null,null,null,"Total Sequences in Block Data",{"$f":"COUNTA(L19:L20)","v":2}]
[null,null,null,null,null,null,null,null,null,null,null,null,null,null,null,"Total Sequences in Summary",{"$f":"SUM(O7:O22)","v":13},null,null,null,null,"Total Sequences in Block Summary",{"$f":"SUM(U7:U22)","v":2},null,null,null,"Total Sequences in Block Summary",{"$f":"SUM(Z7:Z22)","v":3},null,null,null,"Total Sequences in Block Summary",{"$f":"SUM(AE7:AE22)","v":2},null,null,null,"Total Sequences in Block Summary",{"$f":"SUM(AJ7:AJ22)","v":2},null,null,null,"Total Sequences in Block Summary",{"$f":"SUM(AO7:AO22)","v":3},null,null,null,"Total Sequences in Block Summary",{"$f":"SUM(AT7:AT22)","v":1}]
[null,null,null,null,null,null,null,null,null,null,null,null,null,null,null,null,null,null,null,"Block 1",null,null,null,null,"Block 2",null,null,null,null,"Block 3",null,null,null,null,"Block 4",null,null,null,null,"Block 5",null,null,null,null,"Block 6"]
["Sequence\nComponent\n1","Time\n1","Sequence\nComponent\n2","Time\n2","Sequence\nComponent\n3","Time\n3","Sequence\nComponent\n4","Time\n4","Sequence\nComponent\n5","Time\n5","Correct?\n0=No 1=Yes","Sequence",null,"Frequency",null,"Relative Frequency","Variability",null,null,"Frequency",null,"Relative Frequency","Variability",null,"Frequency",null,"Relative Frequency","Variability",null,"Frequency",null,"Relative Frequency","Variability",null,"Frequency",null,"Relative Frequency","Variability",null,"Frequency",null,"Relative Frequency","Variability",null,"Frequency",null,"Relative Frequency","Variability"]
[21,17,21,21,22,27,14,41,null,null,0,2221,null,1111,{"$f":"COUNTIF($L$7:$L$500,N7)","v":1},{"$f":"O7/$Q$4","v":7.6923076923076927E-2},{"$f":"IF(P7=0,0,(P7*((LOG(P7))/LOG(2))))","v":-0.28464920908777636},null,null,{"$f":"N7","v":1111},{"$f":"COUNTIF(L7:L8,T7)","v":0},{"$f":"U7/(W4-U20)","v":0},{"$f":"IF(V7=0,0,(V7*((LOG(V7))/LOG(2))))","v":0},null,{"$f":"N7","v":1111},{"$f":"COUNTIF(L9:L11,Y7)","v":0},{"$f":"Z7/(AB4-Z20)","v":0},{"$f":"IF(AA7=0,0,(AA7*((LOG(AA7))/LOG(2))))","v":0},null,{"$f":"N7","v":1111},{"$f":"COUNTIF(L12:L13,AD7)","v":1},{"$f":"AE7/(AG4-AE20)","v":0.5},{"$f":"IF(AF7=0,0,(AF7*((LOG(AF7))/LOG(2))))","v":-0.5},null,{"$f":"N7","v":1111},{"$f":"COUNTIF(L14:L15,AI7)","v":0},{"$f":"AJ7/(AL4-AJ20)","v":0},{"$f":"IF(AK7=0,0,(AK7*((LOG(AK7))/LOG(2))))","v":0},null,{"$f":"N7","v":1111},{"$f":"COUNTIF(L16:L18,AN7)","v":0},{"$f":"AO7/(AQ4-AO20)","v":0},{"$f":"IF(AP7=0,0,(AP7*((LOG(AP7))/LOG(2))))","v":0},null,{"$f":"N7","v":1111},{"$f":"COUNTIF(L19:L20,AS7)","v":0},{"$f":"AT7/(AV4-AT20)","v":0},{"$f":"IF(AU7=0,0,(AU7*((LOG(AU7))/LOG(2))))","v":0}]
[12,138,14,140,24,148,23,152,null,null,0,1122,null,1112,{"$f":"COUNTIF($L$7:$L$500,N8)","v":1},{"$f":"O8/$Q$4","v":7.6923076923076927E-2},{"$f":"IF(P8=0,0,(P8*((LOG(P8))/LOG(2))))","v":-0.28464920908777636},null,null,{"$f":"N8","v":1112},{"$f":"COUNTIF(L7:L8,T8)","v":0},{"$f":"U8/(W4-U20)","v":0},{"$f":"IF(V8=0,0,(V8*((LOG(V8))/LOG(2))))","v":0},null,{"$f":"N8","v":1112},{"$f":"COUNTIF(L9:L11,Y8)","v":1},{"$f":"Z8/(AB4-Z20)","v":0.33333333333333331},{"$f":"IF(AA8=0,0,(AA8*((LOG(AA8))/LOG(2))))","v":-0.52832083357371862},null,{"$f":"N8","v":1112},{"$f":"COUNTIF(L12:L13,AD8)","v":0},{"$f":"AE8/(AG4-AE20)","v":0},{"$f":"IF(AF8=0,0,(AF8*((LOG(AF8))/LOG(2))))","v":0},null,{"$f":"N8","v":1112},{"$f":"COUNTIF(L14:L15,AI8)","v":0},{"$f":"AJ8/(AL4-AJ20)","v":0},{"$f":"IF(AK8=0,0,(AK8*((LOG(AK8))/LOG(2))))","v":0},null,{"$f":"N8","v":1112},{"$f":"COUNTIF(L16:L18,AN8)","v":0},{"$f":"AO8/(AQ4-AO20)","v":0},{"$f":"IF(AP8=0,0,(AP8*((LOG(AP8))/LOG(2))))","v":0},null,{"$f":"N8","v":1112},{"$f":"COUNTIF(L19:L20,AS8)","v":0},{"$f":"AT8/(AV4-AT20)","v":0},{"$f":"IF(AU8=0,0,(AU8*((LOG(AU8))/LOG(2))))","v":0}]
[12,251,14,257,13,262,23,273,null,null,0,1112,null,1121,{"$f":"COUNTIF($L$7:$L$500,N9)","v":0},{"$f":"O9/$Q$4","v":0},{"$f":"IF(P9=0,0,(P9*((LOG(P9))/LOG(2))))","v":0},null,null,{"$f":"N9","v":1121},{"$f":"COUNTIF(L7:L8,T9)","v":0},{"$f":"U9/(W4-U20)","v":0},{"$f":"IF(V9=0,0,(V9*((LOG(V9))/LOG(2))))","v":0},null,{"$f":"N9","v":1121},{"$f":"COUNTIF(L9:L11,Y9)","v":0},{"$f":"Z9/(AB4-Z20)","v":0},{"$f":"IF(AA9=0,0,(AA9*((LOG(AA9))/LOG(2))))","v":0},null,{"$f":"N9","v":1121},{"$f":"COUNTIF(L12:L13,AD9)","v":0},{"$f":"AE9/(AG4-AE20)","v":0},{"$f":"IF(AF9=0,0,(AF9*((LOG(AF9))/LOG(2))))","v":0},null,{"$f":"N9","v":1121},{"$f":"COUNTIF(L14:L15,AI9)","v":0},{"$f":"AJ9/(AL4-AJ20)","v":0},{"$f":"IF(AK9=0,0,(AK9*((LOG(AK9))/LOG(2))))","v":0},null,{"$f":"N9","v":1121},{"$f":"COUNTIF(L16:L18,AN9)","v":0},{"$f":"AO9/(AQ4-AO20)","v":0},{"$f":"IF(AP9=0,0,(AP9*((LOG(AP9))/LOG(2))))","v":0},null,{"$f":"N9","v":1121},{"$f":"COUNTIF(L19:L20,AS9)","v":0},{"$f":"AT9/(AV4-AT20)","v":0},{"$f":"IF(AU9=0,0,(AU9*((LOG(AU9))/LOG(2))))","v":0}]
[21,409,12,422,13,425,14,430,null,null,0,2111,null,1122,{"$f":"COUNTIF($L$7:$L$500,N10)","v":1},{"$f":"O10/$Q$4","v":7.6923076923076927E-2},{"$f":"IF(P10=0,0,(P10*((LOG(P10))/LOG(2))))","v":-0.28464920908777636},null,null,{"$f":"N10","v":1122},{"$f":"COUNTIF(L7:L8,T10)","v":1},{"$f":"U10/(W4-U20)","v":0.5},{"$f":"IF(V10=0,0,(V10*((LOG(V10))/LOG(2))))","v":-0.5},null,{"$f":"N10","v":1122},{"$f":"COUNTIF(L9:L11,Y10)","v":0},{"$f":"Z10/(AB4-Z20)","v":0},{"$f":"IF(AA10=0,0,(AA10*((LOG(AA10))/LOG(2))))","v":0},null,{"$f":"N10","v":1122},{"$f":"COUNTIF(L12:L13,AD10)","v":0},{"$f":"AE10/(AG4-AE20)","v":0},{"$f":"IF(AF10=0,0,(AF10*((LOG(AF10))/LOG(2))))","v":0},null,{"$f":"N10","v":1122},{"$f":"COUNTIF(L14:L15,AI10)","v":0},{"$f":"AJ10/(AL4-AJ20)","v":0},{"$f":"IF(AK10=0,0,(AK10*((LOG(AK10))/LOG(2))))","v":0},null,{"$f":"N10","v":1122},{"$f":"COUNTIF(L16:L18,AN10)","v":0},{"$f":"AO10/(AQ4-AO20)","v":0},{"$f":"IF(AP10=0,0,(AP10*((LOG(AP10))/LOG(2))))","v":0},null,{"$f":"N10","v":1122},{"$f":"COUNTIF(L19:L20,AS10)","v":0},{"$f":"AT10/(AV4-AT20)","v":0},{"$f":"IF(AU10=0,0,(AU10*((LOG(AU10))/LOG(2))))","v":0}]
[21,835,12,851,13,861,14,869,null,null,0,2111,null,1211,{"$f":"COUNTIF($L$7:$L$500,N11)","v":0},{"$f":"O11/$Q$4","v":0},{"$f":"IF(P11=0,0,(P11*((LOG(P11))/LOG(2))))","v":0},null,null,{"$f":"N11","v":1211},{"$f":"COUNTIF(L7:L8,T11)","v":0},{"$f":"U11/(W4-U20)","v":0},{"$f":"IF(V11=0,0,(V11*((LOG(V11))/LOG(2))))","v":0},null,{"$f":"N11","v":1211},{"$f":"COUNTIF(L9:L11,Y11)","v":0},{"$f":"Z11/(AB4-Z20)","v":0},{"$f":"IF(AA11=0,0,(AA11*((LOG(AA11))/LOG(2))))","v":0},null,{"$f":"N11","v":1211},{"$f":"COUNTIF(L12:L13,AD11)","v":0},{"$f":"AE11/(AG4-AE20)","v":0},{"$f":"IF(AF11=0,0,(AF11*((LOG(AF11))/LOG(2))))","v":0},null,{"$f":"N11","v":1211},{"$f":"COUNTIF(L14:L15,AI11)","v":0},{"$f":"AJ11/(AL4-AJ20)","v":0},{"$f":"IF(AK11=0,0,(AK11*((LOG(AK11))/LOG(2))))","v":0},null,{"$f":"N11","v":1211},{"$f":"COUNTIF(L16:L18,AN11)","v":0},{"$f":"AO11/(AQ4-AO20)","v":0},{"$f":"IF(AP11=0,0,(AP11*((LOG(AP11))/LOG(2))))","v":0},null,{"$f":"N11","v":1211},{"$f":"COUNTIF(L19:L20,AS11)","v":0},{"$f":"AT11/(AV4-AT20)","v":0},{"$f":"IF(AU11=0,0,(AU11*((LOG(AU11))/LOG(2))))","v":0}]
[21,1026,21,1033,11,1041,12,1046,null,null,0,2211,null,1212,{"$f":"COUNTIF($L$7:$L$500,N12)","v":1},{"$f":"O12/$Q$4","v":7.6923076923076927E-2},{"$f":"IF(P12=0,0,(P12*((LOG(P12))/LOG(2))))","v":-0.28464920908777636},null,null,{"$f":"N12","v":1212},{"$f":"COUNTIF(L7:L8,T12)","v":0},{"$f":"U12/(W4-U20)","v":0},{"$f":"IF(V12=0,0,(V12*((LOG(V12))/LOG(2))))","v":0},null,{"$f":"N12","v":1212},{"$f":"COUNTIF(L9:L11,Y12)","v":0},{"$f":"Z12/(AB4-Z20)","v":0},{"$f":"IF(AA12=0,0,(AA12*((LOG(AA12))/LOG(2))))","v":0},null,{"$f":"N12","v":1212},{"$f":"COUNTIF(L12:L13,AD12)","v":0},{"$f":"AE12/(AG4-AE20)","v":0},{"$f":"IF(AF12=0,0,(AF12*((LOG(AF12))/LOG(2))))","v":0},null,{"$f":"N12","v":1212},{"$f":"COUNTIF(L14:L15,AI12)","v":1},{"$f":"AJ12/(AL4-AJ20)","v":0.5},{"$f":"IF(AK12=0,0,(AK12*((LOG(AK12))/LOG(2))))","v":-0.5},null,{"$f":"N12","v":1212},{"$f":"COUNTIF(L16:L18,AN12)","v":0},{"$f":"AO12/(AQ4-AO20)","v":0},{"$f":"IF(AP12=0,0,(AP12*((LOG(AP12))/LOG(2))))","v":0},null,{"$f":"N12","v":1212},{"$f":"COUNTIF(L19:L20,AS12)","v":0},{"$f":"AT12/(AV4-AT20)","v":0},{"$f":"IF(AU12=0,0,(AU12*((LOG(AU12))/LOG(2))))","v":0}]
[12,1168,14,1172,13,1176,14,1180,null,null,0,1111,null,1221,{"$f":"COUNTIF($L$7:$L$500,N13)","v":0},{"$f":"O13/$Q$4","v":0},{"$f":"IF(P13=0,0,(P13*((LOG(P13))/LOG(2))))","v":0},null,null,{"$f":"N13","v":1221},{"$f":"COUNTIF(L7:L8,T13)","v":0},{"$f":"U13/(W4-U20)","v":0},{"$f":"IF(V13=0,0,(V13*((LOG(V13))/LOG(2))))","v":0},null,{"$f":"N13","v":1221},{"$f":"COUNTIF(L9:L11,Y13)","v":0},{"$f":"Z13/(AB4-Z20)","v":0},{"$f":"IF(AA13=0,0,(AA13*((LOG(AA13))/LOG(2))))","v":0},null,{"$f":"N13","v":1221},{"$f":"COUNTIF(L12:L13,AD13)","v":0},{"$f":"AE13/(AG4-AE20)","v":0},{"$f":"IF(AF13=0,0,(AF13*((LOG(AF13))/LOG(2))))","v":0},null,{"$f":"N13","v":1221},{"$f":"COUNTIF(L14:L15,AI13)","v":0},{"$f":"AJ13/(AL4-AJ20)","v":0},{"$f":"IF(AK13=0,0,(AK13*((LOG(AK13))/LOG(2))))","v":0},null,{"$f":"N13","v":1221},{"$f":"COUNTIF(L16:L18,AN13)","v":0},{"$f":"AO13/(AQ4-AO20)","v":0},{"$f":"IF(AP13=0,0,(AP13*((LOG(AP13))/LOG(2))))","v":0},null,{"$f":"N13","v":1221},{"$f":"COUNTIF(L19:L20,AS13)","v":0},{"$f":"AT13/(AV4-AT20)","v":0},{"$f":"IF(AU13=0,0,(AU13*((LOG(AU13))/LOG(2))))","v":0}]
[12,1351,23,1574,13,1588,23,1593,null,null,0,1212,null,1222,{"$f":"COUNTIF($L$7:$L$500,N14)","v":1},{"$f":"O14/$Q$4","v":7.6923076923076927E-2},{"$f":"IF(P14=0,0,(P14*((LOG(P14))/LOG(2))))","v":-0.28464920908777636},null,null,{"$f":"N14","v":1222},{"$f":"COUNTIF(L7:L8,T14)","v":0},{"$f":"U14/(W4-U20)","v":0},{"$f":"IF(V14=0,0,(V14*((LOG(V14))/LOG(2))))","v":0},null,{"$f":"N14","v":1222},{"$f":"COUNTIF(L9:L11,Y14)","v":0},{"$f":"Z14/(AB4-Z20)","v":0},{"$f":"IF(AA14=0,0,(AA14*((LOG(AA14))/LOG(2))))","v":0},null,{"$f":"N14","v":1222},{"$f":"COUNTIF(L12:L13,AD14)","v":0},{"$f":"AE14/(AG4-AE20)","v":0},{"$f":"IF(AF14=0,0,(AF14*((LOG(AF14))/LOG(2))))","v":0},null,{"$f":"N14","v":1222},{"$f":"COUNTIF(L14:L15,AI14)","v":0},{"$f":"AJ14/(AL4-AJ20)","v":0},{"$f":"IF(AK14=0,0,(AK14*((LOG(AK14))/LOG(2))))","v":0},null,{"$f":"N14","v":1222},{"$f":"COUNTIF(L16:L18,AN14)","v":1},{"$f":"AO14/(AQ4-AO20)","v":0.33333333333333331},{"$f":"IF(AP14=0,0,(AP14*((LOG(AP14))/LOG(2))))","v":-0.52832083357371862},null,{"$f":"N14","v":1222},{"$f":"COUNTIF(L19:L20,AS14)","v":0},{"$f":"AT14/(AV4-AT20)","v":0},{"$f":"IF(AU14=0,0,(AU14*((LOG(AU14))/LOG(2))))","v":0}]
[21,1698,21,1790,11,1805,12,1810,null,null,0,2211,null,2111,{"$f":"COUNTIF($L$7:$L$500,N15)","v":3},{"$f":"O15/$Q$4","v":0.23076923076923078},{"$f":"IF(P15=0,0,(P15*((LOG(P15))/LOG(2))))","v":-0.48818705017383146},null,null,{"$f":"N15","v":2111},{"$f":"COUNTIF(L7:L8,T15)","v":0},{"$f":"U15/(W4-U20)","v":0},{"$f":"IF(V15=0,0,(V15*((LOG(V15))/LOG(2))))","v":0},null,{"$f":"N15","v":2111},{"$f":"COUNTIF(L9:L11,Y15)","v":2},{"$f":"Z15/(AB4-Z20)","v":0.66666666666666663},{"$f":"IF(AA15=0,0,(AA15*((LOG(AA15))/LOG(2))))","v":-0.38997500048077083},null,{"$f":"N15","v":2111},{"$f":"COUNTIF(L12:L13,AD15)","v":0},{"$f":"AE15/(AG4-AE20)","v":0},{"$f":"IF(AF15=0,0,(AF15*((LOG(AF15))/LOG(2))))","v":0},null,{"$f":"N15","v":2111},{"$f":"COUNTIF(L14:L15,AI15)","v":0},{"$f":"AJ15/(AL4-AJ20)","v":0},{"$f":"IF(AK15=0,0,(AK15*((LOG(AK15))/LOG(2))))","v":0},null,{"$f":"N15","v":2111},{"$f":"COUNTIF(L16:L18,AN15)","v":0},{"$f":"AO15/(AQ4-AO20)","v":0},{"$f":"IF(AP15=0,0,(AP15*((LOG(AP15))/LOG(2))))","v":0},null,{"$f":"N15","v":2111},{"$f":"COUNTIF(L19:L20,AS15)","v":1},{"$f":"AT15/(AV4-AT20)","v":1},{"$f":"IF(AU15=0,0,(AU15*((LOG(AU15))/LOG(2))))","v":0}]
[12,2941,23,2957,24,2964,23,6457,null,null,0,1222,null,2112,{"$f":"COUNTIF($L$7:$L$500,N16)","v":0},{"$f":"O16/$Q$4","v":0},{"$f":"IF(P16=0,0,(P16*((LOG(P16))/LOG(2))))","v":0},null,null,{"$f":"N16","v":2112},{"$f":"COUNTIF(L7:L8,T16)","v":0},{"$f":"U16/(W4-U20)","v":0},{"$f":"IF(V16=0,0,(V16*((LOG(V16))/LOG(2))))","v":0},null,{"$f":"N16","v":2112},{"$f":"COUNTIF(L9:L11,Y16)","v":0},{"$f":"Z16/(AB4-Z20)","v":0},{"$f":"IF(AA16=0,0,(AA16*((LOG(AA16))/LOG(2))))","v":0},null,{"$f":"N16","v":2112},{"$f":"COUNTIF(L12:L13,AD16)","v":0},{"$f":"AE16/(AG4-AE20)","v":0},{"$f":"IF(AF16=0,0,(AF16*((LOG(AF16))/LOG(2))))","v":0},null,{"$f":"N16","v":2112},{"$f":"COUNTIF(L14:L15,AI16)","v":0},{"$f":"AJ16/(AL4-AJ20)","v":0},{"$f":"IF(AK16=0,0,(AK16*((LOG(AK16))/LOG(2))))","v":0},null,{"$f":"N16","v":2112},{"$f":"COUNTIF(L16:L18,AN16)","v":0},{"$f":"AO16/(AQ4-AO20)","v":0},{"$f":"IF(AP16=0,0,(AP16*((LOG(AP16))/LOG(2))))","v":0},null,{"$f":"N16","v":2112},{"$f":"COUNTIF(L19:L20,AS16)","v":0},{"$f":"AT16/(AV4-AT20)","v":0},{"$f":"IF(AU16=0,0,(AU16*((LOG(AU16))/LOG(2))))","v":0}]
[21,7284,21,7291,11,7305,12,7309,null,null,0,2211,null,2121,{"$f":"COUNTIF($L$7:$L$500,N17)","v":1},{"$f":"O17/$Q$4","v":7.6923076923076927E-2},{"$f":"IF(P17=0,0,(P17*((LOG(P17))/LOG(2))))","v":-0.28464920908777636},null,null,{"$f":"N17","v":2121},{"$f":"COUNTIF(L7:L8,T17)","v":0},{"$f":"U17/(W4-U20)","v":0},{"$f":"IF(V17=0,0,(V17*((LOG(V17))/LOG(2))))","v":0},null,{"$f":"N17","v":2121},{"$f":"COUNTIF(L9:L11,Y17)","v":0},{"$f":"Z17/(AB4-Z20)","v":0},{"$f":"IF(AA17=0,0,(AA17*((LOG(AA17))/LOG(2))))","v":0},null,{"$f":"N17","v":2121},{"$f":"COUNTIF(L12:L13,AD17)","v":0},{"$f":"AE17/(AG4-AE20)","v":0},{"$f":"IF(AF17=0,0,(AF17*((LOG(AF17))/LOG(2))))","v":0},null,{"$f":"N17","v":2121},{"$f":"COUNTIF(L14:L15,AI17)","v":0},{"$f":"AJ17/(AL4-AJ20)","v":0},{"$f":"IF(AK17=0,0,(AK17*((LOG(AK17))/LOG(2))))","v":0},null,{"$f":"N17","v":2121},{"$f":"COUNTIF(L16:L18,AN17)","v":1},{"$f":"AO17/(AQ4-AO20)","v":0.33333333333333331},{"$f":"IF(AP17=0,0,(AP17*((LOG(AP17))/LOG(2))))","v":-0.52832083357371862},null,{"$f":"N17","v":2121},{"$f":"COUNTIF(L19:L20,AS17)","v":0},{"$f":"AT17/(AV4-AT20)","v":0},{"$f":"IF(AU17=0,0,(AU17*((LOG(AU17))/LOG(2))))","v":0}]
[21,7549,12,7561,24,7567,14,7573,null,null,0,2121,null,2122,{"$f":"COUNTIF($L$7:$L$500,N18)","v":0},{"$f":"O18/$Q$4","v":0},{"$f":"IF(P18=0,0,(P18*((LOG(P18))/LOG(2))))","v":0},null,null,{"$f":"N18","v":2122},{"$f":"COUNTIF(L7:L8,T18)","v":0},{"$f":"U18/(W4-U20)","v":0},{"$f":"IF(V18=0,0,(V18*((LOG(V18))/LOG(2))))","v":0},null,{"$f":"N18","v":2122},{"$f":"COUNTIF(L9:L11,Y18)","v":0},{"$f":"Z18/(AB4-Z20)","v":0},{"$f":"IF(AA18=0,0,(AA18*((LOG(AA18))/LOG(2))))","v":0},null,{"$f":"N18","v":2122},{"$f":"COUNTIF(L12:L13,AD18)","v":0},{"$f":"AE18/(AG4-AE20)","v":0},{"$f":"IF(AF18=0,0,(AF18*((LOG(AF18))/LOG(2))))","v":0},null,{"$f":"N18","v":2122},{"$f":"COUNTIF(L14:L15,AI18)","v":0},{"$f":"AJ18/(AL4-AJ20)","v":0},{"$f":"IF(AK18=0,0,(AK18*((LOG(AK18))/LOG(2))))","v":0},null,{"$f":"N18","v":2122},{"$f":"COUNTIF(L16:L18,AN18)","v":0},{"$f":"AO18/(AQ4-AO20)","v":0},{"$f":"IF(AP18=0,0,(AP18*((LOG(AP18))/LOG(2))))","v":0},null,{"$f":"N18","v":2122},{"$f":"COUNTIF(L19:L20,AS18)","v":0},{"$f":"AT18/(AV4-AT20)","v":0},{"$f":"IF(AU18=0,0,(AU18*((LOG(AU18))/LOG(2))))","v":0}]
[21,17655,12,17666,13,17671,14,17674,null,null,0,2111,null,2211,{"$f":"COUNTIF($L$7:$L$500,N19)","v":3},{"$f":"O19/$Q$4","v":0.23076923076923078},{"$f":"IF(P19=0,0,(P19*((LOG(P19))/LOG(2))))","v":-0.48818705017383146},null,null,{"$f":"N19","v":2211},{"$f":"COUNTIF(L7:L8,T19)","v":0},{"$f":"U19/(W4-U20)","v":0},{"$f":"IF(V19=0,0,(V19*((LOG(V19))/LOG(2))))","v":0},null,{"$f":"N19","v":2211},{"$f":"COUNTIF(L9:L11,Y19)","v":0},{"$f":"Z19/(AB4-Z20)","v":0},{"$f":"IF(AA19=0,0,(AA19*((LOG(AA19))/LOG(2))))","v":0},null,{"$f":"N19","v":2211},{"$f":"COUNTIF(L12:L13,AD19)","v":1},{"$f":"AE19/(AG4-AE20)","v":0.5},{"$f":"IF(AF19=0,0,(AF19*((LOG(AF19))/LOG(2))))","v":-0.5},null,{"$f":"N19","v":2211},{"$f":"COUNTIF(L14:L15,AI19)","v":1},{"$f":"AJ19/(AL4-AJ20)","v":0.5},{"$f":"IF(AK19=0,0,(AK19*((LOG(AK19))/LOG(2))))","v":-0.5},null,{"$f":"N19","v":2211},{"$f":"COUNTIF(L16:L18,AN19)","v":1},{"$f":"AO19/(AQ4-AO20)","v":0.33333333333333331},{"$f":"IF(AP19=0,0,(AP19*((LOG(AP19))/LOG(2))))","v":-0.52832083357371862},null,{"$f":"N19","v":2211},{"$f":"COUNTIF(L19:L20,AS19)","v":0},{"$f":"AT19/(AV4-AT20)","v":0},{"$f":"IF(AU19=0,0,(AU19*((LOG(AU19))/LOG(2))))","v":0}]
[21,23717,12,23859,13,23884,null,null,null,null,null,211,null,2212,{"$f":"COUNTIF($L$7:$L$500,N20)","v":0},{"$f":"O20/$Q$4","v":0},{"$f":"IF(P20=0,0,(P20*((LOG(P20))/LOG(2))))","v":0},null,null,{"$f":"N20","v":2212},{"$f":"COUNTIF(L7:L8,T20)","v":0},null,null,null,{"$f":"N20","v":2212},{"$f":"COUNTIF(L9:L11,Y20)","v":0},null,null,null,{"$f":"N20","v":2212},{"$f":"COUNTIF(L12:L13,AD20)","v":0},null,null,null,{"$f":"N20","v":2212},{"$f":"COUNTIF(L14:L15,AI20)","v":0},null,null,null,{"$f":"N20","v":2212},{"$f":"COUNTIF(L16:L18,AN20)","v":0},null,null,null,{"$f":"N20","v":2212},{"$f":"COUNTIF(L19:L20,AS20)","v":0}]
[null,null,null,null,null,null,null,null,null,null,null,null,null,2221,{"$f":"COUNTIF($L$7:$L$500,N21)","v":1},{"$f":"O21/$Q$4","v":7.6923076923076927E-2},{"$f":"IF(P21=0,0,(P21*((LOG(P21))/LOG(2))))","v":-0.28464920908777636},null,null,{"$f":"N21","v":2221},{"$f":"COUNTIF(L7:L8,T21)","v":1},{"$f":"U21/(W4-U20)","v":0.5},{"$f":"IF(V21=0,0,(V21*((LOG(V21))/LOG(2))))","v":-0.5},null,{"$f":"N21","v":2221},{"$f":"COUNTIF(L9:L11,Y21)","v":0},{"$f":"Z21/(AB4-Z20)","v":0},{"$f":"IF(AA21=0,0,(AA21*((LOG(AA21))/LOG(2))))","v":0},null,{"$f":"N21","v":2221},{"$f":"COUNTIF(L12:L13,AD21)","v":0},{"$f":"AE21/(AG4-AE20)","v":0},{"$f":"IF(AF21=0,0,(AF21*((LOG(AF21))/LOG(2))))","v":0},null,{"$f":"N21","v":2221},{"$f":"COUNTIF(L14:L15,AI21)","v":0},{"$f":"AJ21/(AL4-AJ20)","v":0},{"$f":"IF(AK21=0,0,(AK21*((LOG(AK21))/LOG(2))))","v":0},null,{"$f":"N21","v":2221},{"$f":"COUNTIF(L16:L18,AN21)","v":0},{"$f":"AO21/(AQ4-AO20)","v":0},{"$f":"IF(AP21=0,0,(AP21*((LOG(AP21))/LOG(2))))","v":0},null,{"$f":"N21","v":2221},{"$f":"COUNTIF(L19:L20,AS21)","v":0},{"$f":"AT21/(AV4-AT20)","v":0},{"$f":"IF(AU21=0,0,(AU21*((LOG(AU21))/LOG(2))))","v":0}]
[null,null,null,null,null,null,null,null,null,null,null,null,null,2222,{"$f":"COUNTIF($L$7:$L$500,N22)","v":0},{"$f":"O22/$Q$4","v":0},{"$f":"IF(P22=0,0,(P22*((LOG(P22))/LOG(2))))","v":0},null,null,{"$f":"N22","v":2222},{"$f":"COUNTIF(L7:L8,T22)","v":0},{"$f":"U22/(W4-U20)","v":0},{"$f":"IF(V22=0,0,(V22*((LOG(V22))/LOG(2))))","v":0},null,{"$f":"N22","v":2222},{"$f":"COUNTIF(L9:L11,Y22)","v":0},{"$f":"Z22/(AB4-Z20)","v":0},{"$f":"IF(AA22=0,0,(AA22*((LOG(AA22))/LOG(2))))","v":0},null,{"$f":"N22","v":2222},{"$f":"COUNTIF(L12:L13,AD22)","v":0},{"$f":"AE22/(AG4-AE20)","v":0},{"$f":"IF(AF22=0,0,(AF22*((LOG(AF22))/LOG(2))))","v":0},null,{"$f":"N22","v":2222},{"$f":"COUNTIF(L14:L15,AI22)","v":0},{"$f":"AJ22/(AL4-AJ20)","v":0},{"$f":"IF(AK22=0,0,(AK22*((LOG(AK22))/LOG(2))))","v":0},null,{"$f":"N22","v":2222},{"$f":"COUNTIF(L16:L18,AN22)","v":0},{"$f":"AO22/(AQ4-AO20)","v":0},{"$f":"IF(AP22=0,0,(AP22*((LOG(AP22))/LOG(2))))","v":0},null,{"$f":"N22","v":2222},{"$f":"COUNTIF(L19:L20,AS22)","v":0},{"$f":"AT22/(AV4-AT20)","v":0},{"$f":"IF(AU22=0,0,(AU22*((LOG(AU22))/LOG(2))))","v":0}]
[null,null,null,null,null,null,null,null,null,null,null,null,null,null,null,{"$f":"SUM(P7:P22)","v":1},{"$f":"-SUM(Q7:Q22)","v":2.968918563962097},null,null,null,null,{"$f":"SUM(V7:V22)","v":1},{"$f":"-SUM(W7:W22)","v":1},null,null,null,{"$f":"SUM(AA7:AA22)","v":1},{"$f":"-SUM(AB7:AB22)","v":0.91829583405448945},null,null,null,{"$f":"SUM(AF7:AF22)","v":1},{"$f":"-SUM(AG7:AG22)","v":1},null,null,null,{"$f":"SUM(AK7:AK22)","v":1},{"$f":"-SUM(AL7:AL22)","v":1},null,null,null,{"$f":"SUM(AP7:AP22)","v":1},{"$f":"-SUM(AQ7:AQ22)","v":1.5849625007211559},null,null,null,{"$f":"SUM(AU7:AU22)","v":1},{"$f":"-SUM(AV7:AV22)","v":0}]
[null,null,null,null,null,null,null,null,null,null,null,null,null,null,null,"U=",{"$f":"Q23/(LOG(Q4)/LOG(2))","v":0.80231507337012553},null,null,null,null,"U1=",{"$f":"W23/(LOG(W4)/LOG(2))","v":1},null,null,null,"U2=",{"$f":"AB23/(LOG(AB4)/LOG(2))","v":0.57938016428569505},null,null,null,"U3=",{"$f":"AG23/(LOG(AG4)/LOG(2))","v":1},null,null,null,"U4=",{"$f":"AL23/(LOG(AL4)/LOG(2))","v":1},null,null,null,"U5=",{"$f":"AQ23/(LOG(AQ4)/LOG(2))","v":0.99999999999999989},null,null,null,"U6=",{"$f":"AV23/(LOG(AV4)/LOG(2))","v":{"$error":"#DIV/0!"}}]
[]
[]
[null,null,null,null,null,null,null,null,null,null,null,null,null,"Total Target Seq"]
[null,null,null,null,null,null,null,null,null,null,null,null,null,{"$f":"COUNTIF(L7:L20,G3)","v":0},null,2,3,2,2,3,2]
[null,null,null,null,null,null,null,null,null,null,null,null,null,null,null,"% of reinforcement given in 6 equal intervals based on number of trials "]
[null,null,null,null,null,null,null,null,null,null,null,null,null,null,null,"%_1","%_2","%_3","%_4","%_5","%_6"]
[null,null,null,null,null,null,null,null,null,null,null,null,null,null,"target sequence",{"$f":"$G$3","v":2212},{"$f":"$G$3","v":2212},{"$f":"$G$3","v":2212},{"$f":"$G$3","v":2212},{"$f":"$G$3","v":2212},{"$f":"$G$3","v":2212}]
[null,null,null,null,null,null,null,null,null,null,null,null,null,null,"total reinforcement",{"$f":"U20","v":0},{"$f":"Z20","v":0},{"$f":"AE20","v":0},{"$f":"AJ20","v":0},{"$f":"AO20","v":0},{"$f":"AT20","v":0}]
[null,null,null,null,null,null,null,null,null,null,null,null,null,null,"% target"]
[null,null,null,null,null,null,null,null,null,null,null,null,null,null,"CCRF"]
[null,null,null,null,null,null,null,null,null,null,null,null,null,null,"% CCRf"]
[null,null,null,null,null,null,null,null,null,null,null,null,null,null,"average response rate",{"$f":"H8/P28","v":76},{"$f":"(H11-H8)/Q28","v":239},{"$f":"(H13-H11)/R28","v":155.5},{"$f":"(H15-H13)/S28","v":315},{"$f":"(H18-H15)/T28","v":1921},{"$f":"(H20-H18)/U28","v":-3786.5}]

{"sheet":"!M126A3T.ayl","index":22,"n_rows":36,"n_cols":48,"rows_kept":36,"cut":false,"hidden":false,"merged":[[4,39,4,42],[5,39,5,40],[4,44,4,47],[5,44,5,45],[4,24,4,27],[5,24,5,25],[4,29,4,32],[5,29,5,30],[4,34,4,37],[5,34,5,35],[1,1,1,2],[5,13,5,14],[26,13,26,14],[27,13,27,14],[4,19,4,22],[5,19,5,20]]}
["Report for:!M126A3T.ayl"]
["Date:","<date>"]
["Hen:","<hen>",null,null,null,"Correct Sequence",{"$f":"Start!J2","v":2212},null,null,null,null,null,null,null,null,"Total Sequences in Data",{"$f":"4994-COUNTBLANK(L7:L5000)","v":13},null,null,null,null,"Total Sequences in Block Data",{"$f":"COUNTA(L7:L8)","v":2},null,null,null,"Total Sequences in Block Data",{"$f":"COUNTA(L9:L10)","v":2},null,null,null,"Total Sequences in Block Data",{"$f":"COUNTA(L11:L13)","v":3},null,null,null,"Total Sequences in Block Data",{"$f":"COUNTA(L14:L15)","v":2},null,null,null,"Total Sequences in Block Data",{"$f":"COUNTA(L16:L17)","v":2},null,null,null,"Total Sequences in Block Data",{"$f":"COUNTA(L18:L19)","v":2}]
[null,null,null,null,null,null,null,null,null,null,null,null,null,null,null,"Total Sequences in Summary",{"$f":"SUM(O7:O22)","v":13},null,null,null,null,"Total Sequences in Block Summary",{"$f":"SUM(U7:U22)","v":2},null,null,null,"Total Sequences in Block Summary",{"$f":"SUM(Z7:Z22)","v":2},null,null,null,"Total Sequences in Block Summary",{"$f":"SUM(AE7:AE22)","v":3},null,null,null,"Total Sequences in Block Summary",{"$f":"SUM(AJ7:AJ22)","v":2},null,null,null,"Total Sequences in Block Summary",{"$f":"SUM(AO7:AO22)","v":2},null,null,null,"Total Sequences in Block Summary",{"$f":"SUM(AT7:AT22)","v":2}]
[null,null,null,null,null,null,null,null,null,null,null,null,null,null,null,null,null,null,null,"Block 1",null,null,null,null,"Block 2",null,null,null,null,"Block 3",null,null,null,null,"Block 4",null,null,null,null,"Block 5",null,null,null,null,"Block 6"]
["Sequence\nComponent\n1","Time\n1","Sequence\nComponent\n2","Time\n2","Sequence\nComponent\n3","Time\n3","Sequence\nComponent\n4","Time\n4","Sequence\nComponent\n5","Time\n5","Correct?\n0=No 1=Yes","Sequence",null,"Frequency",null,"Relative Frequency","Variability",null,null,"Frequency",null,"Relative Frequency","Variability",null,"Frequency",null,"Relative Frequency","Variability",null,"Frequency",null,"Relative Frequency","Variability",null,"Frequency",null,"Relative Frequency","Variability",null,"Frequency",null,"Relative Frequency","Variability",null,"Frequency",null,"Relative Frequency","Variability"]
[12,9,14,12,24,23,23,26,null,null,0,1122,null,1111,{"$f":"COUNTIF($L$7:$L$500,N7)","v":4},{"$f":"O7/$Q$4","v":0.30769230769230771},{"$f":"IF(P7=0,0,(P7*((LOG(P7))/LOG(2))))","v":-0.52321222096648989},null,null,{"$f":"N7","v":1111},{"$f":"COUNTIF(L7:L8,T7)","v":0},{"$f":"U7/(W4-U20)","v":0},{"$f":"IF(V7=0,0,(V7*((LOG(V7))/LOG(2))))","v":0},null,{"$f":"N7","v":1111},{"$f":"COUNTIF(L9:L10,Y7)","v":1},{"$f":"Z7/(AB4-Z20)","v":0.5},{"$f":"IF(AA7=0,0,(AA7*((LOG(AA7))/LOG(2))))","v":-0.5},null,{"$f":"N7","v":1111},{"$f":"COUNTIF(L11:L13,AD7)","v":1},{"$f":"AE7/(AG4-AE20)","v":0.33333333333333331},{"$f":"IF(AF7=0,0,(AF7*((LOG(AF7))/LOG(2))))","v":-0.52832083357371862},null,{"$f":"N7","v":1111},{"$f":"COUNTIF(L14:L15,AI7)","v":1},{"$f":"AJ7/(AL4-AJ20)","v":0.5},{"$f":"IF(AK7=0,0,(AK7*((LOG(AK7))/LOG(2))))","v":-0.5},null,{"$f":"N7","v":1111},{"$f":"COUNTIF(L16:L17,AN7)","v":0},{"$f":"AO7/(AQ4-AO20)","v":0},{"$f":"IF(AP7=0,0,(AP7*((LOG(AP7))/LOG(2))))","v":0},null,{"$f":"N7","v":1111},{"$f":"COUNTIF(L18:L19,AS7)","v":1},{"$f":"AT7/(AV4-AT20)","v":0.5},{"$f":"IF(AU7=0,0,(AU7*((LOG(AU7))/LOG(2))))","v":-0.5}]
[12,125,14,126,24,134,23,140,null,null,0,1122,null,1112,{"$f":"COUNTIF($L$7:$L$500,N8)","v":1},{"$f":"O8/$Q$4","v":7.6923076923076927E-2},{"$f":"IF(P8=0,0,(P8*((LOG(P8))/LOG(2))))","v":-0.28464920908777636},null,null,{"$f":"N8","v":1112},{"$f":"COUNTIF(L7:L8,T8)","v":0},{"$f":"U8/(W4-U20)","v":0},{"$f":"IF(V8=0,0,(V8*((LOG(V8))/LOG(2))))","v":0},null,{"$f":"N8","v":1112},{"$f":"COUNTIF(L9:L10,Y8)","v":0},{"$f":"Z8/(AB4-Z20)","v":0},{"$f":"IF(AA8=0,0,(AA8*((LOG(AA8))/LOG(2))))","v":0},null,{"$f":"N8","v":1112},{"$f":"COUNTIF(L11:L13,AD8)","v":0},{"$f":"AE8/(AG4-AE20)","v":0},{"$f":"IF(AF8=0,0,(AF8*((LOG(AF8))/LOG(2))))","v":0},null,{"$f":"N8","v":1112},{"$f":"COUNTIF(L14:L15,AI8)","v":0},{"$f":"AJ8/(AL4-AJ20)","v":0},{"$f":"IF(AK8=0,0,(AK8*((LOG(AK8))/LOG(2))))","v":0},null,{"$f":"N8","v":1112},{"$f":"COUNTIF(L16:L17,AN8)","v":1},{"$f":"AO8/(AQ4-AO20)","v":0.5},{"$f":"IF(AP8=0,0,(AP8*((LOG(AP8))/LOG(2))))","v":-0.5},null,{"$f":"N8","v":1112},{"$f":"COUNTIF(L18:L19,AS8)","v":0},{"$f":"AT8/(AV4-AT20)","v":0},{"$f":"IF(AU8=0,0,(AU8*((LOG(AU8))/LOG(2))))","v":0}]
[12,237,14,242,24,254,23,258,null,null,0,1122,null,1121,{"$f":"COUNTIF($L$7:$L$500,N9)","v":0},{"$f":"O9/$Q$4","v":0},{"$f":"IF(P9=0,0,(P9*((LOG(P9))/LOG(2))))","v":0},null,null,{"$f":"N9","v":1121},{"$f":"COUNTIF(L7:L8,T9)","v":0},{"$f":"U9/(W4-U20)","v":0},{"$f":"IF(V9=0,0,(V9*((LOG(V9))/LOG(2))))","v":0},null,{"$f":"N9","v":1121},{"$f":"COUNTIF(L9:L10,Y9)","v":0},{"$f":"Z9/(AB4-Z20)","v":0},{"$f":"IF(AA9=0,0,(AA9*((LOG(AA9))/LOG(2))))","v":0},null,{"$f":"N9","v":1121},{"$f":"COUNTIF(L11:L13,AD9)","v":0},{"$f":"AE9/(AG4-AE20)","v":0},{"$f":"IF(AF9=0,0,(AF9*((LOG(AF9))/LOG(2))))","v":0},null,{"$f":"N9","v":1121},{"$f":"COUNTIF(L14:L15,AI9)","v":0},{"$f":"AJ9/(AL4-AJ20)","v":0},{"$f":"IF(AK9=0,0,(AK9*((LOG(AK9))/LOG(2))))","v":0},null,{"$f":"N9","v":1121},{"$f":"COUNTIF(L16:L17,AN9)","v":0},{"$f":"AO9/(AQ4-AO20)","v":0},{"$f":"IF(AP9=0,0,(AP9*((LOG(AP9))/LOG(2))))","v":0},null,{"$f":"N9","v":1121},{"$f":"COUNTIF(L18:L19,AS9)","v":0},{"$f":"AT9/(AV4-AT20)","v":0},{"$f":"IF(AU9=0,0,(AU9*((LOG(AU9))/LOG(2))))","v":0}]
[12,357,14,360,13,363,14,368,null,null,0,1111,null,1122,{"$f":"COUNTIF($L$7:$L$500,N10)","v":4},{"$f":"O10/$Q$4","v":0.30769230769230771},{"$f":"IF(P10=0,0,(P10*((LOG(P10))/LOG(2))))","v":-0.52321222096648989},null,null,{"$f":"N10","v":1122},{"$f":"COUNTIF(L7:L8,T10)","v":2},{"$f":"U10/(W4-U20)","v":1},{"$f":"IF(V10=0,0,(V10*((LOG(V10))/LOG(2))))","v":0},null,{"$f":"N10","v":1122},{"$f":"COUNTIF(L9:L10,Y10)","v":1},{"$f":"Z10/(AB4-Z20)","v":0.5},{"$f":"IF(AA10=0,0,(AA10*((LOG(AA10))/LOG(2))))","v":-0.5},null,{"$f":"N10","v":1122},{"$f":"COUNTIF(L11:L13,AD10)","v":0},{"$f":"AE10/(AG4-AE20)","v":0},{"$f":"IF(AF10=0,0,(AF10*((LOG(AF10))/LOG(2))))","v":0},null,{"$f":"N10","v":1122},{"$f":"COUNTIF(L14:L15,AI10)","v":0},{"$f":"AJ10/(AL4-AJ20)","v":0},{"$f":"IF(AK10=0,0,(AK10*((LOG(AK10))/LOG(2))))","v":0},null,{"$f":"N10","v":1122},{"$f":"COUNTIF(L16:L17,AN10)","v":1},{"$f":"AO10/(AQ4-AO20)","v":0.5},{"$f":"IF(AP10=0,0,(AP10*((LOG(AP10))/LOG(2))))","v":-0.5},null,{"$f":"N10","v":1122},{"$f":"COUNTIF(L18:L19,AS10)","v":0},{"$f":"AT10/(AV4-AT20)","v":0},{"$f":"IF(AU10=0,0,(AU10*((LOG(AU10))/LOG(2))))","v":0}]
[12,535,23,554,24,559,23,568,null,null,0,1222,null,1211,{"$f":"COUNTIF($L$7:$L$500,N11)","v":0},{"$f":"O11/$Q$4","v":0},{"$f":"IF(P11=0,0,(P11*((LOG(P11))/LOG(2))))","v":0},null,null,{"$f":"N11","v":1211},{"$f":"COUNTIF(L7:L8,T11)","v":0},{"$f":"U11/(W4-U20)","v":0},{"$f":"IF(V11=0,0,(V11*((LOG(V11))/LOG(2))))","v":0},null,{"$f":"N11","v":1211},{"$f":"COUNTIF(L9:L10,Y11)","v":0},{"$f":"Z11/(AB4-Z20)","v":0},{"$f":"IF(AA11=0,0,(AA11*((LOG(AA11))/LOG(2))))","v":0},null,{"$f":"N11","v":1211},{"$f":"COUNTIF(L11:L13,AD11)","v":0},{"$f":"AE11/(AG4-AE20)","v":0},{"$f":"IF(AF11=0,0,(AF11*((LOG(AF11))/LOG(2))))","v":0},null,{"$f":"N11","v":1211},{"$f":"COUNTIF(L14:L15,AI11)","v":0},{"$f":"AJ11/(AL4-AJ20)","v":0},{"$f":"IF(AK11=0,0,(AK11*((LOG(AK11))/LOG(2))))","v":0},null,{"$f":"N11","v":1211},{"$f":"COUNTIF(L16:L17,AN11)","v":0},{"$f":"AO11/(AQ4-AO20)","v":0},{"$f":"IF(AP11=0,0,(AP11*((LOG(AP11))/LOG(2))))","v":0},null,{"$f":"N11","v":1211},{"$f":"COUNTIF(L18:L19,AS11)","v":0},{"$f":"AT11/(AV4-AT20)","v":0},{"$f":"IF(AU11=0,0,(AU11*((LOG(AU11))/LOG(2))))","v":0}]
[21,705,21,721,22,728,23,737,null,null,0,2222,null,1212,{"$f":"COUNTIF($L$7:$L$500,N12)","v":0},{"$f":"O12/$Q$4","v":0},{"$f":"IF(P12=0,0,(P12*((LOG(P12))/LOG(2))))","v":0},null,null,{"$f":"N12","v":1212},{"$f":"COUNTIF(L7:L8,T12)","v":0},{"$f":"U12/(W4-U20)","v":0},{"$f":"IF(V12=0,0,(V12*((LOG(V12))/LOG(2))))","v":0},null,{"$f":"N12","v":1212},{"$f":"COUNTIF(L9:L10,Y12)","v":0},{"$f":"Z12/(AB4-Z20)","v":0},{"$f":"IF(AA12=0,0,(AA12*((LOG(AA12))/LOG(2))))","v":0},null,{"$f":"N12","v":1212},{"$f":"COUNTIF(L11:L13,AD12)","v":0},{"$f":"AE12/(AG4-AE20)","v":0},{"$f":"IF(AF12=0,0,(AF12*((LOG(AF12))/LOG(2))))","v":0},null,{"$f":"N12","v":1212},{"$f":"COUNTIF(L14:L15,AI12)","v":0},{"$f":"AJ12/(AL4-AJ20)","v":0},{"$f":"IF(AK12=0,0,(AK12*((LOG(AK12))/LOG(2))))","v":0},null,{"$f":"N12","v":1212},{"$f":"COUNTIF(L16:L17,AN12)","v":0},{"$f":"AO12/(AQ4-AO20)","v":0},{"$f":"IF(AP12=0,0,(AP12*((LOG(AP12))/LOG(2))))","v":0},null,{"$f":"N12","v":1212},{"$f":"COUNTIF(L18:L19,AS12)","v":0},{"$f":"AT12/(AV4-AT20)","v":0},{"$f":"IF(AU12=0,0,(AU12*((LOG(AU12))/LOG(2))))","v":0}]
[12,861,14,863,13,865,14,872,null,null,0,1111,null,1221,{"$f":"COUNTIF($L$7:$L$500,N13)","v":0},{"$f":"O13/$Q$4","v":0},{"$f":"IF(P13=0,0,(P13*((LOG(P13))/LOG(2))))","v":0},null,null,{"$f":"N13","v":1221},{"$f":"COUNTIF(L7:L8,T13)","v":0},{"$f":"U13/(W4-U20)","v":0},{"$f":"IF(V13=0,0,(V13*((LOG(V13))/LOG(2))))","v":0},null,{"$f":"N13","v":1221},{"$f":"COUNTIF(L9:L10,Y13)","v":0},{"$f":"Z13/(AB4-Z20)","v":0},{"$f":"IF(AA13=0,0,(AA13*((LOG(AA13))/LOG(2))))","v":0},null,{"$f":"N13","v":1221},{"$f":"COUNTIF(L11:L13,AD13)","v":0},{"$f":"AE13/(AG4-AE20)","v":0},{"$f":"IF(AF13=0,0,(AF13*((LOG(AF13))/LOG(2))))","v":0},null,{"$f":"N13","v":1221},{"$f":"COUNTIF(L14:L15,AI13)","v":0},{"$f":"AJ13/(AL4-AJ20)","v":0},{"$f":"IF(AK13=0,0,(AK13*((LOG(AK13))/LOG(2))))","v":0},null,{"$f":"N13","v":1221},{"$f":"COUNTIF(L16:L17,AN13)","v":0},{"$f":"AO13/(AQ4-AO20)","v":0},{"$f":"IF(AP13=0,0,(AP13*((LOG(AP13))/LOG(2))))","v":0},null,{"$f":"N13","v":1221},{"$f":"COUNTIF(L18:L19,AS13)","v":0},{"$f":"AT13/(AV4-AT20)","v":0},{"$f":"IF(AU13=0,0,(AU13*((LOG(AU13))/LOG(2))))","v":0}]
[21,1107,21,1502,22,1911,23,1953,null,null,0,2222,null,1222,{"$f":"COUNTIF($L$7:$L$500,N14)","v":1},{"$f":"O14/$Q$4","v":7.6923076923076927E-2},{"$f":"IF(P14=0,0,(P14*((LOG(P14))/LOG(2))))","v":-0.28464920908777636},null,null,{"$f":"N14","v":1222},{"$f":"COUNTIF(L7:L8,T14)","v":0},{"$f":"U14/(W4-U20)","v":0},{"$f":"IF(V14=0,0,(V14*((LOG(V14))/LOG(2))))","v":0},null,{"$f":"N14","v":1222},{"$f":"COUNTIF(L9:L10,Y14)","v":0},{"$f":"Z14/(AB4-Z20)","v":0},{"$f":"IF(AA14=0,0,(AA14*((LOG(AA14))/LOG(2))))","v":0},null,{"$f":"N14","v":1222},{"$f":"COUNTIF(L11:L13,AD14)","v":1},{"$f":"AE14/(AG4-AE20)","v":0.33333333333333331},{"$f":"IF(AF14=0,0,(AF14*((LOG(AF14))/LOG(2))))","v":-0.52832083357371862},null,{"$f":"N14","v":1222},{"$f":"COUNTIF(L14:L15,AI14)","v":0},{"$f":"AJ14/(AL4-AJ20)","v":0},{"$f":"IF(AK14=0,0,(AK14*((LOG(AK14))/LOG(2))))","v":0},null,{"$f":"N14","v":1222},{"$f":"COUNTIF(L16:L17,AN14)","v":0},{"$f":"AO14/(AQ4-AO20)","v":0},{"$f":"IF(AP14=0,0,(AP14*((LOG(AP14))/LOG(2))))","v":0},null,{"$f":"N14","v":1222},{"$f":"COUNTIF(L18:L19,AS14)","v":0},{"$f":"AT14/(AV4-AT20)","v":0},{"$f":"IF(AU14=0,0,(AU14*((LOG(AU14))/LOG(2))))","v":0}]
[12,2048,14,2058,13,2071,14,2084,null,null,0,1111,null,2111,{"$f":"COUNTIF($L$7:$L$500,N15)","v":0},{"$f":"O15/$Q$4","v":0},{"$f":"IF(P15=0,0,(P15*((LOG(P15))/LOG(2))))","v":0},null,null,{"$f":"N15","v":2111},{"$f":"COUNTIF(L7:L8,T15)","v":0},{"$f":"U15/(W4-U20)","v":0},{"$f":"IF(V15=0,0,(V15*((LOG(V15))/LOG(2))))","v":0},null,{"$f":"N15","v":2111},{"$f":"COUNTIF(L9:L10,Y15)","v":0},{"$f":"Z15/(AB4-Z20)","v":0},{"$f":"IF(AA15=0,0,(AA15*((LOG(AA15))/LOG(2))))","v":0},null,{"$f":"N15","v":2111},{"$f":"COUNTIF(L11:L13,AD15)","v":0},{"$f":"AE15/(AG4-AE20)","v":0},{"$f":"IF(AF15=0,0,(AF15*((LOG(AF15))/LOG(2))))","v":0},null,{"$f":"N15","v":2111},{"$f":"COUNTIF(L14:L15,AI15)","v":0},{"$f":"AJ15/(AL4-AJ20)","v":0},{"$f":"IF(AK15=0,0,(AK15*((LOG(AK15))/LOG(2))))","v":0},null,{"$f":"N15","v":2111},{"$f":"COUNTIF(L16:L17,AN15)","v":0},{"$f":"AO15/(AQ4-AO20)","v":0},{"$f":"IF(AP15=0,0,(AP15*((LOG(AP15))/LOG(2))))","v":0},null,{"$f":"N15","v":2111},{"$f":"COUNTIF(L18:L19,AS15)","v":0},{"$f":"AT15/(AV4-AT20)","v":0},{"$f":"IF(AU15=0,0,(AU15*((LOG(AU15))/LOG(2))))","v":0}]
[12,2236,14,2238,13,2244,23,2259,null,null,0,1112,null,2112,{"$f":"COUNTIF($L$7:$L$500,N16)","v":0},{"$f":"O16/$Q$4","v":0},{"$f":"IF(P16=0,0,(P16*((LOG(P16))/LOG(2))))","v":0},null,null,{"$f":"N16","v":2112},{"$f":"COUNTIF(L7:L8,T16)","v":0},{"$f":"U16/(W4-U20)","v":0},{"$f":"IF(V16=0,0,(V16*((LOG(V16))/LOG(2))))","v":0},null,{"$f":"N16","v":2112},{"$f":"COUNTIF(L9:L10,Y16)","v":0},{"$f":"Z16/(AB4-Z20)","v":0},{"$f":"IF(AA16=0,0,(AA16*((LOG(AA16))/LOG(2))))","v":0},null,{"$f":"N16","v":2112},{"$f":"COUNTIF(L11:L13,AD16)","v":0},{"$f":"AE16/(AG4-AE20)","v":0},{"$f":"IF(AF16=0,0,(AF16*((LOG(AF16))/LOG(2))))","v":0},null,{"$f":"N16","v":2112},{"$f":"COUNTIF(L14:L15,AI16)","v":0},{"$f":"AJ16/(AL4-AJ20)","v":0},{"$f":"IF(AK16=0,0,(AK16*((LOG(AK16))/LOG(2))))","v":0},null,{"$f":"N16","v":2112},{"$f":"COUNTIF(L16:L17,AN16)","v":0},{"$f":"AO16/(AQ4-AO20)","v":0},{"$f":"IF(AP16=0,0,(AP16*((LOG(AP16))/LOG(2))))","v":0},null,{"$f":"N16","v":2112},{"$f":"COUNTIF(L18:L19,AS16)","v":0},{"$f":"AT16/(AV4-AT20)","v":0},{"$f":"IF(AU16=0,0,(AU16*((LOG(AU16))/LOG(2))))","v":0}]
[12,2384,14,2388,24,2400,23,2406,null,null,0,1122,null,2121,{"$f":"COUNTIF($L$7:$L$500,N17)","v":0},{"$f":"O17/$Q$4","v":0},{"$f":"IF(P17=0,0,(P17*((LOG(P17))/LOG(2))))","v":0},null,null,{"$f":"N17","v":2121},{"$f":"COUNTIF(L7:L8,T17)","v":0},{"$f":"U17/(W4-U20)","v":0},{"$f":"IF(V17=0,0,(V17*((LOG(V17))/LOG(2))))","v":0},null,{"$f":"N17","v":2121},{"$f":"COUNTIF(L9:L10,Y17)","v":0},{"$f":"Z17/(AB4-Z20)","v":0},{"$f":"IF(AA17=0,0,(AA17*((LOG(AA17))/LOG(2))))","v":0},null,{"$f":"N17","v":2121},{"$f":"COUNTIF(L11:L13,AD17)","v":0},{"$f":"AE17/(AG4-AE20)","v":0},{"$f":"IF(AF17=0,0,(AF17*((LOG(AF17))/LOG(2))))","v":0},null,{"$f":"N17","v":2121},{"$f":"COUNTIF(L14:L15,AI17)","v":0},{"$f":"AJ17/(AL4-AJ20)","v":0},{"$f":"IF(AK17=0,0,(AK17*((LOG(AK17))/LOG(2))))","v":0},null,{"$f":"N17","v":2121},{"$f":"COUNTIF(L16:L17,AN17)","v":0},{"$f":"AO17/(AQ4-AO20)","v":0},{"$f":"IF(AP17=0,0,(AP17*((LOG(AP17))/LOG(2))))","v":0},null,{"$f":"N17","v":2121},{"$f":"COUNTIF(L18:L19,AS17)","v":0},{"$f":"AT17/(AV4-AT20)","v":0},{"$f":"IF(AU17=0,0,(AU17*((LOG(AU17))/LOG(2))))","v":0}]
[21,7510,21,7524,22,7527,23,7625,null,null,0,2222,null,2122,{"$f":"COUNTIF($L$7:$L$500,N18)","v":0},{"$f":"O18/$Q$4","v":0},{"$f":"IF(P18=0,0,(P18*((LOG(P18))/LOG(2))))","v":0},null,null,{"$f":"N18","v":2122},{"$f":"COUNTIF(L7:L8,T18)","v":0},{"$f":"U18/(W4-U20)","v":0},{"$f":"IF(V18=0,0,(V18*((LOG(V18))/LOG(2))))","v":0},null,{"$f":"N18","v":2122},{"$f":"COUNTIF(L9:L10,Y18)","v":0},{"$f":"Z18/(AB4-Z20)","v":0},{"$f":"IF(AA18=0,0,(AA18*((LOG(AA18))/LOG(2))))","v":0},null,{"$f":"N18","v":2122},{"$f":"COUNTIF(L11:L13,AD18)","v":0},{"$f":"AE18/(AG4-AE20)","v":0},{"$f":"IF(AF18=0,0,(AF18*((LOG(AF18))/LOG(2))))","v":0},null,{"$f":"N18","v":2122},{"$f":"COUNTIF(L14:L15,AI18)","v":0},{"$f":"AJ18/(AL4-AJ20)","v":0},{"$f":"IF(AK18=0,0,(AK18*((LOG(AK18))/LOG(2))))","v":0},null,{"$f":"N18","v":2122},{"$f":"COUNTIF(L16:L17,AN18)","v":0},{"$f":"AO18/(AQ4-AO20)","v":0},{"$f":"IF(AP18=0,0,(AP18*((LOG(AP18))/LOG(2))))","v":0},null,{"$f":"N18","v":2122},{"$f":"COUNTIF(L18:L19,AS18)","v":0},{"$f":"AT18/(AV4-AT20)","v":0},{"$f":"IF(AU18=0,0,(AU18*((LOG(AU18))/LOG(2))))","v":0}]
[12,7751,14,7756,13,7760,14,7765,null,null,0,1111,null,2211,{"$f":"COUNTIF($L$7:$L$500,N19)","v":0},{"$f":"O19/$Q$4","v":0},{"$f":"IF(P19=0,0,(P19*((LOG(P19))/LOG(2))))","v":0},null,null,{"$f":"N19","v":2211},{"$f":"COUNTIF(L7:L8,T19)","v":0},{"$f":"U19/(W4-U20)","v":0},{"$f":"IF(V19=0,0,(V19*((LOG(V19))/LOG(2))))","v":0},null,{"$f":"N19","v":2211},{"$f":"COUNTIF(L9:L10,Y19)","v":0},{"$f":"Z19/(AB4-Z20)","v":0},{"$f":"IF(AA19=0,0,(AA19*((LOG(AA19))/LOG(2))))","v":0},null,{"$f":"N19","v":2211},{"$f":"COUNTIF(L11:L13,AD19)","v":0},{"$f":"AE19/(AG4-AE20)","v":0},{"$f":"IF(AF19=0,0,(AF19*((LOG(AF19))/LOG(2))))","v":0},null,{"$f":"N19","v":2211},{"$f":"COUNTIF(L14:L15,AI19)","v":0},{"$f":"AJ19/(AL4-AJ20)","v":0},{"$f":"IF(AK19=0,0,(AK19*((LOG(AK19))/LOG(2))))","v":0},null,{"$f":"N19","v":2211},{"$f":"COUNTIF(L16:L17,AN19)","v":0},{"$f":"AO19/(AQ4-AO20)","v":0},{"$f":"IF(AP19=0,0,(AP19*((LOG(AP19))/LOG(2))))","v":0},null,{"$f":"N19","v":2211},{"$f":"COUNTIF(L18:L19,AS19)","v":0},{"$f":"AT19/(AV4-AT20)","v":0},{"$f":"IF(AU19=0,0,(AU19*((LOG(AU19))/LOG(2))))","v":0}]
[null,null,null,null,null,null,null,null,null,null,null,null,null,2212,{"$f":"COUNTIF($L$7:$L$500,N20)","v":0},{"$f":"O20/$Q$4","v":0},{"$f":"IF(P20=0,0,(P20*((LOG(P20))/LOG(2))))","v":0},null,null,{"$f":"N20","v":2212},{"$f":"COUNTIF(L7:L8,T20)","v":0},null,null,null,{"$f":"N20","v":2212},{"$f":"COUNTIF(L9:L10,Y20)","v":0},null,null,null,{"$f":"N20","v":2212},{"$f":"COUNTIF(L11:L13,AD20)","v":0},null,null,null,{"$f":"N20","v":2212},{"$f":"COUNTIF(L14:L15,AI20)","v":0},null,null,null,{"$f":"N20","v":2212},{"$f":"COUNTIF(L16:L17,AN20)","v":0},null,null,null,{"$f":"N20","v":2212},{"$f":"COUNTIF(L18:L19,AS20)","v":0}]
[null,null,null,null,null,null,null,null,null,null,null,null,null,2221,{"$f":"COUNTIF($L$7:$L$500,N21)","v":0},{"$f":"O21/$Q$4","v":0},{"$f":"IF(P21=0,0,(P21*((LOG(P21))/LOG(2))))","v":0},null,null,{"$f":"N21","v":2221},{"$f":"COUNTIF(L7:L8,T21)","v":0},{"$f":"U21/(W4-U20)","v":0},{"$f":"IF(V21=0,0,(V21*((LOG(V21))/LOG(2))))","v":0},null,{"$f":"N21","v":2221},{"$f":"COUNTIF(L9:L10,Y21)","v":0},{"$f":"Z21/(AB4-Z20)","v":0},{"$f":"IF(AA21=0,0,(AA21*((LOG(AA21))/LOG(2))))","v":0},null,{"$f":"N21","v":2221},{"$f":"COUNTIF(L11:L13,AD21)","v":0},{"$f":"AE21/(AG4-AE20)","v":0},{"$f":"IF(AF21=0,0,(AF21*((LOG(AF21))/LOG(2))))","v":0},null,{"$f":"N21","v":2221},{"$f":"COUNTIF(L14:L15,AI21)","v":0},{"$f":"AJ21/(AL4-AJ20)","v":0},{"$f":"IF(AK21=0,0,(AK21*((LOG(AK21))/LOG(2))))","v":0},null,{"$f":"N21","v":2221},{"$f":"COUNTIF(L16:L17,AN21)","v":0},{"$f":"AO21/(AQ4-AO20)","v":0},{"$f":"IF(AP21=0,0,(AP21*((LOG(AP21))/LOG(2))))","v":0},null,{"$f":"N21","v":2221},{"$f":"COUNTIF(L18:L19,AS21)","v":0},{"$f":"AT21/(AV4-AT20)","v":0},{"$f":"IF(AU21=0,0,(AU21*((LOG(AU21))/LOG(2))))","v":0}]
[null,null,null,null,null,null,null,null,null,null,null,null,null,2222,{"$f":"COUNTIF($L$7:$L$500,N22)","v":3},{"$f":"O22/$Q$4","v":0.23076923076923078},{"$f":"IF(P22=0,0,(P22*((LOG(P22))/LOG(2))))","v":-0.48818705017383146},null,null,{"$f":"N22","v":2222},{"$f":"COUNTIF(L7:L8,T22)","v":0},{"$f":"U22/(W4-U20)","v":0},{"$f":"IF(V22=0,0,(V22*((LOG(V22))/LOG(2))))","v":0},null,{"$f":"N22","v":2222},{"$f":"COUNTIF(L9:L10,Y22)","v":0},{"$f":"Z22/(AB4-Z20)","v":0},{"$f":"IF(AA22=0,0,(AA22*((LOG(AA22))/LOG(2))))","v":0},null,{"$f":"N22","v":2222},{"$f":"COUNTIF(L11:L13,AD22)","v":1},{"$f":"AE22/(AG4-AE20)","v":0.33333333333333331},{"$f":"IF(AF22=0,0,(AF22*((LOG(AF22))/LOG(2))))","v":-0.52832083357371862},null,{"$f":"N22","v":2222},{"$f":"COUNTIF(L14:L15,AI22)","v":1},{"$f":"AJ22/(AL4-AJ20)","v":0.5},{"$f":"IF(AK22=0,0,(AK22*((LOG(AK22))/LOG(2))))","v":-0.5},null,{"$f":"N22","v":2222},{"$f":"COUNTIF(L16:L17,AN22)","v":0},{"$f":"AO22/(AQ4-AO20)","v":0},{"$f":"IF(AP22=0,0,(AP22*((LOG(AP22))/LOG(2))))","v":0},null,{"$f":"N22","v":2222},{"$f":"COUNTIF(L18:L19,AS22)","v":1},{"$f":"AT22/(AV4-AT20)","v":0.5},{"$f":"IF(AU22=0,0,(AU22*((LOG(AU22))/LOG(2))))","v":-0.5}]
[null,null,null,null,null,null,null,null,null,null,null,null,null,null,null,{"$f":"SUM(P7:P22)","v":1},{"$f":"-SUM(Q7:Q22)","v":2.103909910282364},null,null,null,null,{"$f":"SUM(V7:V22)","v":1},{"$f":"-SUM(W7:W22)","v":0},null,null,null,{"$f":"SUM(AA7:AA22)","v":1},{"$f":"-SUM(AB7:AB22)","v":1},null,null,null,{"$f":"SUM(AF7:AF22)","v":1},{"$f":"-SUM(AG7:AG22)","v":1.5849625007211559},null,null,null,{"$f":"SUM(AK7:AK22)","v":1},{"$f":"-SUM(AL7:AL22)","v":1},null,null,null,{"$f":"SUM(AP7:AP22)","v":1},{"$f":"-SUM(AQ7:AQ22)","v":1},null,null,null,{"$f":"SUM(AU7:AU22)","v":1},{"$f":"-SUM(AV7:AV22)","v":1}]
[null,null,null,null,null,null,null,null,null,null,null,null,null,null,null,"U=",{"$f":"Q23/(LOG(Q4)/LOG(2))","v":0.56855673123605388},null,null,null,null,"U1=",{"$f":"W23/(LOG(W4)/LOG(2))","v":0},null,null,null,"U2=",{"$f":"AB23/(LOG(AB4)/LOG(2))","v":1},null,null,null,"U3=",{"$f":"AG23/(LOG(AG4)/LOG(2))","v":0.99999999999999989},null,null,null,"U4=",{"$f":"AL23/(LOG(AL4)/LOG(2))","v":1},null,null,null,"U5=",{"$f":"AQ23/(LOG(AQ4)/LOG(2))","v":1},null,null,null,"U6=",{"$f":"AV23/(LOG(AV4)/LOG(2))","v":1}]
[]
[]
[null,null,null,null,null,null,null,null,null,null,null,null,null,"Total Target Seq"]
[null,null,null,null,null,null,null,null,null,null,null,null,null,{"$f":"COUNTIF(L7:L19,G3)","v":0},null,2,2,3,2,2,2]
[null,null,null,null,null,null,null,null,null,null,null,null,null,null,null,"% of reinforcement given in 6 equal intervals based on number of trials "]
[null,null,null,null,null,null,null,null,null,null,null,null,null,null,null,"%_1","%_2","%_3","%_4","%_5","%_6"]
[null,null,null,null,null,null,null,null,null,null,null,null,null,null,"target sequence",{"$f":"$G$3","v":2212},{"$f":"$G$3","v":2212},{"$f":"$G$3","v":2212},{"$f":"$G$3","v":2212},{"$f":"$G$3","v":2212},{"$f":"$G$3","v":2212}]
[null,null,null,null,null,null,null,null,null,null,null,null,null,null,"total reinforcement",{"$f":"U20","v":0},{"$f":"Z20","v":0},{"$f":"AE20","v":0},{"$f":"AJ20","v":0},{"$f":"AO20","v":0},{"$f":"AT20","v":0}]
[null,null,null,null,null,null,null,null,null,null,null,null,null,null,"% target"]
[null,null,null,null,null,null,null,null,null,null,null,null,null,null,"CCRF"]
[null,null,null,null,null,null,null,null,null,null,null,null,null,null,"% CCRf"]
[null,null,null,null,null,null,null,null,null,null,null,null,null,null,"average response rate",{"$f":"H8/P28","v":70},{"$f":"(H10-H8)/Q28","v":114},{"$f":"(H13-H10)/R28","v":168},{"$f":"(H15-H13)/S28","v":606},{"$f":"(H17-H15)/T28","v":161},{"$f":"(H19-H17)/U28","v":2679.5}]

{"sheet":"!M12795T.ayl","index":23,"n_rows":53,"n_cols":48,"rows_kept":53,"cut":false,"hidden":false,"merged":[[4,39,4,42],[5,39,5,40],[4,44,4,47],[5,44,5,45],[4,24,4,27],[5,24,5,25],[4,29,4,32],[5,29,5,30],[4,34,4,37],[5,34,5,35],[1,1,1,2],[5,13,5,14],[26,13,26,14],[27,13,27,14],[4,19,4,22],[5,19,5,20]]}
["Report for:!M12795T.ayl"]
["Date:","<date>"]
["Hen:","<hen>",null,null,null,"Correct Sequence",{"$f":"Start!J2","v":2212},null,null,null,null,null,null,null,null,"Total Sequences in Data",{"$f":"4994-COUNTBLANK(L7:L5000)","v":47},null,null,null,null,"Total Sequences in Block Data",{"$f":"COUNTA(L7:L14)","v":8},null,null,null,"Total Sequences in Block Data",{"$f":"COUNTA(L15:L22)","v":8},null,null,null,"Total Sequences in Block Data",{"$f":"COUNTA(L23:L29)","v":7},null,null,null,"Total Sequences in Block Data",{"$f":"COUNTA(L30:L37)","v":8},null,null,null,"Total Sequences in Block Data",{"$f":"COUNTA(L38:L45)","v":8},null,null,null,"Total Sequences in Block Data",{"$f":"COUNTA(L46:L53)","v":8}]
[null,null,null,null,null,null,null,null,null,null,null,null,null,null,null,"Total Sequences in Summary",{"$f":"SUM(O7:O22)","v":47},null,null,null,null,"Total Sequences in Block Summary",{"$f":"SUM(U7:U22)","v":8},null,null,null,"Total Sequences in Block Summary",{"$f":"SUM(Z7:Z22)","v":8},null,null,null,"Total Sequences in Block Summary",{"$f":"SUM(AE7:AE22)","v":7},null,null,null,"Total Sequences in Block Summary",{"$f":"SUM(AJ7:AJ22)","v":8},null,null,null,"Total Sequences in Block Summary",{"$f":"SUM(AO7:AO22)","v":8},null,null,null,"Total Sequences in Block Summary",{"$f":"SUM(AT7:AT22)","v":8}]
[null,null,null,null,null,null,null,null,null,null,null,null,null,null,null,null,null,null,null,"Block 1",null,null,null,null,"Block 2",null,null,null,null,"Block 3",null,null,null,null,"Block 4",null,null,null,null,"Block 5",null,null,null,null,"Block 6"]
["Sequence\nComponent\n1","Time\n1","Sequence\nComponent\n2","Time\n2","Sequence\nComponent\n3","Time\n3","Sequence\nComponent\n4","Time\n4","Sequence\nComponent\n5","Time\n5","Correct?\n0=No 1=Yes","Sequence",null,"Frequency",null,"Relative Frequency","Variability",null,null,"Frequency",null,"Relative Frequency","Variability",null,"Frequency",null,"Relative Frequency","Variability",null,"Frequency",null,"Relative Frequency","Variability",null,"Frequency",null,"Relative Frequency","Variability",null,"Frequency",null,"Relative Frequency","Variability",null,"Frequency",null,"Relative Frequency","Variability"]
[12,5,23,16,24,25,23,34,null,null,0,1222,null,1111,{"$f":"COUNTIF($L$7:$L$500,N7)","v":16},{"$f":"O7/$Q$4","v":0.34042553191489361},{"$f":"IF(P7=0,0,(P7*((LOG(P7))/LOG(2))))","v":-0.52922173674132333},null,null,{"$f":"N7","v":1111},{"$f":"COUNTIF(L7:L14,T7)","v":1},{"$f":"U7/(W4-U20)","v":0.125},{"$f":"IF(V7=0,0,(V7*((LOG(V7))/LOG(2))))","v":-0.375},null,{"$f":"N7","v":1111},{"$f":"COUNTIF(L15:L22,Y7)","v":4},{"$f":"Z7/(AB4-Z20)","v":0.5},{"$f":"IF(AA7=0,0,(AA7*((LOG(AA7))/LOG(2))))","v":-0.5},null,{"$f":"N7","v":1111},{"$f":"COUNTIF(L23:L29,AD7)","v":3},{"$f":"AE7/(AG4-AE20)","v":0.42857142857142855},{"$f":"IF(AF7=0,0,(AF7*((LOG(AF7))/LOG(2))))","v":-0.52388246628704915},null,{"$f":"N7","v":1111},{"$f":"COUNTIF(L30:L37,AI7)","v":3},{"$f":"AJ7/(AL4-AJ20)","v":0.375},{"$f":"IF(AK7=0,0,(AK7*((LOG(AK7))/LOG(2))))","v":-0.53063906222956647},null,{"$f":"N7","v":1111},{"$f":"COUNTIF(L38:L45,AN7)","v":3},{"$f":"AO7/(AQ4-AO20)","v":0.375},{"$f":"IF(AP7=0,0,(AP7*((LOG(AP7))/LOG(2))))","v":-0.53063906222956647},null,{"$f":"N7","v":1111},{"$f":"COUNTIF(L46:L53,AS7)","v":2},{"$f":"AT7/(AV4-AT20)","v":0.25},{"$f":"IF(AU7=0,0,(AU7*((LOG(AU7))/LOG(2))))","v":-0.5}]
[12,137,23,147,24,156,14,176,null,null,0,1221,null,1112,{"$f":"COUNTIF($L$7:$L$500,N8)","v":2},{"$f":"O8/$Q$4","v":4.2553191489361701E-2},{"$f":"IF(P8=0,0,(P8*((LOG(P8))/LOG(2))))","v":-0.19381229156075053},null,null,{"$f":"N8","v":1112},{"$f":"COUNTIF(L7:L14,T8)","v":1},{"$f":"U8/(W4-U20)","v":0.125},{"$f":"IF(V8=0,0,(V8*((LOG(V8))/LOG(2))))","v":-0.375},null,{"$f":"N8","v":1112},{"$f":"COUNTIF(L15:L22,Y8)","v":0},{"$f":"Z8/(AB4-Z20)","v":0},{"$f":"IF(AA8=0,0,(AA8*((LOG(AA8))/LOG(2))))","v":0},null,{"$f":"N8","v":1112},{"$f":"COUNTIF(L23:L29,AD8)","v":0},{"$f":"AE8/(AG4-AE20)","v":0},{"$f":"IF(AF8=0,0,(AF8*((LOG(AF8))/LOG(2))))","v":0},null,{"$f":"N8","v":1112},{"$f":"COUNTIF(L30:L37,AI8)","v":0},{"$f":"AJ8/(AL4-AJ20)","v":0},{"$f":"IF(AK8=0,0,(AK8*((LOG(AK8))/LOG(2))))","v":0},null,{"$f":"N8","v":1112},{"$f":"COUNTIF(L38:L45,AN8)","v":0},{"$f":"AO8/(AQ4-AO20)","v":0},{"$f":"IF(AP8=0,0,(AP8*((LOG(AP8))/LOG(2))))","v":0},null,{"$f":"N8","v":1112},{"$f":"COUNTIF(L46:L53,AS8)","v":1},{"$f":"AT8/(AV4-AT20)","v":0.125},{"$f":"IF(AU8=0,0,(AU8*((LOG(AU8))/LOG(2))))","v":-0.375}]
[12,277,14,279,24,289,23,298,null,null,0,1122,null,1121,{"$f":"COUNTIF($L$7:$L$500,N9)","v":1},{"$f":"O9/$Q$4","v":2.1276595744680851E-2},{"$f":"IF(P9=0,0,(P9*((LOG(P9))/LOG(2))))","v":-0.11818274152505612},null,null,{"$f":"N9","v":1121},{"$f":"COUNTIF(L7:L14,T9)","v":0},{"$f":"U9/(W4-U20)","v":0},{"$f":"IF(V9=0,0,(V9*((LOG(V9))/LOG(2))))","v":0},null,{"$f":"N9","v":1121},{"$f":"COUNTIF(L15:L22,Y9)","v":0},{"$f":"Z9/(AB4-Z20)","v":0},{"$f":"IF(AA9=0,0,(AA9*((LOG(AA9))/LOG(2))))","v":0},null,{"$f":"N9","v":1121},{"$f":"COUNTIF(L23:L29,AD9)","v":0},{"$f":"AE9/(AG4-AE20)","v":0},{"$f":"IF(AF9=0,0,(AF9*((LOG(AF9))/LOG(2))))","v":0},null,{"$f":"N9","v":1121},{"$f":"COUNTIF(L30:L37,AI9)","v":0},{"$f":"AJ9/(AL4-AJ20)","v":0},{"$f":"IF(AK9=0,0,(AK9*((LOG(AK9))/LOG(2))))","v":0},null,{"$f":"N9","v":1121},{"$f":"COUNTIF(L38:L45,AN9)","v":0},{"$f":"AO9/(AQ4-AO20)","v":0},{"$f":"IF(AP9=0,0,(AP9*((LOG(AP9))/LOG(2))))","v":0},null,{"$f":"N9","v":1121},{"$f":"COUNTIF(L46:L53,AS9)","v":1},{"$f":"AT9/(AV4-AT20)","v":0.125},{"$f":"IF(AU9=0,0,(AU9*((LOG(AU9))/LOG(2))))","v":-0.375}]
[12,420,23,423,13,432,14,437,null,null,0,1211,null,1122,{"$f":"COUNTIF($L$7:$L$500,N10)","v":6},{"$f":"O10/$Q$4","v":0.1276595744680851},{"$f":"IF(P10=0,0,(P10*((LOG(P10))/LOG(2))))","v":-0.37910123629231673},null,null,{"$f":"N10","v":1122},{"$f":"COUNTIF(L7:L14,T10)","v":1},{"$f":"U10/(W4-U20)","v":0.125},{"$f":"IF(V10=0,0,(V10*((LOG(V10))/LOG(2))))","v":-0.375},null,{"$f":"N10","v":1122},{"$f":"COUNTIF(L15:L22,Y10)","v":2},{"$f":"Z10/(AB4-Z20)","v":0.25},{"$f":"IF(AA10=0,0,(AA10*((LOG(AA10))/LOG(2))))","v":-0.5},null,{"$f":"N10","v":1122},{"$f":"COUNTIF(L23:L29,AD10)","v":2},{"$f":"AE10/(AG4-AE20)","v":0.2857142857142857},{"$f":"IF(AF10=0,0,(AF10*((LOG(AF10))/LOG(2))))","v":-0.51638712058788683},null,{"$f":"N10","v":1122},{"$f":"COUNTIF(L30:L37,AI10)","v":0},{"$f":"AJ10/(AL4-AJ20)","v":0},{"$f":"IF(AK10=0,0,(AK10*((LOG(AK10))/LOG(2))))","v":0},null,{"$f":"N10","v":1122},{"$f":"COUNTIF(L38:L45,AN10)","v":1},{"$f":"AO10/(AQ4-AO20)","v":0.125},{"$f":"IF(AP10=0,0,(AP10*((LOG(AP10))/LOG(2))))","v":-0.375},null,{"$f":"N10","v":1122},{"$f":"COUNTIF(L46:L53,AS10)","v":0},{"$f":"AT10/(AV4-AT20)","v":0},{"$f":"IF(AU10=0,0,(AU10*((LOG(AU10))/LOG(2))))","v":0}]
[12,596,23,603,24,610,23,617,null,null,0,1222,null,1211,{"$f":"COUNTIF($L$7:$L$500,N11)","v":4},{"$f":"O11/$Q$4","v":8.5106382978723402E-2},{"$f":"IF(P11=0,0,(P11*((LOG(P11))/LOG(2))))","v":-0.30251820014277764},null,null,{"$f":"N11","v":1211},{"$f":"COUNTIF(L7:L14,T11)","v":1},{"$f":"U11/(W4-U20)","v":0.125},{"$f":"IF(V11=0,0,(V11*((LOG(V11))/LOG(2))))","v":-0.375},null,{"$f":"N11","v":1211},{"$f":"COUNTIF(L15:L22,Y11)","v":1},{"$f":"Z11/(AB4-Z20)","v":0.125},{"$f":"IF(AA11=0,0,(AA11*((LOG(AA11))/LOG(2))))","v":-0.375},null,{"$f":"N11","v":1211},{"$f":"COUNTIF(L23:L29,AD11)","v":1},{"$f":"AE11/(AG4-AE20)","v":0.14285714285714285},{"$f":"IF(AF11=0,0,(AF11*((LOG(AF11))/LOG(2))))","v":-0.40105070315108626},null,{"$f":"N11","v":1211},{"$f":"COUNTIF(L30:L37,AI11)","v":1},{"$f":"AJ11/(AL4-AJ20)","v":0.125},{"$f":"IF(AK11=0,0,(AK11*((LOG(AK11))/LOG(2))))","v":-0.375},null,{"$f":"N11","v":1211},{"$f":"COUNTIF(L38:L45,AN11)","v":0},{"$f":"AO11/(AQ4-AO20)","v":0},{"$f":"IF(AP11=0,0,(AP11*((LOG(AP11))/LOG(2))))","v":0},null,{"$f":"N11","v":1211},{"$f":"COUNTIF(L46:L53,AS11)","v":0},{"$f":"AT11/(AV4-AT20)","v":0},{"$f":"IF(AU11=0,0,(AU11*((LOG(AU11))/LOG(2))))","v":0}]
[12,734,14,749,13,754,14,758,null,null,0,1111,null,1212,{"$f":"COUNTIF($L$7:$L$500,N12)","v":0},{"$f":"O12/$Q$4","v":0},{"$f":"IF(P12=0,0,(P12*((LOG(P12))/LOG(2))))","v":0},null,null,{"$f":"N12","v":1212},{"$f":"COUNTIF(L7:L14,T12)","v":0},{"$f":"U12/(W4-U20)","v":0},{"$f":"IF(V12=0,0,(V12*((LOG(V12))/LOG(2))))","v":0},null,{"$f":"N12","v":1212},{"$f":"COUNTIF(L15:L22,Y12)","v":0},{"$f":"Z12/(AB4-Z20)","v":0},{"$f":"IF(AA12=0,0,(AA12*((LOG(AA12))/LOG(2))))","v":0},null,{"$f":"N12","v":1212},{"$f":"COUNTIF(L23:L29,AD12)","v":0},{"$f":"AE12/(AG4-AE20)","v":0},{"$f":"IF(AF12=0,0,(AF12*((LOG(AF12))/LOG(2))))","v":0},null,{"$f":"N12","v":1212},{"$f":"COUNTIF(L30:L37,AI12)","v":0},{"$f":"AJ12/(AL4-AJ20)","v":0},{"$f":"IF(AK12=0,0,(AK12*((LOG(AK12))/LOG(2))))","v":0},null,{"$f":"N12","v":1212},{"$f":"COUNTIF(L38:L45,AN12)","v":0},{"$f":"AO12/(AQ4-AO20)","v":0},{"$f":"IF(AP12=0,0,(AP12*((LOG(AP12))/LOG(2))))","v":0},null,{"$f":"N12","v":1212},{"$f":"COUNTIF(L46:L53,AS12)","v":0},{"$f":"AT12/(AV4-AT20)","v":0},{"$f":"IF(AU12=0,0,(AU12*((LOG(AU12))/LOG(2))))","v":0}]
[12,872,14,878,13,944,23,1166,null,null,0,1112,null,1221,{"$f":"COUNTIF($L$7:$L$500,N13)","v":1},{"$f":"O13/$Q$4","v":2.1276595744680851E-2},{"$f":"IF(P13=0,0,(P13*((LOG(P13))/LOG(2))))","v":-0.11818274152505612},null,null,{"$f":"N13","v":1221},{"$f":"COUNTIF(L7:L14,T13)","v":1},{"$f":"U13/(W4-U20)","v":0.125},{"$f":"IF(V13=0,0,(V13*((LOG(V13))/LOG(2))))","v":-0.375},null,{"$f":"N13","v":1221},{"$f":"COUNTIF(L15:L22,Y13)","v":0},{"$f":"Z13/(AB4-Z20)","v":0},{"$f":"IF(AA13=0,0,(AA13*((LOG(AA13))/LOG(2))))","v":0},null,{"$f":"N13","v":1221},{"$f":"COUNTIF(L23:L29,AD13)","v":0},{"$f":"AE13/(AG4-AE20)","v":0},{"$f":"IF(AF13=0,0,(AF13*((LOG(AF13))/LOG(2))))","v":0},null,{"$f":"N13","v":1221},{"$f":"COUNTIF(L30:L37,AI13)","v":0},{"$f":"AJ13/(AL4-AJ20)","v":0},{"$f":"IF(AK13=0,0,(AK13*((LOG(AK13))/LOG(2))))","v":0},null,{"$f":"N13","v":1221},{"$f":"COUNTIF(L38:L45,AN13)","v":0},{"$f":"AO13/(AQ4-AO20)","v":0},{"$f":"IF(AP13=0,0,(AP13*((LOG(AP13))/LOG(2))))","v":0},null,{"$f":"N13","v":1221},{"$f":"COUNTIF(L46:L53,AS13)","v":0},{"$f":"AT13/(AV4-AT20)","v":0},{"$f":"IF(AU13=0,0,(AU13*((LOG(AU13))/LOG(2))))","v":0}]
[21,1290,21,1295,22,1301,23,1310,null,null,0,2222,null,1222,{"$f":"COUNTIF($L$7:$L$500,N14)","v":5},{"$f":"O14/$Q$4","v":0.10638297872340426},{"$f":"IF(P14=0,0,(P14*((LOG(P14))/LOG(2))))","v":-0.34390008050960374},null,null,{"$f":"N14","v":1222},{"$f":"COUNTIF(L7:L14,T14)","v":2},{"$f":"U14/(W4-U20)","v":0.25},{"$f":"IF(V14=0,0,(V14*((LOG(V14))/LOG(2))))","v":-0.5},null,{"$f":"N14","v":1222},{"$f":"COUNTIF(L15:L22,Y14)","v":1},{"$f":"Z14/(AB4-Z20)","v":0.125},{"$f":"IF(AA14=0,0,(AA14*((LOG(AA14))/LOG(2))))","v":-0.375},null,{"$f":"N14","v":1222},{"$f":"COUNTIF(L23:L29,AD14)","v":0},{"$f":"AE14/(AG4-AE20)","v":0},{"$f":"IF(AF14=0,0,(AF14*((LOG(AF14))/LOG(2))))","v":0},null,{"$f":"N14","v":1222},{"$f":"COUNTIF(L30:L37,AI14)","v":1},{"$f":"AJ14/(AL4-AJ20)","v":0.125},{"$f":"IF(AK14=0,0,(AK14*((LOG(AK14))/LOG(2))))","v":-0.375},null,{"$f":"N14","v":1222},{"$f":"COUNTIF(L38:L45,AN14)","v":1},{"$f":"AO14/(AQ4-AO20)","v":0.125},{"$f":"IF(AP14=0,0,(AP14*((LOG(AP14))/LOG(2))))","v":-0.375},null,{"$f":"N14","v":1222},{"$f":"COUNTIF(L46:L53,AS14)","v":0},{"$f":"AT14/(AV4-AT20)","v":0},{"$f":"IF(AU14=0,0,(AU14*((LOG(AU14))/LOG(2))))","v":0}]
[12,1406,14,1410,24,1421,23,1429,null,null,0,1122,null,2111,{"$f":"COUNTIF($L$7:$L$500,N15)","v":5},{"$f":"O15/$Q$4","v":0.10638297872340426},{"$f":"IF(P15=0,0,(P15*((LOG(P15))/LOG(2))))","v":-0.34390008050960374},null,null,{"$f":"N15","v":2111},{"$f":"COUNTIF(L7:L14,T15)","v":0},{"$f":"U15/(W4-U20)","v":0},{"$f":"IF(V15=0,0,(V15*((LOG(V15))/LOG(2))))","v":0},null,{"$f":"N15","v":2111},{"$f":"COUNTIF(L15:L22,Y15)","v":0},{"$f":"Z15/(AB4-Z20)","v":0},{"$f":"IF(AA15=0,0,(AA15*((LOG(AA15))/LOG(2))))","v":0},null,{"$f":"N15","v":2111},{"$f":"COUNTIF(L23:L29,AD15)","v":1},{"$f":"AE15/(AG4-AE20)","v":0.14285714285714285},{"$f":"IF(AF15=0,0,(AF15*((LOG(AF15))/LOG(2))))","v":-0.40105070315108626},null,{"$f":"N15","v":2111},{"$f":"COUNTIF(L30:L37,AI15)","v":1},{"$f":"AJ15/(AL4-AJ20)","v":0.125},{"$f":"IF(AK15=0,0,(AK15*((LOG(AK15))/LOG(2))))","v":-0.375},null,{"$f":"N15","v":2111},{"$f":"COUNTIF(L38:L45,AN15)","v":2},{"$f":"AO15/(AQ4-AO20)","v":0.25},{"$f":"IF(AP15=0,0,(AP15*((LOG(AP15))/LOG(2))))","v":-0.5},null,{"$f":"N15","v":2111},{"$f":"COUNTIF(L46:L53,AS15)","v":1},{"$f":"AT15/(AV4-AT20)","v":0.125},{"$f":"IF(AU15=0,0,(AU15*((LOG(AU15))/LOG(2))))","v":-0.375}]
[12,1546,14,1555,13,1558,14,1567,null,null,0,1111,null,2112,{"$f":"COUNTIF($L$7:$L$500,N16)","v":0},{"$f":"O16/$Q$4","v":0},{"$f":"IF(P16=0,0,(P16*((LOG(P16))/LOG(2))))","v":0},null,null,{"$f":"N16","v":2112},{"$f":"COUNTIF(L7:L14,T16)","v":0},{"$f":"U16/(W4-U20)","v":0},{"$f":"IF(V16=0,0,(V16*((LOG(V16))/LOG(2))))","v":0},null,{"$f":"N16","v":2112},{"$f":"COUNTIF(L15:L22,Y16)","v":0},{"$f":"Z16/(AB4-Z20)","v":0},{"$f":"IF(AA16=0,0,(AA16*((LOG(AA16))/LOG(2))))","v":0},null,{"$f":"N16","v":2112},{"$f":"COUNTIF(L23:L29,AD16)","v":0},{"$f":"AE16/(AG4-AE20)","v":0},{"$f":"IF(AF16=0,0,(AF16*((LOG(AF16))/LOG(2))))","v":0},null,{"$f":"N16","v":2112},{"$f":"COUNTIF(L30:L37,AI16)","v":0},{"$f":"AJ16/(AL4-AJ20)","v":0},{"$f":"IF(AK16=0,0,(AK16*((LOG(AK16))/LOG(2))))","v":0},null,{"$f":"N16","v":2112},{"$f":"COUNTIF(L38:L45,AN16)","v":0},{"$f":"AO16/(AQ4-AO20)","v":0},{"$f":"IF(AP16=0,0,(AP16*((LOG(AP16))/LOG(2))))","v":0},null,{"$f":"N16","v":2112},{"$f":"COUNTIF(L46:L53,AS16)","v":0},{"$f":"AT16/(AV4-AT20)","v":0},{"$f":"IF(AU16=0,0,(AU16*((LOG(AU16))/LOG(2))))","v":0}]
[12,1788,14,1790,24,1801,23,1805,null,null,0,1122,null,2121,{"$f":"COUNTIF($L$7:$L$500,N17)","v":0},{"$f":"O17/$Q$4","v":0},{"$f":"IF(P17=0,0,(P17*((LOG(P17))/LOG(2))))","v":0},null,null,{"$f":"N17","v":2121},{"$f":"COUNTIF(L7:L14,T17)","v":0},{"$f":"U17/(W4-U20)","v":0},{"$f":"IF(V17=0,0,(V17*((LOG(V17))/LOG(2))))","v":0},null,{"$f":"N17","v":2121},{"$f":"COUNTIF(L15:L22,Y17)","v":0},{"$f":"Z17/(AB4-Z20)","v":0},{"$f":"IF(AA17=0,0,(AA17*((LOG(AA17))/LOG(2))))","v":0},null,{"$f":"N17","v":2121},{"$f":"COUNTIF(L23:L29,AD17)","v":0},{"$f":"AE17/(AG4-AE20)","v":0},{"$f":"IF(AF17=0,0,(AF17*((LOG(AF17))/LOG(2))))","v":0},null,{"$f":"N17","v":2121},{"$f":"COUNTIF(L30:L37,AI17)","v":0},{"$f":"AJ17/(AL4-AJ20)","v":0},{"$f":"IF(AK17=0,0,(AK17*((LOG(AK17))/LOG(2))))","v":0},null,{"$f":"N17","v":2121},{"$f":"COUNTIF(L38:L45,AN17)","v":0},{"$f":"AO17/(AQ4-AO20)","v":0},{"$f":"IF(AP17=0,0,(AP17*((LOG(AP17))/LOG(2))))","v":0},null,{"$f":"N17","v":2121},{"$f":"COUNTIF(L46:L53,AS17)","v":0},{"$f":"AT17/(AV4-AT20)","v":0},{"$f":"IF(AU17=0,0,(AU17*((LOG(AU17))/LOG(2))))","v":0}]
[12,1908,14,1920,13,1931,14,1934,null,null,0,1111,null,2122,{"$f":"COUNTIF($L$7:$L$500,N18)","v":0},{"$f":"O18/$Q$4","v":0},{"$f":"IF(P18=0,0,(P18*((LOG(P18))/LOG(2))))","v":0},null,null,{"$f":"N18","v":2122},{"$f":"COUNTIF(L7:L14,T18)","v":0},{"$f":"U18/(W4-U20)","v":0},{"$f":"IF(V18=0,0,(V18*((LOG(V18))/LOG(2))))","v":0},null,{"$f":"N18","v":2122},{"$f":"COUNTIF(L15:L22,Y18)","v":0},{"$f":"Z18/(AB4-Z20)","v":0},{"$f":"IF(AA18=0,0,(AA18*((LOG(AA18))/LOG(2))))","v":0},null,{"$f":"N18","v":2122},{"$f":"COUNTIF(L23:L29,AD18)","v":0},{"$f":"AE18/(AG4-AE20)","v":0},{"$f":"IF(AF18=0,0,(AF18*((LOG(AF18))/LOG(2))))","v":0},null,{"$f":"N18","v":2122},{"$f":"COUNTIF(L30:L37,AI18)","v":0},{"$f":"AJ18/(AL4-AJ20)","v":0},{"$f":"IF(AK18=0,0,(AK18*((LOG(AK18))/LOG(2))))","v":0},null,{"$f":"N18","v":2122},{"$f":"COUNTIF(L38:L45,AN18)","v":0},{"$f":"AO18/(AQ4-AO20)","v":0},{"$f":"IF(AP18=0,0,(AP18*((LOG(AP18))/LOG(2))))","v":0},null,{"$f":"N18","v":2122},{"$f":"COUNTIF(L46:L53,AS18)","v":0},{"$f":"AT18/(AV4-AT20)","v":0},{"$f":"IF(AU18=0,0,(AU18*((LOG(AU18))/LOG(2))))","v":0}]
[12,2057,14,2080,13,2084,14,2090,null,null,0,1111,null,2211,{"$f":"COUNTIF($L$7:$L$500,N19)","v":2},{"$f":"O19/$Q$4","v":4.2553191489361701E-2},{"$f":"IF(P19=0,0,(P19*((LOG(P19))/LOG(2))))","v":-0.19381229156075053},null,null,{"$f":"N19","v":2211},{"$f":"COUNTIF(L7:L14,T19)","v":0},{"$f":"U19/(W4-U20)","v":0},{"$f":"IF(V19=0,0,(V19*((LOG(V19))/LOG(2))))","v":0},null,{"$f":"N19","v":2211},{"$f":"COUNTIF(L15:L22,Y19)","v":0},{"$f":"Z19/(AB4-Z20)","v":0},{"$f":"IF(AA19=0,0,(AA19*((LOG(AA19))/LOG(2))))","v":0},null,{"$f":"N19","v":2211},{"$f":"COUNTIF(L23:L29,AD19)","v":0},{"$f":"AE19/(AG4-AE20)","v":0},{"$f":"IF(AF19=0,0,(AF19*((LOG(AF19))/LOG(2))))","v":0},null,{"$f":"N19","v":2211},{"$f":"COUNTIF(L30:L37,AI19)","v":0},{"$f":"AJ19/(AL4-AJ20)","v":0},{"$f":"IF(AK19=0,0,(AK19*((LOG(AK19))/LOG(2))))","v":0},null,{"$f":"N19","v":2211},{"$f":"COUNTIF(L38:L45,AN19)","v":1},{"$f":"AO19/(AQ4-AO20)","v":0.125},{"$f":"IF(AP19=0,0,(AP19*((LOG(AP19))/LOG(2))))","v":-0.375},null,{"$f":"N19","v":2211},{"$f":"COUNTIF(L46:L53,AS19)","v":1},{"$f":"AT19/(AV4-AT20)","v":0.125},{"$f":"IF(AU19=0,0,(AU19*((LOG(AU19))/LOG(2))))","v":-0.375}]
[12,2275,23,2280,13,2296,14,2305,null,null,0,1211,null,2212,{"$f":"COUNTIF($L$7:$L$500,N20)","v":0},{"$f":"O20/$Q$4","v":0},{"$f":"IF(P20=0,0,(P20*((LOG(P20))/LOG(2))))","v":0},null,null,{"$f":"N20","v":2212},{"$f":"COUNTIF(L7:L14,T20)","v":0},null,null,null,{"$f":"N20","v":2212},{"$f":"COUNTIF(L15:L22,Y20)","v":0},null,null,null,{"$f":"N20","v":2212},{"$f":"COUNTIF(L23:L29,AD20)","v":0},null,null,null,{"$f":"N20","v":2212},{"$f":"COUNTIF(L30:L37,AI20)","v":0},null,null,null,{"$f":"N20","v":2212},{"$f":"COUNTIF(L38:L45,AN20)","v":0},null,null,null,{"$f":"N20","v":2212},{"$f":"COUNTIF(L46:L53,AS20)","v":0}]
[12,2428,23,2438,24,2446,23,2456,null,null,0,1222,null,2221,{"$f":"COUNTIF($L$7:$L$500,N21)","v":2},{"$f":"O21/$Q$4","v":4.2553191489361701E-2},{"$f":"IF(P21=0,0,(P21*((LOG(P21))/LOG(2))))","v":-0.19381229156075053},null,null,{"$f":"N21","v":2221},{"$f":"COUNTIF(L7:L14,T21)","v":0},{"$f":"U21/(W4-U20)","v":0},{"$f":"IF(V21=0,0,(V21*((LOG(V21))/LOG(2))))","v":0},null,{"$f":"N21","v":2221},{"$f":"COUNTIF(L15:L22,Y21)","v":0},{"$f":"Z21/(AB4-Z20)","v":0},{"$f":"IF(AA21=0,0,(AA21*((LOG(AA21))/LOG(2))))","v":0},null,{"$f":"N21","v":2221},{"$f":"COUNTIF(L23:L29,AD21)","v":0},{"$f":"AE21/(AG4-AE20)","v":0},{"$f":"IF(AF21=0,0,(AF21*((LOG(AF21))/LOG(2))))","v":0},null,{"$f":"N21","v":2221},{"$f":"COUNTIF(L30:L37,AI21)","v":0},{"$f":"AJ21/(AL4-AJ20)","v":0},{"$f":"IF(AK21=0,0,(AK21*((LOG(AK21))/LOG(2))))","v":0},null,{"$f":"N21","v":2221},{"$f":"COUNTIF(L38:L45,AN21)","v":0},{"$f":"AO21/(AQ4-AO20)","v":0},{"$f":"IF(AP21=0,0,(AP21*((LOG(AP21))/LOG(2))))","v":0},null,{"$f":"N21","v":2221},{"$f":"COUNTIF(L46:L53,AS21)","v":2},{"$f":"AT21/(AV4-AT20)","v":0.25},{"$f":"IF(AU21=0,0,(AU21*((LOG(AU21))/LOG(2))))","v":-0.5}]
[12,2600,14,2624,13,2629,14,2634,null,null,0,1111,null,2222,{"$f":"COUNTIF($L$7:$L$500,N22)","v":3},{"$f":"O22/$Q$4","v":6.3829787234042548E-2},{"$f":"IF(P22=0,0,(P22*((LOG(P22))/LOG(2))))","v":-0.2533804053802009},null,null,{"$f":"N22","v":2222},{"$f":"COUNTIF(L7:L14,T22)","v":1},{"$f":"U22/(W4-U20)","v":0.125},{"$f":"IF(V22=0,0,(V22*((LOG(V22))/LOG(2))))","v":-0.375},null,{"$f":"N22","v":2222},{"$f":"COUNTIF(L15:L22,Y22)","v":0},{"$f":"Z22/(AB4-Z20)","v":0},{"$f":"IF(AA22=0,0,(AA22*((LOG(AA22))/LOG(2))))","v":0},null,{"$f":"N22","v":2222},{"$f":"COUNTIF(L23:L29,AD22)","v":0},{"$f":"AE22/(AG4-AE20)","v":0},{"$f":"IF(AF22=0,0,(AF22*((LOG(AF22))/LOG(2))))","v":0},null,{"$f":"N22","v":2222},{"$f":"COUNTIF(L30:L37,AI22)","v":2},{"$f":"AJ22/(AL4-AJ20)","v":0.25},{"$f":"IF(AK22=0,0,(AK22*((LOG(AK22))/LOG(2))))","v":-0.5},null,{"$f":"N22","v":2222},{"$f":"COUNTIF(L38:L45,AN22)","v":0},{"$f":"AO22/(AQ4-AO20)","v":0},{"$f":"IF(AP22=0,0,(AP22*((LOG(AP22))/LOG(2))))","v":0},null,{"$f":"N22","v":2222},{"$f":"COUNTIF(L46:L53,AS22)","v":0},{"$f":"AT22/(AV4-AT20)","v":0},{"$f":"IF(AU22=0,0,(AU22*((LOG(AU22))/LOG(2))))","v":0}]
[21,2740,12,2749,13,2753,14,2758,null,null,0,2111,null,null,null,{"$f":"SUM(P7:P22)","v":1},{"$f":"-SUM(Q7:Q22)","v":2.96982409730819},null,null,null,null,{"$f":"SUM(V7:V22)","v":1},{"$f":"-SUM(W7:W22)","v":2.75},null,null,null,{"$f":"SUM(AA7:AA22)","v":1},{"$f":"-SUM(AB7:AB22)","v":1.75},null,null,null,{"$f":"SUM(AF7:AF22)","v":0.99999999999999978},{"$f":"-SUM(AG7:AG22)","v":1.8423709931771088},null,null,null,{"$f":"SUM(AK7:AK22)","v":1},{"$f":"-SUM(AL7:AL22)","v":2.1556390622295662},null,null,null,{"$f":"SUM(AP7:AP22)","v":1},{"$f":"-SUM(AQ7:AQ22)","v":2.1556390622295662},null,null,null,{"$f":"SUM(AU7:AU22)","v":1},{"$f":"-SUM(AV7:AV22)","v":2.5}]
[12,2880,14,2897,13,2900,14,2903,null,null,0,1111,null,null,null,"U=",{"$f":"Q23/(LOG(Q4)/LOG(2))","v":0.5346613721754081},null,null,null,null,"U1=",{"$f":"W23/(LOG(W4)/LOG(2))","v":0.91666666666666663},null,null,null,"U2=",{"$f":"AB23/(LOG(AB4)/LOG(2))","v":0.58333333333333337},null,null,null,"U3=",{"$f":"AG23/(LOG(AG4)/LOG(2))","v":0.65626578908903099},null,null,null,"U4=",{"$f":"AL23/(LOG(AL4)/LOG(2))","v":0.71854635407652212},null,null,null,"U5=",{"$f":"AQ23/(LOG(AQ4)/LOG(2))","v":0.71854635407652212},null,null,null,"U6=",{"$f":"AV23/(LOG(AV4)/LOG(2))","v":0.83333333333333337}]
[12,3005,14,3009,13,3014,14,3021,null,null,0,1111]
[12,3138,14,3140,24,3149,23,3160,null,null,0,1122]
[12,3276,23,3289,13,3295,14,3302,null,null,0,1211,null,"Total Target Seq"]
[12,3443,14,3448,24,3457,23,3467,null,null,0,1122,null,{"$f":"COUNTIF(L7:L53,G3)","v":0},null,8,8,7,8,8,8]
[12,3640,14,3645,13,3650,14,3656,null,null,0,1111,null,null,null,"% of reinforcement given in 6 equal intervals based on number of trials "]
[12,4457,14,4460,13,4469,14,4472,null,null,0,1111,null,null,null,"%_1","%_2","%_3","%_4","%_5","%_6"]
[21,4626,21,4631,22,4635,23,4639,null,null,0,2222,null,null,"target sequence",{"$f":"$G$3","v":2212},{"$f":"$G$3","v":2212},{"$f":"$G$3","v":2212},{"$f":"$G$3","v":2212},{"$f":"$G$3","v":2212},{"$f":"$G$3","v":2212}]
[12,4813,14,4818,13,4825,14,4831,null,null,0,1111,null,null,"total reinforcement",{"$f":"U20","v":0},{"$f":"Z20","v":0},{"$f":"AE20","v":0},{"$f":"AJ20","v":0},{"$f":"AO20","v":0},{"$f":"AT20","v":0}]
[21,4933,12,4943,13,4945,14,4949,null,null,0,2111,null,null,"% target"]
[12,5058,23,5083,13,5099,14,5103,null,null,0,1211,null,null,"CCRF"]
[12,5222,14,5228,13,5234,14,5241,null,null,0,1111,null,null,"% CCRf"]
[12,5365,23,5373,24,5379,23,5386,null,null,0,1222,null,null,"average response rate",{"$f":"H14/P28","v":163.75},{"$f":"(H22-H14)/Q28","v":165.5},{"$f":"(H29-H22)/R28","v":146},{"$f":"(H37-H29)/S28","v":241.375},{"$f":"(H45-H37)/T28","v":226.25},{"$f":"(H53-H45)/U28","v":1448.125}]
[21,5554,21,5573,22,5581,23,5587,null,null,0,2222]
[12,5697,14,5704,13,5709,14,5715,null,null,0,1111]
[12,5903,14,5910,24,5923,23,5928,null,null,0,1122]
[21,6074,12,6084,13,6089,14,6093,null,null,0,2111]
[21,6412,12,6420,13,6426,14,6432,null,null,0,2111]
[12,6944,23,6967,24,6975,23,6982,null,null,0,1222]
[12,7087,14,7095,13,7097,14,7103,null,null,0,1111]
[12,7215,14,7221,13,7226,14,7233,null,null,0,1111]
[21,7365,21,7382,11,7391,12,7397,null,null,0,2211]
[21,9271,12,9293,13,9299,14,9305,null,null,0,2111]
[21,9483,21,9486,22,9500,14,9506,null,null,0,2221]
[21,9641,21,9644,11,9662,12,9668,null,null,0,2211]
[12,9811,14,9842,13,9844,23,9856,null,null,0,1112]
[12,10619,14,10623,24,10637,14,10650,null,null,0,1121]
[12,10927,14,10930,13,10937,14,10942,null,null,0,1111]
[21,11626,21,11639,22,11643,14,18539,null,null,0,2221]
[12,18967,14,18971,13,18976,14,18982,null,null,0,1111]

{"sheet":"!M128B2T.ayl","index":24,"n_rows":36,"n_cols":48,"rows_kept":36,"cut":false,"hidden":false,"merged":[[4,39,4,42],[5,39,5,40],[4,44,4,47],[5,44,5,45],[4,24,4,27],[5,24,5,25],[4,29,4,32],[5,29,5,30],[4,34,4,37],[5,34,5,35],[1,1,1,2],[5,13,5,14],[26,13,26,14],[27,13,27,14],[4,19,4,22],[5,19,5,20]]}
["Report for:!M128B2T.ayl"]
["Date:","<date>"]
["Hen:","<hen>",null,null,null,"Correct Sequence",{"$f":"Start!J2","v":2212},null,null,null,null,null,null,null,null,"Total Sequences in Data",{"$f":"4994-COUNTBLANK(L7:L5000)","v":13},null,null,null,null,"Total Sequences in Block Data",{"$f":"COUNTA(L7:L8)","v":2},null,null,null,"Total Sequences in Block Data",{"$f":"COUNTA(L9:L10)","v":2},null,null,null,"Total Sequences in Block Data",{"$f":"COUNTA(L11:L13)","v":3},null,null,null,"Total Sequences in Block Data",{"$f":"COUNTA(L14:L15)","v":2},null,null,null,"Total Sequences in Block Data",{"$f":"COUNTA(L16:L17)","v":2},null,null,null,"Total Sequences in Block Data",{"$f":"COUNTA(L18:L19)","v":2}]
[null,null,null,null,null,null,null,null,null,null,null,null,null,null,null,"Total Sequences in Summary",{"$f":"SUM(O7:O22)","v":13},null,null,null,null,"Total Sequences in Block Summary",{"$f":"SUM(U7:U22)","v":2},null,null,null,"Total Sequences in Block Summary",{"$f":"SUM(Z7:Z22)","v":2},null,null,null,"Total Sequences in Block Summary",{"$f":"SUM(AE7:AE22)","v":3},null,null,null,"Total Sequences in Block Summary",{"$f":"SUM(AJ7:AJ22)","v":2},null,null,null,"Total Sequences in Block Summary",{"$f":"SUM(AO7:AO22)","v":2},null,null,null,"Total Sequences in Block Summary",{"$f":"SUM(AT7:AT22)","v":2}]
[null,null,null,null,null,null,null,null,null,null,null,null,null,null,null,null,null,null,null,"Block 1",null,null,null,null,"Block 2",null,null,null,null,"Block 3",null,null,null,null,"Block 4",null,null,null,null,"Block 5",null,null,null,null,"Block 6"]
["Sequence\nComponent\n1","Time\n1","Sequence\nComponent\n2","Time\n2","Sequence\nComponent\n3","Time\n3","Sequence\nComponent\n4","Time\n4","Sequence\nComponent\n5","Time\n5","Correct?\n0=No 1=Yes","Sequence",null,"Frequency",null,"Relative Frequency","Variability",null,null,"Frequency",null,"Relative Frequency","Variability",null,"Frequency",null,"Relative Frequency","Variability",null,"Frequency",null,"Relative Frequency","Variability",null,"Frequency",null,"Relative Frequency","Variability",null,"Frequency",null,"Relative Frequency","Variability",null,"Frequency",null,"Relative Frequency","Variability"]
[21,27,12,38,13,42,14,47,null,null,0,2111,null,1111,{"$f":"COUNTIF($L$7:$L$500,N7)","v":2},{"$f":"O7/$Q$4","v":0.15384615384615385},{"$f":"IF(P7=0,0,(P7*((LOG(P7))/LOG(2))))","v":-0.4154522643293988},null,null,{"$f":"N7","v":1111},{"$f":"COUNTIF(L7:L8,T7)","v":0},{"$f":"U7/(W4-U20)","v":0},{"$f":"IF(V7=0,0,(V7*((LOG(V7))/LOG(2))))","v":0},null,{"$f":"N7","v":1111},{"$f":"COUNTIF(L9:L10,Y7)","v":0},{"$f":"Z7/(AB4-Z20)","v":0},{"$f":"IF(AA7=0,0,(AA7*((LOG(AA7))/LOG(2))))","v":0},null,{"$f":"N7","v":1111},{"$f":"COUNTIF(L11:L13,AD7)","v":2},{"$f":"AE7/(AG4-AE20)","v":0.66666666666666663},{"$f":"IF(AF7=0,0,(AF7*((LOG(AF7))/LOG(2))))","v":-0.38997500048077083},null,{"$f":"N7","v":1111},{"$f":"COUNTIF(L14:L15,AI7)","v":0},{"$f":"AJ7/(AL4-AJ20)","v":0},{"$f":"IF(AK7=0,0,(AK7*((LOG(AK7))/LOG(2))))","v":0},null,{"$f":"N7","v":1111},{"$f":"COUNTIF(L16:L17,AN7)","v":0},{"$f":"AO7/(AQ4-AO20)","v":0},{"$f":"IF(AP7=0,0,(AP7*((LOG(AP7))/LOG(2))))","v":0},null,{"$f":"N7","v":1111},{"$f":"COUNTIF(L18:L19,AS7)","v":0},{"$f":"AT7/(AV4-AT20)","v":0},{"$f":"IF(AU7=0,0,(AU7*((LOG(AU7))/LOG(2))))","v":0}]
[12,149,23,162,24,165,23,168,null,null,0,1222,null,1112,{"$f":"COUNTIF($L$7:$L$500,N8)","v":0},{"$f":"O8/$Q$4","v":0},{"$f":"IF(P8=0,0,(P8*((LOG(P8))/LOG(2))))","v":0},null,null,{"$f":"N8","v":1112},{"$f":"COUNTIF(L7:L8,T8)","v":0},{"$f":"U8/(W4-U20)","v":0},{"$f":"IF(V8=0,0,(V8*((LOG(V8))/LOG(2))))","v":0},null,{"$f":"N8","v":1112},{"$f":"COUNTIF(L9:L10,Y8)","v":0},{"$f":"Z8/(AB4-Z20)","v":0},{"$f":"IF(AA8=0,0,(AA8*((LOG(AA8))/LOG(2))))","v":0},null,{"$f":"N8","v":1112},{"$f":"COUNTIF(L11:L13,AD8)","v":0},{"$f":"AE8/(AG4-AE20)","v":0},{"$f":"IF(AF8=0,0,(AF8*((LOG(AF8))/LOG(2))))","v":0},null,{"$f":"N8","v":1112},{"$f":"COUNTIF(L14:L15,AI8)","v":0},{"$f":"AJ8/(AL4-AJ20)","v":0},{"$f":"IF(AK8=0,0,(AK8*((LOG(AK8))/LOG(2))))","v":0},null,{"$f":"N8","v":1112},{"$f":"COUNTIF(L16:L17,AN8)","v":0},{"$f":"AO8/(AQ4-AO20)","v":0},{"$f":"IF(AP8=0,0,(AP8*((LOG(AP8))/LOG(2))))","v":0},null,{"$f":"N8","v":1112},{"$f":"COUNTIF(L18:L19,AS8)","v":0},{"$f":"AT8/(AV4-AT20)","v":0},{"$f":"IF(AU8=0,0,(AU8*((LOG(AU8))/LOG(2))))","v":0}]
[12,289,23,299,24,304,23,309,null,null,0,1222,null,1121,{"$f":"COUNTIF($L$7:$L$500,N9)","v":1},{"$f":"O9/$Q$4","v":7.6923076923076927E-2},{"$f":"IF(P9=0,0,(P9*((LOG(P9))/LOG(2))))","v":-0.28464920908777636},null,null,{"$f":"N9","v":1121},{"$f":"COUNTIF(L7:L8,T9)","v":0},{"$f":"U9/(W4-U20)","v":0},{"$f":"IF(V9=0,0,(V9*((LOG(V9))/LOG(2))))","v":0},null,{"$f":"N9","v":1121},{"$f":"COUNTIF(L9:L10,Y9)","v":0},{"$f":"Z9/(AB4-Z20)","v":0},{"$f":"IF(AA9=0,0,(AA9*((LOG(AA9))/LOG(2))))","v":0},null,{"$f":"N9","v":1121},{"$f":"COUNTIF(L11:L13,AD9)","v":0},{"$f":"AE9/(AG4-AE20)","v":0},{"$f":"IF(AF9=0,0,(AF9*((LOG(AF9))/LOG(2))))","v":0},null,{"$f":"N9","v":1121},{"$f":"COUNTIF(L14:L15,AI9)","v":0},{"$f":"AJ9/(AL4-AJ20)","v":0},{"$f":"IF(AK9=0,0,(AK9*((LOG(AK9))/LOG(2))))","v":0},null,{"$f":"N9","v":1121},{"$f":"COUNTIF(L16:L17,AN9)","v":0},{"$f":"AO9/(AQ4-AO20)","v":0},{"$f":"IF(AP9=0,0,(AP9*((LOG(AP9))/LOG(2))))","v":0},null,{"$f":"N9","v":1121},{"$f":"COUNTIF(L18:L19,AS9)","v":1},{"$f":"AT9/(AV4-AT20)","v":0.5},{"$f":"IF(AU9=0,0,(AU9*((LOG(AU9))/LOG(2))))","v":-0.5}]
[12,408,14,412,24,422,23,426,null,null,0,1122,null,1122,{"$f":"COUNTIF($L$7:$L$500,N10)","v":1},{"$f":"O10/$Q$4","v":7.6923076923076927E-2},{"$f":"IF(P10=0,0,(P10*((LOG(P10))/LOG(2))))","v":-0.28464920908777636},null,null,{"$f":"N10","v":1122},{"$f":"COUNTIF(L7:L8,T10)","v":0},{"$f":"U10/(W4-U20)","v":0},{"$f":"IF(V10=0,0,(V10*((LOG(V10))/LOG(2))))","v":0},null,{"$f":"N10","v":1122},{"$f":"COUNTIF(L9:L10,Y10)","v":1},{"$f":"Z10/(AB4-Z20)","v":0.5},{"$f":"IF(AA10=0,0,(AA10*((LOG(AA10))/LOG(2))))","v":-0.5},null,{"$f":"N10","v":1122},{"$f":"COUNTIF(L11:L13,AD10)","v":0},{"$f":"AE10/(AG4-AE20)","v":0},{"$f":"IF(AF10=0,0,(AF10*((LOG(AF10))/LOG(2))))","v":0},null,{"$f":"N10","v":1122},{"$f":"COUNTIF(L14:L15,AI10)","v":0},{"$f":"AJ10/(AL4-AJ20)","v":0},{"$f":"IF(AK10=0,0,(AK10*((LOG(AK10))/LOG(2))))","v":0},null,{"$f":"N10","v":1122},{"$f":"COUNTIF(L16:L17,AN10)","v":0},{"$f":"AO10/(AQ4-AO20)","v":0},{"$f":"IF(AP10=0,0,(AP10*((LOG(AP10))/LOG(2))))","v":0},null,{"$f":"N10","v":1122},{"$f":"COUNTIF(L18:L19,AS10)","v":0},{"$f":"AT10/(AV4-AT20)","v":0},{"$f":"IF(AU10=0,0,(AU10*((LOG(AU10))/LOG(2))))","v":0}]
[21,543,12,555,13,559,14,565,null,null,0,2111,null,1211,{"$f":"COUNTIF($L$7:$L$500,N11)","v":1},{"$f":"O11/$Q$4","v":7.6923076923076927E-2},{"$f":"IF(P11=0,0,(P11*((LOG(P11))/LOG(2))))","v":-0.28464920908777636},null,null,{"$f":"N11","v":1211},{"$f":"COUNTIF(L7:L8,T11)","v":0},{"$f":"U11/(W4-U20)","v":0},{"$f":"IF(V11=0,0,(V11*((LOG(V11))/LOG(2))))","v":0},null,{"$f":"N11","v":1211},{"$f":"COUNTIF(L9:L10,Y11)","v":0},{"$f":"Z11/(AB4-Z20)","v":0},{"$f":"IF(AA11=0,0,(AA11*((LOG(AA11))/LOG(2))))","v":0},null,{"$f":"N11","v":1211},{"$f":"COUNTIF(L11:L13,AD11)","v":0},{"$f":"AE11/(AG4-AE20)","v":0},{"$f":"IF(AF11=0,0,(AF11*((LOG(AF11))/LOG(2))))","v":0},null,{"$f":"N11","v":1211},{"$f":"COUNTIF(L14:L15,AI11)","v":0},{"$f":"AJ11/(AL4-AJ20)","v":0},{"$f":"IF(AK11=0,0,(AK11*((LOG(AK11))/LOG(2))))","v":0},null,{"$f":"N11","v":1211},{"$f":"COUNTIF(L16:L17,AN11)","v":1},{"$f":"AO11/(AQ4-AO20)","v":0.5},{"$f":"IF(AP11=0,0,(AP11*((LOG(AP11))/LOG(2))))","v":-0.5},null,{"$f":"N11","v":1211},{"$f":"COUNTIF(L18:L19,AS11)","v":0},{"$f":"AT11/(AV4-AT20)","v":0},{"$f":"IF(AU11=0,0,(AU11*((LOG(AU11))/LOG(2))))","v":0}]
[12,667,14,671,13,676,14,684,null,null,0,1111,null,1212,{"$f":"COUNTIF($L$7:$L$500,N12)","v":0},{"$f":"O12/$Q$4","v":0},{"$f":"IF(P12=0,0,(P12*((LOG(P12))/LOG(2))))","v":0},null,null,{"$f":"N12","v":1212},{"$f":"COUNTIF(L7:L8,T12)","v":0},{"$f":"U12/(W4-U20)","v":0},{"$f":"IF(V12=0,0,(V12*((LOG(V12))/LOG(2))))","v":0},null,{"$f":"N12","v":1212},{"$f":"COUNTIF(L9:L10,Y12)","v":0},{"$f":"Z12/(AB4-Z20)","v":0},{"$f":"IF(AA12=0,0,(AA12*((LOG(AA12))/LOG(2))))","v":0},null,{"$f":"N12","v":1212},{"$f":"COUNTIF(L11:L13,AD12)","v":0},{"$f":"AE12/(AG4-AE20)","v":0},{"$f":"IF(AF12=0,0,(AF12*((LOG(AF12))/LOG(2))))","v":0},null,{"$f":"N12","v":1212},{"$f":"COUNTIF(L14:L15,AI12)","v":0},{"$f":"AJ12/(AL4-AJ20)","v":0},{"$f":"IF(AK12=0,0,(AK12*((LOG(AK12))/LOG(2))))","v":0},null,{"$f":"N12","v":1212},{"$f":"COUNTIF(L16:L17,AN12)","v":0},{"$f":"AO12/(AQ4-AO20)","v":0},{"$f":"IF(AP12=0,0,(AP12*((LOG(AP12))/LOG(2))))","v":0},null,{"$f":"N12","v":1212},{"$f":"COUNTIF(L18:L19,AS12)","v":0},{"$f":"AT12/(AV4-AT20)","v":0},{"$f":"IF(AU12=0,0,(AU12*((LOG(AU12))/LOG(2))))","v":0}]
[12,1320,14,1324,13,1329,14,1338,null,null,0,1111,null,1221,{"$f":"COUNTIF($L$7:$L$500,N13)","v":0},{"$f":"O13/$Q$4","v":0},{"$f":"IF(P13=0,0,(P13*((LOG(P13))/LOG(2))))","v":0},null,null,{"$f":"N13","v":1221},{"$f":"COUNTIF(L7:L8,T13)","v":0},{"$f":"U13/(W4-U20)","v":0},{"$f":"IF(V13=0,0,(V13*((LOG(V13))/LOG(2))))","v":0},null,{"$f":"N13","v":1221},{"$f":"COUNTIF(L9:L10,Y13)","v":0},{"$f":"Z13/(AB4-Z20)","v":0},{"$f":"IF(AA13=0,0,(AA13*((LOG(AA13))/LOG(2))))","v":0},null,{"$f":"N13","v":1221},{"$f":"COUNTIF(L11:L13,AD13)","v":0},{"$f":"AE13/(AG4-AE20)","v":0},{"$f":"IF(AF13=0,0,(AF13*((LOG(AF13))/LOG(2))))","v":0},null,{"$f":"N13","v":1221},{"$f":"COUNTIF(L14:L15,AI13)","v":0},{"$f":"AJ13/(AL4-AJ20)","v":0},{"$f":"IF(AK13=0,0,(AK13*((LOG(AK13))/LOG(2))))","v":0},null,{"$f":"N13","v":1221},{"$f":"COUNTIF(L16:L17,AN13)","v":0},{"$f":"AO13/(AQ4-AO20)","v":0},{"$f":"IF(AP13=0,0,(AP13*((LOG(AP13))/LOG(2))))","v":0},null,{"$f":"N13","v":1221},{"$f":"COUNTIF(L18:L19,AS13)","v":0},{"$f":"AT13/(AV4-AT20)","v":0},{"$f":"IF(AU13=0,0,(AU13*((LOG(AU13))/LOG(2))))","v":0}]
[21,1595,21,1600,22,1612,14,1659,null,null,0,2221,null,1222,{"$f":"COUNTIF($L$7:$L$500,N14)","v":2},{"$f":"O14/$Q$4","v":0.15384615384615385},{"$f":"IF(P14=0,0,(P14*((LOG(P14))/LOG(2))))","v":-0.4154522643293988},null,null,{"$f":"N14","v":1222},{"$f":"COUNTIF(L7:L8,T14)","v":1},{"$f":"U14/(W4-U20)","v":0.5},{"$f":"IF(V14=0,0,(V14*((LOG(V14))/LOG(2))))","v":-0.5},null,{"$f":"N14","v":1222},{"$f":"COUNTIF(L9:L10,Y14)","v":1},{"$f":"Z14/(AB4-Z20)","v":0.5},{"$f":"IF(AA14=0,0,(AA14*((LOG(AA14))/LOG(2))))","v":-0.5},null,{"$f":"N14","v":1222},{"$f":"COUNTIF(L11:L13,AD14)","v":0},{"$f":"AE14/(AG4-AE20)","v":0},{"$f":"IF(AF14=0,0,(AF14*((LOG(AF14))/LOG(2))))","v":0},null,{"$f":"N14","v":1222},{"$f":"COUNTIF(L14:L15,AI14)","v":0},{"$f":"AJ14/(AL4-AJ20)","v":0},{"$f":"IF(AK14=0,0,(AK14*((LOG(AK14))/LOG(2))))","v":0},null,{"$f":"N14","v":1222},{"$f":"COUNTIF(L16:L17,AN14)","v":0},{"$f":"AO14/(AQ4-AO20)","v":0},{"$f":"IF(AP14=0,0,(AP14*((LOG(AP14))/LOG(2))))","v":0},null,{"$f":"N14","v":1222},{"$f":"COUNTIF(L18:L19,AS14)","v":0},{"$f":"AT14/(AV4-AT20)","v":0},{"$f":"IF(AU14=0,0,(AU14*((LOG(AU14))/LOG(2))))","v":0}]
[21,1761,21,1765,22,1767,23,1770,null,null,0,2222,null,2111,{"$f":"COUNTIF($L$7:$L$500,N15)","v":2},{"$f":"O15/$Q$4","v":0.15384615384615385},{"$f":"IF(P15=0,0,(P15*((LOG(P15))/LOG(2))))","v":-0.4154522643293988},null,null,{"$f":"N15","v":2111},{"$f":"COUNTIF(L7:L8,T15)","v":1},{"$f":"U15/(W4-U20)","v":0.5},{"$f":"IF(V15=0,0,(V15*((LOG(V15))/LOG(2))))","v":-0.5},null,{"$f":"N15","v":2111},{"$f":"COUNTIF(L9:L10,Y15)","v":0},{"$f":"Z15/(AB4-Z20)","v":0},{"$f":"IF(AA15=0,0,(AA15*((LOG(AA15))/LOG(2))))","v":0},null,{"$f":"N15","v":2111},{"$f":"COUNTIF(L11:L13,AD15)","v":1},{"$f":"AE15/(AG4-AE20)","v":0.33333333333333331},{"$f":"IF(AF15=0,0,(AF15*((LOG(AF15))/LOG(2))))","v":-0.52832083357371862},null,{"$f":"N15","v":2111},{"$f":"COUNTIF(L14:L15,AI15)","v":0},{"$f":"AJ15/(AL4-AJ20)","v":0},{"$f":"IF(AK15=0,0,(AK15*((LOG(AK15))/LOG(2))))","v":0},null,{"$f":"N15","v":2111},{"$f":"COUNTIF(L16:L17,AN15)","v":0},{"$f":"AO15/(AQ4-AO20)","v":0},{"$f":"IF(AP15=0,0,(AP15*((LOG(AP15))/LOG(2))))","v":0},null,{"$f":"N15","v":2111},{"$f":"COUNTIF(L18:L19,AS15)","v":0},{"$f":"AT15/(AV4-AT20)","v":0},{"$f":"IF(AU15=0,0,(AU15*((LOG(AU15))/LOG(2))))","v":0}]
[21,1925,21,1931,22,1941,23,1944,null,null,0,2222,null,2112,{"$f":"COUNTIF($L$7:$L$500,N16)","v":0},{"$f":"O16/$Q$4","v":0},{"$f":"IF(P16=0,0,(P16*((LOG(P16))/LOG(2))))","v":0},null,null,{"$f":"N16","v":2112},{"$f":"COUNTIF(L7:L8,T16)","v":0},{"$f":"U16/(W4-U20)","v":0},{"$f":"IF(V16=0,0,(V16*((LOG(V16))/LOG(2))))","v":0},null,{"$f":"N16","v":2112},{"$f":"COUNTIF(L9:L10,Y16)","v":0},{"$f":"Z16/(AB4-Z20)","v":0},{"$f":"IF(AA16=0,0,(AA16*((LOG(AA16))/LOG(2))))","v":0},null,{"$f":"N16","v":2112},{"$f":"COUNTIF(L11:L13,AD16)","v":0},{"$f":"AE16/(AG4-AE20)","v":0},{"$f":"IF(AF16=0,0,(AF16*((LOG(AF16))/LOG(2))))","v":0},null,{"$f":"N16","v":2112},{"$f":"COUNTIF(L14:L15,AI16)","v":0},{"$f":"AJ16/(AL4-AJ20)","v":0},{"$f":"IF(AK16=0,0,(AK16*((LOG(AK16))/LOG(2))))","v":0},null,{"$f":"N16","v":2112},{"$f":"COUNTIF(L16:L17,AN16)","v":0},{"$f":"AO16/(AQ4-AO20)","v":0},{"$f":"IF(AP16=0,0,(AP16*((LOG(AP16))/LOG(2))))","v":0},null,{"$f":"N16","v":2112},{"$f":"COUNTIF(L18:L19,AS16)","v":0},{"$f":"AT16/(AV4-AT20)","v":0},{"$f":"IF(AU16=0,0,(AU16*((LOG(AU16))/LOG(2))))","v":0}]
[12,2044,23,2059,13,2068,14,2077,null,null,0,1211,null,2121,{"$f":"COUNTIF($L$7:$L$500,N17)","v":0},{"$f":"O17/$Q$4","v":0},{"$f":"IF(P17=0,0,(P17*((LOG(P17))/LOG(2))))","v":0},null,null,{"$f":"N17","v":2121},{"$f":"COUNTIF(L7:L8,T17)","v":0},{"$f":"U17/(W4-U20)","v":0},{"$f":"IF(V17=0,0,(V17*((LOG(V17))/LOG(2))))","v":0},null,{"$f":"N17","v":2121},{"$f":"COUNTIF(L9:L10,Y17)","v":0},{"$f":"Z17/(AB4-Z20)","v":0},{"$f":"IF(AA17=0,0,(AA17*((LOG(AA17))/LOG(2))))","v":0},null,{"$f":"N17","v":2121},{"$f":"COUNTIF(L11:L13,AD17)","v":0},{"$f":"AE17/(AG4-AE20)","v":0},{"$f":"IF(AF17=0,0,(AF17*((LOG(AF17))/LOG(2))))","v":0},null,{"$f":"N17","v":2121},{"$f":"COUNTIF(L14:L15,AI17)","v":0},{"$f":"AJ17/(AL4-AJ20)","v":0},{"$f":"IF(AK17=0,0,(AK17*((LOG(AK17))/LOG(2))))","v":0},null,{"$f":"N17","v":2121},{"$f":"COUNTIF(L16:L17,AN17)","v":0},{"$f":"AO17/(AQ4-AO20)","v":0},{"$f":"IF(AP17=0,0,(AP17*((LOG(AP17))/LOG(2))))","v":0},null,{"$f":"N17","v":2121},{"$f":"COUNTIF(L18:L19,AS17)","v":0},{"$f":"AT17/(AV4-AT20)","v":0},{"$f":"IF(AU17=0,0,(AU17*((LOG(AU17))/LOG(2))))","v":0}]
[21,2404,21,2410,11,2422,12,2426,null,null,0,2211,null,2122,{"$f":"COUNTIF($L$7:$L$500,N18)","v":0},{"$f":"O18/$Q$4","v":0},{"$f":"IF(P18=0,0,(P18*((LOG(P18))/LOG(2))))","v":0},null,null,{"$f":"N18","v":2122},{"$f":"COUNTIF(L7:L8,T18)","v":0},{"$f":"U18/(W4-U20)","v":0},{"$f":"IF(V18=0,0,(V18*((LOG(V18))/LOG(2))))","v":0},null,{"$f":"N18","v":2122},{"$f":"COUNTIF(L9:L10,Y18)","v":0},{"$f":"Z18/(AB4-Z20)","v":0},{"$f":"IF(AA18=0,0,(AA18*((LOG(AA18))/LOG(2))))","v":0},null,{"$f":"N18","v":2122},{"$f":"COUNTIF(L11:L13,AD18)","v":0},{"$f":"AE18/(AG4-AE20)","v":0},{"$f":"IF(AF18=0,0,(AF18*((LOG(AF18))/LOG(2))))","v":0},null,{"$f":"N18","v":2122},{"$f":"COUNTIF(L14:L15,AI18)","v":0},{"$f":"AJ18/(AL4-AJ20)","v":0},{"$f":"IF(AK18=0,0,(AK18*((LOG(AK18))/LOG(2))))","v":0},null,{"$f":"N18","v":2122},{"$f":"COUNTIF(L16:L17,AN18)","v":0},{"$f":"AO18/(AQ4-AO20)","v":0},{"$f":"IF(AP18=0,0,(AP18*((LOG(AP18))/LOG(2))))","v":0},null,{"$f":"N18","v":2122},{"$f":"COUNTIF(L18:L19,AS18)","v":0},{"$f":"AT18/(AV4-AT20)","v":0},{"$f":"IF(AU18=0,0,(AU18*((LOG(AU18))/LOG(2))))","v":0}]
[12,2523,14,2528,24,3516,14,3526,null,null,0,1121,null,2211,{"$f":"COUNTIF($L$7:$L$500,N19)","v":1},{"$f":"O19/$Q$4","v":7.6923076923076927E-2},{"$f":"IF(P19=0,0,(P19*((LOG(P19))/LOG(2))))","v":-0.28464920908777636},null,null,{"$f":"N19","v":2211},{"$f":"COUNTIF(L7:L8,T19)","v":0},{"$f":"U19/(W4-U20)","v":0},{"$f":"IF(V19=0,0,(V19*((LOG(V19))/LOG(2))))","v":0},null,{"$f":"N19","v":2211},{"$f":"COUNTIF(L9:L10,Y19)","v":0},{"$f":"Z19/(AB4-Z20)","v":0},{"$f":"IF(AA19=0,0,(AA19*((LOG(AA19))/LOG(2))))","v":0},null,{"$f":"N19","v":2211},{"$f":"COUNTIF(L11:L13,AD19)","v":0},{"$f":"AE19/(AG4-AE20)","v":0},{"$f":"IF(AF19=0,0,(AF19*((LOG(AF19))/LOG(2))))","v":0},null,{"$f":"N19","v":2211},{"$f":"COUNTIF(L14:L15,AI19)","v":0},{"$f":"AJ19/(AL4-AJ20)","v":0},{"$f":"IF(AK19=0,0,(AK19*((LOG(AK19))/LOG(2))))","v":0},null,{"$f":"N19","v":2211},{"$f":"COUNTIF(L16:L17,AN19)","v":0},{"$f":"AO19/(AQ4-AO20)","v":0},{"$f":"IF(AP19=0,0,(AP19*((LOG(AP19))/LOG(2))))","v":0},null,{"$f":"N19","v":2211},{"$f":"COUNTIF(L18:L19,AS19)","v":1},{"$f":"AT19/(AV4-AT20)","v":0.5},{"$f":"IF(AU19=0,0,(AU19*((LOG(AU19))/LOG(2))))","v":-0.5}]
[null,null,null,null,null,null,null,null,null,null,null,null,null,2212,{"$f":"COUNTIF($L$7:$L$500,N20)","v":0},{"$f":"O20/$Q$4","v":0},{"$f":"IF(P20=0,0,(P20*((LOG(P20))/LOG(2))))","v":0},null,null,{"$f":"N20","v":2212},{"$f":"COUNTIF(L7:L8,T20)","v":0},null,null,null,{"$f":"N20","v":2212},{"$f":"COUNTIF(L9:L10,Y20)","v":0},null,null,null,{"$f":"N20","v":2212},{"$f":"COUNTIF(L11:L13,AD20)","v":0},null,null,null,{"$f":"N20","v":2212},{"$f":"COUNTIF(L14:L15,AI20)","v":0},null,null,null,{"$f":"N20","v":2212},{"$f":"COUNTIF(L16:L17,AN20)","v":0},null,null,null,{"$f":"N20","v":2212},{"$f":"COUNTIF(L18:L19,AS20)","v":0}]
[null,null,null,null,null,null,null,null,null,null,null,null,null,2221,{"$f":"COUNTIF($L$7:$L$500,N21)","v":1},{"$f":"O21/$Q$4","v":7.6923076923076927E-2},{"$f":"IF(P21=0,0,(P21*((LOG(P21))/LOG(2))))","v":-0.28464920908777636},null,null,{"$f":"N21","v":2221},{"$f":"COUNTIF(L7:L8,T21)","v":0},{"$f":"U21/(W4-U20)","v":0},{"$f":"IF(V21=0,0,(V21*((LOG(V21))/LOG(2))))","v":0},null,{"$f":"N21","v":2221},{"$f":"COUNTIF(L9:L10,Y21)","v":0},{"$f":"Z21/(AB4-Z20)","v":0},{"$f":"IF(AA21=0,0,(AA21*((LOG(AA21))/LOG(2))))","v":0},null,{"$f":"N21","v":2221},{"$f":"COUNTIF(L11:L13,AD21)","v":0},{"$f":"AE21/(AG4-AE20)","v":0},{"$f":"IF(AF21=0,0,(AF21*((LOG(AF21))/LOG(2))))","v":0},null,{"$f":"N21","v":2221},{"$f":"COUNTIF(L14:L15,AI21)","v":1},{"$f":"AJ21/(AL4-AJ20)","v":0.5},{"$f":"IF(AK21=0,0,(AK21*((LOG(AK21))/LOG(2))))","v":-0.5},null,{"$f":"N21","v":2221},{"$f":"COUNTIF(L16:L17,AN21)","v":0},{"$f":"AO21/(AQ4-AO20)","v":0},{"$f":"IF(AP21=0,0,(AP21*((LOG(AP21))/LOG(2))))","v":0},null,{"$f":"N21","v":2221},{"$f":"COUNTIF(L18:L19,AS21)","v":0},{"$f":"AT21/(AV4-AT20)","v":0},{"$f":"IF(AU21=0,0,(AU21*((LOG(AU21))/LOG(2))))","v":0}]
[null,null,null,null,null,null,null,null,null,null,null,null,null,2222,{"$f":"COUNTIF($L$7:$L$500,N22)","v":2},{"$f":"O22/$Q$4","v":0.15384615384615385},{"$f":"IF(P22=0,0,(P22*((LOG(P22))/LOG(2))))","v":-0.4154522643293988},null,null,{"$f":"N22","v":2222},{"$f":"COUNTIF(L7:L8,T22)","v":0},{"$f":"U22/(W4-U20)","v":0},{"$f":"IF(V22=0,0,(V22*((LOG(V22))/LOG(2))))","v":0},null,{"$f":"N22","v":2222},{"$f":"COUNTIF(L9:L10,Y22)","v":0},{"$f":"Z22/(AB4-Z20)","v":0},{"$f":"IF(AA22=0,0,(AA22*((LOG(AA22))/LOG(2))))","v":0},null,{"$f":"N22","v":2222},{"$f":"COUNTIF(L11:L13,AD22)","v":0},{"$f":"AE22/(AG4-AE20)","v":0},{"$f":"IF(AF22=0,0,(AF22*((LOG(AF22))/LOG(2))))","v":0},null,{"$f":"N22","v":2222},{"$f":"COUNTIF(L14:L15,AI22)","v":1},{"$f":"AJ22/(AL4-AJ20)","v":0.5},{"$f":"IF(AK22=0,0,(AK22*((LOG(AK22))/LOG(2))))","v":-0.5},null,{"$f":"N22","v":2222},{"$f":"COUNTIF(L16:L17,AN22)","v":1},{"$f":"AO22/(AQ4-AO20)","v":0.5},{"$f":"IF(AP22=0,0,(AP22*((LOG(AP22))/LOG(2))))","v":-0.5},null,{"$f":"N22","v":2222},{"$f":"COUNTIF(L18:L19,AS22)","v":0},{"$f":"AT22/(AV4-AT20)","v":0},{"$f":"IF(AU22=0,0,(AU22*((LOG(AU22))/LOG(2))))","v":0}]
[null,null,null,null,null,null,null,null,null,null,null,null,null,null,null,{"$f":"SUM(P7:P22)","v":1},{"$f":"-SUM(Q7:Q22)","v":3.0850551027564772},null,null,null,null,{"$f":"SUM(V7:V22)","v":1},{"$f":"-SUM(W7:W22)","v":1},null,null,null,{"$f":"SUM(AA7:AA22)","v":1},{"$f":"-SUM(AB7:AB22)","v":1},null,null,null,{"$f":"SUM(AF7:AF22)","v":1},{"$f":"-SUM(AG7:AG22)","v":0.91829583405448945},null,null,null,{"$f":"SUM(AK7:AK22)","v":1},{"$f":"-SUM(AL7:AL22)","v":1},null,null,null,{"$f":"SUM(AP7:AP22)","v":1},{"$f":"-SUM(AQ7:AQ22)","v":1},null,null,null,{"$f":"SUM(AU7:AU22)","v":1},{"$f":"-SUM(AV7:AV22)","v":1}]
[null,null,null,null,null,null,null,null,null,null,null,null,null,null,null,"U=",{"$f":"Q23/(LOG(Q4)/LOG(2))","v":0.8336995972754957},null,null,null,null,"U1=",{"$f":"W23/(LOG(W4)/LOG(2))","v":1},null,null,null,"U2=",{"$f":"AB23/(LOG(AB4)/LOG(2))","v":1},null,null,null,"U3=",{"$f":"AG23/(LOG(AG4)/LOG(2))","v":0.57938016428569505},null,null,null,"U4=",{"$f":"AL23/(LOG(AL4)/LOG(2))","v":1},null,null,null,"U5=",{"$f":"AQ23/(LOG(AQ4)/LOG(2))","v":1},null,null,null,"U6=",{"$f":"AV23/(LOG(AV4)/LOG(2))","v":1}]
[]
[]
[null,null,null,null,null,null,null,null,null,null,null,null,null,"Total Target Seq"]
[null,null,null,null,null,null,null,null,null,null,null,null,null,{"$f":"COUNTIF(L7:L19,G3)","v":0},null,2,2,3,2,2,2]
[null,null,null,null,null,null,null,null,null,null,null,null,null,null,null,"% of reinforcement given in 6 equal intervals based on number of trials "]
[null,null,null,null,null,null,null,null,null,null,null,null,null,null,null,"%_1","%_2","%_3","%_4","%_5","%_6"]
[null,null,null,null,null,null,null,null,null,null,null,null,null,null,"target sequence",{"$f":"$G$3","v":2212},{"$f":"$G$3","v":2212},{"$f":"$G$3","v":2212},{"$f":"$G$3","v":2212},{"$f":"$G$3","v":2212},{"$f":"$G$3","v":2212}]
[null,null,null,null,null,null,null,null,null,null,null,null,null,null,"total reinforcement",{"$f":"U20","v":0},{"$f":"Z20","v":0},{"$f":"AE20","v":0},{"$f":"AJ20","v":0},{"$f":"AO20","v":0},{"$f":"AT20","v":0}]
[null,null,null,null,null,null,null,null,null,null,null,null,null,null,"% target"]
[null,null,null,null,null,null,null,null,null,null,null,null,null,null,"CCRF"]
[null,null,null,null,null,null,null,null,null,null,null,null,null,null,"% CCRf"]
[null,null,null,null,null,null,null,null,null,null,null,null,null,null,"average response rate",{"$f":"H8/P28","v":84},{"$f":"(H10-H8)/Q28","v":129},{"$f":"(H13-H10)/R28","v":304},{"$f":"(H15-H13)/S28","v":216},{"$f":"(H17-H15)/T28","v":153.5},{"$f":"(H19-H17)/U28","v":724.5}]

{"sheet":"!M129B1T.ayl","index":25,"n_rows":36,"n_cols":48,"rows_kept":36,"cut":false,"hidden":false,"merged":[[4,39,4,42],[5,39,5,40],[4,44,4,47],[5,44,5,45],[4,24,4,27],[5,24,5,25],[4,29,4,32],[5,29,5,30],[4,34,4,37],[5,34,5,35],[1,1,1,2],[5,13,5,14],[26,13,26,14],[27,13,27,14],[4,19,4,22],[5,19,5,20]]}
["Report for:!M129B1T.ayl"]
["Date:","<date>"]
["Hen:","<hen>",null,null,null,"Correct Sequence",{"$f":"Start!J2","v":2212},null,null,null,null,null,null,null,null,"Total Sequences in Data",{"$f":"4994-COUNTBLANK(L7:L5000)","v":10},null,null,null,null,"Total Sequences in Block Data",{"$f":"COUNTA(L7:L8)","v":2},null,null,null,"Total Sequences in Block Data",{"$f":"COUNTA(L9:L9)","v":1},null,null,null,"Total Sequences in Block Data",{"$f":"COUNTA(L10:L11)","v":2},null,null,null,"Total Sequences in Block Data",{"$f":"COUNTA(L12:L13)","v":2},null,null,null,"Total Sequences in Block Data",{"$f":"COUNTA(L14:L14)","v":1},null,null,null,"Total Sequences in Block Data",{"$f":"COUNTA(L15:L16)","v":2}]
[null,null,null,null,null,null,null,null,null,null,null,null,null,null,null,"Total Sequences in Summary",{"$f":"SUM(O7:O22)","v":10},null,null,null,null,"Total Sequences in Block Summary",{"$f":"SUM(U7:U22)","v":2},null,null,null,"Total Sequences in Block Summary",{"$f":"SUM(Z7:Z22)","v":1},null,null,null,"Total Sequences in Block Summary",{"$f":"SUM(AE7:AE22)","v":2},null,null,null,"Total Sequences in Block Summary",{"$f":"SUM(AJ7:AJ22)","v":2},null,null,null,"Total Sequences in Block Summary",{"$f":"SUM(AO7:AO22)","v":1},null,null,null,"Total Sequences in Block Summary",{"$f":"SUM(AT7:AT22)","v":2}]
[null,null,null,null,null,null,null,null,null,null,null,null,null,null,null,null,null,null,null,"Block 1",null,null,null,null,"Block 2",null,null,null,null,"Block 3",null,null,null,null,"Block 4",null,null,null,null,"Block 5",null,null,null,null,"Block 6"]
["Sequence\nComponent\n1","Time\n1","Sequence\nComponent\n2","Time\n2","Sequence\nComponent\n3","Time\n3","Sequence\nComponent\n4","Time\n4","Sequence\nComponent\n5","Time\n5","Correct?\n0=No 1=Yes","Sequence",null,"Frequency",null,"Relative Frequency","Variability",null,null,"Frequency",null,"Relative Frequency","Variability",null,"Frequency",null,"Relative Frequency","Variability",null,"Frequency",null,"Relative Frequency","Variability",null,"Frequency",null,"Relative Frequency","Variability",null,"Frequency",null,"Relative Frequency","Variability",null,"Frequency",null,"Relative Frequency","Variability"]
[21,63,21,72,22,78,14,93,null,null,0,2221,null,1111,{"$f":"COUNTIF($L$7:$L$500,N7)","v":1},{"$f":"O7/$Q$4","v":0.1},{"$f":"IF(P7=0,0,(P7*((LOG(P7))/LOG(2))))","v":-0.33219280948873625},null,null,{"$f":"N7","v":1111},{"$f":"COUNTIF(L7:L8,T7)","v":0},{"$f":"U7/(W4-U20)","v":0},{"$f":"IF(V7=0,0,(V7*((LOG(V7))/LOG(2))))","v":0},null,{"$f":"N7","v":1111},{"$f":"COUNTIF(L9:L9,Y7)","v":1},{"$f":"Z7/(AB4-Z20)","v":1},{"$f":"IF(AA7=0,0,(AA7*((LOG(AA7))/LOG(2))))","v":0},null,{"$f":"N7","v":1111},{"$f":"COUNTIF(L10:L11,AD7)","v":0},{"$f":"AE7/(AG4-AE20)","v":0},{"$f":"IF(AF7=0,0,(AF7*((LOG(AF7))/LOG(2))))","v":0},null,{"$f":"N7","v":1111},{"$f":"COUNTIF(L12:L13,AI7)","v":0},{"$f":"AJ7/(AL4-AJ20)","v":0},{"$f":"IF(AK7=0,0,(AK7*((LOG(AK7))/LOG(2))))","v":0},null,{"$f":"N7","v":1111},{"$f":"COUNTIF(L14:L14,AN7)","v":0},{"$f":"AO7/(AQ4-AO20)","v":0},{"$f":"IF(AP7=0,0,(AP7*((LOG(AP7))/LOG(2))))","v":0},null,{"$f":"N7","v":1111},{"$f":"COUNTIF(L15:L16,AS7)","v":0},{"$f":"AT7/(AV4-AT20)","v":0},{"$f":"IF(AU7=0,0,(AU7*((LOG(AU7))/LOG(2))))","v":0}]
[12,191,23,206,24,211,23,218,null,null,0,1222,null,1112,{"$f":"COUNTIF($L$7:$L$500,N8)","v":0},{"$f":"O8/$Q$4","v":0},{"$f":"IF(P8=0,0,(P8*((LOG(P8))/LOG(2))))","v":0},null,null,{"$f":"N8","v":1112},{"$f":"COUNTIF(L7:L8,T8)","v":0},{"$f":"U8/(W4-U20)","v":0},{"$f":"IF(V8=0,0,(V8*((LOG(V8))/LOG(2))))","v":0},null,{"$f":"N8","v":1112},{"$f":"COUNTIF(L9:L9,Y8)","v":0},{"$f":"Z8/(AB4-Z20)","v":0},{"$f":"IF(AA8=0,0,(AA8*((LOG(AA8))/LOG(2))))","v":0},null,{"$f":"N8","v":1112},{"$f":"COUNTIF(L10:L11,AD8)","v":0},{"$f":"AE8/(AG4-AE20)","v":0},{"$f":"IF(AF8=0,0,(AF8*((LOG(AF8))/LOG(2))))","v":0},null,{"$f":"N8","v":1112},{"$f":"COUNTIF(L12:L13,AI8)","v":0},{"$f":"AJ8/(AL4-AJ20)","v":0},{"$f":"IF(AK8=0,0,(AK8*((LOG(AK8))/LOG(2))))","v":0},null,{"$f":"N8","v":1112},{"$f":"COUNTIF(L14:L14,AN8)","v":0},{"$f":"AO8/(AQ4-AO20)","v":0},{"$f":"IF(AP8=0,0,(AP8*((LOG(AP8))/LOG(2))))","v":0},null,{"$f":"N8","v":1112},{"$f":"COUNTIF(L15:L16,AS8)","v":0},{"$f":"AT8/(AV4-AT20)","v":0},{"$f":"IF(AU8=0,0,(AU8*((LOG(AU8))/LOG(2))))","v":0}]
[12,316,14,329,13,333,14,338,null,null,0,1111,null,1121,{"$f":"COUNTIF($L$7:$L$500,N9)","v":0},{"$f":"O9/$Q$4","v":0},{"$f":"IF(P9=0,0,(P9*((LOG(P9))/LOG(2))))","v":0},null,null,{"$f":"N9","v":1121},{"$f":"COUNTIF(L7:L8,T9)","v":0},{"$f":"U9/(W4-U20)","v":0},{"$f":"IF(V9=0,0,(V9*((LOG(V9))/LOG(2))))","v":0},null,{"$f":"N9","v":1121},{"$f":"COUNTIF(L9:L9,Y9)","v":0},{"$f":"Z9/(AB4-Z20)","v":0},{"$f":"IF(AA9=0,0,(AA9*((LOG(AA9))/LOG(2))))","v":0},null,{"$f":"N9","v":1121},{"$f":"COUNTIF(L10:L11,AD9)","v":0},{"$f":"AE9/(AG4-AE20)","v":0},{"$f":"IF(AF9=0,0,(AF9*((LOG(AF9))/LOG(2))))","v":0},null,{"$f":"N9","v":1121},{"$f":"COUNTIF(L12:L13,AI9)","v":0},{"$f":"AJ9/(AL4-AJ20)","v":0},{"$f":"IF(AK9=0,0,(AK9*((LOG(AK9))/LOG(2))))","v":0},null,{"$f":"N9","v":1121},{"$f":"COUNTIF(L14:L14,AN9)","v":0},{"$f":"AO9/(AQ4-AO20)","v":0},{"$f":"IF(AP9=0,0,(AP9*((LOG(AP9))/LOG(2))))","v":0},null,{"$f":"N9","v":1121},{"$f":"COUNTIF(L15:L16,AS9)","v":0},{"$f":"AT9/(AV4-AT20)","v":0},{"$f":"IF(AU9=0,0,(AU9*((LOG(AU9))/LOG(2))))","v":0}]
[21,438,12,447,24,455,23,460,null,null,0,2122,null,1122,{"$f":"COUNTIF($L$7:$L$500,N10)","v":0},{"$f":"O10/$Q$4","v":0},{"$f":"IF(P10=0,0,(P10*((LOG(P10))/LOG(2))))","v":0},null,null,{"$f":"N10","v":1122},{"$f":"COUNTIF(L7:L8,T10)","v":0},{"$f":"U10/(W4-U20)","v":0},{"$f":"IF(V10=0,0,(V10*((LOG(V10))/LOG(2))))","v":0},null,{"$f":"N10","v":1122},{"$f":"COUNTIF(L9:L9,Y10)","v":0},{"$f":"Z10/(AB4-Z20)","v":0},{"$f":"IF(AA10=0,0,(AA10*((LOG(AA10))/LOG(2))))","v":0},null,{"$f":"N10","v":1122},{"$f":"COUNTIF(L10:L11,AD10)","v":0},{"$f":"AE10/(AG4-AE20)","v":0},{"$f":"IF(AF10=0,0,(AF10*((LOG(AF10))/LOG(2))))","v":0},null,{"$f":"N10","v":1122},{"$f":"COUNTIF(L12:L13,AI10)","v":0},{"$f":"AJ10/(AL4-AJ20)","v":0},{"$f":"IF(AK10=0,0,(AK10*((LOG(AK10))/LOG(2))))","v":0},null,{"$f":"N10","v":1122},{"$f":"COUNTIF(L14:L14,AN10)","v":0},{"$f":"AO10/(AQ4-AO20)","v":0},{"$f":"IF(AP10=0,0,(AP10*((LOG(AP10))/LOG(2))))","v":0},null,{"$f":"N10","v":1122},{"$f":"COUNTIF(L15:L16,AS10)","v":0},{"$f":"AT10/(AV4-AT20)","v":0},{"$f":"IF(AU10=0,0,(AU10*((LOG(AU10))/LOG(2))))","v":0}]
[21,569,21,573,11,583,12,587,null,null,0,2211,null,1211,{"$f":"COUNTIF($L$7:$L$500,N11)","v":2},{"$f":"O11/$Q$4","v":0.2},{"$f":"IF(P11=0,0,(P11*((LOG(P11))/LOG(2))))","v":-0.46438561897747244},null,null,{"$f":"N11","v":1211},{"$f":"COUNTIF(L7:L8,T11)","v":0},{"$f":"U11/(W4-U20)","v":0},{"$f":"IF(V11=0,0,(V11*((LOG(V11))/LOG(2))))","v":0},null,{"$f":"N11","v":1211},{"$f":"COUNTIF(L9:L9,Y11)","v":0},{"$f":"Z11/(AB4-Z20)","v":0},{"$f":"IF(AA11=0,0,(AA11*((LOG(AA11))/LOG(2))))","v":0},null,{"$f":"N11","v":1211},{"$f":"COUNTIF(L10:L11,AD11)","v":0},{"$f":"AE11/(AG4-AE20)","v":0},{"$f":"IF(AF11=0,0,(AF11*((LOG(AF11))/LOG(2))))","v":0},null,{"$f":"N11","v":1211},{"$f":"COUNTIF(L12:L13,AI11)","v":1},{"$f":"AJ11/(AL4-AJ20)","v":0.5},{"$f":"IF(AK11=0,0,(AK11*((LOG(AK11))/LOG(2))))","v":-0.5},null,{"$f":"N11","v":1211},{"$f":"COUNTIF(L14:L14,AN11)","v":0},{"$f":"AO11/(AQ4-AO20)","v":0},{"$f":"IF(AP11=0,0,(AP11*((LOG(AP11))/LOG(2))))","v":0},null,{"$f":"N11","v":1211},{"$f":"COUNTIF(L15:L16,AS11)","v":1},{"$f":"AT11/(AV4-AT20)","v":0.5},{"$f":"IF(AU11=0,0,(AU11*((LOG(AU11))/LOG(2))))","v":-0.5}]
[21,698,21,709,22,712,23,715,null,null,0,2222,null,1212,{"$f":"COUNTIF($L$7:$L$500,N12)","v":0},{"$f":"O12/$Q$4","v":0},{"$f":"IF(P12=0,0,(P12*((LOG(P12))/LOG(2))))","v":0},null,null,{"$f":"N12","v":1212},{"$f":"COUNTIF(L7:L8,T12)","v":0},{"$f":"U12/(W4-U20)","v":0},{"$f":"IF(V12=0,0,(V12*((LOG(V12))/LOG(2))))","v":0},null,{"$f":"N12","v":1212},{"$f":"COUNTIF(L9:L9,Y12)","v":0},{"$f":"Z12/(AB4-Z20)","v":0},{"$f":"IF(AA12=0,0,(AA12*((LOG(AA12))/LOG(2))))","v":0},null,{"$f":"N12","v":1212},{"$f":"COUNTIF(L10:L11,AD12)","v":0},{"$f":"AE12/(AG4-AE20)","v":0},{"$f":"IF(AF12=0,0,(AF12*((LOG(AF12))/LOG(2))))","v":0},null,{"$f":"N12","v":1212},{"$f":"COUNTIF(L12:L13,AI12)","v":0},{"$f":"AJ12/(AL4-AJ20)","v":0},{"$f":"IF(AK12=0,0,(AK12*((LOG(AK12))/LOG(2))))","v":0},null,{"$f":"N12","v":1212},{"$f":"COUNTIF(L14:L14,AN12)","v":0},{"$f":"AO12/(AQ4-AO20)","v":0},{"$f":"IF(AP12=0,0,(AP12*((LOG(AP12))/LOG(2))))","v":0},null,{"$f":"N12","v":1212},{"$f":"COUNTIF(L15:L16,AS12)","v":0},{"$f":"AT12/(AV4-AT20)","v":0},{"$f":"IF(AU12=0,0,(AU12*((LOG(AU12))/LOG(2))))","v":0}]
[12,1010,23,1018,13,1029,14,1033,null,null,0,1211,null,1221,{"$f":"COUNTIF($L$7:$L$500,N13)","v":0},{"$f":"O13/$Q$4","v":0},{"$f":"IF(P13=0,0,(P13*((LOG(P13))/LOG(2))))","v":0},null,null,{"$f":"N13","v":1221},{"$f":"COUNTIF(L7:L8,T13)","v":0},{"$f":"U13/(W4-U20)","v":0},{"$f":"IF(V13=0,0,(V13*((LOG(V13))/LOG(2))))","v":0},null,{"$f":"N13","v":1221},{"$f":"COUNTIF(L9:L9,Y13)","v":0},{"$f":"Z13/(AB4-Z20)","v":0},{"$f":"IF(AA13=0,0,(AA13*((LOG(AA13))/LOG(2))))","v":0},null,{"$f":"N13","v":1221},{"$f":"COUNTIF(L10:L11,AD13)","v":0},{"$f":"AE13/(AG4-AE20)","v":0},{"$f":"IF(AF13=0,0,(AF13*((LOG(AF13))/LOG(2))))","v":0},null,{"$f":"N13","v":1221},{"$f":"COUNTIF(L12:L13,AI13)","v":0},{"$f":"AJ13/(AL4-AJ20)","v":0},{"$f":"IF(AK13=0,0,(AK13*((LOG(AK13))/LOG(2))))","v":0},null,{"$f":"N13","v":1221},{"$f":"COUNTIF(L14:L14,AN13)","v":0},{"$f":"AO13/(AQ4-AO20)","v":0},{"$f":"IF(AP13=0,0,(AP13*((LOG(AP13))/LOG(2))))","v":0},null,{"$f":"N13","v":1221},{"$f":"COUNTIF(L15:L16,AS13)","v":0},{"$f":"AT13/(AV4-AT20)","v":0},{"$f":"IF(AU13=0,0,(AU13*((LOG(AU13))/LOG(2))))","v":0}]
[21,1181,21,1189,22,1196,23,1220,null,null,0,2222,null,1222,{"$f":"COUNTIF($L$7:$L$500,N14)","v":1},{"$f":"O14/$Q$4","v":0.1},{"$f":"IF(P14=0,0,(P14*((LOG(P14))/LOG(2))))","v":-0.33219280948873625},null,null,{"$f":"N14","v":1222},{"$f":"COUNTIF(L7:L8,T14)","v":1},{"$f":"U14/(W4-U20)","v":0.5},{"$f":"IF(V14=0,0,(V14*((LOG(V14))/LOG(2))))","v":-0.5},null,{"$f":"N14","v":1222},{"$f":"COUNTIF(L9:L9,Y14)","v":0},{"$f":"Z14/(AB4-Z20)","v":0},{"$f":"IF(AA14=0,0,(AA14*((LOG(AA14))/LOG(2))))","v":0},null,{"$f":"N14","v":1222},{"$f":"COUNTIF(L10:L11,AD14)","v":0},{"$f":"AE14/(AG4-AE20)","v":0},{"$f":"IF(AF14=0,0,(AF14*((LOG(AF14))/LOG(2))))","v":0},null,{"$f":"N14","v":1222},{"$f":"COUNTIF(L12:L13,AI14)","v":0},{"$f":"AJ14/(AL4-AJ20)","v":0},{"$f":"IF(AK14=0,0,(AK14*((LOG(AK14))/LOG(2))))","v":0},null,{"$f":"N14","v":1222},{"$f":"COUNTIF(L14:L14,AN14)","v":0},{"$f":"AO14/(AQ4-AO20)","v":0},{"$f":"IF(AP14=0,0,(AP14*((LOG(AP14))/LOG(2))))","v":0},null,{"$f":"N14","v":1222},{"$f":"COUNTIF(L15:L16,AS14)","v":0},{"$f":"AT14/(AV4-AT20)","v":0},{"$f":"IF(AU14=0,0,(AU14*((LOG(AU14))/LOG(2))))","v":0}]
[12,1947,23,1959,13,10135,14,10138,null,null,0,1211,null,2111,{"$f":"COUNTIF($L$7:$L$500,N15)","v":0},{"$f":"O15/$Q$4","v":0},{"$f":"IF(P15=0,0,(P15*((LOG(P15))/LOG(2))))","v":0},null,null,{"$f":"N15","v":2111},{"$f":"COUNTIF(L7:L8,T15)","v":0},{"$f":"U15/(W4-U20)","v":0},{"$f":"IF(V15=0,0,(V15*((LOG(V15))/LOG(2))))","v":0},null,{"$f":"N15","v":2111},{"$f":"COUNTIF(L9:L9,Y15)","v":0},{"$f":"Z15/(AB4-Z20)","v":0},{"$f":"IF(AA15=0,0,(AA15*((LOG(AA15))/LOG(2))))","v":0},null,{"$f":"N15","v":2111},{"$f":"COUNTIF(L10:L11,AD15)","v":0},{"$f":"AE15/(AG4-AE20)","v":0},{"$f":"IF(AF15=0,0,(AF15*((LOG(AF15))/LOG(2))))","v":0},null,{"$f":"N15","v":2111},{"$f":"COUNTIF(L12:L13,AI15)","v":0},{"$f":"AJ15/(AL4-AJ20)","v":0},{"$f":"IF(AK15=0,0,(AK15*((LOG(AK15))/LOG(2))))","v":0},null,{"$f":"N15","v":2111},{"$f":"COUNTIF(L14:L14,AN15)","v":0},{"$f":"AO15/(AQ4-AO20)","v":0},{"$f":"IF(AP15=0,0,(AP15*((LOG(AP15))/LOG(2))))","v":0},null,{"$f":"N15","v":2111},{"$f":"COUNTIF(L15:L16,AS15)","v":0},{"$f":"AT15/(AV4-AT20)","v":0},{"$f":"IF(AU15=0,0,(AU15*((LOG(AU15))/LOG(2))))","v":0}]
[21,10381,21,10385,11,10395,12,10400,null,null,0,2211,null,2112,{"$f":"COUNTIF($L$7:$L$500,N16)","v":0},{"$f":"O16/$Q$4","v":0},{"$f":"IF(P16=0,0,(P16*((LOG(P16))/LOG(2))))","v":0},null,null,{"$f":"N16","v":2112},{"$f":"COUNTIF(L7:L8,T16)","v":0},{"$f":"U16/(W4-U20)","v":0},{"$f":"IF(V16=0,0,(V16*((LOG(V16))/LOG(2))))","v":0},null,{"$f":"N16","v":2112},{"$f":"COUNTIF(L9:L9,Y16)","v":0},{"$f":"Z16/(AB4-Z20)","v":0},{"$f":"IF(AA16=0,0,(AA16*((LOG(AA16))/LOG(2))))","v":0},null,{"$f":"N16","v":2112},{"$f":"COUNTIF(L10:L11,AD16)","v":0},{"$f":"AE16/(AG4-AE20)","v":0},{"$f":"IF(AF16=0,0,(AF16*((LOG(AF16))/LOG(2))))","v":0},null,{"$f":"N16","v":2112},{"$f":"COUNTIF(L12:L13,AI16)","v":0},{"$f":"AJ16/(AL4-AJ20)","v":0},{"$f":"IF(AK16=0,0,(AK16*((LOG(AK16))/LOG(2))))","v":0},null,{"$f":"N16","v":2112},{"$f":"COUNTIF(L14:L14,AN16)","v":0},{"$f":"AO16/(AQ4-AO20)","v":0},{"$f":"IF(AP16=0,0,(AP16*((LOG(AP16))/LOG(2))))","v":0},null,{"$f":"N16","v":2112},{"$f":"COUNTIF(L15:L16,AS16)","v":0},{"$f":"AT16/(AV4-AT20)","v":0},{"$f":"IF(AU16=0,0,(AU16*((LOG(AU16))/LOG(2))))","v":0}]
[null,null,null,null,null,null,null,null,null,null,null,null,null,2121,{"$f":"COUNTIF($L$7:$L$500,N17)","v":0},{"$f":"O17/$Q$4","v":0},{"$f":"IF(P17=0,0,(P17*((LOG(P17))/LOG(2))))","v":0},null,null,{"$f":"N17","v":2121},{"$f":"COUNTIF(L7:L8,T17)","v":0},{"$f":"U17/(W4-U20)","v":0},{"$f":"IF(V17=0,0,(V17*((LOG(V17))/LOG(2))))","v":0},null,{"$f":"N17","v":2121},{"$f":"COUNTIF(L9:L9,Y17)","v":0},{"$f":"Z17/(AB4-Z20)","v":0},{"$f":"IF(AA17=0,0,(AA17*((LOG(AA17))/LOG(2))))","v":0},null,{"$f":"N17","v":2121},{"$f":"COUNTIF(L10:L11,AD17)","v":0},{"$f":"AE17/(AG4-AE20)","v":0},{"$f":"IF(AF17=0,0,(AF17*((LOG(AF17))/LOG(2))))","v":0},null,{"$f":"N17","v":2121},{"$f":"COUNTIF(L12:L13,AI17)","v":0},{"$f":"AJ17/(AL4-AJ20)","v":0},{"$f":"IF(AK17=0,0,(AK17*((LOG(AK17))/LOG(2))))","v":0},null,{"$f":"N17","v":2121},{"$f":"COUNTIF(L14:L14,AN17)","v":0},{"$f":"AO17/(AQ4-AO20)","v":0},{"$f":"IF(AP17=0,0,(AP17*((LOG(AP17))/LOG(2))))","v":0},null,{"$f":"N17","v":2121},{"$f":"COUNTIF(L15:L16,AS17)","v":0},{"$f":"AT17/(AV4-AT20)","v":0},{"$f":"IF(AU17=0,0,(AU17*((LOG(AU17))/LOG(2))))","v":0}]
[null,null,null,null,null,null,null,null,null,null,null,null,null,2122,{"$f":"COUNTIF($L$7:$L$500,N18)","v":1},{"$f":"O18/$Q$4","v":0.1},{"$f":"IF(P18=0,0,(P18*((LOG(P18))/LOG(2))))","v":-0.33219280948873625},null,null,{"$f":"N18","v":2122},{"$f":"COUNTIF(L7:L8,T18)","v":0},{"$f":"U18/(W4-U20)","v":0},{"$f":"IF(V18=0,0,(V18*((LOG(V18))/LOG(2))))","v":0},null,{"$f":"N18","v":2122},{"$f":"COUNTIF(L9:L9,Y18)","v":0},{"$f":"Z18/(AB4-Z20)","v":0},{"$f":"IF(AA18=0,0,(AA18*((LOG(AA18))/LOG(2))))","v":0},null,{"$f":"N18","v":2122},{"$f":"COUNTIF(L10:L11,AD18)","v":1},{"$f":"AE18/(AG4-AE20)","v":0.5},{"$f":"IF(AF18=0,0,(AF18*((LOG(AF18))/LOG(2))))","v":-0.5},null,{"$f":"N18","v":2122},{"$f":"COUNTIF(L12:L13,AI18)","v":0},{"$f":"AJ18/(AL4-AJ20)","v":0},{"$f":"IF(AK18=0,0,(AK18*((LOG(AK18))/LOG(2))))","v":0},null,{"$f":"N18","v":2122},{"$f":"COUNTIF(L14:L14,AN18)","v":0},{"$f":"AO18/(AQ4-AO20)","v":0},{"$f":"IF(AP18=0,0,(AP18*((LOG(AP18))/LOG(2))))","v":0},null,{"$f":"N18","v":2122},{"$f":"COUNTIF(L15:L16,AS18)","v":0},{"$f":"AT18/(AV4-AT20)","v":0},{"$f":"IF(AU18=0,0,(AU18*((LOG(AU18))/LOG(2))))","v":0}]
[null,null,null,null,null,null,null,null,null,null,null,null,null,2211,{"$f":"COUNTIF($L$7:$L$500,N19)","v":2},{"$f":"O19/$Q$4","v":0.2},{"$f":"IF(P19=0,0,(P19*((LOG(P19))/LOG(2))))","v":-0.46438561897747244},null,null,{"$f":"N19","v":2211},{"$f":"COUNTIF(L7:L8,T19)","v":0},{"$f":"U19/(W4-U20)","v":0},{"$f":"IF(V19=0,0,(V19*((LOG(V19))/LOG(2))))","v":0},null,{"$f":"N19","v":2211},{"$f":"COUNTIF(L9:L9,Y19)","v":0},{"$f":"Z19/(AB4-Z20)","v":0},{"$f":"IF(AA19=0,0,(AA19*((LOG(AA19))/LOG(2))))","v":0},null,{"$f":"N19","v":2211},{"$f":"COUNTIF(L10:L11,AD19)","v":1},{"$f":"AE19/(AG4-AE20)","v":0.5},{"$f":"IF(AF19=0,0,(AF19*((LOG(AF19))/LOG(2))))","v":-0.5},null,{"$f":"N19","v":2211},{"$f":"COUNTIF(L12:L13,AI19)","v":0},{"$f":"AJ19/(AL4-AJ20)","v":0},{"$f":"IF(AK19=0,0,(AK19*((LOG(AK19))/LOG(2))))","v":0},null,{"$f":"N19","v":2211},{"$f":"COUNTIF(L14:L14,AN19)","v":0},{"$f":"AO19/(AQ4-AO20)","v":0},{"$f":"IF(AP19=0,0,(AP19*((LOG(AP19))/LOG(2))))","v":0},null,{"$f":"N19","v":2211},{"$f":"COUNTIF(L15:L16,AS19)","v":1},{"$f":"AT19/(AV4-AT20)","v":0.5},{"$f":"IF(AU19=0,0,(AU19*((LOG(AU19))/LOG(2))))","v":-0.5}]
[null,null,null,null,null,null,null,null,null,null,null,null,null,2212,{"$f":"COUNTIF($L$7:$L$500,N20)","v":0},{"$f":"O20/$Q$4","v":0},{"$f":"IF(P20=0,0,(P20*((LOG(P20))/LOG(2))))","v":0},null,null,{"$f":"N20","v":2212},{"$f":"COUNTIF(L7:L8,T20)","v":0},null,null,null,{"$f":"N20","v":2212},{"$f":"COUNTIF(L9:L9,Y20)","v":0},null,null,null,{"$f":"N20","v":2212},{"$f":"COUNTIF(L10:L11,AD20)","v":0},null,null,null,{"$f":"N20","v":2212},{"$f":"COUNTIF(L12:L13,AI20)","v":0},null,null,null,{"$f":"N20","v":2212},{"$f":"COUNTIF(L14:L14,AN20)","v":0},null,null,null,{"$f":"N20","v":2212},{"$f":"COUNTIF(L15:L16,AS20)","v":0}]
[null,null,null,null,null,null,null,null,null,null,null,null,null,2221,{"$f":"COUNTIF($L$7:$L$500,N21)","v":1},{"$f":"O21/$Q$4","v":0.1},{"$f":"IF(P21=0,0,(P21*((LOG(P21))/LOG(2))))","v":-0.33219280948873625},null,null,{"$f":"N21","v":2221},{"$f":"COUNTIF(L7:L8,T21)","v":1},{"$f":"U21/(W4-U20)","v":0.5},{"$f":"IF(V21=0,0,(V21*((LOG(V21))/LOG(2))))","v":-0.5},null,{"$f":"N21","v":2221},{"$f":"COUNTIF(L9:L9,Y21)","v":0},{"$f":"Z21/(AB4-Z20)","v":0},{"$f":"IF(AA21=0,0,(AA21*((LOG(AA21))/LOG(2))))","v":0},null,{"$f":"N21","v":2221},{"$f":"COUNTIF(L10:L11,AD21)","v":0},{"$f":"AE21/(AG4-AE20)","v":0},{"$f":"IF(AF21=0,0,(AF21*((LOG(AF21))/LOG(2))))","v":0},null,{"$f":"N21","v":2221},{"$f":"COUNTIF(L12:L13,AI21)","v":0},{"$f":"AJ21/(AL4-AJ20)","v":0},{"$f":"IF(AK21=0,0,(AK21*((LOG(AK21))/LOG(2))))","v":0},null,{"$f":"N21","v":2221},{"$f":"COUNTIF(L14:L14,AN21)","v":0},{"$f":"AO21/(AQ4-AO20)","v":0},{"$f":"IF(AP21=0,0,(AP21*((LOG(AP21))/LOG(2))))","v":0},null,{"$f":"N21","v":2221},{"$f":"COUNTIF(L15:L16,AS21)","v":0},{"$f":"AT21/(AV4-AT20)","v":0},{"$f":"IF(AU21=0,0,(AU21*((LOG(AU21))/LOG(2))))","v":0}]
[null,null,null,null,null,null,null,null,null,null,null,null,null,2222,{"$f":"COUNTIF($L$7:$L$500,N22)","v":2},{"$f":"O22/$Q$4","v":0.2},{"$f":"IF(P22=0,0,(P22*((LOG(P22))/LOG(2))))","v":-0.46438561897747244},null,null,{"$f":"N22","v":2222},{"$f":"COUNTIF(L7:L8,T22)","v":0},{"$f":"U22/(W4-U20)","v":0},{"$f":"IF(V22=0,0,(V22*((LOG(V22))/LOG(2))))","v":0},null,{"$f":"N22","v":2222},{"$f":"COUNTIF(L9:L9,Y22)","v":0},{"$f":"Z22/(AB4-Z20)","v":0},{"$f":"IF(AA22=0,0,(AA22*((LOG(AA22))/LOG(2))))","v":0},null,{"$f":"N22","v":2222},{"$f":"COUNTIF(L10:L11,AD22)","v":0},{"$f":"AE22/(AG4-AE20)","v":0},{"$f":"IF(AF22=0,0,(AF22*((LOG(AF22))/LOG(2))))","v":0},null,{"$f":"N22","v":2222},{"$f":"COUNTIF(L12:L13,AI22)","v":1},{"$f":"AJ22/(AL4-AJ20)","v":0.5},{"$f":"IF(AK22=0,0,(AK22*((LOG(AK22))/LOG(2))))","v":-0.5},null,{"$f":"N22","v":2222},{"$f":"COUNTIF(L14:L14,AN22)","v":1},{"$f":"AO22/(AQ4-AO20)","v":1},{"$f":"IF(AP22=0,0,(AP22*((LOG(AP22))/LOG(2))))","v":0},null,{"$f":"N22","v":2222},{"$f":"COUNTIF(L15:L16,AS22)","v":0},{"$f":"AT22/(AV4-AT20)","v":0},{"$f":"IF(AU22=0,0,(AU22*((LOG(AU22))/LOG(2))))","v":0}]
[null,null,null,null,null,null,null,null,null,null,null,null,null,null,null,{"$f":"SUM(P7:P22)","v":1},{"$f":"-SUM(Q7:Q22)","v":2.7219280948873625},null,null,null,null,{"$f":"SUM(V7:V22)","v":1},{"$f":"-SUM(W7:W22)","v":1},null,null,null,{"$f":"SUM(AA7:AA22)","v":1},{"$f":"-SUM(AB7:AB22)","v":0},null,null,null,{"$f":"SUM(AF7:AF22)","v":1},{"$f":"-SUM(AG7:AG22)","v":1},null,null,null,{"$f":"SUM(AK7:AK22)","v":1},{"$f":"-SUM(AL7:AL22)","v":1},null,null,null,{"$f":"SUM(AP7:AP22)","v":1},{"$f":"-SUM(AQ7:AQ22)","v":0},null,null,null,{"$f":"SUM(AU7:AU22)","v":1},{"$f":"-SUM(AV7:AV22)","v":1}]
[null,null,null,null,null,null,null,null,null,null,null,null,null,null,null,"U=",{"$f":"Q23/(LOG(Q4)/LOG(2))","v":0.81938200260161143},null,null,null,null,"U1=",{"$f":"W23/(LOG(W4)/LOG(2))","v":1},null,null,null,"U2=",{"$f":"AB23/(LOG(AB4)/LOG(2))","v":{"$error":"#DIV/0!"}},null,null,null,"U3=",{"$f":"AG23/(LOG(AG4)/LOG(2))","v":1},null,null,null,"U4=",{"$f":"AL23/(LOG(AL4)/LOG(2))","v":1},null,null,null,"U5=",{"$f":"AQ23/(LOG(AQ4)/LOG(2))","v":{"$error":"#DIV/0!"}},null,null,null,"U6=",{"$f":"AV23/(LOG(AV4)/LOG(2))","v":1}]
[]
[]
[null,null,null,null,null,null,null,null,null,null,null,null,null,"Total Target Seq"]
[null,null,null,null,null,null,null,null,null,null,null,null,null,{"$f":"COUNTIF(L7:L16,G3)","v":0},null,2,1,2,2,1,2]
[null,null,null,null,null,null,null,null,null,null,null,null,null,null,null,"% of reinforcement given in 6 equal intervals based on number of trials "]
[null,null,null,null,null,null,null,null,null,null,null,null,null,null,null,"%_1","%_2","%_3","%_4","%_5","%_6"]
[null,null,null,null,null,null,null,null,null,null,null,null,null,null,"target sequence",{"$f":"$G$3","v":2212},{"$f":"$G$3","v":2212},{"$f":"$G$3","v":2212},{"$f":"$G$3","v":2212},{"$f":"$G$3","v":2212},{"$f":"$G$3","v":2212}]
[null,null,null,null,null,null,null,null,null,null,null,null,null,null,"total reinforcement",{"$f":"U20","v":0},{"$f":"Z20","v":0},{"$f":"AE20","v":0},{"$f":"AJ20","v":0},{"$f":"AO20","v":0},{"$f":"AT20","v":0}]
[null,null,null,null,null,null,null,null,null,null,null,null,null,null,"% target"]
[null,null,null,null,null,null,null,null,null,null,null,null,null,null,"CCRF"]
[null,null,null,null,null,null,null,null,null,null,null,null,null,null,"% CCRf"]
[null,null,null,null,null,null,null,null,null,null,null,null,null,null,"average response rate",{"$f":"H8/P28","v":109},{"$f":"(H9-H8)/Q28","v":120},{"$f":"(H11-H9)/R28","v":124.5},{"$f":"(H13-H11)/S28","v":223},{"$f":"(H14-H13)/T28","v":187},{"$f":"(H16-H14)/U28","v":4590}]

{"sheet":"!M130B0T.ayl","index":26,"n_rows":36,"n_cols":48,"rows_kept":36,"cut":false,"hidden":false,"merged":[[4,39,4,42],[5,39,5,40],[4,44,4,47],[5,44,5,45],[4,24,4,27],[5,24,5,25],[4,29,4,32],[5,29,5,30],[4,34,4,37],[5,34,5,35],[1,1,1,2],[5,13,5,14],[26,13,26,14],[27,13,27,14],[4,19,4,22],[5,19,5,20]]}
["Report for:!M130B0T.ayl"]
["Date:","<date>"]
["Hen:","<hen>",null,null,null,"Correct Sequence",{"$f":"Start!J2","v":2212},null,null,null,null,null,null,null,null,"Total Sequences in Data",{"$f":"4994-COUNTBLANK(L7:L5000)","v":10},null,null,null,null,"Total Sequences in Block Data",{"$f":"COUNTA(L7:L8)","v":2},null,null,null,"Total Sequences in Block Data",{"$f":"COUNTA(L9:L9)","v":1},null,null,null,"Total Sequences in Block Data",{"$f":"COUNTA(L10:L11)","v":2},null,null,null,"Total Sequences in Block Data",{"$f":"COUNTA(L12:L13)","v":2},null,null,null,"Total Sequences in Block Data",{"$f":"COUNTA(L14:L14)","v":1},null,null,null,"Total Sequences in Block Data",{"$f":"COUNTA(L15:L16)","v":2}]
[null,null,null,null,null,null,null,null,null,null,null,null,null,null,null,"Total Sequences in Summary",{"$f":"SUM(O7:O22)","v":9},null,null,null,null,"Total Sequences in Block Summary",{"$f":"SUM(U7:U22)","v":2},null,null,null,"Total Sequences in Block Summary",{"$f":"SUM(Z7:Z22)","v":1},null,null,null,"Total Sequences in Block Summary",{"$f":"SUM(AE7:AE22)","v":2},null,null,null,"Total Sequences in Block Summary",{"$f":"SUM(AJ7:AJ22)","v":2},null,null,null,"Total Sequences in Block Summary",{"$f":"SUM(AO7:AO22)","v":1},null,null,null,"Total Sequences in Block Summary",{"$f":"SUM(AT7:AT22)","v":1}]
[null,null,null,null,null,null,null,null,null,null,null,null,null,null,null,null,null,null,null,"Block 1",null,null,null,null,"Block 2",null,null,null,null,"Block 3",null,null,null,null,"Block 4",null,null,null,null,"Block 5",null,null,null,null,"Block 6"]
["Sequence\nComponent\n1","Time\n1","Sequence\nComponent\n2","Time\n2","Sequence\nComponent\n3","Time\n3","Sequence\nComponent\n4","Time\n4","Sequence\nComponent\n5","Time\n5","Correct?\n0=No 1=Yes","Sequence",null,"Frequency",null,"Relative Frequency","Variability",null,null,"Frequency",null,"Relative Frequency","Variability",null,"Frequency",null,"Relative Frequency","Variability",null,"Frequency",null,"Relative Frequency","Variability",null,"Frequency",null,"Relative Frequency","Variability",null,"Frequency",null,"Relative Frequency","Variability",null,"Frequency",null,"Relative Frequency","Variability"]
[21,151,21,158,11,175,12,181,null,null,0,2211,null,1111,{"$f":"COUNTIF($L$7:$L$500,N7)","v":1},{"$f":"O7/$Q$4","v":0.1111111111111111},{"$f":"IF(P7=0,0,(P7*((LOG(P7))/LOG(2))))","v":-0.3522138890491458},null,null,{"$f":"N7","v":1111},{"$f":"COUNTIF(L7:L8,T7)","v":0},{"$f":"U7/(W4-U20)","v":0},{"$f":"IF(V7=0,0,(V7*((LOG(V7))/LOG(2))))","v":0},null,{"$f":"N7","v":1111},{"$f":"COUNTIF(L9:L9,Y7)","v":0},{"$f":"Z7/(AB4-Z20)","v":0},{"$f":"IF(AA7=0,0,(AA7*((LOG(AA7))/LOG(2))))","v":0},null,{"$f":"N7","v":1111},{"$f":"COUNTIF(L10:L11,AD7)","v":0},{"$f":"AE7/(AG4-AE20)","v":0},{"$f":"IF(AF7=0,0,(AF7*((LOG(AF7))/LOG(2))))","v":0},null,{"$f":"N7","v":1111},{"$f":"COUNTIF(L12:L13,AI7)","v":0},{"$f":"AJ7/(AL4-AJ20)","v":0},{"$f":"IF(AK7=0,0,(AK7*((LOG(AK7))/LOG(2))))","v":0},null,{"$f":"N7","v":1111},{"$f":"COUNTIF(L14:L14,AN7)","v":1},{"$f":"AO7/(AQ4-AO20)","v":1},{"$f":"IF(AP7=0,0,(AP7*((LOG(AP7))/LOG(2))))","v":0},null,{"$f":"N7","v":1111},{"$f":"COUNTIF(L15:L16,AS7)","v":0},{"$f":"AT7/(AV4-AT20)","v":0},{"$f":"IF(AU7=0,0,(AU7*((LOG(AU7))/LOG(2))))","v":0}]
[12,302,23,315,24,318,23,324,null,null,0,1222,null,1112,{"$f":"COUNTIF($L$7:$L$500,N8)","v":1},{"$f":"O8/$Q$4","v":0.1111111111111111},{"$f":"IF(P8=0,0,(P8*((LOG(P8))/LOG(2))))","v":-0.3522138890491458},null,null,{"$f":"N8","v":1112},{"$f":"COUNTIF(L7:L8,T8)","v":0},{"$f":"U8/(W4-U20)","v":0},{"$f":"IF(V8=0,0,(V8*((LOG(V8))/LOG(2))))","v":0},null,{"$f":"N8","v":1112},{"$f":"COUNTIF(L9:L9,Y8)","v":0},{"$f":"Z8/(AB4-Z20)","v":0},{"$f":"IF(AA8=0,0,(AA8*((LOG(AA8))/LOG(2))))","v":0},null,{"$f":"N8","v":1112},{"$f":"COUNTIF(L10:L11,AD8)","v":0},{"$f":"AE8/(AG4-AE20)","v":0},{"$f":"IF(AF8=0,0,(AF8*((LOG(AF8))/LOG(2))))","v":0},null,{"$f":"N8","v":1112},{"$f":"COUNTIF(L12:L13,AI8)","v":1},{"$f":"AJ8/(AL4-AJ20)","v":0.5},{"$f":"IF(AK8=0,0,(AK8*((LOG(AK8))/LOG(2))))","v":-0.5},null,{"$f":"N8","v":1112},{"$f":"COUNTIF(L14:L14,AN8)","v":0},{"$f":"AO8/(AQ4-AO20)","v":0},{"$f":"IF(AP8=0,0,(AP8*((LOG(AP8))/LOG(2))))","v":0},null,{"$f":"N8","v":1112},{"$f":"COUNTIF(L15:L16,AS8)","v":0},{"$f":"AT8/(AV4-AT20)","v":0},{"$f":"IF(AU8=0,0,(AU8*((LOG(AU8))/LOG(2))))","v":0}]
[12,424,14,426,24,435,23,444,null,null,0,1122,null,1121,{"$f":"COUNTIF($L$7:$L$500,N9)","v":0},{"$f":"O9/$Q$4","v":0},{"$f":"IF(P9=0,0,(P9*((LOG(P9))/LOG(2))))","v":0},null,null,{"$f":"N9","v":1121},{"$f":"COUNTIF(L7:L8,T9)","v":0},{"$f":"U9/(W4-U20)","v":0},{"$f":"IF(V9=0,0,(V9*((LOG(V9))/LOG(2))))","v":0},null,{"$f":"N9","v":1121},{"$f":"COUNTIF(L9:L9,Y9)","v":0},{"$f":"Z9/(AB4-Z20)","v":0},{"$f":"IF(AA9=0,0,(AA9*((LOG(AA9))/LOG(2))))","v":0},null,{"$f":"N9","v":1121},{"$f":"COUNTIF(L10:L11,AD9)","v":0},{"$f":"AE9/(AG4-AE20)","v":0},{"$f":"IF(AF9=0,0,(AF9*((LOG(AF9))/LOG(2))))","v":0},null,{"$f":"N9","v":1121},{"$f":"COUNTIF(L12:L13,AI9)","v":0},{"$f":"AJ9/(AL4-AJ20)","v":0},{"$f":"IF(AK9=0,0,(AK9*((LOG(AK9))/LOG(2))))","v":0},null,{"$f":"N9","v":1121},{"$f":"COUNTIF(L14:L14,AN9)","v":0},{"$f":"AO9/(AQ4-AO20)","v":0},{"$f":"IF(AP9=0,0,(AP9*((LOG(AP9))/LOG(2))))","v":0},null,{"$f":"N9","v":1121},{"$f":"COUNTIF(L15:L16,AS9)","v":0},{"$f":"AT9/(AV4-AT20)","v":0},{"$f":"IF(AU9=0,0,(AU9*((LOG(AU9))/LOG(2))))","v":0}]
[12,544,14,548,24,560,23,564,null,null,0,1122,null,1122,{"$f":"COUNTIF($L$7:$L$500,N10)","v":3},{"$f":"O10/$Q$4","v":0.33333333333333331},{"$f":"IF(P10=0,0,(P10*((LOG(P10))/LOG(2))))","v":-0.52832083357371862},null,null,{"$f":"N10","v":1122},{"$f":"COUNTIF(L7:L8,T10)","v":0},{"$f":"U10/(W4-U20)","v":0},{"$f":"IF(V10=0,0,(V10*((LOG(V10))/LOG(2))))","v":0},null,{"$f":"N10","v":1122},{"$f":"COUNTIF(L9:L9,Y10)","v":1},{"$f":"Z10/(AB4-Z20)","v":1},{"$f":"IF(AA10=0,0,(AA10*((LOG(AA10))/LOG(2))))","v":0},null,{"$f":"N10","v":1122},{"$f":"COUNTIF(L10:L11,AD10)","v":1},{"$f":"AE10/(AG4-AE20)","v":0.5},{"$f":"IF(AF10=0,0,(AF10*((LOG(AF10))/LOG(2))))","v":-0.5},null,{"$f":"N10","v":1122},{"$f":"COUNTIF(L12:L13,AI10)","v":1},{"$f":"AJ10/(AL4-AJ20)","v":0.5},{"$f":"IF(AK10=0,0,(AK10*((LOG(AK10))/LOG(2))))","v":-0.5},null,{"$f":"N10","v":1122},{"$f":"COUNTIF(L14:L14,AN10)","v":0},{"$f":"AO10/(AQ4-AO20)","v":0},{"$f":"IF(AP10=0,0,(AP10*((LOG(AP10))/LOG(2))))","v":0},null,{"$f":"N10","v":1122},{"$f":"COUNTIF(L15:L16,AS10)","v":0},{"$f":"AT10/(AV4-AT20)","v":0},{"$f":"IF(AU10=0,0,(AU10*((LOG(AU10))/LOG(2))))","v":0}]
[12,679,23,693,24,702,23,709,null,null,0,1222,null,1211,{"$f":"COUNTIF($L$7:$L$500,N11)","v":0},{"$f":"O11/$Q$4","v":0},{"$f":"IF(P11=0,0,(P11*((LOG(P11))/LOG(2))))","v":0},null,null,{"$f":"N11","v":1211},{"$f":"COUNTIF(L7:L8,T11)","v":0},{"$f":"U11/(W4-U20)","v":0},{"$f":"IF(V11=0,0,(V11*((LOG(V11))/LOG(2))))","v":0},null,{"$f":"N11","v":1211},{"$f":"COUNTIF(L9:L9,Y11)","v":0},{"$f":"Z11/(AB4-Z20)","v":0},{"$f":"IF(AA11=0,0,(AA11*((LOG(AA11))/LOG(2))))","v":0},null,{"$f":"N11","v":1211},{"$f":"COUNTIF(L10:L11,AD11)","v":0},{"$f":"AE11/(AG4-AE20)","v":0},{"$f":"IF(AF11=0,0,(AF11*((LOG(AF11))/LOG(2))))","v":0},null,{"$f":"N11","v":1211},{"$f":"COUNTIF(L12:L13,AI11)","v":0},{"$f":"AJ11/(AL4-AJ20)","v":0},{"$f":"IF(AK11=0,0,(AK11*((LOG(AK11))/LOG(2))))","v":0},null,{"$f":"N11","v":1211},{"$f":"COUNTIF(L14:L14,AN11)","v":0},{"$f":"AO11/(AQ4-AO20)","v":0},{"$f":"IF(AP11=0,0,(AP11*((LOG(AP11))/LOG(2))))","v":0},null,{"$f":"N11","v":1211},{"$f":"COUNTIF(L15:L16,AS11)","v":0},{"$f":"AT11/(AV4-AT20)","v":0},{"$f":"IF(AU11=0,0,(AU11*((LOG(AU11))/LOG(2))))","v":0}]
[12,821,14,826,24,841,23,851,null,null,0,1122,null,1212,{"$f":"COUNTIF($L$7:$L$500,N12)","v":0},{"$f":"O12/$Q$4","v":0},{"$f":"IF(P12=0,0,(P12*((LOG(P12))/LOG(2))))","v":0},null,null,{"$f":"N12","v":1212},{"$f":"COUNTIF(L7:L8,T12)","v":0},{"$f":"U12/(W4-U20)","v":0},{"$f":"IF(V12=0,0,(V12*((LOG(V12))/LOG(2))))","v":0},null,{"$f":"N12","v":1212},{"$f":"COUNTIF(L9:L9,Y12)","v":0},{"$f":"Z12/(AB4-Z20)","v":0},{"$f":"IF(AA12=0,0,(AA12*((LOG(AA12))/LOG(2))))","v":0},null,{"$f":"N12","v":1212},{"$f":"COUNTIF(L10:L11,AD12)","v":0},{"$f":"AE12/(AG4-AE20)","v":0},{"$f":"IF(AF12=0,0,(AF12*((LOG(AF12))/LOG(2))))","v":0},null,{"$f":"N12","v":1212},{"$f":"COUNTIF(L12:L13,AI12)","v":0},{"$f":"AJ12/(AL4-AJ20)","v":0},{"$f":"IF(AK12=0,0,(AK12*((LOG(AK12))/LOG(2))))","v":0},null,{"$f":"N12","v":1212},{"$f":"COUNTIF(L14:L14,AN12)","v":0},{"$f":"AO12/(AQ4-AO20)","v":0},{"$f":"IF(AP12=0,0,(AP12*((LOG(AP12))/LOG(2))))","v":0},null,{"$f":"N12","v":1212},{"$f":"COUNTIF(L15:L16,AS12)","v":0},{"$f":"AT12/(AV4-AT20)","v":0},{"$f":"IF(AU12=0,0,(AU12*((LOG(AU12))/LOG(2))))","v":0}]
[12,1026,14,1029,13,1034,23,1048,null,null,0,1112,null,1221,{"$f":"COUNTIF($L$7:$L$500,N13)","v":0},{"$f":"O13/$Q$4","v":0},{"$f":"IF(P13=0,0,(P13*((LOG(P13))/LOG(2))))","v":0},null,null,{"$f":"N13","v":1221},{"$f":"COUNTIF(L7:L8,T13)","v":0},{"$f":"U13/(W4-U20)","v":0},{"$f":"IF(V13=0,0,(V13*((LOG(V13))/LOG(2))))","v":0},null,{"$f":"N13","v":1221},{"$f":"COUNTIF(L9:L9,Y13)","v":0},{"$f":"Z13/(AB4-Z20)","v":0},{"$f":"IF(AA13=0,0,(AA13*((LOG(AA13))/LOG(2))))","v":0},null,{"$f":"N13","v":1221},{"$f":"COUNTIF(L10:L11,AD13)","v":0},{"$f":"AE13/(AG4-AE20)","v":0},{"$f":"IF(AF13=0,0,(AF13*((LOG(AF13))/LOG(2))))","v":0},null,{"$f":"N13","v":1221},{"$f":"COUNTIF(L12:L13,AI13)","v":0},{"$f":"AJ13/(AL4-AJ20)","v":0},{"$f":"IF(AK13=0,0,(AK13*((LOG(AK13))/LOG(2))))","v":0},null,{"$f":"N13","v":1221},{"$f":"COUNTIF(L14:L14,AN13)","v":0},{"$f":"AO13/(AQ4-AO20)","v":0},{"$f":"IF(AP13=0,0,(AP13*((LOG(AP13))/LOG(2))))","v":0},null,{"$f":"N13","v":1221},{"$f":"COUNTIF(L15:L16,AS13)","v":0},{"$f":"AT13/(AV4-AT20)","v":0},{"$f":"IF(AU13=0,0,(AU13*((LOG(AU13))/LOG(2))))","v":0}]
[12,1293,14,1297,13,1313,14,1316,null,null,0,1111,null,1222,{"$f":"COUNTIF($L$7:$L$500,N14)","v":3},{"$f":"O14/$Q$4","v":0.33333333333333331},{"$f":"IF(P14=0,0,(P14*((LOG(P14))/LOG(2))))","v":-0.52832083357371862},null,null,{"$f":"N14","v":1222},{"$f":"COUNTIF(L7:L8,T14)","v":1},{"$f":"U14/(W4-U20)","v":0.5},{"$f":"IF(V14=0,0,(V14*((LOG(V14))/LOG(2))))","v":-0.5},null,{"$f":"N14","v":1222},{"$f":"COUNTIF(L9:L9,Y14)","v":0},{"$f":"Z14/(AB4-Z20)","v":0},{"$f":"IF(AA14=0,0,(AA14*((LOG(AA14))/LOG(2))))","v":0},null,{"$f":"N14","v":1222},{"$f":"COUNTIF(L10:L11,AD14)","v":1},{"$f":"AE14/(AG4-AE20)","v":0.5},{"$f":"IF(AF14=0,0,(AF14*((LOG(AF14))/LOG(2))))","v":-0.5},null,{"$f":"N14","v":1222},{"$f":"COUNTIF(L12:L13,AI14)","v":0},{"$f":"AJ14/(AL4-AJ20)","v":0},{"$f":"IF(AK14=0,0,(AK14*((LOG(AK14))/LOG(2))))","v":0},null,{"$f":"N14","v":1222},{"$f":"COUNTIF(L14:L14,AN14)","v":0},{"$f":"AO14/(AQ4-AO20)","v":0},{"$f":"IF(AP14=0,0,(AP14*((LOG(AP14))/LOG(2))))","v":0},null,{"$f":"N14","v":1222},{"$f":"COUNTIF(L15:L16,AS14)","v":1},{"$f":"AT14/(AV4-AT20)","v":1},{"$f":"IF(AU14=0,0,(AU14*((LOG(AU14))/LOG(2))))","v":0}]
[12,13935,23,13950,24,13958,23,13963,null,null,0,1222,null,2111,{"$f":"COUNTIF($L$7:$L$500,N15)","v":0},{"$f":"O15/$Q$4","v":0},{"$f":"IF(P15=0,0,(P15*((LOG(P15))/LOG(2))))","v":0},null,null,{"$f":"N15","v":2111},{"$f":"COUNTIF(L7:L8,T15)","v":0},{"$f":"U15/(W4-U20)","v":0},{"$f":"IF(V15=0,0,(V15*((LOG(V15))/LOG(2))))","v":0},null,{"$f":"N15","v":2111},{"$f":"COUNTIF(L9:L9,Y15)","v":0},{"$f":"Z15/(AB4-Z20)","v":0},{"$f":"IF(AA15=0,0,(AA15*((LOG(AA15))/LOG(2))))","v":0},null,{"$f":"N15","v":2111},{"$f":"COUNTIF(L10:L11,AD15)","v":0},{"$f":"AE15/(AG4-AE20)","v":0},{"$f":"IF(AF15=0,0,(AF15*((LOG(AF15))/LOG(2))))","v":0},null,{"$f":"N15","v":2111},{"$f":"COUNTIF(L12:L13,AI15)","v":0},{"$f":"AJ15/(AL4-AJ20)","v":0},{"$f":"IF(AK15=0,0,(AK15*((LOG(AK15))/LOG(2))))","v":0},null,{"$f":"N15","v":2111},{"$f":"COUNTIF(L14:L14,AN15)","v":0},{"$f":"AO15/(AQ4-AO20)","v":0},{"$f":"IF(AP15=0,0,(AP15*((LOG(AP15))/LOG(2))))","v":0},null,{"$f":"N15","v":2111},{"$f":"COUNTIF(L15:L16,AS15)","v":0},{"$f":"AT15/(AV4-AT20)","v":0},{"$f":"IF(AU15=0,0,(AU15*((LOG(AU15))/LOG(2))))","v":0}]
[12,14448,23,14468,24,14476,null,null,null,null,null,122,null,2112,{"$f":"COUNTIF($L$7:$L$500,N16)","v":0},{"$f":"O16/$Q$4","v":0},{"$f":"IF(P16=0,0,(P16*((LOG(P16))/LOG(2))))","v":0},null,null,{"$f":"N16","v":2112},{"$f":"COUNTIF(L7:L8,T16)","v":0},{"$f":"U16/(W4-U20)","v":0},{"$f":"IF(V16=0,0,(V16*((LOG(V16))/LOG(2))))","v":0},null,{"$f":"N16","v":2112},{"$f":"COUNTIF(L9:L9,Y16)","v":0},{"$f":"Z16/(AB4-Z20)","v":0},{"$f":"IF(AA16=0,0,(AA16*((LOG(AA16))/LOG(2))))","v":0},null,{"$f":"N16","v":2112},{"$f":"COUNTIF(L10:L11,AD16)","v":0},{"$f":"AE16/(AG4-AE20)","v":0},{"$f":"IF(AF16=0,0,(AF16*((LOG(AF16))/LOG(2))))","v":0},null,{"$f":"N16","v":2112},{"$f":"COUNTIF(L12:L13,AI16)","v":0},{"$f":"AJ16/(AL4-AJ20)","v":0},{"$f":"IF(AK16=0,0,(AK16*((LOG(AK16))/LOG(2))))","v":0},null,{"$f":"N16","v":2112},{"$f":"COUNTIF(L14:L14,AN16)","v":0},{"$f":"AO16/(AQ4-AO20)","v":0},{"$f":"IF(AP16=0,0,(AP16*((LOG(AP16))/LOG(2))))","v":0},null,{"$f":"N16","v":2112},{"$f":"COUNTIF(L15:L16,AS16)","v":0},{"$f":"AT16/(AV4-AT20)","v":0},{"$f":"IF(AU16=0,0,(AU16*((LOG(AU16))/LOG(2))))","v":0}]
[null,null,null,null,null,null,null,null,null,null,null,null,null,2121,{"$f":"COUNTIF($L$7:$L$500,N17)","v":0},{"$f":"O17/$Q$4","v":0},{"$f":"IF(P17=0,0,(P17*((LOG(P17))/LOG(2))))","v":0},null,null,{"$f":"N17","v":2121},{"$f":"COUNTIF(L7:L8,T17)","v":0},{"$f":"U17/(W4-U20)","v":0},{"$f":"IF(V17=0,0,(V17*((LOG(V17))/LOG(2))))","v":0},null,{"$f":"N17","v":2121},{"$f":"COUNTIF(L9:L9,Y17)","v":0},{"$f":"Z17/(AB4-Z20)","v":0},{"$f":"IF(AA17=0,0,(AA17*((LOG(AA17))/LOG(2))))","v":0},null,{"$f":"N17","v":2121},{"$f":"COUNTIF(L10:L11,AD17)","v":0},{"$f":"AE17/(AG4-AE20)","v":0},{"$f":"IF(AF17=0,0,(AF17*((LOG(AF17))/LOG(2))))","v":0},null,{"$f":"N17","v":2121},{"$f":"COUNTIF(L12:L13,AI17)","v":0},{"$f":"AJ17/(AL4-AJ20)","v":0},{"$f":"IF(AK17=0,0,(AK17*((LOG(AK17))/LOG(2))))","v":0},null,{"$f":"N17","v":2121},{"$f":"COUNTIF(L14:L14,AN17)","v":0},{"$f":"AO17/(AQ4-AO20)","v":0},{"$f":"IF(AP17=0,0,(AP17*((LOG(AP17))/LOG(2))))","v":0},null,{"$f":"N17","v":2121},{"$f":"COUNTIF(L15:L16,AS17)","v":0},{"$f":"AT17/(AV4-AT20)","v":0},{"$f":"IF(AU17=0,0,(AU17*((LOG(AU17))/LOG(2))))","v":0}]
[null,null,null,null,null,null,null,null,null,null,null,null,null,2122,{"$f":"COUNTIF($L$7:$L$500,N18)","v":0},{"$f":"O18/$Q$4","v":0},{"$f":"IF(P18=0,0,(P18*((LOG(P18))/LOG(2))))","v":0},null,null,{"$f":"N18","v":2122},{"$f":"COUNTIF(L7:L8,T18)","v":0},{"$f":"U18/(W4-U20)","v":0},{"$f":"IF(V18=0,0,(V18*((LOG(V18))/LOG(2))))","v":0},null,{"$f":"N18","v":2122},{"$f":"COUNTIF(L9:L9,Y18)","v":0},{"$f":"Z18/(AB4-Z20)","v":0},{"$f":"IF(AA18=0,0,(AA18*((LOG(AA18))/LOG(2))))","v":0},null,{"$f":"N18","v":2122},{"$f":"COUNTIF(L10:L11,AD18)","v":0},{"$f":"AE18/(AG4-AE20)","v":0},{"$f":"IF(AF18=0,0,(AF18*((LOG(AF18))/LOG(2))))","v":0},null,{"$f":"N18","v":2122},{"$f":"COUNTIF(L12:L13,AI18)","v":0},{"$f":"AJ18/(AL4-AJ20)","v":0},{"$f":"IF(AK18=0,0,(AK18*((LOG(AK18))/LOG(2))))","v":0},null,{"$f":"N18","v":2122},{"$f":"COUNTIF(L14:L14,AN18)","v":0},{"$f":"AO18/(AQ4-AO20)","v":0},{"$f":"IF(AP18=0,0,(AP18*((LOG(AP18))/LOG(2))))","v":0},null,{"$f":"N18","v":2122},{"$f":"COUNTIF(L15:L16,AS18)","v":0},{"$f":"AT18/(AV4-AT20)","v":0},{"$f":"IF(AU18=0,0,(AU18*((LOG(AU18))/LOG(2))))","v":0}]
[null,null,null,null,null,null,null,null,null,null,null,null,null,2211,{"$f":"COUNTIF($L$7:$L$500,N19)","v":1},{"$f":"O19/$Q$4","v":0.1111111111111111},{"$f":"IF(P19=0,0,(P19*((LOG(P19))/LOG(2))))","v":-0.3522138890491458},null,null,{"$f":"N19","v":2211},{"$f":"COUNTIF(L7:L8,T19)","v":1},{"$f":"U19/(W4-U20)","v":0.5},{"$f":"IF(V19=0,0,(V19*((LOG(V19))/LOG(2))))","v":-0.5},null,{"$f":"N19","v":2211},{"$f":"COUNTIF(L9:L9,Y19)","v":0},{"$f":"Z19/(AB4-Z20)","v":0},{"$f":"IF(AA19=0,0,(AA19*((LOG(AA19))/LOG(2))))","v":0},null,{"$f":"N19","v":2211},{"$f":"COUNTIF(L10:L11,AD19)","v":0},{"$f":"AE19/(AG4-AE20)","v":0},{"$f":"IF(AF19=0,0,(AF19*((LOG(AF19))/LOG(2))))","v":0},null,{"$f":"N19","v":2211},{"$f":"COUNTIF(L12:L13,AI19)","v":0},{"$f":"AJ19/(AL4-AJ20)","v":0},{"$f":"IF(AK19=0,0,(AK19*((LOG(AK19))/LOG(2))))","v":0},null,{"$f":"N19","v":2211},{"$f":"COUNTIF(L14:L14,AN19)","v":0},{"$f":"AO19/(AQ4-AO20)","v":0},{"$f":"IF(AP19=0,0,(AP19*((LOG(AP19))/LOG(2))))","v":0},null,{"$f":"N19","v":2211},{"$f":"COUNTIF(L15:L16,AS19)","v":0},{"$f":"AT19/(AV4-AT20)","v":0},{"$f":"IF(AU19=0,0,(AU19*((LOG(AU19))/LOG(2))))","v":0}]
[null,null,null,null,null,null,null,null,null,null,null,null,null,2212,{"$f":"COUNTIF($L$7:$L$500,N20)","v":0},{"$f":"O20/$Q$4","v":0},{"$f":"IF(P20=0,0,(P20*((LOG(P20))/LOG(2))))","v":0},null,null,{"$f":"N20","v":2212},{"$f":"COUNTIF(L7:L8,T20)","v":0},null,null,null,{"$f":"N20","v":2212},{"$f":"COUNTIF(L9:L9,Y20)","v":0},null,null,null,{"$f":"N20","v":2212},{"$f":"COUNTIF(L10:L11,AD20)","v":0},null,null,null,{"$f":"N20","v":2212},{"$f":"COUNTIF(L12:L13,AI20)","v":0},null,null,null,{"$f":"N20","v":2212},{"$f":"COUNTIF(L14:L14,AN20)","v":0},null,null,null,{"$f":"N20","v":2212},{"$f":"COUNTIF(L15:L16,AS20)","v":0}]
[null,null,null,null,null,null,null,null,null,null,null,null,null,2221,{"$f":"COUNTIF($L$7:$L$500,N21)","v":0},{"$f":"O21/$Q$4","v":0},{"$f":"IF(P21=0,0,(P21*((LOG(P21))/LOG(2))))","v":0},null,null,{"$f":"N21","v":2221},{"$f":"COUNTIF(L7:L8,T21)","v":0},{"$f":"U21/(W4-U20)","v":0},{"$f":"IF(V21=0,0,(V21*((LOG(V21))/LOG(2))))","v":0},null,{"$f":"N21","v":2221},{"$f":"COUNTIF(L9:L9,Y21)","v":0},{"$f":"Z21/(AB4-Z20)","v":0},{"$f":"IF(AA21=0,0,(AA21*((LOG(AA21))/LOG(2))))","v":0},null,{"$f":"N21","v":2221},{"$f":"COUNTIF(L10:L11,AD21)","v":0},{"$f":"AE21/(AG4-AE20)","v":0},{"$f":"IF(AF21=0,0,(AF21*((LOG(AF21))/LOG(2))))","v":0},null,{"$f":"N21","v":2221},{"$f":"COUNTIF(L12:L13,AI21)","v":0},{"$f":"AJ21/(AL4-AJ20)","v":0},{"$f":"IF(AK21=0,0,(AK21*((LOG(AK21))/LOG(2))))","v":0},null,{"$f":"N21","v":2221},{"$f":"COUNTIF(L14:L14,AN21)","v":0},{"$f":"AO21/(AQ4-AO20)","v":0},{"$f":"IF(AP21=0,0,(AP21*((LOG(AP21))/LOG(2))))","v":0},null,{"$f":"N21","v":2221},{"$f":"COUNTIF(L15:L16,AS21)","v":0},{"$f":"AT21/(AV4-AT20)","v":0},{"$f":"IF(AU21=0,0,(AU21*((LOG(AU21))/LOG(2))))","v":0}]
[null,null,null,null,null,null,null,null,null,null,null,null,null,2222,{"$f":"COUNTIF($L$7:$L$500,N22)","v":0},{"$f":"O22/$Q$4","v":0},{"$f":"IF(P22=0,0,(P22*((LOG(P22))/LOG(2))))","v":0},null,null,{"$f":"N22","v":2222},{"$f":"COUNTIF(L7:L8,T22)","v":0},{"$f":"U22/(W4-U20)","v":0},{"$f":"IF(V22=0,0,(V22*((LOG(V22))/LOG(2))))","v":0},null,{"$f":"N22","v":2222},{"$f":"COUNTIF(L9:L9,Y22)","v":0},{"$f":"Z22/(AB4-Z20)","v":0},{"$f":"IF(AA22=0,0,(AA22*((LOG(AA22))/LOG(2))))","v":0},null,{"$f":"N22","v":2222},{"$f":"COUNTIF(L10:L11,AD22)","v":0},{"$f":"AE22/(AG4-AE20)","v":0},{"$f":"IF(AF22=0,0,(AF22*((LOG(AF22))/LOG(2))))","v":0},null,{"$f":"N22","v":2222},{"$f":"COUNTIF(L12:L13,AI22)","v":0},{"$f":"AJ22/(AL4-AJ20)","v":0},{"$f":"IF(AK22=0,0,(AK22*((LOG(AK22))/LOG(2))))","v":0},null,{"$f":"N22","v":2222},{"$f":"COUNTIF(L14:L14,AN22)","v":0},{"$f":"AO22/(AQ4-AO20)","v":0},{"$f":"IF(AP22=0,0,(AP22*((LOG(AP22))/LOG(2))))","v":0},null,{"$f":"N22","v":2222},{"$f":"COUNTIF(L15:L16,AS22)","v":0},{"$f":"AT22/(AV4-AT20)","v":0},{"$f":"IF(AU22=0,0,(AU22*((LOG(AU22))/LOG(2))))","v":0}]
[null,null,null,null,null,null,null,null,null,null,null,null,null,null,null,{"$f":"SUM(P7:P22)","v":1},{"$f":"-SUM(Q7:Q22)","v":2.1132833342948749},null,null,null,null,{"$f":"SUM(V7:V22)","v":1},{"$f":"-SUM(W7:W22)","v":1},null,null,null,{"$f":"SUM(AA7:AA22)","v":1},{"$f":"-SUM(AB7:AB22)","v":0},null,null,null,{"$f":"SUM(AF7:AF22)","v":1},{"$f":"-SUM(AG7:AG22)","v":1},null,null,null,{"$f":"SUM(AK7:AK22)","v":1},{"$f":"-SUM(AL7:AL22)","v":1},null,null,null,{"$f":"SUM(AP7:AP22)","v":1},{"$f":"-SUM(AQ7:AQ22)","v":0},null,null,null,{"$f":"SUM(AU7:AU22)","v":1},{"$f":"-SUM(AV7:AV22)","v":0}]
[null,null,null,null,null,null,null,null,null,null,null,null,null,null,null,"U=",{"$f":"Q23/(LOG(Q4)/LOG(2))","v":0.66666666666666674},null,null,null,null,"U1=",{"$f":"W23/(LOG(W4)/LOG(2))","v":1},null,null,null,"U2=",{"$f":"AB23/(LOG(AB4)/LOG(2))","v":{"$error":"#DIV/0!"}},null,null,null,"U3=",{"$f":"AG23/(LOG(AG4)/LOG(2))","v":1},null,null,null,"U4=",{"$f":"AL23/(LOG(AL4)/LOG(2))","v":1},null,null,null,"U5=",{"$f":"AQ23/(LOG(AQ4)/LOG(2))","v":{"$error":"#DIV/0!"}},null,null,null,"U6=",{"$f":"AV23/(LOG(AV4)/LOG(2))","v":{"$error":"#DIV/0!"}}]
[]
[]
[null,null,null,null,null,null,null,null,null,null,null,null,null,"Total Target Seq"]
[null,null,null,null,null,null,null,null,null,null,null,null,null,{"$f":"COUNTIF(L7:L16,G3)","v":0},null,2,1,2,2,1,2]
[null,null,null,null,null,null,null,null,null,null,null,null,null,null,null,"% of reinforcement given in 6 equal intervals based on number of trials "]
[null,null,null,null,null,null,null,null,null,null,null,null,null,null,null,"%_1","%_2","%_3","%_4","%_5","%_6"]
[null,null,null,null,null,null,null,null,null,null,null,null,null,null,"target sequence",{"$f":"$G$3","v":2212},{"$f":"$G$3","v":2212},{"$f":"$G$3","v":2212},{"$f":"$G$3","v":2212},{"$f":"$G$3","v":2212},{"$f":"$G$3","v":2212}]
[null,null,null,null,null,null,null,null,null,null,null,null,null,null,"total reinforcement",{"$f":"U20","v":0},{"$f":"Z20","v":0},{"$f":"AE20","v":0},{"$f":"AJ20","v":0},{"$f":"AO20","v":0},{"$f":"AT20","v":0}]
[null,null,null,null,null,null,null,null,null,null,null,null,null,null,"% target"]
[null,null,null,null,null,null,null,null,null,null,null,null,null,null,"CCRF"]
[null,null,null,null,null,null,null,null,null,null,null,null,null,null,"% CCRf"]
[null,null,null,null,null,null,null,null,null,null,null,null,null,null,"average response rate",{"$f":"H8/P28","v":162},{"$f":"(H9-H8)/Q28","v":120},{"$f":"(H11-H9)/R28","v":132.5},{"$f":"(H13-H11)/S28","v":169.5},{"$f":"(H14-H13)/T28","v":268},{"$f":"(H16-H14)/U28","v":-658}]

{"sheet":"!M131A4T.ayl","index":27,"n_rows":36,"n_cols":48,"rows_kept":36,"cut":false,"hidden":false,"merged":[[4,39,4,42],[5,39,5,40],[4,44,4,47],[5,44,5,45],[4,24,4,27],[5,24,5,25],[4,29,4,32],[5,29,5,30],[4,34,4,37],[5,34,5,35],[1,1,1,2],[5,13,5,14],[26,13,26,14],[27,13,27,14],[4,19,4,22],[5,19,5,20]]}
["Report for:!M131A4T.ayl"]
["Date:","<date>"]
["Hen:","<hen>",null,null,null,"Correct Sequence",{"$f":"Start!J2","v":2212},null,null,null,null,null,null,null,null,"Total Sequences in Data",{"$f":"4994-COUNTBLANK(L7:L5000)","v":13},null,null,null,null,"Total Sequences in Block Data",{"$f":"COUNTA(L7:L8)","v":2},null,null,null,"Total Sequences in Block Data",{"$f":"COUNTA(L9:L10)","v":2},null,null,null,"Total Sequences in Block Data",{"$f":"COUNTA(L11:L13)","v":3},null,null,null,"Total Sequences in Block Data",{"$f":"COUNTA(L14:L15)","v":2},null,null,null,"Total Sequences in Block Data",{"$f":"COUNTA(L16:L17)","v":2},null,null,null,"Total Sequences in Block Data",{"$f":"COUNTA(L18:L19)","v":2}]
[null,null,null,null,null,null,null,null,null,null,null,null,null,null,null,"Total Sequences in Summary",{"$f":"SUM(O7:O22)","v":13},null,null,null,null,"Total Sequences in Block Summary",{"$f":"SUM(U7:U22)","v":2},null,null,null,"Total Sequences in Block Summary",{"$f":"SUM(Z7:Z22)","v":2},null,null,null,"Total Sequences in Block Summary",{"$f":"SUM(AE7:AE22)","v":3},null,null,null,"Total Sequences in Block Summary",{"$f":"SUM(AJ7:AJ22)","v":2},null,null,null,"Total Sequences in Block Summary",{"$f":"SUM(AO7:AO22)","v":2},null,null,null,"Total Sequences in Block Summary",{"$f":"SUM(AT7:AT22)","v":2}]
[null,null,null,null,null,null,null,null,null,null,null,null,null,null,null,null,null,null,null,"Block 1",null,null,null,null,"Block 2",null,null,null,null,"Block 3",null,null,null,null,"Block 4",null,null,null,null,"Block 5",null,null,null,null,"Block 6"]
["Sequence\nComponent\n1","Time\n1","Sequence\nComponent\n2","Time\n2","Sequence\nComponent\n3","Time\n3","Sequence\nComponent\n4","Time\n4","Sequence\nComponent\n5","Time\n5","Correct?\n0=No 1=Yes","Sequence",null,"Frequency",null,"Relative Frequency","Variability",null,null,"Frequency",null,"Relative Frequency","Variability",null,"Frequency",null,"Relative Frequency","Variability",null,"Frequency",null,"Relative Frequency","Variability",null,"Frequency",null,"Relative Frequency","Variability",null,"Frequency",null,"Relative Frequency","Variability",null,"Frequency",null,"Relative Frequency","Variability"]
[21,24,21,35,22,43,23,50,null,null,0,2222,null,1111,{"$f":"COUNTIF($L$7:$L$500,N7)","v":2},{"$f":"O7/$Q$4","v":0.15384615384615385},{"$f":"IF(P7=0,0,(P7*((LOG(P7))/LOG(2))))","v":-0.4154522643293988},null,null,{"$f":"N7","v":1111},{"$f":"COUNTIF(L7:L8,T7)","v":0},{"$f":"U7/(W4-U20)","v":0},{"$f":"IF(V7=0,0,(V7*((LOG(V7))/LOG(2))))","v":0},null,{"$f":"N7","v":1111},{"$f":"COUNTIF(L9:L10,Y7)","v":0},{"$f":"Z7/(AB4-Z20)","v":0},{"$f":"IF(AA7=0,0,(AA7*((LOG(AA7))/LOG(2))))","v":0},null,{"$f":"N7","v":1111},{"$f":"COUNTIF(L11:L13,AD7)","v":0},{"$f":"AE7/(AG4-AE20)","v":0},{"$f":"IF(AF7=0,0,(AF7*((LOG(AF7))/LOG(2))))","v":0},null,{"$f":"N7","v":1111},{"$f":"COUNTIF(L14:L15,AI7)","v":2},{"$f":"AJ7/(AL4-AJ20)","v":1},{"$f":"IF(AK7=0,0,(AK7*((LOG(AK7))/LOG(2))))","v":0},null,{"$f":"N7","v":1111},{"$f":"COUNTIF(L16:L17,AN7)","v":0},{"$f":"AO7/(AQ4-AO20)","v":0},{"$f":"IF(AP7=0,0,(AP7*((LOG(AP7))/LOG(2))))","v":0},null,{"$f":"N7","v":1111},{"$f":"COUNTIF(L18:L19,AS7)","v":0},{"$f":"AT7/(AV4-AT20)","v":0},{"$f":"IF(AU7=0,0,(AU7*((LOG(AU7))/LOG(2))))","v":0}]
[21,153,21,160,11,176,12,184,null,null,0,2211,null,1112,{"$f":"COUNTIF($L$7:$L$500,N8)","v":1},{"$f":"O8/$Q$4","v":7.6923076923076927E-2},{"$f":"IF(P8=0,0,(P8*((LOG(P8))/LOG(2))))","v":-0.28464920908777636},null,null,{"$f":"N8","v":1112},{"$f":"COUNTIF(L7:L8,T8)","v":0},{"$f":"U8/(W4-U20)","v":0},{"$f":"IF(V8=0,0,(V8*((LOG(V8))/LOG(2))))","v":0},null,{"$f":"N8","v":1112},{"$f":"COUNTIF(L9:L10,Y8)","v":0},{"$f":"Z8/(AB4-Z20)","v":0},{"$f":"IF(AA8=0,0,(AA8*((LOG(AA8))/LOG(2))))","v":0},null,{"$f":"N8","v":1112},{"$f":"COUNTIF(L11:L13,AD8)","v":0},{"$f":"AE8/(AG4-AE20)","v":0},{"$f":"IF(AF8=0,0,(AF8*((LOG(AF8))/LOG(2))))","v":0},null,{"$f":"N8","v":1112},{"$f":"COUNTIF(L14:L15,AI8)","v":0},{"$f":"AJ8/(AL4-AJ20)","v":0},{"$f":"IF(AK8=0,0,(AK8*((LOG(AK8))/LOG(2))))","v":0},null,{"$f":"N8","v":1112},{"$f":"COUNTIF(L16:L17,AN8)","v":0},{"$f":"AO8/(AQ4-AO20)","v":0},{"$f":"IF(AP8=0,0,(AP8*((LOG(AP8))/LOG(2))))","v":0},null,{"$f":"N8","v":1112},{"$f":"COUNTIF(L18:L19,AS8)","v":1},{"$f":"AT8/(AV4-AT20)","v":0.5},{"$f":"IF(AU8=0,0,(AU8*((LOG(AU8))/LOG(2))))","v":-0.5}]
[12,282,14,285,24,294,14,308,null,null,0,1121,null,1121,{"$f":"COUNTIF($L$7:$L$500,N9)","v":1},{"$f":"O9/$Q$4","v":7.6923076923076927E-2},{"$f":"IF(P9=0,0,(P9*((LOG(P9))/LOG(2))))","v":-0.28464920908777636},null,null,{"$f":"N9","v":1121},{"$f":"COUNTIF(L7:L8,T9)","v":0},{"$f":"U9/(W4-U20)","v":0},{"$f":"IF(V9=0,0,(V9*((LOG(V9))/LOG(2))))","v":0},null,{"$f":"N9","v":1121},{"$f":"COUNTIF(L9:L10,Y9)","v":1},{"$f":"Z9/(AB4-Z20)","v":0.5},{"$f":"IF(AA9=0,0,(AA9*((LOG(AA9))/LOG(2))))","v":-0.5},null,{"$f":"N9","v":1121},{"$f":"COUNTIF(L11:L13,AD9)","v":0},{"$f":"AE9/(AG4-AE20)","v":0},{"$f":"IF(AF9=0,0,(AF9*((LOG(AF9))/LOG(2))))","v":0},null,{"$f":"N9","v":1121},{"$f":"COUNTIF(L14:L15,AI9)","v":0},{"$f":"AJ9/(AL4-AJ20)","v":0},{"$f":"IF(AK9=0,0,(AK9*((LOG(AK9))/LOG(2))))","v":0},null,{"$f":"N9","v":1121},{"$f":"COUNTIF(L16:L17,AN9)","v":0},{"$f":"AO9/(AQ4-AO20)","v":0},{"$f":"IF(AP9=0,0,(AP9*((LOG(AP9))/LOG(2))))","v":0},null,{"$f":"N9","v":1121},{"$f":"COUNTIF(L18:L19,AS9)","v":0},{"$f":"AT9/(AV4-AT20)","v":0},{"$f":"IF(AU9=0,0,(AU9*((LOG(AU9))/LOG(2))))","v":0}]
[21,481,12,491,13,496,14,502,null,null,0,2111,null,1122,{"$f":"COUNTIF($L$7:$L$500,N10)","v":1},{"$f":"O10/$Q$4","v":7.6923076923076927E-2},{"$f":"IF(P10=0,0,(P10*((LOG(P10))/LOG(2))))","v":-0.28464920908777636},null,null,{"$f":"N10","v":1122},{"$f":"COUNTIF(L7:L8,T10)","v":0},{"$f":"U10/(W4-U20)","v":0},{"$f":"IF(V10=0,0,(V10*((LOG(V10))/LOG(2))))","v":0},null,{"$f":"N10","v":1122},{"$f":"COUNTIF(L9:L10,Y10)","v":0},{"$f":"Z10/(AB4-Z20)","v":0},{"$f":"IF(AA10=0,0,(AA10*((LOG(AA10))/LOG(2))))","v":0},null,{"$f":"N10","v":1122},{"$f":"COUNTIF(L11:L13,AD10)","v":0},{"$f":"AE10/(AG4-AE20)","v":0},{"$f":"IF(AF10=0,0,(AF10*((LOG(AF10))/LOG(2))))","v":0},null,{"$f":"N10","v":1122},{"$f":"COUNTIF(L14:L15,AI10)","v":0},{"$f":"AJ10/(AL4-AJ20)","v":0},{"$f":"IF(AK10=0,0,(AK10*((LOG(AK10))/LOG(2))))","v":0},null,{"$f":"N10","v":1122},{"$f":"COUNTIF(L16:L17,AN10)","v":0},{"$f":"AO10/(AQ4-AO20)","v":0},{"$f":"IF(AP10=0,0,(AP10*((LOG(AP10))/LOG(2))))","v":0},null,{"$f":"N10","v":1122},{"$f":"COUNTIF(L18:L19,AS10)","v":1},{"$f":"AT10/(AV4-AT20)","v":0.5},{"$f":"IF(AU10=0,0,(AU10*((LOG(AU10))/LOG(2))))","v":-0.5}]
[21,691,21,697,22,702,23,707,null,null,0,2222,null,1211,{"$f":"COUNTIF($L$7:$L$500,N11)","v":1},{"$f":"O11/$Q$4","v":7.6923076923076927E-2},{"$f":"IF(P11=0,0,(P11*((LOG(P11))/LOG(2))))","v":-0.28464920908777636},null,null,{"$f":"N11","v":1211},{"$f":"COUNTIF(L7:L8,T11)","v":0},{"$f":"U11/(W4-U20)","v":0},{"$f":"IF(V11=0,0,(V11*((LOG(V11))/LOG(2))))","v":0},null,{"$f":"N11","v":1211},{"$f":"COUNTIF(L9:L10,Y11)","v":0},{"$f":"Z11/(AB4-Z20)","v":0},{"$f":"IF(AA11=0,0,(AA11*((LOG(AA11))/LOG(2))))","v":0},null,{"$f":"N11","v":1211},{"$f":"COUNTIF(L11:L13,AD11)","v":1},{"$f":"AE11/(AG4-AE20)","v":0.33333333333333331},{"$f":"IF(AF11=0,0,(AF11*((LOG(AF11))/LOG(2))))","v":-0.52832083357371862},null,{"$f":"N11","v":1211},{"$f":"COUNTIF(L14:L15,AI11)","v":0},{"$f":"AJ11/(AL4-AJ20)","v":0},{"$f":"IF(AK11=0,0,(AK11*((LOG(AK11))/LOG(2))))","v":0},null,{"$f":"N11","v":1211},{"$f":"COUNTIF(L16:L17,AN11)","v":0},{"$f":"AO11/(AQ4-AO20)","v":0},{"$f":"IF(AP11=0,0,(AP11*((LOG(AP11))/LOG(2))))","v":0},null,{"$f":"N11","v":1211},{"$f":"COUNTIF(L18:L19,AS11)","v":0},{"$f":"AT11/(AV4-AT20)","v":0},{"$f":"IF(AU11=0,0,(AU11*((LOG(AU11))/LOG(2))))","v":0}]
[12,808,23,827,13,833,14,842,null,null,0,1211,null,1212,{"$f":"COUNTIF($L$7:$L$500,N12)","v":0},{"$f":"O12/$Q$4","v":0},{"$f":"IF(P12=0,0,(P12*((LOG(P12))/LOG(2))))","v":0},null,null,{"$f":"N12","v":1212},{"$f":"COUNTIF(L7:L8,T12)","v":0},{"$f":"U12/(W4-U20)","v":0},{"$f":"IF(V12=0,0,(V12*((LOG(V12))/LOG(2))))","v":0},null,{"$f":"N12","v":1212},{"$f":"COUNTIF(L9:L10,Y12)","v":0},{"$f":"Z12/(AB4-Z20)","v":0},{"$f":"IF(AA12=0,0,(AA12*((LOG(AA12))/LOG(2))))","v":0},null,{"$f":"N12","v":1212},{"$f":"COUNTIF(L11:L13,AD12)","v":0},{"$f":"AE12/(AG4-AE20)","v":0},{"$f":"IF(AF12=0,0,(AF12*((LOG(AF12))/LOG(2))))","v":0},null,{"$f":"N12","v":1212},{"$f":"COUNTIF(L14:L15,AI12)","v":0},{"$f":"AJ12/(AL4-AJ20)","v":0},{"$f":"IF(AK12=0,0,(AK12*((LOG(AK12))/LOG(2))))","v":0},null,{"$f":"N12","v":1212},{"$f":"COUNTIF(L16:L17,AN12)","v":0},{"$f":"AO12/(AQ4-AO20)","v":0},{"$f":"IF(AP12=0,0,(AP12*((LOG(AP12))/LOG(2))))","v":0},null,{"$f":"N12","v":1212},{"$f":"COUNTIF(L18:L19,AS12)","v":0},{"$f":"AT12/(AV4-AT20)","v":0},{"$f":"IF(AU12=0,0,(AU12*((LOG(AU12))/LOG(2))))","v":0}]
[21,988,21,993,22,996,23,1000,null,null,0,2222,null,1221,{"$f":"COUNTIF($L$7:$L$500,N13)","v":0},{"$f":"O13/$Q$4","v":0},{"$f":"IF(P13=0,0,(P13*((LOG(P13))/LOG(2))))","v":0},null,null,{"$f":"N13","v":1221},{"$f":"COUNTIF(L7:L8,T13)","v":0},{"$f":"U13/(W4-U20)","v":0},{"$f":"IF(V13=0,0,(V13*((LOG(V13))/LOG(2))))","v":0},null,{"$f":"N13","v":1221},{"$f":"COUNTIF(L9:L10,Y13)","v":0},{"$f":"Z13/(AB4-Z20)","v":0},{"$f":"IF(AA13=0,0,(AA13*((LOG(AA13))/LOG(2))))","v":0},null,{"$f":"N13","v":1221},{"$f":"COUNTIF(L11:L13,AD13)","v":0},{"$f":"AE13/(AG4-AE20)","v":0},{"$f":"IF(AF13=0,0,(AF13*((LOG(AF13))/LOG(2))))","v":0},null,{"$f":"N13","v":1221},{"$f":"COUNTIF(L14:L15,AI13)","v":0},{"$f":"AJ13/(AL4-AJ20)","v":0},{"$f":"IF(AK13=0,0,(AK13*((LOG(AK13))/LOG(2))))","v":0},null,{"$f":"N13","v":1221},{"$f":"COUNTIF(L16:L17,AN13)","v":0},{"$f":"AO13/(AQ4-AO20)","v":0},{"$f":"IF(AP13=0,0,(AP13*((LOG(AP13))/LOG(2))))","v":0},null,{"$f":"N13","v":1221},{"$f":"COUNTIF(L18:L19,AS13)","v":0},{"$f":"AT13/(AV4-AT20)","v":0},{"$f":"IF(AU13=0,0,(AU13*((LOG(AU13))/LOG(2))))","v":0}]
[12,1973,14,2000,13,2007,14,2014,null,null,0,1111,null,1222,{"$f":"COUNTIF($L$7:$L$500,N14)","v":0},{"$f":"O14/$Q$4","v":0},{"$f":"IF(P14=0,0,(P14*((LOG(P14))/LOG(2))))","v":0},null,null,{"$f":"N14","v":1222},{"$f":"COUNTIF(L7:L8,T14)","v":0},{"$f":"U14/(W4-U20)","v":0},{"$f":"IF(V14=0,0,(V14*((LOG(V14))/LOG(2))))","v":0},null,{"$f":"N14","v":1222},{"$f":"COUNTIF(L9:L10,Y14)","v":0},{"$f":"Z14/(AB4-Z20)","v":0},{"$f":"IF(AA14=0,0,(AA14*((LOG(AA14))/LOG(2))))","v":0},null,{"$f":"N14","v":1222},{"$f":"COUNTIF(L11:L13,AD14)","v":0},{"$f":"AE14/(AG4-AE20)","v":0},{"$f":"IF(AF14=0,0,(AF14*((LOG(AF14))/LOG(2))))","v":0},null,{"$f":"N14","v":1222},{"$f":"COUNTIF(L14:L15,AI14)","v":0},{"$f":"AJ14/(AL4-AJ20)","v":0},{"$f":"IF(AK14=0,0,(AK14*((LOG(AK14))/LOG(2))))","v":0},null,{"$f":"N14","v":1222},{"$f":"COUNTIF(L16:L17,AN14)","v":0},{"$f":"AO14/(AQ4-AO20)","v":0},{"$f":"IF(AP14=0,0,(AP14*((LOG(AP14))/LOG(2))))","v":0},null,{"$f":"N14","v":1222},{"$f":"COUNTIF(L18:L19,AS14)","v":0},{"$f":"AT14/(AV4-AT20)","v":0},{"$f":"IF(AU14=0,0,(AU14*((LOG(AU14))/LOG(2))))","v":0}]
[12,2289,14,2308,13,2317,14,2325,null,null,0,1111,null,2111,{"$f":"COUNTIF($L$7:$L$500,N15)","v":2},{"$f":"O15/$Q$4","v":0.15384615384615385},{"$f":"IF(P15=0,0,(P15*((LOG(P15))/LOG(2))))","v":-0.4154522643293988},null,null,{"$f":"N15","v":2111},{"$f":"COUNTIF(L7:L8,T15)","v":0},{"$f":"U15/(W4-U20)","v":0},{"$f":"IF(V15=0,0,(V15*((LOG(V15))/LOG(2))))","v":0},null,{"$f":"N15","v":2111},{"$f":"COUNTIF(L9:L10,Y15)","v":1},{"$f":"Z15/(AB4-Z20)","v":0.5},{"$f":"IF(AA15=0,0,(AA15*((LOG(AA15))/LOG(2))))","v":-0.5},null,{"$f":"N15","v":2111},{"$f":"COUNTIF(L11:L13,AD15)","v":0},{"$f":"AE15/(AG4-AE20)","v":0},{"$f":"IF(AF15=0,0,(AF15*((LOG(AF15))/LOG(2))))","v":0},null,{"$f":"N15","v":2111},{"$f":"COUNTIF(L14:L15,AI15)","v":0},{"$f":"AJ15/(AL4-AJ20)","v":0},{"$f":"IF(AK15=0,0,(AK15*((LOG(AK15))/LOG(2))))","v":0},null,{"$f":"N15","v":2111},{"$f":"COUNTIF(L16:L17,AN15)","v":1},{"$f":"AO15/(AQ4-AO20)","v":0.5},{"$f":"IF(AP15=0,0,(AP15*((LOG(AP15))/LOG(2))))","v":-0.5},null,{"$f":"N15","v":2111},{"$f":"COUNTIF(L18:L19,AS15)","v":0},{"$f":"AT15/(AV4-AT20)","v":0},{"$f":"IF(AU15=0,0,(AU15*((LOG(AU15))/LOG(2))))","v":0}]
[21,7338,12,7366,13,7373,14,7379,null,null,0,2111,null,2112,{"$f":"COUNTIF($L$7:$L$500,N16)","v":0},{"$f":"O16/$Q$4","v":0},{"$f":"IF(P16=0,0,(P16*((LOG(P16))/LOG(2))))","v":0},null,null,{"$f":"N16","v":2112},{"$f":"COUNTIF(L7:L8,T16)","v":0},{"$f":"U16/(W4-U20)","v":0},{"$f":"IF(V16=0,0,(V16*((LOG(V16))/LOG(2))))","v":0},null,{"$f":"N16","v":2112},{"$f":"COUNTIF(L9:L10,Y16)","v":0},{"$f":"Z16/(AB4-Z20)","v":0},{"$f":"IF(AA16=0,0,(AA16*((LOG(AA16))/LOG(2))))","v":0},null,{"$f":"N16","v":2112},{"$f":"COUNTIF(L11:L13,AD16)","v":0},{"$f":"AE16/(AG4-AE20)","v":0},{"$f":"IF(AF16=0,0,(AF16*((LOG(AF16))/LOG(2))))","v":0},null,{"$f":"N16","v":2112},{"$f":"COUNTIF(L14:L15,AI16)","v":0},{"$f":"AJ16/(AL4-AJ20)","v":0},{"$f":"IF(AK16=0,0,(AK16*((LOG(AK16))/LOG(2))))","v":0},null,{"$f":"N16","v":2112},{"$f":"COUNTIF(L16:L17,AN16)","v":0},{"$f":"AO16/(AQ4-AO20)","v":0},{"$f":"IF(AP16=0,0,(AP16*((LOG(AP16))/LOG(2))))","v":0},null,{"$f":"N16","v":2112},{"$f":"COUNTIF(L18:L19,AS16)","v":0},{"$f":"AT16/(AV4-AT20)","v":0},{"$f":"IF(AU16=0,0,(AU16*((LOG(AU16))/LOG(2))))","v":0}]
[21,7501,21,7527,22,7531,23,7543,null,null,0,2222,null,2121,{"$f":"COUNTIF($L$7:$L$500,N17)","v":0},{"$f":"O17/$Q$4","v":0},{"$f":"IF(P17=0,0,(P17*((LOG(P17))/LOG(2))))","v":0},null,null,{"$f":"N17","v":2121},{"$f":"COUNTIF(L7:L8,T17)","v":0},{"$f":"U17/(W4-U20)","v":0},{"$f":"IF(V17=0,0,(V17*((LOG(V17))/LOG(2))))","v":0},null,{"$f":"N17","v":2121},{"$f":"COUNTIF(L9:L10,Y17)","v":0},{"$f":"Z17/(AB4-Z20)","v":0},{"$f":"IF(AA17=0,0,(AA17*((LOG(AA17))/LOG(2))))","v":0},null,{"$f":"N17","v":2121},{"$f":"COUNTIF(L11:L13,AD17)","v":0},{"$f":"AE17/(AG4-AE20)","v":0},{"$f":"IF(AF17=0,0,(AF17*((LOG(AF17))/LOG(2))))","v":0},null,{"$f":"N17","v":2121},{"$f":"COUNTIF(L14:L15,AI17)","v":0},{"$f":"AJ17/(AL4-AJ20)","v":0},{"$f":"IF(AK17=0,0,(AK17*((LOG(AK17))/LOG(2))))","v":0},null,{"$f":"N17","v":2121},{"$f":"COUNTIF(L16:L17,AN17)","v":0},{"$f":"AO17/(AQ4-AO20)","v":0},{"$f":"IF(AP17=0,0,(AP17*((LOG(AP17))/LOG(2))))","v":0},null,{"$f":"N17","v":2121},{"$f":"COUNTIF(L18:L19,AS17)","v":0},{"$f":"AT17/(AV4-AT20)","v":0},{"$f":"IF(AU17=0,0,(AU17*((LOG(AU17))/LOG(2))))","v":0}]
[12,7661,14,7664,13,7680,23,7790,null,null,0,1112,null,2122,{"$f":"COUNTIF($L$7:$L$500,N18)","v":0},{"$f":"O18/$Q$4","v":0},{"$f":"IF(P18=0,0,(P18*((LOG(P18))/LOG(2))))","v":0},null,null,{"$f":"N18","v":2122},{"$f":"COUNTIF(L7:L8,T18)","v":0},{"$f":"U18/(W4-U20)","v":0},{"$f":"IF(V18=0,0,(V18*((LOG(V18))/LOG(2))))","v":0},null,{"$f":"N18","v":2122},{"$f":"COUNTIF(L9:L10,Y18)","v":0},{"$f":"Z18/(AB4-Z20)","v":0},{"$f":"IF(AA18=0,0,(AA18*((LOG(AA18))/LOG(2))))","v":0},null,{"$f":"N18","v":2122},{"$f":"COUNTIF(L11:L13,AD18)","v":0},{"$f":"AE18/(AG4-AE20)","v":0},{"$f":"IF(AF18=0,0,(AF18*((LOG(AF18))/LOG(2))))","v":0},null,{"$f":"N18","v":2122},{"$f":"COUNTIF(L14:L15,AI18)","v":0},{"$f":"AJ18/(AL4-AJ20)","v":0},{"$f":"IF(AK18=0,0,(AK18*((LOG(AK18))/LOG(2))))","v":0},null,{"$f":"N18","v":2122},{"$f":"COUNTIF(L16:L17,AN18)","v":0},{"$f":"AO18/(AQ4-AO20)","v":0},{"$f":"IF(AP18=0,0,(AP18*((LOG(AP18))/LOG(2))))","v":0},null,{"$f":"N18","v":2122},{"$f":"COUNTIF(L18:L19,AS18)","v":0},{"$f":"AT18/(AV4-AT20)","v":0},{"$f":"IF(AU18=0,0,(AU18*((LOG(AU18))/LOG(2))))","v":0}]
[12,23720,14,23724,24,23732,23,23736,null,null,0,1122,null,2211,{"$f":"COUNTIF($L$7:$L$500,N19)","v":1},{"$f":"O19/$Q$4","v":7.6923076923076927E-2},{"$f":"IF(P19=0,0,(P19*((LOG(P19))/LOG(2))))","v":-0.28464920908777636},null,null,{"$f":"N19","v":2211},{"$f":"COUNTIF(L7:L8,T19)","v":1},{"$f":"U19/(W4-U20)","v":0.5},{"$f":"IF(V19=0,0,(V19*((LOG(V19))/LOG(2))))","v":-0.5},null,{"$f":"N19","v":2211},{"$f":"COUNTIF(L9:L10,Y19)","v":0},{"$f":"Z19/(AB4-Z20)","v":0},{"$f":"IF(AA19=0,0,(AA19*((LOG(AA19))/LOG(2))))","v":0},null,{"$f":"N19","v":2211},{"$f":"COUNTIF(L11:L13,AD19)","v":0},{"$f":"AE19/(AG4-AE20)","v":0},{"$f":"IF(AF19=0,0,(AF19*((LOG(AF19))/LOG(2))))","v":0},null,{"$f":"N19","v":2211},{"$f":"COUNTIF(L14:L15,AI19)","v":0},{"$f":"AJ19/(AL4-AJ20)","v":0},{"$f":"IF(AK19=0,0,(AK19*((LOG(AK19))/LOG(2))))","v":0},null,{"$f":"N19","v":2211},{"$f":"COUNTIF(L16:L17,AN19)","v":0},{"$f":"AO19/(AQ4-AO20)","v":0},{"$f":"IF(AP19=0,0,(AP19*((LOG(AP19))/LOG(2))))","v":0},null,{"$f":"N19","v":2211},{"$f":"COUNTIF(L18:L19,AS19)","v":0},{"$f":"AT19/(AV4-AT20)","v":0},{"$f":"IF(AU19=0,0,(AU19*((LOG(AU19))/LOG(2))))","v":0}]
[null,null,null,null,null,null,null,null,null,null,null,null,null,2212,{"$f":"COUNTIF($L$7:$L$500,N20)","v":0},{"$f":"O20/$Q$4","v":0},{"$f":"IF(P20=0,0,(P20*((LOG(P20))/LOG(2))))","v":0},null,null,{"$f":"N20","v":2212},{"$f":"COUNTIF(L7:L8,T20)","v":0},null,null,null,{"$f":"N20","v":2212},{"$f":"COUNTIF(L9:L10,Y20)","v":0},null,null,null,{"$f":"N20","v":2212},{"$f":"COUNTIF(L11:L13,AD20)","v":0},null,null,null,{"$f":"N20","v":2212},{"$f":"COUNTIF(L14:L15,AI20)","v":0},null,null,null,{"$f":"N20","v":2212},{"$f":"COUNTIF(L16:L17,AN20)","v":0},null,null,null,{"$f":"N20","v":2212},{"$f":"COUNTIF(L18:L19,AS20)","v":0}]
[null,null,null,null,null,null,null,null,null,null,null,null,null,2221,{"$f":"COUNTIF($L$7:$L$500,N21)","v":0},{"$f":"O21/$Q$4","v":0},{"$f":"IF(P21=0,0,(P21*((LOG(P21))/LOG(2))))","v":0},null,null,{"$f":"N21","v":2221},{"$f":"COUNTIF(L7:L8,T21)","v":0},{"$f":"U21/(W4-U20)","v":0},{"$f":"IF(V21=0,0,(V21*((LOG(V21))/LOG(2))))","v":0},null,{"$f":"N21","v":2221},{"$f":"COUNTIF(L9:L10,Y21)","v":0},{"$f":"Z21/(AB4-Z20)","v":0},{"$f":"IF(AA21=0,0,(AA21*((LOG(AA21))/LOG(2))))","v":0},null,{"$f":"N21","v":2221},{"$f":"COUNTIF(L11:L13,AD21)","v":0},{"$f":"AE21/(AG4-AE20)","v":0},{"$f":"IF(AF21=0,0,(AF21*((LOG(AF21))/LOG(2))))","v":0},null,{"$f":"N21","v":2221},{"$f":"COUNTIF(L14:L15,AI21)","v":0},{"$f":"AJ21/(AL4-AJ20)","v":0},{"$f":"IF(AK21=0,0,(AK21*((LOG(AK21))/LOG(2))))","v":0},null,{"$f":"N21","v":2221},{"$f":"COUNTIF(L16:L17,AN21)","v":0},{"$f":"AO21/(AQ4-AO20)","v":0},{"$f":"IF(AP21=0,0,(AP21*((LOG(AP21))/LOG(2))))","v":0},null,{"$f":"N21","v":2221},{"$f":"COUNTIF(L18:L19,AS21)","v":0},{"$f":"AT21/(AV4-AT20)","v":0},{"$f":"IF(AU21=0,0,(AU21*((LOG(AU21))/LOG(2))))","v":0}]
[null,null,null,null,null,null,null,null,null,null,null,null,null,2222,{"$f":"COUNTIF($L$7:$L$500,N22)","v":4},{"$f":"O22/$Q$4","v":0.30769230769230771},{"$f":"IF(P22=0,0,(P22*((LOG(P22))/LOG(2))))","v":-0.52321222096648989},null,null,{"$f":"N22","v":2222},{"$f":"COUNTIF(L7:L8,T22)","v":1},{"$f":"U22/(W4-U20)","v":0.5},{"$f":"IF(V22=0,0,(V22*((LOG(V22))/LOG(2))))","v":-0.5},null,{"$f":"N22","v":2222},{"$f":"COUNTIF(L9:L10,Y22)","v":0},{"$f":"Z22/(AB4-Z20)","v":0},{"$f":"IF(AA22=0,0,(AA22*((LOG(AA22))/LOG(2))))","v":0},null,{"$f":"N22","v":2222},{"$f":"COUNTIF(L11:L13,AD22)","v":2},{"$f":"AE22/(AG4-AE20)","v":0.66666666666666663},{"$f":"IF(AF22=0,0,(AF22*((LOG(AF22))/LOG(2))))","v":-0.38997500048077083},null,{"$f":"N22","v":2222},{"$f":"COUNTIF(L14:L15,AI22)","v":0},{"$f":"AJ22/(AL4-AJ20)","v":0},{"$f":"IF(AK22=0,0,(AK22*((LOG(AK22))/LOG(2))))","v":0},null,{"$f":"N22","v":2222},{"$f":"COUNTIF(L16:L17,AN22)","v":1},{"$f":"AO22/(AQ4-AO20)","v":0.5},{"$f":"IF(AP22=0,0,(AP22*((LOG(AP22))/LOG(2))))","v":-0.5},null,{"$f":"N22","v":2222},{"$f":"COUNTIF(L18:L19,AS22)","v":0},{"$f":"AT22/(AV4-AT20)","v":0},{"$f":"IF(AU22=0,0,(AU22*((LOG(AU22))/LOG(2))))","v":0}]
[null,null,null,null,null,null,null,null,null,null,null,null,null,null,null,{"$f":"SUM(P7:P22)","v":1},{"$f":"-SUM(Q7:Q22)","v":2.7773627950641693},null,null,null,null,{"$f":"SUM(V7:V22)","v":1},{"$f":"-SUM(W7:W22)","v":1},null,null,null,{"$f":"SUM(AA7:AA22)","v":1},{"$f":"-SUM(AB7:AB22)","v":1},null,null,null,{"$f":"SUM(AF7:AF22)","v":1},{"$f":"-SUM(AG7:AG22)","v":0.91829583405448945},null,null,null,{"$f":"SUM(AK7:AK22)","v":1},{"$f":"-SUM(AL7:AL22)","v":0},null,null,null,{"$f":"SUM(AP7:AP22)","v":1},{"$f":"-SUM(AQ7:AQ22)","v":1},null,null,null,{"$f":"SUM(AU7:AU22)","v":1},{"$f":"-SUM(AV7:AV22)","v":1}]
[null,null,null,null,null,null,null,null,null,null,null,null,null,null,null,"U=",{"$f":"Q23/(LOG(Q4)/LOG(2))","v":0.75054939591324332},null,null,null,null,"U1=",{"$f":"W23/(LOG(W4)/LOG(2))","v":1},null,null,null,"U2=",{"$f":"AB23/(LOG(AB4)/LOG(2))","v":1},null,null,null,"U3=",{"$f":"AG23/(LOG(AG4)/LOG(2))","v":0.57938016428569505},null,null,null,"U4=",{"$f":"AL23/(LOG(AL4)/LOG(2))","v":0},null,null,null,"U5=",{"$f":"AQ23/(LOG(AQ4)/LOG(2))","v":1},null,null,null,"U6=",{"$f":"AV23/(LOG(AV4)/LOG(2))","v":1}]
[]
[]
[null,null,null,null,null,null,null,null,null,null,null,null,null,"Total Target Seq"]
[null,null,null,null,null,null,null,null,null,null,null,null,null,{"$f":"COUNTIF(L7:L19,G3)","v":0},null,2,2,3,2,2,2]
[null,null,null,null,null,null,null,null,null,null,null,null,null,null,null,"% of reinforcement given in 6 equal intervals based on number of trials "]
[null,null,null,null,null,null,null,null,null,null,null,null,null,null,null,"%_1","%_2","%_3","%_4","%_5","%_6"]
[null,null,null,null,null,null,null,null,null,null,null,null,null,null,"target sequence",{"$f":"$G$3","v":2212},{"$f":"$G$3","v":2212},{"$f":"$G$3","v":2212},{"$f":"$G$3","v":2212},{"$f":"$G$3","v":2212},{"$f":"$G$3","v":2212}]
[null,null,null,null,null,null,null,null,null,null,null,null,null,null,"total reinforcement",{"$f":"U20","v":0},{"$f":"Z20","v":0},{"$f":"AE20","v":0},{"$f":"AJ20","v":0},{"$f":"AO20","v":0},{"$f":"AT20","v":0}]
[null,null,null,null,null,null,null,null,null,null,null,null,null,null,"% target"]
[null,null,null,null,null,null,null,null,null,null,null,null,null,null,"CCRF"]
[null,null,null,null,null,null,null,null,null,null,null,null,null,null,"% CCRf"]
[null,null,null,null,null,null,null,null,null,null,null,null,null,null,"average response rate",{"$f":"H8/P28","v":92},{"$f":"(H10-H8)/Q28","v":159},{"$f":"(H13-H10)/R28","v":166},{"$f":"(H15-H13)/S28","v":662.5},{"$f":"(H17-H15)/T28","v":2609},{"$f":"(H19-H17)/U28","v":8096.5}]

{"sheet":"!M201A4T.ayl","index":28,"n_rows":36,"n_cols":48,"rows_kept":36,"cut":false,"hidden":false,"merged":[[4,39,4,42],[5,39,5,40],[4,44,4,47],[5,44,5,45],[4,24,4,27],[5,24,5,25],[4,29,4,32],[5,29,5,30],[4,34,4,37],[5,34,5,35],[1,1,1,2],[5,13,5,14],[26,13,26,14],[27,13,27,14],[4,19,4,22],[5,19,5,20]]}
["Report for:!M201A4T.ayl"]
["Date:","<date>"]
["Hen:","<hen>",null,null,null,"Correct Sequence",{"$f":"Start!J2","v":2212},null,null,null,null,null,null,null,null,"Total Sequences in Data",{"$f":"4994-COUNTBLANK(L7:L5000)","v":20},null,null,null,null,"Total Sequences in Block Data",{"$f":"COUNTA(L7:L9)","v":3},null,null,null,"Total Sequences in Block Data",{"$f":"COUNTA(L10:L13)","v":4},null,null,null,"Total Sequences in Block Data",{"$f":"COUNTA(L14:L16)","v":3},null,null,null,"Total Sequences in Block Data",{"$f":"COUNTA(L17:L19)","v":3},null,null,null,"Total Sequences in Block Data",{"$f":"COUNTA(L20:L23)","v":4},null,null,null,"Total Sequences in Block Data",{"$f":"COUNTA(L24:L26)","v":3}]
[null,null,null,null,null,null,null,null,null,null,null,null,null,null,null,"Total Sequences in Summary",{"$f":"SUM(O7:O22)","v":20},null,null,null,null,"Total Sequences in Block Summary",{"$f":"SUM(U7:U22)","v":3},null,null,null,"Total Sequences in Block Summary",{"$f":"SUM(Z7:Z22)","v":4},null,null,null,"Total Sequences in Block Summary",{"$f":"SUM(AE7:AE22)","v":3},null,null,null,"Total Sequences in Block Summary",{"$f":"SUM(AJ7:AJ22)","v":3},null,null,null,"Total Sequences in Block Summary",{"$f":"SUM(AO7:AO22)","v":4},null,null,null,"Total Sequences in Block Summary",{"$f":"SUM(AT7:AT22)","v":3}]
[null,null,null,null,null,null,null,null,null,null,null,null,null,null,null,null,null,null,null,"Block 1",null,null,null,null,"Block 2",null,null,null,null,"Block 3",null,null,null,null,"Block 4",null,null,null,null,"Block 5",null,null,null,null,"Block 6"]
["Sequence\nComponent\n1","Time\n1","Sequence\nComponent\n2","Time\n2","Sequence\nComponent\n3","Time\n3","Sequence\nComponent\n4","Time\n4","Sequence\nComponent\n5","Time\n5","Correct?\n0=No 1=Yes","Sequence",null,"Frequency",null,"Relative Frequency","Variability",null,null,"Frequency",null,"Relative Frequency","Variability",null,"Frequency",null,"Relative Frequency","Variability",null,"Frequency",null,"Relative Frequency","Variability",null,"Frequency",null,"Relative Frequency","Variability",null,"Frequency",null,"Relative Frequency","Variability",null,"Frequency",null,"Relative Frequency","Variability"]
[21,74,21,96,22,105,23,112,null,null,0,2222,null,1111,{"$f":"COUNTIF($L$7:$L$500,N7)","v":9},{"$f":"O7/$Q$4","v":0.45},{"$f":"IF(P7=0,0,(P7*((LOG(P7))/LOG(2))))","v":-0.51840139205027258},null,null,{"$f":"N7","v":1111},{"$f":"COUNTIF(L7:L9,T7)","v":1},{"$f":"U7/(W4-U20)","v":0.33333333333333331},{"$f":"IF(V7=0,0,(V7*((LOG(V7))/LOG(2))))","v":-0.52832083357371862},null,{"$f":"N7","v":1111},{"$f":"COUNTIF(L10:L13,Y7)","v":2},{"$f":"Z7/(AB4-Z20)","v":0.5},{"$f":"IF(AA7=0,0,(AA7*((LOG(AA7))/LOG(2))))","v":-0.5},null,{"$f":"N7","v":1111},{"$f":"COUNTIF(L14:L16,AD7)","v":0},{"$f":"AE7/(AG4-AE20)","v":0},{"$f":"IF(AF7=0,0,(AF7*((LOG(AF7))/LOG(2))))","v":0},null,{"$f":"N7","v":1111},{"$f":"COUNTIF(L17:L19,AI7)","v":3},{"$f":"AJ7/(AL4-AJ20)","v":1},{"$f":"IF(AK7=0,0,(AK7*((LOG(AK7))/LOG(2))))","v":0},null,{"$f":"N7","v":1111},{"$f":"COUNTIF(L20:L23,AN7)","v":2},{"$f":"AO7/(AQ4-AO20)","v":0.5},{"$f":"IF(AP7=0,0,(AP7*((LOG(AP7))/LOG(2))))","v":-0.5},null,{"$f":"N7","v":1111},{"$f":"COUNTIF(L24:L26,AS7)","v":1},{"$f":"AT7/(AV4-AT20)","v":0.33333333333333331},{"$f":"IF(AU7=0,0,(AU7*((LOG(AU7))/LOG(2))))","v":-0.52832083357371862}]
[12,219,14,235,13,239,14,245,null,null,0,1111,null,1112,{"$f":"COUNTIF($L$7:$L$500,N8)","v":1},{"$f":"O8/$Q$4","v":0.05},{"$f":"IF(P8=0,0,(P8*((LOG(P8))/LOG(2))))","v":-0.21609640474436814},null,null,{"$f":"N8","v":1112},{"$f":"COUNTIF(L7:L9,T8)","v":0},{"$f":"U8/(W4-U20)","v":0},{"$f":"IF(V8=0,0,(V8*((LOG(V8))/LOG(2))))","v":0},null,{"$f":"N8","v":1112},{"$f":"COUNTIF(L10:L13,Y8)","v":1},{"$f":"Z8/(AB4-Z20)","v":0.25},{"$f":"IF(AA8=0,0,(AA8*((LOG(AA8))/LOG(2))))","v":-0.5},null,{"$f":"N8","v":1112},{"$f":"COUNTIF(L14:L16,AD8)","v":0},{"$f":"AE8/(AG4-AE20)","v":0},{"$f":"IF(AF8=0,0,(AF8*((LOG(AF8))/LOG(2))))","v":0},null,{"$f":"N8","v":1112},{"$f":"COUNTIF(L17:L19,AI8)","v":0},{"$f":"AJ8/(AL4-AJ20)","v":0},{"$f":"IF(AK8=0,0,(AK8*((LOG(AK8))/LOG(2))))","v":0},null,{"$f":"N8","v":1112},{"$f":"COUNTIF(L20:L23,AN8)","v":0},{"$f":"AO8/(AQ4-AO20)","v":0},{"$f":"IF(AP8=0,0,(AP8*((LOG(AP8))/LOG(2))))","v":0},null,{"$f":"N8","v":1112},{"$f":"COUNTIF(L24:L26,AS8)","v":0},{"$f":"AT8/(AV4-AT20)","v":0},{"$f":"IF(AU8=0,0,(AU8*((LOG(AU8))/LOG(2))))","v":0}]
[12,344,14,347,24,355,23,364,null,null,0,1122,null,1121,{"$f":"COUNTIF($L$7:$L$500,N9)","v":0},{"$f":"O9/$Q$4","v":0},{"$f":"IF(P9=0,0,(P9*((LOG(P9))/LOG(2))))","v":0},null,null,{"$f":"N9","v":1121},{"$f":"COUNTIF(L7:L9,T9)","v":0},{"$f":"U9/(W4-U20)","v":0},{"$f":"IF(V9=0,0,(V9*((LOG(V9))/LOG(2))))","v":0},null,{"$f":"N9","v":1121},{"$f":"COUNTIF(L10:L13,Y9)","v":0},{"$f":"Z9/(AB4-Z20)","v":0},{"$f":"IF(AA9=0,0,(AA9*((LOG(AA9))/LOG(2))))","v":0},null,{"$f":"N9","v":1121},{"$f":"COUNTIF(L14:L16,AD9)","v":0},{"$f":"AE9/(AG4-AE20)","v":0},{"$f":"IF(AF9=0,0,(AF9*((LOG(AF9))/LOG(2))))","v":0},null,{"$f":"N9","v":1121},{"$f":"COUNTIF(L17:L19,AI9)","v":0},{"$f":"AJ9/(AL4-AJ20)","v":0},{"$f":"IF(AK9=0,0,(AK9*((LOG(AK9))/LOG(2))))","v":0},null,{"$f":"N9","v":1121},{"$f":"COUNTIF(L20:L23,AN9)","v":0},{"$f":"AO9/(AQ4-AO20)","v":0},{"$f":"IF(AP9=0,0,(AP9*((LOG(AP9))/LOG(2))))","v":0},null,{"$f":"N9","v":1121},{"$f":"COUNTIF(L24:L26,AS9)","v":0},{"$f":"AT9/(AV4-AT20)","v":0},{"$f":"IF(AU9=0,0,(AU9*((LOG(AU9))/LOG(2))))","v":0}]
[12,602,14,609,24,619,23,624,null,null,0,1122,null,1122,{"$f":"COUNTIF($L$7:$L$500,N10)","v":4},{"$f":"O10/$Q$4","v":0.2},{"$f":"IF(P10=0,0,(P10*((LOG(P10))/LOG(2))))","v":-0.46438561897747244},null,null,{"$f":"N10","v":1122},{"$f":"COUNTIF(L7:L9,T10)","v":1},{"$f":"U10/(W4-U20)","v":0.33333333333333331},{"$f":"IF(V10=0,0,(V10*((LOG(V10))/LOG(2))))","v":-0.52832083357371862},null,{"$f":"N10","v":1122},{"$f":"COUNTIF(L10:L13,Y10)","v":1},{"$f":"Z10/(AB4-Z20)","v":0.25},{"$f":"IF(AA10=0,0,(AA10*((LOG(AA10))/LOG(2))))","v":-0.5},null,{"$f":"N10","v":1122},{"$f":"COUNTIF(L14:L16,AD10)","v":0},{"$f":"AE10/(AG4-AE20)","v":0},{"$f":"IF(AF10=0,0,(AF10*((LOG(AF10))/LOG(2))))","v":0},null,{"$f":"N10","v":1122},{"$f":"COUNTIF(L17:L19,AI10)","v":0},{"$f":"AJ10/(AL4-AJ20)","v":0},{"$f":"IF(AK10=0,0,(AK10*((LOG(AK10))/LOG(2))))","v":0},null,{"$f":"N10","v":1122},{"$f":"COUNTIF(L20:L23,AN10)","v":1},{"$f":"AO10/(AQ4-AO20)","v":0.25},{"$f":"IF(AP10=0,0,(AP10*((LOG(AP10))/LOG(2))))","v":-0.5},null,{"$f":"N10","v":1122},{"$f":"COUNTIF(L24:L26,AS10)","v":1},{"$f":"AT10/(AV4-AT20)","v":0.33333333333333331},{"$f":"IF(AU10=0,0,(AU10*((LOG(AU10))/LOG(2))))","v":-0.52832083357371862}]
[12,3205,14,3209,13,3214,23,3228,null,null,0,1112,null,1211,{"$f":"COUNTIF($L$7:$L$500,N11)","v":0},{"$f":"O11/$Q$4","v":0},{"$f":"IF(P11=0,0,(P11*((LOG(P11))/LOG(2))))","v":0},null,null,{"$f":"N11","v":1211},{"$f":"COUNTIF(L7:L9,T11)","v":0},{"$f":"U11/(W4-U20)","v":0},{"$f":"IF(V11=0,0,(V11*((LOG(V11))/LOG(2))))","v":0},null,{"$f":"N11","v":1211},{"$f":"COUNTIF(L10:L13,Y11)","v":0},{"$f":"Z11/(AB4-Z20)","v":0},{"$f":"IF(AA11=0,0,(AA11*((LOG(AA11))/LOG(2))))","v":0},null,{"$f":"N11","v":1211},{"$f":"COUNTIF(L14:L16,AD11)","v":0},{"$f":"AE11/(AG4-AE20)","v":0},{"$f":"IF(AF11=0,0,(AF11*((LOG(AF11))/LOG(2))))","v":0},null,{"$f":"N11","v":1211},{"$f":"COUNTIF(L17:L19,AI11)","v":0},{"$f":"AJ11/(AL4-AJ20)","v":0},{"$f":"IF(AK11=0,0,(AK11*((LOG(AK11))/LOG(2))))","v":0},null,{"$f":"N11","v":1211},{"$f":"COUNTIF(L20:L23,AN11)","v":0},{"$f":"AO11/(AQ4-AO20)","v":0},{"$f":"IF(AP11=0,0,(AP11*((LOG(AP11))/LOG(2))))","v":0},null,{"$f":"N11","v":1211},{"$f":"COUNTIF(L24:L26,AS11)","v":0},{"$f":"AT11/(AV4-AT20)","v":0},{"$f":"IF(AU11=0,0,(AU11*((LOG(AU11))/LOG(2))))","v":0}]
[12,6382,14,7436,13,7440,14,7462,null,null,0,1111,null,1212,{"$f":"COUNTIF($L$7:$L$500,N12)","v":0},{"$f":"O12/$Q$4","v":0},{"$f":"IF(P12=0,0,(P12*((LOG(P12))/LOG(2))))","v":0},null,null,{"$f":"N12","v":1212},{"$f":"COUNTIF(L7:L9,T12)","v":0},{"$f":"U12/(W4-U20)","v":0},{"$f":"IF(V12=0,0,(V12*((LOG(V12))/LOG(2))))","v":0},null,{"$f":"N12","v":1212},{"$f":"COUNTIF(L10:L13,Y12)","v":0},{"$f":"Z12/(AB4-Z20)","v":0},{"$f":"IF(AA12=0,0,(AA12*((LOG(AA12))/LOG(2))))","v":0},null,{"$f":"N12","v":1212},{"$f":"COUNTIF(L14:L16,AD12)","v":0},{"$f":"AE12/(AG4-AE20)","v":0},{"$f":"IF(AF12=0,0,(AF12*((LOG(AF12))/LOG(2))))","v":0},null,{"$f":"N12","v":1212},{"$f":"COUNTIF(L17:L19,AI12)","v":0},{"$f":"AJ12/(AL4-AJ20)","v":0},{"$f":"IF(AK12=0,0,(AK12*((LOG(AK12))/LOG(2))))","v":0},null,{"$f":"N12","v":1212},{"$f":"COUNTIF(L20:L23,AN12)","v":0},{"$f":"AO12/(AQ4-AO20)","v":0},{"$f":"IF(AP12=0,0,(AP12*((LOG(AP12))/LOG(2))))","v":0},null,{"$f":"N12","v":1212},{"$f":"COUNTIF(L24:L26,AS12)","v":0},{"$f":"AT12/(AV4-AT20)","v":0},{"$f":"IF(AU12=0,0,(AU12*((LOG(AU12))/LOG(2))))","v":0}]
[12,7578,14,7598,13,7605,14,7617,null,null,0,1111,null,1221,{"$f":"COUNTIF($L$7:$L$500,N13)","v":0},{"$f":"O13/$Q$4","v":0},{"$f":"IF(P13=0,0,(P13*((LOG(P13))/LOG(2))))","v":0},null,null,{"$f":"N13","v":1221},{"$f":"COUNTIF(L7:L9,T13)","v":0},{"$f":"U13/(W4-U20)","v":0},{"$f":"IF(V13=0,0,(V13*((LOG(V13))/LOG(2))))","v":0},null,{"$f":"N13","v":1221},{"$f":"COUNTIF(L10:L13,Y13)","v":0},{"$f":"Z13/(AB4-Z20)","v":0},{"$f":"IF(AA13=0,0,(AA13*((LOG(AA13))/LOG(2))))","v":0},null,{"$f":"N13","v":1221},{"$f":"COUNTIF(L14:L16,AD13)","v":0},{"$f":"AE13/(AG4-AE20)","v":0},{"$f":"IF(AF13=0,0,(AF13*((LOG(AF13))/LOG(2))))","v":0},null,{"$f":"N13","v":1221},{"$f":"COUNTIF(L17:L19,AI13)","v":0},{"$f":"AJ13/(AL4-AJ20)","v":0},{"$f":"IF(AK13=0,0,(AK13*((LOG(AK13))/LOG(2))))","v":0},null,{"$f":"N13","v":1221},{"$f":"COUNTIF(L20:L23,AN13)","v":0},{"$f":"AO13/(AQ4-AO20)","v":0},{"$f":"IF(AP13=0,0,(AP13*((LOG(AP13))/LOG(2))))","v":0},null,{"$f":"N13","v":1221},{"$f":"COUNTIF(L24:L26,AS13)","v":0},{"$f":"AT13/(AV4-AT20)","v":0},{"$f":"IF(AU13=0,0,(AU13*((LOG(AU13))/LOG(2))))","v":0}]
[12,7755,23,7759,24,7768,23,7781,null,null,0,1222,null,1222,{"$f":"COUNTIF($L$7:$L$500,N14)","v":4},{"$f":"O14/$Q$4","v":0.2},{"$f":"IF(P14=0,0,(P14*((LOG(P14))/LOG(2))))","v":-0.46438561897747244},null,null,{"$f":"N14","v":1222},{"$f":"COUNTIF(L7:L9,T14)","v":0},{"$f":"U14/(W4-U20)","v":0},{"$f":"IF(V14=0,0,(V14*((LOG(V14))/LOG(2))))","v":0},null,{"$f":"N14","v":1222},{"$f":"COUNTIF(L10:L13,Y14)","v":0},{"$f":"Z14/(AB4-Z20)","v":0},{"$f":"IF(AA14=0,0,(AA14*((LOG(AA14))/LOG(2))))","v":0},null,{"$f":"N14","v":1222},{"$f":"COUNTIF(L14:L16,AD14)","v":3},{"$f":"AE14/(AG4-AE20)","v":1},{"$f":"IF(AF14=0,0,(AF14*((LOG(AF14))/LOG(2))))","v":0},null,{"$f":"N14","v":1222},{"$f":"COUNTIF(L17:L19,AI14)","v":0},{"$f":"AJ14/(AL4-AJ20)","v":0},{"$f":"IF(AK14=0,0,(AK14*((LOG(AK14))/LOG(2))))","v":0},null,{"$f":"N14","v":1222},{"$f":"COUNTIF(L20:L23,AN14)","v":0},{"$f":"AO14/(AQ4-AO20)","v":0},{"$f":"IF(AP14=0,0,(AP14*((LOG(AP14))/LOG(2))))","v":0},null,{"$f":"N14","v":1222},{"$f":"COUNTIF(L24:L26,AS14)","v":1},{"$f":"AT14/(AV4-AT20)","v":0.33333333333333331},{"$f":"IF(AU14=0,0,(AU14*((LOG(AU14))/LOG(2))))","v":-0.52832083357371862}]
[12,7912,23,7922,24,7928,23,7934,null,null,0,1222,null,2111,{"$f":"COUNTIF($L$7:$L$500,N15)","v":0},{"$f":"O15/$Q$4","v":0},{"$f":"IF(P15=0,0,(P15*((LOG(P15))/LOG(2))))","v":0},null,null,{"$f":"N15","v":2111},{"$f":"COUNTIF(L7:L9,T15)","v":0},{"$f":"U15/(W4-U20)","v":0},{"$f":"IF(V15=0,0,(V15*((LOG(V15))/LOG(2))))","v":0},null,{"$f":"N15","v":2111},{"$f":"COUNTIF(L10:L13,Y15)","v":0},{"$f":"Z15/(AB4-Z20)","v":0},{"$f":"IF(AA15=0,0,(AA15*((LOG(AA15))/LOG(2))))","v":0},null,{"$f":"N15","v":2111},{"$f":"COUNTIF(L14:L16,AD15)","v":0},{"$f":"AE15/(AG4-AE20)","v":0},{"$f":"IF(AF15=0,0,(AF15*((LOG(AF15))/LOG(2))))","v":0},null,{"$f":"N15","v":2111},{"$f":"COUNTIF(L17:L19,AI15)","v":0},{"$f":"AJ15/(AL4-AJ20)","v":0},{"$f":"IF(AK15=0,0,(AK15*((LOG(AK15))/LOG(2))))","v":0},null,{"$f":"N15","v":2111},{"$f":"COUNTIF(L20:L23,AN15)","v":0},{"$f":"AO15/(AQ4-AO20)","v":0},{"$f":"IF(AP15=0,0,(AP15*((LOG(AP15))/LOG(2))))","v":0},null,{"$f":"N15","v":2111},{"$f":"COUNTIF(L24:L26,AS15)","v":0},{"$f":"AT15/(AV4-AT20)","v":0},{"$f":"IF(AU15=0,0,(AU15*((LOG(AU15))/LOG(2))))","v":0}]
[12,8034,23,8047,24,8052,23,8059,null,null,0,1222,null,2112,{"$f":"COUNTIF($L$7:$L$500,N16)","v":1},{"$f":"O16/$Q$4","v":0.05},{"$f":"IF(P16=0,0,(P16*((LOG(P16))/LOG(2))))","v":-0.21609640474436814},null,null,{"$f":"N16","v":2112},{"$f":"COUNTIF(L7:L9,T16)","v":0},{"$f":"U16/(W4-U20)","v":0},{"$f":"IF(V16=0,0,(V16*((LOG(V16))/LOG(2))))","v":0},null,{"$f":"N16","v":2112},{"$f":"COUNTIF(L10:L13,Y16)","v":0},{"$f":"Z16/(AB4-Z20)","v":0},{"$f":"IF(AA16=0,0,(AA16*((LOG(AA16))/LOG(2))))","v":0},null,{"$f":"N16","v":2112},{"$f":"COUNTIF(L14:L16,AD16)","v":0},{"$f":"AE16/(AG4-AE20)","v":0},{"$f":"IF(AF16=0,0,(AF16*((LOG(AF16))/LOG(2))))","v":0},null,{"$f":"N16","v":2112},{"$f":"COUNTIF(L17:L19,AI16)","v":0},{"$f":"AJ16/(AL4-AJ20)","v":0},{"$f":"IF(AK16=0,0,(AK16*((LOG(AK16))/LOG(2))))","v":0},null,{"$f":"N16","v":2112},{"$f":"COUNTIF(L20:L23,AN16)","v":1},{"$f":"AO16/(AQ4-AO20)","v":0.25},{"$f":"IF(AP16=0,0,(AP16*((LOG(AP16))/LOG(2))))","v":-0.5},null,{"$f":"N16","v":2112},{"$f":"COUNTIF(L24:L26,AS16)","v":0},{"$f":"AT16/(AV4-AT20)","v":0},{"$f":"IF(AU16=0,0,(AU16*((LOG(AU16))/LOG(2))))","v":0}]
[12,8174,14,8177,13,8199,14,8204,null,null,0,1111,null,2121,{"$f":"COUNTIF($L$7:$L$500,N17)","v":0},{"$f":"O17/$Q$4","v":0},{"$f":"IF(P17=0,0,(P17*((LOG(P17))/LOG(2))))","v":0},null,null,{"$f":"N17","v":2121},{"$f":"COUNTIF(L7:L9,T17)","v":0},{"$f":"U17/(W4-U20)","v":0},{"$f":"IF(V17=0,0,(V17*((LOG(V17))/LOG(2))))","v":0},null,{"$f":"N17","v":2121},{"$f":"COUNTIF(L10:L13,Y17)","v":0},{"$f":"Z17/(AB4-Z20)","v":0},{"$f":"IF(AA17=0,0,(AA17*((LOG(AA17))/LOG(2))))","v":0},null,{"$f":"N17","v":2121},{"$f":"COUNTIF(L14:L16,AD17)","v":0},{"$f":"AE17/(AG4-AE20)","v":0},{"$f":"IF(AF17=0,0,(AF17*((LOG(AF17))/LOG(2))))","v":0},null,{"$f":"N17","v":2121},{"$f":"COUNTIF(L17:L19,AI17)","v":0},{"$f":"AJ17/(AL4-AJ20)","v":0},{"$f":"IF(AK17=0,0,(AK17*((LOG(AK17))/LOG(2))))","v":0},null,{"$f":"N17","v":2121},{"$f":"COUNTIF(L20:L23,AN17)","v":0},{"$f":"AO17/(AQ4-AO20)","v":0},{"$f":"IF(AP17=0,0,(AP17*((LOG(AP17))/LOG(2))))","v":0},null,{"$f":"N17","v":2121},{"$f":"COUNTIF(L24:L26,AS17)","v":0},{"$f":"AT17/(AV4-AT20)","v":0},{"$f":"IF(AU17=0,0,(AU17*((LOG(AU17))/LOG(2))))","v":0}]
[12,8332,14,8334,13,8354,14,8359,null,null,0,1111,null,2122,{"$f":"COUNTIF($L$7:$L$500,N18)","v":0},{"$f":"O18/$Q$4","v":0},{"$f":"IF(P18=0,0,(P18*((LOG(P18))/LOG(2))))","v":0},null,null,{"$f":"N18","v":2122},{"$f":"COUNTIF(L7:L9,T18)","v":0},{"$f":"U18/(W4-U20)","v":0},{"$f":"IF(V18=0,0,(V18*((LOG(V18))/LOG(2))))","v":0},null,{"$f":"N18","v":2122},{"$f":"COUNTIF(L10:L13,Y18)","v":0},{"$f":"Z18/(AB4-Z20)","v":0},{"$f":"IF(AA18=0,0,(AA18*((LOG(AA18))/LOG(2))))","v":0},null,{"$f":"N18","v":2122},{"$f":"COUNTIF(L14:L16,AD18)","v":0},{"$f":"AE18/(AG4-AE20)","v":0},{"$f":"IF(AF18=0,0,(AF18*((LOG(AF18))/LOG(2))))","v":0},null,{"$f":"N18","v":2122},{"$f":"COUNTIF(L17:L19,AI18)","v":0},{"$f":"AJ18/(AL4-AJ20)","v":0},{"$f":"IF(AK18=0,0,(AK18*((LOG(AK18))/LOG(2))))","v":0},null,{"$f":"N18","v":2122},{"$f":"COUNTIF(L20:L23,AN18)","v":0},{"$f":"AO18/(AQ4-AO20)","v":0},{"$f":"IF(AP18=0,0,(AP18*((LOG(AP18))/LOG(2))))","v":0},null,{"$f":"N18","v":2122},{"$f":"COUNTIF(L24:L26,AS18)","v":0},{"$f":"AT18/(AV4-AT20)","v":0},{"$f":"IF(AU18=0,0,(AU18*((LOG(AU18))/LOG(2))))","v":0}]
[12,8454,14,8459,13,8475,14,8479,null,null,0,1111,null,2211,{"$f":"COUNTIF($L$7:$L$500,N19)","v":0},{"$f":"O19/$Q$4","v":0},{"$f":"IF(P19=0,0,(P19*((LOG(P19))/LOG(2))))","v":0},null,null,{"$f":"N19","v":2211},{"$f":"COUNTIF(L7:L9,T19)","v":0},{"$f":"U19/(W4-U20)","v":0},{"$f":"IF(V19=0,0,(V19*((LOG(V19))/LOG(2))))","v":0},null,{"$f":"N19","v":2211},{"$f":"COUNTIF(L10:L13,Y19)","v":0},{"$f":"Z19/(AB4-Z20)","v":0},{"$f":"IF(AA19=0,0,(AA19*((LOG(AA19))/LOG(2))))","v":0},null,{"$f":"N19","v":2211},{"$f":"COUNTIF(L14:L16,AD19)","v":0},{"$f":"AE19/(AG4-AE20)","v":0},{"$f":"IF(AF19=0,0,(AF19*((LOG(AF19))/LOG(2))))","v":0},null,{"$f":"N19","v":2211},{"$f":"COUNTIF(L17:L19,AI19)","v":0},{"$f":"AJ19/(AL4-AJ20)","v":0},{"$f":"IF(AK19=0,0,(AK19*((LOG(AK19))/LOG(2))))","v":0},null,{"$f":"N19","v":2211},{"$f":"COUNTIF(L20:L23,AN19)","v":0},{"$f":"AO19/(AQ4-AO20)","v":0},{"$f":"IF(AP19=0,0,(AP19*((LOG(AP19))/LOG(2))))","v":0},null,{"$f":"N19","v":2211},{"$f":"COUNTIF(L24:L26,AS19)","v":0},{"$f":"AT19/(AV4-AT20)","v":0},{"$f":"IF(AU19=0,0,(AU19*((LOG(AU19))/LOG(2))))","v":0}]
[12,8581,14,8585,13,8590,14,8595,null,null,0,1111,null,2212,{"$f":"COUNTIF($L$7:$L$500,N20)","v":0},{"$f":"O20/$Q$4","v":0},{"$f":"IF(P20=0,0,(P20*((LOG(P20))/LOG(2))))","v":0},null,null,{"$f":"N20","v":2212},{"$f":"COUNTIF(L7:L9,T20)","v":0},null,null,null,{"$f":"N20","v":2212},{"$f":"COUNTIF(L10:L13,Y20)","v":0},null,null,null,{"$f":"N20","v":2212},{"$f":"COUNTIF(L14:L16,AD20)","v":0},null,null,null,{"$f":"N20","v":2212},{"$f":"COUNTIF(L17:L19,AI20)","v":0},null,null,null,{"$f":"N20","v":2212},{"$f":"COUNTIF(L20:L23,AN20)","v":0},null,null,null,{"$f":"N20","v":2212},{"$f":"COUNTIF(L24:L26,AS20)","v":0}]
[12,8714,14,8717,24,8727,23,8733,null,null,0,1122,null,2221,{"$f":"COUNTIF($L$7:$L$500,N21)","v":0},{"$f":"O21/$Q$4","v":0},{"$f":"IF(P21=0,0,(P21*((LOG(P21))/LOG(2))))","v":0},null,null,{"$f":"N21","v":2221},{"$f":"COUNTIF(L7:L9,T21)","v":0},{"$f":"U21/(W4-U20)","v":0},{"$f":"IF(V21=0,0,(V21*((LOG(V21))/LOG(2))))","v":0},null,{"$f":"N21","v":2221},{"$f":"COUNTIF(L10:L13,Y21)","v":0},{"$f":"Z21/(AB4-Z20)","v":0},{"$f":"IF(AA21=0,0,(AA21*((LOG(AA21))/LOG(2))))","v":0},null,{"$f":"N21","v":2221},{"$f":"COUNTIF(L14:L16,AD21)","v":0},{"$f":"AE21/(AG4-AE20)","v":0},{"$f":"IF(AF21=0,0,(AF21*((LOG(AF21))/LOG(2))))","v":0},null,{"$f":"N21","v":2221},{"$f":"COUNTIF(L17:L19,AI21)","v":0},{"$f":"AJ21/(AL4-AJ20)","v":0},{"$f":"IF(AK21=0,0,(AK21*((LOG(AK21))/LOG(2))))","v":0},null,{"$f":"N21","v":2221},{"$f":"COUNTIF(L20:L23,AN21)","v":0},{"$f":"AO21/(AQ4-AO20)","v":0},{"$f":"IF(AP21=0,0,(AP21*((LOG(AP21))/LOG(2))))","v":0},null,{"$f":"N21","v":2221},{"$f":"COUNTIF(L24:L26,AS21)","v":0},{"$f":"AT21/(AV4-AT20)","v":0},{"$f":"IF(AU21=0,0,(AU21*((LOG(AU21))/LOG(2))))","v":0}]
[21,8846,12,8860,13,8867,23,8880,null,null,0,2112,null,2222,{"$f":"COUNTIF($L$7:$L$500,N22)","v":1},{"$f":"O22/$Q$4","v":0.05},{"$f":"IF(P22=0,0,(P22*((LOG(P22))/LOG(2))))","v":-0.21609640474436814},null,null,{"$f":"N22","v":2222},{"$f":"COUNTIF(L7:L9,T22)","v":1},{"$f":"U22/(W4-U20)","v":0.33333333333333331},{"$f":"IF(V22=0,0,(V22*((LOG(V22))/LOG(2))))","v":-0.52832083357371862},null,{"$f":"N22","v":2222},{"$f":"COUNTIF(L10:L13,Y22)","v":0},{"$f":"Z22/(AB4-Z20)","v":0},{"$f":"IF(AA22=0,0,(AA22*((LOG(AA22))/LOG(2))))","v":0},null,{"$f":"N22","v":2222},{"$f":"COUNTIF(L14:L16,AD22)","v":0},{"$f":"AE22/(AG4-AE20)","v":0},{"$f":"IF(AF22=0,0,(AF22*((LOG(AF22))/LOG(2))))","v":0},null,{"$f":"N22","v":2222},{"$f":"COUNTIF(L17:L19,AI22)","v":0},{"$f":"AJ22/(AL4-AJ20)","v":0},{"$f":"IF(AK22=0,0,(AK22*((LOG(AK22))/LOG(2))))","v":0},null,{"$f":"N22","v":2222},{"$f":"COUNTIF(L20:L23,AN22)","v":0},{"$f":"AO22/(AQ4-AO20)","v":0},{"$f":"IF(AP22=0,0,(AP22*((LOG(AP22))/LOG(2))))","v":0},null,{"$f":"N22","v":2222},{"$f":"COUNTIF(L24:L26,AS22)","v":0},{"$f":"AT22/(AV4-AT20)","v":0},{"$f":"IF(AU22=0,0,(AU22*((LOG(AU22))/LOG(2))))","v":0}]
[12,8992,14,8997,13,9003,14,9008,null,null,0,1111,null,null,null,{"$f":"SUM(P7:P22)","v":1},{"$f":"-SUM(Q7:Q22)","v":2.0954618442383217},null,null,null,null,{"$f":"SUM(V7:V22)","v":1},{"$f":"-SUM(W7:W22)","v":1.5849625007211559},null,null,null,{"$f":"SUM(AA7:AA22)","v":1},{"$f":"-SUM(AB7:AB22)","v":1.5},null,null,null,{"$f":"SUM(AF7:AF22)","v":1},{"$f":"-SUM(AG7:AG22)","v":0},null,null,null,{"$f":"SUM(AK7:AK22)","v":1},{"$f":"-SUM(AL7:AL22)","v":0},null,null,null,{"$f":"SUM(AP7:AP22)","v":1},{"$f":"-SUM(AQ7:AQ22)","v":1.5},null,null,null,{"$f":"SUM(AU7:AU22)","v":1},{"$f":"-SUM(AV7:AV22)","v":1.5849625007211559}]
[12,9180,14,9195,13,9201,14,9206,null,null,0,1111,null,null,null,"U=",{"$f":"Q23/(LOG(Q4)/LOG(2))","v":0.48484421726431642},null,null,null,null,"U1=",{"$f":"W23/(LOG(W4)/LOG(2))","v":0.99999999999999989},null,null,null,"U2=",{"$f":"AB23/(LOG(AB4)/LOG(2))","v":0.75},null,null,null,"U3=",{"$f":"AG23/(LOG(AG4)/LOG(2))","v":0},null,null,null,"U4=",{"$f":"AL23/(LOG(AL4)/LOG(2))","v":0},null,null,null,"U5=",{"$f":"AQ23/(LOG(AQ4)/LOG(2))","v":0.75},null,null,null,"U6=",{"$f":"AV23/(LOG(AV4)/LOG(2))","v":0.99999999999999989}]
[12,9340,14,9345,24,9357,23,9368,null,null,0,1122]
[12,10371,23,10387,24,10391,23,10397,null,null,0,1222]
[null,null,null,null,null,null,null,null,null,null,null,null,null,"Total Target Seq"]
[null,null,null,null,null,null,null,null,null,null,null,null,null,{"$f":"COUNTIF(L7:L26,G3)","v":0},null,3,4,3,3,4,3]
[null,null,null,null,null,null,null,null,null,null,null,null,null,null,null,"% of reinforcement given in 6 equal intervals based on number of trials "]
[null,null,null,null,null,null,null,null,null,null,null,null,null,null,null,"%_1","%_2","%_3","%_4","%_5","%_6"]
[null,null,null,null,null,null,null,null,null,null,null,null,null,null,"target sequence",{"$f":"$G$3","v":2212},{"$f":"$G$3","v":2212},{"$f":"$G$3","v":2212},{"$f":"$G$3","v":2212},{"$f":"$G$3","v":2212},{"$f":"$G$3","v":2212}]
[null,null,null,null,null,null,null,null,null,null,null,null,null,null,"total reinforcement",{"$f":"U20","v":0},{"$f":"Z20","v":0},{"$f":"AE20","v":0},{"$f":"AJ20","v":0},{"$f":"AO20","v":0},{"$f":"AT20","v":0}]
[null,null,null,null,null,null,null,null,null,null,null,null,null,null,"% target"]
[null,null,null,null,null,null,null,null,null,null,null,null,null,null,"CCRF"]
[null,null,null,null,null,null,null,null,null,null,null,null,null,null,"% CCRf"]
[null,null,null,null,null,null,null,null,null,null,null,null,null,null,"average response rate",{"$f":"H9/P28","v":121.33333333333333},{"$f":"(H13-H9)/Q28","v":1813.25},{"$f":"(H16-H13)/R28","v":147.33333333333334},{"$f":"(H19-H16)/S28","v":140},{"$f":"(H23-H19)/T28","v":132.25},{"$f":"(H26-H23)/U28","v":463}]

{"sheet":"!M202B4T.ayl","index":29,"n_rows":36,"n_cols":48,"rows_kept":36,"cut":false,"hidden":false,"merged":[[4,39,4,42],[5,39,5,40],[4,44,4,47],[5,44,5,45],[4,24,4,27],[5,24,5,25],[4,29,4,32],[5,29,5,30],[4,34,4,37],[5,34,5,35],[1,1,1,2],[5,13,5,14],[26,13,26,14],[27,13,27,14],[4,19,4,22],[5,19,5,20]]}
["Report for:!M202B4T.ayl"]
["Date:","<date>"]
["Hen:","<hen>",null,null,null,"Correct Sequence",{"$f":"Start!J2","v":2212},null,null,null,null,null,null,null,null,"Total Sequences in Data",{"$f":"4994-COUNTBLANK(L7:L5000)","v":5},null,null,null,null,"Total Sequences in Block Data",{"$f":"COUNTA(L7:L7)","v":1},null,null,null,"Total Sequences in Block Data",{"$f":"COUNTA(L8:L8)","v":1},null,null,null,"Total Sequences in Block Data",{"$f":"COUNTA(L8:L9)","v":2},null,null,null,"Total Sequences in Block Data",{"$f":"COUNTA(L9:L9)","v":1},null,null,null,"Total Sequences in Block Data",{"$f":"COUNTA(L10:L10)","v":1},null,null,null,"Total Sequences in Block Data",{"$f":"COUNTA(L11:L11)","v":1}]
[null,null,null,null,null,null,null,null,null,null,null,null,null,null,null,"Total Sequences in Summary",{"$f":"SUM(O7:O22)","v":5},null,null,null,null,"Total Sequences in Block Summary",{"$f":"SUM(U7:U22)","v":1},null,null,null,"Total Sequences in Block Summary",{"$f":"SUM(Z7:Z22)","v":1},null,null,null,"Total Sequences in Block Summary",{"$f":"SUM(AE7:AE22)","v":2},null,null,null,"Total Sequences in Block Summary",{"$f":"SUM(AJ7:AJ22)","v":1},null,null,null,"Total Sequences in Block Summary",{"$f":"SUM(AO7:AO22)","v":1},null,null,null,"Total Sequences in Block Summary",{"$f":"SUM(AT7:AT22)","v":1}]
[null,null,null,null,null,null,null,null,null,null,null,null,null,null,null,null,null,null,null,"Block 1",null,null,null,null,"Block 2",null,null,null,null,"Block 3",null,null,null,null,"Block 4",null,null,null,null,"Block 5",null,null,null,null,"Block 6"]
["Sequence\nComponent\n1","Time\n1","Sequence\nComponent\n2","Time\n2","Sequence\nComponent\n3","Time\n3","Sequence\nComponent\n4","Time\n4","Sequence\nComponent\n5","Time\n5","Correct?\n0=No 1=Yes","Sequence",null,"Frequency",null,"Relative Frequency","Variability",null,null,"Frequency",null,"Relative Frequency","Variability",null,"Frequency",null,"Relative Frequency","Variability",null,"Frequency",null,"Relative Frequency","Variability",null,"Frequency",null,"Relative Frequency","Variability",null,"Frequency",null,"Relative Frequency","Variability",null,"Frequency",null,"Relative Frequency","Variability"]
[21,18,21,37,11,44,12,53,null,null,0,2211,null,1111,{"$f":"COUNTIF($L$7:$L$500,N7)","v":1},{"$f":"O7/$Q$4","v":0.2},{"$f":"IF(P7=0,0,(P7*((LOG(P7))/LOG(2))))","v":-0.46438561897747244},null,null,{"$f":"N7","v":1111},{"$f":"COUNTIF(L7:L7,T7)","v":0},{"$f":"U7/(W4-U20)","v":0},{"$f":"IF(V7=0,0,(V7*((LOG(V7))/LOG(2))))","v":0},null,{"$f":"N7","v":1111},{"$f":"COUNTIF(L8:L8,Y7)","v":1},{"$f":"Z7/(AB4-Z20)","v":1},{"$f":"IF(AA7=0,0,(AA7*((LOG(AA7))/LOG(2))))","v":0},null,{"$f":"N7","v":1111},{"$f":"COUNTIF(L8:L9,AD7)","v":1},{"$f":"AE7/(AG4-AE20)","v":0.5},{"$f":"IF(AF7=0,0,(AF7*((LOG(AF7))/LOG(2))))","v":-0.5},null,{"$f":"N7","v":1111},{"$f":"COUNTIF(L9:L9,AI7)","v":0},{"$f":"AJ7/(AL4-AJ20)","v":0},{"$f":"IF(AK7=0,0,(AK7*((LOG(AK7))/LOG(2))))","v":0},null,{"$f":"N7","v":1111},{"$f":"COUNTIF(L10:L10,AN7)","v":0},{"$f":"AO7/(AQ4-AO20)","v":0},{"$f":"IF(AP7=0,0,(AP7*((LOG(AP7))/LOG(2))))","v":0},null,{"$f":"N7","v":1111},{"$f":"COUNTIF(L11:L11,AS7)","v":0},{"$f":"AT7/(AV4-AT20)","v":0},{"$f":"IF(AU7=0,0,(AU7*((LOG(AU7))/LOG(2))))","v":0}]
[12,152,14,166,13,171,14,173,null,null,0,1111,null,1112,{"$f":"COUNTIF($L$7:$L$500,N8)","v":1},{"$f":"O8/$Q$4","v":0.2},{"$f":"IF(P8=0,0,(P8*((LOG(P8))/LOG(2))))","v":-0.46438561897747244},null,null,{"$f":"N8","v":1112},{"$f":"COUNTIF(L7:L7,T8)","v":0},{"$f":"U8/(W4-U20)","v":0},{"$f":"IF(V8=0,0,(V8*((LOG(V8))/LOG(2))))","v":0},null,{"$f":"N8","v":1112},{"$f":"COUNTIF(L8:L8,Y8)","v":0},{"$f":"Z8/(AB4-Z20)","v":0},{"$f":"IF(AA8=0,0,(AA8*((LOG(AA8))/LOG(2))))","v":0},null,{"$f":"N8","v":1112},{"$f":"COUNTIF(L8:L9,AD8)","v":1},{"$f":"AE8/(AG4-AE20)","v":0.5},{"$f":"IF(AF8=0,0,(AF8*((LOG(AF8))/LOG(2))))","v":-0.5},null,{"$f":"N8","v":1112},{"$f":"COUNTIF(L9:L9,AI8)","v":1},{"$f":"AJ8/(AL4-AJ20)","v":1},{"$f":"IF(AK8=0,0,(AK8*((LOG(AK8))/LOG(2))))","v":0},null,{"$f":"N8","v":1112},{"$f":"COUNTIF(L10:L10,AN8)","v":0},{"$f":"AO8/(AQ4-AO20)","v":0},{"$f":"IF(AP8=0,0,(AP8*((LOG(AP8))/LOG(2))))","v":0},null,{"$f":"N8","v":1112},{"$f":"COUNTIF(L11:L11,AS8)","v":0},{"$f":"AT8/(AV4-AT20)","v":0},{"$f":"IF(AU8=0,0,(AU8*((LOG(AU8))/LOG(2))))","v":0}]
[12,369,14,384,13,433,23,446,null,null,0,1112,null,1121,{"$f":"COUNTIF($L$7:$L$500,N9)","v":0},{"$f":"O9/$Q$4","v":0},{"$f":"IF(P9=0,0,(P9*((LOG(P9))/LOG(2))))","v":0},null,null,{"$f":"N9","v":1121},{"$f":"COUNTIF(L7:L7,T9)","v":0},{"$f":"U9/(W4-U20)","v":0},{"$f":"IF(V9=0,0,(V9*((LOG(V9))/LOG(2))))","v":0},null,{"$f":"N9","v":1121},{"$f":"COUNTIF(L8:L8,Y9)","v":0},{"$f":"Z9/(AB4-Z20)","v":0},{"$f":"IF(AA9=0,0,(AA9*((LOG(AA9))/LOG(2))))","v":0},null,{"$f":"N9","v":1121},{"$f":"COUNTIF(L8:L9,AD9)","v":0},{"$f":"AE9/(AG4-AE20)","v":0},{"$f":"IF(AF9=0,0,(AF9*((LOG(AF9))/LOG(2))))","v":0},null,{"$f":"N9","v":1121},{"$f":"COUNTIF(L9:L9,AI9)","v":0},{"$f":"AJ9/(AL4-AJ20)","v":0},{"$f":"IF(AK9=0,0,(AK9*((LOG(AK9))/LOG(2))))","v":0},null,{"$f":"N9","v":1121},{"$f":"COUNTIF(L10:L10,AN9)","v":0},{"$f":"AO9/(AQ4-AO20)","v":0},{"$f":"IF(AP9=0,0,(AP9*((LOG(AP9))/LOG(2))))","v":0},null,{"$f":"N9","v":1121},{"$f":"COUNTIF(L11:L11,AS9)","v":0},{"$f":"AT9/(AV4-AT20)","v":0},{"$f":"IF(AU9=0,0,(AU9*((LOG(AU9))/LOG(2))))","v":0}]
[21,566,21,573,11,589,12,594,null,null,0,2211,null,1122,{"$f":"COUNTIF($L$7:$L$500,N10)","v":0},{"$f":"O10/$Q$4","v":0},{"$f":"IF(P10=0,0,(P10*((LOG(P10))/LOG(2))))","v":0},null,null,{"$f":"N10","v":1122},{"$f":"COUNTIF(L7:L7,T10)","v":0},{"$f":"U10/(W4-U20)","v":0},{"$f":"IF(V10=0,0,(V10*((LOG(V10))/LOG(2))))","v":0},null,{"$f":"N10","v":1122},{"$f":"COUNTIF(L8:L8,Y10)","v":0},{"$f":"Z10/(AB4-Z20)","v":0},{"$f":"IF(AA10=0,0,(AA10*((LOG(AA10))/LOG(2))))","v":0},null,{"$f":"N10","v":1122},{"$f":"COUNTIF(L8:L9,AD10)","v":0},{"$f":"AE10/(AG4-AE20)","v":0},{"$f":"IF(AF10=0,0,(AF10*((LOG(AF10))/LOG(2))))","v":0},null,{"$f":"N10","v":1122},{"$f":"COUNTIF(L9:L9,AI10)","v":0},{"$f":"AJ10/(AL4-AJ20)","v":0},{"$f":"IF(AK10=0,0,(AK10*((LOG(AK10))/LOG(2))))","v":0},null,{"$f":"N10","v":1122},{"$f":"COUNTIF(L10:L10,AN10)","v":0},{"$f":"AO10/(AQ4-AO20)","v":0},{"$f":"IF(AP10=0,0,(AP10*((LOG(AP10))/LOG(2))))","v":0},null,{"$f":"N10","v":1122},{"$f":"COUNTIF(L11:L11,AS10)","v":0},{"$f":"AT10/(AV4-AT20)","v":0},{"$f":"IF(AU10=0,0,(AU10*((LOG(AU10))/LOG(2))))","v":0}]
[12,1171,23,1173,13,1177,23,9337,null,null,0,1212,null,1211,{"$f":"COUNTIF($L$7:$L$500,N11)","v":0},{"$f":"O11/$Q$4","v":0},{"$f":"IF(P11=0,0,(P11*((LOG(P11))/LOG(2))))","v":0},null,null,{"$f":"N11","v":1211},{"$f":"COUNTIF(L7:L7,T11)","v":0},{"$f":"U11/(W4-U20)","v":0},{"$f":"IF(V11=0,0,(V11*((LOG(V11))/LOG(2))))","v":0},null,{"$f":"N11","v":1211},{"$f":"COUNTIF(L8:L8,Y11)","v":0},{"$f":"Z11/(AB4-Z20)","v":0},{"$f":"IF(AA11=0,0,(AA11*((LOG(AA11))/LOG(2))))","v":0},null,{"$f":"N11","v":1211},{"$f":"COUNTIF(L8:L9,AD11)","v":0},{"$f":"AE11/(AG4-AE20)","v":0},{"$f":"IF(AF11=0,0,(AF11*((LOG(AF11))/LOG(2))))","v":0},null,{"$f":"N11","v":1211},{"$f":"COUNTIF(L9:L9,AI11)","v":0},{"$f":"AJ11/(AL4-AJ20)","v":0},{"$f":"IF(AK11=0,0,(AK11*((LOG(AK11))/LOG(2))))","v":0},null,{"$f":"N11","v":1211},{"$f":"COUNTIF(L10:L10,AN11)","v":0},{"$f":"AO11/(AQ4-AO20)","v":0},{"$f":"IF(AP11=0,0,(AP11*((LOG(AP11))/LOG(2))))","v":0},null,{"$f":"N11","v":1211},{"$f":"COUNTIF(L11:L11,AS11)","v":0},{"$f":"AT11/(AV4-AT20)","v":0},{"$f":"IF(AU11=0,0,(AU11*((LOG(AU11))/LOG(2))))","v":0}]
[null,null,null,null,null,null,null,null,null,null,null,null,null,1212,{"$f":"COUNTIF($L$7:$L$500,N12)","v":1},{"$f":"O12/$Q$4","v":0.2},{"$f":"IF(P12=0,0,(P12*((LOG(P12))/LOG(2))))","v":-0.46438561897747244},null,null,{"$f":"N12","v":1212},{"$f":"COUNTIF(L7:L7,T12)","v":0},{"$f":"U12/(W4-U20)","v":0},{"$f":"IF(V12=0,0,(V12*((LOG(V12))/LOG(2))))","v":0},null,{"$f":"N12","v":1212},{"$f":"COUNTIF(L8:L8,Y12)","v":0},{"$f":"Z12/(AB4-Z20)","v":0},{"$f":"IF(AA12=0,0,(AA12*((LOG(AA12))/LOG(2))))","v":0},null,{"$f":"N12","v":1212},{"$f":"COUNTIF(L8:L9,AD12)","v":0},{"$f":"AE12/(AG4-AE20)","v":0},{"$f":"IF(AF12=0,0,(AF12*((LOG(AF12))/LOG(2))))","v":0},null,{"$f":"N12","v":1212},{"$f":"COUNTIF(L9:L9,AI12)","v":0},{"$f":"AJ12/(AL4-AJ20)","v":0},{"$f":"IF(AK12=0,0,(AK12*((LOG(AK12))/LOG(2))))","v":0},null,{"$f":"N12","v":1212},{"$f":"COUNTIF(L10:L10,AN12)","v":0},{"$f":"AO12/(AQ4-AO20)","v":0},{"$f":"IF(AP12=0,0,(AP12*((LOG(AP12))/LOG(2))))","v":0},null,{"$f":"N12","v":1212},{"$f":"COUNTIF(L11:L11,AS12)","v":1},{"$f":"AT12/(AV4-AT20)","v":1},{"$f":"IF(AU12=0,0,(AU12*((LOG(AU12))/LOG(2))))","v":0}]
[null,null,null,null,null,null,null,null,null,null,null,null,null,1221,{"$f":"COUNTIF($L$7:$L$500,N13)","v":0},{"$f":"O13/$Q$4","v":0},{"$f":"IF(P13=0,0,(P13*((LOG(P13))/LOG(2))))","v":0},null,null,{"$f":"N13","v":1221},{"$f":"COUNTIF(L7:L7,T13)","v":0},{"$f":"U13/(W4-U20)","v":0},{"$f":"IF(V13=0,0,(V13*((LOG(V13))/LOG(2))))","v":0},null,{"$f":"N13","v":1221},{"$f":"COUNTIF(L8:L8,Y13)","v":0},{"$f":"Z13/(AB4-Z20)","v":0},{"$f":"IF(AA13=0,0,(AA13*((LOG(AA13))/LOG(2))))","v":0},null,{"$f":"N13","v":1221},{"$f":"COUNTIF(L8:L9,AD13)","v":0},{"$f":"AE13/(AG4-AE20)","v":0},{"$f":"IF(AF13=0,0,(AF13*((LOG(AF13))/LOG(2))))","v":0},null,{"$f":"N13","v":1221},{"$f":"COUNTIF(L9:L9,AI13)","v":0},{"$f":"AJ13/(AL4-AJ20)","v":0},{"$f":"IF(AK13=0,0,(AK13*((LOG(AK13))/LOG(2))))","v":0},null,{"$f":"N13","v":1221},{"$f":"COUNTIF(L10:L10,AN13)","v":0},{"$f":"AO13/(AQ4-AO20)","v":0},{"$f":"IF(AP13=0,0,(AP13*((LOG(AP13))/LOG(2))))","v":0},null,{"$f":"N13","v":1221},{"$f":"COUNTIF(L11:L11,AS13)","v":0},{"$f":"AT13/(AV4-AT20)","v":0},{"$f":"IF(AU13=0,0,(AU13*((LOG(AU13))/LOG(2))))","v":0}]
[null,null,null,null,null,null,null,null,null,null,null,null,null,1222,{"$f":"COUNTIF($L$7:$L$500,N14)","v":0},{"$f":"O14/$Q$4","v":0},{"$f":"IF(P14=0,0,(P14*((LOG(P14))/LOG(2))))","v":0},null,null,{"$f":"N14","v":1222},{"$f":"COUNTIF(L7:L7,T14)","v":0},{"$f":"U14/(W4-U20)","v":0},{"$f":"IF(V14=0,0,(V14*((LOG(V14))/LOG(2))))","v":0},null,{"$f":"N14","v":1222},{"$f":"COUNTIF(L8:L8,Y14)","v":0},{"$f":"Z14/(AB4-Z20)","v":0},{"$f":"IF(AA14=0,0,(AA14*((LOG(AA14))/LOG(2))))","v":0},null,{"$f":"N14","v":1222},{"$f":"COUNTIF(L8:L9,AD14)","v":0},{"$f":"AE14/(AG4-AE20)","v":0},{"$f":"IF(AF14=0,0,(AF14*((LOG(AF14))/LOG(2))))","v":0},null,{"$f":"N14","v":1222},{"$f":"COUNTIF(L9:L9,AI14)","v":0},{"$f":"AJ14/(AL4-AJ20)","v":0},{"$f":"IF(AK14=0,0,(AK14*((LOG(AK14))/LOG(2))))","v":0},null,{"$f":"N14","v":1222},{"$f":"COUNTIF(L10:L10,AN14)","v":0},{"$f":"AO14/(AQ4-AO20)","v":0},{"$f":"IF(AP14=0,0,(AP14*((LOG(AP14))/LOG(2))))","v":0},null,{"$f":"N14","v":1222},{"$f":"COUNTIF(L11:L11,AS14)","v":0},{"$f":"AT14/(AV4-AT20)","v":0},{"$f":"IF(AU14=0,0,(AU14*((LOG(AU14))/LOG(2))))","v":0}]
[null,null,null,null,null,null,null,null,null,null,null,null,null,2111,{"$f":"COUNTIF($L$7:$L$500,N15)","v":0},{"$f":"O15/$Q$4","v":0},{"$f":"IF(P15=0,0,(P15*((LOG(P15))/LOG(2))))","v":0},null,null,{"$f":"N15","v":2111},{"$f":"COUNTIF(L7:L7,T15)","v":0},{"$f":"U15/(W4-U20)","v":0},{"$f":"IF(V15=0,0,(V15*((LOG(V15))/LOG(2))))","v":0},null,{"$f":"N15","v":2111},{"$f":"COUNTIF(L8:L8,Y15)","v":0},{"$f":"Z15/(AB4-Z20)","v":0},{"$f":"IF(AA15=0,0,(AA15*((LOG(AA15))/LOG(2))))","v":0},null,{"$f":"N15","v":2111},{"$f":"COUNTIF(L8:L9,AD15)","v":0},{"$f":"AE15/(AG4-AE20)","v":0},{"$f":"IF(AF15=0,0,(AF15*((LOG(AF15))/LOG(2))))","v":0},null,{"$f":"N15","v":2111},{"$f":"COUNTIF(L9:L9,AI15)","v":0},{"$f":"AJ15/(AL4-AJ20)","v":0},{"$f":"IF(AK15=0,0,(AK15*((LOG(AK15))/LOG(2))))","v":0},null,{"$f":"N15","v":2111},{"$f":"COUNTIF(L10:L10,AN15)","v":0},{"$f":"AO15/(AQ4-AO20)","v":0},{"$f":"IF(AP15=0,0,(AP15*((LOG(AP15))/LOG(2))))","v":0},null,{"$f":"N15","v":2111},{"$f":"COUNTIF(L11:L11,AS15)","v":0},{"$f":"AT15/(AV4-AT20)","v":0},{"$f":"IF(AU15=0,0,(AU15*((LOG(AU15))/LOG(2))))","v":0}]
[null,null,null,null,null,null,null,null,null,null,null,null,null,2112,{"$f":"COUNTIF($L$7:$L$500,N16)","v":0},{"$f":"O16/$Q$4","v":0},{"$f":"IF(P16=0,0,(P16*((LOG(P16))/LOG(2))))","v":0},null,null,{"$f":"N16","v":2112},{"$f":"COUNTIF(L7:L7,T16)","v":0},{"$f":"U16/(W4-U20)","v":0},{"$f":"IF(V16=0,0,(V16*((LOG(V16))/LOG(2))))","v":0},null,{"$f":"N16","v":2112},{"$f":"COUNTIF(L8:L8,Y16)","v":0},{"$f":"Z16/(AB4-Z20)","v":0},{"$f":"IF(AA16=0,0,(AA16*((LOG(AA16))/LOG(2))))","v":0},null,{"$f":"N16","v":2112},{"$f":"COUNTIF(L8:L9,AD16)","v":0},{"$f":"AE16/(AG4-AE20)","v":0},{"$f":"IF(AF16=0,0,(AF16*((LOG(AF16))/LOG(2))))","v":0},null,{"$f":"N16","v":2112},{"$f":"COUNTIF(L9:L9,AI16)","v":0},{"$f":"AJ16/(AL4-AJ20)","v":0},{"$f":"IF(AK16=0,0,(AK16*((LOG(AK16))/LOG(2))))","v":0},null,{"$f":"N16","v":2112},{"$f":"COUNTIF(L10:L10,AN16)","v":0},{"$f":"AO16/(AQ4-AO20)","v":0},{"$f":"IF(AP16=0,0,(AP16*((LOG(AP16))/LOG(2))))","v":0},null,{"$f":"N16","v":2112},{"$f":"COUNTIF(L11:L11,AS16)","v":0},{"$f":"AT16/(AV4-AT20)","v":0},{"$f":"IF(AU16=0,0,(AU16*((LOG(AU16))/LOG(2))))","v":0}]
[null,null,null,null,null,null,null,null,null,null,null,null,null,2121,{"$f":"COUNTIF($L$7:$L$500,N17)","v":0},{"$f":"O17/$Q$4","v":0},{"$f":"IF(P17=0,0,(P17*((LOG(P17))/LOG(2))))","v":0},null,null,{"$f":"N17","v":2121},{"$f":"COUNTIF(L7:L7,T17)","v":0},{"$f":"U17/(W4-U20)","v":0},{"$f":"IF(V17=0,0,(V17*((LOG(V17))/LOG(2))))","v":0},null,{"$f":"N17","v":2121},{"$f":"COUNTIF(L8:L8,Y17)","v":0},{"$f":"Z17/(AB4-Z20)","v":0},{"$f":"IF(AA17=0,0,(AA17*((LOG(AA17))/LOG(2))))","v":0},null,{"$f":"N17","v":2121},{"$f":"COUNTIF(L8:L9,AD17)","v":0},{"$f":"AE17/(AG4-AE20)","v":0},{"$f":"IF(AF17=0,0,(AF17*((LOG(AF17))/LOG(2))))","v":0},null,{"$f":"N17","v":2121},{"$f":"COUNTIF(L9:L9,AI17)","v":0},{"$f":"AJ17/(AL4-AJ20)","v":0},{"$f":"IF(AK17=0,0,(AK17*((LOG(AK17))/LOG(2))))","v":0},null,{"$f":"N17","v":2121},{"$f":"COUNTIF(L10:L10,AN17)","v":0},{"$f":"AO17/(AQ4-AO20)","v":0},{"$f":"IF(AP17=0,0,(AP17*((LOG(AP17))/LOG(2))))","v":0},null,{"$f":"N17","v":2121},{"$f":"COUNTIF(L11:L11,AS17)","v":0},{"$f":"AT17/(AV4-AT20)","v":0},{"$f":"IF(AU17=0,0,(AU17*((LOG(AU17))/LOG(2))))","v":0}]
[null,null,null,null,null,null,null,null,null,null,null,null,null,2122,{"$f":"COUNTIF($L$7:$L$500,N18)","v":0},{"$f":"O18/$Q$4","v":0},{"$f":"IF(P18=0,0,(P18*((LOG(P18))/LOG(2))))","v":0},null,null,{"$f":"N18","v":2122},{"$f":"COUNTIF(L7:L7,T18)","v":0},{"$f":"U18/(W4-U20)","v":0},{"$f":"IF(V18=0,0,(V18*((LOG(V18))/LOG(2))))","v":0},null,{"$f":"N18","v":2122},{"$f":"COUNTIF(L8:L8,Y18)","v":0},{"$f":"Z18/(AB4-Z20)","v":0},{"$f":"IF(AA18=0,0,(AA18*((LOG(AA18))/LOG(2))))","v":0},null,{"$f":"N18","v":2122},{"$f":"COUNTIF(L8:L9,AD18)","v":0},{"$f":"AE18/(AG4-AE20)","v":0},{"$f":"IF(AF18=0,0,(AF18*((LOG(AF18))/LOG(2))))","v":0},null,{"$f":"N18","v":2122},{"$f":"COUNTIF(L9:L9,AI18)","v":0},{"$f":"AJ18/(AL4-AJ20)","v":0},{"$f":"IF(AK18=0,0,(AK18*((LOG(AK18))/LOG(2))))","v":0},null,{"$f":"N18","v":2122},{"$f":"COUNTIF(L10:L10,AN18)","v":0},{"$f":"AO18/(AQ4-AO20)","v":0},{"$f":"IF(AP18=0,0,(AP18*((LOG(AP18))/LOG(2))))","v":0},null,{"$f":"N18","v":2122},{"$f":"COUNTIF(L11:L11,AS18)","v":0},{"$f":"AT18/(AV4-AT20)","v":0},{"$f":"IF(AU18=0,0,(AU18*((LOG(AU18))/LOG(2))))","v":0}]
[null,null,null,null,null,null,null,null,null,null,null,null,null,2211,{"$f":"COUNTIF($L$7:$L$500,N19)","v":2},{"$f":"O19/$Q$4","v":0.4},{"$f":"IF(P19=0,0,(P19*((LOG(P19))/LOG(2))))","v":-0.52877123795494496},null,null,{"$f":"N19","v":2211},{"$f":"COUNTIF(L7:L7,T19)","v":1},{"$f":"U19/(W4-U20)","v":1},{"$f":"IF(V19=0,0,(V19*((LOG(V19))/LOG(2))))","v":0},null,{"$f":"N19","v":2211},{"$f":"COUNTIF(L8:L8,Y19)","v":0},{"$f":"Z19/(AB4-Z20)","v":0},{"$f":"IF(AA19=0,0,(AA19*((LOG(AA19))/LOG(2))))","v":0},null,{"$f":"N19","v":2211},{"$f":"COUNTIF(L8:L9,AD19)","v":0},{"$f":"AE19/(AG4-AE20)","v":0},{"$f":"IF(AF19=0,0,(AF19*((LOG(AF19))/LOG(2))))","v":0},null,{"$f":"N19","v":2211},{"$f":"COUNTIF(L9:L9,AI19)","v":0},{"$f":"AJ19/(AL4-AJ20)","v":0},{"$f":"IF(AK19=0,0,(AK19*((LOG(AK19))/LOG(2))))","v":0},null,{"$f":"N19","v":2211},{"$f":"COUNTIF(L10:L10,AN19)","v":1},{"$f":"AO19/(AQ4-AO20)","v":1},{"$f":"IF(AP19=0,0,(AP19*((LOG(AP19))/LOG(2))))","v":0},null,{"$f":"N19","v":2211},{"$f":"COUNTIF(L11:L11,AS19)","v":0},{"$f":"AT19/(AV4-AT20)","v":0},{"$f":"IF(AU19=0,0,(AU19*((LOG(AU19))/LOG(2))))","v":0}]
[null,null,null,null,null,null,null,null,null,null,null,null,null,2212,{"$f":"COUNTIF($L$7:$L$500,N20)","v":0},{"$f":"O20/$Q$4","v":0},{"$f":"IF(P20=0,0,(P20*((LOG(P20))/LOG(2))))","v":0},null,null,{"$f":"N20","v":2212},{"$f":"COUNTIF(L7:L7,T20)","v":0},null,null,null,{"$f":"N20","v":2212},{"$f":"COUNTIF(L8:L8,Y20)","v":0},null,null,null,{"$f":"N20","v":2212},{"$f":"COUNTIF(L8:L9,AD20)","v":0},null,null,null,{"$f":"N20","v":2212},{"$f":"COUNTIF(L9:L9,AI20)","v":0},null,null,null,{"$f":"N20","v":2212},{"$f":"COUNTIF(L10:L10,AN20)","v":0},null,null,null,{"$f":"N20","v":2212},{"$f":"COUNTIF(L11:L11,AS20)","v":0}]
[null,null,null,null,null,null,null,null,null,null,null,null,null,2221,{"$f":"COUNTIF($L$7:$L$500,N21)","v":0},{"$f":"O21/$Q$4","v":0},{"$f":"IF(P21=0,0,(P21*((LOG(P21))/LOG(2))))","v":0},null,null,{"$f":"N21","v":2221},{"$f":"COUNTIF(L7:L7,T21)","v":0},{"$f":"U21/(W4-U20)","v":0},{"$f":"IF(V21=0,0,(V21*((LOG(V21))/LOG(2))))","v":0},null,{"$f":"N21","v":2221},{"$f":"COUNTIF(L8:L8,Y21)","v":0},{"$f":"Z21/(AB4-Z20)","v":0},{"$f":"IF(AA21=0,0,(AA21*((LOG(AA21))/LOG(2))))","v":0},null,{"$f":"N21","v":2221},{"$f":"COUNTIF(L8:L9,AD21)","v":0},{"$f":"AE21/(AG4-AE20)","v":0},{"$f":"IF(AF21=0,0,(AF21*((LOG(AF21))/LOG(2))))","v":0},null,{"$f":"N21","v":2221},{"$f":"COUNTIF(L9:L9,AI21)","v":0},{"$f":"AJ21/(AL4-AJ20)","v":0},{"$f":"IF(AK21=0,0,(AK21*((LOG(AK21))/LOG(2))))","v":0},null,{"$f":"N21","v":2221},{"$f":"COUNTIF(L10:L10,AN21)","v":0},{"$f":"AO21/(AQ4-AO20)","v":0},{"$f":"IF(AP21=0,0,(AP21*((LOG(AP21))/LOG(2))))","v":0},null,{"$f":"N21","v":2221},{"$f":"COUNTIF(L11:L11,AS21)","v":0},{"$f":"AT21/(AV4-AT20)","v":0},{"$f":"IF(AU21=0,0,(AU21*((LOG(AU21))/LOG(2))))","v":0}]
[null,null,null,null,null,null,null,null,null,null,null,null,null,2222,{"$f":"COUNTIF($L$7:$L$500,N22)","v":0},{"$f":"O22/$Q$4","v":0},{"$f":"IF(P22=0,0,(P22*((LOG(P22))/LOG(2))))","v":0},null,null,{"$f":"N22","v":2222},{"$f":"COUNTIF(L7:L7,T22)","v":0},{"$f":"U22/(W4-U20)","v":0},{"$f":"IF(V22=0,0,(V22*((LOG(V22))/LOG(2))))","v":0},null,{"$f":"N22","v":2222},{"$f":"COUNTIF(L8:L8,Y22)","v":0},{"$f":"Z22/(AB4-Z20)","v":0},{"$f":"IF(AA22=0,0,(AA22*((LOG(AA22))/LOG(2))))","v":0},null,{"$f":"N22","v":2222},{"$f":"COUNTIF(L8:L9,AD22)","v":0},{"$f":"AE22/(AG4-AE20)","v":0},{"$f":"IF(AF22=0,0,(AF22*((LOG(AF22))/LOG(2))))","v":0},null,{"$f":"N22","v":2222},{"$f":"COUNTIF(L9:L9,AI22)","v":0},{"$f":"AJ22/(AL4-AJ20)","v":0},{"$f":"IF(AK22=0,0,(AK22*((LOG(AK22))/LOG(2))))","v":0},null,{"$f":"N22","v":2222},{"$f":"COUNTIF(L10:L10,AN22)","v":0},{"$f":"AO22/(AQ4-AO20)","v":0},{"$f":"IF(AP22=0,0,(AP22*((LOG(AP22))/LOG(2))))","v":0},null,{"$f":"N22","v":2222},{"$f":"COUNTIF(L11:L11,AS22)","v":0},{"$f":"AT22/(AV4-AT20)","v":0},{"$f":"IF(AU22=0,0,(AU22*((LOG(AU22))/LOG(2))))","v":0}]
[null,null,null,null,null,null,null,null,null,null,null,null,null,null,null,{"$f":"SUM(P7:P22)","v":1},{"$f":"-SUM(Q7:Q22)","v":1.9219280948873623},null,null,null,null,{"$f":"SUM(V7:V22)","v":1},{"$f":"-SUM(W7:W22)","v":0},null,null,null,{"$f":"SUM(AA7:AA22)","v":1},{"$f":"-SUM(AB7:AB22)","v":0},null,null,null,{"$f":"SUM(AF7:AF22)","v":1},{"$f":"-SUM(AG7:AG22)","v":1},null,null,null,{"$f":"SUM(AK7:AK22)","v":1},{"$f":"-SUM(AL7:AL22)","v":0},null,null,null,{"$f":"SUM(AP7:AP22)","v":1},{"$f":"-SUM(AQ7:AQ22)","v":0},null,null,null,{"$f":"SUM(AU7:AU22)","v":1},{"$f":"-SUM(AV7:AV22)","v":0}]
[null,null,null,null,null,null,null,null,null,null,null,null,null,null,null,"U=",{"$f":"Q23/(LOG(Q4)/LOG(2))","v":0.82772937677064262},null,null,null,null,"U1=",{"$f":"W23/(LOG(W4)/LOG(2))","v":{"$error":"#DIV/0!"}},null,null,null,"U2=",{"$f":"AB23/(LOG(AB4)/LOG(2))","v":{"$error":"#DIV/0!"}},null,null,null,"U3=",{"$f":"AG23/(LOG(AG4)/LOG(2))","v":1},null,null,null,"U4=",{"$f":"AL23/(LOG(AL4)/LOG(2))","v":{"$error":"#DIV/0!"}},null,null,null,"U5=",{"$f":"AQ23/(LOG(AQ4)/LOG(2))","v":{"$error":"#DIV/0!"}},null,null,null,"U6=",{"$f":"AV23/(LOG(AV4)/LOG(2))","v":{"$error":"#DIV/0!"}}]
[]
[]
[null,null,null,null,null,null,null,null,null,null,null,null,null,"Total Target Seq"]
[null,null,null,null,null,null,null,null,null,null,null,null,null,{"$f":"COUNTIF(L7:L11,G3)","v":0},null,1,1,0,1,1,1]
[null,null,null,null,null,null,null,null,null,null,null,null,null,null,null,"% of reinforcement given in 6 equal intervals based on number of trials "]
[null,null,null,null,null,null,null,null,null,null,null,null,null,null,null,"%_1","%_2","%_3","%_4","%_5","%_6"]
[null,null,null,null,null,null,null,null,null,null,null,null,null,null,"target sequence",{"$f":"$G$3","v":2212},{"$f":"$G$3","v":2212},{"$f":"$G$3","v":2212},{"$f":"$G$3","v":2212},{"$f":"$G$3","v":2212},{"$f":"$G$3","v":2212}]
[null,null,null,null,null,null,null,null,null,null,null,null,null,null,"total reinforcement",{"$f":"U20","v":0},{"$f":"Z20","v":0},{"$f":"AE20","v":0},{"$f":"AJ20","v":0},{"$f":"AO20","v":0},{"$f":"AT20","v":0}]
[null,null,null,null,null,null,null,null,null,null,null,null,null,null,"% target"]
[null,null,null,null,null,null,null,null,null,null,null,null,null,null,"CCRF"]
[null,null,null,null,null,null,null,null,null,null,null,null,null,null,"% CCRf"]
[null,null,null,null,null,null,null,null,null,null,null,null,null,null,"average response rate",{"$f":"H7/P28","v":53},{"$f":"(H8-H7)/Q28","v":120},{"$f":"(H8-H8)/R28","v":{"$error":"#DIV/0!"}},{"$f":"(H9-H8)/S28","v":273},{"$f":"(H10-H9)/T28","v":148},{"$f":"(H11-H10)/U28","v":8743}]

{"sheet":"!M204B4T.ayl","index":30,"n_rows":36,"n_cols":48,"rows_kept":36,"cut":false,"hidden":false,"merged":[[4,39,4,42],[5,39,5,40],[4,44,4,47],[5,44,5,45],[4,24,4,27],[5,24,5,25],[4,29,4,32],[5,29,5,30],[4,34,4,37],[5,34,5,35],[1,1,1,2],[5,13,5,14],[26,13,26,14],[27,13,27,14],[4,19,4,22],[5,19,5,20]]}
["Report for:!M204B4T.ayl"]
["Date:","<date>"]
["Hen:","<hen>",null,null,null,"Correct Sequence",{"$f":"Start!J2","v":2212},null,null,null,null,null,null,null,null,"Total Sequences in Data",{"$f":"4994-COUNTBLANK(L7:L5000)","v":4},null,null,null,null,"Total Sequences in Block Data",{"$f":"COUNTA(L7:L7)","v":1},null,null,null,"Total Sequences in Block Data",{"$f":"COUNTA(L7:L8)","v":2},null,null,null,"Total Sequences in Block Data",{"$f":"COUNTA(L8:L8)","v":1},null,null,null,"Total Sequences in Block Data",{"$f":"COUNTA(L9:L9)","v":1},null,null,null,"Total Sequences in Block Data",{"$f":"COUNTA(L9:L10)","v":2},null,null,null,"Total Sequences in Block Data",{"$f":"COUNTA(L10:L10)","v":1}]
[null,null,null,null,null,null,null,null,null,null,null,null,null,null,null,"Total Sequences in Summary",{"$f":"SUM(O7:O22)","v":3},null,null,null,null,"Total Sequences in Block Summary",{"$f":"SUM(U7:U22)","v":1},null,null,null,"Total Sequences in Block Summary",{"$f":"SUM(Z7:Z22)","v":2},null,null,null,"Total Sequences in Block Summary",{"$f":"SUM(AE7:AE22)","v":1},null,null,null,"Total Sequences in Block Summary",{"$f":"SUM(AJ7:AJ22)","v":1},null,null,null,"Total Sequences in Block Summary",{"$f":"SUM(AO7:AO22)","v":1},null,null,null,"Total Sequences in Block Summary",{"$f":"SUM(AT7:AT22)","v":0}]
[null,null,null,null,null,null,null,null,null,null,null,null,null,null,null,null,null,null,null,"Block 1",null,null,null,null,"Block 2",null,null,null,null,"Block 3",null,null,null,null,"Block 4",null,null,null,null,"Block 5",null,null,null,null,"Block 6"]
["Sequence\nComponent\n1","Time\n1","Sequence\nComponent\n2","Time\n2","Sequence\nComponent\n3","Time\n3","Sequence\nComponent\n4","Time\n4","Sequence\nComponent\n5","Time\n5","Correct?\n0=No 1=Yes","Sequence",null,"Frequency",null,"Relative Frequency","Variability",null,null,"Frequency",null,"Relative Frequency","Variability",null,"Frequency",null,"Relative Frequency","Variability",null,"Frequency",null,"Relative Frequency","Variability",null,"Frequency",null,"Relative Frequency","Variability",null,"Frequency",null,"Relative Frequency","Variability",null,"Frequency",null,"Relative Frequency","Variability"]
[21,2609,21,2627,22,2636,14,2653,null,null,0,2221,null,1111,{"$f":"COUNTIF($L$7:$L$500,N7)","v":1},{"$f":"O7/$Q$4","v":0.33333333333333331},{"$f":"IF(P7=0,0,(P7*((LOG(P7))/LOG(2))))","v":-0.52832083357371862},null,null,{"$f":"N7","v":1111},{"$f":"COUNTIF(L7:L7,T7)","v":0},{"$f":"U7/(W4-U20)","v":0},{"$f":"IF(V7=0,0,(V7*((LOG(V7))/LOG(2))))","v":0},null,{"$f":"N7","v":1111},{"$f":"COUNTIF(L7:L8,Y7)","v":0},{"$f":"Z7/(AB4-Z20)","v":0},{"$f":"IF(AA7=0,0,(AA7*((LOG(AA7))/LOG(2))))","v":0},null,{"$f":"N7","v":1111},{"$f":"COUNTIF(L8:L8,AD7)","v":0},{"$f":"AE7/(AG4-AE20)","v":0},{"$f":"IF(AF7=0,0,(AF7*((LOG(AF7))/LOG(2))))","v":0},null,{"$f":"N7","v":1111},{"$f":"COUNTIF(L9:L9,AI7)","v":1},{"$f":"AJ7/(AL4-AJ20)","v":1},{"$f":"IF(AK7=0,0,(AK7*((LOG(AK7))/LOG(2))))","v":0},null,{"$f":"N7","v":1111},{"$f":"COUNTIF(L9:L10,AN7)","v":1},{"$f":"AO7/(AQ4-AO20)","v":1},{"$f":"IF(AP7=0,0,(AP7*((LOG(AP7))/LOG(2))))","v":0},null,{"$f":"N7","v":1111},{"$f":"COUNTIF(L10:L10,AS7)","v":0},{"$f":"AT7/(AV4-AT20)","v":{"$error":"#DIV/0!"}},{"$f":"IF(AU7=0,0,(AU7*((LOG(AU7))/LOG(2))))","v":{"$error":"#DIV/0!"}}]
[21,4754,21,4759,22,4764,14,4777,null,null,0,2221,null,1112,{"$f":"COUNTIF($L$7:$L$500,N8)","v":0},{"$f":"O8/$Q$4","v":0},{"$f":"IF(P8=0,0,(P8*((LOG(P8))/LOG(2))))","v":0},null,null,{"$f":"N8","v":1112},{"$f":"COUNTIF(L7:L7,T8)","v":0},{"$f":"U8/(W4-U20)","v":0},{"$f":"IF(V8=0,0,(V8*((LOG(V8))/LOG(2))))","v":0},null,{"$f":"N8","v":1112},{"$f":"COUNTIF(L7:L8,Y8)","v":0},{"$f":"Z8/(AB4-Z20)","v":0},{"$f":"IF(AA8=0,0,(AA8*((LOG(AA8))/LOG(2))))","v":0},null,{"$f":"N8","v":1112},{"$f":"COUNTIF(L8:L8,AD8)","v":0},{"$f":"AE8/(AG4-AE20)","v":0},{"$f":"IF(AF8=0,0,(AF8*((LOG(AF8))/LOG(2))))","v":0},null,{"$f":"N8","v":1112},{"$f":"COUNTIF(L9:L9,AI8)","v":0},{"$f":"AJ8/(AL4-AJ20)","v":0},{"$f":"IF(AK8=0,0,(AK8*((LOG(AK8))/LOG(2))))","v":0},null,{"$f":"N8","v":1112},{"$f":"COUNTIF(L9:L10,AN8)","v":0},{"$f":"AO8/(AQ4-AO20)","v":0},{"$f":"IF(AP8=0,0,(AP8*((LOG(AP8))/LOG(2))))","v":0},null,{"$f":"N8","v":1112},{"$f":"COUNTIF(L10:L10,AS8)","v":0},{"$f":"AT8/(AV4-AT20)","v":{"$error":"#DIV/0!"}},{"$f":"IF(AU8=0,0,(AU8*((LOG(AU8))/LOG(2))))","v":{"$error":"#DIV/0!"}}]
[12,4927,14,4950,13,4958,14,4966,null,null,0,1111,null,1121,{"$f":"COUNTIF($L$7:$L$500,N9)","v":0},{"$f":"O9/$Q$4","v":0},{"$f":"IF(P9=0,0,(P9*((LOG(P9))/LOG(2))))","v":0},null,null,{"$f":"N9","v":1121},{"$f":"COUNTIF(L7:L7,T9)","v":0},{"$f":"U9/(W4-U20)","v":0},{"$f":"IF(V9=0,0,(V9*((LOG(V9))/LOG(2))))","v":0},null,{"$f":"N9","v":1121},{"$f":"COUNTIF(L7:L8,Y9)","v":0},{"$f":"Z9/(AB4-Z20)","v":0},{"$f":"IF(AA9=0,0,(AA9*((LOG(AA9))/LOG(2))))","v":0},null,{"$f":"N9","v":1121},{"$f":"COUNTIF(L8:L8,AD9)","v":0},{"$f":"AE9/(AG4-AE20)","v":0},{"$f":"IF(AF9=0,0,(AF9*((LOG(AF9))/LOG(2))))","v":0},null,{"$f":"N9","v":1121},{"$f":"COUNTIF(L9:L9,AI9)","v":0},{"$f":"AJ9/(AL4-AJ20)","v":0},{"$f":"IF(AK9=0,0,(AK9*((LOG(AK9))/LOG(2))))","v":0},null,{"$f":"N9","v":1121},{"$f":"COUNTIF(L9:L10,AN9)","v":0},{"$f":"AO9/(AQ4-AO20)","v":0},{"$f":"IF(AP9=0,0,(AP9*((LOG(AP9))/LOG(2))))","v":0},null,{"$f":"N9","v":1121},{"$f":"COUNTIF(L10:L10,AS9)","v":0},{"$f":"AT9/(AV4-AT20)","v":{"$error":"#DIV/0!"}},{"$f":"IF(AU9=0,0,(AU9*((LOG(AU9))/LOG(2))))","v":{"$error":"#DIV/0!"}}]
[12,10510,null,null,null,null,null,null,null,null,null,1,null,1122,{"$f":"COUNTIF($L$7:$L$500,N10)","v":0},{"$f":"O10/$Q$4","v":0},{"$f":"IF(P10=0,0,(P10*((LOG(P10))/LOG(2))))","v":0},null,null,{"$f":"N10","v":1122},{"$f":"COUNTIF(L7:L7,T10)","v":0},{"$f":"U10/(W4-U20)","v":0},{"$f":"IF(V10=0,0,(V10*((LOG(V10))/LOG(2))))","v":0},null,{"$f":"N10","v":1122},{"$f":"COUNTIF(L7:L8,Y10)","v":0},{"$f":"Z10/(AB4-Z20)","v":0},{"$f":"IF(AA10=0,0,(AA10*((LOG(AA10))/LOG(2))))","v":0},null,{"$f":"N10","v":1122},{"$f":"COUNTIF(L8:L8,AD10)","v":0},{"$f":"AE10/(AG4-AE20)","v":0},{"$f":"IF(AF10=0,0,(AF10*((LOG(AF10))/LOG(2))))","v":0},null,{"$f":"N10","v":1122},{"$f":"COUNTIF(L9:L9,AI10)","v":0},{"$f":"AJ10/(AL4-AJ20)","v":0},{"$f":"IF(AK10=0,0,(AK10*((LOG(AK10))/LOG(2))))","v":0},null,{"$f":"N10","v":1122},{"$f":"COUNTIF(L9:L10,AN10)","v":0},{"$f":"AO10/(AQ4-AO20)","v":0},{"$f":"IF(AP10=0,0,(AP10*((LOG(AP10))/LOG(2))))","v":0},null,{"$f":"N10","v":1122},{"$f":"COUNTIF(L10:L10,AS10)","v":0},{"$f":"AT10/(AV4-AT20)","v":{"$error":"#DIV/0!"}},{"$f":"IF(AU10=0,0,(AU10*((LOG(AU10))/LOG(2))))","v":{"$error":"#DIV/0!"}}]
[null,null,null,null,null,null,null,null,null,null,null,null,null,1211,{"$f":"COUNTIF($L$7:$L$500,N11)","v":0},{"$f":"O11/$Q$4","v":0},{"$f":"IF(P11=0,0,(P11*((LOG(P11))/LOG(2))))","v":0},null,null,{"$f":"N11","v":1211},{"$f":"COUNTIF(L7:L7,T11)","v":0},{"$f":"U11/(W4-U20)","v":0},{"$f":"IF(V11=0,0,(V11*((LOG(V11))/LOG(2))))","v":0},null,{"$f":"N11","v":1211},{"$f":"COUNTIF(L7:L8,Y11)","v":0},{"$f":"Z11/(AB4-Z20)","v":0},{"$f":"IF(AA11=0,0,(AA11*((LOG(AA11))/LOG(2))))","v":0},null,{"$f":"N11","v":1211},{"$f":"COUNTIF(L8:L8,AD11)","v":0},{"$f":"AE11/(AG4-AE20)","v":0},{"$f":"IF(AF11=0,0,(AF11*((LOG(AF11))/LOG(2))))","v":0},null,{"$f":"N11","v":1211},{"$f":"COUNTIF(L9:L9,AI11)","v":0},{"$f":"AJ11/(AL4-AJ20)","v":0},{"$f":"IF(AK11=0,0,(AK11*((LOG(AK11))/LOG(2))))","v":0},null,{"$f":"N11","v":1211},{"$f":"COUNTIF(L9:L10,AN11)","v":0},{"$f":"AO11/(AQ4-AO20)","v":0},{"$f":"IF(AP11=0,0,(AP11*((LOG(AP11))/LOG(2))))","v":0},null,{"$f":"N11","v":1211},{"$f":"COUNTIF(L10:L10,AS11)","v":0},{"$f":"AT11/(AV4-AT20)","v":{"$error":"#DIV/0!"}},{"$f":"IF(AU11=0,0,(AU11*((LOG(AU11))/LOG(2))))","v":{"$error":"#DIV/0!"}}]
[null,null,null,null,null,null,null,null,null,null,null,null,null,1212,{"$f":"COUNTIF($L$7:$L$500,N12)","v":0},{"$f":"O12/$Q$4","v":0},{"$f":"IF(P12=0,0,(P12*((LOG(P12))/LOG(2))))","v":0},null,null,{"$f":"N12","v":1212},{"$f":"COUNTIF(L7:L7,T12)","v":0},{"$f":"U12/(W4-U20)","v":0},{"$f":"IF(V12=0,0,(V12*((LOG(V12))/LOG(2))))","v":0},null,{"$f":"N12","v":1212},{"$f":"COUNTIF(L7:L8,Y12)","v":0},{"$f":"Z12/(AB4-Z20)","v":0},{"$f":"IF(AA12=0,0,(AA12*((LOG(AA12))/LOG(2))))","v":0},null,{"$f":"N12","v":1212},{"$f":"COUNTIF(L8:L8,AD12)","v":0},{"$f":"AE12/(AG4-AE20)","v":0},{"$f":"IF(AF12=0,0,(AF12*((LOG(AF12))/LOG(2))))","v":0},null,{"$f":"N12","v":1212},{"$f":"COUNTIF(L9:L9,AI12)","v":0},{"$f":"AJ12/(AL4-AJ20)","v":0},{"$f":"IF(AK12=0,0,(AK12*((LOG(AK12))/LOG(2))))","v":0},null,{"$f":"N12","v":1212},{"$f":"COUNTIF(L9:L10,AN12)","v":0},{"$f":"AO12/(AQ4-AO20)","v":0},{"$f":"IF(AP12=0,0,(AP12*((LOG(AP12))/LOG(2))))","v":0},null,{"$f":"N12","v":1212},{"$f":"COUNTIF(L10:L10,AS12)","v":0},{"$f":"AT12/(AV4-AT20)","v":{"$error":"#DIV/0!"}},{"$f":"IF(AU12=0,0,(AU12*((LOG(AU12))/LOG(2))))","v":{"$error":"#DIV/0!"}}]
[null,null,null,null,null,null,null,null,null,null,null,null,null,1221,{"$f":"COUNTIF($L$7:$L$500,N13)","v":0},{"$f":"O13/$Q$4","v":0},{"$f":"IF(P13=0,0,(P13*((LOG(P13))/LOG(2))))","v":0},null,null,{"$f":"N13","v":1221},{"$f":"COUNTIF(L7:L7,T13)","v":0},{"$f":"U13/(W4-U20)","v":0},{"$f":"IF(V13=0,0,(V13*((LOG(V13))/LOG(2))))","v":0},null,{"$f":"N13","v":1221},{"$f":"COUNTIF(L7:L8,Y13)","v":0},{"$f":"Z13/(AB4-Z20)","v":0},{"$f":"IF(AA13=0,0,(AA13*((LOG(AA13))/LOG(2))))","v":0},null,{"$f":"N13","v":1221},{"$f":"COUNTIF(L8:L8,AD13)","v":0},{"$f":"AE13/(AG4-AE20)","v":0},{"$f":"IF(AF13=0,0,(AF13*((LOG(AF13))/LOG(2))))","v":0},null,{"$f":"N13","v":1221},{"$f":"COUNTIF(L9:L9,AI13)","v":0},{"$f":"AJ13/(AL4-AJ20)","v":0},{"$f":"IF(AK13=0,0,(AK13*((LOG(AK13))/LOG(2))))","v":0},null,{"$f":"N13","v":1221},{"$f":"COUNTIF(L9:L10,AN13)","v":0},{"$f":"AO13/(AQ4-AO20)","v":0},{"$f":"IF(AP13=0,0,(AP13*((LOG(AP13))/LOG(2))))","v":0},null,{"$f":"N13","v":1221},{"$f":"COUNTIF(L10:L10,AS13)","v":0},{"$f":"AT13/(AV4-AT20)","v":{"$error":"#DIV/0!"}},{"$f":"IF(AU13=0,0,(AU13*((LOG(AU13))/LOG(2))))","v":{"$error":"#DIV/0!"}}]
[null,null,null,null,null,null,null,null,null,null,null,null,null,1222,{"$f":"COUNTIF($L$7:$L$500,N14)","v":0},{"$f":"O14/$Q$4","v":0},{"$f":"IF(P14=0,0,(P14*((LOG(P14))/LOG(2))))","v":0},null,null,{"$f":"N14","v":1222},{"$f":"COUNTIF(L7:L7,T14)","v":0},{"$f":"U14/(W4-U20)","v":0},{"$f":"IF(V14=0,0,(V14*((LOG(V14))/LOG(2))))","v":0},null,{"$f":"N14","v":1222},{"$f":"COUNTIF(L7:L8,Y14)","v":0},{"$f":"Z14/(AB4-Z20)","v":0},{"$f":"IF(AA14=0,0,(AA14*((LOG(AA14))/LOG(2))))","v":0},null,{"$f":"N14","v":1222},{"$f":"COUNTIF(L8:L8,AD14)","v":0},{"$f":"AE14/(AG4-AE20)","v":0},{"$f":"IF(AF14=0,0,(AF14*((LOG(AF14))/LOG(2))))","v":0},null,{"$f":"N14","v":1222},{"$f":"COUNTIF(L9:L9,AI14)","v":0},{"$f":"AJ14/(AL4-AJ20)","v":0},{"$f":"IF(AK14=0,0,(AK14*((LOG(AK14))/LOG(2))))","v":0},null,{"$f":"N14","v":1222},{"$f":"COUNTIF(L9:L10,AN14)","v":0},{"$f":"AO14/(AQ4-AO20)","v":0},{"$f":"IF(AP14=0,0,(AP14*((LOG(AP14))/LOG(2))))","v":0},null,{"$f":"N14","v":1222},{"$f":"COUNTIF(L10:L10,AS14)","v":0},{"$f":"AT14/(AV4-AT20)","v":{"$error":"#DIV/0!"}},{"$f":"IF(AU14=0,0,(AU14*((LOG(AU14))/LOG(2))))","v":{"$error":"#DIV/0!"}}]
[null,null,null,null,null,null,null,null,null,null,null,null,null,2111,{"$f":"COUNTIF($L$7:$L$500,N15)","v":0},{"$f":"O15/$Q$4","v":0},{"$f":"IF(P15=0,0,(P15*((LOG(P15))/LOG(2))))","v":0},null,null,{"$f":"N15","v":2111},{"$f":"COUNTIF(L7:L7,T15)","v":0},{"$f":"U15/(W4-U20)","v":0},{"$f":"IF(V15=0,0,(V15*((LOG(V15))/LOG(2))))","v":0},null,{"$f":"N15","v":2111},{"$f":"COUNTIF(L7:L8,Y15)","v":0},{"$f":"Z15/(AB4-Z20)","v":0},{"$f":"IF(AA15=0,0,(AA15*((LOG(AA15))/LOG(2))))","v":0},null,{"$f":"N15","v":2111},{"$f":"COUNTIF(L8:L8,AD15)","v":0},{"$f":"AE15/(AG4-AE20)","v":0},{"$f":"IF(AF15=0,0,(AF15*((LOG(AF15))/LOG(2))))","v":0},null,{"$f":"N15","v":2111},{"$f":"COUNTIF(L9:L9,AI15)","v":0},{"$f":"AJ15/(AL4-AJ20)","v":0},{"$f":"IF(AK15=0,0,(AK15*((LOG(AK15))/LOG(2))))","v":0},null,{"$f":"N15","v":2111},{"$f":"COUNTIF(L9:L10,AN15)","v":0},{"$f":"AO15/(AQ4-AO20)","v":0},{"$f":"IF(AP15=0,0,(AP15*((LOG(AP15))/LOG(2))))","v":0},null,{"$f":"N15","v":2111},{"$f":"COUNTIF(L10:L10,AS15)","v":0},{"$f":"AT15/(AV4-AT20)","v":{"$error":"#DIV/0!"}},{"$f":"IF(AU15=0,0,(AU15*((LOG(AU15))/LOG(2))))","v":{"$error":"#DIV/0!"}}]
[null,null,null,null,null,null,null,null,null,null,null,null,null,2112,{"$f":"COUNTIF($L$7:$L$500,N16)","v":0},{"$f":"O16/$Q$4","v":0},{"$f":"IF(P16=0,0,(P16*((LOG(P16))/LOG(2))))","v":0},null,null,{"$f":"N16","v":2112},{"$f":"COUNTIF(L7:L7,T16)","v":0},{"$f":"U16/(W4-U20)","v":0},{"$f":"IF(V16=0,0,(V16*((LOG(V16))/LOG(2))))","v":0},null,{"$f":"N16","v":2112},{"$f":"COUNTIF(L7:L8,Y16)","v":0},{"$f":"Z16/(AB4-Z20)","v":0},{"$f":"IF(AA16=0,0,(AA16*((LOG(AA16))/LOG(2))))","v":0},null,{"$f":"N16","v":2112},{"$f":"COUNTIF(L8:L8,AD16)","v":0},{"$f":"AE16/(AG4-AE20)","v":0},{"$f":"IF(AF16=0,0,(AF16*((LOG(AF16))/LOG(2))))","v":0},null,{"$f":"N16","v":2112},{"$f":"COUNTIF(L9:L9,AI16)","v":0},{"$f":"AJ16/(AL4-AJ20)","v":0},{"$f":"IF(AK16=0,0,(AK16*((LOG(AK16))/LOG(2))))","v":0},null,{"$f":"N16","v":2112},{"$f":"COUNTIF(L9:L10,AN16)","v":0},{"$f":"AO16/(AQ4-AO20)","v":0},{"$f":"IF(AP16=0,0,(AP16*((LOG(AP16))/LOG(2))))","v":0},null,{"$f":"N16","v":2112},{"$f":"COUNTIF(L10:L10,AS16)","v":0},{"$f":"AT16/(AV4-AT20)","v":{"$error":"#DIV/0!"}},{"$f":"IF(AU16=0,0,(AU16*((LOG(AU16))/LOG(2))))","v":{"$error":"#DIV/0!"}}]
[null,null,null,null,null,null,null,null,null,null,null,null,null,2121,{"$f":"COUNTIF($L$7:$L$500,N17)","v":0},{"$f":"O17/$Q$4","v":0},{"$f":"IF(P17=0,0,(P17*((LOG(P17))/LOG(2))))","v":0},null,null,{"$f":"N17","v":2121},{"$f":"COUNTIF(L7:L7,T17)","v":0},{"$f":"U17/(W4-U20)","v":0},{"$f":"IF(V17=0,0,(V17*((LOG(V17))/LOG(2))))","v":0},null,{"$f":"N17","v":2121},{"$f":"COUNTIF(L7:L8,Y17)","v":0},{"$f":"Z17/(AB4-Z20)","v":0},{"$f":"IF(AA17=0,0,(AA17*((LOG(AA17))/LOG(2))))","v":0},null,{"$f":"N17","v":2121},{"$f":"COUNTIF(L8:L8,AD17)","v":0},{"$f":"AE17/(AG4-AE20)","v":0},{"$f":"IF(AF17=0,0,(AF17*((LOG(AF17))/LOG(2))))","v":0},null,{"$f":"N17","v":2121},{"$f":"COUNTIF(L9:L9,AI17)","v":0},{"$f":"AJ17/(AL4-AJ20)","v":0},{"$f":"IF(AK17=0,0,(AK17*((LOG(AK17))/LOG(2))))","v":0},null,{"$f":"N17","v":2121},{"$f":"COUNTIF(L9:L10,AN17)","v":0},{"$f":"AO17/(AQ4-AO20)","v":0},{"$f":"IF(AP17=0,0,(AP17*((LOG(AP17))/LOG(2))))","v":0},null,{"$f":"N17","v":2121},{"$f":"COUNTIF(L10:L10,AS17)","v":0},{"$f":"AT17/(AV4-AT20)","v":{"$error":"#DIV/0!"}},{"$f":"IF(AU17=0,0,(AU17*((LOG(AU17))/LOG(2))))","v":{"$error":"#DIV/0!"}}]
[null,null,null,null,null,null,null,null,null,null,null,null,null,2122,{"$f":"COUNTIF($L$7:$L$500,N18)","v":0},{"$f":"O18/$Q$4","v":0},{"$f":"IF(P18=0,0,(P18*((LOG(P18))/LOG(2))))","v":0},null,null,{"$f":"N18","v":2122},{"$f":"COUNTIF(L7:L7,T18)","v":0},{"$f":"U18/(W4-U20)","v":0},{"$f":"IF(V18=0,0,(V18*((LOG(V18))/LOG(2))))","v":0},null,{"$f":"N18","v":2122},{"$f":"COUNTIF(L7:L8,Y18)","v":0},{"$f":"Z18/(AB4-Z20)","v":0},{"$f":"IF(AA18=0,0,(AA18*((LOG(AA18))/LOG(2))))","v":0},null,{"$f":"N18","v":2122},{"$f":"COUNTIF(L8:L8,AD18)","v":0},{"$f":"AE18/(AG4-AE20)","v":0},{"$f":"IF(AF18=0,0,(AF18*((LOG(AF18))/LOG(2))))","v":0},null,{"$f":"N18","v":2122},{"$f":"COUNTIF(L9:L9,AI18)","v":0},{"$f":"AJ18/(AL4-AJ20)","v":0},{"$f":"IF(AK18=0,0,(AK18*((LOG(AK18))/LOG(2))))","v":0},null,{"$f":"N18","v":2122},{"$f":"COUNTIF(L9:L10,AN18)","v":0},{"$f":"AO18/(AQ4-AO20)","v":0},{"$f":"IF(AP18=0,0,(AP18*((LOG(AP18))/LOG(2))))","v":0},null,{"$f":"N18","v":2122},{"$f":"COUNTIF(L10:L10,AS18)","v":0},{"$f":"AT18/(AV4-AT20)","v":{"$error":"#DIV/0!"}},{"$f":"IF(AU18=0,0,(AU18*((LOG(AU18))/LOG(2))))","v":{"$error":"#DIV/0!"}}]
[null,null,null,null,null,null,null,null,null,null,null,null,null,2211,{"$f":"COUNTIF($L$7:$L$500,N19)","v":0},{"$f":"O19/$Q$4","v":0},{"$f":"IF(P19=0,0,(P19*((LOG(P19))/LOG(2))))","v":0},null,null,{"$f":"N19","v":2211},{"$f":"COUNTIF(L7:L7,T19)","v":0},{"$f":"U19/(W4-U20)","v":0},{"$f":"IF(V19=0,0,(V19*((LOG(V19))/LOG(2))))","v":0},null,{"$f":"N19","v":2211},{"$f":"COUNTIF(L7:L8,Y19)","v":0},{"$f":"Z19/(AB4-Z20)","v":0},{"$f":"IF(AA19=0,0,(AA19*((LOG(AA19))/LOG(2))))","v":0},null,{"$f":"N19","v":2211},{"$f":"COUNTIF(L8:L8,AD19)","v":0},{"$f":"AE19/(AG4-AE20)","v":0},{"$f":"IF(AF19=0,0,(AF19*((LOG(AF19))/LOG(2))))","v":0},null,{"$f":"N19","v":2211},{"$f":"COUNTIF(L9:L9,AI19)","v":0},{"$f":"AJ19/(AL4-AJ20)","v":0},{"$f":"IF(AK19=0,0,(AK19*((LOG(AK19))/LOG(2))))","v":0},null,{"$f":"N19","v":2211},{"$f":"COUNTIF(L9:L10,AN19)","v":0},{"$f":"AO19/(AQ4-AO20)","v":0},{"$f":"IF(AP19=0,0,(AP19*((LOG(AP19))/LOG(2))))","v":0},null,{"$f":"N19","v":2211},{"$f":"COUNTIF(L10:L10,AS19)","v":0},{"$f":"AT19/(AV4-AT20)","v":{"$error":"#DIV/0!"}},{"$f":"IF(AU19=0,0,(AU19*((LOG(AU19))/LOG(2))))","v":{"$error":"#DIV/0!"}}]
[null,null,null,null,null,null,null,null,null,null,null,null,null,2212,{"$f":"COUNTIF($L$7:$L$500,N20)","v":0},{"$f":"O20/$Q$4","v":0},{"$f":"IF(P20=0,0,(P20*((LOG(P20))/LOG(2))))","v":0},null,null,{"$f":"N20","v":2212},{"$f":"COUNTIF(L7:L7,T20)","v":0},null,null,null,{"$f":"N20","v":2212},{"$f":"COUNTIF(L7:L8,Y20)","v":0},null,null,null,{"$f":"N20","v":2212},{"$f":"COUNTIF(L8:L8,AD20)","v":0},null,null,null,{"$f":"N20","v":2212},{"$f":"COUNTIF(L9:L9,AI20)","v":0},null,null,null,{"$f":"N20","v":2212},{"$f":"COUNTIF(L9:L10,AN20)","v":0},null,null,null,{"$f":"N20","v":2212},{"$f":"COUNTIF(L10:L10,AS20)","v":0}]
[null,null,null,null,null,null,null,null,null,null,null,null,null,2221,{"$f":"COUNTIF($L$7:$L$500,N21)","v":2},{"$f":"O21/$Q$4","v":0.66666666666666663},{"$f":"IF(P21=0,0,(P21*((LOG(P21))/LOG(2))))","v":-0.38997500048077083},null,null,{"$f":"N21","v":2221},{"$f":"COUNTIF(L7:L7,T21)","v":1},{"$f":"U21/(W4-U20)","v":1},{"$f":"IF(V21=0,0,(V21*((LOG(V21))/LOG(2))))","v":0},null,{"$f":"N21","v":2221},{"$f":"COUNTIF(L7:L8,Y21)","v":2},{"$f":"Z21/(AB4-Z20)","v":1},{"$f":"IF(AA21=0,0,(AA21*((LOG(AA21))/LOG(2))))","v":0},null,{"$f":"N21","v":2221},{"$f":"COUNTIF(L8:L8,AD21)","v":1},{"$f":"AE21/(AG4-AE20)","v":1},{"$f":"IF(AF21=0,0,(AF21*((LOG(AF21))/LOG(2))))","v":0},null,{"$f":"N21","v":2221},{"$f":"COUNTIF(L9:L9,AI21)","v":0},{"$f":"AJ21/(AL4-AJ20)","v":0},{"$f":"IF(AK21=0,0,(AK21*((LOG(AK21))/LOG(2))))","v":0},null,{"$f":"N21","v":2221},{"$f":"COUNTIF(L9:L10,AN21)","v":0},{"$f":"AO21/(AQ4-AO20)","v":0},{"$f":"IF(AP21=0,0,(AP21*((LOG(AP21))/LOG(2))))","v":0},null,{"$f":"N21","v":2221},{"$f":"COUNTIF(L10:L10,AS21)","v":0},{"$f":"AT21/(AV4-AT20)","v":{"$error":"#DIV/0!"}},{"$f":"IF(AU21=0,0,(AU21*((LOG(AU21))/LOG(2))))","v":{"$error":"#DIV/0!"}}]
[null,null,null,null,null,null,null,null,null,null,null,null,null,2222,{"$f":"COUNTIF($L$7:$L$500,N22)","v":0},{"$f":"O22/$Q$4","v":0},{"$f":"IF(P22=0,0,(P22*((LOG(P22))/LOG(2))))","v":0},null,null,{"$f":"N22","v":2222},{"$f":"COUNTIF(L7:L7,T22)","v":0},{"$f":"U22/(W4-U20)","v":0},{"$f":"IF(V22=0,0,(V22*((LOG(V22))/LOG(2))))","v":0},null,{"$f":"N22","v":2222},{"$f":"COUNTIF(L7:L8,Y22)","v":0},{"$f":"Z22/(AB4-Z20)","v":0},{"$f":"IF(AA22=0,0,(AA22*((LOG(AA22))/LOG(2))))","v":0},null,{"$f":"N22","v":2222},{"$f":"COUNTIF(L8:L8,AD22)","v":0},{"$f":"AE22/(AG4-AE20)","v":0},{"$f":"IF(AF22=0,0,(AF22*((LOG(AF22))/LOG(2))))","v":0},null,{"$f":"N22","v":2222},{"$f":"COUNTIF(L9:L9,AI22)","v":0},{"$f":"AJ22/(AL4-AJ20)","v":0},{"$f":"IF(AK22=0,0,(AK22*((LOG(AK22))/LOG(2))))","v":0},null,{"$f":"N22","v":2222},{"$f":"COUNTIF(L9:L10,AN22)","v":0},{"$f":"AO22/(AQ4-AO20)","v":0},{"$f":"IF(AP22=0,0,(AP22*((LOG(AP22))/LOG(2))))","v":0},null,{"$f":"N22","v":2222},{"$f":"COUNTIF(L10:L10,AS22)","v":0},{"$f":"AT22/(AV4-AT20)","v":{"$error":"#DIV/0!"}},{"$f":"IF(AU22=0,0,(AU22*((LOG(AU22))/LOG(2))))","v":{"$error":"#DIV/0!"}}]
[null,null,null,null,null,null,null,null,null,null,null,null,null,null,null,{"$f":"SUM(P7:P22)","v":1},{"$f":"-SUM(Q7:Q22)","v":0.91829583405448945},null,null,null,null,{"$f":"SUM(V7:V22)","v":1},{"$f":"-SUM(W7:W22)","v":0},null,null,null,{"$f":"SUM(AA7:AA22)","v":1},{"$f":"-SUM(AB7:AB22)","v":0},null,null,null,{"$f":"SUM(AF7:AF22)","v":1},{"$f":"-SUM(AG7:AG22)","v":0},null,null,null,{"$f":"SUM(AK7:AK22)","v":1},{"$f":"-SUM(AL7:AL22)","v":0},null,null,null,{"$f":"SUM(AP7:AP22)","v":1},{"$f":"-SUM(AQ7:AQ22)","v":0},null,null,null,{"$f":"SUM(AU7:AU22)","v":{"$error":"#DIV/0!"}},{"$f":"-SUM(AV7:AV22)","v":{"$error":"#DIV/0!"}}]
[null,null,null,null,null,null,null,null,null,null,null,null,null,null,null,"U=",{"$f":"Q23/(LOG(Q4)/LOG(2))","v":0.57938016428569505},null,null,null,null,"U1=",{"$f":"W23/(LOG(W4)/LOG(2))","v":{"$error":"#DIV/0!"}},null,null,null,"U2=",{"$f":"AB23/(LOG(AB4)/LOG(2))","v":0},null,null,null,"U3=",{"$f":"AG23/(LOG(AG4)/LOG(2))","v":{"$error":"#DIV/0!"}},null,null,null,"U4=",{"$f":"AL23/(LOG(AL4)/LOG(2))","v":{"$error":"#DIV/0!"}},null,null,null,"U5=",{"$f":"AQ23/(LOG(AQ4)/LOG(2))","v":{"$error":"#DIV/0!"}},null,null,null,"U6=",{"$f":"AV23/(LOG(AV4)/LOG(2))","v":{"$error":"#DIV/0!"}}]
[]
[]
[null,null,null,null,null,null,null,null,null,null,null,null,null,"Total Target Seq"]
[null,null,null,null,null,null,null,null,null,null,null,null,null,{"$f":"COUNTIF(L7:L10,G3)","v":0},null,1,0,1,1,0,1]
[null,null,null,null,null,null,null,null,null,null,null,null,null,null,null,"% of reinforcement given in 6 equal intervals based on number of trials "]
[null,null,null,null,null,null,null,null,null,null,null,null,null,null,null,"%_1","%_2","%_3","%_4","%_5","%_6"]
[null,null,null,null,null,null,null,null,null,null,null,null,null,null,"target sequence",{"$f":"$G$3","v":2212},{"$f":"$G$3","v":2212},{"$f":"$G$3","v":2212},{"$f":"$G$3","v":2212},{"$f":"$G$3","v":2212},{"$f":"$G$3","v":2212}]
[null,null,null,null,null,null,null,null,null,null,null,null,null,null,"total reinforcement",{"$f":"U20","v":0},{"$f":"Z20","v":0},{"$f":"AE20","v":0},{"$f":"AJ20","v":0},{"$f":"AO20","v":0},{"$f":"AT20","v":0}]
[null,null,null,null,null,null,null,null,null,null,null,null,null,null,"% target"]
[null,null,null,null,null,null,null,null,null,null,null,null,null,null,"CCRF"]
[null,null,null,null,null,null,null,null,null,null,null,null,null,null,"% CCRf"]
[null,null,null,null,null,null,null,null,null,null,null,null,null,null,"average response rate",{"$f":"H7/P28","v":2653},{"$f":"(H7-H7)/Q28","v":{"$error":"#DIV/0!"}},{"$f":"(H8-H7)/R28","v":2124},{"$f":"(H9-H8)/S28","v":189},{"$f":"(H9-H9)/T28","v":{"$error":"#DIV/0!"}},{"$f":"(H10-H9)/U28","v":-4966}]

{"sheet":"!M205B3T.ayl","index":31,"n_rows":36,"n_cols":48,"rows_kept":36,"cut":false,"hidden":false,"merged":[[4,39,4,42],[5,39,5,40],[4,44,4,47],[5,44,5,45],[4,24,4,27],[5,24,5,25],[4,29,4,32],[5,29,5,30],[4,34,4,37],[5,34,5,35],[1,1,1,2],[5,13,5,14],[26,13,26,14],[27,13,27,14],[4,19,4,22],[5,19,5,20]]}
["Report for:!M205B3T.ayl"]
["Date:","<date>"]
["Hen:","<hen>",null,null,null,"Correct Sequence",{"$f":"Start!J2","v":2212},null,null,null,null,null,null,null,null,"Total Sequences in Data",{"$f":"4994-COUNTBLANK(L7:L5000)","v":6},null,null,null,null,"Total Sequences in Block Data",{"$f":"COUNTA(L7:L7)","v":1},null,null,null,"Total Sequences in Block Data",{"$f":"COUNTA(L8:L8)","v":1},null,null,null,"Total Sequences in Block Data",{"$f":"COUNTA(L9:L9)","v":1},null,null,null,"Total Sequences in Block Data",{"$f":"COUNTA(L10:L10)","v":1},null,null,null,"Total Sequences in Block Data",{"$f":"COUNTA(L11:L11)","v":1},null,null,null,"Total Sequences in Block Data",{"$f":"COUNTA(L12:L12)","v":1}]
[null,null,null,null,null,null,null,null,null,null,null,null,null,null,null,"Total Sequences in Summary",{"$f":"SUM(O7:O22)","v":6},null,null,null,null,"Total Sequences in Block Summary",{"$f":"SUM(U7:U22)","v":1},null,null,null,"Total Sequences in Block Summary",{"$f":"SUM(Z7:Z22)","v":1},null,null,null,"Total Sequences in Block Summary",{"$f":"SUM(AE7:AE22)","v":1},null,null,null,"Total Sequences in Block Summary",{"$f":"SUM(AJ7:AJ22)","v":1},null,null,null,"Total Sequences in Block Summary",{"$f":"SUM(AO7:AO22)","v":1},null,null,null,"Total Sequences in Block Summary",{"$f":"SUM(AT7:AT22)","v":1}]
[null,null,null,null,null,null,null,null,null,null,null,null,null,null,null,null,null,null,null,"Block 1",null,null,null,null,"Block 2",null,null,null,null,"Block 3",null,null,null,null,"Block 4",null,null,null,null,"Block 5",null,null,null,null,"Block 6"]
["Sequence\nComponent\n1","Time\n1","Sequence\nComponent\n2","Time\n2","Sequence\nComponent\n3","Time\n3","Sequence\nComponent\n4","Time\n4","Sequence\nComponent\n5","Time\n5","Correct?\n0=No 1=Yes","Sequence",null,"Frequency",null,"Relative Frequency","Variability",null,null,"Frequency",null,"Relative Frequency","Variability",null,"Frequency",null,"Relative Frequency","Variability",null,"Frequency",null,"Relative Frequency","Variability",null,"Frequency",null,"Relative Frequency","Variability",null,"Frequency",null,"Relative Frequency","Variability",null,"Frequency",null,"Relative Frequency","Variability"]
[12,25,23,33,13,51,14,59,null,null,0,1211,null,1111,{"$f":"COUNTIF($L$7:$L$500,N7)","v":0},{"$f":"O7/$Q$4","v":0},{"$f":"IF(P7=0,0,(P7*((LOG(P7))/LOG(2))))","v":0},null,null,{"$f":"N7","v":1111},{"$f":"COUNTIF(L7:L7,T7)","v":0},{"$f":"U7/(W4-U20)","v":0},{"$f":"IF(V7=0,0,(V7*((LOG(V7))/LOG(2))))","v":0},null,{"$f":"N7","v":1111},{"$f":"COUNTIF(L8:L8,Y7)","v":0},{"$f":"Z7/(AB4-Z20)","v":0},{"$f":"IF(AA7=0,0,(AA7*((LOG(AA7))/LOG(2))))","v":0},null,{"$f":"N7","v":1111},{"$f":"COUNTIF(L9:L9,AD7)","v":0},{"$f":"AE7/(AG4-AE20)","v":0},{"$f":"IF(AF7=0,0,(AF7*((LOG(AF7))/LOG(2))))","v":0},null,{"$f":"N7","v":1111},{"$f":"COUNTIF(L10:L10,AI7)","v":0},{"$f":"AJ7/(AL4-AJ20)","v":{"$error":"#DIV/0!"}},{"$f":"IF(AK7=0,0,(AK7*((LOG(AK7))/LOG(2))))","v":{"$error":"#DIV/0!"}},null,{"$f":"N7","v":1111},{"$f":"COUNTIF(L11:L11,AN7)","v":0},{"$f":"AO7/(AQ4-AO20)","v":0},{"$f":"IF(AP7=0,0,(AP7*((LOG(AP7))/LOG(2))))","v":0},null,{"$f":"N7","v":1111},{"$f":"COUNTIF(L12:L12,AS7)","v":0},{"$f":"AT7/(AV4-AT20)","v":0},{"$f":"IF(AU7=0,0,(AU7*((LOG(AU7))/LOG(2))))","v":0}]
[12,270,23,285,24,292,14,310,null,null,0,1221,null,1112,{"$f":"COUNTIF($L$7:$L$500,N8)","v":0},{"$f":"O8/$Q$4","v":0},{"$f":"IF(P8=0,0,(P8*((LOG(P8))/LOG(2))))","v":0},null,null,{"$f":"N8","v":1112},{"$f":"COUNTIF(L7:L7,T8)","v":0},{"$f":"U8/(W4-U20)","v":0},{"$f":"IF(V8=0,0,(V8*((LOG(V8))/LOG(2))))","v":0},null,{"$f":"N8","v":1112},{"$f":"COUNTIF(L8:L8,Y8)","v":0},{"$f":"Z8/(AB4-Z20)","v":0},{"$f":"IF(AA8=0,0,(AA8*((LOG(AA8))/LOG(2))))","v":0},null,{"$f":"N8","v":1112},{"$f":"COUNTIF(L9:L9,AD8)","v":0},{"$f":"AE8/(AG4-AE20)","v":0},{"$f":"IF(AF8=0,0,(AF8*((LOG(AF8))/LOG(2))))","v":0},null,{"$f":"N8","v":1112},{"$f":"COUNTIF(L10:L10,AI8)","v":0},{"$f":"AJ8/(AL4-AJ20)","v":{"$error":"#DIV/0!"}},{"$f":"IF(AK8=0,0,(AK8*((LOG(AK8))/LOG(2))))","v":{"$error":"#DIV/0!"}},null,{"$f":"N8","v":1112},{"$f":"COUNTIF(L11:L11,AN8)","v":0},{"$f":"AO8/(AQ4-AO20)","v":0},{"$f":"IF(AP8=0,0,(AP8*((LOG(AP8))/LOG(2))))","v":0},null,{"$f":"N8","v":1112},{"$f":"COUNTIF(L12:L12,AS8)","v":0},{"$f":"AT8/(AV4-AT20)","v":0},{"$f":"IF(AU8=0,0,(AU8*((LOG(AU8))/LOG(2))))","v":0}]
[21,410,21,428,22,440,14,464,null,null,0,2221,null,1121,{"$f":"COUNTIF($L$7:$L$500,N9)","v":0},{"$f":"O9/$Q$4","v":0},{"$f":"IF(P9=0,0,(P9*((LOG(P9))/LOG(2))))","v":0},null,null,{"$f":"N9","v":1121},{"$f":"COUNTIF(L7:L7,T9)","v":0},{"$f":"U9/(W4-U20)","v":0},{"$f":"IF(V9=0,0,(V9*((LOG(V9))/LOG(2))))","v":0},null,{"$f":"N9","v":1121},{"$f":"COUNTIF(L8:L8,Y9)","v":0},{"$f":"Z9/(AB4-Z20)","v":0},{"$f":"IF(AA9=0,0,(AA9*((LOG(AA9))/LOG(2))))","v":0},null,{"$f":"N9","v":1121},{"$f":"COUNTIF(L9:L9,AD9)","v":0},{"$f":"AE9/(AG4-AE20)","v":0},{"$f":"IF(AF9=0,0,(AF9*((LOG(AF9))/LOG(2))))","v":0},null,{"$f":"N9","v":1121},{"$f":"COUNTIF(L10:L10,AI9)","v":0},{"$f":"AJ9/(AL4-AJ20)","v":{"$error":"#DIV/0!"}},{"$f":"IF(AK9=0,0,(AK9*((LOG(AK9))/LOG(2))))","v":{"$error":"#DIV/0!"}},null,{"$f":"N9","v":1121},{"$f":"COUNTIF(L11:L11,AN9)","v":0},{"$f":"AO9/(AQ4-AO20)","v":0},{"$f":"IF(AP9=0,0,(AP9*((LOG(AP9))/LOG(2))))","v":0},null,{"$f":"N9","v":1121},{"$f":"COUNTIF(L12:L12,AS9)","v":0},{"$f":"AT9/(AV4-AT20)","v":0},{"$f":"IF(AU9=0,0,(AU9*((LOG(AU9))/LOG(2))))","v":0}]
[21,1073,21,1077,11,1269,21,1295,null,null,0,2212,null,1122,{"$f":"COUNTIF($L$7:$L$500,N10)","v":1},{"$f":"O10/$Q$4","v":0.16666666666666666},{"$f":"IF(P10=0,0,(P10*((LOG(P10))/LOG(2))))","v":-0.43082708345352599},null,null,{"$f":"N10","v":1122},{"$f":"COUNTIF(L7:L7,T10)","v":0},{"$f":"U10/(W4-U20)","v":0},{"$f":"IF(V10=0,0,(V10*((LOG(V10))/LOG(2))))","v":0},null,{"$f":"N10","v":1122},{"$f":"COUNTIF(L8:L8,Y10)","v":0},{"$f":"Z10/(AB4-Z20)","v":0},{"$f":"IF(AA10=0,0,(AA10*((LOG(AA10))/LOG(2))))","v":0},null,{"$f":"N10","v":1122},{"$f":"COUNTIF(L9:L9,AD10)","v":0},{"$f":"AE10/(AG4-AE20)","v":0},{"$f":"IF(AF10=0,0,(AF10*((LOG(AF10))/LOG(2))))","v":0},null,{"$f":"N10","v":1122},{"$f":"COUNTIF(L10:L10,AI10)","v":0},{"$f":"AJ10/(AL4-AJ20)","v":{"$error":"#DIV/0!"}},{"$f":"IF(AK10=0,0,(AK10*((LOG(AK10))/LOG(2))))","v":{"$error":"#DIV/0!"}},null,{"$f":"N10","v":1122},{"$f":"COUNTIF(L11:L11,AN10)","v":1},{"$f":"AO10/(AQ4-AO20)","v":1},{"$f":"IF(AP10=0,0,(AP10*((LOG(AP10))/LOG(2))))","v":0},null,{"$f":"N10","v":1122},{"$f":"COUNTIF(L12:L12,AS10)","v":0},{"$f":"AT10/(AV4-AT20)","v":0},{"$f":"IF(AU10=0,0,(AU10*((LOG(AU10))/LOG(2))))","v":0}]
[12,3998,14,4000,24,4196,23,4615,null,null,0,1122,null,1211,{"$f":"COUNTIF($L$7:$L$500,N11)","v":1},{"$f":"O11/$Q$4","v":0.16666666666666666},{"$f":"IF(P11=0,0,(P11*((LOG(P11))/LOG(2))))","v":-0.43082708345352599},null,null,{"$f":"N11","v":1211},{"$f":"COUNTIF(L7:L7,T11)","v":1},{"$f":"U11/(W4-U20)","v":1},{"$f":"IF(V11=0,0,(V11*((LOG(V11))/LOG(2))))","v":0},null,{"$f":"N11","v":1211},{"$f":"COUNTIF(L8:L8,Y11)","v":0},{"$f":"Z11/(AB4-Z20)","v":0},{"$f":"IF(AA11=0,0,(AA11*((LOG(AA11))/LOG(2))))","v":0},null,{"$f":"N11","v":1211},{"$f":"COUNTIF(L9:L9,AD11)","v":0},{"$f":"AE11/(AG4-AE20)","v":0},{"$f":"IF(AF11=0,0,(AF11*((LOG(AF11))/LOG(2))))","v":0},null,{"$f":"N11","v":1211},{"$f":"COUNTIF(L10:L10,AI11)","v":0},{"$f":"AJ11/(AL4-AJ20)","v":{"$error":"#DIV/0!"}},{"$f":"IF(AK11=0,0,(AK11*((LOG(AK11))/LOG(2))))","v":{"$error":"#DIV/0!"}},null,{"$f":"N11","v":1211},{"$f":"COUNTIF(L11:L11,AN11)","v":0},{"$f":"AO11/(AQ4-AO20)","v":0},{"$f":"IF(AP11=0,0,(AP11*((LOG(AP11))/LOG(2))))","v":0},null,{"$f":"N11","v":1211},{"$f":"COUNTIF(L12:L12,AS11)","v":0},{"$f":"AT11/(AV4-AT20)","v":0},{"$f":"IF(AU11=0,0,(AU11*((LOG(AU11))/LOG(2))))","v":0}]
[21,4873,12,20623,13,20668,14,20674,null,null,0,2111,null,1212,{"$f":"COUNTIF($L$7:$L$500,N12)","v":0},{"$f":"O12/$Q$4","v":0},{"$f":"IF(P12=0,0,(P12*((LOG(P12))/LOG(2))))","v":0},null,null,{"$f":"N12","v":1212},{"$f":"COUNTIF(L7:L7,T12)","v":0},{"$f":"U12/(W4-U20)","v":0},{"$f":"IF(V12=0,0,(V12*((LOG(V12))/LOG(2))))","v":0},null,{"$f":"N12","v":1212},{"$f":"COUNTIF(L8:L8,Y12)","v":0},{"$f":"Z12/(AB4-Z20)","v":0},{"$f":"IF(AA12=0,0,(AA12*((LOG(AA12))/LOG(2))))","v":0},null,{"$f":"N12","v":1212},{"$f":"COUNTIF(L9:L9,AD12)","v":0},{"$f":"AE12/(AG4-AE20)","v":0},{"$f":"IF(AF12=0,0,(AF12*((LOG(AF12))/LOG(2))))","v":0},null,{"$f":"N12","v":1212},{"$f":"COUNTIF(L10:L10,AI12)","v":0},{"$f":"AJ12/(AL4-AJ20)","v":{"$error":"#DIV/0!"}},{"$f":"IF(AK12=0,0,(AK12*((LOG(AK12))/LOG(2))))","v":{"$error":"#DIV/0!"}},null,{"$f":"N12","v":1212},{"$f":"COUNTIF(L11:L11,AN12)","v":0},{"$f":"AO12/(AQ4-AO20)","v":0},{"$f":"IF(AP12=0,0,(AP12*((LOG(AP12))/LOG(2))))","v":0},null,{"$f":"N12","v":1212},{"$f":"COUNTIF(L12:L12,AS12)","v":0},{"$f":"AT12/(AV4-AT20)","v":0},{"$f":"IF(AU12=0,0,(AU12*((LOG(AU12))/LOG(2))))","v":0}]
[null,null,null,null,null,null,null,null,null,null,null,null,null,1221,{"$f":"COUNTIF($L$7:$L$500,N13)","v":1},{"$f":"O13/$Q$4","v":0.16666666666666666},{"$f":"IF(P13=0,0,(P13*((LOG(P13))/LOG(2))))","v":-0.43082708345352599},null,null,{"$f":"N13","v":1221},{"$f":"COUNTIF(L7:L7,T13)","v":0},{"$f":"U13/(W4-U20)","v":0},{"$f":"IF(V13=0,0,(V13*((LOG(V13))/LOG(2))))","v":0},null,{"$f":"N13","v":1221},{"$f":"COUNTIF(L8:L8,Y13)","v":1},{"$f":"Z13/(AB4-Z20)","v":1},{"$f":"IF(AA13=0,0,(AA13*((LOG(AA13))/LOG(2))))","v":0},null,{"$f":"N13","v":1221},{"$f":"COUNTIF(L9:L9,AD13)","v":0},{"$f":"AE13/(AG4-AE20)","v":0},{"$f":"IF(AF13=0,0,(AF13*((LOG(AF13))/LOG(2))))","v":0},null,{"$f":"N13","v":1221},{"$f":"COUNTIF(L10:L10,AI13)","v":0},{"$f":"AJ13/(AL4-AJ20)","v":{"$error":"#DIV/0!"}},{"$f":"IF(AK13=0,0,(AK13*((LOG(AK13))/LOG(2))))","v":{"$error":"#DIV/0!"}},null,{"$f":"N13","v":1221},{"$f":"COUNTIF(L11:L11,AN13)","v":0},{"$f":"AO13/(AQ4-AO20)","v":0},{"$f":"IF(AP13=0,0,(AP13*((LOG(AP13))/LOG(2))))","v":0},null,{"$f":"N13","v":1221},{"$f":"COUNTIF(L12:L12,AS13)","v":0},{"$f":"AT13/(AV4-AT20)","v":0},{"$f":"IF(AU13=0,0,(AU13*((LOG(AU13))/LOG(2))))","v":0}]
[null,null,null,null,null,null,null,null,null,null,null,null,null,1222,{"$f":"COUNTIF($L$7:$L$500,N14)","v":0},{"$f":"O14/$Q$4","v":0},{"$f":"IF(P14=0,0,(P14*((LOG(P14))/LOG(2))))","v":0},null,null,{"$f":"N14","v":1222},{"$f":"COUNTIF(L7:L7,T14)","v":0},{"$f":"U14/(W4-U20)","v":0},{"$f":"IF(V14=0,0,(V14*((LOG(V14))/LOG(2))))","v":0},null,{"$f":"N14","v":1222},{"$f":"COUNTIF(L8:L8,Y14)","v":0},{"$f":"Z14/(AB4-Z20)","v":0},{"$f":"IF(AA14=0,0,(AA14*((LOG(AA14))/LOG(2))))","v":0},null,{"$f":"N14","v":1222},{"$f":"COUNTIF(L9:L9,AD14)","v":0},{"$f":"AE14/(AG4-AE20)","v":0},{"$f":"IF(AF14=0,0,(AF14*((LOG(AF14))/LOG(2))))","v":0},null,{"$f":"N14","v":1222},{"$f":"COUNTIF(L10:L10,AI14)","v":0},{"$f":"AJ14/(AL4-AJ20)","v":{"$error":"#DIV/0!"}},{"$f":"IF(AK14=0,0,(AK14*((LOG(AK14))/LOG(2))))","v":{"$error":"#DIV/0!"}},null,{"$f":"N14","v":1222},{"$f":"COUNTIF(L11:L11,AN14)","v":0},{"$f":"AO14/(AQ4-AO20)","v":0},{"$f":"IF(AP14=0,0,(AP14*((LOG(AP14))/LOG(2))))","v":0},null,{"$f":"N14","v":1222},{"$f":"COUNTIF(L12:L12,AS14)","v":0},{"$f":"AT14/(AV4-AT20)","v":0},{"$f":"IF(AU14=0,0,(AU14*((LOG(AU14))/LOG(2))))","v":0}]
[null,null,null,null,null,null,null,null,null,null,null,null,null,2111,{"$f":"COUNTIF($L$7:$L$500,N15)","v":1},{"$f":"O15/$Q$4","v":0.16666666666666666},{"$f":"IF(P15=0,0,(P15*((LOG(P15))/LOG(2))))","v":-0.43082708345352599},null,null,{"$f":"N15","v":2111},{"$f":"COUNTIF(L7:L7,T15)","v":0},{"$f":"U15/(W4-U20)","v":0},{"$f":"IF(V15=0,0,(V15*((LOG(V15))/LOG(2))))","v":0},null,{"$f":"N15","v":2111},{"$f":"COUNTIF(L8:L8,Y15)","v":0},{"$f":"Z15/(AB4-Z20)","v":0},{"$f":"IF(AA15=0,0,(AA15*((LOG(AA15))/LOG(2))))","v":0},null,{"$f":"N15","v":2111},{"$f":"COUNTIF(L9:L9,AD15)","v":0},{"$f":"AE15/(AG4-AE20)","v":0},{"$f":"IF(AF15=0,0,(AF15*((LOG(AF15))/LOG(2))))","v":0},null,{"$f":"N15","v":2111},{"$f":"COUNTIF(L10:L10,AI15)","v":0},{"$f":"AJ15/(AL4-AJ20)","v":{"$error":"#DIV/0!"}},{"$f":"IF(AK15=0,0,(AK15*((LOG(AK15))/LOG(2))))","v":{"$error":"#DIV/0!"}},null,{"$f":"N15","v":2111},{"$f":"COUNTIF(L11:L11,AN15)","v":0},{"$f":"AO15/(AQ4-AO20)","v":0},{"$f":"IF(AP15=0,0,(AP15*((LOG(AP15))/LOG(2))))","v":0},null,{"$f":"N15","v":2111},{"$f":"COUNTIF(L12:L12,AS15)","v":1},{"$f":"AT15/(AV4-AT20)","v":1},{"$f":"IF(AU15=0,0,(AU15*((LOG(AU15))/LOG(2))))","v":0}]
[null,null,null,null,null,null,null,null,null,null,null,null,null,2112,{"$f":"COUNTIF($L$7:$L$500,N16)","v":0},{"$f":"O16/$Q$4","v":0},{"$f":"IF(P16=0,0,(P16*((LOG(P16))/LOG(2))))","v":0},null,null,{"$f":"N16","v":2112},{"$f":"COUNTIF(L7:L7,T16)","v":0},{"$f":"U16/(W4-U20)","v":0},{"$f":"IF(V16=0,0,(V16*((LOG(V16))/LOG(2))))","v":0},null,{"$f":"N16","v":2112},{"$f":"COUNTIF(L8:L8,Y16)","v":0},{"$f":"Z16/(AB4-Z20)","v":0},{"$f":"IF(AA16=0,0,(AA16*((LOG(AA16))/LOG(2))))","v":0},null,{"$f":"N16","v":2112},{"$f":"COUNTIF(L9:L9,AD16)","v":0},{"$f":"AE16/(AG4-AE20)","v":0},{"$f":"IF(AF16=0,0,(AF16*((LOG(AF16))/LOG(2))))","v":0},null,{"$f":"N16","v":2112},{"$f":"COUNTIF(L10:L10,AI16)","v":0},{"$f":"AJ16/(AL4-AJ20)","v":{"$error":"#DIV/0!"}},{"$f":"IF(AK16=0,0,(AK16*((LOG(AK16))/LOG(2))))","v":{"$error":"#DIV/0!"}},null,{"$f":"N16","v":2112},{"$f":"COUNTIF(L11:L11,AN16)","v":0},{"$f":"AO16/(AQ4-AO20)","v":0},{"$f":"IF(AP16=0,0,(AP16*((LOG(AP16))/LOG(2))))","v":0},null,{"$f":"N16","v":2112},{"$f":"COUNTIF(L12:L12,AS16)","v":0},{"$f":"AT16/(AV4-AT20)","v":0},{"$f":"IF(AU16=0,0,(AU16*((LOG(AU16))/LOG(2))))","v":0}]
[null,null,null,null,null,null,null,null,null,null,null,null,null,2121,{"$f":"COUNTIF($L$7:$L$500,N17)","v":0},{"$f":"O17/$Q$4","v":0},{"$f":"IF(P17=0,0,(P17*((LOG(P17))/LOG(2))))","v":0},null,null,{"$f":"N17","v":2121},{"$f":"COUNTIF(L7:L7,T17)","v":0},{"$f":"U17/(W4-U20)","v":0},{"$f":"IF(V17=0,0,(V17*((LOG(V17))/LOG(2))))","v":0},null,{"$f":"N17","v":2121},{"$f":"COUNTIF(L8:L8,Y17)","v":0},{"$f":"Z17/(AB4-Z20)","v":0},{"$f":"IF(AA17=0,0,(AA17*((LOG(AA17))/LOG(2))))","v":0},null,{"$f":"N17","v":2121},{"$f":"COUNTIF(L9:L9,AD17)","v":0},{"$f":"AE17/(AG4-AE20)","v":0},{"$f":"IF(AF17=0,0,(AF17*((LOG(AF17))/LOG(2))))","v":0},null,{"$f":"N17","v":2121},{"$f":"COUNTIF(L10:L10,AI17)","v":0},{"$f":"AJ17/(AL4-AJ20)","v":{"$error":"#DIV/0!"}},{"$f":"IF(AK17=0,0,(AK17*((LOG(AK17))/LOG(2))))","v":{"$error":"#DIV/0!"}},null,{"$f":"N17","v":2121},{"$f":"COUNTIF(L11:L11,AN17)","v":0},{"$f":"AO17/(AQ4-AO20)","v":0},{"$f":"IF(AP17=0,0,(AP17*((LOG(AP17))/LOG(2))))","v":0},null,{"$f":"N17","v":2121},{"$f":"COUNTIF(L12:L12,AS17)","v":0},{"$f":"AT17/(AV4-AT20)","v":0},{"$f":"IF(AU17=0,0,(AU17*((LOG(AU17))/LOG(2))))","v":0}]
[null,null,null,null,null,null,null,null,null,null,null,null,null,2122,{"$f":"COUNTIF($L$7:$L$500,N18)","v":0},{"$f":"O18/$Q$4","v":0},{"$f":"IF(P18=0,0,(P18*((LOG(P18))/LOG(2))))","v":0},null,null,{"$f":"N18","v":2122},{"$f":"COUNTIF(L7:L7,T18)","v":0},{"$f":"U18/(W4-U20)","v":0},{"$f":"IF(V18=0,0,(V18*((LOG(V18))/LOG(2))))","v":0},null,{"$f":"N18","v":2122},{"$f":"COUNTIF(L8:L8,Y18)","v":0},{"$f":"Z18/(AB4-Z20)","v":0},{"$f":"IF(AA18=0,0,(AA18*((LOG(AA18))/LOG(2))))","v":0},null,{"$f":"N18","v":2122},{"$f":"COUNTIF(L9:L9,AD18)","v":0},{"$f":"AE18/(AG4-AE20)","v":0},{"$f":"IF(AF18=0,0,(AF18*((LOG(AF18))/LOG(2))))","v":0},null,{"$f":"N18","v":2122},{"$f":"COUNTIF(L10:L10,AI18)","v":0},{"$f":"AJ18/(AL4-AJ20)","v":{"$error":"#DIV/0!"}},{"$f":"IF(AK18=0,0,(AK18*((LOG(AK18))/LOG(2))))","v":{"$error":"#DIV/0!"}},null,{"$f":"N18","v":2122},{"$f":"COUNTIF(L11:L11,AN18)","v":0},{"$f":"AO18/(AQ4-AO20)","v":0},{"$f":"IF(AP18=0,0,(AP18*((LOG(AP18))/LOG(2))))","v":0},null,{"$f":"N18","v":2122},{"$f":"COUNTIF(L12:L12,AS18)","v":0},{"$f":"AT18/(AV4-AT20)","v":0},{"$f":"IF(AU18=0,0,(AU18*((LOG(AU18))/LOG(2))))","v":0}]
[null,null,null,null,null,null,null,null,null,null,null,null,null,2211,{"$f":"COUNTIF($L$7:$L$500,N19)","v":0},{"$f":"O19/$Q$4","v":0},{"$f":"IF(P19=0,0,(P19*((LOG(P19))/LOG(2))))","v":0},null,null,{"$f":"N19","v":2211},{"$f":"COUNTIF(L7:L7,T19)","v":0},{"$f":"U19/(W4-U20)","v":0},{"$f":"IF(V19=0,0,(V19*((LOG(V19))/LOG(2))))","v":0},null,{"$f":"N19","v":2211},{"$f":"COUNTIF(L8:L8,Y19)","v":0},{"$f":"Z19/(AB4-Z20)","v":0},{"$f":"IF(AA19=0,0,(AA19*((LOG(AA19))/LOG(2))))","v":0},null,{"$f":"N19","v":2211},{"$f":"COUNTIF(L9:L9,AD19)","v":0},{"$f":"AE19/(AG4-AE20)","v":0},{"$f":"IF(AF19=0,0,(AF19*((LOG(AF19))/LOG(2))))","v":0},null,{"$f":"N19","v":2211},{"$f":"COUNTIF(L10:L10,AI19)","v":0},{"$f":"AJ19/(AL4-AJ20)","v":{"$error":"#DIV/0!"}},{"$f":"IF(AK19=0,0,(AK19*((LOG(AK19))/LOG(2))))","v":{"$error":"#DIV/0!"}},null,{"$f":"N19","v":2211},{"$f":"COUNTIF(L11:L11,AN19)","v":0},{"$f":"AO19/(AQ4-AO20)","v":0},{"$f":"IF(AP19=0,0,(AP19*((LOG(AP19))/LOG(2))))","v":0},null,{"$f":"N19","v":2211},{"$f":"COUNTIF(L12:L12,AS19)","v":0},{"$f":"AT19/(AV4-AT20)","v":0},{"$f":"IF(AU19=0,0,(AU19*((LOG(AU19))/LOG(2))))","v":0}]
[null,null,null,null,null,null,null,null,null,null,null,null,null,2212,{"$f":"COUNTIF($L$7:$L$500,N20)","v":1},{"$f":"O20/$Q$4","v":0.16666666666666666},{"$f":"IF(P20=0,0,(P20*((LOG(P20))/LOG(2))))","v":-0.43082708345352599},null,null,{"$f":"N20","v":2212},{"$f":"COUNTIF(L7:L7,T20)","v":0},null,null,null,{"$f":"N20","v":2212},{"$f":"COUNTIF(L8:L8,Y20)","v":0},null,null,null,{"$f":"N20","v":2212},{"$f":"COUNTIF(L9:L9,AD20)","v":0},null,null,null,{"$f":"N20","v":2212},{"$f":"COUNTIF(L10:L10,AI20)","v":1},null,null,null,{"$f":"N20","v":2212},{"$f":"COUNTIF(L11:L11,AN20)","v":0},null,null,null,{"$f":"N20","v":2212},{"$f":"COUNTIF(L12:L12,AS20)","v":0}]
[null,null,null,null,null,null,null,null,null,null,null,null,null,2221,{"$f":"COUNTIF($L$7:$L$500,N21)","v":1},{"$f":"O21/$Q$4","v":0.16666666666666666},{"$f":"IF(P21=0,0,(P21*((LOG(P21))/LOG(2))))","v":-0.43082708345352599},null,null,{"$f":"N21","v":2221},{"$f":"COUNTIF(L7:L7,T21)","v":0},{"$f":"U21/(W4-U20)","v":0},{"$f":"IF(V21=0,0,(V21*((LOG(V21))/LOG(2))))","v":0},null,{"$f":"N21","v":2221},{"$f":"COUNTIF(L8:L8,Y21)","v":0},{"$f":"Z21/(AB4-Z20)","v":0},{"$f":"IF(AA21=0,0,(AA21*((LOG(AA21))/LOG(2))))","v":0},null,{"$f":"N21","v":2221},{"$f":"COUNTIF(L9:L9,AD21)","v":1},{"$f":"AE21/(AG4-AE20)","v":1},{"$f":"IF(AF21=0,0,(AF21*((LOG(AF21))/LOG(2))))","v":0},null,{"$f":"N21","v":2221},{"$f":"COUNTIF(L10:L10,AI21)","v":0},{"$f":"AJ21/(AL4-AJ20)","v":{"$error":"#DIV/0!"}},{"$f":"IF(AK21=0,0,(AK21*((LOG(AK21))/LOG(2))))","v":{"$error":"#DIV/0!"}},null,{"$f":"N21","v":2221},{"$f":"COUNTIF(L11:L11,AN21)","v":0},{"$f":"AO21/(AQ4-AO20)","v":0},{"$f":"IF(AP21=0,0,(AP21*((LOG(AP21))/LOG(2))))","v":0},null,{"$f":"N21","v":2221},{"$f":"COUNTIF(L12:L12,AS21)","v":0},{"$f":"AT21/(AV4-AT20)","v":0},{"$f":"IF(AU21=0,0,(AU21*((LOG(AU21))/LOG(2))))","v":0}]
[null,null,null,null,null,null,null,null,null,null,null,null,null,2222,{"$f":"COUNTIF($L$7:$L$500,N22)","v":0},{"$f":"O22/$Q$4","v":0},{"$f":"IF(P22=0,0,(P22*((LOG(P22))/LOG(2))))","v":0},null,null,{"$f":"N22","v":2222},{"$f":"COUNTIF(L7:L7,T22)","v":0},{"$f":"U22/(W4-U20)","v":0},{"$f":"IF(V22=0,0,(V22*((LOG(V22))/LOG(2))))","v":0},null,{"$f":"N22","v":2222},{"$f":"COUNTIF(L8:L8,Y22)","v":0},{"$f":"Z22/(AB4-Z20)","v":0},{"$f":"IF(AA22=0,0,(AA22*((LOG(AA22))/LOG(2))))","v":0},null,{"$f":"N22","v":2222},{"$f":"COUNTIF(L9:L9,AD22)","v":0},{"$f":"AE22/(AG4-AE20)","v":0},{"$f":"IF(AF22=0,0,(AF22*((LOG(AF22))/LOG(2))))","v":0},null,{"$f":"N22","v":2222},{"$f":"COUNTIF(L10:L10,AI22)","v":0},{"$f":"AJ22/(AL4-AJ20)","v":{"$error":"#DIV/0!"}},{"$f":"IF(AK22=0,0,(AK22*((LOG(AK22))/LOG(2))))","v":{"$error":"#DIV/0!"}},null,{"$f":"N22","v":2222},{"$f":"COUNTIF(L11:L11,AN22)","v":0},{"$f":"AO22/(AQ4-AO20)","v":0},{"$f":"IF(AP22=0,0,(AP22*((LOG(AP22))/LOG(2))))","v":0},null,{"$f":"N22","v":2222},{"$f":"COUNTIF(L12:L12,AS22)","v":0},{"$f":"AT22/(AV4-AT20)","v":0},{"$f":"IF(AU22=0,0,(AU22*((LOG(AU22))/LOG(2))))","v":0}]
[null,null,null,null,null,null,null,null,null,null,null,null,null,null,null,{"$f":"SUM(P7:P22)","v":0.99999999999999989},{"$f":"-SUM(Q7:Q22)","v":2.5849625007211561},null,null,null,null,{"$f":"SUM(V7:V22)","v":1},{"$f":"-SUM(W7:W22)","v":0},null,null,null,{"$f":"SUM(AA7:AA22)","v":1},{"$f":"-SUM(AB7:AB22)","v":0},null,null,null,{"$f":"SUM(AF7:AF22)","v":1},{"$f":"-SUM(AG7:AG22)","v":0},null,null,null,{"$f":"SUM(AK7:AK22)","v":{"$error":"#DIV/0!"}},{"$f":"-SUM(AL7:AL22)","v":{"$error":"#DIV/0!"}},null,null,null,{"$f":"SUM(AP7:AP22)","v":1},{"$f":"-SUM(AQ7:AQ22)","v":0},null,null,null,{"$f":"SUM(AU7:AU22)","v":1},{"$f":"-SUM(AV7:AV22)","v":0}]
[null,null,null,null,null,null,null,null,null,null,null,null,null,null,null,"U=",{"$f":"Q23/(LOG(Q4)/LOG(2))","v":1},null,null,null,null,"U1=",{"$f":"W23/(LOG(W4)/LOG(2))","v":{"$error":"#DIV/0!"}},null,null,null,"U2=",{"$f":"AB23/(LOG(AB4)/LOG(2))","v":{"$error":"#DIV/0!"}},null,null,null,"U3=",{"$f":"AG23/(LOG(AG4)/LOG(2))","v":{"$error":"#DIV/0!"}},null,null,null,"U4=",{"$f":"AL23/(LOG(AL4)/LOG(2))","v":{"$error":"#DIV/0!"}},null,null,null,"U5=",{"$f":"AQ23/(LOG(AQ4)/LOG(2))","v":{"$error":"#DIV/0!"}},null,null,null,"U6=",{"$f":"AV23/(LOG(AV4)/LOG(2))","v":{"$error":"#DIV/0!"}}]
[]
[]
[null,null,null,null,null,null,null,null,null,null,null,null,null,"Total Target Seq"]
[null,null,null,null,null,null,null,null,null,null,null,null,null,{"$f":"COUNTIF(L7:L12,G3)","v":1},null,1,1,1,1,1,1]
[null,null,null,null,null,null,null,null,null,null,null,null,null,null,null,"% of reinforcement given in 6 equal intervals based on number of trials "]
[null,null,null,null,null,null,null,null,null,null,null,null,null,null,null,"%_1","%_2","%_3","%_4","%_5","%_6"]
[null,null,null,null,null,null,null,null,null,null,null,null,null,null,"target sequence",{"$f":"$G$3","v":2212},{"$f":"$G$3","v":2212},{"$f":"$G$3","v":2212},{"$f":"$G$3","v":2212},{"$f":"$G$3","v":2212},{"$f":"$G$3","v":2212}]
[null,null,null,null,null,null,null,null,null,null,null,null,null,null,"total reinforcement",{"$f":"U20","v":0},{"$f":"Z20","v":0},{"$f":"AE20","v":0},{"$f":"AJ20","v":1},{"$f":"AO20","v":0},{"$f":"AT20","v":0}]
[null,null,null,null,null,null,null,null,null,null,null,null,null,null,"% target"]
[null,null,null,null,null,null,null,null,null,null,null,null,null,null,"CCRF"]
[null,null,null,null,null,null,null,null,null,null,null,null,null,null,"% CCRf"]
[null,null,null,null,null,null,null,null,null,null,null,null,null,null,"average response rate",{"$f":"H7/P28","v":59},{"$f":"(H8-H7)/Q28","v":251},{"$f":"(H9-H8)/R28","v":154},{"$f":"(H10-H9)/S28","v":831},{"$f":"(H11-H10)/T28","v":3320},{"$f":"(H12-H11)/U28","v":16059}]