{"text_format":"1","workbook":"xlsx","n_sheets":35,"sheets":["Sample Report","Summary","Start","!LB09A43..Ta","!LB10A53..Ta","!LB11A03..Ta","!LB12A13..Ta","!LB13A23..Ta","!LB14B13..Ta","!LB15A23..Ta","!LB16A13..Ta","!LB17A03..Ta","!LB18A03..Ta","!LB19C53..Ta","!LB20A13..Ta","!LB21B03..Ta","!LB22A43..Ta","!LB23A43..Ta","!LB24A03..Ta","!LB25953..Ta","!LB26943..Ta","!LB28B03..Ta","!LB29953..Ta","!LB30953..Ta","!LC01B13..Ta","!LC02953..Ta","!LC03A33..Ta","!LC05A33..Ta","!LC07A03..Ta","!LC08A53..Ta","!LC09A33..Ta","!LC10923..Ta","!LC11C03..Ta","!LC12A2T.ayl","!LC13A4T.ayl"],"not_rendered":{"charts":0,"images":0,"macros":1,"external_links":0,"defined_names":0,"comments":0,"pivot_tables":0},"unopened":[],"bounds":{"document_bytes":16777216,"sheet_cells":100000,"rows_first":2000,"rows_last":500,"rows_between":2000,"halvings":0,"cell_chars":16384,"cell_head_chars":4096},"cells_cut":0,"cells_raw":0,"read":"whole","date_system":"1900"}

{"sheet":"Sample Report","index":0,"n_rows":12,"n_cols":11,"rows_kept":12,"cut":false,"hidden":true,"merged":[[7,0,7,6]]}
[]
["Date"]
["Hen"]
["Program"]
["Start at 999999"]
["Sequence component 1","Time 1","Seqeunce Component 2","Time 2","Seqeunce Component 3","Time 3","Correct   0 = No 1=Yes",null,null,"Seqeunce","Time"]
[12,7,12,42,13,18,"if 77 new line,                                  if 31 or 41 = yes new line on 77, ",null,null,"=string of Seqeunce compponent 1, 2 & 3","=time 3"]
["This continues until ther is a 1 on its own to indicate start of summary data"]
[null,null,null,null,null,null,null,null,null,"10-19 =1"]
["Summary Data ",null,null,null,null,null,null,null,null,"20-29 =2"]
["Correct","Incorrect","Rft","total","Av Correct","Av Incorrect","Percent correct","Time",null,"in this example the seqeunce would be 111"]
[40,33,40,73,23.95,15,54,806]

{"sheet":"Summary","index":1,"n_rows":34,"n_cols":24,"rows_kept":34,"cut":false,"hidden":false,"merged":[]}
[]
["Day","Date","Average Response Rate","Target %","RF for non correct sequence","U Value",null,null,null,null,"Block 1","Block 2","Block 3","Block 4","Block 5","Block 6"]
[1,{"$f":"'!LB09A43..Ta'!B2:C2","v":"<date>"},{"$f":"('!LB09A43..Ta'!F191/60)/'!LB09A43..Ta'!Q3","v":2.1548648648648649},{"$f":"'!LB09A43..Ta'!N20/'!LB09A43..Ta'!Q3","v":5.4054054054054057E-3},{"$f":"SUM('!LB09A43..Ta'!L20:Q20)/'!LB09A43..Ta'!Q3","v":1.4810810810810811},{"$f":"'!LB09A43..Ta'!Q16","v":0.28135535934047196},null,null,null,"Average Response Rate",{"$f":"AVERAGE(C3:C7)","v":2.602582603470073},{"$f":"AVERAGE(C8:C12)","v":2.1019566072042855},{"$f":"AVERAGE(C13:C17)","v":2.2063005820731481},{"$f":"AVERAGE(C18:C22)","v":4.2642988099059727},{"$f":"AVERAGE(C23:C27)","v":3.5808791748017441},{"$f":"AVERAGE(C28:C32)","v":2.7285647868784269}]
[2,{"$f":"'!LB10A53..Ta'!B2:C2","v":"<date>"},{"$f":"('!LB10A53..Ta'!F192/60)/'!LB10A53..Ta'!Q3","v":2.1471326164874553},{"$f":"'!LB10A53..Ta'!N20/'!LB10A53..Ta'!Q3","v":1.6129032258064516E-2},{"$f":"SUM('!LB10A53..Ta'!L20:Q20)/'!LB10A53..Ta'!Q3","v":1.4838709677419355},{"$f":"'!LB10A53..Ta'!Q16","v":0.2601223461176293},null,null,null,"Target %",{"$f":"AVERAGE(D3:D7)","v":8.6107995571425788E-2},{"$f":"AVERAGE(D8:D12)","v":0.46405714722536179},{"$f":"AVERAGE(D13:D17)","v":0.44858193967378046},{"$f":"AVERAGE(D18:D22)","v":0.18016726403823177},{"$f":"AVERAGE(D23:D27)","v":0.56665291954497021},{"$f":"AVERAGE(D28:D32)","v":0.64313660744919832}]
[3,{"$f":"'!LB11A03..Ta'!B2:C2","v":"<date>"},{"$f":"('!LB11A03..Ta'!F107/60)/'!LB11A03..Ta'!Q3","v":2.5041254125412542},{"$f":"'!LB11A03..Ta'!N20/'!LB11A03..Ta'!Q3","v":5.9405940594059403E-2},{"$f":"SUM('!LB11A03..Ta'!L20:Q20)/'!LB11A03..Ta'!Q3","v":1.495049504950495},{"$f":"'!LB11A03..Ta'!Q16","v":0.25662499012323514},null,null,null,"CCRF",{"$f":"AVERAGE(E3:E7)","v":1.7855438542982458},{"$f":"AVERAGE(E8:E12)","v":2.6117254465138884},{"$f":"AVERAGE(E13:E17)","v":3.3499597892581732},{"$f":"AVERAGE(E18:E22)","v":3.3870423551769249},{"$f":"AVERAGE(E23:E27)","v":3.9008263002076804},{"$f":"AVERAGE(E28:E32)","v":3.6967798225455075}]
[4,{"$f":"'!LB12A13..Ta'!B2:C2","v":"<date>"},{"$f":"('!LB12A13..Ta'!F154/60)/'!LB12A13..Ta'!Q3","v":2.6},{"$f":"'!LB12A13..Ta'!N20/'!LB12A13..Ta'!Q3","v":8.1081081081081086E-2},{"$f":"SUM('!LB12A13..Ta'!L20:Q20)/'!LB12A13..Ta'!Q3","v":1.9121621621621621},{"$f":"'!LB12A13..Ta'!Q16","v":0.20414497976236526},null,null,null,"U Value",{"$f":"AVERAGE(F3:F7)","v":0.26827447514978064},{"$f":"AVERAGE(F8:F12)","v":0.19931282925654253},{"$f":"AVERAGE(F13:F17)","v":0.17465638026941993},{"$f":"AVERAGE(F18:F22)","v":8.5497472339524608E-2},{"$f":"AVERAGE(F23:F27)","v":0.15494673643511223},{"$f":"AVERAGE(F28:F32)","v":0.22414784609503985}]
[5,{"$f":"'!LB13A23..Ta'!B2:C2","v":"<date>"},{"$f":"('!LB13A23..Ta'!F114/60)/'!LB13A23..Ta'!Q3","v":3.6067901234567903},{"$f":"'!LB13A23..Ta'!N20/'!LB13A23..Ta'!Q3","v":0.26851851851851855},{"$f":"SUM('!LB13A23..Ta'!L20:Q20)/'!LB13A23..Ta'!Q3","v":2.5555555555555554},{"$f":"'!LB13A23..Ta'!Q16","v":0.33912470040520137}]
[6,{"$f":"'!LB14B13..Ta'!B2:C2","v":"<date>"},{"$f":"('!LB14B13..Ta'!F146/60)/'!LB14B13..Ta'!Q3","v":2.2488095238095238},{"$f":"'!LB14B13..Ta'!N20/'!LB14B13..Ta'!Q3","v":0.27142857142857141},{"$f":"SUM('!LB14B13..Ta'!L20:Q20)/'!LB14B13..Ta'!Q3","v":1.4785714285714286},{"$f":"'!LB14B13..Ta'!Q16","v":0.22600543127393993}]
[7,{"$f":"'!LB15A23..Ta'!B2:C2","v":"<date>"},{"$f":"('!LB15A23..Ta'!F108/60)/'!LB15A23..Ta'!Q3","v":2.0736928104575165},{"$f":"'!LB15A23..Ta'!N20/'!LB15A23..Ta'!Q3","v":0.38235294117647056},{"$f":"SUM('!LB15A23..Ta'!L20:Q20)/'!LB15A23..Ta'!Q3","v":1.911764705882353},{"$f":"'!LB15A23..Ta'!Q16","v":0.16939540412864498},{"$f":"K3","v":2.602582603470073},{"$f":"L3","v":2.1019566072042855},2.2063005820731481,4.2642988099059727,3.5808791748017441,2.7285647868784269,{"$f":"K4","v":8.6107995571425788E-2},{"$f":"L4","v":0.46405714722536179},0.44858193967378046,0.18016726403823177,0.56665291954497021,0.64313660744919832,{"$f":"K6","v":0.26827447514978064},{"$f":"L6","v":0.19931282925654253},0.17465638026941993,8.5497472339524608E-2,0.15494673643511223,0.22414784609503985]
[8,{"$f":"'!LB16A13..Ta'!B2:C2","v":"<date>"},{"$f":"('!LB16A13..Ta'!F87/60)/'!LB16A13..Ta'!Q3","v":2.15},{"$f":"'!LB16A13..Ta'!N20/'!LB16A13..Ta'!Q3","v":0.46913580246913578},{"$f":"SUM('!LB16A13..Ta'!L20:Q20)/'!LB16A13..Ta'!Q3","v":2.308641975308642},{"$f":"'!LB16A13..Ta'!Q16","v":0.22853060479802603}]
[9,{"$f":"'!LB17A03..Ta'!B2:C2","v":"<date>"},{"$f":"('!LB17A03..Ta'!F82/60)/'!LB17A03..Ta'!Q3","v":2.0793859649122806},{"$f":"'!LB17A03..Ta'!N20/'!LB17A03..Ta'!Q3","v":0.51315789473684215},{"$f":"SUM('!LB17A03..Ta'!L20:Q20)/'!LB17A03..Ta'!Q3","v":2.4473684210526314},{"$f":"'!LB17A03..Ta'!Q16","v":0.20162068410848175}]
[10,{"$f":"'!LB18A03..Ta'!B2:C2","v":"<date>"},{"$f":"('!LB18A03..Ta'!F63/60)/'!LB18A03..Ta'!Q3","v":1.9578947368421051},{"$f":"'!LB18A03..Ta'!N20/'!LB18A03..Ta'!Q3","v":0.68421052631578949},{"$f":"SUM('!LB18A03..Ta'!L20:Q20)/'!LB18A03..Ta'!Q3","v":4.9122807017543861},{"$f":"'!LB18A03..Ta'!Q16","v":0.17101202197361998}]
[11,{"$f":"'!LB19C53..Ta'!B2:C2","v":"<date>"},{"$f":"('!LB19C53..Ta'!F84/60)/'!LB19C53..Ta'!Q3","v":2.0500000000000003},{"$f":"'!LB19C53..Ta'!N20/'!LB19C53..Ta'!Q3","v":0.5},{"$f":"SUM('!LB19C53..Ta'!L20:Q20)/'!LB19C53..Ta'!Q3","v":3.6794871794871793},{"$f":"'!LB19C53..Ta'!Q16","v":0.17278424464506945}]
[12,{"$f":"'!LB20A13..Ta'!B2:C2","v":"<date>"},{"$f":"('!LB20A13..Ta'!F132/60)/'!LB20A13..Ta'!Q3","v":2.1699735449735451},{"$f":"'!LB20A13..Ta'!N20/'!LB20A13..Ta'!Q3","v":0.30952380952380953},{"$f":"SUM('!LB20A13..Ta'!L20:Q20)/'!LB20A13..Ta'!Q3","v":2.4047619047619047},{"$f":"'!LB20A13..Ta'!Q16","v":0.15933538901692079}]
[13,{"$f":"'!LB21B03..Ta'!B2:C2","v":"<date>"},{"$f":"('!LB21B03..Ta'!F124/60)/'!LB21B03..Ta'!Q3","v":2.259745762711864},{"$f":"'!LB21B03..Ta'!N20/'!LB21B03..Ta'!Q3","v":0.33050847457627119},{"$f":"SUM('!LB21B03..Ta'!L20:Q20)/'!LB21B03..Ta'!Q3","v":2.5423728813559321},{"$f":"'!LB21B03..Ta'!Q16","v":0.16512293738538358}]
[14,{"$f":"'!LB22A43..Ta'!B2:C2","v":"<date>"},{"$f":"('!LB22A43..Ta'!F92/60)/'!LB22A43..Ta'!Q3","v":2.3331395348837209},{"$f":"'!LB22A43..Ta'!N20/'!LB22A43..Ta'!Q3","v":0.44186046511627908},{"$f":"SUM('!LB22A43..Ta'!L20:Q20)/'!LB22A43..Ta'!Q3","v":3.36046511627907},{"$f":"'!LB22A43..Ta'!Q16","v":0.20249047918516971}]
[15,{"$f":"'!LB23A43..Ta'!B2:C2","v":"<date>"},{"$f":"('!LB23A43..Ta'!F65/60)/'!LB23A43..Ta'!Q3","v":2.2186440677966104},{"$f":"'!LB23A43..Ta'!N20/'!LB23A43..Ta'!Q3","v":0.66101694915254239},{"$f":"SUM('!LB23A43..Ta'!L20:Q20)/'!LB23A43..Ta'!Q3","v":4.7627118644067794},{"$f":"'!LB23A43..Ta'!Q16","v":0.17354885111455612}]
[16,{"$f":"'!LB24A03..Ta'!B2:C2","v":"<date>"},{"$f":"('!LB24A03..Ta'!F112/60)/'!LB24A03..Ta'!Q3","v":3.7325471698113204},{"$f":"'!LB24A03..Ta'!N20/'!LB24A03..Ta'!Q3","v":0},{"$f":"SUM('!LB24A03..Ta'!L20:Q20)/'!LB24A03..Ta'!Q3","v":2.4245283018867925},{"$f":"'!LB24A03..Ta'!Q16","v":0}]
[17,{"$f":"'!LB25953..Ta'!B2:C2","v":"<date>"},{"$f":"('!LB25953..Ta'!F99/60)/'!LB25953..Ta'!Q3","v":2.454301075268817},{"$f":"'!LB25953..Ta'!N20/'!LB25953..Ta'!Q3","v":0.41935483870967744},{"$f":"SUM('!LB25953..Ta'!L20:Q20)/'!LB25953..Ta'!Q3","v":3.139784946236559},{"$f":"'!LB25953..Ta'!Q16","v":0.21079051926644532}]
[18,{"$f":"'!LB26943..Ta'!B2:C2","v":"<date>"},{"$f":"('!LB26943..Ta'!F87/60)/'!LB26943..Ta'!Q3","v":2.3117283950617282},{"$f":"'!LB26943..Ta'!N20/'!LB26943..Ta'!Q3","v":0.48148148148148145},{"$f":"SUM('!LB26943..Ta'!L20:Q20)/'!LB26943..Ta'!Q3","v":2.3209876543209877},{"$f":"'!LB26943..Ta'!Q16","v":0.21669684243117771}]
[19,{"$f":"'!LB28B03..Ta'!B2:C2","v":"<date>"},{"$f":"('!LB28B03..Ta'!F57/60)/'!LB28B03..Ta'!Q3","v":6.8859477124183011},{"$f":"'!LB28B03..Ta'!N20/'!LB28B03..Ta'!Q3","v":0},{"$f":"SUM('!LB28B03..Ta'!L20:Q20)/'!LB28B03..Ta'!Q3","v":4.6862745098039218},{"$f":"'!LB28B03..Ta'!Q16","v":0}]
[20,{"$f":"'!LB29953..Ta'!B2:C2","v":"<date>"},{"$f":"('!LB29953..Ta'!F61/60)/'!LB29953..Ta'!Q3","v":5.9369696969696975},{"$f":"'!LB29953..Ta'!N20/'!LB29953..Ta'!Q3","v":0},{"$f":"SUM('!LB29953..Ta'!L20:Q20)/'!LB29953..Ta'!Q3","v":4.3636363636363633},{"$f":"'!LB29953..Ta'!Q16","v":0}]
[21,{"$f":"'!LB30953..Ta'!B2:C2","v":"<date>"},{"$f":"('!LB30953..Ta'!F59/60)/'!LB30953..Ta'!Q3","v":1.9930817610062894},{"$f":"'!LB30953..Ta'!N20/'!LB30953..Ta'!Q3","v":0.73584905660377353},{"$f":"SUM('!LB30953..Ta'!L20:Q20)/'!LB30953..Ta'!Q3","v":3.3773584905660377},{"$f":"'!LB30953..Ta'!Q16","v":0.20067137449708933}]
[22,{"$f":"'!LC01B13..Ta'!B2:C2","v":"<date>"},{"$f":"('!LC01B13..Ta'!F60/60)/'!LC01B13..Ta'!Q3","v":2.2077160493827162},{"$f":"'!LC01B13..Ta'!N20/'!LC01B13..Ta'!Q3","v":0.72222222222222221},{"$f":"SUM('!LC01B13..Ta'!L20:Q20)/'!LC01B13..Ta'!Q3","v":5.166666666666667},{"$f":"'!LC01B13..Ta'!Q16","v":0.18296461228248098}]
[23,{"$f":"'!LC02953..Ta'!B2:C2","v":"<date>"},{"$f":"('!LC02953..Ta'!F67/60)/'!LC02953..Ta'!Q3","v":2.1814207650273225},{"$f":"'!LC02953..Ta'!N20/'!LC02953..Ta'!Q3","v":0.63934426229508201},{"$f":"SUM('!LC02953..Ta'!L20:Q20)/'!LC02953..Ta'!Q3","v":4.6065573770491799},{"$f":"'!LC02953..Ta'!Q16","v":0.218393351118227}]
[24,{"$f":"'!LC03A33..Ta'!B2:C2","v":"<date>"},{"$f":"('!LC03A33..Ta'!F59/60)/'!LC03A33..Ta'!Q3","v":2.121383647798742},{"$f":"'!LC03A33..Ta'!N20/'!LC03A33..Ta'!Q3","v":0.73584905660377353},{"$f":"SUM('!LC03A33..Ta'!L20:Q20)/'!LC03A33..Ta'!Q3","v":3.3773584905660377},{"$f":"'!LC03A33..Ta'!Q16","v":0.17270434427776385}]
[25,{"$f":"'!LC05A33..Ta'!B2:C2","v":"<date>"},{"$f":"('!LC05A33..Ta'!F48/60)/'!LC05A33..Ta'!Q3","v":9.4007936507936503},{"$f":"'!LC05A33..Ta'!N20/'!LC05A33..Ta'!Q3","v":0},{"$f":"SUM('!LC05A33..Ta'!L20:Q20)/'!LC05A33..Ta'!Q3","v":2.9761904761904763},{"$f":"'!LC05A33..Ta'!Q16","v":0}]
[26,{"$f":"'!LC07A03..Ta'!B2:C2","v":"<date>"},{"$f":"('!LC07A03..Ta'!F69/60)/'!LC07A03..Ta'!Q3","v":2.0367724867724868},{"$f":"'!LC07A03..Ta'!N20/'!LC07A03..Ta'!Q3","v":0.61904761904761907},{"$f":"SUM('!LC07A03..Ta'!L20:Q20)/'!LC07A03..Ta'!Q3","v":2.7301587301587302},{"$f":"'!LC07A03..Ta'!Q16","v":0.26982870512530588}]
[27,{"$f":"'!LC08A53..Ta'!B2:C2","v":"<date>"},{"$f":"('!LC08A53..Ta'!F59/60)/'!LC08A53..Ta'!Q3","v":1.9918238993710691},{"$f":"'!LC08A53..Ta'!N20/'!LC08A53..Ta'!Q3","v":0.75471698113207553},{"$f":"SUM('!LC08A53..Ta'!L20:Q20)/'!LC08A53..Ta'!Q3","v":3.3962264150943398},{"$f":"'!LC08A53..Ta'!Q16","v":0.20567244942427962}]
[28,{"$f":"'!LC09A33..Ta'!B2:C2","v":"<date>"},{"$f":"('!LC09A33..Ta'!F63/60)/'!LC09A33..Ta'!Q3","v":2.0330409356725148},{"$f":"'!LC09A33..Ta'!N20/'!LC09A33..Ta'!Q3","v":0.68421052631578949},{"$f":"SUM('!LC09A33..Ta'!L20:Q20)/'!LC09A33..Ta'!Q3","v":4.9122807017543861},{"$f":"'!LC09A33..Ta'!Q16","v":0.18149964096586085}]
[29,{"$f":"'!LC10923..Ta'!B2:C2","v":"<date>"},{"$f":"('!LC10923..Ta'!F64/60)/'!LC10923..Ta'!Q3","v":2.0204022988505748},{"$f":"'!LC10923..Ta'!N20/'!LC10923..Ta'!Q3","v":0.67241379310344829},{"$f":"SUM('!LC10923..Ta'!L20:Q20)/'!LC10923..Ta'!Q3","v":4.8275862068965516},{"$f":"'!LC10923..Ta'!Q16","v":0.20683236815319148}]
[30,{"$f":"'!LC11C03..Ta'!B2:C2","v":"<date>"},{"$f":"('!LC11C03..Ta'!F74/60)/'!LC11C03..Ta'!Q3","v":5.56078431372549},{"$f":"'!LC11C03..Ta'!N20/'!LC11C03..Ta'!Q3","v":0.48529411764705882},{"$f":"SUM('!LC11C03..Ta'!L20:Q20)/'!LC11C03..Ta'!Q3","v":2.6176470588235294},{"$f":"'!LC11C03..Ta'!Q16","v":0.25690606680656147}]
[null,{"$f":"'!LC12A2T.ayl'!B2:C2","v":"<date>"},{"$f":"('!LC12A2T.ayl'!F86/60)/'!LC12A2T.ayl'!Q3","v":4.3216666666666672},{"$f":"'!LC12A2T.ayl'!N20/'!LC12A2T.ayl'!Q3","v":0.48749999999999999},{"$f":"SUM('!LC12A2T.ayl'!L20:Q20)/'!LC12A2T.ayl'!Q3","v":3.6},{"$f":"'!LC12A2T.ayl'!Q16","v":0.20340666839102006}]
[null,{"$f":"'!LC13A4T.ayl'!B2:C2","v":"<date>"},{"$f":"('!LC13A4T.ayl'!F91/60)/'!LC13A4T.ayl'!Q3","v":4.6721568627450978},{"$f":"'!LC13A4T.ayl'!N20/'!LC13A4T.ayl'!Q3","v":1.1764705882352941E-2},{"$f":"SUM('!LC13A4T.ayl'!L20:Q20)/'!LC13A4T.ayl'!Q3","v":2.9529411764705884},{"$f":"'!LC13A4T.ayl'!Q16","v":1.4397194470428127E-2}]

{"sheet":"Start","index":2,"n_rows":38,"n_cols":10,"rows_kept":38,"cut":false,"hidden":false,"merged":[]}
[null,null,null,null,null,"Use Folder 51",null,"Auto Clean Up",null,"Correct sequence"]
[null,null,null,null,null,false,null,true,null,122]
[]
["Working with Folder",null,null,null,null,null,"Process All/Or Pick A number: ALL or an integer"]
["F:\\Possum Chapter\\Raw Data\\Taylor\\phase 2 var\\",null,null,null,null,null,"ALL"]
["Filenames:"]
["!LB29953..Ta",null,null,null,null,null,"Paint Cells"]
["!LB30953..Ta",null,null,null,null,null,false]
["!LC01B13..Ta"]
["!LC03A33..Ta"]
["!LC05A33..Ta"]
["!LC02953..Ta"]
["!LB09A43..Ta"]
["!LB10A53..Ta"]
["!LB11A03..Ta"]
["!LB12A13..Ta"]
["!LB13A23..Ta"]
["!LB14B13..Ta"]
["!LB15A23..Ta"]
["!LB16A13..Ta"]
["!LB17A03..Ta"]
["!LB18A03..Ta"]
["!LB19C53..Ta"]
["!LB20A13..Ta"]
["!LB21B03..Ta"]
["!LB22A43..Ta"]
["!LB23A43..Ta"]
["!LB24A03..Ta"]
["!LB28B03..Ta"]
["!LB25953..Ta"]
["!LB26943..Ta"]
["!LC12A2T.ayl"]
["!LC13A4T.ayl"]
["!LC09A33..Ta"]
["!LC11C03..Ta"]
["!LC10923..Ta"]
["!LC07A03..Ta"]
["!LC08A53..Ta"]

{"sheet":"!LB09A43..Ta","index":3,"n_rows":191,"n_cols":48,"rows_kept":191,"cut":false,"hidden":false,"merged":[[4,39,4,42],[5,39,5,40],[4,44,4,47],[5,44,5,45],[4,24,4,27],[5,24,5,25],[4,29,4,32],[5,29,5,30],[4,34,4,37],[5,34,5,35],[1,1,1,2],[5,13,5,14],[18,13,18,14],[19,13,19,14],[4,19,4,22],[5,19,5,20]]}
["Report for:!LB09A43..Ta"]
["Date:","<date>"]
["Hen:","<hen>",null,null,null,"Correct Sequence",{"$f":"Start!J2","v":122},null,null,null,null,null,null,null,null,"Total Sequences in Data",{"$f":"4994-COUNTBLANK(L7:L5000)","v":185},null,null,null,null,"Total Sequences in Block Data",{"$f":"COUNTA(L7:L37)","v":31},null,null,null,"Total Sequences in Block Data",{"$f":"COUNTA(L38:L68)","v":31},null,null,null,"Total Sequences in Block Data",{"$f":"COUNTA(L69:L98)","v":30},null,null,null,"Total Sequences in Block Data",{"$f":"COUNTA(L99:L129)","v":31},null,null,null,"Total Sequences in Block Data",{"$f":"COUNTA(L130:L160)","v":31},null,null,null,"Total Sequences in Block Data",{"$f":"COUNTA(L161:L191)","v":31}]
[null,null,null,null,null,null,null,null,null,null,null,null,null,null,null,"Total Sequences in Summary",{"$f":"SUM(O7:O14)","v":185},null,null,null,null,"Total Sequences in Block Summary",{"$f":"SUM(U7:U14)","v":31},null,null,null,"Total Sequences in Block Summary",{"$f":"SUM(Z7:Z14)","v":31},null,null,null,"Total Sequences in Block Summary",{"$f":"SUM(AE7:AE14)","v":30},null,null,null,"Total Sequences in Block Summary",{"$f":"SUM(AJ7:AJ14)","v":31},null,null,null,"Total Sequences in Block Summary",{"$f":"SUM(AO7:AO14)","v":31},null,null,null,"Total Sequences in Block Summary",{"$f":"SUM(AT7:AT14)","v":31}]
[null,null,null,null,null,null,null,null,null,null,null,null,null,null,null,null,null,null,null,"Block 1",null,null,null,null,"Block 2",null,null,null,null,"Block 3",null,null,null,null,"Block 4",null,null,null,null,"Block 5",null,null,null,null,"Block 6"]
["Sequence\nComponent\n1","Time\n1","Sequence\nComponent\n2","Time\n2","Sequence\nComponent\n3","Time\n3","Sequence\nComponent\n4","Time\n4","Sequence\nComponent\n5","Time\n5","Correct?\n0=No 1=Yes","Sequence",null,"Frequency",null,"Relative Frequency","Variability",null,null,"Frequency",null,"Relative Frequency","Variability",null,"Frequency",null,"Relative Frequency","Variability",null,"Frequency",null,"Relative Frequency","Variability",null,"Frequency",null,"Relative Frequency","Variability",null,"Frequency",null,"Relative Frequency","Variability",null,"Frequency",null,"Relative Frequency","Variability"]
[11,22,12,32,14,37,null,null,null,null,0,111,null,111,{"$f":"COUNTIF($L$7:$L$500,N7)","v":39},{"$f":"O7/$Q$4","v":0.21081081081081082},{"$f":"IF(P7=0,0,(P7*((LOG(P7))/LOG(2))))","v":-0.47347670499734318},null,null,{"$f":"N7","v":111},{"$f":"COUNTIF(L7:L37,T7)","v":14},{"$f":"U7/(W4-U10)","v":0.45161290322580644},{"$f":"IF(V7=0,0,(V7*((LOG(V7))/LOG(2))))","v":-0.51792836892289662},null,{"$f":"N7","v":111},{"$f":"COUNTIF(L38:L68,Y7)","v":6},{"$f":"Z7/(AB4-Z10)","v":0.19354838709677419},{"$f":"IF(AA7=0,0,(AA7*((LOG(AA7))/LOG(2))))","v":-0.45856138251594558},null,{"$f":"N7","v":111},{"$f":"COUNTIF(L69:L98,AD7)","v":6},{"$f":"AE7/(AG4-AE10)","v":0.2},{"$f":"IF(AF7=0,0,(AF7*((LOG(AF7))/LOG(2))))","v":-0.46438561897747244},null,{"$f":"N7","v":111},{"$f":"COUNTIF(L99:L129,AI7)","v":6},{"$f":"AJ7/(AL4-AJ10)","v":0.2},{"$f":"IF(AK7=0,0,(AK7*((LOG(AK7))/LOG(2))))","v":-0.46438561897747244},null,{"$f":"N7","v":111},{"$f":"COUNTIF(L130:L160,AN7)","v":1},{"$f":"AO7/(AQ4-AO10)","v":3.2258064516129031E-2},{"$f":"IF(AP7=0,0,(AP7*((LOG(AP7))/LOG(2))))","v":-0.15981278420602821},null,{"$f":"N7","v":111},{"$f":"COUNTIF(L161:L191,AS7)","v":6},{"$f":"AT7/(AV4-AT10)","v":0.19354838709677419},{"$f":"IF(AU7=0,0,(AU7*((LOG(AU7))/LOG(2))))","v":-0.45856138251594558}]
[11,138,12,140,14,143,null,null,null,null,0,111,null,112,{"$f":"COUNTIF($L$7:$L$500,N8)","v":4},{"$f":"O8/$Q$4","v":2.1621621621621623E-2},{"$f":"IF(P8=0,0,(P8*((LOG(P8))/LOG(2))))","v":-0.11959743698413648},null,null,{"$f":"N8","v":112},{"$f":"COUNTIF(L7:L37,T8)","v":0},{"$f":"U8/(W4-U10)","v":0},{"$f":"IF(V8=0,0,(V8*((LOG(V8))/LOG(2))))","v":0},null,{"$f":"N8","v":112},{"$f":"COUNTIF(L38:L68,Y8)","v":0},{"$f":"Z8/(AB4-Z10)","v":0},{"$f":"IF(AA8=0,0,(AA8*((LOG(AA8))/LOG(2))))","v":0},null,{"$f":"N8","v":112},{"$f":"COUNTIF(L69:L98,AD8)","v":1},{"$f":"AE8/(AG4-AE10)","v":3.3333333333333333E-2},{"$f":"IF(AF8=0,0,(AF8*((LOG(AF8))/LOG(2))))","v":-0.16356301985361729},null,{"$f":"N8","v":112},{"$f":"COUNTIF(L99:L129,AI8)","v":0},{"$f":"AJ8/(AL4-AJ10)","v":0},{"$f":"IF(AK8=0,0,(AK8*((LOG(AK8))/LOG(2))))","v":0},null,{"$f":"N8","v":112},{"$f":"COUNTIF(L130:L160,AN8)","v":2},{"$f":"AO8/(AQ4-AO10)","v":6.4516129032258063E-2},{"$f":"IF(AP8=0,0,(AP8*((LOG(AP8))/LOG(2))))","v":-0.25510943937979835},null,{"$f":"N8","v":112},{"$f":"COUNTIF(L161:L191,AS8)","v":1},{"$f":"AT8/(AV4-AT10)","v":3.2258064516129031E-2},{"$f":"IF(AU8=0,0,(AU8*((LOG(AU8))/LOG(2))))","v":-0.15981278420602821}]
[11,252,12,257,14,262,null,null,null,null,0,111,null,121,{"$f":"COUNTIF($L$7:$L$500,N9)","v":1},{"$f":"O9/$Q$4","v":5.4054054054054057E-3},{"$f":"IF(P9=0,0,(P9*((LOG(P9))/LOG(2))))","v":-4.0710170056844928E-2},null,null,{"$f":"N9","v":121},{"$f":"COUNTIF(L7:L37,T9)","v":0},{"$f":"U9/(W4-U10)","v":0},{"$f":"IF(V9=0,0,(V9*((LOG(V9))/LOG(2))))","v":0},null,{"$f":"N9","v":121},{"$f":"COUNTIF(L38:L68,Y9)","v":0},{"$f":"Z9/(AB4-Z10)","v":0},{"$f":"IF(AA9=0,0,(AA9*((LOG(AA9))/LOG(2))))","v":0},null,{"$f":"N9","v":121},{"$f":"COUNTIF(L69:L98,AD9)","v":1},{"$f":"AE9/(AG4-AE10)","v":3.3333333333333333E-2},{"$f":"IF(AF9=0,0,(AF9*((LOG(AF9))/LOG(2))))","v":-0.16356301985361729},null,{"$f":"N9","v":121},{"$f":"COUNTIF(L99:L129,AI9)","v":0},{"$f":"AJ9/(AL4-AJ10)","v":0},{"$f":"IF(AK9=0,0,(AK9*((LOG(AK9))/LOG(2))))","v":0},null,{"$f":"N9","v":121},{"$f":"COUNTIF(L130:L160,AN9)","v":0},{"$f":"AO9/(AQ4-AO10)","v":0},{"$f":"IF(AP9=0,0,(AP9*((LOG(AP9))/LOG(2))))","v":0},null,{"$f":"N9","v":121},{"$f":"COUNTIF(L161:L191,AS9)","v":0},{"$f":"AT9/(AV4-AT10)","v":0},{"$f":"IF(AU9=0,0,(AU9*((LOG(AU9))/LOG(2))))","v":0}]
[11,367,12,371,14,381,null,null,null,null,0,111,null,122,{"$f":"COUNTIF($L$7:$L$500,N10)","v":1},{"$f":"O10/$Q$4","v":5.4054054054054057E-3},{"$f":"IF(P10=0,0,(P10*((LOG(P10))/LOG(2))))","v":-4.0710170056844928E-2},null,null,{"$f":"N10","v":122},{"$f":"COUNTIF(L7:L37,T10)","v":0},null,null,null,{"$f":"N10","v":122},{"$f":"COUNTIF(L38:L68,Y10)","v":0},null,null,null,{"$f":"N10","v":122},{"$f":"COUNTIF(L69:L98,AD10)","v":0},null,null,null,{"$f":"N10","v":122},{"$f":"COUNTIF(L99:L129,AI10)","v":1},null,null,null,{"$f":"N10","v":122},{"$f":"COUNTIF(L130:L160,AN10)","v":0},null,null,null,{"$f":"N10","v":122},{"$f":"COUNTIF(L161:L191,AS10)","v":0}]
[22,477,14,482,14,484,null,null,null,null,0,211,null,211,{"$f":"COUNTIF($L$7:$L$500,N11)","v":57},{"$f":"O11/$Q$4","v":0.30810810810810813},{"$f":"IF(P11=0,0,(P11*((LOG(P11))/LOG(2))))","v":-0.52331898617318662},null,null,{"$f":"N11","v":211},{"$f":"COUNTIF(L7:L37,T11)","v":16},{"$f":"U11/(W4-U10)","v":0.5161290322580645},{"$f":"IF(V11=0,0,(V11*((LOG(V11))/LOG(2))))","v":-0.49248841826419365},null,{"$f":"N11","v":211},{"$f":"COUNTIF(L38:L68,Y11)","v":12},{"$f":"Z11/(AB4-Z10)","v":0.38709677419354838},{"$f":"IF(AA11=0,0,(AA11*((LOG(AA11))/LOG(2))))","v":-0.5300259908383429},null,{"$f":"N11","v":211},{"$f":"COUNTIF(L69:L98,AD11)","v":9},{"$f":"AE11/(AG4-AE10)","v":0.3},{"$f":"IF(AF11=0,0,(AF11*((LOG(AF11))/LOG(2))))","v":-0.52108967824986185},null,{"$f":"N11","v":211},{"$f":"COUNTIF(L99:L129,AI11)","v":6},{"$f":"AJ11/(AL4-AJ10)","v":0.2},{"$f":"IF(AK11=0,0,(AK11*((LOG(AK11))/LOG(2))))","v":-0.46438561897747244},null,{"$f":"N11","v":211},{"$f":"COUNTIF(L130:L160,AN11)","v":5},{"$f":"AO11/(AQ4-AO10)","v":0.16129032258064516},{"$f":"IF(AP11=0,0,(AP11*((LOG(AP11))/LOG(2))))","v":-0.42455938959669559},null,{"$f":"N11","v":211},{"$f":"COUNTIF(L161:L191,AS11)","v":9},{"$f":"AT11/(AV4-AT10)","v":0.29032258064516131},{"$f":"IF(AU11=0,0,(AU11*((LOG(AU11))/LOG(2))))","v":-0.5180142509839053}]
[11,587,12,593,14,598,null,null,null,null,0,111,null,212,{"$f":"COUNTIF($L$7:$L$500,N12)","v":0},{"$f":"O12/$Q$4","v":0},{"$f":"IF(P12=0,0,(P12*((LOG(P12))/LOG(2))))","v":0},null,null,{"$f":"N12","v":212},{"$f":"COUNTIF(L7:L37,T12)","v":0},{"$f":"U12/(W4-U10)","v":0},{"$f":"IF(V12=0,0,(V12*((LOG(V12))/LOG(2))))","v":0},null,{"$f":"N12","v":212},{"$f":"COUNTIF(L38:L68,Y12)","v":0},{"$f":"Z12/(AB4-Z10)","v":0},{"$f":"IF(AA12=0,0,(AA12*((LOG(AA12))/LOG(2))))","v":0},null,{"$f":"N12","v":212},{"$f":"COUNTIF(L69:L98,AD12)","v":0},{"$f":"AE12/(AG4-AE10)","v":0},{"$f":"IF(AF12=0,0,(AF12*((LOG(AF12))/LOG(2))))","v":0},null,{"$f":"N12","v":212},{"$f":"COUNTIF(L99:L129,AI12)","v":0},{"$f":"AJ12/(AL4-AJ10)","v":0},{"$f":"IF(AK12=0,0,(AK12*((LOG(AK12))/LOG(2))))","v":0},null,{"$f":"N12","v":212},{"$f":"COUNTIF(L130:L160,AN12)","v":0},{"$f":"AO12/(AQ4-AO10)","v":0},{"$f":"IF(AP12=0,0,(AP12*((LOG(AP12))/LOG(2))))","v":0},null,{"$f":"N12","v":212},{"$f":"COUNTIF(L161:L191,AS12)","v":0},{"$f":"AT12/(AV4-AT10)","v":0},{"$f":"IF(AU12=0,0,(AU12*((LOG(AU12))/LOG(2))))","v":0}]
[11,704,12,707,14,717,null,null,null,null,0,111,null,221,{"$f":"COUNTIF($L$7:$L$500,N13)","v":26},{"$f":"O13/$Q$4","v":0.14054054054054055},{"$f":"IF(P13=0,0,(P13*((LOG(P13))/LOG(2))))","v":-0.39786208271219314},null,null,{"$f":"N13","v":221},{"$f":"COUNTIF(L7:L37,T13)","v":1},{"$f":"U13/(W4-U10)","v":3.2258064516129031E-2},{"$f":"IF(V13=0,0,(V13*((LOG(V13))/LOG(2))))","v":-0.15981278420602821},null,{"$f":"N13","v":221},{"$f":"COUNTIF(L38:L68,Y13)","v":4},{"$f":"Z13/(AB4-Z10)","v":0.12903225806451613},{"$f":"IF(AA13=0,0,(AA13*((LOG(AA13))/LOG(2))))","v":-0.38118662069508069},null,{"$f":"N13","v":221},{"$f":"COUNTIF(L69:L98,AD13)","v":2},{"$f":"AE13/(AG4-AE10)","v":6.6666666666666666E-2},{"$f":"IF(AF13=0,0,(AF13*((LOG(AF13))/LOG(2))))","v":-0.26045937304056793},null,{"$f":"N13","v":221},{"$f":"COUNTIF(L99:L129,AI13)","v":4},{"$f":"AJ13/(AL4-AJ10)","v":0.13333333333333333},{"$f":"IF(AK13=0,0,(AK13*((LOG(AK13))/LOG(2))))","v":-0.3875854127478025},null,{"$f":"N13","v":221},{"$f":"COUNTIF(L130:L160,AN13)","v":8},{"$f":"AO13/(AQ4-AO10)","v":0.25806451612903225},{"$f":"IF(AP13=0,0,(AP13*((LOG(AP13))/LOG(2))))","v":-0.50430872526112902},null,{"$f":"N13","v":221},{"$f":"COUNTIF(L161:L191,AS13)","v":7},{"$f":"AT13/(AV4-AT10)","v":0.22580645161290322},{"$f":"IF(AU13=0,0,(AU13*((LOG(AU13))/LOG(2))))","v":-0.48477063607435156}]
[11,834,12,838,14,843,null,null,null,null,0,111,null,222,{"$f":"COUNTIF($L$7:$L$500,N14)","v":57},{"$f":"O14/$Q$4","v":0.30810810810810813},{"$f":"IF(P14=0,0,(P14*((LOG(P14))/LOG(2))))","v":-0.52331898617318662},null,null,{"$f":"N14","v":222},{"$f":"COUNTIF(L7:L37,T14)","v":0},{"$f":"U14/(W4-U10)","v":0},{"$f":"IF(V14=0,0,(V14*((LOG(V14))/LOG(2))))","v":0},null,{"$f":"N14","v":222},{"$f":"COUNTIF(L38:L68,Y14)","v":9},{"$f":"Z14/(AB4-Z10)","v":0.29032258064516131},{"$f":"IF(AA14=0,0,(AA14*((LOG(AA14))/LOG(2))))","v":-0.5180142509839053},null,{"$f":"N14","v":222},{"$f":"COUNTIF(L69:L98,AD14)","v":11},{"$f":"AE14/(AG4-AE10)","v":0.36666666666666664},{"$f":"IF(AF14=0,0,(AF14*((LOG(AF14))/LOG(2))))","v":-0.53073495822278116},null,{"$f":"N14","v":222},{"$f":"COUNTIF(L99:L129,AI14)","v":14},{"$f":"AJ14/(AL4-AJ10)","v":0.46666666666666667},{"$f":"IF(AK14=0,0,(AK14*((LOG(AK14))/LOG(2))))","v":-0.51311664765709342},null,{"$f":"N14","v":222},{"$f":"COUNTIF(L130:L160,AN14)","v":15},{"$f":"AO14/(AQ4-AO10)","v":0.4838709677419355},{"$f":"IF(AP14=0,0,(AP14*((LOG(AP14))/LOG(2))))","v":-0.50676082973146286},null,{"$f":"N14","v":222},{"$f":"COUNTIF(L161:L191,AS14)","v":8},{"$f":"AT14/(AV4-AT10)","v":0.25806451612903225},{"$f":"IF(AU14=0,0,(AU14*((LOG(AU14))/LOG(2))))","v":-0.50430872526112902}]
[22,939,14,951,14,955,null,null,null,null,0,211,null,null,null,{"$f":"SUM(P7:P14)","v":1},{"$f":"-SUM(Q7:Q14)","v":2.1189945371537355},null,null,null,null,{"$f":"SUM(V7:V14)","v":1},{"$f":"-SUM(W7:W14)","v":1.1702295713931186},null,null,null,{"$f":"SUM(AA7:AA14)","v":1},{"$f":"-SUM(AB7:AB14)","v":1.8877882450332746},null,null,null,{"$f":"SUM(AF7:AF14)","v":1},{"$f":"-SUM(AG7:AG14)","v":2.1037956681979182},null,null,null,{"$f":"SUM(AK7:AK14)","v":1},{"$f":"-SUM(AL7:AL14)","v":1.8294732983598407},null,null,null,{"$f":"SUM(AP7:AP14)","v":1},{"$f":"-SUM(AQ7:AQ14)","v":1.8505511681751141},null,null,null,{"$f":"SUM(AU7:AU14)","v":1},{"$f":"-SUM(AV7:AV14)","v":2.1254677790413594}]
[11,1072,12,1077,14,1081,null,null,null,null,0,111,null,null,null,"U=",{"$f":"Q15/(LOG(Q4)/LOG(2))","v":0.28135535934047196},null,null,null,null,"U1=",{"$f":"W15/(LOG(W4)/LOG(2))","v":0.2362097700770632},null,null,null,"U2=",{"$f":"AB15/(LOG(AB4)/LOG(2))","v":0.38104833292039181},null,null,null,"U3=",{"$f":"AG15/(LOG(AG4)/LOG(2))","v":0.42874313726919766},null,null,null,"U4=",{"$f":"AL15/(LOG(AL4)/LOG(2))","v":0.36927751420027533},null,null,null,"U5=",{"$f":"AQ15/(LOG(AQ4)/LOG(2))","v":0.37353206296958463},null,null,null,"U6=",{"$f":"AV15/(LOG(AV4)/LOG(2))","v":0.42902372975918285}]
[11,1194,12,1199,14,1205,null,null,null,null,0,111]
[22,1301,14,1313,14,1318,null,null,null,null,0,211]
[22,1415,14,1438,14,1442,null,null,null,null,0,211,null,"Total Target Seq"]
[22,1539,14,1550,14,1558,null,null,null,null,0,211,null,{"$f":"COUNTIF(L7:L191,G3)","v":1},null,31,31,30,31,31,31]
[22,1657,14,1672,14,1676,null,null,null,null,0,211,null,null,null,"% of reinforcement given in 6 equal intervals based on number of trials "]
[22,1773,14,1786,14,1791,null,null,null,null,0,211,null,null,null,"%_1","%_2","%_3","%_4","%_5","%_6"]
[22,1887,14,1898,14,1902,null,null,null,null,0,211,null,null,"target sequence",{"$f":"$G$3","v":122},{"$f":"$G$3","v":122},{"$f":"$G$3","v":122},{"$f":"$G$3","v":122},{"$f":"$G$3","v":122},{"$f":"$G$3","v":122}]
[22,2000,23,2003,14,2020,null,null,null,null,0,221,null,null,"total reinforcement",{"$f":"U10","v":0},{"$f":"Z10","v":0},{"$f":"AE10","v":0},{"$f":"AJ10","v":1},{"$f":"AO10","v":0},{"$f":"AT10","v":0}]
[11,2148,12,2151,14,2161,null,null,null,null,0,111,null,null,"% target"]
[11,2266,12,2269,14,2275,null,null,null,null,0,111,null,null,"CCRF"]
[11,2378,12,2381,14,2386,null,null,null,null,0,111,null,null,"% CCRf"]
[11,2499,12,2502,14,2507,null,null,null,null,0,111,null,null,"average response rate",{"$f":"F37/P20","v":113.6774193548387},{"$f":"(F68-F37)/Q20","v":113.03225806451613},{"$f":"(F98-F68)/R20","v":140.13333333333333},{"$f":"(F129-F98)/S20","v":123.16129032258064},{"$f":"(F160-F129)/T20","v":145.09677419354838},{"$f":"(F191-F160)/U20","v":141}]
[22,2604,14,2618,14,2628,null,null,null,null,0,211]
[22,2741,14,2745,14,2749,null,null,null,null,0,211]
[22,2847,14,2857,14,2860,null,null,null,null,0,211]
[11,2965,12,2969,14,2975,null,null,null,null,0,111]
[22,3071,14,3080,14,3084,null,null,null,null,0,211]
[22,3185,14,3192,14,3202,null,null,null,null,0,211]
[22,3297,14,3308,14,3311,null,null,null,null,0,211]
[22,3409,14,3416,14,3419,null,null,null,null,0,211]
[22,3514,14,3521,14,3524,null,null,null,null,0,211]
[22,3618,14,3628,14,3631,null,null,null,null,0,211]
[22,3727,23,3741,23,3744,null,null,null,null,0,222]
[22,3841,14,3848,14,3851,null,null,null,null,0,211]
[22,3946,14,3954,14,3960,null,null,null,null,0,211]
[11,4071,12,4074,14,4080,null,null,null,null,0,111]
[22,4177,23,4184,14,4193,null,null,null,null,0,221]
[22,4285,23,4288,14,4298,null,null,null,null,0,221]
[22,4395,23,4407,23,4411,null,null,null,null,0,222]
[11,4520,12,4525,14,4530,null,null,null,null,0,111]
[22,4626,23,4632,23,4641,null,null,null,null,0,222]
[22,4739,14,4749,14,4753,null,null,null,null,0,211]
[22,4849,23,4863,23,4865,null,null,null,null,0,222]
[22,4961,14,4972,14,4981,null,null,null,null,0,211]
[22,5079,23,5082,23,5085,null,null,null,null,0,222]
[22,5182,14,5198,14,5205,null,null,null,null,0,211]
[22,5301,14,5312,14,5316,null,null,null,null,0,211]
[22,5414,23,5420,23,5425,null,null,null,null,0,222]
[22,5520,14,5530,14,5534,null,null,null,null,0,211]
[22,5634,23,5637,23,5653,null,null,null,null,0,222]
[11,5757,12,5759,14,5763,null,null,null,null,0,111]
[22,5861,23,5872,23,5884,null,null,null,null,0,222]
[22,5982,14,5995,14,6000,null,null,null,null,0,211]
[22,6094,23,6097,14,6104,null,null,null,null,0,221]
[22,6201,14,6223,14,6228,null,null,null,null,0,211]
[22,6326,23,6330,23,6338,null,null,null,null,0,222]
[22,6436,14,6447,14,6450,null,null,null,null,0,211]
[11,6564,12,6567,14,6571,null,null,null,null,0,111]
[11,6681,12,6686,14,6690,null,null,null,null,0,111]
[22,6787,14,6793,14,6796,null,null,null,null,0,211]
[11,6907,12,6911,14,6919,null,null,null,null,0,111]
[22,7013,23,7015,14,7028,null,null,null,null,0,221]
[22,7124,23,7130,23,7133,null,null,null,null,0,222]
[22,7246,23,7253,23,7260,null,null,null,null,0,222]
[22,7356,14,7367,14,7371,null,null,null,null,0,211]
[22,7468,23,7481,23,7488,null,null,null,null,0,222]
[11,7593,12,7598,14,7604,null,null,null,null,0,111]
[22,7700,14,7713,14,7724,null,null,null,null,0,211]
[11,7831,12,7834,14,7843,null,null,null,null,0,111]
[22,7940,23,7943,23,7948,null,null,null,null,0,222]
[11,8082,12,8089,14,8099,null,null,null,null,0,111]
[22,8199,23,8207,23,8213,null,null,null,null,0,222]
[22,8309,14,8320,14,8324,null,null,null,null,0,211]
[11,8430,12,8436,14,8440,null,null,null,null,0,111]
[22,8537,14,8553,14,8560,null,null,null,null,0,211]
[22,8661,14,8675,14,8679,null,null,null,null,0,211]
[22,8777,23,8784,23,8789,null,null,null,null,0,222]
[22,8888,14,8902,14,8907,null,null,null,null,0,211]
[22,9005,23,9008,23,9016,null,null,null,null,0,222]
[22,9121,14,9140,14,9143,null,null,null,null,0,211]
[22,9285,14,9295,14,9299,null,null,null,null,0,211]
[22,9396,14,9405,14,9412,null,null,null,null,0,211]
[22,9509,23,9513,14,9525,null,null,null,null,0,221]
[22,9621,23,9625,14,9633,null,null,null,null,0,221]
[11,10098,12,10106,23,10127,null,null,null,null,0,112]
[22,10269,23,10272,23,10280,null,null,null,null,0,222]
[22,10376,23,10394,23,10399,null,null,null,null,0,222]
[22,10500,23,10505,23,10509,null,null,null,null,0,222]
[22,10669,23,10690,23,10693,null,null,null,null,0,222]
[11,10810,12,10815,14,10820,null,null,null,null,0,111]
[11,10955,21,10973,12,10989,null,null,null,null,0,121]
[11,11221,12,11227,14,11232,null,null,null,null,0,111]
[11,11344,12,11347,14,11352,null,null,null,null,0,111]
[22,11517,23,11581,23,11589,null,null,null,null,0,222]
[22,11697,14,11709,14,11714,null,null,null,null,0,211]
[11,11983,21,11992,21,11995,null,null,null,null,0,122]
[22,12095,14,12101,14,12105,null,null,null,null,0,211]
[22,12201,23,12204,23,12209,null,null,null,null,0,222]
[11,12326,12,12329,14,12333,null,null,null,null,0,111]
[22,12431,23,12437,14,12452,null,null,null,null,0,221]
[22,12548,14,12560,14,12564,null,null,null,null,0,211]
[22,12663,23,12667,14,12678,null,null,null,null,0,221]
[22,12774,23,12778,14,12789,null,null,null,null,0,221]
[22,12886,23,12889,23,12921,null,null,null,null,0,222]
[22,13030,14,13041,14,13045,null,null,null,null,0,211]
[22,13141,23,13145,14,13155,null,null,null,null,0,221]
[22,13256,23,13259,23,13264,null,null,null,null,0,222]
[11,13375,12,13379,14,13387,null,null,null,null,0,111]
[22,13485,23,13488,23,13493,null,null,null,null,0,222]
[22,13591,23,13595,23,13599,null,null,null,null,0,222]
[11,13703,12,13705,14,13710,null,null,null,null,0,111]
[22,13807,23,13813,23,13816,null,null,null,null,0,222]
[22,13915,23,13918,23,13925,null,null,null,null,0,222]
[22,14022,23,14028,23,14034,null,null,null,null,0,222]
[22,14131,23,14136,23,14140,null,null,null,null,0,222]
[22,14237,14,14253,14,14257,null,null,null,null,0,211]
[22,14354,14,14370,14,14374,null,null,null,null,0,211]
[22,14471,23,14473,23,14478,null,null,null,null,0,222]
[22,14578,23,14600,23,14604,null,null,null,null,0,222]
[22,14702,23,14705,23,14714,null,null,null,null,0,222]
[11,14817,12,14822,14,14826,null,null,null,null,0,111]
[22,14926,23,14929,23,14933,null,null,null,null,0,222]
[11,15038,12,15042,14,15050,null,null,null,null,0,111]
[22,15152,14,15160,14,15164,null,null,null,null,0,211]
[22,15262,23,15265,14,15275,null,null,null,null,0,221]
[22,15372,23,15375,23,15380,null,null,null,null,0,222]
[22,15485,14,15493,14,15496,null,null,null,null,0,211]
[22,15597,23,15600,14,15608,null,null,null,null,0,221]
[22,15722,23,15727,23,15735,null,null,null,null,0,222]
[11,15853,12,15857,23,15860,null,null,null,null,0,112]
[22,15974,14,15986,14,15995,null,null,null,null,0,211]
[11,16115,12,16122,14,16127,null,null,null,null,0,111]
[22,16226,23,16232,23,16243,null,null,null,null,0,222]
[22,16342,23,16349,14,16359,null,null,null,null,0,221]
[22,16456,23,16460,14,16470,null,null,null,null,0,221]
[22,16569,23,16572,14,16582,null,null,null,null,0,221]
[22,16693,23,16696,23,16702,null,null,null,null,0,222]
[22,16800,23,16805,14,16815,null,null,null,null,0,221]
[22,16912,23,16915,23,16921,null,null,null,null,0,222]
[22,17016,23,17018,14,17032,null,null,null,null,0,221]
[22,17131,23,17135,23,17139,null,null,null,null,0,222]
[22,17391,23,17398,23,17402,null,null,null,null,0,222]
[22,17495,23,17504,23,17508,null,null,null,null,0,222]
[22,17609,23,17612,23,17616,null,null,null,null,0,222]
[22,17716,23,17718,23,17723,null,null,null,null,0,222]
[11,17832,12,17835,23,17838,null,null,null,null,0,112]
[22,17937,23,17942,23,17947,null,null,null,null,0,222]
[22,18050,23,18054,23,18061,null,null,null,null,0,222]
[22,18161,23,18166,23,18170,null,null,null,null,0,222]
[22,18268,14,18282,14,18286,null,null,null,null,0,211]
[22,18383,23,18390,23,18395,null,null,null,null,0,222]
[22,18496,14,18512,14,18517,null,null,null,null,0,211]
[22,18611,23,18613,14,18629,null,null,null,null,0,221]
[22,19538,23,19542,23,19548,null,null,null,null,0,222]
[22,19663,14,19675,14,19680,null,null,null,null,0,211]
[22,19777,14,19804,14,19810,null,null,null,null,0,211]
[22,19955,23,19969,23,19971,null,null,null,null,0,222]
[22,20067,23,20071,23,20084,null,null,null,null,0,222]
[22,20551,14,20561,14,20565,null,null,null,null,0,211]
[11,20677,12,20682,14,20687,null,null,null,null,0,111]
[22,20837,23,20855,23,20863,null,null,null,null,0,222]
[11,20972,12,20976,14,20980,null,null,null,null,0,111]
[22,21079,14,21106,14,21110,null,null,null,null,0,211]
[22,21213,14,21240,14,21243,null,null,null,null,0,211]
[22,21342,14,21363,14,21367,null,null,null,null,0,211]
[22,21466,23,21472,14,21488,null,null,null,null,0,221]
[11,21610,12,21614,14,21623,null,null,null,null,0,111]
[22,21752,14,21771,14,21776,null,null,null,null,0,211]
[22,21880,23,21883,23,21886,null,null,null,null,0,222]
[11,22000,12,22003,14,22008,null,null,null,null,0,111]
[11,22117,12,22120,14,22125,null,null,null,null,0,111]
[22,22222,23,22228,14,22239,null,null,null,null,0,221]
[22,22357,23,22362,14,22373,null,null,null,null,0,221]
[22,22469,23,22473,23,22496,null,null,null,null,0,222]
[22,22590,14,22604,14,22607,null,null,null,null,0,211]
[22,22704,23,22719,14,22723,null,null,null,null,0,221]
[22,22820,23,22825,14,22840,null,null,null,null,0,221]
[11,23048,12,23053,23,23062,null,null,null,null,0,112]
[11,23168,12,23171,14,23177,null,null,null,null,0,111]
[22,23277,23,23281,14,23309,null,null,null,null,0,221]
[22,23406,23,23410,14,23428,null,null,null,null,0,221]
[22,23527,23,23531,23,23535,null,null,null,null,0,222]
[22,23653,23,23657,23,23661,null,null,null,null,0,222]
[22,23756,14,23771,14,23776,null,null,null,null,0,211]
[22,23908,23,23915,23,23919,null,null,null,null,null,222]

{"sheet":"!LB10A53..Ta","index":4,"n_rows":192,"n_cols":48,"rows_kept":192,"cut":false,"hidden":false,"merged":[[4,39,4,42],[5,39,5,40],[4,44,4,47],[5,44,5,45],[4,24,4,27],[5,24,5,25],[4,29,4,32],[5,29,5,30],[4,34,4,37],[5,34,5,35],[1,1,1,2],[5,13,5,14],[18,13,18,14],[19,13,19,14],[4,19,4,22],[5,19,5,20]]}
["Report for:!LB10A53..Ta"]
["Date:","<date>"]
["Hen:","<hen>",null,null,null,"Correct Sequence",{"$f":"Start!J2","v":122},null,null,null,null,null,null,null,null,"Total Sequences in Data",{"$f":"4994-COUNTBLANK(L7:L5000)","v":186},null,null,null,null,"Total Sequences in Block Data",{"$f":"COUNTA(L7:L37)","v":31},null,null,null,"Total Sequences in Block Data",{"$f":"COUNTA(L38:L68)","v":31},null,null,null,"Total Sequences in Block Data",{"$f":"COUNTA(L69:L99)","v":31},null,null,null,"Total Sequences in Block Data",{"$f":"COUNTA(L100:L130)","v":31},null,null,null,"Total Sequences in Block Data",{"$f":"COUNTA(L131:L161)","v":31},null,null,null,"Total Sequences in Block Data",{"$f":"COUNTA(L162:L192)","v":31}]
[null,null,null,null,null,null,null,null,null,null,null,null,null,null,null,"Total Sequences in Summary",{"$f":"SUM(O7:O14)","v":186},null,null,null,null,"Total Sequences in Block Summary",{"$f":"SUM(U7:U14)","v":31},null,null,null,"Total Sequences in Block Summary",{"$f":"SUM(Z7:Z14)","v":31},null,null,null,"Total Sequences in Block Summary",{"$f":"SUM(AE7:AE14)","v":31},null,null,null,"Total Sequences in Block Summary",{"$f":"SUM(AJ7:AJ14)","v":31},null,null,null,"Total Sequences in Block Summary",{"$f":"SUM(AO7:AO14)","v":31},null,null,null,"Total Sequences in Block Summary",{"$f":"SUM(AT7:AT14)","v":31}]
[null,null,null,null,null,null,null,null,null,null,null,null,null,null,null,null,null,null,null,"Block 1",null,null,null,null,"Block 2",null,null,null,null,"Block 3",null,null,null,null,"Block 4",null,null,null,null,"Block 5",null,null,null,null,"Block 6"]
["Sequence\nComponent\n1","Time\n1","Sequence\nComponent\n2","Time\n2","Sequence\nComponent\n3","Time\n3","Sequence\nComponent\n4","Time\n4","Sequence\nComponent\n5","Time\n5","Correct?\n0=No 1=Yes","Sequence",null,"Frequency",null,"Relative Frequency","Variability",null,null,"Frequency",null,"Relative Frequency","Variability",null,"Frequency",null,"Relative Frequency","Variability",null,"Frequency",null,"Relative Frequency","Variability",null,"Frequency",null,"Relative Frequency","Variability",null,"Frequency",null,"Relative Frequency","Variability",null,"Frequency",null,"Relative Frequency","Variability"]
[22,4,14,15,14,18,null,null,null,null,0,211,null,111,{"$f":"COUNTIF($L$7:$L$500,N7)","v":36},{"$f":"O7/$Q$4","v":0.19354838709677419},{"$f":"IF(P7=0,0,(P7*((LOG(P7))/LOG(2))))","v":-0.45856138251594558},null,null,{"$f":"N7","v":111},{"$f":"COUNTIF(L7:L37,T7)","v":6},{"$f":"U7/(W4-U10)","v":0.19354838709677419},{"$f":"IF(V7=0,0,(V7*((LOG(V7))/LOG(2))))","v":-0.45856138251594558},null,{"$f":"N7","v":111},{"$f":"COUNTIF(L38:L68,Y7)","v":14},{"$f":"Z7/(AB4-Z10)","v":0.45161290322580644},{"$f":"IF(AA7=0,0,(AA7*((LOG(AA7))/LOG(2))))","v":-0.51792836892289662},null,{"$f":"N7","v":111},{"$f":"COUNTIF(L69:L99,AD7)","v":3},{"$f":"AE7/(AG4-AE10)","v":0.10344827586206896},{"$f":"IF(AF7=0,0,(AF7*((LOG(AF7))/LOG(2))))","v":-0.33858812011100858},null,{"$f":"N7","v":111},{"$f":"COUNTIF(L100:L130,AI7)","v":2},{"$f":"AJ7/(AL4-AJ10)","v":6.6666666666666666E-2},{"$f":"IF(AK7=0,0,(AK7*((LOG(AK7))/LOG(2))))","v":-0.26045937304056793},null,{"$f":"N7","v":111},{"$f":"COUNTIF(L131:L161,AN7)","v":2},{"$f":"AO7/(AQ4-AO10)","v":6.4516129032258063E-2},{"$f":"IF(AP7=0,0,(AP7*((LOG(AP7))/LOG(2))))","v":-0.25510943937979835},null,{"$f":"N7","v":111},{"$f":"COUNTIF(L162:L192,AS7)","v":9},{"$f":"AT7/(AV4-AT10)","v":0.29032258064516131},{"$f":"IF(AU7=0,0,(AU7*((LOG(AU7))/LOG(2))))","v":-0.5180142509839053}]
[22,117,14,125,14,128,null,null,null,null,0,211,null,112,{"$f":"COUNTIF($L$7:$L$500,N8)","v":1},{"$f":"O8/$Q$4","v":5.3763440860215058E-3},{"$f":"IF(P8=0,0,(P8*((LOG(P8))/LOG(2))))","v":-4.0533111887677595E-2},null,null,{"$f":"N8","v":112},{"$f":"COUNTIF(L7:L37,T8)","v":1},{"$f":"U8/(W4-U10)","v":3.2258064516129031E-2},{"$f":"IF(V8=0,0,(V8*((LOG(V8))/LOG(2))))","v":-0.15981278420602821},null,{"$f":"N8","v":112},{"$f":"COUNTIF(L38:L68,Y8)","v":0},{"$f":"Z8/(AB4-Z10)","v":0},{"$f":"IF(AA8=0,0,(AA8*((LOG(AA8))/LOG(2))))","v":0},null,{"$f":"N8","v":112},{"$f":"COUNTIF(L69:L99,AD8)","v":0},{"$f":"AE8/(AG4-AE10)","v":0},{"$f":"IF(AF8=0,0,(AF8*((LOG(AF8))/LOG(2))))","v":0},null,{"$f":"N8","v":112},{"$f":"COUNTIF(L100:L130,AI8)","v":0},{"$f":"AJ8/(AL4-AJ10)","v":0},{"$f":"IF(AK8=0,0,(AK8*((LOG(AK8))/LOG(2))))","v":0},null,{"$f":"N8","v":112},{"$f":"COUNTIF(L131:L161,AN8)","v":0},{"$f":"AO8/(AQ4-AO10)","v":0},{"$f":"IF(AP8=0,0,(AP8*((LOG(AP8))/LOG(2))))","v":0},null,{"$f":"N8","v":112},{"$f":"COUNTIF(L162:L192,AS8)","v":0},{"$f":"AT8/(AV4-AT10)","v":0},{"$f":"IF(AU8=0,0,(AU8*((LOG(AU8))/LOG(2))))","v":0}]
[22,226,23,232,14,239,null,null,null,null,0,221,null,121,{"$f":"COUNTIF($L$7:$L$500,N9)","v":2},{"$f":"O9/$Q$4","v":1.0752688172043012E-2},{"$f":"IF(P9=0,0,(P9*((LOG(P9))/LOG(2))))","v":-7.0313535603312161E-2},null,null,{"$f":"N9","v":121},{"$f":"COUNTIF(L7:L37,T9)","v":0},{"$f":"U9/(W4-U10)","v":0},{"$f":"IF(V9=0,0,(V9*((LOG(V9))/LOG(2))))","v":0},null,{"$f":"N9","v":121},{"$f":"COUNTIF(L38:L68,Y9)","v":0},{"$f":"Z9/(AB4-Z10)","v":0},{"$f":"IF(AA9=0,0,(AA9*((LOG(AA9))/LOG(2))))","v":0},null,{"$f":"N9","v":121},{"$f":"COUNTIF(L69:L99,AD9)","v":0},{"$f":"AE9/(AG4-AE10)","v":0},{"$f":"IF(AF9=0,0,(AF9*((LOG(AF9))/LOG(2))))","v":0},null,{"$f":"N9","v":121},{"$f":"COUNTIF(L100:L130,AI9)","v":0},{"$f":"AJ9/(AL4-AJ10)","v":0},{"$f":"IF(AK9=0,0,(AK9*((LOG(AK9))/LOG(2))))","v":0},null,{"$f":"N9","v":121},{"$f":"COUNTIF(L131:L161,AN9)","v":1},{"$f":"AO9/(AQ4-AO10)","v":3.2258064516129031E-2},{"$f":"IF(AP9=0,0,(AP9*((LOG(AP9))/LOG(2))))","v":-0.15981278420602821},null,{"$f":"N9","v":121},{"$f":"COUNTIF(L162:L192,AS9)","v":1},{"$f":"AT9/(AV4-AT10)","v":3.2258064516129031E-2},{"$f":"IF(AU9=0,0,(AU9*((LOG(AU9))/LOG(2))))","v":-0.15981278420602821}]
[22,339,14,346,14,349,null,null,null,null,0,211,null,122,{"$f":"COUNTIF($L$7:$L$500,N10)","v":3},{"$f":"O10/$Q$4","v":1.6129032258064516E-2},{"$f":"IF(P10=0,0,(P10*((LOG(P10))/LOG(2))))","v":-9.603542436107862E-2},null,null,{"$f":"N10","v":122},{"$f":"COUNTIF(L7:L37,T10)","v":0},null,null,null,{"$f":"N10","v":122},{"$f":"COUNTIF(L38:L68,Y10)","v":0},null,null,null,{"$f":"N10","v":122},{"$f":"COUNTIF(L69:L99,AD10)","v":2},null,null,null,{"$f":"N10","v":122},{"$f":"COUNTIF(L100:L130,AI10)","v":1},null,null,null,{"$f":"N10","v":122},{"$f":"COUNTIF(L131:L161,AN10)","v":0},null,null,null,{"$f":"N10","v":122},{"$f":"COUNTIF(L162:L192,AS10)","v":0}]
[11,479,12,489,14,503,null,null,null,null,0,111,null,211,{"$f":"COUNTIF($L$7:$L$500,N11)","v":25},{"$f":"O11/$Q$4","v":0.13440860215053763},{"$f":"IF(P11=0,0,(P11*((LOG(P11))/LOG(2))))","v":-0.38915357813619716},null,null,{"$f":"N11","v":211},{"$f":"COUNTIF(L7:L37,T11)","v":8},{"$f":"U11/(W4-U10)","v":0.25806451612903225},{"$f":"IF(V11=0,0,(V11*((LOG(V11))/LOG(2))))","v":-0.50430872526112902},null,{"$f":"N11","v":211},{"$f":"COUNTIF(L38:L68,Y11)","v":7},{"$f":"Z11/(AB4-Z10)","v":0.22580645161290322},{"$f":"IF(AA11=0,0,(AA11*((LOG(AA11))/LOG(2))))","v":-0.48477063607435156},null,{"$f":"N11","v":211},{"$f":"COUNTIF(L69:L99,AD11)","v":4},{"$f":"AE11/(AG4-AE10)","v":0.13793103448275862},{"$f":"IF(AF11=0,0,(AF11*((LOG(AF11))/LOG(2))))","v":-0.39420427519000989},null,{"$f":"N11","v":211},{"$f":"COUNTIF(L100:L130,AI11)","v":1},{"$f":"AJ11/(AL4-AJ10)","v":3.3333333333333333E-2},{"$f":"IF(AK11=0,0,(AK11*((LOG(AK11))/LOG(2))))","v":-0.16356301985361729},null,{"$f":"N11","v":211},{"$f":"COUNTIF(L131:L161,AN11)","v":2},{"$f":"AO11/(AQ4-AO10)","v":6.4516129032258063E-2},{"$f":"IF(AP11=0,0,(AP11*((LOG(AP11))/LOG(2))))","v":-0.25510943937979835},null,{"$f":"N11","v":211},{"$f":"COUNTIF(L162:L192,AS11)","v":3},{"$f":"AT11/(AV4-AT10)","v":9.6774193548387094E-2},{"$f":"IF(AU11=0,0,(AU11*((LOG(AU11))/LOG(2))))","v":-0.32605488480635986}]
[22,599,14,618,14,638,null,null,null,null,0,211,null,212,{"$f":"COUNTIF($L$7:$L$500,N12)","v":0},{"$f":"O12/$Q$4","v":0},{"$f":"IF(P12=0,0,(P12*((LOG(P12))/LOG(2))))","v":0},null,null,{"$f":"N12","v":212},{"$f":"COUNTIF(L7:L37,T12)","v":0},{"$f":"U12/(W4-U10)","v":0},{"$f":"IF(V12=0,0,(V12*((LOG(V12))/LOG(2))))","v":0},null,{"$f":"N12","v":212},{"$f":"COUNTIF(L38:L68,Y12)","v":0},{"$f":"Z12/(AB4-Z10)","v":0},{"$f":"IF(AA12=0,0,(AA12*((LOG(AA12))/LOG(2))))","v":0},null,{"$f":"N12","v":212},{"$f":"COUNTIF(L69:L99,AD12)","v":0},{"$f":"AE12/(AG4-AE10)","v":0},{"$f":"IF(AF12=0,0,(AF12*((LOG(AF12))/LOG(2))))","v":0},null,{"$f":"N12","v":212},{"$f":"COUNTIF(L100:L130,AI12)","v":0},{"$f":"AJ12/(AL4-AJ10)","v":0},{"$f":"IF(AK12=0,0,(AK12*((LOG(AK12))/LOG(2))))","v":0},null,{"$f":"N12","v":212},{"$f":"COUNTIF(L131:L161,AN12)","v":0},{"$f":"AO12/(AQ4-AO10)","v":0},{"$f":"IF(AP12=0,0,(AP12*((LOG(AP12))/LOG(2))))","v":0},null,{"$f":"N12","v":212},{"$f":"COUNTIF(L162:L192,AS12)","v":0},{"$f":"AT12/(AV4-AT10)","v":0},{"$f":"IF(AU12=0,0,(AU12*((LOG(AU12))/LOG(2))))","v":0}]
[22,737,23,741,14,751,null,null,null,null,0,221,null,221,{"$f":"COUNTIF($L$7:$L$500,N13)","v":27},{"$f":"O13/$Q$4","v":0.14516129032258066},{"$f":"IF(P13=0,0,(P13*((LOG(P13))/LOG(2))))","v":-0.40416841581453333},null,null,{"$f":"N13","v":221},{"$f":"COUNTIF(L7:L37,T13)","v":8},{"$f":"U13/(W4-U10)","v":0.25806451612903225},{"$f":"IF(V13=0,0,(V13*((LOG(V13))/LOG(2))))","v":-0.50430872526112902},null,{"$f":"N13","v":221},{"$f":"COUNTIF(L38:L68,Y13)","v":2},{"$f":"Z13/(AB4-Z10)","v":6.4516129032258063E-2},{"$f":"IF(AA13=0,0,(AA13*((LOG(AA13))/LOG(2))))","v":-0.25510943937979835},null,{"$f":"N13","v":221},{"$f":"COUNTIF(L69:L99,AD13)","v":9},{"$f":"AE13/(AG4-AE10)","v":0.31034482758620691},{"$f":"IF(AF13=0,0,(AF13*((LOG(AF13))/LOG(2))))","v":-0.52387944631611505},null,{"$f":"N13","v":221},{"$f":"COUNTIF(L100:L130,AI13)","v":2},{"$f":"AJ13/(AL4-AJ10)","v":6.6666666666666666E-2},{"$f":"IF(AK13=0,0,(AK13*((LOG(AK13))/LOG(2))))","v":-0.26045937304056793},null,{"$f":"N13","v":221},{"$f":"COUNTIF(L131:L161,AN13)","v":5},{"$f":"AO13/(AQ4-AO10)","v":0.16129032258064516},{"$f":"IF(AP13=0,0,(AP13*((LOG(AP13))/LOG(2))))","v":-0.42455938959669559},null,{"$f":"N13","v":221},{"$f":"COUNTIF(L162:L192,AS13)","v":1},{"$f":"AT13/(AV4-AT10)","v":3.2258064516129031E-2},{"$f":"IF(AU13=0,0,(AU13*((LOG(AU13))/LOG(2))))","v":-0.15981278420602821}]
[22,862,23,869,23,875,null,null,null,null,0,222,null,222,{"$f":"COUNTIF($L$7:$L$500,N14)","v":92},{"$f":"O14/$Q$4","v":0.4946236559139785},{"$f":"IF(P14=0,0,(P14*((LOG(P14))/LOG(2))))","v":-0.50233822938007366},null,null,{"$f":"N14","v":222},{"$f":"COUNTIF(L7:L37,T14)","v":8},{"$f":"U14/(W4-U10)","v":0.25806451612903225},{"$f":"IF(V14=0,0,(V14*((LOG(V14))/LOG(2))))","v":-0.50430872526112902},null,{"$f":"N14","v":222},{"$f":"COUNTIF(L38:L68,Y14)","v":8},{"$f":"Z14/(AB4-Z10)","v":0.25806451612903225},{"$f":"IF(AA14=0,0,(AA14*((LOG(AA14))/LOG(2))))","v":-0.50430872526112902},null,{"$f":"N14","v":222},{"$f":"COUNTIF(L69:L99,AD14)","v":13},{"$f":"AE14/(AG4-AE10)","v":0.44827586206896552},{"$f":"IF(AF14=0,0,(AF14*((LOG(AF14))/LOG(2))))","v":-0.51889781382152544},null,{"$f":"N14","v":222},{"$f":"COUNTIF(L100:L130,AI14)","v":25},{"$f":"AJ14/(AL4-AJ10)","v":0.83333333333333337},{"$f":"IF(AK14=0,0,(AK14*((LOG(AK14))/LOG(2))))","v":-0.21919533819482812},null,{"$f":"N14","v":222},{"$f":"COUNTIF(L131:L161,AN14)","v":21},{"$f":"AO14/(AQ4-AO10)","v":0.67741935483870963},{"$f":"IF(AP14=0,0,(AP14*((LOG(AP14))/LOG(2))))","v":-0.38062763354098111},null,{"$f":"N14","v":222},{"$f":"COUNTIF(L162:L192,AS14)","v":17},{"$f":"AT14/(AV4-AT10)","v":0.54838709677419351},{"$f":"IF(AU14=0,0,(AU14*((LOG(AU14))/LOG(2))))","v":-0.47530545081681003}]
[11,985,12,989,14,997,null,null,null,null,0,111,null,null,null,{"$f":"SUM(P7:P14)","v":1},{"$f":"-SUM(Q7:Q14)","v":1.961103677698818},null,null,null,null,{"$f":"SUM(V7:V14)","v":1},{"$f":"-SUM(W7:W14)","v":2.1313003425053605},null,null,null,{"$f":"SUM(AA7:AA14)","v":1},{"$f":"-SUM(AB7:AB14)","v":1.7621171696381754},null,null,null,{"$f":"SUM(AF7:AF14)","v":1},{"$f":"-SUM(AG7:AG14)","v":1.7755696554386591},null,null,null,{"$f":"SUM(AK7:AK14)","v":1},{"$f":"-SUM(AL7:AL14)","v":0.90367710412958124},null,null,null,{"$f":"SUM(AP7:AP14)","v":1},{"$f":"-SUM(AQ7:AQ14)","v":1.4752186861033016},null,null,null,{"$f":"SUM(AU7:AU14)","v":1},{"$f":"-SUM(AV7:AV14)","v":1.6390001550191315}]
[22,1092,23,1095,14,1111,null,null,null,null,0,221,null,null,null,"U=",{"$f":"Q15/(LOG(Q4)/LOG(2))","v":0.2601223461176293},null,null,null,null,"U1=",{"$f":"W15/(LOG(W4)/LOG(2))","v":0.43020102736682359},null,null,null,"U2=",{"$f":"AB15/(LOG(AB4)/LOG(2))","v":0.35568174114210083},null,null,null,"U3=",{"$f":"AG15/(LOG(AG4)/LOG(2))","v":0.35839711311318712},null,null,null,"U4=",{"$f":"AL15/(LOG(AL4)/LOG(2))","v":0.18240639803371311},null,null,null,"U5=",{"$f":"AQ15/(LOG(AQ4)/LOG(2))","v":0.29777154429879693},null,null,null,"U6=",{"$f":"AV15/(LOG(AV4)/LOG(2))","v":0.33083068419853179}]
[11,1222,12,1226,14,1229,null,null,null,null,0,111]
[22,1324,23,1348,23,1352,null,null,null,null,0,222]
[22,1450,23,1467,23,1471,null,null,null,null,0,222,null,"Total Target Seq"]
[22,1569,14,1584,14,1588,null,null,null,null,0,211,null,{"$f":"COUNTIF(L7:L192,G3)","v":3},null,31,31,31,31,31,31]
[22,1683,23,1687,14,1705,null,null,null,null,0,221,null,null,null,"% of reinforcement given in 6 equal intervals based on number of trials "]
[11,1811,12,1825,23,1863,null,null,null,null,0,112,null,null,null,"%_1","%_2","%_3","%_4","%_5","%_6"]
[22,1969,14,1978,14,1982,null,null,null,null,0,211,null,null,"target sequence",{"$f":"$G$3","v":122},{"$f":"$G$3","v":122},{"$f":"$G$3","v":122},{"$f":"$G$3","v":122},{"$f":"$G$3","v":122},{"$f":"$G$3","v":122}]
[22,2079,14,2101,14,2110,null,null,null,null,0,211,null,null,"total reinforcement",{"$f":"U10","v":0},{"$f":"Z10","v":0},{"$f":"AE10","v":2},{"$f":"AJ10","v":1},{"$f":"AO10","v":0},{"$f":"AT10","v":0}]
[11,2240,12,2243,14,2248,null,null,null,null,0,111,null,null,"% target"]
[22,2346,23,2353,14,2371,null,null,null,null,0,221,null,null,"CCRF"]
[22,2470,23,2473,23,2480,null,null,null,null,0,222,null,null,"% CCRf"]
[22,2585,23,2597,23,2600,null,null,null,null,0,222,null,null,"average response rate",{"$f":"F37/P20","v":119.03225806451613},{"$f":"(F68-F37)/Q20","v":124.90322580645162},{"$f":"(F99-F68)/R20","v":121.2258064516129},{"$f":"(F130-F99)/S20","v":116.3225806451613},{"$f":"(F161-F130)/T20","v":129.03225806451613},{"$f":"(F192-F161)/U20","v":162.45161290322579}]
[22,2698,23,2701,14,2714,null,null,null,null,0,221]
[22,2838,23,2842,23,2856,null,null,null,null,0,222]
[11,2976,12,2980,14,2986,null,null,null,null,0,111]
[11,3100,12,3104,14,3109,null,null,null,null,0,111]
[22,3208,23,3215,14,3229,null,null,null,null,0,221]
[22,3325,23,3329,23,3336,null,null,null,null,0,222]
[22,3437,23,3440,14,3456,null,null,null,null,0,221]
[22,3553,23,3570,23,3574,null,null,null,null,0,222]
[22,3679,14,3687,14,3690,null,null,null,null,0,211]
[11,3807,12,3812,14,3821,null,null,null,null,0,111]
[22,3922,23,3928,23,3937,null,null,null,null,0,222]
[22,4034,23,4037,23,4039,null,null,null,null,0,222]
[22,4136,14,4152,14,4154,null,null,null,null,0,211]
[11,4276,12,4280,14,4285,null,null,null,null,0,111]
[22,4386,23,4389,23,4392,null,null,null,null,0,222]
[22,4493,14,4501,14,4511,null,null,null,null,0,211]
[22,4623,14,4638,14,4642,null,null,null,null,0,211]
[22,4739,14,4750,14,4753,null,null,null,null,0,211]
[22,4854,23,4858,23,4862,null,null,null,null,0,222]
[22,4991,23,4995,23,4998,null,null,null,null,0,222]
[11,5113,12,5116,14,5120,null,null,null,null,0,111]
[11,5281,12,5283,14,5291,null,null,null,null,0,111]
[22,5389,23,5413,14,5415,null,null,null,null,0,221]
[22,5521,23,5528,23,5532,null,null,null,null,0,222]
[22,5629,14,5643,14,5651,null,null,null,null,0,211]
[11,5825,12,5833,14,5837,null,null,null,null,0,111]
[11,5961,12,5969,14,5981,null,null,null,null,0,111]
[22,6094,23,6098,14,6105,null,null,null,null,0,221]
[11,6232,12,6235,14,6239,null,null,null,null,0,111]
[11,6350,12,6353,14,6361,null,null,null,null,0,111]
[22,6460,23,6463,23,6468,null,null,null,null,0,222]
[22,6566,23,6571,23,6577,null,null,null,null,0,222]
[22,6714,14,6726,14,6729,null,null,null,null,0,211]
[11,6833,12,6836,14,6839,null,null,null,null,0,111]
[22,6938,14,6947,14,6957,null,null,null,null,0,211]
[11,7068,12,7076,14,7084,null,null,null,null,0,111]
[11,7195,12,7198,14,7203,null,null,null,null,0,111]
[11,7319,12,7321,14,7326,null,null,null,null,0,111]
[11,7432,12,7435,14,7438,null,null,null,null,0,111]
[11,7553,12,7558,14,7562,null,null,null,null,0,111]
[22,7661,23,7667,14,7683,null,null,null,null,0,221]
[22,7780,23,7783,23,7788,null,null,null,null,0,222]
[22,7887,23,7890,14,7900,null,null,null,null,0,221]
[22,8006,23,8013,14,8025,null,null,null,null,0,221]
[22,8123,23,8127,23,8133,null,null,null,null,0,222]
[22,8232,23,8241,23,8247,null,null,null,null,0,222]
[22,8350,23,8359,23,8363,null,null,null,null,0,222]
[11,8501,12,8507,14,8517,null,null,null,null,0,111]
[22,8651,14,8665,14,8668,null,null,null,null,0,211]
[11,8770,21,8783,21,8788,null,null,null,null,0,122]
[22,8952,14,8963,14,8966,null,null,null,null,0,211]
[22,9070,14,9085,14,9088,null,null,null,null,0,211]
[22,9190,23,9193,14,9217,null,null,null,null,0,221]
[22,9317,23,9321,23,9324,null,null,null,null,0,222]
[22,9422,23,9428,14,9437,null,null,null,null,0,221]
[22,9534,23,9548,23,9553,null,null,null,null,0,222]
[11,9662,12,9666,14,9669,null,null,null,null,0,111]
[22,9766,23,9772,23,9786,null,null,null,null,0,222]
[22,9890,23,9912,23,9916,null,null,null,null,0,222]
[22,10018,23,10040,23,10046,null,null,null,null,0,222]
[11,10156,21,10167,21,10176,null,null,null,null,0,122]
[22,10290,23,10295,14,10301,null,null,null,null,0,221]
[22,10400,23,10403,14,10415,null,null,null,null,0,221]
[22,10519,23,10528,23,10531,null,null,null,null,0,222]
[22,10636,23,10638,23,10643,null,null,null,null,0,222]
[22,10743,14,10757,14,10761,null,null,null,null,0,211]
[22,10858,23,10862,14,10870,null,null,null,null,0,221]
[22,10971,23,10975,23,10980,null,null,null,null,0,222]
[11,11096,12,11101,14,11104,null,null,null,null,0,111]
[22,11206,23,11209,23,11212,null,null,null,null,0,222]
[22,11310,23,11313,14,11320,null,null,null,null,0,221]
[22,11420,23,11422,14,11435,null,null,null,null,0,221]
[22,11542,23,11546,23,11552,null,null,null,null,0,222]
[22,11649,23,11653,23,11656,null,null,null,null,0,222]
[22,11754,14,11767,14,11772,null,null,null,null,0,211]
[22,11874,23,11876,23,11879,null,null,null,null,0,222]
[22,11981,23,11984,23,11993,null,null,null,null,0,222]
[22,12092,23,12096,23,12101,null,null,null,null,0,222]
[11,12204,21,12218,21,12223,null,null,null,null,0,122]
[22,12381,23,12384,23,12389,null,null,null,null,0,222]
[22,12492,23,12495,23,12503,null,null,null,null,0,222]
[22,12613,23,12628,23,12631,null,null,null,null,0,222]
[11,12734,12,12737,14,12740,null,null,null,null,0,111]
[22,12837,23,12841,23,12844,null,null,null,null,0,222]
[22,12942,23,12948,23,12953,null,null,null,null,0,222]
[22,13055,23,13058,23,13065,null,null,null,null,0,222]
[22,13180,23,13199,23,13204,null,null,null,null,0,222]
[11,13311,12,13313,14,13316,null,null,null,null,0,111]
[22,13432,23,13437,23,13441,null,null,null,null,0,222]
[22,13540,23,13543,23,13560,null,null,null,null,0,222]
[22,13685,23,13696,23,13701,null,null,null,null,0,222]
[22,13796,23,13800,14,13810,null,null,null,null,0,221]
[22,13909,23,13913,23,13915,null,null,null,null,0,222]
[22,14017,23,14022,23,14027,null,null,null,null,0,222]
[22,14125,23,14135,23,14141,null,null,null,null,0,222]
[22,14239,23,14242,23,14245,null,null,null,null,0,222]
[22,14341,23,14344,23,14347,null,null,null,null,0,222]
[22,14443,23,14447,23,14450,null,null,null,null,0,222]
[22,14553,23,14557,23,14562,null,null,null,null,0,222]
[22,14662,23,14670,23,14690,null,null,null,null,0,222]
[22,14798,23,14801,23,14807,null,null,null,null,0,222]
[22,14915,23,14919,23,14926,null,null,null,null,0,222]
[22,15040,23,15045,23,15049,null,null,null,null,0,222]
[22,15145,23,15148,23,15153,null,null,null,null,0,222]
[22,15253,23,15258,23,15260,null,null,null,null,0,222]
[22,15366,23,15371,23,15376,null,null,null,null,0,222]
[22,15472,23,15476,14,15488,null,null,null,null,0,221]
[22,15599,23,15608,23,15613,null,null,null,null,0,222]
[22,15710,23,15729,23,15742,null,null,null,null,0,222]
[22,15838,23,15850,14,15852,null,null,null,null,0,221]
[22,15979,23,15984,23,16001,null,null,null,null,0,222]
[22,16120,23,16124,23,16133,null,null,null,null,0,222]
[22,16231,23,16234,23,16253,null,null,null,null,0,222]
[11,16399,12,16402,14,16407,null,null,null,null,0,111]
[22,16529,23,16536,23,16540,null,null,null,null,0,222]
[22,16639,23,16643,14,16649,null,null,null,null,0,221]
[22,16752,23,16755,14,16769,null,null,null,null,0,221]
[11,16904,12,16909,14,16919,null,null,null,null,0,111]
[22,17016,14,17038,14,17041,null,null,null,null,0,211]
[22,17148,23,17155,23,17158,null,null,null,null,0,222]
[22,17255,23,17266,23,17269,null,null,null,null,0,222]
[22,17467,23,17471,23,17478,null,null,null,null,0,222]
[22,17588,23,17591,23,17600,null,null,null,null,0,222]
[22,17698,23,17702,14,17722,null,null,null,null,0,221]
[22,17822,23,17825,23,17828,null,null,null,null,0,222]
[11,18041,21,18046,12,18054,null,null,null,null,0,121]
[22,18217,23,18225,23,18228,null,null,null,null,0,222]
[22,18347,23,18350,23,18353,null,null,null,null,0,222]
[22,18452,23,18456,23,18459,null,null,null,null,0,222]
[22,18557,23,18564,23,18567,null,null,null,null,0,222]
[22,18671,14,18684,14,18686,null,null,null,null,0,211]
[22,18805,23,18811,23,18819,null,null,null,null,0,222]
[22,18918,23,18922,23,18926,null,null,null,null,0,222]
[11,19034,12,19038,14,19043,null,null,null,null,0,111]
[22,19158,23,19160,23,19165,null,null,null,null,0,222]
[22,19272,23,19276,23,19281,null,null,null,null,0,222]
[22,19405,23,19413,23,19434,null,null,null,null,0,222]
[22,19530,14,19540,14,19545,null,null,null,null,0,211]
[22,19647,23,19654,23,19661,null,null,null,null,0,222]
[22,19762,23,19765,23,19769,null,null,null,null,0,222]
[22,19874,23,19877,23,19887,null,null,null,null,0,222]
[22,19983,23,19994,23,20002,null,null,null,null,0,222]
[22,20114,23,20124,23,20130,null,null,null,null,0,222]
[22,20231,23,20235,23,20248,null,null,null,null,0,222]
[11,20352,21,20357,12,20359,null,null,null,null,0,121]
[11,20543,12,20551,14,20558,null,null,null,null,0,111]
[22,20667,23,20670,23,20675,null,null,null,null,0,222]
[22,20775,23,20777,23,20781,null,null,null,null,0,222]
[22,20882,23,20885,23,20889,null,null,null,null,0,222]
[11,20993,12,20996,14,20999,null,null,null,null,0,111]
[22,21978,23,21983,23,21994,null,null,null,null,0,222]
[22,22091,23,22111,23,22124,null,null,null,null,0,222]
[11,22244,12,22247,14,22251,null,null,null,null,0,111]
[22,22355,23,22370,23,22378,null,null,null,null,0,222]
[11,22481,12,22491,14,22496,null,null,null,null,0,111]
[11,22618,12,22626,14,22636,null,null,null,null,0,111]
[22,22735,23,22739,14,22749,null,null,null,null,0,221]
[22,22873,23,22876,23,22885,null,null,null,null,0,222]
[22,22983,14,22993,14,22997,null,null,null,null,0,211]
[22,23103,23,23123,23,23129,null,null,null,null,0,222]
[11,23237,12,23240,14,23244,null,null,null,null,0,111]
[22,23400,14,23409,14,23413,null,null,null,null,0,211]
[11,23839,12,23842,14,23848,null,null,null,null,0,111]
[11,23955,12,23959,14,23962,null,null,null,null,null,111]

{"sheet":"!LB11A03..Ta","index":5,"n_rows":107,"n_cols":48,"rows_kept":107,"cut":false,"hidden":false,"merged":[[4,39,4,42],[5,39,5,40],[4,44,4,47],[5,44,5,45],[4,24,4,27],[5,24,5,25],[4,29,4,32],[5,29,5,30],[4,34,4,37],[5,34,5,35],[1,1,1,2],[5,13,5,14],[18,13,18,14],[19,13,19,14],[4,19,4,22],[5,19,5,20]]}
["Report for:!LB11A03..Ta"]
["Date:","<date>"]
["Hen:","<hen>",null,null,null,"Correct Sequence",{"$f":"Start!J2","v":122},null,null,null,null,null,null,null,null,"Total Sequences in Data",{"$f":"4994-COUNTBLANK(L7:L5000)","v":101},null,null,null,null,"Total Sequences in Block Data",{"$f":"COUNTA(L7:L23)","v":17},null,null,null,"Total Sequences in Block Data",{"$f":"COUNTA(L24:L40)","v":17},null,null,null,"Total Sequences in Block Data",{"$f":"COUNTA(L41:L56)","v":16},null,null,null,"Total Sequences in Block Data",{"$f":"COUNTA(L57:L73)","v":17},null,null,null,"Total Sequences in Block Data",{"$f":"COUNTA(L74:L90)","v":17},null,null,null,"Total Sequences in Block Data",{"$f":"COUNTA(L91:L107)","v":17}]
[null,null,null,null,null,null,null,null,null,null,null,null,null,null,null,"Total Sequences in Summary",{"$f":"SUM(O7:O14)","v":101},null,null,null,null,"Total Sequences in Block Summary",{"$f":"SUM(U7:U14)","v":17},null,null,null,"Total Sequences in Block Summary",{"$f":"SUM(Z7:Z14)","v":17},null,null,null,"Total Sequences in Block Summary",{"$f":"SUM(AE7:AE14)","v":16},null,null,null,"Total Sequences in Block Summary",{"$f":"SUM(AJ7:AJ14)","v":17},null,null,null,"Total Sequences in Block Summary",{"$f":"SUM(AO7:AO14)","v":17},null,null,null,"Total Sequences in Block Summary",{"$f":"SUM(AT7:AT14)","v":17}]
[null,null,null,null,null,null,null,null,null,null,null,null,null,null,null,null,null,null,null,"Block 1",null,null,null,null,"Block 2",null,null,null,null,"Block 3",null,null,null,null,"Block 4",null,null,null,null,"Block 5",null,null,null,null,"Block 6"]
["Sequence\nComponent\n1","Time\n1","Sequence\nComponent\n2","Time\n2","Sequence\nComponent\n3","Time\n3","Sequence\nComponent\n4","Time\n4","Sequence\nComponent\n5","Time\n5","Correct?\n0=No 1=Yes","Sequence",null,"Frequency",null,"Relative Frequency","Variability",null,null,"Frequency",null,"Relative Frequency","Variability",null,"Frequency",null,"Relative Frequency","Variability",null,"Frequency",null,"Relative Frequency","Variability",null,"Frequency",null,"Relative Frequency","Variability",null,"Frequency",null,"Relative Frequency","Variability",null,"Frequency",null,"Relative Frequency","Variability"]
[22,98,23,101,23,106,null,null,null,null,0,222,null,111,{"$f":"COUNTIF($L$7:$L$500,N7)","v":26},{"$f":"O7/$Q$4","v":0.25742574257425743},{"$f":"IF(P7=0,0,(P7*((LOG(P7))/LOG(2))))","v":-0.5039808502958244},null,null,{"$f":"N7","v":111},{"$f":"COUNTIF(L7:L23,T7)","v":7},{"$f":"U7/(W4-U10)","v":0.41176470588235292},{"$f":"IF(V7=0,0,(V7*((LOG(V7))/LOG(2))))","v":-0.52710326084406744},null,{"$f":"N7","v":111},{"$f":"COUNTIF(L24:L40,Y7)","v":6},{"$f":"Z7/(AB4-Z10)","v":0.375},{"$f":"IF(AA7=0,0,(AA7*((LOG(AA7))/LOG(2))))","v":-0.53063906222956647},null,{"$f":"N7","v":111},{"$f":"COUNTIF(L41:L56,AD7)","v":4},{"$f":"AE7/(AG4-AE10)","v":0.30769230769230771},{"$f":"IF(AF7=0,0,(AF7*((LOG(AF7))/LOG(2))))","v":-0.52321222096648989},null,{"$f":"N7","v":111},{"$f":"COUNTIF(L57:L73,AI7)","v":3},{"$f":"AJ7/(AL4-AJ10)","v":0.1875},{"$f":"IF(AK7=0,0,(AK7*((LOG(AK7))/LOG(2))))","v":-0.45281953111478312},null,{"$f":"N7","v":111},{"$f":"COUNTIF(L74:L90,AN7)","v":4},{"$f":"AO7/(AQ4-AO10)","v":0.23529411764705882},{"$f":"IF(AP7=0,0,(AP7*((LOG(AP7))/LOG(2))))","v":-0.49116772735302094},null,{"$f":"N7","v":111},{"$f":"COUNTIF(L91:L107,AS7)","v":2},{"$f":"AT7/(AV4-AT10)","v":0.125},{"$f":"IF(AU7=0,0,(AU7*((LOG(AU7))/LOG(2))))","v":-0.375}]
[22,216,23,223,23,240,null,null,null,null,0,222,null,112,{"$f":"COUNTIF($L$7:$L$500,N8)","v":0},{"$f":"O8/$Q$4","v":0},{"$f":"IF(P8=0,0,(P8*((LOG(P8))/LOG(2))))","v":0},null,null,{"$f":"N8","v":112},{"$f":"COUNTIF(L7:L23,T8)","v":0},{"$f":"U8/(W4-U10)","v":0},{"$f":"IF(V8=0,0,(V8*((LOG(V8))/LOG(2))))","v":0},null,{"$f":"N8","v":112},{"$f":"COUNTIF(L24:L40,Y8)","v":0},{"$f":"Z8/(AB4-Z10)","v":0},{"$f":"IF(AA8=0,0,(AA8*((LOG(AA8))/LOG(2))))","v":0},null,{"$f":"N8","v":112},{"$f":"COUNTIF(L41:L56,AD8)","v":0},{"$f":"AE8/(AG4-AE10)","v":0},{"$f":"IF(AF8=0,0,(AF8*((LOG(AF8))/LOG(2))))","v":0},null,{"$f":"N8","v":112},{"$f":"COUNTIF(L57:L73,AI8)","v":0},{"$f":"AJ8/(AL4-AJ10)","v":0},{"$f":"IF(AK8=0,0,(AK8*((LOG(AK8))/LOG(2))))","v":0},null,{"$f":"N8","v":112},{"$f":"COUNTIF(L74:L90,AN8)","v":0},{"$f":"AO8/(AQ4-AO10)","v":0},{"$f":"IF(AP8=0,0,(AP8*((LOG(AP8))/LOG(2))))","v":0},null,{"$f":"N8","v":112},{"$f":"COUNTIF(L91:L107,AS8)","v":0},{"$f":"AT8/(AV4-AT10)","v":0},{"$f":"IF(AU8=0,0,(AU8*((LOG(AU8))/LOG(2))))","v":0}]
[11,347,12,351,14,353,null,null,null,null,0,111,null,121,{"$f":"COUNTIF($L$7:$L$500,N9)","v":0},{"$f":"O9/$Q$4","v":0},{"$f":"IF(P9=0,0,(P9*((LOG(P9))/LOG(2))))","v":0},null,null,{"$f":"N9","v":121},{"$f":"COUNTIF(L7:L23,T9)","v":0},{"$f":"U9/(W4-U10)","v":0},{"$f":"IF(V9=0,0,(V9*((LOG(V9))/LOG(2))))","v":0},null,{"$f":"N9","v":121},{"$f":"COUNTIF(L24:L40,Y9)","v":0},{"$f":"Z9/(AB4-Z10)","v":0},{"$f":"IF(AA9=0,0,(AA9*((LOG(AA9))/LOG(2))))","v":0},null,{"$f":"N9","v":121},{"$f":"COUNTIF(L41:L56,AD9)","v":0},{"$f":"AE9/(AG4-AE10)","v":0},{"$f":"IF(AF9=0,0,(AF9*((LOG(AF9))/LOG(2))))","v":0},null,{"$f":"N9","v":121},{"$f":"COUNTIF(L57:L73,AI9)","v":0},{"$f":"AJ9/(AL4-AJ10)","v":0},{"$f":"IF(AK9=0,0,(AK9*((LOG(AK9))/LOG(2))))","v":0},null,{"$f":"N9","v":121},{"$f":"COUNTIF(L74:L90,AN9)","v":0},{"$f":"AO9/(AQ4-AO10)","v":0},{"$f":"IF(AP9=0,0,(AP9*((LOG(AP9))/LOG(2))))","v":0},null,{"$f":"N9","v":121},{"$f":"COUNTIF(L91:L107,AS9)","v":0},{"$f":"AT9/(AV4-AT10)","v":0},{"$f":"IF(AU9=0,0,(AU9*((LOG(AU9))/LOG(2))))","v":0}]
[11,467,12,471,14,474,null,null,null,null,0,111,null,122,{"$f":"COUNTIF($L$7:$L$500,N10)","v":6},{"$f":"O10/$Q$4","v":5.9405940594059403E-2},{"$f":"IF(P10=0,0,(P10*((LOG(P10))/LOG(2))))","v":-0.24197518705132506},null,null,{"$f":"N10","v":122},{"$f":"COUNTIF(L7:L23,T10)","v":0},null,null,null,{"$f":"N10","v":122},{"$f":"COUNTIF(L24:L40,Y10)","v":1},null,null,null,{"$f":"N10","v":122},{"$f":"COUNTIF(L41:L56,AD10)","v":3},null,null,null,{"$f":"N10","v":122},{"$f":"COUNTIF(L57:L73,AI10)","v":1},null,null,null,{"$f":"N10","v":122},{"$f":"COUNTIF(L74:L90,AN10)","v":0},null,null,null,{"$f":"N10","v":122},{"$f":"COUNTIF(L91:L107,AS10)","v":1}]
[11,586,12,590,14,594,null,null,null,null,0,111,null,211,{"$f":"COUNTIF($L$7:$L$500,N11)","v":15},{"$f":"O11/$Q$4","v":0.14851485148514851},{"$f":"IF(P11=0,0,(P11*((LOG(P11))/LOG(2))))","v":-0.40861201294207072},null,null,{"$f":"N11","v":211},{"$f":"COUNTIF(L7:L23,T11)","v":5},{"$f":"U11/(W4-U10)","v":0.29411764705882354},{"$f":"IF(V11=0,0,(V11*((LOG(V11))/LOG(2))))","v":-0.51927492540087561},null,{"$f":"N11","v":211},{"$f":"COUNTIF(L24:L40,Y11)","v":2},{"$f":"Z11/(AB4-Z10)","v":0.125},{"$f":"IF(AA11=0,0,(AA11*((LOG(AA11))/LOG(2))))","v":-0.375},null,{"$f":"N11","v":211},{"$f":"COUNTIF(L41:L56,AD11)","v":4},{"$f":"AE11/(AG4-AE10)","v":0.30769230769230771},{"$f":"IF(AF11=0,0,(AF11*((LOG(AF11))/LOG(2))))","v":-0.52321222096648989},null,{"$f":"N11","v":211},{"$f":"COUNTIF(L57:L73,AI11)","v":2},{"$f":"AJ11/(AL4-AJ10)","v":0.125},{"$f":"IF(AK11=0,0,(AK11*((LOG(AK11))/LOG(2))))","v":-0.375},null,{"$f":"N11","v":211},{"$f":"COUNTIF(L74:L90,AN11)","v":1},{"$f":"AO11/(AQ4-AO10)","v":5.8823529411764705E-2},{"$f":"IF(AP11=0,0,(AP11*((LOG(AP11))/LOG(2))))","v":-0.24043899066178465},null,{"$f":"N11","v":211},{"$f":"COUNTIF(L91:L107,AS11)","v":1},{"$f":"AT11/(AV4-AT10)","v":6.25E-2},{"$f":"IF(AU11=0,0,(AU11*((LOG(AU11))/LOG(2))))","v":-0.25}]
[22,693,14,731,14,741,null,null,null,null,0,211,null,212,{"$f":"COUNTIF($L$7:$L$500,N12)","v":1},{"$f":"O12/$Q$4","v":9.9009900990099011E-3},{"$f":"IF(P12=0,0,(P12*((LOG(P12))/LOG(2))))","v":-6.5922885967839545E-2},null,null,{"$f":"N12","v":212},{"$f":"COUNTIF(L7:L23,T12)","v":0},{"$f":"U12/(W4-U10)","v":0},{"$f":"IF(V12=0,0,(V12*((LOG(V12))/LOG(2))))","v":0},null,{"$f":"N12","v":212},{"$f":"COUNTIF(L24:L40,Y12)","v":0},{"$f":"Z12/(AB4-Z10)","v":0},{"$f":"IF(AA12=0,0,(AA12*((LOG(AA12))/LOG(2))))","v":0},null,{"$f":"N12","v":212},{"$f":"COUNTIF(L41:L56,AD12)","v":0},{"$f":"AE12/(AG4-AE10)","v":0},{"$f":"IF(AF12=0,0,(AF12*((LOG(AF12))/LOG(2))))","v":0},null,{"$f":"N12","v":212},{"$f":"COUNTIF(L57:L73,AI12)","v":1},{"$f":"AJ12/(AL4-AJ10)","v":6.25E-2},{"$f":"IF(AK12=0,0,(AK12*((LOG(AK12))/LOG(2))))","v":-0.25},null,{"$f":"N12","v":212},{"$f":"COUNTIF(L74:L90,AN12)","v":0},{"$f":"AO12/(AQ4-AO10)","v":0},{"$f":"IF(AP12=0,0,(AP12*((LOG(AP12))/LOG(2))))","v":0},null,{"$f":"N12","v":212},{"$f":"COUNTIF(L91:L107,AS12)","v":0},{"$f":"AT12/(AV4-AT10)","v":0},{"$f":"IF(AU12=0,0,(AU12*((LOG(AU12))/LOG(2))))","v":0}]
[22,854,23,858,23,869,null,null,null,null,0,222,null,221,{"$f":"COUNTIF($L$7:$L$500,N13)","v":0},{"$f":"O13/$Q$4","v":0},{"$f":"IF(P13=0,0,(P13*((LOG(P13))/LOG(2))))","v":0},null,null,{"$f":"N13","v":221},{"$f":"COUNTIF(L7:L23,T13)","v":0},{"$f":"U13/(W4-U10)","v":0},{"$f":"IF(V13=0,0,(V13*((LOG(V13))/LOG(2))))","v":0},null,{"$f":"N13","v":221},{"$f":"COUNTIF(L24:L40,Y13)","v":0},{"$f":"Z13/(AB4-Z10)","v":0},{"$f":"IF(AA13=0,0,(AA13*((LOG(AA13))/LOG(2))))","v":0},null,{"$f":"N13","v":221},{"$f":"COUNTIF(L41:L56,AD13)","v":0},{"$f":"AE13/(AG4-AE10)","v":0},{"$f":"IF(AF13=0,0,(AF13*((LOG(AF13))/LOG(2))))","v":0},null,{"$f":"N13","v":221},{"$f":"COUNTIF(L57:L73,AI13)","v":0},{"$f":"AJ13/(AL4-AJ10)","v":0},{"$f":"IF(AK13=0,0,(AK13*((LOG(AK13))/LOG(2))))","v":0},null,{"$f":"N13","v":221},{"$f":"COUNTIF(L74:L90,AN13)","v":0},{"$f":"AO13/(AQ4-AO10)","v":0},{"$f":"IF(AP13=0,0,(AP13*((LOG(AP13))/LOG(2))))","v":0},null,{"$f":"N13","v":221},{"$f":"COUNTIF(L91:L107,AS13)","v":0},{"$f":"AT13/(AV4-AT10)","v":0},{"$f":"IF(AU13=0,0,(AU13*((LOG(AU13))/LOG(2))))","v":0}]
[22,970,14,983,14,992,null,null,null,null,0,211,null,222,{"$f":"COUNTIF($L$7:$L$500,N14)","v":53},{"$f":"O14/$Q$4","v":0.52475247524752477},{"$f":"IF(P14=0,0,(P14*((LOG(P14))/LOG(2))))","v":-0.48817251974253034},null,null,{"$f":"N14","v":222},{"$f":"COUNTIF(L7:L23,T14)","v":5},{"$f":"U14/(W4-U10)","v":0.29411764705882354},{"$f":"IF(V14=0,0,(V14*((LOG(V14))/LOG(2))))","v":-0.51927492540087561},null,{"$f":"N14","v":222},{"$f":"COUNTIF(L24:L40,Y14)","v":8},{"$f":"Z14/(AB4-Z10)","v":0.5},{"$f":"IF(AA14=0,0,(AA14*((LOG(AA14))/LOG(2))))","v":-0.5},null,{"$f":"N14","v":222},{"$f":"COUNTIF(L41:L56,AD14)","v":5},{"$f":"AE14/(AG4-AE10)","v":0.38461538461538464},{"$f":"IF(AF14=0,0,(AF14*((LOG(AF14))/LOG(2))))","v":-0.53019677817451139},null,{"$f":"N14","v":222},{"$f":"COUNTIF(L57:L73,AI14)","v":10},{"$f":"AJ14/(AL4-AJ10)","v":0.625},{"$f":"IF(AK14=0,0,(AK14*((LOG(AK14))/LOG(2))))","v":-0.42379494069539858},null,{"$f":"N14","v":222},{"$f":"COUNTIF(L74:L90,AN14)","v":12},{"$f":"AO14/(AQ4-AO10)","v":0.70588235294117652},{"$f":"IF(AP14=0,0,(AP14*((LOG(AP14))/LOG(2))))","v":-0.35470612272648222},null,{"$f":"N14","v":222},{"$f":"COUNTIF(L91:L107,AS14)","v":13},{"$f":"AT14/(AV4-AT10)","v":0.8125},{"$f":"IF(AU14=0,0,(AU14*((LOG(AU14))/LOG(2))))","v":-0.24339272901036266}]
[22,1093,14,1139,14,1145,null,null,null,null,0,211,null,null,null,{"$f":"SUM(P7:P14)","v":1},{"$f":"-SUM(Q7:Q14)","v":1.7086634559995901},null,null,null,null,{"$f":"SUM(V7:V14)","v":1},{"$f":"-SUM(W7:W14)","v":1.5656531116458186},null,null,null,{"$f":"SUM(AA7:AA14)","v":1},{"$f":"-SUM(AB7:AB14)","v":1.4056390622295665},null,null,null,{"$f":"SUM(AF7:AF14)","v":1},{"$f":"-SUM(AG7:AG14)","v":1.5766212201074912},null,null,null,{"$f":"SUM(AK7:AK14)","v":1},{"$f":"-SUM(AL7:AL14)","v":1.5016144718101816},null,null,null,{"$f":"SUM(AP7:AP14)","v":1},{"$f":"-SUM(AQ7:AQ14)","v":1.0863128407412879},null,null,null,{"$f":"SUM(AU7:AU14)","v":1},{"$f":"-SUM(AV7:AV14)","v":0.86839272901036269}]
[11,1276,12,1282,14,1286,null,null,null,null,0,111,null,null,null,"U=",{"$f":"Q15/(LOG(Q4)/LOG(2))","v":0.25662499012323514},null,null,null,null,"U1=",{"$f":"W15/(LOG(W4)/LOG(2))","v":0.38303788253323701},null,null,null,"U2=",{"$f":"AB15/(LOG(AB4)/LOG(2))","v":0.34389035859701833},null,null,null,"U3=",{"$f":"AG15/(LOG(AG4)/LOG(2))","v":0.39415530502687279},null,null,null,"U4=",{"$f":"AL15/(LOG(AL4)/LOG(2))","v":0.36737079458093458},null,null,null,"U5=",{"$f":"AQ15/(LOG(AQ4)/LOG(2))","v":0.26576702539734626},null,null,null,"U6=",{"$f":"AV15/(LOG(AV4)/LOG(2))","v":0.212452751923911}]
[11,1405,12,1409,14,1415,null,null,null,null,0,111]
[22,1619,14,1628,14,1632,null,null,null,null,0,211]
[22,1756,23,1761,23,1766,null,null,null,null,0,222,null,"Total Target Seq"]
[11,1925,12,1929,14,1934,null,null,null,null,0,111,null,{"$f":"COUNTIF(L7:L107,G3)","v":6},null,17,17,16,17,17,17]
[22,2179,23,2190,23,2196,null,null,null,null,0,222,null,null,null,"% of reinforcement given in 6 equal intervals based on number of trials "]
[11,2375,12,2379,14,2385,null,null,null,null,0,111,null,null,null,"%_1","%_2","%_3","%_4","%_5","%_6"]
[22,2606,14,2618,14,2622,null,null,null,null,0,211,null,null,"target sequence",{"$f":"$G$3","v":122},{"$f":"$G$3","v":122},{"$f":"$G$3","v":122},{"$f":"$G$3","v":122},{"$f":"$G$3","v":122},{"$f":"$G$3","v":122}]
[11,2738,12,2741,14,2744,null,null,null,null,0,111,null,null,"total reinforcement",{"$f":"U10","v":0},{"$f":"Z10","v":1},{"$f":"AE10","v":3},{"$f":"AJ10","v":1},{"$f":"AO10","v":0},{"$f":"AT10","v":1}]
[22,2883,14,2910,14,2913,null,null,null,null,0,211,null,null,"% target"]
[11,3041,12,3050,14,3055,null,null,null,null,0,111,null,null,"CCRF"]
[11,3188,12,3193,14,3196,null,null,null,null,0,111,null,null,"% CCRf"]
[22,3298,23,3323,23,3333,null,null,null,null,0,222,null,null,"average response rate",{"$f":"F23/P20","v":154.23529411764707},{"$f":"(F40-F23)/Q20","v":150.29411764705881},{"$f":"(F56-F40)/R20","v":151.875},{"$f":"(F73-F56)/S20","v":147.88235294117646},{"$f":"(F90-F73)/T20","v":134.05882352941177},{"$f":"(F107-F90)/U20","v":163.23529411764707}]
[22,3461,23,3470,23,3474,null,null,null,null,0,222]
[22,3621,23,3624,23,3629,null,null,null,null,0,222]
[22,3766,23,3778,23,3781,null,null,null,null,0,222]
[11,3916,21,3943,21,3950,null,null,null,null,0,122]
[22,4184,23,4187,23,4201,null,null,null,null,0,222]
[22,4301,23,4305,23,4309,null,null,null,null,0,222]
[11,4418,12,4423,14,4427,null,null,null,null,0,111]
[11,4551,12,4554,14,4558,null,null,null,null,0,111]
[22,4657,23,4664,23,4671,null,null,null,null,0,222]
[11,4799,12,4802,14,4807,null,null,null,null,0,111]
[22,4985,14,4996,14,5004,null,null,null,null,0,211]
[22,5165,23,5169,23,5177,null,null,null,null,0,222]
[22,5284,14,5294,14,5300,null,null,null,null,0,211]
[22,5424,23,5432,23,5440,null,null,null,null,0,222]
[11,5546,12,5554,14,5557,null,null,null,null,0,111]
[22,5679,14,5697,14,5700,null,null,null,null,0,211]
[22,5799,23,5817,23,5823,null,null,null,null,0,222]
[22,5949,23,5966,23,5971,null,null,null,null,0,222]
[11,6094,12,6098,14,6105,null,null,null,null,0,111]
[22,6216,14,6227,14,6230,null,null,null,null,0,211]
[11,6480,21,6497,21,6502,null,null,null,null,0,122]
[11,6709,12,6713,14,6717,null,null,null,null,0,111]
[11,6852,21,6862,21,6866,null,null,null,null,0,122]
[11,7045,21,7061,21,7065,null,null,null,null,0,122]
[22,7241,14,7256,14,7262,null,null,null,null,0,211]
[22,7361,23,7364,23,7373,null,null,null,null,0,222]
[11,7482,12,7486,14,7492,null,null,null,null,0,111]
[22,7587,23,7603,23,7607,null,null,null,null,0,222]
[22,7771,23,7775,23,7779,null,null,null,null,0,222]
[22,7899,23,7930,23,7939,null,null,null,null,0,222]
[22,8071,23,8075,23,8080,null,null,null,null,0,222]
[11,8201,12,8204,14,8207,null,null,null,null,0,111]
[22,8306,23,8320,23,8324,null,null,null,null,0,222]
[11,8437,12,8442,14,8450,null,null,null,null,0,111]
[11,8566,12,8569,14,8573,null,null,null,null,0,111]
[22,8739,14,8756,14,8760,null,null,null,null,0,211]
[22,8884,23,8888,23,8893,null,null,null,null,0,222]
[11,9002,21,9011,21,9017,null,null,null,null,0,122]
[22,9197,14,9215,14,9219,null,null,null,null,0,211]
[22,9320,23,9327,23,9332,null,null,null,null,0,222]
[22,9570,14,9578,23,9591,null,null,null,null,0,212]
[22,9738,23,9742,23,9747,null,null,null,null,0,222]
[22,9842,23,9864,23,9868,null,null,null,null,0,222]
[22,9987,23,9991,23,9997,null,null,null,null,0,222]
[22,10107,23,10117,23,10121,null,null,null,null,0,222]
[22,10220,23,10228,23,10232,null,null,null,null,0,222]
[22,10339,23,10352,23,10364,null,null,null,null,0,222]
[22,10477,23,10481,23,10485,null,null,null,null,0,222]
[22,10596,23,10602,23,10606,null,null,null,null,0,222]
[11,10727,12,10729,14,10734,null,null,null,null,0,111]
[22,10864,23,10870,23,10890,null,null,null,null,0,222]
[22,10994,23,11019,23,11022,null,null,null,null,0,222]
[11,11144,12,11150,14,11162,null,null,null,null,0,111]
[11,11293,12,11300,14,11313,null,null,null,null,0,111]
[22,11429,23,11433,23,11438,null,null,null,null,0,222]
[22,11555,23,11559,23,11565,null,null,null,null,0,222]
[22,11680,23,11689,23,11694,null,null,null,null,0,222]
[22,11813,23,11817,23,11822,null,null,null,null,0,222]
[22,11947,14,11974,14,11986,null,null,null,null,0,211]
[22,12102,23,12107,23,12111,null,null,null,null,0,222]
[11,12240,12,12244,14,12247,null,null,null,null,0,111]
[22,12390,23,12395,23,12400,null,null,null,null,0,222]
[22,12525,23,12530,23,12534,null,null,null,null,0,222]
[22,12668,23,12673,23,12675,null,null,null,null,0,222]
[22,12778,23,12794,23,12807,null,null,null,null,0,222]
[22,12933,23,12938,23,12942,null,null,null,null,0,222]
[22,13129,23,13150,23,13156,null,null,null,null,0,222]
[11,13277,21,13291,21,13296,null,null,null,null,0,122]
[22,13873,23,13878,23,13883,null,null,null,null,0,222]
[22,13999,23,14002,23,14007,null,null,null,null,0,222]
[22,14118,14,14129,14,14132,null,null,null,null,0,211]
[22,14266,23,14270,23,14276,null,null,null,null,0,222]
[22,14391,23,14395,23,14408,null,null,null,null,0,222]
[11,14533,12,14537,14,14540,null,null,null,null,0,111]
[22,14661,23,14666,23,14669,null,null,null,null,0,222]
[11,14787,12,14791,14,14796,null,null,null,null,0,111]
[22,14904,23,14912,23,14917,null,null,null,null,0,222]
[22,15022,23,15048,23,15052,null,null,null,null,0,222]
[22,15154,23,15172,23,15175,null,null,null,null,0,222]

{"sheet":"!LB12A13..Ta","index":6,"n_rows":154,"n_cols":48,"rows_kept":154,"cut":false,"hidden":false,"merged":[[4,39,4,42],[5,39,5,40],[4,44,4,47],[5,44,5,45],[4,24,4,27],[5,24,5,25],[4,29,4,32],[5,29,5,30],[4,34,4,37],[5,34,5,35],[1,1,1,2],[5,13,5,14],[18,13,18,14],[19,13,19,14],[4,19,4,22],[5,19,5,20]]}
["Report for:!LB12A13..Ta"]
["Date:","<date>"]
["Hen:","<hen>",null,null,null,"Correct Sequence",{"$f":"Start!J2","v":122},null,null,null,null,null,null,null,null,"Total Sequences in Data",{"$f":"4994-COUNTBLANK(L7:L5000)","v":148},null,null,null,null,"Total Sequences in Block Data",{"$f":"COUNTA(L7:L31)","v":25},null,null,null,"Total Sequences in Block Data",{"$f":"COUNTA(L32:L55)","v":24},null,null,null,"Total Sequences in Block Data",{"$f":"COUNTA(L56:L80)","v":25},null,null,null,"Total Sequences in Block Data",{"$f":"COUNTA(L81:L105)","v":25},null,null,null,"Total Sequences in Block Data",{"$f":"COUNTA(L106:L129)","v":24},null,null,null,"Total Sequences in Block Data",{"$f":"COUNTA(L130:L154)","v":25}]
[null,null,null,null,null,null,null,null,null,null,null,null,null,null,null,"Total Sequences in Summary",{"$f":"SUM(O7:O14)","v":148},null,null,null,null,"Total Sequences in Block Summary",{"$f":"SUM(U7:U14)","v":25},null,null,null,"Total Sequences in Block Summary",{"$f":"SUM(Z7:Z14)","v":24},null,null,null,"Total Sequences in Block Summary",{"$f":"SUM(AE7:AE14)","v":25},null,null,null,"Total Sequences in Block Summary",{"$f":"SUM(AJ7:AJ14)","v":25},null,null,null,"Total Sequences in Block Summary",{"$f":"SUM(AO7:AO14)","v":24},null,null,null,"Total Sequences in Block Summary",{"$f":"SUM(AT7:AT14)","v":25}]
[null,null,null,null,null,null,null,null,null,null,null,null,null,null,null,null,null,null,null,"Block 1",null,null,null,null,"Block 2",null,null,null,null,"Block 3",null,null,null,null,"Block 4",null,null,null,null,"Block 5",null,null,null,null,"Block 6"]
["Sequence\nComponent\n1","Time\n1","Sequence\nComponent\n2","Time\n2","Sequence\nComponent\n3","Time\n3","Sequence\nComponent\n4","Time\n4","Sequence\nComponent\n5","Time\n5","Correct?\n0=No 1=Yes","Sequence",null,"Frequency",null,"Relative Frequency","Variability",null,null,"Frequency",null,"Relative Frequency","Variability",null,"Frequency",null,"Relative Frequency","Variability",null,"Frequency",null,"Relative Frequency","Variability",null,"Frequency",null,"Relative Frequency","Variability",null,"Frequency",null,"Relative Frequency","Variability",null,"Frequency",null,"Relative Frequency","Variability"]
[22,881,23,886,23,891,null,null,null,null,0,222,null,111,{"$f":"COUNTIF($L$7:$L$500,N7)","v":16},{"$f":"O7/$Q$4","v":0.10810810810810811},{"$f":"IF(P7=0,0,(P7*((LOG(P7))/LOG(2))))","v":-0.34696793141934595},null,null,{"$f":"N7","v":111},{"$f":"COUNTIF(L7:L31,T7)","v":0},{"$f":"U7/(W4-U10)","v":0},{"$f":"IF(V7=0,0,(V7*((LOG(V7))/LOG(2))))","v":0},null,{"$f":"N7","v":111},{"$f":"COUNTIF(L32:L55,Y7)","v":0},{"$f":"Z7/(AB4-Z10)","v":0},{"$f":"IF(AA7=0,0,(AA7*((LOG(AA7))/LOG(2))))","v":0},null,{"$f":"N7","v":111},{"$f":"COUNTIF(L56:L80,AD7)","v":5},{"$f":"AE7/(AG4-AE10)","v":0.20833333333333334},{"$f":"IF(AF7=0,0,(AF7*((LOG(AF7))/LOG(2))))","v":-0.47146550121537367},null,{"$f":"N7","v":111},{"$f":"COUNTIF(L81:L105,AI7)","v":5},{"$f":"AJ7/(AL4-AJ10)","v":0.21739130434782608},{"$f":"IF(AK7=0,0,(AK7*((LOG(AK7))/LOG(2))))","v":-0.47861605677601093},null,{"$f":"N7","v":111},{"$f":"COUNTIF(L106:L129,AN7)","v":3},{"$f":"AO7/(AQ4-AO10)","v":0.15},{"$f":"IF(AP7=0,0,(AP7*((LOG(AP7))/LOG(2))))","v":-0.41054483912493089},null,{"$f":"N7","v":111},{"$f":"COUNTIF(L130:L154,AS7)","v":3},{"$f":"AT7/(AV4-AT10)","v":0.14285714285714285},{"$f":"IF(AU7=0,0,(AU7*((LOG(AU7))/LOG(2))))","v":-0.40105070315108626}]
[22,1026,23,1031,23,1036,null,null,null,null,0,222,null,112,{"$f":"COUNTIF($L$7:$L$500,N8)","v":0},{"$f":"O8/$Q$4","v":0},{"$f":"IF(P8=0,0,(P8*((LOG(P8))/LOG(2))))","v":0},null,null,{"$f":"N8","v":112},{"$f":"COUNTIF(L7:L31,T8)","v":0},{"$f":"U8/(W4-U10)","v":0},{"$f":"IF(V8=0,0,(V8*((LOG(V8))/LOG(2))))","v":0},null,{"$f":"N8","v":112},{"$f":"COUNTIF(L32:L55,Y8)","v":0},{"$f":"Z8/(AB4-Z10)","v":0},{"$f":"IF(AA8=0,0,(AA8*((LOG(AA8))/LOG(2))))","v":0},null,{"$f":"N8","v":112},{"$f":"COUNTIF(L56:L80,AD8)","v":0},{"$f":"AE8/(AG4-AE10)","v":0},{"$f":"IF(AF8=0,0,(AF8*((LOG(AF8))/LOG(2))))","v":0},null,{"$f":"N8","v":112},{"$f":"COUNTIF(L81:L105,AI8)","v":0},{"$f":"AJ8/(AL4-AJ10)","v":0},{"$f":"IF(AK8=0,0,(AK8*((LOG(AK8))/LOG(2))))","v":0},null,{"$f":"N8","v":112},{"$f":"COUNTIF(L106:L129,AN8)","v":0},{"$f":"AO8/(AQ4-AO10)","v":0},{"$f":"IF(AP8=0,0,(AP8*((LOG(AP8))/LOG(2))))","v":0},null,{"$f":"N8","v":112},{"$f":"COUNTIF(L130:L154,AS8)","v":0},{"$f":"AT8/(AV4-AT10)","v":0},{"$f":"IF(AU8=0,0,(AU8*((LOG(AU8))/LOG(2))))","v":0}]
[22,1225,23,1229,23,1234,null,null,null,null,0,222,null,121,{"$f":"COUNTIF($L$7:$L$500,N9)","v":0},{"$f":"O9/$Q$4","v":0},{"$f":"IF(P9=0,0,(P9*((LOG(P9))/LOG(2))))","v":0},null,null,{"$f":"N9","v":121},{"$f":"COUNTIF(L7:L31,T9)","v":0},{"$f":"U9/(W4-U10)","v":0},{"$f":"IF(V9=0,0,(V9*((LOG(V9))/LOG(2))))","v":0},null,{"$f":"N9","v":121},{"$f":"COUNTIF(L32:L55,Y9)","v":0},{"$f":"Z9/(AB4-Z10)","v":0},{"$f":"IF(AA9=0,0,(AA9*((LOG(AA9))/LOG(2))))","v":0},null,{"$f":"N9","v":121},{"$f":"COUNTIF(L56:L80,AD9)","v":0},{"$f":"AE9/(AG4-AE10)","v":0},{"$f":"IF(AF9=0,0,(AF9*((LOG(AF9))/LOG(2))))","v":0},null,{"$f":"N9","v":121},{"$f":"COUNTIF(L81:L105,AI9)","v":0},{"$f":"AJ9/(AL4-AJ10)","v":0},{"$f":"IF(AK9=0,0,(AK9*((LOG(AK9))/LOG(2))))","v":0},null,{"$f":"N9","v":121},{"$f":"COUNTIF(L106:L129,AN9)","v":0},{"$f":"AO9/(AQ4-AO10)","v":0},{"$f":"IF(AP9=0,0,(AP9*((LOG(AP9))/LOG(2))))","v":0},null,{"$f":"N9","v":121},{"$f":"COUNTIF(L130:L154,AS9)","v":0},{"$f":"AT9/(AV4-AT10)","v":0},{"$f":"IF(AU9=0,0,(AU9*((LOG(AU9))/LOG(2))))","v":0}]
[22,1443,23,1447,23,1450,null,null,null,null,0,222,null,122,{"$f":"COUNTIF($L$7:$L$500,N10)","v":12},{"$f":"O10/$Q$4","v":8.1081081081081086E-2},{"$f":"IF(P10=0,0,(P10*((LOG(P10))/LOG(2))))","v":-0.29387763769522651},null,null,{"$f":"N10","v":122},{"$f":"COUNTIF(L7:L31,T10)","v":1},null,null,null,{"$f":"N10","v":122},{"$f":"COUNTIF(L32:L55,Y10)","v":0},null,null,null,{"$f":"N10","v":122},{"$f":"COUNTIF(L56:L80,AD10)","v":1},null,null,null,{"$f":"N10","v":122},{"$f":"COUNTIF(L81:L105,AI10)","v":2},null,null,null,{"$f":"N10","v":122},{"$f":"COUNTIF(L106:L129,AN10)","v":4},null,null,null,{"$f":"N10","v":122},{"$f":"COUNTIF(L130:L154,AS10)","v":4}]
[22,1593,23,1597,23,1601,null,null,null,null,0,222,null,211,{"$f":"COUNTIF($L$7:$L$500,N11)","v":6},{"$f":"O11/$Q$4","v":4.0540540540540543E-2},{"$f":"IF(P11=0,0,(P11*((LOG(P11))/LOG(2))))","v":-0.1874793593881538},null,null,{"$f":"N11","v":211},{"$f":"COUNTIF(L7:L31,T11)","v":3},{"$f":"U11/(W4-U10)","v":0.125},{"$f":"IF(V11=0,0,(V11*((LOG(V11))/LOG(2))))","v":-0.375},null,{"$f":"N11","v":211},{"$f":"COUNTIF(L32:L55,Y11)","v":0},{"$f":"Z11/(AB4-Z10)","v":0},{"$f":"IF(AA11=0,0,(AA11*((LOG(AA11))/LOG(2))))","v":0},null,{"$f":"N11","v":211},{"$f":"COUNTIF(L56:L80,AD11)","v":2},{"$f":"AE11/(AG4-AE10)","v":8.3333333333333329E-2},{"$f":"IF(AF11=0,0,(AF11*((LOG(AF11))/LOG(2))))","v":-0.29874687506009634},null,{"$f":"N11","v":211},{"$f":"COUNTIF(L81:L105,AI11)","v":0},{"$f":"AJ11/(AL4-AJ10)","v":0},{"$f":"IF(AK11=0,0,(AK11*((LOG(AK11))/LOG(2))))","v":0},null,{"$f":"N11","v":211},{"$f":"COUNTIF(L106:L129,AN11)","v":1},{"$f":"AO11/(AQ4-AO10)","v":0.05},{"$f":"IF(AP11=0,0,(AP11*((LOG(AP11))/LOG(2))))","v":-0.21609640474436814},null,{"$f":"N11","v":211},{"$f":"COUNTIF(L130:L154,AS11)","v":0},{"$f":"AT11/(AV4-AT10)","v":0},{"$f":"IF(AU11=0,0,(AU11*((LOG(AU11))/LOG(2))))","v":0}]
[22,2127,23,2135,23,2141,null,null,null,null,0,222,null,212,{"$f":"COUNTIF($L$7:$L$500,N12)","v":2},{"$f":"O12/$Q$4","v":1.3513513513513514E-2},{"$f":"IF(P12=0,0,(P12*((LOG(P12))/LOG(2))))","v":-8.3911531967958794E-2},null,null,{"$f":"N12","v":212},{"$f":"COUNTIF(L7:L31,T12)","v":0},{"$f":"U12/(W4-U10)","v":0},{"$f":"IF(V12=0,0,(V12*((LOG(V12))/LOG(2))))","v":0},null,{"$f":"N12","v":212},{"$f":"COUNTIF(L32:L55,Y12)","v":0},{"$f":"Z12/(AB4-Z10)","v":0},{"$f":"IF(AA12=0,0,(AA12*((LOG(AA12))/LOG(2))))","v":0},null,{"$f":"N12","v":212},{"$f":"COUNTIF(L56:L80,AD12)","v":0},{"$f":"AE12/(AG4-AE10)","v":0},{"$f":"IF(AF12=0,0,(AF12*((LOG(AF12))/LOG(2))))","v":0},null,{"$f":"N12","v":212},{"$f":"COUNTIF(L81:L105,AI12)","v":2},{"$f":"AJ12/(AL4-AJ10)","v":8.6956521739130432E-2},{"$f":"IF(AK12=0,0,(AK12*((LOG(AK12))/LOG(2))))","v":-0.30639669183104457},null,{"$f":"N12","v":212},{"$f":"COUNTIF(L106:L129,AN12)","v":0},{"$f":"AO12/(AQ4-AO10)","v":0},{"$f":"IF(AP12=0,0,(AP12*((LOG(AP12))/LOG(2))))","v":0},null,{"$f":"N12","v":212},{"$f":"COUNTIF(L130:L154,AS12)","v":0},{"$f":"AT12/(AV4-AT10)","v":0},{"$f":"IF(AU12=0,0,(AU12*((LOG(AU12))/LOG(2))))","v":0}]
[22,2240,23,2262,23,2268,null,null,null,null,0,222,null,221,{"$f":"COUNTIF($L$7:$L$500,N13)","v":7},{"$f":"O13/$Q$4","v":4.72972972972973E-2},{"$f":"IF(P13=0,0,(P13*((LOG(P13))/LOG(2))))","v":-0.20820735881756364},null,null,{"$f":"N13","v":221},{"$f":"COUNTIF(L7:L31,T13)","v":2},{"$f":"U13/(W4-U10)","v":8.3333333333333329E-2},{"$f":"IF(V13=0,0,(V13*((LOG(V13))/LOG(2))))","v":-0.29874687506009634},null,{"$f":"N13","v":221},{"$f":"COUNTIF(L32:L55,Y13)","v":2},{"$f":"Z13/(AB4-Z10)","v":8.3333333333333329E-2},{"$f":"IF(AA13=0,0,(AA13*((LOG(AA13))/LOG(2))))","v":-0.29874687506009634},null,{"$f":"N13","v":221},{"$f":"COUNTIF(L56:L80,AD13)","v":0},{"$f":"AE13/(AG4-AE10)","v":0},{"$f":"IF(AF13=0,0,(AF13*((LOG(AF13))/LOG(2))))","v":0},null,{"$f":"N13","v":221},{"$f":"COUNTIF(L81:L105,AI13)","v":1},{"$f":"AJ13/(AL4-AJ10)","v":4.3478260869565216E-2},{"$f":"IF(AK13=0,0,(AK13*((LOG(AK13))/LOG(2))))","v":-0.19667660678508753},null,{"$f":"N13","v":221},{"$f":"COUNTIF(L106:L129,AN13)","v":2},{"$f":"AO13/(AQ4-AO10)","v":0.1},{"$f":"IF(AP13=0,0,(AP13*((LOG(AP13))/LOG(2))))","v":-0.33219280948873625},null,{"$f":"N13","v":221},{"$f":"COUNTIF(L130:L154,AS13)","v":0},{"$f":"AT13/(AV4-AT10)","v":0},{"$f":"IF(AU13=0,0,(AU13*((LOG(AU13))/LOG(2))))","v":0}]
[22,2380,23,2384,23,2389,null,null,null,null,0,222,null,222,{"$f":"COUNTIF($L$7:$L$500,N14)","v":105},{"$f":"O14/$Q$4","v":0.70945945945945943},{"$f":"IF(P14=0,0,(P14*((LOG(P14))/LOG(2))))","v":-0.35132989213578952},null,null,{"$f":"N14","v":222},{"$f":"COUNTIF(L7:L31,T14)","v":19},{"$f":"U14/(W4-U10)","v":0.79166666666666663},{"$f":"IF(V14=0,0,(V14*((LOG(V14))/LOG(2))))","v":-0.26681936492807684},null,{"$f":"N14","v":222},{"$f":"COUNTIF(L32:L55,Y14)","v":22},{"$f":"Z14/(AB4-Z10)","v":0.91666666666666663},{"$f":"IF(AA14=0,0,(AA14*((LOG(AA14))/LOG(2))))","v":-0.1150699752435374},null,{"$f":"N14","v":222},{"$f":"COUNTIF(L56:L80,AD14)","v":17},{"$f":"AE14/(AG4-AE10)","v":0.70833333333333337},{"$f":"IF(AF14=0,0,(AF14*((LOG(AF14))/LOG(2))))","v":-0.35239559212516181},null,{"$f":"N14","v":222},{"$f":"COUNTIF(L81:L105,AI14)","v":15},{"$f":"AJ14/(AL4-AJ10)","v":0.65217391304347827},{"$f":"IF(AK14=0,0,(AK14*((LOG(AK14))/LOG(2))))","v":-0.40217697420553983},null,{"$f":"N14","v":222},{"$f":"COUNTIF(L106:L129,AN14)","v":14},{"$f":"AO14/(AQ4-AO10)","v":0.7},{"$f":"IF(AP14=0,0,(AP14*((LOG(AP14))/LOG(2))))","v":-0.36020122098083079},null,{"$f":"N14","v":222},{"$f":"COUNTIF(L130:L154,AS14)","v":18},{"$f":"AT14/(AV4-AT10)","v":0.8571428571428571},{"$f":"IF(AU14=0,0,(AU14*((LOG(AU14))/LOG(2))))","v":-0.19062207543124113}]
[22,2521,23,2525,23,2530,null,null,null,null,0,222,null,null,null,{"$f":"SUM(P7:P14)","v":1},{"$f":"-SUM(Q7:Q14)","v":1.4717737114240381},null,null,null,null,{"$f":"SUM(V7:V14)","v":1},{"$f":"-SUM(W7:W14)","v":0.94056623998817313},null,null,null,{"$f":"SUM(AA7:AA14)","v":1},{"$f":"-SUM(AB7:AB14)","v":0.41381685030363374},null,null,null,{"$f":"SUM(AF7:AF14)","v":1},{"$f":"-SUM(AG7:AG14)","v":1.1226079684006318},null,null,null,{"$f":"SUM(AK7:AK14)","v":1},{"$f":"-SUM(AL7:AL14)","v":1.383866329597683},null,null,null,{"$f":"SUM(AP7:AP14)","v":1},{"$f":"-SUM(AQ7:AQ14)","v":1.319035274338866},null,null,null,{"$f":"SUM(AU7:AU14)","v":1},{"$f":"-SUM(AV7:AV14)","v":0.59167277858232736}]
[22,2640,23,2648,23,2651,null,null,null,null,0,222,null,null,null,"U=",{"$f":"Q15/(LOG(Q4)/LOG(2))","v":0.20414497976236526},null,null,null,null,"U1=",{"$f":"W15/(LOG(W4)/LOG(2))","v":0.20253991543906966},null,null,null,"U2=",{"$f":"AB15/(LOG(AB4)/LOG(2))","v":9.0255231147156736E-2},null,null,null,"U3=",{"$f":"AG15/(LOG(AG4)/LOG(2))","v":0.24174046794827422},null,null,null,"U4=",{"$f":"AL15/(LOG(AL4)/LOG(2))","v":0.29799939383239488},null,null,null,"U5=",{"$f":"AQ15/(LOG(AQ4)/LOG(2))","v":0.28768725461361977},null,null,null,"U6=",{"$f":"AV15/(LOG(AV4)/LOG(2))","v":0.12740979789277876}]
[22,2753,23,2769,14,2777,null,null,null,null,0,221]
[22,2876,14,2889,14,2894,null,null,null,null,0,211]
[22,2993,23,3002,23,3006,null,null,null,null,0,222,null,"Total Target Seq"]
[22,3298,23,3302,23,3307,null,null,null,null,0,222,null,{"$f":"COUNTIF(L7:L154,G3)","v":12},null,25,24,25,25,24,25]
[22,3411,14,3422,14,3425,null,null,null,null,0,211,null,null,null,"% of reinforcement given in 6 equal intervals based on number of trials "]
[11,3587,21,3600,21,3604,null,null,null,null,0,122,null,null,null,"%_1","%_2","%_3","%_4","%_5","%_6"]
[22,3790,23,3794,23,3798,null,null,null,null,0,222,null,null,"target sequence",{"$f":"$G$3","v":122},{"$f":"$G$3","v":122},{"$f":"$G$3","v":122},{"$f":"$G$3","v":122},{"$f":"$G$3","v":122},{"$f":"$G$3","v":122}]
[22,3904,23,3907,23,3911,null,null,null,null,0,222,null,null,"total reinforcement",{"$f":"U10","v":1},{"$f":"Z10","v":0},{"$f":"AE10","v":1},{"$f":"AJ10","v":2},{"$f":"AO10","v":4},{"$f":"AT10","v":4}]
[22,4015,23,4019,23,4023,null,null,null,null,0,222,null,null,"% target"]
[22,4122,14,4131,14,4139,null,null,null,null,0,211,null,null,"CCRF"]
[22,4235,23,4239,23,4244,null,null,null,null,0,222,null,null,"% CCRf"]
[22,4343,23,4346,23,4350,null,null,null,null,0,222,null,null,"average response rate",{"$f":"F31/P20","v":187.96},{"$f":"(F55-F31)/Q20","v":133},{"$f":"(F80-F55)/R20","v":135.6},{"$f":"(F105-F80)/S20","v":146.52000000000001},{"$f":"(F129-F105)/T20","v":142},{"$f":"(F154-F129)/U20","v":189.44}]
[22,4448,23,4453,23,4458,null,null,null,null,0,222]
[22,4579,23,4585,23,4589,null,null,null,null,0,222]
[22,4681,23,4690,14,4699,null,null,null,null,0,221]
[22,4893,23,4897,23,4904,null,null,null,null,0,222]
[22,5029,23,5038,23,5045,null,null,null,null,0,222]
[22,5151,23,5155,14,5167,null,null,null,null,0,221]
[22,5270,23,5280,14,5289,null,null,null,null,0,221]
[22,5401,23,5407,23,5411,null,null,null,null,0,222]
[22,5515,23,5519,23,5523,null,null,null,null,0,222]
[22,5641,23,5644,23,5648,null,null,null,null,0,222]
[22,5755,23,5778,23,5782,null,null,null,null,0,222]
[22,5883,23,5909,23,5914,null,null,null,null,0,222]
[22,6011,23,6019,23,6024,null,null,null,null,0,222]
[22,6120,23,6124,23,6127,null,null,null,null,0,222]
[22,6262,23,6268,23,6273,null,null,null,null,0,222]
[22,6404,23,6407,23,6412,null,null,null,null,0,222]
[22,6515,23,6531,23,6536,null,null,null,null,0,222]
[22,6653,23,6656,23,6666,null,null,null,null,0,222]
[22,6786,23,6790,23,6796,null,null,null,null,0,222]
[22,6914,23,6921,23,6926,null,null,null,null,0,222]
[22,7071,23,7076,23,7086,null,null,null,null,0,222]
[22,7222,23,7225,23,7230,null,null,null,null,0,222]
[22,7363,23,7368,23,7373,null,null,null,null,0,222]
[22,7478,23,7509,23,7514,null,null,null,null,0,222]
[22,7630,23,7632,23,7640,null,null,null,null,0,222]
[22,7758,23,7764,23,7768,null,null,null,null,0,222]
[22,7868,23,7882,23,7891,null,null,null,null,0,222]
[22,8005,14,8017,14,8021,null,null,null,null,0,211]
[22,8120,23,8123,23,8131,null,null,null,null,0,222]
[22,8243,23,8253,23,8257,null,null,null,null,0,222]
[11,8364,21,8379,21,8383,null,null,null,null,0,122]
[22,8604,23,8607,23,8612,null,null,null,null,0,222]
[22,8726,23,8729,23,8733,null,null,null,null,0,222]
[22,8853,23,8856,23,8860,null,null,null,null,0,222]
[22,8975,23,8978,23,8984,null,null,null,null,0,222]
[22,9098,23,9102,23,9106,null,null,null,null,0,222]
[22,9229,23,9233,23,9242,null,null,null,null,0,222]
[22,9353,23,9355,23,9359,null,null,null,null,0,222]
[22,9487,23,9491,23,9503,null,null,null,null,0,222]
[11,9625,12,9628,14,9634,null,null,null,null,0,111]
[22,9784,23,9789,23,9800,null,null,null,null,0,222]
[11,9912,12,9915,14,9922,null,null,null,null,0,111]
[22,10057,23,10061,23,10065,null,null,null,null,0,222]
[11,10182,12,10190,14,10194,null,null,null,null,0,111]
[22,10306,23,10310,23,10314,null,null,null,null,0,222]
[22,10481,23,10485,23,10494,null,null,null,null,0,222]
[22,10621,23,10625,23,10629,null,null,null,null,0,222]
[22,10729,14,10758,14,10763,null,null,null,null,0,211]
[11,10873,12,10878,14,10881,null,null,null,null,0,111]
[22,11009,23,11012,23,11016,null,null,null,null,0,222]
[22,11144,23,11148,23,11153,null,null,null,null,0,222]
[11,11266,12,11272,14,11281,null,null,null,null,0,111]
[11,11398,12,11401,14,11406,null,null,null,null,0,111]
[11,11526,12,11528,14,11537,null,null,null,null,0,111]
[22,11664,23,11667,23,11695,null,null,null,null,0,222]
[22,11793,14,11801,23,11815,null,null,null,null,0,212]
[22,11912,23,11920,23,11923,null,null,null,null,0,222]
[11,12061,21,12075,21,12080,null,null,null,null,0,122]
[22,12409,23,12412,23,12417,null,null,null,null,0,222]
[22,12537,23,12540,23,12544,null,null,null,null,0,222]
[22,12666,23,12672,23,12677,null,null,null,null,0,222]
[22,12823,23,12828,23,12837,null,null,null,null,0,222]
[22,12966,23,12971,23,12978,null,null,null,null,0,222]
[11,13099,12,13102,14,13108,null,null,null,null,0,111]
[11,13216,12,13219,14,13225,null,null,null,null,0,111]
[22,13337,23,13346,23,13351,null,null,null,null,0,222]
[22,13449,14,13456,23,13468,null,null,null,null,0,212]
[22,13570,23,13591,23,13597,null,null,null,null,0,222]
[22,13726,23,13730,23,13735,null,null,null,null,0,222]
[22,13894,23,13899,23,13906,null,null,null,null,0,222]
[11,14029,12,14032,14,14037,null,null,null,null,0,111]
[22,14138,23,14153,23,14158,null,null,null,null,0,222]
[11,14259,21,14292,21,14296,null,null,null,null,0,122]
[22,14516,23,14520,23,14531,null,null,null,null,0,222]
[22,14659,23,14663,23,14666,null,null,null,null,0,222]
[22,14783,23,14787,14,14813,null,null,null,null,0,221]
[22,14935,23,14939,23,14944,null,null,null,null,0,222]
[22,15052,23,15067,23,15072,null,null,null,null,0,222]
[11,15187,21,15202,21,15206,null,null,null,null,0,122]
[22,15473,23,15477,23,15484,null,null,null,null,0,222]
[11,15584,21,15597,21,15600,null,null,null,null,0,122]
[11,15759,12,15766,14,15770,null,null,null,null,0,111]
[11,15868,21,15882,21,15886,null,null,null,null,0,122]
[11,16071,21,16083,21,16088,null,null,null,null,0,122]
[11,16285,12,16293,14,16303,null,null,null,null,0,111]
[22,16413,23,16416,23,16424,null,null,null,null,0,222]
[22,16529,23,16532,23,16537,null,null,null,null,0,222]
[22,16659,23,16663,23,16672,null,null,null,null,0,222]
[22,16783,23,16786,14,16803,null,null,null,null,0,221]
[22,16904,23,16909,23,16915,null,null,null,null,0,222]
[22,17027,23,17030,14,17050,null,null,null,null,0,221]
[22,17183,23,17188,23,17194,null,null,null,null,0,222]
[22,17322,23,17326,23,17345,null,null,null,null,0,222]
[11,17458,12,17462,14,17467,null,null,null,null,0,111]
[22,17568,23,17592,23,17596,null,null,null,null,0,222]
[22,17704,23,17708,23,17712,null,null,null,null,0,222]
[22,17830,23,17834,23,17838,null,null,null,null,0,222]
[22,17941,14,17951,14,17954,null,null,null,null,0,211]
[22,18073,23,18077,23,18081,null,null,null,null,0,222]
[22,18184,23,18187,23,18191,null,null,null,null,0,222]
[22,18342,23,18346,23,18352,null,null,null,null,0,222]
[22,18484,23,18489,23,18493,null,null,null,null,0,222]
[22,18594,23,18610,23,18616,null,null,null,null,0,222]
[22,18742,23,18745,23,18750,null,null,null,null,0,222]
[22,18849,23,18852,23,18856,null,null,null,null,0,222]
[22,18979,23,18983,23,18989,null,null,null,null,0,222]
[11,19111,21,19124,21,19128,null,null,null,null,0,122]
[22,19318,23,19321,23,19325,null,null,null,null,0,222]
[11,19435,12,19438,14,19442,null,null,null,null,0,111]
[22,19553,23,19576,23,19580,null,null,null,null,0,222]
[22,19685,23,19688,23,19692,null,null,null,null,0,222]
[22,19789,23,19810,23,19814,null,null,null,null,0,222]
[22,19921,23,19932,23,19935,null,null,null,null,0,222]
[22,20054,23,20057,23,20065,null,null,null,null,0,222]
[22,20182,23,20186,23,20192,null,null,null,null,0,222]
[11,20299,21,20313,21,20317,null,null,null,null,0,122]
[22,21972,23,21977,23,21993,null,null,null,null,0,222]
[22,22108,23,22113,23,22119,null,null,null,null,0,222]
[11,22238,12,22242,14,22248,null,null,null,null,0,111]
[22,22365,23,22370,23,22375,null,null,null,null,0,222]
[11,22471,21,22485,21,22488,null,null,null,null,0,122]
[22,22586,23,22589,23,22593,null,null,null,null,0,222]
[11,22701,12,22706,14,22709,null,null,null,null,0,111]
[22,22829,23,22833,23,22842,null,null,null,null,0,222]
[22,22950,23,22954,23,22960,null,null,null,null,0,222]
[11,23070,21,23083,21,23088,null,null,null,null,0,122]

{"sheet":"!LB13A23..Ta","index":7,"n_rows":114,"n_cols":48,"rows_kept":114,"cut":false,"hidden":false,"merged":[[4,39,4,42],[5,39,5,40],[4,44,4,47],[5,44,5,45],[4,24,4,27],[5,24,5,25],[4,29,4,32],[5,29,5,30],[4,34,4,37],[5,34,5,35],[1,1,1,2],[5,13,5,14],[18,13,18,14],[19,13,19,14],[4,19,4,22],[5,19,5,20]]}
["Report for:!LB13A23..Ta"]
["Date:","<date>"]
["Hen:","<hen>",null,null,null,"Correct Sequence",{"$f":"Start!J2","v":122},null,null,null,null,null,null,null,null,"Total Sequences in Data",{"$f":"4994-COUNTBLANK(L7:L5000)","v":108},null,null,null,null,"Total Sequences in Block Data",{"$f":"COUNTA(L7:L24)","v":18},null,null,null,"Total Sequences in Block Data",{"$f":"COUNTA(L25:L42)","v":18},null,null,null,"Total Sequences in Block Data",{"$f":"COUNTA(L43:L60)","v":18},null,null,null,"Total Sequences in Block Data",{"$f":"COUNTA(L61:L78)","v":18},null,null,null,"Total Sequences in Block Data",{"$f":"COUNTA(L79:L96)","v":18},null,null,null,"Total Sequences in Block Data",{"$f":"COUNTA(L97:L114)","v":18}]
[null,null,null,null,null,null,null,null,null,null,null,null,null,null,null,"Total Sequences in Summary",{"$f":"SUM(O7:O14)","v":108},null,null,null,null,"Total Sequences in Block Summary",{"$f":"SUM(U7:U14)","v":18},null,null,null,"Total Sequences in Block Summary",{"$f":"SUM(Z7:Z14)","v":18},null,null,null,"Total Sequences in Block Summary",{"$f":"SUM(AE7:AE14)","v":18},null,null,null,"Total Sequences in Block Summary",{"$f":"SUM(AJ7:AJ14)","v":18},null,null,null,"Total Sequences in Block Summary",{"$f":"SUM(AO7:AO14)","v":18},null,null,null,"Total Sequences in Block Summary",{"$f":"SUM(AT7:AT14)","v":18}]
[null,null,null,null,null,null,null,null,null,null,null,null,null,null,null,null,null,null,null,"Block 1",null,null,null,null,"Block 2",null,null,null,null,"Block 3",null,null,null,null,"Block 4",null,null,null,null,"Block 5",null,null,null,null,"Block 6"]
["Sequence\nComponent\n1","Time\n1","Sequence\nComponent\n2","Time\n2","Sequence\nComponent\n3","Time\n3","Sequence\nComponent\n4","Time\n4","Sequence\nComponent\n5","Time\n5","Correct?\n0=No 1=Yes","Sequence",null,"Frequency",null,"Relative Frequency","Variability",null,null,"Frequency",null,"Relative Frequency","Variability",null,"Frequency",null,"Relative Frequency","Variability",null,"Frequency",null,"Relative Frequency","Variability",null,"Frequency",null,"Relative Frequency","Variability",null,"Frequency",null,"Relative Frequency","Variability",null,"Frequency",null,"Relative Frequency","Variability"]
[22,24,23,29,23,33,null,null,null,null,0,222,null,111,{"$f":"COUNTIF($L$7:$L$500,N7)","v":12},{"$f":"O7/$Q$4","v":0.1111111111111111},{"$f":"IF(P7=0,0,(P7*((LOG(P7))/LOG(2))))","v":-0.3522138890491458},null,null,{"$f":"N7","v":111},{"$f":"COUNTIF(L7:L24,T7)","v":0},{"$f":"U7/(W4-U10)","v":0},{"$f":"IF(V7=0,0,(V7*((LOG(V7))/LOG(2))))","v":0},null,{"$f":"N7","v":111},{"$f":"COUNTIF(L25:L42,Y7)","v":1},{"$f":"Z7/(AB4-Z10)","v":9.0909090909090912E-2},{"$f":"IF(AA7=0,0,(AA7*((LOG(AA7))/LOG(2))))","v":-0.31449378351248153},null,{"$f":"N7","v":111},{"$f":"COUNTIF(L43:L60,AD7)","v":2},{"$f":"AE7/(AG4-AE10)","v":0.14285714285714285},{"$f":"IF(AF7=0,0,(AF7*((LOG(AF7))/LOG(2))))","v":-0.40105070315108626},null,{"$f":"N7","v":111},{"$f":"COUNTIF(L61:L78,AI7)","v":4},{"$f":"AJ7/(AL4-AJ10)","v":0.25},{"$f":"IF(AK7=0,0,(AK7*((LOG(AK7))/LOG(2))))","v":-0.5},null,{"$f":"N7","v":111},{"$f":"COUNTIF(L79:L96,AN7)","v":2},{"$f":"AO7/(AQ4-AO10)","v":0.18181818181818182},{"$f":"IF(AP7=0,0,(AP7*((LOG(AP7))/LOG(2))))","v":-0.44716938520678134},null,{"$f":"N7","v":111},{"$f":"COUNTIF(L97:L114,AS7)","v":3},{"$f":"AT7/(AV4-AT10)","v":0.25},{"$f":"IF(AU7=0,0,(AU7*((LOG(AU7))/LOG(2))))","v":-0.5}]
[22,130,14,146,14,149,null,null,null,null,0,211,null,112,{"$f":"COUNTIF($L$7:$L$500,N8)","v":10},{"$f":"O8/$Q$4","v":9.2592592592592587E-2},{"$f":"IF(P8=0,0,(P8*((LOG(P8))/LOG(2))))","v":-0.31786661178482462},null,null,{"$f":"N8","v":112},{"$f":"COUNTIF(L7:L24,T8)","v":0},{"$f":"U8/(W4-U10)","v":0},{"$f":"IF(V8=0,0,(V8*((LOG(V8))/LOG(2))))","v":0},null,{"$f":"N8","v":112},{"$f":"COUNTIF(L25:L42,Y8)","v":1},{"$f":"Z8/(AB4-Z10)","v":9.0909090909090912E-2},{"$f":"IF(AA8=0,0,(AA8*((LOG(AA8))/LOG(2))))","v":-0.31449378351248153},null,{"$f":"N8","v":112},{"$f":"COUNTIF(L43:L60,AD8)","v":3},{"$f":"AE8/(AG4-AE10)","v":0.21428571428571427},{"$f":"IF(AF8=0,0,(AF8*((LOG(AF8))/LOG(2))))","v":-0.47622694742923877},null,{"$f":"N8","v":112},{"$f":"COUNTIF(L61:L78,AI8)","v":0},{"$f":"AJ8/(AL4-AJ10)","v":0},{"$f":"IF(AK8=0,0,(AK8*((LOG(AK8))/LOG(2))))","v":0},null,{"$f":"N8","v":112},{"$f":"COUNTIF(L79:L96,AN8)","v":3},{"$f":"AO8/(AQ4-AO10)","v":0.27272727272727271},{"$f":"IF(AP8=0,0,(AP8*((LOG(AP8))/LOG(2))))","v":-0.51121885034076575},null,{"$f":"N8","v":112},{"$f":"COUNTIF(L97:L114,AS8)","v":3},{"$f":"AT8/(AV4-AT10)","v":0.25},{"$f":"IF(AU8=0,0,(AU8*((LOG(AU8))/LOG(2))))","v":-0.5}]
[22,242,23,254,23,258,null,null,null,null,0,222,null,121,{"$f":"COUNTIF($L$7:$L$500,N9)","v":2},{"$f":"O9/$Q$4","v":1.8518518518518517E-2},{"$f":"IF(P9=0,0,(P9*((LOG(P9))/LOG(2))))","v":-0.10657199078080498},null,null,{"$f":"N9","v":121},{"$f":"COUNTIF(L7:L24,T9)","v":0},{"$f":"U9/(W4-U10)","v":0},{"$f":"IF(V9=0,0,(V9*((LOG(V9))/LOG(2))))","v":0},null,{"$f":"N9","v":121},{"$f":"COUNTIF(L25:L42,Y9)","v":0},{"$f":"Z9/(AB4-Z10)","v":0},{"$f":"IF(AA9=0,0,(AA9*((LOG(AA9))/LOG(2))))","v":0},null,{"$f":"N9","v":121},{"$f":"COUNTIF(L43:L60,AD9)","v":1},{"$f":"AE9/(AG4-AE10)","v":7.1428571428571425E-2},{"$f":"IF(AF9=0,0,(AF9*((LOG(AF9))/LOG(2))))","v":-0.27195392300411453},null,{"$f":"N9","v":121},{"$f":"COUNTIF(L61:L78,AI9)","v":0},{"$f":"AJ9/(AL4-AJ10)","v":0},{"$f":"IF(AK9=0,0,(AK9*((LOG(AK9))/LOG(2))))","v":0},null,{"$f":"N9","v":121},{"$f":"COUNTIF(L79:L96,AN9)","v":0},{"$f":"AO9/(AQ4-AO10)","v":0},{"$f":"IF(AP9=0,0,(AP9*((LOG(AP9))/LOG(2))))","v":0},null,{"$f":"N9","v":121},{"$f":"COUNTIF(L97:L114,AS9)","v":1},{"$f":"AT9/(AV4-AT10)","v":8.3333333333333329E-2},{"$f":"IF(AU9=0,0,(AU9*((LOG(AU9))/LOG(2))))","v":-0.29874687506009634}]
[22,378,23,384,23,389,null,null,null,null,0,222,null,122,{"$f":"COUNTIF($L$7:$L$500,N10)","v":29},{"$f":"O10/$Q$4","v":0.26851851851851855},{"$f":"IF(P10=0,0,(P10*((LOG(P10))/LOG(2))))","v":-0.50935452503741663},null,null,{"$f":"N10","v":122},{"$f":"COUNTIF(L7:L24,T10)","v":3},null,null,null,{"$f":"N10","v":122},{"$f":"COUNTIF(L25:L42,Y10)","v":7},null,null,null,{"$f":"N10","v":122},{"$f":"COUNTIF(L43:L60,AD10)","v":4},null,null,null,{"$f":"N10","v":122},{"$f":"COUNTIF(L61:L78,AI10)","v":2},null,null,null,{"$f":"N10","v":122},{"$f":"COUNTIF(L79:L96,AN10)","v":7},null,null,null,{"$f":"N10","v":122},{"$f":"COUNTIF(L97:L114,AS10)","v":6}]
[22,503,23,509,23,514,null,null,null,null,0,222,null,211,{"$f":"COUNTIF($L$7:$L$500,N11)","v":9},{"$f":"O11/$Q$4","v":8.3333333333333329E-2},{"$f":"IF(P11=0,0,(P11*((LOG(P11))/LOG(2))))","v":-0.29874687506009634},null,null,{"$f":"N11","v":211},{"$f":"COUNTIF(L7:L24,T11)","v":4},{"$f":"U11/(W4-U10)","v":0.26666666666666666},{"$f":"IF(V11=0,0,(V11*((LOG(V11))/LOG(2))))","v":-0.50850415882893829},null,{"$f":"N11","v":211},{"$f":"COUNTIF(L25:L42,Y11)","v":1},{"$f":"Z11/(AB4-Z10)","v":9.0909090909090912E-2},{"$f":"IF(AA11=0,0,(AA11*((LOG(AA11))/LOG(2))))","v":-0.31449378351248153},null,{"$f":"N11","v":211},{"$f":"COUNTIF(L43:L60,AD11)","v":3},{"$f":"AE11/(AG4-AE10)","v":0.21428571428571427},{"$f":"IF(AF11=0,0,(AF11*((LOG(AF11))/LOG(2))))","v":-0.47622694742923877},null,{"$f":"N11","v":211},{"$f":"COUNTIF(L61:L78,AI11)","v":1},{"$f":"AJ11/(AL4-AJ10)","v":6.25E-2},{"$f":"IF(AK11=0,0,(AK11*((LOG(AK11))/LOG(2))))","v":-0.25},null,{"$f":"N11","v":211},{"$f":"COUNTIF(L79:L96,AN11)","v":0},{"$f":"AO11/(AQ4-AO10)","v":0},{"$f":"IF(AP11=0,0,(AP11*((LOG(AP11))/LOG(2))))","v":0},null,{"$f":"N11","v":211},{"$f":"COUNTIF(L97:L114,AS11)","v":0},{"$f":"AT11/(AV4-AT10)","v":0},{"$f":"IF(AU11=0,0,(AU11*((LOG(AU11))/LOG(2))))","v":0}]
[22,644,23,650,23,655,null,null,null,null,0,222,null,212,{"$f":"COUNTIF($L$7:$L$500,N12)","v":4},{"$f":"O12/$Q$4","v":3.7037037037037035E-2},{"$f":"IF(P12=0,0,(P12*((LOG(P12))/LOG(2))))","v":-0.1761069445245729},null,null,{"$f":"N12","v":212},{"$f":"COUNTIF(L7:L24,T12)","v":0},{"$f":"U12/(W4-U10)","v":0},{"$f":"IF(V12=0,0,(V12*((LOG(V12))/LOG(2))))","v":0},null,{"$f":"N12","v":212},{"$f":"COUNTIF(L25:L42,Y12)","v":0},{"$f":"Z12/(AB4-Z10)","v":0},{"$f":"IF(AA12=0,0,(AA12*((LOG(AA12))/LOG(2))))","v":0},null,{"$f":"N12","v":212},{"$f":"COUNTIF(L43:L60,AD12)","v":0},{"$f":"AE12/(AG4-AE10)","v":0},{"$f":"IF(AF12=0,0,(AF12*((LOG(AF12))/LOG(2))))","v":0},null,{"$f":"N12","v":212},{"$f":"COUNTIF(L61:L78,AI12)","v":1},{"$f":"AJ12/(AL4-AJ10)","v":6.25E-2},{"$f":"IF(AK12=0,0,(AK12*((LOG(AK12))/LOG(2))))","v":-0.25},null,{"$f":"N12","v":212},{"$f":"COUNTIF(L79:L96,AN12)","v":2},{"$f":"AO12/(AQ4-AO10)","v":0.18181818181818182},{"$f":"IF(AP12=0,0,(AP12*((LOG(AP12))/LOG(2))))","v":-0.44716938520678134},null,{"$f":"N12","v":212},{"$f":"COUNTIF(L97:L114,AS12)","v":1},{"$f":"AT12/(AV4-AT10)","v":8.3333333333333329E-2},{"$f":"IF(AU12=0,0,(AU12*((LOG(AU12))/LOG(2))))","v":-0.29874687506009634}]
[22,784,23,790,23,796,null,null,null,null,0,222,null,221,{"$f":"COUNTIF($L$7:$L$500,N13)","v":0},{"$f":"O13/$Q$4","v":0},{"$f":"IF(P13=0,0,(P13*((LOG(P13))/LOG(2))))","v":0},null,null,{"$f":"N13","v":221},{"$f":"COUNTIF(L7:L24,T13)","v":0},{"$f":"U13/(W4-U10)","v":0},{"$f":"IF(V13=0,0,(V13*((LOG(V13))/LOG(2))))","v":0},null,{"$f":"N13","v":221},{"$f":"COUNTIF(L25:L42,Y13)","v":0},{"$f":"Z13/(AB4-Z10)","v":0},{"$f":"IF(AA13=0,0,(AA13*((LOG(AA13))/LOG(2))))","v":0},null,{"$f":"N13","v":221},{"$f":"COUNTIF(L43:L60,AD13)","v":0},{"$f":"AE13/(AG4-AE10)","v":0},{"$f":"IF(AF13=0,0,(AF13*((LOG(AF13))/LOG(2))))","v":0},null,{"$f":"N13","v":221},{"$f":"COUNTIF(L61:L78,AI13)","v":0},{"$f":"AJ13/(AL4-AJ10)","v":0},{"$f":"IF(AK13=0,0,(AK13*((LOG(AK13))/LOG(2))))","v":0},null,{"$f":"N13","v":221},{"$f":"COUNTIF(L79:L96,AN13)","v":0},{"$f":"AO13/(AQ4-AO10)","v":0},{"$f":"IF(AP13=0,0,(AP13*((LOG(AP13))/LOG(2))))","v":0},null,{"$f":"N13","v":221},{"$f":"COUNTIF(L97:L114,AS13)","v":0},{"$f":"AT13/(AV4-AT10)","v":0},{"$f":"IF(AU13=0,0,(AU13*((LOG(AU13))/LOG(2))))","v":0}]
[11,894,21,911,21,915,null,null,null,null,0,122,null,222,{"$f":"COUNTIF($L$7:$L$500,N14)","v":42},{"$f":"O14/$Q$4","v":0.3888888888888889},{"$f":"IF(P14=0,0,(P14*((LOG(P14))/LOG(2))))","v":-0.52988836420516428},null,null,{"$f":"N14","v":222},{"$f":"COUNTIF(L7:L24,T14)","v":11},{"$f":"U14/(W4-U10)","v":0.73333333333333328},{"$f":"IF(V14=0,0,(V14*((LOG(V14))/LOG(2))))","v":-0.32813658311222899},null,{"$f":"N14","v":222},{"$f":"COUNTIF(L25:L42,Y14)","v":8},{"$f":"Z14/(AB4-Z10)","v":0.72727272727272729},{"$f":"IF(AA14=0,0,(AA14*((LOG(AA14))/LOG(2))))","v":-0.33413208628167068},null,{"$f":"N14","v":222},{"$f":"COUNTIF(L43:L60,AD14)","v":5},{"$f":"AE14/(AG4-AE10)","v":0.35714285714285715},{"$f":"IF(AF14=0,0,(AF14*((LOG(AF14))/LOG(2))))","v":-0.53050958113222924},null,{"$f":"N14","v":222},{"$f":"COUNTIF(L61:L78,AI14)","v":10},{"$f":"AJ14/(AL4-AJ10)","v":0.625},{"$f":"IF(AK14=0,0,(AK14*((LOG(AK14))/LOG(2))))","v":-0.42379494069539858},null,{"$f":"N14","v":222},{"$f":"COUNTIF(L79:L96,AN14)","v":4},{"$f":"AO14/(AQ4-AO10)","v":0.36363636363636365},{"$f":"IF(AP14=0,0,(AP14*((LOG(AP14))/LOG(2))))","v":-0.53070240677719893},null,{"$f":"N14","v":222},{"$f":"COUNTIF(L97:L114,AS14)","v":4},{"$f":"AT14/(AV4-AT10)","v":0.33333333333333331},{"$f":"IF(AU14=0,0,(AU14*((LOG(AU14))/LOG(2))))","v":-0.52832083357371862}]
[11,1047,21,1056,21,1064,null,null,null,null,0,122,null,null,null,{"$f":"SUM(P7:P14)","v":1},{"$f":"-SUM(Q7:Q14)","v":2.2907492004420256},null,null,null,null,{"$f":"SUM(V7:V14)","v":1},{"$f":"-SUM(W7:W14)","v":0.83664074194116722},null,null,null,{"$f":"SUM(AA7:AA14)","v":1},{"$f":"-SUM(AB7:AB14)","v":1.2776134368191152},null,null,null,{"$f":"SUM(AF7:AF14)","v":1},{"$f":"-SUM(AG7:AG14)","v":2.1559681021459078},null,null,null,{"$f":"SUM(AK7:AK14)","v":1},{"$f":"-SUM(AL7:AL14)","v":1.4237949406953985},null,null,null,{"$f":"SUM(AP7:AP14)","v":1},{"$f":"-SUM(AQ7:AQ14)","v":1.9362600275315272},null,null,null,{"$f":"SUM(AU7:AU14)","v":1},{"$f":"-SUM(AV7:AV14)","v":2.1258145836939111}]
[22,1179,23,1184,23,1186,null,null,null,null,0,222,null,null,null,"U=",{"$f":"Q15/(LOG(Q4)/LOG(2))","v":0.33912470040520137},null,null,null,null,"U1=",{"$f":"W15/(LOG(W4)/LOG(2))","v":0.20063687995630286},null,null,null,"U2=",{"$f":"AB15/(LOG(AB4)/LOG(2))","v":0.30638762960417959},null,null,null,"U3=",{"$f":"AG15/(LOG(AG4)/LOG(2))","v":0.51702802841782336},null,null,null,"U4=",{"$f":"AL15/(LOG(AL4)/LOG(2))","v":0.34144377661538994},null,null,null,"U5=",{"$f":"AQ15/(LOG(AQ4)/LOG(2))","v":0.46433929311961364},null,null,null,"U6=",{"$f":"AV15/(LOG(AV4)/LOG(2))","v":0.50979683878214233}]
[22,1293,23,1296,23,1300,null,null,null,null,0,222]
[22,1432,23,1437,23,1443,null,null,null,null,0,222]
[22,1562,14,1569,14,1577,null,null,null,null,0,211,null,"Total Target Seq"]
[22,1685,14,1703,14,1707,null,null,null,null,0,211,null,{"$f":"COUNTIF(L7:L114,G3)","v":29},null,18,18,18,18,18,18]
[22,1828,23,1831,23,1835,null,null,null,null,0,222,null,null,null,"% of reinforcement given in 6 equal intervals based on number of trials "]
[22,1944,23,1958,23,1963,null,null,null,null,0,222,null,null,null,"%_1","%_2","%_3","%_4","%_5","%_6"]
[11,2075,21,2085,21,2090,null,null,null,null,0,122,null,null,"target sequence",{"$f":"$G$3","v":122},{"$f":"$G$3","v":122},{"$f":"$G$3","v":122},{"$f":"$G$3","v":122},{"$f":"$G$3","v":122},{"$f":"$G$3","v":122}]
[22,2185,14,2210,14,2214,null,null,null,null,0,211,null,null,"total reinforcement",{"$f":"U10","v":3},{"$f":"Z10","v":7},{"$f":"AE10","v":4},{"$f":"AJ10","v":2},{"$f":"AO10","v":7},{"$f":"AT10","v":6}]
[22,2336,23,2338,23,2342,null,null,null,null,0,222,null,null,"% target"]
[11,2469,21,2483,21,2487,null,null,null,null,0,122,null,null,"CCRF"]
[22,2604,23,2607,23,2613,null,null,null,null,0,222,null,null,"% CCRf"]
[11,2715,21,2729,21,2733,null,null,null,null,0,122,null,null,"average response rate",{"$f":"F24/P20","v":123},{"$f":"(F42-F24)/Q20","v":135.88888888888889},{"$f":"(F60-F42)/R20","v":153.83333333333334},{"$f":"(F78-F60)/S20","v":372.66666666666669},{"$f":"(F96-F78)/T20","v":185.88888888888889},{"$f":"(F114-F96)/U20","v":327.16666666666669}]
[22,2883,23,2891,23,2898,null,null,null,null,0,222]
[11,3049,21,3059,21,3062,null,null,null,null,0,122]
[22,3179,23,3183,23,3188,null,null,null,null,0,222]
[22,3325,23,3330,23,3335,null,null,null,null,0,222]
[11,3437,21,3460,21,3464,null,null,null,null,0,122]
[22,3595,23,3599,23,3607,null,null,null,null,0,222]
[22,3733,23,3737,23,3742,null,null,null,null,0,222]
[11,3848,12,3853,14,3862,null,null,null,null,0,111]
[11,3961,21,3974,21,3990,null,null,null,null,0,122]
[11,4084,12,4103,23,4115,null,null,null,null,0,112]
[22,4216,14,4228,14,4236,null,null,null,null,0,211]
[11,4361,21,4376,21,4381,null,null,null,null,0,122]
[11,4501,21,4509,21,4516,null,null,null,null,0,122]
[22,4651,23,4654,23,4660,null,null,null,null,0,222]
[11,4787,21,4795,12,4805,null,null,null,null,0,121]
[22,4966,14,4975,14,4980,null,null,null,null,0,211]
[22,5106,23,5118,23,5122,null,null,null,null,0,222]
[11,5240,12,5257,23,5271,null,null,null,null,0,112]
[11,5376,21,5398,21,5403,null,null,null,null,0,122]
[22,5583,23,5593,23,5596,null,null,null,null,0,222]
[22,5718,23,5720,23,5724,null,null,null,null,0,222]
[11,5845,12,5849,14,5859,null,null,null,null,0,111]
[11,5994,12,6004,23,6021,null,null,null,null,0,112]
[22,6187,23,6191,23,6195,null,null,null,null,0,222]
[11,6322,21,6346,21,6350,null,null,null,null,0,122]
[11,6449,12,6454,14,6475,null,null,null,null,0,111]
[22,6632,23,6635,23,6643,null,null,null,null,0,222]
[22,6780,14,6790,14,6794,null,null,null,null,0,211]
[11,6930,21,6942,21,6946,null,null,null,null,0,122]
[11,7070,12,7074,23,7091,null,null,null,null,0,112]
[11,7298,21,7315,21,7319,null,null,null,null,0,122]
[22,7414,14,7427,14,7429,null,null,null,null,0,211]
[11,7626,12,7630,14,7634,null,null,null,null,0,111]
[11,7766,12,7769,14,7773,null,null,null,null,0,111]
[22,8251,23,8254,23,8258,null,null,null,null,0,222]
[22,8909,14,8927,23,9337,null,null,null,null,0,212]
[22,12359,23,12368,23,12380,null,null,null,null,0,222]
[22,12502,23,12506,23,12509,null,null,null,null,0,222]
[22,12631,23,12635,23,12640,null,null,null,null,0,222]
[22,12744,14,12762,14,12767,null,null,null,null,0,211]
[22,12872,23,12880,23,12889,null,null,null,null,0,222]
[11,13002,12,13020,14,13026,null,null,null,null,0,111]
[22,13135,23,13150,23,13154,null,null,null,null,0,222]
[11,13274,21,13289,21,13294,null,null,null,null,0,122]
[22,13402,23,13406,23,13412,null,null,null,null,0,222]
[22,13588,23,13597,23,13603,null,null,null,null,0,222]
[11,13704,21,13739,21,13744,null,null,null,null,0,122]
[11,13868,12,13870,14,13873,null,null,null,null,0,111]
[22,13977,23,14009,23,14018,null,null,null,null,0,222]
[22,14124,23,14132,23,14137,null,null,null,null,0,222]
[11,14245,21,14279,21,14283,null,null,null,null,0,122]
[11,14434,21,14442,21,14451,null,null,null,null,0,122]
[11,14563,21,14577,21,14581,null,null,null,null,0,122]
[22,15175,23,15179,23,15183,null,null,null,null,0,222]
[11,15280,12,15284,23,15296,null,null,null,null,0,112]
[11,15416,21,15430,21,15434,null,null,null,null,0,122]
[11,15526,21,15561,21,15565,null,null,null,null,0,122]
[11,15658,12,15661,14,15672,null,null,null,null,0,111]
[22,15916,23,15921,23,15926,null,null,null,null,0,222]
[11,16125,21,16131,21,16134,null,null,null,null,0,122]
[22,16250,23,16275,23,16280,null,null,null,null,0,222]
[11,16377,21,16412,21,16419,null,null,null,null,0,122]
[22,16519,14,16530,23,16544,null,null,null,null,0,212]
[11,16706,12,16722,23,16735,null,null,null,null,0,112]
[11,16834,12,16837,14,16841,null,null,null,null,0,111]
[11,17015,12,17031,23,17041,null,null,null,null,0,112]
[22,17139,14,17149,23,17163,null,null,null,null,0,212]
[22,17470,23,17475,23,17483,null,null,null,null,0,222]
[11,17660,21,17693,21,17697,null,null,null,null,0,122]
[11,17860,12,17893,14,17898,null,null,null,null,0,111]
[11,17999,21,18027,21,18036,null,null,null,null,0,122]
[11,18167,21,18178,12,18188,null,null,null,null,0,121]
[11,18330,12,18334,23,18344,null,null,null,null,0,112]
[11,19808,21,19820,21,19824,null,null,null,null,0,122]
[11,19923,12,19944,14,19951,null,null,null,null,0,111]
[11,20215,12,20228,23,20242,null,null,null,null,0,112]
[22,20355,23,20358,23,20361,null,null,null,null,0,222]
[22,20551,14,20566,23,20574,null,null,null,null,0,212]
[11,20679,12,20698,14,20702,null,null,null,null,0,111]
[11,20893,21,20904,21,20909,null,null,null,null,0,122]
[11,21016,12,21019,23,21048,null,null,null,null,0,112]
[22,22285,23,22289,23,22294,null,null,null,null,0,222]
[22,22419,23,22424,23,22430,null,null,null,null,0,222]
[11,22545,21,22560,21,22562,null,null,null,null,0,122]
[22,23234,23,23239,23,23243,null,null,null,null,0,222]
[11,23355,21,23367,21,23372,null,null,null,null,0,122]

{"sheet":"!LB14B13..Ta","index":8,"n_rows":146,"n_cols":48,"rows_kept":146,"cut":false,"hidden":false,"merged":[[4,39,4,42],[5,39,5,40],[4,44,4,47],[5,44,5,45],[4,24,4,27],[5,24,5,25],[4,29,4,32],[5,29,5,30],[4,34,4,37],[5,34,5,35],[1,1,1,2],[5,13,5,14],[18,13,18,14],[19,13,19,14],[4,19,4,22],[5,19,5,20]]}
["Report for:!LB14B13..Ta"]
["Date:","<date>"]
["Hen:","<hen>",null,null,null,"Correct Sequence",{"$f":"Start!J2","v":122},null,null,null,null,null,null,null,null,"Total Sequences in Data",{"$f":"4994-COUNTBLANK(L7:L5000)","v":140},null,null,null,null,"Total Sequences in Block Data",{"$f":"COUNTA(L7:L29)","v":23},null,null,null,"Total Sequences in Block Data",{"$f":"COUNTA(L30:L53)","v":24},null,null,null,"Total Sequences in Block Data",{"$f":"COUNTA(L54:L76)","v":23},null,null,null,"Total Sequences in Block Data",{"$f":"COUNTA(L77:L99)","v":23},null,null,null,"Total Sequences in Block Data",{"$f":"COUNTA(L100:L123)","v":24},null,null,null,"Total Sequences in Block Data",{"$f":"COUNTA(L124:L146)","v":23}]
[null,null,null,null,null,null,null,null,null,null,null,null,null,null,null,"Total Sequences in Summary",{"$f":"SUM(O7:O14)","v":140},null,null,null,null,"Total Sequences in Block Summary",{"$f":"SUM(U7:U14)","v":23},null,null,null,"Total Sequences in Block Summary",{"$f":"SUM(Z7:Z14)","v":24},null,null,null,"Total Sequences in Block Summary",{"$f":"SUM(AE7:AE14)","v":23},null,null,null,"Total Sequences in Block Summary",{"$f":"SUM(AJ7:AJ14)","v":23},null,null,null,"Total Sequences in Block Summary",{"$f":"SUM(AO7:AO14)","v":24},null,null,null,"Total Sequences in Block Summary",{"$f":"SUM(AT7:AT14)","v":23}]
[null,null,null,null,null,null,null,null,null,null,null,null,null,null,null,null,null,null,null,"Block 1",null,null,null,null,"Block 2",null,null,null,null,"Block 3",null,null,null,null,"Block 4",null,null,null,null,"Block 5",null,null,null,null,"Block 6"]
["Sequence\nComponent\n1","Time\n1","Sequence\nComponent\n2","Time\n2","Sequence\nComponent\n3","Time\n3","Sequence\nComponent\n4","Time\n4","Sequence\nComponent\n5","Time\n5","Correct?\n0=No 1=Yes","Sequence",null,"Frequency",null,"Relative Frequency","Variability",null,null,"Frequency",null,"Relative Frequency","Variability",null,"Frequency",null,"Relative Frequency","Variability",null,"Frequency",null,"Relative Frequency","Variability",null,"Frequency",null,"Relative Frequency","Variability",null,"Frequency",null,"Relative Frequency","Variability",null,"Frequency",null,"Relative Frequency","Variability"]
[22,84,23,89,23,95,null,null,null,null,0,222,null,111,{"$f":"COUNTIF($L$7:$L$500,N7)","v":10},{"$f":"O7/$Q$4","v":7.1428571428571425E-2},{"$f":"IF(P7=0,0,(P7*((LOG(P7))/LOG(2))))","v":-0.27195392300411453},null,null,{"$f":"N7","v":111},{"$f":"COUNTIF(L7:L29,T7)","v":2},{"$f":"U7/(W4-U10)","v":0.10526315789473684},{"$f":"IF(V7=0,0,(V7*((LOG(V7))/LOG(2))))","v":-0.34188710667827216},null,{"$f":"N7","v":111},{"$f":"COUNTIF(L30:L53,Y7)","v":3},{"$f":"Z7/(AB4-Z10)","v":0.14285714285714285},{"$f":"IF(AA7=0,0,(AA7*((LOG(AA7))/LOG(2))))","v":-0.40105070315108626},null,{"$f":"N7","v":111},{"$f":"COUNTIF(L54:L76,AD7)","v":2},{"$f":"AE7/(AG4-AE10)","v":0.11764705882352941},{"$f":"IF(AF7=0,0,(AF7*((LOG(AF7))/LOG(2))))","v":-0.36323092250003997},null,{"$f":"N7","v":111},{"$f":"COUNTIF(L77:L99,AI7)","v":2},{"$f":"AJ7/(AL4-AJ10)","v":0.1111111111111111},{"$f":"IF(AK7=0,0,(AK7*((LOG(AK7))/LOG(2))))","v":-0.3522138890491458},null,{"$f":"N7","v":111},{"$f":"COUNTIF(L100:L123,AN7)","v":1},{"$f":"AO7/(AQ4-AO10)","v":7.1428571428571425E-2},{"$f":"IF(AP7=0,0,(AP7*((LOG(AP7))/LOG(2))))","v":-0.27195392300411453},null,{"$f":"N7","v":111},{"$f":"COUNTIF(L124:L146,AS7)","v":0},{"$f":"AT7/(AV4-AT10)","v":0},{"$f":"IF(AU7=0,0,(AU7*((LOG(AU7))/LOG(2))))","v":0}]
[22,194,14,203,23,215,null,null,null,null,0,212,null,112,{"$f":"COUNTIF($L$7:$L$500,N8)","v":2},{"$f":"O8/$Q$4","v":1.4285714285714285E-2},{"$f":"IF(P8=0,0,(P8*((LOG(P8))/LOG(2))))","v":-8.756118595635666E-2},null,null,{"$f":"N8","v":112},{"$f":"COUNTIF(L7:L29,T8)","v":0},{"$f":"U8/(W4-U10)","v":0},{"$f":"IF(V8=0,0,(V8*((LOG(V8))/LOG(2))))","v":0},null,{"$f":"N8","v":112},{"$f":"COUNTIF(L30:L53,Y8)","v":1},{"$f":"Z8/(AB4-Z10)","v":4.7619047619047616E-2},{"$f":"IF(AA8=0,0,(AA8*((LOG(AA8))/LOG(2))))","v":-0.20915797251327431},null,{"$f":"N8","v":112},{"$f":"COUNTIF(L54:L76,AD8)","v":0},{"$f":"AE8/(AG4-AE10)","v":0},{"$f":"IF(AF8=0,0,(AF8*((LOG(AF8))/LOG(2))))","v":0},null,{"$f":"N8","v":112},{"$f":"COUNTIF(L77:L99,AI8)","v":1},{"$f":"AJ8/(AL4-AJ10)","v":5.5555555555555552E-2},{"$f":"IF(AK8=0,0,(AK8*((LOG(AK8))/LOG(2))))","v":-0.23166250008012845},null,{"$f":"N8","v":112},{"$f":"COUNTIF(L100:L123,AN8)","v":0},{"$f":"AO8/(AQ4-AO10)","v":0},{"$f":"IF(AP8=0,0,(AP8*((LOG(AP8))/LOG(2))))","v":0},null,{"$f":"N8","v":112},{"$f":"COUNTIF(L124:L146,AS8)","v":0},{"$f":"AT8/(AV4-AT10)","v":0},{"$f":"IF(AU8=0,0,(AU8*((LOG(AU8))/LOG(2))))","v":0}]
[22,319,23,334,23,340,null,null,null,null,0,222,null,121,{"$f":"COUNTIF($L$7:$L$500,N9)","v":0},{"$f":"O9/$Q$4","v":0},{"$f":"IF(P9=0,0,(P9*((LOG(P9))/LOG(2))))","v":0},null,null,{"$f":"N9","v":121},{"$f":"COUNTIF(L7:L29,T9)","v":0},{"$f":"U9/(W4-U10)","v":0},{"$f":"IF(V9=0,0,(V9*((LOG(V9))/LOG(2))))","v":0},null,{"$f":"N9","v":121},{"$f":"COUNTIF(L30:L53,Y9)","v":0},{"$f":"Z9/(AB4-Z10)","v":0},{"$f":"IF(AA9=0,0,(AA9*((LOG(AA9))/LOG(2))))","v":0},null,{"$f":"N9","v":121},{"$f":"COUNTIF(L54:L76,AD9)","v":0},{"$f":"AE9/(AG4-AE10)","v":0},{"$f":"IF(AF9=0,0,(AF9*((LOG(AF9))/LOG(2))))","v":0},null,{"$f":"N9","v":121},{"$f":"COUNTIF(L77:L99,AI9)","v":0},{"$f":"AJ9/(AL4-AJ10)","v":0},{"$f":"IF(AK9=0,0,(AK9*((LOG(AK9))/LOG(2))))","v":0},null,{"$f":"N9","v":121},{"$f":"COUNTIF(L100:L123,AN9)","v":0},{"$f":"AO9/(AQ4-AO10)","v":0},{"$f":"IF(AP9=0,0,(AP9*((LOG(AP9))/LOG(2))))","v":0},null,{"$f":"N9","v":121},{"$f":"COUNTIF(L124:L146,AS9)","v":0},{"$f":"AT9/(AV4-AT10)","v":0},{"$f":"IF(AU9=0,0,(AU9*((LOG(AU9))/LOG(2))))","v":0}]
[22,458,23,463,23,466,null,null,null,null,0,222,null,122,{"$f":"COUNTIF($L$7:$L$500,N10)","v":38},{"$f":"O10/$Q$4","v":0.27142857142857141},{"$f":"IF(P10=0,0,(P10*((LOG(P10))/LOG(2))))","v":-0.51065363666466057},null,null,{"$f":"N10","v":122},{"$f":"COUNTIF(L7:L29,T10)","v":4},null,null,null,{"$f":"N10","v":122},{"$f":"COUNTIF(L30:L53,Y10)","v":3},null,null,null,{"$f":"N10","v":122},{"$f":"COUNTIF(L54:L76,AD10)","v":6},null,null,null,{"$f":"N10","v":122},{"$f":"COUNTIF(L77:L99,AI10)","v":5},null,null,null,{"$f":"N10","v":122},{"$f":"COUNTIF(L100:L123,AN10)","v":10},null,null,null,{"$f":"N10","v":122},{"$f":"COUNTIF(L124:L146,AS10)","v":10}]
[11,575,21,589,21,593,null,null,null,null,0,122,null,211,{"$f":"COUNTIF($L$7:$L$500,N11)","v":2},{"$f":"O11/$Q$4","v":1.4285714285714285E-2},{"$f":"IF(P11=0,0,(P11*((LOG(P11))/LOG(2))))","v":-8.756118595635666E-2},null,null,{"$f":"N11","v":211},{"$f":"COUNTIF(L7:L29,T11)","v":1},{"$f":"U11/(W4-U10)","v":5.2631578947368418E-2},{"$f":"IF(V11=0,0,(V11*((LOG(V11))/LOG(2))))","v":-0.22357513228650452},null,{"$f":"N11","v":211},{"$f":"COUNTIF(L30:L53,Y11)","v":0},{"$f":"Z11/(AB4-Z10)","v":0},{"$f":"IF(AA11=0,0,(AA11*((LOG(AA11))/LOG(2))))","v":0},null,{"$f":"N11","v":211},{"$f":"COUNTIF(L54:L76,AD11)","v":0},{"$f":"AE11/(AG4-AE10)","v":0},{"$f":"IF(AF11=0,0,(AF11*((LOG(AF11))/LOG(2))))","v":0},null,{"$f":"N11","v":211},{"$f":"COUNTIF(L77:L99,AI11)","v":1},{"$f":"AJ11/(AL4-AJ10)","v":5.5555555555555552E-2},{"$f":"IF(AK11=0,0,(AK11*((LOG(AK11))/LOG(2))))","v":-0.23166250008012845},null,{"$f":"N11","v":211},{"$f":"COUNTIF(L100:L123,AN11)","v":0},{"$f":"AO11/(AQ4-AO10)","v":0},{"$f":"IF(AP11=0,0,(AP11*((LOG(AP11))/LOG(2))))","v":0},null,{"$f":"N11","v":211},{"$f":"COUNTIF(L124:L146,AS11)","v":0},{"$f":"AT11/(AV4-AT10)","v":0},{"$f":"IF(AU11=0,0,(AU11*((LOG(AU11))/LOG(2))))","v":0}]
[22,767,23,772,23,779,null,null,null,null,0,222,null,212,{"$f":"COUNTIF($L$7:$L$500,N12)","v":2},{"$f":"O12/$Q$4","v":1.4285714285714285E-2},{"$f":"IF(P12=0,0,(P12*((LOG(P12))/LOG(2))))","v":-8.756118595635666E-2},null,null,{"$f":"N12","v":212},{"$f":"COUNTIF(L7:L29,T12)","v":2},{"$f":"U12/(W4-U10)","v":0.10526315789473684},{"$f":"IF(V12=0,0,(V12*((LOG(V12))/LOG(2))))","v":-0.34188710667827216},null,{"$f":"N12","v":212},{"$f":"COUNTIF(L30:L53,Y12)","v":0},{"$f":"Z12/(AB4-Z10)","v":0},{"$f":"IF(AA12=0,0,(AA12*((LOG(AA12))/LOG(2))))","v":0},null,{"$f":"N12","v":212},{"$f":"COUNTIF(L54:L76,AD12)","v":0},{"$f":"AE12/(AG4-AE10)","v":0},{"$f":"IF(AF12=0,0,(AF12*((LOG(AF12))/LOG(2))))","v":0},null,{"$f":"N12","v":212},{"$f":"COUNTIF(L77:L99,AI12)","v":0},{"$f":"AJ12/(AL4-AJ10)","v":0},{"$f":"IF(AK12=0,0,(AK12*((LOG(AK12))/LOG(2))))","v":0},null,{"$f":"N12","v":212},{"$f":"COUNTIF(L100:L123,AN12)","v":0},{"$f":"AO12/(AQ4-AO10)","v":0},{"$f":"IF(AP12=0,0,(AP12*((LOG(AP12))/LOG(2))))","v":0},null,{"$f":"N12","v":212},{"$f":"COUNTIF(L124:L146,AS12)","v":0},{"$f":"AT12/(AV4-AT10)","v":0},{"$f":"IF(AU12=0,0,(AU12*((LOG(AU12))/LOG(2))))","v":0}]
[22,913,23,915,23,920,null,null,null,null,0,222,null,221,{"$f":"COUNTIF($L$7:$L$500,N13)","v":3},{"$f":"O13/$Q$4","v":2.1428571428571429E-2},{"$f":"IF(P13=0,0,(P13*((LOG(P13))/LOG(2))))","v":-0.11880686820479594},null,null,{"$f":"N13","v":221},{"$f":"COUNTIF(L7:L29,T13)","v":0},{"$f":"U13/(W4-U10)","v":0},{"$f":"IF(V13=0,0,(V13*((LOG(V13))/LOG(2))))","v":0},null,{"$f":"N13","v":221},{"$f":"COUNTIF(L30:L53,Y13)","v":1},{"$f":"Z13/(AB4-Z10)","v":4.7619047619047616E-2},{"$f":"IF(AA13=0,0,(AA13*((LOG(AA13))/LOG(2))))","v":-0.20915797251327431},null,{"$f":"N13","v":221},{"$f":"COUNTIF(L54:L76,AD13)","v":0},{"$f":"AE13/(AG4-AE10)","v":0},{"$f":"IF(AF13=0,0,(AF13*((LOG(AF13))/LOG(2))))","v":0},null,{"$f":"N13","v":221},{"$f":"COUNTIF(L77:L99,AI13)","v":1},{"$f":"AJ13/(AL4-AJ10)","v":5.5555555555555552E-2},{"$f":"IF(AK13=0,0,(AK13*((LOG(AK13))/LOG(2))))","v":-0.23166250008012845},null,{"$f":"N13","v":221},{"$f":"COUNTIF(L100:L123,AN13)","v":0},{"$f":"AO13/(AQ4-AO10)","v":0},{"$f":"IF(AP13=0,0,(AP13*((LOG(AP13))/LOG(2))))","v":0},null,{"$f":"N13","v":221},{"$f":"COUNTIF(L124:L146,AS13)","v":1},{"$f":"AT13/(AV4-AT10)","v":7.6923076923076927E-2},{"$f":"IF(AU13=0,0,(AU13*((LOG(AU13))/LOG(2))))","v":-0.28464920908777636}]
[22,1022,23,1029,23,1032,null,null,null,null,0,222,null,222,{"$f":"COUNTIF($L$7:$L$500,N14)","v":83},{"$f":"O14/$Q$4","v":0.59285714285714286},{"$f":"IF(P14=0,0,(P14*((LOG(P14))/LOG(2))))","v":-0.44715869717598189},null,null,{"$f":"N14","v":222},{"$f":"COUNTIF(L7:L29,T14)","v":14},{"$f":"U14/(W4-U10)","v":0.73684210526315785},{"$f":"IF(V14=0,0,(V14*((LOG(V14))/LOG(2))))","v":-0.32463243575809159},null,{"$f":"N14","v":222},{"$f":"COUNTIF(L30:L53,Y14)","v":16},{"$f":"Z14/(AB4-Z10)","v":0.76190476190476186},{"$f":"IF(AA14=0,0,(AA14*((LOG(AA14))/LOG(2))))","v":-0.29890851259334122},null,{"$f":"N14","v":222},{"$f":"COUNTIF(L54:L76,AD14)","v":15},{"$f":"AE14/(AG4-AE10)","v":0.88235294117647056},{"$f":"IF(AF14=0,0,(AF14*((LOG(AF14))/LOG(2))))","v":-0.1593284520369008},null,{"$f":"N14","v":222},{"$f":"COUNTIF(L77:L99,AI14)","v":13},{"$f":"AJ14/(AL4-AJ10)","v":0.72222222222222221},{"$f":"IF(AK14=0,0,(AK14*((LOG(AK14))/LOG(2))))","v":-0.33907270460643685},null,{"$f":"N14","v":222},{"$f":"COUNTIF(L100:L123,AN14)","v":13},{"$f":"AO14/(AQ4-AO10)","v":0.9285714285714286},{"$f":"IF(AP14=0,0,(AP14*((LOG(AP14))/LOG(2))))","v":-9.9278403636761048E-2},null,{"$f":"N14","v":222},{"$f":"COUNTIF(L124:L146,AS14)","v":12},{"$f":"AT14/(AV4-AT10)","v":0.92307692307692313},{"$f":"IF(AU14=0,0,(AU14*((LOG(AU14))/LOG(2))))","v":-0.10659435454147929}]
[22,1133,14,1136,23,1145,null,null,null,null,0,212,null,null,null,{"$f":"SUM(P7:P14)","v":1},{"$f":"-SUM(Q7:Q14)","v":1.611256682918623},null,null,null,null,{"$f":"SUM(V7:V14)","v":1},{"$f":"-SUM(W7:W14)","v":1.2319817814011405},null,null,null,{"$f":"SUM(AA7:AA14)","v":1},{"$f":"-SUM(AB7:AB14)","v":1.118275160770976},null,null,null,{"$f":"SUM(AF7:AF14)","v":1},{"$f":"-SUM(AG7:AG14)","v":0.52255937453694079},null,null,null,{"$f":"SUM(AK7:AK14)","v":1},{"$f":"-SUM(AL7:AL14)","v":1.3862740938959679},null,null,null,{"$f":"SUM(AP7:AP14)","v":1},{"$f":"-SUM(AQ7:AQ14)","v":0.37123232664087558},null,null,null,{"$f":"SUM(AU7:AU14)","v":1},{"$f":"-SUM(AV7:AV14)","v":0.39124356362925566}]
[11,1244,12,1247,14,1250,null,null,null,null,0,111,null,null,null,"U=",{"$f":"Q15/(LOG(Q4)/LOG(2))","v":0.22600543127393993},null,null,null,null,"U1=",{"$f":"W15/(LOG(W4)/LOG(2))","v":0.27234771920201661},null,null,null,"U2=",{"$f":"AB15/(LOG(AB4)/LOG(2))","v":0.2439006121849602},null,null,null,"U3=",{"$f":"AG15/(LOG(AG4)/LOG(2))","v":0.11551944675749118},null,null,null,"U4=",{"$f":"AL15/(LOG(AL4)/LOG(2))","v":0.30645630752105829},null,null,null,"U5=",{"$f":"AQ15/(LOG(AQ4)/LOG(2))","v":8.0967363764149758E-2},null,null,null,"U6=",{"$f":"AV15/(LOG(AV4)/LOG(2))","v":8.6490152545691049E-2}]
[22,1410,23,1413,23,1421,null,null,null,null,0,222]
[11,1517,21,1529,21,1532,null,null,null,null,0,122]
[22,1677,23,1682,23,1690,null,null,null,null,0,222,null,"Total Target Seq"]
[11,1799,21,1809,21,1813,null,null,null,null,0,122,null,{"$f":"COUNTIF(L7:L146,G3)","v":38},null,23,24,23,23,24,23]
[22,1967,23,1970,23,1974,null,null,null,null,0,222,null,null,null,"% of reinforcement given in 6 equal intervals based on number of trials "]
[22,2117,23,2121,23,2134,null,null,null,null,0,222,null,null,null,"%_1","%_2","%_3","%_4","%_5","%_6"]
[22,2252,23,2256,23,2263,null,null,null,null,0,222,null,null,"target sequence",{"$f":"$G$3","v":122},{"$f":"$G$3","v":122},{"$f":"$G$3","v":122},{"$f":"$G$3","v":122},{"$f":"$G$3","v":122},{"$f":"$G$3","v":122}]
[11,2358,12,2361,14,2370,null,null,null,null,0,111,null,null,"total reinforcement",{"$f":"U10","v":4},{"$f":"Z10","v":3},{"$f":"AE10","v":6},{"$f":"AJ10","v":5},{"$f":"AO10","v":10},{"$f":"AT10","v":10}]
[22,2480,23,2484,23,2488,null,null,null,null,0,222,null,null,"% target"]
[22,2586,14,2595,14,2598,null,null,null,null,0,211,null,null,"CCRF"]
[22,2716,23,2720,23,2725,null,null,null,null,0,222,null,null,"% CCRf"]
[11,2822,21,2832,21,2835,null,null,null,null,0,122,null,null,"average response rate",{"$f":"F29/P20","v":129.60869565217391},{"$f":"(F53-F29)/Q20","v":125.125},{"$f":"(F76-F53)/R20","v":139.65217391304347},{"$f":"(F99-F76)/S20","v":131.65217391304347},{"$f":"(F123-F99)/T20","v":143.33333333333334},{"$f":"(F146-F123)/U20","v":140.2608695652174}]
[22,2974,23,2977,23,2981,null,null,null,null,0,222]
[22,3081,23,3098,23,3103,null,null,null,null,0,222]
[11,3199,12,3209,23,3222,null,null,null,null,0,112]
[11,3319,12,3322,14,3325,null,null,null,null,0,111]
[11,3423,21,3433,21,3437,null,null,null,null,0,122]
[22,3599,23,3602,23,3606,null,null,null,null,0,222]
[22,3719,23,3725,23,3731,null,null,null,null,0,222]
[11,3827,12,3830,14,3834,null,null,null,null,0,111]
[22,3942,23,3946,23,3952,null,null,null,null,0,222]
[22,4062,23,4066,23,4072,null,null,null,null,0,222]
[22,4173,23,4177,23,4181,null,null,null,null,0,222]
[22,4275,23,4278,23,4291,null,null,null,null,0,222]
[22,4393,23,4397,23,4401,null,null,null,null,0,222]
[22,4514,23,4517,23,4523,null,null,null,null,0,222]
[22,4634,23,4638,23,4655,null,null,null,null,0,222]
[22,4764,23,4768,14,4787,null,null,null,null,0,221]
[11,4947,12,4960,14,4967,null,null,null,null,0,111]
[22,5064,23,5067,23,5071,null,null,null,null,0,222]
[22,5179,23,5183,23,5190,null,null,null,null,0,222]
[22,5293,23,5297,23,5302,null,null,null,null,0,222]
[22,5412,23,5416,23,5420,null,null,null,null,0,222]
[11,5520,21,5529,21,5533,null,null,null,null,0,122]
[22,5690,23,5694,23,5699,null,null,null,null,0,222]
[11,5797,21,5805,21,5809,null,null,null,null,0,122]
[22,5976,23,5979,23,5984,null,null,null,null,0,222]
[22,6084,23,6088,23,6093,null,null,null,null,0,222]
[11,6193,21,6201,21,6205,null,null,null,null,0,122]
[22,6392,23,6402,23,6410,null,null,null,null,0,222]
[22,6510,23,6513,23,6517,null,null,null,null,0,222]
[11,6621,21,6631,21,6634,null,null,null,null,0,122]
[22,7010,23,7014,23,7025,null,null,null,null,0,222]
[22,7133,23,7137,23,7141,null,null,null,null,0,222]
[22,7264,23,7269,23,7278,null,null,null,null,0,222]
[11,7376,21,7383,21,7387,null,null,null,null,0,122]
[22,7511,23,7515,23,7519,null,null,null,null,0,222]
[22,7626,23,7633,23,7640,null,null,null,null,0,222]
[22,7747,23,7751,23,7773,null,null,null,null,0,222]
[22,7884,23,7887,23,7898,null,null,null,null,0,222]
[22,8004,23,8007,23,8014,null,null,null,null,0,222]
[11,8109,21,8119,21,8127,null,null,null,null,0,122]
[22,8268,23,8272,23,8289,null,null,null,null,0,222]
[11,8395,12,8399,14,8404,null,null,null,null,0,111]
[11,8502,21,8516,21,8520,null,null,null,null,0,122]
[22,8675,23,8679,23,8686,null,null,null,null,0,222]
[22,8793,23,8798,23,8807,null,null,null,null,0,222]
[11,8899,21,8907,21,8912,null,null,null,null,0,122]
[11,9056,12,9072,14,9084,null,null,null,null,0,111]
[22,9187,23,9191,23,9196,null,null,null,null,0,222]
[22,9303,23,9308,23,9317,null,null,null,null,0,222]
[22,9419,23,9422,23,9430,null,null,null,null,0,222]
[22,9538,23,9543,14,9556,null,null,null,null,0,221]
[11,9667,21,9680,21,9685,null,null,null,null,0,122]
[11,9904,12,9908,14,9911,null,null,null,null,0,111]
[22,10021,23,10025,23,10030,null,null,null,null,0,222]
[22,10134,23,10137,23,10142,null,null,null,null,0,222]
[11,10236,21,10243,21,10247,null,null,null,null,0,122]
[22,10415,23,10419,23,10424,null,null,null,null,0,222]
[22,10526,23,10534,23,10540,null,null,null,null,0,222]
[22,10644,23,10647,23,10653,null,null,null,null,0,222]
[11,10745,12,10748,23,10759,null,null,null,null,0,112]
[22,10872,14,10888,14,10894,null,null,null,null,0,211]
[22,11001,23,11005,23,11010,null,null,null,null,0,222]
[11,11107,21,11118,21,11124,null,null,null,null,0,122]
[11,11353,12,11358,14,11364,null,null,null,null,0,111]
[22,11468,23,11472,23,11476,null,null,null,null,0,222]
[22,11591,23,11597,23,11605,null,null,null,null,0,222]
[11,11697,21,11705,21,11709,null,null,null,null,0,122]
[11,11841,21,11850,21,11855,null,null,null,null,0,122]
[22,11989,23,11993,23,11996,null,null,null,null,0,222]
[22,12105,23,12109,23,12115,null,null,null,null,0,222]
[22,12215,23,12220,23,12224,null,null,null,null,0,222]
[22,12333,23,12337,23,12343,null,null,null,null,0,222]
[22,12449,23,12456,23,12462,null,null,null,null,0,222]
[11,12559,21,12570,21,12579,null,null,null,null,0,122]
[22,12789,23,12793,23,12798,null,null,null,null,0,222]
[11,12897,21,12909,21,12920,null,null,null,null,0,122]
[22,13083,23,13091,23,13098,null,null,null,null,0,222]
[22,13199,23,13202,23,13207,null,null,null,null,0,222]
[11,13304,21,13316,21,13319,null,null,null,null,0,122]
[22,13603,23,13613,23,13621,null,null,null,null,0,222]
[22,13754,23,13758,23,13768,null,null,null,null,0,222]
[22,13874,23,13877,23,13881,null,null,null,null,0,222]
[22,13985,23,13989,23,13992,null,null,null,null,0,222]
[11,14089,21,14097,21,14100,null,null,null,null,0,122]
[22,14271,23,14275,23,14279,null,null,null,null,0,222]
[11,14383,21,14394,21,14398,null,null,null,null,0,122]
[11,14510,21,14521,21,14524,null,null,null,null,0,122]
[22,14641,23,14644,23,14651,null,null,null,null,0,222]
[11,14747,21,14759,21,14762,null,null,null,null,0,122]
[11,14914,21,14927,21,14932,null,null,null,null,0,122]
[11,15108,21,15117,21,15123,null,null,null,null,0,122]
[22,15278,23,15282,23,15289,null,null,null,null,0,222]
[11,15402,12,15407,14,15417,null,null,null,null,0,111]
[22,15526,23,15532,23,15549,null,null,null,null,0,222]
[11,15646,21,15659,21,15664,null,null,null,null,0,122]
[11,15799,21,15818,21,15824,null,null,null,null,0,122]
[22,16007,23,16012,23,16019,null,null,null,null,0,222]
[22,16128,23,16136,23,16143,null,null,null,null,0,222]
[11,16239,21,16248,21,16252,null,null,null,null,0,122]
[11,16386,21,16399,21,16406,null,null,null,null,0,122]
[22,16604,23,16609,23,16615,null,null,null,null,0,222]
[11,16730,21,16739,21,16744,null,null,null,null,0,122]
[22,16895,23,16900,23,16906,null,null,null,null,0,222]
[22,17018,23,17028,23,17036,null,null,null,null,0,222]
[22,17144,23,17148,23,17154,null,null,null,null,0,222]
[22,17259,23,17263,23,17267,null,null,null,null,0,222]
[11,17375,21,17384,21,17389,null,null,null,null,0,122]
[11,17521,21,17531,21,17534,null,null,null,null,0,122]
[22,17689,23,17692,23,17698,null,null,null,null,0,222]
[11,17795,21,17804,21,17810,null,null,null,null,0,122]
[22,17937,23,17946,23,17953,null,null,null,null,0,222]
[22,18072,23,18075,14,18093,null,null,null,null,0,221]
[11,18190,21,18202,21,18205,null,null,null,null,0,122]
[22,18366,23,18369,23,18374,null,null,null,null,0,222]
[22,18475,23,18479,23,18483,null,null,null,null,0,222]
[11,18575,21,18592,21,18599,null,null,null,null,0,122]
[22,18757,23,18761,23,18766,null,null,null,null,0,222]
[11,18872,21,18884,21,18890,null,null,null,null,1,122]

{"sheet":"!LB15A23..Ta","index":9,"n_rows":108,"n_cols":48,"rows_kept":108,"cut":false,"hidden":false,"merged":[[4,39,4,42],[5,39,5,40],[4,44,4,47],[5,44,5,45],[4,24,4,27],[5,24,5,25],[4,29,4,32],[5,29,5,30],[4,34,4,37],[5,34,5,35],[1,1,1,2],[5,13,5,14],[18,13,18,14],[19,13,19,14],[4,19,4,22],[5,19,5,20]]}
["Report for:!LB15A23..Ta"]
["Date:","<date>"]
["Hen:","<hen>",null,null,null,"Correct Sequence",{"$f":"Start!J2","v":122},null,null,null,null,null,null,null,null,"Total Sequences in Data",{"$f":"4994-COUNTBLANK(L7:L5000)","v":102},null,null,null,null,"Total Sequences in Block Data",{"$f":"COUNTA(L7:L23)","v":17},null,null,null,"Total Sequences in Block Data",{"$f":"COUNTA(L24:L40)","v":17},null,null,null,"Total Sequences in Block Data",{"$f":"COUNTA(L41:L57)","v":17},null,null,null,"Total Sequences in Block Data",{"$f":"COUNTA(L58:L74)","v":17},null,null,null,"Total Sequences in Block Data",{"$f":"COUNTA(L75:L91)","v":17},null,null,null,"Total Sequences in Block Data",{"$f":"COUNTA(L92:L108)","v":17}]
[null,null,null,null,null,null,null,null,null,null,null,null,null,null,null,"Total Sequences in Summary",{"$f":"SUM(O7:O14)","v":102},null,null,null,null,"Total Sequences in Block Summary",{"$f":"SUM(U7:U14)","v":17},null,null,null,"Total Sequences in Block Summary",{"$f":"SUM(Z7:Z14)","v":17},null,null,null,"Total Sequences in Block Summary",{"$f":"SUM(AE7:AE14)","v":17},null,null,null,"Total Sequences in Block Summary",{"$f":"SUM(AJ7:AJ14)","v":17},null,null,null,"Total Sequences in Block Summary",{"$f":"SUM(AO7:AO14)","v":17},null,null,null,"Total Sequences in Block Summary",{"$f":"SUM(AT7:AT14)","v":17}]
[null,null,null,null,null,null,null,null,null,null,null,null,null,null,null,null,null,null,null,"Block 1",null,null,null,null,"Block 2",null,null,null,null,"Block 3",null,null,null,null,"Block 4",null,null,null,null,"Block 5",null,null,null,null,"Block 6"]
["Sequence\nComponent\n1","Time\n1","Sequence\nComponent\n2","Time\n2","Sequence\nComponent\n3","Time\n3","Sequence\nComponent\n4","Time\n4","Sequence\nComponent\n5","Time\n5","Correct?\n0=No 1=Yes","Sequence",null,"Frequency",null,"Relative Frequency","Variability",null,null,"Frequency",null,"Relative Frequency","Variability",null,"Frequency",null,"Relative Frequency","Variability",null,"Frequency",null,"Relative Frequency","Variability",null,"Frequency",null,"Relative Frequency","Variability",null,"Frequency",null,"Relative Frequency","Variability",null,"Frequency",null,"Relative Frequency","Variability"]
[22,12,23,16,23,20,null,null,null,null,0,222,null,111,{"$f":"COUNTIF($L$7:$L$500,N7)","v":0},{"$f":"O7/$Q$4","v":0},{"$f":"IF(P7=0,0,(P7*((LOG(P7))/LOG(2))))","v":0},null,null,{"$f":"N7","v":111},{"$f":"COUNTIF(L7:L23,T7)","v":0},{"$f":"U7/(W4-U10)","v":0},{"$f":"IF(V7=0,0,(V7*((LOG(V7))/LOG(2))))","v":0},null,{"$f":"N7","v":111},{"$f":"COUNTIF(L24:L40,Y7)","v":0},{"$f":"Z7/(AB4-Z10)","v":0},{"$f":"IF(AA7=0,0,(AA7*((LOG(AA7))/LOG(2))))","v":0},null,{"$f":"N7","v":111},{"$f":"COUNTIF(L41:L57,AD7)","v":0},{"$f":"AE7/(AG4-AE10)","v":0},{"$f":"IF(AF7=0,0,(AF7*((LOG(AF7))/LOG(2))))","v":0},null,{"$f":"N7","v":111},{"$f":"COUNTIF(L58:L74,AI7)","v":0},{"$f":"AJ7/(AL4-AJ10)","v":0},{"$f":"IF(AK7=0,0,(AK7*((LOG(AK7))/LOG(2))))","v":0},null,{"$f":"N7","v":111},{"$f":"COUNTIF(L75:L91,AN7)","v":0},{"$f":"AO7/(AQ4-AO10)","v":0},{"$f":"IF(AP7=0,0,(AP7*((LOG(AP7))/LOG(2))))","v":0},null,{"$f":"N7","v":111},{"$f":"COUNTIF(L92:L108,AS7)","v":0},{"$f":"AT7/(AV4-AT10)","v":0},{"$f":"IF(AU7=0,0,(AU7*((LOG(AU7))/LOG(2))))","v":0}]
[22,123,23,125,23,131,null,null,null,null,0,222,null,112,{"$f":"COUNTIF($L$7:$L$500,N8)","v":0},{"$f":"O8/$Q$4","v":0},{"$f":"IF(P8=0,0,(P8*((LOG(P8))/LOG(2))))","v":0},null,null,{"$f":"N8","v":112},{"$f":"COUNTIF(L7:L23,T8)","v":0},{"$f":"U8/(W4-U10)","v":0},{"$f":"IF(V8=0,0,(V8*((LOG(V8))/LOG(2))))","v":0},null,{"$f":"N8","v":112},{"$f":"COUNTIF(L24:L40,Y8)","v":0},{"$f":"Z8/(AB4-Z10)","v":0},{"$f":"IF(AA8=0,0,(AA8*((LOG(AA8))/LOG(2))))","v":0},null,{"$f":"N8","v":112},{"$f":"COUNTIF(L41:L57,AD8)","v":0},{"$f":"AE8/(AG4-AE10)","v":0},{"$f":"IF(AF8=0,0,(AF8*((LOG(AF8))/LOG(2))))","v":0},null,{"$f":"N8","v":112},{"$f":"COUNTIF(L58:L74,AI8)","v":0},{"$f":"AJ8/(AL4-AJ10)","v":0},{"$f":"IF(AK8=0,0,(AK8*((LOG(AK8))/LOG(2))))","v":0},null,{"$f":"N8","v":112},{"$f":"COUNTIF(L75:L91,AN8)","v":0},{"$f":"AO8/(AQ4-AO10)","v":0},{"$f":"IF(AP8=0,0,(AP8*((LOG(AP8))/LOG(2))))","v":0},null,{"$f":"N8","v":112},{"$f":"COUNTIF(L92:L108,AS8)","v":0},{"$f":"AT8/(AV4-AT10)","v":0},{"$f":"IF(AU8=0,0,(AU8*((LOG(AU8))/LOG(2))))","v":0}]
[22,231,23,235,23,240,null,null,null,null,0,222,null,121,{"$f":"COUNTIF($L$7:$L$500,N9)","v":0},{"$f":"O9/$Q$4","v":0},{"$f":"IF(P9=0,0,(P9*((LOG(P9))/LOG(2))))","v":0},null,null,{"$f":"N9","v":121},{"$f":"COUNTIF(L7:L23,T9)","v":0},{"$f":"U9/(W4-U10)","v":0},{"$f":"IF(V9=0,0,(V9*((LOG(V9))/LOG(2))))","v":0},null,{"$f":"N9","v":121},{"$f":"COUNTIF(L24:L40,Y9)","v":0},{"$f":"Z9/(AB4-Z10)","v":0},{"$f":"IF(AA9=0,0,(AA9*((LOG(AA9))/LOG(2))))","v":0},null,{"$f":"N9","v":121},{"$f":"COUNTIF(L41:L57,AD9)","v":0},{"$f":"AE9/(AG4-AE10)","v":0},{"$f":"IF(AF9=0,0,(AF9*((LOG(AF9))/LOG(2))))","v":0},null,{"$f":"N9","v":121},{"$f":"COUNTIF(L58:L74,AI9)","v":0},{"$f":"AJ9/(AL4-AJ10)","v":0},{"$f":"IF(AK9=0,0,(AK9*((LOG(AK9))/LOG(2))))","v":0},null,{"$f":"N9","v":121},{"$f":"COUNTIF(L75:L91,AN9)","v":0},{"$f":"AO9/(AQ4-AO10)","v":0},{"$f":"IF(AP9=0,0,(AP9*((LOG(AP9))/LOG(2))))","v":0},null,{"$f":"N9","v":121},{"$f":"COUNTIF(L92:L108,AS9)","v":0},{"$f":"AT9/(AV4-AT10)","v":0},{"$f":"IF(AU9=0,0,(AU9*((LOG(AU9))/LOG(2))))","v":0}]
[22,366,23,372,23,379,null,null,null,null,0,222,null,122,{"$f":"COUNTIF($L$7:$L$500,N10)","v":39},{"$f":"O10/$Q$4","v":0.38235294117647056},{"$f":"IF(P10=0,0,(P10*((LOG(P10))/LOG(2))))","v":-0.53033237060059457},null,null,{"$f":"N10","v":122},{"$f":"COUNTIF(L7:L23,T10)","v":6},null,null,null,{"$f":"N10","v":122},{"$f":"COUNTIF(L24:L40,Y10)","v":6},null,null,null,{"$f":"N10","v":122},{"$f":"COUNTIF(L41:L57,AD10)","v":5},null,null,null,{"$f":"N10","v":122},{"$f":"COUNTIF(L58:L74,AI10)","v":4},null,null,null,{"$f":"N10","v":122},{"$f":"COUNTIF(L75:L91,AN10)","v":9},null,null,null,{"$f":"N10","v":122},{"$f":"COUNTIF(L92:L108,AS10)","v":9}]
[22,501,23,508,23,513,null,null,null,null,0,222,null,211,{"$f":"COUNTIF($L$7:$L$500,N11)","v":0},{"$f":"O11/$Q$4","v":0},{"$f":"IF(P11=0,0,(P11*((LOG(P11))/LOG(2))))","v":0},null,null,{"$f":"N11","v":211},{"$f":"COUNTIF(L7:L23,T11)","v":0},{"$f":"U11/(W4-U10)","v":0},{"$f":"IF(V11=0,0,(V11*((LOG(V11))/LOG(2))))","v":0},null,{"$f":"N11","v":211},{"$f":"COUNTIF(L24:L40,Y11)","v":0},{"$f":"Z11/(AB4-Z10)","v":0},{"$f":"IF(AA11=0,0,(AA11*((LOG(AA11))/LOG(2))))","v":0},null,{"$f":"N11","v":211},{"$f":"COUNTIF(L41:L57,AD11)","v":0},{"$f":"AE11/(AG4-AE10)","v":0},{"$f":"IF(AF11=0,0,(AF11*((LOG(AF11))/LOG(2))))","v":0},null,{"$f":"N11","v":211},{"$f":"COUNTIF(L58:L74,AI11)","v":0},{"$f":"AJ11/(AL4-AJ10)","v":0},{"$f":"IF(AK11=0,0,(AK11*((LOG(AK11))/LOG(2))))","v":0},null,{"$f":"N11","v":211},{"$f":"COUNTIF(L75:L91,AN11)","v":0},{"$f":"AO11/(AQ4-AO10)","v":0},{"$f":"IF(AP11=0,0,(AP11*((LOG(AP11))/LOG(2))))","v":0},null,{"$f":"N11","v":211},{"$f":"COUNTIF(L92:L108,AS11)","v":0},{"$f":"AT11/(AV4-AT10)","v":0},{"$f":"IF(AU11=0,0,(AU11*((LOG(AU11))/LOG(2))))","v":0}]
[11,611,21,631,21,646,null,null,null,null,0,122,null,212,{"$f":"COUNTIF($L$7:$L$500,N12)","v":0},{"$f":"O12/$Q$4","v":0},{"$f":"IF(P12=0,0,(P12*((LOG(P12))/LOG(2))))","v":0},null,null,{"$f":"N12","v":212},{"$f":"COUNTIF(L7:L23,T12)","v":0},{"$f":"U12/(W4-U10)","v":0},{"$f":"IF(V12=0,0,(V12*((LOG(V12))/LOG(2))))","v":0},null,{"$f":"N12","v":212},{"$f":"COUNTIF(L24:L40,Y12)","v":0},{"$f":"Z12/(AB4-Z10)","v":0},{"$f":"IF(AA12=0,0,(AA12*((LOG(AA12))/LOG(2))))","v":0},null,{"$f":"N12","v":212},{"$f":"COUNTIF(L41:L57,AD12)","v":0},{"$f":"AE12/(AG4-AE10)","v":0},{"$f":"IF(AF12=0,0,(AF12*((LOG(AF12))/LOG(2))))","v":0},null,{"$f":"N12","v":212},{"$f":"COUNTIF(L58:L74,AI12)","v":0},{"$f":"AJ12/(AL4-AJ10)","v":0},{"$f":"IF(AK12=0,0,(AK12*((LOG(AK12))/LOG(2))))","v":0},null,{"$f":"N12","v":212},{"$f":"COUNTIF(L75:L91,AN12)","v":0},{"$f":"AO12/(AQ4-AO10)","v":0},{"$f":"IF(AP12=0,0,(AP12*((LOG(AP12))/LOG(2))))","v":0},null,{"$f":"N12","v":212},{"$f":"COUNTIF(L92:L108,AS12)","v":0},{"$f":"AT12/(AV4-AT10)","v":0},{"$f":"IF(AU12=0,0,(AU12*((LOG(AU12))/LOG(2))))","v":0}]
[11,761,21,769,21,772,null,null,null,null,0,122,null,221,{"$f":"COUNTIF($L$7:$L$500,N13)","v":3},{"$f":"O13/$Q$4","v":2.9411764705882353E-2},{"$f":"IF(P13=0,0,(P13*((LOG(P13))/LOG(2))))","v":-0.14963126003677468},null,null,{"$f":"N13","v":221},{"$f":"COUNTIF(L7:L23,T13)","v":0},{"$f":"U13/(W4-U10)","v":0},{"$f":"IF(V13=0,0,(V13*((LOG(V13))/LOG(2))))","v":0},null,{"$f":"N13","v":221},{"$f":"COUNTIF(L24:L40,Y13)","v":0},{"$f":"Z13/(AB4-Z10)","v":0},{"$f":"IF(AA13=0,0,(AA13*((LOG(AA13))/LOG(2))))","v":0},null,{"$f":"N13","v":221},{"$f":"COUNTIF(L41:L57,AD13)","v":0},{"$f":"AE13/(AG4-AE10)","v":0},{"$f":"IF(AF13=0,0,(AF13*((LOG(AF13))/LOG(2))))","v":0},null,{"$f":"N13","v":221},{"$f":"COUNTIF(L58:L74,AI13)","v":2},{"$f":"AJ13/(AL4-AJ10)","v":0.15384615384615385},{"$f":"IF(AK13=0,0,(AK13*((LOG(AK13))/LOG(2))))","v":-0.4154522643293988},null,{"$f":"N13","v":221},{"$f":"COUNTIF(L75:L91,AN13)","v":0},{"$f":"AO13/(AQ4-AO10)","v":0},{"$f":"IF(AP13=0,0,(AP13*((LOG(AP13))/LOG(2))))","v":0},null,{"$f":"N13","v":221},{"$f":"COUNTIF(L92:L108,AS13)","v":1},{"$f":"AT13/(AV4-AT10)","v":0.125},{"$f":"IF(AU13=0,0,(AU13*((LOG(AU13))/LOG(2))))","v":-0.375}]
[22,886,23,889,23,893,null,null,null,null,0,222,null,222,{"$f":"COUNTIF($L$7:$L$500,N14)","v":60},{"$f":"O14/$Q$4","v":0.58823529411764708},{"$f":"IF(P14=0,0,(P14*((LOG(P14))/LOG(2))))","v":-0.45031455668410414},null,null,{"$f":"N14","v":222},{"$f":"COUNTIF(L7:L23,T14)","v":11},{"$f":"U14/(W4-U10)","v":1},{"$f":"IF(V14=0,0,(V14*((LOG(V14))/LOG(2))))","v":0},null,{"$f":"N14","v":222},{"$f":"COUNTIF(L24:L40,Y14)","v":11},{"$f":"Z14/(AB4-Z10)","v":1},{"$f":"IF(AA14=0,0,(AA14*((LOG(AA14))/LOG(2))))","v":0},null,{"$f":"N14","v":222},{"$f":"COUNTIF(L41:L57,AD14)","v":12},{"$f":"AE14/(AG4-AE10)","v":1},{"$f":"IF(AF14=0,0,(AF14*((LOG(AF14))/LOG(2))))","v":0},null,{"$f":"N14","v":222},{"$f":"COUNTIF(L58:L74,AI14)","v":11},{"$f":"AJ14/(AL4-AJ10)","v":0.84615384615384615},{"$f":"IF(AK14=0,0,(AK14*((LOG(AK14))/LOG(2))))","v":-0.20392993034936494},null,{"$f":"N14","v":222},{"$f":"COUNTIF(L75:L91,AN14)","v":8},{"$f":"AO14/(AQ4-AO10)","v":1},{"$f":"IF(AP14=0,0,(AP14*((LOG(AP14))/LOG(2))))","v":0},null,{"$f":"N14","v":222},{"$f":"COUNTIF(L92:L108,AS14)","v":7},{"$f":"AT14/(AV4-AT10)","v":0.875},{"$f":"IF(AU14=0,0,(AU14*((LOG(AU14))/LOG(2))))","v":-0.1685644431995964}]
[22,999,23,1003,23,1008,null,null,null,null,0,222,null,null,null,{"$f":"SUM(P7:P14)","v":1},{"$f":"-SUM(Q7:Q14)","v":1.1302781873214736},null,null,null,null,{"$f":"SUM(V7:V14)","v":1},{"$f":"-SUM(W7:W14)","v":0},null,null,null,{"$f":"SUM(AA7:AA14)","v":1},{"$f":"-SUM(AB7:AB14)","v":0},null,null,null,{"$f":"SUM(AF7:AF14)","v":1},{"$f":"-SUM(AG7:AG14)","v":0},null,null,null,{"$f":"SUM(AK7:AK14)","v":1},{"$f":"-SUM(AL7:AL14)","v":0.61938219467876376},null,null,null,{"$f":"SUM(AP7:AP14)","v":1},{"$f":"-SUM(AQ7:AQ14)","v":0},null,null,null,{"$f":"SUM(AU7:AU14)","v":1},{"$f":"-SUM(AV7:AV14)","v":0.5435644431995964}]
[11,1112,21,1122,21,1127,null,null,null,null,0,122,null,null,null,"U=",{"$f":"Q15/(LOG(Q4)/LOG(2))","v":0.16939540412864498},null,null,null,null,"U1=",{"$f":"W15/(LOG(W4)/LOG(2))","v":0},null,null,null,"U2=",{"$f":"AB15/(LOG(AB4)/LOG(2))","v":0},null,null,null,"U3=",{"$f":"AG15/(LOG(AG4)/LOG(2))","v":0},null,null,null,"U4=",{"$f":"AL15/(LOG(AL4)/LOG(2))","v":0.15153218970653617},null,null,null,"U5=",{"$f":"AQ15/(LOG(AQ4)/LOG(2))","v":0},null,null,null,"U6=",{"$f":"AV15/(LOG(AV4)/LOG(2))","v":0.13298333570497295}]
[22,1231,23,1235,23,1244,null,null,null,null,0,222]
[11,1343,21,1352,21,1359,null,null,null,null,0,122]
[22,1513,23,1516,23,1521,null,null,null,null,0,222,null,"Total Target Seq"]
[11,1617,21,1625,21,1629,null,null,null,null,0,122,null,{"$f":"COUNTIF(L7:L108,G3)","v":39},null,17,17,17,17,17,17]
[22,1733,23,1736,23,1740,null,null,null,null,0,222,null,null,null,"% of reinforcement given in 6 equal intervals based on number of trials "]
[11,1832,21,1840,21,1844,null,null,null,null,0,122,null,null,null,"%_1","%_2","%_3","%_4","%_5","%_6"]
[22,1948,23,1952,23,1956,null,null,null,null,0,222,null,null,"target sequence",{"$f":"$G$3","v":122},{"$f":"$G$3","v":122},{"$f":"$G$3","v":122},{"$f":"$G$3","v":122},{"$f":"$G$3","v":122},{"$f":"$G$3","v":122}]
[11,2050,21,2058,21,2061,null,null,null,null,0,122,null,null,"total reinforcement",{"$f":"U10","v":6},{"$f":"Z10","v":6},{"$f":"AE10","v":5},{"$f":"AJ10","v":4},{"$f":"AO10","v":9},{"$f":"AT10","v":9}]
[22,2178,23,2184,23,2191,null,null,null,null,0,222,null,null,"% target"]
[22,2296,23,2298,23,2304,null,null,null,null,0,222,null,null,"CCRF"]
[11,2397,21,2414,21,2418,null,null,null,null,0,122,null,null,"% CCRf"]
[11,2555,21,2570,21,2582,null,null,null,null,0,122,null,null,"average response rate",{"$f":"F23/P20","v":115.05882352941177},{"$f":"(F40-F23)/Q20","v":130.88235294117646},{"$f":"(F57-F40)/R20","v":123.94117647058823},{"$f":"(F74-F57)/S20","v":129.76470588235293},{"$f":"(F91-F74)/T20","v":119.47058823529412},{"$f":"(F108-F91)/U20","v":127.41176470588235}]
[22,2762,23,2765,23,2769,null,null,null,null,0,222]
[11,2868,21,2877,21,2890,null,null,null,null,0,122]
[22,3069,23,3072,23,3076,null,null,null,null,0,222]
[11,3172,21,3181,21,3191,null,null,null,null,0,122]
[22,3290,23,3295,23,3301,null,null,null,null,0,222]
[22,3401,23,3409,23,3413,null,null,null,null,0,222]
[22,3515,23,3519,23,3522,null,null,null,null,0,222]
[22,3626,23,3633,23,3640,null,null,null,null,0,222]
[11,3736,21,3746,21,3750,null,null,null,null,0,122]
[22,3939,23,3946,23,3952,null,null,null,null,0,222]
[22,4058,23,4063,23,4066,null,null,null,null,0,222]
[22,4174,23,4176,23,4181,null,null,null,null,0,222]
[22,4285,23,4289,23,4294,null,null,null,null,0,222]
[11,4390,21,4399,21,4402,null,null,null,null,0,122]
[11,4519,21,4529,21,4532,null,null,null,null,0,122]
[22,4691,23,4704,23,4711,null,null,null,null,0,222]
[22,4816,23,4819,23,4823,null,null,null,null,0,222]
[11,4917,21,4929,21,4932,null,null,null,null,0,122]
[22,5055,23,5058,23,5063,null,null,null,null,0,222]
[22,5175,23,5178,23,5192,null,null,null,null,0,222]
[22,5301,23,5304,23,5307,null,null,null,null,0,222]
[11,5406,21,5417,21,5420,null,null,null,null,0,122]
[22,5563,23,5566,23,5576,null,null,null,null,0,222]
[11,5671,21,5678,21,5683,null,null,null,null,0,122]
[22,5809,23,5812,23,5819,null,null,null,null,0,222]
[22,5921,23,5928,23,5937,null,null,null,null,0,222]
[22,6049,23,6052,23,6055,null,null,null,null,0,222]
[22,6166,23,6170,23,6174,null,null,null,null,0,222]
[22,6278,23,6283,23,6288,null,null,null,null,0,222]
[22,6391,23,6394,23,6399,null,null,null,null,0,222]
[22,6508,23,6511,23,6523,null,null,null,null,0,222]
[22,6633,23,6636,23,6642,null,null,null,null,0,222]
[11,6737,21,6743,21,6747,null,null,null,null,0,122]
[11,6873,21,6886,21,6890,null,null,null,null,0,122]
[22,7013,23,7017,23,7023,null,null,null,null,0,222]
[22,7124,23,7136,23,7144,null,null,null,null,0,222]
[11,7240,21,7247,21,7251,null,null,null,null,0,122]
[22,7418,23,7421,23,7428,null,null,null,null,0,222]
[22,7543,23,7553,23,7561,null,null,null,null,0,222]
[22,7665,23,7668,23,7674,null,null,null,null,0,222]
[11,7767,21,7780,21,7784,null,null,null,null,0,122]
[22,7947,23,7951,23,7959,null,null,null,null,0,222]
[22,8067,23,8078,14,8092,null,null,null,null,0,221]
[22,8236,23,8240,23,8243,null,null,null,null,0,222]
[22,8362,23,8367,23,8375,null,null,null,null,0,222]
[22,8479,23,8482,14,8494,null,null,null,null,0,221]
[22,8603,23,8608,23,8613,null,null,null,null,0,222]
[11,8705,21,8718,21,8721,null,null,null,null,0,122]
[22,8827,23,8832,23,8839,null,null,null,null,0,222]
[22,8941,23,8944,23,8949,null,null,null,null,0,222]
[22,9063,23,9067,23,9073,null,null,null,null,0,222]
[11,9168,21,9178,21,9182,null,null,null,null,0,122]
[11,9277,21,9290,21,9294,null,null,null,null,0,122]
[11,9398,21,9410,21,9414,null,null,null,null,0,122]
[22,9556,23,9561,23,9567,null,null,null,null,0,222]
[11,9664,21,9677,21,9681,null,null,null,null,0,122]
[11,9787,21,9799,21,9802,null,null,null,null,0,122]
[11,9897,21,9912,21,9917,null,null,null,null,0,122]
[22,10020,23,10024,23,10029,null,null,null,null,0,222]
[22,10134,23,10137,23,10144,null,null,null,null,0,222]
[11,10250,21,10262,21,10266,null,null,null,null,0,122]
[11,10360,21,10368,21,10372,null,null,null,null,0,122]
[22,10511,23,10518,23,10525,null,null,null,null,0,222]
[11,10630,21,10640,21,10644,null,null,null,null,0,122]
[22,10777,23,10783,14,10794,null,null,null,null,0,221]
[22,10904,23,10909,23,10915,null,null,null,null,0,222]
[11,11011,21,11020,21,11025,null,null,null,null,0,122]
[11,11116,21,11126,21,11132,null,null,null,null,0,122]
[22,11269,23,11272,23,11275,null,null,null,null,0,222]
[11,11372,21,11383,21,11391,null,null,null,null,0,122]
[22,11564,23,11567,23,11575,null,null,null,null,0,222]
[11,11695,21,11705,21,11709,null,null,null,null,0,122]
[22,11812,23,11816,23,11822,null,null,null,null,0,222]
[22,11932,23,11935,23,11940,null,null,null,null,0,222]
[11,12037,21,12048,21,12051,null,null,null,null,0,122]
[11,12172,21,12182,21,12189,null,null,null,null,0,122]
[22,12336,23,12339,23,12344,null,null,null,null,0,222]
[22,12456,23,12460,23,12468,null,null,null,null,0,222]
[11,12563,21,12576,21,12582,null,null,null,null,0,122]
[11,12677,21,12687,21,12691,null,null,null,null,1,122]

{"sheet":"!LB16A13..Ta","index":10,"n_rows":87,"n_cols":48,"rows_kept":87,"cut":false,"hidden":false,"merged":[[4,39,4,42],[5,39,5,40],[4,44,4,47],[5,44,5,45],[4,24,4,27],[5,24,5,25],[4,29,4,32],[5,29,5,30],[4,34,4,37],[5,34,5,35],[1,1,1,2],[5,13,5,14],[18,13,18,14],[19,13,19,14],[4,19,4,22],[5,19,5,20]]}
["Report for:!LB16A13..Ta"]
["Date:","<date>"]
["Hen:","<hen>",null,null,null,"Correct Sequence",{"$f":"Start!J2","v":122},null,null,null,null,null,null,null,null,"Total Sequences in Data",{"$f":"4994-COUNTBLANK(L7:L5000)","v":81},null,null,null,null,"Total Sequences in Block Data",{"$f":"COUNTA(L7:L20)","v":14},null,null,null,"Total Sequences in Block Data",{"$f":"COUNTA(L21:L33)","v":13},null,null,null,"Total Sequences in Block Data",{"$f":"COUNTA(L34:L47)","v":14},null,null,null,"Total Sequences in Block Data",{"$f":"COUNTA(L48:L60)","v":13},null,null,null,"Total Sequences in Block Data",{"$f":"COUNTA(L61:L74)","v":14},null,null,null,"Total Sequences in Block Data",{"$f":"COUNTA(L75:L87)","v":13}]
[null,null,null,null,null,null,null,null,null,null,null,null,null,null,null,"Total Sequences in Summary",{"$f":"SUM(O7:O14)","v":81},null,null,null,null,"Total Sequences in Block Summary",{"$f":"SUM(U7:U14)","v":14},null,null,null,"Total Sequences in Block Summary",{"$f":"SUM(Z7:Z14)","v":13},null,null,null,"Total Sequences in Block Summary",{"$f":"SUM(AE7:AE14)","v":14},null,null,null,"Total Sequences in Block Summary",{"$f":"SUM(AJ7:AJ14)","v":13},null,null,null,"Total Sequences in Block Summary",{"$f":"SUM(AO7:AO14)","v":14},null,null,null,"Total Sequences in Block Summary",{"$f":"SUM(AT7:AT14)","v":13}]
[null,null,null,null,null,null,null,null,null,null,null,null,null,null,null,null,null,null,null,"Block 1",null,null,null,null,"Block 2",null,null,null,null,"Block 3",null,null,null,null,"Block 4",null,null,null,null,"Block 5",null,null,null,null,"Block 6"]
["Sequence\nComponent\n1","Time\n1","Sequence\nComponent\n2","Time\n2","Sequence\nComponent\n3","Time\n3","Sequence\nComponent\n4","Time\n4","Sequence\nComponent\n5","Time\n5","Correct?\n0=No 1=Yes","Sequence",null,"Frequency",null,"Relative Frequency","Variability",null,null,"Frequency",null,"Relative Frequency","Variability",null,"Frequency",null,"Relative Frequency","Variability",null,"Frequency",null,"Relative Frequency","Variability",null,"Frequency",null,"Relative Frequency","Variability",null,"Frequency",null,"Relative Frequency","Variability",null,"Frequency",null,"Relative Frequency","Variability"]
[22,98,23,103,23,109,null,null,null,null,0,222,null,111,{"$f":"COUNTIF($L$7:$L$500,N7)","v":1},{"$f":"O7/$Q$4","v":1.2345679012345678E-2},{"$f":"IF(P7=0,0,(P7*((LOG(P7))/LOG(2))))","v":-7.8269753122032396E-2},null,null,{"$f":"N7","v":111},{"$f":"COUNTIF(L7:L20,T7)","v":0},{"$f":"U7/(W4-U10)","v":0},{"$f":"IF(V7=0,0,(V7*((LOG(V7))/LOG(2))))","v":0},null,{"$f":"N7","v":111},{"$f":"COUNTIF(L21:L33,Y7)","v":0},{"$f":"Z7/(AB4-Z10)","v":0},{"$f":"IF(AA7=0,0,(AA7*((LOG(AA7))/LOG(2))))","v":0},null,{"$f":"N7","v":111},{"$f":"COUNTIF(L34:L47,AD7)","v":1},{"$f":"AE7/(AG4-AE10)","v":9.0909090909090912E-2},{"$f":"IF(AF7=0,0,(AF7*((LOG(AF7))/LOG(2))))","v":-0.31449378351248153},null,{"$f":"N7","v":111},{"$f":"COUNTIF(L48:L60,AI7)","v":0},{"$f":"AJ7/(AL4-AJ10)","v":0},{"$f":"IF(AK7=0,0,(AK7*((LOG(AK7))/LOG(2))))","v":0},null,{"$f":"N7","v":111},{"$f":"COUNTIF(L61:L74,AN7)","v":0},{"$f":"AO7/(AQ4-AO10)","v":0},{"$f":"IF(AP7=0,0,(AP7*((LOG(AP7))/LOG(2))))","v":0},null,{"$f":"N7","v":111},{"$f":"COUNTIF(L75:L87,AS7)","v":0},{"$f":"AT7/(AV4-AT10)","v":0},{"$f":"IF(AU7=0,0,(AU7*((LOG(AU7))/LOG(2))))","v":0}]
[22,219,23,223,23,227,null,null,null,null,0,222,null,112,{"$f":"COUNTIF($L$7:$L$500,N8)","v":2},{"$f":"O8/$Q$4","v":2.4691358024691357E-2},{"$f":"IF(P8=0,0,(P8*((LOG(P8))/LOG(2))))","v":-0.13184814821937343},null,null,{"$f":"N8","v":112},{"$f":"COUNTIF(L7:L20,T8)","v":1},{"$f":"U8/(W4-U10)","v":0.1111111111111111},{"$f":"IF(V8=0,0,(V8*((LOG(V8))/LOG(2))))","v":-0.3522138890491458},null,{"$f":"N8","v":112},{"$f":"COUNTIF(L21:L33,Y8)","v":1},{"$f":"Z8/(AB4-Z10)","v":0.16666666666666666},{"$f":"IF(AA8=0,0,(AA8*((LOG(AA8))/LOG(2))))","v":-0.43082708345352599},null,{"$f":"N8","v":112},{"$f":"COUNTIF(L34:L47,AD8)","v":0},{"$f":"AE8/(AG4-AE10)","v":0},{"$f":"IF(AF8=0,0,(AF8*((LOG(AF8))/LOG(2))))","v":0},null,{"$f":"N8","v":112},{"$f":"COUNTIF(L48:L60,AI8)","v":0},{"$f":"AJ8/(AL4-AJ10)","v":0},{"$f":"IF(AK8=0,0,(AK8*((LOG(AK8))/LOG(2))))","v":0},null,{"$f":"N8","v":112},{"$f":"COUNTIF(L61:L74,AN8)","v":0},{"$f":"AO8/(AQ4-AO10)","v":0},{"$f":"IF(AP8=0,0,(AP8*((LOG(AP8))/LOG(2))))","v":0},null,{"$f":"N8","v":112},{"$f":"COUNTIF(L75:L87,AS8)","v":0},{"$f":"AT8/(AV4-AT10)","v":0},{"$f":"IF(AU8=0,0,(AU8*((LOG(AU8))/LOG(2))))","v":0}]
[22,335,23,339,23,344,null,null,null,null,0,222,null,121,{"$f":"COUNTIF($L$7:$L$500,N9)","v":1},{"$f":"O9/$Q$4","v":1.2345679012345678E-2},{"$f":"IF(P9=0,0,(P9*((LOG(P9))/LOG(2))))","v":-7.8269753122032396E-2},null,null,{"$f":"N9","v":121},{"$f":"COUNTIF(L7:L20,T9)","v":0},{"$f":"U9/(W4-U10)","v":0},{"$f":"IF(V9=0,0,(V9*((LOG(V9))/LOG(2))))","v":0},null,{"$f":"N9","v":121},{"$f":"COUNTIF(L21:L33,Y9)","v":0},{"$f":"Z9/(AB4-Z10)","v":0},{"$f":"IF(AA9=0,0,(AA9*((LOG(AA9))/LOG(2))))","v":0},null,{"$f":"N9","v":121},{"$f":"COUNTIF(L34:L47,AD9)","v":0},{"$f":"AE9/(AG4-AE10)","v":0},{"$f":"IF(AF9=0,0,(AF9*((LOG(AF9))/LOG(2))))","v":0},null,{"$f":"N9","v":121},{"$f":"COUNTIF(L48:L60,AI9)","v":0},{"$f":"AJ9/(AL4-AJ10)","v":0},{"$f":"IF(AK9=0,0,(AK9*((LOG(AK9))/LOG(2))))","v":0},null,{"$f":"N9","v":121},{"$f":"COUNTIF(L61:L74,AN9)","v":0},{"$f":"AO9/(AQ4-AO10)","v":0},{"$f":"IF(AP9=0,0,(AP9*((LOG(AP9))/LOG(2))))","v":0},null,{"$f":"N9","v":121},{"$f":"COUNTIF(L75:L87,AS9)","v":1},{"$f":"AT9/(AV4-AT10)","v":0.16666666666666666},{"$f":"IF(AU9=0,0,(AU9*((LOG(AU9))/LOG(2))))","v":-0.43082708345352599}]
[11,452,21,461,21,467,null,null,null,null,0,122,null,122,{"$f":"COUNTIF($L$7:$L$500,N10)","v":38},{"$f":"O10/$Q$4","v":0.46913580246913578},{"$f":"IF(P10=0,0,(P10*((LOG(P10))/LOG(2))))","v":-0.51225993331801845},null,null,{"$f":"N10","v":122},{"$f":"COUNTIF(L7:L20,T10)","v":5},null,null,null,{"$f":"N10","v":122},{"$f":"COUNTIF(L21:L33,Y10)","v":7},null,null,null,{"$f":"N10","v":122},{"$f":"COUNTIF(L34:L47,AD10)","v":3},null,null,null,{"$f":"N10","v":122},{"$f":"COUNTIF(L48:L60,AI10)","v":9},null,null,null,{"$f":"N10","v":122},{"$f":"COUNTIF(L61:L74,AN10)","v":7},null,null,null,{"$f":"N10","v":122},{"$f":"COUNTIF(L75:L87,AS10)","v":7}]
[22,617,23,621,23,626,null,null,null,null,0,222,null,211,{"$f":"COUNTIF($L$7:$L$500,N11)","v":0},{"$f":"O11/$Q$4","v":0},{"$f":"IF(P11=0,0,(P11*((LOG(P11))/LOG(2))))","v":0},null,null,{"$f":"N11","v":211},{"$f":"COUNTIF(L7:L20,T11)","v":0},{"$f":"U11/(W4-U10)","v":0},{"$f":"IF(V11=0,0,(V11*((LOG(V11))/LOG(2))))","v":0},null,{"$f":"N11","v":211},{"$f":"COUNTIF(L21:L33,Y11)","v":0},{"$f":"Z11/(AB4-Z10)","v":0},{"$f":"IF(AA11=0,0,(AA11*((LOG(AA11))/LOG(2))))","v":0},null,{"$f":"N11","v":211},{"$f":"COUNTIF(L34:L47,AD11)","v":0},{"$f":"AE11/(AG4-AE10)","v":0},{"$f":"IF(AF11=0,0,(AF11*((LOG(AF11))/LOG(2))))","v":0},null,{"$f":"N11","v":211},{"$f":"COUNTIF(L48:L60,AI11)","v":0},{"$f":"AJ11/(AL4-AJ10)","v":0},{"$f":"IF(AK11=0,0,(AK11*((LOG(AK11))/LOG(2))))","v":0},null,{"$f":"N11","v":211},{"$f":"COUNTIF(L61:L74,AN11)","v":0},{"$f":"AO11/(AQ4-AO10)","v":0},{"$f":"IF(AP11=0,0,(AP11*((LOG(AP11))/LOG(2))))","v":0},null,{"$f":"N11","v":211},{"$f":"COUNTIF(L75:L87,AS11)","v":0},{"$f":"AT11/(AV4-AT10)","v":0},{"$f":"IF(AU11=0,0,(AU11*((LOG(AU11))/LOG(2))))","v":0}]
[11,719,21,731,21,735,null,null,null,null,0,122,null,212,{"$f":"COUNTIF($L$7:$L$500,N12)","v":0},{"$f":"O12/$Q$4","v":0},{"$f":"IF(P12=0,0,(P12*((LOG(P12))/LOG(2))))","v":0},null,null,{"$f":"N12","v":212},{"$f":"COUNTIF(L7:L20,T12)","v":0},{"$f":"U12/(W4-U10)","v":0},{"$f":"IF(V12=0,0,(V12*((LOG(V12))/LOG(2))))","v":0},null,{"$f":"N12","v":212},{"$f":"COUNTIF(L21:L33,Y12)","v":0},{"$f":"Z12/(AB4-Z10)","v":0},{"$f":"IF(AA12=0,0,(AA12*((LOG(AA12))/LOG(2))))","v":0},null,{"$f":"N12","v":212},{"$f":"COUNTIF(L34:L47,AD12)","v":0},{"$f":"AE12/(AG4-AE10)","v":0},{"$f":"IF(AF12=0,0,(AF12*((LOG(AF12))/LOG(2))))","v":0},null,{"$f":"N12","v":212},{"$f":"COUNTIF(L48:L60,AI12)","v":0},{"$f":"AJ12/(AL4-AJ10)","v":0},{"$f":"IF(AK12=0,0,(AK12*((LOG(AK12))/LOG(2))))","v":0},null,{"$f":"N12","v":212},{"$f":"COUNTIF(L61:L74,AN12)","v":0},{"$f":"AO12/(AQ4-AO10)","v":0},{"$f":"IF(AP12=0,0,(AP12*((LOG(AP12))/LOG(2))))","v":0},null,{"$f":"N12","v":212},{"$f":"COUNTIF(L75:L87,AS12)","v":0},{"$f":"AT12/(AV4-AT10)","v":0},{"$f":"IF(AU12=0,0,(AU12*((LOG(AU12))/LOG(2))))","v":0}]
[11,844,12,849,23,856,null,null,null,null,0,112,null,221,{"$f":"COUNTIF($L$7:$L$500,N13)","v":2},{"$f":"O13/$Q$4","v":2.4691358024691357E-2},{"$f":"IF(P13=0,0,(P13*((LOG(P13))/LOG(2))))","v":-0.13184814821937343},null,null,{"$f":"N13","v":221},{"$f":"COUNTIF(L7:L20,T13)","v":0},{"$f":"U13/(W4-U10)","v":0},{"$f":"IF(V13=0,0,(V13*((LOG(V13))/LOG(2))))","v":0},null,{"$f":"N13","v":221},{"$f":"COUNTIF(L21:L33,Y13)","v":0},{"$f":"Z13/(AB4-Z10)","v":0},{"$f":"IF(AA13=0,0,(AA13*((LOG(AA13))/LOG(2))))","v":0},null,{"$f":"N13","v":221},{"$f":"COUNTIF(L34:L47,AD13)","v":2},{"$f":"AE13/(AG4-AE10)","v":0.18181818181818182},{"$f":"IF(AF13=0,0,(AF13*((LOG(AF13))/LOG(2))))","v":-0.44716938520678134},null,{"$f":"N13","v":221},{"$f":"COUNTIF(L48:L60,AI13)","v":0},{"$f":"AJ13/(AL4-AJ10)","v":0},{"$f":"IF(AK13=0,0,(AK13*((LOG(AK13))/LOG(2))))","v":0},null,{"$f":"N13","v":221},{"$f":"COUNTIF(L61:L74,AN13)","v":0},{"$f":"AO13/(AQ4-AO10)","v":0},{"$f":"IF(AP13=0,0,(AP13*((LOG(AP13))/LOG(2))))","v":0},null,{"$f":"N13","v":221},{"$f":"COUNTIF(L75:L87,AS13)","v":0},{"$f":"AT13/(AV4-AT10)","v":0},{"$f":"IF(AU13=0,0,(AU13*((LOG(AU13))/LOG(2))))","v":0}]
[22,958,23,963,23,976,null,null,null,null,0,222,null,222,{"$f":"COUNTIF($L$7:$L$500,N14)","v":37},{"$f":"O14/$Q$4","v":0.4567901234567901},{"$f":"IF(P14=0,0,(P14*((LOG(P14))/LOG(2))))","v":-0.51635401948716009},null,null,{"$f":"N14","v":222},{"$f":"COUNTIF(L7:L20,T14)","v":8},{"$f":"U14/(W4-U10)","v":0.88888888888888884},{"$f":"IF(V14=0,0,(V14*((LOG(V14))/LOG(2))))","v":-0.15104444572649992},null,{"$f":"N14","v":222},{"$f":"COUNTIF(L21:L33,Y14)","v":5},{"$f":"Z14/(AB4-Z10)","v":0.83333333333333337},{"$f":"IF(AA14=0,0,(AA14*((LOG(AA14))/LOG(2))))","v":-0.21919533819482812},null,{"$f":"N14","v":222},{"$f":"COUNTIF(L34:L47,AD14)","v":8},{"$f":"AE14/(AG4-AE10)","v":0.72727272727272729},{"$f":"IF(AF14=0,0,(AF14*((LOG(AF14))/LOG(2))))","v":-0.33413208628167068},null,{"$f":"N14","v":222},{"$f":"COUNTIF(L48:L60,AI14)","v":4},{"$f":"AJ14/(AL4-AJ10)","v":1},{"$f":"IF(AK14=0,0,(AK14*((LOG(AK14))/LOG(2))))","v":0},null,{"$f":"N14","v":222},{"$f":"COUNTIF(L61:L74,AN14)","v":7},{"$f":"AO14/(AQ4-AO10)","v":1},{"$f":"IF(AP14=0,0,(AP14*((LOG(AP14))/LOG(2))))","v":0},null,{"$f":"N14","v":222},{"$f":"COUNTIF(L75:L87,AS14)","v":5},{"$f":"AT14/(AV4-AT10)","v":0.83333333333333337},{"$f":"IF(AU14=0,0,(AU14*((LOG(AU14))/LOG(2))))","v":-0.21919533819482812}]
[22,1081,23,1083,23,1087,null,null,null,null,0,222,null,null,null,{"$f":"SUM(P7:P14)","v":1},{"$f":"-SUM(Q7:Q14)","v":1.4488497554879902},null,null,null,null,{"$f":"SUM(V7:V14)","v":1},{"$f":"-SUM(W7:W14)","v":0.50325833477564574},null,null,null,{"$f":"SUM(AA7:AA14)","v":1},{"$f":"-SUM(AB7:AB14)","v":0.65002242164835411},null,null,null,{"$f":"SUM(AF7:AF14)","v":1},{"$f":"-SUM(AG7:AG14)","v":1.0957952550009336},null,null,null,{"$f":"SUM(AK7:AK14)","v":1},{"$f":"-SUM(AL7:AL14)","v":0},null,null,null,{"$f":"SUM(AP7:AP14)","v":1},{"$f":"-SUM(AQ7:AQ14)","v":0},null,null,null,{"$f":"SUM(AU7:AU14)","v":1},{"$f":"-SUM(AV7:AV14)","v":0.65002242164835411}]
[11,1181,21,1193,21,1198,null,null,null,null,0,122,null,null,null,"U=",{"$f":"Q15/(LOG(Q4)/LOG(2))","v":0.22853060479802603},null,null,null,null,"U1=",{"$f":"W15/(LOG(W4)/LOG(2))","v":0.13218056763241565},null,null,null,"U2=",{"$f":"AB15/(LOG(AB4)/LOG(2))","v":0.17566085956262825},null,null,null,"U3=",{"$f":"AG15/(LOG(AG4)/LOG(2))","v":0.28781011422195818},null,null,null,"U4=",{"$f":"AL15/(LOG(AL4)/LOG(2))","v":0},null,null,null,"U5=",{"$f":"AQ15/(LOG(AQ4)/LOG(2))","v":0},null,null,null,"U6=",{"$f":"AV15/(LOG(AV4)/LOG(2))","v":0.17566085956262825}]
[22,1335,23,1341,23,1347,null,null,null,null,0,222]
[22,1467,23,1472,23,1479,null,null,null,null,0,222]
[11,1576,21,1590,21,1594,null,null,null,null,0,122,null,"Total Target Seq"]
[11,1688,21,1700,21,1708,null,null,null,null,0,122,null,{"$f":"COUNTIF(L7:L87,G3)","v":38},null,14,13,14,13,14,13]
[11,1800,21,1811,21,1815,null,null,null,null,0,122,null,null,null,"% of reinforcement given in 6 equal intervals based on number of trials "]
[22,1942,23,1951,23,1960,null,null,null,null,0,222,null,null,null,"%_1","%_2","%_3","%_4","%_5","%_6"]
[22,2070,23,2074,23,2080,null,null,null,null,0,222,null,null,"target sequence",{"$f":"$G$3","v":122},{"$f":"$G$3","v":122},{"$f":"$G$3","v":122},{"$f":"$G$3","v":122},{"$f":"$G$3","v":122},{"$f":"$G$3","v":122}]
[11,2179,21,2184,21,2193,null,null,null,null,0,122,null,null,"total reinforcement",{"$f":"U10","v":5},{"$f":"Z10","v":7},{"$f":"AE10","v":3},{"$f":"AJ10","v":9},{"$f":"AO10","v":7},{"$f":"AT10","v":7}]
[22,2335,23,2340,23,2350,null,null,null,null,0,222,null,null,"% target"]
[22,2463,23,2466,23,2472,null,null,null,null,0,222,null,null,"CCRF"]
[11,2570,21,2582,21,2585,null,null,null,null,0,122,null,null,"% CCRf"]
[11,2700,21,2711,21,2717,null,null,null,null,0,122,null,null,"average response rate",{"$f":"F20/P20","v":122},{"$f":"(F33-F20)/Q20","v":124.61538461538461},{"$f":"(F47-F33)/R20","v":128.14285714285714},{"$f":"(F60-F47)/S20","v":132.23076923076923},{"$f":"(F74-F60)/T20","v":127.85714285714286},{"$f":"(F87-F74)/U20","v":139.84615384615384}]
[11,2822,12,2826,23,2842,null,null,null,null,0,112]
[11,2934,21,2947,21,2950,null,null,null,null,0,122]
[22,3066,23,3074,23,3086,null,null,null,null,0,222]
[11,3184,21,3193,21,3197,null,null,null,null,0,122]
[11,3314,21,3325,21,3328,null,null,null,null,0,122]
[22,3432,23,3437,23,3443,null,null,null,null,0,222]
[22,3547,23,3555,23,3565,null,null,null,null,0,222]
[22,3672,23,3684,23,3691,null,null,null,null,0,222]
[22,3798,23,3800,23,3807,null,null,null,null,0,222]
[11,3904,21,3913,21,3916,null,null,null,null,0,122]
[22,4022,23,4030,23,4035,null,null,null,null,0,222]
[22,4139,23,4149,14,4162,null,null,null,null,0,221]
[11,4274,12,4278,14,4283,null,null,null,null,0,111]
[22,4390,23,4393,23,4399,null,null,null,null,0,222]
[11,4497,21,4506,21,4510,null,null,null,null,0,122]
[11,4621,21,4630,21,4633,null,null,null,null,0,122]
[22,4854,23,4858,23,4861,null,null,null,null,0,222]
[22,4984,23,4988,14,5009,null,null,null,null,0,221]
[22,5113,23,5117,23,5122,null,null,null,null,0,222]
[22,5222,23,5225,23,5230,null,null,null,null,0,222]
[11,5328,21,5338,21,5342,null,null,null,null,0,122]
[11,5459,21,5468,21,5472,null,null,null,null,0,122]
[22,5623,23,5628,23,5632,null,null,null,null,0,222]
[11,5730,21,5741,21,5744,null,null,null,null,0,122]
[11,5852,21,5864,21,5870,null,null,null,null,0,122]
[22,6024,23,6027,23,6043,null,null,null,null,0,222]
[11,6140,21,6151,21,6159,null,null,null,null,0,122]
[22,6290,23,6294,23,6299,null,null,null,null,0,222]
[11,6402,21,6412,21,6429,null,null,null,null,0,122]
[11,6554,21,6565,21,6574,null,null,null,null,0,122]
[11,6670,21,6682,21,6685,null,null,null,null,0,122]
[11,6826,21,6838,21,6841,null,null,null,null,0,122]
[11,6936,21,6946,21,6952,null,null,null,null,0,122]
[11,7083,21,7098,21,7103,null,null,null,null,0,122]
[11,7199,21,7211,21,7215,null,null,null,null,0,122]
[22,7358,23,7369,23,7375,null,null,null,null,0,222]
[22,7484,23,7490,23,7498,null,null,null,null,0,222]
[11,7595,21,7608,21,7611,null,null,null,null,0,122]
[22,7756,23,7761,23,7766,null,null,null,null,0,222]
[22,7868,23,7871,23,7876,null,null,null,null,0,222]
[11,7972,21,7986,21,7991,null,null,null,null,0,122]
[22,8120,23,8124,23,8131,null,null,null,null,0,222]
[22,8236,23,8240,23,8245,null,null,null,null,0,222]
[11,8348,21,8360,21,8369,null,null,null,null,0,122]
[22,8513,23,8516,23,8524,null,null,null,null,0,222]
[11,8620,21,8627,21,8631,null,null,null,null,0,122]
[11,8753,21,8764,21,8767,null,null,null,null,0,122]
[22,8934,23,8939,23,8944,null,null,null,null,0,222]
[11,9040,21,9052,21,9055,null,null,null,null,0,122]
[11,9190,21,9202,21,9209,null,null,null,null,0,122]
[11,9377,21,9390,21,9394,null,null,null,null,0,122]
[11,9516,21,9529,21,9533,null,null,null,null,0,122]
[22,9641,23,9648,23,9653,null,null,null,null,0,222]
[22,9793,23,9797,23,9805,null,null,null,null,0,222]
[11,9902,21,9909,21,9913,null,null,null,null,0,122]
[22,10027,23,10030,23,10040,null,null,null,null,0,222]
[22,10153,23,10159,23,10164,null,null,null,null,0,222]
[11,10261,21,10278,12,10302,null,null,null,null,0,121]
[11,10429,21,10440,21,10449,null,null,null,null,1,122]

{"sheet":"!LB17A03..Ta","index":11,"n_rows":82,"n_cols":48,"rows_kept":82,"cut":false,"hidden":false,"merged":[[4,39,4,42],[5,39,5,40],[4,44,4,47],[5,44,5,45],[4,24,4,27],[5,24,5,25],[4,29,4,32],[5,29,5,30],[4,34,4,37],[5,34,5,35],[1,1,1,2],[5,13,5,14],[18,13,18,14],[19,13,19,14],[4,19,4,22],[5,19,5,20]]}
["Report for:!LB17A03..Ta"]
["Date:","<date>"]
["Hen:","<hen>",null,null,null,"Correct Sequence",{"$f":"Start!J2","v":122},null,null,null,null,null,null,null,null,"Total Sequences in Data",{"$f":"4994-COUNTBLANK(L7:L5000)","v":76},null,null,null,null,"Total Sequences in Block Data",{"$f":"COUNTA(L7:L19)","v":13},null,null,null,"Total Sequences in Block Data",{"$f":"COUNTA(L20:L31)","v":12},null,null,null,"Total Sequences in Block Data",{"$f":"COUNTA(L32:L44)","v":13},null,null,null,"Total Sequences in Block Data",{"$f":"COUNTA(L45:L57)","v":13},null,null,null,"Total Sequences in Block Data",{"$f":"COUNTA(L58:L69)","v":12},null,null,null,"Total Sequences in Block Data",{"$f":"COUNTA(L70:L82)","v":13}]
[null,null,null,null,null,null,null,null,null,null,null,null,null,null,null,"Total Sequences in Summary",{"$f":"SUM(O7:O14)","v":76},null,null,null,null,"Total Sequences in Block Summary",{"$f":"SUM(U7:U14)","v":13},null,null,null,"Total Sequences in Block Summary",{"$f":"SUM(Z7:Z14)","v":12},null,null,null,"Total Sequences in Block Summary",{"$f":"SUM(AE7:AE14)","v":13},null,null,null,"Total Sequences in Block Summary",{"$f":"SUM(AJ7:AJ14)","v":13},null,null,null,"Total Sequences in Block Summary",{"$f":"SUM(AO7:AO14)","v":12},null,null,null,"Total Sequences in Block Summary",{"$f":"SUM(AT7:AT14)","v":13}]
[null,null,null,null,null,null,null,null,null,null,null,null,null,null,null,null,null,null,null,"Block 1",null,null,null,null,"Block 2",null,null,null,null,"Block 3",null,null,null,null,"Block 4",null,null,null,null,"Block 5",null,null,null,null,"Block 6"]
["Sequence\nComponent\n1","Time\n1","Sequence\nComponent\n2","Time\n2","Sequence\nComponent\n3","Time\n3","Sequence\nComponent\n4","Time\n4","Sequence\nComponent\n5","Time\n5","Correct?\n0=No 1=Yes","Sequence",null,"Frequency",null,"Relative Frequency","Variability",null,null,"Frequency",null,"Relative Frequency","Variability",null,"Frequency",null,"Relative Frequency","Variability",null,"Frequency",null,"Relative Frequency","Variability",null,"Frequency",null,"Relative Frequency","Variability",null,"Frequency",null,"Relative Frequency","Variability",null,"Frequency",null,"Relative Frequency","Variability"]
[22,21,23,24,23,28,null,null,null,null,0,222,null,111,{"$f":"COUNTIF($L$7:$L$500,N7)","v":1},{"$f":"O7/$Q$4","v":1.3157894736842105E-2},{"$f":"IF(P7=0,0,(P7*((LOG(P7))/LOG(2))))","v":-8.2209572545310333E-2},null,null,{"$f":"N7","v":111},{"$f":"COUNTIF(L7:L19,T7)","v":0},{"$f":"U7/(W4-U10)","v":0},{"$f":"IF(V7=0,0,(V7*((LOG(V7))/LOG(2))))","v":0},null,{"$f":"N7","v":111},{"$f":"COUNTIF(L20:L31,Y7)","v":1},{"$f":"Z7/(AB4-Z10)","v":0.16666666666666666},{"$f":"IF(AA7=0,0,(AA7*((LOG(AA7))/LOG(2))))","v":-0.43082708345352599},null,{"$f":"N7","v":111},{"$f":"COUNTIF(L32:L44,AD7)","v":0},{"$f":"AE7/(AG4-AE10)","v":0},{"$f":"IF(AF7=0,0,(AF7*((LOG(AF7))/LOG(2))))","v":0},null,{"$f":"N7","v":111},{"$f":"COUNTIF(L45:L57,AI7)","v":0},{"$f":"AJ7/(AL4-AJ10)","v":0},{"$f":"IF(AK7=0,0,(AK7*((LOG(AK7))/LOG(2))))","v":0},null,{"$f":"N7","v":111},{"$f":"COUNTIF(L58:L69,AN7)","v":0},{"$f":"AO7/(AQ4-AO10)","v":0},{"$f":"IF(AP7=0,0,(AP7*((LOG(AP7))/LOG(2))))","v":0},null,{"$f":"N7","v":111},{"$f":"COUNTIF(L70:L82,AS7)","v":0},{"$f":"AT7/(AV4-AT10)","v":0},{"$f":"IF(AU7=0,0,(AU7*((LOG(AU7))/LOG(2))))","v":0}]
[22,131,23,138,23,142,null,null,null,null,0,222,null,112,{"$f":"COUNTIF($L$7:$L$500,N8)","v":1},{"$f":"O8/$Q$4","v":1.3157894736842105E-2},{"$f":"IF(P8=0,0,(P8*((LOG(P8))/LOG(2))))","v":-8.2209572545310333E-2},null,null,{"$f":"N8","v":112},{"$f":"COUNTIF(L7:L19,T8)","v":0},{"$f":"U8/(W4-U10)","v":0},{"$f":"IF(V8=0,0,(V8*((LOG(V8))/LOG(2))))","v":0},null,{"$f":"N8","v":112},{"$f":"COUNTIF(L20:L31,Y8)","v":0},{"$f":"Z8/(AB4-Z10)","v":0},{"$f":"IF(AA8=0,0,(AA8*((LOG(AA8))/LOG(2))))","v":0},null,{"$f":"N8","v":112},{"$f":"COUNTIF(L32:L44,AD8)","v":0},{"$f":"AE8/(AG4-AE10)","v":0},{"$f":"IF(AF8=0,0,(AF8*((LOG(AF8))/LOG(2))))","v":0},null,{"$f":"N8","v":112},{"$f":"COUNTIF(L45:L57,AI8)","v":0},{"$f":"AJ8/(AL4-AJ10)","v":0},{"$f":"IF(AK8=0,0,(AK8*((LOG(AK8))/LOG(2))))","v":0},null,{"$f":"N8","v":112},{"$f":"COUNTIF(L58:L69,AN8)","v":0},{"$f":"AO8/(AQ4-AO10)","v":0},{"$f":"IF(AP8=0,0,(AP8*((LOG(AP8))/LOG(2))))","v":0},null,{"$f":"N8","v":112},{"$f":"COUNTIF(L70:L82,AS8)","v":1},{"$f":"AT8/(AV4-AT10)","v":0.25},{"$f":"IF(AU8=0,0,(AU8*((LOG(AU8))/LOG(2))))","v":-0.5}]
[11,237,21,254,21,260,null,null,null,null,0,122,null,121,{"$f":"COUNTIF($L$7:$L$500,N9)","v":0},{"$f":"O9/$Q$4","v":0},{"$f":"IF(P9=0,0,(P9*((LOG(P9))/LOG(2))))","v":0},null,null,{"$f":"N9","v":121},{"$f":"COUNTIF(L7:L19,T9)","v":0},{"$f":"U9/(W4-U10)","v":0},{"$f":"IF(V9=0,0,(V9*((LOG(V9))/LOG(2))))","v":0},null,{"$f":"N9","v":121},{"$f":"COUNTIF(L20:L31,Y9)","v":0},{"$f":"Z9/(AB4-Z10)","v":0},{"$f":"IF(AA9=0,0,(AA9*((LOG(AA9))/LOG(2))))","v":0},null,{"$f":"N9","v":121},{"$f":"COUNTIF(L32:L44,AD9)","v":0},{"$f":"AE9/(AG4-AE10)","v":0},{"$f":"IF(AF9=0,0,(AF9*((LOG(AF9))/LOG(2))))","v":0},null,{"$f":"N9","v":121},{"$f":"COUNTIF(L45:L57,AI9)","v":0},{"$f":"AJ9/(AL4-AJ10)","v":0},{"$f":"IF(AK9=0,0,(AK9*((LOG(AK9))/LOG(2))))","v":0},null,{"$f":"N9","v":121},{"$f":"COUNTIF(L58:L69,AN9)","v":0},{"$f":"AO9/(AQ4-AO10)","v":0},{"$f":"IF(AP9=0,0,(AP9*((LOG(AP9))/LOG(2))))","v":0},null,{"$f":"N9","v":121},{"$f":"COUNTIF(L70:L82,AS9)","v":0},{"$f":"AT9/(AV4-AT10)","v":0},{"$f":"IF(AU9=0,0,(AU9*((LOG(AU9))/LOG(2))))","v":0}]
[22,356,23,359,23,363,null,null,null,null,0,222,null,122,{"$f":"COUNTIF($L$7:$L$500,N10)","v":39},{"$f":"O10/$Q$4","v":0.51315789473684215},{"$f":"IF(P10=0,0,(P10*((LOG(P10))/LOG(2))))","v":-0.49392745379831771},null,null,{"$f":"N10","v":122},{"$f":"COUNTIF(L7:L19,T10)","v":5},null,null,null,{"$f":"N10","v":122},{"$f":"COUNTIF(L20:L31,Y10)","v":6},null,null,null,{"$f":"N10","v":122},{"$f":"COUNTIF(L32:L44,AD10)","v":7},null,null,null,{"$f":"N10","v":122},{"$f":"COUNTIF(L45:L57,AI10)","v":6},null,null,null,{"$f":"N10","v":122},{"$f":"COUNTIF(L58:L69,AN10)","v":6},null,null,null,{"$f":"N10","v":122},{"$f":"COUNTIF(L70:L82,AS10)","v":9}]
[22,472,23,478,23,484,null,null,null,null,0,222,null,211,{"$f":"COUNTIF($L$7:$L$500,N11)","v":0},{"$f":"O11/$Q$4","v":0},{"$f":"IF(P11=0,0,(P11*((LOG(P11))/LOG(2))))","v":0},null,null,{"$f":"N11","v":211},{"$f":"COUNTIF(L7:L19,T11)","v":0},{"$f":"U11/(W4-U10)","v":0},{"$f":"IF(V11=0,0,(V11*((LOG(V11))/LOG(2))))","v":0},null,{"$f":"N11","v":211},{"$f":"COUNTIF(L20:L31,Y11)","v":0},{"$f":"Z11/(AB4-Z10)","v":0},{"$f":"IF(AA11=0,0,(AA11*((LOG(AA11))/LOG(2))))","v":0},null,{"$f":"N11","v":211},{"$f":"COUNTIF(L32:L44,AD11)","v":0},{"$f":"AE11/(AG4-AE10)","v":0},{"$f":"IF(AF11=0,0,(AF11*((LOG(AF11))/LOG(2))))","v":0},null,{"$f":"N11","v":211},{"$f":"COUNTIF(L45:L57,AI11)","v":0},{"$f":"AJ11/(AL4-AJ10)","v":0},{"$f":"IF(AK11=0,0,(AK11*((LOG(AK11))/LOG(2))))","v":0},null,{"$f":"N11","v":211},{"$f":"COUNTIF(L58:L69,AN11)","v":0},{"$f":"AO11/(AQ4-AO10)","v":0},{"$f":"IF(AP11=0,0,(AP11*((LOG(AP11))/LOG(2))))","v":0},null,{"$f":"N11","v":211},{"$f":"COUNTIF(L70:L82,AS11)","v":0},{"$f":"AT11/(AV4-AT10)","v":0},{"$f":"IF(AU11=0,0,(AU11*((LOG(AU11))/LOG(2))))","v":0}]
[11,581,21,594,21,597,null,null,null,null,0,122,null,212,{"$f":"COUNTIF($L$7:$L$500,N12)","v":0},{"$f":"O12/$Q$4","v":0},{"$f":"IF(P12=0,0,(P12*((LOG(P12))/LOG(2))))","v":0},null,null,{"$f":"N12","v":212},{"$f":"COUNTIF(L7:L19,T12)","v":0},{"$f":"U12/(W4-U10)","v":0},{"$f":"IF(V12=0,0,(V12*((LOG(V12))/LOG(2))))","v":0},null,{"$f":"N12","v":212},{"$f":"COUNTIF(L20:L31,Y12)","v":0},{"$f":"Z12/(AB4-Z10)","v":0},{"$f":"IF(AA12=0,0,(AA12*((LOG(AA12))/LOG(2))))","v":0},null,{"$f":"N12","v":212},{"$f":"COUNTIF(L32:L44,AD12)","v":0},{"$f":"AE12/(AG4-AE10)","v":0},{"$f":"IF(AF12=0,0,(AF12*((LOG(AF12))/LOG(2))))","v":0},null,{"$f":"N12","v":212},{"$f":"COUNTIF(L45:L57,AI12)","v":0},{"$f":"AJ12/(AL4-AJ10)","v":0},{"$f":"IF(AK12=0,0,(AK12*((LOG(AK12))/LOG(2))))","v":0},null,{"$f":"N12","v":212},{"$f":"COUNTIF(L58:L69,AN12)","v":0},{"$f":"AO12/(AQ4-AO10)","v":0},{"$f":"IF(AP12=0,0,(AP12*((LOG(AP12))/LOG(2))))","v":0},null,{"$f":"N12","v":212},{"$f":"COUNTIF(L70:L82,AS12)","v":0},{"$f":"AT12/(AV4-AT10)","v":0},{"$f":"IF(AU12=0,0,(AU12*((LOG(AU12))/LOG(2))))","v":0}]
[22,700,23,703,23,709,null,null,null,null,0,222,null,221,{"$f":"COUNTIF($L$7:$L$500,N13)","v":1},{"$f":"O13/$Q$4","v":1.3157894736842105E-2},{"$f":"IF(P13=0,0,(P13*((LOG(P13))/LOG(2))))","v":-8.2209572545310333E-2},null,null,{"$f":"N13","v":221},{"$f":"COUNTIF(L7:L19,T13)","v":0},{"$f":"U13/(W4-U10)","v":0},{"$f":"IF(V13=0,0,(V13*((LOG(V13))/LOG(2))))","v":0},null,{"$f":"N13","v":221},{"$f":"COUNTIF(L20:L31,Y13)","v":0},{"$f":"Z13/(AB4-Z10)","v":0},{"$f":"IF(AA13=0,0,(AA13*((LOG(AA13))/LOG(2))))","v":0},null,{"$f":"N13","v":221},{"$f":"COUNTIF(L32:L44,AD13)","v":0},{"$f":"AE13/(AG4-AE10)","v":0},{"$f":"IF(AF13=0,0,(AF13*((LOG(AF13))/LOG(2))))","v":0},null,{"$f":"N13","v":221},{"$f":"COUNTIF(L45:L57,AI13)","v":0},{"$f":"AJ13/(AL4-AJ10)","v":0},{"$f":"IF(AK13=0,0,(AK13*((LOG(AK13))/LOG(2))))","v":0},null,{"$f":"N13","v":221},{"$f":"COUNTIF(L58:L69,AN13)","v":0},{"$f":"AO13/(AQ4-AO10)","v":0},{"$f":"IF(AP13=0,0,(AP13*((LOG(AP13))/LOG(2))))","v":0},null,{"$f":"N13","v":221},{"$f":"COUNTIF(L70:L82,AS13)","v":1},{"$f":"AT13/(AV4-AT10)","v":0.25},{"$f":"IF(AU13=0,0,(AU13*((LOG(AU13))/LOG(2))))","v":-0.5}]
[11,805,21,816,21,819,null,null,null,null,0,122,null,222,{"$f":"COUNTIF($L$7:$L$500,N14)","v":34},{"$f":"O14/$Q$4","v":0.44736842105263158},{"$f":"IF(P14=0,0,(P14*((LOG(P14))/LOG(2))))","v":-0.51915524808645219},null,null,{"$f":"N14","v":222},{"$f":"COUNTIF(L7:L19,T14)","v":8},{"$f":"U14/(W4-U10)","v":1},{"$f":"IF(V14=0,0,(V14*((LOG(V14))/LOG(2))))","v":0},null,{"$f":"N14","v":222},{"$f":"COUNTIF(L20:L31,Y14)","v":5},{"$f":"Z14/(AB4-Z10)","v":0.83333333333333337},{"$f":"IF(AA14=0,0,(AA14*((LOG(AA14))/LOG(2))))","v":-0.21919533819482812},null,{"$f":"N14","v":222},{"$f":"COUNTIF(L32:L44,AD14)","v":6},{"$f":"AE14/(AG4-AE10)","v":1},{"$f":"IF(AF14=0,0,(AF14*((LOG(AF14))/LOG(2))))","v":0},null,{"$f":"N14","v":222},{"$f":"COUNTIF(L45:L57,AI14)","v":7},{"$f":"AJ14/(AL4-AJ10)","v":1},{"$f":"IF(AK14=0,0,(AK14*((LOG(AK14))/LOG(2))))","v":0},null,{"$f":"N14","v":222},{"$f":"COUNTIF(L58:L69,AN14)","v":6},{"$f":"AO14/(AQ4-AO10)","v":1},{"$f":"IF(AP14=0,0,(AP14*((LOG(AP14))/LOG(2))))","v":0},null,{"$f":"N14","v":222},{"$f":"COUNTIF(L70:L82,AS14)","v":2},{"$f":"AT14/(AV4-AT10)","v":0.5},{"$f":"IF(AU14=0,0,(AU14*((LOG(AU14))/LOG(2))))","v":-0.5}]
[22,940,23,944,23,950,null,null,null,null,0,222,null,null,null,{"$f":"SUM(P7:P14)","v":1},{"$f":"-SUM(Q7:Q14)","v":1.2597114195207009},null,null,null,null,{"$f":"SUM(V7:V14)","v":1},{"$f":"-SUM(W7:W14)","v":0},null,null,null,{"$f":"SUM(AA7:AA14)","v":1},{"$f":"-SUM(AB7:AB14)","v":0.65002242164835411},null,null,null,{"$f":"SUM(AF7:AF14)","v":1},{"$f":"-SUM(AG7:AG14)","v":0},null,null,null,{"$f":"SUM(AK7:AK14)","v":1},{"$f":"-SUM(AL7:AL14)","v":0},null,null,null,{"$f":"SUM(AP7:AP14)","v":1},{"$f":"-SUM(AQ7:AQ14)","v":0},null,null,null,{"$f":"SUM(AU7:AU14)","v":1},{"$f":"-SUM(AV7:AV14)","v":1.5}]
[22,1052,23,1055,23,1060,null,null,null,null,0,222,null,null,null,"U=",{"$f":"Q15/(LOG(Q4)/LOG(2))","v":0.20162068410848175},null,null,null,null,"U1=",{"$f":"W15/(LOG(W4)/LOG(2))","v":0},null,null,null,"U2=",{"$f":"AB15/(LOG(AB4)/LOG(2))","v":0.18131916903387263},null,null,null,"U3=",{"$f":"AG15/(LOG(AG4)/LOG(2))","v":0},null,null,null,"U4=",{"$f":"AL15/(LOG(AL4)/LOG(2))","v":0},null,null,null,"U5=",{"$f":"AQ15/(LOG(AQ4)/LOG(2))","v":0},null,null,null,"U6=",{"$f":"AV15/(LOG(AV4)/LOG(2))","v":0.40535723164097959}]
[11,1156,21,1167,21,1177,null,null,null,null,0,122]
[11,1280,21,1290,21,1294,null,null,null,null,0,122]
[22,1422,23,1425,23,1428,null,null,null,null,0,222,null,"Total Target Seq"]
[11,1524,21,1532,21,1536,null,null,null,null,0,122,null,{"$f":"COUNTIF(L7:L82,G3)","v":39},null,13,12,13,13,12,13]
[22,1644,23,1649,23,1656,null,null,null,null,0,222,null,null,null,"% of reinforcement given in 6 equal intervals based on number of trials "]
[11,1773,12,1785,14,1790,null,null,null,null,0,111,null,null,null,"%_1","%_2","%_3","%_4","%_5","%_6"]
[22,1891,23,1895,23,1900,null,null,null,null,0,222,null,null,"target sequence",{"$f":"$G$3","v":122},{"$f":"$G$3","v":122},{"$f":"$G$3","v":122},{"$f":"$G$3","v":122},{"$f":"$G$3","v":122},{"$f":"$G$3","v":122}]
[11,1992,21,2011,21,2015,null,null,null,null,0,122,null,null,"total reinforcement",{"$f":"U10","v":5},{"$f":"Z10","v":6},{"$f":"AE10","v":7},{"$f":"AJ10","v":6},{"$f":"AO10","v":6},{"$f":"AT10","v":9}]
[22,2182,23,2186,23,2194,null,null,null,null,0,222,null,null,"% target"]
[11,2287,21,2295,21,2301,null,null,null,null,0,122,null,null,"CCRF"]
[22,2414,23,2417,23,2422,null,null,null,null,0,222,null,null,"% CCRf"]
[11,2516,21,2527,21,2531,null,null,null,null,0,122,null,null,"average response rate",{"$f":"F19/P20","v":109.84615384615384},{"$f":"(F31-F19)/Q20","v":125.58333333333333},{"$f":"(F44-F31)/R20","v":122.38461538461539},{"$f":"(F57-F44)/S20","v":125.61538461538461},{"$f":"(F69-F57)/T20","v":126.5},{"$f":"(F82-F69)/U20","v":138.84615384615384}]
[22,2658,23,2661,23,2663,null,null,null,null,0,222]
[11,2761,21,2785,21,2796,null,null,null,null,0,122]
[11,2915,21,2926,21,2935,null,null,null,null,0,122]
[22,3046,23,3050,23,3058,null,null,null,null,0,222]
[11,3155,21,3166,21,3169,null,null,null,null,0,122]
[22,3286,23,3296,23,3301,null,null,null,null,0,222]
[22,3418,23,3421,23,3426,null,null,null,null,0,222]
[22,3527,23,3530,23,3538,null,null,null,null,0,222]
[22,3660,23,3663,23,3668,null,null,null,null,0,222]
[11,3762,21,3770,21,3776,null,null,null,null,0,122]
[11,3874,21,3892,21,3894,null,null,null,null,0,122]
[11,3992,21,4005,21,4008,null,null,null,null,0,122]
[11,4112,21,4121,21,4126,null,null,null,null,0,122]
[22,4293,23,4296,23,4301,null,null,null,null,0,222]
[11,4396,21,4404,21,4407,null,null,null,null,0,122]
[11,4506,21,4522,21,4526,null,null,null,null,0,122]
[22,4632,23,4635,23,4641,null,null,null,null,0,222]
[11,4736,21,4749,21,4754,null,null,null,null,0,122]
[11,4850,21,4870,21,4876,null,null,null,null,0,122]
[11,5044,21,5050,21,5053,null,null,null,null,0,122]
[22,5184,23,5187,23,5193,null,null,null,null,0,222]
[22,5298,23,5302,23,5321,null,null,null,null,0,222]
[11,5420,21,5429,21,5433,null,null,null,null,0,122]
[22,5573,23,5576,23,5585,null,null,null,null,0,222]
[22,5692,23,5695,23,5701,null,null,null,null,0,222]
[11,5794,21,5806,21,5811,null,null,null,null,0,122]
[22,5914,23,5921,23,5927,null,null,null,null,0,222]
[11,6022,21,6036,21,6041,null,null,null,null,0,122]
[22,6146,23,6153,23,6159,null,null,null,null,0,222]
[22,6263,23,6266,23,6272,null,null,null,null,0,222]
[11,6369,21,6383,21,6388,null,null,null,null,0,122]
[11,6491,21,6500,21,6504,null,null,null,null,0,122]
[22,6622,23,6626,23,6631,null,null,null,null,0,222]
[22,6742,23,6745,23,6751,null,null,null,null,0,222]
[11,6848,21,6861,21,6870,null,null,null,null,0,122]
[11,7002,21,7011,21,7014,null,null,null,null,0,122]
[22,7171,23,7179,23,7184,null,null,null,null,0,222]
[22,7293,23,7298,23,7305,null,null,null,null,0,222]
[11,7403,21,7414,21,7419,null,null,null,null,0,122]
[22,7556,23,7562,23,7569,null,null,null,null,0,222]
[11,7664,21,7675,21,7677,null,null,null,null,0,122]
[11,7794,21,7808,21,7812,null,null,null,null,0,122]
[22,7950,23,7962,23,7966,null,null,null,null,0,222]
[11,8068,12,8071,23,8081,null,null,null,null,0,112]
[22,8194,23,8199,23,8203,null,null,null,null,0,222]
[22,8311,23,8321,14,8336,null,null,null,null,0,221]
[11,8432,21,8439,21,8447,null,null,null,null,0,122]
[11,8607,21,8616,21,8619,null,null,null,null,0,122]
[11,8796,21,8811,21,8817,null,null,null,null,0,122]
[11,8914,21,8922,21,8926,null,null,null,null,0,122]
[11,9020,21,9034,21,9038,null,null,null,null,0,122]
[11,9185,21,9195,21,9199,null,null,null,null,0,122]
[11,9309,21,9323,21,9330,null,null,null,null,0,122]
[11,9469,21,9479,21,9482,null,null,null,null,1,122]

{"sheet":"!LB18A03..Ta","index":12,"n_rows":63,"n_cols":48,"rows_kept":63,"cut":false,"hidden":false,"merged":[[4,39,4,42],[5,39,5,40],[4,44,4,47],[5,44,5,45],[4,24,4,27],[5,24,5,25],[4,29,4,32],[5,29,5,30],[4,34,4,37],[5,34,5,35],[1,1,1,2],[5,13,5,14],[18,13,18,14],[19,13,19,14],[4,19,4,22],[5,19,5,20]]}
["Report for:!LB18A03..Ta"]
["Date:","<date>"]
["Hen:","<hen>",null,null,null,"Correct Sequence",{"$f":"Start!J2","v":122},null,null,null,null,null,null,null,null,"Total Sequences in Data",{"$f":"4994-COUNTBLANK(L7:L5000)","v":57},null,null,null,null,"Total Sequences in Block Data",{"$f":"COUNTA(L7:L16)","v":10},null,null,null,"Total Sequences in Block Data",{"$f":"COUNTA(L17:L25)","v":9},null,null,null,"Total Sequences in Block Data",{"$f":"COUNTA(L26:L35)","v":10},null,null,null,"Total Sequences in Block Data",{"$f":"COUNTA(L36:L44)","v":9},null,null,null,"Total Sequences in Block Data",{"$f":"COUNTA(L45:L54)","v":10},null,null,null,"Total Sequences in Block Data",{"$f":"COUNTA(L55:L63)","v":9}]
[null,null,null,null,null,null,null,null,null,null,null,null,null,null,null,"Total Sequences in Summary",{"$f":"SUM(O7:O14)","v":57},null,null,null,null,"Total Sequences in Block Summary",{"$f":"SUM(U7:U14)","v":10},null,null,null,"Total Sequences in Block Summary",{"$f":"SUM(Z7:Z14)","v":9},null,null,null,"Total Sequences in Block Summary",{"$f":"SUM(AE7:AE14)","v":10},null,null,null,"Total Sequences in Block Summary",{"$f":"SUM(AJ7:AJ14)","v":9},null,null,null,"Total Sequences in Block Summary",{"$f":"SUM(AO7:AO14)","v":10},null,null,null,"Total Sequences in Block Summary",{"$f":"SUM(AT7:AT14)","v":9}]
[null,null,null,null,null,null,null,null,null,null,null,null,null,null,null,null,null,null,null,"Block 1",null,null,null,null,"Block 2",null,null,null,null,"Block 3",null,null,null,null,"Block 4",null,null,null,null,"Block 5",null,null,null,null,"Block 6"]
["Sequence\nComponent\n1","Time\n1","Sequence\nComponent\n2","Time\n2","Sequence\nComponent\n3","Time\n3","Sequence\nComponent\n4","Time\n4","Sequence\nComponent\n5","Time\n5","Correct?\n0=No 1=Yes","Sequence",null,"Frequency",null,"Relative Frequency","Variability",null,null,"Frequency",null,"Relative Frequency","Variability",null,"Frequency",null,"Relative Frequency","Variability",null,"Frequency",null,"Relative Frequency","Variability",null,"Frequency",null,"Relative Frequency","Variability",null,"Frequency",null,"Relative Frequency","Variability",null,"Frequency",null,"Relative Frequency","Variability"]
[22,11,23,28,23,32,null,null,null,null,0,222,null,111,{"$f":"COUNTIF($L$7:$L$500,N7)","v":1},{"$f":"O7/$Q$4","v":1.7543859649122806E-2},{"$f":"IF(P7=0,0,(P7*((LOG(P7))/LOG(2))))","v":-0.10233140375727617},null,null,{"$f":"N7","v":111},{"$f":"COUNTIF(L7:L16,T7)","v":0},{"$f":"U7/(W4-U10)","v":0},{"$f":"IF(V7=0,0,(V7*((LOG(V7))/LOG(2))))","v":0},null,{"$f":"N7","v":111},{"$f":"COUNTIF(L17:L25,Y7)","v":0},{"$f":"Z7/(AB4-Z10)","v":0},{"$f":"IF(AA7=0,0,(AA7*((LOG(AA7))/LOG(2))))","v":0},null,{"$f":"N7","v":111},{"$f":"COUNTIF(L26:L35,AD7)","v":1},{"$f":"AE7/(AG4-AE10)","v":0.33333333333333331},{"$f":"IF(AF7=0,0,(AF7*((LOG(AF7))/LOG(2))))","v":-0.52832083357371862},null,{"$f":"N7","v":111},{"$f":"COUNTIF(L36:L44,AI7)","v":0},{"$f":"AJ7/(AL4-AJ10)","v":0},{"$f":"IF(AK7=0,0,(AK7*((LOG(AK7))/LOG(2))))","v":0},null,{"$f":"N7","v":111},{"$f":"COUNTIF(L45:L54,AN7)","v":0},{"$f":"AO7/(AQ4-AO10)","v":0},{"$f":"IF(AP7=0,0,(AP7*((LOG(AP7))/LOG(2))))","v":0},null,{"$f":"N7","v":111},{"$f":"COUNTIF(L55:L63,AS7)","v":0},{"$f":"AT7/(AV4-AT10)","v":0},{"$f":"IF(AU7=0,0,(AU7*((LOG(AU7))/LOG(2))))","v":0}]
[22,141,23,150,23,158,null,null,null,null,0,222,null,112,{"$f":"COUNTIF($L$7:$L$500,N8)","v":0},{"$f":"O8/$Q$4","v":0},{"$f":"IF(P8=0,0,(P8*((LOG(P8))/LOG(2))))","v":0},null,null,{"$f":"N8","v":112},{"$f":"COUNTIF(L7:L16,T8)","v":0},{"$f":"U8/(W4-U10)","v":0},{"$f":"IF(V8=0,0,(V8*((LOG(V8))/LOG(2))))","v":0},null,{"$f":"N8","v":112},{"$f":"COUNTIF(L17:L25,Y8)","v":0},{"$f":"Z8/(AB4-Z10)","v":0},{"$f":"IF(AA8=0,0,(AA8*((LOG(AA8))/LOG(2))))","v":0},null,{"$f":"N8","v":112},{"$f":"COUNTIF(L26:L35,AD8)","v":0},{"$f":"AE8/(AG4-AE10)","v":0},{"$f":"IF(AF8=0,0,(AF8*((LOG(AF8))/LOG(2))))","v":0},null,{"$f":"N8","v":112},{"$f":"COUNTIF(L36:L44,AI8)","v":0},{"$f":"AJ8/(AL4-AJ10)","v":0},{"$f":"IF(AK8=0,0,(AK8*((LOG(AK8))/LOG(2))))","v":0},null,{"$f":"N8","v":112},{"$f":"COUNTIF(L45:L54,AN8)","v":0},{"$f":"AO8/(AQ4-AO10)","v":0},{"$f":"IF(AP8=0,0,(AP8*((LOG(AP8))/LOG(2))))","v":0},null,{"$f":"N8","v":112},{"$f":"COUNTIF(L55:L63,AS8)","v":0},{"$f":"AT8/(AV4-AT10)","v":0},{"$f":"IF(AU8=0,0,(AU8*((LOG(AU8))/LOG(2))))","v":0}]
[11,253,21,269,21,278,null,null,null,null,0,122,null,121,{"$f":"COUNTIF($L$7:$L$500,N9)","v":0},{"$f":"O9/$Q$4","v":0},{"$f":"IF(P9=0,0,(P9*((LOG(P9))/LOG(2))))","v":0},null,null,{"$f":"N9","v":121},{"$f":"COUNTIF(L7:L16,T9)","v":0},{"$f":"U9/(W4-U10)","v":0},{"$f":"IF(V9=0,0,(V9*((LOG(V9))/LOG(2))))","v":0},null,{"$f":"N9","v":121},{"$f":"COUNTIF(L17:L25,Y9)","v":0},{"$f":"Z9/(AB4-Z10)","v":0},{"$f":"IF(AA9=0,0,(AA9*((LOG(AA9))/LOG(2))))","v":0},null,{"$f":"N9","v":121},{"$f":"COUNTIF(L26:L35,AD9)","v":0},{"$f":"AE9/(AG4-AE10)","v":0},{"$f":"IF(AF9=0,0,(AF9*((LOG(AF9))/LOG(2))))","v":0},null,{"$f":"N9","v":121},{"$f":"COUNTIF(L36:L44,AI9)","v":0},{"$f":"AJ9/(AL4-AJ10)","v":0},{"$f":"IF(AK9=0,0,(AK9*((LOG(AK9))/LOG(2))))","v":0},null,{"$f":"N9","v":121},{"$f":"COUNTIF(L45:L54,AN9)","v":0},{"$f":"AO9/(AQ4-AO10)","v":0},{"$f":"IF(AP9=0,0,(AP9*((LOG(AP9))/LOG(2))))","v":0},null,{"$f":"N9","v":121},{"$f":"COUNTIF(L55:L63,AS9)","v":0},{"$f":"AT9/(AV4-AT10)","v":0},{"$f":"IF(AU9=0,0,(AU9*((LOG(AU9))/LOG(2))))","v":0}]
[22,379,23,382,23,387,null,null,null,null,0,222,null,122,{"$f":"COUNTIF($L$7:$L$500,N10)","v":39},{"$f":"O10/$Q$4","v":0.68421052631578949},{"$f":"IF(P10=0,0,(P10*((LOG(P10))/LOG(2))))","v":-0.37459691257539013},null,null,{"$f":"N10","v":122},{"$f":"COUNTIF(L7:L16,T10)","v":5},null,null,null,{"$f":"N10","v":122},{"$f":"COUNTIF(L17:L25,Y10)","v":6},null,null,null,{"$f":"N10","v":122},{"$f":"COUNTIF(L26:L35,AD10)","v":7},null,null,null,{"$f":"N10","v":122},{"$f":"COUNTIF(L36:L44,AI10)","v":6},null,null,null,{"$f":"N10","v":122},{"$f":"COUNTIF(L45:L54,AN10)","v":7},null,null,null,{"$f":"N10","v":122},{"$f":"COUNTIF(L55:L63,AS10)","v":8}]
[11,483,21,497,21,503,null,null,null,null,0,122,null,211,{"$f":"COUNTIF($L$7:$L$500,N11)","v":0},{"$f":"O11/$Q$4","v":0},{"$f":"IF(P11=0,0,(P11*((LOG(P11))/LOG(2))))","v":0},null,null,{"$f":"N11","v":211},{"$f":"COUNTIF(L7:L16,T11)","v":0},{"$f":"U11/(W4-U10)","v":0},{"$f":"IF(V11=0,0,(V11*((LOG(V11))/LOG(2))))","v":0},null,{"$f":"N11","v":211},{"$f":"COUNTIF(L17:L25,Y11)","v":0},{"$f":"Z11/(AB4-Z10)","v":0},{"$f":"IF(AA11=0,0,(AA11*((LOG(AA11))/LOG(2))))","v":0},null,{"$f":"N11","v":211},{"$f":"COUNTIF(L26:L35,AD11)","v":0},{"$f":"AE11/(AG4-AE10)","v":0},{"$f":"IF(AF11=0,0,(AF11*((LOG(AF11))/LOG(2))))","v":0},null,{"$f":"N11","v":211},{"$f":"COUNTIF(L36:L44,AI11)","v":0},{"$f":"AJ11/(AL4-AJ10)","v":0},{"$f":"IF(AK11=0,0,(AK11*((LOG(AK11))/LOG(2))))","v":0},null,{"$f":"N11","v":211},{"$f":"COUNTIF(L45:L54,AN11)","v":0},{"$f":"AO11/(AQ4-AO10)","v":0},{"$f":"IF(AP11=0,0,(AP11*((LOG(AP11))/LOG(2))))","v":0},null,{"$f":"N11","v":211},{"$f":"COUNTIF(L55:L63,AS11)","v":0},{"$f":"AT11/(AV4-AT10)","v":0},{"$f":"IF(AU11=0,0,(AU11*((LOG(AU11))/LOG(2))))","v":0}]
[11,595,21,608,21,613,null,null,null,null,0,122,null,212,{"$f":"COUNTIF($L$7:$L$500,N12)","v":0},{"$f":"O12/$Q$4","v":0},{"$f":"IF(P12=0,0,(P12*((LOG(P12))/LOG(2))))","v":0},null,null,{"$f":"N12","v":212},{"$f":"COUNTIF(L7:L16,T12)","v":0},{"$f":"U12/(W4-U10)","v":0},{"$f":"IF(V12=0,0,(V12*((LOG(V12))/LOG(2))))","v":0},null,{"$f":"N12","v":212},{"$f":"COUNTIF(L17:L25,Y12)","v":0},{"$f":"Z12/(AB4-Z10)","v":0},{"$f":"IF(AA12=0,0,(AA12*((LOG(AA12))/LOG(2))))","v":0},null,{"$f":"N12","v":212},{"$f":"COUNTIF(L26:L35,AD12)","v":0},{"$f":"AE12/(AG4-AE10)","v":0},{"$f":"IF(AF12=0,0,(AF12*((LOG(AF12))/LOG(2))))","v":0},null,{"$f":"N12","v":212},{"$f":"COUNTIF(L36:L44,AI12)","v":0},{"$f":"AJ12/(AL4-AJ10)","v":0},{"$f":"IF(AK12=0,0,(AK12*((LOG(AK12))/LOG(2))))","v":0},null,{"$f":"N12","v":212},{"$f":"COUNTIF(L45:L54,AN12)","v":0},{"$f":"AO12/(AQ4-AO10)","v":0},{"$f":"IF(AP12=0,0,(AP12*((LOG(AP12))/LOG(2))))","v":0},null,{"$f":"N12","v":212},{"$f":"COUNTIF(L55:L63,AS12)","v":0},{"$f":"AT12/(AV4-AT10)","v":0},{"$f":"IF(AU12=0,0,(AU12*((LOG(AU12))/LOG(2))))","v":0}]
[22,709,23,713,23,721,null,null,null,null,0,222,null,221,{"$f":"COUNTIF($L$7:$L$500,N13)","v":0},{"$f":"O13/$Q$4","v":0},{"$f":"IF(P13=0,0,(P13*((LOG(P13))/LOG(2))))","v":0},null,null,{"$f":"N13","v":221},{"$f":"COUNTIF(L7:L16,T13)","v":0},{"$f":"U13/(W4-U10)","v":0},{"$f":"IF(V13=0,0,(V13*((LOG(V13))/LOG(2))))","v":0},null,{"$f":"N13","v":221},{"$f":"COUNTIF(L17:L25,Y13)","v":0},{"$f":"Z13/(AB4-Z10)","v":0},{"$f":"IF(AA13=0,0,(AA13*((LOG(AA13))/LOG(2))))","v":0},null,{"$f":"N13","v":221},{"$f":"COUNTIF(L26:L35,AD13)","v":0},{"$f":"AE13/(AG4-AE10)","v":0},{"$f":"IF(AF13=0,0,(AF13*((LOG(AF13))/LOG(2))))","v":0},null,{"$f":"N13","v":221},{"$f":"COUNTIF(L36:L44,AI13)","v":0},{"$f":"AJ13/(AL4-AJ10)","v":0},{"$f":"IF(AK13=0,0,(AK13*((LOG(AK13))/LOG(2))))","v":0},null,{"$f":"N13","v":221},{"$f":"COUNTIF(L45:L54,AN13)","v":0},{"$f":"AO13/(AQ4-AO10)","v":0},{"$f":"IF(AP13=0,0,(AP13*((LOG(AP13))/LOG(2))))","v":0},null,{"$f":"N13","v":221},{"$f":"COUNTIF(L55:L63,AS13)","v":0},{"$f":"AT13/(AV4-AT10)","v":0},{"$f":"IF(AU13=0,0,(AU13*((LOG(AU13))/LOG(2))))","v":0}]
[22,826,23,831,23,836,null,null,null,null,0,222,null,222,{"$f":"COUNTIF($L$7:$L$500,N14)","v":17},{"$f":"O14/$Q$4","v":0.2982456140350877},{"$f":"IF(P14=0,0,(P14*((LOG(P14))/LOG(2))))","v":-0.52056599893938305},null,null,{"$f":"N14","v":222},{"$f":"COUNTIF(L7:L16,T14)","v":5},{"$f":"U14/(W4-U10)","v":1},{"$f":"IF(V14=0,0,(V14*((LOG(V14))/LOG(2))))","v":0},null,{"$f":"N14","v":222},{"$f":"COUNTIF(L17:L25,Y14)","v":3},{"$f":"Z14/(AB4-Z10)","v":1},{"$f":"IF(AA14=0,0,(AA14*((LOG(AA14))/LOG(2))))","v":0},null,{"$f":"N14","v":222},{"$f":"COUNTIF(L26:L35,AD14)","v":2},{"$f":"AE14/(AG4-AE10)","v":0.66666666666666663},{"$f":"IF(AF14=0,0,(AF14*((LOG(AF14))/LOG(2))))","v":-0.38997500048077083},null,{"$f":"N14","v":222},{"$f":"COUNTIF(L36:L44,AI14)","v":3},{"$f":"AJ14/(AL4-AJ10)","v":1},{"$f":"IF(AK14=0,0,(AK14*((LOG(AK14))/LOG(2))))","v":0},null,{"$f":"N14","v":222},{"$f":"COUNTIF(L45:L54,AN14)","v":3},{"$f":"AO14/(AQ4-AO10)","v":1},{"$f":"IF(AP14=0,0,(AP14*((LOG(AP14))/LOG(2))))","v":0},null,{"$f":"N14","v":222},{"$f":"COUNTIF(L55:L63,AS14)","v":1},{"$f":"AT14/(AV4-AT10)","v":1},{"$f":"IF(AU14=0,0,(AU14*((LOG(AU14))/LOG(2))))","v":0}]
[11,933,21,946,21,951,null,null,null,null,0,122,null,null,null,{"$f":"SUM(P7:P14)","v":1},{"$f":"-SUM(Q7:Q14)","v":0.99749431527204935},null,null,null,null,{"$f":"SUM(V7:V14)","v":1},{"$f":"-SUM(W7:W14)","v":0},null,null,null,{"$f":"SUM(AA7:AA14)","v":1},{"$f":"-SUM(AB7:AB14)","v":0},null,null,null,{"$f":"SUM(AF7:AF14)","v":1},{"$f":"-SUM(AG7:AG14)","v":0.91829583405448945},null,null,null,{"$f":"SUM(AK7:AK14)","v":1},{"$f":"-SUM(AL7:AL14)","v":0},null,null,null,{"$f":"SUM(AP7:AP14)","v":1},{"$f":"-SUM(AQ7:AQ14)","v":0},null,null,null,{"$f":"SUM(AU7:AU14)","v":1},{"$f":"-SUM(AV7:AV14)","v":0}]
[11,1044,21,1060,21,1071,null,null,null,null,0,122,null,null,null,"U=",{"$f":"Q15/(LOG(Q4)/LOG(2))","v":0.17101202197361998},null,null,null,null,"U1=",{"$f":"W15/(LOG(W4)/LOG(2))","v":0},null,null,null,"U2=",{"$f":"AB15/(LOG(AB4)/LOG(2))","v":0},null,null,null,"U3=",{"$f":"AG15/(LOG(AG4)/LOG(2))","v":0.27643459094367495},null,null,null,"U4=",{"$f":"AL15/(LOG(AL4)/LOG(2))","v":0},null,null,null,"U5=",{"$f":"AQ15/(LOG(AQ4)/LOG(2))","v":0},null,null,null,"U6=",{"$f":"AV15/(LOG(AV4)/LOG(2))","v":0}]
[11,1163,21,1176,21,1190,null,null,null,null,0,122]
[22,1320,23,1324,23,1329,null,null,null,null,0,222]
[11,1421,21,1434,21,1439,null,null,null,null,0,122,null,"Total Target Seq"]
[22,1541,23,1546,23,1552,null,null,null,null,0,222,null,{"$f":"COUNTIF(L7:L63,G3)","v":39},null,10,9,10,9,10,9]
[11,1647,21,1662,21,1684,null,null,null,null,0,122,null,null,null,"% of reinforcement given in 6 equal intervals based on number of trials "]
[22,1781,23,1788,23,1793,null,null,null,null,0,222,null,null,null,"%_1","%_2","%_3","%_4","%_5","%_6"]
[11,1885,21,1899,21,1902,null,null,null,null,0,122,null,null,"target sequence",{"$f":"$G$3","v":122},{"$f":"$G$3","v":122},{"$f":"$G$3","v":122},{"$f":"$G$3","v":122},{"$f":"$G$3","v":122},{"$f":"$G$3","v":122}]
[11,2001,21,2014,21,2024,null,null,null,null,0,122,null,null,"total reinforcement",{"$f":"U10","v":5},{"$f":"Z10","v":6},{"$f":"AE10","v":7},{"$f":"AJ10","v":6},{"$f":"AO10","v":7},{"$f":"AT10","v":8}]
[11,2118,21,2133,21,2140,null,null,null,null,0,122,null,null,"% target"]
[11,2235,21,2243,21,2251,null,null,null,null,0,122,null,null,"CCRF"]
[11,2346,21,2358,21,2362,null,null,null,null,0,122,null,null,"% CCRf"]
[11,2454,21,2466,21,2497,null,null,null,null,0,122,null,null,"average response rate",{"$f":"F16/P20","v":107.1},{"$f":"(F25-F16)/Q20","v":118.77777777777777},{"$f":"(F35-F25)/R20","v":120.3},{"$f":"(F44-F35)/S20","v":116.88888888888889},{"$f":"(F54-F44)/T20","v":120.1},{"$f":"(F63-F54)/U20","v":122.22222222222223}]
[22,2616,23,2619,23,2623,null,null,null,null,0,222]
[11,2720,21,2735,21,2740,null,null,null,null,0,122]
[11,2833,21,2847,21,2855,null,null,null,null,0,122]
[11,2958,12,2975,14,2984,null,null,null,null,0,111]
[11,3078,21,3092,21,3096,null,null,null,null,0,122]
[11,3191,21,3198,21,3202,null,null,null,null,0,122]
[22,3329,23,3332,23,3343,null,null,null,null,0,222]
[11,3437,21,3448,21,3450,null,null,null,null,0,122]
[22,3577,23,3586,23,3589,null,null,null,null,0,222]
[22,3699,23,3702,23,3707,null,null,null,null,0,222]
[11,3806,21,3815,21,3818,null,null,null,null,0,122]
[11,3913,21,3920,21,3924,null,null,null,null,0,122]
[22,4040,23,4046,23,4053,null,null,null,null,0,222]
[11,4148,21,4161,21,4164,null,null,null,null,0,122]
[11,4255,21,4268,21,4284,null,null,null,null,0,122]
[11,4377,21,4389,21,4395,null,null,null,null,0,122]
[11,4490,21,4502,21,4505,null,null,null,null,0,122]
[11,4599,21,4611,21,4613,null,null,null,null,0,122]
[11,4712,21,4720,21,4723,null,null,null,null,0,122]
[22,4862,23,4865,23,4869,null,null,null,null,0,222]
[22,4976,23,4979,23,4984,null,null,null,null,0,222]
[11,5085,21,5098,21,5102,null,null,null,null,0,122]
[11,5217,21,5231,21,5243,null,null,null,null,0,122]
[11,5339,21,5355,21,5360,null,null,null,null,0,122]
[11,5457,21,5466,21,5472,null,null,null,null,0,122]
[22,5581,23,5588,23,5596,null,null,null,null,0,222]
[11,5704,21,5712,21,5717,null,null,null,null,0,122]
[11,5813,21,5826,21,5828,null,null,null,null,0,122]
[11,5925,21,5938,21,5941,null,null,null,null,0,122]
[11,6043,21,6050,21,6056,null,null,null,null,0,122]
[22,6208,23,6216,23,6228,null,null,null,null,0,222]
[11,6324,21,6336,21,6339,null,null,null,null,0,122]
[11,6450,21,6458,21,6466,null,null,null,null,0,122]
[11,6561,21,6575,21,6578,null,null,null,null,0,122]
[11,6678,21,6693,21,6696,null,null,null,null,1,122]

{"sheet":"!LB19C53..Ta","index":13,"n_rows":84,"n_cols":48,"rows_kept":84,"cut":false,"hidden":false,"merged":[[4,39,4,42],[5,39,5,40],[4,44,4,47],[5,44,5,45],[4,24,4,27],[5,24,5,25],[4,29,4,32],[5,29,5,30],[4,34,4,37],[5,34,5,35],[1,1,1,2],[5,13,5,14],[18,13,18,14],[19,13,19,14],[4,19,4,22],[5,19,5,20]]}
["Report for:!LB19C53..Ta"]
["Date:","<date>"]
["Hen:","<hen>",null,null,null,"Correct Sequence",{"$f":"Start!J2","v":122},null,null,null,null,null,null,null,null,"Total Sequences in Data",{"$f":"4994-COUNTBLANK(L7:L5000)","v":78},null,null,null,null,"Total Sequences in Block Data",{"$f":"COUNTA(L7:L19)","v":13},null,null,null,"Total Sequences in Block Data",{"$f":"COUNTA(L20:L32)","v":13},null,null,null,"Total Sequences in Block Data",{"$f":"COUNTA(L33:L45)","v":13},null,null,null,"Total Sequences in Block Data",{"$f":"COUNTA(L46:L58)","v":13},null,null,null,"Total Sequences in Block Data",{"$f":"COUNTA(L59:L71)","v":13},null,null,null,"Total Sequences in Block Data",{"$f":"COUNTA(L72:L84)","v":13}]
[null,null,null,null,null,null,null,null,null,null,null,null,null,null,null,"Total Sequences in Summary",{"$f":"SUM(O7:O14)","v":78},null,null,null,null,"Total Sequences in Block Summary",{"$f":"SUM(U7:U14)","v":13},null,null,null,"Total Sequences in Block Summary",{"$f":"SUM(Z7:Z14)","v":13},null,null,null,"Total Sequences in Block Summary",{"$f":"SUM(AE7:AE14)","v":13},null,null,null,"Total Sequences in Block Summary",{"$f":"SUM(AJ7:AJ14)","v":13},null,null,null,"Total Sequences in Block Summary",{"$f":"SUM(AO7:AO14)","v":13},null,null,null,"Total Sequences in Block Summary",{"$f":"SUM(AT7:AT14)","v":13}]
[null,null,null,null,null,null,null,null,null,null,null,null,null,null,null,null,null,null,null,"Block 1",null,null,null,null,"Block 2",null,null,null,null,"Block 3",null,null,null,null,"Block 4",null,null,null,null,"Block 5",null,null,null,null,"Block 6"]
["Sequence\nComponent\n1","Time\n1","Sequence\nComponent\n2","Time\n2","Sequence\nComponent\n3","Time\n3","Sequence\nComponent\n4","Time\n4","Sequence\nComponent\n5","Time\n5","Correct?\n0=No 1=Yes","Sequence",null,"Frequency",null,"Relative Frequency","Variability",null,null,"Frequency",null,"Relative Frequency","Variability",null,"Frequency",null,"Relative Frequency","Variability",null,"Frequency",null,"Relative Frequency","Variability",null,"Frequency",null,"Relative Frequency","Variability",null,"Frequency",null,"Relative Frequency","Variability",null,"Frequency",null,"Relative Frequency","Variability"]
[22,28,23,35,23,42,null,null,null,null,0,222,null,111,{"$f":"COUNTIF($L$7:$L$500,N7)","v":1},{"$f":"O7/$Q$4","v":1.282051282051282E-2},{"$f":"IF(P7=0,0,(P7*((LOG(P7))/LOG(2))))","v":-8.0582079729003178E-2},null,null,{"$f":"N7","v":111},{"$f":"COUNTIF(L7:L19,T7)","v":0},{"$f":"U7/(W4-U10)","v":0},{"$f":"IF(V7=0,0,(V7*((LOG(V7))/LOG(2))))","v":0},null,{"$f":"N7","v":111},{"$f":"COUNTIF(L20:L32,Y7)","v":0},{"$f":"Z7/(AB4-Z10)","v":0},{"$f":"IF(AA7=0,0,(AA7*((LOG(AA7))/LOG(2))))","v":0},null,{"$f":"N7","v":111},{"$f":"COUNTIF(L33:L45,AD7)","v":1},{"$f":"AE7/(AG4-AE10)","v":0.125},{"$f":"IF(AF7=0,0,(AF7*((LOG(AF7))/LOG(2))))","v":-0.375},null,{"$f":"N7","v":111},{"$f":"COUNTIF(L46:L58,AI7)","v":0},{"$f":"AJ7/(AL4-AJ10)","v":0},{"$f":"IF(AK7=0,0,(AK7*((LOG(AK7))/LOG(2))))","v":0},null,{"$f":"N7","v":111},{"$f":"COUNTIF(L59:L71,AN7)","v":0},{"$f":"AO7/(AQ4-AO10)","v":0},{"$f":"IF(AP7=0,0,(AP7*((LOG(AP7))/LOG(2))))","v":0},null,{"$f":"N7","v":111},{"$f":"COUNTIF(L72:L84,AS7)","v":0},{"$f":"AT7/(AV4-AT10)","v":0},{"$f":"IF(AU7=0,0,(AU7*((LOG(AU7))/LOG(2))))","v":0}]
[22,151,23,158,23,164,null,null,null,null,0,222,null,112,{"$f":"COUNTIF($L$7:$L$500,N8)","v":0},{"$f":"O8/$Q$4","v":0},{"$f":"IF(P8=0,0,(P8*((LOG(P8))/LOG(2))))","v":0},null,null,{"$f":"N8","v":112},{"$f":"COUNTIF(L7:L19,T8)","v":0},{"$f":"U8/(W4-U10)","v":0},{"$f":"IF(V8=0,0,(V8*((LOG(V8))/LOG(2))))","v":0},null,{"$f":"N8","v":112},{"$f":"COUNTIF(L20:L32,Y8)","v":0},{"$f":"Z8/(AB4-Z10)","v":0},{"$f":"IF(AA8=0,0,(AA8*((LOG(AA8))/LOG(2))))","v":0},null,{"$f":"N8","v":112},{"$f":"COUNTIF(L33:L45,AD8)","v":0},{"$f":"AE8/(AG4-AE10)","v":0},{"$f":"IF(AF8=0,0,(AF8*((LOG(AF8))/LOG(2))))","v":0},null,{"$f":"N8","v":112},{"$f":"COUNTIF(L46:L58,AI8)","v":0},{"$f":"AJ8/(AL4-AJ10)","v":0},{"$f":"IF(AK8=0,0,(AK8*((LOG(AK8))/LOG(2))))","v":0},null,{"$f":"N8","v":112},{"$f":"COUNTIF(L59:L71,AN8)","v":0},{"$f":"AO8/(AQ4-AO10)","v":0},{"$f":"IF(AP8=0,0,(AP8*((LOG(AP8))/LOG(2))))","v":0},null,{"$f":"N8","v":112},{"$f":"COUNTIF(L72:L84,AS8)","v":0},{"$f":"AT8/(AV4-AT10)","v":0},{"$f":"IF(AU8=0,0,(AU8*((LOG(AU8))/LOG(2))))","v":0}]
[22,271,23,280,23,290,null,null,null,null,0,222,null,121,{"$f":"COUNTIF($L$7:$L$500,N9)","v":0},{"$f":"O9/$Q$4","v":0},{"$f":"IF(P9=0,0,(P9*((LOG(P9))/LOG(2))))","v":0},null,null,{"$f":"N9","v":121},{"$f":"COUNTIF(L7:L19,T9)","v":0},{"$f":"U9/(W4-U10)","v":0},{"$f":"IF(V9=0,0,(V9*((LOG(V9))/LOG(2))))","v":0},null,{"$f":"N9","v":121},{"$f":"COUNTIF(L20:L32,Y9)","v":0},{"$f":"Z9/(AB4-Z10)","v":0},{"$f":"IF(AA9=0,0,(AA9*((LOG(AA9))/LOG(2))))","v":0},null,{"$f":"N9","v":121},{"$f":"COUNTIF(L33:L45,AD9)","v":0},{"$f":"AE9/(AG4-AE10)","v":0},{"$f":"IF(AF9=0,0,(AF9*((LOG(AF9))/LOG(2))))","v":0},null,{"$f":"N9","v":121},{"$f":"COUNTIF(L46:L58,AI9)","v":0},{"$f":"AJ9/(AL4-AJ10)","v":0},{"$f":"IF(AK9=0,0,(AK9*((LOG(AK9))/LOG(2))))","v":0},null,{"$f":"N9","v":121},{"$f":"COUNTIF(L59:L71,AN9)","v":0},{"$f":"AO9/(AQ4-AO10)","v":0},{"$f":"IF(AP9=0,0,(AP9*((LOG(AP9))/LOG(2))))","v":0},null,{"$f":"N9","v":121},{"$f":"COUNTIF(L72:L84,AS9)","v":0},{"$f":"AT9/(AV4-AT10)","v":0},{"$f":"IF(AU9=0,0,(AU9*((LOG(AU9))/LOG(2))))","v":0}]
[22,400,23,404,23,410,null,null,null,null,0,222,null,122,{"$f":"COUNTIF($L$7:$L$500,N10)","v":39},{"$f":"O10/$Q$4","v":0.5},{"$f":"IF(P10=0,0,(P10*((LOG(P10))/LOG(2))))","v":-0.5},null,null,{"$f":"N10","v":122},{"$f":"COUNTIF(L7:L19,T10)","v":0},null,null,null,{"$f":"N10","v":122},{"$f":"COUNTIF(L20:L32,Y10)","v":5},null,null,null,{"$f":"N10","v":122},{"$f":"COUNTIF(L33:L45,AD10)","v":5},null,null,null,{"$f":"N10","v":122},{"$f":"COUNTIF(L46:L58,AI10)","v":10},null,null,null,{"$f":"N10","v":122},{"$f":"COUNTIF(L59:L71,AN10)","v":9},null,null,null,{"$f":"N10","v":122},{"$f":"COUNTIF(L72:L84,AS10)","v":10}]
[22,526,23,530,23,536,null,null,null,null,0,222,null,211,{"$f":"COUNTIF($L$7:$L$500,N11)","v":0},{"$f":"O11/$Q$4","v":0},{"$f":"IF(P11=0,0,(P11*((LOG(P11))/LOG(2))))","v":0},null,null,{"$f":"N11","v":211},{"$f":"COUNTIF(L7:L19,T11)","v":0},{"$f":"U11/(W4-U10)","v":0},{"$f":"IF(V11=0,0,(V11*((LOG(V11))/LOG(2))))","v":0},null,{"$f":"N11","v":211},{"$f":"COUNTIF(L20:L32,Y11)","v":0},{"$f":"Z11/(AB4-Z10)","v":0},{"$f":"IF(AA11=0,0,(AA11*((LOG(AA11))/LOG(2))))","v":0},null,{"$f":"N11","v":211},{"$f":"COUNTIF(L33:L45,AD11)","v":0},{"$f":"AE11/(AG4-AE10)","v":0},{"$f":"IF(AF11=0,0,(AF11*((LOG(AF11))/LOG(2))))","v":0},null,{"$f":"N11","v":211},{"$f":"COUNTIF(L46:L58,AI11)","v":0},{"$f":"AJ11/(AL4-AJ10)","v":0},{"$f":"IF(AK11=0,0,(AK11*((LOG(AK11))/LOG(2))))","v":0},null,{"$f":"N11","v":211},{"$f":"COUNTIF(L59:L71,AN11)","v":0},{"$f":"AO11/(AQ4-AO10)","v":0},{"$f":"IF(AP11=0,0,(AP11*((LOG(AP11))/LOG(2))))","v":0},null,{"$f":"N11","v":211},{"$f":"COUNTIF(L72:L84,AS11)","v":0},{"$f":"AT11/(AV4-AT10)","v":0},{"$f":"IF(AU11=0,0,(AU11*((LOG(AU11))/LOG(2))))","v":0}]
[22,637,23,641,23,645,null,null,null,null,0,222,null,212,{"$f":"COUNTIF($L$7:$L$500,N12)","v":0},{"$f":"O12/$Q$4","v":0},{"$f":"IF(P12=0,0,(P12*((LOG(P12))/LOG(2))))","v":0},null,null,{"$f":"N12","v":212},{"$f":"COUNTIF(L7:L19,T12)","v":0},{"$f":"U12/(W4-U10)","v":0},{"$f":"IF(V12=0,0,(V12*((LOG(V12))/LOG(2))))","v":0},null,{"$f":"N12","v":212},{"$f":"COUNTIF(L20:L32,Y12)","v":0},{"$f":"Z12/(AB4-Z10)","v":0},{"$f":"IF(AA12=0,0,(AA12*((LOG(AA12))/LOG(2))))","v":0},null,{"$f":"N12","v":212},{"$f":"COUNTIF(L33:L45,AD12)","v":0},{"$f":"AE12/(AG4-AE10)","v":0},{"$f":"IF(AF12=0,0,(AF12*((LOG(AF12))/LOG(2))))","v":0},null,{"$f":"N12","v":212},{"$f":"COUNTIF(L46:L58,AI12)","v":0},{"$f":"AJ12/(AL4-AJ10)","v":0},{"$f":"IF(AK12=0,0,(AK12*((LOG(AK12))/LOG(2))))","v":0},null,{"$f":"N12","v":212},{"$f":"COUNTIF(L59:L71,AN12)","v":0},{"$f":"AO12/(AQ4-AO10)","v":0},{"$f":"IF(AP12=0,0,(AP12*((LOG(AP12))/LOG(2))))","v":0},null,{"$f":"N12","v":212},{"$f":"COUNTIF(L72:L84,AS12)","v":0},{"$f":"AT12/(AV4-AT10)","v":0},{"$f":"IF(AU12=0,0,(AU12*((LOG(AU12))/LOG(2))))","v":0}]
[22,752,23,761,23,766,null,null,null,null,0,222,null,221,{"$f":"COUNTIF($L$7:$L$500,N13)","v":0},{"$f":"O13/$Q$4","v":0},{"$f":"IF(P13=0,0,(P13*((LOG(P13))/LOG(2))))","v":0},null,null,{"$f":"N13","v":221},{"$f":"COUNTIF(L7:L19,T13)","v":0},{"$f":"U13/(W4-U10)","v":0},{"$f":"IF(V13=0,0,(V13*((LOG(V13))/LOG(2))))","v":0},null,{"$f":"N13","v":221},{"$f":"COUNTIF(L20:L32,Y13)","v":0},{"$f":"Z13/(AB4-Z10)","v":0},{"$f":"IF(AA13=0,0,(AA13*((LOG(AA13))/LOG(2))))","v":0},null,{"$f":"N13","v":221},{"$f":"COUNTIF(L33:L45,AD13)","v":0},{"$f":"AE13/(AG4-AE10)","v":0},{"$f":"IF(AF13=0,0,(AF13*((LOG(AF13))/LOG(2))))","v":0},null,{"$f":"N13","v":221},{"$f":"COUNTIF(L46:L58,AI13)","v":0},{"$f":"AJ13/(AL4-AJ10)","v":0},{"$f":"IF(AK13=0,0,(AK13*((LOG(AK13))/LOG(2))))","v":0},null,{"$f":"N13","v":221},{"$f":"COUNTIF(L59:L71,AN13)","v":0},{"$f":"AO13/(AQ4-AO10)","v":0},{"$f":"IF(AP13=0,0,(AP13*((LOG(AP13))/LOG(2))))","v":0},null,{"$f":"N13","v":221},{"$f":"COUNTIF(L72:L84,AS13)","v":0},{"$f":"AT13/(AV4-AT10)","v":0},{"$f":"IF(AU13=0,0,(AU13*((LOG(AU13))/LOG(2))))","v":0}]
[22,867,23,870,23,874,null,null,null,null,0,222,null,222,{"$f":"COUNTIF($L$7:$L$500,N14)","v":38},{"$f":"O14/$Q$4","v":0.48717948717948717},{"$f":"IF(P14=0,0,(P14*((LOG(P14))/LOG(2))))","v":-0.50543639494755366},null,null,{"$f":"N14","v":222},{"$f":"COUNTIF(L7:L19,T14)","v":13},{"$f":"U14/(W4-U10)","v":1},{"$f":"IF(V14=0,0,(V14*((LOG(V14))/LOG(2))))","v":0},null,{"$f":"N14","v":222},{"$f":"COUNTIF(L20:L32,Y14)","v":8},{"$f":"Z14/(AB4-Z10)","v":1},{"$f":"IF(AA14=0,0,(AA14*((LOG(AA14))/LOG(2))))","v":0},null,{"$f":"N14","v":222},{"$f":"COUNTIF(L33:L45,AD14)","v":7},{"$f":"AE14/(AG4-AE10)","v":0.875},{"$f":"IF(AF14=0,0,(AF14*((LOG(AF14))/LOG(2))))","v":-0.1685644431995964},null,{"$f":"N14","v":222},{"$f":"COUNTIF(L46:L58,AI14)","v":3},{"$f":"AJ14/(AL4-AJ10)","v":1},{"$f":"IF(AK14=0,0,(AK14*((LOG(AK14))/LOG(2))))","v":0},null,{"$f":"N14","v":222},{"$f":"COUNTIF(L59:L71,AN14)","v":4},{"$f":"AO14/(AQ4-AO10)","v":1},{"$f":"IF(AP14=0,0,(AP14*((LOG(AP14))/LOG(2))))","v":0},null,{"$f":"N14","v":222},{"$f":"COUNTIF(L72:L84,AS14)","v":3},{"$f":"AT14/(AV4-AT10)","v":1},{"$f":"IF(AU14=0,0,(AU14*((LOG(AU14))/LOG(2))))","v":0}]
[22,979,23,985,23,996,null,null,null,null,0,222,null,null,null,{"$f":"SUM(P7:P14)","v":1},{"$f":"-SUM(Q7:Q14)","v":1.0860184746765569},null,null,null,null,{"$f":"SUM(V7:V14)","v":1},{"$f":"-SUM(W7:W14)","v":0},null,null,null,{"$f":"SUM(AA7:AA14)","v":1},{"$f":"-SUM(AB7:AB14)","v":0},null,null,null,{"$f":"SUM(AF7:AF14)","v":1},{"$f":"-SUM(AG7:AG14)","v":0.5435644431995964},null,null,null,{"$f":"SUM(AK7:AK14)","v":1},{"$f":"-SUM(AL7:AL14)","v":0},null,null,null,{"$f":"SUM(AP7:AP14)","v":1},{"$f":"-SUM(AQ7:AQ14)","v":0},null,null,null,{"$f":"SUM(AU7:AU14)","v":1},{"$f":"-SUM(AV7:AV14)","v":0}]
[22,1110,23,1112,23,1118,null,null,null,null,0,222,null,null,null,"U=",{"$f":"Q15/(LOG(Q4)/LOG(2))","v":0.17278424464506945},null,null,null,null,"U1=",{"$f":"W15/(LOG(W4)/LOG(2))","v":0},null,null,null,"U2=",{"$f":"AB15/(LOG(AB4)/LOG(2))","v":0},null,null,null,"U3=",{"$f":"AG15/(LOG(AG4)/LOG(2))","v":0.14689185194257259},null,null,null,"U4=",{"$f":"AL15/(LOG(AL4)/LOG(2))","v":0},null,null,null,"U5=",{"$f":"AQ15/(LOG(AQ4)/LOG(2))","v":0},null,null,null,"U6=",{"$f":"AV15/(LOG(AV4)/LOG(2))","v":0}]
[22,1223,23,1230,23,1236,null,null,null,null,0,222]
[22,1343,23,1347,23,1351,null,null,null,null,0,222]
[22,1464,23,1468,23,1472,null,null,null,null,0,222,null,"Total Target Seq"]
[22,1580,23,1585,23,1592,null,null,null,null,0,222,null,{"$f":"COUNTIF(L7:L84,G3)","v":39},null,13,13,13,13,13,13]
[22,1710,23,1713,23,1723,null,null,null,null,0,222,null,null,null,"% of reinforcement given in 6 equal intervals based on number of trials "]
[22,1835,23,1845,23,1851,null,null,null,null,0,222,null,null,null,"%_1","%_2","%_3","%_4","%_5","%_6"]
[11,1948,21,1965,21,1972,null,null,null,null,0,122,null,null,"target sequence",{"$f":"$G$3","v":122},{"$f":"$G$3","v":122},{"$f":"$G$3","v":122},{"$f":"$G$3","v":122},{"$f":"$G$3","v":122},{"$f":"$G$3","v":122}]
[22,2133,23,2140,23,2147,null,null,null,null,0,222,null,null,"total reinforcement",{"$f":"U10","v":0},{"$f":"Z10","v":5},{"$f":"AE10","v":5},{"$f":"AJ10","v":10},{"$f":"AO10","v":9},{"$f":"AT10","v":10}]
[22,2263,23,2271,23,2277,null,null,null,null,0,222,null,null,"% target"]
[22,2380,23,2384,23,2387,null,null,null,null,0,222,null,null,"CCRF"]
[11,2484,21,2493,21,2496,null,null,null,null,0,122,null,null,"% CCRf"]
[11,2600,21,2615,21,2619,null,null,null,null,0,122,null,null,"average response rate",{"$f":"F19/P20","v":113.23076923076923},{"$f":"(F32-F19)/Q20","v":125.92307692307692},{"$f":"(F45-F32)/R20","v":123.53846153846153},{"$f":"(F58-F45)/S20","v":124.23076923076923},{"$f":"(F71-F58)/T20","v":123.92307692307692},{"$f":"(F84-F71)/U20","v":127.15384615384616}]
[22,2740,23,2746,23,2752,null,null,null,null,0,222]
[22,2861,23,2863,23,2874,null,null,null,null,0,222]
[11,2972,21,2979,21,2983,null,null,null,null,0,122]
[11,3094,21,3105,21,3109,null,null,null,null,0,122]
[22,3247,23,3252,23,3265,null,null,null,null,0,222]
[11,3360,21,3366,21,3381,null,null,null,null,0,122]
[22,3515,23,3520,23,3526,null,null,null,null,0,222]
[22,3632,23,3635,23,3644,null,null,null,null,0,222]
[22,3746,23,3752,23,3761,null,null,null,null,0,222]
[22,3871,23,3874,23,3881,null,null,null,null,0,222]
[11,3979,21,3988,21,3995,null,null,null,null,0,122]
[11,4111,21,4127,21,4130,null,null,null,null,0,122]
[11,4254,12,4256,14,4259,null,null,null,null,0,111]
[11,4355,21,4366,21,4370,null,null,null,null,0,122]
[11,4462,21,4472,21,4476,null,null,null,null,0,122]
[22,4578,23,4587,23,4596,null,null,null,null,0,222]
[22,4704,23,4709,23,4715,null,null,null,null,0,222]
[22,4820,23,4824,23,4830,null,null,null,null,0,222]
[11,4927,21,4940,21,4948,null,null,null,null,0,122]
[11,5041,21,5056,21,5060,null,null,null,null,0,122]
[11,5161,21,5177,21,5182,null,null,null,null,0,122]
[11,5276,21,5288,21,5292,null,null,null,null,0,122]
[11,5425,21,5442,21,5447,null,null,null,null,0,122]
[11,5554,21,5570,21,5574,null,null,null,null,0,122]
[11,5670,21,5677,21,5701,null,null,null,null,0,122]
[11,5814,21,5829,21,5833,null,null,null,null,0,122]
[11,5967,21,5978,21,5982,null,null,null,null,0,122]
[22,6100,23,6103,23,6107,null,null,null,null,0,222]
[11,6201,21,6212,21,6218,null,null,null,null,0,122]
[22,6321,23,6325,23,6330,null,null,null,null,0,222]
[11,6426,21,6433,21,6437,null,null,null,null,0,122]
[22,6543,23,6545,23,6551,null,null,null,null,0,222]
[11,6648,21,6655,21,6661,null,null,null,null,0,122]
[22,6770,23,6775,23,6787,null,null,null,null,0,222]
[11,6882,21,6899,21,6910,null,null,null,null,0,122]
[22,7070,23,7073,23,7078,null,null,null,null,0,222]
[22,7198,23,7204,23,7215,null,null,null,null,0,222]
[11,7310,21,7324,21,7329,null,null,null,null,0,122]
[11,7424,21,7439,21,7443,null,null,null,null,0,122]
[11,7536,21,7549,21,7553,null,null,null,null,0,122]
[11,7675,21,7688,21,7701,null,null,null,null,0,122]
[11,7805,21,7815,21,7818,null,null,null,null,0,122]
[11,7919,21,7936,21,7941,null,null,null,null,0,122]
[11,8038,21,8052,21,8058,null,null,null,null,0,122]
[11,8173,21,8187,21,8198,null,null,null,null,0,122]
[22,8350,23,8355,23,8362,null,null,null,null,0,222]
[11,8459,21,8469,21,8473,null,null,null,null,0,122]
[11,8578,21,8590,21,8604,null,null,null,null,0,122]
[11,8729,21,8739,21,8742,null,null,null,null,0,122]
[11,8848,21,8860,21,8864,null,null,null,null,0,122]
[11,8989,21,9001,21,9004,null,null,null,null,0,122]
[11,9102,21,9114,21,9117,null,null,null,null,0,122]
[22,9237,23,9243,23,9252,null,null,null,null,0,222]
[22,9359,23,9363,23,9374,null,null,null,null,0,222]
[11,9469,21,9481,21,9484,null,null,null,null,0,122]
[11,9579,21,9591,21,9594,null,null,null,null,1,122]

{"sheet":"!LB20A13..Ta","index":14,"n_rows":132,"n_cols":48,"rows_kept":132,"cut":false,"hidden":false,"merged":[[4,39,4,42],[5,39,5,40],[4,44,4,47],[5,44,5,45],[4,24,4,27],[5,24,5,25],[4,29,4,32],[5,29,5,30],[4,34,4,37],[5,34,5,35],[1,1,1,2],[5,13,5,14],[18,13,18,14],[19,13,19,14],[4,19,4,22],[5,19,5,20]]}
["Report for:!LB20A13..Ta"]
["Date:","<date>"]
["Hen:","<hen>",null,null,null,"Correct Sequence",{"$f":"Start!J2","v":122},null,null,null,null,null,null,null,null,"Total Sequences in Data",{"$f":"4994-COUNTBLANK(L7:L5000)","v":126},null,null,null,null,"Total Sequences in Block Data",{"$f":"COUNTA(L7:L27)","v":21},null,null,null,"Total Sequences in Block Data",{"$f":"COUNTA(L28:L48)","v":21},null,null,null,"Total Sequences in Block Data",{"$f":"COUNTA(L49:L69)","v":21},null,null,null,"Total Sequences in Block Data",{"$f":"COUNTA(L70:L90)","v":21},null,null,null,"Total Sequences in Block Data",{"$f":"COUNTA(L91:L111)","v":21},null,null,null,"Total Sequences in Block Data",{"$f":"COUNTA(L112:L132)","v":21}]
[null,null,null,null,null,null,null,null,null,null,null,null,null,null,null,"Total Sequences in Summary",{"$f":"SUM(O7:O14)","v":126},null,null,null,null,"Total Sequences in Block Summary",{"$f":"SUM(U7:U14)","v":21},null,null,null,"Total Sequences in Block Summary",{"$f":"SUM(Z7:Z14)","v":21},null,null,null,"Total Sequences in Block Summary",{"$f":"SUM(AE7:AE14)","v":21},null,null,null,"Total Sequences in Block Summary",{"$f":"SUM(AJ7:AJ14)","v":21},null,null,null,"Total Sequences in Block Summary",{"$f":"SUM(AO7:AO14)","v":21},null,null,null,"Total Sequences in Block Summary",{"$f":"SUM(AT7:AT14)","v":21}]
[null,null,null,null,null,null,null,null,null,null,null,null,null,null,null,null,null,null,null,"Block 1",null,null,null,null,"Block 2",null,null,null,null,"Block 3",null,null,null,null,"Block 4",null,null,null,null,"Block 5",null,null,null,null,"Block 6"]
["Sequence\nComponent\n1","Time\n1","Sequence\nComponent\n2","Time\n2","Sequence\nComponent\n3","Time\n3","Sequence\nComponent\n4","Time\n4","Sequence\nComponent\n5","Time\n5","Correct?\n0=No 1=Yes","Sequence",null,"Frequency",null,"Relative Frequency","Variability",null,null,"Frequency",null,"Relative Frequency","Variability",null,"Frequency",null,"Relative Frequency","Variability",null,"Frequency",null,"Relative Frequency","Variability",null,"Frequency",null,"Relative Frequency","Variability",null,"Frequency",null,"Relative Frequency","Variability",null,"Frequency",null,"Relative Frequency","Variability"]
[22,16,23,19,23,23,null,null,null,null,0,222,null,111,{"$f":"COUNTIF($L$7:$L$500,N7)","v":0},{"$f":"O7/$Q$4","v":0},{"$f":"IF(P7=0,0,(P7*((LOG(P7))/LOG(2))))","v":0},null,null,{"$f":"N7","v":111},{"$f":"COUNTIF(L7:L27,T7)","v":0},{"$f":"U7/(W4-U10)","v":0},{"$f":"IF(V7=0,0,(V7*((LOG(V7))/LOG(2))))","v":0},null,{"$f":"N7","v":111},{"$f":"COUNTIF(L28:L48,Y7)","v":0},{"$f":"Z7/(AB4-Z10)","v":0},{"$f":"IF(AA7=0,0,(AA7*((LOG(AA7))/LOG(2))))","v":0},null,{"$f":"N7","v":111},{"$f":"COUNTIF(L49:L69,AD7)","v":0},{"$f":"AE7/(AG4-AE10)","v":0},{"$f":"IF(AF7=0,0,(AF7*((LOG(AF7))/LOG(2))))","v":0},null,{"$f":"N7","v":111},{"$f":"COUNTIF(L70:L90,AI7)","v":0},{"$f":"AJ7/(AL4-AJ10)","v":0},{"$f":"IF(AK7=0,0,(AK7*((LOG(AK7))/LOG(2))))","v":0},null,{"$f":"N7","v":111},{"$f":"COUNTIF(L91:L111,AN7)","v":0},{"$f":"AO7/(AQ4-AO10)","v":0},{"$f":"IF(AP7=0,0,(AP7*((LOG(AP7))/LOG(2))))","v":0},null,{"$f":"N7","v":111},{"$f":"COUNTIF(L112:L132,AS7)","v":0},{"$f":"AT7/(AV4-AT10)","v":0},{"$f":"IF(AU7=0,0,(AU7*((LOG(AU7))/LOG(2))))","v":0}]
[22,126,23,135,23,145,null,null,null,null,0,222,null,112,{"$f":"COUNTIF($L$7:$L$500,N8)","v":5},{"$f":"O8/$Q$4","v":3.968253968253968E-2},{"$f":"IF(P8=0,0,(P8*((LOG(P8))/LOG(2))))","v":-0.18473618367510133},null,null,{"$f":"N8","v":112},{"$f":"COUNTIF(L7:L27,T8)","v":0},{"$f":"U8/(W4-U10)","v":0},{"$f":"IF(V8=0,0,(V8*((LOG(V8))/LOG(2))))","v":0},null,{"$f":"N8","v":112},{"$f":"COUNTIF(L28:L48,Y8)","v":1},{"$f":"Z8/(AB4-Z10)","v":0.05},{"$f":"IF(AA8=0,0,(AA8*((LOG(AA8))/LOG(2))))","v":-0.21609640474436814},null,{"$f":"N8","v":112},{"$f":"COUNTIF(L49:L69,AD8)","v":0},{"$f":"AE8/(AG4-AE10)","v":0},{"$f":"IF(AF8=0,0,(AF8*((LOG(AF8))/LOG(2))))","v":0},null,{"$f":"N8","v":112},{"$f":"COUNTIF(L70:L90,AI8)","v":1},{"$f":"AJ8/(AL4-AJ10)","v":7.6923076923076927E-2},{"$f":"IF(AK8=0,0,(AK8*((LOG(AK8))/LOG(2))))","v":-0.28464920908777636},null,{"$f":"N8","v":112},{"$f":"COUNTIF(L91:L111,AN8)","v":3},{"$f":"AO8/(AQ4-AO10)","v":0.33333333333333331},{"$f":"IF(AP8=0,0,(AP8*((LOG(AP8))/LOG(2))))","v":-0.52832083357371862},null,{"$f":"N8","v":112},{"$f":"COUNTIF(L112:L132,AS8)","v":0},{"$f":"AT8/(AV4-AT10)","v":0},{"$f":"IF(AU8=0,0,(AU8*((LOG(AU8))/LOG(2))))","v":0}]
[22,252,23,255,23,260,null,null,null,null,0,222,null,121,{"$f":"COUNTIF($L$7:$L$500,N9)","v":0},{"$f":"O9/$Q$4","v":0},{"$f":"IF(P9=0,0,(P9*((LOG(P9))/LOG(2))))","v":0},null,null,{"$f":"N9","v":121},{"$f":"COUNTIF(L7:L27,T9)","v":0},{"$f":"U9/(W4-U10)","v":0},{"$f":"IF(V9=0,0,(V9*((LOG(V9))/LOG(2))))","v":0},null,{"$f":"N9","v":121},{"$f":"COUNTIF(L28:L48,Y9)","v":0},{"$f":"Z9/(AB4-Z10)","v":0},{"$f":"IF(AA9=0,0,(AA9*((LOG(AA9))/LOG(2))))","v":0},null,{"$f":"N9","v":121},{"$f":"COUNTIF(L49:L69,AD9)","v":0},{"$f":"AE9/(AG4-AE10)","v":0},{"$f":"IF(AF9=0,0,(AF9*((LOG(AF9))/LOG(2))))","v":0},null,{"$f":"N9","v":121},{"$f":"COUNTIF(L70:L90,AI9)","v":0},{"$f":"AJ9/(AL4-AJ10)","v":0},{"$f":"IF(AK9=0,0,(AK9*((LOG(AK9))/LOG(2))))","v":0},null,{"$f":"N9","v":121},{"$f":"COUNTIF(L91:L111,AN9)","v":0},{"$f":"AO9/(AQ4-AO10)","v":0},{"$f":"IF(AP9=0,0,(AP9*((LOG(AP9))/LOG(2))))","v":0},null,{"$f":"N9","v":121},{"$f":"COUNTIF(L112:L132,AS9)","v":0},{"$f":"AT9/(AV4-AT10)","v":0},{"$f":"IF(AU9=0,0,(AU9*((LOG(AU9))/LOG(2))))","v":0}]
[22,367,23,386,23,391,null,null,null,null,0,222,null,122,{"$f":"COUNTIF($L$7:$L$500,N10)","v":39},{"$f":"O10/$Q$4","v":0.30952380952380953},{"$f":"IF(P10=0,0,(P10*((LOG(P10))/LOG(2))))","v":-0.52367643238784978},null,null,{"$f":"N10","v":122},{"$f":"COUNTIF(L7:L27,T10)","v":0},null,null,null,{"$f":"N10","v":122},{"$f":"COUNTIF(L28:L48,Y10)","v":1},null,null,null,{"$f":"N10","v":122},{"$f":"COUNTIF(L49:L69,AD10)","v":9},null,null,null,{"$f":"N10","v":122},{"$f":"COUNTIF(L70:L90,AI10)","v":8},null,null,null,{"$f":"N10","v":122},{"$f":"COUNTIF(L91:L111,AN10)","v":12},null,null,null,{"$f":"N10","v":122},{"$f":"COUNTIF(L112:L132,AS10)","v":9}]
[22,503,23,507,23,513,null,null,null,null,0,222,null,211,{"$f":"COUNTIF($L$7:$L$500,N11)","v":0},{"$f":"O11/$Q$4","v":0},{"$f":"IF(P11=0,0,(P11*((LOG(P11))/LOG(2))))","v":0},null,null,{"$f":"N11","v":211},{"$f":"COUNTIF(L7:L27,T11)","v":0},{"$f":"U11/(W4-U10)","v":0},{"$f":"IF(V11=0,0,(V11*((LOG(V11))/LOG(2))))","v":0},null,{"$f":"N11","v":211},{"$f":"COUNTIF(L28:L48,Y11)","v":0},{"$f":"Z11/(AB4-Z10)","v":0},{"$f":"IF(AA11=0,0,(AA11*((LOG(AA11))/LOG(2))))","v":0},null,{"$f":"N11","v":211},{"$f":"COUNTIF(L49:L69,AD11)","v":0},{"$f":"AE11/(AG4-AE10)","v":0},{"$f":"IF(AF11=0,0,(AF11*((LOG(AF11))/LOG(2))))","v":0},null,{"$f":"N11","v":211},{"$f":"COUNTIF(L70:L90,AI11)","v":0},{"$f":"AJ11/(AL4-AJ10)","v":0},{"$f":"IF(AK11=0,0,(AK11*((LOG(AK11))/LOG(2))))","v":0},null,{"$f":"N11","v":211},{"$f":"COUNTIF(L91:L111,AN11)","v":0},{"$f":"AO11/(AQ4-AO10)","v":0},{"$f":"IF(AP11=0,0,(AP11*((LOG(AP11))/LOG(2))))","v":0},null,{"$f":"N11","v":211},{"$f":"COUNTIF(L112:L132,AS11)","v":0},{"$f":"AT11/(AV4-AT10)","v":0},{"$f":"IF(AU11=0,0,(AU11*((LOG(AU11))/LOG(2))))","v":0}]
[22,625,23,630,23,635,null,null,null,null,0,222,null,212,{"$f":"COUNTIF($L$7:$L$500,N12)","v":0},{"$f":"O12/$Q$4","v":0},{"$f":"IF(P12=0,0,(P12*((LOG(P12))/LOG(2))))","v":0},null,null,{"$f":"N12","v":212},{"$f":"COUNTIF(L7:L27,T12)","v":0},{"$f":"U12/(W4-U10)","v":0},{"$f":"IF(V12=0,0,(V12*((LOG(V12))/LOG(2))))","v":0},null,{"$f":"N12","v":212},{"$f":"COUNTIF(L28:L48,Y12)","v":0},{"$f":"Z12/(AB4-Z10)","v":0},{"$f":"IF(AA12=0,0,(AA12*((LOG(AA12))/LOG(2))))","v":0},null,{"$f":"N12","v":212},{"$f":"COUNTIF(L49:L69,AD12)","v":0},{"$f":"AE12/(AG4-AE10)","v":0},{"$f":"IF(AF12=0,0,(AF12*((LOG(AF12))/LOG(2))))","v":0},null,{"$f":"N12","v":212},{"$f":"COUNTIF(L70:L90,AI12)","v":0},{"$f":"AJ12/(AL4-AJ10)","v":0},{"$f":"IF(AK12=0,0,(AK12*((LOG(AK12))/LOG(2))))","v":0},null,{"$f":"N12","v":212},{"$f":"COUNTIF(L91:L111,AN12)","v":0},{"$f":"AO12/(AQ4-AO10)","v":0},{"$f":"IF(AP12=0,0,(AP12*((LOG(AP12))/LOG(2))))","v":0},null,{"$f":"N12","v":212},{"$f":"COUNTIF(L112:L132,AS12)","v":0},{"$f":"AT12/(AV4-AT10)","v":0},{"$f":"IF(AU12=0,0,(AU12*((LOG(AU12))/LOG(2))))","v":0}]
[22,745,23,747,23,751,null,null,null,null,0,222,null,221,{"$f":"COUNTIF($L$7:$L$500,N13)","v":0},{"$f":"O13/$Q$4","v":0},{"$f":"IF(P13=0,0,(P13*((LOG(P13))/LOG(2))))","v":0},null,null,{"$f":"N13","v":221},{"$f":"COUNTIF(L7:L27,T13)","v":0},{"$f":"U13/(W4-U10)","v":0},{"$f":"IF(V13=0,0,(V13*((LOG(V13))/LOG(2))))","v":0},null,{"$f":"N13","v":221},{"$f":"COUNTIF(L28:L48,Y13)","v":0},{"$f":"Z13/(AB4-Z10)","v":0},{"$f":"IF(AA13=0,0,(AA13*((LOG(AA13))/LOG(2))))","v":0},null,{"$f":"N13","v":221},{"$f":"COUNTIF(L49:L69,AD13)","v":0},{"$f":"AE13/(AG4-AE10)","v":0},{"$f":"IF(AF13=0,0,(AF13*((LOG(AF13))/LOG(2))))","v":0},null,{"$f":"N13","v":221},{"$f":"COUNTIF(L70:L90,AI13)","v":0},{"$f":"AJ13/(AL4-AJ10)","v":0},{"$f":"IF(AK13=0,0,(AK13*((LOG(AK13))/LOG(2))))","v":0},null,{"$f":"N13","v":221},{"$f":"COUNTIF(L91:L111,AN13)","v":0},{"$f":"AO13/(AQ4-AO10)","v":0},{"$f":"IF(AP13=0,0,(AP13*((LOG(AP13))/LOG(2))))","v":0},null,{"$f":"N13","v":221},{"$f":"COUNTIF(L112:L132,AS13)","v":0},{"$f":"AT13/(AV4-AT10)","v":0},{"$f":"IF(AU13=0,0,(AU13*((LOG(AU13))/LOG(2))))","v":0}]
[22,859,23,862,23,871,null,null,null,null,0,222,null,222,{"$f":"COUNTIF($L$7:$L$500,N14)","v":82},{"$f":"O14/$Q$4","v":0.65079365079365081},{"$f":"IF(P14=0,0,(P14*((LOG(P14))/LOG(2))))","v":-0.40331499482785943},null,null,{"$f":"N14","v":222},{"$f":"COUNTIF(L7:L27,T14)","v":21},{"$f":"U14/(W4-U10)","v":1},{"$f":"IF(V14=0,0,(V14*((LOG(V14))/LOG(2))))","v":0},null,{"$f":"N14","v":222},{"$f":"COUNTIF(L28:L48,Y14)","v":19},{"$f":"Z14/(AB4-Z10)","v":0.95},{"$f":"IF(AA14=0,0,(AA14*((LOG(AA14))/LOG(2))))","v":-7.0300552371588068E-2},null,{"$f":"N14","v":222},{"$f":"COUNTIF(L49:L69,AD14)","v":12},{"$f":"AE14/(AG4-AE10)","v":1},{"$f":"IF(AF14=0,0,(AF14*((LOG(AF14))/LOG(2))))","v":0},null,{"$f":"N14","v":222},{"$f":"COUNTIF(L70:L90,AI14)","v":12},{"$f":"AJ14/(AL4-AJ10)","v":0.92307692307692313},{"$f":"IF(AK14=0,0,(AK14*((LOG(AK14))/LOG(2))))","v":-0.10659435454147929},null,{"$f":"N14","v":222},{"$f":"COUNTIF(L91:L111,AN14)","v":6},{"$f":"AO14/(AQ4-AO10)","v":0.66666666666666663},{"$f":"IF(AP14=0,0,(AP14*((LOG(AP14))/LOG(2))))","v":-0.38997500048077083},null,{"$f":"N14","v":222},{"$f":"COUNTIF(L112:L132,AS14)","v":12},{"$f":"AT14/(AV4-AT10)","v":1},{"$f":"IF(AU14=0,0,(AU14*((LOG(AU14))/LOG(2))))","v":0}]
[22,981,23,989,23,999,null,null,null,null,0,222,null,null,null,{"$f":"SUM(P7:P14)","v":1},{"$f":"-SUM(Q7:Q14)","v":1.1117276108908105},null,null,null,null,{"$f":"SUM(V7:V14)","v":1},{"$f":"-SUM(W7:W14)","v":0},null,null,null,{"$f":"SUM(AA7:AA14)","v":1},{"$f":"-SUM(AB7:AB14)","v":0.2863969571159562},null,null,null,{"$f":"SUM(AF7:AF14)","v":1},{"$f":"-SUM(AG7:AG14)","v":0},null,null,null,{"$f":"SUM(AK7:AK14)","v":1},{"$f":"-SUM(AL7:AL14)","v":0.39124356362925566},null,null,null,{"$f":"SUM(AP7:AP14)","v":1},{"$f":"-SUM(AQ7:AQ14)","v":0.91829583405448945},null,null,null,{"$f":"SUM(AU7:AU14)","v":1},{"$f":"-SUM(AV7:AV14)","v":0}]
[22,1106,23,1157,23,1163,null,null,null,null,0,222,null,null,null,"U=",{"$f":"Q15/(LOG(Q4)/LOG(2))","v":0.15933538901692079},null,null,null,null,"U1=",{"$f":"W15/(LOG(W4)/LOG(2))","v":0},null,null,null,"U2=",{"$f":"AB15/(LOG(AB4)/LOG(2))","v":6.5204066452640319E-2},null,null,null,"U3=",{"$f":"AG15/(LOG(AG4)/LOG(2))","v":0},null,null,null,"U4=",{"$f":"AL15/(LOG(AL4)/LOG(2))","v":8.9074519432554788E-2},null,null,null,"U5=",{"$f":"AQ15/(LOG(AQ4)/LOG(2))","v":0.20906864091656147},null,null,null,"U6=",{"$f":"AV15/(LOG(AV4)/LOG(2))","v":0}]
[22,1282,23,1301,23,1307,null,null,null,null,0,222]
[22,1430,23,1438,23,1444,null,null,null,null,0,222]
[22,1566,23,1569,23,1573,null,null,null,null,0,222,null,"Total Target Seq"]
[22,1680,23,1687,23,1693,null,null,null,null,0,222,null,{"$f":"COUNTIF(L7:L132,G3)","v":39},null,21,21,21,21,21,21]
[22,1804,23,1808,23,1813,null,null,null,null,0,222,null,null,null,"% of reinforcement given in 6 equal intervals based on number of trials "]
[22,1927,23,1931,23,1934,null,null,null,null,0,222,null,null,null,"%_1","%_2","%_3","%_4","%_5","%_6"]
[22,2045,23,2048,23,2052,null,null,null,null,0,222,null,null,"target sequence",{"$f":"$G$3","v":122},{"$f":"$G$3","v":122},{"$f":"$G$3","v":122},{"$f":"$G$3","v":122},{"$f":"$G$3","v":122},{"$f":"$G$3","v":122}]
[22,2161,23,2164,23,2172,null,null,null,null,0,222,null,null,"total reinforcement",{"$f":"U10","v":0},{"$f":"Z10","v":1},{"$f":"AE10","v":9},{"$f":"AJ10","v":8},{"$f":"AO10","v":12},{"$f":"AT10","v":9}]
[22,2280,23,2283,23,2289,null,null,null,null,0,222,null,null,"% target"]
[22,2397,23,2402,23,2407,null,null,null,null,0,222,null,null,"CCRF"]
[22,2527,23,2531,23,2537,null,null,null,null,0,222,null,null,"% CCRf"]
[22,2638,23,2644,23,2648,null,null,null,null,0,222,null,null,"average response rate",{"$f":"F27/P20","v":120.80952380952381},{"$f":"(F48-F27)/Q20","v":133},{"$f":"(F69-F48)/R20","v":131.14285714285714},{"$f":"(F90-F69)/S20","v":128.57142857142858},{"$f":"(F111-F90)/T20","v":137.52380952380952},{"$f":"(F132-F111)/U20","v":130.14285714285714}]
[22,2758,23,2761,23,2766,null,null,null,null,0,222]
[22,2885,23,2889,23,2896,null,null,null,null,0,222]
[22,3003,23,3008,23,3011,null,null,null,null,0,222]
[22,3125,23,3129,23,3134,null,null,null,null,0,222]
[22,3250,23,3253,23,3257,null,null,null,null,0,222]
[22,3384,23,3388,23,3391,null,null,null,null,0,222]
[22,3515,23,3517,23,3528,null,null,null,null,0,222]
[22,3686,23,3689,23,3694,null,null,null,null,0,222]
[22,3818,23,3820,23,3826,null,null,null,null,0,222]
[22,3951,23,3959,23,3966,null,null,null,null,0,222]
[22,4089,23,4091,23,4097,null,null,null,null,0,222]
[22,4218,23,4225,23,4231,null,null,null,null,0,222]
[22,4356,23,4360,23,4366,null,null,null,null,0,222]
[22,4486,23,4489,23,4494,null,null,null,null,0,222]
[22,4611,23,4617,23,4623,null,null,null,null,0,222]
[22,4741,23,4743,23,4748,null,null,null,null,0,222]
[11,4845,12,4851,23,4866,null,null,null,null,0,112]
[22,5024,23,5038,23,5044,null,null,null,null,0,222]
[11,5142,21,5151,21,5155,null,null,null,null,0,122]
[22,5317,23,5324,23,5330,null,null,null,null,0,222]
[22,5473,23,5476,23,5479,null,null,null,null,0,222]
[22,5579,23,5582,23,5592,null,null,null,null,0,222]
[11,5697,21,5708,21,5711,null,null,null,null,0,122]
[22,5833,23,5838,23,5843,null,null,null,null,0,222]
[11,5939,21,5951,21,5954,null,null,null,null,0,122]
[11,6077,21,6090,21,6093,null,null,null,null,0,122]
[22,6236,23,6239,23,6251,null,null,null,null,0,222]
[22,6356,23,6366,23,6372,null,null,null,null,0,222]
[11,6469,21,6480,21,6483,null,null,null,null,0,122]
[22,6672,23,6680,23,6685,null,null,null,null,0,222]
[11,6783,21,6794,21,6798,null,null,null,null,0,122]
[11,6890,21,6906,21,6910,null,null,null,null,0,122]
[22,7066,23,7072,23,7078,null,null,null,null,0,222]
[11,7176,21,7192,21,7198,null,null,null,null,0,122]
[22,7337,23,7340,23,7345,null,null,null,null,0,222]
[22,7456,23,7459,23,7462,null,null,null,null,0,222]
[11,7558,21,7565,21,7568,null,null,null,null,0,122]
[11,7676,21,7688,21,7695,null,null,null,null,0,122]
[22,7812,23,7819,23,7831,null,null,null,null,0,222]
[22,7943,23,7951,23,7966,null,null,null,null,0,222]
[22,8077,23,8081,23,8084,null,null,null,null,0,222]
[11,8181,21,8197,21,8200,null,null,null,null,0,122]
[22,8345,23,8349,23,8361,null,null,null,null,0,222]
[22,8471,23,8474,23,8483,null,null,null,null,0,222]
[11,8579,21,8592,21,8595,null,null,null,null,0,122]
[11,8700,21,8712,21,8716,null,null,null,null,0,122]
[22,8857,23,8863,23,8870,null,null,null,null,0,222]
[11,8968,21,8986,21,8989,null,null,null,null,0,122]
[11,9123,21,9143,21,9150,null,null,null,null,0,122]
[22,9290,23,9295,23,9300,null,null,null,null,0,222]
[11,9398,21,9408,21,9413,null,null,null,null,0,122]
[22,9523,23,9534,23,9547,null,null,null,null,0,222]
[11,9645,21,9653,21,9661,null,null,null,null,0,122]
[11,9756,12,9759,23,9771,null,null,null,null,0,112]
[22,9887,23,9892,23,9904,null,null,null,null,0,222]
[22,10017,23,10020,23,10025,null,null,null,null,0,222]
[22,10130,23,10132,23,10144,null,null,null,null,0,222]
[22,10262,23,10264,23,10271,null,null,null,null,0,222]
[22,10381,23,10385,23,10389,null,null,null,null,0,222]
[22,10502,23,10507,23,10513,null,null,null,null,0,222]
[11,10618,21,10624,21,10639,null,null,null,null,0,122]
[22,10775,23,10778,23,10784,null,null,null,null,0,222]
[22,10894,23,10899,23,10903,null,null,null,null,0,222]
[22,11024,23,11030,23,11038,null,null,null,null,0,222]
[11,11135,21,11145,21,11149,null,null,null,null,0,122]
[11,11317,21,11328,21,11331,null,null,null,null,0,122]
[11,11462,21,11479,21,11488,null,null,null,null,0,122]
[11,11619,21,11632,21,11641,null,null,null,null,0,122]
[11,11765,21,11775,21,11778,null,null,null,null,0,122]
[22,11967,23,11975,23,11981,null,null,null,null,0,222]
[22,12094,23,12100,23,12107,null,null,null,null,0,222]
[11,12203,12,12215,23,12229,null,null,null,null,0,112]
[11,12325,21,12337,21,12340,null,null,null,null,0,122]
[11,12443,21,12460,21,12465,null,null,null,null,0,122]
[22,12601,23,12604,23,12610,null,null,null,null,0,222]
[11,12736,21,12747,21,12754,null,null,null,null,0,122]
[22,12864,23,12876,23,12883,null,null,null,null,0,222]
[11,12982,21,12992,21,12998,null,null,null,null,0,122]
[11,13104,21,13114,21,13119,null,null,null,null,0,122]
[11,13232,21,13247,21,13252,null,null,null,null,0,122]
[11,13366,12,13368,23,13380,null,null,null,null,0,112]
[11,13481,21,13490,21,13493,null,null,null,null,0,122]
[11,13649,12,13653,23,13672,null,null,null,null,0,112]
[22,13784,23,13787,23,13794,null,null,null,null,0,222]
[11,13893,21,13907,21,13915,null,null,null,null,0,122]
[11,14034,21,14046,21,14057,null,null,null,null,0,122]
[11,14164,21,14179,21,14187,null,null,null,null,0,122]
[11,14317,21,14329,21,14333,null,null,null,null,0,122]
[11,14436,21,14447,21,14452,null,null,null,null,0,122]
[22,14578,23,14581,23,14598,null,null,null,null,0,222]
[22,14734,23,14745,23,14751,null,null,null,null,0,222]
[11,14847,21,14865,21,14876,null,null,null,null,0,122]
[22,15010,23,15014,23,15017,null,null,null,null,0,222]
[22,15132,23,15139,23,15145,null,null,null,null,0,222]
[22,15254,23,15257,23,15265,null,null,null,null,0,222]
[22,15370,23,15380,23,15384,null,null,null,null,0,222]
[11,15510,21,15527,21,15533,null,null,null,null,0,122]
[22,15657,23,15662,23,15670,null,null,null,null,0,222]
[22,15784,23,15791,23,15803,null,null,null,null,0,222]
[22,15917,23,15923,23,15929,null,null,null,null,0,222]
[22,16039,23,16048,23,16053,null,null,null,null,0,222]
[22,16161,23,16163,23,16168,null,null,null,null,0,222]
[11,16262,21,16272,21,16276,null,null,null,null,0,122]
[11,16386,21,16401,21,16405,null,null,null,null,1,122]

{"sheet":"!LB21B03..Ta","index":15,"n_rows":124,"n_cols":48,"rows_kept":124,"cut":false,"hidden":false,"merged":[[4,39,4,42],[5,39,5,40],[4,44,4,47],[5,44,5,45],[4,24,4,27],[5,24,5,25],[4,29,4,32],[5,29,5,30],[4,34,4,37],[5,34,5,35],[1,1,1,2],[5,13,5,14],[18,13,18,14],[19,13,19,14],[4,19,4,22],[5,19,5,20]]}
["Report for:!LB21B03..Ta"]
["Date:","<date>"]
["Hen:","<hen>",null,null,null,"Correct Sequence",{"$f":"Start!J2","v":122},null,null,null,null,null,null,null,null,"Total Sequences in Data",{"$f":"4994-COUNTBLANK(L7:L5000)","v":118},null,null,null,null,"Total Sequences in Block Data",{"$f":"COUNTA(L7:L26)","v":20},null,null,null,"Total Sequences in Block Data",{"$f":"COUNTA(L27:L45)","v":19},null,null,null,"Total Sequences in Block Data",{"$f":"COUNTA(L46:L65)","v":20},null,null,null,"Total Sequences in Block Data",{"$f":"COUNTA(L66:L85)","v":20},null,null,null,"Total Sequences in Block Data",{"$f":"COUNTA(L86:L104)","v":19},null,null,null,"Total Sequences in Block Data",{"$f":"COUNTA(L105:L124)","v":20}]
[null,null,null,null,null,null,null,null,null,null,null,null,null,null,null,"Total Sequences in Summary",{"$f":"SUM(O7:O14)","v":118},null,null,null,null,"Total Sequences in Block Summary",{"$f":"SUM(U7:U14)","v":20},null,null,null,"Total Sequences in Block Summary",{"$f":"SUM(Z7:Z14)","v":19},null,null,null,"Total Sequences in Block Summary",{"$f":"SUM(AE7:AE14)","v":20},null,null,null,"Total Sequences in Block Summary",{"$f":"SUM(AJ7:AJ14)","v":20},null,null,null,"Total Sequences in Block Summary",{"$f":"SUM(AO7:AO14)","v":19},null,null,null,"Total Sequences in Block Summary",{"$f":"SUM(AT7:AT14)","v":20}]
[null,null,null,null,null,null,null,null,null,null,null,null,null,null,null,null,null,null,null,"Block 1",null,null,null,null,"Block 2",null,null,null,null,"Block 3",null,null,null,null,"Block 4",null,null,null,null,"Block 5",null,null,null,null,"Block 6"]
["Sequence\nComponent\n1","Time\n1","Sequence\nComponent\n2","Time\n2","Sequence\nComponent\n3","Time\n3","Sequence\nComponent\n4","Time\n4","Sequence\nComponent\n5","Time\n5","Correct?\n0=No 1=Yes","Sequence",null,"Frequency",null,"Relative Frequency","Variability",null,null,"Frequency",null,"Relative Frequency","Variability",null,"Frequency",null,"Relative Frequency","Variability",null,"Frequency",null,"Relative Frequency","Variability",null,"Frequency",null,"Relative Frequency","Variability",null,"Frequency",null,"Relative Frequency","Variability",null,"Frequency",null,"Relative Frequency","Variability"]
[22,13,23,16,23,23,null,null,null,null,0,222,null,111,{"$f":"COUNTIF($L$7:$L$500,N7)","v":3},{"$f":"O7/$Q$4","v":2.5423728813559324E-2},{"$f":"IF(P7=0,0,(P7*((LOG(P7))/LOG(2))))","v":-0.13468679360950894},null,null,{"$f":"N7","v":111},{"$f":"COUNTIF(L7:L26,T7)","v":0},{"$f":"U7/(W4-U10)","v":0},{"$f":"IF(V7=0,0,(V7*((LOG(V7))/LOG(2))))","v":0},null,{"$f":"N7","v":111},{"$f":"COUNTIF(L27:L45,Y7)","v":0},{"$f":"Z7/(AB4-Z10)","v":0},{"$f":"IF(AA7=0,0,(AA7*((LOG(AA7))/LOG(2))))","v":0},null,{"$f":"N7","v":111},{"$f":"COUNTIF(L46:L65,AD7)","v":1},{"$f":"AE7/(AG4-AE10)","v":8.3333333333333329E-2},{"$f":"IF(AF7=0,0,(AF7*((LOG(AF7))/LOG(2))))","v":-0.29874687506009634},null,{"$f":"N7","v":111},{"$f":"COUNTIF(L66:L85,AI7)","v":0},{"$f":"AJ7/(AL4-AJ10)","v":0},{"$f":"IF(AK7=0,0,(AK7*((LOG(AK7))/LOG(2))))","v":0},null,{"$f":"N7","v":111},{"$f":"COUNTIF(L86:L104,AN7)","v":1},{"$f":"AO7/(AQ4-AO10)","v":0.125},{"$f":"IF(AP7=0,0,(AP7*((LOG(AP7))/LOG(2))))","v":-0.375},null,{"$f":"N7","v":111},{"$f":"COUNTIF(L105:L124,AS7)","v":1},{"$f":"AT7/(AV4-AT10)","v":8.3333333333333329E-2},{"$f":"IF(AU7=0,0,(AU7*((LOG(AU7))/LOG(2))))","v":-0.29874687506009634}]
[22,135,23,137,23,143,null,null,null,null,0,222,null,112,{"$f":"COUNTIF($L$7:$L$500,N8)","v":1},{"$f":"O8/$Q$4","v":8.4745762711864406E-3},{"$f":"IF(P8=0,0,(P8*((LOG(P8))/LOG(2))))","v":-5.8327483469168148E-2},null,null,{"$f":"N8","v":112},{"$f":"COUNTIF(L7:L26,T8)","v":0},{"$f":"U8/(W4-U10)","v":0},{"$f":"IF(V8=0,0,(V8*((LOG(V8))/LOG(2))))","v":0},null,{"$f":"N8","v":112},{"$f":"COUNTIF(L27:L45,Y8)","v":0},{"$f":"Z8/(AB4-Z10)","v":0},{"$f":"IF(AA8=0,0,(AA8*((LOG(AA8))/LOG(2))))","v":0},null,{"$f":"N8","v":112},{"$f":"COUNTIF(L46:L65,AD8)","v":0},{"$f":"AE8/(AG4-AE10)","v":0},{"$f":"IF(AF8=0,0,(AF8*((LOG(AF8))/LOG(2))))","v":0},null,{"$f":"N8","v":112},{"$f":"COUNTIF(L66:L85,AI8)","v":0},{"$f":"AJ8/(AL4-AJ10)","v":0},{"$f":"IF(AK8=0,0,(AK8*((LOG(AK8))/LOG(2))))","v":0},null,{"$f":"N8","v":112},{"$f":"COUNTIF(L86:L104,AN8)","v":1},{"$f":"AO8/(AQ4-AO10)","v":0.125},{"$f":"IF(AP8=0,0,(AP8*((LOG(AP8))/LOG(2))))","v":-0.375},null,{"$f":"N8","v":112},{"$f":"COUNTIF(L105:L124,AS8)","v":0},{"$f":"AT8/(AV4-AT10)","v":0},{"$f":"IF(AU8=0,0,(AU8*((LOG(AU8))/LOG(2))))","v":0}]
[22,254,23,258,23,263,null,null,null,null,0,222,null,121,{"$f":"COUNTIF($L$7:$L$500,N9)","v":0},{"$f":"O9/$Q$4","v":0},{"$f":"IF(P9=0,0,(P9*((LOG(P9))/LOG(2))))","v":0},null,null,{"$f":"N9","v":121},{"$f":"COUNTIF(L7:L26,T9)","v":0},{"$f":"U9/(W4-U10)","v":0},{"$f":"IF(V9=0,0,(V9*((LOG(V9))/LOG(2))))","v":0},null,{"$f":"N9","v":121},{"$f":"COUNTIF(L27:L45,Y9)","v":0},{"$f":"Z9/(AB4-Z10)","v":0},{"$f":"IF(AA9=0,0,(AA9*((LOG(AA9))/LOG(2))))","v":0},null,{"$f":"N9","v":121},{"$f":"COUNTIF(L46:L65,AD9)","v":0},{"$f":"AE9/(AG4-AE10)","v":0},{"$f":"IF(AF9=0,0,(AF9*((LOG(AF9))/LOG(2))))","v":0},null,{"$f":"N9","v":121},{"$f":"COUNTIF(L66:L85,AI9)","v":0},{"$f":"AJ9/(AL4-AJ10)","v":0},{"$f":"IF(AK9=0,0,(AK9*((LOG(AK9))/LOG(2))))","v":0},null,{"$f":"N9","v":121},{"$f":"COUNTIF(L86:L104,AN9)","v":0},{"$f":"AO9/(AQ4-AO10)","v":0},{"$f":"IF(AP9=0,0,(AP9*((LOG(AP9))/LOG(2))))","v":0},null,{"$f":"N9","v":121},{"$f":"COUNTIF(L105:L124,AS9)","v":0},{"$f":"AT9/(AV4-AT10)","v":0},{"$f":"IF(AU9=0,0,(AU9*((LOG(AU9))/LOG(2))))","v":0}]
[22,369,23,373,23,375,null,null,null,null,0,222,null,122,{"$f":"COUNTIF($L$7:$L$500,N10)","v":39},{"$f":"O10/$Q$4","v":0.33050847457627119},{"$f":"IF(P10=0,0,(P10*((LOG(P10))/LOG(2))))","v":-0.527901630419357},null,null,{"$f":"N10","v":122},{"$f":"COUNTIF(L7:L26,T10)","v":1},null,null,null,{"$f":"N10","v":122},{"$f":"COUNTIF(L27:L45,Y10)","v":4},null,null,null,{"$f":"N10","v":122},{"$f":"COUNTIF(L46:L65,AD10)","v":8},null,null,null,{"$f":"N10","v":122},{"$f":"COUNTIF(L66:L85,AI10)","v":7},null,null,null,{"$f":"N10","v":122},{"$f":"COUNTIF(L86:L104,AN10)","v":11},null,null,null,{"$f":"N10","v":122},{"$f":"COUNTIF(L105:L124,AS10)","v":8}]
[22,484,23,488,23,493,null,null,null,null,0,222,null,211,{"$f":"COUNTIF($L$7:$L$500,N11)","v":0},{"$f":"O11/$Q$4","v":0},{"$f":"IF(P11=0,0,(P11*((LOG(P11))/LOG(2))))","v":0},null,null,{"$f":"N11","v":211},{"$f":"COUNTIF(L7:L26,T11)","v":0},{"$f":"U11/(W4-U10)","v":0},{"$f":"IF(V11=0,0,(V11*((LOG(V11))/LOG(2))))","v":0},null,{"$f":"N11","v":211},{"$f":"COUNTIF(L27:L45,Y11)","v":0},{"$f":"Z11/(AB4-Z10)","v":0},{"$f":"IF(AA11=0,0,(AA11*((LOG(AA11))/LOG(2))))","v":0},null,{"$f":"N11","v":211},{"$f":"COUNTIF(L46:L65,AD11)","v":0},{"$f":"AE11/(AG4-AE10)","v":0},{"$f":"IF(AF11=0,0,(AF11*((LOG(AF11))/LOG(2))))","v":0},null,{"$f":"N11","v":211},{"$f":"COUNTIF(L66:L85,AI11)","v":0},{"$f":"AJ11/(AL4-AJ10)","v":0},{"$f":"IF(AK11=0,0,(AK11*((LOG(AK11))/LOG(2))))","v":0},null,{"$f":"N11","v":211},{"$f":"COUNTIF(L86:L104,AN11)","v":0},{"$f":"AO11/(AQ4-AO10)","v":0},{"$f":"IF(AP11=0,0,(AP11*((LOG(AP11))/LOG(2))))","v":0},null,{"$f":"N11","v":211},{"$f":"COUNTIF(L105:L124,AS11)","v":0},{"$f":"AT11/(AV4-AT10)","v":0},{"$f":"IF(AU11=0,0,(AU11*((LOG(AU11))/LOG(2))))","v":0}]
[22,604,23,611,23,616,null,null,null,null,0,222,null,212,{"$f":"COUNTIF($L$7:$L$500,N12)","v":0},{"$f":"O12/$Q$4","v":0},{"$f":"IF(P12=0,0,(P12*((LOG(P12))/LOG(2))))","v":0},null,null,{"$f":"N12","v":212},{"$f":"COUNTIF(L7:L26,T12)","v":0},{"$f":"U12/(W4-U10)","v":0},{"$f":"IF(V12=0,0,(V12*((LOG(V12))/LOG(2))))","v":0},null,{"$f":"N12","v":212},{"$f":"COUNTIF(L27:L45,Y12)","v":0},{"$f":"Z12/(AB4-Z10)","v":0},{"$f":"IF(AA12=0,0,(AA12*((LOG(AA12))/LOG(2))))","v":0},null,{"$f":"N12","v":212},{"$f":"COUNTIF(L46:L65,AD12)","v":0},{"$f":"AE12/(AG4-AE10)","v":0},{"$f":"IF(AF12=0,0,(AF12*((LOG(AF12))/LOG(2))))","v":0},null,{"$f":"N12","v":212},{"$f":"COUNTIF(L66:L85,AI12)","v":0},{"$f":"AJ12/(AL4-AJ10)","v":0},{"$f":"IF(AK12=0,0,(AK12*((LOG(AK12))/LOG(2))))","v":0},null,{"$f":"N12","v":212},{"$f":"COUNTIF(L86:L104,AN12)","v":0},{"$f":"AO12/(AQ4-AO10)","v":0},{"$f":"IF(AP12=0,0,(AP12*((LOG(AP12))/LOG(2))))","v":0},null,{"$f":"N12","v":212},{"$f":"COUNTIF(L105:L124,AS12)","v":0},{"$f":"AT12/(AV4-AT10)","v":0},{"$f":"IF(AU12=0,0,(AU12*((LOG(AU12))/LOG(2))))","v":0}]
[22,728,23,737,23,743,null,null,null,null,0,222,null,221,{"$f":"COUNTIF($L$7:$L$500,N13)","v":0},{"$f":"O13/$Q$4","v":0},{"$f":"IF(P13=0,0,(P13*((LOG(P13))/LOG(2))))","v":0},null,null,{"$f":"N13","v":221},{"$f":"COUNTIF(L7:L26,T13)","v":0},{"$f":"U13/(W4-U10)","v":0},{"$f":"IF(V13=0,0,(V13*((LOG(V13))/LOG(2))))","v":0},null,{"$f":"N13","v":221},{"$f":"COUNTIF(L27:L45,Y13)","v":0},{"$f":"Z13/(AB4-Z10)","v":0},{"$f":"IF(AA13=0,0,(AA13*((LOG(AA13))/LOG(2))))","v":0},null,{"$f":"N13","v":221},{"$f":"COUNTIF(L46:L65,AD13)","v":0},{"$f":"AE13/(AG4-AE10)","v":0},{"$f":"IF(AF13=0,0,(AF13*((LOG(AF13))/LOG(2))))","v":0},null,{"$f":"N13","v":221},{"$f":"COUNTIF(L66:L85,AI13)","v":0},{"$f":"AJ13/(AL4-AJ10)","v":0},{"$f":"IF(AK13=0,0,(AK13*((LOG(AK13))/LOG(2))))","v":0},null,{"$f":"N13","v":221},{"$f":"COUNTIF(L86:L104,AN13)","v":0},{"$f":"AO13/(AQ4-AO10)","v":0},{"$f":"IF(AP13=0,0,(AP13*((LOG(AP13))/LOG(2))))","v":0},null,{"$f":"N13","v":221},{"$f":"COUNTIF(L105:L124,AS13)","v":0},{"$f":"AT13/(AV4-AT10)","v":0},{"$f":"IF(AU13=0,0,(AU13*((LOG(AU13))/LOG(2))))","v":0}]
[22,856,23,862,23,867,null,null,null,null,0,222,null,222,{"$f":"COUNTIF($L$7:$L$500,N14)","v":75},{"$f":"O14/$Q$4","v":0.63559322033898302},{"$f":"IF(P14=0,0,(P14*((LOG(P14))/LOG(2))))","v":-0.41556632978768671},null,null,{"$f":"N14","v":222},{"$f":"COUNTIF(L7:L26,T14)","v":19},{"$f":"U14/(W4-U10)","v":1},{"$f":"IF(V14=0,0,(V14*((LOG(V14))/LOG(2))))","v":0},null,{"$f":"N14","v":222},{"$f":"COUNTIF(L27:L45,Y14)","v":15},{"$f":"Z14/(AB4-Z10)","v":1},{"$f":"IF(AA14=0,0,(AA14*((LOG(AA14))/LOG(2))))","v":0},null,{"$f":"N14","v":222},{"$f":"COUNTIF(L46:L65,AD14)","v":11},{"$f":"AE14/(AG4-AE10)","v":0.91666666666666663},{"$f":"IF(AF14=0,0,(AF14*((LOG(AF14))/LOG(2))))","v":-0.1150699752435374},null,{"$f":"N14","v":222},{"$f":"COUNTIF(L66:L85,AI14)","v":13},{"$f":"AJ14/(AL4-AJ10)","v":1},{"$f":"IF(AK14=0,0,(AK14*((LOG(AK14))/LOG(2))))","v":0},null,{"$f":"N14","v":222},{"$f":"COUNTIF(L86:L104,AN14)","v":6},{"$f":"AO14/(AQ4-AO10)","v":0.75},{"$f":"IF(AP14=0,0,(AP14*((LOG(AP14))/LOG(2))))","v":-0.31127812445913283},null,{"$f":"N14","v":222},{"$f":"COUNTIF(L105:L124,AS14)","v":11},{"$f":"AT14/(AV4-AT10)","v":0.91666666666666663},{"$f":"IF(AU14=0,0,(AU14*((LOG(AU14))/LOG(2))))","v":-0.1150699752435374}]
[22,971,23,975,23,989,null,null,null,null,0,222,null,null,null,{"$f":"SUM(P7:P14)","v":1},{"$f":"-SUM(Q7:Q14)","v":1.1364822372857208},null,null,null,null,{"$f":"SUM(V7:V14)","v":1},{"$f":"-SUM(W7:W14)","v":0},null,null,null,{"$f":"SUM(AA7:AA14)","v":1},{"$f":"-SUM(AB7:AB14)","v":0},null,null,null,{"$f":"SUM(AF7:AF14)","v":1},{"$f":"-SUM(AG7:AG14)","v":0.41381685030363374},null,null,null,{"$f":"SUM(AK7:AK14)","v":1},{"$f":"-SUM(AL7:AL14)","v":0},null,null,null,{"$f":"SUM(AP7:AP14)","v":1},{"$f":"-SUM(AQ7:AQ14)","v":1.0612781244591329},null,null,null,{"$f":"SUM(AU7:AU14)","v":1},{"$f":"-SUM(AV7:AV14)","v":0.41381685030363374}]
[22,1102,23,1107,23,1116,null,null,null,null,0,222,null,null,null,"U=",{"$f":"Q15/(LOG(Q4)/LOG(2))","v":0.16512293738538358},null,null,null,null,"U1=",{"$f":"W15/(LOG(W4)/LOG(2))","v":0},null,null,null,"U2=",{"$f":"AB15/(LOG(AB4)/LOG(2))","v":0},null,null,null,"U3=",{"$f":"AG15/(LOG(AG4)/LOG(2))","v":9.5748203398654322E-2},null,null,null,"U4=",{"$f":"AL15/(LOG(AL4)/LOG(2))","v":0},null,null,null,"U5=",{"$f":"AQ15/(LOG(AQ4)/LOG(2))","v":0.24983433005870836},null,null,null,"U6=",{"$f":"AV15/(LOG(AV4)/LOG(2))","v":9.5748203398654322E-2}]
[22,1229,23,1232,23,1236,null,null,null,null,0,222]
[22,1346,23,1349,23,1356,null,null,null,null,0,222]
[22,1475,23,1482,23,1487,null,null,null,null,0,222,null,"Total Target Seq"]
[22,1607,23,1611,23,1615,null,null,null,null,0,222,null,{"$f":"COUNTIF(L7:L124,G3)","v":39},null,20,19,20,20,19,20]
[22,1729,23,1733,23,1738,null,null,null,null,0,222,null,null,null,"% of reinforcement given in 6 equal intervals based on number of trials "]
[22,1856,23,1859,23,1864,null,null,null,null,0,222,null,null,null,"%_1","%_2","%_3","%_4","%_5","%_6"]
[22,1978,23,1981,23,1986,null,null,null,null,0,222,null,null,"target sequence",{"$f":"$G$3","v":122},{"$f":"$G$3","v":122},{"$f":"$G$3","v":122},{"$f":"$G$3","v":122},{"$f":"$G$3","v":122},{"$f":"$G$3","v":122}]
[22,2112,23,2115,23,2120,null,null,null,null,0,222,null,null,"total reinforcement",{"$f":"U10","v":1},{"$f":"Z10","v":4},{"$f":"AE10","v":8},{"$f":"AJ10","v":7},{"$f":"AO10","v":11},{"$f":"AT10","v":8}]
[11,2218,21,2240,21,2251,null,null,null,null,0,122,null,null,"% target"]
[22,2432,23,2440,23,2443,null,null,null,null,0,222,null,null,"CCRF"]
[22,2554,23,2557,23,2562,null,null,null,null,0,222,null,null,"% CCRf"]
[11,2660,21,2671,21,2675,null,null,null,null,0,122,null,null,"average response rate",{"$f":"F26/P20","v":122.15},{"$f":"(F45-F26)/Q20","v":133.89473684210526},{"$f":"(F65-F45)/R20","v":136.1},{"$f":"(F85-F65)/S20","v":140},{"$f":"(F104-F85)/T20","v":141.15789473684211},{"$f":"(F124-F104)/U20","v":140.4}]
[22,2806,23,2811,23,2816,null,null,null,null,0,222]
[22,2923,23,2926,23,2929,null,null,null,null,0,222]
[22,3040,23,3044,23,3050,null,null,null,null,0,222]
[22,3159,23,3167,23,3172,null,null,null,null,0,222]
[22,3297,23,3305,23,3313,null,null,null,null,0,222]
[22,3421,23,3424,23,3430,null,null,null,null,0,222]
[22,3540,23,3544,23,3552,null,null,null,null,0,222]
[22,3681,23,3684,23,3689,null,null,null,null,0,222]
[22,3797,23,3800,23,3812,null,null,null,null,0,222]
[22,3932,23,3935,23,3941,null,null,null,null,0,222]
[22,4052,23,4069,23,4075,null,null,null,null,0,222]
[11,4173,21,4189,21,4193,null,null,null,null,0,122]
[22,4336,23,4339,23,4344,null,null,null,null,0,222]
[22,4487,23,4489,23,4493,null,null,null,null,0,222]
[11,4590,21,4601,21,4604,null,null,null,null,0,122]
[11,4819,21,4830,21,4833,null,null,null,null,0,122]
[22,4979,23,4981,23,4987,null,null,null,null,0,222]
[22,5125,23,5130,23,5136,null,null,null,null,0,222]
[11,5235,21,5254,21,5260,null,null,null,null,0,122]
[22,5393,23,5398,23,5413,null,null,null,null,0,222]
[11,5513,21,5524,21,5532,null,null,null,null,0,122]
[22,5676,23,5680,23,5686,null,null,null,null,0,222]
[22,5792,23,5803,23,5808,null,null,null,null,0,222]
[11,5905,21,5918,21,5921,null,null,null,null,0,122]
[22,6090,23,6093,23,6100,null,null,null,null,0,222]
[11,6197,21,6207,21,6210,null,null,null,null,0,122]
[22,6319,23,6328,23,6337,null,null,null,null,0,222]
[22,6443,23,6446,23,6454,null,null,null,null,0,222]
[11,6551,12,6564,14,6573,null,null,null,null,0,111]
[11,6717,21,6728,21,6732,null,null,null,null,0,122]
[11,6886,21,6900,21,6907,null,null,null,null,0,122]
[22,7059,23,7063,23,7067,null,null,null,null,0,222]
[22,7180,23,7184,23,7199,null,null,null,null,0,222]
[11,7307,21,7317,21,7320,null,null,null,null,0,122]
[22,7468,23,7471,23,7476,null,null,null,null,0,222]
[11,7572,21,7584,21,7592,null,null,null,null,0,122]
[22,7700,23,7703,23,7709,null,null,null,null,0,222]
[11,7806,21,7817,21,7820,null,null,null,null,0,122]
[22,7951,23,7958,23,7963,null,null,null,null,0,222]
[22,8072,23,8075,23,8079,null,null,null,null,0,222]
[22,8196,23,8201,23,8207,null,null,null,null,0,222]
[11,8305,21,8321,21,8325,null,null,null,null,0,122]
[22,8493,23,8498,23,8504,null,null,null,null,0,222]
[22,8615,23,8619,23,8626,null,null,null,null,0,222]
[11,8724,21,8736,21,8739,null,null,null,null,0,122]
[22,8907,23,8912,23,8918,null,null,null,null,0,222]
[11,9028,21,9039,21,9044,null,null,null,null,0,122]
[22,9212,23,9217,23,9228,null,null,null,null,0,222]
[22,9337,23,9340,23,9349,null,null,null,null,0,222]
[11,9444,21,9456,21,9459,null,null,null,null,0,122]
[22,9598,23,9602,23,9630,null,null,null,null,0,222]
[11,9728,21,9740,21,9744,null,null,null,null,0,122]
[11,9974,21,9985,21,9988,null,null,null,null,0,122]
[22,10119,23,10126,23,10135,null,null,null,null,0,222]
[22,10253,23,10257,23,10266,null,null,null,null,0,222]
[22,10380,23,10383,23,10392,null,null,null,null,0,222]
[22,10494,23,10503,23,10509,null,null,null,null,0,222]
[22,10624,23,10628,23,10634,null,null,null,null,0,222]
[11,10731,21,10742,21,10744,null,null,null,null,0,122]
[22,10859,23,10867,23,10874,null,null,null,null,0,222]
[22,11004,23,11008,23,11015,null,null,null,null,0,222]
[11,11114,21,11127,21,11131,null,null,null,null,0,122]
[22,11351,23,11354,23,11365,null,null,null,null,0,222]
[11,11467,12,11505,14,11513,null,null,null,null,0,111]
[11,11640,21,11652,21,11655,null,null,null,null,0,122]
[11,11772,21,11784,21,11789,null,null,null,null,0,122]
[22,11939,23,11942,23,11958,null,null,null,null,0,222]
[11,12054,12,12056,23,12067,null,null,null,null,0,112]
[22,12175,23,12178,23,12183,null,null,null,null,0,222]
[11,12281,21,12293,21,12297,null,null,null,null,0,122]
[11,12402,21,12413,21,12417,null,null,null,null,0,122]
[11,12514,21,12524,21,12527,null,null,null,null,0,122]
[11,12641,21,12653,21,12657,null,null,null,null,0,122]
[11,12791,21,12809,21,12816,null,null,null,null,0,122]
[11,12975,21,12985,21,12988,null,null,null,null,0,122]
[11,13168,21,13181,21,13191,null,null,null,null,0,122]
[22,13345,23,13348,23,13354,null,null,null,null,0,222]
[11,13455,21,13466,21,13469,null,null,null,null,0,122]
[22,13626,23,13630,23,13637,null,null,null,null,0,222]
[22,13737,23,13742,23,13748,null,null,null,null,0,222]
[22,13863,23,13867,23,13875,null,null,null,null,0,222]
[11,13995,12,14001,14,14006,null,null,null,null,0,111]
[11,14104,21,14117,21,14121,null,null,null,null,0,122]
[11,14241,21,14250,21,14256,null,null,null,null,0,122]
[11,14446,21,14458,21,14461,null,null,null,null,0,122]
[22,14605,23,14609,23,14620,null,null,null,null,0,222]
[11,14728,21,14739,21,14743,null,null,null,null,0,122]
[22,14871,23,14880,23,14886,null,null,null,null,0,222]
[22,15028,23,15032,23,15039,null,null,null,null,0,222]
[22,15148,23,15155,23,15162,null,null,null,null,0,222]
[22,15268,23,15279,23,15286,null,null,null,null,0,222]
[22,15395,23,15403,23,15416,null,null,null,null,0,222]
[22,15522,23,15528,23,15532,null,null,null,null,0,222]
[11,15632,21,15653,21,15659,null,null,null,null,0,122]
[11,15839,21,15854,21,15863,null,null,null,null,0,122]
[11,15977,21,15995,21,15999,null,null,null,null,1,122]

{"sheet":"!LB22A43..Ta","index":16,"n_rows":92,"n_cols":48,"rows_kept":92,"cut":false,"hidden":false,"merged":[[4,39,4,42],[5,39,5,40],[4,44,4,47],[5,44,5,45],[4,24,4,27],[5,24,5,25],[4,29,4,32],[5,29,5,30],[4,34,4,37],[5,34,5,35],[1,1,1,2],[5,13,5,14],[18,13,18,14],[19,13,19,14],[4,19,4,22],[5,19,5,20]]}
["Report for:!LB22A43..Ta"]
["Date:","<date>"]
["Hen:","<hen>",null,null,null,"Correct Sequence",{"$f":"Start!J2","v":122},null,null,null,null,null,null,null,null,"Total Sequences in Data",{"$f":"4994-COUNTBLANK(L7:L5000)","v":86},null,null,null,null,"Total Sequences in Block Data",{"$f":"COUNTA(L7:L20)","v":14},null,null,null,"Total Sequences in Block Data",{"$f":"COUNTA(L21:L35)","v":15},null,null,null,"Total Sequences in Block Data",{"$f":"COUNTA(L36:L49)","v":14},null,null,null,"Total Sequences in Block Data",{"$f":"COUNTA(L50:L63)","v":14},null,null,null,"Total Sequences in Block Data",{"$f":"COUNTA(L64:L78)","v":15},null,null,null,"Total Sequences in Block Data",{"$f":"COUNTA(L79:L92)","v":14}]
[null,null,null,null,null,null,null,null,null,null,null,null,null,null,null,"Total Sequences in Summary",{"$f":"SUM(O7:O14)","v":86},null,null,null,null,"Total Sequences in Block Summary",{"$f":"SUM(U7:U14)","v":14},null,null,null,"Total Sequences in Block Summary",{"$f":"SUM(Z7:Z14)","v":15},null,null,null,"Total Sequences in Block Summary",{"$f":"SUM(AE7:AE14)","v":14},null,null,null,"Total Sequences in Block Summary",{"$f":"SUM(AJ7:AJ14)","v":14},null,null,null,"Total Sequences in Block Summary",{"$f":"SUM(AO7:AO14)","v":15},null,null,null,"Total Sequences in Block Summary",{"$f":"SUM(AT7:AT14)","v":14}]
[null,null,null,null,null,null,null,null,null,null,null,null,null,null,null,null,null,null,null,"Block 1",null,null,null,null,"Block 2",null,null,null,null,"Block 3",null,null,null,null,"Block 4",null,null,null,null,"Block 5",null,null,null,null,"Block 6"]
["Sequence\nComponent\n1","Time\n1","Sequence\nComponent\n2","Time\n2","Sequence\nComponent\n3","Time\n3","Sequence\nComponent\n4","Time\n4","Sequence\nComponent\n5","Time\n5","Correct?\n0=No 1=Yes","Sequence",null,"Frequency",null,"Relative Frequency","Variability",null,null,"Frequency",null,"Relative Frequency","Variability",null,"Frequency",null,"Relative Frequency","Variability",null,"Frequency",null,"Relative Frequency","Variability",null,"Frequency",null,"Relative Frequency","Variability",null,"Frequency",null,"Relative Frequency","Variability",null,"Frequency",null,"Relative Frequency","Variability"]
[22,41,23,48,23,56,null,null,null,null,0,222,null,111,{"$f":"COUNTIF($L$7:$L$500,N7)","v":1},{"$f":"O7/$Q$4","v":1.1627906976744186E-2},{"$f":"IF(P7=0,0,(P7*((LOG(P7))/LOG(2))))","v":-7.4724008775605782E-2},null,null,{"$f":"N7","v":111},{"$f":"COUNTIF(L7:L20,T7)","v":0},{"$f":"U7/(W4-U10)","v":0},{"$f":"IF(V7=0,0,(V7*((LOG(V7))/LOG(2))))","v":0},null,{"$f":"N7","v":111},{"$f":"COUNTIF(L21:L35,Y7)","v":0},{"$f":"Z7/(AB4-Z10)","v":0},{"$f":"IF(AA7=0,0,(AA7*((LOG(AA7))/LOG(2))))","v":0},null,{"$f":"N7","v":111},{"$f":"COUNTIF(L36:L49,AD7)","v":0},{"$f":"AE7/(AG4-AE10)","v":0},{"$f":"IF(AF7=0,0,(AF7*((LOG(AF7))/LOG(2))))","v":0},null,{"$f":"N7","v":111},{"$f":"COUNTIF(L50:L63,AI7)","v":0},{"$f":"AJ7/(AL4-AJ10)","v":0},{"$f":"IF(AK7=0,0,(AK7*((LOG(AK7))/LOG(2))))","v":0},null,{"$f":"N7","v":111},{"$f":"COUNTIF(L64:L78,AN7)","v":0},{"$f":"AO7/(AQ4-AO10)","v":0},{"$f":"IF(AP7=0,0,(AP7*((LOG(AP7))/LOG(2))))","v":0},null,{"$f":"N7","v":111},{"$f":"COUNTIF(L79:L92,AS7)","v":1},{"$f":"AT7/(AV4-AT10)","v":0.16666666666666666},{"$f":"IF(AU7=0,0,(AU7*((LOG(AU7))/LOG(2))))","v":-0.43082708345352599}]
[22,168,23,171,23,176,null,null,null,null,0,222,null,112,{"$f":"COUNTIF($L$7:$L$500,N8)","v":4},{"$f":"O8/$Q$4","v":4.6511627906976744E-2},{"$f":"IF(P8=0,0,(P8*((LOG(P8))/LOG(2))))","v":-0.20587277928846967},null,null,{"$f":"N8","v":112},{"$f":"COUNTIF(L7:L20,T8)","v":0},{"$f":"U8/(W4-U10)","v":0},{"$f":"IF(V8=0,0,(V8*((LOG(V8))/LOG(2))))","v":0},null,{"$f":"N8","v":112},{"$f":"COUNTIF(L21:L35,Y8)","v":1},{"$f":"Z8/(AB4-Z10)","v":0.1111111111111111},{"$f":"IF(AA8=0,0,(AA8*((LOG(AA8))/LOG(2))))","v":-0.3522138890491458},null,{"$f":"N8","v":112},{"$f":"COUNTIF(L36:L49,AD8)","v":0},{"$f":"AE8/(AG4-AE10)","v":0},{"$f":"IF(AF8=0,0,(AF8*((LOG(AF8))/LOG(2))))","v":0},null,{"$f":"N8","v":112},{"$f":"COUNTIF(L50:L63,AI8)","v":0},{"$f":"AJ8/(AL4-AJ10)","v":0},{"$f":"IF(AK8=0,0,(AK8*((LOG(AK8))/LOG(2))))","v":0},null,{"$f":"N8","v":112},{"$f":"COUNTIF(L64:L78,AN8)","v":0},{"$f":"AO8/(AQ4-AO10)","v":0},{"$f":"IF(AP8=0,0,(AP8*((LOG(AP8))/LOG(2))))","v":0},null,{"$f":"N8","v":112},{"$f":"COUNTIF(L79:L92,AS8)","v":3},{"$f":"AT8/(AV4-AT10)","v":0.5},{"$f":"IF(AU8=0,0,(AU8*((LOG(AU8))/LOG(2))))","v":-0.5}]
[22,288,23,291,23,297,null,null,null,null,0,222,null,121,{"$f":"COUNTIF($L$7:$L$500,N9)","v":0},{"$f":"O9/$Q$4","v":0},{"$f":"IF(P9=0,0,(P9*((LOG(P9))/LOG(2))))","v":0},null,null,{"$f":"N9","v":121},{"$f":"COUNTIF(L7:L20,T9)","v":0},{"$f":"U9/(W4-U10)","v":0},{"$f":"IF(V9=0,0,(V9*((LOG(V9))/LOG(2))))","v":0},null,{"$f":"N9","v":121},{"$f":"COUNTIF(L21:L35,Y9)","v":0},{"$f":"Z9/(AB4-Z10)","v":0},{"$f":"IF(AA9=0,0,(AA9*((LOG(AA9))/LOG(2))))","v":0},null,{"$f":"N9","v":121},{"$f":"COUNTIF(L36:L49,AD9)","v":0},{"$f":"AE9/(AG4-AE10)","v":0},{"$f":"IF(AF9=0,0,(AF9*((LOG(AF9))/LOG(2))))","v":0},null,{"$f":"N9","v":121},{"$f":"COUNTIF(L50:L63,AI9)","v":0},{"$f":"AJ9/(AL4-AJ10)","v":0},{"$f":"IF(AK9=0,0,(AK9*((LOG(AK9))/LOG(2))))","v":0},null,{"$f":"N9","v":121},{"$f":"COUNTIF(L64:L78,AN9)","v":0},{"$f":"AO9/(AQ4-AO10)","v":0},{"$f":"IF(AP9=0,0,(AP9*((LOG(AP9))/LOG(2))))","v":0},null,{"$f":"N9","v":121},{"$f":"COUNTIF(L79:L92,AS9)","v":0},{"$f":"AT9/(AV4-AT10)","v":0},{"$f":"IF(AU9=0,0,(AU9*((LOG(AU9))/LOG(2))))","v":0}]
[22,419,23,423,23,429,null,null,null,null,0,222,null,122,{"$f":"COUNTIF($L$7:$L$500,N10)","v":38},{"$f":"O10/$Q$4","v":0.44186046511627908},{"$f":"IF(P10=0,0,(P10*((LOG(P10))/LOG(2))))","v":-0.52066064148631952},null,null,{"$f":"N10","v":122},{"$f":"COUNTIF(L7:L20,T10)","v":0},null,null,null,{"$f":"N10","v":122},{"$f":"COUNTIF(L21:L35,Y10)","v":6},null,null,null,{"$f":"N10","v":122},{"$f":"COUNTIF(L36:L49,AD10)","v":7},null,null,null,{"$f":"N10","v":122},{"$f":"COUNTIF(L50:L63,AI10)","v":6},null,null,null,{"$f":"N10","v":122},{"$f":"COUNTIF(L64:L78,AN10)","v":11},null,null,null,{"$f":"N10","v":122},{"$f":"COUNTIF(L79:L92,AS10)","v":8}]
[22,621,23,624,23,633,null,null,null,null,0,222,null,211,{"$f":"COUNTIF($L$7:$L$500,N11)","v":0},{"$f":"O11/$Q$4","v":0},{"$f":"IF(P11=0,0,(P11*((LOG(P11))/LOG(2))))","v":0},null,null,{"$f":"N11","v":211},{"$f":"COUNTIF(L7:L20,T11)","v":0},{"$f":"U11/(W4-U10)","v":0},{"$f":"IF(V11=0,0,(V11*((LOG(V11))/LOG(2))))","v":0},null,{"$f":"N11","v":211},{"$f":"COUNTIF(L21:L35,Y11)","v":0},{"$f":"Z11/(AB4-Z10)","v":0},{"$f":"IF(AA11=0,0,(AA11*((LOG(AA11))/LOG(2))))","v":0},null,{"$f":"N11","v":211},{"$f":"COUNTIF(L36:L49,AD11)","v":0},{"$f":"AE11/(AG4-AE10)","v":0},{"$f":"IF(AF11=0,0,(AF11*((LOG(AF11))/LOG(2))))","v":0},null,{"$f":"N11","v":211},{"$f":"COUNTIF(L50:L63,AI11)","v":0},{"$f":"AJ11/(AL4-AJ10)","v":0},{"$f":"IF(AK11=0,0,(AK11*((LOG(AK11))/LOG(2))))","v":0},null,{"$f":"N11","v":211},{"$f":"COUNTIF(L64:L78,AN11)","v":0},{"$f":"AO11/(AQ4-AO10)","v":0},{"$f":"IF(AP11=0,0,(AP11*((LOG(AP11))/LOG(2))))","v":0},null,{"$f":"N11","v":211},{"$f":"COUNTIF(L79:L92,AS11)","v":0},{"$f":"AT11/(AV4-AT10)","v":0},{"$f":"IF(AU11=0,0,(AU11*((LOG(AU11))/LOG(2))))","v":0}]
[22,757,23,767,23,774,null,null,null,null,0,222,null,212,{"$f":"COUNTIF($L$7:$L$500,N12)","v":0},{"$f":"O12/$Q$4","v":0},{"$f":"IF(P12=0,0,(P12*((LOG(P12))/LOG(2))))","v":0},null,null,{"$f":"N12","v":212},{"$f":"COUNTIF(L7:L20,T12)","v":0},{"$f":"U12/(W4-U10)","v":0},{"$f":"IF(V12=0,0,(V12*((LOG(V12))/LOG(2))))","v":0},null,{"$f":"N12","v":212},{"$f":"COUNTIF(L21:L35,Y12)","v":0},{"$f":"Z12/(AB4-Z10)","v":0},{"$f":"IF(AA12=0,0,(AA12*((LOG(AA12))/LOG(2))))","v":0},null,{"$f":"N12","v":212},{"$f":"COUNTIF(L36:L49,AD12)","v":0},{"$f":"AE12/(AG4-AE10)","v":0},{"$f":"IF(AF12=0,0,(AF12*((LOG(AF12))/LOG(2))))","v":0},null,{"$f":"N12","v":212},{"$f":"COUNTIF(L50:L63,AI12)","v":0},{"$f":"AJ12/(AL4-AJ10)","v":0},{"$f":"IF(AK12=0,0,(AK12*((LOG(AK12))/LOG(2))))","v":0},null,{"$f":"N12","v":212},{"$f":"COUNTIF(L64:L78,AN12)","v":0},{"$f":"AO12/(AQ4-AO10)","v":0},{"$f":"IF(AP12=0,0,(AP12*((LOG(AP12))/LOG(2))))","v":0},null,{"$f":"N12","v":212},{"$f":"COUNTIF(L79:L92,AS12)","v":0},{"$f":"AT12/(AV4-AT10)","v":0},{"$f":"IF(AU12=0,0,(AU12*((LOG(AU12))/LOG(2))))","v":0}]
[22,894,23,897,23,900,null,null,null,null,0,222,null,221,{"$f":"COUNTIF($L$7:$L$500,N13)","v":0},{"$f":"O13/$Q$4","v":0},{"$f":"IF(P13=0,0,(P13*((LOG(P13))/LOG(2))))","v":0},null,null,{"$f":"N13","v":221},{"$f":"COUNTIF(L7:L20,T13)","v":0},{"$f":"U13/(W4-U10)","v":0},{"$f":"IF(V13=0,0,(V13*((LOG(V13))/LOG(2))))","v":0},null,{"$f":"N13","v":221},{"$f":"COUNTIF(L21:L35,Y13)","v":0},{"$f":"Z13/(AB4-Z10)","v":0},{"$f":"IF(AA13=0,0,(AA13*((LOG(AA13))/LOG(2))))","v":0},null,{"$f":"N13","v":221},{"$f":"COUNTIF(L36:L49,AD13)","v":0},{"$f":"AE13/(AG4-AE10)","v":0},{"$f":"IF(AF13=0,0,(AF13*((LOG(AF13))/LOG(2))))","v":0},null,{"$f":"N13","v":221},{"$f":"COUNTIF(L50:L63,AI13)","v":0},{"$f":"AJ13/(AL4-AJ10)","v":0},{"$f":"IF(AK13=0,0,(AK13*((LOG(AK13))/LOG(2))))","v":0},null,{"$f":"N13","v":221},{"$f":"COUNTIF(L64:L78,AN13)","v":0},{"$f":"AO13/(AQ4-AO10)","v":0},{"$f":"IF(AP13=0,0,(AP13*((LOG(AP13))/LOG(2))))","v":0},null,{"$f":"N13","v":221},{"$f":"COUNTIF(L79:L92,AS13)","v":0},{"$f":"AT13/(AV4-AT10)","v":0},{"$f":"IF(AU13=0,0,(AU13*((LOG(AU13))/LOG(2))))","v":0}]
[22,1007,23,1011,23,1015,null,null,null,null,0,222,null,222,{"$f":"COUNTIF($L$7:$L$500,N14)","v":43},{"$f":"O14/$Q$4","v":0.5},{"$f":"IF(P14=0,0,(P14*((LOG(P14))/LOG(2))))","v":-0.5},null,null,{"$f":"N14","v":222},{"$f":"COUNTIF(L7:L20,T14)","v":14},{"$f":"U14/(W4-U10)","v":1},{"$f":"IF(V14=0,0,(V14*((LOG(V14))/LOG(2))))","v":0},null,{"$f":"N14","v":222},{"$f":"COUNTIF(L21:L35,Y14)","v":8},{"$f":"Z14/(AB4-Z10)","v":0.88888888888888884},{"$f":"IF(AA14=0,0,(AA14*((LOG(AA14))/LOG(2))))","v":-0.15104444572649992},null,{"$f":"N14","v":222},{"$f":"COUNTIF(L36:L49,AD14)","v":7},{"$f":"AE14/(AG4-AE10)","v":1},{"$f":"IF(AF14=0,0,(AF14*((LOG(AF14))/LOG(2))))","v":0},null,{"$f":"N14","v":222},{"$f":"COUNTIF(L50:L63,AI14)","v":8},{"$f":"AJ14/(AL4-AJ10)","v":1},{"$f":"IF(AK14=0,0,(AK14*((LOG(AK14))/LOG(2))))","v":0},null,{"$f":"N14","v":222},{"$f":"COUNTIF(L64:L78,AN14)","v":4},{"$f":"AO14/(AQ4-AO10)","v":1},{"$f":"IF(AP14=0,0,(AP14*((LOG(AP14))/LOG(2))))","v":0},null,{"$f":"N14","v":222},{"$f":"COUNTIF(L79:L92,AS14)","v":2},{"$f":"AT14/(AV4-AT10)","v":0.33333333333333331},{"$f":"IF(AU14=0,0,(AU14*((LOG(AU14))/LOG(2))))","v":-0.52832083357371862}]
[22,1125,23,1129,23,1135,null,null,null,null,0,222,null,null,null,{"$f":"SUM(P7:P14)","v":1},{"$f":"-SUM(Q7:Q14)","v":1.3012574295503949},null,null,null,null,{"$f":"SUM(V7:V14)","v":1},{"$f":"-SUM(W7:W14)","v":0},null,null,null,{"$f":"SUM(AA7:AA14)","v":1},{"$f":"-SUM(AB7:AB14)","v":0.50325833477564574},null,null,null,{"$f":"SUM(AF7:AF14)","v":1},{"$f":"-SUM(AG7:AG14)","v":0},null,null,null,{"$f":"SUM(AK7:AK14)","v":1},{"$f":"-SUM(AL7:AL14)","v":0},null,null,null,{"$f":"SUM(AP7:AP14)","v":1},{"$f":"-SUM(AQ7:AQ14)","v":0},null,null,null,{"$f":"SUM(AU7:AU14)","v":1},{"$f":"-SUM(AV7:AV14)","v":1.4591479170272446}]
[22,1260,23,1263,23,1269,null,null,null,null,0,222,null,null,null,"U=",{"$f":"Q15/(LOG(Q4)/LOG(2))","v":0.20249047918516971},null,null,null,null,"U1=",{"$f":"W15/(LOG(W4)/LOG(2))","v":0},null,null,null,"U2=",{"$f":"AB15/(LOG(AB4)/LOG(2))","v":0.12881300933825116},null,null,null,"U3=",{"$f":"AG15/(LOG(AG4)/LOG(2))","v":0},null,null,null,"U4=",{"$f":"AL15/(LOG(AL4)/LOG(2))","v":0},null,null,null,"U5=",{"$f":"AQ15/(LOG(AQ4)/LOG(2))","v":0},null,null,null,"U6=",{"$f":"AV15/(LOG(AV4)/LOG(2))","v":0.38324452195769532}]
[22,1383,23,1386,23,1390,null,null,null,null,0,222]
[22,1511,23,1514,23,1519,null,null,null,null,0,222]
[22,1635,23,1638,23,1644,null,null,null,null,0,222,null,"Total Target Seq"]
[22,1761,23,1765,23,1773,null,null,null,null,0,222,null,{"$f":"COUNTIF(L7:L92,G3)","v":38},null,14,15,14,14,15,14]
[22,1893,23,1899,23,1903,null,null,null,null,0,222,null,null,null,"% of reinforcement given in 6 equal intervals based on number of trials "]
[22,2018,23,2021,23,2025,null,null,null,null,0,222,null,null,null,"%_1","%_2","%_3","%_4","%_5","%_6"]
[22,2147,23,2151,23,2159,null,null,null,null,0,222,null,null,"target sequence",{"$f":"$G$3","v":122},{"$f":"$G$3","v":122},{"$f":"$G$3","v":122},{"$f":"$G$3","v":122},{"$f":"$G$3","v":122},{"$f":"$G$3","v":122}]
[22,2266,23,2271,23,2274,null,null,null,null,0,222,null,null,"total reinforcement",{"$f":"U10","v":0},{"$f":"Z10","v":6},{"$f":"AE10","v":7},{"$f":"AJ10","v":6},{"$f":"AO10","v":11},{"$f":"AT10","v":8}]
[22,2400,23,2410,23,2421,null,null,null,null,0,222,null,null,"% target"]
[11,2518,21,2546,21,2552,null,null,null,null,0,122,null,null,"CCRF"]
[22,2770,23,2774,23,2783,null,null,null,null,0,222,null,null,"% CCRf"]
[11,2886,21,2898,21,2901,null,null,null,null,0,122,null,null,"average response rate",{"$f":"F20/P20","v":126.64285714285714},{"$f":"(F35-F20)/Q20","v":144.46666666666667},{"$f":"(F49-F35)/R20","v":133.5},{"$f":"(F63-F49)/S20","v":135.07142857142858},{"$f":"(F78-F63)/T20","v":150.4},{"$f":"(F92-F78)/U20","v":148.78571428571428}]
[11,3017,21,3030,21,3036,null,null,null,null,0,122]
[11,3134,21,3148,21,3151,null,null,null,null,0,122]
[11,3282,21,3295,21,3312,null,null,null,null,0,122]
[22,3456,23,3459,23,3463,null,null,null,null,0,222]
[11,3566,12,3569,23,3585,null,null,null,null,0,112]
[11,3765,21,3778,21,3781,null,null,null,null,0,122]
[22,3929,23,3934,23,3940,null,null,null,null,0,222]
[22,4048,23,4052,23,4058,null,null,null,null,0,222]
[22,4168,23,4172,23,4178,null,null,null,null,0,222]
[11,4275,21,4287,21,4290,null,null,null,null,0,122]
[11,4456,21,4472,21,4479,null,null,null,null,0,122]
[22,4623,23,4627,23,4638,null,null,null,null,0,222]
[11,4737,21,4756,21,4765,null,null,null,null,0,122]
[22,4873,23,4877,23,4880,null,null,null,null,0,222]
[11,4974,21,4985,21,4988,null,null,null,null,0,122]
[11,5084,21,5104,21,5108,null,null,null,null,0,122]
[11,5247,21,5264,21,5276,null,null,null,null,0,122]
[22,5380,23,5385,23,5391,null,null,null,null,0,222]
[11,5488,21,5501,21,5505,null,null,null,null,0,122]
[22,5674,23,5677,23,5682,null,null,null,null,0,222]
[22,5799,23,5803,23,5809,null,null,null,null,0,222]
[22,5916,23,5922,23,5928,null,null,null,null,0,222]
[22,6036,23,6039,23,6044,null,null,null,null,0,222]
[11,6140,21,6154,21,6164,null,null,null,null,0,122]
[11,6291,21,6301,21,6304,null,null,null,null,0,122]
[22,6514,23,6518,23,6523,null,null,null,null,0,222]
[22,6636,23,6639,23,6643,null,null,null,null,0,222]
[11,6740,21,6759,21,6765,null,null,null,null,0,122]
[22,6881,23,6893,23,6902,null,null,null,null,0,222]
[22,7002,23,7009,23,7014,null,null,null,null,0,222]
[11,7123,21,7135,21,7139,null,null,null,null,0,122]
[22,7283,23,7290,23,7299,null,null,null,null,0,222]
[22,7412,23,7417,23,7423,null,null,null,null,0,222]
[11,7517,21,7534,21,7539,null,null,null,null,0,122]
[11,7685,21,7696,21,7700,null,null,null,null,0,122]
[22,7815,23,7826,23,7831,null,null,null,null,0,222]
[22,7942,23,7945,23,7948,null,null,null,null,0,222]
[11,8044,21,8054,21,8057,null,null,null,null,0,122]
[11,8220,21,8238,21,8244,null,null,null,null,0,122]
[11,8423,21,8434,21,8438,null,null,null,null,0,122]
[11,8582,21,8596,21,8603,null,null,null,null,0,122]
[11,8703,21,8715,21,8723,null,null,null,null,0,122]
[22,8868,23,8871,23,8892,null,null,null,null,0,222]
[11,9005,21,9016,21,9021,null,null,null,null,0,122]
[22,9162,23,9168,23,9187,null,null,null,null,0,222]
[11,9291,21,9314,21,9320,null,null,null,null,0,122]
[11,9456,21,9471,21,9473,null,null,null,null,0,122]
[11,9616,21,9635,21,9643,null,null,null,null,0,122]
[11,9812,21,9823,21,9825,null,null,null,null,0,122]
[11,9941,21,9953,21,9956,null,null,null,null,0,122]
[22,10089,23,10093,23,10101,null,null,null,null,0,222]
[11,10198,12,10210,23,10220,null,null,null,null,0,112]
[11,10318,21,10333,21,10357,null,null,null,null,0,122]
[11,10468,21,10479,21,10481,null,null,null,null,0,122]
[11,10611,21,10624,21,10629,null,null,null,null,0,122]
[11,10786,21,10802,21,10805,null,null,null,null,0,122]
[11,10957,12,10960,23,10971,null,null,null,null,0,112]
[11,11095,12,11099,14,11108,null,null,null,null,0,111]
[22,11251,23,11255,23,11260,null,null,null,null,0,222]
[11,11371,12,11382,23,11400,null,null,null,null,0,112]
[11,11504,21,11513,21,11517,null,null,null,null,0,122]
[11,11707,21,11718,21,11722,null,null,null,null,0,122]
[11,11900,21,11912,21,11919,null,null,null,null,0,122]
[11,12021,21,12033,21,12039,null,null,null,null,1,122]

{"sheet":"!LB23A43..Ta","index":17,"n_rows":65,"n_cols":48,"rows_kept":65,"cut":false,"hidden":false,"merged":[[4,39,4,42],[5,39,5,40],[4,44,4,47],[5,44,5,45],[4,24,4,27],[5,24,5,25],[4,29,4,32],[5,29,5,30],[4,34,4,37],[5,34,5,35],[1,1,1,2],[5,13,5,14],[18,13,18,14],[19,13,19,14],[4,19,4,22],[5,19,5,20]]}
["Report for:!LB23A43..Ta"]
["Date:","<date>"]
["Hen:","<hen>",null,null,null,"Correct Sequence",{"$f":"Start!J2","v":122},null,null,null,null,null,null,null,null,"Total Sequences in Data",{"$f":"4994-COUNTBLANK(L7:L5000)","v":59},null,null,null,null,"Total Sequences in Block Data",{"$f":"COUNTA(L7:L16)","v":10},null,null,null,"Total Sequences in Block Data",{"$f":"COUNTA(L17:L26)","v":10},null,null,null,"Total Sequences in Block Data",{"$f":"COUNTA(L27:L35)","v":9},null,null,null,"Total Sequences in Block Data",{"$f":"COUNTA(L36:L45)","v":10},null,null,null,"Total Sequences in Block Data",{"$f":"COUNTA(L46:L55)","v":10},null,null,null,"Total Sequences in Block Data",{"$f":"COUNTA(L56:L65)","v":10}]
[null,null,null,null,null,null,null,null,null,null,null,null,null,null,null,"Total Sequences in Summary",{"$f":"SUM(O7:O14)","v":59},null,null,null,null,"Total Sequences in Block Summary",{"$f":"SUM(U7:U14)","v":10},null,null,null,"Total Sequences in Block Summary",{"$f":"SUM(Z7:Z14)","v":10},null,null,null,"Total Sequences in Block Summary",{"$f":"SUM(AE7:AE14)","v":9},null,null,null,"Total Sequences in Block Summary",{"$f":"SUM(AJ7:AJ14)","v":10},null,null,null,"Total Sequences in Block Summary",{"$f":"SUM(AO7:AO14)","v":10},null,null,null,"Total Sequences in Block Summary",{"$f":"SUM(AT7:AT14)","v":10}]
[null,null,null,null,null,null,null,null,null,null,null,null,null,null,null,null,null,null,null,"Block 1",null,null,null,null,"Block 2",null,null,null,null,"Block 3",null,null,null,null,"Block 4",null,null,null,null,"Block 5",null,null,null,null,"Block 6"]
["Sequence\nComponent\n1","Time\n1","Sequence\nComponent\n2","Time\n2","Sequence\nComponent\n3","Time\n3","Sequence\nComponent\n4","Time\n4","Sequence\nComponent\n5","Time\n5","Correct?\n0=No 1=Yes","Sequence",null,"Frequency",null,"Relative Frequency","Variability",null,null,"Frequency",null,"Relative Frequency","Variability",null,"Frequency",null,"Relative Frequency","Variability",null,"Frequency",null,"Relative Frequency","Variability",null,"Frequency",null,"Relative Frequency","Variability",null,"Frequency",null,"Relative Frequency","Variability",null,"Frequency",null,"Relative Frequency","Variability"]
[22,18,23,24,23,30,null,null,null,null,0,222,null,111,{"$f":"COUNTIF($L$7:$L$500,N7)","v":1},{"$f":"O7/$Q$4","v":1.6949152542372881E-2},{"$f":"IF(P7=0,0,(P7*((LOG(P7))/LOG(2))))","v":-9.9705814395963419E-2},null,null,{"$f":"N7","v":111},{"$f":"COUNTIF(L7:L16,T7)","v":0},{"$f":"U7/(W4-U10)","v":0},{"$f":"IF(V7=0,0,(V7*((LOG(V7))/LOG(2))))","v":0},null,{"$f":"N7","v":111},{"$f":"COUNTIF(L17:L26,Y7)","v":0},{"$f":"Z7/(AB4-Z10)","v":0},{"$f":"IF(AA7=0,0,(AA7*((LOG(AA7))/LOG(2))))","v":0},null,{"$f":"N7","v":111},{"$f":"COUNTIF(L27:L35,AD7)","v":0},{"$f":"AE7/(AG4-AE10)","v":0},{"$f":"IF(AF7=0,0,(AF7*((LOG(AF7))/LOG(2))))","v":0},null,{"$f":"N7","v":111},{"$f":"COUNTIF(L36:L45,AI7)","v":0},{"$f":"AJ7/(AL4-AJ10)","v":0},{"$f":"IF(AK7=0,0,(AK7*((LOG(AK7))/LOG(2))))","v":0},null,{"$f":"N7","v":111},{"$f":"COUNTIF(L46:L55,AN7)","v":1},{"$f":"AO7/(AQ4-AO10)","v":0.2},{"$f":"IF(AP7=0,0,(AP7*((LOG(AP7))/LOG(2))))","v":-0.46438561897747244},null,{"$f":"N7","v":111},{"$f":"COUNTIF(L56:L65,AS7)","v":0},{"$f":"AT7/(AV4-AT10)","v":0},{"$f":"IF(AU7=0,0,(AU7*((LOG(AU7))/LOG(2))))","v":0}]
[11,127,21,138,21,146,null,null,null,null,0,122,null,112,{"$f":"COUNTIF($L$7:$L$500,N8)","v":0},{"$f":"O8/$Q$4","v":0},{"$f":"IF(P8=0,0,(P8*((LOG(P8))/LOG(2))))","v":0},null,null,{"$f":"N8","v":112},{"$f":"COUNTIF(L7:L16,T8)","v":0},{"$f":"U8/(W4-U10)","v":0},{"$f":"IF(V8=0,0,(V8*((LOG(V8))/LOG(2))))","v":0},null,{"$f":"N8","v":112},{"$f":"COUNTIF(L17:L26,Y8)","v":0},{"$f":"Z8/(AB4-Z10)","v":0},{"$f":"IF(AA8=0,0,(AA8*((LOG(AA8))/LOG(2))))","v":0},null,{"$f":"N8","v":112},{"$f":"COUNTIF(L27:L35,AD8)","v":0},{"$f":"AE8/(AG4-AE10)","v":0},{"$f":"IF(AF8=0,0,(AF8*((LOG(AF8))/LOG(2))))","v":0},null,{"$f":"N8","v":112},{"$f":"COUNTIF(L36:L45,AI8)","v":0},{"$f":"AJ8/(AL4-AJ10)","v":0},{"$f":"IF(AK8=0,0,(AK8*((LOG(AK8))/LOG(2))))","v":0},null,{"$f":"N8","v":112},{"$f":"COUNTIF(L46:L55,AN8)","v":0},{"$f":"AO8/(AQ4-AO10)","v":0},{"$f":"IF(AP8=0,0,(AP8*((LOG(AP8))/LOG(2))))","v":0},null,{"$f":"N8","v":112},{"$f":"COUNTIF(L56:L65,AS8)","v":0},{"$f":"AT8/(AV4-AT10)","v":0},{"$f":"IF(AU8=0,0,(AU8*((LOG(AU8))/LOG(2))))","v":0}]
[22,292,23,295,23,303,null,null,null,null,0,222,null,121,{"$f":"COUNTIF($L$7:$L$500,N9)","v":0},{"$f":"O9/$Q$4","v":0},{"$f":"IF(P9=0,0,(P9*((LOG(P9))/LOG(2))))","v":0},null,null,{"$f":"N9","v":121},{"$f":"COUNTIF(L7:L16,T9)","v":0},{"$f":"U9/(W4-U10)","v":0},{"$f":"IF(V9=0,0,(V9*((LOG(V9))/LOG(2))))","v":0},null,{"$f":"N9","v":121},{"$f":"COUNTIF(L17:L26,Y9)","v":0},{"$f":"Z9/(AB4-Z10)","v":0},{"$f":"IF(AA9=0,0,(AA9*((LOG(AA9))/LOG(2))))","v":0},null,{"$f":"N9","v":121},{"$f":"COUNTIF(L27:L35,AD9)","v":0},{"$f":"AE9/(AG4-AE10)","v":0},{"$f":"IF(AF9=0,0,(AF9*((LOG(AF9))/LOG(2))))","v":0},null,{"$f":"N9","v":121},{"$f":"COUNTIF(L36:L45,AI9)","v":0},{"$f":"AJ9/(AL4-AJ10)","v":0},{"$f":"IF(AK9=0,0,(AK9*((LOG(AK9))/LOG(2))))","v":0},null,{"$f":"N9","v":121},{"$f":"COUNTIF(L46:L55,AN9)","v":0},{"$f":"AO9/(AQ4-AO10)","v":0},{"$f":"IF(AP9=0,0,(AP9*((LOG(AP9))/LOG(2))))","v":0},null,{"$f":"N9","v":121},{"$f":"COUNTIF(L56:L65,AS9)","v":0},{"$f":"AT9/(AV4-AT10)","v":0},{"$f":"IF(AU9=0,0,(AU9*((LOG(AU9))/LOG(2))))","v":0}]
[11,399,21,415,21,420,null,null,null,null,0,122,null,122,{"$f":"COUNTIF($L$7:$L$500,N10)","v":39},{"$f":"O10/$Q$4","v":0.66101694915254239},{"$f":"IF(P10=0,0,(P10*((LOG(P10))/LOG(2))))","v":-0.39478631168617156},null,null,{"$f":"N10","v":122},{"$f":"COUNTIF(L7:L16,T10)","v":6},null,null,null,{"$f":"N10","v":122},{"$f":"COUNTIF(L17:L26,Y10)","v":6},null,null,null,{"$f":"N10","v":122},{"$f":"COUNTIF(L27:L35,AD10)","v":6},null,null,null,{"$f":"N10","v":122},{"$f":"COUNTIF(L36:L45,AI10)","v":8},null,null,null,{"$f":"N10","v":122},{"$f":"COUNTIF(L46:L55,AN10)","v":5},null,null,null,{"$f":"N10","v":122},{"$f":"COUNTIF(L56:L65,AS10)","v":8}]
[11,520,21,532,21,536,null,null,null,null,0,122,null,211,{"$f":"COUNTIF($L$7:$L$500,N11)","v":0},{"$f":"O11/$Q$4","v":0},{"$f":"IF(P11=0,0,(P11*((LOG(P11))/LOG(2))))","v":0},null,null,{"$f":"N11","v":211},{"$f":"COUNTIF(L7:L16,T11)","v":0},{"$f":"U11/(W4-U10)","v":0},{"$f":"IF(V11=0,0,(V11*((LOG(V11))/LOG(2))))","v":0},null,{"$f":"N11","v":211},{"$f":"COUNTIF(L17:L26,Y11)","v":0},{"$f":"Z11/(AB4-Z10)","v":0},{"$f":"IF(AA11=0,0,(AA11*((LOG(AA11))/LOG(2))))","v":0},null,{"$f":"N11","v":211},{"$f":"COUNTIF(L27:L35,AD11)","v":0},{"$f":"AE11/(AG4-AE10)","v":0},{"$f":"IF(AF11=0,0,(AF11*((LOG(AF11))/LOG(2))))","v":0},null,{"$f":"N11","v":211},{"$f":"COUNTIF(L36:L45,AI11)","v":0},{"$f":"AJ11/(AL4-AJ10)","v":0},{"$f":"IF(AK11=0,0,(AK11*((LOG(AK11))/LOG(2))))","v":0},null,{"$f":"N11","v":211},{"$f":"COUNTIF(L46:L55,AN11)","v":0},{"$f":"AO11/(AQ4-AO10)","v":0},{"$f":"IF(AP11=0,0,(AP11*((LOG(AP11))/LOG(2))))","v":0},null,{"$f":"N11","v":211},{"$f":"COUNTIF(L56:L65,AS11)","v":0},{"$f":"AT11/(AV4-AT10)","v":0},{"$f":"IF(AU11=0,0,(AU11*((LOG(AU11))/LOG(2))))","v":0}]
[22,661,23,665,23,672,null,null,null,null,0,222,null,212,{"$f":"COUNTIF($L$7:$L$500,N12)","v":0},{"$f":"O12/$Q$4","v":0},{"$f":"IF(P12=0,0,(P12*((LOG(P12))/LOG(2))))","v":0},null,null,{"$f":"N12","v":212},{"$f":"COUNTIF(L7:L16,T12)","v":0},{"$f":"U12/(W4-U10)","v":0},{"$f":"IF(V12=0,0,(V12*((LOG(V12))/LOG(2))))","v":0},null,{"$f":"N12","v":212},{"$f":"COUNTIF(L17:L26,Y12)","v":0},{"$f":"Z12/(AB4-Z10)","v":0},{"$f":"IF(AA12=0,0,(AA12*((LOG(AA12))/LOG(2))))","v":0},null,{"$f":"N12","v":212},{"$f":"COUNTIF(L27:L35,AD12)","v":0},{"$f":"AE12/(AG4-AE10)","v":0},{"$f":"IF(AF12=0,0,(AF12*((LOG(AF12))/LOG(2))))","v":0},null,{"$f":"N12","v":212},{"$f":"COUNTIF(L36:L45,AI12)","v":0},{"$f":"AJ12/(AL4-AJ10)","v":0},{"$f":"IF(AK12=0,0,(AK12*((LOG(AK12))/LOG(2))))","v":0},null,{"$f":"N12","v":212},{"$f":"COUNTIF(L46:L55,AN12)","v":0},{"$f":"AO12/(AQ4-AO10)","v":0},{"$f":"IF(AP12=0,0,(AP12*((LOG(AP12))/LOG(2))))","v":0},null,{"$f":"N12","v":212},{"$f":"COUNTIF(L56:L65,AS12)","v":0},{"$f":"AT12/(AV4-AT10)","v":0},{"$f":"IF(AU12=0,0,(AU12*((LOG(AU12))/LOG(2))))","v":0}]
[11,775,21,785,21,788,null,null,null,null,0,122,null,221,{"$f":"COUNTIF($L$7:$L$500,N13)","v":0},{"$f":"O13/$Q$4","v":0},{"$f":"IF(P13=0,0,(P13*((LOG(P13))/LOG(2))))","v":0},null,null,{"$f":"N13","v":221},{"$f":"COUNTIF(L7:L16,T13)","v":0},{"$f":"U13/(W4-U10)","v":0},{"$f":"IF(V13=0,0,(V13*((LOG(V13))/LOG(2))))","v":0},null,{"$f":"N13","v":221},{"$f":"COUNTIF(L17:L26,Y13)","v":0},{"$f":"Z13/(AB4-Z10)","v":0},{"$f":"IF(AA13=0,0,(AA13*((LOG(AA13))/LOG(2))))","v":0},null,{"$f":"N13","v":221},{"$f":"COUNTIF(L27:L35,AD13)","v":0},{"$f":"AE13/(AG4-AE10)","v":0},{"$f":"IF(AF13=0,0,(AF13*((LOG(AF13))/LOG(2))))","v":0},null,{"$f":"N13","v":221},{"$f":"COUNTIF(L36:L45,AI13)","v":0},{"$f":"AJ13/(AL4-AJ10)","v":0},{"$f":"IF(AK13=0,0,(AK13*((LOG(AK13))/LOG(2))))","v":0},null,{"$f":"N13","v":221},{"$f":"COUNTIF(L46:L55,AN13)","v":0},{"$f":"AO13/(AQ4-AO10)","v":0},{"$f":"IF(AP13=0,0,(AP13*((LOG(AP13))/LOG(2))))","v":0},null,{"$f":"N13","v":221},{"$f":"COUNTIF(L56:L65,AS13)","v":0},{"$f":"AT13/(AV4-AT10)","v":0},{"$f":"IF(AU13=0,0,(AU13*((LOG(AU13))/LOG(2))))","v":0}]
[22,905,23,909,23,914,null,null,null,null,0,222,null,222,{"$f":"COUNTIF($L$7:$L$500,N14)","v":19},{"$f":"O14/$Q$4","v":0.32203389830508472},{"$f":"IF(P14=0,0,(P14*((LOG(P14))/LOG(2))))","v":-0.52643381665164168},null,null,{"$f":"N14","v":222},{"$f":"COUNTIF(L7:L16,T14)","v":4},{"$f":"U14/(W4-U10)","v":1},{"$f":"IF(V14=0,0,(V14*((LOG(V14))/LOG(2))))","v":0},null,{"$f":"N14","v":222},{"$f":"COUNTIF(L17:L26,Y14)","v":4},{"$f":"Z14/(AB4-Z10)","v":1},{"$f":"IF(AA14=0,0,(AA14*((LOG(AA14))/LOG(2))))","v":0},null,{"$f":"N14","v":222},{"$f":"COUNTIF(L27:L35,AD14)","v":3},{"$f":"AE14/(AG4-AE10)","v":1},{"$f":"IF(AF14=0,0,(AF14*((LOG(AF14))/LOG(2))))","v":0},null,{"$f":"N14","v":222},{"$f":"COUNTIF(L36:L45,AI14)","v":2},{"$f":"AJ14/(AL4-AJ10)","v":1},{"$f":"IF(AK14=0,0,(AK14*((LOG(AK14))/LOG(2))))","v":0},null,{"$f":"N14","v":222},{"$f":"COUNTIF(L46:L55,AN14)","v":4},{"$f":"AO14/(AQ4-AO10)","v":0.8},{"$f":"IF(AP14=0,0,(AP14*((LOG(AP14))/LOG(2))))","v":-0.25754247590988982},null,{"$f":"N14","v":222},{"$f":"COUNTIF(L56:L65,AS14)","v":2},{"$f":"AT14/(AV4-AT10)","v":1},{"$f":"IF(AU14=0,0,(AU14*((LOG(AU14))/LOG(2))))","v":0}]
[11,1013,21,1021,21,1024,null,null,null,null,0,122,null,null,null,{"$f":"SUM(P7:P14)","v":1},{"$f":"-SUM(Q7:Q14)","v":1.0209259427337767},null,null,null,null,{"$f":"SUM(V7:V14)","v":1},{"$f":"-SUM(W7:W14)","v":0},null,null,null,{"$f":"SUM(AA7:AA14)","v":1},{"$f":"-SUM(AB7:AB14)","v":0},null,null,null,{"$f":"SUM(AF7:AF14)","v":1},{"$f":"-SUM(AG7:AG14)","v":0},null,null,null,{"$f":"SUM(AK7:AK14)","v":1},{"$f":"-SUM(AL7:AL14)","v":0},null,null,null,{"$f":"SUM(AP7:AP14)","v":1},{"$f":"-SUM(AQ7:AQ14)","v":0.72192809488736231},null,null,null,{"$f":"SUM(AU7:AU14)","v":1},{"$f":"-SUM(AV7:AV14)","v":0}]
[11,1131,21,1143,21,1154,null,null,null,null,0,122,null,null,null,"U=",{"$f":"Q15/(LOG(Q4)/LOG(2))","v":0.17354885111455612},null,null,null,null,"U1=",{"$f":"W15/(LOG(W4)/LOG(2))","v":0},null,null,null,"U2=",{"$f":"AB15/(LOG(AB4)/LOG(2))","v":0},null,null,null,"U3=",{"$f":"AG15/(LOG(AG4)/LOG(2))","v":0},null,null,null,"U4=",{"$f":"AL15/(LOG(AL4)/LOG(2))","v":0},null,null,null,"U5=",{"$f":"AQ15/(LOG(AQ4)/LOG(2))","v":0.21732201127364889},null,null,null,"U6=",{"$f":"AV15/(LOG(AV4)/LOG(2))","v":0}]
[11,1253,21,1273,21,1281,null,null,null,null,0,122]
[22,1405,23,1410,23,1415,null,null,null,null,0,222]
[11,1524,21,1539,21,1543,null,null,null,null,0,122,null,"Total Target Seq"]
[22,1705,23,1710,23,1716,null,null,null,null,0,222,null,{"$f":"COUNTIF(L7:L65,G3)","v":39},null,10,10,9,10,10,10]
[11,1813,21,1823,21,1826,null,null,null,null,0,122,null,null,null,"% of reinforcement given in 6 equal intervals based on number of trials "]
[22,1949,23,1957,23,1962,null,null,null,null,0,222,null,null,null,"%_1","%_2","%_3","%_4","%_5","%_6"]
[11,2058,21,2067,21,2070,null,null,null,null,0,122,null,null,"target sequence",{"$f":"$G$3","v":122},{"$f":"$G$3","v":122},{"$f":"$G$3","v":122},{"$f":"$G$3","v":122},{"$f":"$G$3","v":122},{"$f":"$G$3","v":122}]
[11,2171,21,2178,21,2184,null,null,null,null,0,122,null,null,"total reinforcement",{"$f":"U10","v":6},{"$f":"Z10","v":6},{"$f":"AE10","v":6},{"$f":"AJ10","v":8},{"$f":"AO10","v":5},{"$f":"AT10","v":8}]
[11,2345,21,2356,21,2359,null,null,null,null,0,122,null,null,"% target"]
[22,2484,23,2491,23,2515,null,null,null,null,0,222,null,null,"CCRF"]
[11,2614,21,2628,21,2632,null,null,null,null,0,122,null,null,"% CCRf"]
[22,2743,23,2749,23,2756,null,null,null,null,0,222,null,null,"average response rate",{"$f":"F16/P20","v":115.4},{"$f":"(F26-F16)/Q20","v":136.1},{"$f":"(F35-F26)/R20","v":124.11111111111111},{"$f":"(F45-F35)/S20","v":149.80000000000001},{"$f":"(F55-F45)/T20","v":138.4},{"$f":"(F65-F55)/U20","v":134}]
[22,2863,23,2874,23,2880,null,null,null,null,0,222]
[22,2985,23,2990,23,2993,null,null,null,null,0,222]
[11,3093,21,3105,21,3109,null,null,null,null,0,122]
[11,3237,21,3248,21,3251,null,null,null,null,0,122]
[11,3344,21,3358,21,3363,null,null,null,null,0,122]
[11,3456,21,3463,21,3471,null,null,null,null,0,122]
[11,3610,21,3623,21,3632,null,null,null,null,0,122]
[11,3802,21,3810,21,3816,null,null,null,null,0,122]
[11,3971,21,3980,21,3987,null,null,null,null,0,122]
[22,4127,23,4131,23,4138,null,null,null,null,0,222]
[11,4249,21,4256,21,4259,null,null,null,null,0,122]
[11,4376,21,4391,21,4395,null,null,null,null,0,122]
[11,4563,21,4570,21,4578,null,null,null,null,0,122]
[11,4673,21,4696,21,4701,null,null,null,null,0,122]
[22,4850,23,4855,23,4874,null,null,null,null,0,222]
[11,4978,21,4986,21,4989,null,null,null,null,0,122]
[11,5109,21,5124,21,5130,null,null,null,null,0,122]
[11,5295,21,5308,21,5317,null,null,null,null,0,122]
[22,5433,23,5437,23,5443,null,null,null,null,0,222]
[22,5582,23,5586,23,5595,null,null,null,null,0,222]
[11,5691,21,5703,21,5706,null,null,null,null,0,122]
[22,5819,23,5823,23,5830,null,null,null,null,0,222]
[11,5935,21,5948,21,5954,null,null,null,null,0,122]
[22,6091,23,6103,23,6114,null,null,null,null,0,222]
[11,6211,21,6229,21,6234,null,null,null,null,0,122]
[11,6349,12,6380,14,6385,null,null,null,null,0,111]
[11,6489,21,6501,21,6514,null,null,null,null,0,122]
[11,6619,21,6634,21,6643,null,null,null,null,0,122]
[11,6799,21,6813,21,6817,null,null,null,null,0,122]
[22,6920,23,6926,23,6937,null,null,null,null,0,222]
[11,7037,21,7047,21,7051,null,null,null,null,0,122]
[11,7177,21,7195,21,7200,null,null,null,null,0,122]
[11,7317,21,7335,21,7343,null,null,null,null,0,122]
[11,7447,21,7462,21,7465,null,null,null,null,0,122]
[11,7569,21,7585,21,7601,null,null,null,null,0,122]
[22,7716,23,7722,23,7727,null,null,null,null,0,222]
[11,7836,21,7847,21,7854,null,null,null,null,1,122]

{"sheet":"!LB24A03..Ta","index":18,"n_rows":112,"n_cols":48,"rows_kept":112,"cut":false,"hidden":false,"merged":[[4,39,4,42],[5,39,5,40],[4,44,4,47],[5,44,5,45],[4,24,4,27],[5,24,5,25],[4,29,4,32],[5,29,5,30],[4,34,4,37],[5,34,5,35],[1,1,1,2],[5,13,5,14],[18,13,18,14],[19,13,19,14],[4,19,4,22],[5,19,5,20]]}
["Report for:!LB24A03..Ta"]
["Date:","<date>"]
["Hen:","<hen>",null,null,null,"Correct Sequence",{"$f":"Start!J2","v":122},null,null,null,null,null,null,null,null,"Total Sequences in Data",{"$f":"4994-COUNTBLANK(L7:L5000)","v":106},null,null,null,null,"Total Sequences in Block Data",{"$f":"COUNTA(L7:L24)","v":18},null,null,null,"Total Sequences in Block Data",{"$f":"COUNTA(L25:L41)","v":17},null,null,null,"Total Sequences in Block Data",{"$f":"COUNTA(L42:L59)","v":18},null,null,null,"Total Sequences in Block Data",{"$f":"COUNTA(L60:L77)","v":18},null,null,null,"Total Sequences in Block Data",{"$f":"COUNTA(L78:L94)","v":17},null,null,null,"Total Sequences in Block Data",{"$f":"COUNTA(L95:L112)","v":18}]
[null,null,null,null,null,null,null,null,null,null,null,null,null,null,null,"Total Sequences in Summary",{"$f":"SUM(O7:O14)","v":106},null,null,null,null,"Total Sequences in Block Summary",{"$f":"SUM(U7:U14)","v":18},null,null,null,"Total Sequences in Block Summary",{"$f":"SUM(Z7:Z14)","v":17},null,null,null,"Total Sequences in Block Summary",{"$f":"SUM(AE7:AE14)","v":18},null,null,null,"Total Sequences in Block Summary",{"$f":"SUM(AJ7:AJ14)","v":18},null,null,null,"Total Sequences in Block Summary",{"$f":"SUM(AO7:AO14)","v":17},null,null,null,"Total Sequences in Block Summary",{"$f":"SUM(AT7:AT14)","v":18}]
[null,null,null,null,null,null,null,null,null,null,null,null,null,null,null,null,null,null,null,"Block 1",null,null,null,null,"Block 2",null,null,null,null,"Block 3",null,null,null,null,"Block 4",null,null,null,null,"Block 5",null,null,null,null,"Block 6"]
["Sequence\nComponent\n1","Time\n1","Sequence\nComponent\n2","Time\n2","Sequence\nComponent\n3","Time\n3","Sequence\nComponent\n4","Time\n4","Sequence\nComponent\n5","Time\n5","Correct?\n0=No 1=Yes","Sequence",null,"Frequency",null,"Relative Frequency","Variability",null,null,"Frequency",null,"Relative Frequency","Variability",null,"Frequency",null,"Relative Frequency","Variability",null,"Frequency",null,"Relative Frequency","Variability",null,"Frequency",null,"Relative Frequency","Variability",null,"Frequency",null,"Relative Frequency","Variability",null,"Frequency",null,"Relative Frequency","Variability"]
[22,12,23,17,23,19,null,null,null,null,0,222,null,111,{"$f":"COUNTIF($L$7:$L$500,N7)","v":0},{"$f":"O7/$Q$4","v":0},{"$f":"IF(P7=0,0,(P7*((LOG(P7))/LOG(2))))","v":0},null,null,{"$f":"N7","v":111},{"$f":"COUNTIF(L7:L24,T7)","v":0},{"$f":"U7/(W4-U10)","v":0},{"$f":"IF(V7=0,0,(V7*((LOG(V7))/LOG(2))))","v":0},null,{"$f":"N7","v":111},{"$f":"COUNTIF(L25:L41,Y7)","v":0},{"$f":"Z7/(AB4-Z10)","v":0},{"$f":"IF(AA7=0,0,(AA7*((LOG(AA7))/LOG(2))))","v":0},null,{"$f":"N7","v":111},{"$f":"COUNTIF(L42:L59,AD7)","v":0},{"$f":"AE7/(AG4-AE10)","v":0},{"$f":"IF(AF7=0,0,(AF7*((LOG(AF7))/LOG(2))))","v":0},null,{"$f":"N7","v":111},{"$f":"COUNTIF(L60:L77,AI7)","v":0},{"$f":"AJ7/(AL4-AJ10)","v":0},{"$f":"IF(AK7=0,0,(AK7*((LOG(AK7))/LOG(2))))","v":0},null,{"$f":"N7","v":111},{"$f":"COUNTIF(L78:L94,AN7)","v":0},{"$f":"AO7/(AQ4-AO10)","v":0},{"$f":"IF(AP7=0,0,(AP7*((LOG(AP7))/LOG(2))))","v":0},null,{"$f":"N7","v":111},{"$f":"COUNTIF(L95:L112,AS7)","v":0},{"$f":"AT7/(AV4-AT10)","v":0},{"$f":"IF(AU7=0,0,(AU7*((LOG(AU7))/LOG(2))))","v":0}]
[22,133,23,140,23,145,null,null,null,null,0,222,null,112,{"$f":"COUNTIF($L$7:$L$500,N8)","v":0},{"$f":"O8/$Q$4","v":0},{"$f":"IF(P8=0,0,(P8*((LOG(P8))/LOG(2))))","v":0},null,null,{"$f":"N8","v":112},{"$f":"COUNTIF(L7:L24,T8)","v":0},{"$f":"U8/(W4-U10)","v":0},{"$f":"IF(V8=0,0,(V8*((LOG(V8))/LOG(2))))","v":0},null,{"$f":"N8","v":112},{"$f":"COUNTIF(L25:L41,Y8)","v":0},{"$f":"Z8/(AB4-Z10)","v":0},{"$f":"IF(AA8=0,0,(AA8*((LOG(AA8))/LOG(2))))","v":0},null,{"$f":"N8","v":112},{"$f":"COUNTIF(L42:L59,AD8)","v":0},{"$f":"AE8/(AG4-AE10)","v":0},{"$f":"IF(AF8=0,0,(AF8*((LOG(AF8))/LOG(2))))","v":0},null,{"$f":"N8","v":112},{"$f":"COUNTIF(L60:L77,AI8)","v":0},{"$f":"AJ8/(AL4-AJ10)","v":0},{"$f":"IF(AK8=0,0,(AK8*((LOG(AK8))/LOG(2))))","v":0},null,{"$f":"N8","v":112},{"$f":"COUNTIF(L78:L94,AN8)","v":0},{"$f":"AO8/(AQ4-AO10)","v":0},{"$f":"IF(AP8=0,0,(AP8*((LOG(AP8))/LOG(2))))","v":0},null,{"$f":"N8","v":112},{"$f":"COUNTIF(L95:L112,AS8)","v":0},{"$f":"AT8/(AV4-AT10)","v":0},{"$f":"IF(AU8=0,0,(AU8*((LOG(AU8))/LOG(2))))","v":0}]
[22,255,23,261,23,267,null,null,null,null,0,222,null,121,{"$f":"COUNTIF($L$7:$L$500,N9)","v":0},{"$f":"O9/$Q$4","v":0},{"$f":"IF(P9=0,0,(P9*((LOG(P9))/LOG(2))))","v":0},null,null,{"$f":"N9","v":121},{"$f":"COUNTIF(L7:L24,T9)","v":0},{"$f":"U9/(W4-U10)","v":0},{"$f":"IF(V9=0,0,(V9*((LOG(V9))/LOG(2))))","v":0},null,{"$f":"N9","v":121},{"$f":"COUNTIF(L25:L41,Y9)","v":0},{"$f":"Z9/(AB4-Z10)","v":0},{"$f":"IF(AA9=0,0,(AA9*((LOG(AA9))/LOG(2))))","v":0},null,{"$f":"N9","v":121},{"$f":"COUNTIF(L42:L59,AD9)","v":0},{"$f":"AE9/(AG4-AE10)","v":0},{"$f":"IF(AF9=0,0,(AF9*((LOG(AF9))/LOG(2))))","v":0},null,{"$f":"N9","v":121},{"$f":"COUNTIF(L60:L77,AI9)","v":0},{"$f":"AJ9/(AL4-AJ10)","v":0},{"$f":"IF(AK9=0,0,(AK9*((LOG(AK9))/LOG(2))))","v":0},null,{"$f":"N9","v":121},{"$f":"COUNTIF(L78:L94,AN9)","v":0},{"$f":"AO9/(AQ4-AO10)","v":0},{"$f":"IF(AP9=0,0,(AP9*((LOG(AP9))/LOG(2))))","v":0},null,{"$f":"N9","v":121},{"$f":"COUNTIF(L95:L112,AS9)","v":0},{"$f":"AT9/(AV4-AT10)","v":0},{"$f":"IF(AU9=0,0,(AU9*((LOG(AU9))/LOG(2))))","v":0}]
[22,393,23,402,23,447,null,null,null,null,0,222,null,122,{"$f":"COUNTIF($L$7:$L$500,N10)","v":0},{"$f":"O10/$Q$4","v":0},{"$f":"IF(P10=0,0,(P10*((LOG(P10))/LOG(2))))","v":0},null,null,{"$f":"N10","v":122},{"$f":"COUNTIF(L7:L24,T10)","v":0},null,null,null,{"$f":"N10","v":122},{"$f":"COUNTIF(L25:L41,Y10)","v":0},null,null,null,{"$f":"N10","v":122},{"$f":"COUNTIF(L42:L59,AD10)","v":0},null,null,null,{"$f":"N10","v":122},{"$f":"COUNTIF(L60:L77,AI10)","v":0},null,null,null,{"$f":"N10","v":122},{"$f":"COUNTIF(L78:L94,AN10)","v":0},null,null,null,{"$f":"N10","v":122},{"$f":"COUNTIF(L95:L112,AS10)","v":0}]
[22,588,23,602,23,609,null,null,null,null,0,222,null,211,{"$f":"COUNTIF($L$7:$L$500,N11)","v":0},{"$f":"O11/$Q$4","v":0},{"$f":"IF(P11=0,0,(P11*((LOG(P11))/LOG(2))))","v":0},null,null,{"$f":"N11","v":211},{"$f":"COUNTIF(L7:L24,T11)","v":0},{"$f":"U11/(W4-U10)","v":0},{"$f":"IF(V11=0,0,(V11*((LOG(V11))/LOG(2))))","v":0},null,{"$f":"N11","v":211},{"$f":"COUNTIF(L25:L41,Y11)","v":0},{"$f":"Z11/(AB4-Z10)","v":0},{"$f":"IF(AA11=0,0,(AA11*((LOG(AA11))/LOG(2))))","v":0},null,{"$f":"N11","v":211},{"$f":"COUNTIF(L42:L59,AD11)","v":0},{"$f":"AE11/(AG4-AE10)","v":0},{"$f":"IF(AF11=0,0,(AF11*((LOG(AF11))/LOG(2))))","v":0},null,{"$f":"N11","v":211},{"$f":"COUNTIF(L60:L77,AI11)","v":0},{"$f":"AJ11/(AL4-AJ10)","v":0},{"$f":"IF(AK11=0,0,(AK11*((LOG(AK11))/LOG(2))))","v":0},null,{"$f":"N11","v":211},{"$f":"COUNTIF(L78:L94,AN11)","v":0},{"$f":"AO11/(AQ4-AO10)","v":0},{"$f":"IF(AP11=0,0,(AP11*((LOG(AP11))/LOG(2))))","v":0},null,{"$f":"N11","v":211},{"$f":"COUNTIF(L95:L112,AS11)","v":0},{"$f":"AT11/(AV4-AT10)","v":0},{"$f":"IF(AU11=0,0,(AU11*((LOG(AU11))/LOG(2))))","v":0}]
[22,726,23,741,23,788,null,null,null,null,0,222,null,212,{"$f":"COUNTIF($L$7:$L$500,N12)","v":0},{"$f":"O12/$Q$4","v":0},{"$f":"IF(P12=0,0,(P12*((LOG(P12))/LOG(2))))","v":0},null,null,{"$f":"N12","v":212},{"$f":"COUNTIF(L7:L24,T12)","v":0},{"$f":"U12/(W4-U10)","v":0},{"$f":"IF(V12=0,0,(V12*((LOG(V12))/LOG(2))))","v":0},null,{"$f":"N12","v":212},{"$f":"COUNTIF(L25:L41,Y12)","v":0},{"$f":"Z12/(AB4-Z10)","v":0},{"$f":"IF(AA12=0,0,(AA12*((LOG(AA12))/LOG(2))))","v":0},null,{"$f":"N12","v":212},{"$f":"COUNTIF(L42:L59,AD12)","v":0},{"$f":"AE12/(AG4-AE10)","v":0},{"$f":"IF(AF12=0,0,(AF12*((LOG(AF12))/LOG(2))))","v":0},null,{"$f":"N12","v":212},{"$f":"COUNTIF(L60:L77,AI12)","v":0},{"$f":"AJ12/(AL4-AJ10)","v":0},{"$f":"IF(AK12=0,0,(AK12*((LOG(AK12))/LOG(2))))","v":0},null,{"$f":"N12","v":212},{"$f":"COUNTIF(L78:L94,AN12)","v":0},{"$f":"AO12/(AQ4-AO10)","v":0},{"$f":"IF(AP12=0,0,(AP12*((LOG(AP12))/LOG(2))))","v":0},null,{"$f":"N12","v":212},{"$f":"COUNTIF(L95:L112,AS12)","v":0},{"$f":"AT12/(AV4-AT10)","v":0},{"$f":"IF(AU12=0,0,(AU12*((LOG(AU12))/LOG(2))))","v":0}]
[22,1214,23,1218,23,1222,null,null,null,null,0,222,null,221,{"$f":"COUNTIF($L$7:$L$500,N13)","v":0},{"$f":"O13/$Q$4","v":0},{"$f":"IF(P13=0,0,(P13*((LOG(P13))/LOG(2))))","v":0},null,null,{"$f":"N13","v":221},{"$f":"COUNTIF(L7:L24,T13)","v":0},{"$f":"U13/(W4-U10)","v":0},{"$f":"IF(V13=0,0,(V13*((LOG(V13))/LOG(2))))","v":0},null,{"$f":"N13","v":221},{"$f":"COUNTIF(L25:L41,Y13)","v":0},{"$f":"Z13/(AB4-Z10)","v":0},{"$f":"IF(AA13=0,0,(AA13*((LOG(AA13))/LOG(2))))","v":0},null,{"$f":"N13","v":221},{"$f":"COUNTIF(L42:L59,AD13)","v":0},{"$f":"AE13/(AG4-AE10)","v":0},{"$f":"IF(AF13=0,0,(AF13*((LOG(AF13))/LOG(2))))","v":0},null,{"$f":"N13","v":221},{"$f":"COUNTIF(L60:L77,AI13)","v":0},{"$f":"AJ13/(AL4-AJ10)","v":0},{"$f":"IF(AK13=0,0,(AK13*((LOG(AK13))/LOG(2))))","v":0},null,{"$f":"N13","v":221},{"$f":"COUNTIF(L78:L94,AN13)","v":0},{"$f":"AO13/(AQ4-AO10)","v":0},{"$f":"IF(AP13=0,0,(AP13*((LOG(AP13))/LOG(2))))","v":0},null,{"$f":"N13","v":221},{"$f":"COUNTIF(L95:L112,AS13)","v":0},{"$f":"AT13/(AV4-AT10)","v":0},{"$f":"IF(AU13=0,0,(AU13*((LOG(AU13))/LOG(2))))","v":0}]
[22,1346,23,1349,23,1354,null,null,null,null,0,222,null,222,{"$f":"COUNTIF($L$7:$L$500,N14)","v":106},{"$f":"O14/$Q$4","v":1},{"$f":"IF(P14=0,0,(P14*((LOG(P14))/LOG(2))))","v":0},null,null,{"$f":"N14","v":222},{"$f":"COUNTIF(L7:L24,T14)","v":18},{"$f":"U14/(W4-U10)","v":1},{"$f":"IF(V14=0,0,(V14*((LOG(V14))/LOG(2))))","v":0},null,{"$f":"N14","v":222},{"$f":"COUNTIF(L25:L41,Y14)","v":17},{"$f":"Z14/(AB4-Z10)","v":1},{"$f":"IF(AA14=0,0,(AA14*((LOG(AA14))/LOG(2))))","v":0},null,{"$f":"N14","v":222},{"$f":"COUNTIF(L42:L59,AD14)","v":18},{"$f":"AE14/(AG4-AE10)","v":1},{"$f":"IF(AF14=0,0,(AF14*((LOG(AF14))/LOG(2))))","v":0},null,{"$f":"N14","v":222},{"$f":"COUNTIF(L60:L77,AI14)","v":18},{"$f":"AJ14/(AL4-AJ10)","v":1},{"$f":"IF(AK14=0,0,(AK14*((LOG(AK14))/LOG(2))))","v":0},null,{"$f":"N14","v":222},{"$f":"COUNTIF(L78:L94,AN14)","v":17},{"$f":"AO14/(AQ4-AO10)","v":1},{"$f":"IF(AP14=0,0,(AP14*((LOG(AP14))/LOG(2))))","v":0},null,{"$f":"N14","v":222},{"$f":"COUNTIF(L95:L112,AS14)","v":18},{"$f":"AT14/(AV4-AT10)","v":1},{"$f":"IF(AU14=0,0,(AU14*((LOG(AU14))/LOG(2))))","v":0}]
[22,1484,23,1494,23,1498,null,null,null,null,0,222,null,null,null,{"$f":"SUM(P7:P14)","v":1},{"$f":"-SUM(Q7:Q14)","v":0},null,null,null,null,{"$f":"SUM(V7:V14)","v":1},{"$f":"-SUM(W7:W14)","v":0},null,null,null,{"$f":"SUM(AA7:AA14)","v":1},{"$f":"-SUM(AB7:AB14)","v":0},null,null,null,{"$f":"SUM(AF7:AF14)","v":1},{"$f":"-SUM(AG7:AG14)","v":0},null,null,null,{"$f":"SUM(AK7:AK14)","v":1},{"$f":"-SUM(AL7:AL14)","v":0},null,null,null,{"$f":"SUM(AP7:AP14)","v":1},{"$f":"-SUM(AQ7:AQ14)","v":0},null,null,null,{"$f":"SUM(AU7:AU14)","v":1},{"$f":"-SUM(AV7:AV14)","v":0}]
[22,1625,23,1630,23,1637,null,null,null,null,0,222,null,null,null,"U=",{"$f":"Q15/(LOG(Q4)/LOG(2))","v":0},null,null,null,null,"U1=",{"$f":"W15/(LOG(W4)/LOG(2))","v":0},null,null,null,"U2=",{"$f":"AB15/(LOG(AB4)/LOG(2))","v":0},null,null,null,"U3=",{"$f":"AG15/(LOG(AG4)/LOG(2))","v":0},null,null,null,"U4=",{"$f":"AL15/(LOG(AL4)/LOG(2))","v":0},null,null,null,"U5=",{"$f":"AQ15/(LOG(AQ4)/LOG(2))","v":0},null,null,null,"U6=",{"$f":"AV15/(LOG(AV4)/LOG(2))","v":0}]
[22,1757,23,1760,23,1764,null,null,null,null,0,222]
[22,1885,23,1888,23,1896,null,null,null,null,0,222]
[22,2011,23,2017,23,2027,null,null,null,null,0,222,null,"Total Target Seq"]
[22,2149,23,2152,23,2158,null,null,null,null,0,222,null,{"$f":"COUNTIF(L7:L112,G3)","v":0},null,18,17,18,18,17,18]
[22,2280,23,2283,23,2286,null,null,null,null,0,222,null,null,null,"% of reinforcement given in 6 equal intervals based on number of trials "]
[22,2395,23,2434,23,2438,null,null,null,null,0,222,null,null,null,"%_1","%_2","%_3","%_4","%_5","%_6"]
[22,2558,23,2561,23,2565,null,null,null,null,0,222,null,null,"target sequence",{"$f":"$G$3","v":122},{"$f":"$G$3","v":122},{"$f":"$G$3","v":122},{"$f":"$G$3","v":122},{"$f":"$G$3","v":122},{"$f":"$G$3","v":122}]
[22,2687,23,2691,23,2698,null,null,null,null,0,222,null,null,"total reinforcement",{"$f":"U10","v":0},{"$f":"Z10","v":0},{"$f":"AE10","v":0},{"$f":"AJ10","v":0},{"$f":"AO10","v":0},{"$f":"AT10","v":0}]
[22,2825,23,2833,23,2868,null,null,null,null,0,222,null,null,"% target"]
[22,2997,23,3004,23,3010,null,null,null,null,0,222,null,null,"CCRF"]
[22,3149,23,3152,23,3158,null,null,null,null,0,222,null,null,"% CCRf"]
[22,3299,23,3304,23,3312,null,null,null,null,0,222,null,null,"average response rate",{"$f":"F24/P20","v":149.88888888888889},{"$f":"(F41-F24)/Q20","v":131.05882352941177},{"$f":"(F59-F41)/R20","v":139.77777777777777},{"$f":"(F77-F59)/S20","v":139.94444444444446},{"$f":"(F94-F77)/T20","v":146.94117647058823},{"$f":"(F112-F94)/U20","v":626.66666666666663}]
[22,3420,23,3423,23,3427,null,null,null,null,0,222]
[22,3540,23,3543,23,3551,null,null,null,null,0,222]
[22,3675,23,3678,23,3684,null,null,null,null,0,222]
[22,3801,23,3807,23,3812,null,null,null,null,0,222]
[22,3925,23,3927,23,3934,null,null,null,null,0,222]
[22,4060,23,4063,23,4075,null,null,null,null,0,222]
[22,4186,23,4190,23,4194,null,null,null,null,0,222]
[22,4306,23,4310,23,4316,null,null,null,null,0,222]
[22,4446,23,4449,23,4455,null,null,null,null,0,222]
[22,4565,23,4569,23,4573,null,null,null,null,0,222]
[22,4690,23,4693,23,4697,null,null,null,null,0,222]
[22,4807,23,4810,23,4814,null,null,null,null,0,222]
[22,4917,23,4923,23,4926,null,null,null,null,0,222]
[22,5060,23,5063,23,5069,null,null,null,null,0,222]
[22,5192,23,5196,23,5202,null,null,null,null,0,222]
[22,5340,23,5345,23,5351,null,null,null,null,0,222]
[22,5488,23,5490,23,5494,null,null,null,null,0,222]
[22,5622,23,5627,23,5637,null,null,null,null,0,222]
[22,5767,23,5776,23,5796,null,null,null,null,0,222]
[22,5929,23,5934,23,5938,null,null,null,null,0,222]
[22,6067,23,6072,23,6077,null,null,null,null,0,222]
[22,6189,23,6195,23,6198,null,null,null,null,0,222]
[22,6303,23,6317,23,6330,null,null,null,null,0,222]
[22,6456,23,6459,23,6464,null,null,null,null,0,222]
[22,6595,23,6609,23,6615,null,null,null,null,0,222]
[22,6729,23,6732,23,6736,null,null,null,null,0,222]
[22,6862,23,6869,23,6876,null,null,null,null,0,222]
[22,7012,23,7015,23,7028,null,null,null,null,0,222]
[22,7162,23,7169,23,7175,null,null,null,null,0,222]
[22,7300,23,7303,23,7309,null,null,null,null,0,222]
[22,7428,23,7437,23,7442,null,null,null,null,0,222]
[22,7562,23,7570,23,7576,null,null,null,null,0,222]
[22,7708,23,7712,23,7719,null,null,null,null,0,222]
[22,7851,23,7854,23,7863,null,null,null,null,0,222]
[22,7990,23,7993,23,7997,null,null,null,null,0,222]
[22,8134,23,8137,23,8142,null,null,null,null,0,222]
[22,8250,23,8268,23,8271,null,null,null,null,0,222]
[22,8405,23,8408,23,8413,null,null,null,null,0,222]
[22,8535,23,8539,23,8544,null,null,null,null,0,222]
[22,8672,23,8675,23,8679,null,null,null,null,0,222]
[22,8796,23,8799,23,8802,null,null,null,null,0,222]
[22,8935,23,8944,23,8950,null,null,null,null,0,222]
[22,9065,23,9073,23,9075,null,null,null,null,0,222]
[22,9229,23,9232,23,9237,null,null,null,null,0,222]
[22,9397,23,9405,23,9408,null,null,null,null,0,222]
[22,9536,23,9544,23,9550,null,null,null,null,0,222]
[22,9688,23,9689,23,9692,null,null,null,null,0,222]
[22,9814,23,9818,23,9821,null,null,null,null,0,222]
[22,9950,23,9956,23,9961,null,null,null,null,0,222]
[22,10106,23,10111,23,10114,null,null,null,null,0,222]
[22,10247,23,10259,23,10266,null,null,null,null,0,222]
[22,10415,23,10419,23,10422,null,null,null,null,0,222]
[22,10546,23,10549,23,10553,null,null,null,null,0,222]
[22,10700,23,10707,23,10713,null,null,null,null,0,222]
[22,10839,23,10843,23,10847,null,null,null,null,0,222]
[22,10962,23,10969,23,10974,null,null,null,null,0,222]
[22,11082,23,11105,23,11108,null,null,null,null,0,222]
[22,11243,23,11246,23,11249,null,null,null,null,0,222]
[22,11373,23,11376,23,11380,null,null,null,null,0,222]
[22,11536,23,11539,23,11548,null,null,null,null,0,222]
[22,11692,23,11699,23,11703,null,null,null,null,0,222]
[22,11835,23,11838,23,11842,null,null,null,null,0,222]
[22,11990,23,11993,23,11997,null,null,null,null,0,222]
[22,12165,23,12170,23,12177,null,null,null,null,0,222]
[22,12311,23,12316,23,12324,null,null,null,null,0,222]
[22,12451,23,12455,23,12459,null,null,null,null,0,222]
[22,12589,23,12592,23,12596,null,null,null,null,0,222]
[22,12750,23,12752,23,12756,null,null,null,null,0,222]
[22,12921,23,12926,23,12929,null,null,null,null,0,222]
[22,13111,23,13115,23,13120,null,null,null,null,0,222]
[22,13258,23,13262,23,13270,null,null,null,null,0,222]
[22,13438,23,13449,23,13454,null,null,null,null,0,222]
[22,13720,23,14416,23,14426,null,null,null,null,0,222]
[22,14685,23,15075,23,15079,null,null,null,null,0,222]
[22,15309,23,15311,23,15315,null,null,null,null,0,222]
[22,15462,23,15494,23,15497,null,null,null,null,0,222]
[22,16583,23,16591,23,16597,null,null,null,null,0,222]
[22,16750,23,16754,23,16758,null,null,null,null,0,222]
[22,16936,23,16942,23,16952,null,null,null,null,0,222]
[22,17465,23,17483,23,17490,null,null,null,null,0,222]
[22,17626,23,17631,23,17638,null,null,null,null,0,222]
[22,18620,23,18622,23,18625,null,null,null,null,0,222]
[22,21440,23,21446,23,21448,null,null,null,null,0,222]
[22,21550,23,23736,23,23739,null,null,null,null,0,222]

{"sheet":"!LB25953..Ta","index":19,"n_rows":99,"n_cols":48,"rows_kept":99,"cut":false,"hidden":false,"merged":[[4,39,4,42],[5,39,5,40],[4,44,4,47],[5,44,5,45],[4,24,4,27],[5,24,5,25],[4,29,4,32],[5,29,5,30],[4,34,4,37],[5,34,5,35],[1,1,1,2],[5,13,5,14],[18,13,18,14],[19,13,19,14],[4,19,4,22],[5,19,5,20]]}
["Report for:!LB25953..Ta"]
["Date:","<date>"]
["Hen:","<hen>",null,null,null,"Correct Sequence",{"$f":"Start!J2","v":122},null,null,null,null,null,null,null,null,"Total Sequences in Data",{"$f":"4994-COUNTBLANK(L7:L5000)","v":93},null,null,null,null,"Total Sequences in Block Data",{"$f":"COUNTA(L7:L22)","v":16},null,null,null,"Total Sequences in Block Data",{"$f":"COUNTA(L23:L37)","v":15},null,null,null,"Total Sequences in Block Data",{"$f":"COUNTA(L38:L53)","v":16},null,null,null,"Total Sequences in Block Data",{"$f":"COUNTA(L54:L68)","v":15},null,null,null,"Total Sequences in Block Data",{"$f":"COUNTA(L69:L84)","v":16},null,null,null,"Total Sequences in Block Data",{"$f":"COUNTA(L85:L99)","v":15}]
[null,null,null,null,null,null,null,null,null,null,null,null,null,null,null,"Total Sequences in Summary",{"$f":"SUM(O7:O14)","v":93},null,null,null,null,"Total Sequences in Block Summary",{"$f":"SUM(U7:U14)","v":16},null,null,null,"Total Sequences in Block Summary",{"$f":"SUM(Z7:Z14)","v":15},null,null,null,"Total Sequences in Block Summary",{"$f":"SUM(AE7:AE14)","v":16},null,null,null,"Total Sequences in Block Summary",{"$f":"SUM(AJ7:AJ14)","v":15},null,null,null,"Total Sequences in Block Summary",{"$f":"SUM(AO7:AO14)","v":16},null,null,null,"Total Sequences in Block Summary",{"$f":"SUM(AT7:AT14)","v":15}]
[null,null,null,null,null,null,null,null,null,null,null,null,null,null,null,null,null,null,null,"Block 1",null,null,null,null,"Block 2",null,null,null,null,"Block 3",null,null,null,null,"Block 4",null,null,null,null,"Block 5",null,null,null,null,"Block 6"]
["Sequence\nComponent\n1","Time\n1","Sequence\nComponent\n2","Time\n2","Sequence\nComponent\n3","Time\n3","Sequence\nComponent\n4","Time\n4","Sequence\nComponent\n5","Time\n5","Correct?\n0=No 1=Yes","Sequence",null,"Frequency",null,"Relative Frequency","Variability",null,null,"Frequency",null,"Relative Frequency","Variability",null,"Frequency",null,"Relative Frequency","Variability",null,"Frequency",null,"Relative Frequency","Variability",null,"Frequency",null,"Relative Frequency","Variability",null,"Frequency",null,"Relative Frequency","Variability",null,"Frequency",null,"Relative Frequency","Variability"]
[22,16,23,19,23,23,null,null,null,null,0,222,null,111,{"$f":"COUNTIF($L$7:$L$500,N7)","v":3},{"$f":"O7/$Q$4","v":3.2258064516129031E-2},{"$f":"IF(P7=0,0,(P7*((LOG(P7))/LOG(2))))","v":-0.15981278420602821},null,null,{"$f":"N7","v":111},{"$f":"COUNTIF(L7:L22,T7)","v":3},{"$f":"U7/(W4-U10)","v":0.3},{"$f":"IF(V7=0,0,(V7*((LOG(V7))/LOG(2))))","v":-0.52108967824986185},null,{"$f":"N7","v":111},{"$f":"COUNTIF(L23:L37,Y7)","v":0},{"$f":"Z7/(AB4-Z10)","v":0},{"$f":"IF(AA7=0,0,(AA7*((LOG(AA7))/LOG(2))))","v":0},null,{"$f":"N7","v":111},{"$f":"COUNTIF(L38:L53,AD7)","v":0},{"$f":"AE7/(AG4-AE10)","v":0},{"$f":"IF(AF7=0,0,(AF7*((LOG(AF7))/LOG(2))))","v":0},null,{"$f":"N7","v":111},{"$f":"COUNTIF(L54:L68,AI7)","v":0},{"$f":"AJ7/(AL4-AJ10)","v":0},{"$f":"IF(AK7=0,0,(AK7*((LOG(AK7))/LOG(2))))","v":0},null,{"$f":"N7","v":111},{"$f":"COUNTIF(L69:L84,AN7)","v":0},{"$f":"AO7/(AQ4-AO10)","v":0},{"$f":"IF(AP7=0,0,(AP7*((LOG(AP7))/LOG(2))))","v":0},null,{"$f":"N7","v":111},{"$f":"COUNTIF(L85:L99,AS7)","v":0},{"$f":"AT7/(AV4-AT10)","v":0},{"$f":"IF(AU7=0,0,(AU7*((LOG(AU7))/LOG(2))))","v":0}]
[11,117,12,118,23,133,null,null,null,null,0,112,null,112,{"$f":"COUNTIF($L$7:$L$500,N8)","v":4},{"$f":"O8/$Q$4","v":4.3010752688172046E-2},{"$f":"IF(P8=0,0,(P8*((LOG(P8))/LOG(2))))","v":-0.19523263703690458},null,null,{"$f":"N8","v":112},{"$f":"COUNTIF(L7:L22,T8)","v":1},{"$f":"U8/(W4-U10)","v":0.1},{"$f":"IF(V8=0,0,(V8*((LOG(V8))/LOG(2))))","v":-0.33219280948873625},null,{"$f":"N8","v":112},{"$f":"COUNTIF(L23:L37,Y8)","v":1},{"$f":"Z8/(AB4-Z10)","v":0.1},{"$f":"IF(AA8=0,0,(AA8*((LOG(AA8))/LOG(2))))","v":-0.33219280948873625},null,{"$f":"N8","v":112},{"$f":"COUNTIF(L38:L53,AD8)","v":0},{"$f":"AE8/(AG4-AE10)","v":0},{"$f":"IF(AF8=0,0,(AF8*((LOG(AF8))/LOG(2))))","v":0},null,{"$f":"N8","v":112},{"$f":"COUNTIF(L54:L68,AI8)","v":0},{"$f":"AJ8/(AL4-AJ10)","v":0},{"$f":"IF(AK8=0,0,(AK8*((LOG(AK8))/LOG(2))))","v":0},null,{"$f":"N8","v":112},{"$f":"COUNTIF(L69:L84,AN8)","v":1},{"$f":"AO8/(AQ4-AO10)","v":9.0909090909090912E-2},{"$f":"IF(AP8=0,0,(AP8*((LOG(AP8))/LOG(2))))","v":-0.31449378351248153},null,{"$f":"N8","v":112},{"$f":"COUNTIF(L85:L99,AS8)","v":1},{"$f":"AT8/(AV4-AT10)","v":0.16666666666666666},{"$f":"IF(AU8=0,0,(AU8*((LOG(AU8))/LOG(2))))","v":-0.43082708345352599}]
[22,245,23,248,23,254,null,null,null,null,0,222,null,121,{"$f":"COUNTIF($L$7:$L$500,N9)","v":0},{"$f":"O9/$Q$4","v":0},{"$f":"IF(P9=0,0,(P9*((LOG(P9))/LOG(2))))","v":0},null,null,{"$f":"N9","v":121},{"$f":"COUNTIF(L7:L22,T9)","v":0},{"$f":"U9/(W4-U10)","v":0},{"$f":"IF(V9=0,0,(V9*((LOG(V9))/LOG(2))))","v":0},null,{"$f":"N9","v":121},{"$f":"COUNTIF(L23:L37,Y9)","v":0},{"$f":"Z9/(AB4-Z10)","v":0},{"$f":"IF(AA9=0,0,(AA9*((LOG(AA9))/LOG(2))))","v":0},null,{"$f":"N9","v":121},{"$f":"COUNTIF(L38:L53,AD9)","v":0},{"$f":"AE9/(AG4-AE10)","v":0},{"$f":"IF(AF9=0,0,(AF9*((LOG(AF9))/LOG(2))))","v":0},null,{"$f":"N9","v":121},{"$f":"COUNTIF(L54:L68,AI9)","v":0},{"$f":"AJ9/(AL4-AJ10)","v":0},{"$f":"IF(AK9=0,0,(AK9*((LOG(AK9))/LOG(2))))","v":0},null,{"$f":"N9","v":121},{"$f":"COUNTIF(L69:L84,AN9)","v":0},{"$f":"AO9/(AQ4-AO10)","v":0},{"$f":"IF(AP9=0,0,(AP9*((LOG(AP9))/LOG(2))))","v":0},null,{"$f":"N9","v":121},{"$f":"COUNTIF(L85:L99,AS9)","v":0},{"$f":"AT9/(AV4-AT10)","v":0},{"$f":"IF(AU9=0,0,(AU9*((LOG(AU9))/LOG(2))))","v":0}]
[11,351,21,401,21,406,null,null,null,null,0,122,null,122,{"$f":"COUNTIF($L$7:$L$500,N10)","v":39},{"$f":"O10/$Q$4","v":0.41935483870967744},{"$f":"IF(P10=0,0,(P10*((LOG(P10))/LOG(2))))","v":-0.52576889352242517},null,null,{"$f":"N10","v":122},{"$f":"COUNTIF(L7:L22,T10)","v":6},null,null,null,{"$f":"N10","v":122},{"$f":"COUNTIF(L23:L37,Y10)","v":5},null,null,null,{"$f":"N10","v":122},{"$f":"COUNTIF(L38:L53,AD10)","v":9},null,null,null,{"$f":"N10","v":122},{"$f":"COUNTIF(L54:L68,AI10)","v":5},null,null,null,{"$f":"N10","v":122},{"$f":"COUNTIF(L69:L84,AN10)","v":5},null,null,null,{"$f":"N10","v":122},{"$f":"COUNTIF(L85:L99,AS10)","v":9}]
[11,537,12,540,14,544,null,null,null,null,0,111,null,211,{"$f":"COUNTIF($L$7:$L$500,N11)","v":0},{"$f":"O11/$Q$4","v":0},{"$f":"IF(P11=0,0,(P11*((LOG(P11))/LOG(2))))","v":0},null,null,{"$f":"N11","v":211},{"$f":"COUNTIF(L7:L22,T11)","v":0},{"$f":"U11/(W4-U10)","v":0},{"$f":"IF(V11=0,0,(V11*((LOG(V11))/LOG(2))))","v":0},null,{"$f":"N11","v":211},{"$f":"COUNTIF(L23:L37,Y11)","v":0},{"$f":"Z11/(AB4-Z10)","v":0},{"$f":"IF(AA11=0,0,(AA11*((LOG(AA11))/LOG(2))))","v":0},null,{"$f":"N11","v":211},{"$f":"COUNTIF(L38:L53,AD11)","v":0},{"$f":"AE11/(AG4-AE10)","v":0},{"$f":"IF(AF11=0,0,(AF11*((LOG(AF11))/LOG(2))))","v":0},null,{"$f":"N11","v":211},{"$f":"COUNTIF(L54:L68,AI11)","v":0},{"$f":"AJ11/(AL4-AJ10)","v":0},{"$f":"IF(AK11=0,0,(AK11*((LOG(AK11))/LOG(2))))","v":0},null,{"$f":"N11","v":211},{"$f":"COUNTIF(L69:L84,AN11)","v":0},{"$f":"AO11/(AQ4-AO10)","v":0},{"$f":"IF(AP11=0,0,(AP11*((LOG(AP11))/LOG(2))))","v":0},null,{"$f":"N11","v":211},{"$f":"COUNTIF(L85:L99,AS11)","v":0},{"$f":"AT11/(AV4-AT10)","v":0},{"$f":"IF(AU11=0,0,(AU11*((LOG(AU11))/LOG(2))))","v":0}]
[11,703,21,710,21,714,null,null,null,null,0,122,null,212,{"$f":"COUNTIF($L$7:$L$500,N12)","v":0},{"$f":"O12/$Q$4","v":0},{"$f":"IF(P12=0,0,(P12*((LOG(P12))/LOG(2))))","v":0},null,null,{"$f":"N12","v":212},{"$f":"COUNTIF(L7:L22,T12)","v":0},{"$f":"U12/(W4-U10)","v":0},{"$f":"IF(V12=0,0,(V12*((LOG(V12))/LOG(2))))","v":0},null,{"$f":"N12","v":212},{"$f":"COUNTIF(L23:L37,Y12)","v":0},{"$f":"Z12/(AB4-Z10)","v":0},{"$f":"IF(AA12=0,0,(AA12*((LOG(AA12))/LOG(2))))","v":0},null,{"$f":"N12","v":212},{"$f":"COUNTIF(L38:L53,AD12)","v":0},{"$f":"AE12/(AG4-AE10)","v":0},{"$f":"IF(AF12=0,0,(AF12*((LOG(AF12))/LOG(2))))","v":0},null,{"$f":"N12","v":212},{"$f":"COUNTIF(L54:L68,AI12)","v":0},{"$f":"AJ12/(AL4-AJ10)","v":0},{"$f":"IF(AK12=0,0,(AK12*((LOG(AK12))/LOG(2))))","v":0},null,{"$f":"N12","v":212},{"$f":"COUNTIF(L69:L84,AN12)","v":0},{"$f":"AO12/(AQ4-AO10)","v":0},{"$f":"IF(AP12=0,0,(AP12*((LOG(AP12))/LOG(2))))","v":0},null,{"$f":"N12","v":212},{"$f":"COUNTIF(L85:L99,AS12)","v":0},{"$f":"AT12/(AV4-AT10)","v":0},{"$f":"IF(AU12=0,0,(AU12*((LOG(AU12))/LOG(2))))","v":0}]
[11,864,12,872,14,877,null,null,null,null,0,111,null,221,{"$f":"COUNTIF($L$7:$L$500,N13)","v":0},{"$f":"O13/$Q$4","v":0},{"$f":"IF(P13=0,0,(P13*((LOG(P13))/LOG(2))))","v":0},null,null,{"$f":"N13","v":221},{"$f":"COUNTIF(L7:L22,T13)","v":0},{"$f":"U13/(W4-U10)","v":0},{"$f":"IF(V13=0,0,(V13*((LOG(V13))/LOG(2))))","v":0},null,{"$f":"N13","v":221},{"$f":"COUNTIF(L23:L37,Y13)","v":0},{"$f":"Z13/(AB4-Z10)","v":0},{"$f":"IF(AA13=0,0,(AA13*((LOG(AA13))/LOG(2))))","v":0},null,{"$f":"N13","v":221},{"$f":"COUNTIF(L38:L53,AD13)","v":0},{"$f":"AE13/(AG4-AE10)","v":0},{"$f":"IF(AF13=0,0,(AF13*((LOG(AF13))/LOG(2))))","v":0},null,{"$f":"N13","v":221},{"$f":"COUNTIF(L54:L68,AI13)","v":0},{"$f":"AJ13/(AL4-AJ10)","v":0},{"$f":"IF(AK13=0,0,(AK13*((LOG(AK13))/LOG(2))))","v":0},null,{"$f":"N13","v":221},{"$f":"COUNTIF(L69:L84,AN13)","v":0},{"$f":"AO13/(AQ4-AO10)","v":0},{"$f":"IF(AP13=0,0,(AP13*((LOG(AP13))/LOG(2))))","v":0},null,{"$f":"N13","v":221},{"$f":"COUNTIF(L85:L99,AS13)","v":0},{"$f":"AT13/(AV4-AT10)","v":0},{"$f":"IF(AU13=0,0,(AU13*((LOG(AU13))/LOG(2))))","v":0}]
[11,974,21,988,21,991,null,null,null,null,0,122,null,222,{"$f":"COUNTIF($L$7:$L$500,N14)","v":47},{"$f":"O14/$Q$4","v":0.5053763440860215},{"$f":"IF(P14=0,0,(P14*((LOG(P14))/LOG(2))))","v":-0.49757836659385507},null,null,{"$f":"N14","v":222},{"$f":"COUNTIF(L7:L22,T14)","v":6},{"$f":"U14/(W4-U10)","v":0.6},{"$f":"IF(V14=0,0,(V14*((LOG(V14))/LOG(2))))","v":-0.44217935649972373},null,{"$f":"N14","v":222},{"$f":"COUNTIF(L23:L37,Y14)","v":9},{"$f":"Z14/(AB4-Z10)","v":0.9},{"$f":"IF(AA14=0,0,(AA14*((LOG(AA14))/LOG(2))))","v":-0.13680278410054494},null,{"$f":"N14","v":222},{"$f":"COUNTIF(L38:L53,AD14)","v":7},{"$f":"AE14/(AG4-AE10)","v":1},{"$f":"IF(AF14=0,0,(AF14*((LOG(AF14))/LOG(2))))","v":0},null,{"$f":"N14","v":222},{"$f":"COUNTIF(L54:L68,AI14)","v":10},{"$f":"AJ14/(AL4-AJ10)","v":1},{"$f":"IF(AK14=0,0,(AK14*((LOG(AK14))/LOG(2))))","v":0},null,{"$f":"N14","v":222},{"$f":"COUNTIF(L69:L84,AN14)","v":10},{"$f":"AO14/(AQ4-AO10)","v":0.90909090909090906},{"$f":"IF(AP14=0,0,(AP14*((LOG(AP14))/LOG(2))))","v":-0.12500320340903179},null,{"$f":"N14","v":222},{"$f":"COUNTIF(L85:L99,AS14)","v":5},{"$f":"AT14/(AV4-AT10)","v":0.83333333333333337},{"$f":"IF(AU14=0,0,(AU14*((LOG(AU14))/LOG(2))))","v":-0.21919533819482812}]
[11,1124,12,1133,14,1139,null,null,null,null,0,111,null,null,null,{"$f":"SUM(P7:P14)","v":1},{"$f":"-SUM(Q7:Q14)","v":1.3783926813592131},null,null,null,null,{"$f":"SUM(V7:V14)","v":1},{"$f":"-SUM(W7:W14)","v":1.2954618442383219},null,null,null,{"$f":"SUM(AA7:AA14)","v":1},{"$f":"-SUM(AB7:AB14)","v":0.46899559358928122},null,null,null,{"$f":"SUM(AF7:AF14)","v":1},{"$f":"-SUM(AG7:AG14)","v":0},null,null,null,{"$f":"SUM(AK7:AK14)","v":1},{"$f":"-SUM(AL7:AL14)","v":0},null,null,null,{"$f":"SUM(AP7:AP14)","v":1},{"$f":"-SUM(AQ7:AQ14)","v":0.43949698692151329},null,null,null,{"$f":"SUM(AU7:AU14)","v":1},{"$f":"-SUM(AV7:AV14)","v":0.65002242164835411}]
[22,1253,23,1257,23,1266,null,null,null,null,0,222,null,null,null,"U=",{"$f":"Q15/(LOG(Q4)/LOG(2))","v":0.21079051926644532},null,null,null,null,"U1=",{"$f":"W15/(LOG(W4)/LOG(2))","v":0.32386546105958047},null,null,null,"U2=",{"$f":"AB15/(LOG(AB4)/LOG(2))","v":0.12004318577961938},null,null,null,"U3=",{"$f":"AG15/(LOG(AG4)/LOG(2))","v":0},null,null,null,"U4=",{"$f":"AL15/(LOG(AL4)/LOG(2))","v":0},null,null,null,"U5=",{"$f":"AQ15/(LOG(AQ4)/LOG(2))","v":0.10987424673037832},null,null,null,"U6=",{"$f":"AV15/(LOG(AV4)/LOG(2))","v":0.16637845512720575}]
[11,1361,21,1374,21,1377,null,null,null,null,0,122]
[22,1483,23,1489,23,1493,null,null,null,null,0,222]
[22,1610,23,1612,23,1621,null,null,null,null,0,222,null,"Total Target Seq"]
[22,1731,23,1735,23,1740,null,null,null,null,0,222,null,{"$f":"COUNTIF(L7:L99,G3)","v":39},null,16,15,16,15,16,15]
[11,1837,21,1853,21,1858,null,null,null,null,0,122,null,null,null,"% of reinforcement given in 6 equal intervals based on number of trials "]
[11,1963,21,1977,21,1980,null,null,null,null,0,122,null,null,null,"%_1","%_2","%_3","%_4","%_5","%_6"]
[22,2106,23,2111,23,2119,null,null,null,null,0,222,null,null,"target sequence",{"$f":"$G$3","v":122},{"$f":"$G$3","v":122},{"$f":"$G$3","v":122},{"$f":"$G$3","v":122},{"$f":"$G$3","v":122},{"$f":"$G$3","v":122}]
[11,2230,21,2252,21,2256,null,null,null,null,0,122,null,null,"total reinforcement",{"$f":"U10","v":6},{"$f":"Z10","v":5},{"$f":"AE10","v":9},{"$f":"AJ10","v":5},{"$f":"AO10","v":5},{"$f":"AT10","v":9}]
[22,2386,23,2389,23,2392,null,null,null,null,0,222,null,null,"% target"]
[22,2502,23,2511,23,2517,null,null,null,null,0,222,null,null,"CCRF"]
[11,2613,12,2628,23,2635,null,null,null,null,0,112,null,null,"% CCRf"]
[11,2732,21,2763,21,2766,null,null,null,null,0,122,null,null,"average response rate",{"$f":"F22/P20","v":123.75},{"$f":"(F37-F22)/Q20","v":130.26666666666668},{"$f":"(F53-F37)/R20","v":135.625},{"$f":"(F68-F53)/S20","v":150.73333333333332},{"$f":"(F84-F68)/T20","v":140.3125},{"$f":"(F99-F84)/U20","v":205.66666666666666}]
[22,2926,23,2930,23,2938,null,null,null,null,0,222]
[11,3043,21,3058,21,3061,null,null,null,null,0,122]
[22,3160,23,3165,23,3183,null,null,null,null,0,222]
[22,3300,23,3303,23,3309,null,null,null,null,0,222]
[22,3432,23,3435,23,3440,null,null,null,null,0,222]
[11,3545,21,3551,21,3557,null,null,null,null,0,122]
[22,3668,23,3676,23,3685,null,null,null,null,0,222]
[11,3782,21,3794,21,3796,null,null,null,null,0,122]
[22,3918,23,3925,23,3934,null,null,null,null,0,222]
[11,4031,21,4040,21,4043,null,null,null,null,0,122]
[22,4163,23,4172,23,4179,null,null,null,null,0,222]
[11,4275,21,4287,21,4290,null,null,null,null,0,122]
[11,4407,21,4418,21,4421,null,null,null,null,0,122]
[11,4543,21,4553,21,4558,null,null,null,null,0,122]
[22,4694,23,4700,23,4709,null,null,null,null,0,222]
[22,4821,23,4828,23,4837,null,null,null,null,0,222]
[11,4932,21,4952,21,4955,null,null,null,null,0,122]
[11,5071,21,5079,21,5083,null,null,null,null,0,122]
[22,5204,23,5214,23,5219,null,null,null,null,0,222]
[11,5316,21,5329,21,5335,null,null,null,null,0,122]
[11,5559,21,5574,21,5584,null,null,null,null,0,122]
[22,5741,23,5744,23,5750,null,null,null,null,0,222]
[22,5860,23,5863,23,5873,null,null,null,null,0,222]
[22,5975,23,5981,23,5987,null,null,null,null,0,222]
[11,6084,21,6098,21,6104,null,null,null,null,0,122]
[22,6249,23,6251,23,6263,null,null,null,null,0,222]
[22,6374,23,6377,23,6381,null,null,null,null,0,222]
[11,6479,21,6495,21,6501,null,null,null,null,0,122]
[22,6649,23,6653,23,6661,null,null,null,null,0,222]
[22,6785,23,6789,23,6793,null,null,null,null,0,222]
[22,6898,23,6901,23,6908,null,null,null,null,0,222]
[11,7006,21,7018,21,7023,null,null,null,null,0,122]
[22,7234,23,7236,23,7246,null,null,null,null,0,222]
[22,7367,23,7370,23,7377,null,null,null,null,0,222]
[22,7496,23,7499,23,7505,null,null,null,null,0,222]
[11,7598,21,7610,21,7613,null,null,null,null,0,122]
[22,7825,23,7831,23,7837,null,null,null,null,0,222]
[11,7946,21,7958,21,7961,null,null,null,null,0,122]
[11,8171,21,8182,21,8188,null,null,null,null,0,122]
[22,8348,23,8354,23,8365,null,null,null,null,0,222]
[22,8478,23,8481,23,8485,null,null,null,null,0,222]
[11,8583,21,8596,21,8599,null,null,null,null,0,122]
[22,8728,23,8735,23,8746,null,null,null,null,0,222]
[11,8853,21,8868,21,8873,null,null,null,null,0,122]
[22,9041,23,9049,23,9055,null,null,null,null,0,222]
[11,9156,21,9178,21,9184,null,null,null,null,0,122]
[11,9279,21,9291,21,9294,null,null,null,null,0,122]
[22,9470,23,9473,23,9477,null,null,null,null,0,222]
[22,9589,23,9599,23,9611,null,null,null,null,0,222]
[22,9731,23,9734,23,9740,null,null,null,null,0,222]
[22,9850,23,9859,23,9878,null,null,null,null,0,222]
[22,9980,23,9983,23,9985,null,null,null,null,0,222]
[22,10104,23,10112,23,10119,null,null,null,null,0,222]
[11,10218,12,10232,23,10243,null,null,null,null,0,112]
[11,10339,21,10359,21,10370,null,null,null,null,0,122]
[22,10588,23,10593,23,10610,null,null,null,null,0,222]
[11,10710,21,10720,21,10722,null,null,null,null,0,122]
[22,10944,23,10948,23,10953,null,null,null,null,0,222]
[11,11050,21,11061,21,11064,null,null,null,null,0,122]
[22,11225,23,11229,23,11234,null,null,null,null,0,222]
[11,11377,21,11388,21,11391,null,null,null,null,0,122]
[11,11535,21,11549,21,11553,null,null,null,null,0,122]
[11,11695,12,11697,23,11708,null,null,null,null,0,112]
[11,11817,21,11824,21,11839,null,null,null,null,0,122]
[22,12796,23,12800,23,12806,null,null,null,null,0,222]
[22,12917,23,12920,23,12925,null,null,null,null,0,222]
[11,13022,21,13036,21,13042,null,null,null,null,0,122]
[22,13245,23,13249,23,13256,null,null,null,null,0,222]
[11,13356,21,13368,21,13372,null,null,null,null,0,122]
[11,13483,21,13499,21,13505,null,null,null,null,0,122]
[11,13669,21,13687,21,13695,null,null,null,null,1,122]

{"sheet":"!LB26943..Ta","index":20,"n_rows":87,"n_cols":48,"rows_kept":87,"cut":false,"hidden":false,"merged":[[4,39,4,42],[5,39,5,40],[4,44,4,47],[5,44,5,45],[4,24,4,27],[5,24,5,25],[4,29,4,32],[5,29,5,30],[4,34,4,37],[5,34,5,35],[1,1,1,2],[5,13,5,14],[18,13,18,14],[19,13,19,14],[4,19,4,22],[5,19,5,20]]}
["Report for:!LB26943..Ta"]
["Date:","<date>"]
["Hen:","<hen>",null,null,null,"Correct Sequence",{"$f":"Start!J2","v":122},null,null,null,null,null,null,null,null,"Total Sequences in Data",{"$f":"4994-COUNTBLANK(L7:L5000)","v":81},null,null,null,null,"Total Sequences in Block Data",{"$f":"COUNTA(L7:L20)","v":14},null,null,null,"Total Sequences in Block Data",{"$f":"COUNTA(L21:L33)","v":13},null,null,null,"Total Sequences in Block Data",{"$f":"COUNTA(L34:L47)","v":14},null,null,null,"Total Sequences in Block Data",{"$f":"COUNTA(L48:L60)","v":13},null,null,null,"Total Sequences in Block Data",{"$f":"COUNTA(L61:L74)","v":14},null,null,null,"Total Sequences in Block Data",{"$f":"COUNTA(L75:L87)","v":13}]
[null,null,null,null,null,null,null,null,null,null,null,null,null,null,null,"Total Sequences in Summary",{"$f":"SUM(O7:O14)","v":81},null,null,null,null,"Total Sequences in Block Summary",{"$f":"SUM(U7:U14)","v":14},null,null,null,"Total Sequences in Block Summary",{"$f":"SUM(Z7:Z14)","v":13},null,null,null,"Total Sequences in Block Summary",{"$f":"SUM(AE7:AE14)","v":14},null,null,null,"Total Sequences in Block Summary",{"$f":"SUM(AJ7:AJ14)","v":13},null,null,null,"Total Sequences in Block Summary",{"$f":"SUM(AO7:AO14)","v":14},null,null,null,"Total Sequences in Block Summary",{"$f":"SUM(AT7:AT14)","v":13}]
[null,null,null,null,null,null,null,null,null,null,null,null,null,null,null,null,null,null,null,"Block 1",null,null,null,null,"Block 2",null,null,null,null,"Block 3",null,null,null,null,"Block 4",null,null,null,null,"Block 5",null,null,null,null,"Block 6"]
["Sequence\nComponent\n1","Time\n1","Sequence\nComponent\n2","Time\n2","Sequence\nComponent\n3","Time\n3","Sequence\nComponent\n4","Time\n4","Sequence\nComponent\n5","Time\n5","Correct?\n0=No 1=Yes","Sequence",null,"Frequency",null,"Relative Frequency","Variability",null,null,"Frequency",null,"Relative Frequency","Variability",null,"Frequency",null,"Relative Frequency","Variability",null,"Frequency",null,"Relative Frequency","Variability",null,"Frequency",null,"Relative Frequency","Variability",null,"Frequency",null,"Relative Frequency","Variability",null,"Frequency",null,"Relative Frequency","Variability"]
[11,6,21,36,21,42,null,null,null,null,0,122,null,111,{"$f":"COUNTIF($L$7:$L$500,N7)","v":4},{"$f":"O7/$Q$4","v":4.9382716049382713E-2},{"$f":"IF(P7=0,0,(P7*((LOG(P7))/LOG(2))))","v":-0.21431358038936418},null,null,{"$f":"N7","v":111},{"$f":"COUNTIF(L7:L20,T7)","v":1},{"$f":"U7/(W4-U10)","v":0.125},{"$f":"IF(V7=0,0,(V7*((LOG(V7))/LOG(2))))","v":-0.375},null,{"$f":"N7","v":111},{"$f":"COUNTIF(L21:L33,Y7)","v":0},{"$f":"Z7/(AB4-Z10)","v":0},{"$f":"IF(AA7=0,0,(AA7*((LOG(AA7))/LOG(2))))","v":0},null,{"$f":"N7","v":111},{"$f":"COUNTIF(L34:L47,AD7)","v":0},{"$f":"AE7/(AG4-AE10)","v":0},{"$f":"IF(AF7=0,0,(AF7*((LOG(AF7))/LOG(2))))","v":0},null,{"$f":"N7","v":111},{"$f":"COUNTIF(L48:L60,AI7)","v":1},{"$f":"AJ7/(AL4-AJ10)","v":0.2},{"$f":"IF(AK7=0,0,(AK7*((LOG(AK7))/LOG(2))))","v":-0.46438561897747244},null,{"$f":"N7","v":111},{"$f":"COUNTIF(L61:L74,AN7)","v":1},{"$f":"AO7/(AQ4-AO10)","v":0.1111111111111111},{"$f":"IF(AP7=0,0,(AP7*((LOG(AP7))/LOG(2))))","v":-0.3522138890491458},null,{"$f":"N7","v":111},{"$f":"COUNTIF(L75:L87,AS7)","v":1},{"$f":"AT7/(AV4-AT10)","v":0.14285714285714285},{"$f":"IF(AU7=0,0,(AU7*((LOG(AU7))/LOG(2))))","v":-0.40105070315108626}]
[22,349,23,352,23,359,null,null,null,null,0,222,null,112,{"$f":"COUNTIF($L$7:$L$500,N8)","v":2},{"$f":"O8/$Q$4","v":2.4691358024691357E-2},{"$f":"IF(P8=0,0,(P8*((LOG(P8))/LOG(2))))","v":-0.13184814821937343},null,null,{"$f":"N8","v":112},{"$f":"COUNTIF(L7:L20,T8)","v":0},{"$f":"U8/(W4-U10)","v":0},{"$f":"IF(V8=0,0,(V8*((LOG(V8))/LOG(2))))","v":0},null,{"$f":"N8","v":112},{"$f":"COUNTIF(L21:L33,Y8)","v":0},{"$f":"Z8/(AB4-Z10)","v":0},{"$f":"IF(AA8=0,0,(AA8*((LOG(AA8))/LOG(2))))","v":0},null,{"$f":"N8","v":112},{"$f":"COUNTIF(L34:L47,AD8)","v":1},{"$f":"AE8/(AG4-AE10)","v":0.14285714285714285},{"$f":"IF(AF8=0,0,(AF8*((LOG(AF8))/LOG(2))))","v":-0.40105070315108626},null,{"$f":"N8","v":112},{"$f":"COUNTIF(L48:L60,AI8)","v":1},{"$f":"AJ8/(AL4-AJ10)","v":0.2},{"$f":"IF(AK8=0,0,(AK8*((LOG(AK8))/LOG(2))))","v":-0.46438561897747244},null,{"$f":"N8","v":112},{"$f":"COUNTIF(L61:L74,AN8)","v":0},{"$f":"AO8/(AQ4-AO10)","v":0},{"$f":"IF(AP8=0,0,(AP8*((LOG(AP8))/LOG(2))))","v":0},null,{"$f":"N8","v":112},{"$f":"COUNTIF(L75:L87,AS8)","v":0},{"$f":"AT8/(AV4-AT10)","v":0},{"$f":"IF(AU8=0,0,(AU8*((LOG(AU8))/LOG(2))))","v":0}]
[11,471,21,490,21,494,null,null,null,null,0,122,null,121,{"$f":"COUNTIF($L$7:$L$500,N9)","v":0},{"$f":"O9/$Q$4","v":0},{"$f":"IF(P9=0,0,(P9*((LOG(P9))/LOG(2))))","v":0},null,null,{"$f":"N9","v":121},{"$f":"COUNTIF(L7:L20,T9)","v":0},{"$f":"U9/(W4-U10)","v":0},{"$f":"IF(V9=0,0,(V9*((LOG(V9))/LOG(2))))","v":0},null,{"$f":"N9","v":121},{"$f":"COUNTIF(L21:L33,Y9)","v":0},{"$f":"Z9/(AB4-Z10)","v":0},{"$f":"IF(AA9=0,0,(AA9*((LOG(AA9))/LOG(2))))","v":0},null,{"$f":"N9","v":121},{"$f":"COUNTIF(L34:L47,AD9)","v":0},{"$f":"AE9/(AG4-AE10)","v":0},{"$f":"IF(AF9=0,0,(AF9*((LOG(AF9))/LOG(2))))","v":0},null,{"$f":"N9","v":121},{"$f":"COUNTIF(L48:L60,AI9)","v":0},{"$f":"AJ9/(AL4-AJ10)","v":0},{"$f":"IF(AK9=0,0,(AK9*((LOG(AK9))/LOG(2))))","v":0},null,{"$f":"N9","v":121},{"$f":"COUNTIF(L61:L74,AN9)","v":0},{"$f":"AO9/(AQ4-AO10)","v":0},{"$f":"IF(AP9=0,0,(AP9*((LOG(AP9))/LOG(2))))","v":0},null,{"$f":"N9","v":121},{"$f":"COUNTIF(L75:L87,AS9)","v":0},{"$f":"AT9/(AV4-AT10)","v":0},{"$f":"IF(AU9=0,0,(AU9*((LOG(AU9))/LOG(2))))","v":0}]
[11,645,21,658,21,661,null,null,null,null,0,122,null,122,{"$f":"COUNTIF($L$7:$L$500,N10)","v":39},{"$f":"O10/$Q$4","v":0.48148148148148145},{"$f":"IF(P10=0,0,(P10*((LOG(P10))/LOG(2))))","v":-0.50769708119595902},null,null,{"$f":"N10","v":122},{"$f":"COUNTIF(L7:L20,T10)","v":6},null,null,null,{"$f":"N10","v":122},{"$f":"COUNTIF(L21:L33,Y10)","v":7},null,null,null,{"$f":"N10","v":122},{"$f":"COUNTIF(L34:L47,AD10)","v":7},null,null,null,{"$f":"N10","v":122},{"$f":"COUNTIF(L48:L60,AI10)","v":8},null,null,null,{"$f":"N10","v":122},{"$f":"COUNTIF(L61:L74,AN10)","v":5},null,null,null,{"$f":"N10","v":122},{"$f":"COUNTIF(L75:L87,AS10)","v":6}]
[11,763,12,779,14,793,null,null,null,null,0,111,null,211,{"$f":"COUNTIF($L$7:$L$500,N11)","v":0},{"$f":"O11/$Q$4","v":0},{"$f":"IF(P11=0,0,(P11*((LOG(P11))/LOG(2))))","v":0},null,null,{"$f":"N11","v":211},{"$f":"COUNTIF(L7:L20,T11)","v":0},{"$f":"U11/(W4-U10)","v":0},{"$f":"IF(V11=0,0,(V11*((LOG(V11))/LOG(2))))","v":0},null,{"$f":"N11","v":211},{"$f":"COUNTIF(L21:L33,Y11)","v":0},{"$f":"Z11/(AB4-Z10)","v":0},{"$f":"IF(AA11=0,0,(AA11*((LOG(AA11))/LOG(2))))","v":0},null,{"$f":"N11","v":211},{"$f":"COUNTIF(L34:L47,AD11)","v":0},{"$f":"AE11/(AG4-AE10)","v":0},{"$f":"IF(AF11=0,0,(AF11*((LOG(AF11))/LOG(2))))","v":0},null,{"$f":"N11","v":211},{"$f":"COUNTIF(L48:L60,AI11)","v":0},{"$f":"AJ11/(AL4-AJ10)","v":0},{"$f":"IF(AK11=0,0,(AK11*((LOG(AK11))/LOG(2))))","v":0},null,{"$f":"N11","v":211},{"$f":"COUNTIF(L61:L74,AN11)","v":0},{"$f":"AO11/(AQ4-AO10)","v":0},{"$f":"IF(AP11=0,0,(AP11*((LOG(AP11))/LOG(2))))","v":0},null,{"$f":"N11","v":211},{"$f":"COUNTIF(L75:L87,AS11)","v":0},{"$f":"AT11/(AV4-AT10)","v":0},{"$f":"IF(AU11=0,0,(AU11*((LOG(AU11))/LOG(2))))","v":0}]
[22,908,23,911,23,920,null,null,null,null,0,222,null,212,{"$f":"COUNTIF($L$7:$L$500,N12)","v":0},{"$f":"O12/$Q$4","v":0},{"$f":"IF(P12=0,0,(P12*((LOG(P12))/LOG(2))))","v":0},null,null,{"$f":"N12","v":212},{"$f":"COUNTIF(L7:L20,T12)","v":0},{"$f":"U12/(W4-U10)","v":0},{"$f":"IF(V12=0,0,(V12*((LOG(V12))/LOG(2))))","v":0},null,{"$f":"N12","v":212},{"$f":"COUNTIF(L21:L33,Y12)","v":0},{"$f":"Z12/(AB4-Z10)","v":0},{"$f":"IF(AA12=0,0,(AA12*((LOG(AA12))/LOG(2))))","v":0},null,{"$f":"N12","v":212},{"$f":"COUNTIF(L34:L47,AD12)","v":0},{"$f":"AE12/(AG4-AE10)","v":0},{"$f":"IF(AF12=0,0,(AF12*((LOG(AF12))/LOG(2))))","v":0},null,{"$f":"N12","v":212},{"$f":"COUNTIF(L48:L60,AI12)","v":0},{"$f":"AJ12/(AL4-AJ10)","v":0},{"$f":"IF(AK12=0,0,(AK12*((LOG(AK12))/LOG(2))))","v":0},null,{"$f":"N12","v":212},{"$f":"COUNTIF(L61:L74,AN12)","v":0},{"$f":"AO12/(AQ4-AO10)","v":0},{"$f":"IF(AP12=0,0,(AP12*((LOG(AP12))/LOG(2))))","v":0},null,{"$f":"N12","v":212},{"$f":"COUNTIF(L75:L87,AS12)","v":0},{"$f":"AT12/(AV4-AT10)","v":0},{"$f":"IF(AU12=0,0,(AU12*((LOG(AU12))/LOG(2))))","v":0}]
[11,1032,21,1048,21,1053,null,null,null,null,0,122,null,221,{"$f":"COUNTIF($L$7:$L$500,N13)","v":0},{"$f":"O13/$Q$4","v":0},{"$f":"IF(P13=0,0,(P13*((LOG(P13))/LOG(2))))","v":0},null,null,{"$f":"N13","v":221},{"$f":"COUNTIF(L7:L20,T13)","v":0},{"$f":"U13/(W4-U10)","v":0},{"$f":"IF(V13=0,0,(V13*((LOG(V13))/LOG(2))))","v":0},null,{"$f":"N13","v":221},{"$f":"COUNTIF(L21:L33,Y13)","v":0},{"$f":"Z13/(AB4-Z10)","v":0},{"$f":"IF(AA13=0,0,(AA13*((LOG(AA13))/LOG(2))))","v":0},null,{"$f":"N13","v":221},{"$f":"COUNTIF(L34:L47,AD13)","v":0},{"$f":"AE13/(AG4-AE10)","v":0},{"$f":"IF(AF13=0,0,(AF13*((LOG(AF13))/LOG(2))))","v":0},null,{"$f":"N13","v":221},{"$f":"COUNTIF(L48:L60,AI13)","v":0},{"$f":"AJ13/(AL4-AJ10)","v":0},{"$f":"IF(AK13=0,0,(AK13*((LOG(AK13))/LOG(2))))","v":0},null,{"$f":"N13","v":221},{"$f":"COUNTIF(L61:L74,AN13)","v":0},{"$f":"AO13/(AQ4-AO10)","v":0},{"$f":"IF(AP13=0,0,(AP13*((LOG(AP13))/LOG(2))))","v":0},null,{"$f":"N13","v":221},{"$f":"COUNTIF(L75:L87,AS13)","v":0},{"$f":"AT13/(AV4-AT10)","v":0},{"$f":"IF(AU13=0,0,(AU13*((LOG(AU13))/LOG(2))))","v":0}]
[22,1685,23,1693,23,1701,null,null,null,null,0,222,null,222,{"$f":"COUNTIF($L$7:$L$500,N14)","v":36},{"$f":"O14/$Q$4","v":0.44444444444444442},{"$f":"IF(P14=0,0,(P14*((LOG(P14))/LOG(2))))","v":-0.51996666730769447},null,null,{"$f":"N14","v":222},{"$f":"COUNTIF(L7:L20,T14)","v":7},{"$f":"U14/(W4-U10)","v":0.875},{"$f":"IF(V14=0,0,(V14*((LOG(V14))/LOG(2))))","v":-0.1685644431995964},null,{"$f":"N14","v":222},{"$f":"COUNTIF(L21:L33,Y14)","v":6},{"$f":"Z14/(AB4-Z10)","v":1},{"$f":"IF(AA14=0,0,(AA14*((LOG(AA14))/LOG(2))))","v":0},null,{"$f":"N14","v":222},{"$f":"COUNTIF(L34:L47,AD14)","v":6},{"$f":"AE14/(AG4-AE10)","v":0.8571428571428571},{"$f":"IF(AF14=0,0,(AF14*((LOG(AF14))/LOG(2))))","v":-0.19062207543124113},null,{"$f":"N14","v":222},{"$f":"COUNTIF(L48:L60,AI14)","v":3},{"$f":"AJ14/(AL4-AJ10)","v":0.6},{"$f":"IF(AK14=0,0,(AK14*((LOG(AK14))/LOG(2))))","v":-0.44217935649972373},null,{"$f":"N14","v":222},{"$f":"COUNTIF(L61:L74,AN14)","v":8},{"$f":"AO14/(AQ4-AO10)","v":0.88888888888888884},{"$f":"IF(AP14=0,0,(AP14*((LOG(AP14))/LOG(2))))","v":-0.15104444572649992},null,{"$f":"N14","v":222},{"$f":"COUNTIF(L75:L87,AS14)","v":6},{"$f":"AT14/(AV4-AT10)","v":0.8571428571428571},{"$f":"IF(AU14=0,0,(AU14*((LOG(AU14))/LOG(2))))","v":-0.19062207543124113}]
[22,1825,23,1828,23,1833,null,null,null,null,0,222,null,null,null,{"$f":"SUM(P7:P14)","v":1},{"$f":"-SUM(Q7:Q14)","v":1.373825477112391},null,null,null,null,{"$f":"SUM(V7:V14)","v":1},{"$f":"-SUM(W7:W14)","v":0.5435644431995964},null,null,null,{"$f":"SUM(AA7:AA14)","v":1},{"$f":"-SUM(AB7:AB14)","v":0},null,null,null,{"$f":"SUM(AF7:AF14)","v":1},{"$f":"-SUM(AG7:AG14)","v":0.59167277858232736},null,null,null,{"$f":"SUM(AK7:AK14)","v":1},{"$f":"-SUM(AL7:AL14)","v":1.3709505944546687},null,null,null,{"$f":"SUM(AP7:AP14)","v":1},{"$f":"-SUM(AQ7:AQ14)","v":0.50325833477564574},null,null,null,{"$f":"SUM(AU7:AU14)","v":1},{"$f":"-SUM(AV7:AV14)","v":0.59167277858232736}]
[22,1953,23,1956,23,1959,null,null,null,null,0,222,null,null,null,"U=",{"$f":"Q15/(LOG(Q4)/LOG(2))","v":0.21669684243117771},null,null,null,null,"U1=",{"$f":"W15/(LOG(W4)/LOG(2))","v":0.142766948269125},null,null,null,"U2=",{"$f":"AB15/(LOG(AB4)/LOG(2))","v":0},null,null,null,"U3=",{"$f":"AG15/(LOG(AG4)/LOG(2))","v":0.15540258018881267},null,null,null,"U4=",{"$f":"AL15/(LOG(AL4)/LOG(2))","v":0.37048315845646657},null,null,null,"U5=",{"$f":"AQ15/(LOG(AQ4)/LOG(2))","v":0.13218056763241565},null,null,null,"U6=",{"$f":"AV15/(LOG(AV4)/LOG(2))","v":0.15989255970897234}]
[11,2056,21,2078,21,2081,null,null,null,null,0,122]
[22,2205,23,2210,23,2219,null,null,null,null,0,222]
[22,2352,23,2356,23,2363,null,null,null,null,0,222,null,"Total Target Seq"]
[11,2502,21,2516,21,2519,null,null,null,null,0,122,null,{"$f":"COUNTIF(L7:L87,G3)","v":39},null,14,13,14,13,14,13]
[22,2658,23,2664,23,2675,null,null,null,null,0,222,null,null,null,"% of reinforcement given in 6 equal intervals based on number of trials "]
[22,2790,23,2794,23,2800,null,null,null,null,0,222,null,null,null,"%_1","%_2","%_3","%_4","%_5","%_6"]
[11,2897,21,2921,21,2928,null,null,null,null,0,122,null,null,"target sequence",{"$f":"$G$3","v":122},{"$f":"$G$3","v":122},{"$f":"$G$3","v":122},{"$f":"$G$3","v":122},{"$f":"$G$3","v":122},{"$f":"$G$3","v":122}]
[11,3043,21,3057,21,3060,null,null,null,null,0,122,null,null,"total reinforcement",{"$f":"U10","v":6},{"$f":"Z10","v":7},{"$f":"AE10","v":7},{"$f":"AJ10","v":8},{"$f":"AO10","v":5},{"$f":"AT10","v":6}]
[11,3191,21,3203,21,3220,null,null,null,null,0,122,null,null,"% target"]
[22,3369,23,3378,23,3389,null,null,null,null,0,222,null,null,"CCRF"]
[22,3507,23,3511,23,3517,null,null,null,null,0,222,null,null,"% CCRf"]
[11,3616,21,3634,21,3637,null,null,null,null,0,122,null,null,"average response rate",{"$f":"F20/P20","v":179.92857142857142},{"$f":"(F33-F20)/Q20","v":143.07692307692307},{"$f":"(F47-F33)/R20","v":134.78571428571428},{"$f":"(F60-F47)/S20","v":122.15384615384616},{"$f":"(F74-F60)/T20","v":125.57142857142857},{"$f":"(F87-F74)/U20","v":124.84615384615384}]
[22,3796,23,3799,23,3802,null,null,null,null,0,222]
[22,3923,23,3926,23,3933,null,null,null,null,0,222]
[11,4030,21,4053,21,4062,null,null,null,null,0,122]
[11,4175,21,4193,21,4197,null,null,null,null,0,122]
[11,4353,21,4375,21,4379,null,null,null,null,0,122]
[22,4503,23,4507,23,4514,null,null,null,null,0,222]
[11,4611,21,4629,21,4633,null,null,null,null,0,122]
[11,4763,21,4775,21,4779,null,null,null,null,0,122]
[22,4927,23,4933,23,4938,null,null,null,null,0,222]
[11,5040,21,5057,21,5062,null,null,null,null,0,122]
[22,5186,23,5201,23,5212,null,null,null,null,0,222]
[22,5345,23,5351,23,5362,null,null,null,null,0,222]
[11,5457,21,5472,21,5484,null,null,null,null,0,122]
[11,5593,21,5609,21,5615,null,null,null,null,0,122]
[22,5767,23,5774,23,5777,null,null,null,null,0,222]
[11,5873,21,5887,21,5893,null,null,null,null,0,122]
[22,5997,23,6001,23,6006,null,null,null,null,0,222]
[11,6122,21,6133,21,6144,null,null,null,null,0,122]
[11,6238,12,6252,23,6266,null,null,null,null,0,112]
[11,6364,21,6382,21,6385,null,null,null,null,0,122]
[11,6479,21,6492,21,6495,null,null,null,null,0,122]
[22,6599,23,6605,23,6608,null,null,null,null,0,222]
[22,6726,23,6729,23,6734,null,null,null,null,0,222]
[11,6831,21,6856,21,6862,null,null,null,null,0,122]
[11,6964,21,6987,21,6993,null,null,null,null,0,122]
[11,7110,12,7111,23,7128,null,null,null,null,0,112]
[11,7224,21,7240,21,7249,null,null,null,null,0,122]
[11,7358,12,7366,14,7372,null,null,null,null,0,111]
[11,7480,21,7491,21,7496,null,null,null,null,0,122]
[11,7591,21,7599,21,7610,null,null,null,null,0,122]
[11,7704,21,7722,21,7727,null,null,null,null,0,122]
[22,7843,23,7847,23,7854,null,null,null,null,0,222]
[22,7963,23,7966,23,7978,null,null,null,null,0,222]
[22,8087,23,8092,23,8096,null,null,null,null,0,222]
[22,8222,23,8227,23,8234,null,null,null,null,0,222]
[11,8331,21,8344,21,8350,null,null,null,null,0,122]
[11,8457,12,8461,14,8466,null,null,null,null,0,111]
[22,8584,23,8587,23,8597,null,null,null,null,0,222]
[11,8693,21,8710,21,8714,null,null,null,null,0,122]
[11,8807,21,8821,21,8825,null,null,null,null,0,122]
[22,8978,23,8984,23,8994,null,null,null,null,0,222]
[22,9105,23,9109,23,9117,null,null,null,null,0,222]
[11,9211,21,9223,21,9226,null,null,null,null,0,122]
[22,9338,23,9343,23,9353,null,null,null,null,0,222]
[22,9473,23,9477,23,9485,null,null,null,null,0,222]
[11,9581,21,9604,21,9612,null,null,null,null,0,122]
[22,9723,23,9737,23,9743,null,null,null,null,0,222]
[11,9841,21,9854,21,9858,null,null,null,null,0,122]
[22,9981,23,9985,23,9995,null,null,null,null,0,222]
[11,10092,21,10101,21,10106,null,null,null,null,0,122]
[22,10224,23,10231,23,10239,null,null,null,null,0,222]
[22,10346,23,10349,23,10357,null,null,null,null,0,222]
[11,10454,21,10466,21,10469,null,null,null,null,0,122]
[11,10604,21,10620,21,10624,null,null,null,null,0,122]
[22,10733,23,10736,23,10745,null,null,null,null,0,222]
[11,10844,21,10856,21,10865,null,null,null,null,0,122]
[11,10965,12,10983,14,10988,null,null,null,null,0,111]
[22,11108,23,11113,23,11119,null,null,null,null,0,222]
[11,11215,21,11227,21,11235,null,null,null,null,1,122]

{"sheet":"!LB28B03..Ta","index":21,"n_rows":57,"n_cols":48,"rows_kept":57,"cut":false,"hidden":false,"merged":[[4,39,4,42],[5,39,5,40],[4,44,4,47],[5,44,5,45],[4,24,4,27],[5,24,5,25],[4,29,4,32],[5,29,5,30],[4,34,4,37],[5,34,5,35],[1,1,1,2],[5,13,5,14],[18,13,18,14],[19,13,19,14],[4,19,4,22],[5,19,5,20]]}
["Report for:!LB28B03..Ta"]
["Date:","<date>"]
["Hen:","<hen>",null,null,null,"Correct Sequence",{"$f":"Start!J2","v":122},null,null,null,null,null,null,null,null,"Total Sequences in Data",{"$f":"4994-COUNTBLANK(L7:L5000)","v":51},null,null,null,null,"Total Sequences in Block Data",{"$f":"COUNTA(L7:L15)","v":9},null,null,null,"Total Sequences in Block Data",{"$f":"COUNTA(L16:L23)","v":8},null,null,null,"Total Sequences in Block Data",{"$f":"COUNTA(L24:L32)","v":9},null,null,null,"Total Sequences in Block Data",{"$f":"COUNTA(L33:L40)","v":8},null,null,null,"Total Sequences in Block Data",{"$f":"COUNTA(L41:L49)","v":9},null,null,null,"Total Sequences in Block Data",{"$f":"COUNTA(L50:L57)","v":8}]
[null,null,null,null,null,null,null,null,null,null,null,null,null,null,null,"Total Sequences in Summary",{"$f":"SUM(O7:O14)","v":51},null,null,null,null,"Total Sequences in Block Summary",{"$f":"SUM(U7:U14)","v":9},null,null,null,"Total Sequences in Block Summary",{"$f":"SUM(Z7:Z14)","v":8},null,null,null,"Total Sequences in Block Summary",{"$f":"SUM(AE7:AE14)","v":9},null,null,null,"Total Sequences in Block Summary",{"$f":"SUM(AJ7:AJ14)","v":8},null,null,null,"Total Sequences in Block Summary",{"$f":"SUM(AO7:AO14)","v":9},null,null,null,"Total Sequences in Block Summary",{"$f":"SUM(AT7:AT14)","v":8}]
[null,null,null,null,null,null,null,null,null,null,null,null,null,null,null,null,null,null,null,"Block 1",null,null,null,null,"Block 2",null,null,null,null,"Block 3",null,null,null,null,"Block 4",null,null,null,null,"Block 5",null,null,null,null,"Block 6"]
["Sequence\nComponent\n1","Time\n1","Sequence\nComponent\n2","Time\n2","Sequence\nComponent\n3","Time\n3","Sequence\nComponent\n4","Time\n4","Sequence\nComponent\n5","Time\n5","Correct?\n0=No 1=Yes","Sequence",null,"Frequency",null,"Relative Frequency","Variability",null,null,"Frequency",null,"Relative Frequency","Variability",null,"Frequency",null,"Relative Frequency","Variability",null,"Frequency",null,"Relative Frequency","Variability",null,"Frequency",null,"Relative Frequency","Variability",null,"Frequency",null,"Relative Frequency","Variability",null,"Frequency",null,"Relative Frequency","Variability"]
[22,10,23,13,23,18,null,null,null,null,0,222,null,111,{"$f":"COUNTIF($L$7:$L$500,N7)","v":0},{"$f":"O7/$Q$4","v":0},{"$f":"IF(P7=0,0,(P7*((LOG(P7))/LOG(2))))","v":0},null,null,{"$f":"N7","v":111},{"$f":"COUNTIF(L7:L15,T7)","v":0},{"$f":"U7/(W4-U10)","v":0},{"$f":"IF(V7=0,0,(V7*((LOG(V7))/LOG(2))))","v":0},null,{"$f":"N7","v":111},{"$f":"COUNTIF(L16:L23,Y7)","v":0},{"$f":"Z7/(AB4-Z10)","v":0},{"$f":"IF(AA7=0,0,(AA7*((LOG(AA7))/LOG(2))))","v":0},null,{"$f":"N7","v":111},{"$f":"COUNTIF(L24:L32,AD7)","v":0},{"$f":"AE7/(AG4-AE10)","v":0},{"$f":"IF(AF7=0,0,(AF7*((LOG(AF7))/LOG(2))))","v":0},null,{"$f":"N7","v":111},{"$f":"COUNTIF(L33:L40,AI7)","v":0},{"$f":"AJ7/(AL4-AJ10)","v":0},{"$f":"IF(AK7=0,0,(AK7*((LOG(AK7))/LOG(2))))","v":0},null,{"$f":"N7","v":111},{"$f":"COUNTIF(L41:L49,AN7)","v":0},{"$f":"AO7/(AQ4-AO10)","v":0},{"$f":"IF(AP7=0,0,(AP7*((LOG(AP7))/LOG(2))))","v":0},null,{"$f":"N7","v":111},{"$f":"COUNTIF(L50:L57,AS7)","v":0},{"$f":"AT7/(AV4-AT10)","v":0},{"$f":"IF(AU7=0,0,(AU7*((LOG(AU7))/LOG(2))))","v":0}]
[22,138,23,141,23,145,null,null,null,null,0,222,null,112,{"$f":"COUNTIF($L$7:$L$500,N8)","v":0},{"$f":"O8/$Q$4","v":0},{"$f":"IF(P8=0,0,(P8*((LOG(P8))/LOG(2))))","v":0},null,null,{"$f":"N8","v":112},{"$f":"COUNTIF(L7:L15,T8)","v":0},{"$f":"U8/(W4-U10)","v":0},{"$f":"IF(V8=0,0,(V8*((LOG(V8))/LOG(2))))","v":0},null,{"$f":"N8","v":112},{"$f":"COUNTIF(L16:L23,Y8)","v":0},{"$f":"Z8/(AB4-Z10)","v":0},{"$f":"IF(AA8=0,0,(AA8*((LOG(AA8))/LOG(2))))","v":0},null,{"$f":"N8","v":112},{"$f":"COUNTIF(L24:L32,AD8)","v":0},{"$f":"AE8/(AG4-AE10)","v":0},{"$f":"IF(AF8=0,0,(AF8*((LOG(AF8))/LOG(2))))","v":0},null,{"$f":"N8","v":112},{"$f":"COUNTIF(L33:L40,AI8)","v":0},{"$f":"AJ8/(AL4-AJ10)","v":0},{"$f":"IF(AK8=0,0,(AK8*((LOG(AK8))/LOG(2))))","v":0},null,{"$f":"N8","v":112},{"$f":"COUNTIF(L41:L49,AN8)","v":0},{"$f":"AO8/(AQ4-AO10)","v":0},{"$f":"IF(AP8=0,0,(AP8*((LOG(AP8))/LOG(2))))","v":0},null,{"$f":"N8","v":112},{"$f":"COUNTIF(L50:L57,AS8)","v":0},{"$f":"AT8/(AV4-AT10)","v":0},{"$f":"IF(AU8=0,0,(AU8*((LOG(AU8))/LOG(2))))","v":0}]
[22,252,23,255,23,259,null,null,null,null,0,222,null,121,{"$f":"COUNTIF($L$7:$L$500,N9)","v":0},{"$f":"O9/$Q$4","v":0},{"$f":"IF(P9=0,0,(P9*((LOG(P9))/LOG(2))))","v":0},null,null,{"$f":"N9","v":121},{"$f":"COUNTIF(L7:L15,T9)","v":0},{"$f":"U9/(W4-U10)","v":0},{"$f":"IF(V9=0,0,(V9*((LOG(V9))/LOG(2))))","v":0},null,{"$f":"N9","v":121},{"$f":"COUNTIF(L16:L23,Y9)","v":0},{"$f":"Z9/(AB4-Z10)","v":0},{"$f":"IF(AA9=0,0,(AA9*((LOG(AA9))/LOG(2))))","v":0},null,{"$f":"N9","v":121},{"$f":"COUNTIF(L24:L32,AD9)","v":0},{"$f":"AE9/(AG4-AE10)","v":0},{"$f":"IF(AF9=0,0,(AF9*((LOG(AF9))/LOG(2))))","v":0},null,{"$f":"N9","v":121},{"$f":"COUNTIF(L33:L40,AI9)","v":0},{"$f":"AJ9/(AL4-AJ10)","v":0},{"$f":"IF(AK9=0,0,(AK9*((LOG(AK9))/LOG(2))))","v":0},null,{"$f":"N9","v":121},{"$f":"COUNTIF(L41:L49,AN9)","v":0},{"$f":"AO9/(AQ4-AO10)","v":0},{"$f":"IF(AP9=0,0,(AP9*((LOG(AP9))/LOG(2))))","v":0},null,{"$f":"N9","v":121},{"$f":"COUNTIF(L50:L57,AS9)","v":0},{"$f":"AT9/(AV4-AT10)","v":0},{"$f":"IF(AU9=0,0,(AU9*((LOG(AU9))/LOG(2))))","v":0}]
[22,376,23,379,23,381,null,null,null,null,0,222,null,122,{"$f":"COUNTIF($L$7:$L$500,N10)","v":0},{"$f":"O10/$Q$4","v":0},{"$f":"IF(P10=0,0,(P10*((LOG(P10))/LOG(2))))","v":0},null,null,{"$f":"N10","v":122},{"$f":"COUNTIF(L7:L15,T10)","v":0},null,null,null,{"$f":"N10","v":122},{"$f":"COUNTIF(L16:L23,Y10)","v":0},null,null,null,{"$f":"N10","v":122},{"$f":"COUNTIF(L24:L32,AD10)","v":0},null,null,null,{"$f":"N10","v":122},{"$f":"COUNTIF(L33:L40,AI10)","v":0},null,null,null,{"$f":"N10","v":122},{"$f":"COUNTIF(L41:L49,AN10)","v":0},null,null,null,{"$f":"N10","v":122},{"$f":"COUNTIF(L50:L57,AS10)","v":0}]
[22,491,23,497,23,500,null,null,null,null,0,222,null,211,{"$f":"COUNTIF($L$7:$L$500,N11)","v":0},{"$f":"O11/$Q$4","v":0},{"$f":"IF(P11=0,0,(P11*((LOG(P11))/LOG(2))))","v":0},null,null,{"$f":"N11","v":211},{"$f":"COUNTIF(L7:L15,T11)","v":0},{"$f":"U11/(W4-U10)","v":0},{"$f":"IF(V11=0,0,(V11*((LOG(V11))/LOG(2))))","v":0},null,{"$f":"N11","v":211},{"$f":"COUNTIF(L16:L23,Y11)","v":0},{"$f":"Z11/(AB4-Z10)","v":0},{"$f":"IF(AA11=0,0,(AA11*((LOG(AA11))/LOG(2))))","v":0},null,{"$f":"N11","v":211},{"$f":"COUNTIF(L24:L32,AD11)","v":0},{"$f":"AE11/(AG4-AE10)","v":0},{"$f":"IF(AF11=0,0,(AF11*((LOG(AF11))/LOG(2))))","v":0},null,{"$f":"N11","v":211},{"$f":"COUNTIF(L33:L40,AI11)","v":0},{"$f":"AJ11/(AL4-AJ10)","v":0},{"$f":"IF(AK11=0,0,(AK11*((LOG(AK11))/LOG(2))))","v":0},null,{"$f":"N11","v":211},{"$f":"COUNTIF(L41:L49,AN11)","v":0},{"$f":"AO11/(AQ4-AO10)","v":0},{"$f":"IF(AP11=0,0,(AP11*((LOG(AP11))/LOG(2))))","v":0},null,{"$f":"N11","v":211},{"$f":"COUNTIF(L50:L57,AS11)","v":0},{"$f":"AT11/(AV4-AT10)","v":0},{"$f":"IF(AU11=0,0,(AU11*((LOG(AU11))/LOG(2))))","v":0}]
[22,617,23,621,23,629,null,null,null,null,0,222,null,212,{"$f":"COUNTIF($L$7:$L$500,N12)","v":0},{"$f":"O12/$Q$4","v":0},{"$f":"IF(P12=0,0,(P12*((LOG(P12))/LOG(2))))","v":0},null,null,{"$f":"N12","v":212},{"$f":"COUNTIF(L7:L15,T12)","v":0},{"$f":"U12/(W4-U10)","v":0},{"$f":"IF(V12=0,0,(V12*((LOG(V12))/LOG(2))))","v":0},null,{"$f":"N12","v":212},{"$f":"COUNTIF(L16:L23,Y12)","v":0},{"$f":"Z12/(AB4-Z10)","v":0},{"$f":"IF(AA12=0,0,(AA12*((LOG(AA12))/LOG(2))))","v":0},null,{"$f":"N12","v":212},{"$f":"COUNTIF(L24:L32,AD12)","v":0},{"$f":"AE12/(AG4-AE10)","v":0},{"$f":"IF(AF12=0,0,(AF12*((LOG(AF12))/LOG(2))))","v":0},null,{"$f":"N12","v":212},{"$f":"COUNTIF(L33:L40,AI12)","v":0},{"$f":"AJ12/(AL4-AJ10)","v":0},{"$f":"IF(AK12=0,0,(AK12*((LOG(AK12))/LOG(2))))","v":0},null,{"$f":"N12","v":212},{"$f":"COUNTIF(L41:L49,AN12)","v":0},{"$f":"AO12/(AQ4-AO10)","v":0},{"$f":"IF(AP12=0,0,(AP12*((LOG(AP12))/LOG(2))))","v":0},null,{"$f":"N12","v":212},{"$f":"COUNTIF(L50:L57,AS12)","v":0},{"$f":"AT12/(AV4-AT10)","v":0},{"$f":"IF(AU12=0,0,(AU12*((LOG(AU12))/LOG(2))))","v":0}]
[22,759,23,764,23,771,null,null,null,null,0,222,null,221,{"$f":"COUNTIF($L$7:$L$500,N13)","v":0},{"$f":"O13/$Q$4","v":0},{"$f":"IF(P13=0,0,(P13*((LOG(P13))/LOG(2))))","v":0},null,null,{"$f":"N13","v":221},{"$f":"COUNTIF(L7:L15,T13)","v":0},{"$f":"U13/(W4-U10)","v":0},{"$f":"IF(V13=0,0,(V13*((LOG(V13))/LOG(2))))","v":0},null,{"$f":"N13","v":221},{"$f":"COUNTIF(L16:L23,Y13)","v":0},{"$f":"Z13/(AB4-Z10)","v":0},{"$f":"IF(AA13=0,0,(AA13*((LOG(AA13))/LOG(2))))","v":0},null,{"$f":"N13","v":221},{"$f":"COUNTIF(L24:L32,AD13)","v":0},{"$f":"AE13/(AG4-AE10)","v":0},{"$f":"IF(AF13=0,0,(AF13*((LOG(AF13))/LOG(2))))","v":0},null,{"$f":"N13","v":221},{"$f":"COUNTIF(L33:L40,AI13)","v":0},{"$f":"AJ13/(AL4-AJ10)","v":0},{"$f":"IF(AK13=0,0,(AK13*((LOG(AK13))/LOG(2))))","v":0},null,{"$f":"N13","v":221},{"$f":"COUNTIF(L41:L49,AN13)","v":0},{"$f":"AO13/(AQ4-AO10)","v":0},{"$f":"IF(AP13=0,0,(AP13*((LOG(AP13))/LOG(2))))","v":0},null,{"$f":"N13","v":221},{"$f":"COUNTIF(L50:L57,AS13)","v":0},{"$f":"AT13/(AV4-AT10)","v":0},{"$f":"IF(AU13=0,0,(AU13*((LOG(AU13))/LOG(2))))","v":0}]
[22,884,23,888,23,891,null,null,null,null,0,222,null,222,{"$f":"COUNTIF($L$7:$L$500,N14)","v":51},{"$f":"O14/$Q$4","v":1},{"$f":"IF(P14=0,0,(P14*((LOG(P14))/LOG(2))))","v":0},null,null,{"$f":"N14","v":222},{"$f":"COUNTIF(L7:L15,T14)","v":9},{"$f":"U14/(W4-U10)","v":1},{"$f":"IF(V14=0,0,(V14*((LOG(V14))/LOG(2))))","v":0},null,{"$f":"N14","v":222},{"$f":"COUNTIF(L16:L23,Y14)","v":8},{"$f":"Z14/(AB4-Z10)","v":1},{"$f":"IF(AA14=0,0,(AA14*((LOG(AA14))/LOG(2))))","v":0},null,{"$f":"N14","v":222},{"$f":"COUNTIF(L24:L32,AD14)","v":9},{"$f":"AE14/(AG4-AE10)","v":1},{"$f":"IF(AF14=0,0,(AF14*((LOG(AF14))/LOG(2))))","v":0},null,{"$f":"N14","v":222},{"$f":"COUNTIF(L33:L40,AI14)","v":8},{"$f":"AJ14/(AL4-AJ10)","v":1},{"$f":"IF(AK14=0,0,(AK14*((LOG(AK14))/LOG(2))))","v":0},null,{"$f":"N14","v":222},{"$f":"COUNTIF(L41:L49,AN14)","v":9},{"$f":"AO14/(AQ4-AO10)","v":1},{"$f":"IF(AP14=0,0,(AP14*((LOG(AP14))/LOG(2))))","v":0},null,{"$f":"N14","v":222},{"$f":"COUNTIF(L50:L57,AS14)","v":8},{"$f":"AT14/(AV4-AT10)","v":1},{"$f":"IF(AU14=0,0,(AU14*((LOG(AU14))/LOG(2))))","v":0}]
[22,1001,23,1008,23,1013,null,null,null,null,0,222,null,null,null,{"$f":"SUM(P7:P14)","v":1},{"$f":"-SUM(Q7:Q14)","v":0},null,null,null,null,{"$f":"SUM(V7:V14)","v":1},{"$f":"-SUM(W7:W14)","v":0},null,null,null,{"$f":"SUM(AA7:AA14)","v":1},{"$f":"-SUM(AB7:AB14)","v":0},null,null,null,{"$f":"SUM(AF7:AF14)","v":1},{"$f":"-SUM(AG7:AG14)","v":0},null,null,null,{"$f":"SUM(AK7:AK14)","v":1},{"$f":"-SUM(AL7:AL14)","v":0},null,null,null,{"$f":"SUM(AP7:AP14)","v":1},{"$f":"-SUM(AQ7:AQ14)","v":0},null,null,null,{"$f":"SUM(AU7:AU14)","v":1},{"$f":"-SUM(AV7:AV14)","v":0}]
[22,1136,23,1140,23,1143,null,null,null,null,0,222,null,null,null,"U=",{"$f":"Q15/(LOG(Q4)/LOG(2))","v":0},null,null,null,null,"U1=",{"$f":"W15/(LOG(W4)/LOG(2))","v":0},null,null,null,"U2=",{"$f":"AB15/(LOG(AB4)/LOG(2))","v":0},null,null,null,"U3=",{"$f":"AG15/(LOG(AG4)/LOG(2))","v":0},null,null,null,"U4=",{"$f":"AL15/(LOG(AL4)/LOG(2))","v":0},null,null,null,"U5=",{"$f":"AQ15/(LOG(AQ4)/LOG(2))","v":0},null,null,null,"U6=",{"$f":"AV15/(LOG(AV4)/LOG(2))","v":0}]
[22,1266,23,1269,23,1275,null,null,null,null,0,222]
[22,1438,23,1441,23,1445,null,null,null,null,0,222]
[22,1582,23,1585,23,1589,null,null,null,null,0,222,null,"Total Target Seq"]
[22,1732,23,1735,23,1742,null,null,null,null,0,222,null,{"$f":"COUNTIF(L7:L57,G3)","v":0},null,9,8,9,8,9,8]
[22,1875,23,1879,23,1882,null,null,null,null,0,222,null,null,null,"% of reinforcement given in 6 equal intervals based on number of trials "]
[22,2008,23,2016,23,2020,null,null,null,null,0,222,null,null,null,"%_1","%_2","%_3","%_4","%_5","%_6"]
[22,2166,23,2171,23,2174,null,null,null,null,0,222,null,null,"target sequence",{"$f":"$G$3","v":122},{"$f":"$G$3","v":122},{"$f":"$G$3","v":122},{"$f":"$G$3","v":122},{"$f":"$G$3","v":122},{"$f":"$G$3","v":122}]
[22,2323,23,2326,23,2331,null,null,null,null,0,222,null,null,"total reinforcement",{"$f":"U10","v":0},{"$f":"Z10","v":0},{"$f":"AE10","v":0},{"$f":"AJ10","v":0},{"$f":"AO10","v":0},{"$f":"AT10","v":0}]
[22,2488,23,2491,23,2494,null,null,null,null,0,222,null,null,"% target"]
[22,2637,23,2640,23,2649,null,null,null,null,0,222,null,null,"CCRF"]
[22,2778,23,2784,23,2789,null,null,null,null,0,222,null,null,"% CCRf"]
[22,2913,23,2920,23,2930,null,null,null,null,0,222,null,null,"average response rate",{"$f":"F15/P20","v":112.55555555555556},{"$f":"(F23-F15)/Q20","v":145.125},{"$f":"(F32-F23)/R20","v":248.22222222222223},{"$f":"(F40-F32)/S20","v":639},{"$f":"(F49-F40)/T20","v":429.77777777777777},{"$f":"(F57-F49)/U20","v":960.375}]
[22,3067,23,3071,23,3074,null,null,null,null,0,222]
[22,3497,23,3535,23,3560,null,null,null,null,0,222]
[22,3718,23,3721,23,3725,null,null,null,null,0,222]
[22,4380,23,4405,23,4408,null,null,null,null,0,222]
[22,4556,23,4564,23,4568,null,null,null,null,0,222]
[22,6223,23,6230,23,6238,null,null,null,null,0,222]
[22,6620,23,6627,23,6916,null,null,null,null,0,222]
[22,7669,23,7676,23,7703,null,null,null,null,0,222]
[22,8913,23,8918,23,8921,null,null,null,null,0,222]
[22,9099,23,9105,23,9114,null,null,null,null,0,222]
[22,9375,23,9377,23,9381,null,null,null,null,0,222]
[22,9513,23,9517,23,9520,null,null,null,null,0,222]
[22,9634,23,9636,23,9667,null,null,null,null,0,222]
[22,10270,23,10273,23,10277,null,null,null,null,0,222]
[22,10684,23,10688,23,10691,null,null,null,null,0,222]
[22,11175,23,11179,23,11181,null,null,null,null,0,222]
[22,11444,23,11446,23,11450,null,null,null,null,0,222]
[22,12053,23,12061,23,12066,null,null,null,null,0,222]
[22,12180,23,12190,23,12203,null,null,null,null,0,222]
[22,12466,23,12469,23,12474,null,null,null,null,0,222]
[22,13354,23,13359,23,13388,null,null,null,null,0,222]
[22,13816,23,13824,23,13830,null,null,null,null,0,222]
[22,14579,23,14582,23,14588,null,null,null,null,0,222]
[22,15648,23,15652,23,15657,null,null,null,null,0,222]
[22,19354,23,19359,23,19373,null,null,null,null,0,222]
[22,19546,23,19549,23,19552,null,null,null,null,0,222]
[22,19761,23,19783,23,19788,null,null,null,null,0,222]
[22,20522,23,20524,23,20531,null,null,null,null,0,222]
[22,21041,23,21066,23,21071,null,null,null,null,0,222]

{"sheet":"!LB29953..Ta","index":22,"n_rows":61,"n_cols":48,"rows_kept":61,"cut":false,"hidden":false,"merged":[[4,39,4,42],[5,39,5,40],[4,44,4,47],[5,44,5,45],[4,24,4,27],[5,24,5,25],[4,29,4,32],[5,29,5,30],[4,34,4,37],[5,34,5,35],[1,1,1,2],[5,13,5,14],[18,13,18,14],[19,13,19,14],[4,19,4,22],[5,19,5,20]]}
["Report for:!LB29953..Ta"]
["Date:","<date>"]
["Hen:","<hen>",null,null,null,"Correct Sequence",{"$f":"Start!J2","v":122},null,null,null,null,null,null,null,null,"Total Sequences in Data",{"$f":"4994-COUNTBLANK(L7:L5000)","v":55},null,null,null,null,"Total Sequences in Block Data",{"$f":"COUNTA(L7:L15)","v":9},null,null,null,"Total Sequences in Block Data",{"$f":"COUNTA(L16:L24)","v":9},null,null,null,"Total Sequences in Block Data",{"$f":"COUNTA(L25:L34)","v":10},null,null,null,"Total Sequences in Block Data",{"$f":"COUNTA(L35:L43)","v":9},null,null,null,"Total Sequences in Block Data",{"$f":"COUNTA(L44:L52)","v":9},null,null,null,"Total Sequences in Block Data",{"$f":"COUNTA(L53:L61)","v":9}]
[null,null,null,null,null,null,null,null,null,null,null,null,null,null,null,"Total Sequences in Summary",{"$f":"SUM(O7:O14)","v":55},null,null,null,null,"Total Sequences in Block Summary",{"$f":"SUM(U7:U14)","v":9},null,null,null,"Total Sequences in Block Summary",{"$f":"SUM(Z7:Z14)","v":9},null,null,null,"Total Sequences in Block Summary",{"$f":"SUM(AE7:AE14)","v":10},null,null,null,"Total Sequences in Block Summary",{"$f":"SUM(AJ7:AJ14)","v":9},null,null,null,"Total Sequences in Block Summary",{"$f":"SUM(AO7:AO14)","v":9},null,null,null,"Total Sequences in Block Summary",{"$f":"SUM(AT7:AT14)","v":9}]
[null,null,null,null,null,null,null,null,null,null,null,null,null,null,null,null,null,null,null,"Block 1",null,null,null,null,"Block 2",null,null,null,null,"Block 3",null,null,null,null,"Block 4",null,null,null,null,"Block 5",null,null,null,null,"Block 6"]
["Sequence\nComponent\n1","Time\n1","Sequence\nComponent\n2","Time\n2","Sequence\nComponent\n3","Time\n3","Sequence\nComponent\n4","Time\n4","Sequence\nComponent\n5","Time\n5","Correct?\n0=No 1=Yes","Sequence",null,"Frequency",null,"Relative Frequency","Variability",null,null,"Frequency",null,"Relative Frequency","Variability",null,"Frequency",null,"Relative Frequency","Variability",null,"Frequency",null,"Relative Frequency","Variability",null,"Frequency",null,"Relative Frequency","Variability",null,"Frequency",null,"Relative Frequency","Variability",null,"Frequency",null,"Relative Frequency","Variability"]
[22,16,23,23,23,33,null,null,null,null,0,222,null,111,{"$f":"COUNTIF($L$7:$L$500,N7)","v":0},{"$f":"O7/$Q$4","v":0},{"$f":"IF(P7=0,0,(P7*((LOG(P7))/LOG(2))))","v":0},null,null,{"$f":"N7","v":111},{"$f":"COUNTIF(L7:L15,T7)","v":0},{"$f":"U7/(W4-U10)","v":0},{"$f":"IF(V7=0,0,(V7*((LOG(V7))/LOG(2))))","v":0},null,{"$f":"N7","v":111},{"$f":"COUNTIF(L16:L24,Y7)","v":0},{"$f":"Z7/(AB4-Z10)","v":0},{"$f":"IF(AA7=0,0,(AA7*((LOG(AA7))/LOG(2))))","v":0},null,{"$f":"N7","v":111},{"$f":"COUNTIF(L25:L34,AD7)","v":0},{"$f":"AE7/(AG4-AE10)","v":0},{"$f":"IF(AF7=0,0,(AF7*((LOG(AF7))/LOG(2))))","v":0},null,{"$f":"N7","v":111},{"$f":"COUNTIF(L35:L43,AI7)","v":0},{"$f":"AJ7/(AL4-AJ10)","v":0},{"$f":"IF(AK7=0,0,(AK7*((LOG(AK7))/LOG(2))))","v":0},null,{"$f":"N7","v":111},{"$f":"COUNTIF(L44:L52,AN7)","v":0},{"$f":"AO7/(AQ4-AO10)","v":0},{"$f":"IF(AP7=0,0,(AP7*((LOG(AP7))/LOG(2))))","v":0},null,{"$f":"N7","v":111},{"$f":"COUNTIF(L53:L61,AS7)","v":0},{"$f":"AT7/(AV4-AT10)","v":0},{"$f":"IF(AU7=0,0,(AU7*((LOG(AU7))/LOG(2))))","v":0}]
[22,260,23,263,23,266,null,null,null,null,0,222,null,112,{"$f":"COUNTIF($L$7:$L$500,N8)","v":0},{"$f":"O8/$Q$4","v":0},{"$f":"IF(P8=0,0,(P8*((LOG(P8))/LOG(2))))","v":0},null,null,{"$f":"N8","v":112},{"$f":"COUNTIF(L7:L15,T8)","v":0},{"$f":"U8/(W4-U10)","v":0},{"$f":"IF(V8=0,0,(V8*((LOG(V8))/LOG(2))))","v":0},null,{"$f":"N8","v":112},{"$f":"COUNTIF(L16:L24,Y8)","v":0},{"$f":"Z8/(AB4-Z10)","v":0},{"$f":"IF(AA8=0,0,(AA8*((LOG(AA8))/LOG(2))))","v":0},null,{"$f":"N8","v":112},{"$f":"COUNTIF(L25:L34,AD8)","v":0},{"$f":"AE8/(AG4-AE10)","v":0},{"$f":"IF(AF8=0,0,(AF8*((LOG(AF8))/LOG(2))))","v":0},null,{"$f":"N8","v":112},{"$f":"COUNTIF(L35:L43,AI8)","v":0},{"$f":"AJ8/(AL4-AJ10)","v":0},{"$f":"IF(AK8=0,0,(AK8*((LOG(AK8))/LOG(2))))","v":0},null,{"$f":"N8","v":112},{"$f":"COUNTIF(L44:L52,AN8)","v":0},{"$f":"AO8/(AQ4-AO10)","v":0},{"$f":"IF(AP8=0,0,(AP8*((LOG(AP8))/LOG(2))))","v":0},null,{"$f":"N8","v":112},{"$f":"COUNTIF(L53:L61,AS8)","v":0},{"$f":"AT8/(AV4-AT10)","v":0},{"$f":"IF(AU8=0,0,(AU8*((LOG(AU8))/LOG(2))))","v":0}]
[22,372,23,374,23,383,null,null,null,null,0,222,null,121,{"$f":"COUNTIF($L$7:$L$500,N9)","v":0},{"$f":"O9/$Q$4","v":0},{"$f":"IF(P9=0,0,(P9*((LOG(P9))/LOG(2))))","v":0},null,null,{"$f":"N9","v":121},{"$f":"COUNTIF(L7:L15,T9)","v":0},{"$f":"U9/(W4-U10)","v":0},{"$f":"IF(V9=0,0,(V9*((LOG(V9))/LOG(2))))","v":0},null,{"$f":"N9","v":121},{"$f":"COUNTIF(L16:L24,Y9)","v":0},{"$f":"Z9/(AB4-Z10)","v":0},{"$f":"IF(AA9=0,0,(AA9*((LOG(AA9))/LOG(2))))","v":0},null,{"$f":"N9","v":121},{"$f":"COUNTIF(L25:L34,AD9)","v":0},{"$f":"AE9/(AG4-AE10)","v":0},{"$f":"IF(AF9=0,0,(AF9*((LOG(AF9))/LOG(2))))","v":0},null,{"$f":"N9","v":121},{"$f":"COUNTIF(L35:L43,AI9)","v":0},{"$f":"AJ9/(AL4-AJ10)","v":0},{"$f":"IF(AK9=0,0,(AK9*((LOG(AK9))/LOG(2))))","v":0},null,{"$f":"N9","v":121},{"$f":"COUNTIF(L44:L52,AN9)","v":0},{"$f":"AO9/(AQ4-AO10)","v":0},{"$f":"IF(AP9=0,0,(AP9*((LOG(AP9))/LOG(2))))","v":0},null,{"$f":"N9","v":121},{"$f":"COUNTIF(L53:L61,AS9)","v":0},{"$f":"AT9/(AV4-AT10)","v":0},{"$f":"IF(AU9=0,0,(AU9*((LOG(AU9))/LOG(2))))","v":0}]
[22,497,23,503,23,506,null,null,null,null,0,222,null,122,{"$f":"COUNTIF($L$7:$L$500,N10)","v":0},{"$f":"O10/$Q$4","v":0},{"$f":"IF(P10=0,0,(P10*((LOG(P10))/LOG(2))))","v":0},null,null,{"$f":"N10","v":122},{"$f":"COUNTIF(L7:L15,T10)","v":0},null,null,null,{"$f":"N10","v":122},{"$f":"COUNTIF(L16:L24,Y10)","v":0},null,null,null,{"$f":"N10","v":122},{"$f":"COUNTIF(L25:L34,AD10)","v":0},null,null,null,{"$f":"N10","v":122},{"$f":"COUNTIF(L35:L43,AI10)","v":0},null,null,null,{"$f":"N10","v":122},{"$f":"COUNTIF(L44:L52,AN10)","v":0},null,null,null,{"$f":"N10","v":122},{"$f":"COUNTIF(L53:L61,AS10)","v":0}]
[22,648,23,651,23,656,null,null,null,null,0,222,null,211,{"$f":"COUNTIF($L$7:$L$500,N11)","v":0},{"$f":"O11/$Q$4","v":0},{"$f":"IF(P11=0,0,(P11*((LOG(P11))/LOG(2))))","v":0},null,null,{"$f":"N11","v":211},{"$f":"COUNTIF(L7:L15,T11)","v":0},{"$f":"U11/(W4-U10)","v":0},{"$f":"IF(V11=0,0,(V11*((LOG(V11))/LOG(2))))","v":0},null,{"$f":"N11","v":211},{"$f":"COUNTIF(L16:L24,Y11)","v":0},{"$f":"Z11/(AB4-Z10)","v":0},{"$f":"IF(AA11=0,0,(AA11*((LOG(AA11))/LOG(2))))","v":0},null,{"$f":"N11","v":211},{"$f":"COUNTIF(L25:L34,AD11)","v":0},{"$f":"AE11/(AG4-AE10)","v":0},{"$f":"IF(AF11=0,0,(AF11*((LOG(AF11))/LOG(2))))","v":0},null,{"$f":"N11","v":211},{"$f":"COUNTIF(L35:L43,AI11)","v":0},{"$f":"AJ11/(AL4-AJ10)","v":0},{"$f":"IF(AK11=0,0,(AK11*((LOG(AK11))/LOG(2))))","v":0},null,{"$f":"N11","v":211},{"$f":"COUNTIF(L44:L52,AN11)","v":0},{"$f":"AO11/(AQ4-AO10)","v":0},{"$f":"IF(AP11=0,0,(AP11*((LOG(AP11))/LOG(2))))","v":0},null,{"$f":"N11","v":211},{"$f":"COUNTIF(L53:L61,AS11)","v":0},{"$f":"AT11/(AV4-AT10)","v":0},{"$f":"IF(AU11=0,0,(AU11*((LOG(AU11))/LOG(2))))","v":0}]
[22,783,23,786,23,791,null,null,null,null,0,222,null,212,{"$f":"COUNTIF($L$7:$L$500,N12)","v":0},{"$f":"O12/$Q$4","v":0},{"$f":"IF(P12=0,0,(P12*((LOG(P12))/LOG(2))))","v":0},null,null,{"$f":"N12","v":212},{"$f":"COUNTIF(L7:L15,T12)","v":0},{"$f":"U12/(W4-U10)","v":0},{"$f":"IF(V12=0,0,(V12*((LOG(V12))/LOG(2))))","v":0},null,{"$f":"N12","v":212},{"$f":"COUNTIF(L16:L24,Y12)","v":0},{"$f":"Z12/(AB4-Z10)","v":0},{"$f":"IF(AA12=0,0,(AA12*((LOG(AA12))/LOG(2))))","v":0},null,{"$f":"N12","v":212},{"$f":"COUNTIF(L25:L34,AD12)","v":0},{"$f":"AE12/(AG4-AE10)","v":0},{"$f":"IF(AF12=0,0,(AF12*((LOG(AF12))/LOG(2))))","v":0},null,{"$f":"N12","v":212},{"$f":"COUNTIF(L35:L43,AI12)","v":0},{"$f":"AJ12/(AL4-AJ10)","v":0},{"$f":"IF(AK12=0,0,(AK12*((LOG(AK12))/LOG(2))))","v":0},null,{"$f":"N12","v":212},{"$f":"COUNTIF(L44:L52,AN12)","v":0},{"$f":"AO12/(AQ4-AO10)","v":0},{"$f":"IF(AP12=0,0,(AP12*((LOG(AP12))/LOG(2))))","v":0},null,{"$f":"N12","v":212},{"$f":"COUNTIF(L53:L61,AS12)","v":0},{"$f":"AT12/(AV4-AT10)","v":0},{"$f":"IF(AU12=0,0,(AU12*((LOG(AU12))/LOG(2))))","v":0}]
[22,915,23,919,23,923,null,null,null,null,0,222,null,221,{"$f":"COUNTIF($L$7:$L$500,N13)","v":0},{"$f":"O13/$Q$4","v":0},{"$f":"IF(P13=0,0,(P13*((LOG(P13))/LOG(2))))","v":0},null,null,{"$f":"N13","v":221},{"$f":"COUNTIF(L7:L15,T13)","v":0},{"$f":"U13/(W4-U10)","v":0},{"$f":"IF(V13=0,0,(V13*((LOG(V13))/LOG(2))))","v":0},null,{"$f":"N13","v":221},{"$f":"COUNTIF(L16:L24,Y13)","v":0},{"$f":"Z13/(AB4-Z10)","v":0},{"$f":"IF(AA13=0,0,(AA13*((LOG(AA13))/LOG(2))))","v":0},null,{"$f":"N13","v":221},{"$f":"COUNTIF(L25:L34,AD13)","v":0},{"$f":"AE13/(AG4-AE10)","v":0},{"$f":"IF(AF13=0,0,(AF13*((LOG(AF13))/LOG(2))))","v":0},null,{"$f":"N13","v":221},{"$f":"COUNTIF(L35:L43,AI13)","v":0},{"$f":"AJ13/(AL4-AJ10)","v":0},{"$f":"IF(AK13=0,0,(AK13*((LOG(AK13))/LOG(2))))","v":0},null,{"$f":"N13","v":221},{"$f":"COUNTIF(L44:L52,AN13)","v":0},{"$f":"AO13/(AQ4-AO10)","v":0},{"$f":"IF(AP13=0,0,(AP13*((LOG(AP13))/LOG(2))))","v":0},null,{"$f":"N13","v":221},{"$f":"COUNTIF(L53:L61,AS13)","v":0},{"$f":"AT13/(AV4-AT10)","v":0},{"$f":"IF(AU13=0,0,(AU13*((LOG(AU13))/LOG(2))))","v":0}]
[22,1059,23,1063,23,1068,null,null,null,null,0,222,null,222,{"$f":"COUNTIF($L$7:$L$500,N14)","v":55},{"$f":"O14/$Q$4","v":1},{"$f":"IF(P14=0,0,(P14*((LOG(P14))/LOG(2))))","v":0},null,null,{"$f":"N14","v":222},{"$f":"COUNTIF(L7:L15,T14)","v":9},{"$f":"U14/(W4-U10)","v":1},{"$f":"IF(V14=0,0,(V14*((LOG(V14))/LOG(2))))","v":0},null,{"$f":"N14","v":222},{"$f":"COUNTIF(L16:L24,Y14)","v":9},{"$f":"Z14/(AB4-Z10)","v":1},{"$f":"IF(AA14=0,0,(AA14*((LOG(AA14))/LOG(2))))","v":0},null,{"$f":"N14","v":222},{"$f":"COUNTIF(L25:L34,AD14)","v":10},{"$f":"AE14/(AG4-AE10)","v":1},{"$f":"IF(AF14=0,0,(AF14*((LOG(AF14))/LOG(2))))","v":0},null,{"$f":"N14","v":222},{"$f":"COUNTIF(L35:L43,AI14)","v":9},{"$f":"AJ14/(AL4-AJ10)","v":1},{"$f":"IF(AK14=0,0,(AK14*((LOG(AK14))/LOG(2))))","v":0},null,{"$f":"N14","v":222},{"$f":"COUNTIF(L44:L52,AN14)","v":9},{"$f":"AO14/(AQ4-AO10)","v":1},{"$f":"IF(AP14=0,0,(AP14*((LOG(AP14))/LOG(2))))","v":0},null,{"$f":"N14","v":222},{"$f":"COUNTIF(L53:L61,AS14)","v":9},{"$f":"AT14/(AV4-AT10)","v":1},{"$f":"IF(AU14=0,0,(AU14*((LOG(AU14))/LOG(2))))","v":0}]
[22,1203,23,1206,23,1211,null,null,null,null,0,222,null,null,null,{"$f":"SUM(P7:P14)","v":1},{"$f":"-SUM(Q7:Q14)","v":0},null,null,null,null,{"$f":"SUM(V7:V14)","v":1},{"$f":"-SUM(W7:W14)","v":0},null,null,null,{"$f":"SUM(AA7:AA14)","v":1},{"$f":"-SUM(AB7:AB14)","v":0},null,null,null,{"$f":"SUM(AF7:AF14)","v":1},{"$f":"-SUM(AG7:AG14)","v":0},null,null,null,{"$f":"SUM(AK7:AK14)","v":1},{"$f":"-SUM(AL7:AL14)","v":0},null,null,null,{"$f":"SUM(AP7:AP14)","v":1},{"$f":"-SUM(AQ7:AQ14)","v":0},null,null,null,{"$f":"SUM(AU7:AU14)","v":1},{"$f":"-SUM(AV7:AV14)","v":0}]
[22,1359,23,1363,23,1367,null,null,null,null,0,222,null,null,null,"U=",{"$f":"Q15/(LOG(Q4)/LOG(2))","v":0},null,null,null,null,"U1=",{"$f":"W15/(LOG(W4)/LOG(2))","v":0},null,null,null,"U2=",{"$f":"AB15/(LOG(AB4)/LOG(2))","v":0},null,null,null,"U3=",{"$f":"AG15/(LOG(AG4)/LOG(2))","v":0},null,null,null,"U4=",{"$f":"AL15/(LOG(AL4)/LOG(2))","v":0},null,null,null,"U5=",{"$f":"AQ15/(LOG(AQ4)/LOG(2))","v":0},null,null,null,"U6=",{"$f":"AV15/(LOG(AV4)/LOG(2))","v":0}]
[22,1550,23,1552,23,1556,null,null,null,null,0,222]
[22,1697,23,1699,23,1703,null,null,null,null,0,222]
[22,1857,23,1876,23,1879,null,null,null,null,0,222,null,"Total Target Seq"]
[22,2055,23,2065,23,2072,null,null,null,null,0,222,null,{"$f":"COUNTIF(L7:L61,G3)","v":0},null,9,9,10,9,9,9]
[22,2226,23,2230,23,2240,null,null,null,null,0,222,null,null,null,"% of reinforcement given in 6 equal intervals based on number of trials "]
[22,2356,23,2366,23,2369,null,null,null,null,0,222,null,null,null,"%_1","%_2","%_3","%_4","%_5","%_6"]
[22,2497,23,2505,23,2512,null,null,null,null,0,222,null,null,"target sequence",{"$f":"$G$3","v":122},{"$f":"$G$3","v":122},{"$f":"$G$3","v":122},{"$f":"$G$3","v":122},{"$f":"$G$3","v":122},{"$f":"$G$3","v":122}]
[22,2637,23,2643,23,2652,null,null,null,null,0,222,null,null,"total reinforcement",{"$f":"U10","v":0},{"$f":"Z10","v":0},{"$f":"AE10","v":0},{"$f":"AJ10","v":0},{"$f":"AO10","v":0},{"$f":"AT10","v":0}]
[22,2808,23,2816,23,2820,null,null,null,null,0,222,null,null,"% target"]
[22,2944,23,2947,23,2961,null,null,null,null,0,222,null,null,"CCRF"]
[22,3080,23,3083,23,3087,null,null,null,null,0,222,null,null,"% CCRf"]
[22,3252,23,3260,23,3264,null,null,null,null,0,222,null,null,"average response rate",{"$f":"F15/P20","v":134.55555555555554},{"$f":"(F24-F15)/Q20","v":160.11111111111111},{"$f":"(F34-F24)/R20","v":181.2},{"$f":"(F43-F34)/S20","v":252.11111111111111},{"$f":"(F52-F43)/T20","v":754.33333333333337},{"$f":"(F61-F52)/U20","v":674.44444444444446}]
[22,3366,23,3509,23,3515,null,null,null,null,0,222]
[22,3779,23,3807,23,3812,null,null,null,null,0,222]
[22,3941,23,3945,23,3948,null,null,null,null,0,222]
[22,4063,23,4068,23,4079,null,null,null,null,0,222]
[22,4327,23,4333,23,4337,null,null,null,null,0,222]
[22,4458,23,4461,23,4464,null,null,null,null,0,222]
[22,4595,23,4599,23,4602,null,null,null,null,0,222]
[22,4755,23,4759,23,4763,null,null,null,null,0,222]
[22,5109,23,5112,23,5117,null,null,null,null,0,222]
[22,5340,23,5352,23,5358,null,null,null,null,0,222]
[22,5752,23,5756,23,5759,null,null,null,null,0,222]
[22,5886,23,5890,23,5893,null,null,null,null,0,222]
[22,6118,23,6137,23,6139,null,null,null,null,0,222]
[22,6355,23,6359,23,6361,null,null,null,null,0,222]
[22,6724,23,6726,23,6733,null,null,null,null,0,222]
[22,6862,23,6886,23,6999,null,null,null,null,0,222]
[22,7343,23,7378,23,7384,null,null,null,null,0,222]
[22,7645,23,7650,23,7658,null,null,null,null,0,222]
[22,8371,23,8396,23,8399,null,null,null,null,0,222]
[22,8693,23,8696,23,8699,null,null,null,null,0,222]
[22,9157,23,9160,23,9164,null,null,null,null,0,222]
[22,9504,23,9506,23,9511,null,null,null,null,0,222]
[22,12975,23,12978,23,12982,null,null,null,null,0,222]
[22,13514,23,13519,23,13522,null,null,null,null,0,222]
[22,13656,23,13660,23,13793,null,null,null,null,0,222]
[22,13890,23,13893,23,13896,null,null,null,null,0,222]
[22,14053,23,14060,23,14066,null,null,null,null,0,222]
[22,14182,23,14189,23,14194,null,null,null,null,0,222]
[22,14294,23,14325,23,14327,null,null,null,null,0,222]
[22,14643,23,14648,23,14652,null,null,null,null,0,222]
[22,15998,23,16002,23,16006,null,null,null,null,0,222]
[22,16784,23,16797,23,16807,null,null,null,null,0,222]
[22,19564,23,19589,23,19592,null,null,null,null,0,222]

{"sheet":"!LB30953..Ta","index":23,"n_rows":59,"n_cols":48,"rows_kept":59,"cut":false,"hidden":false,"merged":[[4,39,4,42],[5,39,5,40],[4,44,4,47],[5,44,5,45],[4,24,4,27],[5,24,5,25],[4,29,4,32],[5,29,5,30],[4,34,4,37],[5,34,5,35],[1,1,1,2],[5,13,5,14],[18,13,18,14],[19,13,19,14],[4,19,4,22],[5,19,5,20]]}
["Report for:!LB30953..Ta"]
["Date:","<date>"]
["Hen:","<hen>",null,null,null,"Correct Sequence",{"$f":"Start!J2","v":122},null,null,null,null,null,null,null,null,"Total Sequences in Data",{"$f":"4994-COUNTBLANK(L7:L5000)","v":53},null,null,null,null,"Total Sequences in Block Data",{"$f":"COUNTA(L7:L15)","v":9},null,null,null,"Total Sequences in Block Data",{"$f":"COUNTA(L16:L24)","v":9},null,null,null,"Total Sequences in Block Data",{"$f":"COUNTA(L25:L32)","v":8},null,null,null,"Total Sequences in Block Data",{"$f":"COUNTA(L33:L41)","v":9},null,null,null,"Total Sequences in Block Data",{"$f":"COUNTA(L42:L50)","v":9},null,null,null,"Total Sequences in Block Data",{"$f":"COUNTA(L51:L59)","v":9}]
[null,null,null,null,null,null,null,null,null,null,null,null,null,null,null,"Total Sequences in Summary",{"$f":"SUM(O7:O14)","v":53},null,null,null,null,"Total Sequences in Block Summary",{"$f":"SUM(U7:U14)","v":9},null,null,null,"Total Sequences in Block Summary",{"$f":"SUM(Z7:Z14)","v":9},null,null,null,"Total Sequences in Block Summary",{"$f":"SUM(AE7:AE14)","v":8},null,null,null,"Total Sequences in Block Summary",{"$f":"SUM(AJ7:AJ14)","v":9},null,null,null,"Total Sequences in Block Summary",{"$f":"SUM(AO7:AO14)","v":9},null,null,null,"Total Sequences in Block Summary",{"$f":"SUM(AT7:AT14)","v":9}]
[null,null,null,null,null,null,null,null,null,null,null,null,null,null,null,null,null,null,null,"Block 1",null,null,null,null,"Block 2",null,null,null,null,"Block 3",null,null,null,null,"Block 4",null,null,null,null,"Block 5",null,null,null,null,"Block 6"]
["Sequence\nComponent\n1","Time\n1","Sequence\nComponent\n2","Time\n2","Sequence\nComponent\n3","Time\n3","Sequence\nComponent\n4","Time\n4","Sequence\nComponent\n5","Time\n5","Correct?\n0=No 1=Yes","Sequence",null,"Frequency",null,"Relative Frequency","Variability",null,null,"Frequency",null,"Relative Frequency","Variability",null,"Frequency",null,"Relative Frequency","Variability",null,"Frequency",null,"Relative Frequency","Variability",null,"Frequency",null,"Relative Frequency","Variability",null,"Frequency",null,"Relative Frequency","Variability",null,"Frequency",null,"Relative Frequency","Variability"]
[22,9,23,12,23,25,null,null,null,null,0,222,null,111,{"$f":"COUNTIF($L$7:$L$500,N7)","v":0},{"$f":"O7/$Q$4","v":0},{"$f":"IF(P7=0,0,(P7*((LOG(P7))/LOG(2))))","v":0},null,null,{"$f":"N7","v":111},{"$f":"COUNTIF(L7:L15,T7)","v":0},{"$f":"U7/(W4-U10)","v":0},{"$f":"IF(V7=0,0,(V7*((LOG(V7))/LOG(2))))","v":0},null,{"$f":"N7","v":111},{"$f":"COUNTIF(L16:L24,Y7)","v":0},{"$f":"Z7/(AB4-Z10)","v":0},{"$f":"IF(AA7=0,0,(AA7*((LOG(AA7))/LOG(2))))","v":0},null,{"$f":"N7","v":111},{"$f":"COUNTIF(L25:L32,AD7)","v":0},{"$f":"AE7/(AG4-AE10)","v":0},{"$f":"IF(AF7=0,0,(AF7*((LOG(AF7))/LOG(2))))","v":0},null,{"$f":"N7","v":111},{"$f":"COUNTIF(L33:L41,AI7)","v":0},{"$f":"AJ7/(AL4-AJ10)","v":0},{"$f":"IF(AK7=0,0,(AK7*((LOG(AK7))/LOG(2))))","v":0},null,{"$f":"N7","v":111},{"$f":"COUNTIF(L42:L50,AN7)","v":0},{"$f":"AO7/(AQ4-AO10)","v":0},{"$f":"IF(AP7=0,0,(AP7*((LOG(AP7))/LOG(2))))","v":0},null,{"$f":"N7","v":111},{"$f":"COUNTIF(L51:L59,AS7)","v":0},{"$f":"AT7/(AV4-AT10)","v":0},{"$f":"IF(AU7=0,0,(AU7*((LOG(AU7))/LOG(2))))","v":0}]
[11,116,21,124,21,126,null,null,null,null,0,122,null,112,{"$f":"COUNTIF($L$7:$L$500,N8)","v":4},{"$f":"O8/$Q$4","v":7.5471698113207544E-2},{"$f":"IF(P8=0,0,(P8*((LOG(P8))/LOG(2))))","v":-0.28135248713684519},null,null,{"$f":"N8","v":112},{"$f":"COUNTIF(L7:L15,T8)","v":0},{"$f":"U8/(W4-U10)","v":0},{"$f":"IF(V8=0,0,(V8*((LOG(V8))/LOG(2))))","v":0},null,{"$f":"N8","v":112},{"$f":"COUNTIF(L16:L24,Y8)","v":1},{"$f":"Z8/(AB4-Z10)","v":0.33333333333333331},{"$f":"IF(AA8=0,0,(AA8*((LOG(AA8))/LOG(2))))","v":-0.52832083357371862},null,{"$f":"N8","v":112},{"$f":"COUNTIF(L25:L32,AD8)","v":0},{"$f":"AE8/(AG4-AE10)","v":0},{"$f":"IF(AF8=0,0,(AF8*((LOG(AF8))/LOG(2))))","v":0},null,{"$f":"N8","v":112},{"$f":"COUNTIF(L33:L41,AI8)","v":1},{"$f":"AJ8/(AL4-AJ10)","v":0.5},{"$f":"IF(AK8=0,0,(AK8*((LOG(AK8))/LOG(2))))","v":-0.5},null,{"$f":"N8","v":112},{"$f":"COUNTIF(L42:L50,AN8)","v":0},{"$f":"AO8/(AQ4-AO10)","v":0},{"$f":"IF(AP8=0,0,(AP8*((LOG(AP8))/LOG(2))))","v":0},null,{"$f":"N8","v":112},{"$f":"COUNTIF(L51:L59,AS8)","v":2},{"$f":"AT8/(AV4-AT10)","v":0.66666666666666663},{"$f":"IF(AU8=0,0,(AU8*((LOG(AU8))/LOG(2))))","v":-0.38997500048077083}]
[22,239,14,247,23,263,null,null,null,null,0,212,null,121,{"$f":"COUNTIF($L$7:$L$500,N9)","v":0},{"$f":"O9/$Q$4","v":0},{"$f":"IF(P9=0,0,(P9*((LOG(P9))/LOG(2))))","v":0},null,null,{"$f":"N9","v":121},{"$f":"COUNTIF(L7:L15,T9)","v":0},{"$f":"U9/(W4-U10)","v":0},{"$f":"IF(V9=0,0,(V9*((LOG(V9))/LOG(2))))","v":0},null,{"$f":"N9","v":121},{"$f":"COUNTIF(L16:L24,Y9)","v":0},{"$f":"Z9/(AB4-Z10)","v":0},{"$f":"IF(AA9=0,0,(AA9*((LOG(AA9))/LOG(2))))","v":0},null,{"$f":"N9","v":121},{"$f":"COUNTIF(L25:L32,AD9)","v":0},{"$f":"AE9/(AG4-AE10)","v":0},{"$f":"IF(AF9=0,0,(AF9*((LOG(AF9))/LOG(2))))","v":0},null,{"$f":"N9","v":121},{"$f":"COUNTIF(L33:L41,AI9)","v":0},{"$f":"AJ9/(AL4-AJ10)","v":0},{"$f":"IF(AK9=0,0,(AK9*((LOG(AK9))/LOG(2))))","v":0},null,{"$f":"N9","v":121},{"$f":"COUNTIF(L42:L50,AN9)","v":0},{"$f":"AO9/(AQ4-AO10)","v":0},{"$f":"IF(AP9=0,0,(AP9*((LOG(AP9))/LOG(2))))","v":0},null,{"$f":"N9","v":121},{"$f":"COUNTIF(L51:L59,AS9)","v":0},{"$f":"AT9/(AV4-AT10)","v":0},{"$f":"IF(AU9=0,0,(AU9*((LOG(AU9))/LOG(2))))","v":0}]
[11,362,21,378,21,381,null,null,null,null,0,122,null,122,{"$f":"COUNTIF($L$7:$L$500,N10)","v":39},{"$f":"O10/$Q$4","v":0.73584905660377353},{"$f":"IF(P10=0,0,(P10*((LOG(P10))/LOG(2))))","v":-0.32562662627051103},null,null,{"$f":"N10","v":122},{"$f":"COUNTIF(L7:L15,T10)","v":6},null,null,null,{"$f":"N10","v":122},{"$f":"COUNTIF(L16:L24,Y10)","v":6},null,null,null,{"$f":"N10","v":122},{"$f":"COUNTIF(L25:L32,AD10)","v":7},null,null,null,{"$f":"N10","v":122},{"$f":"COUNTIF(L33:L41,AI10)","v":7},null,null,null,{"$f":"N10","v":122},{"$f":"COUNTIF(L42:L50,AN10)","v":7},null,null,null,{"$f":"N10","v":122},{"$f":"COUNTIF(L51:L59,AS10)","v":6}]
[11,489,21,496,21,503,null,null,null,null,0,122,null,211,{"$f":"COUNTIF($L$7:$L$500,N11)","v":0},{"$f":"O11/$Q$4","v":0},{"$f":"IF(P11=0,0,(P11*((LOG(P11))/LOG(2))))","v":0},null,null,{"$f":"N11","v":211},{"$f":"COUNTIF(L7:L15,T11)","v":0},{"$f":"U11/(W4-U10)","v":0},{"$f":"IF(V11=0,0,(V11*((LOG(V11))/LOG(2))))","v":0},null,{"$f":"N11","v":211},{"$f":"COUNTIF(L16:L24,Y11)","v":0},{"$f":"Z11/(AB4-Z10)","v":0},{"$f":"IF(AA11=0,0,(AA11*((LOG(AA11))/LOG(2))))","v":0},null,{"$f":"N11","v":211},{"$f":"COUNTIF(L25:L32,AD11)","v":0},{"$f":"AE11/(AG4-AE10)","v":0},{"$f":"IF(AF11=0,0,(AF11*((LOG(AF11))/LOG(2))))","v":0},null,{"$f":"N11","v":211},{"$f":"COUNTIF(L33:L41,AI11)","v":0},{"$f":"AJ11/(AL4-AJ10)","v":0},{"$f":"IF(AK11=0,0,(AK11*((LOG(AK11))/LOG(2))))","v":0},null,{"$f":"N11","v":211},{"$f":"COUNTIF(L42:L50,AN11)","v":0},{"$f":"AO11/(AQ4-AO10)","v":0},{"$f":"IF(AP11=0,0,(AP11*((LOG(AP11))/LOG(2))))","v":0},null,{"$f":"N11","v":211},{"$f":"COUNTIF(L51:L59,AS11)","v":0},{"$f":"AT11/(AV4-AT10)","v":0},{"$f":"IF(AU11=0,0,(AU11*((LOG(AU11))/LOG(2))))","v":0}]
[22,637,23,643,23,649,null,null,null,null,0,222,null,212,{"$f":"COUNTIF($L$7:$L$500,N12)","v":1},{"$f":"O12/$Q$4","v":1.8867924528301886E-2},{"$f":"IF(P12=0,0,(P12*((LOG(P12))/LOG(2))))","v":-0.10807397084081509},null,null,{"$f":"N12","v":212},{"$f":"COUNTIF(L7:L15,T12)","v":1},{"$f":"U12/(W4-U10)","v":0.33333333333333331},{"$f":"IF(V12=0,0,(V12*((LOG(V12))/LOG(2))))","v":-0.52832083357371862},null,{"$f":"N12","v":212},{"$f":"COUNTIF(L16:L24,Y12)","v":0},{"$f":"Z12/(AB4-Z10)","v":0},{"$f":"IF(AA12=0,0,(AA12*((LOG(AA12))/LOG(2))))","v":0},null,{"$f":"N12","v":212},{"$f":"COUNTIF(L25:L32,AD12)","v":0},{"$f":"AE12/(AG4-AE10)","v":0},{"$f":"IF(AF12=0,0,(AF12*((LOG(AF12))/LOG(2))))","v":0},null,{"$f":"N12","v":212},{"$f":"COUNTIF(L33:L41,AI12)","v":0},{"$f":"AJ12/(AL4-AJ10)","v":0},{"$f":"IF(AK12=0,0,(AK12*((LOG(AK12))/LOG(2))))","v":0},null,{"$f":"N12","v":212},{"$f":"COUNTIF(L42:L50,AN12)","v":0},{"$f":"AO12/(AQ4-AO10)","v":0},{"$f":"IF(AP12=0,0,(AP12*((LOG(AP12))/LOG(2))))","v":0},null,{"$f":"N12","v":212},{"$f":"COUNTIF(L51:L59,AS12)","v":0},{"$f":"AT12/(AV4-AT10)","v":0},{"$f":"IF(AU12=0,0,(AU12*((LOG(AU12))/LOG(2))))","v":0}]
[11,747,21,762,21,765,null,null,null,null,0,122,null,221,{"$f":"COUNTIF($L$7:$L$500,N13)","v":0},{"$f":"O13/$Q$4","v":0},{"$f":"IF(P13=0,0,(P13*((LOG(P13))/LOG(2))))","v":0},null,null,{"$f":"N13","v":221},{"$f":"COUNTIF(L7:L15,T13)","v":0},{"$f":"U13/(W4-U10)","v":0},{"$f":"IF(V13=0,0,(V13*((LOG(V13))/LOG(2))))","v":0},null,{"$f":"N13","v":221},{"$f":"COUNTIF(L16:L24,Y13)","v":0},{"$f":"Z13/(AB4-Z10)","v":0},{"$f":"IF(AA13=0,0,(AA13*((LOG(AA13))/LOG(2))))","v":0},null,{"$f":"N13","v":221},{"$f":"COUNTIF(L25:L32,AD13)","v":0},{"$f":"AE13/(AG4-AE10)","v":0},{"$f":"IF(AF13=0,0,(AF13*((LOG(AF13))/LOG(2))))","v":0},null,{"$f":"N13","v":221},{"$f":"COUNTIF(L33:L41,AI13)","v":0},{"$f":"AJ13/(AL4-AJ10)","v":0},{"$f":"IF(AK13=0,0,(AK13*((LOG(AK13))/LOG(2))))","v":0},null,{"$f":"N13","v":221},{"$f":"COUNTIF(L42:L50,AN13)","v":0},{"$f":"AO13/(AQ4-AO10)","v":0},{"$f":"IF(AP13=0,0,(AP13*((LOG(AP13))/LOG(2))))","v":0},null,{"$f":"N13","v":221},{"$f":"COUNTIF(L51:L59,AS13)","v":0},{"$f":"AT13/(AV4-AT10)","v":0},{"$f":"IF(AU13=0,0,(AU13*((LOG(AU13))/LOG(2))))","v":0}]
[11,862,21,871,21,874,null,null,null,null,0,122,null,222,{"$f":"COUNTIF($L$7:$L$500,N14)","v":9},{"$f":"O14/$Q$4","v":0.16981132075471697},{"$f":"IF(P14=0,0,(P14*((LOG(P14))/LOG(2))))","v":-0.43437658637901844},null,null,{"$f":"N14","v":222},{"$f":"COUNTIF(L7:L15,T14)","v":2},{"$f":"U14/(W4-U10)","v":0.66666666666666663},{"$f":"IF(V14=0,0,(V14*((LOG(V14))/LOG(2))))","v":-0.38997500048077083},null,{"$f":"N14","v":222},{"$f":"COUNTIF(L16:L24,Y14)","v":2},{"$f":"Z14/(AB4-Z10)","v":0.66666666666666663},{"$f":"IF(AA14=0,0,(AA14*((LOG(AA14))/LOG(2))))","v":-0.38997500048077083},null,{"$f":"N14","v":222},{"$f":"COUNTIF(L25:L32,AD14)","v":1},{"$f":"AE14/(AG4-AE10)","v":1},{"$f":"IF(AF14=0,0,(AF14*((LOG(AF14))/LOG(2))))","v":0},null,{"$f":"N14","v":222},{"$f":"COUNTIF(L33:L41,AI14)","v":1},{"$f":"AJ14/(AL4-AJ10)","v":0.5},{"$f":"IF(AK14=0,0,(AK14*((LOG(AK14))/LOG(2))))","v":-0.5},null,{"$f":"N14","v":222},{"$f":"COUNTIF(L42:L50,AN14)","v":2},{"$f":"AO14/(AQ4-AO10)","v":1},{"$f":"IF(AP14=0,0,(AP14*((LOG(AP14))/LOG(2))))","v":0},null,{"$f":"N14","v":222},{"$f":"COUNTIF(L51:L59,AS14)","v":1},{"$f":"AT14/(AV4-AT10)","v":0.33333333333333331},{"$f":"IF(AU14=0,0,(AU14*((LOG(AU14))/LOG(2))))","v":-0.52832083357371862}]
[11,967,21,976,21,980,null,null,null,null,0,122,null,null,null,{"$f":"SUM(P7:P14)","v":0.99999999999999989},{"$f":"-SUM(Q7:Q14)","v":1.1494296706271898},null,null,null,null,{"$f":"SUM(V7:V14)","v":1},{"$f":"-SUM(W7:W14)","v":0.91829583405448945},null,null,null,{"$f":"SUM(AA7:AA14)","v":1},{"$f":"-SUM(AB7:AB14)","v":0.91829583405448945},null,null,null,{"$f":"SUM(AF7:AF14)","v":1},{"$f":"-SUM(AG7:AG14)","v":0},null,null,null,{"$f":"SUM(AK7:AK14)","v":1},{"$f":"-SUM(AL7:AL14)","v":1},null,null,null,{"$f":"SUM(AP7:AP14)","v":1},{"$f":"-SUM(AQ7:AQ14)","v":0},null,null,null,{"$f":"SUM(AU7:AU14)","v":1},{"$f":"-SUM(AV7:AV14)","v":0.91829583405448945}]
[11,1079,21,1092,21,1095,null,null,null,null,0,122,null,null,null,"U=",{"$f":"Q15/(LOG(Q4)/LOG(2))","v":0.20067137449708933},null,null,null,null,"U1=",{"$f":"W15/(LOG(W4)/LOG(2))","v":0.28969008214284753},null,null,null,"U2=",{"$f":"AB15/(LOG(AB4)/LOG(2))","v":0.28969008214284753},null,null,null,"U3=",{"$f":"AG15/(LOG(AG4)/LOG(2))","v":0},null,null,null,"U4=",{"$f":"AL15/(LOG(AL4)/LOG(2))","v":0.31546487678572877},null,null,null,"U5=",{"$f":"AQ15/(LOG(AQ4)/LOG(2))","v":0},null,null,null,"U6=",{"$f":"AV15/(LOG(AV4)/LOG(2))","v":0.28969008214284753}]
[11,1189,21,1206,21,1209,null,null,null,null,0,122]
[11,1302,21,1310,21,1314,null,null,null,null,0,122]
[22,1417,23,1424,23,1430,null,null,null,null,0,222,null,"Total Target Seq"]
[11,1532,21,1541,21,1545,null,null,null,null,0,122,null,{"$f":"COUNTIF(L7:L59,G3)","v":39},null,9,9,8,9,9,9]
[11,1649,21,1662,21,1666,null,null,null,null,0,122,null,null,null,"% of reinforcement given in 6 equal intervals based on number of trials "]
[11,1770,21,1779,21,1785,null,null,null,null,0,122,null,null,null,"%_1","%_2","%_3","%_4","%_5","%_6"]
[22,1888,23,1904,23,1909,null,null,null,null,0,222,null,null,"target sequence",{"$f":"$G$3","v":122},{"$f":"$G$3","v":122},{"$f":"$G$3","v":122},{"$f":"$G$3","v":122},{"$f":"$G$3","v":122},{"$f":"$G$3","v":122}]
[11,2007,12,2014,23,2032,null,null,null,null,0,112,null,null,"total reinforcement",{"$f":"U10","v":6},{"$f":"Z10","v":6},{"$f":"AE10","v":7},{"$f":"AJ10","v":7},{"$f":"AO10","v":7},{"$f":"AT10","v":6}]
[11,2131,21,2149,21,2153,null,null,null,null,0,122,null,null,"% target"]
[11,2247,21,2257,21,2265,null,null,null,null,0,122,null,null,"CCRF"]
[11,2359,21,2372,21,2375,null,null,null,null,0,122,null,null,"% CCRf"]
[22,2482,23,2486,23,2492,null,null,null,null,0,222,null,null,"average response rate",{"$f":"F15/P20","v":108.88888888888889},{"$f":"(F24-F15)/Q20","v":116.88888888888889},{"$f":"(F32-F24)/R20","v":116.25},{"$f":"(F41-F32)/S20","v":126.55555555555556},{"$f":"(F50-F41)/T20","v":124.66666666666667},{"$f":"(F59-F50)/U20","v":123.88888888888889}]
[11,2587,21,2595,21,2599,null,null,null,null,0,122]
[11,2725,21,2738,21,2743,null,null,null,null,0,122]
[11,2841,21,2848,21,2857,null,null,null,null,0,122]
[11,2951,21,2959,21,2962,null,null,null,null,0,122]
[22,3094,23,3106,23,3115,null,null,null,null,0,222]
[11,3213,12,3229,23,3235,null,null,null,null,0,112]
[11,3333,21,3344,21,3347,null,null,null,null,0,122]
[11,3462,21,3475,21,3478,null,null,null,null,0,122]
[11,3576,21,3584,21,3587,null,null,null,null,0,122]
[11,3733,21,3743,21,3747,null,null,null,null,0,122]
[11,3840,21,3853,21,3856,null,null,null,null,0,122]
[11,3957,21,3971,21,3989,null,null,null,null,0,122]
[11,4084,21,4091,21,4101,null,null,null,null,0,122]
[11,4195,21,4203,21,4210,null,null,null,null,0,122]
[11,4302,21,4313,21,4320,null,null,null,null,0,122]
[22,4438,23,4444,23,4449,null,null,null,null,0,222]
[11,4546,21,4559,21,4568,null,null,null,null,0,122]
[22,4686,23,4691,23,4696,null,null,null,null,0,222]
[11,4813,21,4820,21,4833,null,null,null,null,0,122]
[11,4930,21,4939,21,4946,null,null,null,null,0,122]
[11,5067,21,5080,21,5090,null,null,null,null,0,122]
[11,5201,21,5220,21,5223,null,null,null,null,0,122]
[11,5341,21,5351,21,5355,null,null,null,null,0,122]
[11,5459,21,5473,21,5478,null,null,null,null,0,122]
[11,5571,21,5586,21,5597,null,null,null,null,0,122]
[22,5750,23,5753,23,5762,null,null,null,null,0,222]
[11,5864,21,5875,21,5882,null,null,null,null,0,122]
[11,5977,21,5986,21,5991,null,null,null,null,0,122]
[11,6098,12,6103,23,6112,null,null,null,null,0,112]
[11,6208,12,6212,23,6228,null,null,null,null,0,112]
[11,6324,21,6335,21,6338,null,null,null,null,1,122]

{"sheet":"!LC01B13..Ta","index":24,"n_rows":60,"n_cols":48,"rows_kept":60,"cut":false,"hidden":false,"merged":[[4,39,4,42],[5,39,5,40],[4,44,4,47],[5,44,5,45],[4,24,4,27],[5,24,5,25],[4,29,4,32],[5,29,5,30],[4,34,4,37],[5,34,5,35],[1,1,1,2],[5,13,5,14],[18,13,18,14],[19,13,19,14],[4,19,4,22],[5,19,5,20]]}
["Report for:!LC01B13..Ta"]
["Date:","<date>"]
["Hen:","<hen>",null,null,null,"Correct Sequence",{"$f":"Start!J2","v":122},null,null,null,null,null,null,null,null,"Total Sequences in Data",{"$f":"4994-COUNTBLANK(L7:L5000)","v":54},null,null,null,null,"Total Sequences in Block Data",{"$f":"COUNTA(L7:L15)","v":9},null,null,null,"Total Sequences in Block Data",{"$f":"COUNTA(L16:L24)","v":9},null,null,null,"Total Sequences in Block Data",{"$f":"COUNTA(L25:L33)","v":9},null,null,null,"Total Sequences in Block Data",{"$f":"COUNTA(L34:L42)","v":9},null,null,null,"Total Sequences in Block Data",{"$f":"COUNTA(L43:L51)","v":9},null,null,null,"Total Sequences in Block Data",{"$f":"COUNTA(L52:L60)","v":9}]
[null,null,null,null,null,null,null,null,null,null,null,null,null,null,null,"Total Sequences in Summary",{"$f":"SUM(O7:O14)","v":54},null,null,null,null,"Total Sequences in Block Summary",{"$f":"SUM(U7:U14)","v":9},null,null,null,"Total Sequences in Block Summary",{"$f":"SUM(Z7:Z14)","v":9},null,null,null,"Total Sequences in Block Summary",{"$f":"SUM(AE7:AE14)","v":9},null,null,null,"Total Sequences in Block Summary",{"$f":"SUM(AJ7:AJ14)","v":9},null,null,null,"Total Sequences in Block Summary",{"$f":"SUM(AO7:AO14)","v":9},null,null,null,"Total Sequences in Block Summary",{"$f":"SUM(AT7:AT14)","v":9}]
[null,null,null,null,null,null,null,null,null,null,null,null,null,null,null,null,null,null,null,"Block 1",null,null,null,null,"Block 2",null,null,null,null,"Block 3",null,null,null,null,"Block 4",null,null,null,null,"Block 5",null,null,null,null,"Block 6"]
["Sequence\nComponent\n1","Time\n1","Sequence\nComponent\n2","Time\n2","Sequence\nComponent\n3","Time\n3","Sequence\nComponent\n4","Time\n4","Sequence\nComponent\n5","Time\n5","Correct?\n0=No 1=Yes","Sequence",null,"Frequency",null,"Relative Frequency","Variability",null,null,"Frequency",null,"Relative Frequency","Variability",null,"Frequency",null,"Relative Frequency","Variability",null,"Frequency",null,"Relative Frequency","Variability",null,"Frequency",null,"Relative Frequency","Variability",null,"Frequency",null,"Relative Frequency","Variability",null,"Frequency",null,"Relative Frequency","Variability"]
[22,15,23,26,23,33,null,null,null,null,0,222,null,111,{"$f":"COUNTIF($L$7:$L$500,N7)","v":0},{"$f":"O7/$Q$4","v":0},{"$f":"IF(P7=0,0,(P7*((LOG(P7))/LOG(2))))","v":0},null,null,{"$f":"N7","v":111},{"$f":"COUNTIF(L7:L15,T7)","v":0},{"$f":"U7/(W4-U10)","v":0},{"$f":"IF(V7=0,0,(V7*((LOG(V7))/LOG(2))))","v":0},null,{"$f":"N7","v":111},{"$f":"COUNTIF(L16:L24,Y7)","v":0},{"$f":"Z7/(AB4-Z10)","v":0},{"$f":"IF(AA7=0,0,(AA7*((LOG(AA7))/LOG(2))))","v":0},null,{"$f":"N7","v":111},{"$f":"COUNTIF(L25:L33,AD7)","v":0},{"$f":"AE7/(AG4-AE10)","v":0},{"$f":"IF(AF7=0,0,(AF7*((LOG(AF7))/LOG(2))))","v":0},null,{"$f":"N7","v":111},{"$f":"COUNTIF(L34:L42,AI7)","v":0},{"$f":"AJ7/(AL4-AJ10)","v":0},{"$f":"IF(AK7=0,0,(AK7*((LOG(AK7))/LOG(2))))","v":0},null,{"$f":"N7","v":111},{"$f":"COUNTIF(L43:L51,AN7)","v":0},{"$f":"AO7/(AQ4-AO10)","v":0},{"$f":"IF(AP7=0,0,(AP7*((LOG(AP7))/LOG(2))))","v":0},null,{"$f":"N7","v":111},{"$f":"COUNTIF(L52:L60,AS7)","v":0},{"$f":"AT7/(AV4-AT10)","v":0},{"$f":"IF(AU7=0,0,(AU7*((LOG(AU7))/LOG(2))))","v":0}]
[11,131,21,143,21,150,null,null,null,null,0,122,null,112,{"$f":"COUNTIF($L$7:$L$500,N8)","v":3},{"$f":"O8/$Q$4","v":5.5555555555555552E-2},{"$f":"IF(P8=0,0,(P8*((LOG(P8))/LOG(2))))","v":-0.23166250008012845},null,null,{"$f":"N8","v":112},{"$f":"COUNTIF(L7:L15,T8)","v":0},{"$f":"U8/(W4-U10)","v":0},{"$f":"IF(V8=0,0,(V8*((LOG(V8))/LOG(2))))","v":0},null,{"$f":"N8","v":112},{"$f":"COUNTIF(L16:L24,Y8)","v":1},{"$f":"Z8/(AB4-Z10)","v":0.2},{"$f":"IF(AA8=0,0,(AA8*((LOG(AA8))/LOG(2))))","v":-0.46438561897747244},null,{"$f":"N8","v":112},{"$f":"COUNTIF(L25:L33,AD8)","v":0},{"$f":"AE8/(AG4-AE10)","v":0},{"$f":"IF(AF8=0,0,(AF8*((LOG(AF8))/LOG(2))))","v":0},null,{"$f":"N8","v":112},{"$f":"COUNTIF(L34:L42,AI8)","v":0},{"$f":"AJ8/(AL4-AJ10)","v":0},{"$f":"IF(AK8=0,0,(AK8*((LOG(AK8))/LOG(2))))","v":0},null,{"$f":"N8","v":112},{"$f":"COUNTIF(L43:L51,AN8)","v":1},{"$f":"AO8/(AQ4-AO10)","v":0.5},{"$f":"IF(AP8=0,0,(AP8*((LOG(AP8))/LOG(2))))","v":-0.5},null,{"$f":"N8","v":112},{"$f":"COUNTIF(L52:L60,AS8)","v":1},{"$f":"AT8/(AV4-AT10)","v":0.5},{"$f":"IF(AU8=0,0,(AU8*((LOG(AU8))/LOG(2))))","v":-0.5}]
[22,318,23,321,23,326,null,null,null,null,0,222,null,121,{"$f":"COUNTIF($L$7:$L$500,N9)","v":0},{"$f":"O9/$Q$4","v":0},{"$f":"IF(P9=0,0,(P9*((LOG(P9))/LOG(2))))","v":0},null,null,{"$f":"N9","v":121},{"$f":"COUNTIF(L7:L15,T9)","v":0},{"$f":"U9/(W4-U10)","v":0},{"$f":"IF(V9=0,0,(V9*((LOG(V9))/LOG(2))))","v":0},null,{"$f":"N9","v":121},{"$f":"COUNTIF(L16:L24,Y9)","v":0},{"$f":"Z9/(AB4-Z10)","v":0},{"$f":"IF(AA9=0,0,(AA9*((LOG(AA9))/LOG(2))))","v":0},null,{"$f":"N9","v":121},{"$f":"COUNTIF(L25:L33,AD9)","v":0},{"$f":"AE9/(AG4-AE10)","v":0},{"$f":"IF(AF9=0,0,(AF9*((LOG(AF9))/LOG(2))))","v":0},null,{"$f":"N9","v":121},{"$f":"COUNTIF(L34:L42,AI9)","v":0},{"$f":"AJ9/(AL4-AJ10)","v":0},{"$f":"IF(AK9=0,0,(AK9*((LOG(AK9))/LOG(2))))","v":0},null,{"$f":"N9","v":121},{"$f":"COUNTIF(L43:L51,AN9)","v":0},{"$f":"AO9/(AQ4-AO10)","v":0},{"$f":"IF(AP9=0,0,(AP9*((LOG(AP9))/LOG(2))))","v":0},null,{"$f":"N9","v":121},{"$f":"COUNTIF(L52:L60,AS9)","v":0},{"$f":"AT9/(AV4-AT10)","v":0},{"$f":"IF(AU9=0,0,(AU9*((LOG(AU9))/LOG(2))))","v":0}]
[11,436,21,443,21,447,null,null,null,null,0,122,null,122,{"$f":"COUNTIF($L$7:$L$500,N10)","v":39},{"$f":"O10/$Q$4","v":0.72222222222222221},{"$f":"IF(P10=0,0,(P10*((LOG(P10))/LOG(2))))","v":-0.33907270460643685},null,null,{"$f":"N10","v":122},{"$f":"COUNTIF(L7:L15,T10)","v":6},null,null,null,{"$f":"N10","v":122},{"$f":"COUNTIF(L16:L24,Y10)","v":4},null,null,null,{"$f":"N10","v":122},{"$f":"COUNTIF(L25:L33,AD10)","v":8},null,null,null,{"$f":"N10","v":122},{"$f":"COUNTIF(L34:L42,AI10)","v":7},null,null,null,{"$f":"N10","v":122},{"$f":"COUNTIF(L43:L51,AN10)","v":7},null,null,null,{"$f":"N10","v":122},{"$f":"COUNTIF(L52:L60,AS10)","v":7}]
[22,599,23,601,23,605,null,null,null,null,0,222,null,211,{"$f":"COUNTIF($L$7:$L$500,N11)","v":0},{"$f":"O11/$Q$4","v":0},{"$f":"IF(P11=0,0,(P11*((LOG(P11))/LOG(2))))","v":0},null,null,{"$f":"N11","v":211},{"$f":"COUNTIF(L7:L15,T11)","v":0},{"$f":"U11/(W4-U10)","v":0},{"$f":"IF(V11=0,0,(V11*((LOG(V11))/LOG(2))))","v":0},null,{"$f":"N11","v":211},{"$f":"COUNTIF(L16:L24,Y11)","v":0},{"$f":"Z11/(AB4-Z10)","v":0},{"$f":"IF(AA11=0,0,(AA11*((LOG(AA11))/LOG(2))))","v":0},null,{"$f":"N11","v":211},{"$f":"COUNTIF(L25:L33,AD11)","v":0},{"$f":"AE11/(AG4-AE10)","v":0},{"$f":"IF(AF11=0,0,(AF11*((LOG(AF11))/LOG(2))))","v":0},null,{"$f":"N11","v":211},{"$f":"COUNTIF(L34:L42,AI11)","v":0},{"$f":"AJ11/(AL4-AJ10)","v":0},{"$f":"IF(AK11=0,0,(AK11*((LOG(AK11))/LOG(2))))","v":0},null,{"$f":"N11","v":211},{"$f":"COUNTIF(L43:L51,AN11)","v":0},{"$f":"AO11/(AQ4-AO10)","v":0},{"$f":"IF(AP11=0,0,(AP11*((LOG(AP11))/LOG(2))))","v":0},null,{"$f":"N11","v":211},{"$f":"COUNTIF(L52:L60,AS11)","v":0},{"$f":"AT11/(AV4-AT10)","v":0},{"$f":"IF(AU11=0,0,(AU11*((LOG(AU11))/LOG(2))))","v":0}]
[11,712,21,724,21,730,null,null,null,null,0,122,null,212,{"$f":"COUNTIF($L$7:$L$500,N12)","v":0},{"$f":"O12/$Q$4","v":0},{"$f":"IF(P12=0,0,(P12*((LOG(P12))/LOG(2))))","v":0},null,null,{"$f":"N12","v":212},{"$f":"COUNTIF(L7:L15,T12)","v":0},{"$f":"U12/(W4-U10)","v":0},{"$f":"IF(V12=0,0,(V12*((LOG(V12))/LOG(2))))","v":0},null,{"$f":"N12","v":212},{"$f":"COUNTIF(L16:L24,Y12)","v":0},{"$f":"Z12/(AB4-Z10)","v":0},{"$f":"IF(AA12=0,0,(AA12*((LOG(AA12))/LOG(2))))","v":0},null,{"$f":"N12","v":212},{"$f":"COUNTIF(L25:L33,AD12)","v":0},{"$f":"AE12/(AG4-AE10)","v":0},{"$f":"IF(AF12=0,0,(AF12*((LOG(AF12))/LOG(2))))","v":0},null,{"$f":"N12","v":212},{"$f":"COUNTIF(L34:L42,AI12)","v":0},{"$f":"AJ12/(AL4-AJ10)","v":0},{"$f":"IF(AK12=0,0,(AK12*((LOG(AK12))/LOG(2))))","v":0},null,{"$f":"N12","v":212},{"$f":"COUNTIF(L43:L51,AN12)","v":0},{"$f":"AO12/(AQ4-AO10)","v":0},{"$f":"IF(AP12=0,0,(AP12*((LOG(AP12))/LOG(2))))","v":0},null,{"$f":"N12","v":212},{"$f":"COUNTIF(L52:L60,AS12)","v":0},{"$f":"AT12/(AV4-AT10)","v":0},{"$f":"IF(AU12=0,0,(AU12*((LOG(AU12))/LOG(2))))","v":0}]
[11,872,21,887,21,894,null,null,null,null,0,122,null,221,{"$f":"COUNTIF($L$7:$L$500,N13)","v":0},{"$f":"O13/$Q$4","v":0},{"$f":"IF(P13=0,0,(P13*((LOG(P13))/LOG(2))))","v":0},null,null,{"$f":"N13","v":221},{"$f":"COUNTIF(L7:L15,T13)","v":0},{"$f":"U13/(W4-U10)","v":0},{"$f":"IF(V13=0,0,(V13*((LOG(V13))/LOG(2))))","v":0},null,{"$f":"N13","v":221},{"$f":"COUNTIF(L16:L24,Y13)","v":0},{"$f":"Z13/(AB4-Z10)","v":0},{"$f":"IF(AA13=0,0,(AA13*((LOG(AA13))/LOG(2))))","v":0},null,{"$f":"N13","v":221},{"$f":"COUNTIF(L25:L33,AD13)","v":0},{"$f":"AE13/(AG4-AE10)","v":0},{"$f":"IF(AF13=0,0,(AF13*((LOG(AF13))/LOG(2))))","v":0},null,{"$f":"N13","v":221},{"$f":"COUNTIF(L34:L42,AI13)","v":0},{"$f":"AJ13/(AL4-AJ10)","v":0},{"$f":"IF(AK13=0,0,(AK13*((LOG(AK13))/LOG(2))))","v":0},null,{"$f":"N13","v":221},{"$f":"COUNTIF(L43:L51,AN13)","v":0},{"$f":"AO13/(AQ4-AO10)","v":0},{"$f":"IF(AP13=0,0,(AP13*((LOG(AP13))/LOG(2))))","v":0},null,{"$f":"N13","v":221},{"$f":"COUNTIF(L52:L60,AS13)","v":0},{"$f":"AT13/(AV4-AT10)","v":0},{"$f":"IF(AU13=0,0,(AU13*((LOG(AU13))/LOG(2))))","v":0}]
[11,996,21,1009,21,1013,null,null,null,null,0,122,null,222,{"$f":"COUNTIF($L$7:$L$500,N14)","v":12},{"$f":"O14/$Q$4","v":0.22222222222222221},{"$f":"IF(P14=0,0,(P14*((LOG(P14))/LOG(2))))","v":-0.48220555587606945},null,null,{"$f":"N14","v":222},{"$f":"COUNTIF(L7:L15,T14)","v":3},{"$f":"U14/(W4-U10)","v":1},{"$f":"IF(V14=0,0,(V14*((LOG(V14))/LOG(2))))","v":0},null,{"$f":"N14","v":222},{"$f":"COUNTIF(L16:L24,Y14)","v":4},{"$f":"Z14/(AB4-Z10)","v":0.8},{"$f":"IF(AA14=0,0,(AA14*((LOG(AA14))/LOG(2))))","v":-0.25754247590988982},null,{"$f":"N14","v":222},{"$f":"COUNTIF(L25:L33,AD14)","v":1},{"$f":"AE14/(AG4-AE10)","v":1},{"$f":"IF(AF14=0,0,(AF14*((LOG(AF14))/LOG(2))))","v":0},null,{"$f":"N14","v":222},{"$f":"COUNTIF(L34:L42,AI14)","v":2},{"$f":"AJ14/(AL4-AJ10)","v":1},{"$f":"IF(AK14=0,0,(AK14*((LOG(AK14))/LOG(2))))","v":0},null,{"$f":"N14","v":222},{"$f":"COUNTIF(L43:L51,AN14)","v":1},{"$f":"AO14/(AQ4-AO10)","v":0.5},{"$f":"IF(AP14=0,0,(AP14*((LOG(AP14))/LOG(2))))","v":-0.5},null,{"$f":"N14","v":222},{"$f":"COUNTIF(L52:L60,AS14)","v":1},{"$f":"AT14/(AV4-AT10)","v":0.5},{"$f":"IF(AU14=0,0,(AU14*((LOG(AU14))/LOG(2))))","v":-0.5}]
[11,1109,21,1119,21,1123,null,null,null,null,0,122,null,null,null,{"$f":"SUM(P7:P14)","v":1},{"$f":"-SUM(Q7:Q14)","v":1.0529407605626346},null,null,null,null,{"$f":"SUM(V7:V14)","v":1},{"$f":"-SUM(W7:W14)","v":0},null,null,null,{"$f":"SUM(AA7:AA14)","v":1},{"$f":"-SUM(AB7:AB14)","v":0.72192809488736231},null,null,null,{"$f":"SUM(AF7:AF14)","v":1},{"$f":"-SUM(AG7:AG14)","v":0},null,null,null,{"$f":"SUM(AK7:AK14)","v":1},{"$f":"-SUM(AL7:AL14)","v":0},null,null,null,{"$f":"SUM(AP7:AP14)","v":1},{"$f":"-SUM(AQ7:AQ14)","v":1},null,null,null,{"$f":"SUM(AU7:AU14)","v":1},{"$f":"-SUM(AV7:AV14)","v":1}]
[22,1314,23,1317,23,1322,null,null,null,null,0,222,null,null,null,"U=",{"$f":"Q15/(LOG(Q4)/LOG(2))","v":0.18296461228248098},null,null,null,null,"U1=",{"$f":"W15/(LOG(W4)/LOG(2))","v":0},null,null,null,"U2=",{"$f":"AB15/(LOG(AB4)/LOG(2))","v":0.22774295750179763},null,null,null,"U3=",{"$f":"AG15/(LOG(AG4)/LOG(2))","v":0},null,null,null,"U4=",{"$f":"AL15/(LOG(AL4)/LOG(2))","v":0},null,null,null,"U5=",{"$f":"AQ15/(LOG(AQ4)/LOG(2))","v":0.31546487678572877},null,null,null,"U6=",{"$f":"AV15/(LOG(AV4)/LOG(2))","v":0.31546487678572877}]
[11,1420,21,1431,21,1435,null,null,null,null,0,122]
[22,1559,23,1564,23,1573,null,null,null,null,0,222]
[11,1670,21,1684,21,1687,null,null,null,null,0,122,null,"Total Target Seq"]
[22,1828,23,1831,23,1837,null,null,null,null,0,222,null,{"$f":"COUNTIF(L7:L60,G3)","v":39},null,9,9,9,9,9,9]
[11,1934,21,1945,21,1949,null,null,null,null,0,122,null,null,null,"% of reinforcement given in 6 equal intervals based on number of trials "]
[22,2078,23,2081,23,2084,null,null,null,null,0,222,null,null,null,"%_1","%_2","%_3","%_4","%_5","%_6"]
[11,2184,12,2194,23,2206,null,null,null,null,0,112,null,null,"target sequence",{"$f":"$G$3","v":122},{"$f":"$G$3","v":122},{"$f":"$G$3","v":122},{"$f":"$G$3","v":122},{"$f":"$G$3","v":122},{"$f":"$G$3","v":122}]
[11,2311,21,2319,21,2335,null,null,null,null,0,122,null,null,"total reinforcement",{"$f":"U10","v":6},{"$f":"Z10","v":4},{"$f":"AE10","v":8},{"$f":"AJ10","v":7},{"$f":"AO10","v":7},{"$f":"AT10","v":7}]
[11,2507,21,2519,21,2524,null,null,null,null,0,122,null,null,"% target"]
[22,2641,23,2648,23,2654,null,null,null,null,0,222,null,null,"CCRF"]
[11,2751,21,2759,21,2762,null,null,null,null,0,122,null,null,"% CCRf"]
[11,2871,21,2889,21,2897,null,null,null,null,0,122,null,null,"average response rate",{"$f":"F15/P20","v":124.77777777777777},{"$f":"(F24-F15)/Q20","v":134.66666666666666},{"$f":"(F33-F24)/R20","v":145.88888888888889},{"$f":"(F42-F33)/S20","v":123.44444444444444},{"$f":"(F51-F42)/T20","v":137.33333333333334},{"$f":"(F60-F51)/U20","v":128.66666666666666}]
[11,3006,21,3013,21,3033,null,null,null,null,0,122]
[11,3185,21,3205,21,3211,null,null,null,null,0,122]
[11,3338,21,3345,21,3352,null,null,null,null,0,122]
[11,3457,21,3466,21,3471,null,null,null,null,0,122]
[11,3626,21,3643,21,3648,null,null,null,null,0,122]
[11,3747,21,3755,21,3758,null,null,null,null,0,122]
[11,3854,21,3862,21,3865,null,null,null,null,0,122]
[22,3989,23,3996,23,4003,null,null,null,null,0,222]
[22,4112,23,4117,23,4130,null,null,null,null,0,222]
[11,4228,21,4244,21,4249,null,null,null,null,0,122]
[11,4371,21,4378,21,4384,null,null,null,null,0,122]
[11,4508,21,4522,21,4533,null,null,null,null,0,122]
[11,4627,21,4636,21,4643,null,null,null,null,0,122]
[11,4740,21,4751,21,4759,null,null,null,null,0,122]
[22,4881,23,4886,23,4894,null,null,null,null,0,222]
[11,5003,21,5014,21,5018,null,null,null,null,0,122]
[11,5192,21,5207,21,5213,null,null,null,null,0,122]
[11,5335,21,5354,21,5360,null,null,null,null,0,122]
[11,5464,21,5473,21,5477,null,null,null,null,0,122]
[11,5600,12,5602,23,5612,null,null,null,null,0,112]
[11,5718,21,5731,21,5735,null,null,null,null,0,122]
[11,5846,21,5854,21,5860,null,null,null,null,0,122]
[11,5979,21,5987,21,5995,null,null,null,null,0,122]
[11,6102,21,6115,21,6119,null,null,null,null,0,122]
[11,6226,21,6240,21,6248,null,null,null,null,0,122]
[22,6411,23,6415,23,6420,null,null,null,null,0,222]
[11,6521,21,6533,21,6538,null,null,null,null,0,122]
[11,6643,12,6645,23,6652,null,null,null,null,0,112]
[11,6764,21,6779,21,6782,null,null,null,null,0,122]
[11,6882,21,6897,21,6900,null,null,null,null,0,122]
[11,7026,21,7035,21,7045,null,null,null,null,0,122]
[11,7136,21,7145,21,7153,null,null,null,null,1,122]

{"sheet":"!LC02953..Ta","index":25,"n_rows":67,"n_cols":48,"rows_kept":67,"cut":false,"hidden":false,"merged":[[4,39,4,42],[5,39,5,40],[4,44,4,47],[5,44,5,45],[4,24,4,27],[5,24,5,25],[4,29,4,32],[5,29,5,30],[4,34,4,37],[5,34,5,35],[1,1,1,2],[5,13,5,14],[18,13,18,14],[19,13,19,14],[4,19,4,22],[5,19,5,20]]}
["Report for:!LC02953..Ta"]
["Date:","<date>"]
["Hen:","<hen>",null,null,null,"Correct Sequence",{"$f":"Start!J2","v":122},null,null,null,null,null,null,null,null,"Total Sequences in Data",{"$f":"4994-COUNTBLANK(L7:L5000)","v":61},null,null,null,null,"Total Sequences in Block Data",{"$f":"COUNTA(L7:L16)","v":10},null,null,null,"Total Sequences in Block Data",{"$f":"COUNTA(L17:L26)","v":10},null,null,null,"Total Sequences in Block Data",{"$f":"COUNTA(L27:L37)","v":11},null,null,null,"Total Sequences in Block Data",{"$f":"COUNTA(L38:L47)","v":10},null,null,null,"Total Sequences in Block Data",{"$f":"COUNTA(L48:L57)","v":10},null,null,null,"Total Sequences in Block Data",{"$f":"COUNTA(L58:L67)","v":10}]
[null,null,null,null,null,null,null,null,null,null,null,null,null,null,null,"Total Sequences in Summary",{"$f":"SUM(O7:O14)","v":61},null,null,null,null,"Total Sequences in Block Summary",{"$f":"SUM(U7:U14)","v":10},null,null,null,"Total Sequences in Block Summary",{"$f":"SUM(Z7:Z14)","v":10},null,null,null,"Total Sequences in Block Summary",{"$f":"SUM(AE7:AE14)","v":11},null,null,null,"Total Sequences in Block Summary",{"$f":"SUM(AJ7:AJ14)","v":10},null,null,null,"Total Sequences in Block Summary",{"$f":"SUM(AO7:AO14)","v":10},null,null,null,"Total Sequences in Block Summary",{"$f":"SUM(AT7:AT14)","v":10}]
[null,null,null,null,null,null,null,null,null,null,null,null,null,null,null,null,null,null,null,"Block 1",null,null,null,null,"Block 2",null,null,null,null,"Block 3",null,null,null,null,"Block 4",null,null,null,null,"Block 5",null,null,null,null,"Block 6"]
["Sequence\nComponent\n1","Time\n1","Sequence\nComponent\n2","Time\n2","Sequence\nComponent\n3","Time\n3","Sequence\nComponent\n4","Time\n4","Sequence\nComponent\n5","Time\n5","Correct?\n0=No 1=Yes","Sequence",null,"Frequency",null,"Relative Frequency","Variability",null,null,"Frequency",null,"Relative Frequency","Variability",null,"Frequency",null,"Relative Frequency","Variability",null,"Frequency",null,"Relative Frequency","Variability",null,"Frequency",null,"Relative Frequency","Variability",null,"Frequency",null,"Relative Frequency","Variability",null,"Frequency",null,"Relative Frequency","Variability"]
[22,21,23,27,23,33,null,null,null,null,0,222,null,111,{"$f":"COUNTIF($L$7:$L$500,N7)","v":0},{"$f":"O7/$Q$4","v":0},{"$f":"IF(P7=0,0,(P7*((LOG(P7))/LOG(2))))","v":0},null,null,{"$f":"N7","v":111},{"$f":"COUNTIF(L7:L16,T7)","v":0},{"$f":"U7/(W4-U10)","v":0},{"$f":"IF(V7=0,0,(V7*((LOG(V7))/LOG(2))))","v":0},null,{"$f":"N7","v":111},{"$f":"COUNTIF(L17:L26,Y7)","v":0},{"$f":"Z7/(AB4-Z10)","v":0},{"$f":"IF(AA7=0,0,(AA7*((LOG(AA7))/LOG(2))))","v":0},null,{"$f":"N7","v":111},{"$f":"COUNTIF(L27:L37,AD7)","v":0},{"$f":"AE7/(AG4-AE10)","v":0},{"$f":"IF(AF7=0,0,(AF7*((LOG(AF7))/LOG(2))))","v":0},null,{"$f":"N7","v":111},{"$f":"COUNTIF(L38:L47,AI7)","v":0},{"$f":"AJ7/(AL4-AJ10)","v":0},{"$f":"IF(AK7=0,0,(AK7*((LOG(AK7))/LOG(2))))","v":0},null,{"$f":"N7","v":111},{"$f":"COUNTIF(L48:L57,AN7)","v":0},{"$f":"AO7/(AQ4-AO10)","v":0},{"$f":"IF(AP7=0,0,(AP7*((LOG(AP7))/LOG(2))))","v":0},null,{"$f":"N7","v":111},{"$f":"COUNTIF(L58:L67,AS7)","v":0},{"$f":"AT7/(AV4-AT10)","v":0},{"$f":"IF(AU7=0,0,(AU7*((LOG(AU7))/LOG(2))))","v":0}]
[22,142,23,149,23,153,null,null,null,null,0,222,null,112,{"$f":"COUNTIF($L$7:$L$500,N8)","v":9},{"$f":"O8/$Q$4","v":0.14754098360655737},{"$f":"IF(P8=0,0,(P8*((LOG(P8))/LOG(2))))","v":-0.40733296762434701},null,null,{"$f":"N8","v":112},{"$f":"COUNTIF(L7:L16,T8)","v":0},{"$f":"U8/(W4-U10)","v":0},{"$f":"IF(V8=0,0,(V8*((LOG(V8))/LOG(2))))","v":0},null,{"$f":"N8","v":112},{"$f":"COUNTIF(L17:L26,Y8)","v":3},{"$f":"Z8/(AB4-Z10)","v":0.42857142857142855},{"$f":"IF(AA8=0,0,(AA8*((LOG(AA8))/LOG(2))))","v":-0.52388246628704915},null,{"$f":"N8","v":112},{"$f":"COUNTIF(L27:L37,AD8)","v":0},{"$f":"AE8/(AG4-AE10)","v":0},{"$f":"IF(AF8=0,0,(AF8*((LOG(AF8))/LOG(2))))","v":0},null,{"$f":"N8","v":112},{"$f":"COUNTIF(L38:L47,AI8)","v":1},{"$f":"AJ8/(AL4-AJ10)","v":1},{"$f":"IF(AK8=0,0,(AK8*((LOG(AK8))/LOG(2))))","v":0},null,{"$f":"N8","v":112},{"$f":"COUNTIF(L48:L57,AN8)","v":2},{"$f":"AO8/(AQ4-AO10)","v":0.5},{"$f":"IF(AP8=0,0,(AP8*((LOG(AP8))/LOG(2))))","v":-0.5},null,{"$f":"N8","v":112},{"$f":"COUNTIF(L58:L67,AS8)","v":3},{"$f":"AT8/(AV4-AT10)","v":0.75},{"$f":"IF(AU8=0,0,(AU8*((LOG(AU8))/LOG(2))))","v":-0.31127812445913283}]
[11,251,21,265,21,269,null,null,null,null,0,122,null,121,{"$f":"COUNTIF($L$7:$L$500,N9)","v":0},{"$f":"O9/$Q$4","v":0},{"$f":"IF(P9=0,0,(P9*((LOG(P9))/LOG(2))))","v":0},null,null,{"$f":"N9","v":121},{"$f":"COUNTIF(L7:L16,T9)","v":0},{"$f":"U9/(W4-U10)","v":0},{"$f":"IF(V9=0,0,(V9*((LOG(V9))/LOG(2))))","v":0},null,{"$f":"N9","v":121},{"$f":"COUNTIF(L17:L26,Y9)","v":0},{"$f":"Z9/(AB4-Z10)","v":0},{"$f":"IF(AA9=0,0,(AA9*((LOG(AA9))/LOG(2))))","v":0},null,{"$f":"N9","v":121},{"$f":"COUNTIF(L27:L37,AD9)","v":0},{"$f":"AE9/(AG4-AE10)","v":0},{"$f":"IF(AF9=0,0,(AF9*((LOG(AF9))/LOG(2))))","v":0},null,{"$f":"N9","v":121},{"$f":"COUNTIF(L38:L47,AI9)","v":0},{"$f":"AJ9/(AL4-AJ10)","v":0},{"$f":"IF(AK9=0,0,(AK9*((LOG(AK9))/LOG(2))))","v":0},null,{"$f":"N9","v":121},{"$f":"COUNTIF(L48:L57,AN9)","v":0},{"$f":"AO9/(AQ4-AO10)","v":0},{"$f":"IF(AP9=0,0,(AP9*((LOG(AP9))/LOG(2))))","v":0},null,{"$f":"N9","v":121},{"$f":"COUNTIF(L58:L67,AS9)","v":0},{"$f":"AT9/(AV4-AT10)","v":0},{"$f":"IF(AU9=0,0,(AU9*((LOG(AU9))/LOG(2))))","v":0}]
[11,383,21,398,21,409,null,null,null,null,0,122,null,122,{"$f":"COUNTIF($L$7:$L$500,N10)","v":39},{"$f":"O10/$Q$4","v":0.63934426229508201},{"$f":"IF(P10=0,0,(P10*((LOG(P10))/LOG(2))))","v":-0.41259130539876843},null,null,{"$f":"N10","v":122},{"$f":"COUNTIF(L7:L16,T10)","v":6},null,null,null,{"$f":"N10","v":122},{"$f":"COUNTIF(L17:L26,Y10)","v":3},null,null,null,{"$f":"N10","v":122},{"$f":"COUNTIF(L27:L37,AD10)","v":9},null,null,null,{"$f":"N10","v":122},{"$f":"COUNTIF(L38:L47,AI10)","v":9},null,null,null,{"$f":"N10","v":122},{"$f":"COUNTIF(L48:L57,AN10)","v":6},null,null,null,{"$f":"N10","v":122},{"$f":"COUNTIF(L58:L67,AS10)","v":6}]
[11,503,21,520,21,523,null,null,null,null,0,122,null,211,{"$f":"COUNTIF($L$7:$L$500,N11)","v":0},{"$f":"O11/$Q$4","v":0},{"$f":"IF(P11=0,0,(P11*((LOG(P11))/LOG(2))))","v":0},null,null,{"$f":"N11","v":211},{"$f":"COUNTIF(L7:L16,T11)","v":0},{"$f":"U11/(W4-U10)","v":0},{"$f":"IF(V11=0,0,(V11*((LOG(V11))/LOG(2))))","v":0},null,{"$f":"N11","v":211},{"$f":"COUNTIF(L17:L26,Y11)","v":0},{"$f":"Z11/(AB4-Z10)","v":0},{"$f":"IF(AA11=0,0,(AA11*((LOG(AA11))/LOG(2))))","v":0},null,{"$f":"N11","v":211},{"$f":"COUNTIF(L27:L37,AD11)","v":0},{"$f":"AE11/(AG4-AE10)","v":0},{"$f":"IF(AF11=0,0,(AF11*((LOG(AF11))/LOG(2))))","v":0},null,{"$f":"N11","v":211},{"$f":"COUNTIF(L38:L47,AI11)","v":0},{"$f":"AJ11/(AL4-AJ10)","v":0},{"$f":"IF(AK11=0,0,(AK11*((LOG(AK11))/LOG(2))))","v":0},null,{"$f":"N11","v":211},{"$f":"COUNTIF(L48:L57,AN11)","v":0},{"$f":"AO11/(AQ4-AO10)","v":0},{"$f":"IF(AP11=0,0,(AP11*((LOG(AP11))/LOG(2))))","v":0},null,{"$f":"N11","v":211},{"$f":"COUNTIF(L58:L67,AS11)","v":0},{"$f":"AT11/(AV4-AT10)","v":0},{"$f":"IF(AU11=0,0,(AU11*((LOG(AU11))/LOG(2))))","v":0}]
[11,626,21,634,21,643,null,null,null,null,0,122,null,212,{"$f":"COUNTIF($L$7:$L$500,N12)","v":0},{"$f":"O12/$Q$4","v":0},{"$f":"IF(P12=0,0,(P12*((LOG(P12))/LOG(2))))","v":0},null,null,{"$f":"N12","v":212},{"$f":"COUNTIF(L7:L16,T12)","v":0},{"$f":"U12/(W4-U10)","v":0},{"$f":"IF(V12=0,0,(V12*((LOG(V12))/LOG(2))))","v":0},null,{"$f":"N12","v":212},{"$f":"COUNTIF(L17:L26,Y12)","v":0},{"$f":"Z12/(AB4-Z10)","v":0},{"$f":"IF(AA12=0,0,(AA12*((LOG(AA12))/LOG(2))))","v":0},null,{"$f":"N12","v":212},{"$f":"COUNTIF(L27:L37,AD12)","v":0},{"$f":"AE12/(AG4-AE10)","v":0},{"$f":"IF(AF12=0,0,(AF12*((LOG(AF12))/LOG(2))))","v":0},null,{"$f":"N12","v":212},{"$f":"COUNTIF(L38:L47,AI12)","v":0},{"$f":"AJ12/(AL4-AJ10)","v":0},{"$f":"IF(AK12=0,0,(AK12*((LOG(AK12))/LOG(2))))","v":0},null,{"$f":"N12","v":212},{"$f":"COUNTIF(L48:L57,AN12)","v":0},{"$f":"AO12/(AQ4-AO10)","v":0},{"$f":"IF(AP12=0,0,(AP12*((LOG(AP12))/LOG(2))))","v":0},null,{"$f":"N12","v":212},{"$f":"COUNTIF(L58:L67,AS12)","v":0},{"$f":"AT12/(AV4-AT10)","v":0},{"$f":"IF(AU12=0,0,(AU12*((LOG(AU12))/LOG(2))))","v":0}]
[22,746,23,753,23,758,null,null,null,null,0,222,null,221,{"$f":"COUNTIF($L$7:$L$500,N13)","v":0},{"$f":"O13/$Q$4","v":0},{"$f":"IF(P13=0,0,(P13*((LOG(P13))/LOG(2))))","v":0},null,null,{"$f":"N13","v":221},{"$f":"COUNTIF(L7:L16,T13)","v":0},{"$f":"U13/(W4-U10)","v":0},{"$f":"IF(V13=0,0,(V13*((LOG(V13))/LOG(2))))","v":0},null,{"$f":"N13","v":221},{"$f":"COUNTIF(L17:L26,Y13)","v":0},{"$f":"Z13/(AB4-Z10)","v":0},{"$f":"IF(AA13=0,0,(AA13*((LOG(AA13))/LOG(2))))","v":0},null,{"$f":"N13","v":221},{"$f":"COUNTIF(L27:L37,AD13)","v":0},{"$f":"AE13/(AG4-AE10)","v":0},{"$f":"IF(AF13=0,0,(AF13*((LOG(AF13))/LOG(2))))","v":0},null,{"$f":"N13","v":221},{"$f":"COUNTIF(L38:L47,AI13)","v":0},{"$f":"AJ13/(AL4-AJ10)","v":0},{"$f":"IF(AK13=0,0,(AK13*((LOG(AK13))/LOG(2))))","v":0},null,{"$f":"N13","v":221},{"$f":"COUNTIF(L48:L57,AN13)","v":0},{"$f":"AO13/(AQ4-AO10)","v":0},{"$f":"IF(AP13=0,0,(AP13*((LOG(AP13))/LOG(2))))","v":0},null,{"$f":"N13","v":221},{"$f":"COUNTIF(L58:L67,AS13)","v":0},{"$f":"AT13/(AV4-AT10)","v":0},{"$f":"IF(AU13=0,0,(AU13*((LOG(AU13))/LOG(2))))","v":0}]
[11,857,21,870,21,875,null,null,null,null,0,122,null,222,{"$f":"COUNTIF($L$7:$L$500,N14)","v":13},{"$f":"O14/$Q$4","v":0.21311475409836064},{"$f":"IF(P14=0,0,(P14*((LOG(P14))/LOG(2))))","v":-0.47530932872923476},null,null,{"$f":"N14","v":222},{"$f":"COUNTIF(L7:L16,T14)","v":4},{"$f":"U14/(W4-U10)","v":1},{"$f":"IF(V14=0,0,(V14*((LOG(V14))/LOG(2))))","v":0},null,{"$f":"N14","v":222},{"$f":"COUNTIF(L17:L26,Y14)","v":4},{"$f":"Z14/(AB4-Z10)","v":0.5714285714285714},{"$f":"IF(AA14=0,0,(AA14*((LOG(AA14))/LOG(2))))","v":-0.46134566974720237},null,{"$f":"N14","v":222},{"$f":"COUNTIF(L27:L37,AD14)","v":2},{"$f":"AE14/(AG4-AE10)","v":1},{"$f":"IF(AF14=0,0,(AF14*((LOG(AF14))/LOG(2))))","v":0},null,{"$f":"N14","v":222},{"$f":"COUNTIF(L38:L47,AI14)","v":0},{"$f":"AJ14/(AL4-AJ10)","v":0},{"$f":"IF(AK14=0,0,(AK14*((LOG(AK14))/LOG(2))))","v":0},null,{"$f":"N14","v":222},{"$f":"COUNTIF(L48:L57,AN14)","v":2},{"$f":"AO14/(AQ4-AO10)","v":0.5},{"$f":"IF(AP14=0,0,(AP14*((LOG(AP14))/LOG(2))))","v":-0.5},null,{"$f":"N14","v":222},{"$f":"COUNTIF(L58:L67,AS14)","v":1},{"$f":"AT14/(AV4-AT10)","v":0.25},{"$f":"IF(AU14=0,0,(AU14*((LOG(AU14))/LOG(2))))","v":-0.5}]
[11,969,21,994,21,1015,null,null,null,null,0,122,null,null,null,{"$f":"SUM(P7:P14)","v":1},{"$f":"-SUM(Q7:Q14)","v":1.2952336017523502},null,null,null,null,{"$f":"SUM(V7:V14)","v":1},{"$f":"-SUM(W7:W14)","v":0},null,null,null,{"$f":"SUM(AA7:AA14)","v":1},{"$f":"-SUM(AB7:AB14)","v":0.98522813603425152},null,null,null,{"$f":"SUM(AF7:AF14)","v":1},{"$f":"-SUM(AG7:AG14)","v":0},null,null,null,{"$f":"SUM(AK7:AK14)","v":1},{"$f":"-SUM(AL7:AL14)","v":0},null,null,null,{"$f":"SUM(AP7:AP14)","v":1},{"$f":"-SUM(AQ7:AQ14)","v":1},null,null,null,{"$f":"SUM(AU7:AU14)","v":1},{"$f":"-SUM(AV7:AV14)","v":0.81127812445913283}]
[22,1350,23,1354,23,1360,null,null,null,null,0,222,null,null,null,"U=",{"$f":"Q15/(LOG(Q4)/LOG(2))","v":0.218393351118227},null,null,null,null,"U1=",{"$f":"W15/(LOG(W4)/LOG(2))","v":0},null,null,null,"U2=",{"$f":"AB15/(LOG(AB4)/LOG(2))","v":0.29658322151842303},null,null,null,"U3=",{"$f":"AG15/(LOG(AG4)/LOG(2))","v":0},null,null,null,"U4=",{"$f":"AL15/(LOG(AL4)/LOG(2))","v":0},null,null,null,"U5=",{"$f":"AQ15/(LOG(AQ4)/LOG(2))","v":0.3010299956639812},null,null,null,"U6=",{"$f":"AV15/(LOG(AV4)/LOG(2))","v":0.24421905028821556}]
[11,1459,21,1469,21,1472,null,null,null,null,0,122]
[22,1579,23,1591,23,1598,null,null,null,null,0,222]
[22,1713,23,1718,23,1736,null,null,null,null,0,222,null,"Total Target Seq"]
[22,1857,23,1861,23,1867,null,null,null,null,0,222,null,{"$f":"COUNTIF(L7:L67,G3)","v":39},null,10,10,11,10,10,10]
[11,1964,12,1968,23,1985,null,null,null,null,0,112,null,null,null,"% of reinforcement given in 6 equal intervals based on number of trials "]
[11,2078,21,2090,21,2094,null,null,null,null,0,122,null,null,null,"%_1","%_2","%_3","%_4","%_5","%_6"]
[22,2193,23,2195,23,2200,null,null,null,null,0,222,null,null,"target sequence",{"$f":"$G$3","v":122},{"$f":"$G$3","v":122},{"$f":"$G$3","v":122},{"$f":"$G$3","v":122},{"$f":"$G$3","v":122},{"$f":"$G$3","v":122}]
[11,2298,12,2310,23,2321,null,null,null,null,0,112,null,null,"total reinforcement",{"$f":"U10","v":6},{"$f":"Z10","v":3},{"$f":"AE10","v":9},{"$f":"AJ10","v":9},{"$f":"AO10","v":6},{"$f":"AT10","v":6}]
[11,2419,12,2423,23,2442,null,null,null,null,0,112,null,null,"% target"]
[11,2541,21,2553,21,2568,null,null,null,null,0,122,null,null,"CCRF"]
[11,2700,21,2713,21,2720,null,null,null,null,0,122,null,null,"% CCRf"]
[11,2855,21,2863,21,2875,null,null,null,null,0,122,null,null,"average response rate",{"$f":"F16/P20","v":136},{"$f":"(F26-F16)/Q20","v":120.8},{"$f":"(F37-F26)/R20","v":136.90909090909091},{"$f":"(F47-F37)/S20","v":124.1},{"$f":"(F57-F47)/T20","v":139.4},{"$f":"(F67-F57)/U20","v":127.5}]
[11,2969,21,2978,21,2984,null,null,null,null,0,122]
[11,3090,21,3104,21,3110,null,null,null,null,0,122]
[11,3233,21,3263,21,3272,null,null,null,null,0,122]
[22,3383,23,3390,23,3401,null,null,null,null,0,222]
[11,3493,21,3501,21,3511,null,null,null,null,0,122]
[11,3660,21,3680,21,3686,null,null,null,null,0,122]
[11,3815,21,3828,21,3832,null,null,null,null,0,122]
[11,3939,21,3948,21,3953,null,null,null,null,0,122]
[22,4061,23,4067,23,4074,null,null,null,null,0,222]
[11,4172,21,4201,21,4208,null,null,null,null,0,122]
[11,4301,21,4315,21,4318,null,null,null,null,0,122]
[11,4428,21,4447,21,4464,null,null,null,null,0,122]
[11,4559,12,4575,23,4586,null,null,null,null,0,112]
[11,4697,21,4709,21,4713,null,null,null,null,0,122]
[11,4811,21,4830,21,4837,null,null,null,null,0,122]
[11,4930,21,4939,21,4947,null,null,null,null,0,122]
[11,5043,21,5051,21,5061,null,null,null,null,0,122]
[11,5156,21,5180,21,5192,null,null,null,null,0,122]
[11,5296,21,5305,21,5315,null,null,null,null,0,122]
[11,5412,21,5428,21,5433,null,null,null,null,0,122]
[11,5532,21,5549,21,5555,null,null,null,null,0,122]
[11,5716,21,5724,21,5733,null,null,null,null,0,122]
[11,5861,12,5864,23,5874,null,null,null,null,0,112]
[11,5987,21,6000,21,6003,null,null,null,null,0,122]
[11,6148,21,6165,21,6174,null,null,null,null,0,122]
[11,6268,12,6273,23,6285,null,null,null,null,0,112]
[11,6385,21,6395,21,6408,null,null,null,null,0,122]
[22,6572,23,6582,23,6590,null,null,null,null,0,222]
[22,6701,23,6704,23,6709,null,null,null,null,0,222]
[11,6807,21,6817,21,6820,null,null,null,null,0,122]
[11,6926,12,6928,23,6941,null,null,null,null,0,112]
[11,7040,21,7049,21,7052,null,null,null,null,0,122]
[11,7147,21,7162,21,7169,null,null,null,null,0,122]
[11,7274,12,7281,23,7302,null,null,null,null,0,112]
[11,7400,21,7415,21,7425,null,null,null,null,0,122]
[22,7562,23,7581,23,7589,null,null,null,null,0,222]
[11,7688,12,7705,23,7724,null,null,null,null,0,112]
[11,7834,21,7841,21,7845,null,null,null,null,0,122]
[11,7961,21,7975,21,7984,null,null,null,null,1,122]

{"sheet":"!LC03A33..Ta","index":26,"n_rows":59,"n_cols":48,"rows_kept":59,"cut":false,"hidden":false,"merged":[[4,39,4,42],[5,39,5,40],[4,44,4,47],[5,44,5,45],[4,24,4,27],[5,24,5,25],[4,29,4,32],[5,29,5,30],[4,34,4,37],[5,34,5,35],[1,1,1,2],[5,13,5,14],[18,13,18,14],[19,13,19,14],[4,19,4,22],[5,19,5,20]]}
["Report for:!LC03A33..Ta"]
["Date:","<date>"]
["Hen:","<hen>",null,null,null,"Correct Sequence",{"$f":"Start!J2","v":122},null,null,null,null,null,null,null,null,"Total Sequences in Data",{"$f":"4994-COUNTBLANK(L7:L5000)","v":53},null,null,null,null,"Total Sequences in Block Data",{"$f":"COUNTA(L7:L15)","v":9},null,null,null,"Total Sequences in Block Data",{"$f":"COUNTA(L16:L24)","v":9},null,null,null,"Total Sequences in Block Data",{"$f":"COUNTA(L25:L32)","v":8},null,null,null,"Total Sequences in Block Data",{"$f":"COUNTA(L33:L41)","v":9},null,null,null,"Total Sequences in Block Data",{"$f":"COUNTA(L42:L50)","v":9},null,null,null,"Total Sequences in Block Data",{"$f":"COUNTA(L51:L59)","v":9}]
[null,null,null,null,null,null,null,null,null,null,null,null,null,null,null,"Total Sequences in Summary",{"$f":"SUM(O7:O14)","v":53},null,null,null,null,"Total Sequences in Block Summary",{"$f":"SUM(U7:U14)","v":9},null,null,null,"Total Sequences in Block Summary",{"$f":"SUM(Z7:Z14)","v":9},null,null,null,"Total Sequences in Block Summary",{"$f":"SUM(AE7:AE14)","v":8},null,null,null,"Total Sequences in Block Summary",{"$f":"SUM(AJ7:AJ14)","v":9},null,null,null,"Total Sequences in Block Summary",{"$f":"SUM(AO7:AO14)","v":9},null,null,null,"Total Sequences in Block Summary",{"$f":"SUM(AT7:AT14)","v":9}]
[null,null,null,null,null,null,null,null,null,null,null,null,null,null,null,null,null,null,null,"Block 1",null,null,null,null,"Block 2",null,null,null,null,"Block 3",null,null,null,null,"Block 4",null,null,null,null,"Block 5",null,null,null,null,"Block 6"]
["Sequence\nComponent\n1","Time\n1","Sequence\nComponent\n2","Time\n2","Sequence\nComponent\n3","Time\n3","Sequence\nComponent\n4","Time\n4","Sequence\nComponent\n5","Time\n5","Correct?\n0=No 1=Yes","Sequence",null,"Frequency",null,"Relative Frequency","Variability",null,null,"Frequency",null,"Relative Frequency","Variability",null,"Frequency",null,"Relative Frequency","Variability",null,"Frequency",null,"Relative Frequency","Variability",null,"Frequency",null,"Relative Frequency","Variability",null,"Frequency",null,"Relative Frequency","Variability",null,"Frequency",null,"Relative Frequency","Variability"]
[22,35,23,41,23,48,null,null,null,null,0,222,null,111,{"$f":"COUNTIF($L$7:$L$500,N7)","v":0},{"$f":"O7/$Q$4","v":0},{"$f":"IF(P7=0,0,(P7*((LOG(P7))/LOG(2))))","v":0},null,null,{"$f":"N7","v":111},{"$f":"COUNTIF(L7:L15,T7)","v":0},{"$f":"U7/(W4-U10)","v":0},{"$f":"IF(V7=0,0,(V7*((LOG(V7))/LOG(2))))","v":0},null,{"$f":"N7","v":111},{"$f":"COUNTIF(L16:L24,Y7)","v":0},{"$f":"Z7/(AB4-Z10)","v":0},{"$f":"IF(AA7=0,0,(AA7*((LOG(AA7))/LOG(2))))","v":0},null,{"$f":"N7","v":111},{"$f":"COUNTIF(L25:L32,AD7)","v":0},{"$f":"AE7/(AG4-AE10)","v":{"$error":"#DIV/0!"}},{"$f":"IF(AF7=0,0,(AF7*((LOG(AF7))/LOG(2))))","v":{"$error":"#DIV/0!"}},null,{"$f":"N7","v":111},{"$f":"COUNTIF(L33:L41,AI7)","v":0},{"$f":"AJ7/(AL4-AJ10)","v":0},{"$f":"IF(AK7=0,0,(AK7*((LOG(AK7))/LOG(2))))","v":0},null,{"$f":"N7","v":111},{"$f":"COUNTIF(L42:L50,AN7)","v":0},{"$f":"AO7/(AQ4-AO10)","v":0},{"$f":"IF(AP7=0,0,(AP7*((LOG(AP7))/LOG(2))))","v":0},null,{"$f":"N7","v":111},{"$f":"COUNTIF(L51:L59,AS7)","v":0},{"$f":"AT7/(AV4-AT10)","v":0},{"$f":"IF(AU7=0,0,(AU7*((LOG(AU7))/LOG(2))))","v":0}]
[22,158,23,164,23,169,null,null,null,null,0,222,null,112,{"$f":"COUNTIF($L$7:$L$500,N8)","v":2},{"$f":"O8/$Q$4","v":3.7735849056603772E-2},{"$f":"IF(P8=0,0,(P8*((LOG(P8))/LOG(2))))","v":-0.17841209262502639},null,null,{"$f":"N8","v":112},{"$f":"COUNTIF(L7:L15,T8)","v":1},{"$f":"U8/(W4-U10)","v":0.16666666666666666},{"$f":"IF(V8=0,0,(V8*((LOG(V8))/LOG(2))))","v":-0.43082708345352599},null,{"$f":"N8","v":112},{"$f":"COUNTIF(L16:L24,Y8)","v":0},{"$f":"Z8/(AB4-Z10)","v":0},{"$f":"IF(AA8=0,0,(AA8*((LOG(AA8))/LOG(2))))","v":0},null,{"$f":"N8","v":112},{"$f":"COUNTIF(L25:L32,AD8)","v":0},{"$f":"AE8/(AG4-AE10)","v":{"$error":"#DIV/0!"}},{"$f":"IF(AF8=0,0,(AF8*((LOG(AF8))/LOG(2))))","v":{"$error":"#DIV/0!"}},null,{"$f":"N8","v":112},{"$f":"COUNTIF(L33:L41,AI8)","v":0},{"$f":"AJ8/(AL4-AJ10)","v":0},{"$f":"IF(AK8=0,0,(AK8*((LOG(AK8))/LOG(2))))","v":0},null,{"$f":"N8","v":112},{"$f":"COUNTIF(L42:L50,AN8)","v":1},{"$f":"AO8/(AQ4-AO10)","v":0.33333333333333331},{"$f":"IF(AP8=0,0,(AP8*((LOG(AP8))/LOG(2))))","v":-0.52832083357371862},null,{"$f":"N8","v":112},{"$f":"COUNTIF(L51:L59,AS8)","v":0},{"$f":"AT8/(AV4-AT10)","v":0},{"$f":"IF(AU8=0,0,(AU8*((LOG(AU8))/LOG(2))))","v":0}]
[11,269,21,281,21,286,null,null,null,null,0,122,null,121,{"$f":"COUNTIF($L$7:$L$500,N9)","v":0},{"$f":"O9/$Q$4","v":0},{"$f":"IF(P9=0,0,(P9*((LOG(P9))/LOG(2))))","v":0},null,null,{"$f":"N9","v":121},{"$f":"COUNTIF(L7:L15,T9)","v":0},{"$f":"U9/(W4-U10)","v":0},{"$f":"IF(V9=0,0,(V9*((LOG(V9))/LOG(2))))","v":0},null,{"$f":"N9","v":121},{"$f":"COUNTIF(L16:L24,Y9)","v":0},{"$f":"Z9/(AB4-Z10)","v":0},{"$f":"IF(AA9=0,0,(AA9*((LOG(AA9))/LOG(2))))","v":0},null,{"$f":"N9","v":121},{"$f":"COUNTIF(L25:L32,AD9)","v":0},{"$f":"AE9/(AG4-AE10)","v":{"$error":"#DIV/0!"}},{"$f":"IF(AF9=0,0,(AF9*((LOG(AF9))/LOG(2))))","v":{"$error":"#DIV/0!"}},null,{"$f":"N9","v":121},{"$f":"COUNTIF(L33:L41,AI9)","v":0},{"$f":"AJ9/(AL4-AJ10)","v":0},{"$f":"IF(AK9=0,0,(AK9*((LOG(AK9))/LOG(2))))","v":0},null,{"$f":"N9","v":121},{"$f":"COUNTIF(L42:L50,AN9)","v":0},{"$f":"AO9/(AQ4-AO10)","v":0},{"$f":"IF(AP9=0,0,(AP9*((LOG(AP9))/LOG(2))))","v":0},null,{"$f":"N9","v":121},{"$f":"COUNTIF(L51:L59,AS9)","v":0},{"$f":"AT9/(AV4-AT10)","v":0},{"$f":"IF(AU9=0,0,(AU9*((LOG(AU9))/LOG(2))))","v":0}]
[22,528,23,533,23,536,null,null,null,null,0,222,null,122,{"$f":"COUNTIF($L$7:$L$500,N10)","v":39},{"$f":"O10/$Q$4","v":0.73584905660377353},{"$f":"IF(P10=0,0,(P10*((LOG(P10))/LOG(2))))","v":-0.32562662627051103},null,null,{"$f":"N10","v":122},{"$f":"COUNTIF(L7:L15,T10)","v":3},null,null,null,{"$f":"N10","v":122},{"$f":"COUNTIF(L16:L24,Y10)","v":8},null,null,null,{"$f":"N10","v":122},{"$f":"COUNTIF(L25:L32,AD10)","v":8},null,null,null,{"$f":"N10","v":122},{"$f":"COUNTIF(L33:L41,AI10)","v":7},null,null,null,{"$f":"N10","v":122},{"$f":"COUNTIF(L42:L50,AN10)","v":6},null,null,null,{"$f":"N10","v":122},{"$f":"COUNTIF(L51:L59,AS10)","v":7}]
[22,651,23,662,23,668,null,null,null,null,0,222,null,211,{"$f":"COUNTIF($L$7:$L$500,N11)","v":0},{"$f":"O11/$Q$4","v":0},{"$f":"IF(P11=0,0,(P11*((LOG(P11))/LOG(2))))","v":0},null,null,{"$f":"N11","v":211},{"$f":"COUNTIF(L7:L15,T11)","v":0},{"$f":"U11/(W4-U10)","v":0},{"$f":"IF(V11=0,0,(V11*((LOG(V11))/LOG(2))))","v":0},null,{"$f":"N11","v":211},{"$f":"COUNTIF(L16:L24,Y11)","v":0},{"$f":"Z11/(AB4-Z10)","v":0},{"$f":"IF(AA11=0,0,(AA11*((LOG(AA11))/LOG(2))))","v":0},null,{"$f":"N11","v":211},{"$f":"COUNTIF(L25:L32,AD11)","v":0},{"$f":"AE11/(AG4-AE10)","v":{"$error":"#DIV/0!"}},{"$f":"IF(AF11=0,0,(AF11*((LOG(AF11))/LOG(2))))","v":{"$error":"#DIV/0!"}},null,{"$f":"N11","v":211},{"$f":"COUNTIF(L33:L41,AI11)","v":0},{"$f":"AJ11/(AL4-AJ10)","v":0},{"$f":"IF(AK11=0,0,(AK11*((LOG(AK11))/LOG(2))))","v":0},null,{"$f":"N11","v":211},{"$f":"COUNTIF(L42:L50,AN11)","v":0},{"$f":"AO11/(AQ4-AO10)","v":0},{"$f":"IF(AP11=0,0,(AP11*((LOG(AP11))/LOG(2))))","v":0},null,{"$f":"N11","v":211},{"$f":"COUNTIF(L51:L59,AS11)","v":0},{"$f":"AT11/(AV4-AT10)","v":0},{"$f":"IF(AU11=0,0,(AU11*((LOG(AU11))/LOG(2))))","v":0}]
[11,766,12,780,23,792,null,null,null,null,0,112,null,212,{"$f":"COUNTIF($L$7:$L$500,N12)","v":0},{"$f":"O12/$Q$4","v":0},{"$f":"IF(P12=0,0,(P12*((LOG(P12))/LOG(2))))","v":0},null,null,{"$f":"N12","v":212},{"$f":"COUNTIF(L7:L15,T12)","v":0},{"$f":"U12/(W4-U10)","v":0},{"$f":"IF(V12=0,0,(V12*((LOG(V12))/LOG(2))))","v":0},null,{"$f":"N12","v":212},{"$f":"COUNTIF(L16:L24,Y12)","v":0},{"$f":"Z12/(AB4-Z10)","v":0},{"$f":"IF(AA12=0,0,(AA12*((LOG(AA12))/LOG(2))))","v":0},null,{"$f":"N12","v":212},{"$f":"COUNTIF(L25:L32,AD12)","v":0},{"$f":"AE12/(AG4-AE10)","v":{"$error":"#DIV/0!"}},{"$f":"IF(AF12=0,0,(AF12*((LOG(AF12))/LOG(2))))","v":{"$error":"#DIV/0!"}},null,{"$f":"N12","v":212},{"$f":"COUNTIF(L33:L41,AI12)","v":0},{"$f":"AJ12/(AL4-AJ10)","v":0},{"$f":"IF(AK12=0,0,(AK12*((LOG(AK12))/LOG(2))))","v":0},null,{"$f":"N12","v":212},{"$f":"COUNTIF(L42:L50,AN12)","v":0},{"$f":"AO12/(AQ4-AO10)","v":0},{"$f":"IF(AP12=0,0,(AP12*((LOG(AP12))/LOG(2))))","v":0},null,{"$f":"N12","v":212},{"$f":"COUNTIF(L51:L59,AS12)","v":0},{"$f":"AT12/(AV4-AT10)","v":0},{"$f":"IF(AU12=0,0,(AU12*((LOG(AU12))/LOG(2))))","v":0}]
[11,903,21,919,21,925,null,null,null,null,0,122,null,221,{"$f":"COUNTIF($L$7:$L$500,N13)","v":0},{"$f":"O13/$Q$4","v":0},{"$f":"IF(P13=0,0,(P13*((LOG(P13))/LOG(2))))","v":0},null,null,{"$f":"N13","v":221},{"$f":"COUNTIF(L7:L15,T13)","v":0},{"$f":"U13/(W4-U10)","v":0},{"$f":"IF(V13=0,0,(V13*((LOG(V13))/LOG(2))))","v":0},null,{"$f":"N13","v":221},{"$f":"COUNTIF(L16:L24,Y13)","v":0},{"$f":"Z13/(AB4-Z10)","v":0},{"$f":"IF(AA13=0,0,(AA13*((LOG(AA13))/LOG(2))))","v":0},null,{"$f":"N13","v":221},{"$f":"COUNTIF(L25:L32,AD13)","v":0},{"$f":"AE13/(AG4-AE10)","v":{"$error":"#DIV/0!"}},{"$f":"IF(AF13=0,0,(AF13*((LOG(AF13))/LOG(2))))","v":{"$error":"#DIV/0!"}},null,{"$f":"N13","v":221},{"$f":"COUNTIF(L33:L41,AI13)","v":0},{"$f":"AJ13/(AL4-AJ10)","v":0},{"$f":"IF(AK13=0,0,(AK13*((LOG(AK13))/LOG(2))))","v":0},null,{"$f":"N13","v":221},{"$f":"COUNTIF(L42:L50,AN13)","v":0},{"$f":"AO13/(AQ4-AO10)","v":0},{"$f":"IF(AP13=0,0,(AP13*((LOG(AP13))/LOG(2))))","v":0},null,{"$f":"N13","v":221},{"$f":"COUNTIF(L51:L59,AS13)","v":0},{"$f":"AT13/(AV4-AT10)","v":0},{"$f":"IF(AU13=0,0,(AU13*((LOG(AU13))/LOG(2))))","v":0}]
[22,1050,23,1055,23,1059,null,null,null,null,0,222,null,222,{"$f":"COUNTIF($L$7:$L$500,N14)","v":12},{"$f":"O14/$Q$4","v":0.22641509433962265},{"$f":"IF(P14=0,0,(P14*((LOG(P14))/LOG(2))))","v":-0.48519802728499078},null,null,{"$f":"N14","v":222},{"$f":"COUNTIF(L7:L15,T14)","v":5},{"$f":"U14/(W4-U10)","v":0.83333333333333337},{"$f":"IF(V14=0,0,(V14*((LOG(V14))/LOG(2))))","v":-0.21919533819482812},null,{"$f":"N14","v":222},{"$f":"COUNTIF(L16:L24,Y14)","v":1},{"$f":"Z14/(AB4-Z10)","v":1},{"$f":"IF(AA14=0,0,(AA14*((LOG(AA14))/LOG(2))))","v":0},null,{"$f":"N14","v":222},{"$f":"COUNTIF(L25:L32,AD14)","v":0},{"$f":"AE14/(AG4-AE10)","v":{"$error":"#DIV/0!"}},{"$f":"IF(AF14=0,0,(AF14*((LOG(AF14))/LOG(2))))","v":{"$error":"#DIV/0!"}},null,{"$f":"N14","v":222},{"$f":"COUNTIF(L33:L41,AI14)","v":2},{"$f":"AJ14/(AL4-AJ10)","v":1},{"$f":"IF(AK14=0,0,(AK14*((LOG(AK14))/LOG(2))))","v":0},null,{"$f":"N14","v":222},{"$f":"COUNTIF(L42:L50,AN14)","v":2},{"$f":"AO14/(AQ4-AO10)","v":0.66666666666666663},{"$f":"IF(AP14=0,0,(AP14*((LOG(AP14))/LOG(2))))","v":-0.38997500048077083},null,{"$f":"N14","v":222},{"$f":"COUNTIF(L51:L59,AS14)","v":2},{"$f":"AT14/(AV4-AT10)","v":1},{"$f":"IF(AU14=0,0,(AU14*((LOG(AU14))/LOG(2))))","v":0}]
[11,1159,21,1169,21,1173,null,null,null,null,0,122,null,null,null,{"$f":"SUM(P7:P14)","v":1},{"$f":"-SUM(Q7:Q14)","v":0.98923674618052826},null,null,null,null,{"$f":"SUM(V7:V14)","v":1},{"$f":"-SUM(W7:W14)","v":0.65002242164835411},null,null,null,{"$f":"SUM(AA7:AA14)","v":1},{"$f":"-SUM(AB7:AB14)","v":0},null,null,null,{"$f":"SUM(AF7:AF14)","v":{"$error":"#DIV/0!"}},{"$f":"-SUM(AG7:AG14)","v":{"$error":"#DIV/0!"}},null,null,null,{"$f":"SUM(AK7:AK14)","v":1},{"$f":"-SUM(AL7:AL14)","v":0},null,null,null,{"$f":"SUM(AP7:AP14)","v":1},{"$f":"-SUM(AQ7:AQ14)","v":0.91829583405448945},null,null,null,{"$f":"SUM(AU7:AU14)","v":1},{"$f":"-SUM(AV7:AV14)","v":0}]
[22,1305,23,1313,23,1322,null,null,null,null,0,222,null,null,null,"U=",{"$f":"Q15/(LOG(Q4)/LOG(2))","v":0.17270434427776385},null,null,null,null,"U1=",{"$f":"W15/(LOG(W4)/LOG(2))","v":0.20505924315325905},null,null,null,"U2=",{"$f":"AB15/(LOG(AB4)/LOG(2))","v":0},null,null,null,"U3=",{"$f":"AG15/(LOG(AG4)/LOG(2))","v":{"$error":"#DIV/0!"}},null,null,null,"U4=",{"$f":"AL15/(LOG(AL4)/LOG(2))","v":0},null,null,null,"U5=",{"$f":"AQ15/(LOG(AQ4)/LOG(2))","v":0.28969008214284753},null,null,null,"U6=",{"$f":"AV15/(LOG(AV4)/LOG(2))","v":0}]
[11,1418,21,1437,21,1443,null,null,null,null,0,122]
[11,1551,21,1563,21,1571,null,null,null,null,0,122]
[11,1730,21,1733,21,1739,null,null,null,null,0,122,null,"Total Target Seq"]
[11,1843,21,1859,21,1865,null,null,null,null,0,122,null,{"$f":"COUNTIF(L7:L59,G3)","v":39},null,9,9,8,9,9,9]
[11,1974,21,1991,21,1996,null,null,null,null,0,122,null,null,null,"% of reinforcement given in 6 equal intervals based on number of trials "]
[11,2136,21,2143,21,2151,null,null,null,null,0,122,null,null,null,"%_1","%_2","%_3","%_4","%_5","%_6"]
[11,2251,21,2261,21,2264,null,null,null,null,0,122,null,null,"target sequence",{"$f":"$G$3","v":122},{"$f":"$G$3","v":122},{"$f":"$G$3","v":122},{"$f":"$G$3","v":122},{"$f":"$G$3","v":122},{"$f":"$G$3","v":122}]
[11,2363,21,2379,21,2384,null,null,null,null,0,122,null,null,"total reinforcement",{"$f":"U10","v":3},{"$f":"Z10","v":8},{"$f":"AE10","v":8},{"$f":"AJ10","v":7},{"$f":"AO10","v":6},{"$f":"AT10","v":7}]
[11,2479,21,2494,21,2498,null,null,null,null,0,122,null,null,"% target"]
[11,2601,21,2609,21,2618,null,null,null,null,0,122,null,null,"CCRF"]
[11,2712,21,2719,21,2726,null,null,null,null,0,122,null,null,"% CCRf"]
[11,2821,21,2832,21,2846,null,null,null,null,0,122,null,null,"average response rate",{"$f":"F15/P20","v":130.33333333333334},{"$f":"(F24-F15)/Q20","v":134.55555555555554},{"$f":"(F32-F24)/R20","v":120},{"$f":"(F41-F32)/S20","v":112.55555555555556},{"$f":"(F50-F41)/T20","v":131.55555555555554},{"$f":"(F59-F50)/U20","v":133.88888888888889}]
[11,2960,21,2974,21,2979,null,null,null,null,0,122]
[11,3105,21,3116,21,3120,null,null,null,null,0,122]
[11,3216,21,3226,21,3231,null,null,null,null,0,122]
[11,3327,21,3340,21,3344,null,null,null,null,0,122]
[11,3437,21,3450,21,3454,null,null,null,null,0,122]
[11,3550,21,3557,21,3563,null,null,null,null,0,122]
[22,3665,23,3669,23,3675,null,null,null,null,0,222]
[11,3771,21,3782,21,3787,null,null,null,null,0,122]
[11,3880,21,3893,21,3900,null,null,null,null,0,122]
[11,3997,21,4010,21,4014,null,null,null,null,0,122]
[11,4108,21,4114,21,4118,null,null,null,null,0,122]
[11,4208,21,4221,21,4226,null,null,null,null,0,122]
[22,4345,23,4351,23,4357,null,null,null,null,0,222]
[11,4454,21,4470,21,4476,null,null,null,null,0,122]
[11,4606,21,4616,21,4619,null,null,null,null,0,122]
[11,4732,21,4743,21,4753,null,null,null,null,0,122]
[11,4908,21,4920,21,4924,null,null,null,null,0,122]
[11,5048,21,5061,21,5064,null,null,null,null,0,122]
[11,5167,12,5171,23,5179,null,null,null,null,0,112]
[11,5274,21,5287,21,5301,null,null,null,null,0,122]
[22,5422,23,5426,23,5431,null,null,null,null,0,222]
[22,5532,23,5536,23,5541,null,null,null,null,0,222]
[11,5638,21,5653,21,5658,null,null,null,null,0,122]
[11,5752,21,5765,21,5768,null,null,null,null,0,122]
[22,5886,23,5894,23,5904,null,null,null,null,0,222]
[11,6001,21,6011,21,6018,null,null,null,null,0,122]
[11,6116,21,6130,21,6133,null,null,null,null,0,122]
[11,6259,21,6273,21,6280,null,null,null,null,0,122]
[11,6461,21,6469,21,6472,null,null,null,null,0,122]
[22,6603,23,6606,23,6615,null,null,null,null,0,222]
[11,6727,21,6737,21,6746,null,null,null,null,1,122]

{"sheet":"!LC05A33..Ta","index":27,"n_rows":48,"n_cols":48,"rows_kept":48,"cut":false,"hidden":false,"merged":[[4,39,4,42],[5,39,5,40],[4,44,4,47],[5,44,5,45],[4,24,4,27],[5,24,5,25],[4,29,4,32],[5,29,5,30],[4,34,4,37],[5,34,5,35],[1,1,1,2],[5,13,5,14],[18,13,18,14],[19,13,19,14],[4,19,4,22],[5,19,5,20]]}
["Report for:!LC05A33..Ta"]
["Date:","<date>"]
["Hen:","<hen>",null,null,null,"Correct Sequence",{"$f":"Start!J2","v":122},null,null,null,null,null,null,null,null,"Total Sequences in Data",{"$f":"4994-COUNTBLANK(L7:L5000)","v":42},null,null,null,null,"Total Sequences in Block Data",{"$f":"COUNTA(L7:L13)","v":7},null,null,null,"Total Sequences in Block Data",{"$f":"COUNTA(L14:L20)","v":7},null,null,null,"Total Sequences in Block Data",{"$f":"COUNTA(L21:L27)","v":7},null,null,null,"Total Sequences in Block Data",{"$f":"COUNTA(L28:L34)","v":7},null,null,null,"Total Sequences in Block Data",{"$f":"COUNTA(L35:L41)","v":7},null,null,null,"Total Sequences in Block Data",{"$f":"COUNTA(L42:L48)","v":7}]
[null,null,null,null,null,null,null,null,null,null,null,null,null,null,null,"Total Sequences in Summary",{"$f":"SUM(O7:O14)","v":42},null,null,null,null,"Total Sequences in Block Summary",{"$f":"SUM(U7:U14)","v":7},null,null,null,"Total Sequences in Block Summary",{"$f":"SUM(Z7:Z14)","v":7},null,null,null,"Total Sequences in Block Summary",{"$f":"SUM(AE7:AE14)","v":7},null,null,null,"Total Sequences in Block Summary",{"$f":"SUM(AJ7:AJ14)","v":7},null,null,null,"Total Sequences in Block Summary",{"$f":"SUM(AO7:AO14)","v":7},null,null,null,"Total Sequences in Block Summary",{"$f":"SUM(AT7:AT14)","v":7}]
[null,null,null,null,null,null,null,null,null,null,null,null,null,null,null,null,null,null,null,"Block 1",null,null,null,null,"Block 2",null,null,null,null,"Block 3",null,null,null,null,"Block 4",null,null,null,null,"Block 5",null,null,null,null,"Block 6"]
["Sequence\nComponent\n1","Time\n1","Sequence\nComponent\n2","Time\n2","Sequence\nComponent\n3","Time\n3","Sequence\nComponent\n4","Time\n4","Sequence\nComponent\n5","Time\n5","Correct?\n0=No 1=Yes","Sequence",null,"Frequency",null,"Relative Frequency","Variability",null,null,"Frequency",null,"Relative Frequency","Variability",null,"Frequency",null,"Relative Frequency","Variability",null,"Frequency",null,"Relative Frequency","Variability",null,"Frequency",null,"Relative Frequency","Variability",null,"Frequency",null,"Relative Frequency","Variability",null,"Frequency",null,"Relative Frequency","Variability"]
[11,75,12,117,14,121,null,null,null,null,0,111,null,111,{"$f":"COUNTIF($L$7:$L$500,N7)","v":42},{"$f":"O7/$Q$4","v":1},{"$f":"IF(P7=0,0,(P7*((LOG(P7))/LOG(2))))","v":0},null,null,{"$f":"N7","v":111},{"$f":"COUNTIF(L7:L13,T7)","v":7},{"$f":"U7/(W4-U10)","v":1},{"$f":"IF(V7=0,0,(V7*((LOG(V7))/LOG(2))))","v":0},null,{"$f":"N7","v":111},{"$f":"COUNTIF(L14:L20,Y7)","v":7},{"$f":"Z7/(AB4-Z10)","v":1},{"$f":"IF(AA7=0,0,(AA7*((LOG(AA7))/LOG(2))))","v":0},null,{"$f":"N7","v":111},{"$f":"COUNTIF(L21:L27,AD7)","v":7},{"$f":"AE7/(AG4-AE10)","v":1},{"$f":"IF(AF7=0,0,(AF7*((LOG(AF7))/LOG(2))))","v":0},null,{"$f":"N7","v":111},{"$f":"COUNTIF(L28:L34,AI7)","v":7},{"$f":"AJ7/(AL4-AJ10)","v":1},{"$f":"IF(AK7=0,0,(AK7*((LOG(AK7))/LOG(2))))","v":0},null,{"$f":"N7","v":111},{"$f":"COUNTIF(L35:L41,AN7)","v":7},{"$f":"AO7/(AQ4-AO10)","v":1},{"$f":"IF(AP7=0,0,(AP7*((LOG(AP7))/LOG(2))))","v":0},null,{"$f":"N7","v":111},{"$f":"COUNTIF(L42:L48,AS7)","v":7},{"$f":"AT7/(AV4-AT10)","v":1},{"$f":"IF(AU7=0,0,(AU7*((LOG(AU7))/LOG(2))))","v":0}]
[11,218,12,221,14,278,null,null,null,null,0,111,null,112,{"$f":"COUNTIF($L$7:$L$500,N8)","v":0},{"$f":"O8/$Q$4","v":0},{"$f":"IF(P8=0,0,(P8*((LOG(P8))/LOG(2))))","v":0},null,null,{"$f":"N8","v":112},{"$f":"COUNTIF(L7:L13,T8)","v":0},{"$f":"U8/(W4-U10)","v":0},{"$f":"IF(V8=0,0,(V8*((LOG(V8))/LOG(2))))","v":0},null,{"$f":"N8","v":112},{"$f":"COUNTIF(L14:L20,Y8)","v":0},{"$f":"Z8/(AB4-Z10)","v":0},{"$f":"IF(AA8=0,0,(AA8*((LOG(AA8))/LOG(2))))","v":0},null,{"$f":"N8","v":112},{"$f":"COUNTIF(L21:L27,AD8)","v":0},{"$f":"AE8/(AG4-AE10)","v":0},{"$f":"IF(AF8=0,0,(AF8*((LOG(AF8))/LOG(2))))","v":0},null,{"$f":"N8","v":112},{"$f":"COUNTIF(L28:L34,AI8)","v":0},{"$f":"AJ8/(AL4-AJ10)","v":0},{"$f":"IF(AK8=0,0,(AK8*((LOG(AK8))/LOG(2))))","v":0},null,{"$f":"N8","v":112},{"$f":"COUNTIF(L35:L41,AN8)","v":0},{"$f":"AO8/(AQ4-AO10)","v":0},{"$f":"IF(AP8=0,0,(AP8*((LOG(AP8))/LOG(2))))","v":0},null,{"$f":"N8","v":112},{"$f":"COUNTIF(L42:L48,AS8)","v":0},{"$f":"AT8/(AV4-AT10)","v":0},{"$f":"IF(AU8=0,0,(AU8*((LOG(AU8))/LOG(2))))","v":0}]
[11,375,12,377,14,405,null,null,null,null,0,111,null,121,{"$f":"COUNTIF($L$7:$L$500,N9)","v":0},{"$f":"O9/$Q$4","v":0},{"$f":"IF(P9=0,0,(P9*((LOG(P9))/LOG(2))))","v":0},null,null,{"$f":"N9","v":121},{"$f":"COUNTIF(L7:L13,T9)","v":0},{"$f":"U9/(W4-U10)","v":0},{"$f":"IF(V9=0,0,(V9*((LOG(V9))/LOG(2))))","v":0},null,{"$f":"N9","v":121},{"$f":"COUNTIF(L14:L20,Y9)","v":0},{"$f":"Z9/(AB4-Z10)","v":0},{"$f":"IF(AA9=0,0,(AA9*((LOG(AA9))/LOG(2))))","v":0},null,{"$f":"N9","v":121},{"$f":"COUNTIF(L21:L27,AD9)","v":0},{"$f":"AE9/(AG4-AE10)","v":0},{"$f":"IF(AF9=0,0,(AF9*((LOG(AF9))/LOG(2))))","v":0},null,{"$f":"N9","v":121},{"$f":"COUNTIF(L28:L34,AI9)","v":0},{"$f":"AJ9/(AL4-AJ10)","v":0},{"$f":"IF(AK9=0,0,(AK9*((LOG(AK9))/LOG(2))))","v":0},null,{"$f":"N9","v":121},{"$f":"COUNTIF(L35:L41,AN9)","v":0},{"$f":"AO9/(AQ4-AO10)","v":0},{"$f":"IF(AP9=0,0,(AP9*((LOG(AP9))/LOG(2))))","v":0},null,{"$f":"N9","v":121},{"$f":"COUNTIF(L42:L48,AS9)","v":0},{"$f":"AT9/(AV4-AT10)","v":0},{"$f":"IF(AU9=0,0,(AU9*((LOG(AU9))/LOG(2))))","v":0}]
[11,531,12,536,14,541,null,null,null,null,0,111,null,122,{"$f":"COUNTIF($L$7:$L$500,N10)","v":0},{"$f":"O10/$Q$4","v":0},{"$f":"IF(P10=0,0,(P10*((LOG(P10))/LOG(2))))","v":0},null,null,{"$f":"N10","v":122},{"$f":"COUNTIF(L7:L13,T10)","v":0},null,null,null,{"$f":"N10","v":122},{"$f":"COUNTIF(L14:L20,Y10)","v":0},null,null,null,{"$f":"N10","v":122},{"$f":"COUNTIF(L21:L27,AD10)","v":0},null,null,null,{"$f":"N10","v":122},{"$f":"COUNTIF(L28:L34,AI10)","v":0},null,null,null,{"$f":"N10","v":122},{"$f":"COUNTIF(L35:L41,AN10)","v":0},null,null,null,{"$f":"N10","v":122},{"$f":"COUNTIF(L42:L48,AS10)","v":0}]
[11,641,12,643,14,645,null,null,null,null,0,111,null,211,{"$f":"COUNTIF($L$7:$L$500,N11)","v":0},{"$f":"O11/$Q$4","v":0},{"$f":"IF(P11=0,0,(P11*((LOG(P11))/LOG(2))))","v":0},null,null,{"$f":"N11","v":211},{"$f":"COUNTIF(L7:L13,T11)","v":0},{"$f":"U11/(W4-U10)","v":0},{"$f":"IF(V11=0,0,(V11*((LOG(V11))/LOG(2))))","v":0},null,{"$f":"N11","v":211},{"$f":"COUNTIF(L14:L20,Y11)","v":0},{"$f":"Z11/(AB4-Z10)","v":0},{"$f":"IF(AA11=0,0,(AA11*((LOG(AA11))/LOG(2))))","v":0},null,{"$f":"N11","v":211},{"$f":"COUNTIF(L21:L27,AD11)","v":0},{"$f":"AE11/(AG4-AE10)","v":0},{"$f":"IF(AF11=0,0,(AF11*((LOG(AF11))/LOG(2))))","v":0},null,{"$f":"N11","v":211},{"$f":"COUNTIF(L28:L34,AI11)","v":0},{"$f":"AJ11/(AL4-AJ10)","v":0},{"$f":"IF(AK11=0,0,(AK11*((LOG(AK11))/LOG(2))))","v":0},null,{"$f":"N11","v":211},{"$f":"COUNTIF(L35:L41,AN11)","v":0},{"$f":"AO11/(AQ4-AO10)","v":0},{"$f":"IF(AP11=0,0,(AP11*((LOG(AP11))/LOG(2))))","v":0},null,{"$f":"N11","v":211},{"$f":"COUNTIF(L42:L48,AS11)","v":0},{"$f":"AT11/(AV4-AT10)","v":0},{"$f":"IF(AU11=0,0,(AU11*((LOG(AU11))/LOG(2))))","v":0}]
[11,741,12,747,14,814,null,null,null,null,0,111,null,212,{"$f":"COUNTIF($L$7:$L$500,N12)","v":0},{"$f":"O12/$Q$4","v":0},{"$f":"IF(P12=0,0,(P12*((LOG(P12))/LOG(2))))","v":0},null,null,{"$f":"N12","v":212},{"$f":"COUNTIF(L7:L13,T12)","v":0},{"$f":"U12/(W4-U10)","v":0},{"$f":"IF(V12=0,0,(V12*((LOG(V12))/LOG(2))))","v":0},null,{"$f":"N12","v":212},{"$f":"COUNTIF(L14:L20,Y12)","v":0},{"$f":"Z12/(AB4-Z10)","v":0},{"$f":"IF(AA12=0,0,(AA12*((LOG(AA12))/LOG(2))))","v":0},null,{"$f":"N12","v":212},{"$f":"COUNTIF(L21:L27,AD12)","v":0},{"$f":"AE12/(AG4-AE10)","v":0},{"$f":"IF(AF12=0,0,(AF12*((LOG(AF12))/LOG(2))))","v":0},null,{"$f":"N12","v":212},{"$f":"COUNTIF(L28:L34,AI12)","v":0},{"$f":"AJ12/(AL4-AJ10)","v":0},{"$f":"IF(AK12=0,0,(AK12*((LOG(AK12))/LOG(2))))","v":0},null,{"$f":"N12","v":212},{"$f":"COUNTIF(L35:L41,AN12)","v":0},{"$f":"AO12/(AQ4-AO10)","v":0},{"$f":"IF(AP12=0,0,(AP12*((LOG(AP12))/LOG(2))))","v":0},null,{"$f":"N12","v":212},{"$f":"COUNTIF(L42:L48,AS12)","v":0},{"$f":"AT12/(AV4-AT10)","v":0},{"$f":"IF(AU12=0,0,(AU12*((LOG(AU12))/LOG(2))))","v":0}]
[11,918,12,945,14,951,null,null,null,null,0,111,null,221,{"$f":"COUNTIF($L$7:$L$500,N13)","v":0},{"$f":"O13/$Q$4","v":0},{"$f":"IF(P13=0,0,(P13*((LOG(P13))/LOG(2))))","v":0},null,null,{"$f":"N13","v":221},{"$f":"COUNTIF(L7:L13,T13)","v":0},{"$f":"U13/(W4-U10)","v":0},{"$f":"IF(V13=0,0,(V13*((LOG(V13))/LOG(2))))","v":0},null,{"$f":"N13","v":221},{"$f":"COUNTIF(L14:L20,Y13)","v":0},{"$f":"Z13/(AB4-Z10)","v":0},{"$f":"IF(AA13=0,0,(AA13*((LOG(AA13))/LOG(2))))","v":0},null,{"$f":"N13","v":221},{"$f":"COUNTIF(L21:L27,AD13)","v":0},{"$f":"AE13/(AG4-AE10)","v":0},{"$f":"IF(AF13=0,0,(AF13*((LOG(AF13))/LOG(2))))","v":0},null,{"$f":"N13","v":221},{"$f":"COUNTIF(L28:L34,AI13)","v":0},{"$f":"AJ13/(AL4-AJ10)","v":0},{"$f":"IF(AK13=0,0,(AK13*((LOG(AK13))/LOG(2))))","v":0},null,{"$f":"N13","v":221},{"$f":"COUNTIF(L35:L41,AN13)","v":0},{"$f":"AO13/(AQ4-AO10)","v":0},{"$f":"IF(AP13=0,0,(AP13*((LOG(AP13))/LOG(2))))","v":0},null,{"$f":"N13","v":221},{"$f":"COUNTIF(L42:L48,AS13)","v":0},{"$f":"AT13/(AV4-AT10)","v":0},{"$f":"IF(AU13=0,0,(AU13*((LOG(AU13))/LOG(2))))","v":0}]
[11,1063,12,1067,14,1096,null,null,null,null,0,111,null,222,{"$f":"COUNTIF($L$7:$L$500,N14)","v":0},{"$f":"O14/$Q$4","v":0},{"$f":"IF(P14=0,0,(P14*((LOG(P14))/LOG(2))))","v":0},null,null,{"$f":"N14","v":222},{"$f":"COUNTIF(L7:L13,T14)","v":0},{"$f":"U14/(W4-U10)","v":0},{"$f":"IF(V14=0,0,(V14*((LOG(V14))/LOG(2))))","v":0},null,{"$f":"N14","v":222},{"$f":"COUNTIF(L14:L20,Y14)","v":0},{"$f":"Z14/(AB4-Z10)","v":0},{"$f":"IF(AA14=0,0,(AA14*((LOG(AA14))/LOG(2))))","v":0},null,{"$f":"N14","v":222},{"$f":"COUNTIF(L21:L27,AD14)","v":0},{"$f":"AE14/(AG4-AE10)","v":0},{"$f":"IF(AF14=0,0,(AF14*((LOG(AF14))/LOG(2))))","v":0},null,{"$f":"N14","v":222},{"$f":"COUNTIF(L28:L34,AI14)","v":0},{"$f":"AJ14/(AL4-AJ10)","v":0},{"$f":"IF(AK14=0,0,(AK14*((LOG(AK14))/LOG(2))))","v":0},null,{"$f":"N14","v":222},{"$f":"COUNTIF(L35:L41,AN14)","v":0},{"$f":"AO14/(AQ4-AO10)","v":0},{"$f":"IF(AP14=0,0,(AP14*((LOG(AP14))/LOG(2))))","v":0},null,{"$f":"N14","v":222},{"$f":"COUNTIF(L42:L48,AS14)","v":0},{"$f":"AT14/(AV4-AT10)","v":0},{"$f":"IF(AU14=0,0,(AU14*((LOG(AU14))/LOG(2))))","v":0}]
[11,1205,12,1208,14,1229,null,null,null,null,0,111,null,null,null,{"$f":"SUM(P7:P14)","v":1},{"$f":"-SUM(Q7:Q14)","v":0},null,null,null,null,{"$f":"SUM(V7:V14)","v":1},{"$f":"-SUM(W7:W14)","v":0},null,null,null,{"$f":"SUM(AA7:AA14)","v":1},{"$f":"-SUM(AB7:AB14)","v":0},null,null,null,{"$f":"SUM(AF7:AF14)","v":1},{"$f":"-SUM(AG7:AG14)","v":0},null,null,null,{"$f":"SUM(AK7:AK14)","v":1},{"$f":"-SUM(AL7:AL14)","v":0},null,null,null,{"$f":"SUM(AP7:AP14)","v":1},{"$f":"-SUM(AQ7:AQ14)","v":0},null,null,null,{"$f":"SUM(AU7:AU14)","v":1},{"$f":"-SUM(AV7:AV14)","v":0}]
[11,1324,12,1348,14,1353,null,null,null,null,0,111,null,null,null,"U=",{"$f":"Q15/(LOG(Q4)/LOG(2))","v":0},null,null,null,null,"U1=",{"$f":"W15/(LOG(W4)/LOG(2))","v":0},null,null,null,"U2=",{"$f":"AB15/(LOG(AB4)/LOG(2))","v":0},null,null,null,"U3=",{"$f":"AG15/(LOG(AG4)/LOG(2))","v":0},null,null,null,"U4=",{"$f":"AL15/(LOG(AL4)/LOG(2))","v":0},null,null,null,"U5=",{"$f":"AQ15/(LOG(AQ4)/LOG(2))","v":0},null,null,null,"U6=",{"$f":"AV15/(LOG(AV4)/LOG(2))","v":0}]
[11,1461,12,1489,14,1493,null,null,null,null,0,111]
[11,1591,12,1594,14,1600,null,null,null,null,0,111]
[11,1710,12,1713,14,1784,null,null,null,null,0,111,null,"Total Target Seq"]
[11,1897,12,1903,14,1931,null,null,null,null,0,111,null,{"$f":"COUNTIF(L7:L48,G3)","v":0},null,7,7,7,7,7,7]
[11,2111,12,2169,14,2194,null,null,null,null,0,111,null,null,null,"% of reinforcement given in 6 equal intervals based on number of trials "]
[11,2298,12,2317,14,2325,null,null,null,null,0,111,null,null,null,"%_1","%_2","%_3","%_4","%_5","%_6"]
[11,3271,12,3300,14,3305,null,null,null,null,0,111,null,null,"target sequence",{"$f":"$G$3","v":122},{"$f":"$G$3","v":122},{"$f":"$G$3","v":122},{"$f":"$G$3","v":122},{"$f":"$G$3","v":122},{"$f":"$G$3","v":122}]
[11,3489,12,3540,14,3546,null,null,null,null,0,111,null,null,"total reinforcement",{"$f":"U10","v":0},{"$f":"Z10","v":0},{"$f":"AE10","v":0},{"$f":"AJ10","v":0},{"$f":"AO10","v":0},{"$f":"AT10","v":0}]
[11,3651,12,3654,14,3657,null,null,null,null,0,111,null,null,"% target"]
[11,3807,12,3809,14,3824,null,null,null,null,0,111,null,null,"CCRF"]
[11,4016,12,4019,14,4023,null,null,null,null,0,111,null,null,"% CCRf"]
[11,4134,12,4137,14,4178,null,null,null,null,0,111,null,null,"average response rate",{"$f":"F13/P20","v":135.85714285714286},{"$f":"(F20-F13)/Q20","v":140},{"$f":"(F27-F20)/R20","v":298.85714285714283},{"$f":"(F34-F27)/S20","v":769.42857142857144},{"$f":"(F41-F34)/T20","v":871.14285714285711},{"$f":"(F48-F41)/U20","v":1169}]
[11,4740,12,4761,14,4765,null,null,null,null,0,111]
[11,4866,12,4870,14,4874,null,null,null,null,0,111]
[11,5074,12,5076,14,5104,null,null,null,null,0,111]
[11,6219,12,8909,14,8929,null,null,null,null,0,111]
[11,9076,12,9078,14,9082,null,null,null,null,0,111]
[11,9400,12,9404,14,9409,null,null,null,null,0,111]
[11,9543,12,9545,14,9549,null,null,null,null,0,111]
[11,10615,12,10623,14,10647,null,null,null,null,0,111]
[11,10830,12,10835,14,10840,null,null,null,null,0,111]
[11,14566,12,14589,14,14593,null,null,null,null,0,111]
[11,14708,12,14712,14,14716,null,null,null,null,0,111]
[11,15371,12,15376,14,15382,null,null,null,null,0,111]
[11,15496,12,15502,14,15507,null,null,null,null,0,111]
[11,16650,12,16675,14,16681,null,null,null,null,0,111]
[11,16776,12,16780,14,16783,null,null,null,null,0,111]
[11,17503,12,17505,14,17510,null,null,null,null,0,111]
[11,17814,12,17816,14,17823,null,null,null,null,0,111]
[11,18986,12,18989,14,19018,null,null,null,null,0,111]
[11,19120,12,19142,14,19145,null,null,null,null,0,111]
[11,23680,12,23682,14,23690,null,null,null,null,0,111]

{"sheet":"!LC07A03..Ta","index":28,"n_rows":69,"n_cols":48,"rows_kept":69,"cut":false,"hidden":false,"merged":[[4,39,4,42],[5,39,5,40],[4,44,4,47],[5,44,5,45],[4,24,4,27],[5,24,5,25],[4,29,4,32],[5,29,5,30],[4,34,4,37],[5,34,5,35],[1,1,1,2],[5,13,5,14],[18,13,18,14],[19,13,19,14],[4,19,4,22],[5,19,5,20]]}
["Report for:!LC07A03..Ta"]
["Date:","<date>"]
["Hen:","<hen>",null,null,null,"Correct Sequence",{"$f":"Start!J2","v":122},null,null,null,null,null,null,null,null,"Total Sequences in Data",{"$f":"4994-COUNTBLANK(L7:L5000)","v":63},null,null,null,null,"Total Sequences in Block Data",{"$f":"COUNTA(L7:L17)","v":11},null,null,null,"Total Sequences in Block Data",{"$f":"COUNTA(L18:L27)","v":10},null,null,null,"Total Sequences in Block Data",{"$f":"COUNTA(L28:L38)","v":11},null,null,null,"Total Sequences in Block Data",{"$f":"COUNTA(L39:L48)","v":10},null,null,null,"Total Sequences in Block Data",{"$f":"COUNTA(L49:L59)","v":11},null,null,null,"Total Sequences in Block Data",{"$f":"COUNTA(L60:L69)","v":10}]
[null,null,null,null,null,null,null,null,null,null,null,null,null,null,null,"Total Sequences in Summary",{"$f":"SUM(O7:O14)","v":63},null,null,null,null,"Total Sequences in Block Summary",{"$f":"SUM(U7:U14)","v":11},null,null,null,"Total Sequences in Block Summary",{"$f":"SUM(Z7:Z14)","v":10},null,null,null,"Total Sequences in Block Summary",{"$f":"SUM(AE7:AE14)","v":11},null,null,null,"Total Sequences in Block Summary",{"$f":"SUM(AJ7:AJ14)","v":10},null,null,null,"Total Sequences in Block Summary",{"$f":"SUM(AO7:AO14)","v":11},null,null,null,"Total Sequences in Block Summary",{"$f":"SUM(AT7:AT14)","v":10}]
[null,null,null,null,null,null,null,null,null,null,null,null,null,null,null,null,null,null,null,"Block 1",null,null,null,null,"Block 2",null,null,null,null,"Block 3",null,null,null,null,"Block 4",null,null,null,null,"Block 5",null,null,null,null,"Block 6"]
["Sequence\nComponent\n1","Time\n1","Sequence\nComponent\n2","Time\n2","Sequence\nComponent\n3","Time\n3","Sequence\nComponent\n4","Time\n4","Sequence\nComponent\n5","Time\n5","Correct?\n0=No 1=Yes","Sequence",null,"Frequency",null,"Relative Frequency","Variability",null,null,"Frequency",null,"Relative Frequency","Variability",null,"Frequency",null,"Relative Frequency","Variability",null,"Frequency",null,"Relative Frequency","Variability",null,"Frequency",null,"Relative Frequency","Variability",null,"Frequency",null,"Relative Frequency","Variability",null,"Frequency",null,"Relative Frequency","Variability"]
[11,26,12,31,14,36,null,null,null,null,0,111,null,111,{"$f":"COUNTIF($L$7:$L$500,N7)","v":8},{"$f":"O7/$Q$4","v":0.12698412698412698},{"$f":"IF(P7=0,0,(P7*((LOG(P7))/LOG(2))))","v":-0.37806729187300525},null,null,{"$f":"N7","v":111},{"$f":"COUNTIF(L7:L17,T7)","v":6},{"$f":"U7/(W4-U10)","v":0.8571428571428571},{"$f":"IF(V7=0,0,(V7*((LOG(V7))/LOG(2))))","v":-0.19062207543124113},null,{"$f":"N7","v":111},{"$f":"COUNTIF(L18:L27,Y7)","v":0},{"$f":"Z7/(AB4-Z10)","v":0},{"$f":"IF(AA7=0,0,(AA7*((LOG(AA7))/LOG(2))))","v":0},null,{"$f":"N7","v":111},{"$f":"COUNTIF(L28:L38,AD7)","v":0},{"$f":"AE7/(AG4-AE10)","v":0},{"$f":"IF(AF7=0,0,(AF7*((LOG(AF7))/LOG(2))))","v":0},null,{"$f":"N7","v":111},{"$f":"COUNTIF(L39:L48,AI7)","v":0},{"$f":"AJ7/(AL4-AJ10)","v":0},{"$f":"IF(AK7=0,0,(AK7*((LOG(AK7))/LOG(2))))","v":0},null,{"$f":"N7","v":111},{"$f":"COUNTIF(L49:L59,AN7)","v":1},{"$f":"AO7/(AQ4-AO10)","v":0.25},{"$f":"IF(AP7=0,0,(AP7*((LOG(AP7))/LOG(2))))","v":-0.5},null,{"$f":"N7","v":111},{"$f":"COUNTIF(L60:L69,AS7)","v":1},{"$f":"AT7/(AV4-AT10)","v":0.5},{"$f":"IF(AU7=0,0,(AU7*((LOG(AU7))/LOG(2))))","v":-0.5}]
[11,168,12,199,14,204,null,null,null,null,0,111,null,112,{"$f":"COUNTIF($L$7:$L$500,N8)","v":10},{"$f":"O8/$Q$4","v":0.15873015873015872},{"$f":"IF(P8=0,0,(P8*((LOG(P8))/LOG(2))))","v":-0.42148441724008795},null,null,{"$f":"N8","v":112},{"$f":"COUNTIF(L7:L17,T8)","v":0},{"$f":"U8/(W4-U10)","v":0},{"$f":"IF(V8=0,0,(V8*((LOG(V8))/LOG(2))))","v":0},null,{"$f":"N8","v":112},{"$f":"COUNTIF(L18:L27,Y8)","v":2},{"$f":"Z8/(AB4-Z10)","v":0.5},{"$f":"IF(AA8=0,0,(AA8*((LOG(AA8))/LOG(2))))","v":-0.5},null,{"$f":"N8","v":112},{"$f":"COUNTIF(L28:L38,AD8)","v":1},{"$f":"AE8/(AG4-AE10)","v":0.5},{"$f":"IF(AF8=0,0,(AF8*((LOG(AF8))/LOG(2))))","v":-0.5},null,{"$f":"N8","v":112},{"$f":"COUNTIF(L39:L48,AI8)","v":4},{"$f":"AJ8/(AL4-AJ10)","v":0.8},{"$f":"IF(AK8=0,0,(AK8*((LOG(AK8))/LOG(2))))","v":-0.25754247590988982},null,{"$f":"N8","v":112},{"$f":"COUNTIF(L49:L59,AN8)","v":3},{"$f":"AO8/(AQ4-AO10)","v":0.75},{"$f":"IF(AP8=0,0,(AP8*((LOG(AP8))/LOG(2))))","v":-0.31127812445913283},null,{"$f":"N8","v":112},{"$f":"COUNTIF(L60:L69,AS8)","v":0},{"$f":"AT8/(AV4-AT10)","v":0},{"$f":"IF(AU8=0,0,(AU8*((LOG(AU8))/LOG(2))))","v":0}]
[11,303,12,307,14,312,null,null,null,null,0,111,null,121,{"$f":"COUNTIF($L$7:$L$500,N9)","v":1},{"$f":"O9/$Q$4","v":1.5873015873015872E-2},{"$f":"IF(P9=0,0,(P9*((LOG(P9))/LOG(2))))","v":-9.4877459103173273E-2},null,null,{"$f":"N9","v":121},{"$f":"COUNTIF(L7:L17,T9)","v":0},{"$f":"U9/(W4-U10)","v":0},{"$f":"IF(V9=0,0,(V9*((LOG(V9))/LOG(2))))","v":0},null,{"$f":"N9","v":121},{"$f":"COUNTIF(L18:L27,Y9)","v":0},{"$f":"Z9/(AB4-Z10)","v":0},{"$f":"IF(AA9=0,0,(AA9*((LOG(AA9))/LOG(2))))","v":0},null,{"$f":"N9","v":121},{"$f":"COUNTIF(L28:L38,AD9)","v":0},{"$f":"AE9/(AG4-AE10)","v":0},{"$f":"IF(AF9=0,0,(AF9*((LOG(AF9))/LOG(2))))","v":0},null,{"$f":"N9","v":121},{"$f":"COUNTIF(L39:L48,AI9)","v":1},{"$f":"AJ9/(AL4-AJ10)","v":0.2},{"$f":"IF(AK9=0,0,(AK9*((LOG(AK9))/LOG(2))))","v":-0.46438561897747244},null,{"$f":"N9","v":121},{"$f":"COUNTIF(L49:L59,AN9)","v":0},{"$f":"AO9/(AQ4-AO10)","v":0},{"$f":"IF(AP9=0,0,(AP9*((LOG(AP9))/LOG(2))))","v":0},null,{"$f":"N9","v":121},{"$f":"COUNTIF(L60:L69,AS9)","v":0},{"$f":"AT9/(AV4-AT10)","v":0},{"$f":"IF(AU9=0,0,(AU9*((LOG(AU9))/LOG(2))))","v":0}]
[11,407,12,427,14,431,null,null,null,null,0,111,null,122,{"$f":"COUNTIF($L$7:$L$500,N10)","v":39},{"$f":"O10/$Q$4","v":0.61904761904761907},{"$f":"IF(P10=0,0,(P10*((LOG(P10))/LOG(2))))","v":-0.42830524572808026},null,null,{"$f":"N10","v":122},{"$f":"COUNTIF(L7:L17,T10)","v":4},null,null,null,{"$f":"N10","v":122},{"$f":"COUNTIF(L18:L27,Y10)","v":6},null,null,null,{"$f":"N10","v":122},{"$f":"COUNTIF(L28:L38,AD10)","v":9},null,null,null,{"$f":"N10","v":122},{"$f":"COUNTIF(L39:L48,AI10)","v":5},null,null,null,{"$f":"N10","v":122},{"$f":"COUNTIF(L49:L59,AN10)","v":7},null,null,null,{"$f":"N10","v":122},{"$f":"COUNTIF(L60:L69,AS10)","v":8}]
[11,526,12,531,14,535,null,null,null,null,0,111,null,211,{"$f":"COUNTIF($L$7:$L$500,N11)","v":0},{"$f":"O11/$Q$4","v":0},{"$f":"IF(P11=0,0,(P11*((LOG(P11))/LOG(2))))","v":0},null,null,{"$f":"N11","v":211},{"$f":"COUNTIF(L7:L17,T11)","v":0},{"$f":"U11/(W4-U10)","v":0},{"$f":"IF(V11=0,0,(V11*((LOG(V11))/LOG(2))))","v":0},null,{"$f":"N11","v":211},{"$f":"COUNTIF(L18:L27,Y11)","v":0},{"$f":"Z11/(AB4-Z10)","v":0},{"$f":"IF(AA11=0,0,(AA11*((LOG(AA11))/LOG(2))))","v":0},null,{"$f":"N11","v":211},{"$f":"COUNTIF(L28:L38,AD11)","v":0},{"$f":"AE11/(AG4-AE10)","v":0},{"$f":"IF(AF11=0,0,(AF11*((LOG(AF11))/LOG(2))))","v":0},null,{"$f":"N11","v":211},{"$f":"COUNTIF(L39:L48,AI11)","v":0},{"$f":"AJ11/(AL4-AJ10)","v":0},{"$f":"IF(AK11=0,0,(AK11*((LOG(AK11))/LOG(2))))","v":0},null,{"$f":"N11","v":211},{"$f":"COUNTIF(L49:L59,AN11)","v":0},{"$f":"AO11/(AQ4-AO10)","v":0},{"$f":"IF(AP11=0,0,(AP11*((LOG(AP11))/LOG(2))))","v":0},null,{"$f":"N11","v":211},{"$f":"COUNTIF(L60:L69,AS11)","v":0},{"$f":"AT11/(AV4-AT10)","v":0},{"$f":"IF(AU11=0,0,(AU11*((LOG(AU11))/LOG(2))))","v":0}]
[11,633,12,635,14,639,null,null,null,null,0,111,null,212,{"$f":"COUNTIF($L$7:$L$500,N12)","v":0},{"$f":"O12/$Q$4","v":0},{"$f":"IF(P12=0,0,(P12*((LOG(P12))/LOG(2))))","v":0},null,null,{"$f":"N12","v":212},{"$f":"COUNTIF(L7:L17,T12)","v":0},{"$f":"U12/(W4-U10)","v":0},{"$f":"IF(V12=0,0,(V12*((LOG(V12))/LOG(2))))","v":0},null,{"$f":"N12","v":212},{"$f":"COUNTIF(L18:L27,Y12)","v":0},{"$f":"Z12/(AB4-Z10)","v":0},{"$f":"IF(AA12=0,0,(AA12*((LOG(AA12))/LOG(2))))","v":0},null,{"$f":"N12","v":212},{"$f":"COUNTIF(L28:L38,AD12)","v":0},{"$f":"AE12/(AG4-AE10)","v":0},{"$f":"IF(AF12=0,0,(AF12*((LOG(AF12))/LOG(2))))","v":0},null,{"$f":"N12","v":212},{"$f":"COUNTIF(L39:L48,AI12)","v":0},{"$f":"AJ12/(AL4-AJ10)","v":0},{"$f":"IF(AK12=0,0,(AK12*((LOG(AK12))/LOG(2))))","v":0},null,{"$f":"N12","v":212},{"$f":"COUNTIF(L49:L59,AN12)","v":0},{"$f":"AO12/(AQ4-AO10)","v":0},{"$f":"IF(AP12=0,0,(AP12*((LOG(AP12))/LOG(2))))","v":0},null,{"$f":"N12","v":212},{"$f":"COUNTIF(L60:L69,AS12)","v":0},{"$f":"AT12/(AV4-AT10)","v":0},{"$f":"IF(AU12=0,0,(AU12*((LOG(AU12))/LOG(2))))","v":0}]
[11,739,21,762,21,765,null,null,null,null,0,122,null,221,{"$f":"COUNTIF($L$7:$L$500,N13)","v":0},{"$f":"O13/$Q$4","v":0},{"$f":"IF(P13=0,0,(P13*((LOG(P13))/LOG(2))))","v":0},null,null,{"$f":"N13","v":221},{"$f":"COUNTIF(L7:L17,T13)","v":0},{"$f":"U13/(W4-U10)","v":0},{"$f":"IF(V13=0,0,(V13*((LOG(V13))/LOG(2))))","v":0},null,{"$f":"N13","v":221},{"$f":"COUNTIF(L18:L27,Y13)","v":0},{"$f":"Z13/(AB4-Z10)","v":0},{"$f":"IF(AA13=0,0,(AA13*((LOG(AA13))/LOG(2))))","v":0},null,{"$f":"N13","v":221},{"$f":"COUNTIF(L28:L38,AD13)","v":0},{"$f":"AE13/(AG4-AE10)","v":0},{"$f":"IF(AF13=0,0,(AF13*((LOG(AF13))/LOG(2))))","v":0},null,{"$f":"N13","v":221},{"$f":"COUNTIF(L39:L48,AI13)","v":0},{"$f":"AJ13/(AL4-AJ10)","v":0},{"$f":"IF(AK13=0,0,(AK13*((LOG(AK13))/LOG(2))))","v":0},null,{"$f":"N13","v":221},{"$f":"COUNTIF(L49:L59,AN13)","v":0},{"$f":"AO13/(AQ4-AO10)","v":0},{"$f":"IF(AP13=0,0,(AP13*((LOG(AP13))/LOG(2))))","v":0},null,{"$f":"N13","v":221},{"$f":"COUNTIF(L60:L69,AS13)","v":0},{"$f":"AT13/(AV4-AT10)","v":0},{"$f":"IF(AU13=0,0,(AU13*((LOG(AU13))/LOG(2))))","v":0}]
[22,895,23,900,23,906,null,null,null,null,0,222,null,222,{"$f":"COUNTIF($L$7:$L$500,N14)","v":5},{"$f":"O14/$Q$4","v":7.9365079365079361E-2},{"$f":"IF(P14=0,0,(P14*((LOG(P14))/LOG(2))))","v":-0.29010728798512331},null,null,{"$f":"N14","v":222},{"$f":"COUNTIF(L7:L17,T14)","v":1},{"$f":"U14/(W4-U10)","v":0.14285714285714285},{"$f":"IF(V14=0,0,(V14*((LOG(V14))/LOG(2))))","v":-0.40105070315108626},null,{"$f":"N14","v":222},{"$f":"COUNTIF(L18:L27,Y14)","v":2},{"$f":"Z14/(AB4-Z10)","v":0.5},{"$f":"IF(AA14=0,0,(AA14*((LOG(AA14))/LOG(2))))","v":-0.5},null,{"$f":"N14","v":222},{"$f":"COUNTIF(L28:L38,AD14)","v":1},{"$f":"AE14/(AG4-AE10)","v":0.5},{"$f":"IF(AF14=0,0,(AF14*((LOG(AF14))/LOG(2))))","v":-0.5},null,{"$f":"N14","v":222},{"$f":"COUNTIF(L39:L48,AI14)","v":0},{"$f":"AJ14/(AL4-AJ10)","v":0},{"$f":"IF(AK14=0,0,(AK14*((LOG(AK14))/LOG(2))))","v":0},null,{"$f":"N14","v":222},{"$f":"COUNTIF(L49:L59,AN14)","v":0},{"$f":"AO14/(AQ4-AO10)","v":0},{"$f":"IF(AP14=0,0,(AP14*((LOG(AP14))/LOG(2))))","v":0},null,{"$f":"N14","v":222},{"$f":"COUNTIF(L60:L69,AS14)","v":1},{"$f":"AT14/(AV4-AT10)","v":0.5},{"$f":"IF(AU14=0,0,(AU14*((LOG(AU14))/LOG(2))))","v":-0.5}]
[11,1001,21,1028,21,1033,null,null,null,null,0,122,null,null,null,{"$f":"SUM(P7:P14)","v":1},{"$f":"-SUM(Q7:Q14)","v":1.6128417019294701},null,null,null,null,{"$f":"SUM(V7:V14)","v":1},{"$f":"-SUM(W7:W14)","v":0.59167277858232736},null,null,null,{"$f":"SUM(AA7:AA14)","v":1},{"$f":"-SUM(AB7:AB14)","v":1},null,null,null,{"$f":"SUM(AF7:AF14)","v":1},{"$f":"-SUM(AG7:AG14)","v":1},null,null,null,{"$f":"SUM(AK7:AK14)","v":1},{"$f":"-SUM(AL7:AL14)","v":0.72192809488736231},null,null,null,{"$f":"SUM(AP7:AP14)","v":1},{"$f":"-SUM(AQ7:AQ14)","v":0.81127812445913283},null,null,null,{"$f":"SUM(AU7:AU14)","v":1},{"$f":"-SUM(AV7:AV14)","v":1}]
[11,1131,21,1153,21,1159,null,null,null,null,0,122,null,null,null,"U=",{"$f":"Q15/(LOG(Q4)/LOG(2))","v":0.26982870512530588},null,null,null,null,"U1=",{"$f":"W15/(LOG(W4)/LOG(2))","v":0.17103178897792257},null,null,null,"U2=",{"$f":"AB15/(LOG(AB4)/LOG(2))","v":0.3010299956639812},null,null,null,"U3=",{"$f":"AG15/(LOG(AG4)/LOG(2))","v":0.28906482631788782},null,null,null,"U4=",{"$f":"AL15/(LOG(AL4)/LOG(2))","v":0.21732201127364889},null,null,null,"U5=",{"$f":"AQ15/(LOG(AQ4)/LOG(2))","v":0.23451197014228101},null,null,null,"U6=",{"$f":"AV15/(LOG(AV4)/LOG(2))","v":0.3010299956639812}]
[11,1252,21,1265,21,1270,null,null,null,null,0,122]
[22,1392,23,1403,23,1429,null,null,null,null,0,222]
[11,1528,12,1533,23,1540,null,null,null,null,0,112,null,"Total Target Seq"]
[11,1638,12,1650,23,1663,null,null,null,null,0,112,null,{"$f":"COUNTIF(L7:L69,G3)","v":39},null,11,10,11,10,11,10]
[11,1773,21,1792,21,1797,null,null,null,null,0,122,null,null,null,"% of reinforcement given in 6 equal intervals based on number of trials "]
[11,1939,21,1947,21,1951,null,null,null,null,0,122,null,null,null,"%_1","%_2","%_3","%_4","%_5","%_6"]
[11,2047,21,2071,21,2080,null,null,null,null,0,122,null,null,"target sequence",{"$f":"$G$3","v":122},{"$f":"$G$3","v":122},{"$f":"$G$3","v":122},{"$f":"$G$3","v":122},{"$f":"$G$3","v":122},{"$f":"$G$3","v":122}]
[22,2194,23,2207,23,2214,null,null,null,null,0,222,null,null,"total reinforcement",{"$f":"U10","v":4},{"$f":"Z10","v":6},{"$f":"AE10","v":9},{"$f":"AJ10","v":5},{"$f":"AO10","v":7},{"$f":"AT10","v":8}]
[11,2312,21,2327,21,2334,null,null,null,null,0,122,null,null,"% target"]
[11,2427,21,2435,21,2440,null,null,null,null,0,122,null,null,"CCRF"]
[11,2563,21,2575,21,2579,null,null,null,null,0,122,null,null,"% CCRf"]
[11,2672,21,2687,21,2698,null,null,null,null,0,122,null,null,"average response rate",{"$f":"F17/P20","v":115.45454545454545},{"$f":"(F27-F17)/Q20","v":130.9},{"$f":"(F38-F27)/R20","v":119.81818181818181},{"$f":"(F48-F38)/S20","v":116},{"$f":"(F59-F48)/T20","v":132.54545454545453},{"$f":"(F69-F59)/U20","v":118.4}]
[11,2806,21,2816,21,2820,null,null,null,null,0,122]
[11,2916,21,2925,21,2929,null,null,null,null,0,122]
[11,3035,21,3050,21,3081,null,null,null,null,0,122]
[22,3182,23,3189,23,3200,null,null,null,null,0,222]
[11,3299,21,3311,21,3319,null,null,null,null,0,122]
[11,3412,21,3424,21,3430,null,null,null,null,0,122]
[11,3522,21,3535,21,3547,null,null,null,null,0,122]
[11,3639,12,3642,23,3658,null,null,null,null,0,112]
[11,3755,21,3770,21,3779,null,null,null,null,0,122]
[11,3874,21,3887,21,3897,null,null,null,null,0,122]
[11,3993,21,4014,21,4021,null,null,null,null,0,122]
[11,4114,21,4128,21,4133,null,null,null,null,0,122]
[11,4226,12,4229,23,4245,null,null,null,null,0,112]
[11,4344,12,4348,23,4356,null,null,null,null,0,112]
[11,4454,12,4457,23,4468,null,null,null,null,0,112]
[11,4560,12,4564,23,4575,null,null,null,null,0,112]
[11,4681,21,4691,12,4698,null,null,null,null,0,121]
[11,4796,21,4808,21,4812,null,null,null,null,0,122]
[11,4905,21,4914,21,4934,null,null,null,null,0,122]
[11,5028,21,5046,21,5057,null,null,null,null,0,122]
[11,5153,21,5173,21,5180,null,null,null,null,0,122]
[11,5274,12,5280,23,5294,null,null,null,null,0,112]
[11,5390,12,5392,23,5404,null,null,null,null,0,112]
[11,5501,21,5507,21,5515,null,null,null,null,0,122]
[11,5621,21,5633,21,5645,null,null,null,null,0,122]
[11,5903,12,5908,14,5913,null,null,null,null,0,111]
[11,6010,21,6019,21,6025,null,null,null,null,0,122]
[11,6147,21,6155,21,6170,null,null,null,null,0,122]
[11,6264,21,6273,21,6280,null,null,null,null,0,122]
[11,6390,21,6401,21,6406,null,null,null,null,0,122]
[11,6502,12,6504,23,6515,null,null,null,null,0,112]
[11,6613,21,6621,21,6625,null,null,null,null,0,122]
[11,6729,12,6742,14,6749,null,null,null,null,0,111]
[11,6846,21,6858,21,6865,null,null,null,null,0,122]
[11,6957,21,6970,21,6975,null,null,null,null,0,122]
[11,7083,21,7091,21,7097,null,null,null,null,0,122]
[11,7190,21,7206,21,7217,null,null,null,null,0,122]
[22,7336,23,7342,23,7348,null,null,null,null,0,222]
[11,7447,21,7459,21,7471,null,null,null,null,0,122]
[11,7574,21,7583,21,7589,null,null,null,null,0,122]
[11,7681,21,7693,21,7699,null,null,null,null,1,122]

{"sheet":"!LC08A53..Ta","index":29,"n_rows":59,"n_cols":48,"rows_kept":59,"cut":false,"hidden":false,"merged":[[4,39,4,42],[5,39,5,40],[4,44,4,47],[5,44,5,45],[4,24,4,27],[5,24,5,25],[4,29,4,32],[5,29,5,30],[4,34,4,37],[5,34,5,35],[1,1,1,2],[5,13,5,14],[18,13,18,14],[19,13,19,14],[4,19,4,22],[5,19,5,20]]}
["Report for:!LC08A53..Ta"]
["Date:","<date>"]
["Hen:","<hen>",null,null,null,"Correct Sequence",{"$f":"Start!J2","v":122},null,null,null,null,null,null,null,null,"Total Sequences in Data",{"$f":"4994-COUNTBLANK(L7:L5000)","v":53},null,null,null,null,"Total Sequences in Block Data",{"$f":"COUNTA(L7:L15)","v":9},null,null,null,"Total Sequences in Block Data",{"$f":"COUNTA(L16:L24)","v":9},null,null,null,"Total Sequences in Block Data",{"$f":"COUNTA(L25:L32)","v":8},null,null,null,"Total Sequences in Block Data",{"$f":"COUNTA(L33:L41)","v":9},null,null,null,"Total Sequences in Block Data",{"$f":"COUNTA(L42:L50)","v":9},null,null,null,"Total Sequences in Block Data",{"$f":"COUNTA(L51:L59)","v":9}]
[null,null,null,null,null,null,null,null,null,null,null,null,null,null,null,"Total Sequences in Summary",{"$f":"SUM(O7:O14)","v":53},null,null,null,null,"Total Sequences in Block Summary",{"$f":"SUM(U7:U14)","v":9},null,null,null,"Total Sequences in Block Summary",{"$f":"SUM(Z7:Z14)","v":9},null,null,null,"Total Sequences in Block Summary",{"$f":"SUM(AE7:AE14)","v":8},null,null,null,"Total Sequences in Block Summary",{"$f":"SUM(AJ7:AJ14)","v":9},null,null,null,"Total Sequences in Block Summary",{"$f":"SUM(AO7:AO14)","v":9},null,null,null,"Total Sequences in Block Summary",{"$f":"SUM(AT7:AT14)","v":9}]
[null,null,null,null,null,null,null,null,null,null,null,null,null,null,null,null,null,null,null,"Block 1",null,null,null,null,"Block 2",null,null,null,null,"Block 3",null,null,null,null,"Block 4",null,null,null,null,"Block 5",null,null,null,null,"Block 6"]
["Sequence\nComponent\n1","Time\n1","Sequence\nComponent\n2","Time\n2","Sequence\nComponent\n3","Time\n3","Sequence\nComponent\n4","Time\n4","Sequence\nComponent\n5","Time\n5","Correct?\n0=No 1=Yes","Sequence",null,"Frequency",null,"Relative Frequency","Variability",null,null,"Frequency",null,"Relative Frequency","Variability",null,"Frequency",null,"Relative Frequency","Variability",null,"Frequency",null,"Relative Frequency","Variability",null,"Frequency",null,"Relative Frequency","Variability",null,"Frequency",null,"Relative Frequency","Variability",null,"Frequency",null,"Relative Frequency","Variability"]
[22,19,23,24,23,30,null,null,null,null,0,222,null,111,{"$f":"COUNTIF($L$7:$L$500,N7)","v":3},{"$f":"O7/$Q$4","v":5.6603773584905662E-2},{"$f":"IF(P7=0,0,(P7*((LOG(P7))/LOG(2))))","v":-0.23450705399105903},null,null,{"$f":"N7","v":111},{"$f":"COUNTIF(L7:L15,T7)","v":1},{"$f":"U7/(W4-U10)","v":0.2},{"$f":"IF(V7=0,0,(V7*((LOG(V7))/LOG(2))))","v":-0.46438561897747244},null,{"$f":"N7","v":111},{"$f":"COUNTIF(L16:L24,Y7)","v":0},{"$f":"Z7/(AB4-Z10)","v":0},{"$f":"IF(AA7=0,0,(AA7*((LOG(AA7))/LOG(2))))","v":0},null,{"$f":"N7","v":111},{"$f":"COUNTIF(L25:L32,AD7)","v":0},{"$f":"AE7/(AG4-AE10)","v":{"$error":"#DIV/0!"}},{"$f":"IF(AF7=0,0,(AF7*((LOG(AF7))/LOG(2))))","v":{"$error":"#DIV/0!"}},null,{"$f":"N7","v":111},{"$f":"COUNTIF(L33:L41,AI7)","v":0},{"$f":"AJ7/(AL4-AJ10)","v":0},{"$f":"IF(AK7=0,0,(AK7*((LOG(AK7))/LOG(2))))","v":0},null,{"$f":"N7","v":111},{"$f":"COUNTIF(L42:L50,AN7)","v":1},{"$f":"AO7/(AQ4-AO10)","v":0.33333333333333331},{"$f":"IF(AP7=0,0,(AP7*((LOG(AP7))/LOG(2))))","v":-0.52832083357371862},null,{"$f":"N7","v":111},{"$f":"COUNTIF(L51:L59,AS7)","v":1},{"$f":"AT7/(AV4-AT10)","v":0.5},{"$f":"IF(AU7=0,0,(AU7*((LOG(AU7))/LOG(2))))","v":-0.5}]
[11,127,12,130,23,139,null,null,null,null,0,112,null,112,{"$f":"COUNTIF($L$7:$L$500,N8)","v":4},{"$f":"O8/$Q$4","v":7.5471698113207544E-2},{"$f":"IF(P8=0,0,(P8*((LOG(P8))/LOG(2))))","v":-0.28135248713684519},null,null,{"$f":"N8","v":112},{"$f":"COUNTIF(L7:L15,T8)","v":2},{"$f":"U8/(W4-U10)","v":0.4},{"$f":"IF(V8=0,0,(V8*((LOG(V8))/LOG(2))))","v":-0.52877123795494496},null,{"$f":"N8","v":112},{"$f":"COUNTIF(L16:L24,Y8)","v":1},{"$f":"Z8/(AB4-Z10)","v":1},{"$f":"IF(AA8=0,0,(AA8*((LOG(AA8))/LOG(2))))","v":0},null,{"$f":"N8","v":112},{"$f":"COUNTIF(L25:L32,AD8)","v":0},{"$f":"AE8/(AG4-AE10)","v":{"$error":"#DIV/0!"}},{"$f":"IF(AF8=0,0,(AF8*((LOG(AF8))/LOG(2))))","v":{"$error":"#DIV/0!"}},null,{"$f":"N8","v":112},{"$f":"COUNTIF(L33:L41,AI8)","v":1},{"$f":"AJ8/(AL4-AJ10)","v":0.5},{"$f":"IF(AK8=0,0,(AK8*((LOG(AK8))/LOG(2))))","v":-0.5},null,{"$f":"N8","v":112},{"$f":"COUNTIF(L42:L50,AN8)","v":0},{"$f":"AO8/(AQ4-AO10)","v":0},{"$f":"IF(AP8=0,0,(AP8*((LOG(AP8))/LOG(2))))","v":0},null,{"$f":"N8","v":112},{"$f":"COUNTIF(L51:L59,AS8)","v":0},{"$f":"AT8/(AV4-AT10)","v":0},{"$f":"IF(AU8=0,0,(AU8*((LOG(AU8))/LOG(2))))","v":0}]
[11,235,21,246,21,250,null,null,null,null,0,122,null,121,{"$f":"COUNTIF($L$7:$L$500,N9)","v":0},{"$f":"O9/$Q$4","v":0},{"$f":"IF(P9=0,0,(P9*((LOG(P9))/LOG(2))))","v":0},null,null,{"$f":"N9","v":121},{"$f":"COUNTIF(L7:L15,T9)","v":0},{"$f":"U9/(W4-U10)","v":0},{"$f":"IF(V9=0,0,(V9*((LOG(V9))/LOG(2))))","v":0},null,{"$f":"N9","v":121},{"$f":"COUNTIF(L16:L24,Y9)","v":0},{"$f":"Z9/(AB4-Z10)","v":0},{"$f":"IF(AA9=0,0,(AA9*((LOG(AA9))/LOG(2))))","v":0},null,{"$f":"N9","v":121},{"$f":"COUNTIF(L25:L32,AD9)","v":0},{"$f":"AE9/(AG4-AE10)","v":{"$error":"#DIV/0!"}},{"$f":"IF(AF9=0,0,(AF9*((LOG(AF9))/LOG(2))))","v":{"$error":"#DIV/0!"}},null,{"$f":"N9","v":121},{"$f":"COUNTIF(L33:L41,AI9)","v":0},{"$f":"AJ9/(AL4-AJ10)","v":0},{"$f":"IF(AK9=0,0,(AK9*((LOG(AK9))/LOG(2))))","v":0},null,{"$f":"N9","v":121},{"$f":"COUNTIF(L42:L50,AN9)","v":0},{"$f":"AO9/(AQ4-AO10)","v":0},{"$f":"IF(AP9=0,0,(AP9*((LOG(AP9))/LOG(2))))","v":0},null,{"$f":"N9","v":121},{"$f":"COUNTIF(L51:L59,AS9)","v":0},{"$f":"AT9/(AV4-AT10)","v":0},{"$f":"IF(AU9=0,0,(AU9*((LOG(AU9))/LOG(2))))","v":0}]
[11,361,12,367,14,373,null,null,null,null,0,111,null,122,{"$f":"COUNTIF($L$7:$L$500,N10)","v":40},{"$f":"O10/$Q$4","v":0.75471698113207553},{"$f":"IF(P10=0,0,(P10*((LOG(P10))/LOG(2))))","v":-0.30640932805723531},null,null,{"$f":"N10","v":122},{"$f":"COUNTIF(L7:L15,T10)","v":4},null,null,null,{"$f":"N10","v":122},{"$f":"COUNTIF(L16:L24,Y10)","v":8},null,null,null,{"$f":"N10","v":122},{"$f":"COUNTIF(L25:L32,AD10)","v":8},null,null,null,{"$f":"N10","v":122},{"$f":"COUNTIF(L33:L41,AI10)","v":7},null,null,null,{"$f":"N10","v":122},{"$f":"COUNTIF(L42:L50,AN10)","v":6},null,null,null,{"$f":"N10","v":122},{"$f":"COUNTIF(L51:L59,AS10)","v":7}]
[11,471,12,474,23,487,null,null,null,null,0,112,null,211,{"$f":"COUNTIF($L$7:$L$500,N11)","v":0},{"$f":"O11/$Q$4","v":0},{"$f":"IF(P11=0,0,(P11*((LOG(P11))/LOG(2))))","v":0},null,null,{"$f":"N11","v":211},{"$f":"COUNTIF(L7:L15,T11)","v":0},{"$f":"U11/(W4-U10)","v":0},{"$f":"IF(V11=0,0,(V11*((LOG(V11))/LOG(2))))","v":0},null,{"$f":"N11","v":211},{"$f":"COUNTIF(L16:L24,Y11)","v":0},{"$f":"Z11/(AB4-Z10)","v":0},{"$f":"IF(AA11=0,0,(AA11*((LOG(AA11))/LOG(2))))","v":0},null,{"$f":"N11","v":211},{"$f":"COUNTIF(L25:L32,AD11)","v":0},{"$f":"AE11/(AG4-AE10)","v":{"$error":"#DIV/0!"}},{"$f":"IF(AF11=0,0,(AF11*((LOG(AF11))/LOG(2))))","v":{"$error":"#DIV/0!"}},null,{"$f":"N11","v":211},{"$f":"COUNTIF(L33:L41,AI11)","v":0},{"$f":"AJ11/(AL4-AJ10)","v":0},{"$f":"IF(AK11=0,0,(AK11*((LOG(AK11))/LOG(2))))","v":0},null,{"$f":"N11","v":211},{"$f":"COUNTIF(L42:L50,AN11)","v":0},{"$f":"AO11/(AQ4-AO10)","v":0},{"$f":"IF(AP11=0,0,(AP11*((LOG(AP11))/LOG(2))))","v":0},null,{"$f":"N11","v":211},{"$f":"COUNTIF(L51:L59,AS11)","v":0},{"$f":"AT11/(AV4-AT10)","v":0},{"$f":"IF(AU11=0,0,(AU11*((LOG(AU11))/LOG(2))))","v":0}]
[11,584,21,601,21,604,null,null,null,null,0,122,null,212,{"$f":"COUNTIF($L$7:$L$500,N12)","v":0},{"$f":"O12/$Q$4","v":0},{"$f":"IF(P12=0,0,(P12*((LOG(P12))/LOG(2))))","v":0},null,null,{"$f":"N12","v":212},{"$f":"COUNTIF(L7:L15,T12)","v":0},{"$f":"U12/(W4-U10)","v":0},{"$f":"IF(V12=0,0,(V12*((LOG(V12))/LOG(2))))","v":0},null,{"$f":"N12","v":212},{"$f":"COUNTIF(L16:L24,Y12)","v":0},{"$f":"Z12/(AB4-Z10)","v":0},{"$f":"IF(AA12=0,0,(AA12*((LOG(AA12))/LOG(2))))","v":0},null,{"$f":"N12","v":212},{"$f":"COUNTIF(L25:L32,AD12)","v":0},{"$f":"AE12/(AG4-AE10)","v":{"$error":"#DIV/0!"}},{"$f":"IF(AF12=0,0,(AF12*((LOG(AF12))/LOG(2))))","v":{"$error":"#DIV/0!"}},null,{"$f":"N12","v":212},{"$f":"COUNTIF(L33:L41,AI12)","v":0},{"$f":"AJ12/(AL4-AJ10)","v":0},{"$f":"IF(AK12=0,0,(AK12*((LOG(AK12))/LOG(2))))","v":0},null,{"$f":"N12","v":212},{"$f":"COUNTIF(L42:L50,AN12)","v":0},{"$f":"AO12/(AQ4-AO10)","v":0},{"$f":"IF(AP12=0,0,(AP12*((LOG(AP12))/LOG(2))))","v":0},null,{"$f":"N12","v":212},{"$f":"COUNTIF(L51:L59,AS12)","v":0},{"$f":"AT12/(AV4-AT10)","v":0},{"$f":"IF(AU12=0,0,(AU12*((LOG(AU12))/LOG(2))))","v":0}]
[11,719,21,745,21,755,null,null,null,null,0,122,null,221,{"$f":"COUNTIF($L$7:$L$500,N13)","v":0},{"$f":"O13/$Q$4","v":0},{"$f":"IF(P13=0,0,(P13*((LOG(P13))/LOG(2))))","v":0},null,null,{"$f":"N13","v":221},{"$f":"COUNTIF(L7:L15,T13)","v":0},{"$f":"U13/(W4-U10)","v":0},{"$f":"IF(V13=0,0,(V13*((LOG(V13))/LOG(2))))","v":0},null,{"$f":"N13","v":221},{"$f":"COUNTIF(L16:L24,Y13)","v":0},{"$f":"Z13/(AB4-Z10)","v":0},{"$f":"IF(AA13=0,0,(AA13*((LOG(AA13))/LOG(2))))","v":0},null,{"$f":"N13","v":221},{"$f":"COUNTIF(L25:L32,AD13)","v":0},{"$f":"AE13/(AG4-AE10)","v":{"$error":"#DIV/0!"}},{"$f":"IF(AF13=0,0,(AF13*((LOG(AF13))/LOG(2))))","v":{"$error":"#DIV/0!"}},null,{"$f":"N13","v":221},{"$f":"COUNTIF(L33:L41,AI13)","v":0},{"$f":"AJ13/(AL4-AJ10)","v":0},{"$f":"IF(AK13=0,0,(AK13*((LOG(AK13))/LOG(2))))","v":0},null,{"$f":"N13","v":221},{"$f":"COUNTIF(L42:L50,AN13)","v":0},{"$f":"AO13/(AQ4-AO10)","v":0},{"$f":"IF(AP13=0,0,(AP13*((LOG(AP13))/LOG(2))))","v":0},null,{"$f":"N13","v":221},{"$f":"COUNTIF(L51:L59,AS13)","v":0},{"$f":"AT13/(AV4-AT10)","v":0},{"$f":"IF(AU13=0,0,(AU13*((LOG(AU13))/LOG(2))))","v":0}]
[11,870,21,879,21,885,null,null,null,null,0,122,null,222,{"$f":"COUNTIF($L$7:$L$500,N14)","v":6},{"$f":"O14/$Q$4","v":0.11320754716981132},{"$f":"IF(P14=0,0,(P14*((LOG(P14))/LOG(2))))","v":-0.35580656081230677},null,null,{"$f":"N14","v":222},{"$f":"COUNTIF(L7:L15,T14)","v":2},{"$f":"U14/(W4-U10)","v":0.4},{"$f":"IF(V14=0,0,(V14*((LOG(V14))/LOG(2))))","v":-0.52877123795494496},null,{"$f":"N14","v":222},{"$f":"COUNTIF(L16:L24,Y14)","v":0},{"$f":"Z14/(AB4-Z10)","v":0},{"$f":"IF(AA14=0,0,(AA14*((LOG(AA14))/LOG(2))))","v":0},null,{"$f":"N14","v":222},{"$f":"COUNTIF(L25:L32,AD14)","v":0},{"$f":"AE14/(AG4-AE10)","v":{"$error":"#DIV/0!"}},{"$f":"IF(AF14=0,0,(AF14*((LOG(AF14))/LOG(2))))","v":{"$error":"#DIV/0!"}},null,{"$f":"N14","v":222},{"$f":"COUNTIF(L33:L41,AI14)","v":1},{"$f":"AJ14/(AL4-AJ10)","v":0.5},{"$f":"IF(AK14=0,0,(AK14*((LOG(AK14))/LOG(2))))","v":-0.5},null,{"$f":"N14","v":222},{"$f":"COUNTIF(L42:L50,AN14)","v":2},{"$f":"AO14/(AQ4-AO10)","v":0.66666666666666663},{"$f":"IF(AP14=0,0,(AP14*((LOG(AP14))/LOG(2))))","v":-0.38997500048077083},null,{"$f":"N14","v":222},{"$f":"COUNTIF(L51:L59,AS14)","v":1},{"$f":"AT14/(AV4-AT10)","v":0.5},{"$f":"IF(AU14=0,0,(AU14*((LOG(AU14))/LOG(2))))","v":-0.5}]
[22,1010,23,1017,23,1025,null,null,null,null,0,222,null,null,null,{"$f":"SUM(P7:P14)","v":1},{"$f":"-SUM(Q7:Q14)","v":1.1780754299974463},null,null,null,null,{"$f":"SUM(V7:V14)","v":1},{"$f":"-SUM(W7:W14)","v":1.5219280948873624},null,null,null,{"$f":"SUM(AA7:AA14)","v":1},{"$f":"-SUM(AB7:AB14)","v":0},null,null,null,{"$f":"SUM(AF7:AF14)","v":{"$error":"#DIV/0!"}},{"$f":"-SUM(AG7:AG14)","v":{"$error":"#DIV/0!"}},null,null,null,{"$f":"SUM(AK7:AK14)","v":1},{"$f":"-SUM(AL7:AL14)","v":1},null,null,null,{"$f":"SUM(AP7:AP14)","v":1},{"$f":"-SUM(AQ7:AQ14)","v":0.91829583405448945},null,null,null,{"$f":"SUM(AU7:AU14)","v":1},{"$f":"-SUM(AV7:AV14)","v":1}]
[11,1123,21,1134,21,1139,null,null,null,null,0,122,null,null,null,"U=",{"$f":"Q15/(LOG(Q4)/LOG(2))","v":0.20567244942427962},null,null,null,null,"U1=",{"$f":"W15/(LOG(W4)/LOG(2))","v":0.48011485893038064},null,null,null,"U2=",{"$f":"AB15/(LOG(AB4)/LOG(2))","v":0},null,null,null,"U3=",{"$f":"AG15/(LOG(AG4)/LOG(2))","v":{"$error":"#DIV/0!"}},null,null,null,"U4=",{"$f":"AL15/(LOG(AL4)/LOG(2))","v":0.31546487678572877},null,null,null,"U5=",{"$f":"AQ15/(LOG(AQ4)/LOG(2))","v":0.28969008214284753},null,null,null,"U6=",{"$f":"AV15/(LOG(AV4)/LOG(2))","v":0.31546487678572877}]
[11,1240,21,1254,21,1263,null,null,null,null,0,122]
[11,1356,21,1366,21,1370,null,null,null,null,0,122]
[11,1470,21,1479,21,1489,null,null,null,null,0,122,null,"Total Target Seq"]
[11,1596,21,1613,21,1624,null,null,null,null,0,122,null,{"$f":"COUNTIF(L7:L59,G3)","v":40},null,9,9,8,9,9,9]
[11,1719,21,1728,21,1732,null,null,null,null,0,122,null,null,null,"% of reinforcement given in 6 equal intervals based on number of trials "]
[11,1824,21,1835,21,1841,null,null,null,null,0,122,null,null,null,"%_1","%_2","%_3","%_4","%_5","%_6"]
[11,1963,12,1966,23,1980,null,null,null,null,0,112,null,null,"target sequence",{"$f":"$G$3","v":122},{"$f":"$G$3","v":122},{"$f":"$G$3","v":122},{"$f":"$G$3","v":122},{"$f":"$G$3","v":122},{"$f":"$G$3","v":122}]
[11,2079,21,2088,21,2092,null,null,null,null,0,122,null,null,"total reinforcement",{"$f":"U10","v":4},{"$f":"Z10","v":8},{"$f":"AE10","v":8},{"$f":"AJ10","v":7},{"$f":"AO10","v":6},{"$f":"AT10","v":7}]
[11,2199,21,2209,21,2212,null,null,null,null,0,122,null,null,"% target"]
[11,2308,21,2320,21,2325,null,null,null,null,0,122,null,null,"CCRF"]
[11,2419,21,2435,21,2439,null,null,null,null,0,122,null,null,"% CCRf"]
[11,2581,21,2591,21,2602,null,null,null,null,0,122,null,null,"average response rate",{"$f":"F15/P20","v":113.88888888888889},{"$f":"(F24-F15)/Q20","v":118.55555555555556},{"$f":"(F32-F24)/R20","v":121.875},{"$f":"(F41-F32)/S20","v":118.22222222222223},{"$f":"(F50-F41)/T20","v":118.55555555555556},{"$f":"(F59-F50)/U20","v":126.22222222222223}]
[11,2696,21,2710,21,2716,null,null,null,null,0,122]
[11,2821,21,2838,21,2844,null,null,null,null,0,122]
[11,2939,21,2948,21,2960,null,null,null,null,0,122]
[11,3055,21,3063,21,3067,null,null,null,null,0,122]
[11,3163,21,3171,21,3178,null,null,null,null,0,122]
[11,3278,21,3286,21,3300,null,null,null,null,0,122]
[11,3432,21,3442,21,3446,null,null,null,null,0,122]
[11,3541,12,3546,23,3554,null,null,null,null,0,112]
[22,3658,23,3661,23,3671,null,null,null,null,0,222]
[11,3768,21,3779,21,3783,null,null,null,null,0,122]
[11,3877,21,3889,21,3893,null,null,null,null,0,122]
[11,3989,21,3998,21,4001,null,null,null,null,0,122]
[11,4103,21,4119,21,4131,null,null,null,null,0,122]
[11,4224,21,4236,21,4243,null,null,null,null,0,122]
[22,4351,23,4358,23,4363,null,null,null,null,0,222]
[11,4474,21,4485,21,4489,null,null,null,null,0,122]
[11,4586,21,4596,21,4600,null,null,null,null,0,122]
[11,4693,12,4698,14,4714,null,null,null,null,0,111]
[11,4821,21,4829,21,4834,null,null,null,null,0,122]
[11,4928,21,4938,21,4941,null,null,null,null,0,122]
[22,5063,23,5068,23,5078,null,null,null,null,0,222]
[11,5175,21,5187,21,5198,null,null,null,null,0,122]
[11,5296,12,5314,14,5318,null,null,null,null,0,111]
[22,5431,23,5434,23,5442,null,null,null,null,0,222]
[11,5547,21,5557,21,5559,null,null,null,null,0,122]
[11,5664,21,5683,21,5687,null,null,null,null,0,122]
[11,5781,21,5792,21,5795,null,null,null,null,0,122]
[11,5921,21,5943,21,5952,null,null,null,null,0,122]
[11,6075,21,6084,21,6090,null,null,null,null,0,122]
[11,6186,21,6203,21,6209,null,null,null,null,0,122]
[11,6312,21,6324,21,6334,null,null,null,null,1,122]

{"sheet":"!LC09A33..Ta","index":30,"n_rows":63,"n_cols":48,"rows_kept":63,"cut":false,"hidden":false,"merged":[[4,39,4,42],[5,39,5,40],[4,44,4,47],[5,44,5,45],[4,24,4,27],[5,24,5,25],[4,29,4,32],[5,29,5,30],[4,34,4,37],[5,34,5,35],[1,1,1,2],[5,13,5,14],[18,13,18,14],[19,13,19,14],[4,19,4,22],[5,19,5,20]]}
["Report for:!LC09A33..Ta"]
["Date:","<date>"]
["Hen:","<hen>",null,null,null,"Correct Sequence",{"$f":"Start!J2","v":122},null,null,null,null,null,null,null,null,"Total Sequences in Data",{"$f":"4994-COUNTBLANK(L7:L5000)","v":57},null,null,null,null,"Total Sequences in Block Data",{"$f":"COUNTA(L7:L16)","v":10},null,null,null,"Total Sequences in Block Data",{"$f":"COUNTA(L17:L25)","v":9},null,null,null,"Total Sequences in Block Data",{"$f":"COUNTA(L26:L35)","v":10},null,null,null,"Total Sequences in Block Data",{"$f":"COUNTA(L36:L44)","v":9},null,null,null,"Total Sequences in Block Data",{"$f":"COUNTA(L45:L54)","v":10},null,null,null,"Total Sequences in Block Data",{"$f":"COUNTA(L55:L63)","v":9}]
[null,null,null,null,null,null,null,null,null,null,null,null,null,null,null,"Total Sequences in Summary",{"$f":"SUM(O7:O14)","v":57},null,null,null,null,"Total Sequences in Block Summary",{"$f":"SUM(U7:U14)","v":10},null,null,null,"Total Sequences in Block Summary",{"$f":"SUM(Z7:Z14)","v":9},null,null,null,"Total Sequences in Block Summary",{"$f":"SUM(AE7:AE14)","v":10},null,null,null,"Total Sequences in Block Summary",{"$f":"SUM(AJ7:AJ14)","v":9},null,null,null,"Total Sequences in Block Summary",{"$f":"SUM(AO7:AO14)","v":10},null,null,null,"Total Sequences in Block Summary",{"$f":"SUM(AT7:AT14)","v":9}]
[null,null,null,null,null,null,null,null,null,null,null,null,null,null,null,null,null,null,null,"Block 1",null,null,null,null,"Block 2",null,null,null,null,"Block 3",null,null,null,null,"Block 4",null,null,null,null,"Block 5",null,null,null,null,"Block 6"]
["Sequence\nComponent\n1","Time\n1","Sequence\nComponent\n2","Time\n2","Sequence\nComponent\n3","Time\n3","Sequence\nComponent\n4","Time\n4","Sequence\nComponent\n5","Time\n5","Correct?\n0=No 1=Yes","Sequence",null,"Frequency",null,"Relative Frequency","Variability",null,null,"Frequency",null,"Relative Frequency","Variability",null,"Frequency",null,"Relative Frequency","Variability",null,"Frequency",null,"Relative Frequency","Variability",null,"Frequency",null,"Relative Frequency","Variability",null,"Frequency",null,"Relative Frequency","Variability",null,"Frequency",null,"Relative Frequency","Variability"]
[22,22,23,24,23,31,null,null,null,null,0,222,null,111,{"$f":"COUNTIF($L$7:$L$500,N7)","v":2},{"$f":"O7/$Q$4","v":3.5087719298245612E-2},{"$f":"IF(P7=0,0,(P7*((LOG(P7))/LOG(2))))","v":-0.16957508821630671},null,null,{"$f":"N7","v":111},{"$f":"COUNTIF(L7:L16,T7)","v":0},{"$f":"U7/(W4-U10)","v":0},{"$f":"IF(V7=0,0,(V7*((LOG(V7))/LOG(2))))","v":0},null,{"$f":"N7","v":111},{"$f":"COUNTIF(L17:L25,Y7)","v":0},{"$f":"Z7/(AB4-Z10)","v":0},{"$f":"IF(AA7=0,0,(AA7*((LOG(AA7))/LOG(2))))","v":0},null,{"$f":"N7","v":111},{"$f":"COUNTIF(L26:L35,AD7)","v":1},{"$f":"AE7/(AG4-AE10)","v":0.25},{"$f":"IF(AF7=0,0,(AF7*((LOG(AF7))/LOG(2))))","v":-0.5},null,{"$f":"N7","v":111},{"$f":"COUNTIF(L36:L44,AI7)","v":0},{"$f":"AJ7/(AL4-AJ10)","v":0},{"$f":"IF(AK7=0,0,(AK7*((LOG(AK7))/LOG(2))))","v":0},null,{"$f":"N7","v":111},{"$f":"COUNTIF(L45:L54,AN7)","v":1},{"$f":"AO7/(AQ4-AO10)","v":0.33333333333333331},{"$f":"IF(AP7=0,0,(AP7*((LOG(AP7))/LOG(2))))","v":-0.52832083357371862},null,{"$f":"N7","v":111},{"$f":"COUNTIF(L55:L63,AS7)","v":0},{"$f":"AT7/(AV4-AT10)","v":0},{"$f":"IF(AU7=0,0,(AU7*((LOG(AU7))/LOG(2))))","v":0}]
[11,128,21,139,21,143,null,null,null,null,0,122,null,112,{"$f":"COUNTIF($L$7:$L$500,N8)","v":0},{"$f":"O8/$Q$4","v":0},{"$f":"IF(P8=0,0,(P8*((LOG(P8))/LOG(2))))","v":0},null,null,{"$f":"N8","v":112},{"$f":"COUNTIF(L7:L16,T8)","v":0},{"$f":"U8/(W4-U10)","v":0},{"$f":"IF(V8=0,0,(V8*((LOG(V8))/LOG(2))))","v":0},null,{"$f":"N8","v":112},{"$f":"COUNTIF(L17:L25,Y8)","v":0},{"$f":"Z8/(AB4-Z10)","v":0},{"$f":"IF(AA8=0,0,(AA8*((LOG(AA8))/LOG(2))))","v":0},null,{"$f":"N8","v":112},{"$f":"COUNTIF(L26:L35,AD8)","v":0},{"$f":"AE8/(AG4-AE10)","v":0},{"$f":"IF(AF8=0,0,(AF8*((LOG(AF8))/LOG(2))))","v":0},null,{"$f":"N8","v":112},{"$f":"COUNTIF(L36:L44,AI8)","v":0},{"$f":"AJ8/(AL4-AJ10)","v":0},{"$f":"IF(AK8=0,0,(AK8*((LOG(AK8))/LOG(2))))","v":0},null,{"$f":"N8","v":112},{"$f":"COUNTIF(L45:L54,AN8)","v":0},{"$f":"AO8/(AQ4-AO10)","v":0},{"$f":"IF(AP8=0,0,(AP8*((LOG(AP8))/LOG(2))))","v":0},null,{"$f":"N8","v":112},{"$f":"COUNTIF(L55:L63,AS8)","v":0},{"$f":"AT8/(AV4-AT10)","v":0},{"$f":"IF(AU8=0,0,(AU8*((LOG(AU8))/LOG(2))))","v":0}]
[22,263,23,266,23,272,null,null,null,null,0,222,null,121,{"$f":"COUNTIF($L$7:$L$500,N9)","v":0},{"$f":"O9/$Q$4","v":0},{"$f":"IF(P9=0,0,(P9*((LOG(P9))/LOG(2))))","v":0},null,null,{"$f":"N9","v":121},{"$f":"COUNTIF(L7:L16,T9)","v":0},{"$f":"U9/(W4-U10)","v":0},{"$f":"IF(V9=0,0,(V9*((LOG(V9))/LOG(2))))","v":0},null,{"$f":"N9","v":121},{"$f":"COUNTIF(L17:L25,Y9)","v":0},{"$f":"Z9/(AB4-Z10)","v":0},{"$f":"IF(AA9=0,0,(AA9*((LOG(AA9))/LOG(2))))","v":0},null,{"$f":"N9","v":121},{"$f":"COUNTIF(L26:L35,AD9)","v":0},{"$f":"AE9/(AG4-AE10)","v":0},{"$f":"IF(AF9=0,0,(AF9*((LOG(AF9))/LOG(2))))","v":0},null,{"$f":"N9","v":121},{"$f":"COUNTIF(L36:L44,AI9)","v":0},{"$f":"AJ9/(AL4-AJ10)","v":0},{"$f":"IF(AK9=0,0,(AK9*((LOG(AK9))/LOG(2))))","v":0},null,{"$f":"N9","v":121},{"$f":"COUNTIF(L45:L54,AN9)","v":0},{"$f":"AO9/(AQ4-AO10)","v":0},{"$f":"IF(AP9=0,0,(AP9*((LOG(AP9))/LOG(2))))","v":0},null,{"$f":"N9","v":121},{"$f":"COUNTIF(L55:L63,AS9)","v":0},{"$f":"AT9/(AV4-AT10)","v":0},{"$f":"IF(AU9=0,0,(AU9*((LOG(AU9))/LOG(2))))","v":0}]
[22,380,23,383,23,393,null,null,null,null,0,222,null,122,{"$f":"COUNTIF($L$7:$L$500,N10)","v":39},{"$f":"O10/$Q$4","v":0.68421052631578949},{"$f":"IF(P10=0,0,(P10*((LOG(P10))/LOG(2))))","v":-0.37459691257539013},null,null,{"$f":"N10","v":122},{"$f":"COUNTIF(L7:L16,T10)","v":5},null,null,null,{"$f":"N10","v":122},{"$f":"COUNTIF(L17:L25,Y10)","v":5},null,null,null,{"$f":"N10","v":122},{"$f":"COUNTIF(L26:L35,AD10)","v":6},null,null,null,{"$f":"N10","v":122},{"$f":"COUNTIF(L36:L44,AI10)","v":8},null,null,null,{"$f":"N10","v":122},{"$f":"COUNTIF(L45:L54,AN10)","v":7},null,null,null,{"$f":"N10","v":122},{"$f":"COUNTIF(L55:L63,AS10)","v":8}]
[11,494,21,501,21,504,null,null,null,null,0,122,null,211,{"$f":"COUNTIF($L$7:$L$500,N11)","v":0},{"$f":"O11/$Q$4","v":0},{"$f":"IF(P11=0,0,(P11*((LOG(P11))/LOG(2))))","v":0},null,null,{"$f":"N11","v":211},{"$f":"COUNTIF(L7:L16,T11)","v":0},{"$f":"U11/(W4-U10)","v":0},{"$f":"IF(V11=0,0,(V11*((LOG(V11))/LOG(2))))","v":0},null,{"$f":"N11","v":211},{"$f":"COUNTIF(L17:L25,Y11)","v":0},{"$f":"Z11/(AB4-Z10)","v":0},{"$f":"IF(AA11=0,0,(AA11*((LOG(AA11))/LOG(2))))","v":0},null,{"$f":"N11","v":211},{"$f":"COUNTIF(L26:L35,AD11)","v":0},{"$f":"AE11/(AG4-AE10)","v":0},{"$f":"IF(AF11=0,0,(AF11*((LOG(AF11))/LOG(2))))","v":0},null,{"$f":"N11","v":211},{"$f":"COUNTIF(L36:L44,AI11)","v":0},{"$f":"AJ11/(AL4-AJ10)","v":0},{"$f":"IF(AK11=0,0,(AK11*((LOG(AK11))/LOG(2))))","v":0},null,{"$f":"N11","v":211},{"$f":"COUNTIF(L45:L54,AN11)","v":0},{"$f":"AO11/(AQ4-AO10)","v":0},{"$f":"IF(AP11=0,0,(AP11*((LOG(AP11))/LOG(2))))","v":0},null,{"$f":"N11","v":211},{"$f":"COUNTIF(L55:L63,AS11)","v":0},{"$f":"AT11/(AV4-AT10)","v":0},{"$f":"IF(AU11=0,0,(AU11*((LOG(AU11))/LOG(2))))","v":0}]
[11,602,21,610,21,614,null,null,null,null,0,122,null,212,{"$f":"COUNTIF($L$7:$L$500,N12)","v":0},{"$f":"O12/$Q$4","v":0},{"$f":"IF(P12=0,0,(P12*((LOG(P12))/LOG(2))))","v":0},null,null,{"$f":"N12","v":212},{"$f":"COUNTIF(L7:L16,T12)","v":0},{"$f":"U12/(W4-U10)","v":0},{"$f":"IF(V12=0,0,(V12*((LOG(V12))/LOG(2))))","v":0},null,{"$f":"N12","v":212},{"$f":"COUNTIF(L17:L25,Y12)","v":0},{"$f":"Z12/(AB4-Z10)","v":0},{"$f":"IF(AA12=0,0,(AA12*((LOG(AA12))/LOG(2))))","v":0},null,{"$f":"N12","v":212},{"$f":"COUNTIF(L26:L35,AD12)","v":0},{"$f":"AE12/(AG4-AE10)","v":0},{"$f":"IF(AF12=0,0,(AF12*((LOG(AF12))/LOG(2))))","v":0},null,{"$f":"N12","v":212},{"$f":"COUNTIF(L36:L44,AI12)","v":0},{"$f":"AJ12/(AL4-AJ10)","v":0},{"$f":"IF(AK12=0,0,(AK12*((LOG(AK12))/LOG(2))))","v":0},null,{"$f":"N12","v":212},{"$f":"COUNTIF(L45:L54,AN12)","v":0},{"$f":"AO12/(AQ4-AO10)","v":0},{"$f":"IF(AP12=0,0,(AP12*((LOG(AP12))/LOG(2))))","v":0},null,{"$f":"N12","v":212},{"$f":"COUNTIF(L55:L63,AS12)","v":0},{"$f":"AT12/(AV4-AT10)","v":0},{"$f":"IF(AU12=0,0,(AU12*((LOG(AU12))/LOG(2))))","v":0}]
[22,773,23,776,23,782,null,null,null,null,0,222,null,221,{"$f":"COUNTIF($L$7:$L$500,N13)","v":0},{"$f":"O13/$Q$4","v":0},{"$f":"IF(P13=0,0,(P13*((LOG(P13))/LOG(2))))","v":0},null,null,{"$f":"N13","v":221},{"$f":"COUNTIF(L7:L16,T13)","v":0},{"$f":"U13/(W4-U10)","v":0},{"$f":"IF(V13=0,0,(V13*((LOG(V13))/LOG(2))))","v":0},null,{"$f":"N13","v":221},{"$f":"COUNTIF(L17:L25,Y13)","v":0},{"$f":"Z13/(AB4-Z10)","v":0},{"$f":"IF(AA13=0,0,(AA13*((LOG(AA13))/LOG(2))))","v":0},null,{"$f":"N13","v":221},{"$f":"COUNTIF(L26:L35,AD13)","v":0},{"$f":"AE13/(AG4-AE10)","v":0},{"$f":"IF(AF13=0,0,(AF13*((LOG(AF13))/LOG(2))))","v":0},null,{"$f":"N13","v":221},{"$f":"COUNTIF(L36:L44,AI13)","v":0},{"$f":"AJ13/(AL4-AJ10)","v":0},{"$f":"IF(AK13=0,0,(AK13*((LOG(AK13))/LOG(2))))","v":0},null,{"$f":"N13","v":221},{"$f":"COUNTIF(L45:L54,AN13)","v":0},{"$f":"AO13/(AQ4-AO10)","v":0},{"$f":"IF(AP13=0,0,(AP13*((LOG(AP13))/LOG(2))))","v":0},null,{"$f":"N13","v":221},{"$f":"COUNTIF(L55:L63,AS13)","v":0},{"$f":"AT13/(AV4-AT10)","v":0},{"$f":"IF(AU13=0,0,(AU13*((LOG(AU13))/LOG(2))))","v":0}]
[22,891,23,895,23,900,null,null,null,null,0,222,null,222,{"$f":"COUNTIF($L$7:$L$500,N14)","v":16},{"$f":"O14/$Q$4","v":0.2807017543859649},{"$f":"IF(P14=0,0,(P14*((LOG(P14))/LOG(2))))","v":-0.51449544257255908},null,null,{"$f":"N14","v":222},{"$f":"COUNTIF(L7:L16,T14)","v":5},{"$f":"U14/(W4-U10)","v":1},{"$f":"IF(V14=0,0,(V14*((LOG(V14))/LOG(2))))","v":0},null,{"$f":"N14","v":222},{"$f":"COUNTIF(L17:L25,Y14)","v":4},{"$f":"Z14/(AB4-Z10)","v":1},{"$f":"IF(AA14=0,0,(AA14*((LOG(AA14))/LOG(2))))","v":0},null,{"$f":"N14","v":222},{"$f":"COUNTIF(L26:L35,AD14)","v":3},{"$f":"AE14/(AG4-AE10)","v":0.75},{"$f":"IF(AF14=0,0,(AF14*((LOG(AF14))/LOG(2))))","v":-0.31127812445913283},null,{"$f":"N14","v":222},{"$f":"COUNTIF(L36:L44,AI14)","v":1},{"$f":"AJ14/(AL4-AJ10)","v":1},{"$f":"IF(AK14=0,0,(AK14*((LOG(AK14))/LOG(2))))","v":0},null,{"$f":"N14","v":222},{"$f":"COUNTIF(L45:L54,AN14)","v":2},{"$f":"AO14/(AQ4-AO10)","v":0.66666666666666663},{"$f":"IF(AP14=0,0,(AP14*((LOG(AP14))/LOG(2))))","v":-0.38997500048077083},null,{"$f":"N14","v":222},{"$f":"COUNTIF(L55:L63,AS14)","v":1},{"$f":"AT14/(AV4-AT10)","v":1},{"$f":"IF(AU14=0,0,(AU14*((LOG(AU14))/LOG(2))))","v":0}]
[11,1004,21,1019,21,1030,null,null,null,null,0,122,null,null,null,{"$f":"SUM(P7:P14)","v":1},{"$f":"-SUM(Q7:Q14)","v":1.0586674433642558},null,null,null,null,{"$f":"SUM(V7:V14)","v":1},{"$f":"-SUM(W7:W14)","v":0},null,null,null,{"$f":"SUM(AA7:AA14)","v":1},{"$f":"-SUM(AB7:AB14)","v":0},null,null,null,{"$f":"SUM(AF7:AF14)","v":1},{"$f":"-SUM(AG7:AG14)","v":0.81127812445913283},null,null,null,{"$f":"SUM(AK7:AK14)","v":1},{"$f":"-SUM(AL7:AL14)","v":0},null,null,null,{"$f":"SUM(AP7:AP14)","v":1},{"$f":"-SUM(AQ7:AQ14)","v":0.91829583405448945},null,null,null,{"$f":"SUM(AU7:AU14)","v":1},{"$f":"-SUM(AV7:AV14)","v":0}]
[11,1133,21,1149,21,1157,null,null,null,null,0,122,null,null,null,"U=",{"$f":"Q15/(LOG(Q4)/LOG(2))","v":0.18149964096586085},null,null,null,null,"U1=",{"$f":"W15/(LOG(W4)/LOG(2))","v":0},null,null,null,"U2=",{"$f":"AB15/(LOG(AB4)/LOG(2))","v":0},null,null,null,"U3=",{"$f":"AG15/(LOG(AG4)/LOG(2))","v":0.24421905028821556},null,null,null,"U4=",{"$f":"AL15/(LOG(AL4)/LOG(2))","v":0},null,null,null,"U5=",{"$f":"AQ15/(LOG(AQ4)/LOG(2))","v":0.27643459094367495},null,null,null,"U6=",{"$f":"AV15/(LOG(AV4)/LOG(2))","v":0}]
[22,1265,23,1269,23,1279,null,null,null,null,0,222]
[11,1379,21,1390,21,1393,null,null,null,null,0,122]
[22,1501,23,1505,23,1512,null,null,null,null,0,222,null,"Total Target Seq"]
[22,1622,23,1625,23,1635,null,null,null,null,0,222,null,{"$f":"COUNTIF(L7:L63,G3)","v":39},null,10,9,10,9,10,9]
[11,1731,21,1740,21,1743,null,null,null,null,0,122,null,null,null,"% of reinforcement given in 6 equal intervals based on number of trials "]
[11,1856,21,1867,21,1871,null,null,null,null,0,122,null,null,null,"%_1","%_2","%_3","%_4","%_5","%_6"]
[22,1975,23,1981,23,1987,null,null,null,null,0,222,null,null,"target sequence",{"$f":"$G$3","v":122},{"$f":"$G$3","v":122},{"$f":"$G$3","v":122},{"$f":"$G$3","v":122},{"$f":"$G$3","v":122},{"$f":"$G$3","v":122}]
[11,2086,21,2093,21,2105,null,null,null,null,0,122,null,null,"total reinforcement",{"$f":"U10","v":5},{"$f":"Z10","v":5},{"$f":"AE10","v":6},{"$f":"AJ10","v":8},{"$f":"AO10","v":7},{"$f":"AT10","v":8}]
[11,2202,21,2211,21,2219,null,null,null,null,0,122,null,null,"% target"]
[22,2322,23,2331,23,2340,null,null,null,null,0,222,null,null,"CCRF"]
[11,2445,21,2459,21,2465,null,null,null,null,0,122,null,null,"% CCRf"]
[11,2570,21,2589,21,2607,null,null,null,null,0,122,null,null,"average response rate",{"$f":"F16/P20","v":115.7},{"$f":"(F25-F16)/Q20","v":118},{"$f":"(F35-F25)/R20","v":121.9},{"$f":"(F44-F35)/S20","v":120},{"$f":"(F54-F44)/T20","v":119.8},{"$f":"(F63-F54)/U20","v":137.44444444444446}]
[11,2708,21,2718,21,2722,null,null,null,null,0,122]
[11,2819,21,2834,21,2842,null,null,null,null,0,122]
[11,2937,21,2950,21,2954,null,null,null,null,0,122]
[22,3059,23,3064,23,3080,null,null,null,null,0,222]
[11,3177,21,3186,21,3190,null,null,null,null,0,122]
[22,3306,23,3310,23,3318,null,null,null,null,0,222]
[11,3416,12,3435,14,3438,null,null,null,null,0,111]
[22,3542,23,3545,23,3554,null,null,null,null,0,222]
[11,3650,21,3661,21,3662,null,null,null,null,0,122]
[11,3774,21,3782,21,3791,null,null,null,null,0,122]
[11,3885,21,3899,21,3905,null,null,null,null,0,122]
[11,4022,21,4031,21,4035,null,null,null,null,0,122]
[11,4149,21,4158,21,4170,null,null,null,null,0,122]
[11,4266,21,4275,21,4282,null,null,null,null,0,122]
[11,4376,21,4389,21,4393,null,null,null,null,0,122]
[11,4486,21,4512,21,4518,null,null,null,null,0,122]
[11,4614,21,4630,21,4633,null,null,null,null,0,122]
[11,4735,21,4744,21,4753,null,null,null,null,0,122]
[11,4867,12,4872,14,4876,null,null,null,null,0,111]
[11,4975,21,4984,21,4988,null,null,null,null,0,122]
[11,5087,21,5102,21,5108,null,null,null,null,0,122]
[22,5210,23,5214,23,5219,null,null,null,null,0,222]
[22,5328,23,5331,23,5338,null,null,null,null,0,222]
[11,5436,21,5451,21,5456,null,null,null,null,0,122]
[11,5576,21,5590,21,5594,null,null,null,null,0,122]
[11,5698,21,5706,21,5716,null,null,null,null,0,122]
[11,5811,21,5832,21,5844,null,null,null,null,0,122]
[22,5945,23,5951,23,5969,null,null,null,null,0,222]
[11,6065,21,6073,21,6077,null,null,null,null,0,122]
[11,6197,21,6222,21,6228,null,null,null,null,0,122]
[11,6325,21,6337,21,6342,null,null,null,null,0,122]
[11,6469,21,6480,21,6485,null,null,null,null,0,122]
[11,6588,21,6596,21,6612,null,null,null,null,0,122]
[11,6754,21,6770,21,6774,null,null,null,null,0,122]
[11,6926,21,6944,21,6953,null,null,null,null,1,122]

{"sheet":"!LC10923..Ta","index":31,"n_rows":64,"n_cols":48,"rows_kept":64,"cut":false,"hidden":false,"merged":[[4,39,4,42],[5,39,5,40],[4,44,4,47],[5,44,5,45],[4,24,4,27],[5,24,5,25],[4,29,4,32],[5,29,5,30],[4,34,4,37],[5,34,5,35],[1,1,1,2],[5,13,5,14],[18,13,18,14],[19,13,19,14],[4,19,4,22],[5,19,5,20]]}
["Report for:!LC10923..Ta"]
["Date:","<date>"]
["Hen:","<hen>",null,null,null,"Correct Sequence",{"$f":"Start!J2","v":122},null,null,null,null,null,null,null,null,"Total Sequences in Data",{"$f":"4994-COUNTBLANK(L7:L5000)","v":58},null,null,null,null,"Total Sequences in Block Data",{"$f":"COUNTA(L7:L16)","v":10},null,null,null,"Total Sequences in Block Data",{"$f":"COUNTA(L17:L25)","v":9},null,null,null,"Total Sequences in Block Data",{"$f":"COUNTA(L26:L35)","v":10},null,null,null,"Total Sequences in Block Data",{"$f":"COUNTA(L36:L45)","v":10},null,null,null,"Total Sequences in Block Data",{"$f":"COUNTA(L46:L54)","v":9},null,null,null,"Total Sequences in Block Data",{"$f":"COUNTA(L55:L64)","v":10}]
[null,null,null,null,null,null,null,null,null,null,null,null,null,null,null,"Total Sequences in Summary",{"$f":"SUM(O7:O14)","v":58},null,null,null,null,"Total Sequences in Block Summary",{"$f":"SUM(U7:U14)","v":10},null,null,null,"Total Sequences in Block Summary",{"$f":"SUM(Z7:Z14)","v":9},null,null,null,"Total Sequences in Block Summary",{"$f":"SUM(AE7:AE14)","v":10},null,null,null,"Total Sequences in Block Summary",{"$f":"SUM(AJ7:AJ14)","v":10},null,null,null,"Total Sequences in Block Summary",{"$f":"SUM(AO7:AO14)","v":9},null,null,null,"Total Sequences in Block Summary",{"$f":"SUM(AT7:AT14)","v":10}]
[null,null,null,null,null,null,null,null,null,null,null,null,null,null,null,null,null,null,null,"Block 1",null,null,null,null,"Block 2",null,null,null,null,"Block 3",null,null,null,null,"Block 4",null,null,null,null,"Block 5",null,null,null,null,"Block 6"]
["Sequence\nComponent\n1","Time\n1","Sequence\nComponent\n2","Time\n2","Sequence\nComponent\n3","Time\n3","Sequence\nComponent\n4","Time\n4","Sequence\nComponent\n5","Time\n5","Correct?\n0=No 1=Yes","Sequence",null,"Frequency",null,"Relative Frequency","Variability",null,null,"Frequency",null,"Relative Frequency","Variability",null,"Frequency",null,"Relative Frequency","Variability",null,"Frequency",null,"Relative Frequency","Variability",null,"Frequency",null,"Relative Frequency","Variability",null,"Frequency",null,"Relative Frequency","Variability",null,"Frequency",null,"Relative Frequency","Variability"]
[11,14,21,21,21,25,null,null,null,null,0,122,null,111,{"$f":"COUNTIF($L$7:$L$500,N7)","v":1},{"$f":"O7/$Q$4","v":1.7241379310344827E-2},{"$f":"IF(P7=0,0,(P7*((LOG(P7))/LOG(2))))","v":-0.10099967232978573},null,null,{"$f":"N7","v":111},{"$f":"COUNTIF(L7:L16,T7)","v":0},{"$f":"U7/(W4-U10)","v":0},{"$f":"IF(V7=0,0,(V7*((LOG(V7))/LOG(2))))","v":0},null,{"$f":"N7","v":111},{"$f":"COUNTIF(L17:L25,Y7)","v":1},{"$f":"Z7/(AB4-Z10)","v":0.16666666666666666},{"$f":"IF(AA7=0,0,(AA7*((LOG(AA7))/LOG(2))))","v":-0.43082708345352599},null,{"$f":"N7","v":111},{"$f":"COUNTIF(L26:L35,AD7)","v":0},{"$f":"AE7/(AG4-AE10)","v":0},{"$f":"IF(AF7=0,0,(AF7*((LOG(AF7))/LOG(2))))","v":0},null,{"$f":"N7","v":111},{"$f":"COUNTIF(L36:L45,AI7)","v":0},{"$f":"AJ7/(AL4-AJ10)","v":0},{"$f":"IF(AK7=0,0,(AK7*((LOG(AK7))/LOG(2))))","v":0},null,{"$f":"N7","v":111},{"$f":"COUNTIF(L46:L54,AN7)","v":0},{"$f":"AO7/(AQ4-AO10)","v":{"$error":"#DIV/0!"}},{"$f":"IF(AP7=0,0,(AP7*((LOG(AP7))/LOG(2))))","v":{"$error":"#DIV/0!"}},null,{"$f":"N7","v":111},{"$f":"COUNTIF(L55:L64,AS7)","v":0},{"$f":"AT7/(AV4-AT10)","v":0},{"$f":"IF(AU7=0,0,(AU7*((LOG(AU7))/LOG(2))))","v":0}]
[22,127,23,130,23,136,null,null,null,null,0,222,null,112,{"$f":"COUNTIF($L$7:$L$500,N8)","v":3},{"$f":"O8/$Q$4","v":5.1724137931034482E-2},{"$f":"IF(P8=0,0,(P8*((LOG(P8))/LOG(2))))","v":-0.22101819798653879},null,null,{"$f":"N8","v":112},{"$f":"COUNTIF(L7:L16,T8)","v":0},{"$f":"U8/(W4-U10)","v":0},{"$f":"IF(V8=0,0,(V8*((LOG(V8))/LOG(2))))","v":0},null,{"$f":"N8","v":112},{"$f":"COUNTIF(L17:L25,Y8)","v":1},{"$f":"Z8/(AB4-Z10)","v":0.16666666666666666},{"$f":"IF(AA8=0,0,(AA8*((LOG(AA8))/LOG(2))))","v":-0.43082708345352599},null,{"$f":"N8","v":112},{"$f":"COUNTIF(L26:L35,AD8)","v":0},{"$f":"AE8/(AG4-AE10)","v":0},{"$f":"IF(AF8=0,0,(AF8*((LOG(AF8))/LOG(2))))","v":0},null,{"$f":"N8","v":112},{"$f":"COUNTIF(L36:L45,AI8)","v":1},{"$f":"AJ8/(AL4-AJ10)","v":0.2},{"$f":"IF(AK8=0,0,(AK8*((LOG(AK8))/LOG(2))))","v":-0.46438561897747244},null,{"$f":"N8","v":112},{"$f":"COUNTIF(L46:L54,AN8)","v":0},{"$f":"AO8/(AQ4-AO10)","v":{"$error":"#DIV/0!"}},{"$f":"IF(AP8=0,0,(AP8*((LOG(AP8))/LOG(2))))","v":{"$error":"#DIV/0!"}},null,{"$f":"N8","v":112},{"$f":"COUNTIF(L55:L64,AS8)","v":1},{"$f":"AT8/(AV4-AT10)","v":0.5},{"$f":"IF(AU8=0,0,(AU8*((LOG(AU8))/LOG(2))))","v":-0.5}]
[11,234,21,253,21,258,null,null,null,null,0,122,null,121,{"$f":"COUNTIF($L$7:$L$500,N9)","v":0},{"$f":"O9/$Q$4","v":0},{"$f":"IF(P9=0,0,(P9*((LOG(P9))/LOG(2))))","v":0},null,null,{"$f":"N9","v":121},{"$f":"COUNTIF(L7:L16,T9)","v":0},{"$f":"U9/(W4-U10)","v":0},{"$f":"IF(V9=0,0,(V9*((LOG(V9))/LOG(2))))","v":0},null,{"$f":"N9","v":121},{"$f":"COUNTIF(L17:L25,Y9)","v":0},{"$f":"Z9/(AB4-Z10)","v":0},{"$f":"IF(AA9=0,0,(AA9*((LOG(AA9))/LOG(2))))","v":0},null,{"$f":"N9","v":121},{"$f":"COUNTIF(L26:L35,AD9)","v":0},{"$f":"AE9/(AG4-AE10)","v":0},{"$f":"IF(AF9=0,0,(AF9*((LOG(AF9))/LOG(2))))","v":0},null,{"$f":"N9","v":121},{"$f":"COUNTIF(L36:L45,AI9)","v":0},{"$f":"AJ9/(AL4-AJ10)","v":0},{"$f":"IF(AK9=0,0,(AK9*((LOG(AK9))/LOG(2))))","v":0},null,{"$f":"N9","v":121},{"$f":"COUNTIF(L46:L54,AN9)","v":0},{"$f":"AO9/(AQ4-AO10)","v":{"$error":"#DIV/0!"}},{"$f":"IF(AP9=0,0,(AP9*((LOG(AP9))/LOG(2))))","v":{"$error":"#DIV/0!"}},null,{"$f":"N9","v":121},{"$f":"COUNTIF(L55:L64,AS9)","v":0},{"$f":"AT9/(AV4-AT10)","v":0},{"$f":"IF(AU9=0,0,(AU9*((LOG(AU9))/LOG(2))))","v":0}]
[11,357,21,367,21,370,null,null,null,null,0,122,null,122,{"$f":"COUNTIF($L$7:$L$500,N10)","v":39},{"$f":"O10/$Q$4","v":0.67241379310344829},{"$f":"IF(P10=0,0,(P10*((LOG(P10))/LOG(2))))","v":-0.38500986679909699},null,null,{"$f":"N10","v":122},{"$f":"COUNTIF(L7:L16,T10)","v":7},null,null,null,{"$f":"N10","v":122},{"$f":"COUNTIF(L17:L25,Y10)","v":3},null,null,null,{"$f":"N10","v":122},{"$f":"COUNTIF(L26:L35,AD10)","v":7},null,null,null,{"$f":"N10","v":122},{"$f":"COUNTIF(L36:L45,AI10)","v":5},null,null,null,{"$f":"N10","v":122},{"$f":"COUNTIF(L46:L54,AN10)","v":9},null,null,null,{"$f":"N10","v":122},{"$f":"COUNTIF(L55:L64,AS10)","v":8}]
[22,558,23,562,23,569,null,null,null,null,0,222,null,211,{"$f":"COUNTIF($L$7:$L$500,N11)","v":0},{"$f":"O11/$Q$4","v":0},{"$f":"IF(P11=0,0,(P11*((LOG(P11))/LOG(2))))","v":0},null,null,{"$f":"N11","v":211},{"$f":"COUNTIF(L7:L16,T11)","v":0},{"$f":"U11/(W4-U10)","v":0},{"$f":"IF(V11=0,0,(V11*((LOG(V11))/LOG(2))))","v":0},null,{"$f":"N11","v":211},{"$f":"COUNTIF(L17:L25,Y11)","v":0},{"$f":"Z11/(AB4-Z10)","v":0},{"$f":"IF(AA11=0,0,(AA11*((LOG(AA11))/LOG(2))))","v":0},null,{"$f":"N11","v":211},{"$f":"COUNTIF(L26:L35,AD11)","v":0},{"$f":"AE11/(AG4-AE10)","v":0},{"$f":"IF(AF11=0,0,(AF11*((LOG(AF11))/LOG(2))))","v":0},null,{"$f":"N11","v":211},{"$f":"COUNTIF(L36:L45,AI11)","v":0},{"$f":"AJ11/(AL4-AJ10)","v":0},{"$f":"IF(AK11=0,0,(AK11*((LOG(AK11))/LOG(2))))","v":0},null,{"$f":"N11","v":211},{"$f":"COUNTIF(L46:L54,AN11)","v":0},{"$f":"AO11/(AQ4-AO10)","v":{"$error":"#DIV/0!"}},{"$f":"IF(AP11=0,0,(AP11*((LOG(AP11))/LOG(2))))","v":{"$error":"#DIV/0!"}},null,{"$f":"N11","v":211},{"$f":"COUNTIF(L55:L64,AS11)","v":0},{"$f":"AT11/(AV4-AT10)","v":0},{"$f":"IF(AU11=0,0,(AU11*((LOG(AU11))/LOG(2))))","v":0}]
[11,674,21,693,21,699,null,null,null,null,0,122,null,212,{"$f":"COUNTIF($L$7:$L$500,N12)","v":0},{"$f":"O12/$Q$4","v":0},{"$f":"IF(P12=0,0,(P12*((LOG(P12))/LOG(2))))","v":0},null,null,{"$f":"N12","v":212},{"$f":"COUNTIF(L7:L16,T12)","v":0},{"$f":"U12/(W4-U10)","v":0},{"$f":"IF(V12=0,0,(V12*((LOG(V12))/LOG(2))))","v":0},null,{"$f":"N12","v":212},{"$f":"COUNTIF(L17:L25,Y12)","v":0},{"$f":"Z12/(AB4-Z10)","v":0},{"$f":"IF(AA12=0,0,(AA12*((LOG(AA12))/LOG(2))))","v":0},null,{"$f":"N12","v":212},{"$f":"COUNTIF(L26:L35,AD12)","v":0},{"$f":"AE12/(AG4-AE10)","v":0},{"$f":"IF(AF12=0,0,(AF12*((LOG(AF12))/LOG(2))))","v":0},null,{"$f":"N12","v":212},{"$f":"COUNTIF(L36:L45,AI12)","v":0},{"$f":"AJ12/(AL4-AJ10)","v":0},{"$f":"IF(AK12=0,0,(AK12*((LOG(AK12))/LOG(2))))","v":0},null,{"$f":"N12","v":212},{"$f":"COUNTIF(L46:L54,AN12)","v":0},{"$f":"AO12/(AQ4-AO10)","v":{"$error":"#DIV/0!"}},{"$f":"IF(AP12=0,0,(AP12*((LOG(AP12))/LOG(2))))","v":{"$error":"#DIV/0!"}},null,{"$f":"N12","v":212},{"$f":"COUNTIF(L55:L64,AS12)","v":0},{"$f":"AT12/(AV4-AT10)","v":0},{"$f":"IF(AU12=0,0,(AU12*((LOG(AU12))/LOG(2))))","v":0}]
[11,789,21,798,21,801,null,null,null,null,0,122,null,221,{"$f":"COUNTIF($L$7:$L$500,N13)","v":0},{"$f":"O13/$Q$4","v":0},{"$f":"IF(P13=0,0,(P13*((LOG(P13))/LOG(2))))","v":0},null,null,{"$f":"N13","v":221},{"$f":"COUNTIF(L7:L16,T13)","v":0},{"$f":"U13/(W4-U10)","v":0},{"$f":"IF(V13=0,0,(V13*((LOG(V13))/LOG(2))))","v":0},null,{"$f":"N13","v":221},{"$f":"COUNTIF(L17:L25,Y13)","v":0},{"$f":"Z13/(AB4-Z10)","v":0},{"$f":"IF(AA13=0,0,(AA13*((LOG(AA13))/LOG(2))))","v":0},null,{"$f":"N13","v":221},{"$f":"COUNTIF(L26:L35,AD13)","v":0},{"$f":"AE13/(AG4-AE10)","v":0},{"$f":"IF(AF13=0,0,(AF13*((LOG(AF13))/LOG(2))))","v":0},null,{"$f":"N13","v":221},{"$f":"COUNTIF(L36:L45,AI13)","v":0},{"$f":"AJ13/(AL4-AJ10)","v":0},{"$f":"IF(AK13=0,0,(AK13*((LOG(AK13))/LOG(2))))","v":0},null,{"$f":"N13","v":221},{"$f":"COUNTIF(L46:L54,AN13)","v":0},{"$f":"AO13/(AQ4-AO10)","v":{"$error":"#DIV/0!"}},{"$f":"IF(AP13=0,0,(AP13*((LOG(AP13))/LOG(2))))","v":{"$error":"#DIV/0!"}},null,{"$f":"N13","v":221},{"$f":"COUNTIF(L55:L64,AS13)","v":0},{"$f":"AT13/(AV4-AT10)","v":0},{"$f":"IF(AU13=0,0,(AU13*((LOG(AU13))/LOG(2))))","v":0}]
[11,894,21,903,21,915,null,null,null,null,0,122,null,222,{"$f":"COUNTIF($L$7:$L$500,N14)","v":15},{"$f":"O14/$Q$4","v":0.25862068965517243},{"$f":"IF(P14=0,0,(P14*((LOG(P14))/LOG(2))))","v":-0.50459234470320347},null,null,{"$f":"N14","v":222},{"$f":"COUNTIF(L7:L16,T14)","v":3},{"$f":"U14/(W4-U10)","v":1},{"$f":"IF(V14=0,0,(V14*((LOG(V14))/LOG(2))))","v":0},null,{"$f":"N14","v":222},{"$f":"COUNTIF(L17:L25,Y14)","v":4},{"$f":"Z14/(AB4-Z10)","v":0.66666666666666663},{"$f":"IF(AA14=0,0,(AA14*((LOG(AA14))/LOG(2))))","v":-0.38997500048077083},null,{"$f":"N14","v":222},{"$f":"COUNTIF(L26:L35,AD14)","v":3},{"$f":"AE14/(AG4-AE10)","v":1},{"$f":"IF(AF14=0,0,(AF14*((LOG(AF14))/LOG(2))))","v":0},null,{"$f":"N14","v":222},{"$f":"COUNTIF(L36:L45,AI14)","v":4},{"$f":"AJ14/(AL4-AJ10)","v":0.8},{"$f":"IF(AK14=0,0,(AK14*((LOG(AK14))/LOG(2))))","v":-0.25754247590988982},null,{"$f":"N14","v":222},{"$f":"COUNTIF(L46:L54,AN14)","v":0},{"$f":"AO14/(AQ4-AO10)","v":{"$error":"#DIV/0!"}},{"$f":"IF(AP14=0,0,(AP14*((LOG(AP14))/LOG(2))))","v":{"$error":"#DIV/0!"}},null,{"$f":"N14","v":222},{"$f":"COUNTIF(L55:L64,AS14)","v":1},{"$f":"AT14/(AV4-AT10)","v":0.5},{"$f":"IF(AU14=0,0,(AU14*((LOG(AU14))/LOG(2))))","v":-0.5}]
[22,1022,23,1029,23,1049,null,null,null,null,0,222,null,null,null,{"$f":"SUM(P7:P14)","v":1},{"$f":"-SUM(Q7:Q14)","v":1.2116200818186249},null,null,null,null,{"$f":"SUM(V7:V14)","v":1},{"$f":"-SUM(W7:W14)","v":0},null,null,null,{"$f":"SUM(AA7:AA14)","v":1},{"$f":"-SUM(AB7:AB14)","v":1.2516291673878228},null,null,null,{"$f":"SUM(AF7:AF14)","v":1},{"$f":"-SUM(AG7:AG14)","v":0},null,null,null,{"$f":"SUM(AK7:AK14)","v":1},{"$f":"-SUM(AL7:AL14)","v":0.72192809488736231},null,null,null,{"$f":"SUM(AP7:AP14)","v":{"$error":"#DIV/0!"}},{"$f":"-SUM(AQ7:AQ14)","v":{"$error":"#DIV/0!"}},null,null,null,{"$f":"SUM(AU7:AU14)","v":1},{"$f":"-SUM(AV7:AV14)","v":1}]
[11,1148,21,1155,21,1163,null,null,null,null,0,122,null,null,null,"U=",{"$f":"Q15/(LOG(Q4)/LOG(2))","v":0.20683236815319148},null,null,null,null,"U1=",{"$f":"W15/(LOG(W4)/LOG(2))","v":0},null,null,null,"U2=",{"$f":"AB15/(LOG(AB4)/LOG(2))","v":0.39484504107142376},null,null,null,"U3=",{"$f":"AG15/(LOG(AG4)/LOG(2))","v":0},null,null,null,"U4=",{"$f":"AL15/(LOG(AL4)/LOG(2))","v":0.21732201127364889},null,null,null,"U5=",{"$f":"AQ15/(LOG(AQ4)/LOG(2))","v":{"$error":"#DIV/0!"}},null,null,null,"U6=",{"$f":"AV15/(LOG(AV4)/LOG(2))","v":0.3010299956639812}]
[11,1258,21,1268,21,1273,null,null,null,null,0,122]
[11,1367,21,1376,21,1379,null,null,null,null,0,122]
[22,1480,23,1492,23,1498,null,null,null,null,0,222,null,"Total Target Seq"]
[22,1606,23,1611,23,1619,null,null,null,null,0,222,null,{"$f":"COUNTIF(L7:L64,G3)","v":39},null,10,9,10,10,9,10]
[11,1752,12,1758,14,1763,null,null,null,null,0,111,null,null,null,"% of reinforcement given in 6 equal intervals based on number of trials "]
[11,1859,21,1866,21,1870,null,null,null,null,0,122,null,null,null,"%_1","%_2","%_3","%_4","%_5","%_6"]
[22,1970,23,1982,23,1989,null,null,null,null,0,222,null,null,"target sequence",{"$f":"$G$3","v":122},{"$f":"$G$3","v":122},{"$f":"$G$3","v":122},{"$f":"$G$3","v":122},{"$f":"$G$3","v":122},{"$f":"$G$3","v":122}]
[22,2094,23,2099,23,2104,null,null,null,null,0,222,null,null,"total reinforcement",{"$f":"U10","v":7},{"$f":"Z10","v":3},{"$f":"AE10","v":7},{"$f":"AJ10","v":5},{"$f":"AO10","v":9},{"$f":"AT10","v":8}]
[11,2195,12,2199,23,2216,null,null,null,null,0,112,null,null,"% target"]
[22,2327,23,2332,23,2340,null,null,null,null,0,222,null,null,"CCRF"]
[11,2438,21,2448,21,2452,null,null,null,null,0,122,null,null,"% CCRf"]
[11,2547,21,2561,21,2564,null,null,null,null,0,122,null,null,"average response rate",{"$f":"F16/P20","v":116.3},{"$f":"(F25-F16)/Q20","v":117},{"$f":"(F35-F25)/R20","v":119.9},{"$f":"(F45-F35)/S20","v":116.5},{"$f":"(F54-F45)/T20","v":125.11111111111111},{"$f":"(F64-F54)/U20","v":132.5}]
[11,2660,21,2681,21,2685,null,null,null,null,0,122]
[11,2779,21,2791,21,2795,null,null,null,null,0,122]
[11,2888,21,2901,21,2917,null,null,null,null,0,122]
[11,3019,21,3029,21,3038,null,null,null,null,0,122]
[11,3131,21,3146,21,3150,null,null,null,null,0,122]
[22,3265,23,3273,23,3279,null,null,null,null,0,222]
[22,3399,23,3408,23,3415,null,null,null,null,0,222]
[22,3530,23,3535,23,3539,null,null,null,null,0,222]
[11,3639,21,3656,21,3663,null,null,null,null,0,122]
[22,3766,23,3784,23,3790,null,null,null,null,0,222]
[11,3888,21,3898,21,3903,null,null,null,null,0,122]
[11,3997,21,4008,21,4012,null,null,null,null,0,122]
[22,4118,23,4122,23,4133,null,null,null,null,0,222]
[22,4240,23,4243,23,4247,null,null,null,null,0,222]
[11,4345,12,4346,23,4358,null,null,null,null,0,112]
[11,4455,21,4466,21,4471,null,null,null,null,0,122]
[11,4565,21,4575,21,4580,null,null,null,null,0,122]
[11,4676,21,4690,21,4704,null,null,null,null,0,122]
[11,4800,21,4809,21,4811,null,null,null,null,0,122]
[11,4905,21,4918,21,4929,null,null,null,null,0,122]
[11,5081,21,5090,21,5093,null,null,null,null,0,122]
[11,5189,21,5202,21,5207,null,null,null,null,0,122]
[11,5335,21,5345,21,5354,null,null,null,null,0,122]
[11,5448,21,5461,21,5466,null,null,null,null,0,122]
[11,5563,21,5583,21,5588,null,null,null,null,0,122]
[11,5682,21,5700,21,5706,null,null,null,null,0,122]
[11,5812,21,5823,21,5827,null,null,null,null,0,122]
[11,5920,12,5923,23,5938,null,null,null,null,0,112]
[11,6036,21,6050,21,6054,null,null,null,null,0,122]
[11,6181,21,6196,21,6205,null,null,null,null,0,122]
[11,6322,21,6332,21,6340,null,null,null,null,0,122]
[11,6451,21,6460,21,6472,null,null,null,null,0,122]
[22,6642,23,6655,23,6662,null,null,null,null,0,222]
[11,6760,21,6769,21,6780,null,null,null,null,0,122]
[11,6873,21,6882,21,6886,null,null,null,null,0,122]
[11,6991,21,7008,21,7031,null,null,null,null,1,122]

{"sheet":"!LC11C03..Ta","index":32,"n_rows":74,"n_cols":48,"rows_kept":74,"cut":false,"hidden":false,"merged":[[4,39,4,42],[5,39,5,40],[4,44,4,47],[5,44,5,45],[4,24,4,27],[5,24,5,25],[4,29,4,32],[5,29,5,30],[4,34,4,37],[5,34,5,35],[1,1,1,2],[5,13,5,14],[18,13,18,14],[19,13,19,14],[4,19,4,22],[5,19,5,20]]}
["Report for:!LC11C03..Ta"]
["Date:","<date>"]
["Hen:","<hen>",null,null,null,"Correct Sequence",{"$f":"Start!J2","v":122},null,null,null,null,null,null,null,null,"Total Sequences in Data",{"$f":"4994-COUNTBLANK(L7:L5000)","v":68},null,null,null,null,"Total Sequences in Block Data",{"$f":"COUNTA(L7:L17)","v":11},null,null,null,"Total Sequences in Block Data",{"$f":"COUNTA(L18:L29)","v":12},null,null,null,"Total Sequences in Block Data",{"$f":"COUNTA(L30:L40)","v":11},null,null,null,"Total Sequences in Block Data",{"$f":"COUNTA(L41:L51)","v":11},null,null,null,"Total Sequences in Block Data",{"$f":"COUNTA(L52:L63)","v":12},null,null,null,"Total Sequences in Block Data",{"$f":"COUNTA(L64:L74)","v":11}]
[null,null,null,null,null,null,null,null,null,null,null,null,null,null,null,"Total Sequences in Summary",{"$f":"SUM(O7:O14)","v":68},null,null,null,null,"Total Sequences in Block Summary",{"$f":"SUM(U7:U14)","v":11},null,null,null,"Total Sequences in Block Summary",{"$f":"SUM(Z7:Z14)","v":12},null,null,null,"Total Sequences in Block Summary",{"$f":"SUM(AE7:AE14)","v":11},null,null,null,"Total Sequences in Block Summary",{"$f":"SUM(AJ7:AJ14)","v":11},null,null,null,"Total Sequences in Block Summary",{"$f":"SUM(AO7:AO14)","v":12},null,null,null,"Total Sequences in Block Summary",{"$f":"SUM(AT7:AT14)","v":11}]
[null,null,null,null,null,null,null,null,null,null,null,null,null,null,null,null,null,null,null,"Block 1",null,null,null,null,"Block 2",null,null,null,null,"Block 3",null,null,null,null,"Block 4",null,null,null,null,"Block 5",null,null,null,null,"Block 6"]
["Sequence\nComponent\n1","Time\n1","Sequence\nComponent\n2","Time\n2","Sequence\nComponent\n3","Time\n3","Sequence\nComponent\n4","Time\n4","Sequence\nComponent\n5","Time\n5","Correct?\n0=No 1=Yes","Sequence",null,"Frequency",null,"Relative Frequency","Variability",null,null,"Frequency",null,"Relative Frequency","Variability",null,"Frequency",null,"Relative Frequency","Variability",null,"Frequency",null,"Relative Frequency","Variability",null,"Frequency",null,"Relative Frequency","Variability",null,"Frequency",null,"Relative Frequency","Variability",null,"Frequency",null,"Relative Frequency","Variability"]
[11,7,12,27,14,33,null,null,null,null,0,111,null,111,{"$f":"COUNTIF($L$7:$L$500,N7)","v":3},{"$f":"O7/$Q$4","v":4.4117647058823532E-2},{"$f":"IF(P7=0,0,(P7*((LOG(P7))/LOG(2))))","v":-0.19863972090569926},null,null,{"$f":"N7","v":111},{"$f":"COUNTIF(L7:L17,T7)","v":1},{"$f":"U7/(W4-U10)","v":0.14285714285714285},{"$f":"IF(V7=0,0,(V7*((LOG(V7))/LOG(2))))","v":-0.40105070315108626},null,{"$f":"N7","v":111},{"$f":"COUNTIF(L18:L29,Y7)","v":0},{"$f":"Z7/(AB4-Z10)","v":0},{"$f":"IF(AA7=0,0,(AA7*((LOG(AA7))/LOG(2))))","v":0},null,{"$f":"N7","v":111},{"$f":"COUNTIF(L30:L40,AD7)","v":0},{"$f":"AE7/(AG4-AE10)","v":0},{"$f":"IF(AF7=0,0,(AF7*((LOG(AF7))/LOG(2))))","v":0},null,{"$f":"N7","v":111},{"$f":"COUNTIF(L41:L51,AI7)","v":0},{"$f":"AJ7/(AL4-AJ10)","v":0},{"$f":"IF(AK7=0,0,(AK7*((LOG(AK7))/LOG(2))))","v":0},null,{"$f":"N7","v":111},{"$f":"COUNTIF(L52:L63,AN7)","v":2},{"$f":"AO7/(AQ4-AO10)","v":0.2857142857142857},{"$f":"IF(AP7=0,0,(AP7*((LOG(AP7))/LOG(2))))","v":-0.51638712058788683},null,{"$f":"N7","v":111},{"$f":"COUNTIF(L64:L74,AS7)","v":0},{"$f":"AT7/(AV4-AT10)","v":0},{"$f":"IF(AU7=0,0,(AU7*((LOG(AU7))/LOG(2))))","v":0}]
[11,129,21,136,21,140,null,null,null,null,0,122,null,112,{"$f":"COUNTIF($L$7:$L$500,N8)","v":4},{"$f":"O8/$Q$4","v":5.8823529411764705E-2},{"$f":"IF(P8=0,0,(P8*((LOG(P8))/LOG(2))))","v":-0.24043899066178465},null,null,{"$f":"N8","v":112},{"$f":"COUNTIF(L7:L17,T8)","v":4},{"$f":"U8/(W4-U10)","v":0.5714285714285714},{"$f":"IF(V8=0,0,(V8*((LOG(V8))/LOG(2))))","v":-0.46134566974720237},null,{"$f":"N8","v":112},{"$f":"COUNTIF(L18:L29,Y8)","v":0},{"$f":"Z8/(AB4-Z10)","v":0},{"$f":"IF(AA8=0,0,(AA8*((LOG(AA8))/LOG(2))))","v":0},null,{"$f":"N8","v":112},{"$f":"COUNTIF(L30:L40,AD8)","v":0},{"$f":"AE8/(AG4-AE10)","v":0},{"$f":"IF(AF8=0,0,(AF8*((LOG(AF8))/LOG(2))))","v":0},null,{"$f":"N8","v":112},{"$f":"COUNTIF(L41:L51,AI8)","v":0},{"$f":"AJ8/(AL4-AJ10)","v":0},{"$f":"IF(AK8=0,0,(AK8*((LOG(AK8))/LOG(2))))","v":0},null,{"$f":"N8","v":112},{"$f":"COUNTIF(L52:L63,AN8)","v":0},{"$f":"AO8/(AQ4-AO10)","v":0},{"$f":"IF(AP8=0,0,(AP8*((LOG(AP8))/LOG(2))))","v":0},null,{"$f":"N8","v":112},{"$f":"COUNTIF(L64:L74,AS8)","v":0},{"$f":"AT8/(AV4-AT10)","v":0},{"$f":"IF(AU8=0,0,(AU8*((LOG(AU8))/LOG(2))))","v":0}]
[22,252,23,258,23,264,null,null,null,null,0,222,null,121,{"$f":"COUNTIF($L$7:$L$500,N9)","v":0},{"$f":"O9/$Q$4","v":0},{"$f":"IF(P9=0,0,(P9*((LOG(P9))/LOG(2))))","v":0},null,null,{"$f":"N9","v":121},{"$f":"COUNTIF(L7:L17,T9)","v":0},{"$f":"U9/(W4-U10)","v":0},{"$f":"IF(V9=0,0,(V9*((LOG(V9))/LOG(2))))","v":0},null,{"$f":"N9","v":121},{"$f":"COUNTIF(L18:L29,Y9)","v":0},{"$f":"Z9/(AB4-Z10)","v":0},{"$f":"IF(AA9=0,0,(AA9*((LOG(AA9))/LOG(2))))","v":0},null,{"$f":"N9","v":121},{"$f":"COUNTIF(L30:L40,AD9)","v":0},{"$f":"AE9/(AG4-AE10)","v":0},{"$f":"IF(AF9=0,0,(AF9*((LOG(AF9))/LOG(2))))","v":0},null,{"$f":"N9","v":121},{"$f":"COUNTIF(L41:L51,AI9)","v":0},{"$f":"AJ9/(AL4-AJ10)","v":0},{"$f":"IF(AK9=0,0,(AK9*((LOG(AK9))/LOG(2))))","v":0},null,{"$f":"N9","v":121},{"$f":"COUNTIF(L52:L63,AN9)","v":0},{"$f":"AO9/(AQ4-AO10)","v":0},{"$f":"IF(AP9=0,0,(AP9*((LOG(AP9))/LOG(2))))","v":0},null,{"$f":"N9","v":121},{"$f":"COUNTIF(L64:L74,AS9)","v":0},{"$f":"AT9/(AV4-AT10)","v":0},{"$f":"IF(AU9=0,0,(AU9*((LOG(AU9))/LOG(2))))","v":0}]
[22,372,23,377,23,384,null,null,null,null,0,222,null,122,{"$f":"COUNTIF($L$7:$L$500,N10)","v":33},{"$f":"O10/$Q$4","v":0.48529411764705882},{"$f":"IF(P10=0,0,(P10*((LOG(P10))/LOG(2))))","v":-0.50619511503576819},null,null,{"$f":"N10","v":122},{"$f":"COUNTIF(L7:L17,T10)","v":4},null,null,null,{"$f":"N10","v":122},{"$f":"COUNTIF(L18:L29,Y10)","v":7},null,null,null,{"$f":"N10","v":122},{"$f":"COUNTIF(L30:L40,AD10)","v":9},null,null,null,{"$f":"N10","v":122},{"$f":"COUNTIF(L41:L51,AI10)","v":5},null,null,null,{"$f":"N10","v":122},{"$f":"COUNTIF(L52:L63,AN10)","v":5},null,null,null,{"$f":"N10","v":122},{"$f":"COUNTIF(L64:L74,AS10)","v":3}]
[11,485,12,507,23,527,null,null,null,null,0,112,null,211,{"$f":"COUNTIF($L$7:$L$500,N11)","v":0},{"$f":"O11/$Q$4","v":0},{"$f":"IF(P11=0,0,(P11*((LOG(P11))/LOG(2))))","v":0},null,null,{"$f":"N11","v":211},{"$f":"COUNTIF(L7:L17,T11)","v":0},{"$f":"U11/(W4-U10)","v":0},{"$f":"IF(V11=0,0,(V11*((LOG(V11))/LOG(2))))","v":0},null,{"$f":"N11","v":211},{"$f":"COUNTIF(L18:L29,Y11)","v":0},{"$f":"Z11/(AB4-Z10)","v":0},{"$f":"IF(AA11=0,0,(AA11*((LOG(AA11))/LOG(2))))","v":0},null,{"$f":"N11","v":211},{"$f":"COUNTIF(L30:L40,AD11)","v":0},{"$f":"AE11/(AG4-AE10)","v":0},{"$f":"IF(AF11=0,0,(AF11*((LOG(AF11))/LOG(2))))","v":0},null,{"$f":"N11","v":211},{"$f":"COUNTIF(L41:L51,AI11)","v":0},{"$f":"AJ11/(AL4-AJ10)","v":0},{"$f":"IF(AK11=0,0,(AK11*((LOG(AK11))/LOG(2))))","v":0},null,{"$f":"N11","v":211},{"$f":"COUNTIF(L52:L63,AN11)","v":0},{"$f":"AO11/(AQ4-AO10)","v":0},{"$f":"IF(AP11=0,0,(AP11*((LOG(AP11))/LOG(2))))","v":0},null,{"$f":"N11","v":211},{"$f":"COUNTIF(L64:L74,AS11)","v":0},{"$f":"AT11/(AV4-AT10)","v":0},{"$f":"IF(AU11=0,0,(AU11*((LOG(AU11))/LOG(2))))","v":0}]
[11,628,12,634,23,649,null,null,null,null,0,112,null,212,{"$f":"COUNTIF($L$7:$L$500,N12)","v":1},{"$f":"O12/$Q$4","v":1.4705882352941176E-2},{"$f":"IF(P12=0,0,(P12*((LOG(P12))/LOG(2))))","v":-8.9521512371328521E-2},null,null,{"$f":"N12","v":212},{"$f":"COUNTIF(L7:L17,T12)","v":0},{"$f":"U12/(W4-U10)","v":0},{"$f":"IF(V12=0,0,(V12*((LOG(V12))/LOG(2))))","v":0},null,{"$f":"N12","v":212},{"$f":"COUNTIF(L18:L29,Y12)","v":0},{"$f":"Z12/(AB4-Z10)","v":0},{"$f":"IF(AA12=0,0,(AA12*((LOG(AA12))/LOG(2))))","v":0},null,{"$f":"N12","v":212},{"$f":"COUNTIF(L30:L40,AD12)","v":0},{"$f":"AE12/(AG4-AE10)","v":0},{"$f":"IF(AF12=0,0,(AF12*((LOG(AF12))/LOG(2))))","v":0},null,{"$f":"N12","v":212},{"$f":"COUNTIF(L41:L51,AI12)","v":0},{"$f":"AJ12/(AL4-AJ10)","v":0},{"$f":"IF(AK12=0,0,(AK12*((LOG(AK12))/LOG(2))))","v":0},null,{"$f":"N12","v":212},{"$f":"COUNTIF(L52:L63,AN12)","v":1},{"$f":"AO12/(AQ4-AO10)","v":0.14285714285714285},{"$f":"IF(AP12=0,0,(AP12*((LOG(AP12))/LOG(2))))","v":-0.40105070315108626},null,{"$f":"N12","v":212},{"$f":"COUNTIF(L64:L74,AS12)","v":0},{"$f":"AT12/(AV4-AT10)","v":0},{"$f":"IF(AU12=0,0,(AU12*((LOG(AU12))/LOG(2))))","v":0}]
[11,746,12,751,23,761,null,null,null,null,0,112,null,221,{"$f":"COUNTIF($L$7:$L$500,N13)","v":0},{"$f":"O13/$Q$4","v":0},{"$f":"IF(P13=0,0,(P13*((LOG(P13))/LOG(2))))","v":0},null,null,{"$f":"N13","v":221},{"$f":"COUNTIF(L7:L17,T13)","v":0},{"$f":"U13/(W4-U10)","v":0},{"$f":"IF(V13=0,0,(V13*((LOG(V13))/LOG(2))))","v":0},null,{"$f":"N13","v":221},{"$f":"COUNTIF(L18:L29,Y13)","v":0},{"$f":"Z13/(AB4-Z10)","v":0},{"$f":"IF(AA13=0,0,(AA13*((LOG(AA13))/LOG(2))))","v":0},null,{"$f":"N13","v":221},{"$f":"COUNTIF(L30:L40,AD13)","v":0},{"$f":"AE13/(AG4-AE10)","v":0},{"$f":"IF(AF13=0,0,(AF13*((LOG(AF13))/LOG(2))))","v":0},null,{"$f":"N13","v":221},{"$f":"COUNTIF(L41:L51,AI13)","v":0},{"$f":"AJ13/(AL4-AJ10)","v":0},{"$f":"IF(AK13=0,0,(AK13*((LOG(AK13))/LOG(2))))","v":0},null,{"$f":"N13","v":221},{"$f":"COUNTIF(L52:L63,AN13)","v":0},{"$f":"AO13/(AQ4-AO10)","v":0},{"$f":"IF(AP13=0,0,(AP13*((LOG(AP13))/LOG(2))))","v":0},null,{"$f":"N13","v":221},{"$f":"COUNTIF(L64:L74,AS13)","v":0},{"$f":"AT13/(AV4-AT10)","v":0},{"$f":"IF(AU13=0,0,(AU13*((LOG(AU13))/LOG(2))))","v":0}]
[11,858,12,865,23,876,null,null,null,null,0,112,null,222,{"$f":"COUNTIF($L$7:$L$500,N14)","v":27},{"$f":"O14/$Q$4","v":0.39705882352941174},{"$f":"IF(P14=0,0,(P14*((LOG(P14))/LOG(2))))","v":-0.52911079640213987},null,null,{"$f":"N14","v":222},{"$f":"COUNTIF(L7:L17,T14)","v":2},{"$f":"U14/(W4-U10)","v":0.2857142857142857},{"$f":"IF(V14=0,0,(V14*((LOG(V14))/LOG(2))))","v":-0.51638712058788683},null,{"$f":"N14","v":222},{"$f":"COUNTIF(L18:L29,Y14)","v":5},{"$f":"Z14/(AB4-Z10)","v":1},{"$f":"IF(AA14=0,0,(AA14*((LOG(AA14))/LOG(2))))","v":0},null,{"$f":"N14","v":222},{"$f":"COUNTIF(L30:L40,AD14)","v":2},{"$f":"AE14/(AG4-AE10)","v":1},{"$f":"IF(AF14=0,0,(AF14*((LOG(AF14))/LOG(2))))","v":0},null,{"$f":"N14","v":222},{"$f":"COUNTIF(L41:L51,AI14)","v":6},{"$f":"AJ14/(AL4-AJ10)","v":1},{"$f":"IF(AK14=0,0,(AK14*((LOG(AK14))/LOG(2))))","v":0},null,{"$f":"N14","v":222},{"$f":"COUNTIF(L52:L63,AN14)","v":4},{"$f":"AO14/(AQ4-AO10)","v":0.5714285714285714},{"$f":"IF(AP14=0,0,(AP14*((LOG(AP14))/LOG(2))))","v":-0.46134566974720237},null,{"$f":"N14","v":222},{"$f":"COUNTIF(L64:L74,AS14)","v":8},{"$f":"AT14/(AV4-AT10)","v":1},{"$f":"IF(AU14=0,0,(AU14*((LOG(AU14))/LOG(2))))","v":0}]
[11,976,21,986,21,989,null,null,null,null,0,122,null,null,null,{"$f":"SUM(P7:P14)","v":1},{"$f":"-SUM(Q7:Q14)","v":1.5639061353767203},null,null,null,null,{"$f":"SUM(V7:V14)","v":0.99999999999999989},{"$f":"-SUM(W7:W14)","v":1.3787834934861753},null,null,null,{"$f":"SUM(AA7:AA14)","v":1},{"$f":"-SUM(AB7:AB14)","v":0},null,null,null,{"$f":"SUM(AF7:AF14)","v":1},{"$f":"-SUM(AG7:AG14)","v":0},null,null,null,{"$f":"SUM(AK7:AK14)","v":1},{"$f":"-SUM(AL7:AL14)","v":0},null,null,null,{"$f":"SUM(AP7:AP14)","v":1},{"$f":"-SUM(AQ7:AQ14)","v":1.3787834934861753},null,null,null,{"$f":"SUM(AU7:AU14)","v":1},{"$f":"-SUM(AV7:AV14)","v":0}]
[11,1105,21,1115,21,1123,null,null,null,null,0,122,null,null,null,"U=",{"$f":"Q15/(LOG(Q4)/LOG(2))","v":0.25690606680656147},null,null,null,null,"U1=",{"$f":"W15/(LOG(W4)/LOG(2))","v":0.3985578110745519},null,null,null,"U2=",{"$f":"AB15/(LOG(AB4)/LOG(2))","v":0},null,null,null,"U3=",{"$f":"AG15/(LOG(AG4)/LOG(2))","v":0},null,null,null,"U4=",{"$f":"AL15/(LOG(AL4)/LOG(2))","v":0},null,null,null,"U5=",{"$f":"AQ15/(LOG(AQ4)/LOG(2))","v":0.38460192908818913},null,null,null,"U6=",{"$f":"AV15/(LOG(AV4)/LOG(2))","v":0}]
[11,1228,21,1238,21,1247,null,null,null,null,0,122]
[11,1363,21,1370,21,1378,null,null,null,null,0,122]
[22,1483,23,1501,23,1502,null,null,null,null,0,222,null,"Total Target Seq"]
[11,1597,21,1608,21,1620,null,null,null,null,0,122,null,{"$f":"COUNTIF(L7:L74,G3)","v":33},null,11,12,11,11,12,11]
[11,1749,21,1759,21,1767,null,null,null,null,0,122,null,null,null,"% of reinforcement given in 6 equal intervals based on number of trials "]
[11,1872,21,1884,21,1890,null,null,null,null,0,122,null,null,null,"%_1","%_2","%_3","%_4","%_5","%_6"]
[22,2007,23,2010,23,2015,null,null,null,null,0,222,null,null,"target sequence",{"$f":"$G$3","v":122},{"$f":"$G$3","v":122},{"$f":"$G$3","v":122},{"$f":"$G$3","v":122},{"$f":"$G$3","v":122},{"$f":"$G$3","v":122}]
[11,2114,21,2129,21,2140,null,null,null,null,0,122,null,null,"total reinforcement",{"$f":"U10","v":4},{"$f":"Z10","v":7},{"$f":"AE10","v":9},{"$f":"AJ10","v":5},{"$f":"AO10","v":5},{"$f":"AT10","v":3}]
[22,2255,23,2259,23,2266,null,null,null,null,0,222,null,null,"% target"]
[11,2368,21,2377,21,2385,null,null,null,null,0,122,null,null,"CCRF"]
[22,2564,23,2572,23,2583,null,null,null,null,0,222,null,null,"% CCRf"]
[11,2681,21,2694,21,2699,null,null,null,null,0,122,null,null,"average response rate",{"$f":"F17/P20","v":113.36363636363636},{"$f":"(F29-F17)/Q20","v":133.25},{"$f":"(F40-F29)/R20","v":154.09090909090909},{"$f":"(F51-F40)/S20","v":223.90909090909091},{"$f":"(F63-F51)/T20","v":897.66666666666663},{"$f":"(F74-F63)/U20","v":446.54545454545456}]
[22,2836,23,2840,23,2846,null,null,null,null,0,222]
[11,2944,21,2963,21,2970,null,null,null,null,0,122]
[11,3070,21,3081,21,3095,null,null,null,null,0,122]
[11,3187,21,3202,21,3218,null,null,null,null,0,122]
[11,3349,21,3376,21,3380,null,null,null,null,0,122]
[22,3548,23,3554,23,3574,null,null,null,null,0,222]
[11,3673,21,3688,21,3700,null,null,null,null,0,122]
[11,3813,21,3823,21,3829,null,null,null,null,0,122]
[22,4129,23,4137,23,4160,null,null,null,null,0,222]
[11,4256,21,4269,21,4279,null,null,null,null,0,122]
[11,4374,21,4384,21,4398,null,null,null,null,0,122]
[11,4510,21,4525,21,4541,null,null,null,null,0,122]
[11,4660,21,4668,21,4675,null,null,null,null,0,122]
[22,4836,23,4842,23,4853,null,null,null,null,0,222]
[22,4963,23,4982,23,4990,null,null,null,null,0,222]
[11,5089,21,5101,21,5111,null,null,null,null,0,122]
[22,5383,23,5389,23,5396,null,null,null,null,0,222]
[11,5495,21,5502,21,5509,null,null,null,null,0,122]
[22,5804,23,5822,23,5830,null,null,null,null,0,222]
[11,5928,21,5936,21,5940,null,null,null,null,0,122]
[11,6413,21,6426,21,6432,null,null,null,null,0,122]
[22,6851,23,6866,23,6872,null,null,null,null,0,222]
[22,6981,23,6989,23,7004,null,null,null,null,0,222]
[22,7114,23,7125,23,7131,null,null,null,null,0,222]
[11,7229,21,7241,21,7244,null,null,null,null,0,122]
[22,9756,14,9822,23,9839,null,null,null,null,0,212]
[11,9937,21,9946,21,9954,null,null,null,null,0,122]
[11,12208,12,12222,14,12227,null,null,null,null,0,111]
[11,12328,21,12349,21,12355,null,null,null,null,0,122]
[11,15711,12,15732,14,15737,null,null,null,null,0,111]
[22,15858,23,15862,23,15869,null,null,null,null,0,222]
[22,15996,23,16000,23,16006,null,null,null,null,0,222]
[11,16105,21,16126,21,16132,null,null,null,null,0,122]
[22,17639,23,17645,23,17652,null,null,null,null,0,222]
[11,17759,21,17767,21,17776,null,null,null,null,0,122]
[22,19397,23,19401,23,19417,null,null,null,null,0,222]
[22,19527,23,19531,23,19541,null,null,null,null,0,222]
[11,19644,21,19652,21,19661,null,null,null,null,0,122]
[22,20456,23,20464,23,20470,null,null,null,null,0,222]
[22,20582,23,20587,23,20592,null,null,null,null,0,222]
[11,20690,21,20703,21,20707,null,null,null,null,0,122]
[22,22184,23,22187,23,22192,null,null,null,null,0,222]
[22,22306,23,22312,23,22315,null,null,null,null,0,222]
[22,22421,23,22431,23,22436,null,null,null,null,0,222]
[22,22552,23,22561,23,22574,null,null,null,null,0,222]
[11,22673,21,22685,21,22688,null,null,null,null,0,122]

{"sheet":"!LC12A2T.ayl","index":33,"n_rows":86,"n_cols":48,"rows_kept":86,"cut":false,"hidden":false,"merged":[[4,39,4,42],[5,39,5,40],[4,44,4,47],[5,44,5,45],[4,24,4,27],[5,24,5,25],[4,29,4,32],[5,29,5,30],[4,34,4,37],[5,34,5,35],[1,1,1,2],[5,13,5,14],[18,13,18,14],[19,13,19,14],[4,19,4,22],[5,19,5,20]]}
["Report for:!LC12A2T.ayl"]
["Date:","<date>"]
["Hen:","<hen>",null,null,null,"Correct Sequence",{"$f":"Start!J2","v":122},null,null,null,null,null,null,null,null,"Total Sequences in Data",{"$f":"4994-COUNTBLANK(L7:L5000)","v":80},null,null,null,null,"Total Sequences in Block Data",{"$f":"COUNTA(L7:L19)","v":13},null,null,null,"Total Sequences in Block Data",{"$f":"COUNTA(L20:L33)","v":14},null,null,null,"Total Sequences in Block Data",{"$f":"COUNTA(L34:L46)","v":13},null,null,null,"Total Sequences in Block Data",{"$f":"COUNTA(L47:L59)","v":13},null,null,null,"Total Sequences in Block Data",{"$f":"COUNTA(L60:L73)","v":14},null,null,null,"Total Sequences in Block Data",{"$f":"COUNTA(L74:L86)","v":13}]
[null,null,null,null,null,null,null,null,null,null,null,null,null,null,null,"Total Sequences in Summary",{"$f":"SUM(O7:O14)","v":80},null,null,null,null,"Total Sequences in Block Summary",{"$f":"SUM(U7:U14)","v":13},null,null,null,"Total Sequences in Block Summary",{"$f":"SUM(Z7:Z14)","v":14},null,null,null,"Total Sequences in Block Summary",{"$f":"SUM(AE7:AE14)","v":13},null,null,null,"Total Sequences in Block Summary",{"$f":"SUM(AJ7:AJ14)","v":13},null,null,null,"Total Sequences in Block Summary",{"$f":"SUM(AO7:AO14)","v":14},null,null,null,"Total Sequences in Block Summary",{"$f":"SUM(AT7:AT14)","v":13}]
[null,null,null,null,null,null,null,null,null,null,null,null,null,null,null,null,null,null,null,"Block 1",null,null,null,null,"Block 2",null,null,null,null,"Block 3",null,null,null,null,"Block 4",null,null,null,null,"Block 5",null,null,null,null,"Block 6"]
["Sequence\nComponent\n1","Time\n1","Sequence\nComponent\n2","Time\n2","Sequence\nComponent\n3","Time\n3","Sequence\nComponent\n4","Time\n4","Sequence\nComponent\n5","Time\n5","Correct?\n0=No 1=Yes","Sequence",null,"Frequency",null,"Relative Frequency","Variability",null,null,"Frequency",null,"Relative Frequency","Variability",null,"Frequency",null,"Relative Frequency","Variability",null,"Frequency",null,"Relative Frequency","Variability",null,"Frequency",null,"Relative Frequency","Variability",null,"Frequency",null,"Relative Frequency","Variability",null,"Frequency",null,"Relative Frequency","Variability"]
[22,100,23,105,23,109,null,null,null,null,0,222,null,111,{"$f":"COUNTIF($L$7:$L$500,N7)","v":2},{"$f":"O7/$Q$4","v":2.5000000000000001E-2},{"$f":"IF(P7=0,0,(P7*((LOG(P7))/LOG(2))))","v":-0.13304820237218404},null,null,{"$f":"N7","v":111},{"$f":"COUNTIF(L7:L19,T7)","v":0},{"$f":"U7/(W4-U10)","v":0},{"$f":"IF(V7=0,0,(V7*((LOG(V7))/LOG(2))))","v":0},null,{"$f":"N7","v":111},{"$f":"COUNTIF(L20:L33,Y7)","v":0},{"$f":"Z7/(AB4-Z10)","v":0},{"$f":"IF(AA7=0,0,(AA7*((LOG(AA7))/LOG(2))))","v":0},null,{"$f":"N7","v":111},{"$f":"COUNTIF(L34:L46,AD7)","v":1},{"$f":"AE7/(AG4-AE10)","v":0.125},{"$f":"IF(AF7=0,0,(AF7*((LOG(AF7))/LOG(2))))","v":-0.375},null,{"$f":"N7","v":111},{"$f":"COUNTIF(L47:L59,AI7)","v":0},{"$f":"AJ7/(AL4-AJ10)","v":0},{"$f":"IF(AK7=0,0,(AK7*((LOG(AK7))/LOG(2))))","v":0},null,{"$f":"N7","v":111},{"$f":"COUNTIF(L60:L73,AN7)","v":1},{"$f":"AO7/(AQ4-AO10)","v":0.25},{"$f":"IF(AP7=0,0,(AP7*((LOG(AP7))/LOG(2))))","v":-0.5},null,{"$f":"N7","v":111},{"$f":"COUNTIF(L74:L86,AS7)","v":0},{"$f":"AT7/(AV4-AT10)","v":0},{"$f":"IF(AU7=0,0,(AU7*((LOG(AU7))/LOG(2))))","v":0}]
[22,213,23,217,23,222,null,null,null,null,0,222,null,112,{"$f":"COUNTIF($L$7:$L$500,N8)","v":2},{"$f":"O8/$Q$4","v":2.5000000000000001E-2},{"$f":"IF(P8=0,0,(P8*((LOG(P8))/LOG(2))))","v":-0.13304820237218404},null,null,{"$f":"N8","v":112},{"$f":"COUNTIF(L7:L19,T8)","v":0},{"$f":"U8/(W4-U10)","v":0},{"$f":"IF(V8=0,0,(V8*((LOG(V8))/LOG(2))))","v":0},null,{"$f":"N8","v":112},{"$f":"COUNTIF(L20:L33,Y8)","v":0},{"$f":"Z8/(AB4-Z10)","v":0},{"$f":"IF(AA8=0,0,(AA8*((LOG(AA8))/LOG(2))))","v":0},null,{"$f":"N8","v":112},{"$f":"COUNTIF(L34:L46,AD8)","v":0},{"$f":"AE8/(AG4-AE10)","v":0},{"$f":"IF(AF8=0,0,(AF8*((LOG(AF8))/LOG(2))))","v":0},null,{"$f":"N8","v":112},{"$f":"COUNTIF(L47:L59,AI8)","v":1},{"$f":"AJ8/(AL4-AJ10)","v":0.14285714285714285},{"$f":"IF(AK8=0,0,(AK8*((LOG(AK8))/LOG(2))))","v":-0.40105070315108626},null,{"$f":"N8","v":112},{"$f":"COUNTIF(L60:L73,AN8)","v":0},{"$f":"AO8/(AQ4-AO10)","v":0},{"$f":"IF(AP8=0,0,(AP8*((LOG(AP8))/LOG(2))))","v":0},null,{"$f":"N8","v":112},{"$f":"COUNTIF(L74:L86,AS8)","v":1},{"$f":"AT8/(AV4-AT10)","v":0.33333333333333331},{"$f":"IF(AU8=0,0,(AU8*((LOG(AU8))/LOG(2))))","v":-0.52832083357371862}]
[22,325,23,337,23,344,null,null,null,null,0,222,null,121,{"$f":"COUNTIF($L$7:$L$500,N9)","v":0},{"$f":"O9/$Q$4","v":0},{"$f":"IF(P9=0,0,(P9*((LOG(P9))/LOG(2))))","v":0},null,null,{"$f":"N9","v":121},{"$f":"COUNTIF(L7:L19,T9)","v":0},{"$f":"U9/(W4-U10)","v":0},{"$f":"IF(V9=0,0,(V9*((LOG(V9))/LOG(2))))","v":0},null,{"$f":"N9","v":121},{"$f":"COUNTIF(L20:L33,Y9)","v":0},{"$f":"Z9/(AB4-Z10)","v":0},{"$f":"IF(AA9=0,0,(AA9*((LOG(AA9))/LOG(2))))","v":0},null,{"$f":"N9","v":121},{"$f":"COUNTIF(L34:L46,AD9)","v":0},{"$f":"AE9/(AG4-AE10)","v":0},{"$f":"IF(AF9=0,0,(AF9*((LOG(AF9))/LOG(2))))","v":0},null,{"$f":"N9","v":121},{"$f":"COUNTIF(L47:L59,AI9)","v":0},{"$f":"AJ9/(AL4-AJ10)","v":0},{"$f":"IF(AK9=0,0,(AK9*((LOG(AK9))/LOG(2))))","v":0},null,{"$f":"N9","v":121},{"$f":"COUNTIF(L60:L73,AN9)","v":0},{"$f":"AO9/(AQ4-AO10)","v":0},{"$f":"IF(AP9=0,0,(AP9*((LOG(AP9))/LOG(2))))","v":0},null,{"$f":"N9","v":121},{"$f":"COUNTIF(L74:L86,AS9)","v":0},{"$f":"AT9/(AV4-AT10)","v":0},{"$f":"IF(AU9=0,0,(AU9*((LOG(AU9))/LOG(2))))","v":0}]
[11,441,21,451,21,458,null,null,null,null,0,122,null,122,{"$f":"COUNTIF($L$7:$L$500,N10)","v":39},{"$f":"O10/$Q$4","v":0.48749999999999999},{"$f":"IF(P10=0,0,(P10*((LOG(P10))/LOG(2))))","v":-0.50530636456224298},null,null,{"$f":"N10","v":122},{"$f":"COUNTIF(L7:L19,T10)","v":4},null,null,null,{"$f":"N10","v":122},{"$f":"COUNTIF(L20:L33,Y10)","v":4},null,null,null,{"$f":"N10","v":122},{"$f":"COUNTIF(L34:L46,AD10)","v":5},null,null,null,{"$f":"N10","v":122},{"$f":"COUNTIF(L47:L59,AI10)","v":6},null,null,null,{"$f":"N10","v":122},{"$f":"COUNTIF(L60:L73,AN10)","v":10},null,null,null,{"$f":"N10","v":122},{"$f":"COUNTIF(L74:L86,AS10)","v":10}]
[22,1075,23,1090,23,1096,null,null,null,null,0,222,null,211,{"$f":"COUNTIF($L$7:$L$500,N11)","v":0},{"$f":"O11/$Q$4","v":0},{"$f":"IF(P11=0,0,(P11*((LOG(P11))/LOG(2))))","v":0},null,null,{"$f":"N11","v":211},{"$f":"COUNTIF(L7:L19,T11)","v":0},{"$f":"U11/(W4-U10)","v":0},{"$f":"IF(V11=0,0,(V11*((LOG(V11))/LOG(2))))","v":0},null,{"$f":"N11","v":211},{"$f":"COUNTIF(L20:L33,Y11)","v":0},{"$f":"Z11/(AB4-Z10)","v":0},{"$f":"IF(AA11=0,0,(AA11*((LOG(AA11))/LOG(2))))","v":0},null,{"$f":"N11","v":211},{"$f":"COUNTIF(L34:L46,AD11)","v":0},{"$f":"AE11/(AG4-AE10)","v":0},{"$f":"IF(AF11=0,0,(AF11*((LOG(AF11))/LOG(2))))","v":0},null,{"$f":"N11","v":211},{"$f":"COUNTIF(L47:L59,AI11)","v":0},{"$f":"AJ11/(AL4-AJ10)","v":0},{"$f":"IF(AK11=0,0,(AK11*((LOG(AK11))/LOG(2))))","v":0},null,{"$f":"N11","v":211},{"$f":"COUNTIF(L60:L73,AN11)","v":0},{"$f":"AO11/(AQ4-AO10)","v":0},{"$f":"IF(AP11=0,0,(AP11*((LOG(AP11))/LOG(2))))","v":0},null,{"$f":"N11","v":211},{"$f":"COUNTIF(L74:L86,AS11)","v":0},{"$f":"AT11/(AV4-AT10)","v":0},{"$f":"IF(AU11=0,0,(AU11*((LOG(AU11))/LOG(2))))","v":0}]
[11,1196,21,1213,21,1218,null,null,null,null,0,122,null,212,{"$f":"COUNTIF($L$7:$L$500,N12)","v":0},{"$f":"O12/$Q$4","v":0},{"$f":"IF(P12=0,0,(P12*((LOG(P12))/LOG(2))))","v":0},null,null,{"$f":"N12","v":212},{"$f":"COUNTIF(L7:L19,T12)","v":0},{"$f":"U12/(W4-U10)","v":0},{"$f":"IF(V12=0,0,(V12*((LOG(V12))/LOG(2))))","v":0},null,{"$f":"N12","v":212},{"$f":"COUNTIF(L20:L33,Y12)","v":0},{"$f":"Z12/(AB4-Z10)","v":0},{"$f":"IF(AA12=0,0,(AA12*((LOG(AA12))/LOG(2))))","v":0},null,{"$f":"N12","v":212},{"$f":"COUNTIF(L34:L46,AD12)","v":0},{"$f":"AE12/(AG4-AE10)","v":0},{"$f":"IF(AF12=0,0,(AF12*((LOG(AF12))/LOG(2))))","v":0},null,{"$f":"N12","v":212},{"$f":"COUNTIF(L47:L59,AI12)","v":0},{"$f":"AJ12/(AL4-AJ10)","v":0},{"$f":"IF(AK12=0,0,(AK12*((LOG(AK12))/LOG(2))))","v":0},null,{"$f":"N12","v":212},{"$f":"COUNTIF(L60:L73,AN12)","v":0},{"$f":"AO12/(AQ4-AO10)","v":0},{"$f":"IF(AP12=0,0,(AP12*((LOG(AP12))/LOG(2))))","v":0},null,{"$f":"N12","v":212},{"$f":"COUNTIF(L74:L86,AS12)","v":0},{"$f":"AT12/(AV4-AT10)","v":0},{"$f":"IF(AU12=0,0,(AU12*((LOG(AU12))/LOG(2))))","v":0}]
[22,3492,23,3498,23,3506,null,null,null,null,0,222,null,221,{"$f":"COUNTIF($L$7:$L$500,N13)","v":0},{"$f":"O13/$Q$4","v":0},{"$f":"IF(P13=0,0,(P13*((LOG(P13))/LOG(2))))","v":0},null,null,{"$f":"N13","v":221},{"$f":"COUNTIF(L7:L19,T13)","v":0},{"$f":"U13/(W4-U10)","v":0},{"$f":"IF(V13=0,0,(V13*((LOG(V13))/LOG(2))))","v":0},null,{"$f":"N13","v":221},{"$f":"COUNTIF(L20:L33,Y13)","v":0},{"$f":"Z13/(AB4-Z10)","v":0},{"$f":"IF(AA13=0,0,(AA13*((LOG(AA13))/LOG(2))))","v":0},null,{"$f":"N13","v":221},{"$f":"COUNTIF(L34:L46,AD13)","v":0},{"$f":"AE13/(AG4-AE10)","v":0},{"$f":"IF(AF13=0,0,(AF13*((LOG(AF13))/LOG(2))))","v":0},null,{"$f":"N13","v":221},{"$f":"COUNTIF(L47:L59,AI13)","v":0},{"$f":"AJ13/(AL4-AJ10)","v":0},{"$f":"IF(AK13=0,0,(AK13*((LOG(AK13))/LOG(2))))","v":0},null,{"$f":"N13","v":221},{"$f":"COUNTIF(L60:L73,AN13)","v":0},{"$f":"AO13/(AQ4-AO10)","v":0},{"$f":"IF(AP13=0,0,(AP13*((LOG(AP13))/LOG(2))))","v":0},null,{"$f":"N13","v":221},{"$f":"COUNTIF(L74:L86,AS13)","v":0},{"$f":"AT13/(AV4-AT10)","v":0},{"$f":"IF(AU13=0,0,(AU13*((LOG(AU13))/LOG(2))))","v":0}]
[22,3618,23,3624,23,3629,null,null,null,null,0,222,null,222,{"$f":"COUNTIF($L$7:$L$500,N14)","v":37},{"$f":"O14/$Q$4","v":0.46250000000000002},{"$f":"IF(P14=0,0,(P14*((LOG(P14))/LOG(2))))","v":-0.51451956228201579},null,null,{"$f":"N14","v":222},{"$f":"COUNTIF(L7:L19,T14)","v":9},{"$f":"U14/(W4-U10)","v":1},{"$f":"IF(V14=0,0,(V14*((LOG(V14))/LOG(2))))","v":0},null,{"$f":"N14","v":222},{"$f":"COUNTIF(L20:L33,Y14)","v":10},{"$f":"Z14/(AB4-Z10)","v":1},{"$f":"IF(AA14=0,0,(AA14*((LOG(AA14))/LOG(2))))","v":0},null,{"$f":"N14","v":222},{"$f":"COUNTIF(L34:L46,AD14)","v":7},{"$f":"AE14/(AG4-AE10)","v":0.875},{"$f":"IF(AF14=0,0,(AF14*((LOG(AF14))/LOG(2))))","v":-0.1685644431995964},null,{"$f":"N14","v":222},{"$f":"COUNTIF(L47:L59,AI14)","v":6},{"$f":"AJ14/(AL4-AJ10)","v":0.8571428571428571},{"$f":"IF(AK14=0,0,(AK14*((LOG(AK14))/LOG(2))))","v":-0.19062207543124113},null,{"$f":"N14","v":222},{"$f":"COUNTIF(L60:L73,AN14)","v":3},{"$f":"AO14/(AQ4-AO10)","v":0.75},{"$f":"IF(AP14=0,0,(AP14*((LOG(AP14))/LOG(2))))","v":-0.31127812445913283},null,{"$f":"N14","v":222},{"$f":"COUNTIF(L74:L86,AS14)","v":2},{"$f":"AT14/(AV4-AT10)","v":0.66666666666666663},{"$f":"IF(AU14=0,0,(AU14*((LOG(AU14))/LOG(2))))","v":-0.38997500048077083}]
[22,3737,23,3749,23,3754,null,null,null,null,0,222,null,null,null,{"$f":"SUM(P7:P14)","v":1},{"$f":"-SUM(Q7:Q14)","v":1.2859223315886268},null,null,null,null,{"$f":"SUM(V7:V14)","v":1},{"$f":"-SUM(W7:W14)","v":0},null,null,null,{"$f":"SUM(AA7:AA14)","v":1},{"$f":"-SUM(AB7:AB14)","v":0},null,null,null,{"$f":"SUM(AF7:AF14)","v":1},{"$f":"-SUM(AG7:AG14)","v":0.5435644431995964},null,null,null,{"$f":"SUM(AK7:AK14)","v":1},{"$f":"-SUM(AL7:AL14)","v":0.59167277858232736},null,null,null,{"$f":"SUM(AP7:AP14)","v":1},{"$f":"-SUM(AQ7:AQ14)","v":0.81127812445913283},null,null,null,{"$f":"SUM(AU7:AU14)","v":1},{"$f":"-SUM(AV7:AV14)","v":0.91829583405448945}]
[11,3853,21,3861,21,3864,null,null,null,null,0,122,null,null,null,"U=",{"$f":"Q15/(LOG(Q4)/LOG(2))","v":0.20340666839102006},null,null,null,null,"U1=",{"$f":"W15/(LOG(W4)/LOG(2))","v":0},null,null,null,"U2=",{"$f":"AB15/(LOG(AB4)/LOG(2))","v":0},null,null,null,"U3=",{"$f":"AG15/(LOG(AG4)/LOG(2))","v":0.14689185194257259},null,null,null,"U4=",{"$f":"AL15/(LOG(AL4)/LOG(2))","v":0.15989255970897234},null,null,null,"U5=",{"$f":"AQ15/(LOG(AQ4)/LOG(2))","v":0.21308182217503771},null,null,null,"U6=",{"$f":"AV15/(LOG(AV4)/LOG(2))","v":0.24815857141318151}]
[22,4103,23,4111,23,4117,null,null,null,null,0,222]
[22,4230,23,4233,23,4244,null,null,null,null,0,222]
[11,4343,21,4350,21,4353,null,null,null,null,0,122,null,"Total Target Seq"]
[22,4524,23,4530,23,4540,null,null,null,null,0,222,null,{"$f":"COUNTIF(L7:L86,G3)","v":39},null,13,14,13,13,14,13]
[22,4647,23,4665,23,4674,null,null,null,null,0,222,null,null,null,"% of reinforcement given in 6 equal intervals based on number of trials "]
[22,4782,23,4785,23,4790,null,null,null,null,0,222,null,null,null,"%_1","%_2","%_3","%_4","%_5","%_6"]
[11,4890,21,4898,21,4901,null,null,null,null,0,122,null,null,"target sequence",{"$f":"$G$3","v":122},{"$f":"$G$3","v":122},{"$f":"$G$3","v":122},{"$f":"$G$3","v":122},{"$f":"$G$3","v":122},{"$f":"$G$3","v":122}]
[22,5667,23,5668,23,5673,null,null,null,null,0,222,null,null,"total reinforcement",{"$f":"U10","v":4},{"$f":"Z10","v":4},{"$f":"AE10","v":5},{"$f":"AJ10","v":6},{"$f":"AO10","v":10},{"$f":"AT10","v":10}]
[11,5772,21,5791,21,5805,null,null,null,null,0,122,null,null,"% target"]
[22,7780,23,7784,23,7789,null,null,null,null,0,222,null,null,"CCRF"]
[22,7897,23,7905,23,7911,null,null,null,null,0,222,null,null,"% CCRf"]
[11,8008,21,8025,21,8032,null,null,null,null,0,122,null,null,"average response rate",{"$f":"F19/P20","v":334.84615384615387},{"$f":"(F33-F19)/Q20","v":491.57142857142856},{"$f":"(F46-F33)/R20","v":254.07692307692307},{"$f":"(F59-F46)/S20","v":154.92307692307693},{"$f":"(F73-F59)/T20","v":156.42857142857142},{"$f":"(F86-F73)/U20","v":154}]
[22,9311,23,9314,23,9334,null,null,null,null,0,222]
[11,9448,21,9468,21,9475,null,null,null,null,0,122]
[22,10962,23,10970,23,10990,null,null,null,null,0,222]
[22,11099,23,11103,23,11109,null,null,null,null,0,222]
[22,11219,23,11224,23,11235,null,null,null,null,0,222]
[11,11333,21,11341,21,11351,null,null,null,null,0,122]
[22,12512,23,12520,23,12526,null,null,null,null,0,222]
[22,12640,23,12644,23,12652,null,null,null,null,0,222]
[22,12768,23,12773,23,12778,null,null,null,null,0,222]
[11,12876,21,12883,21,12893,null,null,null,null,0,122]
[22,13265,23,13273,23,13281,null,null,null,null,0,222]
[11,13396,12,13402,14,13408,null,null,null,null,0,111]
[11,13623,21,13631,21,13638,null,null,null,null,0,122]
[22,13920,23,13930,23,13935,null,null,null,null,0,222]
[22,14048,23,14063,23,14074,null,null,null,null,0,222]
[11,14173,21,14186,21,14194,null,null,null,null,0,122]
[11,14331,21,14340,21,14350,null,null,null,null,0,122]
[22,14520,23,14527,23,14538,null,null,null,null,0,222]
[22,14652,23,14661,23,14667,null,null,null,null,0,222]
[22,14774,23,14778,23,14786,null,null,null,null,0,222]
[11,14885,21,14893,21,14901,null,null,null,null,0,122]
[22,15023,23,15033,23,15039,null,null,null,null,0,222]
[11,15138,12,15141,23,15154,null,null,null,null,0,112]
[11,15268,21,15278,21,15281,null,null,null,null,0,122]
[11,15421,21,15430,21,15438,null,null,null,null,0,122]
[11,15572,21,15593,21,15608,null,null,null,null,0,122]
[22,15906,23,15914,23,15923,null,null,null,null,0,222]
[11,16023,21,16041,21,16049,null,null,null,null,0,122]
[22,16220,23,16228,23,16236,null,null,null,null,0,222]
[11,16335,21,16345,21,16350,null,null,null,null,0,122]
[22,16538,23,16547,23,16552,null,null,null,null,0,222]
[11,16658,21,16678,21,16684,null,null,null,null,0,122]
[11,16789,21,16808,21,16817,null,null,null,null,0,122]
[11,17016,21,17026,21,17035,null,null,null,null,0,122]
[11,17173,21,17183,21,17187,null,null,null,null,0,122]
[11,17334,21,17343,21,17351,null,null,null,null,0,122]
[11,17501,21,17516,21,17527,null,null,null,null,0,122]
[11,17691,21,17701,21,17704,null,null,null,null,0,122]
[11,17842,12,17853,14,17858,null,null,null,null,0,111]
[11,17988,21,18009,21,18023,null,null,null,null,0,122]
[22,18181,23,18185,23,18195,null,null,null,null,0,222]
[22,18309,23,18313,23,18323,null,null,null,null,0,222]
[11,18420,21,18433,21,18435,null,null,null,null,0,122]
[11,18549,21,18564,21,18574,null,null,null,null,0,122]
[22,18730,23,18736,23,18742,null,null,null,null,0,222]
[11,18871,21,18885,21,18889,null,null,null,null,0,122]
[22,19063,23,19084,23,19090,null,null,null,null,0,222]
[11,19193,21,19200,21,19203,null,null,null,null,0,122]
[11,19357,21,19377,21,19388,null,null,null,null,0,122]
[11,19494,12,19502,23,19516,null,null,null,null,0,112]
[11,19614,21,19626,21,19630,null,null,null,null,0,122]
[22,19744,23,19753,23,19758,null,null,null,null,0,222]
[11,19856,21,19865,21,19873,null,null,null,null,0,122]
[11,20018,21,20029,21,20036,null,null,null,null,0,122]
[11,20227,21,20237,21,20247,null,null,null,null,0,122]
[11,20370,21,20380,21,20383,null,null,null,null,0,122]
[11,20602,21,20613,21,20618,null,null,null,null,0,122]
[11,20722,21,20738,21,20744,null,null,null,null,1,122]

{"sheet":"!LC13A4T.ayl","index":34,"n_rows":91,"n_cols":48,"rows_kept":91,"cut":false,"hidden":false,"merged":[[4,39,4,42],[5,39,5,40],[4,44,4,47],[5,44,5,45],[4,24,4,27],[5,24,5,25],[4,29,4,32],[5,29,5,30],[4,34,4,37],[5,34,5,35],[1,1,1,2],[5,13,5,14],[18,13,18,14],[19,13,19,14],[4,19,4,22],[5,19,5,20]]}
["Report for:!LC13A4T.ayl"]
["Date:","<date>"]
["Hen:","<hen>",null,null,null,"Correct Sequence",{"$f":"Start!J2","v":122},null,null,null,null,null,null,null,null,"Total Sequences in Data",{"$f":"4994-COUNTBLANK(L7:L5000)","v":85},null,null,null,null,"Total Sequences in Block Data",{"$f":"COUNTA(L7:L20)","v":14},null,null,null,"Total Sequences in Block Data",{"$f":"COUNTA(L21:L34)","v":14},null,null,null,"Total Sequences in Block Data",{"$f":"COUNTA(L35:L49)","v":15},null,null,null,"Total Sequences in Block Data",{"$f":"COUNTA(L50:L63)","v":14},null,null,null,"Total Sequences in Block Data",{"$f":"COUNTA(L64:L77)","v":14},null,null,null,"Total Sequences in Block Data",{"$f":"COUNTA(L78:L91)","v":14}]
[null,null,null,null,null,null,null,null,null,null,null,null,null,null,null,"Total Sequences in Summary",{"$f":"SUM(O7:O14)","v":85},null,null,null,null,"Total Sequences in Block Summary",{"$f":"SUM(U7:U14)","v":14},null,null,null,"Total Sequences in Block Summary",{"$f":"SUM(Z7:Z14)","v":14},null,null,null,"Total Sequences in Block Summary",{"$f":"SUM(AE7:AE14)","v":15},null,null,null,"Total Sequences in Block Summary",{"$f":"SUM(AJ7:AJ14)","v":14},null,null,null,"Total Sequences in Block Summary",{"$f":"SUM(AO7:AO14)","v":14},null,null,null,"Total Sequences in Block Summary",{"$f":"SUM(AT7:AT14)","v":14}]
[null,null,null,null,null,null,null,null,null,null,null,null,null,null,null,null,null,null,null,"Block 1",null,null,null,null,"Block 2",null,null,null,null,"Block 3",null,null,null,null,"Block 4",null,null,null,null,"Block 5",null,null,null,null,"Block 6"]
["Sequence\nComponent\n1","Time\n1","Sequence\nComponent\n2","Time\n2","Sequence\nComponent\n3","Time\n3","Sequence\nComponent\n4","Time\n4","Sequence\nComponent\n5","Time\n5","Correct?\n0=No 1=Yes","Sequence",null,"Frequency",null,"Relative Frequency","Variability",null,null,"Frequency",null,"Relative Frequency","Variability",null,"Frequency",null,"Relative Frequency","Variability",null,"Frequency",null,"Relative Frequency","Variability",null,"Frequency",null,"Relative Frequency","Variability",null,"Frequency",null,"Relative Frequency","Variability",null,"Frequency",null,"Relative Frequency","Variability"]
[22,19,23,29,23,32,null,null,null,null,0,222,null,111,{"$f":"COUNTIF($L$7:$L$500,N7)","v":0},{"$f":"O7/$Q$4","v":0},{"$f":"IF(P7=0,0,(P7*((LOG(P7))/LOG(2))))","v":0},null,null,{"$f":"N7","v":111},{"$f":"COUNTIF(L7:L20,T7)","v":0},{"$f":"U7/(W4-U10)","v":0},{"$f":"IF(V7=0,0,(V7*((LOG(V7))/LOG(2))))","v":0},null,{"$f":"N7","v":111},{"$f":"COUNTIF(L21:L34,Y7)","v":0},{"$f":"Z7/(AB4-Z10)","v":0},{"$f":"IF(AA7=0,0,(AA7*((LOG(AA7))/LOG(2))))","v":0},null,{"$f":"N7","v":111},{"$f":"COUNTIF(L35:L49,AD7)","v":0},{"$f":"AE7/(AG4-AE10)","v":0},{"$f":"IF(AF7=0,0,(AF7*((LOG(AF7))/LOG(2))))","v":0},null,{"$f":"N7","v":111},{"$f":"COUNTIF(L50:L63,AI7)","v":0},{"$f":"AJ7/(AL4-AJ10)","v":0},{"$f":"IF(AK7=0,0,(AK7*((LOG(AK7))/LOG(2))))","v":0},null,{"$f":"N7","v":111},{"$f":"COUNTIF(L64:L77,AN7)","v":0},{"$f":"AO7/(AQ4-AO10)","v":0},{"$f":"IF(AP7=0,0,(AP7*((LOG(AP7))/LOG(2))))","v":0},null,{"$f":"N7","v":111},{"$f":"COUNTIF(L78:L91,AS7)","v":0},{"$f":"AT7/(AV4-AT10)","v":0},{"$f":"IF(AU7=0,0,(AU7*((LOG(AU7))/LOG(2))))","v":0}]
[22,143,23,149,23,158,null,null,null,null,0,222,null,112,{"$f":"COUNTIF($L$7:$L$500,N8)","v":0},{"$f":"O8/$Q$4","v":0},{"$f":"IF(P8=0,0,(P8*((LOG(P8))/LOG(2))))","v":0},null,null,{"$f":"N8","v":112},{"$f":"COUNTIF(L7:L20,T8)","v":0},{"$f":"U8/(W4-U10)","v":0},{"$f":"IF(V8=0,0,(V8*((LOG(V8))/LOG(2))))","v":0},null,{"$f":"N8","v":112},{"$f":"COUNTIF(L21:L34,Y8)","v":0},{"$f":"Z8/(AB4-Z10)","v":0},{"$f":"IF(AA8=0,0,(AA8*((LOG(AA8))/LOG(2))))","v":0},null,{"$f":"N8","v":112},{"$f":"COUNTIF(L35:L49,AD8)","v":0},{"$f":"AE8/(AG4-AE10)","v":0},{"$f":"IF(AF8=0,0,(AF8*((LOG(AF8))/LOG(2))))","v":0},null,{"$f":"N8","v":112},{"$f":"COUNTIF(L50:L63,AI8)","v":0},{"$f":"AJ8/(AL4-AJ10)","v":0},{"$f":"IF(AK8=0,0,(AK8*((LOG(AK8))/LOG(2))))","v":0},null,{"$f":"N8","v":112},{"$f":"COUNTIF(L64:L77,AN8)","v":0},{"$f":"AO8/(AQ4-AO10)","v":0},{"$f":"IF(AP8=0,0,(AP8*((LOG(AP8))/LOG(2))))","v":0},null,{"$f":"N8","v":112},{"$f":"COUNTIF(L78:L91,AS8)","v":0},{"$f":"AT8/(AV4-AT10)","v":0},{"$f":"IF(AU8=0,0,(AU8*((LOG(AU8))/LOG(2))))","v":0}]
[22,263,23,267,23,273,null,null,null,null,0,222,null,121,{"$f":"COUNTIF($L$7:$L$500,N9)","v":0},{"$f":"O9/$Q$4","v":0},{"$f":"IF(P9=0,0,(P9*((LOG(P9))/LOG(2))))","v":0},null,null,{"$f":"N9","v":121},{"$f":"COUNTIF(L7:L20,T9)","v":0},{"$f":"U9/(W4-U10)","v":0},{"$f":"IF(V9=0,0,(V9*((LOG(V9))/LOG(2))))","v":0},null,{"$f":"N9","v":121},{"$f":"COUNTIF(L21:L34,Y9)","v":0},{"$f":"Z9/(AB4-Z10)","v":0},{"$f":"IF(AA9=0,0,(AA9*((LOG(AA9))/LOG(2))))","v":0},null,{"$f":"N9","v":121},{"$f":"COUNTIF(L35:L49,AD9)","v":0},{"$f":"AE9/(AG4-AE10)","v":0},{"$f":"IF(AF9=0,0,(AF9*((LOG(AF9))/LOG(2))))","v":0},null,{"$f":"N9","v":121},{"$f":"COUNTIF(L50:L63,AI9)","v":0},{"$f":"AJ9/(AL4-AJ10)","v":0},{"$f":"IF(AK9=0,0,(AK9*((LOG(AK9))/LOG(2))))","v":0},null,{"$f":"N9","v":121},{"$f":"COUNTIF(L64:L77,AN9)","v":0},{"$f":"AO9/(AQ4-AO10)","v":0},{"$f":"IF(AP9=0,0,(AP9*((LOG(AP9))/LOG(2))))","v":0},null,{"$f":"N9","v":121},{"$f":"COUNTIF(L78:L91,AS9)","v":0},{"$f":"AT9/(AV4-AT10)","v":0},{"$f":"IF(AU9=0,0,(AU9*((LOG(AU9))/LOG(2))))","v":0}]
[22,380,23,384,23,390,null,null,null,null,0,222,null,122,{"$f":"COUNTIF($L$7:$L$500,N10)","v":1},{"$f":"O10/$Q$4","v":1.1764705882352941E-2},{"$f":"IF(P10=0,0,(P10*((LOG(P10))/LOG(2))))","v":-7.5404599248678844E-2},null,null,{"$f":"N10","v":122},{"$f":"COUNTIF(L7:L20,T10)","v":0},null,null,null,{"$f":"N10","v":122},{"$f":"COUNTIF(L21:L34,Y10)","v":0},null,null,null,{"$f":"N10","v":122},{"$f":"COUNTIF(L35:L49,AD10)","v":0},null,null,null,{"$f":"N10","v":122},{"$f":"COUNTIF(L50:L63,AI10)","v":0},null,null,null,{"$f":"N10","v":122},{"$f":"COUNTIF(L64:L77,AN10)","v":1},null,null,null,{"$f":"N10","v":122},{"$f":"COUNTIF(L78:L91,AS10)","v":0}]
[22,503,23,507,23,512,null,null,null,null,0,222,null,211,{"$f":"COUNTIF($L$7:$L$500,N11)","v":0},{"$f":"O11/$Q$4","v":0},{"$f":"IF(P11=0,0,(P11*((LOG(P11))/LOG(2))))","v":0},null,null,{"$f":"N11","v":211},{"$f":"COUNTIF(L7:L20,T11)","v":0},{"$f":"U11/(W4-U10)","v":0},{"$f":"IF(V11=0,0,(V11*((LOG(V11))/LOG(2))))","v":0},null,{"$f":"N11","v":211},{"$f":"COUNTIF(L21:L34,Y11)","v":0},{"$f":"Z11/(AB4-Z10)","v":0},{"$f":"IF(AA11=0,0,(AA11*((LOG(AA11))/LOG(2))))","v":0},null,{"$f":"N11","v":211},{"$f":"COUNTIF(L35:L49,AD11)","v":0},{"$f":"AE11/(AG4-AE10)","v":0},{"$f":"IF(AF11=0,0,(AF11*((LOG(AF11))/LOG(2))))","v":0},null,{"$f":"N11","v":211},{"$f":"COUNTIF(L50:L63,AI11)","v":0},{"$f":"AJ11/(AL4-AJ10)","v":0},{"$f":"IF(AK11=0,0,(AK11*((LOG(AK11))/LOG(2))))","v":0},null,{"$f":"N11","v":211},{"$f":"COUNTIF(L64:L77,AN11)","v":0},{"$f":"AO11/(AQ4-AO10)","v":0},{"$f":"IF(AP11=0,0,(AP11*((LOG(AP11))/LOG(2))))","v":0},null,{"$f":"N11","v":211},{"$f":"COUNTIF(L78:L91,AS11)","v":0},{"$f":"AT11/(AV4-AT10)","v":0},{"$f":"IF(AU11=0,0,(AU11*((LOG(AU11))/LOG(2))))","v":0}]
[22,622,23,628,23,634,null,null,null,null,0,222,null,212,{"$f":"COUNTIF($L$7:$L$500,N12)","v":0},{"$f":"O12/$Q$4","v":0},{"$f":"IF(P12=0,0,(P12*((LOG(P12))/LOG(2))))","v":0},null,null,{"$f":"N12","v":212},{"$f":"COUNTIF(L7:L20,T12)","v":0},{"$f":"U12/(W4-U10)","v":0},{"$f":"IF(V12=0,0,(V12*((LOG(V12))/LOG(2))))","v":0},null,{"$f":"N12","v":212},{"$f":"COUNTIF(L21:L34,Y12)","v":0},{"$f":"Z12/(AB4-Z10)","v":0},{"$f":"IF(AA12=0,0,(AA12*((LOG(AA12))/LOG(2))))","v":0},null,{"$f":"N12","v":212},{"$f":"COUNTIF(L35:L49,AD12)","v":0},{"$f":"AE12/(AG4-AE10)","v":0},{"$f":"IF(AF12=0,0,(AF12*((LOG(AF12))/LOG(2))))","v":0},null,{"$f":"N12","v":212},{"$f":"COUNTIF(L50:L63,AI12)","v":0},{"$f":"AJ12/(AL4-AJ10)","v":0},{"$f":"IF(AK12=0,0,(AK12*((LOG(AK12))/LOG(2))))","v":0},null,{"$f":"N12","v":212},{"$f":"COUNTIF(L64:L77,AN12)","v":0},{"$f":"AO12/(AQ4-AO10)","v":0},{"$f":"IF(AP12=0,0,(AP12*((LOG(AP12))/LOG(2))))","v":0},null,{"$f":"N12","v":212},{"$f":"COUNTIF(L78:L91,AS12)","v":0},{"$f":"AT12/(AV4-AT10)","v":0},{"$f":"IF(AU12=0,0,(AU12*((LOG(AU12))/LOG(2))))","v":0}]
[22,746,23,754,23,760,null,null,null,null,0,222,null,221,{"$f":"COUNTIF($L$7:$L$500,N13)","v":0},{"$f":"O13/$Q$4","v":0},{"$f":"IF(P13=0,0,(P13*((LOG(P13))/LOG(2))))","v":0},null,null,{"$f":"N13","v":221},{"$f":"COUNTIF(L7:L20,T13)","v":0},{"$f":"U13/(W4-U10)","v":0},{"$f":"IF(V13=0,0,(V13*((LOG(V13))/LOG(2))))","v":0},null,{"$f":"N13","v":221},{"$f":"COUNTIF(L21:L34,Y13)","v":0},{"$f":"Z13/(AB4-Z10)","v":0},{"$f":"IF(AA13=0,0,(AA13*((LOG(AA13))/LOG(2))))","v":0},null,{"$f":"N13","v":221},{"$f":"COUNTIF(L35:L49,AD13)","v":0},{"$f":"AE13/(AG4-AE10)","v":0},{"$f":"IF(AF13=0,0,(AF13*((LOG(AF13))/LOG(2))))","v":0},null,{"$f":"N13","v":221},{"$f":"COUNTIF(L50:L63,AI13)","v":0},{"$f":"AJ13/(AL4-AJ10)","v":0},{"$f":"IF(AK13=0,0,(AK13*((LOG(AK13))/LOG(2))))","v":0},null,{"$f":"N13","v":221},{"$f":"COUNTIF(L64:L77,AN13)","v":0},{"$f":"AO13/(AQ4-AO10)","v":0},{"$f":"IF(AP13=0,0,(AP13*((LOG(AP13))/LOG(2))))","v":0},null,{"$f":"N13","v":221},{"$f":"COUNTIF(L78:L91,AS13)","v":0},{"$f":"AT13/(AV4-AT10)","v":0},{"$f":"IF(AU13=0,0,(AU13*((LOG(AU13))/LOG(2))))","v":0}]
[22,873,23,876,23,881,null,null,null,null,0,222,null,222,{"$f":"COUNTIF($L$7:$L$500,N14)","v":84},{"$f":"O14/$Q$4","v":0.9882352941176471},{"$f":"IF(P14=0,0,(P14*((LOG(P14))/LOG(2))))","v":-1.6872648495895037E-2},null,null,{"$f":"N14","v":222},{"$f":"COUNTIF(L7:L20,T14)","v":14},{"$f":"U14/(W4-U10)","v":1},{"$f":"IF(V14=0,0,(V14*((LOG(V14))/LOG(2))))","v":0},null,{"$f":"N14","v":222},{"$f":"COUNTIF(L21:L34,Y14)","v":14},{"$f":"Z14/(AB4-Z10)","v":1},{"$f":"IF(AA14=0,0,(AA14*((LOG(AA14))/LOG(2))))","v":0},null,{"$f":"N14","v":222},{"$f":"COUNTIF(L35:L49,AD14)","v":15},{"$f":"AE14/(AG4-AE10)","v":1},{"$f":"IF(AF14=0,0,(AF14*((LOG(AF14))/LOG(2))))","v":0},null,{"$f":"N14","v":222},{"$f":"COUNTIF(L50:L63,AI14)","v":14},{"$f":"AJ14/(AL4-AJ10)","v":1},{"$f":"IF(AK14=0,0,(AK14*((LOG(AK14))/LOG(2))))","v":0},null,{"$f":"N14","v":222},{"$f":"COUNTIF(L64:L77,AN14)","v":13},{"$f":"AO14/(AQ4-AO10)","v":1},{"$f":"IF(AP14=0,0,(AP14*((LOG(AP14))/LOG(2))))","v":0},null,{"$f":"N14","v":222},{"$f":"COUNTIF(L78:L91,AS14)","v":14},{"$f":"AT14/(AV4-AT10)","v":1},{"$f":"IF(AU14=0,0,(AU14*((LOG(AU14))/LOG(2))))","v":0}]
[22,995,23,1000,23,1011,null,null,null,null,0,222,null,null,null,{"$f":"SUM(P7:P14)","v":1},{"$f":"-SUM(Q7:Q14)","v":9.2277247744573881E-2},null,null,null,null,{"$f":"SUM(V7:V14)","v":1},{"$f":"-SUM(W7:W14)","v":0},null,null,null,{"$f":"SUM(AA7:AA14)","v":1},{"$f":"-SUM(AB7:AB14)","v":0},null,null,null,{"$f":"SUM(AF7:AF14)","v":1},{"$f":"-SUM(AG7:AG14)","v":0},null,null,null,{"$f":"SUM(AK7:AK14)","v":1},{"$f":"-SUM(AL7:AL14)","v":0},null,null,null,{"$f":"SUM(AP7:AP14)","v":1},{"$f":"-SUM(AQ7:AQ14)","v":0},null,null,null,{"$f":"SUM(AU7:AU14)","v":1},{"$f":"-SUM(AV7:AV14)","v":0}]
[22,1114,23,1119,23,1122,null,null,null,null,0,222,null,null,null,"U=",{"$f":"Q15/(LOG(Q4)/LOG(2))","v":1.4397194470428127E-2},null,null,null,null,"U1=",{"$f":"W15/(LOG(W4)/LOG(2))","v":0},null,null,null,"U2=",{"$f":"AB15/(LOG(AB4)/LOG(2))","v":0},null,null,null,"U3=",{"$f":"AG15/(LOG(AG4)/LOG(2))","v":0},null,null,null,"U4=",{"$f":"AL15/(LOG(AL4)/LOG(2))","v":0},null,null,null,"U5=",{"$f":"AQ15/(LOG(AQ4)/LOG(2))","v":0},null,null,null,"U6=",{"$f":"AV15/(LOG(AV4)/LOG(2))","v":0}]
[22,1286,23,1294,23,1301,null,null,null,null,0,222]
[22,1408,23,1412,23,1415,null,null,null,null,0,222]
[22,1522,23,1525,23,1537,null,null,null,null,0,222,null,"Total Target Seq"]
[22,1652,23,1656,23,1673,null,null,null,null,0,222,null,{"$f":"COUNTIF(L7:L91,G3)","v":1},null,14,14,15,14,14,14]
[22,1785,23,1789,23,1796,null,null,null,null,0,222,null,null,null,"% of reinforcement given in 6 equal intervals based on number of trials "]
[22,1904,23,1907,23,1912,null,null,null,null,0,222,null,null,null,"%_1","%_2","%_3","%_4","%_5","%_6"]
[22,2032,23,2036,23,2044,null,null,null,null,0,222,null,null,"target sequence",{"$f":"$G$3","v":122},{"$f":"$G$3","v":122},{"$f":"$G$3","v":122},{"$f":"$G$3","v":122},{"$f":"$G$3","v":122},{"$f":"$G$3","v":122}]
[22,2164,23,2173,23,2184,null,null,null,null,0,222,null,null,"total reinforcement",{"$f":"U10","v":0},{"$f":"Z10","v":0},{"$f":"AE10","v":0},{"$f":"AJ10","v":0},{"$f":"AO10","v":1},{"$f":"AT10","v":0}]
[22,2301,23,2302,23,2306,null,null,null,null,0,222,null,null,"% target"]
[22,2415,23,2419,23,2423,null,null,null,null,0,222,null,null,"CCRF"]
[22,2542,23,2545,23,2550,null,null,null,null,0,222,null,null,"% CCRf"]
[22,2663,23,2668,23,2677,null,null,null,null,0,222,null,null,"average response rate",{"$f":"F20/P20","v":119.5},{"$f":"(F34-F20)/Q20","v":136.42857142857142},{"$f":"(F49-F34)/R20","v":166.53333333333333},{"$f":"(F63-F49)/S20","v":700.21428571428567},{"$f":"(F77-F63)/T20","v":421.35714285714283},{"$f":"(F91-F77)/U20","v":146.07142857142858}]
[22,2801,23,2810,23,2818,null,null,null,null,0,222]
[22,2944,23,2951,23,2962,null,null,null,null,0,222]
[22,3148,23,3152,23,3158,null,null,null,null,0,222]
[22,3287,23,3291,23,3295,null,null,null,null,0,222]
[22,3424,23,3434,23,3446,null,null,null,null,0,222]
[22,3576,23,3578,23,3583,null,null,null,null,0,222]
[22,3725,23,3729,23,3734,null,null,null,null,0,222]
[22,3854,23,3859,23,3872,null,null,null,null,0,222]
[22,4019,23,4023,23,4027,null,null,null,null,0,222]
[22,4154,23,4158,23,4166,null,null,null,null,0,222]
[22,4289,23,4319,23,4329,null,null,null,null,0,222]
[22,4455,23,4493,23,4501,null,null,null,null,0,222]
[22,4665,23,4670,23,4675,null,null,null,null,0,222]
[22,4844,23,4847,23,4853,null,null,null,null,0,222]
[22,4997,23,5001,23,5026,null,null,null,null,0,222]
[22,5174,23,5179,23,5187,null,null,null,null,0,222]
[22,5323,23,5327,23,5333,null,null,null,null,0,222]
[22,5472,23,5478,23,5509,null,null,null,null,0,222]
[22,5711,23,5719,23,5725,null,null,null,null,0,222]
[22,5865,23,5885,23,5891,null,null,null,null,0,222]
[22,6071,23,6076,23,6081,null,null,null,null,0,222]
[22,6211,23,6216,23,6223,null,null,null,null,0,222]
[22,6349,23,6356,23,6362,null,null,null,null,0,222]
[22,6486,23,6490,23,6496,null,null,null,null,0,222]
[22,6646,23,6685,23,6816,null,null,null,null,0,222]
[22,7401,23,7405,23,7410,null,null,null,null,0,222]
[22,7520,23,7524,23,7530,null,null,null,null,0,222]
[22,7638,23,7655,23,7692,null,null,null,null,0,222]
[22,8176,23,8202,23,8208,null,null,null,null,0,222]
[22,8435,23,8479,23,8962,null,null,null,null,0,222]
[22,9949,23,9974,23,13003,null,null,null,null,0,222]
[22,15112,23,15116,23,15121,null,null,null,null,0,222]
[22,15229,23,15233,23,15240,null,null,null,null,0,222]
[22,15395,23,15401,23,15408,null,null,null,null,0,222]
[22,15870,23,15876,23,15884,null,null,null,null,0,222]
[22,17468,23,17473,23,17543,null,null,null,null,0,222]
[22,18259,23,18264,23,18371,null,null,null,null,0,222]
[11,19514,21,19523,21,20222,null,null,null,null,0,122]
[22,20367,23,20373,23,20383,null,null,null,null,0,222]
[22,20494,23,20499,23,20506,null,null,null,null,0,222]
[22,20612,23,20616,23,20620,null,null,null,null,0,222]
[22,20732,23,20752,23,20756,null,null,null,null,0,222]
[22,20937,23,20946,23,20953,null,null,null,null,0,222]
[22,21062,23,21065,23,21070,null,null,null,null,0,222]
[22,21180,23,21208,23,21214,null,null,null,null,0,222]
[22,21336,23,21339,23,21344,null,null,null,null,0,222]
[22,21492,23,21496,23,21500,null,null,null,null,0,222]
[22,21611,23,21618,23,21628,null,null,null,null,0,222]
[22,21775,23,21778,23,21783,null,null,null,null,0,222]
[22,21912,23,21916,23,21921,null,null,null,null,0,222]
[22,22036,23,22039,23,22044,null,null,null,null,0,222]
[22,22151,23,22157,23,22164,null,null,null,null,0,222]
[22,22278,23,22282,23,22287,null,null,null,null,0,222]
[22,22397,23,22402,23,22408,null,null,null,null,0,222]
[22,22685,23,22689,23,22692,null,null,null,null,0,222]
[22,22834,23,22840,23,22845,null,null,null,null,0,222]
[22,22964,23,22968,23,22974,null,null,null,null,0,222]
[22,23114,23,23117,23,23122,null,null,null,null,0,222]
[22,23257,23,23260,23,23265,null,null,null,null,0,222]
[22,23366,23,23385,23,23392,null,null,null,null,0,222]
[22,23559,23,23563,23,23570,null,null,null,null,0,222]
[22,23684,23,23689,23,23696,null,null,null,null,0,222]
[22,23820,23,23825,23,23828,null,null,null,null,0,222]