{"text_format":"1","workbook":"xlsx","n_sheets":34,"sheets":["Sample Report","Summary","Start","!L82784T.ayl","!L82890T.ayl","!L829A4T.ayl","!L830A5T.ayl","!L831A2T.ayl","!L901A4T.ayl","!L90294T.ayl","!L903A4T.ayl","!L905A4T.ayl","!L906A4T.ayl","!L907A4T.ayl","!L908A3T.ayl","!L90995T.ayl","!L91092T.ayl","!L91191T.ayl","!L912A5T.ayl","!L91392T.ayl","!L914A1T.ayl","!L915A3T.ayl","!L916A1T.ayl","!L917A4T.ayl","!L919B1T.ayl","!L920A0T.ayl","!L922953..Ta","!L923A53..Ta","!L924A03..Ta","!L925943..Ta","!L927913..Ta","!L928923..Ta","!L929843..Ta","!L930853..Ta"],"not_rendered":{"charts":0,"images":0,"macros":1,"external_links":0,"defined_names":0,"comments":0,"pivot_tables":0},"unopened":[],"bounds":{"document_bytes":16777216,"sheet_cells":100000,"rows_first":2000,"rows_last":500,"rows_between":2000,"halvings":0,"cell_chars":16384,"cell_head_chars":4096},"cells_cut":0,"cells_raw":0,"read":"whole","date_system":"1900"}

{"sheet":"Sample Report","index":0,"n_rows":12,"n_cols":11,"rows_kept":12,"cut":false,"hidden":true,"merged":[[7,0,7,6]]}
[]
["Date"]
["Hen"]
["Program"]
["Start at 999999"]
["Sequence component 1","Time 1","Seqeunce Component 2","Time 2","Seqeunce Component 3","Time 3","Correct   0 = No 1=Yes",null,null,"Seqeunce","Time"]
[12,7,12,42,13,18,"if 77 new line,                                  if 31 or 41 = yes new line on 77, ",null,null,"=string of Seqeunce compponent 1, 2 & 3","=time 3"]
["This continues until ther is a 1 on its own to indicate start of summary data"]
[null,null,null,null,null,null,null,null,null,"10-19 =1"]
["Summary Data ",null,null,null,null,null,null,null,null,"20-29 =2"]
["Correct","Incorrect","Rft","total","Av Correct","Av Incorrect","Percent correct","Time",null,"in this example the seqeunce would be 111"]
[40,33,40,73,23.95,15,54,806]

{"sheet":"Summary","index":1,"n_rows":33,"n_cols":24,"rows_kept":33,"cut":false,"hidden":false,"merged":[]}
[]
["Day","Date","Average Response Rate","Target %","RF for non correct sequence","U Value",null,null,null,null,"Block 1","Block 2","Block 3","Block 4","Block 5","Block 6"]
[1,{"$f":"'!L82784T.ayl'!B2:C2","v":"<date>"},{"$f":"('!L82784T.ayl'!F178/60)/'!L82784T.ayl'!Q3","v":2.3034682080924855},{"$f":"'!L82784T.ayl'!N20/'!L82784T.ayl'!Q3","v":0},{"$f":"SUM('!L82784T.ayl'!L20:Q20)/'!L82784T.ayl'!Q3","v":1.6184971098265897},{"$f":"'!L82784T.ayl'!Q16","v":0.1525779244876955},null,null,null,"Average Response Rate",{"$f":"AVERAGE(C3:C7)","v":2.1149598687459026},{"$f":"AVERAGE(C8:C12)","v":2.0078042088149686},{"$f":"AVERAGE(C13:C17)","v":2.4295603127969705},{"$f":"AVERAGE(C18:C22)","v":2.4657188423450371},{"$f":"AVERAGE(C23:C27)","v":2.0028016194461977},{"$f":"AVERAGE(C28:C32)","v":1.9435605517924184}]
[2,{"$f":"'!L82890T.ayl'!B2:C2","v":"<date>"},{"$f":"('!L82890T.ayl'!F182/60)/'!L82890T.ayl'!Q3","v":2.2551136363636362},{"$f":"'!L82890T.ayl'!N20/'!L82890T.ayl'!Q3","v":0},{"$f":"SUM('!L82890T.ayl'!L20:Q20)/'!L82890T.ayl'!Q3","v":1.0284090909090908},{"$f":"'!L82890T.ayl'!Q16","v":0.16842217852199814},null,null,null,"Target %",{"$f":"AVERAGE(D3:D7)","v":0},{"$f":"AVERAGE(D8:D12)","v":0},{"$f":"AVERAGE(D13:D17)","v":0},{"$f":"AVERAGE(D18:D22)","v":2.2222222222222222E-3},{"$f":"AVERAGE(D23:D27)","v":1.9801980198019802E-3},{"$f":"AVERAGE(D28:D32)","v":1.0471204188481676E-3}]
[3,{"$f":"'!L829A4T.ayl'!B2:C2","v":"<date>"},{"$f":"('!L829A4T.ayl'!F206/60)/'!L829A4T.ayl'!Q3","v":1.9817578772802653},{"$f":"'!L829A4T.ayl'!N20/'!L829A4T.ayl'!Q3","v":0},{"$f":"SUM('!L829A4T.ayl'!L20:Q20)/'!L829A4T.ayl'!Q3","v":1.4378109452736318},{"$f":"'!L829A4T.ayl'!Q16","v":0.16440218274584786},null,null,null,"CCRF",{"$f":"AVERAGE(E3:E7)","v":1.1987269343565017},{"$f":"AVERAGE(E8:E12)","v":1.0624590777541258},{"$f":"AVERAGE(E13:E17)","v":1.3578062533082389},{"$f":"AVERAGE(E18:E22)","v":1.5113500173521193},{"$f":"AVERAGE(E23:E27)","v":1.4515302715762612},{"$f":"AVERAGE(E28:E32)","v":1.4159422188853981}]
[4,{"$f":"'!L830A5T.ayl'!B2:C2","v":"<date>"},{"$f":"('!L830A5T.ayl'!F200/60)/'!L830A5T.ayl'!Q3","v":2.054209621993127},{"$f":"'!L830A5T.ayl'!N20/'!L830A5T.ayl'!Q3","v":0},{"$f":"SUM('!L830A5T.ayl'!L20:Q20)/'!L830A5T.ayl'!Q3","v":0.96391752577319589},{"$f":"'!L830A5T.ayl'!Q16","v":0.18055852623480836},null,null,null,"U Value",{"$f":"AVERAGE(F3:F7)","v":0.16995453528626442},{"$f":"AVERAGE(F8:F12)","v":0.15895636652183678},{"$f":"AVERAGE(F13:F17)","v":0.13613411583597163},{"$f":"AVERAGE(F18:F22)","v":4.1096268213474174E-2},{"$f":"AVERAGE(F23:F27)","v":1.616694320511888E-2},{"$f":"AVERAGE(F28:F32)","v":3.8353595057943161E-2}]
[5,{"$f":"'!L831A2T.ayl'!B2:C2","v":"<date>"},{"$f":"('!L831A2T.ayl'!F206/60)/'!L831A2T.ayl'!Q3","v":1.9802500000000001},{"$f":"'!L831A2T.ayl'!N20/'!L831A2T.ayl'!Q3","v":0},{"$f":"SUM('!L831A2T.ayl'!L20:Q20)/'!L831A2T.ayl'!Q3","v":0.94499999999999995},{"$f":"'!L831A2T.ayl'!Q16","v":0.18381186444097228}]
[6,{"$f":"'!L901A4T.ayl'!B2:C2","v":"<date>"},{"$f":"('!L901A4T.ayl'!F177/60)/'!L901A4T.ayl'!Q3","v":2.0083820662768033},{"$f":"'!L901A4T.ayl'!N20/'!L901A4T.ayl'!Q3","v":0},{"$f":"SUM('!L901A4T.ayl'!L20:Q20)/'!L901A4T.ayl'!Q3","v":1.0467836257309941},{"$f":"'!L901A4T.ayl'!Q16","v":0.1953495978903137}]
[7,{"$f":"'!L90294T.ayl'!B2:C2","v":"<date>"},{"$f":"('!L90294T.ayl'!F212/60)/'!L90294T.ayl'!Q3","v":1.9399676375404531},{"$f":"'!L90294T.ayl'!N20/'!L90294T.ayl'!Q3","v":0},{"$f":"SUM('!L90294T.ayl'!L20:Q20)/'!L90294T.ayl'!Q3","v":0.92718446601941751},{"$f":"'!L90294T.ayl'!Q16","v":0.15065760452726798},{"$f":"K3","v":2.1149598687459026},{"$f":"L3","v":2.0078042088149686},2.4295603127969705,2.4657188423450371,2.0028016194461977,1.9435605517924184,{"$f":"K4","v":0},{"$f":"L4","v":0},0,2.2222222222222222E-3,1.9801980198019802E-3,1.0471204188481676E-3,{"$f":"K6","v":0.16995453528626442},{"$f":"L6","v":0.15895636652183678},0.13613411583597163,4.1096268213474174E-2,1.616694320511888E-2,3.8353595057943161E-2]
[8,{"$f":"'!L903A4T.ayl'!B2:C2","v":"<date>"},{"$f":"('!L903A4T.ayl'!F205/60)/'!L903A4T.ayl'!Q3","v":2.0089614740368509},{"$f":"'!L903A4T.ayl'!N20/'!L903A4T.ayl'!Q3","v":0},{"$f":"SUM('!L903A4T.ayl'!L20:Q20)/'!L903A4T.ayl'!Q3","v":0.94472361809045224},{"$f":"'!L903A4T.ayl'!Q16","v":0.13610847860481437}]
[9,{"$f":"'!L905A4T.ayl'!B2:C2","v":"<date>"},{"$f":"('!L905A4T.ayl'!F214/60)/'!L905A4T.ayl'!Q3","v":1.9173076923076924},{"$f":"'!L905A4T.ayl'!N20/'!L905A4T.ayl'!Q3","v":0},{"$f":"SUM('!L905A4T.ayl'!L20:Q20)/'!L905A4T.ayl'!Q3","v":1.3990384615384615},{"$f":"'!L905A4T.ayl'!Q16","v":0.14700007026852427}]
[10,{"$f":"'!L906A4T.ayl'!B2:C2","v":"<date>"},{"$f":"('!L906A4T.ayl'!F190/60)/'!L906A4T.ayl'!Q3","v":2.1644021739130435},{"$f":"'!L906A4T.ayl'!N20/'!L906A4T.ayl'!Q3","v":0},{"$f":"SUM('!L906A4T.ayl'!L20:Q20)/'!L906A4T.ayl'!Q3","v":0.99456521739130432},{"$f":"'!L906A4T.ayl'!Q16","v":0.16566608131826363}]
[11,{"$f":"'!L907A4T.ayl'!B2:C2","v":"<date>"},{"$f":"('!L907A4T.ayl'!F204/60)/'!L907A4T.ayl'!Q3","v":2.014141414141414},{"$f":"'!L907A4T.ayl'!N20/'!L907A4T.ayl'!Q3","v":0},{"$f":"SUM('!L907A4T.ayl'!L20:Q20)/'!L907A4T.ayl'!Q3","v":1.4545454545454546},{"$f":"'!L907A4T.ayl'!Q16","v":0.13586028868746222}]
[12,{"$f":"'!L908A3T.ayl'!B2:C2","v":"<date>"},{"$f":"('!L908A3T.ayl'!F213/60)/'!L908A3T.ayl'!Q3","v":1.9291465378421899},{"$f":"'!L908A3T.ayl'!N20/'!L908A3T.ayl'!Q3","v":0},{"$f":"SUM('!L908A3T.ayl'!L20:Q20)/'!L908A3T.ayl'!Q3","v":1.4057971014492754},{"$f":"'!L908A3T.ayl'!Q16","v":0.14364252769971661}]
[13,{"$f":"'!L90995T.ayl'!B2:C2","v":"<date>"},{"$f":"('!L90995T.ayl'!F203/60)/'!L90995T.ayl'!Q3","v":2.0298646362098141},{"$f":"'!L90995T.ayl'!N20/'!L90995T.ayl'!Q3","v":0},{"$f":"SUM('!L90995T.ayl'!L20:Q20)/'!L90995T.ayl'!Q3","v":1.4619289340101522},{"$f":"'!L90995T.ayl'!Q16","v":0.16997490063157256}]
[14,{"$f":"'!L91092T.ayl'!B2:C2","v":"<date>"},{"$f":"('!L91092T.ayl'!F106/60)/'!L91092T.ayl'!Q3","v":3.9478333333333335},{"$f":"'!L91092T.ayl'!N20/'!L91092T.ayl'!Q3","v":0},{"$f":"SUM('!L91092T.ayl'!L20:Q20)/'!L91092T.ayl'!Q3","v":1.45},{"$f":"'!L91092T.ayl'!Q16","v":0.11223956313327038}]
[15,{"$f":"'!L91191T.ayl'!B2:C2","v":"<date>"},{"$f":"('!L91191T.ayl'!F185/60)/'!L91191T.ayl'!Q3","v":2.2268156424581007},{"$f":"'!L91191T.ayl'!N20/'!L91191T.ayl'!Q3","v":0},{"$f":"SUM('!L91191T.ayl'!L20:Q20)/'!L91191T.ayl'!Q3","v":1.0167597765363128},{"$f":"'!L91191T.ayl'!Q16","v":0.11895329902783636}]
[16,{"$f":"'!L912A5T.ayl'!B2:C2","v":"<date>"},{"$f":"('!L912A5T.ayl'!F212/60)/'!L912A5T.ayl'!Q3","v":1.9380258899676377},{"$f":"'!L912A5T.ayl'!N20/'!L912A5T.ayl'!Q3","v":0},{"$f":"SUM('!L912A5T.ayl'!L20:Q20)/'!L912A5T.ayl'!Q3","v":0.92718446601941751},{"$f":"'!L912A5T.ayl'!Q16","v":0.11161343849034824}]
[17,{"$f":"'!L91392T.ayl'!B2:C2","v":"<date>"},{"$f":"('!L91392T.ayl'!F208/60)/'!L91392T.ayl'!Q3","v":1.9732673267326735},{"$f":"'!L91392T.ayl'!N20/'!L91392T.ayl'!Q3","v":0},{"$f":"SUM('!L91392T.ayl'!L20:Q20)/'!L91392T.ayl'!Q3","v":0.9356435643564357},{"$f":"'!L91392T.ayl'!Q16","v":3.4315838968706158E-2}]
[18,{"$f":"'!L914A1T.ayl'!B2:C2","v":"<date>"},{"$f":"('!L914A1T.ayl'!F207/60)/'!L914A1T.ayl'!Q3","v":1.9842454394693201},{"$f":"'!L914A1T.ayl'!N20/'!L914A1T.ayl'!Q3","v":0},{"$f":"SUM('!L914A1T.ayl'!L20:Q20)/'!L914A1T.ayl'!Q3","v":1.4378109452736318},{"$f":"'!L914A1T.ayl'!Q16","v":4.0013408843040582E-2}]
[19,{"$f":"'!L915A3T.ayl'!B2:C2","v":"<date>"},{"$f":"('!L915A3T.ayl'!F205/60)/'!L915A3T.ayl'!Q3","v":1.9891666666666665},{"$f":"'!L915A3T.ayl'!N20/'!L915A3T.ayl'!Q3","v":0},{"$f":"SUM('!L915A3T.ayl'!L20:Q20)/'!L915A3T.ayl'!Q3","v":1.4450000000000001},{"$f":"'!L915A3T.ayl'!Q16","v":5.9720725068950053E-3}]
[20,{"$f":"'!L916A1T.ayl'!B2:C2","v":"<date>"},{"$f":"('!L916A1T.ayl'!F96/60)/'!L916A1T.ayl'!Q3","v":4.443888888888889},{"$f":"'!L916A1T.ayl'!N20/'!L916A1T.ayl'!Q3","v":1.1111111111111112E-2},{"$f":"SUM('!L916A1T.ayl'!L20:Q20)/'!L916A1T.ayl'!Q3","v":2.8111111111111109},{"$f":"'!L916A1T.ayl'!Q16","v":1.3566582258380904E-2}]
[21,{"$f":"'!L917A4T.ayl'!B2:C2","v":"<date>"},{"$f":"('!L917A4T.ayl'!F211/60)/'!L917A4T.ayl'!Q3","v":1.9457723577235773},{"$f":"'!L917A4T.ayl'!N20/'!L917A4T.ayl'!Q3","v":0},{"$f":"SUM('!L917A4T.ayl'!L20:Q20)/'!L917A4T.ayl'!Q3","v":1.4146341463414633},{"$f":"'!L917A4T.ayl'!Q16","v":0}]
[22,{"$f":"'!L919B1T.ayl'!B2:C2","v":"<date>"},{"$f":"('!L919B1T.ayl'!F198/60)/'!L919B1T.ayl'!Q3","v":2.0617443868739205},{"$f":"'!L919B1T.ayl'!N20/'!L919B1T.ayl'!Q3","v":0},{"$f":"SUM('!L919B1T.ayl'!L20:Q20)/'!L919B1T.ayl'!Q3","v":1.4818652849740932},{"$f":"'!L919B1T.ayl'!Q16","v":0}]
[23,{"$f":"'!L920A0T.ayl'!B2:C2","v":"<date>"},{"$f":"('!L920A0T.ayl'!F212/60)/'!L920A0T.ayl'!Q3","v":1.9180420711974111},{"$f":"'!L920A0T.ayl'!N20/'!L920A0T.ayl'!Q3","v":0},{"$f":"SUM('!L920A0T.ayl'!L20:Q20)/'!L920A0T.ayl'!Q3","v":1.412621359223301},{"$f":"'!L920A0T.ayl'!Q16","v":0}]
[24,{"$f":"'!L922953..Ta'!B2:C2","v":"<date>"},{"$f":"('!L922953..Ta'!F208/60)/'!L922953..Ta'!Q3","v":1.9743399339933994},{"$f":"'!L922953..Ta'!N20/'!L922953..Ta'!Q3","v":9.9009900990099011E-3},{"$f":"SUM('!L922953..Ta'!L20:Q20)/'!L922953..Ta'!Q3","v":1.4405940594059405},{"$f":"'!L922953..Ta'!Q16","v":2.0909484094199293E-2}]
[25,{"$f":"'!L923A53..Ta'!B2:C2","v":"<date>"},{"$f":"('!L923A53..Ta'!F195/60)/'!L923A53..Ta'!Q3","v":2.1141093474426809},{"$f":"'!L923A53..Ta'!N20/'!L923A53..Ta'!Q3","v":0},{"$f":"SUM('!L923A53..Ta'!L20:Q20)/'!L923A53..Ta'!Q3","v":1.5079365079365079},{"$f":"'!L923A53..Ta'!Q16","v":5.9925231931395109E-2}]
[26,{"$f":"'!L924A03..Ta'!B2:C2","v":"<date>"},{"$f":"('!L924A03..Ta'!F197/60)/'!L924A03..Ta'!Q3","v":2.087958115183246},{"$f":"'!L924A03..Ta'!N20/'!L924A03..Ta'!Q3","v":5.235602094240838E-3},{"$f":"SUM('!L924A03..Ta'!L20:Q20)/'!L924A03..Ta'!Q3","v":1.5026178010471205},{"$f":"'!L924A03..Ta'!Q16","v":7.391877585811181E-2}]
[27,{"$f":"'!L925943..Ta'!B2:C2","v":"<date>"},{"$f":"('!L925943..Ta'!F200/60)/'!L925943..Ta'!Q3","v":2.0544673539518898},{"$f":"'!L925943..Ta'!N20/'!L925943..Ta'!Q3","v":0},{"$f":"SUM('!L925943..Ta'!L20:Q20)/'!L925943..Ta'!Q3","v":1.4793814432989691},{"$f":"'!L925943..Ta'!Q16","v":3.5572890363631371E-2}]
[28,{"$f":"'!L927913..Ta'!B2:C2","v":"<date>"},{"$f":"('!L927913..Ta'!F221/60)/'!L927913..Ta'!Q3","v":1.8601550387596899},{"$f":"'!L927913..Ta'!N20/'!L927913..Ta'!Q3","v":0},{"$f":"SUM('!L927913..Ta'!L20:Q20)/'!L927913..Ta'!Q3","v":1.3674418604651162},{"$f":"'!L927913..Ta'!Q16","v":4.7444046348765506E-2}]
[29,{"$f":"'!L928923..Ta'!B2:C2","v":"<date>"},{"$f":"('!L928923..Ta'!F220/60)/'!L928923..Ta'!Q3","v":1.8690031152647975},{"$f":"'!L928923..Ta'!N20/'!L928923..Ta'!Q3","v":0},{"$f":"SUM('!L928923..Ta'!L20:Q20)/'!L928923..Ta'!Q3","v":1.3691588785046729},{"$f":"'!L928923..Ta'!Q16","v":2.9343348050273877E-2}]
[30,{"$f":"'!L929843..Ta'!B2:C2","v":"<date>"},{"$f":"('!L929843..Ta'!F222/60)/'!L929843..Ta'!Q3","v":1.8462191358024693},{"$f":"'!L929843..Ta'!N20/'!L929843..Ta'!Q3","v":0},{"$f":"SUM('!L929843..Ta'!L20:Q20)/'!L929843..Ta'!Q3","v":1.3611111111111112},{"$f":"'!L929843..Ta'!Q16","v":5.488914668933237E-3}]
[null,{"$f":"'!L930853..Ta'!B2:C2","v":"<date>"},{"$f":"('!L930853..Ta'!F219/60)/'!L930853..Ta'!Q3","v":1.8710485133020345},{"$f":"'!L930853..Ta'!N20/'!L930853..Ta'!Q3","v":0},{"$f":"SUM('!L930853..Ta'!L20:Q20)/'!L930853..Ta'!Q3","v":1.375586854460094},{"$f":"'!L930853..Ta'!Q16","v":2.6301601590734813E-2}]

{"sheet":"Start","index":2,"n_rows":37,"n_cols":10,"rows_kept":37,"cut":false,"hidden":false,"merged":[]}
[null,null,null,null,null,"Use Folder 51",null,"Auto Clean Up",null,"Correct sequence"]
[null,null,null,null,null,false,null,true,null,211]
[]
["Working with Folder",null,null,null,null,null,"Process All/Or Pick A number: ALL or an integer"]
["F:\\Possum Chapter\\Raw Data\\Taylor\\phase 1 RLL ANY\\",null,null,null,null,null,"ALL"]
["Filenames:"]
["!L82784T.ayl",null,null,null,null,null,"Paint Cells"]
["!L82890T.ayl",null,null,null,null,null,false]
["!L829A4T.ayl"]
["!L830A5T.ayl"]
["!L831A2T.ayl"]
["!L901A4T.ayl"]
["!L90294T.ayl"]
["!L903A4T.ayl"]
["!L905A4T.ayl"]
["!L906A4T.ayl"]
["!L907A4T.ayl"]
["!L908A3T.ayl"]
["!L90995T.ayl"]
["!L91092T.ayl"]
["!L91191T.ayl"]
["!L912A5T.ayl"]
["!L91392T.ayl"]
["!L914A1T.ayl"]
["!L915A3T.ayl"]
["!L916A1T.ayl"]
["!L917A4T.ayl"]
["!L919B1T.ayl"]
["!L920A0T.ayl"]
["!L922953..Ta"]
["!L923A53..Ta"]
["!L924A03..Ta"]
["!L925943..Ta"]
["!L927913..Ta"]
["!L928923..Ta"]
["!L929843..Ta"]
["!L930853..Ta"]

{"sheet":"!L82784T.ayl","index":3,"n_rows":179,"n_cols":48,"rows_kept":179,"cut":false,"hidden":false,"merged":[[4,39,4,42],[5,39,5,40],[4,44,4,47],[5,44,5,45],[4,24,4,27],[5,24,5,25],[4,29,4,32],[5,29,5,30],[4,34,4,37],[5,34,5,35],[1,1,1,2],[5,13,5,14],[18,13,18,14],[19,13,19,14],[4,19,4,22],[5,19,5,20]]}
["Report for:!L82784T.ayl"]
["Date:","<date>"]
["Hen:","<hen>",null,null,null,"Correct Sequence",{"$f":"Start!J2","v":211},null,null,null,null,null,null,null,null,"Total Sequences in Data",{"$f":"4994-COUNTBLANK(L7:L5000)","v":173},null,null,null,null,"Total Sequences in Block Data",{"$f":"COUNTA(L7:L35)","v":29},null,null,null,"Total Sequences in Block Data",{"$f":"COUNTA(L36:L64)","v":29},null,null,null,"Total Sequences in Block Data",{"$f":"COUNTA(L65:L92)","v":28},null,null,null,"Total Sequences in Block Data",{"$f":"COUNTA(L93:L121)","v":29},null,null,null,"Total Sequences in Block Data",{"$f":"COUNTA(L122:L150)","v":29},null,null,null,"Total Sequences in Block Data",{"$f":"COUNTA(L151:L179)","v":29}]
[null,null,null,null,null,null,null,null,null,null,null,null,null,null,null,"Total Sequences in Summary",{"$f":"SUM(O7:O14)","v":172},null,null,null,null,"Total Sequences in Block Summary",{"$f":"SUM(U7:U14)","v":29},null,null,null,"Total Sequences in Block Summary",{"$f":"SUM(Z7:Z14)","v":29},null,null,null,"Total Sequences in Block Summary",{"$f":"SUM(AE7:AE14)","v":28},null,null,null,"Total Sequences in Block Summary",{"$f":"SUM(AJ7:AJ14)","v":29},null,null,null,"Total Sequences in Block Summary",{"$f":"SUM(AO7:AO14)","v":29},null,null,null,"Total Sequences in Block Summary",{"$f":"SUM(AT7:AT14)","v":28}]
[null,null,null,null,null,null,null,null,null,null,null,null,null,null,null,null,null,null,null,"Block 1",null,null,null,null,"Block 2",null,null,null,null,"Block 3",null,null,null,null,"Block 4",null,null,null,null,"Block 5",null,null,null,null,"Block 6"]
["Sequence\nComponent\n1","Time\n1","Sequence\nComponent\n2","Time\n2","Sequence\nComponent\n3","Time\n3","Sequence\nComponent\n4","Time\n4","Sequence\nComponent\n5","Time\n5","Correct?\n0=No 1=Yes","Sequence",null,"Frequency",null,"Relative Frequency","Variability",null,null,"Frequency",null,"Relative Frequency","Variability",null,"Frequency",null,"Relative Frequency","Variability",null,"Frequency",null,"Relative Frequency","Variability",null,"Frequency",null,"Relative Frequency","Variability",null,"Frequency",null,"Relative Frequency","Variability",null,"Frequency",null,"Relative Frequency","Variability"]
[21,2791,22,2810,13,2821,null,null,null,null,0,221,null,111,{"$f":"COUNTIF($L$7:$L$500,N7)","v":1},{"$f":"O7/$Q$4","v":5.8139534883720929E-3},{"$f":"IF(P7=0,0,(P7*((LOG(P7))/LOG(2))))","v":-4.3175957876174981E-2},null,null,{"$f":"N7","v":111},{"$f":"COUNTIF(L7:L35,T7)","v":1},{"$f":"U7/(W4-U11)","v":3.4482758620689655E-2},{"$f":"IF(V7=0,0,(V7*((LOG(V7))/LOG(2))))","v":-0.16751658603888178},null,{"$f":"N7","v":111},{"$f":"COUNTIF(L36:L64,Y7)","v":0},{"$f":"Z7/(AB4-Z11)","v":0},{"$f":"IF(AA7=0,0,(AA7*((LOG(AA7))/LOG(2))))","v":0},null,{"$f":"N7","v":111},{"$f":"COUNTIF(L65:L92,AD7)","v":0},{"$f":"AE7/(AG4-AE11)","v":0},{"$f":"IF(AF7=0,0,(AF7*((LOG(AF7))/LOG(2))))","v":0},null,{"$f":"N7","v":111},{"$f":"COUNTIF(L93:L121,AI7)","v":0},{"$f":"AJ7/(AL4-AJ11)","v":0},{"$f":"IF(AK7=0,0,(AK7*((LOG(AK7))/LOG(2))))","v":0},null,{"$f":"N7","v":111},{"$f":"COUNTIF(L122:L150,AN7)","v":0},{"$f":"AO7/(AQ4-AO11)","v":0},{"$f":"IF(AP7=0,0,(AP7*((LOG(AP7))/LOG(2))))","v":0},null,{"$f":"N7","v":111},{"$f":"COUNTIF(L151:L179,AS7)","v":0},{"$f":"AT7/(AV4-AT11)","v":0},{"$f":"IF(AU7=0,0,(AU7*((LOG(AU7))/LOG(2))))","v":0}]
[21,2927,22,2933,24,2939,null,null,null,null,0,222,null,112,{"$f":"COUNTIF($L$7:$L$500,N8)","v":8},{"$f":"O8/$Q$4","v":4.6511627906976744E-2},{"$f":"IF(P8=0,0,(P8*((LOG(P8))/LOG(2))))","v":-0.20587277928846967},null,null,{"$f":"N8","v":112},{"$f":"COUNTIF(L7:L35,T8)","v":1},{"$f":"U8/(W4-U11)","v":3.4482758620689655E-2},{"$f":"IF(V8=0,0,(V8*((LOG(V8))/LOG(2))))","v":-0.16751658603888178},null,{"$f":"N8","v":112},{"$f":"COUNTIF(L36:L64,Y8)","v":0},{"$f":"Z8/(AB4-Z11)","v":0},{"$f":"IF(AA8=0,0,(AA8*((LOG(AA8))/LOG(2))))","v":0},null,{"$f":"N8","v":112},{"$f":"COUNTIF(L65:L92,AD8)","v":0},{"$f":"AE8/(AG4-AE11)","v":0},{"$f":"IF(AF8=0,0,(AF8*((LOG(AF8))/LOG(2))))","v":0},null,{"$f":"N8","v":112},{"$f":"COUNTIF(L93:L121,AI8)","v":2},{"$f":"AJ8/(AL4-AJ11)","v":6.8965517241379309E-2},{"$f":"IF(AK8=0,0,(AK8*((LOG(AK8))/LOG(2))))","v":-0.26606765483638428},null,{"$f":"N8","v":112},{"$f":"COUNTIF(L122:L150,AN8)","v":3},{"$f":"AO8/(AQ4-AO11)","v":0.10344827586206896},{"$f":"IF(AP8=0,0,(AP8*((LOG(AP8))/LOG(2))))","v":-0.33858812011100858},null,{"$f":"N8","v":112},{"$f":"COUNTIF(L151:L179,AS8)","v":2},{"$f":"AT8/(AV4-AT11)","v":7.1428571428571425E-2},{"$f":"IF(AU8=0,0,(AU8*((LOG(AU8))/LOG(2))))","v":-0.27195392300411453}]
[12,3294,13,3297,13,3301,null,null,null,null,0,111,null,121,{"$f":"COUNTIF($L$7:$L$500,N9)","v":0},{"$f":"O9/$Q$4","v":0},{"$f":"IF(P9=0,0,(P9*((LOG(P9))/LOG(2))))","v":0},null,null,{"$f":"N9","v":121},{"$f":"COUNTIF(L7:L35,T9)","v":0},{"$f":"U9/(W4-U11)","v":0},{"$f":"IF(V9=0,0,(V9*((LOG(V9))/LOG(2))))","v":0},null,{"$f":"N9","v":121},{"$f":"COUNTIF(L36:L64,Y9)","v":0},{"$f":"Z9/(AB4-Z11)","v":0},{"$f":"IF(AA9=0,0,(AA9*((LOG(AA9))/LOG(2))))","v":0},null,{"$f":"N9","v":121},{"$f":"COUNTIF(L65:L92,AD9)","v":0},{"$f":"AE9/(AG4-AE11)","v":0},{"$f":"IF(AF9=0,0,(AF9*((LOG(AF9))/LOG(2))))","v":0},null,{"$f":"N9","v":121},{"$f":"COUNTIF(L93:L121,AI9)","v":0},{"$f":"AJ9/(AL4-AJ11)","v":0},{"$f":"IF(AK9=0,0,(AK9*((LOG(AK9))/LOG(2))))","v":0},null,{"$f":"N9","v":121},{"$f":"COUNTIF(L122:L150,AN9)","v":0},{"$f":"AO9/(AQ4-AO11)","v":0},{"$f":"IF(AP9=0,0,(AP9*((LOG(AP9))/LOG(2))))","v":0},null,{"$f":"N9","v":121},{"$f":"COUNTIF(L151:L179,AS9)","v":0},{"$f":"AT9/(AV4-AT11)","v":0},{"$f":"IF(AU9=0,0,(AU9*((LOG(AU9))/LOG(2))))","v":0}]
[12,3439,13,3445,24,3458,null,null,null,null,0,112,null,122,{"$f":"COUNTIF($L$7:$L$500,N10)","v":122},{"$f":"O10/$Q$4","v":0.70930232558139539},{"$f":"IF(P10=0,0,(P10*((LOG(P10))/LOG(2))))","v":-0.35147874936618501},null,null,{"$f":"N10","v":122},{"$f":"COUNTIF(L7:L35,T10)","v":11},{"$f":"U10/(W4-U11)","v":0.37931034482758619},{"$f":"IF(V10=0,0,(V10*((LOG(V10))/LOG(2))))","v":-0.53048424625493174},null,{"$f":"N10","v":122},{"$f":"COUNTIF(L36:L64,Y10)","v":24},{"$f":"Z10/(AB4-Z11)","v":0.82758620689655171},{"$f":"IF(AA10=0,0,(AA10*((LOG(AA10))/LOG(2))))","v":-0.2259463401984132},null,{"$f":"N10","v":122},{"$f":"COUNTIF(L65:L92,AD10)","v":20},{"$f":"AE10/(AG4-AE11)","v":0.7142857142857143},{"$f":"IF(AF10=0,0,(AF10*((LOG(AF10))/LOG(2))))","v":-0.34673344797874411},null,{"$f":"N10","v":122},{"$f":"COUNTIF(L93:L121,AI10)","v":19},{"$f":"AJ10/(AL4-AJ11)","v":0.65517241379310343},{"$f":"IF(AK10=0,0,(AK10*((LOG(AK10))/LOG(2))))","v":-0.39969021213778433},null,{"$f":"N10","v":122},{"$f":"COUNTIF(L122:L150,AN10)","v":25},{"$f":"AO10/(AQ4-AO11)","v":0.86206896551724133},{"$f":"IF(AP10=0,0,(AP10*((LOG(AP10))/LOG(2))))","v":-0.18459034944210989},null,{"$f":"N10","v":122},{"$f":"COUNTIF(L151:L179,AS10)","v":23},{"$f":"AT10/(AV4-AT11)","v":0.8214285714285714},{"$f":"IF(AU10=0,0,(AU10*((LOG(AU10))/LOG(2))))","v":-0.23311565064334283}]
[12,3550,24,3562,24,3567,null,null,null,null,0,122,null,211,{"$f":"COUNTIF($L$7:$L$500,N11)","v":0},{"$f":"O11/$Q$4","v":0},{"$f":"IF(P11=0,0,(P11*((LOG(P11))/LOG(2))))","v":0},null,null,{"$f":"N11","v":211},{"$f":"COUNTIF(L7:L35,T11)","v":0},null,null,null,{"$f":"N11","v":211},{"$f":"COUNTIF(L36:L64,Y11)","v":0},null,null,null,{"$f":"N11","v":211},{"$f":"COUNTIF(L65:L92,AD11)","v":0},null,null,null,{"$f":"N11","v":211},{"$f":"COUNTIF(L93:L121,AI11)","v":0},null,null,null,{"$f":"N11","v":211},{"$f":"COUNTIF(L122:L150,AN11)","v":0},null,null,null,{"$f":"N11","v":211},{"$f":"COUNTIF(L151:L179,AS11)","v":0}]
[21,3674,22,3678,24,3684,null,null,null,null,0,222,null,212,{"$f":"COUNTIF($L$7:$L$500,N12)","v":0},{"$f":"O12/$Q$4","v":0},{"$f":"IF(P12=0,0,(P12*((LOG(P12))/LOG(2))))","v":0},null,null,{"$f":"N12","v":212},{"$f":"COUNTIF(L7:L35,T12)","v":0},{"$f":"U12/(W4-U11)","v":0},{"$f":"IF(V12=0,0,(V12*((LOG(V12))/LOG(2))))","v":0},null,{"$f":"N12","v":212},{"$f":"COUNTIF(L36:L64,Y12)","v":0},{"$f":"Z12/(AB4-Z11)","v":0},{"$f":"IF(AA12=0,0,(AA12*((LOG(AA12))/LOG(2))))","v":0},null,{"$f":"N12","v":212},{"$f":"COUNTIF(L65:L92,AD12)","v":0},{"$f":"AE12/(AG4-AE11)","v":0},{"$f":"IF(AF12=0,0,(AF12*((LOG(AF12))/LOG(2))))","v":0},null,{"$f":"N12","v":212},{"$f":"COUNTIF(L93:L121,AI12)","v":0},{"$f":"AJ12/(AL4-AJ11)","v":0},{"$f":"IF(AK12=0,0,(AK12*((LOG(AK12))/LOG(2))))","v":0},null,{"$f":"N12","v":212},{"$f":"COUNTIF(L122:L150,AN12)","v":0},{"$f":"AO12/(AQ4-AO11)","v":0},{"$f":"IF(AP12=0,0,(AP12*((LOG(AP12))/LOG(2))))","v":0},null,{"$f":"N12","v":212},{"$f":"COUNTIF(L151:L179,AS12)","v":0},{"$f":"AT12/(AV4-AT11)","v":0},{"$f":"IF(AU12=0,0,(AU12*((LOG(AU12))/LOG(2))))","v":0}]
[21,3780,22,3786,24,3790,null,null,null,null,0,222,null,221,{"$f":"COUNTIF($L$7:$L$500,N13)","v":1},{"$f":"O13/$Q$4","v":5.8139534883720929E-3},{"$f":"IF(P13=0,0,(P13*((LOG(P13))/LOG(2))))","v":-4.3175957876174981E-2},null,null,{"$f":"N13","v":221},{"$f":"COUNTIF(L7:L35,T13)","v":1},{"$f":"U13/(W4-U11)","v":3.4482758620689655E-2},{"$f":"IF(V13=0,0,(V13*((LOG(V13))/LOG(2))))","v":-0.16751658603888178},null,{"$f":"N13","v":221},{"$f":"COUNTIF(L36:L64,Y13)","v":0},{"$f":"Z13/(AB4-Z11)","v":0},{"$f":"IF(AA13=0,0,(AA13*((LOG(AA13))/LOG(2))))","v":0},null,{"$f":"N13","v":221},{"$f":"COUNTIF(L65:L92,AD13)","v":0},{"$f":"AE13/(AG4-AE11)","v":0},{"$f":"IF(AF13=0,0,(AF13*((LOG(AF13))/LOG(2))))","v":0},null,{"$f":"N13","v":221},{"$f":"COUNTIF(L93:L121,AI13)","v":0},{"$f":"AJ13/(AL4-AJ11)","v":0},{"$f":"IF(AK13=0,0,(AK13*((LOG(AK13))/LOG(2))))","v":0},null,{"$f":"N13","v":221},{"$f":"COUNTIF(L122:L150,AN13)","v":0},{"$f":"AO13/(AQ4-AO11)","v":0},{"$f":"IF(AP13=0,0,(AP13*((LOG(AP13))/LOG(2))))","v":0},null,{"$f":"N13","v":221},{"$f":"COUNTIF(L151:L179,AS13)","v":0},{"$f":"AT13/(AV4-AT11)","v":0},{"$f":"IF(AU13=0,0,(AU13*((LOG(AU13))/LOG(2))))","v":0}]
[21,3902,22,3906,24,3911,null,null,null,null,0,222,null,222,{"$f":"COUNTIF($L$7:$L$500,N14)","v":40},{"$f":"O14/$Q$4","v":0.23255813953488372},{"$f":"IF(P14=0,0,(P14*((LOG(P14))/LOG(2))))","v":-0.48938061856156645},null,null,{"$f":"N14","v":222},{"$f":"COUNTIF(L7:L35,T14)","v":15},{"$f":"U14/(W4-U11)","v":0.51724137931034486},{"$f":"IF(V14=0,0,(V14*((LOG(V14))/LOG(2))))","v":-0.49194331009606224},null,{"$f":"N14","v":222},{"$f":"COUNTIF(L36:L64,Y14)","v":5},{"$f":"Z14/(AB4-Z11)","v":0.17241379310344829},{"$f":"IF(AA14=0,0,(AA14*((LOG(AA14))/LOG(2))))","v":-0.43725050004141547},null,{"$f":"N14","v":222},{"$f":"COUNTIF(L65:L92,AD14)","v":8},{"$f":"AE14/(AG4-AE11)","v":0.2857142857142857},{"$f":"IF(AF14=0,0,(AF14*((LOG(AF14))/LOG(2))))","v":-0.51638712058788683},null,{"$f":"N14","v":222},{"$f":"COUNTIF(L93:L121,AI14)","v":8},{"$f":"AJ14/(AL4-AJ11)","v":0.27586206896551724},{"$f":"IF(AK14=0,0,(AK14*((LOG(AK14))/LOG(2))))","v":-0.51254648141450265},null,{"$f":"N14","v":222},{"$f":"COUNTIF(L122:L150,AN14)","v":1},{"$f":"AO14/(AQ4-AO11)","v":3.4482758620689655E-2},{"$f":"IF(AP14=0,0,(AP14*((LOG(AP14))/LOG(2))))","v":-0.16751658603888178},null,{"$f":"N14","v":222},{"$f":"COUNTIF(L151:L179,AS14)","v":3},{"$f":"AT14/(AV4-AT11)","v":0.10714285714285714},{"$f":"IF(AU14=0,0,(AU14*((LOG(AU14))/LOG(2))))","v":-0.34525633085747659}]
[12,4010,24,4021,24,4025,null,null,null,null,0,122,null,null,null,{"$f":"SUM(P7:P14)","v":1},{"$f":"-SUM(Q7:Q14)","v":1.133084062968571},null,null,null,null,{"$f":"SUM(V7:V14)","v":1},{"$f":"-SUM(W7:W14)","v":1.5249773144676393},null,null,null,{"$f":"SUM(AA7:AA14)","v":1},{"$f":"-SUM(AB7:AB14)","v":0.66319684023982872},null,null,null,{"$f":"SUM(AF7:AF14)","v":1},{"$f":"-SUM(AG7:AG14)","v":0.863120568566631},null,null,null,{"$f":"SUM(AK7:AK14)","v":1},{"$f":"-SUM(AL7:AL14)","v":1.1783043483886713},null,null,null,{"$f":"SUM(AP7:AP14)","v":0.99999999999999989},{"$f":"-SUM(AQ7:AQ14)","v":0.69069505559200028},null,null,null,{"$f":"SUM(AU7:AU14)","v":0.99999999999999989},{"$f":"-SUM(AV7:AV14)","v":0.85032590450493384}]
[12,4121,24,4135,24,4139,null,null,null,null,0,122,null,null,null,"U=",{"$f":"Q15/(LOG(Q4)/LOG(2))","v":0.1525779244876955},null,null,null,null,"U1=",{"$f":"W15/(LOG(W4)/LOG(2))","v":0.31391174975718344},null,null,null,"U2=",{"$f":"AB15/(LOG(AB4)/LOG(2))","v":0.13651696886113754},null,null,null,"U3=",{"$f":"AG15/(LOG(AG4)/LOG(2))","v":0.17954167781670785},null,null,null,"U4=",{"$f":"AL15/(LOG(AL4)/LOG(2))","v":0.24255021779016422},null,null,null,"U5=",{"$f":"AQ15/(LOG(AQ4)/LOG(2))","v":0.14217738938969696},null,null,null,"U6=",{"$f":"AV15/(LOG(AV4)/LOG(2))","v":0.17688020091950782}]
[21,4240,22,4247,24,4253,null,null,null,null,0,222]
[21,4364,22,4368,24,4374,null,null,null,null,0,222]
[12,4502,24,4509,24,4513,null,null,null,null,0,122,null,"Total Target Seq"]
[21,4644,22,4649,24,4654,null,null,null,null,0,222,null,{"$f":"COUNTIF(L7:L179,G3)","v":0},null,29,29,28,29,29,29]
[21,4763,22,4766,24,4771,null,null,null,null,0,222,null,null,null,"% of reinforcement given in 6 equal intervals based on number of trials "]
[21,4885,22,4888,24,4892,null,null,null,null,0,222,null,null,null,"%_1","%_2","%_3","%_4","%_5","%_6"]
[12,4986,24,4998,24,5002,null,null,null,null,0,122,null,null,"target sequence",{"$f":"$G$3","v":211},{"$f":"$G$3","v":211},{"$f":"$G$3","v":211},{"$f":"$G$3","v":211},{"$f":"$G$3","v":211},{"$f":"$G$3","v":211}]
[12,5225,24,5235,24,5244,null,null,null,null,0,122,null,null,"total reinforcement",{"$f":"U11","v":0},{"$f":"Z11","v":0},{"$f":"AE11","v":0},{"$f":"AJ11","v":0},{"$f":"AO11","v":0},{"$f":"AT11","v":0}]
[21,5350,22,5354,24,5359,null,null,null,null,0,222,null,null,"% target"]
[12,5457,24,5471,24,5476,null,null,null,null,0,122,null,null,"CCRF"]
[21,5586,22,5590,24,5596,null,null,null,null,0,222,null,null,"% CCRf"]
[21,5705,22,5708,24,5715,null,null,null,null,0,222,null,null,"average response rate",{"$f":"F35/P20","v":225.58620689655172},{"$f":"(F64-F35)/Q20","v":122.13793103448276},{"$f":"(F92-F64)/R20","v":120.28571428571429},{"$f":"(F121-F92)/S20","v":128.41379310344828},{"$f":"(F150-F121)/T20","v":116.34482758620689},{"$f":"(F179-F150)/U20","v":-708.62068965517244}]
[12,5814,24,5820,24,5831,null,null,null,null,0,122]
[12,5926,24,5935,24,5941,null,null,null,null,0,122]
[12,6035,24,6054,24,6060,null,null,null,null,0,122]
[21,6170,22,6174,24,6179,null,null,null,null,0,222]
[21,6296,22,6301,24,6307,null,null,null,null,0,222]
[12,6404,24,6416,24,6420,null,null,null,null,0,122]
[21,6531,22,6536,24,6542,null,null,null,null,0,222]
[21,6689,22,6693,24,6699,null,null,null,null,0,222]
[12,6797,24,6810,24,6814,null,null,null,null,0,122]
[21,6920,22,6924,24,6935,null,null,null,null,0,222]
[12,7031,24,7043,24,7050,null,null,null,null,0,122]
[12,7154,24,7163,24,7168,null,null,null,null,0,122]
[21,7278,22,7283,24,7289,null,null,null,null,0,222]
[12,7433,24,7443,24,7447,null,null,null,null,0,122]
[12,7543,24,7557,24,7561,null,null,null,null,0,122]
[12,7653,24,7668,24,7673,null,null,null,null,0,122]
[12,7767,24,7776,24,7783,null,null,null,null,0,122]
[12,7882,24,7893,24,7899,null,null,null,null,0,122]
[12,8007,24,8020,24,8024,null,null,null,null,0,122]
[12,8119,24,8128,24,8132,null,null,null,null,0,122]
[12,8231,24,8247,24,8253,null,null,null,null,0,122]
[12,8353,24,8368,24,8373,null,null,null,null,0,122]
[12,8470,24,8482,24,8486,null,null,null,null,0,122]
[12,8580,24,8592,24,8597,null,null,null,null,0,122]
[12,8691,24,8702,24,8706,null,null,null,null,0,122]
[12,8802,24,8811,24,8819,null,null,null,null,0,122]
[12,8944,24,8953,24,8961,null,null,null,null,0,122]
[12,9058,24,9065,24,9070,null,null,null,null,0,122]
[21,9179,22,9183,24,9190,null,null,null,null,0,222]
[12,9287,24,9297,24,9301,null,null,null,null,0,122]
[12,9413,24,9423,24,9426,null,null,null,null,0,122]
[12,9523,24,9531,24,9545,null,null,null,null,0,122]
[12,9640,24,9657,24,9663,null,null,null,null,0,122]
[21,9844,22,9853,24,9858,null,null,null,null,0,222]
[12,9957,24,9966,24,9972,null,null,null,null,0,122]
[12,10068,24,10081,24,10084,null,null,null,null,0,122]
[12,10179,24,10188,24,10192,null,null,null,null,0,122]
[21,10302,22,10308,24,10314,null,null,null,null,0,222]
[12,10411,24,10420,24,10424,null,null,null,null,0,122]
[12,10518,24,10533,24,10537,null,null,null,null,0,122]
[12,10631,24,10643,24,10647,null,null,null,null,0,122]
[12,10741,24,10751,24,10758,null,null,null,null,0,122]
[12,10855,24,10867,24,10872,null,null,null,null,0,122]
[12,10967,24,10977,24,10982,null,null,null,null,0,122]
[21,11092,22,11100,24,11106,null,null,null,null,0,222]
[12,11225,24,11241,24,11246,null,null,null,null,0,122]
[12,11336,24,11344,24,11350,null,null,null,null,0,122]
[12,11447,24,11460,24,11465,null,null,null,null,0,122]
[12,11563,24,11576,24,11581,null,null,null,null,0,122]
[21,11725,22,11729,24,11732,null,null,null,null,0,222]
[12,11829,24,11840,24,11844,null,null,null,null,0,122]
[12,11941,24,11949,24,11954,null,null,null,null,0,122]
[12,12049,24,12068,24,12076,null,null,null,null,0,122]
[21,12203,22,12206,24,12211,null,null,null,null,0,222]
[21,12346,22,12352,24,12357,null,null,null,null,0,222]
[12,12451,24,12462,24,12466,null,null,null,null,0,122]
[12,12562,24,12576,24,12584,null,null,null,null,0,122]
[21,12710,22,12712,24,12726,null,null,null,null,0,222]
[21,12855,22,12859,24,12864,null,null,null,null,0,222]
[21,12992,22,12996,24,13004,null,null,null,null,0,222]
[12,13101,24,13110,24,13113,null,null,null,null,0,122]
[12,13209,24,13221,24,13226,null,null,null,null,0,122]
[12,13323,24,13332,24,13337,null,null,null,null,0,122]
[12,13433,24,13448,24,13452,null,null,null,null,0,122]
[12,13543,24,13555,24,13563,null,null,null,null,0,122]
[21,13717,22,13720,24,13724,null,null,null,null,0,222]
[12,13855,24,13862,24,13871,null,null,null,null,0,122]
[21,14017,22,14025,24,14035,null,null,null,null,0,222]
[12,14127,13,14130,24,14144,null,null,null,null,0,112]
[12,14240,24,14251,24,14257,null,null,null,null,0,122]
[12,14370,24,14381,24,14393,null,null,null,null,0,122]
[12,14491,24,14508,24,14512,null,null,null,null,0,122]
[12,14620,24,14630,24,14634,null,null,null,null,0,122]
[12,14726,24,14738,24,14743,null,null,null,null,0,122]
[12,14839,24,14854,24,14859,null,null,null,null,0,122]
[21,14971,22,14975,24,14981,null,null,null,null,0,222]
[12,15075,24,15088,24,15092,null,null,null,null,0,122]
[21,15204,22,15207,24,15213,null,null,null,null,0,222]
[12,15322,24,15333,24,15340,null,null,null,null,0,122]
[12,15440,24,15449,24,15454,null,null,null,null,0,122]
[12,15556,24,15571,24,15576,null,null,null,null,0,122]
[12,15733,24,15743,24,15746,null,null,null,null,0,122]
[21,15855,22,15859,24,15865,null,null,null,null,0,222]
[12,15960,24,15968,24,15972,null,null,null,null,0,122]
[12,16069,13,16071,24,16084,null,null,null,null,0,112]
[12,16179,24,16189,24,16194,null,null,null,null,0,122]
[21,16347,22,16353,24,16358,null,null,null,null,0,222]
[12,16456,24,16464,24,16472,null,null,null,null,0,122]
[21,16576,22,16579,24,16584,null,null,null,null,0,222]
[12,16716,24,16727,24,16730,null,null,null,null,0,122]
[12,16829,24,16837,24,16841,null,null,null,null,0,122]
[21,17053,22,17055,24,17061,null,null,null,null,0,222]
[12,17160,24,17169,24,17176,null,null,null,null,0,122]
[12,17295,24,17304,24,17309,null,null,null,null,0,122]
[12,17403,24,17416,24,17419,null,null,null,null,0,122]
[12,17514,24,17526,24,17530,null,null,null,null,0,122]
[12,17629,24,17638,24,17643,null,null,null,null,0,122]
[12,17737,24,17749,24,17753,null,null,null,null,0,122]
[12,17867,24,17876,24,17888,null,null,null,null,0,122]
[12,17982,24,17991,24,17994,null,null,null,null,0,122]
[12,18090,24,18099,24,18103,null,null,null,null,0,122]
[12,18202,24,18210,24,18216,null,null,null,null,0,122]
[12,18326,24,18334,24,18338,null,null,null,null,0,122]
[12,18436,13,18439,24,18450,null,null,null,null,0,112]
[12,18557,24,18566,24,18585,null,null,null,null,0,122]
[12,18684,24,18693,24,18696,null,null,null,null,0,122]
[12,18797,24,18807,24,18811,null,null,null,null,0,122]
[12,18906,24,18921,24,18924,null,null,null,null,0,122]
[12,19029,24,19045,24,19052,null,null,null,null,0,122]
[12,19149,24,19157,24,19165,null,null,null,null,0,122]
[21,19278,22,19283,24,19288,null,null,null,null,0,222]
[12,19385,13,19387,24,19401,null,null,null,null,0,112]
[12,19497,24,19509,24,19512,null,null,null,null,0,122]
[12,19606,24,19617,24,19623,null,null,null,null,0,122]
[12,19727,24,19737,24,19748,null,null,null,null,0,122]
[12,19841,24,19852,24,19855,null,null,null,null,0,122]
[12,19952,24,19964,24,19966,null,null,null,null,0,122]
[12,20062,24,20072,24,20085,null,null,null,null,0,122]
[12,20182,13,20187,24,20200,null,null,null,null,0,112]
[12,20296,24,20311,24,20316,null,null,null,null,0,122]
[12,20416,24,20428,24,20433,null,null,null,null,0,122]
[12,20528,24,20543,24,20550,null,null,null,null,0,122]
[12,20649,24,20658,24,20664,null,null,null,null,0,122]
[12,20759,13,20761,24,20773,null,null,null,null,0,112]
[12,20884,24,20893,24,20900,null,null,null,null,0,122]
[12,20996,24,21010,24,21015,null,null,null,null,0,122]
[12,21110,13,21114,24,21127,null,null,null,null,0,112]
[12,21270,24,21280,24,21284,null,null,null,null,0,122]
[12,21379,24,21396,24,21400,null,null,null,null,0,122]
[12,21495,24,21508,24,21512,null,null,null,null,0,122]
[12,21606,24,21609,24,21622,null,null,null,null,0,122]
[12,21740,24,21751,24,21754,null,null,null,null,0,122]
[12,21852,24,21859,24,21864,null,null,null,null,0,122]
[21,21992,22,21998,24,22004,null,null,null,null,0,222]
[12,22136,24,22146,24,22151,null,null,null,null,0,122]
[12,22249,24,22265,24,22270,null,null,null,null,0,122]
[12,22385,24,22396,24,22401,null,null,null,null,0,122]
[12,22495,24,22509,24,22513,null,null,null,null,0,122]
[12,22607,24,22616,24,22621,null,null,null,null,0,122]
[12,22718,24,22730,24,22734,null,null,null,null,0,122]
[12,22829,24,22838,24,22842,null,null,null,null,0,122]
[12,22940,24,22951,24,22954,null,null,null,null,0,122]
[21,23059,22,23063,24,23070,null,null,null,null,0,222]
[12,23166,24,23176,24,23182,null,null,null,null,0,122]
[21,23292,22,23300,24,23307,null,null,null,null,0,222]
[12,23404,24,23418,24,23422,null,null,null,null,0,122]
[12,23550,24,23561,24,23565,null,null,null,null,0,122]
[12,23661,24,23678,24,23682,null,null,null,null,0,122]
[12,23779,24,23793,24,23799,null,null,null,null,0,122]
[12,23893,24,23905,24,23910,null,null,null,null,0,122]
[12,23999,null,null,null,null,null,null,null,null,null,1]

{"sheet":"!L82890T.ayl","index":4,"n_rows":182,"n_cols":48,"rows_kept":182,"cut":false,"hidden":false,"merged":[[4,39,4,42],[5,39,5,40],[4,44,4,47],[5,44,5,45],[4,24,4,27],[5,24,5,25],[4,29,4,32],[5,29,5,30],[4,34,4,37],[5,34,5,35],[1,1,1,2],[5,13,5,14],[18,13,18,14],[19,13,19,14],[4,19,4,22],[5,19,5,20]]}
["Report for:!L82890T.ayl"]
["Date:","<date>"]
["Hen:","<hen>",null,null,null,"Correct Sequence",{"$f":"Start!J2","v":211},null,null,null,null,null,null,null,null,"Total Sequences in Data",{"$f":"4994-COUNTBLANK(L7:L5000)","v":176},null,null,null,null,"Total Sequences in Block Data",{"$f":"COUNTA(L7:L35)","v":29},null,null,null,"Total Sequences in Block Data",{"$f":"COUNTA(L36:L65)","v":30},null,null,null,"Total Sequences in Block Data",{"$f":"COUNTA(L66:L94)","v":29},null,null,null,"Total Sequences in Block Data",{"$f":"COUNTA(L95:L123)","v":29},null,null,null,"Total Sequences in Block Data",{"$f":"COUNTA(L124:L153)","v":30},null,null,null,"Total Sequences in Block Data",{"$f":"COUNTA(L154:L182)","v":29}]
[null,null,null,null,null,null,null,null,null,null,null,null,null,null,null,"Total Sequences in Summary",{"$f":"SUM(O7:O14)","v":176},null,null,null,null,"Total Sequences in Block Summary",{"$f":"SUM(U7:U14)","v":29},null,null,null,"Total Sequences in Block Summary",{"$f":"SUM(Z7:Z14)","v":30},null,null,null,"Total Sequences in Block Summary",{"$f":"SUM(AE7:AE14)","v":29},null,null,null,"Total Sequences in Block Summary",{"$f":"SUM(AJ7:AJ14)","v":29},null,null,null,"Total Sequences in Block Summary",{"$f":"SUM(AO7:AO14)","v":30},null,null,null,"Total Sequences in Block Summary",{"$f":"SUM(AT7:AT14)","v":29}]
[null,null,null,null,null,null,null,null,null,null,null,null,null,null,null,null,null,null,null,"Block 1",null,null,null,null,"Block 2",null,null,null,null,"Block 3",null,null,null,null,"Block 4",null,null,null,null,"Block 5",null,null,null,null,"Block 6"]
["Sequence\nComponent\n1","Time\n1","Sequence\nComponent\n2","Time\n2","Sequence\nComponent\n3","Time\n3","Sequence\nComponent\n4","Time\n4","Sequence\nComponent\n5","Time\n5","Correct?\n0=No 1=Yes","Sequence",null,"Frequency",null,"Relative Frequency","Variability",null,null,"Frequency",null,"Relative Frequency","Variability",null,"Frequency",null,"Relative Frequency","Variability",null,"Frequency",null,"Relative Frequency","Variability",null,"Frequency",null,"Relative Frequency","Variability",null,"Frequency",null,"Relative Frequency","Variability",null,"Frequency",null,"Relative Frequency","Variability"]
[12,877,24,902,24,908,null,null,null,null,0,122,null,111,{"$f":"COUNTIF($L$7:$L$500,N7)","v":0},{"$f":"O7/$Q$4","v":0},{"$f":"IF(P7=0,0,(P7*((LOG(P7))/LOG(2))))","v":0},null,null,{"$f":"N7","v":111},{"$f":"COUNTIF(L7:L35,T7)","v":0},{"$f":"U7/(W4-U11)","v":0},{"$f":"IF(V7=0,0,(V7*((LOG(V7))/LOG(2))))","v":0},null,{"$f":"N7","v":111},{"$f":"COUNTIF(L36:L65,Y7)","v":0},{"$f":"Z7/(AB4-Z11)","v":0},{"$f":"IF(AA7=0,0,(AA7*((LOG(AA7))/LOG(2))))","v":0},null,{"$f":"N7","v":111},{"$f":"COUNTIF(L66:L94,AD7)","v":0},{"$f":"AE7/(AG4-AE11)","v":0},{"$f":"IF(AF7=0,0,(AF7*((LOG(AF7))/LOG(2))))","v":0},null,{"$f":"N7","v":111},{"$f":"COUNTIF(L95:L123,AI7)","v":0},{"$f":"AJ7/(AL4-AJ11)","v":0},{"$f":"IF(AK7=0,0,(AK7*((LOG(AK7))/LOG(2))))","v":0},null,{"$f":"N7","v":111},{"$f":"COUNTIF(L124:L153,AN7)","v":0},{"$f":"AO7/(AQ4-AO11)","v":0},{"$f":"IF(AP7=0,0,(AP7*((LOG(AP7))/LOG(2))))","v":0},null,{"$f":"N7","v":111},{"$f":"COUNTIF(L154:L182,AS7)","v":0},{"$f":"AT7/(AV4-AT11)","v":0},{"$f":"IF(AU7=0,0,(AU7*((LOG(AU7))/LOG(2))))","v":0}]
[12,1075,24,1082,24,1089,null,null,null,null,0,122,null,112,{"$f":"COUNTIF($L$7:$L$500,N8)","v":17},{"$f":"O8/$Q$4","v":9.6590909090909088E-2},{"$f":"IF(P8=0,0,(P8*((LOG(P8))/LOG(2))))","v":-0.32570152963396748},null,null,{"$f":"N8","v":112},{"$f":"COUNTIF(L7:L35,T8)","v":1},{"$f":"U8/(W4-U11)","v":3.4482758620689655E-2},{"$f":"IF(V8=0,0,(V8*((LOG(V8))/LOG(2))))","v":-0.16751658603888178},null,{"$f":"N8","v":112},{"$f":"COUNTIF(L36:L65,Y8)","v":0},{"$f":"Z8/(AB4-Z11)","v":0},{"$f":"IF(AA8=0,0,(AA8*((LOG(AA8))/LOG(2))))","v":0},null,{"$f":"N8","v":112},{"$f":"COUNTIF(L66:L94,AD8)","v":4},{"$f":"AE8/(AG4-AE11)","v":0.13793103448275862},{"$f":"IF(AF8=0,0,(AF8*((LOG(AF8))/LOG(2))))","v":-0.39420427519000989},null,{"$f":"N8","v":112},{"$f":"COUNTIF(L95:L123,AI8)","v":1},{"$f":"AJ8/(AL4-AJ11)","v":3.4482758620689655E-2},{"$f":"IF(AK8=0,0,(AK8*((LOG(AK8))/LOG(2))))","v":-0.16751658603888178},null,{"$f":"N8","v":112},{"$f":"COUNTIF(L124:L153,AN8)","v":4},{"$f":"AO8/(AQ4-AO11)","v":0.13333333333333333},{"$f":"IF(AP8=0,0,(AP8*((LOG(AP8))/LOG(2))))","v":-0.3875854127478025},null,{"$f":"N8","v":112},{"$f":"COUNTIF(L154:L182,AS8)","v":7},{"$f":"AT8/(AV4-AT11)","v":0.2413793103448276},{"$f":"IF(AU8=0,0,(AU8*((LOG(AU8))/LOG(2))))","v":-0.49497870729275095}]
[21,1196,22,1209,24,1215,null,null,null,null,0,222,null,121,{"$f":"COUNTIF($L$7:$L$500,N9)","v":0},{"$f":"O9/$Q$4","v":0},{"$f":"IF(P9=0,0,(P9*((LOG(P9))/LOG(2))))","v":0},null,null,{"$f":"N9","v":121},{"$f":"COUNTIF(L7:L35,T9)","v":0},{"$f":"U9/(W4-U11)","v":0},{"$f":"IF(V9=0,0,(V9*((LOG(V9))/LOG(2))))","v":0},null,{"$f":"N9","v":121},{"$f":"COUNTIF(L36:L65,Y9)","v":0},{"$f":"Z9/(AB4-Z11)","v":0},{"$f":"IF(AA9=0,0,(AA9*((LOG(AA9))/LOG(2))))","v":0},null,{"$f":"N9","v":121},{"$f":"COUNTIF(L66:L94,AD9)","v":0},{"$f":"AE9/(AG4-AE11)","v":0},{"$f":"IF(AF9=0,0,(AF9*((LOG(AF9))/LOG(2))))","v":0},null,{"$f":"N9","v":121},{"$f":"COUNTIF(L95:L123,AI9)","v":0},{"$f":"AJ9/(AL4-AJ11)","v":0},{"$f":"IF(AK9=0,0,(AK9*((LOG(AK9))/LOG(2))))","v":0},null,{"$f":"N9","v":121},{"$f":"COUNTIF(L124:L153,AN9)","v":0},{"$f":"AO9/(AQ4-AO11)","v":0},{"$f":"IF(AP9=0,0,(AP9*((LOG(AP9))/LOG(2))))","v":0},null,{"$f":"N9","v":121},{"$f":"COUNTIF(L154:L182,AS9)","v":0},{"$f":"AT9/(AV4-AT11)","v":0},{"$f":"IF(AU9=0,0,(AU9*((LOG(AU9))/LOG(2))))","v":0}]
[12,1318,24,1328,24,1336,null,null,null,null,0,122,null,122,{"$f":"COUNTIF($L$7:$L$500,N10)","v":111},{"$f":"O10/$Q$4","v":0.63068181818181823},{"$f":"IF(P10=0,0,(P10*((LOG(P10))/LOG(2))))","v":-0.41941334377203532},null,null,{"$f":"N10","v":122},{"$f":"COUNTIF(L7:L35,T10)","v":16},{"$f":"U10/(W4-U11)","v":0.55172413793103448},{"$f":"IF(V10=0,0,(V10*((LOG(V10))/LOG(2))))","v":-0.47336882489797077},null,{"$f":"N10","v":122},{"$f":"COUNTIF(L36:L65,Y10)","v":22},{"$f":"Z10/(AB4-Z11)","v":0.73333333333333328},{"$f":"IF(AA10=0,0,(AA10*((LOG(AA10))/LOG(2))))","v":-0.32813658311222899},null,{"$f":"N10","v":122},{"$f":"COUNTIF(L66:L94,AD10)","v":18},{"$f":"AE10/(AG4-AE11)","v":0.62068965517241381},{"$f":"IF(AF10=0,0,(AF10*((LOG(AF10))/LOG(2))))","v":-0.4270692374598164},null,{"$f":"N10","v":122},{"$f":"COUNTIF(L95:L123,AI10)","v":19},{"$f":"AJ10/(AL4-AJ11)","v":0.65517241379310343},{"$f":"IF(AK10=0,0,(AK10*((LOG(AK10))/LOG(2))))","v":-0.39969021213778433},null,{"$f":"N10","v":122},{"$f":"COUNTIF(L124:L153,AN10)","v":18},{"$f":"AO10/(AQ4-AO11)","v":0.6},{"$f":"IF(AP10=0,0,(AP10*((LOG(AP10))/LOG(2))))","v":-0.44217935649972373},null,{"$f":"N10","v":122},{"$f":"COUNTIF(L154:L182,AS10)","v":18},{"$f":"AT10/(AV4-AT11)","v":0.62068965517241381},{"$f":"IF(AU10=0,0,(AU10*((LOG(AU10))/LOG(2))))","v":-0.4270692374598164}]
[12,2138,13,2142,24,2150,null,null,null,null,0,112,null,211,{"$f":"COUNTIF($L$7:$L$500,N11)","v":0},{"$f":"O11/$Q$4","v":0},{"$f":"IF(P11=0,0,(P11*((LOG(P11))/LOG(2))))","v":0},null,null,{"$f":"N11","v":211},{"$f":"COUNTIF(L7:L35,T11)","v":0},null,null,null,{"$f":"N11","v":211},{"$f":"COUNTIF(L36:L65,Y11)","v":0},null,null,null,{"$f":"N11","v":211},{"$f":"COUNTIF(L66:L94,AD11)","v":0},null,null,null,{"$f":"N11","v":211},{"$f":"COUNTIF(L95:L123,AI11)","v":0},null,null,null,{"$f":"N11","v":211},{"$f":"COUNTIF(L124:L153,AN11)","v":0},null,null,null,{"$f":"N11","v":211},{"$f":"COUNTIF(L154:L182,AS11)","v":0}]
[21,2262,22,2268,24,2280,null,null,null,null,0,222,null,212,{"$f":"COUNTIF($L$7:$L$500,N12)","v":0},{"$f":"O12/$Q$4","v":0},{"$f":"IF(P12=0,0,(P12*((LOG(P12))/LOG(2))))","v":0},null,null,{"$f":"N12","v":212},{"$f":"COUNTIF(L7:L35,T12)","v":0},{"$f":"U12/(W4-U11)","v":0},{"$f":"IF(V12=0,0,(V12*((LOG(V12))/LOG(2))))","v":0},null,{"$f":"N12","v":212},{"$f":"COUNTIF(L36:L65,Y12)","v":0},{"$f":"Z12/(AB4-Z11)","v":0},{"$f":"IF(AA12=0,0,(AA12*((LOG(AA12))/LOG(2))))","v":0},null,{"$f":"N12","v":212},{"$f":"COUNTIF(L66:L94,AD12)","v":0},{"$f":"AE12/(AG4-AE11)","v":0},{"$f":"IF(AF12=0,0,(AF12*((LOG(AF12))/LOG(2))))","v":0},null,{"$f":"N12","v":212},{"$f":"COUNTIF(L95:L123,AI12)","v":0},{"$f":"AJ12/(AL4-AJ11)","v":0},{"$f":"IF(AK12=0,0,(AK12*((LOG(AK12))/LOG(2))))","v":0},null,{"$f":"N12","v":212},{"$f":"COUNTIF(L124:L153,AN12)","v":0},{"$f":"AO12/(AQ4-AO11)","v":0},{"$f":"IF(AP12=0,0,(AP12*((LOG(AP12))/LOG(2))))","v":0},null,{"$f":"N12","v":212},{"$f":"COUNTIF(L154:L182,AS12)","v":0},{"$f":"AT12/(AV4-AT11)","v":0},{"$f":"IF(AU12=0,0,(AU12*((LOG(AU12))/LOG(2))))","v":0}]
[21,2386,22,2390,24,2398,null,null,null,null,0,222,null,221,{"$f":"COUNTIF($L$7:$L$500,N13)","v":0},{"$f":"O13/$Q$4","v":0},{"$f":"IF(P13=0,0,(P13*((LOG(P13))/LOG(2))))","v":0},null,null,{"$f":"N13","v":221},{"$f":"COUNTIF(L7:L35,T13)","v":0},{"$f":"U13/(W4-U11)","v":0},{"$f":"IF(V13=0,0,(V13*((LOG(V13))/LOG(2))))","v":0},null,{"$f":"N13","v":221},{"$f":"COUNTIF(L36:L65,Y13)","v":0},{"$f":"Z13/(AB4-Z11)","v":0},{"$f":"IF(AA13=0,0,(AA13*((LOG(AA13))/LOG(2))))","v":0},null,{"$f":"N13","v":221},{"$f":"COUNTIF(L66:L94,AD13)","v":0},{"$f":"AE13/(AG4-AE11)","v":0},{"$f":"IF(AF13=0,0,(AF13*((LOG(AF13))/LOG(2))))","v":0},null,{"$f":"N13","v":221},{"$f":"COUNTIF(L95:L123,AI13)","v":0},{"$f":"AJ13/(AL4-AJ11)","v":0},{"$f":"IF(AK13=0,0,(AK13*((LOG(AK13))/LOG(2))))","v":0},null,{"$f":"N13","v":221},{"$f":"COUNTIF(L124:L153,AN13)","v":0},{"$f":"AO13/(AQ4-AO11)","v":0},{"$f":"IF(AP13=0,0,(AP13*((LOG(AP13))/LOG(2))))","v":0},null,{"$f":"N13","v":221},{"$f":"COUNTIF(L154:L182,AS13)","v":0},{"$f":"AT13/(AV4-AT11)","v":0},{"$f":"IF(AU13=0,0,(AU13*((LOG(AU13))/LOG(2))))","v":0}]
[12,2497,24,2513,24,2522,null,null,null,null,0,122,null,222,{"$f":"COUNTIF($L$7:$L$500,N14)","v":48},{"$f":"O14/$Q$4","v":0.27272727272727271},{"$f":"IF(P14=0,0,(P14*((LOG(P14))/LOG(2))))","v":-0.51121885034076575},null,null,{"$f":"N14","v":222},{"$f":"COUNTIF(L7:L35,T14)","v":12},{"$f":"U14/(W4-U11)","v":0.41379310344827586},{"$f":"IF(V14=0,0,(V14*((LOG(V14))/LOG(2))))","v":-0.5267662735474824},null,{"$f":"N14","v":222},{"$f":"COUNTIF(L36:L65,Y14)","v":8},{"$f":"Z14/(AB4-Z11)","v":0.26666666666666666},{"$f":"IF(AA14=0,0,(AA14*((LOG(AA14))/LOG(2))))","v":-0.50850415882893829},null,{"$f":"N14","v":222},{"$f":"COUNTIF(L66:L94,AD14)","v":7},{"$f":"AE14/(AG4-AE11)","v":0.2413793103448276},{"$f":"IF(AF14=0,0,(AF14*((LOG(AF14))/LOG(2))))","v":-0.49497870729275095},null,{"$f":"N14","v":222},{"$f":"COUNTIF(L95:L123,AI14)","v":9},{"$f":"AJ14/(AL4-AJ11)","v":0.31034482758620691},{"$f":"IF(AK14=0,0,(AK14*((LOG(AK14))/LOG(2))))","v":-0.52387944631611505},null,{"$f":"N14","v":222},{"$f":"COUNTIF(L124:L153,AN14)","v":8},{"$f":"AO14/(AQ4-AO11)","v":0.26666666666666666},{"$f":"IF(AP14=0,0,(AP14*((LOG(AP14))/LOG(2))))","v":-0.50850415882893829},null,{"$f":"N14","v":222},{"$f":"COUNTIF(L154:L182,AS14)","v":4},{"$f":"AT14/(AV4-AT11)","v":0.13793103448275862},{"$f":"IF(AU14=0,0,(AU14*((LOG(AU14))/LOG(2))))","v":-0.39420427519000989}]
[12,2618,24,2628,24,2634,null,null,null,null,0,122,null,null,null,{"$f":"SUM(P7:P14)","v":1},{"$f":"-SUM(Q7:Q14)","v":1.2563337237467684},null,null,null,null,{"$f":"SUM(V7:V14)","v":1},{"$f":"-SUM(W7:W14)","v":1.167651684484335},null,null,null,{"$f":"SUM(AA7:AA14)","v":1},{"$f":"-SUM(AB7:AB14)","v":0.83664074194116722},null,null,null,{"$f":"SUM(AF7:AF14)","v":1},{"$f":"-SUM(AG7:AG14)","v":1.3162522199425772},null,null,null,{"$f":"SUM(AK7:AK14)","v":1},{"$f":"-SUM(AL7:AL14)","v":1.0910862444927811},null,null,null,{"$f":"SUM(AP7:AP14)","v":1},{"$f":"-SUM(AQ7:AQ14)","v":1.3382689280764646},null,null,null,{"$f":"SUM(AU7:AU14)","v":1},{"$f":"-SUM(AV7:AV14)","v":1.3162522199425772}]
[21,2741,22,2745,24,2751,null,null,null,null,0,222,null,null,null,"U=",{"$f":"Q15/(LOG(Q4)/LOG(2))","v":0.16842217852199814},null,null,null,null,"U1=",{"$f":"W15/(LOG(W4)/LOG(2))","v":0.240357400668191},null,null,null,"U2=",{"$f":"AB15/(LOG(AB4)/LOG(2))","v":0.1705032394017362},null,null,null,"U3=",{"$f":"AG15/(LOG(AG4)/LOG(2))","v":0.27094635019419466},null,null,null,"U4=",{"$f":"AL15/(LOG(AL4)/LOG(2))","v":0.22459664736999016},null,null,null,"U5=",{"$f":"AQ15/(LOG(AQ4)/LOG(2))","v":0.27273257921710431},null,null,null,"U6=",{"$f":"AV15/(LOG(AV4)/LOG(2))","v":0.27094635019419466}]
[12,2848,24,2855,24,2861,null,null,null,null,0,122]
[12,2951,24,2959,24,2963,null,null,null,null,0,122]
[21,3077,22,3082,24,3087,null,null,null,null,0,222,null,"Total Target Seq"]
[12,3182,24,3197,24,3201,null,null,null,null,0,122,null,{"$f":"COUNTIF(L7:L182,G3)","v":0},null,29,30,29,29,30,29]
[21,4194,22,4199,24,4217,null,null,null,null,0,222,null,null,null,"% of reinforcement given in 6 equal intervals based on number of trials "]
[12,4316,24,4330,24,4335,null,null,null,null,0,122,null,null,null,"%_1","%_2","%_3","%_4","%_5","%_6"]
[21,4493,22,4496,24,4501,null,null,null,null,0,222,null,null,"target sequence",{"$f":"$G$3","v":211},{"$f":"$G$3","v":211},{"$f":"$G$3","v":211},{"$f":"$G$3","v":211},{"$f":"$G$3","v":211},{"$f":"$G$3","v":211}]
[12,4596,24,4605,24,4607,null,null,null,null,0,122,null,null,"total reinforcement",{"$f":"U11","v":0},{"$f":"Z11","v":0},{"$f":"AE11","v":0},{"$f":"AJ11","v":0},{"$f":"AO11","v":0},{"$f":"AT11","v":0}]
[12,4722,24,4738,24,4744,null,null,null,null,0,122,null,null,"% target"]
[21,4848,22,4855,24,4860,null,null,null,null,0,222,null,null,"CCRF"]
[12,4955,24,4967,24,4969,null,null,null,null,0,122,null,null,"% CCRf"]
[12,5064,24,5078,24,5082,null,null,null,null,0,122,null,null,"average response rate",{"$f":"F35/P20","v":203.9655172413793},{"$f":"(F65-F35)/Q20","v":121.33333333333333},{"$f":"(F94-F65)/R20","v":118.65517241379311},{"$f":"(F123-F94)/S20","v":124.96551724137932},{"$f":"(F153-F123)/T20","v":126.03333333333333},{"$f":"(F182-F153)/U20","v":117.68965517241379}]
[21,5211,22,5217,24,5223,null,null,null,null,0,222]
[12,5318,24,5329,24,5333,null,null,null,null,0,122]
[12,5430,24,5442,24,5446,null,null,null,null,0,122]
[21,5548,22,5555,24,5559,null,null,null,null,0,222]
[12,5655,24,5669,24,5673,null,null,null,null,0,122]
[21,5784,22,5789,24,5793,null,null,null,null,0,222]
[21,5897,22,5901,24,5915,null,null,null,null,0,222]
[12,6015,24,6026,24,6029,null,null,null,null,0,122]
[21,6157,22,6161,24,6165,null,null,null,null,0,222]
[12,6258,24,6268,24,6271,null,null,null,null,0,122]
[12,6365,24,6374,24,6382,null,null,null,null,0,122]
[21,6485,22,6491,24,6495,null,null,null,null,0,222]
[12,6594,24,6609,24,6619,null,null,null,null,0,122]
[12,6710,24,6718,24,6726,null,null,null,null,0,122]
[12,6825,24,6840,24,6845,null,null,null,null,0,122]
[12,6939,24,6953,24,6956,null,null,null,null,0,122]
[12,7053,24,7060,24,7065,null,null,null,null,0,122]
[12,7161,24,7174,24,7179,null,null,null,null,0,122]
[12,7275,24,7283,24,7297,null,null,null,null,0,122]
[12,7391,24,7405,24,7409,null,null,null,null,0,122]
[21,7520,22,7525,24,7531,null,null,null,null,0,222]
[21,7813,22,7816,24,7821,null,null,null,null,0,222]
[12,7913,24,7927,24,7931,null,null,null,null,0,122]
[12,8028,24,8041,24,8046,null,null,null,null,0,122]
[12,8140,24,8159,24,8162,null,null,null,null,0,122]
[12,8258,24,8272,24,8275,null,null,null,null,0,122]
[21,8402,22,8405,24,8416,null,null,null,null,0,222]
[12,8513,24,8525,24,8529,null,null,null,null,0,122]
[12,8617,24,8631,24,8636,null,null,null,null,0,122]
[12,8730,24,8739,24,8744,null,null,null,null,0,122]
[12,8838,24,8850,24,8855,null,null,null,null,0,122]
[21,8959,22,8964,24,8969,null,null,null,null,0,222]
[21,9076,22,9080,24,9086,null,null,null,null,0,222]
[12,9178,24,9187,24,9193,null,null,null,null,0,122]
[12,9289,24,9302,24,9306,null,null,null,null,0,122]
[21,9433,22,9438,24,9441,null,null,null,null,0,222]
[12,9534,24,9550,24,9555,null,null,null,null,0,122]
[12,9655,24,9667,24,9671,null,null,null,null,0,122]
[21,9798,22,9805,24,9812,null,null,null,null,0,222]
[21,9933,22,9938,24,9942,null,null,null,null,0,222]
[12,10038,24,10048,24,10049,null,null,null,null,0,122]
[21,10155,22,10161,24,10165,null,null,null,null,0,222]
[12,10264,13,10267,24,10275,null,null,null,null,0,112]
[21,10384,22,10388,24,10396,null,null,null,null,0,222]
[12,10492,24,10510,24,10514,null,null,null,null,0,122]
[12,10612,13,10618,24,10631,null,null,null,null,0,112]
[21,10739,22,10741,24,10748,null,null,null,null,0,222]
[12,10844,24,10859,24,10864,null,null,null,null,0,122]
[12,10969,24,10979,24,10991,null,null,null,null,0,122]
[12,11088,24,11102,24,11105,null,null,null,null,0,122]
[12,11204,24,11217,24,11220,null,null,null,null,0,122]
[21,11368,22,11371,24,11375,null,null,null,null,0,222]
[12,11473,24,11485,24,11490,null,null,null,null,0,122]
[12,11586,24,11594,24,11603,null,null,null,null,0,122]
[12,11700,13,11704,24,11715,null,null,null,null,0,112]
[12,11812,24,11820,24,11824,null,null,null,null,0,122]
[12,11920,24,11931,24,11939,null,null,null,null,0,122]
[12,12036,24,12046,24,12053,null,null,null,null,0,122]
[12,12147,13,12151,24,12164,null,null,null,null,0,112]
[21,12285,22,12297,24,12303,null,null,null,null,0,222]
[12,12414,24,12430,24,12437,null,null,null,null,0,122]
[12,12526,24,12537,24,12541,null,null,null,null,0,122]
[12,12639,24,12653,24,12657,null,null,null,null,0,122]
[12,12756,24,12763,24,12768,null,null,null,null,0,122]
[12,12863,24,12878,24,12883,null,null,null,null,0,122]
[12,12980,24,12991,24,12996,null,null,null,null,0,122]
[21,13327,22,13334,24,13339,null,null,null,null,0,222]
[21,13443,22,13449,24,13455,null,null,null,null,0,222]
[21,13559,22,13566,24,13571,null,null,null,null,0,222]
[21,13673,22,13678,24,13682,null,null,null,null,0,222]
[12,13793,24,13796,24,13802,null,null,null,null,0,122]
[12,13898,24,13911,24,13915,null,null,null,null,0,122]
[21,14028,22,14034,24,14044,null,null,null,null,0,222]
[12,14140,24,14153,24,14156,null,null,null,null,0,122]
[21,14282,22,14287,24,14295,null,null,null,null,0,222]
[12,14394,24,14407,24,14411,null,null,null,null,0,122]
[12,14507,24,14518,24,14522,null,null,null,null,0,122]
[12,14619,24,14631,24,14634,null,null,null,null,0,122]
[12,14730,24,14741,24,14746,null,null,null,null,0,122]
[21,14847,22,14853,24,14857,null,null,null,null,0,222]
[12,14953,24,14965,24,14967,null,null,null,null,0,122]
[12,15062,24,15072,24,15077,null,null,null,null,0,122]
[12,15172,24,15183,24,15187,null,null,null,null,0,122]
[12,15286,24,15294,24,15297,null,null,null,null,0,122]
[21,15417,22,15426,24,15439,null,null,null,null,0,222]
[12,15577,24,15593,24,15599,null,null,null,null,0,122]
[21,15709,22,15713,24,15716,null,null,null,null,0,222]
[12,15812,24,15823,24,15834,null,null,null,null,0,122]
[12,15930,24,15943,24,15947,null,null,null,null,0,122]
[12,16041,24,16052,24,16057,null,null,null,null,0,122]
[12,16160,24,16167,24,16172,null,null,null,null,0,122]
[12,16264,24,16274,24,16285,null,null,null,null,0,122]
[12,16380,24,16392,24,16396,null,null,null,null,0,122]
[12,16493,24,16502,24,16509,null,null,null,null,0,122]
[12,16602,13,16606,24,16620,null,null,null,null,0,112]
[21,16738,22,16768,24,16771,null,null,null,null,0,222]
[21,16878,22,16884,24,16889,null,null,null,null,0,222]
[12,16978,24,16988,24,16992,null,null,null,null,0,122]
[21,17129,22,17133,24,17136,null,null,null,null,0,222]
[12,17234,24,17243,24,17247,null,null,null,null,0,122]
[12,17346,24,17358,24,17366,null,null,null,null,0,122]
[12,17460,24,17470,24,17477,null,null,null,null,0,122]
[21,17833,22,17835,24,17839,null,null,null,null,0,222]
[21,17947,22,17951,24,17955,null,null,null,null,0,222]
[12,18050,24,18060,24,18063,null,null,null,null,0,122]
[12,18158,24,18173,24,18179,null,null,null,null,0,122]
[12,18273,24,18288,24,18293,null,null,null,null,0,122]
[12,18390,24,18404,24,18408,null,null,null,null,0,122]
[12,18509,24,18517,24,18519,null,null,null,null,0,122]
[12,18615,13,18617,24,18626,null,null,null,null,0,112]
[12,18723,24,18735,24,18740,null,null,null,null,0,122]
[12,18829,24,18843,24,18851,null,null,null,null,0,122]
[12,18949,24,18958,24,18965,null,null,null,null,0,122]
[21,19073,22,19077,24,19082,null,null,null,null,0,222]
[12,19184,24,19199,24,19203,null,null,null,null,0,122]
[12,19300,13,19302,24,19312,null,null,null,null,0,112]
[12,19408,24,19422,24,19426,null,null,null,null,0,122]
[21,19536,22,19542,24,19547,null,null,null,null,0,222]
[12,19643,24,19655,24,19656,null,null,null,null,0,122]
[12,19755,13,19758,24,19771,null,null,null,null,0,112]
[12,19873,24,19883,24,19887,null,null,null,null,0,122]
[21,20053,22,20056,24,20060,null,null,null,null,0,222]
[12,20153,13,20155,24,20167,null,null,null,null,0,112]
[12,20270,24,20283,24,20289,null,null,null,null,0,122]
[12,20384,24,20397,24,20401,null,null,null,null,0,122]
[12,20496,13,20499,24,20506,null,null,null,null,0,112]
[12,20602,13,20606,24,20616,null,null,null,null,0,112]
[12,20710,24,20722,24,20724,null,null,null,null,0,122]
[12,20818,24,20829,24,20833,null,null,null,null,0,122]
[12,20930,13,20932,24,20943,null,null,null,null,0,112]
[12,21040,24,21048,24,21055,null,null,null,null,0,122]
[21,21172,22,21176,24,21188,null,null,null,null,0,222]
[21,21292,22,21297,24,21302,null,null,null,null,0,222]
[12,21398,13,21402,24,21413,null,null,null,null,0,112]
[12,21511,13,21514,24,21525,null,null,null,null,0,112]
[12,21621,13,21625,24,21638,null,null,null,null,0,112]
[12,21732,24,21739,24,21750,null,null,null,null,0,122]
[12,21846,24,21859,24,21864,null,null,null,null,0,122]
[12,21960,13,21962,24,21975,null,null,null,null,0,112]
[12,22072,24,22084,24,22092,null,null,null,null,0,122]
[12,22197,24,22208,24,22212,null,null,null,null,0,122]
[12,22308,24,22321,24,22326,null,null,null,null,0,122]
[12,22434,24,22442,24,22449,null,null,null,null,0,122]
[12,22546,24,22561,24,22566,null,null,null,null,0,122]
[12,22662,24,22675,24,22683,null,null,null,null,0,122]
[21,22799,22,22808,24,22814,null,null,null,null,0,222]
[12,22911,24,22919,24,22923,null,null,null,null,0,122]
[12,23020,24,23039,24,23044,null,null,null,null,0,122]
[12,23145,24,23152,24,23156,null,null,null,null,0,122]
[12,23250,24,23258,24,23265,null,null,null,null,0,122]
[12,23431,24,23440,24,23444,null,null,null,null,0,122]
[12,23550,24,23558,24,23567,null,null,null,null,0,122]
[12,23663,24,23677,24,23681,null,null,null,null,0,122]
[21,23795,22,23806,24,23814,null,null,null,null,0,222]

{"sheet":"!L829A4T.ayl","index":5,"n_rows":207,"n_cols":48,"rows_kept":207,"cut":false,"hidden":false,"merged":[[4,39,4,42],[5,39,5,40],[4,44,4,47],[5,44,5,45],[4,24,4,27],[5,24,5,25],[4,29,4,32],[5,29,5,30],[4,34,4,37],[5,34,5,35],[1,1,1,2],[5,13,5,14],[18,13,18,14],[19,13,19,14],[4,19,4,22],[5,19,5,20]]}
["Report for:!L829A4T.ayl"]
["Date:","<date>"]
["Hen:","<hen>",null,null,null,"Correct Sequence",{"$f":"Start!J2","v":211},null,null,null,null,null,null,null,null,"Total Sequences in Data",{"$f":"4994-COUNTBLANK(L7:L5000)","v":201},null,null,null,null,"Total Sequences in Block Data",{"$f":"COUNTA(L7:L40)","v":34},null,null,null,"Total Sequences in Block Data",{"$f":"COUNTA(L41:L73)","v":33},null,null,null,"Total Sequences in Block Data",{"$f":"COUNTA(L74:L107)","v":34},null,null,null,"Total Sequences in Block Data",{"$f":"COUNTA(L108:L140)","v":33},null,null,null,"Total Sequences in Block Data",{"$f":"COUNTA(L141:L174)","v":34},null,null,null,"Total Sequences in Block Data",{"$f":"COUNTA(L175:L207)","v":33}]
[null,null,null,null,null,null,null,null,null,null,null,null,null,null,null,"Total Sequences in Summary",{"$f":"SUM(O7:O14)","v":200},null,null,null,null,"Total Sequences in Block Summary",{"$f":"SUM(U7:U14)","v":34},null,null,null,"Total Sequences in Block Summary",{"$f":"SUM(Z7:Z14)","v":33},null,null,null,"Total Sequences in Block Summary",{"$f":"SUM(AE7:AE14)","v":34},null,null,null,"Total Sequences in Block Summary",{"$f":"SUM(AJ7:AJ14)","v":33},null,null,null,"Total Sequences in Block Summary",{"$f":"SUM(AO7:AO14)","v":34},null,null,null,"Total Sequences in Block Summary",{"$f":"SUM(AT7:AT14)","v":32}]
[null,null,null,null,null,null,null,null,null,null,null,null,null,null,null,null,null,null,null,"Block 1",null,null,null,null,"Block 2",null,null,null,null,"Block 3",null,null,null,null,"Block 4",null,null,null,null,"Block 5",null,null,null,null,"Block 6"]
["Sequence\nComponent\n1","Time\n1","Sequence\nComponent\n2","Time\n2","Sequence\nComponent\n3","Time\n3","Sequence\nComponent\n4","Time\n4","Sequence\nComponent\n5","Time\n5","Correct?\n0=No 1=Yes","Sequence",null,"Frequency",null,"Relative Frequency","Variability",null,null,"Frequency",null,"Relative Frequency","Variability",null,"Frequency",null,"Relative Frequency","Variability",null,"Frequency",null,"Relative Frequency","Variability",null,"Frequency",null,"Relative Frequency","Variability",null,"Frequency",null,"Relative Frequency","Variability",null,"Frequency",null,"Relative Frequency","Variability"]
[21,8,22,14,24,21,null,null,null,null,0,222,null,111,{"$f":"COUNTIF($L$7:$L$500,N7)","v":2},{"$f":"O7/$Q$4","v":0.01},{"$f":"IF(P7=0,0,(P7*((LOG(P7))/LOG(2))))","v":-6.6438561897747245E-2},null,null,{"$f":"N7","v":111},{"$f":"COUNTIF(L7:L40,T7)","v":0},{"$f":"U7/(W4-U11)","v":0},{"$f":"IF(V7=0,0,(V7*((LOG(V7))/LOG(2))))","v":0},null,{"$f":"N7","v":111},{"$f":"COUNTIF(L41:L73,Y7)","v":0},{"$f":"Z7/(AB4-Z11)","v":0},{"$f":"IF(AA7=0,0,(AA7*((LOG(AA7))/LOG(2))))","v":0},null,{"$f":"N7","v":111},{"$f":"COUNTIF(L74:L107,AD7)","v":0},{"$f":"AE7/(AG4-AE11)","v":0},{"$f":"IF(AF7=0,0,(AF7*((LOG(AF7))/LOG(2))))","v":0},null,{"$f":"N7","v":111},{"$f":"COUNTIF(L108:L140,AI7)","v":0},{"$f":"AJ7/(AL4-AJ11)","v":0},{"$f":"IF(AK7=0,0,(AK7*((LOG(AK7))/LOG(2))))","v":0},null,{"$f":"N7","v":111},{"$f":"COUNTIF(L141:L174,AN7)","v":0},{"$f":"AO7/(AQ4-AO11)","v":0},{"$f":"IF(AP7=0,0,(AP7*((LOG(AP7))/LOG(2))))","v":0},null,{"$f":"N7","v":111},{"$f":"COUNTIF(L175:L207,AS7)","v":2},{"$f":"AT7/(AV4-AT11)","v":6.25E-2},{"$f":"IF(AU7=0,0,(AU7*((LOG(AU7))/LOG(2))))","v":-0.25}]
[21,121,22,125,24,131,null,null,null,null,0,222,null,112,{"$f":"COUNTIF($L$7:$L$500,N8)","v":31},{"$f":"O8/$Q$4","v":0.155},{"$f":"IF(P8=0,0,(P8*((LOG(P8))/LOG(2))))","v":-0.41689728130511666},null,null,{"$f":"N8","v":112},{"$f":"COUNTIF(L7:L40,T8)","v":6},{"$f":"U8/(W4-U11)","v":0.17647058823529413},{"$f":"IF(V8=0,0,(V8*((LOG(V8))/LOG(2))))","v":-0.44161770715220888},null,{"$f":"N8","v":112},{"$f":"COUNTIF(L41:L73,Y8)","v":5},{"$f":"Z8/(AB4-Z11)","v":0.15151515151515152},{"$f":"IF(AA8=0,0,(AA8*((LOG(AA8))/LOG(2))))","v":-0.41249485219258958},null,{"$f":"N8","v":112},{"$f":"COUNTIF(L74:L107,AD8)","v":5},{"$f":"AE8/(AG4-AE11)","v":0.14705882352941177},{"$f":"IF(AF8=0,0,(AF8*((LOG(AF8))/LOG(2))))","v":-0.40669628622984955},null,{"$f":"N8","v":112},{"$f":"COUNTIF(L108:L140,AI8)","v":2},{"$f":"AJ8/(AL4-AJ11)","v":6.0606060606060608E-2},{"$f":"IF(AK8=0,0,(AK8*((LOG(AK8))/LOG(2))))","v":-0.24511479511263354},null,{"$f":"N8","v":112},{"$f":"COUNTIF(L141:L174,AN8)","v":8},{"$f":"AO8/(AQ4-AO11)","v":0.23529411764705882},{"$f":"IF(AP8=0,0,(AP8*((LOG(AP8))/LOG(2))))","v":-0.49116772735302094},null,{"$f":"N8","v":112},{"$f":"COUNTIF(L175:L207,AS8)","v":5},{"$f":"AT8/(AV4-AT11)","v":0.15625},{"$f":"IF(AU8=0,0,(AU8*((LOG(AU8))/LOG(2))))","v":-0.41844873517384967}]
[12,227,24,234,24,238,null,null,null,null,0,122,null,121,{"$f":"COUNTIF($L$7:$L$500,N9)","v":0},{"$f":"O9/$Q$4","v":0},{"$f":"IF(P9=0,0,(P9*((LOG(P9))/LOG(2))))","v":0},null,null,{"$f":"N9","v":121},{"$f":"COUNTIF(L7:L40,T9)","v":0},{"$f":"U9/(W4-U11)","v":0},{"$f":"IF(V9=0,0,(V9*((LOG(V9))/LOG(2))))","v":0},null,{"$f":"N9","v":121},{"$f":"COUNTIF(L41:L73,Y9)","v":0},{"$f":"Z9/(AB4-Z11)","v":0},{"$f":"IF(AA9=0,0,(AA9*((LOG(AA9))/LOG(2))))","v":0},null,{"$f":"N9","v":121},{"$f":"COUNTIF(L74:L107,AD9)","v":0},{"$f":"AE9/(AG4-AE11)","v":0},{"$f":"IF(AF9=0,0,(AF9*((LOG(AF9))/LOG(2))))","v":0},null,{"$f":"N9","v":121},{"$f":"COUNTIF(L108:L140,AI9)","v":0},{"$f":"AJ9/(AL4-AJ11)","v":0},{"$f":"IF(AK9=0,0,(AK9*((LOG(AK9))/LOG(2))))","v":0},null,{"$f":"N9","v":121},{"$f":"COUNTIF(L141:L174,AN9)","v":0},{"$f":"AO9/(AQ4-AO11)","v":0},{"$f":"IF(AP9=0,0,(AP9*((LOG(AP9))/LOG(2))))","v":0},null,{"$f":"N9","v":121},{"$f":"COUNTIF(L175:L207,AS9)","v":0},{"$f":"AT9/(AV4-AT11)","v":0},{"$f":"IF(AU9=0,0,(AU9*((LOG(AU9))/LOG(2))))","v":0}]
[12,336,24,348,24,353,null,null,null,null,0,122,null,122,{"$f":"COUNTIF($L$7:$L$500,N10)","v":138},{"$f":"O10/$Q$4","v":0.69},{"$f":"IF(P10=0,0,(P10*((LOG(P10))/LOG(2))))","v":-0.36937889576762345},null,null,{"$f":"N10","v":122},{"$f":"COUNTIF(L7:L40,T10)","v":19},{"$f":"U10/(W4-U11)","v":0.55882352941176472},{"$f":"IF(V10=0,0,(V10*((LOG(V10))/LOG(2))))","v":-0.46915209495083304},null,{"$f":"N10","v":122},{"$f":"COUNTIF(L41:L73,Y10)","v":26},{"$f":"Z10/(AB4-Z11)","v":0.78787878787878785},{"$f":"IF(AA10=0,0,(AA10*((LOG(AA10))/LOG(2))))","v":-0.2709943767167089},null,{"$f":"N10","v":122},{"$f":"COUNTIF(L74:L107,AD10)","v":24},{"$f":"AE10/(AG4-AE11)","v":0.70588235294117652},{"$f":"IF(AF10=0,0,(AF10*((LOG(AF10))/LOG(2))))","v":-0.35470612272648222},null,{"$f":"N10","v":122},{"$f":"COUNTIF(L108:L140,AI10)","v":23},{"$f":"AJ10/(AL4-AJ11)","v":0.69696969696969702},{"$f":"IF(AK10=0,0,(AK10*((LOG(AK10))/LOG(2))))","v":-0.36300423502827672},null,{"$f":"N10","v":122},{"$f":"COUNTIF(L141:L174,AN10)","v":24},{"$f":"AO10/(AQ4-AO11)","v":0.70588235294117652},{"$f":"IF(AP10=0,0,(AP10*((LOG(AP10))/LOG(2))))","v":-0.35470612272648222},null,{"$f":"N10","v":122},{"$f":"COUNTIF(L175:L207,AS10)","v":22},{"$f":"AT10/(AV4-AT11)","v":0.6875},{"$f":"IF(AU10=0,0,(AU10*((LOG(AU10))/LOG(2))))","v":-0.3716407621868581}]
[12,449,24,458,24,460,null,null,null,null,0,122,null,211,{"$f":"COUNTIF($L$7:$L$500,N11)","v":0},{"$f":"O11/$Q$4","v":0},{"$f":"IF(P11=0,0,(P11*((LOG(P11))/LOG(2))))","v":0},null,null,{"$f":"N11","v":211},{"$f":"COUNTIF(L7:L40,T11)","v":0},null,null,null,{"$f":"N11","v":211},{"$f":"COUNTIF(L41:L73,Y11)","v":0},null,null,null,{"$f":"N11","v":211},{"$f":"COUNTIF(L74:L107,AD11)","v":0},null,null,null,{"$f":"N11","v":211},{"$f":"COUNTIF(L108:L140,AI11)","v":0},null,null,null,{"$f":"N11","v":211},{"$f":"COUNTIF(L141:L174,AN11)","v":0},null,null,null,{"$f":"N11","v":211},{"$f":"COUNTIF(L175:L207,AS11)","v":0}]
[21,562,22,566,24,569,null,null,null,null,0,222,null,212,{"$f":"COUNTIF($L$7:$L$500,N12)","v":0},{"$f":"O12/$Q$4","v":0},{"$f":"IF(P12=0,0,(P12*((LOG(P12))/LOG(2))))","v":0},null,null,{"$f":"N12","v":212},{"$f":"COUNTIF(L7:L40,T12)","v":0},{"$f":"U12/(W4-U11)","v":0},{"$f":"IF(V12=0,0,(V12*((LOG(V12))/LOG(2))))","v":0},null,{"$f":"N12","v":212},{"$f":"COUNTIF(L41:L73,Y12)","v":0},{"$f":"Z12/(AB4-Z11)","v":0},{"$f":"IF(AA12=0,0,(AA12*((LOG(AA12))/LOG(2))))","v":0},null,{"$f":"N12","v":212},{"$f":"COUNTIF(L74:L107,AD12)","v":0},{"$f":"AE12/(AG4-AE11)","v":0},{"$f":"IF(AF12=0,0,(AF12*((LOG(AF12))/LOG(2))))","v":0},null,{"$f":"N12","v":212},{"$f":"COUNTIF(L108:L140,AI12)","v":0},{"$f":"AJ12/(AL4-AJ11)","v":0},{"$f":"IF(AK12=0,0,(AK12*((LOG(AK12))/LOG(2))))","v":0},null,{"$f":"N12","v":212},{"$f":"COUNTIF(L141:L174,AN12)","v":0},{"$f":"AO12/(AQ4-AO11)","v":0},{"$f":"IF(AP12=0,0,(AP12*((LOG(AP12))/LOG(2))))","v":0},null,{"$f":"N12","v":212},{"$f":"COUNTIF(L175:L207,AS12)","v":0},{"$f":"AT12/(AV4-AT11)","v":0},{"$f":"IF(AU12=0,0,(AU12*((LOG(AU12))/LOG(2))))","v":0}]
[12,666,24,678,24,683,null,null,null,null,0,122,null,221,{"$f":"COUNTIF($L$7:$L$500,N13)","v":0},{"$f":"O13/$Q$4","v":0},{"$f":"IF(P13=0,0,(P13*((LOG(P13))/LOG(2))))","v":0},null,null,{"$f":"N13","v":221},{"$f":"COUNTIF(L7:L40,T13)","v":0},{"$f":"U13/(W4-U11)","v":0},{"$f":"IF(V13=0,0,(V13*((LOG(V13))/LOG(2))))","v":0},null,{"$f":"N13","v":221},{"$f":"COUNTIF(L41:L73,Y13)","v":0},{"$f":"Z13/(AB4-Z11)","v":0},{"$f":"IF(AA13=0,0,(AA13*((LOG(AA13))/LOG(2))))","v":0},null,{"$f":"N13","v":221},{"$f":"COUNTIF(L74:L107,AD13)","v":0},{"$f":"AE13/(AG4-AE11)","v":0},{"$f":"IF(AF13=0,0,(AF13*((LOG(AF13))/LOG(2))))","v":0},null,{"$f":"N13","v":221},{"$f":"COUNTIF(L108:L140,AI13)","v":0},{"$f":"AJ13/(AL4-AJ11)","v":0},{"$f":"IF(AK13=0,0,(AK13*((LOG(AK13))/LOG(2))))","v":0},null,{"$f":"N13","v":221},{"$f":"COUNTIF(L141:L174,AN13)","v":0},{"$f":"AO13/(AQ4-AO11)","v":0},{"$f":"IF(AP13=0,0,(AP13*((LOG(AP13))/LOG(2))))","v":0},null,{"$f":"N13","v":221},{"$f":"COUNTIF(L175:L207,AS13)","v":0},{"$f":"AT13/(AV4-AT11)","v":0},{"$f":"IF(AU13=0,0,(AU13*((LOG(AU13))/LOG(2))))","v":0}]
[21,841,22,849,24,854,null,null,null,null,0,222,null,222,{"$f":"COUNTIF($L$7:$L$500,N14)","v":29},{"$f":"O14/$Q$4","v":0.14499999999999999},{"$f":"IF(P14=0,0,(P14*((LOG(P14))/LOG(2))))","v":-0.40395190322383717},null,null,{"$f":"N14","v":222},{"$f":"COUNTIF(L7:L40,T14)","v":9},{"$f":"U14/(W4-U11)","v":0.26470588235294118},{"$f":"IF(V14=0,0,(V14*((LOG(V14))/LOG(2))))","v":-0.50758354583153664},null,{"$f":"N14","v":222},{"$f":"COUNTIF(L41:L73,Y14)","v":2},{"$f":"Z14/(AB4-Z11)","v":6.0606060606060608E-2},{"$f":"IF(AA14=0,0,(AA14*((LOG(AA14))/LOG(2))))","v":-0.24511479511263354},null,{"$f":"N14","v":222},{"$f":"COUNTIF(L74:L107,AD14)","v":5},{"$f":"AE14/(AG4-AE11)","v":0.14705882352941177},{"$f":"IF(AF14=0,0,(AF14*((LOG(AF14))/LOG(2))))","v":-0.40669628622984955},null,{"$f":"N14","v":222},{"$f":"COUNTIF(L108:L140,AI14)","v":8},{"$f":"AJ14/(AL4-AJ11)","v":0.24242424242424243},{"$f":"IF(AK14=0,0,(AK14*((LOG(AK14))/LOG(2))))","v":-0.49561069560204934},null,{"$f":"N14","v":222},{"$f":"COUNTIF(L141:L174,AN14)","v":2},{"$f":"AO14/(AQ4-AO11)","v":5.8823529411764705E-2},{"$f":"IF(AP14=0,0,(AP14*((LOG(AP14))/LOG(2))))","v":-0.24043899066178465},null,{"$f":"N14","v":222},{"$f":"COUNTIF(L175:L207,AS14)","v":3},{"$f":"AT14/(AV4-AT11)","v":9.375E-2},{"$f":"IF(AU14=0,0,(AU14*((LOG(AU14))/LOG(2))))","v":-0.32015976555739156}]
[21,958,22,966,24,972,null,null,null,null,0,222,null,null,null,{"$f":"SUM(P7:P14)","v":1},{"$f":"-SUM(Q7:Q14)","v":1.2566666421943247},null,null,null,null,{"$f":"SUM(V7:V14)","v":1},{"$f":"-SUM(W7:W14)","v":1.4183533479345787},null,null,null,{"$f":"SUM(AA7:AA14)","v":1},{"$f":"-SUM(AB7:AB14)","v":0.92860402402193198},null,null,null,{"$f":"SUM(AF7:AF14)","v":1},{"$f":"-SUM(AG7:AG14)","v":1.1680986951861814},null,null,null,{"$f":"SUM(AK7:AK14)","v":1},{"$f":"-SUM(AL7:AL14)","v":1.1037297257429597},null,null,null,{"$f":"SUM(AP7:AP14)","v":1},{"$f":"-SUM(AQ7:AQ14)","v":1.0863128407412876},null,null,null,{"$f":"SUM(AU7:AU14)","v":1},{"$f":"-SUM(AV7:AV14)","v":1.3602492629180993}]
[12,1077,24,1084,24,1089,null,null,null,null,0,122,null,null,null,"U=",{"$f":"Q15/(LOG(Q4)/LOG(2))","v":0.16440218274584786},null,null,null,null,"U1=",{"$f":"W15/(LOG(W4)/LOG(2))","v":0.27879384915290933},null,null,null,"U2=",{"$f":"AB15/(LOG(AB4)/LOG(2))","v":0.18408633466173971},null,null,null,"U3=",{"$f":"AG15/(LOG(AG4)/LOG(2))","v":0.22960338613482614},null,null,null,"U4=",{"$f":"AL15/(LOG(AL4)/LOG(2))","v":0.21880322980856462},null,null,null,"U5=",{"$f":"AQ15/(LOG(AQ4)/LOG(2))","v":0.21352742509158179},null,null,null,"U6=",{"$f":"AV15/(LOG(AV4)/LOG(2))","v":0.27204985258361986}]
[12,1183,13,1186,24,1197,null,null,null,null,0,112]
[12,1293,24,1307,24,1320,null,null,null,null,0,122]
[12,1414,13,1417,24,1428,null,null,null,null,0,112,null,"Total Target Seq"]
[21,1568,22,1571,24,1577,null,null,null,null,0,222,null,{"$f":"COUNTIF(L7:L207,G3)","v":0},null,34,33,34,33,34,33]
[12,1695,24,1706,24,1710,null,null,null,null,0,122,null,null,null,"% of reinforcement given in 6 equal intervals based on number of trials "]
[12,1807,24,1818,24,1827,null,null,null,null,0,122,null,null,null,"%_1","%_2","%_3","%_4","%_5","%_6"]
[12,1923,13,1925,24,1936,null,null,null,null,0,112,null,null,"target sequence",{"$f":"$G$3","v":211},{"$f":"$G$3","v":211},{"$f":"$G$3","v":211},{"$f":"$G$3","v":211},{"$f":"$G$3","v":211},{"$f":"$G$3","v":211}]
[12,2033,24,2046,24,2051,null,null,null,null,0,122,null,null,"total reinforcement",{"$f":"U11","v":0},{"$f":"Z11","v":0},{"$f":"AE11","v":0},{"$f":"AJ11","v":0},{"$f":"AO11","v":0},{"$f":"AT11","v":0}]
[12,2144,24,2156,24,2160,null,null,null,null,0,122,null,null,"% target"]
[21,2267,22,2272,24,2277,null,null,null,null,0,222,null,null,"CCRF"]
[12,2373,24,2386,24,2403,null,null,null,null,0,122,null,null,"% CCRf"]
[21,2512,22,2520,24,2524,null,null,null,null,0,222,null,null,"average response rate",{"$f":"F40/P20","v":117.47058823529412},{"$f":"(F73-F40)/Q20","v":114.66666666666667},{"$f":"(F107-F73)/R20","v":119.35294117647059},{"$f":"(F140-F107)/S20","v":119.03030303030303},{"$f":"(F174-F140)/T20","v":125.64705882352941},{"$f":"(F207-F174)/U20","v":-607.15151515151513}]
[12,2685,13,2687,24,2698,null,null,null,null,0,112]
[12,2795,24,2807,24,2812,null,null,null,null,0,122]
[12,2908,24,2918,24,2922,null,null,null,null,0,122]
[12,3016,24,3028,24,3032,null,null,null,null,0,122]
[12,3129,24,3140,24,3144,null,null,null,null,0,122]
[12,3239,24,3247,24,3250,null,null,null,null,0,122]
[12,3342,24,3354,24,3359,null,null,null,null,0,122]
[12,3455,24,3465,24,3470,null,null,null,null,0,122]
[12,3641,24,3648,24,3651,null,null,null,null,0,122]
[21,3759,22,3763,24,3769,null,null,null,null,0,222]
[12,3865,13,3867,24,3882,null,null,null,null,0,112]
[12,3981,13,3985,24,3994,null,null,null,null,0,112]
[12,4094,24,4105,24,4110,null,null,null,null,0,122]
[12,4209,24,4219,24,4224,null,null,null,null,0,122]
[12,4319,24,4332,24,4337,null,null,null,null,0,122]
[12,4436,24,4447,24,4452,null,null,null,null,0,122]
[12,4561,24,4571,24,4576,null,null,null,null,0,122]
[12,4674,24,4685,24,4689,null,null,null,null,0,122]
[12,4789,24,4802,24,4806,null,null,null,null,0,122]
[12,4942,24,4952,24,4956,null,null,null,null,0,122]
[12,5052,24,5061,24,5066,null,null,null,null,0,122]
[12,5163,24,5174,24,5178,null,null,null,null,0,122]
[21,5298,22,5304,24,5310,null,null,null,null,0,222]
[12,5443,24,5452,24,5454,null,null,null,null,0,122]
[12,5550,24,5559,24,5562,null,null,null,null,0,122]
[12,5657,24,5668,24,5672,null,null,null,null,0,122]
[12,5768,13,5770,24,5780,null,null,null,null,0,112]
[12,5884,24,5897,24,5901,null,null,null,null,0,122]
[12,5996,24,6008,24,6013,null,null,null,null,0,122]
[12,6113,24,6121,24,6125,null,null,null,null,0,122]
[12,6219,24,6228,24,6231,null,null,null,null,0,122]
[21,6334,22,6337,24,6339,null,null,null,null,0,222]
[12,6433,24,6445,24,6452,null,null,null,null,0,122]
[12,6548,13,6551,24,6564,null,null,null,null,0,112]
[12,6672,13,6674,24,6686,null,null,null,null,0,112]
[12,6778,24,6792,24,6794,null,null,null,null,0,122]
[12,6886,13,6888,24,6901,null,null,null,null,0,112]
[12,6995,24,7007,24,7012,null,null,null,null,0,122]
[12,7104,24,7116,24,7121,null,null,null,null,0,122]
[12,7216,24,7227,24,7232,null,null,null,null,0,122]
[12,7327,24,7335,24,7340,null,null,null,null,0,122]
[12,7437,13,7439,24,7453,null,null,null,null,0,112]
[12,7547,24,7556,24,7561,null,null,null,null,0,122]
[12,7655,24,7668,24,7672,null,null,null,null,0,122]
[12,7764,24,7774,24,7778,null,null,null,null,0,122]
[21,7951,22,7956,24,7962,null,null,null,null,0,222]
[12,8062,24,8075,24,8079,null,null,null,null,0,122]
[12,8178,13,8180,24,8195,null,null,null,null,0,112]
[12,8294,24,8306,24,8309,null,null,null,null,0,122]
[12,8405,24,8417,24,8421,null,null,null,null,0,122]
[12,8518,24,8525,24,8529,null,null,null,null,0,122]
[12,8672,24,8682,24,8686,null,null,null,null,0,122]
[12,8783,24,8796,24,8800,null,null,null,null,0,122]
[21,8907,22,8909,24,8911,null,null,null,null,0,222]
[12,9009,24,9023,24,9028,null,null,null,null,0,122]
[12,9123,24,9134,24,9137,null,null,null,null,0,122]
[12,9233,13,9237,24,9253,null,null,null,null,0,112]
[12,9347,24,9358,24,9364,null,null,null,null,0,122]
[12,9458,13,9460,24,9471,null,null,null,null,0,112]
[12,9571,24,9583,24,9589,null,null,null,null,0,122]
[12,9683,24,9696,24,9700,null,null,null,null,0,122]
[12,9839,13,9842,24,9854,null,null,null,null,0,112]
[12,9951,24,9971,24,9978,null,null,null,null,0,122]
[21,10092,22,10099,24,10104,null,null,null,null,0,222]
[12,10202,24,10214,24,10215,null,null,null,null,0,122]
[21,10318,22,10321,24,10326,null,null,null,null,0,222]
[12,10419,24,10435,24,10439,null,null,null,null,0,122]
[12,10538,24,10548,24,10553,null,null,null,null,0,122]
[12,10649,24,10660,24,10665,null,null,null,null,0,122]
[12,10757,24,10767,24,10772,null,null,null,null,0,122]
[12,10907,24,10921,24,10924,null,null,null,null,0,122]
[12,11021,24,11031,24,11035,null,null,null,null,0,122]
[21,11148,22,11152,24,11162,null,null,null,null,0,222]
[12,11257,24,11269,24,11273,null,null,null,null,0,122]
[12,11368,24,11378,24,11387,null,null,null,null,0,122]
[12,11483,24,11494,24,11499,null,null,null,null,0,122]
[12,11595,13,11598,24,11608,null,null,null,null,0,112]
[12,11702,24,11714,24,11719,null,null,null,null,0,122]
[12,11820,24,11832,24,11836,null,null,null,null,0,122]
[21,11970,22,11974,24,11980,null,null,null,null,0,222]
[12,12075,24,12088,24,12093,null,null,null,null,0,122]
[12,12190,13,12194,24,12203,null,null,null,null,0,112]
[21,12376,22,12380,24,12386,null,null,null,null,0,222]
[12,12479,24,12487,24,12494,null,null,null,null,0,122]
[12,12592,24,12604,24,12607,null,null,null,null,0,122]
[12,12703,24,12713,24,12716,null,null,null,null,0,122]
[12,12810,24,12821,24,12826,null,null,null,null,0,122]
[12,12921,24,12929,24,12933,null,null,null,null,0,122]
[12,13025,24,13042,24,13047,null,null,null,null,0,122]
[12,13142,24,13156,24,13161,null,null,null,null,0,122]
[12,13253,24,13268,24,13272,null,null,null,null,0,122]
[12,13371,24,13379,24,13382,null,null,null,null,0,122]
[12,13479,24,13490,24,13494,null,null,null,null,0,122]
[12,13589,24,13598,24,13602,null,null,null,null,0,122]
[12,13700,24,13708,24,13713,null,null,null,null,0,122]
[12,13825,24,13837,24,13842,null,null,null,null,0,122]
[21,13993,22,13997,24,14004,null,null,null,null,0,222]
[21,14110,22,14115,24,14120,null,null,null,null,0,222]
[21,14227,22,14231,24,14236,null,null,null,null,0,222]
[12,14331,24,14339,24,14345,null,null,null,null,0,122]
[21,14448,22,14453,24,14459,null,null,null,null,0,222]
[12,14594,24,14607,24,14610,null,null,null,null,0,122]
[21,14722,22,14726,24,14732,null,null,null,null,0,222]
[12,14828,24,14841,24,14849,null,null,null,null,0,122]
[12,14945,24,14956,24,14960,null,null,null,null,0,122]
[12,15053,24,15065,24,15069,null,null,null,null,0,122]
[12,15167,24,15172,24,15181,null,null,null,null,0,122]
[12,15278,24,15289,24,15292,null,null,null,null,0,122]
[21,15402,22,15406,24,15410,null,null,null,null,0,222]
[12,15511,24,15529,24,15532,null,null,null,null,0,122]
[12,15631,24,15644,24,15649,null,null,null,null,0,122]
[12,15745,13,15750,24,15764,null,null,null,null,0,112]
[12,15951,24,15953,24,15961,null,null,null,null,0,122]
[12,16056,24,16065,24,16068,null,null,null,null,0,122]
[12,16165,13,16168,24,16182,null,null,null,null,0,112]
[12,16278,24,16289,24,16293,null,null,null,null,0,122]
[12,16389,24,16402,24,16406,null,null,null,null,0,122]
[12,16499,24,16512,24,16517,null,null,null,null,0,122]
[12,16613,24,16629,24,16633,null,null,null,null,0,122]
[12,16726,24,16738,24,16742,null,null,null,null,0,122]
[12,16891,24,16903,24,16909,null,null,null,null,0,122]
[12,17006,24,17013,24,17017,null,null,null,null,0,122]
[12,17112,24,17121,24,17125,null,null,null,null,0,122]
[12,17220,13,17222,24,17234,null,null,null,null,0,112]
[12,17356,24,17514,24,17519,null,null,null,null,0,122]
[21,17656,22,17661,24,17669,null,null,null,null,0,222]
[12,17765,24,17778,24,17781,null,null,null,null,0,122]
[12,17910,24,17923,24,17926,null,null,null,null,0,122]
[12,18026,24,18038,24,18041,null,null,null,null,0,122]
[12,18137,24,18150,24,18158,null,null,null,null,0,122]
[12,18258,24,18271,24,18276,null,null,null,null,0,122]
[12,18383,24,18396,24,18400,null,null,null,null,0,122]
[12,18492,13,18494,24,18508,null,null,null,null,0,112]
[12,18617,24,18628,24,18633,null,null,null,null,0,122]
[21,18743,22,18749,24,18755,null,null,null,null,0,222]
[12,18849,13,18853,24,18866,null,null,null,null,0,112]
[12,19007,24,19016,24,19019,null,null,null,null,0,122]
[12,19118,24,19132,24,19136,null,null,null,null,0,122]
[12,19232,13,19236,24,19246,null,null,null,null,0,112]
[12,19342,13,19344,24,19362,null,null,null,null,0,112]
[12,19458,13,19461,24,19476,null,null,null,null,0,112]
[12,19575,24,19586,24,19589,null,null,null,null,0,122]
[12,19683,24,19694,24,19699,null,null,null,null,0,122]
[12,19795,24,19806,24,19810,null,null,null,null,0,122]
[12,19902,13,19904,24,19917,null,null,null,null,0,112]
[12,20016,24,20027,24,20036,null,null,null,null,0,122]
[21,20143,22,20148,24,20153,null,null,null,null,0,222]
[12,20249,24,20261,24,20267,null,null,null,null,0,122]
[12,20397,24,20410,24,20414,null,null,null,null,0,122]
[12,20525,24,20534,24,20536,null,null,null,null,0,122]
[12,20637,24,20650,24,20655,null,null,null,null,0,122]
[12,20752,24,20761,24,20766,null,null,null,null,0,122]
[12,20861,24,20873,24,20875,null,null,null,null,0,122]
[12,20973,24,20984,24,20987,null,null,null,null,0,122]
[12,21085,24,21101,24,21106,null,null,null,null,0,122]
[12,21212,24,21227,24,21231,null,null,null,null,0,122]
[21,21336,22,21338,24,21343,null,null,null,null,0,222]
[12,21465,24,21468,24,21472,null,null,null,null,0,122]
[12,21570,24,21579,24,21584,null,null,null,null,0,122]
[12,21683,13,21686,24,21699,null,null,null,null,0,112]
[12,21817,24,21821,24,21834,null,null,null,null,0,122]
[12,21932,24,21942,24,21947,null,null,null,null,0,122]
[12,22045,13,22047,13,22049,null,null,null,null,0,111]
[21,22174,22,22178,24,22181,null,null,null,null,0,222]
[12,22282,13,22286,24,22299,null,null,null,null,0,112]
[12,22394,13,22397,24,22408,null,null,null,null,0,112]
[12,22516,13,22518,24,22527,null,null,null,null,0,112]
[12,22622,24,22636,24,22641,null,null,null,null,0,122]
[12,22737,13,22741,24,22755,null,null,null,null,0,112]
[12,22853,13,22855,13,22858,null,null,null,null,0,111]
[12,22987,24,23003,24,23008,null,null,null,null,0,122]
[12,23103,24,23117,24,23121,null,null,null,null,0,122]
[12,23220,24,23231,24,23235,null,null,null,null,0,122]
[12,23372,24,23387,24,23396,null,null,null,null,0,122]
[12,23537,24,23547,24,23551,null,null,null,null,0,122]
[12,23654,24,23665,24,23670,null,null,null,null,0,122]
[12,23766,24,23779,24,23783,null,null,null,null,0,122]
[12,23877,24,23895,24,23900,null,null,null,null,0,122]
[12,23996,null,null,null,null,null,null,null,null,null,1]

{"sheet":"!L830A5T.ayl","index":6,"n_rows":200,"n_cols":48,"rows_kept":200,"cut":false,"hidden":false,"merged":[[4,39,4,42],[5,39,5,40],[4,44,4,47],[5,44,5,45],[4,24,4,27],[5,24,5,25],[4,29,4,32],[5,29,5,30],[4,34,4,37],[5,34,5,35],[1,1,1,2],[5,13,5,14],[18,13,18,14],[19,13,19,14],[4,19,4,22],[5,19,5,20]]}
["Report for:!L830A5T.ayl"]
["Date:","<date>"]
["Hen:","<hen>",null,null,null,"Correct Sequence",{"$f":"Start!J2","v":211},null,null,null,null,null,null,null,null,"Total Sequences in Data",{"$f":"4994-COUNTBLANK(L7:L5000)","v":194},null,null,null,null,"Total Sequences in Block Data",{"$f":"COUNTA(L7:L38)","v":32},null,null,null,"Total Sequences in Block Data",{"$f":"COUNTA(L39:L71)","v":33},null,null,null,"Total Sequences in Block Data",{"$f":"COUNTA(L72:L103)","v":32},null,null,null,"Total Sequences in Block Data",{"$f":"COUNTA(L104:L135)","v":32},null,null,null,"Total Sequences in Block Data",{"$f":"COUNTA(L136:L168)","v":33},null,null,null,"Total Sequences in Block Data",{"$f":"COUNTA(L169:L200)","v":32}]
[null,null,null,null,null,null,null,null,null,null,null,null,null,null,null,"Total Sequences in Summary",{"$f":"SUM(O7:O14)","v":194},null,null,null,null,"Total Sequences in Block Summary",{"$f":"SUM(U7:U14)","v":32},null,null,null,"Total Sequences in Block Summary",{"$f":"SUM(Z7:Z14)","v":33},null,null,null,"Total Sequences in Block Summary",{"$f":"SUM(AE7:AE14)","v":32},null,null,null,"Total Sequences in Block Summary",{"$f":"SUM(AJ7:AJ14)","v":32},null,null,null,"Total Sequences in Block Summary",{"$f":"SUM(AO7:AO14)","v":33},null,null,null,"Total Sequences in Block Summary",{"$f":"SUM(AT7:AT14)","v":32}]
[null,null,null,null,null,null,null,null,null,null,null,null,null,null,null,null,null,null,null,"Block 1",null,null,null,null,"Block 2",null,null,null,null,"Block 3",null,null,null,null,"Block 4",null,null,null,null,"Block 5",null,null,null,null,"Block 6"]
["Sequence\nComponent\n1","Time\n1","Sequence\nComponent\n2","Time\n2","Sequence\nComponent\n3","Time\n3","Sequence\nComponent\n4","Time\n4","Sequence\nComponent\n5","Time\n5","Correct?\n0=No 1=Yes","Sequence",null,"Frequency",null,"Relative Frequency","Variability",null,null,"Frequency",null,"Relative Frequency","Variability",null,"Frequency",null,"Relative Frequency","Variability",null,"Frequency",null,"Relative Frequency","Variability",null,"Frequency",null,"Relative Frequency","Variability",null,"Frequency",null,"Relative Frequency","Variability",null,"Frequency",null,"Relative Frequency","Variability"]
[21,19,22,22,24,26,null,null,null,null,0,222,null,111,{"$f":"COUNTIF($L$7:$L$500,N7)","v":1},{"$f":"O7/$Q$4","v":5.1546391752577319E-3},{"$f":"IF(P7=0,0,(P7*((LOG(P7))/LOG(2))))","v":-3.9174808464882103E-2},null,null,{"$f":"N7","v":111},{"$f":"COUNTIF(L7:L38,T7)","v":0},{"$f":"U7/(W4-U11)","v":0},{"$f":"IF(V7=0,0,(V7*((LOG(V7))/LOG(2))))","v":0},null,{"$f":"N7","v":111},{"$f":"COUNTIF(L39:L71,Y7)","v":0},{"$f":"Z7/(AB4-Z11)","v":0},{"$f":"IF(AA7=0,0,(AA7*((LOG(AA7))/LOG(2))))","v":0},null,{"$f":"N7","v":111},{"$f":"COUNTIF(L72:L103,AD7)","v":1},{"$f":"AE7/(AG4-AE11)","v":3.125E-2},{"$f":"IF(AF7=0,0,(AF7*((LOG(AF7))/LOG(2))))","v":-0.15625},null,{"$f":"N7","v":111},{"$f":"COUNTIF(L104:L135,AI7)","v":0},{"$f":"AJ7/(AL4-AJ11)","v":0},{"$f":"IF(AK7=0,0,(AK7*((LOG(AK7))/LOG(2))))","v":0},null,{"$f":"N7","v":111},{"$f":"COUNTIF(L136:L168,AN7)","v":0},{"$f":"AO7/(AQ4-AO11)","v":0},{"$f":"IF(AP7=0,0,(AP7*((LOG(AP7))/LOG(2))))","v":0},null,{"$f":"N7","v":111},{"$f":"COUNTIF(L169:L200,AS7)","v":0},{"$f":"AT7/(AV4-AT11)","v":0},{"$f":"IF(AU7=0,0,(AU7*((LOG(AU7))/LOG(2))))","v":0}]
[21,130,22,135,24,139,null,null,null,null,0,222,null,112,{"$f":"COUNTIF($L$7:$L$500,N8)","v":64},{"$f":"O8/$Q$4","v":0.32989690721649484},{"$f":"IF(P8=0,0,(P8*((LOG(P8))/LOG(2))))","v":-0.52780629845348537},null,null,{"$f":"N8","v":112},{"$f":"COUNTIF(L7:L38,T8)","v":9},{"$f":"U8/(W4-U11)","v":0.28125},{"$f":"IF(V8=0,0,(V8*((LOG(V8))/LOG(2))))","v":-0.5147085933443496},null,{"$f":"N8","v":112},{"$f":"COUNTIF(L39:L71,Y8)","v":11},{"$f":"Z8/(AB4-Z11)","v":0.33333333333333331},{"$f":"IF(AA8=0,0,(AA8*((LOG(AA8))/LOG(2))))","v":-0.52832083357371862},null,{"$f":"N8","v":112},{"$f":"COUNTIF(L72:L103,AD8)","v":11},{"$f":"AE8/(AG4-AE11)","v":0.34375},{"$f":"IF(AF8=0,0,(AF8*((LOG(AF8))/LOG(2))))","v":-0.52957038109342913},null,{"$f":"N8","v":112},{"$f":"COUNTIF(L104:L135,AI8)","v":14},{"$f":"AJ8/(AL4-AJ11)","v":0.4375},{"$f":"IF(AK8=0,0,(AK8*((LOG(AK8))/LOG(2))))","v":-0.52178222159979815},null,{"$f":"N8","v":112},{"$f":"COUNTIF(L136:L168,AN8)","v":14},{"$f":"AO8/(AQ4-AO11)","v":0.42424242424242425},{"$f":"IF(AP8=0,0,(AP8*((LOG(AP8))/LOG(2))))","v":-0.52480450794581479},null,{"$f":"N8","v":112},{"$f":"COUNTIF(L169:L200,AS8)","v":5},{"$f":"AT8/(AV4-AT11)","v":0.15625},{"$f":"IF(AU8=0,0,(AU8*((LOG(AU8))/LOG(2))))","v":-0.41844873517384967}]
[12,236,13,240,24,247,null,null,null,null,0,112,null,121,{"$f":"COUNTIF($L$7:$L$500,N9)","v":0},{"$f":"O9/$Q$4","v":0},{"$f":"IF(P9=0,0,(P9*((LOG(P9))/LOG(2))))","v":0},null,null,{"$f":"N9","v":121},{"$f":"COUNTIF(L7:L38,T9)","v":0},{"$f":"U9/(W4-U11)","v":0},{"$f":"IF(V9=0,0,(V9*((LOG(V9))/LOG(2))))","v":0},null,{"$f":"N9","v":121},{"$f":"COUNTIF(L39:L71,Y9)","v":0},{"$f":"Z9/(AB4-Z11)","v":0},{"$f":"IF(AA9=0,0,(AA9*((LOG(AA9))/LOG(2))))","v":0},null,{"$f":"N9","v":121},{"$f":"COUNTIF(L72:L103,AD9)","v":0},{"$f":"AE9/(AG4-AE11)","v":0},{"$f":"IF(AF9=0,0,(AF9*((LOG(AF9))/LOG(2))))","v":0},null,{"$f":"N9","v":121},{"$f":"COUNTIF(L104:L135,AI9)","v":0},{"$f":"AJ9/(AL4-AJ11)","v":0},{"$f":"IF(AK9=0,0,(AK9*((LOG(AK9))/LOG(2))))","v":0},null,{"$f":"N9","v":121},{"$f":"COUNTIF(L136:L168,AN9)","v":0},{"$f":"AO9/(AQ4-AO11)","v":0},{"$f":"IF(AP9=0,0,(AP9*((LOG(AP9))/LOG(2))))","v":0},null,{"$f":"N9","v":121},{"$f":"COUNTIF(L169:L200,AS9)","v":0},{"$f":"AT9/(AV4-AT11)","v":0},{"$f":"IF(AU9=0,0,(AU9*((LOG(AU9))/LOG(2))))","v":0}]
[21,356,22,360,24,366,null,null,null,null,0,222,null,122,{"$f":"COUNTIF($L$7:$L$500,N10)","v":109},{"$f":"O10/$Q$4","v":0.56185567010309279},{"$f":"IF(P10=0,0,(P10*((LOG(P10))/LOG(2))))","v":-0.46731138349336054},null,null,{"$f":"N10","v":122},{"$f":"COUNTIF(L7:L38,T10)","v":18},{"$f":"U10/(W4-U11)","v":0.5625},{"$f":"IF(V10=0,0,(V10*((LOG(V10))/LOG(2))))","v":-0.4669171866886993},null,{"$f":"N10","v":122},{"$f":"COUNTIF(L39:L71,Y10)","v":20},{"$f":"Z10/(AB4-Z11)","v":0.60606060606060608},{"$f":"IF(AA10=0,0,(AA10*((LOG(AA10))/LOG(2))))","v":-0.43785819664914605},null,{"$f":"N10","v":122},{"$f":"COUNTIF(L72:L103,AD10)","v":17},{"$f":"AE10/(AG4-AE11)","v":0.53125},{"$f":"IF(AF10=0,0,(AF10*((LOG(AF10))/LOG(2))))","v":-0.48478536558575719},null,{"$f":"N10","v":122},{"$f":"COUNTIF(L104:L135,AI10)","v":16},{"$f":"AJ10/(AL4-AJ11)","v":0.5},{"$f":"IF(AK10=0,0,(AK10*((LOG(AK10))/LOG(2))))","v":-0.5},null,{"$f":"N10","v":122},{"$f":"COUNTIF(L136:L168,AN10)","v":15},{"$f":"AO10/(AQ4-AO11)","v":0.45454545454545453},{"$f":"IF(AP10=0,0,(AP10*((LOG(AP10))/LOG(2))))","v":-0.51704705624997038},null,{"$f":"N10","v":122},{"$f":"COUNTIF(L169:L200,AS10)","v":23},{"$f":"AT10/(AV4-AT11)","v":0.71875},{"$f":"IF(AU10=0,0,(AU10*((LOG(AU10))/LOG(2))))","v":-0.342439844084022}]
[12,465,24,482,24,487,null,null,null,null,0,122,null,211,{"$f":"COUNTIF($L$7:$L$500,N11)","v":0},{"$f":"O11/$Q$4","v":0},{"$f":"IF(P11=0,0,(P11*((LOG(P11))/LOG(2))))","v":0},null,null,{"$f":"N11","v":211},{"$f":"COUNTIF(L7:L38,T11)","v":0},null,null,null,{"$f":"N11","v":211},{"$f":"COUNTIF(L39:L71,Y11)","v":0},null,null,null,{"$f":"N11","v":211},{"$f":"COUNTIF(L72:L103,AD11)","v":0},null,null,null,{"$f":"N11","v":211},{"$f":"COUNTIF(L104:L135,AI11)","v":0},null,null,null,{"$f":"N11","v":211},{"$f":"COUNTIF(L136:L168,AN11)","v":0},null,null,null,{"$f":"N11","v":211},{"$f":"COUNTIF(L169:L200,AS11)","v":0}]
[12,588,24,599,24,606,null,null,null,null,0,122,null,212,{"$f":"COUNTIF($L$7:$L$500,N12)","v":0},{"$f":"O12/$Q$4","v":0},{"$f":"IF(P12=0,0,(P12*((LOG(P12))/LOG(2))))","v":0},null,null,{"$f":"N12","v":212},{"$f":"COUNTIF(L7:L38,T12)","v":0},{"$f":"U12/(W4-U11)","v":0},{"$f":"IF(V12=0,0,(V12*((LOG(V12))/LOG(2))))","v":0},null,{"$f":"N12","v":212},{"$f":"COUNTIF(L39:L71,Y12)","v":0},{"$f":"Z12/(AB4-Z11)","v":0},{"$f":"IF(AA12=0,0,(AA12*((LOG(AA12))/LOG(2))))","v":0},null,{"$f":"N12","v":212},{"$f":"COUNTIF(L72:L103,AD12)","v":0},{"$f":"AE12/(AG4-AE11)","v":0},{"$f":"IF(AF12=0,0,(AF12*((LOG(AF12))/LOG(2))))","v":0},null,{"$f":"N12","v":212},{"$f":"COUNTIF(L104:L135,AI12)","v":0},{"$f":"AJ12/(AL4-AJ11)","v":0},{"$f":"IF(AK12=0,0,(AK12*((LOG(AK12))/LOG(2))))","v":0},null,{"$f":"N12","v":212},{"$f":"COUNTIF(L136:L168,AN12)","v":0},{"$f":"AO12/(AQ4-AO11)","v":0},{"$f":"IF(AP12=0,0,(AP12*((LOG(AP12))/LOG(2))))","v":0},null,{"$f":"N12","v":212},{"$f":"COUNTIF(L169:L200,AS12)","v":0},{"$f":"AT12/(AV4-AT11)","v":0},{"$f":"IF(AU12=0,0,(AU12*((LOG(AU12))/LOG(2))))","v":0}]
[12,703,13,710,24,728,null,null,null,null,0,112,null,221,{"$f":"COUNTIF($L$7:$L$500,N13)","v":0},{"$f":"O13/$Q$4","v":0},{"$f":"IF(P13=0,0,(P13*((LOG(P13))/LOG(2))))","v":0},null,null,{"$f":"N13","v":221},{"$f":"COUNTIF(L7:L38,T13)","v":0},{"$f":"U13/(W4-U11)","v":0},{"$f":"IF(V13=0,0,(V13*((LOG(V13))/LOG(2))))","v":0},null,{"$f":"N13","v":221},{"$f":"COUNTIF(L39:L71,Y13)","v":0},{"$f":"Z13/(AB4-Z11)","v":0},{"$f":"IF(AA13=0,0,(AA13*((LOG(AA13))/LOG(2))))","v":0},null,{"$f":"N13","v":221},{"$f":"COUNTIF(L72:L103,AD13)","v":0},{"$f":"AE13/(AG4-AE11)","v":0},{"$f":"IF(AF13=0,0,(AF13*((LOG(AF13))/LOG(2))))","v":0},null,{"$f":"N13","v":221},{"$f":"COUNTIF(L104:L135,AI13)","v":0},{"$f":"AJ13/(AL4-AJ11)","v":0},{"$f":"IF(AK13=0,0,(AK13*((LOG(AK13))/LOG(2))))","v":0},null,{"$f":"N13","v":221},{"$f":"COUNTIF(L136:L168,AN13)","v":0},{"$f":"AO13/(AQ4-AO11)","v":0},{"$f":"IF(AP13=0,0,(AP13*((LOG(AP13))/LOG(2))))","v":0},null,{"$f":"N13","v":221},{"$f":"COUNTIF(L169:L200,AS13)","v":0},{"$f":"AT13/(AV4-AT11)","v":0},{"$f":"IF(AU13=0,0,(AU13*((LOG(AU13))/LOG(2))))","v":0}]
[12,876,24,887,24,893,null,null,null,null,0,122,null,222,{"$f":"COUNTIF($L$7:$L$500,N14)","v":20},{"$f":"O14/$Q$4","v":0.10309278350515463},{"$f":"IF(P14=0,0,(P14*((LOG(P14))/LOG(2))))","v":-0.33793657188657372},null,null,{"$f":"N14","v":222},{"$f":"COUNTIF(L7:L38,T14)","v":5},{"$f":"U14/(W4-U11)","v":0.15625},{"$f":"IF(V14=0,0,(V14*((LOG(V14))/LOG(2))))","v":-0.41844873517384967},null,{"$f":"N14","v":222},{"$f":"COUNTIF(L39:L71,Y14)","v":2},{"$f":"Z14/(AB4-Z11)","v":6.0606060606060608E-2},{"$f":"IF(AA14=0,0,(AA14*((LOG(AA14))/LOG(2))))","v":-0.24511479511263354},null,{"$f":"N14","v":222},{"$f":"COUNTIF(L72:L103,AD14)","v":3},{"$f":"AE14/(AG4-AE11)","v":9.375E-2},{"$f":"IF(AF14=0,0,(AF14*((LOG(AF14))/LOG(2))))","v":-0.32015976555739156},null,{"$f":"N14","v":222},{"$f":"COUNTIF(L104:L135,AI14)","v":2},{"$f":"AJ14/(AL4-AJ11)","v":6.25E-2},{"$f":"IF(AK14=0,0,(AK14*((LOG(AK14))/LOG(2))))","v":-0.25},null,{"$f":"N14","v":222},{"$f":"COUNTIF(L136:L168,AN14)","v":4},{"$f":"AO14/(AQ4-AO11)","v":0.12121212121212122},{"$f":"IF(AP14=0,0,(AP14*((LOG(AP14))/LOG(2))))","v":-0.36901746901314586},null,{"$f":"N14","v":222},{"$f":"COUNTIF(L169:L200,AS14)","v":4},{"$f":"AT14/(AV4-AT11)","v":0.125},{"$f":"IF(AU14=0,0,(AU14*((LOG(AU14))/LOG(2))))","v":-0.375}]
[12,990,24,997,24,1000,null,null,null,null,0,122,null,null,null,{"$f":"SUM(P7:P14)","v":0.99999999999999989},{"$f":"-SUM(Q7:Q14)","v":1.3722290622983015},null,null,null,null,{"$f":"SUM(V7:V14)","v":1},{"$f":"-SUM(W7:W14)","v":1.4000745152068985},null,null,null,{"$f":"SUM(AA7:AA14)","v":1},{"$f":"-SUM(AB7:AB14)","v":1.2112938253354981},null,null,null,{"$f":"SUM(AF7:AF14)","v":1},{"$f":"-SUM(AG7:AG14)","v":1.4907655122365779},null,null,null,{"$f":"SUM(AK7:AK14)","v":1},{"$f":"-SUM(AL7:AL14)","v":1.271782221599798},null,null,null,{"$f":"SUM(AP7:AP14)","v":1},{"$f":"-SUM(AQ7:AQ14)","v":1.4108690332089309},null,null,null,{"$f":"SUM(AU7:AU14)","v":1},{"$f":"-SUM(AV7:AV14)","v":1.1358885792578717}]
[12,1096,24,1108,24,1111,null,null,null,null,0,122,null,null,null,"U=",{"$f":"Q15/(LOG(Q4)/LOG(2))","v":0.18055852623480836},null,null,null,null,"U1=",{"$f":"W15/(LOG(W4)/LOG(2))","v":0.28001490304137971},null,null,null,"U2=",{"$f":"AB15/(LOG(AB4)/LOG(2))","v":0.240126722193854},null,null,null,"U3=",{"$f":"AG15/(LOG(AG4)/LOG(2))","v":0.29815310244731558},null,null,null,"U4=",{"$f":"AL15/(LOG(AL4)/LOG(2))","v":0.25435644431995963},null,null,null,"U5=",{"$f":"AQ15/(LOG(AQ4)/LOG(2))","v":0.27969048409491948},null,null,null,"U6=",{"$f":"AV15/(LOG(AV4)/LOG(2))","v":0.22717771585157434}]
[12,1209,24,1220,24,1225,null,null,null,null,0,122]
[12,1321,13,1324,24,1335,null,null,null,null,0,112]
[12,1429,13,1434,24,1442,null,null,null,null,0,112,null,"Total Target Seq"]
[12,1539,24,1555,24,1560,null,null,null,null,0,122,null,{"$f":"COUNTIF(L7:L200,G3)","v":0},null,32,33,32,32,33,32]
[12,1656,13,1659,24,1671,null,null,null,null,0,112,null,null,null,"% of reinforcement given in 6 equal intervals based on number of trials "]
[12,1768,13,1773,24,1783,null,null,null,null,0,112,null,null,null,"%_1","%_2","%_3","%_4","%_5","%_6"]
[12,1880,13,1882,24,1893,null,null,null,null,0,112,null,null,"target sequence",{"$f":"$G$3","v":211},{"$f":"$G$3","v":211},{"$f":"$G$3","v":211},{"$f":"$G$3","v":211},{"$f":"$G$3","v":211},{"$f":"$G$3","v":211}]
[12,1987,13,1989,24,2001,null,null,null,null,0,112,null,null,"total reinforcement",{"$f":"U11","v":0},{"$f":"Z11","v":0},{"$f":"AE11","v":0},{"$f":"AJ11","v":0},{"$f":"AO11","v":0},{"$f":"AT11","v":0}]
[12,2098,24,2110,24,2116,null,null,null,null,0,122,null,null,"% target"]
[21,2245,22,2251,24,2257,null,null,null,null,0,222,null,null,"CCRF"]
[12,2351,24,2361,24,2367,null,null,null,null,0,122,null,null,"% CCRf"]
[12,2468,24,2476,24,2479,null,null,null,null,0,122,null,null,"average response rate",{"$f":"F38/P20","v":115},{"$f":"(F71-F38)/Q20","v":119.90909090909091},{"$f":"(F103-F71)/R20","v":122.21875},{"$f":"(F135-F103)/S20","v":124.46875},{"$f":"(F168-F135)/T20","v":125.66666666666667},{"$f":"(F200-F168)/U20","v":132.28125}]
[12,2575,24,2588,24,2592,null,null,null,null,0,122]
[12,2688,24,2697,24,2708,null,null,null,null,0,122]
[12,2804,24,2819,24,2824,null,null,null,null,0,122]
[12,2921,13,2923,24,2936,null,null,null,null,0,112]
[12,3030,24,3042,24,3053,null,null,null,null,0,122]
[12,3167,24,3179,24,3185,null,null,null,null,0,122]
[12,3323,24,3332,24,3337,null,null,null,null,0,122]
[12,3433,24,3449,24,3453,null,null,null,null,0,122]
[12,3549,24,3562,24,3569,null,null,null,null,0,122]
[21,3672,22,3675,24,3680,null,null,null,null,0,222]
[12,3776,13,3780,24,3791,null,null,null,null,0,112]
[12,3887,13,3889,24,3896,null,null,null,null,0,112]
[12,3993,24,4004,24,4008,null,null,null,null,0,122]
[12,4104,13,4107,24,4115,null,null,null,null,0,112]
[12,4238,24,4248,24,4252,null,null,null,null,0,122]
[12,4349,13,4352,24,4360,null,null,null,null,0,112]
[12,4455,24,4466,24,4469,null,null,null,null,0,122]
[12,4565,13,4568,24,4577,null,null,null,null,0,112]
[12,4673,13,4675,24,4686,null,null,null,null,0,112]
[21,4792,22,4803,24,4809,null,null,null,null,0,222]
[12,4907,24,4918,24,4922,null,null,null,null,0,122]
[12,5021,24,5030,24,5035,null,null,null,null,0,122]
[12,5129,13,5133,24,5140,null,null,null,null,0,112]
[12,5238,13,5242,24,5252,null,null,null,null,0,112]
[12,5443,24,5451,24,5455,null,null,null,null,0,122]
[12,5552,24,5563,24,5568,null,null,null,null,0,122]
[21,5677,22,5680,24,5684,null,null,null,null,0,222]
[12,5781,13,5783,24,5798,null,null,null,null,0,112]
[12,5897,24,5907,24,5911,null,null,null,null,0,122]
[12,6006,13,6010,24,6018,null,null,null,null,0,112]
[12,6115,24,6124,24,6128,null,null,null,null,0,122]
[12,6223,24,6234,24,6239,null,null,null,null,0,122]
[12,6400,24,6409,24,6411,null,null,null,null,0,122]
[12,6511,24,6527,24,6533,null,null,null,null,0,122]
[12,6629,24,6644,24,6649,null,null,null,null,0,122]
[12,6747,24,6761,24,6769,null,null,null,null,0,122]
[12,6867,24,6883,24,6889,null,null,null,null,0,122]
[12,6987,24,6998,24,7002,null,null,null,null,0,122]
[12,7117,24,7126,24,7130,null,null,null,null,0,122]
[12,7227,24,7239,24,7244,null,null,null,null,0,122]
[12,7389,24,7397,24,7401,null,null,null,null,0,122]
[12,7498,13,7503,24,7513,null,null,null,null,0,112]
[12,7611,24,7625,24,7637,null,null,null,null,0,122]
[12,7825,24,7828,24,7833,null,null,null,null,0,122]
[12,7966,24,7978,24,7984,null,null,null,null,0,122]
[12,8081,24,8091,24,8095,null,null,null,null,0,122]
[12,8192,13,8194,24,8206,null,null,null,null,0,112]
[12,8330,24,8340,24,8349,null,null,null,null,0,122]
[12,8448,13,8452,24,8462,null,null,null,null,0,112]
[12,8560,13,8564,24,8579,null,null,null,null,0,112]
[12,8674,24,8681,24,8687,null,null,null,null,0,122]
[21,8798,22,8803,24,8809,null,null,null,null,0,222]
[21,8912,22,8914,24,8919,null,null,null,null,0,222]
[12,9016,24,9023,24,9028,null,null,null,null,0,122]
[12,9130,24,9142,24,9155,null,null,null,null,0,122]
[12,9252,13,9256,24,9270,null,null,null,null,0,112]
[12,9395,24,9402,24,9407,null,null,null,null,0,122]
[12,9503,24,9515,24,9520,null,null,null,null,0,122]
[12,9616,13,9619,24,9634,null,null,null,null,0,112]
[12,9731,24,9742,24,9755,null,null,null,null,0,122]
[21,9907,22,9911,24,9916,null,null,null,null,0,222]
[12,10013,13,10017,24,10024,null,null,null,null,0,112]
[12,10119,24,10130,24,10135,null,null,null,null,0,122]
[12,10230,13,10231,13,10233,null,null,null,null,0,111]
[12,10334,24,10345,24,10350,null,null,null,null,0,122]
[12,10448,24,10462,24,10473,null,null,null,null,0,122]
[12,10571,13,10575,24,10584,null,null,null,null,0,112]
[12,10688,24,10696,24,10698,null,null,null,null,0,122]
[12,10792,13,10797,24,10806,null,null,null,null,0,112]
[12,10904,13,10909,24,10923,null,null,null,null,0,112]
[12,11059,24,11071,24,11076,null,null,null,null,0,122]
[12,11173,13,11176,24,11190,null,null,null,null,0,112]
[12,11288,13,11291,24,11304,null,null,null,null,0,112]
[12,11410,24,11422,24,11427,null,null,null,null,0,122]
[12,11526,24,11540,24,11548,null,null,null,null,0,122]
[12,11647,24,11654,24,11658,null,null,null,null,0,122]
[12,11850,24,11854,24,11864,null,null,null,null,0,122]
[12,11963,13,11966,24,11977,null,null,null,null,0,112]
[12,12073,24,12088,24,12093,null,null,null,null,0,122]
[12,12189,13,12192,24,12206,null,null,null,null,0,112]
[12,12301,24,12317,24,12320,null,null,null,null,0,122]
[12,12427,24,12442,24,12448,null,null,null,null,0,122]
[12,12545,24,12561,24,12567,null,null,null,null,0,122]
[12,12664,13,12669,24,12682,null,null,null,null,0,112]
[12,12779,13,12781,24,12794,null,null,null,null,0,112]
[12,12894,13,12900,24,12911,null,null,null,null,0,112]
[21,13021,22,13027,24,13032,null,null,null,null,0,222]
[12,13131,13,13135,24,13146,null,null,null,null,0,112]
[12,13294,24,13302,24,13307,null,null,null,null,0,122]
[12,13404,24,13417,24,13422,null,null,null,null,0,122]
[12,13519,13,13523,24,13537,null,null,null,null,0,112]
[12,13723,24,13734,24,13740,null,null,null,null,0,122]
[12,13838,24,13849,24,13853,null,null,null,null,0,122]
[12,13949,13,13954,24,13965,null,null,null,null,0,112]
[12,14063,13,14066,24,14075,null,null,null,null,0,112]
[12,14172,13,14176,24,14193,null,null,null,null,0,112]
[12,14309,24,14321,24,14326,null,null,null,null,0,122]
[12,14427,13,14431,24,14446,null,null,null,null,0,112]
[12,14544,13,14548,24,14559,null,null,null,null,0,112]
[12,14653,13,14657,24,14669,null,null,null,null,0,112]
[12,14787,24,14802,24,14808,null,null,null,null,0,122]
[12,14906,13,14911,24,14923,null,null,null,null,0,112]
[12,15017,24,15032,24,15038,null,null,null,null,0,122]
[21,15141,22,15146,24,15151,null,null,null,null,0,222]
[12,15249,24,15263,24,15267,null,null,null,null,0,122]
[12,15369,24,15375,24,15380,null,null,null,null,0,122]
[12,15512,24,15526,24,15531,null,null,null,null,0,122]
[12,15628,13,15632,24,15643,null,null,null,null,0,112]
[12,15742,24,15756,24,15761,null,null,null,null,0,122]
[12,15858,24,15870,24,15875,null,null,null,null,0,122]
[12,15972,24,15987,24,15991,null,null,null,null,0,122]
[12,16088,13,16093,24,16103,null,null,null,null,0,112]
[12,16211,24,16224,24,16229,null,null,null,null,0,122]
[12,16327,13,16329,24,16341,null,null,null,null,0,112]
[12,16439,13,16441,24,16457,null,null,null,null,0,112]
[12,16554,13,16558,24,16568,null,null,null,null,0,112]
[12,16670,13,16675,24,16682,null,null,null,null,0,112]
[12,16781,24,16800,24,16806,null,null,null,null,0,122]
[12,17022,13,17025,24,17035,null,null,null,null,0,112]
[12,17148,24,17162,24,17167,null,null,null,null,0,122]
[12,17268,24,17284,24,17290,null,null,null,null,0,122]
[12,17386,13,17389,24,17398,null,null,null,null,0,112]
[12,17495,24,17507,24,17516,null,null,null,null,0,122]
[12,17613,13,17617,24,17631,null,null,null,null,0,112]
[12,17738,24,17747,24,17752,null,null,null,null,0,122]
[12,17847,13,17851,24,17865,null,null,null,null,0,112]
[12,17965,13,17970,24,17985,null,null,null,null,0,112]
[12,18082,13,18084,24,18096,null,null,null,null,0,112]
[21,18229,22,18234,24,18239,null,null,null,null,0,222]
[21,18450,22,18454,24,18460,null,null,null,null,0,222]
[12,18556,24,18567,24,18571,null,null,null,null,0,122]
[12,18669,24,18686,24,18700,null,null,null,null,0,122]
[12,18818,24,18828,24,18833,null,null,null,null,0,122]
[12,18928,13,18931,24,18943,null,null,null,null,0,112]
[21,19092,22,19101,24,19106,null,null,null,null,0,222]
[21,19209,22,19214,24,19219,null,null,null,null,0,222]
[12,19313,24,19324,24,19329,null,null,null,null,0,122]
[12,19426,24,19436,24,19441,null,null,null,null,0,122]
[12,19550,24,19557,24,19562,null,null,null,null,0,122]
[12,19660,13,19663,24,19678,null,null,null,null,0,112]
[12,19775,13,19778,24,19792,null,null,null,null,0,112]
[21,19907,22,19911,24,19918,null,null,null,null,0,222]
[12,20014,24,20027,24,20031,null,null,null,null,0,122]
[12,20131,24,20140,24,20148,null,null,null,null,0,122]
[12,20242,24,20253,24,20258,null,null,null,null,0,122]
[12,20356,13,20360,24,20378,null,null,null,null,0,112]
[21,20563,22,20567,24,20573,null,null,null,null,0,222]
[12,20728,24,20740,24,20745,null,null,null,null,0,122]
[12,20845,24,20853,24,20857,null,null,null,null,0,122]
[12,20953,13,20957,24,20970,null,null,null,null,0,112]
[12,21104,24,21116,24,21120,null,null,null,null,0,122]
[12,21217,24,21231,24,21237,null,null,null,null,0,122]
[12,21347,24,21357,24,21362,null,null,null,null,0,122]
[12,21463,24,21477,24,21482,null,null,null,null,0,122]
[12,21580,24,21597,24,21602,null,null,null,null,0,122]
[12,21799,24,21806,24,21809,null,null,null,null,0,122]
[12,21907,13,21913,24,21926,null,null,null,null,0,112]
[12,22024,24,22045,24,22050,null,null,null,null,0,122]
[12,22222,24,22233,24,22238,null,null,null,null,0,122]
[12,22336,24,22347,24,22352,null,null,null,null,0,122]
[12,22468,24,22482,24,22488,null,null,null,null,0,122]
[12,22607,24,22620,24,22624,null,null,null,null,0,122]
[12,22760,24,22778,24,22783,null,null,null,null,0,122]
[12,22881,24,22892,24,22899,null,null,null,null,0,122]
[12,22999,24,23021,24,23026,null,null,null,null,0,122]
[12,23122,13,23128,24,23146,null,null,null,null,0,112]
[12,23243,24,23261,24,23266,null,null,null,null,0,122]
[21,23378,22,23381,24,23388,null,null,null,null,0,222]
[21,23494,22,23501,24,23507,null,null,null,null,0,222]
[12,23604,24,23614,24,23621,null,null,null,null,0,122]
[12,23777,24,23786,24,23791,null,null,null,null,0,122]
[12,23890,24,23906,24,23911,null,null,null,null,0,122]

{"sheet":"!L831A2T.ayl","index":7,"n_rows":206,"n_cols":48,"rows_kept":206,"cut":false,"hidden":false,"merged":[[4,39,4,42],[5,39,5,40],[4,44,4,47],[5,44,5,45],[4,24,4,27],[5,24,5,25],[4,29,4,32],[5,29,5,30],[4,34,4,37],[5,34,5,35],[1,1,1,2],[5,13,5,14],[18,13,18,14],[19,13,19,14],[4,19,4,22],[5,19,5,20]]}
["Report for:!L831A2T.ayl"]
["Date:","<date>"]
["Hen:","<hen>",null,null,null,"Correct Sequence",{"$f":"Start!J2","v":211},null,null,null,null,null,null,null,null,"Total Sequences in Data",{"$f":"4994-COUNTBLANK(L7:L5000)","v":200},null,null,null,null,"Total Sequences in Block Data",{"$f":"COUNTA(L7:L39)","v":33},null,null,null,"Total Sequences in Block Data",{"$f":"COUNTA(L40:L73)","v":34},null,null,null,"Total Sequences in Block Data",{"$f":"COUNTA(L74:L106)","v":33},null,null,null,"Total Sequences in Block Data",{"$f":"COUNTA(L107:L139)","v":33},null,null,null,"Total Sequences in Block Data",{"$f":"COUNTA(L140:L173)","v":34},null,null,null,"Total Sequences in Block Data",{"$f":"COUNTA(L174:L206)","v":33}]
[null,null,null,null,null,null,null,null,null,null,null,null,null,null,null,"Total Sequences in Summary",{"$f":"SUM(O7:O14)","v":200},null,null,null,null,"Total Sequences in Block Summary",{"$f":"SUM(U7:U14)","v":33},null,null,null,"Total Sequences in Block Summary",{"$f":"SUM(Z7:Z14)","v":34},null,null,null,"Total Sequences in Block Summary",{"$f":"SUM(AE7:AE14)","v":33},null,null,null,"Total Sequences in Block Summary",{"$f":"SUM(AJ7:AJ14)","v":33},null,null,null,"Total Sequences in Block Summary",{"$f":"SUM(AO7:AO14)","v":34},null,null,null,"Total Sequences in Block Summary",{"$f":"SUM(AT7:AT14)","v":33}]
[null,null,null,null,null,null,null,null,null,null,null,null,null,null,null,null,null,null,null,"Block 1",null,null,null,null,"Block 2",null,null,null,null,"Block 3",null,null,null,null,"Block 4",null,null,null,null,"Block 5",null,null,null,null,"Block 6"]
["Sequence\nComponent\n1","Time\n1","Sequence\nComponent\n2","Time\n2","Sequence\nComponent\n3","Time\n3","Sequence\nComponent\n4","Time\n4","Sequence\nComponent\n5","Time\n5","Correct?\n0=No 1=Yes","Sequence",null,"Frequency",null,"Relative Frequency","Variability",null,null,"Frequency",null,"Relative Frequency","Variability",null,"Frequency",null,"Relative Frequency","Variability",null,"Frequency",null,"Relative Frequency","Variability",null,"Frequency",null,"Relative Frequency","Variability",null,"Frequency",null,"Relative Frequency","Variability",null,"Frequency",null,"Relative Frequency","Variability"]
[21,15,22,23,24,28,null,null,null,null,0,222,null,111,{"$f":"COUNTIF($L$7:$L$500,N7)","v":2},{"$f":"O7/$Q$4","v":0.01},{"$f":"IF(P7=0,0,(P7*((LOG(P7))/LOG(2))))","v":-6.6438561897747245E-2},null,null,{"$f":"N7","v":111},{"$f":"COUNTIF(L7:L39,T7)","v":0},{"$f":"U7/(W4-U11)","v":0},{"$f":"IF(V7=0,0,(V7*((LOG(V7))/LOG(2))))","v":0},null,{"$f":"N7","v":111},{"$f":"COUNTIF(L40:L73,Y7)","v":0},{"$f":"Z7/(AB4-Z11)","v":0},{"$f":"IF(AA7=0,0,(AA7*((LOG(AA7))/LOG(2))))","v":0},null,{"$f":"N7","v":111},{"$f":"COUNTIF(L74:L106,AD7)","v":1},{"$f":"AE7/(AG4-AE11)","v":3.0303030303030304E-2},{"$f":"IF(AF7=0,0,(AF7*((LOG(AF7))/LOG(2))))","v":-0.15286042785934709},null,{"$f":"N7","v":111},{"$f":"COUNTIF(L107:L139,AI7)","v":0},{"$f":"AJ7/(AL4-AJ11)","v":0},{"$f":"IF(AK7=0,0,(AK7*((LOG(AK7))/LOG(2))))","v":0},null,{"$f":"N7","v":111},{"$f":"COUNTIF(L140:L173,AN7)","v":0},{"$f":"AO7/(AQ4-AO11)","v":0},{"$f":"IF(AP7=0,0,(AP7*((LOG(AP7))/LOG(2))))","v":0},null,{"$f":"N7","v":111},{"$f":"COUNTIF(L174:L206,AS7)","v":1},{"$f":"AT7/(AV4-AT11)","v":3.0303030303030304E-2},{"$f":"IF(AU7=0,0,(AU7*((LOG(AU7))/LOG(2))))","v":-0.15286042785934709}]
[12,127,24,138,24,148,null,null,null,null,0,122,null,112,{"$f":"COUNTIF($L$7:$L$500,N8)","v":44},{"$f":"O8/$Q$4","v":0.22},{"$f":"IF(P8=0,0,(P8*((LOG(P8))/LOG(2))))","v":-0.48057340565023393},null,null,{"$f":"N8","v":112},{"$f":"COUNTIF(L7:L39,T8)","v":2},{"$f":"U8/(W4-U11)","v":6.0606060606060608E-2},{"$f":"IF(V8=0,0,(V8*((LOG(V8))/LOG(2))))","v":-0.24511479511263354},null,{"$f":"N8","v":112},{"$f":"COUNTIF(L40:L73,Y8)","v":7},{"$f":"Z8/(AB4-Z11)","v":0.20588235294117646},{"$f":"IF(AA8=0,0,(AA8*((LOG(AA8))/LOG(2))))","v":-0.46943398336321018},null,{"$f":"N8","v":112},{"$f":"COUNTIF(L74:L106,AD8)","v":8},{"$f":"AE8/(AG4-AE11)","v":0.24242424242424243},{"$f":"IF(AF8=0,0,(AF8*((LOG(AF8))/LOG(2))))","v":-0.49561069560204934},null,{"$f":"N8","v":112},{"$f":"COUNTIF(L107:L139,AI8)","v":8},{"$f":"AJ8/(AL4-AJ11)","v":0.24242424242424243},{"$f":"IF(AK8=0,0,(AK8*((LOG(AK8))/LOG(2))))","v":-0.49561069560204934},null,{"$f":"N8","v":112},{"$f":"COUNTIF(L140:L173,AN8)","v":5},{"$f":"AO8/(AQ4-AO11)","v":0.14705882352941177},{"$f":"IF(AP8=0,0,(AP8*((LOG(AP8))/LOG(2))))","v":-0.40669628622984955},null,{"$f":"N8","v":112},{"$f":"COUNTIF(L174:L206,AS8)","v":14},{"$f":"AT8/(AV4-AT11)","v":0.42424242424242425},{"$f":"IF(AU8=0,0,(AU8*((LOG(AU8))/LOG(2))))","v":-0.52480450794581479}]
[12,253,24,267,24,273,null,null,null,null,0,122,null,121,{"$f":"COUNTIF($L$7:$L$500,N9)","v":0},{"$f":"O9/$Q$4","v":0},{"$f":"IF(P9=0,0,(P9*((LOG(P9))/LOG(2))))","v":0},null,null,{"$f":"N9","v":121},{"$f":"COUNTIF(L7:L39,T9)","v":0},{"$f":"U9/(W4-U11)","v":0},{"$f":"IF(V9=0,0,(V9*((LOG(V9))/LOG(2))))","v":0},null,{"$f":"N9","v":121},{"$f":"COUNTIF(L40:L73,Y9)","v":0},{"$f":"Z9/(AB4-Z11)","v":0},{"$f":"IF(AA9=0,0,(AA9*((LOG(AA9))/LOG(2))))","v":0},null,{"$f":"N9","v":121},{"$f":"COUNTIF(L74:L106,AD9)","v":0},{"$f":"AE9/(AG4-AE11)","v":0},{"$f":"IF(AF9=0,0,(AF9*((LOG(AF9))/LOG(2))))","v":0},null,{"$f":"N9","v":121},{"$f":"COUNTIF(L107:L139,AI9)","v":0},{"$f":"AJ9/(AL4-AJ11)","v":0},{"$f":"IF(AK9=0,0,(AK9*((LOG(AK9))/LOG(2))))","v":0},null,{"$f":"N9","v":121},{"$f":"COUNTIF(L140:L173,AN9)","v":0},{"$f":"AO9/(AQ4-AO11)","v":0},{"$f":"IF(AP9=0,0,(AP9*((LOG(AP9))/LOG(2))))","v":0},null,{"$f":"N9","v":121},{"$f":"COUNTIF(L174:L206,AS9)","v":0},{"$f":"AT9/(AV4-AT11)","v":0},{"$f":"IF(AU9=0,0,(AU9*((LOG(AU9))/LOG(2))))","v":0}]
[12,370,24,378,24,383,null,null,null,null,0,122,null,122,{"$f":"COUNTIF($L$7:$L$500,N10)","v":122},{"$f":"O10/$Q$4","v":0.61},{"$f":"IF(P10=0,0,(P10*((LOG(P10))/LOG(2))))","v":-0.43500249984922146},null,null,{"$f":"N10","v":122},{"$f":"COUNTIF(L7:L39,T10)","v":25},{"$f":"U10/(W4-U11)","v":0.75757575757575757},{"$f":"IF(V10=0,0,(V10*((LOG(V10))/LOG(2))))","v":-0.30343782544221876},null,{"$f":"N10","v":122},{"$f":"COUNTIF(L40:L73,Y10)","v":22},{"$f":"Z10/(AB4-Z11)","v":0.6470588235294118},{"$f":"IF(AA10=0,0,(AA10*((LOG(AA10))/LOG(2))))","v":-0.40637314404373309},null,{"$f":"N10","v":122},{"$f":"COUNTIF(L74:L106,AD10)","v":20},{"$f":"AE10/(AG4-AE11)","v":0.60606060606060608},{"$f":"IF(AF10=0,0,(AF10*((LOG(AF10))/LOG(2))))","v":-0.43785819664914605},null,{"$f":"N10","v":122},{"$f":"COUNTIF(L107:L139,AI10)","v":19},{"$f":"AJ10/(AL4-AJ11)","v":0.5757575757575758},{"$f":"IF(AK10=0,0,(AK10*((LOG(AK10))/LOG(2))))","v":-0.45857168219340877},null,{"$f":"N10","v":122},{"$f":"COUNTIF(L140:L173,AN10)","v":24},{"$f":"AO10/(AQ4-AO11)","v":0.70588235294117652},{"$f":"IF(AP10=0,0,(AP10*((LOG(AP10))/LOG(2))))","v":-0.35470612272648222},null,{"$f":"N10","v":122},{"$f":"COUNTIF(L174:L206,AS10)","v":12},{"$f":"AT10/(AV4-AT11)","v":0.36363636363636365},{"$f":"IF(AU10=0,0,(AU10*((LOG(AU10))/LOG(2))))","v":-0.53070240677719893}]
[12,476,24,488,24,509,null,null,null,null,0,122,null,211,{"$f":"COUNTIF($L$7:$L$500,N11)","v":0},{"$f":"O11/$Q$4","v":0},{"$f":"IF(P11=0,0,(P11*((LOG(P11))/LOG(2))))","v":0},null,null,{"$f":"N11","v":211},{"$f":"COUNTIF(L7:L39,T11)","v":0},null,null,null,{"$f":"N11","v":211},{"$f":"COUNTIF(L40:L73,Y11)","v":0},null,null,null,{"$f":"N11","v":211},{"$f":"COUNTIF(L74:L106,AD11)","v":0},null,null,null,{"$f":"N11","v":211},{"$f":"COUNTIF(L107:L139,AI11)","v":0},null,null,null,{"$f":"N11","v":211},{"$f":"COUNTIF(L140:L173,AN11)","v":0},null,null,null,{"$f":"N11","v":211},{"$f":"COUNTIF(L174:L206,AS11)","v":0}]
[12,597,24,604,24,609,null,null,null,null,0,122,null,212,{"$f":"COUNTIF($L$7:$L$500,N12)","v":0},{"$f":"O12/$Q$4","v":0},{"$f":"IF(P12=0,0,(P12*((LOG(P12))/LOG(2))))","v":0},null,null,{"$f":"N12","v":212},{"$f":"COUNTIF(L7:L39,T12)","v":0},{"$f":"U12/(W4-U11)","v":0},{"$f":"IF(V12=0,0,(V12*((LOG(V12))/LOG(2))))","v":0},null,{"$f":"N12","v":212},{"$f":"COUNTIF(L40:L73,Y12)","v":0},{"$f":"Z12/(AB4-Z11)","v":0},{"$f":"IF(AA12=0,0,(AA12*((LOG(AA12))/LOG(2))))","v":0},null,{"$f":"N12","v":212},{"$f":"COUNTIF(L74:L106,AD12)","v":0},{"$f":"AE12/(AG4-AE11)","v":0},{"$f":"IF(AF12=0,0,(AF12*((LOG(AF12))/LOG(2))))","v":0},null,{"$f":"N12","v":212},{"$f":"COUNTIF(L107:L139,AI12)","v":0},{"$f":"AJ12/(AL4-AJ11)","v":0},{"$f":"IF(AK12=0,0,(AK12*((LOG(AK12))/LOG(2))))","v":0},null,{"$f":"N12","v":212},{"$f":"COUNTIF(L140:L173,AN12)","v":0},{"$f":"AO12/(AQ4-AO11)","v":0},{"$f":"IF(AP12=0,0,(AP12*((LOG(AP12))/LOG(2))))","v":0},null,{"$f":"N12","v":212},{"$f":"COUNTIF(L174:L206,AS12)","v":0},{"$f":"AT12/(AV4-AT11)","v":0},{"$f":"IF(AU12=0,0,(AU12*((LOG(AU12))/LOG(2))))","v":0}]
[12,707,24,723,24,728,null,null,null,null,0,122,null,221,{"$f":"COUNTIF($L$7:$L$500,N13)","v":0},{"$f":"O13/$Q$4","v":0},{"$f":"IF(P13=0,0,(P13*((LOG(P13))/LOG(2))))","v":0},null,null,{"$f":"N13","v":221},{"$f":"COUNTIF(L7:L39,T13)","v":0},{"$f":"U13/(W4-U11)","v":0},{"$f":"IF(V13=0,0,(V13*((LOG(V13))/LOG(2))))","v":0},null,{"$f":"N13","v":221},{"$f":"COUNTIF(L40:L73,Y13)","v":0},{"$f":"Z13/(AB4-Z11)","v":0},{"$f":"IF(AA13=0,0,(AA13*((LOG(AA13))/LOG(2))))","v":0},null,{"$f":"N13","v":221},{"$f":"COUNTIF(L74:L106,AD13)","v":0},{"$f":"AE13/(AG4-AE11)","v":0},{"$f":"IF(AF13=0,0,(AF13*((LOG(AF13))/LOG(2))))","v":0},null,{"$f":"N13","v":221},{"$f":"COUNTIF(L107:L139,AI13)","v":0},{"$f":"AJ13/(AL4-AJ11)","v":0},{"$f":"IF(AK13=0,0,(AK13*((LOG(AK13))/LOG(2))))","v":0},null,{"$f":"N13","v":221},{"$f":"COUNTIF(L140:L173,AN13)","v":0},{"$f":"AO13/(AQ4-AO11)","v":0},{"$f":"IF(AP13=0,0,(AP13*((LOG(AP13))/LOG(2))))","v":0},null,{"$f":"N13","v":221},{"$f":"COUNTIF(L174:L206,AS13)","v":0},{"$f":"AT13/(AV4-AT11)","v":0},{"$f":"IF(AU13=0,0,(AU13*((LOG(AU13))/LOG(2))))","v":0}]
[12,821,24,837,24,843,null,null,null,null,0,122,null,222,{"$f":"COUNTIF($L$7:$L$500,N14)","v":32},{"$f":"O14/$Q$4","v":0.16},{"$f":"IF(P14=0,0,(P14*((LOG(P14))/LOG(2))))","v":-0.42301699036395596},null,null,{"$f":"N14","v":222},{"$f":"COUNTIF(L7:L39,T14)","v":6},{"$f":"U14/(W4-U11)","v":0.18181818181818182},{"$f":"IF(V14=0,0,(V14*((LOG(V14))/LOG(2))))","v":-0.44716938520678134},null,{"$f":"N14","v":222},{"$f":"COUNTIF(L40:L73,Y14)","v":5},{"$f":"Z14/(AB4-Z11)","v":0.14705882352941177},{"$f":"IF(AA14=0,0,(AA14*((LOG(AA14))/LOG(2))))","v":-0.40669628622984955},null,{"$f":"N14","v":222},{"$f":"COUNTIF(L74:L106,AD14)","v":4},{"$f":"AE14/(AG4-AE11)","v":0.12121212121212122},{"$f":"IF(AF14=0,0,(AF14*((LOG(AF14))/LOG(2))))","v":-0.36901746901314586},null,{"$f":"N14","v":222},{"$f":"COUNTIF(L107:L139,AI14)","v":6},{"$f":"AJ14/(AL4-AJ11)","v":0.18181818181818182},{"$f":"IF(AK14=0,0,(AK14*((LOG(AK14))/LOG(2))))","v":-0.44716938520678134},null,{"$f":"N14","v":222},{"$f":"COUNTIF(L140:L173,AN14)","v":5},{"$f":"AO14/(AQ4-AO11)","v":0.14705882352941177},{"$f":"IF(AP14=0,0,(AP14*((LOG(AP14))/LOG(2))))","v":-0.40669628622984955},null,{"$f":"N14","v":222},{"$f":"COUNTIF(L174:L206,AS14)","v":6},{"$f":"AT14/(AV4-AT11)","v":0.18181818181818182},{"$f":"IF(AU14=0,0,(AU14*((LOG(AU14))/LOG(2))))","v":-0.44716938520678134}]
[21,980,22,983,24,987,null,null,null,null,0,222,null,null,null,{"$f":"SUM(P7:P14)","v":1},{"$f":"-SUM(Q7:Q14)","v":1.4050314577611587},null,null,null,null,{"$f":"SUM(V7:V14)","v":1},{"$f":"-SUM(W7:W14)","v":0.99572200576163361},null,null,null,{"$f":"SUM(AA7:AA14)","v":1},{"$f":"-SUM(AB7:AB14)","v":1.2825034136367928},null,null,null,{"$f":"SUM(AF7:AF14)","v":1},{"$f":"-SUM(AG7:AG14)","v":1.4553467891236884},null,null,null,{"$f":"SUM(AK7:AK14)","v":1},{"$f":"-SUM(AL7:AL14)","v":1.4013517630022394},null,null,null,{"$f":"SUM(AP7:AP14)","v":1},{"$f":"-SUM(AQ7:AQ14)","v":1.1680986951861814},null,null,null,{"$f":"SUM(AU7:AU14)","v":1},{"$f":"-SUM(AV7:AV14)","v":1.655536727789142}]
[12,1086,24,1098,24,1115,null,null,null,null,0,122,null,null,null,"U=",{"$f":"Q15/(LOG(Q4)/LOG(2))","v":0.18381186444097228},null,null,null,null,"U1=",{"$f":"W15/(LOG(W4)/LOG(2))","v":0.19739179417810235},null,null,null,"U2=",{"$f":"AB15/(LOG(AB4)/LOG(2))","v":0.25209096432861483},null,null,null,"U3=",{"$f":"AG15/(LOG(AG4)/LOG(2))","v":0.28850774834159459},null,null,null,"U4=",{"$f":"AL15/(LOG(AL4)/LOG(2))","v":0.2778037817513877},null,null,null,"U5=",{"$f":"AQ15/(LOG(AQ4)/LOG(2))","v":0.22960338613482614},null,null,null,"U6=",{"$f":"AV15/(LOG(AV4)/LOG(2))","v":0.32819337439075702}]
[12,1212,24,1224,24,1250,null,null,null,null,0,122]
[12,1349,24,1364,24,1374,null,null,null,null,0,122]
[12,1462,24,1473,24,1481,null,null,null,null,0,122,null,"Total Target Seq"]
[12,1578,24,1591,24,1595,null,null,null,null,0,122,null,{"$f":"COUNTIF(L7:L206,G3)","v":0},null,33,34,33,33,34,33]
[21,1702,22,1706,24,1711,null,null,null,null,0,222,null,null,null,"% of reinforcement given in 6 equal intervals based on number of trials "]
[12,1808,13,1810,24,1819,null,null,null,null,0,112,null,null,null,"%_1","%_2","%_3","%_4","%_5","%_6"]
[12,1917,24,1930,24,1934,null,null,null,null,0,122,null,null,"target sequence",{"$f":"$G$3","v":211},{"$f":"$G$3","v":211},{"$f":"$G$3","v":211},{"$f":"$G$3","v":211},{"$f":"$G$3","v":211},{"$f":"$G$3","v":211}]
[12,2030,24,2052,24,2057,null,null,null,null,0,122,null,null,"total reinforcement",{"$f":"U11","v":0},{"$f":"Z11","v":0},{"$f":"AE11","v":0},{"$f":"AJ11","v":0},{"$f":"AO11","v":0},{"$f":"AT11","v":0}]
[12,2153,24,2162,24,2189,null,null,null,null,0,122,null,null,"% target"]
[21,2298,22,2300,24,2310,null,null,null,null,0,222,null,null,"CCRF"]
[21,2419,22,2424,24,2429,null,null,null,null,0,222,null,null,"% CCRf"]
[12,2531,24,2541,24,2544,null,null,null,null,0,122,null,null,"average response rate",{"$f":"F39/P20","v":114.75757575757575},{"$f":"(F73-F39)/Q20","v":118.05882352941177},{"$f":"(F106-F73)/R20","v":116.63636363636364},{"$f":"(F139-F106)/S20","v":126.27272727272727},{"$f":"(F173-F139)/T20","v":116.02941176470588},{"$f":"(F206-F173)/U20","v":121.24242424242425}]
[12,2643,24,2653,24,2656,null,null,null,null,0,122]
[12,2754,24,2762,24,2765,null,null,null,null,0,122]
[12,2860,24,2874,24,2878,null,null,null,null,0,122]
[12,2974,24,2989,24,2994,null,null,null,null,0,122]
[12,3087,24,3098,24,3113,null,null,null,null,0,122]
[12,3211,24,3223,24,3228,null,null,null,null,0,122]
[12,3325,24,3337,24,3341,null,null,null,null,0,122]
[12,3439,24,3450,24,3454,null,null,null,null,0,122]
[12,3550,13,3552,24,3559,null,null,null,null,0,112]
[12,3654,24,3663,24,3669,null,null,null,null,0,122]
[21,3777,22,3782,24,3787,null,null,null,null,0,222]
[21,4001,22,4004,24,4008,null,null,null,null,0,222]
[12,4103,24,4115,24,4139,null,null,null,null,0,122]
[12,4237,24,4248,24,4251,null,null,null,null,0,122]
[12,4349,13,4353,24,4363,null,null,null,null,0,112]
[12,4459,13,4462,24,4474,null,null,null,null,0,112]
[21,4581,22,4585,24,4591,null,null,null,null,0,222]
[12,4688,13,4692,24,4704,null,null,null,null,0,112]
[12,4801,24,4811,24,4815,null,null,null,null,0,122]
[12,4908,24,4921,24,4926,null,null,null,null,0,122]
[12,5018,24,5039,24,5043,null,null,null,null,0,122]
[12,5140,13,5142,24,5153,null,null,null,null,0,112]
[12,5250,24,5258,24,5261,null,null,null,null,0,122]
[12,5374,24,5382,24,5388,null,null,null,null,0,122]
[12,5481,13,5484,24,5500,null,null,null,null,0,112]
[12,5596,24,5609,24,5612,null,null,null,null,0,122]
[12,5708,24,5723,24,5728,null,null,null,null,0,122]
[12,5843,24,5854,24,5859,null,null,null,null,0,122]
[12,5955,24,5966,24,5982,null,null,null,null,0,122]
[12,6078,13,6081,24,6089,null,null,null,null,0,112]
[12,6185,24,6196,24,6200,null,null,null,null,0,122]
[12,6307,24,6320,24,6324,null,null,null,null,0,122]
[12,6422,13,6425,24,6439,null,null,null,null,0,112]
[21,6545,22,6548,24,6553,null,null,null,null,0,222]
[12,6651,24,6664,24,6668,null,null,null,null,0,122]
[12,6763,24,6771,24,6779,null,null,null,null,0,122]
[12,6877,24,6890,24,6894,null,null,null,null,0,122]
[12,6991,24,7002,24,7006,null,null,null,null,0,122]
[21,7118,22,7123,24,7128,null,null,null,null,0,222]
[12,7223,24,7235,24,7240,null,null,null,null,0,122]
[12,7334,24,7346,24,7351,null,null,null,null,0,122]
[12,7445,24,7458,24,7463,null,null,null,null,0,122]
[12,7560,24,7576,24,7581,null,null,null,null,0,122]
[12,7675,24,7687,24,7690,null,null,null,null,0,122]
[21,7793,22,7796,24,7801,null,null,null,null,0,222]
[12,7903,24,7918,24,7922,null,null,null,null,0,122]
[21,8029,22,8033,24,8039,null,null,null,null,0,222]
[12,8136,24,8145,24,8149,null,null,null,null,0,122]
[12,8245,24,8256,24,8260,null,null,null,null,0,122]
[12,8356,24,8366,24,8376,null,null,null,null,0,122]
[21,8516,22,8520,24,8526,null,null,null,null,0,222]
[12,8625,24,8634,24,8637,null,null,null,null,0,122]
[21,8741,22,8744,24,8749,null,null,null,null,0,222]
[12,8847,24,8861,24,8866,null,null,null,null,0,122]
[12,8958,24,8967,24,8971,null,null,null,null,0,122]
[12,9086,24,9092,24,9096,null,null,null,null,0,122]
[12,9193,24,9207,24,9211,null,null,null,null,0,122]
[12,9308,13,9310,24,9323,null,null,null,null,0,112]
[12,9418,24,9437,24,9451,null,null,null,null,0,122]
[12,9548,24,9558,24,9563,null,null,null,null,0,122]
[12,9661,13,9665,24,9676,null,null,null,null,0,112]
[21,9789,22,9794,24,9800,null,null,null,null,0,222]
[12,9897,24,9910,24,9919,null,null,null,null,0,122]
[12,10011,13,10015,24,10026,null,null,null,null,0,112]
[12,10122,24,10149,24,10155,null,null,null,null,0,122]
[12,10253,13,10256,24,10267,null,null,null,null,0,112]
[12,10362,13,10364,24,10378,null,null,null,null,0,112]
[12,10473,24,10502,24,10517,null,null,null,null,0,122]
[12,10613,24,10627,24,10637,null,null,null,null,0,122]
[12,10759,13,10762,24,10771,null,null,null,null,0,112]
[12,10867,24,10876,24,10880,null,null,null,null,0,122]
[12,10974,24,10990,24,10995,null,null,null,null,0,122]
[12,11087,13,11089,24,11098,null,null,null,null,0,112]
[12,11197,24,11210,24,11215,null,null,null,null,0,122]
[12,11308,24,11321,24,11324,null,null,null,null,0,122]
[12,11423,13,11427,24,11438,null,null,null,null,0,112]
[12,11535,13,11538,13,11540,null,null,null,null,0,111]
[12,11637,24,11645,24,11650,null,null,null,null,0,122]
[12,11749,24,11762,24,11768,null,null,null,null,0,122]
[12,11865,24,11877,24,11880,null,null,null,null,0,122]
[12,11977,13,11982,24,11992,null,null,null,null,0,112]
[21,12154,22,12160,24,12165,null,null,null,null,0,222]
[12,12262,24,12273,24,12277,null,null,null,null,0,122]
[12,12375,24,12385,24,12390,null,null,null,null,0,122]
[12,12482,13,12487,24,12497,null,null,null,null,0,112]
[12,12594,24,12610,24,12613,null,null,null,null,0,122]
[21,12779,22,12786,24,12791,null,null,null,null,0,222]
[12,12889,24,12899,24,12904,null,null,null,null,0,122]
[12,12997,24,13012,24,13016,null,null,null,null,0,122]
[12,13112,24,13120,24,13128,null,null,null,null,0,122]
[21,13263,22,13268,24,13272,null,null,null,null,0,222]
[12,13368,13,13371,24,13381,null,null,null,null,0,112]
[12,13478,13,13481,24,13495,null,null,null,null,0,112]
[21,13604,22,13608,24,13623,null,null,null,null,0,222]
[12,13790,24,13800,24,13805,null,null,null,null,0,122]
[12,13986,24,13996,24,14000,null,null,null,null,0,122]
[12,14115,24,14127,24,14130,null,null,null,null,0,122]
[12,14228,24,14246,24,14250,null,null,null,null,0,122]
[12,14348,24,14366,24,14370,null,null,null,null,0,122]
[12,14469,24,14480,24,14484,null,null,null,null,0,122]
[12,14582,13,14584,24,14601,null,null,null,null,0,112]
[21,14716,22,14720,24,14725,null,null,null,null,0,222]
[21,14871,22,14876,24,14881,null,null,null,null,0,222]
[12,14979,24,14989,24,14994,null,null,null,null,0,122]
[12,15090,24,15105,24,15116,null,null,null,null,0,122]
[12,15213,13,15215,24,15229,null,null,null,null,0,112]
[12,15327,13,15330,24,15345,null,null,null,null,0,112]
[12,15442,24,15459,24,15463,null,null,null,null,0,122]
[12,15560,13,15564,24,15579,null,null,null,null,0,112]
[12,15672,24,15687,24,15690,null,null,null,null,0,122]
[12,15801,24,15812,24,15817,null,null,null,null,0,122]
[12,15911,24,15924,24,15929,null,null,null,null,0,122]
[12,16025,24,16040,24,16045,null,null,null,null,0,122]
[12,16144,24,16155,24,16159,null,null,null,null,0,122]
[12,16257,13,16259,24,16274,null,null,null,null,0,112]
[12,16370,24,16382,24,16387,null,null,null,null,0,122]
[21,16504,22,16509,24,16514,null,null,null,null,0,222]
[12,16611,24,16624,24,16628,null,null,null,null,0,122]
[12,16723,24,16734,24,16744,null,null,null,null,0,122]
[12,16839,24,16848,24,16852,null,null,null,null,0,122]
[21,16956,22,16960,24,16965,null,null,null,null,0,222]
[21,17089,22,17093,24,17096,null,null,null,null,0,222]
[12,17218,24,17228,24,17234,null,null,null,null,0,122]
[12,17332,24,17338,24,17342,null,null,null,null,0,122]
[12,17441,24,17459,24,17463,null,null,null,null,0,122]
[12,17559,13,17561,24,17572,null,null,null,null,0,112]
[12,17666,24,17677,24,17682,null,null,null,null,0,122]
[12,17778,13,17780,24,17795,null,null,null,null,0,112]
[12,17891,13,17895,24,17910,null,null,null,null,0,112]
[12,18009,24,18021,24,18025,null,null,null,null,0,122]
[21,18134,22,18144,24,18149,null,null,null,null,0,222]
[12,18245,24,18256,24,18260,null,null,null,null,0,122]
[12,18377,24,18391,24,18395,null,null,null,null,0,122]
[21,18505,22,18513,24,18518,null,null,null,null,0,222]
[12,18615,24,18633,24,18639,null,null,null,null,0,122]
[12,18736,24,18751,24,18754,null,null,null,null,0,122]
[12,18852,24,18857,24,18863,null,null,null,null,0,122]
[12,18960,24,18968,24,18973,null,null,null,null,0,122]
[12,19072,24,19082,24,19086,null,null,null,null,0,122]
[12,19184,24,19198,24,19202,null,null,null,null,0,122]
[12,19296,24,19308,24,19316,null,null,null,null,0,122]
[12,19413,24,19421,24,19425,null,null,null,null,0,122]
[12,19522,13,19526,24,19537,null,null,null,null,0,112]
[12,19630,24,19646,24,19651,null,null,null,null,0,122]
[12,19748,24,19758,24,19762,null,null,null,null,0,122]
[21,19892,22,19895,24,19900,null,null,null,null,0,222]
[12,19998,13,20000,24,20011,null,null,null,null,0,112]
[12,20105,13,20107,24,20119,null,null,null,null,0,112]
[12,20213,24,20227,24,20231,null,null,null,null,0,122]
[12,20326,13,20330,24,20340,null,null,null,null,0,112]
[12,20438,24,20452,24,20456,null,null,null,null,0,122]
[12,20553,13,20555,13,20557,null,null,null,null,0,111]
[12,20654,13,20658,24,20668,null,null,null,null,0,112]
[12,20765,24,20785,24,20791,null,null,null,null,0,122]
[12,20879,13,20882,24,20891,null,null,null,null,0,112]
[12,20989,13,20992,24,21004,null,null,null,null,0,112]
[12,21116,24,21123,24,21131,null,null,null,null,0,122]
[12,21239,24,21251,24,21256,null,null,null,null,0,122]
[12,21353,13,21355,24,21367,null,null,null,null,0,112]
[12,21502,24,21515,24,21519,null,null,null,null,0,122]
[12,21677,24,21690,24,21695,null,null,null,null,0,122]
[12,21792,24,21802,24,21806,null,null,null,null,0,122]
[21,21916,22,21920,24,21938,null,null,null,null,0,222]
[12,22033,24,22045,24,22048,null,null,null,null,0,122]
[12,22144,13,22146,24,22159,null,null,null,null,0,112]
[21,22312,22,22315,24,22319,null,null,null,null,0,222]
[12,22458,24,22470,24,22474,null,null,null,null,0,122]
[12,22573,24,22584,24,22588,null,null,null,null,0,122]
[12,22686,13,22689,24,22705,null,null,null,null,0,112]
[12,22802,13,22804,24,22815,null,null,null,null,0,112]
[12,22913,13,22917,24,22919,null,null,null,null,0,112]
[21,23027,22,23029,24,23031,null,null,null,null,0,222]
[12,23130,13,23134,24,23144,null,null,null,null,0,112]
[12,23240,13,23243,24,23257,null,null,null,null,0,112]
[12,23353,13,23356,24,23366,null,null,null,null,0,112]
[21,23480,22,23485,24,23490,null,null,null,null,0,222]
[12,23587,24,23600,24,23605,null,null,null,null,0,122]
[21,23756,22,23760,24,23763,null,null,null,null,0,222]

{"sheet":"!L901A4T.ayl","index":8,"n_rows":177,"n_cols":48,"rows_kept":177,"cut":false,"hidden":false,"merged":[[4,39,4,42],[5,39,5,40],[4,44,4,47],[5,44,5,45],[4,24,4,27],[5,24,5,25],[4,29,4,32],[5,29,5,30],[4,34,4,37],[5,34,5,35],[1,1,1,2],[5,13,5,14],[18,13,18,14],[19,13,19,14],[4,19,4,22],[5,19,5,20]]}
["Report for:!L901A4T.ayl"]
["Date:","<date>"]
["Hen:","<hen>",null,null,null,"Correct Sequence",{"$f":"Start!J2","v":211},null,null,null,null,null,null,null,null,"Total Sequences in Data",{"$f":"4994-COUNTBLANK(L7:L5000)","v":171},null,null,null,null,"Total Sequences in Block Data",{"$f":"COUNTA(L7:L35)","v":29},null,null,null,"Total Sequences in Block Data",{"$f":"COUNTA(L36:L63)","v":28},null,null,null,"Total Sequences in Block Data",{"$f":"COUNTA(L64:L92)","v":29},null,null,null,"Total Sequences in Block Data",{"$f":"COUNTA(L93:L120)","v":28},null,null,null,"Total Sequences in Block Data",{"$f":"COUNTA(L121:L149)","v":29},null,null,null,"Total Sequences in Block Data",{"$f":"COUNTA(L150:L177)","v":28}]
[null,null,null,null,null,null,null,null,null,null,null,null,null,null,null,"Total Sequences in Summary",{"$f":"SUM(O7:O14)","v":171},null,null,null,null,"Total Sequences in Block Summary",{"$f":"SUM(U7:U14)","v":29},null,null,null,"Total Sequences in Block Summary",{"$f":"SUM(Z7:Z14)","v":28},null,null,null,"Total Sequences in Block Summary",{"$f":"SUM(AE7:AE14)","v":29},null,null,null,"Total Sequences in Block Summary",{"$f":"SUM(AJ7:AJ14)","v":28},null,null,null,"Total Sequences in Block Summary",{"$f":"SUM(AO7:AO14)","v":29},null,null,null,"Total Sequences in Block Summary",{"$f":"SUM(AT7:AT14)","v":28}]
[null,null,null,null,null,null,null,null,null,null,null,null,null,null,null,null,null,null,null,"Block 1",null,null,null,null,"Block 2",null,null,null,null,"Block 3",null,null,null,null,"Block 4",null,null,null,null,"Block 5",null,null,null,null,"Block 6"]
["Sequence\nComponent\n1","Time\n1","Sequence\nComponent\n2","Time\n2","Sequence\nComponent\n3","Time\n3","Sequence\nComponent\n4","Time\n4","Sequence\nComponent\n5","Time\n5","Correct?\n0=No 1=Yes","Sequence",null,"Frequency",null,"Relative Frequency","Variability",null,null,"Frequency",null,"Relative Frequency","Variability",null,"Frequency",null,"Relative Frequency","Variability",null,"Frequency",null,"Relative Frequency","Variability",null,"Frequency",null,"Relative Frequency","Variability",null,"Frequency",null,"Relative Frequency","Variability",null,"Frequency",null,"Relative Frequency","Variability"]
[21,32,22,43,24,48,null,null,null,null,0,222,null,111,{"$f":"COUNTIF($L$7:$L$500,N7)","v":1},{"$f":"O7/$Q$4","v":5.8479532163742687E-3},{"$f":"IF(P7=0,0,(P7*((LOG(P7))/LOG(2))))","v":-4.3379254473016944E-2},null,null,{"$f":"N7","v":111},{"$f":"COUNTIF(L7:L35,T7)","v":0},{"$f":"U7/(W4-U11)","v":0},{"$f":"IF(V7=0,0,(V7*((LOG(V7))/LOG(2))))","v":0},null,{"$f":"N7","v":111},{"$f":"COUNTIF(L36:L63,Y7)","v":0},{"$f":"Z7/(AB4-Z11)","v":0},{"$f":"IF(AA7=0,0,(AA7*((LOG(AA7))/LOG(2))))","v":0},null,{"$f":"N7","v":111},{"$f":"COUNTIF(L64:L92,AD7)","v":0},{"$f":"AE7/(AG4-AE11)","v":0},{"$f":"IF(AF7=0,0,(AF7*((LOG(AF7))/LOG(2))))","v":0},null,{"$f":"N7","v":111},{"$f":"COUNTIF(L93:L120,AI7)","v":0},{"$f":"AJ7/(AL4-AJ11)","v":0},{"$f":"IF(AK7=0,0,(AK7*((LOG(AK7))/LOG(2))))","v":0},null,{"$f":"N7","v":111},{"$f":"COUNTIF(L121:L149,AN7)","v":0},{"$f":"AO7/(AQ4-AO11)","v":0},{"$f":"IF(AP7=0,0,(AP7*((LOG(AP7))/LOG(2))))","v":0},null,{"$f":"N7","v":111},{"$f":"COUNTIF(L150:L177,AS7)","v":1},{"$f":"AT7/(AV4-AT11)","v":3.5714285714285712E-2},{"$f":"IF(AU7=0,0,(AU7*((LOG(AU7))/LOG(2))))","v":-0.17169124721634299}]
[21,162,22,168,24,174,null,null,null,null,0,222,null,112,{"$f":"COUNTIF($L$7:$L$500,N8)","v":25},{"$f":"O8/$Q$4","v":0.14619883040935672},{"$f":"IF(P8=0,0,(P8*((LOG(P8))/LOG(2))))","v":-0.40555501829110713},null,null,{"$f":"N8","v":112},{"$f":"COUNTIF(L7:L35,T8)","v":6},{"$f":"U8/(W4-U11)","v":0.20689655172413793},{"$f":"IF(V8=0,0,(V8*((LOG(V8))/LOG(2))))","v":-0.4702796884978791},null,{"$f":"N8","v":112},{"$f":"COUNTIF(L36:L63,Y8)","v":2},{"$f":"Z8/(AB4-Z11)","v":7.1428571428571425E-2},{"$f":"IF(AA8=0,0,(AA8*((LOG(AA8))/LOG(2))))","v":-0.27195392300411453},null,{"$f":"N8","v":112},{"$f":"COUNTIF(L64:L92,AD8)","v":6},{"$f":"AE8/(AG4-AE11)","v":0.20689655172413793},{"$f":"IF(AF8=0,0,(AF8*((LOG(AF8))/LOG(2))))","v":-0.4702796884978791},null,{"$f":"N8","v":112},{"$f":"COUNTIF(L93:L120,AI8)","v":6},{"$f":"AJ8/(AL4-AJ11)","v":0.21428571428571427},{"$f":"IF(AK8=0,0,(AK8*((LOG(AK8))/LOG(2))))","v":-0.47622694742923877},null,{"$f":"N8","v":112},{"$f":"COUNTIF(L121:L149,AN8)","v":3},{"$f":"AO8/(AQ4-AO11)","v":0.10344827586206896},{"$f":"IF(AP8=0,0,(AP8*((LOG(AP8))/LOG(2))))","v":-0.33858812011100858},null,{"$f":"N8","v":112},{"$f":"COUNTIF(L150:L177,AS8)","v":2},{"$f":"AT8/(AV4-AT11)","v":7.1428571428571425E-2},{"$f":"IF(AU8=0,0,(AU8*((LOG(AU8))/LOG(2))))","v":-0.27195392300411453}]
[12,273,24,281,24,289,null,null,null,null,0,122,null,121,{"$f":"COUNTIF($L$7:$L$500,N9)","v":0},{"$f":"O9/$Q$4","v":0},{"$f":"IF(P9=0,0,(P9*((LOG(P9))/LOG(2))))","v":0},null,null,{"$f":"N9","v":121},{"$f":"COUNTIF(L7:L35,T9)","v":0},{"$f":"U9/(W4-U11)","v":0},{"$f":"IF(V9=0,0,(V9*((LOG(V9))/LOG(2))))","v":0},null,{"$f":"N9","v":121},{"$f":"COUNTIF(L36:L63,Y9)","v":0},{"$f":"Z9/(AB4-Z11)","v":0},{"$f":"IF(AA9=0,0,(AA9*((LOG(AA9))/LOG(2))))","v":0},null,{"$f":"N9","v":121},{"$f":"COUNTIF(L64:L92,AD9)","v":0},{"$f":"AE9/(AG4-AE11)","v":0},{"$f":"IF(AF9=0,0,(AF9*((LOG(AF9))/LOG(2))))","v":0},null,{"$f":"N9","v":121},{"$f":"COUNTIF(L93:L120,AI9)","v":0},{"$f":"AJ9/(AL4-AJ11)","v":0},{"$f":"IF(AK9=0,0,(AK9*((LOG(AK9))/LOG(2))))","v":0},null,{"$f":"N9","v":121},{"$f":"COUNTIF(L121:L149,AN9)","v":0},{"$f":"AO9/(AQ4-AO11)","v":0},{"$f":"IF(AP9=0,0,(AP9*((LOG(AP9))/LOG(2))))","v":0},null,{"$f":"N9","v":121},{"$f":"COUNTIF(L150:L177,AS9)","v":0},{"$f":"AT9/(AV4-AT11)","v":0},{"$f":"IF(AU9=0,0,(AU9*((LOG(AU9))/LOG(2))))","v":0}]
[12,385,24,396,24,402,null,null,null,null,0,122,null,122,{"$f":"COUNTIF($L$7:$L$500,N10)","v":93},{"$f":"O10/$Q$4","v":0.54385964912280704},{"$f":"IF(P10=0,0,(P10*((LOG(P10))/LOG(2))))","v":-0.47788604942305024},null,null,{"$f":"N10","v":122},{"$f":"COUNTIF(L7:L35,T10)","v":16},{"$f":"U10/(W4-U11)","v":0.55172413793103448},{"$f":"IF(V10=0,0,(V10*((LOG(V10))/LOG(2))))","v":-0.47336882489797077},null,{"$f":"N10","v":122},{"$f":"COUNTIF(L36:L63,Y10)","v":17},{"$f":"Z10/(AB4-Z11)","v":0.6071428571428571},{"$f":"IF(AA10=0,0,(AA10*((LOG(AA10))/LOG(2))))","v":-0.43707733477583927},null,{"$f":"N10","v":122},{"$f":"COUNTIF(L64:L92,AD10)","v":20},{"$f":"AE10/(AG4-AE11)","v":0.68965517241379315},{"$f":"IF(AF10=0,0,(AF10*((LOG(AF10))/LOG(2))))","v":-0.36969165533807569},null,{"$f":"N10","v":122},{"$f":"COUNTIF(L93:L120,AI10)","v":17},{"$f":"AJ10/(AL4-AJ11)","v":0.6071428571428571},{"$f":"IF(AK10=0,0,(AK10*((LOG(AK10))/LOG(2))))","v":-0.43707733477583927},null,{"$f":"N10","v":122},{"$f":"COUNTIF(L121:L149,AN10)","v":10},{"$f":"AO10/(AQ4-AO11)","v":0.34482758620689657},{"$f":"IF(AP10=0,0,(AP10*((LOG(AP10))/LOG(2))))","v":-0.52967341387593436},null,{"$f":"N10","v":122},{"$f":"COUNTIF(L150:L177,AS10)","v":13},{"$f":"AT10/(AV4-AT11)","v":0.4642857142857143},{"$f":"IF(AU10=0,0,(AU10*((LOG(AU10))/LOG(2))))","v":-0.51392491610409474}]
[12,522,24,536,24,559,null,null,null,null,0,122,null,211,{"$f":"COUNTIF($L$7:$L$500,N11)","v":0},{"$f":"O11/$Q$4","v":0},{"$f":"IF(P11=0,0,(P11*((LOG(P11))/LOG(2))))","v":0},null,null,{"$f":"N11","v":211},{"$f":"COUNTIF(L7:L35,T11)","v":0},null,null,null,{"$f":"N11","v":211},{"$f":"COUNTIF(L36:L63,Y11)","v":0},null,null,null,{"$f":"N11","v":211},{"$f":"COUNTIF(L64:L92,AD11)","v":0},null,null,null,{"$f":"N11","v":211},{"$f":"COUNTIF(L93:L120,AI11)","v":0},null,null,null,{"$f":"N11","v":211},{"$f":"COUNTIF(L121:L149,AN11)","v":0},null,null,null,{"$f":"N11","v":211},{"$f":"COUNTIF(L150:L177,AS11)","v":0}]
[12,665,24,671,24,674,null,null,null,null,0,122,null,212,{"$f":"COUNTIF($L$7:$L$500,N12)","v":0},{"$f":"O12/$Q$4","v":0},{"$f":"IF(P12=0,0,(P12*((LOG(P12))/LOG(2))))","v":0},null,null,{"$f":"N12","v":212},{"$f":"COUNTIF(L7:L35,T12)","v":0},{"$f":"U12/(W4-U11)","v":0},{"$f":"IF(V12=0,0,(V12*((LOG(V12))/LOG(2))))","v":0},null,{"$f":"N12","v":212},{"$f":"COUNTIF(L36:L63,Y12)","v":0},{"$f":"Z12/(AB4-Z11)","v":0},{"$f":"IF(AA12=0,0,(AA12*((LOG(AA12))/LOG(2))))","v":0},null,{"$f":"N12","v":212},{"$f":"COUNTIF(L64:L92,AD12)","v":0},{"$f":"AE12/(AG4-AE11)","v":0},{"$f":"IF(AF12=0,0,(AF12*((LOG(AF12))/LOG(2))))","v":0},null,{"$f":"N12","v":212},{"$f":"COUNTIF(L93:L120,AI12)","v":0},{"$f":"AJ12/(AL4-AJ11)","v":0},{"$f":"IF(AK12=0,0,(AK12*((LOG(AK12))/LOG(2))))","v":0},null,{"$f":"N12","v":212},{"$f":"COUNTIF(L121:L149,AN12)","v":0},{"$f":"AO12/(AQ4-AO11)","v":0},{"$f":"IF(AP12=0,0,(AP12*((LOG(AP12))/LOG(2))))","v":0},null,{"$f":"N12","v":212},{"$f":"COUNTIF(L150:L177,AS12)","v":0},{"$f":"AT12/(AV4-AT11)","v":0},{"$f":"IF(AU12=0,0,(AU12*((LOG(AU12))/LOG(2))))","v":0}]
[21,777,22,793,24,798,null,null,null,null,0,222,null,221,{"$f":"COUNTIF($L$7:$L$500,N13)","v":0},{"$f":"O13/$Q$4","v":0},{"$f":"IF(P13=0,0,(P13*((LOG(P13))/LOG(2))))","v":0},null,null,{"$f":"N13","v":221},{"$f":"COUNTIF(L7:L35,T13)","v":0},{"$f":"U13/(W4-U11)","v":0},{"$f":"IF(V13=0,0,(V13*((LOG(V13))/LOG(2))))","v":0},null,{"$f":"N13","v":221},{"$f":"COUNTIF(L36:L63,Y13)","v":0},{"$f":"Z13/(AB4-Z11)","v":0},{"$f":"IF(AA13=0,0,(AA13*((LOG(AA13))/LOG(2))))","v":0},null,{"$f":"N13","v":221},{"$f":"COUNTIF(L64:L92,AD13)","v":0},{"$f":"AE13/(AG4-AE11)","v":0},{"$f":"IF(AF13=0,0,(AF13*((LOG(AF13))/LOG(2))))","v":0},null,{"$f":"N13","v":221},{"$f":"COUNTIF(L93:L120,AI13)","v":0},{"$f":"AJ13/(AL4-AJ11)","v":0},{"$f":"IF(AK13=0,0,(AK13*((LOG(AK13))/LOG(2))))","v":0},null,{"$f":"N13","v":221},{"$f":"COUNTIF(L121:L149,AN13)","v":0},{"$f":"AO13/(AQ4-AO11)","v":0},{"$f":"IF(AP13=0,0,(AP13*((LOG(AP13))/LOG(2))))","v":0},null,{"$f":"N13","v":221},{"$f":"COUNTIF(L150:L177,AS13)","v":0},{"$f":"AT13/(AV4-AT11)","v":0},{"$f":"IF(AU13=0,0,(AU13*((LOG(AU13))/LOG(2))))","v":0}]
[12,894,24,904,24,907,null,null,null,null,0,122,null,222,{"$f":"COUNTIF($L$7:$L$500,N14)","v":52},{"$f":"O14/$Q$4","v":0.30409356725146197},{"$f":"IF(P14=0,0,(P14*((LOG(P14))/LOG(2))))","v":-0.52225418380543798},null,null,{"$f":"N14","v":222},{"$f":"COUNTIF(L7:L35,T14)","v":7},{"$f":"U14/(W4-U11)","v":0.2413793103448276},{"$f":"IF(V14=0,0,(V14*((LOG(V14))/LOG(2))))","v":-0.49497870729275095},null,{"$f":"N14","v":222},{"$f":"COUNTIF(L36:L63,Y14)","v":9},{"$f":"Z14/(AB4-Z11)","v":0.32142857142857145},{"$f":"IF(AA14=0,0,(AA14*((LOG(AA14))/LOG(2))))","v":-0.5263167601977724},null,{"$f":"N14","v":222},{"$f":"COUNTIF(L64:L92,AD14)","v":3},{"$f":"AE14/(AG4-AE11)","v":0.10344827586206896},{"$f":"IF(AF14=0,0,(AF14*((LOG(AF14))/LOG(2))))","v":-0.33858812011100858},null,{"$f":"N14","v":222},{"$f":"COUNTIF(L93:L120,AI14)","v":5},{"$f":"AJ14/(AL4-AJ11)","v":0.17857142857142858},{"$f":"IF(AK14=0,0,(AK14*((LOG(AK14))/LOG(2))))","v":-0.44382621913754317},null,{"$f":"N14","v":222},{"$f":"COUNTIF(L121:L149,AN14)","v":16},{"$f":"AO14/(AQ4-AO11)","v":0.55172413793103448},{"$f":"IF(AP14=0,0,(AP14*((LOG(AP14))/LOG(2))))","v":-0.47336882489797077},null,{"$f":"N14","v":222},{"$f":"COUNTIF(L150:L177,AS14)","v":12},{"$f":"AT14/(AV4-AT11)","v":0.42857142857142855},{"$f":"IF(AU14=0,0,(AU14*((LOG(AU14))/LOG(2))))","v":-0.52388246628704915}]
[21,1009,22,1014,24,1018,null,null,null,null,0,222,null,null,null,{"$f":"SUM(P7:P14)","v":1},{"$f":"-SUM(Q7:Q14)","v":1.4490745059926122},null,null,null,null,{"$f":"SUM(V7:V14)","v":1},{"$f":"-SUM(W7:W14)","v":1.4386272206886008},null,null,null,{"$f":"SUM(AA7:AA14)","v":1},{"$f":"-SUM(AB7:AB14)","v":1.2353480179777261},null,null,null,{"$f":"SUM(AF7:AF14)","v":1},{"$f":"-SUM(AG7:AG14)","v":1.1785594639469634},null,null,null,{"$f":"SUM(AK7:AK14)","v":1},{"$f":"-SUM(AL7:AL14)","v":1.3571305013426214},null,null,null,{"$f":"SUM(AP7:AP14)","v":1},{"$f":"-SUM(AQ7:AQ14)","v":1.3416303588849137},null,null,null,{"$f":"SUM(AU7:AU14)","v":1},{"$f":"-SUM(AV7:AV14)","v":1.4814525526116014}]
[12,1115,24,1127,24,1130,null,null,null,null,0,122,null,null,null,"U=",{"$f":"Q15/(LOG(Q4)/LOG(2))","v":0.1953495978903137},null,null,null,null,"U1=",{"$f":"W15/(LOG(W4)/LOG(2))","v":0.2961368564701069},null,null,null,"U2=",{"$f":"AB15/(LOG(AB4)/LOG(2))","v":0.25697042095011008},null,null,null,"U3=",{"$f":"AG15/(LOG(AG4)/LOG(2))","v":0.24260273251975004},null,null,null,"U4=",{"$f":"AL15/(LOG(AL4)/LOG(2))","v":0.282302955231305},null,null,null,"U5=",{"$f":"AQ15/(LOG(AQ4)/LOG(2))","v":0.27617035970921539},null,null,null,"U6=",{"$f":"AV15/(LOG(AV4)/LOG(2))","v":0.30816375670834023}]
[12,1229,24,1244,24,1248,null,null,null,null,0,122]
[12,1344,24,1359,24,1363,null,null,null,null,0,122]
[21,1518,22,1529,24,1534,null,null,null,null,0,222,null,"Total Target Seq"]
[12,1631,24,1640,24,1645,null,null,null,null,0,122,null,{"$f":"COUNTIF(L7:L177,G3)","v":0},null,29,28,29,28,29,28]
[12,1741,13,1743,24,1752,null,null,null,null,0,112,null,null,null,"% of reinforcement given in 6 equal intervals based on number of trials "]
[12,1848,24,1864,24,1891,null,null,null,null,0,122,null,null,null,"%_1","%_2","%_3","%_4","%_5","%_6"]
[21,1999,22,2007,24,2012,null,null,null,null,0,222,null,null,"target sequence",{"$f":"$G$3","v":211},{"$f":"$G$3","v":211},{"$f":"$G$3","v":211},{"$f":"$G$3","v":211},{"$f":"$G$3","v":211},{"$f":"$G$3","v":211}]
[12,2109,24,2121,24,2127,null,null,null,null,0,122,null,null,"total reinforcement",{"$f":"U11","v":0},{"$f":"Z11","v":0},{"$f":"AE11","v":0},{"$f":"AJ11","v":0},{"$f":"AO11","v":0},{"$f":"AT11","v":0}]
[12,2219,24,2230,24,2234,null,null,null,null,0,122,null,null,"% target"]
[12,2332,13,2336,24,2350,null,null,null,null,0,112,null,null,"CCRF"]
[12,2443,24,2456,24,2458,null,null,null,null,0,122,null,null,"% CCRf"]
[21,2563,22,2567,24,2570,null,null,null,null,0,222,null,null,"average response rate",{"$f":"F35/P20","v":119.58620689655173},{"$f":"(F63-F35)/Q20","v":122.03571428571429},{"$f":"(F92-F63)/R20","v":116.03448275862068},{"$f":"(F120-F92)/S20","v":119.28571428571429},{"$f":"(F149-F120)/T20","v":126.96551724137932},{"$f":"(F177-F149)/U20","v":119.07142857142857}]
[12,2668,13,2670,24,2683,null,null,null,null,0,112]
[12,2774,13,2777,24,2789,null,null,null,null,0,112]
[12,2960,24,2970,24,2974,null,null,null,null,0,122]
[12,3071,13,3074,24,3088,null,null,null,null,0,112]
[12,3182,13,3184,24,3199,null,null,null,null,0,112]
[12,3295,24,3309,24,3314,null,null,null,null,0,122]
[12,3448,24,3462,24,3468,null,null,null,null,0,122]
[12,3567,24,3579,24,3583,null,null,null,null,0,122]
[12,3681,24,3694,24,3697,null,null,null,null,0,122]
[12,3793,24,3798,24,3804,null,null,null,null,0,122]
[12,3901,24,3912,24,3918,null,null,null,null,0,122]
[12,4022,24,4029,24,4033,null,null,null,null,0,122]
[12,4176,24,4187,24,4191,null,null,null,null,0,122]
[12,4308,24,4315,24,4319,null,null,null,null,0,122]
[12,4415,13,4417,24,4429,null,null,null,null,0,112]
[21,4583,22,4587,24,4592,null,null,null,null,0,222]
[21,4696,22,4700,24,4705,null,null,null,null,0,222]
[21,4849,22,4855,24,4858,null,null,null,null,0,222]
[12,4952,24,4964,24,4981,null,null,null,null,0,122]
[21,5084,22,5088,24,5093,null,null,null,null,0,222]
[21,5203,22,5208,24,5213,null,null,null,null,0,222]
[12,5310,24,5322,24,5339,null,null,null,null,0,122]
[12,5435,24,5438,24,5445,null,null,null,null,0,122]
[12,5542,24,5555,24,5559,null,null,null,null,0,122]
[21,5668,22,5672,24,5678,null,null,null,null,0,222]
[12,5819,24,5832,24,5836,null,null,null,null,0,122]
[21,5940,22,5945,24,5949,null,null,null,null,0,222]
[12,6067,24,6078,24,6083,null,null,null,null,0,122]
[12,6181,13,6183,24,6191,null,null,null,null,0,112]
[12,6288,24,6305,24,6310,null,null,null,null,0,122]
[12,6409,24,6415,24,6423,null,null,null,null,0,122]
[21,6527,22,6532,24,6537,null,null,null,null,0,222]
[12,6630,24,6642,24,6653,null,null,null,null,0,122]
[12,6753,24,6756,24,6764,null,null,null,null,0,122]
[21,6872,22,6875,24,6885,null,null,null,null,0,222]
[12,6978,24,6993,24,6997,null,null,null,null,0,122]
[12,7093,24,7104,24,7109,null,null,null,null,0,122]
[12,7204,24,7214,24,7218,null,null,null,null,0,122]
[12,7313,24,7323,24,7327,null,null,null,null,0,122]
[21,7434,22,7437,24,7443,null,null,null,null,0,222]
[12,7557,24,7570,24,7575,null,null,null,null,0,122]
[12,7673,24,7683,24,7687,null,null,null,null,0,122]
[12,7786,13,7788,24,7804,null,null,null,null,0,112]
[12,7902,24,7917,24,7928,null,null,null,null,0,122]
[12,8024,24,8038,24,8043,null,null,null,null,0,122]
[12,8144,24,8152,24,8156,null,null,null,null,0,122]
[12,8252,24,8256,24,8260,null,null,null,null,0,122]
[12,8357,24,8374,24,8378,null,null,null,null,0,122]
[12,8476,13,8478,24,8492,null,null,null,null,0,112]
[12,8608,24,8618,24,8622,null,null,null,null,0,122]
[12,8720,13,8723,24,8735,null,null,null,null,0,112]
[12,8859,24,8866,24,8870,null,null,null,null,0,122]
[12,8964,13,8967,24,8982,null,null,null,null,0,112]
[12,9076,24,9089,24,9094,null,null,null,null,0,122]
[12,9192,24,9201,24,9205,null,null,null,null,0,122]
[12,9303,24,9314,24,9318,null,null,null,null,0,122]
[12,9434,24,9445,24,9454,null,null,null,null,0,122]
[21,9563,22,9566,24,9570,null,null,null,null,0,222]
[12,9663,13,9665,24,9679,null,null,null,null,0,112]
[12,9775,24,9788,24,9793,null,null,null,null,0,122]
[12,9888,13,9892,24,9903,null,null,null,null,0,112]
[12,10000,24,10014,24,10018,null,null,null,null,0,122]
[21,10126,22,10130,24,10135,null,null,null,null,0,222]
[12,10235,24,10246,24,10250,null,null,null,null,0,122]
[21,10362,22,10367,24,10372,null,null,null,null,0,222]
[12,10461,24,10473,24,10477,null,null,null,null,0,122]
[12,10568,13,10571,24,10581,null,null,null,null,0,112]
[12,10678,24,10695,24,10700,null,null,null,null,0,122]
[12,10797,13,10799,24,10809,null,null,null,null,0,112]
[12,10914,24,10926,24,10940,null,null,null,null,0,122]
[12,11036,13,11039,24,11048,null,null,null,null,0,112]
[12,11146,24,11156,24,11160,null,null,null,null,0,122]
[12,11257,13,11258,24,11268,null,null,null,null,0,112]
[12,11365,24,11380,24,11385,null,null,null,null,0,122]
[12,11496,24,11499,24,11506,null,null,null,null,0,122]
[12,11627,24,11636,24,11640,null,null,null,null,0,122]
[12,11735,24,11743,24,11749,null,null,null,null,0,122]
[12,11844,24,11855,24,11859,null,null,null,null,0,122]
[21,12035,22,12039,24,12045,null,null,null,null,0,222]
[12,12142,13,12144,24,12153,null,null,null,null,0,112]
[12,12251,24,12266,24,12270,null,null,null,null,0,122]
[12,12367,24,12379,24,12381,null,null,null,null,0,122]
[21,12488,22,12492,24,12498,null,null,null,null,0,222]
[12,12593,24,12605,24,12609,null,null,null,null,0,122]
[12,12742,24,12752,24,12756,null,null,null,null,0,122]
[12,12859,24,12870,24,12874,null,null,null,null,0,122]
[21,12978,22,12982,24,12986,null,null,null,null,0,222]
[21,13097,22,13101,24,13107,null,null,null,null,0,222]
[12,13206,13,13210,24,13224,null,null,null,null,0,112]
[12,13322,24,13334,24,13340,null,null,null,null,0,122]
[12,13437,24,13454,24,13458,null,null,null,null,0,122]
[12,13573,24,13587,24,13590,null,null,null,null,0,122]
[12,13687,13,13690,24,13701,null,null,null,null,0,112]
[21,13805,22,13807,24,13810,null,null,null,null,0,222]
[21,13915,22,13923,24,13928,null,null,null,null,0,222]
[12,14025,24,14038,24,14042,null,null,null,null,0,122]
[12,14136,24,14150,24,14155,null,null,null,null,0,122]
[12,14253,24,14265,24,14269,null,null,null,null,0,122]
[12,14366,24,14377,24,14381,null,null,null,null,0,122]
[12,14478,24,14489,24,14498,null,null,null,null,0,122]
[21,14606,22,14611,24,14614,null,null,null,null,0,222]
[12,14710,24,14724,24,14734,null,null,null,null,0,122]
[21,14838,22,14843,24,14851,null,null,null,null,0,222]
[12,15002,24,15014,24,15017,null,null,null,null,0,122]
[21,15123,22,15127,24,15132,null,null,null,null,0,222]
[12,15227,13,15231,24,15240,null,null,null,null,0,112]
[12,15337,13,15339,24,15349,null,null,null,null,0,112]
[21,15460,22,15463,24,15468,null,null,null,null,0,222]
[21,15571,22,15575,24,15579,null,null,null,null,0,222]
[21,15712,22,15715,24,15722,null,null,null,null,0,222]
[21,15887,22,15890,24,15895,null,null,null,null,0,222]
[12,15990,24,16001,24,16004,null,null,null,null,0,122]
[12,16101,24,16116,24,16119,null,null,null,null,0,122]
[21,16211,22,16223,24,16226,null,null,null,null,0,222]
[21,16335,22,16339,24,16344,null,null,null,null,0,222]
[21,16549,22,16552,24,16557,null,null,null,null,0,222]
[21,16683,22,16687,24,16691,null,null,null,null,0,222]
[21,16864,22,16867,24,16878,null,null,null,null,0,222]
[12,16974,24,16986,24,16990,null,null,null,null,0,122]
[21,17144,22,17148,24,17153,null,null,null,null,0,222]
[21,17264,22,17267,24,17272,null,null,null,null,0,222]
[12,17365,24,17378,24,17380,null,null,null,null,0,122]
[12,17477,13,17480,24,17492,null,null,null,null,0,112]
[21,17620,22,17630,24,17634,null,null,null,null,0,222]
[21,17742,22,17747,24,17760,null,null,null,null,0,222]
[12,17858,24,17872,24,17876,null,null,null,null,0,122]
[21,17986,22,17991,24,17996,null,null,null,null,0,222]
[12,18092,24,18104,24,18120,null,null,null,null,0,122]
[21,18224,22,18228,24,18233,null,null,null,null,0,222]
[12,18325,24,18335,24,18340,null,null,null,null,0,122]
[21,18443,22,18446,24,18449,null,null,null,null,0,222]
[21,18579,22,18584,24,18588,null,null,null,null,0,222]
[12,18694,24,18700,24,18704,null,null,null,null,0,122]
[12,18798,13,18801,24,18811,null,null,null,null,0,112]
[12,18906,24,18918,24,18922,null,null,null,null,0,122]
[12,19021,24,19035,24,19039,null,null,null,null,0,122]
[12,19165,24,19178,24,19187,null,null,null,null,0,122]
[21,19290,22,19295,24,19300,null,null,null,null,0,222]
[12,19406,24,19415,24,19420,null,null,null,null,0,122]
[12,19516,24,19529,24,19532,null,null,null,null,0,122]
[21,19639,22,19643,24,19649,null,null,null,null,0,222]
[21,19765,22,19772,24,19776,null,null,null,null,0,222]
[12,19872,24,19885,24,19888,null,null,null,null,0,122]
[21,19995,22,19998,24,20004,null,null,null,null,0,222]
[12,20101,13,20103,13,20106,null,null,null,null,0,111]
[21,20218,22,20222,24,20227,null,null,null,null,0,222]
[12,20323,24,20340,24,20347,null,null,null,null,0,122]
[12,20441,24,20451,24,20454,null,null,null,null,0,122]
[21,20597,22,20600,24,20606,null,null,null,null,0,222]

{"sheet":"!L90294T.ayl","index":9,"n_rows":212,"n_cols":48,"rows_kept":212,"cut":false,"hidden":false,"merged":[[4,39,4,42],[5,39,5,40],[4,44,4,47],[5,44,5,45],[4,24,4,27],[5,24,5,25],[4,29,4,32],[5,29,5,30],[4,34,4,37],[5,34,5,35],[1,1,1,2],[5,13,5,14],[18,13,18,14],[19,13,19,14],[4,19,4,22],[5,19,5,20]]}
["Report for:!L90294T.ayl"]
["Date:","<date>"]
["Hen:","<hen>",null,null,null,"Correct Sequence",{"$f":"Start!J2","v":211},null,null,null,null,null,null,null,null,"Total Sequences in Data",{"$f":"4994-COUNTBLANK(L7:L5000)","v":206},null,null,null,null,"Total Sequences in Block Data",{"$f":"COUNTA(L7:L40)","v":34},null,null,null,"Total Sequences in Block Data",{"$f":"COUNTA(L41:L75)","v":35},null,null,null,"Total Sequences in Block Data",{"$f":"COUNTA(L76:L109)","v":34},null,null,null,"Total Sequences in Block Data",{"$f":"COUNTA(L110:L143)","v":34},null,null,null,"Total Sequences in Block Data",{"$f":"COUNTA(L144:L178)","v":35},null,null,null,"Total Sequences in Block Data",{"$f":"COUNTA(L179:L212)","v":34}]
[null,null,null,null,null,null,null,null,null,null,null,null,null,null,null,"Total Sequences in Summary",{"$f":"SUM(O7:O14)","v":206},null,null,null,null,"Total Sequences in Block Summary",{"$f":"SUM(U7:U14)","v":34},null,null,null,"Total Sequences in Block Summary",{"$f":"SUM(Z7:Z14)","v":35},null,null,null,"Total Sequences in Block Summary",{"$f":"SUM(AE7:AE14)","v":34},null,null,null,"Total Sequences in Block Summary",{"$f":"SUM(AJ7:AJ14)","v":34},null,null,null,"Total Sequences in Block Summary",{"$f":"SUM(AO7:AO14)","v":35},null,null,null,"Total Sequences in Block Summary",{"$f":"SUM(AT7:AT14)","v":34}]
[null,null,null,null,null,null,null,null,null,null,null,null,null,null,null,null,null,null,null,"Block 1",null,null,null,null,"Block 2",null,null,null,null,"Block 3",null,null,null,null,"Block 4",null,null,null,null,"Block 5",null,null,null,null,"Block 6"]
["Sequence\nComponent\n1","Time\n1","Sequence\nComponent\n2","Time\n2","Sequence\nComponent\n3","Time\n3","Sequence\nComponent\n4","Time\n4","Sequence\nComponent\n5","Time\n5","Correct?\n0=No 1=Yes","Sequence",null,"Frequency",null,"Relative Frequency","Variability",null,null,"Frequency",null,"Relative Frequency","Variability",null,"Frequency",null,"Relative Frequency","Variability",null,"Frequency",null,"Relative Frequency","Variability",null,"Frequency",null,"Relative Frequency","Variability",null,"Frequency",null,"Relative Frequency","Variability",null,"Frequency",null,"Relative Frequency","Variability"]
[12,4,24,18,24,23,null,null,null,null,0,122,null,111,{"$f":"COUNTIF($L$7:$L$500,N7)","v":1},{"$f":"O7/$Q$4","v":4.8543689320388345E-3},{"$f":"IF(P7=0,0,(P7*((LOG(P7))/LOG(2))))","v":-3.7313109355258334E-2},null,null,{"$f":"N7","v":111},{"$f":"COUNTIF(L7:L40,T7)","v":1},{"$f":"U7/(W4-U11)","v":2.9411764705882353E-2},{"$f":"IF(V7=0,0,(V7*((LOG(V7))/LOG(2))))","v":-0.14963126003677468},null,{"$f":"N7","v":111},{"$f":"COUNTIF(L41:L75,Y7)","v":0},{"$f":"Z7/(AB4-Z11)","v":0},{"$f":"IF(AA7=0,0,(AA7*((LOG(AA7))/LOG(2))))","v":0},null,{"$f":"N7","v":111},{"$f":"COUNTIF(L76:L109,AD7)","v":0},{"$f":"AE7/(AG4-AE11)","v":0},{"$f":"IF(AF7=0,0,(AF7*((LOG(AF7))/LOG(2))))","v":0},null,{"$f":"N7","v":111},{"$f":"COUNTIF(L110:L143,AI7)","v":0},{"$f":"AJ7/(AL4-AJ11)","v":0},{"$f":"IF(AK7=0,0,(AK7*((LOG(AK7))/LOG(2))))","v":0},null,{"$f":"N7","v":111},{"$f":"COUNTIF(L144:L178,AN7)","v":0},{"$f":"AO7/(AQ4-AO11)","v":0},{"$f":"IF(AP7=0,0,(AP7*((LOG(AP7))/LOG(2))))","v":0},null,{"$f":"N7","v":111},{"$f":"COUNTIF(L179:L212,AS7)","v":0},{"$f":"AT7/(AV4-AT11)","v":0},{"$f":"IF(AU7=0,0,(AU7*((LOG(AU7))/LOG(2))))","v":0}]
[21,136,22,141,24,146,null,null,null,null,0,222,null,112,{"$f":"COUNTIF($L$7:$L$500,N8)","v":4},{"$f":"O8/$Q$4","v":1.9417475728155338E-2},{"$f":"IF(P8=0,0,(P8*((LOG(P8))/LOG(2))))","v":-0.11041748596472269},null,null,{"$f":"N8","v":112},{"$f":"COUNTIF(L7:L40,T8)","v":4},{"$f":"U8/(W4-U11)","v":0.11764705882352941},{"$f":"IF(V8=0,0,(V8*((LOG(V8))/LOG(2))))","v":-0.36323092250003997},null,{"$f":"N8","v":112},{"$f":"COUNTIF(L41:L75,Y8)","v":0},{"$f":"Z8/(AB4-Z11)","v":0},{"$f":"IF(AA8=0,0,(AA8*((LOG(AA8))/LOG(2))))","v":0},null,{"$f":"N8","v":112},{"$f":"COUNTIF(L76:L109,AD8)","v":0},{"$f":"AE8/(AG4-AE11)","v":0},{"$f":"IF(AF8=0,0,(AF8*((LOG(AF8))/LOG(2))))","v":0},null,{"$f":"N8","v":112},{"$f":"COUNTIF(L110:L143,AI8)","v":0},{"$f":"AJ8/(AL4-AJ11)","v":0},{"$f":"IF(AK8=0,0,(AK8*((LOG(AK8))/LOG(2))))","v":0},null,{"$f":"N8","v":112},{"$f":"COUNTIF(L144:L178,AN8)","v":0},{"$f":"AO8/(AQ4-AO11)","v":0},{"$f":"IF(AP8=0,0,(AP8*((LOG(AP8))/LOG(2))))","v":0},null,{"$f":"N8","v":112},{"$f":"COUNTIF(L179:L212,AS8)","v":0},{"$f":"AT8/(AV4-AT11)","v":0},{"$f":"IF(AU8=0,0,(AU8*((LOG(AU8))/LOG(2))))","v":0}]
[21,255,22,259,24,264,null,null,null,null,0,222,null,121,{"$f":"COUNTIF($L$7:$L$500,N9)","v":0},{"$f":"O9/$Q$4","v":0},{"$f":"IF(P9=0,0,(P9*((LOG(P9))/LOG(2))))","v":0},null,null,{"$f":"N9","v":121},{"$f":"COUNTIF(L7:L40,T9)","v":0},{"$f":"U9/(W4-U11)","v":0},{"$f":"IF(V9=0,0,(V9*((LOG(V9))/LOG(2))))","v":0},null,{"$f":"N9","v":121},{"$f":"COUNTIF(L41:L75,Y9)","v":0},{"$f":"Z9/(AB4-Z11)","v":0},{"$f":"IF(AA9=0,0,(AA9*((LOG(AA9))/LOG(2))))","v":0},null,{"$f":"N9","v":121},{"$f":"COUNTIF(L76:L109,AD9)","v":0},{"$f":"AE9/(AG4-AE11)","v":0},{"$f":"IF(AF9=0,0,(AF9*((LOG(AF9))/LOG(2))))","v":0},null,{"$f":"N9","v":121},{"$f":"COUNTIF(L110:L143,AI9)","v":0},{"$f":"AJ9/(AL4-AJ11)","v":0},{"$f":"IF(AK9=0,0,(AK9*((LOG(AK9))/LOG(2))))","v":0},null,{"$f":"N9","v":121},{"$f":"COUNTIF(L144:L178,AN9)","v":0},{"$f":"AO9/(AQ4-AO11)","v":0},{"$f":"IF(AP9=0,0,(AP9*((LOG(AP9))/LOG(2))))","v":0},null,{"$f":"N9","v":121},{"$f":"COUNTIF(L179:L212,AS9)","v":0},{"$f":"AT9/(AV4-AT11)","v":0},{"$f":"IF(AU9=0,0,(AU9*((LOG(AU9))/LOG(2))))","v":0}]
[12,361,24,370,24,373,null,null,null,null,0,122,null,122,{"$f":"COUNTIF($L$7:$L$500,N10)","v":100},{"$f":"O10/$Q$4","v":0.4854368932038835},{"$f":"IF(P10=0,0,(P10*((LOG(P10))/LOG(2))))","v":-0.50613802786820072},null,null,{"$f":"N10","v":122},{"$f":"COUNTIF(L7:L40,T10)","v":21},{"$f":"U10/(W4-U11)","v":0.61764705882352944},{"$f":"IF(V10=0,0,(V10*((LOG(V10))/LOG(2))))","v":-0.42935452317362238},null,{"$f":"N10","v":122},{"$f":"COUNTIF(L41:L75,Y10)","v":27},{"$f":"Z10/(AB4-Z11)","v":0.77142857142857146},{"$f":"IF(AA10=0,0,(AA10*((LOG(AA10))/LOG(2))))","v":-0.28881939711715549},null,{"$f":"N10","v":122},{"$f":"COUNTIF(L76:L109,AD10)","v":13},{"$f":"AE10/(AG4-AE11)","v":0.38235294117647056},{"$f":"IF(AF10=0,0,(AF10*((LOG(AF10))/LOG(2))))","v":-0.53033237060059457},null,{"$f":"N10","v":122},{"$f":"COUNTIF(L110:L143,AI10)","v":21},{"$f":"AJ10/(AL4-AJ11)","v":0.61764705882352944},{"$f":"IF(AK10=0,0,(AK10*((LOG(AK10))/LOG(2))))","v":-0.42935452317362238},null,{"$f":"N10","v":122},{"$f":"COUNTIF(L144:L178,AN10)","v":13},{"$f":"AO10/(AQ4-AO11)","v":0.37142857142857144},{"$f":"IF(AP10=0,0,(AP10*((LOG(AP10))/LOG(2))))","v":-0.53071322527001041},null,{"$f":"N10","v":122},{"$f":"COUNTIF(L179:L212,AS10)","v":5},{"$f":"AT10/(AV4-AT11)","v":0.14705882352941177},{"$f":"IF(AU10=0,0,(AU10*((LOG(AU10))/LOG(2))))","v":-0.40669628622984955}]
[12,488,24,496,24,502,null,null,null,null,0,122,null,211,{"$f":"COUNTIF($L$7:$L$500,N11)","v":0},{"$f":"O11/$Q$4","v":0},{"$f":"IF(P11=0,0,(P11*((LOG(P11))/LOG(2))))","v":0},null,null,{"$f":"N11","v":211},{"$f":"COUNTIF(L7:L40,T11)","v":0},null,null,null,{"$f":"N11","v":211},{"$f":"COUNTIF(L41:L75,Y11)","v":0},null,null,null,{"$f":"N11","v":211},{"$f":"COUNTIF(L76:L109,AD11)","v":0},null,null,null,{"$f":"N11","v":211},{"$f":"COUNTIF(L110:L143,AI11)","v":0},null,null,null,{"$f":"N11","v":211},{"$f":"COUNTIF(L144:L178,AN11)","v":0},null,null,null,{"$f":"N11","v":211},{"$f":"COUNTIF(L179:L212,AS11)","v":0}]
[21,692,22,695,24,701,null,null,null,null,0,222,null,212,{"$f":"COUNTIF($L$7:$L$500,N12)","v":0},{"$f":"O12/$Q$4","v":0},{"$f":"IF(P12=0,0,(P12*((LOG(P12))/LOG(2))))","v":0},null,null,{"$f":"N12","v":212},{"$f":"COUNTIF(L7:L40,T12)","v":0},{"$f":"U12/(W4-U11)","v":0},{"$f":"IF(V12=0,0,(V12*((LOG(V12))/LOG(2))))","v":0},null,{"$f":"N12","v":212},{"$f":"COUNTIF(L41:L75,Y12)","v":0},{"$f":"Z12/(AB4-Z11)","v":0},{"$f":"IF(AA12=0,0,(AA12*((LOG(AA12))/LOG(2))))","v":0},null,{"$f":"N12","v":212},{"$f":"COUNTIF(L76:L109,AD12)","v":0},{"$f":"AE12/(AG4-AE11)","v":0},{"$f":"IF(AF12=0,0,(AF12*((LOG(AF12))/LOG(2))))","v":0},null,{"$f":"N12","v":212},{"$f":"COUNTIF(L110:L143,AI12)","v":0},{"$f":"AJ12/(AL4-AJ11)","v":0},{"$f":"IF(AK12=0,0,(AK12*((LOG(AK12))/LOG(2))))","v":0},null,{"$f":"N12","v":212},{"$f":"COUNTIF(L144:L178,AN12)","v":0},{"$f":"AO12/(AQ4-AO11)","v":0},{"$f":"IF(AP12=0,0,(AP12*((LOG(AP12))/LOG(2))))","v":0},null,{"$f":"N12","v":212},{"$f":"COUNTIF(L179:L212,AS12)","v":0},{"$f":"AT12/(AV4-AT11)","v":0},{"$f":"IF(AU12=0,0,(AU12*((LOG(AU12))/LOG(2))))","v":0}]
[21,804,22,808,24,814,null,null,null,null,0,222,null,221,{"$f":"COUNTIF($L$7:$L$500,N13)","v":0},{"$f":"O13/$Q$4","v":0},{"$f":"IF(P13=0,0,(P13*((LOG(P13))/LOG(2))))","v":0},null,null,{"$f":"N13","v":221},{"$f":"COUNTIF(L7:L40,T13)","v":0},{"$f":"U13/(W4-U11)","v":0},{"$f":"IF(V13=0,0,(V13*((LOG(V13))/LOG(2))))","v":0},null,{"$f":"N13","v":221},{"$f":"COUNTIF(L41:L75,Y13)","v":0},{"$f":"Z13/(AB4-Z11)","v":0},{"$f":"IF(AA13=0,0,(AA13*((LOG(AA13))/LOG(2))))","v":0},null,{"$f":"N13","v":221},{"$f":"COUNTIF(L76:L109,AD13)","v":0},{"$f":"AE13/(AG4-AE11)","v":0},{"$f":"IF(AF13=0,0,(AF13*((LOG(AF13))/LOG(2))))","v":0},null,{"$f":"N13","v":221},{"$f":"COUNTIF(L110:L143,AI13)","v":0},{"$f":"AJ13/(AL4-AJ11)","v":0},{"$f":"IF(AK13=0,0,(AK13*((LOG(AK13))/LOG(2))))","v":0},null,{"$f":"N13","v":221},{"$f":"COUNTIF(L144:L178,AN13)","v":0},{"$f":"AO13/(AQ4-AO11)","v":0},{"$f":"IF(AP13=0,0,(AP13*((LOG(AP13))/LOG(2))))","v":0},null,{"$f":"N13","v":221},{"$f":"COUNTIF(L179:L212,AS13)","v":0},{"$f":"AT13/(AV4-AT11)","v":0},{"$f":"IF(AU13=0,0,(AU13*((LOG(AU13))/LOG(2))))","v":0}]
[12,913,13,915,13,917,null,null,null,null,0,111,null,222,{"$f":"COUNTIF($L$7:$L$500,N14)","v":101},{"$f":"O14/$Q$4","v":0.49029126213592233},{"$f":"IF(P14=0,0,(P14*((LOG(P14))/LOG(2))))","v":-0.50416113343482416},null,null,{"$f":"N14","v":222},{"$f":"COUNTIF(L7:L40,T14)","v":8},{"$f":"U14/(W4-U11)","v":0.23529411764705882},{"$f":"IF(V14=0,0,(V14*((LOG(V14))/LOG(2))))","v":-0.49116772735302094},null,{"$f":"N14","v":222},{"$f":"COUNTIF(L41:L75,Y14)","v":8},{"$f":"Z14/(AB4-Z11)","v":0.22857142857142856},{"$f":"IF(AA14=0,0,(AA14*((LOG(AA14))/LOG(2))))","v":-0.48669326101599231},null,{"$f":"N14","v":222},{"$f":"COUNTIF(L76:L109,AD14)","v":21},{"$f":"AE14/(AG4-AE11)","v":0.61764705882352944},{"$f":"IF(AF14=0,0,(AF14*((LOG(AF14))/LOG(2))))","v":-0.42935452317362238},null,{"$f":"N14","v":222},{"$f":"COUNTIF(L110:L143,AI14)","v":13},{"$f":"AJ14/(AL4-AJ11)","v":0.38235294117647056},{"$f":"IF(AK14=0,0,(AK14*((LOG(AK14))/LOG(2))))","v":-0.53033237060059457},null,{"$f":"N14","v":222},{"$f":"COUNTIF(L144:L178,AN14)","v":22},{"$f":"AO14/(AQ4-AO11)","v":0.62857142857142856},{"$f":"IF(AP14=0,0,(AP14*((LOG(AP14))/LOG(2))))","v":-0.42104945036482067},null,{"$f":"N14","v":222},{"$f":"COUNTIF(L179:L212,AS14)","v":29},{"$f":"AT14/(AV4-AT11)","v":0.8529411764705882},{"$f":"IF(AU14=0,0,(AU14*((LOG(AU14))/LOG(2))))","v":-0.1957345158105957}]
[21,1030,22,1037,24,1043,null,null,null,null,0,222,null,null,null,{"$f":"SUM(P7:P14)","v":1},{"$f":"-SUM(Q7:Q14)","v":1.158029756623006},null,null,null,null,{"$f":"SUM(V7:V14)","v":1},{"$f":"-SUM(W7:W14)","v":1.4333844330634582},null,null,null,{"$f":"SUM(AA7:AA14)","v":1},{"$f":"-SUM(AB7:AB14)","v":0.77551265813314774},null,null,null,{"$f":"SUM(AF7:AF14)","v":1},{"$f":"-SUM(AG7:AG14)","v":0.9596868937742169},null,null,null,{"$f":"SUM(AK7:AK14)","v":1},{"$f":"-SUM(AL7:AL14)","v":0.9596868937742169},null,null,null,{"$f":"SUM(AP7:AP14)","v":1},{"$f":"-SUM(AQ7:AQ14)","v":0.95176267563483108},null,null,null,{"$f":"SUM(AU7:AU14)","v":1},{"$f":"-SUM(AV7:AV14)","v":0.60243080204044519}]
[12,1141,24,1149,24,1152,null,null,null,null,0,122,null,null,null,"U=",{"$f":"Q15/(LOG(Q4)/LOG(2))","v":0.15065760452726798},null,null,null,null,"U1=",{"$f":"W15/(LOG(W4)/LOG(2))","v":0.28174838378007244},null,null,null,"U2=",{"$f":"AB15/(LOG(AB4)/LOG(2))","v":0.15119318929588876},null,null,null,"U3=",{"$f":"AG15/(LOG(AG4)/LOG(2))","v":0.18863762227270753},null,null,null,"U4=",{"$f":"AL15/(LOG(AL4)/LOG(2))","v":0.18863762227270753},null,null,null,"U5=",{"$f":"AQ15/(LOG(AQ4)/LOG(2))","v":0.18555472031677966},null,null,null,"U6=",{"$f":"AV15/(LOG(AV4)/LOG(2))","v":0.11841478175639836}]
[21,1270,22,1291,24,1309,null,null,null,null,0,222]
[12,1412,24,1424,24,1427,null,null,null,null,0,122]
[12,1525,24,1539,24,1543,null,null,null,null,0,122,null,"Total Target Seq"]
[12,1638,24,1653,24,1659,null,null,null,null,0,122,null,{"$f":"COUNTIF(L7:L212,G3)","v":0},null,34,35,34,34,35,34]
[12,1757,24,1774,24,1779,null,null,null,null,0,122,null,null,null,"% of reinforcement given in 6 equal intervals based on number of trials "]
[12,1871,13,1873,24,1882,null,null,null,null,0,112,null,null,null,"%_1","%_2","%_3","%_4","%_5","%_6"]
[12,1977,24,1987,24,1994,null,null,null,null,0,122,null,null,"target sequence",{"$f":"$G$3","v":211},{"$f":"$G$3","v":211},{"$f":"$G$3","v":211},{"$f":"$G$3","v":211},{"$f":"$G$3","v":211},{"$f":"$G$3","v":211}]
[12,2091,13,2092,24,2103,null,null,null,null,0,112,null,null,"total reinforcement",{"$f":"U11","v":0},{"$f":"Z11","v":0},{"$f":"AE11","v":0},{"$f":"AJ11","v":0},{"$f":"AO11","v":0},{"$f":"AT11","v":0}]
[12,2200,13,2202,24,2213,null,null,null,null,0,112,null,null,"% target"]
[12,2308,24,2320,24,2324,null,null,null,null,0,122,null,null,"CCRF"]
[12,2419,24,2430,24,2434,null,null,null,null,0,122,null,null,"% CCRf"]
[12,2531,24,2543,24,2549,null,null,null,null,0,122,null,null,"average response rate",{"$f":"F40/P20","v":116.35294117647059},{"$f":"(F75-F40)/Q20","v":114.6},{"$f":"(F109-F75)/R20","v":116.11764705882354},{"$f":"(F143-F109)/S20","v":117.94117647058823},{"$f":"(F178-F143)/T20","v":113.97142857142858},{"$f":"(F212-F178)/U20","v":119.52941176470588}]
[21,2665,22,2669,24,2674,null,null,null,null,0,222]
[12,2769,13,2772,24,2786,null,null,null,null,0,112]
[12,2882,24,2902,24,2912,null,null,null,null,0,122]
[12,3008,24,3023,24,3029,null,null,null,null,0,122]
[12,3129,24,3137,24,3140,null,null,null,null,0,122]
[12,3238,24,3250,24,3254,null,null,null,null,0,122]
[12,3349,24,3360,24,3369,null,null,null,null,0,122]
[12,3463,24,3473,24,3483,null,null,null,null,0,122]
[12,3581,24,3591,24,3601,null,null,null,null,0,122]
[21,3726,22,3731,24,3734,null,null,null,null,0,222]
[12,3830,24,3841,24,3846,null,null,null,null,0,122]
[12,3942,24,3952,24,3956,null,null,null,null,0,122]
[12,4054,24,4065,24,4070,null,null,null,null,0,122]
[21,4174,22,4178,24,4183,null,null,null,null,0,222]
[21,4288,22,4292,24,4297,null,null,null,null,0,222]
[12,4394,24,4404,24,4408,null,null,null,null,0,122]
[12,4505,24,4515,24,4520,null,null,null,null,0,122]
[12,4617,24,4626,24,4630,null,null,null,null,0,122]
[12,4725,24,4733,24,4736,null,null,null,null,0,122]
[12,4828,24,4839,24,4843,null,null,null,null,0,122]
[12,4937,24,4948,24,4952,null,null,null,null,0,122]
[12,5053,24,5083,24,5088,null,null,null,null,0,122]
[12,5186,24,5194,24,5196,null,null,null,null,0,122]
[12,5292,24,5299,24,5321,null,null,null,null,0,122]
[21,5418,22,5423,24,5426,null,null,null,null,0,222]
[12,5526,24,5539,24,5544,null,null,null,null,0,122]
[12,5643,24,5652,24,5656,null,null,null,null,0,122]
[12,5754,24,5764,24,5768,null,null,null,null,0,122]
[12,5864,24,5875,24,5879,null,null,null,null,0,122]
[12,5977,24,5986,24,5989,null,null,null,null,0,122]
[12,6086,24,6095,24,6099,null,null,null,null,0,122]
[12,6196,24,6210,24,6215,null,null,null,null,0,122]
[21,6335,22,6340,24,6345,null,null,null,null,0,222]
[21,6448,22,6453,24,6457,null,null,null,null,0,222]
[12,6555,24,6566,24,6568,null,null,null,null,0,122]
[12,6664,24,6674,24,6680,null,null,null,null,0,122]
[12,6779,24,6787,24,6792,null,null,null,null,0,122]
[12,6888,24,6898,24,6902,null,null,null,null,0,122]
[12,6999,24,7009,24,7014,null,null,null,null,0,122]
[12,7112,24,7126,24,7131,null,null,null,null,0,122]
[21,7268,22,7271,24,7274,null,null,null,null,0,222]
[12,7369,24,7378,24,7381,null,null,null,null,0,122]
[21,7517,22,7518,24,7521,null,null,null,null,0,222]
[12,7619,24,7629,24,7633,null,null,null,null,0,122]
[12,7731,24,7745,24,7749,null,null,null,null,0,122]
[12,7842,24,7851,24,7854,null,null,null,null,0,122]
[21,7958,22,7962,24,7967,null,null,null,null,0,222]
[12,8065,24,8074,24,8078,null,null,null,null,0,122]
[21,8186,22,8189,24,8194,null,null,null,null,0,222]
[12,8286,24,8298,24,8305,null,null,null,null,0,122]
[12,8404,24,8416,24,8421,null,null,null,null,0,122]
[12,8510,24,8522,24,8525,null,null,null,null,0,122]
[21,8681,22,8686,24,8694,null,null,null,null,0,222]
[12,8787,24,8797,24,8801,null,null,null,null,0,122]
[21,8902,22,8905,24,8909,null,null,null,null,0,222]
[21,9016,22,9019,24,9028,null,null,null,null,0,222]
[12,9129,24,9138,24,9141,null,null,null,null,0,122]
[12,9236,24,9246,24,9249,null,null,null,null,0,122]
[21,9366,22,9374,24,9379,null,null,null,null,0,222]
[21,9487,22,9490,24,9505,null,null,null,null,0,222]
[21,9615,22,9616,24,9619,null,null,null,null,0,222]
[12,9715,24,9725,24,9729,null,null,null,null,0,122]
[21,9832,22,9835,24,9840,null,null,null,null,0,222]
[21,9967,22,9970,24,9975,null,null,null,null,0,222]
[12,10066,24,10073,24,10085,null,null,null,null,0,122]
[12,10179,24,10190,24,10197,null,null,null,null,0,122]
[21,10301,22,10303,24,10307,null,null,null,null,0,222]
[21,10418,22,10423,24,10428,null,null,null,null,0,222]
[21,10529,22,10532,24,10535,null,null,null,null,0,222]
[21,10644,22,10649,24,10659,null,null,null,null,0,222]
[12,10757,24,10768,24,10772,null,null,null,null,0,122]
[21,10878,22,10882,24,10890,null,null,null,null,0,222]
[21,10993,22,11000,24,11005,null,null,null,null,0,222]
[21,11114,22,11117,24,11122,null,null,null,null,0,222]
[21,11224,22,11229,24,11238,null,null,null,null,0,222]
[12,11332,24,11345,24,11348,null,null,null,null,0,122]
[21,11456,22,11460,24,11465,null,null,null,null,0,222]
[12,11561,24,11572,24,11575,null,null,null,null,0,122]
[21,11677,22,11681,24,11685,null,null,null,null,0,222]
[21,11791,22,11795,24,11800,null,null,null,null,0,222]
[21,11905,22,11910,24,11915,null,null,null,null,0,222]
[21,12057,22,12061,24,12065,null,null,null,null,0,222]
[12,12163,24,12174,24,12176,null,null,null,null,0,122]
[12,12272,24,12284,24,12288,null,null,null,null,0,122]
[21,12391,22,12399,24,12404,null,null,null,null,0,222]
[21,12542,22,12545,24,12549,null,null,null,null,0,222]
[21,12653,22,12657,24,12661,null,null,null,null,0,222]
[21,12764,22,12768,24,12772,null,null,null,null,0,222]
[12,12875,24,12883,24,12888,null,null,null,null,0,122]
[12,12985,24,12994,24,12998,null,null,null,null,0,122]
[21,13104,22,13111,24,13117,null,null,null,null,0,222]
[12,13209,24,13220,24,13223,null,null,null,null,0,122]
[12,13321,24,13332,24,13334,null,null,null,null,0,122]
[12,13428,24,13443,24,13454,null,null,null,null,0,122]
[21,13562,22,13566,24,13571,null,null,null,null,0,222]
[21,13673,22,13677,24,13680,null,null,null,null,0,222]
[12,13782,24,13791,24,13796,null,null,null,null,0,122]
[12,13887,24,13896,24,13900,null,null,null,null,0,122]
[12,13998,24,14008,24,14011,null,null,null,null,0,122]
[21,14117,22,14122,24,14127,null,null,null,null,0,222]
[12,14267,24,14279,24,14283,null,null,null,null,0,122]
[12,14380,24,14390,24,14394,null,null,null,null,0,122]
[21,14503,22,14510,24,14515,null,null,null,null,0,222]
[12,14610,24,14624,24,14635,null,null,null,null,0,122]
[12,14731,24,14741,24,14746,null,null,null,null,0,122]
[12,14843,24,14852,24,14856,null,null,null,null,0,122]
[12,14947,24,14957,24,14960,null,null,null,null,0,122]
[12,15058,24,15067,24,15071,null,null,null,null,0,122]
[12,15168,24,15181,24,15185,null,null,null,null,0,122]
[21,15291,22,15295,24,15303,null,null,null,null,0,222]
[21,15437,22,15462,24,15466,null,null,null,null,0,222]
[21,15568,22,15574,24,15580,null,null,null,null,0,222]
[12,15673,24,15681,24,15685,null,null,null,null,0,122]
[12,15783,24,15798,24,15804,null,null,null,null,0,122]
[12,15900,24,15921,24,15925,null,null,null,null,0,122]
[12,16023,24,16032,24,16037,null,null,null,null,0,122]
[21,16144,22,16149,24,16153,null,null,null,null,0,222]
[21,16268,22,16274,24,16282,null,null,null,null,0,222]
[12,16380,24,16390,24,16393,null,null,null,null,0,122]
[21,16501,22,16506,24,16510,null,null,null,null,0,222]
[12,16600,24,16611,24,16615,null,null,null,null,0,122]
[21,16716,22,16721,24,16725,null,null,null,null,0,222]
[21,16829,22,16833,24,16842,null,null,null,null,0,222]
[21,16945,22,16949,24,16954,null,null,null,null,0,222]
[12,17051,24,17061,24,17065,null,null,null,null,0,122]
[21,17169,22,17174,24,17178,null,null,null,null,0,222]
[12,17276,24,17286,24,17288,null,null,null,null,0,122]
[21,17392,22,17395,24,17398,null,null,null,null,0,222]
[12,17495,24,17504,24,17507,null,null,null,null,0,122]
[12,17603,24,17617,24,17625,null,null,null,null,0,122]
[21,17729,22,17734,24,17742,null,null,null,null,0,222]
[12,17839,24,17848,24,17853,null,null,null,null,0,122]
[21,17955,22,17957,24,17959,null,null,null,null,0,222]
[12,18057,24,18065,24,18068,null,null,null,null,0,122]
[21,18217,22,18245,24,18249,null,null,null,null,0,222]
[21,18361,22,18366,24,18372,null,null,null,null,0,222]
[21,18468,22,18473,24,18477,null,null,null,null,0,222]
[21,18583,22,18588,24,18592,null,null,null,null,0,222]
[21,18696,22,18699,24,18708,null,null,null,null,0,222]
[21,18820,22,18825,24,18831,null,null,null,null,0,222]
[12,18927,24,18938,24,18941,null,null,null,null,0,122]
[21,19040,22,19044,24,19048,null,null,null,null,0,222]
[12,19138,24,19147,24,19151,null,null,null,null,0,122]
[21,19259,22,19263,24,19268,null,null,null,null,0,222]
[21,19365,22,19370,24,19373,null,null,null,null,0,222]
[12,19469,24,19477,24,19482,null,null,null,null,0,122]
[12,19579,24,19589,24,19593,null,null,null,null,0,122]
[21,19692,22,19696,24,19701,null,null,null,null,0,222]
[21,19802,22,19804,24,19809,null,null,null,null,0,222]
[21,19907,22,19911,24,19914,null,null,null,null,0,222]
[12,20012,24,20023,24,20025,null,null,null,null,0,122]
[21,20128,22,20132,24,20136,null,null,null,null,0,222]
[21,20242,22,20247,24,20250,null,null,null,null,0,222]
[12,20347,24,20358,24,20362,null,null,null,null,0,122]
[21,20465,22,20469,24,20474,null,null,null,null,0,222]
[21,20571,22,20575,24,20579,null,null,null,null,0,222]
[12,20673,24,20682,24,20685,null,null,null,null,0,122]
[21,20784,22,20790,24,20801,null,null,null,null,0,222]
[21,20899,22,20901,24,20904,null,null,null,null,0,222]
[21,21006,22,21010,24,21015,null,null,null,null,0,222]
[21,21118,22,21126,24,21131,null,null,null,null,0,222]
[21,21232,22,21236,24,21242,null,null,null,null,0,222]
[21,21353,22,21354,24,21366,null,null,null,null,0,222]
[21,21471,22,21475,24,21480,null,null,null,null,0,222]
[21,21580,22,21581,24,21584,null,null,null,null,0,222]
[21,21692,22,21697,24,21702,null,null,null,null,0,222]
[21,21919,22,21924,24,21930,null,null,null,null,0,222]
[21,22037,22,22041,24,22045,null,null,null,null,0,222]
[21,22153,22,22162,24,22167,null,null,null,null,0,222]
[21,22268,22,22272,24,22277,null,null,null,null,0,222]
[21,22427,22,22431,24,22436,null,null,null,null,0,222]
[12,22534,24,22544,24,22548,null,null,null,null,0,122]
[12,22646,24,22657,24,22660,null,null,null,null,0,122]
[21,22761,22,22766,24,22774,null,null,null,null,0,222]
[21,22879,22,22884,24,22889,null,null,null,null,0,222]
[21,22996,22,23001,24,23006,null,null,null,null,0,222]
[21,23109,22,23112,24,23117,null,null,null,null,0,222]
[21,23222,22,23226,24,23231,null,null,null,null,0,222]
[21,23338,22,23342,24,23347,null,null,null,null,0,222]
[21,23449,22,23453,24,23457,null,null,null,null,0,222]
[21,23622,22,23626,24,23629,null,null,null,null,0,222]
[21,23742,22,23745,24,23748,null,null,null,null,0,222]
[21,23849,22,23851,24,23854,null,null,null,null,0,222]
[21,23968,22,23973,24,23978,null,null,null,null,null,222]

{"sheet":"!L903A4T.ayl","index":10,"n_rows":205,"n_cols":48,"rows_kept":205,"cut":false,"hidden":false,"merged":[[4,39,4,42],[5,39,5,40],[4,44,4,47],[5,44,5,45],[4,24,4,27],[5,24,5,25],[4,29,4,32],[5,29,5,30],[4,34,4,37],[5,34,5,35],[1,1,1,2],[5,13,5,14],[18,13,18,14],[19,13,19,14],[4,19,4,22],[5,19,5,20]]}
["Report for:!L903A4T.ayl"]
["Date:","<date>"]
["Hen:","<hen>",null,null,null,"Correct Sequence",{"$f":"Start!J2","v":211},null,null,null,null,null,null,null,null,"Total Sequences in Data",{"$f":"4994-COUNTBLANK(L7:L5000)","v":199},null,null,null,null,"Total Sequences in Block Data",{"$f":"COUNTA(L7:L39)","v":33},null,null,null,"Total Sequences in Block Data",{"$f":"COUNTA(L40:L72)","v":33},null,null,null,"Total Sequences in Block Data",{"$f":"COUNTA(L73:L106)","v":34},null,null,null,"Total Sequences in Block Data",{"$f":"COUNTA(L107:L139)","v":33},null,null,null,"Total Sequences in Block Data",{"$f":"COUNTA(L140:L172)","v":33},null,null,null,"Total Sequences in Block Data",{"$f":"COUNTA(L173:L205)","v":33}]
[null,null,null,null,null,null,null,null,null,null,null,null,null,null,null,"Total Sequences in Summary",{"$f":"SUM(O7:O14)","v":199},null,null,null,null,"Total Sequences in Block Summary",{"$f":"SUM(U7:U14)","v":33},null,null,null,"Total Sequences in Block Summary",{"$f":"SUM(Z7:Z14)","v":33},null,null,null,"Total Sequences in Block Summary",{"$f":"SUM(AE7:AE14)","v":34},null,null,null,"Total Sequences in Block Summary",{"$f":"SUM(AJ7:AJ14)","v":33},null,null,null,"Total Sequences in Block Summary",{"$f":"SUM(AO7:AO14)","v":33},null,null,null,"Total Sequences in Block Summary",{"$f":"SUM(AT7:AT14)","v":33}]
[null,null,null,null,null,null,null,null,null,null,null,null,null,null,null,null,null,null,null,"Block 1",null,null,null,null,"Block 2",null,null,null,null,"Block 3",null,null,null,null,"Block 4",null,null,null,null,"Block 5",null,null,null,null,"Block 6"]
["Sequence\nComponent\n1","Time\n1","Sequence\nComponent\n2","Time\n2","Sequence\nComponent\n3","Time\n3","Sequence\nComponent\n4","Time\n4","Sequence\nComponent\n5","Time\n5","Correct?\n0=No 1=Yes","Sequence",null,"Frequency",null,"Relative Frequency","Variability",null,null,"Frequency",null,"Relative Frequency","Variability",null,"Frequency",null,"Relative Frequency","Variability",null,"Frequency",null,"Relative Frequency","Variability",null,"Frequency",null,"Relative Frequency","Variability",null,"Frequency",null,"Relative Frequency","Variability",null,"Frequency",null,"Relative Frequency","Variability"]
[21,8,22,13,24,14,null,null,null,null,0,222,null,111,{"$f":"COUNTIF($L$7:$L$500,N7)","v":0},{"$f":"O7/$Q$4","v":0},{"$f":"IF(P7=0,0,(P7*((LOG(P7))/LOG(2))))","v":0},null,null,{"$f":"N7","v":111},{"$f":"COUNTIF(L7:L39,T7)","v":0},{"$f":"U7/(W4-U11)","v":0},{"$f":"IF(V7=0,0,(V7*((LOG(V7))/LOG(2))))","v":0},null,{"$f":"N7","v":111},{"$f":"COUNTIF(L40:L72,Y7)","v":0},{"$f":"Z7/(AB4-Z11)","v":0},{"$f":"IF(AA7=0,0,(AA7*((LOG(AA7))/LOG(2))))","v":0},null,{"$f":"N7","v":111},{"$f":"COUNTIF(L73:L106,AD7)","v":0},{"$f":"AE7/(AG4-AE11)","v":0},{"$f":"IF(AF7=0,0,(AF7*((LOG(AF7))/LOG(2))))","v":0},null,{"$f":"N7","v":111},{"$f":"COUNTIF(L107:L139,AI7)","v":0},{"$f":"AJ7/(AL4-AJ11)","v":0},{"$f":"IF(AK7=0,0,(AK7*((LOG(AK7))/LOG(2))))","v":0},null,{"$f":"N7","v":111},{"$f":"COUNTIF(L140:L172,AN7)","v":0},{"$f":"AO7/(AQ4-AO11)","v":0},{"$f":"IF(AP7=0,0,(AP7*((LOG(AP7))/LOG(2))))","v":0},null,{"$f":"N7","v":111},{"$f":"COUNTIF(L173:L205,AS7)","v":0},{"$f":"AT7/(AV4-AT11)","v":0},{"$f":"IF(AU7=0,0,(AU7*((LOG(AU7))/LOG(2))))","v":0}]
[21,120,22,128,24,139,null,null,null,null,0,222,null,112,{"$f":"COUNTIF($L$7:$L$500,N8)","v":1},{"$f":"O8/$Q$4","v":5.0251256281407036E-3},{"$f":"IF(P8=0,0,(P8*((LOG(P8))/LOG(2))))","v":-3.8374998093184169E-2},null,null,{"$f":"N8","v":112},{"$f":"COUNTIF(L7:L39,T8)","v":0},{"$f":"U8/(W4-U11)","v":0},{"$f":"IF(V8=0,0,(V8*((LOG(V8))/LOG(2))))","v":0},null,{"$f":"N8","v":112},{"$f":"COUNTIF(L40:L72,Y8)","v":0},{"$f":"Z8/(AB4-Z11)","v":0},{"$f":"IF(AA8=0,0,(AA8*((LOG(AA8))/LOG(2))))","v":0},null,{"$f":"N8","v":112},{"$f":"COUNTIF(L73:L106,AD8)","v":0},{"$f":"AE8/(AG4-AE11)","v":0},{"$f":"IF(AF8=0,0,(AF8*((LOG(AF8))/LOG(2))))","v":0},null,{"$f":"N8","v":112},{"$f":"COUNTIF(L107:L139,AI8)","v":0},{"$f":"AJ8/(AL4-AJ11)","v":0},{"$f":"IF(AK8=0,0,(AK8*((LOG(AK8))/LOG(2))))","v":0},null,{"$f":"N8","v":112},{"$f":"COUNTIF(L140:L172,AN8)","v":1},{"$f":"AO8/(AQ4-AO11)","v":3.0303030303030304E-2},{"$f":"IF(AP8=0,0,(AP8*((LOG(AP8))/LOG(2))))","v":-0.15286042785934709},null,{"$f":"N8","v":112},{"$f":"COUNTIF(L173:L205,AS8)","v":0},{"$f":"AT8/(AV4-AT11)","v":0},{"$f":"IF(AU8=0,0,(AU8*((LOG(AU8))/LOG(2))))","v":0}]
[12,233,24,244,24,248,null,null,null,null,0,122,null,121,{"$f":"COUNTIF($L$7:$L$500,N9)","v":0},{"$f":"O9/$Q$4","v":0},{"$f":"IF(P9=0,0,(P9*((LOG(P9))/LOG(2))))","v":0},null,null,{"$f":"N9","v":121},{"$f":"COUNTIF(L7:L39,T9)","v":0},{"$f":"U9/(W4-U11)","v":0},{"$f":"IF(V9=0,0,(V9*((LOG(V9))/LOG(2))))","v":0},null,{"$f":"N9","v":121},{"$f":"COUNTIF(L40:L72,Y9)","v":0},{"$f":"Z9/(AB4-Z11)","v":0},{"$f":"IF(AA9=0,0,(AA9*((LOG(AA9))/LOG(2))))","v":0},null,{"$f":"N9","v":121},{"$f":"COUNTIF(L73:L106,AD9)","v":0},{"$f":"AE9/(AG4-AE11)","v":0},{"$f":"IF(AF9=0,0,(AF9*((LOG(AF9))/LOG(2))))","v":0},null,{"$f":"N9","v":121},{"$f":"COUNTIF(L107:L139,AI9)","v":0},{"$f":"AJ9/(AL4-AJ11)","v":0},{"$f":"IF(AK9=0,0,(AK9*((LOG(AK9))/LOG(2))))","v":0},null,{"$f":"N9","v":121},{"$f":"COUNTIF(L140:L172,AN9)","v":0},{"$f":"AO9/(AQ4-AO11)","v":0},{"$f":"IF(AP9=0,0,(AP9*((LOG(AP9))/LOG(2))))","v":0},null,{"$f":"N9","v":121},{"$f":"COUNTIF(L173:L205,AS9)","v":0},{"$f":"AT9/(AV4-AT11)","v":0},{"$f":"IF(AU9=0,0,(AU9*((LOG(AU9))/LOG(2))))","v":0}]
[12,345,24,356,24,360,null,null,null,null,0,122,null,122,{"$f":"COUNTIF($L$7:$L$500,N10)","v":95},{"$f":"O10/$Q$4","v":0.47738693467336685},{"$f":"IF(P10=0,0,(P10*((LOG(P10))/LOG(2))))","v":-0.50926158874475669},null,null,{"$f":"N10","v":122},{"$f":"COUNTIF(L7:L39,T10)","v":19},{"$f":"U10/(W4-U11)","v":0.5757575757575758},{"$f":"IF(V10=0,0,(V10*((LOG(V10))/LOG(2))))","v":-0.45857168219340877},null,{"$f":"N10","v":122},{"$f":"COUNTIF(L40:L72,Y10)","v":17},{"$f":"Z10/(AB4-Z11)","v":0.51515151515151514},{"$f":"IF(AA10=0,0,(AA10*((LOG(AA10))/LOG(2))))","v":-0.49296459781327084},null,{"$f":"N10","v":122},{"$f":"COUNTIF(L73:L106,AD10)","v":17},{"$f":"AE10/(AG4-AE11)","v":0.5},{"$f":"IF(AF10=0,0,(AF10*((LOG(AF10))/LOG(2))))","v":-0.5},null,{"$f":"N10","v":122},{"$f":"COUNTIF(L107:L139,AI10)","v":14},{"$f":"AJ10/(AL4-AJ11)","v":0.42424242424242425},{"$f":"IF(AK10=0,0,(AK10*((LOG(AK10))/LOG(2))))","v":-0.52480450794581479},null,{"$f":"N10","v":122},{"$f":"COUNTIF(L140:L172,AN10)","v":14},{"$f":"AO10/(AQ4-AO11)","v":0.42424242424242425},{"$f":"IF(AP10=0,0,(AP10*((LOG(AP10))/LOG(2))))","v":-0.52480450794581479},null,{"$f":"N10","v":122},{"$f":"COUNTIF(L173:L205,AS10)","v":14},{"$f":"AT10/(AV4-AT11)","v":0.42424242424242425},{"$f":"IF(AU10=0,0,(AU10*((LOG(AU10))/LOG(2))))","v":-0.52480450794581479}]
[21,465,22,470,24,482,null,null,null,null,0,222,null,211,{"$f":"COUNTIF($L$7:$L$500,N11)","v":0},{"$f":"O11/$Q$4","v":0},{"$f":"IF(P11=0,0,(P11*((LOG(P11))/LOG(2))))","v":0},null,null,{"$f":"N11","v":211},{"$f":"COUNTIF(L7:L39,T11)","v":0},null,null,null,{"$f":"N11","v":211},{"$f":"COUNTIF(L40:L72,Y11)","v":0},null,null,null,{"$f":"N11","v":211},{"$f":"COUNTIF(L73:L106,AD11)","v":0},null,null,null,{"$f":"N11","v":211},{"$f":"COUNTIF(L107:L139,AI11)","v":0},null,null,null,{"$f":"N11","v":211},{"$f":"COUNTIF(L140:L172,AN11)","v":0},null,null,null,{"$f":"N11","v":211},{"$f":"COUNTIF(L173:L205,AS11)","v":0}]
[21,584,22,587,24,592,null,null,null,null,0,222,null,212,{"$f":"COUNTIF($L$7:$L$500,N12)","v":0},{"$f":"O12/$Q$4","v":0},{"$f":"IF(P12=0,0,(P12*((LOG(P12))/LOG(2))))","v":0},null,null,{"$f":"N12","v":212},{"$f":"COUNTIF(L7:L39,T12)","v":0},{"$f":"U12/(W4-U11)","v":0},{"$f":"IF(V12=0,0,(V12*((LOG(V12))/LOG(2))))","v":0},null,{"$f":"N12","v":212},{"$f":"COUNTIF(L40:L72,Y12)","v":0},{"$f":"Z12/(AB4-Z11)","v":0},{"$f":"IF(AA12=0,0,(AA12*((LOG(AA12))/LOG(2))))","v":0},null,{"$f":"N12","v":212},{"$f":"COUNTIF(L73:L106,AD12)","v":0},{"$f":"AE12/(AG4-AE11)","v":0},{"$f":"IF(AF12=0,0,(AF12*((LOG(AF12))/LOG(2))))","v":0},null,{"$f":"N12","v":212},{"$f":"COUNTIF(L107:L139,AI12)","v":0},{"$f":"AJ12/(AL4-AJ11)","v":0},{"$f":"IF(AK12=0,0,(AK12*((LOG(AK12))/LOG(2))))","v":0},null,{"$f":"N12","v":212},{"$f":"COUNTIF(L140:L172,AN12)","v":0},{"$f":"AO12/(AQ4-AO11)","v":0},{"$f":"IF(AP12=0,0,(AP12*((LOG(AP12))/LOG(2))))","v":0},null,{"$f":"N12","v":212},{"$f":"COUNTIF(L173:L205,AS12)","v":0},{"$f":"AT12/(AV4-AT11)","v":0},{"$f":"IF(AU12=0,0,(AU12*((LOG(AU12))/LOG(2))))","v":0}]
[12,689,24,699,24,701,null,null,null,null,0,122,null,221,{"$f":"COUNTIF($L$7:$L$500,N13)","v":0},{"$f":"O13/$Q$4","v":0},{"$f":"IF(P13=0,0,(P13*((LOG(P13))/LOG(2))))","v":0},null,null,{"$f":"N13","v":221},{"$f":"COUNTIF(L7:L39,T13)","v":0},{"$f":"U13/(W4-U11)","v":0},{"$f":"IF(V13=0,0,(V13*((LOG(V13))/LOG(2))))","v":0},null,{"$f":"N13","v":221},{"$f":"COUNTIF(L40:L72,Y13)","v":0},{"$f":"Z13/(AB4-Z11)","v":0},{"$f":"IF(AA13=0,0,(AA13*((LOG(AA13))/LOG(2))))","v":0},null,{"$f":"N13","v":221},{"$f":"COUNTIF(L73:L106,AD13)","v":0},{"$f":"AE13/(AG4-AE11)","v":0},{"$f":"IF(AF13=0,0,(AF13*((LOG(AF13))/LOG(2))))","v":0},null,{"$f":"N13","v":221},{"$f":"COUNTIF(L107:L139,AI13)","v":0},{"$f":"AJ13/(AL4-AJ11)","v":0},{"$f":"IF(AK13=0,0,(AK13*((LOG(AK13))/LOG(2))))","v":0},null,{"$f":"N13","v":221},{"$f":"COUNTIF(L140:L172,AN13)","v":0},{"$f":"AO13/(AQ4-AO11)","v":0},{"$f":"IF(AP13=0,0,(AP13*((LOG(AP13))/LOG(2))))","v":0},null,{"$f":"N13","v":221},{"$f":"COUNTIF(L173:L205,AS13)","v":0},{"$f":"AT13/(AV4-AT11)","v":0},{"$f":"IF(AU13=0,0,(AU13*((LOG(AU13))/LOG(2))))","v":0}]
[21,872,22,877,24,881,null,null,null,null,0,222,null,222,{"$f":"COUNTIF($L$7:$L$500,N14)","v":103},{"$f":"O14/$Q$4","v":0.51758793969849248},{"$f":"IF(P14=0,0,(P14*((LOG(P14))/LOG(2))))","v":-0.49177277194032326},null,null,{"$f":"N14","v":222},{"$f":"COUNTIF(L7:L39,T14)","v":14},{"$f":"U14/(W4-U11)","v":0.42424242424242425},{"$f":"IF(V14=0,0,(V14*((LOG(V14))/LOG(2))))","v":-0.52480450794581479},null,{"$f":"N14","v":222},{"$f":"COUNTIF(L40:L72,Y14)","v":16},{"$f":"Z14/(AB4-Z11)","v":0.48484848484848486},{"$f":"IF(AA14=0,0,(AA14*((LOG(AA14))/LOG(2))))","v":-0.50637290635561383},null,{"$f":"N14","v":222},{"$f":"COUNTIF(L73:L106,AD14)","v":17},{"$f":"AE14/(AG4-AE11)","v":0.5},{"$f":"IF(AF14=0,0,(AF14*((LOG(AF14))/LOG(2))))","v":-0.5},null,{"$f":"N14","v":222},{"$f":"COUNTIF(L107:L139,AI14)","v":19},{"$f":"AJ14/(AL4-AJ11)","v":0.5757575757575758},{"$f":"IF(AK14=0,0,(AK14*((LOG(AK14))/LOG(2))))","v":-0.45857168219340877},null,{"$f":"N14","v":222},{"$f":"COUNTIF(L140:L172,AN14)","v":18},{"$f":"AO14/(AQ4-AO11)","v":0.54545454545454541},{"$f":"IF(AP14=0,0,(AP14*((LOG(AP14))/LOG(2))))","v":-0.47698315522698609},null,{"$f":"N14","v":222},{"$f":"COUNTIF(L173:L205,AS14)","v":19},{"$f":"AT14/(AV4-AT11)","v":0.5757575757575758},{"$f":"IF(AU14=0,0,(AU14*((LOG(AU14))/LOG(2))))","v":-0.45857168219340877}]
[12,976,24,986,24,991,null,null,null,null,0,122,null,null,null,{"$f":"SUM(P7:P14)","v":1},{"$f":"-SUM(Q7:Q14)","v":1.039409358778264},null,null,null,null,{"$f":"SUM(V7:V14)","v":1},{"$f":"-SUM(W7:W14)","v":0.9833761901392235},null,null,null,{"$f":"SUM(AA7:AA14)","v":1},{"$f":"-SUM(AB7:AB14)","v":0.99933750416888467},null,null,null,{"$f":"SUM(AF7:AF14)","v":1},{"$f":"-SUM(AG7:AG14)","v":1},null,null,null,{"$f":"SUM(AK7:AK14)","v":1},{"$f":"-SUM(AL7:AL14)","v":0.9833761901392235},null,null,null,{"$f":"SUM(AP7:AP14)","v":1},{"$f":"-SUM(AQ7:AQ14)","v":1.1546480910321479},null,null,null,{"$f":"SUM(AU7:AU14)","v":1},{"$f":"-SUM(AV7:AV14)","v":0.9833761901392235}]
[21,1100,22,1114,24,1128,null,null,null,null,0,222,null,null,null,"U=",{"$f":"Q15/(LOG(Q4)/LOG(2))","v":0.13610847860481437},null,null,null,null,"U1=",{"$f":"W15/(LOG(W4)/LOG(2))","v":0.19494436137838678},null,null,null,"U2=",{"$f":"AB15/(LOG(AB4)/LOG(2))","v":0.19810853008764917},null,null,null,"U3=",{"$f":"AG15/(LOG(AG4)/LOG(2))","v":0.19656163223282261},null,null,null,"U4=",{"$f":"AL15/(LOG(AL4)/LOG(2))","v":0.19494436137838678},null,null,null,"U5=",{"$f":"AQ15/(LOG(AQ4)/LOG(2))","v":0.22889727957636194},null,null,null,"U6=",{"$f":"AV15/(LOG(AV4)/LOG(2))","v":0.19494436137838678}]
[21,1251,22,1255,24,1260,null,null,null,null,0,222]
[21,1364,22,1368,24,1373,null,null,null,null,0,222]
[12,1471,24,1478,24,1481,null,null,null,null,0,122,null,"Total Target Seq"]
[12,1579,24,1591,24,1595,null,null,null,null,0,122,null,{"$f":"COUNTIF(L7:L205,G3)","v":0},null,33,33,34,33,33,33]
[21,1730,22,1733,24,1743,null,null,null,null,0,222,null,null,null,"% of reinforcement given in 6 equal intervals based on number of trials "]
[12,1841,24,1853,24,1857,null,null,null,null,0,122,null,null,null,"%_1","%_2","%_3","%_4","%_5","%_6"]
[21,1963,22,1970,24,1982,null,null,null,null,0,222,null,null,"target sequence",{"$f":"$G$3","v":211},{"$f":"$G$3","v":211},{"$f":"$G$3","v":211},{"$f":"$G$3","v":211},{"$f":"$G$3","v":211},{"$f":"$G$3","v":211}]
[21,2091,22,2105,24,2118,null,null,null,null,0,222,null,null,"total reinforcement",{"$f":"U11","v":0},{"$f":"Z11","v":0},{"$f":"AE11","v":0},{"$f":"AJ11","v":0},{"$f":"AO11","v":0},{"$f":"AT11","v":0}]
[12,2215,24,2239,24,2242,null,null,null,null,0,122,null,null,"% target"]
[12,2340,24,2353,24,2357,null,null,null,null,0,122,null,null,"CCRF"]
[21,2460,22,2466,24,2471,null,null,null,null,0,222,null,null,"% CCRf"]
[12,2568,24,2578,24,2582,null,null,null,null,0,122,null,null,"average response rate",{"$f":"F39/P20","v":115.75757575757575},{"$f":"(F72-F39)/Q20","v":121.87878787878788},{"$f":"(F106-F72)/R20","v":119.20588235294117},{"$f":"(F139-F106)/S20","v":124.51515151515152},{"$f":"(F172-F139)/T20","v":117.75757575757575},{"$f":"(F205-F172)/U20","v":124.15151515151516}]
[21,2684,22,2691,24,2696,null,null,null,null,0,222]
[12,2794,24,2804,24,2808,null,null,null,null,0,122]
[12,2905,24,2916,24,2920,null,null,null,null,0,122]
[12,3016,24,3026,24,3030,null,null,null,null,0,122]
[12,3127,24,3137,24,3142,null,null,null,null,0,122]
[12,3239,24,3251,24,3255,null,null,null,null,0,122]
[12,3352,24,3365,24,3368,null,null,null,null,0,122]
[21,3475,22,3478,24,3484,null,null,null,null,0,222]
[12,3583,24,3590,24,3594,null,null,null,null,0,122]
[12,3686,24,3698,24,3703,null,null,null,null,0,122]
[12,3807,24,3816,24,3820,null,null,null,null,0,122]
[21,3923,22,3925,24,3930,null,null,null,null,0,222]
[12,4024,24,4037,24,4041,null,null,null,null,0,122]
[21,4211,22,4217,24,4223,null,null,null,null,0,222]
[21,4325,22,4329,24,4333,null,null,null,null,0,222]
[21,4434,22,4438,24,4443,null,null,null,null,0,222]
[21,4545,22,4548,24,4553,null,null,null,null,0,222]
[12,4651,24,4674,24,4679,null,null,null,null,0,122]
[21,4783,22,4787,24,4791,null,null,null,null,0,222]
[12,4889,24,4902,24,4905,null,null,null,null,0,122]
[12,5003,24,5013,24,5017,null,null,null,null,0,122]
[21,5127,22,5131,24,5139,null,null,null,null,0,222]
[12,5234,24,5247,24,5252,null,null,null,null,0,122]
[21,5353,22,5357,24,5362,null,null,null,null,0,222]
[21,5463,22,5467,24,5473,null,null,null,null,0,222]
[12,5572,24,5587,24,5591,null,null,null,null,0,122]
[12,5687,24,5699,24,5704,null,null,null,null,0,122]
[12,5801,24,5812,24,5815,null,null,null,null,0,122]
[21,5920,22,5923,24,5934,null,null,null,null,0,222]
[21,6095,22,6100,24,6106,null,null,null,null,0,222]
[12,6204,24,6216,24,6220,null,null,null,null,0,122]
[12,6319,24,6330,24,6335,null,null,null,null,0,122]
[12,6433,24,6448,24,6452,null,null,null,null,0,122]
[21,6576,22,6582,24,6587,null,null,null,null,0,222]
[21,6765,22,6769,24,6774,null,null,null,null,0,222]
[12,6872,24,6885,24,6903,null,null,null,null,0,122]
[12,7002,24,7012,24,7015,null,null,null,null,0,122]
[12,7112,24,7122,24,7126,null,null,null,null,0,122]
[21,7227,22,7231,24,7237,null,null,null,null,0,222]
[12,7334,24,7342,24,7346,null,null,null,null,0,122]
[12,7444,24,7455,24,7460,null,null,null,null,0,122]
[21,7564,22,7568,24,7578,null,null,null,null,0,222]
[21,7722,22,7727,24,7731,null,null,null,null,0,222]
[12,7827,24,7837,24,7842,null,null,null,null,0,122]
[12,7940,24,7953,24,7957,null,null,null,null,0,122]
[12,8054,24,8064,24,8068,null,null,null,null,0,122]
[21,8175,22,8182,24,8188,null,null,null,null,0,222]
[12,8284,24,8297,24,8301,null,null,null,null,0,122]
[21,8407,22,8411,24,8415,null,null,null,null,0,222]
[12,8513,24,8523,24,8534,null,null,null,null,0,122]
[21,8638,22,8640,24,8646,null,null,null,null,0,222]
[21,8758,22,8762,24,8767,null,null,null,null,0,222]
[21,8887,22,8891,24,8901,null,null,null,null,0,222]
[12,8999,24,9009,24,9016,null,null,null,null,0,122]
[12,9113,24,9125,24,9129,null,null,null,null,0,122]
[21,9235,22,9240,24,9245,null,null,null,null,0,222]
[21,9343,22,9347,24,9352,null,null,null,null,0,222]
[12,9449,24,9460,24,9463,null,null,null,null,0,122]
[21,9566,22,9570,24,9576,null,null,null,null,0,222]
[12,9673,24,9684,24,9689,null,null,null,null,0,122]
[12,9781,24,9795,24,9799,null,null,null,null,0,122]
[12,9898,24,9908,24,9913,null,null,null,null,0,122]
[12,10007,24,10018,24,10023,null,null,null,null,0,122]
[21,10127,22,10129,24,10131,null,null,null,null,0,222]
[21,10277,22,10281,24,10286,null,null,null,null,0,222]
[21,10398,22,10403,24,10407,null,null,null,null,0,222]
[12,10504,24,10514,24,10518,null,null,null,null,0,122]
[21,10659,22,10662,24,10667,null,null,null,null,0,222]
[12,10764,24,10776,24,10781,null,null,null,null,0,122]
[21,10886,22,10895,24,10900,null,null,null,null,0,222]
[12,10990,24,11000,24,11004,null,null,null,null,0,122]
[12,11101,24,11112,24,11116,null,null,null,null,0,122]
[21,11215,22,11220,24,11229,null,null,null,null,0,222]
[21,11393,22,11395,24,11397,null,null,null,null,0,222]
[21,11508,22,11514,24,11519,null,null,null,null,0,222]
[12,11617,24,11628,24,11632,null,null,null,null,0,122]
[12,11729,24,11738,24,11742,null,null,null,null,0,122]
[21,11886,22,11890,24,11895,null,null,null,null,0,222]
[12,11994,24,12005,24,12009,null,null,null,null,0,122]
[12,12102,24,12112,24,12119,null,null,null,null,0,122]
[12,12218,24,12228,24,12232,null,null,null,null,0,122]
[21,12338,22,12343,24,12348,null,null,null,null,0,222]
[21,12448,22,12453,24,12456,null,null,null,null,0,222]
[21,12634,22,12637,24,12643,null,null,null,null,0,222]
[21,12749,22,12753,24,12758,null,null,null,null,0,222]
[21,12864,22,12868,24,12872,null,null,null,null,0,222]
[21,12976,22,12981,24,12987,null,null,null,null,0,222]
[12,13084,24,13094,24,13098,null,null,null,null,0,122]
[12,13197,24,13203,24,13208,null,null,null,null,0,122]
[21,13306,22,13313,24,13317,null,null,null,null,0,222]
[21,13419,22,13423,24,13428,null,null,null,null,0,222]
[12,13526,24,13537,24,13539,null,null,null,null,0,122]
[21,13648,22,13653,24,13658,null,null,null,null,0,222]
[21,13756,22,13759,24,13764,null,null,null,null,0,222]
[12,13861,24,13872,24,13876,null,null,null,null,0,122]
[21,13985,22,13989,24,13994,null,null,null,null,0,222]
[21,14096,22,14103,24,14108,null,null,null,null,0,222]
[21,14434,22,14438,24,14442,null,null,null,null,0,222]
[21,14545,22,14554,24,14563,null,null,null,null,0,222]
[21,14674,22,14678,24,14688,null,null,null,null,0,222]
[12,14785,24,14798,24,14802,null,null,null,null,0,122]
[12,14897,24,14911,24,14915,null,null,null,null,0,122]
[12,15012,24,15020,24,15023,null,null,null,null,0,122]
[21,15130,22,15134,24,15140,null,null,null,null,0,222]
[21,15242,22,15246,24,15251,null,null,null,null,0,222]
[21,15357,22,15360,24,15365,null,null,null,null,0,222]
[12,15463,24,15475,24,15480,null,null,null,null,0,122]
[12,15574,24,15593,24,15606,null,null,null,null,0,122]
[12,15701,24,15712,24,15716,null,null,null,null,0,122]
[12,15817,24,15830,24,15835,null,null,null,null,0,122]
[21,15998,22,16000,24,16004,null,null,null,null,0,222]
[12,16102,24,16111,24,16116,null,null,null,null,0,122]
[21,16230,22,16241,24,16247,null,null,null,null,0,222]
[21,16349,22,16353,24,16357,null,null,null,null,0,222]
[21,16545,22,16550,24,16555,null,null,null,null,0,222]
[12,16650,24,16660,24,16666,null,null,null,null,0,122]
[21,16832,22,16837,24,16843,null,null,null,null,0,222]
[21,16945,22,16948,24,16953,null,null,null,null,0,222]
[21,17051,22,17067,24,17072,null,null,null,null,0,222]
[12,17169,24,17179,24,17188,null,null,null,null,0,122]
[12,17282,24,17294,24,17314,null,null,null,null,0,122]
[12,17412,24,17420,24,17423,null,null,null,null,0,122]
[21,17526,22,17529,24,17532,null,null,null,null,0,222]
[21,17630,22,17634,24,17639,null,null,null,null,0,222]
[21,17744,22,17754,24,17759,null,null,null,null,0,222]
[21,17860,22,17862,24,17864,null,null,null,null,0,222]
[12,17956,24,17967,24,17970,null,null,null,null,0,122]
[12,18068,13,18071,24,18078,null,null,null,null,0,112]
[12,18173,24,18187,24,18191,null,null,null,null,0,122]
[12,18289,24,18298,24,18302,null,null,null,null,0,122]
[21,18401,22,18414,24,18419,null,null,null,null,0,222]
[21,18530,22,18540,24,18545,null,null,null,null,0,222]
[21,18649,22,18653,24,18658,null,null,null,null,0,222]
[21,18757,22,18763,24,18768,null,null,null,null,0,222]
[21,18864,22,18867,24,18871,null,null,null,null,0,222]
[12,18967,24,18976,24,18979,null,null,null,null,0,122]
[12,19077,24,19090,24,19093,null,null,null,null,0,122]
[21,19202,22,19205,24,19223,null,null,null,null,0,222]
[12,19318,24,19327,24,19331,null,null,null,null,0,122]
[21,19429,22,19434,24,19439,null,null,null,null,0,222]
[21,19548,22,19552,24,19561,null,null,null,null,0,222]
[12,19657,24,19666,24,19670,null,null,null,null,0,122]
[12,19767,24,19778,24,19781,null,null,null,null,0,122]
[12,19876,24,19886,24,19890,null,null,null,null,0,122]
[21,19992,22,19997,24,20002,null,null,null,null,0,222]
[12,20094,24,20107,24,20109,null,null,null,null,0,122]
[12,20204,24,20215,24,20218,null,null,null,null,0,122]
[12,20310,24,20322,24,20327,null,null,null,null,0,122]
[21,20437,22,20441,24,20447,null,null,null,null,0,222]
[21,20550,22,20553,24,20558,null,null,null,null,0,222]
[21,20662,22,20668,24,20673,null,null,null,null,0,222]
[21,20798,22,20802,24,20806,null,null,null,null,0,222]
[12,20902,24,20913,24,20917,null,null,null,null,0,122]
[12,21008,24,21018,24,21022,null,null,null,null,0,122]
[21,21136,22,21140,24,21145,null,null,null,null,0,222]
[21,21255,22,21259,24,21265,null,null,null,null,0,222]
[12,21362,24,21373,24,21377,null,null,null,null,0,122]
[12,21474,24,21485,24,21489,null,null,null,null,0,122]
[12,21587,24,21595,24,21600,null,null,null,null,0,122]
[12,21695,24,21712,24,21717,null,null,null,null,0,122]
[12,21815,24,21825,24,21828,null,null,null,null,0,122]
[12,21926,24,21938,24,21941,null,null,null,null,0,122]
[12,22054,24,22064,24,22067,null,null,null,null,0,122]
[21,22278,22,22282,24,22328,null,null,null,null,0,222]
[21,22435,22,22439,24,22443,null,null,null,null,0,222]
[21,22543,22,22545,24,22549,null,null,null,null,0,222]
[21,22681,22,22684,24,22693,null,null,null,null,0,222]
[12,22787,24,22801,24,22804,null,null,null,null,0,122]
[21,22954,22,22961,24,22965,null,null,null,null,0,222]
[21,23083,22,23087,24,23096,null,null,null,null,0,222]
[12,23189,24,23201,24,23209,null,null,null,null,0,122]
[21,23400,22,23408,24,23412,null,null,null,null,0,222]
[21,23518,22,23522,24,23527,null,null,null,null,0,222]
[21,23626,22,23628,24,23633,null,null,null,null,0,222]
[21,23736,22,23740,24,23745,null,null,null,null,0,222]
[21,23858,22,23861,24,23867,null,null,null,null,0,222]
[21,23978,22,23982,24,23987,null,null,null,null,null,222]

{"sheet":"!L905A4T.ayl","index":11,"n_rows":214,"n_cols":48,"rows_kept":214,"cut":false,"hidden":false,"merged":[[4,39,4,42],[5,39,5,40],[4,44,4,47],[5,44,5,45],[4,24,4,27],[5,24,5,25],[4,29,4,32],[5,29,5,30],[4,34,4,37],[5,34,5,35],[1,1,1,2],[5,13,5,14],[18,13,18,14],[19,13,19,14],[4,19,4,22],[5,19,5,20]]}
["Report for:!L905A4T.ayl"]
["Date:","<date>"]
["Hen:","<hen>",null,null,null,"Correct Sequence",{"$f":"Start!J2","v":211},null,null,null,null,null,null,null,null,"Total Sequences in Data",{"$f":"4994-COUNTBLANK(L7:L5000)","v":208},null,null,null,null,"Total Sequences in Block Data",{"$f":"COUNTA(L7:L41)","v":35},null,null,null,"Total Sequences in Block Data",{"$f":"COUNTA(L42:L75)","v":34},null,null,null,"Total Sequences in Block Data",{"$f":"COUNTA(L76:L110)","v":35},null,null,null,"Total Sequences in Block Data",{"$f":"COUNTA(L111:L145)","v":35},null,null,null,"Total Sequences in Block Data",{"$f":"COUNTA(L146:L179)","v":34},null,null,null,"Total Sequences in Block Data",{"$f":"COUNTA(L180:L214)","v":35}]
[null,null,null,null,null,null,null,null,null,null,null,null,null,null,null,"Total Sequences in Summary",{"$f":"SUM(O7:O14)","v":208},null,null,null,null,"Total Sequences in Block Summary",{"$f":"SUM(U7:U14)","v":35},null,null,null,"Total Sequences in Block Summary",{"$f":"SUM(Z7:Z14)","v":34},null,null,null,"Total Sequences in Block Summary",{"$f":"SUM(AE7:AE14)","v":35},null,null,null,"Total Sequences in Block Summary",{"$f":"SUM(AJ7:AJ14)","v":35},null,null,null,"Total Sequences in Block Summary",{"$f":"SUM(AO7:AO14)","v":34},null,null,null,"Total Sequences in Block Summary",{"$f":"SUM(AT7:AT14)","v":35}]
[null,null,null,null,null,null,null,null,null,null,null,null,null,null,null,null,null,null,null,"Block 1",null,null,null,null,"Block 2",null,null,null,null,"Block 3",null,null,null,null,"Block 4",null,null,null,null,"Block 5",null,null,null,null,"Block 6"]
["Sequence\nComponent\n1","Time\n1","Sequence\nComponent\n2","Time\n2","Sequence\nComponent\n3","Time\n3","Sequence\nComponent\n4","Time\n4","Sequence\nComponent\n5","Time\n5","Correct?\n0=No 1=Yes","Sequence",null,"Frequency",null,"Relative Frequency","Variability",null,null,"Frequency",null,"Relative Frequency","Variability",null,"Frequency",null,"Relative Frequency","Variability",null,"Frequency",null,"Relative Frequency","Variability",null,"Frequency",null,"Relative Frequency","Variability",null,"Frequency",null,"Relative Frequency","Variability",null,"Frequency",null,"Relative Frequency","Variability"]
[21,35,22,45,24,49,null,null,null,null,0,222,null,111,{"$f":"COUNTIF($L$7:$L$500,N7)","v":0},{"$f":"O7/$Q$4","v":0},{"$f":"IF(P7=0,0,(P7*((LOG(P7))/LOG(2))))","v":0},null,null,{"$f":"N7","v":111},{"$f":"COUNTIF(L7:L41,T7)","v":0},{"$f":"U7/(W4-U11)","v":0},{"$f":"IF(V7=0,0,(V7*((LOG(V7))/LOG(2))))","v":0},null,{"$f":"N7","v":111},{"$f":"COUNTIF(L42:L75,Y7)","v":0},{"$f":"Z7/(AB4-Z11)","v":0},{"$f":"IF(AA7=0,0,(AA7*((LOG(AA7))/LOG(2))))","v":0},null,{"$f":"N7","v":111},{"$f":"COUNTIF(L76:L110,AD7)","v":0},{"$f":"AE7/(AG4-AE11)","v":0},{"$f":"IF(AF7=0,0,(AF7*((LOG(AF7))/LOG(2))))","v":0},null,{"$f":"N7","v":111},{"$f":"COUNTIF(L111:L145,AI7)","v":0},{"$f":"AJ7/(AL4-AJ11)","v":0},{"$f":"IF(AK7=0,0,(AK7*((LOG(AK7))/LOG(2))))","v":0},null,{"$f":"N7","v":111},{"$f":"COUNTIF(L146:L179,AN7)","v":0},{"$f":"AO7/(AQ4-AO11)","v":0},{"$f":"IF(AP7=0,0,(AP7*((LOG(AP7))/LOG(2))))","v":0},null,{"$f":"N7","v":111},{"$f":"COUNTIF(L180:L214,AS7)","v":0},{"$f":"AT7/(AV4-AT11)","v":0},{"$f":"IF(AU7=0,0,(AU7*((LOG(AU7))/LOG(2))))","v":0}]
[21,161,22,166,24,171,null,null,null,null,0,222,null,112,{"$f":"COUNTIF($L$7:$L$500,N8)","v":5},{"$f":"O8/$Q$4","v":2.403846153846154E-2},{"$f":"IF(P8=0,0,(P8*((LOG(P8))/LOG(2))))","v":-0.12929114478975312},null,null,{"$f":"N8","v":112},{"$f":"COUNTIF(L7:L41,T8)","v":1},{"$f":"U8/(W4-U11)","v":2.8571428571428571E-2},{"$f":"IF(V8=0,0,(V8*((LOG(V8))/LOG(2))))","v":-0.14655094334128474},null,{"$f":"N8","v":112},{"$f":"COUNTIF(L42:L75,Y8)","v":1},{"$f":"Z8/(AB4-Z11)","v":2.9411764705882353E-2},{"$f":"IF(AA8=0,0,(AA8*((LOG(AA8))/LOG(2))))","v":-0.14963126003677468},null,{"$f":"N8","v":112},{"$f":"COUNTIF(L76:L110,AD8)","v":0},{"$f":"AE8/(AG4-AE11)","v":0},{"$f":"IF(AF8=0,0,(AF8*((LOG(AF8))/LOG(2))))","v":0},null,{"$f":"N8","v":112},{"$f":"COUNTIF(L111:L145,AI8)","v":0},{"$f":"AJ8/(AL4-AJ11)","v":0},{"$f":"IF(AK8=0,0,(AK8*((LOG(AK8))/LOG(2))))","v":0},null,{"$f":"N8","v":112},{"$f":"COUNTIF(L146:L179,AN8)","v":2},{"$f":"AO8/(AQ4-AO11)","v":5.8823529411764705E-2},{"$f":"IF(AP8=0,0,(AP8*((LOG(AP8))/LOG(2))))","v":-0.24043899066178465},null,{"$f":"N8","v":112},{"$f":"COUNTIF(L180:L214,AS8)","v":1},{"$f":"AT8/(AV4-AT11)","v":2.8571428571428571E-2},{"$f":"IF(AU8=0,0,(AU8*((LOG(AU8))/LOG(2))))","v":-0.14655094334128474}]
[21,277,22,281,24,286,null,null,null,null,0,222,null,121,{"$f":"COUNTIF($L$7:$L$500,N9)","v":0},{"$f":"O9/$Q$4","v":0},{"$f":"IF(P9=0,0,(P9*((LOG(P9))/LOG(2))))","v":0},null,null,{"$f":"N9","v":121},{"$f":"COUNTIF(L7:L41,T9)","v":0},{"$f":"U9/(W4-U11)","v":0},{"$f":"IF(V9=0,0,(V9*((LOG(V9))/LOG(2))))","v":0},null,{"$f":"N9","v":121},{"$f":"COUNTIF(L42:L75,Y9)","v":0},{"$f":"Z9/(AB4-Z11)","v":0},{"$f":"IF(AA9=0,0,(AA9*((LOG(AA9))/LOG(2))))","v":0},null,{"$f":"N9","v":121},{"$f":"COUNTIF(L76:L110,AD9)","v":0},{"$f":"AE9/(AG4-AE11)","v":0},{"$f":"IF(AF9=0,0,(AF9*((LOG(AF9))/LOG(2))))","v":0},null,{"$f":"N9","v":121},{"$f":"COUNTIF(L111:L145,AI9)","v":0},{"$f":"AJ9/(AL4-AJ11)","v":0},{"$f":"IF(AK9=0,0,(AK9*((LOG(AK9))/LOG(2))))","v":0},null,{"$f":"N9","v":121},{"$f":"COUNTIF(L146:L179,AN9)","v":0},{"$f":"AO9/(AQ4-AO11)","v":0},{"$f":"IF(AP9=0,0,(AP9*((LOG(AP9))/LOG(2))))","v":0},null,{"$f":"N9","v":121},{"$f":"COUNTIF(L180:L214,AS9)","v":0},{"$f":"AT9/(AV4-AT11)","v":0},{"$f":"IF(AU9=0,0,(AU9*((LOG(AU9))/LOG(2))))","v":0}]
[12,382,24,394,24,399,null,null,null,null,0,122,null,122,{"$f":"COUNTIF($L$7:$L$500,N10)","v":112},{"$f":"O10/$Q$4","v":0.53846153846153844},{"$f":"IF(P10=0,0,(P10*((LOG(P10))/LOG(2))))","v":-0.48089181327572433},null,null,{"$f":"N10","v":122},{"$f":"COUNTIF(L7:L41,T10)","v":13},{"$f":"U10/(W4-U11)","v":0.37142857142857144},{"$f":"IF(V10=0,0,(V10*((LOG(V10))/LOG(2))))","v":-0.53071322527001041},null,{"$f":"N10","v":122},{"$f":"COUNTIF(L42:L75,Y10)","v":23},{"$f":"Z10/(AB4-Z11)","v":0.67647058823529416},{"$f":"IF(AA10=0,0,(AA10*((LOG(AA10))/LOG(2))))","v":-0.38146236351313262},null,{"$f":"N10","v":122},{"$f":"COUNTIF(L76:L110,AD10)","v":23},{"$f":"AE10/(AG4-AE11)","v":0.65714285714285714},{"$f":"IF(AF10=0,0,(AF10*((LOG(AF10))/LOG(2))))","v":-0.3980452685835123},null,{"$f":"N10","v":122},{"$f":"COUNTIF(L111:L145,AI10)","v":23},{"$f":"AJ10/(AL4-AJ11)","v":0.65714285714285714},{"$f":"IF(AK10=0,0,(AK10*((LOG(AK10))/LOG(2))))","v":-0.3980452685835123},null,{"$f":"N10","v":122},{"$f":"COUNTIF(L146:L179,AN10)","v":15},{"$f":"AO10/(AQ4-AO11)","v":0.44117647058823528},{"$f":"IF(AP10=0,0,(AP10*((LOG(AP10))/LOG(2))))","v":-0.52084069660668564},null,{"$f":"N10","v":122},{"$f":"COUNTIF(L180:L214,AS10)","v":15},{"$f":"AT10/(AV4-AT11)","v":0.42857142857142855},{"$f":"IF(AU10=0,0,(AU10*((LOG(AU10))/LOG(2))))","v":-0.52388246628704915}]
[12,497,24,509,24,513,null,null,null,null,0,122,null,211,{"$f":"COUNTIF($L$7:$L$500,N11)","v":0},{"$f":"O11/$Q$4","v":0},{"$f":"IF(P11=0,0,(P11*((LOG(P11))/LOG(2))))","v":0},null,null,{"$f":"N11","v":211},{"$f":"COUNTIF(L7:L41,T11)","v":0},null,null,null,{"$f":"N11","v":211},{"$f":"COUNTIF(L42:L75,Y11)","v":0},null,null,null,{"$f":"N11","v":211},{"$f":"COUNTIF(L76:L110,AD11)","v":0},null,null,null,{"$f":"N11","v":211},{"$f":"COUNTIF(L111:L145,AI11)","v":0},null,null,null,{"$f":"N11","v":211},{"$f":"COUNTIF(L146:L179,AN11)","v":0},null,null,null,{"$f":"N11","v":211},{"$f":"COUNTIF(L180:L214,AS11)","v":0}]
[21,616,22,621,24,626,null,null,null,null,0,222,null,212,{"$f":"COUNTIF($L$7:$L$500,N12)","v":0},{"$f":"O12/$Q$4","v":0},{"$f":"IF(P12=0,0,(P12*((LOG(P12))/LOG(2))))","v":0},null,null,{"$f":"N12","v":212},{"$f":"COUNTIF(L7:L41,T12)","v":0},{"$f":"U12/(W4-U11)","v":0},{"$f":"IF(V12=0,0,(V12*((LOG(V12))/LOG(2))))","v":0},null,{"$f":"N12","v":212},{"$f":"COUNTIF(L42:L75,Y12)","v":0},{"$f":"Z12/(AB4-Z11)","v":0},{"$f":"IF(AA12=0,0,(AA12*((LOG(AA12))/LOG(2))))","v":0},null,{"$f":"N12","v":212},{"$f":"COUNTIF(L76:L110,AD12)","v":0},{"$f":"AE12/(AG4-AE11)","v":0},{"$f":"IF(AF12=0,0,(AF12*((LOG(AF12))/LOG(2))))","v":0},null,{"$f":"N12","v":212},{"$f":"COUNTIF(L111:L145,AI12)","v":0},{"$f":"AJ12/(AL4-AJ11)","v":0},{"$f":"IF(AK12=0,0,(AK12*((LOG(AK12))/LOG(2))))","v":0},null,{"$f":"N12","v":212},{"$f":"COUNTIF(L146:L179,AN12)","v":0},{"$f":"AO12/(AQ4-AO11)","v":0},{"$f":"IF(AP12=0,0,(AP12*((LOG(AP12))/LOG(2))))","v":0},null,{"$f":"N12","v":212},{"$f":"COUNTIF(L180:L214,AS12)","v":0},{"$f":"AT12/(AV4-AT11)","v":0},{"$f":"IF(AU12=0,0,(AU12*((LOG(AU12))/LOG(2))))","v":0}]
[12,725,24,735,24,739,null,null,null,null,0,122,null,221,{"$f":"COUNTIF($L$7:$L$500,N13)","v":0},{"$f":"O13/$Q$4","v":0},{"$f":"IF(P13=0,0,(P13*((LOG(P13))/LOG(2))))","v":0},null,null,{"$f":"N13","v":221},{"$f":"COUNTIF(L7:L41,T13)","v":0},{"$f":"U13/(W4-U11)","v":0},{"$f":"IF(V13=0,0,(V13*((LOG(V13))/LOG(2))))","v":0},null,{"$f":"N13","v":221},{"$f":"COUNTIF(L42:L75,Y13)","v":0},{"$f":"Z13/(AB4-Z11)","v":0},{"$f":"IF(AA13=0,0,(AA13*((LOG(AA13))/LOG(2))))","v":0},null,{"$f":"N13","v":221},{"$f":"COUNTIF(L76:L110,AD13)","v":0},{"$f":"AE13/(AG4-AE11)","v":0},{"$f":"IF(AF13=0,0,(AF13*((LOG(AF13))/LOG(2))))","v":0},null,{"$f":"N13","v":221},{"$f":"COUNTIF(L111:L145,AI13)","v":0},{"$f":"AJ13/(AL4-AJ11)","v":0},{"$f":"IF(AK13=0,0,(AK13*((LOG(AK13))/LOG(2))))","v":0},null,{"$f":"N13","v":221},{"$f":"COUNTIF(L146:L179,AN13)","v":0},{"$f":"AO13/(AQ4-AO11)","v":0},{"$f":"IF(AP13=0,0,(AP13*((LOG(AP13))/LOG(2))))","v":0},null,{"$f":"N13","v":221},{"$f":"COUNTIF(L180:L214,AS13)","v":0},{"$f":"AT13/(AV4-AT11)","v":0},{"$f":"IF(AU13=0,0,(AU13*((LOG(AU13))/LOG(2))))","v":0}]
[21,858,22,873,24,878,null,null,null,null,0,222,null,222,{"$f":"COUNTIF($L$7:$L$500,N14)","v":91},{"$f":"O14/$Q$4","v":0.4375},{"$f":"IF(P14=0,0,(P14*((LOG(P14))/LOG(2))))","v":-0.52178222159979815},null,null,{"$f":"N14","v":222},{"$f":"COUNTIF(L7:L41,T14)","v":21},{"$f":"U14/(W4-U11)","v":0.6},{"$f":"IF(V14=0,0,(V14*((LOG(V14))/LOG(2))))","v":-0.44217935649972373},null,{"$f":"N14","v":222},{"$f":"COUNTIF(L42:L75,Y14)","v":10},{"$f":"Z14/(AB4-Z11)","v":0.29411764705882354},{"$f":"IF(AA14=0,0,(AA14*((LOG(AA14))/LOG(2))))","v":-0.51927492540087561},null,{"$f":"N14","v":222},{"$f":"COUNTIF(L76:L110,AD14)","v":12},{"$f":"AE14/(AG4-AE11)","v":0.34285714285714286},{"$f":"IF(AF14=0,0,(AF14*((LOG(AF14))/LOG(2))))","v":-0.52948131984816349},null,{"$f":"N14","v":222},{"$f":"COUNTIF(L111:L145,AI14)","v":12},{"$f":"AJ14/(AL4-AJ11)","v":0.34285714285714286},{"$f":"IF(AK14=0,0,(AK14*((LOG(AK14))/LOG(2))))","v":-0.52948131984816349},null,{"$f":"N14","v":222},{"$f":"COUNTIF(L146:L179,AN14)","v":17},{"$f":"AO14/(AQ4-AO11)","v":0.5},{"$f":"IF(AP14=0,0,(AP14*((LOG(AP14))/LOG(2))))","v":-0.5},null,{"$f":"N14","v":222},{"$f":"COUNTIF(L180:L214,AS14)","v":19},{"$f":"AT14/(AV4-AT11)","v":0.54285714285714282},{"$f":"IF(AU14=0,0,(AU14*((LOG(AU14))/LOG(2))))","v":-0.47845013047217821}]
[21,986,22,991,24,995,null,null,null,null,0,222,null,null,null,{"$f":"SUM(P7:P14)","v":1},{"$f":"-SUM(Q7:Q14)","v":1.1319651796652757},null,null,null,null,{"$f":"SUM(V7:V14)","v":1},{"$f":"-SUM(W7:W14)","v":1.1194435251110189},null,null,null,{"$f":"SUM(AA7:AA14)","v":1},{"$f":"-SUM(AB7:AB14)","v":1.0503685489507828},null,null,null,{"$f":"SUM(AF7:AF14)","v":1},{"$f":"-SUM(AG7:AG14)","v":0.92752658843167579},null,null,null,{"$f":"SUM(AK7:AK14)","v":1},{"$f":"-SUM(AL7:AL14)","v":0.92752658843167579},null,null,null,{"$f":"SUM(AP7:AP14)","v":1},{"$f":"-SUM(AQ7:AQ14)","v":1.2612796872684702},null,null,null,{"$f":"SUM(AU7:AU14)","v":1},{"$f":"-SUM(AV7:AV14)","v":1.148883540100512}]
[12,1093,24,1105,24,1109,null,null,null,null,0,122,null,null,null,"U=",{"$f":"Q15/(LOG(Q4)/LOG(2))","v":0.14700007026852427},null,null,null,null,"U1=",{"$f":"W15/(LOG(W4)/LOG(2))","v":0.21824561472097645},null,null,null,"U2=",{"$f":"AB15/(LOG(AB4)/LOG(2))","v":0.20646215642778731},null,null,null,"U3=",{"$f":"AG15/(LOG(AG4)/LOG(2))","v":0.18082967646112},null,null,null,"U4=",{"$f":"AL15/(LOG(AL4)/LOG(2))","v":0.18082967646112},null,null,null,"U5=",{"$f":"AQ15/(LOG(AQ4)/LOG(2))","v":0.24791919403159457},null,null,null,"U6=",{"$f":"AV15/(LOG(AV4)/LOG(2))","v":0.22398521124786644}]
[21,1248,22,1253,24,1263,null,null,null,null,0,222]
[12,1359,24,1372,24,1375,null,null,null,null,0,122]
[12,1470,24,1481,24,1485,null,null,null,null,0,122,null,"Total Target Seq"]
[21,1596,22,1604,24,1612,null,null,null,null,0,222,null,{"$f":"COUNTIF(L7:L214,G3)","v":0},null,35,34,35,35,34,35]
[21,1720,22,1724,24,1729,null,null,null,null,0,222,null,null,null,"% of reinforcement given in 6 equal intervals based on number of trials "]
[21,1839,22,1841,24,1844,null,null,null,null,0,222,null,null,null,"%_1","%_2","%_3","%_4","%_5","%_6"]
[12,1941,13,1943,24,1956,null,null,null,null,0,112,null,null,"target sequence",{"$f":"$G$3","v":211},{"$f":"$G$3","v":211},{"$f":"$G$3","v":211},{"$f":"$G$3","v":211},{"$f":"$G$3","v":211},{"$f":"$G$3","v":211}]
[21,2063,22,2068,24,2072,null,null,null,null,0,222,null,null,"total reinforcement",{"$f":"U11","v":0},{"$f":"Z11","v":0},{"$f":"AE11","v":0},{"$f":"AJ11","v":0},{"$f":"AO11","v":0},{"$f":"AT11","v":0}]
[21,2173,22,2180,24,2185,null,null,null,null,0,222,null,null,"% target"]
[21,2297,22,2302,24,2315,null,null,null,null,0,222,null,null,"CCRF"]
[12,2411,24,2428,24,2433,null,null,null,null,0,122,null,null,"% CCRf"]
[12,2532,24,2545,24,2549,null,null,null,null,0,122,null,null,"average response rate",{"$f":"F41/P20","v":116.62857142857143},{"$f":"(F75-F41)/Q20","v":112.91176470588235},{"$f":"(F110-F75)/R20","v":111.34285714285714},{"$f":"(F145-F110)/S20","v":116.22857142857143},{"$f":"(F179-F145)/T20","v":116.20588235294117},{"$f":"(F214-F179)/U20","v":116.88571428571429}]
[21,2656,22,2661,24,2663,null,null,null,null,0,222]
[12,2761,24,2773,24,2777,null,null,null,null,0,122]
[21,2888,22,2898,24,2903,null,null,null,null,0,222]
[21,3006,22,3008,24,3017,null,null,null,null,0,222]
[21,3119,22,3121,24,3123,null,null,null,null,0,222]
[21,3228,22,3231,24,3235,null,null,null,null,0,222]
[21,3371,22,3374,24,3383,null,null,null,null,0,222]
[12,3479,24,3489,24,3492,null,null,null,null,0,122]
[12,3587,24,3599,24,3603,null,null,null,null,0,122]
[12,3700,24,3711,24,3715,null,null,null,null,0,122]
[21,3826,22,3828,24,3830,null,null,null,null,0,222]
[12,3926,24,3937,24,3941,null,null,null,null,0,122]
[21,4074,22,4077,24,4082,null,null,null,null,0,222]
[12,4179,24,4194,24,4198,null,null,null,null,0,122]
[12,4314,24,4326,24,4331,null,null,null,null,0,122]
[21,4431,22,4435,24,4439,null,null,null,null,0,222]
[12,4535,24,4549,24,4555,null,null,null,null,0,122]
[12,4651,24,4659,24,4661,null,null,null,null,0,122]
[21,4766,22,4769,24,4772,null,null,null,null,0,222]
[21,4877,22,4881,24,4885,null,null,null,null,0,222]
[12,4979,24,4988,24,4991,null,null,null,null,0,122]
[12,5090,24,5099,24,5107,null,null,null,null,0,122]
[12,5203,24,5214,24,5218,null,null,null,null,0,122]
[21,5321,22,5325,24,5330,null,null,null,null,0,222]
[21,5449,22,5454,24,5458,null,null,null,null,0,222]
[12,5553,24,5562,24,5565,null,null,null,null,0,122]
[12,5660,24,5670,24,5675,null,null,null,null,0,122]
[21,5781,22,5784,24,5798,null,null,null,null,0,222]
[12,5896,24,5907,24,5911,null,null,null,null,0,122]
[12,6005,24,6017,24,6020,null,null,null,null,0,122]
[12,6114,13,6116,24,6125,null,null,null,null,0,112]
[12,6230,24,6239,24,6243,null,null,null,null,0,122]
[12,6339,24,6349,24,6353,null,null,null,null,0,122]
[12,6448,24,6458,24,6462,null,null,null,null,0,122]
[12,6558,24,6568,24,6571,null,null,null,null,0,122]
[12,6667,24,6675,24,6678,null,null,null,null,0,122]
[21,6782,22,6785,24,6789,null,null,null,null,0,222]
[21,6910,22,6914,24,6919,null,null,null,null,0,222]
[12,7014,24,7023,24,7036,null,null,null,null,0,122]
[12,7134,24,7144,24,7147,null,null,null,null,0,122]
[12,7241,24,7250,24,7253,null,null,null,null,0,122]
[12,7347,24,7357,24,7362,null,null,null,null,0,122]
[21,7463,22,7467,24,7470,null,null,null,null,0,222]
[12,7567,24,7576,24,7579,null,null,null,null,0,122]
[21,7686,22,7691,24,7696,null,null,null,null,0,222]
[12,7797,24,7805,24,7809,null,null,null,null,0,122]
[12,7908,24,7917,24,7921,null,null,null,null,0,122]
[12,8017,24,8031,24,8038,null,null,null,null,0,122]
[12,8136,24,8145,24,8148,null,null,null,null,0,122]
[12,8244,24,8255,24,8260,null,null,null,null,0,122]
[21,8366,22,8370,24,8373,null,null,null,null,0,222]
[12,8469,24,8478,24,8485,null,null,null,null,0,122]
[12,8582,24,8591,24,8596,null,null,null,null,0,122]
[21,8694,22,8699,24,8706,null,null,null,null,0,222]
[21,8809,22,8813,24,8822,null,null,null,null,0,222]
[21,8927,22,8931,24,8936,null,null,null,null,0,222]
[21,9035,22,9039,24,9047,null,null,null,null,0,222]
[12,9142,24,9152,24,9155,null,null,null,null,0,122]
[21,9258,22,9261,24,9267,null,null,null,null,0,222]
[21,9371,22,9376,24,9385,null,null,null,null,0,222]
[12,9481,24,9491,24,9494,null,null,null,null,0,122]
[12,9591,24,9600,24,9604,null,null,null,null,0,122]
[21,9707,22,9712,24,9717,null,null,null,null,0,222]
[12,9809,24,9820,24,9824,null,null,null,null,0,122]
[12,9920,24,9930,24,9937,null,null,null,null,0,122]
[21,10042,22,10046,24,10051,null,null,null,null,0,222]
[12,10145,24,10155,24,10158,null,null,null,null,0,122]
[12,10254,24,10265,24,10268,null,null,null,null,0,122]
[12,10365,24,10376,24,10380,null,null,null,null,0,122]
[12,10476,24,10487,24,10491,null,null,null,null,0,122]
[12,10590,24,10602,24,10607,null,null,null,null,0,122]
[21,10707,22,10710,24,10715,null,null,null,null,0,222]
[12,10811,24,10821,24,10825,null,null,null,null,0,122]
[12,10922,24,10932,24,10935,null,null,null,null,0,122]
[12,11029,24,11041,24,11044,null,null,null,null,0,122]
[12,11136,24,11146,24,11150,null,null,null,null,0,122]
[21,11256,22,11262,24,11267,null,null,null,null,0,222]
[12,11363,24,11375,24,11377,null,null,null,null,0,122]
[12,11469,24,11479,24,11483,null,null,null,null,0,122]
[12,11580,24,11589,24,11593,null,null,null,null,0,122]
[21,11699,22,11703,24,11708,null,null,null,null,0,222]
[12,11802,24,11813,24,11818,null,null,null,null,0,122]
[21,11946,22,11949,24,11953,null,null,null,null,0,222]
[12,12051,24,12062,24,12066,null,null,null,null,0,122]
[21,12171,22,12179,24,12185,null,null,null,null,0,222]
[12,12276,24,12287,24,12291,null,null,null,null,0,122]
[12,12389,24,12400,24,12404,null,null,null,null,0,122]
[12,12501,24,12512,24,12516,null,null,null,null,0,122]
[12,12627,24,12637,24,12644,null,null,null,null,0,122]
[21,12765,22,12768,24,12772,null,null,null,null,0,222]
[12,12866,24,12876,24,12880,null,null,null,null,0,122]
[21,13003,22,13006,24,13009,null,null,null,null,0,222]
[12,13106,24,13116,24,13119,null,null,null,null,0,122]
[21,13218,22,13222,24,13226,null,null,null,null,0,222]
[12,13322,24,13337,24,13340,null,null,null,null,0,122]
[21,13445,22,13448,24,13452,null,null,null,null,0,222]
[21,13562,22,13566,24,13574,null,null,null,null,0,222]
[12,13672,24,13682,24,13689,null,null,null,null,0,122]
[21,13794,22,13798,24,13804,null,null,null,null,0,222]
[12,13901,24,13915,24,13918,null,null,null,null,0,122]
[12,14013,24,14022,24,14026,null,null,null,null,0,122]
[12,14121,24,14131,24,14135,null,null,null,null,0,122]
[12,14230,24,14238,24,14242,null,null,null,null,0,122]
[12,14337,24,14347,24,14351,null,null,null,null,0,122]
[12,14448,24,14454,24,14458,null,null,null,null,0,122]
[21,14573,22,14579,24,14586,null,null,null,null,0,222]
[12,14684,24,14694,24,14697,null,null,null,null,0,122]
[21,14797,22,14800,24,14805,null,null,null,null,0,222]
[12,14904,24,14918,24,14922,null,null,null,null,0,122]
[12,15014,24,15026,24,15029,null,null,null,null,0,122]
[12,15150,24,15161,24,15165,null,null,null,null,0,122]
[12,15261,24,15272,24,15275,null,null,null,null,0,122]
[12,15372,24,15385,24,15393,null,null,null,null,0,122]
[12,15491,24,15498,24,15503,null,null,null,null,0,122]
[21,15606,22,15609,24,15614,null,null,null,null,0,222]
[12,15747,24,15759,24,15763,null,null,null,null,0,122]
[21,15872,22,15876,24,15886,null,null,null,null,0,222]
[21,15989,22,15992,24,15996,null,null,null,null,0,222]
[21,16104,22,16107,24,16113,null,null,null,null,0,222]
[21,16249,22,16256,24,16259,null,null,null,null,0,222]
[21,16369,22,16383,24,16389,null,null,null,null,0,222]
[12,16486,24,16494,24,16497,null,null,null,null,0,122]
[21,16609,22,16612,24,16616,null,null,null,null,0,222]
[21,16721,22,16725,24,16729,null,null,null,null,0,222]
[21,16833,22,16836,24,16841,null,null,null,null,0,222]
[12,16937,24,16948,24,16952,null,null,null,null,0,122]
[12,17048,24,17058,24,17061,null,null,null,null,0,122]
[21,17178,22,17180,24,17182,null,null,null,null,0,222]
[21,17288,22,17292,24,17296,null,null,null,null,0,222]
[12,17392,24,17401,24,17405,null,null,null,null,0,122]
[21,17504,22,17508,24,17516,null,null,null,null,0,222]
[12,17614,24,17631,24,17640,null,null,null,null,0,122]
[12,17736,24,17745,24,17748,null,null,null,null,0,122]
[12,17845,24,17857,24,17861,null,null,null,null,0,122]
[12,17953,24,17962,24,17965,null,null,null,null,0,122]
[21,18103,22,18107,24,18113,null,null,null,null,0,222]
[12,18207,24,18220,24,18229,null,null,null,null,0,122]
[21,18333,22,18337,24,18348,null,null,null,null,0,222]
[21,18448,22,18453,24,18456,null,null,null,null,0,222]
[12,18555,24,18567,24,18571,null,null,null,null,0,122]
[12,18666,24,18678,24,18682,null,null,null,null,0,122]
[12,18778,24,18787,24,18791,null,null,null,null,0,122]
[12,18889,24,18904,24,18908,null,null,null,null,0,122]
[21,19038,22,19043,24,19050,null,null,null,null,0,222]
[21,19159,22,19163,24,19168,null,null,null,null,0,222]
[21,19273,22,19277,24,19282,null,null,null,null,0,222]
[12,19379,13,19381,24,19394,null,null,null,null,0,112]
[12,19490,13,19493,24,19505,null,null,null,null,0,112]
[12,19598,24,19611,24,19615,null,null,null,null,0,122]
[12,19714,24,19726,24,19729,null,null,null,null,0,122]
[21,19829,22,19834,24,19837,null,null,null,null,0,222]
[12,19936,24,19945,24,19948,null,null,null,null,0,122]
[12,20046,24,20056,24,20064,null,null,null,null,0,122]
[12,20161,24,20174,24,20178,null,null,null,null,0,122]
[21,20294,22,20298,24,20306,null,null,null,null,0,222]
[21,20419,22,20423,24,20428,null,null,null,null,0,222]
[12,20526,24,20536,24,20539,null,null,null,null,0,122]
[12,20636,13,20638,24,20648,null,null,null,null,0,112]
[12,20745,24,20757,24,20761,null,null,null,null,0,122]
[21,20863,22,20867,24,20874,null,null,null,null,0,222]
[21,20973,22,20978,24,20989,null,null,null,null,0,222]
[21,21096,22,21099,24,21103,null,null,null,null,0,222]
[12,21200,24,21211,24,21215,null,null,null,null,0,122]
[12,21313,24,21326,24,21330,null,null,null,null,0,122]
[12,21429,24,21443,24,21447,null,null,null,null,0,122]
[21,21546,22,21550,24,21553,null,null,null,null,0,222]
[12,21650,24,21661,24,21668,null,null,null,null,0,122]
[21,21772,22,21776,24,21785,null,null,null,null,0,222]
[21,21884,22,21885,24,21891,null,null,null,null,0,222]
[21,21997,22,22002,24,22007,null,null,null,null,0,222]
[21,22109,22,22113,24,22117,null,null,null,null,0,222]
[12,22213,24,22225,24,22229,null,null,null,null,0,122]
[21,22335,22,22339,24,22345,null,null,null,null,0,222]
[21,22464,22,22468,24,22472,null,null,null,null,0,222]
[21,22688,22,22691,24,22695,null,null,null,null,0,222]
[21,22804,22,22808,24,22817,null,null,null,null,0,222]
[21,22918,22,22921,24,22926,null,null,null,null,0,222]
[21,23028,22,23034,24,23037,null,null,null,null,0,222]
[12,23131,24,23138,24,23147,null,null,null,null,0,122]
[21,23249,22,23253,24,23257,null,null,null,null,0,222]
[21,23359,22,23363,24,23368,null,null,null,null,0,222]
[12,23465,24,23475,24,23479,null,null,null,null,0,122]
[21,23589,22,23597,24,23602,null,null,null,null,0,222]
[12,23700,24,23706,24,23711,null,null,null,null,0,122]
[12,23804,24,23815,24,23819,null,null,null,null,0,122]
[12,23917,24,23924,24,23928,null,null,null,null,1,122]

{"sheet":"!L906A4T.ayl","index":12,"n_rows":190,"n_cols":48,"rows_kept":190,"cut":false,"hidden":false,"merged":[[4,39,4,42],[5,39,5,40],[4,44,4,47],[5,44,5,45],[4,24,4,27],[5,24,5,25],[4,29,4,32],[5,29,5,30],[4,34,4,37],[5,34,5,35],[1,1,1,2],[5,13,5,14],[18,13,18,14],[19,13,19,14],[4,19,4,22],[5,19,5,20]]}
["Report for:!L906A4T.ayl"]
["Date:","<date>"]
["Hen:","<hen>",null,null,null,"Correct Sequence",{"$f":"Start!J2","v":211},null,null,null,null,null,null,null,null,"Total Sequences in Data",{"$f":"4994-COUNTBLANK(L7:L5000)","v":184},null,null,null,null,"Total Sequences in Block Data",{"$f":"COUNTA(L7:L37)","v":31},null,null,null,"Total Sequences in Block Data",{"$f":"COUNTA(L38:L67)","v":30},null,null,null,"Total Sequences in Block Data",{"$f":"COUNTA(L68:L98)","v":31},null,null,null,"Total Sequences in Block Data",{"$f":"COUNTA(L99:L129)","v":31},null,null,null,"Total Sequences in Block Data",{"$f":"COUNTA(L130:L159)","v":30},null,null,null,"Total Sequences in Block Data",{"$f":"COUNTA(L160:L190)","v":31}]
[null,null,null,null,null,null,null,null,null,null,null,null,null,null,null,"Total Sequences in Summary",{"$f":"SUM(O7:O14)","v":184},null,null,null,null,"Total Sequences in Block Summary",{"$f":"SUM(U7:U14)","v":31},null,null,null,"Total Sequences in Block Summary",{"$f":"SUM(Z7:Z14)","v":30},null,null,null,"Total Sequences in Block Summary",{"$f":"SUM(AE7:AE14)","v":31},null,null,null,"Total Sequences in Block Summary",{"$f":"SUM(AJ7:AJ14)","v":31},null,null,null,"Total Sequences in Block Summary",{"$f":"SUM(AO7:AO14)","v":30},null,null,null,"Total Sequences in Block Summary",{"$f":"SUM(AT7:AT14)","v":31}]
[null,null,null,null,null,null,null,null,null,null,null,null,null,null,null,null,null,null,null,"Block 1",null,null,null,null,"Block 2",null,null,null,null,"Block 3",null,null,null,null,"Block 4",null,null,null,null,"Block 5",null,null,null,null,"Block 6"]
["Sequence\nComponent\n1","Time\n1","Sequence\nComponent\n2","Time\n2","Sequence\nComponent\n3","Time\n3","Sequence\nComponent\n4","Time\n4","Sequence\nComponent\n5","Time\n5","Correct?\n0=No 1=Yes","Sequence",null,"Frequency",null,"Relative Frequency","Variability",null,null,"Frequency",null,"Relative Frequency","Variability",null,"Frequency",null,"Relative Frequency","Variability",null,"Frequency",null,"Relative Frequency","Variability",null,"Frequency",null,"Relative Frequency","Variability",null,"Frequency",null,"Relative Frequency","Variability",null,"Frequency",null,"Relative Frequency","Variability"]
[21,31,22,36,24,45,null,null,null,null,0,222,null,111,{"$f":"COUNTIF($L$7:$L$500,N7)","v":0},{"$f":"O7/$Q$4","v":0},{"$f":"IF(P7=0,0,(P7*((LOG(P7))/LOG(2))))","v":0},null,null,{"$f":"N7","v":111},{"$f":"COUNTIF(L7:L37,T7)","v":0},{"$f":"U7/(W4-U11)","v":0},{"$f":"IF(V7=0,0,(V7*((LOG(V7))/LOG(2))))","v":0},null,{"$f":"N7","v":111},{"$f":"COUNTIF(L38:L67,Y7)","v":0},{"$f":"Z7/(AB4-Z11)","v":0},{"$f":"IF(AA7=0,0,(AA7*((LOG(AA7))/LOG(2))))","v":0},null,{"$f":"N7","v":111},{"$f":"COUNTIF(L68:L98,AD7)","v":0},{"$f":"AE7/(AG4-AE11)","v":0},{"$f":"IF(AF7=0,0,(AF7*((LOG(AF7))/LOG(2))))","v":0},null,{"$f":"N7","v":111},{"$f":"COUNTIF(L99:L129,AI7)","v":0},{"$f":"AJ7/(AL4-AJ11)","v":0},{"$f":"IF(AK7=0,0,(AK7*((LOG(AK7))/LOG(2))))","v":0},null,{"$f":"N7","v":111},{"$f":"COUNTIF(L130:L159,AN7)","v":0},{"$f":"AO7/(AQ4-AO11)","v":0},{"$f":"IF(AP7=0,0,(AP7*((LOG(AP7))/LOG(2))))","v":0},null,{"$f":"N7","v":111},{"$f":"COUNTIF(L160:L190,AS7)","v":0},{"$f":"AT7/(AV4-AT11)","v":0},{"$f":"IF(AU7=0,0,(AU7*((LOG(AU7))/LOG(2))))","v":0}]
[21,150,22,159,24,165,null,null,null,null,0,222,null,112,{"$f":"COUNTIF($L$7:$L$500,N8)","v":13},{"$f":"O8/$Q$4","v":7.0652173913043473E-2},{"$f":"IF(P8=0,0,(P8*((LOG(P8))/LOG(2))))","v":-0.2701118972440596},null,null,{"$f":"N8","v":112},{"$f":"COUNTIF(L7:L37,T8)","v":0},{"$f":"U8/(W4-U11)","v":0},{"$f":"IF(V8=0,0,(V8*((LOG(V8))/LOG(2))))","v":0},null,{"$f":"N8","v":112},{"$f":"COUNTIF(L38:L67,Y8)","v":0},{"$f":"Z8/(AB4-Z11)","v":0},{"$f":"IF(AA8=0,0,(AA8*((LOG(AA8))/LOG(2))))","v":0},null,{"$f":"N8","v":112},{"$f":"COUNTIF(L68:L98,AD8)","v":4},{"$f":"AE8/(AG4-AE11)","v":0.12903225806451613},{"$f":"IF(AF8=0,0,(AF8*((LOG(AF8))/LOG(2))))","v":-0.38118662069508069},null,{"$f":"N8","v":112},{"$f":"COUNTIF(L99:L129,AI8)","v":8},{"$f":"AJ8/(AL4-AJ11)","v":0.25806451612903225},{"$f":"IF(AK8=0,0,(AK8*((LOG(AK8))/LOG(2))))","v":-0.50430872526112902},null,{"$f":"N8","v":112},{"$f":"COUNTIF(L130:L159,AN8)","v":1},{"$f":"AO8/(AQ4-AO11)","v":3.3333333333333333E-2},{"$f":"IF(AP8=0,0,(AP8*((LOG(AP8))/LOG(2))))","v":-0.16356301985361729},null,{"$f":"N8","v":112},{"$f":"COUNTIF(L160:L190,AS8)","v":0},{"$f":"AT8/(AV4-AT11)","v":0},{"$f":"IF(AU8=0,0,(AU8*((LOG(AU8))/LOG(2))))","v":0}]
[21,277,22,282,24,286,null,null,null,null,0,222,null,121,{"$f":"COUNTIF($L$7:$L$500,N9)","v":0},{"$f":"O9/$Q$4","v":0},{"$f":"IF(P9=0,0,(P9*((LOG(P9))/LOG(2))))","v":0},null,null,{"$f":"N9","v":121},{"$f":"COUNTIF(L7:L37,T9)","v":0},{"$f":"U9/(W4-U11)","v":0},{"$f":"IF(V9=0,0,(V9*((LOG(V9))/LOG(2))))","v":0},null,{"$f":"N9","v":121},{"$f":"COUNTIF(L38:L67,Y9)","v":0},{"$f":"Z9/(AB4-Z11)","v":0},{"$f":"IF(AA9=0,0,(AA9*((LOG(AA9))/LOG(2))))","v":0},null,{"$f":"N9","v":121},{"$f":"COUNTIF(L68:L98,AD9)","v":0},{"$f":"AE9/(AG4-AE11)","v":0},{"$f":"IF(AF9=0,0,(AF9*((LOG(AF9))/LOG(2))))","v":0},null,{"$f":"N9","v":121},{"$f":"COUNTIF(L99:L129,AI9)","v":0},{"$f":"AJ9/(AL4-AJ11)","v":0},{"$f":"IF(AK9=0,0,(AK9*((LOG(AK9))/LOG(2))))","v":0},null,{"$f":"N9","v":121},{"$f":"COUNTIF(L130:L159,AN9)","v":0},{"$f":"AO9/(AQ4-AO11)","v":0},{"$f":"IF(AP9=0,0,(AP9*((LOG(AP9))/LOG(2))))","v":0},null,{"$f":"N9","v":121},{"$f":"COUNTIF(L160:L190,AS9)","v":0},{"$f":"AT9/(AV4-AT11)","v":0},{"$f":"IF(AU9=0,0,(AU9*((LOG(AU9))/LOG(2))))","v":0}]
[21,396,22,402,24,407,null,null,null,null,0,222,null,122,{"$f":"COUNTIF($L$7:$L$500,N10)","v":62},{"$f":"O10/$Q$4","v":0.33695652173913043},{"$f":"IF(P10=0,0,(P10*((LOG(P10))/LOG(2))))","v":-0.52880798930189421},null,null,{"$f":"N10","v":122},{"$f":"COUNTIF(L7:L37,T10)","v":21},{"$f":"U10/(W4-U11)","v":0.67741935483870963},{"$f":"IF(V10=0,0,(V10*((LOG(V10))/LOG(2))))","v":-0.38062763354098111},null,{"$f":"N10","v":122},{"$f":"COUNTIF(L38:L67,Y10)","v":14},{"$f":"Z10/(AB4-Z11)","v":0.46666666666666667},{"$f":"IF(AA10=0,0,(AA10*((LOG(AA10))/LOG(2))))","v":-0.51311664765709342},null,{"$f":"N10","v":122},{"$f":"COUNTIF(L68:L98,AD10)","v":13},{"$f":"AE10/(AG4-AE11)","v":0.41935483870967744},{"$f":"IF(AF10=0,0,(AF10*((LOG(AF10))/LOG(2))))","v":-0.52576889352242517},null,{"$f":"N10","v":122},{"$f":"COUNTIF(L99:L129,AI10)","v":10},{"$f":"AJ10/(AL4-AJ11)","v":0.32258064516129031},{"$f":"IF(AK10=0,0,(AK10*((LOG(AK10))/LOG(2))))","v":-0.52653813403210092},null,{"$f":"N10","v":122},{"$f":"COUNTIF(L130:L159,AN10)","v":2},{"$f":"AO10/(AQ4-AO11)","v":6.6666666666666666E-2},{"$f":"IF(AP10=0,0,(AP10*((LOG(AP10))/LOG(2))))","v":-0.26045937304056793},null,{"$f":"N10","v":122},{"$f":"COUNTIF(L160:L190,AS10)","v":2},{"$f":"AT10/(AV4-AT11)","v":6.4516129032258063E-2},{"$f":"IF(AU10=0,0,(AU10*((LOG(AU10))/LOG(2))))","v":-0.25510943937979835}]
[12,496,24,512,24,517,null,null,null,null,0,122,null,211,{"$f":"COUNTIF($L$7:$L$500,N11)","v":0},{"$f":"O11/$Q$4","v":0},{"$f":"IF(P11=0,0,(P11*((LOG(P11))/LOG(2))))","v":0},null,null,{"$f":"N11","v":211},{"$f":"COUNTIF(L7:L37,T11)","v":0},null,null,null,{"$f":"N11","v":211},{"$f":"COUNTIF(L38:L67,Y11)","v":0},null,null,null,{"$f":"N11","v":211},{"$f":"COUNTIF(L68:L98,AD11)","v":0},null,null,null,{"$f":"N11","v":211},{"$f":"COUNTIF(L99:L129,AI11)","v":0},null,null,null,{"$f":"N11","v":211},{"$f":"COUNTIF(L130:L159,AN11)","v":0},null,null,null,{"$f":"N11","v":211},{"$f":"COUNTIF(L160:L190,AS11)","v":0}]
[12,607,24,617,24,620,null,null,null,null,0,122,null,212,{"$f":"COUNTIF($L$7:$L$500,N12)","v":0},{"$f":"O12/$Q$4","v":0},{"$f":"IF(P12=0,0,(P12*((LOG(P12))/LOG(2))))","v":0},null,null,{"$f":"N12","v":212},{"$f":"COUNTIF(L7:L37,T12)","v":0},{"$f":"U12/(W4-U11)","v":0},{"$f":"IF(V12=0,0,(V12*((LOG(V12))/LOG(2))))","v":0},null,{"$f":"N12","v":212},{"$f":"COUNTIF(L38:L67,Y12)","v":0},{"$f":"Z12/(AB4-Z11)","v":0},{"$f":"IF(AA12=0,0,(AA12*((LOG(AA12))/LOG(2))))","v":0},null,{"$f":"N12","v":212},{"$f":"COUNTIF(L68:L98,AD12)","v":0},{"$f":"AE12/(AG4-AE11)","v":0},{"$f":"IF(AF12=0,0,(AF12*((LOG(AF12))/LOG(2))))","v":0},null,{"$f":"N12","v":212},{"$f":"COUNTIF(L99:L129,AI12)","v":0},{"$f":"AJ12/(AL4-AJ11)","v":0},{"$f":"IF(AK12=0,0,(AK12*((LOG(AK12))/LOG(2))))","v":0},null,{"$f":"N12","v":212},{"$f":"COUNTIF(L130:L159,AN12)","v":0},{"$f":"AO12/(AQ4-AO11)","v":0},{"$f":"IF(AP12=0,0,(AP12*((LOG(AP12))/LOG(2))))","v":0},null,{"$f":"N12","v":212},{"$f":"COUNTIF(L160:L190,AS12)","v":0},{"$f":"AT12/(AV4-AT11)","v":0},{"$f":"IF(AU12=0,0,(AU12*((LOG(AU12))/LOG(2))))","v":0}]
[12,716,24,728,24,731,null,null,null,null,0,122,null,221,{"$f":"COUNTIF($L$7:$L$500,N13)","v":0},{"$f":"O13/$Q$4","v":0},{"$f":"IF(P13=0,0,(P13*((LOG(P13))/LOG(2))))","v":0},null,null,{"$f":"N13","v":221},{"$f":"COUNTIF(L7:L37,T13)","v":0},{"$f":"U13/(W4-U11)","v":0},{"$f":"IF(V13=0,0,(V13*((LOG(V13))/LOG(2))))","v":0},null,{"$f":"N13","v":221},{"$f":"COUNTIF(L38:L67,Y13)","v":0},{"$f":"Z13/(AB4-Z11)","v":0},{"$f":"IF(AA13=0,0,(AA13*((LOG(AA13))/LOG(2))))","v":0},null,{"$f":"N13","v":221},{"$f":"COUNTIF(L68:L98,AD13)","v":0},{"$f":"AE13/(AG4-AE11)","v":0},{"$f":"IF(AF13=0,0,(AF13*((LOG(AF13))/LOG(2))))","v":0},null,{"$f":"N13","v":221},{"$f":"COUNTIF(L99:L129,AI13)","v":0},{"$f":"AJ13/(AL4-AJ11)","v":0},{"$f":"IF(AK13=0,0,(AK13*((LOG(AK13))/LOG(2))))","v":0},null,{"$f":"N13","v":221},{"$f":"COUNTIF(L130:L159,AN13)","v":0},{"$f":"AO13/(AQ4-AO11)","v":0},{"$f":"IF(AP13=0,0,(AP13*((LOG(AP13))/LOG(2))))","v":0},null,{"$f":"N13","v":221},{"$f":"COUNTIF(L160:L190,AS13)","v":0},{"$f":"AT13/(AV4-AT11)","v":0},{"$f":"IF(AU13=0,0,(AU13*((LOG(AU13))/LOG(2))))","v":0}]
[12,826,24,837,24,851,null,null,null,null,0,122,null,222,{"$f":"COUNTIF($L$7:$L$500,N14)","v":109},{"$f":"O14/$Q$4","v":0.59239130434782605},{"$f":"IF(P14=0,0,(P14*((LOG(P14))/LOG(2))))","v":-0.44747914026918173},null,null,{"$f":"N14","v":222},{"$f":"COUNTIF(L7:L37,T14)","v":10},{"$f":"U14/(W4-U11)","v":0.32258064516129031},{"$f":"IF(V14=0,0,(V14*((LOG(V14))/LOG(2))))","v":-0.52653813403210092},null,{"$f":"N14","v":222},{"$f":"COUNTIF(L38:L67,Y14)","v":16},{"$f":"Z14/(AB4-Z11)","v":0.53333333333333333},{"$f":"IF(AA14=0,0,(AA14*((LOG(AA14))/LOG(2))))","v":-0.4836749843245432},null,{"$f":"N14","v":222},{"$f":"COUNTIF(L68:L98,AD14)","v":14},{"$f":"AE14/(AG4-AE11)","v":0.45161290322580644},{"$f":"IF(AF14=0,0,(AF14*((LOG(AF14))/LOG(2))))","v":-0.51792836892289662},null,{"$f":"N14","v":222},{"$f":"COUNTIF(L99:L129,AI14)","v":13},{"$f":"AJ14/(AL4-AJ11)","v":0.41935483870967744},{"$f":"IF(AK14=0,0,(AK14*((LOG(AK14))/LOG(2))))","v":-0.52576889352242517},null,{"$f":"N14","v":222},{"$f":"COUNTIF(L130:L159,AN14)","v":27},{"$f":"AO14/(AQ4-AO11)","v":0.9},{"$f":"IF(AP14=0,0,(AP14*((LOG(AP14))/LOG(2))))","v":-0.13680278410054494},null,{"$f":"N14","v":222},{"$f":"COUNTIF(L160:L190,AS14)","v":29},{"$f":"AT14/(AV4-AT11)","v":0.93548387096774188},{"$f":"IF(AU14=0,0,(AU14*((LOG(AU14))/LOG(2))))","v":-9.0007875565154577E-2}]
[12,945,24,957,24,961,null,null,null,null,0,122,null,null,null,{"$f":"SUM(P7:P14)","v":1},{"$f":"-SUM(Q7:Q14)","v":1.2463990268151355},null,null,null,null,{"$f":"SUM(V7:V14)","v":1},{"$f":"-SUM(W7:W14)","v":0.90716576757308198},null,null,null,{"$f":"SUM(AA7:AA14)","v":1},{"$f":"-SUM(AB7:AB14)","v":0.99679163198163656},null,null,null,{"$f":"SUM(AF7:AF14)","v":1},{"$f":"-SUM(AG7:AG14)","v":1.4248838831404025},null,null,null,{"$f":"SUM(AK7:AK14)","v":1},{"$f":"-SUM(AL7:AL14)","v":1.556615752815655},null,null,null,{"$f":"SUM(AP7:AP14)","v":1},{"$f":"-SUM(AQ7:AQ14)","v":0.56082517699473011},null,null,null,{"$f":"SUM(AU7:AU14)","v":1},{"$f":"-SUM(AV7:AV14)","v":0.3451173149449529}]
[12,1058,24,1073,24,1078,null,null,null,null,0,122,null,null,null,"U=",{"$f":"Q15/(LOG(Q4)/LOG(2))","v":0.16566608131826363},null,null,null,null,"U1=",{"$f":"W15/(LOG(W4)/LOG(2))","v":0.18311058156317611},null,null,null,"U2=",{"$f":"AB15/(LOG(AB4)/LOG(2))","v":0.20314119757912014},null,null,null,"U3=",{"$f":"AG15/(LOG(AG4)/LOG(2))","v":0.28761151029744575},null,null,null,"U4=",{"$f":"AL15/(LOG(AL4)/LOG(2))","v":0.31420146786514769},null,null,null,"U5=",{"$f":"AQ15/(LOG(AQ4)/LOG(2))","v":0.11429339335518249},null,null,null,"U6=",{"$f":"AV15/(LOG(AV4)/LOG(2))","v":6.9661614785305623E-2}]
[21,1182,22,1186,24,1191,null,null,null,null,0,222]
[12,1287,24,1298,24,1302,null,null,null,null,0,122]
[12,1400,24,1415,24,1420,null,null,null,null,0,122,null,"Total Target Seq"]
[12,1516,24,1526,24,1530,null,null,null,null,0,122,null,{"$f":"COUNTIF(L7:L190,G3)","v":0},null,31,30,31,31,30,31]
[21,1627,22,1629,24,1633,null,null,null,null,0,222,null,null,null,"% of reinforcement given in 6 equal intervals based on number of trials "]
[21,1752,22,1757,24,1761,null,null,null,null,0,222,null,null,null,"%_1","%_2","%_3","%_4","%_5","%_6"]
[12,1851,24,1861,24,1865,null,null,null,null,0,122,null,null,"target sequence",{"$f":"$G$3","v":211},{"$f":"$G$3","v":211},{"$f":"$G$3","v":211},{"$f":"$G$3","v":211},{"$f":"$G$3","v":211},{"$f":"$G$3","v":211}]
[12,1963,24,1973,24,1977,null,null,null,null,0,122,null,null,"total reinforcement",{"$f":"U11","v":0},{"$f":"Z11","v":0},{"$f":"AE11","v":0},{"$f":"AJ11","v":0},{"$f":"AO11","v":0},{"$f":"AT11","v":0}]
[12,2072,24,2083,24,2087,null,null,null,null,0,122,null,null,"% target"]
[12,2183,24,2192,24,2197,null,null,null,null,0,122,null,null,"CCRF"]
[12,2296,24,2307,24,2310,null,null,null,null,0,122,null,null,"% CCRf"]
[12,2403,24,2417,24,2422,null,null,null,null,0,122,null,null,"average response rate",{"$f":"F37/P20","v":110.29032258064517},{"$f":"(F67-F37)/Q20","v":115.06666666666666},{"$f":"(F98-F67)/R20","v":125.38709677419355},{"$f":"(F129-F98)/S20","v":117.64516129032258},{"$f":"(F159-F129)/T20","v":158.9},{"$f":"(F190-F159)/U20","v":152.35483870967741}]
[21,2519,22,2523,24,2528,null,null,null,null,0,222]
[21,2632,22,2636,24,2645,null,null,null,null,0,222]
[12,2741,24,2751,24,2755,null,null,null,null,0,122]
[12,2850,24,2859,24,2862,null,null,null,null,0,122]
[12,2959,24,2973,24,2980,null,null,null,null,0,122]
[12,3076,24,3086,24,3090,null,null,null,null,0,122]
[12,3183,24,3191,24,3195,null,null,null,null,0,122]
[12,3289,24,3303,24,3308,null,null,null,null,0,122]
[21,3409,22,3413,24,3419,null,null,null,null,0,222]
[21,3528,22,3531,24,3535,null,null,null,null,0,222]
[12,3631,24,3641,24,3644,null,null,null,null,0,122]
[12,3743,24,3754,24,3759,null,null,null,null,0,122]
[21,3863,22,3867,24,3872,null,null,null,null,0,222]
[12,3964,24,3974,24,3981,null,null,null,null,0,122]
[12,4078,24,4090,24,4094,null,null,null,null,0,122]
[21,4259,22,4264,24,4269,null,null,null,null,0,222]
[21,4369,22,4373,24,4376,null,null,null,null,0,222]
[21,4481,22,4485,24,4494,null,null,null,null,0,222]
[12,4590,24,4599,24,4606,null,null,null,null,0,122]
[12,4697,24,4708,24,4712,null,null,null,null,0,122]
[21,4820,22,4824,24,4828,null,null,null,null,0,222]
[21,4926,22,4929,24,4938,null,null,null,null,0,222]
[12,5035,24,5050,24,5054,null,null,null,null,0,122]
[21,5160,22,5163,24,5168,null,null,null,null,0,222]
[12,5265,24,5275,24,5278,null,null,null,null,0,122]
[21,5380,22,5385,24,5389,null,null,null,null,0,222]
[12,5481,24,5491,24,5495,null,null,null,null,0,122]
[12,5590,24,5603,24,5606,null,null,null,null,0,122]
[21,5712,22,5717,24,5721,null,null,null,null,0,222]
[12,5819,24,5831,24,5835,null,null,null,null,0,122]
[12,5933,24,5948,24,5952,null,null,null,null,0,122]
[21,6060,22,6064,24,6068,null,null,null,null,0,222]
[21,6193,22,6197,24,6200,null,null,null,null,0,222]
[21,6301,22,6304,24,6308,null,null,null,null,0,222]
[12,6404,24,6418,24,6422,null,null,null,null,0,122]
[21,6523,22,6528,24,6533,null,null,null,null,0,222]
[21,6642,22,6647,24,6651,null,null,null,null,0,222]
[12,6747,24,6756,24,6759,null,null,null,null,0,122]
[21,6863,22,6866,24,6871,null,null,null,null,0,222]
[12,6968,24,6983,24,6988,null,null,null,null,0,122]
[12,7086,24,7095,24,7099,null,null,null,null,0,122]
[12,7195,24,7208,24,7212,null,null,null,null,0,122]
[12,7310,24,7320,24,7323,null,null,null,null,0,122]
[12,7421,24,7432,24,7436,null,null,null,null,0,122]
[12,7541,24,7549,24,7552,null,null,null,null,0,122]
[12,7651,24,7660,24,7664,null,null,null,null,0,122]
[12,7761,13,7764,24,7779,null,null,null,null,0,112]
[12,7871,13,7877,24,7886,null,null,null,null,0,112]
[12,7984,24,7994,24,7998,null,null,null,null,0,122]
[21,8112,22,8116,24,8121,null,null,null,null,0,222]
[21,8228,22,8232,24,8239,null,null,null,null,0,222]
[12,8336,13,8339,24,8352,null,null,null,null,0,112]
[12,8450,24,8464,24,8469,null,null,null,null,0,122]
[12,8563,24,8570,24,8575,null,null,null,null,0,122]
[12,8671,24,8682,24,8687,null,null,null,null,0,122]
[21,8784,22,8787,24,8791,null,null,null,null,0,222]
[12,8886,24,8897,24,8901,null,null,null,null,0,122]
[21,9012,22,9016,24,9022,null,null,null,null,0,222]
[21,9127,22,9131,24,9136,null,null,null,null,0,222]
[21,9243,22,9248,24,9254,null,null,null,null,0,222]
[21,9648,22,9652,24,9656,null,null,null,null,0,222]
[21,9778,22,9782,24,9786,null,null,null,null,0,222]
[21,9974,22,9980,24,9983,null,null,null,null,0,222]
[21,10087,22,10090,24,10093,null,null,null,null,0,222]
[21,10192,22,10196,24,10199,null,null,null,null,0,222]
[21,10299,22,10303,24,10308,null,null,null,null,0,222]
[12,10406,24,10417,24,10420,null,null,null,null,0,122]
[21,10524,22,10529,24,10531,null,null,null,null,0,222]
[12,10628,13,10631,24,10644,null,null,null,null,0,112]
[21,10745,22,10752,24,10758,null,null,null,null,0,222]
[12,10854,24,10862,24,10865,null,null,null,null,0,122]
[21,10969,22,10972,24,10976,null,null,null,null,0,222]
[21,11086,22,11090,24,11096,null,null,null,null,0,222]
[12,11194,13,11197,24,11210,null,null,null,null,0,112]
[21,11314,22,11318,24,11322,null,null,null,null,0,222]
[21,11428,22,11433,24,11438,null,null,null,null,0,222]
[12,11534,24,11550,24,11554,null,null,null,null,0,122]
[21,11659,22,11663,24,11672,null,null,null,null,0,222]
[12,11770,13,11773,24,11784,null,null,null,null,0,112]
[21,11895,22,11900,24,11905,null,null,null,null,0,222]
[12,11999,24,12017,24,12033,null,null,null,null,0,122]
[12,12127,24,12141,24,12145,null,null,null,null,0,122]
[12,12242,24,12257,24,12261,null,null,null,null,0,122]
[21,12463,22,12467,24,12470,null,null,null,null,0,222]
[12,12566,24,12576,24,12579,null,null,null,null,0,122]
[12,12676,13,12679,24,12691,null,null,null,null,0,112]
[12,12789,13,12793,24,12803,null,null,null,null,0,112]
[21,12909,22,12914,24,12920,null,null,null,null,0,222]
[12,13020,13,13024,24,13036,null,null,null,null,0,112]
[21,13143,22,13148,24,13156,null,null,null,null,0,222]
[21,13254,22,13257,24,13261,null,null,null,null,0,222]
[12,13357,24,13369,24,13374,null,null,null,null,0,122]
[12,13472,24,13485,24,13489,null,null,null,null,0,122]
[12,13586,13,13589,24,13601,null,null,null,null,0,112]
[12,13694,13,13698,24,13708,null,null,null,null,0,112]
[12,13805,13,13807,24,13822,null,null,null,null,0,112]
[21,13924,22,13937,24,13943,null,null,null,null,0,222]
[12,14047,24,14056,24,14061,null,null,null,null,0,122]
[12,14159,24,14172,24,14176,null,null,null,null,0,122]
[21,14285,22,14289,24,14293,null,null,null,null,0,222]
[21,14395,22,14400,24,14405,null,null,null,null,0,222]
[21,14514,22,14518,24,14527,null,null,null,null,0,222]
[12,14628,24,14631,24,14640,null,null,null,null,0,122]
[12,14736,13,14738,24,14756,null,null,null,null,0,112]
[21,14854,22,14862,24,14867,null,null,null,null,0,222]
[21,15039,22,15043,24,15047,null,null,null,null,0,222]
[21,15177,22,15181,24,15184,null,null,null,null,0,222]
[21,15365,22,15369,24,15376,null,null,null,null,0,222]
[21,15481,22,15485,24,15490,null,null,null,null,0,222]
[21,15592,22,15596,24,15600,null,null,null,null,0,222]
[12,15700,24,15710,24,15715,null,null,null,null,0,122]
[21,16029,22,16032,24,16037,null,null,null,null,0,222]
[21,16165,22,16168,24,16173,null,null,null,null,0,222]
[21,16751,22,16754,24,16758,null,null,null,null,0,222]
[21,16943,22,16946,24,16950,null,null,null,null,0,222]
[21,17097,22,17100,24,17105,null,null,null,null,0,222]
[21,17205,22,17209,24,17225,null,null,null,null,0,222]
[21,17343,22,17347,24,17351,null,null,null,null,0,222]
[21,17524,22,17528,24,17531,null,null,null,null,0,222]
[21,17653,22,17660,24,17665,null,null,null,null,0,222]
[21,17787,22,17789,24,17795,null,null,null,null,0,222]
[21,17906,22,17910,24,17914,null,null,null,null,0,222]
[21,18019,22,18024,24,18032,null,null,null,null,0,222]
[21,18227,22,18230,24,18235,null,null,null,null,0,222]
[21,18334,22,18339,24,18344,null,null,null,null,0,222]
[21,18440,22,18444,24,18448,null,null,null,null,0,222]
[21,18636,22,18640,24,18645,null,null,null,null,0,222]
[21,18753,22,18754,24,18760,null,null,null,null,0,222]
[21,18939,22,18944,24,18948,null,null,null,null,0,222]
[21,19050,22,19054,24,19059,null,null,null,null,0,222]
[21,19159,22,19163,24,19172,null,null,null,null,0,222]
[21,19276,22,19281,24,19287,null,null,null,null,0,222]
[21,19386,22,19391,24,19394,null,null,null,null,0,222]
[21,19533,22,19536,24,19541,null,null,null,null,0,222]
[21,19742,22,19748,24,19752,null,null,null,null,0,222]
[12,19844,24,19860,24,19865,null,null,null,null,0,122]
[21,19972,22,19976,24,19979,null,null,null,null,0,222]
[21,20081,22,20084,24,20089,null,null,null,null,0,222]
[21,20233,22,20235,24,20237,null,null,null,null,0,222]
[21,20397,22,20399,24,20405,null,null,null,null,0,222]
[21,20558,22,20563,24,20573,null,null,null,null,0,222]
[21,20783,22,20787,24,20791,null,null,null,null,0,222]
[21,20996,22,20999,24,21002,null,null,null,null,0,222]
[21,21161,22,21164,24,21170,null,null,null,null,0,222]
[21,21262,22,21265,24,21270,null,null,null,null,0,222]
[21,21378,22,21383,24,21389,null,null,null,null,0,222]
[21,21574,22,21581,24,21585,null,null,null,null,0,222]
[21,21969,22,21973,24,21981,null,null,null,null,0,222]
[21,22185,22,22189,24,22194,null,null,null,null,0,222]
[21,22439,22,22443,24,22449,null,null,null,null,0,222]
[21,22548,22,22552,24,22557,null,null,null,null,0,222]
[21,22658,22,22662,24,22667,null,null,null,null,0,222]
[21,22803,22,22808,24,22812,null,null,null,null,0,222]
[21,22952,22,22960,24,22964,null,null,null,null,0,222]
[12,23059,24,23068,24,23074,null,null,null,null,0,122]
[21,23176,22,23179,24,23184,null,null,null,null,0,222]
[21,23297,22,23302,24,23307,null,null,null,null,0,222]
[21,23439,22,23443,24,23448,null,null,null,null,0,222]
[21,23550,22,23557,24,23563,null,null,null,null,0,222]
[21,23671,22,23676,24,23681,null,null,null,null,0,222]
[21,23783,22,23786,24,23790,null,null,null,null,0,222]
[21,23889,22,23891,24,23895,null,null,null,null,0,222]

{"sheet":"!L907A4T.ayl","index":13,"n_rows":204,"n_cols":48,"rows_kept":204,"cut":false,"hidden":false,"merged":[[4,39,4,42],[5,39,5,40],[4,44,4,47],[5,44,5,45],[4,24,4,27],[5,24,5,25],[4,29,4,32],[5,29,5,30],[4,34,4,37],[5,34,5,35],[1,1,1,2],[5,13,5,14],[18,13,18,14],[19,13,19,14],[4,19,4,22],[5,19,5,20]]}
["Report for:!L907A4T.ayl"]
["Date:","<date>"]
["Hen:","<hen>",null,null,null,"Correct Sequence",{"$f":"Start!J2","v":211},null,null,null,null,null,null,null,null,"Total Sequences in Data",{"$f":"4994-COUNTBLANK(L7:L5000)","v":198},null,null,null,null,"Total Sequences in Block Data",{"$f":"COUNTA(L7:L39)","v":33},null,null,null,"Total Sequences in Block Data",{"$f":"COUNTA(L40:L72)","v":33},null,null,null,"Total Sequences in Block Data",{"$f":"COUNTA(L73:L105)","v":33},null,null,null,"Total Sequences in Block Data",{"$f":"COUNTA(L106:L138)","v":33},null,null,null,"Total Sequences in Block Data",{"$f":"COUNTA(L139:L171)","v":33},null,null,null,"Total Sequences in Block Data",{"$f":"COUNTA(L172:L204)","v":33}]
[null,null,null,null,null,null,null,null,null,null,null,null,null,null,null,"Total Sequences in Summary",{"$f":"SUM(O7:O14)","v":198},null,null,null,null,"Total Sequences in Block Summary",{"$f":"SUM(U7:U14)","v":33},null,null,null,"Total Sequences in Block Summary",{"$f":"SUM(Z7:Z14)","v":33},null,null,null,"Total Sequences in Block Summary",{"$f":"SUM(AE7:AE14)","v":33},null,null,null,"Total Sequences in Block Summary",{"$f":"SUM(AJ7:AJ14)","v":33},null,null,null,"Total Sequences in Block Summary",{"$f":"SUM(AO7:AO14)","v":33},null,null,null,"Total Sequences in Block Summary",{"$f":"SUM(AT7:AT14)","v":33}]
[null,null,null,null,null,null,null,null,null,null,null,null,null,null,null,null,null,null,null,"Block 1",null,null,null,null,"Block 2",null,null,null,null,"Block 3",null,null,null,null,"Block 4",null,null,null,null,"Block 5",null,null,null,null,"Block 6"]
["Sequence\nComponent\n1","Time\n1","Sequence\nComponent\n2","Time\n2","Sequence\nComponent\n3","Time\n3","Sequence\nComponent\n4","Time\n4","Sequence\nComponent\n5","Time\n5","Correct?\n0=No 1=Yes","Sequence",null,"Frequency",null,"Relative Frequency","Variability",null,null,"Frequency",null,"Relative Frequency","Variability",null,"Frequency",null,"Relative Frequency","Variability",null,"Frequency",null,"Relative Frequency","Variability",null,"Frequency",null,"Relative Frequency","Variability",null,"Frequency",null,"Relative Frequency","Variability",null,"Frequency",null,"Relative Frequency","Variability"]
[21,17,22,21,24,26,null,null,null,null,0,222,null,111,{"$f":"COUNTIF($L$7:$L$500,N7)","v":0},{"$f":"O7/$Q$4","v":0},{"$f":"IF(P7=0,0,(P7*((LOG(P7))/LOG(2))))","v":0},null,null,{"$f":"N7","v":111},{"$f":"COUNTIF(L7:L39,T7)","v":0},{"$f":"U7/(W4-U11)","v":0},{"$f":"IF(V7=0,0,(V7*((LOG(V7))/LOG(2))))","v":0},null,{"$f":"N7","v":111},{"$f":"COUNTIF(L40:L72,Y7)","v":0},{"$f":"Z7/(AB4-Z11)","v":0},{"$f":"IF(AA7=0,0,(AA7*((LOG(AA7))/LOG(2))))","v":0},null,{"$f":"N7","v":111},{"$f":"COUNTIF(L73:L105,AD7)","v":0},{"$f":"AE7/(AG4-AE11)","v":0},{"$f":"IF(AF7=0,0,(AF7*((LOG(AF7))/LOG(2))))","v":0},null,{"$f":"N7","v":111},{"$f":"COUNTIF(L106:L138,AI7)","v":0},{"$f":"AJ7/(AL4-AJ11)","v":0},{"$f":"IF(AK7=0,0,(AK7*((LOG(AK7))/LOG(2))))","v":0},null,{"$f":"N7","v":111},{"$f":"COUNTIF(L139:L171,AN7)","v":0},{"$f":"AO7/(AQ4-AO11)","v":0},{"$f":"IF(AP7=0,0,(AP7*((LOG(AP7))/LOG(2))))","v":0},null,{"$f":"N7","v":111},{"$f":"COUNTIF(L172:L204,AS7)","v":0},{"$f":"AT7/(AV4-AT11)","v":0},{"$f":"IF(AU7=0,0,(AU7*((LOG(AU7))/LOG(2))))","v":0}]
[21,130,22,141,24,147,null,null,null,null,0,222,null,112,{"$f":"COUNTIF($L$7:$L$500,N8)","v":3},{"$f":"O8/$Q$4","v":1.5151515151515152E-2},{"$f":"IF(P8=0,0,(P8*((LOG(P8))/LOG(2))))","v":-9.1581729081188695E-2},null,null,{"$f":"N8","v":112},{"$f":"COUNTIF(L7:L39,T8)","v":0},{"$f":"U8/(W4-U11)","v":0},{"$f":"IF(V8=0,0,(V8*((LOG(V8))/LOG(2))))","v":0},null,{"$f":"N8","v":112},{"$f":"COUNTIF(L40:L72,Y8)","v":1},{"$f":"Z8/(AB4-Z11)","v":3.0303030303030304E-2},{"$f":"IF(AA8=0,0,(AA8*((LOG(AA8))/LOG(2))))","v":-0.15286042785934709},null,{"$f":"N8","v":112},{"$f":"COUNTIF(L73:L105,AD8)","v":2},{"$f":"AE8/(AG4-AE11)","v":6.0606060606060608E-2},{"$f":"IF(AF8=0,0,(AF8*((LOG(AF8))/LOG(2))))","v":-0.24511479511263354},null,{"$f":"N8","v":112},{"$f":"COUNTIF(L106:L138,AI8)","v":0},{"$f":"AJ8/(AL4-AJ11)","v":0},{"$f":"IF(AK8=0,0,(AK8*((LOG(AK8))/LOG(2))))","v":0},null,{"$f":"N8","v":112},{"$f":"COUNTIF(L139:L171,AN8)","v":0},{"$f":"AO8/(AQ4-AO11)","v":0},{"$f":"IF(AP8=0,0,(AP8*((LOG(AP8))/LOG(2))))","v":0},null,{"$f":"N8","v":112},{"$f":"COUNTIF(L172:L204,AS8)","v":0},{"$f":"AT8/(AV4-AT11)","v":0},{"$f":"IF(AU8=0,0,(AU8*((LOG(AU8))/LOG(2))))","v":0}]
[21,281,22,285,24,287,null,null,null,null,0,222,null,121,{"$f":"COUNTIF($L$7:$L$500,N9)","v":0},{"$f":"O9/$Q$4","v":0},{"$f":"IF(P9=0,0,(P9*((LOG(P9))/LOG(2))))","v":0},null,null,{"$f":"N9","v":121},{"$f":"COUNTIF(L7:L39,T9)","v":0},{"$f":"U9/(W4-U11)","v":0},{"$f":"IF(V9=0,0,(V9*((LOG(V9))/LOG(2))))","v":0},null,{"$f":"N9","v":121},{"$f":"COUNTIF(L40:L72,Y9)","v":0},{"$f":"Z9/(AB4-Z11)","v":0},{"$f":"IF(AA9=0,0,(AA9*((LOG(AA9))/LOG(2))))","v":0},null,{"$f":"N9","v":121},{"$f":"COUNTIF(L73:L105,AD9)","v":0},{"$f":"AE9/(AG4-AE11)","v":0},{"$f":"IF(AF9=0,0,(AF9*((LOG(AF9))/LOG(2))))","v":0},null,{"$f":"N9","v":121},{"$f":"COUNTIF(L106:L138,AI9)","v":0},{"$f":"AJ9/(AL4-AJ11)","v":0},{"$f":"IF(AK9=0,0,(AK9*((LOG(AK9))/LOG(2))))","v":0},null,{"$f":"N9","v":121},{"$f":"COUNTIF(L139:L171,AN9)","v":0},{"$f":"AO9/(AQ4-AO11)","v":0},{"$f":"IF(AP9=0,0,(AP9*((LOG(AP9))/LOG(2))))","v":0},null,{"$f":"N9","v":121},{"$f":"COUNTIF(L172:L204,AS9)","v":0},{"$f":"AT9/(AV4-AT11)","v":0},{"$f":"IF(AU9=0,0,(AU9*((LOG(AU9))/LOG(2))))","v":0}]
[21,410,22,416,24,420,null,null,null,null,0,222,null,122,{"$f":"COUNTIF($L$7:$L$500,N10)","v":69},{"$f":"O10/$Q$4","v":0.34848484848484851},{"$f":"IF(P10=0,0,(P10*((LOG(P10))/LOG(2))))","v":-0.52998696599898687},null,null,{"$f":"N10","v":122},{"$f":"COUNTIF(L7:L39,T10)","v":9},{"$f":"U10/(W4-U11)","v":0.27272727272727271},{"$f":"IF(V10=0,0,(V10*((LOG(V10))/LOG(2))))","v":-0.51121885034076575},null,{"$f":"N10","v":122},{"$f":"COUNTIF(L40:L72,Y10)","v":18},{"$f":"Z10/(AB4-Z11)","v":0.54545454545454541},{"$f":"IF(AA10=0,0,(AA10*((LOG(AA10))/LOG(2))))","v":-0.47698315522698609},null,{"$f":"N10","v":122},{"$f":"COUNTIF(L73:L105,AD10)","v":8},{"$f":"AE10/(AG4-AE11)","v":0.24242424242424243},{"$f":"IF(AF10=0,0,(AF10*((LOG(AF10))/LOG(2))))","v":-0.49561069560204934},null,{"$f":"N10","v":122},{"$f":"COUNTIF(L106:L138,AI10)","v":18},{"$f":"AJ10/(AL4-AJ11)","v":0.54545454545454541},{"$f":"IF(AK10=0,0,(AK10*((LOG(AK10))/LOG(2))))","v":-0.47698315522698609},null,{"$f":"N10","v":122},{"$f":"COUNTIF(L139:L171,AN10)","v":6},{"$f":"AO10/(AQ4-AO11)","v":0.18181818181818182},{"$f":"IF(AP10=0,0,(AP10*((LOG(AP10))/LOG(2))))","v":-0.44716938520678134},null,{"$f":"N10","v":122},{"$f":"COUNTIF(L172:L204,AS10)","v":10},{"$f":"AT10/(AV4-AT11)","v":0.30303030303030304},{"$f":"IF(AU10=0,0,(AU10*((LOG(AU10))/LOG(2))))","v":-0.52195940135487617}]
[21,525,22,529,24,533,null,null,null,null,0,222,null,211,{"$f":"COUNTIF($L$7:$L$500,N11)","v":0},{"$f":"O11/$Q$4","v":0},{"$f":"IF(P11=0,0,(P11*((LOG(P11))/LOG(2))))","v":0},null,null,{"$f":"N11","v":211},{"$f":"COUNTIF(L7:L39,T11)","v":0},null,null,null,{"$f":"N11","v":211},{"$f":"COUNTIF(L40:L72,Y11)","v":0},null,null,null,{"$f":"N11","v":211},{"$f":"COUNTIF(L73:L105,AD11)","v":0},null,null,null,{"$f":"N11","v":211},{"$f":"COUNTIF(L106:L138,AI11)","v":0},null,null,null,{"$f":"N11","v":211},{"$f":"COUNTIF(L139:L171,AN11)","v":0},null,null,null,{"$f":"N11","v":211},{"$f":"COUNTIF(L172:L204,AS11)","v":0}]
[21,726,22,730,24,752,null,null,null,null,0,222,null,212,{"$f":"COUNTIF($L$7:$L$500,N12)","v":0},{"$f":"O12/$Q$4","v":0},{"$f":"IF(P12=0,0,(P12*((LOG(P12))/LOG(2))))","v":0},null,null,{"$f":"N12","v":212},{"$f":"COUNTIF(L7:L39,T12)","v":0},{"$f":"U12/(W4-U11)","v":0},{"$f":"IF(V12=0,0,(V12*((LOG(V12))/LOG(2))))","v":0},null,{"$f":"N12","v":212},{"$f":"COUNTIF(L40:L72,Y12)","v":0},{"$f":"Z12/(AB4-Z11)","v":0},{"$f":"IF(AA12=0,0,(AA12*((LOG(AA12))/LOG(2))))","v":0},null,{"$f":"N12","v":212},{"$f":"COUNTIF(L73:L105,AD12)","v":0},{"$f":"AE12/(AG4-AE11)","v":0},{"$f":"IF(AF12=0,0,(AF12*((LOG(AF12))/LOG(2))))","v":0},null,{"$f":"N12","v":212},{"$f":"COUNTIF(L106:L138,AI12)","v":0},{"$f":"AJ12/(AL4-AJ11)","v":0},{"$f":"IF(AK12=0,0,(AK12*((LOG(AK12))/LOG(2))))","v":0},null,{"$f":"N12","v":212},{"$f":"COUNTIF(L139:L171,AN12)","v":0},{"$f":"AO12/(AQ4-AO11)","v":0},{"$f":"IF(AP12=0,0,(AP12*((LOG(AP12))/LOG(2))))","v":0},null,{"$f":"N12","v":212},{"$f":"COUNTIF(L172:L204,AS12)","v":0},{"$f":"AT12/(AV4-AT11)","v":0},{"$f":"IF(AU12=0,0,(AU12*((LOG(AU12))/LOG(2))))","v":0}]
[21,853,22,855,24,860,null,null,null,null,0,222,null,221,{"$f":"COUNTIF($L$7:$L$500,N13)","v":0},{"$f":"O13/$Q$4","v":0},{"$f":"IF(P13=0,0,(P13*((LOG(P13))/LOG(2))))","v":0},null,null,{"$f":"N13","v":221},{"$f":"COUNTIF(L7:L39,T13)","v":0},{"$f":"U13/(W4-U11)","v":0},{"$f":"IF(V13=0,0,(V13*((LOG(V13))/LOG(2))))","v":0},null,{"$f":"N13","v":221},{"$f":"COUNTIF(L40:L72,Y13)","v":0},{"$f":"Z13/(AB4-Z11)","v":0},{"$f":"IF(AA13=0,0,(AA13*((LOG(AA13))/LOG(2))))","v":0},null,{"$f":"N13","v":221},{"$f":"COUNTIF(L73:L105,AD13)","v":0},{"$f":"AE13/(AG4-AE11)","v":0},{"$f":"IF(AF13=0,0,(AF13*((LOG(AF13))/LOG(2))))","v":0},null,{"$f":"N13","v":221},{"$f":"COUNTIF(L106:L138,AI13)","v":0},{"$f":"AJ13/(AL4-AJ11)","v":0},{"$f":"IF(AK13=0,0,(AK13*((LOG(AK13))/LOG(2))))","v":0},null,{"$f":"N13","v":221},{"$f":"COUNTIF(L139:L171,AN13)","v":0},{"$f":"AO13/(AQ4-AO11)","v":0},{"$f":"IF(AP13=0,0,(AP13*((LOG(AP13))/LOG(2))))","v":0},null,{"$f":"N13","v":221},{"$f":"COUNTIF(L172:L204,AS13)","v":0},{"$f":"AT13/(AV4-AT11)","v":0},{"$f":"IF(AU13=0,0,(AU13*((LOG(AU13))/LOG(2))))","v":0}]
[21,976,22,980,24,988,null,null,null,null,0,222,null,222,{"$f":"COUNTIF($L$7:$L$500,N14)","v":126},{"$f":"O14/$Q$4","v":0.63636363636363635},{"$f":"IF(P14=0,0,(P14*((LOG(P14))/LOG(2))))","v":-0.41495789782344106},null,null,{"$f":"N14","v":222},{"$f":"COUNTIF(L7:L39,T14)","v":24},{"$f":"U14/(W4-U11)","v":0.72727272727272729},{"$f":"IF(V14=0,0,(V14*((LOG(V14))/LOG(2))))","v":-0.33413208628167068},null,{"$f":"N14","v":222},{"$f":"COUNTIF(L40:L72,Y14)","v":14},{"$f":"Z14/(AB4-Z11)","v":0.42424242424242425},{"$f":"IF(AA14=0,0,(AA14*((LOG(AA14))/LOG(2))))","v":-0.52480450794581479},null,{"$f":"N14","v":222},{"$f":"COUNTIF(L73:L105,AD14)","v":23},{"$f":"AE14/(AG4-AE11)","v":0.69696969696969702},{"$f":"IF(AF14=0,0,(AF14*((LOG(AF14))/LOG(2))))","v":-0.36300423502827672},null,{"$f":"N14","v":222},{"$f":"COUNTIF(L106:L138,AI14)","v":15},{"$f":"AJ14/(AL4-AJ11)","v":0.45454545454545453},{"$f":"IF(AK14=0,0,(AK14*((LOG(AK14))/LOG(2))))","v":-0.51704705624997038},null,{"$f":"N14","v":222},{"$f":"COUNTIF(L139:L171,AN14)","v":27},{"$f":"AO14/(AQ4-AO11)","v":0.81818181818181823},{"$f":"IF(AP14=0,0,(AP14*((LOG(AP14))/LOG(2))))","v":-0.23686905043226034},null,{"$f":"N14","v":222},{"$f":"COUNTIF(L172:L204,AS14)","v":23},{"$f":"AT14/(AV4-AT11)","v":0.69696969696969702},{"$f":"IF(AU14=0,0,(AU14*((LOG(AU14))/LOG(2))))","v":-0.36300423502827672}]
[12,1086,24,1096,24,1100,null,null,null,null,0,122,null,null,null,{"$f":"SUM(P7:P14)","v":1},{"$f":"-SUM(Q7:Q14)","v":1.0365265929036167},null,null,null,null,{"$f":"SUM(V7:V14)","v":1},{"$f":"-SUM(W7:W14)","v":0.84535093662243643},null,null,null,{"$f":"SUM(AA7:AA14)","v":1},{"$f":"-SUM(AB7:AB14)","v":1.1546480910321479},null,null,null,{"$f":"SUM(AF7:AF14)","v":1},{"$f":"-SUM(AG7:AG14)","v":1.1037297257429595},null,null,null,{"$f":"SUM(AK7:AK14)","v":1},{"$f":"-SUM(AL7:AL14)","v":0.99403021147695647},null,null,null,{"$f":"SUM(AP7:AP14)","v":1},{"$f":"-SUM(AQ7:AQ14)","v":0.68403843563904165},null,null,null,{"$f":"SUM(AU7:AU14)","v":1},{"$f":"-SUM(AV7:AV14)","v":0.8849636363831529}]
[21,1201,22,1204,24,1207,null,null,null,null,0,222,null,null,null,"U=",{"$f":"Q15/(LOG(Q4)/LOG(2))","v":0.13586028868746222},null,null,null,null,"U1=",{"$f":"W15/(LOG(W4)/LOG(2))","v":0.167582254007137},null,null,null,"U2=",{"$f":"AB15/(LOG(AB4)/LOG(2))","v":0.22889727957636194},null,null,null,"U3=",{"$f":"AG15/(LOG(AG4)/LOG(2))","v":0.21880322980856459},null,null,null,"U4=",{"$f":"AL15/(LOG(AL4)/LOG(2))","v":0.19705641311059521},null,null,null,"U5=",{"$f":"AQ15/(LOG(AQ4)/LOG(2))","v":0.1356036858844879},null,null,null,"U6=",{"$f":"AV15/(LOG(AV4)/LOG(2))","v":0.17543507018751792}]
[21,1307,22,1312,24,1315,null,null,null,null,0,222]
[21,1418,22,1426,24,1431,null,null,null,null,0,222]
[12,1528,24,1538,24,1545,null,null,null,null,0,122,null,"Total Target Seq"]
[21,1654,22,1655,24,1665,null,null,null,null,0,222,null,{"$f":"COUNTIF(L7:L204,G3)","v":0},null,33,33,33,33,33,33]
[21,1770,22,1774,24,1778,null,null,null,null,0,222,null,null,null,"% of reinforcement given in 6 equal intervals based on number of trials "]
[12,1874,24,1884,24,1887,null,null,null,null,0,122,null,null,null,"%_1","%_2","%_3","%_4","%_5","%_6"]
[21,1987,22,1995,24,2001,null,null,null,null,0,222,null,null,"target sequence",{"$f":"$G$3","v":211},{"$f":"$G$3","v":211},{"$f":"$G$3","v":211},{"$f":"$G$3","v":211},{"$f":"$G$3","v":211},{"$f":"$G$3","v":211}]
[21,2128,22,2132,24,2139,null,null,null,null,0,222,null,null,"total reinforcement",{"$f":"U11","v":0},{"$f":"Z11","v":0},{"$f":"AE11","v":0},{"$f":"AJ11","v":0},{"$f":"AO11","v":0},{"$f":"AT11","v":0}]
[21,2243,22,2247,24,2252,null,null,null,null,0,222,null,null,"% target"]
[12,2348,24,2358,24,2362,null,null,null,null,0,122,null,null,"CCRF"]
[21,2462,22,2466,24,2470,null,null,null,null,0,222,null,null,"% CCRf"]
[21,2570,22,2574,24,2581,null,null,null,null,0,222,null,null,"average response rate",{"$f":"F39/P20","v":118.60606060606061},{"$f":"(F72-F39)/Q20","v":119.06060606060606},{"$f":"(F105-F72)/R20","v":114.63636363636364},{"$f":"(F138-F105)/S20","v":120.21212121212122},{"$f":"(F171-F138)/T20","v":128.18181818181819},{"$f":"(F204-F171)/U20","v":124.39393939393939}]
[21,2693,22,2697,24,2701,null,null,null,null,0,222]
[21,2807,22,2810,24,2815,null,null,null,null,0,222]
[12,2913,24,2923,24,2926,null,null,null,null,0,122]
[21,3046,22,3050,24,3059,null,null,null,null,0,222]
[12,3155,24,3166,24,3169,null,null,null,null,0,122]
[21,3322,22,3330,24,3335,null,null,null,null,0,222]
[12,3430,24,3442,24,3449,null,null,null,null,0,122]
[12,3546,24,3562,24,3572,null,null,null,null,0,122]
[12,3672,24,3682,24,3685,null,null,null,null,0,122]
[21,3786,22,3791,24,3795,null,null,null,null,0,222]
[21,3906,22,3910,24,3914,null,null,null,null,0,222]
[12,4012,24,4015,24,4020,null,null,null,null,0,122]
[21,4184,22,4187,24,4192,null,null,null,null,0,222]
[12,4290,24,4299,24,4303,null,null,null,null,0,122]
[12,4400,24,4406,24,4414,null,null,null,null,0,122]
[21,4657,22,4678,24,4681,null,null,null,null,0,222]
[12,4773,24,4788,24,4792,null,null,null,null,0,122]
[12,4887,24,4895,24,4898,null,null,null,null,0,122]
[12,4993,24,5008,24,5013,null,null,null,null,0,122]
[12,5103,24,5116,24,5121,null,null,null,null,0,122]
[21,5219,22,5223,24,5225,null,null,null,null,0,222]
[12,5323,24,5336,24,5339,null,null,null,null,0,122]
[21,5469,22,5473,24,5476,null,null,null,null,0,222]
[12,5572,24,5582,24,5586,null,null,null,null,0,122]
[21,5686,22,5689,24,5694,null,null,null,null,0,222]
[12,5786,24,5797,24,5805,null,null,null,null,0,122]
[21,5909,22,5913,24,5917,null,null,null,null,0,222]
[21,6017,22,6021,24,6025,null,null,null,null,0,222]
[21,6127,22,6131,24,6135,null,null,null,null,0,222]
[12,6231,24,6245,24,6249,null,null,null,null,0,122]
[12,6342,24,6356,24,6365,null,null,null,null,0,122]
[21,6468,22,6472,24,6477,null,null,null,null,0,222]
[21,6604,22,6608,24,6619,null,null,null,null,0,222]
[21,6726,22,6728,24,6733,null,null,null,null,0,222]
[12,6831,24,6842,24,6845,null,null,null,null,0,122]
[12,6943,13,6945,24,6956,null,null,null,null,0,112]
[12,7051,24,7061,24,7065,null,null,null,null,0,122]
[12,7162,24,7172,24,7177,null,null,null,null,0,122]
[21,7275,22,7277,24,7282,null,null,null,null,0,222]
[21,7398,22,7401,24,7405,null,null,null,null,0,222]
[21,7506,22,7510,24,7514,null,null,null,null,0,222]
[12,7610,24,7624,24,7627,null,null,null,null,0,122]
[12,7718,24,7729,24,7733,null,null,null,null,0,122]
[12,7827,24,7839,24,7843,null,null,null,null,0,122]
[21,7947,22,7951,24,7961,null,null,null,null,0,222]
[21,8059,22,8063,24,8068,null,null,null,null,0,222]
[21,8174,22,8179,24,8184,null,null,null,null,0,222]
[21,8288,22,8292,24,8297,null,null,null,null,0,222]
[21,8400,22,8404,24,8408,null,null,null,null,0,222]
[21,8532,22,8536,24,8540,null,null,null,null,0,222]
[12,8637,13,8639,24,8653,null,null,null,null,0,112]
[21,8756,22,8760,24,8765,null,null,null,null,0,222]
[21,8867,22,8872,24,8876,null,null,null,null,0,222]
[21,8980,22,8983,24,8988,null,null,null,null,0,222]
[21,9092,22,9096,24,9101,null,null,null,null,0,222]
[12,9191,13,9193,24,9203,null,null,null,null,0,112]
[12,9295,24,9307,24,9311,null,null,null,null,0,122]
[12,9407,24,9420,24,9425,null,null,null,null,0,122]
[21,9524,22,9528,24,9531,null,null,null,null,0,222]
[12,9626,24,9636,24,9640,null,null,null,null,0,122]
[12,9737,24,9749,24,9752,null,null,null,null,0,122]
[12,9851,24,9861,24,9864,null,null,null,null,0,122]
[12,9977,24,9987,24,9991,null,null,null,null,0,122]
[12,10084,24,10088,24,10098,null,null,null,null,0,122]
[21,10201,22,10205,24,10211,null,null,null,null,0,222]
[21,10313,22,10316,24,10320,null,null,null,null,0,222]
[21,10420,22,10424,24,10428,null,null,null,null,0,222]
[21,10533,22,10541,24,10546,null,null,null,null,0,222]
[21,10649,22,10652,24,10656,null,null,null,null,0,222]
[21,10765,22,10773,24,10779,null,null,null,null,0,222]
[12,10879,24,10894,24,10897,null,null,null,null,0,122]
[21,11001,22,11005,24,11010,null,null,null,null,0,222]
[21,11173,22,11177,24,11182,null,null,null,null,0,222]
[21,11283,22,11286,24,11290,null,null,null,null,0,222]
[21,11389,22,11393,24,11397,null,null,null,null,0,222]
[21,11505,22,11509,24,11520,null,null,null,null,0,222]
[21,11620,22,11623,24,11626,null,null,null,null,0,222]
[21,11855,22,11858,24,11861,null,null,null,null,0,222]
[21,11992,22,11995,24,11999,null,null,null,null,0,222]
[12,12096,24,12106,24,12110,null,null,null,null,0,122]
[21,12256,22,12260,24,12265,null,null,null,null,0,222]
[12,12360,24,12364,24,12372,null,null,null,null,0,122]
[12,12470,24,12481,24,12485,null,null,null,null,0,122]
[12,12581,24,12591,24,12595,null,null,null,null,0,122]
[12,12689,24,12704,24,12709,null,null,null,null,0,122]
[12,12806,24,12816,24,12820,null,null,null,null,0,122]
[12,12919,24,12931,24,12935,null,null,null,null,0,122]
[21,13034,22,13037,24,13041,null,null,null,null,0,222]
[12,13132,24,13144,24,13148,null,null,null,null,0,122]
[12,13240,24,13255,24,13260,null,null,null,null,0,122]
[12,13357,24,13372,24,13377,null,null,null,null,0,122]
[21,13483,22,13487,24,13493,null,null,null,null,0,222]
[21,13592,22,13596,24,13600,null,null,null,null,0,222]
[21,13734,22,13738,24,13742,null,null,null,null,0,222]
[12,13838,24,13854,24,13857,null,null,null,null,0,122]
[12,13955,24,13965,24,13970,null,null,null,null,0,122]
[12,14085,24,14090,24,14094,null,null,null,null,0,122]
[21,14200,22,14204,24,14210,null,null,null,null,0,222]
[12,14306,24,14319,24,14324,null,null,null,null,0,122]
[12,14421,24,14431,24,14434,null,null,null,null,0,122]
[21,14541,22,14545,24,14551,null,null,null,null,0,222]
[21,14648,22,14650,24,14653,null,null,null,null,0,222]
[21,14754,22,14757,24,14762,null,null,null,null,0,222]
[21,14868,22,14872,24,14877,null,null,null,null,0,222]
[12,14973,24,14985,24,14989,null,null,null,null,0,122]
[12,15086,24,15097,24,15100,null,null,null,null,0,122]
[21,15206,22,15210,24,15216,null,null,null,null,0,222]
[12,15308,24,15319,24,15323,null,null,null,null,0,122]
[21,15442,22,15445,24,15450,null,null,null,null,0,222]
[21,15581,22,15584,24,15593,null,null,null,null,0,222]
[21,15692,22,15695,24,15698,null,null,null,null,0,222]
[12,15797,24,15808,24,15811,null,null,null,null,0,122]
[21,15919,22,15923,24,15927,null,null,null,null,0,222]
[21,16141,22,16145,24,16150,null,null,null,null,0,222]
[21,16268,22,16273,24,16276,null,null,null,null,0,222]
[12,16367,24,16377,24,16381,null,null,null,null,0,122]
[21,16477,22,16482,24,16485,null,null,null,null,0,222]
[12,16584,24,16594,24,16598,null,null,null,null,0,122]
[21,16696,22,16703,24,16712,null,null,null,null,0,222]
[21,16822,22,16826,24,16832,null,null,null,null,0,222]
[21,16930,22,16938,24,16944,null,null,null,null,0,222]
[21,17052,22,17054,24,17056,null,null,null,null,0,222]
[21,17158,22,17163,24,17167,null,null,null,null,0,222]
[21,17267,22,17273,24,17281,null,null,null,null,0,222]
[12,17378,24,17388,24,17393,null,null,null,null,0,122]
[21,17508,22,17512,24,17516,null,null,null,null,0,222]
[21,17615,22,17623,24,17627,null,null,null,null,0,222]
[21,17727,22,17731,24,17735,null,null,null,null,0,222]
[21,18242,22,18246,24,18249,null,null,null,null,0,222]
[21,18344,22,18349,24,18353,null,null,null,null,0,222]
[21,18455,22,18465,24,18476,null,null,null,null,0,222]
[21,18577,22,18581,24,18586,null,null,null,null,0,222]
[21,18688,22,18691,24,18694,null,null,null,null,0,222]
[21,18797,22,18805,24,18809,null,null,null,null,0,222]
[12,18907,24,18919,24,18928,null,null,null,null,0,122]
[21,19028,22,19033,24,19036,null,null,null,null,0,222]
[21,19140,22,19144,24,19149,null,null,null,null,0,222]
[21,19256,22,19260,24,19264,null,null,null,null,0,222]
[21,19362,22,19365,24,19369,null,null,null,null,0,222]
[21,19473,22,19477,24,19480,null,null,null,null,0,222]
[21,19582,22,19590,24,19596,null,null,null,null,0,222]
[21,19704,22,19709,24,19717,null,null,null,null,0,222]
[12,19806,24,19819,24,19823,null,null,null,null,0,122]
[21,19920,22,19923,24,19927,null,null,null,null,0,222]
[12,20024,24,20037,24,20041,null,null,null,null,0,122]
[21,20143,22,20151,24,20156,null,null,null,null,0,222]
[12,20253,24,20265,24,20268,null,null,null,null,0,122]
[21,20368,22,20373,24,20377,null,null,null,null,0,222]
[12,20475,24,20493,24,20501,null,null,null,null,0,122]
[21,20602,22,20609,24,20614,null,null,null,null,0,222]
[21,20718,22,20727,24,20733,null,null,null,null,0,222]
[12,20822,24,20834,24,20839,null,null,null,null,0,122]
[21,20949,22,20952,24,20957,null,null,null,null,0,222]
[21,21083,22,21087,24,21090,null,null,null,null,0,222]
[21,21197,22,21199,24,21202,null,null,null,null,0,222]
[12,21298,24,21309,24,21313,null,null,null,null,0,122]
[21,21536,22,21561,24,21565,null,null,null,null,0,222]
[21,21659,22,21664,24,21669,null,null,null,null,0,222]
[21,21769,22,21773,24,21777,null,null,null,null,0,222]
[21,21880,22,21884,24,21889,null,null,null,null,0,222]
[21,22004,22,22008,24,22013,null,null,null,null,0,222]
[21,22112,22,22116,24,22121,null,null,null,null,0,222]
[21,22225,22,22228,24,22234,null,null,null,null,0,222]
[21,22335,22,22339,24,22348,null,null,null,null,0,222]
[21,22448,22,22452,24,22456,null,null,null,null,0,222]
[12,22547,24,22558,24,22563,null,null,null,null,0,122]
[12,22660,24,22676,24,22683,null,null,null,null,0,122]
[12,22779,24,22794,24,22799,null,null,null,null,0,122]
[21,22910,22,22917,24,22921,null,null,null,null,0,222]
[12,23018,24,23030,24,23035,null,null,null,null,0,122]
[21,23133,22,23139,24,23145,null,null,null,null,0,222]
[21,23258,22,23262,24,23269,null,null,null,null,0,222]
[21,23586,22,23591,24,23595,null,null,null,null,0,222]
[21,23693,22,23697,24,23701,null,null,null,null,0,222]
[21,23802,22,23806,24,23810,null,null,null,null,0,222]
[12,23910,24,23924,24,23928,null,null,null,null,null,122]

{"sheet":"!L908A3T.ayl","index":14,"n_rows":213,"n_cols":48,"rows_kept":213,"cut":false,"hidden":false,"merged":[[4,39,4,42],[5,39,5,40],[4,44,4,47],[5,44,5,45],[4,24,4,27],[5,24,5,25],[4,29,4,32],[5,29,5,30],[4,34,4,37],[5,34,5,35],[1,1,1,2],[5,13,5,14],[18,13,18,14],[19,13,19,14],[4,19,4,22],[5,19,5,20]]}
["Report for:!L908A3T.ayl"]
["Date:","<date>"]
["Hen:","<hen>",null,null,null,"Correct Sequence",{"$f":"Start!J2","v":211},null,null,null,null,null,null,null,null,"Total Sequences in Data",{"$f":"4994-COUNTBLANK(L7:L5000)","v":207},null,null,null,null,"Total Sequences in Block Data",{"$f":"COUNTA(L7:L41)","v":35},null,null,null,"Total Sequences in Block Data",{"$f":"COUNTA(L42:L75)","v":34},null,null,null,"Total Sequences in Block Data",{"$f":"COUNTA(L76:L110)","v":35},null,null,null,"Total Sequences in Block Data",{"$f":"COUNTA(L111:L144)","v":34},null,null,null,"Total Sequences in Block Data",{"$f":"COUNTA(L145:L179)","v":35},null,null,null,"Total Sequences in Block Data",{"$f":"COUNTA(L180:L213)","v":34}]
[null,null,null,null,null,null,null,null,null,null,null,null,null,null,null,"Total Sequences in Summary",{"$f":"SUM(O7:O14)","v":207},null,null,null,null,"Total Sequences in Block Summary",{"$f":"SUM(U7:U14)","v":35},null,null,null,"Total Sequences in Block Summary",{"$f":"SUM(Z7:Z14)","v":34},null,null,null,"Total Sequences in Block Summary",{"$f":"SUM(AE7:AE14)","v":35},null,null,null,"Total Sequences in Block Summary",{"$f":"SUM(AJ7:AJ14)","v":34},null,null,null,"Total Sequences in Block Summary",{"$f":"SUM(AO7:AO14)","v":35},null,null,null,"Total Sequences in Block Summary",{"$f":"SUM(AT7:AT14)","v":34}]
[null,null,null,null,null,null,null,null,null,null,null,null,null,null,null,null,null,null,null,"Block 1",null,null,null,null,"Block 2",null,null,null,null,"Block 3",null,null,null,null,"Block 4",null,null,null,null,"Block 5",null,null,null,null,"Block 6"]
["Sequence\nComponent\n1","Time\n1","Sequence\nComponent\n2","Time\n2","Sequence\nComponent\n3","Time\n3","Sequence\nComponent\n4","Time\n4","Sequence\nComponent\n5","Time\n5","Correct?\n0=No 1=Yes","Sequence",null,"Frequency",null,"Relative Frequency","Variability",null,null,"Frequency",null,"Relative Frequency","Variability",null,"Frequency",null,"Relative Frequency","Variability",null,"Frequency",null,"Relative Frequency","Variability",null,"Frequency",null,"Relative Frequency","Variability",null,"Frequency",null,"Relative Frequency","Variability",null,"Frequency",null,"Relative Frequency","Variability"]
[21,5,22,10,24,16,null,null,null,null,0,222,null,111,{"$f":"COUNTIF($L$7:$L$500,N7)","v":0},{"$f":"O7/$Q$4","v":0},{"$f":"IF(P7=0,0,(P7*((LOG(P7))/LOG(2))))","v":0},null,null,{"$f":"N7","v":111},{"$f":"COUNTIF(L7:L41,T7)","v":0},{"$f":"U7/(W4-U11)","v":0},{"$f":"IF(V7=0,0,(V7*((LOG(V7))/LOG(2))))","v":0},null,{"$f":"N7","v":111},{"$f":"COUNTIF(L42:L75,Y7)","v":0},{"$f":"Z7/(AB4-Z11)","v":0},{"$f":"IF(AA7=0,0,(AA7*((LOG(AA7))/LOG(2))))","v":0},null,{"$f":"N7","v":111},{"$f":"COUNTIF(L76:L110,AD7)","v":0},{"$f":"AE7/(AG4-AE11)","v":0},{"$f":"IF(AF7=0,0,(AF7*((LOG(AF7))/LOG(2))))","v":0},null,{"$f":"N7","v":111},{"$f":"COUNTIF(L111:L144,AI7)","v":0},{"$f":"AJ7/(AL4-AJ11)","v":0},{"$f":"IF(AK7=0,0,(AK7*((LOG(AK7))/LOG(2))))","v":0},null,{"$f":"N7","v":111},{"$f":"COUNTIF(L145:L179,AN7)","v":0},{"$f":"AO7/(AQ4-AO11)","v":0},{"$f":"IF(AP7=0,0,(AP7*((LOG(AP7))/LOG(2))))","v":0},null,{"$f":"N7","v":111},{"$f":"COUNTIF(L180:L213,AS7)","v":0},{"$f":"AT7/(AV4-AT11)","v":0},{"$f":"IF(AU7=0,0,(AU7*((LOG(AU7))/LOG(2))))","v":0}]
[21,119,22,123,24,130,null,null,null,null,0,222,null,112,{"$f":"COUNTIF($L$7:$L$500,N8)","v":10},{"$f":"O8/$Q$4","v":4.8309178743961352E-2},{"$f":"IF(P8=0,0,(P8*((LOG(P8))/LOG(2))))","v":-0.21118641848366973},null,null,{"$f":"N8","v":112},{"$f":"COUNTIF(L7:L41,T8)","v":2},{"$f":"U8/(W4-U11)","v":5.7142857142857141E-2},{"$f":"IF(V8=0,0,(V8*((LOG(V8))/LOG(2))))","v":-0.23595902953971234},null,{"$f":"N8","v":112},{"$f":"COUNTIF(L42:L75,Y8)","v":0},{"$f":"Z8/(AB4-Z11)","v":0},{"$f":"IF(AA8=0,0,(AA8*((LOG(AA8))/LOG(2))))","v":0},null,{"$f":"N8","v":112},{"$f":"COUNTIF(L76:L110,AD8)","v":2},{"$f":"AE8/(AG4-AE11)","v":5.7142857142857141E-2},{"$f":"IF(AF8=0,0,(AF8*((LOG(AF8))/LOG(2))))","v":-0.23595902953971234},null,{"$f":"N8","v":112},{"$f":"COUNTIF(L111:L144,AI8)","v":1},{"$f":"AJ8/(AL4-AJ11)","v":2.9411764705882353E-2},{"$f":"IF(AK8=0,0,(AK8*((LOG(AK8))/LOG(2))))","v":-0.14963126003677468},null,{"$f":"N8","v":112},{"$f":"COUNTIF(L145:L179,AN8)","v":2},{"$f":"AO8/(AQ4-AO11)","v":5.7142857142857141E-2},{"$f":"IF(AP8=0,0,(AP8*((LOG(AP8))/LOG(2))))","v":-0.23595902953971234},null,{"$f":"N8","v":112},{"$f":"COUNTIF(L180:L213,AS8)","v":3},{"$f":"AT8/(AV4-AT11)","v":8.8235294117647065E-2},{"$f":"IF(AU8=0,0,(AU8*((LOG(AU8))/LOG(2))))","v":-0.30904414769375149}]
[21,234,22,237,24,240,null,null,null,null,0,222,null,121,{"$f":"COUNTIF($L$7:$L$500,N9)","v":0},{"$f":"O9/$Q$4","v":0},{"$f":"IF(P9=0,0,(P9*((LOG(P9))/LOG(2))))","v":0},null,null,{"$f":"N9","v":121},{"$f":"COUNTIF(L7:L41,T9)","v":0},{"$f":"U9/(W4-U11)","v":0},{"$f":"IF(V9=0,0,(V9*((LOG(V9))/LOG(2))))","v":0},null,{"$f":"N9","v":121},{"$f":"COUNTIF(L42:L75,Y9)","v":0},{"$f":"Z9/(AB4-Z11)","v":0},{"$f":"IF(AA9=0,0,(AA9*((LOG(AA9))/LOG(2))))","v":0},null,{"$f":"N9","v":121},{"$f":"COUNTIF(L76:L110,AD9)","v":0},{"$f":"AE9/(AG4-AE11)","v":0},{"$f":"IF(AF9=0,0,(AF9*((LOG(AF9))/LOG(2))))","v":0},null,{"$f":"N9","v":121},{"$f":"COUNTIF(L111:L144,AI9)","v":0},{"$f":"AJ9/(AL4-AJ11)","v":0},{"$f":"IF(AK9=0,0,(AK9*((LOG(AK9))/LOG(2))))","v":0},null,{"$f":"N9","v":121},{"$f":"COUNTIF(L145:L179,AN9)","v":0},{"$f":"AO9/(AQ4-AO11)","v":0},{"$f":"IF(AP9=0,0,(AP9*((LOG(AP9))/LOG(2))))","v":0},null,{"$f":"N9","v":121},{"$f":"COUNTIF(L180:L213,AS9)","v":0},{"$f":"AT9/(AV4-AT11)","v":0},{"$f":"IF(AU9=0,0,(AU9*((LOG(AU9))/LOG(2))))","v":0}]
[21,343,22,347,24,352,null,null,null,null,0,222,null,122,{"$f":"COUNTIF($L$7:$L$500,N10)","v":57},{"$f":"O10/$Q$4","v":0.27536231884057971},{"$f":"IF(P10=0,0,(P10*((LOG(P10))/LOG(2))))","v":-0.51233828874430565},null,null,{"$f":"N10","v":122},{"$f":"COUNTIF(L7:L41,T10)","v":13},{"$f":"U10/(W4-U11)","v":0.37142857142857144},{"$f":"IF(V10=0,0,(V10*((LOG(V10))/LOG(2))))","v":-0.53071322527001041},null,{"$f":"N10","v":122},{"$f":"COUNTIF(L42:L75,Y10)","v":6},{"$f":"Z10/(AB4-Z11)","v":0.17647058823529413},{"$f":"IF(AA10=0,0,(AA10*((LOG(AA10))/LOG(2))))","v":-0.44161770715220888},null,{"$f":"N10","v":122},{"$f":"COUNTIF(L76:L110,AD10)","v":14},{"$f":"AE10/(AG4-AE11)","v":0.4},{"$f":"IF(AF10=0,0,(AF10*((LOG(AF10))/LOG(2))))","v":-0.52877123795494496},null,{"$f":"N10","v":122},{"$f":"COUNTIF(L111:L144,AI10)","v":8},{"$f":"AJ10/(AL4-AJ11)","v":0.23529411764705882},{"$f":"IF(AK10=0,0,(AK10*((LOG(AK10))/LOG(2))))","v":-0.49116772735302094},null,{"$f":"N10","v":122},{"$f":"COUNTIF(L145:L179,AN10)","v":7},{"$f":"AO10/(AQ4-AO11)","v":0.2},{"$f":"IF(AP10=0,0,(AP10*((LOG(AP10))/LOG(2))))","v":-0.46438561897747244},null,{"$f":"N10","v":122},{"$f":"COUNTIF(L180:L213,AS10)","v":9},{"$f":"AT10/(AV4-AT11)","v":0.26470588235294118},{"$f":"IF(AU10=0,0,(AU10*((LOG(AU10))/LOG(2))))","v":-0.50758354583153664}]
[12,451,24,461,24,465,null,null,null,null,0,122,null,211,{"$f":"COUNTIF($L$7:$L$500,N11)","v":0},{"$f":"O11/$Q$4","v":0},{"$f":"IF(P11=0,0,(P11*((LOG(P11))/LOG(2))))","v":0},null,null,{"$f":"N11","v":211},{"$f":"COUNTIF(L7:L41,T11)","v":0},null,null,null,{"$f":"N11","v":211},{"$f":"COUNTIF(L42:L75,Y11)","v":0},null,null,null,{"$f":"N11","v":211},{"$f":"COUNTIF(L76:L110,AD11)","v":0},null,null,null,{"$f":"N11","v":211},{"$f":"COUNTIF(L111:L144,AI11)","v":0},null,null,null,{"$f":"N11","v":211},{"$f":"COUNTIF(L145:L179,AN11)","v":0},null,null,null,{"$f":"N11","v":211},{"$f":"COUNTIF(L180:L213,AS11)","v":0}]
[21,564,22,571,24,575,null,null,null,null,0,222,null,212,{"$f":"COUNTIF($L$7:$L$500,N12)","v":0},{"$f":"O12/$Q$4","v":0},{"$f":"IF(P12=0,0,(P12*((LOG(P12))/LOG(2))))","v":0},null,null,{"$f":"N12","v":212},{"$f":"COUNTIF(L7:L41,T12)","v":0},{"$f":"U12/(W4-U11)","v":0},{"$f":"IF(V12=0,0,(V12*((LOG(V12))/LOG(2))))","v":0},null,{"$f":"N12","v":212},{"$f":"COUNTIF(L42:L75,Y12)","v":0},{"$f":"Z12/(AB4-Z11)","v":0},{"$f":"IF(AA12=0,0,(AA12*((LOG(AA12))/LOG(2))))","v":0},null,{"$f":"N12","v":212},{"$f":"COUNTIF(L76:L110,AD12)","v":0},{"$f":"AE12/(AG4-AE11)","v":0},{"$f":"IF(AF12=0,0,(AF12*((LOG(AF12))/LOG(2))))","v":0},null,{"$f":"N12","v":212},{"$f":"COUNTIF(L111:L144,AI12)","v":0},{"$f":"AJ12/(AL4-AJ11)","v":0},{"$f":"IF(AK12=0,0,(AK12*((LOG(AK12))/LOG(2))))","v":0},null,{"$f":"N12","v":212},{"$f":"COUNTIF(L145:L179,AN12)","v":0},{"$f":"AO12/(AQ4-AO11)","v":0},{"$f":"IF(AP12=0,0,(AP12*((LOG(AP12))/LOG(2))))","v":0},null,{"$f":"N12","v":212},{"$f":"COUNTIF(L180:L213,AS12)","v":0},{"$f":"AT12/(AV4-AT11)","v":0},{"$f":"IF(AU12=0,0,(AU12*((LOG(AU12))/LOG(2))))","v":0}]
[12,676,24,688,24,693,null,null,null,null,0,122,null,221,{"$f":"COUNTIF($L$7:$L$500,N13)","v":0},{"$f":"O13/$Q$4","v":0},{"$f":"IF(P13=0,0,(P13*((LOG(P13))/LOG(2))))","v":0},null,null,{"$f":"N13","v":221},{"$f":"COUNTIF(L7:L41,T13)","v":0},{"$f":"U13/(W4-U11)","v":0},{"$f":"IF(V13=0,0,(V13*((LOG(V13))/LOG(2))))","v":0},null,{"$f":"N13","v":221},{"$f":"COUNTIF(L42:L75,Y13)","v":0},{"$f":"Z13/(AB4-Z11)","v":0},{"$f":"IF(AA13=0,0,(AA13*((LOG(AA13))/LOG(2))))","v":0},null,{"$f":"N13","v":221},{"$f":"COUNTIF(L76:L110,AD13)","v":0},{"$f":"AE13/(AG4-AE11)","v":0},{"$f":"IF(AF13=0,0,(AF13*((LOG(AF13))/LOG(2))))","v":0},null,{"$f":"N13","v":221},{"$f":"COUNTIF(L111:L144,AI13)","v":0},{"$f":"AJ13/(AL4-AJ11)","v":0},{"$f":"IF(AK13=0,0,(AK13*((LOG(AK13))/LOG(2))))","v":0},null,{"$f":"N13","v":221},{"$f":"COUNTIF(L145:L179,AN13)","v":0},{"$f":"AO13/(AQ4-AO11)","v":0},{"$f":"IF(AP13=0,0,(AP13*((LOG(AP13))/LOG(2))))","v":0},null,{"$f":"N13","v":221},{"$f":"COUNTIF(L180:L213,AS13)","v":0},{"$f":"AT13/(AV4-AT11)","v":0},{"$f":"IF(AU13=0,0,(AU13*((LOG(AU13))/LOG(2))))","v":0}]
[12,791,24,806,24,811,null,null,null,null,0,122,null,222,{"$f":"COUNTIF($L$7:$L$500,N14)","v":140},{"$f":"O14/$Q$4","v":0.67632850241545894},{"$f":"IF(P14=0,0,(P14*((LOG(P14))/LOG(2))))","v":-0.38158720617203007},null,null,{"$f":"N14","v":222},{"$f":"COUNTIF(L7:L41,T14)","v":20},{"$f":"U14/(W4-U11)","v":0.5714285714285714},{"$f":"IF(V14=0,0,(V14*((LOG(V14))/LOG(2))))","v":-0.46134566974720237},null,{"$f":"N14","v":222},{"$f":"COUNTIF(L42:L75,Y14)","v":28},{"$f":"Z14/(AB4-Z11)","v":0.82352941176470584},{"$f":"IF(AA14=0,0,(AA14*((LOG(AA14))/LOG(2))))","v":-0.2306771099234291},null,{"$f":"N14","v":222},{"$f":"COUNTIF(L76:L110,AD14)","v":19},{"$f":"AE14/(AG4-AE11)","v":0.54285714285714282},{"$f":"IF(AF14=0,0,(AF14*((LOG(AF14))/LOG(2))))","v":-0.47845013047217821},null,{"$f":"N14","v":222},{"$f":"COUNTIF(L111:L144,AI14)","v":25},{"$f":"AJ14/(AL4-AJ11)","v":0.73529411764705888},{"$f":"IF(AK14=0,0,(AK14*((LOG(AK14))/LOG(2))))","v":-0.3261813613791284},null,{"$f":"N14","v":222},{"$f":"COUNTIF(L145:L179,AN14)","v":26},{"$f":"AO14/(AQ4-AO11)","v":0.74285714285714288},{"$f":"IF(AP14=0,0,(AP14*((LOG(AP14))/LOG(2))))","v":-0.31856930768287806},null,{"$f":"N14","v":222},{"$f":"COUNTIF(L180:L213,AS14)","v":22},{"$f":"AT14/(AV4-AT11)","v":0.6470588235294118},{"$f":"IF(AU14=0,0,(AU14*((LOG(AU14))/LOG(2))))","v":-0.40637314404373309}]
[21,920,22,925,24,930,null,null,null,null,0,222,null,null,null,{"$f":"SUM(P7:P14)","v":1},{"$f":"-SUM(Q7:Q14)","v":1.1051119134000054},null,null,null,null,{"$f":"SUM(V7:V14)","v":1},{"$f":"-SUM(W7:W14)","v":1.2280179245569252},null,null,null,{"$f":"SUM(AA7:AA14)","v":1},{"$f":"-SUM(AB7:AB14)","v":0.67229481707563798},null,null,null,{"$f":"SUM(AF7:AF14)","v":1},{"$f":"-SUM(AG7:AG14)","v":1.2431803979668357},null,null,null,{"$f":"SUM(AK7:AK14)","v":1},{"$f":"-SUM(AL7:AL14)","v":0.96698034876892414},null,null,null,{"$f":"SUM(AP7:AP14)","v":1},{"$f":"-SUM(AQ7:AQ14)","v":1.0189139562000629},null,null,null,{"$f":"SUM(AU7:AU14)","v":1},{"$f":"-SUM(AV7:AV14)","v":1.2230008375690211}]
[21,1030,22,1037,24,1047,null,null,null,null,0,222,null,null,null,"U=",{"$f":"Q15/(LOG(Q4)/LOG(2))","v":0.14364252769971661},null,null,null,null,"U1=",{"$f":"W15/(LOG(W4)/LOG(2))","v":0.2394131734396556},null,null,null,"U2=",{"$f":"AB15/(LOG(AB4)/LOG(2))","v":0.1321473665860543},null,null,null,"U3=",{"$f":"AG15/(LOG(AG4)/LOG(2))","v":0.2423692344251423},null,null,null,"U4=",{"$f":"AL15/(LOG(AL4)/LOG(2))","v":0.19007123569108381},null,null,null,"U5=",{"$f":"AQ15/(LOG(AQ4)/LOG(2))","v":0.19864646829469249},null,null,null,"U6=",{"$f":"AV15/(LOG(AV4)/LOG(2))","v":0.24039504085467597}]
[12,1147,24,1163,24,1168,null,null,null,null,0,122]
[12,1285,24,1294,24,1297,null,null,null,null,0,122]
[21,1404,22,1408,24,1412,null,null,null,null,0,222,null,"Total Target Seq"]
[21,1524,22,1529,24,1535,null,null,null,null,0,222,null,{"$f":"COUNTIF(L7:L213,G3)","v":0},null,35,34,35,34,35,34]
[21,1635,22,1637,24,1640,null,null,null,null,0,222,null,null,null,"% of reinforcement given in 6 equal intervals based on number of trials "]
[21,1742,22,1745,24,1748,null,null,null,null,0,222,null,null,null,"%_1","%_2","%_3","%_4","%_5","%_6"]
[21,1849,22,1853,24,1859,null,null,null,null,0,222,null,null,"target sequence",{"$f":"$G$3","v":211},{"$f":"$G$3","v":211},{"$f":"$G$3","v":211},{"$f":"$G$3","v":211},{"$f":"$G$3","v":211},{"$f":"$G$3","v":211}]
[12,1951,24,1961,24,1967,null,null,null,null,0,122,null,null,"total reinforcement",{"$f":"U11","v":0},{"$f":"Z11","v":0},{"$f":"AE11","v":0},{"$f":"AJ11","v":0},{"$f":"AO11","v":0},{"$f":"AT11","v":0}]
[12,2063,24,2068,24,2073,null,null,null,null,0,122,null,null,"% target"]
[12,2169,24,2180,24,2183,null,null,null,null,0,122,null,null,"CCRF"]
[21,2283,22,2289,24,2294,null,null,null,null,0,222,null,null,"% CCRf"]
[12,2391,24,2396,24,2400,null,null,null,null,0,122,null,null,"average response rate",{"$f":"F41/P20","v":110.08571428571429},{"$f":"(F75-F41)/Q20","v":120.23529411764706},{"$f":"(F110-F75)/R20","v":115.02857142857142},{"$f":"(F144-F110)/S20","v":122.58823529411765},{"$f":"(F179-F144)/T20","v":112.54285714285714},{"$f":"(F213-F179)/U20","v":114.29411764705883}]
[21,2505,22,2509,24,2513,null,null,null,null,0,222]
[12,2602,24,2613,24,2618,null,null,null,null,0,122]
[12,2715,13,2718,24,2737,null,null,null,null,0,112]
[12,2837,24,2846,24,2854,null,null,null,null,0,122]
[12,2951,24,2962,24,2966,null,null,null,null,0,122]
[12,3057,13,3060,24,3070,null,null,null,null,0,112]
[21,3180,22,3186,24,3191,null,null,null,null,0,222]
[12,3289,24,3295,24,3302,null,null,null,null,0,122]
[21,3403,22,3406,24,3410,null,null,null,null,0,222]
[21,3513,22,3517,24,3520,null,null,null,null,0,222]
[21,3618,22,3625,24,3630,null,null,null,null,0,222]
[21,3731,22,3736,24,3739,null,null,null,null,0,222]
[21,3834,22,3838,24,3853,null,null,null,null,0,222]
[21,3955,22,3959,24,3964,null,null,null,null,0,222]
[12,4061,24,4070,24,4075,null,null,null,null,0,122]
[21,4173,22,4176,24,4185,null,null,null,null,0,222]
[21,4285,22,4289,24,4293,null,null,null,null,0,222]
[21,4396,22,4400,24,4405,null,null,null,null,0,222]
[21,4507,22,4511,24,4515,null,null,null,null,0,222]
[21,4621,22,4624,24,4629,null,null,null,null,0,222]
[21,4728,22,4730,24,4733,null,null,null,null,0,222]
[21,4841,22,4843,24,4844,null,null,null,null,0,222]
[21,4955,22,4958,24,4962,null,null,null,null,0,222]
[21,5135,22,5142,24,5148,null,null,null,null,0,222]
[21,5268,22,5271,24,5276,null,null,null,null,0,222]
[12,5372,24,5383,24,5387,null,null,null,null,0,122]
[21,5485,22,5488,24,5495,null,null,null,null,0,222]
[21,5591,22,5598,24,5602,null,null,null,null,0,222]
[12,5700,24,5711,24,5714,null,null,null,null,0,122]
[21,5827,22,5835,24,5841,null,null,null,null,0,222]
[21,6026,22,6030,24,6034,null,null,null,null,0,222]
[21,6138,22,6143,24,6148,null,null,null,null,0,222]
[21,6252,22,6256,24,6261,null,null,null,null,0,222]
[21,6358,22,6362,24,6366,null,null,null,null,0,222]
[21,6467,22,6471,24,6474,null,null,null,null,0,222]
[21,6582,22,6587,24,6591,null,null,null,null,0,222]
[21,6785,22,6789,24,6793,null,null,null,null,0,222]
[21,6896,22,6900,24,6908,null,null,null,null,0,222]
[12,7005,24,7017,24,7021,null,null,null,null,0,122]
[12,7118,24,7132,24,7137,null,null,null,null,0,122]
[21,7237,22,7240,24,7244,null,null,null,null,0,222]
[21,7342,22,7346,24,7350,null,null,null,null,0,222]
[21,7459,22,7465,24,7471,null,null,null,null,0,222]
[21,7573,22,7577,24,7582,null,null,null,null,0,222]
[12,7677,24,7689,24,7697,null,null,null,null,0,122]
[21,7821,22,7825,24,7829,null,null,null,null,0,222]
[21,7932,22,7937,24,7941,null,null,null,null,0,222]
[21,8046,22,8050,24,8054,null,null,null,null,0,222]
[21,8154,22,8158,24,8162,null,null,null,null,0,222]
[12,8256,24,8265,24,8269,null,null,null,null,0,122]
[21,8373,22,8376,24,8380,null,null,null,null,0,222]
[12,8479,24,8490,24,8494,null,null,null,null,0,122]
[21,8597,22,8602,24,8607,null,null,null,null,0,222]
[21,8717,22,8723,24,8727,null,null,null,null,0,222]
[21,8828,22,8837,24,8840,null,null,null,null,0,222]
[12,8937,13,8939,24,8952,null,null,null,null,0,112]
[12,9047,24,9059,24,9063,null,null,null,null,0,122]
[12,9160,24,9175,24,9184,null,null,null,null,0,122]
[21,9381,22,9385,24,9390,null,null,null,null,0,222]
[21,9490,22,9492,24,9494,null,null,null,null,0,222]
[12,9588,24,9600,24,9603,null,null,null,null,0,122]
[12,9698,24,9714,24,9715,null,null,null,null,0,122]
[21,9815,22,9819,24,9824,null,null,null,null,0,222]
[21,9921,22,9925,24,9928,null,null,null,null,0,222]
[21,10023,22,10026,24,10029,null,null,null,null,0,222]
[12,10128,24,10138,24,10142,null,null,null,null,0,122]
[21,10246,22,10249,24,10253,null,null,null,null,0,222]
[21,10370,22,10374,24,10380,null,null,null,null,0,222]
[21,10479,22,10483,24,10487,null,null,null,null,0,222]
[12,10584,24,10595,24,10599,null,null,null,null,0,122]
[21,10707,22,10710,24,10715,null,null,null,null,0,222]
[12,10806,24,10818,24,10823,null,null,null,null,0,122]
[21,10925,22,10928,24,10937,null,null,null,null,0,222]
[12,11035,24,11046,24,11051,null,null,null,null,0,122]
[12,11146,24,11153,24,11158,null,null,null,null,0,122]
[12,11255,24,11271,24,11276,null,null,null,null,0,122]
[12,11371,24,11383,24,11389,null,null,null,null,0,122]
[21,11525,22,11533,24,11539,null,null,null,null,0,222]
[21,11638,22,11641,24,11645,null,null,null,null,0,222]
[12,11737,13,11739,24,11750,null,null,null,null,0,112]
[21,11850,22,11853,24,11856,null,null,null,null,0,222]
[12,11954,24,11963,24,11967,null,null,null,null,0,122]
[21,12070,22,12074,24,12079,null,null,null,null,0,222]
[12,12177,24,12186,24,12190,null,null,null,null,0,122]
[21,12288,22,12290,24,12294,null,null,null,null,0,222]
[21,12388,22,12391,24,12394,null,null,null,null,0,222]
[12,12492,24,12503,24,12507,null,null,null,null,0,122]
[21,12608,22,12611,24,12617,null,null,null,null,0,222]
[21,12713,22,12717,24,12722,null,null,null,null,0,222]
[21,12829,22,12832,24,12837,null,null,null,null,0,222]
[21,12943,22,12946,24,12953,null,null,null,null,0,222]
[12,13047,24,13058,24,13062,null,null,null,null,0,122]
[21,13161,22,13163,24,13165,null,null,null,null,0,222]
[12,13264,13,13265,24,13277,null,null,null,null,0,112]
[12,13375,24,13387,24,13395,null,null,null,null,0,122]
[21,13493,22,13495,24,13498,null,null,null,null,0,222]
[21,13608,22,13614,24,13619,null,null,null,null,0,222]
[21,13717,22,13721,24,13724,null,null,null,null,0,222]
[12,13822,24,13832,24,13836,null,null,null,null,0,122]
[21,13935,22,13941,24,13950,null,null,null,null,0,222]
[12,14050,24,14069,24,14074,null,null,null,null,0,122]
[21,14449,22,14453,24,14457,null,null,null,null,0,222]
[21,14562,22,14566,24,14570,null,null,null,null,0,222]
[21,14720,22,14724,24,14727,null,null,null,null,0,222]
[21,14838,22,14844,24,14847,null,null,null,null,0,222]
[21,14986,22,14988,24,14993,null,null,null,null,0,222]
[21,15102,22,15106,24,15110,null,null,null,null,0,222]
[21,15219,22,15223,24,15228,null,null,null,null,0,222]
[12,15321,24,15334,24,15342,null,null,null,null,0,122]
[21,15440,22,15444,24,15448,null,null,null,null,0,222]
[21,15549,22,15558,24,15564,null,null,null,null,0,222]
[21,15685,22,15689,24,15692,null,null,null,null,0,222]
[21,15791,22,15793,24,15796,null,null,null,null,0,222]
[21,15900,22,15904,24,15909,null,null,null,null,0,222]
[21,16017,22,16022,24,16027,null,null,null,null,0,222]
[12,16120,24,16131,24,16135,null,null,null,null,0,122]
[21,16233,22,16236,24,16240,null,null,null,null,0,222]
[12,16334,24,16346,24,16350,null,null,null,null,0,122]
[21,16451,22,16455,24,16460,null,null,null,null,0,222]
[21,16561,22,16564,24,16569,null,null,null,null,0,222]
[12,16663,24,16674,24,16683,null,null,null,null,0,122]
[21,16784,22,16788,24,16791,null,null,null,null,0,222]
[12,16884,24,16896,24,16900,null,null,null,null,0,122]
[21,17003,22,17006,24,17011,null,null,null,null,0,222]
[21,17112,22,17116,24,17120,null,null,null,null,0,222]
[21,17224,22,17229,24,17237,null,null,null,null,0,222]
[12,17330,24,17341,24,17345,null,null,null,null,0,122]
[21,17457,22,17461,24,17465,null,null,null,null,0,222]
[21,17570,22,17574,24,17583,null,null,null,null,0,222]
[12,17677,13,17679,24,17693,null,null,null,null,0,112]
[21,17792,22,17799,24,17811,null,null,null,null,0,222]
[21,17915,22,17917,24,17921,null,null,null,null,0,222]
[21,18025,22,18032,24,18037,null,null,null,null,0,222]
[21,18137,22,18140,24,18145,null,null,null,null,0,222]
[21,18246,22,18249,24,18254,null,null,null,null,0,222]
[21,18362,22,18366,24,18376,null,null,null,null,0,222]
[21,18480,22,18484,24,18489,null,null,null,null,0,222]
[21,18586,22,18588,24,18593,null,null,null,null,0,222]
[21,18692,22,18696,24,18699,null,null,null,null,0,222]
[21,18797,22,18799,24,18801,null,null,null,null,0,222]
[12,18899,13,18901,24,18913,null,null,null,null,0,112]
[21,19038,22,19041,24,19045,null,null,null,null,0,222]
[21,19159,22,19165,24,19168,null,null,null,null,0,222]
[21,19271,22,19275,24,19283,null,null,null,null,0,222]
[21,19385,22,19389,24,19394,null,null,null,null,0,222]
[21,19496,22,19501,24,19505,null,null,null,null,0,222]
[12,19600,24,19613,24,19618,null,null,null,null,0,122]
[12,19715,24,19731,24,19740,null,null,null,null,0,122]
[12,19838,24,19855,24,19859,null,null,null,null,0,122]
[21,19960,22,19963,24,19965,null,null,null,null,0,222]
[21,20063,22,20070,24,20074,null,null,null,null,0,222]
[21,20195,22,20199,24,20211,null,null,null,null,0,222]
[21,20309,22,20313,24,20316,null,null,null,null,0,222]
[12,20408,24,20422,24,20426,null,null,null,null,0,122]
[12,20524,24,20537,24,20542,null,null,null,null,0,122]
[21,20660,22,20662,24,20664,null,null,null,null,0,222]
[21,20772,22,20776,24,20786,null,null,null,null,0,222]
[12,20878,24,20886,24,20890,null,null,null,null,0,122]
[21,20994,22,20997,24,21001,null,null,null,null,0,222]
[21,21107,22,21114,24,21119,null,null,null,null,0,222]
[12,21213,24,21231,24,21236,null,null,null,null,0,122]
[21,21347,22,21351,24,21356,null,null,null,null,0,222]
[21,21460,22,21465,24,21471,null,null,null,null,0,222]
[21,21572,22,21576,24,21580,null,null,null,null,0,222]
[12,21675,24,21685,24,21689,null,null,null,null,0,122]
[21,21793,22,21799,24,21805,null,null,null,null,0,222]
[21,21916,22,21920,24,21924,null,null,null,null,0,222]
[21,22024,22,22029,24,22032,null,null,null,null,0,222]
[12,22127,13,22130,24,22144,null,null,null,null,0,112]
[21,22248,22,22252,24,22256,null,null,null,null,0,222]
[12,22352,24,22364,24,22368,null,null,null,null,0,122]
[21,22481,22,22487,24,22491,null,null,null,null,0,222]
[12,22585,24,22600,24,22603,null,null,null,null,0,122]
[21,22709,22,22712,24,22717,null,null,null,null,0,222]
[21,22816,22,22818,24,22825,null,null,null,null,0,222]
[12,22920,13,22922,24,22929,null,null,null,null,0,112]
[12,23028,13,23030,24,23044,null,null,null,null,0,112]
[12,23142,24,23161,24,23165,null,null,null,null,0,122]
[21,23266,22,23271,24,23276,null,null,null,null,0,222]
[21,23381,22,23385,24,23390,null,null,null,null,0,222]
[12,23487,24,23501,24,23506,null,null,null,null,0,122]
[21,23631,22,23634,24,23638,null,null,null,null,0,222]
[21,23738,22,23743,24,23746,null,null,null,null,0,222]
[21,23848,22,23850,24,23852,null,null,null,null,0,222]
[21,23951,22,23955,24,23960,null,null,null,null,null,222]

{"sheet":"!L90995T.ayl","index":15,"n_rows":203,"n_cols":48,"rows_kept":203,"cut":false,"hidden":false,"merged":[[4,39,4,42],[5,39,5,40],[4,44,4,47],[5,44,5,45],[4,24,4,27],[5,24,5,25],[4,29,4,32],[5,29,5,30],[4,34,4,37],[5,34,5,35],[1,1,1,2],[5,13,5,14],[18,13,18,14],[19,13,19,14],[4,19,4,22],[5,19,5,20]]}
["Report for:!L90995T.ayl"]
["Date:","<date>"]
["Hen:","<hen>",null,null,null,"Correct Sequence",{"$f":"Start!J2","v":211},null,null,null,null,null,null,null,null,"Total Sequences in Data",{"$f":"4994-COUNTBLANK(L7:L5000)","v":197},null,null,null,null,"Total Sequences in Block Data",{"$f":"COUNTA(L7:L39)","v":33},null,null,null,"Total Sequences in Block Data",{"$f":"COUNTA(L40:L72)","v":33},null,null,null,"Total Sequences in Block Data",{"$f":"COUNTA(L73:L104)","v":32},null,null,null,"Total Sequences in Block Data",{"$f":"COUNTA(L105:L137)","v":33},null,null,null,"Total Sequences in Block Data",{"$f":"COUNTA(L138:L170)","v":33},null,null,null,"Total Sequences in Block Data",{"$f":"COUNTA(L171:L203)","v":33}]
[null,null,null,null,null,null,null,null,null,null,null,null,null,null,null,"Total Sequences in Summary",{"$f":"SUM(O7:O14)","v":197},null,null,null,null,"Total Sequences in Block Summary",{"$f":"SUM(U7:U14)","v":33},null,null,null,"Total Sequences in Block Summary",{"$f":"SUM(Z7:Z14)","v":33},null,null,null,"Total Sequences in Block Summary",{"$f":"SUM(AE7:AE14)","v":32},null,null,null,"Total Sequences in Block Summary",{"$f":"SUM(AJ7:AJ14)","v":33},null,null,null,"Total Sequences in Block Summary",{"$f":"SUM(AO7:AO14)","v":33},null,null,null,"Total Sequences in Block Summary",{"$f":"SUM(AT7:AT14)","v":33}]
[null,null,null,null,null,null,null,null,null,null,null,null,null,null,null,null,null,null,null,"Block 1",null,null,null,null,"Block 2",null,null,null,null,"Block 3",null,null,null,null,"Block 4",null,null,null,null,"Block 5",null,null,null,null,"Block 6"]
["Sequence\nComponent\n1","Time\n1","Sequence\nComponent\n2","Time\n2","Sequence\nComponent\n3","Time\n3","Sequence\nComponent\n4","Time\n4","Sequence\nComponent\n5","Time\n5","Correct?\n0=No 1=Yes","Sequence",null,"Frequency",null,"Relative Frequency","Variability",null,null,"Frequency",null,"Relative Frequency","Variability",null,"Frequency",null,"Relative Frequency","Variability",null,"Frequency",null,"Relative Frequency","Variability",null,"Frequency",null,"Relative Frequency","Variability",null,"Frequency",null,"Relative Frequency","Variability",null,"Frequency",null,"Relative Frequency","Variability"]
[21,17,22,28,24,31,null,null,null,null,0,222,null,111,{"$f":"COUNTIF($L$7:$L$500,N7)","v":1},{"$f":"O7/$Q$4","v":5.076142131979695E-3},{"$f":"IF(P7=0,0,(P7*((LOG(P7))/LOG(2))))","v":-3.8690618372875005E-2},null,null,{"$f":"N7","v":111},{"$f":"COUNTIF(L7:L39,T7)","v":0},{"$f":"U7/(W4-U11)","v":0},{"$f":"IF(V7=0,0,(V7*((LOG(V7))/LOG(2))))","v":0},null,{"$f":"N7","v":111},{"$f":"COUNTIF(L40:L72,Y7)","v":0},{"$f":"Z7/(AB4-Z11)","v":0},{"$f":"IF(AA7=0,0,(AA7*((LOG(AA7))/LOG(2))))","v":0},null,{"$f":"N7","v":111},{"$f":"COUNTIF(L73:L104,AD7)","v":0},{"$f":"AE7/(AG4-AE11)","v":0},{"$f":"IF(AF7=0,0,(AF7*((LOG(AF7))/LOG(2))))","v":0},null,{"$f":"N7","v":111},{"$f":"COUNTIF(L105:L137,AI7)","v":0},{"$f":"AJ7/(AL4-AJ11)","v":0},{"$f":"IF(AK7=0,0,(AK7*((LOG(AK7))/LOG(2))))","v":0},null,{"$f":"N7","v":111},{"$f":"COUNTIF(L138:L170,AN7)","v":1},{"$f":"AO7/(AQ4-AO11)","v":3.0303030303030304E-2},{"$f":"IF(AP7=0,0,(AP7*((LOG(AP7))/LOG(2))))","v":-0.15286042785934709},null,{"$f":"N7","v":111},{"$f":"COUNTIF(L171:L203,AS7)","v":0},{"$f":"AT7/(AV4-AT11)","v":0},{"$f":"IF(AU7=0,0,(AU7*((LOG(AU7))/LOG(2))))","v":0}]
[12,129,24,144,24,149,null,null,null,null,0,122,null,112,{"$f":"COUNTIF($L$7:$L$500,N8)","v":26},{"$f":"O8/$Q$4","v":0.13197969543147209},{"$f":"IF(P8=0,0,(P8*((LOG(P8))/LOG(2))))","v":-0.38559347530049431},null,null,{"$f":"N8","v":112},{"$f":"COUNTIF(L7:L39,T8)","v":3},{"$f":"U8/(W4-U11)","v":9.0909090909090912E-2},{"$f":"IF(V8=0,0,(V8*((LOG(V8))/LOG(2))))","v":-0.31449378351248153},null,{"$f":"N8","v":112},{"$f":"COUNTIF(L40:L72,Y8)","v":5},{"$f":"Z8/(AB4-Z11)","v":0.15151515151515152},{"$f":"IF(AA8=0,0,(AA8*((LOG(AA8))/LOG(2))))","v":-0.41249485219258958},null,{"$f":"N8","v":112},{"$f":"COUNTIF(L73:L104,AD8)","v":3},{"$f":"AE8/(AG4-AE11)","v":9.375E-2},{"$f":"IF(AF8=0,0,(AF8*((LOG(AF8))/LOG(2))))","v":-0.32015976555739156},null,{"$f":"N8","v":112},{"$f":"COUNTIF(L105:L137,AI8)","v":6},{"$f":"AJ8/(AL4-AJ11)","v":0.18181818181818182},{"$f":"IF(AK8=0,0,(AK8*((LOG(AK8))/LOG(2))))","v":-0.44716938520678134},null,{"$f":"N8","v":112},{"$f":"COUNTIF(L138:L170,AN8)","v":3},{"$f":"AO8/(AQ4-AO11)","v":9.0909090909090912E-2},{"$f":"IF(AP8=0,0,(AP8*((LOG(AP8))/LOG(2))))","v":-0.31449378351248153},null,{"$f":"N8","v":112},{"$f":"COUNTIF(L171:L203,AS8)","v":6},{"$f":"AT8/(AV4-AT11)","v":0.18181818181818182},{"$f":"IF(AU8=0,0,(AU8*((LOG(AU8))/LOG(2))))","v":-0.44716938520678134}]
[21,250,22,252,24,256,null,null,null,null,0,222,null,121,{"$f":"COUNTIF($L$7:$L$500,N9)","v":0},{"$f":"O9/$Q$4","v":0},{"$f":"IF(P9=0,0,(P9*((LOG(P9))/LOG(2))))","v":0},null,null,{"$f":"N9","v":121},{"$f":"COUNTIF(L7:L39,T9)","v":0},{"$f":"U9/(W4-U11)","v":0},{"$f":"IF(V9=0,0,(V9*((LOG(V9))/LOG(2))))","v":0},null,{"$f":"N9","v":121},{"$f":"COUNTIF(L40:L72,Y9)","v":0},{"$f":"Z9/(AB4-Z11)","v":0},{"$f":"IF(AA9=0,0,(AA9*((LOG(AA9))/LOG(2))))","v":0},null,{"$f":"N9","v":121},{"$f":"COUNTIF(L73:L104,AD9)","v":0},{"$f":"AE9/(AG4-AE11)","v":0},{"$f":"IF(AF9=0,0,(AF9*((LOG(AF9))/LOG(2))))","v":0},null,{"$f":"N9","v":121},{"$f":"COUNTIF(L105:L137,AI9)","v":0},{"$f":"AJ9/(AL4-AJ11)","v":0},{"$f":"IF(AK9=0,0,(AK9*((LOG(AK9))/LOG(2))))","v":0},null,{"$f":"N9","v":121},{"$f":"COUNTIF(L138:L170,AN9)","v":0},{"$f":"AO9/(AQ4-AO11)","v":0},{"$f":"IF(AP9=0,0,(AP9*((LOG(AP9))/LOG(2))))","v":0},null,{"$f":"N9","v":121},{"$f":"COUNTIF(L171:L203,AS9)","v":0},{"$f":"AT9/(AV4-AT11)","v":0},{"$f":"IF(AU9=0,0,(AU9*((LOG(AU9))/LOG(2))))","v":0}]
[12,354,24,372,24,377,null,null,null,null,0,122,null,122,{"$f":"COUNTIF($L$7:$L$500,N10)","v":41},{"$f":"O10/$Q$4","v":0.20812182741116753},{"$f":"IF(P10=0,0,(P10*((LOG(P10))/LOG(2))))","v":-0.47129183963639598},null,null,{"$f":"N10","v":122},{"$f":"COUNTIF(L7:L39,T10)","v":9},{"$f":"U10/(W4-U11)","v":0.27272727272727271},{"$f":"IF(V10=0,0,(V10*((LOG(V10))/LOG(2))))","v":-0.51121885034076575},null,{"$f":"N10","v":122},{"$f":"COUNTIF(L40:L72,Y10)","v":9},{"$f":"Z10/(AB4-Z11)","v":0.27272727272727271},{"$f":"IF(AA10=0,0,(AA10*((LOG(AA10))/LOG(2))))","v":-0.51121885034076575},null,{"$f":"N10","v":122},{"$f":"COUNTIF(L73:L104,AD10)","v":10},{"$f":"AE10/(AG4-AE11)","v":0.3125},{"$f":"IF(AF10=0,0,(AF10*((LOG(AF10))/LOG(2))))","v":-0.52439747034769923},null,{"$f":"N10","v":122},{"$f":"COUNTIF(L105:L137,AI10)","v":2},{"$f":"AJ10/(AL4-AJ11)","v":6.0606060606060608E-2},{"$f":"IF(AK10=0,0,(AK10*((LOG(AK10))/LOG(2))))","v":-0.24511479511263354},null,{"$f":"N10","v":122},{"$f":"COUNTIF(L138:L170,AN10)","v":7},{"$f":"AO10/(AQ4-AO11)","v":0.21212121212121213},{"$f":"IF(AP10=0,0,(AP10*((LOG(AP10))/LOG(2))))","v":-0.47452346609411955},null,{"$f":"N10","v":122},{"$f":"COUNTIF(L171:L203,AS10)","v":4},{"$f":"AT10/(AV4-AT11)","v":0.12121212121212122},{"$f":"IF(AU10=0,0,(AU10*((LOG(AU10))/LOG(2))))","v":-0.36901746901314586}]
[21,481,22,487,24,497,null,null,null,null,0,222,null,211,{"$f":"COUNTIF($L$7:$L$500,N11)","v":0},{"$f":"O11/$Q$4","v":0},{"$f":"IF(P11=0,0,(P11*((LOG(P11))/LOG(2))))","v":0},null,null,{"$f":"N11","v":211},{"$f":"COUNTIF(L7:L39,T11)","v":0},null,null,null,{"$f":"N11","v":211},{"$f":"COUNTIF(L40:L72,Y11)","v":0},null,null,null,{"$f":"N11","v":211},{"$f":"COUNTIF(L73:L104,AD11)","v":0},null,null,null,{"$f":"N11","v":211},{"$f":"COUNTIF(L105:L137,AI11)","v":0},null,null,null,{"$f":"N11","v":211},{"$f":"COUNTIF(L138:L170,AN11)","v":0},null,null,null,{"$f":"N11","v":211},{"$f":"COUNTIF(L171:L203,AS11)","v":0}]
[21,596,22,598,24,600,null,null,null,null,0,222,null,212,{"$f":"COUNTIF($L$7:$L$500,N12)","v":0},{"$f":"O12/$Q$4","v":0},{"$f":"IF(P12=0,0,(P12*((LOG(P12))/LOG(2))))","v":0},null,null,{"$f":"N12","v":212},{"$f":"COUNTIF(L7:L39,T12)","v":0},{"$f":"U12/(W4-U11)","v":0},{"$f":"IF(V12=0,0,(V12*((LOG(V12))/LOG(2))))","v":0},null,{"$f":"N12","v":212},{"$f":"COUNTIF(L40:L72,Y12)","v":0},{"$f":"Z12/(AB4-Z11)","v":0},{"$f":"IF(AA12=0,0,(AA12*((LOG(AA12))/LOG(2))))","v":0},null,{"$f":"N12","v":212},{"$f":"COUNTIF(L73:L104,AD12)","v":0},{"$f":"AE12/(AG4-AE11)","v":0},{"$f":"IF(AF12=0,0,(AF12*((LOG(AF12))/LOG(2))))","v":0},null,{"$f":"N12","v":212},{"$f":"COUNTIF(L105:L137,AI12)","v":0},{"$f":"AJ12/(AL4-AJ11)","v":0},{"$f":"IF(AK12=0,0,(AK12*((LOG(AK12))/LOG(2))))","v":0},null,{"$f":"N12","v":212},{"$f":"COUNTIF(L138:L170,AN12)","v":0},{"$f":"AO12/(AQ4-AO11)","v":0},{"$f":"IF(AP12=0,0,(AP12*((LOG(AP12))/LOG(2))))","v":0},null,{"$f":"N12","v":212},{"$f":"COUNTIF(L171:L203,AS12)","v":0},{"$f":"AT12/(AV4-AT11)","v":0},{"$f":"IF(AU12=0,0,(AU12*((LOG(AU12))/LOG(2))))","v":0}]
[21,726,22,729,24,733,null,null,null,null,0,222,null,221,{"$f":"COUNTIF($L$7:$L$500,N13)","v":0},{"$f":"O13/$Q$4","v":0},{"$f":"IF(P13=0,0,(P13*((LOG(P13))/LOG(2))))","v":0},null,null,{"$f":"N13","v":221},{"$f":"COUNTIF(L7:L39,T13)","v":0},{"$f":"U13/(W4-U11)","v":0},{"$f":"IF(V13=0,0,(V13*((LOG(V13))/LOG(2))))","v":0},null,{"$f":"N13","v":221},{"$f":"COUNTIF(L40:L72,Y13)","v":0},{"$f":"Z13/(AB4-Z11)","v":0},{"$f":"IF(AA13=0,0,(AA13*((LOG(AA13))/LOG(2))))","v":0},null,{"$f":"N13","v":221},{"$f":"COUNTIF(L73:L104,AD13)","v":0},{"$f":"AE13/(AG4-AE11)","v":0},{"$f":"IF(AF13=0,0,(AF13*((LOG(AF13))/LOG(2))))","v":0},null,{"$f":"N13","v":221},{"$f":"COUNTIF(L105:L137,AI13)","v":0},{"$f":"AJ13/(AL4-AJ11)","v":0},{"$f":"IF(AK13=0,0,(AK13*((LOG(AK13))/LOG(2))))","v":0},null,{"$f":"N13","v":221},{"$f":"COUNTIF(L138:L170,AN13)","v":0},{"$f":"AO13/(AQ4-AO11)","v":0},{"$f":"IF(AP13=0,0,(AP13*((LOG(AP13))/LOG(2))))","v":0},null,{"$f":"N13","v":221},{"$f":"COUNTIF(L171:L203,AS13)","v":0},{"$f":"AT13/(AV4-AT11)","v":0},{"$f":"IF(AU13=0,0,(AU13*((LOG(AU13))/LOG(2))))","v":0}]
[21,839,22,844,24,853,null,null,null,null,0,222,null,222,{"$f":"COUNTIF($L$7:$L$500,N14)","v":129},{"$f":"O14/$Q$4","v":0.65482233502538068},{"$f":"IF(P14=0,0,(P14*((LOG(P14))/LOG(2))))","v":-0.39998156731102924},null,null,{"$f":"N14","v":222},{"$f":"COUNTIF(L7:L39,T14)","v":21},{"$f":"U14/(W4-U11)","v":0.63636363636363635},{"$f":"IF(V14=0,0,(V14*((LOG(V14))/LOG(2))))","v":-0.41495789782344106},null,{"$f":"N14","v":222},{"$f":"COUNTIF(L40:L72,Y14)","v":19},{"$f":"Z14/(AB4-Z11)","v":0.5757575757575758},{"$f":"IF(AA14=0,0,(AA14*((LOG(AA14))/LOG(2))))","v":-0.45857168219340877},null,{"$f":"N14","v":222},{"$f":"COUNTIF(L73:L104,AD14)","v":19},{"$f":"AE14/(AG4-AE11)","v":0.59375},{"$f":"IF(AF14=0,0,(AF14*((LOG(AF14))/LOG(2))))","v":-0.44654303889287106},null,{"$f":"N14","v":222},{"$f":"COUNTIF(L105:L137,AI14)","v":25},{"$f":"AJ14/(AL4-AJ11)","v":0.75757575757575757},{"$f":"IF(AK14=0,0,(AK14*((LOG(AK14))/LOG(2))))","v":-0.30343782544221876},null,{"$f":"N14","v":222},{"$f":"COUNTIF(L138:L170,AN14)","v":22},{"$f":"AO14/(AQ4-AO11)","v":0.66666666666666663},{"$f":"IF(AP14=0,0,(AP14*((LOG(AP14))/LOG(2))))","v":-0.38997500048077083},null,{"$f":"N14","v":222},{"$f":"COUNTIF(L171:L203,AS14)","v":23},{"$f":"AT14/(AV4-AT11)","v":0.69696969696969702},{"$f":"IF(AU14=0,0,(AU14*((LOG(AU14))/LOG(2))))","v":-0.36300423502827672}]
[21,956,22,959,24,964,null,null,null,null,0,222,null,null,null,{"$f":"SUM(P7:P14)","v":1},{"$f":"-SUM(Q7:Q14)","v":1.2955575006207944},null,null,null,null,{"$f":"SUM(V7:V14)","v":1},{"$f":"-SUM(W7:W14)","v":1.2406705316766882},null,null,null,{"$f":"SUM(AA7:AA14)","v":1},{"$f":"-SUM(AB7:AB14)","v":1.382285384726764},null,null,null,{"$f":"SUM(AF7:AF14)","v":1},{"$f":"-SUM(AG7:AG14)","v":1.2911002747979619},null,null,null,{"$f":"SUM(AK7:AK14)","v":1},{"$f":"-SUM(AL7:AL14)","v":0.99572200576163361},null,null,null,{"$f":"SUM(AP7:AP14)","v":1},{"$f":"-SUM(AQ7:AQ14)","v":1.331852677946719},null,null,null,{"$f":"SUM(AU7:AU14)","v":1},{"$f":"-SUM(AV7:AV14)","v":1.1791910892482038}]
[21,1067,22,1070,24,1075,null,null,null,null,0,222,null,null,null,"U=",{"$f":"Q15/(LOG(Q4)/LOG(2))","v":0.16997490063157256},null,null,null,null,"U1=",{"$f":"W15/(LOG(W4)/LOG(2))","v":0.24595035643933325},null,null,null,"U2=",{"$f":"AB15/(LOG(AB4)/LOG(2))","v":0.27402406553089931},null,null,null,"U3=",{"$f":"AG15/(LOG(AG4)/LOG(2))","v":0.25822005495959238},null,null,null,"U4=",{"$f":"AL15/(LOG(AL4)/LOG(2))","v":0.19739179417810235},null,null,null,"U5=",{"$f":"AQ15/(LOG(AQ4)/LOG(2))","v":0.26402629263950222},null,null,null,"U6=",{"$f":"AV15/(LOG(AV4)/LOG(2))","v":0.23376268018450816}]
[12,1172,24,1186,24,1190,null,null,null,null,0,122]
[21,1297,22,1301,24,1312,null,null,null,null,0,222]
[21,1424,22,1432,24,1438,null,null,null,null,0,222,null,"Total Target Seq"]
[21,1570,22,1576,24,1581,null,null,null,null,0,222,null,{"$f":"COUNTIF(L7:L203,G3)","v":0},null,33,33,32,33,33,33]
[21,1682,22,1686,24,1690,null,null,null,null,0,222,null,null,null,"% of reinforcement given in 6 equal intervals based on number of trials "]
[12,1787,13,1789,24,1800,null,null,null,null,0,112,null,null,null,"%_1","%_2","%_3","%_4","%_5","%_6"]
[12,1896,24,1908,24,1912,null,null,null,null,0,122,null,null,"target sequence",{"$f":"$G$3","v":211},{"$f":"$G$3","v":211},{"$f":"$G$3","v":211},{"$f":"$G$3","v":211},{"$f":"$G$3","v":211},{"$f":"$G$3","v":211}]
[12,2009,24,2020,24,2025,null,null,null,null,0,122,null,null,"total reinforcement",{"$f":"U11","v":0},{"$f":"Z11","v":0},{"$f":"AE11","v":0},{"$f":"AJ11","v":0},{"$f":"AO11","v":0},{"$f":"AT11","v":0}]
[21,2129,22,2135,24,2139,null,null,null,null,0,222,null,null,"% target"]
[12,2240,24,2253,24,2257,null,null,null,null,0,122,null,null,"CCRF"]
[21,2369,22,2374,24,2379,null,null,null,null,0,222,null,null,"% CCRf"]
[12,2475,24,2490,24,2494,null,null,null,null,0,122,null,null,"average response rate",{"$f":"F39/P20","v":114},{"$f":"(F72-F39)/Q20","v":117.78787878787878},{"$f":"(F104-F72)/R20","v":114.875},{"$f":"(F137-F104)/S20","v":127.96969696969697},{"$f":"(F170-F137)/T20","v":125.6969696969697},{"$f":"(F203-F170)/U20","v":130.21212121212122}]
[12,2592,13,2594,24,2604,null,null,null,null,0,112]
[21,2701,22,2708,24,2712,null,null,null,null,0,222]
[21,2822,22,2832,24,2838,null,null,null,null,0,222]
[12,2934,24,2951,24,2954,null,null,null,null,0,122]
[21,3069,22,3077,24,3082,null,null,null,null,0,222]
[12,3177,13,3179,24,3192,null,null,null,null,0,112]
[21,3297,22,3301,24,3305,null,null,null,null,0,222]
[21,3409,22,3413,24,3416,null,null,null,null,0,222]
[12,3514,24,3528,24,3532,null,null,null,null,0,122]
[21,3635,22,3640,24,3645,null,null,null,null,0,222]
[21,3754,22,3758,24,3762,null,null,null,null,0,222]
[21,3956,22,3961,24,3968,null,null,null,null,0,222]
[21,4073,22,4078,24,4082,null,null,null,null,0,222]
[21,4180,22,4185,24,4187,null,null,null,null,0,222]
[12,4284,24,4294,24,4298,null,null,null,null,0,122]
[21,4400,22,4405,24,4410,null,null,null,null,0,222]
[21,4513,22,4516,24,4522,null,null,null,null,0,222]
[12,4619,24,4633,24,4638,null,null,null,null,0,122]
[12,4731,24,4739,24,4743,null,null,null,null,0,122]
[21,4843,22,4847,24,4851,null,null,null,null,0,222]
[21,4964,22,4968,24,4972,null,null,null,null,0,222]
[12,5071,13,5073,24,5086,null,null,null,null,0,112]
[21,5189,22,5193,24,5198,null,null,null,null,0,222]
[12,5290,24,5303,24,5312,null,null,null,null,0,122]
[21,5419,22,5423,24,5428,null,null,null,null,0,222]
[12,5528,24,5540,24,5544,null,null,null,null,0,122]
[12,5652,24,5662,24,5667,null,null,null,null,0,122]
[12,5767,13,5771,24,5781,null,null,null,null,0,112]
[12,5878,13,5881,24,5897,null,null,null,null,0,112]
[21,6000,22,6004,24,6009,null,null,null,null,0,222]
[21,6109,22,6111,24,6113,null,null,null,null,0,222]
[21,6219,22,6224,24,6228,null,null,null,null,0,222]
[12,6327,13,6329,24,6341,null,null,null,null,0,112]
[21,6442,22,6447,24,6452,null,null,null,null,0,222]
[21,6552,22,6554,24,6558,null,null,null,null,0,222]
[12,6657,24,6668,24,6672,null,null,null,null,0,122]
[21,6805,22,6810,24,6815,null,null,null,null,0,222]
[12,6908,24,6924,24,6929,null,null,null,null,0,122]
[21,7029,22,7034,24,7038,null,null,null,null,0,222]
[21,7136,22,7140,24,7143,null,null,null,null,0,222]
[12,7241,13,7244,24,7255,null,null,null,null,0,112]
[21,7416,22,7422,24,7426,null,null,null,null,0,222]
[21,7525,22,7529,24,7534,null,null,null,null,0,222]
[12,7626,24,7644,24,7649,null,null,null,null,0,122]
[21,7757,22,7761,24,7767,null,null,null,null,0,222]
[21,7868,22,7874,24,7879,null,null,null,null,0,222]
[21,7979,22,7984,24,7989,null,null,null,null,0,222]
[21,8092,22,8096,24,8100,null,null,null,null,0,222]
[21,8237,22,8238,24,8244,null,null,null,null,0,222]
[12,8336,24,8349,24,8353,null,null,null,null,0,122]
[12,8446,13,8448,24,8459,null,null,null,null,0,112]
[12,8555,13,8558,24,8569,null,null,null,null,0,112]
[12,8668,24,8680,24,8684,null,null,null,null,0,122]
[21,8783,22,8787,24,8791,null,null,null,null,0,222]
[21,8890,22,8896,24,8899,null,null,null,null,0,222]
[21,9009,22,9018,24,9025,null,null,null,null,0,222]
[12,9115,24,9126,24,9130,null,null,null,null,0,122]
[21,9236,22,9240,24,9247,null,null,null,null,0,222]
[21,9348,22,9353,24,9358,null,null,null,null,0,222]
[21,9460,22,9465,24,9470,null,null,null,null,0,222]
[21,9574,22,9578,24,9583,null,null,null,null,0,222]
[12,9680,24,9695,24,9697,null,null,null,null,0,122]
[21,9797,22,9801,24,9806,null,null,null,null,0,222]
[12,9901,24,9916,24,9920,null,null,null,null,0,122]
[21,10018,22,10022,24,10027,null,null,null,null,0,222]
[21,10176,22,10179,24,10184,null,null,null,null,0,222]
[12,10281,24,10292,24,10296,null,null,null,null,0,122]
[12,10393,24,10406,24,10410,null,null,null,null,0,122]
[12,10499,24,10509,24,10514,null,null,null,null,0,122]
[12,10612,13,10615,24,10629,null,null,null,null,0,112]
[21,10747,22,10751,24,10754,null,null,null,null,0,222]
[12,10843,24,10857,24,10861,null,null,null,null,0,122]
[21,10960,22,10964,24,10968,null,null,null,null,0,222]
[21,11074,22,11078,24,11083,null,null,null,null,0,222]
[12,11183,24,11197,24,11201,null,null,null,null,0,122]
[21,11306,22,11310,24,11325,null,null,null,null,0,222]
[21,11451,22,11454,24,11459,null,null,null,null,0,222]
[21,11574,22,11578,24,11582,null,null,null,null,0,222]
[21,11685,22,11691,24,11696,null,null,null,null,0,222]
[21,11799,22,11803,24,11808,null,null,null,null,0,222]
[21,11983,22,11986,24,11990,null,null,null,null,0,222]
[21,12103,22,12107,24,12119,null,null,null,null,0,222]
[21,12230,22,12234,24,12240,null,null,null,null,0,222]
[21,12359,22,12363,24,12367,null,null,null,null,0,222]
[12,12467,24,12478,24,12482,null,null,null,null,0,122]
[12,12575,13,12579,24,12593,null,null,null,null,0,112]
[12,12691,13,12696,24,12711,null,null,null,null,0,112]
[21,12856,22,12861,24,12865,null,null,null,null,0,222]
[21,12968,22,12972,24,12976,null,null,null,null,0,222]
[12,13075,13,13077,24,13087,null,null,null,null,0,112]
[12,13184,24,13195,24,13200,null,null,null,null,0,122]
[12,13299,13,13301,24,13321,null,null,null,null,0,112]
[21,13422,22,13431,24,13439,null,null,null,null,0,222]
[21,13607,22,13610,24,13615,null,null,null,null,0,222]
[21,13717,22,13724,24,13728,null,null,null,null,0,222]
[21,13838,22,13842,24,13850,null,null,null,null,0,222]
[21,13978,22,13980,24,13984,null,null,null,null,0,222]
[12,14081,13,14084,24,14099,null,null,null,null,0,112]
[21,14215,22,14220,24,14225,null,null,null,null,0,222]
[21,14331,22,14335,24,14339,null,null,null,null,0,222]
[12,14432,13,14433,24,14446,null,null,null,null,0,112]
[21,14546,22,14550,24,14555,null,null,null,null,0,222]
[21,14669,22,14672,24,14676,null,null,null,null,0,222]
[21,14798,22,14802,24,14810,null,null,null,null,0,222]
[21,14956,22,14959,24,14962,null,null,null,null,0,222]
[21,15181,22,15186,24,15190,null,null,null,null,0,222]
[21,15316,22,15321,24,15324,null,null,null,null,0,222]
[21,15429,22,15433,24,15437,null,null,null,null,0,222]
[21,15538,22,15544,24,15548,null,null,null,null,0,222]
[21,15654,22,15658,24,15662,null,null,null,null,0,222]
[21,15830,22,15833,24,15839,null,null,null,null,0,222]
[12,15932,13,15934,24,15948,null,null,null,null,0,112]
[21,16048,22,16052,24,16057,null,null,null,null,0,222]
[12,16154,13,16158,24,16172,null,null,null,null,0,112]
[12,16270,13,16272,13,16276,null,null,null,null,0,111]
[21,16378,22,16381,24,16387,null,null,null,null,0,222]
[12,16483,24,16499,24,16503,null,null,null,null,0,122]
[21,16619,22,16626,24,16630,null,null,null,null,0,222]
[21,16735,22,16737,24,16739,null,null,null,null,0,222]
[21,16914,22,16917,24,16921,null,null,null,null,0,222]
[21,17020,22,17025,24,17030,null,null,null,null,0,222]
[12,17128,24,17141,24,17144,null,null,null,null,0,122]
[12,17239,24,17253,24,17257,null,null,null,null,0,122]
[21,17420,22,17424,24,17429,null,null,null,null,0,222]
[21,17533,22,17539,24,17545,null,null,null,null,0,222]
[21,17729,22,17733,24,17739,null,null,null,null,0,222]
[12,17835,24,17849,24,17853,null,null,null,null,0,122]
[21,17955,22,17959,24,17963,null,null,null,null,0,222]
[12,18056,13,18060,24,18075,null,null,null,null,0,112]
[21,18181,22,18185,24,18190,null,null,null,null,0,222]
[12,18286,24,18301,24,18306,null,null,null,null,0,122]
[21,18417,22,18422,24,18426,null,null,null,null,0,222]
[12,18524,24,18537,24,18540,null,null,null,null,0,122]
[21,18645,22,18647,24,18651,null,null,null,null,0,222]
[21,18760,22,18764,24,18768,null,null,null,null,0,222]
[21,18893,22,18897,24,18902,null,null,null,null,0,222]
[21,19006,22,19012,24,19017,null,null,null,null,0,222]
[12,19112,24,19124,24,19128,null,null,null,null,0,122]
[21,19255,22,19257,24,19260,null,null,null,null,0,222]
[21,19361,22,19366,24,19370,null,null,null,null,0,222]
[21,19564,22,19569,24,19579,null,null,null,null,0,222]
[21,19687,22,19691,24,19696,null,null,null,null,0,222]
[12,19794,13,19798,24,19813,null,null,null,null,0,112]
[21,19929,22,19934,24,19938,null,null,null,null,0,222]
[21,20038,22,20042,24,20046,null,null,null,null,0,222]
[21,20142,22,20146,24,20150,null,null,null,null,0,222]
[12,20239,13,20241,24,20252,null,null,null,null,0,112]
[12,20346,13,20349,24,20363,null,null,null,null,0,112]
[21,20463,22,20471,24,20489,null,null,null,null,0,222]
[21,20599,22,20601,24,20607,null,null,null,null,0,222]
[12,20703,24,20715,24,20718,null,null,null,null,0,122]
[12,20816,13,20819,24,20829,null,null,null,null,0,112]
[21,20926,22,20931,24,20935,null,null,null,null,0,222]
[21,21040,22,21044,24,21047,null,null,null,null,0,222]
[12,21147,24,21163,24,21168,null,null,null,null,0,122]
[21,21351,22,21356,24,21362,null,null,null,null,0,222]
[12,21460,24,21473,24,21497,null,null,null,null,0,122]
[21,21605,22,21609,24,21613,null,null,null,null,0,222]
[12,21713,24,21727,24,21732,null,null,null,null,0,122]
[21,21932,22,21936,24,21942,null,null,null,null,0,222]
[21,22058,22,22064,24,22069,null,null,null,null,0,222]
[21,22164,22,22167,24,22171,null,null,null,null,0,222]
[21,22274,22,22278,24,22282,null,null,null,null,0,222]
[21,22385,22,22387,24,22391,null,null,null,null,0,222]
[21,22591,22,22593,24,22597,null,null,null,null,0,222]
[21,22733,22,22737,24,22741,null,null,null,null,0,222]
[12,22839,13,22842,24,22855,null,null,null,null,0,112]
[12,22954,13,22956,24,22971,null,null,null,null,0,112]
[21,23078,22,23083,24,23088,null,null,null,null,0,222]
[21,23261,22,23266,24,23270,null,null,null,null,0,222]
[21,23373,22,23377,24,23382,null,null,null,null,0,222]
[21,23483,22,23492,24,23497,null,null,null,null,0,222]
[21,23615,22,23618,24,23622,null,null,null,null,0,222]
[21,23735,22,23740,24,23743,null,null,null,null,0,222]
[21,23985,22,23989,24,23993,null,null,null,null,null,222]

{"sheet":"!L91092T.ayl","index":16,"n_rows":106,"n_cols":48,"rows_kept":106,"cut":false,"hidden":false,"merged":[[4,39,4,42],[5,39,5,40],[4,44,4,47],[5,44,5,45],[4,24,4,27],[5,24,5,25],[4,29,4,32],[5,29,5,30],[4,34,4,37],[5,34,5,35],[1,1,1,2],[5,13,5,14],[18,13,18,14],[19,13,19,14],[4,19,4,22],[5,19,5,20]]}
["Report for:!L91092T.ayl"]
["Date:","<date>"]
["Hen:","<hen>",null,null,null,"Correct Sequence",{"$f":"Start!J2","v":211},null,null,null,null,null,null,null,null,"Total Sequences in Data",{"$f":"4994-COUNTBLANK(L7:L5000)","v":100},null,null,null,null,"Total Sequences in Block Data",{"$f":"COUNTA(L7:L23)","v":17},null,null,null,"Total Sequences in Block Data",{"$f":"COUNTA(L24:L39)","v":16},null,null,null,"Total Sequences in Block Data",{"$f":"COUNTA(L40:L56)","v":17},null,null,null,"Total Sequences in Block Data",{"$f":"COUNTA(L57:L73)","v":17},null,null,null,"Total Sequences in Block Data",{"$f":"COUNTA(L74:L89)","v":16},null,null,null,"Total Sequences in Block Data",{"$f":"COUNTA(L90:L106)","v":17}]
[null,null,null,null,null,null,null,null,null,null,null,null,null,null,null,"Total Sequences in Summary",{"$f":"SUM(O7:O14)","v":100},null,null,null,null,"Total Sequences in Block Summary",{"$f":"SUM(U7:U14)","v":17},null,null,null,"Total Sequences in Block Summary",{"$f":"SUM(Z7:Z14)","v":16},null,null,null,"Total Sequences in Block Summary",{"$f":"SUM(AE7:AE14)","v":17},null,null,null,"Total Sequences in Block Summary",{"$f":"SUM(AJ7:AJ14)","v":17},null,null,null,"Total Sequences in Block Summary",{"$f":"SUM(AO7:AO14)","v":16},null,null,null,"Total Sequences in Block Summary",{"$f":"SUM(AT7:AT14)","v":17}]
[null,null,null,null,null,null,null,null,null,null,null,null,null,null,null,null,null,null,null,"Block 1",null,null,null,null,"Block 2",null,null,null,null,"Block 3",null,null,null,null,"Block 4",null,null,null,null,"Block 5",null,null,null,null,"Block 6"]
["Sequence\nComponent\n1","Time\n1","Sequence\nComponent\n2","Time\n2","Sequence\nComponent\n3","Time\n3","Sequence\nComponent\n4","Time\n4","Sequence\nComponent\n5","Time\n5","Correct?\n0=No 1=Yes","Sequence",null,"Frequency",null,"Relative Frequency","Variability",null,null,"Frequency",null,"Relative Frequency","Variability",null,"Frequency",null,"Relative Frequency","Variability",null,"Frequency",null,"Relative Frequency","Variability",null,"Frequency",null,"Relative Frequency","Variability",null,"Frequency",null,"Relative Frequency","Variability",null,"Frequency",null,"Relative Frequency","Variability"]
[21,67,22,71,24,79,null,null,null,null,0,222,null,111,{"$f":"COUNTIF($L$7:$L$500,N7)","v":0},{"$f":"O7/$Q$4","v":0},{"$f":"IF(P7=0,0,(P7*((LOG(P7))/LOG(2))))","v":0},null,null,{"$f":"N7","v":111},{"$f":"COUNTIF(L7:L23,T7)","v":0},{"$f":"U7/(W4-U11)","v":0},{"$f":"IF(V7=0,0,(V7*((LOG(V7))/LOG(2))))","v":0},null,{"$f":"N7","v":111},{"$f":"COUNTIF(L24:L39,Y7)","v":0},{"$f":"Z7/(AB4-Z11)","v":0},{"$f":"IF(AA7=0,0,(AA7*((LOG(AA7))/LOG(2))))","v":0},null,{"$f":"N7","v":111},{"$f":"COUNTIF(L40:L56,AD7)","v":0},{"$f":"AE7/(AG4-AE11)","v":0},{"$f":"IF(AF7=0,0,(AF7*((LOG(AF7))/LOG(2))))","v":0},null,{"$f":"N7","v":111},{"$f":"COUNTIF(L57:L73,AI7)","v":0},{"$f":"AJ7/(AL4-AJ11)","v":0},{"$f":"IF(AK7=0,0,(AK7*((LOG(AK7))/LOG(2))))","v":0},null,{"$f":"N7","v":111},{"$f":"COUNTIF(L74:L89,AN7)","v":0},{"$f":"AO7/(AQ4-AO11)","v":0},{"$f":"IF(AP7=0,0,(AP7*((LOG(AP7))/LOG(2))))","v":0},null,{"$f":"N7","v":111},{"$f":"COUNTIF(L90:L106,AS7)","v":0},{"$f":"AT7/(AV4-AT11)","v":0},{"$f":"IF(AU7=0,0,(AU7*((LOG(AU7))/LOG(2))))","v":0}]
[21,308,22,313,24,319,null,null,null,null,0,222,null,112,{"$f":"COUNTIF($L$7:$L$500,N8)","v":3},{"$f":"O8/$Q$4","v":0.03},{"$f":"IF(P8=0,0,(P8*((LOG(P8))/LOG(2))))","v":-0.15176681067160705},null,null,{"$f":"N8","v":112},{"$f":"COUNTIF(L7:L23,T8)","v":1},{"$f":"U8/(W4-U11)","v":5.8823529411764705E-2},{"$f":"IF(V8=0,0,(V8*((LOG(V8))/LOG(2))))","v":-0.24043899066178465},null,{"$f":"N8","v":112},{"$f":"COUNTIF(L24:L39,Y8)","v":2},{"$f":"Z8/(AB4-Z11)","v":0.125},{"$f":"IF(AA8=0,0,(AA8*((LOG(AA8))/LOG(2))))","v":-0.375},null,{"$f":"N8","v":112},{"$f":"COUNTIF(L40:L56,AD8)","v":0},{"$f":"AE8/(AG4-AE11)","v":0},{"$f":"IF(AF8=0,0,(AF8*((LOG(AF8))/LOG(2))))","v":0},null,{"$f":"N8","v":112},{"$f":"COUNTIF(L57:L73,AI8)","v":0},{"$f":"AJ8/(AL4-AJ11)","v":0},{"$f":"IF(AK8=0,0,(AK8*((LOG(AK8))/LOG(2))))","v":0},null,{"$f":"N8","v":112},{"$f":"COUNTIF(L74:L89,AN8)","v":0},{"$f":"AO8/(AQ4-AO11)","v":0},{"$f":"IF(AP8=0,0,(AP8*((LOG(AP8))/LOG(2))))","v":0},null,{"$f":"N8","v":112},{"$f":"COUNTIF(L90:L106,AS8)","v":0},{"$f":"AT8/(AV4-AT11)","v":0},{"$f":"IF(AU8=0,0,(AU8*((LOG(AU8))/LOG(2))))","v":0}]
[21,527,22,532,24,543,null,null,null,null,0,222,null,121,{"$f":"COUNTIF($L$7:$L$500,N9)","v":0},{"$f":"O9/$Q$4","v":0},{"$f":"IF(P9=0,0,(P9*((LOG(P9))/LOG(2))))","v":0},null,null,{"$f":"N9","v":121},{"$f":"COUNTIF(L7:L23,T9)","v":0},{"$f":"U9/(W4-U11)","v":0},{"$f":"IF(V9=0,0,(V9*((LOG(V9))/LOG(2))))","v":0},null,{"$f":"N9","v":121},{"$f":"COUNTIF(L24:L39,Y9)","v":0},{"$f":"Z9/(AB4-Z11)","v":0},{"$f":"IF(AA9=0,0,(AA9*((LOG(AA9))/LOG(2))))","v":0},null,{"$f":"N9","v":121},{"$f":"COUNTIF(L40:L56,AD9)","v":0},{"$f":"AE9/(AG4-AE11)","v":0},{"$f":"IF(AF9=0,0,(AF9*((LOG(AF9))/LOG(2))))","v":0},null,{"$f":"N9","v":121},{"$f":"COUNTIF(L57:L73,AI9)","v":0},{"$f":"AJ9/(AL4-AJ11)","v":0},{"$f":"IF(AK9=0,0,(AK9*((LOG(AK9))/LOG(2))))","v":0},null,{"$f":"N9","v":121},{"$f":"COUNTIF(L74:L89,AN9)","v":0},{"$f":"AO9/(AQ4-AO11)","v":0},{"$f":"IF(AP9=0,0,(AP9*((LOG(AP9))/LOG(2))))","v":0},null,{"$f":"N9","v":121},{"$f":"COUNTIF(L90:L106,AS9)","v":0},{"$f":"AT9/(AV4-AT11)","v":0},{"$f":"IF(AU9=0,0,(AU9*((LOG(AU9))/LOG(2))))","v":0}]
[21,744,22,753,24,758,null,null,null,null,0,222,null,122,{"$f":"COUNTIF($L$7:$L$500,N10)","v":13},{"$f":"O10/$Q$4","v":0.13},{"$f":"IF(P10=0,0,(P10*((LOG(P10))/LOG(2))))","v":-0.38264414131237218},null,null,{"$f":"N10","v":122},{"$f":"COUNTIF(L7:L23,T10)","v":0},{"$f":"U10/(W4-U11)","v":0},{"$f":"IF(V10=0,0,(V10*((LOG(V10))/LOG(2))))","v":0},null,{"$f":"N10","v":122},{"$f":"COUNTIF(L24:L39,Y10)","v":4},{"$f":"Z10/(AB4-Z11)","v":0.25},{"$f":"IF(AA10=0,0,(AA10*((LOG(AA10))/LOG(2))))","v":-0.5},null,{"$f":"N10","v":122},{"$f":"COUNTIF(L40:L56,AD10)","v":5},{"$f":"AE10/(AG4-AE11)","v":0.29411764705882354},{"$f":"IF(AF10=0,0,(AF10*((LOG(AF10))/LOG(2))))","v":-0.51927492540087561},null,{"$f":"N10","v":122},{"$f":"COUNTIF(L57:L73,AI10)","v":2},{"$f":"AJ10/(AL4-AJ11)","v":0.11764705882352941},{"$f":"IF(AK10=0,0,(AK10*((LOG(AK10))/LOG(2))))","v":-0.36323092250003997},null,{"$f":"N10","v":122},{"$f":"COUNTIF(L74:L89,AN10)","v":1},{"$f":"AO10/(AQ4-AO11)","v":6.25E-2},{"$f":"IF(AP10=0,0,(AP10*((LOG(AP10))/LOG(2))))","v":-0.25},null,{"$f":"N10","v":122},{"$f":"COUNTIF(L90:L106,AS10)","v":1},{"$f":"AT10/(AV4-AT11)","v":5.8823529411764705E-2},{"$f":"IF(AU10=0,0,(AU10*((LOG(AU10))/LOG(2))))","v":-0.24043899066178465}]
[21,866,22,871,24,875,null,null,null,null,0,222,null,211,{"$f":"COUNTIF($L$7:$L$500,N11)","v":0},{"$f":"O11/$Q$4","v":0},{"$f":"IF(P11=0,0,(P11*((LOG(P11))/LOG(2))))","v":0},null,null,{"$f":"N11","v":211},{"$f":"COUNTIF(L7:L23,T11)","v":0},null,null,null,{"$f":"N11","v":211},{"$f":"COUNTIF(L24:L39,Y11)","v":0},null,null,null,{"$f":"N11","v":211},{"$f":"COUNTIF(L40:L56,AD11)","v":0},null,null,null,{"$f":"N11","v":211},{"$f":"COUNTIF(L57:L73,AI11)","v":0},null,null,null,{"$f":"N11","v":211},{"$f":"COUNTIF(L74:L89,AN11)","v":0},null,null,null,{"$f":"N11","v":211},{"$f":"COUNTIF(L90:L106,AS11)","v":0}]
[21,1199,22,1204,24,1209,null,null,null,null,0,222,null,212,{"$f":"COUNTIF($L$7:$L$500,N12)","v":0},{"$f":"O12/$Q$4","v":0},{"$f":"IF(P12=0,0,(P12*((LOG(P12))/LOG(2))))","v":0},null,null,{"$f":"N12","v":212},{"$f":"COUNTIF(L7:L23,T12)","v":0},{"$f":"U12/(W4-U11)","v":0},{"$f":"IF(V12=0,0,(V12*((LOG(V12))/LOG(2))))","v":0},null,{"$f":"N12","v":212},{"$f":"COUNTIF(L24:L39,Y12)","v":0},{"$f":"Z12/(AB4-Z11)","v":0},{"$f":"IF(AA12=0,0,(AA12*((LOG(AA12))/LOG(2))))","v":0},null,{"$f":"N12","v":212},{"$f":"COUNTIF(L40:L56,AD12)","v":0},{"$f":"AE12/(AG4-AE11)","v":0},{"$f":"IF(AF12=0,0,(AF12*((LOG(AF12))/LOG(2))))","v":0},null,{"$f":"N12","v":212},{"$f":"COUNTIF(L57:L73,AI12)","v":0},{"$f":"AJ12/(AL4-AJ11)","v":0},{"$f":"IF(AK12=0,0,(AK12*((LOG(AK12))/LOG(2))))","v":0},null,{"$f":"N12","v":212},{"$f":"COUNTIF(L74:L89,AN12)","v":0},{"$f":"AO12/(AQ4-AO11)","v":0},{"$f":"IF(AP12=0,0,(AP12*((LOG(AP12))/LOG(2))))","v":0},null,{"$f":"N12","v":212},{"$f":"COUNTIF(L90:L106,AS12)","v":0},{"$f":"AT12/(AV4-AT11)","v":0},{"$f":"IF(AU12=0,0,(AU12*((LOG(AU12))/LOG(2))))","v":0}]
[21,1326,22,1329,24,1334,null,null,null,null,0,222,null,221,{"$f":"COUNTIF($L$7:$L$500,N13)","v":0},{"$f":"O13/$Q$4","v":0},{"$f":"IF(P13=0,0,(P13*((LOG(P13))/LOG(2))))","v":0},null,null,{"$f":"N13","v":221},{"$f":"COUNTIF(L7:L23,T13)","v":0},{"$f":"U13/(W4-U11)","v":0},{"$f":"IF(V13=0,0,(V13*((LOG(V13))/LOG(2))))","v":0},null,{"$f":"N13","v":221},{"$f":"COUNTIF(L24:L39,Y13)","v":0},{"$f":"Z13/(AB4-Z11)","v":0},{"$f":"IF(AA13=0,0,(AA13*((LOG(AA13))/LOG(2))))","v":0},null,{"$f":"N13","v":221},{"$f":"COUNTIF(L40:L56,AD13)","v":0},{"$f":"AE13/(AG4-AE11)","v":0},{"$f":"IF(AF13=0,0,(AF13*((LOG(AF13))/LOG(2))))","v":0},null,{"$f":"N13","v":221},{"$f":"COUNTIF(L57:L73,AI13)","v":0},{"$f":"AJ13/(AL4-AJ11)","v":0},{"$f":"IF(AK13=0,0,(AK13*((LOG(AK13))/LOG(2))))","v":0},null,{"$f":"N13","v":221},{"$f":"COUNTIF(L74:L89,AN13)","v":0},{"$f":"AO13/(AQ4-AO11)","v":0},{"$f":"IF(AP13=0,0,(AP13*((LOG(AP13))/LOG(2))))","v":0},null,{"$f":"N13","v":221},{"$f":"COUNTIF(L90:L106,AS13)","v":0},{"$f":"AT13/(AV4-AT11)","v":0},{"$f":"IF(AU13=0,0,(AU13*((LOG(AU13))/LOG(2))))","v":0}]
[21,1531,22,1541,24,1550,null,null,null,null,0,222,null,222,{"$f":"COUNTIF($L$7:$L$500,N14)","v":84},{"$f":"O14/$Q$4","v":0.84},{"$f":"IF(P14=0,0,(P14*((LOG(P14))/LOG(2))))","v":-0.21129256427661014},null,null,{"$f":"N14","v":222},{"$f":"COUNTIF(L7:L23,T14)","v":16},{"$f":"U14/(W4-U11)","v":0.94117647058823528},{"$f":"IF(V14=0,0,(V14*((LOG(V14))/LOG(2))))","v":-8.2317968235613576E-2},null,{"$f":"N14","v":222},{"$f":"COUNTIF(L24:L39,Y14)","v":10},{"$f":"Z14/(AB4-Z11)","v":0.625},{"$f":"IF(AA14=0,0,(AA14*((LOG(AA14))/LOG(2))))","v":-0.42379494069539858},null,{"$f":"N14","v":222},{"$f":"COUNTIF(L40:L56,AD14)","v":12},{"$f":"AE14/(AG4-AE11)","v":0.70588235294117652},{"$f":"IF(AF14=0,0,(AF14*((LOG(AF14))/LOG(2))))","v":-0.35470612272648222},null,{"$f":"N14","v":222},{"$f":"COUNTIF(L57:L73,AI14)","v":15},{"$f":"AJ14/(AL4-AJ11)","v":0.88235294117647056},{"$f":"IF(AK14=0,0,(AK14*((LOG(AK14))/LOG(2))))","v":-0.1593284520369008},null,{"$f":"N14","v":222},{"$f":"COUNTIF(L74:L89,AN14)","v":15},{"$f":"AO14/(AQ4-AO11)","v":0.9375},{"$f":"IF(AP14=0,0,(AP14*((LOG(AP14))/LOG(2))))","v":-8.729006661701387E-2},null,{"$f":"N14","v":222},{"$f":"COUNTIF(L90:L106,AS14)","v":16},{"$f":"AT14/(AV4-AT11)","v":0.94117647058823528},{"$f":"IF(AU14=0,0,(AU14*((LOG(AU14))/LOG(2))))","v":-8.2317968235613576E-2}]
[21,1699,22,1706,24,1715,null,null,null,null,0,222,null,null,null,{"$f":"SUM(P7:P14)","v":1},{"$f":"-SUM(Q7:Q14)","v":0.74570351626058939},null,null,null,null,{"$f":"SUM(V7:V14)","v":1},{"$f":"-SUM(W7:W14)","v":0.32275695889739819},null,null,null,{"$f":"SUM(AA7:AA14)","v":1},{"$f":"-SUM(AB7:AB14)","v":1.2987949406953985},null,null,null,{"$f":"SUM(AF7:AF14)","v":1},{"$f":"-SUM(AG7:AG14)","v":0.87398104812735777},null,null,null,{"$f":"SUM(AK7:AK14)","v":1},{"$f":"-SUM(AL7:AL14)","v":0.52255937453694079},null,null,null,{"$f":"SUM(AP7:AP14)","v":1},{"$f":"-SUM(AQ7:AQ14)","v":0.33729006661701388},null,null,null,{"$f":"SUM(AU7:AU14)","v":1},{"$f":"-SUM(AV7:AV14)","v":0.32275695889739819}]
[21,1904,22,1909,24,1914,null,null,null,null,0,222,null,null,null,"U=",{"$f":"Q15/(LOG(Q4)/LOG(2))","v":0.11223956313327038},null,null,null,null,"U1=",{"$f":"W15/(LOG(W4)/LOG(2))","v":7.8962664966678475E-2},null,null,null,"U2=",{"$f":"AB15/(LOG(AB4)/LOG(2))","v":0.32469873517384962},null,null,null,"U3=",{"$f":"AG15/(LOG(AG4)/LOG(2))","v":0.21381993722541348},null,null,null,"U4=",{"$f":"AL15/(LOG(AL4)/LOG(2))","v":0.12784443426942368},null,null,null,"U5=",{"$f":"AQ15/(LOG(AQ4)/LOG(2))","v":8.4322516654253471E-2},null,null,null,"U6=",{"$f":"AV15/(LOG(AV4)/LOG(2))","v":7.8962664966678475E-2}]
[21,2030,22,2036,24,2043,null,null,null,null,0,222]
[21,2179,22,2182,24,2186,null,null,null,null,0,222]
[21,2295,22,2302,24,2311,null,null,null,null,0,222,null,"Total Target Seq"]
[12,2397,13,2400,24,2411,null,null,null,null,0,112,null,{"$f":"COUNTIF(L7:L106,G3)","v":0},null,17,16,17,17,16,17]
[21,2517,22,2522,24,2527,null,null,null,null,0,222,null,null,null,"% of reinforcement given in 6 equal intervals based on number of trials "]
[21,2819,22,2823,24,2827,null,null,null,null,0,222,null,null,null,"%_1","%_2","%_3","%_4","%_5","%_6"]
[21,2924,22,2926,24,2934,null,null,null,null,0,222,null,null,"target sequence",{"$f":"$G$3","v":211},{"$f":"$G$3","v":211},{"$f":"$G$3","v":211},{"$f":"$G$3","v":211},{"$f":"$G$3","v":211},{"$f":"$G$3","v":211}]
[21,3057,22,3061,24,3066,null,null,null,null,0,222,null,null,"total reinforcement",{"$f":"U11","v":0},{"$f":"Z11","v":0},{"$f":"AE11","v":0},{"$f":"AJ11","v":0},{"$f":"AO11","v":0},{"$f":"AT11","v":0}]
[21,3175,22,3179,24,3183,null,null,null,null,0,222,null,null,"% target"]
[21,3292,22,3294,24,3299,null,null,null,null,0,222,null,null,"CCRF"]
[12,3397,13,3399,24,3406,null,null,null,null,0,112,null,null,"% CCRf"]
[12,3503,24,3516,24,3520,null,null,null,null,0,122,null,null,"average response rate",{"$f":"F23/P20","v":172.58823529411765},{"$f":"(F39-F23)/Q20","v":112.375},{"$f":"(F56-F39)/R20","v":127.29411764705883},{"$f":"(F73-F56)/S20","v":152.23529411764707},{"$f":"(F89-F73)/T20","v":244.4375},{"$f":"(F106-F89)/U20","v":605.41176470588232}]
[12,3610,13,3617,24,3626,null,null,null,null,0,112]
[21,3731,22,3735,24,3739,null,null,null,null,0,222]
[21,3837,22,3841,24,3845,null,null,null,null,0,222]
[12,3934,24,3947,24,3950,null,null,null,null,0,122]
[21,4053,22,4055,24,4059,null,null,null,null,0,222]
[21,4158,22,4160,24,4164,null,null,null,null,0,222]
[12,4263,24,4275,24,4280,null,null,null,null,0,122]
[21,4380,22,4382,24,4384,null,null,null,null,0,222]
[21,4493,22,4497,24,4503,null,null,null,null,0,222]
[21,4604,22,4611,24,4617,null,null,null,null,0,222]
[12,4715,24,4728,24,4732,null,null,null,null,0,122]
[12,4829,24,4841,24,4844,null,null,null,null,0,122]
[12,4938,24,4951,24,4955,null,null,null,null,0,122]
[21,5058,22,5062,24,5067,null,null,null,null,0,222]
[21,5177,22,5182,24,5188,null,null,null,null,0,222]
[21,5287,22,5291,24,5296,null,null,null,null,0,222]
[12,5393,24,5406,24,5411,null,null,null,null,0,122]
[12,5504,24,5515,24,5519,null,null,null,null,0,122]
[21,5619,22,5622,24,5627,null,null,null,null,0,222]
[21,5726,22,5730,24,5734,null,null,null,null,0,222]
[21,5908,22,5912,24,5923,null,null,null,null,0,222]
[21,6022,22,6024,24,6027,null,null,null,null,0,222]
[21,6135,22,6142,24,6148,null,null,null,null,0,222]
[12,6243,24,6257,24,6259,null,null,null,null,0,122]
[21,6355,22,6360,24,6366,null,null,null,null,0,222]
[21,6470,22,6477,24,6480,null,null,null,null,0,222]
[21,6693,22,6696,24,6706,null,null,null,null,0,222]
[21,6880,22,6884,24,6896,null,null,null,null,0,222]
[21,7044,22,7048,24,7052,null,null,null,null,0,222]
[21,7265,22,7269,24,7272,null,null,null,null,0,222]
[21,7445,22,7449,24,7454,null,null,null,null,0,222]
[21,7552,22,7555,24,7560,null,null,null,null,0,222]
[21,7803,22,7806,24,7811,null,null,null,null,0,222]
[21,7905,22,7908,24,7912,null,null,null,null,0,222]
[21,8020,22,8024,24,8028,null,null,null,null,0,222]
[21,8236,22,8240,24,8246,null,null,null,null,0,222]
[21,8427,22,8431,24,8435,null,null,null,null,0,222]
[21,8622,22,8626,24,8630,null,null,null,null,0,222]
[21,8724,22,8726,24,8730,null,null,null,null,0,222]
[12,8826,24,8839,24,8844,null,null,null,null,0,122]
[12,8940,24,8948,24,8954,null,null,null,null,0,122]
[21,9056,22,9059,24,9064,null,null,null,null,0,222]
[21,9165,22,9168,24,9172,null,null,null,null,0,222]
[21,9275,22,9278,24,9284,null,null,null,null,0,222]
[21,9475,22,9480,24,9484,null,null,null,null,0,222]
[21,9660,22,9667,24,9670,null,null,null,null,0,222]
[21,9765,22,9769,24,9774,null,null,null,null,0,222]
[21,9877,22,9881,24,9884,null,null,null,null,0,222]
[12,9981,24,9995,24,9997,null,null,null,null,0,122]
[21,10102,22,10107,24,10115,null,null,null,null,0,222]
[21,10219,22,10223,24,10227,null,null,null,null,0,222]
[21,10324,22,10330,24,10335,null,null,null,null,0,222]
[21,10465,22,10471,24,10476,null,null,null,null,0,222]
[21,10757,22,10762,24,10766,null,null,null,null,0,222]
[21,11107,22,11112,24,11118,null,null,null,null,0,222]
[21,11294,22,11298,24,11303,null,null,null,null,0,222]
[21,11491,22,11495,24,11498,null,null,null,null,0,222]
[21,12660,22,12664,24,12668,null,null,null,null,0,222]
[21,12834,22,12838,24,12842,null,null,null,null,0,222]
[21,13214,22,13225,24,13235,null,null,null,null,0,222]
[21,13389,22,13392,24,13395,null,null,null,null,0,222]
[21,13497,22,13501,24,13505,null,null,null,null,0,222]
[21,13813,22,13820,24,13823,null,null,null,null,0,222]
[12,14316,24,14811,24,14816,null,null,null,null,0,122]
[21,15654,22,15659,24,15664,null,null,null,null,0,222]
[21,16472,22,16476,24,16480,null,null,null,null,0,222]
[21,16693,22,16697,24,16700,null,null,null,null,0,222]
[21,16942,22,16946,24,16950,null,null,null,null,0,222]
[21,17361,22,17364,24,17368,null,null,null,null,0,222]
[21,17746,22,17751,24,17755,null,null,null,null,0,222]
[21,18637,22,18641,24,18644,null,null,null,null,0,222]
[21,21082,22,21087,24,21090,null,null,null,null,0,222]
[21,22468,22,22474,24,22478,null,null,null,null,0,222]
[21,22708,22,22712,24,22716,null,null,null,null,0,222]
[21,22949,22,22953,24,22959,null,null,null,null,0,222]
[21,23206,22,23211,24,23215,null,null,null,null,0,222]
[21,23340,22,23349,24,23393,null,null,null,null,0,222]
[21,23555,22,23570,24,23687,null,null,null,null,0,222]

{"sheet":"!L91191T.ayl","index":17,"n_rows":185,"n_cols":48,"rows_kept":185,"cut":false,"hidden":false,"merged":[[4,39,4,42],[5,39,5,40],[4,44,4,47],[5,44,5,45],[4,24,4,27],[5,24,5,25],[4,29,4,32],[5,29,5,30],[4,34,4,37],[5,34,5,35],[1,1,1,2],[5,13,5,14],[18,13,18,14],[19,13,19,14],[4,19,4,22],[5,19,5,20]]}
["Report for:!L91191T.ayl"]
["Date:","<date>"]
["Hen:","<hen>",null,null,null,"Correct Sequence",{"$f":"Start!J2","v":211},null,null,null,null,null,null,null,null,"Total Sequences in Data",{"$f":"4994-COUNTBLANK(L7:L5000)","v":179},null,null,null,null,"Total Sequences in Block Data",{"$f":"COUNTA(L7:L36)","v":30},null,null,null,"Total Sequences in Block Data",{"$f":"COUNTA(L37:L66)","v":30},null,null,null,"Total Sequences in Block Data",{"$f":"COUNTA(L67:L95)","v":29},null,null,null,"Total Sequences in Block Data",{"$f":"COUNTA(L96:L125)","v":30},null,null,null,"Total Sequences in Block Data",{"$f":"COUNTA(L126:L155)","v":30},null,null,null,"Total Sequences in Block Data",{"$f":"COUNTA(L156:L185)","v":30}]
[null,null,null,null,null,null,null,null,null,null,null,null,null,null,null,"Total Sequences in Summary",{"$f":"SUM(O7:O14)","v":179},null,null,null,null,"Total Sequences in Block Summary",{"$f":"SUM(U7:U14)","v":30},null,null,null,"Total Sequences in Block Summary",{"$f":"SUM(Z7:Z14)","v":30},null,null,null,"Total Sequences in Block Summary",{"$f":"SUM(AE7:AE14)","v":29},null,null,null,"Total Sequences in Block Summary",{"$f":"SUM(AJ7:AJ14)","v":30},null,null,null,"Total Sequences in Block Summary",{"$f":"SUM(AO7:AO14)","v":30},null,null,null,"Total Sequences in Block Summary",{"$f":"SUM(AT7:AT14)","v":30}]
[null,null,null,null,null,null,null,null,null,null,null,null,null,null,null,null,null,null,null,"Block 1",null,null,null,null,"Block 2",null,null,null,null,"Block 3",null,null,null,null,"Block 4",null,null,null,null,"Block 5",null,null,null,null,"Block 6"]
["Sequence\nComponent\n1","Time\n1","Sequence\nComponent\n2","Time\n2","Sequence\nComponent\n3","Time\n3","Sequence\nComponent\n4","Time\n4","Sequence\nComponent\n5","Time\n5","Correct?\n0=No 1=Yes","Sequence",null,"Frequency",null,"Relative Frequency","Variability",null,null,"Frequency",null,"Relative Frequency","Variability",null,"Frequency",null,"Relative Frequency","Variability",null,"Frequency",null,"Relative Frequency","Variability",null,"Frequency",null,"Relative Frequency","Variability",null,"Frequency",null,"Relative Frequency","Variability",null,"Frequency",null,"Relative Frequency","Variability"]
[21,5,22,9,24,14,null,null,null,null,0,222,null,111,{"$f":"COUNTIF($L$7:$L$500,N7)","v":1},{"$f":"O7/$Q$4","v":5.5865921787709499E-3},{"$f":"IF(P7=0,0,(P7*((LOG(P7))/LOG(2))))","v":-4.1809026688627134E-2},null,null,{"$f":"N7","v":111},{"$f":"COUNTIF(L7:L36,T7)","v":1},{"$f":"U7/(W4-U11)","v":3.3333333333333333E-2},{"$f":"IF(V7=0,0,(V7*((LOG(V7))/LOG(2))))","v":-0.16356301985361729},null,{"$f":"N7","v":111},{"$f":"COUNTIF(L37:L66,Y7)","v":0},{"$f":"Z7/(AB4-Z11)","v":0},{"$f":"IF(AA7=0,0,(AA7*((LOG(AA7))/LOG(2))))","v":0},null,{"$f":"N7","v":111},{"$f":"COUNTIF(L67:L95,AD7)","v":0},{"$f":"AE7/(AG4-AE11)","v":0},{"$f":"IF(AF7=0,0,(AF7*((LOG(AF7))/LOG(2))))","v":0},null,{"$f":"N7","v":111},{"$f":"COUNTIF(L96:L125,AI7)","v":0},{"$f":"AJ7/(AL4-AJ11)","v":0},{"$f":"IF(AK7=0,0,(AK7*((LOG(AK7))/LOG(2))))","v":0},null,{"$f":"N7","v":111},{"$f":"COUNTIF(L126:L155,AN7)","v":0},{"$f":"AO7/(AQ4-AO11)","v":0},{"$f":"IF(AP7=0,0,(AP7*((LOG(AP7))/LOG(2))))","v":0},null,{"$f":"N7","v":111},{"$f":"COUNTIF(L156:L185,AS7)","v":0},{"$f":"AT7/(AV4-AT11)","v":0},{"$f":"IF(AU7=0,0,(AU7*((LOG(AU7))/LOG(2))))","v":0}]
[21,112,22,114,24,116,null,null,null,null,0,222,null,112,{"$f":"COUNTIF($L$7:$L$500,N8)","v":6},{"$f":"O8/$Q$4","v":3.3519553072625698E-2},{"$f":"IF(P8=0,0,(P8*((LOG(P8))/LOG(2))))","v":-0.16420737239809274},null,null,{"$f":"N8","v":112},{"$f":"COUNTIF(L7:L36,T8)","v":2},{"$f":"U8/(W4-U11)","v":6.6666666666666666E-2},{"$f":"IF(V8=0,0,(V8*((LOG(V8))/LOG(2))))","v":-0.26045937304056793},null,{"$f":"N8","v":112},{"$f":"COUNTIF(L37:L66,Y8)","v":0},{"$f":"Z8/(AB4-Z11)","v":0},{"$f":"IF(AA8=0,0,(AA8*((LOG(AA8))/LOG(2))))","v":0},null,{"$f":"N8","v":112},{"$f":"COUNTIF(L67:L95,AD8)","v":1},{"$f":"AE8/(AG4-AE11)","v":3.4482758620689655E-2},{"$f":"IF(AF8=0,0,(AF8*((LOG(AF8))/LOG(2))))","v":-0.16751658603888178},null,{"$f":"N8","v":112},{"$f":"COUNTIF(L96:L125,AI8)","v":2},{"$f":"AJ8/(AL4-AJ11)","v":6.6666666666666666E-2},{"$f":"IF(AK8=0,0,(AK8*((LOG(AK8))/LOG(2))))","v":-0.26045937304056793},null,{"$f":"N8","v":112},{"$f":"COUNTIF(L126:L155,AN8)","v":1},{"$f":"AO8/(AQ4-AO11)","v":3.3333333333333333E-2},{"$f":"IF(AP8=0,0,(AP8*((LOG(AP8))/LOG(2))))","v":-0.16356301985361729},null,{"$f":"N8","v":112},{"$f":"COUNTIF(L156:L185,AS8)","v":0},{"$f":"AT8/(AV4-AT11)","v":0},{"$f":"IF(AU8=0,0,(AU8*((LOG(AU8))/LOG(2))))","v":0}]
[21,222,22,226,24,231,null,null,null,null,0,222,null,121,{"$f":"COUNTIF($L$7:$L$500,N9)","v":0},{"$f":"O9/$Q$4","v":0},{"$f":"IF(P9=0,0,(P9*((LOG(P9))/LOG(2))))","v":0},null,null,{"$f":"N9","v":121},{"$f":"COUNTIF(L7:L36,T9)","v":0},{"$f":"U9/(W4-U11)","v":0},{"$f":"IF(V9=0,0,(V9*((LOG(V9))/LOG(2))))","v":0},null,{"$f":"N9","v":121},{"$f":"COUNTIF(L37:L66,Y9)","v":0},{"$f":"Z9/(AB4-Z11)","v":0},{"$f":"IF(AA9=0,0,(AA9*((LOG(AA9))/LOG(2))))","v":0},null,{"$f":"N9","v":121},{"$f":"COUNTIF(L67:L95,AD9)","v":0},{"$f":"AE9/(AG4-AE11)","v":0},{"$f":"IF(AF9=0,0,(AF9*((LOG(AF9))/LOG(2))))","v":0},null,{"$f":"N9","v":121},{"$f":"COUNTIF(L96:L125,AI9)","v":0},{"$f":"AJ9/(AL4-AJ11)","v":0},{"$f":"IF(AK9=0,0,(AK9*((LOG(AK9))/LOG(2))))","v":0},null,{"$f":"N9","v":121},{"$f":"COUNTIF(L126:L155,AN9)","v":0},{"$f":"AO9/(AQ4-AO11)","v":0},{"$f":"IF(AP9=0,0,(AP9*((LOG(AP9))/LOG(2))))","v":0},null,{"$f":"N9","v":121},{"$f":"COUNTIF(L156:L185,AS9)","v":0},{"$f":"AT9/(AV4-AT11)","v":0},{"$f":"IF(AU9=0,0,(AU9*((LOG(AU9))/LOG(2))))","v":0}]
[21,341,22,346,24,350,null,null,null,null,0,222,null,122,{"$f":"COUNTIF($L$7:$L$500,N10)","v":29},{"$f":"O10/$Q$4","v":0.16201117318435754},{"$f":"IF(P10=0,0,(P10*((LOG(P10))/LOG(2))))","v":-0.42541457364225616},null,null,{"$f":"N10","v":122},{"$f":"COUNTIF(L7:L36,T10)","v":9},{"$f":"U10/(W4-U11)","v":0.3},{"$f":"IF(V10=0,0,(V10*((LOG(V10))/LOG(2))))","v":-0.52108967824986185},null,{"$f":"N10","v":122},{"$f":"COUNTIF(L37:L66,Y10)","v":3},{"$f":"Z10/(AB4-Z11)","v":0.1},{"$f":"IF(AA10=0,0,(AA10*((LOG(AA10))/LOG(2))))","v":-0.33219280948873625},null,{"$f":"N10","v":122},{"$f":"COUNTIF(L67:L95,AD10)","v":3},{"$f":"AE10/(AG4-AE11)","v":0.10344827586206896},{"$f":"IF(AF10=0,0,(AF10*((LOG(AF10))/LOG(2))))","v":-0.33858812011100858},null,{"$f":"N10","v":122},{"$f":"COUNTIF(L96:L125,AI10)","v":8},{"$f":"AJ10/(AL4-AJ11)","v":0.26666666666666666},{"$f":"IF(AK10=0,0,(AK10*((LOG(AK10))/LOG(2))))","v":-0.50850415882893829},null,{"$f":"N10","v":122},{"$f":"COUNTIF(L126:L155,AN10)","v":3},{"$f":"AO10/(AQ4-AO11)","v":0.1},{"$f":"IF(AP10=0,0,(AP10*((LOG(AP10))/LOG(2))))","v":-0.33219280948873625},null,{"$f":"N10","v":122},{"$f":"COUNTIF(L156:L185,AS10)","v":3},{"$f":"AT10/(AV4-AT11)","v":0.1},{"$f":"IF(AU10=0,0,(AU10*((LOG(AU10))/LOG(2))))","v":-0.33219280948873625}]
[12,448,24,455,24,463,null,null,null,null,0,122,null,211,{"$f":"COUNTIF($L$7:$L$500,N11)","v":0},{"$f":"O11/$Q$4","v":0},{"$f":"IF(P11=0,0,(P11*((LOG(P11))/LOG(2))))","v":0},null,null,{"$f":"N11","v":211},{"$f":"COUNTIF(L7:L36,T11)","v":0},null,null,null,{"$f":"N11","v":211},{"$f":"COUNTIF(L37:L66,Y11)","v":0},null,null,null,{"$f":"N11","v":211},{"$f":"COUNTIF(L67:L95,AD11)","v":0},null,null,null,{"$f":"N11","v":211},{"$f":"COUNTIF(L96:L125,AI11)","v":0},null,null,null,{"$f":"N11","v":211},{"$f":"COUNTIF(L126:L155,AN11)","v":0},null,null,null,{"$f":"N11","v":211},{"$f":"COUNTIF(L156:L185,AS11)","v":0}]
[12,561,24,566,24,570,null,null,null,null,0,122,null,212,{"$f":"COUNTIF($L$7:$L$500,N12)","v":0},{"$f":"O12/$Q$4","v":0},{"$f":"IF(P12=0,0,(P12*((LOG(P12))/LOG(2))))","v":0},null,null,{"$f":"N12","v":212},{"$f":"COUNTIF(L7:L36,T12)","v":0},{"$f":"U12/(W4-U11)","v":0},{"$f":"IF(V12=0,0,(V12*((LOG(V12))/LOG(2))))","v":0},null,{"$f":"N12","v":212},{"$f":"COUNTIF(L37:L66,Y12)","v":0},{"$f":"Z12/(AB4-Z11)","v":0},{"$f":"IF(AA12=0,0,(AA12*((LOG(AA12))/LOG(2))))","v":0},null,{"$f":"N12","v":212},{"$f":"COUNTIF(L67:L95,AD12)","v":0},{"$f":"AE12/(AG4-AE11)","v":0},{"$f":"IF(AF12=0,0,(AF12*((LOG(AF12))/LOG(2))))","v":0},null,{"$f":"N12","v":212},{"$f":"COUNTIF(L96:L125,AI12)","v":0},{"$f":"AJ12/(AL4-AJ11)","v":0},{"$f":"IF(AK12=0,0,(AK12*((LOG(AK12))/LOG(2))))","v":0},null,{"$f":"N12","v":212},{"$f":"COUNTIF(L126:L155,AN12)","v":0},{"$f":"AO12/(AQ4-AO11)","v":0},{"$f":"IF(AP12=0,0,(AP12*((LOG(AP12))/LOG(2))))","v":0},null,{"$f":"N12","v":212},{"$f":"COUNTIF(L156:L185,AS12)","v":0},{"$f":"AT12/(AV4-AT11)","v":0},{"$f":"IF(AU12=0,0,(AU12*((LOG(AU12))/LOG(2))))","v":0}]
[21,669,22,673,24,678,null,null,null,null,0,222,null,221,{"$f":"COUNTIF($L$7:$L$500,N13)","v":0},{"$f":"O13/$Q$4","v":0},{"$f":"IF(P13=0,0,(P13*((LOG(P13))/LOG(2))))","v":0},null,null,{"$f":"N13","v":221},{"$f":"COUNTIF(L7:L36,T13)","v":0},{"$f":"U13/(W4-U11)","v":0},{"$f":"IF(V13=0,0,(V13*((LOG(V13))/LOG(2))))","v":0},null,{"$f":"N13","v":221},{"$f":"COUNTIF(L37:L66,Y13)","v":0},{"$f":"Z13/(AB4-Z11)","v":0},{"$f":"IF(AA13=0,0,(AA13*((LOG(AA13))/LOG(2))))","v":0},null,{"$f":"N13","v":221},{"$f":"COUNTIF(L67:L95,AD13)","v":0},{"$f":"AE13/(AG4-AE11)","v":0},{"$f":"IF(AF13=0,0,(AF13*((LOG(AF13))/LOG(2))))","v":0},null,{"$f":"N13","v":221},{"$f":"COUNTIF(L96:L125,AI13)","v":0},{"$f":"AJ13/(AL4-AJ11)","v":0},{"$f":"IF(AK13=0,0,(AK13*((LOG(AK13))/LOG(2))))","v":0},null,{"$f":"N13","v":221},{"$f":"COUNTIF(L126:L155,AN13)","v":0},{"$f":"AO13/(AQ4-AO11)","v":0},{"$f":"IF(AP13=0,0,(AP13*((LOG(AP13))/LOG(2))))","v":0},null,{"$f":"N13","v":221},{"$f":"COUNTIF(L156:L185,AS13)","v":0},{"$f":"AT13/(AV4-AT11)","v":0},{"$f":"IF(AU13=0,0,(AU13*((LOG(AU13))/LOG(2))))","v":0}]
[12,780,24,788,24,793,null,null,null,null,0,122,null,222,{"$f":"COUNTIF($L$7:$L$500,N14)","v":143},{"$f":"O14/$Q$4","v":0.7988826815642458},{"$f":"IF(P14=0,0,(P14*((LOG(P14))/LOG(2))))","v":-0.25879360329317869},null,null,{"$f":"N14","v":222},{"$f":"COUNTIF(L7:L36,T14)","v":18},{"$f":"U14/(W4-U11)","v":0.6},{"$f":"IF(V14=0,0,(V14*((LOG(V14))/LOG(2))))","v":-0.44217935649972373},null,{"$f":"N14","v":222},{"$f":"COUNTIF(L37:L66,Y14)","v":27},{"$f":"Z14/(AB4-Z11)","v":0.9},{"$f":"IF(AA14=0,0,(AA14*((LOG(AA14))/LOG(2))))","v":-0.13680278410054494},null,{"$f":"N14","v":222},{"$f":"COUNTIF(L67:L95,AD14)","v":25},{"$f":"AE14/(AG4-AE11)","v":0.86206896551724133},{"$f":"IF(AF14=0,0,(AF14*((LOG(AF14))/LOG(2))))","v":-0.18459034944210989},null,{"$f":"N14","v":222},{"$f":"COUNTIF(L96:L125,AI14)","v":20},{"$f":"AJ14/(AL4-AJ11)","v":0.66666666666666663},{"$f":"IF(AK14=0,0,(AK14*((LOG(AK14))/LOG(2))))","v":-0.38997500048077083},null,{"$f":"N14","v":222},{"$f":"COUNTIF(L126:L155,AN14)","v":26},{"$f":"AO14/(AQ4-AO11)","v":0.8666666666666667},{"$f":"IF(AP14=0,0,(AP14*((LOG(AP14))/LOG(2))))","v":-0.17892409380510282},null,{"$f":"N14","v":222},{"$f":"COUNTIF(L156:L185,AS14)","v":27},{"$f":"AT14/(AV4-AT11)","v":0.9},{"$f":"IF(AU14=0,0,(AU14*((LOG(AU14))/LOG(2))))","v":-0.13680278410054494}]
[21,898,22,902,24,907,null,null,null,null,0,222,null,null,null,{"$f":"SUM(P7:P14)","v":1},{"$f":"-SUM(Q7:Q14)","v":0.89022457602215466},null,null,null,null,{"$f":"SUM(V7:V14)","v":1},{"$f":"-SUM(W7:W14)","v":1.3872914276437709},null,null,null,{"$f":"SUM(AA7:AA14)","v":1},{"$f":"-SUM(AB7:AB14)","v":0.46899559358928122},null,null,null,{"$f":"SUM(AF7:AF14)","v":1},{"$f":"-SUM(AG7:AG14)","v":0.69069505559200017},null,null,null,{"$f":"SUM(AK7:AK14)","v":1},{"$f":"-SUM(AL7:AL14)","v":1.1589385323502772},null,null,null,{"$f":"SUM(AP7:AP14)","v":1},{"$f":"-SUM(AQ7:AQ14)","v":0.67467992314745628},null,null,null,{"$f":"SUM(AU7:AU14)","v":1},{"$f":"-SUM(AV7:AV14)","v":0.46899559358928122}]
[12,1005,24,1017,24,1023,null,null,null,null,0,122,null,null,null,"U=",{"$f":"Q15/(LOG(Q4)/LOG(2))","v":0.11895329902783636},null,null,null,null,"U1=",{"$f":"W15/(LOG(W4)/LOG(2))","v":0.28272312182491782},null,null,null,"U2=",{"$f":"AB15/(LOG(AB4)/LOG(2))","v":9.5578979080767471E-2},null,null,null,"U3=",{"$f":"AG15/(LOG(AG4)/LOG(2))","v":0.14217738938969693},null,null,null,"U4=",{"$f":"AL15/(LOG(AL4)/LOG(2))","v":0.23618593277532687},null,null,null,"U5=",{"$f":"AQ15/(LOG(AQ4)/LOG(2))","v":0.13749642670885495},null,null,null,"U6=",{"$f":"AV15/(LOG(AV4)/LOG(2))","v":9.5578979080767471E-2}]
[21,1135,22,1139,24,1141,null,null,null,null,0,222]
[21,1250,22,1255,24,1260,null,null,null,null,0,222]
[21,1360,22,1362,24,1366,null,null,null,null,0,222,null,"Total Target Seq"]
[12,1461,24,1473,24,1477,null,null,null,null,0,122,null,{"$f":"COUNTIF(L7:L185,G3)","v":0},null,30,30,29,30,30,30]
[12,1574,24,1587,24,1589,null,null,null,null,0,122,null,null,null,"% of reinforcement given in 6 equal intervals based on number of trials "]
[21,1689,22,1691,24,1694,null,null,null,null,0,222,null,null,null,"%_1","%_2","%_3","%_4","%_5","%_6"]
[12,1797,24,1809,24,1814,null,null,null,null,0,122,null,null,"target sequence",{"$f":"$G$3","v":211},{"$f":"$G$3","v":211},{"$f":"$G$3","v":211},{"$f":"$G$3","v":211},{"$f":"$G$3","v":211},{"$f":"$G$3","v":211}]
[12,1909,24,1918,24,1922,null,null,null,null,0,122,null,null,"total reinforcement",{"$f":"U11","v":0},{"$f":"Z11","v":0},{"$f":"AE11","v":0},{"$f":"AJ11","v":0},{"$f":"AO11","v":0},{"$f":"AT11","v":0}]
[12,2012,13,2014,13,2016,null,null,null,null,0,111,null,null,"% target"]
[21,2118,22,2123,24,2131,null,null,null,null,0,222,null,null,"CCRF"]
[12,2228,13,2231,24,2245,null,null,null,null,0,112,null,null,"% CCRf"]
[21,2546,22,2575,24,2581,null,null,null,null,0,222,null,null,"average response rate",{"$f":"F36/P20","v":117.76666666666667},{"$f":"(F66-F36)/Q20","v":181.3},{"$f":"(F95-F66)/R20","v":131.9655172413793},{"$f":"(F125-F95)/S20","v":117},{"$f":"(F155-F125)/T20","v":131.26666666666668},{"$f":"(F185-F155)/U20","v":122.3}]
[21,2716,22,2721,24,2727,null,null,null,null,0,222]
[21,2832,22,2836,24,2841,null,null,null,null,0,222]
[12,2940,24,2953,24,2957,null,null,null,null,0,122]
[21,3083,22,3087,24,3091,null,null,null,null,0,222]
[21,3196,22,3204,24,3210,null,null,null,null,0,222]
[21,3307,22,3311,24,3315,null,null,null,null,0,222]
[21,3414,22,3418,24,3423,null,null,null,null,0,222]
[12,3517,13,3520,24,3533,null,null,null,null,0,112]
[21,3708,22,3713,24,3716,null,null,null,null,0,222]
[12,3814,24,3828,24,3833,null,null,null,null,0,122]
[21,3942,22,3946,24,3951,null,null,null,null,0,222]
[21,4087,22,4094,24,4099,null,null,null,null,0,222]
[21,4219,22,4223,24,4228,null,null,null,null,0,222]
[21,4411,22,4416,24,4418,null,null,null,null,0,222]
[21,4538,22,4542,24,4545,null,null,null,null,0,222]
[21,4650,22,4653,24,4657,null,null,null,null,0,222]
[12,4770,24,4786,24,4788,null,null,null,null,0,122]
[12,4886,24,4898,24,4901,null,null,null,null,0,122]
[21,5015,22,5018,24,5021,null,null,null,null,0,222]
[21,5125,22,5129,24,5133,null,null,null,null,0,222]
[21,5235,22,5239,24,5245,null,null,null,null,0,222]
[21,5343,22,5346,24,5351,null,null,null,null,0,222]
[21,5451,22,5455,24,5459,null,null,null,null,0,222]
[21,5838,22,5842,24,5848,null,null,null,null,0,222]
[21,5946,22,5952,24,5956,null,null,null,null,0,222]
[21,6085,22,6089,24,6093,null,null,null,null,0,222]
[21,6294,22,6298,24,6302,null,null,null,null,0,222]
[21,6400,22,6406,24,6410,null,null,null,null,0,222]
[21,6529,22,6532,24,6535,null,null,null,null,0,222]
[21,6731,22,6735,24,6739,null,null,null,null,0,222]
[21,7218,22,7221,24,7223,null,null,null,null,0,222]
[21,7583,22,7588,24,7592,null,null,null,null,0,222]
[21,7690,22,7692,24,7694,null,null,null,null,0,222]
[21,7858,22,7862,24,7865,null,null,null,null,0,222]
[21,8143,22,8147,24,8151,null,null,null,null,0,222]
[21,8363,22,8365,24,8368,null,null,null,null,0,222]
[21,8507,22,8512,24,8516,null,null,null,null,0,222]
[21,8959,22,8968,24,8972,null,null,null,null,0,222]
[21,9066,22,9068,24,9071,null,null,null,null,0,222]
[21,9179,22,9183,24,9194,null,null,null,null,0,222]
[21,9360,22,9364,24,9370,null,null,null,null,0,222]
[21,9472,22,9477,24,9482,null,null,null,null,0,222]
[21,9580,22,9586,24,9590,null,null,null,null,0,222]
[21,9715,22,9719,24,9725,null,null,null,null,0,222]
[21,9843,22,9846,24,9849,null,null,null,null,0,222]
[21,9953,22,9956,24,9962,null,null,null,null,0,222]
[21,10083,22,10087,24,10092,null,null,null,null,0,222]
[21,10359,22,10363,24,10368,null,null,null,null,0,222]
[21,10510,22,10514,24,10518,null,null,null,null,0,222]
[21,10811,22,10816,24,10819,null,null,null,null,0,222]
[21,10918,22,10922,24,10927,null,null,null,null,0,222]
[21,11033,22,11036,24,11040,null,null,null,null,0,222]
[12,11133,24,11143,24,11148,null,null,null,null,0,122]
[12,11242,24,11253,24,11257,null,null,null,null,0,122]
[21,11381,22,11385,24,11388,null,null,null,null,0,222]
[21,11488,22,11492,24,11496,null,null,null,null,0,222]
[21,11609,22,11612,24,11615,null,null,null,null,0,222]
[21,11720,22,11726,24,11731,null,null,null,null,0,222]
[21,11828,22,11831,24,11836,null,null,null,null,0,222]
[12,11930,13,11934,24,11951,null,null,null,null,0,112]
[21,12052,22,12056,24,12060,null,null,null,null,0,222]
[21,12165,22,12168,24,12172,null,null,null,null,0,222]
[21,12280,22,12291,24,12297,null,null,null,null,0,222]
[21,12444,22,12448,24,12453,null,null,null,null,0,222]
[12,12546,24,12560,24,12562,null,null,null,null,0,122]
[21,12660,22,12664,24,12667,null,null,null,null,0,222]
[21,12790,22,12794,24,12799,null,null,null,null,0,222]
[21,12905,22,12910,24,12915,null,null,null,null,0,222]
[21,13096,22,13100,24,13102,null,null,null,null,0,222]
[21,13291,22,13295,24,13299,null,null,null,null,0,222]
[12,13386,24,13400,24,13402,null,null,null,null,0,122]
[12,13493,24,13507,24,13512,null,null,null,null,0,122]
[12,13611,24,13626,24,13631,null,null,null,null,0,122]
[12,13731,24,13745,24,13749,null,null,null,null,0,122]
[12,13845,13,13848,24,13866,null,null,null,null,0,112]
[12,13964,24,13980,24,13985,null,null,null,null,0,122]
[21,14089,22,14093,24,14098,null,null,null,null,0,222]
[12,14189,13,14193,24,14203,null,null,null,null,0,112]
[21,14307,22,14311,24,14316,null,null,null,null,0,222]
[21,14419,22,14423,24,14428,null,null,null,null,0,222]
[12,14519,24,14531,24,14534,null,null,null,null,0,122]
[21,14642,22,14646,24,14651,null,null,null,null,0,222]
[21,14748,22,14750,24,14752,null,null,null,null,0,222]
[21,14861,22,14867,24,14873,null,null,null,null,0,222]
[21,14977,22,14984,24,14989,null,null,null,null,0,222]
[21,15092,22,15097,24,15101,null,null,null,null,0,222]
[12,15200,24,15217,24,15223,null,null,null,null,0,122]
[21,15321,22,15323,24,15330,null,null,null,null,0,222]
[21,15433,22,15438,24,15444,null,null,null,null,0,222]
[21,15544,22,15549,24,15554,null,null,null,null,0,222]
[12,15653,24,15664,24,15668,null,null,null,null,0,122]
[21,15766,22,15770,24,15774,null,null,null,null,0,222]
[21,15873,22,15881,24,15885,null,null,null,null,0,222]
[21,15980,22,15982,24,15986,null,null,null,null,0,222]
[21,16080,22,16087,24,16094,null,null,null,null,0,222]
[21,16191,22,16195,24,16199,null,null,null,null,0,222]
[21,16300,22,16306,24,16309,null,null,null,null,0,222]
[21,16404,22,16410,24,16414,null,null,null,null,0,222]
[21,16516,22,16521,24,16525,null,null,null,null,0,222]
[21,16629,22,16632,24,16637,null,null,null,null,0,222]
[21,16740,22,16743,24,16748,null,null,null,null,0,222]
[21,16853,22,16856,24,16861,null,null,null,null,0,222]
[21,16960,22,16963,24,16967,null,null,null,null,0,222]
[21,17121,22,17124,24,17129,null,null,null,null,0,222]
[21,17220,22,17224,24,17228,null,null,null,null,0,222]
[21,17323,22,17326,24,17330,null,null,null,null,0,222]
[21,17430,22,17434,24,17437,null,null,null,null,0,222]
[12,17534,13,17537,24,17550,null,null,null,null,0,112]
[21,17708,22,17711,24,17715,null,null,null,null,0,222]
[21,17812,22,17818,24,17823,null,null,null,null,0,222]
[21,17925,22,17929,24,17934,null,null,null,null,0,222]
[21,18037,22,18041,24,18046,null,null,null,null,0,222]
[21,18152,22,18156,24,18161,null,null,null,null,0,222]
[21,18278,22,18283,24,18290,null,null,null,null,0,222]
[21,18648,22,18652,24,18656,null,null,null,null,0,222]
[21,18806,22,18810,24,18816,null,null,null,null,0,222]
[21,18920,22,18924,24,18928,null,null,null,null,0,222]
[21,19030,22,19035,24,19039,null,null,null,null,0,222]
[21,19341,22,19345,24,19348,null,null,null,null,0,222]
[21,19441,22,19445,24,19449,null,null,null,null,0,222]
[21,19550,22,19554,24,19557,null,null,null,null,0,222]
[12,19656,24,19671,24,19674,null,null,null,null,0,122]
[21,19772,22,19776,24,19780,null,null,null,null,0,222]
[21,19879,22,19887,24,19891,null,null,null,null,0,222]
[21,19996,22,20005,24,20013,null,null,null,null,0,222]
[12,20111,24,20123,24,20128,null,null,null,null,0,122]
[12,20228,24,20242,24,20247,null,null,null,null,0,122]
[21,20352,22,20356,24,20361,null,null,null,null,0,222]
[21,20470,22,20477,24,20483,null,null,null,null,0,222]
[21,20596,22,20600,24,20604,null,null,null,null,0,222]
[21,20708,22,20712,24,20716,null,null,null,null,0,222]
[21,20817,22,20823,24,20828,null,null,null,null,0,222]
[21,20925,22,20932,24,20936,null,null,null,null,0,222]
[21,21038,22,21042,24,21046,null,null,null,null,0,222]
[21,21205,22,21209,24,21214,null,null,null,null,0,222]
[21,21358,22,21362,24,21365,null,null,null,null,0,222]
[21,21503,22,21506,24,21510,null,null,null,null,0,222]
[21,21608,22,21610,24,21612,null,null,null,null,0,222]
[21,21717,22,21723,24,21726,null,null,null,null,0,222]
[21,22000,22,22003,24,22007,null,null,null,null,0,222]
[21,22103,22,22108,24,22113,null,null,null,null,0,222]
[12,22212,24,22226,24,22231,null,null,null,null,0,122]
[21,22327,22,22332,24,22336,null,null,null,null,0,222]
[21,22447,22,22450,24,22455,null,null,null,null,0,222]
[21,22561,22,22567,24,22577,null,null,null,null,0,222]
[21,22674,22,22678,24,22682,null,null,null,null,0,222]
[12,22780,24,22792,24,22796,null,null,null,null,0,122]
[21,22895,22,22900,24,22903,null,null,null,null,0,222]
[21,23000,22,23004,24,23010,null,null,null,null,0,222]
[12,23107,24,23123,24,23130,null,null,null,null,0,122]
[21,23231,22,23235,24,23239,null,null,null,null,0,222]
[21,23338,22,23342,24,23345,null,null,null,null,0,222]
[21,23442,22,23450,24,23456,null,null,null,null,0,222]
[21,23554,22,23558,24,23562,null,null,null,null,0,222]
[21,23691,22,23694,24,23698,null,null,null,null,0,222]
[21,23791,22,23797,24,23801,null,null,null,null,0,222]
[21,23907,22,23911,24,23916,null,null,null,null,null,222]

{"sheet":"!L912A5T.ayl","index":18,"n_rows":212,"n_cols":48,"rows_kept":212,"cut":false,"hidden":false,"merged":[[4,39,4,42],[5,39,5,40],[4,44,4,47],[5,44,5,45],[4,24,4,27],[5,24,5,25],[4,29,4,32],[5,29,5,30],[4,34,4,37],[5,34,5,35],[1,1,1,2],[5,13,5,14],[18,13,18,14],[19,13,19,14],[4,19,4,22],[5,19,5,20]]}
["Report for:!L912A5T.ayl"]
["Date:","<date>"]
["Hen:","<hen>",null,null,null,"Correct Sequence",{"$f":"Start!J2","v":211},null,null,null,null,null,null,null,null,"Total Sequences in Data",{"$f":"4994-COUNTBLANK(L7:L5000)","v":206},null,null,null,null,"Total Sequences in Block Data",{"$f":"COUNTA(L7:L40)","v":34},null,null,null,"Total Sequences in Block Data",{"$f":"COUNTA(L41:L75)","v":35},null,null,null,"Total Sequences in Block Data",{"$f":"COUNTA(L76:L109)","v":34},null,null,null,"Total Sequences in Block Data",{"$f":"COUNTA(L110:L143)","v":34},null,null,null,"Total Sequences in Block Data",{"$f":"COUNTA(L144:L178)","v":35},null,null,null,"Total Sequences in Block Data",{"$f":"COUNTA(L179:L212)","v":34}]
[null,null,null,null,null,null,null,null,null,null,null,null,null,null,null,"Total Sequences in Summary",{"$f":"SUM(O7:O14)","v":206},null,null,null,null,"Total Sequences in Block Summary",{"$f":"SUM(U7:U14)","v":34},null,null,null,"Total Sequences in Block Summary",{"$f":"SUM(Z7:Z14)","v":35},null,null,null,"Total Sequences in Block Summary",{"$f":"SUM(AE7:AE14)","v":34},null,null,null,"Total Sequences in Block Summary",{"$f":"SUM(AJ7:AJ14)","v":34},null,null,null,"Total Sequences in Block Summary",{"$f":"SUM(AO7:AO14)","v":35},null,null,null,"Total Sequences in Block Summary",{"$f":"SUM(AT7:AT14)","v":34}]
[null,null,null,null,null,null,null,null,null,null,null,null,null,null,null,null,null,null,null,"Block 1",null,null,null,null,"Block 2",null,null,null,null,"Block 3",null,null,null,null,"Block 4",null,null,null,null,"Block 5",null,null,null,null,"Block 6"]
["Sequence\nComponent\n1","Time\n1","Sequence\nComponent\n2","Time\n2","Sequence\nComponent\n3","Time\n3","Sequence\nComponent\n4","Time\n4","Sequence\nComponent\n5","Time\n5","Correct?\n0=No 1=Yes","Sequence",null,"Frequency",null,"Relative Frequency","Variability",null,null,"Frequency",null,"Relative Frequency","Variability",null,"Frequency",null,"Relative Frequency","Variability",null,"Frequency",null,"Relative Frequency","Variability",null,"Frequency",null,"Relative Frequency","Variability",null,"Frequency",null,"Relative Frequency","Variability",null,"Frequency",null,"Relative Frequency","Variability"]
[21,5,22,11,24,16,null,null,null,null,0,222,null,111,{"$f":"COUNTIF($L$7:$L$500,N7)","v":2},{"$f":"O7/$Q$4","v":9.7087378640776691E-3},{"$f":"IF(P7=0,0,(P7*((LOG(P7))/LOG(2))))","v":-6.4917480846439016E-2},null,null,{"$f":"N7","v":111},{"$f":"COUNTIF(L7:L40,T7)","v":2},{"$f":"U7/(W4-U11)","v":5.8823529411764705E-2},{"$f":"IF(V7=0,0,(V7*((LOG(V7))/LOG(2))))","v":-0.24043899066178465},null,{"$f":"N7","v":111},{"$f":"COUNTIF(L41:L75,Y7)","v":0},{"$f":"Z7/(AB4-Z11)","v":0},{"$f":"IF(AA7=0,0,(AA7*((LOG(AA7))/LOG(2))))","v":0},null,{"$f":"N7","v":111},{"$f":"COUNTIF(L76:L109,AD7)","v":0},{"$f":"AE7/(AG4-AE11)","v":0},{"$f":"IF(AF7=0,0,(AF7*((LOG(AF7))/LOG(2))))","v":0},null,{"$f":"N7","v":111},{"$f":"COUNTIF(L110:L143,AI7)","v":0},{"$f":"AJ7/(AL4-AJ11)","v":0},{"$f":"IF(AK7=0,0,(AK7*((LOG(AK7))/LOG(2))))","v":0},null,{"$f":"N7","v":111},{"$f":"COUNTIF(L144:L178,AN7)","v":0},{"$f":"AO7/(AQ4-AO11)","v":0},{"$f":"IF(AP7=0,0,(AP7*((LOG(AP7))/LOG(2))))","v":0},null,{"$f":"N7","v":111},{"$f":"COUNTIF(L179:L212,AS7)","v":0},{"$f":"AT7/(AV4-AT11)","v":0},{"$f":"IF(AU7=0,0,(AU7*((LOG(AU7))/LOG(2))))","v":0}]
[21,118,22,120,24,125,null,null,null,null,0,222,null,112,{"$f":"COUNTIF($L$7:$L$500,N8)","v":5},{"$f":"O8/$Q$4","v":2.4271844660194174E-2},{"$f":"IF(P8=0,0,(P8*((LOG(P8))/LOG(2))))","v":-0.13020806874504504},null,null,{"$f":"N8","v":112},{"$f":"COUNTIF(L7:L40,T8)","v":2},{"$f":"U8/(W4-U11)","v":5.8823529411764705E-2},{"$f":"IF(V8=0,0,(V8*((LOG(V8))/LOG(2))))","v":-0.24043899066178465},null,{"$f":"N8","v":112},{"$f":"COUNTIF(L41:L75,Y8)","v":0},{"$f":"Z8/(AB4-Z11)","v":0},{"$f":"IF(AA8=0,0,(AA8*((LOG(AA8))/LOG(2))))","v":0},null,{"$f":"N8","v":112},{"$f":"COUNTIF(L76:L109,AD8)","v":0},{"$f":"AE8/(AG4-AE11)","v":0},{"$f":"IF(AF8=0,0,(AF8*((LOG(AF8))/LOG(2))))","v":0},null,{"$f":"N8","v":112},{"$f":"COUNTIF(L110:L143,AI8)","v":2},{"$f":"AJ8/(AL4-AJ11)","v":5.8823529411764705E-2},{"$f":"IF(AK8=0,0,(AK8*((LOG(AK8))/LOG(2))))","v":-0.24043899066178465},null,{"$f":"N8","v":112},{"$f":"COUNTIF(L144:L178,AN8)","v":0},{"$f":"AO8/(AQ4-AO11)","v":0},{"$f":"IF(AP8=0,0,(AP8*((LOG(AP8))/LOG(2))))","v":0},null,{"$f":"N8","v":112},{"$f":"COUNTIF(L179:L212,AS8)","v":1},{"$f":"AT8/(AV4-AT11)","v":2.9411764705882353E-2},{"$f":"IF(AU8=0,0,(AU8*((LOG(AU8))/LOG(2))))","v":-0.14963126003677468}]
[21,220,22,226,24,230,null,null,null,null,0,222,null,121,{"$f":"COUNTIF($L$7:$L$500,N9)","v":0},{"$f":"O9/$Q$4","v":0},{"$f":"IF(P9=0,0,(P9*((LOG(P9))/LOG(2))))","v":0},null,null,{"$f":"N9","v":121},{"$f":"COUNTIF(L7:L40,T9)","v":0},{"$f":"U9/(W4-U11)","v":0},{"$f":"IF(V9=0,0,(V9*((LOG(V9))/LOG(2))))","v":0},null,{"$f":"N9","v":121},{"$f":"COUNTIF(L41:L75,Y9)","v":0},{"$f":"Z9/(AB4-Z11)","v":0},{"$f":"IF(AA9=0,0,(AA9*((LOG(AA9))/LOG(2))))","v":0},null,{"$f":"N9","v":121},{"$f":"COUNTIF(L76:L109,AD9)","v":0},{"$f":"AE9/(AG4-AE11)","v":0},{"$f":"IF(AF9=0,0,(AF9*((LOG(AF9))/LOG(2))))","v":0},null,{"$f":"N9","v":121},{"$f":"COUNTIF(L110:L143,AI9)","v":0},{"$f":"AJ9/(AL4-AJ11)","v":0},{"$f":"IF(AK9=0,0,(AK9*((LOG(AK9))/LOG(2))))","v":0},null,{"$f":"N9","v":121},{"$f":"COUNTIF(L144:L178,AN9)","v":0},{"$f":"AO9/(AQ4-AO11)","v":0},{"$f":"IF(AP9=0,0,(AP9*((LOG(AP9))/LOG(2))))","v":0},null,{"$f":"N9","v":121},{"$f":"COUNTIF(L179:L212,AS9)","v":0},{"$f":"AT9/(AV4-AT11)","v":0},{"$f":"IF(AU9=0,0,(AU9*((LOG(AU9))/LOG(2))))","v":0}]
[21,335,22,339,24,342,null,null,null,null,0,222,null,122,{"$f":"COUNTIF($L$7:$L$500,N10)","v":32},{"$f":"O10/$Q$4","v":0.1553398058252427},{"$f":"IF(P10=0,0,(P10*((LOG(P10))/LOG(2))))","v":-0.41732047024205332},null,null,{"$f":"N10","v":122},{"$f":"COUNTIF(L7:L40,T10)","v":6},{"$f":"U10/(W4-U11)","v":0.17647058823529413},{"$f":"IF(V10=0,0,(V10*((LOG(V10))/LOG(2))))","v":-0.44161770715220888},null,{"$f":"N10","v":122},{"$f":"COUNTIF(L41:L75,Y10)","v":7},{"$f":"Z10/(AB4-Z11)","v":0.2},{"$f":"IF(AA10=0,0,(AA10*((LOG(AA10))/LOG(2))))","v":-0.46438561897747244},null,{"$f":"N10","v":122},{"$f":"COUNTIF(L76:L109,AD10)","v":6},{"$f":"AE10/(AG4-AE11)","v":0.17647058823529413},{"$f":"IF(AF10=0,0,(AF10*((LOG(AF10))/LOG(2))))","v":-0.44161770715220888},null,{"$f":"N10","v":122},{"$f":"COUNTIF(L110:L143,AI10)","v":5},{"$f":"AJ10/(AL4-AJ11)","v":0.14705882352941177},{"$f":"IF(AK10=0,0,(AK10*((LOG(AK10))/LOG(2))))","v":-0.40669628622984955},null,{"$f":"N10","v":122},{"$f":"COUNTIF(L144:L178,AN10)","v":6},{"$f":"AO10/(AQ4-AO11)","v":0.17142857142857143},{"$f":"IF(AP10=0,0,(AP10*((LOG(AP10))/LOG(2))))","v":-0.43616923135265318},null,{"$f":"N10","v":122},{"$f":"COUNTIF(L179:L212,AS10)","v":2},{"$f":"AT10/(AV4-AT11)","v":5.8823529411764705E-2},{"$f":"IF(AU10=0,0,(AU10*((LOG(AU10))/LOG(2))))","v":-0.24043899066178465}]
[12,453,24,462,24,472,null,null,null,null,0,122,null,211,{"$f":"COUNTIF($L$7:$L$500,N11)","v":0},{"$f":"O11/$Q$4","v":0},{"$f":"IF(P11=0,0,(P11*((LOG(P11))/LOG(2))))","v":0},null,null,{"$f":"N11","v":211},{"$f":"COUNTIF(L7:L40,T11)","v":0},null,null,null,{"$f":"N11","v":211},{"$f":"COUNTIF(L41:L75,Y11)","v":0},null,null,null,{"$f":"N11","v":211},{"$f":"COUNTIF(L76:L109,AD11)","v":0},null,null,null,{"$f":"N11","v":211},{"$f":"COUNTIF(L110:L143,AI11)","v":0},null,null,null,{"$f":"N11","v":211},{"$f":"COUNTIF(L144:L178,AN11)","v":0},null,null,null,{"$f":"N11","v":211},{"$f":"COUNTIF(L179:L212,AS11)","v":0}]
[21,575,22,580,24,585,null,null,null,null,0,222,null,212,{"$f":"COUNTIF($L$7:$L$500,N12)","v":0},{"$f":"O12/$Q$4","v":0},{"$f":"IF(P12=0,0,(P12*((LOG(P12))/LOG(2))))","v":0},null,null,{"$f":"N12","v":212},{"$f":"COUNTIF(L7:L40,T12)","v":0},{"$f":"U12/(W4-U11)","v":0},{"$f":"IF(V12=0,0,(V12*((LOG(V12))/LOG(2))))","v":0},null,{"$f":"N12","v":212},{"$f":"COUNTIF(L41:L75,Y12)","v":0},{"$f":"Z12/(AB4-Z11)","v":0},{"$f":"IF(AA12=0,0,(AA12*((LOG(AA12))/LOG(2))))","v":0},null,{"$f":"N12","v":212},{"$f":"COUNTIF(L76:L109,AD12)","v":0},{"$f":"AE12/(AG4-AE11)","v":0},{"$f":"IF(AF12=0,0,(AF12*((LOG(AF12))/LOG(2))))","v":0},null,{"$f":"N12","v":212},{"$f":"COUNTIF(L110:L143,AI12)","v":0},{"$f":"AJ12/(AL4-AJ11)","v":0},{"$f":"IF(AK12=0,0,(AK12*((LOG(AK12))/LOG(2))))","v":0},null,{"$f":"N12","v":212},{"$f":"COUNTIF(L144:L178,AN12)","v":0},{"$f":"AO12/(AQ4-AO11)","v":0},{"$f":"IF(AP12=0,0,(AP12*((LOG(AP12))/LOG(2))))","v":0},null,{"$f":"N12","v":212},{"$f":"COUNTIF(L179:L212,AS12)","v":0},{"$f":"AT12/(AV4-AT11)","v":0},{"$f":"IF(AU12=0,0,(AU12*((LOG(AU12))/LOG(2))))","v":0}]
[21,682,22,686,24,694,null,null,null,null,0,222,null,221,{"$f":"COUNTIF($L$7:$L$500,N13)","v":0},{"$f":"O13/$Q$4","v":0},{"$f":"IF(P13=0,0,(P13*((LOG(P13))/LOG(2))))","v":0},null,null,{"$f":"N13","v":221},{"$f":"COUNTIF(L7:L40,T13)","v":0},{"$f":"U13/(W4-U11)","v":0},{"$f":"IF(V13=0,0,(V13*((LOG(V13))/LOG(2))))","v":0},null,{"$f":"N13","v":221},{"$f":"COUNTIF(L41:L75,Y13)","v":0},{"$f":"Z13/(AB4-Z11)","v":0},{"$f":"IF(AA13=0,0,(AA13*((LOG(AA13))/LOG(2))))","v":0},null,{"$f":"N13","v":221},{"$f":"COUNTIF(L76:L109,AD13)","v":0},{"$f":"AE13/(AG4-AE11)","v":0},{"$f":"IF(AF13=0,0,(AF13*((LOG(AF13))/LOG(2))))","v":0},null,{"$f":"N13","v":221},{"$f":"COUNTIF(L110:L143,AI13)","v":0},{"$f":"AJ13/(AL4-AJ11)","v":0},{"$f":"IF(AK13=0,0,(AK13*((LOG(AK13))/LOG(2))))","v":0},null,{"$f":"N13","v":221},{"$f":"COUNTIF(L144:L178,AN13)","v":0},{"$f":"AO13/(AQ4-AO11)","v":0},{"$f":"IF(AP13=0,0,(AP13*((LOG(AP13))/LOG(2))))","v":0},null,{"$f":"N13","v":221},{"$f":"COUNTIF(L179:L212,AS13)","v":0},{"$f":"AT13/(AV4-AT11)","v":0},{"$f":"IF(AU13=0,0,(AU13*((LOG(AU13))/LOG(2))))","v":0}]
[21,789,22,792,24,796,null,null,null,null,0,222,null,222,{"$f":"COUNTIF($L$7:$L$500,N14)","v":167},{"$f":"O14/$Q$4","v":0.81067961165048541},{"$f":"IF(P14=0,0,(P14*((LOG(P14))/LOG(2))))","v":-0.24547073396325611},null,null,{"$f":"N14","v":222},{"$f":"COUNTIF(L7:L40,T14)","v":24},{"$f":"U14/(W4-U11)","v":0.70588235294117652},{"$f":"IF(V14=0,0,(V14*((LOG(V14))/LOG(2))))","v":-0.35470612272648222},null,{"$f":"N14","v":222},{"$f":"COUNTIF(L41:L75,Y14)","v":28},{"$f":"Z14/(AB4-Z11)","v":0.8},{"$f":"IF(AA14=0,0,(AA14*((LOG(AA14))/LOG(2))))","v":-0.25754247590988982},null,{"$f":"N14","v":222},{"$f":"COUNTIF(L76:L109,AD14)","v":28},{"$f":"AE14/(AG4-AE11)","v":0.82352941176470584},{"$f":"IF(AF14=0,0,(AF14*((LOG(AF14))/LOG(2))))","v":-0.2306771099234291},null,{"$f":"N14","v":222},{"$f":"COUNTIF(L110:L143,AI14)","v":27},{"$f":"AJ14/(AL4-AJ11)","v":0.79411764705882348},{"$f":"IF(AK14=0,0,(AK14*((LOG(AK14))/LOG(2))))","v":-0.26410394574545631},null,{"$f":"N14","v":222},{"$f":"COUNTIF(L144:L178,AN14)","v":29},{"$f":"AO14/(AQ4-AO11)","v":0.82857142857142863},{"$f":"IF(AP14=0,0,(AP14*((LOG(AP14))/LOG(2))))","v":-0.22479310379155523},null,{"$f":"N14","v":222},{"$f":"COUNTIF(L179:L212,AS14)","v":31},{"$f":"AT14/(AV4-AT11)","v":0.91176470588235292},{"$f":"IF(AU14=0,0,(AU14*((LOG(AU14))/LOG(2))))","v":-0.12150771931668795}]
[12,895,13,898,24,904,null,null,null,null,0,112,null,null,null,{"$f":"SUM(P7:P14)","v":1},{"$f":"-SUM(Q7:Q14)","v":0.85791675379679344},null,null,null,null,{"$f":"SUM(V7:V14)","v":1},{"$f":"-SUM(W7:W14)","v":1.2772018112022605},null,null,null,{"$f":"SUM(AA7:AA14)","v":1},{"$f":"-SUM(AB7:AB14)","v":0.72192809488736231},null,null,null,{"$f":"SUM(AF7:AF14)","v":1},{"$f":"-SUM(AG7:AG14)","v":0.67229481707563798},null,null,null,{"$f":"SUM(AK7:AK14)","v":1},{"$f":"-SUM(AL7:AL14)","v":0.91123922263709045},null,null,null,{"$f":"SUM(AP7:AP14)","v":1},{"$f":"-SUM(AQ7:AQ14)","v":0.66096233514420843},null,null,null,{"$f":"SUM(AU7:AU14)","v":1},{"$f":"-SUM(AV7:AV14)","v":0.5115779700152473}]
[21,1010,22,1014,24,1018,null,null,null,null,0,222,null,null,null,"U=",{"$f":"Q15/(LOG(Q4)/LOG(2))","v":0.11161343849034824},null,null,null,null,"U1=",{"$f":"W15/(LOG(W4)/LOG(2))","v":0.2510488727006337},null,null,null,"U2=",{"$f":"AB15/(LOG(AB4)/LOG(2))","v":0.1407463952568847},null,null,null,"U3=",{"$f":"AG15/(LOG(AG4)/LOG(2))","v":0.1321473665860543},null,null,null,"U4=",{"$f":"AL15/(LOG(AL4)/LOG(2))","v":0.17911466895611494},null,null,null,"U5=",{"$f":"AQ15/(LOG(AQ4)/LOG(2))","v":0.12886057036834786},null,null,null,"U6=",{"$f":"AV15/(LOG(AV4)/LOG(2))","v":0.100556600800551}]
[12,1109,13,1111,13,1114,null,null,null,null,0,111]
[12,1211,13,1213,13,1216,null,null,null,null,0,111]
[12,1314,13,1316,24,1331,null,null,null,null,0,112,null,"Total Target Seq"]
[12,1430,24,1441,24,1445,null,null,null,null,0,122,null,{"$f":"COUNTIF(L7:L212,G3)","v":0},null,34,35,34,34,35,34]
[21,1543,22,1545,24,1549,null,null,null,null,0,222,null,null,null,"% of reinforcement given in 6 equal intervals based on number of trials "]
[12,1644,24,1654,24,1658,null,null,null,null,0,122,null,null,null,"%_1","%_2","%_3","%_4","%_5","%_6"]
[21,1763,22,1766,24,1775,null,null,null,null,0,222,null,null,"target sequence",{"$f":"$G$3","v":211},{"$f":"$G$3","v":211},{"$f":"$G$3","v":211},{"$f":"$G$3","v":211},{"$f":"$G$3","v":211},{"$f":"$G$3","v":211}]
[21,1885,22,1889,24,1895,null,null,null,null,0,222,null,null,"total reinforcement",{"$f":"U11","v":0},{"$f":"Z11","v":0},{"$f":"AE11","v":0},{"$f":"AJ11","v":0},{"$f":"AO11","v":0},{"$f":"AT11","v":0}]
[21,1993,22,1998,24,2002,null,null,null,null,0,222,null,null,"% target"]
[21,2107,22,2111,24,2117,null,null,null,null,0,222,null,null,"CCRF"]
[21,2232,22,2238,24,2248,null,null,null,null,0,222,null,null,"% CCRf"]
[21,2348,22,2353,24,2356,null,null,null,null,0,222,null,null,"average response rate",{"$f":"F40/P20","v":108.17647058823529},{"$f":"(F75-F40)/Q20","v":110.97142857142858},{"$f":"(F109-F75)/R20","v":114.44117647058823},{"$f":"(F143-F109)/S20","v":112},{"$f":"(F178-F143)/T20","v":125.65714285714286},{"$f":"(F212-F178)/U20","v":126.32352941176471}]
[21,2458,22,2462,24,2464,null,null,null,null,0,222]
[21,2571,22,2575,24,2579,null,null,null,null,0,222]
[21,2670,22,2672,24,2677,null,null,null,null,0,222]
[21,2779,22,2783,24,2792,null,null,null,null,0,222]
[21,2895,22,2898,24,2904,null,null,null,null,0,222]
[12,2999,24,3012,24,3015,null,null,null,null,0,122]
[12,3110,24,3122,24,3127,null,null,null,null,0,122]
[21,3228,22,3232,24,3238,null,null,null,null,0,222]
[21,3331,22,3334,24,3341,null,null,null,null,0,222]
[21,3440,22,3446,24,3453,null,null,null,null,0,222]
[12,3548,24,3566,24,3575,null,null,null,null,0,122]
[21,3669,22,3673,24,3678,null,null,null,null,0,222]
[12,3771,24,3782,24,3790,null,null,null,null,0,122]
[21,3886,22,3890,24,3893,null,null,null,null,0,222]
[12,3989,24,4001,24,4005,null,null,null,null,0,122]
[12,4105,24,4118,24,4123,null,null,null,null,0,122]
[21,4225,22,4229,24,4238,null,null,null,null,0,222]
[21,4340,22,4343,24,4347,null,null,null,null,0,222]
[21,4445,22,4448,24,4451,null,null,null,null,0,222]
[21,4552,22,4556,24,4560,null,null,null,null,0,222]
[21,4664,22,4666,24,4671,null,null,null,null,0,222]
[21,4775,22,4779,24,4782,null,null,null,null,0,222]
[21,4880,22,4884,24,4887,null,null,null,null,0,222]
[21,4985,22,4988,24,4992,null,null,null,null,0,222]
[21,5092,22,5096,24,5101,null,null,null,null,0,222]
[21,5201,22,5205,24,5208,null,null,null,null,0,222]
[21,5309,22,5313,24,5316,null,null,null,null,0,222]
[21,5416,22,5420,24,5425,null,null,null,null,0,222]
[21,5528,22,5533,24,5536,null,null,null,null,0,222]
[12,5631,24,5641,24,5644,null,null,null,null,0,122]
[21,5743,22,5747,24,5751,null,null,null,null,0,222]
[21,5853,22,5857,24,5862,null,null,null,null,0,222]
[21,5966,22,5969,24,5974,null,null,null,null,0,222]
[12,6066,24,6076,24,6080,null,null,null,null,0,122]
[12,6177,24,6188,24,6193,null,null,null,null,0,122]
[21,6298,22,6302,24,6306,null,null,null,null,0,222]
[21,6413,22,6418,24,6423,null,null,null,null,0,222]
[21,6521,22,6525,24,6529,null,null,null,null,0,222]
[21,6634,22,6637,24,6642,null,null,null,null,0,222]
[21,6747,22,6751,24,6757,null,null,null,null,0,222]
[21,6854,22,6859,24,6862,null,null,null,null,0,222]
[21,7012,22,7016,24,7019,null,null,null,null,0,222]
[21,7117,22,7121,24,7125,null,null,null,null,0,222]
[12,7223,24,7235,24,7238,null,null,null,null,0,122]
[21,7338,22,7343,24,7346,null,null,null,null,0,222]
[21,7440,22,7444,24,7449,null,null,null,null,0,222]
[21,7553,22,7557,24,7562,null,null,null,null,0,222]
[12,7659,24,7671,24,7674,null,null,null,null,0,122]
[21,7771,22,7776,24,7780,null,null,null,null,0,222]
[21,7878,22,7882,24,7890,null,null,null,null,0,222]
[21,7989,22,7993,24,7996,null,null,null,null,0,222]
[12,8097,24,8107,24,8110,null,null,null,null,0,122]
[21,8208,22,8212,24,8216,null,null,null,null,0,222]
[21,8330,22,8334,24,8343,null,null,null,null,0,222]
[21,8444,22,8448,24,8452,null,null,null,null,0,222]
[21,8581,22,8584,24,8589,null,null,null,null,0,222]
[21,8692,22,8696,24,8701,null,null,null,null,0,222]
[21,8809,22,8812,24,8816,null,null,null,null,0,222]
[12,8903,24,8917,24,8926,null,null,null,null,0,122]
[21,9023,22,9028,24,9031,null,null,null,null,0,222]
[21,9151,22,9155,24,9164,null,null,null,null,0,222]
[12,9264,24,9279,24,9283,null,null,null,null,0,122]
[21,9392,22,9397,24,9402,null,null,null,null,0,222]
[21,9502,22,9509,24,9513,null,null,null,null,0,222]
[21,9609,22,9612,24,9618,null,null,null,null,0,222]
[21,9719,22,9722,24,9726,null,null,null,null,0,222]
[21,9827,22,9831,24,9835,null,null,null,null,0,222]
[21,9991,22,9993,24,9995,null,null,null,null,0,222]
[21,10101,22,10103,24,10108,null,null,null,null,0,222]
[21,10225,22,10229,24,10235,null,null,null,null,0,222]
[21,10335,22,10340,24,10343,null,null,null,null,0,222]
[21,10437,22,10440,24,10444,null,null,null,null,0,222]
[21,10553,22,10557,24,10563,null,null,null,null,0,222]
[21,10663,22,10667,24,10672,null,null,null,null,0,222]
[12,10770,24,10774,24,10783,null,null,null,null,0,122]
[21,10885,22,10888,24,10893,null,null,null,null,0,222]
[21,10997,22,11002,24,11005,null,null,null,null,0,222]
[21,11112,22,11116,24,11120,null,null,null,null,0,222]
[21,11219,22,11224,24,11228,null,null,null,null,0,222]
[12,11325,24,11341,24,11346,null,null,null,null,0,122]
[21,11444,22,11447,24,11453,null,null,null,null,0,222]
[21,11551,22,11555,24,11559,null,null,null,null,0,222]
[21,11656,22,11660,24,11663,null,null,null,null,0,222]
[12,11759,24,11771,24,11775,null,null,null,null,0,122]
[21,11875,22,11880,24,11884,null,null,null,null,0,222]
[21,11988,22,11992,24,11995,null,null,null,null,0,222]
[12,12093,24,12105,24,12110,null,null,null,null,0,122]
[21,12207,22,12211,24,12215,null,null,null,null,0,222]
[21,12314,22,12317,24,12321,null,null,null,null,0,222]
[21,12433,22,12436,24,12443,null,null,null,null,0,222]
[12,12538,24,12550,24,12553,null,null,null,null,0,122]
[21,12651,22,12655,24,12659,null,null,null,null,0,222]
[12,12754,13,12757,24,12768,null,null,null,null,0,112]
[21,12868,22,12870,24,12875,null,null,null,null,0,222]
[21,12974,22,12978,24,12981,null,null,null,null,0,222]
[21,13084,22,13089,24,13092,null,null,null,null,0,222]
[21,13196,22,13200,24,13205,null,null,null,null,0,222]
[21,13303,22,13308,24,13314,null,null,null,null,0,222]
[21,13420,22,13424,24,13429,null,null,null,null,0,222]
[21,13524,22,13528,24,13533,null,null,null,null,0,222]
[12,13631,24,13644,24,13648,null,null,null,null,0,122]
[21,13746,22,13750,24,13753,null,null,null,null,0,222]
[21,13861,22,13865,24,13870,null,null,null,null,0,222]
[21,13968,22,13972,24,13975,null,null,null,null,0,222]
[21,14078,22,14085,24,14092,null,null,null,null,0,222]
[12,14191,24,14203,24,14208,null,null,null,null,0,122]
[21,14304,22,14311,24,14316,null,null,null,null,0,222]
[12,14416,13,14418,24,14430,null,null,null,null,0,112]
[21,14534,22,14539,24,14543,null,null,null,null,0,222]
[21,14647,22,14650,24,14655,null,null,null,null,0,222]
[21,14754,22,14758,24,14765,null,null,null,null,0,222]
[21,14863,22,14867,24,14870,null,null,null,null,0,222]
[21,14973,22,14980,24,14988,null,null,null,null,0,222]
[21,15110,22,15114,24,15118,null,null,null,null,0,222]
[21,15241,22,15251,24,15261,null,null,null,null,0,222]
[21,15367,22,15372,24,15376,null,null,null,null,0,222]
[21,15599,22,15606,24,15611,null,null,null,null,0,222]
[21,15729,22,15732,24,15737,null,null,null,null,0,222]
[21,15836,22,15843,24,15846,null,null,null,null,0,222]
[21,15945,22,15948,24,15952,null,null,null,null,0,222]
[21,16059,22,16063,24,16068,null,null,null,null,0,222]
[21,16174,22,16178,24,16184,null,null,null,null,0,222]
[21,16285,22,16293,24,16298,null,null,null,null,0,222]
[21,16398,22,16404,24,16407,null,null,null,null,0,222]
[12,16502,24,16510,24,16514,null,null,null,null,0,122]
[21,16613,22,16616,24,16620,null,null,null,null,0,222]
[21,16718,22,16722,24,16725,null,null,null,null,0,222]
[21,16870,22,16875,24,16879,null,null,null,null,0,222]
[21,16982,22,16990,24,16997,null,null,null,null,0,222]
[12,17094,24,17108,24,17113,null,null,null,null,0,122]
[21,17216,22,17220,24,17224,null,null,null,null,0,222]
[21,17324,22,17334,24,17342,null,null,null,null,0,222]
[21,17449,22,17454,24,17459,null,null,null,null,0,222]
[21,17732,22,17736,24,17740,null,null,null,null,0,222]
[21,17850,22,17854,24,17859,null,null,null,null,0,222]
[12,17956,24,17968,24,17972,null,null,null,null,0,122]
[21,18071,22,18075,24,18079,null,null,null,null,0,222]
[21,18215,22,18221,24,18227,null,null,null,null,0,222]
[21,18344,22,18347,24,18351,null,null,null,null,0,222]
[21,18459,22,18463,24,18480,null,null,null,null,0,222]
[21,18616,22,18618,24,18624,null,null,null,null,0,222]
[12,18724,24,18734,24,18746,null,null,null,null,0,122]
[21,18846,22,18850,24,18853,null,null,null,null,0,222]
[12,18953,24,18968,24,18974,null,null,null,null,0,122]
[21,19082,22,19087,24,19090,null,null,null,null,0,222]
[21,19195,22,19199,24,19204,null,null,null,null,0,222]
[12,19294,24,19311,24,19316,null,null,null,null,0,122]
[21,19427,22,19431,24,19435,null,null,null,null,0,222]
[21,19537,22,19540,24,19544,null,null,null,null,0,222]
[21,19646,22,19653,24,19659,null,null,null,null,0,222]
[21,19760,22,19764,24,19770,null,null,null,null,0,222]
[21,19872,22,19876,24,19881,null,null,null,null,0,222]
[21,19988,22,19992,24,19998,null,null,null,null,0,222]
[21,20096,22,20101,24,20104,null,null,null,null,0,222]
[21,20206,22,20210,24,20218,null,null,null,null,0,222]
[21,20317,22,20321,24,20325,null,null,null,null,0,222]
[21,20431,22,20438,24,20443,null,null,null,null,0,222]
[21,20538,22,20542,24,20547,null,null,null,null,0,222]
[21,20688,22,20694,24,20699,null,null,null,null,0,222]
[21,20801,22,20805,24,20810,null,null,null,null,0,222]
[12,20904,24,20918,24,20926,null,null,null,null,0,122]
[12,21024,13,21028,24,21041,null,null,null,null,0,112]
[21,21139,22,21143,24,21148,null,null,null,null,0,222]
[21,21293,22,21297,24,21306,null,null,null,null,0,222]
[21,21406,22,21412,24,21416,null,null,null,null,0,222]
[21,21754,22,21758,24,21761,null,null,null,null,0,222]
[21,21857,22,21860,24,21864,null,null,null,null,0,222]
[21,21965,22,21971,24,21979,null,null,null,null,0,222]
[21,22083,22,22087,24,22092,null,null,null,null,0,222]
[12,22188,24,22200,24,22203,null,null,null,null,0,122]
[21,22307,22,22315,24,22321,null,null,null,null,0,222]
[21,22468,22,22472,24,22477,null,null,null,null,0,222]
[21,22631,22,22636,24,22639,null,null,null,null,0,222]
[21,22737,22,22743,24,22747,null,null,null,null,0,222]
[21,22847,22,22850,24,22855,null,null,null,null,0,222]
[21,22989,22,22991,24,22992,null,null,null,null,0,222]
[21,23102,22,23107,24,23111,null,null,null,null,0,222]
[21,23214,22,23222,24,23225,null,null,null,null,0,222]
[21,23345,22,23349,24,23353,null,null,null,null,0,222]
[21,23457,22,23461,24,23469,null,null,null,null,0,222]
[21,23591,22,23596,24,23598,null,null,null,null,0,222]
[21,23699,22,23703,24,23707,null,null,null,null,0,222]
[21,23817,22,23822,24,23830,null,null,null,null,0,222]
[21,23943,22,23947,24,23954,null,null,null,null,1,222]

{"sheet":"!L91392T.ayl","index":19,"n_rows":208,"n_cols":48,"rows_kept":208,"cut":false,"hidden":false,"merged":[[4,39,4,42],[5,39,5,40],[4,44,4,47],[5,44,5,45],[4,24,4,27],[5,24,5,25],[4,29,4,32],[5,29,5,30],[4,34,4,37],[5,34,5,35],[1,1,1,2],[5,13,5,14],[18,13,18,14],[19,13,19,14],[4,19,4,22],[5,19,5,20]]}
["Report for:!L91392T.ayl"]
["Date:","<date>"]
["Hen:","<hen>",null,null,null,"Correct Sequence",{"$f":"Start!J2","v":211},null,null,null,null,null,null,null,null,"Total Sequences in Data",{"$f":"4994-COUNTBLANK(L7:L5000)","v":202},null,null,null,null,"Total Sequences in Block Data",{"$f":"COUNTA(L7:L40)","v":34},null,null,null,"Total Sequences in Block Data",{"$f":"COUNTA(L41:L73)","v":33},null,null,null,"Total Sequences in Block Data",{"$f":"COUNTA(L74:L107)","v":34},null,null,null,"Total Sequences in Block Data",{"$f":"COUNTA(L108:L141)","v":34},null,null,null,"Total Sequences in Block Data",{"$f":"COUNTA(L142:L174)","v":33},null,null,null,"Total Sequences in Block Data",{"$f":"COUNTA(L175:L208)","v":34}]
[null,null,null,null,null,null,null,null,null,null,null,null,null,null,null,"Total Sequences in Summary",{"$f":"SUM(O7:O14)","v":202},null,null,null,null,"Total Sequences in Block Summary",{"$f":"SUM(U7:U14)","v":34},null,null,null,"Total Sequences in Block Summary",{"$f":"SUM(Z7:Z14)","v":33},null,null,null,"Total Sequences in Block Summary",{"$f":"SUM(AE7:AE14)","v":34},null,null,null,"Total Sequences in Block Summary",{"$f":"SUM(AJ7:AJ14)","v":34},null,null,null,"Total Sequences in Block Summary",{"$f":"SUM(AO7:AO14)","v":33},null,null,null,"Total Sequences in Block Summary",{"$f":"SUM(AT7:AT14)","v":34}]
[null,null,null,null,null,null,null,null,null,null,null,null,null,null,null,null,null,null,null,"Block 1",null,null,null,null,"Block 2",null,null,null,null,"Block 3",null,null,null,null,"Block 4",null,null,null,null,"Block 5",null,null,null,null,"Block 6"]
["Sequence\nComponent\n1","Time\n1","Sequence\nComponent\n2","Time\n2","Sequence\nComponent\n3","Time\n3","Sequence\nComponent\n4","Time\n4","Sequence\nComponent\n5","Time\n5","Correct?\n0=No 1=Yes","Sequence",null,"Frequency",null,"Relative Frequency","Variability",null,null,"Frequency",null,"Relative Frequency","Variability",null,"Frequency",null,"Relative Frequency","Variability",null,"Frequency",null,"Relative Frequency","Variability",null,"Frequency",null,"Relative Frequency","Variability",null,"Frequency",null,"Relative Frequency","Variability",null,"Frequency",null,"Relative Frequency","Variability"]
[21,37,22,40,24,45,null,null,null,null,0,222,null,111,{"$f":"COUNTIF($L$7:$L$500,N7)","v":0},{"$f":"O7/$Q$4","v":0},{"$f":"IF(P7=0,0,(P7*((LOG(P7))/LOG(2))))","v":0},null,null,{"$f":"N7","v":111},{"$f":"COUNTIF(L7:L40,T7)","v":0},{"$f":"U7/(W4-U11)","v":0},{"$f":"IF(V7=0,0,(V7*((LOG(V7))/LOG(2))))","v":0},null,{"$f":"N7","v":111},{"$f":"COUNTIF(L41:L73,Y7)","v":0},{"$f":"Z7/(AB4-Z11)","v":0},{"$f":"IF(AA7=0,0,(AA7*((LOG(AA7))/LOG(2))))","v":0},null,{"$f":"N7","v":111},{"$f":"COUNTIF(L74:L107,AD7)","v":0},{"$f":"AE7/(AG4-AE11)","v":0},{"$f":"IF(AF7=0,0,(AF7*((LOG(AF7))/LOG(2))))","v":0},null,{"$f":"N7","v":111},{"$f":"COUNTIF(L108:L141,AI7)","v":0},{"$f":"AJ7/(AL4-AJ11)","v":0},{"$f":"IF(AK7=0,0,(AK7*((LOG(AK7))/LOG(2))))","v":0},null,{"$f":"N7","v":111},{"$f":"COUNTIF(L142:L174,AN7)","v":0},{"$f":"AO7/(AQ4-AO11)","v":0},{"$f":"IF(AP7=0,0,(AP7*((LOG(AP7))/LOG(2))))","v":0},null,{"$f":"N7","v":111},{"$f":"COUNTIF(L175:L208,AS7)","v":0},{"$f":"AT7/(AV4-AT11)","v":0},{"$f":"IF(AU7=0,0,(AU7*((LOG(AU7))/LOG(2))))","v":0}]
[21,145,22,149,24,153,null,null,null,null,0,222,null,112,{"$f":"COUNTIF($L$7:$L$500,N8)","v":0},{"$f":"O8/$Q$4","v":0},{"$f":"IF(P8=0,0,(P8*((LOG(P8))/LOG(2))))","v":0},null,null,{"$f":"N8","v":112},{"$f":"COUNTIF(L7:L40,T8)","v":0},{"$f":"U8/(W4-U11)","v":0},{"$f":"IF(V8=0,0,(V8*((LOG(V8))/LOG(2))))","v":0},null,{"$f":"N8","v":112},{"$f":"COUNTIF(L41:L73,Y8)","v":0},{"$f":"Z8/(AB4-Z11)","v":0},{"$f":"IF(AA8=0,0,(AA8*((LOG(AA8))/LOG(2))))","v":0},null,{"$f":"N8","v":112},{"$f":"COUNTIF(L74:L107,AD8)","v":0},{"$f":"AE8/(AG4-AE11)","v":0},{"$f":"IF(AF8=0,0,(AF8*((LOG(AF8))/LOG(2))))","v":0},null,{"$f":"N8","v":112},{"$f":"COUNTIF(L108:L141,AI8)","v":0},{"$f":"AJ8/(AL4-AJ11)","v":0},{"$f":"IF(AK8=0,0,(AK8*((LOG(AK8))/LOG(2))))","v":0},null,{"$f":"N8","v":112},{"$f":"COUNTIF(L142:L174,AN8)","v":0},{"$f":"AO8/(AQ4-AO11)","v":0},{"$f":"IF(AP8=0,0,(AP8*((LOG(AP8))/LOG(2))))","v":0},null,{"$f":"N8","v":112},{"$f":"COUNTIF(L175:L208,AS8)","v":0},{"$f":"AT8/(AV4-AT11)","v":0},{"$f":"IF(AU8=0,0,(AU8*((LOG(AU8))/LOG(2))))","v":0}]
[12,252,24,264,24,267,null,null,null,null,0,122,null,121,{"$f":"COUNTIF($L$7:$L$500,N9)","v":0},{"$f":"O9/$Q$4","v":0},{"$f":"IF(P9=0,0,(P9*((LOG(P9))/LOG(2))))","v":0},null,null,{"$f":"N9","v":121},{"$f":"COUNTIF(L7:L40,T9)","v":0},{"$f":"U9/(W4-U11)","v":0},{"$f":"IF(V9=0,0,(V9*((LOG(V9))/LOG(2))))","v":0},null,{"$f":"N9","v":121},{"$f":"COUNTIF(L41:L73,Y9)","v":0},{"$f":"Z9/(AB4-Z11)","v":0},{"$f":"IF(AA9=0,0,(AA9*((LOG(AA9))/LOG(2))))","v":0},null,{"$f":"N9","v":121},{"$f":"COUNTIF(L74:L107,AD9)","v":0},{"$f":"AE9/(AG4-AE11)","v":0},{"$f":"IF(AF9=0,0,(AF9*((LOG(AF9))/LOG(2))))","v":0},null,{"$f":"N9","v":121},{"$f":"COUNTIF(L108:L141,AI9)","v":0},{"$f":"AJ9/(AL4-AJ11)","v":0},{"$f":"IF(AK9=0,0,(AK9*((LOG(AK9))/LOG(2))))","v":0},null,{"$f":"N9","v":121},{"$f":"COUNTIF(L142:L174,AN9)","v":0},{"$f":"AO9/(AQ4-AO11)","v":0},{"$f":"IF(AP9=0,0,(AP9*((LOG(AP9))/LOG(2))))","v":0},null,{"$f":"N9","v":121},{"$f":"COUNTIF(L175:L208,AS9)","v":0},{"$f":"AT9/(AV4-AT11)","v":0},{"$f":"IF(AU9=0,0,(AU9*((LOG(AU9))/LOG(2))))","v":0}]
[21,368,22,372,24,376,null,null,null,null,0,222,null,122,{"$f":"COUNTIF($L$7:$L$500,N10)","v":9},{"$f":"O10/$Q$4","v":4.4554455445544552E-2},{"$f":"IF(P10=0,0,(P10*((LOG(P10))/LOG(2))))","v":-0.19997316005834326},null,null,{"$f":"N10","v":122},{"$f":"COUNTIF(L7:L40,T10)","v":6},{"$f":"U10/(W4-U11)","v":0.17647058823529413},{"$f":"IF(V10=0,0,(V10*((LOG(V10))/LOG(2))))","v":-0.44161770715220888},null,{"$f":"N10","v":122},{"$f":"COUNTIF(L41:L73,Y10)","v":2},{"$f":"Z10/(AB4-Z11)","v":6.0606060606060608E-2},{"$f":"IF(AA10=0,0,(AA10*((LOG(AA10))/LOG(2))))","v":-0.24511479511263354},null,{"$f":"N10","v":122},{"$f":"COUNTIF(L74:L107,AD10)","v":1},{"$f":"AE10/(AG4-AE11)","v":2.9411764705882353E-2},{"$f":"IF(AF10=0,0,(AF10*((LOG(AF10))/LOG(2))))","v":-0.14963126003677468},null,{"$f":"N10","v":122},{"$f":"COUNTIF(L108:L141,AI10)","v":0},{"$f":"AJ10/(AL4-AJ11)","v":0},{"$f":"IF(AK10=0,0,(AK10*((LOG(AK10))/LOG(2))))","v":0},null,{"$f":"N10","v":122},{"$f":"COUNTIF(L142:L174,AN10)","v":0},{"$f":"AO10/(AQ4-AO11)","v":0},{"$f":"IF(AP10=0,0,(AP10*((LOG(AP10))/LOG(2))))","v":0},null,{"$f":"N10","v":122},{"$f":"COUNTIF(L175:L208,AS10)","v":0},{"$f":"AT10/(AV4-AT11)","v":0},{"$f":"IF(AU10=0,0,(AU10*((LOG(AU10))/LOG(2))))","v":0}]
[21,478,22,484,24,489,null,null,null,null,0,222,null,211,{"$f":"COUNTIF($L$7:$L$500,N11)","v":0},{"$f":"O11/$Q$4","v":0},{"$f":"IF(P11=0,0,(P11*((LOG(P11))/LOG(2))))","v":0},null,null,{"$f":"N11","v":211},{"$f":"COUNTIF(L7:L40,T11)","v":0},null,null,null,{"$f":"N11","v":211},{"$f":"COUNTIF(L41:L73,Y11)","v":0},null,null,null,{"$f":"N11","v":211},{"$f":"COUNTIF(L74:L107,AD11)","v":0},null,null,null,{"$f":"N11","v":211},{"$f":"COUNTIF(L108:L141,AI11)","v":0},null,null,null,{"$f":"N11","v":211},{"$f":"COUNTIF(L142:L174,AN11)","v":0},null,null,null,{"$f":"N11","v":211},{"$f":"COUNTIF(L175:L208,AS11)","v":0}]
[21,585,22,588,24,593,null,null,null,null,0,222,null,212,{"$f":"COUNTIF($L$7:$L$500,N12)","v":0},{"$f":"O12/$Q$4","v":0},{"$f":"IF(P12=0,0,(P12*((LOG(P12))/LOG(2))))","v":0},null,null,{"$f":"N12","v":212},{"$f":"COUNTIF(L7:L40,T12)","v":0},{"$f":"U12/(W4-U11)","v":0},{"$f":"IF(V12=0,0,(V12*((LOG(V12))/LOG(2))))","v":0},null,{"$f":"N12","v":212},{"$f":"COUNTIF(L41:L73,Y12)","v":0},{"$f":"Z12/(AB4-Z11)","v":0},{"$f":"IF(AA12=0,0,(AA12*((LOG(AA12))/LOG(2))))","v":0},null,{"$f":"N12","v":212},{"$f":"COUNTIF(L74:L107,AD12)","v":0},{"$f":"AE12/(AG4-AE11)","v":0},{"$f":"IF(AF12=0,0,(AF12*((LOG(AF12))/LOG(2))))","v":0},null,{"$f":"N12","v":212},{"$f":"COUNTIF(L108:L141,AI12)","v":0},{"$f":"AJ12/(AL4-AJ11)","v":0},{"$f":"IF(AK12=0,0,(AK12*((LOG(AK12))/LOG(2))))","v":0},null,{"$f":"N12","v":212},{"$f":"COUNTIF(L142:L174,AN12)","v":0},{"$f":"AO12/(AQ4-AO11)","v":0},{"$f":"IF(AP12=0,0,(AP12*((LOG(AP12))/LOG(2))))","v":0},null,{"$f":"N12","v":212},{"$f":"COUNTIF(L175:L208,AS12)","v":0},{"$f":"AT12/(AV4-AT11)","v":0},{"$f":"IF(AU12=0,0,(AU12*((LOG(AU12))/LOG(2))))","v":0}]
[21,697,22,702,24,707,null,null,null,null,0,222,null,221,{"$f":"COUNTIF($L$7:$L$500,N13)","v":0},{"$f":"O13/$Q$4","v":0},{"$f":"IF(P13=0,0,(P13*((LOG(P13))/LOG(2))))","v":0},null,null,{"$f":"N13","v":221},{"$f":"COUNTIF(L7:L40,T13)","v":0},{"$f":"U13/(W4-U11)","v":0},{"$f":"IF(V13=0,0,(V13*((LOG(V13))/LOG(2))))","v":0},null,{"$f":"N13","v":221},{"$f":"COUNTIF(L41:L73,Y13)","v":0},{"$f":"Z13/(AB4-Z11)","v":0},{"$f":"IF(AA13=0,0,(AA13*((LOG(AA13))/LOG(2))))","v":0},null,{"$f":"N13","v":221},{"$f":"COUNTIF(L74:L107,AD13)","v":0},{"$f":"AE13/(AG4-AE11)","v":0},{"$f":"IF(AF13=0,0,(AF13*((LOG(AF13))/LOG(2))))","v":0},null,{"$f":"N13","v":221},{"$f":"COUNTIF(L108:L141,AI13)","v":0},{"$f":"AJ13/(AL4-AJ11)","v":0},{"$f":"IF(AK13=0,0,(AK13*((LOG(AK13))/LOG(2))))","v":0},null,{"$f":"N13","v":221},{"$f":"COUNTIF(L142:L174,AN13)","v":0},{"$f":"AO13/(AQ4-AO11)","v":0},{"$f":"IF(AP13=0,0,(AP13*((LOG(AP13))/LOG(2))))","v":0},null,{"$f":"N13","v":221},{"$f":"COUNTIF(L175:L208,AS13)","v":0},{"$f":"AT13/(AV4-AT11)","v":0},{"$f":"IF(AU13=0,0,(AU13*((LOG(AU13))/LOG(2))))","v":0}]
[21,810,22,815,24,819,null,null,null,null,0,222,null,222,{"$f":"COUNTIF($L$7:$L$500,N14)","v":193},{"$f":"O14/$Q$4","v":0.95544554455445541},{"$f":"IF(P14=0,0,(P14*((LOG(P14))/LOG(2))))","v":-6.282479197206374E-2},null,null,{"$f":"N14","v":222},{"$f":"COUNTIF(L7:L40,T14)","v":28},{"$f":"U14/(W4-U11)","v":0.82352941176470584},{"$f":"IF(V14=0,0,(V14*((LOG(V14))/LOG(2))))","v":-0.2306771099234291},null,{"$f":"N14","v":222},{"$f":"COUNTIF(L41:L73,Y14)","v":31},{"$f":"Z14/(AB4-Z11)","v":0.93939393939393945},{"$f":"IF(AA14=0,0,(AA14*((LOG(AA14))/LOG(2))))","v":-8.4731275094512809E-2},null,{"$f":"N14","v":222},{"$f":"COUNTIF(L74:L107,AD14)","v":33},{"$f":"AE14/(AG4-AE11)","v":0.97058823529411764},{"$f":"IF(AF14=0,0,(AF14*((LOG(AF14))/LOG(2))))","v":-4.1801994777418743E-2},null,{"$f":"N14","v":222},{"$f":"COUNTIF(L108:L141,AI14)","v":34},{"$f":"AJ14/(AL4-AJ11)","v":1},{"$f":"IF(AK14=0,0,(AK14*((LOG(AK14))/LOG(2))))","v":0},null,{"$f":"N14","v":222},{"$f":"COUNTIF(L142:L174,AN14)","v":33},{"$f":"AO14/(AQ4-AO11)","v":1},{"$f":"IF(AP14=0,0,(AP14*((LOG(AP14))/LOG(2))))","v":0},null,{"$f":"N14","v":222},{"$f":"COUNTIF(L175:L208,AS14)","v":34},{"$f":"AT14/(AV4-AT11)","v":1},{"$f":"IF(AU14=0,0,(AU14*((LOG(AU14))/LOG(2))))","v":0}]
[21,921,22,925,24,928,null,null,null,null,0,222,null,null,null,{"$f":"SUM(P7:P14)","v":1},{"$f":"-SUM(Q7:Q14)","v":0.26279795203040701},null,null,null,null,{"$f":"SUM(V7:V14)","v":1},{"$f":"-SUM(W7:W14)","v":0.67229481707563798},null,null,null,{"$f":"SUM(AA7:AA14)","v":1},{"$f":"-SUM(AB7:AB14)","v":0.32984607020714635},null,null,null,{"$f":"SUM(AF7:AF14)","v":1},{"$f":"-SUM(AG7:AG14)","v":0.19143325481419343},null,null,null,{"$f":"SUM(AK7:AK14)","v":1},{"$f":"-SUM(AL7:AL14)","v":0},null,null,null,{"$f":"SUM(AP7:AP14)","v":1},{"$f":"-SUM(AQ7:AQ14)","v":0},null,null,null,{"$f":"SUM(AU7:AU14)","v":1},{"$f":"-SUM(AV7:AV14)","v":0}]
[21,1038,22,1046,24,1052,null,null,null,null,0,222,null,null,null,"U=",{"$f":"Q15/(LOG(Q4)/LOG(2))","v":3.4315838968706158E-2},null,null,null,null,"U1=",{"$f":"W15/(LOG(W4)/LOG(2))","v":0.1321473665860543},null,null,null,"U2=",{"$f":"AB15/(LOG(AB4)/LOG(2))","v":6.53886398252118E-2},null,null,null,"U3=",{"$f":"AG15/(LOG(AG4)/LOG(2))","v":3.7628433029919708E-2},null,null,null,"U4=",{"$f":"AL15/(LOG(AL4)/LOG(2))","v":0},null,null,null,"U5=",{"$f":"AQ15/(LOG(AQ4)/LOG(2))","v":0},null,null,null,"U6=",{"$f":"AV15/(LOG(AV4)/LOG(2))","v":0}]
[21,1162,22,1167,24,1173,null,null,null,null,0,222]
[21,1273,22,1279,24,1286,null,null,null,null,0,222]
[21,1381,22,1385,24,1388,null,null,null,null,0,222,null,"Total Target Seq"]
[12,1488,24,1494,24,1498,null,null,null,null,0,122,null,{"$f":"COUNTIF(L7:L208,G3)","v":0},null,34,33,34,34,33,34]
[21,1603,22,1607,24,1611,null,null,null,null,0,222,null,null,null,"% of reinforcement given in 6 equal intervals based on number of trials "]
[21,1711,22,1716,24,1718,null,null,null,null,0,222,null,null,null,"%_1","%_2","%_3","%_4","%_5","%_6"]
[21,1817,22,1825,24,1829,null,null,null,null,0,222,null,null,"target sequence",{"$f":"$G$3","v":211},{"$f":"$G$3","v":211},{"$f":"$G$3","v":211},{"$f":"$G$3","v":211},{"$f":"$G$3","v":211},{"$f":"$G$3","v":211}]
[21,1930,22,1934,24,1937,null,null,null,null,0,222,null,null,"total reinforcement",{"$f":"U11","v":0},{"$f":"Z11","v":0},{"$f":"AE11","v":0},{"$f":"AJ11","v":0},{"$f":"AO11","v":0},{"$f":"AT11","v":0}]
[21,2044,22,2048,24,2053,null,null,null,null,0,222,null,null,"% target"]
[21,2151,22,2155,24,2160,null,null,null,null,0,222,null,null,"CCRF"]
[21,2256,22,2260,24,2268,null,null,null,null,0,222,null,null,"% CCRf"]
[21,2372,22,2376,24,2379,null,null,null,null,0,222,null,null,"average response rate",{"$f":"F40/P20","v":111.14705882352941},{"$f":"(F73-F40)/Q20","v":120.36363636363636},{"$f":"(F107-F73)/R20","v":124.70588235294117},{"$f":"(F141-F107)/S20","v":113.17647058823529},{"$f":"(F174-F141)/T20","v":115.45454545454545},{"$f":"(F208-F174)/U20","v":125.5}]
[21,2481,22,2486,24,2490,null,null,null,null,0,222]
[21,2603,22,2611,24,2616,null,null,null,null,0,222]
[12,2713,24,2725,24,2729,null,null,null,null,0,122]
[12,2829,24,2840,24,2843,null,null,null,null,0,122]
[12,2935,24,2945,24,2949,null,null,null,null,0,122]
[21,3056,22,3062,24,3070,null,null,null,null,0,222]
[21,3174,22,3178,24,3182,null,null,null,null,0,222]
[21,3280,22,3288,24,3294,null,null,null,null,0,222]
[21,3393,22,3402,24,3407,null,null,null,null,0,222]
[21,3543,22,3548,24,3552,null,null,null,null,0,222]
[12,3650,24,3664,24,3670,null,null,null,null,0,122]
[21,3770,22,3774,24,3779,null,null,null,null,0,222]
[21,3877,22,3880,24,3885,null,null,null,null,0,222]
[21,3990,22,3994,24,3999,null,null,null,null,0,222]
[21,4143,22,4148,24,4153,null,null,null,null,0,222]
[21,4251,22,4259,24,4264,null,null,null,null,0,222]
[21,4366,22,4374,24,4378,null,null,null,null,0,222]
[21,4475,22,4479,24,4485,null,null,null,null,0,222]
[21,4586,22,4590,24,4594,null,null,null,null,0,222]
[12,4692,24,4701,24,4703,null,null,null,null,0,122]
[21,4807,22,4814,24,4818,null,null,null,null,0,222]
[21,4913,22,4919,24,4923,null,null,null,null,0,222]
[21,5018,22,5022,24,5025,null,null,null,null,0,222]
[12,5123,24,5135,24,5139,null,null,null,null,0,122]
[21,5237,22,5240,24,5243,null,null,null,null,0,222]
[21,5340,22,5344,24,5347,null,null,null,null,0,222]
[21,5442,22,5447,24,5451,null,null,null,null,0,222]
[21,5562,22,5567,24,5570,null,null,null,null,0,222]
[21,5671,22,5676,24,5679,null,null,null,null,0,222]
[21,5787,22,5792,24,5797,null,null,null,null,0,222]
[21,5898,22,5901,24,5905,null,null,null,null,0,222]
[21,6046,22,6049,24,6053,null,null,null,null,0,222]
[21,6150,22,6154,24,6159,null,null,null,null,0,222]
[21,6321,22,6325,24,6334,null,null,null,null,0,222]
[21,6527,22,6530,24,6536,null,null,null,null,0,222]
[21,6638,22,6642,24,6646,null,null,null,null,0,222]
[21,6753,22,6757,24,6760,null,null,null,null,0,222]
[21,6857,22,6861,24,6865,null,null,null,null,0,222]
[21,7004,22,7012,24,7017,null,null,null,null,0,222]
[21,7119,22,7122,24,7126,null,null,null,null,0,222]
[21,7291,22,7295,24,7299,null,null,null,null,0,222]
[21,7397,22,7401,24,7406,null,null,null,null,0,222]
[21,7508,22,7513,24,7518,null,null,null,null,0,222]
[21,7632,22,7637,24,7644,null,null,null,null,0,222]
[21,7742,22,7747,24,7751,null,null,null,null,0,222]
[21,7850,22,7854,24,7857,null,null,null,null,0,222]
[21,7984,22,7988,24,7993,null,null,null,null,0,222]
[21,8097,22,8103,24,8107,null,null,null,null,0,222]
[21,8215,22,8220,24,8224,null,null,null,null,0,222]
[21,8405,22,8410,24,8413,null,null,null,null,0,222]
[21,8513,22,8517,24,8521,null,null,null,null,0,222]
[21,8647,22,8650,24,8655,null,null,null,null,0,222]
[21,8748,22,8751,24,8755,null,null,null,null,0,222]
[21,8875,22,8880,24,8883,null,null,null,null,0,222]
[21,9077,22,9081,24,9085,null,null,null,null,0,222]
[21,9220,22,9224,24,9229,null,null,null,null,0,222]
[21,9355,22,9360,24,9364,null,null,null,null,0,222]
[21,9466,22,9471,24,9473,null,null,null,null,0,222]
[21,9634,22,9640,24,9648,null,null,null,null,0,222]
[21,9771,22,9775,24,9779,null,null,null,null,0,222]
[21,9896,22,9900,24,9904,null,null,null,null,0,222]
[12,10000,24,10010,24,10014,null,null,null,null,0,122]
[21,10113,22,10121,24,10126,null,null,null,null,0,222]
[21,10226,22,10230,24,10234,null,null,null,null,0,222]
[21,10327,22,10332,24,10336,null,null,null,null,0,222]
[21,10445,22,10450,24,10455,null,null,null,null,0,222]
[21,10561,22,10565,24,10571,null,null,null,null,0,222]
[21,10682,22,10686,24,10692,null,null,null,null,0,222]
[21,10796,22,10800,24,10810,null,null,null,null,0,222]
[21,10906,22,10911,24,10916,null,null,null,null,0,222]
[21,11036,22,11040,24,11043,null,null,null,null,0,222]
[21,11145,22,11149,24,11153,null,null,null,null,0,222]
[21,11268,22,11273,24,11277,null,null,null,null,0,222]
[21,11379,22,11382,24,11390,null,null,null,null,0,222]
[21,11488,22,11492,24,11496,null,null,null,null,0,222]
[21,11593,22,11597,24,11600,null,null,null,null,0,222]
[21,11722,22,11726,24,11730,null,null,null,null,0,222]
[21,11845,22,11849,24,11853,null,null,null,null,0,222]
[21,11979,22,11983,24,11991,null,null,null,null,0,222]
[21,12091,22,12098,24,12102,null,null,null,null,0,222]
[21,12206,22,12211,24,12214,null,null,null,null,0,222]
[21,12315,22,12319,24,12324,null,null,null,null,0,222]
[21,12423,22,12425,24,12427,null,null,null,null,0,222]
[21,12525,22,12534,24,12539,null,null,null,null,0,222]
[21,12635,22,12639,24,12643,null,null,null,null,0,222]
[21,12744,22,12748,24,12752,null,null,null,null,0,222]
[21,12856,22,12859,24,12864,null,null,null,null,0,222]
[21,12969,22,12972,24,12976,null,null,null,null,0,222]
[21,13074,22,13078,24,13082,null,null,null,null,0,222]
[21,13179,22,13183,24,13188,null,null,null,null,0,222]
[21,13293,22,13298,24,13303,null,null,null,null,0,222]
[21,13404,22,13407,24,13412,null,null,null,null,0,222]
[21,13517,22,13522,24,13527,null,null,null,null,0,222]
[21,13626,22,13630,24,13635,null,null,null,null,0,222]
[21,13734,22,13738,24,13744,null,null,null,null,0,222]
[21,13844,22,13851,24,13857,null,null,null,null,0,222]
[21,13982,22,13986,24,13991,null,null,null,null,0,222]
[21,14091,22,14095,24,14099,null,null,null,null,0,222]
[21,14197,22,14201,24,14205,null,null,null,null,0,222]
[21,14303,22,14306,24,14311,null,null,null,null,0,222]
[21,14421,22,14425,24,14429,null,null,null,null,0,222]
[21,14528,22,14531,24,14535,null,null,null,null,0,222]
[21,14633,22,14636,24,14641,null,null,null,null,0,222]
[21,14744,22,14749,24,14753,null,null,null,null,0,222]
[21,14857,22,14864,24,14869,null,null,null,null,0,222]
[21,14969,22,14973,24,14981,null,null,null,null,0,222]
[21,15081,22,15085,24,15089,null,null,null,null,0,222]
[21,15205,22,15209,24,15213,null,null,null,null,0,222]
[21,15316,22,15320,24,15324,null,null,null,null,0,222]
[21,15478,22,15486,24,15493,null,null,null,null,0,222]
[21,15586,22,15594,24,15599,null,null,null,null,0,222]
[21,15702,22,15705,24,15713,null,null,null,null,0,222]
[21,15829,22,15834,24,15839,null,null,null,null,0,222]
[21,15942,22,15946,24,15951,null,null,null,null,0,222]
[21,16054,22,16058,24,16063,null,null,null,null,0,222]
[21,16166,22,16170,24,16175,null,null,null,null,0,222]
[21,16273,22,16281,24,16284,null,null,null,null,0,222]
[21,16381,22,16385,24,16388,null,null,null,null,0,222]
[21,16487,22,16489,24,16494,null,null,null,null,0,222]
[21,16594,22,16603,24,16608,null,null,null,null,0,222]
[21,16706,22,16712,24,16715,null,null,null,null,0,222]
[21,16817,22,16825,24,16832,null,null,null,null,0,222]
[21,16925,22,16933,24,16938,null,null,null,null,0,222]
[21,17042,22,17045,24,17049,null,null,null,null,0,222]
[21,17151,22,17154,24,17162,null,null,null,null,0,222]
[21,17262,22,17268,24,17273,null,null,null,null,0,222]
[21,17377,22,17382,24,17386,null,null,null,null,0,222]
[21,17478,22,17482,24,17486,null,null,null,null,0,222]
[21,17591,22,17594,24,17598,null,null,null,null,0,222]
[21,17704,22,17707,24,17710,null,null,null,null,0,222]
[21,17813,22,17817,24,17822,null,null,null,null,0,222]
[21,17924,22,17926,24,17931,null,null,null,null,0,222]
[21,18040,22,18045,24,18050,null,null,null,null,0,222]
[21,18170,22,18183,24,18188,null,null,null,null,0,222]
[21,18280,22,18283,24,18287,null,null,null,null,0,222]
[21,18388,22,18393,24,18398,null,null,null,null,0,222]
[21,18506,22,18510,24,18513,null,null,null,null,0,222]
[21,18641,22,18644,24,18648,null,null,null,null,0,222]
[21,18747,22,18752,24,18758,null,null,null,null,0,222]
[21,18865,22,18869,24,18874,null,null,null,null,0,222]
[21,18969,22,18973,24,18976,null,null,null,null,0,222]
[21,19075,22,19083,24,19089,null,null,null,null,0,222]
[21,19299,22,19302,24,19306,null,null,null,null,0,222]
[21,19413,22,19418,24,19422,null,null,null,null,0,222]
[21,19521,22,19523,24,19525,null,null,null,null,0,222]
[21,19641,22,19645,24,19649,null,null,null,null,0,222]
[21,19773,22,19775,24,19779,null,null,null,null,0,222]
[21,19883,22,19890,24,19900,null,null,null,null,0,222]
[21,20000,22,20004,24,20015,null,null,null,null,0,222]
[21,20114,22,20122,24,20126,null,null,null,null,0,222]
[21,20225,22,20228,24,20232,null,null,null,null,0,222]
[21,20438,22,20442,24,20445,null,null,null,null,0,222]
[21,20598,22,20600,24,20603,null,null,null,null,0,222]
[21,20699,22,20700,24,20705,null,null,null,null,0,222]
[21,20806,22,20811,24,20815,null,null,null,null,0,222]
[21,20913,22,20920,24,20925,null,null,null,null,0,222]
[21,21024,22,21029,24,21032,null,null,null,null,0,222]
[21,21129,22,21137,24,21142,null,null,null,null,0,222]
[21,21244,22,21252,24,21257,null,null,null,null,0,222]
[21,21362,22,21368,24,21373,null,null,null,null,0,222]
[21,21502,22,21510,24,21518,null,null,null,null,0,222]
[21,21616,22,21620,24,21624,null,null,null,null,0,222]
[21,21724,22,21729,24,21732,null,null,null,null,0,222]
[21,21830,22,21832,24,21834,null,null,null,null,0,222]
[21,21929,22,21932,24,21935,null,null,null,null,0,222]
[21,22115,22,22120,24,22125,null,null,null,null,0,222]
[21,22222,22,22230,24,22235,null,null,null,null,0,222]
[21,22333,22,22337,24,22341,null,null,null,null,0,222]
[21,22437,22,22442,24,22445,null,null,null,null,0,222]
[21,22547,22,22554,24,22559,null,null,null,null,0,222]
[21,22652,22,22654,24,22661,null,null,null,null,0,222]
[21,22767,22,22771,24,22775,null,null,null,null,0,222]
[21,22881,22,22885,24,22888,null,null,null,null,0,222]
[21,22987,22,22996,24,23001,null,null,null,null,0,222]
[21,23097,22,23101,24,23104,null,null,null,null,0,222]
[21,23425,22,23451,24,23454,null,null,null,null,0,222]
[21,23555,22,23558,24,23562,null,null,null,null,0,222]
[21,23684,22,23688,24,23693,null,null,null,null,0,222]
[21,23792,22,23800,24,23805,null,null,null,null,0,222]
[21,23910,22,23912,24,23916,null,null,null,null,null,222]

{"sheet":"!L914A1T.ayl","index":20,"n_rows":207,"n_cols":48,"rows_kept":207,"cut":false,"hidden":false,"merged":[[4,39,4,42],[5,39,5,40],[4,44,4,47],[5,44,5,45],[4,24,4,27],[5,24,5,25],[4,29,4,32],[5,29,5,30],[4,34,4,37],[5,34,5,35],[1,1,1,2],[5,13,5,14],[18,13,18,14],[19,13,19,14],[4,19,4,22],[5,19,5,20]]}
["Report for:!L914A1T.ayl"]
["Date:","<date>"]
["Hen:","<hen>",null,null,null,"Correct Sequence",{"$f":"Start!J2","v":211},null,null,null,null,null,null,null,null,"Total Sequences in Data",{"$f":"4994-COUNTBLANK(L7:L5000)","v":201},null,null,null,null,"Total Sequences in Block Data",{"$f":"COUNTA(L7:L40)","v":34},null,null,null,"Total Sequences in Block Data",{"$f":"COUNTA(L41:L73)","v":33},null,null,null,"Total Sequences in Block Data",{"$f":"COUNTA(L74:L107)","v":34},null,null,null,"Total Sequences in Block Data",{"$f":"COUNTA(L108:L140)","v":33},null,null,null,"Total Sequences in Block Data",{"$f":"COUNTA(L141:L174)","v":34},null,null,null,"Total Sequences in Block Data",{"$f":"COUNTA(L175:L207)","v":33}]
[null,null,null,null,null,null,null,null,null,null,null,null,null,null,null,"Total Sequences in Summary",{"$f":"SUM(O7:O14)","v":201},null,null,null,null,"Total Sequences in Block Summary",{"$f":"SUM(U7:U14)","v":34},null,null,null,"Total Sequences in Block Summary",{"$f":"SUM(Z7:Z14)","v":33},null,null,null,"Total Sequences in Block Summary",{"$f":"SUM(AE7:AE14)","v":34},null,null,null,"Total Sequences in Block Summary",{"$f":"SUM(AJ7:AJ14)","v":33},null,null,null,"Total Sequences in Block Summary",{"$f":"SUM(AO7:AO14)","v":34},null,null,null,"Total Sequences in Block Summary",{"$f":"SUM(AT7:AT14)","v":33}]
[null,null,null,null,null,null,null,null,null,null,null,null,null,null,null,null,null,null,null,"Block 1",null,null,null,null,"Block 2",null,null,null,null,"Block 3",null,null,null,null,"Block 4",null,null,null,null,"Block 5",null,null,null,null,"Block 6"]
["Sequence\nComponent\n1","Time\n1","Sequence\nComponent\n2","Time\n2","Sequence\nComponent\n3","Time\n3","Sequence\nComponent\n4","Time\n4","Sequence\nComponent\n5","Time\n5","Correct?\n0=No 1=Yes","Sequence",null,"Frequency",null,"Relative Frequency","Variability",null,null,"Frequency",null,"Relative Frequency","Variability",null,"Frequency",null,"Relative Frequency","Variability",null,"Frequency",null,"Relative Frequency","Variability",null,"Frequency",null,"Relative Frequency","Variability",null,"Frequency",null,"Relative Frequency","Variability",null,"Frequency",null,"Relative Frequency","Variability"]
[21,185,22,191,24,197,null,null,null,null,0,222,null,111,{"$f":"COUNTIF($L$7:$L$500,N7)","v":0},{"$f":"O7/$Q$4","v":0},{"$f":"IF(P7=0,0,(P7*((LOG(P7))/LOG(2))))","v":0},null,null,{"$f":"N7","v":111},{"$f":"COUNTIF(L7:L40,T7)","v":0},{"$f":"U7/(W4-U11)","v":0},{"$f":"IF(V7=0,0,(V7*((LOG(V7))/LOG(2))))","v":0},null,{"$f":"N7","v":111},{"$f":"COUNTIF(L41:L73,Y7)","v":0},{"$f":"Z7/(AB4-Z11)","v":0},{"$f":"IF(AA7=0,0,(AA7*((LOG(AA7))/LOG(2))))","v":0},null,{"$f":"N7","v":111},{"$f":"COUNTIF(L74:L107,AD7)","v":0},{"$f":"AE7/(AG4-AE11)","v":0},{"$f":"IF(AF7=0,0,(AF7*((LOG(AF7))/LOG(2))))","v":0},null,{"$f":"N7","v":111},{"$f":"COUNTIF(L108:L140,AI7)","v":0},{"$f":"AJ7/(AL4-AJ11)","v":0},{"$f":"IF(AK7=0,0,(AK7*((LOG(AK7))/LOG(2))))","v":0},null,{"$f":"N7","v":111},{"$f":"COUNTIF(L141:L174,AN7)","v":0},{"$f":"AO7/(AQ4-AO11)","v":0},{"$f":"IF(AP7=0,0,(AP7*((LOG(AP7))/LOG(2))))","v":0},null,{"$f":"N7","v":111},{"$f":"COUNTIF(L175:L207,AS7)","v":0},{"$f":"AT7/(AV4-AT11)","v":0},{"$f":"IF(AU7=0,0,(AU7*((LOG(AU7))/LOG(2))))","v":0}]
[21,1048,22,1083,24,1087,null,null,null,null,0,222,null,112,{"$f":"COUNTIF($L$7:$L$500,N8)","v":0},{"$f":"O8/$Q$4","v":0},{"$f":"IF(P8=0,0,(P8*((LOG(P8))/LOG(2))))","v":0},null,null,{"$f":"N8","v":112},{"$f":"COUNTIF(L7:L40,T8)","v":0},{"$f":"U8/(W4-U11)","v":0},{"$f":"IF(V8=0,0,(V8*((LOG(V8))/LOG(2))))","v":0},null,{"$f":"N8","v":112},{"$f":"COUNTIF(L41:L73,Y8)","v":0},{"$f":"Z8/(AB4-Z11)","v":0},{"$f":"IF(AA8=0,0,(AA8*((LOG(AA8))/LOG(2))))","v":0},null,{"$f":"N8","v":112},{"$f":"COUNTIF(L74:L107,AD8)","v":0},{"$f":"AE8/(AG4-AE11)","v":0},{"$f":"IF(AF8=0,0,(AF8*((LOG(AF8))/LOG(2))))","v":0},null,{"$f":"N8","v":112},{"$f":"COUNTIF(L108:L140,AI8)","v":0},{"$f":"AJ8/(AL4-AJ11)","v":0},{"$f":"IF(AK8=0,0,(AK8*((LOG(AK8))/LOG(2))))","v":0},null,{"$f":"N8","v":112},{"$f":"COUNTIF(L141:L174,AN8)","v":0},{"$f":"AO8/(AQ4-AO11)","v":0},{"$f":"IF(AP8=0,0,(AP8*((LOG(AP8))/LOG(2))))","v":0},null,{"$f":"N8","v":112},{"$f":"COUNTIF(L175:L207,AS8)","v":0},{"$f":"AT8/(AV4-AT11)","v":0},{"$f":"IF(AU8=0,0,(AU8*((LOG(AU8))/LOG(2))))","v":0}]
[21,1257,22,1261,24,1267,null,null,null,null,0,222,null,121,{"$f":"COUNTIF($L$7:$L$500,N9)","v":0},{"$f":"O9/$Q$4","v":0},{"$f":"IF(P9=0,0,(P9*((LOG(P9))/LOG(2))))","v":0},null,null,{"$f":"N9","v":121},{"$f":"COUNTIF(L7:L40,T9)","v":0},{"$f":"U9/(W4-U11)","v":0},{"$f":"IF(V9=0,0,(V9*((LOG(V9))/LOG(2))))","v":0},null,{"$f":"N9","v":121},{"$f":"COUNTIF(L41:L73,Y9)","v":0},{"$f":"Z9/(AB4-Z11)","v":0},{"$f":"IF(AA9=0,0,(AA9*((LOG(AA9))/LOG(2))))","v":0},null,{"$f":"N9","v":121},{"$f":"COUNTIF(L74:L107,AD9)","v":0},{"$f":"AE9/(AG4-AE11)","v":0},{"$f":"IF(AF9=0,0,(AF9*((LOG(AF9))/LOG(2))))","v":0},null,{"$f":"N9","v":121},{"$f":"COUNTIF(L108:L140,AI9)","v":0},{"$f":"AJ9/(AL4-AJ11)","v":0},{"$f":"IF(AK9=0,0,(AK9*((LOG(AK9))/LOG(2))))","v":0},null,{"$f":"N9","v":121},{"$f":"COUNTIF(L141:L174,AN9)","v":0},{"$f":"AO9/(AQ4-AO11)","v":0},{"$f":"IF(AP9=0,0,(AP9*((LOG(AP9))/LOG(2))))","v":0},null,{"$f":"N9","v":121},{"$f":"COUNTIF(L175:L207,AS9)","v":0},{"$f":"AT9/(AV4-AT11)","v":0},{"$f":"IF(AU9=0,0,(AU9*((LOG(AU9))/LOG(2))))","v":0}]
[21,1461,22,1463,24,1470,null,null,null,null,0,222,null,122,{"$f":"COUNTIF($L$7:$L$500,N10)","v":11},{"$f":"O10/$Q$4","v":5.4726368159203981E-2},{"$f":"IF(P10=0,0,(P10*((LOG(P10))/LOG(2))))","v":-0.22939214327342264},null,null,{"$f":"N10","v":122},{"$f":"COUNTIF(L7:L40,T10)","v":0},{"$f":"U10/(W4-U11)","v":0},{"$f":"IF(V10=0,0,(V10*((LOG(V10))/LOG(2))))","v":0},null,{"$f":"N10","v":122},{"$f":"COUNTIF(L41:L73,Y10)","v":3},{"$f":"Z10/(AB4-Z11)","v":9.0909090909090912E-2},{"$f":"IF(AA10=0,0,(AA10*((LOG(AA10))/LOG(2))))","v":-0.31449378351248153},null,{"$f":"N10","v":122},{"$f":"COUNTIF(L74:L107,AD10)","v":4},{"$f":"AE10/(AG4-AE11)","v":0.11764705882352941},{"$f":"IF(AF10=0,0,(AF10*((LOG(AF10))/LOG(2))))","v":-0.36323092250003997},null,{"$f":"N10","v":122},{"$f":"COUNTIF(L108:L140,AI10)","v":0},{"$f":"AJ10/(AL4-AJ11)","v":0},{"$f":"IF(AK10=0,0,(AK10*((LOG(AK10))/LOG(2))))","v":0},null,{"$f":"N10","v":122},{"$f":"COUNTIF(L141:L174,AN10)","v":2},{"$f":"AO10/(AQ4-AO11)","v":5.8823529411764705E-2},{"$f":"IF(AP10=0,0,(AP10*((LOG(AP10))/LOG(2))))","v":-0.24043899066178465},null,{"$f":"N10","v":122},{"$f":"COUNTIF(L175:L207,AS10)","v":2},{"$f":"AT10/(AV4-AT11)","v":6.0606060606060608E-2},{"$f":"IF(AU10=0,0,(AU10*((LOG(AU10))/LOG(2))))","v":-0.24511479511263354}]
[21,1579,22,1584,24,1589,null,null,null,null,0,222,null,211,{"$f":"COUNTIF($L$7:$L$500,N11)","v":0},{"$f":"O11/$Q$4","v":0},{"$f":"IF(P11=0,0,(P11*((LOG(P11))/LOG(2))))","v":0},null,null,{"$f":"N11","v":211},{"$f":"COUNTIF(L7:L40,T11)","v":0},null,null,null,{"$f":"N11","v":211},{"$f":"COUNTIF(L41:L73,Y11)","v":0},null,null,null,{"$f":"N11","v":211},{"$f":"COUNTIF(L74:L107,AD11)","v":0},null,null,null,{"$f":"N11","v":211},{"$f":"COUNTIF(L108:L140,AI11)","v":0},null,null,null,{"$f":"N11","v":211},{"$f":"COUNTIF(L141:L174,AN11)","v":0},null,null,null,{"$f":"N11","v":211},{"$f":"COUNTIF(L175:L207,AS11)","v":0}]
[21,1720,22,1725,24,1731,null,null,null,null,0,222,null,212,{"$f":"COUNTIF($L$7:$L$500,N12)","v":0},{"$f":"O12/$Q$4","v":0},{"$f":"IF(P12=0,0,(P12*((LOG(P12))/LOG(2))))","v":0},null,null,{"$f":"N12","v":212},{"$f":"COUNTIF(L7:L40,T12)","v":0},{"$f":"U12/(W4-U11)","v":0},{"$f":"IF(V12=0,0,(V12*((LOG(V12))/LOG(2))))","v":0},null,{"$f":"N12","v":212},{"$f":"COUNTIF(L41:L73,Y12)","v":0},{"$f":"Z12/(AB4-Z11)","v":0},{"$f":"IF(AA12=0,0,(AA12*((LOG(AA12))/LOG(2))))","v":0},null,{"$f":"N12","v":212},{"$f":"COUNTIF(L74:L107,AD12)","v":0},{"$f":"AE12/(AG4-AE11)","v":0},{"$f":"IF(AF12=0,0,(AF12*((LOG(AF12))/LOG(2))))","v":0},null,{"$f":"N12","v":212},{"$f":"COUNTIF(L108:L140,AI12)","v":0},{"$f":"AJ12/(AL4-AJ11)","v":0},{"$f":"IF(AK12=0,0,(AK12*((LOG(AK12))/LOG(2))))","v":0},null,{"$f":"N12","v":212},{"$f":"COUNTIF(L141:L174,AN12)","v":0},{"$f":"AO12/(AQ4-AO11)","v":0},{"$f":"IF(AP12=0,0,(AP12*((LOG(AP12))/LOG(2))))","v":0},null,{"$f":"N12","v":212},{"$f":"COUNTIF(L175:L207,AS12)","v":0},{"$f":"AT12/(AV4-AT11)","v":0},{"$f":"IF(AU12=0,0,(AU12*((LOG(AU12))/LOG(2))))","v":0}]
[21,1855,22,1859,24,1863,null,null,null,null,0,222,null,221,{"$f":"COUNTIF($L$7:$L$500,N13)","v":0},{"$f":"O13/$Q$4","v":0},{"$f":"IF(P13=0,0,(P13*((LOG(P13))/LOG(2))))","v":0},null,null,{"$f":"N13","v":221},{"$f":"COUNTIF(L7:L40,T13)","v":0},{"$f":"U13/(W4-U11)","v":0},{"$f":"IF(V13=0,0,(V13*((LOG(V13))/LOG(2))))","v":0},null,{"$f":"N13","v":221},{"$f":"COUNTIF(L41:L73,Y13)","v":0},{"$f":"Z13/(AB4-Z11)","v":0},{"$f":"IF(AA13=0,0,(AA13*((LOG(AA13))/LOG(2))))","v":0},null,{"$f":"N13","v":221},{"$f":"COUNTIF(L74:L107,AD13)","v":0},{"$f":"AE13/(AG4-AE11)","v":0},{"$f":"IF(AF13=0,0,(AF13*((LOG(AF13))/LOG(2))))","v":0},null,{"$f":"N13","v":221},{"$f":"COUNTIF(L108:L140,AI13)","v":0},{"$f":"AJ13/(AL4-AJ11)","v":0},{"$f":"IF(AK13=0,0,(AK13*((LOG(AK13))/LOG(2))))","v":0},null,{"$f":"N13","v":221},{"$f":"COUNTIF(L141:L174,AN13)","v":0},{"$f":"AO13/(AQ4-AO11)","v":0},{"$f":"IF(AP13=0,0,(AP13*((LOG(AP13))/LOG(2))))","v":0},null,{"$f":"N13","v":221},{"$f":"COUNTIF(L175:L207,AS13)","v":0},{"$f":"AT13/(AV4-AT11)","v":0},{"$f":"IF(AU13=0,0,(AU13*((LOG(AU13))/LOG(2))))","v":0}]
[21,1964,22,1972,24,1976,null,null,null,null,0,222,null,222,{"$f":"COUNTIF($L$7:$L$500,N14)","v":190},{"$f":"O14/$Q$4","v":0.94527363184079605},{"$f":"IF(P14=0,0,(P14*((LOG(P14))/LOG(2))))","v":-7.6752516124956913E-2},null,null,{"$f":"N14","v":222},{"$f":"COUNTIF(L7:L40,T14)","v":34},{"$f":"U14/(W4-U11)","v":1},{"$f":"IF(V14=0,0,(V14*((LOG(V14))/LOG(2))))","v":0},null,{"$f":"N14","v":222},{"$f":"COUNTIF(L41:L73,Y14)","v":30},{"$f":"Z14/(AB4-Z11)","v":0.90909090909090906},{"$f":"IF(AA14=0,0,(AA14*((LOG(AA14))/LOG(2))))","v":-0.12500320340903179},null,{"$f":"N14","v":222},{"$f":"COUNTIF(L74:L107,AD14)","v":30},{"$f":"AE14/(AG4-AE11)","v":0.88235294117647056},{"$f":"IF(AF14=0,0,(AF14*((LOG(AF14))/LOG(2))))","v":-0.1593284520369008},null,{"$f":"N14","v":222},{"$f":"COUNTIF(L108:L140,AI14)","v":33},{"$f":"AJ14/(AL4-AJ11)","v":1},{"$f":"IF(AK14=0,0,(AK14*((LOG(AK14))/LOG(2))))","v":0},null,{"$f":"N14","v":222},{"$f":"COUNTIF(L141:L174,AN14)","v":32},{"$f":"AO14/(AQ4-AO11)","v":0.94117647058823528},{"$f":"IF(AP14=0,0,(AP14*((LOG(AP14))/LOG(2))))","v":-8.2317968235613576E-2},null,{"$f":"N14","v":222},{"$f":"COUNTIF(L175:L207,AS14)","v":31},{"$f":"AT14/(AV4-AT11)","v":0.93939393939393945},{"$f":"IF(AU14=0,0,(AU14*((LOG(AU14))/LOG(2))))","v":-8.4731275094512809E-2}]
[21,2091,22,2096,24,2102,null,null,null,null,0,222,null,null,null,{"$f":"SUM(P7:P14)","v":1},{"$f":"-SUM(Q7:Q14)","v":0.30614465939837954},null,null,null,null,{"$f":"SUM(V7:V14)","v":1},{"$f":"-SUM(W7:W14)","v":0},null,null,null,{"$f":"SUM(AA7:AA14)","v":1},{"$f":"-SUM(AB7:AB14)","v":0.43949698692151329},null,null,null,{"$f":"SUM(AF7:AF14)","v":1},{"$f":"-SUM(AG7:AG14)","v":0.52255937453694079},null,null,null,{"$f":"SUM(AK7:AK14)","v":1},{"$f":"-SUM(AL7:AL14)","v":0},null,null,null,{"$f":"SUM(AP7:AP14)","v":1},{"$f":"-SUM(AQ7:AQ14)","v":0.32275695889739819},null,null,null,{"$f":"SUM(AU7:AU14)","v":1},{"$f":"-SUM(AV7:AV14)","v":0.32984607020714635}]
[21,2203,22,2207,24,2211,null,null,null,null,0,222,null,null,null,"U=",{"$f":"Q15/(LOG(Q4)/LOG(2))","v":4.0013408843040582E-2},null,null,null,null,"U1=",{"$f":"W15/(LOG(W4)/LOG(2))","v":0},null,null,null,"U2=",{"$f":"AB15/(LOG(AB4)/LOG(2))","v":8.7125822551194429E-2},null,null,null,"U3=",{"$f":"AG15/(LOG(AG4)/LOG(2))","v":0.10271512359754396},null,null,null,"U4=",{"$f":"AL15/(LOG(AL4)/LOG(2))","v":0},null,null,null,"U5=",{"$f":"AQ15/(LOG(AQ4)/LOG(2))","v":6.3441634655374626E-2},null,null,null,"U6=",{"$f":"AV15/(LOG(AV4)/LOG(2))","v":6.53886398252118E-2}]
[21,2326,22,2330,24,2334,null,null,null,null,0,222]
[21,2433,22,2440,24,2444,null,null,null,null,0,222]
[21,2543,22,2546,24,2551,null,null,null,null,0,222,null,"Total Target Seq"]
[21,2649,22,2653,24,2658,null,null,null,null,0,222,null,{"$f":"COUNTIF(L7:L207,G3)","v":0},null,34,33,34,33,34,33]
[21,2756,22,2760,24,2764,null,null,null,null,0,222,null,null,null,"% of reinforcement given in 6 equal intervals based on number of trials "]
[21,2869,22,2873,24,2877,null,null,null,null,0,222,null,null,null,"%_1","%_2","%_3","%_4","%_5","%_6"]
[21,2981,22,2985,24,2990,null,null,null,null,0,222,null,null,"target sequence",{"$f":"$G$3","v":211},{"$f":"$G$3","v":211},{"$f":"$G$3","v":211},{"$f":"$G$3","v":211},{"$f":"$G$3","v":211},{"$f":"$G$3","v":211}]
[21,3083,22,3094,24,3100,null,null,null,null,0,222,null,null,"total reinforcement",{"$f":"U11","v":0},{"$f":"Z11","v":0},{"$f":"AE11","v":0},{"$f":"AJ11","v":0},{"$f":"AO11","v":0},{"$f":"AT11","v":0}]
[21,3199,22,3203,24,3207,null,null,null,null,0,222,null,null,"% target"]
[21,3306,22,3309,24,3313,null,null,null,null,0,222,null,null,"CCRF"]
[21,3417,22,3420,24,3424,null,null,null,null,0,222,null,null,"% CCRf"]
[21,3528,22,3532,24,3536,null,null,null,null,0,222,null,null,"average response rate",{"$f":"F40/P20","v":142.97058823529412},{"$f":"(F73-F40)/Q20","v":113.93939393939394},{"$f":"(F107-F73)/R20","v":114.61764705882354},{"$f":"(F140-F107)/S20","v":112.21212121212122},{"$f":"(F174-F140)/T20","v":115.82352941176471},{"$f":"(F207-F174)/U20","v":114.27272727272727}]
[21,3635,22,3639,24,3642,null,null,null,null,0,222]
[21,3742,22,3746,24,3750,null,null,null,null,0,222]
[21,3856,22,3861,24,3864,null,null,null,null,0,222]
[21,3965,22,3968,24,3971,null,null,null,null,0,222]
[21,4075,22,4079,24,4084,null,null,null,null,0,222]
[21,4182,22,4188,24,4193,null,null,null,null,0,222]
[21,4292,22,4297,24,4304,null,null,null,null,0,222]
[21,4398,22,4401,24,4405,null,null,null,null,0,222]
[21,4508,22,4512,24,4518,null,null,null,null,0,222]
[21,4616,22,4619,24,4623,null,null,null,null,0,222]
[21,4730,22,4734,24,4751,null,null,null,null,0,222]
[21,4849,22,4855,24,4861,null,null,null,null,0,222]
[21,4965,22,4969,24,4975,null,null,null,null,0,222]
[21,5069,22,5073,24,5077,null,null,null,null,0,222]
[21,5177,22,5179,24,5182,null,null,null,null,0,222]
[21,5279,22,5283,24,5287,null,null,null,null,0,222]
[21,5388,22,5392,24,5397,null,null,null,null,0,222]
[12,5491,24,5501,24,5505,null,null,null,null,0,122]
[21,5604,22,5609,24,5613,null,null,null,null,0,222]
[21,5717,22,5721,24,5726,null,null,null,null,0,222]
[21,5836,22,5845,24,5852,null,null,null,null,0,222]
[21,5951,22,5955,24,5961,null,null,null,null,0,222]
[21,6067,22,6069,24,6075,null,null,null,null,0,222]
[21,6173,22,6177,24,6181,null,null,null,null,0,222]
[21,6285,22,6287,24,6290,null,null,null,null,0,222]
[21,6398,22,6402,24,6407,null,null,null,null,0,222]
[21,6512,22,6516,24,6521,null,null,null,null,0,222]
[21,6700,22,6705,24,6714,null,null,null,null,0,222]
[21,6813,22,6818,24,6822,null,null,null,null,0,222]
[21,6924,22,6928,24,6934,null,null,null,null,0,222]
[21,7041,22,7045,24,7051,null,null,null,null,0,222]
[21,7149,22,7153,24,7157,null,null,null,null,0,222]
[21,7255,22,7262,24,7266,null,null,null,null,0,222]
[12,7361,24,7372,24,7375,null,null,null,null,0,122]
[21,7475,22,7479,24,7483,null,null,null,null,0,222]
[21,7580,22,7584,24,7589,null,null,null,null,0,222]
[21,7697,22,7723,24,7727,null,null,null,null,0,222]
[21,7831,22,7836,24,7839,null,null,null,null,0,222]
[21,7937,22,7942,24,7949,null,null,null,null,0,222]
[21,8052,22,8055,24,8060,null,null,null,null,0,222]
[21,8167,22,8171,24,8178,null,null,null,null,0,222]
[21,8272,22,8275,24,8279,null,null,null,null,0,222]
[21,8389,22,8394,24,8398,null,null,null,null,0,222]
[21,8496,22,8500,24,8504,null,null,null,null,0,222]
[12,8602,24,8618,24,8621,null,null,null,null,0,122]
[21,8721,22,8730,24,8735,null,null,null,null,0,222]
[21,8835,22,8839,24,8844,null,null,null,null,0,222]
[21,8943,22,8951,24,8956,null,null,null,null,0,222]
[21,9054,22,9058,24,9062,null,null,null,null,0,222]
[21,9160,22,9163,24,9167,null,null,null,null,0,222]
[21,9277,22,9281,24,9288,null,null,null,null,0,222]
[21,9390,22,9393,24,9399,null,null,null,null,0,222]
[21,9498,22,9502,24,9507,null,null,null,null,0,222]
[12,9605,24,9612,24,9617,null,null,null,null,0,122]
[21,9724,22,9727,24,9732,null,null,null,null,0,222]
[21,9832,22,9836,24,9840,null,null,null,null,0,222]
[12,9938,24,9948,24,9952,null,null,null,null,0,122]
[21,10050,22,10055,24,10059,null,null,null,null,0,222]
[21,10164,22,10168,24,10172,null,null,null,null,0,222]
[21,10291,22,10295,24,10300,null,null,null,null,0,222]
[21,10406,22,10411,24,10416,null,null,null,null,0,222]
[21,10522,22,10526,24,10530,null,null,null,null,0,222]
[21,10640,22,10643,24,10648,null,null,null,null,0,222]
[21,10748,22,10753,24,10756,null,null,null,null,0,222]
[21,10851,22,10855,24,10860,null,null,null,null,0,222]
[21,10965,22,10969,24,10973,null,null,null,null,0,222]
[21,11074,22,11079,24,11083,null,null,null,null,0,222]
[21,11182,22,11185,24,11189,null,null,null,null,0,222]
[21,11296,22,11301,24,11307,null,null,null,null,0,222]
[21,11416,22,11420,24,11424,null,null,null,null,0,222]
[21,11535,22,11538,24,11542,null,null,null,null,0,222]
[21,11656,22,11667,24,11674,null,null,null,null,0,222]
[21,11770,22,11774,24,11778,null,null,null,null,0,222]
[12,11877,24,11888,24,11891,null,null,null,null,0,122]
[21,11989,22,11996,24,11999,null,null,null,null,0,222]
[12,12095,24,12106,24,12108,null,null,null,null,0,122]
[21,12208,22,12211,24,12216,null,null,null,null,0,222]
[21,12398,22,12402,24,12407,null,null,null,null,0,222]
[21,12510,22,12514,24,12518,null,null,null,null,0,222]
[21,12623,22,12627,24,12631,null,null,null,null,0,222]
[21,12729,22,12733,24,12736,null,null,null,null,0,222]
[21,12839,22,12842,24,12848,null,null,null,null,0,222]
[21,12964,22,12968,24,12973,null,null,null,null,0,222]
[21,13074,22,13078,24,13081,null,null,null,null,0,222]
[21,13180,22,13184,24,13187,null,null,null,null,0,222]
[21,13292,22,13300,24,13306,null,null,null,null,0,222]
[21,13399,22,13403,24,13407,null,null,null,null,0,222]
[21,13507,22,13513,24,13518,null,null,null,null,0,222]
[21,13619,22,13630,24,13637,null,null,null,null,0,222]
[21,13737,22,13747,24,13751,null,null,null,null,0,222]
[21,13853,22,13857,24,13861,null,null,null,null,0,222]
[21,13960,22,13964,24,13972,null,null,null,null,0,222]
[21,14073,22,14077,24,14081,null,null,null,null,0,222]
[21,14181,22,14185,24,14189,null,null,null,null,0,222]
[21,14289,22,14292,24,14296,null,null,null,null,0,222]
[21,14391,22,14402,24,14410,null,null,null,null,0,222]
[21,14507,22,14513,24,14517,null,null,null,null,0,222]
[21,14636,22,14640,24,14644,null,null,null,null,0,222]
[21,14747,22,14752,24,14756,null,null,null,null,0,222]
[21,14860,22,14864,24,14874,null,null,null,null,0,222]
[21,14972,22,14975,24,14980,null,null,null,null,0,222]
[21,15083,22,15087,24,15092,null,null,null,null,0,222]
[21,15197,22,15202,24,15206,null,null,null,null,0,222]
[21,15306,22,15309,24,15313,null,null,null,null,0,222]
[21,15413,22,15415,24,15421,null,null,null,null,0,222]
[21,15521,22,15524,24,15529,null,null,null,null,0,222]
[21,15634,22,15638,24,15643,null,null,null,null,0,222]
[21,15755,22,15759,24,15765,null,null,null,null,0,222]
[21,15887,22,15891,24,15894,null,null,null,null,0,222]
[21,15993,22,15998,24,16003,null,null,null,null,0,222]
[21,16102,22,16111,24,16116,null,null,null,null,0,222]
[21,16212,22,16216,24,16221,null,null,null,null,0,222]
[12,16320,24,16330,24,16334,null,null,null,null,0,122]
[21,16444,22,16449,24,16456,null,null,null,null,0,222]
[21,16557,22,16562,24,16567,null,null,null,null,0,222]
[21,16675,22,16679,24,16683,null,null,null,null,0,222]
[21,16789,22,16793,24,16803,null,null,null,null,0,222]
[21,16901,22,16905,24,16910,null,null,null,null,0,222]
[12,17010,24,17020,24,17025,null,null,null,null,0,122]
[21,17152,22,17157,24,17161,null,null,null,null,0,222]
[21,17260,22,17267,24,17271,null,null,null,null,0,222]
[21,17375,22,17381,24,17386,null,null,null,null,0,222]
[21,17511,22,17515,24,17519,null,null,null,null,0,222]
[21,17616,22,17620,24,17634,null,null,null,null,0,222]
[21,17743,22,17748,24,17752,null,null,null,null,0,222]
[21,17851,22,17856,24,17860,null,null,null,null,0,222]
[21,17962,22,17966,24,17969,null,null,null,null,0,222]
[21,18077,22,18082,24,18088,null,null,null,null,0,222]
[21,18204,22,18208,24,18211,null,null,null,null,0,222]
[21,18321,22,18323,24,18327,null,null,null,null,0,222]
[21,18464,22,18467,24,18472,null,null,null,null,0,222]
[21,18583,22,18586,24,18590,null,null,null,null,0,222]
[21,18689,22,18694,24,18698,null,null,null,null,0,222]
[21,18802,22,18806,24,18809,null,null,null,null,0,222]
[21,18908,22,18910,24,18911,null,null,null,null,0,222]
[21,19016,22,19020,24,19025,null,null,null,null,0,222]
[21,19127,22,19132,24,19137,null,null,null,null,0,222]
[21,19243,22,19248,24,19252,null,null,null,null,0,222]
[21,19353,22,19359,24,19362,null,null,null,null,0,222]
[21,19462,22,19470,24,19477,null,null,null,null,0,222]
[21,19580,22,19582,24,19587,null,null,null,null,0,222]
[21,19688,22,19691,24,19694,null,null,null,null,0,222]
[21,19800,22,19802,24,19807,null,null,null,null,0,222]
[21,19912,22,19917,24,19922,null,null,null,null,0,222]
[21,20034,22,20037,24,20042,null,null,null,null,0,222]
[21,20149,22,20153,24,20159,null,null,null,null,0,222]
[21,20261,22,20266,24,20270,null,null,null,null,0,222]
[21,20373,22,20377,24,20382,null,null,null,null,0,222]
[21,20493,22,20498,24,20503,null,null,null,null,0,222]
[21,20605,22,20610,24,20614,null,null,null,null,0,222]
[21,20718,22,20723,24,20730,null,null,null,null,0,222]
[21,20832,22,20836,24,20842,null,null,null,null,0,222]
[21,20946,22,20949,24,20953,null,null,null,null,0,222]
[21,21060,22,21069,24,21075,null,null,null,null,0,222]
[21,21175,22,21179,24,21183,null,null,null,null,0,222]
[21,21282,22,21286,24,21291,null,null,null,null,0,222]
[21,21435,22,21445,24,21456,null,null,null,null,0,222]
[21,21557,22,21561,24,21564,null,null,null,null,0,222]
[21,21664,22,21668,24,21672,null,null,null,null,0,222]
[21,21776,22,21781,24,21785,null,null,null,null,0,222]
[21,21893,22,21898,24,21903,null,null,null,null,0,222]
[21,22002,22,22007,24,22011,null,null,null,null,0,222]
[21,22114,22,22118,24,22124,null,null,null,null,0,222]
[12,22220,24,22232,24,22236,null,null,null,null,0,122]
[21,22337,22,22342,24,22350,null,null,null,null,0,222]
[21,22447,22,22451,24,22455,null,null,null,null,0,222]
[21,22555,22,22561,24,22564,null,null,null,null,0,222]
[21,22678,22,22683,24,22688,null,null,null,null,0,222]
[21,22787,22,22790,24,22793,null,null,null,null,0,222]
[21,22893,22,22898,24,22904,null,null,null,null,0,222]
[21,23005,22,23010,24,23013,null,null,null,null,0,222]
[21,23111,22,23116,24,23120,null,null,null,null,0,222]
[21,23237,22,23241,24,23245,null,null,null,null,0,222]
[21,23349,22,23353,24,23357,null,null,null,null,0,222]
[21,23463,22,23467,24,23473,null,null,null,null,0,222]
[21,23570,22,23577,24,23582,null,null,null,null,0,222]
[21,23690,22,23694,24,23699,null,null,null,null,0,222]
[21,23805,22,23809,24,23814,null,null,null,null,0,222]
[12,23912,24,23925,24,23930,null,null,null,null,null,122]

{"sheet":"!L915A3T.ayl","index":21,"n_rows":206,"n_cols":48,"rows_kept":206,"cut":false,"hidden":false,"merged":[[4,39,4,42],[5,39,5,40],[4,44,4,47],[5,44,5,45],[4,24,4,27],[5,24,5,25],[4,29,4,32],[5,29,5,30],[4,34,4,37],[5,34,5,35],[1,1,1,2],[5,13,5,14],[18,13,18,14],[19,13,19,14],[4,19,4,22],[5,19,5,20]]}
["Report for:!L915A3T.ayl"]
["Date:","<date>"]
["Hen:","<hen>",null,null,null,"Correct Sequence",{"$f":"Start!J2","v":211},null,null,null,null,null,null,null,null,"Total Sequences in Data",{"$f":"4994-COUNTBLANK(L7:L5000)","v":200},null,null,null,null,"Total Sequences in Block Data",{"$f":"COUNTA(L7:L39)","v":33},null,null,null,"Total Sequences in Block Data",{"$f":"COUNTA(L40:L73)","v":34},null,null,null,"Total Sequences in Block Data",{"$f":"COUNTA(L74:L106)","v":33},null,null,null,"Total Sequences in Block Data",{"$f":"COUNTA(L107:L139)","v":33},null,null,null,"Total Sequences in Block Data",{"$f":"COUNTA(L140:L173)","v":34},null,null,null,"Total Sequences in Block Data",{"$f":"COUNTA(L174:L206)","v":33}]
[null,null,null,null,null,null,null,null,null,null,null,null,null,null,null,"Total Sequences in Summary",{"$f":"SUM(O7:O14)","v":199},null,null,null,null,"Total Sequences in Block Summary",{"$f":"SUM(U7:U14)","v":33},null,null,null,"Total Sequences in Block Summary",{"$f":"SUM(Z7:Z14)","v":34},null,null,null,"Total Sequences in Block Summary",{"$f":"SUM(AE7:AE14)","v":33},null,null,null,"Total Sequences in Block Summary",{"$f":"SUM(AJ7:AJ14)","v":33},null,null,null,"Total Sequences in Block Summary",{"$f":"SUM(AO7:AO14)","v":34},null,null,null,"Total Sequences in Block Summary",{"$f":"SUM(AT7:AT14)","v":32}]
[null,null,null,null,null,null,null,null,null,null,null,null,null,null,null,null,null,null,null,"Block 1",null,null,null,null,"Block 2",null,null,null,null,"Block 3",null,null,null,null,"Block 4",null,null,null,null,"Block 5",null,null,null,null,"Block 6"]
["Sequence\nComponent\n1","Time\n1","Sequence\nComponent\n2","Time\n2","Sequence\nComponent\n3","Time\n3","Sequence\nComponent\n4","Time\n4","Sequence\nComponent\n5","Time\n5","Correct?\n0=No 1=Yes","Sequence",null,"Frequency",null,"Relative Frequency","Variability",null,null,"Frequency",null,"Relative Frequency","Variability",null,"Frequency",null,"Relative Frequency","Variability",null,"Frequency",null,"Relative Frequency","Variability",null,"Frequency",null,"Relative Frequency","Variability",null,"Frequency",null,"Relative Frequency","Variability",null,"Frequency",null,"Relative Frequency","Variability"]
[21,114,22,118,24,126,null,null,null,null,0,222,null,111,{"$f":"COUNTIF($L$7:$L$500,N7)","v":0},{"$f":"O7/$Q$4","v":0},{"$f":"IF(P7=0,0,(P7*((LOG(P7))/LOG(2))))","v":0},null,null,{"$f":"N7","v":111},{"$f":"COUNTIF(L7:L39,T7)","v":0},{"$f":"U7/(W4-U11)","v":0},{"$f":"IF(V7=0,0,(V7*((LOG(V7))/LOG(2))))","v":0},null,{"$f":"N7","v":111},{"$f":"COUNTIF(L40:L73,Y7)","v":0},{"$f":"Z7/(AB4-Z11)","v":0},{"$f":"IF(AA7=0,0,(AA7*((LOG(AA7))/LOG(2))))","v":0},null,{"$f":"N7","v":111},{"$f":"COUNTIF(L74:L106,AD7)","v":0},{"$f":"AE7/(AG4-AE11)","v":0},{"$f":"IF(AF7=0,0,(AF7*((LOG(AF7))/LOG(2))))","v":0},null,{"$f":"N7","v":111},{"$f":"COUNTIF(L107:L139,AI7)","v":0},{"$f":"AJ7/(AL4-AJ11)","v":0},{"$f":"IF(AK7=0,0,(AK7*((LOG(AK7))/LOG(2))))","v":0},null,{"$f":"N7","v":111},{"$f":"COUNTIF(L140:L173,AN7)","v":0},{"$f":"AO7/(AQ4-AO11)","v":0},{"$f":"IF(AP7=0,0,(AP7*((LOG(AP7))/LOG(2))))","v":0},null,{"$f":"N7","v":111},{"$f":"COUNTIF(L174:L206,AS7)","v":0},{"$f":"AT7/(AV4-AT11)","v":0},{"$f":"IF(AU7=0,0,(AU7*((LOG(AU7))/LOG(2))))","v":0}]
[21,235,22,245,24,251,null,null,null,null,0,222,null,112,{"$f":"COUNTIF($L$7:$L$500,N8)","v":0},{"$f":"O8/$Q$4","v":0},{"$f":"IF(P8=0,0,(P8*((LOG(P8))/LOG(2))))","v":0},null,null,{"$f":"N8","v":112},{"$f":"COUNTIF(L7:L39,T8)","v":0},{"$f":"U8/(W4-U11)","v":0},{"$f":"IF(V8=0,0,(V8*((LOG(V8))/LOG(2))))","v":0},null,{"$f":"N8","v":112},{"$f":"COUNTIF(L40:L73,Y8)","v":0},{"$f":"Z8/(AB4-Z11)","v":0},{"$f":"IF(AA8=0,0,(AA8*((LOG(AA8))/LOG(2))))","v":0},null,{"$f":"N8","v":112},{"$f":"COUNTIF(L74:L106,AD8)","v":0},{"$f":"AE8/(AG4-AE11)","v":0},{"$f":"IF(AF8=0,0,(AF8*((LOG(AF8))/LOG(2))))","v":0},null,{"$f":"N8","v":112},{"$f":"COUNTIF(L107:L139,AI8)","v":0},{"$f":"AJ8/(AL4-AJ11)","v":0},{"$f":"IF(AK8=0,0,(AK8*((LOG(AK8))/LOG(2))))","v":0},null,{"$f":"N8","v":112},{"$f":"COUNTIF(L140:L173,AN8)","v":0},{"$f":"AO8/(AQ4-AO11)","v":0},{"$f":"IF(AP8=0,0,(AP8*((LOG(AP8))/LOG(2))))","v":0},null,{"$f":"N8","v":112},{"$f":"COUNTIF(L174:L206,AS8)","v":0},{"$f":"AT8/(AV4-AT11)","v":0},{"$f":"IF(AU8=0,0,(AU8*((LOG(AU8))/LOG(2))))","v":0}]
[21,354,22,356,24,360,null,null,null,null,0,222,null,121,{"$f":"COUNTIF($L$7:$L$500,N9)","v":0},{"$f":"O9/$Q$4","v":0},{"$f":"IF(P9=0,0,(P9*((LOG(P9))/LOG(2))))","v":0},null,null,{"$f":"N9","v":121},{"$f":"COUNTIF(L7:L39,T9)","v":0},{"$f":"U9/(W4-U11)","v":0},{"$f":"IF(V9=0,0,(V9*((LOG(V9))/LOG(2))))","v":0},null,{"$f":"N9","v":121},{"$f":"COUNTIF(L40:L73,Y9)","v":0},{"$f":"Z9/(AB4-Z11)","v":0},{"$f":"IF(AA9=0,0,(AA9*((LOG(AA9))/LOG(2))))","v":0},null,{"$f":"N9","v":121},{"$f":"COUNTIF(L74:L106,AD9)","v":0},{"$f":"AE9/(AG4-AE11)","v":0},{"$f":"IF(AF9=0,0,(AF9*((LOG(AF9))/LOG(2))))","v":0},null,{"$f":"N9","v":121},{"$f":"COUNTIF(L107:L139,AI9)","v":0},{"$f":"AJ9/(AL4-AJ11)","v":0},{"$f":"IF(AK9=0,0,(AK9*((LOG(AK9))/LOG(2))))","v":0},null,{"$f":"N9","v":121},{"$f":"COUNTIF(L140:L173,AN9)","v":0},{"$f":"AO9/(AQ4-AO11)","v":0},{"$f":"IF(AP9=0,0,(AP9*((LOG(AP9))/LOG(2))))","v":0},null,{"$f":"N9","v":121},{"$f":"COUNTIF(L174:L206,AS9)","v":0},{"$f":"AT9/(AV4-AT11)","v":0},{"$f":"IF(AU9=0,0,(AU9*((LOG(AU9))/LOG(2))))","v":0}]
[21,461,22,464,24,468,null,null,null,null,0,222,null,122,{"$f":"COUNTIF($L$7:$L$500,N10)","v":1},{"$f":"O10/$Q$4","v":5.0251256281407036E-3},{"$f":"IF(P10=0,0,(P10*((LOG(P10))/LOG(2))))","v":-3.8374998093184169E-2},null,null,{"$f":"N10","v":122},{"$f":"COUNTIF(L7:L39,T10)","v":1},{"$f":"U10/(W4-U11)","v":3.0303030303030304E-2},{"$f":"IF(V10=0,0,(V10*((LOG(V10))/LOG(2))))","v":-0.15286042785934709},null,{"$f":"N10","v":122},{"$f":"COUNTIF(L40:L73,Y10)","v":0},{"$f":"Z10/(AB4-Z11)","v":0},{"$f":"IF(AA10=0,0,(AA10*((LOG(AA10))/LOG(2))))","v":0},null,{"$f":"N10","v":122},{"$f":"COUNTIF(L74:L106,AD10)","v":0},{"$f":"AE10/(AG4-AE11)","v":0},{"$f":"IF(AF10=0,0,(AF10*((LOG(AF10))/LOG(2))))","v":0},null,{"$f":"N10","v":122},{"$f":"COUNTIF(L107:L139,AI10)","v":0},{"$f":"AJ10/(AL4-AJ11)","v":0},{"$f":"IF(AK10=0,0,(AK10*((LOG(AK10))/LOG(2))))","v":0},null,{"$f":"N10","v":122},{"$f":"COUNTIF(L140:L173,AN10)","v":0},{"$f":"AO10/(AQ4-AO11)","v":0},{"$f":"IF(AP10=0,0,(AP10*((LOG(AP10))/LOG(2))))","v":0},null,{"$f":"N10","v":122},{"$f":"COUNTIF(L174:L206,AS10)","v":0},{"$f":"AT10/(AV4-AT11)","v":0},{"$f":"IF(AU10=0,0,(AU10*((LOG(AU10))/LOG(2))))","v":0}]
[21,570,22,575,24,583,null,null,null,null,0,222,null,211,{"$f":"COUNTIF($L$7:$L$500,N11)","v":0},{"$f":"O11/$Q$4","v":0},{"$f":"IF(P11=0,0,(P11*((LOG(P11))/LOG(2))))","v":0},null,null,{"$f":"N11","v":211},{"$f":"COUNTIF(L7:L39,T11)","v":0},null,null,null,{"$f":"N11","v":211},{"$f":"COUNTIF(L40:L73,Y11)","v":0},null,null,null,{"$f":"N11","v":211},{"$f":"COUNTIF(L74:L106,AD11)","v":0},null,null,null,{"$f":"N11","v":211},{"$f":"COUNTIF(L107:L139,AI11)","v":0},null,null,null,{"$f":"N11","v":211},{"$f":"COUNTIF(L140:L173,AN11)","v":0},null,null,null,{"$f":"N11","v":211},{"$f":"COUNTIF(L174:L206,AS11)","v":0}]
[21,678,22,680,24,688,null,null,null,null,0,222,null,212,{"$f":"COUNTIF($L$7:$L$500,N12)","v":0},{"$f":"O12/$Q$4","v":0},{"$f":"IF(P12=0,0,(P12*((LOG(P12))/LOG(2))))","v":0},null,null,{"$f":"N12","v":212},{"$f":"COUNTIF(L7:L39,T12)","v":0},{"$f":"U12/(W4-U11)","v":0},{"$f":"IF(V12=0,0,(V12*((LOG(V12))/LOG(2))))","v":0},null,{"$f":"N12","v":212},{"$f":"COUNTIF(L40:L73,Y12)","v":0},{"$f":"Z12/(AB4-Z11)","v":0},{"$f":"IF(AA12=0,0,(AA12*((LOG(AA12))/LOG(2))))","v":0},null,{"$f":"N12","v":212},{"$f":"COUNTIF(L74:L106,AD12)","v":0},{"$f":"AE12/(AG4-AE11)","v":0},{"$f":"IF(AF12=0,0,(AF12*((LOG(AF12))/LOG(2))))","v":0},null,{"$f":"N12","v":212},{"$f":"COUNTIF(L107:L139,AI12)","v":0},{"$f":"AJ12/(AL4-AJ11)","v":0},{"$f":"IF(AK12=0,0,(AK12*((LOG(AK12))/LOG(2))))","v":0},null,{"$f":"N12","v":212},{"$f":"COUNTIF(L140:L173,AN12)","v":0},{"$f":"AO12/(AQ4-AO11)","v":0},{"$f":"IF(AP12=0,0,(AP12*((LOG(AP12))/LOG(2))))","v":0},null,{"$f":"N12","v":212},{"$f":"COUNTIF(L174:L206,AS12)","v":0},{"$f":"AT12/(AV4-AT11)","v":0},{"$f":"IF(AU12=0,0,(AU12*((LOG(AU12))/LOG(2))))","v":0}]
[21,788,22,792,24,797,null,null,null,null,0,222,null,221,{"$f":"COUNTIF($L$7:$L$500,N13)","v":0},{"$f":"O13/$Q$4","v":0},{"$f":"IF(P13=0,0,(P13*((LOG(P13))/LOG(2))))","v":0},null,null,{"$f":"N13","v":221},{"$f":"COUNTIF(L7:L39,T13)","v":0},{"$f":"U13/(W4-U11)","v":0},{"$f":"IF(V13=0,0,(V13*((LOG(V13))/LOG(2))))","v":0},null,{"$f":"N13","v":221},{"$f":"COUNTIF(L40:L73,Y13)","v":0},{"$f":"Z13/(AB4-Z11)","v":0},{"$f":"IF(AA13=0,0,(AA13*((LOG(AA13))/LOG(2))))","v":0},null,{"$f":"N13","v":221},{"$f":"COUNTIF(L74:L106,AD13)","v":0},{"$f":"AE13/(AG4-AE11)","v":0},{"$f":"IF(AF13=0,0,(AF13*((LOG(AF13))/LOG(2))))","v":0},null,{"$f":"N13","v":221},{"$f":"COUNTIF(L107:L139,AI13)","v":0},{"$f":"AJ13/(AL4-AJ11)","v":0},{"$f":"IF(AK13=0,0,(AK13*((LOG(AK13))/LOG(2))))","v":0},null,{"$f":"N13","v":221},{"$f":"COUNTIF(L140:L173,AN13)","v":0},{"$f":"AO13/(AQ4-AO11)","v":0},{"$f":"IF(AP13=0,0,(AP13*((LOG(AP13))/LOG(2))))","v":0},null,{"$f":"N13","v":221},{"$f":"COUNTIF(L174:L206,AS13)","v":0},{"$f":"AT13/(AV4-AT11)","v":0},{"$f":"IF(AU13=0,0,(AU13*((LOG(AU13))/LOG(2))))","v":0}]
[21,897,22,900,24,912,null,null,null,null,0,222,null,222,{"$f":"COUNTIF($L$7:$L$500,N14)","v":198},{"$f":"O14/$Q$4","v":0.99497487437185927},{"$f":"IF(P14=0,0,(P14*((LOG(P14))/LOG(2))))","v":-7.2314778486420681E-3},null,null,{"$f":"N14","v":222},{"$f":"COUNTIF(L7:L39,T14)","v":32},{"$f":"U14/(W4-U11)","v":0.96969696969696972},{"$f":"IF(V14=0,0,(V14*((LOG(V14))/LOG(2))))","v":-4.3048843014257841E-2},null,{"$f":"N14","v":222},{"$f":"COUNTIF(L40:L73,Y14)","v":34},{"$f":"Z14/(AB4-Z11)","v":1},{"$f":"IF(AA14=0,0,(AA14*((LOG(AA14))/LOG(2))))","v":0},null,{"$f":"N14","v":222},{"$f":"COUNTIF(L74:L106,AD14)","v":33},{"$f":"AE14/(AG4-AE11)","v":1},{"$f":"IF(AF14=0,0,(AF14*((LOG(AF14))/LOG(2))))","v":0},null,{"$f":"N14","v":222},{"$f":"COUNTIF(L107:L139,AI14)","v":33},{"$f":"AJ14/(AL4-AJ11)","v":1},{"$f":"IF(AK14=0,0,(AK14*((LOG(AK14))/LOG(2))))","v":0},null,{"$f":"N14","v":222},{"$f":"COUNTIF(L140:L173,AN14)","v":34},{"$f":"AO14/(AQ4-AO11)","v":1},{"$f":"IF(AP14=0,0,(AP14*((LOG(AP14))/LOG(2))))","v":0},null,{"$f":"N14","v":222},{"$f":"COUNTIF(L174:L206,AS14)","v":32},{"$f":"AT14/(AV4-AT11)","v":1},{"$f":"IF(AU14=0,0,(AU14*((LOG(AU14))/LOG(2))))","v":0}]
[21,1011,22,1017,24,1021,null,null,null,null,0,222,null,null,null,{"$f":"SUM(P7:P14)","v":1},{"$f":"-SUM(Q7:Q14)","v":4.5606475941826236E-2},null,null,null,null,{"$f":"SUM(V7:V14)","v":1},{"$f":"-SUM(W7:W14)","v":0.19590927087360493},null,null,null,{"$f":"SUM(AA7:AA14)","v":1},{"$f":"-SUM(AB7:AB14)","v":0},null,null,null,{"$f":"SUM(AF7:AF14)","v":1},{"$f":"-SUM(AG7:AG14)","v":0},null,null,null,{"$f":"SUM(AK7:AK14)","v":1},{"$f":"-SUM(AL7:AL14)","v":0},null,null,null,{"$f":"SUM(AP7:AP14)","v":1},{"$f":"-SUM(AQ7:AQ14)","v":0},null,null,null,{"$f":"SUM(AU7:AU14)","v":1},{"$f":"-SUM(AV7:AV14)","v":0}]
[21,1122,22,1130,24,1139,null,null,null,null,0,222,null,null,null,"U=",{"$f":"Q15/(LOG(Q4)/LOG(2))","v":5.9720725068950053E-3},null,null,null,null,"U1=",{"$f":"W15/(LOG(W4)/LOG(2))","v":3.8837027051827726E-2},null,null,null,"U2=",{"$f":"AB15/(LOG(AB4)/LOG(2))","v":0},null,null,null,"U3=",{"$f":"AG15/(LOG(AG4)/LOG(2))","v":0},null,null,null,"U4=",{"$f":"AL15/(LOG(AL4)/LOG(2))","v":0},null,null,null,"U5=",{"$f":"AQ15/(LOG(AQ4)/LOG(2))","v":0},null,null,null,"U6=",{"$f":"AV15/(LOG(AV4)/LOG(2))","v":0}]
[21,1235,22,1238,24,1246,null,null,null,null,0,222]
[21,1349,22,1357,24,1367,null,null,null,null,0,222]
[21,1466,22,1469,24,1477,null,null,null,null,0,222,null,"Total Target Seq"]
[21,1578,22,1585,24,1589,null,null,null,null,0,222,null,{"$f":"COUNTIF(L7:L206,G3)","v":0},null,33,34,33,33,34,33]
[21,1693,22,1697,24,1705,null,null,null,null,0,222,null,null,null,"% of reinforcement given in 6 equal intervals based on number of trials "]
[21,1802,22,1806,24,1814,null,null,null,null,0,222,null,null,null,"%_1","%_2","%_3","%_4","%_5","%_6"]
[21,1917,22,1923,24,1926,null,null,null,null,0,222,null,null,"target sequence",{"$f":"$G$3","v":211},{"$f":"$G$3","v":211},{"$f":"$G$3","v":211},{"$f":"$G$3","v":211},{"$f":"$G$3","v":211},{"$f":"$G$3","v":211}]
[21,2044,22,2047,24,2051,null,null,null,null,0,222,null,null,"total reinforcement",{"$f":"U11","v":0},{"$f":"Z11","v":0},{"$f":"AE11","v":0},{"$f":"AJ11","v":0},{"$f":"AO11","v":0},{"$f":"AT11","v":0}]
[21,2158,22,2165,24,2173,null,null,null,null,0,222,null,null,"% target"]
[21,2270,22,2274,24,2278,null,null,null,null,0,222,null,null,"CCRF"]
[21,2377,22,2380,24,2384,null,null,null,null,0,222,null,null,"% CCRf"]
[12,2481,24,2493,24,2498,null,null,null,null,0,122,null,null,"average response rate",{"$f":"F39/P20","v":112.51515151515152},{"$f":"(F73-F39)/Q20","v":113.05882352941177},{"$f":"(F106-F73)/R20","v":115.21212121212122},{"$f":"(F139-F106)/S20","v":118.90909090909091},{"$f":"(F173-F139)/T20","v":115.97058823529412},{"$f":"(F206-F173)/U20","v":-582.60606060606062}]
[21,2599,22,2603,24,2611,null,null,null,null,0,222]
[21,2714,22,2718,24,2722,null,null,null,null,0,222]
[21,2830,22,2834,24,2839,null,null,null,null,0,222]
[21,2940,22,2944,24,2947,null,null,null,null,0,222]
[21,3044,22,3048,24,3051,null,null,null,null,0,222]
[21,3150,22,3157,24,3162,null,null,null,null,0,222]
[21,3257,22,3265,24,3269,null,null,null,null,0,222]
[21,3369,22,3373,24,3376,null,null,null,null,0,222]
[21,3486,22,3488,24,3494,null,null,null,null,0,222]
[21,3592,22,3601,24,3605,null,null,null,null,0,222]
[21,3706,22,3710,24,3713,null,null,null,null,0,222]
[21,3818,22,3825,24,3830,null,null,null,null,0,222]
[21,3930,22,3933,24,3937,null,null,null,null,0,222]
[21,4043,22,4049,24,4061,null,null,null,null,0,222]
[21,4170,22,4173,24,4176,null,null,null,null,0,222]
[21,4283,22,4287,24,4292,null,null,null,null,0,222]
[21,4394,22,4403,24,4409,null,null,null,null,0,222]
[21,4508,22,4513,24,4516,null,null,null,null,0,222]
[21,4615,22,4618,24,4622,null,null,null,null,0,222]
[21,4718,22,4722,24,4727,null,null,null,null,0,222]
[21,4839,22,4843,24,4847,null,null,null,null,0,222]
[21,4946,22,4951,24,4955,null,null,null,null,0,222]
[21,5053,22,5055,24,5057,null,null,null,null,0,222]
[21,5161,22,5168,24,5180,null,null,null,null,0,222]
[21,5279,22,5283,24,5287,null,null,null,null,0,222]
[21,5386,22,5390,24,5394,null,null,null,null,0,222]
[21,5493,22,5500,24,5510,null,null,null,null,0,222]
[21,5604,22,5611,24,5616,null,null,null,null,0,222]
[21,5716,22,5723,24,5727,null,null,null,null,0,222]
[21,5833,22,5837,24,5842,null,null,null,null,0,222]
[21,5954,22,5959,24,5962,null,null,null,null,0,222]
[21,6080,22,6082,24,6088,null,null,null,null,0,222]
[21,6190,22,6194,24,6198,null,null,null,null,0,222]
[21,6298,22,6303,24,6307,null,null,null,null,0,222]
[21,6405,22,6409,24,6414,null,null,null,null,0,222]
[21,6514,22,6517,24,6522,null,null,null,null,0,222]
[21,6629,22,6634,24,6641,null,null,null,null,0,222]
[21,6737,22,6742,24,6746,null,null,null,null,0,222]
[21,6848,22,6852,24,6857,null,null,null,null,0,222]
[21,6956,22,6960,24,6965,null,null,null,null,0,222]
[21,7103,22,7106,24,7111,null,null,null,null,0,222]
[21,7209,22,7212,24,7218,null,null,null,null,0,222]
[21,7329,22,7333,24,7339,null,null,null,null,0,222]
[21,7438,22,7443,24,7447,null,null,null,null,0,222]
[21,7549,22,7553,24,7557,null,null,null,null,0,222]
[21,7663,22,7668,24,7673,null,null,null,null,0,222]
[21,7769,22,7775,24,7780,null,null,null,null,0,222]
[21,7881,22,7888,24,7892,null,null,null,null,0,222]
[21,7990,22,7994,24,7998,null,null,null,null,0,222]
[21,8107,22,8110,24,8117,null,null,null,null,0,222]
[21,8219,22,8224,24,8228,null,null,null,null,0,222]
[21,8334,22,8339,24,8354,null,null,null,null,0,222]
[21,8469,22,8477,24,8481,null,null,null,null,0,222]
[21,8582,22,8588,24,8592,null,null,null,null,0,222]
[21,8699,22,8708,24,8714,null,null,null,null,0,222]
[21,8813,22,8826,24,8831,null,null,null,null,0,222]
[21,8970,22,8976,24,8980,null,null,null,null,0,222]
[21,9081,22,9084,24,9088,null,null,null,null,0,222]
[21,9187,22,9192,24,9196,null,null,null,null,0,222]
[21,9289,22,9292,24,9297,null,null,null,null,0,222]
[21,9398,22,9401,24,9406,null,null,null,null,0,222]
[21,9507,22,9512,24,9516,null,null,null,null,0,222]
[21,9615,22,9619,24,9624,null,null,null,null,0,222]
[21,9728,22,9733,24,9737,null,null,null,null,0,222]
[21,9844,22,9848,24,9858,null,null,null,null,0,222]
[21,9959,22,9962,24,9967,null,null,null,null,0,222]
[21,10068,22,10070,24,10072,null,null,null,null,0,222]
[21,10180,22,10184,24,10189,null,null,null,null,0,222]
[21,10286,22,10293,24,10304,null,null,null,null,0,222]
[21,10404,22,10408,24,10413,null,null,null,null,0,222]
[21,10514,22,10518,24,10522,null,null,null,null,0,222]
[21,10623,22,10628,24,10632,null,null,null,null,0,222]
[21,10730,22,10734,24,10738,null,null,null,null,0,222]
[21,10833,22,10837,24,10841,null,null,null,null,0,222]
[21,10945,22,10950,24,10956,null,null,null,null,0,222]
[21,11063,22,11067,24,11076,null,null,null,null,0,222]
[21,11236,22,11240,24,11244,null,null,null,null,0,222]
[21,11350,22,11355,24,11359,null,null,null,null,0,222]
[21,11457,22,11461,24,11465,null,null,null,null,0,222]
[21,11564,22,11569,24,11574,null,null,null,null,0,222]
[21,11701,22,11704,24,11708,null,null,null,null,0,222]
[21,11808,22,11812,24,11813,null,null,null,null,0,222]
[21,11921,22,11926,24,11930,null,null,null,null,0,222]
[21,12063,22,12072,24,12078,null,null,null,null,0,222]
[21,12179,22,12183,24,12185,null,null,null,null,0,222]
[21,12281,22,12285,24,12289,null,null,null,null,0,222]
[21,12394,22,12403,24,12408,null,null,null,null,0,222]
[21,12507,22,12511,24,12515,null,null,null,null,0,222]
[21,12619,22,12624,24,12635,null,null,null,null,0,222]
[21,12738,22,12742,24,12748,null,null,null,null,0,222]
[21,12854,22,12858,24,12863,null,null,null,null,0,222]
[21,12962,22,12966,24,12971,null,null,null,null,0,222]
[21,13077,22,13084,24,13091,null,null,null,null,0,222]
[21,13195,22,13198,24,13202,null,null,null,null,0,222]
[21,13342,22,13346,24,13350,null,null,null,null,0,222]
[21,13450,22,13458,24,13461,null,null,null,null,0,222]
[21,13652,22,13657,24,13662,null,null,null,null,0,222]
[21,13758,22,13761,24,13765,null,null,null,null,0,222]
[21,13868,22,13871,24,13875,null,null,null,null,0,222]
[21,13981,22,13986,24,13991,null,null,null,null,0,222]
[21,14094,22,14097,24,14102,null,null,null,null,0,222]
[21,14205,22,14213,24,14218,null,null,null,null,0,222]
[21,14323,22,14326,24,14337,null,null,null,null,0,222]
[21,14438,22,14442,24,14446,null,null,null,null,0,222]
[21,14539,22,14547,24,14553,null,null,null,null,0,222]
[21,14660,22,14665,24,14670,null,null,null,null,0,222]
[21,14789,22,14792,24,14796,null,null,null,null,0,222]
[21,14934,22,14938,24,14942,null,null,null,null,0,222]
[21,15049,22,15053,24,15059,null,null,null,null,0,222]
[21,15159,22,15162,24,15166,null,null,null,null,0,222]
[21,15275,22,15279,24,15283,null,null,null,null,0,222]
[21,15394,22,15398,24,15408,null,null,null,null,0,222]
[21,15509,22,15512,24,15516,null,null,null,null,0,222]
[21,15621,22,15625,24,15629,null,null,null,null,0,222]
[21,15729,22,15730,24,15737,null,null,null,null,0,222]
[21,15893,22,15897,24,15901,null,null,null,null,0,222]
[21,16001,22,16009,24,16014,null,null,null,null,0,222]
[21,16114,22,16117,24,16122,null,null,null,null,0,222]
[21,16218,22,16228,24,16233,null,null,null,null,0,222]
[21,16332,22,16335,24,16340,null,null,null,null,0,222]
[21,16445,22,16449,24,16454,null,null,null,null,0,222]
[21,16553,22,16555,24,16561,null,null,null,null,0,222]
[21,16668,22,16676,24,16682,null,null,null,null,0,222]
[21,16789,22,16793,24,16797,null,null,null,null,0,222]
[21,16894,22,16897,24,16902,null,null,null,null,0,222]
[21,16999,22,17003,24,17007,null,null,null,null,0,222]
[21,17120,22,17125,24,17128,null,null,null,null,0,222]
[21,17227,22,17232,24,17237,null,null,null,null,0,222]
[21,17331,22,17335,24,17338,null,null,null,null,0,222]
[21,17438,22,17441,24,17445,null,null,null,null,0,222]
[21,17545,22,17548,24,17552,null,null,null,null,0,222]
[21,17649,22,17656,24,17661,null,null,null,null,0,222]
[21,17767,22,17771,24,17776,null,null,null,null,0,222]
[21,17893,22,17897,24,17901,null,null,null,null,0,222]
[21,18009,22,18015,24,18020,null,null,null,null,0,222]
[21,18129,22,18132,24,18141,null,null,null,null,0,222]
[21,18238,22,18242,24,18248,null,null,null,null,0,222]
[21,18349,22,18353,24,18357,null,null,null,null,0,222]
[21,18456,22,18460,24,18464,null,null,null,null,0,222]
[21,18562,22,18566,24,18569,null,null,null,null,0,222]
[21,18667,22,18677,24,18683,null,null,null,null,0,222]
[21,18786,22,18792,24,18798,null,null,null,null,0,222]
[21,18999,22,19004,24,19009,null,null,null,null,0,222]
[21,19111,22,19114,24,19120,null,null,null,null,0,222]
[21,19217,22,19221,24,19226,null,null,null,null,0,222]
[21,19323,22,19329,24,19334,null,null,null,null,0,222]
[21,19489,22,19490,24,19493,null,null,null,null,0,222]
[21,19592,22,19597,24,19600,null,null,null,null,0,222]
[21,19723,22,19727,24,19731,null,null,null,null,0,222]
[21,19829,22,19833,24,19837,null,null,null,null,0,222]
[21,20347,22,20351,24,20357,null,null,null,null,0,222]
[21,20466,22,20470,24,20475,null,null,null,null,0,222]
[21,20578,22,20584,24,20588,null,null,null,null,0,222]
[21,20682,22,20691,24,20695,null,null,null,null,0,222]
[21,20796,22,20805,24,20809,null,null,null,null,0,222]
[21,20904,22,20908,24,20912,null,null,null,null,0,222]
[21,21033,22,21044,24,21053,null,null,null,null,0,222]
[21,21366,22,21369,24,21375,null,null,null,null,0,222]
[21,21517,22,21522,24,21525,null,null,null,null,0,222]
[21,21624,22,21628,24,21632,null,null,null,null,0,222]
[21,21760,22,21763,24,21767,null,null,null,null,0,222]
[21,21884,22,21888,24,21892,null,null,null,null,0,222]
[21,21996,22,22001,24,22005,null,null,null,null,0,222]
[21,22157,22,22161,24,22168,null,null,null,null,0,222]
[21,22295,22,22299,24,22304,null,null,null,null,0,222]
[21,22401,22,22405,24,22409,null,null,null,null,0,222]
[21,22629,22,22633,24,22637,null,null,null,null,0,222]
[21,22761,22,22765,24,22774,null,null,null,null,0,222]
[21,22873,22,22881,24,22888,null,null,null,null,0,222]
[21,23012,22,23016,24,23020,null,null,null,null,0,222]
[21,23142,22,23147,24,23152,null,null,null,null,0,222]
[21,23259,22,23263,24,23269,null,null,null,null,0,222]
[21,23370,22,23378,24,23382,null,null,null,null,0,222]
[21,23493,22,23497,24,23501,null,null,null,null,0,222]
[21,23599,22,23606,24,23610,null,null,null,null,0,222]
[21,23735,22,23738,24,23743,null,null,null,null,0,222]
[21,23861,22,23865,24,23870,null,null,null,null,0,222]
[21,24001,null,null,null,null,null,null,null,null,null,2]

{"sheet":"!L916A1T.ayl","index":22,"n_rows":96,"n_cols":48,"rows_kept":96,"cut":false,"hidden":false,"merged":[[4,39,4,42],[5,39,5,40],[4,44,4,47],[5,44,5,45],[4,24,4,27],[5,24,5,25],[4,29,4,32],[5,29,5,30],[4,34,4,37],[5,34,5,35],[1,1,1,2],[5,13,5,14],[18,13,18,14],[19,13,19,14],[4,19,4,22],[5,19,5,20]]}
["Report for:!L916A1T.ayl"]
["Date:","<date>"]
["Hen:","<hen>",null,null,null,"Correct Sequence",{"$f":"Start!J2","v":211},null,null,null,null,null,null,null,null,"Total Sequences in Data",{"$f":"4994-COUNTBLANK(L7:L5000)","v":90},null,null,null,null,"Total Sequences in Block Data",{"$f":"COUNTA(L7:L21)","v":15},null,null,null,"Total Sequences in Block Data",{"$f":"COUNTA(L22:L36)","v":15},null,null,null,"Total Sequences in Block Data",{"$f":"COUNTA(L37:L51)","v":15},null,null,null,"Total Sequences in Block Data",{"$f":"COUNTA(L52:L66)","v":15},null,null,null,"Total Sequences in Block Data",{"$f":"COUNTA(L67:L81)","v":15},null,null,null,"Total Sequences in Block Data",{"$f":"COUNTA(L82:L96)","v":15}]
[null,null,null,null,null,null,null,null,null,null,null,null,null,null,null,"Total Sequences in Summary",{"$f":"SUM(O7:O14)","v":90},null,null,null,null,"Total Sequences in Block Summary",{"$f":"SUM(U7:U14)","v":15},null,null,null,"Total Sequences in Block Summary",{"$f":"SUM(Z7:Z14)","v":15},null,null,null,"Total Sequences in Block Summary",{"$f":"SUM(AE7:AE14)","v":15},null,null,null,"Total Sequences in Block Summary",{"$f":"SUM(AJ7:AJ14)","v":15},null,null,null,"Total Sequences in Block Summary",{"$f":"SUM(AO7:AO14)","v":15},null,null,null,"Total Sequences in Block Summary",{"$f":"SUM(AT7:AT14)","v":15}]
[null,null,null,null,null,null,null,null,null,null,null,null,null,null,null,null,null,null,null,"Block 1",null,null,null,null,"Block 2",null,null,null,null,"Block 3",null,null,null,null,"Block 4",null,null,null,null,"Block 5",null,null,null,null,"Block 6"]
["Sequence\nComponent\n1","Time\n1","Sequence\nComponent\n2","Time\n2","Sequence\nComponent\n3","Time\n3","Sequence\nComponent\n4","Time\n4","Sequence\nComponent\n5","Time\n5","Correct?\n0=No 1=Yes","Sequence",null,"Frequency",null,"Relative Frequency","Variability",null,null,"Frequency",null,"Relative Frequency","Variability",null,"Frequency",null,"Relative Frequency","Variability",null,"Frequency",null,"Relative Frequency","Variability",null,"Frequency",null,"Relative Frequency","Variability",null,"Frequency",null,"Relative Frequency","Variability",null,"Frequency",null,"Relative Frequency","Variability"]
[21,4717,22,4722,24,4727,null,null,null,null,0,222,null,111,{"$f":"COUNTIF($L$7:$L$500,N7)","v":0},{"$f":"O7/$Q$4","v":0},{"$f":"IF(P7=0,0,(P7*((LOG(P7))/LOG(2))))","v":0},null,null,{"$f":"N7","v":111},{"$f":"COUNTIF(L7:L21,T7)","v":0},{"$f":"U7/(W4-U11)","v":0},{"$f":"IF(V7=0,0,(V7*((LOG(V7))/LOG(2))))","v":0},null,{"$f":"N7","v":111},{"$f":"COUNTIF(L22:L36,Y7)","v":0},{"$f":"Z7/(AB4-Z11)","v":0},{"$f":"IF(AA7=0,0,(AA7*((LOG(AA7))/LOG(2))))","v":0},null,{"$f":"N7","v":111},{"$f":"COUNTIF(L37:L51,AD7)","v":0},{"$f":"AE7/(AG4-AE11)","v":0},{"$f":"IF(AF7=0,0,(AF7*((LOG(AF7))/LOG(2))))","v":0},null,{"$f":"N7","v":111},{"$f":"COUNTIF(L52:L66,AI7)","v":0},{"$f":"AJ7/(AL4-AJ11)","v":0},{"$f":"IF(AK7=0,0,(AK7*((LOG(AK7))/LOG(2))))","v":0},null,{"$f":"N7","v":111},{"$f":"COUNTIF(L67:L81,AN7)","v":0},{"$f":"AO7/(AQ4-AO11)","v":0},{"$f":"IF(AP7=0,0,(AP7*((LOG(AP7))/LOG(2))))","v":0},null,{"$f":"N7","v":111},{"$f":"COUNTIF(L82:L96,AS7)","v":0},{"$f":"AT7/(AV4-AT11)","v":0},{"$f":"IF(AU7=0,0,(AU7*((LOG(AU7))/LOG(2))))","v":0}]
[21,4877,22,4884,24,4893,null,null,null,null,0,222,null,112,{"$f":"COUNTIF($L$7:$L$500,N8)","v":0},{"$f":"O8/$Q$4","v":0},{"$f":"IF(P8=0,0,(P8*((LOG(P8))/LOG(2))))","v":0},null,null,{"$f":"N8","v":112},{"$f":"COUNTIF(L7:L21,T8)","v":0},{"$f":"U8/(W4-U11)","v":0},{"$f":"IF(V8=0,0,(V8*((LOG(V8))/LOG(2))))","v":0},null,{"$f":"N8","v":112},{"$f":"COUNTIF(L22:L36,Y8)","v":0},{"$f":"Z8/(AB4-Z11)","v":0},{"$f":"IF(AA8=0,0,(AA8*((LOG(AA8))/LOG(2))))","v":0},null,{"$f":"N8","v":112},{"$f":"COUNTIF(L37:L51,AD8)","v":0},{"$f":"AE8/(AG4-AE11)","v":0},{"$f":"IF(AF8=0,0,(AF8*((LOG(AF8))/LOG(2))))","v":0},null,{"$f":"N8","v":112},{"$f":"COUNTIF(L52:L66,AI8)","v":0},{"$f":"AJ8/(AL4-AJ11)","v":0},{"$f":"IF(AK8=0,0,(AK8*((LOG(AK8))/LOG(2))))","v":0},null,{"$f":"N8","v":112},{"$f":"COUNTIF(L67:L81,AN8)","v":0},{"$f":"AO8/(AQ4-AO11)","v":0},{"$f":"IF(AP8=0,0,(AP8*((LOG(AP8))/LOG(2))))","v":0},null,{"$f":"N8","v":112},{"$f":"COUNTIF(L82:L96,AS8)","v":0},{"$f":"AT8/(AV4-AT11)","v":0},{"$f":"IF(AU8=0,0,(AU8*((LOG(AU8))/LOG(2))))","v":0}]
[21,5427,22,5433,24,5440,null,null,null,null,0,222,null,121,{"$f":"COUNTIF($L$7:$L$500,N9)","v":0},{"$f":"O9/$Q$4","v":0},{"$f":"IF(P9=0,0,(P9*((LOG(P9))/LOG(2))))","v":0},null,null,{"$f":"N9","v":121},{"$f":"COUNTIF(L7:L21,T9)","v":0},{"$f":"U9/(W4-U11)","v":0},{"$f":"IF(V9=0,0,(V9*((LOG(V9))/LOG(2))))","v":0},null,{"$f":"N9","v":121},{"$f":"COUNTIF(L22:L36,Y9)","v":0},{"$f":"Z9/(AB4-Z11)","v":0},{"$f":"IF(AA9=0,0,(AA9*((LOG(AA9))/LOG(2))))","v":0},null,{"$f":"N9","v":121},{"$f":"COUNTIF(L37:L51,AD9)","v":0},{"$f":"AE9/(AG4-AE11)","v":0},{"$f":"IF(AF9=0,0,(AF9*((LOG(AF9))/LOG(2))))","v":0},null,{"$f":"N9","v":121},{"$f":"COUNTIF(L52:L66,AI9)","v":0},{"$f":"AJ9/(AL4-AJ11)","v":0},{"$f":"IF(AK9=0,0,(AK9*((LOG(AK9))/LOG(2))))","v":0},null,{"$f":"N9","v":121},{"$f":"COUNTIF(L67:L81,AN9)","v":0},{"$f":"AO9/(AQ4-AO11)","v":0},{"$f":"IF(AP9=0,0,(AP9*((LOG(AP9))/LOG(2))))","v":0},null,{"$f":"N9","v":121},{"$f":"COUNTIF(L82:L96,AS9)","v":0},{"$f":"AT9/(AV4-AT11)","v":0},{"$f":"IF(AU9=0,0,(AU9*((LOG(AU9))/LOG(2))))","v":0}]
[21,6147,22,6151,24,6155,null,null,null,null,0,222,null,122,{"$f":"COUNTIF($L$7:$L$500,N10)","v":0},{"$f":"O10/$Q$4","v":0},{"$f":"IF(P10=0,0,(P10*((LOG(P10))/LOG(2))))","v":0},null,null,{"$f":"N10","v":122},{"$f":"COUNTIF(L7:L21,T10)","v":0},{"$f":"U10/(W4-U11)","v":0},{"$f":"IF(V10=0,0,(V10*((LOG(V10))/LOG(2))))","v":0},null,{"$f":"N10","v":122},{"$f":"COUNTIF(L22:L36,Y10)","v":0},{"$f":"Z10/(AB4-Z11)","v":0},{"$f":"IF(AA10=0,0,(AA10*((LOG(AA10))/LOG(2))))","v":0},null,{"$f":"N10","v":122},{"$f":"COUNTIF(L37:L51,AD10)","v":0},{"$f":"AE10/(AG4-AE11)","v":0},{"$f":"IF(AF10=0,0,(AF10*((LOG(AF10))/LOG(2))))","v":0},null,{"$f":"N10","v":122},{"$f":"COUNTIF(L52:L66,AI10)","v":0},{"$f":"AJ10/(AL4-AJ11)","v":0},{"$f":"IF(AK10=0,0,(AK10*((LOG(AK10))/LOG(2))))","v":0},null,{"$f":"N10","v":122},{"$f":"COUNTIF(L67:L81,AN10)","v":0},{"$f":"AO10/(AQ4-AO11)","v":0},{"$f":"IF(AP10=0,0,(AP10*((LOG(AP10))/LOG(2))))","v":0},null,{"$f":"N10","v":122},{"$f":"COUNTIF(L82:L96,AS10)","v":0},{"$f":"AT10/(AV4-AT11)","v":0},{"$f":"IF(AU10=0,0,(AU10*((LOG(AU10))/LOG(2))))","v":0}]
[21,9552,22,9557,24,9571,null,null,null,null,0,222,null,211,{"$f":"COUNTIF($L$7:$L$500,N11)","v":1},{"$f":"O11/$Q$4","v":1.1111111111111112E-2},{"$f":"IF(P11=0,0,(P11*((LOG(P11))/LOG(2))))","v":-7.2131701070329707E-2},null,null,{"$f":"N11","v":211},{"$f":"COUNTIF(L7:L21,T11)","v":1},null,null,null,{"$f":"N11","v":211},{"$f":"COUNTIF(L22:L36,Y11)","v":0},null,null,null,{"$f":"N11","v":211},{"$f":"COUNTIF(L37:L51,AD11)","v":0},null,null,null,{"$f":"N11","v":211},{"$f":"COUNTIF(L52:L66,AI11)","v":0},null,null,null,{"$f":"N11","v":211},{"$f":"COUNTIF(L67:L81,AN11)","v":0},null,null,null,{"$f":"N11","v":211},{"$f":"COUNTIF(L82:L96,AS11)","v":0}]
[21,9687,22,9691,24,9695,null,null,null,null,0,222,null,212,{"$f":"COUNTIF($L$7:$L$500,N12)","v":0},{"$f":"O12/$Q$4","v":0},{"$f":"IF(P12=0,0,(P12*((LOG(P12))/LOG(2))))","v":0},null,null,{"$f":"N12","v":212},{"$f":"COUNTIF(L7:L21,T12)","v":0},{"$f":"U12/(W4-U11)","v":0},{"$f":"IF(V12=0,0,(V12*((LOG(V12))/LOG(2))))","v":0},null,{"$f":"N12","v":212},{"$f":"COUNTIF(L22:L36,Y12)","v":0},{"$f":"Z12/(AB4-Z11)","v":0},{"$f":"IF(AA12=0,0,(AA12*((LOG(AA12))/LOG(2))))","v":0},null,{"$f":"N12","v":212},{"$f":"COUNTIF(L37:L51,AD12)","v":0},{"$f":"AE12/(AG4-AE11)","v":0},{"$f":"IF(AF12=0,0,(AF12*((LOG(AF12))/LOG(2))))","v":0},null,{"$f":"N12","v":212},{"$f":"COUNTIF(L52:L66,AI12)","v":0},{"$f":"AJ12/(AL4-AJ11)","v":0},{"$f":"IF(AK12=0,0,(AK12*((LOG(AK12))/LOG(2))))","v":0},null,{"$f":"N12","v":212},{"$f":"COUNTIF(L67:L81,AN12)","v":0},{"$f":"AO12/(AQ4-AO11)","v":0},{"$f":"IF(AP12=0,0,(AP12*((LOG(AP12))/LOG(2))))","v":0},null,{"$f":"N12","v":212},{"$f":"COUNTIF(L82:L96,AS12)","v":0},{"$f":"AT12/(AV4-AT11)","v":0},{"$f":"IF(AU12=0,0,(AU12*((LOG(AU12))/LOG(2))))","v":0}]
[21,9811,22,9816,24,9819,null,null,null,null,0,222,null,221,{"$f":"COUNTIF($L$7:$L$500,N13)","v":0},{"$f":"O13/$Q$4","v":0},{"$f":"IF(P13=0,0,(P13*((LOG(P13))/LOG(2))))","v":0},null,null,{"$f":"N13","v":221},{"$f":"COUNTIF(L7:L21,T13)","v":0},{"$f":"U13/(W4-U11)","v":0},{"$f":"IF(V13=0,0,(V13*((LOG(V13))/LOG(2))))","v":0},null,{"$f":"N13","v":221},{"$f":"COUNTIF(L22:L36,Y13)","v":0},{"$f":"Z13/(AB4-Z11)","v":0},{"$f":"IF(AA13=0,0,(AA13*((LOG(AA13))/LOG(2))))","v":0},null,{"$f":"N13","v":221},{"$f":"COUNTIF(L37:L51,AD13)","v":0},{"$f":"AE13/(AG4-AE11)","v":0},{"$f":"IF(AF13=0,0,(AF13*((LOG(AF13))/LOG(2))))","v":0},null,{"$f":"N13","v":221},{"$f":"COUNTIF(L52:L66,AI13)","v":0},{"$f":"AJ13/(AL4-AJ11)","v":0},{"$f":"IF(AK13=0,0,(AK13*((LOG(AK13))/LOG(2))))","v":0},null,{"$f":"N13","v":221},{"$f":"COUNTIF(L67:L81,AN13)","v":0},{"$f":"AO13/(AQ4-AO11)","v":0},{"$f":"IF(AP13=0,0,(AP13*((LOG(AP13))/LOG(2))))","v":0},null,{"$f":"N13","v":221},{"$f":"COUNTIF(L82:L96,AS13)","v":0},{"$f":"AT13/(AV4-AT11)","v":0},{"$f":"IF(AU13=0,0,(AU13*((LOG(AU13))/LOG(2))))","v":0}]
[21,9939,22,9944,24,9949,null,null,null,null,0,222,null,222,{"$f":"COUNTIF($L$7:$L$500,N14)","v":89},{"$f":"O14/$Q$4","v":0.98888888888888893},{"$f":"IF(P14=0,0,(P14*((LOG(P14))/LOG(2))))","v":-1.5940557970351599E-2},null,null,{"$f":"N14","v":222},{"$f":"COUNTIF(L7:L21,T14)","v":14},{"$f":"U14/(W4-U11)","v":1},{"$f":"IF(V14=0,0,(V14*((LOG(V14))/LOG(2))))","v":0},null,{"$f":"N14","v":222},{"$f":"COUNTIF(L22:L36,Y14)","v":15},{"$f":"Z14/(AB4-Z11)","v":1},{"$f":"IF(AA14=0,0,(AA14*((LOG(AA14))/LOG(2))))","v":0},null,{"$f":"N14","v":222},{"$f":"COUNTIF(L37:L51,AD14)","v":15},{"$f":"AE14/(AG4-AE11)","v":1},{"$f":"IF(AF14=0,0,(AF14*((LOG(AF14))/LOG(2))))","v":0},null,{"$f":"N14","v":222},{"$f":"COUNTIF(L52:L66,AI14)","v":15},{"$f":"AJ14/(AL4-AJ11)","v":1},{"$f":"IF(AK14=0,0,(AK14*((LOG(AK14))/LOG(2))))","v":0},null,{"$f":"N14","v":222},{"$f":"COUNTIF(L67:L81,AN14)","v":15},{"$f":"AO14/(AQ4-AO11)","v":1},{"$f":"IF(AP14=0,0,(AP14*((LOG(AP14))/LOG(2))))","v":0},null,{"$f":"N14","v":222},{"$f":"COUNTIF(L82:L96,AS14)","v":15},{"$f":"AT14/(AV4-AT11)","v":1},{"$f":"IF(AU14=0,0,(AU14*((LOG(AU14))/LOG(2))))","v":0}]
[21,11185,22,11191,24,11198,null,null,null,null,0,222,null,null,null,{"$f":"SUM(P7:P14)","v":1},{"$f":"-SUM(Q7:Q14)","v":8.8072259040681306E-2},null,null,null,null,{"$f":"SUM(V7:V14)","v":1},{"$f":"-SUM(W7:W14)","v":0},null,null,null,{"$f":"SUM(AA7:AA14)","v":1},{"$f":"-SUM(AB7:AB14)","v":0},null,null,null,{"$f":"SUM(AF7:AF14)","v":1},{"$f":"-SUM(AG7:AG14)","v":0},null,null,null,{"$f":"SUM(AK7:AK14)","v":1},{"$f":"-SUM(AL7:AL14)","v":0},null,null,null,{"$f":"SUM(AP7:AP14)","v":1},{"$f":"-SUM(AQ7:AQ14)","v":0},null,null,null,{"$f":"SUM(AU7:AU14)","v":1},{"$f":"-SUM(AV7:AV14)","v":0}]
[21,11439,22,11444,24,11450,null,null,null,null,0,222,null,null,null,"U=",{"$f":"Q15/(LOG(Q4)/LOG(2))","v":1.3566582258380904E-2},null,null,null,null,"U1=",{"$f":"W15/(LOG(W4)/LOG(2))","v":0},null,null,null,"U2=",{"$f":"AB15/(LOG(AB4)/LOG(2))","v":0},null,null,null,"U3=",{"$f":"AG15/(LOG(AG4)/LOG(2))","v":0},null,null,null,"U4=",{"$f":"AL15/(LOG(AL4)/LOG(2))","v":0},null,null,null,"U5=",{"$f":"AQ15/(LOG(AQ4)/LOG(2))","v":0},null,null,null,"U6=",{"$f":"AV15/(LOG(AV4)/LOG(2))","v":0}]
[21,11622,22,11627,24,11633,null,null,null,null,0,222]
[21,11881,22,11889,24,11895,null,null,null,null,0,222]
[21,12233,11,12276,11,12282,null,null,null,null,0,211,null,"Total Target Seq"]
[21,12383,22,12386,24,12391,null,null,null,null,0,222,null,{"$f":"COUNTIF(L7:L96,G3)","v":1},null,15,15,15,15,15,15]
[21,12591,22,12598,24,12601,null,null,null,null,0,222,null,null,null,"% of reinforcement given in 6 equal intervals based on number of trials "]
[21,12783,22,12787,24,12791,null,null,null,null,0,222,null,null,null,"%_1","%_2","%_3","%_4","%_5","%_6"]
[21,12963,22,12967,24,12970,null,null,null,null,0,222,null,null,"target sequence",{"$f":"$G$3","v":211},{"$f":"$G$3","v":211},{"$f":"$G$3","v":211},{"$f":"$G$3","v":211},{"$f":"$G$3","v":211},{"$f":"$G$3","v":211}]
[21,13076,22,13081,24,13085,null,null,null,null,0,222,null,null,"total reinforcement",{"$f":"U11","v":1},{"$f":"Z11","v":0},{"$f":"AE11","v":0},{"$f":"AJ11","v":0},{"$f":"AO11","v":0},{"$f":"AT11","v":0}]
[21,13237,22,13242,24,13246,null,null,null,null,0,222,null,null,"% target"]
[21,13359,22,13366,24,13370,null,null,null,null,0,222,null,null,"CCRF"]
[21,13470,22,13478,24,13482,null,null,null,null,0,222,null,null,"% CCRf"]
[21,13680,22,13684,24,13688,null,null,null,null,0,222,null,null,"average response rate",{"$f":"F21/P20","v":840.06666666666672},{"$f":"(F36-F21)/Q20","v":158},{"$f":"(F51-F36)/R20","v":140.6},{"$f":"(F66-F51)/S20","v":221.33333333333334},{"$f":"(F81-F66)/T20","v":117.8},{"$f":"(F96-F81)/U20","v":122}]
[21,13822,22,13826,24,13832,null,null,null,null,0,222]
[21,13940,22,13944,24,13947,null,null,null,null,0,222]
[21,14131,22,14136,24,14141,null,null,null,null,0,222]
[21,14242,22,14251,24,14256,null,null,null,null,0,222]
[21,14397,22,14401,24,14406,null,null,null,null,0,222]
[21,14642,22,14647,24,14650,null,null,null,null,0,222]
[21,14835,22,14838,24,14843,null,null,null,null,0,222]
[21,14965,22,14968,24,14971,null,null,null,null,0,222]
[21,15115,22,15119,24,15124,null,null,null,null,0,222]
[21,15288,22,15312,24,15315,null,null,null,null,0,222]
[21,15552,22,15566,24,15572,null,null,null,null,0,222]
[21,15689,22,15693,24,15697,null,null,null,null,0,222]
[21,15810,22,15814,24,15818,null,null,null,null,0,222]
[21,15921,22,15925,24,15928,null,null,null,null,0,222]
[21,16052,22,16055,24,16059,null,null,null,null,0,222]
[21,16162,22,16166,24,16170,null,null,null,null,0,222]
[21,16286,22,16289,24,16293,null,null,null,null,0,222]
[21,16413,22,16417,24,16422,null,null,null,null,0,222]
[21,16544,22,16552,24,16555,null,null,null,null,0,222]
[21,16713,22,16717,24,16722,null,null,null,null,0,222]
[21,16848,22,16852,24,16855,null,null,null,null,0,222]
[21,16954,22,16957,24,16961,null,null,null,null,0,222]
[21,17070,22,17075,24,17080,null,null,null,null,0,222]
[21,17190,22,17194,24,17201,null,null,null,null,0,222]
[21,17301,22,17309,24,17314,null,null,null,null,0,222]
[21,17406,22,17444,24,17447,null,null,null,null,0,222]
[21,17779,22,17785,24,17791,null,null,null,null,0,222]
[21,18309,22,18315,24,18324,null,null,null,null,0,222]
[21,18806,22,18810,24,18816,null,null,null,null,0,222]
[21,19024,22,19028,24,19033,null,null,null,null,0,222]
[21,19145,22,19153,24,19157,null,null,null,null,0,222]
[21,19286,22,19289,24,19293,null,null,null,null,0,222]
[21,19405,22,19411,24,19419,null,null,null,null,0,222]
[21,19561,22,19564,24,19568,null,null,null,null,0,222]
[21,19912,22,19920,24,19928,null,null,null,null,0,222]
[21,20119,22,20122,24,20127,null,null,null,null,0,222]
[21,20252,22,20256,24,20260,null,null,null,null,0,222]
[21,20392,22,20397,24,20400,null,null,null,null,0,222]
[21,20499,22,20507,24,20511,null,null,null,null,0,222]
[21,20612,22,20618,24,20622,null,null,null,null,0,222]
[21,20720,22,20724,24,20729,null,null,null,null,0,222]
[21,20838,22,20847,24,20852,null,null,null,null,0,222]
[21,20951,22,20961,24,20966,null,null,null,null,0,222]
[21,21100,22,21108,24,21113,null,null,null,null,0,222]
[21,21236,22,21240,24,21245,null,null,null,null,0,222]
[21,21352,22,21357,24,21361,null,null,null,null,0,222]
[21,21463,22,21468,24,21473,null,null,null,null,0,222]
[21,21574,22,21578,24,21582,null,null,null,null,0,222]
[21,21685,22,21690,24,21694,null,null,null,null,0,222]
[21,21804,22,21808,24,21811,null,null,null,null,0,222]
[21,21907,22,21912,24,21917,null,null,null,null,0,222]
[21,22043,22,22047,24,22056,null,null,null,null,0,222]
[21,22159,22,22163,24,22167,null,null,null,null,0,222]
[21,22275,22,22283,24,22287,null,null,null,null,0,222]
[21,22384,22,22388,24,22392,null,null,null,null,0,222]
[21,22492,22,22496,24,22500,null,null,null,null,0,222]
[21,22606,22,22610,24,22615,null,null,null,null,0,222]
[21,22715,22,22719,24,22723,null,null,null,null,0,222]
[21,22823,22,22825,24,22833,null,null,null,null,0,222]
[21,22936,22,22939,24,22944,null,null,null,null,0,222]
[21,23128,22,23132,24,23136,null,null,null,null,0,222]
[21,23237,22,23242,24,23253,null,null,null,null,0,222]
[21,23356,22,23359,24,23363,null,null,null,null,0,222]
[21,23489,22,23493,24,23497,null,null,null,null,0,222]
[21,23608,22,23611,24,23615,null,null,null,null,0,222]
[21,23715,22,23720,24,23724,null,null,null,null,0,222]
[21,23823,22,23828,24,23831,null,null,null,null,0,222]
[21,23990,22,23993,24,23997,null,null,null,null,1,222]

{"sheet":"!L917A4T.ayl","index":23,"n_rows":211,"n_cols":48,"rows_kept":211,"cut":false,"hidden":false,"merged":[[4,39,4,42],[5,39,5,40],[4,44,4,47],[5,44,5,45],[4,24,4,27],[5,24,5,25],[4,29,4,32],[5,29,5,30],[4,34,4,37],[5,34,5,35],[1,1,1,2],[5,13,5,14],[18,13,18,14],[19,13,19,14],[4,19,4,22],[5,19,5,20]]}
["Report for:!L917A4T.ayl"]
["Date:","<date>"]
["Hen:","<hen>",null,null,null,"Correct Sequence",{"$f":"Start!J2","v":211},null,null,null,null,null,null,null,null,"Total Sequences in Data",{"$f":"4994-COUNTBLANK(L7:L5000)","v":205},null,null,null,null,"Total Sequences in Block Data",{"$f":"COUNTA(L7:L40)","v":34},null,null,null,"Total Sequences in Block Data",{"$f":"COUNTA(L41:L74)","v":34},null,null,null,"Total Sequences in Block Data",{"$f":"COUNTA(L75:L109)","v":35},null,null,null,"Total Sequences in Block Data",{"$f":"COUNTA(L110:L143)","v":34},null,null,null,"Total Sequences in Block Data",{"$f":"COUNTA(L144:L177)","v":34},null,null,null,"Total Sequences in Block Data",{"$f":"COUNTA(L178:L211)","v":34}]
[null,null,null,null,null,null,null,null,null,null,null,null,null,null,null,"Total Sequences in Summary",{"$f":"SUM(O7:O14)","v":205},null,null,null,null,"Total Sequences in Block Summary",{"$f":"SUM(U7:U14)","v":34},null,null,null,"Total Sequences in Block Summary",{"$f":"SUM(Z7:Z14)","v":34},null,null,null,"Total Sequences in Block Summary",{"$f":"SUM(AE7:AE14)","v":35},null,null,null,"Total Sequences in Block Summary",{"$f":"SUM(AJ7:AJ14)","v":34},null,null,null,"Total Sequences in Block Summary",{"$f":"SUM(AO7:AO14)","v":34},null,null,null,"Total Sequences in Block Summary",{"$f":"SUM(AT7:AT14)","v":34}]
[null,null,null,null,null,null,null,null,null,null,null,null,null,null,null,null,null,null,null,"Block 1",null,null,null,null,"Block 2",null,null,null,null,"Block 3",null,null,null,null,"Block 4",null,null,null,null,"Block 5",null,null,null,null,"Block 6"]
["Sequence\nComponent\n1","Time\n1","Sequence\nComponent\n2","Time\n2","Sequence\nComponent\n3","Time\n3","Sequence\nComponent\n4","Time\n4","Sequence\nComponent\n5","Time\n5","Correct?\n0=No 1=Yes","Sequence",null,"Frequency",null,"Relative Frequency","Variability",null,null,"Frequency",null,"Relative Frequency","Variability",null,"Frequency",null,"Relative Frequency","Variability",null,"Frequency",null,"Relative Frequency","Variability",null,"Frequency",null,"Relative Frequency","Variability",null,"Frequency",null,"Relative Frequency","Variability",null,"Frequency",null,"Relative Frequency","Variability"]
[21,15,22,20,24,27,null,null,null,null,0,222,null,111,{"$f":"COUNTIF($L$7:$L$500,N7)","v":0},{"$f":"O7/$Q$4","v":0},{"$f":"IF(P7=0,0,(P7*((LOG(P7))/LOG(2))))","v":0},null,null,{"$f":"N7","v":111},{"$f":"COUNTIF(L7:L40,T7)","v":0},{"$f":"U7/(W4-U11)","v":0},{"$f":"IF(V7=0,0,(V7*((LOG(V7))/LOG(2))))","v":0},null,{"$f":"N7","v":111},{"$f":"COUNTIF(L41:L74,Y7)","v":0},{"$f":"Z7/(AB4-Z11)","v":0},{"$f":"IF(AA7=0,0,(AA7*((LOG(AA7))/LOG(2))))","v":0},null,{"$f":"N7","v":111},{"$f":"COUNTIF(L75:L109,AD7)","v":0},{"$f":"AE7/(AG4-AE11)","v":0},{"$f":"IF(AF7=0,0,(AF7*((LOG(AF7))/LOG(2))))","v":0},null,{"$f":"N7","v":111},{"$f":"COUNTIF(L110:L143,AI7)","v":0},{"$f":"AJ7/(AL4-AJ11)","v":0},{"$f":"IF(AK7=0,0,(AK7*((LOG(AK7))/LOG(2))))","v":0},null,{"$f":"N7","v":111},{"$f":"COUNTIF(L144:L177,AN7)","v":0},{"$f":"AO7/(AQ4-AO11)","v":0},{"$f":"IF(AP7=0,0,(AP7*((LOG(AP7))/LOG(2))))","v":0},null,{"$f":"N7","v":111},{"$f":"COUNTIF(L178:L211,AS7)","v":0},{"$f":"AT7/(AV4-AT11)","v":0},{"$f":"IF(AU7=0,0,(AU7*((LOG(AU7))/LOG(2))))","v":0}]
[21,127,22,130,24,134,null,null,null,null,0,222,null,112,{"$f":"COUNTIF($L$7:$L$500,N8)","v":0},{"$f":"O8/$Q$4","v":0},{"$f":"IF(P8=0,0,(P8*((LOG(P8))/LOG(2))))","v":0},null,null,{"$f":"N8","v":112},{"$f":"COUNTIF(L7:L40,T8)","v":0},{"$f":"U8/(W4-U11)","v":0},{"$f":"IF(V8=0,0,(V8*((LOG(V8))/LOG(2))))","v":0},null,{"$f":"N8","v":112},{"$f":"COUNTIF(L41:L74,Y8)","v":0},{"$f":"Z8/(AB4-Z11)","v":0},{"$f":"IF(AA8=0,0,(AA8*((LOG(AA8))/LOG(2))))","v":0},null,{"$f":"N8","v":112},{"$f":"COUNTIF(L75:L109,AD8)","v":0},{"$f":"AE8/(AG4-AE11)","v":0},{"$f":"IF(AF8=0,0,(AF8*((LOG(AF8))/LOG(2))))","v":0},null,{"$f":"N8","v":112},{"$f":"COUNTIF(L110:L143,AI8)","v":0},{"$f":"AJ8/(AL4-AJ11)","v":0},{"$f":"IF(AK8=0,0,(AK8*((LOG(AK8))/LOG(2))))","v":0},null,{"$f":"N8","v":112},{"$f":"COUNTIF(L144:L177,AN8)","v":0},{"$f":"AO8/(AQ4-AO11)","v":0},{"$f":"IF(AP8=0,0,(AP8*((LOG(AP8))/LOG(2))))","v":0},null,{"$f":"N8","v":112},{"$f":"COUNTIF(L178:L211,AS8)","v":0},{"$f":"AT8/(AV4-AT11)","v":0},{"$f":"IF(AU8=0,0,(AU8*((LOG(AU8))/LOG(2))))","v":0}]
[21,232,22,244,24,250,null,null,null,null,0,222,null,121,{"$f":"COUNTIF($L$7:$L$500,N9)","v":0},{"$f":"O9/$Q$4","v":0},{"$f":"IF(P9=0,0,(P9*((LOG(P9))/LOG(2))))","v":0},null,null,{"$f":"N9","v":121},{"$f":"COUNTIF(L7:L40,T9)","v":0},{"$f":"U9/(W4-U11)","v":0},{"$f":"IF(V9=0,0,(V9*((LOG(V9))/LOG(2))))","v":0},null,{"$f":"N9","v":121},{"$f":"COUNTIF(L41:L74,Y9)","v":0},{"$f":"Z9/(AB4-Z11)","v":0},{"$f":"IF(AA9=0,0,(AA9*((LOG(AA9))/LOG(2))))","v":0},null,{"$f":"N9","v":121},{"$f":"COUNTIF(L75:L109,AD9)","v":0},{"$f":"AE9/(AG4-AE11)","v":0},{"$f":"IF(AF9=0,0,(AF9*((LOG(AF9))/LOG(2))))","v":0},null,{"$f":"N9","v":121},{"$f":"COUNTIF(L110:L143,AI9)","v":0},{"$f":"AJ9/(AL4-AJ11)","v":0},{"$f":"IF(AK9=0,0,(AK9*((LOG(AK9))/LOG(2))))","v":0},null,{"$f":"N9","v":121},{"$f":"COUNTIF(L144:L177,AN9)","v":0},{"$f":"AO9/(AQ4-AO11)","v":0},{"$f":"IF(AP9=0,0,(AP9*((LOG(AP9))/LOG(2))))","v":0},null,{"$f":"N9","v":121},{"$f":"COUNTIF(L178:L211,AS9)","v":0},{"$f":"AT9/(AV4-AT11)","v":0},{"$f":"IF(AU9=0,0,(AU9*((LOG(AU9))/LOG(2))))","v":0}]
[21,361,22,369,24,373,null,null,null,null,0,222,null,122,{"$f":"COUNTIF($L$7:$L$500,N10)","v":0},{"$f":"O10/$Q$4","v":0},{"$f":"IF(P10=0,0,(P10*((LOG(P10))/LOG(2))))","v":0},null,null,{"$f":"N10","v":122},{"$f":"COUNTIF(L7:L40,T10)","v":0},{"$f":"U10/(W4-U11)","v":0},{"$f":"IF(V10=0,0,(V10*((LOG(V10))/LOG(2))))","v":0},null,{"$f":"N10","v":122},{"$f":"COUNTIF(L41:L74,Y10)","v":0},{"$f":"Z10/(AB4-Z11)","v":0},{"$f":"IF(AA10=0,0,(AA10*((LOG(AA10))/LOG(2))))","v":0},null,{"$f":"N10","v":122},{"$f":"COUNTIF(L75:L109,AD10)","v":0},{"$f":"AE10/(AG4-AE11)","v":0},{"$f":"IF(AF10=0,0,(AF10*((LOG(AF10))/LOG(2))))","v":0},null,{"$f":"N10","v":122},{"$f":"COUNTIF(L110:L143,AI10)","v":0},{"$f":"AJ10/(AL4-AJ11)","v":0},{"$f":"IF(AK10=0,0,(AK10*((LOG(AK10))/LOG(2))))","v":0},null,{"$f":"N10","v":122},{"$f":"COUNTIF(L144:L177,AN10)","v":0},{"$f":"AO10/(AQ4-AO11)","v":0},{"$f":"IF(AP10=0,0,(AP10*((LOG(AP10))/LOG(2))))","v":0},null,{"$f":"N10","v":122},{"$f":"COUNTIF(L178:L211,AS10)","v":0},{"$f":"AT10/(AV4-AT11)","v":0},{"$f":"IF(AU10=0,0,(AU10*((LOG(AU10))/LOG(2))))","v":0}]
[21,485,22,490,24,495,null,null,null,null,0,222,null,211,{"$f":"COUNTIF($L$7:$L$500,N11)","v":0},{"$f":"O11/$Q$4","v":0},{"$f":"IF(P11=0,0,(P11*((LOG(P11))/LOG(2))))","v":0},null,null,{"$f":"N11","v":211},{"$f":"COUNTIF(L7:L40,T11)","v":0},null,null,null,{"$f":"N11","v":211},{"$f":"COUNTIF(L41:L74,Y11)","v":0},null,null,null,{"$f":"N11","v":211},{"$f":"COUNTIF(L75:L109,AD11)","v":0},null,null,null,{"$f":"N11","v":211},{"$f":"COUNTIF(L110:L143,AI11)","v":0},null,null,null,{"$f":"N11","v":211},{"$f":"COUNTIF(L144:L177,AN11)","v":0},null,null,null,{"$f":"N11","v":211},{"$f":"COUNTIF(L178:L211,AS11)","v":0}]
[21,592,22,598,24,602,null,null,null,null,0,222,null,212,{"$f":"COUNTIF($L$7:$L$500,N12)","v":0},{"$f":"O12/$Q$4","v":0},{"$f":"IF(P12=0,0,(P12*((LOG(P12))/LOG(2))))","v":0},null,null,{"$f":"N12","v":212},{"$f":"COUNTIF(L7:L40,T12)","v":0},{"$f":"U12/(W4-U11)","v":0},{"$f":"IF(V12=0,0,(V12*((LOG(V12))/LOG(2))))","v":0},null,{"$f":"N12","v":212},{"$f":"COUNTIF(L41:L74,Y12)","v":0},{"$f":"Z12/(AB4-Z11)","v":0},{"$f":"IF(AA12=0,0,(AA12*((LOG(AA12))/LOG(2))))","v":0},null,{"$f":"N12","v":212},{"$f":"COUNTIF(L75:L109,AD12)","v":0},{"$f":"AE12/(AG4-AE11)","v":0},{"$f":"IF(AF12=0,0,(AF12*((LOG(AF12))/LOG(2))))","v":0},null,{"$f":"N12","v":212},{"$f":"COUNTIF(L110:L143,AI12)","v":0},{"$f":"AJ12/(AL4-AJ11)","v":0},{"$f":"IF(AK12=0,0,(AK12*((LOG(AK12))/LOG(2))))","v":0},null,{"$f":"N12","v":212},{"$f":"COUNTIF(L144:L177,AN12)","v":0},{"$f":"AO12/(AQ4-AO11)","v":0},{"$f":"IF(AP12=0,0,(AP12*((LOG(AP12))/LOG(2))))","v":0},null,{"$f":"N12","v":212},{"$f":"COUNTIF(L178:L211,AS12)","v":0},{"$f":"AT12/(AV4-AT11)","v":0},{"$f":"IF(AU12=0,0,(AU12*((LOG(AU12))/LOG(2))))","v":0}]
[21,704,22,708,24,714,null,null,null,null,0,222,null,221,{"$f":"COUNTIF($L$7:$L$500,N13)","v":0},{"$f":"O13/$Q$4","v":0},{"$f":"IF(P13=0,0,(P13*((LOG(P13))/LOG(2))))","v":0},null,null,{"$f":"N13","v":221},{"$f":"COUNTIF(L7:L40,T13)","v":0},{"$f":"U13/(W4-U11)","v":0},{"$f":"IF(V13=0,0,(V13*((LOG(V13))/LOG(2))))","v":0},null,{"$f":"N13","v":221},{"$f":"COUNTIF(L41:L74,Y13)","v":0},{"$f":"Z13/(AB4-Z11)","v":0},{"$f":"IF(AA13=0,0,(AA13*((LOG(AA13))/LOG(2))))","v":0},null,{"$f":"N13","v":221},{"$f":"COUNTIF(L75:L109,AD13)","v":0},{"$f":"AE13/(AG4-AE11)","v":0},{"$f":"IF(AF13=0,0,(AF13*((LOG(AF13))/LOG(2))))","v":0},null,{"$f":"N13","v":221},{"$f":"COUNTIF(L110:L143,AI13)","v":0},{"$f":"AJ13/(AL4-AJ11)","v":0},{"$f":"IF(AK13=0,0,(AK13*((LOG(AK13))/LOG(2))))","v":0},null,{"$f":"N13","v":221},{"$f":"COUNTIF(L144:L177,AN13)","v":0},{"$f":"AO13/(AQ4-AO11)","v":0},{"$f":"IF(AP13=0,0,(AP13*((LOG(AP13))/LOG(2))))","v":0},null,{"$f":"N13","v":221},{"$f":"COUNTIF(L178:L211,AS13)","v":0},{"$f":"AT13/(AV4-AT11)","v":0},{"$f":"IF(AU13=0,0,(AU13*((LOG(AU13))/LOG(2))))","v":0}]
[21,820,22,824,24,827,null,null,null,null,0,222,null,222,{"$f":"COUNTIF($L$7:$L$500,N14)","v":205},{"$f":"O14/$Q$4","v":1},{"$f":"IF(P14=0,0,(P14*((LOG(P14))/LOG(2))))","v":0},null,null,{"$f":"N14","v":222},{"$f":"COUNTIF(L7:L40,T14)","v":34},{"$f":"U14/(W4-U11)","v":1},{"$f":"IF(V14=0,0,(V14*((LOG(V14))/LOG(2))))","v":0},null,{"$f":"N14","v":222},{"$f":"COUNTIF(L41:L74,Y14)","v":34},{"$f":"Z14/(AB4-Z11)","v":1},{"$f":"IF(AA14=0,0,(AA14*((LOG(AA14))/LOG(2))))","v":0},null,{"$f":"N14","v":222},{"$f":"COUNTIF(L75:L109,AD14)","v":35},{"$f":"AE14/(AG4-AE11)","v":1},{"$f":"IF(AF14=0,0,(AF14*((LOG(AF14))/LOG(2))))","v":0},null,{"$f":"N14","v":222},{"$f":"COUNTIF(L110:L143,AI14)","v":34},{"$f":"AJ14/(AL4-AJ11)","v":1},{"$f":"IF(AK14=0,0,(AK14*((LOG(AK14))/LOG(2))))","v":0},null,{"$f":"N14","v":222},{"$f":"COUNTIF(L144:L177,AN14)","v":34},{"$f":"AO14/(AQ4-AO11)","v":1},{"$f":"IF(AP14=0,0,(AP14*((LOG(AP14))/LOG(2))))","v":0},null,{"$f":"N14","v":222},{"$f":"COUNTIF(L178:L211,AS14)","v":34},{"$f":"AT14/(AV4-AT11)","v":1},{"$f":"IF(AU14=0,0,(AU14*((LOG(AU14))/LOG(2))))","v":0}]
[21,928,22,932,24,940,null,null,null,null,0,222,null,null,null,{"$f":"SUM(P7:P14)","v":1},{"$f":"-SUM(Q7:Q14)","v":0},null,null,null,null,{"$f":"SUM(V7:V14)","v":1},{"$f":"-SUM(W7:W14)","v":0},null,null,null,{"$f":"SUM(AA7:AA14)","v":1},{"$f":"-SUM(AB7:AB14)","v":0},null,null,null,{"$f":"SUM(AF7:AF14)","v":1},{"$f":"-SUM(AG7:AG14)","v":0},null,null,null,{"$f":"SUM(AK7:AK14)","v":1},{"$f":"-SUM(AL7:AL14)","v":0},null,null,null,{"$f":"SUM(AP7:AP14)","v":1},{"$f":"-SUM(AQ7:AQ14)","v":0},null,null,null,{"$f":"SUM(AU7:AU14)","v":1},{"$f":"-SUM(AV7:AV14)","v":0}]
[21,1039,22,1043,24,1045,null,null,null,null,0,222,null,null,null,"U=",{"$f":"Q15/(LOG(Q4)/LOG(2))","v":0},null,null,null,null,"U1=",{"$f":"W15/(LOG(W4)/LOG(2))","v":0},null,null,null,"U2=",{"$f":"AB15/(LOG(AB4)/LOG(2))","v":0},null,null,null,"U3=",{"$f":"AG15/(LOG(AG4)/LOG(2))","v":0},null,null,null,"U4=",{"$f":"AL15/(LOG(AL4)/LOG(2))","v":0},null,null,null,"U5=",{"$f":"AQ15/(LOG(AQ4)/LOG(2))","v":0},null,null,null,"U6=",{"$f":"AV15/(LOG(AV4)/LOG(2))","v":0}]
[21,1168,22,1175,24,1181,null,null,null,null,0,222]
[21,1285,22,1288,24,1292,null,null,null,null,0,222]
[21,1392,22,1403,24,1409,null,null,null,null,0,222,null,"Total Target Seq"]
[21,1510,22,1517,24,1521,null,null,null,null,0,222,null,{"$f":"COUNTIF(L7:L211,G3)","v":0},null,34,34,35,34,34,34]
[21,1621,22,1625,24,1628,null,null,null,null,0,222,null,null,null,"% of reinforcement given in 6 equal intervals based on number of trials "]
[21,1762,22,1766,24,1770,null,null,null,null,0,222,null,null,null,"%_1","%_2","%_3","%_4","%_5","%_6"]
[21,1870,22,1875,24,1883,null,null,null,null,0,222,null,null,"target sequence",{"$f":"$G$3","v":211},{"$f":"$G$3","v":211},{"$f":"$G$3","v":211},{"$f":"$G$3","v":211},{"$f":"$G$3","v":211},{"$f":"$G$3","v":211}]
[21,1987,22,1989,24,1993,null,null,null,null,0,222,null,null,"total reinforcement",{"$f":"U11","v":0},{"$f":"Z11","v":0},{"$f":"AE11","v":0},{"$f":"AJ11","v":0},{"$f":"AO11","v":0},{"$f":"AT11","v":0}]
[21,2087,22,2090,24,2098,null,null,null,null,0,222,null,null,"% target"]
[21,2201,22,2205,24,2209,null,null,null,null,0,222,null,null,"CCRF"]
[21,2313,22,2317,24,2319,null,null,null,null,0,222,null,null,"% CCRf"]
[21,2439,22,2442,24,2448,null,null,null,null,0,222,null,null,"average response rate",{"$f":"F40/P20","v":112.5},{"$f":"(F74-F40)/Q20","v":112.05882352941177},{"$f":"(F109-F74)/R20","v":111.05714285714286},{"$f":"(F143-F109)/S20","v":114.26470588235294},{"$f":"(F177-F143)/T20","v":125.32352941176471},{"$f":"(F211-F177)/U20","v":125.44117647058823}]
[21,2550,22,2553,24,2558,null,null,null,null,0,222]
[21,2653,22,2661,24,2667,null,null,null,null,0,222]
[21,2764,22,2767,24,2771,null,null,null,null,0,222]
[21,2871,22,2880,24,2884,null,null,null,null,0,222]
[21,2981,22,2984,24,2988,null,null,null,null,0,222]
[21,3095,22,3103,24,3112,null,null,null,null,0,222]
[21,3217,22,3221,24,3227,null,null,null,null,0,222]
[21,3335,22,3337,24,3341,null,null,null,null,0,222]
[21,3453,22,3460,24,3464,null,null,null,null,0,222]
[21,3577,22,3581,24,3589,null,null,null,null,0,222]
[21,3700,22,3704,24,3713,null,null,null,null,0,222]
[21,3817,22,3822,24,3825,null,null,null,null,0,222]
[21,3926,22,3930,24,3933,null,null,null,null,0,222]
[21,4049,22,4053,24,4057,null,null,null,null,0,222]
[21,4160,22,4164,24,4168,null,null,null,null,0,222]
[21,4272,22,4275,24,4279,null,null,null,null,0,222]
[21,4390,22,4394,24,4405,null,null,null,null,0,222]
[21,4502,22,4505,24,4509,null,null,null,null,0,222]
[21,4612,22,4616,24,4620,null,null,null,null,0,222]
[21,4725,22,4730,24,4735,null,null,null,null,0,222]
[21,4840,22,4843,24,4847,null,null,null,null,0,222]
[21,4949,22,4960,24,4963,null,null,null,null,0,222]
[21,5064,22,5071,24,5074,null,null,null,null,0,222]
[21,5172,22,5178,24,5182,null,null,null,null,0,222]
[21,5297,22,5301,24,5305,null,null,null,null,0,222]
[21,5403,22,5407,24,5410,null,null,null,null,0,222]
[21,5510,22,5516,24,5520,null,null,null,null,0,222]
[21,5618,22,5622,24,5625,null,null,null,null,0,222]
[21,5723,22,5732,24,5736,null,null,null,null,0,222]
[21,5840,22,5843,24,5852,null,null,null,null,0,222]
[21,5956,22,5964,24,5969,null,null,null,null,0,222]
[21,6064,22,6066,24,6069,null,null,null,null,0,222]
[21,6172,22,6180,24,6186,null,null,null,null,0,222]
[21,6285,22,6289,24,6293,null,null,null,null,0,222]
[21,6393,22,6398,24,6402,null,null,null,null,0,222]
[21,6502,22,6507,24,6510,null,null,null,null,0,222]
[21,6607,22,6615,24,6620,null,null,null,null,0,222]
[21,6719,22,6722,24,6726,null,null,null,null,0,222]
[21,6832,22,6836,24,6842,null,null,null,null,0,222]
[21,6942,22,6946,24,6951,null,null,null,null,0,222]
[21,7050,22,7058,24,7063,null,null,null,null,0,222]
[21,7186,22,7189,24,7194,null,null,null,null,0,222]
[21,7295,22,7298,24,7303,null,null,null,null,0,222]
[21,7406,22,7410,24,7414,null,null,null,null,0,222]
[21,7511,22,7515,24,7519,null,null,null,null,0,222]
[21,7627,22,7631,24,7635,null,null,null,null,0,222]
[21,7734,22,7737,24,7742,null,null,null,null,0,222]
[21,7857,22,7865,24,7870,null,null,null,null,0,222]
[21,7971,22,7973,24,7975,null,null,null,null,0,222]
[21,8077,22,8080,24,8086,null,null,null,null,0,222]
[21,8194,22,8199,24,8205,null,null,null,null,0,222]
[21,8305,22,8307,24,8312,null,null,null,null,0,222]
[21,8420,22,8426,24,8432,null,null,null,null,0,222]
[21,8527,22,8532,24,8536,null,null,null,null,0,222]
[21,8643,22,8647,24,8652,null,null,null,null,0,222]
[21,8751,22,8754,24,8759,null,null,null,null,0,222]
[21,8863,22,8867,24,8871,null,null,null,null,0,222]
[21,8971,22,8976,24,8979,null,null,null,null,0,222]
[21,9079,22,9083,24,9087,null,null,null,null,0,222]
[21,9189,22,9193,24,9198,null,null,null,null,0,222]
[21,9301,22,9305,24,9310,null,null,null,null,0,222]
[21,9416,22,9419,24,9425,null,null,null,null,0,222]
[21,9524,22,9529,24,9533,null,null,null,null,0,222]
[21,9627,22,9631,24,9634,null,null,null,null,0,222]
[21,9739,22,9744,24,9749,null,null,null,null,0,222]
[21,9859,22,9864,24,9871,null,null,null,null,0,222]
[21,9970,22,9974,24,9979,null,null,null,null,0,222]
[21,10079,22,10085,24,10089,null,null,null,null,0,222]
[21,10191,22,10194,24,10199,null,null,null,null,0,222]
[21,10297,22,10300,24,10304,null,null,null,null,0,222]
[21,10403,22,10407,24,10411,null,null,null,null,0,222]
[21,10511,22,10514,24,10519,null,null,null,null,0,222]
[21,10622,22,10627,24,10630,null,null,null,null,0,222]
[21,10730,22,10733,24,10737,null,null,null,null,0,222]
[21,10835,22,10839,24,10843,null,null,null,null,0,222]
[21,10949,22,10953,24,10960,null,null,null,null,0,222]
[21,11055,22,11059,24,11062,null,null,null,null,0,222]
[21,11165,22,11168,24,11173,null,null,null,null,0,222]
[21,11298,22,11302,24,11306,null,null,null,null,0,222]
[21,11402,22,11410,24,11415,null,null,null,null,0,222]
[21,11514,22,11518,24,11522,null,null,null,null,0,222]
[21,11622,22,11626,24,11629,null,null,null,null,0,222]
[21,11779,22,11782,24,11786,null,null,null,null,0,222]
[21,11886,22,11890,24,11894,null,null,null,null,0,222]
[21,11992,22,11997,24,12001,null,null,null,null,0,222]
[21,12242,22,12246,24,12251,null,null,null,null,0,222]
[21,12350,22,12353,24,12357,null,null,null,null,0,222]
[21,12465,22,12469,24,12473,null,null,null,null,0,222]
[21,12570,22,12574,24,12578,null,null,null,null,0,222]
[21,12679,22,12686,24,12693,null,null,null,null,0,222]
[21,12791,22,12794,24,12798,null,null,null,null,0,222]
[21,12891,22,12894,24,12898,null,null,null,null,0,222]
[21,12997,22,13001,24,13006,null,null,null,null,0,222]
[21,13105,22,13109,24,13113,null,null,null,null,0,222]
[21,13214,22,13219,24,13228,null,null,null,null,0,222]
[21,13332,22,13335,24,13344,null,null,null,null,0,222]
[21,13440,22,13444,24,13449,null,null,null,null,0,222]
[21,13549,22,13551,24,13555,null,null,null,null,0,222]
[21,13658,22,13662,24,13665,null,null,null,null,0,222]
[21,13772,22,13775,24,13779,null,null,null,null,0,222]
[21,13876,22,13880,24,13884,null,null,null,null,0,222]
[21,13982,22,13994,24,14000,null,null,null,null,0,222]
[21,14100,22,14103,24,14107,null,null,null,null,0,222]
[21,14200,22,14203,24,14206,null,null,null,null,0,222]
[21,14305,22,14309,24,14313,null,null,null,null,0,222]
[21,14417,22,14424,24,14429,null,null,null,null,0,222]
[21,14527,22,14531,24,14535,null,null,null,null,0,222]
[21,14634,22,14638,24,14642,null,null,null,null,0,222]
[21,14747,22,14751,24,14754,null,null,null,null,0,222]
[21,14858,22,14865,24,14870,null,null,null,null,0,222]
[21,14970,22,14973,24,14978,null,null,null,null,0,222]
[21,15076,22,15080,24,15083,null,null,null,null,0,222]
[21,15189,22,15193,24,15197,null,null,null,null,0,222]
[21,15290,22,15292,24,15294,null,null,null,null,0,222]
[21,15392,22,15402,24,15407,null,null,null,null,0,222]
[21,15509,22,15511,24,15513,null,null,null,null,0,222]
[21,15612,22,15621,24,15626,null,null,null,null,0,222]
[21,15731,22,15735,24,15740,null,null,null,null,0,222]
[21,16022,22,16027,24,16032,null,null,null,null,0,222]
[21,16129,22,16133,24,16137,null,null,null,null,0,222]
[21,16267,22,16271,24,16275,null,null,null,null,0,222]
[21,16381,22,16387,24,16392,null,null,null,null,0,222]
[21,16500,22,16506,24,16510,null,null,null,null,0,222]
[21,16610,22,16619,24,16625,null,null,null,null,0,222]
[21,16741,22,16747,24,16751,null,null,null,null,0,222]
[21,16912,22,16918,24,16923,null,null,null,null,0,222]
[21,17023,22,17031,24,17036,null,null,null,null,0,222]
[21,17137,22,17141,24,17144,null,null,null,null,0,222]
[21,17242,22,17247,24,17250,null,null,null,null,0,222]
[21,17344,22,17351,24,17357,null,null,null,null,0,222]
[21,17464,22,17469,24,17475,null,null,null,null,0,222]
[21,17573,22,17577,24,17580,null,null,null,null,0,222]
[21,17681,22,17685,24,17692,null,null,null,null,0,222]
[21,17818,22,17822,24,17827,null,null,null,null,0,222]
[21,17927,22,17934,24,17945,null,null,null,null,0,222]
[21,18144,22,18150,24,18153,null,null,null,null,0,222]
[21,18250,22,18256,24,18259,null,null,null,null,0,222]
[21,18393,22,18397,24,18402,null,null,null,null,0,222]
[21,18507,22,18511,24,18514,null,null,null,null,0,222]
[21,18614,22,18616,24,18618,null,null,null,null,0,222]
[21,18719,22,18726,24,18729,null,null,null,null,0,222]
[21,18829,22,18833,24,18837,null,null,null,null,0,222]
[21,18964,22,18967,24,18974,null,null,null,null,0,222]
[21,19070,22,19077,24,19081,null,null,null,null,0,222]
[21,19204,22,19211,24,19214,null,null,null,null,0,222]
[21,19319,22,19323,24,19328,null,null,null,null,0,222]
[21,19435,22,19438,24,19447,null,null,null,null,0,222]
[21,19547,22,19551,24,19555,null,null,null,null,0,222]
[21,19659,22,19663,24,19668,null,null,null,null,0,222]
[21,19767,22,19773,24,19777,null,null,null,null,0,222]
[21,19880,22,19884,24,19889,null,null,null,null,0,222]
[21,20110,22,20114,24,20118,null,null,null,null,0,222]
[21,20219,22,20222,24,20226,null,null,null,null,0,222]
[21,20329,22,20333,24,20337,null,null,null,null,0,222]
[21,20436,22,20439,24,20445,null,null,null,null,0,222]
[21,20556,22,20562,24,20567,null,null,null,null,0,222]
[21,20667,22,20675,24,20680,null,null,null,null,0,222]
[21,20984,22,20987,24,20991,null,null,null,null,0,222]
[21,21091,22,21098,24,21102,null,null,null,null,0,222]
[21,21203,22,21205,24,21210,null,null,null,null,0,222]
[21,21350,22,21354,24,21358,null,null,null,null,0,222]
[21,21456,22,21460,24,21464,null,null,null,null,0,222]
[21,21566,22,21574,24,21579,null,null,null,null,0,222]
[21,21680,22,21684,24,21689,null,null,null,null,0,222]
[21,21790,22,21794,24,21798,null,null,null,null,0,222]
[21,21926,22,21930,24,21935,null,null,null,null,0,222]
[21,22043,22,22047,24,22052,null,null,null,null,0,222]
[21,22171,22,22176,24,22181,null,null,null,null,0,222]
[21,22321,22,22326,24,22331,null,null,null,null,0,222]
[21,22436,22,22440,24,22443,null,null,null,null,0,222]
[21,22539,22,22542,24,22547,null,null,null,null,0,222]
[21,22707,22,22711,24,22714,null,null,null,null,0,222]
[21,22819,22,22822,24,22827,null,null,null,null,0,222]
[21,22926,22,22934,24,22940,null,null,null,null,0,222]
[21,23043,22,23048,24,23052,null,null,null,null,0,222]
[21,23152,22,23160,24,23165,null,null,null,null,0,222]
[21,23270,22,23274,24,23277,null,null,null,null,0,222]
[21,23377,22,23384,24,23388,null,null,null,null,0,222]
[21,23491,22,23498,24,23509,null,null,null,null,0,222]
[21,23608,22,23615,24,23617,null,null,null,null,0,222]
[21,23717,22,23720,24,23724,null,null,null,null,0,222]
[21,23822,22,23826,24,23831,null,null,null,null,0,222]
[21,23926,22,23930,24,23933,null,null,null,null,null,222]

{"sheet":"!L919B1T.ayl","index":24,"n_rows":199,"n_cols":48,"rows_kept":199,"cut":false,"hidden":false,"merged":[[4,39,4,42],[5,39,5,40],[4,44,4,47],[5,44,5,45],[4,24,4,27],[5,24,5,25],[4,29,4,32],[5,29,5,30],[4,34,4,37],[5,34,5,35],[1,1,1,2],[5,13,5,14],[18,13,18,14],[19,13,19,14],[4,19,4,22],[5,19,5,20]]}
["Report for:!L919B1T.ayl"]
["Date:","<date>"]
["Hen:","<hen>",null,null,null,"Correct Sequence",{"$f":"Start!J2","v":211},null,null,null,null,null,null,null,null,"Total Sequences in Data",{"$f":"4994-COUNTBLANK(L7:L5000)","v":193},null,null,null,null,"Total Sequences in Block Data",{"$f":"COUNTA(L7:L38)","v":32},null,null,null,"Total Sequences in Block Data",{"$f":"COUNTA(L39:L70)","v":32},null,null,null,"Total Sequences in Block Data",{"$f":"COUNTA(L71:L103)","v":33},null,null,null,"Total Sequences in Block Data",{"$f":"COUNTA(L104:L135)","v":32},null,null,null,"Total Sequences in Block Data",{"$f":"COUNTA(L136:L167)","v":32},null,null,null,"Total Sequences in Block Data",{"$f":"COUNTA(L168:L199)","v":32}]
[null,null,null,null,null,null,null,null,null,null,null,null,null,null,null,"Total Sequences in Summary",{"$f":"SUM(O7:O14)","v":192},null,null,null,null,"Total Sequences in Block Summary",{"$f":"SUM(U7:U14)","v":32},null,null,null,"Total Sequences in Block Summary",{"$f":"SUM(Z7:Z14)","v":32},null,null,null,"Total Sequences in Block Summary",{"$f":"SUM(AE7:AE14)","v":33},null,null,null,"Total Sequences in Block Summary",{"$f":"SUM(AJ7:AJ14)","v":32},null,null,null,"Total Sequences in Block Summary",{"$f":"SUM(AO7:AO14)","v":32},null,null,null,"Total Sequences in Block Summary",{"$f":"SUM(AT7:AT14)","v":31}]
[null,null,null,null,null,null,null,null,null,null,null,null,null,null,null,null,null,null,null,"Block 1",null,null,null,null,"Block 2",null,null,null,null,"Block 3",null,null,null,null,"Block 4",null,null,null,null,"Block 5",null,null,null,null,"Block 6"]
["Sequence\nComponent\n1","Time\n1","Sequence\nComponent\n2","Time\n2","Sequence\nComponent\n3","Time\n3","Sequence\nComponent\n4","Time\n4","Sequence\nComponent\n5","Time\n5","Correct?\n0=No 1=Yes","Sequence",null,"Frequency",null,"Relative Frequency","Variability",null,null,"Frequency",null,"Relative Frequency","Variability",null,"Frequency",null,"Relative Frequency","Variability",null,"Frequency",null,"Relative Frequency","Variability",null,"Frequency",null,"Relative Frequency","Variability",null,"Frequency",null,"Relative Frequency","Variability",null,"Frequency",null,"Relative Frequency","Variability"]
[21,7,22,19,24,26,null,null,null,null,0,222,null,111,{"$f":"COUNTIF($L$7:$L$500,N7)","v":0},{"$f":"O7/$Q$4","v":0},{"$f":"IF(P7=0,0,(P7*((LOG(P7))/LOG(2))))","v":0},null,null,{"$f":"N7","v":111},{"$f":"COUNTIF(L7:L38,T7)","v":0},{"$f":"U7/(W4-U11)","v":0},{"$f":"IF(V7=0,0,(V7*((LOG(V7))/LOG(2))))","v":0},null,{"$f":"N7","v":111},{"$f":"COUNTIF(L39:L70,Y7)","v":0},{"$f":"Z7/(AB4-Z11)","v":0},{"$f":"IF(AA7=0,0,(AA7*((LOG(AA7))/LOG(2))))","v":0},null,{"$f":"N7","v":111},{"$f":"COUNTIF(L71:L103,AD7)","v":0},{"$f":"AE7/(AG4-AE11)","v":0},{"$f":"IF(AF7=0,0,(AF7*((LOG(AF7))/LOG(2))))","v":0},null,{"$f":"N7","v":111},{"$f":"COUNTIF(L104:L135,AI7)","v":0},{"$f":"AJ7/(AL4-AJ11)","v":0},{"$f":"IF(AK7=0,0,(AK7*((LOG(AK7))/LOG(2))))","v":0},null,{"$f":"N7","v":111},{"$f":"COUNTIF(L136:L167,AN7)","v":0},{"$f":"AO7/(AQ4-AO11)","v":0},{"$f":"IF(AP7=0,0,(AP7*((LOG(AP7))/LOG(2))))","v":0},null,{"$f":"N7","v":111},{"$f":"COUNTIF(L168:L199,AS7)","v":0},{"$f":"AT7/(AV4-AT11)","v":0},{"$f":"IF(AU7=0,0,(AU7*((LOG(AU7))/LOG(2))))","v":0}]
[21,132,22,136,24,142,null,null,null,null,0,222,null,112,{"$f":"COUNTIF($L$7:$L$500,N8)","v":0},{"$f":"O8/$Q$4","v":0},{"$f":"IF(P8=0,0,(P8*((LOG(P8))/LOG(2))))","v":0},null,null,{"$f":"N8","v":112},{"$f":"COUNTIF(L7:L38,T8)","v":0},{"$f":"U8/(W4-U11)","v":0},{"$f":"IF(V8=0,0,(V8*((LOG(V8))/LOG(2))))","v":0},null,{"$f":"N8","v":112},{"$f":"COUNTIF(L39:L70,Y8)","v":0},{"$f":"Z8/(AB4-Z11)","v":0},{"$f":"IF(AA8=0,0,(AA8*((LOG(AA8))/LOG(2))))","v":0},null,{"$f":"N8","v":112},{"$f":"COUNTIF(L71:L103,AD8)","v":0},{"$f":"AE8/(AG4-AE11)","v":0},{"$f":"IF(AF8=0,0,(AF8*((LOG(AF8))/LOG(2))))","v":0},null,{"$f":"N8","v":112},{"$f":"COUNTIF(L104:L135,AI8)","v":0},{"$f":"AJ8/(AL4-AJ11)","v":0},{"$f":"IF(AK8=0,0,(AK8*((LOG(AK8))/LOG(2))))","v":0},null,{"$f":"N8","v":112},{"$f":"COUNTIF(L136:L167,AN8)","v":0},{"$f":"AO8/(AQ4-AO11)","v":0},{"$f":"IF(AP8=0,0,(AP8*((LOG(AP8))/LOG(2))))","v":0},null,{"$f":"N8","v":112},{"$f":"COUNTIF(L168:L199,AS8)","v":0},{"$f":"AT8/(AV4-AT11)","v":0},{"$f":"IF(AU8=0,0,(AU8*((LOG(AU8))/LOG(2))))","v":0}]
[21,383,22,387,24,391,null,null,null,null,0,222,null,121,{"$f":"COUNTIF($L$7:$L$500,N9)","v":0},{"$f":"O9/$Q$4","v":0},{"$f":"IF(P9=0,0,(P9*((LOG(P9))/LOG(2))))","v":0},null,null,{"$f":"N9","v":121},{"$f":"COUNTIF(L7:L38,T9)","v":0},{"$f":"U9/(W4-U11)","v":0},{"$f":"IF(V9=0,0,(V9*((LOG(V9))/LOG(2))))","v":0},null,{"$f":"N9","v":121},{"$f":"COUNTIF(L39:L70,Y9)","v":0},{"$f":"Z9/(AB4-Z11)","v":0},{"$f":"IF(AA9=0,0,(AA9*((LOG(AA9))/LOG(2))))","v":0},null,{"$f":"N9","v":121},{"$f":"COUNTIF(L71:L103,AD9)","v":0},{"$f":"AE9/(AG4-AE11)","v":0},{"$f":"IF(AF9=0,0,(AF9*((LOG(AF9))/LOG(2))))","v":0},null,{"$f":"N9","v":121},{"$f":"COUNTIF(L104:L135,AI9)","v":0},{"$f":"AJ9/(AL4-AJ11)","v":0},{"$f":"IF(AK9=0,0,(AK9*((LOG(AK9))/LOG(2))))","v":0},null,{"$f":"N9","v":121},{"$f":"COUNTIF(L136:L167,AN9)","v":0},{"$f":"AO9/(AQ4-AO11)","v":0},{"$f":"IF(AP9=0,0,(AP9*((LOG(AP9))/LOG(2))))","v":0},null,{"$f":"N9","v":121},{"$f":"COUNTIF(L168:L199,AS9)","v":0},{"$f":"AT9/(AV4-AT11)","v":0},{"$f":"IF(AU9=0,0,(AU9*((LOG(AU9))/LOG(2))))","v":0}]
[21,540,22,545,24,549,null,null,null,null,0,222,null,122,{"$f":"COUNTIF($L$7:$L$500,N10)","v":0},{"$f":"O10/$Q$4","v":0},{"$f":"IF(P10=0,0,(P10*((LOG(P10))/LOG(2))))","v":0},null,null,{"$f":"N10","v":122},{"$f":"COUNTIF(L7:L38,T10)","v":0},{"$f":"U10/(W4-U11)","v":0},{"$f":"IF(V10=0,0,(V10*((LOG(V10))/LOG(2))))","v":0},null,{"$f":"N10","v":122},{"$f":"COUNTIF(L39:L70,Y10)","v":0},{"$f":"Z10/(AB4-Z11)","v":0},{"$f":"IF(AA10=0,0,(AA10*((LOG(AA10))/LOG(2))))","v":0},null,{"$f":"N10","v":122},{"$f":"COUNTIF(L71:L103,AD10)","v":0},{"$f":"AE10/(AG4-AE11)","v":0},{"$f":"IF(AF10=0,0,(AF10*((LOG(AF10))/LOG(2))))","v":0},null,{"$f":"N10","v":122},{"$f":"COUNTIF(L104:L135,AI10)","v":0},{"$f":"AJ10/(AL4-AJ11)","v":0},{"$f":"IF(AK10=0,0,(AK10*((LOG(AK10))/LOG(2))))","v":0},null,{"$f":"N10","v":122},{"$f":"COUNTIF(L136:L167,AN10)","v":0},{"$f":"AO10/(AQ4-AO11)","v":0},{"$f":"IF(AP10=0,0,(AP10*((LOG(AP10))/LOG(2))))","v":0},null,{"$f":"N10","v":122},{"$f":"COUNTIF(L168:L199,AS10)","v":0},{"$f":"AT10/(AV4-AT11)","v":0},{"$f":"IF(AU10=0,0,(AU10*((LOG(AU10))/LOG(2))))","v":0}]
[21,653,22,659,24,664,null,null,null,null,0,222,null,211,{"$f":"COUNTIF($L$7:$L$500,N11)","v":0},{"$f":"O11/$Q$4","v":0},{"$f":"IF(P11=0,0,(P11*((LOG(P11))/LOG(2))))","v":0},null,null,{"$f":"N11","v":211},{"$f":"COUNTIF(L7:L38,T11)","v":0},null,null,null,{"$f":"N11","v":211},{"$f":"COUNTIF(L39:L70,Y11)","v":0},null,null,null,{"$f":"N11","v":211},{"$f":"COUNTIF(L71:L103,AD11)","v":0},null,null,null,{"$f":"N11","v":211},{"$f":"COUNTIF(L104:L135,AI11)","v":0},null,null,null,{"$f":"N11","v":211},{"$f":"COUNTIF(L136:L167,AN11)","v":0},null,null,null,{"$f":"N11","v":211},{"$f":"COUNTIF(L168:L199,AS11)","v":0}]
[21,765,22,772,24,784,null,null,null,null,0,222,null,212,{"$f":"COUNTIF($L$7:$L$500,N12)","v":0},{"$f":"O12/$Q$4","v":0},{"$f":"IF(P12=0,0,(P12*((LOG(P12))/LOG(2))))","v":0},null,null,{"$f":"N12","v":212},{"$f":"COUNTIF(L7:L38,T12)","v":0},{"$f":"U12/(W4-U11)","v":0},{"$f":"IF(V12=0,0,(V12*((LOG(V12))/LOG(2))))","v":0},null,{"$f":"N12","v":212},{"$f":"COUNTIF(L39:L70,Y12)","v":0},{"$f":"Z12/(AB4-Z11)","v":0},{"$f":"IF(AA12=0,0,(AA12*((LOG(AA12))/LOG(2))))","v":0},null,{"$f":"N12","v":212},{"$f":"COUNTIF(L71:L103,AD12)","v":0},{"$f":"AE12/(AG4-AE11)","v":0},{"$f":"IF(AF12=0,0,(AF12*((LOG(AF12))/LOG(2))))","v":0},null,{"$f":"N12","v":212},{"$f":"COUNTIF(L104:L135,AI12)","v":0},{"$f":"AJ12/(AL4-AJ11)","v":0},{"$f":"IF(AK12=0,0,(AK12*((LOG(AK12))/LOG(2))))","v":0},null,{"$f":"N12","v":212},{"$f":"COUNTIF(L136:L167,AN12)","v":0},{"$f":"AO12/(AQ4-AO11)","v":0},{"$f":"IF(AP12=0,0,(AP12*((LOG(AP12))/LOG(2))))","v":0},null,{"$f":"N12","v":212},{"$f":"COUNTIF(L168:L199,AS12)","v":0},{"$f":"AT12/(AV4-AT11)","v":0},{"$f":"IF(AU12=0,0,(AU12*((LOG(AU12))/LOG(2))))","v":0}]
[21,956,22,960,24,965,null,null,null,null,0,222,null,221,{"$f":"COUNTIF($L$7:$L$500,N13)","v":0},{"$f":"O13/$Q$4","v":0},{"$f":"IF(P13=0,0,(P13*((LOG(P13))/LOG(2))))","v":0},null,null,{"$f":"N13","v":221},{"$f":"COUNTIF(L7:L38,T13)","v":0},{"$f":"U13/(W4-U11)","v":0},{"$f":"IF(V13=0,0,(V13*((LOG(V13))/LOG(2))))","v":0},null,{"$f":"N13","v":221},{"$f":"COUNTIF(L39:L70,Y13)","v":0},{"$f":"Z13/(AB4-Z11)","v":0},{"$f":"IF(AA13=0,0,(AA13*((LOG(AA13))/LOG(2))))","v":0},null,{"$f":"N13","v":221},{"$f":"COUNTIF(L71:L103,AD13)","v":0},{"$f":"AE13/(AG4-AE11)","v":0},{"$f":"IF(AF13=0,0,(AF13*((LOG(AF13))/LOG(2))))","v":0},null,{"$f":"N13","v":221},{"$f":"COUNTIF(L104:L135,AI13)","v":0},{"$f":"AJ13/(AL4-AJ11)","v":0},{"$f":"IF(AK13=0,0,(AK13*((LOG(AK13))/LOG(2))))","v":0},null,{"$f":"N13","v":221},{"$f":"COUNTIF(L136:L167,AN13)","v":0},{"$f":"AO13/(AQ4-AO11)","v":0},{"$f":"IF(AP13=0,0,(AP13*((LOG(AP13))/LOG(2))))","v":0},null,{"$f":"N13","v":221},{"$f":"COUNTIF(L168:L199,AS13)","v":0},{"$f":"AT13/(AV4-AT11)","v":0},{"$f":"IF(AU13=0,0,(AU13*((LOG(AU13))/LOG(2))))","v":0}]
[21,1062,22,1067,24,1072,null,null,null,null,0,222,null,222,{"$f":"COUNTIF($L$7:$L$500,N14)","v":192},{"$f":"O14/$Q$4","v":1},{"$f":"IF(P14=0,0,(P14*((LOG(P14))/LOG(2))))","v":0},null,null,{"$f":"N14","v":222},{"$f":"COUNTIF(L7:L38,T14)","v":32},{"$f":"U14/(W4-U11)","v":1},{"$f":"IF(V14=0,0,(V14*((LOG(V14))/LOG(2))))","v":0},null,{"$f":"N14","v":222},{"$f":"COUNTIF(L39:L70,Y14)","v":32},{"$f":"Z14/(AB4-Z11)","v":1},{"$f":"IF(AA14=0,0,(AA14*((LOG(AA14))/LOG(2))))","v":0},null,{"$f":"N14","v":222},{"$f":"COUNTIF(L71:L103,AD14)","v":33},{"$f":"AE14/(AG4-AE11)","v":1},{"$f":"IF(AF14=0,0,(AF14*((LOG(AF14))/LOG(2))))","v":0},null,{"$f":"N14","v":222},{"$f":"COUNTIF(L104:L135,AI14)","v":32},{"$f":"AJ14/(AL4-AJ11)","v":1},{"$f":"IF(AK14=0,0,(AK14*((LOG(AK14))/LOG(2))))","v":0},null,{"$f":"N14","v":222},{"$f":"COUNTIF(L136:L167,AN14)","v":32},{"$f":"AO14/(AQ4-AO11)","v":1},{"$f":"IF(AP14=0,0,(AP14*((LOG(AP14))/LOG(2))))","v":0},null,{"$f":"N14","v":222},{"$f":"COUNTIF(L168:L199,AS14)","v":31},{"$f":"AT14/(AV4-AT11)","v":1},{"$f":"IF(AU14=0,0,(AU14*((LOG(AU14))/LOG(2))))","v":0}]
[21,1178,22,1181,24,1188,null,null,null,null,0,222,null,null,null,{"$f":"SUM(P7:P14)","v":1},{"$f":"-SUM(Q7:Q14)","v":0},null,null,null,null,{"$f":"SUM(V7:V14)","v":1},{"$f":"-SUM(W7:W14)","v":0},null,null,null,{"$f":"SUM(AA7:AA14)","v":1},{"$f":"-SUM(AB7:AB14)","v":0},null,null,null,{"$f":"SUM(AF7:AF14)","v":1},{"$f":"-SUM(AG7:AG14)","v":0},null,null,null,{"$f":"SUM(AK7:AK14)","v":1},{"$f":"-SUM(AL7:AL14)","v":0},null,null,null,{"$f":"SUM(AP7:AP14)","v":1},{"$f":"-SUM(AQ7:AQ14)","v":0},null,null,null,{"$f":"SUM(AU7:AU14)","v":1},{"$f":"-SUM(AV7:AV14)","v":0}]
[21,1288,22,1292,24,1300,null,null,null,null,0,222,null,null,null,"U=",{"$f":"Q15/(LOG(Q4)/LOG(2))","v":0},null,null,null,null,"U1=",{"$f":"W15/(LOG(W4)/LOG(2))","v":0},null,null,null,"U2=",{"$f":"AB15/(LOG(AB4)/LOG(2))","v":0},null,null,null,"U3=",{"$f":"AG15/(LOG(AG4)/LOG(2))","v":0},null,null,null,"U4=",{"$f":"AL15/(LOG(AL4)/LOG(2))","v":0},null,null,null,"U5=",{"$f":"AQ15/(LOG(AQ4)/LOG(2))","v":0},null,null,null,"U6=",{"$f":"AV15/(LOG(AV4)/LOG(2))","v":0}]
[21,1401,22,1422,24,1435,null,null,null,null,0,222]
[21,1617,22,1623,24,1626,null,null,null,null,0,222]
[21,1731,22,1735,24,1738,null,null,null,null,0,222,null,"Total Target Seq"]
[21,1838,22,1843,24,1847,null,null,null,null,0,222,null,{"$f":"COUNTIF(L7:L199,G3)","v":0},null,32,32,33,32,32,32]
[21,1989,22,1993,24,1997,null,null,null,null,0,222,null,null,null,"% of reinforcement given in 6 equal intervals based on number of trials "]
[21,2166,22,2170,24,2180,null,null,null,null,0,222,null,null,null,"%_1","%_2","%_3","%_4","%_5","%_6"]
[21,2280,22,2283,24,2287,null,null,null,null,0,222,null,null,"target sequence",{"$f":"$G$3","v":211},{"$f":"$G$3","v":211},{"$f":"$G$3","v":211},{"$f":"$G$3","v":211},{"$f":"$G$3","v":211},{"$f":"$G$3","v":211}]
[21,2388,22,2393,24,2396,null,null,null,null,0,222,null,null,"total reinforcement",{"$f":"U11","v":0},{"$f":"Z11","v":0},{"$f":"AE11","v":0},{"$f":"AJ11","v":0},{"$f":"AO11","v":0},{"$f":"AT11","v":0}]
[21,2497,22,2500,24,2503,null,null,null,null,0,222,null,null,"% target"]
[21,2602,22,2606,24,2609,null,null,null,null,0,222,null,null,"CCRF"]
[21,2719,22,2724,24,2730,null,null,null,null,0,222,null,null,"% CCRf"]
[21,2865,22,2873,24,2878,null,null,null,null,0,222,null,null,"average response rate",{"$f":"F38/P20","v":127.125},{"$f":"(F70-F38)/Q20","v":121.28125},{"$f":"(F103-F70)/R20","v":124.87878787878788},{"$f":"(F135-F103)/S20","v":130.75},{"$f":"(F167-F135)/T20","v":119.90625},{"$f":"(F199-F167)/U20","v":-627.84375}]
[21,2980,22,2983,24,2993,null,null,null,null,0,222]
[21,3101,22,3106,24,3111,null,null,null,null,0,222]
[21,3209,22,3213,24,3217,null,null,null,null,0,222]
[21,3316,22,3320,24,3323,null,null,null,null,0,222]
[21,3421,22,3424,24,3428,null,null,null,null,0,222]
[21,3526,22,3534,24,3542,null,null,null,null,0,222]
[21,3644,22,3648,24,3653,null,null,null,null,0,222]
[21,3832,22,3835,24,3839,null,null,null,null,0,222]
[21,3945,22,3949,24,3953,null,null,null,null,0,222]
[21,4057,22,4062,24,4068,null,null,null,null,0,222]
[21,4167,22,4172,24,4176,null,null,null,null,0,222]
[21,4280,22,4284,24,4288,null,null,null,null,0,222]
[21,4388,22,4390,24,4395,null,null,null,null,0,222]
[21,4495,22,4499,24,4502,null,null,null,null,0,222]
[21,4649,22,4653,24,4660,null,null,null,null,0,222]
[21,4763,22,4767,24,4777,null,null,null,null,0,222]
[21,4875,22,4879,24,4883,null,null,null,null,0,222]
[21,4983,22,4985,24,4994,null,null,null,null,0,222]
[21,5161,22,5165,24,5172,null,null,null,null,0,222]
[21,5268,22,5274,24,5278,null,null,null,null,0,222]
[21,5381,22,5385,24,5390,null,null,null,null,0,222]
[21,5487,22,5494,24,5499,null,null,null,null,0,222]
[21,5599,22,5605,24,5609,null,null,null,null,0,222]
[21,5708,22,5711,24,5715,null,null,null,null,0,222]
[21,5813,22,5818,24,5822,null,null,null,null,0,222]
[21,5922,22,5925,24,5927,null,null,null,null,0,222]
[21,6026,22,6031,24,6035,null,null,null,null,0,222]
[21,6158,22,6161,24,6165,null,null,null,null,0,222]
[21,6335,22,6339,24,6343,null,null,null,null,0,222]
[21,6441,22,6445,24,6459,null,null,null,null,0,222]
[21,6584,22,6587,24,6592,null,null,null,null,0,222]
[21,6693,22,6698,24,6703,null,null,null,null,0,222]
[21,6803,22,6807,24,6813,null,null,null,null,0,222]
[21,6922,22,6926,24,6932,null,null,null,null,0,222]
[21,7031,22,7034,24,7039,null,null,null,null,0,222]
[21,7141,22,7144,24,7149,null,null,null,null,0,222]
[21,7251,22,7255,24,7262,null,null,null,null,0,222]
[21,7364,22,7368,24,7371,null,null,null,null,0,222]
[21,7470,22,7475,24,7478,null,null,null,null,0,222]
[21,7582,22,7586,24,7592,null,null,null,null,0,222]
[21,7836,22,7839,24,7843,null,null,null,null,0,222]
[21,7943,22,7945,24,7949,null,null,null,null,0,222]
[21,8052,22,8060,24,8066,null,null,null,null,0,222]
[21,8172,22,8176,24,8181,null,null,null,null,0,222]
[21,8281,22,8287,24,8291,null,null,null,null,0,222]
[21,8392,22,8396,24,8405,null,null,null,null,0,222]
[21,8502,22,8506,24,8510,null,null,null,null,0,222]
[21,8608,22,8612,24,8622,null,null,null,null,0,222]
[21,8788,22,8792,24,8799,null,null,null,null,0,222]
[21,8902,22,8906,24,8911,null,null,null,null,0,222]
[21,9011,22,9014,24,9019,null,null,null,null,0,222]
[21,9117,22,9121,24,9125,null,null,null,null,0,222]
[21,9416,22,9426,24,9438,null,null,null,null,0,222]
[21,9542,22,9546,24,9551,null,null,null,null,0,222]
[21,9651,22,9653,24,9657,null,null,null,null,0,222]
[21,9787,22,9792,24,9797,null,null,null,null,0,222]
[21,9897,22,9902,24,9906,null,null,null,null,0,222]
[21,10004,22,10012,24,10016,null,null,null,null,0,222]
[21,10117,22,10120,24,10125,null,null,null,null,0,222]
[21,10230,22,10238,24,10248,null,null,null,null,0,222]
[21,10347,22,10351,24,10355,null,null,null,null,0,222]
[21,10536,22,10539,24,10544,null,null,null,null,0,222]
[21,10646,22,10650,24,10654,null,null,null,null,0,222]
[21,10758,22,10762,24,10767,null,null,null,null,0,222]
[21,10866,22,10870,24,10874,null,null,null,null,0,222]
[21,10970,22,10974,24,10978,null,null,null,null,0,222]
[21,11079,22,11082,24,11087,null,null,null,null,0,222]
[21,11293,22,11297,24,11301,null,null,null,null,0,222]
[21,11413,22,11415,24,11419,null,null,null,null,0,222]
[21,11516,22,11520,24,11524,null,null,null,null,0,222]
[21,11623,22,11627,24,11631,null,null,null,null,0,222]
[21,11728,22,11733,24,11740,null,null,null,null,0,222]
[21,11841,22,11845,24,11848,null,null,null,null,0,222]
[21,11949,22,11951,24,11953,null,null,null,null,0,222]
[21,12060,22,12064,24,12070,null,null,null,null,0,222]
[21,12170,22,12174,24,12178,null,null,null,null,0,222]
[21,12286,22,12292,24,12299,null,null,null,null,0,222]
[21,12399,22,12403,24,12407,null,null,null,null,0,222]
[21,12506,22,12508,24,12509,null,null,null,null,0,222]
[21,12609,22,12618,24,12625,null,null,null,null,0,222]
[21,12875,22,12880,24,12884,null,null,null,null,0,222]
[21,12986,22,12989,24,12994,null,null,null,null,0,222]
[21,13091,22,13095,24,13100,null,null,null,null,0,222]
[21,13222,22,13227,24,13231,null,null,null,null,0,222]
[21,13380,22,13382,24,13391,null,null,null,null,0,222]
[21,13495,22,13499,24,13502,null,null,null,null,0,222]
[21,13605,22,13606,24,13610,null,null,null,null,0,222]
[21,13715,22,13719,24,13724,null,null,null,null,0,222]
[21,13826,22,13831,24,13835,null,null,null,null,0,222]
[21,13939,22,13943,24,13947,null,null,null,null,0,222]
[21,14162,22,14167,24,14174,null,null,null,null,0,222]
[21,14276,22,14278,24,14281,null,null,null,null,0,222]
[21,14381,22,14383,24,14386,null,null,null,null,0,222]
[21,14484,22,14488,24,14496,null,null,null,null,0,222]
[21,14604,22,14610,24,14617,null,null,null,null,0,222]
[21,14730,22,14736,24,14743,null,null,null,null,0,222]
[21,14969,22,14973,24,14978,null,null,null,null,0,222]
[21,15116,22,15121,24,15131,null,null,null,null,0,222]
[21,15234,22,15237,24,15241,null,null,null,null,0,222]
[21,15355,22,15360,24,15372,null,null,null,null,0,222]
[21,15479,22,15483,24,15494,null,null,null,null,0,222]
[21,15595,22,15601,24,15610,null,null,null,null,0,222]
[21,15816,22,15819,24,15825,null,null,null,null,0,222]
[21,15927,22,15930,24,15934,null,null,null,null,0,222]
[21,16031,22,16035,24,16038,null,null,null,null,0,222]
[21,16138,22,16142,24,16146,null,null,null,null,0,222]
[21,16244,22,16250,24,16254,null,null,null,null,0,222]
[21,16359,22,16364,24,16375,null,null,null,null,0,222]
[21,16592,22,16596,24,16602,null,null,null,null,0,222]
[21,16699,22,16710,24,16718,null,null,null,null,0,222]
[21,16818,22,16822,24,16828,null,null,null,null,0,222]
[21,16941,22,16945,24,16950,null,null,null,null,0,222]
[21,17052,22,17057,24,17065,null,null,null,null,0,222]
[21,17164,22,17172,24,17182,null,null,null,null,0,222]
[21,17283,22,17287,24,17293,null,null,null,null,0,222]
[21,17397,22,17405,24,17410,null,null,null,null,0,222]
[21,17508,22,17510,24,17512,null,null,null,null,0,222]
[21,17617,22,17621,24,17630,null,null,null,null,0,222]
[21,17726,22,17733,24,17738,null,null,null,null,0,222]
[21,17840,22,17843,24,17848,null,null,null,null,0,222]
[21,17954,22,17958,24,17963,null,null,null,null,0,222]
[21,18062,22,18065,24,18070,null,null,null,null,0,222]
[21,18169,22,18172,24,18177,null,null,null,null,0,222]
[21,18278,22,18280,24,18282,null,null,null,null,0,222]
[21,18462,22,18466,24,18471,null,null,null,null,0,222]
[21,18572,22,18584,24,18588,null,null,null,null,0,222]
[21,18689,22,18691,24,18694,null,null,null,null,0,222]
[21,18791,22,18794,24,18798,null,null,null,null,0,222]
[21,18898,22,18900,24,18906,null,null,null,null,0,222]
[21,19008,22,19024,24,19032,null,null,null,null,0,222]
[21,19149,22,19153,24,19157,null,null,null,null,0,222]
[21,19253,22,19255,24,19258,null,null,null,null,0,222]
[21,19374,22,19379,24,19386,null,null,null,null,0,222]
[21,19489,22,19499,24,19505,null,null,null,null,0,222]
[21,19604,22,19609,24,19613,null,null,null,null,0,222]
[21,19713,22,19717,24,19720,null,null,null,null,0,222]
[21,19862,22,19866,24,19870,null,null,null,null,0,222]
[21,19967,22,19971,24,19974,null,null,null,null,0,222]
[21,20080,22,20085,24,20091,null,null,null,null,0,222]
[21,20192,22,20195,24,20199,null,null,null,null,0,222]
[21,20296,22,20299,24,20303,null,null,null,null,0,222]
[21,20407,22,20411,24,20416,null,null,null,null,0,222]
[21,20547,22,20550,24,20555,null,null,null,null,0,222]
[21,20656,22,20664,24,20671,null,null,null,null,0,222]
[21,20770,22,20777,24,20782,null,null,null,null,0,222]
[21,20881,22,20887,24,20892,null,null,null,null,0,222]
[21,20991,22,20999,24,21006,null,null,null,null,0,222]
[21,21104,22,21107,24,21112,null,null,null,null,0,222]
[21,21211,22,21219,24,21225,null,null,null,null,0,222]
[21,21355,22,21359,24,21363,null,null,null,null,0,222]
[21,21460,22,21468,24,21472,null,null,null,null,0,222]
[21,21577,22,21581,24,21590,null,null,null,null,0,222]
[21,21687,22,21690,24,21699,null,null,null,null,0,222]
[21,21800,22,21807,24,21813,null,null,null,null,0,222]
[21,22023,22,22026,24,22032,null,null,null,null,0,222]
[21,22131,22,22143,24,22150,null,null,null,null,0,222]
[21,22246,22,22253,24,22262,null,null,null,null,0,222]
[21,22368,22,22371,24,22376,null,null,null,null,0,222]
[21,22476,22,22480,24,22485,null,null,null,null,0,222]
[21,22590,22,22594,24,22599,null,null,null,null,0,222]
[21,22706,22,22710,24,22717,null,null,null,null,0,222]
[21,22813,22,22816,24,22821,null,null,null,null,0,222]
[21,22918,22,22921,24,22926,null,null,null,null,0,222]
[21,23033,22,23037,24,23056,null,null,null,null,0,222]
[21,23154,22,23156,24,23161,null,null,null,null,0,222]
[21,23274,22,23279,24,23286,null,null,null,null,0,222]
[21,23415,22,23418,24,23424,null,null,null,null,0,222]
[21,23524,22,23531,24,23536,null,null,null,null,0,222]
[21,23753,22,23757,24,23762,null,null,null,null,0,222]
[21,23865,22,23869,24,23875,null,null,null,null,0,222]
[21,23999,22,24001,null,null,null,null,null,null,null,22]

{"sheet":"!L920A0T.ayl","index":25,"n_rows":212,"n_cols":48,"rows_kept":212,"cut":false,"hidden":false,"merged":[[4,39,4,42],[5,39,5,40],[4,44,4,47],[5,44,5,45],[4,24,4,27],[5,24,5,25],[4,29,4,32],[5,29,5,30],[4,34,4,37],[5,34,5,35],[1,1,1,2],[5,13,5,14],[18,13,18,14],[19,13,19,14],[4,19,4,22],[5,19,5,20]]}
["Report for:!L920A0T.ayl"]
["Date:","<date>"]
["Hen:","<hen>",null,null,null,"Correct Sequence",{"$f":"Start!J2","v":211},null,null,null,null,null,null,null,null,"Total Sequences in Data",{"$f":"4994-COUNTBLANK(L7:L5000)","v":206},null,null,null,null,"Total Sequences in Block Data",{"$f":"COUNTA(L7:L40)","v":34},null,null,null,"Total Sequences in Block Data",{"$f":"COUNTA(L41:L75)","v":35},null,null,null,"Total Sequences in Block Data",{"$f":"COUNTA(L76:L109)","v":34},null,null,null,"Total Sequences in Block Data",{"$f":"COUNTA(L110:L143)","v":34},null,null,null,"Total Sequences in Block Data",{"$f":"COUNTA(L144:L178)","v":35},null,null,null,"Total Sequences in Block Data",{"$f":"COUNTA(L179:L212)","v":34}]
[null,null,null,null,null,null,null,null,null,null,null,null,null,null,null,"Total Sequences in Summary",{"$f":"SUM(O7:O14)","v":206},null,null,null,null,"Total Sequences in Block Summary",{"$f":"SUM(U7:U14)","v":34},null,null,null,"Total Sequences in Block Summary",{"$f":"SUM(Z7:Z14)","v":35},null,null,null,"Total Sequences in Block Summary",{"$f":"SUM(AE7:AE14)","v":34},null,null,null,"Total Sequences in Block Summary",{"$f":"SUM(AJ7:AJ14)","v":34},null,null,null,"Total Sequences in Block Summary",{"$f":"SUM(AO7:AO14)","v":35},null,null,null,"Total Sequences in Block Summary",{"$f":"SUM(AT7:AT14)","v":34}]
[null,null,null,null,null,null,null,null,null,null,null,null,null,null,null,null,null,null,null,"Block 1",null,null,null,null,"Block 2",null,null,null,null,"Block 3",null,null,null,null,"Block 4",null,null,null,null,"Block 5",null,null,null,null,"Block 6"]
["Sequence\nComponent\n1","Time\n1","Sequence\nComponent\n2","Time\n2","Sequence\nComponent\n3","Time\n3","Sequence\nComponent\n4","Time\n4","Sequence\nComponent\n5","Time\n5","Correct?\n0=No 1=Yes","Sequence",null,"Frequency",null,"Relative Frequency","Variability",null,null,"Frequency",null,"Relative Frequency","Variability",null,"Frequency",null,"Relative Frequency","Variability",null,"Frequency",null,"Relative Frequency","Variability",null,"Frequency",null,"Relative Frequency","Variability",null,"Frequency",null,"Relative Frequency","Variability",null,"Frequency",null,"Relative Frequency","Variability"]
[21,8,22,13,24,18,null,null,null,null,0,222,null,111,{"$f":"COUNTIF($L$7:$L$500,N7)","v":0},{"$f":"O7/$Q$4","v":0},{"$f":"IF(P7=0,0,(P7*((LOG(P7))/LOG(2))))","v":0},null,null,{"$f":"N7","v":111},{"$f":"COUNTIF(L7:L40,T7)","v":0},{"$f":"U7/(W4-U11)","v":0},{"$f":"IF(V7=0,0,(V7*((LOG(V7))/LOG(2))))","v":0},null,{"$f":"N7","v":111},{"$f":"COUNTIF(L41:L75,Y7)","v":0},{"$f":"Z7/(AB4-Z11)","v":0},{"$f":"IF(AA7=0,0,(AA7*((LOG(AA7))/LOG(2))))","v":0},null,{"$f":"N7","v":111},{"$f":"COUNTIF(L76:L109,AD7)","v":0},{"$f":"AE7/(AG4-AE11)","v":0},{"$f":"IF(AF7=0,0,(AF7*((LOG(AF7))/LOG(2))))","v":0},null,{"$f":"N7","v":111},{"$f":"COUNTIF(L110:L143,AI7)","v":0},{"$f":"AJ7/(AL4-AJ11)","v":0},{"$f":"IF(AK7=0,0,(AK7*((LOG(AK7))/LOG(2))))","v":0},null,{"$f":"N7","v":111},{"$f":"COUNTIF(L144:L178,AN7)","v":0},{"$f":"AO7/(AQ4-AO11)","v":0},{"$f":"IF(AP7=0,0,(AP7*((LOG(AP7))/LOG(2))))","v":0},null,{"$f":"N7","v":111},{"$f":"COUNTIF(L179:L212,AS7)","v":0},{"$f":"AT7/(AV4-AT11)","v":0},{"$f":"IF(AU7=0,0,(AU7*((LOG(AU7))/LOG(2))))","v":0}]
[21,123,22,127,24,131,null,null,null,null,0,222,null,112,{"$f":"COUNTIF($L$7:$L$500,N8)","v":0},{"$f":"O8/$Q$4","v":0},{"$f":"IF(P8=0,0,(P8*((LOG(P8))/LOG(2))))","v":0},null,null,{"$f":"N8","v":112},{"$f":"COUNTIF(L7:L40,T8)","v":0},{"$f":"U8/(W4-U11)","v":0},{"$f":"IF(V8=0,0,(V8*((LOG(V8))/LOG(2))))","v":0},null,{"$f":"N8","v":112},{"$f":"COUNTIF(L41:L75,Y8)","v":0},{"$f":"Z8/(AB4-Z11)","v":0},{"$f":"IF(AA8=0,0,(AA8*((LOG(AA8))/LOG(2))))","v":0},null,{"$f":"N8","v":112},{"$f":"COUNTIF(L76:L109,AD8)","v":0},{"$f":"AE8/(AG4-AE11)","v":0},{"$f":"IF(AF8=0,0,(AF8*((LOG(AF8))/LOG(2))))","v":0},null,{"$f":"N8","v":112},{"$f":"COUNTIF(L110:L143,AI8)","v":0},{"$f":"AJ8/(AL4-AJ11)","v":0},{"$f":"IF(AK8=0,0,(AK8*((LOG(AK8))/LOG(2))))","v":0},null,{"$f":"N8","v":112},{"$f":"COUNTIF(L144:L178,AN8)","v":0},{"$f":"AO8/(AQ4-AO11)","v":0},{"$f":"IF(AP8=0,0,(AP8*((LOG(AP8))/LOG(2))))","v":0},null,{"$f":"N8","v":112},{"$f":"COUNTIF(L179:L212,AS8)","v":0},{"$f":"AT8/(AV4-AT11)","v":0},{"$f":"IF(AU8=0,0,(AU8*((LOG(AU8))/LOG(2))))","v":0}]
[21,229,22,234,24,237,null,null,null,null,0,222,null,121,{"$f":"COUNTIF($L$7:$L$500,N9)","v":0},{"$f":"O9/$Q$4","v":0},{"$f":"IF(P9=0,0,(P9*((LOG(P9))/LOG(2))))","v":0},null,null,{"$f":"N9","v":121},{"$f":"COUNTIF(L7:L40,T9)","v":0},{"$f":"U9/(W4-U11)","v":0},{"$f":"IF(V9=0,0,(V9*((LOG(V9))/LOG(2))))","v":0},null,{"$f":"N9","v":121},{"$f":"COUNTIF(L41:L75,Y9)","v":0},{"$f":"Z9/(AB4-Z11)","v":0},{"$f":"IF(AA9=0,0,(AA9*((LOG(AA9))/LOG(2))))","v":0},null,{"$f":"N9","v":121},{"$f":"COUNTIF(L76:L109,AD9)","v":0},{"$f":"AE9/(AG4-AE11)","v":0},{"$f":"IF(AF9=0,0,(AF9*((LOG(AF9))/LOG(2))))","v":0},null,{"$f":"N9","v":121},{"$f":"COUNTIF(L110:L143,AI9)","v":0},{"$f":"AJ9/(AL4-AJ11)","v":0},{"$f":"IF(AK9=0,0,(AK9*((LOG(AK9))/LOG(2))))","v":0},null,{"$f":"N9","v":121},{"$f":"COUNTIF(L144:L178,AN9)","v":0},{"$f":"AO9/(AQ4-AO11)","v":0},{"$f":"IF(AP9=0,0,(AP9*((LOG(AP9))/LOG(2))))","v":0},null,{"$f":"N9","v":121},{"$f":"COUNTIF(L179:L212,AS9)","v":0},{"$f":"AT9/(AV4-AT11)","v":0},{"$f":"IF(AU9=0,0,(AU9*((LOG(AU9))/LOG(2))))","v":0}]
[21,341,22,344,24,347,null,null,null,null,0,222,null,122,{"$f":"COUNTIF($L$7:$L$500,N10)","v":0},{"$f":"O10/$Q$4","v":0},{"$f":"IF(P10=0,0,(P10*((LOG(P10))/LOG(2))))","v":0},null,null,{"$f":"N10","v":122},{"$f":"COUNTIF(L7:L40,T10)","v":0},{"$f":"U10/(W4-U11)","v":0},{"$f":"IF(V10=0,0,(V10*((LOG(V10))/LOG(2))))","v":0},null,{"$f":"N10","v":122},{"$f":"COUNTIF(L41:L75,Y10)","v":0},{"$f":"Z10/(AB4-Z11)","v":0},{"$f":"IF(AA10=0,0,(AA10*((LOG(AA10))/LOG(2))))","v":0},null,{"$f":"N10","v":122},{"$f":"COUNTIF(L76:L109,AD10)","v":0},{"$f":"AE10/(AG4-AE11)","v":0},{"$f":"IF(AF10=0,0,(AF10*((LOG(AF10))/LOG(2))))","v":0},null,{"$f":"N10","v":122},{"$f":"COUNTIF(L110:L143,AI10)","v":0},{"$f":"AJ10/(AL4-AJ11)","v":0},{"$f":"IF(AK10=0,0,(AK10*((LOG(AK10))/LOG(2))))","v":0},null,{"$f":"N10","v":122},{"$f":"COUNTIF(L144:L178,AN10)","v":0},{"$f":"AO10/(AQ4-AO11)","v":0},{"$f":"IF(AP10=0,0,(AP10*((LOG(AP10))/LOG(2))))","v":0},null,{"$f":"N10","v":122},{"$f":"COUNTIF(L179:L212,AS10)","v":0},{"$f":"AT10/(AV4-AT11)","v":0},{"$f":"IF(AU10=0,0,(AU10*((LOG(AU10))/LOG(2))))","v":0}]
[21,448,22,458,24,466,null,null,null,null,0,222,null,211,{"$f":"COUNTIF($L$7:$L$500,N11)","v":0},{"$f":"O11/$Q$4","v":0},{"$f":"IF(P11=0,0,(P11*((LOG(P11))/LOG(2))))","v":0},null,null,{"$f":"N11","v":211},{"$f":"COUNTIF(L7:L40,T11)","v":0},null,null,null,{"$f":"N11","v":211},{"$f":"COUNTIF(L41:L75,Y11)","v":0},null,null,null,{"$f":"N11","v":211},{"$f":"COUNTIF(L76:L109,AD11)","v":0},null,null,null,{"$f":"N11","v":211},{"$f":"COUNTIF(L110:L143,AI11)","v":0},null,null,null,{"$f":"N11","v":211},{"$f":"COUNTIF(L144:L178,AN11)","v":0},null,null,null,{"$f":"N11","v":211},{"$f":"COUNTIF(L179:L212,AS11)","v":0}]
[21,574,22,578,24,584,null,null,null,null,0,222,null,212,{"$f":"COUNTIF($L$7:$L$500,N12)","v":0},{"$f":"O12/$Q$4","v":0},{"$f":"IF(P12=0,0,(P12*((LOG(P12))/LOG(2))))","v":0},null,null,{"$f":"N12","v":212},{"$f":"COUNTIF(L7:L40,T12)","v":0},{"$f":"U12/(W4-U11)","v":0},{"$f":"IF(V12=0,0,(V12*((LOG(V12))/LOG(2))))","v":0},null,{"$f":"N12","v":212},{"$f":"COUNTIF(L41:L75,Y12)","v":0},{"$f":"Z12/(AB4-Z11)","v":0},{"$f":"IF(AA12=0,0,(AA12*((LOG(AA12))/LOG(2))))","v":0},null,{"$f":"N12","v":212},{"$f":"COUNTIF(L76:L109,AD12)","v":0},{"$f":"AE12/(AG4-AE11)","v":0},{"$f":"IF(AF12=0,0,(AF12*((LOG(AF12))/LOG(2))))","v":0},null,{"$f":"N12","v":212},{"$f":"COUNTIF(L110:L143,AI12)","v":0},{"$f":"AJ12/(AL4-AJ11)","v":0},{"$f":"IF(AK12=0,0,(AK12*((LOG(AK12))/LOG(2))))","v":0},null,{"$f":"N12","v":212},{"$f":"COUNTIF(L144:L178,AN12)","v":0},{"$f":"AO12/(AQ4-AO11)","v":0},{"$f":"IF(AP12=0,0,(AP12*((LOG(AP12))/LOG(2))))","v":0},null,{"$f":"N12","v":212},{"$f":"COUNTIF(L179:L212,AS12)","v":0},{"$f":"AT12/(AV4-AT11)","v":0},{"$f":"IF(AU12=0,0,(AU12*((LOG(AU12))/LOG(2))))","v":0}]
[21,686,22,688,24,693,null,null,null,null,0,222,null,221,{"$f":"COUNTIF($L$7:$L$500,N13)","v":0},{"$f":"O13/$Q$4","v":0},{"$f":"IF(P13=0,0,(P13*((LOG(P13))/LOG(2))))","v":0},null,null,{"$f":"N13","v":221},{"$f":"COUNTIF(L7:L40,T13)","v":0},{"$f":"U13/(W4-U11)","v":0},{"$f":"IF(V13=0,0,(V13*((LOG(V13))/LOG(2))))","v":0},null,{"$f":"N13","v":221},{"$f":"COUNTIF(L41:L75,Y13)","v":0},{"$f":"Z13/(AB4-Z11)","v":0},{"$f":"IF(AA13=0,0,(AA13*((LOG(AA13))/LOG(2))))","v":0},null,{"$f":"N13","v":221},{"$f":"COUNTIF(L76:L109,AD13)","v":0},{"$f":"AE13/(AG4-AE11)","v":0},{"$f":"IF(AF13=0,0,(AF13*((LOG(AF13))/LOG(2))))","v":0},null,{"$f":"N13","v":221},{"$f":"COUNTIF(L110:L143,AI13)","v":0},{"$f":"AJ13/(AL4-AJ11)","v":0},{"$f":"IF(AK13=0,0,(AK13*((LOG(AK13))/LOG(2))))","v":0},null,{"$f":"N13","v":221},{"$f":"COUNTIF(L144:L178,AN13)","v":0},{"$f":"AO13/(AQ4-AO11)","v":0},{"$f":"IF(AP13=0,0,(AP13*((LOG(AP13))/LOG(2))))","v":0},null,{"$f":"N13","v":221},{"$f":"COUNTIF(L179:L212,AS13)","v":0},{"$f":"AT13/(AV4-AT11)","v":0},{"$f":"IF(AU13=0,0,(AU13*((LOG(AU13))/LOG(2))))","v":0}]
[21,805,22,809,24,814,null,null,null,null,0,222,null,222,{"$f":"COUNTIF($L$7:$L$500,N14)","v":206},{"$f":"O14/$Q$4","v":1},{"$f":"IF(P14=0,0,(P14*((LOG(P14))/LOG(2))))","v":0},null,null,{"$f":"N14","v":222},{"$f":"COUNTIF(L7:L40,T14)","v":34},{"$f":"U14/(W4-U11)","v":1},{"$f":"IF(V14=0,0,(V14*((LOG(V14))/LOG(2))))","v":0},null,{"$f":"N14","v":222},{"$f":"COUNTIF(L41:L75,Y14)","v":35},{"$f":"Z14/(AB4-Z11)","v":1},{"$f":"IF(AA14=0,0,(AA14*((LOG(AA14))/LOG(2))))","v":0},null,{"$f":"N14","v":222},{"$f":"COUNTIF(L76:L109,AD14)","v":34},{"$f":"AE14/(AG4-AE11)","v":1},{"$f":"IF(AF14=0,0,(AF14*((LOG(AF14))/LOG(2))))","v":0},null,{"$f":"N14","v":222},{"$f":"COUNTIF(L110:L143,AI14)","v":34},{"$f":"AJ14/(AL4-AJ11)","v":1},{"$f":"IF(AK14=0,0,(AK14*((LOG(AK14))/LOG(2))))","v":0},null,{"$f":"N14","v":222},{"$f":"COUNTIF(L144:L178,AN14)","v":35},{"$f":"AO14/(AQ4-AO11)","v":1},{"$f":"IF(AP14=0,0,(AP14*((LOG(AP14))/LOG(2))))","v":0},null,{"$f":"N14","v":222},{"$f":"COUNTIF(L179:L212,AS14)","v":34},{"$f":"AT14/(AV4-AT11)","v":1},{"$f":"IF(AU14=0,0,(AU14*((LOG(AU14))/LOG(2))))","v":0}]
[21,913,22,917,24,921,null,null,null,null,0,222,null,null,null,{"$f":"SUM(P7:P14)","v":1},{"$f":"-SUM(Q7:Q14)","v":0},null,null,null,null,{"$f":"SUM(V7:V14)","v":1},{"$f":"-SUM(W7:W14)","v":0},null,null,null,{"$f":"SUM(AA7:AA14)","v":1},{"$f":"-SUM(AB7:AB14)","v":0},null,null,null,{"$f":"SUM(AF7:AF14)","v":1},{"$f":"-SUM(AG7:AG14)","v":0},null,null,null,{"$f":"SUM(AK7:AK14)","v":1},{"$f":"-SUM(AL7:AL14)","v":0},null,null,null,{"$f":"SUM(AP7:AP14)","v":1},{"$f":"-SUM(AQ7:AQ14)","v":0},null,null,null,{"$f":"SUM(AU7:AU14)","v":1},{"$f":"-SUM(AV7:AV14)","v":0}]
[21,1021,22,1023,24,1027,null,null,null,null,0,222,null,null,null,"U=",{"$f":"Q15/(LOG(Q4)/LOG(2))","v":0},null,null,null,null,"U1=",{"$f":"W15/(LOG(W4)/LOG(2))","v":0},null,null,null,"U2=",{"$f":"AB15/(LOG(AB4)/LOG(2))","v":0},null,null,null,"U3=",{"$f":"AG15/(LOG(AG4)/LOG(2))","v":0},null,null,null,"U4=",{"$f":"AL15/(LOG(AL4)/LOG(2))","v":0},null,null,null,"U5=",{"$f":"AQ15/(LOG(AQ4)/LOG(2))","v":0},null,null,null,"U6=",{"$f":"AV15/(LOG(AV4)/LOG(2))","v":0}]
[21,1124,22,1127,24,1132,null,null,null,null,0,222]
[21,1237,22,1241,24,1246,null,null,null,null,0,222]
[21,1346,22,1354,24,1359,null,null,null,null,0,222,null,"Total Target Seq"]
[21,1458,22,1460,24,1462,null,null,null,null,0,222,null,{"$f":"COUNTIF(L7:L212,G3)","v":0},null,34,35,34,34,35,34]
[21,1578,22,1586,24,1591,null,null,null,null,0,222,null,null,null,"% of reinforcement given in 6 equal intervals based on number of trials "]
[21,1756,22,1758,24,1761,null,null,null,null,0,222,null,null,null,"%_1","%_2","%_3","%_4","%_5","%_6"]
[21,1858,22,1860,24,1865,null,null,null,null,0,222,null,null,"target sequence",{"$f":"$G$3","v":211},{"$f":"$G$3","v":211},{"$f":"$G$3","v":211},{"$f":"$G$3","v":211},{"$f":"$G$3","v":211},{"$f":"$G$3","v":211}]
[21,1966,22,1973,24,1976,null,null,null,null,0,222,null,null,"total reinforcement",{"$f":"U11","v":0},{"$f":"Z11","v":0},{"$f":"AE11","v":0},{"$f":"AJ11","v":0},{"$f":"AO11","v":0},{"$f":"AT11","v":0}]
[21,2081,22,2084,24,2089,null,null,null,null,0,222,null,null,"% target"]
[21,2199,22,2204,24,2210,null,null,null,null,0,222,null,null,"CCRF"]
[21,2308,22,2313,24,2317,null,null,null,null,0,222,null,null,"% CCRf"]
[21,2416,22,2423,24,2428,null,null,null,null,0,222,null,null,"average response rate",{"$f":"F40/P20","v":114.73529411764706},{"$f":"(F75-F40)/Q20","v":116.88571428571429},{"$f":"(F109-F75)/R20","v":114.94117647058823},{"$f":"(F143-F109)/S20","v":116.05882352941177},{"$f":"(F178-F143)/T20","v":113.25714285714285},{"$f":"(F212-F178)/U20","v":114.61764705882354}]
[21,2530,22,2534,24,2540,null,null,null,null,0,222]
[21,2735,22,2740,24,2746,null,null,null,null,0,222]
[21,2843,22,2859,24,2863,null,null,null,null,0,222]
[21,2962,22,2966,24,2976,null,null,null,null,0,222]
[21,3076,22,3081,24,3085,null,null,null,null,0,222]
[21,3193,22,3197,24,3201,null,null,null,null,0,222]
[21,3299,22,3310,24,3315,null,null,null,null,0,222]
[21,3445,22,3448,24,3456,null,null,null,null,0,222]
[21,3556,22,3560,24,3564,null,null,null,null,0,222]
[21,3666,22,3673,24,3678,null,null,null,null,0,222]
[21,3782,22,3786,24,3793,null,null,null,null,0,222]
[21,3893,22,3897,24,3901,null,null,null,null,0,222]
[21,4002,22,4008,24,4013,null,null,null,null,0,222]
[21,4154,22,4159,24,4163,null,null,null,null,0,222]
[21,4288,22,4293,24,4295,null,null,null,null,0,222]
[21,4398,22,4401,24,4404,null,null,null,null,0,222]
[21,4506,22,4515,24,4520,null,null,null,null,0,222]
[21,4620,22,4621,24,4627,null,null,null,null,0,222]
[21,4725,22,4728,24,4734,null,null,null,null,0,222]
[21,4861,22,4865,24,4867,null,null,null,null,0,222]
[21,4967,22,4971,24,4975,null,null,null,null,0,222]
[21,5082,22,5087,24,5093,null,null,null,null,0,222]
[21,5192,22,5194,24,5199,null,null,null,null,0,222]
[21,5296,22,5304,24,5308,null,null,null,null,0,222]
[21,5407,22,5414,24,5420,null,null,null,null,0,222]
[21,5533,22,5537,24,5548,null,null,null,null,0,222]
[21,5647,22,5652,24,5655,null,null,null,null,0,222]
[21,5756,22,5761,24,5765,null,null,null,null,0,222]
[21,5865,22,5870,24,5872,null,null,null,null,0,222]
[21,5972,22,5975,24,5980,null,null,null,null,0,222]
[21,6078,22,6081,24,6086,null,null,null,null,0,222]
[21,6191,22,6196,24,6201,null,null,null,null,0,222]
[21,6299,22,6308,24,6315,null,null,null,null,0,222]
[21,6412,22,6417,24,6420,null,null,null,null,0,222]
[21,6577,22,6580,24,6588,null,null,null,null,0,222]
[21,6737,22,6743,24,6748,null,null,null,null,0,222]
[21,6847,22,6858,24,6863,null,null,null,null,0,222]
[21,6977,22,6981,24,6987,null,null,null,null,0,222]
[21,7089,22,7094,24,7103,null,null,null,null,0,222]
[21,7202,22,7207,24,7211,null,null,null,null,0,222]
[21,7312,22,7314,24,7317,null,null,null,null,0,222]
[21,7418,22,7424,24,7429,null,null,null,null,0,222]
[21,7530,22,7533,24,7539,null,null,null,null,0,222]
[21,7641,22,7645,24,7649,null,null,null,null,0,222]
[21,7749,22,7759,24,7765,null,null,null,null,0,222]
[21,7863,22,7869,24,7873,null,null,null,null,0,222]
[21,7980,22,7985,24,7992,null,null,null,null,0,222]
[21,8131,22,8137,24,8140,null,null,null,null,0,222]
[21,8241,22,8242,24,8246,null,null,null,null,0,222]
[21,8345,22,8352,24,8356,null,null,null,null,0,222]
[21,8455,22,8460,24,8464,null,null,null,null,0,222]
[21,8568,22,8573,24,8579,null,null,null,null,0,222]
[21,8717,22,8722,24,8728,null,null,null,null,0,222]
[21,8836,22,8839,24,8845,null,null,null,null,0,222]
[21,8943,22,8946,24,8950,null,null,null,null,0,222]
[21,9066,22,9069,24,9074,null,null,null,null,0,222]
[21,9173,22,9175,24,9178,null,null,null,null,0,222]
[21,9277,22,9281,24,9287,null,null,null,null,0,222]
[21,9387,22,9391,24,9396,null,null,null,null,0,222]
[21,9493,22,9500,24,9505,null,null,null,null,0,222]
[21,9608,22,9613,24,9616,null,null,null,null,0,222]
[21,9715,22,9718,24,9722,null,null,null,null,0,222]
[21,9863,22,9869,24,9877,null,null,null,null,0,222]
[21,9975,22,9979,24,9984,null,null,null,null,0,222]
[21,10094,22,10097,24,10101,null,null,null,null,0,222]
[21,10202,22,10206,24,10211,null,null,null,null,0,222]
[21,10308,22,10311,24,10316,null,null,null,null,0,222]
[21,10421,22,10425,24,10430,null,null,null,null,0,222]
[21,10532,22,10536,24,10540,null,null,null,null,0,222]
[21,10640,22,10644,24,10646,null,null,null,null,0,222]
[21,10770,22,10774,24,10779,null,null,null,null,0,222]
[21,10877,22,10880,24,10885,null,null,null,null,0,222]
[21,10987,22,10990,24,10994,null,null,null,null,0,222]
[21,11095,22,11099,24,11104,null,null,null,null,0,222]
[21,11204,22,11207,24,11213,null,null,null,null,0,222]
[21,11311,22,11313,24,11318,null,null,null,null,0,222]
[21,11419,22,11424,24,11428,null,null,null,null,0,222]
[21,11533,22,11536,24,11539,null,null,null,null,0,222]
[21,11645,22,11653,24,11658,null,null,null,null,0,222]
[21,11779,22,11784,24,11787,null,null,null,null,0,222]
[21,11891,22,11895,24,11900,null,null,null,null,0,222]
[21,12000,22,12004,24,12007,null,null,null,null,0,222]
[21,12109,22,12111,24,12115,null,null,null,null,0,222]
[21,12211,22,12216,24,12218,null,null,null,null,0,222]
[21,12316,22,12320,24,12325,null,null,null,null,0,222]
[21,12430,22,12433,24,12439,null,null,null,null,0,222]
[21,12545,22,12548,24,12552,null,null,null,null,0,222]
[21,12649,22,12653,24,12658,null,null,null,null,0,222]
[21,12755,22,12760,24,12767,null,null,null,null,0,222]
[21,12869,22,12872,24,12876,null,null,null,null,0,222]
[21,12973,22,12978,24,12981,null,null,null,null,0,222]
[21,13081,22,13085,24,13087,null,null,null,null,0,222]
[21,13255,22,13260,24,13265,null,null,null,null,0,222]
[21,13361,22,13366,24,13372,null,null,null,null,0,222]
[21,13472,22,13477,24,13480,null,null,null,null,0,222]
[21,13628,22,13636,24,13641,null,null,null,null,0,222]
[21,13743,22,13749,24,13753,null,null,null,null,0,222]
[21,13861,22,13865,24,13872,null,null,null,null,0,222]
[21,13972,22,13977,24,13982,null,null,null,null,0,222]
[21,14078,22,14082,24,14086,null,null,null,null,0,222]
[21,14187,22,14191,24,14194,null,null,null,null,0,222]
[21,14349,22,14354,24,14359,null,null,null,null,0,222]
[21,14459,22,14463,24,14466,null,null,null,null,0,222]
[21,14569,22,14572,24,14576,null,null,null,null,0,222]
[21,14685,22,14688,24,14694,null,null,null,null,0,222]
[21,14795,22,14802,24,14806,null,null,null,null,0,222]
[21,14905,22,14912,24,14915,null,null,null,null,0,222]
[21,15013,22,15021,24,15026,null,null,null,null,0,222]
[21,15132,22,15135,24,15140,null,null,null,null,0,222]
[21,15239,22,15243,24,15248,null,null,null,null,0,222]
[21,15352,22,15357,24,15362,null,null,null,null,0,222]
[21,15462,22,15465,24,15469,null,null,null,null,0,222]
[21,15571,22,15574,24,15580,null,null,null,null,0,222]
[21,15728,22,15733,24,15741,null,null,null,null,0,222]
[21,15839,22,15843,24,15846,null,null,null,null,0,222]
[21,15948,22,15956,24,15964,null,null,null,null,0,222]
[21,16062,22,16065,24,16069,null,null,null,null,0,222]
[21,16168,22,16175,24,16179,null,null,null,null,0,222]
[21,16279,22,16283,24,16286,null,null,null,null,0,222]
[21,16383,22,16388,24,16391,null,null,null,null,0,222]
[21,16489,22,16493,24,16498,null,null,null,null,0,222]
[21,16595,22,16600,24,16603,null,null,null,null,0,222]
[21,16704,22,16708,24,16726,null,null,null,null,0,222]
[21,16824,22,16828,24,16836,null,null,null,null,0,222]
[21,16932,22,16936,24,16939,null,null,null,null,0,222]
[21,17039,22,17044,24,17046,null,null,null,null,0,222]
[21,17198,22,17202,24,17214,null,null,null,null,0,222]
[21,17313,22,17317,24,17322,null,null,null,null,0,222]
[21,17422,22,17427,24,17430,null,null,null,null,0,222]
[21,17531,22,17535,24,17539,null,null,null,null,0,222]
[21,17638,22,17640,24,17646,null,null,null,null,0,222]
[21,17805,22,17808,24,17811,null,null,null,null,0,222]
[21,17910,22,17915,24,17920,null,null,null,null,0,222]
[21,18017,22,18020,24,18024,null,null,null,null,0,222]
[21,18122,22,18130,24,18135,null,null,null,null,0,222]
[21,18237,22,18240,24,18244,null,null,null,null,0,222]
[21,18352,22,18357,24,18366,null,null,null,null,0,222]
[21,18464,22,18472,24,18477,null,null,null,null,0,222]
[21,18578,22,18582,24,18587,null,null,null,null,0,222]
[21,18688,22,18692,24,18698,null,null,null,null,0,222]
[21,18796,22,18800,24,18804,null,null,null,null,0,222]
[21,18914,22,18917,24,18926,null,null,null,null,0,222]
[21,19022,22,19026,24,19030,null,null,null,null,0,222]
[21,19148,22,19153,24,19160,null,null,null,null,0,222]
[21,19258,22,19262,24,19267,null,null,null,null,0,222]
[21,19368,22,19375,24,19386,null,null,null,null,0,222]
[21,19481,22,19485,24,19488,null,null,null,null,0,222]
[21,19587,22,19591,24,19595,null,null,null,null,0,222]
[21,19694,22,19697,24,19702,null,null,null,null,0,222]
[21,19799,22,19805,24,19810,null,null,null,null,0,222]
[21,19928,22,19932,24,19938,null,null,null,null,0,222]
[21,20073,22,20077,24,20085,null,null,null,null,0,222]
[21,20184,22,20187,24,20194,null,null,null,null,0,222]
[21,20292,22,20297,24,20300,null,null,null,null,0,222]
[21,20398,22,20403,24,20409,null,null,null,null,0,222]
[21,20508,22,20512,24,20516,null,null,null,null,0,222]
[21,20612,22,20620,24,20625,null,null,null,null,0,222]
[21,20728,22,20733,24,20744,null,null,null,null,0,222]
[21,20847,22,20852,24,20858,null,null,null,null,0,222]
[21,20955,22,20958,24,20966,null,null,null,null,0,222]
[21,21147,22,21159,24,21165,null,null,null,null,0,222]
[21,21269,22,21272,24,21277,null,null,null,null,0,222]
[21,21375,22,21379,24,21384,null,null,null,null,0,222]
[21,21484,22,21488,24,21490,null,null,null,null,0,222]
[21,21592,22,21597,24,21600,null,null,null,null,0,222]
[21,21701,22,21705,24,21710,null,null,null,null,0,222]
[21,21807,22,21815,24,21819,null,null,null,null,0,222]
[21,21919,22,21923,24,21926,null,null,null,null,0,222]
[21,22023,22,22025,24,22027,null,null,null,null,0,222]
[21,22124,22,22129,24,22136,null,null,null,null,0,222]
[21,22267,22,22271,24,22281,null,null,null,null,0,222]
[21,22406,22,22411,24,22420,null,null,null,null,0,222]
[21,22517,22,22521,24,22524,null,null,null,null,0,222]
[21,22620,22,22624,24,22629,null,null,null,null,0,222]
[21,22728,22,22732,24,22737,null,null,null,null,0,222]
[21,22836,22,22840,24,22842,null,null,null,null,0,222]
[21,22941,22,22944,24,22948,null,null,null,null,0,222]
[21,23047,22,23051,24,23055,null,null,null,null,0,222]
[21,23154,22,23160,24,23164,null,null,null,null,0,222]
[21,23261,22,23265,24,23274,null,null,null,null,0,222]
[21,23372,22,23376,24,23380,null,null,null,null,0,222]
[21,23481,22,23485,24,23490,null,null,null,null,0,222]
[21,23590,22,23595,24,23601,null,null,null,null,0,222]
[21,23697,22,23702,24,23707,null,null,null,null,0,222]

{"sheet":"!L922953..Ta","index":26,"n_rows":208,"n_cols":48,"rows_kept":208,"cut":false,"hidden":false,"merged":[[4,39,4,42],[5,39,5,40],[4,44,4,47],[5,44,5,45],[4,24,4,27],[5,24,5,25],[4,29,4,32],[5,29,5,30],[4,34,4,37],[5,34,5,35],[1,1,1,2],[5,13,5,14],[18,13,18,14],[19,13,19,14],[4,19,4,22],[5,19,5,20]]}
["Report for:!L922953..Ta"]
["Date:","<date>"]
["Hen:","<hen>",null,null,null,"Correct Sequence",{"$f":"Start!J2","v":211},null,null,null,null,null,null,null,null,"Total Sequences in Data",{"$f":"4994-COUNTBLANK(L7:L5000)","v":202},null,null,null,null,"Total Sequences in Block Data",{"$f":"COUNTA(L7:L40)","v":34},null,null,null,"Total Sequences in Block Data",{"$f":"COUNTA(L41:L73)","v":33},null,null,null,"Total Sequences in Block Data",{"$f":"COUNTA(L74:L107)","v":34},null,null,null,"Total Sequences in Block Data",{"$f":"COUNTA(L108:L141)","v":34},null,null,null,"Total Sequences in Block Data",{"$f":"COUNTA(L142:L174)","v":33},null,null,null,"Total Sequences in Block Data",{"$f":"COUNTA(L175:L208)","v":34}]
[null,null,null,null,null,null,null,null,null,null,null,null,null,null,null,"Total Sequences in Summary",{"$f":"SUM(O7:O14)","v":202},null,null,null,null,"Total Sequences in Block Summary",{"$f":"SUM(U7:U14)","v":34},null,null,null,"Total Sequences in Block Summary",{"$f":"SUM(Z7:Z14)","v":33},null,null,null,"Total Sequences in Block Summary",{"$f":"SUM(AE7:AE14)","v":34},null,null,null,"Total Sequences in Block Summary",{"$f":"SUM(AJ7:AJ14)","v":34},null,null,null,"Total Sequences in Block Summary",{"$f":"SUM(AO7:AO14)","v":33},null,null,null,"Total Sequences in Block Summary",{"$f":"SUM(AT7:AT14)","v":34}]
[null,null,null,null,null,null,null,null,null,null,null,null,null,null,null,null,null,null,null,"Block 1",null,null,null,null,"Block 2",null,null,null,null,"Block 3",null,null,null,null,"Block 4",null,null,null,null,"Block 5",null,null,null,null,"Block 6"]
["Sequence\nComponent\n1","Time\n1","Sequence\nComponent\n2","Time\n2","Sequence\nComponent\n3","Time\n3","Sequence\nComponent\n4","Time\n4","Sequence\nComponent\n5","Time\n5","Correct?\n0=No 1=Yes","Sequence",null,"Frequency",null,"Relative Frequency","Variability",null,null,"Frequency",null,"Relative Frequency","Variability",null,"Frequency",null,"Relative Frequency","Variability",null,"Frequency",null,"Relative Frequency","Variability",null,"Frequency",null,"Relative Frequency","Variability",null,"Frequency",null,"Relative Frequency","Variability",null,"Frequency",null,"Relative Frequency","Variability"]
[21,63,22,67,24,78,null,null,null,null,0,222,null,111,{"$f":"COUNTIF($L$7:$L$500,N7)","v":2},{"$f":"O7/$Q$4","v":9.9009900990099011E-3},{"$f":"IF(P7=0,0,(P7*((LOG(P7))/LOG(2))))","v":-6.5922885967839545E-2},null,null,{"$f":"N7","v":111},{"$f":"COUNTIF(L7:L40,T7)","v":2},{"$f":"U7/(W4-U11)","v":6.25E-2},{"$f":"IF(V7=0,0,(V7*((LOG(V7))/LOG(2))))","v":-0.25},null,{"$f":"N7","v":111},{"$f":"COUNTIF(L41:L73,Y7)","v":0},{"$f":"Z7/(AB4-Z11)","v":0},{"$f":"IF(AA7=0,0,(AA7*((LOG(AA7))/LOG(2))))","v":0},null,{"$f":"N7","v":111},{"$f":"COUNTIF(L74:L107,AD7)","v":0},{"$f":"AE7/(AG4-AE11)","v":0},{"$f":"IF(AF7=0,0,(AF7*((LOG(AF7))/LOG(2))))","v":0},null,{"$f":"N7","v":111},{"$f":"COUNTIF(L108:L141,AI7)","v":0},{"$f":"AJ7/(AL4-AJ11)","v":0},{"$f":"IF(AK7=0,0,(AK7*((LOG(AK7))/LOG(2))))","v":0},null,{"$f":"N7","v":111},{"$f":"COUNTIF(L142:L174,AN7)","v":0},{"$f":"AO7/(AQ4-AO11)","v":0},{"$f":"IF(AP7=0,0,(AP7*((LOG(AP7))/LOG(2))))","v":0},null,{"$f":"N7","v":111},{"$f":"COUNTIF(L175:L208,AS7)","v":0},{"$f":"AT7/(AV4-AT11)","v":0},{"$f":"IF(AU7=0,0,(AU7*((LOG(AU7))/LOG(2))))","v":0}]
[21,177,22,181,24,182,null,null,null,null,0,222,null,112,{"$f":"COUNTIF($L$7:$L$500,N8)","v":0},{"$f":"O8/$Q$4","v":0},{"$f":"IF(P8=0,0,(P8*((LOG(P8))/LOG(2))))","v":0},null,null,{"$f":"N8","v":112},{"$f":"COUNTIF(L7:L40,T8)","v":0},{"$f":"U8/(W4-U11)","v":0},{"$f":"IF(V8=0,0,(V8*((LOG(V8))/LOG(2))))","v":0},null,{"$f":"N8","v":112},{"$f":"COUNTIF(L41:L73,Y8)","v":0},{"$f":"Z8/(AB4-Z11)","v":0},{"$f":"IF(AA8=0,0,(AA8*((LOG(AA8))/LOG(2))))","v":0},null,{"$f":"N8","v":112},{"$f":"COUNTIF(L74:L107,AD8)","v":0},{"$f":"AE8/(AG4-AE11)","v":0},{"$f":"IF(AF8=0,0,(AF8*((LOG(AF8))/LOG(2))))","v":0},null,{"$f":"N8","v":112},{"$f":"COUNTIF(L108:L141,AI8)","v":0},{"$f":"AJ8/(AL4-AJ11)","v":0},{"$f":"IF(AK8=0,0,(AK8*((LOG(AK8))/LOG(2))))","v":0},null,{"$f":"N8","v":112},{"$f":"COUNTIF(L142:L174,AN8)","v":0},{"$f":"AO8/(AQ4-AO11)","v":0},{"$f":"IF(AP8=0,0,(AP8*((LOG(AP8))/LOG(2))))","v":0},null,{"$f":"N8","v":112},{"$f":"COUNTIF(L175:L208,AS8)","v":0},{"$f":"AT8/(AV4-AT11)","v":0},{"$f":"IF(AU8=0,0,(AU8*((LOG(AU8))/LOG(2))))","v":0}]
[21,290,22,298,24,303,null,null,null,null,0,222,null,121,{"$f":"COUNTIF($L$7:$L$500,N9)","v":0},{"$f":"O9/$Q$4","v":0},{"$f":"IF(P9=0,0,(P9*((LOG(P9))/LOG(2))))","v":0},null,null,{"$f":"N9","v":121},{"$f":"COUNTIF(L7:L40,T9)","v":0},{"$f":"U9/(W4-U11)","v":0},{"$f":"IF(V9=0,0,(V9*((LOG(V9))/LOG(2))))","v":0},null,{"$f":"N9","v":121},{"$f":"COUNTIF(L41:L73,Y9)","v":0},{"$f":"Z9/(AB4-Z11)","v":0},{"$f":"IF(AA9=0,0,(AA9*((LOG(AA9))/LOG(2))))","v":0},null,{"$f":"N9","v":121},{"$f":"COUNTIF(L74:L107,AD9)","v":0},{"$f":"AE9/(AG4-AE11)","v":0},{"$f":"IF(AF9=0,0,(AF9*((LOG(AF9))/LOG(2))))","v":0},null,{"$f":"N9","v":121},{"$f":"COUNTIF(L108:L141,AI9)","v":0},{"$f":"AJ9/(AL4-AJ11)","v":0},{"$f":"IF(AK9=0,0,(AK9*((LOG(AK9))/LOG(2))))","v":0},null,{"$f":"N9","v":121},{"$f":"COUNTIF(L142:L174,AN9)","v":0},{"$f":"AO9/(AQ4-AO11)","v":0},{"$f":"IF(AP9=0,0,(AP9*((LOG(AP9))/LOG(2))))","v":0},null,{"$f":"N9","v":121},{"$f":"COUNTIF(L175:L208,AS9)","v":0},{"$f":"AT9/(AV4-AT11)","v":0},{"$f":"IF(AU9=0,0,(AU9*((LOG(AU9))/LOG(2))))","v":0}]
[21,413,22,418,24,422,null,null,null,null,0,222,null,122,{"$f":"COUNTIF($L$7:$L$500,N10)","v":0},{"$f":"O10/$Q$4","v":0},{"$f":"IF(P10=0,0,(P10*((LOG(P10))/LOG(2))))","v":0},null,null,{"$f":"N10","v":122},{"$f":"COUNTIF(L7:L40,T10)","v":0},{"$f":"U10/(W4-U11)","v":0},{"$f":"IF(V10=0,0,(V10*((LOG(V10))/LOG(2))))","v":0},null,{"$f":"N10","v":122},{"$f":"COUNTIF(L41:L73,Y10)","v":0},{"$f":"Z10/(AB4-Z11)","v":0},{"$f":"IF(AA10=0,0,(AA10*((LOG(AA10))/LOG(2))))","v":0},null,{"$f":"N10","v":122},{"$f":"COUNTIF(L74:L107,AD10)","v":0},{"$f":"AE10/(AG4-AE11)","v":0},{"$f":"IF(AF10=0,0,(AF10*((LOG(AF10))/LOG(2))))","v":0},null,{"$f":"N10","v":122},{"$f":"COUNTIF(L108:L141,AI10)","v":0},{"$f":"AJ10/(AL4-AJ11)","v":0},{"$f":"IF(AK10=0,0,(AK10*((LOG(AK10))/LOG(2))))","v":0},null,{"$f":"N10","v":122},{"$f":"COUNTIF(L142:L174,AN10)","v":0},{"$f":"AO10/(AQ4-AO11)","v":0},{"$f":"IF(AP10=0,0,(AP10*((LOG(AP10))/LOG(2))))","v":0},null,{"$f":"N10","v":122},{"$f":"COUNTIF(L175:L208,AS10)","v":0},{"$f":"AT10/(AV4-AT11)","v":0},{"$f":"IF(AU10=0,0,(AU10*((LOG(AU10))/LOG(2))))","v":0}]
[12,531,13,537,13,542,null,null,null,null,0,111,null,211,{"$f":"COUNTIF($L$7:$L$500,N11)","v":2},{"$f":"O11/$Q$4","v":9.9009900990099011E-3},{"$f":"IF(P11=0,0,(P11*((LOG(P11))/LOG(2))))","v":-6.5922885967839545E-2},null,null,{"$f":"N11","v":211},{"$f":"COUNTIF(L7:L40,T11)","v":2},null,null,null,{"$f":"N11","v":211},{"$f":"COUNTIF(L41:L73,Y11)","v":0},null,null,null,{"$f":"N11","v":211},{"$f":"COUNTIF(L74:L107,AD11)","v":0},null,null,null,{"$f":"N11","v":211},{"$f":"COUNTIF(L108:L141,AI11)","v":0},null,null,null,{"$f":"N11","v":211},{"$f":"COUNTIF(L142:L174,AN11)","v":0},null,null,null,{"$f":"N11","v":211},{"$f":"COUNTIF(L175:L208,AS11)","v":0}]
[21,647,22,663,24,668,null,null,null,null,0,222,null,212,{"$f":"COUNTIF($L$7:$L$500,N12)","v":0},{"$f":"O12/$Q$4","v":0},{"$f":"IF(P12=0,0,(P12*((LOG(P12))/LOG(2))))","v":0},null,null,{"$f":"N12","v":212},{"$f":"COUNTIF(L7:L40,T12)","v":0},{"$f":"U12/(W4-U11)","v":0},{"$f":"IF(V12=0,0,(V12*((LOG(V12))/LOG(2))))","v":0},null,{"$f":"N12","v":212},{"$f":"COUNTIF(L41:L73,Y12)","v":0},{"$f":"Z12/(AB4-Z11)","v":0},{"$f":"IF(AA12=0,0,(AA12*((LOG(AA12))/LOG(2))))","v":0},null,{"$f":"N12","v":212},{"$f":"COUNTIF(L74:L107,AD12)","v":0},{"$f":"AE12/(AG4-AE11)","v":0},{"$f":"IF(AF12=0,0,(AF12*((LOG(AF12))/LOG(2))))","v":0},null,{"$f":"N12","v":212},{"$f":"COUNTIF(L108:L141,AI12)","v":0},{"$f":"AJ12/(AL4-AJ11)","v":0},{"$f":"IF(AK12=0,0,(AK12*((LOG(AK12))/LOG(2))))","v":0},null,{"$f":"N12","v":212},{"$f":"COUNTIF(L142:L174,AN12)","v":0},{"$f":"AO12/(AQ4-AO11)","v":0},{"$f":"IF(AP12=0,0,(AP12*((LOG(AP12))/LOG(2))))","v":0},null,{"$f":"N12","v":212},{"$f":"COUNTIF(L175:L208,AS12)","v":0},{"$f":"AT12/(AV4-AT11)","v":0},{"$f":"IF(AU12=0,0,(AU12*((LOG(AU12))/LOG(2))))","v":0}]
[21,821,22,831,24,836,null,null,null,null,0,222,null,221,{"$f":"COUNTIF($L$7:$L$500,N13)","v":0},{"$f":"O13/$Q$4","v":0},{"$f":"IF(P13=0,0,(P13*((LOG(P13))/LOG(2))))","v":0},null,null,{"$f":"N13","v":221},{"$f":"COUNTIF(L7:L40,T13)","v":0},{"$f":"U13/(W4-U11)","v":0},{"$f":"IF(V13=0,0,(V13*((LOG(V13))/LOG(2))))","v":0},null,{"$f":"N13","v":221},{"$f":"COUNTIF(L41:L73,Y13)","v":0},{"$f":"Z13/(AB4-Z11)","v":0},{"$f":"IF(AA13=0,0,(AA13*((LOG(AA13))/LOG(2))))","v":0},null,{"$f":"N13","v":221},{"$f":"COUNTIF(L74:L107,AD13)","v":0},{"$f":"AE13/(AG4-AE11)","v":0},{"$f":"IF(AF13=0,0,(AF13*((LOG(AF13))/LOG(2))))","v":0},null,{"$f":"N13","v":221},{"$f":"COUNTIF(L108:L141,AI13)","v":0},{"$f":"AJ13/(AL4-AJ11)","v":0},{"$f":"IF(AK13=0,0,(AK13*((LOG(AK13))/LOG(2))))","v":0},null,{"$f":"N13","v":221},{"$f":"COUNTIF(L142:L174,AN13)","v":0},{"$f":"AO13/(AQ4-AO11)","v":0},{"$f":"IF(AP13=0,0,(AP13*((LOG(AP13))/LOG(2))))","v":0},null,{"$f":"N13","v":221},{"$f":"COUNTIF(L175:L208,AS13)","v":0},{"$f":"AT13/(AV4-AT11)","v":0},{"$f":"IF(AU13=0,0,(AU13*((LOG(AU13))/LOG(2))))","v":0}]
[21,933,22,939,24,945,null,null,null,null,0,222,null,222,{"$f":"COUNTIF($L$7:$L$500,N14)","v":198},{"$f":"O14/$Q$4","v":0.98019801980198018},{"$f":"IF(P14=0,0,(P14*((LOG(P14))/LOG(2))))","v":-2.8283479252933955E-2},null,null,{"$f":"N14","v":222},{"$f":"COUNTIF(L7:L40,T14)","v":30},{"$f":"U14/(W4-U11)","v":0.9375},{"$f":"IF(V14=0,0,(V14*((LOG(V14))/LOG(2))))","v":-8.729006661701387E-2},null,{"$f":"N14","v":222},{"$f":"COUNTIF(L41:L73,Y14)","v":33},{"$f":"Z14/(AB4-Z11)","v":1},{"$f":"IF(AA14=0,0,(AA14*((LOG(AA14))/LOG(2))))","v":0},null,{"$f":"N14","v":222},{"$f":"COUNTIF(L74:L107,AD14)","v":34},{"$f":"AE14/(AG4-AE11)","v":1},{"$f":"IF(AF14=0,0,(AF14*((LOG(AF14))/LOG(2))))","v":0},null,{"$f":"N14","v":222},{"$f":"COUNTIF(L108:L141,AI14)","v":34},{"$f":"AJ14/(AL4-AJ11)","v":1},{"$f":"IF(AK14=0,0,(AK14*((LOG(AK14))/LOG(2))))","v":0},null,{"$f":"N14","v":222},{"$f":"COUNTIF(L142:L174,AN14)","v":33},{"$f":"AO14/(AQ4-AO11)","v":1},{"$f":"IF(AP14=0,0,(AP14*((LOG(AP14))/LOG(2))))","v":0},null,{"$f":"N14","v":222},{"$f":"COUNTIF(L175:L208,AS14)","v":34},{"$f":"AT14/(AV4-AT11)","v":1},{"$f":"IF(AU14=0,0,(AU14*((LOG(AU14))/LOG(2))))","v":0}]
[21,1042,22,1047,24,1055,null,null,null,null,0,222,null,null,null,{"$f":"SUM(P7:P14)","v":1},{"$f":"-SUM(Q7:Q14)","v":0.16012925118861304},null,null,null,null,{"$f":"SUM(V7:V14)","v":1},{"$f":"-SUM(W7:W14)","v":0.33729006661701388},null,null,null,{"$f":"SUM(AA7:AA14)","v":1},{"$f":"-SUM(AB7:AB14)","v":0},null,null,null,{"$f":"SUM(AF7:AF14)","v":1},{"$f":"-SUM(AG7:AG14)","v":0},null,null,null,{"$f":"SUM(AK7:AK14)","v":1},{"$f":"-SUM(AL7:AL14)","v":0},null,null,null,{"$f":"SUM(AP7:AP14)","v":1},{"$f":"-SUM(AQ7:AQ14)","v":0},null,null,null,{"$f":"SUM(AU7:AU14)","v":1},{"$f":"-SUM(AV7:AV14)","v":0}]
[21,1168,11,1181,11,1186,null,null,null,null,0,211,null,null,null,"U=",{"$f":"Q15/(LOG(Q4)/LOG(2))","v":2.0909484094199293E-2},null,null,null,null,"U1=",{"$f":"W15/(LOG(W4)/LOG(2))","v":6.6298286030157721E-2},null,null,null,"U2=",{"$f":"AB15/(LOG(AB4)/LOG(2))","v":0},null,null,null,"U3=",{"$f":"AG15/(LOG(AG4)/LOG(2))","v":0},null,null,null,"U4=",{"$f":"AL15/(LOG(AL4)/LOG(2))","v":0},null,null,null,"U5=",{"$f":"AQ15/(LOG(AQ4)/LOG(2))","v":0},null,null,null,"U6=",{"$f":"AV15/(LOG(AV4)/LOG(2))","v":0}]
[12,1316,13,1318,13,1320,null,null,null,null,0,111]
[21,1417,22,1420,24,1422,null,null,null,null,0,222]
[21,1523,22,1528,24,1530,null,null,null,null,0,222,null,"Total Target Seq"]
[21,1635,22,1638,24,1642,null,null,null,null,0,222,null,{"$f":"COUNTIF(L7:L208,G3)","v":2},null,34,33,34,34,33,34]
[21,1738,22,1740,24,1743,null,null,null,null,0,222,null,null,null,"% of reinforcement given in 6 equal intervals based on number of trials "]
[21,1836,22,1840,24,1852,null,null,null,null,0,222,null,null,null,"%_1","%_2","%_3","%_4","%_5","%_6"]
[21,1964,22,1970,24,1977,null,null,null,null,0,222,null,null,"target sequence",{"$f":"$G$3","v":211},{"$f":"$G$3","v":211},{"$f":"$G$3","v":211},{"$f":"$G$3","v":211},{"$f":"$G$3","v":211},{"$f":"$G$3","v":211}]
[21,2094,22,2102,24,2105,null,null,null,null,0,222,null,null,"total reinforcement",{"$f":"U11","v":2},{"$f":"Z11","v":0},{"$f":"AE11","v":0},{"$f":"AJ11","v":0},{"$f":"AO11","v":0},{"$f":"AT11","v":0}]
[21,2200,22,2203,24,2206,null,null,null,null,0,222,null,null,"% target"]
[21,2391,22,2401,24,2405,null,null,null,null,0,222,null,null,"CCRF"]
[21,2503,22,2507,24,2510,null,null,null,null,0,222,null,null,"% CCRf"]
[21,2610,22,2613,24,2618,null,null,null,null,0,222,null,null,"average response rate",{"$f":"F40/P20","v":115.94117647058823},{"$f":"(F73-F40)/Q20","v":114.63636363636364},{"$f":"(F107-F73)/R20","v":116.11764705882354},{"$f":"(F141-F107)/S20","v":121.97058823529412},{"$f":"(F174-F141)/T20","v":114.54545454545455},{"$f":"(F208-F174)/U20","v":127.32352941176471}]
[21,2714,22,2722,24,2726,null,null,null,null,0,222]
[21,2821,11,2836,11,2843,null,null,null,null,0,211]
[21,2954,22,2960,24,2965,null,null,null,null,0,222]
[21,3063,22,3066,24,3072,null,null,null,null,0,222]
[21,3165,22,3171,24,3175,null,null,null,null,0,222]
[21,3275,22,3280,24,3290,null,null,null,null,0,222]
[21,3386,22,3389,24,3393,null,null,null,null,0,222]
[21,3495,22,3496,24,3500,null,null,null,null,0,222]
[21,3599,22,3601,24,3603,null,null,null,null,0,222]
[21,3703,22,3708,24,3713,null,null,null,null,0,222]
[21,3814,22,3820,24,3825,null,null,null,null,0,222]
[21,3925,22,3938,24,3942,null,null,null,null,0,222]
[21,4043,22,4050,24,4052,null,null,null,null,0,222]
[21,4152,22,4156,24,4160,null,null,null,null,0,222]
[21,4261,22,4269,24,4272,null,null,null,null,0,222]
[21,4374,22,4378,24,4381,null,null,null,null,0,222]
[21,4534,22,4543,24,4549,null,null,null,null,0,222]
[21,4647,22,4651,24,4659,null,null,null,null,0,222]
[21,4756,22,4761,24,4765,null,null,null,null,0,222]
[21,4874,22,4878,24,4883,null,null,null,null,0,222]
[21,4987,22,4990,24,4996,null,null,null,null,0,222]
[21,5107,22,5111,24,5116,null,null,null,null,0,222]
[21,5214,22,5218,24,5223,null,null,null,null,0,222]
[21,5321,22,5324,24,5328,null,null,null,null,0,222]
[21,5426,22,5431,24,5434,null,null,null,null,0,222]
[21,5539,22,5542,24,5547,null,null,null,null,0,222]
[21,5644,22,5649,24,5653,null,null,null,null,0,222]
[21,5781,22,5785,24,5790,null,null,null,null,0,222]
[21,5891,22,5896,24,5900,null,null,null,null,0,222]
[21,5995,22,5999,24,6003,null,null,null,null,0,222]
[21,6101,22,6105,24,6109,null,null,null,null,0,222]
[21,6223,22,6227,24,6232,null,null,null,null,0,222]
[21,6345,22,6351,24,6356,null,null,null,null,0,222]
[21,6454,22,6459,24,6463,null,null,null,null,0,222]
[21,6560,22,6566,24,6572,null,null,null,null,0,222]
[21,6669,22,6673,24,6678,null,null,null,null,0,222]
[21,6814,22,6818,24,6830,null,null,null,null,0,222]
[21,6928,22,6933,24,6937,null,null,null,null,0,222]
[21,7037,22,7043,24,7047,null,null,null,null,0,222]
[21,7144,22,7150,24,7155,null,null,null,null,0,222]
[21,7251,22,7255,24,7259,null,null,null,null,0,222]
[21,7358,22,7362,24,7365,null,null,null,null,0,222]
[21,7465,22,7469,24,7472,null,null,null,null,0,222]
[21,7570,22,7573,24,7580,null,null,null,null,0,222]
[21,7715,22,7721,24,7725,null,null,null,null,0,222]
[21,7822,22,7826,24,7830,null,null,null,null,0,222]
[21,7937,22,7942,24,7948,null,null,null,null,0,222]
[21,8059,22,8064,24,8073,null,null,null,null,0,222]
[21,8173,22,8178,24,8182,null,null,null,null,0,222]
[21,8290,22,8294,24,8301,null,null,null,null,0,222]
[21,8399,22,8406,24,8410,null,null,null,null,0,222]
[21,8509,22,8514,24,8517,null,null,null,null,0,222]
[21,8615,22,8622,24,8627,null,null,null,null,0,222]
[21,8725,22,8730,24,8745,null,null,null,null,0,222]
[21,8842,22,8846,24,8850,null,null,null,null,0,222]
[21,8953,22,8957,24,8964,null,null,null,null,0,222]
[21,9066,22,9069,24,9074,null,null,null,null,0,222]
[21,9192,22,9197,24,9203,null,null,null,null,0,222]
[21,9301,22,9305,24,9310,null,null,null,null,0,222]
[21,9449,22,9453,24,9456,null,null,null,null,0,222]
[21,9577,22,9582,24,9586,null,null,null,null,0,222]
[21,9690,22,9693,24,9699,null,null,null,null,0,222]
[21,9804,22,9810,24,9815,null,null,null,null,0,222]
[21,9985,22,9992,24,10000,null,null,null,null,0,222]
[21,10111,22,10117,24,10125,null,null,null,null,0,222]
[21,10224,22,10228,24,10231,null,null,null,null,0,222]
[21,10333,22,10336,24,10342,null,null,null,null,0,222]
[21,10440,22,10444,24,10448,null,null,null,null,0,222]
[21,10587,22,10590,24,10600,null,null,null,null,0,222]
[21,10699,22,10705,24,10709,null,null,null,null,0,222]
[21,10810,22,10814,24,10819,null,null,null,null,0,222]
[21,10924,22,10929,24,10933,null,null,null,null,0,222]
[21,11031,22,11035,24,11039,null,null,null,null,0,222]
[21,11133,22,11135,24,11145,null,null,null,null,0,222]
[21,11243,22,11250,24,11254,null,null,null,null,0,222]
[21,11351,22,11353,24,11355,null,null,null,null,0,222]
[21,11452,22,11455,24,11456,null,null,null,null,0,222]
[21,11555,22,11559,24,11565,null,null,null,null,0,222]
[21,11664,22,11667,24,11673,null,null,null,null,0,222]
[21,11776,22,11780,24,11786,null,null,null,null,0,222]
[21,11890,22,11894,24,11897,null,null,null,null,0,222]
[21,12109,22,12113,24,12118,null,null,null,null,0,222]
[21,12256,22,12260,24,12264,null,null,null,null,0,222]
[21,12363,22,12365,24,12367,null,null,null,null,0,222]
[21,12536,22,12540,24,12546,null,null,null,null,0,222]
[21,12722,22,12727,24,12731,null,null,null,null,0,222]
[21,12832,22,12839,24,12844,null,null,null,null,0,222]
[21,12943,22,12947,24,12952,null,null,null,null,0,222]
[21,13051,22,13055,24,13060,null,null,null,null,0,222]
[21,13159,22,13162,24,13167,null,null,null,null,0,222]
[21,13262,22,13266,24,13270,null,null,null,null,0,222]
[21,13367,22,13371,24,13375,null,null,null,null,0,222]
[21,13556,22,13561,24,13565,null,null,null,null,0,222]
[21,13663,22,13666,24,13670,null,null,null,null,0,222]
[21,13770,22,13775,24,13781,null,null,null,null,0,222]
[21,13880,22,13893,24,13898,null,null,null,null,0,222]
[21,13994,22,13997,24,14002,null,null,null,null,0,222]
[21,14103,22,14109,24,14115,null,null,null,null,0,222]
[21,14228,22,14233,24,14236,null,null,null,null,0,222]
[21,14334,22,14339,24,14342,null,null,null,null,0,222]
[21,14448,22,14452,24,14456,null,null,null,null,0,222]
[21,14557,22,14561,24,14566,null,null,null,null,0,222]
[21,14667,22,14671,24,14681,null,null,null,null,0,222]
[21,14782,22,14785,24,14791,null,null,null,null,0,222]
[21,14892,22,14897,24,14904,null,null,null,null,0,222]
[21,15001,22,15006,24,15010,null,null,null,null,0,222]
[21,15110,22,15114,24,15117,null,null,null,null,0,222]
[21,15222,22,15225,24,15233,null,null,null,null,0,222]
[21,15335,22,15339,24,15343,null,null,null,null,0,222]
[21,15441,22,15445,24,15451,null,null,null,null,0,222]
[21,15547,22,15554,24,15560,null,null,null,null,0,222]
[21,15697,22,15701,24,15715,null,null,null,null,0,222]
[21,15811,22,15816,24,15820,null,null,null,null,0,222]
[21,15915,22,15921,24,15925,null,null,null,null,0,222]
[21,16024,22,16029,24,16033,null,null,null,null,0,222]
[21,16143,22,16147,24,16151,null,null,null,null,0,222]
[21,16263,22,16270,24,16275,null,null,null,null,0,222]
[21,16374,22,16378,24,16383,null,null,null,null,0,222]
[21,16485,22,16489,24,16493,null,null,null,null,0,222]
[21,16591,22,16595,24,16599,null,null,null,null,0,222]
[21,16699,22,16703,24,16707,null,null,null,null,0,222]
[21,16811,22,16822,24,16834,null,null,null,null,0,222]
[21,16934,22,16939,24,16944,null,null,null,null,0,222]
[21,17073,22,17078,24,17082,null,null,null,null,0,222]
[21,17184,22,17186,24,17189,null,null,null,null,0,222]
[21,17288,22,17292,24,17298,null,null,null,null,0,222]
[21,17397,22,17402,24,17407,null,null,null,null,0,222]
[21,17504,22,17506,24,17510,null,null,null,null,0,222]
[21,17647,22,17651,24,17657,null,null,null,null,0,222]
[21,17766,22,17769,24,17774,null,null,null,null,0,222]
[21,17871,22,17874,24,17878,null,null,null,null,0,222]
[21,17986,22,17990,24,17994,null,null,null,null,0,222]
[21,18103,22,18108,24,18113,null,null,null,null,0,222]
[21,18216,22,18219,24,18225,null,null,null,null,0,222]
[21,18329,22,18334,24,18341,null,null,null,null,0,222]
[21,18447,22,18450,24,18456,null,null,null,null,0,222]
[21,18558,22,18562,24,18568,null,null,null,null,0,222]
[21,18674,22,18679,24,18683,null,null,null,null,0,222]
[21,18838,22,18842,24,18844,null,null,null,null,0,222]
[21,18943,22,18946,24,18951,null,null,null,null,0,222]
[21,19047,22,19052,24,19055,null,null,null,null,0,222]
[21,19153,22,19157,24,19160,null,null,null,null,0,222]
[21,19258,22,19265,24,19270,null,null,null,null,0,222]
[21,19368,22,19373,24,19376,null,null,null,null,0,222]
[21,19474,22,19487,24,19494,null,null,null,null,0,222]
[21,19592,22,19595,24,19600,null,null,null,null,0,222]
[21,19698,22,19702,24,19705,null,null,null,null,0,222]
[21,19805,22,19811,24,19816,null,null,null,null,0,222]
[21,19913,22,19920,24,19925,null,null,null,null,0,222]
[21,20017,22,20028,24,20032,null,null,null,null,0,222]
[21,20133,22,20139,24,20143,null,null,null,null,0,222]
[21,20318,22,20328,24,20334,null,null,null,null,0,222]
[21,20453,22,20462,24,20468,null,null,null,null,0,222]
[21,20651,22,20655,24,20660,null,null,null,null,0,222]
[21,20812,22,20814,24,20819,null,null,null,null,0,222]
[21,20916,22,20922,24,20925,null,null,null,null,0,222]
[21,21111,22,21115,24,21122,null,null,null,null,0,222]
[21,21220,22,21225,24,21229,null,null,null,null,0,222]
[21,21330,22,21334,24,21337,null,null,null,null,0,222]
[21,21629,22,21630,24,21634,null,null,null,null,0,222]
[21,21738,22,21743,24,21748,null,null,null,null,0,222]
[21,21871,22,21875,24,21879,null,null,null,null,0,222]
[21,21980,22,21984,24,21989,null,null,null,null,0,222]
[21,22087,22,22091,24,22095,null,null,null,null,0,222]
[21,22193,22,22202,24,22207,null,null,null,null,0,222]
[21,22315,22,22319,24,22324,null,null,null,null,0,222]
[21,22434,22,22437,24,22441,null,null,null,null,0,222]
[21,22543,22,22548,24,22551,null,null,null,null,0,222]
[21,22656,22,22660,24,22666,null,null,null,null,0,222]
[21,22766,22,22770,24,22781,null,null,null,null,0,222]
[21,22881,22,22887,24,22899,null,null,null,null,0,222]
[21,23012,22,23016,24,23019,null,null,null,null,0,222]
[21,23127,22,23130,24,23136,null,null,null,null,0,222]
[21,23234,22,23239,24,23244,null,null,null,null,0,222]
[21,23341,22,23345,24,23348,null,null,null,null,0,222]
[21,23453,22,23455,24,23458,null,null,null,null,0,222]
[21,23557,22,23560,24,23569,null,null,null,null,0,222]
[21,23667,22,23670,24,23676,null,null,null,null,0,222]
[21,23777,22,23780,24,23786,null,null,null,null,0,222]
[21,23921,22,23925,24,23929,null,null,null,null,null,222]

{"sheet":"!L923A53..Ta","index":27,"n_rows":195,"n_cols":48,"rows_kept":195,"cut":false,"hidden":false,"merged":[[4,39,4,42],[5,39,5,40],[4,44,4,47],[5,44,5,45],[4,24,4,27],[5,24,5,25],[4,29,4,32],[5,29,5,30],[4,34,4,37],[5,34,5,35],[1,1,1,2],[5,13,5,14],[18,13,18,14],[19,13,19,14],[4,19,4,22],[5,19,5,20]]}
["Report for:!L923A53..Ta"]
["Date:","<date>"]
["Hen:","<hen>",null,null,null,"Correct Sequence",{"$f":"Start!J2","v":211},null,null,null,null,null,null,null,null,"Total Sequences in Data",{"$f":"4994-COUNTBLANK(L7:L5000)","v":189},null,null,null,null,"Total Sequences in Block Data",{"$f":"COUNTA(L7:L38)","v":32},null,null,null,"Total Sequences in Block Data",{"$f":"COUNTA(L39:L69)","v":31},null,null,null,"Total Sequences in Block Data",{"$f":"COUNTA(L70:L101)","v":32},null,null,null,"Total Sequences in Block Data",{"$f":"COUNTA(L102:L132)","v":31},null,null,null,"Total Sequences in Block Data",{"$f":"COUNTA(L133:L164)","v":32},null,null,null,"Total Sequences in Block Data",{"$f":"COUNTA(L165:L195)","v":31}]
[null,null,null,null,null,null,null,null,null,null,null,null,null,null,null,"Total Sequences in Summary",{"$f":"SUM(O7:O14)","v":189},null,null,null,null,"Total Sequences in Block Summary",{"$f":"SUM(U7:U14)","v":32},null,null,null,"Total Sequences in Block Summary",{"$f":"SUM(Z7:Z14)","v":31},null,null,null,"Total Sequences in Block Summary",{"$f":"SUM(AE7:AE14)","v":32},null,null,null,"Total Sequences in Block Summary",{"$f":"SUM(AJ7:AJ14)","v":31},null,null,null,"Total Sequences in Block Summary",{"$f":"SUM(AO7:AO14)","v":32},null,null,null,"Total Sequences in Block Summary",{"$f":"SUM(AT7:AT14)","v":31}]
[null,null,null,null,null,null,null,null,null,null,null,null,null,null,null,null,null,null,null,"Block 1",null,null,null,null,"Block 2",null,null,null,null,"Block 3",null,null,null,null,"Block 4",null,null,null,null,"Block 5",null,null,null,null,"Block 6"]
["Sequence\nComponent\n1","Time\n1","Sequence\nComponent\n2","Time\n2","Sequence\nComponent\n3","Time\n3","Sequence\nComponent\n4","Time\n4","Sequence\nComponent\n5","Time\n5","Correct?\n0=No 1=Yes","Sequence",null,"Frequency",null,"Relative Frequency","Variability",null,null,"Frequency",null,"Relative Frequency","Variability",null,"Frequency",null,"Relative Frequency","Variability",null,"Frequency",null,"Relative Frequency","Variability",null,"Frequency",null,"Relative Frequency","Variability",null,"Frequency",null,"Relative Frequency","Variability",null,"Frequency",null,"Relative Frequency","Variability"]
[12,547,13,550,24,564,null,null,null,null,0,112,null,111,{"$f":"COUNTIF($L$7:$L$500,N7)","v":3},{"$f":"O7/$Q$4","v":1.5873015873015872E-2},{"$f":"IF(P7=0,0,(P7*((LOG(P7))/LOG(2))))","v":-9.4877459103173273E-2},null,null,{"$f":"N7","v":111},{"$f":"COUNTIF(L7:L38,T7)","v":3},{"$f":"U7/(W4-U11)","v":9.375E-2},{"$f":"IF(V7=0,0,(V7*((LOG(V7))/LOG(2))))","v":-0.32015976555739156},null,{"$f":"N7","v":111},{"$f":"COUNTIF(L39:L69,Y7)","v":0},{"$f":"Z7/(AB4-Z11)","v":0},{"$f":"IF(AA7=0,0,(AA7*((LOG(AA7))/LOG(2))))","v":0},null,{"$f":"N7","v":111},{"$f":"COUNTIF(L70:L101,AD7)","v":0},{"$f":"AE7/(AG4-AE11)","v":0},{"$f":"IF(AF7=0,0,(AF7*((LOG(AF7))/LOG(2))))","v":0},null,{"$f":"N7","v":111},{"$f":"COUNTIF(L102:L132,AI7)","v":0},{"$f":"AJ7/(AL4-AJ11)","v":0},{"$f":"IF(AK7=0,0,(AK7*((LOG(AK7))/LOG(2))))","v":0},null,{"$f":"N7","v":111},{"$f":"COUNTIF(L133:L164,AN7)","v":0},{"$f":"AO7/(AQ4-AO11)","v":0},{"$f":"IF(AP7=0,0,(AP7*((LOG(AP7))/LOG(2))))","v":0},null,{"$f":"N7","v":111},{"$f":"COUNTIF(L165:L195,AS7)","v":0},{"$f":"AT7/(AV4-AT11)","v":0},{"$f":"IF(AU7=0,0,(AU7*((LOG(AU7))/LOG(2))))","v":0}]
[12,723,13,728,13,740,null,null,null,null,0,111,null,112,{"$f":"COUNTIF($L$7:$L$500,N8)","v":2},{"$f":"O8/$Q$4","v":1.0582010582010581E-2},{"$f":"IF(P8=0,0,(P8*((LOG(P8))/LOG(2))))","v":-6.9441718774826161E-2},null,null,{"$f":"N8","v":112},{"$f":"COUNTIF(L7:L38,T8)","v":2},{"$f":"U8/(W4-U11)","v":6.25E-2},{"$f":"IF(V8=0,0,(V8*((LOG(V8))/LOG(2))))","v":-0.25},null,{"$f":"N8","v":112},{"$f":"COUNTIF(L39:L69,Y8)","v":0},{"$f":"Z8/(AB4-Z11)","v":0},{"$f":"IF(AA8=0,0,(AA8*((LOG(AA8))/LOG(2))))","v":0},null,{"$f":"N8","v":112},{"$f":"COUNTIF(L70:L101,AD8)","v":0},{"$f":"AE8/(AG4-AE11)","v":0},{"$f":"IF(AF8=0,0,(AF8*((LOG(AF8))/LOG(2))))","v":0},null,{"$f":"N8","v":112},{"$f":"COUNTIF(L102:L132,AI8)","v":0},{"$f":"AJ8/(AL4-AJ11)","v":0},{"$f":"IF(AK8=0,0,(AK8*((LOG(AK8))/LOG(2))))","v":0},null,{"$f":"N8","v":112},{"$f":"COUNTIF(L133:L164,AN8)","v":0},{"$f":"AO8/(AQ4-AO11)","v":0},{"$f":"IF(AP8=0,0,(AP8*((LOG(AP8))/LOG(2))))","v":0},null,{"$f":"N8","v":112},{"$f":"COUNTIF(L165:L195,AS8)","v":0},{"$f":"AT8/(AV4-AT11)","v":0},{"$f":"IF(AU8=0,0,(AU8*((LOG(AU8))/LOG(2))))","v":0}]
[21,856,22,862,24,865,null,null,null,null,0,222,null,121,{"$f":"COUNTIF($L$7:$L$500,N9)","v":0},{"$f":"O9/$Q$4","v":0},{"$f":"IF(P9=0,0,(P9*((LOG(P9))/LOG(2))))","v":0},null,null,{"$f":"N9","v":121},{"$f":"COUNTIF(L7:L38,T9)","v":0},{"$f":"U9/(W4-U11)","v":0},{"$f":"IF(V9=0,0,(V9*((LOG(V9))/LOG(2))))","v":0},null,{"$f":"N9","v":121},{"$f":"COUNTIF(L39:L69,Y9)","v":0},{"$f":"Z9/(AB4-Z11)","v":0},{"$f":"IF(AA9=0,0,(AA9*((LOG(AA9))/LOG(2))))","v":0},null,{"$f":"N9","v":121},{"$f":"COUNTIF(L70:L101,AD9)","v":0},{"$f":"AE9/(AG4-AE11)","v":0},{"$f":"IF(AF9=0,0,(AF9*((LOG(AF9))/LOG(2))))","v":0},null,{"$f":"N9","v":121},{"$f":"COUNTIF(L102:L132,AI9)","v":0},{"$f":"AJ9/(AL4-AJ11)","v":0},{"$f":"IF(AK9=0,0,(AK9*((LOG(AK9))/LOG(2))))","v":0},null,{"$f":"N9","v":121},{"$f":"COUNTIF(L133:L164,AN9)","v":0},{"$f":"AO9/(AQ4-AO11)","v":0},{"$f":"IF(AP9=0,0,(AP9*((LOG(AP9))/LOG(2))))","v":0},null,{"$f":"N9","v":121},{"$f":"COUNTIF(L165:L195,AS9)","v":0},{"$f":"AT9/(AV4-AT11)","v":0},{"$f":"IF(AU9=0,0,(AU9*((LOG(AU9))/LOG(2))))","v":0}]
[21,997,22,1000,24,1006,null,null,null,null,0,222,null,122,{"$f":"COUNTIF($L$7:$L$500,N10)","v":8},{"$f":"O10/$Q$4","v":4.2328042328042326E-2},{"$f":"IF(P10=0,0,(P10*((LOG(P10))/LOG(2))))","v":-0.19311079044321999},null,null,{"$f":"N10","v":122},{"$f":"COUNTIF(L7:L38,T10)","v":2},{"$f":"U10/(W4-U11)","v":6.25E-2},{"$f":"IF(V10=0,0,(V10*((LOG(V10))/LOG(2))))","v":-0.25},null,{"$f":"N10","v":122},{"$f":"COUNTIF(L39:L69,Y10)","v":4},{"$f":"Z10/(AB4-Z11)","v":0.12903225806451613},{"$f":"IF(AA10=0,0,(AA10*((LOG(AA10))/LOG(2))))","v":-0.38118662069508069},null,{"$f":"N10","v":122},{"$f":"COUNTIF(L70:L101,AD10)","v":1},{"$f":"AE10/(AG4-AE11)","v":3.125E-2},{"$f":"IF(AF10=0,0,(AF10*((LOG(AF10))/LOG(2))))","v":-0.15625},null,{"$f":"N10","v":122},{"$f":"COUNTIF(L102:L132,AI10)","v":1},{"$f":"AJ10/(AL4-AJ11)","v":3.2258064516129031E-2},{"$f":"IF(AK10=0,0,(AK10*((LOG(AK10))/LOG(2))))","v":-0.15981278420602821},null,{"$f":"N10","v":122},{"$f":"COUNTIF(L133:L164,AN10)","v":0},{"$f":"AO10/(AQ4-AO11)","v":0},{"$f":"IF(AP10=0,0,(AP10*((LOG(AP10))/LOG(2))))","v":0},null,{"$f":"N10","v":122},{"$f":"COUNTIF(L165:L195,AS10)","v":0},{"$f":"AT10/(AV4-AT11)","v":0},{"$f":"IF(AU10=0,0,(AU10*((LOG(AU10))/LOG(2))))","v":0}]
[12,1108,13,1113,13,1118,null,null,null,null,0,111,null,211,{"$f":"COUNTIF($L$7:$L$500,N11)","v":0},{"$f":"O11/$Q$4","v":0},{"$f":"IF(P11=0,0,(P11*((LOG(P11))/LOG(2))))","v":0},null,null,{"$f":"N11","v":211},{"$f":"COUNTIF(L7:L38,T11)","v":0},null,null,null,{"$f":"N11","v":211},{"$f":"COUNTIF(L39:L69,Y11)","v":0},null,null,null,{"$f":"N11","v":211},{"$f":"COUNTIF(L70:L101,AD11)","v":0},null,null,null,{"$f":"N11","v":211},{"$f":"COUNTIF(L102:L132,AI11)","v":0},null,null,null,{"$f":"N11","v":211},{"$f":"COUNTIF(L133:L164,AN11)","v":0},null,null,null,{"$f":"N11","v":211},{"$f":"COUNTIF(L165:L195,AS11)","v":0}]
[21,1226,22,1229,24,1235,null,null,null,null,0,222,null,212,{"$f":"COUNTIF($L$7:$L$500,N12)","v":0},{"$f":"O12/$Q$4","v":0},{"$f":"IF(P12=0,0,(P12*((LOG(P12))/LOG(2))))","v":0},null,null,{"$f":"N12","v":212},{"$f":"COUNTIF(L7:L38,T12)","v":0},{"$f":"U12/(W4-U11)","v":0},{"$f":"IF(V12=0,0,(V12*((LOG(V12))/LOG(2))))","v":0},null,{"$f":"N12","v":212},{"$f":"COUNTIF(L39:L69,Y12)","v":0},{"$f":"Z12/(AB4-Z11)","v":0},{"$f":"IF(AA12=0,0,(AA12*((LOG(AA12))/LOG(2))))","v":0},null,{"$f":"N12","v":212},{"$f":"COUNTIF(L70:L101,AD12)","v":0},{"$f":"AE12/(AG4-AE11)","v":0},{"$f":"IF(AF12=0,0,(AF12*((LOG(AF12))/LOG(2))))","v":0},null,{"$f":"N12","v":212},{"$f":"COUNTIF(L102:L132,AI12)","v":0},{"$f":"AJ12/(AL4-AJ11)","v":0},{"$f":"IF(AK12=0,0,(AK12*((LOG(AK12))/LOG(2))))","v":0},null,{"$f":"N12","v":212},{"$f":"COUNTIF(L133:L164,AN12)","v":0},{"$f":"AO12/(AQ4-AO11)","v":0},{"$f":"IF(AP12=0,0,(AP12*((LOG(AP12))/LOG(2))))","v":0},null,{"$f":"N12","v":212},{"$f":"COUNTIF(L165:L195,AS12)","v":0},{"$f":"AT12/(AV4-AT11)","v":0},{"$f":"IF(AU12=0,0,(AU12*((LOG(AU12))/LOG(2))))","v":0}]
[12,1333,24,1344,24,1347,null,null,null,null,0,122,null,221,{"$f":"COUNTIF($L$7:$L$500,N13)","v":0},{"$f":"O13/$Q$4","v":0},{"$f":"IF(P13=0,0,(P13*((LOG(P13))/LOG(2))))","v":0},null,null,{"$f":"N13","v":221},{"$f":"COUNTIF(L7:L38,T13)","v":0},{"$f":"U13/(W4-U11)","v":0},{"$f":"IF(V13=0,0,(V13*((LOG(V13))/LOG(2))))","v":0},null,{"$f":"N13","v":221},{"$f":"COUNTIF(L39:L69,Y13)","v":0},{"$f":"Z13/(AB4-Z11)","v":0},{"$f":"IF(AA13=0,0,(AA13*((LOG(AA13))/LOG(2))))","v":0},null,{"$f":"N13","v":221},{"$f":"COUNTIF(L70:L101,AD13)","v":0},{"$f":"AE13/(AG4-AE11)","v":0},{"$f":"IF(AF13=0,0,(AF13*((LOG(AF13))/LOG(2))))","v":0},null,{"$f":"N13","v":221},{"$f":"COUNTIF(L102:L132,AI13)","v":0},{"$f":"AJ13/(AL4-AJ11)","v":0},{"$f":"IF(AK13=0,0,(AK13*((LOG(AK13))/LOG(2))))","v":0},null,{"$f":"N13","v":221},{"$f":"COUNTIF(L133:L164,AN13)","v":0},{"$f":"AO13/(AQ4-AO11)","v":0},{"$f":"IF(AP13=0,0,(AP13*((LOG(AP13))/LOG(2))))","v":0},null,{"$f":"N13","v":221},{"$f":"COUNTIF(L165:L195,AS13)","v":0},{"$f":"AT13/(AV4-AT11)","v":0},{"$f":"IF(AU13=0,0,(AU13*((LOG(AU13))/LOG(2))))","v":0}]
[21,1460,22,1464,24,1470,null,null,null,null,0,222,null,222,{"$f":"COUNTIF($L$7:$L$500,N14)","v":176},{"$f":"O14/$Q$4","v":0.93121693121693117},{"$f":"IF(P14=0,0,(P14*((LOG(P14))/LOG(2))))","v":-9.5739162871663938E-2},null,null,{"$f":"N14","v":222},{"$f":"COUNTIF(L7:L38,T14)","v":25},{"$f":"U14/(W4-U11)","v":0.78125},{"$f":"IF(V14=0,0,(V14*((LOG(V14))/LOG(2))))","v":-0.27823735173849634},null,{"$f":"N14","v":222},{"$f":"COUNTIF(L39:L69,Y14)","v":27},{"$f":"Z14/(AB4-Z11)","v":0.87096774193548387},{"$f":"IF(AA14=0,0,(AA14*((LOG(AA14))/LOG(2))))","v":-0.17359154264619289},null,{"$f":"N14","v":222},{"$f":"COUNTIF(L70:L101,AD14)","v":31},{"$f":"AE14/(AG4-AE11)","v":0.96875},{"$f":"IF(AF14=0,0,(AF14*((LOG(AF14))/LOG(2))))","v":-4.4372324312714644E-2},null,{"$f":"N14","v":222},{"$f":"COUNTIF(L102:L132,AI14)","v":30},{"$f":"AJ14/(AL4-AJ11)","v":0.967741935483871},{"$f":"IF(AK14=0,0,(AK14*((LOG(AK14))/LOG(2))))","v":-4.5779723979054811E-2},null,{"$f":"N14","v":222},{"$f":"COUNTIF(L133:L164,AN14)","v":32},{"$f":"AO14/(AQ4-AO11)","v":1},{"$f":"IF(AP14=0,0,(AP14*((LOG(AP14))/LOG(2))))","v":0},null,{"$f":"N14","v":222},{"$f":"COUNTIF(L165:L195,AS14)","v":31},{"$f":"AT14/(AV4-AT11)","v":1},{"$f":"IF(AU14=0,0,(AU14*((LOG(AU14))/LOG(2))))","v":0}]
[21,1581,22,1586,24,1593,null,null,null,null,0,222,null,null,null,{"$f":"SUM(P7:P14)","v":1},{"$f":"-SUM(Q7:Q14)","v":0.45316913119288338},null,null,null,null,{"$f":"SUM(V7:V14)","v":1},{"$f":"-SUM(W7:W14)","v":1.098397117295888},null,null,null,{"$f":"SUM(AA7:AA14)","v":1},{"$f":"-SUM(AB7:AB14)","v":0.55477816334127361},null,null,null,{"$f":"SUM(AF7:AF14)","v":1},{"$f":"-SUM(AG7:AG14)","v":0.20062232431271465},null,null,null,{"$f":"SUM(AK7:AK14)","v":1},{"$f":"-SUM(AL7:AL14)","v":0.20559250818508301},null,null,null,{"$f":"SUM(AP7:AP14)","v":1},{"$f":"-SUM(AQ7:AQ14)","v":0},null,null,null,{"$f":"SUM(AU7:AU14)","v":1},{"$f":"-SUM(AV7:AV14)","v":0}]
[21,1703,22,1707,24,1713,null,null,null,null,0,222,null,null,null,"U=",{"$f":"Q15/(LOG(Q4)/LOG(2))","v":5.9925231931395109E-2},null,null,null,null,"U1=",{"$f":"W15/(LOG(W4)/LOG(2))","v":0.2196794234591776},null,null,null,"U2=",{"$f":"AB15/(LOG(AB4)/LOG(2))","v":0.11198146552613107},null,null,null,"U3=",{"$f":"AG15/(LOG(AG4)/LOG(2))","v":4.0124464862542931E-2},null,null,null,"U4=",{"$f":"AL15/(LOG(AL4)/LOG(2))","v":4.1498659985281898E-2},null,null,null,"U5=",{"$f":"AQ15/(LOG(AQ4)/LOG(2))","v":0},null,null,null,"U6=",{"$f":"AV15/(LOG(AV4)/LOG(2))","v":0}]
[21,1810,22,1813,24,1819,null,null,null,null,0,222]
[12,1959,13,1964,13,1970,null,null,null,null,0,111]
[21,2072,22,2096,24,2099,null,null,null,null,0,222,null,"Total Target Seq"]
[21,2201,22,2205,24,2218,null,null,null,null,0,222,null,{"$f":"COUNTIF(L7:L195,G3)","v":0},null,32,31,32,31,32,31]
[21,2314,22,2322,24,2330,null,null,null,null,0,222,null,null,null,"% of reinforcement given in 6 equal intervals based on number of trials "]
[21,2434,22,2438,24,2441,null,null,null,null,0,222,null,null,null,"%_1","%_2","%_3","%_4","%_5","%_6"]
[21,2587,22,2591,24,2596,null,null,null,null,0,222,null,null,"target sequence",{"$f":"$G$3","v":211},{"$f":"$G$3","v":211},{"$f":"$G$3","v":211},{"$f":"$G$3","v":211},{"$f":"$G$3","v":211},{"$f":"$G$3","v":211}]
[21,2697,22,2700,24,2704,null,null,null,null,0,222,null,null,"total reinforcement",{"$f":"U11","v":0},{"$f":"Z11","v":0},{"$f":"AE11","v":0},{"$f":"AJ11","v":0},{"$f":"AO11","v":0},{"$f":"AT11","v":0}]
[21,2803,22,2807,24,2810,null,null,null,null,0,222,null,null,"% target"]
[12,2948,13,2965,24,2980,null,null,null,null,0,112,null,null,"CCRF"]
[21,3078,22,3082,24,3084,null,null,null,null,0,222,null,null,"% CCRf"]
[21,3187,22,3193,24,3197,null,null,null,null,0,222,null,null,"average response rate",{"$f":"F38/P20","v":136.9375},{"$f":"(F69-F38)/Q20","v":123.41935483870968},{"$f":"(F101-F69)/R20","v":124.5},{"$f":"(F132-F101)/S20","v":121.41935483870968},{"$f":"(F164-F132)/T20","v":125.375},{"$f":"(F195-F164)/U20","v":129.2258064516129}]
[21,3295,22,3299,24,3306,null,null,null,null,0,222]
[21,3407,22,3410,24,3414,null,null,null,null,0,222]
[21,3512,22,3520,24,3532,null,null,null,null,0,222]
[21,3659,22,3663,24,3672,null,null,null,null,0,222]
[21,3769,22,3774,24,3777,null,null,null,null,0,222]
[12,3874,24,3880,24,3884,null,null,null,null,0,122]
[21,4044,22,4047,24,4058,null,null,null,null,0,222]
[21,4155,22,4159,24,4163,null,null,null,null,0,222]
[21,4259,22,4267,24,4278,null,null,null,null,0,222]
[21,4375,22,4379,24,4382,null,null,null,null,0,222]
[21,4515,22,4526,24,4537,null,null,null,null,0,222]
[21,4639,22,4643,24,4647,null,null,null,null,0,222]
[21,4745,22,4749,24,4755,null,null,null,null,0,222]
[12,4852,24,4865,24,4874,null,null,null,null,0,122]
[21,4976,22,4980,24,4985,null,null,null,null,0,222]
[12,5088,24,5096,24,5100,null,null,null,null,0,122]
[12,5202,24,5209,24,5213,null,null,null,null,0,122]
[21,5324,22,5331,24,5340,null,null,null,null,0,222]
[21,5445,22,5448,24,5453,null,null,null,null,0,222]
[21,5552,22,5560,24,5565,null,null,null,null,0,222]
[21,5669,22,5673,24,5678,null,null,null,null,0,222]
[21,5849,22,5853,24,5858,null,null,null,null,0,222]
[21,5967,22,5971,24,5976,null,null,null,null,0,222]
[21,6081,22,6085,24,6121,null,null,null,null,0,222]
[21,6232,22,6235,24,6241,null,null,null,null,0,222]
[21,6350,22,6355,24,6361,null,null,null,null,0,222]
[21,6498,22,6511,24,6520,null,null,null,null,0,222]
[21,6674,22,6677,24,6682,null,null,null,null,0,222]
[21,6786,22,6790,24,6793,null,null,null,null,0,222]
[12,6890,24,6905,24,6910,null,null,null,null,0,122]
[21,7008,22,7016,24,7021,null,null,null,null,0,222]
[21,7129,22,7134,24,7137,null,null,null,null,0,222]
[21,7246,22,7250,24,7256,null,null,null,null,0,222]
[21,7352,22,7357,24,7362,null,null,null,null,0,222]
[21,7466,22,7474,24,7479,null,null,null,null,0,222]
[21,7613,22,7617,24,7623,null,null,null,null,0,222]
[21,7724,22,7731,24,7734,null,null,null,null,0,222]
[21,7834,22,7838,24,7842,null,null,null,null,0,222]
[21,7952,22,7956,24,7960,null,null,null,null,0,222]
[21,8067,22,8070,24,8081,null,null,null,null,0,222]
[21,8181,22,8194,24,8208,null,null,null,null,0,222]
[21,8307,22,8315,24,8322,null,null,null,null,0,222]
[21,8429,22,8433,24,8439,null,null,null,null,0,222]
[21,8551,22,8554,24,8560,null,null,null,null,0,222]
[21,8702,22,8706,24,8712,null,null,null,null,0,222]
[21,8872,22,8876,24,8880,null,null,null,null,0,222]
[21,8990,22,8995,24,9002,null,null,null,null,0,222]
[21,9127,22,9131,24,9136,null,null,null,null,0,222]
[21,9241,22,9245,24,9252,null,null,null,null,0,222]
[21,9355,22,9358,24,9363,null,null,null,null,0,222]
[21,9460,22,9464,24,9468,null,null,null,null,0,222]
[21,9565,22,9568,24,9572,null,null,null,null,0,222]
[21,9695,22,9705,24,9714,null,null,null,null,0,222]
[21,9816,22,9824,24,9835,null,null,null,null,0,222]
[21,9980,22,9984,24,9988,null,null,null,null,0,222]
[21,10087,22,10095,24,10100,null,null,null,null,0,222]
[21,10203,22,10207,24,10211,null,null,null,null,0,222]
[21,10311,22,10315,24,10319,null,null,null,null,0,222]
[21,10448,22,10451,24,10462,null,null,null,null,0,222]
[21,10594,22,10598,24,10608,null,null,null,null,0,222]
[21,10705,22,10709,24,10718,null,null,null,null,0,222]
[21,10818,22,10825,24,10830,null,null,null,null,0,222]
[21,10933,22,10937,24,10942,null,null,null,null,0,222]
[21,11042,22,11045,24,11054,null,null,null,null,0,222]
[21,11164,22,11170,24,11175,null,null,null,null,0,222]
[21,11273,22,11277,24,11281,null,null,null,null,0,222]
[21,11458,22,11465,24,11468,null,null,null,null,0,222]
[21,11572,22,11597,24,11605,null,null,null,null,0,222]
[21,11703,22,11707,24,11712,null,null,null,null,0,222]
[12,11810,24,11823,24,11826,null,null,null,null,0,122]
[21,11943,22,11956,24,11963,null,null,null,null,0,222]
[21,12070,22,12074,24,12078,null,null,null,null,0,222]
[21,12182,22,12187,24,12192,null,null,null,null,0,222]
[21,12292,22,12296,24,12300,null,null,null,null,0,222]
[21,12406,22,12409,24,12414,null,null,null,null,0,222]
[21,12512,22,12516,24,12532,null,null,null,null,0,222]
[21,12630,22,12634,24,12638,null,null,null,null,0,222]
[21,12740,22,12744,24,12748,null,null,null,null,0,222]
[21,12919,22,12925,24,12930,null,null,null,null,0,222]
[21,13030,22,13034,24,13039,null,null,null,null,0,222]
[21,13203,22,13209,24,13219,null,null,null,null,0,222]
[21,13324,22,13330,24,13337,null,null,null,null,0,222]
[21,13439,22,13442,24,13446,null,null,null,null,0,222]
[21,13546,22,13550,24,13559,null,null,null,null,0,222]
[21,13687,22,13691,24,13696,null,null,null,null,0,222]
[21,13861,22,13871,24,13876,null,null,null,null,0,222]
[21,13973,22,13977,24,13981,null,null,null,null,0,222]
[21,14078,22,14081,24,14086,null,null,null,null,0,222]
[21,14183,22,14190,24,14195,null,null,null,null,0,222]
[21,14293,22,14296,24,14300,null,null,null,null,0,222]
[21,14399,22,14405,24,14410,null,null,null,null,0,222]
[21,14509,22,14516,24,14521,null,null,null,null,0,222]
[21,14626,22,14631,24,14644,null,null,null,null,0,222]
[21,14769,22,14773,24,14795,null,null,null,null,0,222]
[21,14907,22,14910,24,14920,null,null,null,null,0,222]
[21,15017,22,15021,24,15025,null,null,null,null,0,222]
[21,15126,22,15130,24,15134,null,null,null,null,0,222]
[21,15243,22,15247,24,15254,null,null,null,null,0,222]
[21,15350,22,15358,24,15362,null,null,null,null,0,222]
[21,15465,22,15469,24,15474,null,null,null,null,0,222]
[21,15572,22,15574,24,15578,null,null,null,null,0,222]
[12,15677,24,15689,24,15692,null,null,null,null,0,122]
[21,15833,22,15838,24,15844,null,null,null,null,0,222]
[21,15948,22,15952,24,15956,null,null,null,null,0,222]
[21,16055,22,16060,24,16065,null,null,null,null,0,222]
[21,16164,22,16168,24,16173,null,null,null,null,0,222]
[21,16272,22,16279,24,16288,null,null,null,null,0,222]
[21,16421,22,16427,24,16436,null,null,null,null,0,222]
[21,16532,22,16546,24,16555,null,null,null,null,0,222]
[21,16655,22,16659,24,16666,null,null,null,null,0,222]
[21,16797,22,16805,24,16812,null,null,null,null,0,222]
[21,16914,22,16921,24,16924,null,null,null,null,0,222]
[21,17023,22,17027,24,17031,null,null,null,null,0,222]
[21,17214,22,17218,24,17226,null,null,null,null,0,222]
[21,17332,22,17335,24,17338,null,null,null,null,0,222]
[21,17434,22,17441,24,17447,null,null,null,null,0,222]
[21,17548,22,17550,24,17554,null,null,null,null,0,222]
[21,17650,22,17654,24,17660,null,null,null,null,0,222]
[21,17757,22,17764,24,17767,null,null,null,null,0,222]
[21,17880,22,17883,24,17889,null,null,null,null,0,222]
[21,17985,22,17989,24,17992,null,null,null,null,0,222]
[21,18097,22,18100,24,18108,null,null,null,null,0,222]
[21,18208,22,18210,24,18215,null,null,null,null,0,222]
[21,18312,22,18320,24,18327,null,null,null,null,0,222]
[21,18425,22,18430,24,18434,null,null,null,null,0,222]
[21,18571,22,18576,24,18583,null,null,null,null,0,222]
[21,18713,22,18719,24,18732,null,null,null,null,0,222]
[21,18839,22,18842,24,18847,null,null,null,null,0,222]
[21,18947,22,18950,24,18957,null,null,null,null,0,222]
[21,19084,22,19092,24,19102,null,null,null,null,0,222]
[21,19199,22,19203,24,19207,null,null,null,null,0,222]
[21,19305,22,19312,24,19327,null,null,null,null,0,222]
[21,19425,22,19429,24,19433,null,null,null,null,0,222]
[21,19537,22,19541,24,19546,null,null,null,null,0,222]
[21,19648,22,19651,24,19658,null,null,null,null,0,222]
[21,19769,22,19775,24,19968,null,null,null,null,0,222]
[21,20067,22,20073,24,20081,null,null,null,null,0,222]
[21,20190,22,20194,24,20200,null,null,null,null,0,222]
[21,20300,22,20304,24,20308,null,null,null,null,0,222]
[21,20406,22,20410,24,20413,null,null,null,null,0,222]
[21,20511,22,20515,24,20518,null,null,null,null,0,222]
[21,20635,22,20639,24,20643,null,null,null,null,0,222]
[21,20747,22,20752,24,20758,null,null,null,null,0,222]
[21,20955,22,20958,24,20966,null,null,null,null,0,222]
[21,21112,22,21116,24,21120,null,null,null,null,0,222]
[21,21226,22,21232,24,21237,null,null,null,null,0,222]
[21,21342,22,21346,24,21351,null,null,null,null,0,222]
[21,21458,22,21463,24,21473,null,null,null,null,0,222]
[21,21577,22,21580,24,21586,null,null,null,null,0,222]
[21,21682,22,21686,24,21689,null,null,null,null,0,222]
[21,21857,22,21861,24,21870,null,null,null,null,0,222]
[21,21982,22,21989,24,21996,null,null,null,null,0,222]
[21,22119,22,22124,24,22129,null,null,null,null,0,222]
[21,22235,22,22241,24,22244,null,null,null,null,0,222]
[21,22349,22,22353,24,22360,null,null,null,null,0,222]
[21,22461,22,22464,24,22468,null,null,null,null,0,222]
[21,22566,22,22570,24,22575,null,null,null,null,0,222]
[21,22676,22,22680,24,22689,null,null,null,null,0,222]
[21,22796,22,22802,24,22806,null,null,null,null,0,222]
[21,22906,22,22910,24,22914,null,null,null,null,0,222]
[21,23021,22,23025,24,23036,null,null,null,null,0,222]
[21,23137,22,23141,24,23147,null,null,null,null,0,222]
[21,23388,22,23394,24,23403,null,null,null,null,0,222]
[21,23634,22,23638,24,23642,null,null,null,null,0,222]
[21,23746,22,23750,24,23755,null,null,null,null,0,222]
[21,23852,22,23858,24,23862,null,null,null,null,0,222]
[21,23966,22,23969,24,23974,null,null,null,null,null,222]

{"sheet":"!L924A03..Ta","index":28,"n_rows":197,"n_cols":48,"rows_kept":197,"cut":false,"hidden":false,"merged":[[4,39,4,42],[5,39,5,40],[4,44,4,47],[5,44,5,45],[4,24,4,27],[5,24,5,25],[4,29,4,32],[5,29,5,30],[4,34,4,37],[5,34,5,35],[1,1,1,2],[5,13,5,14],[18,13,18,14],[19,13,19,14],[4,19,4,22],[5,19,5,20]]}
["Report for:!L924A03..Ta"]
["Date:","<date>"]
["Hen:","<hen>",null,null,null,"Correct Sequence",{"$f":"Start!J2","v":211},null,null,null,null,null,null,null,null,"Total Sequences in Data",{"$f":"4994-COUNTBLANK(L7:L5000)","v":191},null,null,null,null,"Total Sequences in Block Data",{"$f":"COUNTA(L7:L38)","v":32},null,null,null,"Total Sequences in Block Data",{"$f":"COUNTA(L39:L70)","v":32},null,null,null,"Total Sequences in Block Data",{"$f":"COUNTA(L71:L101)","v":31},null,null,null,"Total Sequences in Block Data",{"$f":"COUNTA(L102:L133)","v":32},null,null,null,"Total Sequences in Block Data",{"$f":"COUNTA(L134:L165)","v":32},null,null,null,"Total Sequences in Block Data",{"$f":"COUNTA(L166:L197)","v":32}]
[null,null,null,null,null,null,null,null,null,null,null,null,null,null,null,"Total Sequences in Summary",{"$f":"SUM(O7:O14)","v":191},null,null,null,null,"Total Sequences in Block Summary",{"$f":"SUM(U7:U14)","v":32},null,null,null,"Total Sequences in Block Summary",{"$f":"SUM(Z7:Z14)","v":32},null,null,null,"Total Sequences in Block Summary",{"$f":"SUM(AE7:AE14)","v":31},null,null,null,"Total Sequences in Block Summary",{"$f":"SUM(AJ7:AJ14)","v":32},null,null,null,"Total Sequences in Block Summary",{"$f":"SUM(AO7:AO14)","v":32},null,null,null,"Total Sequences in Block Summary",{"$f":"SUM(AT7:AT14)","v":32}]
[null,null,null,null,null,null,null,null,null,null,null,null,null,null,null,null,null,null,null,"Block 1",null,null,null,null,"Block 2",null,null,null,null,"Block 3",null,null,null,null,"Block 4",null,null,null,null,"Block 5",null,null,null,null,"Block 6"]
["Sequence\nComponent\n1","Time\n1","Sequence\nComponent\n2","Time\n2","Sequence\nComponent\n3","Time\n3","Sequence\nComponent\n4","Time\n4","Sequence\nComponent\n5","Time\n5","Correct?\n0=No 1=Yes","Sequence",null,"Frequency",null,"Relative Frequency","Variability",null,null,"Frequency",null,"Relative Frequency","Variability",null,"Frequency",null,"Relative Frequency","Variability",null,"Frequency",null,"Relative Frequency","Variability",null,"Frequency",null,"Relative Frequency","Variability",null,"Frequency",null,"Relative Frequency","Variability",null,"Frequency",null,"Relative Frequency","Variability"]
[21,22,22,75,24,79,null,null,null,null,0,222,null,111,{"$f":"COUNTIF($L$7:$L$500,N7)","v":19},{"$f":"O7/$Q$4","v":9.947643979057591E-2},{"$f":"IF(P7=0,0,(P7*((LOG(P7))/LOG(2))))","v":-0.33120693705367066},null,null,{"$f":"N7","v":111},{"$f":"COUNTIF(L7:L38,T7)","v":3},{"$f":"U7/(W4-U11)","v":9.6774193548387094E-2},{"$f":"IF(V7=0,0,(V7*((LOG(V7))/LOG(2))))","v":-0.32605488480635986},null,{"$f":"N7","v":111},{"$f":"COUNTIF(L39:L70,Y7)","v":1},{"$f":"Z7/(AB4-Z11)","v":3.125E-2},{"$f":"IF(AA7=0,0,(AA7*((LOG(AA7))/LOG(2))))","v":-0.15625},null,{"$f":"N7","v":111},{"$f":"COUNTIF(L71:L101,AD7)","v":4},{"$f":"AE7/(AG4-AE11)","v":0.12903225806451613},{"$f":"IF(AF7=0,0,(AF7*((LOG(AF7))/LOG(2))))","v":-0.38118662069508069},null,{"$f":"N7","v":111},{"$f":"COUNTIF(L102:L133,AI7)","v":5},{"$f":"AJ7/(AL4-AJ11)","v":0.15625},{"$f":"IF(AK7=0,0,(AK7*((LOG(AK7))/LOG(2))))","v":-0.41844873517384967},null,{"$f":"N7","v":111},{"$f":"COUNTIF(L134:L165,AN7)","v":2},{"$f":"AO7/(AQ4-AO11)","v":6.25E-2},{"$f":"IF(AP7=0,0,(AP7*((LOG(AP7))/LOG(2))))","v":-0.25},null,{"$f":"N7","v":111},{"$f":"COUNTIF(L166:L197,AS7)","v":4},{"$f":"AT7/(AV4-AT11)","v":0.125},{"$f":"IF(AU7=0,0,(AU7*((LOG(AU7))/LOG(2))))","v":-0.375}]
[12,185,13,193,13,199,null,null,null,null,0,111,null,112,{"$f":"COUNTIF($L$7:$L$500,N8)","v":1},{"$f":"O8/$Q$4","v":5.235602094240838E-3},{"$f":"IF(P8=0,0,(P8*((LOG(P8))/LOG(2))))","v":-3.9672402241024862E-2},null,null,{"$f":"N8","v":112},{"$f":"COUNTIF(L7:L38,T8)","v":0},{"$f":"U8/(W4-U11)","v":0},{"$f":"IF(V8=0,0,(V8*((LOG(V8))/LOG(2))))","v":0},null,{"$f":"N8","v":112},{"$f":"COUNTIF(L39:L70,Y8)","v":0},{"$f":"Z8/(AB4-Z11)","v":0},{"$f":"IF(AA8=0,0,(AA8*((LOG(AA8))/LOG(2))))","v":0},null,{"$f":"N8","v":112},{"$f":"COUNTIF(L71:L101,AD8)","v":0},{"$f":"AE8/(AG4-AE11)","v":0},{"$f":"IF(AF8=0,0,(AF8*((LOG(AF8))/LOG(2))))","v":0},null,{"$f":"N8","v":112},{"$f":"COUNTIF(L102:L133,AI8)","v":0},{"$f":"AJ8/(AL4-AJ11)","v":0},{"$f":"IF(AK8=0,0,(AK8*((LOG(AK8))/LOG(2))))","v":0},null,{"$f":"N8","v":112},{"$f":"COUNTIF(L134:L165,AN8)","v":1},{"$f":"AO8/(AQ4-AO11)","v":3.125E-2},{"$f":"IF(AP8=0,0,(AP8*((LOG(AP8))/LOG(2))))","v":-0.15625},null,{"$f":"N8","v":112},{"$f":"COUNTIF(L166:L197,AS8)","v":0},{"$f":"AT8/(AV4-AT11)","v":0},{"$f":"IF(AU8=0,0,(AU8*((LOG(AU8))/LOG(2))))","v":0}]
[21,306,11,317,11,323,null,null,null,null,0,211,null,121,{"$f":"COUNTIF($L$7:$L$500,N9)","v":0},{"$f":"O9/$Q$4","v":0},{"$f":"IF(P9=0,0,(P9*((LOG(P9))/LOG(2))))","v":0},null,null,{"$f":"N9","v":121},{"$f":"COUNTIF(L7:L38,T9)","v":0},{"$f":"U9/(W4-U11)","v":0},{"$f":"IF(V9=0,0,(V9*((LOG(V9))/LOG(2))))","v":0},null,{"$f":"N9","v":121},{"$f":"COUNTIF(L39:L70,Y9)","v":0},{"$f":"Z9/(AB4-Z11)","v":0},{"$f":"IF(AA9=0,0,(AA9*((LOG(AA9))/LOG(2))))","v":0},null,{"$f":"N9","v":121},{"$f":"COUNTIF(L71:L101,AD9)","v":0},{"$f":"AE9/(AG4-AE11)","v":0},{"$f":"IF(AF9=0,0,(AF9*((LOG(AF9))/LOG(2))))","v":0},null,{"$f":"N9","v":121},{"$f":"COUNTIF(L102:L133,AI9)","v":0},{"$f":"AJ9/(AL4-AJ11)","v":0},{"$f":"IF(AK9=0,0,(AK9*((LOG(AK9))/LOG(2))))","v":0},null,{"$f":"N9","v":121},{"$f":"COUNTIF(L134:L165,AN9)","v":0},{"$f":"AO9/(AQ4-AO11)","v":0},{"$f":"IF(AP9=0,0,(AP9*((LOG(AP9))/LOG(2))))","v":0},null,{"$f":"N9","v":121},{"$f":"COUNTIF(L166:L197,AS9)","v":0},{"$f":"AT9/(AV4-AT11)","v":0},{"$f":"IF(AU9=0,0,(AU9*((LOG(AU9))/LOG(2))))","v":0}]
[12,440,13,443,13,447,null,null,null,null,0,111,null,122,{"$f":"COUNTIF($L$7:$L$500,N10)","v":0},{"$f":"O10/$Q$4","v":0},{"$f":"IF(P10=0,0,(P10*((LOG(P10))/LOG(2))))","v":0},null,null,{"$f":"N10","v":122},{"$f":"COUNTIF(L7:L38,T10)","v":0},{"$f":"U10/(W4-U11)","v":0},{"$f":"IF(V10=0,0,(V10*((LOG(V10))/LOG(2))))","v":0},null,{"$f":"N10","v":122},{"$f":"COUNTIF(L39:L70,Y10)","v":0},{"$f":"Z10/(AB4-Z11)","v":0},{"$f":"IF(AA10=0,0,(AA10*((LOG(AA10))/LOG(2))))","v":0},null,{"$f":"N10","v":122},{"$f":"COUNTIF(L71:L101,AD10)","v":0},{"$f":"AE10/(AG4-AE11)","v":0},{"$f":"IF(AF10=0,0,(AF10*((LOG(AF10))/LOG(2))))","v":0},null,{"$f":"N10","v":122},{"$f":"COUNTIF(L102:L133,AI10)","v":0},{"$f":"AJ10/(AL4-AJ11)","v":0},{"$f":"IF(AK10=0,0,(AK10*((LOG(AK10))/LOG(2))))","v":0},null,{"$f":"N10","v":122},{"$f":"COUNTIF(L134:L165,AN10)","v":0},{"$f":"AO10/(AQ4-AO11)","v":0},{"$f":"IF(AP10=0,0,(AP10*((LOG(AP10))/LOG(2))))","v":0},null,{"$f":"N10","v":122},{"$f":"COUNTIF(L166:L197,AS10)","v":0},{"$f":"AT10/(AV4-AT11)","v":0},{"$f":"IF(AU10=0,0,(AU10*((LOG(AU10))/LOG(2))))","v":0}]
[21,545,22,548,24,553,null,null,null,null,0,222,null,211,{"$f":"COUNTIF($L$7:$L$500,N11)","v":1},{"$f":"O11/$Q$4","v":5.235602094240838E-3},{"$f":"IF(P11=0,0,(P11*((LOG(P11))/LOG(2))))","v":-3.9672402241024862E-2},null,null,{"$f":"N11","v":211},{"$f":"COUNTIF(L7:L38,T11)","v":1},null,null,null,{"$f":"N11","v":211},{"$f":"COUNTIF(L39:L70,Y11)","v":0},null,null,null,{"$f":"N11","v":211},{"$f":"COUNTIF(L71:L101,AD11)","v":0},null,null,null,{"$f":"N11","v":211},{"$f":"COUNTIF(L102:L133,AI11)","v":0},null,null,null,{"$f":"N11","v":211},{"$f":"COUNTIF(L134:L165,AN11)","v":0},null,null,null,{"$f":"N11","v":211},{"$f":"COUNTIF(L166:L197,AS11)","v":0}]
[21,652,22,656,24,661,null,null,null,null,0,222,null,212,{"$f":"COUNTIF($L$7:$L$500,N12)","v":0},{"$f":"O12/$Q$4","v":0},{"$f":"IF(P12=0,0,(P12*((LOG(P12))/LOG(2))))","v":0},null,null,{"$f":"N12","v":212},{"$f":"COUNTIF(L7:L38,T12)","v":0},{"$f":"U12/(W4-U11)","v":0},{"$f":"IF(V12=0,0,(V12*((LOG(V12))/LOG(2))))","v":0},null,{"$f":"N12","v":212},{"$f":"COUNTIF(L39:L70,Y12)","v":0},{"$f":"Z12/(AB4-Z11)","v":0},{"$f":"IF(AA12=0,0,(AA12*((LOG(AA12))/LOG(2))))","v":0},null,{"$f":"N12","v":212},{"$f":"COUNTIF(L71:L101,AD12)","v":0},{"$f":"AE12/(AG4-AE11)","v":0},{"$f":"IF(AF12=0,0,(AF12*((LOG(AF12))/LOG(2))))","v":0},null,{"$f":"N12","v":212},{"$f":"COUNTIF(L102:L133,AI12)","v":0},{"$f":"AJ12/(AL4-AJ11)","v":0},{"$f":"IF(AK12=0,0,(AK12*((LOG(AK12))/LOG(2))))","v":0},null,{"$f":"N12","v":212},{"$f":"COUNTIF(L134:L165,AN12)","v":0},{"$f":"AO12/(AQ4-AO11)","v":0},{"$f":"IF(AP12=0,0,(AP12*((LOG(AP12))/LOG(2))))","v":0},null,{"$f":"N12","v":212},{"$f":"COUNTIF(L166:L197,AS12)","v":0},{"$f":"AT12/(AV4-AT11)","v":0},{"$f":"IF(AU12=0,0,(AU12*((LOG(AU12))/LOG(2))))","v":0}]
[21,769,22,781,24,788,null,null,null,null,0,222,null,221,{"$f":"COUNTIF($L$7:$L$500,N13)","v":0},{"$f":"O13/$Q$4","v":0},{"$f":"IF(P13=0,0,(P13*((LOG(P13))/LOG(2))))","v":0},null,null,{"$f":"N13","v":221},{"$f":"COUNTIF(L7:L38,T13)","v":0},{"$f":"U13/(W4-U11)","v":0},{"$f":"IF(V13=0,0,(V13*((LOG(V13))/LOG(2))))","v":0},null,{"$f":"N13","v":221},{"$f":"COUNTIF(L39:L70,Y13)","v":0},{"$f":"Z13/(AB4-Z11)","v":0},{"$f":"IF(AA13=0,0,(AA13*((LOG(AA13))/LOG(2))))","v":0},null,{"$f":"N13","v":221},{"$f":"COUNTIF(L71:L101,AD13)","v":0},{"$f":"AE13/(AG4-AE11)","v":0},{"$f":"IF(AF13=0,0,(AF13*((LOG(AF13))/LOG(2))))","v":0},null,{"$f":"N13","v":221},{"$f":"COUNTIF(L102:L133,AI13)","v":0},{"$f":"AJ13/(AL4-AJ11)","v":0},{"$f":"IF(AK13=0,0,(AK13*((LOG(AK13))/LOG(2))))","v":0},null,{"$f":"N13","v":221},{"$f":"COUNTIF(L134:L165,AN13)","v":0},{"$f":"AO13/(AQ4-AO11)","v":0},{"$f":"IF(AP13=0,0,(AP13*((LOG(AP13))/LOG(2))))","v":0},null,{"$f":"N13","v":221},{"$f":"COUNTIF(L166:L197,AS13)","v":0},{"$f":"AT13/(AV4-AT11)","v":0},{"$f":"IF(AU13=0,0,(AU13*((LOG(AU13))/LOG(2))))","v":0}]
[21,886,22,887,24,896,null,null,null,null,0,222,null,222,{"$f":"COUNTIF($L$7:$L$500,N14)","v":170},{"$f":"O14/$Q$4","v":0.89005235602094246},{"$f":"IF(P14=0,0,(P14*((LOG(P14))/LOG(2))))","v":-0.14956252158464903},null,null,{"$f":"N14","v":222},{"$f":"COUNTIF(L7:L38,T14)","v":28},{"$f":"U14/(W4-U11)","v":0.90322580645161288},{"$f":"IF(V14=0,0,(V14*((LOG(V14))/LOG(2))))","v":-0.13263093139418039},null,{"$f":"N14","v":222},{"$f":"COUNTIF(L39:L70,Y14)","v":31},{"$f":"Z14/(AB4-Z11)","v":0.96875},{"$f":"IF(AA14=0,0,(AA14*((LOG(AA14))/LOG(2))))","v":-4.4372324312714644E-2},null,{"$f":"N14","v":222},{"$f":"COUNTIF(L71:L101,AD14)","v":27},{"$f":"AE14/(AG4-AE11)","v":0.87096774193548387},{"$f":"IF(AF14=0,0,(AF14*((LOG(AF14))/LOG(2))))","v":-0.17359154264619289},null,{"$f":"N14","v":222},{"$f":"COUNTIF(L102:L133,AI14)","v":27},{"$f":"AJ14/(AL4-AJ11)","v":0.84375},{"$f":"IF(AK14=0,0,(AK14*((LOG(AK14))/LOG(2))))","v":-0.20681367004957343},null,{"$f":"N14","v":222},{"$f":"COUNTIF(L134:L165,AN14)","v":29},{"$f":"AO14/(AQ4-AO11)","v":0.90625},{"$f":"IF(AP14=0,0,(AP14*((LOG(AP14))/LOG(2))))","v":-0.12870472316563777},null,{"$f":"N14","v":222},{"$f":"COUNTIF(L166:L197,AS14)","v":28},{"$f":"AT14/(AV4-AT11)","v":0.875},{"$f":"IF(AU14=0,0,(AU14*((LOG(AU14))/LOG(2))))","v":-0.1685644431995964}]
[21,1006,22,1010,24,1016,null,null,null,null,0,222,null,null,null,{"$f":"SUM(P7:P14)","v":1},{"$f":"-SUM(Q7:Q14)","v":0.56011426312036938},null,null,null,null,{"$f":"SUM(V7:V14)","v":1},{"$f":"-SUM(W7:W14)","v":0.45868581620054028},null,null,null,{"$f":"SUM(AA7:AA14)","v":1},{"$f":"-SUM(AB7:AB14)","v":0.20062232431271465},null,null,null,{"$f":"SUM(AF7:AF14)","v":1},{"$f":"-SUM(AG7:AG14)","v":0.55477816334127361},null,null,null,{"$f":"SUM(AK7:AK14)","v":1},{"$f":"-SUM(AL7:AL14)","v":0.62526240522342313},null,null,null,{"$f":"SUM(AP7:AP14)","v":1},{"$f":"-SUM(AQ7:AQ14)","v":0.53495472316563775},null,null,null,{"$f":"SUM(AU7:AU14)","v":1},{"$f":"-SUM(AV7:AV14)","v":0.5435644431995964}]
[21,1154,22,1159,24,1163,null,null,null,null,0,222,null,null,null,"U=",{"$f":"Q15/(LOG(Q4)/LOG(2))","v":7.391877585811181E-2},null,null,null,null,"U1=",{"$f":"W15/(LOG(W4)/LOG(2))","v":9.1737163240108055E-2},null,null,null,"U2=",{"$f":"AB15/(LOG(AB4)/LOG(2))","v":4.0124464862542931E-2},null,null,null,"U3=",{"$f":"AG15/(LOG(AG4)/LOG(2))","v":0.11198146552613107},null,null,null,"U4=",{"$f":"AL15/(LOG(AL4)/LOG(2))","v":0.12505248104468464},null,null,null,"U5=",{"$f":"AQ15/(LOG(AQ4)/LOG(2))","v":0.10699094463312755},null,null,null,"U6=",{"$f":"AV15/(LOG(AV4)/LOG(2))","v":0.10871288863991928}]
[21,1264,22,1266,24,1274,null,null,null,null,0,222]
[21,1366,22,1373,24,1377,null,null,null,null,0,222]
[21,1474,22,1478,24,1482,null,null,null,null,0,222,null,"Total Target Seq"]
[21,1589,22,1593,24,1598,null,null,null,null,0,222,null,{"$f":"COUNTIF(L7:L197,G3)","v":1},null,32,32,31,32,32,32]
[21,1705,22,1712,24,1717,null,null,null,null,0,222,null,null,null,"% of reinforcement given in 6 equal intervals based on number of trials "]
[21,1814,22,1818,24,1830,null,null,null,null,0,222,null,null,null,"%_1","%_2","%_3","%_4","%_5","%_6"]
[21,1928,22,1933,24,1936,null,null,null,null,0,222,null,null,"target sequence",{"$f":"$G$3","v":211},{"$f":"$G$3","v":211},{"$f":"$G$3","v":211},{"$f":"$G$3","v":211},{"$f":"$G$3","v":211},{"$f":"$G$3","v":211}]
[21,2035,22,2039,24,2047,null,null,null,null,0,222,null,null,"total reinforcement",{"$f":"U11","v":1},{"$f":"Z11","v":0},{"$f":"AE11","v":0},{"$f":"AJ11","v":0},{"$f":"AO11","v":0},{"$f":"AT11","v":0}]
[21,2151,22,2155,24,2159,null,null,null,null,0,222,null,null,"% target"]
[21,2256,22,2260,24,2265,null,null,null,null,0,222,null,null,"CCRF"]
[21,2363,22,2367,24,2371,null,null,null,null,0,222,null,null,"% CCRf"]
[21,2477,22,2486,24,2492,null,null,null,null,0,222,null,null,"average response rate",{"$f":"F38/P20","v":123.59375},{"$f":"(F70-F38)/Q20","v":120.125},{"$f":"(F101-F70)/R20","v":147.16129032258064},{"$f":"(F133-F101)/S20","v":116.8125},{"$f":"(F165-F133)/T20","v":129.125},{"$f":"(F197-F165)/U20","v":115.53125}]
[21,2650,22,2655,24,2661,null,null,null,null,0,222]
[21,2764,22,2768,24,2773,null,null,null,null,0,222]
[12,3014,13,3018,13,3044,null,null,null,null,0,111]
[21,3142,22,3145,24,3152,null,null,null,null,0,222]
[21,3250,22,3253,24,3259,null,null,null,null,0,222]
[21,3397,22,3400,24,3406,null,null,null,null,0,222]
[21,3506,22,3511,24,3516,null,null,null,null,0,222]
[21,3616,22,3624,24,3630,null,null,null,null,0,222]
[21,3773,22,3782,24,3786,null,null,null,null,0,222]
[21,3947,22,3951,24,3955,null,null,null,null,0,222]
[21,4053,22,4055,24,4059,null,null,null,null,0,222]
[12,4154,13,4157,13,4161,null,null,null,null,0,111]
[21,4259,22,4264,24,4268,null,null,null,null,0,222]
[21,4385,22,4395,24,4401,null,null,null,null,0,222]
[21,4497,22,4502,24,4506,null,null,null,null,0,222]
[21,4607,22,4610,24,4613,null,null,null,null,0,222]
[21,4712,22,4714,24,4717,null,null,null,null,0,222]
[21,4809,22,4819,24,4823,null,null,null,null,0,222]
[21,4920,22,4924,24,4927,null,null,null,null,0,222]
[21,5170,22,5178,24,5185,null,null,null,null,0,222]
[21,5281,22,5285,24,5289,null,null,null,null,0,222]
[21,5387,22,5391,24,5397,null,null,null,null,0,222]
[21,5495,22,5498,24,5502,null,null,null,null,0,222]
[21,5610,22,5613,24,5618,null,null,null,null,0,222]
[21,5725,22,5729,24,5734,null,null,null,null,0,222]
[21,5915,22,5920,24,5930,null,null,null,null,0,222]
[21,6026,22,6030,24,6034,null,null,null,null,0,222]
[21,6130,22,6133,24,6138,null,null,null,null,0,222]
[21,6246,22,6250,24,6255,null,null,null,null,0,222]
[21,6355,22,6359,24,6363,null,null,null,null,0,222]
[21,6460,22,6468,24,6474,null,null,null,null,0,222]
[21,6571,22,6575,24,6579,null,null,null,null,0,222]
[21,6681,22,6689,24,6694,null,null,null,null,0,222]
[21,6875,22,6880,24,6884,null,null,null,null,0,222]
[21,6989,22,6993,24,6998,null,null,null,null,0,222]
[21,7139,22,7143,24,7146,null,null,null,null,0,222]
[21,7245,22,7249,24,7253,null,null,null,null,0,222]
[21,7354,22,7357,24,7362,null,null,null,null,0,222]
[21,7458,22,7462,24,7467,null,null,null,null,0,222]
[21,7568,22,7572,24,7576,null,null,null,null,0,222]
[21,7673,22,7676,24,7680,null,null,null,null,0,222]
[21,7789,22,7794,24,7799,null,null,null,null,0,222]
[21,8175,22,8180,24,8184,null,null,null,null,0,222]
[21,8287,22,8291,24,8294,null,null,null,null,0,222]
[21,8392,22,8396,24,8401,null,null,null,null,0,222]
[21,8499,22,8502,24,8506,null,null,null,null,0,222]
[21,8606,22,8611,24,8616,null,null,null,null,0,222]
[21,8710,22,8712,24,8719,null,null,null,null,0,222]
[21,8820,22,8824,24,8832,null,null,null,null,0,222]
[21,8934,22,8939,24,8944,null,null,null,null,0,222]
[21,9066,22,9070,24,9075,null,null,null,null,0,222]
[12,9789,13,9796,13,9803,null,null,null,null,0,111]
[12,9907,13,9911,13,9917,null,null,null,null,0,111]
[21,10015,22,10018,24,10024,null,null,null,null,0,222]
[21,10122,22,10125,24,10130,null,null,null,null,0,222]
[21,10229,22,10233,24,10240,null,null,null,null,0,222]
[21,10477,22,10481,24,10492,null,null,null,null,0,222]
[21,10598,22,10602,24,10608,null,null,null,null,0,222]
[21,10704,22,10707,24,10710,null,null,null,null,0,222]
[21,10814,22,10820,24,10826,null,null,null,null,0,222]
[21,10927,22,10937,24,10944,null,null,null,null,0,222]
[12,11042,13,11046,13,11048,null,null,null,null,0,111]
[21,11145,22,11147,24,11149,null,null,null,null,0,222]
[21,11258,22,11262,24,11267,null,null,null,null,0,222]
[21,11410,22,11413,24,11416,null,null,null,null,0,222]
[21,11516,22,11519,24,11524,null,null,null,null,0,222]
[21,11625,22,11629,24,11632,null,null,null,null,0,222]
[21,11732,22,11737,24,11742,null,null,null,null,0,222]
[21,11896,22,11906,24,11913,null,null,null,null,0,222]
[12,12023,13,12028,13,12034,null,null,null,null,0,111]
[21,12135,22,12138,24,12142,null,null,null,null,0,222]
[21,12251,22,12253,24,12255,null,null,null,null,0,222]
[21,12357,22,12358,24,12361,null,null,null,null,0,222]
[21,12459,22,12480,24,12491,null,null,null,null,0,222]
[21,12591,22,12596,24,12599,null,null,null,null,0,222]
[21,12700,22,12708,24,12712,null,null,null,null,0,222]
[21,12812,22,12815,24,12826,null,null,null,null,0,222]
[21,12922,22,12931,24,12935,null,null,null,null,0,222]
[21,13035,22,13039,24,13044,null,null,null,null,0,222]
[21,13187,22,13192,24,13197,null,null,null,null,0,222]
[21,13294,22,13298,24,13303,null,null,null,null,0,222]
[21,13401,22,13407,24,13413,null,null,null,null,0,222]
[21,13582,22,13591,24,13598,null,null,null,null,0,222]
[21,13697,22,13700,24,13705,null,null,null,null,0,222]
[21,13802,22,13806,24,13809,null,null,null,null,0,222]
[21,13912,22,13914,24,13918,null,null,null,null,0,222]
[21,14018,22,14022,24,14026,null,null,null,null,0,222]
[12,14153,13,14157,13,14162,null,null,null,null,0,111]
[21,14266,22,14269,24,14273,null,null,null,null,0,222]
[21,14370,22,14373,24,14377,null,null,null,null,0,222]
[21,14475,22,14483,24,14491,null,null,null,null,0,222]
[21,14588,22,14593,24,14597,null,null,null,null,0,222]
[21,14695,22,14696,24,14699,null,null,null,null,0,222]
[21,14861,22,14865,24,14871,null,null,null,null,0,222]
[21,14971,22,14974,24,14977,null,null,null,null,0,222]
[12,15093,13,15097,13,15103,null,null,null,null,0,111]
[21,15200,22,15207,24,15212,null,null,null,null,0,222]
[21,15311,22,15315,24,15321,null,null,null,null,0,222]
[12,15419,13,15422,13,15425,null,null,null,null,0,111]
[12,15529,13,15531,13,15545,null,null,null,null,0,111]
[21,15641,22,15649,24,15656,null,null,null,null,0,222]
[21,15755,22,15758,24,15762,null,null,null,null,0,222]
[12,15859,13,15863,13,15869,null,null,null,null,0,111]
[21,15968,22,15971,24,15975,null,null,null,null,0,222]
[21,16087,22,16092,24,16099,null,null,null,null,0,222]
[21,16196,22,16199,24,16203,null,null,null,null,0,222]
[21,16300,22,16303,24,16306,null,null,null,null,0,222]
[12,16599,13,16602,24,16612,null,null,null,null,0,112]
[21,16712,22,16714,24,16719,null,null,null,null,0,222]
[21,16815,22,16820,24,16824,null,null,null,null,0,222]
[21,16925,22,16928,24,16938,null,null,null,null,0,222]
[21,17035,22,17038,24,17042,null,null,null,null,0,222]
[12,17145,13,17147,13,17153,null,null,null,null,0,111]
[21,17252,22,17256,24,17260,null,null,null,null,0,222]
[12,17374,13,17380,13,17384,null,null,null,null,0,111]
[21,17498,22,17501,24,17505,null,null,null,null,0,222]
[21,17601,22,17604,24,17609,null,null,null,null,0,222]
[21,17715,22,17718,24,17722,null,null,null,null,0,222]
[21,17821,22,17824,24,17829,null,null,null,null,0,222]
[21,17927,22,17930,24,17935,null,null,null,null,0,222]
[21,18035,22,18038,24,18044,null,null,null,null,0,222]
[21,18233,22,18239,24,18244,null,null,null,null,0,222]
[21,18350,22,18353,24,18358,null,null,null,null,0,222]
[21,18450,22,18457,24,18461,null,null,null,null,0,222]
[21,18572,22,18576,24,18591,null,null,null,null,0,222]
[21,18689,22,18693,24,18696,null,null,null,null,0,222]
[21,18802,22,18806,24,18834,null,null,null,null,0,222]
[21,18929,22,18936,24,18944,null,null,null,null,0,222]
[21,19046,22,19050,24,19054,null,null,null,null,0,222]
[21,19153,22,19160,24,19169,null,null,null,null,0,222]
[21,19367,22,19370,24,19429,null,null,null,null,0,222]
[21,19573,22,19578,24,19585,null,null,null,null,0,222]
[21,19699,22,19702,24,19706,null,null,null,null,0,222]
[21,19816,22,19819,24,19824,null,null,null,null,0,222]
[21,19922,22,19927,24,19936,null,null,null,null,0,222]
[21,20112,22,20116,24,20123,null,null,null,null,0,222]
[21,20223,22,20227,24,20231,null,null,null,null,0,222]
[21,20343,22,20354,24,20375,null,null,null,null,0,222]
[21,20528,22,20531,24,20539,null,null,null,null,0,222]
[21,20638,22,20644,24,20653,null,null,null,null,0,222]
[21,20748,22,20753,24,20756,null,null,null,null,0,222]
[21,20852,22,20858,24,20861,null,null,null,null,0,222]
[21,20967,22,20971,24,20975,null,null,null,null,0,222]
[21,21119,22,21123,24,21128,null,null,null,null,0,222]
[21,21230,22,21234,24,21238,null,null,null,null,0,222]
[21,21335,22,21339,24,21343,null,null,null,null,0,222]
[12,21470,13,21474,13,21481,null,null,null,null,0,111]
[21,21581,22,21588,24,21593,null,null,null,null,0,222]
[21,21694,22,21698,24,21703,null,null,null,null,0,222]
[21,21799,22,21807,24,21814,null,null,null,null,0,222]
[21,21912,22,21915,24,21918,null,null,null,null,0,222]
[21,22017,22,22019,24,22022,null,null,null,null,0,222]
[21,22121,22,22124,24,22131,null,null,null,null,0,222]
[21,22233,22,22237,24,22245,null,null,null,null,0,222]
[21,22346,22,22350,24,22355,null,null,null,null,0,222]
[12,22486,13,22488,13,22492,null,null,null,null,0,111]
[21,22591,22,22594,24,22598,null,null,null,null,0,222]
[21,22694,22,22699,24,22701,null,null,null,null,0,222]
[21,22796,22,22804,24,22807,null,null,null,null,0,222]
[21,22906,22,22912,24,22922,null,null,null,null,0,222]
[21,23038,22,23042,24,23045,null,null,null,null,0,222]
[21,23143,22,23147,24,23152,null,null,null,null,0,222]
[21,23257,22,23264,24,23267,null,null,null,null,0,222]
[12,23371,13,23376,13,23382,null,null,null,null,0,111]
[21,23479,22,23491,24,23496,null,null,null,null,0,222]
[12,23600,13,23607,13,23612,null,null,null,null,0,111]
[21,23711,22,23715,24,23719,null,null,null,null,0,222]
[21,23815,22,23820,24,23823,null,null,null,null,0,222]
[21,23922,22,23925,24,23928,null,null,null,null,null,222]

{"sheet":"!L925943..Ta","index":29,"n_rows":200,"n_cols":48,"rows_kept":200,"cut":false,"hidden":false,"merged":[[4,39,4,42],[5,39,5,40],[4,44,4,47],[5,44,5,45],[4,24,4,27],[5,24,5,25],[4,29,4,32],[5,29,5,30],[4,34,4,37],[5,34,5,35],[1,1,1,2],[5,13,5,14],[18,13,18,14],[19,13,19,14],[4,19,4,22],[5,19,5,20]]}
["Report for:!L925943..Ta"]
["Date:","<date>"]
["Hen:","<hen>",null,null,null,"Correct Sequence",{"$f":"Start!J2","v":211},null,null,null,null,null,null,null,null,"Total Sequences in Data",{"$f":"4994-COUNTBLANK(L7:L5000)","v":194},null,null,null,null,"Total Sequences in Block Data",{"$f":"COUNTA(L7:L38)","v":32},null,null,null,"Total Sequences in Block Data",{"$f":"COUNTA(L39:L71)","v":33},null,null,null,"Total Sequences in Block Data",{"$f":"COUNTA(L72:L103)","v":32},null,null,null,"Total Sequences in Block Data",{"$f":"COUNTA(L104:L135)","v":32},null,null,null,"Total Sequences in Block Data",{"$f":"COUNTA(L136:L168)","v":33},null,null,null,"Total Sequences in Block Data",{"$f":"COUNTA(L169:L200)","v":32}]
[null,null,null,null,null,null,null,null,null,null,null,null,null,null,null,"Total Sequences in Summary",{"$f":"SUM(O7:O14)","v":194},null,null,null,null,"Total Sequences in Block Summary",{"$f":"SUM(U7:U14)","v":32},null,null,null,"Total Sequences in Block Summary",{"$f":"SUM(Z7:Z14)","v":33},null,null,null,"Total Sequences in Block Summary",{"$f":"SUM(AE7:AE14)","v":32},null,null,null,"Total Sequences in Block Summary",{"$f":"SUM(AJ7:AJ14)","v":32},null,null,null,"Total Sequences in Block Summary",{"$f":"SUM(AO7:AO14)","v":33},null,null,null,"Total Sequences in Block Summary",{"$f":"SUM(AT7:AT14)","v":32}]
[null,null,null,null,null,null,null,null,null,null,null,null,null,null,null,null,null,null,null,"Block 1",null,null,null,null,"Block 2",null,null,null,null,"Block 3",null,null,null,null,"Block 4",null,null,null,null,"Block 5",null,null,null,null,"Block 6"]
["Sequence\nComponent\n1","Time\n1","Sequence\nComponent\n2","Time\n2","Sequence\nComponent\n3","Time\n3","Sequence\nComponent\n4","Time\n4","Sequence\nComponent\n5","Time\n5","Correct?\n0=No 1=Yes","Sequence",null,"Frequency",null,"Relative Frequency","Variability",null,null,"Frequency",null,"Relative Frequency","Variability",null,"Frequency",null,"Relative Frequency","Variability",null,"Frequency",null,"Relative Frequency","Variability",null,"Frequency",null,"Relative Frequency","Variability",null,"Frequency",null,"Relative Frequency","Variability",null,"Frequency",null,"Relative Frequency","Variability"]
[12,8,13,12,13,17,null,null,null,null,0,111,null,111,{"$f":"COUNTIF($L$7:$L$500,N7)","v":7},{"$f":"O7/$Q$4","v":3.608247422680412E-2},{"$f":"IF(P7=0,0,(P7*((LOG(P7))/LOG(2))))","v":-0.17292734763353951},null,null,{"$f":"N7","v":111},{"$f":"COUNTIF(L7:L38,T7)","v":1},{"$f":"U7/(W4-U11)","v":3.125E-2},{"$f":"IF(V7=0,0,(V7*((LOG(V7))/LOG(2))))","v":-0.15625},null,{"$f":"N7","v":111},{"$f":"COUNTIF(L39:L71,Y7)","v":2},{"$f":"Z7/(AB4-Z11)","v":6.0606060606060608E-2},{"$f":"IF(AA7=0,0,(AA7*((LOG(AA7))/LOG(2))))","v":-0.24511479511263354},null,{"$f":"N7","v":111},{"$f":"COUNTIF(L72:L103,AD7)","v":1},{"$f":"AE7/(AG4-AE11)","v":3.125E-2},{"$f":"IF(AF7=0,0,(AF7*((LOG(AF7))/LOG(2))))","v":-0.15625},null,{"$f":"N7","v":111},{"$f":"COUNTIF(L104:L135,AI7)","v":2},{"$f":"AJ7/(AL4-AJ11)","v":6.25E-2},{"$f":"IF(AK7=0,0,(AK7*((LOG(AK7))/LOG(2))))","v":-0.25},null,{"$f":"N7","v":111},{"$f":"COUNTIF(L136:L168,AN7)","v":1},{"$f":"AO7/(AQ4-AO11)","v":3.0303030303030304E-2},{"$f":"IF(AP7=0,0,(AP7*((LOG(AP7))/LOG(2))))","v":-0.15286042785934709},null,{"$f":"N7","v":111},{"$f":"COUNTIF(L169:L200,AS7)","v":0},{"$f":"AT7/(AV4-AT11)","v":0},{"$f":"IF(AU7=0,0,(AU7*((LOG(AU7))/LOG(2))))","v":0}]
[21,115,22,119,24,127,null,null,null,null,0,222,null,112,{"$f":"COUNTIF($L$7:$L$500,N8)","v":1},{"$f":"O8/$Q$4","v":5.1546391752577319E-3},{"$f":"IF(P8=0,0,(P8*((LOG(P8))/LOG(2))))","v":-3.9174808464882103E-2},null,null,{"$f":"N8","v":112},{"$f":"COUNTIF(L7:L38,T8)","v":0},{"$f":"U8/(W4-U11)","v":0},{"$f":"IF(V8=0,0,(V8*((LOG(V8))/LOG(2))))","v":0},null,{"$f":"N8","v":112},{"$f":"COUNTIF(L39:L71,Y8)","v":0},{"$f":"Z8/(AB4-Z11)","v":0},{"$f":"IF(AA8=0,0,(AA8*((LOG(AA8))/LOG(2))))","v":0},null,{"$f":"N8","v":112},{"$f":"COUNTIF(L72:L103,AD8)","v":1},{"$f":"AE8/(AG4-AE11)","v":3.125E-2},{"$f":"IF(AF8=0,0,(AF8*((LOG(AF8))/LOG(2))))","v":-0.15625},null,{"$f":"N8","v":112},{"$f":"COUNTIF(L104:L135,AI8)","v":0},{"$f":"AJ8/(AL4-AJ11)","v":0},{"$f":"IF(AK8=0,0,(AK8*((LOG(AK8))/LOG(2))))","v":0},null,{"$f":"N8","v":112},{"$f":"COUNTIF(L136:L168,AN8)","v":0},{"$f":"AO8/(AQ4-AO11)","v":0},{"$f":"IF(AP8=0,0,(AP8*((LOG(AP8))/LOG(2))))","v":0},null,{"$f":"N8","v":112},{"$f":"COUNTIF(L169:L200,AS8)","v":0},{"$f":"AT8/(AV4-AT11)","v":0},{"$f":"IF(AU8=0,0,(AU8*((LOG(AU8))/LOG(2))))","v":0}]
[21,227,22,245,24,248,null,null,null,null,0,222,null,121,{"$f":"COUNTIF($L$7:$L$500,N9)","v":0},{"$f":"O9/$Q$4","v":0},{"$f":"IF(P9=0,0,(P9*((LOG(P9))/LOG(2))))","v":0},null,null,{"$f":"N9","v":121},{"$f":"COUNTIF(L7:L38,T9)","v":0},{"$f":"U9/(W4-U11)","v":0},{"$f":"IF(V9=0,0,(V9*((LOG(V9))/LOG(2))))","v":0},null,{"$f":"N9","v":121},{"$f":"COUNTIF(L39:L71,Y9)","v":0},{"$f":"Z9/(AB4-Z11)","v":0},{"$f":"IF(AA9=0,0,(AA9*((LOG(AA9))/LOG(2))))","v":0},null,{"$f":"N9","v":121},{"$f":"COUNTIF(L72:L103,AD9)","v":0},{"$f":"AE9/(AG4-AE11)","v":0},{"$f":"IF(AF9=0,0,(AF9*((LOG(AF9))/LOG(2))))","v":0},null,{"$f":"N9","v":121},{"$f":"COUNTIF(L104:L135,AI9)","v":0},{"$f":"AJ9/(AL4-AJ11)","v":0},{"$f":"IF(AK9=0,0,(AK9*((LOG(AK9))/LOG(2))))","v":0},null,{"$f":"N9","v":121},{"$f":"COUNTIF(L136:L168,AN9)","v":0},{"$f":"AO9/(AQ4-AO11)","v":0},{"$f":"IF(AP9=0,0,(AP9*((LOG(AP9))/LOG(2))))","v":0},null,{"$f":"N9","v":121},{"$f":"COUNTIF(L169:L200,AS9)","v":0},{"$f":"AT9/(AV4-AT11)","v":0},{"$f":"IF(AU9=0,0,(AU9*((LOG(AU9))/LOG(2))))","v":0}]
[21,354,22,357,24,365,null,null,null,null,0,222,null,122,{"$f":"COUNTIF($L$7:$L$500,N10)","v":0},{"$f":"O10/$Q$4","v":0},{"$f":"IF(P10=0,0,(P10*((LOG(P10))/LOG(2))))","v":0},null,null,{"$f":"N10","v":122},{"$f":"COUNTIF(L7:L38,T10)","v":0},{"$f":"U10/(W4-U11)","v":0},{"$f":"IF(V10=0,0,(V10*((LOG(V10))/LOG(2))))","v":0},null,{"$f":"N10","v":122},{"$f":"COUNTIF(L39:L71,Y10)","v":0},{"$f":"Z10/(AB4-Z11)","v":0},{"$f":"IF(AA10=0,0,(AA10*((LOG(AA10))/LOG(2))))","v":0},null,{"$f":"N10","v":122},{"$f":"COUNTIF(L72:L103,AD10)","v":0},{"$f":"AE10/(AG4-AE11)","v":0},{"$f":"IF(AF10=0,0,(AF10*((LOG(AF10))/LOG(2))))","v":0},null,{"$f":"N10","v":122},{"$f":"COUNTIF(L104:L135,AI10)","v":0},{"$f":"AJ10/(AL4-AJ11)","v":0},{"$f":"IF(AK10=0,0,(AK10*((LOG(AK10))/LOG(2))))","v":0},null,{"$f":"N10","v":122},{"$f":"COUNTIF(L136:L168,AN10)","v":0},{"$f":"AO10/(AQ4-AO11)","v":0},{"$f":"IF(AP10=0,0,(AP10*((LOG(AP10))/LOG(2))))","v":0},null,{"$f":"N10","v":122},{"$f":"COUNTIF(L169:L200,AS10)","v":0},{"$f":"AT10/(AV4-AT11)","v":0},{"$f":"IF(AU10=0,0,(AU10*((LOG(AU10))/LOG(2))))","v":0}]
[21,470,22,476,24,481,null,null,null,null,0,222,null,211,{"$f":"COUNTIF($L$7:$L$500,N11)","v":0},{"$f":"O11/$Q$4","v":0},{"$f":"IF(P11=0,0,(P11*((LOG(P11))/LOG(2))))","v":0},null,null,{"$f":"N11","v":211},{"$f":"COUNTIF(L7:L38,T11)","v":0},null,null,null,{"$f":"N11","v":211},{"$f":"COUNTIF(L39:L71,Y11)","v":0},null,null,null,{"$f":"N11","v":211},{"$f":"COUNTIF(L72:L103,AD11)","v":0},null,null,null,{"$f":"N11","v":211},{"$f":"COUNTIF(L104:L135,AI11)","v":0},null,null,null,{"$f":"N11","v":211},{"$f":"COUNTIF(L136:L168,AN11)","v":0},null,null,null,{"$f":"N11","v":211},{"$f":"COUNTIF(L169:L200,AS11)","v":0}]
[21,622,22,629,24,640,null,null,null,null,0,222,null,212,{"$f":"COUNTIF($L$7:$L$500,N12)","v":0},{"$f":"O12/$Q$4","v":0},{"$f":"IF(P12=0,0,(P12*((LOG(P12))/LOG(2))))","v":0},null,null,{"$f":"N12","v":212},{"$f":"COUNTIF(L7:L38,T12)","v":0},{"$f":"U12/(W4-U11)","v":0},{"$f":"IF(V12=0,0,(V12*((LOG(V12))/LOG(2))))","v":0},null,{"$f":"N12","v":212},{"$f":"COUNTIF(L39:L71,Y12)","v":0},{"$f":"Z12/(AB4-Z11)","v":0},{"$f":"IF(AA12=0,0,(AA12*((LOG(AA12))/LOG(2))))","v":0},null,{"$f":"N12","v":212},{"$f":"COUNTIF(L72:L103,AD12)","v":0},{"$f":"AE12/(AG4-AE11)","v":0},{"$f":"IF(AF12=0,0,(AF12*((LOG(AF12))/LOG(2))))","v":0},null,{"$f":"N12","v":212},{"$f":"COUNTIF(L104:L135,AI12)","v":0},{"$f":"AJ12/(AL4-AJ11)","v":0},{"$f":"IF(AK12=0,0,(AK12*((LOG(AK12))/LOG(2))))","v":0},null,{"$f":"N12","v":212},{"$f":"COUNTIF(L136:L168,AN12)","v":0},{"$f":"AO12/(AQ4-AO11)","v":0},{"$f":"IF(AP12=0,0,(AP12*((LOG(AP12))/LOG(2))))","v":0},null,{"$f":"N12","v":212},{"$f":"COUNTIF(L169:L200,AS12)","v":0},{"$f":"AT12/(AV4-AT11)","v":0},{"$f":"IF(AU12=0,0,(AU12*((LOG(AU12))/LOG(2))))","v":0}]
[21,762,22,766,24,770,null,null,null,null,0,222,null,221,{"$f":"COUNTIF($L$7:$L$500,N13)","v":0},{"$f":"O13/$Q$4","v":0},{"$f":"IF(P13=0,0,(P13*((LOG(P13))/LOG(2))))","v":0},null,null,{"$f":"N13","v":221},{"$f":"COUNTIF(L7:L38,T13)","v":0},{"$f":"U13/(W4-U11)","v":0},{"$f":"IF(V13=0,0,(V13*((LOG(V13))/LOG(2))))","v":0},null,{"$f":"N13","v":221},{"$f":"COUNTIF(L39:L71,Y13)","v":0},{"$f":"Z13/(AB4-Z11)","v":0},{"$f":"IF(AA13=0,0,(AA13*((LOG(AA13))/LOG(2))))","v":0},null,{"$f":"N13","v":221},{"$f":"COUNTIF(L72:L103,AD13)","v":0},{"$f":"AE13/(AG4-AE11)","v":0},{"$f":"IF(AF13=0,0,(AF13*((LOG(AF13))/LOG(2))))","v":0},null,{"$f":"N13","v":221},{"$f":"COUNTIF(L104:L135,AI13)","v":0},{"$f":"AJ13/(AL4-AJ11)","v":0},{"$f":"IF(AK13=0,0,(AK13*((LOG(AK13))/LOG(2))))","v":0},null,{"$f":"N13","v":221},{"$f":"COUNTIF(L136:L168,AN13)","v":0},{"$f":"AO13/(AQ4-AO11)","v":0},{"$f":"IF(AP13=0,0,(AP13*((LOG(AP13))/LOG(2))))","v":0},null,{"$f":"N13","v":221},{"$f":"COUNTIF(L169:L200,AS13)","v":0},{"$f":"AT13/(AV4-AT11)","v":0},{"$f":"IF(AU13=0,0,(AU13*((LOG(AU13))/LOG(2))))","v":0}]
[21,923,22,930,24,934,null,null,null,null,0,222,null,222,{"$f":"COUNTIF($L$7:$L$500,N14)","v":186},{"$f":"O14/$Q$4","v":0.95876288659793818},{"$f":"IF(P14=0,0,(P14*((LOG(P14))/LOG(2))))","v":-5.8248710209855156E-2},null,null,{"$f":"N14","v":222},{"$f":"COUNTIF(L7:L38,T14)","v":31},{"$f":"U14/(W4-U11)","v":0.96875},{"$f":"IF(V14=0,0,(V14*((LOG(V14))/LOG(2))))","v":-4.4372324312714644E-2},null,{"$f":"N14","v":222},{"$f":"COUNTIF(L39:L71,Y14)","v":31},{"$f":"Z14/(AB4-Z11)","v":0.93939393939393945},{"$f":"IF(AA14=0,0,(AA14*((LOG(AA14))/LOG(2))))","v":-8.4731275094512809E-2},null,{"$f":"N14","v":222},{"$f":"COUNTIF(L72:L103,AD14)","v":30},{"$f":"AE14/(AG4-AE11)","v":0.9375},{"$f":"IF(AF14=0,0,(AF14*((LOG(AF14))/LOG(2))))","v":-8.729006661701387E-2},null,{"$f":"N14","v":222},{"$f":"COUNTIF(L104:L135,AI14)","v":30},{"$f":"AJ14/(AL4-AJ11)","v":0.9375},{"$f":"IF(AK14=0,0,(AK14*((LOG(AK14))/LOG(2))))","v":-8.729006661701387E-2},null,{"$f":"N14","v":222},{"$f":"COUNTIF(L136:L168,AN14)","v":32},{"$f":"AO14/(AQ4-AO11)","v":0.96969696969696972},{"$f":"IF(AP14=0,0,(AP14*((LOG(AP14))/LOG(2))))","v":-4.3048843014257841E-2},null,{"$f":"N14","v":222},{"$f":"COUNTIF(L169:L200,AS14)","v":32},{"$f":"AT14/(AV4-AT11)","v":1},{"$f":"IF(AU14=0,0,(AU14*((LOG(AU14))/LOG(2))))","v":0}]
[21,1032,22,1036,24,1040,null,null,null,null,0,222,null,null,null,{"$f":"SUM(P7:P14)","v":1},{"$f":"-SUM(Q7:Q14)","v":0.27035086630827676},null,null,null,null,{"$f":"SUM(V7:V14)","v":1},{"$f":"-SUM(W7:W14)","v":0.20062232431271465},null,null,null,{"$f":"SUM(AA7:AA14)","v":1},{"$f":"-SUM(AB7:AB14)","v":0.32984607020714635},null,null,null,{"$f":"SUM(AF7:AF14)","v":1},{"$f":"-SUM(AG7:AG14)","v":0.39979006661701388},null,null,null,{"$f":"SUM(AK7:AK14)","v":1},{"$f":"-SUM(AL7:AL14)","v":0.33729006661701388},null,null,null,{"$f":"SUM(AP7:AP14)","v":1},{"$f":"-SUM(AQ7:AQ14)","v":0.19590927087360493},null,null,null,{"$f":"SUM(AU7:AU14)","v":1},{"$f":"-SUM(AV7:AV14)","v":0}]
[21,1142,22,1146,24,1149,null,null,null,null,0,222,null,null,null,"U=",{"$f":"Q15/(LOG(Q4)/LOG(2))","v":3.5572890363631371E-2},null,null,null,null,"U1=",{"$f":"W15/(LOG(W4)/LOG(2))","v":4.0124464862542931E-2},null,null,null,"U2=",{"$f":"AB15/(LOG(AB4)/LOG(2))","v":6.53886398252118E-2},null,null,null,"U3=",{"$f":"AG15/(LOG(AG4)/LOG(2))","v":7.9958013323402771E-2},null,null,null,"U4=",{"$f":"AL15/(LOG(AL4)/LOG(2))","v":6.7458013323402774E-2},null,null,null,"U5=",{"$f":"AQ15/(LOG(AQ4)/LOG(2))","v":3.8837027051827726E-2},null,null,null,"U6=",{"$f":"AV15/(LOG(AV4)/LOG(2))","v":0}]
[21,1248,22,1256,24,1260,null,null,null,null,0,222]
[21,1399,22,1403,24,1412,null,null,null,null,0,222]
[21,1513,22,1517,24,1524,null,null,null,null,0,222,null,"Total Target Seq"]
[21,1619,22,1632,24,1636,null,null,null,null,0,222,null,{"$f":"COUNTIF(L7:L200,G3)","v":0},null,32,33,32,32,33,32]
[21,1735,22,1738,24,1742,null,null,null,null,0,222,null,null,null,"% of reinforcement given in 6 equal intervals based on number of trials "]
[21,1844,22,1847,24,1852,null,null,null,null,0,222,null,null,null,"%_1","%_2","%_3","%_4","%_5","%_6"]
[21,1949,22,1952,24,1962,null,null,null,null,0,222,null,null,"target sequence",{"$f":"$G$3","v":211},{"$f":"$G$3","v":211},{"$f":"$G$3","v":211},{"$f":"$G$3","v":211},{"$f":"$G$3","v":211},{"$f":"$G$3","v":211}]
[21,2078,22,2080,24,2091,null,null,null,null,0,222,null,null,"total reinforcement",{"$f":"U11","v":0},{"$f":"Z11","v":0},{"$f":"AE11","v":0},{"$f":"AJ11","v":0},{"$f":"AO11","v":0},{"$f":"AT11","v":0}]
[21,2188,22,2189,24,2191,null,null,null,null,0,222,null,null,"% target"]
[21,2306,22,2317,24,2322,null,null,null,null,0,222,null,null,"CCRF"]
[21,2419,22,2426,24,2430,null,null,null,null,0,222,null,null,"% CCRf"]
[21,2526,22,2530,24,2534,null,null,null,null,0,222,null,null,"average response rate",{"$f":"F38/P20","v":112.875},{"$f":"(F71-F38)/Q20","v":129.36363636363637},{"$f":"(F103-F71)/R20","v":140.625},{"$f":"(F135-F103)/S20","v":112.71875},{"$f":"(F168-F135)/T20","v":118.45454545454545},{"$f":"(F200-F168)/U20","v":125.53125}]
[21,2635,22,2638,24,2642,null,null,null,null,0,222]
[21,2738,22,2746,24,2749,null,null,null,null,0,222]
[21,2844,22,2850,24,2855,null,null,null,null,0,222]
[21,2958,22,2962,24,2966,null,null,null,null,0,222]
[21,3063,22,3069,24,3073,null,null,null,null,0,222]
[21,3170,22,3175,24,3178,null,null,null,null,0,222]
[21,3277,22,3282,24,3286,null,null,null,null,0,222]
[21,3383,22,3391,24,3397,null,null,null,null,0,222]
[21,3494,22,3501,24,3507,null,null,null,null,0,222]
[21,3606,22,3608,24,3612,null,null,null,null,0,222]
[21,3708,22,3712,24,3715,null,null,null,null,0,222]
[21,3828,22,3837,24,3845,null,null,null,null,0,222]
[21,3941,22,3951,24,3955,null,null,null,null,0,222]
[21,4056,22,4062,24,4067,null,null,null,null,0,222]
[21,4165,22,4168,24,4171,null,null,null,null,0,222]
[21,4267,22,4271,24,4275,null,null,null,null,0,222]
[21,4374,22,4378,24,4382,null,null,null,null,0,222]
[12,4504,13,4511,13,4518,null,null,null,null,0,111]
[21,4615,22,4621,24,4624,null,null,null,null,0,222]
[21,4722,22,4724,24,4728,null,null,null,null,0,222]
[21,4829,22,4838,24,4844,null,null,null,null,0,222]
[21,4951,22,4955,24,4961,null,null,null,null,0,222]
[21,5057,22,5063,24,5068,null,null,null,null,0,222]
[21,5163,22,5167,24,5168,null,null,null,null,0,222]
[21,5265,22,5269,24,5273,null,null,null,null,0,222]
[21,5371,22,5374,24,5378,null,null,null,null,0,222]
[21,5494,22,5498,24,5502,null,null,null,null,0,222]
[21,5680,22,5683,24,5688,null,null,null,null,0,222]
[21,5790,22,5794,24,5798,null,null,null,null,0,222]
[21,5896,22,5899,24,5904,null,null,null,null,0,222]
[21,6003,22,6012,24,6017,null,null,null,null,0,222]
[21,6114,22,6121,24,6124,null,null,null,null,0,222]
[21,6222,22,6226,24,6229,null,null,null,null,0,222]
[21,6338,22,6341,24,6344,null,null,null,null,0,222]
[21,6443,22,6447,24,6450,null,null,null,null,0,222]
[12,6551,13,6556,13,6561,null,null,null,null,0,111]
[21,6657,22,6661,24,6664,null,null,null,null,0,222]
[21,6770,22,6778,24,6787,null,null,null,null,0,222]
[21,6888,22,6892,24,6895,null,null,null,null,0,222]
[21,7458,22,7462,24,7465,null,null,null,null,0,222]
[21,7632,22,7637,24,7642,null,null,null,null,0,222]
[21,7743,22,7751,24,7754,null,null,null,null,0,222]
[21,7871,22,7875,24,7881,null,null,null,null,0,222]
[12,7978,13,7981,24,7989,null,null,null,null,0,112]
[21,8096,22,8101,24,8110,null,null,null,null,0,222]
[21,8213,22,8216,24,8221,null,null,null,null,0,222]
[21,8330,22,8334,24,8337,null,null,null,null,0,222]
[21,8434,22,8440,24,8443,null,null,null,null,0,222]
[21,8541,22,8546,24,8550,null,null,null,null,0,222]
[21,8651,22,8655,24,8665,null,null,null,null,0,222]
[21,8771,22,8775,24,8780,null,null,null,null,0,222]
[21,8878,22,8882,24,8887,null,null,null,null,0,222]
[21,8990,22,8993,24,8997,null,null,null,null,0,222]
[21,9101,22,9105,24,9111,null,null,null,null,0,222]
[21,9226,22,9230,24,9235,null,null,null,null,0,222]
[21,9336,22,9348,24,9352,null,null,null,null,0,222]
[21,9565,22,9572,24,9577,null,null,null,null,0,222]
[21,9860,22,9862,24,9866,null,null,null,null,0,222]
[21,10063,22,10067,24,10070,null,null,null,null,0,222]
[21,10188,22,10192,24,10195,null,null,null,null,0,222]
[21,10304,22,10307,24,10310,null,null,null,null,0,222]
[21,10810,22,10907,24,10917,null,null,null,null,0,222]
[21,11010,22,11018,24,11020,null,null,null,null,0,222]
[21,11119,22,11122,24,11128,null,null,null,null,0,222]
[21,11226,22,11236,24,11239,null,null,null,null,0,222]
[21,11357,22,11360,24,11365,null,null,null,null,0,222]
[12,11464,13,11469,13,11477,null,null,null,null,0,111]
[21,11586,22,11590,24,11594,null,null,null,null,0,222]
[21,11701,22,11705,24,11710,null,null,null,null,0,222]
[21,11814,22,11819,24,11824,null,null,null,null,0,222]
[21,11925,22,11929,24,11934,null,null,null,null,0,222]
[21,12041,22,12044,24,12049,null,null,null,null,0,222]
[21,12146,22,12153,24,12156,null,null,null,null,0,222]
[21,12267,22,12273,24,12277,null,null,null,null,0,222]
[21,12375,22,12378,24,12381,null,null,null,null,0,222]
[12,12484,13,12486,13,12489,null,null,null,null,0,111]
[21,12594,22,12597,24,12604,null,null,null,null,0,222]
[21,12706,22,12710,24,12716,null,null,null,null,0,222]
[21,12819,22,12822,24,12826,null,null,null,null,0,222]
[21,12997,22,13001,24,13005,null,null,null,null,0,222]
[21,13135,22,13142,24,13149,null,null,null,null,0,222]
[21,13248,22,13254,24,13258,null,null,null,null,0,222]
[21,13355,22,13360,24,13365,null,null,null,null,0,222]
[21,13465,22,13468,24,13474,null,null,null,null,0,222]
[21,13569,22,13573,24,13577,null,null,null,null,0,222]
[21,13676,22,13679,24,13685,null,null,null,null,0,222]
[21,13782,22,13786,24,13791,null,null,null,null,0,222]
[21,13885,22,13889,24,13893,null,null,null,null,0,222]
[21,13991,22,13998,24,14004,null,null,null,null,0,222]
[21,14109,22,14118,24,14127,null,null,null,null,0,222]
[21,14224,22,14229,24,14239,null,null,null,null,0,222]
[21,14346,22,14350,24,14354,null,null,null,null,0,222]
[21,14452,22,14456,24,14460,null,null,null,null,0,222]
[21,14563,22,14568,24,14572,null,null,null,null,0,222]
[12,14691,13,14693,13,14700,null,null,null,null,0,111]
[21,14796,22,14798,24,14802,null,null,null,null,0,222]
[21,14899,22,14902,24,14906,null,null,null,null,0,222]
[21,15007,22,15010,24,15013,null,null,null,null,0,222]
[21,15110,22,15113,24,15117,null,null,null,null,0,222]
[21,15214,22,15222,24,15227,null,null,null,null,0,222]
[21,15324,22,15330,24,15333,null,null,null,null,0,222]
[21,15431,22,15435,24,15438,null,null,null,null,0,222]
[21,15537,22,15540,24,15545,null,null,null,null,0,222]
[21,15648,22,15655,24,15660,null,null,null,null,0,222]
[21,15756,22,15759,24,15764,null,null,null,null,0,222]
[21,15865,22,15869,24,15874,null,null,null,null,0,222]
[21,15973,22,15982,24,15988,null,null,null,null,0,222]
[21,16084,22,16087,24,16092,null,null,null,null,0,222]
[21,16188,22,16191,24,16195,null,null,null,null,0,222]
[21,16291,22,16296,24,16300,null,null,null,null,0,222]
[21,16398,22,16402,24,16408,null,null,null,null,0,222]
[21,16528,22,16531,24,16536,null,null,null,null,0,222]
[21,16634,22,16638,24,16642,null,null,null,null,0,222]
[21,16772,22,16780,24,16785,null,null,null,null,0,222]
[21,16879,22,16885,24,16888,null,null,null,null,0,222]
[21,16985,22,16989,24,16992,null,null,null,null,0,222]
[21,17166,22,17169,24,17173,null,null,null,null,0,222]
[21,17271,22,17275,24,17280,null,null,null,null,0,222]
[21,17380,22,17390,24,17397,null,null,null,null,0,222]
[21,17495,22,17498,24,17501,null,null,null,null,0,222]
[21,17598,22,17602,24,17606,null,null,null,null,0,222]
[21,17704,22,17708,24,17712,null,null,null,null,0,222]
[21,17808,22,17812,24,17815,null,null,null,null,0,222]
[21,17921,22,17925,24,17929,null,null,null,null,0,222]
[21,18026,22,18037,24,18043,null,null,null,null,0,222]
[21,18141,22,18144,24,18148,null,null,null,null,0,222]
[21,18246,22,18250,24,18254,null,null,null,null,0,222]
[21,18353,22,18356,24,18361,null,null,null,null,0,222]
[21,18458,22,18461,24,18466,null,null,null,null,0,222]
[21,18564,22,18567,24,18571,null,null,null,null,0,222]
[21,18679,22,18701,24,18719,null,null,null,null,0,222]
[21,18816,22,18818,24,18820,null,null,null,null,0,222]
[21,18918,22,18921,24,18924,null,null,null,null,0,222]
[21,19024,22,19028,24,19034,null,null,null,null,0,222]
[21,19131,22,19135,24,19138,null,null,null,null,0,222]
[21,19246,22,19251,24,19255,null,null,null,null,0,222]
[12,19371,13,19373,13,19377,null,null,null,null,0,111]
[21,19478,22,19482,24,19486,null,null,null,null,0,222]
[21,19722,22,19727,24,19737,null,null,null,null,0,222]
[21,19890,22,19893,24,19897,null,null,null,null,0,222]
[21,20008,22,20012,24,20016,null,null,null,null,0,222]
[21,20130,22,20133,24,20137,null,null,null,null,0,222]
[21,20272,22,20276,24,20282,null,null,null,null,0,222]
[21,20379,22,20380,24,20384,null,null,null,null,0,222]
[21,20500,22,20502,24,20508,null,null,null,null,0,222]
[21,20895,22,20899,24,20902,null,null,null,null,0,222]
[21,21099,22,21106,24,21115,null,null,null,null,0,222]
[21,21211,22,21221,24,21226,null,null,null,null,0,222]
[21,21329,22,21332,24,21340,null,null,null,null,0,222]
[21,21436,22,21440,24,21444,null,null,null,null,0,222]
[21,21548,22,21550,24,21553,null,null,null,null,0,222]
[21,21649,22,21653,24,21657,null,null,null,null,0,222]
[21,21755,22,21762,24,21767,null,null,null,null,0,222]
[21,21910,22,21914,24,21920,null,null,null,null,0,222]
[21,22022,22,22025,24,22030,null,null,null,null,0,222]
[21,22131,22,22137,24,22141,null,null,null,null,0,222]
[21,22237,22,22241,24,22246,null,null,null,null,0,222]
[21,22346,22,22354,24,22368,null,null,null,null,0,222]
[21,22482,22,22486,24,22491,null,null,null,null,0,222]
[21,22593,22,22596,24,22601,null,null,null,null,0,222]
[21,22696,22,22705,24,22710,null,null,null,null,0,222]
[21,22808,22,22814,24,22821,null,null,null,null,0,222]
[21,22930,22,22933,24,22937,null,null,null,null,0,222]
[21,23033,22,23038,24,23041,null,null,null,null,0,222]
[21,23142,22,23146,24,23154,null,null,null,null,0,222]
[21,23250,22,23253,24,23262,null,null,null,null,0,222]
[21,23360,22,23364,24,23369,null,null,null,null,0,222]
[21,23468,22,23474,24,23478,null,null,null,null,0,222]
[21,23576,22,23582,24,23590,null,null,null,null,0,222]
[21,23694,22,23700,24,23706,null,null,null,null,0,222]
[21,23799,22,23807,24,23811,null,null,null,null,0,222]
[21,23908,22,23911,24,23914,null,null,null,null,0,222]

{"sheet":"!L927913..Ta","index":30,"n_rows":221,"n_cols":48,"rows_kept":221,"cut":false,"hidden":false,"merged":[[4,39,4,42],[5,39,5,40],[4,44,4,47],[5,44,5,45],[4,24,4,27],[5,24,5,25],[4,29,4,32],[5,29,5,30],[4,34,4,37],[5,34,5,35],[1,1,1,2],[5,13,5,14],[18,13,18,14],[19,13,19,14],[4,19,4,22],[5,19,5,20]]}
["Report for:!L927913..Ta"]
["Date:","<date>"]
["Hen:","<hen>",null,null,null,"Correct Sequence",{"$f":"Start!J2","v":211},null,null,null,null,null,null,null,null,"Total Sequences in Data",{"$f":"4994-COUNTBLANK(L7:L5000)","v":215},null,null,null,null,"Total Sequences in Block Data",{"$f":"COUNTA(L7:L42)","v":36},null,null,null,"Total Sequences in Block Data",{"$f":"COUNTA(L43:L78)","v":36},null,null,null,"Total Sequences in Block Data",{"$f":"COUNTA(L79:L113)","v":35},null,null,null,"Total Sequences in Block Data",{"$f":"COUNTA(L114:L149)","v":36},null,null,null,"Total Sequences in Block Data",{"$f":"COUNTA(L150:L185)","v":36},null,null,null,"Total Sequences in Block Data",{"$f":"COUNTA(L186:L221)","v":36}]
[null,null,null,null,null,null,null,null,null,null,null,null,null,null,null,"Total Sequences in Summary",{"$f":"SUM(O7:O14)","v":215},null,null,null,null,"Total Sequences in Block Summary",{"$f":"SUM(U7:U14)","v":36},null,null,null,"Total Sequences in Block Summary",{"$f":"SUM(Z7:Z14)","v":36},null,null,null,"Total Sequences in Block Summary",{"$f":"SUM(AE7:AE14)","v":35},null,null,null,"Total Sequences in Block Summary",{"$f":"SUM(AJ7:AJ14)","v":36},null,null,null,"Total Sequences in Block Summary",{"$f":"SUM(AO7:AO14)","v":36},null,null,null,"Total Sequences in Block Summary",{"$f":"SUM(AT7:AT14)","v":36}]
[null,null,null,null,null,null,null,null,null,null,null,null,null,null,null,null,null,null,null,"Block 1",null,null,null,null,"Block 2",null,null,null,null,"Block 3",null,null,null,null,"Block 4",null,null,null,null,"Block 5",null,null,null,null,"Block 6"]
["Sequence\nComponent\n1","Time\n1","Sequence\nComponent\n2","Time\n2","Sequence\nComponent\n3","Time\n3","Sequence\nComponent\n4","Time\n4","Sequence\nComponent\n5","Time\n5","Correct?\n0=No 1=Yes","Sequence",null,"Frequency",null,"Relative Frequency","Variability",null,null,"Frequency",null,"Relative Frequency","Variability",null,"Frequency",null,"Relative Frequency","Variability",null,"Frequency",null,"Relative Frequency","Variability",null,"Frequency",null,"Relative Frequency","Variability",null,"Frequency",null,"Relative Frequency","Variability",null,"Frequency",null,"Relative Frequency","Variability"]
[21,47,22,124,24,132,null,null,null,null,0,222,null,111,{"$f":"COUNTIF($L$7:$L$500,N7)","v":7},{"$f":"O7/$Q$4","v":3.255813953488372E-2},{"$f":"IF(P7=0,0,(P7*((LOG(P7))/LOG(2))))","v":-0.16086449066382785},null,null,{"$f":"N7","v":111},{"$f":"COUNTIF(L7:L42,T7)","v":4},{"$f":"U7/(W4-U11)","v":0.1111111111111111},{"$f":"IF(V7=0,0,(V7*((LOG(V7))/LOG(2))))","v":-0.3522138890491458},null,{"$f":"N7","v":111},{"$f":"COUNTIF(L43:L78,Y7)","v":1},{"$f":"Z7/(AB4-Z11)","v":2.7777777777777776E-2},{"$f":"IF(AA7=0,0,(AA7*((LOG(AA7))/LOG(2))))","v":-0.14360902781784199},null,{"$f":"N7","v":111},{"$f":"COUNTIF(L79:L113,AD7)","v":0},{"$f":"AE7/(AG4-AE11)","v":0},{"$f":"IF(AF7=0,0,(AF7*((LOG(AF7))/LOG(2))))","v":0},null,{"$f":"N7","v":111},{"$f":"COUNTIF(L114:L149,AI7)","v":1},{"$f":"AJ7/(AL4-AJ11)","v":2.7777777777777776E-2},{"$f":"IF(AK7=0,0,(AK7*((LOG(AK7))/LOG(2))))","v":-0.14360902781784199},null,{"$f":"N7","v":111},{"$f":"COUNTIF(L150:L185,AN7)","v":0},{"$f":"AO7/(AQ4-AO11)","v":0},{"$f":"IF(AP7=0,0,(AP7*((LOG(AP7))/LOG(2))))","v":0},null,{"$f":"N7","v":111},{"$f":"COUNTIF(L186:L221,AS7)","v":1},{"$f":"AT7/(AV4-AT11)","v":2.7777777777777776E-2},{"$f":"IF(AU7=0,0,(AU7*((LOG(AU7))/LOG(2))))","v":-0.14360902781784199}]
[21,231,22,232,24,237,null,null,null,null,0,222,null,112,{"$f":"COUNTIF($L$7:$L$500,N8)","v":2},{"$f":"O8/$Q$4","v":9.3023255813953487E-3},{"$f":"IF(P8=0,0,(P8*((LOG(P8))/LOG(2))))","v":-6.2773886972925214E-2},null,null,{"$f":"N8","v":112},{"$f":"COUNTIF(L7:L42,T8)","v":1},{"$f":"U8/(W4-U11)","v":2.7777777777777776E-2},{"$f":"IF(V8=0,0,(V8*((LOG(V8))/LOG(2))))","v":-0.14360902781784199},null,{"$f":"N8","v":112},{"$f":"COUNTIF(L43:L78,Y8)","v":0},{"$f":"Z8/(AB4-Z11)","v":0},{"$f":"IF(AA8=0,0,(AA8*((LOG(AA8))/LOG(2))))","v":0},null,{"$f":"N8","v":112},{"$f":"COUNTIF(L79:L113,AD8)","v":1},{"$f":"AE8/(AG4-AE11)","v":2.8571428571428571E-2},{"$f":"IF(AF8=0,0,(AF8*((LOG(AF8))/LOG(2))))","v":-0.14655094334128474},null,{"$f":"N8","v":112},{"$f":"COUNTIF(L114:L149,AI8)","v":0},{"$f":"AJ8/(AL4-AJ11)","v":0},{"$f":"IF(AK8=0,0,(AK8*((LOG(AK8))/LOG(2))))","v":0},null,{"$f":"N8","v":112},{"$f":"COUNTIF(L150:L185,AN8)","v":0},{"$f":"AO8/(AQ4-AO11)","v":0},{"$f":"IF(AP8=0,0,(AP8*((LOG(AP8))/LOG(2))))","v":0},null,{"$f":"N8","v":112},{"$f":"COUNTIF(L186:L221,AS8)","v":0},{"$f":"AT8/(AV4-AT11)","v":0},{"$f":"IF(AU8=0,0,(AU8*((LOG(AU8))/LOG(2))))","v":0}]
[21,338,22,345,24,348,null,null,null,null,0,222,null,121,{"$f":"COUNTIF($L$7:$L$500,N9)","v":1},{"$f":"O9/$Q$4","v":4.6511627906976744E-3},{"$f":"IF(P9=0,0,(P9*((LOG(P9))/LOG(2))))","v":-3.6038106277160281E-2},null,null,{"$f":"N9","v":121},{"$f":"COUNTIF(L7:L42,T9)","v":0},{"$f":"U9/(W4-U11)","v":0},{"$f":"IF(V9=0,0,(V9*((LOG(V9))/LOG(2))))","v":0},null,{"$f":"N9","v":121},{"$f":"COUNTIF(L43:L78,Y9)","v":0},{"$f":"Z9/(AB4-Z11)","v":0},{"$f":"IF(AA9=0,0,(AA9*((LOG(AA9))/LOG(2))))","v":0},null,{"$f":"N9","v":121},{"$f":"COUNTIF(L79:L113,AD9)","v":1},{"$f":"AE9/(AG4-AE11)","v":2.8571428571428571E-2},{"$f":"IF(AF9=0,0,(AF9*((LOG(AF9))/LOG(2))))","v":-0.14655094334128474},null,{"$f":"N9","v":121},{"$f":"COUNTIF(L114:L149,AI9)","v":0},{"$f":"AJ9/(AL4-AJ11)","v":0},{"$f":"IF(AK9=0,0,(AK9*((LOG(AK9))/LOG(2))))","v":0},null,{"$f":"N9","v":121},{"$f":"COUNTIF(L150:L185,AN9)","v":0},{"$f":"AO9/(AQ4-AO11)","v":0},{"$f":"IF(AP9=0,0,(AP9*((LOG(AP9))/LOG(2))))","v":0},null,{"$f":"N9","v":121},{"$f":"COUNTIF(L186:L221,AS9)","v":0},{"$f":"AT9/(AV4-AT11)","v":0},{"$f":"IF(AU9=0,0,(AU9*((LOG(AU9))/LOG(2))))","v":0}]
[21,467,22,470,24,476,null,null,null,null,0,222,null,122,{"$f":"COUNTIF($L$7:$L$500,N10)","v":1},{"$f":"O10/$Q$4","v":4.6511627906976744E-3},{"$f":"IF(P10=0,0,(P10*((LOG(P10))/LOG(2))))","v":-3.6038106277160281E-2},null,null,{"$f":"N10","v":122},{"$f":"COUNTIF(L7:L42,T10)","v":0},{"$f":"U10/(W4-U11)","v":0},{"$f":"IF(V10=0,0,(V10*((LOG(V10))/LOG(2))))","v":0},null,{"$f":"N10","v":122},{"$f":"COUNTIF(L43:L78,Y10)","v":0},{"$f":"Z10/(AB4-Z11)","v":0},{"$f":"IF(AA10=0,0,(AA10*((LOG(AA10))/LOG(2))))","v":0},null,{"$f":"N10","v":122},{"$f":"COUNTIF(L79:L113,AD10)","v":0},{"$f":"AE10/(AG4-AE11)","v":0},{"$f":"IF(AF10=0,0,(AF10*((LOG(AF10))/LOG(2))))","v":0},null,{"$f":"N10","v":122},{"$f":"COUNTIF(L114:L149,AI10)","v":0},{"$f":"AJ10/(AL4-AJ11)","v":0},{"$f":"IF(AK10=0,0,(AK10*((LOG(AK10))/LOG(2))))","v":0},null,{"$f":"N10","v":122},{"$f":"COUNTIF(L150:L185,AN10)","v":0},{"$f":"AO10/(AQ4-AO11)","v":0},{"$f":"IF(AP10=0,0,(AP10*((LOG(AP10))/LOG(2))))","v":0},null,{"$f":"N10","v":122},{"$f":"COUNTIF(L186:L221,AS10)","v":1},{"$f":"AT10/(AV4-AT11)","v":2.7777777777777776E-2},{"$f":"IF(AU10=0,0,(AU10*((LOG(AU10))/LOG(2))))","v":-0.14360902781784199}]
[21,576,22,580,24,583,null,null,null,null,0,222,null,211,{"$f":"COUNTIF($L$7:$L$500,N11)","v":0},{"$f":"O11/$Q$4","v":0},{"$f":"IF(P11=0,0,(P11*((LOG(P11))/LOG(2))))","v":0},null,null,{"$f":"N11","v":211},{"$f":"COUNTIF(L7:L42,T11)","v":0},null,null,null,{"$f":"N11","v":211},{"$f":"COUNTIF(L43:L78,Y11)","v":0},null,null,null,{"$f":"N11","v":211},{"$f":"COUNTIF(L79:L113,AD11)","v":0},null,null,null,{"$f":"N11","v":211},{"$f":"COUNTIF(L114:L149,AI11)","v":0},null,null,null,{"$f":"N11","v":211},{"$f":"COUNTIF(L150:L185,AN11)","v":0},null,null,null,{"$f":"N11","v":211},{"$f":"COUNTIF(L186:L221,AS11)","v":0}]
[21,680,22,688,24,692,null,null,null,null,0,222,null,212,{"$f":"COUNTIF($L$7:$L$500,N12)","v":0},{"$f":"O12/$Q$4","v":0},{"$f":"IF(P12=0,0,(P12*((LOG(P12))/LOG(2))))","v":0},null,null,{"$f":"N12","v":212},{"$f":"COUNTIF(L7:L42,T12)","v":0},{"$f":"U12/(W4-U11)","v":0},{"$f":"IF(V12=0,0,(V12*((LOG(V12))/LOG(2))))","v":0},null,{"$f":"N12","v":212},{"$f":"COUNTIF(L43:L78,Y12)","v":0},{"$f":"Z12/(AB4-Z11)","v":0},{"$f":"IF(AA12=0,0,(AA12*((LOG(AA12))/LOG(2))))","v":0},null,{"$f":"N12","v":212},{"$f":"COUNTIF(L79:L113,AD12)","v":0},{"$f":"AE12/(AG4-AE11)","v":0},{"$f":"IF(AF12=0,0,(AF12*((LOG(AF12))/LOG(2))))","v":0},null,{"$f":"N12","v":212},{"$f":"COUNTIF(L114:L149,AI12)","v":0},{"$f":"AJ12/(AL4-AJ11)","v":0},{"$f":"IF(AK12=0,0,(AK12*((LOG(AK12))/LOG(2))))","v":0},null,{"$f":"N12","v":212},{"$f":"COUNTIF(L150:L185,AN12)","v":0},{"$f":"AO12/(AQ4-AO11)","v":0},{"$f":"IF(AP12=0,0,(AP12*((LOG(AP12))/LOG(2))))","v":0},null,{"$f":"N12","v":212},{"$f":"COUNTIF(L186:L221,AS12)","v":0},{"$f":"AT12/(AV4-AT11)","v":0},{"$f":"IF(AU12=0,0,(AU12*((LOG(AU12))/LOG(2))))","v":0}]
[21,790,22,794,24,797,null,null,null,null,0,222,null,221,{"$f":"COUNTIF($L$7:$L$500,N13)","v":0},{"$f":"O13/$Q$4","v":0},{"$f":"IF(P13=0,0,(P13*((LOG(P13))/LOG(2))))","v":0},null,null,{"$f":"N13","v":221},{"$f":"COUNTIF(L7:L42,T13)","v":0},{"$f":"U13/(W4-U11)","v":0},{"$f":"IF(V13=0,0,(V13*((LOG(V13))/LOG(2))))","v":0},null,{"$f":"N13","v":221},{"$f":"COUNTIF(L43:L78,Y13)","v":0},{"$f":"Z13/(AB4-Z11)","v":0},{"$f":"IF(AA13=0,0,(AA13*((LOG(AA13))/LOG(2))))","v":0},null,{"$f":"N13","v":221},{"$f":"COUNTIF(L79:L113,AD13)","v":0},{"$f":"AE13/(AG4-AE11)","v":0},{"$f":"IF(AF13=0,0,(AF13*((LOG(AF13))/LOG(2))))","v":0},null,{"$f":"N13","v":221},{"$f":"COUNTIF(L114:L149,AI13)","v":0},{"$f":"AJ13/(AL4-AJ11)","v":0},{"$f":"IF(AK13=0,0,(AK13*((LOG(AK13))/LOG(2))))","v":0},null,{"$f":"N13","v":221},{"$f":"COUNTIF(L150:L185,AN13)","v":0},{"$f":"AO13/(AQ4-AO11)","v":0},{"$f":"IF(AP13=0,0,(AP13*((LOG(AP13))/LOG(2))))","v":0},null,{"$f":"N13","v":221},{"$f":"COUNTIF(L186:L221,AS13)","v":0},{"$f":"AT13/(AV4-AT11)","v":0},{"$f":"IF(AU13=0,0,(AU13*((LOG(AU13))/LOG(2))))","v":0}]
[21,901,22,905,24,910,null,null,null,null,0,222,null,222,{"$f":"COUNTIF($L$7:$L$500,N14)","v":204},{"$f":"O14/$Q$4","v":0.94883720930232562},{"$f":"IF(P14=0,0,(P14*((LOG(P14))/LOG(2))))","v":-7.1891030484022247E-2},null,null,{"$f":"N14","v":222},{"$f":"COUNTIF(L7:L42,T14)","v":31},{"$f":"U14/(W4-U11)","v":0.86111111111111116},{"$f":"IF(V14=0,0,(V14*((LOG(V14))/LOG(2))))","v":-0.18576637285329303},null,{"$f":"N14","v":222},{"$f":"COUNTIF(L43:L78,Y14)","v":35},{"$f":"Z14/(AB4-Z11)","v":0.97222222222222221},{"$f":"IF(AA14=0,0,(AA14*((LOG(AA14))/LOG(2))))","v":-3.9513040483530763E-2},null,{"$f":"N14","v":222},{"$f":"COUNTIF(L79:L113,AD14)","v":33},{"$f":"AE14/(AG4-AE11)","v":0.94285714285714284},{"$f":"IF(AF14=0,0,(AF14*((LOG(AF14))/LOG(2))))","v":-8.0038103438712302E-2},null,{"$f":"N14","v":222},{"$f":"COUNTIF(L114:L149,AI14)","v":35},{"$f":"AJ14/(AL4-AJ11)","v":0.97222222222222221},{"$f":"IF(AK14=0,0,(AK14*((LOG(AK14))/LOG(2))))","v":-3.9513040483530763E-2},null,{"$f":"N14","v":222},{"$f":"COUNTIF(L150:L185,AN14)","v":36},{"$f":"AO14/(AQ4-AO11)","v":1},{"$f":"IF(AP14=0,0,(AP14*((LOG(AP14))/LOG(2))))","v":0},null,{"$f":"N14","v":222},{"$f":"COUNTIF(L186:L221,AS14)","v":34},{"$f":"AT14/(AV4-AT11)","v":0.94444444444444442},{"$f":"IF(AU14=0,0,(AU14*((LOG(AU14))/LOG(2))))","v":-7.7880929070196711E-2}]
[21,1012,22,1020,24,1025,null,null,null,null,0,222,null,null,null,{"$f":"SUM(P7:P14)","v":1},{"$f":"-SUM(Q7:Q14)","v":0.36760562067509583},null,null,null,null,{"$f":"SUM(V7:V14)","v":1},{"$f":"-SUM(W7:W14)","v":0.68158928972028077},null,null,null,{"$f":"SUM(AA7:AA14)","v":1},{"$f":"-SUM(AB7:AB14)","v":0.18312206830137276},null,null,null,{"$f":"SUM(AF7:AF14)","v":1},{"$f":"-SUM(AG7:AG14)","v":0.37313999012128179},null,null,null,{"$f":"SUM(AK7:AK14)","v":1},{"$f":"-SUM(AL7:AL14)","v":0.18312206830137276},null,null,null,{"$f":"SUM(AP7:AP14)","v":1},{"$f":"-SUM(AQ7:AQ14)","v":0},null,null,null,{"$f":"SUM(AU7:AU14)","v":1},{"$f":"-SUM(AV7:AV14)","v":0.3650989847058807}]
[21,1122,22,1124,24,1127,null,null,null,null,0,222,null,null,null,"U=",{"$f":"Q15/(LOG(Q4)/LOG(2))","v":4.7444046348765506E-2},null,null,null,null,"U1=",{"$f":"W15/(LOG(W4)/LOG(2))","v":0.13183736505464394},null,null,null,"U2=",{"$f":"AB15/(LOG(AB4)/LOG(2))","v":3.5420643094490757E-2},null,null,null,"U3=",{"$f":"AG15/(LOG(AG4)/LOG(2))","v":7.2747007503502187E-2},null,null,null,"U4=",{"$f":"AL15/(LOG(AL4)/LOG(2))","v":3.5420643094490757E-2},null,null,null,"U5=",{"$f":"AQ15/(LOG(AQ4)/LOG(2))","v":0},null,null,null,"U6=",{"$f":"AV15/(LOG(AV4)/LOG(2))","v":7.0619783575975453E-2}]
[12,1262,13,1267,13,1273,null,null,null,null,0,111]
[21,1376,22,1379,24,1385,null,null,null,null,0,222]
[21,1485,22,1489,24,1492,null,null,null,null,0,222,null,"Total Target Seq"]
[21,1592,22,1596,24,1600,null,null,null,null,0,222,null,{"$f":"COUNTIF(L7:L221,G3)","v":0},null,36,36,35,36,36,36]
[21,1699,22,1701,24,1704,null,null,null,null,0,222,null,null,null,"% of reinforcement given in 6 equal intervals based on number of trials "]
[21,1806,22,1809,24,1813,null,null,null,null,0,222,null,null,null,"%_1","%_2","%_3","%_4","%_5","%_6"]
[21,1912,22,1916,24,1919,null,null,null,null,0,222,null,null,"target sequence",{"$f":"$G$3","v":211},{"$f":"$G$3","v":211},{"$f":"$G$3","v":211},{"$f":"$G$3","v":211},{"$f":"$G$3","v":211},{"$f":"$G$3","v":211}]
[21,2021,22,2025,24,2039,null,null,null,null,0,222,null,null,"total reinforcement",{"$f":"U11","v":0},{"$f":"Z11","v":0},{"$f":"AE11","v":0},{"$f":"AJ11","v":0},{"$f":"AO11","v":0},{"$f":"AT11","v":0}]
[21,2135,22,2139,24,2144,null,null,null,null,0,222,null,null,"% target"]
[21,2271,22,2276,24,2279,null,null,null,null,0,222,null,null,"CCRF"]
[21,2376,22,2379,24,2383,null,null,null,null,0,222,null,null,"% CCRf"]
[21,2484,22,2488,24,2493,null,null,null,null,0,222,null,null,"average response rate",{"$f":"F42/P20","v":112.86111111111111},{"$f":"(F78-F42)/Q20","v":111},{"$f":"(F113-F78)/R20","v":112.48571428571428},{"$f":"(F149-F113)/S20","v":107.41666666666667},{"$f":"(F185-F149)/T20","v":115.11111111111111},{"$f":"(F221-F185)/U20","v":110.80555555555556}]
[12,2601,13,2603,13,2609,null,null,null,null,0,111]
[21,2715,22,2720,24,2725,null,null,null,null,0,222]
[21,2830,22,2833,24,2837,null,null,null,null,0,222]
[21,2940,22,2945,24,2949,null,null,null,null,0,222]
[21,3048,22,3055,24,3060,null,null,null,null,0,222]
[21,3167,22,3172,24,3176,null,null,null,null,0,222]
[12,3272,13,3285,13,3290,null,null,null,null,0,111]
[21,3390,22,3393,24,3396,null,null,null,null,0,222]
[21,3495,22,3498,24,3503,null,null,null,null,0,222]
[21,3601,22,3605,24,3608,null,null,null,null,0,222]
[21,3709,22,3713,24,3720,null,null,null,null,0,222]
[12,3829,13,3834,24,3847,null,null,null,null,0,112]
[12,3940,13,3943,13,3951,null,null,null,null,0,111]
[21,4050,22,4054,24,4063,null,null,null,null,0,222]
[21,4160,22,4163,24,4166,null,null,null,null,0,222]
[21,4269,22,4271,24,4273,null,null,null,null,0,222]
[21,4376,22,4380,24,4387,null,null,null,null,0,222]
[21,4490,22,4495,24,4501,null,null,null,null,0,222]
[21,4606,22,4610,24,4615,null,null,null,null,0,222]
[21,4714,22,4718,24,4722,null,null,null,null,0,222]
[21,4818,22,4823,24,4833,null,null,null,null,0,222]
[21,4928,22,4931,24,4934,null,null,null,null,0,222]
[21,5031,22,5033,24,5038,null,null,null,null,0,222]
[21,5139,22,5143,24,5152,null,null,null,null,0,222]
[21,5246,22,5249,24,5253,null,null,null,null,0,222]
[12,5352,13,5357,13,5362,null,null,null,null,0,111]
[21,5480,22,5484,24,5489,null,null,null,null,0,222]
[21,5591,22,5594,24,5599,null,null,null,null,0,222]
[21,5699,22,5703,24,5706,null,null,null,null,0,222]
[21,5808,22,5812,24,5815,null,null,null,null,0,222]
[21,5916,22,5919,24,5923,null,null,null,null,0,222]
[21,6023,22,6027,24,6033,null,null,null,null,0,222]
[21,6132,22,6138,24,6142,null,null,null,null,0,222]
[21,6240,22,6244,24,6247,null,null,null,null,0,222]
[21,6344,22,6349,24,6352,null,null,null,null,0,222]
[21,6499,22,6503,24,6509,null,null,null,null,0,222]
[21,6606,22,6610,24,6614,null,null,null,null,0,222]
[21,6716,22,6720,24,6725,null,null,null,null,0,222]
[21,6823,22,6827,24,6830,null,null,null,null,0,222]
[21,6929,22,6932,24,6936,null,null,null,null,0,222]
[21,7039,22,7042,24,7052,null,null,null,null,0,222]
[21,7150,22,7154,24,7158,null,null,null,null,0,222]
[21,7256,22,7263,24,7266,null,null,null,null,0,222]
[21,7378,22,7381,24,7387,null,null,null,null,0,222]
[21,7484,22,7488,24,7491,null,null,null,null,0,222]
[21,7595,22,7600,24,7605,null,null,null,null,0,222]
[21,7703,22,7708,24,7712,null,null,null,null,0,222]
[21,7821,22,7825,24,7831,null,null,null,null,0,222]
[21,7943,22,7948,24,7955,null,null,null,null,0,222]
[21,8052,22,8056,24,8059,null,null,null,null,0,222]
[21,8155,22,8165,24,8170,null,null,null,null,0,222]
[21,8267,22,8271,24,8275,null,null,null,null,0,222]
[21,8375,22,8379,24,8382,null,null,null,null,0,222]
[21,8478,22,8482,24,8486,null,null,null,null,0,222]
[12,8591,13,8592,24,8596,null,null,null,null,0,112]
[21,8693,22,8696,24,8700,null,null,null,null,0,222]
[21,8830,22,8834,24,8839,null,null,null,null,0,222]
[21,8942,22,8946,24,8955,null,null,null,null,0,222]
[21,9052,22,9056,24,9060,null,null,null,null,0,222]
[21,9157,22,9161,24,9164,null,null,null,null,0,222]
[21,9262,22,9265,24,9271,null,null,null,null,0,222]
[21,9368,22,9375,24,9379,null,null,null,null,0,222]
[21,9475,22,9482,24,9487,null,null,null,null,0,222]
[21,9584,22,9587,24,9590,null,null,null,null,0,222]
[21,9691,22,9695,24,9700,null,null,null,null,0,222]
[21,9800,22,9804,24,9809,null,null,null,null,0,222]
[21,9901,22,9905,24,9911,null,null,null,null,0,222]
[21,10009,22,10014,24,10019,null,null,null,null,0,222]
[21,10115,22,10121,24,10124,null,null,null,null,0,222]
[21,10222,22,10226,24,10233,null,null,null,null,0,222]
[21,10330,22,10334,24,10339,null,null,null,null,0,222]
[21,10437,22,10439,24,10441,null,null,null,null,0,222]
[21,10599,22,10606,24,10611,null,null,null,null,0,222]
[21,10753,22,10757,24,10761,null,null,null,null,0,222]
[21,10859,22,10863,24,10867,null,null,null,null,0,222]
[21,10966,22,10975,24,10982,null,null,null,null,0,222]
[21,11089,22,11096,24,11100,null,null,null,null,0,222]
[21,11200,22,11206,24,11211,null,null,null,null,0,222]
[21,11309,22,11312,24,11319,null,null,null,null,0,222]
[21,11427,22,11433,24,11445,null,null,null,null,0,222]
[21,11542,22,11547,24,11554,null,null,null,null,0,222]
[21,11657,22,11659,24,11664,null,null,null,null,0,222]
[12,11761,24,11766,13,11774,null,null,null,null,0,121]
[21,11879,22,11882,24,11885,null,null,null,null,0,222]
[21,11987,22,11991,24,11996,null,null,null,null,0,222]
[12,12092,13,12097,13,12100,null,null,null,null,0,111]
[21,12195,22,12201,24,12204,null,null,null,null,0,222]
[21,12304,22,12308,24,12312,null,null,null,null,0,222]
[21,12405,22,12415,24,12418,null,null,null,null,0,222]
[21,12518,22,12521,24,12528,null,null,null,null,0,222]
[21,12622,22,12632,24,12636,null,null,null,null,0,222]
[21,12734,22,12738,24,12742,null,null,null,null,0,222]
[21,12841,22,12849,24,12855,null,null,null,null,0,222]
[21,12950,22,12956,24,12959,null,null,null,null,0,222]
[21,13054,22,13059,24,13062,null,null,null,null,0,222]
[21,13160,22,13167,24,13170,null,null,null,null,0,222]
[21,13273,22,13276,24,13282,null,null,null,null,0,222]
[21,13382,22,13385,24,13389,null,null,null,null,0,222]
[21,13483,22,13491,24,13496,null,null,null,null,0,222]
[21,13606,22,13609,24,13613,null,null,null,null,0,222]
[21,13710,22,13717,24,13722,null,null,null,null,0,222]
[21,13819,22,13822,24,13825,null,null,null,null,0,222]
[21,13922,22,13929,24,13933,null,null,null,null,0,222]
[21,14031,22,14034,24,14037,null,null,null,null,0,222]
[21,14130,22,14136,24,14139,null,null,null,null,0,222]
[21,14238,22,14242,24,14245,null,null,null,null,0,222]
[21,14348,22,14352,24,14356,null,null,null,null,0,222]
[21,14458,22,14466,24,14477,null,null,null,null,0,222]
[21,14573,22,14576,24,14580,null,null,null,null,0,222]
[21,14680,22,14683,24,14688,null,null,null,null,0,222]
[21,14790,22,14794,24,14799,null,null,null,null,0,222]
[21,14896,22,14899,24,14902,null,null,null,null,0,222]
[21,15001,22,15007,24,15012,null,null,null,null,0,222]
[21,15108,22,15110,24,15117,null,null,null,null,0,222]
[21,15216,22,15219,24,15222,null,null,null,null,0,222]
[21,15318,22,15320,24,15324,null,null,null,null,0,222]
[21,15421,22,15425,24,15430,null,null,null,null,0,222]
[21,15525,22,15529,24,15532,null,null,null,null,0,222]
[21,15629,22,15636,24,15642,null,null,null,null,0,222]
[21,15741,22,15744,24,15748,null,null,null,null,0,222]
[21,15853,22,15857,24,15863,null,null,null,null,0,222]
[21,15975,22,15979,24,15983,null,null,null,null,0,222]
[21,16080,22,16084,24,16088,null,null,null,null,0,222]
[21,16186,22,16193,24,16197,null,null,null,null,0,222]
[21,16296,22,16301,24,16306,null,null,null,null,0,222]
[21,16404,22,16407,24,16411,null,null,null,null,0,222]
[21,16507,22,16512,24,16515,null,null,null,null,0,222]
[21,16613,22,16617,24,16620,null,null,null,null,0,222]
[21,16717,22,16718,24,16720,null,null,null,null,0,222]
[21,16818,22,16821,24,16826,null,null,null,null,0,222]
[21,16980,22,16984,24,16989,null,null,null,null,0,222]
[21,17099,22,17102,24,17106,null,null,null,null,0,222]
[21,17203,22,17208,24,17212,null,null,null,null,0,222]
[21,17319,22,17321,24,17325,null,null,null,null,0,222]
[21,17440,22,17447,24,17455,null,null,null,null,0,222]
[21,17551,22,17558,24,17561,null,null,null,null,0,222]
[21,17673,22,17677,24,17681,null,null,null,null,0,222]
[21,17818,22,17823,24,17831,null,null,null,null,0,222]
[21,17931,22,17935,24,17941,null,null,null,null,0,222]
[21,18039,22,18042,24,18046,null,null,null,null,0,222]
[21,18171,22,18174,24,18180,null,null,null,null,0,222]
[21,18281,22,18287,24,18294,null,null,null,null,0,222]
[21,18390,22,18393,24,18397,null,null,null,null,0,222]
[21,18493,22,18497,24,18501,null,null,null,null,0,222]
[21,18613,22,18617,24,18621,null,null,null,null,0,222]
[21,18721,22,18724,24,18727,null,null,null,null,0,222]
[21,18823,22,18828,24,18838,null,null,null,null,0,222]
[21,18936,22,18940,24,18944,null,null,null,null,0,222]
[21,19041,22,19045,24,19049,null,null,null,null,0,222]
[21,19184,22,19188,24,19191,null,null,null,null,0,222]
[21,19292,22,19295,24,19299,null,null,null,null,0,222]
[21,19448,22,19452,24,19458,null,null,null,null,0,222]
[21,19563,22,19566,24,19572,null,null,null,null,0,222]
[21,19671,22,19674,24,19679,null,null,null,null,0,222]
[21,19777,22,19784,24,19794,null,null,null,null,0,222]
[21,19892,22,19896,24,19900,null,null,null,null,0,222]
[21,19998,22,20004,24,20007,null,null,null,null,0,222]
[12,20126,13,20132,13,20140,null,null,null,null,0,111]
[21,20237,22,20243,24,20249,null,null,null,null,0,222]
[21,20343,22,20347,24,20350,null,null,null,null,0,222]
[21,20448,22,20451,24,20457,null,null,null,null,0,222]
[21,20557,22,20560,24,20564,null,null,null,null,0,222]
[21,20667,22,20671,24,20677,null,null,null,null,0,222]
[12,20770,24,20785,24,20789,null,null,null,null,0,122]
[21,20890,22,20893,24,20899,null,null,null,null,0,222]
[21,20996,22,20998,24,21001,null,null,null,null,0,222]
[21,21104,22,21108,24,21116,null,null,null,null,0,222]
[21,21212,22,21217,24,21223,null,null,null,null,0,222]
[21,21324,22,21328,24,21334,null,null,null,null,0,222]
[21,21427,22,21439,24,21443,null,null,null,null,0,222]
[21,21561,22,21565,24,21570,null,null,null,null,0,222]
[21,21682,22,21686,24,21691,null,null,null,null,0,222]
[21,21788,22,21792,24,21796,null,null,null,null,0,222]
[21,21895,22,21898,24,21903,null,null,null,null,0,222]
[21,22002,22,22005,24,22010,null,null,null,null,0,222]
[21,22111,22,22115,24,22120,null,null,null,null,0,222]
[21,22219,22,22221,24,22225,null,null,null,null,0,222]
[21,22326,22,22329,24,22335,null,null,null,null,0,222]
[21,22431,22,22435,24,22438,null,null,null,null,0,222]
[21,22536,22,22540,24,22543,null,null,null,null,0,222]
[21,22682,22,22686,24,22690,null,null,null,null,0,222]
[21,22787,22,22792,24,22795,null,null,null,null,0,222]
[21,22896,22,22905,24,22912,null,null,null,null,0,222]
[21,23011,22,23014,24,23019,null,null,null,null,0,222]
[21,23117,22,23120,24,23127,null,null,null,null,0,222]
[21,23223,22,23228,24,23231,null,null,null,null,0,222]
[21,23327,22,23330,24,23333,null,null,null,null,0,222]
[21,23434,22,23438,24,23445,null,null,null,null,0,222]
[21,23550,22,23554,24,23560,null,null,null,null,0,222]
[21,23656,22,23659,24,23664,null,null,null,null,0,222]
[21,23761,22,23764,24,23767,null,null,null,null,0,222]
[21,23873,22,23876,24,23882,null,null,null,null,0,222]
[21,23988,22,23992,24,23996,null,null,null,null,1,222]

{"sheet":"!L928923..Ta","index":31,"n_rows":220,"n_cols":48,"rows_kept":220,"cut":false,"hidden":false,"merged":[[4,39,4,42],[5,39,5,40],[4,44,4,47],[5,44,5,45],[4,24,4,27],[5,24,5,25],[4,29,4,32],[5,29,5,30],[4,34,4,37],[5,34,5,35],[1,1,1,2],[5,13,5,14],[18,13,18,14],[19,13,19,14],[4,19,4,22],[5,19,5,20]]}
["Report for:!L928923..Ta"]
["Date:","<date>"]
["Hen:","<hen>",null,null,null,"Correct Sequence",{"$f":"Start!J2","v":211},null,null,null,null,null,null,null,null,"Total Sequences in Data",{"$f":"4994-COUNTBLANK(L7:L5000)","v":214},null,null,null,null,"Total Sequences in Block Data",{"$f":"COUNTA(L7:L42)","v":36},null,null,null,"Total Sequences in Block Data",{"$f":"COUNTA(L43:L77)","v":35},null,null,null,"Total Sequences in Block Data",{"$f":"COUNTA(L78:L113)","v":36},null,null,null,"Total Sequences in Block Data",{"$f":"COUNTA(L114:L149)","v":36},null,null,null,"Total Sequences in Block Data",{"$f":"COUNTA(L150:L184)","v":35},null,null,null,"Total Sequences in Block Data",{"$f":"COUNTA(L185:L220)","v":36}]
[null,null,null,null,null,null,null,null,null,null,null,null,null,null,null,"Total Sequences in Summary",{"$f":"SUM(O7:O14)","v":214},null,null,null,null,"Total Sequences in Block Summary",{"$f":"SUM(U7:U14)","v":36},null,null,null,"Total Sequences in Block Summary",{"$f":"SUM(Z7:Z14)","v":35},null,null,null,"Total Sequences in Block Summary",{"$f":"SUM(AE7:AE14)","v":36},null,null,null,"Total Sequences in Block Summary",{"$f":"SUM(AJ7:AJ14)","v":36},null,null,null,"Total Sequences in Block Summary",{"$f":"SUM(AO7:AO14)","v":35},null,null,null,"Total Sequences in Block Summary",{"$f":"SUM(AT7:AT14)","v":36}]
[null,null,null,null,null,null,null,null,null,null,null,null,null,null,null,null,null,null,null,"Block 1",null,null,null,null,"Block 2",null,null,null,null,"Block 3",null,null,null,null,"Block 4",null,null,null,null,"Block 5",null,null,null,null,"Block 6"]
["Sequence\nComponent\n1","Time\n1","Sequence\nComponent\n2","Time\n2","Sequence\nComponent\n3","Time\n3","Sequence\nComponent\n4","Time\n4","Sequence\nComponent\n5","Time\n5","Correct?\n0=No 1=Yes","Sequence",null,"Frequency",null,"Relative Frequency","Variability",null,null,"Frequency",null,"Relative Frequency","Variability",null,"Frequency",null,"Relative Frequency","Variability",null,"Frequency",null,"Relative Frequency","Variability",null,"Frequency",null,"Relative Frequency","Variability",null,"Frequency",null,"Relative Frequency","Variability",null,"Frequency",null,"Relative Frequency","Variability"]
[21,7,22,16,24,19,null,null,null,null,0,222,null,111,{"$f":"COUNTIF($L$7:$L$500,N7)","v":6},{"$f":"O7/$Q$4","v":2.8037383177570093E-2},{"$f":"IF(P7=0,0,(P7*((LOG(P7))/LOG(2))))","v":-0.14457489212186889},null,null,{"$f":"N7","v":111},{"$f":"COUNTIF(L7:L42,T7)","v":2},{"$f":"U7/(W4-U11)","v":5.5555555555555552E-2},{"$f":"IF(V7=0,0,(V7*((LOG(V7))/LOG(2))))","v":-0.23166250008012845},null,{"$f":"N7","v":111},{"$f":"COUNTIF(L43:L77,Y7)","v":2},{"$f":"Z7/(AB4-Z11)","v":5.7142857142857141E-2},{"$f":"IF(AA7=0,0,(AA7*((LOG(AA7))/LOG(2))))","v":-0.23595902953971234},null,{"$f":"N7","v":111},{"$f":"COUNTIF(L78:L113,AD7)","v":1},{"$f":"AE7/(AG4-AE11)","v":2.7777777777777776E-2},{"$f":"IF(AF7=0,0,(AF7*((LOG(AF7))/LOG(2))))","v":-0.14360902781784199},null,{"$f":"N7","v":111},{"$f":"COUNTIF(L114:L149,AI7)","v":1},{"$f":"AJ7/(AL4-AJ11)","v":2.7777777777777776E-2},{"$f":"IF(AK7=0,0,(AK7*((LOG(AK7))/LOG(2))))","v":-0.14360902781784199},null,{"$f":"N7","v":111},{"$f":"COUNTIF(L150:L184,AN7)","v":0},{"$f":"AO7/(AQ4-AO11)","v":0},{"$f":"IF(AP7=0,0,(AP7*((LOG(AP7))/LOG(2))))","v":0},null,{"$f":"N7","v":111},{"$f":"COUNTIF(L185:L220,AS7)","v":0},{"$f":"AT7/(AV4-AT11)","v":0},{"$f":"IF(AU7=0,0,(AU7*((LOG(AU7))/LOG(2))))","v":0}]
[21,114,22,117,24,124,null,null,null,null,0,222,null,112,{"$f":"COUNTIF($L$7:$L$500,N8)","v":1},{"$f":"O8/$Q$4","v":4.6728971962616819E-3},{"$f":"IF(P8=0,0,(P8*((LOG(P8))/LOG(2))))","v":-3.6175079375706291E-2},null,null,{"$f":"N8","v":112},{"$f":"COUNTIF(L7:L42,T8)","v":0},{"$f":"U8/(W4-U11)","v":0},{"$f":"IF(V8=0,0,(V8*((LOG(V8))/LOG(2))))","v":0},null,{"$f":"N8","v":112},{"$f":"COUNTIF(L43:L77,Y8)","v":0},{"$f":"Z8/(AB4-Z11)","v":0},{"$f":"IF(AA8=0,0,(AA8*((LOG(AA8))/LOG(2))))","v":0},null,{"$f":"N8","v":112},{"$f":"COUNTIF(L78:L113,AD8)","v":0},{"$f":"AE8/(AG4-AE11)","v":0},{"$f":"IF(AF8=0,0,(AF8*((LOG(AF8))/LOG(2))))","v":0},null,{"$f":"N8","v":112},{"$f":"COUNTIF(L114:L149,AI8)","v":0},{"$f":"AJ8/(AL4-AJ11)","v":0},{"$f":"IF(AK8=0,0,(AK8*((LOG(AK8))/LOG(2))))","v":0},null,{"$f":"N8","v":112},{"$f":"COUNTIF(L150:L184,AN8)","v":0},{"$f":"AO8/(AQ4-AO11)","v":0},{"$f":"IF(AP8=0,0,(AP8*((LOG(AP8))/LOG(2))))","v":0},null,{"$f":"N8","v":112},{"$f":"COUNTIF(L185:L220,AS8)","v":1},{"$f":"AT8/(AV4-AT11)","v":2.7777777777777776E-2},{"$f":"IF(AU8=0,0,(AU8*((LOG(AU8))/LOG(2))))","v":-0.14360902781784199}]
[21,224,22,228,24,232,null,null,null,null,0,222,null,121,{"$f":"COUNTIF($L$7:$L$500,N9)","v":0},{"$f":"O9/$Q$4","v":0},{"$f":"IF(P9=0,0,(P9*((LOG(P9))/LOG(2))))","v":0},null,null,{"$f":"N9","v":121},{"$f":"COUNTIF(L7:L42,T9)","v":0},{"$f":"U9/(W4-U11)","v":0},{"$f":"IF(V9=0,0,(V9*((LOG(V9))/LOG(2))))","v":0},null,{"$f":"N9","v":121},{"$f":"COUNTIF(L43:L77,Y9)","v":0},{"$f":"Z9/(AB4-Z11)","v":0},{"$f":"IF(AA9=0,0,(AA9*((LOG(AA9))/LOG(2))))","v":0},null,{"$f":"N9","v":121},{"$f":"COUNTIF(L78:L113,AD9)","v":0},{"$f":"AE9/(AG4-AE11)","v":0},{"$f":"IF(AF9=0,0,(AF9*((LOG(AF9))/LOG(2))))","v":0},null,{"$f":"N9","v":121},{"$f":"COUNTIF(L114:L149,AI9)","v":0},{"$f":"AJ9/(AL4-AJ11)","v":0},{"$f":"IF(AK9=0,0,(AK9*((LOG(AK9))/LOG(2))))","v":0},null,{"$f":"N9","v":121},{"$f":"COUNTIF(L150:L184,AN9)","v":0},{"$f":"AO9/(AQ4-AO11)","v":0},{"$f":"IF(AP9=0,0,(AP9*((LOG(AP9))/LOG(2))))","v":0},null,{"$f":"N9","v":121},{"$f":"COUNTIF(L185:L220,AS9)","v":0},{"$f":"AT9/(AV4-AT11)","v":0},{"$f":"IF(AU9=0,0,(AU9*((LOG(AU9))/LOG(2))))","v":0}]
[21,331,22,333,24,344,null,null,null,null,0,222,null,122,{"$f":"COUNTIF($L$7:$L$500,N10)","v":0},{"$f":"O10/$Q$4","v":0},{"$f":"IF(P10=0,0,(P10*((LOG(P10))/LOG(2))))","v":0},null,null,{"$f":"N10","v":122},{"$f":"COUNTIF(L7:L42,T10)","v":0},{"$f":"U10/(W4-U11)","v":0},{"$f":"IF(V10=0,0,(V10*((LOG(V10))/LOG(2))))","v":0},null,{"$f":"N10","v":122},{"$f":"COUNTIF(L43:L77,Y10)","v":0},{"$f":"Z10/(AB4-Z11)","v":0},{"$f":"IF(AA10=0,0,(AA10*((LOG(AA10))/LOG(2))))","v":0},null,{"$f":"N10","v":122},{"$f":"COUNTIF(L78:L113,AD10)","v":0},{"$f":"AE10/(AG4-AE11)","v":0},{"$f":"IF(AF10=0,0,(AF10*((LOG(AF10))/LOG(2))))","v":0},null,{"$f":"N10","v":122},{"$f":"COUNTIF(L114:L149,AI10)","v":0},{"$f":"AJ10/(AL4-AJ11)","v":0},{"$f":"IF(AK10=0,0,(AK10*((LOG(AK10))/LOG(2))))","v":0},null,{"$f":"N10","v":122},{"$f":"COUNTIF(L150:L184,AN10)","v":0},{"$f":"AO10/(AQ4-AO11)","v":0},{"$f":"IF(AP10=0,0,(AP10*((LOG(AP10))/LOG(2))))","v":0},null,{"$f":"N10","v":122},{"$f":"COUNTIF(L185:L220,AS10)","v":0},{"$f":"AT10/(AV4-AT11)","v":0},{"$f":"IF(AU10=0,0,(AU10*((LOG(AU10))/LOG(2))))","v":0}]
[21,447,22,451,24,454,null,null,null,null,0,222,null,211,{"$f":"COUNTIF($L$7:$L$500,N11)","v":0},{"$f":"O11/$Q$4","v":0},{"$f":"IF(P11=0,0,(P11*((LOG(P11))/LOG(2))))","v":0},null,null,{"$f":"N11","v":211},{"$f":"COUNTIF(L7:L42,T11)","v":0},null,null,null,{"$f":"N11","v":211},{"$f":"COUNTIF(L43:L77,Y11)","v":0},null,null,null,{"$f":"N11","v":211},{"$f":"COUNTIF(L78:L113,AD11)","v":0},null,null,null,{"$f":"N11","v":211},{"$f":"COUNTIF(L114:L149,AI11)","v":0},null,null,null,{"$f":"N11","v":211},{"$f":"COUNTIF(L150:L184,AN11)","v":0},null,null,null,{"$f":"N11","v":211},{"$f":"COUNTIF(L185:L220,AS11)","v":0}]
[12,580,13,584,13,589,null,null,null,null,0,111,null,212,{"$f":"COUNTIF($L$7:$L$500,N12)","v":0},{"$f":"O12/$Q$4","v":0},{"$f":"IF(P12=0,0,(P12*((LOG(P12))/LOG(2))))","v":0},null,null,{"$f":"N12","v":212},{"$f":"COUNTIF(L7:L42,T12)","v":0},{"$f":"U12/(W4-U11)","v":0},{"$f":"IF(V12=0,0,(V12*((LOG(V12))/LOG(2))))","v":0},null,{"$f":"N12","v":212},{"$f":"COUNTIF(L43:L77,Y12)","v":0},{"$f":"Z12/(AB4-Z11)","v":0},{"$f":"IF(AA12=0,0,(AA12*((LOG(AA12))/LOG(2))))","v":0},null,{"$f":"N12","v":212},{"$f":"COUNTIF(L78:L113,AD12)","v":0},{"$f":"AE12/(AG4-AE11)","v":0},{"$f":"IF(AF12=0,0,(AF12*((LOG(AF12))/LOG(2))))","v":0},null,{"$f":"N12","v":212},{"$f":"COUNTIF(L114:L149,AI12)","v":0},{"$f":"AJ12/(AL4-AJ11)","v":0},{"$f":"IF(AK12=0,0,(AK12*((LOG(AK12))/LOG(2))))","v":0},null,{"$f":"N12","v":212},{"$f":"COUNTIF(L150:L184,AN12)","v":0},{"$f":"AO12/(AQ4-AO11)","v":0},{"$f":"IF(AP12=0,0,(AP12*((LOG(AP12))/LOG(2))))","v":0},null,{"$f":"N12","v":212},{"$f":"COUNTIF(L185:L220,AS12)","v":0},{"$f":"AT12/(AV4-AT11)","v":0},{"$f":"IF(AU12=0,0,(AU12*((LOG(AU12))/LOG(2))))","v":0}]
[21,685,22,688,24,691,null,null,null,null,0,222,null,221,{"$f":"COUNTIF($L$7:$L$500,N13)","v":0},{"$f":"O13/$Q$4","v":0},{"$f":"IF(P13=0,0,(P13*((LOG(P13))/LOG(2))))","v":0},null,null,{"$f":"N13","v":221},{"$f":"COUNTIF(L7:L42,T13)","v":0},{"$f":"U13/(W4-U11)","v":0},{"$f":"IF(V13=0,0,(V13*((LOG(V13))/LOG(2))))","v":0},null,{"$f":"N13","v":221},{"$f":"COUNTIF(L43:L77,Y13)","v":0},{"$f":"Z13/(AB4-Z11)","v":0},{"$f":"IF(AA13=0,0,(AA13*((LOG(AA13))/LOG(2))))","v":0},null,{"$f":"N13","v":221},{"$f":"COUNTIF(L78:L113,AD13)","v":0},{"$f":"AE13/(AG4-AE11)","v":0},{"$f":"IF(AF13=0,0,(AF13*((LOG(AF13))/LOG(2))))","v":0},null,{"$f":"N13","v":221},{"$f":"COUNTIF(L114:L149,AI13)","v":0},{"$f":"AJ13/(AL4-AJ11)","v":0},{"$f":"IF(AK13=0,0,(AK13*((LOG(AK13))/LOG(2))))","v":0},null,{"$f":"N13","v":221},{"$f":"COUNTIF(L150:L184,AN13)","v":0},{"$f":"AO13/(AQ4-AO11)","v":0},{"$f":"IF(AP13=0,0,(AP13*((LOG(AP13))/LOG(2))))","v":0},null,{"$f":"N13","v":221},{"$f":"COUNTIF(L185:L220,AS13)","v":0},{"$f":"AT13/(AV4-AT11)","v":0},{"$f":"IF(AU13=0,0,(AU13*((LOG(AU13))/LOG(2))))","v":0}]
[21,784,22,787,24,790,null,null,null,null,0,222,null,222,{"$f":"COUNTIF($L$7:$L$500,N14)","v":207},{"$f":"O14/$Q$4","v":0.96728971962616828},{"$f":"IF(P14=0,0,(P14*((LOG(P14))/LOG(2))))","v":-4.6410588704098497E-2},null,null,{"$f":"N14","v":222},{"$f":"COUNTIF(L7:L42,T14)","v":34},{"$f":"U14/(W4-U11)","v":0.94444444444444442},{"$f":"IF(V14=0,0,(V14*((LOG(V14))/LOG(2))))","v":-7.7880929070196711E-2},null,{"$f":"N14","v":222},{"$f":"COUNTIF(L43:L77,Y14)","v":33},{"$f":"Z14/(AB4-Z11)","v":0.94285714285714284},{"$f":"IF(AA14=0,0,(AA14*((LOG(AA14))/LOG(2))))","v":-8.0038103438712302E-2},null,{"$f":"N14","v":222},{"$f":"COUNTIF(L78:L113,AD14)","v":35},{"$f":"AE14/(AG4-AE11)","v":0.97222222222222221},{"$f":"IF(AF14=0,0,(AF14*((LOG(AF14))/LOG(2))))","v":-3.9513040483530763E-2},null,{"$f":"N14","v":222},{"$f":"COUNTIF(L114:L149,AI14)","v":35},{"$f":"AJ14/(AL4-AJ11)","v":0.97222222222222221},{"$f":"IF(AK14=0,0,(AK14*((LOG(AK14))/LOG(2))))","v":-3.9513040483530763E-2},null,{"$f":"N14","v":222},{"$f":"COUNTIF(L150:L184,AN14)","v":35},{"$f":"AO14/(AQ4-AO11)","v":1},{"$f":"IF(AP14=0,0,(AP14*((LOG(AP14))/LOG(2))))","v":0},null,{"$f":"N14","v":222},{"$f":"COUNTIF(L185:L220,AS14)","v":35},{"$f":"AT14/(AV4-AT11)","v":0.97222222222222221},{"$f":"IF(AU14=0,0,(AU14*((LOG(AU14))/LOG(2))))","v":-3.9513040483530763E-2}]
[21,887,22,889,24,890,null,null,null,null,0,222,null,null,null,{"$f":"SUM(P7:P14)","v":1},{"$f":"-SUM(Q7:Q14)","v":0.22716056020167369},null,null,null,null,{"$f":"SUM(V7:V14)","v":1},{"$f":"-SUM(W7:W14)","v":0.30954342915032518},null,null,null,{"$f":"SUM(AA7:AA14)","v":1},{"$f":"-SUM(AB7:AB14)","v":0.31599713297842463},null,null,null,{"$f":"SUM(AF7:AF14)","v":1},{"$f":"-SUM(AG7:AG14)","v":0.18312206830137276},null,null,null,{"$f":"SUM(AK7:AK14)","v":1},{"$f":"-SUM(AL7:AL14)","v":0.18312206830137276},null,null,null,{"$f":"SUM(AP7:AP14)","v":1},{"$f":"-SUM(AQ7:AQ14)","v":0},null,null,null,{"$f":"SUM(AU7:AU14)","v":1},{"$f":"-SUM(AV7:AV14)","v":0.18312206830137276}]
[21,988,22,992,24,996,null,null,null,null,0,222,null,null,null,"U=",{"$f":"Q15/(LOG(Q4)/LOG(2))","v":2.9343348050273877E-2},null,null,null,null,"U1=",{"$f":"W15/(LOG(W4)/LOG(2))","v":5.9873872263904865E-2},null,null,null,"U2=",{"$f":"AB15/(LOG(AB4)/LOG(2))","v":6.1606491966714395E-2},null,null,null,"U3=",{"$f":"AG15/(LOG(AG4)/LOG(2))","v":3.5420643094490757E-2},null,null,null,"U4=",{"$f":"AL15/(LOG(AL4)/LOG(2))","v":3.5420643094490757E-2},null,null,null,"U5=",{"$f":"AQ15/(LOG(AQ4)/LOG(2))","v":0},null,null,null,"U6=",{"$f":"AV15/(LOG(AV4)/LOG(2))","v":3.5420643094490757E-2}]
[21,1091,22,1097,24,1101,null,null,null,null,0,222]
[21,1197,22,1200,24,1204,null,null,null,null,0,222]
[21,1302,22,1305,24,1311,null,null,null,null,0,222,null,"Total Target Seq"]
[21,1409,22,1412,24,1417,null,null,null,null,0,222,null,{"$f":"COUNTIF(L7:L220,G3)","v":0},null,36,35,36,36,35,36]
[21,1513,22,1518,24,1527,null,null,null,null,0,222,null,null,null,"% of reinforcement given in 6 equal intervals based on number of trials "]
[21,1624,22,1626,24,1628,null,null,null,null,0,222,null,null,null,"%_1","%_2","%_3","%_4","%_5","%_6"]
[21,1725,22,1728,24,1732,null,null,null,null,0,222,null,null,"target sequence",{"$f":"$G$3","v":211},{"$f":"$G$3","v":211},{"$f":"$G$3","v":211},{"$f":"$G$3","v":211},{"$f":"$G$3","v":211},{"$f":"$G$3","v":211}]
[21,1830,22,1836,24,1841,null,null,null,null,0,222,null,null,"total reinforcement",{"$f":"U11","v":0},{"$f":"Z11","v":0},{"$f":"AE11","v":0},{"$f":"AJ11","v":0},{"$f":"AO11","v":0},{"$f":"AT11","v":0}]
[21,1942,22,1946,24,1951,null,null,null,null,0,222,null,null,"% target"]
[21,2053,22,2055,24,2064,null,null,null,null,0,222,null,null,"CCRF"]
[21,2163,22,2167,24,2170,null,null,null,null,0,222,null,null,"% CCRf"]
[21,2266,22,2269,24,2275,null,null,null,null,0,222,null,null,"average response rate",{"$f":"F42/P20","v":106.75},{"$f":"(F77-F42)/Q20","v":108.48571428571428},{"$f":"(F113-F77)/R20","v":110.83333333333333},{"$f":"(F149-F113)/S20","v":116.80555555555556},{"$f":"(F184-F149)/T20","v":115.22857142857143},{"$f":"(F220-F184)/U20","v":114.72222222222223}]
[21,2376,22,2380,24,2384,null,null,null,null,0,222]
[21,2484,22,2492,24,2497,null,null,null,null,0,222]
[21,2598,22,2602,24,2606,null,null,null,null,0,222]
[12,2738,13,2744,13,2749,null,null,null,null,0,111]
[21,2849,22,2853,24,2862,null,null,null,null,0,222]
[21,2959,22,2964,24,2972,null,null,null,null,0,222]
[21,3068,22,3072,24,3075,null,null,null,null,0,222]
[21,3172,22,3175,24,3189,null,null,null,null,0,222]
[21,3284,22,3294,24,3298,null,null,null,null,0,222]
[21,3393,22,3396,24,3401,null,null,null,null,0,222]
[21,3495,22,3499,24,3503,null,null,null,null,0,222]
[21,3603,22,3607,24,3621,null,null,null,null,0,222]
[21,3731,22,3736,24,3741,null,null,null,null,0,222]
[21,3837,22,3840,24,3843,null,null,null,null,0,222]
[21,3941,22,3946,24,3949,null,null,null,null,0,222]
[21,4044,22,4049,24,4056,null,null,null,null,0,222]
[21,4157,22,4162,24,4166,null,null,null,null,0,222]
[21,4264,22,4268,24,4276,null,null,null,null,0,222]
[21,4373,22,4376,24,4380,null,null,null,null,0,222]
[21,4483,22,4487,24,4493,null,null,null,null,0,222]
[21,4606,22,4612,24,4619,null,null,null,null,0,222]
[21,4717,22,4719,24,4723,null,null,null,null,0,222]
[12,4838,13,4843,13,4849,null,null,null,null,0,111]
[21,4945,22,4949,24,4953,null,null,null,null,0,222]
[21,5055,22,5060,24,5067,null,null,null,null,0,222]
[21,5164,22,5168,24,5170,null,null,null,null,0,222]
[12,5275,13,5278,13,5280,null,null,null,null,0,111]
[21,5378,22,5382,24,5386,null,null,null,null,0,222]
[21,5489,22,5493,24,5499,null,null,null,null,0,222]
[21,5596,22,5600,24,5604,null,null,null,null,0,222]
[21,5701,22,5705,24,5709,null,null,null,null,0,222]
[21,5801,22,5805,24,5811,null,null,null,null,0,222]
[21,5907,22,5910,24,5914,null,null,null,null,0,222]
[21,6012,22,6015,24,6019,null,null,null,null,0,222]
[21,6117,22,6122,24,6125,null,null,null,null,0,222]
[21,6244,22,6250,24,6255,null,null,null,null,0,222]
[21,6360,22,6364,24,6368,null,null,null,null,0,222]
[21,6463,22,6466,24,6472,null,null,null,null,0,222]
[21,6572,22,6577,24,6582,null,null,null,null,0,222]
[21,6681,22,6682,24,6685,null,null,null,null,0,222]
[21,6778,22,6784,24,6788,null,null,null,null,0,222]
[21,6884,22,6891,24,6895,null,null,null,null,0,222]
[21,6992,22,6996,24,6998,null,null,null,null,0,222]
[21,7097,22,7101,24,7105,null,null,null,null,0,222]
[21,7207,22,7210,24,7218,null,null,null,null,0,222]
[21,7317,22,7320,24,7324,null,null,null,null,0,222]
[21,7416,22,7420,24,7424,null,null,null,null,0,222]
[21,7523,22,7527,24,7532,null,null,null,null,0,222]
[21,7632,22,7635,24,7640,null,null,null,null,0,222]
[21,7742,22,7745,24,7750,null,null,null,null,0,222]
[12,7846,13,7851,13,7855,null,null,null,null,0,111]
[21,7954,22,7958,24,7961,null,null,null,null,0,222]
[21,8061,22,8065,24,8070,null,null,null,null,0,222]
[21,8169,22,8173,24,8178,null,null,null,null,0,222]
[21,8276,22,8279,24,8283,null,null,null,null,0,222]
[21,8383,22,8386,24,8390,null,null,null,null,0,222]
[21,8487,22,8491,24,8494,null,null,null,null,0,222]
[21,8592,22,8595,24,8599,null,null,null,null,0,222]
[21,8696,22,8700,24,8704,null,null,null,null,0,222]
[21,8817,22,8821,24,8826,null,null,null,null,0,222]
[21,8919,22,8924,24,8927,null,null,null,null,0,222]
[21,9029,22,9034,24,9040,null,null,null,null,0,222]
[21,9176,22,9181,24,9185,null,null,null,null,0,222]
[21,9286,22,9290,24,9298,null,null,null,null,0,222]
[21,9393,22,9398,24,9402,null,null,null,null,0,222]
[21,9500,22,9504,24,9508,null,null,null,null,0,222]
[21,9602,22,9605,24,9615,null,null,null,null,0,222]
[21,9713,22,9716,24,9720,null,null,null,null,0,222]
[21,9821,22,9824,24,9831,null,null,null,null,0,222]
[21,9965,22,9969,24,9974,null,null,null,null,0,222]
[21,10080,22,10082,24,10084,null,null,null,null,0,222]
[21,10176,22,10181,24,10185,null,null,null,null,0,222]
[21,10324,22,10329,24,10335,null,null,null,null,0,222]
[21,10433,22,10436,24,10439,null,null,null,null,0,222]
[21,10537,22,10542,24,10547,null,null,null,null,0,222]
[21,10640,22,10642,24,10644,null,null,null,null,0,222]
[21,10749,22,10756,24,10762,null,null,null,null,0,222]
[21,10859,22,10863,24,10866,null,null,null,null,0,222]
[21,10961,22,10973,24,10977,null,null,null,null,0,222]
[21,11075,22,11079,24,11082,null,null,null,null,0,222]
[21,11186,22,11193,24,11198,null,null,null,null,0,222]
[21,11296,22,11297,24,11302,null,null,null,null,0,222]
[21,11399,22,11405,24,11409,null,null,null,null,0,222]
[21,11507,22,11511,24,11515,null,null,null,null,0,222]
[21,11619,22,11624,24,11630,null,null,null,null,0,222]
[21,11728,22,11729,24,11732,null,null,null,null,0,222]
[12,11876,13,11882,13,11884,null,null,null,null,0,111]
[21,12000,22,12005,24,12007,null,null,null,null,0,222]
[21,12104,22,12108,24,12111,null,null,null,null,0,222]
[21,12211,22,12224,24,12232,null,null,null,null,0,222]
[21,12335,22,12338,24,12343,null,null,null,null,0,222]
[21,12441,22,12448,24,12452,null,null,null,null,0,222]
[21,12550,22,12554,24,12557,null,null,null,null,0,222]
[21,12655,22,12658,24,12662,null,null,null,null,0,222]
[21,12759,22,12763,24,12767,null,null,null,null,0,222]
[21,12891,22,12894,24,12900,null,null,null,null,0,222]
[21,13032,22,13036,24,13041,null,null,null,null,0,222]
[21,13143,22,13146,24,13152,null,null,null,null,0,222]
[21,13252,22,13255,24,13259,null,null,null,null,0,222]
[21,13357,22,13361,24,13366,null,null,null,null,0,222]
[21,13511,22,13514,24,13517,null,null,null,null,0,222]
[21,13612,22,13620,24,13623,null,null,null,null,0,222]
[21,13765,22,13768,24,13772,null,null,null,null,0,222]
[21,13870,22,13874,24,13878,null,null,null,null,0,222]
[21,13988,22,13997,24,14007,null,null,null,null,0,222]
[21,14107,22,14112,24,14115,null,null,null,null,0,222]
[21,14219,22,14222,24,14227,null,null,null,null,0,222]
[21,14326,22,14330,24,14335,null,null,null,null,0,222]
[21,14431,22,14434,24,14438,null,null,null,null,0,222]
[21,14537,22,14541,24,14544,null,null,null,null,0,222]
[21,14642,22,14643,24,14646,null,null,null,null,0,222]
[21,14748,22,14752,24,14757,null,null,null,null,0,222]
[21,14852,22,14859,24,14864,null,null,null,null,0,222]
[21,14964,22,14968,24,14972,null,null,null,null,0,222]
[21,15071,22,15074,24,15078,null,null,null,null,0,222]
[21,15237,22,15243,24,15248,null,null,null,null,0,222]
[21,15349,22,15353,24,15360,null,null,null,null,0,222]
[21,15458,22,15462,24,15465,null,null,null,null,0,222]
[21,15610,22,15613,24,15617,null,null,null,null,0,222]
[21,15719,22,15723,24,15730,null,null,null,null,0,222]
[21,15826,22,15831,24,15835,null,null,null,null,0,222]
[21,15960,22,15968,24,15979,null,null,null,null,0,222]
[21,16075,22,16079,24,16082,null,null,null,null,0,222]
[21,16205,22,16208,24,16212,null,null,null,null,0,222]
[21,16335,22,16338,24,16343,null,null,null,null,0,222]
[21,16439,22,16443,24,16447,null,null,null,null,0,222]
[21,16545,22,16549,24,16555,null,null,null,null,0,222]
[21,16680,22,16684,24,16690,null,null,null,null,0,222]
[21,16789,22,16792,24,16795,null,null,null,null,0,222]
[21,16899,22,16903,24,16908,null,null,null,null,0,222]
[21,17009,22,17013,24,17025,null,null,null,null,0,222]
[21,17123,22,17127,24,17130,null,null,null,null,0,222]
[21,17235,22,17240,24,17244,null,null,null,null,0,222]
[21,17348,22,17352,24,17357,null,null,null,null,0,222]
[21,17455,22,17463,24,17466,null,null,null,null,0,222]
[21,17615,22,17619,24,17622,null,null,null,null,0,222]
[21,17719,22,17721,24,17725,null,null,null,null,0,222]
[21,17831,22,17837,24,17844,null,null,null,null,0,222]
[21,17941,22,17951,24,17955,null,null,null,null,0,222]
[21,18061,22,18067,24,18075,null,null,null,null,0,222]
[21,18178,22,18182,24,18185,null,null,null,null,0,222]
[21,18310,22,18314,24,18322,null,null,null,null,0,222]
[21,18423,22,18430,24,18434,null,null,null,null,0,222]
[21,18531,22,18535,24,18538,null,null,null,null,0,222]
[21,18638,22,18642,24,18646,null,null,null,null,0,222]
[21,18743,22,18747,24,18750,null,null,null,null,0,222]
[21,18881,22,18885,24,18889,null,null,null,null,0,222]
[21,18994,22,18998,24,19004,null,null,null,null,0,222]
[21,19102,22,19105,24,19109,null,null,null,null,0,222]
[21,19207,22,19209,24,19211,null,null,null,null,0,222]
[21,19307,22,19314,24,19317,null,null,null,null,0,222]
[21,19415,22,19418,24,19423,null,null,null,null,0,222]
[21,19523,22,19526,24,19530,null,null,null,null,0,222]
[21,19632,22,19635,24,19640,null,null,null,null,0,222]
[21,19739,22,19747,24,19752,null,null,null,null,0,222]
[21,19857,22,19864,24,19868,null,null,null,null,0,222]
[21,19969,22,19976,24,19981,null,null,null,null,0,222]
[21,20078,22,20082,24,20087,null,null,null,null,0,222]
[21,20183,22,20186,24,20190,null,null,null,null,0,222]
[21,20287,22,20291,24,20295,null,null,null,null,0,222]
[21,20399,22,20401,24,20404,null,null,null,null,0,222]
[21,20502,22,20506,24,20510,null,null,null,null,0,222]
[21,20608,22,20611,24,20615,null,null,null,null,0,222]
[21,20715,22,20719,24,20723,null,null,null,null,0,222]
[21,20821,22,20826,24,20841,null,null,null,null,0,222]
[21,20957,22,20960,24,20970,null,null,null,null,0,222]
[21,21070,22,21073,24,21077,null,null,null,null,0,222]
[21,21178,22,21182,24,21186,null,null,null,null,0,222]
[21,21289,22,21294,24,21298,null,null,null,null,0,222]
[21,21396,22,21397,24,21405,null,null,null,null,0,222]
[21,21503,22,21507,24,21511,null,null,null,null,0,222]
[21,21608,22,21612,24,21616,null,null,null,null,0,222]
[21,21767,22,21773,24,21778,null,null,null,null,0,222]
[21,21924,22,21928,24,21937,null,null,null,null,0,222]
[21,22044,22,22047,24,22050,null,null,null,null,0,222]
[21,22152,22,22159,24,22163,null,null,null,null,0,222]
[21,22267,22,22271,24,22281,null,null,null,null,0,222]
[21,22381,22,22385,24,22391,null,null,null,null,0,222]
[21,22496,22,22499,24,22504,null,null,null,null,0,222]
[21,22603,22,22606,24,22609,null,null,null,null,0,222]
[21,22714,22,22721,24,22727,null,null,null,null,0,222]
[21,22834,22,22838,24,22842,null,null,null,null,0,222]
[21,22940,22,22944,24,22947,null,null,null,null,0,222]
[12,23076,13,23082,24,23087,null,null,null,null,0,112]
[21,23189,22,23193,24,23198,null,null,null,null,0,222]
[21,23297,22,23300,24,23305,null,null,null,null,0,222]
[21,23409,22,23412,24,23417,null,null,null,null,0,222]
[21,23514,22,23517,24,23523,null,null,null,null,0,222]
[21,23619,22,23623,24,23626,null,null,null,null,0,222]
[21,23729,22,23733,24,23740,null,null,null,null,0,222]
[21,23843,22,23852,24,23859,null,null,null,null,0,222]
[21,23989,22,23993,24,23998,null,null,null,null,null,222]

{"sheet":"!L929843..Ta","index":32,"n_rows":222,"n_cols":48,"rows_kept":222,"cut":false,"hidden":false,"merged":[[4,39,4,42],[5,39,5,40],[4,44,4,47],[5,44,5,45],[4,24,4,27],[5,24,5,25],[4,29,4,32],[5,29,5,30],[4,34,4,37],[5,34,5,35],[1,1,1,2],[5,13,5,14],[18,13,18,14],[19,13,19,14],[4,19,4,22],[5,19,5,20]]}
["Report for:!L929843..Ta"]
["Date:","<date>"]
["Hen:","<hen>",null,null,null,"Correct Sequence",{"$f":"Start!J2","v":211},null,null,null,null,null,null,null,null,"Total Sequences in Data",{"$f":"4994-COUNTBLANK(L7:L5000)","v":216},null,null,null,null,"Total Sequences in Block Data",{"$f":"COUNTA(L7:L42)","v":36},null,null,null,"Total Sequences in Block Data",{"$f":"COUNTA(L43:L78)","v":36},null,null,null,"Total Sequences in Block Data",{"$f":"COUNTA(L79:L114)","v":36},null,null,null,"Total Sequences in Block Data",{"$f":"COUNTA(L115:L150)","v":36},null,null,null,"Total Sequences in Block Data",{"$f":"COUNTA(L151:L186)","v":36},null,null,null,"Total Sequences in Block Data",{"$f":"COUNTA(L187:L222)","v":36}]
[null,null,null,null,null,null,null,null,null,null,null,null,null,null,null,"Total Sequences in Summary",{"$f":"SUM(O7:O14)","v":216},null,null,null,null,"Total Sequences in Block Summary",{"$f":"SUM(U7:U14)","v":36},null,null,null,"Total Sequences in Block Summary",{"$f":"SUM(Z7:Z14)","v":36},null,null,null,"Total Sequences in Block Summary",{"$f":"SUM(AE7:AE14)","v":36},null,null,null,"Total Sequences in Block Summary",{"$f":"SUM(AJ7:AJ14)","v":36},null,null,null,"Total Sequences in Block Summary",{"$f":"SUM(AO7:AO14)","v":36},null,null,null,"Total Sequences in Block Summary",{"$f":"SUM(AT7:AT14)","v":36}]
[null,null,null,null,null,null,null,null,null,null,null,null,null,null,null,null,null,null,null,"Block 1",null,null,null,null,"Block 2",null,null,null,null,"Block 3",null,null,null,null,"Block 4",null,null,null,null,"Block 5",null,null,null,null,"Block 6"]
["Sequence\nComponent\n1","Time\n1","Sequence\nComponent\n2","Time\n2","Sequence\nComponent\n3","Time\n3","Sequence\nComponent\n4","Time\n4","Sequence\nComponent\n5","Time\n5","Correct?\n0=No 1=Yes","Sequence",null,"Frequency",null,"Relative Frequency","Variability",null,null,"Frequency",null,"Relative Frequency","Variability",null,"Frequency",null,"Relative Frequency","Variability",null,"Frequency",null,"Relative Frequency","Variability",null,"Frequency",null,"Relative Frequency","Variability",null,"Frequency",null,"Relative Frequency","Variability",null,"Frequency",null,"Relative Frequency","Variability"]
[21,5,22,9,24,13,null,null,null,null,0,222,null,111,{"$f":"COUNTIF($L$7:$L$500,N7)","v":1},{"$f":"O7/$Q$4","v":4.6296296296296294E-3},{"$f":"IF(P7=0,0,(P7*((LOG(P7))/LOG(2))))","v":-3.5902256954460504E-2},null,null,{"$f":"N7","v":111},{"$f":"COUNTIF(L7:L42,T7)","v":1},{"$f":"U7/(W4-U11)","v":2.7777777777777776E-2},{"$f":"IF(V7=0,0,(V7*((LOG(V7))/LOG(2))))","v":-0.14360902781784199},null,{"$f":"N7","v":111},{"$f":"COUNTIF(L43:L78,Y7)","v":0},{"$f":"Z7/(AB4-Z11)","v":0},{"$f":"IF(AA7=0,0,(AA7*((LOG(AA7))/LOG(2))))","v":0},null,{"$f":"N7","v":111},{"$f":"COUNTIF(L79:L114,AD7)","v":0},{"$f":"AE7/(AG4-AE11)","v":0},{"$f":"IF(AF7=0,0,(AF7*((LOG(AF7))/LOG(2))))","v":0},null,{"$f":"N7","v":111},{"$f":"COUNTIF(L115:L150,AI7)","v":0},{"$f":"AJ7/(AL4-AJ11)","v":0},{"$f":"IF(AK7=0,0,(AK7*((LOG(AK7))/LOG(2))))","v":0},null,{"$f":"N7","v":111},{"$f":"COUNTIF(L151:L186,AN7)","v":0},{"$f":"AO7/(AQ4-AO11)","v":0},{"$f":"IF(AP7=0,0,(AP7*((LOG(AP7))/LOG(2))))","v":0},null,{"$f":"N7","v":111},{"$f":"COUNTIF(L187:L222,AS7)","v":0},{"$f":"AT7/(AV4-AT11)","v":0},{"$f":"IF(AU7=0,0,(AU7*((LOG(AU7))/LOG(2))))","v":0}]
[21,110,22,113,24,120,null,null,null,null,0,222,null,112,{"$f":"COUNTIF($L$7:$L$500,N8)","v":0},{"$f":"O8/$Q$4","v":0},{"$f":"IF(P8=0,0,(P8*((LOG(P8))/LOG(2))))","v":0},null,null,{"$f":"N8","v":112},{"$f":"COUNTIF(L7:L42,T8)","v":0},{"$f":"U8/(W4-U11)","v":0},{"$f":"IF(V8=0,0,(V8*((LOG(V8))/LOG(2))))","v":0},null,{"$f":"N8","v":112},{"$f":"COUNTIF(L43:L78,Y8)","v":0},{"$f":"Z8/(AB4-Z11)","v":0},{"$f":"IF(AA8=0,0,(AA8*((LOG(AA8))/LOG(2))))","v":0},null,{"$f":"N8","v":112},{"$f":"COUNTIF(L79:L114,AD8)","v":0},{"$f":"AE8/(AG4-AE11)","v":0},{"$f":"IF(AF8=0,0,(AF8*((LOG(AF8))/LOG(2))))","v":0},null,{"$f":"N8","v":112},{"$f":"COUNTIF(L115:L150,AI8)","v":0},{"$f":"AJ8/(AL4-AJ11)","v":0},{"$f":"IF(AK8=0,0,(AK8*((LOG(AK8))/LOG(2))))","v":0},null,{"$f":"N8","v":112},{"$f":"COUNTIF(L151:L186,AN8)","v":0},{"$f":"AO8/(AQ4-AO11)","v":0},{"$f":"IF(AP8=0,0,(AP8*((LOG(AP8))/LOG(2))))","v":0},null,{"$f":"N8","v":112},{"$f":"COUNTIF(L187:L222,AS8)","v":0},{"$f":"AT8/(AV4-AT11)","v":0},{"$f":"IF(AU8=0,0,(AU8*((LOG(AU8))/LOG(2))))","v":0}]
[21,218,22,223,24,226,null,null,null,null,0,222,null,121,{"$f":"COUNTIF($L$7:$L$500,N9)","v":0},{"$f":"O9/$Q$4","v":0},{"$f":"IF(P9=0,0,(P9*((LOG(P9))/LOG(2))))","v":0},null,null,{"$f":"N9","v":121},{"$f":"COUNTIF(L7:L42,T9)","v":0},{"$f":"U9/(W4-U11)","v":0},{"$f":"IF(V9=0,0,(V9*((LOG(V9))/LOG(2))))","v":0},null,{"$f":"N9","v":121},{"$f":"COUNTIF(L43:L78,Y9)","v":0},{"$f":"Z9/(AB4-Z11)","v":0},{"$f":"IF(AA9=0,0,(AA9*((LOG(AA9))/LOG(2))))","v":0},null,{"$f":"N9","v":121},{"$f":"COUNTIF(L79:L114,AD9)","v":0},{"$f":"AE9/(AG4-AE11)","v":0},{"$f":"IF(AF9=0,0,(AF9*((LOG(AF9))/LOG(2))))","v":0},null,{"$f":"N9","v":121},{"$f":"COUNTIF(L115:L150,AI9)","v":0},{"$f":"AJ9/(AL4-AJ11)","v":0},{"$f":"IF(AK9=0,0,(AK9*((LOG(AK9))/LOG(2))))","v":0},null,{"$f":"N9","v":121},{"$f":"COUNTIF(L151:L186,AN9)","v":0},{"$f":"AO9/(AQ4-AO11)","v":0},{"$f":"IF(AP9=0,0,(AP9*((LOG(AP9))/LOG(2))))","v":0},null,{"$f":"N9","v":121},{"$f":"COUNTIF(L187:L222,AS9)","v":0},{"$f":"AT9/(AV4-AT11)","v":0},{"$f":"IF(AU9=0,0,(AU9*((LOG(AU9))/LOG(2))))","v":0}]
[21,336,22,349,24,354,null,null,null,null,0,222,null,122,{"$f":"COUNTIF($L$7:$L$500,N10)","v":0},{"$f":"O10/$Q$4","v":0},{"$f":"IF(P10=0,0,(P10*((LOG(P10))/LOG(2))))","v":0},null,null,{"$f":"N10","v":122},{"$f":"COUNTIF(L7:L42,T10)","v":0},{"$f":"U10/(W4-U11)","v":0},{"$f":"IF(V10=0,0,(V10*((LOG(V10))/LOG(2))))","v":0},null,{"$f":"N10","v":122},{"$f":"COUNTIF(L43:L78,Y10)","v":0},{"$f":"Z10/(AB4-Z11)","v":0},{"$f":"IF(AA10=0,0,(AA10*((LOG(AA10))/LOG(2))))","v":0},null,{"$f":"N10","v":122},{"$f":"COUNTIF(L79:L114,AD10)","v":0},{"$f":"AE10/(AG4-AE11)","v":0},{"$f":"IF(AF10=0,0,(AF10*((LOG(AF10))/LOG(2))))","v":0},null,{"$f":"N10","v":122},{"$f":"COUNTIF(L115:L150,AI10)","v":0},{"$f":"AJ10/(AL4-AJ11)","v":0},{"$f":"IF(AK10=0,0,(AK10*((LOG(AK10))/LOG(2))))","v":0},null,{"$f":"N10","v":122},{"$f":"COUNTIF(L151:L186,AN10)","v":0},{"$f":"AO10/(AQ4-AO11)","v":0},{"$f":"IF(AP10=0,0,(AP10*((LOG(AP10))/LOG(2))))","v":0},null,{"$f":"N10","v":122},{"$f":"COUNTIF(L187:L222,AS10)","v":0},{"$f":"AT10/(AV4-AT11)","v":0},{"$f":"IF(AU10=0,0,(AU10*((LOG(AU10))/LOG(2))))","v":0}]
[21,456,22,458,24,478,null,null,null,null,0,222,null,211,{"$f":"COUNTIF($L$7:$L$500,N11)","v":0},{"$f":"O11/$Q$4","v":0},{"$f":"IF(P11=0,0,(P11*((LOG(P11))/LOG(2))))","v":0},null,null,{"$f":"N11","v":211},{"$f":"COUNTIF(L7:L42,T11)","v":0},null,null,null,{"$f":"N11","v":211},{"$f":"COUNTIF(L43:L78,Y11)","v":0},null,null,null,{"$f":"N11","v":211},{"$f":"COUNTIF(L79:L114,AD11)","v":0},null,null,null,{"$f":"N11","v":211},{"$f":"COUNTIF(L115:L150,AI11)","v":0},null,null,null,{"$f":"N11","v":211},{"$f":"COUNTIF(L151:L186,AN11)","v":0},null,null,null,{"$f":"N11","v":211},{"$f":"COUNTIF(L187:L222,AS11)","v":0}]
[21,581,22,584,24,587,null,null,null,null,0,222,null,212,{"$f":"COUNTIF($L$7:$L$500,N12)","v":0},{"$f":"O12/$Q$4","v":0},{"$f":"IF(P12=0,0,(P12*((LOG(P12))/LOG(2))))","v":0},null,null,{"$f":"N12","v":212},{"$f":"COUNTIF(L7:L42,T12)","v":0},{"$f":"U12/(W4-U11)","v":0},{"$f":"IF(V12=0,0,(V12*((LOG(V12))/LOG(2))))","v":0},null,{"$f":"N12","v":212},{"$f":"COUNTIF(L43:L78,Y12)","v":0},{"$f":"Z12/(AB4-Z11)","v":0},{"$f":"IF(AA12=0,0,(AA12*((LOG(AA12))/LOG(2))))","v":0},null,{"$f":"N12","v":212},{"$f":"COUNTIF(L79:L114,AD12)","v":0},{"$f":"AE12/(AG4-AE11)","v":0},{"$f":"IF(AF12=0,0,(AF12*((LOG(AF12))/LOG(2))))","v":0},null,{"$f":"N12","v":212},{"$f":"COUNTIF(L115:L150,AI12)","v":0},{"$f":"AJ12/(AL4-AJ11)","v":0},{"$f":"IF(AK12=0,0,(AK12*((LOG(AK12))/LOG(2))))","v":0},null,{"$f":"N12","v":212},{"$f":"COUNTIF(L151:L186,AN12)","v":0},{"$f":"AO12/(AQ4-AO11)","v":0},{"$f":"IF(AP12=0,0,(AP12*((LOG(AP12))/LOG(2))))","v":0},null,{"$f":"N12","v":212},{"$f":"COUNTIF(L187:L222,AS12)","v":0},{"$f":"AT12/(AV4-AT11)","v":0},{"$f":"IF(AU12=0,0,(AU12*((LOG(AU12))/LOG(2))))","v":0}]
[21,684,22,690,24,694,null,null,null,null,0,222,null,221,{"$f":"COUNTIF($L$7:$L$500,N13)","v":0},{"$f":"O13/$Q$4","v":0},{"$f":"IF(P13=0,0,(P13*((LOG(P13))/LOG(2))))","v":0},null,null,{"$f":"N13","v":221},{"$f":"COUNTIF(L7:L42,T13)","v":0},{"$f":"U13/(W4-U11)","v":0},{"$f":"IF(V13=0,0,(V13*((LOG(V13))/LOG(2))))","v":0},null,{"$f":"N13","v":221},{"$f":"COUNTIF(L43:L78,Y13)","v":0},{"$f":"Z13/(AB4-Z11)","v":0},{"$f":"IF(AA13=0,0,(AA13*((LOG(AA13))/LOG(2))))","v":0},null,{"$f":"N13","v":221},{"$f":"COUNTIF(L79:L114,AD13)","v":0},{"$f":"AE13/(AG4-AE11)","v":0},{"$f":"IF(AF13=0,0,(AF13*((LOG(AF13))/LOG(2))))","v":0},null,{"$f":"N13","v":221},{"$f":"COUNTIF(L115:L150,AI13)","v":0},{"$f":"AJ13/(AL4-AJ11)","v":0},{"$f":"IF(AK13=0,0,(AK13*((LOG(AK13))/LOG(2))))","v":0},null,{"$f":"N13","v":221},{"$f":"COUNTIF(L151:L186,AN13)","v":0},{"$f":"AO13/(AQ4-AO11)","v":0},{"$f":"IF(AP13=0,0,(AP13*((LOG(AP13))/LOG(2))))","v":0},null,{"$f":"N13","v":221},{"$f":"COUNTIF(L187:L222,AS13)","v":0},{"$f":"AT13/(AV4-AT11)","v":0},{"$f":"IF(AU13=0,0,(AU13*((LOG(AU13))/LOG(2))))","v":0}]
[21,791,22,792,24,796,null,null,null,null,0,222,null,222,{"$f":"COUNTIF($L$7:$L$500,N14)","v":215},{"$f":"O14/$Q$4","v":0.99537037037037035},{"$f":"IF(P14=0,0,(P14*((LOG(P14))/LOG(2))))","v":-6.6636588120915817E-3},null,null,{"$f":"N14","v":222},{"$f":"COUNTIF(L7:L42,T14)","v":35},{"$f":"U14/(W4-U11)","v":0.97222222222222221},{"$f":"IF(V14=0,0,(V14*((LOG(V14))/LOG(2))))","v":-3.9513040483530763E-2},null,{"$f":"N14","v":222},{"$f":"COUNTIF(L43:L78,Y14)","v":36},{"$f":"Z14/(AB4-Z11)","v":1},{"$f":"IF(AA14=0,0,(AA14*((LOG(AA14))/LOG(2))))","v":0},null,{"$f":"N14","v":222},{"$f":"COUNTIF(L79:L114,AD14)","v":36},{"$f":"AE14/(AG4-AE11)","v":1},{"$f":"IF(AF14=0,0,(AF14*((LOG(AF14))/LOG(2))))","v":0},null,{"$f":"N14","v":222},{"$f":"COUNTIF(L115:L150,AI14)","v":36},{"$f":"AJ14/(AL4-AJ11)","v":1},{"$f":"IF(AK14=0,0,(AK14*((LOG(AK14))/LOG(2))))","v":0},null,{"$f":"N14","v":222},{"$f":"COUNTIF(L151:L186,AN14)","v":36},{"$f":"AO14/(AQ4-AO11)","v":1},{"$f":"IF(AP14=0,0,(AP14*((LOG(AP14))/LOG(2))))","v":0},null,{"$f":"N14","v":222},{"$f":"COUNTIF(L187:L222,AS14)","v":36},{"$f":"AT14/(AV4-AT11)","v":1},{"$f":"IF(AU14=0,0,(AU14*((LOG(AU14))/LOG(2))))","v":0}]
[21,892,22,895,24,899,null,null,null,null,0,222,null,null,null,{"$f":"SUM(P7:P14)","v":1},{"$f":"-SUM(Q7:Q14)","v":4.2565915766552088E-2},null,null,null,null,{"$f":"SUM(V7:V14)","v":1},{"$f":"-SUM(W7:W14)","v":0.18312206830137276},null,null,null,{"$f":"SUM(AA7:AA14)","v":1},{"$f":"-SUM(AB7:AB14)","v":0},null,null,null,{"$f":"SUM(AF7:AF14)","v":1},{"$f":"-SUM(AG7:AG14)","v":0},null,null,null,{"$f":"SUM(AK7:AK14)","v":1},{"$f":"-SUM(AL7:AL14)","v":0},null,null,null,{"$f":"SUM(AP7:AP14)","v":1},{"$f":"-SUM(AQ7:AQ14)","v":0},null,null,null,{"$f":"SUM(AU7:AU14)","v":1},{"$f":"-SUM(AV7:AV14)","v":0}]
[21,997,22,1004,24,1008,null,null,null,null,0,222,null,null,null,"U=",{"$f":"Q15/(LOG(Q4)/LOG(2))","v":5.488914668933237E-3},null,null,null,null,"U1=",{"$f":"W15/(LOG(W4)/LOG(2))","v":3.5420643094490757E-2},null,null,null,"U2=",{"$f":"AB15/(LOG(AB4)/LOG(2))","v":0},null,null,null,"U3=",{"$f":"AG15/(LOG(AG4)/LOG(2))","v":0},null,null,null,"U4=",{"$f":"AL15/(LOG(AL4)/LOG(2))","v":0},null,null,null,"U5=",{"$f":"AQ15/(LOG(AQ4)/LOG(2))","v":0},null,null,null,"U6=",{"$f":"AV15/(LOG(AV4)/LOG(2))","v":0}]
[21,1107,22,1109,24,1113,null,null,null,null,0,222]
[21,1210,22,1214,24,1217,null,null,null,null,0,222]
[21,1317,22,1320,24,1323,null,null,null,null,0,222,null,"Total Target Seq"]
[21,1423,22,1429,24,1434,null,null,null,null,0,222,null,{"$f":"COUNTIF(L7:L222,G3)","v":0},null,36,36,36,36,36,36]
[21,1536,22,1540,24,1543,null,null,null,null,0,222,null,null,null,"% of reinforcement given in 6 equal intervals based on number of trials "]
[21,1641,22,1646,24,1648,null,null,null,null,0,222,null,null,null,"%_1","%_2","%_3","%_4","%_5","%_6"]
[21,1749,22,1756,24,1759,null,null,null,null,0,222,null,null,"target sequence",{"$f":"$G$3","v":211},{"$f":"$G$3","v":211},{"$f":"$G$3","v":211},{"$f":"$G$3","v":211},{"$f":"$G$3","v":211},{"$f":"$G$3","v":211}]
[21,1868,22,1871,24,1875,null,null,null,null,0,222,null,null,"total reinforcement",{"$f":"U11","v":0},{"$f":"Z11","v":0},{"$f":"AE11","v":0},{"$f":"AJ11","v":0},{"$f":"AO11","v":0},{"$f":"AT11","v":0}]
[21,1976,22,1979,24,1987,null,null,null,null,0,222,null,null,"% target"]
[21,2089,22,2104,24,2108,null,null,null,null,0,222,null,null,"CCRF"]
[21,2206,22,2209,24,2221,null,null,null,null,0,222,null,null,"% CCRf"]
[21,2325,22,2328,24,2332,null,null,null,null,0,222,null,null,"average response rate",{"$f":"F42/P20","v":109.77777777777777},{"$f":"(F78-F42)/Q20","v":111.69444444444444},{"$f":"(F114-F78)/R20","v":107.97222222222223},{"$f":"(F150-F114)/S20","v":110.27777777777777},{"$f":"(F186-F150)/T20","v":111.38888888888889},{"$f":"(F222-F186)/U20","v":113.52777777777777}]
[21,2441,22,2449,24,2454,null,null,null,null,0,222]
[12,2584,13,2587,13,2589,null,null,null,null,0,111]
[21,2695,22,2699,24,2704,null,null,null,null,0,222]
[21,2813,22,2817,24,2824,null,null,null,null,0,222]
[21,2923,22,2925,24,2929,null,null,null,null,0,222]
[21,3046,22,3050,24,3053,null,null,null,null,0,222]
[21,3149,22,3152,24,3161,null,null,null,null,0,222]
[21,3259,22,3264,24,3268,null,null,null,null,0,222]
[21,3409,22,3419,24,3423,null,null,null,null,0,222]
[21,3519,22,3521,24,3523,null,null,null,null,0,222]
[21,3621,22,3624,24,3629,null,null,null,null,0,222]
[21,3724,22,3729,24,3739,null,null,null,null,0,222]
[21,3836,22,3841,24,3845,null,null,null,null,0,222]
[21,3941,22,3948,24,3952,null,null,null,null,0,222]
[21,4047,22,4051,24,4054,null,null,null,null,0,222]
[21,4155,22,4158,24,4168,null,null,null,null,0,222]
[21,4267,22,4272,24,4275,null,null,null,null,0,222]
[21,4388,22,4394,24,4399,null,null,null,null,0,222]
[21,4497,22,4501,24,4505,null,null,null,null,0,222]
[21,4612,22,4617,24,4623,null,null,null,null,0,222]
[21,4726,22,4730,24,4737,null,null,null,null,0,222]
[21,4834,22,4837,24,4841,null,null,null,null,0,222]
[21,4937,22,4942,24,4945,null,null,null,null,0,222]
[21,5042,22,5045,24,5048,null,null,null,null,0,222]
[21,5211,22,5214,24,5220,null,null,null,null,0,222]
[21,5320,22,5323,24,5327,null,null,null,null,0,222]
[21,5424,22,5429,24,5431,null,null,null,null,0,222]
[21,5533,22,5542,24,5548,null,null,null,null,0,222]
[21,5651,22,5655,24,5660,null,null,null,null,0,222]
[21,5757,22,5760,24,5764,null,null,null,null,0,222]
[21,5874,22,5878,24,5883,null,null,null,null,0,222]
[21,5980,22,5983,24,5986,null,null,null,null,0,222]
[21,6087,22,6090,24,6095,null,null,null,null,0,222]
[21,6197,22,6200,24,6204,null,null,null,null,0,222]
[21,6301,22,6304,24,6307,null,null,null,null,0,222]
[21,6406,22,6410,24,6414,null,null,null,null,0,222]
[21,6515,22,6519,24,6524,null,null,null,null,0,222]
[21,6621,22,6624,24,6629,null,null,null,null,0,222]
[21,6726,22,6731,24,6734,null,null,null,null,0,222]
[21,6838,22,6843,24,6847,null,null,null,null,0,222]
[21,6991,22,6995,24,7005,null,null,null,null,0,222]
[21,7104,22,7107,24,7110,null,null,null,null,0,222]
[21,7209,22,7213,24,7217,null,null,null,null,0,222]
[21,7319,22,7321,24,7325,null,null,null,null,0,222]
[21,7424,22,7428,24,7432,null,null,null,null,0,222]
[21,7533,22,7536,24,7543,null,null,null,null,0,222]
[21,7643,22,7647,24,7651,null,null,null,null,0,222]
[21,7752,22,7755,24,7760,null,null,null,null,0,222]
[21,7857,22,7862,24,7870,null,null,null,null,0,222]
[21,7962,22,7971,24,7973,null,null,null,null,0,222]
[21,8075,22,8078,24,8083,null,null,null,null,0,222]
[21,8183,22,8187,24,8191,null,null,null,null,0,222]
[21,8288,22,8293,24,8297,null,null,null,null,0,222]
[21,8404,22,8409,24,8414,null,null,null,null,0,222]
[21,8511,22,8514,24,8519,null,null,null,null,0,222]
[21,8620,22,8623,24,8628,null,null,null,null,0,222]
[21,8723,22,8726,24,8731,null,null,null,null,0,222]
[21,8827,22,8836,24,8839,null,null,null,null,0,222]
[21,8939,22,8942,24,8947,null,null,null,null,0,222]
[21,9046,22,9048,24,9052,null,null,null,null,0,222]
[21,9150,22,9153,24,9158,null,null,null,null,0,222]
[21,9250,22,9255,24,9262,null,null,null,null,0,222]
[21,9368,22,9372,24,9377,null,null,null,null,0,222]
[21,9491,22,9495,24,9501,null,null,null,null,0,222]
[21,9601,22,9604,24,9607,null,null,null,null,0,222]
[21,9716,22,9724,24,9729,null,null,null,null,0,222]
[21,9827,22,9833,24,9838,null,null,null,null,0,222]
[21,9930,22,9935,24,9938,null,null,null,null,0,222]
[21,10038,22,10042,24,10047,null,null,null,null,0,222]
[21,10148,22,10152,24,10157,null,null,null,null,0,222]
[21,10253,22,10259,24,10264,null,null,null,null,0,222]
[21,10377,22,10380,24,10383,null,null,null,null,0,222]
[21,10477,22,10480,24,10486,null,null,null,null,0,222]
[21,10585,22,10589,24,10592,null,null,null,null,0,222]
[21,10685,22,10698,24,10702,null,null,null,null,0,222]
[21,10801,22,10803,24,10807,null,null,null,null,0,222]
[21,10904,22,10908,24,10913,null,null,null,null,0,222]
[21,11004,22,11011,24,11016,null,null,null,null,0,222]
[21,11113,22,11117,24,11121,null,null,null,null,0,222]
[21,11216,22,11220,24,11223,null,null,null,null,0,222]
[21,11321,22,11326,24,11329,null,null,null,null,0,222]
[21,11428,22,11432,24,11436,null,null,null,null,0,222]
[21,11533,22,11536,24,11539,null,null,null,null,0,222]
[21,11632,22,11636,24,11643,null,null,null,null,0,222]
[21,11744,22,11748,24,11756,null,null,null,null,0,222]
[21,11853,22,11856,24,11860,null,null,null,null,0,222]
[21,11962,22,11966,24,11972,null,null,null,null,0,222]
[21,12070,22,12074,24,12077,null,null,null,null,0,222]
[21,12170,22,12173,24,12178,null,null,null,null,0,222]
[21,12274,22,12278,24,12282,null,null,null,null,0,222]
[21,12380,22,12384,24,12391,null,null,null,null,0,222]
[21,12579,22,12583,24,12589,null,null,null,null,0,222]
[21,12688,22,12690,24,12694,null,null,null,null,0,222]
[21,12790,22,12796,24,12800,null,null,null,null,0,222]
[21,12895,22,12905,24,12910,null,null,null,null,0,222]
[21,13010,22,13013,24,13017,null,null,null,null,0,222]
[21,13115,22,13121,24,13126,null,null,null,null,0,222]
[21,13223,22,13224,24,13226,null,null,null,null,0,222]
[21,13343,22,13347,24,13351,null,null,null,null,0,222]
[21,13449,22,13453,24,13458,null,null,null,null,0,222]
[21,13554,22,13562,24,13570,null,null,null,null,0,222]
[21,13665,22,13669,24,13673,null,null,null,null,0,222]
[21,13769,22,13772,24,13776,null,null,null,null,0,222]
[21,13876,22,13880,24,13885,null,null,null,null,0,222]
[21,13981,22,13991,24,13997,null,null,null,null,0,222]
[21,14101,22,14105,24,14111,null,null,null,null,0,222]
[21,14209,22,14212,24,14216,null,null,null,null,0,222]
[21,14314,22,14317,24,14322,null,null,null,null,0,222]
[21,14427,22,14431,24,14436,null,null,null,null,0,222]
[21,14535,22,14538,24,14542,null,null,null,null,0,222]
[21,14641,22,14644,24,14651,null,null,null,null,0,222]
[21,14748,22,14750,24,14753,null,null,null,null,0,222]
[21,14850,22,14853,24,14863,null,null,null,null,0,222]
[21,14964,22,14967,24,14972,null,null,null,null,0,222]
[21,15072,22,15076,24,15081,null,null,null,null,0,222]
[21,15181,22,15184,24,15190,null,null,null,null,0,222]
[21,15289,22,15293,24,15297,null,null,null,null,0,222]
[21,15396,22,15400,24,15405,null,null,null,null,0,222]
[21,15502,22,15510,24,15516,null,null,null,null,0,222]
[21,15616,22,15621,24,15625,null,null,null,null,0,222]
[21,15721,22,15724,24,15727,null,null,null,null,0,222]
[21,15823,22,15827,24,15830,null,null,null,null,0,222]
[21,15957,22,15961,24,15966,null,null,null,null,0,222]
[21,16062,22,16067,24,16069,null,null,null,null,0,222]
[21,16165,22,16169,24,16172,null,null,null,null,0,222]
[21,16285,22,16289,24,16294,null,null,null,null,0,222]
[21,16393,22,16396,24,16400,null,null,null,null,0,222]
[21,16505,22,16510,24,16516,null,null,null,null,0,222]
[21,16614,22,16617,24,16622,null,null,null,null,0,222]
[21,16717,22,16721,24,16724,null,null,null,null,0,222]
[21,16819,22,16823,24,16826,null,null,null,null,0,222]
[21,16925,22,16928,24,16932,null,null,null,null,0,222]
[21,17034,22,17037,24,17042,null,null,null,null,0,222]
[21,17160,22,17165,24,17170,null,null,null,null,0,222]
[21,17267,22,17271,24,17274,null,null,null,null,0,222]
[21,17390,22,17393,24,17398,null,null,null,null,0,222]
[21,17497,22,17501,24,17506,null,null,null,null,0,222]
[21,17606,22,17610,24,17615,null,null,null,null,0,222]
[21,17714,22,17717,24,17722,null,null,null,null,0,222]
[21,17825,22,17829,24,17835,null,null,null,null,0,222]
[21,17934,22,17941,24,17951,null,null,null,null,0,222]
[21,18050,22,18054,24,18058,null,null,null,null,0,222]
[21,18154,22,18157,24,18161,null,null,null,null,0,222]
[21,18258,22,18263,24,18268,null,null,null,null,0,222]
[21,18378,22,18383,24,18388,null,null,null,null,0,222]
[21,18484,22,18492,24,18496,null,null,null,null,0,222]
[21,18593,22,18596,24,18604,null,null,null,null,0,222]
[21,18701,22,18705,24,18709,null,null,null,null,0,222]
[21,18812,22,18816,24,18822,null,null,null,null,0,222]
[21,18921,22,18925,24,18930,null,null,null,null,0,222]
[21,19026,22,19029,24,19033,null,null,null,null,0,222]
[21,19128,22,19133,24,19138,null,null,null,null,0,222]
[21,19276,22,19280,24,19286,null,null,null,null,0,222]
[21,19383,22,19387,24,19392,null,null,null,null,0,222]
[21,19495,22,19499,24,19512,null,null,null,null,0,222]
[21,19611,22,19614,24,19619,null,null,null,null,0,222]
[21,19723,22,19727,24,19733,null,null,null,null,0,222]
[21,19832,22,19835,24,19840,null,null,null,null,0,222]
[21,19946,22,19950,24,19954,null,null,null,null,0,222]
[21,20057,22,20063,24,20067,null,null,null,null,0,222]
[21,20171,22,20175,24,20181,null,null,null,null,0,222]
[21,20279,22,20283,24,20288,null,null,null,null,0,222]
[21,20388,22,20390,24,20395,null,null,null,null,0,222]
[21,20493,22,20496,24,20499,null,null,null,null,0,222]
[21,20598,22,20601,24,20606,null,null,null,null,0,222]
[21,20704,22,20707,24,20710,null,null,null,null,0,222]
[21,20806,22,20809,24,20813,null,null,null,null,0,222]
[21,20910,22,20913,24,20917,null,null,null,null,0,222]
[21,21013,22,21016,24,21019,null,null,null,null,0,222]
[21,21117,22,21120,24,21124,null,null,null,null,0,222]
[21,21223,22,21228,24,21236,null,null,null,null,0,222]
[21,21386,22,21390,24,21395,null,null,null,null,0,222]
[21,21506,22,21511,24,21517,null,null,null,null,0,222]
[21,21632,22,21637,24,21643,null,null,null,null,0,222]
[21,21749,22,21754,24,21758,null,null,null,null,0,222]
[21,21862,22,21866,24,21871,null,null,null,null,0,222]
[21,21973,22,21976,24,21981,null,null,null,null,0,222]
[21,22080,22,22084,24,22088,null,null,null,null,0,222]
[21,22185,22,22188,24,22192,null,null,null,null,0,222]
[21,22286,22,22291,24,22295,null,null,null,null,0,222]
[21,22413,22,22418,24,22423,null,null,null,null,0,222]
[21,22533,22,22540,24,22554,null,null,null,null,0,222]
[21,22653,22,22657,24,22667,null,null,null,null,0,222]
[21,22766,22,22770,24,22773,null,null,null,null,0,222]
[21,22870,22,22877,24,22882,null,null,null,null,0,222]
[21,22976,22,22985,24,22990,null,null,null,null,0,222]
[21,23125,22,23131,24,23136,null,null,null,null,0,222]
[21,23231,22,23237,24,23241,null,null,null,null,0,222]
[21,23340,22,23343,24,23345,null,null,null,null,0,222]
[21,23446,22,23450,24,23467,null,null,null,null,0,222]
[21,23563,22,23565,24,23568,null,null,null,null,0,222]
[21,23668,22,23671,24,23679,null,null,null,null,0,222]
[21,23774,22,23778,24,23780,null,null,null,null,0,222]
[21,23918,22,23922,24,23927,null,null,null,null,null,222]

{"sheet":"!L930853..Ta","index":33,"n_rows":219,"n_cols":48,"rows_kept":219,"cut":false,"hidden":false,"merged":[[4,39,4,42],[5,39,5,40],[4,44,4,47],[5,44,5,45],[4,24,4,27],[5,24,5,25],[4,29,4,32],[5,29,5,30],[4,34,4,37],[5,34,5,35],[1,1,1,2],[5,13,5,14],[18,13,18,14],[19,13,19,14],[4,19,4,22],[5,19,5,20]]}
["Report for:!L930853..Ta"]
["Date:","<date>"]
["Hen:","<hen>",null,null,null,"Correct Sequence",{"$f":"Start!J2","v":211},null,null,null,null,null,null,null,null,"Total Sequences in Data",{"$f":"4994-COUNTBLANK(L7:L5000)","v":213},null,null,null,null,"Total Sequences in Block Data",{"$f":"COUNTA(L7:L42)","v":36},null,null,null,"Total Sequences in Block Data",{"$f":"COUNTA(L43:L77)","v":35},null,null,null,"Total Sequences in Block Data",{"$f":"COUNTA(L78:L113)","v":36},null,null,null,"Total Sequences in Block Data",{"$f":"COUNTA(L114:L148)","v":35},null,null,null,"Total Sequences in Block Data",{"$f":"COUNTA(L149:L184)","v":36},null,null,null,"Total Sequences in Block Data",{"$f":"COUNTA(L185:L219)","v":35}]
[null,null,null,null,null,null,null,null,null,null,null,null,null,null,null,"Total Sequences in Summary",{"$f":"SUM(O7:O14)","v":213},null,null,null,null,"Total Sequences in Block Summary",{"$f":"SUM(U7:U14)","v":36},null,null,null,"Total Sequences in Block Summary",{"$f":"SUM(Z7:Z14)","v":35},null,null,null,"Total Sequences in Block Summary",{"$f":"SUM(AE7:AE14)","v":36},null,null,null,"Total Sequences in Block Summary",{"$f":"SUM(AJ7:AJ14)","v":35},null,null,null,"Total Sequences in Block Summary",{"$f":"SUM(AO7:AO14)","v":36},null,null,null,"Total Sequences in Block Summary",{"$f":"SUM(AT7:AT14)","v":35}]
[null,null,null,null,null,null,null,null,null,null,null,null,null,null,null,null,null,null,null,"Block 1",null,null,null,null,"Block 2",null,null,null,null,"Block 3",null,null,null,null,"Block 4",null,null,null,null,"Block 5",null,null,null,null,"Block 6"]
["Sequence\nComponent\n1","Time\n1","Sequence\nComponent\n2","Time\n2","Sequence\nComponent\n3","Time\n3","Sequence\nComponent\n4","Time\n4","Sequence\nComponent\n5","Time\n5","Correct?\n0=No 1=Yes","Sequence",null,"Frequency",null,"Relative Frequency","Variability",null,null,"Frequency",null,"Relative Frequency","Variability",null,"Frequency",null,"Relative Frequency","Variability",null,"Frequency",null,"Relative Frequency","Variability",null,"Frequency",null,"Relative Frequency","Variability",null,"Frequency",null,"Relative Frequency","Variability",null,"Frequency",null,"Relative Frequency","Variability"]
[21,110,22,118,24,122,null,null,null,null,0,222,null,111,{"$f":"COUNTIF($L$7:$L$500,N7)","v":5},{"$f":"O7/$Q$4","v":2.3474178403755867E-2},{"$f":"IF(P7=0,0,(P7*((LOG(P7))/LOG(2))))","v":-0.12706059918634918},null,null,{"$f":"N7","v":111},{"$f":"COUNTIF(L7:L42,T7)","v":4},{"$f":"U7/(W4-U11)","v":0.1111111111111111},{"$f":"IF(V7=0,0,(V7*((LOG(V7))/LOG(2))))","v":-0.3522138890491458},null,{"$f":"N7","v":111},{"$f":"COUNTIF(L43:L77,Y7)","v":0},{"$f":"Z7/(AB4-Z11)","v":0},{"$f":"IF(AA7=0,0,(AA7*((LOG(AA7))/LOG(2))))","v":0},null,{"$f":"N7","v":111},{"$f":"COUNTIF(L78:L113,AD7)","v":1},{"$f":"AE7/(AG4-AE11)","v":2.7777777777777776E-2},{"$f":"IF(AF7=0,0,(AF7*((LOG(AF7))/LOG(2))))","v":-0.14360902781784199},null,{"$f":"N7","v":111},{"$f":"COUNTIF(L114:L148,AI7)","v":0},{"$f":"AJ7/(AL4-AJ11)","v":0},{"$f":"IF(AK7=0,0,(AK7*((LOG(AK7))/LOG(2))))","v":0},null,{"$f":"N7","v":111},{"$f":"COUNTIF(L149:L184,AN7)","v":0},{"$f":"AO7/(AQ4-AO11)","v":0},{"$f":"IF(AP7=0,0,(AP7*((LOG(AP7))/LOG(2))))","v":0},null,{"$f":"N7","v":111},{"$f":"COUNTIF(L185:L219,AS7)","v":0},{"$f":"AT7/(AV4-AT11)","v":0},{"$f":"IF(AU7=0,0,(AU7*((LOG(AU7))/LOG(2))))","v":0}]
[21,242,22,245,24,249,null,null,null,null,0,222,null,112,{"$f":"COUNTIF($L$7:$L$500,N8)","v":1},{"$f":"O8/$Q$4","v":4.6948356807511738E-3},{"$f":"IF(P8=0,0,(P8*((LOG(P8))/LOG(2))))","v":-3.6313190705285624E-2},null,null,{"$f":"N8","v":112},{"$f":"COUNTIF(L7:L42,T8)","v":1},{"$f":"U8/(W4-U11)","v":2.7777777777777776E-2},{"$f":"IF(V8=0,0,(V8*((LOG(V8))/LOG(2))))","v":-0.14360902781784199},null,{"$f":"N8","v":112},{"$f":"COUNTIF(L43:L77,Y8)","v":0},{"$f":"Z8/(AB4-Z11)","v":0},{"$f":"IF(AA8=0,0,(AA8*((LOG(AA8))/LOG(2))))","v":0},null,{"$f":"N8","v":112},{"$f":"COUNTIF(L78:L113,AD8)","v":0},{"$f":"AE8/(AG4-AE11)","v":0},{"$f":"IF(AF8=0,0,(AF8*((LOG(AF8))/LOG(2))))","v":0},null,{"$f":"N8","v":112},{"$f":"COUNTIF(L114:L148,AI8)","v":0},{"$f":"AJ8/(AL4-AJ11)","v":0},{"$f":"IF(AK8=0,0,(AK8*((LOG(AK8))/LOG(2))))","v":0},null,{"$f":"N8","v":112},{"$f":"COUNTIF(L149:L184,AN8)","v":0},{"$f":"AO8/(AQ4-AO11)","v":0},{"$f":"IF(AP8=0,0,(AP8*((LOG(AP8))/LOG(2))))","v":0},null,{"$f":"N8","v":112},{"$f":"COUNTIF(L185:L219,AS8)","v":0},{"$f":"AT8/(AV4-AT11)","v":0},{"$f":"IF(AU8=0,0,(AU8*((LOG(AU8))/LOG(2))))","v":0}]
[12,373,13,378,13,380,null,null,null,null,0,111,null,121,{"$f":"COUNTIF($L$7:$L$500,N9)","v":0},{"$f":"O9/$Q$4","v":0},{"$f":"IF(P9=0,0,(P9*((LOG(P9))/LOG(2))))","v":0},null,null,{"$f":"N9","v":121},{"$f":"COUNTIF(L7:L42,T9)","v":0},{"$f":"U9/(W4-U11)","v":0},{"$f":"IF(V9=0,0,(V9*((LOG(V9))/LOG(2))))","v":0},null,{"$f":"N9","v":121},{"$f":"COUNTIF(L43:L77,Y9)","v":0},{"$f":"Z9/(AB4-Z11)","v":0},{"$f":"IF(AA9=0,0,(AA9*((LOG(AA9))/LOG(2))))","v":0},null,{"$f":"N9","v":121},{"$f":"COUNTIF(L78:L113,AD9)","v":0},{"$f":"AE9/(AG4-AE11)","v":0},{"$f":"IF(AF9=0,0,(AF9*((LOG(AF9))/LOG(2))))","v":0},null,{"$f":"N9","v":121},{"$f":"COUNTIF(L114:L148,AI9)","v":0},{"$f":"AJ9/(AL4-AJ11)","v":0},{"$f":"IF(AK9=0,0,(AK9*((LOG(AK9))/LOG(2))))","v":0},null,{"$f":"N9","v":121},{"$f":"COUNTIF(L149:L184,AN9)","v":0},{"$f":"AO9/(AQ4-AO11)","v":0},{"$f":"IF(AP9=0,0,(AP9*((LOG(AP9))/LOG(2))))","v":0},null,{"$f":"N9","v":121},{"$f":"COUNTIF(L185:L219,AS9)","v":0},{"$f":"AT9/(AV4-AT11)","v":0},{"$f":"IF(AU9=0,0,(AU9*((LOG(AU9))/LOG(2))))","v":0}]
[21,476,22,478,24,482,null,null,null,null,0,222,null,122,{"$f":"COUNTIF($L$7:$L$500,N10)","v":0},{"$f":"O10/$Q$4","v":0},{"$f":"IF(P10=0,0,(P10*((LOG(P10))/LOG(2))))","v":0},null,null,{"$f":"N10","v":122},{"$f":"COUNTIF(L7:L42,T10)","v":0},{"$f":"U10/(W4-U11)","v":0},{"$f":"IF(V10=0,0,(V10*((LOG(V10))/LOG(2))))","v":0},null,{"$f":"N10","v":122},{"$f":"COUNTIF(L43:L77,Y10)","v":0},{"$f":"Z10/(AB4-Z11)","v":0},{"$f":"IF(AA10=0,0,(AA10*((LOG(AA10))/LOG(2))))","v":0},null,{"$f":"N10","v":122},{"$f":"COUNTIF(L78:L113,AD10)","v":0},{"$f":"AE10/(AG4-AE11)","v":0},{"$f":"IF(AF10=0,0,(AF10*((LOG(AF10))/LOG(2))))","v":0},null,{"$f":"N10","v":122},{"$f":"COUNTIF(L114:L148,AI10)","v":0},{"$f":"AJ10/(AL4-AJ11)","v":0},{"$f":"IF(AK10=0,0,(AK10*((LOG(AK10))/LOG(2))))","v":0},null,{"$f":"N10","v":122},{"$f":"COUNTIF(L149:L184,AN10)","v":0},{"$f":"AO10/(AQ4-AO11)","v":0},{"$f":"IF(AP10=0,0,(AP10*((LOG(AP10))/LOG(2))))","v":0},null,{"$f":"N10","v":122},{"$f":"COUNTIF(L185:L219,AS10)","v":0},{"$f":"AT10/(AV4-AT11)","v":0},{"$f":"IF(AU10=0,0,(AU10*((LOG(AU10))/LOG(2))))","v":0}]
[21,579,22,582,24,587,null,null,null,null,0,222,null,211,{"$f":"COUNTIF($L$7:$L$500,N11)","v":0},{"$f":"O11/$Q$4","v":0},{"$f":"IF(P11=0,0,(P11*((LOG(P11))/LOG(2))))","v":0},null,null,{"$f":"N11","v":211},{"$f":"COUNTIF(L7:L42,T11)","v":0},null,null,null,{"$f":"N11","v":211},{"$f":"COUNTIF(L43:L77,Y11)","v":0},null,null,null,{"$f":"N11","v":211},{"$f":"COUNTIF(L78:L113,AD11)","v":0},null,null,null,{"$f":"N11","v":211},{"$f":"COUNTIF(L114:L148,AI11)","v":0},null,null,null,{"$f":"N11","v":211},{"$f":"COUNTIF(L149:L184,AN11)","v":0},null,null,null,{"$f":"N11","v":211},{"$f":"COUNTIF(L185:L219,AS11)","v":0}]
[21,685,22,687,24,689,null,null,null,null,0,222,null,212,{"$f":"COUNTIF($L$7:$L$500,N12)","v":0},{"$f":"O12/$Q$4","v":0},{"$f":"IF(P12=0,0,(P12*((LOG(P12))/LOG(2))))","v":0},null,null,{"$f":"N12","v":212},{"$f":"COUNTIF(L7:L42,T12)","v":0},{"$f":"U12/(W4-U11)","v":0},{"$f":"IF(V12=0,0,(V12*((LOG(V12))/LOG(2))))","v":0},null,{"$f":"N12","v":212},{"$f":"COUNTIF(L43:L77,Y12)","v":0},{"$f":"Z12/(AB4-Z11)","v":0},{"$f":"IF(AA12=0,0,(AA12*((LOG(AA12))/LOG(2))))","v":0},null,{"$f":"N12","v":212},{"$f":"COUNTIF(L78:L113,AD12)","v":0},{"$f":"AE12/(AG4-AE11)","v":0},{"$f":"IF(AF12=0,0,(AF12*((LOG(AF12))/LOG(2))))","v":0},null,{"$f":"N12","v":212},{"$f":"COUNTIF(L114:L148,AI12)","v":0},{"$f":"AJ12/(AL4-AJ11)","v":0},{"$f":"IF(AK12=0,0,(AK12*((LOG(AK12))/LOG(2))))","v":0},null,{"$f":"N12","v":212},{"$f":"COUNTIF(L149:L184,AN12)","v":0},{"$f":"AO12/(AQ4-AO11)","v":0},{"$f":"IF(AP12=0,0,(AP12*((LOG(AP12))/LOG(2))))","v":0},null,{"$f":"N12","v":212},{"$f":"COUNTIF(L185:L219,AS12)","v":0},{"$f":"AT12/(AV4-AT11)","v":0},{"$f":"IF(AU12=0,0,(AU12*((LOG(AU12))/LOG(2))))","v":0}]
[21,803,22,806,24,811,null,null,null,null,0,222,null,221,{"$f":"COUNTIF($L$7:$L$500,N13)","v":0},{"$f":"O13/$Q$4","v":0},{"$f":"IF(P13=0,0,(P13*((LOG(P13))/LOG(2))))","v":0},null,null,{"$f":"N13","v":221},{"$f":"COUNTIF(L7:L42,T13)","v":0},{"$f":"U13/(W4-U11)","v":0},{"$f":"IF(V13=0,0,(V13*((LOG(V13))/LOG(2))))","v":0},null,{"$f":"N13","v":221},{"$f":"COUNTIF(L43:L77,Y13)","v":0},{"$f":"Z13/(AB4-Z11)","v":0},{"$f":"IF(AA13=0,0,(AA13*((LOG(AA13))/LOG(2))))","v":0},null,{"$f":"N13","v":221},{"$f":"COUNTIF(L78:L113,AD13)","v":0},{"$f":"AE13/(AG4-AE11)","v":0},{"$f":"IF(AF13=0,0,(AF13*((LOG(AF13))/LOG(2))))","v":0},null,{"$f":"N13","v":221},{"$f":"COUNTIF(L114:L148,AI13)","v":0},{"$f":"AJ13/(AL4-AJ11)","v":0},{"$f":"IF(AK13=0,0,(AK13*((LOG(AK13))/LOG(2))))","v":0},null,{"$f":"N13","v":221},{"$f":"COUNTIF(L149:L184,AN13)","v":0},{"$f":"AO13/(AQ4-AO11)","v":0},{"$f":"IF(AP13=0,0,(AP13*((LOG(AP13))/LOG(2))))","v":0},null,{"$f":"N13","v":221},{"$f":"COUNTIF(L185:L219,AS13)","v":0},{"$f":"AT13/(AV4-AT11)","v":0},{"$f":"IF(AU13=0,0,(AU13*((LOG(AU13))/LOG(2))))","v":0}]
[21,907,22,909,24,916,null,null,null,null,0,222,null,222,{"$f":"COUNTIF($L$7:$L$500,N14)","v":207},{"$f":"O14/$Q$4","v":0.971830985915493},{"$f":"IF(P14=0,0,(P14*((LOG(P14))/LOG(2))))","v":-4.0061460959568931E-2},null,null,{"$f":"N14","v":222},{"$f":"COUNTIF(L7:L42,T14)","v":31},{"$f":"U14/(W4-U11)","v":0.86111111111111116},{"$f":"IF(V14=0,0,(V14*((LOG(V14))/LOG(2))))","v":-0.18576637285329303},null,{"$f":"N14","v":222},{"$f":"COUNTIF(L43:L77,Y14)","v":35},{"$f":"Z14/(AB4-Z11)","v":1},{"$f":"IF(AA14=0,0,(AA14*((LOG(AA14))/LOG(2))))","v":0},null,{"$f":"N14","v":222},{"$f":"COUNTIF(L78:L113,AD14)","v":35},{"$f":"AE14/(AG4-AE11)","v":0.97222222222222221},{"$f":"IF(AF14=0,0,(AF14*((LOG(AF14))/LOG(2))))","v":-3.9513040483530763E-2},null,{"$f":"N14","v":222},{"$f":"COUNTIF(L114:L148,AI14)","v":35},{"$f":"AJ14/(AL4-AJ11)","v":1},{"$f":"IF(AK14=0,0,(AK14*((LOG(AK14))/LOG(2))))","v":0},null,{"$f":"N14","v":222},{"$f":"COUNTIF(L149:L184,AN14)","v":36},{"$f":"AO14/(AQ4-AO11)","v":1},{"$f":"IF(AP14=0,0,(AP14*((LOG(AP14))/LOG(2))))","v":0},null,{"$f":"N14","v":222},{"$f":"COUNTIF(L185:L219,AS14)","v":35},{"$f":"AT14/(AV4-AT11)","v":1},{"$f":"IF(AU14=0,0,(AU14*((LOG(AU14))/LOG(2))))","v":0}]
[12,1025,13,1029,13,1034,null,null,null,null,0,111,null,null,null,{"$f":"SUM(P7:P14)","v":1},{"$f":"-SUM(Q7:Q14)","v":0.20343525085120373},null,null,null,null,{"$f":"SUM(V7:V14)","v":1},{"$f":"-SUM(W7:W14)","v":0.68158928972028077},null,null,null,{"$f":"SUM(AA7:AA14)","v":1},{"$f":"-SUM(AB7:AB14)","v":0},null,null,null,{"$f":"SUM(AF7:AF14)","v":1},{"$f":"-SUM(AG7:AG14)","v":0.18312206830137276},null,null,null,{"$f":"SUM(AK7:AK14)","v":1},{"$f":"-SUM(AL7:AL14)","v":0},null,null,null,{"$f":"SUM(AP7:AP14)","v":1},{"$f":"-SUM(AQ7:AQ14)","v":0},null,null,null,{"$f":"SUM(AU7:AU14)","v":1},{"$f":"-SUM(AV7:AV14)","v":0}]
[21,1133,22,1147,24,1153,null,null,null,null,0,222,null,null,null,"U=",{"$f":"Q15/(LOG(Q4)/LOG(2))","v":2.6301601590734813E-2},null,null,null,null,"U1=",{"$f":"W15/(LOG(W4)/LOG(2))","v":0.13183736505464394},null,null,null,"U2=",{"$f":"AB15/(LOG(AB4)/LOG(2))","v":0},null,null,null,"U3=",{"$f":"AG15/(LOG(AG4)/LOG(2))","v":3.5420643094490757E-2},null,null,null,"U4=",{"$f":"AL15/(LOG(AL4)/LOG(2))","v":0},null,null,null,"U5=",{"$f":"AQ15/(LOG(AQ4)/LOG(2))","v":0},null,null,null,"U6=",{"$f":"AV15/(LOG(AV4)/LOG(2))","v":0}]
[21,1247,22,1251,24,1258,null,null,null,null,0,222]
[21,1359,22,1363,24,1373,null,null,null,null,0,222]
[21,1473,22,1476,24,1481,null,null,null,null,0,222,null,"Total Target Seq"]
[21,1577,22,1582,24,1585,null,null,null,null,0,222,null,{"$f":"COUNTIF(L7:L219,G3)","v":0},null,36,35,36,35,36,35]
[21,1693,22,1698,24,1703,null,null,null,null,0,222,null,null,null,"% of reinforcement given in 6 equal intervals based on number of trials "]
[21,1800,22,1805,24,1808,null,null,null,null,0,222,null,null,null,"%_1","%_2","%_3","%_4","%_5","%_6"]
[21,1905,22,1909,24,1912,null,null,null,null,0,222,null,null,"target sequence",{"$f":"$G$3","v":211},{"$f":"$G$3","v":211},{"$f":"$G$3","v":211},{"$f":"$G$3","v":211},{"$f":"$G$3","v":211},{"$f":"$G$3","v":211}]
[21,2012,22,2015,24,2020,null,null,null,null,0,222,null,null,"total reinforcement",{"$f":"U11","v":0},{"$f":"Z11","v":0},{"$f":"AE11","v":0},{"$f":"AJ11","v":0},{"$f":"AO11","v":0},{"$f":"AT11","v":0}]
[21,2116,22,2119,24,2122,null,null,null,null,0,222,null,null,"% target"]
[21,2220,22,2224,24,2228,null,null,null,null,0,222,null,null,"CCRF"]
[21,2332,22,2335,24,2341,null,null,null,null,0,222,null,null,"% CCRf"]
[12,2486,13,2488,13,2495,null,null,null,null,0,111,null,null,"average response rate",{"$f":"F42/P20","v":113.30555555555556},{"$f":"(F77-F42)/Q20","v":111.65714285714286},{"$f":"(F113-F77)/R20","v":117.5},{"$f":"(F148-F113)/S20","v":110.8},{"$f":"(F184-F148)/T20","v":110.13888888888889},{"$f":"(F219-F184)/U20","v":110.05714285714286}]
[21,2594,22,2598,24,2603,null,null,null,null,0,222]
[21,2701,22,2703,24,2706,null,null,null,null,0,222]
[21,2809,22,2824,24,2836,null,null,null,null,0,222]
[21,2935,22,2942,24,2954,null,null,null,null,0,222]
[21,3050,22,3055,24,3058,null,null,null,null,0,222]
[21,3154,22,3161,24,3165,null,null,null,null,0,222]
[21,3264,22,3267,24,3274,null,null,null,null,0,222]
[12,3389,13,3401,24,3419,null,null,null,null,0,112]
[21,3517,22,3521,24,3524,null,null,null,null,0,222]
[21,3633,22,3636,24,3645,null,null,null,null,0,222]
[21,3748,22,3752,24,3757,null,null,null,null,0,222]
[21,3855,22,3859,24,3862,null,null,null,null,0,222]
[21,3960,22,3964,24,3968,null,null,null,null,0,222]
[12,4067,13,4070,13,4079,null,null,null,null,0,111]
[21,4180,22,4183,24,4189,null,null,null,null,0,222]
[21,4285,22,4293,24,4298,null,null,null,null,0,222]
[21,4407,22,4412,24,4428,null,null,null,null,0,222]
[21,4538,22,4545,24,4551,null,null,null,null,0,222]
[21,4646,22,4649,24,4652,null,null,null,null,0,222]
[21,4751,22,4755,24,4760,null,null,null,null,0,222]
[21,4858,22,4861,24,4866,null,null,null,null,0,222]
[21,4964,22,4968,24,4971,null,null,null,null,0,222]
[21,5095,22,5098,24,5103,null,null,null,null,0,222]
[21,5200,22,5204,24,5209,null,null,null,null,0,222]
[21,5307,22,5313,24,5317,null,null,null,null,0,222]
[21,5415,22,5419,24,5422,null,null,null,null,0,222]
[21,5518,22,5524,24,5528,null,null,null,null,0,222]
[21,5640,22,5645,24,5650,null,null,null,null,0,222]
[21,5752,22,5760,24,5774,null,null,null,null,0,222]
[21,5878,22,5883,24,5887,null,null,null,null,0,222]
[21,5983,22,5987,24,5992,null,null,null,null,0,222]
[21,6090,22,6093,24,6098,null,null,null,null,0,222]
[21,6193,22,6197,24,6200,null,null,null,null,0,222]
[21,6298,22,6301,24,6306,null,null,null,null,0,222]
[21,6411,22,6415,24,6421,null,null,null,null,0,222]
[21,6521,22,6524,24,6529,null,null,null,null,0,222]
[21,6627,22,6630,24,6635,null,null,null,null,0,222]
[21,6737,22,6742,24,6749,null,null,null,null,0,222]
[21,6846,22,6849,24,6853,null,null,null,null,0,222]
[21,6987,22,6991,24,6995,null,null,null,null,0,222]
[21,7098,22,7103,24,7109,null,null,null,null,0,222]
[21,7209,22,7218,24,7223,null,null,null,null,0,222]
[21,7323,22,7326,24,7329,null,null,null,null,0,222]
[21,7432,22,7441,24,7448,null,null,null,null,0,222]
[21,7546,22,7549,24,7553,null,null,null,null,0,222]
[21,7658,22,7663,24,7669,null,null,null,null,0,222]
[21,7766,22,7771,24,7774,null,null,null,null,0,222]
[21,7875,22,7878,24,7883,null,null,null,null,0,222]
[21,7980,22,7983,24,7987,null,null,null,null,0,222]
[21,8087,22,8091,24,8096,null,null,null,null,0,222]
[21,8198,22,8207,24,8212,null,null,null,null,0,222]
[21,8310,22,8313,24,8317,null,null,null,null,0,222]
[21,8449,22,8453,24,8458,null,null,null,null,0,222]
[21,8565,22,8572,24,8583,null,null,null,null,0,222]
[21,8680,22,8691,24,8695,null,null,null,null,0,222]
[21,8792,22,8796,24,8800,null,null,null,null,0,222]
[21,8928,22,8931,24,8938,null,null,null,null,0,222]
[21,9034,22,9039,24,9043,null,null,null,null,0,222]
[21,9139,22,9142,24,9145,null,null,null,null,0,222]
[21,9244,22,9248,24,9252,null,null,null,null,0,222]
[21,9352,22,9358,24,9362,null,null,null,null,0,222]
[21,9460,22,9464,24,9469,null,null,null,null,0,222]
[21,9567,22,9570,24,9575,null,null,null,null,0,222]
[21,9686,22,9690,24,9695,null,null,null,null,0,222]
[21,9792,22,9795,24,9799,null,null,null,null,0,222]
[21,9896,22,9903,24,9908,null,null,null,null,0,222]
[21,10007,22,10012,24,10015,null,null,null,null,0,222]
[21,10112,22,10116,24,10120,null,null,null,null,0,222]
[21,10221,22,10226,24,10231,null,null,null,null,0,222]
[21,10391,22,10395,24,10399,null,null,null,null,0,222]
[21,10555,22,10560,24,10568,null,null,null,null,0,222]
[21,10736,22,10739,24,10758,null,null,null,null,0,222]
[21,10857,22,10861,24,10864,null,null,null,null,0,222]
[21,10961,22,10966,24,10969,null,null,null,null,0,222]
[21,11085,22,11089,24,11095,null,null,null,null,0,222]
[21,11217,22,11220,24,11225,null,null,null,null,0,222]
[21,11321,22,11328,24,11332,null,null,null,null,0,222]
[21,11431,22,11433,24,11438,null,null,null,null,0,222]
[21,11536,22,11540,24,11545,null,null,null,null,0,222]
[21,11642,22,11646,24,11649,null,null,null,null,0,222]
[12,11766,13,11772,13,11777,null,null,null,null,0,111]
[21,11876,22,11879,24,11883,null,null,null,null,0,222]
[21,11987,22,11990,24,11995,null,null,null,null,0,222]
[21,12098,22,12104,24,12108,null,null,null,null,0,222]
[21,12206,22,12213,24,12217,null,null,null,null,0,222]
[21,12320,22,12324,24,12329,null,null,null,null,0,222]
[21,12430,22,12434,24,12438,null,null,null,null,0,222]
[21,12538,22,12542,24,12546,null,null,null,null,0,222]
[21,12654,22,12660,24,12672,null,null,null,null,0,222]
[21,12770,22,12773,24,12777,null,null,null,null,0,222]
[21,12873,22,12876,24,12889,null,null,null,null,0,222]
[21,12991,22,12994,24,13008,null,null,null,null,0,222]
[21,13109,22,13112,24,13117,null,null,null,null,0,222]
[21,13219,22,13228,24,13233,null,null,null,null,0,222]
[21,13333,22,13337,24,13342,null,null,null,null,0,222]
[21,13444,22,13451,24,13466,null,null,null,null,0,222]
[21,13565,22,13568,24,13573,null,null,null,null,0,222]
[21,13669,22,13676,24,13681,null,null,null,null,0,222]
[21,13779,22,13782,24,13786,null,null,null,null,0,222]
[21,13883,22,13886,24,13891,null,null,null,null,0,222]
[21,13991,22,13994,24,13999,null,null,null,null,0,222]
[21,14095,22,14098,24,14103,null,null,null,null,0,222]
[21,14215,22,14218,24,14224,null,null,null,null,0,222]
[21,14322,22,14326,24,14330,null,null,null,null,0,222]
[21,14428,22,14432,24,14437,null,null,null,null,0,222]
[21,14535,22,14539,24,14544,null,null,null,null,0,222]
[21,14645,22,14647,24,14652,null,null,null,null,0,222]
[21,14752,22,14756,24,14760,null,null,null,null,0,222]
[21,14859,22,14862,24,14867,null,null,null,null,0,222]
[21,14963,22,14965,24,14970,null,null,null,null,0,222]
[21,15068,22,15072,24,15077,null,null,null,null,0,222]
[21,15174,22,15177,24,15181,null,null,null,null,0,222]
[21,15283,22,15286,24,15291,null,null,null,null,0,222]
[21,15450,22,15453,24,15458,null,null,null,null,0,222]
[21,15555,22,15561,24,15565,null,null,null,null,0,222]
[21,15666,22,15670,24,15676,null,null,null,null,0,222]
[21,15772,22,15777,24,15782,null,null,null,null,0,222]
[21,15878,22,15881,24,15885,null,null,null,null,0,222]
[21,15982,22,15986,24,15991,null,null,null,null,0,222]
[21,16089,22,16091,24,16095,null,null,null,null,0,222]
[21,16192,22,16197,24,16202,null,null,null,null,0,222]
[21,16300,22,16303,24,16312,null,null,null,null,0,222]
[21,16413,22,16419,24,16426,null,null,null,null,0,222]
[21,16525,22,16528,24,16532,null,null,null,null,0,222]
[21,16630,22,16635,24,16639,null,null,null,null,0,222]
[21,16742,22,16748,24,16753,null,null,null,null,0,222]
[21,16861,22,16865,24,16874,null,null,null,null,0,222]
[21,16979,22,16984,24,16989,null,null,null,null,0,222]
[21,17086,22,17090,24,17093,null,null,null,null,0,222]
[21,17226,22,17233,24,17239,null,null,null,null,0,222]
[21,17339,22,17343,24,17354,null,null,null,null,0,222]
[21,17449,22,17456,24,17460,null,null,null,null,0,222]
[21,17559,22,17577,24,17588,null,null,null,null,0,222]
[21,17689,22,17692,24,17697,null,null,null,null,0,222]
[21,17798,22,17803,24,17810,null,null,null,null,0,222]
[21,17906,22,17912,24,17917,null,null,null,null,0,222]
[21,18016,22,18024,24,18031,null,null,null,null,0,222]
[21,18132,22,18134,24,18142,null,null,null,null,0,222]
[21,18238,22,18244,24,18250,null,null,null,null,0,222]
[21,18342,22,18347,24,18351,null,null,null,null,0,222]
[21,18451,22,18456,24,18460,null,null,null,null,0,222]
[21,18561,22,18565,24,18570,null,null,null,null,0,222]
[21,18667,22,18673,24,18679,null,null,null,null,0,222]
[21,18777,22,18780,24,18784,null,null,null,null,0,222]
[21,18881,22,18885,24,18889,null,null,null,null,0,222]
[21,18983,22,18986,24,18990,null,null,null,null,0,222]
[21,19088,22,19093,24,19097,null,null,null,null,0,222]
[21,19195,22,19198,24,19202,null,null,null,null,0,222]
[21,19302,22,19305,24,19315,null,null,null,null,0,222]
[21,19415,22,19418,24,19423,null,null,null,null,0,222]
[21,19523,22,19527,24,19533,null,null,null,null,0,222]
[21,19629,22,19635,24,19640,null,null,null,null,0,222]
[21,19737,22,19742,24,19746,null,null,null,null,0,222]
[21,19842,22,19846,24,19851,null,null,null,null,0,222]
[21,19944,22,19948,24,19953,null,null,null,null,0,222]
[21,20053,22,20056,24,20060,null,null,null,null,0,222]
[21,20158,22,20162,24,20167,null,null,null,null,0,222]
[21,20266,22,20270,24,20273,null,null,null,null,0,222]
[21,20370,22,20376,24,20380,null,null,null,null,0,222]
[21,20476,22,20480,24,20484,null,null,null,null,0,222]
[21,20585,22,20588,24,20601,null,null,null,null,0,222]
[21,20696,22,20700,24,20706,null,null,null,null,0,222]
[21,20802,22,20805,24,20813,null,null,null,null,0,222]
[21,20909,22,20917,24,20922,null,null,null,null,0,222]
[21,21025,22,21029,24,21041,null,null,null,null,0,222]
[21,21139,22,21142,24,21146,null,null,null,null,0,222]
[21,21241,22,21248,24,21252,null,null,null,null,0,222]
[21,21344,22,21348,24,21353,null,null,null,null,0,222]
[21,21456,22,21460,24,21468,null,null,null,null,0,222]
[21,21565,22,21571,24,21575,null,null,null,null,0,222]
[21,21673,22,21677,24,21681,null,null,null,null,0,222]
[21,21790,22,21795,24,21800,null,null,null,null,0,222]
[21,21897,22,21902,24,21906,null,null,null,null,0,222]
[21,22034,22,22040,24,22044,null,null,null,null,0,222]
[21,22142,22,22147,24,22151,null,null,null,null,0,222]
[21,22243,22,22247,24,22262,null,null,null,null,0,222]
[21,22363,22,22366,24,22371,null,null,null,null,0,222]
[21,22471,22,22474,24,22479,null,null,null,null,0,222]
[21,22587,22,22594,24,22602,null,null,null,null,0,222]
[21,22699,22,22706,24,22710,null,null,null,null,0,222]
[21,22818,22,22822,24,22827,null,null,null,null,0,222]
[21,22922,22,22927,24,22930,null,null,null,null,0,222]
[21,23026,22,23032,24,23037,null,null,null,null,0,222]
[21,23140,22,23151,24,23158,null,null,null,null,0,222]
[21,23256,22,23260,24,23265,null,null,null,null,0,222]
[21,23361,22,23364,24,23372,null,null,null,null,0,222]
[21,23468,22,23472,24,23477,null,null,null,null,0,222]
[21,23575,22,23579,24,23583,null,null,null,null,0,222]
[21,23695,22,23698,24,23701,null,null,null,null,0,222]
[21,23797,22,23801,24,23805,null,null,null,null,0,222]
[21,23904,22,23909,24,23912,null,null,null,null,null,222]