{"text_format":"1","workbook":"xlsx","n_sheets":33,"sheets":["Sample Report","Summary","Start","!LB11A04..Is","!LB12A04..Is","!LB12A14..Is","!LB13A24..Is","!LB14B14..Is","!LB15A24..Is","!LB16A14..Is","!LB17A04..Is","!LB18A04..Is","!LB19C54..Is","!LB20A14..Is","!LB21B04..Is","!LB22A44..Is","!LB23A44..Is","!LB24A04..Is","!LB25954..Is","!LB26944..Is","!LB27A54..Is","!LB28B04..Is","!LB29954..Is","!LB30954..Is","!LC01B14..Is","!LC02954..Is","!LC03A34..Is","!LC04B04..Is","!LC05A34..Is","!LC07A04..Is","!LC08A54..Is","!LC09A34..Is","!LC11C04..Is"],"not_rendered":{"charts":0,"images":0,"macros":1,"external_links":0,"defined_names":0,"comments":0,"pivot_tables":0},"unopened":[],"bounds":{"document_bytes":16777216,"sheet_cells":100000,"rows_first":2000,"rows_last":500,"rows_between":2000,"halvings":0,"cell_chars":16384,"cell_head_chars":4096},"cells_cut":0,"cells_raw":0,"read":"whole","date_system":"1900"}

{"sheet":"Sample Report","index":0,"n_rows":12,"n_cols":11,"rows_kept":12,"cut":false,"hidden":true,"merged":[[7,0,7,6]]}
[]
["Date"]
["Hen"]
["Program"]
["Start at 999999"]
["Sequence component 1","Time 1","Seqeunce Component 2","Time 2","Seqeunce Component 3","Time 3","Correct   0 = No 1=Yes",null,null,"Seqeunce","Time"]
[12,7,12,42,13,18,"if 77 new line,                                  if 31 or 41 = yes new line on 77, ",null,null,"=string of Seqeunce compponent 1, 2 & 3","=time 3"]
["This continues until ther is a 1 on its own to indicate start of summary data"]
[null,null,null,null,null,null,null,null,null,"10-19 =1"]
["Summary Data ",null,null,null,null,null,null,null,null,"20-29 =2"]
["Correct","Incorrect","Rft","total","Av Correct","Av Incorrect","Percent correct","Time",null,"in this example the seqeunce would be 111"]
[40,33,40,73,23.95,15,54,806]

{"sheet":"Summary","index":1,"n_rows":32,"n_cols":24,"rows_kept":32,"cut":false,"hidden":false,"merged":[]}
[]
["Day","Date","Average Response Rate","Target %","RF for non correct sequence","U Value",null,null,null,null,"Block 1","Block 2","Block 3","Block 4","Block 5","Block 6"]
[1,{"$f":"'!LB11A04..Is'!B2:C2","v":"<date>"},{"$f":"('!LB11A04..Is'!H92/60)/'!LB11A04..Is'!Q3","v":0},{"$f":"'!LB11A04..Is'!N28/'!LB11A04..Is'!Q3","v":0},{"$f":"SUM('!LB11A04..Is'!L28:Q28)/'!LB11A04..Is'!Q3","v":13.383720930232558},{"$f":"'!LB11A04..Is'!Q24","v":0.3422763617692508},null,null,null,"Average Response Rate",{"$f":"AVERAGE(C3:C7)","v":1.8012635950102234},{"$f":"AVERAGE(C8:C12)","v":6.478721821514438},{"$f":"AVERAGE(C13:C17)","v":3.8865693473407106},{"$f":"AVERAGE(C18:C22)","v":1.8625542057546067},{"$f":"AVERAGE(C23:C27)","v":2.3631038997465978},{"$f":"AVERAGE(C28:C32)","v":1.9136497907093293}]
[2,{"$f":"'!LB12A04..Is'!B2:C2","v":"<date>"},{"$f":"('!LB12A04..Is'!H24/60)/'!LB12A04..Is'!Q3","v":2.0657407407407407},{"$f":"'!LB12A04..Is'!N28/'!LB12A04..Is'!Q3","v":0},{"$f":"SUM('!LB12A04..Is'!L28:Q28)/'!LB12A04..Is'!Q3","v":0.33333333333333331},{"$f":"'!LB12A04..Is'!Q24","v":0.42419320179719799},null,null,null,"Target %",{"$f":"AVERAGE(D3:D7)","v":5.3947131810825385E-3},{"$f":"AVERAGE(D8:D12)","v":7.590404582885785E-3},{"$f":"AVERAGE(D13:D17)","v":4.9917773258586852E-2},{"$f":"AVERAGE(D18:D22)","v":0.15334273037127738},{"$f":"AVERAGE(D23:D27)","v":0.13729948251702995},{"$f":"AVERAGE(D28:D32)","v":0.12031568079092425}]
[3,{"$f":"'!LB12A14..Is'!B2:C2","v":"<date>"},{"$f":"('!LB12A14..Is'!H89/60)/'!LB12A14..Is'!Q3","v":3.981124497991968},{"$f":"'!LB12A14..Is'!N28/'!LB12A14..Is'!Q3","v":1.2048192771084338E-2},{"$f":"SUM('!LB12A14..Is'!L28:Q28)/'!LB12A14..Is'!Q3","v":15.072289156626505},{"$f":"'!LB12A14..Is'!Q24","v":0.3955048729039462},null,null,null,"CCRF",{"$f":"AVERAGE(E3:E7)","v":13.910576573164281},{"$f":"AVERAGE(E8:E12)","v":15.443353416493357},{"$f":"AVERAGE(E13:E17)","v":17.90698631761094},{"$f":"AVERAGE(E18:E22)","v":11.381342734227513},{"$f":"AVERAGE(E23:E27)","v":12.248037870449391},{"$f":"AVERAGE(E28:E32)","v":13.304283300094809}]
[4,{"$f":"'!LB13A24..Is'!B2:C2","v":"<date>"},{"$f":"('!LB13A24..Is'!H140/60)/'!LB13A24..Is'!Q3","v":2.9594527363184078},{"$f":"'!LB13A24..Is'!N28/'!LB13A24..Is'!Q3","v":1.4925373134328358E-2},{"$f":"SUM('!LB13A24..Is'!L28:Q28)/'!LB13A24..Is'!Q3","v":8.6492537313432845},{"$f":"'!LB13A24..Is'!Q24","v":0.34394324621621442},null,null,null,"U Value",{"$f":"AVERAGE(F3:F7)","v":0.39525359232770957},{"$f":"AVERAGE(F8:F12)","v":0.47361342597458878},{"$f":"AVERAGE(F13:F17)","v":0.40700904177371156},{"$f":"AVERAGE(F18:F22)","v":0.28345530159610915},{"$f":"AVERAGE(F23:F27)","v":0.32078001724394722},{"$f":"AVERAGE(F28:F32)","v":0.3292863638740402}]
[5,{"$f":"'!LB14B14..Is'!B2:C2","v":"<date>"},{"$f":"('!LB14B14..Is'!H41/60)/'!LB14B14..Is'!Q3","v":0},{"$f":"'!LB14B14..Is'!N28/'!LB14B14..Is'!Q3","v":0},{"$f":"SUM('!LB14B14..Is'!L28:Q28)/'!LB14B14..Is'!Q3","v":32.114285714285714},{"$f":"'!LB14B14..Is'!Q24","v":0.47035027895193837}]
[6,{"$f":"'!LB15A24..Is'!B2:C2","v":"<date>"},{"$f":"('!LB15A24..Is'!H27/60)/'!LB15A24..Is'!Q3","v":13.700757575757576},{"$f":"'!LB15A24..Is'!N28/'!LB15A24..Is'!Q3","v":0},{"$f":"SUM('!LB15A24..Is'!L28:Q28)/'!LB15A24..Is'!Q3","v":0.40909090909090912},{"$f":"'!LB15A24..Is'!Q24","v":0.62033763525116137}]
[7,{"$f":"'!LB16A14..Is'!B2:C2","v":"<date>"},{"$f":"('!LB16A14..Is'!H82/60)/'!LB16A14..Is'!Q3","v":0},{"$f":"'!LB16A14..Is'!N28/'!LB16A14..Is'!Q3","v":0},{"$f":"SUM('!LB16A14..Is'!L28:Q28)/'!LB16A14..Is'!Q3","v":14.960526315789474},{"$f":"'!LB16A14..Is'!Q24","v":0.36885583912117942},{"$f":"K3","v":1.8012635950102234},{"$f":"L3","v":6.478721821514438},3.8865693473407106,1.8625542057546067,2.3631038997465978,1.9136497907093293,{"$f":"K4","v":5.3947131810825385E-3},{"$f":"L4","v":7.590404582885785E-3},4.9917773258586852E-2,0.15334273037127738,0.13729948251702995,0.12031568079092425,{"$f":"K6","v":0.39525359232770957},{"$f":"L6","v":0.47361342597458878},0.40700904177371156,0.28345530159610915,0.32078001724394722,0.3292863638740402]
[8,{"$f":"'!LB17A04..Is'!B2:C2","v":"<date>"},{"$f":"('!LB17A04..Is'!H72/60)/'!LB17A04..Is'!Q3","v":3.6674129353233833},{"$f":"'!LB17A04..Is'!N28/'!LB17A04..Is'!Q3","v":0},{"$f":"SUM('!LB17A04..Is'!L28:Q28)/'!LB17A04..Is'!Q3","v":18.567164179104477},{"$f":"'!LB17A04..Is'!Q24","v":0.41627155085424788}]
[9,{"$f":"'!LB18A04..Is'!B2:C2","v":"<date>"},{"$f":"('!LB18A04..Is'!H55/60)/'!LB18A04..Is'!Q3","v":8.1333333333333346},{"$f":"'!LB18A04..Is'!N28/'!LB18A04..Is'!Q3","v":2.0408163265306121E-2},{"$f":"SUM('!LB18A04..Is'!L28:Q28)/'!LB18A04..Is'!Q3","v":23.244897959183675},{"$f":"'!LB18A04..Is'!Q24","v":0.54920939729772367}]
[10,{"$f":"'!LB19C54..Is'!B2:C2","v":"<date>"},{"$f":"('!LB19C54..Is'!H63/60)/'!LB19C54..Is'!Q3","v":6.8921052631578954},{"$f":"'!LB19C54..Is'!N28/'!LB19C54..Is'!Q3","v":1.7543859649122806E-2},{"$f":"SUM('!LB19C54..Is'!L28:Q28)/'!LB19C54..Is'!Q3","v":20.035087719298247},{"$f":"'!LB19C54..Is'!Q24","v":0.4133927073486317}]
[11,{"$f":"'!LB20A14..Is'!B2:C2","v":"<date>"},{"$f":"('!LB20A14..Is'!H145/60)/'!LB20A14..Is'!Q3","v":2.8383693045563549},{"$f":"'!LB20A14..Is'!N28/'!LB20A14..Is'!Q3","v":1.4388489208633094E-2},{"$f":"SUM('!LB20A14..Is'!L28:Q28)/'!LB20A14..Is'!Q3","v":9.1366906474820144},{"$f":"'!LB20A14..Is'!Q24","v":0.350637981971614}]
[12,{"$f":"'!LB21B04..Is'!B2:C2","v":"<date>"},{"$f":"('!LB21B04..Is'!H39/60)/'!LB21B04..Is'!Q3","v":10.050980392156863},{"$f":"'!LB21B04..Is'!N28/'!LB21B04..Is'!Q3","v":0},{"$f":"SUM('!LB21B04..Is'!L28:Q28)/'!LB21B04..Is'!Q3","v":33.323529411764703},{"$f":"'!LB21B04..Is'!Q24","v":0.58084621378947709}]
[13,{"$f":"'!LB22A44..Is'!B2:C2","v":"<date>"},{"$f":"('!LB22A44..Is'!H99/60)/'!LB22A44..Is'!Q3","v":4.2967741935483872},{"$f":"'!LB22A44..Is'!N28/'!LB22A44..Is'!Q3","v":5.3763440860215055E-2},{"$f":"SUM('!LB22A44..Is'!L28:Q28)/'!LB22A44..Is'!Q3","v":24.27956989247312},{"$f":"'!LB22A44..Is'!Q24","v":0.43371883110536297}]
[14,{"$f":"'!LB23A44..Is'!B2:C2","v":"<date>"},{"$f":"('!LB23A44..Is'!H184/60)/'!LB23A44..Is'!Q3","v":2.2467228464419478},{"$f":"'!LB23A44..Is'!N28/'!LB23A44..Is'!Q3","v":8.98876404494382E-2},{"$f":"SUM('!LB23A44..Is'!L28:Q28)/'!LB23A44..Is'!Q3","v":6.7247191011235952},{"$f":"'!LB23A44..Is'!Q24","v":0.31523349654881316}]
[15,{"$f":"'!LB24A04..Is'!B2:C2","v":"<date>"},{"$f":"('!LB24A04..Is'!H148/60)/'!LB24A04..Is'!Q3","v":0},{"$f":"'!LB24A04..Is'!N28/'!LB24A04..Is'!Q3","v":9.154929577464789E-2},{"$f":"SUM('!LB24A04..Is'!L28:Q28)/'!LB24A04..Is'!Q3","v":16.070422535211268},{"$f":"'!LB24A04..Is'!Q24","v":0.35460868545329022}]
[16,{"$f":"'!LB25954..Is'!B2:C2","v":"<date>"},{"$f":"('!LB25954..Is'!H176/60)/'!LB25954..Is'!Q3","v":2.3508823529411762},{"$f":"'!LB25954..Is'!N28/'!LB25954..Is'!Q3","v":0.12941176470588237},{"$f":"SUM('!LB25954..Is'!L28:Q28)/'!LB25954..Is'!Q3","v":7.6470588235294121},{"$f":"'!LB25954..Is'!Q24","v":0.31412856423833818}]
[17,{"$f":"'!LB26944..Is'!B2:C2","v":"<date>"},{"$f":"('!LB26944..Is'!H184/60)/'!LB26944..Is'!Q3","v":2.24438202247191},{"$f":"'!LB26944..Is'!N28/'!LB26944..Is'!Q3","v":0.1404494382022472},{"$f":"SUM('!LB26944..Is'!L28:Q28)/'!LB26944..Is'!Q3","v":12.898876404494382},{"$f":"'!LB26944..Is'!Q24","v":0.26049804593023224}]
[18,{"$f":"'!LB27A54..Is'!B2:C2","v":"<date>"},{"$f":"('!LB27A54..Is'!H173/60)/'!LB27A54..Is'!Q3","v":0},{"$f":"'!LB27A54..Is'!N28/'!LB27A54..Is'!Q3","v":0.15568862275449102},{"$f":"SUM('!LB27A54..Is'!L28:Q28)/'!LB27A54..Is'!Q3","v":7.8083832335329344},{"$f":"'!LB27A54..Is'!Q24","v":0.2642282455519907}]
[19,{"$f":"'!LB28B04..Is'!B2:C2","v":"<date>"},{"$f":"('!LB28B04..Is'!H162/60)/'!LB28B04..Is'!Q3","v":2.3263888888888888},{"$f":"'!LB28B04..Is'!N28/'!LB28B04..Is'!Q3","v":0.17948717948717949},{"$f":"SUM('!LB28B04..Is'!L28:Q28)/'!LB28B04..Is'!Q3","v":14.75},{"$f":"'!LB28B04..Is'!Q24","v":0.28141010486775875}]
[20,{"$f":"'!LB29954..Is'!B2:C2","v":"<date>"},{"$f":"('!LB29954..Is'!H173/60)/'!LB29954..Is'!Q3","v":2.3911177644710579},{"$f":"'!LB29954..Is'!N28/'!LB29954..Is'!Q3","v":0.16167664670658682},{"$f":"SUM('!LB29954..Is'!L28:Q28)/'!LB29954..Is'!Q3","v":13.802395209580839},{"$f":"'!LB29954..Is'!Q24","v":0.29701154739222618}]
[21,{"$f":"'!LB30954..Is'!B2:C2","v":"<date>"},{"$f":"('!LB30954..Is'!H181/60)/'!LB30954..Is'!Q3","v":2.2834285714285714},{"$f":"'!LB30954..Is'!N28/'!LB30954..Is'!Q3","v":0.16},{"$f":"SUM('!LB30954..Is'!L28:Q28)/'!LB30954..Is'!Q3","v":13.131428571428572},{"$f":"'!LB30954..Is'!Q24","v":0.33320531415800286}]
[22,{"$f":"'!LC01B14..Is'!B2:C2","v":"<date>"},{"$f":"('!LC01B14..Is'!H164/60)/'!LC01B14..Is'!Q3","v":2.5030398322851153},{"$f":"'!LC01B14..Is'!N28/'!LC01B14..Is'!Q3","v":0.13207547169811321},{"$f":"SUM('!LC01B14..Is'!L28:Q28)/'!LC01B14..Is'!Q3","v":8.0880503144654092},{"$f":"'!LC01B14..Is'!Q24","v":0.31309982710137368}]
[23,{"$f":"'!LC02954..Is'!B2:C2","v":"<date>"},{"$f":"('!LC02954..Is'!H179/60)/'!LC02954..Is'!Q3","v":2.3026011560693642},{"$f":"'!LC02954..Is'!N28/'!LC02954..Is'!Q3","v":0.12138728323699421},{"$f":"SUM('!LC02954..Is'!L28:Q28)/'!LC02954..Is'!Q3","v":13.300578034682081},{"$f":"'!LC02954..Is'!Q24","v":0.31486178028542483}]
[24,{"$f":"'!LC03A34..Is'!B2:C2","v":"<date>"},{"$f":"('!LC03A34..Is'!H175/60)/'!LC03A34..Is'!Q3","v":2.3564102564102565},{"$f":"'!LC03A34..Is'!N28/'!LC03A34..Is'!Q3","v":0.13017751479289941},{"$f":"SUM('!LC03A34..Is'!L28:Q28)/'!LC03A34..Is'!Q3","v":13.017751479289942},{"$f":"'!LC03A34..Is'!Q24","v":0.31274457846702047}]
[25,{"$f":"'!LC04B04..Is'!B2:C2","v":"<date>"},{"$f":"('!LC04B04..Is'!H173/60)/'!LC04B04..Is'!Q3","v":2.3700396825396828},{"$f":"'!LC04B04..Is'!N28/'!LC04B04..Is'!Q3","v":0.14285714285714285},{"$f":"SUM('!LC04B04..Is'!L28:Q28)/'!LC04B04..Is'!Q3","v":13.702380952380953},{"$f":"'!LC04B04..Is'!Q24","v":0.32998858620791433}]
[26,{"$f":"'!LC05A34..Is'!B2:C2","v":"<date>"},{"$f":"('!LC05A34..Is'!H177/60)/'!LC05A34..Is'!Q3","v":2.3156976744186046},{"$f":"'!LC05A34..Is'!N28/'!LC05A34..Is'!Q3","v":0.11627906976744186},{"$f":"SUM('!LC05A34..Is'!L28:Q28)/'!LC05A34..Is'!Q3","v":12.784883720930232},{"$f":"'!LC05A34..Is'!Q24","v":0.31700262826131731}]
[27,{"$f":"'!LC07A04..Is'!B2:C2","v":"<date>"},{"$f":"('!LC07A04..Is'!H170/60)/'!LC07A04..Is'!Q3","v":2.4381097560975613},{"$f":"'!LC07A04..Is'!N28/'!LC07A04..Is'!Q3","v":0.18292682926829268},{"$f":"SUM('!LC07A04..Is'!L28:Q28)/'!LC07A04..Is'!Q3","v":14.067073170731707},{"$f":"'!LC07A04..Is'!Q24","v":0.29207390544523842}]
[28,{"$f":"'!LC08A54..Is'!B2:C2","v":"<date>"},{"$f":"('!LC08A54..Is'!H172/60)/'!LC08A54..Is'!Q3","v":0},{"$f":"'!LC08A54..Is'!N28/'!LC08A54..Is'!Q3","v":0.13855421686746988},{"$f":"SUM('!LC08A54..Is'!L28:Q28)/'!LC08A54..Is'!Q3","v":13.253012048192771},{"$f":"'!LC08A54..Is'!Q24","v":0.36172333796690059}]
[29,{"$f":"'!LC09A34..Is'!B2:C2","v":"<date>"},{"$f":"('!LC09A34..Is'!H169/60)/'!LC09A34..Is'!Q3","v":2.4485685071574643},{"$f":"'!LC09A34..Is'!N28/'!LC09A34..Is'!Q3","v":0.10429447852760736},{"$f":"SUM('!LC09A34..Is'!L28:Q28)/'!LC09A34..Is'!Q3","v":13.392638036809815},{"$f":"'!LC09A34..Is'!Q24","v":0.37268766598781489}]
[30,{"$f":"'!LC11C04..Is'!B2:C2","v":"<date>"},{"$f":"('!LC11C04..Is'!H174/60)/'!LC11C04..Is'!Q3","v":2.3658730158730159},{"$f":"'!LC11C04..Is'!N28/'!LC11C04..Is'!Q3","v":5.9523809523809521E-2},{"$f":"SUM('!LC11C04..Is'!L28:Q28)/'!LC11C04..Is'!Q3","v":13.023809523809524},{"$f":"'!LC11C04..Is'!Q24","v":0.30294428170892979}]

{"sheet":"Start","index":2,"n_rows":36,"n_cols":10,"rows_kept":36,"cut":false,"hidden":false,"merged":[]}
[null,null,null,null,null,"Use Folder 51",null,"Auto Clean Up",null,"Correct sequence"]
[null,null,null,null,null,false,null,true,null,2212]
[]
["Working with Folder",null,null,null,null,null,"Process All/Or Pick A number: ALL or an integer"]
["F:\\Possum Chapter\\Raw Data\\Ishan\\phase 3\\",null,null,null,null,null,"ALL"]
["Filenames:"]
["!LC04B04..Is",null,null,null,null,null,"Paint Cells"]
["!LC05A34..Is",null,null,null,null,null,false]
["!LC02954..Is"]
["!LB11A04..Is"]
["!LB12A04..Is"]
["!LB12A14..Is"]
["!LB13A24..Is"]
["!LB14B14..Is"]
["!LB15A24..Is"]
["!LB16A14..Is"]
["!LB17A04..Is"]
["!LB18A04..Is"]
["!LB19C54..Is"]
["!LB20A14..Is"]
["!LB21B04..Is"]
["!LB22A44..Is"]
["!LB23A44..Is"]
["!LB24A04..Is"]
["!LB27A54..Is"]
["!LB28B04..Is"]
["!LB25954..Is"]
["!LB26944..Is"]
["!LB29954..Is"]
["!LB30954..Is"]
["!LC01B14..Is"]
["!LC03A34..Is"]
["!LC09A34..Is"]
["!LC11C04..Is"]
["!LC07A04..Is"]
["!LC08A54..Is"]

{"sheet":"!LB11A04..Is","index":3,"n_rows":92,"n_cols":48,"rows_kept":92,"cut":false,"hidden":false,"merged":[[4,39,4,42],[5,39,5,40],[4,44,4,47],[5,44,5,45],[4,24,4,27],[5,24,5,25],[4,29,4,32],[5,29,5,30],[4,34,4,37],[5,34,5,35],[1,1,1,2],[5,13,5,14],[26,13,26,14],[27,13,27,14],[4,19,4,22],[5,19,5,20]]}
["Report for:!LB11A04..Is"]
["Date:","<date>"]
["Hen:","<hen>",null,null,null,"Correct Sequence",{"$f":"Start!J2","v":2212},null,null,null,null,null,null,null,null,"Total Sequences in Data",{"$f":"4994-COUNTBLANK(L7:L5000)","v":86},null,null,null,null,"Total Sequences in Block Data",{"$f":"COUNTA(L7:L20)","v":14},null,null,null,"Total Sequences in Block Data",{"$f":"COUNTA(L21:L35)","v":15},null,null,null,"Total Sequences in Block Data",{"$f":"COUNTA(L36:L49)","v":14},null,null,null,"Total Sequences in Block Data",{"$f":"COUNTA(L50:L63)","v":14},null,null,null,"Total Sequences in Block Data",{"$f":"COUNTA(L64:L78)","v":15},null,null,null,"Total Sequences in Block Data",{"$f":"COUNTA(L79:L92)","v":14}]
[null,null,null,null,null,null,null,null,null,null,null,null,null,null,null,"Total Sequences in Summary",{"$f":"SUM(O7:O22)","v":85},null,null,null,null,"Total Sequences in Block Summary",{"$f":"SUM(U7:U22)","v":14},null,null,null,"Total Sequences in Block Summary",{"$f":"SUM(Z7:Z22)","v":15},null,null,null,"Total Sequences in Block Summary",{"$f":"SUM(AE7:AE22)","v":14},null,null,null,"Total Sequences in Block Summary",{"$f":"SUM(AJ7:AJ22)","v":14},null,null,null,"Total Sequences in Block Summary",{"$f":"SUM(AO7:AO22)","v":15},null,null,null,"Total Sequences in Block Summary",{"$f":"SUM(AT7:AT22)","v":13}]
[null,null,null,null,null,null,null,null,null,null,null,null,null,null,null,null,null,null,null,"Block 1",null,null,null,null,"Block 2",null,null,null,null,"Block 3",null,null,null,null,"Block 4",null,null,null,null,"Block 5",null,null,null,null,"Block 6"]
["Sequence\nComponent\n1","Time\n1","Sequence\nComponent\n2","Time\n2","Sequence\nComponent\n3","Time\n3","Sequence\nComponent\n4","Time\n4","Sequence\nComponent\n5","Time\n5","Correct?\n0=No 1=Yes","Sequence",null,"Frequency",null,"Relative Frequency","Variability",null,null,"Frequency",null,"Relative Frequency","Variability",null,"Frequency",null,"Relative Frequency","Variability",null,"Frequency",null,"Relative Frequency","Variability",null,"Frequency",null,"Relative Frequency","Variability",null,"Frequency",null,"Relative Frequency","Variability",null,"Frequency",null,"Relative Frequency","Variability"]
[21,119,12,134,24,144,23,148,null,null,0,2122,null,1111,{"$f":"COUNTIF($L$7:$L$500,N7)","v":4},{"$f":"O7/$Q$4","v":4.7058823529411764E-2},{"$f":"IF(P7=0,0,(P7*((LOG(P7))/LOG(2))))","v":-0.20750074993589185},null,null,{"$f":"N7","v":1111},{"$f":"COUNTIF(L7:L20,T7)","v":0},{"$f":"U7/(W4-U20)","v":0},{"$f":"IF(V7=0,0,(V7*((LOG(V7))/LOG(2))))","v":0},null,{"$f":"N7","v":1111},{"$f":"COUNTIF(L21:L35,Y7)","v":0},{"$f":"Z7/(AB4-Z20)","v":0},{"$f":"IF(AA7=0,0,(AA7*((LOG(AA7))/LOG(2))))","v":0},null,{"$f":"N7","v":1111},{"$f":"COUNTIF(L36:L49,AD7)","v":1},{"$f":"AE7/(AG4-AE20)","v":7.1428571428571425E-2},{"$f":"IF(AF7=0,0,(AF7*((LOG(AF7))/LOG(2))))","v":-0.27195392300411453},null,{"$f":"N7","v":1111},{"$f":"COUNTIF(L50:L63,AI7)","v":0},{"$f":"AJ7/(AL4-AJ20)","v":0},{"$f":"IF(AK7=0,0,(AK7*((LOG(AK7))/LOG(2))))","v":0},null,{"$f":"N7","v":1111},{"$f":"COUNTIF(L64:L78,AN7)","v":3},{"$f":"AO7/(AQ4-AO20)","v":0.2},{"$f":"IF(AP7=0,0,(AP7*((LOG(AP7))/LOG(2))))","v":-0.46438561897747244},null,{"$f":"N7","v":1111},{"$f":"COUNTIF(L79:L92,AS7)","v":0},{"$f":"AT7/(AV4-AT20)","v":0},{"$f":"IF(AU7=0,0,(AU7*((LOG(AU7))/LOG(2))))","v":0}]
[12,245,23,254,24,260,23,267,null,null,0,1222,null,1112,{"$f":"COUNTIF($L$7:$L$500,N8)","v":21},{"$f":"O8/$Q$4","v":0.24705882352941178},{"$f":"IF(P8=0,0,(P8*((LOG(P8))/LOG(2))))","v":-0.49833580918279735},null,null,{"$f":"N8","v":1112},{"$f":"COUNTIF(L7:L20,T8)","v":3},{"$f":"U8/(W4-U20)","v":0.21428571428571427},{"$f":"IF(V8=0,0,(V8*((LOG(V8))/LOG(2))))","v":-0.47622694742923877},null,{"$f":"N8","v":1112},{"$f":"COUNTIF(L21:L35,Y8)","v":3},{"$f":"Z8/(AB4-Z20)","v":0.2},{"$f":"IF(AA8=0,0,(AA8*((LOG(AA8))/LOG(2))))","v":-0.46438561897747244},null,{"$f":"N8","v":1112},{"$f":"COUNTIF(L36:L49,AD8)","v":8},{"$f":"AE8/(AG4-AE20)","v":0.5714285714285714},{"$f":"IF(AF8=0,0,(AF8*((LOG(AF8))/LOG(2))))","v":-0.46134566974720237},null,{"$f":"N8","v":1112},{"$f":"COUNTIF(L50:L63,AI8)","v":1},{"$f":"AJ8/(AL4-AJ20)","v":7.1428571428571425E-2},{"$f":"IF(AK8=0,0,(AK8*((LOG(AK8))/LOG(2))))","v":-0.27195392300411453},null,{"$f":"N8","v":1112},{"$f":"COUNTIF(L64:L78,AN8)","v":5},{"$f":"AO8/(AQ4-AO20)","v":0.33333333333333331},{"$f":"IF(AP8=0,0,(AP8*((LOG(AP8))/LOG(2))))","v":-0.52832083357371862},null,{"$f":"N8","v":1112},{"$f":"COUNTIF(L79:L92,AS8)","v":1},{"$f":"AT8/(AV4-AT20)","v":7.6923076923076927E-2},{"$f":"IF(AU8=0,0,(AU8*((LOG(AU8))/LOG(2))))","v":-0.28464920908777636}]
[12,362,23,371,24,390,14,410,null,null,0,1221,null,1121,{"$f":"COUNTIF($L$7:$L$500,N9)","v":0},{"$f":"O9/$Q$4","v":0},{"$f":"IF(P9=0,0,(P9*((LOG(P9))/LOG(2))))","v":0},null,null,{"$f":"N9","v":1121},{"$f":"COUNTIF(L7:L20,T9)","v":0},{"$f":"U9/(W4-U20)","v":0},{"$f":"IF(V9=0,0,(V9*((LOG(V9))/LOG(2))))","v":0},null,{"$f":"N9","v":1121},{"$f":"COUNTIF(L21:L35,Y9)","v":0},{"$f":"Z9/(AB4-Z20)","v":0},{"$f":"IF(AA9=0,0,(AA9*((LOG(AA9))/LOG(2))))","v":0},null,{"$f":"N9","v":1121},{"$f":"COUNTIF(L36:L49,AD9)","v":0},{"$f":"AE9/(AG4-AE20)","v":0},{"$f":"IF(AF9=0,0,(AF9*((LOG(AF9))/LOG(2))))","v":0},null,{"$f":"N9","v":1121},{"$f":"COUNTIF(L50:L63,AI9)","v":0},{"$f":"AJ9/(AL4-AJ20)","v":0},{"$f":"IF(AK9=0,0,(AK9*((LOG(AK9))/LOG(2))))","v":0},null,{"$f":"N9","v":1121},{"$f":"COUNTIF(L64:L78,AN9)","v":0},{"$f":"AO9/(AQ4-AO20)","v":0},{"$f":"IF(AP9=0,0,(AP9*((LOG(AP9))/LOG(2))))","v":0},null,{"$f":"N9","v":1121},{"$f":"COUNTIF(L79:L92,AS9)","v":0},{"$f":"AT9/(AV4-AT20)","v":0},{"$f":"IF(AU9=0,0,(AU9*((LOG(AU9))/LOG(2))))","v":0}]
[12,505,23,512,24,516,23,525,null,null,0,1222,null,1122,{"$f":"COUNTIF($L$7:$L$500,N10)","v":27},{"$f":"O10/$Q$4","v":0.31764705882352939},{"$f":"IF(P10=0,0,(P10*((LOG(P10))/LOG(2))))","v":-0.52554814961534468},null,null,{"$f":"N10","v":1122},{"$f":"COUNTIF(L7:L20,T10)","v":3},{"$f":"U10/(W4-U20)","v":0.21428571428571427},{"$f":"IF(V10=0,0,(V10*((LOG(V10))/LOG(2))))","v":-0.47622694742923877},null,{"$f":"N10","v":1122},{"$f":"COUNTIF(L21:L35,Y10)","v":10},{"$f":"Z10/(AB4-Z20)","v":0.66666666666666663},{"$f":"IF(AA10=0,0,(AA10*((LOG(AA10))/LOG(2))))","v":-0.38997500048077083},null,{"$f":"N10","v":1122},{"$f":"COUNTIF(L36:L49,AD10)","v":2},{"$f":"AE10/(AG4-AE20)","v":0.14285714285714285},{"$f":"IF(AF10=0,0,(AF10*((LOG(AF10))/LOG(2))))","v":-0.40105070315108626},null,{"$f":"N10","v":1122},{"$f":"COUNTIF(L50:L63,AI10)","v":8},{"$f":"AJ10/(AL4-AJ20)","v":0.5714285714285714},{"$f":"IF(AK10=0,0,(AK10*((LOG(AK10))/LOG(2))))","v":-0.46134566974720237},null,{"$f":"N10","v":1122},{"$f":"COUNTIF(L64:L78,AN10)","v":2},{"$f":"AO10/(AQ4-AO20)","v":0.13333333333333333},{"$f":"IF(AP10=0,0,(AP10*((LOG(AP10))/LOG(2))))","v":-0.3875854127478025},null,{"$f":"N10","v":1122},{"$f":"COUNTIF(L79:L92,AS10)","v":2},{"$f":"AT10/(AV4-AT20)","v":0.15384615384615385},{"$f":"IF(AU10=0,0,(AU10*((LOG(AU10))/LOG(2))))","v":-0.4154522643293988}]
[12,623,23,636,24,640,23,646,null,null,0,1222,null,1211,{"$f":"COUNTIF($L$7:$L$500,N11)","v":0},{"$f":"O11/$Q$4","v":0},{"$f":"IF(P11=0,0,(P11*((LOG(P11))/LOG(2))))","v":0},null,null,{"$f":"N11","v":1211},{"$f":"COUNTIF(L7:L20,T11)","v":0},{"$f":"U11/(W4-U20)","v":0},{"$f":"IF(V11=0,0,(V11*((LOG(V11))/LOG(2))))","v":0},null,{"$f":"N11","v":1211},{"$f":"COUNTIF(L21:L35,Y11)","v":0},{"$f":"Z11/(AB4-Z20)","v":0},{"$f":"IF(AA11=0,0,(AA11*((LOG(AA11))/LOG(2))))","v":0},null,{"$f":"N11","v":1211},{"$f":"COUNTIF(L36:L49,AD11)","v":0},{"$f":"AE11/(AG4-AE20)","v":0},{"$f":"IF(AF11=0,0,(AF11*((LOG(AF11))/LOG(2))))","v":0},null,{"$f":"N11","v":1211},{"$f":"COUNTIF(L50:L63,AI11)","v":0},{"$f":"AJ11/(AL4-AJ20)","v":0},{"$f":"IF(AK11=0,0,(AK11*((LOG(AK11))/LOG(2))))","v":0},null,{"$f":"N11","v":1211},{"$f":"COUNTIF(L64:L78,AN11)","v":0},{"$f":"AO11/(AQ4-AO20)","v":0},{"$f":"IF(AP11=0,0,(AP11*((LOG(AP11))/LOG(2))))","v":0},null,{"$f":"N11","v":1211},{"$f":"COUNTIF(L79:L92,AS11)","v":0},{"$f":"AT11/(AV4-AT20)","v":0},{"$f":"IF(AU11=0,0,(AU11*((LOG(AU11))/LOG(2))))","v":0}]
[12,742,14,746,24,755,23,779,null,null,0,1122,null,1212,{"$f":"COUNTIF($L$7:$L$500,N12)","v":0},{"$f":"O12/$Q$4","v":0},{"$f":"IF(P12=0,0,(P12*((LOG(P12))/LOG(2))))","v":0},null,null,{"$f":"N12","v":1212},{"$f":"COUNTIF(L7:L20,T12)","v":0},{"$f":"U12/(W4-U20)","v":0},{"$f":"IF(V12=0,0,(V12*((LOG(V12))/LOG(2))))","v":0},null,{"$f":"N12","v":1212},{"$f":"COUNTIF(L21:L35,Y12)","v":0},{"$f":"Z12/(AB4-Z20)","v":0},{"$f":"IF(AA12=0,0,(AA12*((LOG(AA12))/LOG(2))))","v":0},null,{"$f":"N12","v":1212},{"$f":"COUNTIF(L36:L49,AD12)","v":0},{"$f":"AE12/(AG4-AE20)","v":0},{"$f":"IF(AF12=0,0,(AF12*((LOG(AF12))/LOG(2))))","v":0},null,{"$f":"N12","v":1212},{"$f":"COUNTIF(L50:L63,AI12)","v":0},{"$f":"AJ12/(AL4-AJ20)","v":0},{"$f":"IF(AK12=0,0,(AK12*((LOG(AK12))/LOG(2))))","v":0},null,{"$f":"N12","v":1212},{"$f":"COUNTIF(L64:L78,AN12)","v":0},{"$f":"AO12/(AQ4-AO20)","v":0},{"$f":"IF(AP12=0,0,(AP12*((LOG(AP12))/LOG(2))))","v":0},null,{"$f":"N12","v":1212},{"$f":"COUNTIF(L79:L92,AS12)","v":0},{"$f":"AT12/(AV4-AT20)","v":0},{"$f":"IF(AU12=0,0,(AU12*((LOG(AU12))/LOG(2))))","v":0}]
[12,874,14,878,24,887,23,891,null,null,0,1122,null,1221,{"$f":"COUNTIF($L$7:$L$500,N13)","v":1},{"$f":"O13/$Q$4","v":1.1764705882352941E-2},{"$f":"IF(P13=0,0,(P13*((LOG(P13))/LOG(2))))","v":-7.5404599248678844E-2},null,null,{"$f":"N13","v":1221},{"$f":"COUNTIF(L7:L20,T13)","v":1},{"$f":"U13/(W4-U20)","v":7.1428571428571425E-2},{"$f":"IF(V13=0,0,(V13*((LOG(V13))/LOG(2))))","v":-0.27195392300411453},null,{"$f":"N13","v":1221},{"$f":"COUNTIF(L21:L35,Y13)","v":0},{"$f":"Z13/(AB4-Z20)","v":0},{"$f":"IF(AA13=0,0,(AA13*((LOG(AA13))/LOG(2))))","v":0},null,{"$f":"N13","v":1221},{"$f":"COUNTIF(L36:L49,AD13)","v":0},{"$f":"AE13/(AG4-AE20)","v":0},{"$f":"IF(AF13=0,0,(AF13*((LOG(AF13))/LOG(2))))","v":0},null,{"$f":"N13","v":1221},{"$f":"COUNTIF(L50:L63,AI13)","v":0},{"$f":"AJ13/(AL4-AJ20)","v":0},{"$f":"IF(AK13=0,0,(AK13*((LOG(AK13))/LOG(2))))","v":0},null,{"$f":"N13","v":1221},{"$f":"COUNTIF(L64:L78,AN13)","v":0},{"$f":"AO13/(AQ4-AO20)","v":0},{"$f":"IF(AP13=0,0,(AP13*((LOG(AP13))/LOG(2))))","v":0},null,{"$f":"N13","v":1221},{"$f":"COUNTIF(L79:L92,AS13)","v":0},{"$f":"AT13/(AV4-AT20)","v":0},{"$f":"IF(AU13=0,0,(AU13*((LOG(AU13))/LOG(2))))","v":0}]
[12,987,23,999,24,1003,23,1006,null,null,0,1222,null,1222,{"$f":"COUNTIF($L$7:$L$500,N14)","v":25},{"$f":"O14/$Q$4","v":0.29411764705882354},{"$f":"IF(P14=0,0,(P14*((LOG(P14))/LOG(2))))","v":-0.51927492540087561},null,null,{"$f":"N14","v":1222},{"$f":"COUNTIF(L7:L20,T14)","v":6},{"$f":"U14/(W4-U20)","v":0.42857142857142855},{"$f":"IF(V14=0,0,(V14*((LOG(V14))/LOG(2))))","v":-0.52388246628704915},null,{"$f":"N14","v":1222},{"$f":"COUNTIF(L21:L35,Y14)","v":1},{"$f":"Z14/(AB4-Z20)","v":6.6666666666666666E-2},{"$f":"IF(AA14=0,0,(AA14*((LOG(AA14))/LOG(2))))","v":-0.26045937304056793},null,{"$f":"N14","v":1222},{"$f":"COUNTIF(L36:L49,AD14)","v":3},{"$f":"AE14/(AG4-AE20)","v":0.21428571428571427},{"$f":"IF(AF14=0,0,(AF14*((LOG(AF14))/LOG(2))))","v":-0.47622694742923877},null,{"$f":"N14","v":1222},{"$f":"COUNTIF(L50:L63,AI14)","v":5},{"$f":"AJ14/(AL4-AJ20)","v":0.35714285714285715},{"$f":"IF(AK14=0,0,(AK14*((LOG(AK14))/LOG(2))))","v":-0.53050958113222924},null,{"$f":"N14","v":1222},{"$f":"COUNTIF(L64:L78,AN14)","v":3},{"$f":"AO14/(AQ4-AO20)","v":0.2},{"$f":"IF(AP14=0,0,(AP14*((LOG(AP14))/LOG(2))))","v":-0.46438561897747244},null,{"$f":"N14","v":1222},{"$f":"COUNTIF(L79:L92,AS14)","v":7},{"$f":"AT14/(AV4-AT20)","v":0.53846153846153844},{"$f":"IF(AU14=0,0,(AU14*((LOG(AU14))/LOG(2))))","v":-0.48089181327572433}]
[12,1103,23,1114,24,1117,23,1121,null,null,0,1222,null,2111,{"$f":"COUNTIF($L$7:$L$500,N15)","v":0},{"$f":"O15/$Q$4","v":0},{"$f":"IF(P15=0,0,(P15*((LOG(P15))/LOG(2))))","v":0},null,null,{"$f":"N15","v":2111},{"$f":"COUNTIF(L7:L20,T15)","v":0},{"$f":"U15/(W4-U20)","v":0},{"$f":"IF(V15=0,0,(V15*((LOG(V15))/LOG(2))))","v":0},null,{"$f":"N15","v":2111},{"$f":"COUNTIF(L21:L35,Y15)","v":0},{"$f":"Z15/(AB4-Z20)","v":0},{"$f":"IF(AA15=0,0,(AA15*((LOG(AA15))/LOG(2))))","v":0},null,{"$f":"N15","v":2111},{"$f":"COUNTIF(L36:L49,AD15)","v":0},{"$f":"AE15/(AG4-AE20)","v":0},{"$f":"IF(AF15=0,0,(AF15*((LOG(AF15))/LOG(2))))","v":0},null,{"$f":"N15","v":2111},{"$f":"COUNTIF(L50:L63,AI15)","v":0},{"$f":"AJ15/(AL4-AJ20)","v":0},{"$f":"IF(AK15=0,0,(AK15*((LOG(AK15))/LOG(2))))","v":0},null,{"$f":"N15","v":2111},{"$f":"COUNTIF(L64:L78,AN15)","v":0},{"$f":"AO15/(AQ4-AO20)","v":0},{"$f":"IF(AP15=0,0,(AP15*((LOG(AP15))/LOG(2))))","v":0},null,{"$f":"N15","v":2111},{"$f":"COUNTIF(L79:L92,AS15)","v":0},{"$f":"AT15/(AV4-AT20)","v":0},{"$f":"IF(AU15=0,0,(AU15*((LOG(AU15))/LOG(2))))","v":0}]
[12,1218,14,1220,13,1230,23,1238,null,null,0,1112,null,2112,{"$f":"COUNTIF($L$7:$L$500,N16)","v":0},{"$f":"O16/$Q$4","v":0},{"$f":"IF(P16=0,0,(P16*((LOG(P16))/LOG(2))))","v":0},null,null,{"$f":"N16","v":2112},{"$f":"COUNTIF(L7:L20,T16)","v":0},{"$f":"U16/(W4-U20)","v":0},{"$f":"IF(V16=0,0,(V16*((LOG(V16))/LOG(2))))","v":0},null,{"$f":"N16","v":2112},{"$f":"COUNTIF(L21:L35,Y16)","v":0},{"$f":"Z16/(AB4-Z20)","v":0},{"$f":"IF(AA16=0,0,(AA16*((LOG(AA16))/LOG(2))))","v":0},null,{"$f":"N16","v":2112},{"$f":"COUNTIF(L36:L49,AD16)","v":0},{"$f":"AE16/(AG4-AE20)","v":0},{"$f":"IF(AF16=0,0,(AF16*((LOG(AF16))/LOG(2))))","v":0},null,{"$f":"N16","v":2112},{"$f":"COUNTIF(L50:L63,AI16)","v":0},{"$f":"AJ16/(AL4-AJ20)","v":0},{"$f":"IF(AK16=0,0,(AK16*((LOG(AK16))/LOG(2))))","v":0},null,{"$f":"N16","v":2112},{"$f":"COUNTIF(L64:L78,AN16)","v":0},{"$f":"AO16/(AQ4-AO20)","v":0},{"$f":"IF(AP16=0,0,(AP16*((LOG(AP16))/LOG(2))))","v":0},null,{"$f":"N16","v":2112},{"$f":"COUNTIF(L79:L92,AS16)","v":0},{"$f":"AT16/(AV4-AT20)","v":0},{"$f":"IF(AU16=0,0,(AU16*((LOG(AU16))/LOG(2))))","v":0}]
[12,1347,23,1363,24,1369,23,1376,null,null,0,1222,null,2121,{"$f":"COUNTIF($L$7:$L$500,N17)","v":0},{"$f":"O17/$Q$4","v":0},{"$f":"IF(P17=0,0,(P17*((LOG(P17))/LOG(2))))","v":0},null,null,{"$f":"N17","v":2121},{"$f":"COUNTIF(L7:L20,T17)","v":0},{"$f":"U17/(W4-U20)","v":0},{"$f":"IF(V17=0,0,(V17*((LOG(V17))/LOG(2))))","v":0},null,{"$f":"N17","v":2121},{"$f":"COUNTIF(L21:L35,Y17)","v":0},{"$f":"Z17/(AB4-Z20)","v":0},{"$f":"IF(AA17=0,0,(AA17*((LOG(AA17))/LOG(2))))","v":0},null,{"$f":"N17","v":2121},{"$f":"COUNTIF(L36:L49,AD17)","v":0},{"$f":"AE17/(AG4-AE20)","v":0},{"$f":"IF(AF17=0,0,(AF17*((LOG(AF17))/LOG(2))))","v":0},null,{"$f":"N17","v":2121},{"$f":"COUNTIF(L50:L63,AI17)","v":0},{"$f":"AJ17/(AL4-AJ20)","v":0},{"$f":"IF(AK17=0,0,(AK17*((LOG(AK17))/LOG(2))))","v":0},null,{"$f":"N17","v":2121},{"$f":"COUNTIF(L64:L78,AN17)","v":0},{"$f":"AO17/(AQ4-AO20)","v":0},{"$f":"IF(AP17=0,0,(AP17*((LOG(AP17))/LOG(2))))","v":0},null,{"$f":"N17","v":2121},{"$f":"COUNTIF(L79:L92,AS17)","v":0},{"$f":"AT17/(AV4-AT20)","v":0},{"$f":"IF(AU17=0,0,(AU17*((LOG(AU17))/LOG(2))))","v":0}]
[12,1474,14,1480,24,1491,23,1499,null,null,0,1122,null,2122,{"$f":"COUNTIF($L$7:$L$500,N18)","v":2},{"$f":"O18/$Q$4","v":2.3529411764705882E-2},{"$f":"IF(P18=0,0,(P18*((LOG(P18))/LOG(2))))","v":-0.12727978673265181},null,null,{"$f":"N18","v":2122},{"$f":"COUNTIF(L7:L20,T18)","v":1},{"$f":"U18/(W4-U20)","v":7.1428571428571425E-2},{"$f":"IF(V18=0,0,(V18*((LOG(V18))/LOG(2))))","v":-0.27195392300411453},null,{"$f":"N18","v":2122},{"$f":"COUNTIF(L21:L35,Y18)","v":0},{"$f":"Z18/(AB4-Z20)","v":0},{"$f":"IF(AA18=0,0,(AA18*((LOG(AA18))/LOG(2))))","v":0},null,{"$f":"N18","v":2122},{"$f":"COUNTIF(L36:L49,AD18)","v":0},{"$f":"AE18/(AG4-AE20)","v":0},{"$f":"IF(AF18=0,0,(AF18*((LOG(AF18))/LOG(2))))","v":0},null,{"$f":"N18","v":2122},{"$f":"COUNTIF(L50:L63,AI18)","v":0},{"$f":"AJ18/(AL4-AJ20)","v":0},{"$f":"IF(AK18=0,0,(AK18*((LOG(AK18))/LOG(2))))","v":0},null,{"$f":"N18","v":2122},{"$f":"COUNTIF(L64:L78,AN18)","v":0},{"$f":"AO18/(AQ4-AO20)","v":0},{"$f":"IF(AP18=0,0,(AP18*((LOG(AP18))/LOG(2))))","v":0},null,{"$f":"N18","v":2122},{"$f":"COUNTIF(L79:L92,AS18)","v":1},{"$f":"AT18/(AV4-AT20)","v":7.6923076923076927E-2},{"$f":"IF(AU18=0,0,(AU18*((LOG(AU18))/LOG(2))))","v":-0.28464920908777636}]
[12,1594,14,1597,13,1605,23,1613,null,null,0,1112,null,2211,{"$f":"COUNTIF($L$7:$L$500,N19)","v":0},{"$f":"O19/$Q$4","v":0},{"$f":"IF(P19=0,0,(P19*((LOG(P19))/LOG(2))))","v":0},null,null,{"$f":"N19","v":2211},{"$f":"COUNTIF(L7:L20,T19)","v":0},{"$f":"U19/(W4-U20)","v":0},{"$f":"IF(V19=0,0,(V19*((LOG(V19))/LOG(2))))","v":0},null,{"$f":"N19","v":2211},{"$f":"COUNTIF(L21:L35,Y19)","v":0},{"$f":"Z19/(AB4-Z20)","v":0},{"$f":"IF(AA19=0,0,(AA19*((LOG(AA19))/LOG(2))))","v":0},null,{"$f":"N19","v":2211},{"$f":"COUNTIF(L36:L49,AD19)","v":0},{"$f":"AE19/(AG4-AE20)","v":0},{"$f":"IF(AF19=0,0,(AF19*((LOG(AF19))/LOG(2))))","v":0},null,{"$f":"N19","v":2211},{"$f":"COUNTIF(L50:L63,AI19)","v":0},{"$f":"AJ19/(AL4-AJ20)","v":0},{"$f":"IF(AK19=0,0,(AK19*((LOG(AK19))/LOG(2))))","v":0},null,{"$f":"N19","v":2211},{"$f":"COUNTIF(L64:L78,AN19)","v":0},{"$f":"AO19/(AQ4-AO20)","v":0},{"$f":"IF(AP19=0,0,(AP19*((LOG(AP19))/LOG(2))))","v":0},null,{"$f":"N19","v":2211},{"$f":"COUNTIF(L79:L92,AS19)","v":0},{"$f":"AT19/(AV4-AT20)","v":0},{"$f":"IF(AU19=0,0,(AU19*((LOG(AU19))/LOG(2))))","v":0}]
[12,1708,14,1711,13,1718,23,1726,null,null,0,1112,null,2212,{"$f":"COUNTIF($L$7:$L$500,N20)","v":0},{"$f":"O20/$Q$4","v":0},{"$f":"IF(P20=0,0,(P20*((LOG(P20))/LOG(2))))","v":0},null,null,{"$f":"N20","v":2212},{"$f":"COUNTIF(L7:L20,T20)","v":0},null,null,null,{"$f":"N20","v":2212},{"$f":"COUNTIF(L21:L35,Y20)","v":0},null,null,null,{"$f":"N20","v":2212},{"$f":"COUNTIF(L36:L49,AD20)","v":0},null,null,null,{"$f":"N20","v":2212},{"$f":"COUNTIF(L50:L63,AI20)","v":0},null,null,null,{"$f":"N20","v":2212},{"$f":"COUNTIF(L64:L78,AN20)","v":0},null,null,null,{"$f":"N20","v":2212},{"$f":"COUNTIF(L79:L92,AS20)","v":0}]
[12,1821,14,1825,24,1838,23,1867,null,null,0,1122,null,2221,{"$f":"COUNTIF($L$7:$L$500,N21)","v":0},{"$f":"O21/$Q$4","v":0},{"$f":"IF(P21=0,0,(P21*((LOG(P21))/LOG(2))))","v":0},null,null,{"$f":"N21","v":2221},{"$f":"COUNTIF(L7:L20,T21)","v":0},{"$f":"U21/(W4-U20)","v":0},{"$f":"IF(V21=0,0,(V21*((LOG(V21))/LOG(2))))","v":0},null,{"$f":"N21","v":2221},{"$f":"COUNTIF(L21:L35,Y21)","v":0},{"$f":"Z21/(AB4-Z20)","v":0},{"$f":"IF(AA21=0,0,(AA21*((LOG(AA21))/LOG(2))))","v":0},null,{"$f":"N21","v":2221},{"$f":"COUNTIF(L36:L49,AD21)","v":0},{"$f":"AE21/(AG4-AE20)","v":0},{"$f":"IF(AF21=0,0,(AF21*((LOG(AF21))/LOG(2))))","v":0},null,{"$f":"N21","v":2221},{"$f":"COUNTIF(L50:L63,AI21)","v":0},{"$f":"AJ21/(AL4-AJ20)","v":0},{"$f":"IF(AK21=0,0,(AK21*((LOG(AK21))/LOG(2))))","v":0},null,{"$f":"N21","v":2221},{"$f":"COUNTIF(L64:L78,AN21)","v":0},{"$f":"AO21/(AQ4-AO20)","v":0},{"$f":"IF(AP21=0,0,(AP21*((LOG(AP21))/LOG(2))))","v":0},null,{"$f":"N21","v":2221},{"$f":"COUNTIF(L79:L92,AS21)","v":0},{"$f":"AT21/(AV4-AT20)","v":0},{"$f":"IF(AU21=0,0,(AU21*((LOG(AU21))/LOG(2))))","v":0}]
[12,1965,14,1973,24,1980,23,1986,null,null,0,1122,null,2222,{"$f":"COUNTIF($L$7:$L$500,N22)","v":5},{"$f":"O22/$Q$4","v":5.8823529411764705E-2},{"$f":"IF(P22=0,0,(P22*((LOG(P22))/LOG(2))))","v":-0.24043899066178465},null,null,{"$f":"N22","v":2222},{"$f":"COUNTIF(L7:L20,T22)","v":0},{"$f":"U22/(W4-U20)","v":0},{"$f":"IF(V22=0,0,(V22*((LOG(V22))/LOG(2))))","v":0},null,{"$f":"N22","v":2222},{"$f":"COUNTIF(L21:L35,Y22)","v":1},{"$f":"Z22/(AB4-Z20)","v":6.6666666666666666E-2},{"$f":"IF(AA22=0,0,(AA22*((LOG(AA22))/LOG(2))))","v":-0.26045937304056793},null,{"$f":"N22","v":2222},{"$f":"COUNTIF(L36:L49,AD22)","v":0},{"$f":"AE22/(AG4-AE20)","v":0},{"$f":"IF(AF22=0,0,(AF22*((LOG(AF22))/LOG(2))))","v":0},null,{"$f":"N22","v":2222},{"$f":"COUNTIF(L50:L63,AI22)","v":0},{"$f":"AJ22/(AL4-AJ20)","v":0},{"$f":"IF(AK22=0,0,(AK22*((LOG(AK22))/LOG(2))))","v":0},null,{"$f":"N22","v":2222},{"$f":"COUNTIF(L64:L78,AN22)","v":2},{"$f":"AO22/(AQ4-AO20)","v":0.13333333333333333},{"$f":"IF(AP22=0,0,(AP22*((LOG(AP22))/LOG(2))))","v":-0.3875854127478025},null,{"$f":"N22","v":2222},{"$f":"COUNTIF(L79:L92,AS22)","v":2},{"$f":"AT22/(AV4-AT20)","v":0.15384615384615385},{"$f":"IF(AU22=0,0,(AU22*((LOG(AU22))/LOG(2))))","v":-0.4154522643293988}]
[12,2088,23,2099,24,2103,23,2109,null,null,0,1222,null,null,null,{"$f":"SUM(P7:P22)","v":1},{"$f":"-SUM(Q7:Q22)","v":2.193783010778025},null,null,null,null,{"$f":"SUM(V7:V22)","v":1},{"$f":"-SUM(W7:W22)","v":2.0202442071537559},null,null,null,{"$f":"SUM(AA7:AA22)","v":1},{"$f":"-SUM(AB7:AB22)","v":1.3752793655393791},null,null,null,{"$f":"SUM(AF7:AF22)","v":0.99999999999999989},{"$f":"-SUM(AG7:AG22)","v":1.6105772433316417},null,null,null,{"$f":"SUM(AK7:AK22)","v":1},{"$f":"-SUM(AL7:AL22)","v":1.263809173883546},null,null,null,{"$f":"SUM(AP7:AP22)","v":1},{"$f":"-SUM(AQ7:AQ22)","v":2.2322628970242686},null,null,null,{"$f":"SUM(AU7:AU22)","v":0.99999999999999989},{"$f":"-SUM(AV7:AV22)","v":1.8810947601100745}]
[12,2204,14,2209,13,2216,23,2224,null,null,0,1112,null,null,null,"U=",{"$f":"Q23/(LOG(Q4)/LOG(2))","v":0.3422763617692508},null,null,null,null,"U1=",{"$f":"W23/(LOG(W4)/LOG(2))","v":0.53061620167051771},null,null,null,"U2=",{"$f":"AB23/(LOG(AB4)/LOG(2))","v":0.3520137899651557},null,null,null,"U3=",{"$f":"AG23/(LOG(AG4)/LOG(2))","v":0.42301736410254065},null,null,null,"U4=",{"$f":"AL23/(LOG(AL4)/LOG(2))","v":0.33193889189625309},null,null,null,"U5=",{"$f":"AQ23/(LOG(AQ4)/LOG(2))","v":0.57136560197856834},null,null,null,"U6=",{"$f":"AV23/(LOG(AV4)/LOG(2))","v":0.50834357627504834}]
[21,2336,21,2340,22,2346,23,2354,null,null,0,2222]
[12,2449,14,2454,24,2465,23,2468,null,null,0,1122]
[12,2570,14,2575,13,2580,23,2604,null,null,0,1112,null,"Total Target Seq"]
[12,2698,14,2709,24,2716,23,2720,null,null,0,1122,null,{"$f":"COUNTIF(L7:L92,G3)","v":0},null,14,15,14,14,15,14]
[12,2818,14,2825,24,2840,23,2848,null,null,0,1122,null,null,null,"% of reinforcement given in 6 equal intervals based on number of trials "]
[12,2944,14,2948,24,2960,23,2968,null,null,0,1122,null,null,null,"%_1","%_2","%_3","%_4","%_5","%_6"]
[12,3086,14,3091,13,3093,23,3101,null,null,0,1112,null,null,"target sequence",{"$f":"$G$3","v":2212},{"$f":"$G$3","v":2212},{"$f":"$G$3","v":2212},{"$f":"$G$3","v":2212},{"$f":"$G$3","v":2212},{"$f":"$G$3","v":2212}]
[12,3197,14,3201,24,3209,23,3212,null,null,0,1122,null,null,"total reinforcement",{"$f":"U20","v":0},{"$f":"Z20","v":0},{"$f":"AE20","v":0},{"$f":"AJ20","v":0},{"$f":"AO20","v":0},{"$f":"AT20","v":0}]
[12,3325,14,3329,24,3339,23,3343,null,null,0,1122,null,null,"% target"]
[12,3445,14,3449,24,3458,23,3461,null,null,0,1122,null,null,"CCRF"]
[12,3555,14,3559,24,3568,23,3571,null,null,0,1122,null,null,"% CCRf"]
[12,3666,14,3675,24,3683,23,3693,null,null,0,1122,null,null,"average response rate",{"$f":"H20/P28","v":123.28571428571429},{"$f":"(H35-H20)/Q28","v":123},{"$f":"(H49-H35)/R28","v":124.21428571428571},{"$f":"(H63-H49)/S28","v":140.71428571428572},{"$f":"(H78-H63)/T28","v":136.33333333333334},{"$f":"(H92-H78)/U28","v":-666.07142857142856}]
[12,3788,14,3791,13,3795,23,3856,null,null,0,1112]
[12,3955,23,3973,24,3975,23,3981,null,null,0,1222]
[12,4075,14,4080,13,4084,23,4097,null,null,0,1112]
[12,4194,14,4199,13,4204,23,4211,null,null,0,1112]
[12,4339,14,4344,13,4349,23,4358,null,null,0,1112]
[12,4452,14,4457,13,4461,23,4470,null,null,0,1112]
[12,4565,14,4575,13,4581,23,4589,null,null,0,1112]
[12,4684,14,4693,24,4702,23,4709,null,null,0,1122]
[12,4804,14,4810,13,4814,23,4823,null,null,0,1112]
[12,4921,23,4941,24,4946,23,4959,null,null,0,1222]
[12,5055,14,5058,13,5063,23,5072,null,null,0,1112]
[12,5166,14,5176,13,5178,14,5184,null,null,0,1111]
[12,5291,23,5300,24,5304,23,5310,null,null,0,1222]
[12,5422,23,5430,24,5434,23,5445,null,null,0,1222]
[12,5582,23,5593,24,5598,23,5604,null,null,0,1222]
[12,5700,23,5717,24,5721,23,5727,null,null,0,1222]
[12,5833,23,5840,24,5843,23,5848,null,null,0,1222]
[12,5956,14,5966,24,5973,23,6004,null,null,0,1122]
[12,6100,14,6115,24,6122,23,6127,null,null,0,1122]
[12,6222,14,6230,24,6237,23,6241,null,null,0,1122]
[12,6433,23,6450,24,6454,23,6462,null,null,0,1222]
[12,6569,14,6573,24,6580,23,6585,null,null,0,1122]
[12,6682,14,6687,24,6696,23,6732,null,null,0,1122]
[12,6856,14,6864,24,6872,23,6875,null,null,0,1122]
[12,6970,14,6977,24,7021,23,7035,null,null,0,1122]
[12,7143,14,7155,24,7163,23,7167,null,null,0,1122]
[12,7264,14,7268,13,7271,23,7280,null,null,0,1112]
[12,7376,23,7388,24,7391,23,7410,null,null,0,1222]
[12,7506,14,7511,13,7515,14,7519,null,null,0,1111]
[12,7614,23,7626,24,7629,23,7632,null,null,0,1222]
[12,7729,14,7734,13,7740,23,7749,null,null,0,1112]
[12,7866,14,7875,13,7881,23,7889,null,null,0,1112]
[12,7985,14,7994,13,8002,23,8017,null,null,0,1112]
[12,8114,14,8122,24,8133,23,8137,null,null,0,1122]
[12,8233,14,8238,13,8242,14,8256,null,null,0,1111]
[12,8359,14,8363,24,8375,23,8378,null,null,0,1122]
[21,8484,21,8503,22,8507,23,8512,null,null,0,2222]
[12,8623,23,8631,24,8636,23,8642,null,null,0,1222]
[12,8740,14,8745,13,8750,14,8754,null,null,0,1111]
[12,9038,14,9043,13,9050,23,9058,null,null,0,1112]
[12,9165,14,9169,13,9173,23,9180,null,null,0,1112]
[21,9299,21,9316,22,9321,23,9325,null,null,0,2222]
[12,9424,14,9429,13,9432,23,9449,null,null,0,1112]
[12,9587,23,9599,24,9603,23,9608,null,null,0,1222]
[12,9746,14,9751,24,9762,23,9785,null,null,0,1122]
[12,10269,23,10277,24,10281,23,10286,null,null,0,1222]
[12,13978,23,13989,24,13995,23,14005,null,null,0,1222]
[21,14123,12,14133,24,14143,23,14147,null,null,0,2122]
[12,14275,23,14285,24,14296,23,14302,null,null,0,1222]
[12,15103,23,15119,24,15123,23,15134,null,null,0,1222]
[21,15252,21,15257,22,15261,23,15271,null,null,0,2222]
[12,15419,14,15423,24,15432,23,15435,null,null,0,1122]
[21,15671,21,15681,22,15685,23,15690,null,null,0,2222]
[12,19217,23,19227,24,19234,23,19245,null,null,0,1222]
[12,21409,23,21425,24,21443,23,21450,null,null,0,1222]
[21,21697,12,23579,24,23596,null,null,null,null,null,212]

{"sheet":"!LB12A04..Is","index":4,"n_rows":36,"n_cols":48,"rows_kept":36,"cut":false,"hidden":false,"merged":[[4,39,4,42],[5,39,5,40],[4,44,4,47],[5,44,5,45],[4,24,4,27],[5,24,5,25],[4,29,4,32],[5,29,5,30],[4,34,4,37],[5,34,5,35],[1,1,1,2],[5,13,5,14],[26,13,26,14],[27,13,27,14],[4,19,4,22],[5,19,5,20]]}
["Report for:!LB12A04..Is"]
["Date:","<date>"]
["Hen:","<hen>",null,null,null,"Correct Sequence",{"$f":"Start!J2","v":2212},null,null,null,null,null,null,null,null,"Total Sequences in Data",{"$f":"4994-COUNTBLANK(L7:L5000)","v":18},null,null,null,null,"Total Sequences in Block Data",{"$f":"COUNTA(L7:L9)","v":3},null,null,null,"Total Sequences in Block Data",{"$f":"COUNTA(L10:L12)","v":3},null,null,null,"Total Sequences in Block Data",{"$f":"COUNTA(L13:L15)","v":3},null,null,null,"Total Sequences in Block Data",{"$f":"COUNTA(L16:L18)","v":3},null,null,null,"Total Sequences in Block Data",{"$f":"COUNTA(L19:L21)","v":3},null,null,null,"Total Sequences in Block Data",{"$f":"COUNTA(L22:L24)","v":3}]
[null,null,null,null,null,null,null,null,null,null,null,null,null,null,null,"Total Sequences in Summary",{"$f":"SUM(O7:O22)","v":18},null,null,null,null,"Total Sequences in Block Summary",{"$f":"SUM(U7:U22)","v":3},null,null,null,"Total Sequences in Block Summary",{"$f":"SUM(Z7:Z22)","v":3},null,null,null,"Total Sequences in Block Summary",{"$f":"SUM(AE7:AE22)","v":3},null,null,null,"Total Sequences in Block Summary",{"$f":"SUM(AJ7:AJ22)","v":3},null,null,null,"Total Sequences in Block Summary",{"$f":"SUM(AO7:AO22)","v":3},null,null,null,"Total Sequences in Block Summary",{"$f":"SUM(AT7:AT22)","v":3}]
[null,null,null,null,null,null,null,null,null,null,null,null,null,null,null,null,null,null,null,"Block 1",null,null,null,null,"Block 2",null,null,null,null,"Block 3",null,null,null,null,"Block 4",null,null,null,null,"Block 5",null,null,null,null,"Block 6"]
["Sequence\nComponent\n1","Time\n1","Sequence\nComponent\n2","Time\n2","Sequence\nComponent\n3","Time\n3","Sequence\nComponent\n4","Time\n4","Sequence\nComponent\n5","Time\n5","Correct?\n0=No 1=Yes","Sequence",null,"Frequency",null,"Relative Frequency","Variability",null,null,"Frequency",null,"Relative Frequency","Variability",null,"Frequency",null,"Relative Frequency","Variability",null,"Frequency",null,"Relative Frequency","Variability",null,"Frequency",null,"Relative Frequency","Variability",null,"Frequency",null,"Relative Frequency","Variability",null,"Frequency",null,"Relative Frequency","Variability"]
[21,178,21,182,22,187,23,193,null,null,0,2222,null,1111,{"$f":"COUNTIF($L$7:$L$500,N7)","v":0},{"$f":"O7/$Q$4","v":0},{"$f":"IF(P7=0,0,(P7*((LOG(P7))/LOG(2))))","v":0},null,null,{"$f":"N7","v":1111},{"$f":"COUNTIF(L7:L9,T7)","v":0},{"$f":"U7/(W4-U20)","v":0},{"$f":"IF(V7=0,0,(V7*((LOG(V7))/LOG(2))))","v":0},null,{"$f":"N7","v":1111},{"$f":"COUNTIF(L10:L12,Y7)","v":0},{"$f":"Z7/(AB4-Z20)","v":0},{"$f":"IF(AA7=0,0,(AA7*((LOG(AA7))/LOG(2))))","v":0},null,{"$f":"N7","v":1111},{"$f":"COUNTIF(L13:L15,AD7)","v":0},{"$f":"AE7/(AG4-AE20)","v":0},{"$f":"IF(AF7=0,0,(AF7*((LOG(AF7))/LOG(2))))","v":0},null,{"$f":"N7","v":1111},{"$f":"COUNTIF(L16:L18,AI7)","v":0},{"$f":"AJ7/(AL4-AJ20)","v":0},{"$f":"IF(AK7=0,0,(AK7*((LOG(AK7))/LOG(2))))","v":0},null,{"$f":"N7","v":1111},{"$f":"COUNTIF(L19:L21,AN7)","v":0},{"$f":"AO7/(AQ4-AO20)","v":0},{"$f":"IF(AP7=0,0,(AP7*((LOG(AP7))/LOG(2))))","v":0},null,{"$f":"N7","v":1111},{"$f":"COUNTIF(L22:L24,AS7)","v":0},{"$f":"AT7/(AV4-AT20)","v":0},{"$f":"IF(AU7=0,0,(AU7*((LOG(AU7))/LOG(2))))","v":0}]
[12,291,23,302,24,306,23,310,null,null,0,1222,null,1112,{"$f":"COUNTIF($L$7:$L$500,N8)","v":2},{"$f":"O8/$Q$4","v":0.1111111111111111},{"$f":"IF(P8=0,0,(P8*((LOG(P8))/LOG(2))))","v":-0.3522138890491458},null,null,{"$f":"N8","v":1112},{"$f":"COUNTIF(L7:L9,T8)","v":0},{"$f":"U8/(W4-U20)","v":0},{"$f":"IF(V8=0,0,(V8*((LOG(V8))/LOG(2))))","v":0},null,{"$f":"N8","v":1112},{"$f":"COUNTIF(L10:L12,Y8)","v":0},{"$f":"Z8/(AB4-Z20)","v":0},{"$f":"IF(AA8=0,0,(AA8*((LOG(AA8))/LOG(2))))","v":0},null,{"$f":"N8","v":1112},{"$f":"COUNTIF(L13:L15,AD8)","v":1},{"$f":"AE8/(AG4-AE20)","v":0.33333333333333331},{"$f":"IF(AF8=0,0,(AF8*((LOG(AF8))/LOG(2))))","v":-0.52832083357371862},null,{"$f":"N8","v":1112},{"$f":"COUNTIF(L16:L18,AI8)","v":0},{"$f":"AJ8/(AL4-AJ20)","v":0},{"$f":"IF(AK8=0,0,(AK8*((LOG(AK8))/LOG(2))))","v":0},null,{"$f":"N8","v":1112},{"$f":"COUNTIF(L19:L21,AN8)","v":0},{"$f":"AO8/(AQ4-AO20)","v":0},{"$f":"IF(AP8=0,0,(AP8*((LOG(AP8))/LOG(2))))","v":0},null,{"$f":"N8","v":1112},{"$f":"COUNTIF(L22:L24,AS8)","v":1},{"$f":"AT8/(AV4-AT20)","v":0.33333333333333331},{"$f":"IF(AU8=0,0,(AU8*((LOG(AU8))/LOG(2))))","v":-0.52832083357371862}]
[12,407,23,417,24,421,23,437,null,null,0,1222,null,1121,{"$f":"COUNTIF($L$7:$L$500,N9)","v":0},{"$f":"O9/$Q$4","v":0},{"$f":"IF(P9=0,0,(P9*((LOG(P9))/LOG(2))))","v":0},null,null,{"$f":"N9","v":1121},{"$f":"COUNTIF(L7:L9,T9)","v":0},{"$f":"U9/(W4-U20)","v":0},{"$f":"IF(V9=0,0,(V9*((LOG(V9))/LOG(2))))","v":0},null,{"$f":"N9","v":1121},{"$f":"COUNTIF(L10:L12,Y9)","v":0},{"$f":"Z9/(AB4-Z20)","v":0},{"$f":"IF(AA9=0,0,(AA9*((LOG(AA9))/LOG(2))))","v":0},null,{"$f":"N9","v":1121},{"$f":"COUNTIF(L13:L15,AD9)","v":0},{"$f":"AE9/(AG4-AE20)","v":0},{"$f":"IF(AF9=0,0,(AF9*((LOG(AF9))/LOG(2))))","v":0},null,{"$f":"N9","v":1121},{"$f":"COUNTIF(L16:L18,AI9)","v":0},{"$f":"AJ9/(AL4-AJ20)","v":0},{"$f":"IF(AK9=0,0,(AK9*((LOG(AK9))/LOG(2))))","v":0},null,{"$f":"N9","v":1121},{"$f":"COUNTIF(L19:L21,AN9)","v":0},{"$f":"AO9/(AQ4-AO20)","v":0},{"$f":"IF(AP9=0,0,(AP9*((LOG(AP9))/LOG(2))))","v":0},null,{"$f":"N9","v":1121},{"$f":"COUNTIF(L22:L24,AS9)","v":0},{"$f":"AT9/(AV4-AT20)","v":0},{"$f":"IF(AU9=0,0,(AU9*((LOG(AU9))/LOG(2))))","v":0}]
[12,536,23,550,24,555,23,563,null,null,0,1222,null,1122,{"$f":"COUNTIF($L$7:$L$500,N10)","v":10},{"$f":"O10/$Q$4","v":0.55555555555555558},{"$f":"IF(P10=0,0,(P10*((LOG(P10))/LOG(2))))","v":-0.4711093925305278},null,null,{"$f":"N10","v":1122},{"$f":"COUNTIF(L7:L9,T10)","v":0},{"$f":"U10/(W4-U20)","v":0},{"$f":"IF(V10=0,0,(V10*((LOG(V10))/LOG(2))))","v":0},null,{"$f":"N10","v":1122},{"$f":"COUNTIF(L10:L12,Y10)","v":2},{"$f":"Z10/(AB4-Z20)","v":0.66666666666666663},{"$f":"IF(AA10=0,0,(AA10*((LOG(AA10))/LOG(2))))","v":-0.38997500048077083},null,{"$f":"N10","v":1122},{"$f":"COUNTIF(L13:L15,AD10)","v":1},{"$f":"AE10/(AG4-AE20)","v":0.33333333333333331},{"$f":"IF(AF10=0,0,(AF10*((LOG(AF10))/LOG(2))))","v":-0.52832083357371862},null,{"$f":"N10","v":1122},{"$f":"COUNTIF(L16:L18,AI10)","v":2},{"$f":"AJ10/(AL4-AJ20)","v":0.66666666666666663},{"$f":"IF(AK10=0,0,(AK10*((LOG(AK10))/LOG(2))))","v":-0.38997500048077083},null,{"$f":"N10","v":1122},{"$f":"COUNTIF(L19:L21,AN10)","v":3},{"$f":"AO10/(AQ4-AO20)","v":1},{"$f":"IF(AP10=0,0,(AP10*((LOG(AP10))/LOG(2))))","v":0},null,{"$f":"N10","v":1122},{"$f":"COUNTIF(L22:L24,AS10)","v":2},{"$f":"AT10/(AV4-AT20)","v":0.66666666666666663},{"$f":"IF(AU10=0,0,(AU10*((LOG(AU10))/LOG(2))))","v":-0.38997500048077083}]
[12,659,14,662,24,671,23,674,null,null,0,1122,null,1211,{"$f":"COUNTIF($L$7:$L$500,N11)","v":0},{"$f":"O11/$Q$4","v":0},{"$f":"IF(P11=0,0,(P11*((LOG(P11))/LOG(2))))","v":0},null,null,{"$f":"N11","v":1211},{"$f":"COUNTIF(L7:L9,T11)","v":0},{"$f":"U11/(W4-U20)","v":0},{"$f":"IF(V11=0,0,(V11*((LOG(V11))/LOG(2))))","v":0},null,{"$f":"N11","v":1211},{"$f":"COUNTIF(L10:L12,Y11)","v":0},{"$f":"Z11/(AB4-Z20)","v":0},{"$f":"IF(AA11=0,0,(AA11*((LOG(AA11))/LOG(2))))","v":0},null,{"$f":"N11","v":1211},{"$f":"COUNTIF(L13:L15,AD11)","v":0},{"$f":"AE11/(AG4-AE20)","v":0},{"$f":"IF(AF11=0,0,(AF11*((LOG(AF11))/LOG(2))))","v":0},null,{"$f":"N11","v":1211},{"$f":"COUNTIF(L16:L18,AI11)","v":0},{"$f":"AJ11/(AL4-AJ20)","v":0},{"$f":"IF(AK11=0,0,(AK11*((LOG(AK11))/LOG(2))))","v":0},null,{"$f":"N11","v":1211},{"$f":"COUNTIF(L19:L21,AN11)","v":0},{"$f":"AO11/(AQ4-AO20)","v":0},{"$f":"IF(AP11=0,0,(AP11*((LOG(AP11))/LOG(2))))","v":0},null,{"$f":"N11","v":1211},{"$f":"COUNTIF(L22:L24,AS11)","v":0},{"$f":"AT11/(AV4-AT20)","v":0},{"$f":"IF(AU11=0,0,(AU11*((LOG(AU11))/LOG(2))))","v":0}]
[12,771,14,779,24,787,23,792,null,null,0,1122,null,1212,{"$f":"COUNTIF($L$7:$L$500,N12)","v":0},{"$f":"O12/$Q$4","v":0},{"$f":"IF(P12=0,0,(P12*((LOG(P12))/LOG(2))))","v":0},null,null,{"$f":"N12","v":1212},{"$f":"COUNTIF(L7:L9,T12)","v":0},{"$f":"U12/(W4-U20)","v":0},{"$f":"IF(V12=0,0,(V12*((LOG(V12))/LOG(2))))","v":0},null,{"$f":"N12","v":1212},{"$f":"COUNTIF(L10:L12,Y12)","v":0},{"$f":"Z12/(AB4-Z20)","v":0},{"$f":"IF(AA12=0,0,(AA12*((LOG(AA12))/LOG(2))))","v":0},null,{"$f":"N12","v":1212},{"$f":"COUNTIF(L13:L15,AD12)","v":0},{"$f":"AE12/(AG4-AE20)","v":0},{"$f":"IF(AF12=0,0,(AF12*((LOG(AF12))/LOG(2))))","v":0},null,{"$f":"N12","v":1212},{"$f":"COUNTIF(L16:L18,AI12)","v":0},{"$f":"AJ12/(AL4-AJ20)","v":0},{"$f":"IF(AK12=0,0,(AK12*((LOG(AK12))/LOG(2))))","v":0},null,{"$f":"N12","v":1212},{"$f":"COUNTIF(L19:L21,AN12)","v":0},{"$f":"AO12/(AQ4-AO20)","v":0},{"$f":"IF(AP12=0,0,(AP12*((LOG(AP12))/LOG(2))))","v":0},null,{"$f":"N12","v":1212},{"$f":"COUNTIF(L22:L24,AS12)","v":0},{"$f":"AT12/(AV4-AT20)","v":0},{"$f":"IF(AU12=0,0,(AU12*((LOG(AU12))/LOG(2))))","v":0}]
[12,888,14,891,24,899,23,903,null,null,0,1122,null,1221,{"$f":"COUNTIF($L$7:$L$500,N13)","v":0},{"$f":"O13/$Q$4","v":0},{"$f":"IF(P13=0,0,(P13*((LOG(P13))/LOG(2))))","v":0},null,null,{"$f":"N13","v":1221},{"$f":"COUNTIF(L7:L9,T13)","v":0},{"$f":"U13/(W4-U20)","v":0},{"$f":"IF(V13=0,0,(V13*((LOG(V13))/LOG(2))))","v":0},null,{"$f":"N13","v":1221},{"$f":"COUNTIF(L10:L12,Y13)","v":0},{"$f":"Z13/(AB4-Z20)","v":0},{"$f":"IF(AA13=0,0,(AA13*((LOG(AA13))/LOG(2))))","v":0},null,{"$f":"N13","v":1221},{"$f":"COUNTIF(L13:L15,AD13)","v":0},{"$f":"AE13/(AG4-AE20)","v":0},{"$f":"IF(AF13=0,0,(AF13*((LOG(AF13))/LOG(2))))","v":0},null,{"$f":"N13","v":1221},{"$f":"COUNTIF(L16:L18,AI13)","v":0},{"$f":"AJ13/(AL4-AJ20)","v":0},{"$f":"IF(AK13=0,0,(AK13*((LOG(AK13))/LOG(2))))","v":0},null,{"$f":"N13","v":1221},{"$f":"COUNTIF(L19:L21,AN13)","v":0},{"$f":"AO13/(AQ4-AO20)","v":0},{"$f":"IF(AP13=0,0,(AP13*((LOG(AP13))/LOG(2))))","v":0},null,{"$f":"N13","v":1221},{"$f":"COUNTIF(L22:L24,AS13)","v":0},{"$f":"AT13/(AV4-AT20)","v":0},{"$f":"IF(AU13=0,0,(AU13*((LOG(AU13))/LOG(2))))","v":0}]
[21,1004,12,1014,24,1021,23,1026,null,null,0,2122,null,1222,{"$f":"COUNTIF($L$7:$L$500,N14)","v":4},{"$f":"O14/$Q$4","v":0.22222222222222221},{"$f":"IF(P14=0,0,(P14*((LOG(P14))/LOG(2))))","v":-0.48220555587606945},null,null,{"$f":"N14","v":1222},{"$f":"COUNTIF(L7:L9,T14)","v":2},{"$f":"U14/(W4-U20)","v":0.66666666666666663},{"$f":"IF(V14=0,0,(V14*((LOG(V14))/LOG(2))))","v":-0.38997500048077083},null,{"$f":"N14","v":1222},{"$f":"COUNTIF(L10:L12,Y14)","v":1},{"$f":"Z14/(AB4-Z20)","v":0.33333333333333331},{"$f":"IF(AA14=0,0,(AA14*((LOG(AA14))/LOG(2))))","v":-0.52832083357371862},null,{"$f":"N14","v":1222},{"$f":"COUNTIF(L13:L15,AD14)","v":0},{"$f":"AE14/(AG4-AE20)","v":0},{"$f":"IF(AF14=0,0,(AF14*((LOG(AF14))/LOG(2))))","v":0},null,{"$f":"N14","v":1222},{"$f":"COUNTIF(L16:L18,AI14)","v":1},{"$f":"AJ14/(AL4-AJ20)","v":0.33333333333333331},{"$f":"IF(AK14=0,0,(AK14*((LOG(AK14))/LOG(2))))","v":-0.52832083357371862},null,{"$f":"N14","v":1222},{"$f":"COUNTIF(L19:L21,AN14)","v":0},{"$f":"AO14/(AQ4-AO20)","v":0},{"$f":"IF(AP14=0,0,(AP14*((LOG(AP14))/LOG(2))))","v":0},null,{"$f":"N14","v":1222},{"$f":"COUNTIF(L22:L24,AS14)","v":0},{"$f":"AT14/(AV4-AT20)","v":0},{"$f":"IF(AU14=0,0,(AU14*((LOG(AU14))/LOG(2))))","v":0}]
[12,1122,14,1125,13,1127,23,1138,null,null,0,1112,null,2111,{"$f":"COUNTIF($L$7:$L$500,N15)","v":0},{"$f":"O15/$Q$4","v":0},{"$f":"IF(P15=0,0,(P15*((LOG(P15))/LOG(2))))","v":0},null,null,{"$f":"N15","v":2111},{"$f":"COUNTIF(L7:L9,T15)","v":0},{"$f":"U15/(W4-U20)","v":0},{"$f":"IF(V15=0,0,(V15*((LOG(V15))/LOG(2))))","v":0},null,{"$f":"N15","v":2111},{"$f":"COUNTIF(L10:L12,Y15)","v":0},{"$f":"Z15/(AB4-Z20)","v":0},{"$f":"IF(AA15=0,0,(AA15*((LOG(AA15))/LOG(2))))","v":0},null,{"$f":"N15","v":2111},{"$f":"COUNTIF(L13:L15,AD15)","v":0},{"$f":"AE15/(AG4-AE20)","v":0},{"$f":"IF(AF15=0,0,(AF15*((LOG(AF15))/LOG(2))))","v":0},null,{"$f":"N15","v":2111},{"$f":"COUNTIF(L16:L18,AI15)","v":0},{"$f":"AJ15/(AL4-AJ20)","v":0},{"$f":"IF(AK15=0,0,(AK15*((LOG(AK15))/LOG(2))))","v":0},null,{"$f":"N15","v":2111},{"$f":"COUNTIF(L19:L21,AN15)","v":0},{"$f":"AO15/(AQ4-AO20)","v":0},{"$f":"IF(AP15=0,0,(AP15*((LOG(AP15))/LOG(2))))","v":0},null,{"$f":"N15","v":2111},{"$f":"COUNTIF(L22:L24,AS15)","v":0},{"$f":"AT15/(AV4-AT20)","v":0},{"$f":"IF(AU15=0,0,(AU15*((LOG(AU15))/LOG(2))))","v":0}]
[12,1248,14,1256,24,1262,23,1277,null,null,0,1122,null,2112,{"$f":"COUNTIF($L$7:$L$500,N16)","v":0},{"$f":"O16/$Q$4","v":0},{"$f":"IF(P16=0,0,(P16*((LOG(P16))/LOG(2))))","v":0},null,null,{"$f":"N16","v":2112},{"$f":"COUNTIF(L7:L9,T16)","v":0},{"$f":"U16/(W4-U20)","v":0},{"$f":"IF(V16=0,0,(V16*((LOG(V16))/LOG(2))))","v":0},null,{"$f":"N16","v":2112},{"$f":"COUNTIF(L10:L12,Y16)","v":0},{"$f":"Z16/(AB4-Z20)","v":0},{"$f":"IF(AA16=0,0,(AA16*((LOG(AA16))/LOG(2))))","v":0},null,{"$f":"N16","v":2112},{"$f":"COUNTIF(L13:L15,AD16)","v":0},{"$f":"AE16/(AG4-AE20)","v":0},{"$f":"IF(AF16=0,0,(AF16*((LOG(AF16))/LOG(2))))","v":0},null,{"$f":"N16","v":2112},{"$f":"COUNTIF(L16:L18,AI16)","v":0},{"$f":"AJ16/(AL4-AJ20)","v":0},{"$f":"IF(AK16=0,0,(AK16*((LOG(AK16))/LOG(2))))","v":0},null,{"$f":"N16","v":2112},{"$f":"COUNTIF(L19:L21,AN16)","v":0},{"$f":"AO16/(AQ4-AO20)","v":0},{"$f":"IF(AP16=0,0,(AP16*((LOG(AP16))/LOG(2))))","v":0},null,{"$f":"N16","v":2112},{"$f":"COUNTIF(L22:L24,AS16)","v":0},{"$f":"AT16/(AV4-AT20)","v":0},{"$f":"IF(AU16=0,0,(AU16*((LOG(AU16))/LOG(2))))","v":0}]
[12,1381,23,1393,24,1400,23,1405,null,null,0,1222,null,2121,{"$f":"COUNTIF($L$7:$L$500,N17)","v":0},{"$f":"O17/$Q$4","v":0},{"$f":"IF(P17=0,0,(P17*((LOG(P17))/LOG(2))))","v":0},null,null,{"$f":"N17","v":2121},{"$f":"COUNTIF(L7:L9,T17)","v":0},{"$f":"U17/(W4-U20)","v":0},{"$f":"IF(V17=0,0,(V17*((LOG(V17))/LOG(2))))","v":0},null,{"$f":"N17","v":2121},{"$f":"COUNTIF(L10:L12,Y17)","v":0},{"$f":"Z17/(AB4-Z20)","v":0},{"$f":"IF(AA17=0,0,(AA17*((LOG(AA17))/LOG(2))))","v":0},null,{"$f":"N17","v":2121},{"$f":"COUNTIF(L13:L15,AD17)","v":0},{"$f":"AE17/(AG4-AE20)","v":0},{"$f":"IF(AF17=0,0,(AF17*((LOG(AF17))/LOG(2))))","v":0},null,{"$f":"N17","v":2121},{"$f":"COUNTIF(L16:L18,AI17)","v":0},{"$f":"AJ17/(AL4-AJ20)","v":0},{"$f":"IF(AK17=0,0,(AK17*((LOG(AK17))/LOG(2))))","v":0},null,{"$f":"N17","v":2121},{"$f":"COUNTIF(L19:L21,AN17)","v":0},{"$f":"AO17/(AQ4-AO20)","v":0},{"$f":"IF(AP17=0,0,(AP17*((LOG(AP17))/LOG(2))))","v":0},null,{"$f":"N17","v":2121},{"$f":"COUNTIF(L22:L24,AS17)","v":0},{"$f":"AT17/(AV4-AT20)","v":0},{"$f":"IF(AU17=0,0,(AU17*((LOG(AU17))/LOG(2))))","v":0}]
[12,1502,14,1505,24,1514,23,1519,null,null,0,1122,null,2122,{"$f":"COUNTIF($L$7:$L$500,N18)","v":1},{"$f":"O18/$Q$4","v":5.5555555555555552E-2},{"$f":"IF(P18=0,0,(P18*((LOG(P18))/LOG(2))))","v":-0.23166250008012845},null,null,{"$f":"N18","v":2122},{"$f":"COUNTIF(L7:L9,T18)","v":0},{"$f":"U18/(W4-U20)","v":0},{"$f":"IF(V18=0,0,(V18*((LOG(V18))/LOG(2))))","v":0},null,{"$f":"N18","v":2122},{"$f":"COUNTIF(L10:L12,Y18)","v":0},{"$f":"Z18/(AB4-Z20)","v":0},{"$f":"IF(AA18=0,0,(AA18*((LOG(AA18))/LOG(2))))","v":0},null,{"$f":"N18","v":2122},{"$f":"COUNTIF(L13:L15,AD18)","v":1},{"$f":"AE18/(AG4-AE20)","v":0.33333333333333331},{"$f":"IF(AF18=0,0,(AF18*((LOG(AF18))/LOG(2))))","v":-0.52832083357371862},null,{"$f":"N18","v":2122},{"$f":"COUNTIF(L16:L18,AI18)","v":0},{"$f":"AJ18/(AL4-AJ20)","v":0},{"$f":"IF(AK18=0,0,(AK18*((LOG(AK18))/LOG(2))))","v":0},null,{"$f":"N18","v":2122},{"$f":"COUNTIF(L19:L21,AN18)","v":0},{"$f":"AO18/(AQ4-AO20)","v":0},{"$f":"IF(AP18=0,0,(AP18*((LOG(AP18))/LOG(2))))","v":0},null,{"$f":"N18","v":2122},{"$f":"COUNTIF(L22:L24,AS18)","v":0},{"$f":"AT18/(AV4-AT20)","v":0},{"$f":"IF(AU18=0,0,(AU18*((LOG(AU18))/LOG(2))))","v":0}]
[12,1614,14,1626,24,1635,23,1639,null,null,0,1122,null,2211,{"$f":"COUNTIF($L$7:$L$500,N19)","v":0},{"$f":"O19/$Q$4","v":0},{"$f":"IF(P19=0,0,(P19*((LOG(P19))/LOG(2))))","v":0},null,null,{"$f":"N19","v":2211},{"$f":"COUNTIF(L7:L9,T19)","v":0},{"$f":"U19/(W4-U20)","v":0},{"$f":"IF(V19=0,0,(V19*((LOG(V19))/LOG(2))))","v":0},null,{"$f":"N19","v":2211},{"$f":"COUNTIF(L10:L12,Y19)","v":0},{"$f":"Z19/(AB4-Z20)","v":0},{"$f":"IF(AA19=0,0,(AA19*((LOG(AA19))/LOG(2))))","v":0},null,{"$f":"N19","v":2211},{"$f":"COUNTIF(L13:L15,AD19)","v":0},{"$f":"AE19/(AG4-AE20)","v":0},{"$f":"IF(AF19=0,0,(AF19*((LOG(AF19))/LOG(2))))","v":0},null,{"$f":"N19","v":2211},{"$f":"COUNTIF(L16:L18,AI19)","v":0},{"$f":"AJ19/(AL4-AJ20)","v":0},{"$f":"IF(AK19=0,0,(AK19*((LOG(AK19))/LOG(2))))","v":0},null,{"$f":"N19","v":2211},{"$f":"COUNTIF(L19:L21,AN19)","v":0},{"$f":"AO19/(AQ4-AO20)","v":0},{"$f":"IF(AP19=0,0,(AP19*((LOG(AP19))/LOG(2))))","v":0},null,{"$f":"N19","v":2211},{"$f":"COUNTIF(L22:L24,AS19)","v":0},{"$f":"AT19/(AV4-AT20)","v":0},{"$f":"IF(AU19=0,0,(AU19*((LOG(AU19))/LOG(2))))","v":0}]
[12,1735,14,1740,24,1749,23,1754,null,null,0,1122,null,2212,{"$f":"COUNTIF($L$7:$L$500,N20)","v":0},{"$f":"O20/$Q$4","v":0},{"$f":"IF(P20=0,0,(P20*((LOG(P20))/LOG(2))))","v":0},null,null,{"$f":"N20","v":2212},{"$f":"COUNTIF(L7:L9,T20)","v":0},null,null,null,{"$f":"N20","v":2212},{"$f":"COUNTIF(L10:L12,Y20)","v":0},null,null,null,{"$f":"N20","v":2212},{"$f":"COUNTIF(L13:L15,AD20)","v":0},null,null,null,{"$f":"N20","v":2212},{"$f":"COUNTIF(L16:L18,AI20)","v":0},null,null,null,{"$f":"N20","v":2212},{"$f":"COUNTIF(L19:L21,AN20)","v":0},null,null,null,{"$f":"N20","v":2212},{"$f":"COUNTIF(L22:L24,AS20)","v":0}]
[12,1849,14,1858,24,1867,23,1872,null,null,0,1122,null,2221,{"$f":"COUNTIF($L$7:$L$500,N21)","v":0},{"$f":"O21/$Q$4","v":0},{"$f":"IF(P21=0,0,(P21*((LOG(P21))/LOG(2))))","v":0},null,null,{"$f":"N21","v":2221},{"$f":"COUNTIF(L7:L9,T21)","v":0},{"$f":"U21/(W4-U20)","v":0},{"$f":"IF(V21=0,0,(V21*((LOG(V21))/LOG(2))))","v":0},null,{"$f":"N21","v":2221},{"$f":"COUNTIF(L10:L12,Y21)","v":0},{"$f":"Z21/(AB4-Z20)","v":0},{"$f":"IF(AA21=0,0,(AA21*((LOG(AA21))/LOG(2))))","v":0},null,{"$f":"N21","v":2221},{"$f":"COUNTIF(L13:L15,AD21)","v":0},{"$f":"AE21/(AG4-AE20)","v":0},{"$f":"IF(AF21=0,0,(AF21*((LOG(AF21))/LOG(2))))","v":0},null,{"$f":"N21","v":2221},{"$f":"COUNTIF(L16:L18,AI21)","v":0},{"$f":"AJ21/(AL4-AJ20)","v":0},{"$f":"IF(AK21=0,0,(AK21*((LOG(AK21))/LOG(2))))","v":0},null,{"$f":"N21","v":2221},{"$f":"COUNTIF(L19:L21,AN21)","v":0},{"$f":"AO21/(AQ4-AO20)","v":0},{"$f":"IF(AP21=0,0,(AP21*((LOG(AP21))/LOG(2))))","v":0},null,{"$f":"N21","v":2221},{"$f":"COUNTIF(L22:L24,AS21)","v":0},{"$f":"AT21/(AV4-AT20)","v":0},{"$f":"IF(AU21=0,0,(AU21*((LOG(AU21))/LOG(2))))","v":0}]
[12,1968,14,1973,24,1983,23,1987,null,null,0,1122,null,2222,{"$f":"COUNTIF($L$7:$L$500,N22)","v":1},{"$f":"O22/$Q$4","v":5.5555555555555552E-2},{"$f":"IF(P22=0,0,(P22*((LOG(P22))/LOG(2))))","v":-0.23166250008012845},null,null,{"$f":"N22","v":2222},{"$f":"COUNTIF(L7:L9,T22)","v":1},{"$f":"U22/(W4-U20)","v":0.33333333333333331},{"$f":"IF(V22=0,0,(V22*((LOG(V22))/LOG(2))))","v":-0.52832083357371862},null,{"$f":"N22","v":2222},{"$f":"COUNTIF(L10:L12,Y22)","v":0},{"$f":"Z22/(AB4-Z20)","v":0},{"$f":"IF(AA22=0,0,(AA22*((LOG(AA22))/LOG(2))))","v":0},null,{"$f":"N22","v":2222},{"$f":"COUNTIF(L13:L15,AD22)","v":0},{"$f":"AE22/(AG4-AE20)","v":0},{"$f":"IF(AF22=0,0,(AF22*((LOG(AF22))/LOG(2))))","v":0},null,{"$f":"N22","v":2222},{"$f":"COUNTIF(L16:L18,AI22)","v":0},{"$f":"AJ22/(AL4-AJ20)","v":0},{"$f":"IF(AK22=0,0,(AK22*((LOG(AK22))/LOG(2))))","v":0},null,{"$f":"N22","v":2222},{"$f":"COUNTIF(L19:L21,AN22)","v":0},{"$f":"AO22/(AQ4-AO20)","v":0},{"$f":"IF(AP22=0,0,(AP22*((LOG(AP22))/LOG(2))))","v":0},null,{"$f":"N22","v":2222},{"$f":"COUNTIF(L22:L24,AS22)","v":0},{"$f":"AT22/(AV4-AT20)","v":0},{"$f":"IF(AU22=0,0,(AU22*((LOG(AU22))/LOG(2))))","v":0}]
[12,2088,14,2094,13,2103,23,2112,null,null,0,1112,null,null,null,{"$f":"SUM(P7:P22)","v":1},{"$f":"-SUM(Q7:Q22)","v":1.7688538376159999},null,null,null,null,{"$f":"SUM(V7:V22)","v":1},{"$f":"-SUM(W7:W22)","v":0.91829583405448945},null,null,null,{"$f":"SUM(AA7:AA22)","v":1},{"$f":"-SUM(AB7:AB22)","v":0.91829583405448945},null,null,null,{"$f":"SUM(AF7:AF22)","v":1},{"$f":"-SUM(AG7:AG22)","v":1.5849625007211559},null,null,null,{"$f":"SUM(AK7:AK22)","v":1},{"$f":"-SUM(AL7:AL22)","v":0.91829583405448945},null,null,null,{"$f":"SUM(AP7:AP22)","v":1},{"$f":"-SUM(AQ7:AQ22)","v":0},null,null,null,{"$f":"SUM(AU7:AU22)","v":1},{"$f":"-SUM(AV7:AV22)","v":0.91829583405448945}]
[12,2209,14,2220,24,2228,23,2231,null,null,null,1122,null,null,null,"U=",{"$f":"Q23/(LOG(Q4)/LOG(2))","v":0.42419320179719799},null,null,null,null,"U1=",{"$f":"W23/(LOG(W4)/LOG(2))","v":0.57938016428569505},null,null,null,"U2=",{"$f":"AB23/(LOG(AB4)/LOG(2))","v":0.57938016428569505},null,null,null,"U3=",{"$f":"AG23/(LOG(AG4)/LOG(2))","v":0.99999999999999989},null,null,null,"U4=",{"$f":"AL23/(LOG(AL4)/LOG(2))","v":0.57938016428569505},null,null,null,"U5=",{"$f":"AQ23/(LOG(AQ4)/LOG(2))","v":0},null,null,null,"U6=",{"$f":"AV23/(LOG(AV4)/LOG(2))","v":0.57938016428569505}]
[]
[]
[null,null,null,null,null,null,null,null,null,null,null,null,null,"Total Target Seq"]
[null,null,null,null,null,null,null,null,null,null,null,null,null,{"$f":"COUNTIF(L7:L24,G3)","v":0},null,3,3,3,3,3,3]
[null,null,null,null,null,null,null,null,null,null,null,null,null,null,null,"% of reinforcement given in 6 equal intervals based on number of trials "]
[null,null,null,null,null,null,null,null,null,null,null,null,null,null,null,"%_1","%_2","%_3","%_4","%_5","%_6"]
[null,null,null,null,null,null,null,null,null,null,null,null,null,null,"target sequence",{"$f":"$G$3","v":2212},{"$f":"$G$3","v":2212},{"$f":"$G$3","v":2212},{"$f":"$G$3","v":2212},{"$f":"$G$3","v":2212},{"$f":"$G$3","v":2212}]
[null,null,null,null,null,null,null,null,null,null,null,null,null,null,"total reinforcement",{"$f":"U20","v":0},{"$f":"Z20","v":0},{"$f":"AE20","v":0},{"$f":"AJ20","v":0},{"$f":"AO20","v":0},{"$f":"AT20","v":0}]
[null,null,null,null,null,null,null,null,null,null,null,null,null,null,"% target"]
[null,null,null,null,null,null,null,null,null,null,null,null,null,null,"CCRF"]
[null,null,null,null,null,null,null,null,null,null,null,null,null,null,"% CCRf"]
[null,null,null,null,null,null,null,null,null,null,null,null,null,null,"average response rate",{"$f":"H9/P28","v":145.66666666666666},{"$f":"(H12-H9)/Q28","v":118.33333333333333},{"$f":"(H15-H12)/R28","v":115.33333333333333},{"$f":"(H18-H15)/S28","v":127},{"$f":"(H21-H18)/T28","v":117.66666666666667},{"$f":"(H24-H21)/U28","v":119.66666666666667}]

{"sheet":"!LB12A14..Is","index":5,"n_rows":89,"n_cols":48,"rows_kept":89,"cut":false,"hidden":false,"merged":[[4,39,4,42],[5,39,5,40],[4,44,4,47],[5,44,5,45],[4,24,4,27],[5,24,5,25],[4,29,4,32],[5,29,5,30],[4,34,4,37],[5,34,5,35],[1,1,1,2],[5,13,5,14],[26,13,26,14],[27,13,27,14],[4,19,4,22],[5,19,5,20]]}
["Report for:!LB12A14..Is"]
["Date:","<date>"]
["Hen:","<hen>",null,null,null,"Correct Sequence",{"$f":"Start!J2","v":2212},null,null,null,null,null,null,null,null,"Total Sequences in Data",{"$f":"4994-COUNTBLANK(L7:L5000)","v":83},null,null,null,null,"Total Sequences in Block Data",{"$f":"COUNTA(L7:L20)","v":14},null,null,null,"Total Sequences in Block Data",{"$f":"COUNTA(L21:L34)","v":14},null,null,null,"Total Sequences in Block Data",{"$f":"COUNTA(L35:L47)","v":13},null,null,null,"Total Sequences in Block Data",{"$f":"COUNTA(L48:L61)","v":14},null,null,null,"Total Sequences in Block Data",{"$f":"COUNTA(L62:L75)","v":14},null,null,null,"Total Sequences in Block Data",{"$f":"COUNTA(L76:L89)","v":14}]
[null,null,null,null,null,null,null,null,null,null,null,null,null,null,null,"Total Sequences in Summary",{"$f":"SUM(O7:O22)","v":83},null,null,null,null,"Total Sequences in Block Summary",{"$f":"SUM(U7:U22)","v":14},null,null,null,"Total Sequences in Block Summary",{"$f":"SUM(Z7:Z22)","v":14},null,null,null,"Total Sequences in Block Summary",{"$f":"SUM(AE7:AE22)","v":13},null,null,null,"Total Sequences in Block Summary",{"$f":"SUM(AJ7:AJ22)","v":14},null,null,null,"Total Sequences in Block Summary",{"$f":"SUM(AO7:AO22)","v":14},null,null,null,"Total Sequences in Block Summary",{"$f":"SUM(AT7:AT22)","v":14}]
[null,null,null,null,null,null,null,null,null,null,null,null,null,null,null,null,null,null,null,"Block 1",null,null,null,null,"Block 2",null,null,null,null,"Block 3",null,null,null,null,"Block 4",null,null,null,null,"Block 5",null,null,null,null,"Block 6"]
["Sequence\nComponent\n1","Time\n1","Sequence\nComponent\n2","Time\n2","Sequence\nComponent\n3","Time\n3","Sequence\nComponent\n4","Time\n4","Sequence\nComponent\n5","Time\n5","Correct?\n0=No 1=Yes","Sequence",null,"Frequency",null,"Relative Frequency","Variability",null,null,"Frequency",null,"Relative Frequency","Variability",null,"Frequency",null,"Relative Frequency","Variability",null,"Frequency",null,"Relative Frequency","Variability",null,"Frequency",null,"Relative Frequency","Variability",null,"Frequency",null,"Relative Frequency","Variability",null,"Frequency",null,"Relative Frequency","Variability"]
[21,14,21,18,22,24,23,30,null,null,0,2222,null,1111,{"$f":"COUNTIF($L$7:$L$500,N7)","v":4},{"$f":"O7/$Q$4","v":4.8192771084337352E-2},{"$f":"IF(P7=0,0,(P7*((LOG(P7))/LOG(2))))","v":-0.2108452737998518},null,null,{"$f":"N7","v":1111},{"$f":"COUNTIF(L7:L20,T7)","v":0},{"$f":"U7/(W4-U20)","v":0},{"$f":"IF(V7=0,0,(V7*((LOG(V7))/LOG(2))))","v":0},null,{"$f":"N7","v":1111},{"$f":"COUNTIF(L21:L34,Y7)","v":0},{"$f":"Z7/(AB4-Z20)","v":0},{"$f":"IF(AA7=0,0,(AA7*((LOG(AA7))/LOG(2))))","v":0},null,{"$f":"N7","v":1111},{"$f":"COUNTIF(L35:L47,AD7)","v":3},{"$f":"AE7/(AG4-AE20)","v":0.23076923076923078},{"$f":"IF(AF7=0,0,(AF7*((LOG(AF7))/LOG(2))))","v":-0.48818705017383146},null,{"$f":"N7","v":1111},{"$f":"COUNTIF(L48:L61,AI7)","v":1},{"$f":"AJ7/(AL4-AJ20)","v":7.1428571428571425E-2},{"$f":"IF(AK7=0,0,(AK7*((LOG(AK7))/LOG(2))))","v":-0.27195392300411453},null,{"$f":"N7","v":1111},{"$f":"COUNTIF(L62:L75,AN7)","v":0},{"$f":"AO7/(AQ4-AO20)","v":0},{"$f":"IF(AP7=0,0,(AP7*((LOG(AP7))/LOG(2))))","v":0},null,{"$f":"N7","v":1111},{"$f":"COUNTIF(L76:L89,AS7)","v":0},{"$f":"AT7/(AV4-AT20)","v":0},{"$f":"IF(AU7=0,0,(AU7*((LOG(AU7))/LOG(2))))","v":0}]
[21,132,21,137,22,142,23,148,null,null,0,2222,null,1112,{"$f":"COUNTIF($L$7:$L$500,N8)","v":16},{"$f":"O8/$Q$4","v":0.19277108433734941},{"$f":"IF(P8=0,0,(P8*((LOG(P8))/LOG(2))))","v":-0.45783892652470837},null,null,{"$f":"N8","v":1112},{"$f":"COUNTIF(L7:L20,T8)","v":0},{"$f":"U8/(W4-U20)","v":0},{"$f":"IF(V8=0,0,(V8*((LOG(V8))/LOG(2))))","v":0},null,{"$f":"N8","v":1112},{"$f":"COUNTIF(L21:L34,Y8)","v":5},{"$f":"Z8/(AB4-Z20)","v":0.35714285714285715},{"$f":"IF(AA8=0,0,(AA8*((LOG(AA8))/LOG(2))))","v":-0.53050958113222924},null,{"$f":"N8","v":1112},{"$f":"COUNTIF(L35:L47,AD8)","v":6},{"$f":"AE8/(AG4-AE20)","v":0.46153846153846156},{"$f":"IF(AF8=0,0,(AF8*((LOG(AF8))/LOG(2))))","v":-0.51483563880920125},null,{"$f":"N8","v":1112},{"$f":"COUNTIF(L48:L61,AI8)","v":5},{"$f":"AJ8/(AL4-AJ20)","v":0.35714285714285715},{"$f":"IF(AK8=0,0,(AK8*((LOG(AK8))/LOG(2))))","v":-0.53050958113222924},null,{"$f":"N8","v":1112},{"$f":"COUNTIF(L62:L75,AN8)","v":0},{"$f":"AO8/(AQ4-AO20)","v":0},{"$f":"IF(AP8=0,0,(AP8*((LOG(AP8))/LOG(2))))","v":0},null,{"$f":"N8","v":1112},{"$f":"COUNTIF(L76:L89,AS8)","v":0},{"$f":"AT8/(AV4-AT20)","v":0},{"$f":"IF(AU8=0,0,(AU8*((LOG(AU8))/LOG(2))))","v":0}]
[21,261,21,266,22,281,23,285,null,null,0,2222,null,1121,{"$f":"COUNTIF($L$7:$L$500,N9)","v":0},{"$f":"O9/$Q$4","v":0},{"$f":"IF(P9=0,0,(P9*((LOG(P9))/LOG(2))))","v":0},null,null,{"$f":"N9","v":1121},{"$f":"COUNTIF(L7:L20,T9)","v":0},{"$f":"U9/(W4-U20)","v":0},{"$f":"IF(V9=0,0,(V9*((LOG(V9))/LOG(2))))","v":0},null,{"$f":"N9","v":1121},{"$f":"COUNTIF(L21:L34,Y9)","v":0},{"$f":"Z9/(AB4-Z20)","v":0},{"$f":"IF(AA9=0,0,(AA9*((LOG(AA9))/LOG(2))))","v":0},null,{"$f":"N9","v":1121},{"$f":"COUNTIF(L35:L47,AD9)","v":0},{"$f":"AE9/(AG4-AE20)","v":0},{"$f":"IF(AF9=0,0,(AF9*((LOG(AF9))/LOG(2))))","v":0},null,{"$f":"N9","v":1121},{"$f":"COUNTIF(L48:L61,AI9)","v":0},{"$f":"AJ9/(AL4-AJ20)","v":0},{"$f":"IF(AK9=0,0,(AK9*((LOG(AK9))/LOG(2))))","v":0},null,{"$f":"N9","v":1121},{"$f":"COUNTIF(L62:L75,AN9)","v":0},{"$f":"AO9/(AQ4-AO20)","v":0},{"$f":"IF(AP9=0,0,(AP9*((LOG(AP9))/LOG(2))))","v":0},null,{"$f":"N9","v":1121},{"$f":"COUNTIF(L76:L89,AS9)","v":0},{"$f":"AT9/(AV4-AT20)","v":0},{"$f":"IF(AU9=0,0,(AU9*((LOG(AU9))/LOG(2))))","v":0}]
[21,380,21,388,11,402,21,410,null,null,0,2212,null,1122,{"$f":"COUNTIF($L$7:$L$500,N10)","v":16},{"$f":"O10/$Q$4","v":0.19277108433734941},{"$f":"IF(P10=0,0,(P10*((LOG(P10))/LOG(2))))","v":-0.45783892652470837},null,null,{"$f":"N10","v":1122},{"$f":"COUNTIF(L7:L20,T10)","v":2},{"$f":"U10/(W4-U20)","v":0.15384615384615385},{"$f":"IF(V10=0,0,(V10*((LOG(V10))/LOG(2))))","v":-0.4154522643293988},null,{"$f":"N10","v":1122},{"$f":"COUNTIF(L21:L34,Y10)","v":7},{"$f":"Z10/(AB4-Z20)","v":0.5},{"$f":"IF(AA10=0,0,(AA10*((LOG(AA10))/LOG(2))))","v":-0.5},null,{"$f":"N10","v":1122},{"$f":"COUNTIF(L35:L47,AD10)","v":1},{"$f":"AE10/(AG4-AE20)","v":7.6923076923076927E-2},{"$f":"IF(AF10=0,0,(AF10*((LOG(AF10))/LOG(2))))","v":-0.28464920908777636},null,{"$f":"N10","v":1122},{"$f":"COUNTIF(L48:L61,AI10)","v":5},{"$f":"AJ10/(AL4-AJ20)","v":0.35714285714285715},{"$f":"IF(AK10=0,0,(AK10*((LOG(AK10))/LOG(2))))","v":-0.53050958113222924},null,{"$f":"N10","v":1122},{"$f":"COUNTIF(L62:L75,AN10)","v":1},{"$f":"AO10/(AQ4-AO20)","v":7.1428571428571425E-2},{"$f":"IF(AP10=0,0,(AP10*((LOG(AP10))/LOG(2))))","v":-0.27195392300411453},null,{"$f":"N10","v":1122},{"$f":"COUNTIF(L76:L89,AS10)","v":0},{"$f":"AT10/(AV4-AT20)","v":0},{"$f":"IF(AU10=0,0,(AU10*((LOG(AU10))/LOG(2))))","v":0}]
[21,544,21,548,22,558,23,566,null,null,0,2222,null,1211,{"$f":"COUNTIF($L$7:$L$500,N11)","v":0},{"$f":"O11/$Q$4","v":0},{"$f":"IF(P11=0,0,(P11*((LOG(P11))/LOG(2))))","v":0},null,null,{"$f":"N11","v":1211},{"$f":"COUNTIF(L7:L20,T11)","v":0},{"$f":"U11/(W4-U20)","v":0},{"$f":"IF(V11=0,0,(V11*((LOG(V11))/LOG(2))))","v":0},null,{"$f":"N11","v":1211},{"$f":"COUNTIF(L21:L34,Y11)","v":0},{"$f":"Z11/(AB4-Z20)","v":0},{"$f":"IF(AA11=0,0,(AA11*((LOG(AA11))/LOG(2))))","v":0},null,{"$f":"N11","v":1211},{"$f":"COUNTIF(L35:L47,AD11)","v":0},{"$f":"AE11/(AG4-AE20)","v":0},{"$f":"IF(AF11=0,0,(AF11*((LOG(AF11))/LOG(2))))","v":0},null,{"$f":"N11","v":1211},{"$f":"COUNTIF(L48:L61,AI11)","v":0},{"$f":"AJ11/(AL4-AJ20)","v":0},{"$f":"IF(AK11=0,0,(AK11*((LOG(AK11))/LOG(2))))","v":0},null,{"$f":"N11","v":1211},{"$f":"COUNTIF(L62:L75,AN11)","v":0},{"$f":"AO11/(AQ4-AO20)","v":0},{"$f":"IF(AP11=0,0,(AP11*((LOG(AP11))/LOG(2))))","v":0},null,{"$f":"N11","v":1211},{"$f":"COUNTIF(L76:L89,AS11)","v":0},{"$f":"AT11/(AV4-AT20)","v":0},{"$f":"IF(AU11=0,0,(AU11*((LOG(AU11))/LOG(2))))","v":0}]
[21,681,21,695,22,700,23,711,null,null,0,2222,null,1212,{"$f":"COUNTIF($L$7:$L$500,N12)","v":0},{"$f":"O12/$Q$4","v":0},{"$f":"IF(P12=0,0,(P12*((LOG(P12))/LOG(2))))","v":0},null,null,{"$f":"N12","v":1212},{"$f":"COUNTIF(L7:L20,T12)","v":0},{"$f":"U12/(W4-U20)","v":0},{"$f":"IF(V12=0,0,(V12*((LOG(V12))/LOG(2))))","v":0},null,{"$f":"N12","v":1212},{"$f":"COUNTIF(L21:L34,Y12)","v":0},{"$f":"Z12/(AB4-Z20)","v":0},{"$f":"IF(AA12=0,0,(AA12*((LOG(AA12))/LOG(2))))","v":0},null,{"$f":"N12","v":1212},{"$f":"COUNTIF(L35:L47,AD12)","v":0},{"$f":"AE12/(AG4-AE20)","v":0},{"$f":"IF(AF12=0,0,(AF12*((LOG(AF12))/LOG(2))))","v":0},null,{"$f":"N12","v":1212},{"$f":"COUNTIF(L48:L61,AI12)","v":0},{"$f":"AJ12/(AL4-AJ20)","v":0},{"$f":"IF(AK12=0,0,(AK12*((LOG(AK12))/LOG(2))))","v":0},null,{"$f":"N12","v":1212},{"$f":"COUNTIF(L62:L75,AN12)","v":0},{"$f":"AO12/(AQ4-AO20)","v":0},{"$f":"IF(AP12=0,0,(AP12*((LOG(AP12))/LOG(2))))","v":0},null,{"$f":"N12","v":1212},{"$f":"COUNTIF(L76:L89,AS12)","v":0},{"$f":"AT12/(AV4-AT20)","v":0},{"$f":"IF(AU12=0,0,(AU12*((LOG(AU12))/LOG(2))))","v":0}]
[21,807,21,822,22,830,23,837,null,null,0,2222,null,1221,{"$f":"COUNTIF($L$7:$L$500,N13)","v":1},{"$f":"O13/$Q$4","v":1.2048192771084338E-2},{"$f":"IF(P13=0,0,(P13*((LOG(P13))/LOG(2))))","v":-7.6807703992131618E-2},null,null,{"$f":"N13","v":1221},{"$f":"COUNTIF(L7:L20,T13)","v":0},{"$f":"U13/(W4-U20)","v":0},{"$f":"IF(V13=0,0,(V13*((LOG(V13))/LOG(2))))","v":0},null,{"$f":"N13","v":1221},{"$f":"COUNTIF(L21:L34,Y13)","v":0},{"$f":"Z13/(AB4-Z20)","v":0},{"$f":"IF(AA13=0,0,(AA13*((LOG(AA13))/LOG(2))))","v":0},null,{"$f":"N13","v":1221},{"$f":"COUNTIF(L35:L47,AD13)","v":0},{"$f":"AE13/(AG4-AE20)","v":0},{"$f":"IF(AF13=0,0,(AF13*((LOG(AF13))/LOG(2))))","v":0},null,{"$f":"N13","v":1221},{"$f":"COUNTIF(L48:L61,AI13)","v":0},{"$f":"AJ13/(AL4-AJ20)","v":0},{"$f":"IF(AK13=0,0,(AK13*((LOG(AK13))/LOG(2))))","v":0},null,{"$f":"N13","v":1221},{"$f":"COUNTIF(L62:L75,AN13)","v":0},{"$f":"AO13/(AQ4-AO20)","v":0},{"$f":"IF(AP13=0,0,(AP13*((LOG(AP13))/LOG(2))))","v":0},null,{"$f":"N13","v":1221},{"$f":"COUNTIF(L76:L89,AS13)","v":1},{"$f":"AT13/(AV4-AT20)","v":7.1428571428571425E-2},{"$f":"IF(AU13=0,0,(AU13*((LOG(AU13))/LOG(2))))","v":-0.27195392300411453}]
[12,934,23,947,24,953,23,959,null,null,0,1222,null,1222,{"$f":"COUNTIF($L$7:$L$500,N14)","v":18},{"$f":"O14/$Q$4","v":0.21686746987951808},{"$f":"IF(P14=0,0,(P14*((LOG(P14))/LOG(2))))","v":-0.47821758720822921},null,null,{"$f":"N14","v":1222},{"$f":"COUNTIF(L7:L20,T14)","v":2},{"$f":"U14/(W4-U20)","v":0.15384615384615385},{"$f":"IF(V14=0,0,(V14*((LOG(V14))/LOG(2))))","v":-0.4154522643293988},null,{"$f":"N14","v":1222},{"$f":"COUNTIF(L21:L34,Y14)","v":2},{"$f":"Z14/(AB4-Z20)","v":0.14285714285714285},{"$f":"IF(AA14=0,0,(AA14*((LOG(AA14))/LOG(2))))","v":-0.40105070315108626},null,{"$f":"N14","v":1222},{"$f":"COUNTIF(L35:L47,AD14)","v":3},{"$f":"AE14/(AG4-AE20)","v":0.23076923076923078},{"$f":"IF(AF14=0,0,(AF14*((LOG(AF14))/LOG(2))))","v":-0.48818705017383146},null,{"$f":"N14","v":1222},{"$f":"COUNTIF(L48:L61,AI14)","v":2},{"$f":"AJ14/(AL4-AJ20)","v":0.14285714285714285},{"$f":"IF(AK14=0,0,(AK14*((LOG(AK14))/LOG(2))))","v":-0.40105070315108626},null,{"$f":"N14","v":1222},{"$f":"COUNTIF(L62:L75,AN14)","v":3},{"$f":"AO14/(AQ4-AO20)","v":0.21428571428571427},{"$f":"IF(AP14=0,0,(AP14*((LOG(AP14))/LOG(2))))","v":-0.47622694742923877},null,{"$f":"N14","v":1222},{"$f":"COUNTIF(L76:L89,AS14)","v":6},{"$f":"AT14/(AV4-AT20)","v":0.42857142857142855},{"$f":"IF(AU14=0,0,(AU14*((LOG(AU14))/LOG(2))))","v":-0.52388246628704915}]
[12,1056,23,1064,24,1068,23,1074,null,null,0,1222,null,2111,{"$f":"COUNTIF($L$7:$L$500,N15)","v":0},{"$f":"O15/$Q$4","v":0},{"$f":"IF(P15=0,0,(P15*((LOG(P15))/LOG(2))))","v":0},null,null,{"$f":"N15","v":2111},{"$f":"COUNTIF(L7:L20,T15)","v":0},{"$f":"U15/(W4-U20)","v":0},{"$f":"IF(V15=0,0,(V15*((LOG(V15))/LOG(2))))","v":0},null,{"$f":"N15","v":2111},{"$f":"COUNTIF(L21:L34,Y15)","v":0},{"$f":"Z15/(AB4-Z20)","v":0},{"$f":"IF(AA15=0,0,(AA15*((LOG(AA15))/LOG(2))))","v":0},null,{"$f":"N15","v":2111},{"$f":"COUNTIF(L35:L47,AD15)","v":0},{"$f":"AE15/(AG4-AE20)","v":0},{"$f":"IF(AF15=0,0,(AF15*((LOG(AF15))/LOG(2))))","v":0},null,{"$f":"N15","v":2111},{"$f":"COUNTIF(L48:L61,AI15)","v":0},{"$f":"AJ15/(AL4-AJ20)","v":0},{"$f":"IF(AK15=0,0,(AK15*((LOG(AK15))/LOG(2))))","v":0},null,{"$f":"N15","v":2111},{"$f":"COUNTIF(L62:L75,AN15)","v":0},{"$f":"AO15/(AQ4-AO20)","v":0},{"$f":"IF(AP15=0,0,(AP15*((LOG(AP15))/LOG(2))))","v":0},null,{"$f":"N15","v":2111},{"$f":"COUNTIF(L76:L89,AS15)","v":0},{"$f":"AT15/(AV4-AT20)","v":0},{"$f":"IF(AU15=0,0,(AU15*((LOG(AU15))/LOG(2))))","v":0}]
[21,1190,21,1194,22,1201,23,1208,null,null,0,2222,null,2112,{"$f":"COUNTIF($L$7:$L$500,N16)","v":3},{"$f":"O16/$Q$4","v":3.614457831325301E-2},{"$f":"IF(P16=0,0,(P16*((LOG(P16))/LOG(2))))","v":-0.17313531074550972},null,null,{"$f":"N16","v":2112},{"$f":"COUNTIF(L7:L20,T16)","v":0},{"$f":"U16/(W4-U20)","v":0},{"$f":"IF(V16=0,0,(V16*((LOG(V16))/LOG(2))))","v":0},null,{"$f":"N16","v":2112},{"$f":"COUNTIF(L21:L34,Y16)","v":0},{"$f":"Z16/(AB4-Z20)","v":0},{"$f":"IF(AA16=0,0,(AA16*((LOG(AA16))/LOG(2))))","v":0},null,{"$f":"N16","v":2112},{"$f":"COUNTIF(L35:L47,AD16)","v":0},{"$f":"AE16/(AG4-AE20)","v":0},{"$f":"IF(AF16=0,0,(AF16*((LOG(AF16))/LOG(2))))","v":0},null,{"$f":"N16","v":2112},{"$f":"COUNTIF(L48:L61,AI16)","v":0},{"$f":"AJ16/(AL4-AJ20)","v":0},{"$f":"IF(AK16=0,0,(AK16*((LOG(AK16))/LOG(2))))","v":0},null,{"$f":"N16","v":2112},{"$f":"COUNTIF(L62:L75,AN16)","v":2},{"$f":"AO16/(AQ4-AO20)","v":0.14285714285714285},{"$f":"IF(AP16=0,0,(AP16*((LOG(AP16))/LOG(2))))","v":-0.40105070315108626},null,{"$f":"N16","v":2112},{"$f":"COUNTIF(L76:L89,AS16)","v":1},{"$f":"AT16/(AV4-AT20)","v":7.1428571428571425E-2},{"$f":"IF(AU16=0,0,(AU16*((LOG(AU16))/LOG(2))))","v":-0.27195392300411453}]
[21,1316,12,1332,24,1340,23,1344,null,null,0,2122,null,2121,{"$f":"COUNTIF($L$7:$L$500,N17)","v":0},{"$f":"O17/$Q$4","v":0},{"$f":"IF(P17=0,0,(P17*((LOG(P17))/LOG(2))))","v":0},null,null,{"$f":"N17","v":2121},{"$f":"COUNTIF(L7:L20,T17)","v":0},{"$f":"U17/(W4-U20)","v":0},{"$f":"IF(V17=0,0,(V17*((LOG(V17))/LOG(2))))","v":0},null,{"$f":"N17","v":2121},{"$f":"COUNTIF(L21:L34,Y17)","v":0},{"$f":"Z17/(AB4-Z20)","v":0},{"$f":"IF(AA17=0,0,(AA17*((LOG(AA17))/LOG(2))))","v":0},null,{"$f":"N17","v":2121},{"$f":"COUNTIF(L35:L47,AD17)","v":0},{"$f":"AE17/(AG4-AE20)","v":0},{"$f":"IF(AF17=0,0,(AF17*((LOG(AF17))/LOG(2))))","v":0},null,{"$f":"N17","v":2121},{"$f":"COUNTIF(L48:L61,AI17)","v":0},{"$f":"AJ17/(AL4-AJ20)","v":0},{"$f":"IF(AK17=0,0,(AK17*((LOG(AK17))/LOG(2))))","v":0},null,{"$f":"N17","v":2121},{"$f":"COUNTIF(L62:L75,AN17)","v":0},{"$f":"AO17/(AQ4-AO20)","v":0},{"$f":"IF(AP17=0,0,(AP17*((LOG(AP17))/LOG(2))))","v":0},null,{"$f":"N17","v":2121},{"$f":"COUNTIF(L76:L89,AS17)","v":0},{"$f":"AT17/(AV4-AT20)","v":0},{"$f":"IF(AU17=0,0,(AU17*((LOG(AU17))/LOG(2))))","v":0}]
[21,1473,21,1479,22,1483,23,1488,null,null,0,2222,null,2122,{"$f":"COUNTIF($L$7:$L$500,N18)","v":1},{"$f":"O18/$Q$4","v":1.2048192771084338E-2},{"$f":"IF(P18=0,0,(P18*((LOG(P18))/LOG(2))))","v":-7.6807703992131618E-2},null,null,{"$f":"N18","v":2122},{"$f":"COUNTIF(L7:L20,T18)","v":1},{"$f":"U18/(W4-U20)","v":7.6923076923076927E-2},{"$f":"IF(V18=0,0,(V18*((LOG(V18))/LOG(2))))","v":-0.28464920908777636},null,{"$f":"N18","v":2122},{"$f":"COUNTIF(L21:L34,Y18)","v":0},{"$f":"Z18/(AB4-Z20)","v":0},{"$f":"IF(AA18=0,0,(AA18*((LOG(AA18))/LOG(2))))","v":0},null,{"$f":"N18","v":2122},{"$f":"COUNTIF(L35:L47,AD18)","v":0},{"$f":"AE18/(AG4-AE20)","v":0},{"$f":"IF(AF18=0,0,(AF18*((LOG(AF18))/LOG(2))))","v":0},null,{"$f":"N18","v":2122},{"$f":"COUNTIF(L48:L61,AI18)","v":0},{"$f":"AJ18/(AL4-AJ20)","v":0},{"$f":"IF(AK18=0,0,(AK18*((LOG(AK18))/LOG(2))))","v":0},null,{"$f":"N18","v":2122},{"$f":"COUNTIF(L62:L75,AN18)","v":0},{"$f":"AO18/(AQ4-AO20)","v":0},{"$f":"IF(AP18=0,0,(AP18*((LOG(AP18))/LOG(2))))","v":0},null,{"$f":"N18","v":2122},{"$f":"COUNTIF(L76:L89,AS18)","v":0},{"$f":"AT18/(AV4-AT20)","v":0},{"$f":"IF(AU18=0,0,(AU18*((LOG(AU18))/LOG(2))))","v":0}]
[12,1598,14,1605,24,1613,23,1624,null,null,0,1122,null,2211,{"$f":"COUNTIF($L$7:$L$500,N19)","v":0},{"$f":"O19/$Q$4","v":0},{"$f":"IF(P19=0,0,(P19*((LOG(P19))/LOG(2))))","v":0},null,null,{"$f":"N19","v":2211},{"$f":"COUNTIF(L7:L20,T19)","v":0},{"$f":"U19/(W4-U20)","v":0},{"$f":"IF(V19=0,0,(V19*((LOG(V19))/LOG(2))))","v":0},null,{"$f":"N19","v":2211},{"$f":"COUNTIF(L21:L34,Y19)","v":0},{"$f":"Z19/(AB4-Z20)","v":0},{"$f":"IF(AA19=0,0,(AA19*((LOG(AA19))/LOG(2))))","v":0},null,{"$f":"N19","v":2211},{"$f":"COUNTIF(L35:L47,AD19)","v":0},{"$f":"AE19/(AG4-AE20)","v":0},{"$f":"IF(AF19=0,0,(AF19*((LOG(AF19))/LOG(2))))","v":0},null,{"$f":"N19","v":2211},{"$f":"COUNTIF(L48:L61,AI19)","v":0},{"$f":"AJ19/(AL4-AJ20)","v":0},{"$f":"IF(AK19=0,0,(AK19*((LOG(AK19))/LOG(2))))","v":0},null,{"$f":"N19","v":2211},{"$f":"COUNTIF(L62:L75,AN19)","v":0},{"$f":"AO19/(AQ4-AO20)","v":0},{"$f":"IF(AP19=0,0,(AP19*((LOG(AP19))/LOG(2))))","v":0},null,{"$f":"N19","v":2211},{"$f":"COUNTIF(L76:L89,AS19)","v":0},{"$f":"AT19/(AV4-AT20)","v":0},{"$f":"IF(AU19=0,0,(AU19*((LOG(AU19))/LOG(2))))","v":0}]
[12,1721,14,1724,24,1732,23,1736,null,null,0,1122,null,2212,{"$f":"COUNTIF($L$7:$L$500,N20)","v":1},{"$f":"O20/$Q$4","v":1.2048192771084338E-2},{"$f":"IF(P20=0,0,(P20*((LOG(P20))/LOG(2))))","v":-7.6807703992131618E-2},null,null,{"$f":"N20","v":2212},{"$f":"COUNTIF(L7:L20,T20)","v":1},null,null,null,{"$f":"N20","v":2212},{"$f":"COUNTIF(L21:L34,Y20)","v":0},null,null,null,{"$f":"N20","v":2212},{"$f":"COUNTIF(L35:L47,AD20)","v":0},null,null,null,{"$f":"N20","v":2212},{"$f":"COUNTIF(L48:L61,AI20)","v":0},null,null,null,{"$f":"N20","v":2212},{"$f":"COUNTIF(L62:L75,AN20)","v":0},null,null,null,{"$f":"N20","v":2212},{"$f":"COUNTIF(L76:L89,AS20)","v":0}]
[12,1831,14,1839,24,1847,23,1859,null,null,0,1122,null,2221,{"$f":"COUNTIF($L$7:$L$500,N21)","v":0},{"$f":"O21/$Q$4","v":0},{"$f":"IF(P21=0,0,(P21*((LOG(P21))/LOG(2))))","v":0},null,null,{"$f":"N21","v":2221},{"$f":"COUNTIF(L7:L20,T21)","v":0},{"$f":"U21/(W4-U20)","v":0},{"$f":"IF(V21=0,0,(V21*((LOG(V21))/LOG(2))))","v":0},null,{"$f":"N21","v":2221},{"$f":"COUNTIF(L21:L34,Y21)","v":0},{"$f":"Z21/(AB4-Z20)","v":0},{"$f":"IF(AA21=0,0,(AA21*((LOG(AA21))/LOG(2))))","v":0},null,{"$f":"N21","v":2221},{"$f":"COUNTIF(L35:L47,AD21)","v":0},{"$f":"AE21/(AG4-AE20)","v":0},{"$f":"IF(AF21=0,0,(AF21*((LOG(AF21))/LOG(2))))","v":0},null,{"$f":"N21","v":2221},{"$f":"COUNTIF(L48:L61,AI21)","v":0},{"$f":"AJ21/(AL4-AJ20)","v":0},{"$f":"IF(AK21=0,0,(AK21*((LOG(AK21))/LOG(2))))","v":0},null,{"$f":"N21","v":2221},{"$f":"COUNTIF(L62:L75,AN21)","v":0},{"$f":"AO21/(AQ4-AO20)","v":0},{"$f":"IF(AP21=0,0,(AP21*((LOG(AP21))/LOG(2))))","v":0},null,{"$f":"N21","v":2221},{"$f":"COUNTIF(L76:L89,AS21)","v":0},{"$f":"AT21/(AV4-AT20)","v":0},{"$f":"IF(AU21=0,0,(AU21*((LOG(AU21))/LOG(2))))","v":0}]
[12,1963,14,1969,24,1977,23,1980,null,null,0,1122,null,2222,{"$f":"COUNTIF($L$7:$L$500,N22)","v":23},{"$f":"O22/$Q$4","v":0.27710843373493976},{"$f":"IF(P22=0,0,(P22*((LOG(P22))/LOG(2))))","v":-0.51306002327310818},null,null,{"$f":"N22","v":2222},{"$f":"COUNTIF(L7:L20,T22)","v":8},{"$f":"U22/(W4-U20)","v":0.61538461538461542},{"$f":"IF(V22=0,0,(V22*((LOG(V22))/LOG(2))))","v":-0.43103982654836437},null,{"$f":"N22","v":2222},{"$f":"COUNTIF(L21:L34,Y22)","v":0},{"$f":"Z22/(AB4-Z20)","v":0},{"$f":"IF(AA22=0,0,(AA22*((LOG(AA22))/LOG(2))))","v":0},null,{"$f":"N22","v":2222},{"$f":"COUNTIF(L35:L47,AD22)","v":0},{"$f":"AE22/(AG4-AE20)","v":0},{"$f":"IF(AF22=0,0,(AF22*((LOG(AF22))/LOG(2))))","v":0},null,{"$f":"N22","v":2222},{"$f":"COUNTIF(L48:L61,AI22)","v":1},{"$f":"AJ22/(AL4-AJ20)","v":7.1428571428571425E-2},{"$f":"IF(AK22=0,0,(AK22*((LOG(AK22))/LOG(2))))","v":-0.27195392300411453},null,{"$f":"N22","v":2222},{"$f":"COUNTIF(L62:L75,AN22)","v":8},{"$f":"AO22/(AQ4-AO20)","v":0.5714285714285714},{"$f":"IF(AP22=0,0,(AP22*((LOG(AP22))/LOG(2))))","v":-0.46134566974720237},null,{"$f":"N22","v":2222},{"$f":"COUNTIF(L76:L89,AS22)","v":6},{"$f":"AT22/(AV4-AT20)","v":0.42857142857142855},{"$f":"IF(AU22=0,0,(AU22*((LOG(AU22))/LOG(2))))","v":-0.52388246628704915}]
[12,2075,14,2081,13,2085,23,2093,null,null,0,1112,null,null,null,{"$f":"SUM(P7:P22)","v":1},{"$f":"-SUM(Q7:Q22)","v":2.5213591600525107},null,null,null,null,{"$f":"SUM(V7:V22)","v":1},{"$f":"-SUM(W7:W22)","v":1.5465935642949382},null,null,null,{"$f":"SUM(AA7:AA22)","v":1},{"$f":"-SUM(AB7:AB22)","v":1.4315602842833157},null,null,null,{"$f":"SUM(AF7:AF22)","v":1},{"$f":"-SUM(AG7:AG22)","v":1.7758589482446405},null,null,null,{"$f":"SUM(AK7:AK22)","v":1},{"$f":"-SUM(AL7:AL22)","v":2.0059777114237738},null,null,null,{"$f":"SUM(AP7:AP22)","v":1},{"$f":"-SUM(AQ7:AQ22)","v":1.6105772433316417},null,null,null,{"$f":"SUM(AU7:AU22)","v":1},{"$f":"-SUM(AV7:AV22)","v":1.5916727785823275}]
[12,2189,23,2206,24,2219,23,2228,null,null,0,1222,null,null,null,"U=",{"$f":"Q23/(LOG(Q4)/LOG(2))","v":0.3955048729039462},null,null,null,null,"U1=",{"$f":"W23/(LOG(W4)/LOG(2))","v":0.40621208055358149},null,null,null,"U2=",{"$f":"AB23/(LOG(AB4)/LOG(2))","v":0.37599864304472552},null,null,null,"U3=",{"$f":"AG23/(LOG(AG4)/LOG(2))","v":0.47990484469687278},null,null,null,"U4=",{"$f":"AL23/(LOG(AL4)/LOG(2))","v":0.52686911320042784},null,null,null,"U5=",{"$f":"AQ23/(LOG(AQ4)/LOG(2))","v":0.42301736410254065},null,null,null,"U6=",{"$f":"AV23/(LOG(AV4)/LOG(2))","v":0.41805211522600627}]
[12,2330,14,2337,24,2346,23,2356,null,null,0,1122]
[12,2462,14,2464,24,2485,23,2497,null,null,0,1122]
[12,2592,14,2597,13,2608,23,2647,null,null,0,1112,null,"Total Target Seq"]
[12,2744,23,2758,24,2770,23,2777,null,null,0,1222,null,{"$f":"COUNTIF(L7:L89,G3)","v":1},null,14,14,13,14,14,14]
[12,2872,14,2881,24,2888,23,2891,null,null,0,1122,null,null,null,"% of reinforcement given in 6 equal intervals based on number of trials "]
[12,2987,14,2992,13,2996,23,3004,null,null,0,1112,null,null,null,"%_1","%_2","%_3","%_4","%_5","%_6"]
[12,3174,14,3178,24,3187,23,3191,null,null,0,1122,null,null,"target sequence",{"$f":"$G$3","v":2212},{"$f":"$G$3","v":2212},{"$f":"$G$3","v":2212},{"$f":"$G$3","v":2212},{"$f":"$G$3","v":2212},{"$f":"$G$3","v":2212}]
[12,3289,14,3295,13,3300,23,3308,null,null,0,1112,null,null,"total reinforcement",{"$f":"U20","v":1},{"$f":"Z20","v":0},{"$f":"AE20","v":0},{"$f":"AJ20","v":0},{"$f":"AO20","v":0},{"$f":"AT20","v":0}]
[12,3403,14,3408,24,3417,23,3421,null,null,0,1122,null,null,"% target"]
[12,3518,14,3521,13,3526,23,3536,null,null,0,1112,null,null,"CCRF"]
[12,3632,14,3636,13,3644,23,3652,null,null,0,1112,null,null,"% CCRf"]
[12,3748,14,3761,13,3766,14,3772,null,null,0,1111,null,null,"average response rate",{"$f":"H20/P28","v":124},{"$f":"(H34-H20)/Q28","v":128.57142857142858},{"$f":"(H47-H34)/R28","v":129.23076923076923},{"$f":"(H61-H47)/S28","v":138.21428571428572},{"$f":"(H75-H61)/T28","v":331.21428571428572},{"$f":"(H89-H75)/U28","v":574.14285714285711}]
[12,3871,23,3881,24,3884,23,3890,null,null,0,1222]
[12,3985,14,3990,13,3994,14,3998,null,null,0,1111]
[12,4100,23,4115,24,4120,23,4126,null,null,0,1222]
[12,4333,14,4340,13,4346,23,4360,null,null,0,1112]
[12,4456,14,4464,13,4468,23,4477,null,null,0,1112]
[12,4574,14,4578,13,4584,23,4593,null,null,0,1112]
[12,4694,14,4699,13,4708,14,4716,null,null,0,1111]
[12,4830,23,4848,24,4854,23,4861,null,null,0,1222]
[12,4955,14,4962,13,4975,23,4983,null,null,0,1112]
[12,5082,14,5089,24,5098,23,5103,null,null,0,1122]
[12,5200,14,5203,13,5208,23,5216,null,null,0,1112]
[12,5323,14,5327,24,5335,23,5338,null,null,0,1122]
[12,5434,14,5443,24,5451,23,5464,null,null,0,1122]
[12,5561,14,5567,24,5576,23,5579,null,null,0,1122]
[12,5673,14,5679,13,5691,23,5700,null,null,0,1112]
[21,5812,21,5816,22,5822,23,5828,null,null,0,2222]
[12,5925,14,5931,24,5939,23,5942,null,null,0,1122]
[12,6080,14,6085,13,6087,14,6092,null,null,0,1111]
[12,6188,14,6192,13,6197,23,6205,null,null,0,1112]
[12,6505,14,6509,13,6513,23,6531,null,null,0,1112]
[12,6640,14,6644,13,6649,23,6662,null,null,0,1112]
[12,6774,14,6778,13,6785,23,6793,null,null,0,1112]
[12,6890,14,6898,24,6906,23,6910,null,null,0,1122]
[12,7009,23,7021,24,7025,23,7031,null,null,0,1222]
[12,7127,23,7140,24,7145,23,7151,null,null,0,1222]
[12,7252,23,7266,24,7271,23,7277,null,null,0,1222]
[21,7376,21,7383,22,7387,23,7397,null,null,0,2222]
[21,7512,12,7519,13,7523,23,7536,null,null,0,2112]
[21,7705,21,7711,22,7720,23,7725,null,null,0,2222]
[21,7854,12,7863,13,7866,23,7875,null,null,0,2112]
[21,8009,21,8017,22,8023,23,8029,null,null,0,2222]
[12,8129,14,8132,24,8140,23,8144,null,null,0,1122]
[12,8247,23,8262,24,8265,23,8269,null,null,0,1222]
[21,8415,21,8420,22,8431,23,8434,null,null,0,2222]
[12,10634,23,10647,24,10872,23,10876,null,null,0,1222]
[21,11408,21,11412,22,11420,23,11424,null,null,0,2222]
[21,11542,21,11544,22,11550,23,11555,null,null,0,2222]
[21,11658,21,11663,22,11667,23,11673,null,null,0,2222]
[21,11774,21,11779,22,11784,23,11788,null,null,0,2222]
[21,11894,21,11899,22,11906,23,11912,null,null,0,2222]
[21,12012,21,12016,22,12025,23,12031,null,null,0,2222]
[21,12128,21,12132,22,12137,23,12142,null,null,0,2222]
[21,12257,21,12262,22,12265,23,12269,null,null,0,2222]
[21,12381,21,12386,22,12392,23,12397,null,null,0,2222]
[12,14211,23,14225,24,14227,23,14233,null,null,0,1222]
[21,14442,12,14455,13,14461,23,14474,null,null,0,2112]
[21,14799,21,14800,22,14805,23,14810,null,null,0,2222]
[12,15070,23,15079,24,15084,23,15090,null,null,0,1222]
[12,15872,23,15876,24,16235,23,16242,null,null,0,1222]
[12,18139,23,18150,24,18154,23,18159,null,null,0,1222]
[12,19180,23,19188,24,19192,23,19198,null,null,0,1222]
[12,19369,23,19380,24,19385,23,19390,null,null,0,1222]
[12,19568,23,19579,24,19583,14,19826,null,null,0,1221]

{"sheet":"!LB13A24..Is","index":6,"n_rows":140,"n_cols":48,"rows_kept":140,"cut":false,"hidden":false,"merged":[[4,39,4,42],[5,39,5,40],[4,44,4,47],[5,44,5,45],[4,24,4,27],[5,24,5,25],[4,29,4,32],[5,29,5,30],[4,34,4,37],[5,34,5,35],[1,1,1,2],[5,13,5,14],[26,13,26,14],[27,13,27,14],[4,19,4,22],[5,19,5,20]]}
["Report for:!LB13A24..Is"]
["Date:","<date>"]
["Hen:","<hen>",null,null,null,"Correct Sequence",{"$f":"Start!J2","v":2212},null,null,null,null,null,null,null,null,"Total Sequences in Data",{"$f":"4994-COUNTBLANK(L7:L5000)","v":134},null,null,null,null,"Total Sequences in Block Data",{"$f":"COUNTA(L7:L28)","v":22},null,null,null,"Total Sequences in Block Data",{"$f":"COUNTA(L29:L51)","v":23},null,null,null,"Total Sequences in Block Data",{"$f":"COUNTA(L52:L73)","v":22},null,null,null,"Total Sequences in Block Data",{"$f":"COUNTA(L74:L95)","v":22},null,null,null,"Total Sequences in Block Data",{"$f":"COUNTA(L96:L118)","v":23},null,null,null,"Total Sequences in Block Data",{"$f":"COUNTA(L119:L140)","v":22}]
[null,null,null,null,null,null,null,null,null,null,null,null,null,null,null,"Total Sequences in Summary",{"$f":"SUM(O7:O22)","v":134},null,null,null,null,"Total Sequences in Block Summary",{"$f":"SUM(U7:U22)","v":22},null,null,null,"Total Sequences in Block Summary",{"$f":"SUM(Z7:Z22)","v":23},null,null,null,"Total Sequences in Block Summary",{"$f":"SUM(AE7:AE22)","v":22},null,null,null,"Total Sequences in Block Summary",{"$f":"SUM(AJ7:AJ22)","v":22},null,null,null,"Total Sequences in Block Summary",{"$f":"SUM(AO7:AO22)","v":23},null,null,null,"Total Sequences in Block Summary",{"$f":"SUM(AT7:AT22)","v":22}]
[null,null,null,null,null,null,null,null,null,null,null,null,null,null,null,null,null,null,null,"Block 1",null,null,null,null,"Block 2",null,null,null,null,"Block 3",null,null,null,null,"Block 4",null,null,null,null,"Block 5",null,null,null,null,"Block 6"]
["Sequence\nComponent\n1","Time\n1","Sequence\nComponent\n2","Time\n2","Sequence\nComponent\n3","Time\n3","Sequence\nComponent\n4","Time\n4","Sequence\nComponent\n5","Time\n5","Correct?\n0=No 1=Yes","Sequence",null,"Frequency",null,"Relative Frequency","Variability",null,null,"Frequency",null,"Relative Frequency","Variability",null,"Frequency",null,"Relative Frequency","Variability",null,"Frequency",null,"Relative Frequency","Variability",null,"Frequency",null,"Relative Frequency","Variability",null,"Frequency",null,"Relative Frequency","Variability",null,"Frequency",null,"Relative Frequency","Variability"]
[21,33,21,37,22,43,23,50,null,null,0,2222,null,1111,{"$f":"COUNTIF($L$7:$L$500,N7)","v":9},{"$f":"O7/$Q$4","v":6.7164179104477612E-2},{"$f":"IF(P7=0,0,(P7*((LOG(P7))/LOG(2))))","v":-0.2616826694114861},null,null,{"$f":"N7","v":1111},{"$f":"COUNTIF(L7:L28,T7)","v":0},{"$f":"U7/(W4-U20)","v":0},{"$f":"IF(V7=0,0,(V7*((LOG(V7))/LOG(2))))","v":0},null,{"$f":"N7","v":1111},{"$f":"COUNTIF(L29:L51,Y7)","v":3},{"$f":"Z7/(AB4-Z20)","v":0.13043478260869565},{"$f":"IF(AA7=0,0,(AA7*((LOG(AA7))/LOG(2))))","v":-0.3832955811307639},null,{"$f":"N7","v":1111},{"$f":"COUNTIF(L52:L73,AD7)","v":2},{"$f":"AE7/(AG4-AE20)","v":0.1},{"$f":"IF(AF7=0,0,(AF7*((LOG(AF7))/LOG(2))))","v":-0.33219280948873625},null,{"$f":"N7","v":1111},{"$f":"COUNTIF(L74:L95,AI7)","v":2},{"$f":"AJ7/(AL4-AJ20)","v":9.0909090909090912E-2},{"$f":"IF(AK7=0,0,(AK7*((LOG(AK7))/LOG(2))))","v":-0.31449378351248153},null,{"$f":"N7","v":1111},{"$f":"COUNTIF(L96:L118,AN7)","v":2},{"$f":"AO7/(AQ4-AO20)","v":8.6956521739130432E-2},{"$f":"IF(AP7=0,0,(AP7*((LOG(AP7))/LOG(2))))","v":-0.30639669183104457},null,{"$f":"N7","v":1111},{"$f":"COUNTIF(L119:L140,AS7)","v":0},{"$f":"AT7/(AV4-AT20)","v":0},{"$f":"IF(AU7=0,0,(AU7*((LOG(AU7))/LOG(2))))","v":0}]
[21,146,21,163,22,166,14,189,null,null,0,2221,null,1112,{"$f":"COUNTIF($L$7:$L$500,N8)","v":28},{"$f":"O8/$Q$4","v":0.20895522388059701},{"$f":"IF(P8=0,0,(P8*((LOG(P8))/LOG(2))))","v":-0.47197432474033368},null,null,{"$f":"N8","v":1112},{"$f":"COUNTIF(L7:L28,T8)","v":1},{"$f":"U8/(W4-U20)","v":4.5454545454545456E-2},{"$f":"IF(V8=0,0,(V8*((LOG(V8))/LOG(2))))","v":-0.20270143721078623},null,{"$f":"N8","v":1112},{"$f":"COUNTIF(L29:L51,Y8)","v":4},{"$f":"Z8/(AB4-Z20)","v":0.17391304347826086},{"$f":"IF(AA8=0,0,(AA8*((LOG(AA8))/LOG(2))))","v":-0.43888034018382832},null,{"$f":"N8","v":1112},{"$f":"COUNTIF(L52:L73,AD8)","v":2},{"$f":"AE8/(AG4-AE20)","v":0.1},{"$f":"IF(AF8=0,0,(AF8*((LOG(AF8))/LOG(2))))","v":-0.33219280948873625},null,{"$f":"N8","v":1112},{"$f":"COUNTIF(L74:L95,AI8)","v":9},{"$f":"AJ8/(AL4-AJ20)","v":0.40909090909090912},{"$f":"IF(AK8=0,0,(AK8*((LOG(AK8))/LOG(2))))","v":-0.52752543430703935},null,{"$f":"N8","v":1112},{"$f":"COUNTIF(L96:L118,AN8)","v":9},{"$f":"AO8/(AQ4-AO20)","v":0.39130434782608697},{"$f":"IF(AP8=0,0,(AP8*((LOG(AP8))/LOG(2))))","v":-0.5296840257187958},null,{"$f":"N8","v":1112},{"$f":"COUNTIF(L119:L140,AS8)","v":3},{"$f":"AT8/(AV4-AT20)","v":0.13636363636363635},{"$f":"IF(AU8=0,0,(AU8*((LOG(AU8))/LOG(2))))","v":-0.39197306153401923}]
[12,289,23,297,24,300,23,305,null,null,0,1222,null,1121,{"$f":"COUNTIF($L$7:$L$500,N9)","v":0},{"$f":"O9/$Q$4","v":0},{"$f":"IF(P9=0,0,(P9*((LOG(P9))/LOG(2))))","v":0},null,null,{"$f":"N9","v":1121},{"$f":"COUNTIF(L7:L28,T9)","v":0},{"$f":"U9/(W4-U20)","v":0},{"$f":"IF(V9=0,0,(V9*((LOG(V9))/LOG(2))))","v":0},null,{"$f":"N9","v":1121},{"$f":"COUNTIF(L29:L51,Y9)","v":0},{"$f":"Z9/(AB4-Z20)","v":0},{"$f":"IF(AA9=0,0,(AA9*((LOG(AA9))/LOG(2))))","v":0},null,{"$f":"N9","v":1121},{"$f":"COUNTIF(L52:L73,AD9)","v":0},{"$f":"AE9/(AG4-AE20)","v":0},{"$f":"IF(AF9=0,0,(AF9*((LOG(AF9))/LOG(2))))","v":0},null,{"$f":"N9","v":1121},{"$f":"COUNTIF(L74:L95,AI9)","v":0},{"$f":"AJ9/(AL4-AJ20)","v":0},{"$f":"IF(AK9=0,0,(AK9*((LOG(AK9))/LOG(2))))","v":0},null,{"$f":"N9","v":1121},{"$f":"COUNTIF(L96:L118,AN9)","v":0},{"$f":"AO9/(AQ4-AO20)","v":0},{"$f":"IF(AP9=0,0,(AP9*((LOG(AP9))/LOG(2))))","v":0},null,{"$f":"N9","v":1121},{"$f":"COUNTIF(L119:L140,AS9)","v":0},{"$f":"AT9/(AV4-AT20)","v":0},{"$f":"IF(AU9=0,0,(AU9*((LOG(AU9))/LOG(2))))","v":0}]
[12,403,23,412,24,416,23,422,null,null,0,1222,null,1122,{"$f":"COUNTIF($L$7:$L$500,N10)","v":49},{"$f":"O10/$Q$4","v":0.36567164179104478},{"$f":"IF(P10=0,0,(P10*((LOG(P10))/LOG(2))))","v":-0.5307282684386988},null,null,{"$f":"N10","v":1122},{"$f":"COUNTIF(L7:L28,T10)","v":10},{"$f":"U10/(W4-U20)","v":0.45454545454545453},{"$f":"IF(V10=0,0,(V10*((LOG(V10))/LOG(2))))","v":-0.51704705624997038},null,{"$f":"N10","v":1122},{"$f":"COUNTIF(L29:L51,Y10)","v":10},{"$f":"Z10/(AB4-Z20)","v":0.43478260869565216},{"$f":"IF(AA10=0,0,(AA10*((LOG(AA10))/LOG(2))))","v":-0.52244950485636987},null,{"$f":"N10","v":1122},{"$f":"COUNTIF(L52:L73,AD10)","v":7},{"$f":"AE10/(AG4-AE20)","v":0.35},{"$f":"IF(AF10=0,0,(AF10*((LOG(AF10))/LOG(2))))","v":-0.53010061049041535},null,{"$f":"N10","v":1122},{"$f":"COUNTIF(L74:L95,AI10)","v":8},{"$f":"AJ10/(AL4-AJ20)","v":0.36363636363636365},{"$f":"IF(AK10=0,0,(AK10*((LOG(AK10))/LOG(2))))","v":-0.53070240677719893},null,{"$f":"N10","v":1122},{"$f":"COUNTIF(L96:L118,AN10)","v":6},{"$f":"AO10/(AQ4-AO20)","v":0.2608695652173913},{"$f":"IF(AP10=0,0,(AP10*((LOG(AP10))/LOG(2))))","v":-0.50572159704413644},null,{"$f":"N10","v":1122},{"$f":"COUNTIF(L119:L140,AS10)","v":8},{"$f":"AT10/(AV4-AT20)","v":0.36363636363636365},{"$f":"IF(AU10=0,0,(AU10*((LOG(AU10))/LOG(2))))","v":-0.53070240677719893}]
[12,517,14,523,24,534,23,539,null,null,0,1122,null,1211,{"$f":"COUNTIF($L$7:$L$500,N11)","v":0},{"$f":"O11/$Q$4","v":0},{"$f":"IF(P11=0,0,(P11*((LOG(P11))/LOG(2))))","v":0},null,null,{"$f":"N11","v":1211},{"$f":"COUNTIF(L7:L28,T11)","v":0},{"$f":"U11/(W4-U20)","v":0},{"$f":"IF(V11=0,0,(V11*((LOG(V11))/LOG(2))))","v":0},null,{"$f":"N11","v":1211},{"$f":"COUNTIF(L29:L51,Y11)","v":0},{"$f":"Z11/(AB4-Z20)","v":0},{"$f":"IF(AA11=0,0,(AA11*((LOG(AA11))/LOG(2))))","v":0},null,{"$f":"N11","v":1211},{"$f":"COUNTIF(L52:L73,AD11)","v":0},{"$f":"AE11/(AG4-AE20)","v":0},{"$f":"IF(AF11=0,0,(AF11*((LOG(AF11))/LOG(2))))","v":0},null,{"$f":"N11","v":1211},{"$f":"COUNTIF(L74:L95,AI11)","v":0},{"$f":"AJ11/(AL4-AJ20)","v":0},{"$f":"IF(AK11=0,0,(AK11*((LOG(AK11))/LOG(2))))","v":0},null,{"$f":"N11","v":1211},{"$f":"COUNTIF(L96:L118,AN11)","v":0},{"$f":"AO11/(AQ4-AO20)","v":0},{"$f":"IF(AP11=0,0,(AP11*((LOG(AP11))/LOG(2))))","v":0},null,{"$f":"N11","v":1211},{"$f":"COUNTIF(L119:L140,AS11)","v":0},{"$f":"AT11/(AV4-AT20)","v":0},{"$f":"IF(AU11=0,0,(AU11*((LOG(AU11))/LOG(2))))","v":0}]
[12,634,23,644,24,648,23,654,null,null,0,1222,null,1212,{"$f":"COUNTIF($L$7:$L$500,N12)","v":1},{"$f":"O12/$Q$4","v":7.462686567164179E-3},{"$f":"IF(P12=0,0,(P12*((LOG(P12))/LOG(2))))","v":-5.2732008884013228E-2},null,null,{"$f":"N12","v":1212},{"$f":"COUNTIF(L7:L28,T12)","v":0},{"$f":"U12/(W4-U20)","v":0},{"$f":"IF(V12=0,0,(V12*((LOG(V12))/LOG(2))))","v":0},null,{"$f":"N12","v":1212},{"$f":"COUNTIF(L29:L51,Y12)","v":0},{"$f":"Z12/(AB4-Z20)","v":0},{"$f":"IF(AA12=0,0,(AA12*((LOG(AA12))/LOG(2))))","v":0},null,{"$f":"N12","v":1212},{"$f":"COUNTIF(L52:L73,AD12)","v":1},{"$f":"AE12/(AG4-AE20)","v":0.05},{"$f":"IF(AF12=0,0,(AF12*((LOG(AF12))/LOG(2))))","v":-0.21609640474436814},null,{"$f":"N12","v":1212},{"$f":"COUNTIF(L74:L95,AI12)","v":0},{"$f":"AJ12/(AL4-AJ20)","v":0},{"$f":"IF(AK12=0,0,(AK12*((LOG(AK12))/LOG(2))))","v":0},null,{"$f":"N12","v":1212},{"$f":"COUNTIF(L96:L118,AN12)","v":0},{"$f":"AO12/(AQ4-AO20)","v":0},{"$f":"IF(AP12=0,0,(AP12*((LOG(AP12))/LOG(2))))","v":0},null,{"$f":"N12","v":1212},{"$f":"COUNTIF(L119:L140,AS12)","v":0},{"$f":"AT12/(AV4-AT20)","v":0},{"$f":"IF(AU12=0,0,(AU12*((LOG(AU12))/LOG(2))))","v":0}]
[12,752,14,754,24,766,23,775,null,null,0,1122,null,1221,{"$f":"COUNTIF($L$7:$L$500,N13)","v":1},{"$f":"O13/$Q$4","v":7.462686567164179E-3},{"$f":"IF(P13=0,0,(P13*((LOG(P13))/LOG(2))))","v":-5.2732008884013228E-2},null,null,{"$f":"N13","v":1221},{"$f":"COUNTIF(L7:L28,T13)","v":0},{"$f":"U13/(W4-U20)","v":0},{"$f":"IF(V13=0,0,(V13*((LOG(V13))/LOG(2))))","v":0},null,{"$f":"N13","v":1221},{"$f":"COUNTIF(L29:L51,Y13)","v":0},{"$f":"Z13/(AB4-Z20)","v":0},{"$f":"IF(AA13=0,0,(AA13*((LOG(AA13))/LOG(2))))","v":0},null,{"$f":"N13","v":1221},{"$f":"COUNTIF(L52:L73,AD13)","v":1},{"$f":"AE13/(AG4-AE20)","v":0.05},{"$f":"IF(AF13=0,0,(AF13*((LOG(AF13))/LOG(2))))","v":-0.21609640474436814},null,{"$f":"N13","v":1221},{"$f":"COUNTIF(L74:L95,AI13)","v":0},{"$f":"AJ13/(AL4-AJ20)","v":0},{"$f":"IF(AK13=0,0,(AK13*((LOG(AK13))/LOG(2))))","v":0},null,{"$f":"N13","v":1221},{"$f":"COUNTIF(L96:L118,AN13)","v":0},{"$f":"AO13/(AQ4-AO20)","v":0},{"$f":"IF(AP13=0,0,(AP13*((LOG(AP13))/LOG(2))))","v":0},null,{"$f":"N13","v":1221},{"$f":"COUNTIF(L119:L140,AS13)","v":0},{"$f":"AT13/(AV4-AT20)","v":0},{"$f":"IF(AU13=0,0,(AU13*((LOG(AU13))/LOG(2))))","v":0}]
[12,870,14,874,24,882,23,900,null,null,0,1122,null,1222,{"$f":"COUNTIF($L$7:$L$500,N14)","v":29},{"$f":"O14/$Q$4","v":0.21641791044776118},{"$f":"IF(P14=0,0,(P14*((LOG(P14))/LOG(2))))","v":-0.47787416167593894},null,null,{"$f":"N14","v":1222},{"$f":"COUNTIF(L7:L28,T14)","v":8},{"$f":"U14/(W4-U20)","v":0.36363636363636365},{"$f":"IF(V14=0,0,(V14*((LOG(V14))/LOG(2))))","v":-0.53070240677719893},null,{"$f":"N14","v":1222},{"$f":"COUNTIF(L29:L51,Y14)","v":2},{"$f":"Z14/(AB4-Z20)","v":8.6956521739130432E-2},{"$f":"IF(AA14=0,0,(AA14*((LOG(AA14))/LOG(2))))","v":-0.30639669183104457},null,{"$f":"N14","v":1222},{"$f":"COUNTIF(L52:L73,AD14)","v":4},{"$f":"AE14/(AG4-AE20)","v":0.2},{"$f":"IF(AF14=0,0,(AF14*((LOG(AF14))/LOG(2))))","v":-0.46438561897747244},null,{"$f":"N14","v":1222},{"$f":"COUNTIF(L74:L95,AI14)","v":3},{"$f":"AJ14/(AL4-AJ20)","v":0.13636363636363635},{"$f":"IF(AK14=0,0,(AK14*((LOG(AK14))/LOG(2))))","v":-0.39197306153401923},null,{"$f":"N14","v":1222},{"$f":"COUNTIF(L96:L118,AN14)","v":4},{"$f":"AO14/(AQ4-AO20)","v":0.17391304347826086},{"$f":"IF(AP14=0,0,(AP14*((LOG(AP14))/LOG(2))))","v":-0.43888034018382832},null,{"$f":"N14","v":1222},{"$f":"COUNTIF(L119:L140,AS14)","v":8},{"$f":"AT14/(AV4-AT20)","v":0.36363636363636365},{"$f":"IF(AU14=0,0,(AU14*((LOG(AU14))/LOG(2))))","v":-0.53070240677719893}]
[12,997,14,1002,24,1010,23,1014,null,null,0,1122,null,2111,{"$f":"COUNTIF($L$7:$L$500,N15)","v":0},{"$f":"O15/$Q$4","v":0},{"$f":"IF(P15=0,0,(P15*((LOG(P15))/LOG(2))))","v":0},null,null,{"$f":"N15","v":2111},{"$f":"COUNTIF(L7:L28,T15)","v":0},{"$f":"U15/(W4-U20)","v":0},{"$f":"IF(V15=0,0,(V15*((LOG(V15))/LOG(2))))","v":0},null,{"$f":"N15","v":2111},{"$f":"COUNTIF(L29:L51,Y15)","v":0},{"$f":"Z15/(AB4-Z20)","v":0},{"$f":"IF(AA15=0,0,(AA15*((LOG(AA15))/LOG(2))))","v":0},null,{"$f":"N15","v":2111},{"$f":"COUNTIF(L52:L73,AD15)","v":0},{"$f":"AE15/(AG4-AE20)","v":0},{"$f":"IF(AF15=0,0,(AF15*((LOG(AF15))/LOG(2))))","v":0},null,{"$f":"N15","v":2111},{"$f":"COUNTIF(L74:L95,AI15)","v":0},{"$f":"AJ15/(AL4-AJ20)","v":0},{"$f":"IF(AK15=0,0,(AK15*((LOG(AK15))/LOG(2))))","v":0},null,{"$f":"N15","v":2111},{"$f":"COUNTIF(L96:L118,AN15)","v":0},{"$f":"AO15/(AQ4-AO20)","v":0},{"$f":"IF(AP15=0,0,(AP15*((LOG(AP15))/LOG(2))))","v":0},null,{"$f":"N15","v":2111},{"$f":"COUNTIF(L119:L140,AS15)","v":0},{"$f":"AT15/(AV4-AT20)","v":0},{"$f":"IF(AU15=0,0,(AU15*((LOG(AU15))/LOG(2))))","v":0}]
[12,1115,23,1125,24,1130,23,1135,null,null,0,1222,null,2112,{"$f":"COUNTIF($L$7:$L$500,N16)","v":0},{"$f":"O16/$Q$4","v":0},{"$f":"IF(P16=0,0,(P16*((LOG(P16))/LOG(2))))","v":0},null,null,{"$f":"N16","v":2112},{"$f":"COUNTIF(L7:L28,T16)","v":0},{"$f":"U16/(W4-U20)","v":0},{"$f":"IF(V16=0,0,(V16*((LOG(V16))/LOG(2))))","v":0},null,{"$f":"N16","v":2112},{"$f":"COUNTIF(L29:L51,Y16)","v":0},{"$f":"Z16/(AB4-Z20)","v":0},{"$f":"IF(AA16=0,0,(AA16*((LOG(AA16))/LOG(2))))","v":0},null,{"$f":"N16","v":2112},{"$f":"COUNTIF(L52:L73,AD16)","v":0},{"$f":"AE16/(AG4-AE20)","v":0},{"$f":"IF(AF16=0,0,(AF16*((LOG(AF16))/LOG(2))))","v":0},null,{"$f":"N16","v":2112},{"$f":"COUNTIF(L74:L95,AI16)","v":0},{"$f":"AJ16/(AL4-AJ20)","v":0},{"$f":"IF(AK16=0,0,(AK16*((LOG(AK16))/LOG(2))))","v":0},null,{"$f":"N16","v":2112},{"$f":"COUNTIF(L96:L118,AN16)","v":0},{"$f":"AO16/(AQ4-AO20)","v":0},{"$f":"IF(AP16=0,0,(AP16*((LOG(AP16))/LOG(2))))","v":0},null,{"$f":"N16","v":2112},{"$f":"COUNTIF(L119:L140,AS16)","v":0},{"$f":"AT16/(AV4-AT20)","v":0},{"$f":"IF(AU16=0,0,(AU16*((LOG(AU16))/LOG(2))))","v":0}]
[12,1231,23,1244,24,1252,23,1259,null,null,0,1222,null,2121,{"$f":"COUNTIF($L$7:$L$500,N17)","v":0},{"$f":"O17/$Q$4","v":0},{"$f":"IF(P17=0,0,(P17*((LOG(P17))/LOG(2))))","v":0},null,null,{"$f":"N17","v":2121},{"$f":"COUNTIF(L7:L28,T17)","v":0},{"$f":"U17/(W4-U20)","v":0},{"$f":"IF(V17=0,0,(V17*((LOG(V17))/LOG(2))))","v":0},null,{"$f":"N17","v":2121},{"$f":"COUNTIF(L29:L51,Y17)","v":0},{"$f":"Z17/(AB4-Z20)","v":0},{"$f":"IF(AA17=0,0,(AA17*((LOG(AA17))/LOG(2))))","v":0},null,{"$f":"N17","v":2121},{"$f":"COUNTIF(L52:L73,AD17)","v":0},{"$f":"AE17/(AG4-AE20)","v":0},{"$f":"IF(AF17=0,0,(AF17*((LOG(AF17))/LOG(2))))","v":0},null,{"$f":"N17","v":2121},{"$f":"COUNTIF(L74:L95,AI17)","v":0},{"$f":"AJ17/(AL4-AJ20)","v":0},{"$f":"IF(AK17=0,0,(AK17*((LOG(AK17))/LOG(2))))","v":0},null,{"$f":"N17","v":2121},{"$f":"COUNTIF(L96:L118,AN17)","v":0},{"$f":"AO17/(AQ4-AO20)","v":0},{"$f":"IF(AP17=0,0,(AP17*((LOG(AP17))/LOG(2))))","v":0},null,{"$f":"N17","v":2121},{"$f":"COUNTIF(L119:L140,AS17)","v":0},{"$f":"AT17/(AV4-AT20)","v":0},{"$f":"IF(AU17=0,0,(AU17*((LOG(AU17))/LOG(2))))","v":0}]
[12,1410,23,1423,24,1432,23,1439,null,null,0,1222,null,2122,{"$f":"COUNTIF($L$7:$L$500,N18)","v":2},{"$f":"O18/$Q$4","v":1.4925373134328358E-2},{"$f":"IF(P18=0,0,(P18*((LOG(P18))/LOG(2))))","v":-9.0538644633698095E-2},null,null,{"$f":"N18","v":2122},{"$f":"COUNTIF(L7:L28,T18)","v":0},{"$f":"U18/(W4-U20)","v":0},{"$f":"IF(V18=0,0,(V18*((LOG(V18))/LOG(2))))","v":0},null,{"$f":"N18","v":2122},{"$f":"COUNTIF(L29:L51,Y18)","v":0},{"$f":"Z18/(AB4-Z20)","v":0},{"$f":"IF(AA18=0,0,(AA18*((LOG(AA18))/LOG(2))))","v":0},null,{"$f":"N18","v":2122},{"$f":"COUNTIF(L52:L73,AD18)","v":1},{"$f":"AE18/(AG4-AE20)","v":0.05},{"$f":"IF(AF18=0,0,(AF18*((LOG(AF18))/LOG(2))))","v":-0.21609640474436814},null,{"$f":"N18","v":2122},{"$f":"COUNTIF(L74:L95,AI18)","v":0},{"$f":"AJ18/(AL4-AJ20)","v":0},{"$f":"IF(AK18=0,0,(AK18*((LOG(AK18))/LOG(2))))","v":0},null,{"$f":"N18","v":2122},{"$f":"COUNTIF(L96:L118,AN18)","v":0},{"$f":"AO18/(AQ4-AO20)","v":0},{"$f":"IF(AP18=0,0,(AP18*((LOG(AP18))/LOG(2))))","v":0},null,{"$f":"N18","v":2122},{"$f":"COUNTIF(L119:L140,AS18)","v":1},{"$f":"AT18/(AV4-AT20)","v":4.5454545454545456E-2},{"$f":"IF(AU18=0,0,(AU18*((LOG(AU18))/LOG(2))))","v":-0.20270143721078623}]
[12,1534,14,1537,24,1549,23,1553,null,null,0,1122,null,2211,{"$f":"COUNTIF($L$7:$L$500,N19)","v":1},{"$f":"O19/$Q$4","v":7.462686567164179E-3},{"$f":"IF(P19=0,0,(P19*((LOG(P19))/LOG(2))))","v":-5.2732008884013228E-2},null,null,{"$f":"N19","v":2211},{"$f":"COUNTIF(L7:L28,T19)","v":0},{"$f":"U19/(W4-U20)","v":0},{"$f":"IF(V19=0,0,(V19*((LOG(V19))/LOG(2))))","v":0},null,{"$f":"N19","v":2211},{"$f":"COUNTIF(L29:L51,Y19)","v":0},{"$f":"Z19/(AB4-Z20)","v":0},{"$f":"IF(AA19=0,0,(AA19*((LOG(AA19))/LOG(2))))","v":0},null,{"$f":"N19","v":2211},{"$f":"COUNTIF(L52:L73,AD19)","v":0},{"$f":"AE19/(AG4-AE20)","v":0},{"$f":"IF(AF19=0,0,(AF19*((LOG(AF19))/LOG(2))))","v":0},null,{"$f":"N19","v":2211},{"$f":"COUNTIF(L74:L95,AI19)","v":0},{"$f":"AJ19/(AL4-AJ20)","v":0},{"$f":"IF(AK19=0,0,(AK19*((LOG(AK19))/LOG(2))))","v":0},null,{"$f":"N19","v":2211},{"$f":"COUNTIF(L96:L118,AN19)","v":1},{"$f":"AO19/(AQ4-AO20)","v":4.3478260869565216E-2},{"$f":"IF(AP19=0,0,(AP19*((LOG(AP19))/LOG(2))))","v":-0.19667660678508753},null,{"$f":"N19","v":2211},{"$f":"COUNTIF(L119:L140,AS19)","v":0},{"$f":"AT19/(AV4-AT20)","v":0},{"$f":"IF(AU19=0,0,(AU19*((LOG(AU19))/LOG(2))))","v":0}]
[12,1768,23,1778,24,1782,23,1789,null,null,0,1222,null,2212,{"$f":"COUNTIF($L$7:$L$500,N20)","v":2},{"$f":"O20/$Q$4","v":1.4925373134328358E-2},{"$f":"IF(P20=0,0,(P20*((LOG(P20))/LOG(2))))","v":-9.0538644633698095E-2},null,null,{"$f":"N20","v":2212},{"$f":"COUNTIF(L7:L28,T20)","v":0},null,null,null,{"$f":"N20","v":2212},{"$f":"COUNTIF(L29:L51,Y20)","v":0},null,null,null,{"$f":"N20","v":2212},{"$f":"COUNTIF(L52:L73,AD20)","v":2},null,null,null,{"$f":"N20","v":2212},{"$f":"COUNTIF(L74:L95,AI20)","v":0},null,null,null,{"$f":"N20","v":2212},{"$f":"COUNTIF(L96:L118,AN20)","v":0},null,null,null,{"$f":"N20","v":2212},{"$f":"COUNTIF(L119:L140,AS20)","v":0}]
[21,1894,21,1897,22,1907,23,1918,null,null,0,2222,null,2221,{"$f":"COUNTIF($L$7:$L$500,N21)","v":1},{"$f":"O21/$Q$4","v":7.462686567164179E-3},{"$f":"IF(P21=0,0,(P21*((LOG(P21))/LOG(2))))","v":-5.2732008884013228E-2},null,null,{"$f":"N21","v":2221},{"$f":"COUNTIF(L7:L28,T21)","v":1},{"$f":"U21/(W4-U20)","v":4.5454545454545456E-2},{"$f":"IF(V21=0,0,(V21*((LOG(V21))/LOG(2))))","v":-0.20270143721078623},null,{"$f":"N21","v":2221},{"$f":"COUNTIF(L29:L51,Y21)","v":0},{"$f":"Z21/(AB4-Z20)","v":0},{"$f":"IF(AA21=0,0,(AA21*((LOG(AA21))/LOG(2))))","v":0},null,{"$f":"N21","v":2221},{"$f":"COUNTIF(L52:L73,AD21)","v":0},{"$f":"AE21/(AG4-AE20)","v":0},{"$f":"IF(AF21=0,0,(AF21*((LOG(AF21))/LOG(2))))","v":0},null,{"$f":"N21","v":2221},{"$f":"COUNTIF(L74:L95,AI21)","v":0},{"$f":"AJ21/(AL4-AJ20)","v":0},{"$f":"IF(AK21=0,0,(AK21*((LOG(AK21))/LOG(2))))","v":0},null,{"$f":"N21","v":2221},{"$f":"COUNTIF(L96:L118,AN21)","v":0},{"$f":"AO21/(AQ4-AO20)","v":0},{"$f":"IF(AP21=0,0,(AP21*((LOG(AP21))/LOG(2))))","v":0},null,{"$f":"N21","v":2221},{"$f":"COUNTIF(L119:L140,AS21)","v":0},{"$f":"AT21/(AV4-AT20)","v":0},{"$f":"IF(AU21=0,0,(AU21*((LOG(AU21))/LOG(2))))","v":0}]
[12,2014,14,2021,24,2028,23,2032,null,null,0,1122,null,2222,{"$f":"COUNTIF($L$7:$L$500,N22)","v":11},{"$f":"O22/$Q$4","v":8.2089552238805971E-2},{"$f":"IF(P22=0,0,(P22*((LOG(P22))/LOG(2))))","v":-0.29606890514944201},null,null,{"$f":"N22","v":2222},{"$f":"COUNTIF(L7:L28,T22)","v":2},{"$f":"U22/(W4-U20)","v":9.0909090909090912E-2},{"$f":"IF(V22=0,0,(V22*((LOG(V22))/LOG(2))))","v":-0.31449378351248153},null,{"$f":"N22","v":2222},{"$f":"COUNTIF(L29:L51,Y22)","v":4},{"$f":"Z22/(AB4-Z20)","v":0.17391304347826086},{"$f":"IF(AA22=0,0,(AA22*((LOG(AA22))/LOG(2))))","v":-0.43888034018382832},null,{"$f":"N22","v":2222},{"$f":"COUNTIF(L52:L73,AD22)","v":2},{"$f":"AE22/(AG4-AE20)","v":0.1},{"$f":"IF(AF22=0,0,(AF22*((LOG(AF22))/LOG(2))))","v":-0.33219280948873625},null,{"$f":"N22","v":2222},{"$f":"COUNTIF(L74:L95,AI22)","v":0},{"$f":"AJ22/(AL4-AJ20)","v":0},{"$f":"IF(AK22=0,0,(AK22*((LOG(AK22))/LOG(2))))","v":0},null,{"$f":"N22","v":2222},{"$f":"COUNTIF(L96:L118,AN22)","v":1},{"$f":"AO22/(AQ4-AO20)","v":4.3478260869565216E-2},{"$f":"IF(AP22=0,0,(AP22*((LOG(AP22))/LOG(2))))","v":-0.19667660678508753},null,{"$f":"N22","v":2222},{"$f":"COUNTIF(L119:L140,AS22)","v":2},{"$f":"AT22/(AV4-AT20)","v":9.0909090909090912E-2},{"$f":"IF(AU22=0,0,(AU22*((LOG(AU22))/LOG(2))))","v":-0.31449378351248153}]
[12,2128,14,2133,24,2141,23,2148,null,null,0,1122,null,null,null,{"$f":"SUM(P7:P22)","v":1.0000000000000002},{"$f":"-SUM(Q7:Q22)","v":2.430333654219349},null,null,null,null,{"$f":"SUM(V7:V22)","v":1},{"$f":"-SUM(W7:W22)","v":1.7676461209612233},null,null,null,{"$f":"SUM(AA7:AA22)","v":0.99999999999999989},{"$f":"-SUM(AB7:AB22)","v":2.089902458185835},null,null,null,{"$f":"SUM(AF7:AF22)","v":1.0000000000000002},{"$f":"-SUM(AG7:AG22)","v":2.6393538721672005},null,null,null,{"$f":"SUM(AK7:AK22)","v":1},{"$f":"-SUM(AL7:AL22)","v":1.7646946861307393},null,null,null,{"$f":"SUM(AP7:AP22)","v":0.99999999999999989},{"$f":"-SUM(AQ7:AQ22)","v":2.1740358683479801},null,null,null,{"$f":"SUM(AU7:AU22)","v":1},{"$f":"-SUM(AV7:AV22)","v":1.9705730958116847}]
[12,2386,14,2391,24,2398,23,2402,null,null,0,1122,null,null,null,"U=",{"$f":"Q23/(LOG(Q4)/LOG(2))","v":0.34394324621621442},null,null,null,null,"U1=",{"$f":"W23/(LOG(W4)/LOG(2))","v":0.39638372602770766},null,null,null,"U2=",{"$f":"AB23/(LOG(AB4)/LOG(2))","v":0.4620037215114236},null,null,null,"U3=",{"$f":"AG23/(LOG(AG4)/LOG(2))","v":0.59185880575823879},null,null,null,"U4=",{"$f":"AL23/(LOG(AL4)/LOG(2))","v":0.39572188499439098},null,null,null,"U5=",{"$f":"AQ23/(LOG(AQ4)/LOG(2))","v":0.48060265106725542},null,null,null,"U6=",{"$f":"AV23/(LOG(AV4)/LOG(2))","v":0.44188884690507885}]
[12,2497,14,2500,24,2509,23,2514,null,null,0,1122]
[12,2608,14,2613,24,2620,23,2628,null,null,0,1122]
[12,2726,23,2735,24,2738,23,2741,null,null,0,1222,null,"Total Target Seq"]
[12,2847,14,2849,13,2855,23,2862,null,null,0,1112,null,{"$f":"COUNTIF(L7:L140,G3)","v":2},null,22,23,22,22,23,22]
[12,2958,14,2962,24,2976,23,2986,null,null,0,1122,null,null,null,"% of reinforcement given in 6 equal intervals based on number of trials "]
[12,3083,14,3087,13,3091,23,3100,null,null,0,1112,null,null,null,"%_1","%_2","%_3","%_4","%_5","%_6"]
[12,3201,14,3205,13,3212,23,3225,null,null,0,1112,null,null,"target sequence",{"$f":"$G$3","v":2212},{"$f":"$G$3","v":2212},{"$f":"$G$3","v":2212},{"$f":"$G$3","v":2212},{"$f":"$G$3","v":2212},{"$f":"$G$3","v":2212}]
[12,3321,14,3329,13,3332,14,3335,null,null,0,1111,null,null,"total reinforcement",{"$f":"U20","v":0},{"$f":"Z20","v":0},{"$f":"AE20","v":2},{"$f":"AJ20","v":0},{"$f":"AO20","v":0},{"$f":"AT20","v":0}]
[12,3431,14,3436,13,3439,14,3443,null,null,0,1111,null,null,"% target"]
[21,3540,21,3543,22,3548,23,3553,null,null,0,2222,null,null,"CCRF"]
[12,3648,14,3653,24,3659,23,3663,null,null,0,1122,null,null,"% CCRf"]
[12,3760,14,3768,24,3775,23,3781,null,null,0,1122,null,null,"average response rate",{"$f":"H28/P28","v":130.09090909090909},{"$f":"(H51-H28)/Q28","v":137.13043478260869},{"$f":"(H73-H51)/R28","v":168.31818181818181},{"$f":"(H95-H73)/S28","v":122.86363636363636},{"$f":"(H118-H95)/T28","v":271.60869565217394},{"$f":"(H140-H118)/U28","v":232.95454545454547}]
[12,3884,14,3887,13,3892,23,3899,null,null,0,1112]
[12,4002,14,4006,24,4018,23,4023,null,null,0,1122]
[12,4120,14,4128,24,4135,23,4140,null,null,0,1122]
[12,4235,14,4241,24,4248,23,4252,null,null,0,1122]
[21,4361,21,4364,22,4373,23,4382,null,null,0,2222]
[12,4498,14,4506,24,4515,23,4520,null,null,0,1122]
[12,4616,14,4624,24,4632,23,4635,null,null,0,1122]
[12,4731,14,4734,13,4739,14,4741,null,null,0,1111]
[12,4840,14,4844,13,4848,23,4855,null,null,0,1112]
[12,4952,23,4966,24,4970,23,4976,null,null,0,1222]
[21,5100,21,5103,22,5113,23,5119,null,null,0,2222]
[21,5321,21,5325,22,5330,23,5335,null,null,0,2222]
[12,5489,14,5491,24,5501,23,5507,null,null,0,1122]
[12,5657,14,5661,24,5677,23,5682,null,null,0,1122]
[12,5989,23,6005,24,6009,23,6016,null,null,0,1222]
[21,6499,21,6504,22,6509,23,6516,null,null,0,2222]
[21,6884,21,6893,11,6941,21,6949,null,null,0,2212]
[12,7126,23,7135,24,7148,23,7156,null,null,0,1222]
[12,7253,23,7271,24,7277,23,7282,null,null,0,1222]
[12,7377,14,7381,24,7392,23,7395,null,null,0,1122]
[12,7490,14,7495,24,7502,23,7506,null,null,0,1122]
[21,7611,21,7614,22,7619,23,7625,null,null,0,2222]
[12,7719,14,7724,13,7729,14,7732,null,null,0,1111]
[21,7834,21,7838,11,7848,21,7860,null,null,0,2212]
[12,8018,14,8021,13,8027,14,8031,null,null,0,1111]
[12,8171,23,8181,24,8190,23,8201,null,null,0,1222]
[12,8300,14,8303,13,8308,23,8317,null,null,0,1112]
[12,8412,14,8419,24,8427,23,8434,null,null,0,1122]
[21,8535,12,8546,24,8554,23,8559,null,null,0,2122]
[12,8657,14,8661,24,8671,23,8676,null,null,0,1122]
[12,8935,14,8938,13,8947,23,8956,null,null,0,1112]
[12,9058,23,9067,24,9071,14,9100,null,null,0,1221]
[12,9198,23,9206,13,9224,23,9238,null,null,0,1212]
[12,9349,14,9354,24,9361,23,9365,null,null,0,1122]
[12,9464,14,9468,24,9476,23,9479,null,null,0,1122]
[12,9574,23,9587,24,9591,23,9597,null,null,0,1222]
[12,9696,14,9701,24,9707,23,9719,null,null,0,1122]
[12,9826,14,9833,24,9842,23,9845,null,null,0,1122]
[12,9942,14,9949,24,9956,23,9964,null,null,0,1122]
[12,10071,14,10078,24,10085,23,10090,null,null,0,1122]
[12,10189,23,10201,24,10205,23,10210,null,null,0,1222]
[12,10306,23,10318,24,10322,23,10326,null,null,0,1222]
[12,10422,14,10427,13,10433,23,10441,null,null,0,1112]
[12,10540,14,10549,24,10557,23,10564,null,null,0,1122]
[12,10661,14,10668,13,10671,14,10678,null,null,0,1111]
[12,10789,14,10793,13,10800,23,10807,null,null,0,1112]
[12,10938,14,10945,24,10951,23,10954,null,null,0,1122]
[12,11054,14,11058,13,11060,23,11069,null,null,0,1112]
[12,11163,14,11171,13,11178,23,11185,null,null,0,1112]
[12,11301,14,11313,13,11319,23,11327,null,null,0,1112]
[12,11439,14,11451,13,11455,23,11465,null,null,0,1112]
[12,11561,14,11566,24,11577,23,11581,null,null,0,1122]
[12,11677,14,11682,13,11685,14,11688,null,null,0,1111]
[12,11786,23,11798,24,11802,23,11805,null,null,0,1222]
[12,11901,14,11910,24,11918,23,11926,null,null,0,1122]
[12,12028,14,12034,13,12040,23,12047,null,null,0,1112]
[12,12155,14,12161,13,12165,23,12174,null,null,0,1112]
[12,12285,14,12293,24,12303,23,12308,null,null,0,1122]
[12,12404,14,12408,13,12412,23,12422,null,null,0,1112]
[12,12540,14,12544,13,12548,23,12565,null,null,0,1112]
[12,12664,14,12668,13,12672,23,12680,null,null,0,1112]
[12,12779,14,12787,13,12791,23,12799,null,null,0,1112]
[12,12896,14,12903,13,12908,23,12920,null,null,0,1112]
[12,13017,14,13022,13,13026,23,13035,null,null,0,1112]
[12,13165,14,13169,24,13177,23,13181,null,null,0,1122]
[12,13282,23,13289,24,13293,23,13299,null,null,0,1222]
[12,13394,14,13397,13,13402,23,13410,null,null,0,1112]
[12,13520,14,13525,24,13534,23,13537,null,null,0,1122]
[12,13640,14,13644,13,13649,14,13655,null,null,0,1111]
[12,13750,14,13759,24,13768,23,13771,null,null,0,1122]
[12,13948,14,13951,13,13961,23,13968,null,null,0,1112]
[12,14085,23,14093,24,14098,23,14103,null,null,0,1222]
[12,14208,14,14212,24,14229,23,14235,null,null,0,1122]
[12,14329,14,14335,13,14339,14,14349,null,null,0,1111]
[12,14460,14,14465,13,14467,23,14475,null,null,0,1112]
[12,17878,23,17892,24,17896,23,17901,null,null,0,1222]
[12,18027,14,18033,24,18041,23,18044,null,null,0,1122]
[21,18144,21,18149,22,18154,23,18157,null,null,0,2222]
[21,18255,21,18259,11,18272,12,18276,null,null,0,2211]
[12,18408,23,18418,24,18423,23,18428,null,null,0,1222]
[12,18530,14,18534,24,18542,23,18546,null,null,0,1122]
[12,18643,14,18651,13,18659,23,18669,null,null,0,1112]
[12,18768,14,18773,24,18781,23,18789,null,null,0,1122]
[12,18887,14,18891,24,18899,23,18903,null,null,0,1122]
[12,19001,14,19005,24,19013,23,19016,null,null,0,1122]
[12,19114,23,19128,24,19133,23,19139,null,null,0,1222]
[12,19243,23,19251,24,19254,23,19260,null,null,0,1222]
[21,19374,21,19379,22,19385,23,19391,null,null,0,2222]
[12,19486,14,19495,24,19503,23,19507,null,null,0,1122]
[12,19617,14,19620,13,19625,23,19634,null,null,0,1112]
[12,19760,14,19764,13,19768,23,19777,null,null,0,1112]
[12,19874,23,19892,24,19896,23,19901,null,null,0,1222]
[12,19999,14,20004,24,20011,23,20015,null,null,0,1122]
[12,20433,23,20447,24,20458,23,20465,null,null,0,1222]
[12,20610,14,20614,13,20621,23,20628,null,null,0,1112]
[21,20905,21,20922,22,20928,23,20937,null,null,0,2222]
[12,21044,23,21057,24,21070,23,21076,null,null,0,1222]
[12,21267,14,21557,24,21571,23,21577,null,null,0,1122]
[21,21807,12,21842,24,21856,23,21861,null,null,0,2122]
[12,22698,14,22704,24,22714,23,22717,null,null,0,1122]
[12,22889,23,22902,24,22906,23,22913,null,null,0,1222]
[12,23205,23,23217,24,23221,23,23227,null,null,0,1222]
[12,23403,14,23636,24,23645,23,23650,null,null,0,1122]
[12,23779,23,23787,24,23790,23,23794,null,null,0,1222]

{"sheet":"!LB14B14..Is","index":7,"n_rows":41,"n_cols":48,"rows_kept":41,"cut":false,"hidden":false,"merged":[[4,39,4,42],[5,39,5,40],[4,44,4,47],[5,44,5,45],[4,24,4,27],[5,24,5,25],[4,29,4,32],[5,29,5,30],[4,34,4,37],[5,34,5,35],[1,1,1,2],[5,13,5,14],[26,13,26,14],[27,13,27,14],[4,19,4,22],[5,19,5,20]]}
["Report for:!LB14B14..Is"]
["Date:","<date>"]
["Hen:","<hen>",null,null,null,"Correct Sequence",{"$f":"Start!J2","v":2212},null,null,null,null,null,null,null,null,"Total Sequences in Data",{"$f":"4994-COUNTBLANK(L7:L5000)","v":35},null,null,null,null,"Total Sequences in Block Data",{"$f":"COUNTA(L7:L12)","v":6},null,null,null,"Total Sequences in Block Data",{"$f":"COUNTA(L13:L18)","v":6},null,null,null,"Total Sequences in Block Data",{"$f":"COUNTA(L19:L23)","v":5},null,null,null,"Total Sequences in Block Data",{"$f":"COUNTA(L24:L29)","v":6},null,null,null,"Total Sequences in Block Data",{"$f":"COUNTA(L30:L35)","v":6},null,null,null,"Total Sequences in Block Data",{"$f":"COUNTA(L36:L41)","v":6}]
[null,null,null,null,null,null,null,null,null,null,null,null,null,null,null,"Total Sequences in Summary",{"$f":"SUM(O7:O22)","v":34},null,null,null,null,"Total Sequences in Block Summary",{"$f":"SUM(U7:U22)","v":6},null,null,null,"Total Sequences in Block Summary",{"$f":"SUM(Z7:Z22)","v":6},null,null,null,"Total Sequences in Block Summary",{"$f":"SUM(AE7:AE22)","v":5},null,null,null,"Total Sequences in Block Summary",{"$f":"SUM(AJ7:AJ22)","v":6},null,null,null,"Total Sequences in Block Summary",{"$f":"SUM(AO7:AO22)","v":6},null,null,null,"Total Sequences in Block Summary",{"$f":"SUM(AT7:AT22)","v":5}]
[null,null,null,null,null,null,null,null,null,null,null,null,null,null,null,null,null,null,null,"Block 1",null,null,null,null,"Block 2",null,null,null,null,"Block 3",null,null,null,null,"Block 4",null,null,null,null,"Block 5",null,null,null,null,"Block 6"]
["Sequence\nComponent\n1","Time\n1","Sequence\nComponent\n2","Time\n2","Sequence\nComponent\n3","Time\n3","Sequence\nComponent\n4","Time\n4","Sequence\nComponent\n5","Time\n5","Correct?\n0=No 1=Yes","Sequence",null,"Frequency",null,"Relative Frequency","Variability",null,null,"Frequency",null,"Relative Frequency","Variability",null,"Frequency",null,"Relative Frequency","Variability",null,"Frequency",null,"Relative Frequency","Variability",null,"Frequency",null,"Relative Frequency","Variability",null,"Frequency",null,"Relative Frequency","Variability",null,"Frequency",null,"Relative Frequency","Variability"]
[12,24,23,33,24,39,23,50,null,null,0,1222,null,1111,{"$f":"COUNTIF($L$7:$L$500,N7)","v":0},{"$f":"O7/$Q$4","v":0},{"$f":"IF(P7=0,0,(P7*((LOG(P7))/LOG(2))))","v":0},null,null,{"$f":"N7","v":1111},{"$f":"COUNTIF(L7:L12,T7)","v":0},{"$f":"U7/(W4-U20)","v":0},{"$f":"IF(V7=0,0,(V7*((LOG(V7))/LOG(2))))","v":0},null,{"$f":"N7","v":1111},{"$f":"COUNTIF(L13:L18,Y7)","v":0},{"$f":"Z7/(AB4-Z20)","v":0},{"$f":"IF(AA7=0,0,(AA7*((LOG(AA7))/LOG(2))))","v":0},null,{"$f":"N7","v":1111},{"$f":"COUNTIF(L19:L23,AD7)","v":0},{"$f":"AE7/(AG4-AE20)","v":0},{"$f":"IF(AF7=0,0,(AF7*((LOG(AF7))/LOG(2))))","v":0},null,{"$f":"N7","v":1111},{"$f":"COUNTIF(L24:L29,AI7)","v":0},{"$f":"AJ7/(AL4-AJ20)","v":0},{"$f":"IF(AK7=0,0,(AK7*((LOG(AK7))/LOG(2))))","v":0},null,{"$f":"N7","v":1111},{"$f":"COUNTIF(L30:L35,AN7)","v":0},{"$f":"AO7/(AQ4-AO20)","v":0},{"$f":"IF(AP7=0,0,(AP7*((LOG(AP7))/LOG(2))))","v":0},null,{"$f":"N7","v":1111},{"$f":"COUNTIF(L36:L41,AS7)","v":0},{"$f":"AT7/(AV4-AT20)","v":0},{"$f":"IF(AU7=0,0,(AU7*((LOG(AU7))/LOG(2))))","v":0}]
[12,173,14,177,24,183,23,187,null,null,0,1122,null,1112,{"$f":"COUNTIF($L$7:$L$500,N8)","v":6},{"$f":"O8/$Q$4","v":0.17647058823529413},{"$f":"IF(P8=0,0,(P8*((LOG(P8))/LOG(2))))","v":-0.44161770715220888},null,null,{"$f":"N8","v":1112},{"$f":"COUNTIF(L7:L12,T8)","v":0},{"$f":"U8/(W4-U20)","v":0},{"$f":"IF(V8=0,0,(V8*((LOG(V8))/LOG(2))))","v":0},null,{"$f":"N8","v":1112},{"$f":"COUNTIF(L13:L18,Y8)","v":3},{"$f":"Z8/(AB4-Z20)","v":0.5},{"$f":"IF(AA8=0,0,(AA8*((LOG(AA8))/LOG(2))))","v":-0.5},null,{"$f":"N8","v":1112},{"$f":"COUNTIF(L19:L23,AD8)","v":2},{"$f":"AE8/(AG4-AE20)","v":0.4},{"$f":"IF(AF8=0,0,(AF8*((LOG(AF8))/LOG(2))))","v":-0.52877123795494496},null,{"$f":"N8","v":1112},{"$f":"COUNTIF(L24:L29,AI8)","v":1},{"$f":"AJ8/(AL4-AJ20)","v":0.16666666666666666},{"$f":"IF(AK8=0,0,(AK8*((LOG(AK8))/LOG(2))))","v":-0.43082708345352599},null,{"$f":"N8","v":1112},{"$f":"COUNTIF(L30:L35,AN8)","v":0},{"$f":"AO8/(AQ4-AO20)","v":0},{"$f":"IF(AP8=0,0,(AP8*((LOG(AP8))/LOG(2))))","v":0},null,{"$f":"N8","v":1112},{"$f":"COUNTIF(L36:L41,AS8)","v":0},{"$f":"AT8/(AV4-AT20)","v":0},{"$f":"IF(AU8=0,0,(AU8*((LOG(AU8))/LOG(2))))","v":0}]
[12,288,23,294,24,297,23,302,null,null,0,1222,null,1121,{"$f":"COUNTIF($L$7:$L$500,N9)","v":1},{"$f":"O9/$Q$4","v":2.9411764705882353E-2},{"$f":"IF(P9=0,0,(P9*((LOG(P9))/LOG(2))))","v":-0.14963126003677468},null,null,{"$f":"N9","v":1121},{"$f":"COUNTIF(L7:L12,T9)","v":0},{"$f":"U9/(W4-U20)","v":0},{"$f":"IF(V9=0,0,(V9*((LOG(V9))/LOG(2))))","v":0},null,{"$f":"N9","v":1121},{"$f":"COUNTIF(L13:L18,Y9)","v":0},{"$f":"Z9/(AB4-Z20)","v":0},{"$f":"IF(AA9=0,0,(AA9*((LOG(AA9))/LOG(2))))","v":0},null,{"$f":"N9","v":1121},{"$f":"COUNTIF(L19:L23,AD9)","v":0},{"$f":"AE9/(AG4-AE20)","v":0},{"$f":"IF(AF9=0,0,(AF9*((LOG(AF9))/LOG(2))))","v":0},null,{"$f":"N9","v":1121},{"$f":"COUNTIF(L24:L29,AI9)","v":0},{"$f":"AJ9/(AL4-AJ20)","v":0},{"$f":"IF(AK9=0,0,(AK9*((LOG(AK9))/LOG(2))))","v":0},null,{"$f":"N9","v":1121},{"$f":"COUNTIF(L30:L35,AN9)","v":1},{"$f":"AO9/(AQ4-AO20)","v":0.16666666666666666},{"$f":"IF(AP9=0,0,(AP9*((LOG(AP9))/LOG(2))))","v":-0.43082708345352599},null,{"$f":"N9","v":1121},{"$f":"COUNTIF(L36:L41,AS9)","v":0},{"$f":"AT9/(AV4-AT20)","v":0},{"$f":"IF(AU9=0,0,(AU9*((LOG(AU9))/LOG(2))))","v":0}]
[12,400,23,416,24,427,23,434,null,null,0,1222,null,1122,{"$f":"COUNTIF($L$7:$L$500,N10)","v":8},{"$f":"O10/$Q$4","v":0.23529411764705882},{"$f":"IF(P10=0,0,(P10*((LOG(P10))/LOG(2))))","v":-0.49116772735302094},null,null,{"$f":"N10","v":1122},{"$f":"COUNTIF(L7:L12,T10)","v":3},{"$f":"U10/(W4-U20)","v":0.5},{"$f":"IF(V10=0,0,(V10*((LOG(V10))/LOG(2))))","v":-0.5},null,{"$f":"N10","v":1122},{"$f":"COUNTIF(L13:L18,Y10)","v":1},{"$f":"Z10/(AB4-Z20)","v":0.16666666666666666},{"$f":"IF(AA10=0,0,(AA10*((LOG(AA10))/LOG(2))))","v":-0.43082708345352599},null,{"$f":"N10","v":1122},{"$f":"COUNTIF(L19:L23,AD10)","v":0},{"$f":"AE10/(AG4-AE20)","v":0},{"$f":"IF(AF10=0,0,(AF10*((LOG(AF10))/LOG(2))))","v":0},null,{"$f":"N10","v":1122},{"$f":"COUNTIF(L24:L29,AI10)","v":3},{"$f":"AJ10/(AL4-AJ20)","v":0.5},{"$f":"IF(AK10=0,0,(AK10*((LOG(AK10))/LOG(2))))","v":-0.5},null,{"$f":"N10","v":1122},{"$f":"COUNTIF(L30:L35,AN10)","v":0},{"$f":"AO10/(AQ4-AO20)","v":0},{"$f":"IF(AP10=0,0,(AP10*((LOG(AP10))/LOG(2))))","v":0},null,{"$f":"N10","v":1122},{"$f":"COUNTIF(L36:L41,AS10)","v":1},{"$f":"AT10/(AV4-AT20)","v":0.2},{"$f":"IF(AU10=0,0,(AU10*((LOG(AU10))/LOG(2))))","v":-0.46438561897747244}]
[12,534,14,540,24,547,23,555,null,null,0,1122,null,1211,{"$f":"COUNTIF($L$7:$L$500,N11)","v":0},{"$f":"O11/$Q$4","v":0},{"$f":"IF(P11=0,0,(P11*((LOG(P11))/LOG(2))))","v":0},null,null,{"$f":"N11","v":1211},{"$f":"COUNTIF(L7:L12,T11)","v":0},{"$f":"U11/(W4-U20)","v":0},{"$f":"IF(V11=0,0,(V11*((LOG(V11))/LOG(2))))","v":0},null,{"$f":"N11","v":1211},{"$f":"COUNTIF(L13:L18,Y11)","v":0},{"$f":"Z11/(AB4-Z20)","v":0},{"$f":"IF(AA11=0,0,(AA11*((LOG(AA11))/LOG(2))))","v":0},null,{"$f":"N11","v":1211},{"$f":"COUNTIF(L19:L23,AD11)","v":0},{"$f":"AE11/(AG4-AE20)","v":0},{"$f":"IF(AF11=0,0,(AF11*((LOG(AF11))/LOG(2))))","v":0},null,{"$f":"N11","v":1211},{"$f":"COUNTIF(L24:L29,AI11)","v":0},{"$f":"AJ11/(AL4-AJ20)","v":0},{"$f":"IF(AK11=0,0,(AK11*((LOG(AK11))/LOG(2))))","v":0},null,{"$f":"N11","v":1211},{"$f":"COUNTIF(L30:L35,AN11)","v":0},{"$f":"AO11/(AQ4-AO20)","v":0},{"$f":"IF(AP11=0,0,(AP11*((LOG(AP11))/LOG(2))))","v":0},null,{"$f":"N11","v":1211},{"$f":"COUNTIF(L36:L41,AS11)","v":0},{"$f":"AT11/(AV4-AT20)","v":0},{"$f":"IF(AU11=0,0,(AU11*((LOG(AU11))/LOG(2))))","v":0}]
[12,671,14,676,24,683,23,687,null,null,0,1122,null,1212,{"$f":"COUNTIF($L$7:$L$500,N12)","v":0},{"$f":"O12/$Q$4","v":0},{"$f":"IF(P12=0,0,(P12*((LOG(P12))/LOG(2))))","v":0},null,null,{"$f":"N12","v":1212},{"$f":"COUNTIF(L7:L12,T12)","v":0},{"$f":"U12/(W4-U20)","v":0},{"$f":"IF(V12=0,0,(V12*((LOG(V12))/LOG(2))))","v":0},null,{"$f":"N12","v":1212},{"$f":"COUNTIF(L13:L18,Y12)","v":0},{"$f":"Z12/(AB4-Z20)","v":0},{"$f":"IF(AA12=0,0,(AA12*((LOG(AA12))/LOG(2))))","v":0},null,{"$f":"N12","v":1212},{"$f":"COUNTIF(L19:L23,AD12)","v":0},{"$f":"AE12/(AG4-AE20)","v":0},{"$f":"IF(AF12=0,0,(AF12*((LOG(AF12))/LOG(2))))","v":0},null,{"$f":"N12","v":1212},{"$f":"COUNTIF(L24:L29,AI12)","v":0},{"$f":"AJ12/(AL4-AJ20)","v":0},{"$f":"IF(AK12=0,0,(AK12*((LOG(AK12))/LOG(2))))","v":0},null,{"$f":"N12","v":1212},{"$f":"COUNTIF(L30:L35,AN12)","v":0},{"$f":"AO12/(AQ4-AO20)","v":0},{"$f":"IF(AP12=0,0,(AP12*((LOG(AP12))/LOG(2))))","v":0},null,{"$f":"N12","v":1212},{"$f":"COUNTIF(L36:L41,AS12)","v":0},{"$f":"AT12/(AV4-AT20)","v":0},{"$f":"IF(AU12=0,0,(AU12*((LOG(AU12))/LOG(2))))","v":0}]
[21,801,21,817,22,823,23,829,null,null,0,2222,null,1221,{"$f":"COUNTIF($L$7:$L$500,N13)","v":2},{"$f":"O13/$Q$4","v":5.8823529411764705E-2},{"$f":"IF(P13=0,0,(P13*((LOG(P13))/LOG(2))))","v":-0.24043899066178465},null,null,{"$f":"N13","v":1221},{"$f":"COUNTIF(L7:L12,T13)","v":0},{"$f":"U13/(W4-U20)","v":0},{"$f":"IF(V13=0,0,(V13*((LOG(V13))/LOG(2))))","v":0},null,{"$f":"N13","v":1221},{"$f":"COUNTIF(L13:L18,Y13)","v":0},{"$f":"Z13/(AB4-Z20)","v":0},{"$f":"IF(AA13=0,0,(AA13*((LOG(AA13))/LOG(2))))","v":0},null,{"$f":"N13","v":1221},{"$f":"COUNTIF(L19:L23,AD13)","v":0},{"$f":"AE13/(AG4-AE20)","v":0},{"$f":"IF(AF13=0,0,(AF13*((LOG(AF13))/LOG(2))))","v":0},null,{"$f":"N13","v":1221},{"$f":"COUNTIF(L24:L29,AI13)","v":0},{"$f":"AJ13/(AL4-AJ20)","v":0},{"$f":"IF(AK13=0,0,(AK13*((LOG(AK13))/LOG(2))))","v":0},null,{"$f":"N13","v":1221},{"$f":"COUNTIF(L30:L35,AN13)","v":0},{"$f":"AO13/(AQ4-AO20)","v":0},{"$f":"IF(AP13=0,0,(AP13*((LOG(AP13))/LOG(2))))","v":0},null,{"$f":"N13","v":1221},{"$f":"COUNTIF(L36:L41,AS13)","v":2},{"$f":"AT13/(AV4-AT20)","v":0.4},{"$f":"IF(AU13=0,0,(AU13*((LOG(AU13))/LOG(2))))","v":-0.52877123795494496}]
[12,925,14,933,24,946,23,951,null,null,0,1122,null,1222,{"$f":"COUNTIF($L$7:$L$500,N14)","v":13},{"$f":"O14/$Q$4","v":0.38235294117647056},{"$f":"IF(P14=0,0,(P14*((LOG(P14))/LOG(2))))","v":-0.53033237060059457},null,null,{"$f":"N14","v":1222},{"$f":"COUNTIF(L7:L12,T14)","v":3},{"$f":"U14/(W4-U20)","v":0.5},{"$f":"IF(V14=0,0,(V14*((LOG(V14))/LOG(2))))","v":-0.5},null,{"$f":"N14","v":1222},{"$f":"COUNTIF(L13:L18,Y14)","v":1},{"$f":"Z14/(AB4-Z20)","v":0.16666666666666666},{"$f":"IF(AA14=0,0,(AA14*((LOG(AA14))/LOG(2))))","v":-0.43082708345352599},null,{"$f":"N14","v":1222},{"$f":"COUNTIF(L19:L23,AD14)","v":3},{"$f":"AE14/(AG4-AE20)","v":0.6},{"$f":"IF(AF14=0,0,(AF14*((LOG(AF14))/LOG(2))))","v":-0.44217935649972373},null,{"$f":"N14","v":1222},{"$f":"COUNTIF(L24:L29,AI14)","v":1},{"$f":"AJ14/(AL4-AJ20)","v":0.16666666666666666},{"$f":"IF(AK14=0,0,(AK14*((LOG(AK14))/LOG(2))))","v":-0.43082708345352599},null,{"$f":"N14","v":1222},{"$f":"COUNTIF(L30:L35,AN14)","v":3},{"$f":"AO14/(AQ4-AO20)","v":0.5},{"$f":"IF(AP14=0,0,(AP14*((LOG(AP14))/LOG(2))))","v":-0.5},null,{"$f":"N14","v":1222},{"$f":"COUNTIF(L36:L41,AS14)","v":2},{"$f":"AT14/(AV4-AT20)","v":0.4},{"$f":"IF(AU14=0,0,(AU14*((LOG(AU14))/LOG(2))))","v":-0.52877123795494496}]
[12,1047,14,1050,13,1057,23,1066,null,null,0,1112,null,2111,{"$f":"COUNTIF($L$7:$L$500,N15)","v":1},{"$f":"O15/$Q$4","v":2.9411764705882353E-2},{"$f":"IF(P15=0,0,(P15*((LOG(P15))/LOG(2))))","v":-0.14963126003677468},null,null,{"$f":"N15","v":2111},{"$f":"COUNTIF(L7:L12,T15)","v":0},{"$f":"U15/(W4-U20)","v":0},{"$f":"IF(V15=0,0,(V15*((LOG(V15))/LOG(2))))","v":0},null,{"$f":"N15","v":2111},{"$f":"COUNTIF(L13:L18,Y15)","v":0},{"$f":"Z15/(AB4-Z20)","v":0},{"$f":"IF(AA15=0,0,(AA15*((LOG(AA15))/LOG(2))))","v":0},null,{"$f":"N15","v":2111},{"$f":"COUNTIF(L19:L23,AD15)","v":0},{"$f":"AE15/(AG4-AE20)","v":0},{"$f":"IF(AF15=0,0,(AF15*((LOG(AF15))/LOG(2))))","v":0},null,{"$f":"N15","v":2111},{"$f":"COUNTIF(L24:L29,AI15)","v":0},{"$f":"AJ15/(AL4-AJ20)","v":0},{"$f":"IF(AK15=0,0,(AK15*((LOG(AK15))/LOG(2))))","v":0},null,{"$f":"N15","v":2111},{"$f":"COUNTIF(L30:L35,AN15)","v":1},{"$f":"AO15/(AQ4-AO20)","v":0.16666666666666666},{"$f":"IF(AP15=0,0,(AP15*((LOG(AP15))/LOG(2))))","v":-0.43082708345352599},null,{"$f":"N15","v":2111},{"$f":"COUNTIF(L36:L41,AS15)","v":0},{"$f":"AT15/(AV4-AT20)","v":0},{"$f":"IF(AU15=0,0,(AU15*((LOG(AU15))/LOG(2))))","v":0}]
[12,1163,14,1168,13,1175,23,1183,null,null,0,1112,null,2112,{"$f":"COUNTIF($L$7:$L$500,N16)","v":0},{"$f":"O16/$Q$4","v":0},{"$f":"IF(P16=0,0,(P16*((LOG(P16))/LOG(2))))","v":0},null,null,{"$f":"N16","v":2112},{"$f":"COUNTIF(L7:L12,T16)","v":0},{"$f":"U16/(W4-U20)","v":0},{"$f":"IF(V16=0,0,(V16*((LOG(V16))/LOG(2))))","v":0},null,{"$f":"N16","v":2112},{"$f":"COUNTIF(L13:L18,Y16)","v":0},{"$f":"Z16/(AB4-Z20)","v":0},{"$f":"IF(AA16=0,0,(AA16*((LOG(AA16))/LOG(2))))","v":0},null,{"$f":"N16","v":2112},{"$f":"COUNTIF(L19:L23,AD16)","v":0},{"$f":"AE16/(AG4-AE20)","v":0},{"$f":"IF(AF16=0,0,(AF16*((LOG(AF16))/LOG(2))))","v":0},null,{"$f":"N16","v":2112},{"$f":"COUNTIF(L24:L29,AI16)","v":0},{"$f":"AJ16/(AL4-AJ20)","v":0},{"$f":"IF(AK16=0,0,(AK16*((LOG(AK16))/LOG(2))))","v":0},null,{"$f":"N16","v":2112},{"$f":"COUNTIF(L30:L35,AN16)","v":0},{"$f":"AO16/(AQ4-AO20)","v":0},{"$f":"IF(AP16=0,0,(AP16*((LOG(AP16))/LOG(2))))","v":0},null,{"$f":"N16","v":2112},{"$f":"COUNTIF(L36:L41,AS16)","v":0},{"$f":"AT16/(AV4-AT20)","v":0},{"$f":"IF(AU16=0,0,(AU16*((LOG(AU16))/LOG(2))))","v":0}]
[12,1304,14,1309,13,1314,23,1322,null,null,0,1112,null,2121,{"$f":"COUNTIF($L$7:$L$500,N17)","v":0},{"$f":"O17/$Q$4","v":0},{"$f":"IF(P17=0,0,(P17*((LOG(P17))/LOG(2))))","v":0},null,null,{"$f":"N17","v":2121},{"$f":"COUNTIF(L7:L12,T17)","v":0},{"$f":"U17/(W4-U20)","v":0},{"$f":"IF(V17=0,0,(V17*((LOG(V17))/LOG(2))))","v":0},null,{"$f":"N17","v":2121},{"$f":"COUNTIF(L13:L18,Y17)","v":0},{"$f":"Z17/(AB4-Z20)","v":0},{"$f":"IF(AA17=0,0,(AA17*((LOG(AA17))/LOG(2))))","v":0},null,{"$f":"N17","v":2121},{"$f":"COUNTIF(L19:L23,AD17)","v":0},{"$f":"AE17/(AG4-AE20)","v":0},{"$f":"IF(AF17=0,0,(AF17*((LOG(AF17))/LOG(2))))","v":0},null,{"$f":"N17","v":2121},{"$f":"COUNTIF(L24:L29,AI17)","v":0},{"$f":"AJ17/(AL4-AJ20)","v":0},{"$f":"IF(AK17=0,0,(AK17*((LOG(AK17))/LOG(2))))","v":0},null,{"$f":"N17","v":2121},{"$f":"COUNTIF(L30:L35,AN17)","v":0},{"$f":"AO17/(AQ4-AO20)","v":0},{"$f":"IF(AP17=0,0,(AP17*((LOG(AP17))/LOG(2))))","v":0},null,{"$f":"N17","v":2121},{"$f":"COUNTIF(L36:L41,AS17)","v":0},{"$f":"AT17/(AV4-AT20)","v":0},{"$f":"IF(AU17=0,0,(AU17*((LOG(AU17))/LOG(2))))","v":0}]
[12,1423,23,1432,24,1436,23,1443,null,null,0,1222,null,2122,{"$f":"COUNTIF($L$7:$L$500,N18)","v":1},{"$f":"O18/$Q$4","v":2.9411764705882353E-2},{"$f":"IF(P18=0,0,(P18*((LOG(P18))/LOG(2))))","v":-0.14963126003677468},null,null,{"$f":"N18","v":2122},{"$f":"COUNTIF(L7:L12,T18)","v":0},{"$f":"U18/(W4-U20)","v":0},{"$f":"IF(V18=0,0,(V18*((LOG(V18))/LOG(2))))","v":0},null,{"$f":"N18","v":2122},{"$f":"COUNTIF(L13:L18,Y18)","v":0},{"$f":"Z18/(AB4-Z20)","v":0},{"$f":"IF(AA18=0,0,(AA18*((LOG(AA18))/LOG(2))))","v":0},null,{"$f":"N18","v":2122},{"$f":"COUNTIF(L19:L23,AD18)","v":0},{"$f":"AE18/(AG4-AE20)","v":0},{"$f":"IF(AF18=0,0,(AF18*((LOG(AF18))/LOG(2))))","v":0},null,{"$f":"N18","v":2122},{"$f":"COUNTIF(L24:L29,AI18)","v":0},{"$f":"AJ18/(AL4-AJ20)","v":0},{"$f":"IF(AK18=0,0,(AK18*((LOG(AK18))/LOG(2))))","v":0},null,{"$f":"N18","v":2122},{"$f":"COUNTIF(L30:L35,AN18)","v":1},{"$f":"AO18/(AQ4-AO20)","v":0.16666666666666666},{"$f":"IF(AP18=0,0,(AP18*((LOG(AP18))/LOG(2))))","v":-0.43082708345352599},null,{"$f":"N18","v":2122},{"$f":"COUNTIF(L36:L41,AS18)","v":0},{"$f":"AT18/(AV4-AT20)","v":0},{"$f":"IF(AU18=0,0,(AU18*((LOG(AU18))/LOG(2))))","v":0}]
[12,1540,14,1548,13,1556,23,1563,null,null,0,1112,null,2211,{"$f":"COUNTIF($L$7:$L$500,N19)","v":0},{"$f":"O19/$Q$4","v":0},{"$f":"IF(P19=0,0,(P19*((LOG(P19))/LOG(2))))","v":0},null,null,{"$f":"N19","v":2211},{"$f":"COUNTIF(L7:L12,T19)","v":0},{"$f":"U19/(W4-U20)","v":0},{"$f":"IF(V19=0,0,(V19*((LOG(V19))/LOG(2))))","v":0},null,{"$f":"N19","v":2211},{"$f":"COUNTIF(L13:L18,Y19)","v":0},{"$f":"Z19/(AB4-Z20)","v":0},{"$f":"IF(AA19=0,0,(AA19*((LOG(AA19))/LOG(2))))","v":0},null,{"$f":"N19","v":2211},{"$f":"COUNTIF(L19:L23,AD19)","v":0},{"$f":"AE19/(AG4-AE20)","v":0},{"$f":"IF(AF19=0,0,(AF19*((LOG(AF19))/LOG(2))))","v":0},null,{"$f":"N19","v":2211},{"$f":"COUNTIF(L24:L29,AI19)","v":0},{"$f":"AJ19/(AL4-AJ20)","v":0},{"$f":"IF(AK19=0,0,(AK19*((LOG(AK19))/LOG(2))))","v":0},null,{"$f":"N19","v":2211},{"$f":"COUNTIF(L30:L35,AN19)","v":0},{"$f":"AO19/(AQ4-AO20)","v":0},{"$f":"IF(AP19=0,0,(AP19*((LOG(AP19))/LOG(2))))","v":0},null,{"$f":"N19","v":2211},{"$f":"COUNTIF(L36:L41,AS19)","v":0},{"$f":"AT19/(AV4-AT20)","v":0},{"$f":"IF(AU19=0,0,(AU19*((LOG(AU19))/LOG(2))))","v":0}]
[12,1660,14,1667,13,1673,23,1680,null,null,0,1112,null,2212,{"$f":"COUNTIF($L$7:$L$500,N20)","v":0},{"$f":"O20/$Q$4","v":0},{"$f":"IF(P20=0,0,(P20*((LOG(P20))/LOG(2))))","v":0},null,null,{"$f":"N20","v":2212},{"$f":"COUNTIF(L7:L12,T20)","v":0},null,null,null,{"$f":"N20","v":2212},{"$f":"COUNTIF(L13:L18,Y20)","v":0},null,null,null,{"$f":"N20","v":2212},{"$f":"COUNTIF(L19:L23,AD20)","v":0},null,null,null,{"$f":"N20","v":2212},{"$f":"COUNTIF(L24:L29,AI20)","v":0},null,null,null,{"$f":"N20","v":2212},{"$f":"COUNTIF(L30:L35,AN20)","v":0},null,null,null,{"$f":"N20","v":2212},{"$f":"COUNTIF(L36:L41,AS20)","v":0}]
[12,1787,23,1795,24,1802,23,1809,null,null,0,1222,null,2221,{"$f":"COUNTIF($L$7:$L$500,N21)","v":0},{"$f":"O21/$Q$4","v":0},{"$f":"IF(P21=0,0,(P21*((LOG(P21))/LOG(2))))","v":0},null,null,{"$f":"N21","v":2221},{"$f":"COUNTIF(L7:L12,T21)","v":0},{"$f":"U21/(W4-U20)","v":0},{"$f":"IF(V21=0,0,(V21*((LOG(V21))/LOG(2))))","v":0},null,{"$f":"N21","v":2221},{"$f":"COUNTIF(L13:L18,Y21)","v":0},{"$f":"Z21/(AB4-Z20)","v":0},{"$f":"IF(AA21=0,0,(AA21*((LOG(AA21))/LOG(2))))","v":0},null,{"$f":"N21","v":2221},{"$f":"COUNTIF(L19:L23,AD21)","v":0},{"$f":"AE21/(AG4-AE20)","v":0},{"$f":"IF(AF21=0,0,(AF21*((LOG(AF21))/LOG(2))))","v":0},null,{"$f":"N21","v":2221},{"$f":"COUNTIF(L24:L29,AI21)","v":0},{"$f":"AJ21/(AL4-AJ20)","v":0},{"$f":"IF(AK21=0,0,(AK21*((LOG(AK21))/LOG(2))))","v":0},null,{"$f":"N21","v":2221},{"$f":"COUNTIF(L30:L35,AN21)","v":0},{"$f":"AO21/(AQ4-AO20)","v":0},{"$f":"IF(AP21=0,0,(AP21*((LOG(AP21))/LOG(2))))","v":0},null,{"$f":"N21","v":2221},{"$f":"COUNTIF(L36:L41,AS21)","v":0},{"$f":"AT21/(AV4-AT20)","v":0},{"$f":"IF(AU21=0,0,(AU21*((LOG(AU21))/LOG(2))))","v":0}]
[12,1908,23,1919,24,1923,23,1928,null,null,0,1222,null,2222,{"$f":"COUNTIF($L$7:$L$500,N22)","v":2},{"$f":"O22/$Q$4","v":5.8823529411764705E-2},{"$f":"IF(P22=0,0,(P22*((LOG(P22))/LOG(2))))","v":-0.24043899066178465},null,null,{"$f":"N22","v":2222},{"$f":"COUNTIF(L7:L12,T22)","v":0},{"$f":"U22/(W4-U20)","v":0},{"$f":"IF(V22=0,0,(V22*((LOG(V22))/LOG(2))))","v":0},null,{"$f":"N22","v":2222},{"$f":"COUNTIF(L13:L18,Y22)","v":1},{"$f":"Z22/(AB4-Z20)","v":0.16666666666666666},{"$f":"IF(AA22=0,0,(AA22*((LOG(AA22))/LOG(2))))","v":-0.43082708345352599},null,{"$f":"N22","v":2222},{"$f":"COUNTIF(L19:L23,AD22)","v":0},{"$f":"AE22/(AG4-AE20)","v":0},{"$f":"IF(AF22=0,0,(AF22*((LOG(AF22))/LOG(2))))","v":0},null,{"$f":"N22","v":2222},{"$f":"COUNTIF(L24:L29,AI22)","v":1},{"$f":"AJ22/(AL4-AJ20)","v":0.16666666666666666},{"$f":"IF(AK22=0,0,(AK22*((LOG(AK22))/LOG(2))))","v":-0.43082708345352599},null,{"$f":"N22","v":2222},{"$f":"COUNTIF(L30:L35,AN22)","v":0},{"$f":"AO22/(AQ4-AO20)","v":0},{"$f":"IF(AP22=0,0,(AP22*((LOG(AP22))/LOG(2))))","v":0},null,{"$f":"N22","v":2222},{"$f":"COUNTIF(L36:L41,AS22)","v":0},{"$f":"AT22/(AV4-AT20)","v":0},{"$f":"IF(AU22=0,0,(AU22*((LOG(AU22))/LOG(2))))","v":0}]
[12,2037,23,2048,24,2055,23,2061,null,null,0,1222,null,null,null,{"$f":"SUM(P7:P22)","v":1},{"$f":"-SUM(Q7:Q22)","v":2.3928895665397181},null,null,null,null,{"$f":"SUM(V7:V22)","v":1},{"$f":"-SUM(W7:W22)","v":1},null,null,null,{"$f":"SUM(AA7:AA22)","v":0.99999999999999989},{"$f":"-SUM(AB7:AB22)","v":1.7924812503605778},null,null,null,{"$f":"SUM(AF7:AF22)","v":1},{"$f":"-SUM(AG7:AG22)","v":0.97095059445466869},null,null,null,{"$f":"SUM(AK7:AK22)","v":0.99999999999999989},{"$f":"-SUM(AL7:AL22)","v":1.7924812503605778},null,null,null,{"$f":"SUM(AP7:AP22)","v":0.99999999999999989},{"$f":"-SUM(AQ7:AQ22)","v":1.7924812503605778},null,null,null,{"$f":"SUM(AU7:AU22)","v":1},{"$f":"-SUM(AV7:AV22)","v":1.5219280948873624}]
[12,2160,23,2168,24,2172,23,2176,null,null,0,1222,null,null,null,"U=",{"$f":"Q23/(LOG(Q4)/LOG(2))","v":0.47035027895193837},null,null,null,null,"U1=",{"$f":"W23/(LOG(W4)/LOG(2))","v":0.38685280723454163},null,null,null,"U2=",{"$f":"AB23/(LOG(AB4)/LOG(2))","v":0.6934264036172707},null,null,null,"U3=",{"$f":"AG23/(LOG(AG4)/LOG(2))","v":0.41816566007905159},null,null,null,"U4=",{"$f":"AL23/(LOG(AL4)/LOG(2))","v":0.6934264036172707},null,null,null,"U5=",{"$f":"AQ23/(LOG(AQ4)/LOG(2))","v":0.6934264036172707},null,null,null,"U6=",{"$f":"AV23/(LOG(AV4)/LOG(2))","v":0.65545875354128547}]
[12,2275,14,2279,24,2288,23,2291,null,null,0,1122]
[21,2398,21,2409,22,2420,23,2431,null,null,0,2222]
[12,2532,14,2536,24,2545,23,2550,null,null,0,1122,null,"Total Target Seq"]
[12,2789,14,2813,13,2819,23,2830,null,null,0,1112,null,{"$f":"COUNTIF(L7:L41,G3)","v":0},null,6,6,5,6,6,6]
[12,3469,14,3473,24,3483,23,3493,null,null,0,1122,null,null,null,"% of reinforcement given in 6 equal intervals based on number of trials "]
[12,3719,14,3728,24,3738,14,4810,null,null,0,1121,null,null,null,"%_1","%_2","%_3","%_4","%_5","%_6"]
[12,5256,23,5265,24,5271,23,5276,null,null,0,1222,null,null,"target sequence",{"$f":"$G$3","v":2212},{"$f":"$G$3","v":2212},{"$f":"$G$3","v":2212},{"$f":"$G$3","v":2212},{"$f":"$G$3","v":2212},{"$f":"$G$3","v":2212}]
[21,7846,12,7977,24,7984,23,7988,null,null,0,2122,null,null,"total reinforcement",{"$f":"U20","v":0},{"$f":"Z20","v":0},{"$f":"AE20","v":0},{"$f":"AJ20","v":0},{"$f":"AO20","v":0},{"$f":"AT20","v":0}]
[12,9016,23,9026,24,9030,23,9035,null,null,0,1222,null,null,"% target"]
[21,9182,12,9186,13,10032,14,10041,null,null,0,2111,null,null,"CCRF"]
[12,10399,23,10409,24,10412,23,10417,null,null,0,1222,null,null,"% CCRf"]
[12,10586,23,10700,24,10702,23,10706,null,null,0,1222,null,null,"average response rate",{"$f":"H12/P28","v":114.5},{"$f":"(H18-H12)/Q28","v":126},{"$f":"(H23-H18)/R28","v":123.6},{"$f":"(H29-H23)/S28","v":238.66666666666666},{"$f":"(H35-H29)/T28","v":1154},{"$f":"(H41-H35)/U28","v":-1736.1666666666667}]
[12,10989,23,11018,24,11028,14,11035,null,null,0,1221]
[12,11922,23,12554,24,12659,23,12674,null,null,0,1222]
[12,14056,14,14580,24,14589,23,14594,null,null,0,1122]
[12,17459,23,17470,24,17475,14,17484,null,null,0,1221]
[12,19991,14,20394,24,21812,null,null,null,null,null,112]

{"sheet":"!LB15A24..Is","index":8,"n_rows":36,"n_cols":48,"rows_kept":36,"cut":false,"hidden":false,"merged":[[4,39,4,42],[5,39,5,40],[4,44,4,47],[5,44,5,45],[4,24,4,27],[5,24,5,25],[4,29,4,32],[5,29,5,30],[4,34,4,37],[5,34,5,35],[1,1,1,2],[5,13,5,14],[26,13,26,14],[27,13,27,14],[4,19,4,22],[5,19,5,20]]}
["Report for:!LB15A24..Is"]
["Date:","<date>"]
["Hen:","<hen>",null,null,null,"Correct Sequence",{"$f":"Start!J2","v":2212},null,null,null,null,null,null,null,null,"Total Sequences in Data",{"$f":"4994-COUNTBLANK(L7:L5000)","v":22},null,null,null,null,"Total Sequences in Block Data",{"$f":"COUNTA(L7:L10)","v":4},null,null,null,"Total Sequences in Block Data",{"$f":"COUNTA(L11:L13)","v":3},null,null,null,"Total Sequences in Block Data",{"$f":"COUNTA(L14:L17)","v":4},null,null,null,"Total Sequences in Block Data",{"$f":"COUNTA(L18:L21)","v":4},null,null,null,"Total Sequences in Block Data",{"$f":"COUNTA(L22:L24)","v":3},null,null,null,"Total Sequences in Block Data",{"$f":"COUNTA(L25:L28)","v":4}]
[null,null,null,null,null,null,null,null,null,null,null,null,null,null,null,"Total Sequences in Summary",{"$f":"SUM(O7:O22)","v":21},null,null,null,null,"Total Sequences in Block Summary",{"$f":"SUM(U7:U22)","v":4},null,null,null,"Total Sequences in Block Summary",{"$f":"SUM(Z7:Z22)","v":3},null,null,null,"Total Sequences in Block Summary",{"$f":"SUM(AE7:AE22)","v":4},null,null,null,"Total Sequences in Block Summary",{"$f":"SUM(AJ7:AJ22)","v":4},null,null,null,"Total Sequences in Block Summary",{"$f":"SUM(AO7:AO22)","v":3},null,null,null,"Total Sequences in Block Summary",{"$f":"SUM(AT7:AT22)","v":3}]
[null,null,null,null,null,null,null,null,null,null,null,null,null,null,null,null,null,null,null,"Block 1",null,null,null,null,"Block 2",null,null,null,null,"Block 3",null,null,null,null,"Block 4",null,null,null,null,"Block 5",null,null,null,null,"Block 6"]
["Sequence\nComponent\n1","Time\n1","Sequence\nComponent\n2","Time\n2","Sequence\nComponent\n3","Time\n3","Sequence\nComponent\n4","Time\n4","Sequence\nComponent\n5","Time\n5","Correct?\n0=No 1=Yes","Sequence",null,"Frequency",null,"Relative Frequency","Variability",null,null,"Frequency",null,"Relative Frequency","Variability",null,"Frequency",null,"Relative Frequency","Variability",null,"Frequency",null,"Relative Frequency","Variability",null,"Frequency",null,"Relative Frequency","Variability",null,"Frequency",null,"Relative Frequency","Variability",null,"Frequency",null,"Relative Frequency","Variability"]
[12,112,23,122,24,126,14,140,null,null,0,1221,null,1111,{"$f":"COUNTIF($L$7:$L$500,N7)","v":2},{"$f":"O7/$Q$4","v":9.5238095238095233E-2},{"$f":"IF(P7=0,0,(P7*((LOG(P7))/LOG(2))))","v":-0.32307784978845333},null,null,{"$f":"N7","v":1111},{"$f":"COUNTIF(L7:L10,T7)","v":0},{"$f":"U7/(W4-U20)","v":0},{"$f":"IF(V7=0,0,(V7*((LOG(V7))/LOG(2))))","v":0},null,{"$f":"N7","v":1111},{"$f":"COUNTIF(L11:L13,Y7)","v":1},{"$f":"Z7/(AB4-Z20)","v":0.33333333333333331},{"$f":"IF(AA7=0,0,(AA7*((LOG(AA7))/LOG(2))))","v":-0.52832083357371862},null,{"$f":"N7","v":1111},{"$f":"COUNTIF(L14:L17,AD7)","v":1},{"$f":"AE7/(AG4-AE20)","v":0.25},{"$f":"IF(AF7=0,0,(AF7*((LOG(AF7))/LOG(2))))","v":-0.5},null,{"$f":"N7","v":1111},{"$f":"COUNTIF(L18:L21,AI7)","v":0},{"$f":"AJ7/(AL4-AJ20)","v":0},{"$f":"IF(AK7=0,0,(AK7*((LOG(AK7))/LOG(2))))","v":0},null,{"$f":"N7","v":1111},{"$f":"COUNTIF(L22:L24,AN7)","v":0},{"$f":"AO7/(AQ4-AO20)","v":0},{"$f":"IF(AP7=0,0,(AP7*((LOG(AP7))/LOG(2))))","v":0},null,{"$f":"N7","v":1111},{"$f":"COUNTIF(L25:L28,AS7)","v":0},{"$f":"AT7/(AV4-AT20)","v":0},{"$f":"IF(AU7=0,0,(AU7*((LOG(AU7))/LOG(2))))","v":0}]
[12,237,14,244,24,250,23,254,null,null,0,1122,null,1112,{"$f":"COUNTIF($L$7:$L$500,N8)","v":2},{"$f":"O8/$Q$4","v":9.5238095238095233E-2},{"$f":"IF(P8=0,0,(P8*((LOG(P8))/LOG(2))))","v":-0.32307784978845333},null,null,{"$f":"N8","v":1112},{"$f":"COUNTIF(L7:L10,T8)","v":0},{"$f":"U8/(W4-U20)","v":0},{"$f":"IF(V8=0,0,(V8*((LOG(V8))/LOG(2))))","v":0},null,{"$f":"N8","v":1112},{"$f":"COUNTIF(L11:L13,Y8)","v":0},{"$f":"Z8/(AB4-Z20)","v":0},{"$f":"IF(AA8=0,0,(AA8*((LOG(AA8))/LOG(2))))","v":0},null,{"$f":"N8","v":1112},{"$f":"COUNTIF(L14:L17,AD8)","v":2},{"$f":"AE8/(AG4-AE20)","v":0.5},{"$f":"IF(AF8=0,0,(AF8*((LOG(AF8))/LOG(2))))","v":-0.5},null,{"$f":"N8","v":1112},{"$f":"COUNTIF(L18:L21,AI8)","v":0},{"$f":"AJ8/(AL4-AJ20)","v":0},{"$f":"IF(AK8=0,0,(AK8*((LOG(AK8))/LOG(2))))","v":0},null,{"$f":"N8","v":1112},{"$f":"COUNTIF(L22:L24,AN8)","v":0},{"$f":"AO8/(AQ4-AO20)","v":0},{"$f":"IF(AP8=0,0,(AP8*((LOG(AP8))/LOG(2))))","v":0},null,{"$f":"N8","v":1112},{"$f":"COUNTIF(L25:L28,AS8)","v":0},{"$f":"AT8/(AV4-AT20)","v":0},{"$f":"IF(AU8=0,0,(AU8*((LOG(AU8))/LOG(2))))","v":0}]
[12,350,14,355,24,363,23,367,null,null,0,1122,null,1121,{"$f":"COUNTIF($L$7:$L$500,N9)","v":1},{"$f":"O9/$Q$4","v":4.7619047619047616E-2},{"$f":"IF(P9=0,0,(P9*((LOG(P9))/LOG(2))))","v":-0.20915797251327431},null,null,{"$f":"N9","v":1121},{"$f":"COUNTIF(L7:L10,T9)","v":0},{"$f":"U9/(W4-U20)","v":0},{"$f":"IF(V9=0,0,(V9*((LOG(V9))/LOG(2))))","v":0},null,{"$f":"N9","v":1121},{"$f":"COUNTIF(L11:L13,Y9)","v":0},{"$f":"Z9/(AB4-Z20)","v":0},{"$f":"IF(AA9=0,0,(AA9*((LOG(AA9))/LOG(2))))","v":0},null,{"$f":"N9","v":1121},{"$f":"COUNTIF(L14:L17,AD9)","v":0},{"$f":"AE9/(AG4-AE20)","v":0},{"$f":"IF(AF9=0,0,(AF9*((LOG(AF9))/LOG(2))))","v":0},null,{"$f":"N9","v":1121},{"$f":"COUNTIF(L18:L21,AI9)","v":0},{"$f":"AJ9/(AL4-AJ20)","v":0},{"$f":"IF(AK9=0,0,(AK9*((LOG(AK9))/LOG(2))))","v":0},null,{"$f":"N9","v":1121},{"$f":"COUNTIF(L22:L24,AN9)","v":0},{"$f":"AO9/(AQ4-AO20)","v":0},{"$f":"IF(AP9=0,0,(AP9*((LOG(AP9))/LOG(2))))","v":0},null,{"$f":"N9","v":1121},{"$f":"COUNTIF(L25:L28,AS9)","v":1},{"$f":"AT9/(AV4-AT20)","v":0.33333333333333331},{"$f":"IF(AU9=0,0,(AU9*((LOG(AU9))/LOG(2))))","v":-0.52832083357371862}]
[12,463,14,475,24,482,23,487,null,null,0,1122,null,1122,{"$f":"COUNTIF($L$7:$L$500,N10)","v":6},{"$f":"O10/$Q$4","v":0.2857142857142857},{"$f":"IF(P10=0,0,(P10*((LOG(P10))/LOG(2))))","v":-0.51638712058788683},null,null,{"$f":"N10","v":1122},{"$f":"COUNTIF(L7:L10,T10)","v":3},{"$f":"U10/(W4-U20)","v":0.75},{"$f":"IF(V10=0,0,(V10*((LOG(V10))/LOG(2))))","v":-0.31127812445913283},null,{"$f":"N10","v":1122},{"$f":"COUNTIF(L11:L13,Y10)","v":0},{"$f":"Z10/(AB4-Z20)","v":0},{"$f":"IF(AA10=0,0,(AA10*((LOG(AA10))/LOG(2))))","v":0},null,{"$f":"N10","v":1122},{"$f":"COUNTIF(L14:L17,AD10)","v":1},{"$f":"AE10/(AG4-AE20)","v":0.25},{"$f":"IF(AF10=0,0,(AF10*((LOG(AF10))/LOG(2))))","v":-0.5},null,{"$f":"N10","v":1122},{"$f":"COUNTIF(L18:L21,AI10)","v":1},{"$f":"AJ10/(AL4-AJ20)","v":0.25},{"$f":"IF(AK10=0,0,(AK10*((LOG(AK10))/LOG(2))))","v":-0.5},null,{"$f":"N10","v":1122},{"$f":"COUNTIF(L22:L24,AN10)","v":1},{"$f":"AO10/(AQ4-AO20)","v":0.33333333333333331},{"$f":"IF(AP10=0,0,(AP10*((LOG(AP10))/LOG(2))))","v":-0.52832083357371862},null,{"$f":"N10","v":1122},{"$f":"COUNTIF(L25:L28,AS10)","v":0},{"$f":"AT10/(AV4-AT20)","v":0},{"$f":"IF(AU10=0,0,(AU10*((LOG(AU10))/LOG(2))))","v":0}]
[12,584,23,600,24,605,23,611,null,null,0,1222,null,1211,{"$f":"COUNTIF($L$7:$L$500,N11)","v":1},{"$f":"O11/$Q$4","v":4.7619047619047616E-2},{"$f":"IF(P11=0,0,(P11*((LOG(P11))/LOG(2))))","v":-0.20915797251327431},null,null,{"$f":"N11","v":1211},{"$f":"COUNTIF(L7:L10,T11)","v":0},{"$f":"U11/(W4-U20)","v":0},{"$f":"IF(V11=0,0,(V11*((LOG(V11))/LOG(2))))","v":0},null,{"$f":"N11","v":1211},{"$f":"COUNTIF(L11:L13,Y11)","v":0},{"$f":"Z11/(AB4-Z20)","v":0},{"$f":"IF(AA11=0,0,(AA11*((LOG(AA11))/LOG(2))))","v":0},null,{"$f":"N11","v":1211},{"$f":"COUNTIF(L14:L17,AD11)","v":0},{"$f":"AE11/(AG4-AE20)","v":0},{"$f":"IF(AF11=0,0,(AF11*((LOG(AF11))/LOG(2))))","v":0},null,{"$f":"N11","v":1211},{"$f":"COUNTIF(L18:L21,AI11)","v":0},{"$f":"AJ11/(AL4-AJ20)","v":0},{"$f":"IF(AK11=0,0,(AK11*((LOG(AK11))/LOG(2))))","v":0},null,{"$f":"N11","v":1211},{"$f":"COUNTIF(L22:L24,AN11)","v":1},{"$f":"AO11/(AQ4-AO20)","v":0.33333333333333331},{"$f":"IF(AP11=0,0,(AP11*((LOG(AP11))/LOG(2))))","v":-0.52832083357371862},null,{"$f":"N11","v":1211},{"$f":"COUNTIF(L25:L28,AS11)","v":0},{"$f":"AT11/(AV4-AT20)","v":0},{"$f":"IF(AU11=0,0,(AU11*((LOG(AU11))/LOG(2))))","v":0}]
[12,707,14,713,13,716,14,718,null,null,0,1111,null,1212,{"$f":"COUNTIF($L$7:$L$500,N12)","v":1},{"$f":"O12/$Q$4","v":4.7619047619047616E-2},{"$f":"IF(P12=0,0,(P12*((LOG(P12))/LOG(2))))","v":-0.20915797251327431},null,null,{"$f":"N12","v":1212},{"$f":"COUNTIF(L7:L10,T12)","v":0},{"$f":"U12/(W4-U20)","v":0},{"$f":"IF(V12=0,0,(V12*((LOG(V12))/LOG(2))))","v":0},null,{"$f":"N12","v":1212},{"$f":"COUNTIF(L11:L13,Y12)","v":0},{"$f":"Z12/(AB4-Z20)","v":0},{"$f":"IF(AA12=0,0,(AA12*((LOG(AA12))/LOG(2))))","v":0},null,{"$f":"N12","v":1212},{"$f":"COUNTIF(L14:L17,AD12)","v":0},{"$f":"AE12/(AG4-AE20)","v":0},{"$f":"IF(AF12=0,0,(AF12*((LOG(AF12))/LOG(2))))","v":0},null,{"$f":"N12","v":1212},{"$f":"COUNTIF(L18:L21,AI12)","v":1},{"$f":"AJ12/(AL4-AJ20)","v":0.25},{"$f":"IF(AK12=0,0,(AK12*((LOG(AK12))/LOG(2))))","v":-0.5},null,{"$f":"N12","v":1212},{"$f":"COUNTIF(L22:L24,AN12)","v":0},{"$f":"AO12/(AQ4-AO20)","v":0},{"$f":"IF(AP12=0,0,(AP12*((LOG(AP12))/LOG(2))))","v":0},null,{"$f":"N12","v":1212},{"$f":"COUNTIF(L25:L28,AS12)","v":0},{"$f":"AT12/(AV4-AT20)","v":0},{"$f":"IF(AU12=0,0,(AU12*((LOG(AU12))/LOG(2))))","v":0}]
[12,816,23,829,24,832,23,837,null,null,0,1222,null,1221,{"$f":"COUNTIF($L$7:$L$500,N13)","v":1},{"$f":"O13/$Q$4","v":4.7619047619047616E-2},{"$f":"IF(P13=0,0,(P13*((LOG(P13))/LOG(2))))","v":-0.20915797251327431},null,null,{"$f":"N13","v":1221},{"$f":"COUNTIF(L7:L10,T13)","v":1},{"$f":"U13/(W4-U20)","v":0.25},{"$f":"IF(V13=0,0,(V13*((LOG(V13))/LOG(2))))","v":-0.5},null,{"$f":"N13","v":1221},{"$f":"COUNTIF(L11:L13,Y13)","v":0},{"$f":"Z13/(AB4-Z20)","v":0},{"$f":"IF(AA13=0,0,(AA13*((LOG(AA13))/LOG(2))))","v":0},null,{"$f":"N13","v":1221},{"$f":"COUNTIF(L14:L17,AD13)","v":0},{"$f":"AE13/(AG4-AE20)","v":0},{"$f":"IF(AF13=0,0,(AF13*((LOG(AF13))/LOG(2))))","v":0},null,{"$f":"N13","v":1221},{"$f":"COUNTIF(L18:L21,AI13)","v":0},{"$f":"AJ13/(AL4-AJ20)","v":0},{"$f":"IF(AK13=0,0,(AK13*((LOG(AK13))/LOG(2))))","v":0},null,{"$f":"N13","v":1221},{"$f":"COUNTIF(L22:L24,AN13)","v":0},{"$f":"AO13/(AQ4-AO20)","v":0},{"$f":"IF(AP13=0,0,(AP13*((LOG(AP13))/LOG(2))))","v":0},null,{"$f":"N13","v":1221},{"$f":"COUNTIF(L25:L28,AS13)","v":0},{"$f":"AT13/(AV4-AT20)","v":0},{"$f":"IF(AU13=0,0,(AU13*((LOG(AU13))/LOG(2))))","v":0}]
[12,965,14,971,24,980,23,983,null,null,0,1122,null,1222,{"$f":"COUNTIF($L$7:$L$500,N14)","v":6},{"$f":"O14/$Q$4","v":0.2857142857142857},{"$f":"IF(P14=0,0,(P14*((LOG(P14))/LOG(2))))","v":-0.51638712058788683},null,null,{"$f":"N14","v":1222},{"$f":"COUNTIF(L7:L10,T14)","v":0},{"$f":"U14/(W4-U20)","v":0},{"$f":"IF(V14=0,0,(V14*((LOG(V14))/LOG(2))))","v":0},null,{"$f":"N14","v":1222},{"$f":"COUNTIF(L11:L13,Y14)","v":2},{"$f":"Z14/(AB4-Z20)","v":0.66666666666666663},{"$f":"IF(AA14=0,0,(AA14*((LOG(AA14))/LOG(2))))","v":-0.38997500048077083},null,{"$f":"N14","v":1222},{"$f":"COUNTIF(L14:L17,AD14)","v":0},{"$f":"AE14/(AG4-AE20)","v":0},{"$f":"IF(AF14=0,0,(AF14*((LOG(AF14))/LOG(2))))","v":0},null,{"$f":"N14","v":1222},{"$f":"COUNTIF(L18:L21,AI14)","v":2},{"$f":"AJ14/(AL4-AJ20)","v":0.5},{"$f":"IF(AK14=0,0,(AK14*((LOG(AK14))/LOG(2))))","v":-0.5},null,{"$f":"N14","v":1222},{"$f":"COUNTIF(L22:L24,AN14)","v":1},{"$f":"AO14/(AQ4-AO20)","v":0.33333333333333331},{"$f":"IF(AP14=0,0,(AP14*((LOG(AP14))/LOG(2))))","v":-0.52832083357371862},null,{"$f":"N14","v":1222},{"$f":"COUNTIF(L25:L28,AS14)","v":1},{"$f":"AT14/(AV4-AT20)","v":0.33333333333333331},{"$f":"IF(AU14=0,0,(AU14*((LOG(AU14))/LOG(2))))","v":-0.52832083357371862}]
[12,1082,14,1088,13,1091,23,1101,null,null,0,1112,null,2111,{"$f":"COUNTIF($L$7:$L$500,N15)","v":0},{"$f":"O15/$Q$4","v":0},{"$f":"IF(P15=0,0,(P15*((LOG(P15))/LOG(2))))","v":0},null,null,{"$f":"N15","v":2111},{"$f":"COUNTIF(L7:L10,T15)","v":0},{"$f":"U15/(W4-U20)","v":0},{"$f":"IF(V15=0,0,(V15*((LOG(V15))/LOG(2))))","v":0},null,{"$f":"N15","v":2111},{"$f":"COUNTIF(L11:L13,Y15)","v":0},{"$f":"Z15/(AB4-Z20)","v":0},{"$f":"IF(AA15=0,0,(AA15*((LOG(AA15))/LOG(2))))","v":0},null,{"$f":"N15","v":2111},{"$f":"COUNTIF(L14:L17,AD15)","v":0},{"$f":"AE15/(AG4-AE20)","v":0},{"$f":"IF(AF15=0,0,(AF15*((LOG(AF15))/LOG(2))))","v":0},null,{"$f":"N15","v":2111},{"$f":"COUNTIF(L18:L21,AI15)","v":0},{"$f":"AJ15/(AL4-AJ20)","v":0},{"$f":"IF(AK15=0,0,(AK15*((LOG(AK15))/LOG(2))))","v":0},null,{"$f":"N15","v":2111},{"$f":"COUNTIF(L22:L24,AN15)","v":0},{"$f":"AO15/(AQ4-AO20)","v":0},{"$f":"IF(AP15=0,0,(AP15*((LOG(AP15))/LOG(2))))","v":0},null,{"$f":"N15","v":2111},{"$f":"COUNTIF(L25:L28,AS15)","v":0},{"$f":"AT15/(AV4-AT20)","v":0},{"$f":"IF(AU15=0,0,(AU15*((LOG(AU15))/LOG(2))))","v":0}]
[12,1197,14,1202,13,1206,23,1215,null,null,0,1112,null,2112,{"$f":"COUNTIF($L$7:$L$500,N16)","v":0},{"$f":"O16/$Q$4","v":0},{"$f":"IF(P16=0,0,(P16*((LOG(P16))/LOG(2))))","v":0},null,null,{"$f":"N16","v":2112},{"$f":"COUNTIF(L7:L10,T16)","v":0},{"$f":"U16/(W4-U20)","v":0},{"$f":"IF(V16=0,0,(V16*((LOG(V16))/LOG(2))))","v":0},null,{"$f":"N16","v":2112},{"$f":"COUNTIF(L11:L13,Y16)","v":0},{"$f":"Z16/(AB4-Z20)","v":0},{"$f":"IF(AA16=0,0,(AA16*((LOG(AA16))/LOG(2))))","v":0},null,{"$f":"N16","v":2112},{"$f":"COUNTIF(L14:L17,AD16)","v":0},{"$f":"AE16/(AG4-AE20)","v":0},{"$f":"IF(AF16=0,0,(AF16*((LOG(AF16))/LOG(2))))","v":0},null,{"$f":"N16","v":2112},{"$f":"COUNTIF(L18:L21,AI16)","v":0},{"$f":"AJ16/(AL4-AJ20)","v":0},{"$f":"IF(AK16=0,0,(AK16*((LOG(AK16))/LOG(2))))","v":0},null,{"$f":"N16","v":2112},{"$f":"COUNTIF(L22:L24,AN16)","v":0},{"$f":"AO16/(AQ4-AO20)","v":0},{"$f":"IF(AP16=0,0,(AP16*((LOG(AP16))/LOG(2))))","v":0},null,{"$f":"N16","v":2112},{"$f":"COUNTIF(L25:L28,AS16)","v":0},{"$f":"AT16/(AV4-AT20)","v":0},{"$f":"IF(AU16=0,0,(AU16*((LOG(AU16))/LOG(2))))","v":0}]
[12,1319,14,1324,13,1328,14,1334,null,null,0,1111,null,2121,{"$f":"COUNTIF($L$7:$L$500,N17)","v":0},{"$f":"O17/$Q$4","v":0},{"$f":"IF(P17=0,0,(P17*((LOG(P17))/LOG(2))))","v":0},null,null,{"$f":"N17","v":2121},{"$f":"COUNTIF(L7:L10,T17)","v":0},{"$f":"U17/(W4-U20)","v":0},{"$f":"IF(V17=0,0,(V17*((LOG(V17))/LOG(2))))","v":0},null,{"$f":"N17","v":2121},{"$f":"COUNTIF(L11:L13,Y17)","v":0},{"$f":"Z17/(AB4-Z20)","v":0},{"$f":"IF(AA17=0,0,(AA17*((LOG(AA17))/LOG(2))))","v":0},null,{"$f":"N17","v":2121},{"$f":"COUNTIF(L14:L17,AD17)","v":0},{"$f":"AE17/(AG4-AE20)","v":0},{"$f":"IF(AF17=0,0,(AF17*((LOG(AF17))/LOG(2))))","v":0},null,{"$f":"N17","v":2121},{"$f":"COUNTIF(L18:L21,AI17)","v":0},{"$f":"AJ17/(AL4-AJ20)","v":0},{"$f":"IF(AK17=0,0,(AK17*((LOG(AK17))/LOG(2))))","v":0},null,{"$f":"N17","v":2121},{"$f":"COUNTIF(L22:L24,AN17)","v":0},{"$f":"AO17/(AQ4-AO20)","v":0},{"$f":"IF(AP17=0,0,(AP17*((LOG(AP17))/LOG(2))))","v":0},null,{"$f":"N17","v":2121},{"$f":"COUNTIF(L25:L28,AS17)","v":0},{"$f":"AT17/(AV4-AT20)","v":0},{"$f":"IF(AU17=0,0,(AU17*((LOG(AU17))/LOG(2))))","v":0}]
[12,1439,14,1452,24,1480,23,1486,null,null,0,1122,null,2122,{"$f":"COUNTIF($L$7:$L$500,N18)","v":0},{"$f":"O18/$Q$4","v":0},{"$f":"IF(P18=0,0,(P18*((LOG(P18))/LOG(2))))","v":0},null,null,{"$f":"N18","v":2122},{"$f":"COUNTIF(L7:L10,T18)","v":0},{"$f":"U18/(W4-U20)","v":0},{"$f":"IF(V18=0,0,(V18*((LOG(V18))/LOG(2))))","v":0},null,{"$f":"N18","v":2122},{"$f":"COUNTIF(L11:L13,Y18)","v":0},{"$f":"Z18/(AB4-Z20)","v":0},{"$f":"IF(AA18=0,0,(AA18*((LOG(AA18))/LOG(2))))","v":0},null,{"$f":"N18","v":2122},{"$f":"COUNTIF(L14:L17,AD18)","v":0},{"$f":"AE18/(AG4-AE20)","v":0},{"$f":"IF(AF18=0,0,(AF18*((LOG(AF18))/LOG(2))))","v":0},null,{"$f":"N18","v":2122},{"$f":"COUNTIF(L18:L21,AI18)","v":0},{"$f":"AJ18/(AL4-AJ20)","v":0},{"$f":"IF(AK18=0,0,(AK18*((LOG(AK18))/LOG(2))))","v":0},null,{"$f":"N18","v":2122},{"$f":"COUNTIF(L22:L24,AN18)","v":0},{"$f":"AO18/(AQ4-AO20)","v":0},{"$f":"IF(AP18=0,0,(AP18*((LOG(AP18))/LOG(2))))","v":0},null,{"$f":"N18","v":2122},{"$f":"COUNTIF(L25:L28,AS18)","v":0},{"$f":"AT18/(AV4-AT20)","v":0},{"$f":"IF(AU18=0,0,(AU18*((LOG(AU18))/LOG(2))))","v":0}]
[12,1611,23,1621,24,1627,23,1633,null,null,0,1222,null,2211,{"$f":"COUNTIF($L$7:$L$500,N19)","v":0},{"$f":"O19/$Q$4","v":0},{"$f":"IF(P19=0,0,(P19*((LOG(P19))/LOG(2))))","v":0},null,null,{"$f":"N19","v":2211},{"$f":"COUNTIF(L7:L10,T19)","v":0},{"$f":"U19/(W4-U20)","v":0},{"$f":"IF(V19=0,0,(V19*((LOG(V19))/LOG(2))))","v":0},null,{"$f":"N19","v":2211},{"$f":"COUNTIF(L11:L13,Y19)","v":0},{"$f":"Z19/(AB4-Z20)","v":0},{"$f":"IF(AA19=0,0,(AA19*((LOG(AA19))/LOG(2))))","v":0},null,{"$f":"N19","v":2211},{"$f":"COUNTIF(L14:L17,AD19)","v":0},{"$f":"AE19/(AG4-AE20)","v":0},{"$f":"IF(AF19=0,0,(AF19*((LOG(AF19))/LOG(2))))","v":0},null,{"$f":"N19","v":2211},{"$f":"COUNTIF(L18:L21,AI19)","v":0},{"$f":"AJ19/(AL4-AJ20)","v":0},{"$f":"IF(AK19=0,0,(AK19*((LOG(AK19))/LOG(2))))","v":0},null,{"$f":"N19","v":2211},{"$f":"COUNTIF(L22:L24,AN19)","v":0},{"$f":"AO19/(AQ4-AO20)","v":0},{"$f":"IF(AP19=0,0,(AP19*((LOG(AP19))/LOG(2))))","v":0},null,{"$f":"N19","v":2211},{"$f":"COUNTIF(L25:L28,AS19)","v":0},{"$f":"AT19/(AV4-AT20)","v":0},{"$f":"IF(AU19=0,0,(AU19*((LOG(AU19))/LOG(2))))","v":0}]
[12,1794,23,1804,24,1808,23,1813,null,null,0,1222,null,2212,{"$f":"COUNTIF($L$7:$L$500,N20)","v":0},{"$f":"O20/$Q$4","v":0},{"$f":"IF(P20=0,0,(P20*((LOG(P20))/LOG(2))))","v":0},null,null,{"$f":"N20","v":2212},{"$f":"COUNTIF(L7:L10,T20)","v":0},null,null,null,{"$f":"N20","v":2212},{"$f":"COUNTIF(L11:L13,Y20)","v":0},null,null,null,{"$f":"N20","v":2212},{"$f":"COUNTIF(L14:L17,AD20)","v":0},null,null,null,{"$f":"N20","v":2212},{"$f":"COUNTIF(L18:L21,AI20)","v":0},null,null,null,{"$f":"N20","v":2212},{"$f":"COUNTIF(L22:L24,AN20)","v":0},null,null,null,{"$f":"N20","v":2212},{"$f":"COUNTIF(L25:L28,AS20)","v":0}]
[12,2174,23,2186,13,2204,23,2217,null,null,0,1212,null,2221,{"$f":"COUNTIF($L$7:$L$500,N21)","v":0},{"$f":"O21/$Q$4","v":0},{"$f":"IF(P21=0,0,(P21*((LOG(P21))/LOG(2))))","v":0},null,null,{"$f":"N21","v":2221},{"$f":"COUNTIF(L7:L10,T21)","v":0},{"$f":"U21/(W4-U20)","v":0},{"$f":"IF(V21=0,0,(V21*((LOG(V21))/LOG(2))))","v":0},null,{"$f":"N21","v":2221},{"$f":"COUNTIF(L11:L13,Y21)","v":0},{"$f":"Z21/(AB4-Z20)","v":0},{"$f":"IF(AA21=0,0,(AA21*((LOG(AA21))/LOG(2))))","v":0},null,{"$f":"N21","v":2221},{"$f":"COUNTIF(L14:L17,AD21)","v":0},{"$f":"AE21/(AG4-AE20)","v":0},{"$f":"IF(AF21=0,0,(AF21*((LOG(AF21))/LOG(2))))","v":0},null,{"$f":"N21","v":2221},{"$f":"COUNTIF(L18:L21,AI21)","v":0},{"$f":"AJ21/(AL4-AJ20)","v":0},{"$f":"IF(AK21=0,0,(AK21*((LOG(AK21))/LOG(2))))","v":0},null,{"$f":"N21","v":2221},{"$f":"COUNTIF(L22:L24,AN21)","v":0},{"$f":"AO21/(AQ4-AO20)","v":0},{"$f":"IF(AP21=0,0,(AP21*((LOG(AP21))/LOG(2))))","v":0},null,{"$f":"N21","v":2221},{"$f":"COUNTIF(L25:L28,AS21)","v":0},{"$f":"AT21/(AV4-AT20)","v":0},{"$f":"IF(AU21=0,0,(AU21*((LOG(AU21))/LOG(2))))","v":0}]
[12,3553,23,3562,13,3586,14,3592,null,null,0,1211,null,2222,{"$f":"COUNTIF($L$7:$L$500,N22)","v":1},{"$f":"O22/$Q$4","v":4.7619047619047616E-2},{"$f":"IF(P22=0,0,(P22*((LOG(P22))/LOG(2))))","v":-0.20915797251327431},null,null,{"$f":"N22","v":2222},{"$f":"COUNTIF(L7:L10,T22)","v":0},{"$f":"U22/(W4-U20)","v":0},{"$f":"IF(V22=0,0,(V22*((LOG(V22))/LOG(2))))","v":0},null,{"$f":"N22","v":2222},{"$f":"COUNTIF(L11:L13,Y22)","v":0},{"$f":"Z22/(AB4-Z20)","v":0},{"$f":"IF(AA22=0,0,(AA22*((LOG(AA22))/LOG(2))))","v":0},null,{"$f":"N22","v":2222},{"$f":"COUNTIF(L14:L17,AD22)","v":0},{"$f":"AE22/(AG4-AE20)","v":0},{"$f":"IF(AF22=0,0,(AF22*((LOG(AF22))/LOG(2))))","v":0},null,{"$f":"N22","v":2222},{"$f":"COUNTIF(L18:L21,AI22)","v":0},{"$f":"AJ22/(AL4-AJ20)","v":0},{"$f":"IF(AK22=0,0,(AK22*((LOG(AK22))/LOG(2))))","v":0},null,{"$f":"N22","v":2222},{"$f":"COUNTIF(L22:L24,AN22)","v":0},{"$f":"AO22/(AQ4-AO20)","v":0},{"$f":"IF(AP22=0,0,(AP22*((LOG(AP22))/LOG(2))))","v":0},null,{"$f":"N22","v":2222},{"$f":"COUNTIF(L25:L28,AS22)","v":1},{"$f":"AT22/(AV4-AT20)","v":0.33333333333333331},{"$f":"IF(AU22=0,0,(AU22*((LOG(AU22))/LOG(2))))","v":-0.52832083357371862}]
[12,8119,14,8126,24,8136,23,8141,null,null,0,1122,null,null,null,{"$f":"SUM(P7:P22)","v":1},{"$f":"-SUM(Q7:Q22)","v":2.7247198033190521},null,null,null,null,{"$f":"SUM(V7:V22)","v":1},{"$f":"-SUM(W7:W22)","v":0.81127812445913283},null,null,null,{"$f":"SUM(AA7:AA22)","v":1},{"$f":"-SUM(AB7:AB22)","v":0.91829583405448945},null,null,null,{"$f":"SUM(AF7:AF22)","v":1},{"$f":"-SUM(AG7:AG22)","v":1.5},null,null,null,{"$f":"SUM(AK7:AK22)","v":1},{"$f":"-SUM(AL7:AL22)","v":1.5},null,null,null,{"$f":"SUM(AP7:AP22)","v":1},{"$f":"-SUM(AQ7:AQ22)","v":1.5849625007211559},null,null,null,{"$f":"SUM(AU7:AU22)","v":1},{"$f":"-SUM(AV7:AV22)","v":1.5849625007211559}]
[12,10042,23,10055,24,10061,23,10066,null,null,0,1222,null,null,null,"U=",{"$f":"Q23/(LOG(Q4)/LOG(2))","v":0.62033763525116137},null,null,null,null,"U1=",{"$f":"W23/(LOG(W4)/LOG(2))","v":0.40563906222956642},null,null,null,"U2=",{"$f":"AB23/(LOG(AB4)/LOG(2))","v":0.57938016428569505},null,null,null,"U3=",{"$f":"AG23/(LOG(AG4)/LOG(2))","v":0.75},null,null,null,"U4=",{"$f":"AL23/(LOG(AL4)/LOG(2))","v":0.75},null,null,null,"U5=",{"$f":"AQ23/(LOG(AQ4)/LOG(2))","v":0.99999999999999989},null,null,null,"U6=",{"$f":"AV23/(LOG(AV4)/LOG(2))","v":0.99999999999999989}]
[12,12073,14,13408,24,17236,14,17810,null,null,0,1121]
[21,17940,21,17944,22,17950,23,17962,null,null,0,2222]
[12,18069,23,18078,24,18081,23,18085,null,null,0,1222,null,"Total Target Seq"]
[21,21428,null,null,null,null,null,null,null,null,null,2,null,{"$f":"COUNTIF(L7:L28,G3)","v":0},null,4,3,4,4,3,4]
[null,null,null,null,null,null,null,null,null,null,null,null,null,null,null,"% of reinforcement given in 6 equal intervals based on number of trials "]
[null,null,null,null,null,null,null,null,null,null,null,null,null,null,null,"%_1","%_2","%_3","%_4","%_5","%_6"]
[null,null,null,null,null,null,null,null,null,null,null,null,null,null,"target sequence",{"$f":"$G$3","v":2212},{"$f":"$G$3","v":2212},{"$f":"$G$3","v":2212},{"$f":"$G$3","v":2212},{"$f":"$G$3","v":2212},{"$f":"$G$3","v":2212}]
[null,null,null,null,null,null,null,null,null,null,null,null,null,null,"total reinforcement",{"$f":"U20","v":0},{"$f":"Z20","v":0},{"$f":"AE20","v":0},{"$f":"AJ20","v":0},{"$f":"AO20","v":0},{"$f":"AT20","v":0}]
[null,null,null,null,null,null,null,null,null,null,null,null,null,null,"% target"]
[null,null,null,null,null,null,null,null,null,null,null,null,null,null,"CCRF"]
[null,null,null,null,null,null,null,null,null,null,null,null,null,null,"% CCRf"]
[null,null,null,null,null,null,null,null,null,null,null,null,null,null,"average response rate",{"$f":"H10/P28","v":121.75},{"$f":"(H13-H10)/Q28","v":116.66666666666667},{"$f":"(H17-H13)/R28","v":124.25},{"$f":"(H21-H17)/S28","v":220.75},{"$f":"(H24-H21)/T28","v":2616.3333333333335},{"$f":"(H28-H24)/U28","v":-2516.5}]

{"sheet":"!LB16A14..Is","index":9,"n_rows":82,"n_cols":48,"rows_kept":82,"cut":false,"hidden":false,"merged":[[4,39,4,42],[5,39,5,40],[4,44,4,47],[5,44,5,45],[4,24,4,27],[5,24,5,25],[4,29,4,32],[5,29,5,30],[4,34,4,37],[5,34,5,35],[1,1,1,2],[5,13,5,14],[26,13,26,14],[27,13,27,14],[4,19,4,22],[5,19,5,20]]}
["Report for:!LB16A14..Is"]
["Date:","<date>"]
["Hen:","<hen>",null,null,null,"Correct Sequence",{"$f":"Start!J2","v":2212},null,null,null,null,null,null,null,null,"Total Sequences in Data",{"$f":"4994-COUNTBLANK(L7:L5000)","v":76},null,null,null,null,"Total Sequences in Block Data",{"$f":"COUNTA(L7:L19)","v":13},null,null,null,"Total Sequences in Block Data",{"$f":"COUNTA(L20:L31)","v":12},null,null,null,"Total Sequences in Block Data",{"$f":"COUNTA(L32:L44)","v":13},null,null,null,"Total Sequences in Block Data",{"$f":"COUNTA(L45:L57)","v":13},null,null,null,"Total Sequences in Block Data",{"$f":"COUNTA(L58:L69)","v":12},null,null,null,"Total Sequences in Block Data",{"$f":"COUNTA(L70:L82)","v":13}]
[null,null,null,null,null,null,null,null,null,null,null,null,null,null,null,"Total Sequences in Summary",{"$f":"SUM(O7:O22)","v":75},null,null,null,null,"Total Sequences in Block Summary",{"$f":"SUM(U7:U22)","v":13},null,null,null,"Total Sequences in Block Summary",{"$f":"SUM(Z7:Z22)","v":12},null,null,null,"Total Sequences in Block Summary",{"$f":"SUM(AE7:AE22)","v":13},null,null,null,"Total Sequences in Block Summary",{"$f":"SUM(AJ7:AJ22)","v":13},null,null,null,"Total Sequences in Block Summary",{"$f":"SUM(AO7:AO22)","v":12},null,null,null,"Total Sequences in Block Summary",{"$f":"SUM(AT7:AT22)","v":12}]
[null,null,null,null,null,null,null,null,null,null,null,null,null,null,null,null,null,null,null,"Block 1",null,null,null,null,"Block 2",null,null,null,null,"Block 3",null,null,null,null,"Block 4",null,null,null,null,"Block 5",null,null,null,null,"Block 6"]
["Sequence\nComponent\n1","Time\n1","Sequence\nComponent\n2","Time\n2","Sequence\nComponent\n3","Time\n3","Sequence\nComponent\n4","Time\n4","Sequence\nComponent\n5","Time\n5","Correct?\n0=No 1=Yes","Sequence",null,"Frequency",null,"Relative Frequency","Variability",null,null,"Frequency",null,"Relative Frequency","Variability",null,"Frequency",null,"Relative Frequency","Variability",null,"Frequency",null,"Relative Frequency","Variability",null,"Frequency",null,"Relative Frequency","Variability",null,"Frequency",null,"Relative Frequency","Variability",null,"Frequency",null,"Relative Frequency","Variability"]
[21,41,21,46,11,59,12,66,null,null,0,2211,null,1111,{"$f":"COUNTIF($L$7:$L$500,N7)","v":6},{"$f":"O7/$Q$4","v":0.08},{"$f":"IF(P7=0,0,(P7*((LOG(P7))/LOG(2))))","v":-0.29150849518197797},null,null,{"$f":"N7","v":1111},{"$f":"COUNTIF(L7:L19,T7)","v":1},{"$f":"U7/(W4-U20)","v":7.6923076923076927E-2},{"$f":"IF(V7=0,0,(V7*((LOG(V7))/LOG(2))))","v":-0.28464920908777636},null,{"$f":"N7","v":1111},{"$f":"COUNTIF(L20:L31,Y7)","v":1},{"$f":"Z7/(AB4-Z20)","v":8.3333333333333329E-2},{"$f":"IF(AA7=0,0,(AA7*((LOG(AA7))/LOG(2))))","v":-0.29874687506009634},null,{"$f":"N7","v":1111},{"$f":"COUNTIF(L32:L44,AD7)","v":3},{"$f":"AE7/(AG4-AE20)","v":0.23076923076923078},{"$f":"IF(AF7=0,0,(AF7*((LOG(AF7))/LOG(2))))","v":-0.48818705017383146},null,{"$f":"N7","v":1111},{"$f":"COUNTIF(L45:L57,AI7)","v":0},{"$f":"AJ7/(AL4-AJ20)","v":0},{"$f":"IF(AK7=0,0,(AK7*((LOG(AK7))/LOG(2))))","v":0},null,{"$f":"N7","v":1111},{"$f":"COUNTIF(L58:L69,AN7)","v":0},{"$f":"AO7/(AQ4-AO20)","v":0},{"$f":"IF(AP7=0,0,(AP7*((LOG(AP7))/LOG(2))))","v":0},null,{"$f":"N7","v":1111},{"$f":"COUNTIF(L70:L82,AS7)","v":1},{"$f":"AT7/(AV4-AT20)","v":8.3333333333333329E-2},{"$f":"IF(AU7=0,0,(AU7*((LOG(AU7))/LOG(2))))","v":-0.29874687506009634}]
[12,196,23,203,24,206,23,211,null,null,0,1222,null,1112,{"$f":"COUNTIF($L$7:$L$500,N8)","v":18},{"$f":"O8/$Q$4","v":0.24},{"$f":"IF(P8=0,0,(P8*((LOG(P8))/LOG(2))))","v":-0.49413448537285637},null,null,{"$f":"N8","v":1112},{"$f":"COUNTIF(L7:L19,T8)","v":3},{"$f":"U8/(W4-U20)","v":0.23076923076923078},{"$f":"IF(V8=0,0,(V8*((LOG(V8))/LOG(2))))","v":-0.48818705017383146},null,{"$f":"N8","v":1112},{"$f":"COUNTIF(L20:L31,Y8)","v":5},{"$f":"Z8/(AB4-Z20)","v":0.41666666666666669},{"$f":"IF(AA8=0,0,(AA8*((LOG(AA8))/LOG(2))))","v":-0.52626433576408083},null,{"$f":"N8","v":1112},{"$f":"COUNTIF(L32:L44,AD8)","v":3},{"$f":"AE8/(AG4-AE20)","v":0.23076923076923078},{"$f":"IF(AF8=0,0,(AF8*((LOG(AF8))/LOG(2))))","v":-0.48818705017383146},null,{"$f":"N8","v":1112},{"$f":"COUNTIF(L45:L57,AI8)","v":2},{"$f":"AJ8/(AL4-AJ20)","v":0.15384615384615385},{"$f":"IF(AK8=0,0,(AK8*((LOG(AK8))/LOG(2))))","v":-0.4154522643293988},null,{"$f":"N8","v":1112},{"$f":"COUNTIF(L58:L69,AN8)","v":3},{"$f":"AO8/(AQ4-AO20)","v":0.25},{"$f":"IF(AP8=0,0,(AP8*((LOG(AP8))/LOG(2))))","v":-0.5},null,{"$f":"N8","v":1112},{"$f":"COUNTIF(L70:L82,AS8)","v":2},{"$f":"AT8/(AV4-AT20)","v":0.16666666666666666},{"$f":"IF(AU8=0,0,(AU8*((LOG(AU8))/LOG(2))))","v":-0.43082708345352599}]
[12,337,23,345,24,349,23,354,null,null,0,1222,null,1121,{"$f":"COUNTIF($L$7:$L$500,N9)","v":0},{"$f":"O9/$Q$4","v":0},{"$f":"IF(P9=0,0,(P9*((LOG(P9))/LOG(2))))","v":0},null,null,{"$f":"N9","v":1121},{"$f":"COUNTIF(L7:L19,T9)","v":0},{"$f":"U9/(W4-U20)","v":0},{"$f":"IF(V9=0,0,(V9*((LOG(V9))/LOG(2))))","v":0},null,{"$f":"N9","v":1121},{"$f":"COUNTIF(L20:L31,Y9)","v":0},{"$f":"Z9/(AB4-Z20)","v":0},{"$f":"IF(AA9=0,0,(AA9*((LOG(AA9))/LOG(2))))","v":0},null,{"$f":"N9","v":1121},{"$f":"COUNTIF(L32:L44,AD9)","v":0},{"$f":"AE9/(AG4-AE20)","v":0},{"$f":"IF(AF9=0,0,(AF9*((LOG(AF9))/LOG(2))))","v":0},null,{"$f":"N9","v":1121},{"$f":"COUNTIF(L45:L57,AI9)","v":0},{"$f":"AJ9/(AL4-AJ20)","v":0},{"$f":"IF(AK9=0,0,(AK9*((LOG(AK9))/LOG(2))))","v":0},null,{"$f":"N9","v":1121},{"$f":"COUNTIF(L58:L69,AN9)","v":0},{"$f":"AO9/(AQ4-AO20)","v":0},{"$f":"IF(AP9=0,0,(AP9*((LOG(AP9))/LOG(2))))","v":0},null,{"$f":"N9","v":1121},{"$f":"COUNTIF(L70:L82,AS9)","v":0},{"$f":"AT9/(AV4-AT20)","v":0},{"$f":"IF(AU9=0,0,(AU9*((LOG(AU9))/LOG(2))))","v":0}]
[12,452,23,467,24,470,23,476,null,null,0,1222,null,1122,{"$f":"COUNTIF($L$7:$L$500,N10)","v":21},{"$f":"O10/$Q$4","v":0.28000000000000003},{"$f":"IF(P10=0,0,(P10*((LOG(P10))/LOG(2))))","v":-0.51422035496079388},null,null,{"$f":"N10","v":1122},{"$f":"COUNTIF(L7:L19,T10)","v":3},{"$f":"U10/(W4-U20)","v":0.23076923076923078},{"$f":"IF(V10=0,0,(V10*((LOG(V10))/LOG(2))))","v":-0.48818705017383146},null,{"$f":"N10","v":1122},{"$f":"COUNTIF(L20:L31,Y10)","v":4},{"$f":"Z10/(AB4-Z20)","v":0.33333333333333331},{"$f":"IF(AA10=0,0,(AA10*((LOG(AA10))/LOG(2))))","v":-0.52832083357371862},null,{"$f":"N10","v":1122},{"$f":"COUNTIF(L32:L44,AD10)","v":5},{"$f":"AE10/(AG4-AE20)","v":0.38461538461538464},{"$f":"IF(AF10=0,0,(AF10*((LOG(AF10))/LOG(2))))","v":-0.53019677817451139},null,{"$f":"N10","v":1122},{"$f":"COUNTIF(L45:L57,AI10)","v":4},{"$f":"AJ10/(AL4-AJ20)","v":0.30769230769230771},{"$f":"IF(AK10=0,0,(AK10*((LOG(AK10))/LOG(2))))","v":-0.52321222096648989},null,{"$f":"N10","v":1122},{"$f":"COUNTIF(L58:L69,AN10)","v":3},{"$f":"AO10/(AQ4-AO20)","v":0.25},{"$f":"IF(AP10=0,0,(AP10*((LOG(AP10))/LOG(2))))","v":-0.5},null,{"$f":"N10","v":1122},{"$f":"COUNTIF(L70:L82,AS10)","v":2},{"$f":"AT10/(AV4-AT20)","v":0.16666666666666666},{"$f":"IF(AU10=0,0,(AU10*((LOG(AU10))/LOG(2))))","v":-0.43082708345352599}]
[12,571,14,575,13,582,23,591,null,null,0,1112,null,1211,{"$f":"COUNTIF($L$7:$L$500,N11)","v":0},{"$f":"O11/$Q$4","v":0},{"$f":"IF(P11=0,0,(P11*((LOG(P11))/LOG(2))))","v":0},null,null,{"$f":"N11","v":1211},{"$f":"COUNTIF(L7:L19,T11)","v":0},{"$f":"U11/(W4-U20)","v":0},{"$f":"IF(V11=0,0,(V11*((LOG(V11))/LOG(2))))","v":0},null,{"$f":"N11","v":1211},{"$f":"COUNTIF(L20:L31,Y11)","v":0},{"$f":"Z11/(AB4-Z20)","v":0},{"$f":"IF(AA11=0,0,(AA11*((LOG(AA11))/LOG(2))))","v":0},null,{"$f":"N11","v":1211},{"$f":"COUNTIF(L32:L44,AD11)","v":0},{"$f":"AE11/(AG4-AE20)","v":0},{"$f":"IF(AF11=0,0,(AF11*((LOG(AF11))/LOG(2))))","v":0},null,{"$f":"N11","v":1211},{"$f":"COUNTIF(L45:L57,AI11)","v":0},{"$f":"AJ11/(AL4-AJ20)","v":0},{"$f":"IF(AK11=0,0,(AK11*((LOG(AK11))/LOG(2))))","v":0},null,{"$f":"N11","v":1211},{"$f":"COUNTIF(L58:L69,AN11)","v":0},{"$f":"AO11/(AQ4-AO20)","v":0},{"$f":"IF(AP11=0,0,(AP11*((LOG(AP11))/LOG(2))))","v":0},null,{"$f":"N11","v":1211},{"$f":"COUNTIF(L70:L82,AS11)","v":0},{"$f":"AT11/(AV4-AT20)","v":0},{"$f":"IF(AU11=0,0,(AU11*((LOG(AU11))/LOG(2))))","v":0}]
[12,792,23,805,24,810,23,815,null,null,0,1222,null,1212,{"$f":"COUNTIF($L$7:$L$500,N12)","v":1},{"$f":"O12/$Q$4","v":1.3333333333333334E-2},{"$f":"IF(P12=0,0,(P12*((LOG(P12))/LOG(2))))","v":-8.3050915873278425E-2},null,null,{"$f":"N12","v":1212},{"$f":"COUNTIF(L7:L19,T12)","v":0},{"$f":"U12/(W4-U20)","v":0},{"$f":"IF(V12=0,0,(V12*((LOG(V12))/LOG(2))))","v":0},null,{"$f":"N12","v":1212},{"$f":"COUNTIF(L20:L31,Y12)","v":0},{"$f":"Z12/(AB4-Z20)","v":0},{"$f":"IF(AA12=0,0,(AA12*((LOG(AA12))/LOG(2))))","v":0},null,{"$f":"N12","v":1212},{"$f":"COUNTIF(L32:L44,AD12)","v":0},{"$f":"AE12/(AG4-AE20)","v":0},{"$f":"IF(AF12=0,0,(AF12*((LOG(AF12))/LOG(2))))","v":0},null,{"$f":"N12","v":1212},{"$f":"COUNTIF(L45:L57,AI12)","v":0},{"$f":"AJ12/(AL4-AJ20)","v":0},{"$f":"IF(AK12=0,0,(AK12*((LOG(AK12))/LOG(2))))","v":0},null,{"$f":"N12","v":1212},{"$f":"COUNTIF(L58:L69,AN12)","v":1},{"$f":"AO12/(AQ4-AO20)","v":8.3333333333333329E-2},{"$f":"IF(AP12=0,0,(AP12*((LOG(AP12))/LOG(2))))","v":-0.29874687506009634},null,{"$f":"N12","v":1212},{"$f":"COUNTIF(L70:L82,AS12)","v":0},{"$f":"AT12/(AV4-AT20)","v":0},{"$f":"IF(AU12=0,0,(AU12*((LOG(AU12))/LOG(2))))","v":0}]
[12,913,14,916,24,928,23,934,null,null,0,1122,null,1221,{"$f":"COUNTIF($L$7:$L$500,N13)","v":1},{"$f":"O13/$Q$4","v":1.3333333333333334E-2},{"$f":"IF(P13=0,0,(P13*((LOG(P13))/LOG(2))))","v":-8.3050915873278425E-2},null,null,{"$f":"N13","v":1221},{"$f":"COUNTIF(L7:L19,T13)","v":0},{"$f":"U13/(W4-U20)","v":0},{"$f":"IF(V13=0,0,(V13*((LOG(V13))/LOG(2))))","v":0},null,{"$f":"N13","v":1221},{"$f":"COUNTIF(L20:L31,Y13)","v":0},{"$f":"Z13/(AB4-Z20)","v":0},{"$f":"IF(AA13=0,0,(AA13*((LOG(AA13))/LOG(2))))","v":0},null,{"$f":"N13","v":1221},{"$f":"COUNTIF(L32:L44,AD13)","v":0},{"$f":"AE13/(AG4-AE20)","v":0},{"$f":"IF(AF13=0,0,(AF13*((LOG(AF13))/LOG(2))))","v":0},null,{"$f":"N13","v":1221},{"$f":"COUNTIF(L45:L57,AI13)","v":1},{"$f":"AJ13/(AL4-AJ20)","v":7.6923076923076927E-2},{"$f":"IF(AK13=0,0,(AK13*((LOG(AK13))/LOG(2))))","v":-0.28464920908777636},null,{"$f":"N13","v":1221},{"$f":"COUNTIF(L58:L69,AN13)","v":0},{"$f":"AO13/(AQ4-AO20)","v":0},{"$f":"IF(AP13=0,0,(AP13*((LOG(AP13))/LOG(2))))","v":0},null,{"$f":"N13","v":1221},{"$f":"COUNTIF(L70:L82,AS13)","v":0},{"$f":"AT13/(AV4-AT20)","v":0},{"$f":"IF(AU13=0,0,(AU13*((LOG(AU13))/LOG(2))))","v":0}]
[12,1030,14,1035,13,1040,23,1047,null,null,0,1112,null,1222,{"$f":"COUNTIF($L$7:$L$500,N14)","v":24},{"$f":"O14/$Q$4","v":0.32},{"$f":"IF(P14=0,0,(P14*((LOG(P14))/LOG(2))))","v":-0.52603398072791185},null,null,{"$f":"N14","v":1222},{"$f":"COUNTIF(L7:L19,T14)","v":5},{"$f":"U14/(W4-U20)","v":0.38461538461538464},{"$f":"IF(V14=0,0,(V14*((LOG(V14))/LOG(2))))","v":-0.53019677817451139},null,{"$f":"N14","v":1222},{"$f":"COUNTIF(L20:L31,Y14)","v":2},{"$f":"Z14/(AB4-Z20)","v":0.16666666666666666},{"$f":"IF(AA14=0,0,(AA14*((LOG(AA14))/LOG(2))))","v":-0.43082708345352599},null,{"$f":"N14","v":1222},{"$f":"COUNTIF(L32:L44,AD14)","v":1},{"$f":"AE14/(AG4-AE20)","v":7.6923076923076927E-2},{"$f":"IF(AF14=0,0,(AF14*((LOG(AF14))/LOG(2))))","v":-0.28464920908777636},null,{"$f":"N14","v":1222},{"$f":"COUNTIF(L45:L57,AI14)","v":5},{"$f":"AJ14/(AL4-AJ20)","v":0.38461538461538464},{"$f":"IF(AK14=0,0,(AK14*((LOG(AK14))/LOG(2))))","v":-0.53019677817451139},null,{"$f":"N14","v":1222},{"$f":"COUNTIF(L58:L69,AN14)","v":4},{"$f":"AO14/(AQ4-AO20)","v":0.33333333333333331},{"$f":"IF(AP14=0,0,(AP14*((LOG(AP14))/LOG(2))))","v":-0.52832083357371862},null,{"$f":"N14","v":1222},{"$f":"COUNTIF(L70:L82,AS14)","v":7},{"$f":"AT14/(AV4-AT20)","v":0.58333333333333337},{"$f":"IF(AU14=0,0,(AU14*((LOG(AU14))/LOG(2))))","v":-0.45360442088707198}]
[12,1213,23,1222,24,1226,23,1231,null,null,0,1222,null,2111,{"$f":"COUNTIF($L$7:$L$500,N15)","v":0},{"$f":"O15/$Q$4","v":0},{"$f":"IF(P15=0,0,(P15*((LOG(P15))/LOG(2))))","v":0},null,null,{"$f":"N15","v":2111},{"$f":"COUNTIF(L7:L19,T15)","v":0},{"$f":"U15/(W4-U20)","v":0},{"$f":"IF(V15=0,0,(V15*((LOG(V15))/LOG(2))))","v":0},null,{"$f":"N15","v":2111},{"$f":"COUNTIF(L20:L31,Y15)","v":0},{"$f":"Z15/(AB4-Z20)","v":0},{"$f":"IF(AA15=0,0,(AA15*((LOG(AA15))/LOG(2))))","v":0},null,{"$f":"N15","v":2111},{"$f":"COUNTIF(L32:L44,AD15)","v":0},{"$f":"AE15/(AG4-AE20)","v":0},{"$f":"IF(AF15=0,0,(AF15*((LOG(AF15))/LOG(2))))","v":0},null,{"$f":"N15","v":2111},{"$f":"COUNTIF(L45:L57,AI15)","v":0},{"$f":"AJ15/(AL4-AJ20)","v":0},{"$f":"IF(AK15=0,0,(AK15*((LOG(AK15))/LOG(2))))","v":0},null,{"$f":"N15","v":2111},{"$f":"COUNTIF(L58:L69,AN15)","v":0},{"$f":"AO15/(AQ4-AO20)","v":0},{"$f":"IF(AP15=0,0,(AP15*((LOG(AP15))/LOG(2))))","v":0},null,{"$f":"N15","v":2111},{"$f":"COUNTIF(L70:L82,AS15)","v":0},{"$f":"AT15/(AV4-AT20)","v":0},{"$f":"IF(AU15=0,0,(AU15*((LOG(AU15))/LOG(2))))","v":0}]
[12,1328,14,1332,13,1336,23,1346,null,null,0,1112,null,2112,{"$f":"COUNTIF($L$7:$L$500,N16)","v":0},{"$f":"O16/$Q$4","v":0},{"$f":"IF(P16=0,0,(P16*((LOG(P16))/LOG(2))))","v":0},null,null,{"$f":"N16","v":2112},{"$f":"COUNTIF(L7:L19,T16)","v":0},{"$f":"U16/(W4-U20)","v":0},{"$f":"IF(V16=0,0,(V16*((LOG(V16))/LOG(2))))","v":0},null,{"$f":"N16","v":2112},{"$f":"COUNTIF(L20:L31,Y16)","v":0},{"$f":"Z16/(AB4-Z20)","v":0},{"$f":"IF(AA16=0,0,(AA16*((LOG(AA16))/LOG(2))))","v":0},null,{"$f":"N16","v":2112},{"$f":"COUNTIF(L32:L44,AD16)","v":0},{"$f":"AE16/(AG4-AE20)","v":0},{"$f":"IF(AF16=0,0,(AF16*((LOG(AF16))/LOG(2))))","v":0},null,{"$f":"N16","v":2112},{"$f":"COUNTIF(L45:L57,AI16)","v":0},{"$f":"AJ16/(AL4-AJ20)","v":0},{"$f":"IF(AK16=0,0,(AK16*((LOG(AK16))/LOG(2))))","v":0},null,{"$f":"N16","v":2112},{"$f":"COUNTIF(L58:L69,AN16)","v":0},{"$f":"AO16/(AQ4-AO20)","v":0},{"$f":"IF(AP16=0,0,(AP16*((LOG(AP16))/LOG(2))))","v":0},null,{"$f":"N16","v":2112},{"$f":"COUNTIF(L70:L82,AS16)","v":0},{"$f":"AT16/(AV4-AT20)","v":0},{"$f":"IF(AU16=0,0,(AU16*((LOG(AU16))/LOG(2))))","v":0}]
[12,1493,14,1499,13,1510,14,1518,null,null,0,1111,null,2121,{"$f":"COUNTIF($L$7:$L$500,N17)","v":0},{"$f":"O17/$Q$4","v":0},{"$f":"IF(P17=0,0,(P17*((LOG(P17))/LOG(2))))","v":0},null,null,{"$f":"N17","v":2121},{"$f":"COUNTIF(L7:L19,T17)","v":0},{"$f":"U17/(W4-U20)","v":0},{"$f":"IF(V17=0,0,(V17*((LOG(V17))/LOG(2))))","v":0},null,{"$f":"N17","v":2121},{"$f":"COUNTIF(L20:L31,Y17)","v":0},{"$f":"Z17/(AB4-Z20)","v":0},{"$f":"IF(AA17=0,0,(AA17*((LOG(AA17))/LOG(2))))","v":0},null,{"$f":"N17","v":2121},{"$f":"COUNTIF(L32:L44,AD17)","v":0},{"$f":"AE17/(AG4-AE20)","v":0},{"$f":"IF(AF17=0,0,(AF17*((LOG(AF17))/LOG(2))))","v":0},null,{"$f":"N17","v":2121},{"$f":"COUNTIF(L45:L57,AI17)","v":0},{"$f":"AJ17/(AL4-AJ20)","v":0},{"$f":"IF(AK17=0,0,(AK17*((LOG(AK17))/LOG(2))))","v":0},null,{"$f":"N17","v":2121},{"$f":"COUNTIF(L58:L69,AN17)","v":0},{"$f":"AO17/(AQ4-AO20)","v":0},{"$f":"IF(AP17=0,0,(AP17*((LOG(AP17))/LOG(2))))","v":0},null,{"$f":"N17","v":2121},{"$f":"COUNTIF(L70:L82,AS17)","v":0},{"$f":"AT17/(AV4-AT20)","v":0},{"$f":"IF(AU17=0,0,(AU17*((LOG(AU17))/LOG(2))))","v":0}]
[12,1620,14,1624,24,1652,23,1658,null,null,0,1122,null,2122,{"$f":"COUNTIF($L$7:$L$500,N18)","v":1},{"$f":"O18/$Q$4","v":1.3333333333333334E-2},{"$f":"IF(P18=0,0,(P18*((LOG(P18))/LOG(2))))","v":-8.3050915873278425E-2},null,null,{"$f":"N18","v":2122},{"$f":"COUNTIF(L7:L19,T18)","v":0},{"$f":"U18/(W4-U20)","v":0},{"$f":"IF(V18=0,0,(V18*((LOG(V18))/LOG(2))))","v":0},null,{"$f":"N18","v":2122},{"$f":"COUNTIF(L20:L31,Y18)","v":0},{"$f":"Z18/(AB4-Z20)","v":0},{"$f":"IF(AA18=0,0,(AA18*((LOG(AA18))/LOG(2))))","v":0},null,{"$f":"N18","v":2122},{"$f":"COUNTIF(L32:L44,AD18)","v":0},{"$f":"AE18/(AG4-AE20)","v":0},{"$f":"IF(AF18=0,0,(AF18*((LOG(AF18))/LOG(2))))","v":0},null,{"$f":"N18","v":2122},{"$f":"COUNTIF(L45:L57,AI18)","v":0},{"$f":"AJ18/(AL4-AJ20)","v":0},{"$f":"IF(AK18=0,0,(AK18*((LOG(AK18))/LOG(2))))","v":0},null,{"$f":"N18","v":2122},{"$f":"COUNTIF(L58:L69,AN18)","v":1},{"$f":"AO18/(AQ4-AO20)","v":8.3333333333333329E-2},{"$f":"IF(AP18=0,0,(AP18*((LOG(AP18))/LOG(2))))","v":-0.29874687506009634},null,{"$f":"N18","v":2122},{"$f":"COUNTIF(L70:L82,AS18)","v":0},{"$f":"AT18/(AV4-AT20)","v":0},{"$f":"IF(AU18=0,0,(AU18*((LOG(AU18))/LOG(2))))","v":0}]
[12,1753,14,1759,24,1767,23,1772,null,null,0,1122,null,2211,{"$f":"COUNTIF($L$7:$L$500,N19)","v":1},{"$f":"O19/$Q$4","v":1.3333333333333334E-2},{"$f":"IF(P19=0,0,(P19*((LOG(P19))/LOG(2))))","v":-8.3050915873278425E-2},null,null,{"$f":"N19","v":2211},{"$f":"COUNTIF(L7:L19,T19)","v":1},{"$f":"U19/(W4-U20)","v":7.6923076923076927E-2},{"$f":"IF(V19=0,0,(V19*((LOG(V19))/LOG(2))))","v":-0.28464920908777636},null,{"$f":"N19","v":2211},{"$f":"COUNTIF(L20:L31,Y19)","v":0},{"$f":"Z19/(AB4-Z20)","v":0},{"$f":"IF(AA19=0,0,(AA19*((LOG(AA19))/LOG(2))))","v":0},null,{"$f":"N19","v":2211},{"$f":"COUNTIF(L32:L44,AD19)","v":0},{"$f":"AE19/(AG4-AE20)","v":0},{"$f":"IF(AF19=0,0,(AF19*((LOG(AF19))/LOG(2))))","v":0},null,{"$f":"N19","v":2211},{"$f":"COUNTIF(L45:L57,AI19)","v":0},{"$f":"AJ19/(AL4-AJ20)","v":0},{"$f":"IF(AK19=0,0,(AK19*((LOG(AK19))/LOG(2))))","v":0},null,{"$f":"N19","v":2211},{"$f":"COUNTIF(L58:L69,AN19)","v":0},{"$f":"AO19/(AQ4-AO20)","v":0},{"$f":"IF(AP19=0,0,(AP19*((LOG(AP19))/LOG(2))))","v":0},null,{"$f":"N19","v":2211},{"$f":"COUNTIF(L70:L82,AS19)","v":0},{"$f":"AT19/(AV4-AT20)","v":0},{"$f":"IF(AU19=0,0,(AU19*((LOG(AU19))/LOG(2))))","v":0}]
[12,1883,14,1890,13,1894,14,1904,null,null,0,1111,null,2212,{"$f":"COUNTIF($L$7:$L$500,N20)","v":0},{"$f":"O20/$Q$4","v":0},{"$f":"IF(P20=0,0,(P20*((LOG(P20))/LOG(2))))","v":0},null,null,{"$f":"N20","v":2212},{"$f":"COUNTIF(L7:L19,T20)","v":0},null,null,null,{"$f":"N20","v":2212},{"$f":"COUNTIF(L20:L31,Y20)","v":0},null,null,null,{"$f":"N20","v":2212},{"$f":"COUNTIF(L32:L44,AD20)","v":0},null,null,null,{"$f":"N20","v":2212},{"$f":"COUNTIF(L45:L57,AI20)","v":0},null,null,null,{"$f":"N20","v":2212},{"$f":"COUNTIF(L58:L69,AN20)","v":0},null,null,null,{"$f":"N20","v":2212},{"$f":"COUNTIF(L70:L82,AS20)","v":0}]
[12,2109,23,2121,24,2129,23,2138,null,null,0,1222,null,2221,{"$f":"COUNTIF($L$7:$L$500,N21)","v":0},{"$f":"O21/$Q$4","v":0},{"$f":"IF(P21=0,0,(P21*((LOG(P21))/LOG(2))))","v":0},null,null,{"$f":"N21","v":2221},{"$f":"COUNTIF(L7:L19,T21)","v":0},{"$f":"U21/(W4-U20)","v":0},{"$f":"IF(V21=0,0,(V21*((LOG(V21))/LOG(2))))","v":0},null,{"$f":"N21","v":2221},{"$f":"COUNTIF(L20:L31,Y21)","v":0},{"$f":"Z21/(AB4-Z20)","v":0},{"$f":"IF(AA21=0,0,(AA21*((LOG(AA21))/LOG(2))))","v":0},null,{"$f":"N21","v":2221},{"$f":"COUNTIF(L32:L44,AD21)","v":0},{"$f":"AE21/(AG4-AE20)","v":0},{"$f":"IF(AF21=0,0,(AF21*((LOG(AF21))/LOG(2))))","v":0},null,{"$f":"N21","v":2221},{"$f":"COUNTIF(L45:L57,AI21)","v":0},{"$f":"AJ21/(AL4-AJ20)","v":0},{"$f":"IF(AK21=0,0,(AK21*((LOG(AK21))/LOG(2))))","v":0},null,{"$f":"N21","v":2221},{"$f":"COUNTIF(L58:L69,AN21)","v":0},{"$f":"AO21/(AQ4-AO20)","v":0},{"$f":"IF(AP21=0,0,(AP21*((LOG(AP21))/LOG(2))))","v":0},null,{"$f":"N21","v":2221},{"$f":"COUNTIF(L70:L82,AS21)","v":0},{"$f":"AT21/(AV4-AT20)","v":0},{"$f":"IF(AU21=0,0,(AU21*((LOG(AU21))/LOG(2))))","v":0}]
[12,2234,14,2241,24,2252,23,2255,null,null,0,1122,null,2222,{"$f":"COUNTIF($L$7:$L$500,N22)","v":2},{"$f":"O22/$Q$4","v":2.6666666666666668E-2},{"$f":"IF(P22=0,0,(P22*((LOG(P22))/LOG(2))))","v":-0.13943516507989015},null,null,{"$f":"N22","v":2222},{"$f":"COUNTIF(L7:L19,T22)","v":0},{"$f":"U22/(W4-U20)","v":0},{"$f":"IF(V22=0,0,(V22*((LOG(V22))/LOG(2))))","v":0},null,{"$f":"N22","v":2222},{"$f":"COUNTIF(L20:L31,Y22)","v":0},{"$f":"Z22/(AB4-Z20)","v":0},{"$f":"IF(AA22=0,0,(AA22*((LOG(AA22))/LOG(2))))","v":0},null,{"$f":"N22","v":2222},{"$f":"COUNTIF(L32:L44,AD22)","v":1},{"$f":"AE22/(AG4-AE20)","v":7.6923076923076927E-2},{"$f":"IF(AF22=0,0,(AF22*((LOG(AF22))/LOG(2))))","v":-0.28464920908777636},null,{"$f":"N22","v":2222},{"$f":"COUNTIF(L45:L57,AI22)","v":1},{"$f":"AJ22/(AL4-AJ20)","v":7.6923076923076927E-2},{"$f":"IF(AK22=0,0,(AK22*((LOG(AK22))/LOG(2))))","v":-0.28464920908777636},null,{"$f":"N22","v":2222},{"$f":"COUNTIF(L58:L69,AN22)","v":0},{"$f":"AO22/(AQ4-AO20)","v":0},{"$f":"IF(AP22=0,0,(AP22*((LOG(AP22))/LOG(2))))","v":0},null,{"$f":"N22","v":2222},{"$f":"COUNTIF(L70:L82,AS22)","v":0},{"$f":"AT22/(AV4-AT20)","v":0},{"$f":"IF(AU22=0,0,(AU22*((LOG(AU22))/LOG(2))))","v":0}]
[12,2350,14,2355,24,2363,23,2371,null,null,0,1122,null,null,null,{"$f":"SUM(P7:P22)","v":1},{"$f":"-SUM(Q7:Q22)","v":2.2975361448165441},null,null,null,null,{"$f":"SUM(V7:V22)","v":1},{"$f":"-SUM(W7:W22)","v":2.0758692966977268},null,null,null,{"$f":"SUM(AA7:AA22)","v":0.99999999999999989},{"$f":"-SUM(AB7:AB22)","v":1.7841591278514217},null,null,null,{"$f":"SUM(AF7:AF22)","v":1},{"$f":"-SUM(AG7:AG22)","v":2.0758692966977268},null,null,null,{"$f":"SUM(AK7:AK22)","v":1},{"$f":"-SUM(AL7:AL22)","v":2.0381596816459528},null,null,null,{"$f":"SUM(AP7:AP22)","v":1},{"$f":"-SUM(AQ7:AQ22)","v":2.1258145836939111},null,null,null,{"$f":"SUM(AU7:AU22)","v":1},{"$f":"-SUM(AV7:AV22)","v":1.6140054628542202}]
[12,2477,23,2488,24,2492,23,2496,null,null,0,1222,null,null,null,"U=",{"$f":"Q23/(LOG(Q4)/LOG(2))","v":0.36885583912117942},null,null,null,null,"U1=",{"$f":"W23/(LOG(W4)/LOG(2))","v":0.56097908757193193},null,null,null,"U2=",{"$f":"AB23/(LOG(AB4)/LOG(2))","v":0.49767860263322633},null,null,null,"U3=",{"$f":"AG23/(LOG(AG4)/LOG(2))","v":0.56097908757193193},null,null,null,"U4=",{"$f":"AL23/(LOG(AL4)/LOG(2))","v":0.55078851079617586},null,null,null,"U5=",{"$f":"AQ23/(LOG(AQ4)/LOG(2))","v":0.59298098188370985},null,null,null,"U6=",{"$f":"AV23/(LOG(AV4)/LOG(2))","v":0.45021543810557135}]
[12,2591,14,2595,24,2604,23,2608,null,null,0,1122]
[12,2703,14,2709,13,2714,23,2724,null,null,0,1112]
[12,2826,14,2834,24,2842,23,2846,null,null,0,1122,null,"Total Target Seq"]
[12,2942,14,2947,13,2953,23,2963,null,null,0,1112,null,{"$f":"COUNTIF(L7:L82,G3)","v":0},null,13,12,13,13,12,13]
[12,3061,14,3066,13,3071,23,3079,null,null,0,1112,null,null,null,"% of reinforcement given in 6 equal intervals based on number of trials "]
[12,3191,14,3195,13,3198,23,3208,null,null,0,1112,null,null,null,"%_1","%_2","%_3","%_4","%_5","%_6"]
[12,3307,14,3311,13,3316,23,3325,null,null,0,1112,null,null,"target sequence",{"$f":"$G$3","v":2212},{"$f":"$G$3","v":2212},{"$f":"$G$3","v":2212},{"$f":"$G$3","v":2212},{"$f":"$G$3","v":2212},{"$f":"$G$3","v":2212}]
[12,3420,14,3424,13,3428,14,3436,null,null,0,1111,null,null,"total reinforcement",{"$f":"U20","v":0},{"$f":"Z20","v":0},{"$f":"AE20","v":0},{"$f":"AJ20","v":0},{"$f":"AO20","v":0},{"$f":"AT20","v":0}]
[12,3530,14,3535,13,3539,23,3546,null,null,0,1112,null,null,"% target"]
[12,3642,14,3653,24,3667,23,3671,null,null,0,1122,null,null,"CCRF"]
[12,3768,14,3772,13,3776,23,3792,null,null,0,1112,null,null,"% CCRf"]
[12,3892,14,3896,13,3904,14,3908,null,null,0,1111,null,null,"average response rate",{"$f":"H19/P28","v":136.30769230769232},{"$f":"(H31-H19)/Q28","v":129.41666666666666},{"$f":"(H44-H31)/R28","v":119.53846153846153},{"$f":"(H57-H44)/S28","v":146.76923076923077},{"$f":"(H69-H57)/T28","v":436.41666666666669},{"$f":"(H82-H69)/U28","v":-924.92307692307691}]
[12,4003,14,4011,24,4018,23,4022,null,null,0,1122]
[12,4125,14,4132,24,4144,23,4147,null,null,0,1122]
[12,4261,14,4269,13,4275,23,4286,null,null,0,1112]
[12,4395,14,4398,24,4406,23,4409,null,null,0,1122]
[12,4506,14,4513,13,4519,14,4523,null,null,0,1111]
[21,4632,21,4635,22,4640,23,4645,null,null,0,2222]
[12,4744,23,4756,24,4760,23,4765,null,null,0,1222]
[12,4860,14,4868,24,4876,23,4879,null,null,0,1122]
[12,4986,14,4990,24,4998,23,5002,null,null,0,1122]
[12,5099,14,5103,24,5110,23,5113,null,null,0,1122]
[12,5210,23,5219,24,5223,23,5228,null,null,0,1222]
[12,5326,23,5336,24,5341,23,5348,null,null,0,1222]
[12,5444,14,5449,13,5457,23,5464,null,null,0,1112]
[12,5565,23,5575,24,5579,23,5592,null,null,0,1222]
[12,5696,23,5709,24,5714,23,5720,null,null,0,1222]
[12,5821,23,5829,24,5841,14,5855,null,null,0,1221]
[12,5953,23,5964,24,5968,23,5974,null,null,0,1222]
[21,6068,21,6072,22,6078,23,6083,null,null,0,2222]
[12,6265,14,6269,24,6277,23,6281,null,null,0,1122]
[12,6590,14,6612,13,6617,23,6628,null,null,0,1112]
[12,6773,14,6776,24,6784,23,6787,null,null,0,1122]
[12,6960,14,6964,13,6988,23,6996,null,null,0,1112]
[21,7094,12,7109,24,7118,23,7122,null,null,0,2122]
[12,7432,23,7446,24,7450,23,7455,null,null,0,1222]
[12,7647,23,7657,13,7678,23,7687,null,null,0,1212]
[12,7793,23,7804,24,7807,23,7811,null,null,0,1222]
[12,7920,23,7928,24,7930,23,7934,null,null,0,1222]
[12,8050,14,8052,13,8057,23,8070,null,null,0,1112]
[12,8178,14,8187,24,8207,23,8213,null,null,0,1122]
[12,8852,14,8857,24,8868,23,8873,null,null,0,1122]
[12,9022,14,9028,13,9045,23,9055,null,null,0,1112]
[12,10043,14,10049,24,11564,23,11568,null,null,0,1122]
[12,12004,23,12013,24,12018,23,12024,null,null,0,1222]
[12,12122,23,12135,24,12137,23,12141,null,null,0,1222]
[12,12352,14,13644,13,13737,23,13747,null,null,0,1112]
[12,13845,23,13854,24,13857,23,13861,null,null,0,1222]
[12,13956,23,13967,24,13969,23,13971,null,null,0,1222]
[12,14074,23,14083,24,14086,23,14093,null,null,0,1222]
[12,14225,23,14231,24,14235,23,14241,null,null,0,1222]
[12,14359,14,14369,13,14374,23,14382,null,null,0,1112]
[12,14813,14,14865,24,14872,23,14876,null,null,0,1122]
[12,14987,14,14994,24,15004,23,15010,null,null,0,1122]
[12,18174,14,18177,13,18180,14,18185,null,null,0,1111]
[12,18816,23,19278,24,19290,23,19594,null,null,0,1222]
[12,19842,23,19854,24,19859,23,19863,null,null,0,1222]
[12,22887,14,22907,13,22914,null,null,null,null,null,111]

{"sheet":"!LB17A04..Is","index":10,"n_rows":73,"n_cols":48,"rows_kept":73,"cut":false,"hidden":false,"merged":[[4,39,4,42],[5,39,5,40],[4,44,4,47],[5,44,5,45],[4,24,4,27],[5,24,5,25],[4,29,4,32],[5,29,5,30],[4,34,4,37],[5,34,5,35],[1,1,1,2],[5,13,5,14],[26,13,26,14],[27,13,27,14],[4,19,4,22],[5,19,5,20]]}
["Report for:!LB17A04..Is"]
["Date:","<date>"]
["Hen:","<hen>",null,null,null,"Correct Sequence",{"$f":"Start!J2","v":2212},null,null,null,null,null,null,null,null,"Total Sequences in Data",{"$f":"4994-COUNTBLANK(L7:L5000)","v":67},null,null,null,null,"Total Sequences in Block Data",{"$f":"COUNTA(L7:L17)","v":11},null,null,null,"Total Sequences in Block Data",{"$f":"COUNTA(L18:L28)","v":11},null,null,null,"Total Sequences in Block Data",{"$f":"COUNTA(L29:L40)","v":12},null,null,null,"Total Sequences in Block Data",{"$f":"COUNTA(L41:L51)","v":11},null,null,null,"Total Sequences in Block Data",{"$f":"COUNTA(L52:L62)","v":11},null,null,null,"Total Sequences in Block Data",{"$f":"COUNTA(L63:L73)","v":11}]
[null,null,null,null,null,null,null,null,null,null,null,null,null,null,null,"Total Sequences in Summary",{"$f":"SUM(O7:O22)","v":66},null,null,null,null,"Total Sequences in Block Summary",{"$f":"SUM(U7:U22)","v":11},null,null,null,"Total Sequences in Block Summary",{"$f":"SUM(Z7:Z22)","v":11},null,null,null,"Total Sequences in Block Summary",{"$f":"SUM(AE7:AE22)","v":12},null,null,null,"Total Sequences in Block Summary",{"$f":"SUM(AJ7:AJ22)","v":11},null,null,null,"Total Sequences in Block Summary",{"$f":"SUM(AO7:AO22)","v":11},null,null,null,"Total Sequences in Block Summary",{"$f":"SUM(AT7:AT22)","v":10}]
[null,null,null,null,null,null,null,null,null,null,null,null,null,null,null,null,null,null,null,"Block 1",null,null,null,null,"Block 2",null,null,null,null,"Block 3",null,null,null,null,"Block 4",null,null,null,null,"Block 5",null,null,null,null,"Block 6"]
["Sequence\nComponent\n1","Time\n1","Sequence\nComponent\n2","Time\n2","Sequence\nComponent\n3","Time\n3","Sequence\nComponent\n4","Time\n4","Sequence\nComponent\n5","Time\n5","Correct?\n0=No 1=Yes","Sequence",null,"Frequency",null,"Relative Frequency","Variability",null,null,"Frequency",null,"Relative Frequency","Variability",null,"Frequency",null,"Relative Frequency","Variability",null,"Frequency",null,"Relative Frequency","Variability",null,"Frequency",null,"Relative Frequency","Variability",null,"Frequency",null,"Relative Frequency","Variability",null,"Frequency",null,"Relative Frequency","Variability"]
[12,23,23,33,24,39,14,85,null,null,0,1221,null,1111,{"$f":"COUNTIF($L$7:$L$500,N7)","v":12},{"$f":"O7/$Q$4","v":0.18181818181818182},{"$f":"IF(P7=0,0,(P7*((LOG(P7))/LOG(2))))","v":-0.44716938520678134},null,null,{"$f":"N7","v":1111},{"$f":"COUNTIF(L7:L17,T7)","v":0},{"$f":"U7/(W4-U20)","v":0},{"$f":"IF(V7=0,0,(V7*((LOG(V7))/LOG(2))))","v":0},null,{"$f":"N7","v":1111},{"$f":"COUNTIF(L18:L28,Y7)","v":2},{"$f":"Z7/(AB4-Z20)","v":0.18181818181818182},{"$f":"IF(AA7=0,0,(AA7*((LOG(AA7))/LOG(2))))","v":-0.44716938520678134},null,{"$f":"N7","v":1111},{"$f":"COUNTIF(L29:L40,AD7)","v":7},{"$f":"AE7/(AG4-AE20)","v":0.58333333333333337},{"$f":"IF(AF7=0,0,(AF7*((LOG(AF7))/LOG(2))))","v":-0.45360442088707198},null,{"$f":"N7","v":1111},{"$f":"COUNTIF(L41:L51,AI7)","v":2},{"$f":"AJ7/(AL4-AJ20)","v":0.18181818181818182},{"$f":"IF(AK7=0,0,(AK7*((LOG(AK7))/LOG(2))))","v":-0.44716938520678134},null,{"$f":"N7","v":1111},{"$f":"COUNTIF(L52:L62,AN7)","v":1},{"$f":"AO7/(AQ4-AO20)","v":9.0909090909090912E-2},{"$f":"IF(AP7=0,0,(AP7*((LOG(AP7))/LOG(2))))","v":-0.31449378351248153},null,{"$f":"N7","v":1111},{"$f":"COUNTIF(L63:L73,AS7)","v":0},{"$f":"AT7/(AV4-AT20)","v":0},{"$f":"IF(AU7=0,0,(AU7*((LOG(AU7))/LOG(2))))","v":0}]
[12,203,23,211,24,214,23,221,null,null,0,1222,null,1112,{"$f":"COUNTIF($L$7:$L$500,N8)","v":13},{"$f":"O8/$Q$4","v":0.19696969696969696},{"$f":"IF(P8=0,0,(P8*((LOG(P8))/LOG(2))))","v":-0.46168798811857115},null,null,{"$f":"N8","v":1112},{"$f":"COUNTIF(L7:L17,T8)","v":3},{"$f":"U8/(W4-U20)","v":0.27272727272727271},{"$f":"IF(V8=0,0,(V8*((LOG(V8))/LOG(2))))","v":-0.51121885034076575},null,{"$f":"N8","v":1112},{"$f":"COUNTIF(L18:L28,Y8)","v":4},{"$f":"Z8/(AB4-Z20)","v":0.36363636363636365},{"$f":"IF(AA8=0,0,(AA8*((LOG(AA8))/LOG(2))))","v":-0.53070240677719893},null,{"$f":"N8","v":1112},{"$f":"COUNTIF(L29:L40,AD8)","v":3},{"$f":"AE8/(AG4-AE20)","v":0.25},{"$f":"IF(AF8=0,0,(AF8*((LOG(AF8))/LOG(2))))","v":-0.5},null,{"$f":"N8","v":1112},{"$f":"COUNTIF(L41:L51,AI8)","v":2},{"$f":"AJ8/(AL4-AJ20)","v":0.18181818181818182},{"$f":"IF(AK8=0,0,(AK8*((LOG(AK8))/LOG(2))))","v":-0.44716938520678134},null,{"$f":"N8","v":1112},{"$f":"COUNTIF(L52:L62,AN8)","v":1},{"$f":"AO8/(AQ4-AO20)","v":9.0909090909090912E-2},{"$f":"IF(AP8=0,0,(AP8*((LOG(AP8))/LOG(2))))","v":-0.31449378351248153},null,{"$f":"N8","v":1112},{"$f":"COUNTIF(L63:L73,AS8)","v":0},{"$f":"AT8/(AV4-AT20)","v":0},{"$f":"IF(AU8=0,0,(AU8*((LOG(AU8))/LOG(2))))","v":0}]
[12,367,23,375,24,383,23,390,null,null,0,1222,null,1121,{"$f":"COUNTIF($L$7:$L$500,N9)","v":0},{"$f":"O9/$Q$4","v":0},{"$f":"IF(P9=0,0,(P9*((LOG(P9))/LOG(2))))","v":0},null,null,{"$f":"N9","v":1121},{"$f":"COUNTIF(L7:L17,T9)","v":0},{"$f":"U9/(W4-U20)","v":0},{"$f":"IF(V9=0,0,(V9*((LOG(V9))/LOG(2))))","v":0},null,{"$f":"N9","v":1121},{"$f":"COUNTIF(L18:L28,Y9)","v":0},{"$f":"Z9/(AB4-Z20)","v":0},{"$f":"IF(AA9=0,0,(AA9*((LOG(AA9))/LOG(2))))","v":0},null,{"$f":"N9","v":1121},{"$f":"COUNTIF(L29:L40,AD9)","v":0},{"$f":"AE9/(AG4-AE20)","v":0},{"$f":"IF(AF9=0,0,(AF9*((LOG(AF9))/LOG(2))))","v":0},null,{"$f":"N9","v":1121},{"$f":"COUNTIF(L41:L51,AI9)","v":0},{"$f":"AJ9/(AL4-AJ20)","v":0},{"$f":"IF(AK9=0,0,(AK9*((LOG(AK9))/LOG(2))))","v":0},null,{"$f":"N9","v":1121},{"$f":"COUNTIF(L52:L62,AN9)","v":0},{"$f":"AO9/(AQ4-AO20)","v":0},{"$f":"IF(AP9=0,0,(AP9*((LOG(AP9))/LOG(2))))","v":0},null,{"$f":"N9","v":1121},{"$f":"COUNTIF(L63:L73,AS9)","v":0},{"$f":"AT9/(AV4-AT20)","v":0},{"$f":"IF(AU9=0,0,(AU9*((LOG(AU9))/LOG(2))))","v":0}]
[12,506,23,544,24,562,23,570,null,null,0,1222,null,1122,{"$f":"COUNTIF($L$7:$L$500,N10)","v":20},{"$f":"O10/$Q$4","v":0.30303030303030304},{"$f":"IF(P10=0,0,(P10*((LOG(P10))/LOG(2))))","v":-0.52195940135487617},null,null,{"$f":"N10","v":1122},{"$f":"COUNTIF(L7:L17,T10)","v":4},{"$f":"U10/(W4-U20)","v":0.36363636363636365},{"$f":"IF(V10=0,0,(V10*((LOG(V10))/LOG(2))))","v":-0.53070240677719893},null,{"$f":"N10","v":1122},{"$f":"COUNTIF(L18:L28,Y10)","v":4},{"$f":"Z10/(AB4-Z20)","v":0.36363636363636365},{"$f":"IF(AA10=0,0,(AA10*((LOG(AA10))/LOG(2))))","v":-0.53070240677719893},null,{"$f":"N10","v":1122},{"$f":"COUNTIF(L29:L40,AD10)","v":1},{"$f":"AE10/(AG4-AE20)","v":8.3333333333333329E-2},{"$f":"IF(AF10=0,0,(AF10*((LOG(AF10))/LOG(2))))","v":-0.29874687506009634},null,{"$f":"N10","v":1122},{"$f":"COUNTIF(L41:L51,AI10)","v":5},{"$f":"AJ10/(AL4-AJ20)","v":0.45454545454545453},{"$f":"IF(AK10=0,0,(AK10*((LOG(AK10))/LOG(2))))","v":-0.51704705624997038},null,{"$f":"N10","v":1122},{"$f":"COUNTIF(L52:L62,AN10)","v":5},{"$f":"AO10/(AQ4-AO20)","v":0.45454545454545453},{"$f":"IF(AP10=0,0,(AP10*((LOG(AP10))/LOG(2))))","v":-0.51704705624997038},null,{"$f":"N10","v":1122},{"$f":"COUNTIF(L63:L73,AS10)","v":1},{"$f":"AT10/(AV4-AT20)","v":0.1},{"$f":"IF(AU10=0,0,(AU10*((LOG(AU10))/LOG(2))))","v":-0.33219280948873625}]
[12,669,14,678,24,687,23,703,null,null,0,1122,null,1211,{"$f":"COUNTIF($L$7:$L$500,N11)","v":0},{"$f":"O11/$Q$4","v":0},{"$f":"IF(P11=0,0,(P11*((LOG(P11))/LOG(2))))","v":0},null,null,{"$f":"N11","v":1211},{"$f":"COUNTIF(L7:L17,T11)","v":0},{"$f":"U11/(W4-U20)","v":0},{"$f":"IF(V11=0,0,(V11*((LOG(V11))/LOG(2))))","v":0},null,{"$f":"N11","v":1211},{"$f":"COUNTIF(L18:L28,Y11)","v":0},{"$f":"Z11/(AB4-Z20)","v":0},{"$f":"IF(AA11=0,0,(AA11*((LOG(AA11))/LOG(2))))","v":0},null,{"$f":"N11","v":1211},{"$f":"COUNTIF(L29:L40,AD11)","v":0},{"$f":"AE11/(AG4-AE20)","v":0},{"$f":"IF(AF11=0,0,(AF11*((LOG(AF11))/LOG(2))))","v":0},null,{"$f":"N11","v":1211},{"$f":"COUNTIF(L41:L51,AI11)","v":0},{"$f":"AJ11/(AL4-AJ20)","v":0},{"$f":"IF(AK11=0,0,(AK11*((LOG(AK11))/LOG(2))))","v":0},null,{"$f":"N11","v":1211},{"$f":"COUNTIF(L52:L62,AN11)","v":0},{"$f":"AO11/(AQ4-AO20)","v":0},{"$f":"IF(AP11=0,0,(AP11*((LOG(AP11))/LOG(2))))","v":0},null,{"$f":"N11","v":1211},{"$f":"COUNTIF(L63:L73,AS11)","v":0},{"$f":"AT11/(AV4-AT20)","v":0},{"$f":"IF(AU11=0,0,(AU11*((LOG(AU11))/LOG(2))))","v":0}]
[12,802,14,807,24,815,23,827,null,null,0,1122,null,1212,{"$f":"COUNTIF($L$7:$L$500,N12)","v":1},{"$f":"O12/$Q$4","v":1.5151515151515152E-2},{"$f":"IF(P12=0,0,(P12*((LOG(P12))/LOG(2))))","v":-9.1581729081188695E-2},null,null,{"$f":"N12","v":1212},{"$f":"COUNTIF(L7:L17,T12)","v":0},{"$f":"U12/(W4-U20)","v":0},{"$f":"IF(V12=0,0,(V12*((LOG(V12))/LOG(2))))","v":0},null,{"$f":"N12","v":1212},{"$f":"COUNTIF(L18:L28,Y12)","v":0},{"$f":"Z12/(AB4-Z20)","v":0},{"$f":"IF(AA12=0,0,(AA12*((LOG(AA12))/LOG(2))))","v":0},null,{"$f":"N12","v":1212},{"$f":"COUNTIF(L29:L40,AD12)","v":0},{"$f":"AE12/(AG4-AE20)","v":0},{"$f":"IF(AF12=0,0,(AF12*((LOG(AF12))/LOG(2))))","v":0},null,{"$f":"N12","v":1212},{"$f":"COUNTIF(L41:L51,AI12)","v":0},{"$f":"AJ12/(AL4-AJ20)","v":0},{"$f":"IF(AK12=0,0,(AK12*((LOG(AK12))/LOG(2))))","v":0},null,{"$f":"N12","v":1212},{"$f":"COUNTIF(L52:L62,AN12)","v":1},{"$f":"AO12/(AQ4-AO20)","v":9.0909090909090912E-2},{"$f":"IF(AP12=0,0,(AP12*((LOG(AP12))/LOG(2))))","v":-0.31449378351248153},null,{"$f":"N12","v":1212},{"$f":"COUNTIF(L63:L73,AS12)","v":0},{"$f":"AT12/(AV4-AT20)","v":0},{"$f":"IF(AU12=0,0,(AU12*((LOG(AU12))/LOG(2))))","v":0}]
[12,925,14,934,24,942,23,945,null,null,0,1122,null,1221,{"$f":"COUNTIF($L$7:$L$500,N13)","v":1},{"$f":"O13/$Q$4","v":1.5151515151515152E-2},{"$f":"IF(P13=0,0,(P13*((LOG(P13))/LOG(2))))","v":-9.1581729081188695E-2},null,null,{"$f":"N13","v":1221},{"$f":"COUNTIF(L7:L17,T13)","v":1},{"$f":"U13/(W4-U20)","v":9.0909090909090912E-2},{"$f":"IF(V13=0,0,(V13*((LOG(V13))/LOG(2))))","v":-0.31449378351248153},null,{"$f":"N13","v":1221},{"$f":"COUNTIF(L18:L28,Y13)","v":0},{"$f":"Z13/(AB4-Z20)","v":0},{"$f":"IF(AA13=0,0,(AA13*((LOG(AA13))/LOG(2))))","v":0},null,{"$f":"N13","v":1221},{"$f":"COUNTIF(L29:L40,AD13)","v":0},{"$f":"AE13/(AG4-AE20)","v":0},{"$f":"IF(AF13=0,0,(AF13*((LOG(AF13))/LOG(2))))","v":0},null,{"$f":"N13","v":1221},{"$f":"COUNTIF(L41:L51,AI13)","v":0},{"$f":"AJ13/(AL4-AJ20)","v":0},{"$f":"IF(AK13=0,0,(AK13*((LOG(AK13))/LOG(2))))","v":0},null,{"$f":"N13","v":1221},{"$f":"COUNTIF(L52:L62,AN13)","v":0},{"$f":"AO13/(AQ4-AO20)","v":0},{"$f":"IF(AP13=0,0,(AP13*((LOG(AP13))/LOG(2))))","v":0},null,{"$f":"N13","v":1221},{"$f":"COUNTIF(L63:L73,AS13)","v":0},{"$f":"AT13/(AV4-AT20)","v":0},{"$f":"IF(AU13=0,0,(AU13*((LOG(AU13))/LOG(2))))","v":0}]
[12,1048,14,1054,13,1058,23,1068,null,null,0,1112,null,1222,{"$f":"COUNTIF($L$7:$L$500,N14)","v":14},{"$f":"O14/$Q$4","v":0.21212121212121213},{"$f":"IF(P14=0,0,(P14*((LOG(P14))/LOG(2))))","v":-0.47452346609411955},null,null,{"$f":"N14","v":1222},{"$f":"COUNTIF(L7:L17,T14)","v":3},{"$f":"U14/(W4-U20)","v":0.27272727272727271},{"$f":"IF(V14=0,0,(V14*((LOG(V14))/LOG(2))))","v":-0.51121885034076575},null,{"$f":"N14","v":1222},{"$f":"COUNTIF(L18:L28,Y14)","v":1},{"$f":"Z14/(AB4-Z20)","v":9.0909090909090912E-2},{"$f":"IF(AA14=0,0,(AA14*((LOG(AA14))/LOG(2))))","v":-0.31449378351248153},null,{"$f":"N14","v":1222},{"$f":"COUNTIF(L29:L40,AD14)","v":1},{"$f":"AE14/(AG4-AE20)","v":8.3333333333333329E-2},{"$f":"IF(AF14=0,0,(AF14*((LOG(AF14))/LOG(2))))","v":-0.29874687506009634},null,{"$f":"N14","v":1222},{"$f":"COUNTIF(L41:L51,AI14)","v":2},{"$f":"AJ14/(AL4-AJ20)","v":0.18181818181818182},{"$f":"IF(AK14=0,0,(AK14*((LOG(AK14))/LOG(2))))","v":-0.44716938520678134},null,{"$f":"N14","v":1222},{"$f":"COUNTIF(L52:L62,AN14)","v":2},{"$f":"AO14/(AQ4-AO20)","v":0.18181818181818182},{"$f":"IF(AP14=0,0,(AP14*((LOG(AP14))/LOG(2))))","v":-0.44716938520678134},null,{"$f":"N14","v":1222},{"$f":"COUNTIF(L63:L73,AS14)","v":5},{"$f":"AT14/(AV4-AT20)","v":0.5},{"$f":"IF(AU14=0,0,(AU14*((LOG(AU14))/LOG(2))))","v":-0.5}]
[12,1169,14,1174,13,1179,23,1204,null,null,0,1112,null,2111,{"$f":"COUNTIF($L$7:$L$500,N15)","v":0},{"$f":"O15/$Q$4","v":0},{"$f":"IF(P15=0,0,(P15*((LOG(P15))/LOG(2))))","v":0},null,null,{"$f":"N15","v":2111},{"$f":"COUNTIF(L7:L17,T15)","v":0},{"$f":"U15/(W4-U20)","v":0},{"$f":"IF(V15=0,0,(V15*((LOG(V15))/LOG(2))))","v":0},null,{"$f":"N15","v":2111},{"$f":"COUNTIF(L18:L28,Y15)","v":0},{"$f":"Z15/(AB4-Z20)","v":0},{"$f":"IF(AA15=0,0,(AA15*((LOG(AA15))/LOG(2))))","v":0},null,{"$f":"N15","v":2111},{"$f":"COUNTIF(L29:L40,AD15)","v":0},{"$f":"AE15/(AG4-AE20)","v":0},{"$f":"IF(AF15=0,0,(AF15*((LOG(AF15))/LOG(2))))","v":0},null,{"$f":"N15","v":2111},{"$f":"COUNTIF(L41:L51,AI15)","v":0},{"$f":"AJ15/(AL4-AJ20)","v":0},{"$f":"IF(AK15=0,0,(AK15*((LOG(AK15))/LOG(2))))","v":0},null,{"$f":"N15","v":2111},{"$f":"COUNTIF(L52:L62,AN15)","v":0},{"$f":"AO15/(AQ4-AO20)","v":0},{"$f":"IF(AP15=0,0,(AP15*((LOG(AP15))/LOG(2))))","v":0},null,{"$f":"N15","v":2111},{"$f":"COUNTIF(L63:L73,AS15)","v":0},{"$f":"AT15/(AV4-AT20)","v":0},{"$f":"IF(AU15=0,0,(AU15*((LOG(AU15))/LOG(2))))","v":0}]
[12,1299,14,1304,13,1308,23,1318,null,null,0,1112,null,2112,{"$f":"COUNTIF($L$7:$L$500,N16)","v":0},{"$f":"O16/$Q$4","v":0},{"$f":"IF(P16=0,0,(P16*((LOG(P16))/LOG(2))))","v":0},null,null,{"$f":"N16","v":2112},{"$f":"COUNTIF(L7:L17,T16)","v":0},{"$f":"U16/(W4-U20)","v":0},{"$f":"IF(V16=0,0,(V16*((LOG(V16))/LOG(2))))","v":0},null,{"$f":"N16","v":2112},{"$f":"COUNTIF(L18:L28,Y16)","v":0},{"$f":"Z16/(AB4-Z20)","v":0},{"$f":"IF(AA16=0,0,(AA16*((LOG(AA16))/LOG(2))))","v":0},null,{"$f":"N16","v":2112},{"$f":"COUNTIF(L29:L40,AD16)","v":0},{"$f":"AE16/(AG4-AE20)","v":0},{"$f":"IF(AF16=0,0,(AF16*((LOG(AF16))/LOG(2))))","v":0},null,{"$f":"N16","v":2112},{"$f":"COUNTIF(L41:L51,AI16)","v":0},{"$f":"AJ16/(AL4-AJ20)","v":0},{"$f":"IF(AK16=0,0,(AK16*((LOG(AK16))/LOG(2))))","v":0},null,{"$f":"N16","v":2112},{"$f":"COUNTIF(L52:L62,AN16)","v":0},{"$f":"AO16/(AQ4-AO20)","v":0},{"$f":"IF(AP16=0,0,(AP16*((LOG(AP16))/LOG(2))))","v":0},null,{"$f":"N16","v":2112},{"$f":"COUNTIF(L63:L73,AS16)","v":0},{"$f":"AT16/(AV4-AT20)","v":0},{"$f":"IF(AU16=0,0,(AU16*((LOG(AU16))/LOG(2))))","v":0}]
[12,1416,14,1423,24,1431,23,1434,null,null,0,1122,null,2121,{"$f":"COUNTIF($L$7:$L$500,N17)","v":0},{"$f":"O17/$Q$4","v":0},{"$f":"IF(P17=0,0,(P17*((LOG(P17))/LOG(2))))","v":0},null,null,{"$f":"N17","v":2121},{"$f":"COUNTIF(L7:L17,T17)","v":0},{"$f":"U17/(W4-U20)","v":0},{"$f":"IF(V17=0,0,(V17*((LOG(V17))/LOG(2))))","v":0},null,{"$f":"N17","v":2121},{"$f":"COUNTIF(L18:L28,Y17)","v":0},{"$f":"Z17/(AB4-Z20)","v":0},{"$f":"IF(AA17=0,0,(AA17*((LOG(AA17))/LOG(2))))","v":0},null,{"$f":"N17","v":2121},{"$f":"COUNTIF(L29:L40,AD17)","v":0},{"$f":"AE17/(AG4-AE20)","v":0},{"$f":"IF(AF17=0,0,(AF17*((LOG(AF17))/LOG(2))))","v":0},null,{"$f":"N17","v":2121},{"$f":"COUNTIF(L41:L51,AI17)","v":0},{"$f":"AJ17/(AL4-AJ20)","v":0},{"$f":"IF(AK17=0,0,(AK17*((LOG(AK17))/LOG(2))))","v":0},null,{"$f":"N17","v":2121},{"$f":"COUNTIF(L52:L62,AN17)","v":0},{"$f":"AO17/(AQ4-AO20)","v":0},{"$f":"IF(AP17=0,0,(AP17*((LOG(AP17))/LOG(2))))","v":0},null,{"$f":"N17","v":2121},{"$f":"COUNTIF(L63:L73,AS17)","v":0},{"$f":"AT17/(AV4-AT20)","v":0},{"$f":"IF(AU17=0,0,(AU17*((LOG(AU17))/LOG(2))))","v":0}]
[12,1533,14,1537,13,1544,23,1556,null,null,0,1112,null,2122,{"$f":"COUNTIF($L$7:$L$500,N18)","v":1},{"$f":"O18/$Q$4","v":1.5151515151515152E-2},{"$f":"IF(P18=0,0,(P18*((LOG(P18))/LOG(2))))","v":-9.1581729081188695E-2},null,null,{"$f":"N18","v":2122},{"$f":"COUNTIF(L7:L17,T18)","v":0},{"$f":"U18/(W4-U20)","v":0},{"$f":"IF(V18=0,0,(V18*((LOG(V18))/LOG(2))))","v":0},null,{"$f":"N18","v":2122},{"$f":"COUNTIF(L18:L28,Y18)","v":0},{"$f":"Z18/(AB4-Z20)","v":0},{"$f":"IF(AA18=0,0,(AA18*((LOG(AA18))/LOG(2))))","v":0},null,{"$f":"N18","v":2122},{"$f":"COUNTIF(L29:L40,AD18)","v":0},{"$f":"AE18/(AG4-AE20)","v":0},{"$f":"IF(AF18=0,0,(AF18*((LOG(AF18))/LOG(2))))","v":0},null,{"$f":"N18","v":2122},{"$f":"COUNTIF(L41:L51,AI18)","v":0},{"$f":"AJ18/(AL4-AJ20)","v":0},{"$f":"IF(AK18=0,0,(AK18*((LOG(AK18))/LOG(2))))","v":0},null,{"$f":"N18","v":2122},{"$f":"COUNTIF(L52:L62,AN18)","v":1},{"$f":"AO18/(AQ4-AO20)","v":9.0909090909090912E-2},{"$f":"IF(AP18=0,0,(AP18*((LOG(AP18))/LOG(2))))","v":-0.31449378351248153},null,{"$f":"N18","v":2122},{"$f":"COUNTIF(L63:L73,AS18)","v":0},{"$f":"AT18/(AV4-AT20)","v":0},{"$f":"IF(AU18=0,0,(AU18*((LOG(AU18))/LOG(2))))","v":0}]
[12,1705,14,1710,13,1714,14,1720,null,null,0,1111,null,2211,{"$f":"COUNTIF($L$7:$L$500,N19)","v":1},{"$f":"O19/$Q$4","v":1.5151515151515152E-2},{"$f":"IF(P19=0,0,(P19*((LOG(P19))/LOG(2))))","v":-9.1581729081188695E-2},null,null,{"$f":"N19","v":2211},{"$f":"COUNTIF(L7:L17,T19)","v":0},{"$f":"U19/(W4-U20)","v":0},{"$f":"IF(V19=0,0,(V19*((LOG(V19))/LOG(2))))","v":0},null,{"$f":"N19","v":2211},{"$f":"COUNTIF(L18:L28,Y19)","v":0},{"$f":"Z19/(AB4-Z20)","v":0},{"$f":"IF(AA19=0,0,(AA19*((LOG(AA19))/LOG(2))))","v":0},null,{"$f":"N19","v":2211},{"$f":"COUNTIF(L29:L40,AD19)","v":0},{"$f":"AE19/(AG4-AE20)","v":0},{"$f":"IF(AF19=0,0,(AF19*((LOG(AF19))/LOG(2))))","v":0},null,{"$f":"N19","v":2211},{"$f":"COUNTIF(L41:L51,AI19)","v":0},{"$f":"AJ19/(AL4-AJ20)","v":0},{"$f":"IF(AK19=0,0,(AK19*((LOG(AK19))/LOG(2))))","v":0},null,{"$f":"N19","v":2211},{"$f":"COUNTIF(L52:L62,AN19)","v":0},{"$f":"AO19/(AQ4-AO20)","v":0},{"$f":"IF(AP19=0,0,(AP19*((LOG(AP19))/LOG(2))))","v":0},null,{"$f":"N19","v":2211},{"$f":"COUNTIF(L63:L73,AS19)","v":1},{"$f":"AT19/(AV4-AT20)","v":0.1},{"$f":"IF(AU19=0,0,(AU19*((LOG(AU19))/LOG(2))))","v":-0.33219280948873625}]
[12,2128,14,2141,24,2150,23,2161,null,null,0,1122,null,2212,{"$f":"COUNTIF($L$7:$L$500,N20)","v":0},{"$f":"O20/$Q$4","v":0},{"$f":"IF(P20=0,0,(P20*((LOG(P20))/LOG(2))))","v":0},null,null,{"$f":"N20","v":2212},{"$f":"COUNTIF(L7:L17,T20)","v":0},null,null,null,{"$f":"N20","v":2212},{"$f":"COUNTIF(L18:L28,Y20)","v":0},null,null,null,{"$f":"N20","v":2212},{"$f":"COUNTIF(L29:L40,AD20)","v":0},null,null,null,{"$f":"N20","v":2212},{"$f":"COUNTIF(L41:L51,AI20)","v":0},null,null,null,{"$f":"N20","v":2212},{"$f":"COUNTIF(L52:L62,AN20)","v":0},null,null,null,{"$f":"N20","v":2212},{"$f":"COUNTIF(L63:L73,AS20)","v":0}]
[12,2588,14,2597,13,2602,23,2611,null,null,0,1112,null,2221,{"$f":"COUNTIF($L$7:$L$500,N21)","v":2},{"$f":"O21/$Q$4","v":3.0303030303030304E-2},{"$f":"IF(P21=0,0,(P21*((LOG(P21))/LOG(2))))","v":-0.15286042785934709},null,null,{"$f":"N21","v":2221},{"$f":"COUNTIF(L7:L17,T21)","v":0},{"$f":"U21/(W4-U20)","v":0},{"$f":"IF(V21=0,0,(V21*((LOG(V21))/LOG(2))))","v":0},null,{"$f":"N21","v":2221},{"$f":"COUNTIF(L18:L28,Y21)","v":0},{"$f":"Z21/(AB4-Z20)","v":0},{"$f":"IF(AA21=0,0,(AA21*((LOG(AA21))/LOG(2))))","v":0},null,{"$f":"N21","v":2221},{"$f":"COUNTIF(L29:L40,AD21)","v":0},{"$f":"AE21/(AG4-AE20)","v":0},{"$f":"IF(AF21=0,0,(AF21*((LOG(AF21))/LOG(2))))","v":0},null,{"$f":"N21","v":2221},{"$f":"COUNTIF(L41:L51,AI21)","v":0},{"$f":"AJ21/(AL4-AJ20)","v":0},{"$f":"IF(AK21=0,0,(AK21*((LOG(AK21))/LOG(2))))","v":0},null,{"$f":"N21","v":2221},{"$f":"COUNTIF(L52:L62,AN21)","v":0},{"$f":"AO21/(AQ4-AO20)","v":0},{"$f":"IF(AP21=0,0,(AP21*((LOG(AP21))/LOG(2))))","v":0},null,{"$f":"N21","v":2221},{"$f":"COUNTIF(L63:L73,AS21)","v":2},{"$f":"AT21/(AV4-AT20)","v":0.2},{"$f":"IF(AU21=0,0,(AU21*((LOG(AU21))/LOG(2))))","v":-0.46438561897747244}]
[12,2791,14,2796,24,2807,23,2824,null,null,0,1122,null,2222,{"$f":"COUNTIF($L$7:$L$500,N22)","v":1},{"$f":"O22/$Q$4","v":1.5151515151515152E-2},{"$f":"IF(P22=0,0,(P22*((LOG(P22))/LOG(2))))","v":-9.1581729081188695E-2},null,null,{"$f":"N22","v":2222},{"$f":"COUNTIF(L7:L17,T22)","v":0},{"$f":"U22/(W4-U20)","v":0},{"$f":"IF(V22=0,0,(V22*((LOG(V22))/LOG(2))))","v":0},null,{"$f":"N22","v":2222},{"$f":"COUNTIF(L18:L28,Y22)","v":0},{"$f":"Z22/(AB4-Z20)","v":0},{"$f":"IF(AA22=0,0,(AA22*((LOG(AA22))/LOG(2))))","v":0},null,{"$f":"N22","v":2222},{"$f":"COUNTIF(L29:L40,AD22)","v":0},{"$f":"AE22/(AG4-AE20)","v":0},{"$f":"IF(AF22=0,0,(AF22*((LOG(AF22))/LOG(2))))","v":0},null,{"$f":"N22","v":2222},{"$f":"COUNTIF(L41:L51,AI22)","v":0},{"$f":"AJ22/(AL4-AJ20)","v":0},{"$f":"IF(AK22=0,0,(AK22*((LOG(AK22))/LOG(2))))","v":0},null,{"$f":"N22","v":2222},{"$f":"COUNTIF(L52:L62,AN22)","v":0},{"$f":"AO22/(AQ4-AO20)","v":0},{"$f":"IF(AP22=0,0,(AP22*((LOG(AP22))/LOG(2))))","v":0},null,{"$f":"N22","v":2222},{"$f":"COUNTIF(L63:L73,AS22)","v":1},{"$f":"AT22/(AV4-AT20)","v":0.1},{"$f":"IF(AU22=0,0,(AU22*((LOG(AU22))/LOG(2))))","v":-0.33219280948873625}]
[12,2932,14,2936,24,2944,23,2955,null,null,0,1122,null,null,null,{"$f":"SUM(P7:P22)","v":1},{"$f":"-SUM(Q7:Q22)","v":2.5161093140396393},null,null,null,null,{"$f":"SUM(V7:V22)","v":1},{"$f":"-SUM(W7:W22)","v":1.8676338909712118},null,null,null,{"$f":"SUM(AA7:AA22)","v":1},{"$f":"-SUM(AB7:AB22)","v":1.8230679822736608},null,null,null,{"$f":"SUM(AF7:AF22)","v":1},{"$f":"-SUM(AG7:AG22)","v":1.5510981710072647},null,null,null,{"$f":"SUM(AK7:AK22)","v":1},{"$f":"-SUM(AL7:AL22)","v":1.8585552118703144},null,null,null,{"$f":"SUM(AP7:AP22)","v":1},{"$f":"-SUM(AQ7:AQ22)","v":2.2221915755066779},null,null,null,{"$f":"SUM(AU7:AU22)","v":0.99999999999999989},{"$f":"-SUM(AV7:AV22)","v":1.9609640474436814}]
[12,3053,14,3061,24,3070,23,3081,null,null,0,1122,null,null,null,"U=",{"$f":"Q23/(LOG(Q4)/LOG(2))","v":0.41627155085424788},null,null,null,null,"U1=",{"$f":"W23/(LOG(W4)/LOG(2))","v":0.5398672663189944},null,null,null,"U2=",{"$f":"AB23/(LOG(AB4)/LOG(2))","v":0.52698482966163795},null,null,null,"U3=",{"$f":"AG23/(LOG(AG4)/LOG(2))","v":0.4326678928148463},null,null,null,"U4=",{"$f":"AL23/(LOG(AL4)/LOG(2))","v":0.5372429395214976},null,null,null,"U5=",{"$f":"AQ23/(LOG(AQ4)/LOG(2))","v":0.64235742181891131},null,null,null,"U6=",{"$f":"AV23/(LOG(AV4)/LOG(2))","v":0.5903089986991944}]
[12,3176,14,3181,13,3188,23,3195,null,null,0,1112]
[12,3292,14,3296,13,3300,23,3308,null,null,0,1112]
[12,3404,14,3408,13,3413,14,3417,null,null,0,1111,null,"Total Target Seq"]
[12,3523,23,3538,24,3541,23,3548,null,null,0,1222,null,{"$f":"COUNTIF(L7:L73,G3)","v":0},null,11,11,12,11,11,11]
[12,3646,14,3654,13,3658,23,3668,null,null,0,1112,null,null,null,"% of reinforcement given in 6 equal intervals based on number of trials "]
[12,3763,14,3766,13,3770,23,3786,null,null,0,1112,null,null,null,"%_1","%_2","%_3","%_4","%_5","%_6"]
[12,3889,23,3901,24,3905,23,3910,null,null,0,1222,null,null,"target sequence",{"$f":"$G$3","v":2212},{"$f":"$G$3","v":2212},{"$f":"$G$3","v":2212},{"$f":"$G$3","v":2212},{"$f":"$G$3","v":2212},{"$f":"$G$3","v":2212}]
[12,4006,14,4010,13,4014,14,4017,null,null,0,1111,null,null,"total reinforcement",{"$f":"U20","v":0},{"$f":"Z20","v":0},{"$f":"AE20","v":0},{"$f":"AJ20","v":0},{"$f":"AO20","v":0},{"$f":"AT20","v":0}]
[12,4117,14,4121,13,4126,14,4130,null,null,0,1111,null,null,"% target"]
[12,4226,14,4231,13,4235,23,4243,null,null,0,1112,null,null,"CCRF"]
[12,4375,14,4381,13,4383,14,4386,null,null,0,1111,null,null,"% CCRf"]
[12,4483,14,4485,13,4489,14,4492,null,null,0,1111,null,null,"average response rate",{"$f":"H17/P28","v":130.36363636363637},{"$f":"(H28-H17)/Q28","v":192.18181818181819},{"$f":"(H40-H28)/R28","v":116.83333333333333},{"$f":"(H51-H40)/S28","v":155.36363636363637},{"$f":"(H62-H51)/T28","v":123.90909090909091},{"$f":"(H73-H62)/U28","v":-729.27272727272725}]
[12,4587,14,4591,13,4595,14,4602,null,null,0,1111]
[12,4700,14,4704,13,4708,14,4713,null,null,0,1111]
[12,4809,14,4811,13,4814,14,4820,null,null,0,1111]
[12,4920,14,4922,24,4946,23,4950,null,null,0,1122]
[12,5119,14,5123,13,5128,14,5136,null,null,0,1111]
[12,5251,14,5253,13,5256,23,5266,null,null,0,1112]
[12,5368,23,5381,24,5386,23,5397,null,null,0,1222]
[12,5497,14,5503,24,5513,23,5529,null,null,0,1122]
[12,5733,14,5739,24,5745,23,5752,null,null,0,1122]
[12,5856,14,5860,13,5864,23,5877,null,null,0,1112]
[12,5974,14,5980,24,5998,23,6002,null,null,0,1122]
[12,6105,14,6114,24,6125,23,6138,null,null,0,1122]
[12,6241,23,6255,24,6258,23,6262,null,null,0,1222]
[12,6526,14,6529,13,6534,14,6538,null,null,0,1111]
[12,6637,14,6644,24,6653,23,6659,null,null,0,1122]
[12,6761,14,6768,13,6772,14,6777,null,null,0,1111]
[12,6876,23,6884,24,6889,23,6894,null,null,0,1222]
[12,6993,14,6998,24,7006,23,7011,null,null,0,1122]
[12,7106,14,7109,24,7117,23,7121,null,null,0,1122]
[12,7237,14,7249,24,7257,23,7260,null,null,0,1122]
[12,7356,14,7359,13,7367,23,7374,null,null,0,1112]
[12,7482,14,7486,24,7495,23,7498,null,null,0,1122]
[12,7597,14,7600,24,7613,23,7616,null,null,0,1122]
[12,7722,23,7738,24,7744,23,7749,null,null,0,1222]
[12,7852,23,7866,13,7875,23,7886,null,null,0,1212]
[21,7993,12,8000,24,8013,23,8022,null,null,0,2122]
[12,8774,23,8789,24,8794,23,8799,null,null,0,1222]
[12,8967,23,8977,24,8981,23,8987,null,null,0,1222]
[21,9480,21,9485,22,9489,23,9496,null,null,0,2222]
[12,10984,23,10993,24,10996,23,10998,null,null,0,1222]
[12,11108,23,11116,24,11121,23,11126,null,null,0,1222]
[21,12525,21,12532,22,12546,14,12554,null,null,0,2221]
[12,13591,23,13605,24,13609,23,13620,null,null,0,1222]
[21,13959,21,13964,22,13968,14,13978,null,null,0,2221]
[21,14547,21,14551,11,14565,12,14572,null,null,0,2211]
[12,14691,14,14727,24,14738,23,14743,null,null,0,1122]
[21,16749,12,19819,null,null,null,null,null,null,null,21]

{"sheet":"!LB18A04..Is","index":11,"n_rows":55,"n_cols":48,"rows_kept":55,"cut":false,"hidden":false,"merged":[[4,39,4,42],[5,39,5,40],[4,44,4,47],[5,44,5,45],[4,24,4,27],[5,24,5,25],[4,29,4,32],[5,29,5,30],[4,34,4,37],[5,34,5,35],[1,1,1,2],[5,13,5,14],[26,13,26,14],[27,13,27,14],[4,19,4,22],[5,19,5,20]]}
["Report for:!LB18A04..Is"]
["Date:","<date>"]
["Hen:","<hen>",null,null,null,"Correct Sequence",{"$f":"Start!J2","v":2212},null,null,null,null,null,null,null,null,"Total Sequences in Data",{"$f":"4994-COUNTBLANK(L7:L5000)","v":49},null,null,null,null,"Total Sequences in Block Data",{"$f":"COUNTA(L7:L14)","v":8},null,null,null,"Total Sequences in Block Data",{"$f":"COUNTA(L15:L22)","v":8},null,null,null,"Total Sequences in Block Data",{"$f":"COUNTA(L23:L31)","v":9},null,null,null,"Total Sequences in Block Data",{"$f":"COUNTA(L32:L39)","v":8},null,null,null,"Total Sequences in Block Data",{"$f":"COUNTA(L40:L47)","v":8},null,null,null,"Total Sequences in Block Data",{"$f":"COUNTA(L48:L55)","v":8}]
[null,null,null,null,null,null,null,null,null,null,null,null,null,null,null,"Total Sequences in Summary",{"$f":"SUM(O7:O22)","v":49},null,null,null,null,"Total Sequences in Block Summary",{"$f":"SUM(U7:U22)","v":8},null,null,null,"Total Sequences in Block Summary",{"$f":"SUM(Z7:Z22)","v":8},null,null,null,"Total Sequences in Block Summary",{"$f":"SUM(AE7:AE22)","v":9},null,null,null,"Total Sequences in Block Summary",{"$f":"SUM(AJ7:AJ22)","v":8},null,null,null,"Total Sequences in Block Summary",{"$f":"SUM(AO7:AO22)","v":8},null,null,null,"Total Sequences in Block Summary",{"$f":"SUM(AT7:AT22)","v":8}]
[null,null,null,null,null,null,null,null,null,null,null,null,null,null,null,null,null,null,null,"Block 1",null,null,null,null,"Block 2",null,null,null,null,"Block 3",null,null,null,null,"Block 4",null,null,null,null,"Block 5",null,null,null,null,"Block 6"]
["Sequence\nComponent\n1","Time\n1","Sequence\nComponent\n2","Time\n2","Sequence\nComponent\n3","Time\n3","Sequence\nComponent\n4","Time\n4","Sequence\nComponent\n5","Time\n5","Correct?\n0=No 1=Yes","Sequence",null,"Frequency",null,"Relative Frequency","Variability",null,null,"Frequency",null,"Relative Frequency","Variability",null,"Frequency",null,"Relative Frequency","Variability",null,"Frequency",null,"Relative Frequency","Variability",null,"Frequency",null,"Relative Frequency","Variability",null,"Frequency",null,"Relative Frequency","Variability",null,"Frequency",null,"Relative Frequency","Variability"]
[12,37,23,44,13,56,14,113,null,null,0,1211,null,1111,{"$f":"COUNTIF($L$7:$L$500,N7)","v":4},{"$f":"O7/$Q$4","v":8.1632653061224483E-2},{"$f":"IF(P7=0,0,(P7*((LOG(P7))/LOG(2))))","v":-0.29507835462164966},null,null,{"$f":"N7","v":1111},{"$f":"COUNTIF(L7:L14,T7)","v":0},{"$f":"U7/(W4-U20)","v":0},{"$f":"IF(V7=0,0,(V7*((LOG(V7))/LOG(2))))","v":0},null,{"$f":"N7","v":1111},{"$f":"COUNTIF(L15:L22,Y7)","v":0},{"$f":"Z7/(AB4-Z20)","v":0},{"$f":"IF(AA7=0,0,(AA7*((LOG(AA7))/LOG(2))))","v":0},null,{"$f":"N7","v":1111},{"$f":"COUNTIF(L23:L31,AD7)","v":1},{"$f":"AE7/(AG4-AE20)","v":0.1111111111111111},{"$f":"IF(AF7=0,0,(AF7*((LOG(AF7))/LOG(2))))","v":-0.3522138890491458},null,{"$f":"N7","v":1111},{"$f":"COUNTIF(L32:L39,AI7)","v":2},{"$f":"AJ7/(AL4-AJ20)","v":0.25},{"$f":"IF(AK7=0,0,(AK7*((LOG(AK7))/LOG(2))))","v":-0.5},null,{"$f":"N7","v":1111},{"$f":"COUNTIF(L40:L47,AN7)","v":0},{"$f":"AO7/(AQ4-AO20)","v":0},{"$f":"IF(AP7=0,0,(AP7*((LOG(AP7))/LOG(2))))","v":0},null,{"$f":"N7","v":1111},{"$f":"COUNTIF(L48:L55,AS7)","v":1},{"$f":"AT7/(AV4-AT20)","v":0.125},{"$f":"IF(AU7=0,0,(AU7*((LOG(AU7))/LOG(2))))","v":-0.375}]
[12,280,23,291,24,295,23,300,null,null,0,1222,null,1112,{"$f":"COUNTIF($L$7:$L$500,N8)","v":6},{"$f":"O8/$Q$4","v":0.12244897959183673},{"$f":"IF(P8=0,0,(P8*((LOG(P8))/LOG(2))))","v":-0.3709894706196798},null,null,{"$f":"N8","v":1112},{"$f":"COUNTIF(L7:L14,T8)","v":0},{"$f":"U8/(W4-U20)","v":0},{"$f":"IF(V8=0,0,(V8*((LOG(V8))/LOG(2))))","v":0},null,{"$f":"N8","v":1112},{"$f":"COUNTIF(L15:L22,Y8)","v":0},{"$f":"Z8/(AB4-Z20)","v":0},{"$f":"IF(AA8=0,0,(AA8*((LOG(AA8))/LOG(2))))","v":0},null,{"$f":"N8","v":1112},{"$f":"COUNTIF(L23:L31,AD8)","v":3},{"$f":"AE8/(AG4-AE20)","v":0.33333333333333331},{"$f":"IF(AF8=0,0,(AF8*((LOG(AF8))/LOG(2))))","v":-0.52832083357371862},null,{"$f":"N8","v":1112},{"$f":"COUNTIF(L32:L39,AI8)","v":2},{"$f":"AJ8/(AL4-AJ20)","v":0.25},{"$f":"IF(AK8=0,0,(AK8*((LOG(AK8))/LOG(2))))","v":-0.5},null,{"$f":"N8","v":1112},{"$f":"COUNTIF(L40:L47,AN8)","v":1},{"$f":"AO8/(AQ4-AO20)","v":0.125},{"$f":"IF(AP8=0,0,(AP8*((LOG(AP8))/LOG(2))))","v":-0.375},null,{"$f":"N8","v":1112},{"$f":"COUNTIF(L48:L55,AS8)","v":0},{"$f":"AT8/(AV4-AT20)","v":0},{"$f":"IF(AU8=0,0,(AU8*((LOG(AU8))/LOG(2))))","v":0}]
[12,396,14,402,24,408,23,412,null,null,0,1122,null,1121,{"$f":"COUNTIF($L$7:$L$500,N9)","v":0},{"$f":"O9/$Q$4","v":0},{"$f":"IF(P9=0,0,(P9*((LOG(P9))/LOG(2))))","v":0},null,null,{"$f":"N9","v":1121},{"$f":"COUNTIF(L7:L14,T9)","v":0},{"$f":"U9/(W4-U20)","v":0},{"$f":"IF(V9=0,0,(V9*((LOG(V9))/LOG(2))))","v":0},null,{"$f":"N9","v":1121},{"$f":"COUNTIF(L15:L22,Y9)","v":0},{"$f":"Z9/(AB4-Z20)","v":0},{"$f":"IF(AA9=0,0,(AA9*((LOG(AA9))/LOG(2))))","v":0},null,{"$f":"N9","v":1121},{"$f":"COUNTIF(L23:L31,AD9)","v":0},{"$f":"AE9/(AG4-AE20)","v":0},{"$f":"IF(AF9=0,0,(AF9*((LOG(AF9))/LOG(2))))","v":0},null,{"$f":"N9","v":1121},{"$f":"COUNTIF(L32:L39,AI9)","v":0},{"$f":"AJ9/(AL4-AJ20)","v":0},{"$f":"IF(AK9=0,0,(AK9*((LOG(AK9))/LOG(2))))","v":0},null,{"$f":"N9","v":1121},{"$f":"COUNTIF(L40:L47,AN9)","v":0},{"$f":"AO9/(AQ4-AO20)","v":0},{"$f":"IF(AP9=0,0,(AP9*((LOG(AP9))/LOG(2))))","v":0},null,{"$f":"N9","v":1121},{"$f":"COUNTIF(L48:L55,AS9)","v":0},{"$f":"AT9/(AV4-AT20)","v":0},{"$f":"IF(AU9=0,0,(AU9*((LOG(AU9))/LOG(2))))","v":0}]
[12,509,23,522,24,525,23,534,null,null,0,1222,null,1122,{"$f":"COUNTIF($L$7:$L$500,N10)","v":13},{"$f":"O10/$Q$4","v":0.26530612244897961},{"$f":"IF(P10=0,0,(P10*((LOG(P10))/LOG(2))))","v":-0.50786758444211244},null,null,{"$f":"N10","v":1122},{"$f":"COUNTIF(L7:L14,T10)","v":1},{"$f":"U10/(W4-U20)","v":0.125},{"$f":"IF(V10=0,0,(V10*((LOG(V10))/LOG(2))))","v":-0.375},null,{"$f":"N10","v":1122},{"$f":"COUNTIF(L15:L22,Y10)","v":1},{"$f":"Z10/(AB4-Z20)","v":0.14285714285714285},{"$f":"IF(AA10=0,0,(AA10*((LOG(AA10))/LOG(2))))","v":-0.40105070315108626},null,{"$f":"N10","v":1122},{"$f":"COUNTIF(L23:L31,AD10)","v":1},{"$f":"AE10/(AG4-AE20)","v":0.1111111111111111},{"$f":"IF(AF10=0,0,(AF10*((LOG(AF10))/LOG(2))))","v":-0.3522138890491458},null,{"$f":"N10","v":1122},{"$f":"COUNTIF(L32:L39,AI10)","v":4},{"$f":"AJ10/(AL4-AJ20)","v":0.5},{"$f":"IF(AK10=0,0,(AK10*((LOG(AK10))/LOG(2))))","v":-0.5},null,{"$f":"N10","v":1122},{"$f":"COUNTIF(L40:L47,AN10)","v":3},{"$f":"AO10/(AQ4-AO20)","v":0.375},{"$f":"IF(AP10=0,0,(AP10*((LOG(AP10))/LOG(2))))","v":-0.53063906222956647},null,{"$f":"N10","v":1122},{"$f":"COUNTIF(L48:L55,AS10)","v":3},{"$f":"AT10/(AV4-AT20)","v":0.375},{"$f":"IF(AU10=0,0,(AU10*((LOG(AU10))/LOG(2))))","v":-0.53063906222956647}]
[12,661,23,668,24,672,14,704,null,null,0,1221,null,1211,{"$f":"COUNTIF($L$7:$L$500,N11)","v":1},{"$f":"O11/$Q$4","v":2.0408163265306121E-2},{"$f":"IF(P11=0,0,(P11*((LOG(P11))/LOG(2))))","v":-0.11458591518602465},null,null,{"$f":"N11","v":1211},{"$f":"COUNTIF(L7:L14,T11)","v":1},{"$f":"U11/(W4-U20)","v":0.125},{"$f":"IF(V11=0,0,(V11*((LOG(V11))/LOG(2))))","v":-0.375},null,{"$f":"N11","v":1211},{"$f":"COUNTIF(L15:L22,Y11)","v":0},{"$f":"Z11/(AB4-Z20)","v":0},{"$f":"IF(AA11=0,0,(AA11*((LOG(AA11))/LOG(2))))","v":0},null,{"$f":"N11","v":1211},{"$f":"COUNTIF(L23:L31,AD11)","v":0},{"$f":"AE11/(AG4-AE20)","v":0},{"$f":"IF(AF11=0,0,(AF11*((LOG(AF11))/LOG(2))))","v":0},null,{"$f":"N11","v":1211},{"$f":"COUNTIF(L32:L39,AI11)","v":0},{"$f":"AJ11/(AL4-AJ20)","v":0},{"$f":"IF(AK11=0,0,(AK11*((LOG(AK11))/LOG(2))))","v":0},null,{"$f":"N11","v":1211},{"$f":"COUNTIF(L40:L47,AN11)","v":0},{"$f":"AO11/(AQ4-AO20)","v":0},{"$f":"IF(AP11=0,0,(AP11*((LOG(AP11))/LOG(2))))","v":0},null,{"$f":"N11","v":1211},{"$f":"COUNTIF(L48:L55,AS11)","v":0},{"$f":"AT11/(AV4-AT20)","v":0},{"$f":"IF(AU11=0,0,(AU11*((LOG(AU11))/LOG(2))))","v":0}]
[21,851,21,859,22,863,14,872,null,null,0,2221,null,1212,{"$f":"COUNTIF($L$7:$L$500,N12)","v":0},{"$f":"O12/$Q$4","v":0},{"$f":"IF(P12=0,0,(P12*((LOG(P12))/LOG(2))))","v":0},null,null,{"$f":"N12","v":1212},{"$f":"COUNTIF(L7:L14,T12)","v":0},{"$f":"U12/(W4-U20)","v":0},{"$f":"IF(V12=0,0,(V12*((LOG(V12))/LOG(2))))","v":0},null,{"$f":"N12","v":1212},{"$f":"COUNTIF(L15:L22,Y12)","v":0},{"$f":"Z12/(AB4-Z20)","v":0},{"$f":"IF(AA12=0,0,(AA12*((LOG(AA12))/LOG(2))))","v":0},null,{"$f":"N12","v":1212},{"$f":"COUNTIF(L23:L31,AD12)","v":0},{"$f":"AE12/(AG4-AE20)","v":0},{"$f":"IF(AF12=0,0,(AF12*((LOG(AF12))/LOG(2))))","v":0},null,{"$f":"N12","v":1212},{"$f":"COUNTIF(L32:L39,AI12)","v":0},{"$f":"AJ12/(AL4-AJ20)","v":0},{"$f":"IF(AK12=0,0,(AK12*((LOG(AK12))/LOG(2))))","v":0},null,{"$f":"N12","v":1212},{"$f":"COUNTIF(L40:L47,AN12)","v":0},{"$f":"AO12/(AQ4-AO20)","v":0},{"$f":"IF(AP12=0,0,(AP12*((LOG(AP12))/LOG(2))))","v":0},null,{"$f":"N12","v":1212},{"$f":"COUNTIF(L48:L55,AS12)","v":0},{"$f":"AT12/(AV4-AT20)","v":0},{"$f":"IF(AU12=0,0,(AU12*((LOG(AU12))/LOG(2))))","v":0}]
[21,980,21,983,22,988,23,1041,null,null,0,2222,null,1221,{"$f":"COUNTIF($L$7:$L$500,N13)","v":2},{"$f":"O13/$Q$4","v":4.0816326530612242E-2},{"$f":"IF(P13=0,0,(P13*((LOG(P13))/LOG(2))))","v":-0.18835550384143707},null,null,{"$f":"N13","v":1221},{"$f":"COUNTIF(L7:L14,T13)","v":1},{"$f":"U13/(W4-U20)","v":0.125},{"$f":"IF(V13=0,0,(V13*((LOG(V13))/LOG(2))))","v":-0.375},null,{"$f":"N13","v":1221},{"$f":"COUNTIF(L15:L22,Y13)","v":1},{"$f":"Z13/(AB4-Z20)","v":0.14285714285714285},{"$f":"IF(AA13=0,0,(AA13*((LOG(AA13))/LOG(2))))","v":-0.40105070315108626},null,{"$f":"N13","v":1221},{"$f":"COUNTIF(L23:L31,AD13)","v":0},{"$f":"AE13/(AG4-AE20)","v":0},{"$f":"IF(AF13=0,0,(AF13*((LOG(AF13))/LOG(2))))","v":0},null,{"$f":"N13","v":1221},{"$f":"COUNTIF(L32:L39,AI13)","v":0},{"$f":"AJ13/(AL4-AJ20)","v":0},{"$f":"IF(AK13=0,0,(AK13*((LOG(AK13))/LOG(2))))","v":0},null,{"$f":"N13","v":1221},{"$f":"COUNTIF(L40:L47,AN13)","v":0},{"$f":"AO13/(AQ4-AO20)","v":0},{"$f":"IF(AP13=0,0,(AP13*((LOG(AP13))/LOG(2))))","v":0},null,{"$f":"N13","v":1221},{"$f":"COUNTIF(L48:L55,AS13)","v":0},{"$f":"AT13/(AV4-AT20)","v":0},{"$f":"IF(AU13=0,0,(AU13*((LOG(AU13))/LOG(2))))","v":0}]
[12,1376,23,1383,24,1386,23,1391,null,null,0,1222,null,1222,{"$f":"COUNTIF($L$7:$L$500,N14)","v":8},{"$f":"O14/$Q$4","v":0.16326530612244897},{"$f":"IF(P14=0,0,(P14*((LOG(P14))/LOG(2))))","v":-0.42689140312085033},null,null,{"$f":"N14","v":1222},{"$f":"COUNTIF(L7:L14,T14)","v":3},{"$f":"U14/(W4-U20)","v":0.375},{"$f":"IF(V14=0,0,(V14*((LOG(V14))/LOG(2))))","v":-0.53063906222956647},null,{"$f":"N14","v":1222},{"$f":"COUNTIF(L15:L22,Y14)","v":0},{"$f":"Z14/(AB4-Z20)","v":0},{"$f":"IF(AA14=0,0,(AA14*((LOG(AA14))/LOG(2))))","v":0},null,{"$f":"N14","v":1222},{"$f":"COUNTIF(L23:L31,AD14)","v":3},{"$f":"AE14/(AG4-AE20)","v":0.33333333333333331},{"$f":"IF(AF14=0,0,(AF14*((LOG(AF14))/LOG(2))))","v":-0.52832083357371862},null,{"$f":"N14","v":1222},{"$f":"COUNTIF(L32:L39,AI14)","v":0},{"$f":"AJ14/(AL4-AJ20)","v":0},{"$f":"IF(AK14=0,0,(AK14*((LOG(AK14))/LOG(2))))","v":0},null,{"$f":"N14","v":1222},{"$f":"COUNTIF(L40:L47,AN14)","v":2},{"$f":"AO14/(AQ4-AO20)","v":0.25},{"$f":"IF(AP14=0,0,(AP14*((LOG(AP14))/LOG(2))))","v":-0.5},null,{"$f":"N14","v":1222},{"$f":"COUNTIF(L48:L55,AS14)","v":0},{"$f":"AT14/(AV4-AT20)","v":0},{"$f":"IF(AU14=0,0,(AU14*((LOG(AU14))/LOG(2))))","v":0}]
[21,1580,21,1584,22,1593,14,1610,null,null,0,2221,null,2111,{"$f":"COUNTIF($L$7:$L$500,N15)","v":0},{"$f":"O15/$Q$4","v":0},{"$f":"IF(P15=0,0,(P15*((LOG(P15))/LOG(2))))","v":0},null,null,{"$f":"N15","v":2111},{"$f":"COUNTIF(L7:L14,T15)","v":0},{"$f":"U15/(W4-U20)","v":0},{"$f":"IF(V15=0,0,(V15*((LOG(V15))/LOG(2))))","v":0},null,{"$f":"N15","v":2111},{"$f":"COUNTIF(L15:L22,Y15)","v":0},{"$f":"Z15/(AB4-Z20)","v":0},{"$f":"IF(AA15=0,0,(AA15*((LOG(AA15))/LOG(2))))","v":0},null,{"$f":"N15","v":2111},{"$f":"COUNTIF(L23:L31,AD15)","v":0},{"$f":"AE15/(AG4-AE20)","v":0},{"$f":"IF(AF15=0,0,(AF15*((LOG(AF15))/LOG(2))))","v":0},null,{"$f":"N15","v":2111},{"$f":"COUNTIF(L32:L39,AI15)","v":0},{"$f":"AJ15/(AL4-AJ20)","v":0},{"$f":"IF(AK15=0,0,(AK15*((LOG(AK15))/LOG(2))))","v":0},null,{"$f":"N15","v":2111},{"$f":"COUNTIF(L40:L47,AN15)","v":0},{"$f":"AO15/(AQ4-AO20)","v":0},{"$f":"IF(AP15=0,0,(AP15*((LOG(AP15))/LOG(2))))","v":0},null,{"$f":"N15","v":2111},{"$f":"COUNTIF(L48:L55,AS15)","v":0},{"$f":"AT15/(AV4-AT20)","v":0},{"$f":"IF(AU15=0,0,(AU15*((LOG(AU15))/LOG(2))))","v":0}]
[12,2240,14,2248,24,2257,23,2262,null,null,0,1122,null,2112,{"$f":"COUNTIF($L$7:$L$500,N16)","v":2},{"$f":"O16/$Q$4","v":4.0816326530612242E-2},{"$f":"IF(P16=0,0,(P16*((LOG(P16))/LOG(2))))","v":-0.18835550384143707},null,null,{"$f":"N16","v":2112},{"$f":"COUNTIF(L7:L14,T16)","v":0},{"$f":"U16/(W4-U20)","v":0},{"$f":"IF(V16=0,0,(V16*((LOG(V16))/LOG(2))))","v":0},null,{"$f":"N16","v":2112},{"$f":"COUNTIF(L15:L22,Y16)","v":1},{"$f":"Z16/(AB4-Z20)","v":0.14285714285714285},{"$f":"IF(AA16=0,0,(AA16*((LOG(AA16))/LOG(2))))","v":-0.40105070315108626},null,{"$f":"N16","v":2112},{"$f":"COUNTIF(L23:L31,AD16)","v":0},{"$f":"AE16/(AG4-AE20)","v":0},{"$f":"IF(AF16=0,0,(AF16*((LOG(AF16))/LOG(2))))","v":0},null,{"$f":"N16","v":2112},{"$f":"COUNTIF(L32:L39,AI16)","v":0},{"$f":"AJ16/(AL4-AJ20)","v":0},{"$f":"IF(AK16=0,0,(AK16*((LOG(AK16))/LOG(2))))","v":0},null,{"$f":"N16","v":2112},{"$f":"COUNTIF(L40:L47,AN16)","v":0},{"$f":"AO16/(AQ4-AO20)","v":0},{"$f":"IF(AP16=0,0,(AP16*((LOG(AP16))/LOG(2))))","v":0},null,{"$f":"N16","v":2112},{"$f":"COUNTIF(L48:L55,AS16)","v":1},{"$f":"AT16/(AV4-AT20)","v":0.125},{"$f":"IF(AU16=0,0,(AU16*((LOG(AU16))/LOG(2))))","v":-0.375}]
[21,2711,12,2725,24,2740,23,2749,null,null,0,2122,null,2121,{"$f":"COUNTIF($L$7:$L$500,N17)","v":0},{"$f":"O17/$Q$4","v":0},{"$f":"IF(P17=0,0,(P17*((LOG(P17))/LOG(2))))","v":0},null,null,{"$f":"N17","v":2121},{"$f":"COUNTIF(L7:L14,T17)","v":0},{"$f":"U17/(W4-U20)","v":0},{"$f":"IF(V17=0,0,(V17*((LOG(V17))/LOG(2))))","v":0},null,{"$f":"N17","v":2121},{"$f":"COUNTIF(L15:L22,Y17)","v":0},{"$f":"Z17/(AB4-Z20)","v":0},{"$f":"IF(AA17=0,0,(AA17*((LOG(AA17))/LOG(2))))","v":0},null,{"$f":"N17","v":2121},{"$f":"COUNTIF(L23:L31,AD17)","v":0},{"$f":"AE17/(AG4-AE20)","v":0},{"$f":"IF(AF17=0,0,(AF17*((LOG(AF17))/LOG(2))))","v":0},null,{"$f":"N17","v":2121},{"$f":"COUNTIF(L32:L39,AI17)","v":0},{"$f":"AJ17/(AL4-AJ20)","v":0},{"$f":"IF(AK17=0,0,(AK17*((LOG(AK17))/LOG(2))))","v":0},null,{"$f":"N17","v":2121},{"$f":"COUNTIF(L40:L47,AN17)","v":0},{"$f":"AO17/(AQ4-AO20)","v":0},{"$f":"IF(AP17=0,0,(AP17*((LOG(AP17))/LOG(2))))","v":0},null,{"$f":"N17","v":2121},{"$f":"COUNTIF(L48:L55,AS17)","v":0},{"$f":"AT17/(AV4-AT20)","v":0},{"$f":"IF(AU17=0,0,(AU17*((LOG(AU17))/LOG(2))))","v":0}]
[12,3112,23,3120,24,3125,14,3153,null,null,0,1221,null,2122,{"$f":"COUNTIF($L$7:$L$500,N18)","v":1},{"$f":"O18/$Q$4","v":2.0408163265306121E-2},{"$f":"IF(P18=0,0,(P18*((LOG(P18))/LOG(2))))","v":-0.11458591518602465},null,null,{"$f":"N18","v":2122},{"$f":"COUNTIF(L7:L14,T18)","v":0},{"$f":"U18/(W4-U20)","v":0},{"$f":"IF(V18=0,0,(V18*((LOG(V18))/LOG(2))))","v":0},null,{"$f":"N18","v":2122},{"$f":"COUNTIF(L15:L22,Y18)","v":1},{"$f":"Z18/(AB4-Z20)","v":0.14285714285714285},{"$f":"IF(AA18=0,0,(AA18*((LOG(AA18))/LOG(2))))","v":-0.40105070315108626},null,{"$f":"N18","v":2122},{"$f":"COUNTIF(L23:L31,AD18)","v":0},{"$f":"AE18/(AG4-AE20)","v":0},{"$f":"IF(AF18=0,0,(AF18*((LOG(AF18))/LOG(2))))","v":0},null,{"$f":"N18","v":2122},{"$f":"COUNTIF(L32:L39,AI18)","v":0},{"$f":"AJ18/(AL4-AJ20)","v":0},{"$f":"IF(AK18=0,0,(AK18*((LOG(AK18))/LOG(2))))","v":0},null,{"$f":"N18","v":2122},{"$f":"COUNTIF(L40:L47,AN18)","v":0},{"$f":"AO18/(AQ4-AO20)","v":0},{"$f":"IF(AP18=0,0,(AP18*((LOG(AP18))/LOG(2))))","v":0},null,{"$f":"N18","v":2122},{"$f":"COUNTIF(L48:L55,AS18)","v":0},{"$f":"AT18/(AV4-AT20)","v":0},{"$f":"IF(AU18=0,0,(AU18*((LOG(AU18))/LOG(2))))","v":0}]
[21,7769,21,7773,11,7893,21,7907,null,null,0,2212,null,2211,{"$f":"COUNTIF($L$7:$L$500,N19)","v":1},{"$f":"O19/$Q$4","v":2.0408163265306121E-2},{"$f":"IF(P19=0,0,(P19*((LOG(P19))/LOG(2))))","v":-0.11458591518602465},null,null,{"$f":"N19","v":2211},{"$f":"COUNTIF(L7:L14,T19)","v":0},{"$f":"U19/(W4-U20)","v":0},{"$f":"IF(V19=0,0,(V19*((LOG(V19))/LOG(2))))","v":0},null,{"$f":"N19","v":2211},{"$f":"COUNTIF(L15:L22,Y19)","v":0},{"$f":"Z19/(AB4-Z20)","v":0},{"$f":"IF(AA19=0,0,(AA19*((LOG(AA19))/LOG(2))))","v":0},null,{"$f":"N19","v":2211},{"$f":"COUNTIF(L23:L31,AD19)","v":0},{"$f":"AE19/(AG4-AE20)","v":0},{"$f":"IF(AF19=0,0,(AF19*((LOG(AF19))/LOG(2))))","v":0},null,{"$f":"N19","v":2211},{"$f":"COUNTIF(L32:L39,AI19)","v":0},{"$f":"AJ19/(AL4-AJ20)","v":0},{"$f":"IF(AK19=0,0,(AK19*((LOG(AK19))/LOG(2))))","v":0},null,{"$f":"N19","v":2211},{"$f":"COUNTIF(L40:L47,AN19)","v":0},{"$f":"AO19/(AQ4-AO20)","v":0},{"$f":"IF(AP19=0,0,(AP19*((LOG(AP19))/LOG(2))))","v":0},null,{"$f":"N19","v":2211},{"$f":"COUNTIF(L48:L55,AS19)","v":1},{"$f":"AT19/(AV4-AT20)","v":0.125},{"$f":"IF(AU19=0,0,(AU19*((LOG(AU19))/LOG(2))))","v":-0.375}]
[21,8221,21,8225,22,8229,23,8235,null,null,0,2222,null,2212,{"$f":"COUNTIF($L$7:$L$500,N20)","v":1},{"$f":"O20/$Q$4","v":2.0408163265306121E-2},{"$f":"IF(P20=0,0,(P20*((LOG(P20))/LOG(2))))","v":-0.11458591518602465},null,null,{"$f":"N20","v":2212},{"$f":"COUNTIF(L7:L14,T20)","v":0},null,null,null,{"$f":"N20","v":2212},{"$f":"COUNTIF(L15:L22,Y20)","v":1},null,null,null,{"$f":"N20","v":2212},{"$f":"COUNTIF(L23:L31,AD20)","v":0},null,null,null,{"$f":"N20","v":2212},{"$f":"COUNTIF(L32:L39,AI20)","v":0},null,null,null,{"$f":"N20","v":2212},{"$f":"COUNTIF(L40:L47,AN20)","v":0},null,null,null,{"$f":"N20","v":2212},{"$f":"COUNTIF(L48:L55,AS20)","v":0}]
[21,8351,21,8354,22,8358,23,8366,null,null,0,2222,null,2221,{"$f":"COUNTIF($L$7:$L$500,N21)","v":3},{"$f":"O21/$Q$4","v":6.1224489795918366E-2},{"$f":"IF(P21=0,0,(P21*((LOG(P21))/LOG(2))))","v":-0.24671922510575831},null,null,{"$f":"N21","v":2221},{"$f":"COUNTIF(L7:L14,T21)","v":1},{"$f":"U21/(W4-U20)","v":0.125},{"$f":"IF(V21=0,0,(V21*((LOG(V21))/LOG(2))))","v":-0.375},null,{"$f":"N21","v":2221},{"$f":"COUNTIF(L15:L22,Y21)","v":1},{"$f":"Z21/(AB4-Z20)","v":0.14285714285714285},{"$f":"IF(AA21=0,0,(AA21*((LOG(AA21))/LOG(2))))","v":-0.40105070315108626},null,{"$f":"N21","v":2221},{"$f":"COUNTIF(L23:L31,AD21)","v":0},{"$f":"AE21/(AG4-AE20)","v":0},{"$f":"IF(AF21=0,0,(AF21*((LOG(AF21))/LOG(2))))","v":0},null,{"$f":"N21","v":2221},{"$f":"COUNTIF(L32:L39,AI21)","v":0},{"$f":"AJ21/(AL4-AJ20)","v":0},{"$f":"IF(AK21=0,0,(AK21*((LOG(AK21))/LOG(2))))","v":0},null,{"$f":"N21","v":2221},{"$f":"COUNTIF(L40:L47,AN21)","v":0},{"$f":"AO21/(AQ4-AO20)","v":0},{"$f":"IF(AP21=0,0,(AP21*((LOG(AP21))/LOG(2))))","v":0},null,{"$f":"N21","v":2221},{"$f":"COUNTIF(L48:L55,AS21)","v":1},{"$f":"AT21/(AV4-AT20)","v":0.125},{"$f":"IF(AU21=0,0,(AU21*((LOG(AU21))/LOG(2))))","v":-0.375}]
[21,8463,12,8472,13,8476,23,8483,null,null,0,2112,null,2222,{"$f":"COUNTIF($L$7:$L$500,N22)","v":7},{"$f":"O22/$Q$4","v":0.14285714285714285},{"$f":"IF(P22=0,0,(P22*((LOG(P22))/LOG(2))))","v":-0.40105070315108626},null,null,{"$f":"N22","v":2222},{"$f":"COUNTIF(L7:L14,T22)","v":1},{"$f":"U22/(W4-U20)","v":0.125},{"$f":"IF(V22=0,0,(V22*((LOG(V22))/LOG(2))))","v":-0.375},null,{"$f":"N22","v":2222},{"$f":"COUNTIF(L15:L22,Y22)","v":2},{"$f":"Z22/(AB4-Z20)","v":0.2857142857142857},{"$f":"IF(AA22=0,0,(AA22*((LOG(AA22))/LOG(2))))","v":-0.51638712058788683},null,{"$f":"N22","v":2222},{"$f":"COUNTIF(L23:L31,AD22)","v":1},{"$f":"AE22/(AG4-AE20)","v":0.1111111111111111},{"$f":"IF(AF22=0,0,(AF22*((LOG(AF22))/LOG(2))))","v":-0.3522138890491458},null,{"$f":"N22","v":2222},{"$f":"COUNTIF(L32:L39,AI22)","v":0},{"$f":"AJ22/(AL4-AJ20)","v":0},{"$f":"IF(AK22=0,0,(AK22*((LOG(AK22))/LOG(2))))","v":0},null,{"$f":"N22","v":2222},{"$f":"COUNTIF(L40:L47,AN22)","v":2},{"$f":"AO22/(AQ4-AO20)","v":0.25},{"$f":"IF(AP22=0,0,(AP22*((LOG(AP22))/LOG(2))))","v":-0.5},null,{"$f":"N22","v":2222},{"$f":"COUNTIF(L48:L55,AS22)","v":1},{"$f":"AT22/(AV4-AT20)","v":0.125},{"$f":"IF(AU22=0,0,(AU22*((LOG(AU22))/LOG(2))))","v":-0.375}]
[12,8630,23,8641,24,8645,23,8651,null,null,0,1222,null,null,null,{"$f":"SUM(P7:P22)","v":1},{"$f":"-SUM(Q7:Q22)","v":3.0836514094881098},null,null,null,null,{"$f":"SUM(V7:V22)","v":1},{"$f":"-SUM(W7:W22)","v":2.4056390622295662},null,null,null,{"$f":"SUM(AA7:AA22)","v":0.99999999999999989},{"$f":"-SUM(AB7:AB22)","v":2.5216406363433181},null,null,null,{"$f":"SUM(AF7:AF22)","v":1},{"$f":"-SUM(AG7:AG22)","v":2.1132833342948745},null,null,null,{"$f":"SUM(AK7:AK22)","v":1},{"$f":"-SUM(AL7:AL22)","v":1.5},null,null,null,{"$f":"SUM(AP7:AP22)","v":1},{"$f":"-SUM(AQ7:AQ22)","v":1.9056390622295665},null,null,null,{"$f":"SUM(AU7:AU22)","v":1},{"$f":"-SUM(AV7:AV22)","v":2.4056390622295662}]
[12,8748,14,8752,13,8756,14,8760,null,null,0,1111,null,null,null,"U=",{"$f":"Q23/(LOG(Q4)/LOG(2))","v":0.54920939729772367},null,null,null,null,"U1=",{"$f":"W23/(LOG(W4)/LOG(2))","v":0.80187968740985538},null,null,null,"U2=",{"$f":"AB23/(LOG(AB4)/LOG(2))","v":0.84054687878110601},null,null,null,"U3=",{"$f":"AG23/(LOG(AG4)/LOG(2))","v":0.66666666666666652},null,null,null,"U4=",{"$f":"AL23/(LOG(AL4)/LOG(2))","v":0.5},null,null,null,"U5=",{"$f":"AQ23/(LOG(AQ4)/LOG(2))","v":0.63521302074318886},null,null,null,"U6=",{"$f":"AV23/(LOG(AV4)/LOG(2))","v":0.80187968740985538}]
[12,8869,23,8882,24,8887,23,8893,null,null,0,1222]
[21,9004,21,9008,22,9016,23,9021,null,null,0,2222]
[12,9120,23,9131,24,9136,23,9141,null,null,0,1222,null,"Total Target Seq"]
[12,9318,14,9322,24,9330,23,9339,null,null,0,1122,null,{"$f":"COUNTIF(L7:L55,G3)","v":1},null,8,8,9,8,8,8]
[12,9440,14,9444,13,9449,23,9455,null,null,0,1112,null,null,null,"% of reinforcement given in 6 equal intervals based on number of trials "]
[12,9551,14,9554,13,9558,23,9570,null,null,0,1112,null,null,null,"%_1","%_2","%_3","%_4","%_5","%_6"]
[12,9666,14,9670,13,9675,23,9684,null,null,0,1112,null,null,"target sequence",{"$f":"$G$3","v":2212},{"$f":"$G$3","v":2212},{"$f":"$G$3","v":2212},{"$f":"$G$3","v":2212},{"$f":"$G$3","v":2212},{"$f":"$G$3","v":2212}]
[12,9781,14,9785,24,9796,23,9803,null,null,0,1122,null,null,"total reinforcement",{"$f":"U20","v":0},{"$f":"Z20","v":1},{"$f":"AE20","v":0},{"$f":"AJ20","v":0},{"$f":"AO20","v":0},{"$f":"AT20","v":0}]
[12,9909,14,9913,13,9917,23,9931,null,null,0,1112,null,null,"% target"]
[12,10029,14,10033,13,10037,14,10046,null,null,0,1111,null,null,"CCRF"]
[12,10141,14,10146,13,10152,23,10163,null,null,0,1112,null,null,"% CCRf"]
[12,10259,14,10262,24,10273,23,10277,null,null,0,1122,null,null,"average response rate",{"$f":"H14/P28","v":173.875},{"$f":"(H22-H14)/Q28","v":886.5},{"$f":"(H31-H22)/R28","v":133.44444444444446},{"$f":"(H39-H31)/S28","v":118.25},{"$f":"(H47-H39)/T28","v":286.5},{"$f":"(H55-H47)/U28","v":1373.75}]
[12,10375,14,10379,24,10391,23,10398,null,null,0,1122]
[12,10496,14,10502,24,10510,23,10513,null,null,0,1122]
[12,10609,14,10613,13,10617,14,10630,null,null,0,1111]
[12,10730,14,10738,24,10746,23,10749,null,null,0,1122]
[12,10845,14,10849,13,10852,23,10861,null,null,0,1112]
[12,11061,14,11069,24,11080,23,11084,null,null,0,1122]
[12,11181,14,11184,24,11198,23,11201,null,null,0,1122]
[21,11309,21,11313,22,11319,23,11325,null,null,0,2222]
[21,11528,21,11532,22,11538,23,11559,null,null,0,2222]
[12,11661,23,11674,24,11679,23,11686,null,null,0,1222]
[12,12904,23,12913,24,12916,23,12922,null,null,0,1222]
[21,13071,12,13126,13,13135,23,13144,null,null,0,2112]
[21,13436,21,13441,11,13456,12,13461,null,null,0,2211]
[12,13629,14,13634,24,13651,23,13658,null,null,0,1122]
[12,14667,14,15689,24,15700,23,15706,null,null,0,1122]
[12,17330,14,21305,13,21312,14,21317,null,null,0,1111]
[12,21693,14,21697,24,21709,23,21716,null,null,0,1122]
[21,22727,21,22732,22,22738,23,22744,null,null,0,2222]
[21,23895,21,23899,22,23905,14,23912,null,null,null,2221]

{"sheet":"!LB19C54..Is","index":12,"n_rows":63,"n_cols":48,"rows_kept":63,"cut":false,"hidden":false,"merged":[[4,39,4,42],[5,39,5,40],[4,44,4,47],[5,44,5,45],[4,24,4,27],[5,24,5,25],[4,29,4,32],[5,29,5,30],[4,34,4,37],[5,34,5,35],[1,1,1,2],[5,13,5,14],[26,13,26,14],[27,13,27,14],[4,19,4,22],[5,19,5,20]]}
["Report for:!LB19C54..Is"]
["Date:","<date>"]
["Hen:","<hen>",null,null,null,"Correct Sequence",{"$f":"Start!J2","v":2212},null,null,null,null,null,null,null,null,"Total Sequences in Data",{"$f":"4994-COUNTBLANK(L7:L5000)","v":57},null,null,null,null,"Total Sequences in Block Data",{"$f":"COUNTA(L7:L16)","v":10},null,null,null,"Total Sequences in Block Data",{"$f":"COUNTA(L17:L25)","v":9},null,null,null,"Total Sequences in Block Data",{"$f":"COUNTA(L26:L35)","v":10},null,null,null,"Total Sequences in Block Data",{"$f":"COUNTA(L36:L44)","v":9},null,null,null,"Total Sequences in Block Data",{"$f":"COUNTA(L45:L54)","v":10},null,null,null,"Total Sequences in Block Data",{"$f":"COUNTA(L55:L63)","v":9}]
[null,null,null,null,null,null,null,null,null,null,null,null,null,null,null,"Total Sequences in Summary",{"$f":"SUM(O7:O22)","v":57},null,null,null,null,"Total Sequences in Block Summary",{"$f":"SUM(U7:U22)","v":10},null,null,null,"Total Sequences in Block Summary",{"$f":"SUM(Z7:Z22)","v":9},null,null,null,"Total Sequences in Block Summary",{"$f":"SUM(AE7:AE22)","v":10},null,null,null,"Total Sequences in Block Summary",{"$f":"SUM(AJ7:AJ22)","v":9},null,null,null,"Total Sequences in Block Summary",{"$f":"SUM(AO7:AO22)","v":10},null,null,null,"Total Sequences in Block Summary",{"$f":"SUM(AT7:AT22)","v":9}]
[null,null,null,null,null,null,null,null,null,null,null,null,null,null,null,null,null,null,null,"Block 1",null,null,null,null,"Block 2",null,null,null,null,"Block 3",null,null,null,null,"Block 4",null,null,null,null,"Block 5",null,null,null,null,"Block 6"]
["Sequence\nComponent\n1","Time\n1","Sequence\nComponent\n2","Time\n2","Sequence\nComponent\n3","Time\n3","Sequence\nComponent\n4","Time\n4","Sequence\nComponent\n5","Time\n5","Correct?\n0=No 1=Yes","Sequence",null,"Frequency",null,"Relative Frequency","Variability",null,null,"Frequency",null,"Relative Frequency","Variability",null,"Frequency",null,"Relative Frequency","Variability",null,"Frequency",null,"Relative Frequency","Variability",null,"Frequency",null,"Relative Frequency","Variability",null,"Frequency",null,"Relative Frequency","Variability",null,"Frequency",null,"Relative Frequency","Variability"]
[21,230,21,240,11,266,12,282,null,null,0,2211,null,1111,{"$f":"COUNTIF($L$7:$L$500,N7)","v":9},{"$f":"O7/$Q$4","v":0.15789473684210525},{"$f":"IF(P7=0,0,(P7*((LOG(P7))/LOG(2))))","v":-0.42046815990354147},null,null,{"$f":"N7","v":1111},{"$f":"COUNTIF(L7:L16,T7)","v":2},{"$f":"U7/(W4-U20)","v":0.2},{"$f":"IF(V7=0,0,(V7*((LOG(V7))/LOG(2))))","v":-0.46438561897747244},null,{"$f":"N7","v":1111},{"$f":"COUNTIF(L17:L25,Y7)","v":1},{"$f":"Z7/(AB4-Z20)","v":0.1111111111111111},{"$f":"IF(AA7=0,0,(AA7*((LOG(AA7))/LOG(2))))","v":-0.3522138890491458},null,{"$f":"N7","v":1111},{"$f":"COUNTIF(L26:L35,AD7)","v":3},{"$f":"AE7/(AG4-AE20)","v":0.3},{"$f":"IF(AF7=0,0,(AF7*((LOG(AF7))/LOG(2))))","v":-0.52108967824986185},null,{"$f":"N7","v":1111},{"$f":"COUNTIF(L36:L44,AI7)","v":2},{"$f":"AJ7/(AL4-AJ20)","v":0.22222222222222221},{"$f":"IF(AK7=0,0,(AK7*((LOG(AK7))/LOG(2))))","v":-0.48220555587606945},null,{"$f":"N7","v":1111},{"$f":"COUNTIF(L45:L54,AN7)","v":0},{"$f":"AO7/(AQ4-AO20)","v":0},{"$f":"IF(AP7=0,0,(AP7*((LOG(AP7))/LOG(2))))","v":0},null,{"$f":"N7","v":1111},{"$f":"COUNTIF(L55:L63,AS7)","v":1},{"$f":"AT7/(AV4-AT20)","v":0.1111111111111111},{"$f":"IF(AU7=0,0,(AU7*((LOG(AU7))/LOG(2))))","v":-0.3522138890491458}]
[21,446,12,464,24,477,23,533,null,null,0,2122,null,1112,{"$f":"COUNTIF($L$7:$L$500,N8)","v":8},{"$f":"O8/$Q$4","v":0.14035087719298245},{"$f":"IF(P8=0,0,(P8*((LOG(P8))/LOG(2))))","v":-0.39759859847926199},null,null,{"$f":"N8","v":1112},{"$f":"COUNTIF(L7:L16,T8)","v":0},{"$f":"U8/(W4-U20)","v":0},{"$f":"IF(V8=0,0,(V8*((LOG(V8))/LOG(2))))","v":0},null,{"$f":"N8","v":1112},{"$f":"COUNTIF(L17:L25,Y8)","v":1},{"$f":"Z8/(AB4-Z20)","v":0.1111111111111111},{"$f":"IF(AA8=0,0,(AA8*((LOG(AA8))/LOG(2))))","v":-0.3522138890491458},null,{"$f":"N8","v":1112},{"$f":"COUNTIF(L26:L35,AD8)","v":3},{"$f":"AE8/(AG4-AE20)","v":0.3},{"$f":"IF(AF8=0,0,(AF8*((LOG(AF8))/LOG(2))))","v":-0.52108967824986185},null,{"$f":"N8","v":1112},{"$f":"COUNTIF(L36:L44,AI8)","v":1},{"$f":"AJ8/(AL4-AJ20)","v":0.1111111111111111},{"$f":"IF(AK8=0,0,(AK8*((LOG(AK8))/LOG(2))))","v":-0.3522138890491458},null,{"$f":"N8","v":1112},{"$f":"COUNTIF(L45:L54,AN8)","v":3},{"$f":"AO8/(AQ4-AO20)","v":0.33333333333333331},{"$f":"IF(AP8=0,0,(AP8*((LOG(AP8))/LOG(2))))","v":-0.52832083357371862},null,{"$f":"N8","v":1112},{"$f":"COUNTIF(L55:L63,AS8)","v":0},{"$f":"AT8/(AV4-AT20)","v":0},{"$f":"IF(AU8=0,0,(AU8*((LOG(AU8))/LOG(2))))","v":0}]
[12,703,23,710,24,713,23,718,null,null,0,1222,null,1121,{"$f":"COUNTIF($L$7:$L$500,N9)","v":0},{"$f":"O9/$Q$4","v":0},{"$f":"IF(P9=0,0,(P9*((LOG(P9))/LOG(2))))","v":0},null,null,{"$f":"N9","v":1121},{"$f":"COUNTIF(L7:L16,T9)","v":0},{"$f":"U9/(W4-U20)","v":0},{"$f":"IF(V9=0,0,(V9*((LOG(V9))/LOG(2))))","v":0},null,{"$f":"N9","v":1121},{"$f":"COUNTIF(L17:L25,Y9)","v":0},{"$f":"Z9/(AB4-Z20)","v":0},{"$f":"IF(AA9=0,0,(AA9*((LOG(AA9))/LOG(2))))","v":0},null,{"$f":"N9","v":1121},{"$f":"COUNTIF(L26:L35,AD9)","v":0},{"$f":"AE9/(AG4-AE20)","v":0},{"$f":"IF(AF9=0,0,(AF9*((LOG(AF9))/LOG(2))))","v":0},null,{"$f":"N9","v":1121},{"$f":"COUNTIF(L36:L44,AI9)","v":0},{"$f":"AJ9/(AL4-AJ20)","v":0},{"$f":"IF(AK9=0,0,(AK9*((LOG(AK9))/LOG(2))))","v":0},null,{"$f":"N9","v":1121},{"$f":"COUNTIF(L45:L54,AN9)","v":0},{"$f":"AO9/(AQ4-AO20)","v":0},{"$f":"IF(AP9=0,0,(AP9*((LOG(AP9))/LOG(2))))","v":0},null,{"$f":"N9","v":1121},{"$f":"COUNTIF(L55:L63,AS9)","v":0},{"$f":"AT9/(AV4-AT20)","v":0},{"$f":"IF(AU9=0,0,(AU9*((LOG(AU9))/LOG(2))))","v":0}]
[12,841,14,890,24,919,23,932,null,null,0,1122,null,1122,{"$f":"COUNTIF($L$7:$L$500,N10)","v":25},{"$f":"O10/$Q$4","v":0.43859649122807015},{"$f":"IF(P10=0,0,(P10*((LOG(P10))/LOG(2))))","v":-0.52150606332895477},null,null,{"$f":"N10","v":1122},{"$f":"COUNTIF(L7:L16,T10)","v":3},{"$f":"U10/(W4-U20)","v":0.3},{"$f":"IF(V10=0,0,(V10*((LOG(V10))/LOG(2))))","v":-0.52108967824986185},null,{"$f":"N10","v":1122},{"$f":"COUNTIF(L17:L25,Y10)","v":6},{"$f":"Z10/(AB4-Z20)","v":0.66666666666666663},{"$f":"IF(AA10=0,0,(AA10*((LOG(AA10))/LOG(2))))","v":-0.38997500048077083},null,{"$f":"N10","v":1122},{"$f":"COUNTIF(L26:L35,AD10)","v":1},{"$f":"AE10/(AG4-AE20)","v":0.1},{"$f":"IF(AF10=0,0,(AF10*((LOG(AF10))/LOG(2))))","v":-0.33219280948873625},null,{"$f":"N10","v":1122},{"$f":"COUNTIF(L36:L44,AI10)","v":4},{"$f":"AJ10/(AL4-AJ20)","v":0.44444444444444442},{"$f":"IF(AK10=0,0,(AK10*((LOG(AK10))/LOG(2))))","v":-0.51996666730769447},null,{"$f":"N10","v":1122},{"$f":"COUNTIF(L45:L54,AN10)","v":6},{"$f":"AO10/(AQ4-AO20)","v":0.66666666666666663},{"$f":"IF(AP10=0,0,(AP10*((LOG(AP10))/LOG(2))))","v":-0.38997500048077083},null,{"$f":"N10","v":1122},{"$f":"COUNTIF(L55:L63,AS10)","v":5},{"$f":"AT10/(AV4-AT20)","v":0.55555555555555558},{"$f":"IF(AU10=0,0,(AU10*((LOG(AU10))/LOG(2))))","v":-0.4711093925305278}]
[12,1128,14,1134,13,1171,14,1178,null,null,0,1111,null,1211,{"$f":"COUNTIF($L$7:$L$500,N11)","v":0},{"$f":"O11/$Q$4","v":0},{"$f":"IF(P11=0,0,(P11*((LOG(P11))/LOG(2))))","v":0},null,null,{"$f":"N11","v":1211},{"$f":"COUNTIF(L7:L16,T11)","v":0},{"$f":"U11/(W4-U20)","v":0},{"$f":"IF(V11=0,0,(V11*((LOG(V11))/LOG(2))))","v":0},null,{"$f":"N11","v":1211},{"$f":"COUNTIF(L17:L25,Y11)","v":0},{"$f":"Z11/(AB4-Z20)","v":0},{"$f":"IF(AA11=0,0,(AA11*((LOG(AA11))/LOG(2))))","v":0},null,{"$f":"N11","v":1211},{"$f":"COUNTIF(L26:L35,AD11)","v":0},{"$f":"AE11/(AG4-AE20)","v":0},{"$f":"IF(AF11=0,0,(AF11*((LOG(AF11))/LOG(2))))","v":0},null,{"$f":"N11","v":1211},{"$f":"COUNTIF(L36:L44,AI11)","v":0},{"$f":"AJ11/(AL4-AJ20)","v":0},{"$f":"IF(AK11=0,0,(AK11*((LOG(AK11))/LOG(2))))","v":0},null,{"$f":"N11","v":1211},{"$f":"COUNTIF(L45:L54,AN11)","v":0},{"$f":"AO11/(AQ4-AO20)","v":0},{"$f":"IF(AP11=0,0,(AP11*((LOG(AP11))/LOG(2))))","v":0},null,{"$f":"N11","v":1211},{"$f":"COUNTIF(L55:L63,AS11)","v":0},{"$f":"AT11/(AV4-AT20)","v":0},{"$f":"IF(AU11=0,0,(AU11*((LOG(AU11))/LOG(2))))","v":0}]
[12,1290,14,1300,24,1308,23,1316,null,null,0,1122,null,1212,{"$f":"COUNTIF($L$7:$L$500,N12)","v":0},{"$f":"O12/$Q$4","v":0},{"$f":"IF(P12=0,0,(P12*((LOG(P12))/LOG(2))))","v":0},null,null,{"$f":"N12","v":1212},{"$f":"COUNTIF(L7:L16,T12)","v":0},{"$f":"U12/(W4-U20)","v":0},{"$f":"IF(V12=0,0,(V12*((LOG(V12))/LOG(2))))","v":0},null,{"$f":"N12","v":1212},{"$f":"COUNTIF(L17:L25,Y12)","v":0},{"$f":"Z12/(AB4-Z20)","v":0},{"$f":"IF(AA12=0,0,(AA12*((LOG(AA12))/LOG(2))))","v":0},null,{"$f":"N12","v":1212},{"$f":"COUNTIF(L26:L35,AD12)","v":0},{"$f":"AE12/(AG4-AE20)","v":0},{"$f":"IF(AF12=0,0,(AF12*((LOG(AF12))/LOG(2))))","v":0},null,{"$f":"N12","v":1212},{"$f":"COUNTIF(L36:L44,AI12)","v":0},{"$f":"AJ12/(AL4-AJ20)","v":0},{"$f":"IF(AK12=0,0,(AK12*((LOG(AK12))/LOG(2))))","v":0},null,{"$f":"N12","v":1212},{"$f":"COUNTIF(L45:L54,AN12)","v":0},{"$f":"AO12/(AQ4-AO20)","v":0},{"$f":"IF(AP12=0,0,(AP12*((LOG(AP12))/LOG(2))))","v":0},null,{"$f":"N12","v":1212},{"$f":"COUNTIF(L55:L63,AS12)","v":0},{"$f":"AT12/(AV4-AT20)","v":0},{"$f":"IF(AU12=0,0,(AU12*((LOG(AU12))/LOG(2))))","v":0}]
[12,1611,14,1615,13,1636,14,1643,null,null,0,1111,null,1221,{"$f":"COUNTIF($L$7:$L$500,N13)","v":3},{"$f":"O13/$Q$4","v":5.2631578947368418E-2},{"$f":"IF(P13=0,0,(P13*((LOG(P13))/LOG(2))))","v":-0.22357513228650452},null,null,{"$f":"N13","v":1221},{"$f":"COUNTIF(L7:L16,T13)","v":1},{"$f":"U13/(W4-U20)","v":0.1},{"$f":"IF(V13=0,0,(V13*((LOG(V13))/LOG(2))))","v":-0.33219280948873625},null,{"$f":"N13","v":1221},{"$f":"COUNTIF(L17:L25,Y13)","v":0},{"$f":"Z13/(AB4-Z20)","v":0},{"$f":"IF(AA13=0,0,(AA13*((LOG(AA13))/LOG(2))))","v":0},null,{"$f":"N13","v":1221},{"$f":"COUNTIF(L26:L35,AD13)","v":1},{"$f":"AE13/(AG4-AE20)","v":0.1},{"$f":"IF(AF13=0,0,(AF13*((LOG(AF13))/LOG(2))))","v":-0.33219280948873625},null,{"$f":"N13","v":1221},{"$f":"COUNTIF(L36:L44,AI13)","v":1},{"$f":"AJ13/(AL4-AJ20)","v":0.1111111111111111},{"$f":"IF(AK13=0,0,(AK13*((LOG(AK13))/LOG(2))))","v":-0.3522138890491458},null,{"$f":"N13","v":1221},{"$f":"COUNTIF(L45:L54,AN13)","v":0},{"$f":"AO13/(AQ4-AO20)","v":0},{"$f":"IF(AP13=0,0,(AP13*((LOG(AP13))/LOG(2))))","v":0},null,{"$f":"N13","v":1221},{"$f":"COUNTIF(L55:L63,AS13)","v":0},{"$f":"AT13/(AV4-AT20)","v":0},{"$f":"IF(AU13=0,0,(AU13*((LOG(AU13))/LOG(2))))","v":0}]
[12,1869,23,1876,24,1885,14,1898,null,null,0,1221,null,1222,{"$f":"COUNTIF($L$7:$L$500,N14)","v":7},{"$f":"O14/$Q$4","v":0.12280701754385964},{"$f":"IF(P14=0,0,(P14*((LOG(P14))/LOG(2))))","v":-0.37155694113596421},null,null,{"$f":"N14","v":1222},{"$f":"COUNTIF(L7:L16,T14)","v":2},{"$f":"U14/(W4-U20)","v":0.2},{"$f":"IF(V14=0,0,(V14*((LOG(V14))/LOG(2))))","v":-0.46438561897747244},null,{"$f":"N14","v":1222},{"$f":"COUNTIF(L17:L25,Y14)","v":1},{"$f":"Z14/(AB4-Z20)","v":0.1111111111111111},{"$f":"IF(AA14=0,0,(AA14*((LOG(AA14))/LOG(2))))","v":-0.3522138890491458},null,{"$f":"N14","v":1222},{"$f":"COUNTIF(L26:L35,AD14)","v":2},{"$f":"AE14/(AG4-AE20)","v":0.2},{"$f":"IF(AF14=0,0,(AF14*((LOG(AF14))/LOG(2))))","v":-0.46438561897747244},null,{"$f":"N14","v":1222},{"$f":"COUNTIF(L36:L44,AI14)","v":0},{"$f":"AJ14/(AL4-AJ20)","v":0},{"$f":"IF(AK14=0,0,(AK14*((LOG(AK14))/LOG(2))))","v":0},null,{"$f":"N14","v":1222},{"$f":"COUNTIF(L45:L54,AN14)","v":0},{"$f":"AO14/(AQ4-AO20)","v":0},{"$f":"IF(AP14=0,0,(AP14*((LOG(AP14))/LOG(2))))","v":0},null,{"$f":"N14","v":1222},{"$f":"COUNTIF(L55:L63,AS14)","v":2},{"$f":"AT14/(AV4-AT20)","v":0.22222222222222221},{"$f":"IF(AU14=0,0,(AU14*((LOG(AU14))/LOG(2))))","v":-0.48220555587606945}]
[12,1996,14,2002,24,2010,23,2024,null,null,0,1122,null,2111,{"$f":"COUNTIF($L$7:$L$500,N15)","v":0},{"$f":"O15/$Q$4","v":0},{"$f":"IF(P15=0,0,(P15*((LOG(P15))/LOG(2))))","v":0},null,null,{"$f":"N15","v":2111},{"$f":"COUNTIF(L7:L16,T15)","v":0},{"$f":"U15/(W4-U20)","v":0},{"$f":"IF(V15=0,0,(V15*((LOG(V15))/LOG(2))))","v":0},null,{"$f":"N15","v":2111},{"$f":"COUNTIF(L17:L25,Y15)","v":0},{"$f":"Z15/(AB4-Z20)","v":0},{"$f":"IF(AA15=0,0,(AA15*((LOG(AA15))/LOG(2))))","v":0},null,{"$f":"N15","v":2111},{"$f":"COUNTIF(L26:L35,AD15)","v":0},{"$f":"AE15/(AG4-AE20)","v":0},{"$f":"IF(AF15=0,0,(AF15*((LOG(AF15))/LOG(2))))","v":0},null,{"$f":"N15","v":2111},{"$f":"COUNTIF(L36:L44,AI15)","v":0},{"$f":"AJ15/(AL4-AJ20)","v":0},{"$f":"IF(AK15=0,0,(AK15*((LOG(AK15))/LOG(2))))","v":0},null,{"$f":"N15","v":2111},{"$f":"COUNTIF(L45:L54,AN15)","v":0},{"$f":"AO15/(AQ4-AO20)","v":0},{"$f":"IF(AP15=0,0,(AP15*((LOG(AP15))/LOG(2))))","v":0},null,{"$f":"N15","v":2111},{"$f":"COUNTIF(L55:L63,AS15)","v":0},{"$f":"AT15/(AV4-AT20)","v":0},{"$f":"IF(AU15=0,0,(AU15*((LOG(AU15))/LOG(2))))","v":0}]
[12,2120,23,2131,24,2135,23,2139,null,null,0,1222,null,2112,{"$f":"COUNTIF($L$7:$L$500,N16)","v":0},{"$f":"O16/$Q$4","v":0},{"$f":"IF(P16=0,0,(P16*((LOG(P16))/LOG(2))))","v":0},null,null,{"$f":"N16","v":2112},{"$f":"COUNTIF(L7:L16,T16)","v":0},{"$f":"U16/(W4-U20)","v":0},{"$f":"IF(V16=0,0,(V16*((LOG(V16))/LOG(2))))","v":0},null,{"$f":"N16","v":2112},{"$f":"COUNTIF(L17:L25,Y16)","v":0},{"$f":"Z16/(AB4-Z20)","v":0},{"$f":"IF(AA16=0,0,(AA16*((LOG(AA16))/LOG(2))))","v":0},null,{"$f":"N16","v":2112},{"$f":"COUNTIF(L26:L35,AD16)","v":0},{"$f":"AE16/(AG4-AE20)","v":0},{"$f":"IF(AF16=0,0,(AF16*((LOG(AF16))/LOG(2))))","v":0},null,{"$f":"N16","v":2112},{"$f":"COUNTIF(L36:L44,AI16)","v":0},{"$f":"AJ16/(AL4-AJ20)","v":0},{"$f":"IF(AK16=0,0,(AK16*((LOG(AK16))/LOG(2))))","v":0},null,{"$f":"N16","v":2112},{"$f":"COUNTIF(L45:L54,AN16)","v":0},{"$f":"AO16/(AQ4-AO20)","v":0},{"$f":"IF(AP16=0,0,(AP16*((LOG(AP16))/LOG(2))))","v":0},null,{"$f":"N16","v":2112},{"$f":"COUNTIF(L55:L63,AS16)","v":0},{"$f":"AT16/(AV4-AT20)","v":0},{"$f":"IF(AU16=0,0,(AU16*((LOG(AU16))/LOG(2))))","v":0}]
[12,2247,23,2260,24,2268,23,2274,null,null,0,1222,null,2121,{"$f":"COUNTIF($L$7:$L$500,N17)","v":0},{"$f":"O17/$Q$4","v":0},{"$f":"IF(P17=0,0,(P17*((LOG(P17))/LOG(2))))","v":0},null,null,{"$f":"N17","v":2121},{"$f":"COUNTIF(L7:L16,T17)","v":0},{"$f":"U17/(W4-U20)","v":0},{"$f":"IF(V17=0,0,(V17*((LOG(V17))/LOG(2))))","v":0},null,{"$f":"N17","v":2121},{"$f":"COUNTIF(L17:L25,Y17)","v":0},{"$f":"Z17/(AB4-Z20)","v":0},{"$f":"IF(AA17=0,0,(AA17*((LOG(AA17))/LOG(2))))","v":0},null,{"$f":"N17","v":2121},{"$f":"COUNTIF(L26:L35,AD17)","v":0},{"$f":"AE17/(AG4-AE20)","v":0},{"$f":"IF(AF17=0,0,(AF17*((LOG(AF17))/LOG(2))))","v":0},null,{"$f":"N17","v":2121},{"$f":"COUNTIF(L36:L44,AI17)","v":0},{"$f":"AJ17/(AL4-AJ20)","v":0},{"$f":"IF(AK17=0,0,(AK17*((LOG(AK17))/LOG(2))))","v":0},null,{"$f":"N17","v":2121},{"$f":"COUNTIF(L45:L54,AN17)","v":0},{"$f":"AO17/(AQ4-AO20)","v":0},{"$f":"IF(AP17=0,0,(AP17*((LOG(AP17))/LOG(2))))","v":0},null,{"$f":"N17","v":2121},{"$f":"COUNTIF(L55:L63,AS17)","v":0},{"$f":"AT17/(AV4-AT20)","v":0},{"$f":"IF(AU17=0,0,(AU17*((LOG(AU17))/LOG(2))))","v":0}]
[12,2375,14,2379,13,2383,14,2387,null,null,0,1111,null,2122,{"$f":"COUNTIF($L$7:$L$500,N18)","v":2},{"$f":"O18/$Q$4","v":3.5087719298245612E-2},{"$f":"IF(P18=0,0,(P18*((LOG(P18))/LOG(2))))","v":-0.16957508821630671},null,null,{"$f":"N18","v":2122},{"$f":"COUNTIF(L7:L16,T18)","v":1},{"$f":"U18/(W4-U20)","v":0.1},{"$f":"IF(V18=0,0,(V18*((LOG(V18))/LOG(2))))","v":-0.33219280948873625},null,{"$f":"N18","v":2122},{"$f":"COUNTIF(L17:L25,Y18)","v":0},{"$f":"Z18/(AB4-Z20)","v":0},{"$f":"IF(AA18=0,0,(AA18*((LOG(AA18))/LOG(2))))","v":0},null,{"$f":"N18","v":2122},{"$f":"COUNTIF(L26:L35,AD18)","v":0},{"$f":"AE18/(AG4-AE20)","v":0},{"$f":"IF(AF18=0,0,(AF18*((LOG(AF18))/LOG(2))))","v":0},null,{"$f":"N18","v":2122},{"$f":"COUNTIF(L36:L44,AI18)","v":1},{"$f":"AJ18/(AL4-AJ20)","v":0.1111111111111111},{"$f":"IF(AK18=0,0,(AK18*((LOG(AK18))/LOG(2))))","v":-0.3522138890491458},null,{"$f":"N18","v":2122},{"$f":"COUNTIF(L45:L54,AN18)","v":0},{"$f":"AO18/(AQ4-AO20)","v":0},{"$f":"IF(AP18=0,0,(AP18*((LOG(AP18))/LOG(2))))","v":0},null,{"$f":"N18","v":2122},{"$f":"COUNTIF(L55:L63,AS18)","v":0},{"$f":"AT18/(AV4-AT20)","v":0},{"$f":"IF(AU18=0,0,(AU18*((LOG(AU18))/LOG(2))))","v":0}]
[12,2485,14,2492,13,2497,23,2507,null,null,0,1112,null,2211,{"$f":"COUNTIF($L$7:$L$500,N19)","v":1},{"$f":"O19/$Q$4","v":1.7543859649122806E-2},{"$f":"IF(P19=0,0,(P19*((LOG(P19))/LOG(2))))","v":-0.10233140375727617},null,null,{"$f":"N19","v":2211},{"$f":"COUNTIF(L7:L16,T19)","v":1},{"$f":"U19/(W4-U20)","v":0.1},{"$f":"IF(V19=0,0,(V19*((LOG(V19))/LOG(2))))","v":-0.33219280948873625},null,{"$f":"N19","v":2211},{"$f":"COUNTIF(L17:L25,Y19)","v":0},{"$f":"Z19/(AB4-Z20)","v":0},{"$f":"IF(AA19=0,0,(AA19*((LOG(AA19))/LOG(2))))","v":0},null,{"$f":"N19","v":2211},{"$f":"COUNTIF(L26:L35,AD19)","v":0},{"$f":"AE19/(AG4-AE20)","v":0},{"$f":"IF(AF19=0,0,(AF19*((LOG(AF19))/LOG(2))))","v":0},null,{"$f":"N19","v":2211},{"$f":"COUNTIF(L36:L44,AI19)","v":0},{"$f":"AJ19/(AL4-AJ20)","v":0},{"$f":"IF(AK19=0,0,(AK19*((LOG(AK19))/LOG(2))))","v":0},null,{"$f":"N19","v":2211},{"$f":"COUNTIF(L45:L54,AN19)","v":0},{"$f":"AO19/(AQ4-AO20)","v":0},{"$f":"IF(AP19=0,0,(AP19*((LOG(AP19))/LOG(2))))","v":0},null,{"$f":"N19","v":2211},{"$f":"COUNTIF(L55:L63,AS19)","v":0},{"$f":"AT19/(AV4-AT20)","v":0},{"$f":"IF(AU19=0,0,(AU19*((LOG(AU19))/LOG(2))))","v":0}]
[12,2604,14,2612,24,2620,23,2626,null,null,0,1122,null,2212,{"$f":"COUNTIF($L$7:$L$500,N20)","v":1},{"$f":"O20/$Q$4","v":1.7543859649122806E-2},{"$f":"IF(P20=0,0,(P20*((LOG(P20))/LOG(2))))","v":-0.10233140375727617},null,null,{"$f":"N20","v":2212},{"$f":"COUNTIF(L7:L16,T20)","v":0},null,null,null,{"$f":"N20","v":2212},{"$f":"COUNTIF(L17:L25,Y20)","v":0},null,null,null,{"$f":"N20","v":2212},{"$f":"COUNTIF(L26:L35,AD20)","v":0},null,null,null,{"$f":"N20","v":2212},{"$f":"COUNTIF(L36:L44,AI20)","v":0},null,null,null,{"$f":"N20","v":2212},{"$f":"COUNTIF(L45:L54,AN20)","v":1},null,null,null,{"$f":"N20","v":2212},{"$f":"COUNTIF(L55:L63,AS20)","v":0}]
[12,2779,14,2783,24,2790,23,2793,null,null,0,1122,null,2221,{"$f":"COUNTIF($L$7:$L$500,N21)","v":0},{"$f":"O21/$Q$4","v":0},{"$f":"IF(P21=0,0,(P21*((LOG(P21))/LOG(2))))","v":0},null,null,{"$f":"N21","v":2221},{"$f":"COUNTIF(L7:L16,T21)","v":0},{"$f":"U21/(W4-U20)","v":0},{"$f":"IF(V21=0,0,(V21*((LOG(V21))/LOG(2))))","v":0},null,{"$f":"N21","v":2221},{"$f":"COUNTIF(L17:L25,Y21)","v":0},{"$f":"Z21/(AB4-Z20)","v":0},{"$f":"IF(AA21=0,0,(AA21*((LOG(AA21))/LOG(2))))","v":0},null,{"$f":"N21","v":2221},{"$f":"COUNTIF(L26:L35,AD21)","v":0},{"$f":"AE21/(AG4-AE20)","v":0},{"$f":"IF(AF21=0,0,(AF21*((LOG(AF21))/LOG(2))))","v":0},null,{"$f":"N21","v":2221},{"$f":"COUNTIF(L36:L44,AI21)","v":0},{"$f":"AJ21/(AL4-AJ20)","v":0},{"$f":"IF(AK21=0,0,(AK21*((LOG(AK21))/LOG(2))))","v":0},null,{"$f":"N21","v":2221},{"$f":"COUNTIF(L45:L54,AN21)","v":0},{"$f":"AO21/(AQ4-AO20)","v":0},{"$f":"IF(AP21=0,0,(AP21*((LOG(AP21))/LOG(2))))","v":0},null,{"$f":"N21","v":2221},{"$f":"COUNTIF(L55:L63,AS21)","v":0},{"$f":"AT21/(AV4-AT20)","v":0},{"$f":"IF(AU21=0,0,(AU21*((LOG(AU21))/LOG(2))))","v":0}]
[12,2895,14,2898,24,2907,23,2911,null,null,0,1122,null,2222,{"$f":"COUNTIF($L$7:$L$500,N22)","v":1},{"$f":"O22/$Q$4","v":1.7543859649122806E-2},{"$f":"IF(P22=0,0,(P22*((LOG(P22))/LOG(2))))","v":-0.10233140375727617},null,null,{"$f":"N22","v":2222},{"$f":"COUNTIF(L7:L16,T22)","v":0},{"$f":"U22/(W4-U20)","v":0},{"$f":"IF(V22=0,0,(V22*((LOG(V22))/LOG(2))))","v":0},null,{"$f":"N22","v":2222},{"$f":"COUNTIF(L17:L25,Y22)","v":0},{"$f":"Z22/(AB4-Z20)","v":0},{"$f":"IF(AA22=0,0,(AA22*((LOG(AA22))/LOG(2))))","v":0},null,{"$f":"N22","v":2222},{"$f":"COUNTIF(L26:L35,AD22)","v":0},{"$f":"AE22/(AG4-AE20)","v":0},{"$f":"IF(AF22=0,0,(AF22*((LOG(AF22))/LOG(2))))","v":0},null,{"$f":"N22","v":2222},{"$f":"COUNTIF(L36:L44,AI22)","v":0},{"$f":"AJ22/(AL4-AJ20)","v":0},{"$f":"IF(AK22=0,0,(AK22*((LOG(AK22))/LOG(2))))","v":0},null,{"$f":"N22","v":2222},{"$f":"COUNTIF(L45:L54,AN22)","v":0},{"$f":"AO22/(AQ4-AO20)","v":0},{"$f":"IF(AP22=0,0,(AP22*((LOG(AP22))/LOG(2))))","v":0},null,{"$f":"N22","v":2222},{"$f":"COUNTIF(L55:L63,AS22)","v":1},{"$f":"AT22/(AV4-AT20)","v":0.1111111111111111},{"$f":"IF(AU22=0,0,(AU22*((LOG(AU22))/LOG(2))))","v":-0.3522138890491458}]
[12,3007,14,3011,24,3019,23,3022,null,null,0,1122,null,null,null,{"$f":"SUM(P7:P22)","v":1},{"$f":"-SUM(Q7:Q22)","v":2.4112741946223615},null,null,null,null,{"$f":"SUM(V7:V22)","v":1},{"$f":"-SUM(W7:W22)","v":2.4464393446710151},null,null,null,{"$f":"SUM(AA7:AA22)","v":1},{"$f":"-SUM(AB7:AB22)","v":1.4466166676282082},null,null,null,{"$f":"SUM(AF7:AF22)","v":1},{"$f":"-SUM(AG7:AG22)","v":2.170950594454669},null,null,null,{"$f":"SUM(AK7:AK22)","v":1},{"$f":"-SUM(AL7:AL22)","v":2.0588138903312014},null,null,null,{"$f":"SUM(AP7:AP22)","v":1},{"$f":"-SUM(AQ7:AQ22)","v":0.91829583405448945},null,null,null,{"$f":"SUM(AU7:AU22)","v":1},{"$f":"-SUM(AV7:AV22)","v":1.6577427265048887}]
[12,3118,14,3121,24,3129,23,3137,null,null,0,1122,null,null,null,"U=",{"$f":"Q23/(LOG(Q4)/LOG(2))","v":0.4133927073486317},null,null,null,null,"U1=",{"$f":"W23/(LOG(W4)/LOG(2))","v":0.73645162531850872},null,null,null,"U2=",{"$f":"AB23/(LOG(AB4)/LOG(2))","v":0.45635674880951421},null,null,null,"U3=",{"$f":"AG23/(LOG(AG4)/LOG(2))","v":0.65352124803540645},null,null,null,"U4=",{"$f":"AL23/(LOG(AL4)/LOG(2))","v":0.64948347023807929},null,null,null,"U5=",{"$f":"AQ23/(LOG(AQ4)/LOG(2))","v":0.27643459094367495},null,null,null,"U6=",{"$f":"AV23/(LOG(AV4)/LOG(2))","v":0.52295960495930272}]
[12,3233,14,3236,24,3247,23,3254,null,null,0,1122]
[12,3371,14,3376,13,3378,14,3388,null,null,0,1111]
[12,3491,14,3494,13,3498,14,3502,null,null,0,1111,null,"Total Target Seq"]
[12,3598,14,3602,24,3611,23,3615,null,null,0,1122,null,{"$f":"COUNTIF(L7:L63,G3)","v":1},null,10,9,10,9,10,9]
[12,3716,14,3724,13,3730,14,3733,null,null,0,1111,null,null,null,"% of reinforcement given in 6 equal intervals based on number of trials "]
[12,3831,14,3840,13,3842,23,3855,null,null,0,1112,null,null,null,"%_1","%_2","%_3","%_4","%_5","%_6"]
[12,3964,23,3979,24,3982,23,3988,null,null,0,1222,null,null,"target sequence",{"$f":"$G$3","v":2212},{"$f":"$G$3","v":2212},{"$f":"$G$3","v":2212},{"$f":"$G$3","v":2212},{"$f":"$G$3","v":2212},{"$f":"$G$3","v":2212}]
[12,4260,14,4268,13,4274,23,4282,null,null,0,1112,null,null,"total reinforcement",{"$f":"U20","v":0},{"$f":"Z20","v":0},{"$f":"AE20","v":0},{"$f":"AJ20","v":0},{"$f":"AO20","v":1},{"$f":"AT20","v":0}]
[12,4416,23,4427,24,4431,23,4439,null,null,0,1222,null,null,"% target"]
[12,4652,23,4668,24,4673,14,4682,null,null,0,1221,null,null,"CCRF"]
[12,4828,14,4923,13,4928,23,4942,null,null,0,1112,null,null,"% CCRf"]
[12,5341,14,5573,13,5582,14,5588,null,null,0,1111,null,null,"average response rate",{"$f":"H16/P28","v":213.9},{"$f":"(H25-H16)/Q28","v":123.88888888888889},{"$f":"(H35-H25)/R28","v":168.8},{"$f":"(H44-H35)/S28","v":1103.3333333333333},{"$f":"(H54-H44)/T28","v":602.5},{"$f":"(H63-H54)/U28","v":297.11111111111109}]
[21,5700,12,5706,24,5720,23,5723,null,null,0,2122]
[12,5821,14,5829,24,5837,23,5843,null,null,0,1122]
[12,5940,14,5944,24,5950,23,5954,null,null,0,1122]
[12,6461,14,6466,13,6473,23,6480,null,null,0,1112]
[12,7180,14,7602,13,7623,14,7629,null,null,0,1111]
[12,11290,14,11295,24,11304,23,11322,null,null,0,1122]
[12,11624,14,14044,24,14054,23,14058,null,null,0,1122]
[12,14841,23,14852,24,14857,14,14872,null,null,0,1221]
[12,18811,14,19024,13,19029,23,19035,null,null,0,1112]
[21,19774,21,19778,11,19789,21,19802,null,null,0,2212]
[12,20028,14,20032,24,20039,23,20043,null,null,0,1122]
[12,20140,14,20143,24,20154,23,20159,null,null,0,1122]
[12,20259,14,20267,24,20277,23,20286,null,null,0,1122]
[12,20380,14,20384,13,20392,23,20401,null,null,0,1112]
[12,20502,14,20505,24,20519,23,20526,null,null,0,1122]
[12,20636,14,20641,24,20653,23,20656,null,null,0,1122]
[12,20752,14,20756,24,20771,23,20777,null,null,0,1122]
[12,20883,14,20886,13,20890,23,20897,null,null,0,1112]
[12,21052,14,21056,24,21063,23,21068,null,null,0,1122]
[12,21355,14,21364,24,21379,23,21384,null,null,0,1122]
[12,21555,14,21558,24,21572,23,21578,null,null,0,1122]
[12,21994,14,21996,24,22021,23,22028,null,null,0,1122]
[12,22758,14,22764,13,22769,14,22771,null,null,0,1111]
[12,22932,23,22938,24,22942,23,22948,null,null,0,1222]
[21,23117,21,23125,22,23130,23,23136,null,null,0,2222]
[12,23311,14,23355,24,23385,23,23390,null,null,0,1122]
[12,23548,23,23563,24,23566,23,23571,null,null,0,1222]

{"sheet":"!LB20A14..Is","index":13,"n_rows":145,"n_cols":48,"rows_kept":145,"cut":false,"hidden":false,"merged":[[4,39,4,42],[5,39,5,40],[4,44,4,47],[5,44,5,45],[4,24,4,27],[5,24,5,25],[4,29,4,32],[5,29,5,30],[4,34,4,37],[5,34,5,35],[1,1,1,2],[5,13,5,14],[26,13,26,14],[27,13,27,14],[4,19,4,22],[5,19,5,20]]}
["Report for:!LB20A14..Is"]
["Date:","<date>"]
["Hen:","<hen>",null,null,null,"Correct Sequence",{"$f":"Start!J2","v":2212},null,null,null,null,null,null,null,null,"Total Sequences in Data",{"$f":"4994-COUNTBLANK(L7:L5000)","v":139},null,null,null,null,"Total Sequences in Block Data",{"$f":"COUNTA(L7:L29)","v":23},null,null,null,"Total Sequences in Block Data",{"$f":"COUNTA(L30:L52)","v":23},null,null,null,"Total Sequences in Block Data",{"$f":"COUNTA(L53:L76)","v":24},null,null,null,"Total Sequences in Block Data",{"$f":"COUNTA(L77:L99)","v":23},null,null,null,"Total Sequences in Block Data",{"$f":"COUNTA(L100:L122)","v":23},null,null,null,"Total Sequences in Block Data",{"$f":"COUNTA(L123:L145)","v":23}]
[null,null,null,null,null,null,null,null,null,null,null,null,null,null,null,"Total Sequences in Summary",{"$f":"SUM(O7:O22)","v":139},null,null,null,null,"Total Sequences in Block Summary",{"$f":"SUM(U7:U22)","v":23},null,null,null,"Total Sequences in Block Summary",{"$f":"SUM(Z7:Z22)","v":23},null,null,null,"Total Sequences in Block Summary",{"$f":"SUM(AE7:AE22)","v":24},null,null,null,"Total Sequences in Block Summary",{"$f":"SUM(AJ7:AJ22)","v":23},null,null,null,"Total Sequences in Block Summary",{"$f":"SUM(AO7:AO22)","v":23},null,null,null,"Total Sequences in Block Summary",{"$f":"SUM(AT7:AT22)","v":23}]
[null,null,null,null,null,null,null,null,null,null,null,null,null,null,null,null,null,null,null,"Block 1",null,null,null,null,"Block 2",null,null,null,null,"Block 3",null,null,null,null,"Block 4",null,null,null,null,"Block 5",null,null,null,null,"Block 6"]
["Sequence\nComponent\n1","Time\n1","Sequence\nComponent\n2","Time\n2","Sequence\nComponent\n3","Time\n3","Sequence\nComponent\n4","Time\n4","Sequence\nComponent\n5","Time\n5","Correct?\n0=No 1=Yes","Sequence",null,"Frequency",null,"Relative Frequency","Variability",null,null,"Frequency",null,"Relative Frequency","Variability",null,"Frequency",null,"Relative Frequency","Variability",null,"Frequency",null,"Relative Frequency","Variability",null,"Frequency",null,"Relative Frequency","Variability",null,"Frequency",null,"Relative Frequency","Variability",null,"Frequency",null,"Relative Frequency","Variability"]
[12,29,14,64,13,77,14,85,null,null,0,1111,null,1111,{"$f":"COUNTIF($L$7:$L$500,N7)","v":8},{"$f":"O7/$Q$4","v":5.7553956834532377E-2},{"$f":"IF(P7=0,0,(P7*((LOG(P7))/LOG(2))))","v":-0.23706135670351119},null,null,{"$f":"N7","v":1111},{"$f":"COUNTIF(L7:L29,T7)","v":5},{"$f":"U7/(W4-U20)","v":0.22727272727272727},{"$f":"IF(V7=0,0,(V7*((LOG(V7))/LOG(2))))","v":-0.48579625539771243},null,{"$f":"N7","v":1111},{"$f":"COUNTIF(L30:L52,Y7)","v":1},{"$f":"Z7/(AB4-Z20)","v":4.3478260869565216E-2},{"$f":"IF(AA7=0,0,(AA7*((LOG(AA7))/LOG(2))))","v":-0.19667660678508753},null,{"$f":"N7","v":1111},{"$f":"COUNTIF(L53:L76,AD7)","v":0},{"$f":"AE7/(AG4-AE20)","v":0},{"$f":"IF(AF7=0,0,(AF7*((LOG(AF7))/LOG(2))))","v":0},null,{"$f":"N7","v":1111},{"$f":"COUNTIF(L77:L99,AI7)","v":2},{"$f":"AJ7/(AL4-AJ20)","v":8.6956521739130432E-2},{"$f":"IF(AK7=0,0,(AK7*((LOG(AK7))/LOG(2))))","v":-0.30639669183104457},null,{"$f":"N7","v":1111},{"$f":"COUNTIF(L100:L122,AN7)","v":0},{"$f":"AO7/(AQ4-AO20)","v":0},{"$f":"IF(AP7=0,0,(AP7*((LOG(AP7))/LOG(2))))","v":0},null,{"$f":"N7","v":1111},{"$f":"COUNTIF(L123:L145,AS7)","v":0},{"$f":"AT7/(AV4-AT20)","v":0},{"$f":"IF(AU7=0,0,(AU7*((LOG(AU7))/LOG(2))))","v":0}]
[12,184,14,220,13,241,14,295,null,null,0,1111,null,1112,{"$f":"COUNTIF($L$7:$L$500,N8)","v":23},{"$f":"O8/$Q$4","v":0.16546762589928057},{"$f":"IF(P8=0,0,(P8*((LOG(P8))/LOG(2))))","v":-0.42945122074337677},null,null,{"$f":"N8","v":1112},{"$f":"COUNTIF(L7:L29,T8)","v":3},{"$f":"U8/(W4-U20)","v":0.13636363636363635},{"$f":"IF(V8=0,0,(V8*((LOG(V8))/LOG(2))))","v":-0.39197306153401923},null,{"$f":"N8","v":1112},{"$f":"COUNTIF(L30:L52,Y8)","v":4},{"$f":"Z8/(AB4-Z20)","v":0.17391304347826086},{"$f":"IF(AA8=0,0,(AA8*((LOG(AA8))/LOG(2))))","v":-0.43888034018382832},null,{"$f":"N8","v":1112},{"$f":"COUNTIF(L53:L76,AD8)","v":7},{"$f":"AE8/(AG4-AE20)","v":0.30434782608695654},{"$f":"IF(AF8=0,0,(AF8*((LOG(AF8))/LOG(2))))","v":-0.52232387991286355},null,{"$f":"N8","v":1112},{"$f":"COUNTIF(L77:L99,AI8)","v":6},{"$f":"AJ8/(AL4-AJ20)","v":0.2608695652173913},{"$f":"IF(AK8=0,0,(AK8*((LOG(AK8))/LOG(2))))","v":-0.50572159704413644},null,{"$f":"N8","v":1112},{"$f":"COUNTIF(L100:L122,AN8)","v":2},{"$f":"AO8/(AQ4-AO20)","v":8.6956521739130432E-2},{"$f":"IF(AP8=0,0,(AP8*((LOG(AP8))/LOG(2))))","v":-0.30639669183104457},null,{"$f":"N8","v":1112},{"$f":"COUNTIF(L123:L145,AS8)","v":1},{"$f":"AT8/(AV4-AT20)","v":4.3478260869565216E-2},{"$f":"IF(AU8=0,0,(AU8*((LOG(AU8))/LOG(2))))","v":-0.19667660678508753}]
[12,417,14,422,24,434,23,437,null,null,0,1122,null,1121,{"$f":"COUNTIF($L$7:$L$500,N9)","v":0},{"$f":"O9/$Q$4","v":0},{"$f":"IF(P9=0,0,(P9*((LOG(P9))/LOG(2))))","v":0},null,null,{"$f":"N9","v":1121},{"$f":"COUNTIF(L7:L29,T9)","v":0},{"$f":"U9/(W4-U20)","v":0},{"$f":"IF(V9=0,0,(V9*((LOG(V9))/LOG(2))))","v":0},null,{"$f":"N9","v":1121},{"$f":"COUNTIF(L30:L52,Y9)","v":0},{"$f":"Z9/(AB4-Z20)","v":0},{"$f":"IF(AA9=0,0,(AA9*((LOG(AA9))/LOG(2))))","v":0},null,{"$f":"N9","v":1121},{"$f":"COUNTIF(L53:L76,AD9)","v":0},{"$f":"AE9/(AG4-AE20)","v":0},{"$f":"IF(AF9=0,0,(AF9*((LOG(AF9))/LOG(2))))","v":0},null,{"$f":"N9","v":1121},{"$f":"COUNTIF(L77:L99,AI9)","v":0},{"$f":"AJ9/(AL4-AJ20)","v":0},{"$f":"IF(AK9=0,0,(AK9*((LOG(AK9))/LOG(2))))","v":0},null,{"$f":"N9","v":1121},{"$f":"COUNTIF(L100:L122,AN9)","v":0},{"$f":"AO9/(AQ4-AO20)","v":0},{"$f":"IF(AP9=0,0,(AP9*((LOG(AP9))/LOG(2))))","v":0},null,{"$f":"N9","v":1121},{"$f":"COUNTIF(L123:L145,AS9)","v":0},{"$f":"AT9/(AV4-AT20)","v":0},{"$f":"IF(AU9=0,0,(AU9*((LOG(AU9))/LOG(2))))","v":0}]
[12,535,14,540,24,549,23,553,null,null,0,1122,null,1122,{"$f":"COUNTIF($L$7:$L$500,N10)","v":46},{"$f":"O10/$Q$4","v":0.33093525179856115},{"$f":"IF(P10=0,0,(P10*((LOG(P10))/LOG(2))))","v":-0.52796718968819245},null,null,{"$f":"N10","v":1122},{"$f":"COUNTIF(L7:L29,T10)","v":9},{"$f":"U10/(W4-U20)","v":0.40909090909090912},{"$f":"IF(V10=0,0,(V10*((LOG(V10))/LOG(2))))","v":-0.52752543430703935},null,{"$f":"N10","v":1122},{"$f":"COUNTIF(L30:L52,Y10)","v":11},{"$f":"Z10/(AB4-Z20)","v":0.47826086956521741},{"$f":"IF(AA10=0,0,(AA10*((LOG(AA10))/LOG(2))))","v":-0.5089319005050813},null,{"$f":"N10","v":1122},{"$f":"COUNTIF(L53:L76,AD10)","v":7},{"$f":"AE10/(AG4-AE20)","v":0.30434782608695654},{"$f":"IF(AF10=0,0,(AF10*((LOG(AF10))/LOG(2))))","v":-0.52232387991286355},null,{"$f":"N10","v":1122},{"$f":"COUNTIF(L77:L99,AI10)","v":8},{"$f":"AJ10/(AL4-AJ20)","v":0.34782608695652173},{"$f":"IF(AK10=0,0,(AK10*((LOG(AK10))/LOG(2))))","v":-0.52993459341113491},null,{"$f":"N10","v":1122},{"$f":"COUNTIF(L100:L122,AN10)","v":3},{"$f":"AO10/(AQ4-AO20)","v":0.13043478260869565},{"$f":"IF(AP10=0,0,(AP10*((LOG(AP10))/LOG(2))))","v":-0.3832955811307639},null,{"$f":"N10","v":1122},{"$f":"COUNTIF(L123:L145,AS10)","v":8},{"$f":"AT10/(AV4-AT20)","v":0.34782608695652173},{"$f":"IF(AU10=0,0,(AU10*((LOG(AU10))/LOG(2))))","v":-0.52993459341113491}]
[12,649,14,660,24,669,23,672,null,null,0,1122,null,1211,{"$f":"COUNTIF($L$7:$L$500,N11)","v":0},{"$f":"O11/$Q$4","v":0},{"$f":"IF(P11=0,0,(P11*((LOG(P11))/LOG(2))))","v":0},null,null,{"$f":"N11","v":1211},{"$f":"COUNTIF(L7:L29,T11)","v":0},{"$f":"U11/(W4-U20)","v":0},{"$f":"IF(V11=0,0,(V11*((LOG(V11))/LOG(2))))","v":0},null,{"$f":"N11","v":1211},{"$f":"COUNTIF(L30:L52,Y11)","v":0},{"$f":"Z11/(AB4-Z20)","v":0},{"$f":"IF(AA11=0,0,(AA11*((LOG(AA11))/LOG(2))))","v":0},null,{"$f":"N11","v":1211},{"$f":"COUNTIF(L53:L76,AD11)","v":0},{"$f":"AE11/(AG4-AE20)","v":0},{"$f":"IF(AF11=0,0,(AF11*((LOG(AF11))/LOG(2))))","v":0},null,{"$f":"N11","v":1211},{"$f":"COUNTIF(L77:L99,AI11)","v":0},{"$f":"AJ11/(AL4-AJ20)","v":0},{"$f":"IF(AK11=0,0,(AK11*((LOG(AK11))/LOG(2))))","v":0},null,{"$f":"N11","v":1211},{"$f":"COUNTIF(L100:L122,AN11)","v":0},{"$f":"AO11/(AQ4-AO20)","v":0},{"$f":"IF(AP11=0,0,(AP11*((LOG(AP11))/LOG(2))))","v":0},null,{"$f":"N11","v":1211},{"$f":"COUNTIF(L123:L145,AS11)","v":0},{"$f":"AT11/(AV4-AT20)","v":0},{"$f":"IF(AU11=0,0,(AU11*((LOG(AU11))/LOG(2))))","v":0}]
[12,807,14,815,24,841,23,847,null,null,0,1122,null,1212,{"$f":"COUNTIF($L$7:$L$500,N12)","v":0},{"$f":"O12/$Q$4","v":0},{"$f":"IF(P12=0,0,(P12*((LOG(P12))/LOG(2))))","v":0},null,null,{"$f":"N12","v":1212},{"$f":"COUNTIF(L7:L29,T12)","v":0},{"$f":"U12/(W4-U20)","v":0},{"$f":"IF(V12=0,0,(V12*((LOG(V12))/LOG(2))))","v":0},null,{"$f":"N12","v":1212},{"$f":"COUNTIF(L30:L52,Y12)","v":0},{"$f":"Z12/(AB4-Z20)","v":0},{"$f":"IF(AA12=0,0,(AA12*((LOG(AA12))/LOG(2))))","v":0},null,{"$f":"N12","v":1212},{"$f":"COUNTIF(L53:L76,AD12)","v":0},{"$f":"AE12/(AG4-AE20)","v":0},{"$f":"IF(AF12=0,0,(AF12*((LOG(AF12))/LOG(2))))","v":0},null,{"$f":"N12","v":1212},{"$f":"COUNTIF(L77:L99,AI12)","v":0},{"$f":"AJ12/(AL4-AJ20)","v":0},{"$f":"IF(AK12=0,0,(AK12*((LOG(AK12))/LOG(2))))","v":0},null,{"$f":"N12","v":1212},{"$f":"COUNTIF(L100:L122,AN12)","v":0},{"$f":"AO12/(AQ4-AO20)","v":0},{"$f":"IF(AP12=0,0,(AP12*((LOG(AP12))/LOG(2))))","v":0},null,{"$f":"N12","v":1212},{"$f":"COUNTIF(L123:L145,AS12)","v":0},{"$f":"AT12/(AV4-AT20)","v":0},{"$f":"IF(AU12=0,0,(AU12*((LOG(AU12))/LOG(2))))","v":0}]
[12,949,14,951,13,955,14,958,null,null,0,1111,null,1221,{"$f":"COUNTIF($L$7:$L$500,N13)","v":1},{"$f":"O13/$Q$4","v":7.1942446043165471E-3},{"$f":"IF(P13=0,0,(P13*((LOG(P13))/LOG(2))))","v":-5.1215403400888537E-2},null,null,{"$f":"N13","v":1221},{"$f":"COUNTIF(L7:L29,T13)","v":0},{"$f":"U13/(W4-U20)","v":0},{"$f":"IF(V13=0,0,(V13*((LOG(V13))/LOG(2))))","v":0},null,{"$f":"N13","v":1221},{"$f":"COUNTIF(L30:L52,Y13)","v":0},{"$f":"Z13/(AB4-Z20)","v":0},{"$f":"IF(AA13=0,0,(AA13*((LOG(AA13))/LOG(2))))","v":0},null,{"$f":"N13","v":1221},{"$f":"COUNTIF(L53:L76,AD13)","v":0},{"$f":"AE13/(AG4-AE20)","v":0},{"$f":"IF(AF13=0,0,(AF13*((LOG(AF13))/LOG(2))))","v":0},null,{"$f":"N13","v":1221},{"$f":"COUNTIF(L77:L99,AI13)","v":0},{"$f":"AJ13/(AL4-AJ20)","v":0},{"$f":"IF(AK13=0,0,(AK13*((LOG(AK13))/LOG(2))))","v":0},null,{"$f":"N13","v":1221},{"$f":"COUNTIF(L100:L122,AN13)","v":0},{"$f":"AO13/(AQ4-AO20)","v":0},{"$f":"IF(AP13=0,0,(AP13*((LOG(AP13))/LOG(2))))","v":0},null,{"$f":"N13","v":1221},{"$f":"COUNTIF(L123:L145,AS13)","v":1},{"$f":"AT13/(AV4-AT20)","v":4.3478260869565216E-2},{"$f":"IF(AU13=0,0,(AU13*((LOG(AU13))/LOG(2))))","v":-0.19667660678508753}]
[12,1056,14,1064,24,1081,23,1092,null,null,0,1122,null,1222,{"$f":"COUNTIF($L$7:$L$500,N14)","v":34},{"$f":"O14/$Q$4","v":0.2446043165467626},{"$f":"IF(P14=0,0,(P14*((LOG(P14))/LOG(2))))","v":-0.49690834438912024},null,null,{"$f":"N14","v":1222},{"$f":"COUNTIF(L7:L29,T14)","v":5},{"$f":"U14/(W4-U20)","v":0.22727272727272727},{"$f":"IF(V14=0,0,(V14*((LOG(V14))/LOG(2))))","v":-0.48579625539771243},null,{"$f":"N14","v":1222},{"$f":"COUNTIF(L30:L52,Y14)","v":6},{"$f":"Z14/(AB4-Z20)","v":0.2608695652173913},{"$f":"IF(AA14=0,0,(AA14*((LOG(AA14))/LOG(2))))","v":-0.50572159704413644},null,{"$f":"N14","v":1222},{"$f":"COUNTIF(L53:L76,AD14)","v":7},{"$f":"AE14/(AG4-AE20)","v":0.30434782608695654},{"$f":"IF(AF14=0,0,(AF14*((LOG(AF14))/LOG(2))))","v":-0.52232387991286355},null,{"$f":"N14","v":1222},{"$f":"COUNTIF(L77:L99,AI14)","v":4},{"$f":"AJ14/(AL4-AJ20)","v":0.17391304347826086},{"$f":"IF(AK14=0,0,(AK14*((LOG(AK14))/LOG(2))))","v":-0.43888034018382832},null,{"$f":"N14","v":1222},{"$f":"COUNTIF(L100:L122,AN14)","v":5},{"$f":"AO14/(AQ4-AO20)","v":0.21739130434782608},{"$f":"IF(AP14=0,0,(AP14*((LOG(AP14))/LOG(2))))","v":-0.47861605677601093},null,{"$f":"N14","v":1222},{"$f":"COUNTIF(L123:L145,AS14)","v":7},{"$f":"AT14/(AV4-AT20)","v":0.30434782608695654},{"$f":"IF(AU14=0,0,(AU14*((LOG(AU14))/LOG(2))))","v":-0.52232387991286355}]
[12,1189,14,1196,24,1203,23,1207,null,null,0,1122,null,2111,{"$f":"COUNTIF($L$7:$L$500,N15)","v":0},{"$f":"O15/$Q$4","v":0},{"$f":"IF(P15=0,0,(P15*((LOG(P15))/LOG(2))))","v":0},null,null,{"$f":"N15","v":2111},{"$f":"COUNTIF(L7:L29,T15)","v":0},{"$f":"U15/(W4-U20)","v":0},{"$f":"IF(V15=0,0,(V15*((LOG(V15))/LOG(2))))","v":0},null,{"$f":"N15","v":2111},{"$f":"COUNTIF(L30:L52,Y15)","v":0},{"$f":"Z15/(AB4-Z20)","v":0},{"$f":"IF(AA15=0,0,(AA15*((LOG(AA15))/LOG(2))))","v":0},null,{"$f":"N15","v":2111},{"$f":"COUNTIF(L53:L76,AD15)","v":0},{"$f":"AE15/(AG4-AE20)","v":0},{"$f":"IF(AF15=0,0,(AF15*((LOG(AF15))/LOG(2))))","v":0},null,{"$f":"N15","v":2111},{"$f":"COUNTIF(L77:L99,AI15)","v":0},{"$f":"AJ15/(AL4-AJ20)","v":0},{"$f":"IF(AK15=0,0,(AK15*((LOG(AK15))/LOG(2))))","v":0},null,{"$f":"N15","v":2111},{"$f":"COUNTIF(L100:L122,AN15)","v":0},{"$f":"AO15/(AQ4-AO20)","v":0},{"$f":"IF(AP15=0,0,(AP15*((LOG(AP15))/LOG(2))))","v":0},null,{"$f":"N15","v":2111},{"$f":"COUNTIF(L123:L145,AS15)","v":0},{"$f":"AT15/(AV4-AT20)","v":0},{"$f":"IF(AU15=0,0,(AU15*((LOG(AU15))/LOG(2))))","v":0}]
[12,1315,23,1325,24,1330,23,1336,null,null,0,1222,null,2112,{"$f":"COUNTIF($L$7:$L$500,N16)","v":1},{"$f":"O16/$Q$4","v":7.1942446043165471E-3},{"$f":"IF(P16=0,0,(P16*((LOG(P16))/LOG(2))))","v":-5.1215403400888537E-2},null,null,{"$f":"N16","v":2112},{"$f":"COUNTIF(L7:L29,T16)","v":0},{"$f":"U16/(W4-U20)","v":0},{"$f":"IF(V16=0,0,(V16*((LOG(V16))/LOG(2))))","v":0},null,{"$f":"N16","v":2112},{"$f":"COUNTIF(L30:L52,Y16)","v":0},{"$f":"Z16/(AB4-Z20)","v":0},{"$f":"IF(AA16=0,0,(AA16*((LOG(AA16))/LOG(2))))","v":0},null,{"$f":"N16","v":2112},{"$f":"COUNTIF(L53:L76,AD16)","v":1},{"$f":"AE16/(AG4-AE20)","v":4.3478260869565216E-2},{"$f":"IF(AF16=0,0,(AF16*((LOG(AF16))/LOG(2))))","v":-0.19667660678508753},null,{"$f":"N16","v":2112},{"$f":"COUNTIF(L77:L99,AI16)","v":0},{"$f":"AJ16/(AL4-AJ20)","v":0},{"$f":"IF(AK16=0,0,(AK16*((LOG(AK16))/LOG(2))))","v":0},null,{"$f":"N16","v":2112},{"$f":"COUNTIF(L100:L122,AN16)","v":0},{"$f":"AO16/(AQ4-AO20)","v":0},{"$f":"IF(AP16=0,0,(AP16*((LOG(AP16))/LOG(2))))","v":0},null,{"$f":"N16","v":2112},{"$f":"COUNTIF(L123:L145,AS16)","v":0},{"$f":"AT16/(AV4-AT20)","v":0},{"$f":"IF(AU16=0,0,(AU16*((LOG(AU16))/LOG(2))))","v":0}]
[12,1431,14,1436,13,1440,14,1447,null,null,0,1111,null,2121,{"$f":"COUNTIF($L$7:$L$500,N17)","v":0},{"$f":"O17/$Q$4","v":0},{"$f":"IF(P17=0,0,(P17*((LOG(P17))/LOG(2))))","v":0},null,null,{"$f":"N17","v":2121},{"$f":"COUNTIF(L7:L29,T17)","v":0},{"$f":"U17/(W4-U20)","v":0},{"$f":"IF(V17=0,0,(V17*((LOG(V17))/LOG(2))))","v":0},null,{"$f":"N17","v":2121},{"$f":"COUNTIF(L30:L52,Y17)","v":0},{"$f":"Z17/(AB4-Z20)","v":0},{"$f":"IF(AA17=0,0,(AA17*((LOG(AA17))/LOG(2))))","v":0},null,{"$f":"N17","v":2121},{"$f":"COUNTIF(L53:L76,AD17)","v":0},{"$f":"AE17/(AG4-AE20)","v":0},{"$f":"IF(AF17=0,0,(AF17*((LOG(AF17))/LOG(2))))","v":0},null,{"$f":"N17","v":2121},{"$f":"COUNTIF(L77:L99,AI17)","v":0},{"$f":"AJ17/(AL4-AJ20)","v":0},{"$f":"IF(AK17=0,0,(AK17*((LOG(AK17))/LOG(2))))","v":0},null,{"$f":"N17","v":2121},{"$f":"COUNTIF(L100:L122,AN17)","v":0},{"$f":"AO17/(AQ4-AO20)","v":0},{"$f":"IF(AP17=0,0,(AP17*((LOG(AP17))/LOG(2))))","v":0},null,{"$f":"N17","v":2121},{"$f":"COUNTIF(L123:L145,AS17)","v":0},{"$f":"AT17/(AV4-AT20)","v":0},{"$f":"IF(AU17=0,0,(AU17*((LOG(AU17))/LOG(2))))","v":0}]
[12,1547,14,1550,13,1552,14,1557,null,null,0,1111,null,2122,{"$f":"COUNTIF($L$7:$L$500,N18)","v":1},{"$f":"O18/$Q$4","v":7.1942446043165471E-3},{"$f":"IF(P18=0,0,(P18*((LOG(P18))/LOG(2))))","v":-5.1215403400888537E-2},null,null,{"$f":"N18","v":2122},{"$f":"COUNTIF(L7:L29,T18)","v":0},{"$f":"U18/(W4-U20)","v":0},{"$f":"IF(V18=0,0,(V18*((LOG(V18))/LOG(2))))","v":0},null,{"$f":"N18","v":2122},{"$f":"COUNTIF(L30:L52,Y18)","v":0},{"$f":"Z18/(AB4-Z20)","v":0},{"$f":"IF(AA18=0,0,(AA18*((LOG(AA18))/LOG(2))))","v":0},null,{"$f":"N18","v":2122},{"$f":"COUNTIF(L53:L76,AD18)","v":0},{"$f":"AE18/(AG4-AE20)","v":0},{"$f":"IF(AF18=0,0,(AF18*((LOG(AF18))/LOG(2))))","v":0},null,{"$f":"N18","v":2122},{"$f":"COUNTIF(L77:L99,AI18)","v":0},{"$f":"AJ18/(AL4-AJ20)","v":0},{"$f":"IF(AK18=0,0,(AK18*((LOG(AK18))/LOG(2))))","v":0},null,{"$f":"N18","v":2122},{"$f":"COUNTIF(L100:L122,AN18)","v":1},{"$f":"AO18/(AQ4-AO20)","v":4.3478260869565216E-2},{"$f":"IF(AP18=0,0,(AP18*((LOG(AP18))/LOG(2))))","v":-0.19667660678508753},null,{"$f":"N18","v":2122},{"$f":"COUNTIF(L123:L145,AS18)","v":0},{"$f":"AT18/(AV4-AT20)","v":0},{"$f":"IF(AU18=0,0,(AU18*((LOG(AU18))/LOG(2))))","v":0}]
[12,1653,14,1658,13,1662,23,1671,null,null,0,1112,null,2211,{"$f":"COUNTIF($L$7:$L$500,N19)","v":1},{"$f":"O19/$Q$4","v":7.1942446043165471E-3},{"$f":"IF(P19=0,0,(P19*((LOG(P19))/LOG(2))))","v":-5.1215403400888537E-2},null,null,{"$f":"N19","v":2211},{"$f":"COUNTIF(L7:L29,T19)","v":0},{"$f":"U19/(W4-U20)","v":0},{"$f":"IF(V19=0,0,(V19*((LOG(V19))/LOG(2))))","v":0},null,{"$f":"N19","v":2211},{"$f":"COUNTIF(L30:L52,Y19)","v":0},{"$f":"Z19/(AB4-Z20)","v":0},{"$f":"IF(AA19=0,0,(AA19*((LOG(AA19))/LOG(2))))","v":0},null,{"$f":"N19","v":2211},{"$f":"COUNTIF(L53:L76,AD19)","v":0},{"$f":"AE19/(AG4-AE20)","v":0},{"$f":"IF(AF19=0,0,(AF19*((LOG(AF19))/LOG(2))))","v":0},null,{"$f":"N19","v":2211},{"$f":"COUNTIF(L77:L99,AI19)","v":0},{"$f":"AJ19/(AL4-AJ20)","v":0},{"$f":"IF(AK19=0,0,(AK19*((LOG(AK19))/LOG(2))))","v":0},null,{"$f":"N19","v":2211},{"$f":"COUNTIF(L100:L122,AN19)","v":1},{"$f":"AO19/(AQ4-AO20)","v":4.3478260869565216E-2},{"$f":"IF(AP19=0,0,(AP19*((LOG(AP19))/LOG(2))))","v":-0.19667660678508753},null,{"$f":"N19","v":2211},{"$f":"COUNTIF(L123:L145,AS19)","v":0},{"$f":"AT19/(AV4-AT20)","v":0},{"$f":"IF(AU19=0,0,(AU19*((LOG(AU19))/LOG(2))))","v":0}]
[12,1776,23,1785,24,1792,23,1797,null,null,0,1222,null,2212,{"$f":"COUNTIF($L$7:$L$500,N20)","v":2},{"$f":"O20/$Q$4","v":1.4388489208633094E-2},{"$f":"IF(P20=0,0,(P20*((LOG(P20))/LOG(2))))","v":-8.8042317593144001E-2},null,null,{"$f":"N20","v":2212},{"$f":"COUNTIF(L7:L29,T20)","v":1},null,null,null,{"$f":"N20","v":2212},{"$f":"COUNTIF(L30:L52,Y20)","v":0},null,null,null,{"$f":"N20","v":2212},{"$f":"COUNTIF(L53:L76,AD20)","v":1},null,null,null,{"$f":"N20","v":2212},{"$f":"COUNTIF(L77:L99,AI20)","v":0},null,null,null,{"$f":"N20","v":2212},{"$f":"COUNTIF(L100:L122,AN20)","v":0},null,null,null,{"$f":"N20","v":2212},{"$f":"COUNTIF(L123:L145,AS20)","v":0}]
[12,1892,14,1897,13,1900,23,1911,null,null,0,1112,null,2221,{"$f":"COUNTIF($L$7:$L$500,N21)","v":3},{"$f":"O21/$Q$4","v":2.1582733812949641E-2},{"$f":"IF(P21=0,0,(P21*((LOG(P21))/LOG(2))))","v":-0.11943838644609391},null,null,{"$f":"N21","v":2221},{"$f":"COUNTIF(L7:L29,T21)","v":0},{"$f":"U21/(W4-U20)","v":0},{"$f":"IF(V21=0,0,(V21*((LOG(V21))/LOG(2))))","v":0},null,{"$f":"N21","v":2221},{"$f":"COUNTIF(L30:L52,Y21)","v":0},{"$f":"Z21/(AB4-Z20)","v":0},{"$f":"IF(AA21=0,0,(AA21*((LOG(AA21))/LOG(2))))","v":0},null,{"$f":"N21","v":2221},{"$f":"COUNTIF(L53:L76,AD21)","v":0},{"$f":"AE21/(AG4-AE20)","v":0},{"$f":"IF(AF21=0,0,(AF21*((LOG(AF21))/LOG(2))))","v":0},null,{"$f":"N21","v":2221},{"$f":"COUNTIF(L77:L99,AI21)","v":0},{"$f":"AJ21/(AL4-AJ20)","v":0},{"$f":"IF(AK21=0,0,(AK21*((LOG(AK21))/LOG(2))))","v":0},null,{"$f":"N21","v":2221},{"$f":"COUNTIF(L100:L122,AN21)","v":3},{"$f":"AO21/(AQ4-AO20)","v":0.13043478260869565},{"$f":"IF(AP21=0,0,(AP21*((LOG(AP21))/LOG(2))))","v":-0.3832955811307639},null,{"$f":"N21","v":2221},{"$f":"COUNTIF(L123:L145,AS21)","v":0},{"$f":"AT21/(AV4-AT20)","v":0},{"$f":"IF(AU21=0,0,(AU21*((LOG(AU21))/LOG(2))))","v":0}]
[12,2007,14,2013,13,2022,23,2032,null,null,0,1112,null,2222,{"$f":"COUNTIF($L$7:$L$500,N22)","v":19},{"$f":"O22/$Q$4","v":0.1366906474820144},{"$f":"IF(P22=0,0,(P22*((LOG(P22))/LOG(2))))","v":-0.39244070234761524},null,null,{"$f":"N22","v":2222},{"$f":"COUNTIF(L7:L29,T22)","v":0},{"$f":"U22/(W4-U20)","v":0},{"$f":"IF(V22=0,0,(V22*((LOG(V22))/LOG(2))))","v":0},null,{"$f":"N22","v":2222},{"$f":"COUNTIF(L30:L52,Y22)","v":1},{"$f":"Z22/(AB4-Z20)","v":4.3478260869565216E-2},{"$f":"IF(AA22=0,0,(AA22*((LOG(AA22))/LOG(2))))","v":-0.19667660678508753},null,{"$f":"N22","v":2222},{"$f":"COUNTIF(L53:L76,AD22)","v":1},{"$f":"AE22/(AG4-AE20)","v":4.3478260869565216E-2},{"$f":"IF(AF22=0,0,(AF22*((LOG(AF22))/LOG(2))))","v":-0.19667660678508753},null,{"$f":"N22","v":2222},{"$f":"COUNTIF(L77:L99,AI22)","v":3},{"$f":"AJ22/(AL4-AJ20)","v":0.13043478260869565},{"$f":"IF(AK22=0,0,(AK22*((LOG(AK22))/LOG(2))))","v":-0.3832955811307639},null,{"$f":"N22","v":2222},{"$f":"COUNTIF(L100:L122,AN22)","v":8},{"$f":"AO22/(AQ4-AO20)","v":0.34782608695652173},{"$f":"IF(AP22=0,0,(AP22*((LOG(AP22))/LOG(2))))","v":-0.52993459341113491},null,{"$f":"N22","v":2222},{"$f":"COUNTIF(L123:L145,AS22)","v":6},{"$f":"AT22/(AV4-AT20)","v":0.2608695652173913},{"$f":"IF(AU22=0,0,(AU22*((LOG(AU22))/LOG(2))))","v":-0.50572159704413644}]
[12,2130,14,2135,24,2144,23,2149,null,null,0,1122,null,null,null,{"$f":"SUM(P7:P22)","v":0.99999999999999989},{"$f":"-SUM(Q7:Q22)","v":2.4961711315146076},null,null,null,null,{"$f":"SUM(V7:V22)","v":1},{"$f":"-SUM(W7:W22)","v":1.8910910066364834},null,null,null,{"$f":"SUM(AA7:AA22)","v":1},{"$f":"-SUM(AB7:AB22)","v":1.8468870513032212},null,null,null,{"$f":"SUM(AF7:AF22)","v":1},{"$f":"-SUM(AG7:AG22)","v":1.9603248533087658},null,null,null,{"$f":"SUM(AK7:AK22)","v":1},{"$f":"-SUM(AL7:AL22)","v":2.1642288036009081},null,null,null,{"$f":"SUM(AP7:AP22)","v":1},{"$f":"-SUM(AQ7:AQ22)","v":2.4748917178498933},null,null,null,{"$f":"SUM(AU7:AU22)","v":1},{"$f":"-SUM(AV7:AV22)","v":1.95133328393831}]
[12,2245,14,2249,24,2259,23,2263,null,null,0,1122,null,null,null,"U=",{"$f":"Q23/(LOG(Q4)/LOG(2))","v":0.350637981971614},null,null,null,null,"U1=",{"$f":"W23/(LOG(W4)/LOG(2))","v":0.41805352176161259},null,null,null,"U2=",{"$f":"AB23/(LOG(AB4)/LOG(2))","v":0.4082815863349134},null,null,null,"U3=",{"$f":"AG23/(LOG(AG4)/LOG(2))","v":0.42755526419254941},null,null,null,"U4=",{"$f":"AL23/(LOG(AL4)/LOG(2))","v":0.47843465495217175},null,null,null,"U5=",{"$f":"AQ23/(LOG(AQ4)/LOG(2))","v":0.54711126804310328},null,null,null,"U6=",{"$f":"AV23/(LOG(AV4)/LOG(2))","v":0.43137096449524481}]
[12,2379,23,2388,24,2392,23,2398,null,null,0,1222]
[12,2882,14,2886,24,2895,23,2899,null,null,0,1122]
[21,3038,21,3043,11,3050,21,3064,null,null,0,2212,null,"Total Target Seq"]
[12,3273,23,3291,24,3297,23,3303,null,null,0,1222,null,{"$f":"COUNTIF(L7:L145,G3)","v":2},null,23,23,24,23,23,23]
[12,3400,23,3412,24,3416,23,3422,null,null,0,1222,null,null,null,"% of reinforcement given in 6 equal intervals based on number of trials "]
[12,3593,14,3603,24,3612,23,3616,null,null,0,1122,null,null,null,"%_1","%_2","%_3","%_4","%_5","%_6"]
[12,3717,23,3729,24,3735,23,3741,null,null,0,1222,null,null,"target sequence",{"$f":"$G$3","v":2212},{"$f":"$G$3","v":2212},{"$f":"$G$3","v":2212},{"$f":"$G$3","v":2212},{"$f":"$G$3","v":2212},{"$f":"$G$3","v":2212}]
[12,3838,14,3842,24,3852,23,3856,null,null,0,1122,null,null,"total reinforcement",{"$f":"U20","v":1},{"$f":"Z20","v":0},{"$f":"AE20","v":1},{"$f":"AJ20","v":0},{"$f":"AO20","v":0},{"$f":"AT20","v":0}]
[12,3978,14,3986,24,3995,23,4003,null,null,0,1122,null,null,"% target"]
[12,4143,23,4156,24,4162,23,4169,null,null,0,1222,null,null,"CCRF"]
[12,4269,14,4273,24,4283,23,4288,null,null,0,1122,null,null,"% CCRf"]
[12,4386,14,4390,13,4394,14,4396,null,null,0,1111,null,null,"average response rate",{"$f":"H29/P28","v":148.78260869565219},{"$f":"(H52-H29)/Q28","v":137.17391304347825},{"$f":"(H76-H52)/R28","v":140.875},{"$f":"(H99-H76)/S28","v":124.82608695652173},{"$f":"(H122-H99)/T28","v":171.7391304347826},{"$f":"(H145-H122)/U28","v":299.69565217391306}]
[12,4561,14,4564,24,4574,23,4579,null,null,0,1122]
[12,4679,14,4684,24,4695,23,4700,null,null,0,1122]
[12,4838,23,4856,24,4861,23,4869,null,null,0,1222]
[12,4965,14,4970,13,4973,23,4981,null,null,0,1112]
[21,5090,21,5095,22,5100,23,5106,null,null,0,2222]
[12,5209,14,5216,24,5232,23,5237,null,null,0,1122]
[12,5338,23,5349,24,5352,23,5359,null,null,0,1222]
[12,5456,23,5470,24,5480,23,5485,null,null,0,1222]
[12,5598,14,5602,24,5611,23,5614,null,null,0,1122]
[12,5710,14,5725,24,5732,23,5735,null,null,0,1122]
[12,5836,14,5841,13,5848,23,5860,null,null,0,1112]
[12,5955,14,5959,13,5971,23,5978,null,null,0,1112]
[12,6077,14,6084,13,6088,23,6096,null,null,0,1112]
[12,6204,23,6215,24,6219,23,6223,null,null,0,1222]
[12,6380,14,6385,24,6393,23,6397,null,null,0,1122]
[12,6556,14,6561,24,6571,23,6577,null,null,0,1122]
[12,6676,14,6680,13,6684,23,6697,null,null,0,1112]
[12,6815,23,6827,24,6837,23,6843,null,null,0,1222]
[12,6941,23,6954,24,6959,23,6964,null,null,0,1222]
[12,7060,14,7064,13,7070,23,7080,null,null,0,1112]
[12,7363,23,7375,24,7388,23,7395,null,null,0,1222]
[12,7498,14,7501,24,7510,23,7515,null,null,0,1122]
[12,7649,23,7660,24,7663,23,7669,null,null,0,1222]
[12,7776,23,7786,24,7796,23,7802,null,null,0,1222]
[12,7902,23,7912,24,7916,23,7921,null,null,0,1222]
[12,8054,23,8061,24,8066,23,8071,null,null,0,1222]
[21,8185,12,8194,13,8199,23,8209,null,null,0,2112]
[21,8365,21,8370,22,8376,23,8382,null,null,0,2222]
[12,8516,14,8521,13,8532,23,8541,null,null,0,1112]
[12,8636,14,8638,24,8655,23,8660,null,null,0,1122]
[12,8793,14,8804,24,8813,23,8816,null,null,0,1122]
[12,8916,14,8925,13,8930,23,8939,null,null,0,1112]
[12,9036,14,9046,24,9055,23,9061,null,null,0,1122]
[12,9177,14,9188,13,9192,23,9202,null,null,0,1112]
[21,9302,21,9305,11,9318,21,9336,null,null,0,2212]
[12,9484,14,9488,24,9495,23,9502,null,null,0,1122]
[12,9602,14,9607,24,9614,23,9617,null,null,0,1122]
[12,9715,14,9719,13,9723,23,9730,null,null,0,1112]
[12,9826,14,9835,24,9841,23,9844,null,null,0,1122]
[12,9942,14,9944,13,9949,23,9958,null,null,0,1112]
[12,10063,14,10068,24,10084,23,10088,null,null,0,1122]
[12,10184,14,10188,13,10195,23,10206,null,null,0,1112]
[12,10301,14,10306,13,10310,23,10316,null,null,0,1112]
[12,10413,14,10418,24,10430,23,10435,null,null,0,1122]
[12,10532,14,10543,24,10551,23,10554,null,null,0,1122]
[12,10649,14,10654,13,10659,23,10671,null,null,0,1112]
[12,10767,14,10771,13,10775,14,10779,null,null,0,1111]
[21,10886,21,10889,22,10895,23,10899,null,null,0,2222]
[12,11000,23,11010,24,11014,23,11024,null,null,0,1222]
[12,11122,14,11126,24,11139,23,11144,null,null,0,1122]
[21,11252,21,11259,22,11270,23,11275,null,null,0,2222]
[12,11416,14,11420,13,11425,23,11433,null,null,0,1112]
[12,11532,14,11536,24,11544,23,11548,null,null,0,1122]
[21,11645,21,11663,22,11672,23,11682,null,null,0,2222]
[12,11780,14,11783,13,11787,14,11806,null,null,0,1111]
[12,11977,23,11992,24,11995,23,12001,null,null,0,1222]
[12,12104,14,12108,24,12116,23,12120,null,null,0,1122]
[12,12216,14,12218,24,12231,23,12238,null,null,0,1122]
[12,12346,23,12353,24,12356,23,12362,null,null,0,1222]
[12,12460,23,12470,24,12475,23,12480,null,null,0,1222]
[12,12577,14,12581,13,12586,23,12593,null,null,0,1112]
[12,12698,14,12700,24,12713,23,12717,null,null,0,1122]
[12,12813,14,12818,13,12821,23,12829,null,null,0,1112]
[21,12931,21,12939,22,12943,23,12949,null,null,0,2222]
[21,13063,21,13067,22,13072,23,13077,null,null,0,2222]
[12,13176,14,13181,24,13188,23,13191,null,null,0,1122]
[12,13313,23,13326,24,13330,23,13338,null,null,0,1222]
[12,13449,23,13463,24,13468,23,13474,null,null,0,1222]
[12,13578,14,13586,13,13594,23,13603,null,null,0,1112]
[21,13715,21,13719,22,13728,14,13737,null,null,0,2221]
[21,13835,21,13840,22,13846,14,13854,null,null,0,2221]
[21,13953,21,13962,11,13970,12,13975,null,null,0,2211]
[12,14077,23,14084,24,14090,23,14098,null,null,0,1222]
[12,14194,14,14197,24,14214,23,14219,null,null,0,1122]
[21,14332,21,14338,22,14342,23,14348,null,null,0,2222]
[21,14449,12,14464,24,14473,23,14477,null,null,0,2122]
[21,14575,21,14589,22,14612,23,14619,null,null,0,2222]
[21,14730,21,14736,22,14740,14,14749,null,null,0,2221]
[12,14859,23,14869,24,14873,23,14879,null,null,0,1222]
[21,14982,21,14987,22,14992,23,15021,null,null,0,2222]
[21,15121,21,15126,22,15130,23,15136,null,null,0,2222]
[12,15244,14,15249,13,15254,23,15261,null,null,0,1112]
[12,15370,23,15377,24,15381,23,15384,null,null,0,1222]
[21,15481,21,15487,22,15490,23,15495,null,null,0,2222]
[12,16610,14,16616,24,16623,23,16628,null,null,0,1122]
[21,16753,21,16756,22,16762,23,16779,null,null,0,2222]
[21,16878,21,16887,22,16894,23,16900,null,null,0,2222]
[21,17008,21,17017,22,17023,23,17028,null,null,0,2222]
[12,17128,14,17131,13,17135,23,17142,null,null,0,1112]
[21,17272,21,17275,22,17281,23,17286,null,null,0,2222]
[12,17458,23,17471,24,17476,23,17482,null,null,0,1222]
[12,18125,23,18135,24,18141,23,18154,null,null,0,1222]
[12,18370,23,18380,24,18383,23,18387,null,null,0,1222]
[12,18549,14,18555,24,18563,23,18570,null,null,0,1122]
[12,19129,14,19134,24,19141,23,19146,null,null,0,1122]
[12,19441,14,19447,24,19456,23,19459,null,null,0,1122]
[12,19758,14,19769,24,19777,23,19786,null,null,0,1122]
[12,20036,14,20041,24,20052,23,20058,null,null,0,1122]
[12,20277,14,20280,24,20288,23,20297,null,null,0,1122]
[21,20397,21,20408,22,20412,23,20418,null,null,0,2222]
[21,20517,21,20523,22,20530,23,20536,null,null,0,2222]
[12,20673,23,20685,24,20691,23,20695,null,null,0,1222]
[12,20808,23,20817,24,20829,23,20835,null,null,0,1222]
[21,20931,21,20938,22,20946,23,20955,null,null,0,2222]
[12,21333,14,21338,24,21346,23,21349,null,null,0,1122]
[12,22767,23,22779,24,22783,23,22789,null,null,0,1222]
[12,22909,23,22917,24,22923,14,22934,null,null,0,1221]
[12,23499,14,23506,24,23518,23,23529,null,null,0,1122]
[12,23654,23,23664,24,23667,23,23672,null,null,0,1222]

{"sheet":"!LB21B04..Is","index":14,"n_rows":40,"n_cols":48,"rows_kept":40,"cut":false,"hidden":false,"merged":[[4,39,4,42],[5,39,5,40],[4,44,4,47],[5,44,5,45],[4,24,4,27],[5,24,5,25],[4,29,4,32],[5,29,5,30],[4,34,4,37],[5,34,5,35],[1,1,1,2],[5,13,5,14],[26,13,26,14],[27,13,27,14],[4,19,4,22],[5,19,5,20]]}
["Report for:!LB21B04..Is"]
["Date:","<date>"]
["Hen:","<hen>",null,null,null,"Correct Sequence",{"$f":"Start!J2","v":2212},null,null,null,null,null,null,null,null,"Total Sequences in Data",{"$f":"4994-COUNTBLANK(L7:L5000)","v":34},null,null,null,null,"Total Sequences in Block Data",{"$f":"COUNTA(L7:L12)","v":6},null,null,null,"Total Sequences in Block Data",{"$f":"COUNTA(L13:L17)","v":5},null,null,null,"Total Sequences in Block Data",{"$f":"COUNTA(L18:L23)","v":6},null,null,null,"Total Sequences in Block Data",{"$f":"COUNTA(L24:L29)","v":6},null,null,null,"Total Sequences in Block Data",{"$f":"COUNTA(L30:L34)","v":5},null,null,null,"Total Sequences in Block Data",{"$f":"COUNTA(L35:L40)","v":6}]
[null,null,null,null,null,null,null,null,null,null,null,null,null,null,null,"Total Sequences in Summary",{"$f":"SUM(O7:O22)","v":33},null,null,null,null,"Total Sequences in Block Summary",{"$f":"SUM(U7:U22)","v":6},null,null,null,"Total Sequences in Block Summary",{"$f":"SUM(Z7:Z22)","v":5},null,null,null,"Total Sequences in Block Summary",{"$f":"SUM(AE7:AE22)","v":6},null,null,null,"Total Sequences in Block Summary",{"$f":"SUM(AJ7:AJ22)","v":6},null,null,null,"Total Sequences in Block Summary",{"$f":"SUM(AO7:AO22)","v":5},null,null,null,"Total Sequences in Block Summary",{"$f":"SUM(AT7:AT22)","v":5}]
[null,null,null,null,null,null,null,null,null,null,null,null,null,null,null,null,null,null,null,"Block 1",null,null,null,null,"Block 2",null,null,null,null,"Block 3",null,null,null,null,"Block 4",null,null,null,null,"Block 5",null,null,null,null,"Block 6"]
["Sequence\nComponent\n1","Time\n1","Sequence\nComponent\n2","Time\n2","Sequence\nComponent\n3","Time\n3","Sequence\nComponent\n4","Time\n4","Sequence\nComponent\n5","Time\n5","Correct?\n0=No 1=Yes","Sequence",null,"Frequency",null,"Relative Frequency","Variability",null,null,"Frequency",null,"Relative Frequency","Variability",null,"Frequency",null,"Relative Frequency","Variability",null,"Frequency",null,"Relative Frequency","Variability",null,"Frequency",null,"Relative Frequency","Variability",null,"Frequency",null,"Relative Frequency","Variability",null,"Frequency",null,"Relative Frequency","Variability"]
[12,6,14,10,24,24,23,29,null,null,0,1122,null,1111,{"$f":"COUNTIF($L$7:$L$500,N7)","v":2},{"$f":"O7/$Q$4","v":6.0606060606060608E-2},{"$f":"IF(P7=0,0,(P7*((LOG(P7))/LOG(2))))","v":-0.24511479511263354},null,null,{"$f":"N7","v":1111},{"$f":"COUNTIF(L7:L12,T7)","v":1},{"$f":"U7/(W4-U20)","v":0.16666666666666666},{"$f":"IF(V7=0,0,(V7*((LOG(V7))/LOG(2))))","v":-0.43082708345352599},null,{"$f":"N7","v":1111},{"$f":"COUNTIF(L13:L17,Y7)","v":0},{"$f":"Z7/(AB4-Z20)","v":0},{"$f":"IF(AA7=0,0,(AA7*((LOG(AA7))/LOG(2))))","v":0},null,{"$f":"N7","v":1111},{"$f":"COUNTIF(L18:L23,AD7)","v":1},{"$f":"AE7/(AG4-AE20)","v":0.16666666666666666},{"$f":"IF(AF7=0,0,(AF7*((LOG(AF7))/LOG(2))))","v":-0.43082708345352599},null,{"$f":"N7","v":1111},{"$f":"COUNTIF(L24:L29,AI7)","v":0},{"$f":"AJ7/(AL4-AJ20)","v":0},{"$f":"IF(AK7=0,0,(AK7*((LOG(AK7))/LOG(2))))","v":0},null,{"$f":"N7","v":1111},{"$f":"COUNTIF(L30:L34,AN7)","v":0},{"$f":"AO7/(AQ4-AO20)","v":0},{"$f":"IF(AP7=0,0,(AP7*((LOG(AP7))/LOG(2))))","v":0},null,{"$f":"N7","v":1111},{"$f":"COUNTIF(L35:L40,AS7)","v":0},{"$f":"AT7/(AV4-AT20)","v":0},{"$f":"IF(AU7=0,0,(AU7*((LOG(AU7))/LOG(2))))","v":0}]
[21,176,21,184,22,189,23,199,null,null,0,2222,null,1112,{"$f":"COUNTIF($L$7:$L$500,N8)","v":3},{"$f":"O8/$Q$4","v":9.0909090909090912E-2},{"$f":"IF(P8=0,0,(P8*((LOG(P8))/LOG(2))))","v":-0.31449378351248153},null,null,{"$f":"N8","v":1112},{"$f":"COUNTIF(L7:L12,T8)","v":0},{"$f":"U8/(W4-U20)","v":0},{"$f":"IF(V8=0,0,(V8*((LOG(V8))/LOG(2))))","v":0},null,{"$f":"N8","v":1112},{"$f":"COUNTIF(L13:L17,Y8)","v":0},{"$f":"Z8/(AB4-Z20)","v":0},{"$f":"IF(AA8=0,0,(AA8*((LOG(AA8))/LOG(2))))","v":0},null,{"$f":"N8","v":1112},{"$f":"COUNTIF(L18:L23,AD8)","v":2},{"$f":"AE8/(AG4-AE20)","v":0.33333333333333331},{"$f":"IF(AF8=0,0,(AF8*((LOG(AF8))/LOG(2))))","v":-0.52832083357371862},null,{"$f":"N8","v":1112},{"$f":"COUNTIF(L24:L29,AI8)","v":0},{"$f":"AJ8/(AL4-AJ20)","v":0},{"$f":"IF(AK8=0,0,(AK8*((LOG(AK8))/LOG(2))))","v":0},null,{"$f":"N8","v":1112},{"$f":"COUNTIF(L30:L34,AN8)","v":0},{"$f":"AO8/(AQ4-AO20)","v":0},{"$f":"IF(AP8=0,0,(AP8*((LOG(AP8))/LOG(2))))","v":0},null,{"$f":"N8","v":1112},{"$f":"COUNTIF(L35:L40,AS8)","v":1},{"$f":"AT8/(AV4-AT20)","v":0.2},{"$f":"IF(AU8=0,0,(AU8*((LOG(AU8))/LOG(2))))","v":-0.46438561897747244}]
[21,313,21,317,22,322,23,326,null,null,0,2222,null,1121,{"$f":"COUNTIF($L$7:$L$500,N9)","v":0},{"$f":"O9/$Q$4","v":0},{"$f":"IF(P9=0,0,(P9*((LOG(P9))/LOG(2))))","v":0},null,null,{"$f":"N9","v":1121},{"$f":"COUNTIF(L7:L12,T9)","v":0},{"$f":"U9/(W4-U20)","v":0},{"$f":"IF(V9=0,0,(V9*((LOG(V9))/LOG(2))))","v":0},null,{"$f":"N9","v":1121},{"$f":"COUNTIF(L13:L17,Y9)","v":0},{"$f":"Z9/(AB4-Z20)","v":0},{"$f":"IF(AA9=0,0,(AA9*((LOG(AA9))/LOG(2))))","v":0},null,{"$f":"N9","v":1121},{"$f":"COUNTIF(L18:L23,AD9)","v":0},{"$f":"AE9/(AG4-AE20)","v":0},{"$f":"IF(AF9=0,0,(AF9*((LOG(AF9))/LOG(2))))","v":0},null,{"$f":"N9","v":1121},{"$f":"COUNTIF(L24:L29,AI9)","v":0},{"$f":"AJ9/(AL4-AJ20)","v":0},{"$f":"IF(AK9=0,0,(AK9*((LOG(AK9))/LOG(2))))","v":0},null,{"$f":"N9","v":1121},{"$f":"COUNTIF(L30:L34,AN9)","v":0},{"$f":"AO9/(AQ4-AO20)","v":0},{"$f":"IF(AP9=0,0,(AP9*((LOG(AP9))/LOG(2))))","v":0},null,{"$f":"N9","v":1121},{"$f":"COUNTIF(L35:L40,AS9)","v":0},{"$f":"AT9/(AV4-AT20)","v":0},{"$f":"IF(AU9=0,0,(AU9*((LOG(AU9))/LOG(2))))","v":0}]
[12,431,14,437,13,441,14,447,null,null,0,1111,null,1122,{"$f":"COUNTIF($L$7:$L$500,N10)","v":6},{"$f":"O10/$Q$4","v":0.18181818181818182},{"$f":"IF(P10=0,0,(P10*((LOG(P10))/LOG(2))))","v":-0.44716938520678134},null,null,{"$f":"N10","v":1122},{"$f":"COUNTIF(L7:L12,T10)","v":2},{"$f":"U10/(W4-U20)","v":0.33333333333333331},{"$f":"IF(V10=0,0,(V10*((LOG(V10))/LOG(2))))","v":-0.52832083357371862},null,{"$f":"N10","v":1122},{"$f":"COUNTIF(L13:L17,Y10)","v":0},{"$f":"Z10/(AB4-Z20)","v":0},{"$f":"IF(AA10=0,0,(AA10*((LOG(AA10))/LOG(2))))","v":0},null,{"$f":"N10","v":1122},{"$f":"COUNTIF(L18:L23,AD10)","v":1},{"$f":"AE10/(AG4-AE20)","v":0.16666666666666666},{"$f":"IF(AF10=0,0,(AF10*((LOG(AF10))/LOG(2))))","v":-0.43082708345352599},null,{"$f":"N10","v":1122},{"$f":"COUNTIF(L24:L29,AI10)","v":2},{"$f":"AJ10/(AL4-AJ20)","v":0.33333333333333331},{"$f":"IF(AK10=0,0,(AK10*((LOG(AK10))/LOG(2))))","v":-0.52832083357371862},null,{"$f":"N10","v":1122},{"$f":"COUNTIF(L30:L34,AN10)","v":1},{"$f":"AO10/(AQ4-AO20)","v":0.2},{"$f":"IF(AP10=0,0,(AP10*((LOG(AP10))/LOG(2))))","v":-0.46438561897747244},null,{"$f":"N10","v":1122},{"$f":"COUNTIF(L35:L40,AS10)","v":0},{"$f":"AT10/(AV4-AT20)","v":0},{"$f":"IF(AU10=0,0,(AU10*((LOG(AU10))/LOG(2))))","v":0}]
[21,550,12,558,24,568,23,571,null,null,0,2122,null,1211,{"$f":"COUNTIF($L$7:$L$500,N11)","v":1},{"$f":"O11/$Q$4","v":3.0303030303030304E-2},{"$f":"IF(P11=0,0,(P11*((LOG(P11))/LOG(2))))","v":-0.15286042785934709},null,null,{"$f":"N11","v":1211},{"$f":"COUNTIF(L7:L12,T11)","v":0},{"$f":"U11/(W4-U20)","v":0},{"$f":"IF(V11=0,0,(V11*((LOG(V11))/LOG(2))))","v":0},null,{"$f":"N11","v":1211},{"$f":"COUNTIF(L13:L17,Y11)","v":0},{"$f":"Z11/(AB4-Z20)","v":0},{"$f":"IF(AA11=0,0,(AA11*((LOG(AA11))/LOG(2))))","v":0},null,{"$f":"N11","v":1211},{"$f":"COUNTIF(L18:L23,AD11)","v":0},{"$f":"AE11/(AG4-AE20)","v":0},{"$f":"IF(AF11=0,0,(AF11*((LOG(AF11))/LOG(2))))","v":0},null,{"$f":"N11","v":1211},{"$f":"COUNTIF(L24:L29,AI11)","v":0},{"$f":"AJ11/(AL4-AJ20)","v":0},{"$f":"IF(AK11=0,0,(AK11*((LOG(AK11))/LOG(2))))","v":0},null,{"$f":"N11","v":1211},{"$f":"COUNTIF(L30:L34,AN11)","v":1},{"$f":"AO11/(AQ4-AO20)","v":0.2},{"$f":"IF(AP11=0,0,(AP11*((LOG(AP11))/LOG(2))))","v":-0.46438561897747244},null,{"$f":"N11","v":1211},{"$f":"COUNTIF(L35:L40,AS11)","v":0},{"$f":"AT11/(AV4-AT20)","v":0},{"$f":"IF(AU11=0,0,(AU11*((LOG(AU11))/LOG(2))))","v":0}]
[12,672,14,677,24,688,23,691,null,null,0,1122,null,1212,{"$f":"COUNTIF($L$7:$L$500,N12)","v":0},{"$f":"O12/$Q$4","v":0},{"$f":"IF(P12=0,0,(P12*((LOG(P12))/LOG(2))))","v":0},null,null,{"$f":"N12","v":1212},{"$f":"COUNTIF(L7:L12,T12)","v":0},{"$f":"U12/(W4-U20)","v":0},{"$f":"IF(V12=0,0,(V12*((LOG(V12))/LOG(2))))","v":0},null,{"$f":"N12","v":1212},{"$f":"COUNTIF(L13:L17,Y12)","v":0},{"$f":"Z12/(AB4-Z20)","v":0},{"$f":"IF(AA12=0,0,(AA12*((LOG(AA12))/LOG(2))))","v":0},null,{"$f":"N12","v":1212},{"$f":"COUNTIF(L18:L23,AD12)","v":0},{"$f":"AE12/(AG4-AE20)","v":0},{"$f":"IF(AF12=0,0,(AF12*((LOG(AF12))/LOG(2))))","v":0},null,{"$f":"N12","v":1212},{"$f":"COUNTIF(L24:L29,AI12)","v":0},{"$f":"AJ12/(AL4-AJ20)","v":0},{"$f":"IF(AK12=0,0,(AK12*((LOG(AK12))/LOG(2))))","v":0},null,{"$f":"N12","v":1212},{"$f":"COUNTIF(L30:L34,AN12)","v":0},{"$f":"AO12/(AQ4-AO20)","v":0},{"$f":"IF(AP12=0,0,(AP12*((LOG(AP12))/LOG(2))))","v":0},null,{"$f":"N12","v":1212},{"$f":"COUNTIF(L35:L40,AS12)","v":0},{"$f":"AT12/(AV4-AT20)","v":0},{"$f":"IF(AU12=0,0,(AU12*((LOG(AU12))/LOG(2))))","v":0}]
[21,806,21,809,22,814,23,824,null,null,0,2222,null,1221,{"$f":"COUNTIF($L$7:$L$500,N13)","v":4},{"$f":"O13/$Q$4","v":0.12121212121212122},{"$f":"IF(P13=0,0,(P13*((LOG(P13))/LOG(2))))","v":-0.36901746901314586},null,null,{"$f":"N13","v":1221},{"$f":"COUNTIF(L7:L12,T13)","v":0},{"$f":"U13/(W4-U20)","v":0},{"$f":"IF(V13=0,0,(V13*((LOG(V13))/LOG(2))))","v":0},null,{"$f":"N13","v":1221},{"$f":"COUNTIF(L13:L17,Y13)","v":0},{"$f":"Z13/(AB4-Z20)","v":0},{"$f":"IF(AA13=0,0,(AA13*((LOG(AA13))/LOG(2))))","v":0},null,{"$f":"N13","v":1221},{"$f":"COUNTIF(L18:L23,AD13)","v":0},{"$f":"AE13/(AG4-AE20)","v":0},{"$f":"IF(AF13=0,0,(AF13*((LOG(AF13))/LOG(2))))","v":0},null,{"$f":"N13","v":1221},{"$f":"COUNTIF(L24:L29,AI13)","v":1},{"$f":"AJ13/(AL4-AJ20)","v":0.16666666666666666},{"$f":"IF(AK13=0,0,(AK13*((LOG(AK13))/LOG(2))))","v":-0.43082708345352599},null,{"$f":"N13","v":1221},{"$f":"COUNTIF(L30:L34,AN13)","v":1},{"$f":"AO13/(AQ4-AO20)","v":0.2},{"$f":"IF(AP13=0,0,(AP13*((LOG(AP13))/LOG(2))))","v":-0.46438561897747244},null,{"$f":"N13","v":1221},{"$f":"COUNTIF(L35:L40,AS13)","v":2},{"$f":"AT13/(AV4-AT20)","v":0.4},{"$f":"IF(AU13=0,0,(AU13*((LOG(AU13))/LOG(2))))","v":-0.52877123795494496}]
[21,934,21,939,22,948,23,953,null,null,0,2222,null,1222,{"$f":"COUNTIF($L$7:$L$500,N14)","v":8},{"$f":"O14/$Q$4","v":0.24242424242424243},{"$f":"IF(P14=0,0,(P14*((LOG(P14))/LOG(2))))","v":-0.49561069560204934},null,null,{"$f":"N14","v":1222},{"$f":"COUNTIF(L7:L12,T14)","v":0},{"$f":"U14/(W4-U20)","v":0},{"$f":"IF(V14=0,0,(V14*((LOG(V14))/LOG(2))))","v":0},null,{"$f":"N14","v":1222},{"$f":"COUNTIF(L13:L17,Y14)","v":2},{"$f":"Z14/(AB4-Z20)","v":0.4},{"$f":"IF(AA14=0,0,(AA14*((LOG(AA14))/LOG(2))))","v":-0.52877123795494496},null,{"$f":"N14","v":1222},{"$f":"COUNTIF(L18:L23,AD14)","v":2},{"$f":"AE14/(AG4-AE20)","v":0.33333333333333331},{"$f":"IF(AF14=0,0,(AF14*((LOG(AF14))/LOG(2))))","v":-0.52832083357371862},null,{"$f":"N14","v":1222},{"$f":"COUNTIF(L24:L29,AI14)","v":1},{"$f":"AJ14/(AL4-AJ20)","v":0.16666666666666666},{"$f":"IF(AK14=0,0,(AK14*((LOG(AK14))/LOG(2))))","v":-0.43082708345352599},null,{"$f":"N14","v":1222},{"$f":"COUNTIF(L30:L34,AN14)","v":2},{"$f":"AO14/(AQ4-AO20)","v":0.4},{"$f":"IF(AP14=0,0,(AP14*((LOG(AP14))/LOG(2))))","v":-0.52877123795494496},null,{"$f":"N14","v":1222},{"$f":"COUNTIF(L35:L40,AS14)","v":1},{"$f":"AT14/(AV4-AT20)","v":0.2},{"$f":"IF(AU14=0,0,(AU14*((LOG(AU14))/LOG(2))))","v":-0.46438561897747244}]
[21,1066,21,1069,22,1073,23,1078,null,null,0,2222,null,2111,{"$f":"COUNTIF($L$7:$L$500,N15)","v":0},{"$f":"O15/$Q$4","v":0},{"$f":"IF(P15=0,0,(P15*((LOG(P15))/LOG(2))))","v":0},null,null,{"$f":"N15","v":2111},{"$f":"COUNTIF(L7:L12,T15)","v":0},{"$f":"U15/(W4-U20)","v":0},{"$f":"IF(V15=0,0,(V15*((LOG(V15))/LOG(2))))","v":0},null,{"$f":"N15","v":2111},{"$f":"COUNTIF(L13:L17,Y15)","v":0},{"$f":"Z15/(AB4-Z20)","v":0},{"$f":"IF(AA15=0,0,(AA15*((LOG(AA15))/LOG(2))))","v":0},null,{"$f":"N15","v":2111},{"$f":"COUNTIF(L18:L23,AD15)","v":0},{"$f":"AE15/(AG4-AE20)","v":0},{"$f":"IF(AF15=0,0,(AF15*((LOG(AF15))/LOG(2))))","v":0},null,{"$f":"N15","v":2111},{"$f":"COUNTIF(L24:L29,AI15)","v":0},{"$f":"AJ15/(AL4-AJ20)","v":0},{"$f":"IF(AK15=0,0,(AK15*((LOG(AK15))/LOG(2))))","v":0},null,{"$f":"N15","v":2111},{"$f":"COUNTIF(L30:L34,AN15)","v":0},{"$f":"AO15/(AQ4-AO20)","v":0},{"$f":"IF(AP15=0,0,(AP15*((LOG(AP15))/LOG(2))))","v":0},null,{"$f":"N15","v":2111},{"$f":"COUNTIF(L35:L40,AS15)","v":0},{"$f":"AT15/(AV4-AT20)","v":0},{"$f":"IF(AU15=0,0,(AU15*((LOG(AU15))/LOG(2))))","v":0}]
[12,1228,23,1239,24,1243,23,1247,null,null,0,1222,null,2112,{"$f":"COUNTIF($L$7:$L$500,N16)","v":0},{"$f":"O16/$Q$4","v":0},{"$f":"IF(P16=0,0,(P16*((LOG(P16))/LOG(2))))","v":0},null,null,{"$f":"N16","v":2112},{"$f":"COUNTIF(L7:L12,T16)","v":0},{"$f":"U16/(W4-U20)","v":0},{"$f":"IF(V16=0,0,(V16*((LOG(V16))/LOG(2))))","v":0},null,{"$f":"N16","v":2112},{"$f":"COUNTIF(L13:L17,Y16)","v":0},{"$f":"Z16/(AB4-Z20)","v":0},{"$f":"IF(AA16=0,0,(AA16*((LOG(AA16))/LOG(2))))","v":0},null,{"$f":"N16","v":2112},{"$f":"COUNTIF(L18:L23,AD16)","v":0},{"$f":"AE16/(AG4-AE20)","v":0},{"$f":"IF(AF16=0,0,(AF16*((LOG(AF16))/LOG(2))))","v":0},null,{"$f":"N16","v":2112},{"$f":"COUNTIF(L24:L29,AI16)","v":0},{"$f":"AJ16/(AL4-AJ20)","v":0},{"$f":"IF(AK16=0,0,(AK16*((LOG(AK16))/LOG(2))))","v":0},null,{"$f":"N16","v":2112},{"$f":"COUNTIF(L30:L34,AN16)","v":0},{"$f":"AO16/(AQ4-AO20)","v":0},{"$f":"IF(AP16=0,0,(AP16*((LOG(AP16))/LOG(2))))","v":0},null,{"$f":"N16","v":2112},{"$f":"COUNTIF(L35:L40,AS16)","v":0},{"$f":"AT16/(AV4-AT20)","v":0},{"$f":"IF(AU16=0,0,(AU16*((LOG(AU16))/LOG(2))))","v":0}]
[12,1350,23,1361,24,1368,23,1373,null,null,0,1222,null,2121,{"$f":"COUNTIF($L$7:$L$500,N17)","v":1},{"$f":"O17/$Q$4","v":3.0303030303030304E-2},{"$f":"IF(P17=0,0,(P17*((LOG(P17))/LOG(2))))","v":-0.15286042785934709},null,null,{"$f":"N17","v":2121},{"$f":"COUNTIF(L7:L12,T17)","v":0},{"$f":"U17/(W4-U20)","v":0},{"$f":"IF(V17=0,0,(V17*((LOG(V17))/LOG(2))))","v":0},null,{"$f":"N17","v":2121},{"$f":"COUNTIF(L13:L17,Y17)","v":0},{"$f":"Z17/(AB4-Z20)","v":0},{"$f":"IF(AA17=0,0,(AA17*((LOG(AA17))/LOG(2))))","v":0},null,{"$f":"N17","v":2121},{"$f":"COUNTIF(L18:L23,AD17)","v":0},{"$f":"AE17/(AG4-AE20)","v":0},{"$f":"IF(AF17=0,0,(AF17*((LOG(AF17))/LOG(2))))","v":0},null,{"$f":"N17","v":2121},{"$f":"COUNTIF(L24:L29,AI17)","v":0},{"$f":"AJ17/(AL4-AJ20)","v":0},{"$f":"IF(AK17=0,0,(AK17*((LOG(AK17))/LOG(2))))","v":0},null,{"$f":"N17","v":2121},{"$f":"COUNTIF(L30:L34,AN17)","v":0},{"$f":"AO17/(AQ4-AO20)","v":0},{"$f":"IF(AP17=0,0,(AP17*((LOG(AP17))/LOG(2))))","v":0},null,{"$f":"N17","v":2121},{"$f":"COUNTIF(L35:L40,AS17)","v":1},{"$f":"AT17/(AV4-AT20)","v":0.2},{"$f":"IF(AU17=0,0,(AU17*((LOG(AU17))/LOG(2))))","v":-0.46438561897747244}]
[12,1475,14,1479,13,1481,23,1490,null,null,0,1112,null,2122,{"$f":"COUNTIF($L$7:$L$500,N18)","v":1},{"$f":"O18/$Q$4","v":3.0303030303030304E-2},{"$f":"IF(P18=0,0,(P18*((LOG(P18))/LOG(2))))","v":-0.15286042785934709},null,null,{"$f":"N18","v":2122},{"$f":"COUNTIF(L7:L12,T18)","v":1},{"$f":"U18/(W4-U20)","v":0.16666666666666666},{"$f":"IF(V18=0,0,(V18*((LOG(V18))/LOG(2))))","v":-0.43082708345352599},null,{"$f":"N18","v":2122},{"$f":"COUNTIF(L13:L17,Y18)","v":0},{"$f":"Z18/(AB4-Z20)","v":0},{"$f":"IF(AA18=0,0,(AA18*((LOG(AA18))/LOG(2))))","v":0},null,{"$f":"N18","v":2122},{"$f":"COUNTIF(L18:L23,AD18)","v":0},{"$f":"AE18/(AG4-AE20)","v":0},{"$f":"IF(AF18=0,0,(AF18*((LOG(AF18))/LOG(2))))","v":0},null,{"$f":"N18","v":2122},{"$f":"COUNTIF(L24:L29,AI18)","v":0},{"$f":"AJ18/(AL4-AJ20)","v":0},{"$f":"IF(AK18=0,0,(AK18*((LOG(AK18))/LOG(2))))","v":0},null,{"$f":"N18","v":2122},{"$f":"COUNTIF(L30:L34,AN18)","v":0},{"$f":"AO18/(AQ4-AO20)","v":0},{"$f":"IF(AP18=0,0,(AP18*((LOG(AP18))/LOG(2))))","v":0},null,{"$f":"N18","v":2122},{"$f":"COUNTIF(L35:L40,AS18)","v":0},{"$f":"AT18/(AV4-AT20)","v":0},{"$f":"IF(AU18=0,0,(AU18*((LOG(AU18))/LOG(2))))","v":0}]
[12,1607,14,1617,24,1628,23,1633,null,null,0,1122,null,2211,{"$f":"COUNTIF($L$7:$L$500,N19)","v":1},{"$f":"O19/$Q$4","v":3.0303030303030304E-2},{"$f":"IF(P19=0,0,(P19*((LOG(P19))/LOG(2))))","v":-0.15286042785934709},null,null,{"$f":"N19","v":2211},{"$f":"COUNTIF(L7:L12,T19)","v":0},{"$f":"U19/(W4-U20)","v":0},{"$f":"IF(V19=0,0,(V19*((LOG(V19))/LOG(2))))","v":0},null,{"$f":"N19","v":2211},{"$f":"COUNTIF(L13:L17,Y19)","v":0},{"$f":"Z19/(AB4-Z20)","v":0},{"$f":"IF(AA19=0,0,(AA19*((LOG(AA19))/LOG(2))))","v":0},null,{"$f":"N19","v":2211},{"$f":"COUNTIF(L18:L23,AD19)","v":0},{"$f":"AE19/(AG4-AE20)","v":0},{"$f":"IF(AF19=0,0,(AF19*((LOG(AF19))/LOG(2))))","v":0},null,{"$f":"N19","v":2211},{"$f":"COUNTIF(L24:L29,AI19)","v":1},{"$f":"AJ19/(AL4-AJ20)","v":0.16666666666666666},{"$f":"IF(AK19=0,0,(AK19*((LOG(AK19))/LOG(2))))","v":-0.43082708345352599},null,{"$f":"N19","v":2211},{"$f":"COUNTIF(L30:L34,AN19)","v":0},{"$f":"AO19/(AQ4-AO20)","v":0},{"$f":"IF(AP19=0,0,(AP19*((LOG(AP19))/LOG(2))))","v":0},null,{"$f":"N19","v":2211},{"$f":"COUNTIF(L35:L40,AS19)","v":0},{"$f":"AT19/(AV4-AT20)","v":0},{"$f":"IF(AU19=0,0,(AU19*((LOG(AU19))/LOG(2))))","v":0}]
[12,1854,14,1865,13,1869,23,1882,null,null,0,1112,null,2212,{"$f":"COUNTIF($L$7:$L$500,N20)","v":0},{"$f":"O20/$Q$4","v":0},{"$f":"IF(P20=0,0,(P20*((LOG(P20))/LOG(2))))","v":0},null,null,{"$f":"N20","v":2212},{"$f":"COUNTIF(L7:L12,T20)","v":0},null,null,null,{"$f":"N20","v":2212},{"$f":"COUNTIF(L13:L17,Y20)","v":0},null,null,null,{"$f":"N20","v":2212},{"$f":"COUNTIF(L18:L23,AD20)","v":0},null,null,null,{"$f":"N20","v":2212},{"$f":"COUNTIF(L24:L29,AI20)","v":0},null,null,null,{"$f":"N20","v":2212},{"$f":"COUNTIF(L30:L34,AN20)","v":0},null,null,null,{"$f":"N20","v":2212},{"$f":"COUNTIF(L35:L40,AS20)","v":0}]
[12,2013,14,2021,13,2026,14,2031,null,null,0,1111,null,2221,{"$f":"COUNTIF($L$7:$L$500,N21)","v":0},{"$f":"O21/$Q$4","v":0},{"$f":"IF(P21=0,0,(P21*((LOG(P21))/LOG(2))))","v":0},null,null,{"$f":"N21","v":2221},{"$f":"COUNTIF(L7:L12,T21)","v":0},{"$f":"U21/(W4-U20)","v":0},{"$f":"IF(V21=0,0,(V21*((LOG(V21))/LOG(2))))","v":0},null,{"$f":"N21","v":2221},{"$f":"COUNTIF(L13:L17,Y21)","v":0},{"$f":"Z21/(AB4-Z20)","v":0},{"$f":"IF(AA21=0,0,(AA21*((LOG(AA21))/LOG(2))))","v":0},null,{"$f":"N21","v":2221},{"$f":"COUNTIF(L18:L23,AD21)","v":0},{"$f":"AE21/(AG4-AE20)","v":0},{"$f":"IF(AF21=0,0,(AF21*((LOG(AF21))/LOG(2))))","v":0},null,{"$f":"N21","v":2221},{"$f":"COUNTIF(L24:L29,AI21)","v":0},{"$f":"AJ21/(AL4-AJ20)","v":0},{"$f":"IF(AK21=0,0,(AK21*((LOG(AK21))/LOG(2))))","v":0},null,{"$f":"N21","v":2221},{"$f":"COUNTIF(L30:L34,AN21)","v":0},{"$f":"AO21/(AQ4-AO20)","v":0},{"$f":"IF(AP21=0,0,(AP21*((LOG(AP21))/LOG(2))))","v":0},null,{"$f":"N21","v":2221},{"$f":"COUNTIF(L35:L40,AS21)","v":0},{"$f":"AT21/(AV4-AT20)","v":0},{"$f":"IF(AU21=0,0,(AU21*((LOG(AU21))/LOG(2))))","v":0}]
[12,2130,23,2145,24,2153,23,2160,null,null,0,1222,null,2222,{"$f":"COUNTIF($L$7:$L$500,N22)","v":6},{"$f":"O22/$Q$4","v":0.18181818181818182},{"$f":"IF(P22=0,0,(P22*((LOG(P22))/LOG(2))))","v":-0.44716938520678134},null,null,{"$f":"N22","v":2222},{"$f":"COUNTIF(L7:L12,T22)","v":2},{"$f":"U22/(W4-U20)","v":0.33333333333333331},{"$f":"IF(V22=0,0,(V22*((LOG(V22))/LOG(2))))","v":-0.52832083357371862},null,{"$f":"N22","v":2222},{"$f":"COUNTIF(L13:L17,Y22)","v":3},{"$f":"Z22/(AB4-Z20)","v":0.6},{"$f":"IF(AA22=0,0,(AA22*((LOG(AA22))/LOG(2))))","v":-0.44217935649972373},null,{"$f":"N22","v":2222},{"$f":"COUNTIF(L18:L23,AD22)","v":0},{"$f":"AE22/(AG4-AE20)","v":0},{"$f":"IF(AF22=0,0,(AF22*((LOG(AF22))/LOG(2))))","v":0},null,{"$f":"N22","v":2222},{"$f":"COUNTIF(L24:L29,AI22)","v":1},{"$f":"AJ22/(AL4-AJ20)","v":0.16666666666666666},{"$f":"IF(AK22=0,0,(AK22*((LOG(AK22))/LOG(2))))","v":-0.43082708345352599},null,{"$f":"N22","v":2222},{"$f":"COUNTIF(L30:L34,AN22)","v":0},{"$f":"AO22/(AQ4-AO20)","v":0},{"$f":"IF(AP22=0,0,(AP22*((LOG(AP22))/LOG(2))))","v":0},null,{"$f":"N22","v":2222},{"$f":"COUNTIF(L35:L40,AS22)","v":0},{"$f":"AT22/(AV4-AT20)","v":0},{"$f":"IF(AU22=0,0,(AU22*((LOG(AU22))/LOG(2))))","v":0}]
[12,2255,23,2269,24,2274,23,2280,null,null,0,1222,null,null,null,{"$f":"SUM(P7:P22)","v":1},{"$f":"-SUM(Q7:Q22)","v":2.9300172250912611},null,null,null,null,{"$f":"SUM(V7:V22)","v":1},{"$f":"-SUM(W7:W22)","v":1.9182958340544891},null,null,null,{"$f":"SUM(AA7:AA22)","v":1},{"$f":"-SUM(AB7:AB22)","v":0.97095059445466869},null,null,null,{"$f":"SUM(AF7:AF22)","v":1},{"$f":"-SUM(AG7:AG22)","v":1.9182958340544891},null,null,null,{"$f":"SUM(AK7:AK22)","v":0.99999999999999989},{"$f":"-SUM(AL7:AL22)","v":2.2516291673878226},null,null,null,{"$f":"SUM(AP7:AP22)","v":1},{"$f":"-SUM(AQ7:AQ22)","v":1.9219280948873623},null,null,null,{"$f":"SUM(AU7:AU22)","v":1},{"$f":"-SUM(AV7:AV22)","v":1.9219280948873623}]
[21,2404,21,2410,11,2417,12,2422,null,null,0,2211,null,null,null,"U=",{"$f":"Q23/(LOG(Q4)/LOG(2))","v":0.58084621378947709},null,null,null,null,"U1=",{"$f":"W23/(LOG(W4)/LOG(2))","v":0.74209812851030543},null,null,null,"U2=",{"$f":"AB23/(LOG(AB4)/LOG(2))","v":0.41816566007905159},null,null,null,"U3=",{"$f":"AG23/(LOG(AG4)/LOG(2))","v":0.74209812851030543},null,null,null,"U4=",{"$f":"AL23/(LOG(AL4)/LOG(2))","v":0.87104906425515272},null,null,null,"U5=",{"$f":"AQ23/(LOG(AQ4)/LOG(2))","v":0.82772937677064262},null,null,null,"U6=",{"$f":"AV23/(LOG(AV4)/LOG(2))","v":0.82772937677064262}]
[12,2532,23,2541,24,2546,23,2556,null,null,0,1222]
[21,2710,21,2715,22,2718,23,2723,null,null,0,2222]
[12,2857,14,2869,24,2878,23,2886,null,null,0,1122,null,"Total Target Seq"]
[12,3084,14,3088,24,3095,23,3100,null,null,0,1122,null,{"$f":"COUNTIF(L7:L40,G3)","v":0},null,6,5,6,6,5,6]
[12,3702,23,3711,24,3721,14,3733,null,null,0,1221,null,null,null,"% of reinforcement given in 6 equal intervals based on number of trials "]
[12,5210,14,5217,24,5227,23,5230,null,null,0,1122,null,null,null,"%_1","%_2","%_3","%_4","%_5","%_6"]
[12,5716,23,5729,24,5736,14,5754,null,null,0,1221,null,null,"target sequence",{"$f":"$G$3","v":2212},{"$f":"$G$3","v":2212},{"$f":"$G$3","v":2212},{"$f":"$G$3","v":2212},{"$f":"$G$3","v":2212},{"$f":"$G$3","v":2212}]
[12,5858,23,5865,24,5869,23,5883,null,null,0,1222,null,null,"total reinforcement",{"$f":"U20","v":0},{"$f":"Z20","v":0},{"$f":"AE20","v":0},{"$f":"AJ20","v":0},{"$f":"AO20","v":0},{"$f":"AT20","v":0}]
[12,6108,23,6135,24,6140,23,6146,null,null,0,1222,null,null,"% target"]
[12,6774,23,6792,13,6806,14,6811,null,null,0,1211,null,null,"CCRF"]
[12,7446,14,7904,13,9669,23,9897,null,null,0,1112,null,null,"% CCRf"]
[12,10768,23,10777,24,10782,14,10795,null,null,0,1221,null,null,"average response rate",{"$f":"H12/P28","v":115.16666666666667},{"$f":"(H17-H12)/Q28","v":136.4},{"$f":"(H23-H17)/R28","v":151.16666666666666},{"$f":"(H29-H23)/S28","v":242.16666666666666},{"$f":"(H34-H29)/T28","v":615.6},{"$f":"(H40-H34)/U28","v":-1135.1666666666667}]
[12,13016,23,15482,24,15485,23,15491,null,null,0,1222]
[12,19430,23,19452,24,19468,14,19475,null,null,0,1221]
[21,20391,12,20478,24,20491,14,20504,null,null,0,2121]
[12,23955,null,null,null,null,null,null,null,null,null,1]

{"sheet":"!LB22A44..Is","index":15,"n_rows":99,"n_cols":48,"rows_kept":99,"cut":false,"hidden":false,"merged":[[4,39,4,42],[5,39,5,40],[4,44,4,47],[5,44,5,45],[4,24,4,27],[5,24,5,25],[4,29,4,32],[5,29,5,30],[4,34,4,37],[5,34,5,35],[1,1,1,2],[5,13,5,14],[26,13,26,14],[27,13,27,14],[4,19,4,22],[5,19,5,20]]}
["Report for:!LB22A44..Is"]
["Date:","<date>"]
["Hen:","<hen>",null,null,null,"Correct Sequence",{"$f":"Start!J2","v":2212},null,null,null,null,null,null,null,null,"Total Sequences in Data",{"$f":"4994-COUNTBLANK(L7:L5000)","v":93},null,null,null,null,"Total Sequences in Block Data",{"$f":"COUNTA(L7:L22)","v":16},null,null,null,"Total Sequences in Block Data",{"$f":"COUNTA(L23:L37)","v":15},null,null,null,"Total Sequences in Block Data",{"$f":"COUNTA(L38:L53)","v":16},null,null,null,"Total Sequences in Block Data",{"$f":"COUNTA(L54:L68)","v":15},null,null,null,"Total Sequences in Block Data",{"$f":"COUNTA(L69:L84)","v":16},null,null,null,"Total Sequences in Block Data",{"$f":"COUNTA(L85:L99)","v":15}]
[null,null,null,null,null,null,null,null,null,null,null,null,null,null,null,"Total Sequences in Summary",{"$f":"SUM(O7:O22)","v":93},null,null,null,null,"Total Sequences in Block Summary",{"$f":"SUM(U7:U22)","v":16},null,null,null,"Total Sequences in Block Summary",{"$f":"SUM(Z7:Z22)","v":15},null,null,null,"Total Sequences in Block Summary",{"$f":"SUM(AE7:AE22)","v":16},null,null,null,"Total Sequences in Block Summary",{"$f":"SUM(AJ7:AJ22)","v":15},null,null,null,"Total Sequences in Block Summary",{"$f":"SUM(AO7:AO22)","v":16},null,null,null,"Total Sequences in Block Summary",{"$f":"SUM(AT7:AT22)","v":15}]
[null,null,null,null,null,null,null,null,null,null,null,null,null,null,null,null,null,null,null,"Block 1",null,null,null,null,"Block 2",null,null,null,null,"Block 3",null,null,null,null,"Block 4",null,null,null,null,"Block 5",null,null,null,null,"Block 6"]
["Sequence\nComponent\n1","Time\n1","Sequence\nComponent\n2","Time\n2","Sequence\nComponent\n3","Time\n3","Sequence\nComponent\n4","Time\n4","Sequence\nComponent\n5","Time\n5","Correct?\n0=No 1=Yes","Sequence",null,"Frequency",null,"Relative Frequency","Variability",null,null,"Frequency",null,"Relative Frequency","Variability",null,"Frequency",null,"Relative Frequency","Variability",null,"Frequency",null,"Relative Frequency","Variability",null,"Frequency",null,"Relative Frequency","Variability",null,"Frequency",null,"Relative Frequency","Variability",null,"Frequency",null,"Relative Frequency","Variability"]
[12,19,23,51,24,61,23,66,null,null,0,1222,null,1111,{"$f":"COUNTIF($L$7:$L$500,N7)","v":0},{"$f":"O7/$Q$4","v":0},{"$f":"IF(P7=0,0,(P7*((LOG(P7))/LOG(2))))","v":0},null,null,{"$f":"N7","v":1111},{"$f":"COUNTIF(L7:L22,T7)","v":0},{"$f":"U7/(W4-U20)","v":0},{"$f":"IF(V7=0,0,(V7*((LOG(V7))/LOG(2))))","v":0},null,{"$f":"N7","v":1111},{"$f":"COUNTIF(L23:L37,Y7)","v":0},{"$f":"Z7/(AB4-Z20)","v":0},{"$f":"IF(AA7=0,0,(AA7*((LOG(AA7))/LOG(2))))","v":0},null,{"$f":"N7","v":1111},{"$f":"COUNTIF(L38:L53,AD7)","v":0},{"$f":"AE7/(AG4-AE20)","v":0},{"$f":"IF(AF7=0,0,(AF7*((LOG(AF7))/LOG(2))))","v":0},null,{"$f":"N7","v":1111},{"$f":"COUNTIF(L54:L68,AI7)","v":0},{"$f":"AJ7/(AL4-AJ20)","v":0},{"$f":"IF(AK7=0,0,(AK7*((LOG(AK7))/LOG(2))))","v":0},null,{"$f":"N7","v":1111},{"$f":"COUNTIF(L69:L84,AN7)","v":0},{"$f":"AO7/(AQ4-AO20)","v":0},{"$f":"IF(AP7=0,0,(AP7*((LOG(AP7))/LOG(2))))","v":0},null,{"$f":"N7","v":1111},{"$f":"COUNTIF(L85:L99,AS7)","v":0},{"$f":"AT7/(AV4-AT20)","v":0},{"$f":"IF(AU7=0,0,(AU7*((LOG(AU7))/LOG(2))))","v":0}]
[21,179,21,204,22,209,23,218,null,null,0,2222,null,1112,{"$f":"COUNTIF($L$7:$L$500,N8)","v":3},{"$f":"O8/$Q$4","v":3.2258064516129031E-2},{"$f":"IF(P8=0,0,(P8*((LOG(P8))/LOG(2))))","v":-0.15981278420602821},null,null,{"$f":"N8","v":1112},{"$f":"COUNTIF(L7:L22,T8)","v":2},{"$f":"U8/(W4-U20)","v":0.125},{"$f":"IF(V8=0,0,(V8*((LOG(V8))/LOG(2))))","v":-0.375},null,{"$f":"N8","v":1112},{"$f":"COUNTIF(L23:L37,Y8)","v":0},{"$f":"Z8/(AB4-Z20)","v":0},{"$f":"IF(AA8=0,0,(AA8*((LOG(AA8))/LOG(2))))","v":0},null,{"$f":"N8","v":1112},{"$f":"COUNTIF(L38:L53,AD8)","v":1},{"$f":"AE8/(AG4-AE20)","v":7.1428571428571425E-2},{"$f":"IF(AF8=0,0,(AF8*((LOG(AF8))/LOG(2))))","v":-0.27195392300411453},null,{"$f":"N8","v":1112},{"$f":"COUNTIF(L54:L68,AI8)","v":0},{"$f":"AJ8/(AL4-AJ20)","v":0},{"$f":"IF(AK8=0,0,(AK8*((LOG(AK8))/LOG(2))))","v":0},null,{"$f":"N8","v":1112},{"$f":"COUNTIF(L69:L84,AN8)","v":0},{"$f":"AO8/(AQ4-AO20)","v":0},{"$f":"IF(AP8=0,0,(AP8*((LOG(AP8))/LOG(2))))","v":0},null,{"$f":"N8","v":1112},{"$f":"COUNTIF(L85:L99,AS8)","v":0},{"$f":"AT8/(AV4-AT20)","v":0},{"$f":"IF(AU8=0,0,(AU8*((LOG(AU8))/LOG(2))))","v":0}]
[12,323,14,327,13,331,23,340,null,null,0,1112,null,1121,{"$f":"COUNTIF($L$7:$L$500,N9)","v":1},{"$f":"O9/$Q$4","v":1.0752688172043012E-2},{"$f":"IF(P9=0,0,(P9*((LOG(P9))/LOG(2))))","v":-7.0313535603312161E-2},null,null,{"$f":"N9","v":1121},{"$f":"COUNTIF(L7:L22,T9)","v":0},{"$f":"U9/(W4-U20)","v":0},{"$f":"IF(V9=0,0,(V9*((LOG(V9))/LOG(2))))","v":0},null,{"$f":"N9","v":1121},{"$f":"COUNTIF(L23:L37,Y9)","v":0},{"$f":"Z9/(AB4-Z20)","v":0},{"$f":"IF(AA9=0,0,(AA9*((LOG(AA9))/LOG(2))))","v":0},null,{"$f":"N9","v":1121},{"$f":"COUNTIF(L38:L53,AD9)","v":1},{"$f":"AE9/(AG4-AE20)","v":7.1428571428571425E-2},{"$f":"IF(AF9=0,0,(AF9*((LOG(AF9))/LOG(2))))","v":-0.27195392300411453},null,{"$f":"N9","v":1121},{"$f":"COUNTIF(L54:L68,AI9)","v":0},{"$f":"AJ9/(AL4-AJ20)","v":0},{"$f":"IF(AK9=0,0,(AK9*((LOG(AK9))/LOG(2))))","v":0},null,{"$f":"N9","v":1121},{"$f":"COUNTIF(L69:L84,AN9)","v":0},{"$f":"AO9/(AQ4-AO20)","v":0},{"$f":"IF(AP9=0,0,(AP9*((LOG(AP9))/LOG(2))))","v":0},null,{"$f":"N9","v":1121},{"$f":"COUNTIF(L85:L99,AS9)","v":0},{"$f":"AT9/(AV4-AT20)","v":0},{"$f":"IF(AU9=0,0,(AU9*((LOG(AU9))/LOG(2))))","v":0}]
[21,440,21,449,22,454,14,465,null,null,0,2221,null,1122,{"$f":"COUNTIF($L$7:$L$500,N10)","v":13},{"$f":"O10/$Q$4","v":0.13978494623655913},{"$f":"IF(P10=0,0,(P10*((LOG(P10))/LOG(2))))","v":-0.39681019579107751},null,null,{"$f":"N10","v":1122},{"$f":"COUNTIF(L7:L22,T10)","v":1},{"$f":"U10/(W4-U20)","v":6.25E-2},{"$f":"IF(V10=0,0,(V10*((LOG(V10))/LOG(2))))","v":-0.25},null,{"$f":"N10","v":1122},{"$f":"COUNTIF(L23:L37,Y10)","v":1},{"$f":"Z10/(AB4-Z20)","v":6.6666666666666666E-2},{"$f":"IF(AA10=0,0,(AA10*((LOG(AA10))/LOG(2))))","v":-0.26045937304056793},null,{"$f":"N10","v":1122},{"$f":"COUNTIF(L38:L53,AD10)","v":2},{"$f":"AE10/(AG4-AE20)","v":0.14285714285714285},{"$f":"IF(AF10=0,0,(AF10*((LOG(AF10))/LOG(2))))","v":-0.40105070315108626},null,{"$f":"N10","v":1122},{"$f":"COUNTIF(L54:L68,AI10)","v":5},{"$f":"AJ10/(AL4-AJ20)","v":0.33333333333333331},{"$f":"IF(AK10=0,0,(AK10*((LOG(AK10))/LOG(2))))","v":-0.52832083357371862},null,{"$f":"N10","v":1122},{"$f":"COUNTIF(L69:L84,AN10)","v":3},{"$f":"AO10/(AQ4-AO20)","v":0.21428571428571427},{"$f":"IF(AP10=0,0,(AP10*((LOG(AP10))/LOG(2))))","v":-0.47622694742923877},null,{"$f":"N10","v":1122},{"$f":"COUNTIF(L85:L99,AS10)","v":1},{"$f":"AT10/(AV4-AT20)","v":7.1428571428571425E-2},{"$f":"IF(AU10=0,0,(AU10*((LOG(AU10))/LOG(2))))","v":-0.27195392300411453}]
[21,570,21,573,22,587,23,590,null,null,0,2222,null,1211,{"$f":"COUNTIF($L$7:$L$500,N11)","v":0},{"$f":"O11/$Q$4","v":0},{"$f":"IF(P11=0,0,(P11*((LOG(P11))/LOG(2))))","v":0},null,null,{"$f":"N11","v":1211},{"$f":"COUNTIF(L7:L22,T11)","v":0},{"$f":"U11/(W4-U20)","v":0},{"$f":"IF(V11=0,0,(V11*((LOG(V11))/LOG(2))))","v":0},null,{"$f":"N11","v":1211},{"$f":"COUNTIF(L23:L37,Y11)","v":0},{"$f":"Z11/(AB4-Z20)","v":0},{"$f":"IF(AA11=0,0,(AA11*((LOG(AA11))/LOG(2))))","v":0},null,{"$f":"N11","v":1211},{"$f":"COUNTIF(L38:L53,AD11)","v":0},{"$f":"AE11/(AG4-AE20)","v":0},{"$f":"IF(AF11=0,0,(AF11*((LOG(AF11))/LOG(2))))","v":0},null,{"$f":"N11","v":1211},{"$f":"COUNTIF(L54:L68,AI11)","v":0},{"$f":"AJ11/(AL4-AJ20)","v":0},{"$f":"IF(AK11=0,0,(AK11*((LOG(AK11))/LOG(2))))","v":0},null,{"$f":"N11","v":1211},{"$f":"COUNTIF(L69:L84,AN11)","v":0},{"$f":"AO11/(AQ4-AO20)","v":0},{"$f":"IF(AP11=0,0,(AP11*((LOG(AP11))/LOG(2))))","v":0},null,{"$f":"N11","v":1211},{"$f":"COUNTIF(L85:L99,AS11)","v":0},{"$f":"AT11/(AV4-AT20)","v":0},{"$f":"IF(AU11=0,0,(AU11*((LOG(AU11))/LOG(2))))","v":0}]
[21,699,21,702,22,707,23,712,null,null,0,2222,null,1212,{"$f":"COUNTIF($L$7:$L$500,N12)","v":1},{"$f":"O12/$Q$4","v":1.0752688172043012E-2},{"$f":"IF(P12=0,0,(P12*((LOG(P12))/LOG(2))))","v":-7.0313535603312161E-2},null,null,{"$f":"N12","v":1212},{"$f":"COUNTIF(L7:L22,T12)","v":0},{"$f":"U12/(W4-U20)","v":0},{"$f":"IF(V12=0,0,(V12*((LOG(V12))/LOG(2))))","v":0},null,{"$f":"N12","v":1212},{"$f":"COUNTIF(L23:L37,Y12)","v":0},{"$f":"Z12/(AB4-Z20)","v":0},{"$f":"IF(AA12=0,0,(AA12*((LOG(AA12))/LOG(2))))","v":0},null,{"$f":"N12","v":1212},{"$f":"COUNTIF(L38:L53,AD12)","v":1},{"$f":"AE12/(AG4-AE20)","v":7.1428571428571425E-2},{"$f":"IF(AF12=0,0,(AF12*((LOG(AF12))/LOG(2))))","v":-0.27195392300411453},null,{"$f":"N12","v":1212},{"$f":"COUNTIF(L54:L68,AI12)","v":0},{"$f":"AJ12/(AL4-AJ20)","v":0},{"$f":"IF(AK12=0,0,(AK12*((LOG(AK12))/LOG(2))))","v":0},null,{"$f":"N12","v":1212},{"$f":"COUNTIF(L69:L84,AN12)","v":0},{"$f":"AO12/(AQ4-AO20)","v":0},{"$f":"IF(AP12=0,0,(AP12*((LOG(AP12))/LOG(2))))","v":0},null,{"$f":"N12","v":1212},{"$f":"COUNTIF(L85:L99,AS12)","v":0},{"$f":"AT12/(AV4-AT20)","v":0},{"$f":"IF(AU12=0,0,(AU12*((LOG(AU12))/LOG(2))))","v":0}]
[21,813,12,825,24,840,23,844,null,null,0,2122,null,1221,{"$f":"COUNTIF($L$7:$L$500,N13)","v":1},{"$f":"O13/$Q$4","v":1.0752688172043012E-2},{"$f":"IF(P13=0,0,(P13*((LOG(P13))/LOG(2))))","v":-7.0313535603312161E-2},null,null,{"$f":"N13","v":1221},{"$f":"COUNTIF(L7:L22,T13)","v":0},{"$f":"U13/(W4-U20)","v":0},{"$f":"IF(V13=0,0,(V13*((LOG(V13))/LOG(2))))","v":0},null,{"$f":"N13","v":1221},{"$f":"COUNTIF(L23:L37,Y13)","v":0},{"$f":"Z13/(AB4-Z20)","v":0},{"$f":"IF(AA13=0,0,(AA13*((LOG(AA13))/LOG(2))))","v":0},null,{"$f":"N13","v":1221},{"$f":"COUNTIF(L38:L53,AD13)","v":1},{"$f":"AE13/(AG4-AE20)","v":7.1428571428571425E-2},{"$f":"IF(AF13=0,0,(AF13*((LOG(AF13))/LOG(2))))","v":-0.27195392300411453},null,{"$f":"N13","v":1221},{"$f":"COUNTIF(L54:L68,AI13)","v":0},{"$f":"AJ13/(AL4-AJ20)","v":0},{"$f":"IF(AK13=0,0,(AK13*((LOG(AK13))/LOG(2))))","v":0},null,{"$f":"N13","v":1221},{"$f":"COUNTIF(L69:L84,AN13)","v":0},{"$f":"AO13/(AQ4-AO20)","v":0},{"$f":"IF(AP13=0,0,(AP13*((LOG(AP13))/LOG(2))))","v":0},null,{"$f":"N13","v":1221},{"$f":"COUNTIF(L85:L99,AS13)","v":0},{"$f":"AT13/(AV4-AT20)","v":0},{"$f":"IF(AU13=0,0,(AU13*((LOG(AU13))/LOG(2))))","v":0}]
[21,940,21,945,22,955,14,968,null,null,0,2221,null,1222,{"$f":"COUNTIF($L$7:$L$500,N14)","v":28},{"$f":"O14/$Q$4","v":0.30107526881720431},{"$f":"IF(P14=0,0,(P14*((LOG(P14))/LOG(2))))","v":-0.52140332143453727},null,null,{"$f":"N14","v":1222},{"$f":"COUNTIF(L7:L22,T14)","v":5},{"$f":"U14/(W4-U20)","v":0.3125},{"$f":"IF(V14=0,0,(V14*((LOG(V14))/LOG(2))))","v":-0.52439747034769923},null,{"$f":"N14","v":1222},{"$f":"COUNTIF(L23:L37,Y14)","v":5},{"$f":"Z14/(AB4-Z20)","v":0.33333333333333331},{"$f":"IF(AA14=0,0,(AA14*((LOG(AA14))/LOG(2))))","v":-0.52832083357371862},null,{"$f":"N14","v":1222},{"$f":"COUNTIF(L38:L53,AD14)","v":6},{"$f":"AE14/(AG4-AE20)","v":0.42857142857142855},{"$f":"IF(AF14=0,0,(AF14*((LOG(AF14))/LOG(2))))","v":-0.52388246628704915},null,{"$f":"N14","v":1222},{"$f":"COUNTIF(L54:L68,AI14)","v":3},{"$f":"AJ14/(AL4-AJ20)","v":0.2},{"$f":"IF(AK14=0,0,(AK14*((LOG(AK14))/LOG(2))))","v":-0.46438561897747244},null,{"$f":"N14","v":1222},{"$f":"COUNTIF(L69:L84,AN14)","v":6},{"$f":"AO14/(AQ4-AO20)","v":0.42857142857142855},{"$f":"IF(AP14=0,0,(AP14*((LOG(AP14))/LOG(2))))","v":-0.52388246628704915},null,{"$f":"N14","v":1222},{"$f":"COUNTIF(L85:L99,AS14)","v":3},{"$f":"AT14/(AV4-AT20)","v":0.21428571428571427},{"$f":"IF(AU14=0,0,(AU14*((LOG(AU14))/LOG(2))))","v":-0.47622694742923877}]
[12,1091,23,1102,24,1105,23,1110,null,null,0,1222,null,2111,{"$f":"COUNTIF($L$7:$L$500,N15)","v":0},{"$f":"O15/$Q$4","v":0},{"$f":"IF(P15=0,0,(P15*((LOG(P15))/LOG(2))))","v":0},null,null,{"$f":"N15","v":2111},{"$f":"COUNTIF(L7:L22,T15)","v":0},{"$f":"U15/(W4-U20)","v":0},{"$f":"IF(V15=0,0,(V15*((LOG(V15))/LOG(2))))","v":0},null,{"$f":"N15","v":2111},{"$f":"COUNTIF(L23:L37,Y15)","v":0},{"$f":"Z15/(AB4-Z20)","v":0},{"$f":"IF(AA15=0,0,(AA15*((LOG(AA15))/LOG(2))))","v":0},null,{"$f":"N15","v":2111},{"$f":"COUNTIF(L38:L53,AD15)","v":0},{"$f":"AE15/(AG4-AE20)","v":0},{"$f":"IF(AF15=0,0,(AF15*((LOG(AF15))/LOG(2))))","v":0},null,{"$f":"N15","v":2111},{"$f":"COUNTIF(L54:L68,AI15)","v":0},{"$f":"AJ15/(AL4-AJ20)","v":0},{"$f":"IF(AK15=0,0,(AK15*((LOG(AK15))/LOG(2))))","v":0},null,{"$f":"N15","v":2111},{"$f":"COUNTIF(L69:L84,AN15)","v":0},{"$f":"AO15/(AQ4-AO20)","v":0},{"$f":"IF(AP15=0,0,(AP15*((LOG(AP15))/LOG(2))))","v":0},null,{"$f":"N15","v":2111},{"$f":"COUNTIF(L85:L99,AS15)","v":0},{"$f":"AT15/(AV4-AT20)","v":0},{"$f":"IF(AU15=0,0,(AU15*((LOG(AU15))/LOG(2))))","v":0}]
[12,1209,23,1215,24,1219,23,1224,null,null,0,1222,null,2112,{"$f":"COUNTIF($L$7:$L$500,N16)","v":4},{"$f":"O16/$Q$4","v":4.3010752688172046E-2},{"$f":"IF(P16=0,0,(P16*((LOG(P16))/LOG(2))))","v":-0.19523263703690458},null,null,{"$f":"N16","v":2112},{"$f":"COUNTIF(L7:L22,T16)","v":0},{"$f":"U16/(W4-U20)","v":0},{"$f":"IF(V16=0,0,(V16*((LOG(V16))/LOG(2))))","v":0},null,{"$f":"N16","v":2112},{"$f":"COUNTIF(L23:L37,Y16)","v":2},{"$f":"Z16/(AB4-Z20)","v":0.13333333333333333},{"$f":"IF(AA16=0,0,(AA16*((LOG(AA16))/LOG(2))))","v":-0.3875854127478025},null,{"$f":"N16","v":2112},{"$f":"COUNTIF(L38:L53,AD16)","v":0},{"$f":"AE16/(AG4-AE20)","v":0},{"$f":"IF(AF16=0,0,(AF16*((LOG(AF16))/LOG(2))))","v":0},null,{"$f":"N16","v":2112},{"$f":"COUNTIF(L54:L68,AI16)","v":0},{"$f":"AJ16/(AL4-AJ20)","v":0},{"$f":"IF(AK16=0,0,(AK16*((LOG(AK16))/LOG(2))))","v":0},null,{"$f":"N16","v":2112},{"$f":"COUNTIF(L69:L84,AN16)","v":1},{"$f":"AO16/(AQ4-AO20)","v":7.1428571428571425E-2},{"$f":"IF(AP16=0,0,(AP16*((LOG(AP16))/LOG(2))))","v":-0.27195392300411453},null,{"$f":"N16","v":2112},{"$f":"COUNTIF(L85:L99,AS16)","v":1},{"$f":"AT16/(AV4-AT20)","v":7.1428571428571425E-2},{"$f":"IF(AU16=0,0,(AU16*((LOG(AU16))/LOG(2))))","v":-0.27195392300411453}]
[12,1328,14,1333,24,1340,23,1346,null,null,0,1122,null,2121,{"$f":"COUNTIF($L$7:$L$500,N17)","v":0},{"$f":"O17/$Q$4","v":0},{"$f":"IF(P17=0,0,(P17*((LOG(P17))/LOG(2))))","v":0},null,null,{"$f":"N17","v":2121},{"$f":"COUNTIF(L7:L22,T17)","v":0},{"$f":"U17/(W4-U20)","v":0},{"$f":"IF(V17=0,0,(V17*((LOG(V17))/LOG(2))))","v":0},null,{"$f":"N17","v":2121},{"$f":"COUNTIF(L23:L37,Y17)","v":0},{"$f":"Z17/(AB4-Z20)","v":0},{"$f":"IF(AA17=0,0,(AA17*((LOG(AA17))/LOG(2))))","v":0},null,{"$f":"N17","v":2121},{"$f":"COUNTIF(L38:L53,AD17)","v":0},{"$f":"AE17/(AG4-AE20)","v":0},{"$f":"IF(AF17=0,0,(AF17*((LOG(AF17))/LOG(2))))","v":0},null,{"$f":"N17","v":2121},{"$f":"COUNTIF(L54:L68,AI17)","v":0},{"$f":"AJ17/(AL4-AJ20)","v":0},{"$f":"IF(AK17=0,0,(AK17*((LOG(AK17))/LOG(2))))","v":0},null,{"$f":"N17","v":2121},{"$f":"COUNTIF(L69:L84,AN17)","v":0},{"$f":"AO17/(AQ4-AO20)","v":0},{"$f":"IF(AP17=0,0,(AP17*((LOG(AP17))/LOG(2))))","v":0},null,{"$f":"N17","v":2121},{"$f":"COUNTIF(L85:L99,AS17)","v":0},{"$f":"AT17/(AV4-AT20)","v":0},{"$f":"IF(AU17=0,0,(AU17*((LOG(AU17))/LOG(2))))","v":0}]
[12,1443,23,1454,24,1458,23,1461,null,null,0,1222,null,2122,{"$f":"COUNTIF($L$7:$L$500,N18)","v":7},{"$f":"O18/$Q$4","v":7.5268817204301078E-2},{"$f":"IF(P18=0,0,(P18*((LOG(P18))/LOG(2))))","v":-0.28088846476723645},null,null,{"$f":"N18","v":2122},{"$f":"COUNTIF(L7:L22,T18)","v":2},{"$f":"U18/(W4-U20)","v":0.125},{"$f":"IF(V18=0,0,(V18*((LOG(V18))/LOG(2))))","v":-0.375},null,{"$f":"N18","v":2122},{"$f":"COUNTIF(L23:L37,Y18)","v":0},{"$f":"Z18/(AB4-Z20)","v":0},{"$f":"IF(AA18=0,0,(AA18*((LOG(AA18))/LOG(2))))","v":0},null,{"$f":"N18","v":2122},{"$f":"COUNTIF(L38:L53,AD18)","v":1},{"$f":"AE18/(AG4-AE20)","v":7.1428571428571425E-2},{"$f":"IF(AF18=0,0,(AF18*((LOG(AF18))/LOG(2))))","v":-0.27195392300411453},null,{"$f":"N18","v":2122},{"$f":"COUNTIF(L54:L68,AI18)","v":0},{"$f":"AJ18/(AL4-AJ20)","v":0},{"$f":"IF(AK18=0,0,(AK18*((LOG(AK18))/LOG(2))))","v":0},null,{"$f":"N18","v":2122},{"$f":"COUNTIF(L69:L84,AN18)","v":1},{"$f":"AO18/(AQ4-AO20)","v":7.1428571428571425E-2},{"$f":"IF(AP18=0,0,(AP18*((LOG(AP18))/LOG(2))))","v":-0.27195392300411453},null,{"$f":"N18","v":2122},{"$f":"COUNTIF(L85:L99,AS18)","v":3},{"$f":"AT18/(AV4-AT20)","v":0.21428571428571427},{"$f":"IF(AU18=0,0,(AU18*((LOG(AU18))/LOG(2))))","v":-0.47622694742923877}]
[21,1563,21,1568,11,1582,12,1589,null,null,0,2211,null,2211,{"$f":"COUNTIF($L$7:$L$500,N19)","v":2},{"$f":"O19/$Q$4","v":2.1505376344086023E-2},{"$f":"IF(P19=0,0,(P19*((LOG(P19))/LOG(2))))","v":-0.11912169486253833},null,null,{"$f":"N19","v":2211},{"$f":"COUNTIF(L7:L22,T19)","v":1},{"$f":"U19/(W4-U20)","v":6.25E-2},{"$f":"IF(V19=0,0,(V19*((LOG(V19))/LOG(2))))","v":-0.25},null,{"$f":"N19","v":2211},{"$f":"COUNTIF(L23:L37,Y19)","v":1},{"$f":"Z19/(AB4-Z20)","v":6.6666666666666666E-2},{"$f":"IF(AA19=0,0,(AA19*((LOG(AA19))/LOG(2))))","v":-0.26045937304056793},null,{"$f":"N19","v":2211},{"$f":"COUNTIF(L38:L53,AD19)","v":0},{"$f":"AE19/(AG4-AE20)","v":0},{"$f":"IF(AF19=0,0,(AF19*((LOG(AF19))/LOG(2))))","v":0},null,{"$f":"N19","v":2211},{"$f":"COUNTIF(L54:L68,AI19)","v":0},{"$f":"AJ19/(AL4-AJ20)","v":0},{"$f":"IF(AK19=0,0,(AK19*((LOG(AK19))/LOG(2))))","v":0},null,{"$f":"N19","v":2211},{"$f":"COUNTIF(L69:L84,AN19)","v":0},{"$f":"AO19/(AQ4-AO20)","v":0},{"$f":"IF(AP19=0,0,(AP19*((LOG(AP19))/LOG(2))))","v":0},null,{"$f":"N19","v":2211},{"$f":"COUNTIF(L85:L99,AS19)","v":0},{"$f":"AT19/(AV4-AT20)","v":0},{"$f":"IF(AU19=0,0,(AU19*((LOG(AU19))/LOG(2))))","v":0}]
[12,1686,14,1689,13,1693,23,1700,null,null,0,1112,null,2212,{"$f":"COUNTIF($L$7:$L$500,N20)","v":5},{"$f":"O20/$Q$4","v":5.3763440860215055E-2},{"$f":"IF(P20=0,0,(P20*((LOG(P20))/LOG(2))))","v":-0.22673283420541232},null,null,{"$f":"N20","v":2212},{"$f":"COUNTIF(L7:L22,T20)","v":0},null,null,null,{"$f":"N20","v":2212},{"$f":"COUNTIF(L23:L37,Y20)","v":0},null,null,null,{"$f":"N20","v":2212},{"$f":"COUNTIF(L38:L53,AD20)","v":2},null,null,null,{"$f":"N20","v":2212},{"$f":"COUNTIF(L54:L68,AI20)","v":0},null,null,null,{"$f":"N20","v":2212},{"$f":"COUNTIF(L69:L84,AN20)","v":2},null,null,null,{"$f":"N20","v":2212},{"$f":"COUNTIF(L85:L99,AS20)","v":1}]
[12,1822,23,1832,24,1836,23,1841,null,null,0,1222,null,2221,{"$f":"COUNTIF($L$7:$L$500,N21)","v":5},{"$f":"O21/$Q$4","v":5.3763440860215055E-2},{"$f":"IF(P21=0,0,(P21*((LOG(P21))/LOG(2))))","v":-0.22673283420541232},null,null,{"$f":"N21","v":2221},{"$f":"COUNTIF(L7:L22,T21)","v":2},{"$f":"U21/(W4-U20)","v":0.125},{"$f":"IF(V21=0,0,(V21*((LOG(V21))/LOG(2))))","v":-0.375},null,{"$f":"N21","v":2221},{"$f":"COUNTIF(L23:L37,Y21)","v":0},{"$f":"Z21/(AB4-Z20)","v":0},{"$f":"IF(AA21=0,0,(AA21*((LOG(AA21))/LOG(2))))","v":0},null,{"$f":"N21","v":2221},{"$f":"COUNTIF(L38:L53,AD21)","v":0},{"$f":"AE21/(AG4-AE20)","v":0},{"$f":"IF(AF21=0,0,(AF21*((LOG(AF21))/LOG(2))))","v":0},null,{"$f":"N21","v":2221},{"$f":"COUNTIF(L54:L68,AI21)","v":1},{"$f":"AJ21/(AL4-AJ20)","v":6.6666666666666666E-2},{"$f":"IF(AK21=0,0,(AK21*((LOG(AK21))/LOG(2))))","v":-0.26045937304056793},null,{"$f":"N21","v":2221},{"$f":"COUNTIF(L69:L84,AN21)","v":1},{"$f":"AO21/(AQ4-AO20)","v":7.1428571428571425E-2},{"$f":"IF(AP21=0,0,(AP21*((LOG(AP21))/LOG(2))))","v":-0.27195392300411453},null,{"$f":"N21","v":2221},{"$f":"COUNTIF(L85:L99,AS21)","v":1},{"$f":"AT21/(AV4-AT20)","v":7.1428571428571425E-2},{"$f":"IF(AU21=0,0,(AU21*((LOG(AU21))/LOG(2))))","v":-0.27195392300411453}]
[21,1957,12,1967,24,1980,23,1988,null,null,0,2122,null,2222,{"$f":"COUNTIF($L$7:$L$500,N22)","v":23},{"$f":"O22/$Q$4","v":0.24731182795698925},{"$f":"IF(P22=0,0,(P22*((LOG(P22))/LOG(2))))","v":-0.49848094264702614},null,null,{"$f":"N22","v":2222},{"$f":"COUNTIF(L7:L22,T22)","v":3},{"$f":"U22/(W4-U20)","v":0.1875},{"$f":"IF(V22=0,0,(V22*((LOG(V22))/LOG(2))))","v":-0.45281953111478312},null,{"$f":"N22","v":2222},{"$f":"COUNTIF(L23:L37,Y22)","v":6},{"$f":"Z22/(AB4-Z20)","v":0.4},{"$f":"IF(AA22=0,0,(AA22*((LOG(AA22))/LOG(2))))","v":-0.52877123795494496},null,{"$f":"N22","v":2222},{"$f":"COUNTIF(L38:L53,AD22)","v":1},{"$f":"AE22/(AG4-AE20)","v":7.1428571428571425E-2},{"$f":"IF(AF22=0,0,(AF22*((LOG(AF22))/LOG(2))))","v":-0.27195392300411453},null,{"$f":"N22","v":2222},{"$f":"COUNTIF(L54:L68,AI22)","v":6},{"$f":"AJ22/(AL4-AJ20)","v":0.4},{"$f":"IF(AK22=0,0,(AK22*((LOG(AK22))/LOG(2))))","v":-0.52877123795494496},null,{"$f":"N22","v":2222},{"$f":"COUNTIF(L69:L84,AN22)","v":2},{"$f":"AO22/(AQ4-AO20)","v":0.14285714285714285},{"$f":"IF(AP22=0,0,(AP22*((LOG(AP22))/LOG(2))))","v":-0.40105070315108626},null,{"$f":"N22","v":2222},{"$f":"COUNTIF(L85:L99,AS22)","v":5},{"$f":"AT22/(AV4-AT20)","v":0.35714285714285715},{"$f":"IF(AU22=0,0,(AU22*((LOG(AU22))/LOG(2))))","v":-0.53050958113222924}]
[12,2103,23,2110,24,2114,23,2118,null,null,0,1222,null,null,null,{"$f":"SUM(P7:P22)","v":0.99999999999999989},{"$f":"-SUM(Q7:Q22)","v":2.8361563159661101},null,null,null,null,{"$f":"SUM(V7:V22)","v":1},{"$f":"-SUM(W7:W22)","v":2.6022170014624821},null,null,null,{"$f":"SUM(AA7:AA22)","v":1},{"$f":"-SUM(AB7:AB22)","v":1.965596230357602},null,null,null,{"$f":"SUM(AF7:AF22)","v":0.99999999999999978},{"$f":"-SUM(AG7:AG22)","v":2.5566567074628224},null,null,null,{"$f":"SUM(AK7:AK22)","v":1},{"$f":"-SUM(AL7:AL22)","v":1.781937063546704},null,null,null,{"$f":"SUM(AP7:AP22)","v":0.99999999999999978},{"$f":"-SUM(AQ7:AQ22)","v":2.2170218858797179},null,null,null,{"$f":"SUM(AU7:AU22)","v":1},{"$f":"-SUM(AV7:AV22)","v":2.2988252450030502}]
[21,2216,21,2221,22,2229,23,2235,null,null,0,2222,null,null,null,"U=",{"$f":"Q23/(LOG(Q4)/LOG(2))","v":0.43371883110536297},null,null,null,null,"U1=",{"$f":"W23/(LOG(W4)/LOG(2))","v":0.65055425036562053},null,null,null,"U2=",{"$f":"AB23/(LOG(AB4)/LOG(2))","v":0.50311012869595084},null,null,null,"U3=",{"$f":"AG23/(LOG(AG4)/LOG(2))","v":0.63916417686570559},null,null,null,"U4=",{"$f":"AL23/(LOG(AL4)/LOG(2))","v":0.45610109112081698},null,null,null,"U5=",{"$f":"AQ23/(LOG(AQ4)/LOG(2))","v":0.55425547146992948},null,null,null,"U6=",{"$f":"AV23/(LOG(AV4)/LOG(2))","v":0.58840276909392086}]
[21,2343,12,2354,13,2359,23,2371,null,null,0,2112]
[21,2473,12,2482,13,2488,23,2498,null,null,0,2112]
[21,2597,21,2603,22,2607,23,2613,null,null,0,2222,null,"Total Target Seq"]
[21,2711,21,2722,22,2725,23,2730,null,null,0,2222,null,{"$f":"COUNTIF(L7:L99,G3)","v":5},null,16,15,16,15,16,15]
[12,2825,23,2836,24,2840,23,2846,null,null,0,1222,null,null,null,"% of reinforcement given in 6 equal intervals based on number of trials "]
[21,2959,21,2964,22,2968,23,2972,null,null,0,2222,null,null,null,"%_1","%_2","%_3","%_4","%_5","%_6"]
[21,3076,21,3097,22,3103,23,3117,null,null,0,2222,null,null,"target sequence",{"$f":"$G$3","v":2212},{"$f":"$G$3","v":2212},{"$f":"$G$3","v":2212},{"$f":"$G$3","v":2212},{"$f":"$G$3","v":2212},{"$f":"$G$3","v":2212}]
[21,3219,21,3223,11,3235,12,3238,null,null,0,2211,null,null,"total reinforcement",{"$f":"U20","v":0},{"$f":"Z20","v":0},{"$f":"AE20","v":2},{"$f":"AJ20","v":0},{"$f":"AO20","v":2},{"$f":"AT20","v":1}]
[12,3363,14,3369,24,3379,23,3387,null,null,0,1122,null,null,"% target"]
[21,3568,21,3572,22,3576,23,3582,null,null,0,2222,null,null,"CCRF"]
[12,3720,23,3728,24,3735,23,3742,null,null,0,1222,null,null,"% CCRf"]
[12,3997,23,4008,24,4011,23,4027,null,null,0,1222,null,null,"average response rate",{"$f":"H22/P28","v":124.25},{"$f":"(H37-H22)/Q28","v":242.2},{"$f":"(H53-H37)/R28","v":753.5},{"$f":"(H68-H53)/S28","v":126.66666666666667},{"$f":"(H84-H68)/T28","v":143},{"$f":"(H99-H84)/U28","v":140.73333333333332}]
[12,5598,23,5610,24,5617,23,5621,null,null,0,1222]
[12,5827,23,5837,24,5843,23,5854,null,null,0,1222]
[12,6443,23,6446,24,6504,23,6511,null,null,0,1222]
[12,7304,14,9146,24,9157,14,9173,null,null,0,1121]
[12,11156,23,11169,13,11177,23,11196,null,null,0,1212]
[12,12137,23,12149,24,12158,23,12162,null,null,0,1222]
[21,12985,12,13732,24,13744,23,13748,null,null,0,2122]
[12,14648,23,14660,24,14665,14,14672,null,null,0,1221]
[12,15220,23,15779,24,15799,23,15808,null,null,0,1222]
[21,16340,21,16345,11,16358,21,16376,null,null,0,2212]
[12,16640,14,16647,24,16654,23,16657,null,null,0,1122]
[12,16872,14,16877,13,16883,23,16892,null,null,0,1112]
[12,16987,14,16993,24,17000,23,17004,null,null,0,1122]
[21,17109,21,17121,11,17130,21,17142,null,null,0,2212]
[12,17336,23,17347,24,17351,23,17360,null,null,0,1222]
[21,17455,21,17460,22,17477,23,17483,null,null,0,2222]
[12,17660,23,17668,24,17672,23,17677,null,null,0,1222]
[21,17787,21,17803,22,17808,23,17815,null,null,0,2222]
[12,17939,14,17944,24,17951,23,17954,null,null,0,1122]
[12,18057,23,18068,24,18072,23,18082,null,null,0,1222]
[12,18184,14,18188,24,18197,23,18202,null,null,0,1122]
[12,18300,14,18311,24,18325,23,18328,null,null,0,1122]
[21,18425,21,18439,22,18443,23,18449,null,null,0,2222]
[21,18554,21,18558,22,18578,23,18586,null,null,0,2222]
[12,18683,14,18688,24,18697,23,18699,null,null,0,1122]
[12,18796,14,18804,24,18812,23,18818,null,null,0,1122]
[12,18915,23,18929,24,18931,23,18935,null,null,0,1222]
[21,19039,21,19046,22,19050,23,19056,null,null,0,2222]
[21,19165,21,19171,22,19175,23,19180,null,null,0,2222]
[12,19301,23,19317,24,19321,23,19326,null,null,0,1222]
[21,19431,21,19437,22,19443,14,19451,null,null,0,2221]
[21,19553,21,19566,22,19571,23,19577,null,null,0,2222]
[12,19674,23,19682,24,19685,23,19689,null,null,0,1222]
[21,19792,21,19805,22,19811,14,19822,null,null,0,2221]
[21,19918,21,19923,11,19932,21,19945,null,null,0,2212]
[12,20112,14,20119,24,20125,23,20129,null,null,0,1122]
[12,20230,23,20241,24,20245,23,20251,null,null,0,1222]
[12,20349,23,20360,24,20363,23,20368,null,null,0,1222]
[12,20489,23,20500,24,20506,23,20512,null,null,0,1222]
[12,20608,23,20616,24,20620,23,20625,null,null,0,1222]
[12,20773,14,20781,24,20788,23,20795,null,null,0,1122]
[21,20898,21,20903,22,20907,23,20913,null,null,0,2222]
[21,21016,21,21022,11,21031,21,21041,null,null,0,2212]
[12,21286,14,21292,24,21299,23,21302,null,null,0,1122]
[12,21416,23,21427,24,21432,23,21439,null,null,0,1222]
[21,21558,21,21570,22,21577,23,21584,null,null,0,2222]
[21,21705,12,21714,13,21724,23,21734,null,null,0,2112]
[21,21840,12,21851,24,21859,23,21865,null,null,0,2122]
[21,21968,21,21973,22,21987,23,21999,null,null,0,2222]
[12,22104,23,22111,24,22114,23,22119,null,null,0,1222]
[21,22228,21,22247,22,22255,23,22262,null,null,0,2222]
[21,22359,12,22387,24,22396,23,22403,null,null,0,2122]
[12,22508,23,22515,24,22517,23,22522,null,null,0,1222]
[21,22636,21,22641,22,22647,23,22653,null,null,0,2222]
[12,22771,23,22780,24,22784,23,22795,null,null,0,1222]
[21,22910,12,22919,13,22925,23,22936,null,null,0,2112]
[21,23036,21,23040,22,23048,14,23055,null,null,0,2221]
[21,23163,12,23169,24,23181,23,23186,null,null,0,2122]
[21,23294,21,23302,11,23311,21,23324,null,null,0,2212]
[12,23504,14,23508,24,23522,23,23529,null,null,0,1122]
[21,23627,12,23634,24,23646,23,23661,null,null,0,2122]
[21,23792,21,23799,22,23805,23,23812,null,null,0,2222]
[21,23947,21,23958,22,23970,23,23976,null,null,null,2222]

{"sheet":"!LB23A44..Is","index":16,"n_rows":184,"n_cols":48,"rows_kept":184,"cut":false,"hidden":false,"merged":[[4,39,4,42],[5,39,5,40],[4,44,4,47],[5,44,5,45],[4,24,4,27],[5,24,5,25],[4,29,4,32],[5,29,5,30],[4,34,4,37],[5,34,5,35],[1,1,1,2],[5,13,5,14],[26,13,26,14],[27,13,27,14],[4,19,4,22],[5,19,5,20]]}
["Report for:!LB23A44..Is"]
["Date:","<date>"]
["Hen:","<hen>",null,null,null,"Correct Sequence",{"$f":"Start!J2","v":2212},null,null,null,null,null,null,null,null,"Total Sequences in Data",{"$f":"4994-COUNTBLANK(L7:L5000)","v":178},null,null,null,null,"Total Sequences in Block Data",{"$f":"COUNTA(L7:L36)","v":30},null,null,null,"Total Sequences in Block Data",{"$f":"COUNTA(L37:L65)","v":29},null,null,null,"Total Sequences in Block Data",{"$f":"COUNTA(L66:L95)","v":30},null,null,null,"Total Sequences in Block Data",{"$f":"COUNTA(L96:L125)","v":30},null,null,null,"Total Sequences in Block Data",{"$f":"COUNTA(L126:L154)","v":29},null,null,null,"Total Sequences in Block Data",{"$f":"COUNTA(L155:L184)","v":30}]
[null,null,null,null,null,null,null,null,null,null,null,null,null,null,null,"Total Sequences in Summary",{"$f":"SUM(O7:O22)","v":178},null,null,null,null,"Total Sequences in Block Summary",{"$f":"SUM(U7:U22)","v":30},null,null,null,"Total Sequences in Block Summary",{"$f":"SUM(Z7:Z22)","v":29},null,null,null,"Total Sequences in Block Summary",{"$f":"SUM(AE7:AE22)","v":30},null,null,null,"Total Sequences in Block Summary",{"$f":"SUM(AJ7:AJ22)","v":30},null,null,null,"Total Sequences in Block Summary",{"$f":"SUM(AO7:AO22)","v":29},null,null,null,"Total Sequences in Block Summary",{"$f":"SUM(AT7:AT22)","v":30}]
[null,null,null,null,null,null,null,null,null,null,null,null,null,null,null,null,null,null,null,"Block 1",null,null,null,null,"Block 2",null,null,null,null,"Block 3",null,null,null,null,"Block 4",null,null,null,null,"Block 5",null,null,null,null,"Block 6"]
["Sequence\nComponent\n1","Time\n1","Sequence\nComponent\n2","Time\n2","Sequence\nComponent\n3","Time\n3","Sequence\nComponent\n4","Time\n4","Sequence\nComponent\n5","Time\n5","Correct?\n0=No 1=Yes","Sequence",null,"Frequency",null,"Relative Frequency","Variability",null,null,"Frequency",null,"Relative Frequency","Variability",null,"Frequency",null,"Relative Frequency","Variability",null,"Frequency",null,"Relative Frequency","Variability",null,"Frequency",null,"Relative Frequency","Variability",null,"Frequency",null,"Relative Frequency","Variability",null,"Frequency",null,"Relative Frequency","Variability"]
[12,86,23,95,24,99,23,104,null,null,0,1222,null,1111,{"$f":"COUNTIF($L$7:$L$500,N7)","v":0},{"$f":"O7/$Q$4","v":0},{"$f":"IF(P7=0,0,(P7*((LOG(P7))/LOG(2))))","v":0},null,null,{"$f":"N7","v":1111},{"$f":"COUNTIF(L7:L36,T7)","v":0},{"$f":"U7/(W4-U20)","v":0},{"$f":"IF(V7=0,0,(V7*((LOG(V7))/LOG(2))))","v":0},null,{"$f":"N7","v":1111},{"$f":"COUNTIF(L37:L65,Y7)","v":0},{"$f":"Z7/(AB4-Z20)","v":0},{"$f":"IF(AA7=0,0,(AA7*((LOG(AA7))/LOG(2))))","v":0},null,{"$f":"N7","v":1111},{"$f":"COUNTIF(L66:L95,AD7)","v":0},{"$f":"AE7/(AG4-AE20)","v":0},{"$f":"IF(AF7=0,0,(AF7*((LOG(AF7))/LOG(2))))","v":0},null,{"$f":"N7","v":1111},{"$f":"COUNTIF(L96:L125,AI7)","v":0},{"$f":"AJ7/(AL4-AJ20)","v":0},{"$f":"IF(AK7=0,0,(AK7*((LOG(AK7))/LOG(2))))","v":0},null,{"$f":"N7","v":1111},{"$f":"COUNTIF(L126:L154,AN7)","v":0},{"$f":"AO7/(AQ4-AO20)","v":0},{"$f":"IF(AP7=0,0,(AP7*((LOG(AP7))/LOG(2))))","v":0},null,{"$f":"N7","v":1111},{"$f":"COUNTIF(L155:L184,AS7)","v":0},{"$f":"AT7/(AV4-AT20)","v":0},{"$f":"IF(AU7=0,0,(AU7*((LOG(AU7))/LOG(2))))","v":0}]
[21,203,21,207,22,223,23,227,null,null,0,2222,null,1112,{"$f":"COUNTIF($L$7:$L$500,N8)","v":3},{"$f":"O8/$Q$4","v":1.6853932584269662E-2},{"$f":"IF(P8=0,0,(P8*((LOG(P8))/LOG(2))))","v":-9.9282656127728783E-2},null,null,{"$f":"N8","v":1112},{"$f":"COUNTIF(L7:L36,T8)","v":1},{"$f":"U8/(W4-U20)","v":3.5714285714285712E-2},{"$f":"IF(V8=0,0,(V8*((LOG(V8))/LOG(2))))","v":-0.17169124721634299},null,{"$f":"N8","v":1112},{"$f":"COUNTIF(L37:L65,Y8)","v":0},{"$f":"Z8/(AB4-Z20)","v":0},{"$f":"IF(AA8=0,0,(AA8*((LOG(AA8))/LOG(2))))","v":0},null,{"$f":"N8","v":1112},{"$f":"COUNTIF(L66:L95,AD8)","v":1},{"$f":"AE8/(AG4-AE20)","v":3.4482758620689655E-2},{"$f":"IF(AF8=0,0,(AF8*((LOG(AF8))/LOG(2))))","v":-0.16751658603888178},null,{"$f":"N8","v":1112},{"$f":"COUNTIF(L96:L125,AI8)","v":1},{"$f":"AJ8/(AL4-AJ20)","v":3.8461538461538464E-2},{"$f":"IF(AK8=0,0,(AK8*((LOG(AK8))/LOG(2))))","v":-0.18078614300542661},null,{"$f":"N8","v":1112},{"$f":"COUNTIF(L126:L154,AN8)","v":0},{"$f":"AO8/(AQ4-AO20)","v":0},{"$f":"IF(AP8=0,0,(AP8*((LOG(AP8))/LOG(2))))","v":0},null,{"$f":"N8","v":1112},{"$f":"COUNTIF(L155:L184,AS8)","v":0},{"$f":"AT8/(AV4-AT20)","v":0},{"$f":"IF(AU8=0,0,(AU8*((LOG(AU8))/LOG(2))))","v":0}]
[12,338,14,342,24,350,23,355,null,null,0,1122,null,1121,{"$f":"COUNTIF($L$7:$L$500,N9)","v":0},{"$f":"O9/$Q$4","v":0},{"$f":"IF(P9=0,0,(P9*((LOG(P9))/LOG(2))))","v":0},null,null,{"$f":"N9","v":1121},{"$f":"COUNTIF(L7:L36,T9)","v":0},{"$f":"U9/(W4-U20)","v":0},{"$f":"IF(V9=0,0,(V9*((LOG(V9))/LOG(2))))","v":0},null,{"$f":"N9","v":1121},{"$f":"COUNTIF(L37:L65,Y9)","v":0},{"$f":"Z9/(AB4-Z20)","v":0},{"$f":"IF(AA9=0,0,(AA9*((LOG(AA9))/LOG(2))))","v":0},null,{"$f":"N9","v":1121},{"$f":"COUNTIF(L66:L95,AD9)","v":0},{"$f":"AE9/(AG4-AE20)","v":0},{"$f":"IF(AF9=0,0,(AF9*((LOG(AF9))/LOG(2))))","v":0},null,{"$f":"N9","v":1121},{"$f":"COUNTIF(L96:L125,AI9)","v":0},{"$f":"AJ9/(AL4-AJ20)","v":0},{"$f":"IF(AK9=0,0,(AK9*((LOG(AK9))/LOG(2))))","v":0},null,{"$f":"N9","v":1121},{"$f":"COUNTIF(L126:L154,AN9)","v":0},{"$f":"AO9/(AQ4-AO20)","v":0},{"$f":"IF(AP9=0,0,(AP9*((LOG(AP9))/LOG(2))))","v":0},null,{"$f":"N9","v":1121},{"$f":"COUNTIF(L155:L184,AS9)","v":0},{"$f":"AT9/(AV4-AT20)","v":0},{"$f":"IF(AU9=0,0,(AU9*((LOG(AU9))/LOG(2))))","v":0}]
[21,479,21,482,22,484,23,488,null,null,0,2222,null,1122,{"$f":"COUNTIF($L$7:$L$500,N10)","v":26},{"$f":"O10/$Q$4","v":0.14606741573033707},{"$f":"IF(P10=0,0,(P10*((LOG(P10))/LOG(2))))","v":-0.40537998052504465},null,null,{"$f":"N10","v":1122},{"$f":"COUNTIF(L7:L36,T10)","v":12},{"$f":"U10/(W4-U20)","v":0.42857142857142855},{"$f":"IF(V10=0,0,(V10*((LOG(V10))/LOG(2))))","v":-0.52388246628704915},null,{"$f":"N10","v":1122},{"$f":"COUNTIF(L37:L65,Y10)","v":4},{"$f":"Z10/(AB4-Z20)","v":0.15384615384615385},{"$f":"IF(AA10=0,0,(AA10*((LOG(AA10))/LOG(2))))","v":-0.4154522643293988},null,{"$f":"N10","v":1122},{"$f":"COUNTIF(L66:L95,AD10)","v":3},{"$f":"AE10/(AG4-AE20)","v":0.10344827586206896},{"$f":"IF(AF10=0,0,(AF10*((LOG(AF10))/LOG(2))))","v":-0.33858812011100858},null,{"$f":"N10","v":1122},{"$f":"COUNTIF(L96:L125,AI10)","v":2},{"$f":"AJ10/(AL4-AJ20)","v":7.6923076923076927E-2},{"$f":"IF(AK10=0,0,(AK10*((LOG(AK10))/LOG(2))))","v":-0.28464920908777636},null,{"$f":"N10","v":1122},{"$f":"COUNTIF(L126:L154,AN10)","v":3},{"$f":"AO10/(AQ4-AO20)","v":0.11538461538461539},{"$f":"IF(AP10=0,0,(AP10*((LOG(AP10))/LOG(2))))","v":-0.35947814047153104},null,{"$f":"N10","v":1122},{"$f":"COUNTIF(L155:L184,AS10)","v":2},{"$f":"AT10/(AV4-AT20)","v":7.407407407407407E-2},{"$f":"IF(AU10=0,0,(AU10*((LOG(AU10))/LOG(2))))","v":-0.27813981497507173}]
[12,587,14,591,13,595,23,603,null,null,0,1112,null,1211,{"$f":"COUNTIF($L$7:$L$500,N11)","v":0},{"$f":"O11/$Q$4","v":0},{"$f":"IF(P11=0,0,(P11*((LOG(P11))/LOG(2))))","v":0},null,null,{"$f":"N11","v":1211},{"$f":"COUNTIF(L7:L36,T11)","v":0},{"$f":"U11/(W4-U20)","v":0},{"$f":"IF(V11=0,0,(V11*((LOG(V11))/LOG(2))))","v":0},null,{"$f":"N11","v":1211},{"$f":"COUNTIF(L37:L65,Y11)","v":0},{"$f":"Z11/(AB4-Z20)","v":0},{"$f":"IF(AA11=0,0,(AA11*((LOG(AA11))/LOG(2))))","v":0},null,{"$f":"N11","v":1211},{"$f":"COUNTIF(L66:L95,AD11)","v":0},{"$f":"AE11/(AG4-AE20)","v":0},{"$f":"IF(AF11=0,0,(AF11*((LOG(AF11))/LOG(2))))","v":0},null,{"$f":"N11","v":1211},{"$f":"COUNTIF(L96:L125,AI11)","v":0},{"$f":"AJ11/(AL4-AJ20)","v":0},{"$f":"IF(AK11=0,0,(AK11*((LOG(AK11))/LOG(2))))","v":0},null,{"$f":"N11","v":1211},{"$f":"COUNTIF(L126:L154,AN11)","v":0},{"$f":"AO11/(AQ4-AO20)","v":0},{"$f":"IF(AP11=0,0,(AP11*((LOG(AP11))/LOG(2))))","v":0},null,{"$f":"N11","v":1211},{"$f":"COUNTIF(L155:L184,AS11)","v":0},{"$f":"AT11/(AV4-AT20)","v":0},{"$f":"IF(AU11=0,0,(AU11*((LOG(AU11))/LOG(2))))","v":0}]
[21,704,21,713,22,717,23,723,null,null,0,2222,null,1212,{"$f":"COUNTIF($L$7:$L$500,N12)","v":0},{"$f":"O12/$Q$4","v":0},{"$f":"IF(P12=0,0,(P12*((LOG(P12))/LOG(2))))","v":0},null,null,{"$f":"N12","v":1212},{"$f":"COUNTIF(L7:L36,T12)","v":0},{"$f":"U12/(W4-U20)","v":0},{"$f":"IF(V12=0,0,(V12*((LOG(V12))/LOG(2))))","v":0},null,{"$f":"N12","v":1212},{"$f":"COUNTIF(L37:L65,Y12)","v":0},{"$f":"Z12/(AB4-Z20)","v":0},{"$f":"IF(AA12=0,0,(AA12*((LOG(AA12))/LOG(2))))","v":0},null,{"$f":"N12","v":1212},{"$f":"COUNTIF(L66:L95,AD12)","v":0},{"$f":"AE12/(AG4-AE20)","v":0},{"$f":"IF(AF12=0,0,(AF12*((LOG(AF12))/LOG(2))))","v":0},null,{"$f":"N12","v":1212},{"$f":"COUNTIF(L96:L125,AI12)","v":0},{"$f":"AJ12/(AL4-AJ20)","v":0},{"$f":"IF(AK12=0,0,(AK12*((LOG(AK12))/LOG(2))))","v":0},null,{"$f":"N12","v":1212},{"$f":"COUNTIF(L126:L154,AN12)","v":0},{"$f":"AO12/(AQ4-AO20)","v":0},{"$f":"IF(AP12=0,0,(AP12*((LOG(AP12))/LOG(2))))","v":0},null,{"$f":"N12","v":1212},{"$f":"COUNTIF(L155:L184,AS12)","v":0},{"$f":"AT12/(AV4-AT20)","v":0},{"$f":"IF(AU12=0,0,(AU12*((LOG(AU12))/LOG(2))))","v":0}]
[12,841,14,845,24,853,23,856,null,null,0,1122,null,1221,{"$f":"COUNTIF($L$7:$L$500,N13)","v":0},{"$f":"O13/$Q$4","v":0},{"$f":"IF(P13=0,0,(P13*((LOG(P13))/LOG(2))))","v":0},null,null,{"$f":"N13","v":1221},{"$f":"COUNTIF(L7:L36,T13)","v":0},{"$f":"U13/(W4-U20)","v":0},{"$f":"IF(V13=0,0,(V13*((LOG(V13))/LOG(2))))","v":0},null,{"$f":"N13","v":1221},{"$f":"COUNTIF(L37:L65,Y13)","v":0},{"$f":"Z13/(AB4-Z20)","v":0},{"$f":"IF(AA13=0,0,(AA13*((LOG(AA13))/LOG(2))))","v":0},null,{"$f":"N13","v":1221},{"$f":"COUNTIF(L66:L95,AD13)","v":0},{"$f":"AE13/(AG4-AE20)","v":0},{"$f":"IF(AF13=0,0,(AF13*((LOG(AF13))/LOG(2))))","v":0},null,{"$f":"N13","v":1221},{"$f":"COUNTIF(L96:L125,AI13)","v":0},{"$f":"AJ13/(AL4-AJ20)","v":0},{"$f":"IF(AK13=0,0,(AK13*((LOG(AK13))/LOG(2))))","v":0},null,{"$f":"N13","v":1221},{"$f":"COUNTIF(L126:L154,AN13)","v":0},{"$f":"AO13/(AQ4-AO20)","v":0},{"$f":"IF(AP13=0,0,(AP13*((LOG(AP13))/LOG(2))))","v":0},null,{"$f":"N13","v":1221},{"$f":"COUNTIF(L155:L184,AS13)","v":0},{"$f":"AT13/(AV4-AT20)","v":0},{"$f":"IF(AU13=0,0,(AU13*((LOG(AU13))/LOG(2))))","v":0}]
[12,954,23,970,24,985,23,990,null,null,0,1222,null,1222,{"$f":"COUNTIF($L$7:$L$500,N14)","v":39},{"$f":"O14/$Q$4","v":0.21910112359550563},{"$f":"IF(P14=0,0,(P14*((LOG(P14))/LOG(2))))","v":-0.4799040296183249},null,null,{"$f":"N14","v":1222},{"$f":"COUNTIF(L7:L36,T14)","v":8},{"$f":"U14/(W4-U20)","v":0.2857142857142857},{"$f":"IF(V14=0,0,(V14*((LOG(V14))/LOG(2))))","v":-0.51638712058788683},null,{"$f":"N14","v":1222},{"$f":"COUNTIF(L37:L65,Y14)","v":4},{"$f":"Z14/(AB4-Z20)","v":0.15384615384615385},{"$f":"IF(AA14=0,0,(AA14*((LOG(AA14))/LOG(2))))","v":-0.4154522643293988},null,{"$f":"N14","v":1222},{"$f":"COUNTIF(L66:L95,AD14)","v":4},{"$f":"AE14/(AG4-AE20)","v":0.13793103448275862},{"$f":"IF(AF14=0,0,(AF14*((LOG(AF14))/LOG(2))))","v":-0.39420427519000989},null,{"$f":"N14","v":1222},{"$f":"COUNTIF(L96:L125,AI14)","v":5},{"$f":"AJ14/(AL4-AJ20)","v":0.19230769230769232},{"$f":"IF(AK14=0,0,(AK14*((LOG(AK14))/LOG(2))))","v":-0.45740608139494804},null,{"$f":"N14","v":1222},{"$f":"COUNTIF(L126:L154,AN14)","v":8},{"$f":"AO14/(AQ4-AO20)","v":0.30769230769230771},{"$f":"IF(AP14=0,0,(AP14*((LOG(AP14))/LOG(2))))","v":-0.52321222096648989},null,{"$f":"N14","v":1222},{"$f":"COUNTIF(L155:L184,AS14)","v":10},{"$f":"AT14/(AV4-AT20)","v":0.37037037037037035},{"$f":"IF(AU14=0,0,(AU14*((LOG(AU14))/LOG(2))))","v":-0.53072570639855787}]
[21,1091,21,1102,11,1111,21,1125,null,null,0,2212,null,2111,{"$f":"COUNTIF($L$7:$L$500,N15)","v":0},{"$f":"O15/$Q$4","v":0},{"$f":"IF(P15=0,0,(P15*((LOG(P15))/LOG(2))))","v":0},null,null,{"$f":"N15","v":2111},{"$f":"COUNTIF(L7:L36,T15)","v":0},{"$f":"U15/(W4-U20)","v":0},{"$f":"IF(V15=0,0,(V15*((LOG(V15))/LOG(2))))","v":0},null,{"$f":"N15","v":2111},{"$f":"COUNTIF(L37:L65,Y15)","v":0},{"$f":"Z15/(AB4-Z20)","v":0},{"$f":"IF(AA15=0,0,(AA15*((LOG(AA15))/LOG(2))))","v":0},null,{"$f":"N15","v":2111},{"$f":"COUNTIF(L66:L95,AD15)","v":0},{"$f":"AE15/(AG4-AE20)","v":0},{"$f":"IF(AF15=0,0,(AF15*((LOG(AF15))/LOG(2))))","v":0},null,{"$f":"N15","v":2111},{"$f":"COUNTIF(L96:L125,AI15)","v":0},{"$f":"AJ15/(AL4-AJ20)","v":0},{"$f":"IF(AK15=0,0,(AK15*((LOG(AK15))/LOG(2))))","v":0},null,{"$f":"N15","v":2111},{"$f":"COUNTIF(L126:L154,AN15)","v":0},{"$f":"AO15/(AQ4-AO20)","v":0},{"$f":"IF(AP15=0,0,(AP15*((LOG(AP15))/LOG(2))))","v":0},null,{"$f":"N15","v":2111},{"$f":"COUNTIF(L155:L184,AS15)","v":0},{"$f":"AT15/(AV4-AT20)","v":0},{"$f":"IF(AU15=0,0,(AU15*((LOG(AU15))/LOG(2))))","v":0}]
[12,1372,23,1384,24,1388,23,1392,null,null,0,1222,null,2112,{"$f":"COUNTIF($L$7:$L$500,N16)","v":0},{"$f":"O16/$Q$4","v":0},{"$f":"IF(P16=0,0,(P16*((LOG(P16))/LOG(2))))","v":0},null,null,{"$f":"N16","v":2112},{"$f":"COUNTIF(L7:L36,T16)","v":0},{"$f":"U16/(W4-U20)","v":0},{"$f":"IF(V16=0,0,(V16*((LOG(V16))/LOG(2))))","v":0},null,{"$f":"N16","v":2112},{"$f":"COUNTIF(L37:L65,Y16)","v":0},{"$f":"Z16/(AB4-Z20)","v":0},{"$f":"IF(AA16=0,0,(AA16*((LOG(AA16))/LOG(2))))","v":0},null,{"$f":"N16","v":2112},{"$f":"COUNTIF(L66:L95,AD16)","v":0},{"$f":"AE16/(AG4-AE20)","v":0},{"$f":"IF(AF16=0,0,(AF16*((LOG(AF16))/LOG(2))))","v":0},null,{"$f":"N16","v":2112},{"$f":"COUNTIF(L96:L125,AI16)","v":0},{"$f":"AJ16/(AL4-AJ20)","v":0},{"$f":"IF(AK16=0,0,(AK16*((LOG(AK16))/LOG(2))))","v":0},null,{"$f":"N16","v":2112},{"$f":"COUNTIF(L126:L154,AN16)","v":0},{"$f":"AO16/(AQ4-AO20)","v":0},{"$f":"IF(AP16=0,0,(AP16*((LOG(AP16))/LOG(2))))","v":0},null,{"$f":"N16","v":2112},{"$f":"COUNTIF(L155:L184,AS16)","v":0},{"$f":"AT16/(AV4-AT20)","v":0},{"$f":"IF(AU16=0,0,(AU16*((LOG(AU16))/LOG(2))))","v":0}]
[12,1503,14,1505,24,1515,23,1519,null,null,0,1122,null,2121,{"$f":"COUNTIF($L$7:$L$500,N17)","v":0},{"$f":"O17/$Q$4","v":0},{"$f":"IF(P17=0,0,(P17*((LOG(P17))/LOG(2))))","v":0},null,null,{"$f":"N17","v":2121},{"$f":"COUNTIF(L7:L36,T17)","v":0},{"$f":"U17/(W4-U20)","v":0},{"$f":"IF(V17=0,0,(V17*((LOG(V17))/LOG(2))))","v":0},null,{"$f":"N17","v":2121},{"$f":"COUNTIF(L37:L65,Y17)","v":0},{"$f":"Z17/(AB4-Z20)","v":0},{"$f":"IF(AA17=0,0,(AA17*((LOG(AA17))/LOG(2))))","v":0},null,{"$f":"N17","v":2121},{"$f":"COUNTIF(L66:L95,AD17)","v":0},{"$f":"AE17/(AG4-AE20)","v":0},{"$f":"IF(AF17=0,0,(AF17*((LOG(AF17))/LOG(2))))","v":0},null,{"$f":"N17","v":2121},{"$f":"COUNTIF(L96:L125,AI17)","v":0},{"$f":"AJ17/(AL4-AJ20)","v":0},{"$f":"IF(AK17=0,0,(AK17*((LOG(AK17))/LOG(2))))","v":0},null,{"$f":"N17","v":2121},{"$f":"COUNTIF(L126:L154,AN17)","v":0},{"$f":"AO17/(AQ4-AO20)","v":0},{"$f":"IF(AP17=0,0,(AP17*((LOG(AP17))/LOG(2))))","v":0},null,{"$f":"N17","v":2121},{"$f":"COUNTIF(L155:L184,AS17)","v":0},{"$f":"AT17/(AV4-AT20)","v":0},{"$f":"IF(AU17=0,0,(AU17*((LOG(AU17))/LOG(2))))","v":0}]
[12,1617,23,1627,24,1634,23,1639,null,null,0,1222,null,2122,{"$f":"COUNTIF($L$7:$L$500,N18)","v":18},{"$f":"O18/$Q$4","v":0.10112359550561797},{"$f":"IF(P18=0,0,(P18*((LOG(P18))/LOG(2))))","v":-0.33429523444625581},null,null,{"$f":"N18","v":2122},{"$f":"COUNTIF(L7:L36,T18)","v":1},{"$f":"U18/(W4-U20)","v":3.5714285714285712E-2},{"$f":"IF(V18=0,0,(V18*((LOG(V18))/LOG(2))))","v":-0.17169124721634299},null,{"$f":"N18","v":2122},{"$f":"COUNTIF(L37:L65,Y18)","v":2},{"$f":"Z18/(AB4-Z20)","v":7.6923076923076927E-2},{"$f":"IF(AA18=0,0,(AA18*((LOG(AA18))/LOG(2))))","v":-0.28464920908777636},null,{"$f":"N18","v":2122},{"$f":"COUNTIF(L66:L95,AD18)","v":2},{"$f":"AE18/(AG4-AE20)","v":6.8965517241379309E-2},{"$f":"IF(AF18=0,0,(AF18*((LOG(AF18))/LOG(2))))","v":-0.26606765483638428},null,{"$f":"N18","v":2122},{"$f":"COUNTIF(L96:L125,AI18)","v":5},{"$f":"AJ18/(AL4-AJ20)","v":0.19230769230769232},{"$f":"IF(AK18=0,0,(AK18*((LOG(AK18))/LOG(2))))","v":-0.45740608139494804},null,{"$f":"N18","v":2122},{"$f":"COUNTIF(L126:L154,AN18)","v":4},{"$f":"AO18/(AQ4-AO20)","v":0.15384615384615385},{"$f":"IF(AP18=0,0,(AP18*((LOG(AP18))/LOG(2))))","v":-0.4154522643293988},null,{"$f":"N18","v":2122},{"$f":"COUNTIF(L155:L184,AS18)","v":4},{"$f":"AT18/(AV4-AT20)","v":0.14814814814814814},{"$f":"IF(AU18=0,0,(AU18*((LOG(AU18))/LOG(2))))","v":-0.40813148180199532}]
[12,1765,14,1769,24,1781,23,1784,null,null,0,1122,null,2211,{"$f":"COUNTIF($L$7:$L$500,N19)","v":4},{"$f":"O19/$Q$4","v":2.247191011235955E-2},{"$f":"IF(P19=0,0,(P19*((LOG(P19))/LOG(2))))","v":-0.12305018945991905},null,null,{"$f":"N19","v":2211},{"$f":"COUNTIF(L7:L36,T19)","v":0},{"$f":"U19/(W4-U20)","v":0},{"$f":"IF(V19=0,0,(V19*((LOG(V19))/LOG(2))))","v":0},null,{"$f":"N19","v":2211},{"$f":"COUNTIF(L37:L65,Y19)","v":2},{"$f":"Z19/(AB4-Z20)","v":7.6923076923076927E-2},{"$f":"IF(AA19=0,0,(AA19*((LOG(AA19))/LOG(2))))","v":-0.28464920908777636},null,{"$f":"N19","v":2211},{"$f":"COUNTIF(L66:L95,AD19)","v":1},{"$f":"AE19/(AG4-AE20)","v":3.4482758620689655E-2},{"$f":"IF(AF19=0,0,(AF19*((LOG(AF19))/LOG(2))))","v":-0.16751658603888178},null,{"$f":"N19","v":2211},{"$f":"COUNTIF(L96:L125,AI19)","v":0},{"$f":"AJ19/(AL4-AJ20)","v":0},{"$f":"IF(AK19=0,0,(AK19*((LOG(AK19))/LOG(2))))","v":0},null,{"$f":"N19","v":2211},{"$f":"COUNTIF(L126:L154,AN19)","v":0},{"$f":"AO19/(AQ4-AO20)","v":0},{"$f":"IF(AP19=0,0,(AP19*((LOG(AP19))/LOG(2))))","v":0},null,{"$f":"N19","v":2211},{"$f":"COUNTIF(L155:L184,AS19)","v":1},{"$f":"AT19/(AV4-AT20)","v":3.7037037037037035E-2},{"$f":"IF(AU19=0,0,(AU19*((LOG(AU19))/LOG(2))))","v":-0.1761069445245729}]
[12,1884,23,1895,24,1898,23,1903,null,null,0,1222,null,2212,{"$f":"COUNTIF($L$7:$L$500,N20)","v":16},{"$f":"O20/$Q$4","v":8.98876404494382E-2},{"$f":"IF(P20=0,0,(P20*((LOG(P20))/LOG(2))))","v":-0.31242547694079981},null,null,{"$f":"N20","v":2212},{"$f":"COUNTIF(L7:L36,T20)","v":2},null,null,null,{"$f":"N20","v":2212},{"$f":"COUNTIF(L37:L65,Y20)","v":3},null,null,null,{"$f":"N20","v":2212},{"$f":"COUNTIF(L66:L95,AD20)","v":1},null,null,null,{"$f":"N20","v":2212},{"$f":"COUNTIF(L96:L125,AI20)","v":4},null,null,null,{"$f":"N20","v":2212},{"$f":"COUNTIF(L126:L154,AN20)","v":3},null,null,null,{"$f":"N20","v":2212},{"$f":"COUNTIF(L155:L184,AS20)","v":3}]
[12,2001,23,2005,24,2009,23,2014,null,null,0,1222,null,2221,{"$f":"COUNTIF($L$7:$L$500,N21)","v":2},{"$f":"O21/$Q$4","v":1.1235955056179775E-2},{"$f":"IF(P21=0,0,(P21*((LOG(P21))/LOG(2))))","v":-7.2761049786139301E-2},null,null,{"$f":"N21","v":2221},{"$f":"COUNTIF(L7:L36,T21)","v":0},{"$f":"U21/(W4-U20)","v":0},{"$f":"IF(V21=0,0,(V21*((LOG(V21))/LOG(2))))","v":0},null,{"$f":"N21","v":2221},{"$f":"COUNTIF(L37:L65,Y21)","v":0},{"$f":"Z21/(AB4-Z20)","v":0},{"$f":"IF(AA21=0,0,(AA21*((LOG(AA21))/LOG(2))))","v":0},null,{"$f":"N21","v":2221},{"$f":"COUNTIF(L66:L95,AD21)","v":1},{"$f":"AE21/(AG4-AE20)","v":3.4482758620689655E-2},{"$f":"IF(AF21=0,0,(AF21*((LOG(AF21))/LOG(2))))","v":-0.16751658603888178},null,{"$f":"N21","v":2221},{"$f":"COUNTIF(L96:L125,AI21)","v":0},{"$f":"AJ21/(AL4-AJ20)","v":0},{"$f":"IF(AK21=0,0,(AK21*((LOG(AK21))/LOG(2))))","v":0},null,{"$f":"N21","v":2221},{"$f":"COUNTIF(L126:L154,AN21)","v":1},{"$f":"AO21/(AQ4-AO20)","v":3.8461538461538464E-2},{"$f":"IF(AP21=0,0,(AP21*((LOG(AP21))/LOG(2))))","v":-0.18078614300542661},null,{"$f":"N21","v":2221},{"$f":"COUNTIF(L155:L184,AS21)","v":0},{"$f":"AT21/(AV4-AT20)","v":0},{"$f":"IF(AU21=0,0,(AU21*((LOG(AU21))/LOG(2))))","v":0}]
[12,2110,14,2114,24,2127,23,2130,null,null,0,1122,null,2222,{"$f":"COUNTIF($L$7:$L$500,N22)","v":70},{"$f":"O22/$Q$4","v":0.39325842696629215},{"$f":"IF(P22=0,0,(P22*((LOG(P22))/LOG(2))))","v":-0.52950297180618089},null,null,{"$f":"N22","v":2222},{"$f":"COUNTIF(L7:L36,T22)","v":6},{"$f":"U22/(W4-U20)","v":0.21428571428571427},{"$f":"IF(V22=0,0,(V22*((LOG(V22))/LOG(2))))","v":-0.47622694742923877},null,{"$f":"N22","v":2222},{"$f":"COUNTIF(L37:L65,Y22)","v":14},{"$f":"Z22/(AB4-Z20)","v":0.53846153846153844},{"$f":"IF(AA22=0,0,(AA22*((LOG(AA22))/LOG(2))))","v":-0.48089181327572433},null,{"$f":"N22","v":2222},{"$f":"COUNTIF(L66:L95,AD22)","v":17},{"$f":"AE22/(AG4-AE20)","v":0.58620689655172409},{"$f":"IF(AF22=0,0,(AF22*((LOG(AF22))/LOG(2))))","v":-0.45168305572113648},null,{"$f":"N22","v":2222},{"$f":"COUNTIF(L96:L125,AI22)","v":13},{"$f":"AJ22/(AL4-AJ20)","v":0.5},{"$f":"IF(AK22=0,0,(AK22*((LOG(AK22))/LOG(2))))","v":-0.5},null,{"$f":"N22","v":2222},{"$f":"COUNTIF(L126:L154,AN22)","v":10},{"$f":"AO22/(AQ4-AO20)","v":0.38461538461538464},{"$f":"IF(AP22=0,0,(AP22*((LOG(AP22))/LOG(2))))","v":-0.53019677817451139},null,{"$f":"N22","v":2222},{"$f":"COUNTIF(L155:L184,AS22)","v":10},{"$f":"AT22/(AV4-AT20)","v":0.37037037037037035},{"$f":"IF(AU22=0,0,(AU22*((LOG(AU22))/LOG(2))))","v":-0.53072570639855787}]
[12,2226,14,2232,24,2240,23,2252,null,null,0,1122,null,null,null,{"$f":"SUM(P7:P22)","v":1.0000000000000002},{"$f":"-SUM(Q7:Q22)","v":2.3566015887103933},null,null,null,null,{"$f":"SUM(V7:V22)","v":1},{"$f":"-SUM(W7:W22)","v":1.8598790287368607},null,null,null,{"$f":"SUM(AA7:AA22)","v":1},{"$f":"-SUM(AB7:AB22)","v":1.8810947601100745},null,null,null,{"$f":"SUM(AF7:AF22)","v":1},{"$f":"-SUM(AG7:AG22)","v":1.9530928639751848},null,null,null,{"$f":"SUM(AK7:AK22)","v":1},{"$f":"-SUM(AL7:AL22)","v":1.880247514883099},null,null,null,{"$f":"SUM(AP7:AP22)","v":1},{"$f":"-SUM(AQ7:AQ22)","v":2.0091255469473577},null,null,null,{"$f":"SUM(AU7:AU22)","v":0.99999999999999989},{"$f":"-SUM(AV7:AV22)","v":1.9238296540987556}]
[12,2384,14,2388,24,2396,23,2400,null,null,0,1122,null,null,null,"U=",{"$f":"Q23/(LOG(Q4)/LOG(2))","v":0.31523349654881316},null,null,null,null,"U1=",{"$f":"W23/(LOG(W4)/LOG(2))","v":0.37903413424407345},null,null,null,"U2=",{"$f":"AB23/(LOG(AB4)/LOG(2))","v":0.38721739792657967},null,null,null,"U3=",{"$f":"AG23/(LOG(AG4)/LOG(2))","v":0.39803065218595435},null,null,null,"U4=",{"$f":"AL23/(LOG(AL4)/LOG(2))","v":0.38318513083740841},null,null,null,"U5=",{"$f":"AQ23/(LOG(AQ4)/LOG(2))","v":0.41357212985445152},null,null,null,"U6=",{"$f":"AV23/(LOG(AV4)/LOG(2))","v":0.39206695495116811}]
[12,2498,14,2501,24,2513,23,2516,null,null,0,1122]
[21,2612,21,2622,22,2640,23,2646,null,null,0,2222]
[21,2751,21,2755,22,2759,23,2768,null,null,0,2222,null,"Total Target Seq"]
[12,2865,14,2869,24,2879,23,2882,null,null,0,1122,null,{"$f":"COUNTIF(L7:L184,G3)","v":16},null,30,29,30,30,29,30]
[12,2981,23,2996,24,3000,23,3005,null,null,0,1222,null,null,null,"% of reinforcement given in 6 equal intervals based on number of trials "]
[21,3117,12,3126,24,3140,23,3147,null,null,0,2122,null,null,null,"%_1","%_2","%_3","%_4","%_5","%_6"]
[12,3248,23,3255,24,3258,23,3264,null,null,0,1222,null,null,"target sequence",{"$f":"$G$3","v":2212},{"$f":"$G$3","v":2212},{"$f":"$G$3","v":2212},{"$f":"$G$3","v":2212},{"$f":"$G$3","v":2212},{"$f":"$G$3","v":2212}]
[21,3367,21,3370,22,3374,23,3385,null,null,0,2222,null,null,"total reinforcement",{"$f":"U20","v":2},{"$f":"Z20","v":3},{"$f":"AE20","v":1},{"$f":"AJ20","v":4},{"$f":"AO20","v":3},{"$f":"AT20","v":3}]
[21,3484,21,3490,11,3501,21,3512,null,null,0,2212,null,null,"% target"]
[12,3712,14,3719,24,3736,23,3743,null,null,0,1122,null,null,"CCRF"]
[12,3837,14,3844,24,3853,23,3857,null,null,0,1122,null,null,"% CCRf"]
[12,3967,14,3972,24,3981,23,3988,null,null,0,1122,null,null,"average response rate",{"$f":"H36/P28","v":132.93333333333334},{"$f":"(H65-H36)/Q28","v":137.10344827586206},{"$f":"(H95-H65)/R28","v":130.26666666666668},{"$f":"(H125-H95)/S28","v":136.63333333333333},{"$f":"(H154-H125)/T28","v":140.10344827586206},{"$f":"(H184-H154)/U28","v":132.03333333333333}]
[12,4098,23,4107,24,4113,23,4118,null,null,0,1222]
[21,4216,21,4231,22,4240,23,4246,null,null,0,2222]
[12,4362,23,4370,24,4375,23,4381,null,null,0,1222]
[12,4508,23,4519,24,4522,23,4532,null,null,0,1222]
[12,4642,23,4651,24,4656,23,4662,null,null,0,1222]
[21,4758,21,4777,22,4782,23,4790,null,null,0,2222]
[21,4889,21,4904,22,4909,23,4914,null,null,0,2222]
[21,5014,21,5019,22,5041,23,5047,null,null,0,2222]
[21,5145,21,5153,11,5161,21,5174,null,null,0,2212]
[12,5409,14,5414,24,5420,23,5424,null,null,0,1122]
[21,5527,21,5531,22,5536,23,5544,null,null,0,2222]
[21,5645,12,5670,24,5678,23,5684,null,null,0,2122]
[21,5793,21,5796,22,5802,23,5807,null,null,0,2222]
[21,5904,21,5913,11,5922,12,5928,null,null,0,2211]
[21,6038,21,6061,22,6066,23,6073,null,null,0,2222]
[21,6171,12,6181,24,6189,23,6193,null,null,0,2122]
[21,6294,21,6301,11,6309,21,6320,null,null,0,2212]
[12,6473,14,6477,24,6486,23,6490,null,null,0,1122]
[21,6586,21,6598,22,6603,23,6609,null,null,0,2222]
[21,6710,21,6729,22,6735,23,6742,null,null,0,2222]
[21,6839,21,6858,22,6866,23,6873,null,null,0,2222]
[21,6968,21,6980,11,6996,12,7002,null,null,0,2211]
[21,7097,21,7106,22,7120,23,7124,null,null,0,2222]
[12,7276,14,7283,24,7290,23,7298,null,null,0,1122]
[21,7394,21,7417,22,7421,23,7431,null,null,0,2222]
[21,7529,21,7539,22,7556,23,7561,null,null,0,2222]
[21,7688,21,7694,22,7699,23,7705,null,null,0,2222]
[12,7818,14,7824,24,7837,23,7842,null,null,0,1122]
[21,7937,21,7945,11,7956,21,7964,null,null,0,2212]
[12,8106,14,8112,24,8121,23,8124,null,null,0,1122]
[12,8226,23,8238,24,8242,23,8247,null,null,0,1222]
[21,8343,21,8348,22,8361,23,8366,null,null,0,2222]
[21,8489,21,8504,11,8526,12,8536,null,null,0,2211]
[21,8634,21,8649,22,8652,23,8658,null,null,0,2222]
[12,8761,23,8771,24,8774,23,8779,null,null,0,1222]
[21,8885,21,8898,22,8909,23,8916,null,null,0,2222]
[21,9013,21,9017,22,9027,23,9034,null,null,0,2222]
[21,9134,21,9145,22,9154,23,9159,null,null,0,2222]
[21,9257,21,9264,22,9284,23,9296,null,null,0,2222]
[21,9391,21,9395,22,9403,23,9411,null,null,0,2222]
[21,9525,21,9531,22,9536,23,9542,null,null,0,2222]
[12,9645,14,9654,24,9669,23,9674,null,null,0,1122]
[21,9772,21,9777,22,9786,23,9806,null,null,0,2222]
[21,9903,21,9914,11,9924,21,9934,null,null,0,2212]
[21,10079,21,10083,22,10089,23,10094,null,null,0,2222]
[12,10218,14,10224,13,10230,23,10239,null,null,0,1112]
[21,10339,21,10343,22,10355,23,10360,null,null,0,2222]
[21,10457,21,10461,22,10467,23,10472,null,null,0,2222]
[21,10569,21,10573,22,10579,23,10584,null,null,0,2222]
[12,10685,23,10692,24,10695,23,10702,null,null,0,1222]
[12,10814,14,10818,24,10829,23,10835,null,null,0,1122]
[21,10933,21,10939,22,10950,23,10955,null,null,0,2222]
[21,11055,21,11059,22,11064,14,11072,null,null,0,2221]
[21,11169,21,11186,22,11191,23,11196,null,null,0,2222]
[21,11310,12,11321,24,11333,23,11340,null,null,0,2122]
[21,11443,21,11450,22,11469,23,11475,null,null,0,2222]
[21,11571,21,11575,22,11579,23,11583,null,null,0,2222]
[21,11690,12,11699,24,11709,23,11714,null,null,0,2122]
[12,11852,23,11862,24,11867,23,11872,null,null,0,1222]
[21,11969,21,11976,22,11982,23,11990,null,null,0,2222]
[21,12090,21,12118,22,12127,23,12138,null,null,0,2222]
[21,12236,21,12258,22,12263,23,12268,null,null,0,2222]
[21,12379,21,12403,22,12407,23,12413,null,null,0,2222]
[21,12516,21,12531,11,12545,21,12556,null,null,0,2212]
[21,12734,21,12739,22,12743,23,12752,null,null,0,2222]
[21,12868,21,12872,22,12879,23,12885,null,null,0,2222]
[21,12985,21,12993,22,12998,23,13003,null,null,0,2222]
[12,13103,23,13111,24,13114,23,13118,null,null,0,1222]
[21,13221,12,13229,24,13237,23,13241,null,null,0,2122]
[12,13341,23,13350,24,13354,23,13359,null,null,0,1222]
[21,13460,21,13479,22,13489,23,13495,null,null,0,2222]
[21,13595,21,13615,22,13620,23,13626,null,null,0,2222]
[12,13730,23,13738,24,13751,23,13756,null,null,0,1222]
[21,13857,12,13878,24,13890,23,13894,null,null,0,2122]
[21,13992,21,14016,22,14022,23,14030,null,null,0,2222]
[21,14145,21,14149,22,14152,23,14158,null,null,0,2222]
[12,14253,14,14257,24,14264,23,14268,null,null,0,1122]
[21,14367,21,14371,11,14397,21,14408,null,null,0,2212]
[12,14530,23,14540,24,14545,23,14550,null,null,0,1222]
[21,14672,21,14676,22,14683,23,14688,null,null,0,2222]
[21,14792,12,14814,24,14825,23,14832,null,null,0,2122]
[21,14934,21,14942,11,14949,21,14961,null,null,0,2212]
[12,15098,14,15108,24,15115,23,15119,null,null,0,1122]
[21,15228,12,15244,24,15252,23,15261,null,null,0,2122]
[21,15369,21,15372,22,15377,23,15382,null,null,0,2222]
[21,15480,21,15490,11,15506,21,15523,null,null,0,2212]
[12,15698,23,15709,24,15713,23,15717,null,null,0,1222]
[21,15817,12,15838,24,15850,23,15857,null,null,0,2122]
[12,15956,14,15959,13,15964,23,15971,null,null,0,1112]
[12,16108,23,16117,24,16121,23,16124,null,null,0,1222]
[12,16233,23,16242,24,16249,23,16255,null,null,0,1222]
[21,16354,21,16368,22,16373,23,16382,null,null,0,2222]
[12,16490,23,16498,24,16503,23,16509,null,null,0,1222]
[21,16606,21,16617,22,16623,14,16633,null,null,0,2221]
[12,16751,23,16767,24,16773,23,16780,null,null,0,1222]
[21,16896,21,16902,22,16907,23,16912,null,null,0,2222]
[12,17025,23,17035,24,17040,23,17046,null,null,0,1222]
[21,17166,21,17170,22,17176,23,17183,null,null,0,2222]
[21,17279,21,17305,22,17311,23,17317,null,null,0,2222]
[21,17414,21,17436,22,17441,23,17446,null,null,0,2222]
[21,17550,12,17558,24,17567,23,17573,null,null,0,2122]
[21,17672,12,17685,24,17695,23,17700,null,null,0,2122]
[21,17816,21,17822,22,17827,23,17834,null,null,0,2222]
[21,17931,21,17941,22,17945,23,17951,null,null,0,2222]
[21,18051,21,18060,11,18067,21,18079,null,null,0,2212]
[12,18321,23,18332,24,18348,23,18359,null,null,0,1222]
[21,18461,21,18475,22,18479,23,18484,null,null,0,2222]
[21,18598,21,18602,22,18607,23,18612,null,null,0,2222]
[21,18718,12,18727,24,18741,23,18747,null,null,0,2122]
[21,18849,21,18861,22,18867,23,18875,null,null,0,2222]
[12,18976,14,18978,24,18985,23,18989,null,null,0,1122]
[12,19099,23,19112,24,19121,23,19134,null,null,0,1222]
[21,19234,21,19244,11,19251,21,19260,null,null,0,2212]
[12,19461,14,19467,24,19478,23,19485,null,null,0,1122]
[21,19588,12,19595,24,19605,23,19609,null,null,0,2122]
[12,19740,23,19749,24,19757,23,19763,null,null,0,1222]
[21,19861,21,19866,11,19876,21,19884,null,null,0,2212]
[12,20017,14,20022,24,20030,23,20034,null,null,0,1122]
[21,20130,21,20148,22,20155,23,20160,null,null,0,2222]
[21,20260,21,20264,11,20283,21,20296,null,null,0,2212]
[12,20426,23,20437,24,20440,23,20445,null,null,0,1222]
[12,20570,23,20577,24,20585,23,20593,null,null,0,1222]
[21,20694,21,20710,22,20715,23,20719,null,null,0,2222]
[21,20816,21,20836,22,20845,23,20851,null,null,0,2222]
[21,20955,21,20966,22,20971,23,20979,null,null,0,2222]
[12,21077,23,21085,24,21090,23,21095,null,null,0,1222]
[21,21211,21,21222,22,21228,23,21233,null,null,0,2222]
[12,21344,23,21352,24,21356,23,21367,null,null,0,1222]
[21,21465,21,21483,22,21487,23,21493,null,null,0,2222]
[21,21590,21,21600,11,21611,21,21618,null,null,0,2212]
[12,21739,14,21744,24,21750,23,21754,null,null,0,1122]
[12,21867,23,21879,24,21894,23,21906,null,null,0,1222]
[12,22015,23,22032,24,22038,23,22043,null,null,0,1222]
[12,22152,23,22162,24,22172,23,22178,null,null,0,1222]
[12,22301,23,22310,24,22316,23,22322,null,null,0,1222]
[21,22423,21,22432,22,22448,23,22456,null,null,0,2222]
[12,22556,14,22565,24,22574,23,22578,null,null,0,1122]
[12,22685,23,22693,24,22698,23,22704,null,null,0,1222]
[21,22802,21,22824,22,22827,23,22838,null,null,0,2222]
[21,22939,12,22952,24,22968,23,22975,null,null,0,2122]
[12,23090,23,23101,24,23108,23,23113,null,null,0,1222]
[21,23211,21,23215,22,23237,23,23243,null,null,0,2222]
[21,23366,21,23372,22,23378,23,23383,null,null,0,2222]
[21,23482,12,23492,24,23500,23,23505,null,null,0,2122]
[21,23602,12,23618,24,23628,23,23633,null,null,0,2122]
[21,23730,21,23738,11,23745,12,23750,null,null,0,2211]
[21,23849,12,23864,24,23872,23,23877,null,null,0,2122]
[21,23972,21,23977,11,23988,21,23995,null,null,1,2212]

{"sheet":"!LB24A04..Is","index":17,"n_rows":148,"n_cols":48,"rows_kept":148,"cut":false,"hidden":false,"merged":[[4,39,4,42],[5,39,5,40],[4,44,4,47],[5,44,5,45],[4,24,4,27],[5,24,5,25],[4,29,4,32],[5,29,5,30],[4,34,4,37],[5,34,5,35],[1,1,1,2],[5,13,5,14],[26,13,26,14],[27,13,27,14],[4,19,4,22],[5,19,5,20]]}
["Report for:!LB24A04..Is"]
["Date:","<date>"]
["Hen:","<hen>",null,null,null,"Correct Sequence",{"$f":"Start!J2","v":2212},null,null,null,null,null,null,null,null,"Total Sequences in Data",{"$f":"4994-COUNTBLANK(L7:L5000)","v":142},null,null,null,null,"Total Sequences in Block Data",{"$f":"COUNTA(L7:L30)","v":24},null,null,null,"Total Sequences in Block Data",{"$f":"COUNTA(L31:L53)","v":23},null,null,null,"Total Sequences in Block Data",{"$f":"COUNTA(L54:L77)","v":24},null,null,null,"Total Sequences in Block Data",{"$f":"COUNTA(L78:L101)","v":24},null,null,null,"Total Sequences in Block Data",{"$f":"COUNTA(L102:L124)","v":23},null,null,null,"Total Sequences in Block Data",{"$f":"COUNTA(L125:L148)","v":24}]
[null,null,null,null,null,null,null,null,null,null,null,null,null,null,null,"Total Sequences in Summary",{"$f":"SUM(O7:O22)","v":141},null,null,null,null,"Total Sequences in Block Summary",{"$f":"SUM(U7:U22)","v":24},null,null,null,"Total Sequences in Block Summary",{"$f":"SUM(Z7:Z22)","v":23},null,null,null,"Total Sequences in Block Summary",{"$f":"SUM(AE7:AE22)","v":24},null,null,null,"Total Sequences in Block Summary",{"$f":"SUM(AJ7:AJ22)","v":24},null,null,null,"Total Sequences in Block Summary",{"$f":"SUM(AO7:AO22)","v":23},null,null,null,"Total Sequences in Block Summary",{"$f":"SUM(AT7:AT22)","v":23}]
[null,null,null,null,null,null,null,null,null,null,null,null,null,null,null,null,null,null,null,"Block 1",null,null,null,null,"Block 2",null,null,null,null,"Block 3",null,null,null,null,"Block 4",null,null,null,null,"Block 5",null,null,null,null,"Block 6"]
["Sequence\nComponent\n1","Time\n1","Sequence\nComponent\n2","Time\n2","Sequence\nComponent\n3","Time\n3","Sequence\nComponent\n4","Time\n4","Sequence\nComponent\n5","Time\n5","Correct?\n0=No 1=Yes","Sequence",null,"Frequency",null,"Relative Frequency","Variability",null,null,"Frequency",null,"Relative Frequency","Variability",null,"Frequency",null,"Relative Frequency","Variability",null,"Frequency",null,"Relative Frequency","Variability",null,"Frequency",null,"Relative Frequency","Variability",null,"Frequency",null,"Relative Frequency","Variability",null,"Frequency",null,"Relative Frequency","Variability"]
[21,225,12,278,24,295,23,306,null,null,0,2122,null,1111,{"$f":"COUNTIF($L$7:$L$500,N7)","v":0},{"$f":"O7/$Q$4","v":0},{"$f":"IF(P7=0,0,(P7*((LOG(P7))/LOG(2))))","v":0},null,null,{"$f":"N7","v":1111},{"$f":"COUNTIF(L7:L30,T7)","v":0},{"$f":"U7/(W4-U20)","v":0},{"$f":"IF(V7=0,0,(V7*((LOG(V7))/LOG(2))))","v":0},null,{"$f":"N7","v":1111},{"$f":"COUNTIF(L31:L53,Y7)","v":0},{"$f":"Z7/(AB4-Z20)","v":0},{"$f":"IF(AA7=0,0,(AA7*((LOG(AA7))/LOG(2))))","v":0},null,{"$f":"N7","v":1111},{"$f":"COUNTIF(L54:L77,AD7)","v":0},{"$f":"AE7/(AG4-AE20)","v":0},{"$f":"IF(AF7=0,0,(AF7*((LOG(AF7))/LOG(2))))","v":0},null,{"$f":"N7","v":1111},{"$f":"COUNTIF(L78:L101,AI7)","v":0},{"$f":"AJ7/(AL4-AJ20)","v":0},{"$f":"IF(AK7=0,0,(AK7*((LOG(AK7))/LOG(2))))","v":0},null,{"$f":"N7","v":1111},{"$f":"COUNTIF(L102:L124,AN7)","v":0},{"$f":"AO7/(AQ4-AO20)","v":0},{"$f":"IF(AP7=0,0,(AP7*((LOG(AP7))/LOG(2))))","v":0},null,{"$f":"N7","v":1111},{"$f":"COUNTIF(L125:L148,AS7)","v":0},{"$f":"AT7/(AV4-AT20)","v":0},{"$f":"IF(AU7=0,0,(AU7*((LOG(AU7))/LOG(2))))","v":0}]
[12,468,23,481,24,514,23,521,null,null,0,1222,null,1112,{"$f":"COUNTIF($L$7:$L$500,N8)","v":1},{"$f":"O8/$Q$4","v":7.0921985815602835E-3},{"$f":"IF(P8=0,0,(P8*((LOG(P8))/LOG(2))))","v":-5.0635115974459535E-2},null,null,{"$f":"N8","v":1112},{"$f":"COUNTIF(L7:L30,T8)","v":0},{"$f":"U8/(W4-U20)","v":0},{"$f":"IF(V8=0,0,(V8*((LOG(V8))/LOG(2))))","v":0},null,{"$f":"N8","v":1112},{"$f":"COUNTIF(L31:L53,Y8)","v":0},{"$f":"Z8/(AB4-Z20)","v":0},{"$f":"IF(AA8=0,0,(AA8*((LOG(AA8))/LOG(2))))","v":0},null,{"$f":"N8","v":1112},{"$f":"COUNTIF(L54:L77,AD8)","v":0},{"$f":"AE8/(AG4-AE20)","v":0},{"$f":"IF(AF8=0,0,(AF8*((LOG(AF8))/LOG(2))))","v":0},null,{"$f":"N8","v":1112},{"$f":"COUNTIF(L78:L101,AI8)","v":0},{"$f":"AJ8/(AL4-AJ20)","v":0},{"$f":"IF(AK8=0,0,(AK8*((LOG(AK8))/LOG(2))))","v":0},null,{"$f":"N8","v":1112},{"$f":"COUNTIF(L102:L124,AN8)","v":1},{"$f":"AO8/(AQ4-AO20)","v":0.05},{"$f":"IF(AP8=0,0,(AP8*((LOG(AP8))/LOG(2))))","v":-0.21609640474436814},null,{"$f":"N8","v":1112},{"$f":"COUNTIF(L125:L148,AS8)","v":0},{"$f":"AT8/(AV4-AT20)","v":0},{"$f":"IF(AU8=0,0,(AU8*((LOG(AU8))/LOG(2))))","v":0}]
[12,633,23,642,24,662,14,672,null,null,0,1221,null,1121,{"$f":"COUNTIF($L$7:$L$500,N9)","v":2},{"$f":"O9/$Q$4","v":1.4184397163120567E-2},{"$f":"IF(P9=0,0,(P9*((LOG(P9))/LOG(2))))","v":-8.7085834785798497E-2},null,null,{"$f":"N9","v":1121},{"$f":"COUNTIF(L7:L30,T9)","v":2},{"$f":"U9/(W4-U20)","v":8.3333333333333329E-2},{"$f":"IF(V9=0,0,(V9*((LOG(V9))/LOG(2))))","v":-0.29874687506009634},null,{"$f":"N9","v":1121},{"$f":"COUNTIF(L31:L53,Y9)","v":0},{"$f":"Z9/(AB4-Z20)","v":0},{"$f":"IF(AA9=0,0,(AA9*((LOG(AA9))/LOG(2))))","v":0},null,{"$f":"N9","v":1121},{"$f":"COUNTIF(L54:L77,AD9)","v":0},{"$f":"AE9/(AG4-AE20)","v":0},{"$f":"IF(AF9=0,0,(AF9*((LOG(AF9))/LOG(2))))","v":0},null,{"$f":"N9","v":1121},{"$f":"COUNTIF(L78:L101,AI9)","v":0},{"$f":"AJ9/(AL4-AJ20)","v":0},{"$f":"IF(AK9=0,0,(AK9*((LOG(AK9))/LOG(2))))","v":0},null,{"$f":"N9","v":1121},{"$f":"COUNTIF(L102:L124,AN9)","v":0},{"$f":"AO9/(AQ4-AO20)","v":0},{"$f":"IF(AP9=0,0,(AP9*((LOG(AP9))/LOG(2))))","v":0},null,{"$f":"N9","v":1121},{"$f":"COUNTIF(L125:L148,AS9)","v":0},{"$f":"AT9/(AV4-AT20)","v":0},{"$f":"IF(AU9=0,0,(AU9*((LOG(AU9))/LOG(2))))","v":0}]
[12,1603,14,1607,24,1626,14,1642,null,null,0,1121,null,1122,{"$f":"COUNTIF($L$7:$L$500,N10)","v":5},{"$f":"O10/$Q$4","v":3.5460992907801421E-2},{"$f":"IF(P10=0,0,(P10*((LOG(P10))/LOG(2))))","v":-0.17083770416707203},null,null,{"$f":"N10","v":1122},{"$f":"COUNTIF(L7:L30,T10)","v":2},{"$f":"U10/(W4-U20)","v":8.3333333333333329E-2},{"$f":"IF(V10=0,0,(V10*((LOG(V10))/LOG(2))))","v":-0.29874687506009634},null,{"$f":"N10","v":1122},{"$f":"COUNTIF(L31:L53,Y10)","v":1},{"$f":"Z10/(AB4-Z20)","v":4.7619047619047616E-2},{"$f":"IF(AA10=0,0,(AA10*((LOG(AA10))/LOG(2))))","v":-0.20915797251327431},null,{"$f":"N10","v":1122},{"$f":"COUNTIF(L54:L77,AD10)","v":2},{"$f":"AE10/(AG4-AE20)","v":9.5238095238095233E-2},{"$f":"IF(AF10=0,0,(AF10*((LOG(AF10))/LOG(2))))","v":-0.32307784978845333},null,{"$f":"N10","v":1122},{"$f":"COUNTIF(L78:L101,AI10)","v":0},{"$f":"AJ10/(AL4-AJ20)","v":0},{"$f":"IF(AK10=0,0,(AK10*((LOG(AK10))/LOG(2))))","v":0},null,{"$f":"N10","v":1122},{"$f":"COUNTIF(L102:L124,AN10)","v":0},{"$f":"AO10/(AQ4-AO20)","v":0},{"$f":"IF(AP10=0,0,(AP10*((LOG(AP10))/LOG(2))))","v":0},null,{"$f":"N10","v":1122},{"$f":"COUNTIF(L125:L148,AS10)","v":0},{"$f":"AT10/(AV4-AT20)","v":0},{"$f":"IF(AU10=0,0,(AU10*((LOG(AU10))/LOG(2))))","v":0}]
[12,1749,23,1762,24,1767,23,1777,null,null,0,1222,null,1211,{"$f":"COUNTIF($L$7:$L$500,N11)","v":0},{"$f":"O11/$Q$4","v":0},{"$f":"IF(P11=0,0,(P11*((LOG(P11))/LOG(2))))","v":0},null,null,{"$f":"N11","v":1211},{"$f":"COUNTIF(L7:L30,T11)","v":0},{"$f":"U11/(W4-U20)","v":0},{"$f":"IF(V11=0,0,(V11*((LOG(V11))/LOG(2))))","v":0},null,{"$f":"N11","v":1211},{"$f":"COUNTIF(L31:L53,Y11)","v":0},{"$f":"Z11/(AB4-Z20)","v":0},{"$f":"IF(AA11=0,0,(AA11*((LOG(AA11))/LOG(2))))","v":0},null,{"$f":"N11","v":1211},{"$f":"COUNTIF(L54:L77,AD11)","v":0},{"$f":"AE11/(AG4-AE20)","v":0},{"$f":"IF(AF11=0,0,(AF11*((LOG(AF11))/LOG(2))))","v":0},null,{"$f":"N11","v":1211},{"$f":"COUNTIF(L78:L101,AI11)","v":0},{"$f":"AJ11/(AL4-AJ20)","v":0},{"$f":"IF(AK11=0,0,(AK11*((LOG(AK11))/LOG(2))))","v":0},null,{"$f":"N11","v":1211},{"$f":"COUNTIF(L102:L124,AN11)","v":0},{"$f":"AO11/(AQ4-AO20)","v":0},{"$f":"IF(AP11=0,0,(AP11*((LOG(AP11))/LOG(2))))","v":0},null,{"$f":"N11","v":1211},{"$f":"COUNTIF(L125:L148,AS11)","v":0},{"$f":"AT11/(AV4-AT20)","v":0},{"$f":"IF(AU11=0,0,(AU11*((LOG(AU11))/LOG(2))))","v":0}]
[12,1880,23,1891,24,1896,23,1901,null,null,0,1222,null,1212,{"$f":"COUNTIF($L$7:$L$500,N12)","v":0},{"$f":"O12/$Q$4","v":0},{"$f":"IF(P12=0,0,(P12*((LOG(P12))/LOG(2))))","v":0},null,null,{"$f":"N12","v":1212},{"$f":"COUNTIF(L7:L30,T12)","v":0},{"$f":"U12/(W4-U20)","v":0},{"$f":"IF(V12=0,0,(V12*((LOG(V12))/LOG(2))))","v":0},null,{"$f":"N12","v":1212},{"$f":"COUNTIF(L31:L53,Y12)","v":0},{"$f":"Z12/(AB4-Z20)","v":0},{"$f":"IF(AA12=0,0,(AA12*((LOG(AA12))/LOG(2))))","v":0},null,{"$f":"N12","v":1212},{"$f":"COUNTIF(L54:L77,AD12)","v":0},{"$f":"AE12/(AG4-AE20)","v":0},{"$f":"IF(AF12=0,0,(AF12*((LOG(AF12))/LOG(2))))","v":0},null,{"$f":"N12","v":1212},{"$f":"COUNTIF(L78:L101,AI12)","v":0},{"$f":"AJ12/(AL4-AJ20)","v":0},{"$f":"IF(AK12=0,0,(AK12*((LOG(AK12))/LOG(2))))","v":0},null,{"$f":"N12","v":1212},{"$f":"COUNTIF(L102:L124,AN12)","v":0},{"$f":"AO12/(AQ4-AO20)","v":0},{"$f":"IF(AP12=0,0,(AP12*((LOG(AP12))/LOG(2))))","v":0},null,{"$f":"N12","v":1212},{"$f":"COUNTIF(L125:L148,AS12)","v":0},{"$f":"AT12/(AV4-AT20)","v":0},{"$f":"IF(AU12=0,0,(AU12*((LOG(AU12))/LOG(2))))","v":0}]
[12,2015,23,2030,24,2035,23,2042,null,null,0,1222,null,1221,{"$f":"COUNTIF($L$7:$L$500,N13)","v":2},{"$f":"O13/$Q$4","v":1.4184397163120567E-2},{"$f":"IF(P13=0,0,(P13*((LOG(P13))/LOG(2))))","v":-8.7085834785798497E-2},null,null,{"$f":"N13","v":1221},{"$f":"COUNTIF(L7:L30,T13)","v":1},{"$f":"U13/(W4-U20)","v":4.1666666666666664E-2},{"$f":"IF(V13=0,0,(V13*((LOG(V13))/LOG(2))))","v":-0.19104010419671485},null,{"$f":"N13","v":1221},{"$f":"COUNTIF(L31:L53,Y13)","v":0},{"$f":"Z13/(AB4-Z20)","v":0},{"$f":"IF(AA13=0,0,(AA13*((LOG(AA13))/LOG(2))))","v":0},null,{"$f":"N13","v":1221},{"$f":"COUNTIF(L54:L77,AD13)","v":0},{"$f":"AE13/(AG4-AE20)","v":0},{"$f":"IF(AF13=0,0,(AF13*((LOG(AF13))/LOG(2))))","v":0},null,{"$f":"N13","v":1221},{"$f":"COUNTIF(L78:L101,AI13)","v":1},{"$f":"AJ13/(AL4-AJ20)","v":4.7619047619047616E-2},{"$f":"IF(AK13=0,0,(AK13*((LOG(AK13))/LOG(2))))","v":-0.20915797251327431},null,{"$f":"N13","v":1221},{"$f":"COUNTIF(L102:L124,AN13)","v":0},{"$f":"AO13/(AQ4-AO20)","v":0},{"$f":"IF(AP13=0,0,(AP13*((LOG(AP13))/LOG(2))))","v":0},null,{"$f":"N13","v":1221},{"$f":"COUNTIF(L125:L148,AS13)","v":0},{"$f":"AT13/(AV4-AT20)","v":0},{"$f":"IF(AU13=0,0,(AU13*((LOG(AU13))/LOG(2))))","v":0}]
[21,2153,12,2162,24,2189,23,2205,null,null,0,2122,null,1222,{"$f":"COUNTIF($L$7:$L$500,N14)","v":27},{"$f":"O14/$Q$4","v":0.19148936170212766},{"$f":"IF(P14=0,0,(P14*((LOG(P14))/LOG(2))))","v":-0.45663775855570055},null,null,{"$f":"N14","v":1222},{"$f":"COUNTIF(L7:L30,T14)","v":5},{"$f":"U14/(W4-U20)","v":0.20833333333333334},{"$f":"IF(V14=0,0,(V14*((LOG(V14))/LOG(2))))","v":-0.47146550121537367},null,{"$f":"N14","v":1222},{"$f":"COUNTIF(L31:L53,Y14)","v":5},{"$f":"Z14/(AB4-Z20)","v":0.23809523809523808},{"$f":"IF(AA14=0,0,(AA14*((LOG(AA14))/LOG(2))))","v":-0.49294983997414238},null,{"$f":"N14","v":1222},{"$f":"COUNTIF(L54:L77,AD14)","v":5},{"$f":"AE14/(AG4-AE20)","v":0.23809523809523808},{"$f":"IF(AF14=0,0,(AF14*((LOG(AF14))/LOG(2))))","v":-0.49294983997414238},null,{"$f":"N14","v":1222},{"$f":"COUNTIF(L78:L101,AI14)","v":4},{"$f":"AJ14/(AL4-AJ20)","v":0.19047619047619047},{"$f":"IF(AK14=0,0,(AK14*((LOG(AK14))/LOG(2))))","v":-0.4556795091007162},null,{"$f":"N14","v":1222},{"$f":"COUNTIF(L102:L124,AN14)","v":2},{"$f":"AO14/(AQ4-AO20)","v":0.1},{"$f":"IF(AP14=0,0,(AP14*((LOG(AP14))/LOG(2))))","v":-0.33219280948873625},null,{"$f":"N14","v":1222},{"$f":"COUNTIF(L125:L148,AS14)","v":6},{"$f":"AT14/(AV4-AT20)","v":0.2857142857142857},{"$f":"IF(AU14=0,0,(AU14*((LOG(AU14))/LOG(2))))","v":-0.51638712058788683}]
[12,2330,14,2334,24,2345,14,2362,null,null,0,1121,null,2111,{"$f":"COUNTIF($L$7:$L$500,N15)","v":1},{"$f":"O15/$Q$4","v":7.0921985815602835E-3},{"$f":"IF(P15=0,0,(P15*((LOG(P15))/LOG(2))))","v":-5.0635115974459535E-2},null,null,{"$f":"N15","v":2111},{"$f":"COUNTIF(L7:L30,T15)","v":0},{"$f":"U15/(W4-U20)","v":0},{"$f":"IF(V15=0,0,(V15*((LOG(V15))/LOG(2))))","v":0},null,{"$f":"N15","v":2111},{"$f":"COUNTIF(L31:L53,Y15)","v":0},{"$f":"Z15/(AB4-Z20)","v":0},{"$f":"IF(AA15=0,0,(AA15*((LOG(AA15))/LOG(2))))","v":0},null,{"$f":"N15","v":2111},{"$f":"COUNTIF(L54:L77,AD15)","v":0},{"$f":"AE15/(AG4-AE20)","v":0},{"$f":"IF(AF15=0,0,(AF15*((LOG(AF15))/LOG(2))))","v":0},null,{"$f":"N15","v":2111},{"$f":"COUNTIF(L78:L101,AI15)","v":1},{"$f":"AJ15/(AL4-AJ20)","v":4.7619047619047616E-2},{"$f":"IF(AK15=0,0,(AK15*((LOG(AK15))/LOG(2))))","v":-0.20915797251327431},null,{"$f":"N15","v":2111},{"$f":"COUNTIF(L102:L124,AN15)","v":0},{"$f":"AO15/(AQ4-AO20)","v":0},{"$f":"IF(AP15=0,0,(AP15*((LOG(AP15))/LOG(2))))","v":0},null,{"$f":"N15","v":2111},{"$f":"COUNTIF(L125:L148,AS15)","v":0},{"$f":"AT15/(AV4-AT20)","v":0},{"$f":"IF(AU15=0,0,(AU15*((LOG(AU15))/LOG(2))))","v":0}]
[21,2527,21,2533,22,2544,23,2561,null,null,0,2222,null,2112,{"$f":"COUNTIF($L$7:$L$500,N16)","v":2},{"$f":"O16/$Q$4","v":1.4184397163120567E-2},{"$f":"IF(P16=0,0,(P16*((LOG(P16))/LOG(2))))","v":-8.7085834785798497E-2},null,null,{"$f":"N16","v":2112},{"$f":"COUNTIF(L7:L30,T16)","v":0},{"$f":"U16/(W4-U20)","v":0},{"$f":"IF(V16=0,0,(V16*((LOG(V16))/LOG(2))))","v":0},null,{"$f":"N16","v":2112},{"$f":"COUNTIF(L31:L53,Y16)","v":0},{"$f":"Z16/(AB4-Z20)","v":0},{"$f":"IF(AA16=0,0,(AA16*((LOG(AA16))/LOG(2))))","v":0},null,{"$f":"N16","v":2112},{"$f":"COUNTIF(L54:L77,AD16)","v":1},{"$f":"AE16/(AG4-AE20)","v":4.7619047619047616E-2},{"$f":"IF(AF16=0,0,(AF16*((LOG(AF16))/LOG(2))))","v":-0.20915797251327431},null,{"$f":"N16","v":2112},{"$f":"COUNTIF(L78:L101,AI16)","v":0},{"$f":"AJ16/(AL4-AJ20)","v":0},{"$f":"IF(AK16=0,0,(AK16*((LOG(AK16))/LOG(2))))","v":0},null,{"$f":"N16","v":2112},{"$f":"COUNTIF(L102:L124,AN16)","v":0},{"$f":"AO16/(AQ4-AO20)","v":0},{"$f":"IF(AP16=0,0,(AP16*((LOG(AP16))/LOG(2))))","v":0},null,{"$f":"N16","v":2112},{"$f":"COUNTIF(L125:L148,AS16)","v":1},{"$f":"AT16/(AV4-AT20)","v":4.7619047619047616E-2},{"$f":"IF(AU16=0,0,(AU16*((LOG(AU16))/LOG(2))))","v":-0.20915797251327431}]
[21,2669,12,2689,24,2699,23,2705,null,null,0,2122,null,2121,{"$f":"COUNTIF($L$7:$L$500,N17)","v":0},{"$f":"O17/$Q$4","v":0},{"$f":"IF(P17=0,0,(P17*((LOG(P17))/LOG(2))))","v":0},null,null,{"$f":"N17","v":2121},{"$f":"COUNTIF(L7:L30,T17)","v":0},{"$f":"U17/(W4-U20)","v":0},{"$f":"IF(V17=0,0,(V17*((LOG(V17))/LOG(2))))","v":0},null,{"$f":"N17","v":2121},{"$f":"COUNTIF(L31:L53,Y17)","v":0},{"$f":"Z17/(AB4-Z20)","v":0},{"$f":"IF(AA17=0,0,(AA17*((LOG(AA17))/LOG(2))))","v":0},null,{"$f":"N17","v":2121},{"$f":"COUNTIF(L54:L77,AD17)","v":0},{"$f":"AE17/(AG4-AE20)","v":0},{"$f":"IF(AF17=0,0,(AF17*((LOG(AF17))/LOG(2))))","v":0},null,{"$f":"N17","v":2121},{"$f":"COUNTIF(L78:L101,AI17)","v":0},{"$f":"AJ17/(AL4-AJ20)","v":0},{"$f":"IF(AK17=0,0,(AK17*((LOG(AK17))/LOG(2))))","v":0},null,{"$f":"N17","v":2121},{"$f":"COUNTIF(L102:L124,AN17)","v":0},{"$f":"AO17/(AQ4-AO20)","v":0},{"$f":"IF(AP17=0,0,(AP17*((LOG(AP17))/LOG(2))))","v":0},null,{"$f":"N17","v":2121},{"$f":"COUNTIF(L125:L148,AS17)","v":0},{"$f":"AT17/(AV4-AT20)","v":0},{"$f":"IF(AU17=0,0,(AU17*((LOG(AU17))/LOG(2))))","v":0}]
[21,2836,21,2848,22,2879,23,2891,null,null,0,2222,null,2122,{"$f":"COUNTIF($L$7:$L$500,N18)","v":35},{"$f":"O18/$Q$4","v":0.24822695035460993},{"$f":"IF(P18=0,0,(P18*((LOG(P18))/LOG(2))))","v":-0.49900277830414141},null,null,{"$f":"N18","v":2122},{"$f":"COUNTIF(L7:L30,T18)","v":5},{"$f":"U18/(W4-U20)","v":0.20833333333333334},{"$f":"IF(V18=0,0,(V18*((LOG(V18))/LOG(2))))","v":-0.47146550121537367},null,{"$f":"N18","v":2122},{"$f":"COUNTIF(L31:L53,Y18)","v":7},{"$f":"Z18/(AB4-Z20)","v":0.33333333333333331},{"$f":"IF(AA18=0,0,(AA18*((LOG(AA18))/LOG(2))))","v":-0.52832083357371862},null,{"$f":"N18","v":2122},{"$f":"COUNTIF(L54:L77,AD18)","v":5},{"$f":"AE18/(AG4-AE20)","v":0.23809523809523808},{"$f":"IF(AF18=0,0,(AF18*((LOG(AF18))/LOG(2))))","v":-0.49294983997414238},null,{"$f":"N18","v":2122},{"$f":"COUNTIF(L78:L101,AI18)","v":6},{"$f":"AJ18/(AL4-AJ20)","v":0.2857142857142857},{"$f":"IF(AK18=0,0,(AK18*((LOG(AK18))/LOG(2))))","v":-0.51638712058788683},null,{"$f":"N18","v":2122},{"$f":"COUNTIF(L102:L124,AN18)","v":3},{"$f":"AO18/(AQ4-AO20)","v":0.15},{"$f":"IF(AP18=0,0,(AP18*((LOG(AP18))/LOG(2))))","v":-0.41054483912493089},null,{"$f":"N18","v":2122},{"$f":"COUNTIF(L125:L148,AS18)","v":9},{"$f":"AT18/(AV4-AT20)","v":0.42857142857142855},{"$f":"IF(AU18=0,0,(AU18*((LOG(AU18))/LOG(2))))","v":-0.52388246628704915}]
[21,2999,12,3024,24,3036,23,3077,null,null,0,2122,null,2211,{"$f":"COUNTIF($L$7:$L$500,N19)","v":1},{"$f":"O19/$Q$4","v":7.0921985815602835E-3},{"$f":"IF(P19=0,0,(P19*((LOG(P19))/LOG(2))))","v":-5.0635115974459535E-2},null,null,{"$f":"N19","v":2211},{"$f":"COUNTIF(L7:L30,T19)","v":0},{"$f":"U19/(W4-U20)","v":0},{"$f":"IF(V19=0,0,(V19*((LOG(V19))/LOG(2))))","v":0},null,{"$f":"N19","v":2211},{"$f":"COUNTIF(L31:L53,Y19)","v":0},{"$f":"Z19/(AB4-Z20)","v":0},{"$f":"IF(AA19=0,0,(AA19*((LOG(AA19))/LOG(2))))","v":0},null,{"$f":"N19","v":2211},{"$f":"COUNTIF(L54:L77,AD19)","v":0},{"$f":"AE19/(AG4-AE20)","v":0},{"$f":"IF(AF19=0,0,(AF19*((LOG(AF19))/LOG(2))))","v":0},null,{"$f":"N19","v":2211},{"$f":"COUNTIF(L78:L101,AI19)","v":1},{"$f":"AJ19/(AL4-AJ20)","v":4.7619047619047616E-2},{"$f":"IF(AK19=0,0,(AK19*((LOG(AK19))/LOG(2))))","v":-0.20915797251327431},null,{"$f":"N19","v":2211},{"$f":"COUNTIF(L102:L124,AN19)","v":0},{"$f":"AO19/(AQ4-AO20)","v":0},{"$f":"IF(AP19=0,0,(AP19*((LOG(AP19))/LOG(2))))","v":0},null,{"$f":"N19","v":2211},{"$f":"COUNTIF(L125:L148,AS19)","v":0},{"$f":"AT19/(AV4-AT20)","v":0},{"$f":"IF(AU19=0,0,(AU19*((LOG(AU19))/LOG(2))))","v":0}]
[12,3252,23,3280,24,3289,23,3294,null,null,0,1222,null,2212,{"$f":"COUNTIF($L$7:$L$500,N20)","v":13},{"$f":"O20/$Q$4","v":9.2198581560283682E-2},{"$f":"IF(P20=0,0,(P20*((LOG(P20))/LOG(2))))","v":-0.31708121450602922},null,null,{"$f":"N20","v":2212},{"$f":"COUNTIF(L7:L30,T20)","v":0},null,null,null,{"$f":"N20","v":2212},{"$f":"COUNTIF(L31:L53,Y20)","v":2},null,null,null,{"$f":"N20","v":2212},{"$f":"COUNTIF(L54:L77,AD20)","v":3},null,null,null,{"$f":"N20","v":2212},{"$f":"COUNTIF(L78:L101,AI20)","v":3},null,null,null,{"$f":"N20","v":2212},{"$f":"COUNTIF(L102:L124,AN20)","v":3},null,null,null,{"$f":"N20","v":2212},{"$f":"COUNTIF(L125:L148,AS20)","v":2}]
[21,3404,21,3415,22,3421,23,3442,null,null,0,2222,null,2221,{"$f":"COUNTIF($L$7:$L$500,N21)","v":4},{"$f":"O21/$Q$4","v":2.8368794326241134E-2},{"$f":"IF(P21=0,0,(P21*((LOG(P21))/LOG(2))))","v":-0.14580287524535585},null,null,{"$f":"N21","v":2221},{"$f":"COUNTIF(L7:L30,T21)","v":0},{"$f":"U21/(W4-U20)","v":0},{"$f":"IF(V21=0,0,(V21*((LOG(V21))/LOG(2))))","v":0},null,{"$f":"N21","v":2221},{"$f":"COUNTIF(L31:L53,Y21)","v":2},{"$f":"Z21/(AB4-Z20)","v":9.5238095238095233E-2},{"$f":"IF(AA21=0,0,(AA21*((LOG(AA21))/LOG(2))))","v":-0.32307784978845333},null,{"$f":"N21","v":2221},{"$f":"COUNTIF(L54:L77,AD21)","v":0},{"$f":"AE21/(AG4-AE20)","v":0},{"$f":"IF(AF21=0,0,(AF21*((LOG(AF21))/LOG(2))))","v":0},null,{"$f":"N21","v":2221},{"$f":"COUNTIF(L78:L101,AI21)","v":0},{"$f":"AJ21/(AL4-AJ20)","v":0},{"$f":"IF(AK21=0,0,(AK21*((LOG(AK21))/LOG(2))))","v":0},null,{"$f":"N21","v":2221},{"$f":"COUNTIF(L102:L124,AN21)","v":2},{"$f":"AO21/(AQ4-AO20)","v":0.1},{"$f":"IF(AP21=0,0,(AP21*((LOG(AP21))/LOG(2))))","v":-0.33219280948873625},null,{"$f":"N21","v":2221},{"$f":"COUNTIF(L125:L148,AS21)","v":0},{"$f":"AT21/(AV4-AT20)","v":0},{"$f":"IF(AU21=0,0,(AU21*((LOG(AU21))/LOG(2))))","v":0}]
[21,3538,21,3544,22,3552,23,3622,null,null,0,2222,null,2222,{"$f":"COUNTIF($L$7:$L$500,N22)","v":48},{"$f":"O22/$Q$4","v":0.34042553191489361},{"$f":"IF(P22=0,0,(P22*((LOG(P22))/LOG(2))))","v":-0.52922173674132333},null,null,{"$f":"N22","v":2222},{"$f":"COUNTIF(L7:L30,T22)","v":9},{"$f":"U22/(W4-U20)","v":0.375},{"$f":"IF(V22=0,0,(V22*((LOG(V22))/LOG(2))))","v":-0.53063906222956647},null,{"$f":"N22","v":2222},{"$f":"COUNTIF(L31:L53,Y22)","v":6},{"$f":"Z22/(AB4-Z20)","v":0.2857142857142857},{"$f":"IF(AA22=0,0,(AA22*((LOG(AA22))/LOG(2))))","v":-0.51638712058788683},null,{"$f":"N22","v":2222},{"$f":"COUNTIF(L54:L77,AD22)","v":8},{"$f":"AE22/(AG4-AE20)","v":0.38095238095238093},{"$f":"IF(AF22=0,0,(AF22*((LOG(AF22))/LOG(2))))","v":-0.53040663724905157},null,{"$f":"N22","v":2222},{"$f":"COUNTIF(L78:L101,AI22)","v":8},{"$f":"AJ22/(AL4-AJ20)","v":0.38095238095238093},{"$f":"IF(AK22=0,0,(AK22*((LOG(AK22))/LOG(2))))","v":-0.53040663724905157},null,{"$f":"N22","v":2222},{"$f":"COUNTIF(L102:L124,AN22)","v":12},{"$f":"AO22/(AQ4-AO20)","v":0.6},{"$f":"IF(AP22=0,0,(AP22*((LOG(AP22))/LOG(2))))","v":-0.44217935649972373},null,{"$f":"N22","v":2222},{"$f":"COUNTIF(L125:L148,AS22)","v":5},{"$f":"AT22/(AV4-AT20)","v":0.23809523809523808},{"$f":"IF(AU22=0,0,(AU22*((LOG(AU22))/LOG(2))))","v":-0.49294983997414238}]
[21,3722,21,3748,22,3785,23,3790,null,null,0,2222,null,null,null,{"$f":"SUM(P7:P22)","v":1},{"$f":"-SUM(Q7:Q22)","v":2.5317469198003963},null,null,null,null,{"$f":"SUM(V7:V22)","v":1},{"$f":"-SUM(W7:W22)","v":2.2621039189772212},null,null,null,{"$f":"SUM(AA7:AA22)","v":1},{"$f":"-SUM(AB7:AB22)","v":2.0698936164374753},null,null,null,{"$f":"SUM(AF7:AF22)","v":1},{"$f":"-SUM(AG7:AG22)","v":2.0485421394990642},null,null,null,{"$f":"SUM(AK7:AK22)","v":1},{"$f":"-SUM(AL7:AL22)","v":2.1299471844774778},null,null,null,{"$f":"SUM(AP7:AP22)","v":1},{"$f":"-SUM(AQ7:AQ22)","v":1.7332062193464952},null,null,null,{"$f":"SUM(AU7:AU22)","v":1},{"$f":"-SUM(AV7:AV22)","v":1.7423773993623526}]
[21,3892,21,3897,22,3903,23,3921,null,null,0,2222,null,null,null,"U=",{"$f":"Q23/(LOG(Q4)/LOG(2))","v":0.35460868545329022},null,null,null,null,"U1=",{"$f":"W23/(LOG(W4)/LOG(2))","v":0.49337457364622306},null,null,null,"U2=",{"$f":"AB23/(LOG(AB4)/LOG(2))","v":0.45758047232356447},null,null,null,"U3=",{"$f":"AG23/(LOG(AG4)/LOG(2))","v":0.44679583293796943},null,null,null,"U4=",{"$f":"AL23/(LOG(AL4)/LOG(2))","v":0.46455062263703667},null,null,null,"U5=",{"$f":"AQ23/(LOG(AQ4)/LOG(2))","v":0.38315076397389586},null,null,null,"U6=",{"$f":"AV23/(LOG(AV4)/LOG(2))","v":0.38517818840290741}]
[12,4106,14,4111,24,4125,23,4138,null,null,0,1122]
[21,4233,12,4255,24,4269,23,4284,null,null,0,2122]
[12,4447,14,4450,24,4470,23,4484,null,null,0,1122,null,"Total Target Seq"]
[21,5095,21,5099,22,5103,23,5108,null,null,0,2222,null,{"$f":"COUNTIF(L7:L148,G3)","v":13},null,24,23,24,24,23,24]
[21,6225,21,6229,22,6241,23,6254,null,null,0,2222,null,null,null,"% of reinforcement given in 6 equal intervals based on number of trials "]
[21,6389,21,6393,22,6397,23,6402,null,null,0,2222,null,null,null,"%_1","%_2","%_3","%_4","%_5","%_6"]
[12,6510,23,6521,24,6526,23,6531,null,null,0,1222,null,null,"target sequence",{"$f":"$G$3","v":2212},{"$f":"$G$3","v":2212},{"$f":"$G$3","v":2212},{"$f":"$G$3","v":2212},{"$f":"$G$3","v":2212},{"$f":"$G$3","v":2212}]
[21,6637,12,6646,24,6656,23,6663,null,null,0,2122,null,null,"total reinforcement",{"$f":"U20","v":0},{"$f":"Z20","v":2},{"$f":"AE20","v":3},{"$f":"AJ20","v":3},{"$f":"AO20","v":3},{"$f":"AT20","v":2}]
[21,6762,12,6778,24,6790,23,6795,null,null,0,2122,null,null,"% target"]
[21,6934,21,6950,11,6959,21,6976,null,null,0,2212,null,null,"CCRF"]
[21,7183,21,7187,22,7192,14,7205,null,null,0,2221,null,null,"% CCRf"]
[12,7315,23,7322,24,7328,23,7334,null,null,0,1222,null,null,"average response rate",{"$f":"H30/P28","v":266.75},{"$f":"(H53-H30)/Q28","v":138.34782608695653},{"$f":"(H77-H53)/R28","v":154.125},{"$f":"(H101-H77)/S28","v":154.625},{"$f":"(H124-H101)/T28","v":150.04347826086956},{"$f":"(H148-H124)/U28","v":-851.875}]
[12,7446,23,7465,24,7471,23,7476,null,null,0,1222]
[21,7573,12,7587,24,7597,23,7610,null,null,0,2122]
[21,7709,12,7723,24,7734,23,7743,null,null,0,2122]
[21,7840,21,7861,22,7871,23,7876,null,null,0,2222]
[21,7972,21,7996,22,8002,23,8011,null,null,0,2222]
[12,8110,14,8115,24,8122,23,8127,null,null,0,1122]
[21,8232,12,8239,24,8247,23,8252,null,null,0,2122]
[12,8352,23,8360,24,8365,23,8369,null,null,0,1222]
[21,8465,21,8491,22,8497,23,8505,null,null,0,2222]
[21,8601,21,8607,22,8623,23,8627,null,null,0,2222]
[21,8728,21,8742,22,8749,23,8753,null,null,0,2222]
[21,8856,12,8866,24,8874,23,8883,null,null,0,2122]
[21,8980,21,8984,22,8991,14,9005,null,null,0,2221]
[21,9107,21,9111,22,9139,23,9149,null,null,0,2222]
[21,9249,12,9275,24,9283,23,9287,null,null,0,2122]
[12,9390,23,9404,24,9408,23,9413,null,null,0,1222]
[21,9543,21,9551,11,9571,21,9584,null,null,0,2212]
[12,9840,14,9847,24,9853,23,9857,null,null,0,1122]
[12,9960,23,9967,24,9971,23,9978,null,null,0,1222]
[12,10087,23,10095,24,10102,23,10109,null,null,0,1222]
[12,10218,23,10291,24,10310,23,10322,null,null,0,1222]
[21,10420,12,10436,24,10448,23,10454,null,null,0,2122]
[21,10551,21,10567,22,10571,23,10577,null,null,0,2222]
[21,10674,12,10692,13,10698,23,10706,null,null,0,2112]
[21,10804,21,10825,22,10838,23,10845,null,null,0,2222]
[21,10963,21,10969,22,10977,23,10983,null,null,0,2222]
[21,11078,21,11083,22,11096,23,11101,null,null,0,2222]
[21,11198,21,11223,22,11248,23,11261,null,null,0,2222]
[21,11357,21,11362,11,11376,21,11386,null,null,0,2212]
[12,11561,23,11569,24,11578,23,11590,null,null,0,1222]
[12,11742,23,11767,24,11774,23,11781,null,null,0,1222]
[21,11917,21,11927,22,11934,23,11940,null,null,0,2222]
[21,12037,21,12055,22,12065,23,12071,null,null,0,2222]
[21,12180,12,12190,24,12204,23,12211,null,null,0,2122]
[21,12314,12,12321,24,12335,23,12346,null,null,0,2122]
[21,12448,21,12463,11,12473,21,12506,null,null,0,2212]
[12,12654,14,12659,24,12679,23,12686,null,null,0,1122]
[21,12797,12,12804,24,12841,23,12864,null,null,0,2122]
[21,12960,12,12979,24,12994,23,13001,null,null,0,2122]
[21,13131,21,13138,22,13145,23,13151,null,null,0,2222]
[21,13251,21,13263,11,13274,21,13283,null,null,0,2212]
[12,13556,23,13570,24,13581,23,13591,null,null,0,1222]
[21,13712,21,13716,11,13726,21,13749,null,null,0,2212]
[21,13901,12,13908,24,13949,23,13957,null,null,0,2122]
[12,14058,23,14066,24,14070,14,14087,null,null,0,1221]
[21,14182,21,14188,11,14209,21,14233,null,null,0,2212]
[12,14345,23,14355,24,14371,23,14378,null,null,0,1222]
[21,14474,21,14497,22,14520,23,14527,null,null,0,2222]
[21,14641,21,14650,22,14657,23,14663,null,null,0,2222]
[21,14766,21,14781,22,14786,23,14792,null,null,0,2222]
[12,14905,23,14941,24,14955,23,14961,null,null,0,1222]
[21,15059,21,15064,11,15073,21,15087,null,null,0,2212]
[12,15241,23,15256,24,15262,23,15268,null,null,0,1222]
[21,15366,12,15385,24,15408,23,15415,null,null,0,2122]
[21,15512,12,15580,13,15585,14,15591,null,null,0,2111]
[21,15710,21,15721,22,15728,23,15734,null,null,0,2222]
[21,15832,21,15878,22,15887,23,15900,null,null,0,2222]
[21,15997,12,16022,24,16037,23,16044,null,null,0,2122]
[21,16143,12,16163,24,16176,23,16182,null,null,0,2122]
[21,16287,21,16313,22,16320,23,16326,null,null,0,2222]
[21,16426,21,16431,11,16456,12,16461,null,null,0,2211]
[21,16568,21,16586,22,16596,23,16604,null,null,0,2222]
[21,16712,12,16719,24,16728,23,16738,null,null,0,2122]
[21,16837,12,16854,24,16862,23,16869,null,null,0,2122]
[21,16964,21,16968,22,16987,23,16994,null,null,0,2222]
[21,17091,21,17099,11,17108,21,17119,null,null,0,2212]
[12,17275,14,17280,13,17285,23,17291,null,null,0,1112]
[21,17386,21,17393,22,17406,23,17411,null,null,0,2222]
[21,17508,21,17529,22,17533,23,17539,null,null,0,2222]
[21,17636,21,17648,22,17665,23,17676,null,null,0,2222]
[21,17806,21,17811,22,17818,23,17824,null,null,0,2222]
[21,17931,12,17939,24,17975,23,17982,null,null,0,2122]
[21,18078,12,18098,24,18105,23,18111,null,null,0,2122]
[21,18213,21,18219,22,18225,23,18232,null,null,0,2222]
[21,18326,21,18329,22,18332,23,18344,null,null,0,2222]
[21,18445,21,18450,22,18454,14,18464,null,null,0,2221]
[21,18559,21,18562,22,18567,14,18582,null,null,0,2221]
[21,18690,21,18695,22,18699,23,18728,null,null,0,2222]
[21,18822,21,18826,22,18836,23,18842,null,null,0,2222]
[21,18939,21,18956,22,18961,23,18967,null,null,0,2222]
[21,19078,21,19086,22,19091,23,19096,null,null,0,2222]
[21,19205,12,19212,24,19243,23,19256,null,null,0,2122]
[21,19376,21,19380,22,19386,23,19393,null,null,0,2222]
[21,19488,21,19504,11,19512,21,19523,null,null,0,2212]
[21,19843,21,19851,11,19866,21,19891,null,null,0,2212]
[12,20124,23,20131,24,20152,23,20166,null,null,0,1222]
[12,20294,23,20314,24,20325,23,20332,null,null,0,1222]
[21,20427,21,20432,22,20439,23,20445,null,null,0,2222]
[21,20540,21,20572,22,20577,23,20583,null,null,0,2222]
[21,20712,21,20718,22,20722,23,20732,null,null,0,2222]
[21,20880,21,20899,22,20904,23,20911,null,null,0,2222]
[12,21017,23,21029,24,21033,23,21039,null,null,0,1222]
[21,21136,12,21144,24,21153,23,21169,null,null,0,2122]
[21,21263,21,21270,11,21283,21,21297,null,null,0,2212]
[21,21521,21,21545,22,21554,23,21561,null,null,0,2222]
[12,21669,23,21696,24,21703,23,21712,null,null,0,1222]
[21,21812,12,21838,24,21856,23,21863,null,null,0,2122]
[21,21961,12,21975,24,21998,23,22005,null,null,0,2122]
[21,22103,12,22112,24,22140,23,22147,null,null,0,2122]
[12,22247,23,22256,24,22263,23,22272,null,null,0,1222]
[12,22387,23,22400,24,22411,23,22422,null,null,0,1222]
[21,22518,21,22540,22,22547,23,22553,null,null,0,2222]
[21,22651,12,22666,24,22695,23,22702,null,null,0,2122]
[21,22801,12,22812,24,22824,23,22831,null,null,0,2122]
[21,22930,12,22942,24,22955,23,22961,null,null,0,2122]
[21,23058,12,23077,13,23096,23,23117,null,null,0,2112]
[12,23224,23,23232,24,23240,23,23248,null,null,0,1222]
[21,23356,12,23372,24,23380,23,23388,null,null,0,2122]
[21,23491,12,23503,24,23518,23,23526,null,null,0,2122]
[21,23622,21,23632,11,23640,21,23652,null,null,0,2212]
[12,23845,23,23860,24,23870,23,23876,null,null,0,1222]
[12,23983,14,23987,24,23994,null,null,null,null,null,112]

{"sheet":"!LB25954..Is","index":18,"n_rows":176,"n_cols":48,"rows_kept":176,"cut":false,"hidden":false,"merged":[[4,39,4,42],[5,39,5,40],[4,44,4,47],[5,44,5,45],[4,24,4,27],[5,24,5,25],[4,29,4,32],[5,29,5,30],[4,34,4,37],[5,34,5,35],[1,1,1,2],[5,13,5,14],[26,13,26,14],[27,13,27,14],[4,19,4,22],[5,19,5,20]]}
["Report for:!LB25954..Is"]
["Date:","<date>"]
["Hen:","<hen>",null,null,null,"Correct Sequence",{"$f":"Start!J2","v":2212},null,null,null,null,null,null,null,null,"Total Sequences in Data",{"$f":"4994-COUNTBLANK(L7:L5000)","v":170},null,null,null,null,"Total Sequences in Block Data",{"$f":"COUNTA(L7:L34)","v":28},null,null,null,"Total Sequences in Block Data",{"$f":"COUNTA(L35:L63)","v":29},null,null,null,"Total Sequences in Block Data",{"$f":"COUNTA(L64:L91)","v":28},null,null,null,"Total Sequences in Block Data",{"$f":"COUNTA(L92:L119)","v":28},null,null,null,"Total Sequences in Block Data",{"$f":"COUNTA(L120:L148)","v":29},null,null,null,"Total Sequences in Block Data",{"$f":"COUNTA(L149:L176)","v":28}]
[null,null,null,null,null,null,null,null,null,null,null,null,null,null,null,"Total Sequences in Summary",{"$f":"SUM(O7:O22)","v":170},null,null,null,null,"Total Sequences in Block Summary",{"$f":"SUM(U7:U22)","v":28},null,null,null,"Total Sequences in Block Summary",{"$f":"SUM(Z7:Z22)","v":29},null,null,null,"Total Sequences in Block Summary",{"$f":"SUM(AE7:AE22)","v":28},null,null,null,"Total Sequences in Block Summary",{"$f":"SUM(AJ7:AJ22)","v":28},null,null,null,"Total Sequences in Block Summary",{"$f":"SUM(AO7:AO22)","v":29},null,null,null,"Total Sequences in Block Summary",{"$f":"SUM(AT7:AT22)","v":28}]
[null,null,null,null,null,null,null,null,null,null,null,null,null,null,null,null,null,null,null,"Block 1",null,null,null,null,"Block 2",null,null,null,null,"Block 3",null,null,null,null,"Block 4",null,null,null,null,"Block 5",null,null,null,null,"Block 6"]
["Sequence\nComponent\n1","Time\n1","Sequence\nComponent\n2","Time\n2","Sequence\nComponent\n3","Time\n3","Sequence\nComponent\n4","Time\n4","Sequence\nComponent\n5","Time\n5","Correct?\n0=No 1=Yes","Sequence",null,"Frequency",null,"Relative Frequency","Variability",null,null,"Frequency",null,"Relative Frequency","Variability",null,"Frequency",null,"Relative Frequency","Variability",null,"Frequency",null,"Relative Frequency","Variability",null,"Frequency",null,"Relative Frequency","Variability",null,"Frequency",null,"Relative Frequency","Variability",null,"Frequency",null,"Relative Frequency","Variability"]
[21,41,21,44,22,49,23,54,null,null,0,2222,null,1111,{"$f":"COUNTIF($L$7:$L$500,N7)","v":0},{"$f":"O7/$Q$4","v":0},{"$f":"IF(P7=0,0,(P7*((LOG(P7))/LOG(2))))","v":0},null,null,{"$f":"N7","v":1111},{"$f":"COUNTIF(L7:L34,T7)","v":0},{"$f":"U7/(W4-U20)","v":0},{"$f":"IF(V7=0,0,(V7*((LOG(V7))/LOG(2))))","v":0},null,{"$f":"N7","v":1111},{"$f":"COUNTIF(L35:L63,Y7)","v":0},{"$f":"Z7/(AB4-Z20)","v":0},{"$f":"IF(AA7=0,0,(AA7*((LOG(AA7))/LOG(2))))","v":0},null,{"$f":"N7","v":1111},{"$f":"COUNTIF(L64:L91,AD7)","v":0},{"$f":"AE7/(AG4-AE20)","v":0},{"$f":"IF(AF7=0,0,(AF7*((LOG(AF7))/LOG(2))))","v":0},null,{"$f":"N7","v":1111},{"$f":"COUNTIF(L92:L119,AI7)","v":0},{"$f":"AJ7/(AL4-AJ20)","v":0},{"$f":"IF(AK7=0,0,(AK7*((LOG(AK7))/LOG(2))))","v":0},null,{"$f":"N7","v":1111},{"$f":"COUNTIF(L120:L148,AN7)","v":0},{"$f":"AO7/(AQ4-AO20)","v":0},{"$f":"IF(AP7=0,0,(AP7*((LOG(AP7))/LOG(2))))","v":0},null,{"$f":"N7","v":1111},{"$f":"COUNTIF(L149:L176,AS7)","v":0},{"$f":"AT7/(AV4-AT20)","v":0},{"$f":"IF(AU7=0,0,(AU7*((LOG(AU7))/LOG(2))))","v":0}]
[12,159,23,174,24,178,23,183,null,null,0,1222,null,1112,{"$f":"COUNTIF($L$7:$L$500,N8)","v":0},{"$f":"O8/$Q$4","v":0},{"$f":"IF(P8=0,0,(P8*((LOG(P8))/LOG(2))))","v":0},null,null,{"$f":"N8","v":1112},{"$f":"COUNTIF(L7:L34,T8)","v":0},{"$f":"U8/(W4-U20)","v":0},{"$f":"IF(V8=0,0,(V8*((LOG(V8))/LOG(2))))","v":0},null,{"$f":"N8","v":1112},{"$f":"COUNTIF(L35:L63,Y8)","v":0},{"$f":"Z8/(AB4-Z20)","v":0},{"$f":"IF(AA8=0,0,(AA8*((LOG(AA8))/LOG(2))))","v":0},null,{"$f":"N8","v":1112},{"$f":"COUNTIF(L64:L91,AD8)","v":0},{"$f":"AE8/(AG4-AE20)","v":0},{"$f":"IF(AF8=0,0,(AF8*((LOG(AF8))/LOG(2))))","v":0},null,{"$f":"N8","v":1112},{"$f":"COUNTIF(L92:L119,AI8)","v":0},{"$f":"AJ8/(AL4-AJ20)","v":0},{"$f":"IF(AK8=0,0,(AK8*((LOG(AK8))/LOG(2))))","v":0},null,{"$f":"N8","v":1112},{"$f":"COUNTIF(L120:L148,AN8)","v":0},{"$f":"AO8/(AQ4-AO20)","v":0},{"$f":"IF(AP8=0,0,(AP8*((LOG(AP8))/LOG(2))))","v":0},null,{"$f":"N8","v":1112},{"$f":"COUNTIF(L149:L176,AS8)","v":0},{"$f":"AT8/(AV4-AT20)","v":0},{"$f":"IF(AU8=0,0,(AU8*((LOG(AU8))/LOG(2))))","v":0}]
[21,284,12,291,24,300,23,303,null,null,0,2122,null,1121,{"$f":"COUNTIF($L$7:$L$500,N9)","v":0},{"$f":"O9/$Q$4","v":0},{"$f":"IF(P9=0,0,(P9*((LOG(P9))/LOG(2))))","v":0},null,null,{"$f":"N9","v":1121},{"$f":"COUNTIF(L7:L34,T9)","v":0},{"$f":"U9/(W4-U20)","v":0},{"$f":"IF(V9=0,0,(V9*((LOG(V9))/LOG(2))))","v":0},null,{"$f":"N9","v":1121},{"$f":"COUNTIF(L35:L63,Y9)","v":0},{"$f":"Z9/(AB4-Z20)","v":0},{"$f":"IF(AA9=0,0,(AA9*((LOG(AA9))/LOG(2))))","v":0},null,{"$f":"N9","v":1121},{"$f":"COUNTIF(L64:L91,AD9)","v":0},{"$f":"AE9/(AG4-AE20)","v":0},{"$f":"IF(AF9=0,0,(AF9*((LOG(AF9))/LOG(2))))","v":0},null,{"$f":"N9","v":1121},{"$f":"COUNTIF(L92:L119,AI9)","v":0},{"$f":"AJ9/(AL4-AJ20)","v":0},{"$f":"IF(AK9=0,0,(AK9*((LOG(AK9))/LOG(2))))","v":0},null,{"$f":"N9","v":1121},{"$f":"COUNTIF(L120:L148,AN9)","v":0},{"$f":"AO9/(AQ4-AO20)","v":0},{"$f":"IF(AP9=0,0,(AP9*((LOG(AP9))/LOG(2))))","v":0},null,{"$f":"N9","v":1121},{"$f":"COUNTIF(L149:L176,AS9)","v":0},{"$f":"AT9/(AV4-AT20)","v":0},{"$f":"IF(AU9=0,0,(AU9*((LOG(AU9))/LOG(2))))","v":0}]
[21,402,21,420,22,424,23,431,null,null,0,2222,null,1122,{"$f":"COUNTIF($L$7:$L$500,N10)","v":3},{"$f":"O10/$Q$4","v":1.7647058823529412E-2},{"$f":"IF(P10=0,0,(P10*((LOG(P10))/LOG(2))))","v":-0.10278403121323315},null,null,{"$f":"N10","v":1122},{"$f":"COUNTIF(L7:L34,T10)","v":1},{"$f":"U10/(W4-U20)","v":0.04},{"$f":"IF(V10=0,0,(V10*((LOG(V10))/LOG(2))))","v":-0.18575424759098899},null,{"$f":"N10","v":1122},{"$f":"COUNTIF(L35:L63,Y10)","v":1},{"$f":"Z10/(AB4-Z20)","v":3.8461538461538464E-2},{"$f":"IF(AA10=0,0,(AA10*((LOG(AA10))/LOG(2))))","v":-0.18078614300542661},null,{"$f":"N10","v":1122},{"$f":"COUNTIF(L64:L91,AD10)","v":1},{"$f":"AE10/(AG4-AE20)","v":4.1666666666666664E-2},{"$f":"IF(AF10=0,0,(AF10*((LOG(AF10))/LOG(2))))","v":-0.19104010419671485},null,{"$f":"N10","v":1122},{"$f":"COUNTIF(L92:L119,AI10)","v":0},{"$f":"AJ10/(AL4-AJ20)","v":0},{"$f":"IF(AK10=0,0,(AK10*((LOG(AK10))/LOG(2))))","v":0},null,{"$f":"N10","v":1122},{"$f":"COUNTIF(L120:L148,AN10)","v":0},{"$f":"AO10/(AQ4-AO20)","v":0},{"$f":"IF(AP10=0,0,(AP10*((LOG(AP10))/LOG(2))))","v":0},null,{"$f":"N10","v":1122},{"$f":"COUNTIF(L149:L176,AS10)","v":0},{"$f":"AT10/(AV4-AT20)","v":0},{"$f":"IF(AU10=0,0,(AU10*((LOG(AU10))/LOG(2))))","v":0}]
[21,528,21,535,11,543,21,553,null,null,0,2212,null,1211,{"$f":"COUNTIF($L$7:$L$500,N11)","v":0},{"$f":"O11/$Q$4","v":0},{"$f":"IF(P11=0,0,(P11*((LOG(P11))/LOG(2))))","v":0},null,null,{"$f":"N11","v":1211},{"$f":"COUNTIF(L7:L34,T11)","v":0},{"$f":"U11/(W4-U20)","v":0},{"$f":"IF(V11=0,0,(V11*((LOG(V11))/LOG(2))))","v":0},null,{"$f":"N11","v":1211},{"$f":"COUNTIF(L35:L63,Y11)","v":0},{"$f":"Z11/(AB4-Z20)","v":0},{"$f":"IF(AA11=0,0,(AA11*((LOG(AA11))/LOG(2))))","v":0},null,{"$f":"N11","v":1211},{"$f":"COUNTIF(L64:L91,AD11)","v":0},{"$f":"AE11/(AG4-AE20)","v":0},{"$f":"IF(AF11=0,0,(AF11*((LOG(AF11))/LOG(2))))","v":0},null,{"$f":"N11","v":1211},{"$f":"COUNTIF(L92:L119,AI11)","v":0},{"$f":"AJ11/(AL4-AJ20)","v":0},{"$f":"IF(AK11=0,0,(AK11*((LOG(AK11))/LOG(2))))","v":0},null,{"$f":"N11","v":1211},{"$f":"COUNTIF(L120:L148,AN11)","v":0},{"$f":"AO11/(AQ4-AO20)","v":0},{"$f":"IF(AP11=0,0,(AP11*((LOG(AP11))/LOG(2))))","v":0},null,{"$f":"N11","v":1211},{"$f":"COUNTIF(L149:L176,AS11)","v":0},{"$f":"AT11/(AV4-AT20)","v":0},{"$f":"IF(AU11=0,0,(AU11*((LOG(AU11))/LOG(2))))","v":0}]
[12,832,23,842,24,845,23,856,null,null,0,1222,null,1212,{"$f":"COUNTIF($L$7:$L$500,N12)","v":0},{"$f":"O12/$Q$4","v":0},{"$f":"IF(P12=0,0,(P12*((LOG(P12))/LOG(2))))","v":0},null,null,{"$f":"N12","v":1212},{"$f":"COUNTIF(L7:L34,T12)","v":0},{"$f":"U12/(W4-U20)","v":0},{"$f":"IF(V12=0,0,(V12*((LOG(V12))/LOG(2))))","v":0},null,{"$f":"N12","v":1212},{"$f":"COUNTIF(L35:L63,Y12)","v":0},{"$f":"Z12/(AB4-Z20)","v":0},{"$f":"IF(AA12=0,0,(AA12*((LOG(AA12))/LOG(2))))","v":0},null,{"$f":"N12","v":1212},{"$f":"COUNTIF(L64:L91,AD12)","v":0},{"$f":"AE12/(AG4-AE20)","v":0},{"$f":"IF(AF12=0,0,(AF12*((LOG(AF12))/LOG(2))))","v":0},null,{"$f":"N12","v":1212},{"$f":"COUNTIF(L92:L119,AI12)","v":0},{"$f":"AJ12/(AL4-AJ20)","v":0},{"$f":"IF(AK12=0,0,(AK12*((LOG(AK12))/LOG(2))))","v":0},null,{"$f":"N12","v":1212},{"$f":"COUNTIF(L120:L148,AN12)","v":0},{"$f":"AO12/(AQ4-AO20)","v":0},{"$f":"IF(AP12=0,0,(AP12*((LOG(AP12))/LOG(2))))","v":0},null,{"$f":"N12","v":1212},{"$f":"COUNTIF(L149:L176,AS12)","v":0},{"$f":"AT12/(AV4-AT20)","v":0},{"$f":"IF(AU12=0,0,(AU12*((LOG(AU12))/LOG(2))))","v":0}]
[21,965,21,969,22,973,23,978,null,null,0,2222,null,1221,{"$f":"COUNTIF($L$7:$L$500,N13)","v":1},{"$f":"O13/$Q$4","v":5.8823529411764705E-3},{"$f":"IF(P13=0,0,(P13*((LOG(P13))/LOG(2))))","v":-4.35846525655159E-2},null,null,{"$f":"N13","v":1221},{"$f":"COUNTIF(L7:L34,T13)","v":1},{"$f":"U13/(W4-U20)","v":0.04},{"$f":"IF(V13=0,0,(V13*((LOG(V13))/LOG(2))))","v":-0.18575424759098899},null,{"$f":"N13","v":1221},{"$f":"COUNTIF(L35:L63,Y13)","v":0},{"$f":"Z13/(AB4-Z20)","v":0},{"$f":"IF(AA13=0,0,(AA13*((LOG(AA13))/LOG(2))))","v":0},null,{"$f":"N13","v":1221},{"$f":"COUNTIF(L64:L91,AD13)","v":0},{"$f":"AE13/(AG4-AE20)","v":0},{"$f":"IF(AF13=0,0,(AF13*((LOG(AF13))/LOG(2))))","v":0},null,{"$f":"N13","v":1221},{"$f":"COUNTIF(L92:L119,AI13)","v":0},{"$f":"AJ13/(AL4-AJ20)","v":0},{"$f":"IF(AK13=0,0,(AK13*((LOG(AK13))/LOG(2))))","v":0},null,{"$f":"N13","v":1221},{"$f":"COUNTIF(L120:L148,AN13)","v":0},{"$f":"AO13/(AQ4-AO20)","v":0},{"$f":"IF(AP13=0,0,(AP13*((LOG(AP13))/LOG(2))))","v":0},null,{"$f":"N13","v":1221},{"$f":"COUNTIF(L149:L176,AS13)","v":0},{"$f":"AT13/(AV4-AT20)","v":0},{"$f":"IF(AU13=0,0,(AU13*((LOG(AU13))/LOG(2))))","v":0}]
[21,1076,21,1096,22,1100,23,1107,null,null,0,2222,null,1222,{"$f":"COUNTIF($L$7:$L$500,N14)","v":30},{"$f":"O14/$Q$4","v":0.17647058823529413},{"$f":"IF(P14=0,0,(P14*((LOG(P14))/LOG(2))))","v":-0.44161770715220888},null,null,{"$f":"N14","v":1222},{"$f":"COUNTIF(L7:L34,T14)","v":7},{"$f":"U14/(W4-U20)","v":0.28000000000000003},{"$f":"IF(V14=0,0,(V14*((LOG(V14))/LOG(2))))","v":-0.51422035496079388},null,{"$f":"N14","v":1222},{"$f":"COUNTIF(L35:L63,Y14)","v":1},{"$f":"Z14/(AB4-Z20)","v":3.8461538461538464E-2},{"$f":"IF(AA14=0,0,(AA14*((LOG(AA14))/LOG(2))))","v":-0.18078614300542661},null,{"$f":"N14","v":1222},{"$f":"COUNTIF(L64:L91,AD14)","v":2},{"$f":"AE14/(AG4-AE20)","v":8.3333333333333329E-2},{"$f":"IF(AF14=0,0,(AF14*((LOG(AF14))/LOG(2))))","v":-0.29874687506009634},null,{"$f":"N14","v":1222},{"$f":"COUNTIF(L92:L119,AI14)","v":9},{"$f":"AJ14/(AL4-AJ20)","v":0.36},{"$f":"IF(AK14=0,0,(AK14*((LOG(AK14))/LOG(2))))","v":-0.53061522779966841},null,{"$f":"N14","v":1222},{"$f":"COUNTIF(L120:L148,AN14)","v":8},{"$f":"AO14/(AQ4-AO20)","v":0.32},{"$f":"IF(AP14=0,0,(AP14*((LOG(AP14))/LOG(2))))","v":-0.52603398072791185},null,{"$f":"N14","v":1222},{"$f":"COUNTIF(L149:L176,AS14)","v":3},{"$f":"AT14/(AV4-AT20)","v":0.13043478260869565},{"$f":"IF(AU14=0,0,(AU14*((LOG(AU14))/LOG(2))))","v":-0.3832955811307639}]
[21,1203,21,1228,22,1234,23,1244,null,null,0,2222,null,2111,{"$f":"COUNTIF($L$7:$L$500,N15)","v":0},{"$f":"O15/$Q$4","v":0},{"$f":"IF(P15=0,0,(P15*((LOG(P15))/LOG(2))))","v":0},null,null,{"$f":"N15","v":2111},{"$f":"COUNTIF(L7:L34,T15)","v":0},{"$f":"U15/(W4-U20)","v":0},{"$f":"IF(V15=0,0,(V15*((LOG(V15))/LOG(2))))","v":0},null,{"$f":"N15","v":2111},{"$f":"COUNTIF(L35:L63,Y15)","v":0},{"$f":"Z15/(AB4-Z20)","v":0},{"$f":"IF(AA15=0,0,(AA15*((LOG(AA15))/LOG(2))))","v":0},null,{"$f":"N15","v":2111},{"$f":"COUNTIF(L64:L91,AD15)","v":0},{"$f":"AE15/(AG4-AE20)","v":0},{"$f":"IF(AF15=0,0,(AF15*((LOG(AF15))/LOG(2))))","v":0},null,{"$f":"N15","v":2111},{"$f":"COUNTIF(L92:L119,AI15)","v":0},{"$f":"AJ15/(AL4-AJ20)","v":0},{"$f":"IF(AK15=0,0,(AK15*((LOG(AK15))/LOG(2))))","v":0},null,{"$f":"N15","v":2111},{"$f":"COUNTIF(L120:L148,AN15)","v":0},{"$f":"AO15/(AQ4-AO20)","v":0},{"$f":"IF(AP15=0,0,(AP15*((LOG(AP15))/LOG(2))))","v":0},null,{"$f":"N15","v":2111},{"$f":"COUNTIF(L149:L176,AS15)","v":0},{"$f":"AT15/(AV4-AT20)","v":0},{"$f":"IF(AU15=0,0,(AU15*((LOG(AU15))/LOG(2))))","v":0}]
[21,1358,21,1368,22,1373,23,1379,null,null,0,2222,null,2112,{"$f":"COUNTIF($L$7:$L$500,N16)","v":3},{"$f":"O16/$Q$4","v":1.7647058823529412E-2},{"$f":"IF(P16=0,0,(P16*((LOG(P16))/LOG(2))))","v":-0.10278403121323315},null,null,{"$f":"N16","v":2112},{"$f":"COUNTIF(L7:L34,T16)","v":0},{"$f":"U16/(W4-U20)","v":0},{"$f":"IF(V16=0,0,(V16*((LOG(V16))/LOG(2))))","v":0},null,{"$f":"N16","v":2112},{"$f":"COUNTIF(L35:L63,Y16)","v":0},{"$f":"Z16/(AB4-Z20)","v":0},{"$f":"IF(AA16=0,0,(AA16*((LOG(AA16))/LOG(2))))","v":0},null,{"$f":"N16","v":2112},{"$f":"COUNTIF(L64:L91,AD16)","v":2},{"$f":"AE16/(AG4-AE20)","v":8.3333333333333329E-2},{"$f":"IF(AF16=0,0,(AF16*((LOG(AF16))/LOG(2))))","v":-0.29874687506009634},null,{"$f":"N16","v":2112},{"$f":"COUNTIF(L92:L119,AI16)","v":0},{"$f":"AJ16/(AL4-AJ20)","v":0},{"$f":"IF(AK16=0,0,(AK16*((LOG(AK16))/LOG(2))))","v":0},null,{"$f":"N16","v":2112},{"$f":"COUNTIF(L120:L148,AN16)","v":0},{"$f":"AO16/(AQ4-AO20)","v":0},{"$f":"IF(AP16=0,0,(AP16*((LOG(AP16))/LOG(2))))","v":0},null,{"$f":"N16","v":2112},{"$f":"COUNTIF(L149:L176,AS16)","v":1},{"$f":"AT16/(AV4-AT20)","v":4.3478260869565216E-2},{"$f":"IF(AU16=0,0,(AU16*((LOG(AU16))/LOG(2))))","v":-0.19667660678508753}]
[12,1497,23,1509,24,1514,23,1521,null,null,0,1222,null,2121,{"$f":"COUNTIF($L$7:$L$500,N17)","v":0},{"$f":"O17/$Q$4","v":0},{"$f":"IF(P17=0,0,(P17*((LOG(P17))/LOG(2))))","v":0},null,null,{"$f":"N17","v":2121},{"$f":"COUNTIF(L7:L34,T17)","v":0},{"$f":"U17/(W4-U20)","v":0},{"$f":"IF(V17=0,0,(V17*((LOG(V17))/LOG(2))))","v":0},null,{"$f":"N17","v":2121},{"$f":"COUNTIF(L35:L63,Y17)","v":0},{"$f":"Z17/(AB4-Z20)","v":0},{"$f":"IF(AA17=0,0,(AA17*((LOG(AA17))/LOG(2))))","v":0},null,{"$f":"N17","v":2121},{"$f":"COUNTIF(L64:L91,AD17)","v":0},{"$f":"AE17/(AG4-AE20)","v":0},{"$f":"IF(AF17=0,0,(AF17*((LOG(AF17))/LOG(2))))","v":0},null,{"$f":"N17","v":2121},{"$f":"COUNTIF(L92:L119,AI17)","v":0},{"$f":"AJ17/(AL4-AJ20)","v":0},{"$f":"IF(AK17=0,0,(AK17*((LOG(AK17))/LOG(2))))","v":0},null,{"$f":"N17","v":2121},{"$f":"COUNTIF(L120:L148,AN17)","v":0},{"$f":"AO17/(AQ4-AO20)","v":0},{"$f":"IF(AP17=0,0,(AP17*((LOG(AP17))/LOG(2))))","v":0},null,{"$f":"N17","v":2121},{"$f":"COUNTIF(L149:L176,AS17)","v":0},{"$f":"AT17/(AV4-AT20)","v":0},{"$f":"IF(AU17=0,0,(AU17*((LOG(AU17))/LOG(2))))","v":0}]
[21,1616,12,1630,24,1641,23,1651,null,null,0,2122,null,2122,{"$f":"COUNTIF($L$7:$L$500,N18)","v":40},{"$f":"O18/$Q$4","v":0.23529411764705882},{"$f":"IF(P18=0,0,(P18*((LOG(P18))/LOG(2))))","v":-0.49116772735302094},null,null,{"$f":"N18","v":2122},{"$f":"COUNTIF(L7:L34,T18)","v":6},{"$f":"U18/(W4-U20)","v":0.24},{"$f":"IF(V18=0,0,(V18*((LOG(V18))/LOG(2))))","v":-0.49413448537285637},null,{"$f":"N18","v":2122},{"$f":"COUNTIF(L35:L63,Y18)","v":10},{"$f":"Z18/(AB4-Z20)","v":0.38461538461538464},{"$f":"IF(AA18=0,0,(AA18*((LOG(AA18))/LOG(2))))","v":-0.53019677817451139},null,{"$f":"N18","v":2122},{"$f":"COUNTIF(L64:L91,AD18)","v":7},{"$f":"AE18/(AG4-AE20)","v":0.29166666666666669},{"$f":"IF(AF18=0,0,(AF18*((LOG(AF18))/LOG(2))))","v":-0.51846887711020273},null,{"$f":"N18","v":2122},{"$f":"COUNTIF(L92:L119,AI18)","v":5},{"$f":"AJ18/(AL4-AJ20)","v":0.2},{"$f":"IF(AK18=0,0,(AK18*((LOG(AK18))/LOG(2))))","v":-0.46438561897747244},null,{"$f":"N18","v":2122},{"$f":"COUNTIF(L120:L148,AN18)","v":5},{"$f":"AO18/(AQ4-AO20)","v":0.2},{"$f":"IF(AP18=0,0,(AP18*((LOG(AP18))/LOG(2))))","v":-0.46438561897747244},null,{"$f":"N18","v":2122},{"$f":"COUNTIF(L149:L176,AS18)","v":7},{"$f":"AT18/(AV4-AT20)","v":0.30434782608695654},{"$f":"IF(AU18=0,0,(AU18*((LOG(AU18))/LOG(2))))","v":-0.52232387991286355}]
[21,1759,21,1772,22,1777,23,1799,null,null,0,2222,null,2211,{"$f":"COUNTIF($L$7:$L$500,N19)","v":1},{"$f":"O19/$Q$4","v":5.8823529411764705E-3},{"$f":"IF(P19=0,0,(P19*((LOG(P19))/LOG(2))))","v":-4.35846525655159E-2},null,null,{"$f":"N19","v":2211},{"$f":"COUNTIF(L7:L34,T19)","v":0},{"$f":"U19/(W4-U20)","v":0},{"$f":"IF(V19=0,0,(V19*((LOG(V19))/LOG(2))))","v":0},null,{"$f":"N19","v":2211},{"$f":"COUNTIF(L35:L63,Y19)","v":0},{"$f":"Z19/(AB4-Z20)","v":0},{"$f":"IF(AA19=0,0,(AA19*((LOG(AA19))/LOG(2))))","v":0},null,{"$f":"N19","v":2211},{"$f":"COUNTIF(L64:L91,AD19)","v":1},{"$f":"AE19/(AG4-AE20)","v":4.1666666666666664E-2},{"$f":"IF(AF19=0,0,(AF19*((LOG(AF19))/LOG(2))))","v":-0.19104010419671485},null,{"$f":"N19","v":2211},{"$f":"COUNTIF(L92:L119,AI19)","v":0},{"$f":"AJ19/(AL4-AJ20)","v":0},{"$f":"IF(AK19=0,0,(AK19*((LOG(AK19))/LOG(2))))","v":0},null,{"$f":"N19","v":2211},{"$f":"COUNTIF(L120:L148,AN19)","v":0},{"$f":"AO19/(AQ4-AO20)","v":0},{"$f":"IF(AP19=0,0,(AP19*((LOG(AP19))/LOG(2))))","v":0},null,{"$f":"N19","v":2211},{"$f":"COUNTIF(L149:L176,AS19)","v":0},{"$f":"AT19/(AV4-AT20)","v":0},{"$f":"IF(AU19=0,0,(AU19*((LOG(AU19))/LOG(2))))","v":0}]
[21,1896,21,1901,22,1914,23,1920,null,null,0,2222,null,2212,{"$f":"COUNTIF($L$7:$L$500,N20)","v":22},{"$f":"O20/$Q$4","v":0.12941176470588237},{"$f":"IF(P20=0,0,(P20*((LOG(P20))/LOG(2))))","v":-0.38175944108828763},null,null,{"$f":"N20","v":2212},{"$f":"COUNTIF(L7:L34,T20)","v":3},null,null,null,{"$f":"N20","v":2212},{"$f":"COUNTIF(L35:L63,Y20)","v":3},null,null,null,{"$f":"N20","v":2212},{"$f":"COUNTIF(L64:L91,AD20)","v":4},null,null,null,{"$f":"N20","v":2212},{"$f":"COUNTIF(L92:L119,AI20)","v":3},null,null,null,{"$f":"N20","v":2212},{"$f":"COUNTIF(L120:L148,AN20)","v":4},null,null,null,{"$f":"N20","v":2212},{"$f":"COUNTIF(L149:L176,AS20)","v":5}]
[21,2017,12,2031,24,2042,23,2052,null,null,0,2122,null,2221,{"$f":"COUNTIF($L$7:$L$500,N21)","v":7},{"$f":"O21/$Q$4","v":4.1176470588235294E-2},{"$f":"IF(P21=0,0,(P21*((LOG(P21))/LOG(2))))","v":-0.18949560057976875},null,null,{"$f":"N21","v":2221},{"$f":"COUNTIF(L7:L34,T21)","v":0},{"$f":"U21/(W4-U20)","v":0},{"$f":"IF(V21=0,0,(V21*((LOG(V21))/LOG(2))))","v":0},null,{"$f":"N21","v":2221},{"$f":"COUNTIF(L35:L63,Y21)","v":4},{"$f":"Z21/(AB4-Z20)","v":0.15384615384615385},{"$f":"IF(AA21=0,0,(AA21*((LOG(AA21))/LOG(2))))","v":-0.4154522643293988},null,{"$f":"N21","v":2221},{"$f":"COUNTIF(L64:L91,AD21)","v":1},{"$f":"AE21/(AG4-AE20)","v":4.1666666666666664E-2},{"$f":"IF(AF21=0,0,(AF21*((LOG(AF21))/LOG(2))))","v":-0.19104010419671485},null,{"$f":"N21","v":2221},{"$f":"COUNTIF(L92:L119,AI21)","v":1},{"$f":"AJ21/(AL4-AJ20)","v":0.04},{"$f":"IF(AK21=0,0,(AK21*((LOG(AK21))/LOG(2))))","v":-0.18575424759098899},null,{"$f":"N21","v":2221},{"$f":"COUNTIF(L120:L148,AN21)","v":0},{"$f":"AO21/(AQ4-AO20)","v":0},{"$f":"IF(AP21=0,0,(AP21*((LOG(AP21))/LOG(2))))","v":0},null,{"$f":"N21","v":2221},{"$f":"COUNTIF(L149:L176,AS21)","v":1},{"$f":"AT21/(AV4-AT20)","v":4.3478260869565216E-2},{"$f":"IF(AU21=0,0,(AU21*((LOG(AU21))/LOG(2))))","v":-0.19667660678508753}]
[12,2164,23,2185,24,2192,23,2203,null,null,0,1222,null,2222,{"$f":"COUNTIF($L$7:$L$500,N22)","v":63},{"$f":"O22/$Q$4","v":0.37058823529411766},{"$f":"IF(P22=0,0,(P22*((LOG(P22))/LOG(2))))","v":-0.53072349291870868},null,null,{"$f":"N22","v":2222},{"$f":"COUNTIF(L7:L34,T22)","v":10},{"$f":"U22/(W4-U20)","v":0.4},{"$f":"IF(V22=0,0,(V22*((LOG(V22))/LOG(2))))","v":-0.52877123795494496},null,{"$f":"N22","v":2222},{"$f":"COUNTIF(L35:L63,Y22)","v":10},{"$f":"Z22/(AB4-Z20)","v":0.38461538461538464},{"$f":"IF(AA22=0,0,(AA22*((LOG(AA22))/LOG(2))))","v":-0.53019677817451139},null,{"$f":"N22","v":2222},{"$f":"COUNTIF(L64:L91,AD22)","v":10},{"$f":"AE22/(AG4-AE20)","v":0.41666666666666669},{"$f":"IF(AF22=0,0,(AF22*((LOG(AF22))/LOG(2))))","v":-0.52626433576408083},null,{"$f":"N22","v":2222},{"$f":"COUNTIF(L92:L119,AI22)","v":10},{"$f":"AJ22/(AL4-AJ20)","v":0.4},{"$f":"IF(AK22=0,0,(AK22*((LOG(AK22))/LOG(2))))","v":-0.52877123795494496},null,{"$f":"N22","v":2222},{"$f":"COUNTIF(L120:L148,AN22)","v":12},{"$f":"AO22/(AQ4-AO20)","v":0.48},{"$f":"IF(AP22=0,0,(AP22*((LOG(AP22))/LOG(2))))","v":-0.50826897074571287},null,{"$f":"N22","v":2222},{"$f":"COUNTIF(L149:L176,AS22)","v":11},{"$f":"AT22/(AV4-AT20)","v":0.47826086956521741},{"$f":"IF(AU22=0,0,(AU22*((LOG(AU22))/LOG(2))))","v":-0.5089319005050813}]
[12,2318,23,2330,24,2339,23,2345,null,null,0,1222,null,null,null,{"$f":"SUM(P7:P22)","v":1},{"$f":"-SUM(Q7:Q22)","v":2.327501336649493},null,null,null,null,{"$f":"SUM(V7:V22)","v":1},{"$f":"-SUM(W7:W22)","v":1.9086345734705732},null,null,null,{"$f":"SUM(AA7:AA22)","v":1},{"$f":"-SUM(AB7:AB22)","v":1.8374181066892747},null,null,null,{"$f":"SUM(AF7:AF22)","v":1},{"$f":"-SUM(AG7:AG22)","v":2.2153472755846209},null,null,null,{"$f":"SUM(AK7:AK22)","v":1},{"$f":"-SUM(AL7:AL22)","v":1.7095263323230747},null,null,null,{"$f":"SUM(AP7:AP22)","v":1},{"$f":"-SUM(AQ7:AQ22)","v":1.498688570451097},null,null,null,{"$f":"SUM(AU7:AU22)","v":1},{"$f":"-SUM(AV7:AV22)","v":1.8079045751188838}]
[21,2445,21,2454,11,2461,21,2475,null,null,0,2212,null,null,null,"U=",{"$f":"Q23/(LOG(Q4)/LOG(2))","v":0.31412856423833818},null,null,null,null,"U1=",{"$f":"W23/(LOG(W4)/LOG(2))","v":0.39702385291195752},null,null,null,"U2=",{"$f":"AB23/(LOG(AB4)/LOG(2))","v":0.37822669716743584},null,null,null,"U3=",{"$f":"AG23/(LOG(AG4)/LOG(2))","v":0.46082457224448625},null,null,null,"U4=",{"$f":"AL23/(LOG(AL4)/LOG(2))","v":0.35560643223558325},null,null,null,"U5=",{"$f":"AQ23/(LOG(AQ4)/LOG(2))","v":0.30850029507201499},null,null,null,"U6=",{"$f":"AV23/(LOG(AV4)/LOG(2))","v":0.37607054283087543}]
[12,2648,23,2654,24,2659,23,2668,null,null,0,1222]
[21,2765,12,2783,24,2799,23,2809,null,null,0,2122]
[21,2906,12,2922,24,2934,23,2957,null,null,0,2122,null,"Total Target Seq"]
[12,3087,23,3102,24,3108,14,3121,null,null,0,1221,null,{"$f":"COUNTIF(L7:L176,G3)","v":22},null,28,29,28,28,29,28]
[12,3227,14,3246,24,3257,23,3270,null,null,0,1122,null,null,null,"% of reinforcement given in 6 equal intervals based on number of trials "]
[21,3368,21,3405,22,3412,23,3424,null,null,0,2222,null,null,null,"%_1","%_2","%_3","%_4","%_5","%_6"]
[12,3532,23,3541,24,3549,23,3556,null,null,0,1222,null,null,"target sequence",{"$f":"$G$3","v":2212},{"$f":"$G$3","v":2212},{"$f":"$G$3","v":2212},{"$f":"$G$3","v":2212},{"$f":"$G$3","v":2212},{"$f":"$G$3","v":2212}]
[21,3655,21,3660,22,3670,23,3676,null,null,0,2222,null,null,"total reinforcement",{"$f":"U20","v":3},{"$f":"Z20","v":3},{"$f":"AE20","v":4},{"$f":"AJ20","v":3},{"$f":"AO20","v":4},{"$f":"AT20","v":5}]
[21,3775,12,3781,24,3791,23,3795,null,null,0,2122,null,null,"% target"]
[21,3895,21,3903,11,3910,21,3921,null,null,0,2212,null,null,"CCRF"]
[21,4073,12,4080,24,4091,23,4101,null,null,0,2122,null,null,"% CCRf"]
[21,4202,21,4207,22,4216,14,4233,null,null,0,2221,null,null,"average response rate",{"$f":"H34/P28","v":140.03571428571428},{"$f":"(H63-H34)/Q28","v":146.24137931034483},{"$f":"(H91-H63)/R28","v":140.42857142857142},{"$f":"(H119-H91)/S28","v":140.78571428571428},{"$f":"(H148-H119)/T28","v":140},{"$f":"(H176-H148)/U28","v":138.67857142857142}]
[21,4330,21,4339,11,4351,21,4372,null,null,0,2212]
[21,4520,21,4528,22,4540,23,4547,null,null,0,2222]
[21,4643,12,4658,24,4669,23,4681,null,null,0,2122]
[21,4784,21,4793,22,4804,23,4809,null,null,0,2222]
[21,4916,12,4931,24,4957,23,4965,null,null,0,2122]
[21,5064,12,5083,24,5105,23,5112,null,null,0,2122]
[12,5226,14,5230,24,5240,23,5251,null,null,0,1122]
[21,5350,12,5378,24,5386,23,5404,null,null,0,2122]
[21,5543,21,5551,22,5558,23,5565,null,null,0,2222]
[21,5668,21,5681,22,5697,23,5703,null,null,0,2222]
[21,5801,12,5820,24,5831,23,5847,null,null,0,2122]
[21,5945,21,5950,22,5961,23,5965,null,null,0,2222]
[21,6069,12,6077,24,6094,23,6112,null,null,0,2122]
[21,6210,21,6237,22,6245,23,6251,null,null,0,2222]
[21,6353,21,6359,22,6366,14,6374,null,null,0,2221]
[21,6475,21,6482,11,6490,21,6510,null,null,0,2212]
[12,6766,23,6775,24,6784,23,6797,null,null,0,1222]
[21,6894,21,6913,22,6918,23,6924,null,null,0,2222]
[21,7020,12,7039,24,7046,23,7051,null,null,0,2122]
[21,7149,21,7154,22,7159,14,7167,null,null,0,2221]
[21,7269,21,7289,22,7296,23,7303,null,null,0,2222]
[21,7403,21,7409,11,7419,21,7428,null,null,0,2212]
[21,7605,21,7622,22,7639,23,7646,null,null,0,2222]
[21,7747,12,7756,24,7769,23,7777,null,null,0,2122]
[21,7873,21,7879,22,7890,14,7903,null,null,0,2221]
[21,8003,21,8012,22,8024,23,8030,null,null,0,2222]
[21,8131,12,8141,24,8153,23,8162,null,null,0,2122]
[21,8277,21,8285,22,8291,23,8297,null,null,0,2222]
[21,8398,21,8402,22,8408,14,8417,null,null,0,2221]
[21,8523,12,8531,24,8543,23,8551,null,null,0,2122]
[21,8647,21,8652,22,8671,23,8675,null,null,0,2222]
[21,8794,21,8800,22,8813,23,8823,null,null,0,2222]
[21,8919,21,8924,22,8930,23,8950,null,null,0,2222]
[12,9063,14,9069,24,9078,23,9083,null,null,0,1122]
[21,9183,12,9198,24,9208,23,9214,null,null,0,2122]
[21,9314,12,9327,24,9339,23,9346,null,null,0,2122]
[21,9444,21,9448,22,9455,23,9463,null,null,0,2222]
[21,9559,21,9563,22,9568,23,9585,null,null,0,2222]
[21,9684,21,9689,11,9707,21,9720,null,null,0,2212]
[12,9924,23,9937,24,9943,23,9955,null,null,0,1222]
[12,10073,23,10082,24,10086,23,10092,null,null,0,1222]
[21,10190,21,10206,11,10214,21,10226,null,null,0,2212]
[21,10356,21,10363,11,10370,12,10375,null,null,0,2211]
[21,10471,21,10479,22,10514,23,10522,null,null,0,2222]
[21,10619,12,10638,24,10647,23,10654,null,null,0,2122]
[21,10751,12,10766,13,10769,23,10785,null,null,0,2112]
[21,10886,21,10893,22,10909,23,10915,null,null,0,2222]
[21,11017,12,11029,13,11035,23,11056,null,null,0,2112]
[21,11164,12,11170,24,11182,23,11188,null,null,0,2122]
[21,11286,21,11297,11,11304,21,11315,null,null,0,2212]
[21,11457,12,11470,24,11478,23,11482,null,null,0,2122]
[21,11581,21,11585,11,11603,21,11613,null,null,0,2212]
[21,11793,21,11814,22,11820,23,11826,null,null,0,2222]
[21,11923,21,11931,22,11944,23,11959,null,null,0,2222]
[21,12060,12,12068,24,12085,23,12094,null,null,0,2122]
[21,12193,21,12219,22,12230,23,12243,null,null,0,2222]
[12,12353,23,12364,24,12370,23,12377,null,null,0,1222]
[21,12473,21,12488,22,12492,23,12500,null,null,0,2222]
[12,12606,23,12619,24,12631,23,12638,null,null,0,1222]
[21,12736,12,12749,24,12757,23,12768,null,null,0,2122]
[12,12882,23,12901,24,12913,23,12920,null,null,0,1222]
[21,13040,21,13050,22,13057,23,13063,null,null,0,2222]
[21,13160,21,13174,22,13191,23,13203,null,null,0,2222]
[21,13300,21,13305,22,13314,14,13321,null,null,0,2221]
[12,13417,23,13427,24,13431,23,13436,null,null,0,1222]
[12,13533,23,13539,24,13546,23,13556,null,null,0,1222]
[21,13657,21,13663,11,13670,21,13679,null,null,0,2212]
[21,13924,21,13941,22,13949,23,13955,null,null,0,2222]
[21,14054,21,14076,22,14082,23,14090,null,null,0,2222]
[21,14188,21,14192,22,14214,23,14220,null,null,0,2222]
[21,14316,21,14321,11,14329,21,14337,null,null,0,2212]
[21,14482,21,14490,22,14499,23,14505,null,null,0,2222]
[21,14604,12,14621,24,14629,23,14645,null,null,0,2122]
[21,14742,12,14754,24,14773,23,14780,null,null,0,2122]
[12,14887,23,14897,24,14909,23,14917,null,null,0,1222]
[21,15016,21,15020,11,15031,21,15045,null,null,0,2212]
[21,15161,12,15181,24,15205,23,15218,null,null,0,2122]
[21,15317,21,15354,22,15362,23,15371,null,null,0,2222]
[12,15476,23,15489,24,15496,23,15503,null,null,0,1222]
[21,15608,21,15628,22,15634,23,15640,null,null,0,2222]
[12,15740,23,15747,24,15750,23,15756,null,null,0,1222]
[12,15867,23,15876,24,15882,23,15890,null,null,0,1222]
[21,15988,12,16008,24,16028,23,16036,null,null,0,2122]
[21,16140,21,16145,22,16152,23,16162,null,null,0,2222]
[21,16264,12,16271,24,16280,23,16288,null,null,0,2122]
[12,16393,23,16402,24,16406,23,16414,null,null,0,1222]
[12,16522,23,16540,24,16547,23,16554,null,null,0,1222]
[21,16654,21,16659,11,16667,21,16673,null,null,0,2212]
[21,16775,12,16782,24,16788,23,16793,null,null,0,2122]
[21,16890,21,16913,22,16925,23,16931,null,null,0,2222]
[12,17038,23,17055,24,17061,23,17069,null,null,0,1222]
[21,17169,21,17181,22,17187,23,17196,null,null,0,2222]
[21,17294,21,17330,22,17338,23,17346,null,null,0,2222]
[12,17457,23,17465,24,17470,23,17477,null,null,0,1222]
[21,17577,21,17597,22,17603,23,17610,null,null,0,2222]
[21,17707,12,17720,24,17742,23,17749,null,null,0,2122]
[21,17847,12,17854,24,17875,23,17889,null,null,0,2122]
[21,17994,12,18002,24,18011,23,18015,null,null,0,2122]
[21,18115,21,18119,11,18127,21,18139,null,null,0,2212]
[12,18282,23,18289,24,18294,23,18301,null,null,0,1222]
[21,18401,21,18406,22,18418,23,18423,null,null,0,2222]
[21,18522,21,18535,22,18540,23,18546,null,null,0,2222]
[12,18650,23,18659,24,18663,23,18674,null,null,0,1222]
[21,18873,21,18877,22,18882,23,18888,null,null,0,2222]
[21,18987,21,19005,22,19015,23,19023,null,null,0,2222]
[21,19144,21,19150,22,19157,23,19164,null,null,0,2222]
[21,19276,21,19281,11,19288,21,19297,null,null,0,2212]
[12,19429,23,19438,24,19466,23,19479,null,null,0,1222]
[21,19576,21,19582,22,19595,23,19602,null,null,0,2222]
[21,19698,21,19703,11,19715,21,19729,null,null,0,2212]
[21,19923,21,19935,22,19940,23,19946,null,null,0,2222]
[12,20055,23,20067,24,20089,23,20096,null,null,0,1222]
[21,20194,21,20199,22,20217,23,20235,null,null,0,2222]
[12,20345,23,20351,24,20354,23,20360,null,null,0,1222]
[21,20458,21,20464,11,20471,21,20482,null,null,0,2212]
[21,20600,21,20614,22,20617,23,20623,null,null,0,2222]
[21,20722,21,20730,11,20737,21,20746,null,null,0,2212]
[21,20931,21,20941,22,20950,23,20957,null,null,0,2222]
[21,21054,21,21070,22,21081,23,21090,null,null,0,2222]
[21,21201,21,21204,22,21210,23,21216,null,null,0,2222]
[21,21314,21,21322,11,21329,21,21338,null,null,0,2212]
[21,21438,21,21446,22,21466,23,21473,null,null,0,2222]
[21,21572,21,21588,22,21595,23,21602,null,null,0,2222]
[21,21741,21,21753,22,21759,23,21765,null,null,0,2222]
[21,21861,21,21881,22,21892,23,21900,null,null,0,2222]
[21,21996,21,22010,22,22014,23,22020,null,null,0,2222]
[21,22115,21,22119,11,22134,21,22149,null,null,0,2212]
[21,22288,12,22295,24,22305,23,22315,null,null,0,2122]
[12,22423,23,22448,24,22466,23,22473,null,null,0,1222]
[21,22575,21,22580,22,22603,23,22611,null,null,0,2222]
[21,22715,21,22720,22,22729,14,22737,null,null,0,2221]
[21,22840,12,22854,24,22864,23,22870,null,null,0,2122]
[21,22966,21,22971,11,22984,21,23005,null,null,0,2212]
[21,23147,12,23155,24,23162,23,23173,null,null,0,2122]
[12,23284,23,23304,24,23312,23,23319,null,null,0,1222]
[21,23416,12,23434,24,23445,23,23456,null,null,0,2122]
[21,23554,12,23560,13,23565,23,23587,null,null,0,2112]
[21,23684,12,23696,24,23705,23,23712,null,null,0,2122]
[21,23808,12,23821,24,23839,23,23847,null,null,0,2122]
[21,23944,12,23958,24,23972,23,23979,null,null,null,2122]

{"sheet":"!LB26944..Is","index":19,"n_rows":184,"n_cols":48,"rows_kept":184,"cut":false,"hidden":false,"merged":[[4,39,4,42],[5,39,5,40],[4,44,4,47],[5,44,5,45],[4,24,4,27],[5,24,5,25],[4,29,4,32],[5,29,5,30],[4,34,4,37],[5,34,5,35],[1,1,1,2],[5,13,5,14],[26,13,26,14],[27,13,27,14],[4,19,4,22],[5,19,5,20]]}
["Report for:!LB26944..Is"]
["Date:","<date>"]
["Hen:","<hen>",null,null,null,"Correct Sequence",{"$f":"Start!J2","v":2212},null,null,null,null,null,null,null,null,"Total Sequences in Data",{"$f":"4994-COUNTBLANK(L7:L5000)","v":178},null,null,null,null,"Total Sequences in Block Data",{"$f":"COUNTA(L7:L36)","v":30},null,null,null,"Total Sequences in Block Data",{"$f":"COUNTA(L37:L65)","v":29},null,null,null,"Total Sequences in Block Data",{"$f":"COUNTA(L66:L95)","v":30},null,null,null,"Total Sequences in Block Data",{"$f":"COUNTA(L96:L125)","v":30},null,null,null,"Total Sequences in Block Data",{"$f":"COUNTA(L126:L154)","v":29},null,null,null,"Total Sequences in Block Data",{"$f":"COUNTA(L155:L184)","v":30}]
[null,null,null,null,null,null,null,null,null,null,null,null,null,null,null,"Total Sequences in Summary",{"$f":"SUM(O7:O22)","v":178},null,null,null,null,"Total Sequences in Block Summary",{"$f":"SUM(U7:U22)","v":30},null,null,null,"Total Sequences in Block Summary",{"$f":"SUM(Z7:Z22)","v":29},null,null,null,"Total Sequences in Block Summary",{"$f":"SUM(AE7:AE22)","v":30},null,null,null,"Total Sequences in Block Summary",{"$f":"SUM(AJ7:AJ22)","v":30},null,null,null,"Total Sequences in Block Summary",{"$f":"SUM(AO7:AO22)","v":29},null,null,null,"Total Sequences in Block Summary",{"$f":"SUM(AT7:AT22)","v":30}]
[null,null,null,null,null,null,null,null,null,null,null,null,null,null,null,null,null,null,null,"Block 1",null,null,null,null,"Block 2",null,null,null,null,"Block 3",null,null,null,null,"Block 4",null,null,null,null,"Block 5",null,null,null,null,"Block 6"]
["Sequence\nComponent\n1","Time\n1","Sequence\nComponent\n2","Time\n2","Sequence\nComponent\n3","Time\n3","Sequence\nComponent\n4","Time\n4","Sequence\nComponent\n5","Time\n5","Correct?\n0=No 1=Yes","Sequence",null,"Frequency",null,"Relative Frequency","Variability",null,null,"Frequency",null,"Relative Frequency","Variability",null,"Frequency",null,"Relative Frequency","Variability",null,"Frequency",null,"Relative Frequency","Variability",null,"Frequency",null,"Relative Frequency","Variability",null,"Frequency",null,"Relative Frequency","Variability",null,"Frequency",null,"Relative Frequency","Variability"]
[21,52,12,100,24,109,23,113,null,null,0,2122,null,1111,{"$f":"COUNTIF($L$7:$L$500,N7)","v":1},{"$f":"O7/$Q$4","v":5.6179775280898875E-3},{"$f":"IF(P7=0,0,(P7*((LOG(P7))/LOG(2))))","v":-4.1998502421159538E-2},null,null,{"$f":"N7","v":1111},{"$f":"COUNTIF(L7:L36,T7)","v":0},{"$f":"U7/(W4-U20)","v":0},{"$f":"IF(V7=0,0,(V7*((LOG(V7))/LOG(2))))","v":0},null,{"$f":"N7","v":1111},{"$f":"COUNTIF(L37:L65,Y7)","v":1},{"$f":"Z7/(AB4-Z20)","v":4.5454545454545456E-2},{"$f":"IF(AA7=0,0,(AA7*((LOG(AA7))/LOG(2))))","v":-0.20270143721078623},null,{"$f":"N7","v":1111},{"$f":"COUNTIF(L66:L95,AD7)","v":0},{"$f":"AE7/(AG4-AE20)","v":0},{"$f":"IF(AF7=0,0,(AF7*((LOG(AF7))/LOG(2))))","v":0},null,{"$f":"N7","v":1111},{"$f":"COUNTIF(L96:L125,AI7)","v":0},{"$f":"AJ7/(AL4-AJ20)","v":0},{"$f":"IF(AK7=0,0,(AK7*((LOG(AK7))/LOG(2))))","v":0},null,{"$f":"N7","v":1111},{"$f":"COUNTIF(L126:L154,AN7)","v":0},{"$f":"AO7/(AQ4-AO20)","v":0},{"$f":"IF(AP7=0,0,(AP7*((LOG(AP7))/LOG(2))))","v":0},null,{"$f":"N7","v":1111},{"$f":"COUNTIF(L155:L184,AS7)","v":0},{"$f":"AT7/(AV4-AT20)","v":0},{"$f":"IF(AU7=0,0,(AU7*((LOG(AU7))/LOG(2))))","v":0}]
[12,220,23,230,24,235,23,240,null,null,0,1222,null,1112,{"$f":"COUNTIF($L$7:$L$500,N8)","v":0},{"$f":"O8/$Q$4","v":0},{"$f":"IF(P8=0,0,(P8*((LOG(P8))/LOG(2))))","v":0},null,null,{"$f":"N8","v":1112},{"$f":"COUNTIF(L7:L36,T8)","v":0},{"$f":"U8/(W4-U20)","v":0},{"$f":"IF(V8=0,0,(V8*((LOG(V8))/LOG(2))))","v":0},null,{"$f":"N8","v":1112},{"$f":"COUNTIF(L37:L65,Y8)","v":0},{"$f":"Z8/(AB4-Z20)","v":0},{"$f":"IF(AA8=0,0,(AA8*((LOG(AA8))/LOG(2))))","v":0},null,{"$f":"N8","v":1112},{"$f":"COUNTIF(L66:L95,AD8)","v":0},{"$f":"AE8/(AG4-AE20)","v":0},{"$f":"IF(AF8=0,0,(AF8*((LOG(AF8))/LOG(2))))","v":0},null,{"$f":"N8","v":1112},{"$f":"COUNTIF(L96:L125,AI8)","v":0},{"$f":"AJ8/(AL4-AJ20)","v":0},{"$f":"IF(AK8=0,0,(AK8*((LOG(AK8))/LOG(2))))","v":0},null,{"$f":"N8","v":1112},{"$f":"COUNTIF(L126:L154,AN8)","v":0},{"$f":"AO8/(AQ4-AO20)","v":0},{"$f":"IF(AP8=0,0,(AP8*((LOG(AP8))/LOG(2))))","v":0},null,{"$f":"N8","v":1112},{"$f":"COUNTIF(L155:L184,AS8)","v":0},{"$f":"AT8/(AV4-AT20)","v":0},{"$f":"IF(AU8=0,0,(AU8*((LOG(AU8))/LOG(2))))","v":0}]
[21,339,21,344,11,352,21,362,null,null,0,2212,null,1121,{"$f":"COUNTIF($L$7:$L$500,N9)","v":0},{"$f":"O9/$Q$4","v":0},{"$f":"IF(P9=0,0,(P9*((LOG(P9))/LOG(2))))","v":0},null,null,{"$f":"N9","v":1121},{"$f":"COUNTIF(L7:L36,T9)","v":0},{"$f":"U9/(W4-U20)","v":0},{"$f":"IF(V9=0,0,(V9*((LOG(V9))/LOG(2))))","v":0},null,{"$f":"N9","v":1121},{"$f":"COUNTIF(L37:L65,Y9)","v":0},{"$f":"Z9/(AB4-Z20)","v":0},{"$f":"IF(AA9=0,0,(AA9*((LOG(AA9))/LOG(2))))","v":0},null,{"$f":"N9","v":1121},{"$f":"COUNTIF(L66:L95,AD9)","v":0},{"$f":"AE9/(AG4-AE20)","v":0},{"$f":"IF(AF9=0,0,(AF9*((LOG(AF9))/LOG(2))))","v":0},null,{"$f":"N9","v":1121},{"$f":"COUNTIF(L96:L125,AI9)","v":0},{"$f":"AJ9/(AL4-AJ20)","v":0},{"$f":"IF(AK9=0,0,(AK9*((LOG(AK9))/LOG(2))))","v":0},null,{"$f":"N9","v":1121},{"$f":"COUNTIF(L126:L154,AN9)","v":0},{"$f":"AO9/(AQ4-AO20)","v":0},{"$f":"IF(AP9=0,0,(AP9*((LOG(AP9))/LOG(2))))","v":0},null,{"$f":"N9","v":1121},{"$f":"COUNTIF(L155:L184,AS9)","v":0},{"$f":"AT9/(AV4-AT20)","v":0},{"$f":"IF(AU9=0,0,(AU9*((LOG(AU9))/LOG(2))))","v":0}]
[21,493,21,507,22,510,23,515,null,null,0,2222,null,1122,{"$f":"COUNTIF($L$7:$L$500,N10)","v":1},{"$f":"O10/$Q$4","v":5.6179775280898875E-3},{"$f":"IF(P10=0,0,(P10*((LOG(P10))/LOG(2))))","v":-4.1998502421159538E-2},null,null,{"$f":"N10","v":1122},{"$f":"COUNTIF(L7:L36,T10)","v":0},{"$f":"U10/(W4-U20)","v":0},{"$f":"IF(V10=0,0,(V10*((LOG(V10))/LOG(2))))","v":0},null,{"$f":"N10","v":1122},{"$f":"COUNTIF(L37:L65,Y10)","v":0},{"$f":"Z10/(AB4-Z20)","v":0},{"$f":"IF(AA10=0,0,(AA10*((LOG(AA10))/LOG(2))))","v":0},null,{"$f":"N10","v":1122},{"$f":"COUNTIF(L66:L95,AD10)","v":1},{"$f":"AE10/(AG4-AE20)","v":4.3478260869565216E-2},{"$f":"IF(AF10=0,0,(AF10*((LOG(AF10))/LOG(2))))","v":-0.19667660678508753},null,{"$f":"N10","v":1122},{"$f":"COUNTIF(L96:L125,AI10)","v":0},{"$f":"AJ10/(AL4-AJ20)","v":0},{"$f":"IF(AK10=0,0,(AK10*((LOG(AK10))/LOG(2))))","v":0},null,{"$f":"N10","v":1122},{"$f":"COUNTIF(L126:L154,AN10)","v":0},{"$f":"AO10/(AQ4-AO20)","v":0},{"$f":"IF(AP10=0,0,(AP10*((LOG(AP10))/LOG(2))))","v":0},null,{"$f":"N10","v":1122},{"$f":"COUNTIF(L155:L184,AS10)","v":0},{"$f":"AT10/(AV4-AT20)","v":0},{"$f":"IF(AU10=0,0,(AU10*((LOG(AU10))/LOG(2))))","v":0}]
[21,637,21,642,22,648,23,654,null,null,0,2222,null,1211,{"$f":"COUNTIF($L$7:$L$500,N11)","v":0},{"$f":"O11/$Q$4","v":0},{"$f":"IF(P11=0,0,(P11*((LOG(P11))/LOG(2))))","v":0},null,null,{"$f":"N11","v":1211},{"$f":"COUNTIF(L7:L36,T11)","v":0},{"$f":"U11/(W4-U20)","v":0},{"$f":"IF(V11=0,0,(V11*((LOG(V11))/LOG(2))))","v":0},null,{"$f":"N11","v":1211},{"$f":"COUNTIF(L37:L65,Y11)","v":0},{"$f":"Z11/(AB4-Z20)","v":0},{"$f":"IF(AA11=0,0,(AA11*((LOG(AA11))/LOG(2))))","v":0},null,{"$f":"N11","v":1211},{"$f":"COUNTIF(L66:L95,AD11)","v":0},{"$f":"AE11/(AG4-AE20)","v":0},{"$f":"IF(AF11=0,0,(AF11*((LOG(AF11))/LOG(2))))","v":0},null,{"$f":"N11","v":1211},{"$f":"COUNTIF(L96:L125,AI11)","v":0},{"$f":"AJ11/(AL4-AJ20)","v":0},{"$f":"IF(AK11=0,0,(AK11*((LOG(AK11))/LOG(2))))","v":0},null,{"$f":"N11","v":1211},{"$f":"COUNTIF(L126:L154,AN11)","v":0},{"$f":"AO11/(AQ4-AO20)","v":0},{"$f":"IF(AP11=0,0,(AP11*((LOG(AP11))/LOG(2))))","v":0},null,{"$f":"N11","v":1211},{"$f":"COUNTIF(L155:L184,AS11)","v":0},{"$f":"AT11/(AV4-AT20)","v":0},{"$f":"IF(AU11=0,0,(AU11*((LOG(AU11))/LOG(2))))","v":0}]
[21,762,21,767,22,775,14,783,null,null,0,2221,null,1212,{"$f":"COUNTIF($L$7:$L$500,N12)","v":0},{"$f":"O12/$Q$4","v":0},{"$f":"IF(P12=0,0,(P12*((LOG(P12))/LOG(2))))","v":0},null,null,{"$f":"N12","v":1212},{"$f":"COUNTIF(L7:L36,T12)","v":0},{"$f":"U12/(W4-U20)","v":0},{"$f":"IF(V12=0,0,(V12*((LOG(V12))/LOG(2))))","v":0},null,{"$f":"N12","v":1212},{"$f":"COUNTIF(L37:L65,Y12)","v":0},{"$f":"Z12/(AB4-Z20)","v":0},{"$f":"IF(AA12=0,0,(AA12*((LOG(AA12))/LOG(2))))","v":0},null,{"$f":"N12","v":1212},{"$f":"COUNTIF(L66:L95,AD12)","v":0},{"$f":"AE12/(AG4-AE20)","v":0},{"$f":"IF(AF12=0,0,(AF12*((LOG(AF12))/LOG(2))))","v":0},null,{"$f":"N12","v":1212},{"$f":"COUNTIF(L96:L125,AI12)","v":0},{"$f":"AJ12/(AL4-AJ20)","v":0},{"$f":"IF(AK12=0,0,(AK12*((LOG(AK12))/LOG(2))))","v":0},null,{"$f":"N12","v":1212},{"$f":"COUNTIF(L126:L154,AN12)","v":0},{"$f":"AO12/(AQ4-AO20)","v":0},{"$f":"IF(AP12=0,0,(AP12*((LOG(AP12))/LOG(2))))","v":0},null,{"$f":"N12","v":1212},{"$f":"COUNTIF(L155:L184,AS12)","v":0},{"$f":"AT12/(AV4-AT20)","v":0},{"$f":"IF(AU12=0,0,(AU12*((LOG(AU12))/LOG(2))))","v":0}]
[21,903,21,908,22,916,14,932,null,null,0,2221,null,1221,{"$f":"COUNTIF($L$7:$L$500,N13)","v":0},{"$f":"O13/$Q$4","v":0},{"$f":"IF(P13=0,0,(P13*((LOG(P13))/LOG(2))))","v":0},null,null,{"$f":"N13","v":1221},{"$f":"COUNTIF(L7:L36,T13)","v":0},{"$f":"U13/(W4-U20)","v":0},{"$f":"IF(V13=0,0,(V13*((LOG(V13))/LOG(2))))","v":0},null,{"$f":"N13","v":1221},{"$f":"COUNTIF(L37:L65,Y13)","v":0},{"$f":"Z13/(AB4-Z20)","v":0},{"$f":"IF(AA13=0,0,(AA13*((LOG(AA13))/LOG(2))))","v":0},null,{"$f":"N13","v":1221},{"$f":"COUNTIF(L66:L95,AD13)","v":0},{"$f":"AE13/(AG4-AE20)","v":0},{"$f":"IF(AF13=0,0,(AF13*((LOG(AF13))/LOG(2))))","v":0},null,{"$f":"N13","v":1221},{"$f":"COUNTIF(L96:L125,AI13)","v":0},{"$f":"AJ13/(AL4-AJ20)","v":0},{"$f":"IF(AK13=0,0,(AK13*((LOG(AK13))/LOG(2))))","v":0},null,{"$f":"N13","v":1221},{"$f":"COUNTIF(L126:L154,AN13)","v":0},{"$f":"AO13/(AQ4-AO20)","v":0},{"$f":"IF(AP13=0,0,(AP13*((LOG(AP13))/LOG(2))))","v":0},null,{"$f":"N13","v":1221},{"$f":"COUNTIF(L155:L184,AS13)","v":0},{"$f":"AT13/(AV4-AT20)","v":0},{"$f":"IF(AU13=0,0,(AU13*((LOG(AU13))/LOG(2))))","v":0}]
[21,1029,21,1051,22,1067,23,1075,null,null,0,2222,null,1222,{"$f":"COUNTIF($L$7:$L$500,N14)","v":5},{"$f":"O14/$Q$4","v":2.8089887640449437E-2},{"$f":"IF(P14=0,0,(P14*((LOG(P14))/LOG(2))))","v":-0.14476981281120885},null,null,{"$f":"N14","v":1222},{"$f":"COUNTIF(L7:L36,T14)","v":2},{"$f":"U14/(W4-U20)","v":7.1428571428571425E-2},{"$f":"IF(V14=0,0,(V14*((LOG(V14))/LOG(2))))","v":-0.27195392300411453},null,{"$f":"N14","v":1222},{"$f":"COUNTIF(L37:L65,Y14)","v":2},{"$f":"Z14/(AB4-Z20)","v":9.0909090909090912E-2},{"$f":"IF(AA14=0,0,(AA14*((LOG(AA14))/LOG(2))))","v":-0.31449378351248153},null,{"$f":"N14","v":1222},{"$f":"COUNTIF(L66:L95,AD14)","v":0},{"$f":"AE14/(AG4-AE20)","v":0},{"$f":"IF(AF14=0,0,(AF14*((LOG(AF14))/LOG(2))))","v":0},null,{"$f":"N14","v":1222},{"$f":"COUNTIF(L96:L125,AI14)","v":0},{"$f":"AJ14/(AL4-AJ20)","v":0},{"$f":"IF(AK14=0,0,(AK14*((LOG(AK14))/LOG(2))))","v":0},null,{"$f":"N14","v":1222},{"$f":"COUNTIF(L126:L154,AN14)","v":0},{"$f":"AO14/(AQ4-AO20)","v":0},{"$f":"IF(AP14=0,0,(AP14*((LOG(AP14))/LOG(2))))","v":0},null,{"$f":"N14","v":1222},{"$f":"COUNTIF(L155:L184,AS14)","v":1},{"$f":"AT14/(AV4-AT20)","v":3.7037037037037035E-2},{"$f":"IF(AU14=0,0,(AU14*((LOG(AU14))/LOG(2))))","v":-0.1761069445245729}]
[21,1172,21,1188,22,1191,23,1197,null,null,0,2222,null,2111,{"$f":"COUNTIF($L$7:$L$500,N15)","v":0},{"$f":"O15/$Q$4","v":0},{"$f":"IF(P15=0,0,(P15*((LOG(P15))/LOG(2))))","v":0},null,null,{"$f":"N15","v":2111},{"$f":"COUNTIF(L7:L36,T15)","v":0},{"$f":"U15/(W4-U20)","v":0},{"$f":"IF(V15=0,0,(V15*((LOG(V15))/LOG(2))))","v":0},null,{"$f":"N15","v":2111},{"$f":"COUNTIF(L37:L65,Y15)","v":0},{"$f":"Z15/(AB4-Z20)","v":0},{"$f":"IF(AA15=0,0,(AA15*((LOG(AA15))/LOG(2))))","v":0},null,{"$f":"N15","v":2111},{"$f":"COUNTIF(L66:L95,AD15)","v":0},{"$f":"AE15/(AG4-AE20)","v":0},{"$f":"IF(AF15=0,0,(AF15*((LOG(AF15))/LOG(2))))","v":0},null,{"$f":"N15","v":2111},{"$f":"COUNTIF(L96:L125,AI15)","v":0},{"$f":"AJ15/(AL4-AJ20)","v":0},{"$f":"IF(AK15=0,0,(AK15*((LOG(AK15))/LOG(2))))","v":0},null,{"$f":"N15","v":2111},{"$f":"COUNTIF(L126:L154,AN15)","v":0},{"$f":"AO15/(AQ4-AO20)","v":0},{"$f":"IF(AP15=0,0,(AP15*((LOG(AP15))/LOG(2))))","v":0},null,{"$f":"N15","v":2111},{"$f":"COUNTIF(L155:L184,AS15)","v":0},{"$f":"AT15/(AV4-AT20)","v":0},{"$f":"IF(AU15=0,0,(AU15*((LOG(AU15))/LOG(2))))","v":0}]
[21,1295,21,1299,22,1306,14,1314,null,null,0,2221,null,2112,{"$f":"COUNTIF($L$7:$L$500,N16)","v":1},{"$f":"O16/$Q$4","v":5.6179775280898875E-3},{"$f":"IF(P16=0,0,(P16*((LOG(P16))/LOG(2))))","v":-4.1998502421159538E-2},null,null,{"$f":"N16","v":2112},{"$f":"COUNTIF(L7:L36,T16)","v":0},{"$f":"U16/(W4-U20)","v":0},{"$f":"IF(V16=0,0,(V16*((LOG(V16))/LOG(2))))","v":0},null,{"$f":"N16","v":2112},{"$f":"COUNTIF(L37:L65,Y16)","v":0},{"$f":"Z16/(AB4-Z20)","v":0},{"$f":"IF(AA16=0,0,(AA16*((LOG(AA16))/LOG(2))))","v":0},null,{"$f":"N16","v":2112},{"$f":"COUNTIF(L66:L95,AD16)","v":1},{"$f":"AE16/(AG4-AE20)","v":4.3478260869565216E-2},{"$f":"IF(AF16=0,0,(AF16*((LOG(AF16))/LOG(2))))","v":-0.19667660678508753},null,{"$f":"N16","v":2112},{"$f":"COUNTIF(L96:L125,AI16)","v":0},{"$f":"AJ16/(AL4-AJ20)","v":0},{"$f":"IF(AK16=0,0,(AK16*((LOG(AK16))/LOG(2))))","v":0},null,{"$f":"N16","v":2112},{"$f":"COUNTIF(L126:L154,AN16)","v":0},{"$f":"AO16/(AQ4-AO20)","v":0},{"$f":"IF(AP16=0,0,(AP16*((LOG(AP16))/LOG(2))))","v":0},null,{"$f":"N16","v":2112},{"$f":"COUNTIF(L155:L184,AS16)","v":0},{"$f":"AT16/(AV4-AT20)","v":0},{"$f":"IF(AU16=0,0,(AU16*((LOG(AU16))/LOG(2))))","v":0}]
[21,1413,21,1430,22,1435,14,1442,null,null,0,2221,null,2121,{"$f":"COUNTIF($L$7:$L$500,N17)","v":0},{"$f":"O17/$Q$4","v":0},{"$f":"IF(P17=0,0,(P17*((LOG(P17))/LOG(2))))","v":0},null,null,{"$f":"N17","v":2121},{"$f":"COUNTIF(L7:L36,T17)","v":0},{"$f":"U17/(W4-U20)","v":0},{"$f":"IF(V17=0,0,(V17*((LOG(V17))/LOG(2))))","v":0},null,{"$f":"N17","v":2121},{"$f":"COUNTIF(L37:L65,Y17)","v":0},{"$f":"Z17/(AB4-Z20)","v":0},{"$f":"IF(AA17=0,0,(AA17*((LOG(AA17))/LOG(2))))","v":0},null,{"$f":"N17","v":2121},{"$f":"COUNTIF(L66:L95,AD17)","v":0},{"$f":"AE17/(AG4-AE20)","v":0},{"$f":"IF(AF17=0,0,(AF17*((LOG(AF17))/LOG(2))))","v":0},null,{"$f":"N17","v":2121},{"$f":"COUNTIF(L96:L125,AI17)","v":0},{"$f":"AJ17/(AL4-AJ20)","v":0},{"$f":"IF(AK17=0,0,(AK17*((LOG(AK17))/LOG(2))))","v":0},null,{"$f":"N17","v":2121},{"$f":"COUNTIF(L126:L154,AN17)","v":0},{"$f":"AO17/(AQ4-AO20)","v":0},{"$f":"IF(AP17=0,0,(AP17*((LOG(AP17))/LOG(2))))","v":0},null,{"$f":"N17","v":2121},{"$f":"COUNTIF(L155:L184,AS17)","v":0},{"$f":"AT17/(AV4-AT20)","v":0},{"$f":"IF(AU17=0,0,(AU17*((LOG(AU17))/LOG(2))))","v":0}]
[21,1539,21,1543,22,1548,23,1560,null,null,0,2222,null,2122,{"$f":"COUNTIF($L$7:$L$500,N18)","v":18},{"$f":"O18/$Q$4","v":0.10112359550561797},{"$f":"IF(P18=0,0,(P18*((LOG(P18))/LOG(2))))","v":-0.33429523444625581},null,null,{"$f":"N18","v":2122},{"$f":"COUNTIF(L7:L36,T18)","v":7},{"$f":"U18/(W4-U20)","v":0.25},{"$f":"IF(V18=0,0,(V18*((LOG(V18))/LOG(2))))","v":-0.5},null,{"$f":"N18","v":2122},{"$f":"COUNTIF(L37:L65,Y18)","v":3},{"$f":"Z18/(AB4-Z20)","v":0.13636363636363635},{"$f":"IF(AA18=0,0,(AA18*((LOG(AA18))/LOG(2))))","v":-0.39197306153401923},null,{"$f":"N18","v":2122},{"$f":"COUNTIF(L66:L95,AD18)","v":3},{"$f":"AE18/(AG4-AE20)","v":0.13043478260869565},{"$f":"IF(AF18=0,0,(AF18*((LOG(AF18))/LOG(2))))","v":-0.3832955811307639},null,{"$f":"N18","v":2122},{"$f":"COUNTIF(L96:L125,AI18)","v":3},{"$f":"AJ18/(AL4-AJ20)","v":0.12},{"$f":"IF(AK18=0,0,(AK18*((LOG(AK18))/LOG(2))))","v":-0.36706724268642821},null,{"$f":"N18","v":2122},{"$f":"COUNTIF(L126:L154,AN18)","v":1},{"$f":"AO18/(AQ4-AO20)","v":3.5714285714285712E-2},{"$f":"IF(AP18=0,0,(AP18*((LOG(AP18))/LOG(2))))","v":-0.17169124721634299},null,{"$f":"N18","v":2122},{"$f":"COUNTIF(L155:L184,AS18)","v":1},{"$f":"AT18/(AV4-AT20)","v":3.7037037037037035E-2},{"$f":"IF(AU18=0,0,(AU18*((LOG(AU18))/LOG(2))))","v":-0.1761069445245729}]
[21,1657,21,1663,22,1674,23,1679,null,null,0,2222,null,2211,{"$f":"COUNTIF($L$7:$L$500,N19)","v":3},{"$f":"O19/$Q$4","v":1.6853932584269662E-2},{"$f":"IF(P19=0,0,(P19*((LOG(P19))/LOG(2))))","v":-9.9282656127728783E-2},null,null,{"$f":"N19","v":2211},{"$f":"COUNTIF(L7:L36,T19)","v":0},{"$f":"U19/(W4-U20)","v":0},{"$f":"IF(V19=0,0,(V19*((LOG(V19))/LOG(2))))","v":0},null,{"$f":"N19","v":2211},{"$f":"COUNTIF(L37:L65,Y19)","v":1},{"$f":"Z19/(AB4-Z20)","v":4.5454545454545456E-2},{"$f":"IF(AA19=0,0,(AA19*((LOG(AA19))/LOG(2))))","v":-0.20270143721078623},null,{"$f":"N19","v":2211},{"$f":"COUNTIF(L66:L95,AD19)","v":1},{"$f":"AE19/(AG4-AE20)","v":4.3478260869565216E-2},{"$f":"IF(AF19=0,0,(AF19*((LOG(AF19))/LOG(2))))","v":-0.19667660678508753},null,{"$f":"N19","v":2211},{"$f":"COUNTIF(L96:L125,AI19)","v":1},{"$f":"AJ19/(AL4-AJ20)","v":0.04},{"$f":"IF(AK19=0,0,(AK19*((LOG(AK19))/LOG(2))))","v":-0.18575424759098899},null,{"$f":"N19","v":2211},{"$f":"COUNTIF(L126:L154,AN19)","v":0},{"$f":"AO19/(AQ4-AO20)","v":0},{"$f":"IF(AP19=0,0,(AP19*((LOG(AP19))/LOG(2))))","v":0},null,{"$f":"N19","v":2211},{"$f":"COUNTIF(L155:L184,AS19)","v":0},{"$f":"AT19/(AV4-AT20)","v":0},{"$f":"IF(AU19=0,0,(AU19*((LOG(AU19))/LOG(2))))","v":0}]
[21,1776,12,1797,24,1815,23,1823,null,null,0,2122,null,2212,{"$f":"COUNTIF($L$7:$L$500,N20)","v":25},{"$f":"O20/$Q$4","v":0.1404494382022472},{"$f":"IF(P20=0,0,(P20*((LOG(P20))/LOG(2))))","v":-0.39773556758310014},null,null,{"$f":"N20","v":2212},{"$f":"COUNTIF(L7:L36,T20)","v":2},null,null,null,{"$f":"N20","v":2212},{"$f":"COUNTIF(L37:L65,Y20)","v":7},null,null,null,{"$f":"N20","v":2212},{"$f":"COUNTIF(L66:L95,AD20)","v":7},null,null,null,{"$f":"N20","v":2212},{"$f":"COUNTIF(L96:L125,AI20)","v":5},null,null,null,{"$f":"N20","v":2212},{"$f":"COUNTIF(L126:L154,AN20)","v":1},null,null,null,{"$f":"N20","v":2212},{"$f":"COUNTIF(L155:L184,AS20)","v":3}]
[21,1924,12,1939,24,1949,23,1955,null,null,0,2122,null,2221,{"$f":"COUNTIF($L$7:$L$500,N21)","v":23},{"$f":"O21/$Q$4","v":0.12921348314606743},{"$f":"IF(P21=0,0,(P21*((LOG(P21))/LOG(2))))","v":-0.38146035911750481},null,null,{"$f":"N21","v":2221},{"$f":"COUNTIF(L7:L36,T21)","v":7},{"$f":"U21/(W4-U20)","v":0.25},{"$f":"IF(V21=0,0,(V21*((LOG(V21))/LOG(2))))","v":-0.5},null,{"$f":"N21","v":2221},{"$f":"COUNTIF(L37:L65,Y21)","v":3},{"$f":"Z21/(AB4-Z20)","v":0.13636363636363635},{"$f":"IF(AA21=0,0,(AA21*((LOG(AA21))/LOG(2))))","v":-0.39197306153401923},null,{"$f":"N21","v":2221},{"$f":"COUNTIF(L66:L95,AD21)","v":2},{"$f":"AE21/(AG4-AE20)","v":8.6956521739130432E-2},{"$f":"IF(AF21=0,0,(AF21*((LOG(AF21))/LOG(2))))","v":-0.30639669183104457},null,{"$f":"N21","v":2221},{"$f":"COUNTIF(L96:L125,AI21)","v":4},{"$f":"AJ21/(AL4-AJ20)","v":0.16},{"$f":"IF(AK21=0,0,(AK21*((LOG(AK21))/LOG(2))))","v":-0.42301699036395596},null,{"$f":"N21","v":2221},{"$f":"COUNTIF(L126:L154,AN21)","v":2},{"$f":"AO21/(AQ4-AO20)","v":7.1428571428571425E-2},{"$f":"IF(AP21=0,0,(AP21*((LOG(AP21))/LOG(2))))","v":-0.27195392300411453},null,{"$f":"N21","v":2221},{"$f":"COUNTIF(L155:L184,AS21)","v":5},{"$f":"AT21/(AV4-AT20)","v":0.18518518518518517},{"$f":"IF(AU21=0,0,(AU21*((LOG(AU21))/LOG(2))))","v":-0.45054803838446406}]
[21,2051,12,2071,24,2080,23,2087,null,null,0,2122,null,2222,{"$f":"COUNTIF($L$7:$L$500,N22)","v":101},{"$f":"O22/$Q$4","v":0.56741573033707871},{"$f":"IF(P22=0,0,(P22*((LOG(P22))/LOG(2))))","v":-0.46387481331278035},null,null,{"$f":"N22","v":2222},{"$f":"COUNTIF(L7:L36,T22)","v":12},{"$f":"U22/(W4-U20)","v":0.42857142857142855},{"$f":"IF(V22=0,0,(V22*((LOG(V22))/LOG(2))))","v":-0.52388246628704915},null,{"$f":"N22","v":2222},{"$f":"COUNTIF(L37:L65,Y22)","v":12},{"$f":"Z22/(AB4-Z20)","v":0.54545454545454541},{"$f":"IF(AA22=0,0,(AA22*((LOG(AA22))/LOG(2))))","v":-0.47698315522698609},null,{"$f":"N22","v":2222},{"$f":"COUNTIF(L66:L95,AD22)","v":15},{"$f":"AE22/(AG4-AE20)","v":0.65217391304347827},{"$f":"IF(AF22=0,0,(AF22*((LOG(AF22))/LOG(2))))","v":-0.40217697420553983},null,{"$f":"N22","v":2222},{"$f":"COUNTIF(L96:L125,AI22)","v":17},{"$f":"AJ22/(AL4-AJ20)","v":0.68},{"$f":"IF(AK22=0,0,(AK22*((LOG(AK22))/LOG(2))))","v":-0.378347476996582},null,{"$f":"N22","v":2222},{"$f":"COUNTIF(L126:L154,AN22)","v":25},{"$f":"AO22/(AQ4-AO20)","v":0.8928571428571429},{"$f":"IF(AP22=0,0,(AP22*((LOG(AP22))/LOG(2))))","v":-0.14598101096685656},null,{"$f":"N22","v":2222},{"$f":"COUNTIF(L155:L184,AS22)","v":20},{"$f":"AT22/(AV4-AT20)","v":0.7407407407407407},{"$f":"IF(AU22=0,0,(AU22*((LOG(AU22))/LOG(2))))","v":-0.32071067205637499}]
[21,2187,21,2192,22,2203,14,2213,null,null,0,2221,null,null,null,{"$f":"SUM(P7:P22)","v":1},{"$f":"-SUM(Q7:Q22)","v":1.9474139506620574},null,null,null,null,{"$f":"SUM(V7:V22)","v":1},{"$f":"-SUM(W7:W22)","v":1.7958363892911637},null,null,null,{"$f":"SUM(AA7:AA22)","v":1},{"$f":"-SUM(AB7:AB22)","v":1.9808259362290785},null,null,null,{"$f":"SUM(AF7:AF22)","v":1},{"$f":"-SUM(AG7:AG22)","v":1.6818990675226109},null,null,null,{"$f":"SUM(AK7:AK22)","v":1},{"$f":"-SUM(AL7:AL22)","v":1.3541859576379551},null,null,null,{"$f":"SUM(AP7:AP22)","v":1},{"$f":"-SUM(AQ7:AQ22)","v":0.58962618118731402},null,null,null,{"$f":"SUM(AU7:AU22)","v":1},{"$f":"-SUM(AV7:AV22)","v":1.1234725994899848}]
[21,2311,12,2328,24,2336,23,2340,null,null,0,2122,null,null,null,"U=",{"$f":"Q23/(LOG(Q4)/LOG(2))","v":0.26049804593023224},null,null,null,null,"U1=",{"$f":"W23/(LOG(W4)/LOG(2))","v":0.3659825615224373},null,null,null,"U2=",{"$f":"AB23/(LOG(AB4)/LOG(2))","v":0.40774674462823041},null,null,null,"U3=",{"$f":"AG23/(LOG(AG4)/LOG(2))","v":0.34276269966724893},null,null,null,"U4=",{"$f":"AL23/(LOG(AL4)/LOG(2))","v":0.27597639100612925},null,null,null,"U5=",{"$f":"AQ23/(LOG(AQ4)/LOG(2))","v":0.12137268173315081},null,null,null,"U6=",{"$f":"AV23/(LOG(AV4)/LOG(2))","v":0.22895815131795486}]
[21,2436,21,2442,22,2459,23,2465,null,null,0,2222]
[21,2563,12,2571,24,2579,23,2588,null,null,0,2122]
[21,2686,21,2691,22,2701,14,2710,null,null,0,2221,null,"Total Target Seq"]
[21,2850,21,2861,11,2868,21,2881,null,null,0,2212,null,{"$f":"COUNTIF(L7:L184,G3)","v":25},null,30,29,30,30,29,30]
[12,3049,23,3056,24,3061,23,3066,null,null,0,1222,null,null,null,"% of reinforcement given in 6 equal intervals based on number of trials "]
[21,3163,21,3200,22,3208,23,3216,null,null,0,2222,null,null,null,"%_1","%_2","%_3","%_4","%_5","%_6"]
[21,3341,21,3347,22,3354,23,3361,null,null,0,2222,null,null,"target sequence",{"$f":"$G$3","v":2212},{"$f":"$G$3","v":2212},{"$f":"$G$3","v":2212},{"$f":"$G$3","v":2212},{"$f":"$G$3","v":2212},{"$f":"$G$3","v":2212}]
[21,3462,21,3474,22,3498,23,3504,null,null,0,2222,null,null,"total reinforcement",{"$f":"U20","v":2},{"$f":"Z20","v":7},{"$f":"AE20","v":7},{"$f":"AJ20","v":5},{"$f":"AO20","v":1},{"$f":"AT20","v":3}]
[21,3605,12,3630,24,3645,23,3652,null,null,0,2122,null,null,"% target"]
[21,3752,21,3766,22,3782,23,3790,null,null,0,2222,null,null,"CCRF"]
[21,3889,21,3894,22,3902,14,3911,null,null,0,2221,null,null,"% CCRf"]
[21,4013,21,4041,22,4049,23,4055,null,null,0,2222,null,null,"average response rate",{"$f":"H36/P28","v":135.16666666666666},{"$f":"(H65-H36)/Q28","v":127.93103448275862},{"$f":"(H95-H65)/R28","v":139.93333333333334},{"$f":"(H125-H95)/S28","v":136},{"$f":"(H154-H125)/T28","v":132.62068965517241},{"$f":"(H184-H154)/U28","v":136.03333333333333}]
[21,4155,21,4163,22,4175,23,4183,null,null,0,2222]
[21,4297,21,4302,22,4306,23,4311,null,null,0,2222]
[21,4408,21,4414,11,4432,21,4449,null,null,0,2212]
[21,4582,21,4595,22,4603,23,4611,null,null,0,2222]
[21,4726,21,4732,22,4737,23,4744,null,null,0,2222]
[21,4839,21,4843,22,4846,23,4851,null,null,0,2222]
[21,4952,12,4966,24,4974,23,4984,null,null,0,2122]
[21,5083,21,5089,22,5098,23,5104,null,null,0,2222]
[21,5203,21,5207,22,5215,23,5229,null,null,0,2222]
[21,5334,21,5338,22,5344,23,5350,null,null,0,2222]
[21,5447,21,5455,22,5467,23,5473,null,null,0,2222]
[21,5570,21,5574,22,5578,23,5584,null,null,0,2222]
[21,5679,21,5683,11,5700,21,5708,null,null,0,2212]
[21,5816,21,5823,22,5833,14,5841,null,null,0,2221]
[21,5939,12,5959,24,5971,23,5979,null,null,0,2122]
[21,6078,21,6082,22,6085,23,6094,null,null,0,2222]
[21,6191,21,6195,11,6202,21,6212,null,null,0,2212]
[21,6315,21,6321,22,6325,23,6330,null,null,0,2222]
[21,6427,21,6433,22,6446,14,6454,null,null,0,2221]
[21,6553,21,6563,11,6572,21,6579,null,null,0,2212]
[21,6680,21,6687,22,6692,14,6704,null,null,0,2221]
[12,6820,23,6831,24,6845,23,6853,null,null,0,1222]
[21,6949,21,6955,11,6963,21,6972,null,null,0,2212]
[12,7087,23,7099,24,7123,23,7132,null,null,0,1222]
[12,7254,14,7257,13,7263,14,7268,null,null,0,1111]
[21,7365,21,7370,11,7381,21,7388,null,null,0,2212]
[21,7475,12,7492,24,7503,23,7510,null,null,0,2122]
[21,7605,21,7608,11,7631,12,7636,null,null,0,2211]
[21,7736,21,7740,11,7758,21,7765,null,null,0,2212]
[21,7872,12,7904,24,7921,23,7934,null,null,0,2122]
[21,8056,21,8072,22,8080,23,8087,null,null,0,2222]
[21,8185,21,8189,11,8208,21,8224,null,null,0,2212]
[12,8346,14,8352,24,8363,23,8370,null,null,0,1122]
[21,8469,21,8484,11,8491,21,8516,null,null,0,2212]
[21,8630,12,8656,24,8669,23,8676,null,null,0,2122]
[21,8774,21,8777,22,8785,14,8793,null,null,0,2221]
[21,8896,21,8900,22,8906,23,8912,null,null,0,2222]
[21,9011,21,9016,11,9024,21,9048,null,null,0,2212]
[21,9229,21,9233,22,9243,23,9248,null,null,0,2222]
[21,9344,21,9352,22,9362,23,9369,null,null,0,2222]
[21,9467,12,9496,24,9519,23,9529,null,null,0,2122]
[21,9629,12,9656,13,9661,23,9678,null,null,0,2112]
[21,9777,21,9803,22,9809,23,9818,null,null,0,2222]
[21,9919,21,9924,22,9950,23,9958,null,null,0,2222]
[21,10053,21,10080,22,10090,23,10097,null,null,0,2222]
[21,10197,21,10202,22,10208,14,10214,null,null,0,2221]
[21,10316,21,10319,22,10329,23,10335,null,null,0,2222]
[21,10432,21,10437,22,10451,23,10457,null,null,0,2222]
[21,10554,21,10558,22,10563,23,10571,null,null,0,2222]
[21,10669,21,10674,11,10689,21,10719,null,null,0,2212]
[21,10842,21,10848,22,10860,23,10866,null,null,0,2222]
[21,10965,21,10970,11,10980,21,10989,null,null,0,2212]
[21,11115,21,11123,22,11140,23,11146,null,null,0,2222]
[21,11245,21,11262,22,11268,23,11276,null,null,0,2222]
[21,11373,21,11378,22,11397,23,11410,null,null,0,2222]
[21,11509,21,11514,11,11525,21,11538,null,null,0,2212]
[21,11651,21,11656,11,11666,12,11672,null,null,0,2211]
[21,11769,21,11775,11,11792,21,11807,null,null,0,2212]
[21,11928,21,11943,22,11948,23,11963,null,null,0,2222]
[21,12063,21,12067,22,12073,14,12081,null,null,0,2221]
[21,12181,21,12188,22,12202,23,12213,null,null,0,2222]
[21,12313,21,12318,11,12328,21,12336,null,null,0,2212]
[21,12429,21,12446,11,12454,12,12460,null,null,0,2211]
[21,12561,12,12572,24,12584,23,12597,null,null,0,2122]
[21,12695,21,12698,22,12703,14,12713,null,null,0,2221]
[21,12811,21,12817,22,12823,23,12829,null,null,0,2222]
[21,12943,21,12948,11,12967,21,12976,null,null,0,2212]
[21,13099,21,13108,22,13114,23,13120,null,null,0,2222]
[21,13217,12,13226,24,13236,23,13246,null,null,0,2122]
[21,13344,12,13359,24,13379,23,13389,null,null,0,2122]
[21,13484,21,13489,22,13500,23,13506,null,null,0,2222]
[21,13604,21,13609,22,13633,23,13641,null,null,0,2222]
[21,13740,21,13745,22,13751,23,13786,null,null,0,2222]
[21,13883,21,13885,22,13890,14,13906,null,null,0,2221]
[21,14002,21,14008,22,14032,23,14044,null,null,0,2222]
[21,14143,21,14147,22,14150,14,14162,null,null,0,2221]
[21,14259,21,14279,22,14284,23,14293,null,null,0,2222]
[21,14392,21,14396,22,14401,23,14429,null,null,0,2222]
[21,14526,21,14547,22,14555,23,14563,null,null,0,2222]
[21,14659,21,14664,11,14673,21,14689,null,null,0,2212]
[21,14826,21,14832,11,14841,21,14848,null,null,0,2212]
[21,15006,21,15034,22,15042,23,15056,null,null,0,2222]
[21,15153,21,15179,22,15189,23,15196,null,null,0,2222]
[21,15293,21,15298,22,15312,23,15318,null,null,0,2222]
[21,15421,21,15426,22,15432,23,15464,null,null,0,2222]
[21,15571,21,15582,22,15590,23,15597,null,null,0,2222]
[21,15695,21,15701,22,15727,23,15740,null,null,0,2222]
[21,15844,21,15849,11,15872,21,15896,null,null,0,2212]
[21,16025,21,16029,22,16035,23,16043,null,null,0,2222]
[21,16142,21,16150,11,16160,21,16178,null,null,0,2212]
[21,16316,21,16334,22,16345,23,16354,null,null,0,2222]
[21,16463,21,16470,22,16479,23,16486,null,null,0,2222]
[21,16586,21,16591,22,16604,23,16614,null,null,0,2222]
[21,16712,21,16716,22,16720,23,16725,null,null,0,2222]
[21,16825,21,16852,22,16861,23,16871,null,null,0,2222]
[21,16969,21,16972,22,16976,14,17001,null,null,0,2221]
[21,17097,21,17101,22,17109,14,17118,null,null,0,2221]
[21,17216,21,17232,22,17237,23,17244,null,null,0,2222]
[21,17389,21,17394,22,17403,23,17410,null,null,0,2222]
[21,17517,21,17522,22,17528,23,17534,null,null,0,2222]
[21,17632,21,17636,22,17662,23,17673,null,null,0,2222]
[21,17770,21,17775,22,17780,23,17807,null,null,0,2222]
[21,17906,21,17925,22,17933,23,17940,null,null,0,2222]
[21,18053,21,18058,22,18062,23,18074,null,null,0,2222]
[21,18171,21,18176,22,18183,23,18206,null,null,0,2222]
[21,18301,21,18306,22,18311,23,18329,null,null,0,2222]
[21,18425,21,18430,22,18435,23,18453,null,null,0,2222]
[21,18551,21,18556,22,18575,23,18593,null,null,0,2222]
[21,18689,21,18693,22,18722,23,18732,null,null,0,2222]
[21,18832,21,18836,22,18840,23,18855,null,null,0,2222]
[21,18954,21,18958,22,18962,23,18966,null,null,0,2222]
[21,19082,21,19092,22,19099,23,19106,null,null,0,2222]
[21,19202,12,19215,24,19233,23,19242,null,null,0,2122]
[21,19342,21,19367,22,19376,23,19384,null,null,0,2222]
[21,19484,21,19489,22,19497,23,19514,null,null,0,2222]
[21,19612,21,19617,22,19629,23,19633,null,null,0,2222]
[21,19729,21,19749,22,19754,23,19761,null,null,0,2222]
[21,19858,21,19879,22,19883,23,19889,null,null,0,2222]
[21,19993,21,19997,22,20003,23,20009,null,null,0,2222]
[21,20106,21,20109,22,20113,23,20118,null,null,0,2222]
[21,20237,21,20244,22,20252,23,20259,null,null,0,2222]
[21,20357,21,20361,22,20366,14,20382,null,null,0,2221]
[21,20479,21,20482,22,20487,23,20493,null,null,0,2222]
[21,20593,21,20600,11,20610,21,20620,null,null,0,2212]
[21,20754,21,20757,22,20767,23,20776,null,null,0,2222]
[21,20873,21,20886,11,20895,21,20904,null,null,0,2212]
[21,21060,21,21065,22,21084,23,21089,null,null,0,2222]
[21,21188,21,21208,22,21215,23,21222,null,null,0,2222]
[21,21320,21,21327,11,21353,21,21363,null,null,0,2212]
[21,21479,21,21485,22,21494,23,21515,null,null,0,2222]
[21,21616,21,21620,22,21626,23,21640,null,null,0,2222]
[21,21737,21,21741,22,21745,23,21749,null,null,0,2222]
[21,21850,21,21881,22,21889,23,21897,null,null,0,2222]
[21,21996,21,22001,22,22006,14,22015,null,null,0,2221]
[21,22112,21,22136,22,22145,23,22152,null,null,0,2222]
[21,22249,21,22253,22,22259,14,22279,null,null,0,2221]
[21,22378,21,22383,22,22388,14,22398,null,null,0,2221]
[21,22497,21,22501,22,22507,14,22518,null,null,0,2221]
[21,22630,21,22662,22,22667,23,22675,null,null,0,2222]
[21,22775,21,22780,22,22808,23,22814,null,null,0,2222]
[21,22912,21,22950,22,22959,23,22968,null,null,0,2222]
[21,23066,21,23071,22,23076,23,23094,null,null,0,2222]
[21,23198,12,23209,24,23227,23,23239,null,null,0,2122]
[21,23343,21,23349,22,23379,23,23388,null,null,0,2222]
[12,23501,23,23508,24,23522,23,23530,null,null,0,1222]
[21,23629,21,23634,22,23645,23,23683,null,null,0,2222]
[21,23783,21,23816,22,23824,23,23832,null,null,0,2222]
[21,23929,21,23955,22,23963,23,23970,null,null,null,2222]

{"sheet":"!LB27A54..Is","index":20,"n_rows":173,"n_cols":48,"rows_kept":173,"cut":false,"hidden":false,"merged":[[4,39,4,42],[5,39,5,40],[4,44,4,47],[5,44,5,45],[4,24,4,27],[5,24,5,25],[4,29,4,32],[5,29,5,30],[4,34,4,37],[5,34,5,35],[1,1,1,2],[5,13,5,14],[26,13,26,14],[27,13,27,14],[4,19,4,22],[5,19,5,20]]}
["Report for:!LB27A54..Is"]
["Date:","<date>"]
["Hen:","<hen>",null,null,null,"Correct Sequence",{"$f":"Start!J2","v":2212},null,null,null,null,null,null,null,null,"Total Sequences in Data",{"$f":"4994-COUNTBLANK(L7:L5000)","v":167},null,null,null,null,"Total Sequences in Block Data",{"$f":"COUNTA(L7:L34)","v":28},null,null,null,"Total Sequences in Block Data",{"$f":"COUNTA(L35:L62)","v":28},null,null,null,"Total Sequences in Block Data",{"$f":"COUNTA(L63:L89)","v":27},null,null,null,"Total Sequences in Block Data",{"$f":"COUNTA(L90:L117)","v":28},null,null,null,"Total Sequences in Block Data",{"$f":"COUNTA(L118:L145)","v":28},null,null,null,"Total Sequences in Block Data",{"$f":"COUNTA(L146:L173)","v":28}]
[null,null,null,null,null,null,null,null,null,null,null,null,null,null,null,"Total Sequences in Summary",{"$f":"SUM(O7:O22)","v":166},null,null,null,null,"Total Sequences in Block Summary",{"$f":"SUM(U7:U22)","v":28},null,null,null,"Total Sequences in Block Summary",{"$f":"SUM(Z7:Z22)","v":28},null,null,null,"Total Sequences in Block Summary",{"$f":"SUM(AE7:AE22)","v":27},null,null,null,"Total Sequences in Block Summary",{"$f":"SUM(AJ7:AJ22)","v":28},null,null,null,"Total Sequences in Block Summary",{"$f":"SUM(AO7:AO22)","v":28},null,null,null,"Total Sequences in Block Summary",{"$f":"SUM(AT7:AT22)","v":27}]
[null,null,null,null,null,null,null,null,null,null,null,null,null,null,null,null,null,null,null,"Block 1",null,null,null,null,"Block 2",null,null,null,null,"Block 3",null,null,null,null,"Block 4",null,null,null,null,"Block 5",null,null,null,null,"Block 6"]
["Sequence\nComponent\n1","Time\n1","Sequence\nComponent\n2","Time\n2","Sequence\nComponent\n3","Time\n3","Sequence\nComponent\n4","Time\n4","Sequence\nComponent\n5","Time\n5","Correct?\n0=No 1=Yes","Sequence",null,"Frequency",null,"Relative Frequency","Variability",null,null,"Frequency",null,"Relative Frequency","Variability",null,"Frequency",null,"Relative Frequency","Variability",null,"Frequency",null,"Relative Frequency","Variability",null,"Frequency",null,"Relative Frequency","Variability",null,"Frequency",null,"Relative Frequency","Variability",null,"Frequency",null,"Relative Frequency","Variability"]
[12,12,23,23,24,28,23,38,null,null,0,1222,null,1111,{"$f":"COUNTIF($L$7:$L$500,N7)","v":0},{"$f":"O7/$Q$4","v":0},{"$f":"IF(P7=0,0,(P7*((LOG(P7))/LOG(2))))","v":0},null,null,{"$f":"N7","v":1111},{"$f":"COUNTIF(L7:L34,T7)","v":0},{"$f":"U7/(W4-U20)","v":0},{"$f":"IF(V7=0,0,(V7*((LOG(V7))/LOG(2))))","v":0},null,{"$f":"N7","v":1111},{"$f":"COUNTIF(L35:L62,Y7)","v":0},{"$f":"Z7/(AB4-Z20)","v":0},{"$f":"IF(AA7=0,0,(AA7*((LOG(AA7))/LOG(2))))","v":0},null,{"$f":"N7","v":1111},{"$f":"COUNTIF(L63:L89,AD7)","v":0},{"$f":"AE7/(AG4-AE20)","v":0},{"$f":"IF(AF7=0,0,(AF7*((LOG(AF7))/LOG(2))))","v":0},null,{"$f":"N7","v":1111},{"$f":"COUNTIF(L90:L117,AI7)","v":0},{"$f":"AJ7/(AL4-AJ20)","v":0},{"$f":"IF(AK7=0,0,(AK7*((LOG(AK7))/LOG(2))))","v":0},null,{"$f":"N7","v":1111},{"$f":"COUNTIF(L118:L145,AN7)","v":0},{"$f":"AO7/(AQ4-AO20)","v":0},{"$f":"IF(AP7=0,0,(AP7*((LOG(AP7))/LOG(2))))","v":0},null,{"$f":"N7","v":1111},{"$f":"COUNTIF(L146:L173,AS7)","v":0},{"$f":"AT7/(AV4-AT20)","v":0},{"$f":"IF(AU7=0,0,(AU7*((LOG(AU7))/LOG(2))))","v":0}]
[12,133,23,142,24,145,23,152,null,null,0,1222,null,1112,{"$f":"COUNTIF($L$7:$L$500,N8)","v":0},{"$f":"O8/$Q$4","v":0},{"$f":"IF(P8=0,0,(P8*((LOG(P8))/LOG(2))))","v":0},null,null,{"$f":"N8","v":1112},{"$f":"COUNTIF(L7:L34,T8)","v":0},{"$f":"U8/(W4-U20)","v":0},{"$f":"IF(V8=0,0,(V8*((LOG(V8))/LOG(2))))","v":0},null,{"$f":"N8","v":1112},{"$f":"COUNTIF(L35:L62,Y8)","v":0},{"$f":"Z8/(AB4-Z20)","v":0},{"$f":"IF(AA8=0,0,(AA8*((LOG(AA8))/LOG(2))))","v":0},null,{"$f":"N8","v":1112},{"$f":"COUNTIF(L63:L89,AD8)","v":0},{"$f":"AE8/(AG4-AE20)","v":0},{"$f":"IF(AF8=0,0,(AF8*((LOG(AF8))/LOG(2))))","v":0},null,{"$f":"N8","v":1112},{"$f":"COUNTIF(L90:L117,AI8)","v":0},{"$f":"AJ8/(AL4-AJ20)","v":0},{"$f":"IF(AK8=0,0,(AK8*((LOG(AK8))/LOG(2))))","v":0},null,{"$f":"N8","v":1112},{"$f":"COUNTIF(L118:L145,AN8)","v":0},{"$f":"AO8/(AQ4-AO20)","v":0},{"$f":"IF(AP8=0,0,(AP8*((LOG(AP8))/LOG(2))))","v":0},null,{"$f":"N8","v":1112},{"$f":"COUNTIF(L146:L173,AS8)","v":0},{"$f":"AT8/(AV4-AT20)","v":0},{"$f":"IF(AU8=0,0,(AU8*((LOG(AU8))/LOG(2))))","v":0}]
[21,250,12,259,24,277,23,283,null,null,0,2122,null,1121,{"$f":"COUNTIF($L$7:$L$500,N9)","v":0},{"$f":"O9/$Q$4","v":0},{"$f":"IF(P9=0,0,(P9*((LOG(P9))/LOG(2))))","v":0},null,null,{"$f":"N9","v":1121},{"$f":"COUNTIF(L7:L34,T9)","v":0},{"$f":"U9/(W4-U20)","v":0},{"$f":"IF(V9=0,0,(V9*((LOG(V9))/LOG(2))))","v":0},null,{"$f":"N9","v":1121},{"$f":"COUNTIF(L35:L62,Y9)","v":0},{"$f":"Z9/(AB4-Z20)","v":0},{"$f":"IF(AA9=0,0,(AA9*((LOG(AA9))/LOG(2))))","v":0},null,{"$f":"N9","v":1121},{"$f":"COUNTIF(L63:L89,AD9)","v":0},{"$f":"AE9/(AG4-AE20)","v":0},{"$f":"IF(AF9=0,0,(AF9*((LOG(AF9))/LOG(2))))","v":0},null,{"$f":"N9","v":1121},{"$f":"COUNTIF(L90:L117,AI9)","v":0},{"$f":"AJ9/(AL4-AJ20)","v":0},{"$f":"IF(AK9=0,0,(AK9*((LOG(AK9))/LOG(2))))","v":0},null,{"$f":"N9","v":1121},{"$f":"COUNTIF(L118:L145,AN9)","v":0},{"$f":"AO9/(AQ4-AO20)","v":0},{"$f":"IF(AP9=0,0,(AP9*((LOG(AP9))/LOG(2))))","v":0},null,{"$f":"N9","v":1121},{"$f":"COUNTIF(L146:L173,AS9)","v":0},{"$f":"AT9/(AV4-AT20)","v":0},{"$f":"IF(AU9=0,0,(AU9*((LOG(AU9))/LOG(2))))","v":0}]
[21,381,21,411,22,417,23,428,null,null,0,2222,null,1122,{"$f":"COUNTIF($L$7:$L$500,N10)","v":0},{"$f":"O10/$Q$4","v":0},{"$f":"IF(P10=0,0,(P10*((LOG(P10))/LOG(2))))","v":0},null,null,{"$f":"N10","v":1122},{"$f":"COUNTIF(L7:L34,T10)","v":0},{"$f":"U10/(W4-U20)","v":0},{"$f":"IF(V10=0,0,(V10*((LOG(V10))/LOG(2))))","v":0},null,{"$f":"N10","v":1122},{"$f":"COUNTIF(L35:L62,Y10)","v":0},{"$f":"Z10/(AB4-Z20)","v":0},{"$f":"IF(AA10=0,0,(AA10*((LOG(AA10))/LOG(2))))","v":0},null,{"$f":"N10","v":1122},{"$f":"COUNTIF(L63:L89,AD10)","v":0},{"$f":"AE10/(AG4-AE20)","v":0},{"$f":"IF(AF10=0,0,(AF10*((LOG(AF10))/LOG(2))))","v":0},null,{"$f":"N10","v":1122},{"$f":"COUNTIF(L90:L117,AI10)","v":0},{"$f":"AJ10/(AL4-AJ20)","v":0},{"$f":"IF(AK10=0,0,(AK10*((LOG(AK10))/LOG(2))))","v":0},null,{"$f":"N10","v":1122},{"$f":"COUNTIF(L118:L145,AN10)","v":0},{"$f":"AO10/(AQ4-AO20)","v":0},{"$f":"IF(AP10=0,0,(AP10*((LOG(AP10))/LOG(2))))","v":0},null,{"$f":"N10","v":1122},{"$f":"COUNTIF(L146:L173,AS10)","v":0},{"$f":"AT10/(AV4-AT20)","v":0},{"$f":"IF(AU10=0,0,(AU10*((LOG(AU10))/LOG(2))))","v":0}]
[21,525,12,532,24,540,23,548,null,null,0,2122,null,1211,{"$f":"COUNTIF($L$7:$L$500,N11)","v":0},{"$f":"O11/$Q$4","v":0},{"$f":"IF(P11=0,0,(P11*((LOG(P11))/LOG(2))))","v":0},null,null,{"$f":"N11","v":1211},{"$f":"COUNTIF(L7:L34,T11)","v":0},{"$f":"U11/(W4-U20)","v":0},{"$f":"IF(V11=0,0,(V11*((LOG(V11))/LOG(2))))","v":0},null,{"$f":"N11","v":1211},{"$f":"COUNTIF(L35:L62,Y11)","v":0},{"$f":"Z11/(AB4-Z20)","v":0},{"$f":"IF(AA11=0,0,(AA11*((LOG(AA11))/LOG(2))))","v":0},null,{"$f":"N11","v":1211},{"$f":"COUNTIF(L63:L89,AD11)","v":0},{"$f":"AE11/(AG4-AE20)","v":0},{"$f":"IF(AF11=0,0,(AF11*((LOG(AF11))/LOG(2))))","v":0},null,{"$f":"N11","v":1211},{"$f":"COUNTIF(L90:L117,AI11)","v":0},{"$f":"AJ11/(AL4-AJ20)","v":0},{"$f":"IF(AK11=0,0,(AK11*((LOG(AK11))/LOG(2))))","v":0},null,{"$f":"N11","v":1211},{"$f":"COUNTIF(L118:L145,AN11)","v":0},{"$f":"AO11/(AQ4-AO20)","v":0},{"$f":"IF(AP11=0,0,(AP11*((LOG(AP11))/LOG(2))))","v":0},null,{"$f":"N11","v":1211},{"$f":"COUNTIF(L146:L173,AS11)","v":0},{"$f":"AT11/(AV4-AT20)","v":0},{"$f":"IF(AU11=0,0,(AU11*((LOG(AU11))/LOG(2))))","v":0}]
[21,651,21,688,22,704,23,709,null,null,0,2222,null,1212,{"$f":"COUNTIF($L$7:$L$500,N12)","v":0},{"$f":"O12/$Q$4","v":0},{"$f":"IF(P12=0,0,(P12*((LOG(P12))/LOG(2))))","v":0},null,null,{"$f":"N12","v":1212},{"$f":"COUNTIF(L7:L34,T12)","v":0},{"$f":"U12/(W4-U20)","v":0},{"$f":"IF(V12=0,0,(V12*((LOG(V12))/LOG(2))))","v":0},null,{"$f":"N12","v":1212},{"$f":"COUNTIF(L35:L62,Y12)","v":0},{"$f":"Z12/(AB4-Z20)","v":0},{"$f":"IF(AA12=0,0,(AA12*((LOG(AA12))/LOG(2))))","v":0},null,{"$f":"N12","v":1212},{"$f":"COUNTIF(L63:L89,AD12)","v":0},{"$f":"AE12/(AG4-AE20)","v":0},{"$f":"IF(AF12=0,0,(AF12*((LOG(AF12))/LOG(2))))","v":0},null,{"$f":"N12","v":1212},{"$f":"COUNTIF(L90:L117,AI12)","v":0},{"$f":"AJ12/(AL4-AJ20)","v":0},{"$f":"IF(AK12=0,0,(AK12*((LOG(AK12))/LOG(2))))","v":0},null,{"$f":"N12","v":1212},{"$f":"COUNTIF(L118:L145,AN12)","v":0},{"$f":"AO12/(AQ4-AO20)","v":0},{"$f":"IF(AP12=0,0,(AP12*((LOG(AP12))/LOG(2))))","v":0},null,{"$f":"N12","v":1212},{"$f":"COUNTIF(L146:L173,AS12)","v":0},{"$f":"AT12/(AV4-AT20)","v":0},{"$f":"IF(AU12=0,0,(AU12*((LOG(AU12))/LOG(2))))","v":0}]
[12,821,23,831,24,839,23,845,null,null,0,1222,null,1221,{"$f":"COUNTIF($L$7:$L$500,N13)","v":0},{"$f":"O13/$Q$4","v":0},{"$f":"IF(P13=0,0,(P13*((LOG(P13))/LOG(2))))","v":0},null,null,{"$f":"N13","v":1221},{"$f":"COUNTIF(L7:L34,T13)","v":0},{"$f":"U13/(W4-U20)","v":0},{"$f":"IF(V13=0,0,(V13*((LOG(V13))/LOG(2))))","v":0},null,{"$f":"N13","v":1221},{"$f":"COUNTIF(L35:L62,Y13)","v":0},{"$f":"Z13/(AB4-Z20)","v":0},{"$f":"IF(AA13=0,0,(AA13*((LOG(AA13))/LOG(2))))","v":0},null,{"$f":"N13","v":1221},{"$f":"COUNTIF(L63:L89,AD13)","v":0},{"$f":"AE13/(AG4-AE20)","v":0},{"$f":"IF(AF13=0,0,(AF13*((LOG(AF13))/LOG(2))))","v":0},null,{"$f":"N13","v":1221},{"$f":"COUNTIF(L90:L117,AI13)","v":0},{"$f":"AJ13/(AL4-AJ20)","v":0},{"$f":"IF(AK13=0,0,(AK13*((LOG(AK13))/LOG(2))))","v":0},null,{"$f":"N13","v":1221},{"$f":"COUNTIF(L118:L145,AN13)","v":0},{"$f":"AO13/(AQ4-AO20)","v":0},{"$f":"IF(AP13=0,0,(AP13*((LOG(AP13))/LOG(2))))","v":0},null,{"$f":"N13","v":1221},{"$f":"COUNTIF(L146:L173,AS13)","v":0},{"$f":"AT13/(AV4-AT20)","v":0},{"$f":"IF(AU13=0,0,(AU13*((LOG(AU13))/LOG(2))))","v":0}]
[21,967,21,978,22,1006,23,1012,null,null,0,2222,null,1222,{"$f":"COUNTIF($L$7:$L$500,N14)","v":20},{"$f":"O14/$Q$4","v":0.12048192771084337},{"$f":"IF(P14=0,0,(P14*((LOG(P14))/LOG(2))))","v":-0.36784473933247741},null,null,{"$f":"N14","v":1222},{"$f":"COUNTIF(L7:L34,T14)","v":4},{"$f":"U14/(W4-U20)","v":0.19047619047619047},{"$f":"IF(V14=0,0,(V14*((LOG(V14))/LOG(2))))","v":-0.4556795091007162},null,{"$f":"N14","v":1222},{"$f":"COUNTIF(L35:L62,Y14)","v":2},{"$f":"Z14/(AB4-Z20)","v":9.0909090909090912E-2},{"$f":"IF(AA14=0,0,(AA14*((LOG(AA14))/LOG(2))))","v":-0.31449378351248153},null,{"$f":"N14","v":1222},{"$f":"COUNTIF(L63:L89,AD14)","v":0},{"$f":"AE14/(AG4-AE20)","v":0},{"$f":"IF(AF14=0,0,(AF14*((LOG(AF14))/LOG(2))))","v":0},null,{"$f":"N14","v":1222},{"$f":"COUNTIF(L90:L117,AI14)","v":1},{"$f":"AJ14/(AL4-AJ20)","v":4.1666666666666664E-2},{"$f":"IF(AK14=0,0,(AK14*((LOG(AK14))/LOG(2))))","v":-0.19104010419671485},null,{"$f":"N14","v":1222},{"$f":"COUNTIF(L118:L145,AN14)","v":7},{"$f":"AO14/(AQ4-AO20)","v":0.25925925925925924},{"$f":"IF(AP14=0,0,(AP14*((LOG(AP14))/LOG(2))))","v":-0.5049158541015204},null,{"$f":"N14","v":1222},{"$f":"COUNTIF(L146:L173,AS14)","v":6},{"$f":"AT14/(AV4-AT20)","v":0.27272727272727271},{"$f":"IF(AU14=0,0,(AU14*((LOG(AU14))/LOG(2))))","v":-0.51121885034076575}]
[21,1110,21,1129,22,1135,23,1141,null,null,0,2222,null,2111,{"$f":"COUNTIF($L$7:$L$500,N15)","v":0},{"$f":"O15/$Q$4","v":0},{"$f":"IF(P15=0,0,(P15*((LOG(P15))/LOG(2))))","v":0},null,null,{"$f":"N15","v":2111},{"$f":"COUNTIF(L7:L34,T15)","v":0},{"$f":"U15/(W4-U20)","v":0},{"$f":"IF(V15=0,0,(V15*((LOG(V15))/LOG(2))))","v":0},null,{"$f":"N15","v":2111},{"$f":"COUNTIF(L35:L62,Y15)","v":0},{"$f":"Z15/(AB4-Z20)","v":0},{"$f":"IF(AA15=0,0,(AA15*((LOG(AA15))/LOG(2))))","v":0},null,{"$f":"N15","v":2111},{"$f":"COUNTIF(L63:L89,AD15)","v":0},{"$f":"AE15/(AG4-AE20)","v":0},{"$f":"IF(AF15=0,0,(AF15*((LOG(AF15))/LOG(2))))","v":0},null,{"$f":"N15","v":2111},{"$f":"COUNTIF(L90:L117,AI15)","v":0},{"$f":"AJ15/(AL4-AJ20)","v":0},{"$f":"IF(AK15=0,0,(AK15*((LOG(AK15))/LOG(2))))","v":0},null,{"$f":"N15","v":2111},{"$f":"COUNTIF(L118:L145,AN15)","v":0},{"$f":"AO15/(AQ4-AO20)","v":0},{"$f":"IF(AP15=0,0,(AP15*((LOG(AP15))/LOG(2))))","v":0},null,{"$f":"N15","v":2111},{"$f":"COUNTIF(L146:L173,AS15)","v":0},{"$f":"AT15/(AV4-AT20)","v":0},{"$f":"IF(AU15=0,0,(AU15*((LOG(AU15))/LOG(2))))","v":0}]
[21,1239,21,1243,11,1276,21,1305,null,null,0,2212,null,2112,{"$f":"COUNTIF($L$7:$L$500,N16)","v":1},{"$f":"O16/$Q$4","v":6.024096385542169E-3},{"$f":"IF(P16=0,0,(P16*((LOG(P16))/LOG(2))))","v":-4.4427948381607983E-2},null,null,{"$f":"N16","v":2112},{"$f":"COUNTIF(L7:L34,T16)","v":0},{"$f":"U16/(W4-U20)","v":0},{"$f":"IF(V16=0,0,(V16*((LOG(V16))/LOG(2))))","v":0},null,{"$f":"N16","v":2112},{"$f":"COUNTIF(L35:L62,Y16)","v":0},{"$f":"Z16/(AB4-Z20)","v":0},{"$f":"IF(AA16=0,0,(AA16*((LOG(AA16))/LOG(2))))","v":0},null,{"$f":"N16","v":2112},{"$f":"COUNTIF(L63:L89,AD16)","v":0},{"$f":"AE16/(AG4-AE20)","v":0},{"$f":"IF(AF16=0,0,(AF16*((LOG(AF16))/LOG(2))))","v":0},null,{"$f":"N16","v":2112},{"$f":"COUNTIF(L90:L117,AI16)","v":0},{"$f":"AJ16/(AL4-AJ20)","v":0},{"$f":"IF(AK16=0,0,(AK16*((LOG(AK16))/LOG(2))))","v":0},null,{"$f":"N16","v":2112},{"$f":"COUNTIF(L118:L145,AN16)","v":1},{"$f":"AO16/(AQ4-AO20)","v":3.7037037037037035E-2},{"$f":"IF(AP16=0,0,(AP16*((LOG(AP16))/LOG(2))))","v":-0.1761069445245729},null,{"$f":"N16","v":2112},{"$f":"COUNTIF(L146:L173,AS16)","v":0},{"$f":"AT16/(AV4-AT20)","v":0},{"$f":"IF(AU16=0,0,(AU16*((LOG(AU16))/LOG(2))))","v":0}]
[21,1511,21,1526,22,1535,23,1541,null,null,0,2222,null,2121,{"$f":"COUNTIF($L$7:$L$500,N17)","v":1},{"$f":"O17/$Q$4","v":6.024096385542169E-3},{"$f":"IF(P17=0,0,(P17*((LOG(P17))/LOG(2))))","v":-4.4427948381607983E-2},null,null,{"$f":"N17","v":2121},{"$f":"COUNTIF(L7:L34,T17)","v":0},{"$f":"U17/(W4-U20)","v":0},{"$f":"IF(V17=0,0,(V17*((LOG(V17))/LOG(2))))","v":0},null,{"$f":"N17","v":2121},{"$f":"COUNTIF(L35:L62,Y17)","v":0},{"$f":"Z17/(AB4-Z20)","v":0},{"$f":"IF(AA17=0,0,(AA17*((LOG(AA17))/LOG(2))))","v":0},null,{"$f":"N17","v":2121},{"$f":"COUNTIF(L63:L89,AD17)","v":0},{"$f":"AE17/(AG4-AE20)","v":0},{"$f":"IF(AF17=0,0,(AF17*((LOG(AF17))/LOG(2))))","v":0},null,{"$f":"N17","v":2121},{"$f":"COUNTIF(L90:L117,AI17)","v":0},{"$f":"AJ17/(AL4-AJ20)","v":0},{"$f":"IF(AK17=0,0,(AK17*((LOG(AK17))/LOG(2))))","v":0},null,{"$f":"N17","v":2121},{"$f":"COUNTIF(L118:L145,AN17)","v":0},{"$f":"AO17/(AQ4-AO20)","v":0},{"$f":"IF(AP17=0,0,(AP17*((LOG(AP17))/LOG(2))))","v":0},null,{"$f":"N17","v":2121},{"$f":"COUNTIF(L146:L173,AS17)","v":1},{"$f":"AT17/(AV4-AT20)","v":4.5454545454545456E-2},{"$f":"IF(AU17=0,0,(AU17*((LOG(AU17))/LOG(2))))","v":-0.20270143721078623}]
[21,1638,12,1654,24,1674,23,1686,null,null,0,2122,null,2122,{"$f":"COUNTIF($L$7:$L$500,N18)","v":23},{"$f":"O18/$Q$4","v":0.13855421686746988},{"$f":"IF(P18=0,0,(P18*((LOG(P18))/LOG(2))))","v":-0.39508422850402397},null,null,{"$f":"N18","v":2122},{"$f":"COUNTIF(L7:L34,T18)","v":5},{"$f":"U18/(W4-U20)","v":0.23809523809523808},{"$f":"IF(V18=0,0,(V18*((LOG(V18))/LOG(2))))","v":-0.49294983997414238},null,{"$f":"N18","v":2122},{"$f":"COUNTIF(L35:L62,Y18)","v":4},{"$f":"Z18/(AB4-Z20)","v":0.18181818181818182},{"$f":"IF(AA18=0,0,(AA18*((LOG(AA18))/LOG(2))))","v":-0.44716938520678134},null,{"$f":"N18","v":2122},{"$f":"COUNTIF(L63:L89,AD18)","v":4},{"$f":"AE18/(AG4-AE20)","v":0.16666666666666666},{"$f":"IF(AF18=0,0,(AF18*((LOG(AF18))/LOG(2))))","v":-0.43082708345352599},null,{"$f":"N18","v":2122},{"$f":"COUNTIF(L90:L117,AI18)","v":1},{"$f":"AJ18/(AL4-AJ20)","v":4.1666666666666664E-2},{"$f":"IF(AK18=0,0,(AK18*((LOG(AK18))/LOG(2))))","v":-0.19104010419671485},null,{"$f":"N18","v":2122},{"$f":"COUNTIF(L118:L145,AN18)","v":4},{"$f":"AO18/(AQ4-AO20)","v":0.14814814814814814},{"$f":"IF(AP18=0,0,(AP18*((LOG(AP18))/LOG(2))))","v":-0.40813148180199532},null,{"$f":"N18","v":2122},{"$f":"COUNTIF(L146:L173,AS18)","v":5},{"$f":"AT18/(AV4-AT20)","v":0.22727272727272727},{"$f":"IF(AU18=0,0,(AU18*((LOG(AU18))/LOG(2))))","v":-0.48579625539771243}]
[21,1783,21,1813,22,1821,23,1827,null,null,0,2222,null,2211,{"$f":"COUNTIF($L$7:$L$500,N19)","v":0},{"$f":"O19/$Q$4","v":0},{"$f":"IF(P19=0,0,(P19*((LOG(P19))/LOG(2))))","v":0},null,null,{"$f":"N19","v":2211},{"$f":"COUNTIF(L7:L34,T19)","v":0},{"$f":"U19/(W4-U20)","v":0},{"$f":"IF(V19=0,0,(V19*((LOG(V19))/LOG(2))))","v":0},null,{"$f":"N19","v":2211},{"$f":"COUNTIF(L35:L62,Y19)","v":0},{"$f":"Z19/(AB4-Z20)","v":0},{"$f":"IF(AA19=0,0,(AA19*((LOG(AA19))/LOG(2))))","v":0},null,{"$f":"N19","v":2211},{"$f":"COUNTIF(L63:L89,AD19)","v":0},{"$f":"AE19/(AG4-AE20)","v":0},{"$f":"IF(AF19=0,0,(AF19*((LOG(AF19))/LOG(2))))","v":0},null,{"$f":"N19","v":2211},{"$f":"COUNTIF(L90:L117,AI19)","v":0},{"$f":"AJ19/(AL4-AJ20)","v":0},{"$f":"IF(AK19=0,0,(AK19*((LOG(AK19))/LOG(2))))","v":0},null,{"$f":"N19","v":2211},{"$f":"COUNTIF(L118:L145,AN19)","v":0},{"$f":"AO19/(AQ4-AO20)","v":0},{"$f":"IF(AP19=0,0,(AP19*((LOG(AP19))/LOG(2))))","v":0},null,{"$f":"N19","v":2211},{"$f":"COUNTIF(L146:L173,AS19)","v":0},{"$f":"AT19/(AV4-AT20)","v":0},{"$f":"IF(AU19=0,0,(AU19*((LOG(AU19))/LOG(2))))","v":0}]
[21,1924,21,1938,11,1948,21,1960,null,null,0,2212,null,2212,{"$f":"COUNTIF($L$7:$L$500,N20)","v":26},{"$f":"O20/$Q$4","v":0.15662650602409639},{"$f":"IF(P20=0,0,(P20*((LOG(P20))/LOG(2))))","v":-0.41891320809247978},null,null,{"$f":"N20","v":2212},{"$f":"COUNTIF(L7:L34,T20)","v":7},null,null,null,{"$f":"N20","v":2212},{"$f":"COUNTIF(L35:L62,Y20)","v":6},null,null,null,{"$f":"N20","v":2212},{"$f":"COUNTIF(L63:L89,AD20)","v":3},null,null,null,{"$f":"N20","v":2212},{"$f":"COUNTIF(L90:L117,AI20)","v":4},null,null,null,{"$f":"N20","v":2212},{"$f":"COUNTIF(L118:L145,AN20)","v":1},null,null,null,{"$f":"N20","v":2212},{"$f":"COUNTIF(L146:L173,AS20)","v":5}]
[21,2121,21,2125,22,2137,23,2140,null,null,0,2222,null,2221,{"$f":"COUNTIF($L$7:$L$500,N21)","v":7},{"$f":"O21/$Q$4","v":4.2168674698795178E-2},{"$f":"IF(P21=0,0,(P21*((LOG(P21))/LOG(2))))","v":-0.19261320219894726},null,null,{"$f":"N21","v":2221},{"$f":"COUNTIF(L7:L34,T21)","v":0},{"$f":"U21/(W4-U20)","v":0},{"$f":"IF(V21=0,0,(V21*((LOG(V21))/LOG(2))))","v":0},null,{"$f":"N21","v":2221},{"$f":"COUNTIF(L35:L62,Y21)","v":2},{"$f":"Z21/(AB4-Z20)","v":9.0909090909090912E-2},{"$f":"IF(AA21=0,0,(AA21*((LOG(AA21))/LOG(2))))","v":-0.31449378351248153},null,{"$f":"N21","v":2221},{"$f":"COUNTIF(L63:L89,AD21)","v":1},{"$f":"AE21/(AG4-AE20)","v":4.1666666666666664E-2},{"$f":"IF(AF21=0,0,(AF21*((LOG(AF21))/LOG(2))))","v":-0.19104010419671485},null,{"$f":"N21","v":2221},{"$f":"COUNTIF(L90:L117,AI21)","v":3},{"$f":"AJ21/(AL4-AJ20)","v":0.125},{"$f":"IF(AK21=0,0,(AK21*((LOG(AK21))/LOG(2))))","v":-0.375},null,{"$f":"N21","v":2221},{"$f":"COUNTIF(L118:L145,AN21)","v":0},{"$f":"AO21/(AQ4-AO20)","v":0},{"$f":"IF(AP21=0,0,(AP21*((LOG(AP21))/LOG(2))))","v":0},null,{"$f":"N21","v":2221},{"$f":"COUNTIF(L146:L173,AS21)","v":1},{"$f":"AT21/(AV4-AT20)","v":4.5454545454545456E-2},{"$f":"IF(AU21=0,0,(AU21*((LOG(AU21))/LOG(2))))","v":-0.20270143721078623}]
[21,2237,21,2249,11,2257,21,2266,null,null,0,2212,null,2222,{"$f":"COUNTIF($L$7:$L$500,N22)","v":88},{"$f":"O22/$Q$4","v":0.53012048192771088},{"$f":"IF(P22=0,0,(P22*((LOG(P22))/LOG(2))))","v":-0.48538245493040488},null,null,{"$f":"N22","v":2222},{"$f":"COUNTIF(L7:L34,T22)","v":12},{"$f":"U22/(W4-U20)","v":0.5714285714285714},{"$f":"IF(V22=0,0,(V22*((LOG(V22))/LOG(2))))","v":-0.46134566974720237},null,{"$f":"N22","v":2222},{"$f":"COUNTIF(L35:L62,Y22)","v":14},{"$f":"Z22/(AB4-Z20)","v":0.63636363636363635},{"$f":"IF(AA22=0,0,(AA22*((LOG(AA22))/LOG(2))))","v":-0.41495789782344106},null,{"$f":"N22","v":2222},{"$f":"COUNTIF(L63:L89,AD22)","v":19},{"$f":"AE22/(AG4-AE20)","v":0.79166666666666663},{"$f":"IF(AF22=0,0,(AF22*((LOG(AF22))/LOG(2))))","v":-0.26681936492807684},null,{"$f":"N22","v":2222},{"$f":"COUNTIF(L90:L117,AI22)","v":19},{"$f":"AJ22/(AL4-AJ20)","v":0.79166666666666663},{"$f":"IF(AK22=0,0,(AK22*((LOG(AK22))/LOG(2))))","v":-0.26681936492807684},null,{"$f":"N22","v":2222},{"$f":"COUNTIF(L118:L145,AN22)","v":15},{"$f":"AO22/(AQ4-AO20)","v":0.55555555555555558},{"$f":"IF(AP22=0,0,(AP22*((LOG(AP22))/LOG(2))))","v":-0.4711093925305278},null,{"$f":"N22","v":2222},{"$f":"COUNTIF(L146:L173,AS22)","v":9},{"$f":"AT22/(AV4-AT20)","v":0.40909090909090912},{"$f":"IF(AU22=0,0,(AU22*((LOG(AU22))/LOG(2))))","v":-0.52752543430703935}]
[21,2450,21,2461,22,2466,23,2472,null,null,0,2222,null,null,null,{"$f":"SUM(P7:P22)","v":1},{"$f":"-SUM(Q7:Q22)","v":1.9486937298215492},null,null,null,null,{"$f":"SUM(V7:V22)","v":1},{"$f":"-SUM(W7:W22)","v":1.409975018822061},null,null,null,{"$f":"SUM(AA7:AA22)","v":1},{"$f":"-SUM(AB7:AB22)","v":1.4911148500551854},null,null,null,{"$f":"SUM(AF7:AF22)","v":1},{"$f":"-SUM(AG7:AG22)","v":0.88868655257831763},null,null,null,{"$f":"SUM(AK7:AK22)","v":1},{"$f":"-SUM(AL7:AL22)","v":1.0238995733215066},null,null,null,{"$f":"SUM(AP7:AP22)","v":1},{"$f":"-SUM(AQ7:AQ22)","v":1.5602636729586163},null,null,null,{"$f":"SUM(AU7:AU22)","v":1},{"$f":"-SUM(AV7:AV22)","v":1.9299434144670902}]
[21,2567,21,2573,11,2609,21,2628,null,null,0,2212,null,null,null,"U=",{"$f":"Q23/(LOG(Q4)/LOG(2))","v":0.2642282455519907},null,null,null,null,"U1=",{"$f":"W23/(LOG(W4)/LOG(2))","v":0.29329538627419988},null,null,null,"U2=",{"$f":"AB23/(LOG(AB4)/LOG(2))","v":0.31017365562369814},null,null,null,"U3=",{"$f":"AG23/(LOG(AG4)/LOG(2))","v":0.18689959587350202},null,null,null,"U4=",{"$f":"AL23/(LOG(AL4)/LOG(2))","v":0.21298605780562291},null,null,null,"U5=",{"$f":"AQ23/(LOG(AQ4)/LOG(2))","v":0.32455762019975953},null,null,null,"U6=",{"$f":"AV23/(LOG(AV4)/LOG(2))","v":0.40588624096552617}]
[21,2743,21,2751,22,2765,23,2781,null,null,0,2222]
[21,2879,21,2884,11,2908,21,2932,null,null,0,2212]
[21,3050,12,3082,24,3090,23,3101,null,null,0,2122,null,"Total Target Seq"]
[12,3211,23,3236,24,3245,23,3252,null,null,0,1222,null,{"$f":"COUNTIF(L7:L173,G3)","v":26},null,28,28,27,28,28,28]
[21,3351,12,3379,24,3396,23,3405,null,null,0,2122,null,null,null,"% of reinforcement given in 6 equal intervals based on number of trials "]
[21,3505,21,3511,22,3553,23,3559,null,null,0,2222,null,null,null,"%_1","%_2","%_3","%_4","%_5","%_6"]
[21,3662,21,3666,11,3696,21,3716,null,null,0,2212,null,null,"target sequence",{"$f":"$G$3","v":2212},{"$f":"$G$3","v":2212},{"$f":"$G$3","v":2212},{"$f":"$G$3","v":2212},{"$f":"$G$3","v":2212},{"$f":"$G$3","v":2212}]
[21,3819,21,3834,11,3843,21,3852,null,null,0,2212,null,null,"total reinforcement",{"$f":"U20","v":7},{"$f":"Z20","v":6},{"$f":"AE20","v":3},{"$f":"AJ20","v":4},{"$f":"AO20","v":1},{"$f":"AT20","v":5}]
[21,3960,21,3966,22,3980,23,3990,null,null,0,2222,null,null,"% target"]
[21,4091,21,4097,22,4102,23,4111,null,null,0,2222,null,null,"CCRF"]
[21,4208,21,4221,11,4232,21,4240,null,null,0,2212,null,null,"% CCRf"]
[21,4336,21,4348,11,4377,21,4410,null,null,0,2212,null,null,"average response rate",{"$f":"H34/P28","v":146.82142857142858},{"$f":"(H62-H34)/Q28","v":142.57142857142858},{"$f":"(H89-H62)/R28","v":142.11111111111111},{"$f":"(H117-H89)/S28","v":142.71428571428572},{"$f":"(H145-H117)/T28","v":144.07142857142858},{"$f":"(H173-H145)/U28","v":-713.21428571428567}]
[21,4501,21,4507,22,4521,23,4528,null,null,0,2222]
[21,4624,21,4661,22,4669,23,4677,null,null,0,2222]
[21,4780,21,4788,11,4798,21,4831,null,null,0,2212]
[21,4931,21,4943,22,4955,23,4962,null,null,0,2222]
[21,5063,12,5079,24,5105,23,5113,null,null,0,2122]
[21,5210,21,5243,22,5251,23,5259,null,null,0,2222]
[12,5368,23,5384,24,5394,23,5400,null,null,0,1222]
[21,5499,21,5503,22,5507,23,5511,null,null,0,2222]
[21,5608,21,5615,11,5627,21,5639,null,null,0,2212]
[21,5758,21,5765,22,5772,23,5795,null,null,0,2222]
[21,5918,21,5925,22,5933,23,5941,null,null,0,2222]
[21,6061,21,6068,22,6075,23,6082,null,null,0,2222]
[21,6212,21,6218,22,6227,14,6235,null,null,0,2221]
[21,6330,21,6335,22,6366,23,6376,null,null,0,2222]
[12,6485,23,6512,24,6520,23,6527,null,null,0,1222]
[21,6625,21,6630,11,6647,21,6670,null,null,0,2212]
[21,6779,21,6784,11,6802,21,6811,null,null,0,2212]
[21,6952,12,6964,24,6984,23,7006,null,null,0,2122]
[21,7130,21,7137,22,7145,23,7151,null,null,0,2222]
[21,7249,12,7260,24,7269,23,7276,null,null,0,2122]
[21,7375,21,7381,22,7403,23,7413,null,null,0,2222]
[21,7509,21,7515,22,7520,23,7561,null,null,0,2222]
[21,7659,21,7661,22,7665,14,7681,null,null,0,2221]
[21,7803,21,7816,22,7823,23,7841,null,null,0,2222]
[21,7942,12,7951,24,7970,23,7978,null,null,0,2122]
[21,8075,21,8093,22,8097,23,8103,null,null,0,2222]
[21,8201,21,8206,22,8225,23,8233,null,null,0,2222]
[21,8334,21,8338,11,8347,21,8373,null,null,0,2212]
[21,8515,21,8523,22,8536,23,8540,null,null,0,2222]
[21,8637,21,8645,22,8663,23,8675,null,null,0,2222]
[21,8787,12,8794,24,8810,23,8818,null,null,0,2122]
[21,8915,21,8920,11,8937,21,8953,null,null,0,2212]
[21,9190,21,9196,22,9228,23,9236,null,null,0,2222]
[21,9335,12,9344,24,9355,23,9366,null,null,0,2122]
[21,9463,21,9469,22,9486,23,9493,null,null,0,2222]
[21,9590,21,9638,22,9657,23,9666,null,null,0,2222]
[21,9766,21,9787,22,9794,23,9800,null,null,0,2222]
[21,9896,21,9900,22,9904,14,9914,null,null,0,2221]
[21,10011,21,10014,22,10019,23,10034,null,null,0,2222]
[21,10137,21,10140,22,10145,23,10151,null,null,0,2222]
[21,10247,21,10268,22,10278,23,10285,null,null,0,2222]
[21,10406,21,10412,22,10421,23,10427,null,null,0,2222]
[21,10523,21,10547,22,10557,23,10565,null,null,0,2222]
[21,10696,21,10700,22,10704,23,10709,null,null,0,2222]
[21,10806,21,10809,22,10814,23,10829,null,null,0,2222]
[21,10928,21,10954,22,10962,23,10968,null,null,0,2222]
[21,11064,21,11066,22,11073,23,11095,null,null,0,2222]
[21,11194,12,11209,24,11236,23,11245,null,null,0,2122]
[21,11347,21,11350,22,11355,23,11366,null,null,0,2222]
[21,11465,21,11472,11,11483,21,11492,null,null,0,2212]
[21,11637,21,11642,22,11648,23,11662,null,null,0,2222]
[21,11762,12,11775,24,11788,23,11795,null,null,0,2122]
[21,11893,21,11897,22,11931,23,11940,null,null,0,2222]
[21,12040,21,12074,22,12083,23,12090,null,null,0,2222]
[21,12187,21,12191,22,12197,14,12206,null,null,0,2221]
[21,12307,21,12311,22,12315,14,12323,null,null,0,2221]
[21,12420,21,12440,22,12448,23,12454,null,null,0,2222]
[21,12553,21,12558,22,12564,23,12589,null,null,0,2222]
[12,12703,23,12723,24,12750,23,12757,null,null,0,1222]
[21,12874,21,12880,22,12887,23,12894,null,null,0,2222]
[21,12990,21,12994,22,13018,23,13028,null,null,0,2222]
[21,13128,21,13135,11,13148,21,13157,null,null,0,2212]
[21,13297,21,13302,22,13317,23,13323,null,null,0,2222]
[21,13421,21,13425,22,13448,23,13455,null,null,0,2222]
[21,13556,12,13565,24,13572,23,13575,null,null,0,2122]
[21,13702,21,13709,22,13716,23,13727,null,null,0,2222]
[21,13848,21,13856,22,13863,23,13870,null,null,0,2222]
[21,13966,21,13971,22,13990,23,13995,null,null,0,2222]
[21,14091,21,14095,22,14114,23,14120,null,null,0,2222]
[21,14220,21,14224,22,14249,23,14254,null,null,0,2222]
[21,14354,21,14357,22,14362,14,14376,null,null,0,2221]
[21,14474,21,14499,22,14507,23,14514,null,null,0,2222]
[21,14613,21,14618,11,14632,21,14649,null,null,0,2212]
[21,14789,21,14795,22,14802,23,14807,null,null,0,2222]
[21,14904,21,14906,22,14938,23,14955,null,null,0,2222]
[21,15053,21,15060,11,15068,21,15082,null,null,0,2212]
[21,15266,21,15271,22,15278,23,15305,null,null,0,2222]
[21,15401,21,15434,22,15442,23,15450,null,null,0,2222]
[21,15600,21,15605,11,15616,21,15625,null,null,0,2212]
[21,15778,21,15792,22,15798,23,15804,null,null,0,2222]
[21,15901,21,15922,22,15928,23,15936,null,null,0,2222]
[21,16035,21,16050,22,16055,23,16063,null,null,0,2222]
[21,16163,21,16182,22,16190,23,16199,null,null,0,2222]
[21,16317,21,16322,22,16330,23,16338,null,null,0,2222]
[21,16435,12,16455,24,16463,23,16492,null,null,0,2122]
[21,16591,21,16613,22,16620,23,16626,null,null,0,2222]
[21,16723,21,16728,11,16741,21,16753,null,null,0,2212]
[21,16912,12,16922,24,16945,23,16955,null,null,0,2122]
[21,17071,21,17081,22,17087,23,17092,null,null,0,2222]
[21,17190,21,17214,22,17221,23,17227,null,null,0,2222]
[21,17326,21,17331,22,17363,23,17371,null,null,0,2222]
[12,17477,23,17494,24,17506,23,17512,null,null,0,1222]
[21,17789,21,17796,22,17802,23,17808,null,null,0,2222]
[21,17907,21,17925,22,17932,23,17940,null,null,0,2222]
[12,18044,23,18052,24,18056,23,18069,null,null,0,1222]
[21,18169,21,18211,22,18223,23,18229,null,null,0,2222]
[12,18332,23,18341,24,18347,23,18355,null,null,0,1222]
[12,18462,23,18479,24,18486,23,18493,null,null,0,1222]
[21,18599,21,18619,22,18627,23,18634,null,null,0,2222]
[21,18731,21,18734,22,18759,23,18767,null,null,0,2222]
[21,18866,12,18883,24,18910,23,18928,null,null,0,2122]
[12,19038,23,19062,24,19071,23,19079,null,null,0,1222]
[21,19175,12,19186,24,19196,23,19201,null,null,0,2122]
[21,19307,21,19328,22,19334,23,19339,null,null,0,2222]
[21,19435,12,19448,13,19451,23,19459,null,null,0,2112]
[12,19554,23,19566,24,19571,23,19575,null,null,0,1222]
[21,19674,21,19694,22,19698,23,19705,null,null,0,2222]
[12,19811,23,19824,24,19831,23,19839,null,null,0,1222]
[21,19940,21,19946,22,19962,23,19970,null,null,0,2222]
[21,20070,21,20074,11,20084,21,20096,null,null,0,2212]
[21,20224,21,20228,11,20238,21,20245,null,null,0,2212]
[21,20395,21,20402,11,20410,21,20422,null,null,0,2212]
[21,20604,21,20622,22,20629,23,20638,null,null,0,2222]
[21,20738,12,20753,24,20770,23,20779,null,null,0,2122]
[21,20878,12,20891,24,20899,23,20912,null,null,0,2122]
[12,21019,23,21031,24,21039,23,21049,null,null,0,1222]
[21,21148,12,21162,24,21179,14,21208,null,null,0,2121]
[21,21319,21,21322,22,21331,23,21338,null,null,0,2222]
[21,21459,21,21464,22,21473,23,21487,null,null,0,2222]
[21,21584,12,21597,24,21608,23,21620,null,null,0,2122]
[21,21718,12,21735,24,21752,23,21759,null,null,0,2122]
[21,21858,21,21877,22,21881,23,21889,null,null,0,2222]
[21,21986,21,22006,22,22010,23,22017,null,null,0,2222]
[21,22114,21,22140,22,22148,23,22160,null,null,0,2222]
[21,22260,21,22264,11,22272,21,22281,null,null,0,2212]
[21,22402,21,22407,11,22420,21,22453,null,null,0,2212]
[21,22649,21,22654,22,22667,14,22675,null,null,0,2221]
[21,22773,21,22793,22,22803,23,22815,null,null,0,2222]
[21,22913,21,22934,22,22941,23,22947,null,null,0,2222]
[21,23064,21,23068,22,23074,23,23085,null,null,0,2222]
[21,23184,12,23193,24,23221,23,23230,null,null,0,2122]
[12,23334,23,23341,24,23345,23,23351,null,null,0,1222]
[12,23456,23,23466,24,23477,23,23484,null,null,0,1222]
[12,23591,23,23600,24,23607,23,23615,null,null,0,1222]
[12,23719,23,23729,24,23737,23,23745,null,null,0,1222]
[12,23850,23,23859,24,23863,23,23870,null,null,0,1222]
[21,23988,21,23993,11,24001,null,null,null,null,null,221]

{"sheet":"!LB28B04..Is","index":21,"n_rows":162,"n_cols":48,"rows_kept":162,"cut":false,"hidden":false,"merged":[[4,39,4,42],[5,39,5,40],[4,44,4,47],[5,44,5,45],[4,24,4,27],[5,24,5,25],[4,29,4,32],[5,29,5,30],[4,34,4,37],[5,34,5,35],[1,1,1,2],[5,13,5,14],[26,13,26,14],[27,13,27,14],[4,19,4,22],[5,19,5,20]]}
["Report for:!LB28B04..Is"]
["Date:","<date>"]
["Hen:","<hen>",null,null,null,"Correct Sequence",{"$f":"Start!J2","v":2212},null,null,null,null,null,null,null,null,"Total Sequences in Data",{"$f":"4994-COUNTBLANK(L7:L5000)","v":156},null,null,null,null,"Total Sequences in Block Data",{"$f":"COUNTA(L7:L32)","v":26},null,null,null,"Total Sequences in Block Data",{"$f":"COUNTA(L33:L58)","v":26},null,null,null,"Total Sequences in Block Data",{"$f":"COUNTA(L59:L84)","v":26},null,null,null,"Total Sequences in Block Data",{"$f":"COUNTA(L85:L110)","v":26},null,null,null,"Total Sequences in Block Data",{"$f":"COUNTA(L111:L136)","v":26},null,null,null,"Total Sequences in Block Data",{"$f":"COUNTA(L137:L162)","v":26}]
[null,null,null,null,null,null,null,null,null,null,null,null,null,null,null,"Total Sequences in Summary",{"$f":"SUM(O7:O22)","v":156},null,null,null,null,"Total Sequences in Block Summary",{"$f":"SUM(U7:U22)","v":26},null,null,null,"Total Sequences in Block Summary",{"$f":"SUM(Z7:Z22)","v":26},null,null,null,"Total Sequences in Block Summary",{"$f":"SUM(AE7:AE22)","v":26},null,null,null,"Total Sequences in Block Summary",{"$f":"SUM(AJ7:AJ22)","v":26},null,null,null,"Total Sequences in Block Summary",{"$f":"SUM(AO7:AO22)","v":26},null,null,null,"Total Sequences in Block Summary",{"$f":"SUM(AT7:AT22)","v":26}]
[null,null,null,null,null,null,null,null,null,null,null,null,null,null,null,null,null,null,null,"Block 1",null,null,null,null,"Block 2",null,null,null,null,"Block 3",null,null,null,null,"Block 4",null,null,null,null,"Block 5",null,null,null,null,"Block 6"]
["Sequence\nComponent\n1","Time\n1","Sequence\nComponent\n2","Time\n2","Sequence\nComponent\n3","Time\n3","Sequence\nComponent\n4","Time\n4","Sequence\nComponent\n5","Time\n5","Correct?\n0=No 1=Yes","Sequence",null,"Frequency",null,"Relative Frequency","Variability",null,null,"Frequency",null,"Relative Frequency","Variability",null,"Frequency",null,"Relative Frequency","Variability",null,"Frequency",null,"Relative Frequency","Variability",null,"Frequency",null,"Relative Frequency","Variability",null,"Frequency",null,"Relative Frequency","Variability",null,"Frequency",null,"Relative Frequency","Variability"]
[21,6,21,10,22,15,23,20,null,null,0,2222,null,1111,{"$f":"COUNTIF($L$7:$L$500,N7)","v":0},{"$f":"O7/$Q$4","v":0},{"$f":"IF(P7=0,0,(P7*((LOG(P7))/LOG(2))))","v":0},null,null,{"$f":"N7","v":1111},{"$f":"COUNTIF(L7:L32,T7)","v":0},{"$f":"U7/(W4-U20)","v":0},{"$f":"IF(V7=0,0,(V7*((LOG(V7))/LOG(2))))","v":0},null,{"$f":"N7","v":1111},{"$f":"COUNTIF(L33:L58,Y7)","v":0},{"$f":"Z7/(AB4-Z20)","v":0},{"$f":"IF(AA7=0,0,(AA7*((LOG(AA7))/LOG(2))))","v":0},null,{"$f":"N7","v":1111},{"$f":"COUNTIF(L59:L84,AD7)","v":0},{"$f":"AE7/(AG4-AE20)","v":0},{"$f":"IF(AF7=0,0,(AF7*((LOG(AF7))/LOG(2))))","v":0},null,{"$f":"N7","v":1111},{"$f":"COUNTIF(L85:L110,AI7)","v":0},{"$f":"AJ7/(AL4-AJ20)","v":0},{"$f":"IF(AK7=0,0,(AK7*((LOG(AK7))/LOG(2))))","v":0},null,{"$f":"N7","v":1111},{"$f":"COUNTIF(L111:L136,AN7)","v":0},{"$f":"AO7/(AQ4-AO20)","v":0},{"$f":"IF(AP7=0,0,(AP7*((LOG(AP7))/LOG(2))))","v":0},null,{"$f":"N7","v":1111},{"$f":"COUNTIF(L137:L162,AS7)","v":0},{"$f":"AT7/(AV4-AT20)","v":0},{"$f":"IF(AU7=0,0,(AU7*((LOG(AU7))/LOG(2))))","v":0}]
[21,120,21,133,22,137,23,142,null,null,0,2222,null,1112,{"$f":"COUNTIF($L$7:$L$500,N8)","v":0},{"$f":"O8/$Q$4","v":0},{"$f":"IF(P8=0,0,(P8*((LOG(P8))/LOG(2))))","v":0},null,null,{"$f":"N8","v":1112},{"$f":"COUNTIF(L7:L32,T8)","v":0},{"$f":"U8/(W4-U20)","v":0},{"$f":"IF(V8=0,0,(V8*((LOG(V8))/LOG(2))))","v":0},null,{"$f":"N8","v":1112},{"$f":"COUNTIF(L33:L58,Y8)","v":0},{"$f":"Z8/(AB4-Z20)","v":0},{"$f":"IF(AA8=0,0,(AA8*((LOG(AA8))/LOG(2))))","v":0},null,{"$f":"N8","v":1112},{"$f":"COUNTIF(L59:L84,AD8)","v":0},{"$f":"AE8/(AG4-AE20)","v":0},{"$f":"IF(AF8=0,0,(AF8*((LOG(AF8))/LOG(2))))","v":0},null,{"$f":"N8","v":1112},{"$f":"COUNTIF(L85:L110,AI8)","v":0},{"$f":"AJ8/(AL4-AJ20)","v":0},{"$f":"IF(AK8=0,0,(AK8*((LOG(AK8))/LOG(2))))","v":0},null,{"$f":"N8","v":1112},{"$f":"COUNTIF(L111:L136,AN8)","v":0},{"$f":"AO8/(AQ4-AO20)","v":0},{"$f":"IF(AP8=0,0,(AP8*((LOG(AP8))/LOG(2))))","v":0},null,{"$f":"N8","v":1112},{"$f":"COUNTIF(L137:L162,AS8)","v":0},{"$f":"AT8/(AV4-AT20)","v":0},{"$f":"IF(AU8=0,0,(AU8*((LOG(AU8))/LOG(2))))","v":0}]
[21,241,21,266,22,271,23,283,null,null,0,2222,null,1121,{"$f":"COUNTIF($L$7:$L$500,N9)","v":0},{"$f":"O9/$Q$4","v":0},{"$f":"IF(P9=0,0,(P9*((LOG(P9))/LOG(2))))","v":0},null,null,{"$f":"N9","v":1121},{"$f":"COUNTIF(L7:L32,T9)","v":0},{"$f":"U9/(W4-U20)","v":0},{"$f":"IF(V9=0,0,(V9*((LOG(V9))/LOG(2))))","v":0},null,{"$f":"N9","v":1121},{"$f":"COUNTIF(L33:L58,Y9)","v":0},{"$f":"Z9/(AB4-Z20)","v":0},{"$f":"IF(AA9=0,0,(AA9*((LOG(AA9))/LOG(2))))","v":0},null,{"$f":"N9","v":1121},{"$f":"COUNTIF(L59:L84,AD9)","v":0},{"$f":"AE9/(AG4-AE20)","v":0},{"$f":"IF(AF9=0,0,(AF9*((LOG(AF9))/LOG(2))))","v":0},null,{"$f":"N9","v":1121},{"$f":"COUNTIF(L85:L110,AI9)","v":0},{"$f":"AJ9/(AL4-AJ20)","v":0},{"$f":"IF(AK9=0,0,(AK9*((LOG(AK9))/LOG(2))))","v":0},null,{"$f":"N9","v":1121},{"$f":"COUNTIF(L111:L136,AN9)","v":0},{"$f":"AO9/(AQ4-AO20)","v":0},{"$f":"IF(AP9=0,0,(AP9*((LOG(AP9))/LOG(2))))","v":0},null,{"$f":"N9","v":1121},{"$f":"COUNTIF(L137:L162,AS9)","v":0},{"$f":"AT9/(AV4-AT20)","v":0},{"$f":"IF(AU9=0,0,(AU9*((LOG(AU9))/LOG(2))))","v":0}]
[12,387,23,396,24,404,23,420,null,null,0,1222,null,1122,{"$f":"COUNTIF($L$7:$L$500,N10)","v":0},{"$f":"O10/$Q$4","v":0},{"$f":"IF(P10=0,0,(P10*((LOG(P10))/LOG(2))))","v":0},null,null,{"$f":"N10","v":1122},{"$f":"COUNTIF(L7:L32,T10)","v":0},{"$f":"U10/(W4-U20)","v":0},{"$f":"IF(V10=0,0,(V10*((LOG(V10))/LOG(2))))","v":0},null,{"$f":"N10","v":1122},{"$f":"COUNTIF(L33:L58,Y10)","v":0},{"$f":"Z10/(AB4-Z20)","v":0},{"$f":"IF(AA10=0,0,(AA10*((LOG(AA10))/LOG(2))))","v":0},null,{"$f":"N10","v":1122},{"$f":"COUNTIF(L59:L84,AD10)","v":0},{"$f":"AE10/(AG4-AE20)","v":0},{"$f":"IF(AF10=0,0,(AF10*((LOG(AF10))/LOG(2))))","v":0},null,{"$f":"N10","v":1122},{"$f":"COUNTIF(L85:L110,AI10)","v":0},{"$f":"AJ10/(AL4-AJ20)","v":0},{"$f":"IF(AK10=0,0,(AK10*((LOG(AK10))/LOG(2))))","v":0},null,{"$f":"N10","v":1122},{"$f":"COUNTIF(L111:L136,AN10)","v":0},{"$f":"AO10/(AQ4-AO20)","v":0},{"$f":"IF(AP10=0,0,(AP10*((LOG(AP10))/LOG(2))))","v":0},null,{"$f":"N10","v":1122},{"$f":"COUNTIF(L137:L162,AS10)","v":0},{"$f":"AT10/(AV4-AT20)","v":0},{"$f":"IF(AU10=0,0,(AU10*((LOG(AU10))/LOG(2))))","v":0}]
[21,546,21,561,22,566,23,571,null,null,0,2222,null,1211,{"$f":"COUNTIF($L$7:$L$500,N11)","v":0},{"$f":"O11/$Q$4","v":0},{"$f":"IF(P11=0,0,(P11*((LOG(P11))/LOG(2))))","v":0},null,null,{"$f":"N11","v":1211},{"$f":"COUNTIF(L7:L32,T11)","v":0},{"$f":"U11/(W4-U20)","v":0},{"$f":"IF(V11=0,0,(V11*((LOG(V11))/LOG(2))))","v":0},null,{"$f":"N11","v":1211},{"$f":"COUNTIF(L33:L58,Y11)","v":0},{"$f":"Z11/(AB4-Z20)","v":0},{"$f":"IF(AA11=0,0,(AA11*((LOG(AA11))/LOG(2))))","v":0},null,{"$f":"N11","v":1211},{"$f":"COUNTIF(L59:L84,AD11)","v":0},{"$f":"AE11/(AG4-AE20)","v":0},{"$f":"IF(AF11=0,0,(AF11*((LOG(AF11))/LOG(2))))","v":0},null,{"$f":"N11","v":1211},{"$f":"COUNTIF(L85:L110,AI11)","v":0},{"$f":"AJ11/(AL4-AJ20)","v":0},{"$f":"IF(AK11=0,0,(AK11*((LOG(AK11))/LOG(2))))","v":0},null,{"$f":"N11","v":1211},{"$f":"COUNTIF(L111:L136,AN11)","v":0},{"$f":"AO11/(AQ4-AO20)","v":0},{"$f":"IF(AP11=0,0,(AP11*((LOG(AP11))/LOG(2))))","v":0},null,{"$f":"N11","v":1211},{"$f":"COUNTIF(L137:L162,AS11)","v":0},{"$f":"AT11/(AV4-AT20)","v":0},{"$f":"IF(AU11=0,0,(AU11*((LOG(AU11))/LOG(2))))","v":0}]
[21,667,21,671,22,682,14,690,null,null,0,2221,null,1212,{"$f":"COUNTIF($L$7:$L$500,N12)","v":0},{"$f":"O12/$Q$4","v":0},{"$f":"IF(P12=0,0,(P12*((LOG(P12))/LOG(2))))","v":0},null,null,{"$f":"N12","v":1212},{"$f":"COUNTIF(L7:L32,T12)","v":0},{"$f":"U12/(W4-U20)","v":0},{"$f":"IF(V12=0,0,(V12*((LOG(V12))/LOG(2))))","v":0},null,{"$f":"N12","v":1212},{"$f":"COUNTIF(L33:L58,Y12)","v":0},{"$f":"Z12/(AB4-Z20)","v":0},{"$f":"IF(AA12=0,0,(AA12*((LOG(AA12))/LOG(2))))","v":0},null,{"$f":"N12","v":1212},{"$f":"COUNTIF(L59:L84,AD12)","v":0},{"$f":"AE12/(AG4-AE20)","v":0},{"$f":"IF(AF12=0,0,(AF12*((LOG(AF12))/LOG(2))))","v":0},null,{"$f":"N12","v":1212},{"$f":"COUNTIF(L85:L110,AI12)","v":0},{"$f":"AJ12/(AL4-AJ20)","v":0},{"$f":"IF(AK12=0,0,(AK12*((LOG(AK12))/LOG(2))))","v":0},null,{"$f":"N12","v":1212},{"$f":"COUNTIF(L111:L136,AN12)","v":0},{"$f":"AO12/(AQ4-AO20)","v":0},{"$f":"IF(AP12=0,0,(AP12*((LOG(AP12))/LOG(2))))","v":0},null,{"$f":"N12","v":1212},{"$f":"COUNTIF(L137:L162,AS12)","v":0},{"$f":"AT12/(AV4-AT20)","v":0},{"$f":"IF(AU12=0,0,(AU12*((LOG(AU12))/LOG(2))))","v":0}]
[21,790,21,794,11,814,21,827,null,null,0,2212,null,1221,{"$f":"COUNTIF($L$7:$L$500,N13)","v":0},{"$f":"O13/$Q$4","v":0},{"$f":"IF(P13=0,0,(P13*((LOG(P13))/LOG(2))))","v":0},null,null,{"$f":"N13","v":1221},{"$f":"COUNTIF(L7:L32,T13)","v":0},{"$f":"U13/(W4-U20)","v":0},{"$f":"IF(V13=0,0,(V13*((LOG(V13))/LOG(2))))","v":0},null,{"$f":"N13","v":1221},{"$f":"COUNTIF(L33:L58,Y13)","v":0},{"$f":"Z13/(AB4-Z20)","v":0},{"$f":"IF(AA13=0,0,(AA13*((LOG(AA13))/LOG(2))))","v":0},null,{"$f":"N13","v":1221},{"$f":"COUNTIF(L59:L84,AD13)","v":0},{"$f":"AE13/(AG4-AE20)","v":0},{"$f":"IF(AF13=0,0,(AF13*((LOG(AF13))/LOG(2))))","v":0},null,{"$f":"N13","v":1221},{"$f":"COUNTIF(L85:L110,AI13)","v":0},{"$f":"AJ13/(AL4-AJ20)","v":0},{"$f":"IF(AK13=0,0,(AK13*((LOG(AK13))/LOG(2))))","v":0},null,{"$f":"N13","v":1221},{"$f":"COUNTIF(L111:L136,AN13)","v":0},{"$f":"AO13/(AQ4-AO20)","v":0},{"$f":"IF(AP13=0,0,(AP13*((LOG(AP13))/LOG(2))))","v":0},null,{"$f":"N13","v":1221},{"$f":"COUNTIF(L137:L162,AS13)","v":0},{"$f":"AT13/(AV4-AT20)","v":0},{"$f":"IF(AU13=0,0,(AU13*((LOG(AU13))/LOG(2))))","v":0}]
[12,1034,23,1042,24,1046,23,1060,null,null,0,1222,null,1222,{"$f":"COUNTIF($L$7:$L$500,N14)","v":12},{"$f":"O14/$Q$4","v":7.6923076923076927E-2},{"$f":"IF(P14=0,0,(P14*((LOG(P14))/LOG(2))))","v":-0.28464920908777636},null,null,{"$f":"N14","v":1222},{"$f":"COUNTIF(L7:L32,T14)","v":2},{"$f":"U14/(W4-U20)","v":9.5238095238095233E-2},{"$f":"IF(V14=0,0,(V14*((LOG(V14))/LOG(2))))","v":-0.32307784978845333},null,{"$f":"N14","v":1222},{"$f":"COUNTIF(L33:L58,Y14)","v":3},{"$f":"Z14/(AB4-Z20)","v":0.15},{"$f":"IF(AA14=0,0,(AA14*((LOG(AA14))/LOG(2))))","v":-0.41054483912493089},null,{"$f":"N14","v":1222},{"$f":"COUNTIF(L59:L84,AD14)","v":1},{"$f":"AE14/(AG4-AE20)","v":4.5454545454545456E-2},{"$f":"IF(AF14=0,0,(AF14*((LOG(AF14))/LOG(2))))","v":-0.20270143721078623},null,{"$f":"N14","v":1222},{"$f":"COUNTIF(L85:L110,AI14)","v":3},{"$f":"AJ14/(AL4-AJ20)","v":0.14285714285714285},{"$f":"IF(AK14=0,0,(AK14*((LOG(AK14))/LOG(2))))","v":-0.40105070315108626},null,{"$f":"N14","v":1222},{"$f":"COUNTIF(L111:L136,AN14)","v":1},{"$f":"AO14/(AQ4-AO20)","v":4.1666666666666664E-2},{"$f":"IF(AP14=0,0,(AP14*((LOG(AP14))/LOG(2))))","v":-0.19104010419671485},null,{"$f":"N14","v":1222},{"$f":"COUNTIF(L137:L162,AS14)","v":2},{"$f":"AT14/(AV4-AT20)","v":0.1},{"$f":"IF(AU14=0,0,(AU14*((LOG(AU14))/LOG(2))))","v":-0.33219280948873625}]
[21,1158,21,1173,22,1177,23,1183,null,null,0,2222,null,2111,{"$f":"COUNTIF($L$7:$L$500,N15)","v":0},{"$f":"O15/$Q$4","v":0},{"$f":"IF(P15=0,0,(P15*((LOG(P15))/LOG(2))))","v":0},null,null,{"$f":"N15","v":2111},{"$f":"COUNTIF(L7:L32,T15)","v":0},{"$f":"U15/(W4-U20)","v":0},{"$f":"IF(V15=0,0,(V15*((LOG(V15))/LOG(2))))","v":0},null,{"$f":"N15","v":2111},{"$f":"COUNTIF(L33:L58,Y15)","v":0},{"$f":"Z15/(AB4-Z20)","v":0},{"$f":"IF(AA15=0,0,(AA15*((LOG(AA15))/LOG(2))))","v":0},null,{"$f":"N15","v":2111},{"$f":"COUNTIF(L59:L84,AD15)","v":0},{"$f":"AE15/(AG4-AE20)","v":0},{"$f":"IF(AF15=0,0,(AF15*((LOG(AF15))/LOG(2))))","v":0},null,{"$f":"N15","v":2111},{"$f":"COUNTIF(L85:L110,AI15)","v":0},{"$f":"AJ15/(AL4-AJ20)","v":0},{"$f":"IF(AK15=0,0,(AK15*((LOG(AK15))/LOG(2))))","v":0},null,{"$f":"N15","v":2111},{"$f":"COUNTIF(L111:L136,AN15)","v":0},{"$f":"AO15/(AQ4-AO20)","v":0},{"$f":"IF(AP15=0,0,(AP15*((LOG(AP15))/LOG(2))))","v":0},null,{"$f":"N15","v":2111},{"$f":"COUNTIF(L137:L162,AS15)","v":0},{"$f":"AT15/(AV4-AT20)","v":0},{"$f":"IF(AU15=0,0,(AU15*((LOG(AU15))/LOG(2))))","v":0}]
[21,1284,21,1300,22,1303,23,1310,null,null,0,2222,null,2112,{"$f":"COUNTIF($L$7:$L$500,N16)","v":0},{"$f":"O16/$Q$4","v":0},{"$f":"IF(P16=0,0,(P16*((LOG(P16))/LOG(2))))","v":0},null,null,{"$f":"N16","v":2112},{"$f":"COUNTIF(L7:L32,T16)","v":0},{"$f":"U16/(W4-U20)","v":0},{"$f":"IF(V16=0,0,(V16*((LOG(V16))/LOG(2))))","v":0},null,{"$f":"N16","v":2112},{"$f":"COUNTIF(L33:L58,Y16)","v":0},{"$f":"Z16/(AB4-Z20)","v":0},{"$f":"IF(AA16=0,0,(AA16*((LOG(AA16))/LOG(2))))","v":0},null,{"$f":"N16","v":2112},{"$f":"COUNTIF(L59:L84,AD16)","v":0},{"$f":"AE16/(AG4-AE20)","v":0},{"$f":"IF(AF16=0,0,(AF16*((LOG(AF16))/LOG(2))))","v":0},null,{"$f":"N16","v":2112},{"$f":"COUNTIF(L85:L110,AI16)","v":0},{"$f":"AJ16/(AL4-AJ20)","v":0},{"$f":"IF(AK16=0,0,(AK16*((LOG(AK16))/LOG(2))))","v":0},null,{"$f":"N16","v":2112},{"$f":"COUNTIF(L111:L136,AN16)","v":0},{"$f":"AO16/(AQ4-AO20)","v":0},{"$f":"IF(AP16=0,0,(AP16*((LOG(AP16))/LOG(2))))","v":0},null,{"$f":"N16","v":2112},{"$f":"COUNTIF(L137:L162,AS16)","v":0},{"$f":"AT16/(AV4-AT20)","v":0},{"$f":"IF(AU16=0,0,(AU16*((LOG(AU16))/LOG(2))))","v":0}]
[21,1408,21,1429,22,1432,23,1438,null,null,0,2222,null,2121,{"$f":"COUNTIF($L$7:$L$500,N17)","v":0},{"$f":"O17/$Q$4","v":0},{"$f":"IF(P17=0,0,(P17*((LOG(P17))/LOG(2))))","v":0},null,null,{"$f":"N17","v":2121},{"$f":"COUNTIF(L7:L32,T17)","v":0},{"$f":"U17/(W4-U20)","v":0},{"$f":"IF(V17=0,0,(V17*((LOG(V17))/LOG(2))))","v":0},null,{"$f":"N17","v":2121},{"$f":"COUNTIF(L33:L58,Y17)","v":0},{"$f":"Z17/(AB4-Z20)","v":0},{"$f":"IF(AA17=0,0,(AA17*((LOG(AA17))/LOG(2))))","v":0},null,{"$f":"N17","v":2121},{"$f":"COUNTIF(L59:L84,AD17)","v":0},{"$f":"AE17/(AG4-AE20)","v":0},{"$f":"IF(AF17=0,0,(AF17*((LOG(AF17))/LOG(2))))","v":0},null,{"$f":"N17","v":2121},{"$f":"COUNTIF(L85:L110,AI17)","v":0},{"$f":"AJ17/(AL4-AJ20)","v":0},{"$f":"IF(AK17=0,0,(AK17*((LOG(AK17))/LOG(2))))","v":0},null,{"$f":"N17","v":2121},{"$f":"COUNTIF(L111:L136,AN17)","v":0},{"$f":"AO17/(AQ4-AO20)","v":0},{"$f":"IF(AP17=0,0,(AP17*((LOG(AP17))/LOG(2))))","v":0},null,{"$f":"N17","v":2121},{"$f":"COUNTIF(L137:L162,AS17)","v":0},{"$f":"AT17/(AV4-AT20)","v":0},{"$f":"IF(AU17=0,0,(AU17*((LOG(AU17))/LOG(2))))","v":0}]
[21,1535,21,1540,11,1550,21,1559,null,null,0,2212,null,2122,{"$f":"COUNTIF($L$7:$L$500,N18)","v":31},{"$f":"O18/$Q$4","v":0.19871794871794871},{"$f":"IF(P18=0,0,(P18*((LOG(P18))/LOG(2))))","v":-0.46325245617138827},null,null,{"$f":"N18","v":2122},{"$f":"COUNTIF(L7:L32,T18)","v":4},{"$f":"U18/(W4-U20)","v":0.19047619047619047},{"$f":"IF(V18=0,0,(V18*((LOG(V18))/LOG(2))))","v":-0.4556795091007162},null,{"$f":"N18","v":2122},{"$f":"COUNTIF(L33:L58,Y18)","v":7},{"$f":"Z18/(AB4-Z20)","v":0.35},{"$f":"IF(AA18=0,0,(AA18*((LOG(AA18))/LOG(2))))","v":-0.53010061049041535},null,{"$f":"N18","v":2122},{"$f":"COUNTIF(L59:L84,AD18)","v":2},{"$f":"AE18/(AG4-AE20)","v":9.0909090909090912E-2},{"$f":"IF(AF18=0,0,(AF18*((LOG(AF18))/LOG(2))))","v":-0.31449378351248153},null,{"$f":"N18","v":2122},{"$f":"COUNTIF(L85:L110,AI18)","v":3},{"$f":"AJ18/(AL4-AJ20)","v":0.14285714285714285},{"$f":"IF(AK18=0,0,(AK18*((LOG(AK18))/LOG(2))))","v":-0.40105070315108626},null,{"$f":"N18","v":2122},{"$f":"COUNTIF(L111:L136,AN18)","v":10},{"$f":"AO18/(AQ4-AO20)","v":0.41666666666666669},{"$f":"IF(AP18=0,0,(AP18*((LOG(AP18))/LOG(2))))","v":-0.52626433576408083},null,{"$f":"N18","v":2122},{"$f":"COUNTIF(L137:L162,AS18)","v":5},{"$f":"AT18/(AV4-AT20)","v":0.25},{"$f":"IF(AU18=0,0,(AU18*((LOG(AU18))/LOG(2))))","v":-0.5}]
[21,1696,21,1700,22,1711,23,1715,null,null,0,2222,null,2211,{"$f":"COUNTIF($L$7:$L$500,N19)","v":0},{"$f":"O19/$Q$4","v":0},{"$f":"IF(P19=0,0,(P19*((LOG(P19))/LOG(2))))","v":0},null,null,{"$f":"N19","v":2211},{"$f":"COUNTIF(L7:L32,T19)","v":0},{"$f":"U19/(W4-U20)","v":0},{"$f":"IF(V19=0,0,(V19*((LOG(V19))/LOG(2))))","v":0},null,{"$f":"N19","v":2211},{"$f":"COUNTIF(L33:L58,Y19)","v":0},{"$f":"Z19/(AB4-Z20)","v":0},{"$f":"IF(AA19=0,0,(AA19*((LOG(AA19))/LOG(2))))","v":0},null,{"$f":"N19","v":2211},{"$f":"COUNTIF(L59:L84,AD19)","v":0},{"$f":"AE19/(AG4-AE20)","v":0},{"$f":"IF(AF19=0,0,(AF19*((LOG(AF19))/LOG(2))))","v":0},null,{"$f":"N19","v":2211},{"$f":"COUNTIF(L85:L110,AI19)","v":0},{"$f":"AJ19/(AL4-AJ20)","v":0},{"$f":"IF(AK19=0,0,(AK19*((LOG(AK19))/LOG(2))))","v":0},null,{"$f":"N19","v":2211},{"$f":"COUNTIF(L111:L136,AN19)","v":0},{"$f":"AO19/(AQ4-AO20)","v":0},{"$f":"IF(AP19=0,0,(AP19*((LOG(AP19))/LOG(2))))","v":0},null,{"$f":"N19","v":2211},{"$f":"COUNTIF(L137:L162,AS19)","v":0},{"$f":"AT19/(AV4-AT20)","v":0},{"$f":"IF(AU19=0,0,(AU19*((LOG(AU19))/LOG(2))))","v":0}]
[21,1815,21,1844,22,1852,23,1864,null,null,0,2222,null,2212,{"$f":"COUNTIF($L$7:$L$500,N20)","v":28},{"$f":"O20/$Q$4","v":0.17948717948717949},{"$f":"IF(P20=0,0,(P20*((LOG(P20))/LOG(2))))","v":-0.4447777199392951},null,null,{"$f":"N20","v":2212},{"$f":"COUNTIF(L7:L32,T20)","v":5},null,null,null,{"$f":"N20","v":2212},{"$f":"COUNTIF(L33:L58,Y20)","v":6},null,null,null,{"$f":"N20","v":2212},{"$f":"COUNTIF(L59:L84,AD20)","v":4},null,null,null,{"$f":"N20","v":2212},{"$f":"COUNTIF(L85:L110,AI20)","v":5},null,null,null,{"$f":"N20","v":2212},{"$f":"COUNTIF(L111:L136,AN20)","v":2},null,null,null,{"$f":"N20","v":2212},{"$f":"COUNTIF(L137:L162,AS20)","v":6}]
[21,1977,21,1984,11,1996,21,2005,null,null,0,2212,null,2221,{"$f":"COUNTIF($L$7:$L$500,N21)","v":16},{"$f":"O21/$Q$4","v":0.10256410256410256},{"$f":"IF(P21=0,0,(P21*((LOG(P21))/LOG(2))))","v":-0.33696433013971777},null,null,{"$f":"N21","v":2221},{"$f":"COUNTIF(L7:L32,T21)","v":3},{"$f":"U21/(W4-U20)","v":0.14285714285714285},{"$f":"IF(V21=0,0,(V21*((LOG(V21))/LOG(2))))","v":-0.40105070315108626},null,{"$f":"N21","v":2221},{"$f":"COUNTIF(L33:L58,Y21)","v":2},{"$f":"Z21/(AB4-Z20)","v":0.1},{"$f":"IF(AA21=0,0,(AA21*((LOG(AA21))/LOG(2))))","v":-0.33219280948873625},null,{"$f":"N21","v":2221},{"$f":"COUNTIF(L59:L84,AD21)","v":4},{"$f":"AE21/(AG4-AE20)","v":0.18181818181818182},{"$f":"IF(AF21=0,0,(AF21*((LOG(AF21))/LOG(2))))","v":-0.44716938520678134},null,{"$f":"N21","v":2221},{"$f":"COUNTIF(L85:L110,AI21)","v":2},{"$f":"AJ21/(AL4-AJ20)","v":9.5238095238095233E-2},{"$f":"IF(AK21=0,0,(AK21*((LOG(AK21))/LOG(2))))","v":-0.32307784978845333},null,{"$f":"N21","v":2221},{"$f":"COUNTIF(L111:L136,AN21)","v":3},{"$f":"AO21/(AQ4-AO20)","v":0.125},{"$f":"IF(AP21=0,0,(AP21*((LOG(AP21))/LOG(2))))","v":-0.375},null,{"$f":"N21","v":2221},{"$f":"COUNTIF(L137:L162,AS21)","v":2},{"$f":"AT21/(AV4-AT20)","v":0.1},{"$f":"IF(AU21=0,0,(AU21*((LOG(AU21))/LOG(2))))","v":-0.33219280948873625}]
[21,2183,12,2191,24,2199,23,2202,null,null,0,2122,null,2222,{"$f":"COUNTIF($L$7:$L$500,N22)","v":69},{"$f":"O22/$Q$4","v":0.44230769230769229},{"$f":"IF(P22=0,0,(P22*((LOG(P22))/LOG(2))))","v":-0.52054208707565042},null,null,{"$f":"N22","v":2222},{"$f":"COUNTIF(L7:L32,T22)","v":12},{"$f":"U22/(W4-U20)","v":0.5714285714285714},{"$f":"IF(V22=0,0,(V22*((LOG(V22))/LOG(2))))","v":-0.46134566974720237},null,{"$f":"N22","v":2222},{"$f":"COUNTIF(L33:L58,Y22)","v":8},{"$f":"Z22/(AB4-Z20)","v":0.4},{"$f":"IF(AA22=0,0,(AA22*((LOG(AA22))/LOG(2))))","v":-0.52877123795494496},null,{"$f":"N22","v":2222},{"$f":"COUNTIF(L59:L84,AD22)","v":15},{"$f":"AE22/(AG4-AE20)","v":0.68181818181818177},{"$f":"IF(AF22=0,0,(AF22*((LOG(AF22))/LOG(2))))","v":-0.37673251570144006},null,{"$f":"N22","v":2222},{"$f":"COUNTIF(L85:L110,AI22)","v":13},{"$f":"AJ22/(AL4-AJ20)","v":0.61904761904761907},{"$f":"IF(AK22=0,0,(AK22*((LOG(AK22))/LOG(2))))","v":-0.42830524572808026},null,{"$f":"N22","v":2222},{"$f":"COUNTIF(L111:L136,AN22)","v":10},{"$f":"AO22/(AQ4-AO20)","v":0.41666666666666669},{"$f":"IF(AP22=0,0,(AP22*((LOG(AP22))/LOG(2))))","v":-0.52626433576408083},null,{"$f":"N22","v":2222},{"$f":"COUNTIF(L137:L162,AS22)","v":11},{"$f":"AT22/(AV4-AT20)","v":0.55000000000000004},{"$f":"IF(AU22=0,0,(AU22*((LOG(AU22))/LOG(2))))","v":-0.47437306193753576}]
[21,2300,12,2321,24,2329,23,2340,null,null,0,2122,null,null,null,{"$f":"SUM(P7:P22)","v":1},{"$f":"-SUM(Q7:Q22)","v":2.0501858024138278},null,null,null,null,{"$f":"SUM(V7:V22)","v":1},{"$f":"-SUM(W7:W22)","v":1.6411537317874583},null,null,null,{"$f":"SUM(AA7:AA22)","v":1},{"$f":"-SUM(AB7:AB22)","v":1.8016094970590275},null,null,null,{"$f":"SUM(AF7:AF22)","v":1},{"$f":"-SUM(AG7:AG22)","v":1.3410971216314891},null,null,null,{"$f":"SUM(AK7:AK22)","v":1},{"$f":"-SUM(AL7:AL22)","v":1.553484501818706},null,null,null,{"$f":"SUM(AP7:AP22)","v":1},{"$f":"-SUM(AQ7:AQ22)","v":1.6185687757248766},null,null,null,{"$f":"SUM(AU7:AU22)","v":1},{"$f":"-SUM(AV7:AV22)","v":1.6387586809150083}]
[21,2437,21,2462,22,2468,23,2475,null,null,0,2222,null,null,null,"U=",{"$f":"Q23/(LOG(Q4)/LOG(2))","v":0.28141010486775875},null,null,null,null,"U1=",{"$f":"W23/(LOG(W4)/LOG(2))","v":0.34914897971215642},null,null,null,"U2=",{"$f":"AB23/(LOG(AB4)/LOG(2))","v":0.38328531054356757},null,null,null,"U3=",{"$f":"AG23/(LOG(AG4)/LOG(2))","v":0.28531312005887399},null,null,null,"U4=",{"$f":"AL23/(LOG(AL4)/LOG(2))","v":0.33049769701824216},null,null,null,"U5=",{"$f":"AQ23/(LOG(AQ4)/LOG(2))","v":0.34434411944016607},null,null,null,"U6=",{"$f":"AV23/(LOG(AV4)/LOG(2))","v":0.34863944209098313}]
[21,2578,12,2602,24,2618,23,2625,null,null,0,2122]
[21,2754,21,2759,22,2767,23,2773,null,null,0,2222]
[21,2872,21,2877,11,2891,21,2903,null,null,0,2212,null,"Total Target Seq"]
[21,3051,21,3068,22,3079,14,3087,null,null,0,2221,null,{"$f":"COUNTIF(L7:L162,G3)","v":28},null,26,26,26,26,26,26]
[21,3185,21,3196,11,3204,21,3215,null,null,0,2212,null,null,null,"% of reinforcement given in 6 equal intervals based on number of trials "]
[21,3369,21,3375,22,3390,23,3401,null,null,0,2222,null,null,null,"%_1","%_2","%_3","%_4","%_5","%_6"]
[21,3501,21,3506,22,3511,14,3522,null,null,0,2221,null,null,"target sequence",{"$f":"$G$3","v":2212},{"$f":"$G$3","v":2212},{"$f":"$G$3","v":2212},{"$f":"$G$3","v":2212},{"$f":"$G$3","v":2212},{"$f":"$G$3","v":2212}]
[21,3619,12,3628,24,3648,23,3658,null,null,0,2122,null,null,"total reinforcement",{"$f":"U20","v":5},{"$f":"Z20","v":6},{"$f":"AE20","v":4},{"$f":"AJ20","v":5},{"$f":"AO20","v":2},{"$f":"AT20","v":6}]
[21,3762,12,3776,24,3789,23,3799,null,null,0,2122,null,null,"% target"]
[21,3895,21,3900,11,3918,21,3928,null,null,0,2212,null,null,"CCRF"]
[21,4030,21,4035,11,4044,21,4062,null,null,0,2212,null,null,"% CCRf"]
[21,4289,21,4298,22,4307,23,4340,null,null,0,2222,null,null,"average response rate",{"$f":"H32/P28","v":140.69230769230768},{"$f":"(H58-H32)/Q28","v":146.03846153846155},{"$f":"(H84-H58)/R28","v":133.46153846153845},{"$f":"(H110-H84)/S28","v":138.88461538461539},{"$f":"(H136-H110)/T28","v":138.19230769230768},{"$f":"(H162-H136)/U28","v":140.23076923076923}]
[21,4439,21,4443,11,4462,21,4478,null,null,0,2212]
[21,4609,21,4614,11,4631,21,4642,null,null,0,2212]
[21,4794,12,4806,24,4819,23,4831,null,null,0,2122]
[21,4933,21,4955,22,4963,23,4972,null,null,0,2222]
[21,5079,12,5093,24,5105,23,5113,null,null,0,2122]
[21,5210,21,5232,22,5241,23,5248,null,null,0,2222]
[21,5347,21,5353,22,5358,14,5366,null,null,0,2221]
[21,5462,21,5467,22,5487,23,5494,null,null,0,2222]
[12,5601,23,5613,24,5621,23,5635,null,null,0,1222]
[21,5734,12,5746,24,5770,23,5778,null,null,0,2122]
[21,5875,12,5885,24,5903,23,5911,null,null,0,2122]
[21,6011,12,6024,24,6035,23,6043,null,null,0,2122]
[21,6143,21,6147,22,6152,14,6163,null,null,0,2221]
[21,6264,21,6268,22,6290,23,6296,null,null,0,2222]
[21,6392,21,6396,11,6406,21,6421,null,null,0,2212]
[21,6539,21,6544,22,6558,23,6569,null,null,0,2222]
[21,6668,21,6680,11,6688,21,6703,null,null,0,2212]
[21,6858,21,6862,22,6867,23,6885,null,null,0,2222]
[21,6982,12,6997,24,7017,23,7026,null,null,0,2122]
[12,7137,23,7168,24,7179,23,7185,null,null,0,1222]
[21,7284,21,7288,22,7304,23,7313,null,null,0,2222]
[12,7422,23,7437,24,7448,23,7455,null,null,0,1222]
[21,7552,21,7558,11,7571,21,7580,null,null,0,2212]
[21,7682,21,7689,22,7711,23,7716,null,null,0,2222]
[21,7813,21,7819,22,7844,23,7854,null,null,0,2222]
[21,7951,21,7957,22,7992,23,8000,null,null,0,2222]
[21,8114,21,8117,22,8124,23,8132,null,null,0,2222]
[21,8238,21,8254,22,8260,23,8269,null,null,0,2222]
[21,8368,21,8372,22,8376,14,8386,null,null,0,2221]
[21,8499,21,8502,22,8509,23,8515,null,null,0,2222]
[21,8615,21,8620,22,8640,23,8650,null,null,0,2222]
[21,8747,21,8752,11,8760,21,8782,null,null,0,2212]
[21,8912,21,8915,22,8926,23,8933,null,null,0,2222]
[21,9030,12,9041,24,9049,23,9057,null,null,0,2122]
[21,9216,21,9220,22,9224,23,9232,null,null,0,2222]
[21,9330,21,9347,22,9358,23,9364,null,null,0,2222]
[21,9461,21,9467,11,9474,21,9484,null,null,0,2212]
[21,9619,21,9624,22,9629,14,9638,null,null,0,2221]
[12,9747,23,9759,24,9766,23,9774,null,null,0,1222]
[21,9872,21,9877,11,9889,21,9898,null,null,0,2212]
[21,10008,21,10014,22,10020,14,10028,null,null,0,2221]
[21,10128,12,10138,24,10152,23,10165,null,null,0,2122]
[21,10263,21,10269,22,10302,23,10312,null,null,0,2222]
[21,10410,21,10415,22,10433,23,10444,null,null,0,2222]
[21,10544,21,10548,22,10550,23,10555,null,null,0,2222]
[21,10653,21,10657,22,10674,23,10679,null,null,0,2222]
[21,10778,21,10799,22,10805,23,10811,null,null,0,2222]
[21,10908,21,10912,22,10917,14,10925,null,null,0,2221]
[21,11022,21,11028,22,11035,14,11043,null,null,0,2221]
[21,11140,21,11144,11,11152,21,11179,null,null,0,2212]
[21,11361,21,11369,11,11376,21,11386,null,null,0,2212]
[21,11505,21,11511,22,11518,23,11551,null,null,0,2222]
[21,11653,21,11659,11,11667,21,11684,null,null,0,2212]
[21,11821,21,11835,22,11842,23,11849,null,null,0,2222]
[12,11956,23,11995,24,12007,23,12014,null,null,0,1222]
[21,12115,21,12121,22,12126,14,12136,null,null,0,2221]
[21,12233,12,12243,24,12253,23,12260,null,null,0,2122]
[21,12357,12,12376,24,12385,23,12399,null,null,0,2122]
[12,12509,23,12519,24,12525,23,12533,null,null,0,1222]
[21,12633,21,12650,22,12657,23,12666,null,null,0,2222]
[21,12765,21,12769,22,12801,23,12811,null,null,0,2222]
[12,12920,23,12927,24,12931,23,12938,null,null,0,1222]
[21,13051,21,13058,22,13065,23,13072,null,null,0,2222]
[21,13169,21,13190,22,13198,23,13206,null,null,0,2222]
[21,13303,21,13308,22,13327,23,13335,null,null,0,2222]
[21,13432,21,13439,11,13448,21,13457,null,null,0,2212]
[21,13579,21,13584,22,13590,23,13607,null,null,0,2222]
[21,13703,21,13707,22,13711,23,13727,null,null,0,2222]
[21,13826,21,13832,22,13837,23,13846,null,null,0,2222]
[21,13941,21,13946,22,13949,23,13955,null,null,0,2222]
[21,14052,21,14057,22,14071,23,14080,null,null,0,2222]
[21,14176,21,14180,11,14189,21,14210,null,null,0,2212]
[21,14338,21,14344,22,14349,23,14402,null,null,0,2222]
[21,14507,12,14516,24,14525,23,14536,null,null,0,2122]
[21,14634,21,14636,22,14660,23,14670,null,null,0,2222]
[21,14767,12,14783,24,14800,23,14810,null,null,0,2122]
[21,14905,21,14914,22,14920,14,14931,null,null,0,2221]
[21,15028,12,15037,24,15056,23,15066,null,null,0,2122]
[21,15164,21,15186,22,15193,23,15205,null,null,0,2222]
[21,15305,12,15322,24,15331,23,15339,null,null,0,2122]
[21,15437,21,15444,22,15465,23,15472,null,null,0,2222]
[21,15580,12,15594,24,15610,23,15618,null,null,0,2122]
[21,15717,12,15732,24,15745,23,15752,null,null,0,2122]
[12,15859,23,15867,24,15872,23,15884,null,null,0,1222]
[21,15982,12,16002,24,16022,23,16033,null,null,0,2122]
[21,16133,21,16138,22,16142,14,16150,null,null,0,2221]
[21,16246,21,16250,22,16254,23,16271,null,null,0,2222]
[21,16405,12,16414,24,16422,23,16430,null,null,0,2122]
[21,16529,21,16532,22,16538,14,16545,null,null,0,2221]
[21,16642,21,16647,22,16675,23,16684,null,null,0,2222]
[21,16780,12,16799,24,16807,23,16817,null,null,0,2122]
[21,16913,12,16924,24,16937,23,16946,null,null,0,2122]
[21,17042,21,17048,11,17056,21,17065,null,null,0,2212]
[21,17275,21,17279,22,17295,23,17301,null,null,0,2222]
[21,17399,21,17424,22,17436,23,17444,null,null,0,2222]
[21,17541,21,17547,22,17564,23,17575,null,null,0,2222]
[21,17675,12,17692,24,17709,23,17721,null,null,0,2122]
[21,17817,21,17825,11,17833,21,17851,null,null,0,2212]
[21,17973,21,17979,22,17994,23,18004,null,null,0,2222]
[21,18101,21,18117,22,18121,23,18129,null,null,0,2222]
[21,18228,21,18232,22,18236,14,18248,null,null,0,2221]
[21,18344,21,18348,11,18359,21,18369,null,null,0,2212]
[21,18521,21,18526,22,18546,23,18560,null,null,0,2222]
[21,18657,21,18662,22,18668,23,18687,null,null,0,2222]
[21,18787,21,18793,11,18807,21,18818,null,null,0,2212]
[21,18937,21,18942,22,18965,23,18974,null,null,0,2222]
[21,19071,12,19081,24,19090,23,19107,null,null,0,2122]
[21,19207,21,19210,22,19228,23,19234,null,null,0,2222]
[21,19332,21,19361,11,19391,21,19397,null,null,0,2212]
[21,19538,21,19542,11,19552,21,19592,null,null,0,2212]
[21,19720,21,19729,11,19738,21,19748,null,null,0,2212]
[21,19857,21,19863,22,19883,23,19890,null,null,0,2222]
[21,19987,12,19999,24,20009,23,20020,null,null,0,2122]
[21,20118,21,20137,22,20145,23,20180,null,null,0,2222]
[21,20286,21,20291,22,20299,23,20305,null,null,0,2222]
[21,20403,12,20414,24,20422,23,20431,null,null,0,2122]
[21,20531,21,20536,22,20552,23,20560,null,null,0,2222]
[21,20659,12,20674,24,20720,23,20730,null,null,0,2122]
[12,20835,23,20845,24,20849,23,20857,null,null,0,1222]
[21,20956,21,20961,11,20969,21,20982,null,null,0,2212]
[21,21084,21,21090,22,21095,14,21106,null,null,0,2221]
[21,21203,12,21218,24,21226,23,21233,null,null,0,2122]
[12,21340,23,21347,24,21358,23,21364,null,null,0,1222]
[21,21460,21,21480,22,21495,23,21502,null,null,0,2222]
[21,21602,21,21606,22,21625,23,21636,null,null,0,2222]
[21,21734,21,21758,22,21766,23,21775,null,null,0,2222]

{"sheet":"!LB29954..Is","index":22,"n_rows":173,"n_cols":48,"rows_kept":173,"cut":false,"hidden":false,"merged":[[4,39,4,42],[5,39,5,40],[4,44,4,47],[5,44,5,45],[4,24,4,27],[5,24,5,25],[4,29,4,32],[5,29,5,30],[4,34,4,37],[5,34,5,35],[1,1,1,2],[5,13,5,14],[26,13,26,14],[27,13,27,14],[4,19,4,22],[5,19,5,20]]}
["Report for:!LB29954..Is"]
["Date:","<date>"]
["Hen:","<hen>",null,null,null,"Correct Sequence",{"$f":"Start!J2","v":2212},null,null,null,null,null,null,null,null,"Total Sequences in Data",{"$f":"4994-COUNTBLANK(L7:L5000)","v":167},null,null,null,null,"Total Sequences in Block Data",{"$f":"COUNTA(L7:L34)","v":28},null,null,null,"Total Sequences in Block Data",{"$f":"COUNTA(L35:L62)","v":28},null,null,null,"Total Sequences in Block Data",{"$f":"COUNTA(L63:L89)","v":27},null,null,null,"Total Sequences in Block Data",{"$f":"COUNTA(L90:L117)","v":28},null,null,null,"Total Sequences in Block Data",{"$f":"COUNTA(L118:L145)","v":28},null,null,null,"Total Sequences in Block Data",{"$f":"COUNTA(L146:L173)","v":28}]
[null,null,null,null,null,null,null,null,null,null,null,null,null,null,null,"Total Sequences in Summary",{"$f":"SUM(O7:O22)","v":167},null,null,null,null,"Total Sequences in Block Summary",{"$f":"SUM(U7:U22)","v":28},null,null,null,"Total Sequences in Block Summary",{"$f":"SUM(Z7:Z22)","v":28},null,null,null,"Total Sequences in Block Summary",{"$f":"SUM(AE7:AE22)","v":27},null,null,null,"Total Sequences in Block Summary",{"$f":"SUM(AJ7:AJ22)","v":28},null,null,null,"Total Sequences in Block Summary",{"$f":"SUM(AO7:AO22)","v":28},null,null,null,"Total Sequences in Block Summary",{"$f":"SUM(AT7:AT22)","v":28}]
[null,null,null,null,null,null,null,null,null,null,null,null,null,null,null,null,null,null,null,"Block 1",null,null,null,null,"Block 2",null,null,null,null,"Block 3",null,null,null,null,"Block 4",null,null,null,null,"Block 5",null,null,null,null,"Block 6"]
["Sequence\nComponent\n1","Time\n1","Sequence\nComponent\n2","Time\n2","Sequence\nComponent\n3","Time\n3","Sequence\nComponent\n4","Time\n4","Sequence\nComponent\n5","Time\n5","Correct?\n0=No 1=Yes","Sequence",null,"Frequency",null,"Relative Frequency","Variability",null,null,"Frequency",null,"Relative Frequency","Variability",null,"Frequency",null,"Relative Frequency","Variability",null,"Frequency",null,"Relative Frequency","Variability",null,"Frequency",null,"Relative Frequency","Variability",null,"Frequency",null,"Relative Frequency","Variability",null,"Frequency",null,"Relative Frequency","Variability"]
[12,26,23,43,24,51,23,57,null,null,0,1222,null,1111,{"$f":"COUNTIF($L$7:$L$500,N7)","v":0},{"$f":"O7/$Q$4","v":0},{"$f":"IF(P7=0,0,(P7*((LOG(P7))/LOG(2))))","v":0},null,null,{"$f":"N7","v":1111},{"$f":"COUNTIF(L7:L34,T7)","v":0},{"$f":"U7/(W4-U20)","v":0},{"$f":"IF(V7=0,0,(V7*((LOG(V7))/LOG(2))))","v":0},null,{"$f":"N7","v":1111},{"$f":"COUNTIF(L35:L62,Y7)","v":0},{"$f":"Z7/(AB4-Z20)","v":0},{"$f":"IF(AA7=0,0,(AA7*((LOG(AA7))/LOG(2))))","v":0},null,{"$f":"N7","v":1111},{"$f":"COUNTIF(L63:L89,AD7)","v":0},{"$f":"AE7/(AG4-AE20)","v":0},{"$f":"IF(AF7=0,0,(AF7*((LOG(AF7))/LOG(2))))","v":0},null,{"$f":"N7","v":1111},{"$f":"COUNTIF(L90:L117,AI7)","v":0},{"$f":"AJ7/(AL4-AJ20)","v":0},{"$f":"IF(AK7=0,0,(AK7*((LOG(AK7))/LOG(2))))","v":0},null,{"$f":"N7","v":1111},{"$f":"COUNTIF(L118:L145,AN7)","v":0},{"$f":"AO7/(AQ4-AO20)","v":0},{"$f":"IF(AP7=0,0,(AP7*((LOG(AP7))/LOG(2))))","v":0},null,{"$f":"N7","v":1111},{"$f":"COUNTIF(L146:L173,AS7)","v":0},{"$f":"AT7/(AV4-AT20)","v":0},{"$f":"IF(AU7=0,0,(AU7*((LOG(AU7))/LOG(2))))","v":0}]
[21,214,12,220,24,228,23,233,null,null,0,2122,null,1112,{"$f":"COUNTIF($L$7:$L$500,N8)","v":0},{"$f":"O8/$Q$4","v":0},{"$f":"IF(P8=0,0,(P8*((LOG(P8))/LOG(2))))","v":0},null,null,{"$f":"N8","v":1112},{"$f":"COUNTIF(L7:L34,T8)","v":0},{"$f":"U8/(W4-U20)","v":0},{"$f":"IF(V8=0,0,(V8*((LOG(V8))/LOG(2))))","v":0},null,{"$f":"N8","v":1112},{"$f":"COUNTIF(L35:L62,Y8)","v":0},{"$f":"Z8/(AB4-Z20)","v":0},{"$f":"IF(AA8=0,0,(AA8*((LOG(AA8))/LOG(2))))","v":0},null,{"$f":"N8","v":1112},{"$f":"COUNTIF(L63:L89,AD8)","v":0},{"$f":"AE8/(AG4-AE20)","v":0},{"$f":"IF(AF8=0,0,(AF8*((LOG(AF8))/LOG(2))))","v":0},null,{"$f":"N8","v":1112},{"$f":"COUNTIF(L90:L117,AI8)","v":0},{"$f":"AJ8/(AL4-AJ20)","v":0},{"$f":"IF(AK8=0,0,(AK8*((LOG(AK8))/LOG(2))))","v":0},null,{"$f":"N8","v":1112},{"$f":"COUNTIF(L118:L145,AN8)","v":0},{"$f":"AO8/(AQ4-AO20)","v":0},{"$f":"IF(AP8=0,0,(AP8*((LOG(AP8))/LOG(2))))","v":0},null,{"$f":"N8","v":1112},{"$f":"COUNTIF(L146:L173,AS8)","v":0},{"$f":"AT8/(AV4-AT20)","v":0},{"$f":"IF(AU8=0,0,(AU8*((LOG(AU8))/LOG(2))))","v":0}]
[21,331,12,339,24,347,23,354,null,null,0,2122,null,1121,{"$f":"COUNTIF($L$7:$L$500,N9)","v":0},{"$f":"O9/$Q$4","v":0},{"$f":"IF(P9=0,0,(P9*((LOG(P9))/LOG(2))))","v":0},null,null,{"$f":"N9","v":1121},{"$f":"COUNTIF(L7:L34,T9)","v":0},{"$f":"U9/(W4-U20)","v":0},{"$f":"IF(V9=0,0,(V9*((LOG(V9))/LOG(2))))","v":0},null,{"$f":"N9","v":1121},{"$f":"COUNTIF(L35:L62,Y9)","v":0},{"$f":"Z9/(AB4-Z20)","v":0},{"$f":"IF(AA9=0,0,(AA9*((LOG(AA9))/LOG(2))))","v":0},null,{"$f":"N9","v":1121},{"$f":"COUNTIF(L63:L89,AD9)","v":0},{"$f":"AE9/(AG4-AE20)","v":0},{"$f":"IF(AF9=0,0,(AF9*((LOG(AF9))/LOG(2))))","v":0},null,{"$f":"N9","v":1121},{"$f":"COUNTIF(L90:L117,AI9)","v":0},{"$f":"AJ9/(AL4-AJ20)","v":0},{"$f":"IF(AK9=0,0,(AK9*((LOG(AK9))/LOG(2))))","v":0},null,{"$f":"N9","v":1121},{"$f":"COUNTIF(L118:L145,AN9)","v":0},{"$f":"AO9/(AQ4-AO20)","v":0},{"$f":"IF(AP9=0,0,(AP9*((LOG(AP9))/LOG(2))))","v":0},null,{"$f":"N9","v":1121},{"$f":"COUNTIF(L146:L173,AS9)","v":0},{"$f":"AT9/(AV4-AT20)","v":0},{"$f":"IF(AU9=0,0,(AU9*((LOG(AU9))/LOG(2))))","v":0}]
[21,473,12,485,24,509,23,517,null,null,0,2122,null,1122,{"$f":"COUNTIF($L$7:$L$500,N10)","v":1},{"$f":"O10/$Q$4","v":5.9880239520958087E-3},{"$f":"IF(P10=0,0,(P10*((LOG(P10))/LOG(2))))","v":-4.4213798158527259E-2},null,null,{"$f":"N10","v":1122},{"$f":"COUNTIF(L7:L34,T10)","v":0},{"$f":"U10/(W4-U20)","v":0},{"$f":"IF(V10=0,0,(V10*((LOG(V10))/LOG(2))))","v":0},null,{"$f":"N10","v":1122},{"$f":"COUNTIF(L35:L62,Y10)","v":0},{"$f":"Z10/(AB4-Z20)","v":0},{"$f":"IF(AA10=0,0,(AA10*((LOG(AA10))/LOG(2))))","v":0},null,{"$f":"N10","v":1122},{"$f":"COUNTIF(L63:L89,AD10)","v":0},{"$f":"AE10/(AG4-AE20)","v":0},{"$f":"IF(AF10=0,0,(AF10*((LOG(AF10))/LOG(2))))","v":0},null,{"$f":"N10","v":1122},{"$f":"COUNTIF(L90:L117,AI10)","v":1},{"$f":"AJ10/(AL4-AJ20)","v":4.3478260869565216E-2},{"$f":"IF(AK10=0,0,(AK10*((LOG(AK10))/LOG(2))))","v":-0.19667660678508753},null,{"$f":"N10","v":1122},{"$f":"COUNTIF(L118:L145,AN10)","v":0},{"$f":"AO10/(AQ4-AO20)","v":0},{"$f":"IF(AP10=0,0,(AP10*((LOG(AP10))/LOG(2))))","v":0},null,{"$f":"N10","v":1122},{"$f":"COUNTIF(L146:L173,AS10)","v":0},{"$f":"AT10/(AV4-AT20)","v":0},{"$f":"IF(AU10=0,0,(AU10*((LOG(AU10))/LOG(2))))","v":0}]
[21,614,12,629,13,646,23,666,null,null,0,2112,null,1211,{"$f":"COUNTIF($L$7:$L$500,N11)","v":0},{"$f":"O11/$Q$4","v":0},{"$f":"IF(P11=0,0,(P11*((LOG(P11))/LOG(2))))","v":0},null,null,{"$f":"N11","v":1211},{"$f":"COUNTIF(L7:L34,T11)","v":0},{"$f":"U11/(W4-U20)","v":0},{"$f":"IF(V11=0,0,(V11*((LOG(V11))/LOG(2))))","v":0},null,{"$f":"N11","v":1211},{"$f":"COUNTIF(L35:L62,Y11)","v":0},{"$f":"Z11/(AB4-Z20)","v":0},{"$f":"IF(AA11=0,0,(AA11*((LOG(AA11))/LOG(2))))","v":0},null,{"$f":"N11","v":1211},{"$f":"COUNTIF(L63:L89,AD11)","v":0},{"$f":"AE11/(AG4-AE20)","v":0},{"$f":"IF(AF11=0,0,(AF11*((LOG(AF11))/LOG(2))))","v":0},null,{"$f":"N11","v":1211},{"$f":"COUNTIF(L90:L117,AI11)","v":0},{"$f":"AJ11/(AL4-AJ20)","v":0},{"$f":"IF(AK11=0,0,(AK11*((LOG(AK11))/LOG(2))))","v":0},null,{"$f":"N11","v":1211},{"$f":"COUNTIF(L118:L145,AN11)","v":0},{"$f":"AO11/(AQ4-AO20)","v":0},{"$f":"IF(AP11=0,0,(AP11*((LOG(AP11))/LOG(2))))","v":0},null,{"$f":"N11","v":1211},{"$f":"COUNTIF(L146:L173,AS11)","v":0},{"$f":"AT11/(AV4-AT20)","v":0},{"$f":"IF(AU11=0,0,(AU11*((LOG(AU11))/LOG(2))))","v":0}]
[21,766,21,788,22,793,23,817,null,null,0,2222,null,1212,{"$f":"COUNTIF($L$7:$L$500,N12)","v":1},{"$f":"O12/$Q$4","v":5.9880239520958087E-3},{"$f":"IF(P12=0,0,(P12*((LOG(P12))/LOG(2))))","v":-4.4213798158527259E-2},null,null,{"$f":"N12","v":1212},{"$f":"COUNTIF(L7:L34,T12)","v":0},{"$f":"U12/(W4-U20)","v":0},{"$f":"IF(V12=0,0,(V12*((LOG(V12))/LOG(2))))","v":0},null,{"$f":"N12","v":1212},{"$f":"COUNTIF(L35:L62,Y12)","v":0},{"$f":"Z12/(AB4-Z20)","v":0},{"$f":"IF(AA12=0,0,(AA12*((LOG(AA12))/LOG(2))))","v":0},null,{"$f":"N12","v":1212},{"$f":"COUNTIF(L63:L89,AD12)","v":0},{"$f":"AE12/(AG4-AE20)","v":0},{"$f":"IF(AF12=0,0,(AF12*((LOG(AF12))/LOG(2))))","v":0},null,{"$f":"N12","v":1212},{"$f":"COUNTIF(L90:L117,AI12)","v":0},{"$f":"AJ12/(AL4-AJ20)","v":0},{"$f":"IF(AK12=0,0,(AK12*((LOG(AK12))/LOG(2))))","v":0},null,{"$f":"N12","v":1212},{"$f":"COUNTIF(L118:L145,AN12)","v":0},{"$f":"AO12/(AQ4-AO20)","v":0},{"$f":"IF(AP12=0,0,(AP12*((LOG(AP12))/LOG(2))))","v":0},null,{"$f":"N12","v":1212},{"$f":"COUNTIF(L146:L173,AS12)","v":1},{"$f":"AT12/(AV4-AT20)","v":4.7619047619047616E-2},{"$f":"IF(AU12=0,0,(AU12*((LOG(AU12))/LOG(2))))","v":-0.20915797251327431}]
[21,915,21,934,22,940,23,948,null,null,0,2222,null,1221,{"$f":"COUNTIF($L$7:$L$500,N13)","v":0},{"$f":"O13/$Q$4","v":0},{"$f":"IF(P13=0,0,(P13*((LOG(P13))/LOG(2))))","v":0},null,null,{"$f":"N13","v":1221},{"$f":"COUNTIF(L7:L34,T13)","v":0},{"$f":"U13/(W4-U20)","v":0},{"$f":"IF(V13=0,0,(V13*((LOG(V13))/LOG(2))))","v":0},null,{"$f":"N13","v":1221},{"$f":"COUNTIF(L35:L62,Y13)","v":0},{"$f":"Z13/(AB4-Z20)","v":0},{"$f":"IF(AA13=0,0,(AA13*((LOG(AA13))/LOG(2))))","v":0},null,{"$f":"N13","v":1221},{"$f":"COUNTIF(L63:L89,AD13)","v":0},{"$f":"AE13/(AG4-AE20)","v":0},{"$f":"IF(AF13=0,0,(AF13*((LOG(AF13))/LOG(2))))","v":0},null,{"$f":"N13","v":1221},{"$f":"COUNTIF(L90:L117,AI13)","v":0},{"$f":"AJ13/(AL4-AJ20)","v":0},{"$f":"IF(AK13=0,0,(AK13*((LOG(AK13))/LOG(2))))","v":0},null,{"$f":"N13","v":1221},{"$f":"COUNTIF(L118:L145,AN13)","v":0},{"$f":"AO13/(AQ4-AO20)","v":0},{"$f":"IF(AP13=0,0,(AP13*((LOG(AP13))/LOG(2))))","v":0},null,{"$f":"N13","v":1221},{"$f":"COUNTIF(L146:L173,AS13)","v":0},{"$f":"AT13/(AV4-AT20)","v":0},{"$f":"IF(AU13=0,0,(AU13*((LOG(AU13))/LOG(2))))","v":0}]
[21,1047,21,1050,22,1054,23,1060,null,null,0,2222,null,1222,{"$f":"COUNTIF($L$7:$L$500,N14)","v":16},{"$f":"O14/$Q$4","v":9.580838323353294E-2},{"$f":"IF(P14=0,0,(P14*((LOG(P14))/LOG(2))))","v":-0.32418723760230445},null,null,{"$f":"N14","v":1222},{"$f":"COUNTIF(L7:L34,T14)","v":3},{"$f":"U14/(W4-U20)","v":0.11538461538461539},{"$f":"IF(V14=0,0,(V14*((LOG(V14))/LOG(2))))","v":-0.35947814047153104},null,{"$f":"N14","v":1222},{"$f":"COUNTIF(L35:L62,Y14)","v":0},{"$f":"Z14/(AB4-Z20)","v":0},{"$f":"IF(AA14=0,0,(AA14*((LOG(AA14))/LOG(2))))","v":0},null,{"$f":"N14","v":1222},{"$f":"COUNTIF(L63:L89,AD14)","v":6},{"$f":"AE14/(AG4-AE20)","v":0.2608695652173913},{"$f":"IF(AF14=0,0,(AF14*((LOG(AF14))/LOG(2))))","v":-0.50572159704413644},null,{"$f":"N14","v":1222},{"$f":"COUNTIF(L90:L117,AI14)","v":0},{"$f":"AJ14/(AL4-AJ20)","v":0},{"$f":"IF(AK14=0,0,(AK14*((LOG(AK14))/LOG(2))))","v":0},null,{"$f":"N14","v":1222},{"$f":"COUNTIF(L118:L145,AN14)","v":4},{"$f":"AO14/(AQ4-AO20)","v":0.19047619047619047},{"$f":"IF(AP14=0,0,(AP14*((LOG(AP14))/LOG(2))))","v":-0.4556795091007162},null,{"$f":"N14","v":1222},{"$f":"COUNTIF(L146:L173,AS14)","v":3},{"$f":"AT14/(AV4-AT20)","v":0.14285714285714285},{"$f":"IF(AU14=0,0,(AU14*((LOG(AU14))/LOG(2))))","v":-0.40105070315108626}]
[21,1161,12,1178,24,1187,23,1201,null,null,0,2122,null,2111,{"$f":"COUNTIF($L$7:$L$500,N15)","v":1},{"$f":"O15/$Q$4","v":5.9880239520958087E-3},{"$f":"IF(P15=0,0,(P15*((LOG(P15))/LOG(2))))","v":-4.4213798158527259E-2},null,null,{"$f":"N15","v":2111},{"$f":"COUNTIF(L7:L34,T15)","v":0},{"$f":"U15/(W4-U20)","v":0},{"$f":"IF(V15=0,0,(V15*((LOG(V15))/LOG(2))))","v":0},null,{"$f":"N15","v":2111},{"$f":"COUNTIF(L35:L62,Y15)","v":1},{"$f":"Z15/(AB4-Z20)","v":3.8461538461538464E-2},{"$f":"IF(AA15=0,0,(AA15*((LOG(AA15))/LOG(2))))","v":-0.18078614300542661},null,{"$f":"N15","v":2111},{"$f":"COUNTIF(L63:L89,AD15)","v":0},{"$f":"AE15/(AG4-AE20)","v":0},{"$f":"IF(AF15=0,0,(AF15*((LOG(AF15))/LOG(2))))","v":0},null,{"$f":"N15","v":2111},{"$f":"COUNTIF(L90:L117,AI15)","v":0},{"$f":"AJ15/(AL4-AJ20)","v":0},{"$f":"IF(AK15=0,0,(AK15*((LOG(AK15))/LOG(2))))","v":0},null,{"$f":"N15","v":2111},{"$f":"COUNTIF(L118:L145,AN15)","v":0},{"$f":"AO15/(AQ4-AO20)","v":0},{"$f":"IF(AP15=0,0,(AP15*((LOG(AP15))/LOG(2))))","v":0},null,{"$f":"N15","v":2111},{"$f":"COUNTIF(L146:L173,AS15)","v":0},{"$f":"AT15/(AV4-AT20)","v":0},{"$f":"IF(AU15=0,0,(AU15*((LOG(AU15))/LOG(2))))","v":0}]
[21,1302,21,1308,22,1314,23,1331,null,null,0,2222,null,2112,{"$f":"COUNTIF($L$7:$L$500,N16)","v":3},{"$f":"O16/$Q$4","v":1.7964071856287425E-2},{"$f":"IF(P16=0,0,(P16*((LOG(P16))/LOG(2))))","v":-0.10416901422310591},null,null,{"$f":"N16","v":2112},{"$f":"COUNTIF(L7:L34,T16)","v":1},{"$f":"U16/(W4-U20)","v":3.8461538461538464E-2},{"$f":"IF(V16=0,0,(V16*((LOG(V16))/LOG(2))))","v":-0.18078614300542661},null,{"$f":"N16","v":2112},{"$f":"COUNTIF(L35:L62,Y16)","v":0},{"$f":"Z16/(AB4-Z20)","v":0},{"$f":"IF(AA16=0,0,(AA16*((LOG(AA16))/LOG(2))))","v":0},null,{"$f":"N16","v":2112},{"$f":"COUNTIF(L63:L89,AD16)","v":0},{"$f":"AE16/(AG4-AE20)","v":0},{"$f":"IF(AF16=0,0,(AF16*((LOG(AF16))/LOG(2))))","v":0},null,{"$f":"N16","v":2112},{"$f":"COUNTIF(L90:L117,AI16)","v":1},{"$f":"AJ16/(AL4-AJ20)","v":4.3478260869565216E-2},{"$f":"IF(AK16=0,0,(AK16*((LOG(AK16))/LOG(2))))","v":-0.19667660678508753},null,{"$f":"N16","v":2112},{"$f":"COUNTIF(L118:L145,AN16)","v":1},{"$f":"AO16/(AQ4-AO20)","v":4.7619047619047616E-2},{"$f":"IF(AP16=0,0,(AP16*((LOG(AP16))/LOG(2))))","v":-0.20915797251327431},null,{"$f":"N16","v":2112},{"$f":"COUNTIF(L146:L173,AS16)","v":0},{"$f":"AT16/(AV4-AT20)","v":0},{"$f":"IF(AU16=0,0,(AU16*((LOG(AU16))/LOG(2))))","v":0}]
[21,1430,21,1462,22,1470,23,1478,null,null,0,2222,null,2121,{"$f":"COUNTIF($L$7:$L$500,N17)","v":0},{"$f":"O17/$Q$4","v":0},{"$f":"IF(P17=0,0,(P17*((LOG(P17))/LOG(2))))","v":0},null,null,{"$f":"N17","v":2121},{"$f":"COUNTIF(L7:L34,T17)","v":0},{"$f":"U17/(W4-U20)","v":0},{"$f":"IF(V17=0,0,(V17*((LOG(V17))/LOG(2))))","v":0},null,{"$f":"N17","v":2121},{"$f":"COUNTIF(L35:L62,Y17)","v":0},{"$f":"Z17/(AB4-Z20)","v":0},{"$f":"IF(AA17=0,0,(AA17*((LOG(AA17))/LOG(2))))","v":0},null,{"$f":"N17","v":2121},{"$f":"COUNTIF(L63:L89,AD17)","v":0},{"$f":"AE17/(AG4-AE20)","v":0},{"$f":"IF(AF17=0,0,(AF17*((LOG(AF17))/LOG(2))))","v":0},null,{"$f":"N17","v":2121},{"$f":"COUNTIF(L90:L117,AI17)","v":0},{"$f":"AJ17/(AL4-AJ20)","v":0},{"$f":"IF(AK17=0,0,(AK17*((LOG(AK17))/LOG(2))))","v":0},null,{"$f":"N17","v":2121},{"$f":"COUNTIF(L118:L145,AN17)","v":0},{"$f":"AO17/(AQ4-AO20)","v":0},{"$f":"IF(AP17=0,0,(AP17*((LOG(AP17))/LOG(2))))","v":0},null,{"$f":"N17","v":2121},{"$f":"COUNTIF(L146:L173,AS17)","v":0},{"$f":"AT17/(AV4-AT20)","v":0},{"$f":"IF(AU17=0,0,(AU17*((LOG(AU17))/LOG(2))))","v":0}]
[21,1575,21,1591,22,1597,23,1608,null,null,0,2222,null,2122,{"$f":"COUNTIF($L$7:$L$500,N18)","v":44},{"$f":"O18/$Q$4","v":0.26347305389221559},{"$f":"IF(P18=0,0,(P18*((LOG(P18))/LOG(2))))","v":-0.50699399789710908},null,null,{"$f":"N18","v":2122},{"$f":"COUNTIF(L7:L34,T18)","v":6},{"$f":"U18/(W4-U20)","v":0.23076923076923078},{"$f":"IF(V18=0,0,(V18*((LOG(V18))/LOG(2))))","v":-0.48818705017383146},null,{"$f":"N18","v":2122},{"$f":"COUNTIF(L35:L62,Y18)","v":14},{"$f":"Z18/(AB4-Z20)","v":0.53846153846153844},{"$f":"IF(AA18=0,0,(AA18*((LOG(AA18))/LOG(2))))","v":-0.48089181327572433},null,{"$f":"N18","v":2122},{"$f":"COUNTIF(L63:L89,AD18)","v":10},{"$f":"AE18/(AG4-AE20)","v":0.43478260869565216},{"$f":"IF(AF18=0,0,(AF18*((LOG(AF18))/LOG(2))))","v":-0.52244950485636987},null,{"$f":"N18","v":2122},{"$f":"COUNTIF(L90:L117,AI18)","v":7},{"$f":"AJ18/(AL4-AJ20)","v":0.30434782608695654},{"$f":"IF(AK18=0,0,(AK18*((LOG(AK18))/LOG(2))))","v":-0.52232387991286355},null,{"$f":"N18","v":2122},{"$f":"COUNTIF(L118:L145,AN18)","v":5},{"$f":"AO18/(AQ4-AO20)","v":0.23809523809523808},{"$f":"IF(AP18=0,0,(AP18*((LOG(AP18))/LOG(2))))","v":-0.49294983997414238},null,{"$f":"N18","v":2122},{"$f":"COUNTIF(L146:L173,AS18)","v":2},{"$f":"AT18/(AV4-AT20)","v":9.5238095238095233E-2},{"$f":"IF(AU18=0,0,(AU18*((LOG(AU18))/LOG(2))))","v":-0.32307784978845333}]
[21,1711,21,1715,22,1720,23,1725,null,null,0,2222,null,2211,{"$f":"COUNTIF($L$7:$L$500,N19)","v":1},{"$f":"O19/$Q$4","v":5.9880239520958087E-3},{"$f":"IF(P19=0,0,(P19*((LOG(P19))/LOG(2))))","v":-4.4213798158527259E-2},null,null,{"$f":"N19","v":2211},{"$f":"COUNTIF(L7:L34,T19)","v":1},{"$f":"U19/(W4-U20)","v":3.8461538461538464E-2},{"$f":"IF(V19=0,0,(V19*((LOG(V19))/LOG(2))))","v":-0.18078614300542661},null,{"$f":"N19","v":2211},{"$f":"COUNTIF(L35:L62,Y19)","v":0},{"$f":"Z19/(AB4-Z20)","v":0},{"$f":"IF(AA19=0,0,(AA19*((LOG(AA19))/LOG(2))))","v":0},null,{"$f":"N19","v":2211},{"$f":"COUNTIF(L63:L89,AD19)","v":0},{"$f":"AE19/(AG4-AE20)","v":0},{"$f":"IF(AF19=0,0,(AF19*((LOG(AF19))/LOG(2))))","v":0},null,{"$f":"N19","v":2211},{"$f":"COUNTIF(L90:L117,AI19)","v":0},{"$f":"AJ19/(AL4-AJ20)","v":0},{"$f":"IF(AK19=0,0,(AK19*((LOG(AK19))/LOG(2))))","v":0},null,{"$f":"N19","v":2211},{"$f":"COUNTIF(L118:L145,AN19)","v":0},{"$f":"AO19/(AQ4-AO20)","v":0},{"$f":"IF(AP19=0,0,(AP19*((LOG(AP19))/LOG(2))))","v":0},null,{"$f":"N19","v":2211},{"$f":"COUNTIF(L146:L173,AS19)","v":0},{"$f":"AT19/(AV4-AT20)","v":0},{"$f":"IF(AU19=0,0,(AU19*((LOG(AU19))/LOG(2))))","v":0}]
[21,1821,21,1843,22,1847,23,1855,null,null,0,2222,null,2212,{"$f":"COUNTIF($L$7:$L$500,N20)","v":27},{"$f":"O20/$Q$4","v":0.16167664670658682},{"$f":"IF(P20=0,0,(P20*((LOG(P20))/LOG(2))))","v":-0.42501828346338777},null,null,{"$f":"N20","v":2212},{"$f":"COUNTIF(L7:L34,T20)","v":2},null,null,null,{"$f":"N20","v":2212},{"$f":"COUNTIF(L35:L62,Y20)","v":2},null,null,null,{"$f":"N20","v":2212},{"$f":"COUNTIF(L63:L89,AD20)","v":4},null,null,null,{"$f":"N20","v":2212},{"$f":"COUNTIF(L90:L117,AI20)","v":5},null,null,null,{"$f":"N20","v":2212},{"$f":"COUNTIF(L118:L145,AN20)","v":7},null,null,null,{"$f":"N20","v":2212},{"$f":"COUNTIF(L146:L173,AS20)","v":7}]
[21,1958,12,1974,24,1993,23,2003,null,null,0,2122,null,2221,{"$f":"COUNTIF($L$7:$L$500,N21)","v":4},{"$f":"O21/$Q$4","v":2.3952095808383235E-2},{"$f":"IF(P21=0,0,(P21*((LOG(P21))/LOG(2))))","v":-0.12895100101734258},null,null,{"$f":"N21","v":2221},{"$f":"COUNTIF(L7:L34,T21)","v":1},{"$f":"U21/(W4-U20)","v":3.8461538461538464E-2},{"$f":"IF(V21=0,0,(V21*((LOG(V21))/LOG(2))))","v":-0.18078614300542661},null,{"$f":"N21","v":2221},{"$f":"COUNTIF(L35:L62,Y21)","v":0},{"$f":"Z21/(AB4-Z20)","v":0},{"$f":"IF(AA21=0,0,(AA21*((LOG(AA21))/LOG(2))))","v":0},null,{"$f":"N21","v":2221},{"$f":"COUNTIF(L63:L89,AD21)","v":1},{"$f":"AE21/(AG4-AE20)","v":4.3478260869565216E-2},{"$f":"IF(AF21=0,0,(AF21*((LOG(AF21))/LOG(2))))","v":-0.19667660678508753},null,{"$f":"N21","v":2221},{"$f":"COUNTIF(L90:L117,AI21)","v":0},{"$f":"AJ21/(AL4-AJ20)","v":0},{"$f":"IF(AK21=0,0,(AK21*((LOG(AK21))/LOG(2))))","v":0},null,{"$f":"N21","v":2221},{"$f":"COUNTIF(L118:L145,AN21)","v":1},{"$f":"AO21/(AQ4-AO20)","v":4.7619047619047616E-2},{"$f":"IF(AP21=0,0,(AP21*((LOG(AP21))/LOG(2))))","v":-0.20915797251327431},null,{"$f":"N21","v":2221},{"$f":"COUNTIF(L146:L173,AS21)","v":1},{"$f":"AT21/(AV4-AT20)","v":4.7619047619047616E-2},{"$f":"IF(AU21=0,0,(AU21*((LOG(AU21))/LOG(2))))","v":-0.20915797251327431}]
[21,2100,21,2103,11,2120,21,2132,null,null,0,2212,null,2222,{"$f":"COUNTIF($L$7:$L$500,N22)","v":69},{"$f":"O22/$Q$4","v":0.41317365269461076},{"$f":"IF(P22=0,0,(P22*((LOG(P22))/LOG(2))))","v":-0.52687071055698165},null,null,{"$f":"N22","v":2222},{"$f":"COUNTIF(L7:L34,T22)","v":14},{"$f":"U22/(W4-U20)","v":0.53846153846153844},{"$f":"IF(V22=0,0,(V22*((LOG(V22))/LOG(2))))","v":-0.48089181327572433},null,{"$f":"N22","v":2222},{"$f":"COUNTIF(L35:L62,Y22)","v":11},{"$f":"Z22/(AB4-Z20)","v":0.42307692307692307},{"$f":"IF(AA22=0,0,(AA22*((LOG(AA22))/LOG(2))))","v":-0.52504188825160547},null,{"$f":"N22","v":2222},{"$f":"COUNTIF(L63:L89,AD22)","v":6},{"$f":"AE22/(AG4-AE20)","v":0.2608695652173913},{"$f":"IF(AF22=0,0,(AF22*((LOG(AF22))/LOG(2))))","v":-0.50572159704413644},null,{"$f":"N22","v":2222},{"$f":"COUNTIF(L90:L117,AI22)","v":14},{"$f":"AJ22/(AL4-AJ20)","v":0.60869565217391308},{"$f":"IF(AK22=0,0,(AK22*((LOG(AK22))/LOG(2))))","v":-0.43595210765181397},null,{"$f":"N22","v":2222},{"$f":"COUNTIF(L118:L145,AN22)","v":10},{"$f":"AO22/(AQ4-AO20)","v":0.47619047619047616},{"$f":"IF(AP22=0,0,(AP22*((LOG(AP22))/LOG(2))))","v":-0.50970920375780859},null,{"$f":"N22","v":2222},{"$f":"COUNTIF(L146:L173,AS22)","v":14},{"$f":"AT22/(AV4-AT20)","v":0.66666666666666663},{"$f":"IF(AU22=0,0,(AU22*((LOG(AU22))/LOG(2))))","v":-0.38997500048077083}]
[21,2295,21,2304,11,2313,21,2322,null,null,0,2212,null,null,null,{"$f":"SUM(P7:P22)","v":1},{"$f":"-SUM(Q7:Q22)","v":2.1930454373943409},null,null,null,null,{"$f":"SUM(V7:V22)","v":1},{"$f":"-SUM(W7:W22)","v":1.8709154329373665},null,null,null,{"$f":"SUM(AA7:AA22)","v":1},{"$f":"-SUM(AB7:AB22)","v":1.1867198445327565},null,null,null,{"$f":"SUM(AF7:AF22)","v":1},{"$f":"-SUM(AG7:AG22)","v":1.7305693057297302},null,null,null,{"$f":"SUM(AK7:AK22)","v":1},{"$f":"-SUM(AL7:AL22)","v":1.3516292011348525},null,null,null,{"$f":"SUM(AP7:AP22)","v":0.99999999999999989},{"$f":"-SUM(AQ7:AQ22)","v":1.8766544978592159},null,null,null,{"$f":"SUM(AU7:AU22)","v":1},{"$f":"-SUM(AV7:AV22)","v":1.5324194984468589}]
[21,2484,12,2493,24,2505,23,2514,null,null,0,2122,null,null,null,"U=",{"$f":"Q23/(LOG(Q4)/LOG(2))","v":0.29701154739222618},null,null,null,null,"U1=",{"$f":"W23/(LOG(W4)/LOG(2))","v":0.38917772106923881},null,null,null,"U2=",{"$f":"AB23/(LOG(AB4)/LOG(2))","v":0.24685505101521121},null,null,null,"U3=",{"$f":"AG23/(LOG(AG4)/LOG(2))","v":0.36395588853412897},null,null,null,"U4=",{"$f":"AL23/(LOG(AL4)/LOG(2))","v":0.28115860448188823},null,null,null,"U5=",{"$f":"AQ23/(LOG(AQ4)/LOG(2))","v":0.39037153034999672},null,null,null,"U6=",{"$f":"AV23/(LOG(AV4)/LOG(2))","v":0.3187656254410618}]
[21,2613,21,2629,22,2634,23,2640,null,null,0,2222]
[21,2737,21,2742,22,2747,14,2756,null,null,0,2221]
[21,2857,21,2863,22,2897,23,2908,null,null,0,2222,null,"Total Target Seq"]
[21,3006,21,3010,22,3025,23,3030,null,null,0,2222,null,{"$f":"COUNTIF(L7:L173,G3)","v":27},null,28,28,27,28,28,28]
[21,3131,21,3170,22,3180,23,3187,null,null,0,2222,null,null,null,"% of reinforcement given in 6 equal intervals based on number of trials "]
[21,3300,21,3305,11,3321,12,3360,null,null,0,2211,null,null,null,"%_1","%_2","%_3","%_4","%_5","%_6"]
[12,3469,23,3479,24,3486,23,3495,null,null,0,1222,null,null,"target sequence",{"$f":"$G$3","v":2212},{"$f":"$G$3","v":2212},{"$f":"$G$3","v":2212},{"$f":"$G$3","v":2212},{"$f":"$G$3","v":2212},{"$f":"$G$3","v":2212}]
[12,3602,23,3627,24,3642,23,3649,null,null,0,1222,null,null,"total reinforcement",{"$f":"U20","v":2},{"$f":"Z20","v":2},{"$f":"AE20","v":4},{"$f":"AJ20","v":5},{"$f":"AO20","v":7},{"$f":"AT20","v":7}]
[21,3748,21,3765,22,3770,23,3777,null,null,0,2222,null,null,"% target"]
[21,3878,21,3885,22,3899,23,3906,null,null,0,2222,null,null,"CCRF"]
[21,4005,21,4027,22,4034,23,4040,null,null,0,2222,null,null,"% CCRf"]
[21,4142,21,4148,22,4165,23,4171,null,null,0,2222,null,null,"average response rate",{"$f":"H34/P28","v":139.5},{"$f":"(H62-H34)/Q28","v":142.07142857142858},{"$f":"(H89-H62)/R28","v":145.37037037037038},{"$f":"(H117-H89)/S28","v":146.21428571428572},{"$f":"(H145-H117)/T28","v":148.64285714285714},{"$f":"(H173-H145)/U28","v":139.07142857142858}]
[21,4270,21,4276,22,4307,23,4317,null,null,0,2222]
[21,4413,12,4430,24,4443,23,4456,null,null,0,2122]
[21,4556,21,4578,22,4582,23,4600,null,null,0,2222]
[21,4726,21,4730,22,4743,23,4748,null,null,0,2222]
[21,4849,12,4857,24,4872,23,4879,null,null,0,2122]
[21,4976,12,4990,24,4998,23,5003,null,null,0,2122]
[21,5104,12,5112,24,5137,23,5154,null,null,0,2122]
[21,5255,21,5259,22,5263,23,5268,null,null,0,2222]
[21,5365,12,5372,24,5386,23,5398,null,null,0,2122]
[21,5514,21,5519,22,5546,23,5552,null,null,0,2222]
[21,5649,21,5653,11,5666,21,5676,null,null,0,2212]
[21,5874,12,5887,24,5899,23,5912,null,null,0,2122]
[21,6011,12,6028,13,6034,14,6041,null,null,0,2111]
[21,6142,12,6151,24,6169,23,6179,null,null,0,2122]
[21,6279,12,6288,24,6297,23,6312,null,null,0,2122]
[21,6410,12,6422,24,6436,23,6444,null,null,0,2122]
[21,6542,12,6555,24,6577,23,6586,null,null,0,2122]
[21,6687,21,6692,11,6700,21,6716,null,null,0,2212]
[21,6876,21,6891,22,6901,23,6910,null,null,0,2222]
[21,7010,21,7036,22,7048,23,7070,null,null,0,2222]
[21,7167,12,7178,24,7195,23,7215,null,null,0,2122]
[21,7321,12,7334,24,7344,23,7360,null,null,0,2122]
[21,7457,12,7468,24,7477,23,7484,null,null,0,2122]
[21,7581,12,7588,24,7599,23,7605,null,null,0,2122]
[21,7722,21,7726,22,7730,23,7738,null,null,0,2222]
[21,7852,21,7866,22,7874,23,7884,null,null,0,2222]
[21,7980,21,7986,11,7996,21,8020,null,null,0,2212]
[12,8149,23,8160,24,8169,23,8179,null,null,0,1222]
[12,8286,23,8294,24,8298,23,8303,null,null,0,1222]
[21,8401,12,8409,24,8417,23,8425,null,null,0,2122]
[21,8533,12,8540,24,8548,23,8565,null,null,0,2122]
[21,8666,12,8677,24,8701,23,8712,null,null,0,2122]
[21,8811,12,8825,24,8833,23,8839,null,null,0,2122]
[21,8938,12,8948,24,8968,23,8986,null,null,0,2122]
[12,9094,23,9103,24,9110,23,9118,null,null,0,1222]
[21,9214,21,9218,11,9230,21,9238,null,null,0,2212]
[21,9380,21,9389,11,9396,21,9414,null,null,0,2212]
[21,9616,21,9633,22,9638,23,9644,null,null,0,2222]
[21,9741,12,9755,24,9790,23,9800,null,null,0,2122]
[21,9901,12,9917,24,9931,23,9940,null,null,0,2122]
[12,10049,23,10071,24,10080,23,10090,null,null,0,1222]
[21,10209,21,10213,11,10223,21,10233,null,null,0,2212]
[21,10441,21,10460,22,10467,23,10473,null,null,0,2222]
[21,10570,12,10582,24,10615,23,10624,null,null,0,2122]
[21,10724,21,10749,22,10762,23,10773,null,null,0,2222]
[21,10871,12,10882,24,10896,23,10908,null,null,0,2122]
[21,11007,21,11010,22,11012,14,11024,null,null,0,2221]
[12,11126,23,11138,24,11146,23,11154,null,null,0,1222]
[21,11255,12,11263,24,11276,23,11286,null,null,0,2122]
[21,11383,21,11413,22,11421,23,11430,null,null,0,2222]
[21,11528,21,11533,22,11554,23,11566,null,null,0,2222]
[12,11663,23,11674,24,11680,23,11688,null,null,0,1222]
[21,11784,21,11787,22,11804,23,11809,null,null,0,2222]
[21,11906,21,11936,22,11946,23,11957,null,null,0,2222]
[12,12064,14,12070,24,12085,23,12101,null,null,0,1122]
[21,12200,21,12223,22,12230,23,12238,null,null,0,2222]
[21,12335,12,12352,24,12364,23,12372,null,null,0,2122]
[21,12502,21,12506,22,12510,23,12513,null,null,0,2222]
[21,12629,21,12639,22,12647,23,12654,null,null,0,2222]
[21,12756,12,12765,24,12773,23,12779,null,null,0,2122]
[21,12875,21,12879,11,12891,21,12911,null,null,0,2212]
[21,13061,12,13080,13,13085,23,13099,null,null,0,2112]
[21,13197,12,13206,24,13219,23,13226,null,null,0,2122]
[21,13325,21,13330,11,13344,21,13354,null,null,0,2212]
[21,13552,21,13557,22,13562,23,13574,null,null,0,2222]
[21,13672,21,13688,22,13692,23,13701,null,null,0,2222]
[21,13800,21,13816,22,13827,23,13835,null,null,0,2222]
[21,13934,12,13946,24,13975,23,13985,null,null,0,2122]
[21,14092,21,14096,22,14102,23,14110,null,null,0,2222]
[21,14208,12,14218,24,14236,23,14252,null,null,0,2122]
[21,14350,21,14354,11,14363,21,14390,null,null,0,2212]
[21,14602,21,14610,11,14618,21,14631,null,null,0,2212]
[21,14752,21,14758,22,14776,23,14792,null,null,0,2222]
[21,14890,21,14895,22,14912,23,14922,null,null,0,2222]
[21,15020,21,15026,22,15047,23,15061,null,null,0,2222]
[21,15172,21,15176,22,15181,23,15184,null,null,0,2222]
[21,15282,12,15295,24,15305,23,15317,null,null,0,2122]
[21,15414,21,15433,22,15445,23,15452,null,null,0,2222]
[21,15557,21,15563,11,15570,21,15596,null,null,0,2212]
[21,15690,21,15751,22,15759,23,15769,null,null,0,2222]
[21,15868,12,15882,24,15893,23,15903,null,null,0,2122]
[21,16002,21,16026,22,16040,23,16047,null,null,0,2222]
[21,16144,12,16158,13,16164,23,16183,null,null,0,2112]
[12,16286,23,16295,24,16305,23,16313,null,null,0,1222]
[21,16410,21,16415,11,16423,21,16444,null,null,0,2212]
[21,16556,12,16573,24,16581,23,16601,null,null,0,2122]
[21,16698,21,16703,11,16718,21,16746,null,null,0,2212]
[21,16876,21,16880,22,16897,23,16908,null,null,0,2222]
[21,17010,12,17018,24,17036,23,17046,null,null,0,2122]
[21,17144,21,17148,22,17153,14,17162,null,null,0,2221]
[21,17257,21,17261,11,17274,21,17302,null,null,0,2212]
[21,17432,21,17446,22,17453,23,17478,null,null,0,2222]
[21,17601,21,17612,22,17619,23,17631,null,null,0,2222]
[21,17749,21,17763,22,17774,23,17782,null,null,0,2222]
[21,17878,21,17881,11,17896,21,17917,null,null,0,2212]
[21,18053,21,18058,11,18068,21,18076,null,null,0,2212]
[21,18199,21,18205,11,18217,21,18224,null,null,0,2212]
[21,18395,21,18400,22,18404,23,18410,null,null,0,2222]
[21,18508,12,18521,24,18534,23,18550,null,null,0,2122]
[12,18661,23,18679,24,18693,23,18700,null,null,0,1222]
[21,18798,12,18813,24,18846,23,18857,null,null,0,2122]
[21,18955,21,18959,22,18975,23,18982,null,null,0,2222]
[21,19078,21,19082,22,19134,23,19142,null,null,0,2222]
[21,19244,21,19261,22,19265,23,19276,null,null,0,2222]
[12,19381,23,19396,24,19408,23,19416,null,null,0,1222]
[21,19514,12,19524,24,19535,23,19542,null,null,0,2122]
[12,19646,23,19662,24,19674,23,19680,null,null,0,1222]
[21,19777,21,19781,11,19794,21,19806,null,null,0,2212]
[21,20032,21,20049,22,20058,23,20065,null,null,0,2222]
[21,20164,21,20168,11,20180,21,20194,null,null,0,2212]
[21,20286,21,20291,22,20306,23,20314,null,null,0,2222]
[21,20414,21,20422,11,20432,21,20464,null,null,0,2212]
[21,20580,21,20585,22,20599,23,20614,null,null,0,2222]
[12,20720,23,20748,24,20760,23,20767,null,null,0,1222]
[21,20864,21,20869,11,20876,21,20894,null,null,0,2212]
[21,21012,21,21015,22,21020,23,21035,null,null,0,2222]
[21,21142,12,21156,24,21168,23,21181,null,null,0,2122]
[21,21277,21,21281,22,21297,23,21304,null,null,0,2222]
[21,21399,21,21404,22,21408,23,21413,null,null,0,2222]
[21,21510,21,21514,22,21519,14,21527,null,null,0,2221]
[21,21626,21,21631,22,21672,23,21681,null,null,0,2222]
[21,21781,21,21786,22,21801,23,21815,null,null,0,2222]
[21,21911,12,21930,24,21980,23,21988,null,null,0,2122]
[21,22084,21,22089,11,22097,21,22112,null,null,0,2212]
[21,22208,21,22210,22,22228,23,22238,null,null,0,2222]
[12,22342,23,22351,24,22357,23,22365,null,null,0,1222]
[21,22462,21,22480,22,22487,23,22494,null,null,0,2222]
[21,22592,21,22597,11,22604,21,22613,null,null,0,2212]
[21,22734,21,22737,22,22751,23,22758,null,null,0,2222]
[21,22857,21,22868,11,22878,21,22892,null,null,0,2212]
[21,23040,21,23043,22,23048,23,23065,null,null,0,2222]
[21,23163,21,23189,22,23232,23,23237,null,null,0,2222]
[21,23334,21,23357,22,23367,23,23374,null,null,0,2222]
[21,23471,21,23478,11,23487,21,23509,null,null,0,2212]
[21,23632,21,23657,22,23666,23,23674,null,null,0,2222]
[12,23775,23,23783,13,23790,23,23814,null,null,0,1212]
[12,23921,23,23928,24,23941,23,23959,null,null,null,1222]

{"sheet":"!LB30954..Is","index":23,"n_rows":181,"n_cols":48,"rows_kept":181,"cut":false,"hidden":false,"merged":[[4,39,4,42],[5,39,5,40],[4,44,4,47],[5,44,5,45],[4,24,4,27],[5,24,5,25],[4,29,4,32],[5,29,5,30],[4,34,4,37],[5,34,5,35],[1,1,1,2],[5,13,5,14],[26,13,26,14],[27,13,27,14],[4,19,4,22],[5,19,5,20]]}
["Report for:!LB30954..Is"]
["Date:","<date>"]
["Hen:","<hen>",null,null,null,"Correct Sequence",{"$f":"Start!J2","v":2212},null,null,null,null,null,null,null,null,"Total Sequences in Data",{"$f":"4994-COUNTBLANK(L7:L5000)","v":175},null,null,null,null,"Total Sequences in Block Data",{"$f":"COUNTA(L7:L35)","v":29},null,null,null,"Total Sequences in Block Data",{"$f":"COUNTA(L36:L64)","v":29},null,null,null,"Total Sequences in Block Data",{"$f":"COUNTA(L65:L94)","v":30},null,null,null,"Total Sequences in Block Data",{"$f":"COUNTA(L95:L123)","v":29},null,null,null,"Total Sequences in Block Data",{"$f":"COUNTA(L124:L152)","v":29},null,null,null,"Total Sequences in Block Data",{"$f":"COUNTA(L153:L181)","v":29}]
[null,null,null,null,null,null,null,null,null,null,null,null,null,null,null,"Total Sequences in Summary",{"$f":"SUM(O7:O22)","v":175},null,null,null,null,"Total Sequences in Block Summary",{"$f":"SUM(U7:U22)","v":29},null,null,null,"Total Sequences in Block Summary",{"$f":"SUM(Z7:Z22)","v":29},null,null,null,"Total Sequences in Block Summary",{"$f":"SUM(AE7:AE22)","v":30},null,null,null,"Total Sequences in Block Summary",{"$f":"SUM(AJ7:AJ22)","v":29},null,null,null,"Total Sequences in Block Summary",{"$f":"SUM(AO7:AO22)","v":29},null,null,null,"Total Sequences in Block Summary",{"$f":"SUM(AT7:AT22)","v":29}]
[null,null,null,null,null,null,null,null,null,null,null,null,null,null,null,null,null,null,null,"Block 1",null,null,null,null,"Block 2",null,null,null,null,"Block 3",null,null,null,null,"Block 4",null,null,null,null,"Block 5",null,null,null,null,"Block 6"]
["Sequence\nComponent\n1","Time\n1","Sequence\nComponent\n2","Time\n2","Sequence\nComponent\n3","Time\n3","Sequence\nComponent\n4","Time\n4","Sequence\nComponent\n5","Time\n5","Correct?\n0=No 1=Yes","Sequence",null,"Frequency",null,"Relative Frequency","Variability",null,null,"Frequency",null,"Relative Frequency","Variability",null,"Frequency",null,"Relative Frequency","Variability",null,"Frequency",null,"Relative Frequency","Variability",null,"Frequency",null,"Relative Frequency","Variability",null,"Frequency",null,"Relative Frequency","Variability",null,"Frequency",null,"Relative Frequency","Variability"]
[12,29,23,41,24,48,23,55,null,null,0,1222,null,1111,{"$f":"COUNTIF($L$7:$L$500,N7)","v":0},{"$f":"O7/$Q$4","v":0},{"$f":"IF(P7=0,0,(P7*((LOG(P7))/LOG(2))))","v":0},null,null,{"$f":"N7","v":1111},{"$f":"COUNTIF(L7:L35,T7)","v":0},{"$f":"U7/(W4-U20)","v":0},{"$f":"IF(V7=0,0,(V7*((LOG(V7))/LOG(2))))","v":0},null,{"$f":"N7","v":1111},{"$f":"COUNTIF(L36:L64,Y7)","v":0},{"$f":"Z7/(AB4-Z20)","v":0},{"$f":"IF(AA7=0,0,(AA7*((LOG(AA7))/LOG(2))))","v":0},null,{"$f":"N7","v":1111},{"$f":"COUNTIF(L65:L94,AD7)","v":0},{"$f":"AE7/(AG4-AE20)","v":0},{"$f":"IF(AF7=0,0,(AF7*((LOG(AF7))/LOG(2))))","v":0},null,{"$f":"N7","v":1111},{"$f":"COUNTIF(L95:L123,AI7)","v":0},{"$f":"AJ7/(AL4-AJ20)","v":0},{"$f":"IF(AK7=0,0,(AK7*((LOG(AK7))/LOG(2))))","v":0},null,{"$f":"N7","v":1111},{"$f":"COUNTIF(L124:L152,AN7)","v":0},{"$f":"AO7/(AQ4-AO20)","v":0},{"$f":"IF(AP7=0,0,(AP7*((LOG(AP7))/LOG(2))))","v":0},null,{"$f":"N7","v":1111},{"$f":"COUNTIF(L153:L181,AS7)","v":0},{"$f":"AT7/(AV4-AT20)","v":0},{"$f":"IF(AU7=0,0,(AU7*((LOG(AU7))/LOG(2))))","v":0}]
[21,161,21,167,22,184,23,191,null,null,0,2222,null,1112,{"$f":"COUNTIF($L$7:$L$500,N8)","v":0},{"$f":"O8/$Q$4","v":0},{"$f":"IF(P8=0,0,(P8*((LOG(P8))/LOG(2))))","v":0},null,null,{"$f":"N8","v":1112},{"$f":"COUNTIF(L7:L35,T8)","v":0},{"$f":"U8/(W4-U20)","v":0},{"$f":"IF(V8=0,0,(V8*((LOG(V8))/LOG(2))))","v":0},null,{"$f":"N8","v":1112},{"$f":"COUNTIF(L36:L64,Y8)","v":0},{"$f":"Z8/(AB4-Z20)","v":0},{"$f":"IF(AA8=0,0,(AA8*((LOG(AA8))/LOG(2))))","v":0},null,{"$f":"N8","v":1112},{"$f":"COUNTIF(L65:L94,AD8)","v":0},{"$f":"AE8/(AG4-AE20)","v":0},{"$f":"IF(AF8=0,0,(AF8*((LOG(AF8))/LOG(2))))","v":0},null,{"$f":"N8","v":1112},{"$f":"COUNTIF(L95:L123,AI8)","v":0},{"$f":"AJ8/(AL4-AJ20)","v":0},{"$f":"IF(AK8=0,0,(AK8*((LOG(AK8))/LOG(2))))","v":0},null,{"$f":"N8","v":1112},{"$f":"COUNTIF(L124:L152,AN8)","v":0},{"$f":"AO8/(AQ4-AO20)","v":0},{"$f":"IF(AP8=0,0,(AP8*((LOG(AP8))/LOG(2))))","v":0},null,{"$f":"N8","v":1112},{"$f":"COUNTIF(L153:L181,AS8)","v":0},{"$f":"AT8/(AV4-AT20)","v":0},{"$f":"IF(AU8=0,0,(AU8*((LOG(AU8))/LOG(2))))","v":0}]
[21,288,21,304,22,310,23,315,null,null,0,2222,null,1121,{"$f":"COUNTIF($L$7:$L$500,N9)","v":0},{"$f":"O9/$Q$4","v":0},{"$f":"IF(P9=0,0,(P9*((LOG(P9))/LOG(2))))","v":0},null,null,{"$f":"N9","v":1121},{"$f":"COUNTIF(L7:L35,T9)","v":0},{"$f":"U9/(W4-U20)","v":0},{"$f":"IF(V9=0,0,(V9*((LOG(V9))/LOG(2))))","v":0},null,{"$f":"N9","v":1121},{"$f":"COUNTIF(L36:L64,Y9)","v":0},{"$f":"Z9/(AB4-Z20)","v":0},{"$f":"IF(AA9=0,0,(AA9*((LOG(AA9))/LOG(2))))","v":0},null,{"$f":"N9","v":1121},{"$f":"COUNTIF(L65:L94,AD9)","v":0},{"$f":"AE9/(AG4-AE20)","v":0},{"$f":"IF(AF9=0,0,(AF9*((LOG(AF9))/LOG(2))))","v":0},null,{"$f":"N9","v":1121},{"$f":"COUNTIF(L95:L123,AI9)","v":0},{"$f":"AJ9/(AL4-AJ20)","v":0},{"$f":"IF(AK9=0,0,(AK9*((LOG(AK9))/LOG(2))))","v":0},null,{"$f":"N9","v":1121},{"$f":"COUNTIF(L124:L152,AN9)","v":0},{"$f":"AO9/(AQ4-AO20)","v":0},{"$f":"IF(AP9=0,0,(AP9*((LOG(AP9))/LOG(2))))","v":0},null,{"$f":"N9","v":1121},{"$f":"COUNTIF(L153:L181,AS9)","v":0},{"$f":"AT9/(AV4-AT20)","v":0},{"$f":"IF(AU9=0,0,(AU9*((LOG(AU9))/LOG(2))))","v":0}]
[21,414,21,419,11,435,21,459,null,null,0,2212,null,1122,{"$f":"COUNTIF($L$7:$L$500,N10)","v":1},{"$f":"O10/$Q$4","v":5.7142857142857143E-3},{"$f":"IF(P10=0,0,(P10*((LOG(P10))/LOG(2))))","v":-4.2578349210470448E-2},null,null,{"$f":"N10","v":1122},{"$f":"COUNTIF(L7:L35,T10)","v":0},{"$f":"U10/(W4-U20)","v":0},{"$f":"IF(V10=0,0,(V10*((LOG(V10))/LOG(2))))","v":0},null,{"$f":"N10","v":1122},{"$f":"COUNTIF(L36:L64,Y10)","v":0},{"$f":"Z10/(AB4-Z20)","v":0},{"$f":"IF(AA10=0,0,(AA10*((LOG(AA10))/LOG(2))))","v":0},null,{"$f":"N10","v":1122},{"$f":"COUNTIF(L65:L94,AD10)","v":0},{"$f":"AE10/(AG4-AE20)","v":0},{"$f":"IF(AF10=0,0,(AF10*((LOG(AF10))/LOG(2))))","v":0},null,{"$f":"N10","v":1122},{"$f":"COUNTIF(L95:L123,AI10)","v":0},{"$f":"AJ10/(AL4-AJ20)","v":0},{"$f":"IF(AK10=0,0,(AK10*((LOG(AK10))/LOG(2))))","v":0},null,{"$f":"N10","v":1122},{"$f":"COUNTIF(L124:L152,AN10)","v":1},{"$f":"AO10/(AQ4-AO20)","v":3.8461538461538464E-2},{"$f":"IF(AP10=0,0,(AP10*((LOG(AP10))/LOG(2))))","v":-0.18078614300542661},null,{"$f":"N10","v":1122},{"$f":"COUNTIF(L153:L181,AS10)","v":0},{"$f":"AT10/(AV4-AT20)","v":0},{"$f":"IF(AU10=0,0,(AU10*((LOG(AU10))/LOG(2))))","v":0}]
[21,607,21,622,22,628,23,634,null,null,0,2222,null,1211,{"$f":"COUNTIF($L$7:$L$500,N11)","v":0},{"$f":"O11/$Q$4","v":0},{"$f":"IF(P11=0,0,(P11*((LOG(P11))/LOG(2))))","v":0},null,null,{"$f":"N11","v":1211},{"$f":"COUNTIF(L7:L35,T11)","v":0},{"$f":"U11/(W4-U20)","v":0},{"$f":"IF(V11=0,0,(V11*((LOG(V11))/LOG(2))))","v":0},null,{"$f":"N11","v":1211},{"$f":"COUNTIF(L36:L64,Y11)","v":0},{"$f":"Z11/(AB4-Z20)","v":0},{"$f":"IF(AA11=0,0,(AA11*((LOG(AA11))/LOG(2))))","v":0},null,{"$f":"N11","v":1211},{"$f":"COUNTIF(L65:L94,AD11)","v":0},{"$f":"AE11/(AG4-AE20)","v":0},{"$f":"IF(AF11=0,0,(AF11*((LOG(AF11))/LOG(2))))","v":0},null,{"$f":"N11","v":1211},{"$f":"COUNTIF(L95:L123,AI11)","v":0},{"$f":"AJ11/(AL4-AJ20)","v":0},{"$f":"IF(AK11=0,0,(AK11*((LOG(AK11))/LOG(2))))","v":0},null,{"$f":"N11","v":1211},{"$f":"COUNTIF(L124:L152,AN11)","v":0},{"$f":"AO11/(AQ4-AO20)","v":0},{"$f":"IF(AP11=0,0,(AP11*((LOG(AP11))/LOG(2))))","v":0},null,{"$f":"N11","v":1211},{"$f":"COUNTIF(L153:L181,AS11)","v":0},{"$f":"AT11/(AV4-AT20)","v":0},{"$f":"IF(AU11=0,0,(AU11*((LOG(AU11))/LOG(2))))","v":0}]
[21,763,21,785,22,795,23,802,null,null,0,2222,null,1212,{"$f":"COUNTIF($L$7:$L$500,N12)","v":1},{"$f":"O12/$Q$4","v":5.7142857142857143E-3},{"$f":"IF(P12=0,0,(P12*((LOG(P12))/LOG(2))))","v":-4.2578349210470448E-2},null,null,{"$f":"N12","v":1212},{"$f":"COUNTIF(L7:L35,T12)","v":1},{"$f":"U12/(W4-U20)","v":4.3478260869565216E-2},{"$f":"IF(V12=0,0,(V12*((LOG(V12))/LOG(2))))","v":-0.19667660678508753},null,{"$f":"N12","v":1212},{"$f":"COUNTIF(L36:L64,Y12)","v":0},{"$f":"Z12/(AB4-Z20)","v":0},{"$f":"IF(AA12=0,0,(AA12*((LOG(AA12))/LOG(2))))","v":0},null,{"$f":"N12","v":1212},{"$f":"COUNTIF(L65:L94,AD12)","v":0},{"$f":"AE12/(AG4-AE20)","v":0},{"$f":"IF(AF12=0,0,(AF12*((LOG(AF12))/LOG(2))))","v":0},null,{"$f":"N12","v":1212},{"$f":"COUNTIF(L95:L123,AI12)","v":0},{"$f":"AJ12/(AL4-AJ20)","v":0},{"$f":"IF(AK12=0,0,(AK12*((LOG(AK12))/LOG(2))))","v":0},null,{"$f":"N12","v":1212},{"$f":"COUNTIF(L124:L152,AN12)","v":0},{"$f":"AO12/(AQ4-AO20)","v":0},{"$f":"IF(AP12=0,0,(AP12*((LOG(AP12))/LOG(2))))","v":0},null,{"$f":"N12","v":1212},{"$f":"COUNTIF(L153:L181,AS12)","v":0},{"$f":"AT12/(AV4-AT20)","v":0},{"$f":"IF(AU12=0,0,(AU12*((LOG(AU12))/LOG(2))))","v":0}]
[12,915,23,936,13,958,23,976,null,null,0,1212,null,1221,{"$f":"COUNTIF($L$7:$L$500,N13)","v":1},{"$f":"O13/$Q$4","v":5.7142857142857143E-3},{"$f":"IF(P13=0,0,(P13*((LOG(P13))/LOG(2))))","v":-4.2578349210470448E-2},null,null,{"$f":"N13","v":1221},{"$f":"COUNTIF(L7:L35,T13)","v":0},{"$f":"U13/(W4-U20)","v":0},{"$f":"IF(V13=0,0,(V13*((LOG(V13))/LOG(2))))","v":0},null,{"$f":"N13","v":1221},{"$f":"COUNTIF(L36:L64,Y13)","v":0},{"$f":"Z13/(AB4-Z20)","v":0},{"$f":"IF(AA13=0,0,(AA13*((LOG(AA13))/LOG(2))))","v":0},null,{"$f":"N13","v":1221},{"$f":"COUNTIF(L65:L94,AD13)","v":0},{"$f":"AE13/(AG4-AE20)","v":0},{"$f":"IF(AF13=0,0,(AF13*((LOG(AF13))/LOG(2))))","v":0},null,{"$f":"N13","v":1221},{"$f":"COUNTIF(L95:L123,AI13)","v":0},{"$f":"AJ13/(AL4-AJ20)","v":0},{"$f":"IF(AK13=0,0,(AK13*((LOG(AK13))/LOG(2))))","v":0},null,{"$f":"N13","v":1221},{"$f":"COUNTIF(L124:L152,AN13)","v":0},{"$f":"AO13/(AQ4-AO20)","v":0},{"$f":"IF(AP13=0,0,(AP13*((LOG(AP13))/LOG(2))))","v":0},null,{"$f":"N13","v":1221},{"$f":"COUNTIF(L153:L181,AS13)","v":1},{"$f":"AT13/(AV4-AT20)","v":3.8461538461538464E-2},{"$f":"IF(AU13=0,0,(AU13*((LOG(AU13))/LOG(2))))","v":-0.18078614300542661}]
[12,1082,23,1092,24,1095,23,1101,null,null,0,1222,null,1222,{"$f":"COUNTIF($L$7:$L$500,N14)","v":25},{"$f":"O14/$Q$4","v":0.14285714285714285},{"$f":"IF(P14=0,0,(P14*((LOG(P14))/LOG(2))))","v":-0.40105070315108626},null,null,{"$f":"N14","v":1222},{"$f":"COUNTIF(L7:L35,T14)","v":4},{"$f":"U14/(W4-U20)","v":0.17391304347826086},{"$f":"IF(V14=0,0,(V14*((LOG(V14))/LOG(2))))","v":-0.43888034018382832},null,{"$f":"N14","v":1222},{"$f":"COUNTIF(L36:L64,Y14)","v":3},{"$f":"Z14/(AB4-Z20)","v":0.13636363636363635},{"$f":"IF(AA14=0,0,(AA14*((LOG(AA14))/LOG(2))))","v":-0.39197306153401923},null,{"$f":"N14","v":1222},{"$f":"COUNTIF(L65:L94,AD14)","v":3},{"$f":"AE14/(AG4-AE20)","v":0.13043478260869565},{"$f":"IF(AF14=0,0,(AF14*((LOG(AF14))/LOG(2))))","v":-0.3832955811307639},null,{"$f":"N14","v":1222},{"$f":"COUNTIF(L95:L123,AI14)","v":2},{"$f":"AJ14/(AL4-AJ20)","v":7.407407407407407E-2},{"$f":"IF(AK14=0,0,(AK14*((LOG(AK14))/LOG(2))))","v":-0.27813981497507173},null,{"$f":"N14","v":1222},{"$f":"COUNTIF(L124:L152,AN14)","v":5},{"$f":"AO14/(AQ4-AO20)","v":0.19230769230769232},{"$f":"IF(AP14=0,0,(AP14*((LOG(AP14))/LOG(2))))","v":-0.45740608139494804},null,{"$f":"N14","v":1222},{"$f":"COUNTIF(L153:L181,AS14)","v":8},{"$f":"AT14/(AV4-AT20)","v":0.30769230769230771},{"$f":"IF(AU14=0,0,(AU14*((LOG(AU14))/LOG(2))))","v":-0.52321222096648989}]
[21,1201,12,1216,24,1229,23,1238,null,null,0,2122,null,2111,{"$f":"COUNTIF($L$7:$L$500,N15)","v":0},{"$f":"O15/$Q$4","v":0},{"$f":"IF(P15=0,0,(P15*((LOG(P15))/LOG(2))))","v":0},null,null,{"$f":"N15","v":2111},{"$f":"COUNTIF(L7:L35,T15)","v":0},{"$f":"U15/(W4-U20)","v":0},{"$f":"IF(V15=0,0,(V15*((LOG(V15))/LOG(2))))","v":0},null,{"$f":"N15","v":2111},{"$f":"COUNTIF(L36:L64,Y15)","v":0},{"$f":"Z15/(AB4-Z20)","v":0},{"$f":"IF(AA15=0,0,(AA15*((LOG(AA15))/LOG(2))))","v":0},null,{"$f":"N15","v":2111},{"$f":"COUNTIF(L65:L94,AD15)","v":0},{"$f":"AE15/(AG4-AE20)","v":0},{"$f":"IF(AF15=0,0,(AF15*((LOG(AF15))/LOG(2))))","v":0},null,{"$f":"N15","v":2111},{"$f":"COUNTIF(L95:L123,AI15)","v":0},{"$f":"AJ15/(AL4-AJ20)","v":0},{"$f":"IF(AK15=0,0,(AK15*((LOG(AK15))/LOG(2))))","v":0},null,{"$f":"N15","v":2111},{"$f":"COUNTIF(L124:L152,AN15)","v":0},{"$f":"AO15/(AQ4-AO20)","v":0},{"$f":"IF(AP15=0,0,(AP15*((LOG(AP15))/LOG(2))))","v":0},null,{"$f":"N15","v":2111},{"$f":"COUNTIF(L153:L181,AS15)","v":0},{"$f":"AT15/(AV4-AT20)","v":0},{"$f":"IF(AU15=0,0,(AU15*((LOG(AU15))/LOG(2))))","v":0}]
[21,1336,12,1363,24,1391,23,1399,null,null,0,2122,null,2112,{"$f":"COUNTIF($L$7:$L$500,N16)","v":2},{"$f":"O16/$Q$4","v":1.1428571428571429E-2},{"$f":"IF(P16=0,0,(P16*((LOG(P16))/LOG(2))))","v":-7.3728126992369469E-2},null,null,{"$f":"N16","v":2112},{"$f":"COUNTIF(L7:L35,T16)","v":0},{"$f":"U16/(W4-U20)","v":0},{"$f":"IF(V16=0,0,(V16*((LOG(V16))/LOG(2))))","v":0},null,{"$f":"N16","v":2112},{"$f":"COUNTIF(L36:L64,Y16)","v":0},{"$f":"Z16/(AB4-Z20)","v":0},{"$f":"IF(AA16=0,0,(AA16*((LOG(AA16))/LOG(2))))","v":0},null,{"$f":"N16","v":2112},{"$f":"COUNTIF(L65:L94,AD16)","v":1},{"$f":"AE16/(AG4-AE20)","v":4.3478260869565216E-2},{"$f":"IF(AF16=0,0,(AF16*((LOG(AF16))/LOG(2))))","v":-0.19667660678508753},null,{"$f":"N16","v":2112},{"$f":"COUNTIF(L95:L123,AI16)","v":0},{"$f":"AJ16/(AL4-AJ20)","v":0},{"$f":"IF(AK16=0,0,(AK16*((LOG(AK16))/LOG(2))))","v":0},null,{"$f":"N16","v":2112},{"$f":"COUNTIF(L124:L152,AN16)","v":0},{"$f":"AO16/(AQ4-AO20)","v":0},{"$f":"IF(AP16=0,0,(AP16*((LOG(AP16))/LOG(2))))","v":0},null,{"$f":"N16","v":2112},{"$f":"COUNTIF(L153:L181,AS16)","v":1},{"$f":"AT16/(AV4-AT20)","v":3.8461538461538464E-2},{"$f":"IF(AU16=0,0,(AU16*((LOG(AU16))/LOG(2))))","v":-0.18078614300542661}]
[21,1498,12,1517,24,1529,23,1538,null,null,0,2122,null,2121,{"$f":"COUNTIF($L$7:$L$500,N17)","v":2},{"$f":"O17/$Q$4","v":1.1428571428571429E-2},{"$f":"IF(P17=0,0,(P17*((LOG(P17))/LOG(2))))","v":-7.3728126992369469E-2},null,null,{"$f":"N17","v":2121},{"$f":"COUNTIF(L7:L35,T17)","v":0},{"$f":"U17/(W4-U20)","v":0},{"$f":"IF(V17=0,0,(V17*((LOG(V17))/LOG(2))))","v":0},null,{"$f":"N17","v":2121},{"$f":"COUNTIF(L36:L64,Y17)","v":0},{"$f":"Z17/(AB4-Z20)","v":0},{"$f":"IF(AA17=0,0,(AA17*((LOG(AA17))/LOG(2))))","v":0},null,{"$f":"N17","v":2121},{"$f":"COUNTIF(L65:L94,AD17)","v":1},{"$f":"AE17/(AG4-AE20)","v":4.3478260869565216E-2},{"$f":"IF(AF17=0,0,(AF17*((LOG(AF17))/LOG(2))))","v":-0.19667660678508753},null,{"$f":"N17","v":2121},{"$f":"COUNTIF(L95:L123,AI17)","v":0},{"$f":"AJ17/(AL4-AJ20)","v":0},{"$f":"IF(AK17=0,0,(AK17*((LOG(AK17))/LOG(2))))","v":0},null,{"$f":"N17","v":2121},{"$f":"COUNTIF(L124:L152,AN17)","v":0},{"$f":"AO17/(AQ4-AO20)","v":0},{"$f":"IF(AP17=0,0,(AP17*((LOG(AP17))/LOG(2))))","v":0},null,{"$f":"N17","v":2121},{"$f":"COUNTIF(L153:L181,AS17)","v":1},{"$f":"AT17/(AV4-AT20)","v":3.8461538461538464E-2},{"$f":"IF(AU17=0,0,(AU17*((LOG(AU17))/LOG(2))))","v":-0.18078614300542661}]
[21,1634,21,1639,22,1647,14,1655,null,null,0,2221,null,2122,{"$f":"COUNTIF($L$7:$L$500,N18)","v":59},{"$f":"O18/$Q$4","v":0.33714285714285713},{"$f":"IF(P18=0,0,(P18*((LOG(P18))/LOG(2))))","v":-0.52883151820433572},null,null,{"$f":"N18","v":2122},{"$f":"COUNTIF(L7:L35,T18)","v":7},{"$f":"U18/(W4-U20)","v":0.30434782608695654},{"$f":"IF(V18=0,0,(V18*((LOG(V18))/LOG(2))))","v":-0.52232387991286355},null,{"$f":"N18","v":2122},{"$f":"COUNTIF(L36:L64,Y18)","v":11},{"$f":"Z18/(AB4-Z20)","v":0.5},{"$f":"IF(AA18=0,0,(AA18*((LOG(AA18))/LOG(2))))","v":-0.5},null,{"$f":"N18","v":2122},{"$f":"COUNTIF(L65:L94,AD18)","v":7},{"$f":"AE18/(AG4-AE20)","v":0.30434782608695654},{"$f":"IF(AF18=0,0,(AF18*((LOG(AF18))/LOG(2))))","v":-0.52232387991286355},null,{"$f":"N18","v":2122},{"$f":"COUNTIF(L95:L123,AI18)","v":11},{"$f":"AJ18/(AL4-AJ20)","v":0.40740740740740738},{"$f":"IF(AK18=0,0,(AK18*((LOG(AK18))/LOG(2))))","v":-0.52777832291806981},null,{"$f":"N18","v":2122},{"$f":"COUNTIF(L124:L152,AN18)","v":12},{"$f":"AO18/(AQ4-AO20)","v":0.46153846153846156},{"$f":"IF(AP18=0,0,(AP18*((LOG(AP18))/LOG(2))))","v":-0.51483563880920125},null,{"$f":"N18","v":2122},{"$f":"COUNTIF(L153:L181,AS18)","v":11},{"$f":"AT18/(AV4-AT20)","v":0.42307692307692307},{"$f":"IF(AU18=0,0,(AU18*((LOG(AU18))/LOG(2))))","v":-0.52504188825160547}]
[21,1752,12,1765,24,1776,23,1790,null,null,0,2122,null,2211,{"$f":"COUNTIF($L$7:$L$500,N19)","v":4},{"$f":"O19/$Q$4","v":2.2857142857142857E-2},{"$f":"IF(P19=0,0,(P19*((LOG(P19))/LOG(2))))","v":-0.12459911112759608},null,null,{"$f":"N19","v":2211},{"$f":"COUNTIF(L7:L35,T19)","v":0},{"$f":"U19/(W4-U20)","v":0},{"$f":"IF(V19=0,0,(V19*((LOG(V19))/LOG(2))))","v":0},null,{"$f":"N19","v":2211},{"$f":"COUNTIF(L36:L64,Y19)","v":0},{"$f":"Z19/(AB4-Z20)","v":0},{"$f":"IF(AA19=0,0,(AA19*((LOG(AA19))/LOG(2))))","v":0},null,{"$f":"N19","v":2211},{"$f":"COUNTIF(L65:L94,AD19)","v":2},{"$f":"AE19/(AG4-AE20)","v":8.6956521739130432E-2},{"$f":"IF(AF19=0,0,(AF19*((LOG(AF19))/LOG(2))))","v":-0.30639669183104457},null,{"$f":"N19","v":2211},{"$f":"COUNTIF(L95:L123,AI19)","v":2},{"$f":"AJ19/(AL4-AJ20)","v":7.407407407407407E-2},{"$f":"IF(AK19=0,0,(AK19*((LOG(AK19))/LOG(2))))","v":-0.27813981497507173},null,{"$f":"N19","v":2211},{"$f":"COUNTIF(L124:L152,AN19)","v":0},{"$f":"AO19/(AQ4-AO20)","v":0},{"$f":"IF(AP19=0,0,(AP19*((LOG(AP19))/LOG(2))))","v":0},null,{"$f":"N19","v":2211},{"$f":"COUNTIF(L153:L181,AS19)","v":0},{"$f":"AT19/(AV4-AT20)","v":0},{"$f":"IF(AU19=0,0,(AU19*((LOG(AU19))/LOG(2))))","v":0}]
[12,1896,23,1915,24,1926,23,1933,null,null,0,1222,null,2212,{"$f":"COUNTIF($L$7:$L$500,N20)","v":28},{"$f":"O20/$Q$4","v":0.16},{"$f":"IF(P20=0,0,(P20*((LOG(P20))/LOG(2))))","v":-0.42301699036395596},null,null,{"$f":"N20","v":2212},{"$f":"COUNTIF(L7:L35,T20)","v":6},null,null,null,{"$f":"N20","v":2212},{"$f":"COUNTIF(L36:L64,Y20)","v":7},null,null,null,{"$f":"N20","v":2212},{"$f":"COUNTIF(L65:L94,AD20)","v":7},null,null,null,{"$f":"N20","v":2212},{"$f":"COUNTIF(L95:L123,AI20)","v":2},null,null,null,{"$f":"N20","v":2212},{"$f":"COUNTIF(L124:L152,AN20)","v":3},null,null,null,{"$f":"N20","v":2212},{"$f":"COUNTIF(L153:L181,AS20)","v":3}]
[21,2050,21,2055,22,2061,23,2067,null,null,0,2222,null,2221,{"$f":"COUNTIF($L$7:$L$500,N21)","v":10},{"$f":"O21/$Q$4","v":5.7142857142857141E-2},{"$f":"IF(P21=0,0,(P21*((LOG(P21))/LOG(2))))","v":-0.23595902953971234},null,null,{"$f":"N21","v":2221},{"$f":"COUNTIF(L7:L35,T21)","v":3},{"$f":"U21/(W4-U20)","v":0.13043478260869565},{"$f":"IF(V21=0,0,(V21*((LOG(V21))/LOG(2))))","v":-0.3832955811307639},null,{"$f":"N21","v":2221},{"$f":"COUNTIF(L36:L64,Y21)","v":1},{"$f":"Z21/(AB4-Z20)","v":4.5454545454545456E-2},{"$f":"IF(AA21=0,0,(AA21*((LOG(AA21))/LOG(2))))","v":-0.20270143721078623},null,{"$f":"N21","v":2221},{"$f":"COUNTIF(L65:L94,AD21)","v":0},{"$f":"AE21/(AG4-AE20)","v":0},{"$f":"IF(AF21=0,0,(AF21*((LOG(AF21))/LOG(2))))","v":0},null,{"$f":"N21","v":2221},{"$f":"COUNTIF(L95:L123,AI21)","v":2},{"$f":"AJ21/(AL4-AJ20)","v":7.407407407407407E-2},{"$f":"IF(AK21=0,0,(AK21*((LOG(AK21))/LOG(2))))","v":-0.27813981497507173},null,{"$f":"N21","v":2221},{"$f":"COUNTIF(L124:L152,AN21)","v":3},{"$f":"AO21/(AQ4-AO20)","v":0.11538461538461539},{"$f":"IF(AP21=0,0,(AP21*((LOG(AP21))/LOG(2))))","v":-0.35947814047153104},null,{"$f":"N21","v":2221},{"$f":"COUNTIF(L153:L181,AS21)","v":1},{"$f":"AT21/(AV4-AT20)","v":3.8461538461538464E-2},{"$f":"IF(AU21=0,0,(AU21*((LOG(AU21))/LOG(2))))","v":-0.18078614300542661}]
[21,2165,21,2170,22,2175,14,2182,null,null,0,2221,null,2222,{"$f":"COUNTIF($L$7:$L$500,N22)","v":42},{"$f":"O22/$Q$4","v":0.24},{"$f":"IF(P22=0,0,(P22*((LOG(P22))/LOG(2))))","v":-0.49413448537285637},null,null,{"$f":"N22","v":2222},{"$f":"COUNTIF(L7:L35,T22)","v":8},{"$f":"U22/(W4-U20)","v":0.34782608695652173},{"$f":"IF(V22=0,0,(V22*((LOG(V22))/LOG(2))))","v":-0.52993459341113491},null,{"$f":"N22","v":2222},{"$f":"COUNTIF(L36:L64,Y22)","v":7},{"$f":"Z22/(AB4-Z20)","v":0.31818181818181818},{"$f":"IF(AA22=0,0,(AA22*((LOG(AA22))/LOG(2))))","v":-0.52566076709353871},null,{"$f":"N22","v":2222},{"$f":"COUNTIF(L65:L94,AD22)","v":9},{"$f":"AE22/(AG4-AE20)","v":0.39130434782608697},{"$f":"IF(AF22=0,0,(AF22*((LOG(AF22))/LOG(2))))","v":-0.5296840257187958},null,{"$f":"N22","v":2222},{"$f":"COUNTIF(L95:L123,AI22)","v":10},{"$f":"AJ22/(AL4-AJ20)","v":0.37037037037037035},{"$f":"IF(AK22=0,0,(AK22*((LOG(AK22))/LOG(2))))","v":-0.53072570639855787},null,{"$f":"N22","v":2222},{"$f":"COUNTIF(L124:L152,AN22)","v":5},{"$f":"AO22/(AQ4-AO20)","v":0.19230769230769232},{"$f":"IF(AP22=0,0,(AP22*((LOG(AP22))/LOG(2))))","v":-0.45740608139494804},null,{"$f":"N22","v":2222},{"$f":"COUNTIF(L153:L181,AS22)","v":3},{"$f":"AT22/(AV4-AT20)","v":0.11538461538461539},{"$f":"IF(AU22=0,0,(AU22*((LOG(AU22))/LOG(2))))","v":-0.35947814047153104}]
[21,2278,21,2283,22,2288,14,2298,null,null,0,2221,null,null,null,{"$f":"SUM(P7:P22)","v":1},{"$f":"-SUM(Q7:Q22)","v":2.4827831393756932},null,null,null,null,{"$f":"SUM(V7:V22)","v":1},{"$f":"-SUM(W7:W22)","v":2.0711110014236782},null,null,null,{"$f":"SUM(AA7:AA22)","v":1},{"$f":"-SUM(AB7:AB22)","v":1.6203352658383441},null,null,null,{"$f":"SUM(AF7:AF22)","v":1},{"$f":"-SUM(AG7:AG22)","v":2.135053392163643},null,null,null,{"$f":"SUM(AK7:AK22)","v":1},{"$f":"-SUM(AL7:AL22)","v":1.8929234742418428},null,null,null,{"$f":"SUM(AP7:AP22)","v":1},{"$f":"-SUM(AQ7:AQ22)","v":1.969912085076055},null,null,null,{"$f":"SUM(AU7:AU22)","v":0.99999999999999989},{"$f":"-SUM(AV7:AV22)","v":2.130876821711333}]
[21,2393,21,2398,11,2406,21,2441,null,null,0,2212,null,null,null,"U=",{"$f":"Q23/(LOG(Q4)/LOG(2))","v":0.33320531415800286},null,null,null,null,"U1=",{"$f":"W23/(LOG(W4)/LOG(2))","v":0.42633163931702256},null,null,null,"U2=",{"$f":"AB23/(LOG(AB4)/LOG(2))","v":0.33354088199675919},null,null,null,"U3=",{"$f":"AG23/(LOG(AG4)/LOG(2))","v":0.43511330659673458},null,null,null,"U4=",{"$f":"AL23/(LOG(AL4)/LOG(2))","v":0.38965230126268419},null,null,null,"U5=",{"$f":"AQ23/(LOG(AQ4)/LOG(2))","v":0.40550016293843583},null,null,null,"U6=",{"$f":"AV23/(LOG(AV4)/LOG(2))","v":0.43863424411263585}]
[21,2554,12,2564,24,2582,23,2592,null,null,0,2122]
[12,2700,23,2714,24,2724,23,2730,null,null,0,1222]
[21,2828,12,2841,24,2848,23,2856,null,null,0,2122,null,"Total Target Seq"]
[21,2953,21,2958,11,2971,21,2988,null,null,0,2212,null,{"$f":"COUNTIF(L7:L181,G3)","v":28},null,29,29,30,29,29,29]
[21,3102,21,3108,22,3114,23,3120,null,null,0,2222,null,null,null,"% of reinforcement given in 6 equal intervals based on number of trials "]
[21,3218,21,3223,22,3255,23,3266,null,null,0,2222,null,null,null,"%_1","%_2","%_3","%_4","%_5","%_6"]
[21,3366,12,3381,24,3390,23,3413,null,null,0,2122,null,null,"target sequence",{"$f":"$G$3","v":2212},{"$f":"$G$3","v":2212},{"$f":"$G$3","v":2212},{"$f":"$G$3","v":2212},{"$f":"$G$3","v":2212},{"$f":"$G$3","v":2212}]
[21,3513,21,3518,22,3522,23,3527,null,null,0,2222,null,null,"total reinforcement",{"$f":"U20","v":6},{"$f":"Z20","v":7},{"$f":"AE20","v":7},{"$f":"AJ20","v":2},{"$f":"AO20","v":3},{"$f":"AT20","v":3}]
[21,3624,21,3626,11,3636,21,3669,null,null,0,2212,null,null,"% target"]
[21,3769,21,3776,11,3786,21,3792,null,null,0,2212,null,null,"CCRF"]
[21,3893,21,3899,11,3909,21,3946,null,null,0,2212,null,null,"% CCRf"]
[21,4057,21,4079,22,4109,23,4119,null,null,0,2222,null,null,"average response rate",{"$f":"H35/P28","v":136.06896551724137},{"$f":"(H64-H35)/Q28","v":142.82758620689654},{"$f":"(H94-H64)/R28","v":137.46666666666667},{"$f":"(H123-H94)/S28","v":132.17241379310346},{"$f":"(H152-H123)/T28","v":134.62068965517241},{"$f":"(H181-H152)/U28","v":138.86206896551724}]
[21,4222,12,4233,24,4248,23,4260,null,null,0,2122]
[12,4366,23,4374,24,4382,23,4395,null,null,0,1222]
[21,4492,21,4497,11,4504,21,4511,null,null,0,2212]
[21,4614,21,4621,22,4636,23,4648,null,null,0,2222]
[21,4747,12,4765,24,4796,23,4807,null,null,0,2122]
[21,4903,21,4907,22,4911,14,4924,null,null,0,2221]
[21,5020,21,5026,11,5038,21,5082,null,null,0,2212]
[21,5211,12,5222,24,5229,23,5241,null,null,0,2122]
[21,5339,12,5351,24,5363,23,5377,null,null,0,2122]
[21,5476,12,5491,24,5510,23,5520,null,null,0,2122]
[21,5616,12,5631,24,5641,23,5651,null,null,0,2122]
[21,5748,21,5752,11,5759,21,5769,null,null,0,2212]
[21,5888,12,5898,24,5905,23,5912,null,null,0,2122]
[21,6009,21,6014,11,6023,21,6032,null,null,0,2212]
[21,6125,21,6130,11,6145,21,6185,null,null,0,2212]
[21,6309,21,6316,22,6342,23,6358,null,null,0,2222]
[21,6459,12,6469,24,6477,23,6497,null,null,0,2122]
[21,6595,21,6613,22,6622,23,6630,null,null,0,2222]
[21,6727,21,6732,11,6743,21,6751,null,null,0,2212]
[21,6865,12,6884,24,6892,23,6905,null,null,0,2122]
[21,7002,21,7006,11,7016,21,7041,null,null,0,2212]
[21,7142,12,7166,24,7189,23,7198,null,null,0,2122]
[21,7299,12,7314,24,7347,23,7357,null,null,0,2122]
[21,7457,21,7462,22,7480,23,7488,null,null,0,2222]
[21,7586,21,7617,22,7625,23,7632,null,null,0,2222]
[21,7729,21,7733,22,7759,23,7769,null,null,0,2222]
[12,7881,23,7891,24,7931,23,7943,null,null,0,1222]
[12,8049,23,8070,24,8079,23,8088,null,null,0,1222]
[21,8187,12,8194,13,8230,23,8243,null,null,0,2112]
[21,8339,21,8343,11,8355,21,8368,null,null,0,2212]
[21,8467,21,8482,22,8499,23,8514,null,null,0,2222]
[21,8610,21,8615,11,8636,21,8645,null,null,0,2212]
[21,8783,21,8785,11,8799,21,8810,null,null,0,2212]
[21,8952,12,8962,24,8969,23,8976,null,null,0,2122]
[21,9075,12,9081,24,9115,23,9123,null,null,0,2122]
[21,9219,21,9234,22,9247,23,9256,null,null,0,2222]
[21,9354,21,9358,22,9363,23,9370,null,null,0,2222]
[12,9480,23,9488,24,9494,23,9501,null,null,0,1222]
[21,9597,21,9616,22,9623,23,9632,null,null,0,2222]
[21,9731,21,9736,22,9780,23,9790,null,null,0,2222]
[21,9888,21,9893,11,9906,12,9911,null,null,0,2211]
[21,10008,21,10010,11,10020,21,10039,null,null,0,2212]
[21,10155,12,10171,24,10189,23,10202,null,null,0,2122]
[12,10309,23,10318,24,10326,23,10340,null,null,0,1222]
[21,10439,12,10446,24,10457,23,10462,null,null,0,2122]
[21,10559,12,10573,24,10590,14,10608,null,null,0,2121]
[21,10706,21,10710,22,10715,23,10745,null,null,0,2222]
[21,10843,21,10848,22,10867,23,10880,null,null,0,2222]
[21,10977,21,10982,11,10990,21,11018,null,null,0,2212]
[21,11118,21,11132,22,11136,23,11147,null,null,0,2222]
[21,11245,12,11258,24,11278,23,11288,null,null,0,2122]
[12,11395,23,11409,24,11425,23,11432,null,null,0,1222]
[21,11530,21,11535,22,11549,23,11556,null,null,0,2222]
[21,11653,12,11667,24,11689,23,11697,null,null,0,2122]
[21,11796,21,11808,11,11815,21,11825,null,null,0,2212]
[21,11931,21,11936,11,11944,21,11961,null,null,0,2212]
[21,12061,21,12068,11,12076,12,12085,null,null,0,2211]
[21,12182,12,12189,24,12199,23,12212,null,null,0,2122]
[12,12321,23,12341,24,12352,23,12361,null,null,0,1222]
[21,12458,21,12462,22,12466,14,12474,null,null,0,2221]
[21,12590,21,12606,22,12613,23,12621,null,null,0,2222]
[21,12726,21,12746,22,12755,23,12763,null,null,0,2222]
[21,12861,21,12865,22,12870,14,12878,null,null,0,2221]
[21,12975,12,12990,24,12998,23,13005,null,null,0,2122]
[21,13107,21,13113,11,13120,12,13124,null,null,0,2211]
[21,13226,21,13229,22,13233,23,13238,null,null,0,2222]
[21,13337,12,13351,24,13367,23,13376,null,null,0,2122]
[21,13487,21,13491,22,13502,23,13509,null,null,0,2222]
[21,13610,12,13618,24,13627,23,13650,null,null,0,2122]
[21,13747,12,13765,24,13774,23,13792,null,null,0,2122]
[12,13897,23,13908,24,13916,23,13924,null,null,0,1222]
[21,14021,21,14025,22,14042,23,14047,null,null,0,2222]
[21,14145,12,14152,24,14160,23,14165,null,null,0,2122]
[21,14262,12,14271,24,14294,23,14302,null,null,0,2122]
[21,14399,21,14403,22,14429,23,14439,null,null,0,2222]
[21,14537,12,14551,24,14560,23,14572,null,null,0,2122]
[21,14669,21,14704,22,14712,23,14720,null,null,0,2222]
[21,14817,21,14821,11,14834,21,14845,null,null,0,2212]
[21,14967,21,14972,22,14990,23,14997,null,null,0,2222]
[21,15097,21,15101,22,15121,23,15133,null,null,0,2222]
[21,15230,21,15234,11,15248,21,15258,null,null,0,2212]
[21,15371,12,15386,24,15397,23,15405,null,null,0,2122]
[21,15502,21,15506,11,15519,12,15522,null,null,0,2211]
[21,15620,12,15629,24,15636,23,15642,null,null,0,2122]
[21,15739,12,15748,24,15760,23,15770,null,null,0,2122]
[21,15869,12,15877,24,15886,23,15898,null,null,0,2122]
[21,16017,21,16025,22,16040,23,16045,null,null,0,2222]
[21,16149,21,16152,11,16173,21,16182,null,null,0,2212]
[21,16298,21,16313,22,16319,23,16326,null,null,0,2222]
[21,16424,12,16438,24,16448,23,16472,null,null,0,2122]
[21,16575,21,16596,22,16606,23,16623,null,null,0,2222]
[21,16721,12,16736,24,16747,23,16761,null,null,0,2122]
[21,16858,12,16873,24,16886,23,16898,null,null,0,2122]
[21,16995,21,16998,22,17003,14,17011,null,null,0,2221]
[21,17114,12,17122,24,17131,23,17137,null,null,0,2122]
[12,17239,23,17247,24,17251,23,17257,null,null,0,1222]
[12,17363,23,17371,24,17383,23,17390,null,null,0,1222]
[12,17495,23,17507,24,17515,23,17526,null,null,0,1222]
[21,17623,12,17633,24,17643,23,17650,null,null,0,2122]
[21,17747,12,17756,24,17768,23,17779,null,null,0,2122]
[21,17891,21,17895,11,17903,21,17911,null,null,0,2212]
[21,18063,21,18066,22,18071,14,18080,null,null,0,2221]
[21,18177,12,18192,24,18204,23,18211,null,null,0,2122]
[21,18308,12,18320,24,18328,23,18337,null,null,0,2122]
[21,18462,21,18475,22,18481,23,18489,null,null,0,2222]
[21,18591,12,18600,24,18623,23,18630,null,null,0,2122]
[21,18727,12,18738,24,18752,23,18762,null,null,0,2122]
[21,18859,21,18862,22,18866,14,18876,null,null,0,2221]
[21,18972,21,18977,11,18986,21,19021,null,null,0,2212]
[21,19122,21,19126,22,19127,23,19135,null,null,0,2222]
[12,19241,14,19250,24,19257,23,19269,null,null,0,1122]
[21,19384,21,19391,22,19399,23,19411,null,null,0,2222]
[21,19512,12,19521,24,19530,23,19540,null,null,0,2122]
[12,19644,23,19662,24,19674,23,19682,null,null,0,1222]
[12,19787,23,19800,24,19811,23,19818,null,null,0,1222]
[21,19916,12,19929,24,19941,23,19949,null,null,0,2122]
[21,20046,12,20060,24,20072,23,20080,null,null,0,2122]
[21,20178,12,20188,24,20201,23,20208,null,null,0,2122]
[21,20306,21,20311,11,20320,21,20330,null,null,0,2212]
[12,20474,23,20515,24,20525,23,20532,null,null,0,1222]
[21,20630,12,20639,24,20650,23,20655,null,null,0,2122]
[21,20752,12,20765,24,20780,14,20829,null,null,0,2121]
[21,20933,12,20944,24,20952,23,20957,null,null,0,2122]
[12,21072,23,21079,24,21083,23,21087,null,null,0,1222]
[21,21185,12,21196,24,21208,23,21218,null,null,0,2122]
[12,21320,23,21336,24,21342,23,21350,null,null,0,1222]
[21,21446,12,21453,24,21463,23,21469,null,null,0,2122]
[21,21566,21,21570,11,21577,21,21595,null,null,0,2212]
[21,21702,12,21716,24,21722,23,21732,null,null,0,2122]
[12,21837,23,21848,24,21855,23,21875,null,null,0,1222]
[12,21981,23,21991,24,22001,23,22009,null,null,0,1222]
[12,22115,23,22131,24,22143,23,22149,null,null,0,1222]
[21,22246,12,22259,24,22290,23,22299,null,null,0,2122]
[21,22397,21,22421,22,22428,23,22439,null,null,0,2222]
[21,22537,21,22541,22,22547,14,22555,null,null,0,2221]
[21,22654,12,22664,13,22668,23,22674,null,null,0,2112]
[21,22795,21,22803,22,22810,23,22818,null,null,0,2222]
[12,22929,23,22953,24,22962,23,22971,null,null,0,1222]
[12,23080,23,23088,24,23093,23,23102,null,null,0,1222]
[21,23200,12,23212,24,23224,23,23236,null,null,0,2122]
[12,23344,23,23369,24,23376,14,23395,null,null,0,1221]
[21,23493,12,23506,24,23517,23,23523,null,null,0,2122]
[21,23621,12,23631,24,23640,23,23724,null,null,0,2122]
[21,23822,21,23827,22,23843,23,23852,null,null,0,2222]
[21,23949,21,23952,11,23965,21,23976,null,null,1,2212]

{"sheet":"!LC01B14..Is","index":24,"n_rows":165,"n_cols":48,"rows_kept":165,"cut":false,"hidden":false,"merged":[[4,39,4,42],[5,39,5,40],[4,44,4,47],[5,44,5,45],[4,24,4,27],[5,24,5,25],[4,29,4,32],[5,29,5,30],[4,34,4,37],[5,34,5,35],[1,1,1,2],[5,13,5,14],[26,13,26,14],[27,13,27,14],[4,19,4,22],[5,19,5,20]]}
["Report for:!LC01B14..Is"]
["Date:","<date>"]
["Hen:","<hen>",null,null,null,"Correct Sequence",{"$f":"Start!J2","v":2212},null,null,null,null,null,null,null,null,"Total Sequences in Data",{"$f":"4994-COUNTBLANK(L7:L5000)","v":159},null,null,null,null,"Total Sequences in Block Data",{"$f":"COUNTA(L7:L33)","v":27},null,null,null,"Total Sequences in Block Data",{"$f":"COUNTA(L34:L59)","v":26},null,null,null,"Total Sequences in Block Data",{"$f":"COUNTA(L60:L86)","v":27},null,null,null,"Total Sequences in Block Data",{"$f":"COUNTA(L87:L112)","v":26},null,null,null,"Total Sequences in Block Data",{"$f":"COUNTA(L113:L139)","v":27},null,null,null,"Total Sequences in Block Data",{"$f":"COUNTA(L140:L165)","v":26}]
[null,null,null,null,null,null,null,null,null,null,null,null,null,null,null,"Total Sequences in Summary",{"$f":"SUM(O7:O22)","v":158},null,null,null,null,"Total Sequences in Block Summary",{"$f":"SUM(U7:U22)","v":27},null,null,null,"Total Sequences in Block Summary",{"$f":"SUM(Z7:Z22)","v":26},null,null,null,"Total Sequences in Block Summary",{"$f":"SUM(AE7:AE22)","v":27},null,null,null,"Total Sequences in Block Summary",{"$f":"SUM(AJ7:AJ22)","v":26},null,null,null,"Total Sequences in Block Summary",{"$f":"SUM(AO7:AO22)","v":27},null,null,null,"Total Sequences in Block Summary",{"$f":"SUM(AT7:AT22)","v":25}]
[null,null,null,null,null,null,null,null,null,null,null,null,null,null,null,null,null,null,null,"Block 1",null,null,null,null,"Block 2",null,null,null,null,"Block 3",null,null,null,null,"Block 4",null,null,null,null,"Block 5",null,null,null,null,"Block 6"]
["Sequence\nComponent\n1","Time\n1","Sequence\nComponent\n2","Time\n2","Sequence\nComponent\n3","Time\n3","Sequence\nComponent\n4","Time\n4","Sequence\nComponent\n5","Time\n5","Correct?\n0=No 1=Yes","Sequence",null,"Frequency",null,"Relative Frequency","Variability",null,null,"Frequency",null,"Relative Frequency","Variability",null,"Frequency",null,"Relative Frequency","Variability",null,"Frequency",null,"Relative Frequency","Variability",null,"Frequency",null,"Relative Frequency","Variability",null,"Frequency",null,"Relative Frequency","Variability",null,"Frequency",null,"Relative Frequency","Variability"]
[21,12,21,24,22,29,23,33,null,null,0,2222,null,1111,{"$f":"COUNTIF($L$7:$L$500,N7)","v":0},{"$f":"O7/$Q$4","v":0},{"$f":"IF(P7=0,0,(P7*((LOG(P7))/LOG(2))))","v":0},null,null,{"$f":"N7","v":1111},{"$f":"COUNTIF(L7:L33,T7)","v":0},{"$f":"U7/(W4-U20)","v":0},{"$f":"IF(V7=0,0,(V7*((LOG(V7))/LOG(2))))","v":0},null,{"$f":"N7","v":1111},{"$f":"COUNTIF(L34:L59,Y7)","v":0},{"$f":"Z7/(AB4-Z20)","v":0},{"$f":"IF(AA7=0,0,(AA7*((LOG(AA7))/LOG(2))))","v":0},null,{"$f":"N7","v":1111},{"$f":"COUNTIF(L60:L86,AD7)","v":0},{"$f":"AE7/(AG4-AE20)","v":0},{"$f":"IF(AF7=0,0,(AF7*((LOG(AF7))/LOG(2))))","v":0},null,{"$f":"N7","v":1111},{"$f":"COUNTIF(L87:L112,AI7)","v":0},{"$f":"AJ7/(AL4-AJ20)","v":0},{"$f":"IF(AK7=0,0,(AK7*((LOG(AK7))/LOG(2))))","v":0},null,{"$f":"N7","v":1111},{"$f":"COUNTIF(L113:L139,AN7)","v":0},{"$f":"AO7/(AQ4-AO20)","v":0},{"$f":"IF(AP7=0,0,(AP7*((LOG(AP7))/LOG(2))))","v":0},null,{"$f":"N7","v":1111},{"$f":"COUNTIF(L140:L165,AS7)","v":0},{"$f":"AT7/(AV4-AT20)","v":0},{"$f":"IF(AU7=0,0,(AU7*((LOG(AU7))/LOG(2))))","v":0}]
[21,132,21,148,22,154,14,163,null,null,0,2221,null,1112,{"$f":"COUNTIF($L$7:$L$500,N8)","v":0},{"$f":"O8/$Q$4","v":0},{"$f":"IF(P8=0,0,(P8*((LOG(P8))/LOG(2))))","v":0},null,null,{"$f":"N8","v":1112},{"$f":"COUNTIF(L7:L33,T8)","v":0},{"$f":"U8/(W4-U20)","v":0},{"$f":"IF(V8=0,0,(V8*((LOG(V8))/LOG(2))))","v":0},null,{"$f":"N8","v":1112},{"$f":"COUNTIF(L34:L59,Y8)","v":0},{"$f":"Z8/(AB4-Z20)","v":0},{"$f":"IF(AA8=0,0,(AA8*((LOG(AA8))/LOG(2))))","v":0},null,{"$f":"N8","v":1112},{"$f":"COUNTIF(L60:L86,AD8)","v":0},{"$f":"AE8/(AG4-AE20)","v":0},{"$f":"IF(AF8=0,0,(AF8*((LOG(AF8))/LOG(2))))","v":0},null,{"$f":"N8","v":1112},{"$f":"COUNTIF(L87:L112,AI8)","v":0},{"$f":"AJ8/(AL4-AJ20)","v":0},{"$f":"IF(AK8=0,0,(AK8*((LOG(AK8))/LOG(2))))","v":0},null,{"$f":"N8","v":1112},{"$f":"COUNTIF(L113:L139,AN8)","v":0},{"$f":"AO8/(AQ4-AO20)","v":0},{"$f":"IF(AP8=0,0,(AP8*((LOG(AP8))/LOG(2))))","v":0},null,{"$f":"N8","v":1112},{"$f":"COUNTIF(L140:L165,AS8)","v":0},{"$f":"AT8/(AV4-AT20)","v":0},{"$f":"IF(AU8=0,0,(AU8*((LOG(AU8))/LOG(2))))","v":0}]
[12,278,23,287,24,294,23,301,null,null,0,1222,null,1121,{"$f":"COUNTIF($L$7:$L$500,N9)","v":0},{"$f":"O9/$Q$4","v":0},{"$f":"IF(P9=0,0,(P9*((LOG(P9))/LOG(2))))","v":0},null,null,{"$f":"N9","v":1121},{"$f":"COUNTIF(L7:L33,T9)","v":0},{"$f":"U9/(W4-U20)","v":0},{"$f":"IF(V9=0,0,(V9*((LOG(V9))/LOG(2))))","v":0},null,{"$f":"N9","v":1121},{"$f":"COUNTIF(L34:L59,Y9)","v":0},{"$f":"Z9/(AB4-Z20)","v":0},{"$f":"IF(AA9=0,0,(AA9*((LOG(AA9))/LOG(2))))","v":0},null,{"$f":"N9","v":1121},{"$f":"COUNTIF(L60:L86,AD9)","v":0},{"$f":"AE9/(AG4-AE20)","v":0},{"$f":"IF(AF9=0,0,(AF9*((LOG(AF9))/LOG(2))))","v":0},null,{"$f":"N9","v":1121},{"$f":"COUNTIF(L87:L112,AI9)","v":0},{"$f":"AJ9/(AL4-AJ20)","v":0},{"$f":"IF(AK9=0,0,(AK9*((LOG(AK9))/LOG(2))))","v":0},null,{"$f":"N9","v":1121},{"$f":"COUNTIF(L113:L139,AN9)","v":0},{"$f":"AO9/(AQ4-AO20)","v":0},{"$f":"IF(AP9=0,0,(AP9*((LOG(AP9))/LOG(2))))","v":0},null,{"$f":"N9","v":1121},{"$f":"COUNTIF(L140:L165,AS9)","v":0},{"$f":"AT9/(AV4-AT20)","v":0},{"$f":"IF(AU9=0,0,(AU9*((LOG(AU9))/LOG(2))))","v":0}]
[12,407,23,423,24,432,23,439,null,null,0,1222,null,1122,{"$f":"COUNTIF($L$7:$L$500,N10)","v":1},{"$f":"O10/$Q$4","v":6.3291139240506328E-3},{"$f":"IF(P10=0,0,(P10*((LOG(P10))/LOG(2))))","v":-4.6226460431500652E-2},null,null,{"$f":"N10","v":1122},{"$f":"COUNTIF(L7:L33,T10)","v":0},{"$f":"U10/(W4-U20)","v":0},{"$f":"IF(V10=0,0,(V10*((LOG(V10))/LOG(2))))","v":0},null,{"$f":"N10","v":1122},{"$f":"COUNTIF(L34:L59,Y10)","v":0},{"$f":"Z10/(AB4-Z20)","v":0},{"$f":"IF(AA10=0,0,(AA10*((LOG(AA10))/LOG(2))))","v":0},null,{"$f":"N10","v":1122},{"$f":"COUNTIF(L60:L86,AD10)","v":0},{"$f":"AE10/(AG4-AE20)","v":0},{"$f":"IF(AF10=0,0,(AF10*((LOG(AF10))/LOG(2))))","v":0},null,{"$f":"N10","v":1122},{"$f":"COUNTIF(L87:L112,AI10)","v":1},{"$f":"AJ10/(AL4-AJ20)","v":4.3478260869565216E-2},{"$f":"IF(AK10=0,0,(AK10*((LOG(AK10))/LOG(2))))","v":-0.19667660678508753},null,{"$f":"N10","v":1122},{"$f":"COUNTIF(L113:L139,AN10)","v":0},{"$f":"AO10/(AQ4-AO20)","v":0},{"$f":"IF(AP10=0,0,(AP10*((LOG(AP10))/LOG(2))))","v":0},null,{"$f":"N10","v":1122},{"$f":"COUNTIF(L140:L165,AS10)","v":0},{"$f":"AT10/(AV4-AT20)","v":0},{"$f":"IF(AU10=0,0,(AU10*((LOG(AU10))/LOG(2))))","v":0}]
[21,538,21,559,22,564,23,571,null,null,0,2222,null,1211,{"$f":"COUNTIF($L$7:$L$500,N11)","v":0},{"$f":"O11/$Q$4","v":0},{"$f":"IF(P11=0,0,(P11*((LOG(P11))/LOG(2))))","v":0},null,null,{"$f":"N11","v":1211},{"$f":"COUNTIF(L7:L33,T11)","v":0},{"$f":"U11/(W4-U20)","v":0},{"$f":"IF(V11=0,0,(V11*((LOG(V11))/LOG(2))))","v":0},null,{"$f":"N11","v":1211},{"$f":"COUNTIF(L34:L59,Y11)","v":0},{"$f":"Z11/(AB4-Z20)","v":0},{"$f":"IF(AA11=0,0,(AA11*((LOG(AA11))/LOG(2))))","v":0},null,{"$f":"N11","v":1211},{"$f":"COUNTIF(L60:L86,AD11)","v":0},{"$f":"AE11/(AG4-AE20)","v":0},{"$f":"IF(AF11=0,0,(AF11*((LOG(AF11))/LOG(2))))","v":0},null,{"$f":"N11","v":1211},{"$f":"COUNTIF(L87:L112,AI11)","v":0},{"$f":"AJ11/(AL4-AJ20)","v":0},{"$f":"IF(AK11=0,0,(AK11*((LOG(AK11))/LOG(2))))","v":0},null,{"$f":"N11","v":1211},{"$f":"COUNTIF(L113:L139,AN11)","v":0},{"$f":"AO11/(AQ4-AO20)","v":0},{"$f":"IF(AP11=0,0,(AP11*((LOG(AP11))/LOG(2))))","v":0},null,{"$f":"N11","v":1211},{"$f":"COUNTIF(L140:L165,AS11)","v":0},{"$f":"AT11/(AV4-AT20)","v":0},{"$f":"IF(AU11=0,0,(AU11*((LOG(AU11))/LOG(2))))","v":0}]
[21,668,12,677,24,695,23,703,null,null,0,2122,null,1212,{"$f":"COUNTIF($L$7:$L$500,N12)","v":1},{"$f":"O12/$Q$4","v":6.3291139240506328E-3},{"$f":"IF(P12=0,0,(P12*((LOG(P12))/LOG(2))))","v":-4.6226460431500652E-2},null,null,{"$f":"N12","v":1212},{"$f":"COUNTIF(L7:L33,T12)","v":1},{"$f":"U12/(W4-U20)","v":4.3478260869565216E-2},{"$f":"IF(V12=0,0,(V12*((LOG(V12))/LOG(2))))","v":-0.19667660678508753},null,{"$f":"N12","v":1212},{"$f":"COUNTIF(L34:L59,Y12)","v":0},{"$f":"Z12/(AB4-Z20)","v":0},{"$f":"IF(AA12=0,0,(AA12*((LOG(AA12))/LOG(2))))","v":0},null,{"$f":"N12","v":1212},{"$f":"COUNTIF(L60:L86,AD12)","v":0},{"$f":"AE12/(AG4-AE20)","v":0},{"$f":"IF(AF12=0,0,(AF12*((LOG(AF12))/LOG(2))))","v":0},null,{"$f":"N12","v":1212},{"$f":"COUNTIF(L87:L112,AI12)","v":0},{"$f":"AJ12/(AL4-AJ20)","v":0},{"$f":"IF(AK12=0,0,(AK12*((LOG(AK12))/LOG(2))))","v":0},null,{"$f":"N12","v":1212},{"$f":"COUNTIF(L113:L139,AN12)","v":0},{"$f":"AO12/(AQ4-AO20)","v":0},{"$f":"IF(AP12=0,0,(AP12*((LOG(AP12))/LOG(2))))","v":0},null,{"$f":"N12","v":1212},{"$f":"COUNTIF(L140:L165,AS12)","v":0},{"$f":"AT12/(AV4-AT20)","v":0},{"$f":"IF(AU12=0,0,(AU12*((LOG(AU12))/LOG(2))))","v":0}]
[21,800,12,816,24,825,23,830,null,null,0,2122,null,1221,{"$f":"COUNTIF($L$7:$L$500,N13)","v":0},{"$f":"O13/$Q$4","v":0},{"$f":"IF(P13=0,0,(P13*((LOG(P13))/LOG(2))))","v":0},null,null,{"$f":"N13","v":1221},{"$f":"COUNTIF(L7:L33,T13)","v":0},{"$f":"U13/(W4-U20)","v":0},{"$f":"IF(V13=0,0,(V13*((LOG(V13))/LOG(2))))","v":0},null,{"$f":"N13","v":1221},{"$f":"COUNTIF(L34:L59,Y13)","v":0},{"$f":"Z13/(AB4-Z20)","v":0},{"$f":"IF(AA13=0,0,(AA13*((LOG(AA13))/LOG(2))))","v":0},null,{"$f":"N13","v":1221},{"$f":"COUNTIF(L60:L86,AD13)","v":0},{"$f":"AE13/(AG4-AE20)","v":0},{"$f":"IF(AF13=0,0,(AF13*((LOG(AF13))/LOG(2))))","v":0},null,{"$f":"N13","v":1221},{"$f":"COUNTIF(L87:L112,AI13)","v":0},{"$f":"AJ13/(AL4-AJ20)","v":0},{"$f":"IF(AK13=0,0,(AK13*((LOG(AK13))/LOG(2))))","v":0},null,{"$f":"N13","v":1221},{"$f":"COUNTIF(L113:L139,AN13)","v":0},{"$f":"AO13/(AQ4-AO20)","v":0},{"$f":"IF(AP13=0,0,(AP13*((LOG(AP13))/LOG(2))))","v":0},null,{"$f":"N13","v":1221},{"$f":"COUNTIF(L140:L165,AS13)","v":0},{"$f":"AT13/(AV4-AT20)","v":0},{"$f":"IF(AU13=0,0,(AU13*((LOG(AU13))/LOG(2))))","v":0}]
[21,926,21,940,22,956,23,965,null,null,0,2222,null,1222,{"$f":"COUNTIF($L$7:$L$500,N14)","v":21},{"$f":"O14/$Q$4","v":0.13291139240506328},{"$f":"IF(P14=0,0,(P14*((LOG(P14))/LOG(2))))","v":-0.38696664451496959},null,null,{"$f":"N14","v":1222},{"$f":"COUNTIF(L7:L33,T14)","v":2},{"$f":"U14/(W4-U20)","v":8.6956521739130432E-2},{"$f":"IF(V14=0,0,(V14*((LOG(V14))/LOG(2))))","v":-0.30639669183104457},null,{"$f":"N14","v":1222},{"$f":"COUNTIF(L34:L59,Y14)","v":0},{"$f":"Z14/(AB4-Z20)","v":0},{"$f":"IF(AA14=0,0,(AA14*((LOG(AA14))/LOG(2))))","v":0},null,{"$f":"N14","v":1222},{"$f":"COUNTIF(L60:L86,AD14)","v":1},{"$f":"AE14/(AG4-AE20)","v":4.3478260869565216E-2},{"$f":"IF(AF14=0,0,(AF14*((LOG(AF14))/LOG(2))))","v":-0.19667660678508753},null,{"$f":"N14","v":1222},{"$f":"COUNTIF(L87:L112,AI14)","v":1},{"$f":"AJ14/(AL4-AJ20)","v":4.3478260869565216E-2},{"$f":"IF(AK14=0,0,(AK14*((LOG(AK14))/LOG(2))))","v":-0.19667660678508753},null,{"$f":"N14","v":1222},{"$f":"COUNTIF(L113:L139,AN14)","v":7},{"$f":"AO14/(AQ4-AO20)","v":0.28000000000000003},{"$f":"IF(AP14=0,0,(AP14*((LOG(AP14))/LOG(2))))","v":-0.51422035496079388},null,{"$f":"N14","v":1222},{"$f":"COUNTIF(L140:L165,AS14)","v":10},{"$f":"AT14/(AV4-AT20)","v":0.47619047619047616},{"$f":"IF(AU14=0,0,(AU14*((LOG(AU14))/LOG(2))))","v":-0.50970920375780859}]
[21,1064,21,1070,11,1079,21,1094,null,null,0,2212,null,2111,{"$f":"COUNTIF($L$7:$L$500,N15)","v":0},{"$f":"O15/$Q$4","v":0},{"$f":"IF(P15=0,0,(P15*((LOG(P15))/LOG(2))))","v":0},null,null,{"$f":"N15","v":2111},{"$f":"COUNTIF(L7:L33,T15)","v":0},{"$f":"U15/(W4-U20)","v":0},{"$f":"IF(V15=0,0,(V15*((LOG(V15))/LOG(2))))","v":0},null,{"$f":"N15","v":2111},{"$f":"COUNTIF(L34:L59,Y15)","v":0},{"$f":"Z15/(AB4-Z20)","v":0},{"$f":"IF(AA15=0,0,(AA15*((LOG(AA15))/LOG(2))))","v":0},null,{"$f":"N15","v":2111},{"$f":"COUNTIF(L60:L86,AD15)","v":0},{"$f":"AE15/(AG4-AE20)","v":0},{"$f":"IF(AF15=0,0,(AF15*((LOG(AF15))/LOG(2))))","v":0},null,{"$f":"N15","v":2111},{"$f":"COUNTIF(L87:L112,AI15)","v":0},{"$f":"AJ15/(AL4-AJ20)","v":0},{"$f":"IF(AK15=0,0,(AK15*((LOG(AK15))/LOG(2))))","v":0},null,{"$f":"N15","v":2111},{"$f":"COUNTIF(L113:L139,AN15)","v":0},{"$f":"AO15/(AQ4-AO20)","v":0},{"$f":"IF(AP15=0,0,(AP15*((LOG(AP15))/LOG(2))))","v":0},null,{"$f":"N15","v":2111},{"$f":"COUNTIF(L140:L165,AS15)","v":0},{"$f":"AT15/(AV4-AT20)","v":0},{"$f":"IF(AU15=0,0,(AU15*((LOG(AU15))/LOG(2))))","v":0}]
[21,1250,12,1260,24,1267,23,1271,null,null,0,2122,null,2112,{"$f":"COUNTIF($L$7:$L$500,N16)","v":3},{"$f":"O16/$Q$4","v":1.8987341772151899E-2},{"$f":"IF(P16=0,0,(P16*((LOG(P16))/LOG(2))))","v":-0.10858515659726482},null,null,{"$f":"N16","v":2112},{"$f":"COUNTIF(L7:L33,T16)","v":1},{"$f":"U16/(W4-U20)","v":4.3478260869565216E-2},{"$f":"IF(V16=0,0,(V16*((LOG(V16))/LOG(2))))","v":-0.19667660678508753},null,{"$f":"N16","v":2112},{"$f":"COUNTIF(L34:L59,Y16)","v":0},{"$f":"Z16/(AB4-Z20)","v":0},{"$f":"IF(AA16=0,0,(AA16*((LOG(AA16))/LOG(2))))","v":0},null,{"$f":"N16","v":2112},{"$f":"COUNTIF(L60:L86,AD16)","v":0},{"$f":"AE16/(AG4-AE20)","v":0},{"$f":"IF(AF16=0,0,(AF16*((LOG(AF16))/LOG(2))))","v":0},null,{"$f":"N16","v":2112},{"$f":"COUNTIF(L87:L112,AI16)","v":0},{"$f":"AJ16/(AL4-AJ20)","v":0},{"$f":"IF(AK16=0,0,(AK16*((LOG(AK16))/LOG(2))))","v":0},null,{"$f":"N16","v":2112},{"$f":"COUNTIF(L113:L139,AN16)","v":1},{"$f":"AO16/(AQ4-AO20)","v":0.04},{"$f":"IF(AP16=0,0,(AP16*((LOG(AP16))/LOG(2))))","v":-0.18575424759098899},null,{"$f":"N16","v":2112},{"$f":"COUNTIF(L140:L165,AS16)","v":1},{"$f":"AT16/(AV4-AT20)","v":4.7619047619047616E-2},{"$f":"IF(AU16=0,0,(AU16*((LOG(AU16))/LOG(2))))","v":-0.20915797251327431}]
[21,1367,12,1384,24,1397,23,1416,null,null,0,2122,null,2121,{"$f":"COUNTIF($L$7:$L$500,N17)","v":1},{"$f":"O17/$Q$4","v":6.3291139240506328E-3},{"$f":"IF(P17=0,0,(P17*((LOG(P17))/LOG(2))))","v":-4.6226460431500652E-2},null,null,{"$f":"N17","v":2121},{"$f":"COUNTIF(L7:L33,T17)","v":0},{"$f":"U17/(W4-U20)","v":0},{"$f":"IF(V17=0,0,(V17*((LOG(V17))/LOG(2))))","v":0},null,{"$f":"N17","v":2121},{"$f":"COUNTIF(L34:L59,Y17)","v":0},{"$f":"Z17/(AB4-Z20)","v":0},{"$f":"IF(AA17=0,0,(AA17*((LOG(AA17))/LOG(2))))","v":0},null,{"$f":"N17","v":2121},{"$f":"COUNTIF(L60:L86,AD17)","v":0},{"$f":"AE17/(AG4-AE20)","v":0},{"$f":"IF(AF17=0,0,(AF17*((LOG(AF17))/LOG(2))))","v":0},null,{"$f":"N17","v":2121},{"$f":"COUNTIF(L87:L112,AI17)","v":0},{"$f":"AJ17/(AL4-AJ20)","v":0},{"$f":"IF(AK17=0,0,(AK17*((LOG(AK17))/LOG(2))))","v":0},null,{"$f":"N17","v":2121},{"$f":"COUNTIF(L113:L139,AN17)","v":0},{"$f":"AO17/(AQ4-AO20)","v":0},{"$f":"IF(AP17=0,0,(AP17*((LOG(AP17))/LOG(2))))","v":0},null,{"$f":"N17","v":2121},{"$f":"COUNTIF(L140:L165,AS17)","v":1},{"$f":"AT17/(AV4-AT20)","v":4.7619047619047616E-2},{"$f":"IF(AU17=0,0,(AU17*((LOG(AU17))/LOG(2))))","v":-0.20915797251327431}]
[21,1511,12,1519,24,1528,23,1534,null,null,0,2122,null,2122,{"$f":"COUNTIF($L$7:$L$500,N18)","v":33},{"$f":"O18/$Q$4","v":0.20886075949367089},{"$f":"IF(P18=0,0,(P18*((LOG(P18))/LOG(2))))","v":-0.47189720728490775},null,null,{"$f":"N18","v":2122},{"$f":"COUNTIF(L7:L33,T18)","v":11},{"$f":"U18/(W4-U20)","v":0.47826086956521741},{"$f":"IF(V18=0,0,(V18*((LOG(V18))/LOG(2))))","v":-0.5089319005050813},null,{"$f":"N18","v":2122},{"$f":"COUNTIF(L34:L59,Y18)","v":4},{"$f":"Z18/(AB4-Z20)","v":0.18181818181818182},{"$f":"IF(AA18=0,0,(AA18*((LOG(AA18))/LOG(2))))","v":-0.44716938520678134},null,{"$f":"N18","v":2122},{"$f":"COUNTIF(L60:L86,AD18)","v":3},{"$f":"AE18/(AG4-AE20)","v":0.13043478260869565},{"$f":"IF(AF18=0,0,(AF18*((LOG(AF18))/LOG(2))))","v":-0.3832955811307639},null,{"$f":"N18","v":2122},{"$f":"COUNTIF(L87:L112,AI18)","v":6},{"$f":"AJ18/(AL4-AJ20)","v":0.2608695652173913},{"$f":"IF(AK18=0,0,(AK18*((LOG(AK18))/LOG(2))))","v":-0.50572159704413644},null,{"$f":"N18","v":2122},{"$f":"COUNTIF(L113:L139,AN18)","v":3},{"$f":"AO18/(AQ4-AO20)","v":0.12},{"$f":"IF(AP18=0,0,(AP18*((LOG(AP18))/LOG(2))))","v":-0.36706724268642821},null,{"$f":"N18","v":2122},{"$f":"COUNTIF(L140:L165,AS18)","v":6},{"$f":"AT18/(AV4-AT20)","v":0.2857142857142857},{"$f":"IF(AU18=0,0,(AU18*((LOG(AU18))/LOG(2))))","v":-0.51638712058788683}]
[21,1631,12,1639,24,1685,23,1693,null,null,0,2122,null,2211,{"$f":"COUNTIF($L$7:$L$500,N19)","v":0},{"$f":"O19/$Q$4","v":0},{"$f":"IF(P19=0,0,(P19*((LOG(P19))/LOG(2))))","v":0},null,null,{"$f":"N19","v":2211},{"$f":"COUNTIF(L7:L33,T19)","v":0},{"$f":"U19/(W4-U20)","v":0},{"$f":"IF(V19=0,0,(V19*((LOG(V19))/LOG(2))))","v":0},null,{"$f":"N19","v":2211},{"$f":"COUNTIF(L34:L59,Y19)","v":0},{"$f":"Z19/(AB4-Z20)","v":0},{"$f":"IF(AA19=0,0,(AA19*((LOG(AA19))/LOG(2))))","v":0},null,{"$f":"N19","v":2211},{"$f":"COUNTIF(L60:L86,AD19)","v":0},{"$f":"AE19/(AG4-AE20)","v":0},{"$f":"IF(AF19=0,0,(AF19*((LOG(AF19))/LOG(2))))","v":0},null,{"$f":"N19","v":2211},{"$f":"COUNTIF(L87:L112,AI19)","v":0},{"$f":"AJ19/(AL4-AJ20)","v":0},{"$f":"IF(AK19=0,0,(AK19*((LOG(AK19))/LOG(2))))","v":0},null,{"$f":"N19","v":2211},{"$f":"COUNTIF(L113:L139,AN19)","v":0},{"$f":"AO19/(AQ4-AO20)","v":0},{"$f":"IF(AP19=0,0,(AP19*((LOG(AP19))/LOG(2))))","v":0},null,{"$f":"N19","v":2211},{"$f":"COUNTIF(L140:L165,AS19)","v":0},{"$f":"AT19/(AV4-AT20)","v":0},{"$f":"IF(AU19=0,0,(AU19*((LOG(AU19))/LOG(2))))","v":0}]
[21,1792,12,1806,24,1815,23,1825,null,null,0,2122,null,2212,{"$f":"COUNTIF($L$7:$L$500,N20)","v":21},{"$f":"O20/$Q$4","v":0.13291139240506328},{"$f":"IF(P20=0,0,(P20*((LOG(P20))/LOG(2))))","v":-0.38696664451496959},null,null,{"$f":"N20","v":2212},{"$f":"COUNTIF(L7:L33,T20)","v":4},null,null,null,{"$f":"N20","v":2212},{"$f":"COUNTIF(L34:L59,Y20)","v":4},null,null,null,{"$f":"N20","v":2212},{"$f":"COUNTIF(L60:L86,AD20)","v":4},null,null,null,{"$f":"N20","v":2212},{"$f":"COUNTIF(L87:L112,AI20)","v":3},null,null,null,{"$f":"N20","v":2212},{"$f":"COUNTIF(L113:L139,AN20)","v":2},null,null,null,{"$f":"N20","v":2212},{"$f":"COUNTIF(L140:L165,AS20)","v":4}]
[21,1921,21,1926,11,1934,21,1951,null,null,0,2212,null,2221,{"$f":"COUNTIF($L$7:$L$500,N21)","v":11},{"$f":"O21/$Q$4","v":6.9620253164556958E-2},{"$f":"IF(P21=0,0,(P21*((LOG(P21))/LOG(2))))","v":-0.26764455965150541},null,null,{"$f":"N21","v":2221},{"$f":"COUNTIF(L7:L33,T21)","v":1},{"$f":"U21/(W4-U20)","v":4.3478260869565216E-2},{"$f":"IF(V21=0,0,(V21*((LOG(V21))/LOG(2))))","v":-0.19667660678508753},null,{"$f":"N21","v":2221},{"$f":"COUNTIF(L34:L59,Y21)","v":5},{"$f":"Z21/(AB4-Z20)","v":0.22727272727272727},{"$f":"IF(AA21=0,0,(AA21*((LOG(AA21))/LOG(2))))","v":-0.48579625539771243},null,{"$f":"N21","v":2221},{"$f":"COUNTIF(L60:L86,AD21)","v":1},{"$f":"AE21/(AG4-AE20)","v":4.3478260869565216E-2},{"$f":"IF(AF21=0,0,(AF21*((LOG(AF21))/LOG(2))))","v":-0.19667660678508753},null,{"$f":"N21","v":2221},{"$f":"COUNTIF(L87:L112,AI21)","v":3},{"$f":"AJ21/(AL4-AJ20)","v":0.13043478260869565},{"$f":"IF(AK21=0,0,(AK21*((LOG(AK21))/LOG(2))))","v":-0.3832955811307639},null,{"$f":"N21","v":2221},{"$f":"COUNTIF(L113:L139,AN21)","v":1},{"$f":"AO21/(AQ4-AO20)","v":0.04},{"$f":"IF(AP21=0,0,(AP21*((LOG(AP21))/LOG(2))))","v":-0.18575424759098899},null,{"$f":"N21","v":2221},{"$f":"COUNTIF(L140:L165,AS21)","v":0},{"$f":"AT21/(AV4-AT20)","v":0},{"$f":"IF(AU21=0,0,(AU21*((LOG(AU21))/LOG(2))))","v":0}]
[21,2067,12,2091,24,2101,23,2108,null,null,0,2122,null,2222,{"$f":"COUNTIF($L$7:$L$500,N22)","v":66},{"$f":"O22/$Q$4","v":0.41772151898734178},{"$f":"IF(P22=0,0,(P22*((LOG(P22))/LOG(2))))","v":-0.52607289558247372},null,null,{"$f":"N22","v":2222},{"$f":"COUNTIF(L7:L33,T22)","v":7},{"$f":"U22/(W4-U20)","v":0.30434782608695654},{"$f":"IF(V22=0,0,(V22*((LOG(V22))/LOG(2))))","v":-0.52232387991286355},null,{"$f":"N22","v":2222},{"$f":"COUNTIF(L34:L59,Y22)","v":13},{"$f":"Z22/(AB4-Z20)","v":0.59090909090909094},{"$f":"IF(AA22=0,0,(AA22*((LOG(AA22))/LOG(2))))","v":-0.4484952139295757},null,{"$f":"N22","v":2222},{"$f":"COUNTIF(L60:L86,AD22)","v":18},{"$f":"AE22/(AG4-AE20)","v":0.78260869565217395},{"$f":"IF(AF22=0,0,(AF22*((LOG(AF22))/LOG(2))))","v":-0.27675935578541772},null,{"$f":"N22","v":2222},{"$f":"COUNTIF(L87:L112,AI22)","v":12},{"$f":"AJ22/(AL4-AJ20)","v":0.52173913043478259},{"$f":"IF(AK22=0,0,(AK22*((LOG(AK22))/LOG(2))))","v":-0.48970406365349045},null,{"$f":"N22","v":2222},{"$f":"COUNTIF(L113:L139,AN22)","v":13},{"$f":"AO22/(AQ4-AO20)","v":0.52},{"$f":"IF(AP22=0,0,(AP22*((LOG(AP22))/LOG(2))))","v":-0.49057656524948895},null,{"$f":"N22","v":2222},{"$f":"COUNTIF(L140:L165,AS22)","v":3},{"$f":"AT22/(AV4-AT20)","v":0.14285714285714285},{"$f":"IF(AU22=0,0,(AU22*((LOG(AU22))/LOG(2))))","v":-0.40105070315108626}]
[21,2206,12,2221,24,2256,23,2271,null,null,0,2122,null,null,null,{"$f":"SUM(P7:P22)","v":1},{"$f":"-SUM(Q7:Q22)","v":2.2868124894405928},null,null,null,null,{"$f":"SUM(V7:V22)","v":1},{"$f":"-SUM(W7:W22)","v":1.9276822926042523},null,null,null,{"$f":"SUM(AA7:AA22)","v":1},{"$f":"-SUM(AB7:AB22)","v":1.3814608545340694},null,null,null,{"$f":"SUM(AF7:AF22)","v":1},{"$f":"-SUM(AG7:AG22)","v":1.0534081504863568},null,null,null,{"$f":"SUM(AK7:AK22)","v":1},{"$f":"-SUM(AL7:AL22)","v":1.7720744553985657},null,null,null,{"$f":"SUM(AP7:AP22)","v":1},{"$f":"-SUM(AQ7:AQ22)","v":1.743372658078689},null,null,null,{"$f":"SUM(AU7:AU22)","v":1},{"$f":"-SUM(AV7:AV22)","v":1.8454629725233302}]
[21,2377,12,2385,13,2421,23,2438,null,null,0,2112,null,null,null,"U=",{"$f":"Q23/(LOG(Q4)/LOG(2))","v":0.31309982710137368},null,null,null,null,"U1=",{"$f":"W23/(LOG(W4)/LOG(2))","v":0.40541070461228768},null,null,null,"U2=",{"$f":"AB23/(LOG(AB4)/LOG(2))","v":0.29390034494057998},null,null,null,"U3=",{"$f":"AG23/(LOG(AG4)/LOG(2))","v":0.22154218159884065},null,null,null,"U4=",{"$f":"AL23/(LOG(AL4)/LOG(2))","v":0.37700184698877015},null,null,null,"U5=",{"$f":"AQ23/(LOG(AQ4)/LOG(2))","v":0.36664856051493466},null,null,null,"U6=",{"$f":"AV23/(LOG(AV4)/LOG(2))","v":0.39739882052912023}]
[21,2536,21,2540,11,2555,21,2576,null,null,0,2212]
[21,2674,12,2687,24,2697,23,2720,null,null,0,2122]
[21,2817,21,2823,22,2837,23,2843,null,null,0,2222,null,"Total Target Seq"]
[12,2950,23,2959,13,2969,23,3000,null,null,0,1212,null,{"$f":"COUNTIF(L7:L165,G3)","v":21},null,27,26,27,26,27,26]
[21,3098,12,3118,24,3128,23,3137,null,null,0,2122,null,null,null,"% of reinforcement given in 6 equal intervals based on number of trials "]
[21,3240,21,3246,11,3254,21,3271,null,null,0,2212,null,null,null,"%_1","%_2","%_3","%_4","%_5","%_6"]
[21,3423,21,3428,22,3442,23,3447,null,null,0,2222,null,null,"target sequence",{"$f":"$G$3","v":2212},{"$f":"$G$3","v":2212},{"$f":"$G$3","v":2212},{"$f":"$G$3","v":2212},{"$f":"$G$3","v":2212},{"$f":"$G$3","v":2212}]
[21,3545,21,3550,22,3567,23,3574,null,null,0,2222,null,null,"total reinforcement",{"$f":"U20","v":4},{"$f":"Z20","v":4},{"$f":"AE20","v":4},{"$f":"AJ20","v":3},{"$f":"AO20","v":2},{"$f":"AT20","v":4}]
[21,3698,21,3708,22,3715,23,3730,null,null,0,2222,null,null,"% target"]
[21,3828,21,3891,22,3902,23,3908,null,null,0,2222,null,null,"CCRF"]
[21,4004,12,4019,24,4030,23,4038,null,null,0,2122,null,null,"% CCRf"]
[21,4135,12,4147,24,4166,23,4175,null,null,0,2122,null,null,"average response rate",{"$f":"H33/P28","v":138.14814814814815},{"$f":"(H59-H33)/Q28","v":129.26923076923077},{"$f":"(H86-H59)/R28","v":139.88888888888889},{"$f":"(H112-H86)/S28","v":134.5},{"$f":"(H139-H112)/T28","v":217},{"$f":"(H165-H139)/U28","v":-777.84615384615381}]
[21,4273,21,4278,22,4283,14,4292,null,null,0,2221]
[21,4389,21,4403,22,4407,23,4414,null,null,0,2222]
[21,4514,21,4523,11,4534,21,4546,null,null,0,2212]
[21,4657,12,4672,24,4692,23,4706,null,null,0,2122]
[21,4803,21,4807,11,4823,21,4833,null,null,0,2212]
[21,4940,21,4947,22,4952,23,4972,null,null,0,2222]
[21,5069,21,5072,22,5077,14,5090,null,null,0,2221]
[21,5186,21,5190,11,5208,21,5241,null,null,0,2212]
[21,5350,21,5359,22,5376,23,5381,null,null,0,2222]
[21,5480,21,5485,22,5489,14,5498,null,null,0,2221]
[21,5597,21,5602,22,5607,14,5615,null,null,0,2221]
[21,5712,21,5738,22,5752,23,5758,null,null,0,2222]
[21,5856,21,5860,11,5867,21,5878,null,null,0,2212]
[21,5974,21,5979,22,5984,23,5997,null,null,0,2222]
[21,6096,21,6102,22,6113,14,6119,null,null,0,2221]
[21,6220,12,6228,24,6236,23,6242,null,null,0,2122]
[21,6341,21,6361,22,6368,23,6377,null,null,0,2222]
[21,6477,21,6480,22,6485,23,6488,null,null,0,2222]
[21,6585,21,6589,22,6594,23,6606,null,null,0,2222]
[21,6705,21,6710,22,6714,23,6718,null,null,0,2222]
[21,6815,21,6829,22,6834,23,6841,null,null,0,2222]
[21,6938,21,6942,22,6945,23,6951,null,null,0,2222]
[21,7050,21,7074,22,7082,23,7091,null,null,0,2222]
[21,7188,21,7193,22,7197,23,7207,null,null,0,2222]
[21,7305,21,7309,22,7314,23,7342,null,null,0,2222]
[21,7442,12,7450,24,7479,23,7490,null,null,0,2122]
[21,7586,21,7590,22,7593,14,7607,null,null,0,2221]
[21,7703,21,7706,11,7725,21,7744,null,null,0,2212]
[21,7879,21,7881,22,7887,23,7892,null,null,0,2222]
[21,7991,21,7995,22,7999,23,8016,null,null,0,2222]
[21,8121,12,8141,24,8150,23,8163,null,null,0,2122]
[21,8264,21,8273,22,8287,23,8295,null,null,0,2222]
[12,8401,23,8418,24,8428,23,8436,null,null,0,1222]
[21,8533,21,8537,11,8547,21,8585,null,null,0,2212]
[21,8708,21,8726,22,8737,23,8746,null,null,0,2222]
[21,8848,21,8864,22,8874,23,8882,null,null,0,2222]
[21,8981,21,9005,22,9021,23,9022,null,null,0,2222]
[21,9123,12,9138,24,9147,23,9161,null,null,0,2122]
[21,9260,21,9264,22,9268,23,9284,null,null,0,2222]
[21,9382,21,9407,22,9415,23,9422,null,null,0,2222]
[21,9518,21,9523,22,9568,23,9577,null,null,0,2222]
[21,9673,21,9678,22,9682,23,9713,null,null,0,2222]
[21,9810,21,9817,11,9825,21,9834,null,null,0,2212]
[21,9961,21,9965,22,9971,23,9984,null,null,0,2222]
[21,10101,21,10111,22,10119,23,10129,null,null,0,2222]
[21,10232,21,10260,22,10273,23,10285,null,null,0,2222]
[21,10384,21,10388,22,10407,23,10414,null,null,0,2222]
[21,10510,21,10518,11,10531,21,10561,null,null,0,2212]
[21,10705,21,10708,22,10711,23,10744,null,null,0,2222]
[21,10841,21,10857,22,10861,23,10868,null,null,0,2222]
[21,10964,12,10983,24,10991,23,11011,null,null,0,2122]
[21,11109,21,11116,22,11134,23,11148,null,null,0,2222]
[21,11244,21,11250,22,11256,23,11286,null,null,0,2222]
[21,11391,21,11406,22,11411,23,11416,null,null,0,2222]
[21,11513,21,11518,22,11522,14,11529,null,null,0,2221]
[21,11635,21,11651,22,11657,23,11665,null,null,0,2222]
[12,11775,23,11787,24,11799,23,11805,null,null,0,1222]
[21,11902,21,11911,11,11919,21,11936,null,null,0,2212]
[21,12064,21,12093,22,12103,23,12115,null,null,0,2222]
[21,12216,12,12222,24,12230,23,12253,null,null,0,2122]
[21,12351,12,12363,24,12372,23,12378,null,null,0,2122]
[12,12474,14,12484,24,12496,23,12502,null,null,0,1122]
[21,12600,12,12616,24,12627,23,12649,null,null,0,2122]
[21,12746,21,12766,22,12783,23,12798,null,null,0,2222]
[21,12914,21,12920,22,12928,23,12935,null,null,0,2222]
[21,13032,21,13051,22,13065,23,13073,null,null,0,2222]
[21,13170,21,13173,11,13186,21,13198,null,null,0,2212]
[21,13307,21,13309,22,13314,23,13320,null,null,0,2222]
[21,13419,21,13423,22,13438,23,13449,null,null,0,2222]
[21,13547,12,13556,24,13564,23,13595,null,null,0,2122]
[21,13691,12,13699,24,13706,23,13712,null,null,0,2122]
[21,13810,21,13815,11,13824,21,13844,null,null,0,2212]
[21,13985,21,13989,22,14006,23,14013,null,null,0,2222]
[21,14112,21,14116,22,14120,14,14129,null,null,0,2221]
[21,14226,21,14229,22,14236,14,14243,null,null,0,2221]
[21,14341,21,14345,22,14349,23,14365,null,null,0,2222]
[12,14466,23,14474,24,14481,23,14487,null,null,0,1222]
[21,14585,21,14591,22,14636,23,14646,null,null,0,2222]
[21,14745,21,14749,22,14753,23,14756,null,null,0,2222]
[12,14859,23,14872,24,14883,23,14890,null,null,0,1222]
[21,14987,21,14990,22,15007,23,15014,null,null,0,2222]
[21,15118,21,15167,22,15181,23,15189,null,null,0,2222]
[21,15290,21,15303,22,15313,23,15323,null,null,0,2222]
[21,15420,21,15442,22,15464,23,15473,null,null,0,2222]
[21,15589,21,15597,22,15604,23,15614,null,null,0,2222]
[12,15723,23,15755,24,15765,23,15772,null,null,0,1222]
[12,15882,23,15889,24,15894,23,15900,null,null,0,1222]
[21,15997,21,16002,22,16030,23,16046,null,null,0,2222]
[21,16168,21,16173,22,16182,23,16188,null,null,0,2222]
[21,16348,21,16353,22,16357,23,16364,null,null,0,2222]
[12,16467,23,16476,24,16480,23,16492,null,null,0,1222]
[21,16590,12,16602,13,16616,23,16644,null,null,0,2112]
[12,16754,23,16763,24,16769,23,16777,null,null,0,1222]
[21,16875,21,16880,22,16888,14,16895,null,null,0,2221]
[21,19063,21,19066,22,19071,23,19087,null,null,0,2222]
[21,19184,21,19200,22,19203,23,19205,null,null,0,2222]
[21,19307,12,19318,24,19326,23,19332,null,null,0,2122]
[21,19429,12,19444,24,19455,23,19464,null,null,0,2122]
[21,19561,21,19566,11,19574,21,19582,null,null,0,2212]
[21,19705,12,19717,24,19724,23,19727,null,null,0,2122]
[12,19837,23,19854,24,19862,23,19869,null,null,0,1222]
[21,19985,21,19992,11,20003,21,20012,null,null,0,2212]
[21,20195,21,20210,22,20217,23,20224,null,null,0,2222]
[21,20321,12,20333,24,20343,23,20351,null,null,0,2122]
[12,20456,23,20467,24,20481,23,20488,null,null,0,1222]
[21,20584,12,20600,13,20605,23,20621,null,null,0,2112]
[21,20721,21,20727,11,20734,21,20743,null,null,0,2212]
[21,20866,21,20879,22,20889,23,20897,null,null,0,2222]
[21,20996,21,21068,22,21078,23,21084,null,null,0,2222]
[21,21190,12,21204,24,21216,23,21223,null,null,0,2122]
[21,21322,21,21326,11,21335,21,21344,null,null,0,2212]
[12,21497,23,21525,24,21535,23,21543,null,null,0,1222]
[21,21643,12,21650,24,21681,23,21695,null,null,0,2122]
[12,21802,23,21810,24,21817,23,21834,null,null,0,1222]
[12,21934,23,21944,24,21950,23,21958,null,null,0,1222]
[21,22058,12,22071,24,22112,23,22123,null,null,0,2122]
[21,22224,21,22243,22,22254,23,22262,null,null,0,2222]
[21,22363,12,22377,24,22390,23,22402,null,null,0,2122]
[12,22510,23,22528,24,22539,23,22546,null,null,0,1222]
[21,22642,12,22657,24,22683,23,22693,null,null,0,2122]
[21,22791,21,22796,11,22804,21,22818,null,null,0,2212]
[12,22972,23,22980,24,22996,23,23005,null,null,0,1222]
[21,23104,12,23113,24,23125,14,23177,null,null,0,2121]
[12,23283,23,23293,24,23304,23,23312,null,null,0,1222]
[12,23412,23,23432,24,23439,23,23446,null,null,0,1222]
[12,23556,23,23599,24,23609,23,23618,null,null,0,1222]
[21,23716,21,23721,11,23727,21,23741,null,null,0,2212]
[12,23856,23,23864,24,23870,23,23879,null,null,0,1222]
[21,23979,12,23991,null,null,null,null,null,null,null,21]

{"sheet":"!LC02954..Is","index":25,"n_rows":179,"n_cols":48,"rows_kept":179,"cut":false,"hidden":false,"merged":[[4,39,4,42],[5,39,5,40],[4,44,4,47],[5,44,5,45],[4,24,4,27],[5,24,5,25],[4,29,4,32],[5,29,5,30],[4,34,4,37],[5,34,5,35],[1,1,1,2],[5,13,5,14],[26,13,26,14],[27,13,27,14],[4,19,4,22],[5,19,5,20]]}
["Report for:!LC02954..Is"]
["Date:","<date>"]
["Hen:","<hen>",null,null,null,"Correct Sequence",{"$f":"Start!J2","v":2212},null,null,null,null,null,null,null,null,"Total Sequences in Data",{"$f":"4994-COUNTBLANK(L7:L5000)","v":173},null,null,null,null,"Total Sequences in Block Data",{"$f":"COUNTA(L7:L35)","v":29},null,null,null,"Total Sequences in Block Data",{"$f":"COUNTA(L36:L64)","v":29},null,null,null,"Total Sequences in Block Data",{"$f":"COUNTA(L65:L92)","v":28},null,null,null,"Total Sequences in Block Data",{"$f":"COUNTA(L93:L121)","v":29},null,null,null,"Total Sequences in Block Data",{"$f":"COUNTA(L122:L150)","v":29},null,null,null,"Total Sequences in Block Data",{"$f":"COUNTA(L151:L179)","v":29}]
[null,null,null,null,null,null,null,null,null,null,null,null,null,null,null,"Total Sequences in Summary",{"$f":"SUM(O7:O22)","v":173},null,null,null,null,"Total Sequences in Block Summary",{"$f":"SUM(U7:U22)","v":29},null,null,null,"Total Sequences in Block Summary",{"$f":"SUM(Z7:Z22)","v":29},null,null,null,"Total Sequences in Block Summary",{"$f":"SUM(AE7:AE22)","v":28},null,null,null,"Total Sequences in Block Summary",{"$f":"SUM(AJ7:AJ22)","v":29},null,null,null,"Total Sequences in Block Summary",{"$f":"SUM(AO7:AO22)","v":29},null,null,null,"Total Sequences in Block Summary",{"$f":"SUM(AT7:AT22)","v":29}]
[null,null,null,null,null,null,null,null,null,null,null,null,null,null,null,null,null,null,null,"Block 1",null,null,null,null,"Block 2",null,null,null,null,"Block 3",null,null,null,null,"Block 4",null,null,null,null,"Block 5",null,null,null,null,"Block 6"]
["Sequence\nComponent\n1","Time\n1","Sequence\nComponent\n2","Time\n2","Sequence\nComponent\n3","Time\n3","Sequence\nComponent\n4","Time\n4","Sequence\nComponent\n5","Time\n5","Correct?\n0=No 1=Yes","Sequence",null,"Frequency",null,"Relative Frequency","Variability",null,null,"Frequency",null,"Relative Frequency","Variability",null,"Frequency",null,"Relative Frequency","Variability",null,"Frequency",null,"Relative Frequency","Variability",null,"Frequency",null,"Relative Frequency","Variability",null,"Frequency",null,"Relative Frequency","Variability",null,"Frequency",null,"Relative Frequency","Variability"]
[12,13,23,20,24,24,23,29,null,null,0,1222,null,1111,{"$f":"COUNTIF($L$7:$L$500,N7)","v":0},{"$f":"O7/$Q$4","v":0},{"$f":"IF(P7=0,0,(P7*((LOG(P7))/LOG(2))))","v":0},null,null,{"$f":"N7","v":1111},{"$f":"COUNTIF(L7:L35,T7)","v":0},{"$f":"U7/(W4-U20)","v":0},{"$f":"IF(V7=0,0,(V7*((LOG(V7))/LOG(2))))","v":0},null,{"$f":"N7","v":1111},{"$f":"COUNTIF(L36:L64,Y7)","v":0},{"$f":"Z7/(AB4-Z20)","v":0},{"$f":"IF(AA7=0,0,(AA7*((LOG(AA7))/LOG(2))))","v":0},null,{"$f":"N7","v":1111},{"$f":"COUNTIF(L65:L92,AD7)","v":0},{"$f":"AE7/(AG4-AE20)","v":0},{"$f":"IF(AF7=0,0,(AF7*((LOG(AF7))/LOG(2))))","v":0},null,{"$f":"N7","v":1111},{"$f":"COUNTIF(L93:L121,AI7)","v":0},{"$f":"AJ7/(AL4-AJ20)","v":0},{"$f":"IF(AK7=0,0,(AK7*((LOG(AK7))/LOG(2))))","v":0},null,{"$f":"N7","v":1111},{"$f":"COUNTIF(L122:L150,AN7)","v":0},{"$f":"AO7/(AQ4-AO20)","v":0},{"$f":"IF(AP7=0,0,(AP7*((LOG(AP7))/LOG(2))))","v":0},null,{"$f":"N7","v":1111},{"$f":"COUNTIF(L151:L179,AS7)","v":0},{"$f":"AT7/(AV4-AT20)","v":0},{"$f":"IF(AU7=0,0,(AU7*((LOG(AU7))/LOG(2))))","v":0}]
[21,126,21,142,22,147,23,154,null,null,0,2222,null,1112,{"$f":"COUNTIF($L$7:$L$500,N8)","v":0},{"$f":"O8/$Q$4","v":0},{"$f":"IF(P8=0,0,(P8*((LOG(P8))/LOG(2))))","v":0},null,null,{"$f":"N8","v":1112},{"$f":"COUNTIF(L7:L35,T8)","v":0},{"$f":"U8/(W4-U20)","v":0},{"$f":"IF(V8=0,0,(V8*((LOG(V8))/LOG(2))))","v":0},null,{"$f":"N8","v":1112},{"$f":"COUNTIF(L36:L64,Y8)","v":0},{"$f":"Z8/(AB4-Z20)","v":0},{"$f":"IF(AA8=0,0,(AA8*((LOG(AA8))/LOG(2))))","v":0},null,{"$f":"N8","v":1112},{"$f":"COUNTIF(L65:L92,AD8)","v":0},{"$f":"AE8/(AG4-AE20)","v":0},{"$f":"IF(AF8=0,0,(AF8*((LOG(AF8))/LOG(2))))","v":0},null,{"$f":"N8","v":1112},{"$f":"COUNTIF(L93:L121,AI8)","v":0},{"$f":"AJ8/(AL4-AJ20)","v":0},{"$f":"IF(AK8=0,0,(AK8*((LOG(AK8))/LOG(2))))","v":0},null,{"$f":"N8","v":1112},{"$f":"COUNTIF(L122:L150,AN8)","v":0},{"$f":"AO8/(AQ4-AO20)","v":0},{"$f":"IF(AP8=0,0,(AP8*((LOG(AP8))/LOG(2))))","v":0},null,{"$f":"N8","v":1112},{"$f":"COUNTIF(L151:L179,AS8)","v":0},{"$f":"AT8/(AV4-AT20)","v":0},{"$f":"IF(AU8=0,0,(AU8*((LOG(AU8))/LOG(2))))","v":0}]
[21,254,12,269,24,277,23,284,null,null,0,2122,null,1121,{"$f":"COUNTIF($L$7:$L$500,N9)","v":0},{"$f":"O9/$Q$4","v":0},{"$f":"IF(P9=0,0,(P9*((LOG(P9))/LOG(2))))","v":0},null,null,{"$f":"N9","v":1121},{"$f":"COUNTIF(L7:L35,T9)","v":0},{"$f":"U9/(W4-U20)","v":0},{"$f":"IF(V9=0,0,(V9*((LOG(V9))/LOG(2))))","v":0},null,{"$f":"N9","v":1121},{"$f":"COUNTIF(L36:L64,Y9)","v":0},{"$f":"Z9/(AB4-Z20)","v":0},{"$f":"IF(AA9=0,0,(AA9*((LOG(AA9))/LOG(2))))","v":0},null,{"$f":"N9","v":1121},{"$f":"COUNTIF(L65:L92,AD9)","v":0},{"$f":"AE9/(AG4-AE20)","v":0},{"$f":"IF(AF9=0,0,(AF9*((LOG(AF9))/LOG(2))))","v":0},null,{"$f":"N9","v":1121},{"$f":"COUNTIF(L93:L121,AI9)","v":0},{"$f":"AJ9/(AL4-AJ20)","v":0},{"$f":"IF(AK9=0,0,(AK9*((LOG(AK9))/LOG(2))))","v":0},null,{"$f":"N9","v":1121},{"$f":"COUNTIF(L122:L150,AN9)","v":0},{"$f":"AO9/(AQ4-AO20)","v":0},{"$f":"IF(AP9=0,0,(AP9*((LOG(AP9))/LOG(2))))","v":0},null,{"$f":"N9","v":1121},{"$f":"COUNTIF(L151:L179,AS9)","v":0},{"$f":"AT9/(AV4-AT20)","v":0},{"$f":"IF(AU9=0,0,(AU9*((LOG(AU9))/LOG(2))))","v":0}]
[21,414,12,425,24,433,23,440,null,null,0,2122,null,1122,{"$f":"COUNTIF($L$7:$L$500,N10)","v":6},{"$f":"O10/$Q$4","v":3.4682080924855488E-2},{"$f":"IF(P10=0,0,(P10*((LOG(P10))/LOG(2))))","v":-0.16819649919938387},null,null,{"$f":"N10","v":1122},{"$f":"COUNTIF(L7:L35,T10)","v":0},{"$f":"U10/(W4-U20)","v":0},{"$f":"IF(V10=0,0,(V10*((LOG(V10))/LOG(2))))","v":0},null,{"$f":"N10","v":1122},{"$f":"COUNTIF(L36:L64,Y10)","v":1},{"$f":"Z10/(AB4-Z20)","v":0.04},{"$f":"IF(AA10=0,0,(AA10*((LOG(AA10))/LOG(2))))","v":-0.18575424759098899},null,{"$f":"N10","v":1122},{"$f":"COUNTIF(L65:L92,AD10)","v":1},{"$f":"AE10/(AG4-AE20)","v":4.1666666666666664E-2},{"$f":"IF(AF10=0,0,(AF10*((LOG(AF10))/LOG(2))))","v":-0.19104010419671485},null,{"$f":"N10","v":1122},{"$f":"COUNTIF(L93:L121,AI10)","v":1},{"$f":"AJ10/(AL4-AJ20)","v":3.8461538461538464E-2},{"$f":"IF(AK10=0,0,(AK10*((LOG(AK10))/LOG(2))))","v":-0.18078614300542661},null,{"$f":"N10","v":1122},{"$f":"COUNTIF(L122:L150,AN10)","v":2},{"$f":"AO10/(AQ4-AO20)","v":0.08},{"$f":"IF(AP10=0,0,(AP10*((LOG(AP10))/LOG(2))))","v":-0.29150849518197797},null,{"$f":"N10","v":1122},{"$f":"COUNTIF(L151:L179,AS10)","v":1},{"$f":"AT10/(AV4-AT20)","v":3.8461538461538464E-2},{"$f":"IF(AU10=0,0,(AU10*((LOG(AU10))/LOG(2))))","v":-0.18078614300542661}]
[21,538,21,546,22,569,23,576,null,null,0,2222,null,1211,{"$f":"COUNTIF($L$7:$L$500,N11)","v":0},{"$f":"O11/$Q$4","v":0},{"$f":"IF(P11=0,0,(P11*((LOG(P11))/LOG(2))))","v":0},null,null,{"$f":"N11","v":1211},{"$f":"COUNTIF(L7:L35,T11)","v":0},{"$f":"U11/(W4-U20)","v":0},{"$f":"IF(V11=0,0,(V11*((LOG(V11))/LOG(2))))","v":0},null,{"$f":"N11","v":1211},{"$f":"COUNTIF(L36:L64,Y11)","v":0},{"$f":"Z11/(AB4-Z20)","v":0},{"$f":"IF(AA11=0,0,(AA11*((LOG(AA11))/LOG(2))))","v":0},null,{"$f":"N11","v":1211},{"$f":"COUNTIF(L65:L92,AD11)","v":0},{"$f":"AE11/(AG4-AE20)","v":0},{"$f":"IF(AF11=0,0,(AF11*((LOG(AF11))/LOG(2))))","v":0},null,{"$f":"N11","v":1211},{"$f":"COUNTIF(L93:L121,AI11)","v":0},{"$f":"AJ11/(AL4-AJ20)","v":0},{"$f":"IF(AK11=0,0,(AK11*((LOG(AK11))/LOG(2))))","v":0},null,{"$f":"N11","v":1211},{"$f":"COUNTIF(L122:L150,AN11)","v":0},{"$f":"AO11/(AQ4-AO20)","v":0},{"$f":"IF(AP11=0,0,(AP11*((LOG(AP11))/LOG(2))))","v":0},null,{"$f":"N11","v":1211},{"$f":"COUNTIF(L151:L179,AS11)","v":0},{"$f":"AT11/(AV4-AT20)","v":0},{"$f":"IF(AU11=0,0,(AU11*((LOG(AU11))/LOG(2))))","v":0}]
[21,694,21,699,22,706,23,712,null,null,0,2222,null,1212,{"$f":"COUNTIF($L$7:$L$500,N12)","v":0},{"$f":"O12/$Q$4","v":0},{"$f":"IF(P12=0,0,(P12*((LOG(P12))/LOG(2))))","v":0},null,null,{"$f":"N12","v":1212},{"$f":"COUNTIF(L7:L35,T12)","v":0},{"$f":"U12/(W4-U20)","v":0},{"$f":"IF(V12=0,0,(V12*((LOG(V12))/LOG(2))))","v":0},null,{"$f":"N12","v":1212},{"$f":"COUNTIF(L36:L64,Y12)","v":0},{"$f":"Z12/(AB4-Z20)","v":0},{"$f":"IF(AA12=0,0,(AA12*((LOG(AA12))/LOG(2))))","v":0},null,{"$f":"N12","v":1212},{"$f":"COUNTIF(L65:L92,AD12)","v":0},{"$f":"AE12/(AG4-AE20)","v":0},{"$f":"IF(AF12=0,0,(AF12*((LOG(AF12))/LOG(2))))","v":0},null,{"$f":"N12","v":1212},{"$f":"COUNTIF(L93:L121,AI12)","v":0},{"$f":"AJ12/(AL4-AJ20)","v":0},{"$f":"IF(AK12=0,0,(AK12*((LOG(AK12))/LOG(2))))","v":0},null,{"$f":"N12","v":1212},{"$f":"COUNTIF(L122:L150,AN12)","v":0},{"$f":"AO12/(AQ4-AO20)","v":0},{"$f":"IF(AP12=0,0,(AP12*((LOG(AP12))/LOG(2))))","v":0},null,{"$f":"N12","v":1212},{"$f":"COUNTIF(L151:L179,AS12)","v":0},{"$f":"AT12/(AV4-AT20)","v":0},{"$f":"IF(AU12=0,0,(AU12*((LOG(AU12))/LOG(2))))","v":0}]
[21,810,21,837,22,843,23,857,null,null,0,2222,null,1221,{"$f":"COUNTIF($L$7:$L$500,N13)","v":0},{"$f":"O13/$Q$4","v":0},{"$f":"IF(P13=0,0,(P13*((LOG(P13))/LOG(2))))","v":0},null,null,{"$f":"N13","v":1221},{"$f":"COUNTIF(L7:L35,T13)","v":0},{"$f":"U13/(W4-U20)","v":0},{"$f":"IF(V13=0,0,(V13*((LOG(V13))/LOG(2))))","v":0},null,{"$f":"N13","v":1221},{"$f":"COUNTIF(L36:L64,Y13)","v":0},{"$f":"Z13/(AB4-Z20)","v":0},{"$f":"IF(AA13=0,0,(AA13*((LOG(AA13))/LOG(2))))","v":0},null,{"$f":"N13","v":1221},{"$f":"COUNTIF(L65:L92,AD13)","v":0},{"$f":"AE13/(AG4-AE20)","v":0},{"$f":"IF(AF13=0,0,(AF13*((LOG(AF13))/LOG(2))))","v":0},null,{"$f":"N13","v":1221},{"$f":"COUNTIF(L93:L121,AI13)","v":0},{"$f":"AJ13/(AL4-AJ20)","v":0},{"$f":"IF(AK13=0,0,(AK13*((LOG(AK13))/LOG(2))))","v":0},null,{"$f":"N13","v":1221},{"$f":"COUNTIF(L122:L150,AN13)","v":0},{"$f":"AO13/(AQ4-AO20)","v":0},{"$f":"IF(AP13=0,0,(AP13*((LOG(AP13))/LOG(2))))","v":0},null,{"$f":"N13","v":1221},{"$f":"COUNTIF(L151:L179,AS13)","v":0},{"$f":"AT13/(AV4-AT20)","v":0},{"$f":"IF(AU13=0,0,(AU13*((LOG(AU13))/LOG(2))))","v":0}]
[21,957,21,962,11,982,21,999,null,null,0,2212,null,1222,{"$f":"COUNTIF($L$7:$L$500,N14)","v":40},{"$f":"O14/$Q$4","v":0.23121387283236994},{"$f":"IF(P14=0,0,(P14*((LOG(P14))/LOG(2))))","v":-0.48848557982644214},null,null,{"$f":"N14","v":1222},{"$f":"COUNTIF(L7:L35,T14)","v":4},{"$f":"U14/(W4-U20)","v":0.15384615384615385},{"$f":"IF(V14=0,0,(V14*((LOG(V14))/LOG(2))))","v":-0.4154522643293988},null,{"$f":"N14","v":1222},{"$f":"COUNTIF(L36:L64,Y14)","v":7},{"$f":"Z14/(AB4-Z20)","v":0.28000000000000003},{"$f":"IF(AA14=0,0,(AA14*((LOG(AA14))/LOG(2))))","v":-0.51422035496079388},null,{"$f":"N14","v":1222},{"$f":"COUNTIF(L65:L92,AD14)","v":8},{"$f":"AE14/(AG4-AE20)","v":0.33333333333333331},{"$f":"IF(AF14=0,0,(AF14*((LOG(AF14))/LOG(2))))","v":-0.52832083357371862},null,{"$f":"N14","v":1222},{"$f":"COUNTIF(L93:L121,AI14)","v":11},{"$f":"AJ14/(AL4-AJ20)","v":0.42307692307692307},{"$f":"IF(AK14=0,0,(AK14*((LOG(AK14))/LOG(2))))","v":-0.52504188825160547},null,{"$f":"N14","v":1222},{"$f":"COUNTIF(L122:L150,AN14)","v":4},{"$f":"AO14/(AQ4-AO20)","v":0.16},{"$f":"IF(AP14=0,0,(AP14*((LOG(AP14))/LOG(2))))","v":-0.42301699036395596},null,{"$f":"N14","v":1222},{"$f":"COUNTIF(L151:L179,AS14)","v":6},{"$f":"AT14/(AV4-AT20)","v":0.23076923076923078},{"$f":"IF(AU14=0,0,(AU14*((LOG(AU14))/LOG(2))))","v":-0.48818705017383146}]
[21,1172,21,1178,22,1185,23,1199,null,null,0,2222,null,2111,{"$f":"COUNTIF($L$7:$L$500,N15)","v":0},{"$f":"O15/$Q$4","v":0},{"$f":"IF(P15=0,0,(P15*((LOG(P15))/LOG(2))))","v":0},null,null,{"$f":"N15","v":2111},{"$f":"COUNTIF(L7:L35,T15)","v":0},{"$f":"U15/(W4-U20)","v":0},{"$f":"IF(V15=0,0,(V15*((LOG(V15))/LOG(2))))","v":0},null,{"$f":"N15","v":2111},{"$f":"COUNTIF(L36:L64,Y15)","v":0},{"$f":"Z15/(AB4-Z20)","v":0},{"$f":"IF(AA15=0,0,(AA15*((LOG(AA15))/LOG(2))))","v":0},null,{"$f":"N15","v":2111},{"$f":"COUNTIF(L65:L92,AD15)","v":0},{"$f":"AE15/(AG4-AE20)","v":0},{"$f":"IF(AF15=0,0,(AF15*((LOG(AF15))/LOG(2))))","v":0},null,{"$f":"N15","v":2111},{"$f":"COUNTIF(L93:L121,AI15)","v":0},{"$f":"AJ15/(AL4-AJ20)","v":0},{"$f":"IF(AK15=0,0,(AK15*((LOG(AK15))/LOG(2))))","v":0},null,{"$f":"N15","v":2111},{"$f":"COUNTIF(L122:L150,AN15)","v":0},{"$f":"AO15/(AQ4-AO20)","v":0},{"$f":"IF(AP15=0,0,(AP15*((LOG(AP15))/LOG(2))))","v":0},null,{"$f":"N15","v":2111},{"$f":"COUNTIF(L151:L179,AS15)","v":0},{"$f":"AT15/(AV4-AT20)","v":0},{"$f":"IF(AU15=0,0,(AU15*((LOG(AU15))/LOG(2))))","v":0}]
[21,1309,21,1321,22,1341,23,1351,null,null,0,2222,null,2112,{"$f":"COUNTIF($L$7:$L$500,N16)","v":3},{"$f":"O16/$Q$4","v":1.7341040462427744E-2},{"$f":"IF(P16=0,0,(P16*((LOG(P16))/LOG(2))))","v":-0.10143929006211967},null,null,{"$f":"N16","v":2112},{"$f":"COUNTIF(L7:L35,T16)","v":0},{"$f":"U16/(W4-U20)","v":0},{"$f":"IF(V16=0,0,(V16*((LOG(V16))/LOG(2))))","v":0},null,{"$f":"N16","v":2112},{"$f":"COUNTIF(L36:L64,Y16)","v":1},{"$f":"Z16/(AB4-Z20)","v":0.04},{"$f":"IF(AA16=0,0,(AA16*((LOG(AA16))/LOG(2))))","v":-0.18575424759098899},null,{"$f":"N16","v":2112},{"$f":"COUNTIF(L65:L92,AD16)","v":0},{"$f":"AE16/(AG4-AE20)","v":0},{"$f":"IF(AF16=0,0,(AF16*((LOG(AF16))/LOG(2))))","v":0},null,{"$f":"N16","v":2112},{"$f":"COUNTIF(L93:L121,AI16)","v":0},{"$f":"AJ16/(AL4-AJ20)","v":0},{"$f":"IF(AK16=0,0,(AK16*((LOG(AK16))/LOG(2))))","v":0},null,{"$f":"N16","v":2112},{"$f":"COUNTIF(L122:L150,AN16)","v":2},{"$f":"AO16/(AQ4-AO20)","v":0.08},{"$f":"IF(AP16=0,0,(AP16*((LOG(AP16))/LOG(2))))","v":-0.29150849518197797},null,{"$f":"N16","v":2112},{"$f":"COUNTIF(L151:L179,AS16)","v":0},{"$f":"AT16/(AV4-AT20)","v":0},{"$f":"IF(AU16=0,0,(AU16*((LOG(AU16))/LOG(2))))","v":0}]
[12,1458,23,1466,24,1470,23,1481,null,null,0,1222,null,2121,{"$f":"COUNTIF($L$7:$L$500,N17)","v":0},{"$f":"O17/$Q$4","v":0},{"$f":"IF(P17=0,0,(P17*((LOG(P17))/LOG(2))))","v":0},null,null,{"$f":"N17","v":2121},{"$f":"COUNTIF(L7:L35,T17)","v":0},{"$f":"U17/(W4-U20)","v":0},{"$f":"IF(V17=0,0,(V17*((LOG(V17))/LOG(2))))","v":0},null,{"$f":"N17","v":2121},{"$f":"COUNTIF(L36:L64,Y17)","v":0},{"$f":"Z17/(AB4-Z20)","v":0},{"$f":"IF(AA17=0,0,(AA17*((LOG(AA17))/LOG(2))))","v":0},null,{"$f":"N17","v":2121},{"$f":"COUNTIF(L65:L92,AD17)","v":0},{"$f":"AE17/(AG4-AE20)","v":0},{"$f":"IF(AF17=0,0,(AF17*((LOG(AF17))/LOG(2))))","v":0},null,{"$f":"N17","v":2121},{"$f":"COUNTIF(L93:L121,AI17)","v":0},{"$f":"AJ17/(AL4-AJ20)","v":0},{"$f":"IF(AK17=0,0,(AK17*((LOG(AK17))/LOG(2))))","v":0},null,{"$f":"N17","v":2121},{"$f":"COUNTIF(L122:L150,AN17)","v":0},{"$f":"AO17/(AQ4-AO20)","v":0},{"$f":"IF(AP17=0,0,(AP17*((LOG(AP17))/LOG(2))))","v":0},null,{"$f":"N17","v":2121},{"$f":"COUNTIF(L151:L179,AS17)","v":0},{"$f":"AT17/(AV4-AT20)","v":0},{"$f":"IF(AU17=0,0,(AU17*((LOG(AU17))/LOG(2))))","v":0}]
[12,1582,23,1592,24,1595,23,1600,null,null,0,1222,null,2122,{"$f":"COUNTIF($L$7:$L$500,N18)","v":49},{"$f":"O18/$Q$4","v":0.2832369942196532},{"$f":"IF(P18=0,0,(P18*((LOG(P18))/LOG(2))))","v":-0.51546821267372434},null,null,{"$f":"N18","v":2122},{"$f":"COUNTIF(L7:L35,T18)","v":5},{"$f":"U18/(W4-U20)","v":0.19230769230769232},{"$f":"IF(V18=0,0,(V18*((LOG(V18))/LOG(2))))","v":-0.45740608139494804},null,{"$f":"N18","v":2122},{"$f":"COUNTIF(L36:L64,Y18)","v":3},{"$f":"Z18/(AB4-Z20)","v":0.12},{"$f":"IF(AA18=0,0,(AA18*((LOG(AA18))/LOG(2))))","v":-0.36706724268642821},null,{"$f":"N18","v":2122},{"$f":"COUNTIF(L65:L92,AD18)","v":8},{"$f":"AE18/(AG4-AE20)","v":0.33333333333333331},{"$f":"IF(AF18=0,0,(AF18*((LOG(AF18))/LOG(2))))","v":-0.52832083357371862},null,{"$f":"N18","v":2122},{"$f":"COUNTIF(L93:L121,AI18)","v":9},{"$f":"AJ18/(AL4-AJ20)","v":0.34615384615384615},{"$f":"IF(AK18=0,0,(AK18*((LOG(AK18))/LOG(2))))","v":-0.52979355578034681},null,{"$f":"N18","v":2122},{"$f":"COUNTIF(L122:L150,AN18)","v":9},{"$f":"AO18/(AQ4-AO20)","v":0.36},{"$f":"IF(AP18=0,0,(AP18*((LOG(AP18))/LOG(2))))","v":-0.53061522779966841},null,{"$f":"N18","v":2122},{"$f":"COUNTIF(L151:L179,AS18)","v":15},{"$f":"AT18/(AV4-AT20)","v":0.57692307692307687},{"$f":"IF(AU18=0,0,(AU18*((LOG(AU18))/LOG(2))))","v":-0.45781680146110021}]
[21,1701,12,1710,24,1739,23,1749,null,null,0,2122,null,2211,{"$f":"COUNTIF($L$7:$L$500,N19)","v":0},{"$f":"O19/$Q$4","v":0},{"$f":"IF(P19=0,0,(P19*((LOG(P19))/LOG(2))))","v":0},null,null,{"$f":"N19","v":2211},{"$f":"COUNTIF(L7:L35,T19)","v":0},{"$f":"U19/(W4-U20)","v":0},{"$f":"IF(V19=0,0,(V19*((LOG(V19))/LOG(2))))","v":0},null,{"$f":"N19","v":2211},{"$f":"COUNTIF(L36:L64,Y19)","v":0},{"$f":"Z19/(AB4-Z20)","v":0},{"$f":"IF(AA19=0,0,(AA19*((LOG(AA19))/LOG(2))))","v":0},null,{"$f":"N19","v":2211},{"$f":"COUNTIF(L65:L92,AD19)","v":0},{"$f":"AE19/(AG4-AE20)","v":0},{"$f":"IF(AF19=0,0,(AF19*((LOG(AF19))/LOG(2))))","v":0},null,{"$f":"N19","v":2211},{"$f":"COUNTIF(L93:L121,AI19)","v":0},{"$f":"AJ19/(AL4-AJ20)","v":0},{"$f":"IF(AK19=0,0,(AK19*((LOG(AK19))/LOG(2))))","v":0},null,{"$f":"N19","v":2211},{"$f":"COUNTIF(L122:L150,AN19)","v":0},{"$f":"AO19/(AQ4-AO20)","v":0},{"$f":"IF(AP19=0,0,(AP19*((LOG(AP19))/LOG(2))))","v":0},null,{"$f":"N19","v":2211},{"$f":"COUNTIF(L151:L179,AS19)","v":0},{"$f":"AT19/(AV4-AT20)","v":0},{"$f":"IF(AU19=0,0,(AU19*((LOG(AU19))/LOG(2))))","v":0}]
[21,1846,12,1858,24,1875,23,1885,null,null,0,2122,null,2212,{"$f":"COUNTIF($L$7:$L$500,N20)","v":21},{"$f":"O20/$Q$4","v":0.12138728323699421},{"$f":"IF(P20=0,0,(P20*((LOG(P20))/LOG(2))))","v":-0.36929784336426158},null,null,{"$f":"N20","v":2212},{"$f":"COUNTIF(L7:L35,T20)","v":3},null,null,null,{"$f":"N20","v":2212},{"$f":"COUNTIF(L36:L64,Y20)","v":4},null,null,null,{"$f":"N20","v":2212},{"$f":"COUNTIF(L65:L92,AD20)","v":4},null,null,null,{"$f":"N20","v":2212},{"$f":"COUNTIF(L93:L121,AI20)","v":3},null,null,null,{"$f":"N20","v":2212},{"$f":"COUNTIF(L122:L150,AN20)","v":4},null,null,null,{"$f":"N20","v":2212},{"$f":"COUNTIF(L151:L179,AS20)","v":3}]
[21,2016,21,2022,22,2029,23,2036,null,null,0,2222,null,2221,{"$f":"COUNTIF($L$7:$L$500,N21)","v":7},{"$f":"O21/$Q$4","v":4.046242774566474E-2},{"$f":"IF(P21=0,0,(P21*((LOG(P21))/LOG(2))))","v":-0.18723071178643838},null,null,{"$f":"N21","v":2221},{"$f":"COUNTIF(L7:L35,T21)","v":2},{"$f":"U21/(W4-U20)","v":7.6923076923076927E-2},{"$f":"IF(V21=0,0,(V21*((LOG(V21))/LOG(2))))","v":-0.28464920908777636},null,{"$f":"N21","v":2221},{"$f":"COUNTIF(L36:L64,Y21)","v":2},{"$f":"Z21/(AB4-Z20)","v":0.08},{"$f":"IF(AA21=0,0,(AA21*((LOG(AA21))/LOG(2))))","v":-0.29150849518197797},null,{"$f":"N21","v":2221},{"$f":"COUNTIF(L65:L92,AD21)","v":1},{"$f":"AE21/(AG4-AE20)","v":4.1666666666666664E-2},{"$f":"IF(AF21=0,0,(AF21*((LOG(AF21))/LOG(2))))","v":-0.19104010419671485},null,{"$f":"N21","v":2221},{"$f":"COUNTIF(L93:L121,AI21)","v":0},{"$f":"AJ21/(AL4-AJ20)","v":0},{"$f":"IF(AK21=0,0,(AK21*((LOG(AK21))/LOG(2))))","v":0},null,{"$f":"N21","v":2221},{"$f":"COUNTIF(L122:L150,AN21)","v":1},{"$f":"AO21/(AQ4-AO20)","v":0.04},{"$f":"IF(AP21=0,0,(AP21*((LOG(AP21))/LOG(2))))","v":-0.18575424759098899},null,{"$f":"N21","v":2221},{"$f":"COUNTIF(L151:L179,AS21)","v":1},{"$f":"AT21/(AV4-AT20)","v":3.8461538461538464E-2},{"$f":"IF(AU21=0,0,(AU21*((LOG(AU21))/LOG(2))))","v":-0.18078614300542661}]
[21,2136,21,2161,22,2168,23,2176,null,null,0,2222,null,2222,{"$f":"COUNTIF($L$7:$L$500,N22)","v":47},{"$f":"O22/$Q$4","v":0.27167630057803466},{"$f":"IF(P22=0,0,(P22*((LOG(P22))/LOG(2))))","v":-0.51076214260160169},null,null,{"$f":"N22","v":2222},{"$f":"COUNTIF(L7:L35,T22)","v":15},{"$f":"U22/(W4-U20)","v":0.57692307692307687},{"$f":"IF(V22=0,0,(V22*((LOG(V22))/LOG(2))))","v":-0.45781680146110021},null,{"$f":"N22","v":2222},{"$f":"COUNTIF(L36:L64,Y22)","v":11},{"$f":"Z22/(AB4-Z20)","v":0.44},{"$f":"IF(AA22=0,0,(AA22*((LOG(AA22))/LOG(2))))","v":-0.52114681130046814},null,{"$f":"N22","v":2222},{"$f":"COUNTIF(L65:L92,AD22)","v":6},{"$f":"AE22/(AG4-AE20)","v":0.25},{"$f":"IF(AF22=0,0,(AF22*((LOG(AF22))/LOG(2))))","v":-0.5},null,{"$f":"N22","v":2222},{"$f":"COUNTIF(L93:L121,AI22)","v":5},{"$f":"AJ22/(AL4-AJ20)","v":0.19230769230769232},{"$f":"IF(AK22=0,0,(AK22*((LOG(AK22))/LOG(2))))","v":-0.45740608139494804},null,{"$f":"N22","v":2222},{"$f":"COUNTIF(L122:L150,AN22)","v":7},{"$f":"AO22/(AQ4-AO20)","v":0.28000000000000003},{"$f":"IF(AP22=0,0,(AP22*((LOG(AP22))/LOG(2))))","v":-0.51422035496079388},null,{"$f":"N22","v":2222},{"$f":"COUNTIF(L151:L179,AS22)","v":3},{"$f":"AT22/(AV4-AT20)","v":0.11538461538461539},{"$f":"IF(AU22=0,0,(AU22*((LOG(AU22))/LOG(2))))","v":-0.35947814047153104}]
[21,2272,21,2277,22,2281,14,2305,null,null,0,2221,null,null,null,{"$f":"SUM(P7:P22)","v":1},{"$f":"-SUM(Q7:Q22)","v":2.3408802795139718},null,null,null,null,{"$f":"SUM(V7:V22)","v":1},{"$f":"-SUM(W7:W22)","v":1.6153243562732233},null,null,null,{"$f":"SUM(AA7:AA22)","v":1},{"$f":"-SUM(AB7:AB22)","v":2.0654513993116463},null,null,null,{"$f":"SUM(AF7:AF22)","v":0.99999999999999989},{"$f":"-SUM(AG7:AG22)","v":1.9387218755408671},null,null,null,{"$f":"SUM(AK7:AK22)","v":1},{"$f":"-SUM(AL7:AL22)","v":1.6930276684323269},null,null,null,{"$f":"SUM(AP7:AP22)","v":1},{"$f":"-SUM(AQ7:AQ22)","v":2.236623811079363},null,null,null,{"$f":"SUM(AU7:AU22)","v":1},{"$f":"-SUM(AV7:AV22)","v":1.6670542781173161}]
[21,2401,21,2407,11,2416,21,2424,null,null,0,2212,null,null,null,"U=",{"$f":"Q23/(LOG(Q4)/LOG(2))","v":0.31486178028542483},null,null,null,null,"U1=",{"$f":"W23/(LOG(W4)/LOG(2))","v":0.33250940213503338},null,null,null,"U2=",{"$f":"AB23/(LOG(AB4)/LOG(2))","v":0.42516662814927442},null,null,null,"U3=",{"$f":"AG23/(LOG(AG4)/LOG(2))","v":0.40328245094728132},null,null,null,"U4=",{"$f":"AL23/(LOG(AL4)/LOG(2))","v":0.34850438281466917},null,null,null,"U5=",{"$f":"AQ23/(LOG(AQ4)/LOG(2))","v":0.46040192691627208},null,null,null,"U6=",{"$f":"AV23/(LOG(AV4)/LOG(2))","v":0.34315784269006572}]
[21,2591,21,2608,22,2615,23,2624,null,null,0,2222]
[21,2722,12,2731,24,2738,23,2741,null,null,0,2122]
[21,2842,21,2867,22,2872,23,2878,null,null,0,2222,null,"Total Target Seq"]
[21,2981,21,2995,22,2999,23,3007,null,null,0,2222,null,{"$f":"COUNTIF(L7:L179,G3)","v":21},null,29,29,28,29,29,29]
[21,3103,21,3108,22,3113,14,3122,null,null,0,2221,null,null,null,"% of reinforcement given in 6 equal intervals based on number of trials "]
[21,3220,21,3224,11,3237,21,3246,null,null,0,2212,null,null,null,"%_1","%_2","%_3","%_4","%_5","%_6"]
[21,3367,21,3370,22,3391,23,3402,null,null,0,2222,null,null,"target sequence",{"$f":"$G$3","v":2212},{"$f":"$G$3","v":2212},{"$f":"$G$3","v":2212},{"$f":"$G$3","v":2212},{"$f":"$G$3","v":2212},{"$f":"$G$3","v":2212}]
[12,3511,23,3519,24,3524,23,3530,null,null,0,1222,null,null,"total reinforcement",{"$f":"U20","v":3},{"$f":"Z20","v":4},{"$f":"AE20","v":4},{"$f":"AJ20","v":3},{"$f":"AO20","v":4},{"$f":"AT20","v":3}]
[21,3646,21,3651,22,3657,23,3664,null,null,0,2222,null,null,"% target"]
[21,3763,21,3769,22,3786,23,3793,null,null,0,2222,null,null,"CCRF"]
[21,3891,21,3908,22,3912,23,3925,null,null,0,2222,null,null,"% CCRf"]
[21,4024,21,4027,22,4032,14,4040,null,null,0,2221,null,null,"average response rate",{"$f":"H35/P28","v":135.34482758620689},{"$f":"(H64-H35)/Q28","v":137.17241379310346},{"$f":"(H92-H64)/R28","v":140.28571428571428},{"$f":"(H121-H92)/S28","v":146.55172413793105},{"$f":"(H150-H121)/T28","v":135.13793103448276},{"$f":"(H179-H150)/U28","v":134.51724137931035}]
[21,4139,21,4144,22,4161,23,4178,null,null,0,2222]
[21,4293,21,4302,22,4307,23,4314,null,null,0,2222]
[21,4412,21,4416,11,4430,21,4467,null,null,0,2212]
[21,4592,21,4613,22,4623,23,4649,null,null,0,2222]
[21,4747,12,4756,24,4766,23,4772,null,null,0,2122]
[12,4877,23,4886,24,4888,23,4894,null,null,0,1222]
[21,4991,21,4997,22,5011,23,5027,null,null,0,2222]
[21,5124,21,5129,22,5144,23,5156,null,null,0,2222]
[21,5263,21,5268,11,5275,21,5283,null,null,0,2212]
[21,5394,21,5402,22,5420,23,5425,null,null,0,2222]
[12,5531,23,5540,24,5544,23,5550,null,null,0,1222]
[21,5665,21,5686,22,5694,23,5702,null,null,0,2222]
[21,5801,21,5805,22,5824,23,5831,null,null,0,2222]
[12,5943,23,5981,24,5992,23,6000,null,null,0,1222]
[12,6098,23,6108,24,6114,23,6125,null,null,0,1222]
[21,6222,12,6230,24,6239,23,6254,null,null,0,2122]
[21,6356,21,6376,22,6395,23,6401,null,null,0,2222]
[21,6501,12,6510,13,6512,23,6521,null,null,0,2112]
[21,6620,21,6624,22,6639,23,6647,null,null,0,2222]
[21,6742,21,6750,11,6758,21,6783,null,null,0,2212]
[21,6925,21,6930,22,6936,14,6945,null,null,0,2221]
[12,7053,23,7064,24,7071,23,7083,null,null,0,1222]
[21,7180,12,7191,24,7199,23,7203,null,null,0,2122]
[12,7313,23,7320,24,7328,23,7345,null,null,0,1222]
[12,7441,14,7452,24,7460,23,7472,null,null,0,1122]
[12,7576,23,7585,24,7589,23,7597,null,null,0,1222]
[21,7695,21,7701,11,7710,21,7722,null,null,0,2212]
[21,7834,21,7838,22,7886,23,7903,null,null,0,2222]
[21,8001,12,8010,24,8017,23,8022,null,null,0,2122]
[21,8133,12,8141,24,8148,23,8158,null,null,0,2122]
[21,8277,21,8290,22,8298,23,8305,null,null,0,2222]
[21,8418,21,8423,22,8429,23,8437,null,null,0,2222]
[21,8535,12,8548,24,8558,23,8575,null,null,0,2122]
[21,8671,21,8675,22,8712,23,8723,null,null,0,2222]
[12,8827,23,8838,24,8844,23,8851,null,null,0,1222]
[12,8955,23,8968,24,8976,23,8986,null,null,0,1222]
[21,9157,21,9168,22,9177,23,9185,null,null,0,2222]
[21,9281,21,9332,22,9344,23,9351,null,null,0,2222]
[12,9458,23,9466,24,9474,23,9488,null,null,0,1222]
[21,9585,12,9595,24,9602,23,9605,null,null,0,2122]
[12,9714,23,9725,24,9736,23,9743,null,null,0,1222]
[21,9842,12,9852,24,9859,23,9865,null,null,0,2122]
[12,9971,23,9978,24,9983,23,9996,null,null,0,1222]
[12,10103,23,10112,24,10124,23,10135,null,null,0,1222]
[21,10234,21,10236,11,10248,21,10259,null,null,0,2212]
[12,10415,23,10426,24,10432,23,10440,null,null,0,1222]
[21,10539,12,10547,24,10556,23,10560,null,null,0,2122]
[21,10658,12,10668,24,10677,23,10689,null,null,0,2122]
[12,10792,23,10806,24,10814,23,10820,null,null,0,1222]
[21,10917,21,10921,22,10925,14,10933,null,null,0,2221]
[21,11031,21,11035,11,11043,21,11068,null,null,0,2212]
[21,11237,12,11253,24,11261,23,11265,null,null,0,2122]
[21,11362,21,11382,22,11389,23,11398,null,null,0,2222]
[21,11497,21,11503,11,11514,21,11521,null,null,0,2212]
[12,11673,14,11684,24,11704,23,11713,null,null,0,1122]
[21,11809,21,11814,11,11823,21,11831,null,null,0,2212]
[21,11926,12,11934,24,11970,23,11981,null,null,0,2122]
[12,12085,23,12097,24,12101,23,12108,null,null,0,1222]
[21,12214,12,12226,24,12259,23,12278,null,null,0,2122]
[21,12391,21,12395,22,12401,23,12407,null,null,0,2222]
[21,12512,21,12516,11,12525,21,12558,null,null,0,2212]
[21,12737,12,12745,24,12752,23,12755,null,null,0,2122]
[21,12852,21,12870,22,12877,23,12887,null,null,0,2222]
[12,12994,23,13002,24,13006,23,13012,null,null,0,1222]
[21,13109,12,13122,24,13134,23,13145,null,null,0,2122]
[21,13244,12,13258,24,13265,23,13273,null,null,0,2122]
[12,13376,23,13388,24,13399,23,13406,null,null,0,1222]
[21,13503,21,13521,22,13527,23,13540,null,null,0,2222]
[21,13684,12,13695,24,13701,23,13705,null,null,0,2122]
[12,13813,23,13822,24,13829,23,13840,null,null,0,1222]
[12,13942,23,13952,24,13955,23,13964,null,null,0,1222]
[12,14070,23,14104,24,14120,23,14134,null,null,0,1222]
[12,14243,23,14262,24,14283,23,14290,null,null,0,1222]
[12,14403,14,14408,24,14415,23,14418,null,null,0,1122]
[21,14515,21,14519,11,14528,21,14536,null,null,0,2212]
[21,14689,21,14693,22,14708,23,14715,null,null,0,2222]
[21,14812,21,14817,11,14827,21,14840,null,null,0,2212]
[21,15064,12,15077,24,15085,23,15099,null,null,0,2122]
[12,15205,23,15212,24,15216,23,15222,null,null,0,1222]
[12,15326,23,15335,24,15341,23,15348,null,null,0,1222]
[21,15445,12,15460,24,15503,23,15516,null,null,0,2122]
[12,15619,23,15630,24,15634,23,15642,null,null,0,1222]
[21,15740,12,15748,24,15784,23,15795,null,null,0,2122]
[12,15901,23,15911,24,15915,23,15923,null,null,0,1222]
[21,16055,21,16069,22,16075,23,16081,null,null,0,2222]
[21,16178,21,16182,22,16198,23,16211,null,null,0,2222]
[21,16310,12,16323,24,16329,23,16345,null,null,0,2122]
[21,16442,12,16454,24,16464,23,16476,null,null,0,2122]
[21,16572,21,16574,22,16579,14,16587,null,null,0,2221]
[12,16692,23,16701,24,16731,23,16742,null,null,0,1222]
[21,16841,21,16858,22,16868,23,16875,null,null,0,2222]
[21,16973,12,16985,24,16994,23,16999,null,null,0,2122]
[21,17097,12,17109,24,17117,23,17124,null,null,0,2122]
[21,17222,21,17227,11,17236,21,17246,null,null,0,2212]
[21,17453,21,17469,22,17476,23,17484,null,null,0,2222]
[12,17591,23,17600,24,17604,23,17612,null,null,0,1222]
[21,17708,21,17712,11,17721,21,17728,null,null,0,2212]
[21,17857,21,17873,22,17878,23,17884,null,null,0,2222]
[21,17982,21,17987,22,18004,23,18019,null,null,0,2222]
[21,18116,12,18126,13,18134,23,18157,null,null,0,2112]
[21,18256,21,18284,11,18316,21,18325,null,null,0,2212]
[21,18427,21,18432,22,18447,23,18476,null,null,0,2222]
[12,18582,14,18592,24,18600,23,18606,null,null,0,1122]
[21,18703,21,18727,22,18734,23,18746,null,null,0,2222]
[21,18843,12,18852,24,18858,23,18868,null,null,0,2122]
[21,18966,21,18971,11,18980,21,18988,null,null,0,2212]
[12,19090,14,19094,24,19109,23,19125,null,null,0,1122]
[21,19223,12,19231,13,19235,23,19245,null,null,0,2112]
[12,19348,23,19355,24,19359,23,19364,null,null,0,1222]
[21,19461,12,19472,24,19485,23,19495,null,null,0,2122]
[21,19592,12,19599,24,19607,23,19613,null,null,0,2122]
[12,19721,23,19731,24,19745,23,19750,null,null,0,1222]
[21,19846,12,19859,24,19866,23,19877,null,null,0,2122]
[21,19974,12,19985,24,19992,23,20000,null,null,0,2122]
[21,20099,12,20112,24,20120,23,20129,null,null,0,2122]
[21,20228,12,20238,24,20247,23,20257,null,null,0,2122]
[21,20354,21,20357,11,20369,21,20384,null,null,0,2212]
[21,20518,12,20528,24,20537,23,20546,null,null,0,2122]
[21,20643,12,20652,24,20666,23,20677,null,null,0,2122]
[21,20776,12,20788,24,20795,23,20802,null,null,0,2122]
[21,20900,12,20913,24,20922,23,20932,null,null,0,2122]
[21,21029,12,21041,24,21052,23,21065,null,null,0,2122]
[21,21161,12,21169,24,21176,23,21183,null,null,0,2122]
[21,21280,21,21295,22,21300,23,21318,null,null,0,2222]
[21,21432,21,21437,22,21441,14,21462,null,null,0,2221]
[21,21559,12,21568,24,21582,23,21592,null,null,0,2122]
[21,21693,21,21697,11,21703,21,21713,null,null,0,2212]
[21,21844,21,21859,22,21864,23,21877,null,null,0,2222]
[21,21983,12,21993,24,22002,23,22007,null,null,0,2122]
[12,22110,23,22119,24,22129,23,22141,null,null,0,1222]
[21,22240,21,22261,22,22266,23,22291,null,null,0,2222]
[21,22389,12,22399,24,22406,23,22412,null,null,0,2122]
[12,22520,23,22537,24,22547,23,22556,null,null,0,1222]
[21,22652,12,22662,24,22687,23,22697,null,null,0,2122]
[21,22793,12,22801,24,22811,23,22823,null,null,0,2122]
[21,22921,21,22928,11,22933,21,22942,null,null,0,2212]
[21,23073,12,23083,24,23090,23,23096,null,null,0,2122]
[12,23198,14,23209,24,23216,23,23220,null,null,0,1122]
[12,23330,23,23343,24,23354,23,23362,null,null,0,1222]
[12,23465,23,23484,24,23497,23,23504,null,null,0,1222]
[21,23600,12,23608,24,23619,23,23634,null,null,0,2122]
[12,23743,23,23751,24,23757,23,23769,null,null,0,1222]
[12,23874,23,23883,24,23893,23,23901,null,null,0,1222]

{"sheet":"!LC03A34..Is","index":26,"n_rows":175,"n_cols":48,"rows_kept":175,"cut":false,"hidden":false,"merged":[[4,39,4,42],[5,39,5,40],[4,44,4,47],[5,44,5,45],[4,24,4,27],[5,24,5,25],[4,29,4,32],[5,29,5,30],[4,34,4,37],[5,34,5,35],[1,1,1,2],[5,13,5,14],[26,13,26,14],[27,13,27,14],[4,19,4,22],[5,19,5,20]]}
["Report for:!LC03A34..Is"]
["Date:","<date>"]
["Hen:","<hen>",null,null,null,"Correct Sequence",{"$f":"Start!J2","v":2212},null,null,null,null,null,null,null,null,"Total Sequences in Data",{"$f":"4994-COUNTBLANK(L7:L5000)","v":169},null,null,null,null,"Total Sequences in Block Data",{"$f":"COUNTA(L7:L34)","v":28},null,null,null,"Total Sequences in Block Data",{"$f":"COUNTA(L35:L62)","v":28},null,null,null,"Total Sequences in Block Data",{"$f":"COUNTA(L63:L91)","v":29},null,null,null,"Total Sequences in Block Data",{"$f":"COUNTA(L92:L119)","v":28},null,null,null,"Total Sequences in Block Data",{"$f":"COUNTA(L120:L147)","v":28},null,null,null,"Total Sequences in Block Data",{"$f":"COUNTA(L148:L175)","v":28}]
[null,null,null,null,null,null,null,null,null,null,null,null,null,null,null,"Total Sequences in Summary",{"$f":"SUM(O7:O22)","v":169},null,null,null,null,"Total Sequences in Block Summary",{"$f":"SUM(U7:U22)","v":28},null,null,null,"Total Sequences in Block Summary",{"$f":"SUM(Z7:Z22)","v":28},null,null,null,"Total Sequences in Block Summary",{"$f":"SUM(AE7:AE22)","v":29},null,null,null,"Total Sequences in Block Summary",{"$f":"SUM(AJ7:AJ22)","v":28},null,null,null,"Total Sequences in Block Summary",{"$f":"SUM(AO7:AO22)","v":28},null,null,null,"Total Sequences in Block Summary",{"$f":"SUM(AT7:AT22)","v":28}]
[null,null,null,null,null,null,null,null,null,null,null,null,null,null,null,null,null,null,null,"Block 1",null,null,null,null,"Block 2",null,null,null,null,"Block 3",null,null,null,null,"Block 4",null,null,null,null,"Block 5",null,null,null,null,"Block 6"]
["Sequence\nComponent\n1","Time\n1","Sequence\nComponent\n2","Time\n2","Sequence\nComponent\n3","Time\n3","Sequence\nComponent\n4","Time\n4","Sequence\nComponent\n5","Time\n5","Correct?\n0=No 1=Yes","Sequence",null,"Frequency",null,"Relative Frequency","Variability",null,null,"Frequency",null,"Relative Frequency","Variability",null,"Frequency",null,"Relative Frequency","Variability",null,"Frequency",null,"Relative Frequency","Variability",null,"Frequency",null,"Relative Frequency","Variability",null,"Frequency",null,"Relative Frequency","Variability",null,"Frequency",null,"Relative Frequency","Variability"]
[21,68,21,75,22,84,23,90,null,null,0,2222,null,1111,{"$f":"COUNTIF($L$7:$L$500,N7)","v":0},{"$f":"O7/$Q$4","v":0},{"$f":"IF(P7=0,0,(P7*((LOG(P7))/LOG(2))))","v":0},null,null,{"$f":"N7","v":1111},{"$f":"COUNTIF(L7:L34,T7)","v":0},{"$f":"U7/(W4-U20)","v":0},{"$f":"IF(V7=0,0,(V7*((LOG(V7))/LOG(2))))","v":0},null,{"$f":"N7","v":1111},{"$f":"COUNTIF(L35:L62,Y7)","v":0},{"$f":"Z7/(AB4-Z20)","v":0},{"$f":"IF(AA7=0,0,(AA7*((LOG(AA7))/LOG(2))))","v":0},null,{"$f":"N7","v":1111},{"$f":"COUNTIF(L63:L91,AD7)","v":0},{"$f":"AE7/(AG4-AE20)","v":0},{"$f":"IF(AF7=0,0,(AF7*((LOG(AF7))/LOG(2))))","v":0},null,{"$f":"N7","v":1111},{"$f":"COUNTIF(L92:L119,AI7)","v":0},{"$f":"AJ7/(AL4-AJ20)","v":0},{"$f":"IF(AK7=0,0,(AK7*((LOG(AK7))/LOG(2))))","v":0},null,{"$f":"N7","v":1111},{"$f":"COUNTIF(L120:L147,AN7)","v":0},{"$f":"AO7/(AQ4-AO20)","v":0},{"$f":"IF(AP7=0,0,(AP7*((LOG(AP7))/LOG(2))))","v":0},null,{"$f":"N7","v":1111},{"$f":"COUNTIF(L148:L175,AS7)","v":0},{"$f":"AT7/(AV4-AT20)","v":0},{"$f":"IF(AU7=0,0,(AU7*((LOG(AU7))/LOG(2))))","v":0}]
[21,187,21,192,22,205,23,210,null,null,0,2222,null,1112,{"$f":"COUNTIF($L$7:$L$500,N8)","v":0},{"$f":"O8/$Q$4","v":0},{"$f":"IF(P8=0,0,(P8*((LOG(P8))/LOG(2))))","v":0},null,null,{"$f":"N8","v":1112},{"$f":"COUNTIF(L7:L34,T8)","v":0},{"$f":"U8/(W4-U20)","v":0},{"$f":"IF(V8=0,0,(V8*((LOG(V8))/LOG(2))))","v":0},null,{"$f":"N8","v":1112},{"$f":"COUNTIF(L35:L62,Y8)","v":0},{"$f":"Z8/(AB4-Z20)","v":0},{"$f":"IF(AA8=0,0,(AA8*((LOG(AA8))/LOG(2))))","v":0},null,{"$f":"N8","v":1112},{"$f":"COUNTIF(L63:L91,AD8)","v":0},{"$f":"AE8/(AG4-AE20)","v":0},{"$f":"IF(AF8=0,0,(AF8*((LOG(AF8))/LOG(2))))","v":0},null,{"$f":"N8","v":1112},{"$f":"COUNTIF(L92:L119,AI8)","v":0},{"$f":"AJ8/(AL4-AJ20)","v":0},{"$f":"IF(AK8=0,0,(AK8*((LOG(AK8))/LOG(2))))","v":0},null,{"$f":"N8","v":1112},{"$f":"COUNTIF(L120:L147,AN8)","v":0},{"$f":"AO8/(AQ4-AO20)","v":0},{"$f":"IF(AP8=0,0,(AP8*((LOG(AP8))/LOG(2))))","v":0},null,{"$f":"N8","v":1112},{"$f":"COUNTIF(L148:L175,AS8)","v":0},{"$f":"AT8/(AV4-AT20)","v":0},{"$f":"IF(AU8=0,0,(AU8*((LOG(AU8))/LOG(2))))","v":0}]
[21,307,21,322,22,327,23,333,null,null,0,2222,null,1121,{"$f":"COUNTIF($L$7:$L$500,N9)","v":0},{"$f":"O9/$Q$4","v":0},{"$f":"IF(P9=0,0,(P9*((LOG(P9))/LOG(2))))","v":0},null,null,{"$f":"N9","v":1121},{"$f":"COUNTIF(L7:L34,T9)","v":0},{"$f":"U9/(W4-U20)","v":0},{"$f":"IF(V9=0,0,(V9*((LOG(V9))/LOG(2))))","v":0},null,{"$f":"N9","v":1121},{"$f":"COUNTIF(L35:L62,Y9)","v":0},{"$f":"Z9/(AB4-Z20)","v":0},{"$f":"IF(AA9=0,0,(AA9*((LOG(AA9))/LOG(2))))","v":0},null,{"$f":"N9","v":1121},{"$f":"COUNTIF(L63:L91,AD9)","v":0},{"$f":"AE9/(AG4-AE20)","v":0},{"$f":"IF(AF9=0,0,(AF9*((LOG(AF9))/LOG(2))))","v":0},null,{"$f":"N9","v":1121},{"$f":"COUNTIF(L92:L119,AI9)","v":0},{"$f":"AJ9/(AL4-AJ20)","v":0},{"$f":"IF(AK9=0,0,(AK9*((LOG(AK9))/LOG(2))))","v":0},null,{"$f":"N9","v":1121},{"$f":"COUNTIF(L120:L147,AN9)","v":0},{"$f":"AO9/(AQ4-AO20)","v":0},{"$f":"IF(AP9=0,0,(AP9*((LOG(AP9))/LOG(2))))","v":0},null,{"$f":"N9","v":1121},{"$f":"COUNTIF(L148:L175,AS9)","v":0},{"$f":"AT9/(AV4-AT20)","v":0},{"$f":"IF(AU9=0,0,(AU9*((LOG(AU9))/LOG(2))))","v":0}]
[12,453,23,467,24,477,23,484,null,null,0,1222,null,1122,{"$f":"COUNTIF($L$7:$L$500,N10)","v":11},{"$f":"O10/$Q$4","v":6.5088757396449703E-2},{"$f":"IF(P10=0,0,(P10*((LOG(P10))/LOG(2))))","v":-0.25654394079345416},null,null,{"$f":"N10","v":1122},{"$f":"COUNTIF(L7:L34,T10)","v":0},{"$f":"U10/(W4-U20)","v":0},{"$f":"IF(V10=0,0,(V10*((LOG(V10))/LOG(2))))","v":0},null,{"$f":"N10","v":1122},{"$f":"COUNTIF(L35:L62,Y10)","v":1},{"$f":"Z10/(AB4-Z20)","v":4.1666666666666664E-2},{"$f":"IF(AA10=0,0,(AA10*((LOG(AA10))/LOG(2))))","v":-0.19104010419671485},null,{"$f":"N10","v":1122},{"$f":"COUNTIF(L63:L91,AD10)","v":0},{"$f":"AE10/(AG4-AE20)","v":0},{"$f":"IF(AF10=0,0,(AF10*((LOG(AF10))/LOG(2))))","v":0},null,{"$f":"N10","v":1122},{"$f":"COUNTIF(L92:L119,AI10)","v":0},{"$f":"AJ10/(AL4-AJ20)","v":0},{"$f":"IF(AK10=0,0,(AK10*((LOG(AK10))/LOG(2))))","v":0},null,{"$f":"N10","v":1122},{"$f":"COUNTIF(L120:L147,AN10)","v":3},{"$f":"AO10/(AQ4-AO20)","v":0.12},{"$f":"IF(AP10=0,0,(AP10*((LOG(AP10))/LOG(2))))","v":-0.36706724268642821},null,{"$f":"N10","v":1122},{"$f":"COUNTIF(L148:L175,AS10)","v":7},{"$f":"AT10/(AV4-AT20)","v":0.26923076923076922},{"$f":"IF(AU10=0,0,(AU10*((LOG(AU10))/LOG(2))))","v":-0.50967667586863141}]
[12,597,23,605,24,610,23,617,null,null,0,1222,null,1211,{"$f":"COUNTIF($L$7:$L$500,N11)","v":0},{"$f":"O11/$Q$4","v":0},{"$f":"IF(P11=0,0,(P11*((LOG(P11))/LOG(2))))","v":0},null,null,{"$f":"N11","v":1211},{"$f":"COUNTIF(L7:L34,T11)","v":0},{"$f":"U11/(W4-U20)","v":0},{"$f":"IF(V11=0,0,(V11*((LOG(V11))/LOG(2))))","v":0},null,{"$f":"N11","v":1211},{"$f":"COUNTIF(L35:L62,Y11)","v":0},{"$f":"Z11/(AB4-Z20)","v":0},{"$f":"IF(AA11=0,0,(AA11*((LOG(AA11))/LOG(2))))","v":0},null,{"$f":"N11","v":1211},{"$f":"COUNTIF(L63:L91,AD11)","v":0},{"$f":"AE11/(AG4-AE20)","v":0},{"$f":"IF(AF11=0,0,(AF11*((LOG(AF11))/LOG(2))))","v":0},null,{"$f":"N11","v":1211},{"$f":"COUNTIF(L92:L119,AI11)","v":0},{"$f":"AJ11/(AL4-AJ20)","v":0},{"$f":"IF(AK11=0,0,(AK11*((LOG(AK11))/LOG(2))))","v":0},null,{"$f":"N11","v":1211},{"$f":"COUNTIF(L120:L147,AN11)","v":0},{"$f":"AO11/(AQ4-AO20)","v":0},{"$f":"IF(AP11=0,0,(AP11*((LOG(AP11))/LOG(2))))","v":0},null,{"$f":"N11","v":1211},{"$f":"COUNTIF(L148:L175,AS11)","v":0},{"$f":"AT11/(AV4-AT20)","v":0},{"$f":"IF(AU11=0,0,(AU11*((LOG(AU11))/LOG(2))))","v":0}]
[21,718,12,735,24,769,23,778,null,null,0,2122,null,1212,{"$f":"COUNTIF($L$7:$L$500,N12)","v":0},{"$f":"O12/$Q$4","v":0},{"$f":"IF(P12=0,0,(P12*((LOG(P12))/LOG(2))))","v":0},null,null,{"$f":"N12","v":1212},{"$f":"COUNTIF(L7:L34,T12)","v":0},{"$f":"U12/(W4-U20)","v":0},{"$f":"IF(V12=0,0,(V12*((LOG(V12))/LOG(2))))","v":0},null,{"$f":"N12","v":1212},{"$f":"COUNTIF(L35:L62,Y12)","v":0},{"$f":"Z12/(AB4-Z20)","v":0},{"$f":"IF(AA12=0,0,(AA12*((LOG(AA12))/LOG(2))))","v":0},null,{"$f":"N12","v":1212},{"$f":"COUNTIF(L63:L91,AD12)","v":0},{"$f":"AE12/(AG4-AE20)","v":0},{"$f":"IF(AF12=0,0,(AF12*((LOG(AF12))/LOG(2))))","v":0},null,{"$f":"N12","v":1212},{"$f":"COUNTIF(L92:L119,AI12)","v":0},{"$f":"AJ12/(AL4-AJ20)","v":0},{"$f":"IF(AK12=0,0,(AK12*((LOG(AK12))/LOG(2))))","v":0},null,{"$f":"N12","v":1212},{"$f":"COUNTIF(L120:L147,AN12)","v":0},{"$f":"AO12/(AQ4-AO20)","v":0},{"$f":"IF(AP12=0,0,(AP12*((LOG(AP12))/LOG(2))))","v":0},null,{"$f":"N12","v":1212},{"$f":"COUNTIF(L148:L175,AS12)","v":0},{"$f":"AT12/(AV4-AT20)","v":0},{"$f":"IF(AU12=0,0,(AU12*((LOG(AU12))/LOG(2))))","v":0}]
[12,895,23,911,24,918,23,932,null,null,0,1222,null,1221,{"$f":"COUNTIF($L$7:$L$500,N13)","v":2},{"$f":"O13/$Q$4","v":1.1834319526627219E-2},{"$f":"IF(P13=0,0,(P13*((LOG(P13))/LOG(2))))","v":-7.5750052500380874E-2},null,null,{"$f":"N13","v":1221},{"$f":"COUNTIF(L7:L34,T13)","v":0},{"$f":"U13/(W4-U20)","v":0},{"$f":"IF(V13=0,0,(V13*((LOG(V13))/LOG(2))))","v":0},null,{"$f":"N13","v":1221},{"$f":"COUNTIF(L35:L62,Y13)","v":0},{"$f":"Z13/(AB4-Z20)","v":0},{"$f":"IF(AA13=0,0,(AA13*((LOG(AA13))/LOG(2))))","v":0},null,{"$f":"N13","v":1221},{"$f":"COUNTIF(L63:L91,AD13)","v":0},{"$f":"AE13/(AG4-AE20)","v":0},{"$f":"IF(AF13=0,0,(AF13*((LOG(AF13))/LOG(2))))","v":0},null,{"$f":"N13","v":1221},{"$f":"COUNTIF(L92:L119,AI13)","v":0},{"$f":"AJ13/(AL4-AJ20)","v":0},{"$f":"IF(AK13=0,0,(AK13*((LOG(AK13))/LOG(2))))","v":0},null,{"$f":"N13","v":1221},{"$f":"COUNTIF(L120:L147,AN13)","v":1},{"$f":"AO13/(AQ4-AO20)","v":0.04},{"$f":"IF(AP13=0,0,(AP13*((LOG(AP13))/LOG(2))))","v":-0.18575424759098899},null,{"$f":"N13","v":1221},{"$f":"COUNTIF(L148:L175,AS13)","v":1},{"$f":"AT13/(AV4-AT20)","v":3.8461538461538464E-2},{"$f":"IF(AU13=0,0,(AU13*((LOG(AU13))/LOG(2))))","v":-0.18078614300542661}]
[21,1049,21,1054,22,1062,23,1068,null,null,0,2222,null,1222,{"$f":"COUNTIF($L$7:$L$500,N14)","v":32},{"$f":"O14/$Q$4","v":0.1893491124260355},{"$f":"IF(P14=0,0,(P14*((LOG(P14))/LOG(2))))","v":-0.45460439030195204},null,null,{"$f":"N14","v":1222},{"$f":"COUNTIF(L7:L34,T14)","v":5},{"$f":"U14/(W4-U20)","v":0.21739130434782608},{"$f":"IF(V14=0,0,(V14*((LOG(V14))/LOG(2))))","v":-0.47861605677601093},null,{"$f":"N14","v":1222},{"$f":"COUNTIF(L35:L62,Y14)","v":4},{"$f":"Z14/(AB4-Z20)","v":0.16666666666666666},{"$f":"IF(AA14=0,0,(AA14*((LOG(AA14))/LOG(2))))","v":-0.43082708345352599},null,{"$f":"N14","v":1222},{"$f":"COUNTIF(L63:L91,AD14)","v":3},{"$f":"AE14/(AG4-AE20)","v":0.12},{"$f":"IF(AF14=0,0,(AF14*((LOG(AF14))/LOG(2))))","v":-0.36706724268642821},null,{"$f":"N14","v":1222},{"$f":"COUNTIF(L92:L119,AI14)","v":7},{"$f":"AJ14/(AL4-AJ20)","v":0.29166666666666669},{"$f":"IF(AK14=0,0,(AK14*((LOG(AK14))/LOG(2))))","v":-0.51846887711020273},null,{"$f":"N14","v":1222},{"$f":"COUNTIF(L120:L147,AN14)","v":5},{"$f":"AO14/(AQ4-AO20)","v":0.2},{"$f":"IF(AP14=0,0,(AP14*((LOG(AP14))/LOG(2))))","v":-0.46438561897747244},null,{"$f":"N14","v":1222},{"$f":"COUNTIF(L148:L175,AS14)","v":8},{"$f":"AT14/(AV4-AT20)","v":0.30769230769230771},{"$f":"IF(AU14=0,0,(AU14*((LOG(AU14))/LOG(2))))","v":-0.52321222096648989}]
[21,1166,12,1183,24,1191,23,1197,null,null,0,2122,null,2111,{"$f":"COUNTIF($L$7:$L$500,N15)","v":0},{"$f":"O15/$Q$4","v":0},{"$f":"IF(P15=0,0,(P15*((LOG(P15))/LOG(2))))","v":0},null,null,{"$f":"N15","v":2111},{"$f":"COUNTIF(L7:L34,T15)","v":0},{"$f":"U15/(W4-U20)","v":0},{"$f":"IF(V15=0,0,(V15*((LOG(V15))/LOG(2))))","v":0},null,{"$f":"N15","v":2111},{"$f":"COUNTIF(L35:L62,Y15)","v":0},{"$f":"Z15/(AB4-Z20)","v":0},{"$f":"IF(AA15=0,0,(AA15*((LOG(AA15))/LOG(2))))","v":0},null,{"$f":"N15","v":2111},{"$f":"COUNTIF(L63:L91,AD15)","v":0},{"$f":"AE15/(AG4-AE20)","v":0},{"$f":"IF(AF15=0,0,(AF15*((LOG(AF15))/LOG(2))))","v":0},null,{"$f":"N15","v":2111},{"$f":"COUNTIF(L92:L119,AI15)","v":0},{"$f":"AJ15/(AL4-AJ20)","v":0},{"$f":"IF(AK15=0,0,(AK15*((LOG(AK15))/LOG(2))))","v":0},null,{"$f":"N15","v":2111},{"$f":"COUNTIF(L120:L147,AN15)","v":0},{"$f":"AO15/(AQ4-AO20)","v":0},{"$f":"IF(AP15=0,0,(AP15*((LOG(AP15))/LOG(2))))","v":0},null,{"$f":"N15","v":2111},{"$f":"COUNTIF(L148:L175,AS15)","v":0},{"$f":"AT15/(AV4-AT20)","v":0},{"$f":"IF(AU15=0,0,(AU15*((LOG(AU15))/LOG(2))))","v":0}]
[21,1297,21,1320,22,1328,23,1333,null,null,0,2222,null,2112,{"$f":"COUNTIF($L$7:$L$500,N16)","v":2},{"$f":"O16/$Q$4","v":1.1834319526627219E-2},{"$f":"IF(P16=0,0,(P16*((LOG(P16))/LOG(2))))","v":-7.5750052500380874E-2},null,null,{"$f":"N16","v":2112},{"$f":"COUNTIF(L7:L34,T16)","v":0},{"$f":"U16/(W4-U20)","v":0},{"$f":"IF(V16=0,0,(V16*((LOG(V16))/LOG(2))))","v":0},null,{"$f":"N16","v":2112},{"$f":"COUNTIF(L35:L62,Y16)","v":0},{"$f":"Z16/(AB4-Z20)","v":0},{"$f":"IF(AA16=0,0,(AA16*((LOG(AA16))/LOG(2))))","v":0},null,{"$f":"N16","v":2112},{"$f":"COUNTIF(L63:L91,AD16)","v":0},{"$f":"AE16/(AG4-AE20)","v":0},{"$f":"IF(AF16=0,0,(AF16*((LOG(AF16))/LOG(2))))","v":0},null,{"$f":"N16","v":2112},{"$f":"COUNTIF(L92:L119,AI16)","v":1},{"$f":"AJ16/(AL4-AJ20)","v":4.1666666666666664E-2},{"$f":"IF(AK16=0,0,(AK16*((LOG(AK16))/LOG(2))))","v":-0.19104010419671485},null,{"$f":"N16","v":2112},{"$f":"COUNTIF(L120:L147,AN16)","v":1},{"$f":"AO16/(AQ4-AO20)","v":0.04},{"$f":"IF(AP16=0,0,(AP16*((LOG(AP16))/LOG(2))))","v":-0.18575424759098899},null,{"$f":"N16","v":2112},{"$f":"COUNTIF(L148:L175,AS16)","v":0},{"$f":"AT16/(AV4-AT20)","v":0},{"$f":"IF(AU16=0,0,(AU16*((LOG(AU16))/LOG(2))))","v":0}]
[21,1431,21,1442,11,1451,21,1462,null,null,0,2212,null,2121,{"$f":"COUNTIF($L$7:$L$500,N17)","v":1},{"$f":"O17/$Q$4","v":5.9171597633136093E-3},{"$f":"IF(P17=0,0,(P17*((LOG(P17))/LOG(2))))","v":-4.3792186013504049E-2},null,null,{"$f":"N17","v":2121},{"$f":"COUNTIF(L7:L34,T17)","v":1},{"$f":"U17/(W4-U20)","v":4.3478260869565216E-2},{"$f":"IF(V17=0,0,(V17*((LOG(V17))/LOG(2))))","v":-0.19667660678508753},null,{"$f":"N17","v":2121},{"$f":"COUNTIF(L35:L62,Y17)","v":0},{"$f":"Z17/(AB4-Z20)","v":0},{"$f":"IF(AA17=0,0,(AA17*((LOG(AA17))/LOG(2))))","v":0},null,{"$f":"N17","v":2121},{"$f":"COUNTIF(L63:L91,AD17)","v":0},{"$f":"AE17/(AG4-AE20)","v":0},{"$f":"IF(AF17=0,0,(AF17*((LOG(AF17))/LOG(2))))","v":0},null,{"$f":"N17","v":2121},{"$f":"COUNTIF(L92:L119,AI17)","v":0},{"$f":"AJ17/(AL4-AJ20)","v":0},{"$f":"IF(AK17=0,0,(AK17*((LOG(AK17))/LOG(2))))","v":0},null,{"$f":"N17","v":2121},{"$f":"COUNTIF(L120:L147,AN17)","v":0},{"$f":"AO17/(AQ4-AO20)","v":0},{"$f":"IF(AP17=0,0,(AP17*((LOG(AP17))/LOG(2))))","v":0},null,{"$f":"N17","v":2121},{"$f":"COUNTIF(L148:L175,AS17)","v":0},{"$f":"AT17/(AV4-AT20)","v":0},{"$f":"IF(AU17=0,0,(AU17*((LOG(AU17))/LOG(2))))","v":0}]
[21,1578,12,1592,24,1602,23,1615,null,null,0,2122,null,2122,{"$f":"COUNTIF($L$7:$L$500,N18)","v":58},{"$f":"O18/$Q$4","v":0.34319526627218933},{"$f":"IF(P18=0,0,(P18*((LOG(P18))/LOG(2))))","v":-0.52951544134300299},null,null,{"$f":"N18","v":2122},{"$f":"COUNTIF(L7:L34,T18)","v":8},{"$f":"U18/(W4-U20)","v":0.34782608695652173},{"$f":"IF(V18=0,0,(V18*((LOG(V18))/LOG(2))))","v":-0.52993459341113491},null,{"$f":"N18","v":2122},{"$f":"COUNTIF(L35:L62,Y18)","v":16},{"$f":"Z18/(AB4-Z20)","v":0.66666666666666663},{"$f":"IF(AA18=0,0,(AA18*((LOG(AA18))/LOG(2))))","v":-0.38997500048077083},null,{"$f":"N18","v":2122},{"$f":"COUNTIF(L63:L91,AD18)","v":11},{"$f":"AE18/(AG4-AE20)","v":0.44},{"$f":"IF(AF18=0,0,(AF18*((LOG(AF18))/LOG(2))))","v":-0.52114681130046814},null,{"$f":"N18","v":2122},{"$f":"COUNTIF(L92:L119,AI18)","v":6},{"$f":"AJ18/(AL4-AJ20)","v":0.25},{"$f":"IF(AK18=0,0,(AK18*((LOG(AK18))/LOG(2))))","v":-0.5},null,{"$f":"N18","v":2122},{"$f":"COUNTIF(L120:L147,AN18)","v":9},{"$f":"AO18/(AQ4-AO20)","v":0.36},{"$f":"IF(AP18=0,0,(AP18*((LOG(AP18))/LOG(2))))","v":-0.53061522779966841},null,{"$f":"N18","v":2122},{"$f":"COUNTIF(L148:L175,AS18)","v":8},{"$f":"AT18/(AV4-AT20)","v":0.30769230769230771},{"$f":"IF(AU18=0,0,(AU18*((LOG(AU18))/LOG(2))))","v":-0.52321222096648989}]
[21,1714,21,1720,11,1729,21,1752,null,null,0,2212,null,2211,{"$f":"COUNTIF($L$7:$L$500,N19)","v":0},{"$f":"O19/$Q$4","v":0},{"$f":"IF(P19=0,0,(P19*((LOG(P19))/LOG(2))))","v":0},null,null,{"$f":"N19","v":2211},{"$f":"COUNTIF(L7:L34,T19)","v":0},{"$f":"U19/(W4-U20)","v":0},{"$f":"IF(V19=0,0,(V19*((LOG(V19))/LOG(2))))","v":0},null,{"$f":"N19","v":2211},{"$f":"COUNTIF(L35:L62,Y19)","v":0},{"$f":"Z19/(AB4-Z20)","v":0},{"$f":"IF(AA19=0,0,(AA19*((LOG(AA19))/LOG(2))))","v":0},null,{"$f":"N19","v":2211},{"$f":"COUNTIF(L63:L91,AD19)","v":0},{"$f":"AE19/(AG4-AE20)","v":0},{"$f":"IF(AF19=0,0,(AF19*((LOG(AF19))/LOG(2))))","v":0},null,{"$f":"N19","v":2211},{"$f":"COUNTIF(L92:L119,AI19)","v":0},{"$f":"AJ19/(AL4-AJ20)","v":0},{"$f":"IF(AK19=0,0,(AK19*((LOG(AK19))/LOG(2))))","v":0},null,{"$f":"N19","v":2211},{"$f":"COUNTIF(L120:L147,AN19)","v":0},{"$f":"AO19/(AQ4-AO20)","v":0},{"$f":"IF(AP19=0,0,(AP19*((LOG(AP19))/LOG(2))))","v":0},null,{"$f":"N19","v":2211},{"$f":"COUNTIF(L148:L175,AS19)","v":0},{"$f":"AT19/(AV4-AT20)","v":0},{"$f":"IF(AU19=0,0,(AU19*((LOG(AU19))/LOG(2))))","v":0}]
[21,1892,21,1908,22,1917,23,1929,null,null,0,2222,null,2212,{"$f":"COUNTIF($L$7:$L$500,N20)","v":22},{"$f":"O20/$Q$4","v":0.13017751479289941},{"$f":"IF(P20=0,0,(P20*((LOG(P20))/LOG(2))))","v":-0.38291036679400897},null,null,{"$f":"N20","v":2212},{"$f":"COUNTIF(L7:L34,T20)","v":5},null,null,null,{"$f":"N20","v":2212},{"$f":"COUNTIF(L35:L62,Y20)","v":4},null,null,null,{"$f":"N20","v":2212},{"$f":"COUNTIF(L63:L91,AD20)","v":4},null,null,null,{"$f":"N20","v":2212},{"$f":"COUNTIF(L92:L119,AI20)","v":4},null,null,null,{"$f":"N20","v":2212},{"$f":"COUNTIF(L120:L147,AN20)","v":3},null,null,null,{"$f":"N20","v":2212},{"$f":"COUNTIF(L148:L175,AS20)","v":2}]
[21,2043,21,2053,22,2059,23,2069,null,null,0,2222,null,2221,{"$f":"COUNTIF($L$7:$L$500,N21)","v":0},{"$f":"O21/$Q$4","v":0},{"$f":"IF(P21=0,0,(P21*((LOG(P21))/LOG(2))))","v":0},null,null,{"$f":"N21","v":2221},{"$f":"COUNTIF(L7:L34,T21)","v":0},{"$f":"U21/(W4-U20)","v":0},{"$f":"IF(V21=0,0,(V21*((LOG(V21))/LOG(2))))","v":0},null,{"$f":"N21","v":2221},{"$f":"COUNTIF(L35:L62,Y21)","v":0},{"$f":"Z21/(AB4-Z20)","v":0},{"$f":"IF(AA21=0,0,(AA21*((LOG(AA21))/LOG(2))))","v":0},null,{"$f":"N21","v":2221},{"$f":"COUNTIF(L63:L91,AD21)","v":0},{"$f":"AE21/(AG4-AE20)","v":0},{"$f":"IF(AF21=0,0,(AF21*((LOG(AF21))/LOG(2))))","v":0},null,{"$f":"N21","v":2221},{"$f":"COUNTIF(L92:L119,AI21)","v":0},{"$f":"AJ21/(AL4-AJ20)","v":0},{"$f":"IF(AK21=0,0,(AK21*((LOG(AK21))/LOG(2))))","v":0},null,{"$f":"N21","v":2221},{"$f":"COUNTIF(L120:L147,AN21)","v":0},{"$f":"AO21/(AQ4-AO20)","v":0},{"$f":"IF(AP21=0,0,(AP21*((LOG(AP21))/LOG(2))))","v":0},null,{"$f":"N21","v":2221},{"$f":"COUNTIF(L148:L175,AS21)","v":0},{"$f":"AT21/(AV4-AT20)","v":0},{"$f":"IF(AU21=0,0,(AU21*((LOG(AU21))/LOG(2))))","v":0}]
[21,2165,12,2175,24,2184,23,2193,null,null,0,2122,null,2222,{"$f":"COUNTIF($L$7:$L$500,N22)","v":41},{"$f":"O22/$Q$4","v":0.24260355029585798},{"$f":"IF(P22=0,0,(P22*((LOG(P22))/LOG(2))))","v":-0.49571848933862794},null,null,{"$f":"N22","v":2222},{"$f":"COUNTIF(L7:L34,T22)","v":9},{"$f":"U22/(W4-U20)","v":0.39130434782608697},{"$f":"IF(V22=0,0,(V22*((LOG(V22))/LOG(2))))","v":-0.5296840257187958},null,{"$f":"N22","v":2222},{"$f":"COUNTIF(L35:L62,Y22)","v":3},{"$f":"Z22/(AB4-Z20)","v":0.125},{"$f":"IF(AA22=0,0,(AA22*((LOG(AA22))/LOG(2))))","v":-0.375},null,{"$f":"N22","v":2222},{"$f":"COUNTIF(L63:L91,AD22)","v":11},{"$f":"AE22/(AG4-AE20)","v":0.44},{"$f":"IF(AF22=0,0,(AF22*((LOG(AF22))/LOG(2))))","v":-0.52114681130046814},null,{"$f":"N22","v":2222},{"$f":"COUNTIF(L92:L119,AI22)","v":10},{"$f":"AJ22/(AL4-AJ20)","v":0.41666666666666669},{"$f":"IF(AK22=0,0,(AK22*((LOG(AK22))/LOG(2))))","v":-0.52626433576408083},null,{"$f":"N22","v":2222},{"$f":"COUNTIF(L120:L147,AN22)","v":6},{"$f":"AO22/(AQ4-AO20)","v":0.24},{"$f":"IF(AP22=0,0,(AP22*((LOG(AP22))/LOG(2))))","v":-0.49413448537285637},null,{"$f":"N22","v":2222},{"$f":"COUNTIF(L148:L175,AS22)","v":2},{"$f":"AT22/(AV4-AT20)","v":7.6923076923076927E-2},{"$f":"IF(AU22=0,0,(AU22*((LOG(AU22))/LOG(2))))","v":-0.28464920908777636}]
[12,2301,23,2308,24,2317,23,2325,null,null,0,1222,null,null,null,{"$f":"SUM(P7:P22)","v":1},{"$f":"-SUM(Q7:Q22)","v":2.3145849195853119},null,null,null,null,{"$f":"SUM(V7:V22)","v":1},{"$f":"-SUM(W7:W22)","v":1.7349112826910293},null,null,null,{"$f":"SUM(AA7:AA22)","v":1},{"$f":"-SUM(AB7:AB22)","v":1.3868421881310118},null,null,null,{"$f":"SUM(AF7:AF22)","v":1},{"$f":"-SUM(AG7:AG22)","v":1.4093608652873644},null,null,null,{"$f":"SUM(AK7:AK22)","v":1},{"$f":"-SUM(AL7:AL22)","v":1.7357733170709984},null,null,null,{"$f":"SUM(AP7:AP22)","v":1},{"$f":"-SUM(AQ7:AQ22)","v":2.2277110700184033},null,null,null,{"$f":"SUM(AU7:AU22)","v":1},{"$f":"-SUM(AV7:AV22)","v":2.0215364698948144}]
[21,2441,21,2447,22,2453,23,2463,null,null,0,2222,null,null,null,"U=",{"$f":"Q23/(LOG(Q4)/LOG(2))","v":0.31274457846702047},null,null,null,null,"U1=",{"$f":"W23/(LOG(W4)/LOG(2))","v":0.36088687247341145},null,null,null,"U2=",{"$f":"AB23/(LOG(AB4)/LOG(2))","v":0.28848341980488246},null,null,null,"U3=",{"$f":"AG23/(LOG(AG4)/LOG(2))","v":0.29011246991310102},null,null,null,"U4=",{"$f":"AL23/(LOG(AL4)/LOG(2))","v":0.36106618820814401},null,null,null,"U5=",{"$f":"AQ23/(LOG(AQ4)/LOG(2))","v":0.46339642196938458},null,null,null,"U6=",{"$f":"AV23/(LOG(AV4)/LOG(2))","v":0.42050909547356102}]
[21,2561,21,2566,11,2575,21,2589,null,null,0,2212]
[21,2722,12,2732,24,2765,23,2773,null,null,0,2122]
[21,2870,12,2885,24,2903,14,2951,null,null,0,2121,null,"Total Target Seq"]
[21,3050,12,3076,24,3090,23,3105,null,null,0,2122,null,{"$f":"COUNTIF(L7:L175,G3)","v":22},null,28,28,29,28,28,28]
[21,3207,12,3215,24,3222,23,3224,null,null,0,2122,null,null,null,"% of reinforcement given in 6 equal intervals based on number of trials "]
[21,3323,21,3336,11,3345,21,3372,null,null,0,2212,null,null,null,"%_1","%_2","%_3","%_4","%_5","%_6"]
[12,3521,23,3530,24,3539,23,3554,null,null,0,1222,null,null,"target sequence",{"$f":"$G$3","v":2212},{"$f":"$G$3","v":2212},{"$f":"$G$3","v":2212},{"$f":"$G$3","v":2212},{"$f":"$G$3","v":2212},{"$f":"$G$3","v":2212}]
[21,3652,21,3657,11,3664,21,3672,null,null,0,2212,null,null,"total reinforcement",{"$f":"U20","v":5},{"$f":"Z20","v":4},{"$f":"AE20","v":4},{"$f":"AJ20","v":4},{"$f":"AO20","v":3},{"$f":"AT20","v":2}]
[21,3777,21,3801,22,3820,23,3825,null,null,0,2222,null,null,"% target"]
[21,3923,12,3943,24,3975,23,3985,null,null,0,2122,null,null,"CCRF"]
[21,4083,12,4097,24,4114,23,4125,null,null,0,2122,null,null,"% CCRf"]
[21,4222,21,4244,22,4252,23,4261,null,null,0,2222,null,null,"average response rate",{"$f":"H34/P28","v":142.32142857142858},{"$f":"(H62-H34)/Q28","v":137.35714285714286},{"$f":"(H91-H62)/R28","v":141.72413793103448},{"$f":"(H119-H91)/S28","v":143.57142857142858},{"$f":"(H147-H119)/T28","v":143.53571428571428},{"$f":"(H175-H147)/U28","v":139.78571428571428}]
[21,4360,12,4374,24,4384,23,4393,null,null,0,2122]
[21,4490,21,4495,11,4503,21,4511,null,null,0,2212]
[12,4715,23,4724,24,4731,23,4737,null,null,0,1222]
[21,4836,12,4850,24,4859,23,4867,null,null,0,2122]
[21,4965,12,4974,24,4989,23,4999,null,null,0,2122]
[21,5101,12,5108,24,5124,23,5140,null,null,0,2122]
[21,5237,21,5242,11,5253,21,5261,null,null,0,2212]
[21,5406,21,5411,22,5429,23,5437,null,null,0,2222]
[21,5534,12,5547,24,5559,23,5565,null,null,0,2122]
[21,5663,12,5676,24,5685,23,5691,null,null,0,2122]
[21,5787,21,5792,11,5800,21,5809,null,null,0,2212]
[21,5916,12,5926,24,5937,23,5945,null,null,0,2122]
[21,6041,12,6052,24,6061,23,6068,null,null,0,2122]
[12,6174,23,6190,24,6200,23,6209,null,null,0,1222]
[21,6307,12,6320,24,6336,23,6347,null,null,0,2122]
[12,6455,23,6468,24,6483,23,6491,null,null,0,1222]
[21,6588,12,6596,24,6604,23,6611,null,null,0,2122]
[12,6715,14,6725,24,6735,23,6744,null,null,0,1122]
[21,6840,12,6848,24,6866,23,6871,null,null,0,2122]
[21,6969,12,6983,24,7004,23,7020,null,null,0,2122]
[21,7116,12,7127,24,7137,23,7145,null,null,0,2122]
[12,7273,23,7281,24,7285,23,7290,null,null,0,1222]
[21,7387,21,7392,22,7420,23,7432,null,null,0,2222]
[21,7529,21,7534,11,7541,21,7563,null,null,0,2212]
[21,7664,12,7671,24,7678,23,7692,null,null,0,2122]
[21,7790,12,7805,24,7814,23,7831,null,null,0,2122]
[21,7932,21,7951,22,7956,23,7962,null,null,0,2222]
[21,8060,21,8066,22,8081,23,8086,null,null,0,2222]
[21,8184,21,8189,11,8198,21,8205,null,null,0,2212]
[21,8320,21,8325,22,8342,23,8348,null,null,0,2222]
[21,8445,12,8463,24,8473,23,8481,null,null,0,2122]
[21,8577,21,8584,22,8602,23,8612,null,null,0,2222]
[21,8709,21,8716,11,8725,21,8741,null,null,0,2212]
[21,8871,12,8887,24,8895,23,8901,null,null,0,2122]
[12,9011,23,9020,24,9040,23,9047,null,null,0,1222]
[21,9144,21,9149,11,9161,21,9185,null,null,0,2212]
[21,9317,12,9331,24,9366,23,9377,null,null,0,2122]
[12,9486,23,9496,24,9508,23,9516,null,null,0,1222]
[21,9612,12,9621,24,9647,23,9668,null,null,0,2122]
[21,9765,12,9774,24,9782,23,9794,null,null,0,2122]
[21,9891,12,9905,24,9913,23,9927,null,null,0,2122]
[21,10025,21,10026,22,10046,23,10054,null,null,0,2222]
[21,10155,21,10170,22,10175,23,10185,null,null,0,2222]
[12,10293,23,10300,24,10308,23,10322,null,null,0,1222]
[21,10420,21,10434,22,10445,23,10453,null,null,0,2222]
[21,10552,21,10570,22,10579,23,10590,null,null,0,2222]
[21,10693,21,10710,22,10727,23,10741,null,null,0,2222]
[21,10839,12,10849,24,10857,23,10864,null,null,0,2122]
[21,10961,21,10970,11,10978,21,10986,null,null,0,2212]
[21,11230,21,11234,22,11243,23,11251,null,null,0,2222]
[21,11349,12,11366,24,11375,23,11388,null,null,0,2122]
[21,11487,12,11499,24,11521,23,11538,null,null,0,2122]
[21,11654,21,11660,22,11670,23,11678,null,null,0,2222]
[21,11774,12,11788,24,11797,23,11813,null,null,0,2122]
[21,11909,12,11921,24,11929,23,11941,null,null,0,2122]
[21,12040,21,12044,22,12064,23,12077,null,null,0,2222]
[12,12184,23,12192,24,12195,23,12202,null,null,0,1222]
[21,12300,21,12305,11,12314,21,12323,null,null,0,2212]
[21,12485,21,12516,22,12524,23,12534,null,null,0,2222]
[21,12633,21,12663,22,12678,23,12685,null,null,0,2222]
[21,12781,21,12785,11,12796,21,12818,null,null,0,2212]
[21,12934,21,12938,22,12955,23,12961,null,null,0,2222]
[21,13057,21,13078,22,13084,23,13094,null,null,0,2222]
[12,13199,23,13208,24,13221,23,13233,null,null,0,1222]
[12,13340,23,13352,24,13364,23,13372,null,null,0,1222]
[21,13469,12,13477,24,13486,23,13490,null,null,0,2122]
[21,13586,12,13598,24,13606,23,13620,null,null,0,2122]
[21,13718,21,13722,11,13731,21,13739,null,null,0,2212]
[21,13842,21,13847,22,13862,23,13869,null,null,0,2222]
[21,13965,12,13976,24,13992,23,14014,null,null,0,2122]
[21,14114,12,14126,24,14133,23,14150,null,null,0,2122]
[12,14258,23,14266,24,14283,23,14290,null,null,0,1222]
[21,14386,12,14394,24,14404,23,14413,null,null,0,2122]
[21,14512,21,14533,22,14540,23,14557,null,null,0,2222]
[12,14664,23,14707,24,14726,23,14733,null,null,0,1222]
[12,14843,23,14852,24,14860,23,14869,null,null,0,1222]
[21,14969,12,14976,24,14993,23,15000,null,null,0,2122]
[21,15099,21,15118,22,15126,23,15133,null,null,0,2222]
[21,15229,21,15244,22,15250,23,15261,null,null,0,2222]
[12,15369,23,15379,24,15388,23,15394,null,null,0,1222]
[21,15491,21,15494,11,15503,21,15514,null,null,0,2212]
[21,15803,21,15806,22,15812,23,15820,null,null,0,2222]
[21,15918,12,15926,13,15934,23,15961,null,null,0,2112]
[12,16063,23,16079,24,16090,23,16097,null,null,0,1222]
[12,16208,23,16217,24,16225,23,16247,null,null,0,1222]
[21,16345,12,16354,24,16404,23,16421,null,null,0,2122]
[21,16520,12,16532,24,16539,23,16550,null,null,0,2122]
[21,16647,21,16668,22,16675,23,16681,null,null,0,2222]
[21,16778,21,16805,22,16826,23,16831,null,null,0,2222]
[21,16930,12,16943,24,16957,23,16976,null,null,0,2122]
[12,17079,23,17088,24,17092,23,17104,null,null,0,1222]
[12,17200,14,17202,24,17208,23,17212,null,null,0,1122]
[21,17320,21,17343,22,17356,23,17361,null,null,0,2222]
[21,17458,12,17466,24,17473,23,17477,null,null,0,2122]
[21,17573,21,17576,22,17591,23,17601,null,null,0,2222]
[21,17698,21,17703,11,17713,21,17720,null,null,0,2212]
[21,17906,21,17912,11,17980,21,17993,null,null,0,2212]
[12,18198,23,18206,24,18212,14,18293,null,null,0,1221]
[21,18389,21,18403,22,18407,23,18413,null,null,0,2222]
[21,18508,12,18518,24,18526,23,18532,null,null,0,2122]
[21,18630,12,18639,24,18647,23,18656,null,null,0,2122]
[12,18759,14,18769,24,18777,23,18789,null,null,0,1122]
[12,18891,23,18903,24,18910,23,18917,null,null,0,1222]
[21,19014,12,19024,24,19032,23,19051,null,null,0,2122]
[21,19150,12,19161,24,19169,23,19177,null,null,0,2122]
[21,19274,12,19282,13,19287,23,19314,null,null,0,2112]
[12,19447,23,19458,24,19464,23,19471,null,null,0,1222]
[21,19568,21,19583,22,19587,23,19593,null,null,0,2222]
[12,19700,14,19709,24,19718,23,19724,null,null,0,1122]
[21,19822,12,19829,24,19840,23,19844,null,null,0,2122]
[21,19941,21,19947,11,19955,21,19980,null,null,0,2212]
[12,20092,23,20103,24,20110,23,20117,null,null,0,1222]
[12,20220,14,20226,24,20234,23,20238,null,null,0,1122]
[12,20342,14,20346,24,20356,23,20360,null,null,0,1122]
[21,20475,12,20482,24,20498,23,20504,null,null,0,2122]
[21,20605,12,20617,24,20641,23,20657,null,null,0,2122]
[21,20754,21,20759,11,20768,21,20797,null,null,0,2212]
[12,20936,14,20938,24,20944,23,20951,null,null,0,1122]
[12,21053,14,21061,24,21077,23,21094,null,null,0,1122]
[21,21192,12,21204,24,21242,23,21250,null,null,0,2122]
[12,21355,23,21363,24,21371,23,21377,null,null,0,1222]
[12,21482,23,21493,24,21498,23,21506,null,null,0,1222]
[12,21611,23,21625,24,21631,14,21664,null,null,0,1221]
[21,21761,12,21771,24,21781,23,21785,null,null,0,2122]
[12,21896,23,21906,24,21918,23,21926,null,null,0,1222]
[21,22025,12,22036,24,22044,23,22062,null,null,0,2122]
[12,22169,23,22186,24,22190,23,22197,null,null,0,1222]
[12,22300,14,22307,24,22314,23,22318,null,null,0,1122]
[21,22417,12,22425,24,22439,23,22453,null,null,0,2122]
[21,22553,12,22560,24,22570,23,22582,null,null,0,2122]
[21,22681,21,22685,22,22702,23,22710,null,null,0,2222]
[12,22812,14,22815,24,22824,23,22828,null,null,0,1122]
[12,22930,23,22946,24,22958,23,22970,null,null,0,1222]
[12,23074,14,23079,24,23086,23,23090,null,null,0,1122]
[21,23187,12,23201,24,23210,23,23227,null,null,0,2122]
[12,23330,23,23339,24,23343,23,23349,null,null,0,1222]
[21,23446,21,23451,11,23460,21,23501,null,null,0,2212]
[12,23747,23,23756,24,23760,23,23771,null,null,0,1222]
[21,23878,21,23881,22,23887,23,23894,null,null,0,2222]

{"sheet":"!LC04B04..Is","index":27,"n_rows":174,"n_cols":48,"rows_kept":174,"cut":false,"hidden":false,"merged":[[4,39,4,42],[5,39,5,40],[4,44,4,47],[5,44,5,45],[4,24,4,27],[5,24,5,25],[4,29,4,32],[5,29,5,30],[4,34,4,37],[5,34,5,35],[1,1,1,2],[5,13,5,14],[26,13,26,14],[27,13,27,14],[4,19,4,22],[5,19,5,20]]}
["Report for:!LC04B04..Is"]
["Date:","<date>"]
["Hen:","<hen>",null,null,null,"Correct Sequence",{"$f":"Start!J2","v":2212},null,null,null,null,null,null,null,null,"Total Sequences in Data",{"$f":"4994-COUNTBLANK(L7:L5000)","v":168},null,null,null,null,"Total Sequences in Block Data",{"$f":"COUNTA(L7:L34)","v":28},null,null,null,"Total Sequences in Block Data",{"$f":"COUNTA(L35:L62)","v":28},null,null,null,"Total Sequences in Block Data",{"$f":"COUNTA(L63:L90)","v":28},null,null,null,"Total Sequences in Block Data",{"$f":"COUNTA(L91:L118)","v":28},null,null,null,"Total Sequences in Block Data",{"$f":"COUNTA(L119:L146)","v":28},null,null,null,"Total Sequences in Block Data",{"$f":"COUNTA(L147:L174)","v":28}]
[null,null,null,null,null,null,null,null,null,null,null,null,null,null,null,"Total Sequences in Summary",{"$f":"SUM(O7:O22)","v":167},null,null,null,null,"Total Sequences in Block Summary",{"$f":"SUM(U7:U22)","v":28},null,null,null,"Total Sequences in Block Summary",{"$f":"SUM(Z7:Z22)","v":28},null,null,null,"Total Sequences in Block Summary",{"$f":"SUM(AE7:AE22)","v":28},null,null,null,"Total Sequences in Block Summary",{"$f":"SUM(AJ7:AJ22)","v":28},null,null,null,"Total Sequences in Block Summary",{"$f":"SUM(AO7:AO22)","v":28},null,null,null,"Total Sequences in Block Summary",{"$f":"SUM(AT7:AT22)","v":27}]
[null,null,null,null,null,null,null,null,null,null,null,null,null,null,null,null,null,null,null,"Block 1",null,null,null,null,"Block 2",null,null,null,null,"Block 3",null,null,null,null,"Block 4",null,null,null,null,"Block 5",null,null,null,null,"Block 6"]
["Sequence\nComponent\n1","Time\n1","Sequence\nComponent\n2","Time\n2","Sequence\nComponent\n3","Time\n3","Sequence\nComponent\n4","Time\n4","Sequence\nComponent\n5","Time\n5","Correct?\n0=No 1=Yes","Sequence",null,"Frequency",null,"Relative Frequency","Variability",null,null,"Frequency",null,"Relative Frequency","Variability",null,"Frequency",null,"Relative Frequency","Variability",null,"Frequency",null,"Relative Frequency","Variability",null,"Frequency",null,"Relative Frequency","Variability",null,"Frequency",null,"Relative Frequency","Variability",null,"Frequency",null,"Relative Frequency","Variability"]
[21,145,21,150,22,155,23,160,null,null,0,2222,null,1111,{"$f":"COUNTIF($L$7:$L$500,N7)","v":0},{"$f":"O7/$Q$4","v":0},{"$f":"IF(P7=0,0,(P7*((LOG(P7))/LOG(2))))","v":0},null,null,{"$f":"N7","v":1111},{"$f":"COUNTIF(L7:L34,T7)","v":0},{"$f":"U7/(W4-U20)","v":0},{"$f":"IF(V7=0,0,(V7*((LOG(V7))/LOG(2))))","v":0},null,{"$f":"N7","v":1111},{"$f":"COUNTIF(L35:L62,Y7)","v":0},{"$f":"Z7/(AB4-Z20)","v":0},{"$f":"IF(AA7=0,0,(AA7*((LOG(AA7))/LOG(2))))","v":0},null,{"$f":"N7","v":1111},{"$f":"COUNTIF(L63:L90,AD7)","v":0},{"$f":"AE7/(AG4-AE20)","v":0},{"$f":"IF(AF7=0,0,(AF7*((LOG(AF7))/LOG(2))))","v":0},null,{"$f":"N7","v":1111},{"$f":"COUNTIF(L91:L118,AI7)","v":0},{"$f":"AJ7/(AL4-AJ20)","v":0},{"$f":"IF(AK7=0,0,(AK7*((LOG(AK7))/LOG(2))))","v":0},null,{"$f":"N7","v":1111},{"$f":"COUNTIF(L119:L146,AN7)","v":0},{"$f":"AO7/(AQ4-AO20)","v":0},{"$f":"IF(AP7=0,0,(AP7*((LOG(AP7))/LOG(2))))","v":0},null,{"$f":"N7","v":1111},{"$f":"COUNTIF(L147:L174,AS7)","v":0},{"$f":"AT7/(AV4-AT20)","v":0},{"$f":"IF(AU7=0,0,(AU7*((LOG(AU7))/LOG(2))))","v":0}]
[21,292,21,302,22,309,23,315,null,null,0,2222,null,1112,{"$f":"COUNTIF($L$7:$L$500,N8)","v":0},{"$f":"O8/$Q$4","v":0},{"$f":"IF(P8=0,0,(P8*((LOG(P8))/LOG(2))))","v":0},null,null,{"$f":"N8","v":1112},{"$f":"COUNTIF(L7:L34,T8)","v":0},{"$f":"U8/(W4-U20)","v":0},{"$f":"IF(V8=0,0,(V8*((LOG(V8))/LOG(2))))","v":0},null,{"$f":"N8","v":1112},{"$f":"COUNTIF(L35:L62,Y8)","v":0},{"$f":"Z8/(AB4-Z20)","v":0},{"$f":"IF(AA8=0,0,(AA8*((LOG(AA8))/LOG(2))))","v":0},null,{"$f":"N8","v":1112},{"$f":"COUNTIF(L63:L90,AD8)","v":0},{"$f":"AE8/(AG4-AE20)","v":0},{"$f":"IF(AF8=0,0,(AF8*((LOG(AF8))/LOG(2))))","v":0},null,{"$f":"N8","v":1112},{"$f":"COUNTIF(L91:L118,AI8)","v":0},{"$f":"AJ8/(AL4-AJ20)","v":0},{"$f":"IF(AK8=0,0,(AK8*((LOG(AK8))/LOG(2))))","v":0},null,{"$f":"N8","v":1112},{"$f":"COUNTIF(L119:L146,AN8)","v":0},{"$f":"AO8/(AQ4-AO20)","v":0},{"$f":"IF(AP8=0,0,(AP8*((LOG(AP8))/LOG(2))))","v":0},null,{"$f":"N8","v":1112},{"$f":"COUNTIF(L147:L174,AS8)","v":0},{"$f":"AT8/(AV4-AT20)","v":0},{"$f":"IF(AU8=0,0,(AU8*((LOG(AU8))/LOG(2))))","v":0}]
[21,414,21,418,22,442,23,450,null,null,0,2222,null,1121,{"$f":"COUNTIF($L$7:$L$500,N9)","v":0},{"$f":"O9/$Q$4","v":0},{"$f":"IF(P9=0,0,(P9*((LOG(P9))/LOG(2))))","v":0},null,null,{"$f":"N9","v":1121},{"$f":"COUNTIF(L7:L34,T9)","v":0},{"$f":"U9/(W4-U20)","v":0},{"$f":"IF(V9=0,0,(V9*((LOG(V9))/LOG(2))))","v":0},null,{"$f":"N9","v":1121},{"$f":"COUNTIF(L35:L62,Y9)","v":0},{"$f":"Z9/(AB4-Z20)","v":0},{"$f":"IF(AA9=0,0,(AA9*((LOG(AA9))/LOG(2))))","v":0},null,{"$f":"N9","v":1121},{"$f":"COUNTIF(L63:L90,AD9)","v":0},{"$f":"AE9/(AG4-AE20)","v":0},{"$f":"IF(AF9=0,0,(AF9*((LOG(AF9))/LOG(2))))","v":0},null,{"$f":"N9","v":1121},{"$f":"COUNTIF(L91:L118,AI9)","v":0},{"$f":"AJ9/(AL4-AJ20)","v":0},{"$f":"IF(AK9=0,0,(AK9*((LOG(AK9))/LOG(2))))","v":0},null,{"$f":"N9","v":1121},{"$f":"COUNTIF(L119:L146,AN9)","v":0},{"$f":"AO9/(AQ4-AO20)","v":0},{"$f":"IF(AP9=0,0,(AP9*((LOG(AP9))/LOG(2))))","v":0},null,{"$f":"N9","v":1121},{"$f":"COUNTIF(L147:L174,AS9)","v":0},{"$f":"AT9/(AV4-AT20)","v":0},{"$f":"IF(AU9=0,0,(AU9*((LOG(AU9))/LOG(2))))","v":0}]
[21,552,21,565,22,571,23,576,null,null,0,2222,null,1122,{"$f":"COUNTIF($L$7:$L$500,N10)","v":9},{"$f":"O10/$Q$4","v":5.3892215568862277E-2},{"$f":"IF(P10=0,0,(P10*((LOG(P10))/LOG(2))))","v":-0.22708990191189019},null,null,{"$f":"N10","v":1122},{"$f":"COUNTIF(L7:L34,T10)","v":1},{"$f":"U10/(W4-U20)","v":3.7037037037037035E-2},{"$f":"IF(V10=0,0,(V10*((LOG(V10))/LOG(2))))","v":-0.1761069445245729},null,{"$f":"N10","v":1122},{"$f":"COUNTIF(L35:L62,Y10)","v":3},{"$f":"Z10/(AB4-Z20)","v":0.12},{"$f":"IF(AA10=0,0,(AA10*((LOG(AA10))/LOG(2))))","v":-0.36706724268642821},null,{"$f":"N10","v":1122},{"$f":"COUNTIF(L63:L90,AD10)","v":0},{"$f":"AE10/(AG4-AE20)","v":0},{"$f":"IF(AF10=0,0,(AF10*((LOG(AF10))/LOG(2))))","v":0},null,{"$f":"N10","v":1122},{"$f":"COUNTIF(L91:L118,AI10)","v":1},{"$f":"AJ10/(AL4-AJ20)","v":4.3478260869565216E-2},{"$f":"IF(AK10=0,0,(AK10*((LOG(AK10))/LOG(2))))","v":-0.19667660678508753},null,{"$f":"N10","v":1122},{"$f":"COUNTIF(L119:L146,AN10)","v":2},{"$f":"AO10/(AQ4-AO20)","v":8.6956521739130432E-2},{"$f":"IF(AP10=0,0,(AP10*((LOG(AP10))/LOG(2))))","v":-0.30639669183104457},null,{"$f":"N10","v":1122},{"$f":"COUNTIF(L147:L174,AS10)","v":2},{"$f":"AT10/(AV4-AT20)","v":9.0909090909090912E-2},{"$f":"IF(AU10=0,0,(AU10*((LOG(AU10))/LOG(2))))","v":-0.31449378351248153}]
[21,673,12,686,24,706,23,716,null,null,0,2122,null,1211,{"$f":"COUNTIF($L$7:$L$500,N11)","v":0},{"$f":"O11/$Q$4","v":0},{"$f":"IF(P11=0,0,(P11*((LOG(P11))/LOG(2))))","v":0},null,null,{"$f":"N11","v":1211},{"$f":"COUNTIF(L7:L34,T11)","v":0},{"$f":"U11/(W4-U20)","v":0},{"$f":"IF(V11=0,0,(V11*((LOG(V11))/LOG(2))))","v":0},null,{"$f":"N11","v":1211},{"$f":"COUNTIF(L35:L62,Y11)","v":0},{"$f":"Z11/(AB4-Z20)","v":0},{"$f":"IF(AA11=0,0,(AA11*((LOG(AA11))/LOG(2))))","v":0},null,{"$f":"N11","v":1211},{"$f":"COUNTIF(L63:L90,AD11)","v":0},{"$f":"AE11/(AG4-AE20)","v":0},{"$f":"IF(AF11=0,0,(AF11*((LOG(AF11))/LOG(2))))","v":0},null,{"$f":"N11","v":1211},{"$f":"COUNTIF(L91:L118,AI11)","v":0},{"$f":"AJ11/(AL4-AJ20)","v":0},{"$f":"IF(AK11=0,0,(AK11*((LOG(AK11))/LOG(2))))","v":0},null,{"$f":"N11","v":1211},{"$f":"COUNTIF(L119:L146,AN11)","v":0},{"$f":"AO11/(AQ4-AO20)","v":0},{"$f":"IF(AP11=0,0,(AP11*((LOG(AP11))/LOG(2))))","v":0},null,{"$f":"N11","v":1211},{"$f":"COUNTIF(L147:L174,AS11)","v":0},{"$f":"AT11/(AV4-AT20)","v":0},{"$f":"IF(AU11=0,0,(AU11*((LOG(AU11))/LOG(2))))","v":0}]
[21,842,21,859,22,861,23,866,null,null,0,2222,null,1212,{"$f":"COUNTIF($L$7:$L$500,N12)","v":0},{"$f":"O12/$Q$4","v":0},{"$f":"IF(P12=0,0,(P12*((LOG(P12))/LOG(2))))","v":0},null,null,{"$f":"N12","v":1212},{"$f":"COUNTIF(L7:L34,T12)","v":0},{"$f":"U12/(W4-U20)","v":0},{"$f":"IF(V12=0,0,(V12*((LOG(V12))/LOG(2))))","v":0},null,{"$f":"N12","v":1212},{"$f":"COUNTIF(L35:L62,Y12)","v":0},{"$f":"Z12/(AB4-Z20)","v":0},{"$f":"IF(AA12=0,0,(AA12*((LOG(AA12))/LOG(2))))","v":0},null,{"$f":"N12","v":1212},{"$f":"COUNTIF(L63:L90,AD12)","v":0},{"$f":"AE12/(AG4-AE20)","v":0},{"$f":"IF(AF12=0,0,(AF12*((LOG(AF12))/LOG(2))))","v":0},null,{"$f":"N12","v":1212},{"$f":"COUNTIF(L91:L118,AI12)","v":0},{"$f":"AJ12/(AL4-AJ20)","v":0},{"$f":"IF(AK12=0,0,(AK12*((LOG(AK12))/LOG(2))))","v":0},null,{"$f":"N12","v":1212},{"$f":"COUNTIF(L119:L146,AN12)","v":0},{"$f":"AO12/(AQ4-AO20)","v":0},{"$f":"IF(AP12=0,0,(AP12*((LOG(AP12))/LOG(2))))","v":0},null,{"$f":"N12","v":1212},{"$f":"COUNTIF(L147:L174,AS12)","v":0},{"$f":"AT12/(AV4-AT20)","v":0},{"$f":"IF(AU12=0,0,(AU12*((LOG(AU12))/LOG(2))))","v":0}]
[21,963,12,972,24,979,23,983,null,null,0,2122,null,1221,{"$f":"COUNTIF($L$7:$L$500,N13)","v":1},{"$f":"O13/$Q$4","v":5.9880239520958087E-3},{"$f":"IF(P13=0,0,(P13*((LOG(P13))/LOG(2))))","v":-4.4213798158527259E-2},null,null,{"$f":"N13","v":1221},{"$f":"COUNTIF(L7:L34,T13)","v":0},{"$f":"U13/(W4-U20)","v":0},{"$f":"IF(V13=0,0,(V13*((LOG(V13))/LOG(2))))","v":0},null,{"$f":"N13","v":1221},{"$f":"COUNTIF(L35:L62,Y13)","v":0},{"$f":"Z13/(AB4-Z20)","v":0},{"$f":"IF(AA13=0,0,(AA13*((LOG(AA13))/LOG(2))))","v":0},null,{"$f":"N13","v":1221},{"$f":"COUNTIF(L63:L90,AD13)","v":1},{"$f":"AE13/(AG4-AE20)","v":4.3478260869565216E-2},{"$f":"IF(AF13=0,0,(AF13*((LOG(AF13))/LOG(2))))","v":-0.19667660678508753},null,{"$f":"N13","v":1221},{"$f":"COUNTIF(L91:L118,AI13)","v":0},{"$f":"AJ13/(AL4-AJ20)","v":0},{"$f":"IF(AK13=0,0,(AK13*((LOG(AK13))/LOG(2))))","v":0},null,{"$f":"N13","v":1221},{"$f":"COUNTIF(L119:L146,AN13)","v":0},{"$f":"AO13/(AQ4-AO20)","v":0},{"$f":"IF(AP13=0,0,(AP13*((LOG(AP13))/LOG(2))))","v":0},null,{"$f":"N13","v":1221},{"$f":"COUNTIF(L147:L174,AS13)","v":0},{"$f":"AT13/(AV4-AT20)","v":0},{"$f":"IF(AU13=0,0,(AU13*((LOG(AU13))/LOG(2))))","v":0}]
[21,1079,21,1121,22,1130,23,1138,null,null,0,2222,null,1222,{"$f":"COUNTIF($L$7:$L$500,N14)","v":28},{"$f":"O14/$Q$4","v":0.16766467065868262},{"$f":"IF(P14=0,0,(P14*((LOG(P14))/LOG(2))))","v":-0.4319627686925781},null,null,{"$f":"N14","v":1222},{"$f":"COUNTIF(L7:L34,T14)","v":5},{"$f":"U14/(W4-U20)","v":0.18518518518518517},{"$f":"IF(V14=0,0,(V14*((LOG(V14))/LOG(2))))","v":-0.45054803838446406},null,{"$f":"N14","v":1222},{"$f":"COUNTIF(L35:L62,Y14)","v":6},{"$f":"Z14/(AB4-Z20)","v":0.24},{"$f":"IF(AA14=0,0,(AA14*((LOG(AA14))/LOG(2))))","v":-0.49413448537285637},null,{"$f":"N14","v":1222},{"$f":"COUNTIF(L63:L90,AD14)","v":7},{"$f":"AE14/(AG4-AE20)","v":0.30434782608695654},{"$f":"IF(AF14=0,0,(AF14*((LOG(AF14))/LOG(2))))","v":-0.52232387991286355},null,{"$f":"N14","v":1222},{"$f":"COUNTIF(L91:L118,AI14)","v":3},{"$f":"AJ14/(AL4-AJ20)","v":0.13043478260869565},{"$f":"IF(AK14=0,0,(AK14*((LOG(AK14))/LOG(2))))","v":-0.3832955811307639},null,{"$f":"N14","v":1222},{"$f":"COUNTIF(L119:L146,AN14)","v":3},{"$f":"AO14/(AQ4-AO20)","v":0.13043478260869565},{"$f":"IF(AP14=0,0,(AP14*((LOG(AP14))/LOG(2))))","v":-0.3832955811307639},null,{"$f":"N14","v":1222},{"$f":"COUNTIF(L147:L174,AS14)","v":4},{"$f":"AT14/(AV4-AT20)","v":0.18181818181818182},{"$f":"IF(AU14=0,0,(AU14*((LOG(AU14))/LOG(2))))","v":-0.44716938520678134}]
[21,1234,21,1239,22,1256,23,1266,null,null,0,2222,null,2111,{"$f":"COUNTIF($L$7:$L$500,N15)","v":0},{"$f":"O15/$Q$4","v":0},{"$f":"IF(P15=0,0,(P15*((LOG(P15))/LOG(2))))","v":0},null,null,{"$f":"N15","v":2111},{"$f":"COUNTIF(L7:L34,T15)","v":0},{"$f":"U15/(W4-U20)","v":0},{"$f":"IF(V15=0,0,(V15*((LOG(V15))/LOG(2))))","v":0},null,{"$f":"N15","v":2111},{"$f":"COUNTIF(L35:L62,Y15)","v":0},{"$f":"Z15/(AB4-Z20)","v":0},{"$f":"IF(AA15=0,0,(AA15*((LOG(AA15))/LOG(2))))","v":0},null,{"$f":"N15","v":2111},{"$f":"COUNTIF(L63:L90,AD15)","v":0},{"$f":"AE15/(AG4-AE20)","v":0},{"$f":"IF(AF15=0,0,(AF15*((LOG(AF15))/LOG(2))))","v":0},null,{"$f":"N15","v":2111},{"$f":"COUNTIF(L91:L118,AI15)","v":0},{"$f":"AJ15/(AL4-AJ20)","v":0},{"$f":"IF(AK15=0,0,(AK15*((LOG(AK15))/LOG(2))))","v":0},null,{"$f":"N15","v":2111},{"$f":"COUNTIF(L119:L146,AN15)","v":0},{"$f":"AO15/(AQ4-AO20)","v":0},{"$f":"IF(AP15=0,0,(AP15*((LOG(AP15))/LOG(2))))","v":0},null,{"$f":"N15","v":2111},{"$f":"COUNTIF(L147:L174,AS15)","v":0},{"$f":"AT15/(AV4-AT20)","v":0},{"$f":"IF(AU15=0,0,(AU15*((LOG(AU15))/LOG(2))))","v":0}]
[21,1366,21,1375,11,1383,21,1410,null,null,0,2212,null,2112,{"$f":"COUNTIF($L$7:$L$500,N16)","v":3},{"$f":"O16/$Q$4","v":1.7964071856287425E-2},{"$f":"IF(P16=0,0,(P16*((LOG(P16))/LOG(2))))","v":-0.10416901422310591},null,null,{"$f":"N16","v":2112},{"$f":"COUNTIF(L7:L34,T16)","v":0},{"$f":"U16/(W4-U20)","v":0},{"$f":"IF(V16=0,0,(V16*((LOG(V16))/LOG(2))))","v":0},null,{"$f":"N16","v":2112},{"$f":"COUNTIF(L35:L62,Y16)","v":0},{"$f":"Z16/(AB4-Z20)","v":0},{"$f":"IF(AA16=0,0,(AA16*((LOG(AA16))/LOG(2))))","v":0},null,{"$f":"N16","v":2112},{"$f":"COUNTIF(L63:L90,AD16)","v":3},{"$f":"AE16/(AG4-AE20)","v":0.13043478260869565},{"$f":"IF(AF16=0,0,(AF16*((LOG(AF16))/LOG(2))))","v":-0.3832955811307639},null,{"$f":"N16","v":2112},{"$f":"COUNTIF(L91:L118,AI16)","v":0},{"$f":"AJ16/(AL4-AJ20)","v":0},{"$f":"IF(AK16=0,0,(AK16*((LOG(AK16))/LOG(2))))","v":0},null,{"$f":"N16","v":2112},{"$f":"COUNTIF(L119:L146,AN16)","v":0},{"$f":"AO16/(AQ4-AO20)","v":0},{"$f":"IF(AP16=0,0,(AP16*((LOG(AP16))/LOG(2))))","v":0},null,{"$f":"N16","v":2112},{"$f":"COUNTIF(L147:L174,AS16)","v":0},{"$f":"AT16/(AV4-AT20)","v":0},{"$f":"IF(AU16=0,0,(AU16*((LOG(AU16))/LOG(2))))","v":0}]
[21,1639,21,1644,22,1651,23,1659,null,null,0,2222,null,2121,{"$f":"COUNTIF($L$7:$L$500,N17)","v":1},{"$f":"O17/$Q$4","v":5.9880239520958087E-3},{"$f":"IF(P17=0,0,(P17*((LOG(P17))/LOG(2))))","v":-4.4213798158527259E-2},null,null,{"$f":"N17","v":2121},{"$f":"COUNTIF(L7:L34,T17)","v":1},{"$f":"U17/(W4-U20)","v":3.7037037037037035E-2},{"$f":"IF(V17=0,0,(V17*((LOG(V17))/LOG(2))))","v":-0.1761069445245729},null,{"$f":"N17","v":2121},{"$f":"COUNTIF(L35:L62,Y17)","v":0},{"$f":"Z17/(AB4-Z20)","v":0},{"$f":"IF(AA17=0,0,(AA17*((LOG(AA17))/LOG(2))))","v":0},null,{"$f":"N17","v":2121},{"$f":"COUNTIF(L63:L90,AD17)","v":0},{"$f":"AE17/(AG4-AE20)","v":0},{"$f":"IF(AF17=0,0,(AF17*((LOG(AF17))/LOG(2))))","v":0},null,{"$f":"N17","v":2121},{"$f":"COUNTIF(L91:L118,AI17)","v":0},{"$f":"AJ17/(AL4-AJ20)","v":0},{"$f":"IF(AK17=0,0,(AK17*((LOG(AK17))/LOG(2))))","v":0},null,{"$f":"N17","v":2121},{"$f":"COUNTIF(L119:L146,AN17)","v":0},{"$f":"AO17/(AQ4-AO20)","v":0},{"$f":"IF(AP17=0,0,(AP17*((LOG(AP17))/LOG(2))))","v":0},null,{"$f":"N17","v":2121},{"$f":"COUNTIF(L147:L174,AS17)","v":0},{"$f":"AT17/(AV4-AT20)","v":0},{"$f":"IF(AU17=0,0,(AU17*((LOG(AU17))/LOG(2))))","v":0}]
[12,1796,14,1802,24,1811,23,1815,null,null,0,1122,null,2122,{"$f":"COUNTIF($L$7:$L$500,N18)","v":44},{"$f":"O18/$Q$4","v":0.26347305389221559},{"$f":"IF(P18=0,0,(P18*((LOG(P18))/LOG(2))))","v":-0.50699399789710908},null,null,{"$f":"N18","v":2122},{"$f":"COUNTIF(L7:L34,T18)","v":6},{"$f":"U18/(W4-U20)","v":0.22222222222222221},{"$f":"IF(V18=0,0,(V18*((LOG(V18))/LOG(2))))","v":-0.48220555587606945},null,{"$f":"N18","v":2122},{"$f":"COUNTIF(L35:L62,Y18)","v":15},{"$f":"Z18/(AB4-Z20)","v":0.6},{"$f":"IF(AA18=0,0,(AA18*((LOG(AA18))/LOG(2))))","v":-0.44217935649972373},null,{"$f":"N18","v":2122},{"$f":"COUNTIF(L63:L90,AD18)","v":4},{"$f":"AE18/(AG4-AE20)","v":0.17391304347826086},{"$f":"IF(AF18=0,0,(AF18*((LOG(AF18))/LOG(2))))","v":-0.43888034018382832},null,{"$f":"N18","v":2122},{"$f":"COUNTIF(L91:L118,AI18)","v":9},{"$f":"AJ18/(AL4-AJ20)","v":0.39130434782608697},{"$f":"IF(AK18=0,0,(AK18*((LOG(AK18))/LOG(2))))","v":-0.5296840257187958},null,{"$f":"N18","v":2122},{"$f":"COUNTIF(L119:L146,AN18)","v":6},{"$f":"AO18/(AQ4-AO20)","v":0.2608695652173913},{"$f":"IF(AP18=0,0,(AP18*((LOG(AP18))/LOG(2))))","v":-0.50572159704413644},null,{"$f":"N18","v":2122},{"$f":"COUNTIF(L147:L174,AS18)","v":4},{"$f":"AT18/(AV4-AT20)","v":0.18181818181818182},{"$f":"IF(AU18=0,0,(AU18*((LOG(AU18))/LOG(2))))","v":-0.44716938520678134}]
[21,1912,21,1972,22,1987,23,1994,null,null,0,2222,null,2211,{"$f":"COUNTIF($L$7:$L$500,N19)","v":0},{"$f":"O19/$Q$4","v":0},{"$f":"IF(P19=0,0,(P19*((LOG(P19))/LOG(2))))","v":0},null,null,{"$f":"N19","v":2211},{"$f":"COUNTIF(L7:L34,T19)","v":0},{"$f":"U19/(W4-U20)","v":0},{"$f":"IF(V19=0,0,(V19*((LOG(V19))/LOG(2))))","v":0},null,{"$f":"N19","v":2211},{"$f":"COUNTIF(L35:L62,Y19)","v":0},{"$f":"Z19/(AB4-Z20)","v":0},{"$f":"IF(AA19=0,0,(AA19*((LOG(AA19))/LOG(2))))","v":0},null,{"$f":"N19","v":2211},{"$f":"COUNTIF(L63:L90,AD19)","v":0},{"$f":"AE19/(AG4-AE20)","v":0},{"$f":"IF(AF19=0,0,(AF19*((LOG(AF19))/LOG(2))))","v":0},null,{"$f":"N19","v":2211},{"$f":"COUNTIF(L91:L118,AI19)","v":0},{"$f":"AJ19/(AL4-AJ20)","v":0},{"$f":"IF(AK19=0,0,(AK19*((LOG(AK19))/LOG(2))))","v":0},null,{"$f":"N19","v":2211},{"$f":"COUNTIF(L119:L146,AN19)","v":0},{"$f":"AO19/(AQ4-AO20)","v":0},{"$f":"IF(AP19=0,0,(AP19*((LOG(AP19))/LOG(2))))","v":0},null,{"$f":"N19","v":2211},{"$f":"COUNTIF(L147:L174,AS19)","v":0},{"$f":"AT19/(AV4-AT20)","v":0},{"$f":"IF(AU19=0,0,(AU19*((LOG(AU19))/LOG(2))))","v":0}]
[21,2105,21,2124,22,2135,23,2144,null,null,0,2222,null,2212,{"$f":"COUNTIF($L$7:$L$500,N20)","v":24},{"$f":"O20/$Q$4","v":0.1437125748502994},{"$f":"IF(P20=0,0,(P20*((LOG(P20))/LOG(2))))","v":-0.40221438923394914},null,null,{"$f":"N20","v":2212},{"$f":"COUNTIF(L7:L34,T20)","v":1},null,null,null,{"$f":"N20","v":2212},{"$f":"COUNTIF(L35:L62,Y20)","v":3},null,null,null,{"$f":"N20","v":2212},{"$f":"COUNTIF(L63:L90,AD20)","v":5},null,null,null,{"$f":"N20","v":2212},{"$f":"COUNTIF(L91:L118,AI20)","v":5},null,null,null,{"$f":"N20","v":2212},{"$f":"COUNTIF(L119:L146,AN20)","v":5},null,null,null,{"$f":"N20","v":2212},{"$f":"COUNTIF(L147:L174,AS20)","v":5}]
[21,2273,21,2279,22,2295,23,2303,null,null,0,2222,null,2221,{"$f":"COUNTIF($L$7:$L$500,N21)","v":5},{"$f":"O21/$Q$4","v":2.9940119760479042E-2},{"$f":"IF(P21=0,0,(P21*((LOG(P21))/LOG(2))))","v":-0.15155018555648772},null,null,{"$f":"N21","v":2221},{"$f":"COUNTIF(L7:L34,T21)","v":0},{"$f":"U21/(W4-U20)","v":0},{"$f":"IF(V21=0,0,(V21*((LOG(V21))/LOG(2))))","v":0},null,{"$f":"N21","v":2221},{"$f":"COUNTIF(L35:L62,Y21)","v":0},{"$f":"Z21/(AB4-Z20)","v":0},{"$f":"IF(AA21=0,0,(AA21*((LOG(AA21))/LOG(2))))","v":0},null,{"$f":"N21","v":2221},{"$f":"COUNTIF(L63:L90,AD21)","v":1},{"$f":"AE21/(AG4-AE20)","v":4.3478260869565216E-2},{"$f":"IF(AF21=0,0,(AF21*((LOG(AF21))/LOG(2))))","v":-0.19667660678508753},null,{"$f":"N21","v":2221},{"$f":"COUNTIF(L91:L118,AI21)","v":1},{"$f":"AJ21/(AL4-AJ20)","v":4.3478260869565216E-2},{"$f":"IF(AK21=0,0,(AK21*((LOG(AK21))/LOG(2))))","v":-0.19667660678508753},null,{"$f":"N21","v":2221},{"$f":"COUNTIF(L119:L146,AN21)","v":2},{"$f":"AO21/(AQ4-AO20)","v":8.6956521739130432E-2},{"$f":"IF(AP21=0,0,(AP21*((LOG(AP21))/LOG(2))))","v":-0.30639669183104457},null,{"$f":"N21","v":2221},{"$f":"COUNTIF(L147:L174,AS21)","v":1},{"$f":"AT21/(AV4-AT20)","v":4.5454545454545456E-2},{"$f":"IF(AU21=0,0,(AU21*((LOG(AU21))/LOG(2))))","v":-0.20270143721078623}]
[12,2407,23,2415,24,2420,23,2426,null,null,0,1222,null,2222,{"$f":"COUNTIF($L$7:$L$500,N22)","v":52},{"$f":"O22/$Q$4","v":0.31137724550898205},{"$f":"IF(P22=0,0,(P22*((LOG(P22))/LOG(2))))","v":-0.52413028661864625},null,null,{"$f":"N22","v":2222},{"$f":"COUNTIF(L7:L34,T22)","v":14},{"$f":"U22/(W4-U20)","v":0.51851851851851849},{"$f":"IF(V22=0,0,(V22*((LOG(V22))/LOG(2))))","v":-0.49131318968452231},null,{"$f":"N22","v":2222},{"$f":"COUNTIF(L35:L62,Y22)","v":1},{"$f":"Z22/(AB4-Z20)","v":0.04},{"$f":"IF(AA22=0,0,(AA22*((LOG(AA22))/LOG(2))))","v":-0.18575424759098899},null,{"$f":"N22","v":2222},{"$f":"COUNTIF(L63:L90,AD22)","v":7},{"$f":"AE22/(AG4-AE20)","v":0.30434782608695654},{"$f":"IF(AF22=0,0,(AF22*((LOG(AF22))/LOG(2))))","v":-0.52232387991286355},null,{"$f":"N22","v":2222},{"$f":"COUNTIF(L91:L118,AI22)","v":9},{"$f":"AJ22/(AL4-AJ20)","v":0.39130434782608697},{"$f":"IF(AK22=0,0,(AK22*((LOG(AK22))/LOG(2))))","v":-0.5296840257187958},null,{"$f":"N22","v":2222},{"$f":"COUNTIF(L119:L146,AN22)","v":10},{"$f":"AO22/(AQ4-AO20)","v":0.43478260869565216},{"$f":"IF(AP22=0,0,(AP22*((LOG(AP22))/LOG(2))))","v":-0.52244950485636987},null,{"$f":"N22","v":2222},{"$f":"COUNTIF(L147:L174,AS22)","v":11},{"$f":"AT22/(AV4-AT20)","v":0.5},{"$f":"IF(AU22=0,0,(AU22*((LOG(AU22))/LOG(2))))","v":-0.5}]
[12,2530,23,2540,24,2544,23,2550,null,null,0,1222,null,null,null,{"$f":"SUM(P7:P22)","v":1},{"$f":"-SUM(Q7:Q22)","v":2.4365381404508208},null,null,null,null,{"$f":"SUM(V7:V22)","v":1},{"$f":"-SUM(W7:W22)","v":1.7762806729942016},null,null,null,{"$f":"SUM(AA7:AA22)","v":1},{"$f":"-SUM(AB7:AB22)","v":1.4891353321499972},null,null,null,{"$f":"SUM(AF7:AF22)","v":1},{"$f":"-SUM(AG7:AG22)","v":2.2601768947104945},null,null,null,{"$f":"SUM(AK7:AK22)","v":1},{"$f":"-SUM(AL7:AL22)","v":1.8360168461385307},null,null,null,{"$f":"SUM(AP7:AP22)","v":1},{"$f":"-SUM(AQ7:AQ22)","v":2.0242600666933592},null,null,null,{"$f":"SUM(AU7:AU22)","v":1},{"$f":"-SUM(AV7:AV22)","v":1.9115339911368305}]
[21,2648,12,2663,24,2672,23,2676,null,null,0,2122,null,null,null,"U=",{"$f":"Q23/(LOG(Q4)/LOG(2))","v":0.32998858620791433},null,null,null,null,"U1=",{"$f":"W23/(LOG(W4)/LOG(2))","v":0.36949230955344831},null,null,null,"U2=",{"$f":"AB23/(LOG(AB4)/LOG(2))","v":0.30976188700305696},null,null,null,"U3=",{"$f":"AG23/(LOG(AG4)/LOG(2))","v":0.47014978743094604},null,null,null,"U4=",{"$f":"AL23/(LOG(AL4)/LOG(2))","v":0.38191830557680023},null,null,null,"U5=",{"$f":"AQ23/(LOG(AQ4)/LOG(2))","v":0.42107564336584336},null,null,null,"U6=",{"$f":"AV23/(LOG(AV4)/LOG(2))","v":0.4020145566571417}]
[21,2776,12,2793,24,2832,23,2848,null,null,0,2122]
[12,2958,23,2966,24,2975,23,2982,null,null,0,1222]
[12,3087,23,3096,24,3099,23,3107,null,null,0,1222,null,"Total Target Seq"]
[21,3205,21,3224,22,3228,23,3235,null,null,0,2222,null,{"$f":"COUNTIF(L7:L174,G3)","v":24},null,28,28,28,28,28,28]
[12,3367,23,3374,24,3379,23,3381,null,null,0,1222,null,null,null,"% of reinforcement given in 6 equal intervals based on number of trials "]
[21,3478,12,3490,24,3504,23,3512,null,null,0,2122,null,null,null,"%_1","%_2","%_3","%_4","%_5","%_6"]
[21,3610,21,3615,22,3651,23,3660,null,null,0,2222,null,null,"target sequence",{"$f":"$G$3","v":2212},{"$f":"$G$3","v":2212},{"$f":"$G$3","v":2212},{"$f":"$G$3","v":2212},{"$f":"$G$3","v":2212},{"$f":"$G$3","v":2212}]
[21,3775,21,3792,22,3805,23,3818,null,null,0,2222,null,null,"total reinforcement",{"$f":"U20","v":1},{"$f":"Z20","v":3},{"$f":"AE20","v":5},{"$f":"AJ20","v":5},{"$f":"AO20","v":5},{"$f":"AT20","v":5}]
[21,3917,12,3933,24,3940,23,3947,null,null,0,2122,null,null,"% target"]
[21,4066,12,4076,24,4085,14,4117,null,null,0,2121,null,null,"CCRF"]
[12,4221,14,4233,24,4240,23,4244,null,null,0,1122,null,null,"% CCRf"]
[12,4390,14,4395,24,4405,23,4417,null,null,0,1122,null,null,"average response rate",{"$f":"H34/P28","v":147.03571428571428},{"$f":"(H62-H34)/Q28","v":139.67857142857142},{"$f":"(H90-H62)/R28","v":151},{"$f":"(H118-H90)/S28","v":134.32142857142858},{"$f":"(H146-H118)/T28","v":142.21428571428572},{"$f":"(H174-H146)/U28","v":-714.25}]
[12,4523,23,4539,24,4549,23,4558,null,null,0,1222]
[21,4655,12,4669,24,4686,23,4694,null,null,0,2122]
[21,4790,12,4800,24,4809,23,4813,null,null,0,2122]
[21,4913,12,4926,24,4936,23,4943,null,null,0,2122]
[12,5046,23,5066,24,5073,23,5080,null,null,0,1222]
[21,5179,21,5185,11,5193,21,5211,null,null,0,2212]
[21,5436,12,5446,24,5457,23,5463,null,null,0,2122]
[21,5559,12,5568,24,5581,23,5586,null,null,0,2122]
[21,5683,12,5691,24,5703,23,5731,null,null,0,2122]
[21,5830,12,5846,24,5859,23,5867,null,null,0,2122]
[21,5964,21,5969,11,5977,21,5988,null,null,0,2212]
[12,6123,23,6145,24,6157,23,6163,null,null,0,1222]
[21,6260,12,6268,24,6281,23,6292,null,null,0,2122]
[21,6389,12,6398,24,6409,23,6415,null,null,0,2122]
[21,6512,12,6526,24,6545,23,6557,null,null,0,2122]
[12,6665,23,6677,24,6682,23,6689,null,null,0,1222]
[21,6788,12,6797,24,6804,23,6810,null,null,0,2122]
[21,6906,12,6921,24,6931,23,6941,null,null,0,2122]
[12,7042,14,7047,24,7071,23,7077,null,null,0,1122]
[21,7173,21,7178,11,7186,21,7223,null,null,0,2212]
[21,7368,12,7376,24,7384,23,7399,null,null,0,2122]
[21,7496,12,7504,24,7512,23,7515,null,null,0,2122]
[12,7621,23,7629,24,7633,23,7640,null,null,0,1222]
[21,7738,12,7748,24,7769,23,7783,null,null,0,2122]
[12,7888,23,7896,24,7899,23,7905,null,null,0,1222]
[21,8003,21,8010,22,8023,23,8028,null,null,0,2222]
[21,8127,21,8130,22,8136,14,8145,null,null,0,2221]
[21,8242,21,8245,22,8260,23,8265,null,null,0,2222]
[21,8361,12,8371,24,8377,23,8382,null,null,0,2122]
[21,8479,21,8486,11,8494,21,8501,null,null,0,2212]
[12,8839,23,8846,24,8850,23,8863,null,null,0,1222]
[21,8968,12,8980,24,8995,23,9000,null,null,0,2122]
[12,9113,23,9122,24,9127,23,9135,null,null,0,1222]
[21,9233,21,9238,11,9250,21,9277,null,null,0,2212]
[12,9467,23,9482,24,9493,14,9530,null,null,0,1221]
[12,9634,23,9645,24,9650,23,9656,null,null,0,1222]
[12,9758,23,9768,24,9771,23,9779,null,null,0,1222]
[21,9880,12,9889,24,9899,23,9920,null,null,0,2122]
[21,10022,12,10031,13,10040,23,10074,null,null,0,2112]
[21,10170,21,10175,22,10193,23,10211,null,null,0,2222]
[21,10306,21,10311,11,10324,21,10335,null,null,0,2212]
[21,10513,21,10532,22,10556,23,10572,null,null,0,2222]
[12,10677,23,10687,24,10691,23,10697,null,null,0,1222]
[21,10794,12,10809,13,10815,23,10836,null,null,0,2112]
[21,10934,12,10948,13,10953,23,10985,null,null,0,2112]
[21,11082,21,11087,11,11097,21,11141,null,null,0,2212]
[21,11264,21,11268,22,11274,23,11288,null,null,0,2222]
[12,11396,23,11406,24,11418,23,11431,null,null,0,1222]
[21,11535,21,11550,22,11553,23,11570,null,null,0,2222]
[21,11670,21,11676,11,11683,21,11690,null,null,0,2212]
[21,11844,12,11854,24,11866,23,11873,null,null,0,2122]
[12,11975,23,11992,24,11997,23,12005,null,null,0,1222]
[21,12104,21,12108,22,12113,23,12126,null,null,0,2222]
[21,12223,21,12228,22,12236,23,12256,null,null,0,2222]
[21,12352,21,12359,22,12384,23,12388,null,null,0,2222]
[21,12485,21,12488,11,12503,21,12511,null,null,0,2212]
[12,12711,23,12719,24,12724,23,12732,null,null,0,1222]
[21,12830,21,12834,11,12853,21,12887,null,null,0,2212]
[21,13001,21,13006,22,13021,23,13025,null,null,0,2222]
[21,13123,21,13127,22,13133,23,13151,null,null,0,2222]
[12,13255,14,13262,24,13268,23,13272,null,null,0,1122]
[21,13369,21,13380,22,13395,23,13411,null,null,0,2222]
[21,13508,21,13516,22,13531,23,13540,null,null,0,2222]
[21,13638,21,13641,22,13647,23,13661,null,null,0,2222]
[21,13784,12,13791,24,13797,23,13805,null,null,0,2122]
[21,13904,21,13908,11,13920,21,13936,null,null,0,2212]
[21,14059,12,14069,24,14075,23,14077,null,null,0,2122]
[21,14175,12,14185,24,14193,23,14198,null,null,0,2122]
[21,14317,12,14327,24,14337,23,14343,null,null,0,2122]
[21,14439,21,14476,22,14489,23,14496,null,null,0,2222]
[12,14607,23,14617,24,14630,23,14641,null,null,0,1222]
[21,14738,12,14753,24,14759,23,14765,null,null,0,2122]
[21,14861,12,14871,24,14882,23,14891,null,null,0,2122]
[21,14990,21,14996,22,15001,14,15011,null,null,0,2221]
[21,15108,12,15122,24,15128,23,15136,null,null,0,2122]
[21,15232,21,15236,11,15250,21,15257,null,null,0,2212]
[21,15357,12,15376,24,15383,23,15392,null,null,0,2122]
[21,15489,12,15511,24,15520,23,15529,null,null,0,2122]
[21,15627,21,15632,22,15640,23,15646,null,null,0,2222]
[12,15763,23,15777,24,15784,23,15790,null,null,0,1222]
[21,15888,21,15890,22,15893,23,15896,null,null,0,2222]
[21,15997,21,16001,11,16011,21,16017,null,null,0,2212]
[21,16173,21,16183,22,16188,23,16205,null,null,0,2222]
[21,16303,12,16313,24,16320,23,16327,null,null,0,2122]
[21,16423,21,16425,22,16429,23,16435,null,null,0,2222]
[21,16532,21,16536,22,16541,14,16551,null,null,0,2221]
[12,16653,23,16663,24,16669,23,16676,null,null,0,1222]
[21,16774,21,16778,22,16827,23,16838,null,null,0,2222]
[21,16937,21,16944,11,16951,21,16982,null,null,0,2212]
[21,17093,21,17099,22,17116,23,17119,null,null,0,2222]
[12,17223,14,17229,24,17237,23,17242,null,null,0,1122]
[21,17339,21,17349,22,17368,23,17381,null,null,0,2222]
[21,17480,21,17489,22,17505,14,17552,null,null,0,2221]
[21,17650,21,17657,11,17667,21,17702,null,null,0,2212]
[21,17817,21,17822,11,17837,21,17847,null,null,0,2212]
[21,18074,21,18092,22,18096,23,18103,null,null,0,2222]
[21,18219,21,18222,22,18228,23,18236,null,null,0,2222]
[12,18352,14,18354,24,18363,23,18367,null,null,0,1122]
[21,18463,12,18472,24,18480,23,18483,null,null,0,2122]
[21,18580,21,18602,22,18628,23,18642,null,null,0,2222]
[12,18749,23,18757,24,18760,23,18766,null,null,0,1222]
[12,18878,23,18888,24,18903,23,18915,null,null,0,1222]
[21,19012,21,19035,22,19046,23,19056,null,null,0,2222]
[21,19154,12,19163,24,19172,23,19176,null,null,0,2122]
[21,19273,21,19280,11,19289,21,19318,null,null,0,2212]
[21,19464,12,19475,24,19482,23,19488,null,null,0,2122]
[21,19586,12,19600,24,19610,23,19616,null,null,0,2122]
[21,19721,12,19739,24,19745,23,19760,null,null,0,2122]
[21,19859,21,19862,22,19868,23,19879,null,null,0,2222]
[21,19975,21,19977,11,19990,21,19999,null,null,0,2212]
[12,20179,23,20185,24,20193,23,20200,null,null,0,1222]
[21,20298,21,20315,22,20319,23,20327,null,null,0,2222]
[21,20424,21,20439,22,20444,23,20449,null,null,0,2222]
[12,20558,23,20569,24,20602,23,20611,null,null,0,1222]
[21,20709,21,20714,22,20733,23,20744,null,null,0,2222]
[21,20856,21,20861,22,20873,23,20880,null,null,0,2222]
[12,20985,23,20998,24,21001,23,21008,null,null,0,1222]
[21,21105,21,21109,22,21129,23,21143,null,null,0,2222]
[21,21239,21,21243,22,21284,23,21302,null,null,0,2222]
[21,21398,21,21402,11,21412,21,21421,null,null,0,2212]
[21,21539,21,21545,11,21553,21,21558,null,null,0,2212]
[21,21712,12,21722,24,21730,23,21734,null,null,0,2122]
[21,21834,12,21842,24,21855,23,21863,null,null,0,2122]
[12,21972,14,21976,24,21987,23,21991,null,null,0,1122]
[21,22089,21,22107,22,22112,23,22126,null,null,0,2222]
[21,22224,21,22231,11,22243,21,22281,null,null,0,2212]
[21,22415,12,22428,24,22442,23,22455,null,null,0,2122]
[12,22563,23,22577,24,22582,23,22590,null,null,0,1222]
[12,22697,14,22701,24,22708,23,22712,null,null,0,1122]
[21,22814,21,22818,22,22823,23,22840,null,null,0,2222]
[21,22937,21,22942,11,22953,21,22967,null,null,0,2212]
[21,23103,21,23126,22,23140,23,23156,null,null,0,2222]
[21,23251,21,23257,11,23268,21,23276,null,null,0,2212]
[21,23394,21,23400,22,23404,23,23411,null,null,0,2222]
[21,23530,21,23542,22,23551,14,23595,null,null,0,2221]
[21,23692,12,23702,24,23710,23,23715,null,null,0,2122]
[21,23817,21,23821,22,23826,23,23890,null,null,0,2222]
[21,23988,21,23993,null,null,null,null,null,null,null,22]

{"sheet":"!LC05A34..Is","index":28,"n_rows":178,"n_cols":48,"rows_kept":178,"cut":false,"hidden":false,"merged":[[4,39,4,42],[5,39,5,40],[4,44,4,47],[5,44,5,45],[4,24,4,27],[5,24,5,25],[4,29,4,32],[5,29,5,30],[4,34,4,37],[5,34,5,35],[1,1,1,2],[5,13,5,14],[26,13,26,14],[27,13,27,14],[4,19,4,22],[5,19,5,20]]}
["Report for:!LC05A34..Is"]
["Date:","<date>"]
["Hen:","<hen>",null,null,null,"Correct Sequence",{"$f":"Start!J2","v":2212},null,null,null,null,null,null,null,null,"Total Sequences in Data",{"$f":"4994-COUNTBLANK(L7:L5000)","v":172},null,null,null,null,"Total Sequences in Block Data",{"$f":"COUNTA(L7:L35)","v":29},null,null,null,"Total Sequences in Block Data",{"$f":"COUNTA(L36:L63)","v":28},null,null,null,"Total Sequences in Block Data",{"$f":"COUNTA(L64:L92)","v":29},null,null,null,"Total Sequences in Block Data",{"$f":"COUNTA(L93:L121)","v":29},null,null,null,"Total Sequences in Block Data",{"$f":"COUNTA(L122:L149)","v":28},null,null,null,"Total Sequences in Block Data",{"$f":"COUNTA(L150:L178)","v":29}]
[null,null,null,null,null,null,null,null,null,null,null,null,null,null,null,"Total Sequences in Summary",{"$f":"SUM(O7:O22)","v":171},null,null,null,null,"Total Sequences in Block Summary",{"$f":"SUM(U7:U22)","v":29},null,null,null,"Total Sequences in Block Summary",{"$f":"SUM(Z7:Z22)","v":28},null,null,null,"Total Sequences in Block Summary",{"$f":"SUM(AE7:AE22)","v":29},null,null,null,"Total Sequences in Block Summary",{"$f":"SUM(AJ7:AJ22)","v":29},null,null,null,"Total Sequences in Block Summary",{"$f":"SUM(AO7:AO22)","v":28},null,null,null,"Total Sequences in Block Summary",{"$f":"SUM(AT7:AT22)","v":28}]
[null,null,null,null,null,null,null,null,null,null,null,null,null,null,null,null,null,null,null,"Block 1",null,null,null,null,"Block 2",null,null,null,null,"Block 3",null,null,null,null,"Block 4",null,null,null,null,"Block 5",null,null,null,null,"Block 6"]
["Sequence\nComponent\n1","Time\n1","Sequence\nComponent\n2","Time\n2","Sequence\nComponent\n3","Time\n3","Sequence\nComponent\n4","Time\n4","Sequence\nComponent\n5","Time\n5","Correct?\n0=No 1=Yes","Sequence",null,"Frequency",null,"Relative Frequency","Variability",null,null,"Frequency",null,"Relative Frequency","Variability",null,"Frequency",null,"Relative Frequency","Variability",null,"Frequency",null,"Relative Frequency","Variability",null,"Frequency",null,"Relative Frequency","Variability",null,"Frequency",null,"Relative Frequency","Variability",null,"Frequency",null,"Relative Frequency","Variability"]
[21,5,12,17,24,25,23,29,null,null,0,2122,null,1111,{"$f":"COUNTIF($L$7:$L$500,N7)","v":0},{"$f":"O7/$Q$4","v":0},{"$f":"IF(P7=0,0,(P7*((LOG(P7))/LOG(2))))","v":0},null,null,{"$f":"N7","v":1111},{"$f":"COUNTIF(L7:L35,T7)","v":0},{"$f":"U7/(W4-U20)","v":0},{"$f":"IF(V7=0,0,(V7*((LOG(V7))/LOG(2))))","v":0},null,{"$f":"N7","v":1111},{"$f":"COUNTIF(L36:L63,Y7)","v":0},{"$f":"Z7/(AB4-Z20)","v":0},{"$f":"IF(AA7=0,0,(AA7*((LOG(AA7))/LOG(2))))","v":0},null,{"$f":"N7","v":1111},{"$f":"COUNTIF(L64:L92,AD7)","v":0},{"$f":"AE7/(AG4-AE20)","v":0},{"$f":"IF(AF7=0,0,(AF7*((LOG(AF7))/LOG(2))))","v":0},null,{"$f":"N7","v":1111},{"$f":"COUNTIF(L93:L121,AI7)","v":0},{"$f":"AJ7/(AL4-AJ20)","v":0},{"$f":"IF(AK7=0,0,(AK7*((LOG(AK7))/LOG(2))))","v":0},null,{"$f":"N7","v":1111},{"$f":"COUNTIF(L122:L149,AN7)","v":0},{"$f":"AO7/(AQ4-AO20)","v":0},{"$f":"IF(AP7=0,0,(AP7*((LOG(AP7))/LOG(2))))","v":0},null,{"$f":"N7","v":1111},{"$f":"COUNTIF(L150:L178,AS7)","v":0},{"$f":"AT7/(AV4-AT20)","v":0},{"$f":"IF(AU7=0,0,(AU7*((LOG(AU7))/LOG(2))))","v":0}]
[12,129,23,138,24,142,23,147,null,null,0,1222,null,1112,{"$f":"COUNTIF($L$7:$L$500,N8)","v":1},{"$f":"O8/$Q$4","v":5.8479532163742687E-3},{"$f":"IF(P8=0,0,(P8*((LOG(P8))/LOG(2))))","v":-4.3379254473016944E-2},null,null,{"$f":"N8","v":1112},{"$f":"COUNTIF(L7:L35,T8)","v":0},{"$f":"U8/(W4-U20)","v":0},{"$f":"IF(V8=0,0,(V8*((LOG(V8))/LOG(2))))","v":0},null,{"$f":"N8","v":1112},{"$f":"COUNTIF(L36:L63,Y8)","v":0},{"$f":"Z8/(AB4-Z20)","v":0},{"$f":"IF(AA8=0,0,(AA8*((LOG(AA8))/LOG(2))))","v":0},null,{"$f":"N8","v":1112},{"$f":"COUNTIF(L64:L92,AD8)","v":0},{"$f":"AE8/(AG4-AE20)","v":0},{"$f":"IF(AF8=0,0,(AF8*((LOG(AF8))/LOG(2))))","v":0},null,{"$f":"N8","v":1112},{"$f":"COUNTIF(L93:L121,AI8)","v":1},{"$f":"AJ8/(AL4-AJ20)","v":4.1666666666666664E-2},{"$f":"IF(AK8=0,0,(AK8*((LOG(AK8))/LOG(2))))","v":-0.19104010419671485},null,{"$f":"N8","v":1112},{"$f":"COUNTIF(L122:L149,AN8)","v":0},{"$f":"AO8/(AQ4-AO20)","v":0},{"$f":"IF(AP8=0,0,(AP8*((LOG(AP8))/LOG(2))))","v":0},null,{"$f":"N8","v":1112},{"$f":"COUNTIF(L150:L178,AS8)","v":0},{"$f":"AT8/(AV4-AT20)","v":0},{"$f":"IF(AU8=0,0,(AU8*((LOG(AU8))/LOG(2))))","v":0}]
[21,244,12,251,24,260,23,264,null,null,0,2122,null,1121,{"$f":"COUNTIF($L$7:$L$500,N9)","v":0},{"$f":"O9/$Q$4","v":0},{"$f":"IF(P9=0,0,(P9*((LOG(P9))/LOG(2))))","v":0},null,null,{"$f":"N9","v":1121},{"$f":"COUNTIF(L7:L35,T9)","v":0},{"$f":"U9/(W4-U20)","v":0},{"$f":"IF(V9=0,0,(V9*((LOG(V9))/LOG(2))))","v":0},null,{"$f":"N9","v":1121},{"$f":"COUNTIF(L36:L63,Y9)","v":0},{"$f":"Z9/(AB4-Z20)","v":0},{"$f":"IF(AA9=0,0,(AA9*((LOG(AA9))/LOG(2))))","v":0},null,{"$f":"N9","v":1121},{"$f":"COUNTIF(L64:L92,AD9)","v":0},{"$f":"AE9/(AG4-AE20)","v":0},{"$f":"IF(AF9=0,0,(AF9*((LOG(AF9))/LOG(2))))","v":0},null,{"$f":"N9","v":1121},{"$f":"COUNTIF(L93:L121,AI9)","v":0},{"$f":"AJ9/(AL4-AJ20)","v":0},{"$f":"IF(AK9=0,0,(AK9*((LOG(AK9))/LOG(2))))","v":0},null,{"$f":"N9","v":1121},{"$f":"COUNTIF(L122:L149,AN9)","v":0},{"$f":"AO9/(AQ4-AO20)","v":0},{"$f":"IF(AP9=0,0,(AP9*((LOG(AP9))/LOG(2))))","v":0},null,{"$f":"N9","v":1121},{"$f":"COUNTIF(L150:L178,AS9)","v":0},{"$f":"AT9/(AV4-AT20)","v":0},{"$f":"IF(AU9=0,0,(AU9*((LOG(AU9))/LOG(2))))","v":0}]
[12,373,23,382,24,384,23,390,null,null,0,1222,null,1122,{"$f":"COUNTIF($L$7:$L$500,N10)","v":3},{"$f":"O10/$Q$4","v":1.7543859649122806E-2},{"$f":"IF(P10=0,0,(P10*((LOG(P10))/LOG(2))))","v":-0.10233140375727617},null,null,{"$f":"N10","v":1122},{"$f":"COUNTIF(L7:L35,T10)","v":0},{"$f":"U10/(W4-U20)","v":0},{"$f":"IF(V10=0,0,(V10*((LOG(V10))/LOG(2))))","v":0},null,{"$f":"N10","v":1122},{"$f":"COUNTIF(L36:L63,Y10)","v":0},{"$f":"Z10/(AB4-Z20)","v":0},{"$f":"IF(AA10=0,0,(AA10*((LOG(AA10))/LOG(2))))","v":0},null,{"$f":"N10","v":1122},{"$f":"COUNTIF(L64:L92,AD10)","v":0},{"$f":"AE10/(AG4-AE20)","v":0},{"$f":"IF(AF10=0,0,(AF10*((LOG(AF10))/LOG(2))))","v":0},null,{"$f":"N10","v":1122},{"$f":"COUNTIF(L93:L121,AI10)","v":1},{"$f":"AJ10/(AL4-AJ20)","v":4.1666666666666664E-2},{"$f":"IF(AK10=0,0,(AK10*((LOG(AK10))/LOG(2))))","v":-0.19104010419671485},null,{"$f":"N10","v":1122},{"$f":"COUNTIF(L122:L149,AN10)","v":1},{"$f":"AO10/(AQ4-AO20)","v":4.1666666666666664E-2},{"$f":"IF(AP10=0,0,(AP10*((LOG(AP10))/LOG(2))))","v":-0.19104010419671485},null,{"$f":"N10","v":1122},{"$f":"COUNTIF(L150:L178,AS10)","v":1},{"$f":"AT10/(AV4-AT20)","v":4.1666666666666664E-2},{"$f":"IF(AU10=0,0,(AU10*((LOG(AU10))/LOG(2))))","v":-0.19104010419671485}]
[21,487,12,501,24,522,23,529,null,null,0,2122,null,1211,{"$f":"COUNTIF($L$7:$L$500,N11)","v":0},{"$f":"O11/$Q$4","v":0},{"$f":"IF(P11=0,0,(P11*((LOG(P11))/LOG(2))))","v":0},null,null,{"$f":"N11","v":1211},{"$f":"COUNTIF(L7:L35,T11)","v":0},{"$f":"U11/(W4-U20)","v":0},{"$f":"IF(V11=0,0,(V11*((LOG(V11))/LOG(2))))","v":0},null,{"$f":"N11","v":1211},{"$f":"COUNTIF(L36:L63,Y11)","v":0},{"$f":"Z11/(AB4-Z20)","v":0},{"$f":"IF(AA11=0,0,(AA11*((LOG(AA11))/LOG(2))))","v":0},null,{"$f":"N11","v":1211},{"$f":"COUNTIF(L64:L92,AD11)","v":0},{"$f":"AE11/(AG4-AE20)","v":0},{"$f":"IF(AF11=0,0,(AF11*((LOG(AF11))/LOG(2))))","v":0},null,{"$f":"N11","v":1211},{"$f":"COUNTIF(L93:L121,AI11)","v":0},{"$f":"AJ11/(AL4-AJ20)","v":0},{"$f":"IF(AK11=0,0,(AK11*((LOG(AK11))/LOG(2))))","v":0},null,{"$f":"N11","v":1211},{"$f":"COUNTIF(L122:L149,AN11)","v":0},{"$f":"AO11/(AQ4-AO20)","v":0},{"$f":"IF(AP11=0,0,(AP11*((LOG(AP11))/LOG(2))))","v":0},null,{"$f":"N11","v":1211},{"$f":"COUNTIF(L150:L178,AS11)","v":0},{"$f":"AT11/(AV4-AT20)","v":0},{"$f":"IF(AU11=0,0,(AU11*((LOG(AU11))/LOG(2))))","v":0}]
[12,656,23,665,24,673,23,679,null,null,0,1222,null,1212,{"$f":"COUNTIF($L$7:$L$500,N12)","v":1},{"$f":"O12/$Q$4","v":5.8479532163742687E-3},{"$f":"IF(P12=0,0,(P12*((LOG(P12))/LOG(2))))","v":-4.3379254473016944E-2},null,null,{"$f":"N12","v":1212},{"$f":"COUNTIF(L7:L35,T12)","v":0},{"$f":"U12/(W4-U20)","v":0},{"$f":"IF(V12=0,0,(V12*((LOG(V12))/LOG(2))))","v":0},null,{"$f":"N12","v":1212},{"$f":"COUNTIF(L36:L63,Y12)","v":0},{"$f":"Z12/(AB4-Z20)","v":0},{"$f":"IF(AA12=0,0,(AA12*((LOG(AA12))/LOG(2))))","v":0},null,{"$f":"N12","v":1212},{"$f":"COUNTIF(L64:L92,AD12)","v":0},{"$f":"AE12/(AG4-AE20)","v":0},{"$f":"IF(AF12=0,0,(AF12*((LOG(AF12))/LOG(2))))","v":0},null,{"$f":"N12","v":1212},{"$f":"COUNTIF(L93:L121,AI12)","v":1},{"$f":"AJ12/(AL4-AJ20)","v":4.1666666666666664E-2},{"$f":"IF(AK12=0,0,(AK12*((LOG(AK12))/LOG(2))))","v":-0.19104010419671485},null,{"$f":"N12","v":1212},{"$f":"COUNTIF(L122:L149,AN12)","v":0},{"$f":"AO12/(AQ4-AO20)","v":0},{"$f":"IF(AP12=0,0,(AP12*((LOG(AP12))/LOG(2))))","v":0},null,{"$f":"N12","v":1212},{"$f":"COUNTIF(L150:L178,AS12)","v":0},{"$f":"AT12/(AV4-AT20)","v":0},{"$f":"IF(AU12=0,0,(AU12*((LOG(AU12))/LOG(2))))","v":0}]
[21,778,12,787,24,796,23,801,null,null,0,2122,null,1221,{"$f":"COUNTIF($L$7:$L$500,N13)","v":1},{"$f":"O13/$Q$4","v":5.8479532163742687E-3},{"$f":"IF(P13=0,0,(P13*((LOG(P13))/LOG(2))))","v":-4.3379254473016944E-2},null,null,{"$f":"N13","v":1221},{"$f":"COUNTIF(L7:L35,T13)","v":1},{"$f":"U13/(W4-U20)","v":3.8461538461538464E-2},{"$f":"IF(V13=0,0,(V13*((LOG(V13))/LOG(2))))","v":-0.18078614300542661},null,{"$f":"N13","v":1221},{"$f":"COUNTIF(L36:L63,Y13)","v":0},{"$f":"Z13/(AB4-Z20)","v":0},{"$f":"IF(AA13=0,0,(AA13*((LOG(AA13))/LOG(2))))","v":0},null,{"$f":"N13","v":1221},{"$f":"COUNTIF(L64:L92,AD13)","v":0},{"$f":"AE13/(AG4-AE20)","v":0},{"$f":"IF(AF13=0,0,(AF13*((LOG(AF13))/LOG(2))))","v":0},null,{"$f":"N13","v":1221},{"$f":"COUNTIF(L93:L121,AI13)","v":0},{"$f":"AJ13/(AL4-AJ20)","v":0},{"$f":"IF(AK13=0,0,(AK13*((LOG(AK13))/LOG(2))))","v":0},null,{"$f":"N13","v":1221},{"$f":"COUNTIF(L122:L149,AN13)","v":0},{"$f":"AO13/(AQ4-AO20)","v":0},{"$f":"IF(AP13=0,0,(AP13*((LOG(AP13))/LOG(2))))","v":0},null,{"$f":"N13","v":1221},{"$f":"COUNTIF(L150:L178,AS13)","v":0},{"$f":"AT13/(AV4-AT20)","v":0},{"$f":"IF(AU13=0,0,(AU13*((LOG(AU13))/LOG(2))))","v":0}]
[21,900,12,913,24,923,23,934,null,null,0,2122,null,1222,{"$f":"COUNTIF($L$7:$L$500,N14)","v":32},{"$f":"O14/$Q$4","v":0.1871345029239766},{"$f":"IF(P14=0,0,(P14*((LOG(P14))/LOG(2))))","v":-0.45246362851665922},null,null,{"$f":"N14","v":1222},{"$f":"COUNTIF(L7:L35,T14)","v":5},{"$f":"U14/(W4-U20)","v":0.19230769230769232},{"$f":"IF(V14=0,0,(V14*((LOG(V14))/LOG(2))))","v":-0.45740608139494804},null,{"$f":"N14","v":1222},{"$f":"COUNTIF(L36:L63,Y14)","v":3},{"$f":"Z14/(AB4-Z20)","v":0.1111111111111111},{"$f":"IF(AA14=0,0,(AA14*((LOG(AA14))/LOG(2))))","v":-0.3522138890491458},null,{"$f":"N14","v":1222},{"$f":"COUNTIF(L64:L92,AD14)","v":8},{"$f":"AE14/(AG4-AE20)","v":0.30769230769230771},{"$f":"IF(AF14=0,0,(AF14*((LOG(AF14))/LOG(2))))","v":-0.52321222096648989},null,{"$f":"N14","v":1222},{"$f":"COUNTIF(L93:L121,AI14)","v":3},{"$f":"AJ14/(AL4-AJ20)","v":0.125},{"$f":"IF(AK14=0,0,(AK14*((LOG(AK14))/LOG(2))))","v":-0.375},null,{"$f":"N14","v":1222},{"$f":"COUNTIF(L122:L149,AN14)","v":7},{"$f":"AO14/(AQ4-AO20)","v":0.29166666666666669},{"$f":"IF(AP14=0,0,(AP14*((LOG(AP14))/LOG(2))))","v":-0.51846887711020273},null,{"$f":"N14","v":1222},{"$f":"COUNTIF(L150:L178,AS14)","v":6},{"$f":"AT14/(AV4-AT20)","v":0.25},{"$f":"IF(AU14=0,0,(AU14*((LOG(AU14))/LOG(2))))","v":-0.5}]
[21,1030,12,1044,24,1052,23,1057,null,null,0,2122,null,2111,{"$f":"COUNTIF($L$7:$L$500,N15)","v":0},{"$f":"O15/$Q$4","v":0},{"$f":"IF(P15=0,0,(P15*((LOG(P15))/LOG(2))))","v":0},null,null,{"$f":"N15","v":2111},{"$f":"COUNTIF(L7:L35,T15)","v":0},{"$f":"U15/(W4-U20)","v":0},{"$f":"IF(V15=0,0,(V15*((LOG(V15))/LOG(2))))","v":0},null,{"$f":"N15","v":2111},{"$f":"COUNTIF(L36:L63,Y15)","v":0},{"$f":"Z15/(AB4-Z20)","v":0},{"$f":"IF(AA15=0,0,(AA15*((LOG(AA15))/LOG(2))))","v":0},null,{"$f":"N15","v":2111},{"$f":"COUNTIF(L64:L92,AD15)","v":0},{"$f":"AE15/(AG4-AE20)","v":0},{"$f":"IF(AF15=0,0,(AF15*((LOG(AF15))/LOG(2))))","v":0},null,{"$f":"N15","v":2111},{"$f":"COUNTIF(L93:L121,AI15)","v":0},{"$f":"AJ15/(AL4-AJ20)","v":0},{"$f":"IF(AK15=0,0,(AK15*((LOG(AK15))/LOG(2))))","v":0},null,{"$f":"N15","v":2111},{"$f":"COUNTIF(L122:L149,AN15)","v":0},{"$f":"AO15/(AQ4-AO20)","v":0},{"$f":"IF(AP15=0,0,(AP15*((LOG(AP15))/LOG(2))))","v":0},null,{"$f":"N15","v":2111},{"$f":"COUNTIF(L150:L178,AS15)","v":0},{"$f":"AT15/(AV4-AT20)","v":0},{"$f":"IF(AU15=0,0,(AU15*((LOG(AU15))/LOG(2))))","v":0}]
[12,1161,23,1169,24,1172,23,1178,null,null,0,1222,null,2112,{"$f":"COUNTIF($L$7:$L$500,N16)","v":2},{"$f":"O16/$Q$4","v":1.1695906432748537E-2},{"$f":"IF(P16=0,0,(P16*((LOG(P16))/LOG(2))))","v":-7.5062602513285351E-2},null,null,{"$f":"N16","v":2112},{"$f":"COUNTIF(L7:L35,T16)","v":1},{"$f":"U16/(W4-U20)","v":3.8461538461538464E-2},{"$f":"IF(V16=0,0,(V16*((LOG(V16))/LOG(2))))","v":-0.18078614300542661},null,{"$f":"N16","v":2112},{"$f":"COUNTIF(L36:L63,Y16)","v":0},{"$f":"Z16/(AB4-Z20)","v":0},{"$f":"IF(AA16=0,0,(AA16*((LOG(AA16))/LOG(2))))","v":0},null,{"$f":"N16","v":2112},{"$f":"COUNTIF(L64:L92,AD16)","v":0},{"$f":"AE16/(AG4-AE20)","v":0},{"$f":"IF(AF16=0,0,(AF16*((LOG(AF16))/LOG(2))))","v":0},null,{"$f":"N16","v":2112},{"$f":"COUNTIF(L93:L121,AI16)","v":0},{"$f":"AJ16/(AL4-AJ20)","v":0},{"$f":"IF(AK16=0,0,(AK16*((LOG(AK16))/LOG(2))))","v":0},null,{"$f":"N16","v":2112},{"$f":"COUNTIF(L122:L149,AN16)","v":1},{"$f":"AO16/(AQ4-AO20)","v":4.1666666666666664E-2},{"$f":"IF(AP16=0,0,(AP16*((LOG(AP16))/LOG(2))))","v":-0.19104010419671485},null,{"$f":"N16","v":2112},{"$f":"COUNTIF(L150:L178,AS16)","v":0},{"$f":"AT16/(AV4-AT20)","v":0},{"$f":"IF(AU16=0,0,(AU16*((LOG(AU16))/LOG(2))))","v":0}]
[21,1275,21,1280,11,1287,21,1297,null,null,0,2212,null,2121,{"$f":"COUNTIF($L$7:$L$500,N17)","v":1},{"$f":"O17/$Q$4","v":5.8479532163742687E-3},{"$f":"IF(P17=0,0,(P17*((LOG(P17))/LOG(2))))","v":-4.3379254473016944E-2},null,null,{"$f":"N17","v":2121},{"$f":"COUNTIF(L7:L35,T17)","v":0},{"$f":"U17/(W4-U20)","v":0},{"$f":"IF(V17=0,0,(V17*((LOG(V17))/LOG(2))))","v":0},null,{"$f":"N17","v":2121},{"$f":"COUNTIF(L36:L63,Y17)","v":0},{"$f":"Z17/(AB4-Z20)","v":0},{"$f":"IF(AA17=0,0,(AA17*((LOG(AA17))/LOG(2))))","v":0},null,{"$f":"N17","v":2121},{"$f":"COUNTIF(L64:L92,AD17)","v":0},{"$f":"AE17/(AG4-AE20)","v":0},{"$f":"IF(AF17=0,0,(AF17*((LOG(AF17))/LOG(2))))","v":0},null,{"$f":"N17","v":2121},{"$f":"COUNTIF(L93:L121,AI17)","v":0},{"$f":"AJ17/(AL4-AJ20)","v":0},{"$f":"IF(AK17=0,0,(AK17*((LOG(AK17))/LOG(2))))","v":0},null,{"$f":"N17","v":2121},{"$f":"COUNTIF(L122:L149,AN17)","v":1},{"$f":"AO17/(AQ4-AO20)","v":4.1666666666666664E-2},{"$f":"IF(AP17=0,0,(AP17*((LOG(AP17))/LOG(2))))","v":-0.19104010419671485},null,{"$f":"N17","v":2121},{"$f":"COUNTIF(L150:L178,AS17)","v":0},{"$f":"AT17/(AV4-AT20)","v":0},{"$f":"IF(AU17=0,0,(AU17*((LOG(AU17))/LOG(2))))","v":0}]
[12,1485,23,1497,24,1501,14,1538,null,null,0,1221,null,2122,{"$f":"COUNTIF($L$7:$L$500,N18)","v":60},{"$f":"O18/$Q$4","v":0.35087719298245612},{"$f":"IF(P18=0,0,(P18*((LOG(P18))/LOG(2))))","v":-0.53016207693943129},null,null,{"$f":"N18","v":2122},{"$f":"COUNTIF(L7:L35,T18)","v":11},{"$f":"U18/(W4-U20)","v":0.42307692307692307},{"$f":"IF(V18=0,0,(V18*((LOG(V18))/LOG(2))))","v":-0.52504188825160547},null,{"$f":"N18","v":2122},{"$f":"COUNTIF(L36:L63,Y18)","v":12},{"$f":"Z18/(AB4-Z20)","v":0.44444444444444442},{"$f":"IF(AA18=0,0,(AA18*((LOG(AA18))/LOG(2))))","v":-0.51996666730769447},null,{"$f":"N18","v":2122},{"$f":"COUNTIF(L64:L92,AD18)","v":8},{"$f":"AE18/(AG4-AE20)","v":0.30769230769230771},{"$f":"IF(AF18=0,0,(AF18*((LOG(AF18))/LOG(2))))","v":-0.52321222096648989},null,{"$f":"N18","v":2122},{"$f":"COUNTIF(L93:L121,AI18)","v":8},{"$f":"AJ18/(AL4-AJ20)","v":0.33333333333333331},{"$f":"IF(AK18=0,0,(AK18*((LOG(AK18))/LOG(2))))","v":-0.52832083357371862},null,{"$f":"N18","v":2122},{"$f":"COUNTIF(L122:L149,AN18)","v":9},{"$f":"AO18/(AQ4-AO20)","v":0.375},{"$f":"IF(AP18=0,0,(AP18*((LOG(AP18))/LOG(2))))","v":-0.53063906222956647},null,{"$f":"N18","v":2122},{"$f":"COUNTIF(L150:L178,AS18)","v":12},{"$f":"AT18/(AV4-AT20)","v":0.5},{"$f":"IF(AU18=0,0,(AU18*((LOG(AU18))/LOG(2))))","v":-0.5}]
[21,1634,21,1639,22,1655,23,1661,null,null,0,2222,null,2211,{"$f":"COUNTIF($L$7:$L$500,N19)","v":0},{"$f":"O19/$Q$4","v":0},{"$f":"IF(P19=0,0,(P19*((LOG(P19))/LOG(2))))","v":0},null,null,{"$f":"N19","v":2211},{"$f":"COUNTIF(L7:L35,T19)","v":0},{"$f":"U19/(W4-U20)","v":0},{"$f":"IF(V19=0,0,(V19*((LOG(V19))/LOG(2))))","v":0},null,{"$f":"N19","v":2211},{"$f":"COUNTIF(L36:L63,Y19)","v":0},{"$f":"Z19/(AB4-Z20)","v":0},{"$f":"IF(AA19=0,0,(AA19*((LOG(AA19))/LOG(2))))","v":0},null,{"$f":"N19","v":2211},{"$f":"COUNTIF(L64:L92,AD19)","v":0},{"$f":"AE19/(AG4-AE20)","v":0},{"$f":"IF(AF19=0,0,(AF19*((LOG(AF19))/LOG(2))))","v":0},null,{"$f":"N19","v":2211},{"$f":"COUNTIF(L93:L121,AI19)","v":0},{"$f":"AJ19/(AL4-AJ20)","v":0},{"$f":"IF(AK19=0,0,(AK19*((LOG(AK19))/LOG(2))))","v":0},null,{"$f":"N19","v":2211},{"$f":"COUNTIF(L122:L149,AN19)","v":0},{"$f":"AO19/(AQ4-AO20)","v":0},{"$f":"IF(AP19=0,0,(AP19*((LOG(AP19))/LOG(2))))","v":0},null,{"$f":"N19","v":2211},{"$f":"COUNTIF(L150:L178,AS19)","v":0},{"$f":"AT19/(AV4-AT20)","v":0},{"$f":"IF(AU19=0,0,(AU19*((LOG(AU19))/LOG(2))))","v":0}]
[21,1773,12,1779,24,1786,23,1790,null,null,0,2122,null,2212,{"$f":"COUNTIF($L$7:$L$500,N20)","v":20},{"$f":"O20/$Q$4","v":0.11695906432748537},{"$f":"IF(P20=0,0,(P20*((LOG(P20))/LOG(2))))","v":-0.36209642339164155},null,null,{"$f":"N20","v":2212},{"$f":"COUNTIF(L7:L35,T20)","v":3},null,null,null,{"$f":"N20","v":2212},{"$f":"COUNTIF(L36:L63,Y20)","v":1},null,null,null,{"$f":"N20","v":2212},{"$f":"COUNTIF(L64:L92,AD20)","v":3},null,null,null,{"$f":"N20","v":2212},{"$f":"COUNTIF(L93:L121,AI20)","v":5},null,null,null,{"$f":"N20","v":2212},{"$f":"COUNTIF(L122:L149,AN20)","v":4},null,null,null,{"$f":"N20","v":2212},{"$f":"COUNTIF(L150:L178,AS20)","v":4}]
[21,1888,21,1912,22,1920,23,1927,null,null,0,2222,null,2221,{"$f":"COUNTIF($L$7:$L$500,N21)","v":5},{"$f":"O21/$Q$4","v":2.9239766081871343E-2},{"$f":"IF(P21=0,0,(P21*((LOG(P21))/LOG(2))))","v":-0.14900363801165309},null,null,{"$f":"N21","v":2221},{"$f":"COUNTIF(L7:L35,T21)","v":0},{"$f":"U21/(W4-U20)","v":0},{"$f":"IF(V21=0,0,(V21*((LOG(V21))/LOG(2))))","v":0},null,{"$f":"N21","v":2221},{"$f":"COUNTIF(L36:L63,Y21)","v":1},{"$f":"Z21/(AB4-Z20)","v":3.7037037037037035E-2},{"$f":"IF(AA21=0,0,(AA21*((LOG(AA21))/LOG(2))))","v":-0.1761069445245729},null,{"$f":"N21","v":2221},{"$f":"COUNTIF(L64:L92,AD21)","v":0},{"$f":"AE21/(AG4-AE20)","v":0},{"$f":"IF(AF21=0,0,(AF21*((LOG(AF21))/LOG(2))))","v":0},null,{"$f":"N21","v":2221},{"$f":"COUNTIF(L93:L121,AI21)","v":2},{"$f":"AJ21/(AL4-AJ20)","v":8.3333333333333329E-2},{"$f":"IF(AK21=0,0,(AK21*((LOG(AK21))/LOG(2))))","v":-0.29874687506009634},null,{"$f":"N21","v":2221},{"$f":"COUNTIF(L122:L149,AN21)","v":1},{"$f":"AO21/(AQ4-AO20)","v":4.1666666666666664E-2},{"$f":"IF(AP21=0,0,(AP21*((LOG(AP21))/LOG(2))))","v":-0.19104010419671485},null,{"$f":"N21","v":2221},{"$f":"COUNTIF(L150:L178,AS21)","v":1},{"$f":"AT21/(AV4-AT20)","v":4.1666666666666664E-2},{"$f":"IF(AU21=0,0,(AU21*((LOG(AU21))/LOG(2))))","v":-0.19104010419671485}]
[21,2056,21,2072,22,2075,23,2081,null,null,0,2222,null,2222,{"$f":"COUNTIF($L$7:$L$500,N22)","v":45},{"$f":"O22/$Q$4","v":0.26315789473684209},{"$f":"IF(P22=0,0,(P22*((LOG(P22))/LOG(2))))","v":-0.50684195225163764},null,null,{"$f":"N22","v":2222},{"$f":"COUNTIF(L7:L35,T22)","v":8},{"$f":"U22/(W4-U20)","v":0.30769230769230771},{"$f":"IF(V22=0,0,(V22*((LOG(V22))/LOG(2))))","v":-0.52321222096648989},null,{"$f":"N22","v":2222},{"$f":"COUNTIF(L36:L63,Y22)","v":11},{"$f":"Z22/(AB4-Z20)","v":0.40740740740740738},{"$f":"IF(AA22=0,0,(AA22*((LOG(AA22))/LOG(2))))","v":-0.52777832291806981},null,{"$f":"N22","v":2222},{"$f":"COUNTIF(L64:L92,AD22)","v":10},{"$f":"AE22/(AG4-AE20)","v":0.38461538461538464},{"$f":"IF(AF22=0,0,(AF22*((LOG(AF22))/LOG(2))))","v":-0.53019677817451139},null,{"$f":"N22","v":2222},{"$f":"COUNTIF(L93:L121,AI22)","v":8},{"$f":"AJ22/(AL4-AJ20)","v":0.33333333333333331},{"$f":"IF(AK22=0,0,(AK22*((LOG(AK22))/LOG(2))))","v":-0.52832083357371862},null,{"$f":"N22","v":2222},{"$f":"COUNTIF(L122:L149,AN22)","v":4},{"$f":"AO22/(AQ4-AO20)","v":0.16666666666666666},{"$f":"IF(AP22=0,0,(AP22*((LOG(AP22))/LOG(2))))","v":-0.43082708345352599},null,{"$f":"N22","v":2222},{"$f":"COUNTIF(L150:L178,AS22)","v":4},{"$f":"AT22/(AV4-AT20)","v":0.16666666666666666},{"$f":"IF(AU22=0,0,(AU22*((LOG(AU22))/LOG(2))))","v":-0.43082708345352599}]
[21,2178,21,2183,22,2198,23,2206,null,null,0,2222,null,null,null,{"$f":"SUM(P7:P22)","v":0.99999999999999978},{"$f":"-SUM(Q7:Q22)","v":2.3514787432736517},null,null,null,null,{"$f":"SUM(V7:V22)","v":1},{"$f":"-SUM(W7:W22)","v":1.8672324766238968},null,null,null,{"$f":"SUM(AA7:AA22)","v":1},{"$f":"-SUM(AB7:AB22)","v":1.5760658237994831},null,null,null,{"$f":"SUM(AF7:AF22)","v":1},{"$f":"-SUM(AG7:AG22)","v":1.5766212201074912},null,null,null,{"$f":"SUM(AK7:AK22)","v":1},{"$f":"-SUM(AL7:AL22)","v":2.3035088547976779},null,null,null,{"$f":"SUM(AP7:AP22)","v":1},{"$f":"-SUM(AQ7:AQ22)","v":2.2440954395801547},null,null,null,{"$f":"SUM(AU7:AU22)","v":1},{"$f":"-SUM(AV7:AV22)","v":1.8129072918469558}]
[21,2302,21,2306,22,2333,23,2347,null,null,0,2222,null,null,null,"U=",{"$f":"Q23/(LOG(Q4)/LOG(2))","v":0.31700262826131731},null,null,null,null,"U1=",{"$f":"W23/(LOG(W4)/LOG(2))","v":0.38436389078028138},null,null,null,"U2=",{"$f":"AB23/(LOG(AB4)/LOG(2))","v":0.32784469824934598},null,null,null,"U3=",{"$f":"AG23/(LOG(AG4)/LOG(2))","v":0.32454248414903253},null,null,null,"U4=",{"$f":"AL23/(LOG(AL4)/LOG(2))","v":0.47417000130466486},null,null,null,"U5=",{"$f":"AQ23/(LOG(AQ4)/LOG(2))","v":0.46680461001195556},null,null,null,"U6=",{"$f":"AV23/(LOG(AV4)/LOG(2))","v":0.37711118093835483}]
[21,2444,12,2458,24,2467,23,2474,null,null,0,2122]
[21,2572,12,2587,24,2598,23,2609,null,null,0,2122]
[21,2707,21,2712,11,2724,21,2736,null,null,0,2212,null,"Total Target Seq"]
[21,2915,12,2926,24,2934,23,2942,null,null,0,2122,null,{"$f":"COUNTIF(L7:L178,G3)","v":20},null,29,28,29,29,28,29]
[12,3047,23,3054,24,3058,23,3063,null,null,0,1222,null,null,null,"% of reinforcement given in 6 equal intervals based on number of trials "]
[21,3161,21,3165,11,3173,21,3185,null,null,0,2212,null,null,null,"%_1","%_2","%_3","%_4","%_5","%_6"]
[21,3322,21,3338,22,3343,23,3353,null,null,0,2222,null,null,"target sequence",{"$f":"$G$3","v":2212},{"$f":"$G$3","v":2212},{"$f":"$G$3","v":2212},{"$f":"$G$3","v":2212},{"$f":"$G$3","v":2212},{"$f":"$G$3","v":2212}]
[21,3450,21,3455,22,3471,23,3482,null,null,0,2222,null,null,"total reinforcement",{"$f":"U20","v":3},{"$f":"Z20","v":1},{"$f":"AE20","v":3},{"$f":"AJ20","v":5},{"$f":"AO20","v":4},{"$f":"AT20","v":4}]
[21,3580,12,3590,24,3597,23,3601,null,null,0,2122,null,null,"% target"]
[21,3700,21,3705,22,3718,23,3723,null,null,0,2222,null,null,"CCRF"]
[21,3820,12,3827,13,3833,23,3840,null,null,0,2112,null,null,"% CCRf"]
[21,3937,12,3944,24,3952,23,3956,null,null,0,2122,null,null,"average response rate",{"$f":"H35/P28","v":132.41379310344828},{"$f":"(H63-H35)/Q28","v":132.5},{"$f":"(H92-H63)/R28","v":135.13793103448276},{"$f":"(H121-H92)/S28","v":145.9655172413793},{"$f":"(H149-H121)/T28","v":145.46428571428572},{"$f":"(H178-H149)/U28","v":-681.89655172413791}]
[21,4056,12,4065,24,4072,23,4077,null,null,0,2122]
[21,4219,21,4238,22,4245,23,4253,null,null,0,2222]
[21,4349,12,4359,24,4366,23,4369,null,null,0,2122]
[21,4465,21,4469,22,4496,23,4506,null,null,0,2222]
[21,4601,21,4606,22,4620,23,4629,null,null,0,2222]
[21,4726,21,4731,11,4741,21,4747,null,null,0,2212]
[21,4919,12,4926,24,4934,23,4941,null,null,0,2122]
[21,5038,21,5043,22,5056,23,5064,null,null,0,2222]
[21,5165,12,5178,24,5194,23,5204,null,null,0,2122]
[21,5305,12,5313,24,5327,23,5341,null,null,0,2122]
[21,5438,21,5455,22,5460,23,5467,null,null,0,2222]
[21,5565,21,5571,22,5576,23,5589,null,null,0,2222]
[21,5686,21,5691,22,5733,23,5746,null,null,0,2222]
[12,5871,23,5877,24,5881,23,5887,null,null,0,1222]
[21,5986,12,6000,24,6007,23,6015,null,null,0,2122]
[21,6128,21,6136,22,6143,23,6149,null,null,0,2222]
[21,6248,12,6255,24,6262,23,6269,null,null,0,2122]
[21,6366,21,6371,22,6383,23,6391,null,null,0,2222]
[21,6486,21,6488,22,6493,14,6502,null,null,0,2221]
[21,6626,21,6631,22,6639,23,6645,null,null,0,2222]
[12,6749,23,6755,24,6760,23,6765,null,null,0,1222]
[21,6862,12,6874,24,6880,23,6895,null,null,0,2122]
[21,6996,21,7015,22,7022,23,7033,null,null,0,2222]
[12,7159,23,7171,24,7176,23,7182,null,null,0,1222]
[21,7279,12,7292,24,7302,23,7312,null,null,0,2122]
[21,7409,12,7420,24,7427,23,7431,null,null,0,2122]
[21,7531,12,7538,24,7547,23,7550,null,null,0,2122]
[21,7651,12,7660,24,7667,23,7672,null,null,0,2122]
[12,7781,23,7791,24,7803,23,7810,null,null,0,1222]
[12,7914,23,7922,24,7927,23,7931,null,null,0,1222]
[21,8027,12,8034,24,8041,23,8047,null,null,0,2122]
[21,8162,21,8172,22,8190,23,8197,null,null,0,2222]
[21,8295,21,8301,11,8308,21,8315,null,null,0,2212]
[12,8513,23,8524,24,8528,23,8533,null,null,0,1222]
[12,8644,23,8651,24,8656,23,8665,null,null,0,1222]
[21,8763,21,8767,22,8785,23,8789,null,null,0,2222]
[21,8885,21,8887,22,8891,23,8904,null,null,0,2222]
[21,9002,21,9010,22,9026,23,9031,null,null,0,2222]
[21,9127,12,9137,24,9148,23,9151,null,null,0,2122]
[21,9249,21,9264,22,9269,23,9281,null,null,0,2222]
[21,9380,21,9388,22,9394,23,9405,null,null,0,2222]
[21,9501,21,9505,22,9525,23,9536,null,null,0,2222]
[21,9632,12,9641,24,9649,23,9653,null,null,0,2122]
[21,9753,21,9772,22,9776,23,9784,null,null,0,2222]
[21,9881,12,9894,24,9900,23,9903,null,null,0,2122]
[21,10001,12,10019,24,10025,23,10029,null,null,0,2122]
[21,10126,21,10157,22,10168,23,10176,null,null,0,2222]
[21,10272,21,10295,22,10301,23,10320,null,null,0,2222]
[21,10415,21,10420,11,10428,21,10435,null,null,0,2212]
[12,10626,23,10646,24,10653,23,10665,null,null,0,1222]
[21,10765,12,10773,24,10789,23,10795,null,null,0,2122]
[12,10902,23,10909,24,10915,23,10925,null,null,0,1222]
[12,11031,23,11040,24,11044,23,11047,null,null,0,1222]
[21,11145,21,11148,11,11157,21,11184,null,null,0,2212]
[12,11329,23,11336,24,11341,23,11348,null,null,0,1222]
[21,11447,12,11454,24,11463,23,11469,null,null,0,2122]
[12,11573,14,11583,24,11589,23,11592,null,null,0,1122]
[21,11690,21,11694,11,11705,21,11714,null,null,0,2212]
[12,11913,23,11922,24,11926,23,11933,null,null,0,1222]
[21,12033,12,12043,24,12050,23,12060,null,null,0,2122]
[21,12155,21,12160,11,12167,21,12176,null,null,0,2212]
[12,12369,14,12373,13,12375,23,12385,null,null,0,1112]
[12,12500,23,12509,13,12560,23,12568,null,null,0,1212]
[21,12667,12,12677,24,12690,23,12714,null,null,0,2122]
[21,12810,21,12813,11,12827,21,12862,null,null,0,2212]
[12,13016,23,13027,24,13032,23,13039,null,null,0,1222]
[21,13137,21,13157,22,13161,14,13198,null,null,0,2221]
[21,13315,21,13320,22,13331,23,13338,null,null,0,2222]
[21,13437,12,13451,24,13458,23,13472,null,null,0,2122]
[21,13589,21,13592,22,13597,23,13605,null,null,0,2222]
[21,13704,21,13709,22,13722,23,13735,null,null,0,2222]
[21,13833,21,13837,22,13873,14,13998,null,null,0,2221]
[21,14095,21,14099,22,14103,23,14120,null,null,0,2222]
[21,14218,21,14240,22,14251,23,14261,null,null,0,2222]
[21,14357,12,14368,24,14375,23,14401,null,null,0,2122]
[21,14499,12,14507,24,14514,23,14520,null,null,0,2122]
[21,14616,21,14632,22,14641,23,14649,null,null,0,2222]
[21,14745,21,14750,11,14758,21,14775,null,null,0,2212]
[12,14941,23,14948,24,14954,23,14961,null,null,0,1222]
[21,15060,12,15068,24,15077,23,15085,null,null,0,2122]
[21,15190,21,15206,22,15220,23,15228,null,null,0,2222]
[21,15325,21,15330,22,15334,23,15340,null,null,0,2222]
[21,15439,12,15450,24,15456,23,15465,null,null,0,2122]
[21,15563,12,15572,24,15578,23,15585,null,null,0,2122]
[21,15680,21,15684,11,15696,21,15702,null,null,0,2212]
[12,15822,23,15830,24,15834,23,15841,null,null,0,1222]
[12,15943,23,15958,24,15964,23,15970,null,null,0,1222]
[12,16101,23,16117,24,16123,23,16129,null,null,0,1222]
[21,16226,12,16239,24,16254,23,16266,null,null,0,2122]
[21,16363,12,16372,24,16379,23,16382,null,null,0,2122]
[21,16479,12,16490,24,16497,23,16500,null,null,0,2122]
[21,16605,12,16613,24,16621,23,16625,null,null,0,2122]
[21,16720,21,16724,22,16728,23,16757,null,null,0,2222]
[21,16854,21,16859,11,16869,21,16878,null,null,0,2212]
[21,17124,21,17133,22,17141,23,17149,null,null,0,2222]
[21,17246,12,17255,24,17263,23,17266,null,null,0,2122]
[21,17363,12,17372,13,17378,23,17387,null,null,0,2112]
[21,17485,21,17487,11,17497,21,17503,null,null,0,2212]
[12,17709,23,17721,24,17726,23,17733,null,null,0,1222]
[21,17832,21,17836,22,17854,14,17906,null,null,0,2221]
[21,18003,12,18011,24,18018,23,18021,null,null,0,2122]
[21,18119,21,18124,11,18134,21,18148,null,null,0,2212]
[12,18359,23,18365,24,18369,23,18427,null,null,0,1222]
[12,18528,23,18537,24,18540,23,18546,null,null,0,1222]
[21,18644,21,18669,22,18681,23,18693,null,null,0,2222]
[21,18793,12,18805,24,18813,14,18861,null,null,0,2121]
[21,18958,12,18967,24,18976,23,18983,null,null,0,2122]
[12,19093,23,19123,24,19134,23,19147,null,null,0,1222]
[21,19244,21,19250,22,19265,23,19270,null,null,0,2222]
[21,19366,12,19374,24,19397,23,19415,null,null,0,2122]
[21,19511,12,19521,24,19528,23,19533,null,null,0,2122]
[12,19642,14,19648,24,19655,23,19662,null,null,0,1122]
[21,19757,21,19760,11,19768,21,19775,null,null,0,2212]
[12,19979,14,19984,24,19996,23,20000,null,null,0,1122]
[12,20111,23,20119,24,20127,23,20137,null,null,0,1222]
[21,20234,12,20241,24,20257,23,20263,null,null,0,2122]
[21,20359,21,20361,11,20370,21,20378,null,null,0,2212]
[21,20549,12,20557,24,20566,23,20571,null,null,0,2122]
[21,20666,12,20676,24,20695,23,20704,null,null,0,2122]
[21,20801,12,20810,24,20818,23,20823,null,null,0,2122]
[21,20922,21,20928,11,20937,21,20954,null,null,0,2212]
[12,21134,23,21144,24,21149,23,21192,null,null,0,1222]
[12,21336,23,21343,24,21347,23,21353,null,null,0,1222]
[21,21452,12,21460,24,21468,23,21472,null,null,0,2122]
[21,21568,21,21572,22,21585,23,21593,null,null,0,2222]
[21,21691,21,21697,11,21706,21,21715,null,null,0,2212]
[12,21900,23,21911,24,21916,23,21924,null,null,0,1222]
[21,22021,21,22065,22,22075,14,22104,null,null,0,2221]
[21,22201,21,22228,22,22247,23,22252,null,null,0,2222]
[21,22351,12,22363,24,22401,23,22413,null,null,0,2122]
[21,22510,21,22515,22,22533,23,22543,null,null,0,2222]
[21,22641,12,22650,24,22659,23,22670,null,null,0,2122]
[12,22781,23,22797,24,22801,23,22804,null,null,0,1222]
[21,22902,12,22910,24,22918,23,22929,null,null,0,2122]
[21,23028,21,23044,22,23060,23,23067,null,null,0,2222]
[21,23164,12,23174,24,23184,23,23191,null,null,0,2122]
[21,23287,21,23291,11,23300,21,23322,null,null,0,2212]
[12,23491,23,23501,24,23508,23,23515,null,null,0,1222]
[21,23613,12,23622,24,23631,23,23648,null,null,0,2122]
[21,23746,12,23755,24,23764,23,23770,null,null,0,2122]
[21,23869,12,23881,24,23889,23,23898,null,null,0,2122]
[12,23998,null,null,null,null,null,null,null,null,null,1]

{"sheet":"!LC07A04..Is","index":29,"n_rows":170,"n_cols":48,"rows_kept":170,"cut":false,"hidden":false,"merged":[[4,39,4,42],[5,39,5,40],[4,44,4,47],[5,44,5,45],[4,24,4,27],[5,24,5,25],[4,29,4,32],[5,29,5,30],[4,34,4,37],[5,34,5,35],[1,1,1,2],[5,13,5,14],[26,13,26,14],[27,13,27,14],[4,19,4,22],[5,19,5,20]]}
["Report for:!LC07A04..Is"]
["Date:","<date>"]
["Hen:","<hen>",null,null,null,"Correct Sequence",{"$f":"Start!J2","v":2212},null,null,null,null,null,null,null,null,"Total Sequences in Data",{"$f":"4994-COUNTBLANK(L7:L5000)","v":164},null,null,null,null,"Total Sequences in Block Data",{"$f":"COUNTA(L7:L33)","v":27},null,null,null,"Total Sequences in Block Data",{"$f":"COUNTA(L34:L61)","v":28},null,null,null,"Total Sequences in Block Data",{"$f":"COUNTA(L62:L88)","v":27},null,null,null,"Total Sequences in Block Data",{"$f":"COUNTA(L89:L115)","v":27},null,null,null,"Total Sequences in Block Data",{"$f":"COUNTA(L116:L143)","v":28},null,null,null,"Total Sequences in Block Data",{"$f":"COUNTA(L144:L170)","v":27}]
[null,null,null,null,null,null,null,null,null,null,null,null,null,null,null,"Total Sequences in Summary",{"$f":"SUM(O7:O22)","v":164},null,null,null,null,"Total Sequences in Block Summary",{"$f":"SUM(U7:U22)","v":27},null,null,null,"Total Sequences in Block Summary",{"$f":"SUM(Z7:Z22)","v":28},null,null,null,"Total Sequences in Block Summary",{"$f":"SUM(AE7:AE22)","v":27},null,null,null,"Total Sequences in Block Summary",{"$f":"SUM(AJ7:AJ22)","v":27},null,null,null,"Total Sequences in Block Summary",{"$f":"SUM(AO7:AO22)","v":28},null,null,null,"Total Sequences in Block Summary",{"$f":"SUM(AT7:AT22)","v":27}]
[null,null,null,null,null,null,null,null,null,null,null,null,null,null,null,null,null,null,null,"Block 1",null,null,null,null,"Block 2",null,null,null,null,"Block 3",null,null,null,null,"Block 4",null,null,null,null,"Block 5",null,null,null,null,"Block 6"]
["Sequence\nComponent\n1","Time\n1","Sequence\nComponent\n2","Time\n2","Sequence\nComponent\n3","Time\n3","Sequence\nComponent\n4","Time\n4","Sequence\nComponent\n5","Time\n5","Correct?\n0=No 1=Yes","Sequence",null,"Frequency",null,"Relative Frequency","Variability",null,null,"Frequency",null,"Relative Frequency","Variability",null,"Frequency",null,"Relative Frequency","Variability",null,"Frequency",null,"Relative Frequency","Variability",null,"Frequency",null,"Relative Frequency","Variability",null,"Frequency",null,"Relative Frequency","Variability",null,"Frequency",null,"Relative Frequency","Variability"]
[12,87,23,147,24,151,23,157,null,null,0,1222,null,1111,{"$f":"COUNTIF($L$7:$L$500,N7)","v":0},{"$f":"O7/$Q$4","v":0},{"$f":"IF(P7=0,0,(P7*((LOG(P7))/LOG(2))))","v":0},null,null,{"$f":"N7","v":1111},{"$f":"COUNTIF(L7:L33,T7)","v":0},{"$f":"U7/(W4-U20)","v":0},{"$f":"IF(V7=0,0,(V7*((LOG(V7))/LOG(2))))","v":0},null,{"$f":"N7","v":1111},{"$f":"COUNTIF(L34:L61,Y7)","v":0},{"$f":"Z7/(AB4-Z20)","v":0},{"$f":"IF(AA7=0,0,(AA7*((LOG(AA7))/LOG(2))))","v":0},null,{"$f":"N7","v":1111},{"$f":"COUNTIF(L62:L88,AD7)","v":0},{"$f":"AE7/(AG4-AE20)","v":0},{"$f":"IF(AF7=0,0,(AF7*((LOG(AF7))/LOG(2))))","v":0},null,{"$f":"N7","v":1111},{"$f":"COUNTIF(L89:L115,AI7)","v":0},{"$f":"AJ7/(AL4-AJ20)","v":0},{"$f":"IF(AK7=0,0,(AK7*((LOG(AK7))/LOG(2))))","v":0},null,{"$f":"N7","v":1111},{"$f":"COUNTIF(L116:L143,AN7)","v":0},{"$f":"AO7/(AQ4-AO20)","v":0},{"$f":"IF(AP7=0,0,(AP7*((LOG(AP7))/LOG(2))))","v":0},null,{"$f":"N7","v":1111},{"$f":"COUNTIF(L144:L170,AS7)","v":0},{"$f":"AT7/(AV4-AT20)","v":0},{"$f":"IF(AU7=0,0,(AU7*((LOG(AU7))/LOG(2))))","v":0}]
[21,283,12,291,24,300,23,304,null,null,0,2122,null,1112,{"$f":"COUNTIF($L$7:$L$500,N8)","v":0},{"$f":"O8/$Q$4","v":0},{"$f":"IF(P8=0,0,(P8*((LOG(P8))/LOG(2))))","v":0},null,null,{"$f":"N8","v":1112},{"$f":"COUNTIF(L7:L33,T8)","v":0},{"$f":"U8/(W4-U20)","v":0},{"$f":"IF(V8=0,0,(V8*((LOG(V8))/LOG(2))))","v":0},null,{"$f":"N8","v":1112},{"$f":"COUNTIF(L34:L61,Y8)","v":0},{"$f":"Z8/(AB4-Z20)","v":0},{"$f":"IF(AA8=0,0,(AA8*((LOG(AA8))/LOG(2))))","v":0},null,{"$f":"N8","v":1112},{"$f":"COUNTIF(L62:L88,AD8)","v":0},{"$f":"AE8/(AG4-AE20)","v":0},{"$f":"IF(AF8=0,0,(AF8*((LOG(AF8))/LOG(2))))","v":0},null,{"$f":"N8","v":1112},{"$f":"COUNTIF(L89:L115,AI8)","v":0},{"$f":"AJ8/(AL4-AJ20)","v":0},{"$f":"IF(AK8=0,0,(AK8*((LOG(AK8))/LOG(2))))","v":0},null,{"$f":"N8","v":1112},{"$f":"COUNTIF(L116:L143,AN8)","v":0},{"$f":"AO8/(AQ4-AO20)","v":0},{"$f":"IF(AP8=0,0,(AP8*((LOG(AP8))/LOG(2))))","v":0},null,{"$f":"N8","v":1112},{"$f":"COUNTIF(L144:L170,AS8)","v":0},{"$f":"AT8/(AV4-AT20)","v":0},{"$f":"IF(AU8=0,0,(AU8*((LOG(AU8))/LOG(2))))","v":0}]
[21,401,21,406,11,416,21,423,null,null,0,2212,null,1121,{"$f":"COUNTIF($L$7:$L$500,N9)","v":0},{"$f":"O9/$Q$4","v":0},{"$f":"IF(P9=0,0,(P9*((LOG(P9))/LOG(2))))","v":0},null,null,{"$f":"N9","v":1121},{"$f":"COUNTIF(L7:L33,T9)","v":0},{"$f":"U9/(W4-U20)","v":0},{"$f":"IF(V9=0,0,(V9*((LOG(V9))/LOG(2))))","v":0},null,{"$f":"N9","v":1121},{"$f":"COUNTIF(L34:L61,Y9)","v":0},{"$f":"Z9/(AB4-Z20)","v":0},{"$f":"IF(AA9=0,0,(AA9*((LOG(AA9))/LOG(2))))","v":0},null,{"$f":"N9","v":1121},{"$f":"COUNTIF(L62:L88,AD9)","v":0},{"$f":"AE9/(AG4-AE20)","v":0},{"$f":"IF(AF9=0,0,(AF9*((LOG(AF9))/LOG(2))))","v":0},null,{"$f":"N9","v":1121},{"$f":"COUNTIF(L89:L115,AI9)","v":0},{"$f":"AJ9/(AL4-AJ20)","v":0},{"$f":"IF(AK9=0,0,(AK9*((LOG(AK9))/LOG(2))))","v":0},null,{"$f":"N9","v":1121},{"$f":"COUNTIF(L116:L143,AN9)","v":0},{"$f":"AO9/(AQ4-AO20)","v":0},{"$f":"IF(AP9=0,0,(AP9*((LOG(AP9))/LOG(2))))","v":0},null,{"$f":"N9","v":1121},{"$f":"COUNTIF(L144:L170,AS9)","v":0},{"$f":"AT9/(AV4-AT20)","v":0},{"$f":"IF(AU9=0,0,(AU9*((LOG(AU9))/LOG(2))))","v":0}]
[21,535,12,545,24,553,23,561,null,null,0,2122,null,1122,{"$f":"COUNTIF($L$7:$L$500,N10)","v":2},{"$f":"O10/$Q$4","v":1.2195121951219513E-2},{"$f":"IF(P10=0,0,(P10*((LOG(P10))/LOG(2))))","v":-7.7531122007537603E-2},null,null,{"$f":"N10","v":1122},{"$f":"COUNTIF(L7:L33,T10)","v":0},{"$f":"U10/(W4-U20)","v":0},{"$f":"IF(V10=0,0,(V10*((LOG(V10))/LOG(2))))","v":0},null,{"$f":"N10","v":1122},{"$f":"COUNTIF(L34:L61,Y10)","v":0},{"$f":"Z10/(AB4-Z20)","v":0},{"$f":"IF(AA10=0,0,(AA10*((LOG(AA10))/LOG(2))))","v":0},null,{"$f":"N10","v":1122},{"$f":"COUNTIF(L62:L88,AD10)","v":1},{"$f":"AE10/(AG4-AE20)","v":4.7619047619047616E-2},{"$f":"IF(AF10=0,0,(AF10*((LOG(AF10))/LOG(2))))","v":-0.20915797251327431},null,{"$f":"N10","v":1122},{"$f":"COUNTIF(L89:L115,AI10)","v":0},{"$f":"AJ10/(AL4-AJ20)","v":0},{"$f":"IF(AK10=0,0,(AK10*((LOG(AK10))/LOG(2))))","v":0},null,{"$f":"N10","v":1122},{"$f":"COUNTIF(L116:L143,AN10)","v":0},{"$f":"AO10/(AQ4-AO20)","v":0},{"$f":"IF(AP10=0,0,(AP10*((LOG(AP10))/LOG(2))))","v":0},null,{"$f":"N10","v":1122},{"$f":"COUNTIF(L144:L170,AS10)","v":1},{"$f":"AT10/(AV4-AT20)","v":4.1666666666666664E-2},{"$f":"IF(AU10=0,0,(AU10*((LOG(AU10))/LOG(2))))","v":-0.19104010419671485}]
[21,659,12,673,24,680,23,684,null,null,0,2122,null,1211,{"$f":"COUNTIF($L$7:$L$500,N11)","v":0},{"$f":"O11/$Q$4","v":0},{"$f":"IF(P11=0,0,(P11*((LOG(P11))/LOG(2))))","v":0},null,null,{"$f":"N11","v":1211},{"$f":"COUNTIF(L7:L33,T11)","v":0},{"$f":"U11/(W4-U20)","v":0},{"$f":"IF(V11=0,0,(V11*((LOG(V11))/LOG(2))))","v":0},null,{"$f":"N11","v":1211},{"$f":"COUNTIF(L34:L61,Y11)","v":0},{"$f":"Z11/(AB4-Z20)","v":0},{"$f":"IF(AA11=0,0,(AA11*((LOG(AA11))/LOG(2))))","v":0},null,{"$f":"N11","v":1211},{"$f":"COUNTIF(L62:L88,AD11)","v":0},{"$f":"AE11/(AG4-AE20)","v":0},{"$f":"IF(AF11=0,0,(AF11*((LOG(AF11))/LOG(2))))","v":0},null,{"$f":"N11","v":1211},{"$f":"COUNTIF(L89:L115,AI11)","v":0},{"$f":"AJ11/(AL4-AJ20)","v":0},{"$f":"IF(AK11=0,0,(AK11*((LOG(AK11))/LOG(2))))","v":0},null,{"$f":"N11","v":1211},{"$f":"COUNTIF(L116:L143,AN11)","v":0},{"$f":"AO11/(AQ4-AO20)","v":0},{"$f":"IF(AP11=0,0,(AP11*((LOG(AP11))/LOG(2))))","v":0},null,{"$f":"N11","v":1211},{"$f":"COUNTIF(L144:L170,AS11)","v":0},{"$f":"AT11/(AV4-AT20)","v":0},{"$f":"IF(AU11=0,0,(AU11*((LOG(AU11))/LOG(2))))","v":0}]
[21,782,21,788,11,796,21,807,null,null,0,2212,null,1212,{"$f":"COUNTIF($L$7:$L$500,N12)","v":0},{"$f":"O12/$Q$4","v":0},{"$f":"IF(P12=0,0,(P12*((LOG(P12))/LOG(2))))","v":0},null,null,{"$f":"N12","v":1212},{"$f":"COUNTIF(L7:L33,T12)","v":0},{"$f":"U12/(W4-U20)","v":0},{"$f":"IF(V12=0,0,(V12*((LOG(V12))/LOG(2))))","v":0},null,{"$f":"N12","v":1212},{"$f":"COUNTIF(L34:L61,Y12)","v":0},{"$f":"Z12/(AB4-Z20)","v":0},{"$f":"IF(AA12=0,0,(AA12*((LOG(AA12))/LOG(2))))","v":0},null,{"$f":"N12","v":1212},{"$f":"COUNTIF(L62:L88,AD12)","v":0},{"$f":"AE12/(AG4-AE20)","v":0},{"$f":"IF(AF12=0,0,(AF12*((LOG(AF12))/LOG(2))))","v":0},null,{"$f":"N12","v":1212},{"$f":"COUNTIF(L89:L115,AI12)","v":0},{"$f":"AJ12/(AL4-AJ20)","v":0},{"$f":"IF(AK12=0,0,(AK12*((LOG(AK12))/LOG(2))))","v":0},null,{"$f":"N12","v":1212},{"$f":"COUNTIF(L116:L143,AN12)","v":0},{"$f":"AO12/(AQ4-AO20)","v":0},{"$f":"IF(AP12=0,0,(AP12*((LOG(AP12))/LOG(2))))","v":0},null,{"$f":"N12","v":1212},{"$f":"COUNTIF(L144:L170,AS12)","v":0},{"$f":"AT12/(AV4-AT20)","v":0},{"$f":"IF(AU12=0,0,(AU12*((LOG(AU12))/LOG(2))))","v":0}]
[21,927,21,931,22,936,23,943,null,null,0,2222,null,1221,{"$f":"COUNTIF($L$7:$L$500,N13)","v":0},{"$f":"O13/$Q$4","v":0},{"$f":"IF(P13=0,0,(P13*((LOG(P13))/LOG(2))))","v":0},null,null,{"$f":"N13","v":1221},{"$f":"COUNTIF(L7:L33,T13)","v":0},{"$f":"U13/(W4-U20)","v":0},{"$f":"IF(V13=0,0,(V13*((LOG(V13))/LOG(2))))","v":0},null,{"$f":"N13","v":1221},{"$f":"COUNTIF(L34:L61,Y13)","v":0},{"$f":"Z13/(AB4-Z20)","v":0},{"$f":"IF(AA13=0,0,(AA13*((LOG(AA13))/LOG(2))))","v":0},null,{"$f":"N13","v":1221},{"$f":"COUNTIF(L62:L88,AD13)","v":0},{"$f":"AE13/(AG4-AE20)","v":0},{"$f":"IF(AF13=0,0,(AF13*((LOG(AF13))/LOG(2))))","v":0},null,{"$f":"N13","v":1221},{"$f":"COUNTIF(L89:L115,AI13)","v":0},{"$f":"AJ13/(AL4-AJ20)","v":0},{"$f":"IF(AK13=0,0,(AK13*((LOG(AK13))/LOG(2))))","v":0},null,{"$f":"N13","v":1221},{"$f":"COUNTIF(L116:L143,AN13)","v":0},{"$f":"AO13/(AQ4-AO20)","v":0},{"$f":"IF(AP13=0,0,(AP13*((LOG(AP13))/LOG(2))))","v":0},null,{"$f":"N13","v":1221},{"$f":"COUNTIF(L144:L170,AS13)","v":0},{"$f":"AT13/(AV4-AT20)","v":0},{"$f":"IF(AU13=0,0,(AU13*((LOG(AU13))/LOG(2))))","v":0}]
[12,1055,23,1064,24,1072,23,1080,null,null,0,1222,null,1222,{"$f":"COUNTIF($L$7:$L$500,N14)","v":19},{"$f":"O14/$Q$4","v":0.11585365853658537},{"$f":"IF(P14=0,0,(P14*((LOG(P14))/LOG(2))))","v":-0.36026137397753333},null,null,{"$f":"N14","v":1222},{"$f":"COUNTIF(L7:L33,T14)","v":2},{"$f":"U14/(W4-U20)","v":0.1},{"$f":"IF(V14=0,0,(V14*((LOG(V14))/LOG(2))))","v":-0.33219280948873625},null,{"$f":"N14","v":1222},{"$f":"COUNTIF(L34:L61,Y14)","v":4},{"$f":"Z14/(AB4-Z20)","v":0.18181818181818182},{"$f":"IF(AA14=0,0,(AA14*((LOG(AA14))/LOG(2))))","v":-0.44716938520678134},null,{"$f":"N14","v":1222},{"$f":"COUNTIF(L62:L88,AD14)","v":3},{"$f":"AE14/(AG4-AE20)","v":0.14285714285714285},{"$f":"IF(AF14=0,0,(AF14*((LOG(AF14))/LOG(2))))","v":-0.40105070315108626},null,{"$f":"N14","v":1222},{"$f":"COUNTIF(L89:L115,AI14)","v":3},{"$f":"AJ14/(AL4-AJ20)","v":0.13043478260869565},{"$f":"IF(AK14=0,0,(AK14*((LOG(AK14))/LOG(2))))","v":-0.3832955811307639},null,{"$f":"N14","v":1222},{"$f":"COUNTIF(L116:L143,AN14)","v":4},{"$f":"AO14/(AQ4-AO20)","v":0.16666666666666666},{"$f":"IF(AP14=0,0,(AP14*((LOG(AP14))/LOG(2))))","v":-0.43082708345352599},null,{"$f":"N14","v":1222},{"$f":"COUNTIF(L144:L170,AS14)","v":3},{"$f":"AT14/(AV4-AT20)","v":0.125},{"$f":"IF(AU14=0,0,(AU14*((LOG(AU14))/LOG(2))))","v":-0.375}]
[21,1179,21,1207,22,1213,23,1219,null,null,0,2222,null,2111,{"$f":"COUNTIF($L$7:$L$500,N15)","v":0},{"$f":"O15/$Q$4","v":0},{"$f":"IF(P15=0,0,(P15*((LOG(P15))/LOG(2))))","v":0},null,null,{"$f":"N15","v":2111},{"$f":"COUNTIF(L7:L33,T15)","v":0},{"$f":"U15/(W4-U20)","v":0},{"$f":"IF(V15=0,0,(V15*((LOG(V15))/LOG(2))))","v":0},null,{"$f":"N15","v":2111},{"$f":"COUNTIF(L34:L61,Y15)","v":0},{"$f":"Z15/(AB4-Z20)","v":0},{"$f":"IF(AA15=0,0,(AA15*((LOG(AA15))/LOG(2))))","v":0},null,{"$f":"N15","v":2111},{"$f":"COUNTIF(L62:L88,AD15)","v":0},{"$f":"AE15/(AG4-AE20)","v":0},{"$f":"IF(AF15=0,0,(AF15*((LOG(AF15))/LOG(2))))","v":0},null,{"$f":"N15","v":2111},{"$f":"COUNTIF(L89:L115,AI15)","v":0},{"$f":"AJ15/(AL4-AJ20)","v":0},{"$f":"IF(AK15=0,0,(AK15*((LOG(AK15))/LOG(2))))","v":0},null,{"$f":"N15","v":2111},{"$f":"COUNTIF(L116:L143,AN15)","v":0},{"$f":"AO15/(AQ4-AO20)","v":0},{"$f":"IF(AP15=0,0,(AP15*((LOG(AP15))/LOG(2))))","v":0},null,{"$f":"N15","v":2111},{"$f":"COUNTIF(L144:L170,AS15)","v":0},{"$f":"AT15/(AV4-AT20)","v":0},{"$f":"IF(AU15=0,0,(AU15*((LOG(AU15))/LOG(2))))","v":0}]
[21,1321,21,1327,22,1333,23,1340,null,null,0,2222,null,2112,{"$f":"COUNTIF($L$7:$L$500,N16)","v":1},{"$f":"O16/$Q$4","v":6.0975609756097563E-3},{"$f":"IF(P16=0,0,(P16*((LOG(P16))/LOG(2))))","v":-4.4863121979378563E-2},null,null,{"$f":"N16","v":2112},{"$f":"COUNTIF(L7:L33,T16)","v":0},{"$f":"U16/(W4-U20)","v":0},{"$f":"IF(V16=0,0,(V16*((LOG(V16))/LOG(2))))","v":0},null,{"$f":"N16","v":2112},{"$f":"COUNTIF(L34:L61,Y16)","v":0},{"$f":"Z16/(AB4-Z20)","v":0},{"$f":"IF(AA16=0,0,(AA16*((LOG(AA16))/LOG(2))))","v":0},null,{"$f":"N16","v":2112},{"$f":"COUNTIF(L62:L88,AD16)","v":0},{"$f":"AE16/(AG4-AE20)","v":0},{"$f":"IF(AF16=0,0,(AF16*((LOG(AF16))/LOG(2))))","v":0},null,{"$f":"N16","v":2112},{"$f":"COUNTIF(L89:L115,AI16)","v":0},{"$f":"AJ16/(AL4-AJ20)","v":0},{"$f":"IF(AK16=0,0,(AK16*((LOG(AK16))/LOG(2))))","v":0},null,{"$f":"N16","v":2112},{"$f":"COUNTIF(L116:L143,AN16)","v":0},{"$f":"AO16/(AQ4-AO20)","v":0},{"$f":"IF(AP16=0,0,(AP16*((LOG(AP16))/LOG(2))))","v":0},null,{"$f":"N16","v":2112},{"$f":"COUNTIF(L144:L170,AS16)","v":1},{"$f":"AT16/(AV4-AT20)","v":4.1666666666666664E-2},{"$f":"IF(AU16=0,0,(AU16*((LOG(AU16))/LOG(2))))","v":-0.19104010419671485}]
[21,1438,12,1449,24,1476,23,1483,null,null,0,2122,null,2121,{"$f":"COUNTIF($L$7:$L$500,N17)","v":0},{"$f":"O17/$Q$4","v":0},{"$f":"IF(P17=0,0,(P17*((LOG(P17))/LOG(2))))","v":0},null,null,{"$f":"N17","v":2121},{"$f":"COUNTIF(L7:L33,T17)","v":0},{"$f":"U17/(W4-U20)","v":0},{"$f":"IF(V17=0,0,(V17*((LOG(V17))/LOG(2))))","v":0},null,{"$f":"N17","v":2121},{"$f":"COUNTIF(L34:L61,Y17)","v":0},{"$f":"Z17/(AB4-Z20)","v":0},{"$f":"IF(AA17=0,0,(AA17*((LOG(AA17))/LOG(2))))","v":0},null,{"$f":"N17","v":2121},{"$f":"COUNTIF(L62:L88,AD17)","v":0},{"$f":"AE17/(AG4-AE20)","v":0},{"$f":"IF(AF17=0,0,(AF17*((LOG(AF17))/LOG(2))))","v":0},null,{"$f":"N17","v":2121},{"$f":"COUNTIF(L89:L115,AI17)","v":0},{"$f":"AJ17/(AL4-AJ20)","v":0},{"$f":"IF(AK17=0,0,(AK17*((LOG(AK17))/LOG(2))))","v":0},null,{"$f":"N17","v":2121},{"$f":"COUNTIF(L116:L143,AN17)","v":0},{"$f":"AO17/(AQ4-AO20)","v":0},{"$f":"IF(AP17=0,0,(AP17*((LOG(AP17))/LOG(2))))","v":0},null,{"$f":"N17","v":2121},{"$f":"COUNTIF(L144:L170,AS17)","v":0},{"$f":"AT17/(AV4-AT20)","v":0},{"$f":"IF(AU17=0,0,(AU17*((LOG(AU17))/LOG(2))))","v":0}]
[21,1584,21,1591,11,1607,21,1617,null,null,0,2212,null,2122,{"$f":"COUNTIF($L$7:$L$500,N18)","v":62},{"$f":"O18/$Q$4","v":0.37804878048780488},{"$f":"IF(P18=0,0,(P18*((LOG(P18))/LOG(2))))","v":-0.53053690879472515},null,null,{"$f":"N18","v":2122},{"$f":"COUNTIF(L7:L33,T18)","v":8},{"$f":"U18/(W4-U20)","v":0.4},{"$f":"IF(V18=0,0,(V18*((LOG(V18))/LOG(2))))","v":-0.52877123795494496},null,{"$f":"N18","v":2122},{"$f":"COUNTIF(L34:L61,Y18)","v":11},{"$f":"Z18/(AB4-Z20)","v":0.5},{"$f":"IF(AA18=0,0,(AA18*((LOG(AA18))/LOG(2))))","v":-0.5},null,{"$f":"N18","v":2122},{"$f":"COUNTIF(L62:L88,AD18)","v":10},{"$f":"AE18/(AG4-AE20)","v":0.47619047619047616},{"$f":"IF(AF18=0,0,(AF18*((LOG(AF18))/LOG(2))))","v":-0.50970920375780859},null,{"$f":"N18","v":2122},{"$f":"COUNTIF(L89:L115,AI18)","v":9},{"$f":"AJ18/(AL4-AJ20)","v":0.39130434782608697},{"$f":"IF(AK18=0,0,(AK18*((LOG(AK18))/LOG(2))))","v":-0.5296840257187958},null,{"$f":"N18","v":2122},{"$f":"COUNTIF(L116:L143,AN18)","v":10},{"$f":"AO18/(AQ4-AO20)","v":0.41666666666666669},{"$f":"IF(AP18=0,0,(AP18*((LOG(AP18))/LOG(2))))","v":-0.52626433576408083},null,{"$f":"N18","v":2122},{"$f":"COUNTIF(L144:L170,AS18)","v":14},{"$f":"AT18/(AV4-AT20)","v":0.58333333333333337},{"$f":"IF(AU18=0,0,(AU18*((LOG(AU18))/LOG(2))))","v":-0.45360442088707198}]
[21,1800,21,1822,22,1826,23,1833,null,null,0,2222,null,2211,{"$f":"COUNTIF($L$7:$L$500,N19)","v":1},{"$f":"O19/$Q$4","v":6.0975609756097563E-3},{"$f":"IF(P19=0,0,(P19*((LOG(P19))/LOG(2))))","v":-4.4863121979378563E-2},null,null,{"$f":"N19","v":2211},{"$f":"COUNTIF(L7:L33,T19)","v":0},{"$f":"U19/(W4-U20)","v":0},{"$f":"IF(V19=0,0,(V19*((LOG(V19))/LOG(2))))","v":0},null,{"$f":"N19","v":2211},{"$f":"COUNTIF(L34:L61,Y19)","v":1},{"$f":"Z19/(AB4-Z20)","v":4.5454545454545456E-2},{"$f":"IF(AA19=0,0,(AA19*((LOG(AA19))/LOG(2))))","v":-0.20270143721078623},null,{"$f":"N19","v":2211},{"$f":"COUNTIF(L62:L88,AD19)","v":0},{"$f":"AE19/(AG4-AE20)","v":0},{"$f":"IF(AF19=0,0,(AF19*((LOG(AF19))/LOG(2))))","v":0},null,{"$f":"N19","v":2211},{"$f":"COUNTIF(L89:L115,AI19)","v":0},{"$f":"AJ19/(AL4-AJ20)","v":0},{"$f":"IF(AK19=0,0,(AK19*((LOG(AK19))/LOG(2))))","v":0},null,{"$f":"N19","v":2211},{"$f":"COUNTIF(L116:L143,AN19)","v":0},{"$f":"AO19/(AQ4-AO20)","v":0},{"$f":"IF(AP19=0,0,(AP19*((LOG(AP19))/LOG(2))))","v":0},null,{"$f":"N19","v":2211},{"$f":"COUNTIF(L144:L170,AS19)","v":0},{"$f":"AT19/(AV4-AT20)","v":0},{"$f":"IF(AU19=0,0,(AU19*((LOG(AU19))/LOG(2))))","v":0}]
[21,1970,12,1978,24,1987,23,1993,null,null,0,2122,null,2212,{"$f":"COUNTIF($L$7:$L$500,N20)","v":30},{"$f":"O20/$Q$4","v":0.18292682926829268},{"$f":"IF(P20=0,0,(P20*((LOG(P20))/LOG(2))))","v":-0.44829172116028626},null,null,{"$f":"N20","v":2212},{"$f":"COUNTIF(L7:L33,T20)","v":7},null,null,null,{"$f":"N20","v":2212},{"$f":"COUNTIF(L34:L61,Y20)","v":6},null,null,null,{"$f":"N20","v":2212},{"$f":"COUNTIF(L62:L88,AD20)","v":6},null,null,null,{"$f":"N20","v":2212},{"$f":"COUNTIF(L89:L115,AI20)","v":4},null,null,null,{"$f":"N20","v":2212},{"$f":"COUNTIF(L116:L143,AN20)","v":4},null,null,null,{"$f":"N20","v":2212},{"$f":"COUNTIF(L144:L170,AS20)","v":3}]
[21,2090,21,2095,22,2113,23,2119,null,null,0,2222,null,2221,{"$f":"COUNTIF($L$7:$L$500,N21)","v":4},{"$f":"O21/$Q$4","v":2.4390243902439025E-2},{"$f":"IF(P21=0,0,(P21*((LOG(P21))/LOG(2))))","v":-0.13067200011263619},null,null,{"$f":"N21","v":2221},{"$f":"COUNTIF(L7:L33,T21)","v":0},{"$f":"U21/(W4-U20)","v":0},{"$f":"IF(V21=0,0,(V21*((LOG(V21))/LOG(2))))","v":0},null,{"$f":"N21","v":2221},{"$f":"COUNTIF(L34:L61,Y21)","v":1},{"$f":"Z21/(AB4-Z20)","v":4.5454545454545456E-2},{"$f":"IF(AA21=0,0,(AA21*((LOG(AA21))/LOG(2))))","v":-0.20270143721078623},null,{"$f":"N21","v":2221},{"$f":"COUNTIF(L62:L88,AD21)","v":0},{"$f":"AE21/(AG4-AE20)","v":0},{"$f":"IF(AF21=0,0,(AF21*((LOG(AF21))/LOG(2))))","v":0},null,{"$f":"N21","v":2221},{"$f":"COUNTIF(L89:L115,AI21)","v":2},{"$f":"AJ21/(AL4-AJ20)","v":8.6956521739130432E-2},{"$f":"IF(AK21=0,0,(AK21*((LOG(AK21))/LOG(2))))","v":-0.30639669183104457},null,{"$f":"N21","v":2221},{"$f":"COUNTIF(L116:L143,AN21)","v":0},{"$f":"AO21/(AQ4-AO20)","v":0},{"$f":"IF(AP21=0,0,(AP21*((LOG(AP21))/LOG(2))))","v":0},null,{"$f":"N21","v":2221},{"$f":"COUNTIF(L144:L170,AS21)","v":1},{"$f":"AT21/(AV4-AT20)","v":4.1666666666666664E-2},{"$f":"IF(AU21=0,0,(AU21*((LOG(AU21))/LOG(2))))","v":-0.19104010419671485}]
[21,2216,21,2222,11,2231,21,2240,null,null,0,2212,null,2222,{"$f":"COUNTIF($L$7:$L$500,N22)","v":45},{"$f":"O22/$Q$4","v":0.27439024390243905},{"$f":"IF(P22=0,0,(P22*((LOG(P22))/LOG(2))))","v":-0.51192957849377074},null,null,{"$f":"N22","v":2222},{"$f":"COUNTIF(L7:L33,T22)","v":10},{"$f":"U22/(W4-U20)","v":0.5},{"$f":"IF(V22=0,0,(V22*((LOG(V22))/LOG(2))))","v":-0.5},null,{"$f":"N22","v":2222},{"$f":"COUNTIF(L34:L61,Y22)","v":5},{"$f":"Z22/(AB4-Z20)","v":0.22727272727272727},{"$f":"IF(AA22=0,0,(AA22*((LOG(AA22))/LOG(2))))","v":-0.48579625539771243},null,{"$f":"N22","v":2222},{"$f":"COUNTIF(L62:L88,AD22)","v":7},{"$f":"AE22/(AG4-AE20)","v":0.33333333333333331},{"$f":"IF(AF22=0,0,(AF22*((LOG(AF22))/LOG(2))))","v":-0.52832083357371862},null,{"$f":"N22","v":2222},{"$f":"COUNTIF(L89:L115,AI22)","v":9},{"$f":"AJ22/(AL4-AJ20)","v":0.39130434782608697},{"$f":"IF(AK22=0,0,(AK22*((LOG(AK22))/LOG(2))))","v":-0.5296840257187958},null,{"$f":"N22","v":2222},{"$f":"COUNTIF(L116:L143,AN22)","v":10},{"$f":"AO22/(AQ4-AO20)","v":0.41666666666666669},{"$f":"IF(AP22=0,0,(AP22*((LOG(AP22))/LOG(2))))","v":-0.52626433576408083},null,{"$f":"N22","v":2222},{"$f":"COUNTIF(L144:L170,AS22)","v":4},{"$f":"AT22/(AV4-AT20)","v":0.16666666666666666},{"$f":"IF(AU22=0,0,(AU22*((LOG(AU22))/LOG(2))))","v":-0.43082708345352599}]
[21,2436,21,2454,22,2460,23,2466,null,null,0,2222,null,null,null,{"$f":"SUM(P7:P22)","v":1},{"$f":"-SUM(Q7:Q22)","v":2.1489489485052466},null,null,null,null,{"$f":"SUM(V7:V22)","v":1},{"$f":"-SUM(W7:W22)","v":1.3609640474436813},null,null,null,{"$f":"SUM(AA7:AA22)","v":1},{"$f":"-SUM(AB7:AB22)","v":1.8383685150260662},null,null,null,{"$f":"SUM(AF7:AF22)","v":1},{"$f":"-SUM(AG7:AG22)","v":1.6482387129958878},null,null,null,{"$f":"SUM(AK7:AK22)","v":1},{"$f":"-SUM(AL7:AL22)","v":1.7490603243994001},null,null,null,{"$f":"SUM(AP7:AP22)","v":1},{"$f":"-SUM(AQ7:AQ22)","v":1.4833557549816876},null,null,null,{"$f":"SUM(AU7:AU22)","v":1},{"$f":"-SUM(AV7:AV22)","v":1.8325518169307426}]
[21,2568,21,2575,11,2583,21,2592,null,null,0,2212,null,null,null,"U=",{"$f":"Q23/(LOG(Q4)/LOG(2))","v":0.29207390544523842},null,null,null,null,"U1=",{"$f":"W23/(LOG(W4)/LOG(2))","v":0.2862242370244184},null,null,null,"U2=",{"$f":"AB23/(LOG(AB4)/LOG(2))","v":0.38240748703430932},null,null,null,"U3=",{"$f":"AG23/(LOG(AG4)/LOG(2))","v":0.34664094833914388},null,null,null,"U4=",{"$f":"AL23/(LOG(AL4)/LOG(2))","v":0.36784473315164234},null,null,null,"U5=",{"$f":"AQ23/(LOG(AQ4)/LOG(2))","v":0.3085596505836507},null,null,null,"U6=",{"$f":"AV23/(LOG(AV4)/LOG(2))","v":0.38540382208768004}]
[21,2739,12,2750,24,2760,23,2770,null,null,0,2122]
[21,2868,21,2874,22,2928,23,2938,null,null,0,2222]
[21,3039,21,3045,11,3059,21,3068,null,null,0,2212,null,"Total Target Seq"]
[21,3243,21,3251,22,3257,23,3264,null,null,0,2222,null,{"$f":"COUNTIF(L7:L170,G3)","v":30},null,27,28,27,27,28,27]
[21,3409,21,3418,22,3425,23,3431,null,null,0,2222,null,null,null,"% of reinforcement given in 6 equal intervals based on number of trials "]
[21,3538,21,3565,22,3576,23,3585,null,null,0,2222,null,null,null,"%_1","%_2","%_3","%_4","%_5","%_6"]
[21,3689,12,3699,24,3728,23,3739,null,null,0,2122,null,null,"target sequence",{"$f":"$G$3","v":2212},{"$f":"$G$3","v":2212},{"$f":"$G$3","v":2212},{"$f":"$G$3","v":2212},{"$f":"$G$3","v":2212},{"$f":"$G$3","v":2212}]
[21,3839,12,3853,24,3873,23,3884,null,null,0,2122,null,null,"total reinforcement",{"$f":"U20","v":7},{"$f":"Z20","v":6},{"$f":"AE20","v":6},{"$f":"AJ20","v":4},{"$f":"AO20","v":4},{"$f":"AT20","v":3}]
[21,3983,21,3989,11,4000,21,4010,null,null,0,2212,null,null,"% target"]
[12,4136,23,4166,24,4176,23,4184,null,null,0,1222,null,null,"CCRF"]
[21,4281,12,4293,24,4305,23,4314,null,null,0,2122,null,null,"% CCRf"]
[21,4424,12,4434,24,4461,23,4471,null,null,0,2122,null,null,"average response rate",{"$f":"H33/P28","v":148.5185185185185},{"$f":"(H61-H33)/Q28","v":149.39285714285714},{"$f":"(H88-H61)/R28","v":146.25925925925927},{"$f":"(H115-H88)/S28","v":147.7037037037037},{"$f":"(H143-H115)/T28","v":143.85714285714286},{"$f":"(H170-H143)/U28","v":141.96296296296296}]
[21,4572,21,4576,11,4589,21,4602,null,null,0,2212]
[21,4729,21,4746,22,4757,23,4769,null,null,0,2222]
[21,4868,12,4889,24,4911,23,4922,null,null,0,2122]
[21,5041,21,5067,22,5072,23,5080,null,null,0,2222]
[21,5178,12,5188,24,5198,23,5207,null,null,0,2122]
[21,5306,21,5312,11,5321,21,5331,null,null,0,2212]
[21,5492,12,5503,24,5513,23,5519,null,null,0,2122]
[21,5618,12,5648,24,5663,23,5672,null,null,0,2122]
[21,5771,12,5788,24,5800,23,5816,null,null,0,2122]
[21,5912,21,5920,22,5925,14,5936,null,null,0,2221]
[21,6037,21,6042,22,6078,23,6087,null,null,0,2222]
[21,6186,21,6190,11,6201,12,6204,null,null,0,2211]
[21,6302,21,6307,11,6317,21,6356,null,null,0,2212]
[12,6541,23,6553,24,6558,23,6564,null,null,0,1222]
[21,6663,21,6667,11,6678,21,6694,null,null,0,2212]
[21,6863,12,6872,24,6881,23,6888,null,null,0,2122]
[21,6990,21,6996,11,7005,21,7014,null,null,0,2212]
[21,7172,21,7193,22,7196,23,7203,null,null,0,2222]
[21,7303,21,7326,22,7336,23,7345,null,null,0,2222]
[21,7442,21,7444,11,7455,21,7472,null,null,0,2212]
[12,7603,23,7617,24,7625,23,7633,null,null,0,1222]
[21,7733,12,7746,24,7760,23,7772,null,null,0,2122]
[21,7874,12,7885,24,7914,23,7926,null,null,0,2122]
[12,8032,23,8042,24,8049,23,8056,null,null,0,1222]
[21,8153,12,8174,24,8184,23,8193,null,null,0,2122]
[21,8290,21,8295,11,8304,21,8313,null,null,0,2212]
[21,8462,12,8471,24,8484,23,8497,null,null,0,2122]
[21,8595,21,8601,11,8613,21,8641,null,null,0,2212]
[21,8772,12,8781,24,8793,23,8800,null,null,0,2122]
[21,8899,21,8917,22,8922,23,8929,null,null,0,2222]
[21,9032,12,9040,24,9049,23,9055,null,null,0,2122]
[21,9155,21,9182,22,9190,23,9206,null,null,0,2222]
[21,9303,12,9315,24,9326,23,9333,null,null,0,2122]
[21,9429,21,9434,11,9446,21,9465,null,null,0,2212]
[12,9616,23,9627,24,9631,23,9638,null,null,0,1222]
[21,9736,21,9762,22,9774,23,9787,null,null,0,2222]
[21,9887,21,9892,11,9904,21,9925,null,null,0,2212]
[12,10073,23,10085,24,10090,23,10099,null,null,0,1222]
[21,10196,12,10212,24,10232,23,10248,null,null,0,2122]
[12,10355,23,10366,24,10373,23,10379,null,null,0,1222]
[21,10476,21,10480,22,10500,23,10514,null,null,0,2222]
[21,10611,12,10624,24,10634,23,10647,null,null,0,2122]
[21,10746,12,10758,24,10766,23,10790,null,null,0,2122]
[21,10886,12,10896,24,10905,23,10911,null,null,0,2122]
[21,11009,21,11014,22,11037,23,11052,null,null,0,2222]
[21,11154,21,11159,22,11166,23,11173,null,null,0,2222]
[21,11274,21,11280,22,11296,23,11313,null,null,0,2222]
[21,11411,21,11416,11,11425,21,11444,null,null,0,2212]
[12,11685,14,11699,24,11711,23,11718,null,null,0,1122]
[21,11817,12,11826,24,11846,23,11855,null,null,0,2122]
[21,11952,12,11965,24,12002,23,12017,null,null,0,2122]
[21,12115,21,12121,11,12131,21,12142,null,null,0,2212]
[12,12273,23,12283,24,12286,23,12294,null,null,0,1222]
[21,12392,21,12414,22,12422,23,12438,null,null,0,2222]
[21,12536,12,12547,24,12557,23,12580,null,null,0,2122]
[21,12680,21,12686,11,12697,21,12722,null,null,0,2212]
[21,12864,21,12873,11,12883,21,12894,null,null,0,2212]
[21,13053,21,13058,22,13075,23,13083,null,null,0,2222]
[21,13181,21,13212,22,13221,14,13266,null,null,0,2221]
[21,13362,12,13374,24,13384,23,13388,null,null,0,2122]
[21,13488,21,13494,22,13514,14,13609,null,null,0,2221]
[12,13731,23,13738,24,13745,23,13750,null,null,0,1222]
[21,13852,21,13858,22,13884,23,13892,null,null,0,2222]
[21,14008,12,14021,24,14033,23,14041,null,null,0,2122]
[21,14140,12,14147,24,14156,23,14166,null,null,0,2122]
[21,14268,21,14273,22,14292,23,14297,null,null,0,2222]
[21,14393,21,14398,22,14415,23,14420,null,null,0,2222]
[21,14519,12,14532,24,14547,23,14558,null,null,0,2122]
[21,14656,21,14663,11,14672,21,14685,null,null,0,2212]
[12,14825,23,14834,24,14843,23,14852,null,null,0,1222]
[21,14948,12,14957,24,14966,23,14969,null,null,0,2122]
[21,15067,21,15087,22,15092,23,15104,null,null,0,2222]
[21,15202,21,15207,22,15230,23,15243,null,null,0,2222]
[21,15341,21,15365,22,15373,23,15386,null,null,0,2222]
[21,15484,21,15490,11,15500,21,15525,null,null,0,2212]
[21,15715,12,15722,24,15730,23,15735,null,null,0,2122]
[21,15835,12,15844,24,15868,23,15880,null,null,0,2122]
[21,15978,21,15982,22,15998,23,16007,null,null,0,2222]
[21,16104,12,16116,24,16125,23,16130,null,null,0,2122]
[12,16237,23,16245,24,16250,23,16256,null,null,0,1222]
[21,16355,12,16371,24,16383,23,16394,null,null,0,2122]
[21,16508,21,16518,22,16532,23,16536,null,null,0,2222]
[21,16633,21,16654,22,16666,23,16679,null,null,0,2222]
[21,16778,21,16782,22,16800,23,16801,null,null,0,2222]
[21,16899,21,16901,22,16907,23,16930,null,null,0,2222]
[21,17030,21,17037,11,17046,21,17100,null,null,0,2212]
[21,17226,21,17245,22,17251,23,17260,null,null,0,2222]
[21,17358,12,17371,24,17379,23,17391,null,null,0,2122]
[21,17490,12,17502,24,17513,23,17520,null,null,0,2122]
[21,17618,21,17622,11,17632,21,17642,null,null,0,2212]
[21,17784,21,17800,22,17806,23,17816,null,null,0,2222]
[21,17919,12,17931,24,17939,23,17945,null,null,0,2122]
[12,18051,23,18063,24,18067,23,18073,null,null,0,1222]
[21,18179,12,18188,24,18203,23,18208,null,null,0,2122]
[21,18304,12,18321,24,18329,23,18335,null,null,0,2122]
[12,18451,23,18464,24,18469,23,18479,null,null,0,1222]
[21,18577,21,18582,22,18600,23,18604,null,null,0,2222]
[21,18700,12,18714,24,18745,23,18753,null,null,0,2122]
[21,18852,21,18857,11,18866,21,18893,null,null,0,2212]
[12,19089,23,19098,24,19103,23,19109,null,null,0,1222]
[21,19209,21,19214,11,19222,21,19230,null,null,0,2212]
[21,19351,21,19366,22,19372,23,19381,null,null,0,2222]
[21,19478,12,19486,24,19497,23,19508,null,null,0,2122]
[21,19607,12,19619,24,19636,23,19644,null,null,0,2122]
[21,19742,12,19754,24,19785,23,19798,null,null,0,2122]
[21,19896,21,19917,22,19923,23,19935,null,null,0,2222]
[21,20035,21,20039,22,20060,23,20158,null,null,0,2222]
[21,20256,21,20277,22,20285,23,20294,null,null,0,2222]
[21,20390,12,20400,24,20409,23,20417,null,null,0,2122]
[21,20515,12,20522,24,20531,23,20535,null,null,0,2122]
[21,20631,12,20648,24,20709,23,20721,null,null,0,2122]
[21,20820,21,20827,11,20836,21,20848,null,null,0,2212]
[21,21033,12,21046,24,21052,23,21059,null,null,0,2122]
[21,21156,21,21189,22,21202,23,21210,null,null,0,2222]
[12,21320,14,21325,24,21333,23,21337,null,null,0,1122]
[12,21441,23,21450,24,21455,23,21460,null,null,0,1222]
[21,21560,21,21574,22,21580,23,21588,null,null,0,2222]
[21,21686,12,21703,24,21711,23,21722,null,null,0,2122]
[21,21820,12,21830,13,21848,23,21855,null,null,0,2112]
[21,21953,21,22006,22,22014,23,22023,null,null,0,2222]
[21,22122,12,22135,24,22145,23,22153,null,null,0,2122]
[21,22254,12,22266,24,22282,23,22289,null,null,0,2122]
[12,22394,23,22406,24,22413,23,22505,null,null,0,1222]
[21,22601,12,22613,24,22642,23,22656,null,null,0,2122]
[12,22787,23,22797,24,22801,23,22805,null,null,0,1222]
[21,22905,12,22916,24,22925,23,22932,null,null,0,2122]
[21,23029,12,23040,24,23051,23,23055,null,null,0,2122]
[21,23154,21,23158,11,23167,21,23192,null,null,0,2212]
[21,23329,12,23337,24,23347,23,23351,null,null,0,2122]
[21,23450,12,23460,24,23470,23,23476,null,null,0,2122]
[21,23572,12,23583,24,23591,23,23598,null,null,0,2122]
[21,23694,12,23711,24,23721,23,23724,null,null,0,2122]
[21,23821,21,23844,22,23850,14,23870,null,null,0,2221]
[21,23968,21,23973,11,23982,21,23991,null,null,1,2212]

{"sheet":"!LC08A54..Is","index":30,"n_rows":172,"n_cols":48,"rows_kept":172,"cut":false,"hidden":false,"merged":[[4,39,4,42],[5,39,5,40],[4,44,4,47],[5,44,5,45],[4,24,4,27],[5,24,5,25],[4,29,4,32],[5,29,5,30],[4,34,4,37],[5,34,5,35],[1,1,1,2],[5,13,5,14],[26,13,26,14],[27,13,27,14],[4,19,4,22],[5,19,5,20]]}
["Report for:!LC08A54..Is"]
["Date:","<date>"]
["Hen:","<hen>",null,null,null,"Correct Sequence",{"$f":"Start!J2","v":2212},null,null,null,null,null,null,null,null,"Total Sequences in Data",{"$f":"4994-COUNTBLANK(L7:L5000)","v":166},null,null,null,null,"Total Sequences in Block Data",{"$f":"COUNTA(L7:L34)","v":28},null,null,null,"Total Sequences in Block Data",{"$f":"COUNTA(L35:L61)","v":27},null,null,null,"Total Sequences in Block Data",{"$f":"COUNTA(L62:L89)","v":28},null,null,null,"Total Sequences in Block Data",{"$f":"COUNTA(L90:L117)","v":28},null,null,null,"Total Sequences in Block Data",{"$f":"COUNTA(L118:L144)","v":27},null,null,null,"Total Sequences in Block Data",{"$f":"COUNTA(L145:L172)","v":28}]
[null,null,null,null,null,null,null,null,null,null,null,null,null,null,null,"Total Sequences in Summary",{"$f":"SUM(O7:O22)","v":165},null,null,null,null,"Total Sequences in Block Summary",{"$f":"SUM(U7:U22)","v":28},null,null,null,"Total Sequences in Block Summary",{"$f":"SUM(Z7:Z22)","v":27},null,null,null,"Total Sequences in Block Summary",{"$f":"SUM(AE7:AE22)","v":28},null,null,null,"Total Sequences in Block Summary",{"$f":"SUM(AJ7:AJ22)","v":28},null,null,null,"Total Sequences in Block Summary",{"$f":"SUM(AO7:AO22)","v":27},null,null,null,"Total Sequences in Block Summary",{"$f":"SUM(AT7:AT22)","v":27}]
[null,null,null,null,null,null,null,null,null,null,null,null,null,null,null,null,null,null,null,"Block 1",null,null,null,null,"Block 2",null,null,null,null,"Block 3",null,null,null,null,"Block 4",null,null,null,null,"Block 5",null,null,null,null,"Block 6"]
["Sequence\nComponent\n1","Time\n1","Sequence\nComponent\n2","Time\n2","Sequence\nComponent\n3","Time\n3","Sequence\nComponent\n4","Time\n4","Sequence\nComponent\n5","Time\n5","Correct?\n0=No 1=Yes","Sequence",null,"Frequency",null,"Relative Frequency","Variability",null,null,"Frequency",null,"Relative Frequency","Variability",null,"Frequency",null,"Relative Frequency","Variability",null,"Frequency",null,"Relative Frequency","Variability",null,"Frequency",null,"Relative Frequency","Variability",null,"Frequency",null,"Relative Frequency","Variability",null,"Frequency",null,"Relative Frequency","Variability"]
[12,23,23,32,24,35,23,40,null,null,0,1222,null,1111,{"$f":"COUNTIF($L$7:$L$500,N7)","v":1},{"$f":"O7/$Q$4","v":6.0606060606060606E-3},{"$f":"IF(P7=0,0,(P7*((LOG(P7))/LOG(2))))","v":-4.4644377056035252E-2},null,null,{"$f":"N7","v":1111},{"$f":"COUNTIF(L7:L34,T7)","v":0},{"$f":"U7/(W4-U20)","v":0},{"$f":"IF(V7=0,0,(V7*((LOG(V7))/LOG(2))))","v":0},null,{"$f":"N7","v":1111},{"$f":"COUNTIF(L35:L61,Y7)","v":0},{"$f":"Z7/(AB4-Z20)","v":0},{"$f":"IF(AA7=0,0,(AA7*((LOG(AA7))/LOG(2))))","v":0},null,{"$f":"N7","v":1111},{"$f":"COUNTIF(L62:L89,AD7)","v":0},{"$f":"AE7/(AG4-AE20)","v":0},{"$f":"IF(AF7=0,0,(AF7*((LOG(AF7))/LOG(2))))","v":0},null,{"$f":"N7","v":1111},{"$f":"COUNTIF(L90:L117,AI7)","v":0},{"$f":"AJ7/(AL4-AJ20)","v":0},{"$f":"IF(AK7=0,0,(AK7*((LOG(AK7))/LOG(2))))","v":0},null,{"$f":"N7","v":1111},{"$f":"COUNTIF(L118:L144,AN7)","v":0},{"$f":"AO7/(AQ4-AO20)","v":0},{"$f":"IF(AP7=0,0,(AP7*((LOG(AP7))/LOG(2))))","v":0},null,{"$f":"N7","v":1111},{"$f":"COUNTIF(L145:L172,AS7)","v":1},{"$f":"AT7/(AV4-AT20)","v":4.7619047619047616E-2},{"$f":"IF(AU7=0,0,(AU7*((LOG(AU7))/LOG(2))))","v":-0.20915797251327431}]
[21,137,12,146,24,156,23,159,null,null,0,2122,null,1112,{"$f":"COUNTIF($L$7:$L$500,N8)","v":0},{"$f":"O8/$Q$4","v":0},{"$f":"IF(P8=0,0,(P8*((LOG(P8))/LOG(2))))","v":0},null,null,{"$f":"N8","v":1112},{"$f":"COUNTIF(L7:L34,T8)","v":0},{"$f":"U8/(W4-U20)","v":0},{"$f":"IF(V8=0,0,(V8*((LOG(V8))/LOG(2))))","v":0},null,{"$f":"N8","v":1112},{"$f":"COUNTIF(L35:L61,Y8)","v":0},{"$f":"Z8/(AB4-Z20)","v":0},{"$f":"IF(AA8=0,0,(AA8*((LOG(AA8))/LOG(2))))","v":0},null,{"$f":"N8","v":1112},{"$f":"COUNTIF(L62:L89,AD8)","v":0},{"$f":"AE8/(AG4-AE20)","v":0},{"$f":"IF(AF8=0,0,(AF8*((LOG(AF8))/LOG(2))))","v":0},null,{"$f":"N8","v":1112},{"$f":"COUNTIF(L90:L117,AI8)","v":0},{"$f":"AJ8/(AL4-AJ20)","v":0},{"$f":"IF(AK8=0,0,(AK8*((LOG(AK8))/LOG(2))))","v":0},null,{"$f":"N8","v":1112},{"$f":"COUNTIF(L118:L144,AN8)","v":0},{"$f":"AO8/(AQ4-AO20)","v":0},{"$f":"IF(AP8=0,0,(AP8*((LOG(AP8))/LOG(2))))","v":0},null,{"$f":"N8","v":1112},{"$f":"COUNTIF(L145:L172,AS8)","v":0},{"$f":"AT8/(AV4-AT20)","v":0},{"$f":"IF(AU8=0,0,(AU8*((LOG(AU8))/LOG(2))))","v":0}]
[21,258,12,271,24,280,23,284,null,null,0,2122,null,1121,{"$f":"COUNTIF($L$7:$L$500,N9)","v":0},{"$f":"O9/$Q$4","v":0},{"$f":"IF(P9=0,0,(P9*((LOG(P9))/LOG(2))))","v":0},null,null,{"$f":"N9","v":1121},{"$f":"COUNTIF(L7:L34,T9)","v":0},{"$f":"U9/(W4-U20)","v":0},{"$f":"IF(V9=0,0,(V9*((LOG(V9))/LOG(2))))","v":0},null,{"$f":"N9","v":1121},{"$f":"COUNTIF(L35:L61,Y9)","v":0},{"$f":"Z9/(AB4-Z20)","v":0},{"$f":"IF(AA9=0,0,(AA9*((LOG(AA9))/LOG(2))))","v":0},null,{"$f":"N9","v":1121},{"$f":"COUNTIF(L62:L89,AD9)","v":0},{"$f":"AE9/(AG4-AE20)","v":0},{"$f":"IF(AF9=0,0,(AF9*((LOG(AF9))/LOG(2))))","v":0},null,{"$f":"N9","v":1121},{"$f":"COUNTIF(L90:L117,AI9)","v":0},{"$f":"AJ9/(AL4-AJ20)","v":0},{"$f":"IF(AK9=0,0,(AK9*((LOG(AK9))/LOG(2))))","v":0},null,{"$f":"N9","v":1121},{"$f":"COUNTIF(L118:L144,AN9)","v":0},{"$f":"AO9/(AQ4-AO20)","v":0},{"$f":"IF(AP9=0,0,(AP9*((LOG(AP9))/LOG(2))))","v":0},null,{"$f":"N9","v":1121},{"$f":"COUNTIF(L145:L172,AS9)","v":0},{"$f":"AT9/(AV4-AT20)","v":0},{"$f":"IF(AU9=0,0,(AU9*((LOG(AU9))/LOG(2))))","v":0}]
[12,410,23,421,24,425,23,429,null,null,0,1222,null,1122,{"$f":"COUNTIF($L$7:$L$500,N10)","v":16},{"$f":"O10/$Q$4","v":9.696969696969697E-2},{"$f":"IF(P10=0,0,(P10*((LOG(P10))/LOG(2))))","v":-0.32643124501777604},null,null,{"$f":"N10","v":1122},{"$f":"COUNTIF(L7:L34,T10)","v":0},{"$f":"U10/(W4-U20)","v":0},{"$f":"IF(V10=0,0,(V10*((LOG(V10))/LOG(2))))","v":0},null,{"$f":"N10","v":1122},{"$f":"COUNTIF(L35:L61,Y10)","v":3},{"$f":"Z10/(AB4-Z20)","v":0.125},{"$f":"IF(AA10=0,0,(AA10*((LOG(AA10))/LOG(2))))","v":-0.375},null,{"$f":"N10","v":1122},{"$f":"COUNTIF(L62:L89,AD10)","v":3},{"$f":"AE10/(AG4-AE20)","v":0.13043478260869565},{"$f":"IF(AF10=0,0,(AF10*((LOG(AF10))/LOG(2))))","v":-0.3832955811307639},null,{"$f":"N10","v":1122},{"$f":"COUNTIF(L90:L117,AI10)","v":4},{"$f":"AJ10/(AL4-AJ20)","v":0.17391304347826086},{"$f":"IF(AK10=0,0,(AK10*((LOG(AK10))/LOG(2))))","v":-0.43888034018382832},null,{"$f":"N10","v":1122},{"$f":"COUNTIF(L118:L144,AN10)","v":3},{"$f":"AO10/(AQ4-AO20)","v":0.12},{"$f":"IF(AP10=0,0,(AP10*((LOG(AP10))/LOG(2))))","v":-0.36706724268642821},null,{"$f":"N10","v":1122},{"$f":"COUNTIF(L145:L172,AS10)","v":3},{"$f":"AT10/(AV4-AT20)","v":0.14285714285714285},{"$f":"IF(AU10=0,0,(AU10*((LOG(AU10))/LOG(2))))","v":-0.40105070315108626}]
[21,525,12,534,24,541,23,546,null,null,0,2122,null,1211,{"$f":"COUNTIF($L$7:$L$500,N11)","v":0},{"$f":"O11/$Q$4","v":0},{"$f":"IF(P11=0,0,(P11*((LOG(P11))/LOG(2))))","v":0},null,null,{"$f":"N11","v":1211},{"$f":"COUNTIF(L7:L34,T11)","v":0},{"$f":"U11/(W4-U20)","v":0},{"$f":"IF(V11=0,0,(V11*((LOG(V11))/LOG(2))))","v":0},null,{"$f":"N11","v":1211},{"$f":"COUNTIF(L35:L61,Y11)","v":0},{"$f":"Z11/(AB4-Z20)","v":0},{"$f":"IF(AA11=0,0,(AA11*((LOG(AA11))/LOG(2))))","v":0},null,{"$f":"N11","v":1211},{"$f":"COUNTIF(L62:L89,AD11)","v":0},{"$f":"AE11/(AG4-AE20)","v":0},{"$f":"IF(AF11=0,0,(AF11*((LOG(AF11))/LOG(2))))","v":0},null,{"$f":"N11","v":1211},{"$f":"COUNTIF(L90:L117,AI11)","v":0},{"$f":"AJ11/(AL4-AJ20)","v":0},{"$f":"IF(AK11=0,0,(AK11*((LOG(AK11))/LOG(2))))","v":0},null,{"$f":"N11","v":1211},{"$f":"COUNTIF(L118:L144,AN11)","v":0},{"$f":"AO11/(AQ4-AO20)","v":0},{"$f":"IF(AP11=0,0,(AP11*((LOG(AP11))/LOG(2))))","v":0},null,{"$f":"N11","v":1211},{"$f":"COUNTIF(L145:L172,AS11)","v":0},{"$f":"AT11/(AV4-AT20)","v":0},{"$f":"IF(AU11=0,0,(AU11*((LOG(AU11))/LOG(2))))","v":0}]
[21,643,21,660,22,666,23,673,null,null,0,2222,null,1212,{"$f":"COUNTIF($L$7:$L$500,N12)","v":1},{"$f":"O12/$Q$4","v":6.0606060606060606E-3},{"$f":"IF(P12=0,0,(P12*((LOG(P12))/LOG(2))))","v":-4.4644377056035252E-2},null,null,{"$f":"N12","v":1212},{"$f":"COUNTIF(L7:L34,T12)","v":0},{"$f":"U12/(W4-U20)","v":0},{"$f":"IF(V12=0,0,(V12*((LOG(V12))/LOG(2))))","v":0},null,{"$f":"N12","v":1212},{"$f":"COUNTIF(L35:L61,Y12)","v":0},{"$f":"Z12/(AB4-Z20)","v":0},{"$f":"IF(AA12=0,0,(AA12*((LOG(AA12))/LOG(2))))","v":0},null,{"$f":"N12","v":1212},{"$f":"COUNTIF(L62:L89,AD12)","v":0},{"$f":"AE12/(AG4-AE20)","v":0},{"$f":"IF(AF12=0,0,(AF12*((LOG(AF12))/LOG(2))))","v":0},null,{"$f":"N12","v":1212},{"$f":"COUNTIF(L90:L117,AI12)","v":0},{"$f":"AJ12/(AL4-AJ20)","v":0},{"$f":"IF(AK12=0,0,(AK12*((LOG(AK12))/LOG(2))))","v":0},null,{"$f":"N12","v":1212},{"$f":"COUNTIF(L118:L144,AN12)","v":1},{"$f":"AO12/(AQ4-AO20)","v":0.04},{"$f":"IF(AP12=0,0,(AP12*((LOG(AP12))/LOG(2))))","v":-0.18575424759098899},null,{"$f":"N12","v":1212},{"$f":"COUNTIF(L145:L172,AS12)","v":0},{"$f":"AT12/(AV4-AT20)","v":0},{"$f":"IF(AU12=0,0,(AU12*((LOG(AU12))/LOG(2))))","v":0}]
[21,771,12,780,24,791,23,797,null,null,0,2122,null,1221,{"$f":"COUNTIF($L$7:$L$500,N13)","v":0},{"$f":"O13/$Q$4","v":0},{"$f":"IF(P13=0,0,(P13*((LOG(P13))/LOG(2))))","v":0},null,null,{"$f":"N13","v":1221},{"$f":"COUNTIF(L7:L34,T13)","v":0},{"$f":"U13/(W4-U20)","v":0},{"$f":"IF(V13=0,0,(V13*((LOG(V13))/LOG(2))))","v":0},null,{"$f":"N13","v":1221},{"$f":"COUNTIF(L35:L61,Y13)","v":0},{"$f":"Z13/(AB4-Z20)","v":0},{"$f":"IF(AA13=0,0,(AA13*((LOG(AA13))/LOG(2))))","v":0},null,{"$f":"N13","v":1221},{"$f":"COUNTIF(L62:L89,AD13)","v":0},{"$f":"AE13/(AG4-AE20)","v":0},{"$f":"IF(AF13=0,0,(AF13*((LOG(AF13))/LOG(2))))","v":0},null,{"$f":"N13","v":1221},{"$f":"COUNTIF(L90:L117,AI13)","v":0},{"$f":"AJ13/(AL4-AJ20)","v":0},{"$f":"IF(AK13=0,0,(AK13*((LOG(AK13))/LOG(2))))","v":0},null,{"$f":"N13","v":1221},{"$f":"COUNTIF(L118:L144,AN13)","v":0},{"$f":"AO13/(AQ4-AO20)","v":0},{"$f":"IF(AP13=0,0,(AP13*((LOG(AP13))/LOG(2))))","v":0},null,{"$f":"N13","v":1221},{"$f":"COUNTIF(L145:L172,AS13)","v":0},{"$f":"AT13/(AV4-AT20)","v":0},{"$f":"IF(AU13=0,0,(AU13*((LOG(AU13))/LOG(2))))","v":0}]
[21,898,21,916,22,918,23,927,null,null,0,2222,null,1222,{"$f":"COUNTIF($L$7:$L$500,N14)","v":19},{"$f":"O14/$Q$4","v":0.11515151515151516},{"$f":"IF(P14=0,0,(P14*((LOG(P14))/LOG(2))))","v":-0.35908787463783259},null,null,{"$f":"N14","v":1222},{"$f":"COUNTIF(L7:L34,T14)","v":6},{"$f":"U14/(W4-U20)","v":0.23076923076923078},{"$f":"IF(V14=0,0,(V14*((LOG(V14))/LOG(2))))","v":-0.48818705017383146},null,{"$f":"N14","v":1222},{"$f":"COUNTIF(L35:L61,Y14)","v":3},{"$f":"Z14/(AB4-Z20)","v":0.125},{"$f":"IF(AA14=0,0,(AA14*((LOG(AA14))/LOG(2))))","v":-0.375},null,{"$f":"N14","v":1222},{"$f":"COUNTIF(L62:L89,AD14)","v":2},{"$f":"AE14/(AG4-AE20)","v":8.6956521739130432E-2},{"$f":"IF(AF14=0,0,(AF14*((LOG(AF14))/LOG(2))))","v":-0.30639669183104457},null,{"$f":"N14","v":1222},{"$f":"COUNTIF(L90:L117,AI14)","v":2},{"$f":"AJ14/(AL4-AJ20)","v":8.6956521739130432E-2},{"$f":"IF(AK14=0,0,(AK14*((LOG(AK14))/LOG(2))))","v":-0.30639669183104457},null,{"$f":"N14","v":1222},{"$f":"COUNTIF(L118:L144,AN14)","v":1},{"$f":"AO14/(AQ4-AO20)","v":0.04},{"$f":"IF(AP14=0,0,(AP14*((LOG(AP14))/LOG(2))))","v":-0.18575424759098899},null,{"$f":"N14","v":1222},{"$f":"COUNTIF(L145:L172,AS14)","v":5},{"$f":"AT14/(AV4-AT20)","v":0.23809523809523808},{"$f":"IF(AU14=0,0,(AU14*((LOG(AU14))/LOG(2))))","v":-0.49294983997414238}]
[21,1025,21,1031,11,1041,21,1052,null,null,0,2212,null,2111,{"$f":"COUNTIF($L$7:$L$500,N15)","v":1},{"$f":"O15/$Q$4","v":6.0606060606060606E-3},{"$f":"IF(P15=0,0,(P15*((LOG(P15))/LOG(2))))","v":-4.4644377056035252E-2},null,null,{"$f":"N15","v":2111},{"$f":"COUNTIF(L7:L34,T15)","v":0},{"$f":"U15/(W4-U20)","v":0},{"$f":"IF(V15=0,0,(V15*((LOG(V15))/LOG(2))))","v":0},null,{"$f":"N15","v":2111},{"$f":"COUNTIF(L35:L61,Y15)","v":0},{"$f":"Z15/(AB4-Z20)","v":0},{"$f":"IF(AA15=0,0,(AA15*((LOG(AA15))/LOG(2))))","v":0},null,{"$f":"N15","v":2111},{"$f":"COUNTIF(L62:L89,AD15)","v":0},{"$f":"AE15/(AG4-AE20)","v":0},{"$f":"IF(AF15=0,0,(AF15*((LOG(AF15))/LOG(2))))","v":0},null,{"$f":"N15","v":2111},{"$f":"COUNTIF(L90:L117,AI15)","v":1},{"$f":"AJ15/(AL4-AJ20)","v":4.3478260869565216E-2},{"$f":"IF(AK15=0,0,(AK15*((LOG(AK15))/LOG(2))))","v":-0.19667660678508753},null,{"$f":"N15","v":2111},{"$f":"COUNTIF(L118:L144,AN15)","v":0},{"$f":"AO15/(AQ4-AO20)","v":0},{"$f":"IF(AP15=0,0,(AP15*((LOG(AP15))/LOG(2))))","v":0},null,{"$f":"N15","v":2111},{"$f":"COUNTIF(L145:L172,AS15)","v":0},{"$f":"AT15/(AV4-AT20)","v":0},{"$f":"IF(AU15=0,0,(AU15*((LOG(AU15))/LOG(2))))","v":0}]
[21,1262,21,1276,22,1280,23,1286,null,null,0,2222,null,2112,{"$f":"COUNTIF($L$7:$L$500,N16)","v":19},{"$f":"O16/$Q$4","v":0.11515151515151516},{"$f":"IF(P16=0,0,(P16*((LOG(P16))/LOG(2))))","v":-0.35908787463783259},null,null,{"$f":"N16","v":2112},{"$f":"COUNTIF(L7:L34,T16)","v":0},{"$f":"U16/(W4-U20)","v":0},{"$f":"IF(V16=0,0,(V16*((LOG(V16))/LOG(2))))","v":0},null,{"$f":"N16","v":2112},{"$f":"COUNTIF(L35:L61,Y16)","v":1},{"$f":"Z16/(AB4-Z20)","v":4.1666666666666664E-2},{"$f":"IF(AA16=0,0,(AA16*((LOG(AA16))/LOG(2))))","v":-0.19104010419671485},null,{"$f":"N16","v":2112},{"$f":"COUNTIF(L62:L89,AD16)","v":2},{"$f":"AE16/(AG4-AE20)","v":8.6956521739130432E-2},{"$f":"IF(AF16=0,0,(AF16*((LOG(AF16))/LOG(2))))","v":-0.30639669183104457},null,{"$f":"N16","v":2112},{"$f":"COUNTIF(L90:L117,AI16)","v":2},{"$f":"AJ16/(AL4-AJ20)","v":8.6956521739130432E-2},{"$f":"IF(AK16=0,0,(AK16*((LOG(AK16))/LOG(2))))","v":-0.30639669183104457},null,{"$f":"N16","v":2112},{"$f":"COUNTIF(L118:L144,AN16)","v":8},{"$f":"AO16/(AQ4-AO20)","v":0.32},{"$f":"IF(AP16=0,0,(AP16*((LOG(AP16))/LOG(2))))","v":-0.52603398072791185},null,{"$f":"N16","v":2112},{"$f":"COUNTIF(L145:L172,AS16)","v":6},{"$f":"AT16/(AV4-AT20)","v":0.2857142857142857},{"$f":"IF(AU16=0,0,(AU16*((LOG(AU16))/LOG(2))))","v":-0.51638712058788683}]
[21,1386,21,1391,22,1406,23,1413,null,null,0,2222,null,2121,{"$f":"COUNTIF($L$7:$L$500,N17)","v":7},{"$f":"O17/$Q$4","v":4.2424242424242427E-2},{"$f":"IF(P17=0,0,(P17*((LOG(P17))/LOG(2))))","v":-0.19341073360798475},null,null,{"$f":"N17","v":2121},{"$f":"COUNTIF(L7:L34,T17)","v":0},{"$f":"U17/(W4-U20)","v":0},{"$f":"IF(V17=0,0,(V17*((LOG(V17))/LOG(2))))","v":0},null,{"$f":"N17","v":2121},{"$f":"COUNTIF(L35:L61,Y17)","v":0},{"$f":"Z17/(AB4-Z20)","v":0},{"$f":"IF(AA17=0,0,(AA17*((LOG(AA17))/LOG(2))))","v":0},null,{"$f":"N17","v":2121},{"$f":"COUNTIF(L62:L89,AD17)","v":0},{"$f":"AE17/(AG4-AE20)","v":0},{"$f":"IF(AF17=0,0,(AF17*((LOG(AF17))/LOG(2))))","v":0},null,{"$f":"N17","v":2121},{"$f":"COUNTIF(L90:L117,AI17)","v":0},{"$f":"AJ17/(AL4-AJ20)","v":0},{"$f":"IF(AK17=0,0,(AK17*((LOG(AK17))/LOG(2))))","v":0},null,{"$f":"N17","v":2121},{"$f":"COUNTIF(L118:L144,AN17)","v":5},{"$f":"AO17/(AQ4-AO20)","v":0.2},{"$f":"IF(AP17=0,0,(AP17*((LOG(AP17))/LOG(2))))","v":-0.46438561897747244},null,{"$f":"N17","v":2121},{"$f":"COUNTIF(L145:L172,AS17)","v":2},{"$f":"AT17/(AV4-AT20)","v":9.5238095238095233E-2},{"$f":"IF(AU17=0,0,(AU17*((LOG(AU17))/LOG(2))))","v":-0.32307784978845333}]
[21,1511,12,1523,24,1532,23,1543,null,null,0,2122,null,2122,{"$f":"COUNTIF($L$7:$L$500,N18)","v":63},{"$f":"O18/$Q$4","v":0.38181818181818183},{"$f":"IF(P18=0,0,(P18*((LOG(P18))/LOG(2))))","v":-0.53036160192116155},null,null,{"$f":"N18","v":2122},{"$f":"COUNTIF(L7:L34,T18)","v":15},{"$f":"U18/(W4-U20)","v":0.57692307692307687},{"$f":"IF(V18=0,0,(V18*((LOG(V18))/LOG(2))))","v":-0.45781680146110021},null,{"$f":"N18","v":2122},{"$f":"COUNTIF(L35:L61,Y18)","v":15},{"$f":"Z18/(AB4-Z20)","v":0.625},{"$f":"IF(AA18=0,0,(AA18*((LOG(AA18))/LOG(2))))","v":-0.42379494069539858},null,{"$f":"N18","v":2122},{"$f":"COUNTIF(L62:L89,AD18)","v":13},{"$f":"AE18/(AG4-AE20)","v":0.56521739130434778},{"$f":"IF(AF18=0,0,(AF18*((LOG(AF18))/LOG(2))))","v":-0.46524300403943353},null,{"$f":"N18","v":2122},{"$f":"COUNTIF(L90:L117,AI18)","v":10},{"$f":"AJ18/(AL4-AJ20)","v":0.43478260869565216},{"$f":"IF(AK18=0,0,(AK18*((LOG(AK18))/LOG(2))))","v":-0.52244950485636987},null,{"$f":"N18","v":2122},{"$f":"COUNTIF(L118:L144,AN18)","v":7},{"$f":"AO18/(AQ4-AO20)","v":0.28000000000000003},{"$f":"IF(AP18=0,0,(AP18*((LOG(AP18))/LOG(2))))","v":-0.51422035496079388},null,{"$f":"N18","v":2122},{"$f":"COUNTIF(L145:L172,AS18)","v":3},{"$f":"AT18/(AV4-AT20)","v":0.14285714285714285},{"$f":"IF(AU18=0,0,(AU18*((LOG(AU18))/LOG(2))))","v":-0.40105070315108626}]
[21,1649,12,1663,24,1673,23,1686,null,null,0,2122,null,2211,{"$f":"COUNTIF($L$7:$L$500,N19)","v":0},{"$f":"O19/$Q$4","v":0},{"$f":"IF(P19=0,0,(P19*((LOG(P19))/LOG(2))))","v":0},null,null,{"$f":"N19","v":2211},{"$f":"COUNTIF(L7:L34,T19)","v":0},{"$f":"U19/(W4-U20)","v":0},{"$f":"IF(V19=0,0,(V19*((LOG(V19))/LOG(2))))","v":0},null,{"$f":"N19","v":2211},{"$f":"COUNTIF(L35:L61,Y19)","v":0},{"$f":"Z19/(AB4-Z20)","v":0},{"$f":"IF(AA19=0,0,(AA19*((LOG(AA19))/LOG(2))))","v":0},null,{"$f":"N19","v":2211},{"$f":"COUNTIF(L62:L89,AD19)","v":0},{"$f":"AE19/(AG4-AE20)","v":0},{"$f":"IF(AF19=0,0,(AF19*((LOG(AF19))/LOG(2))))","v":0},null,{"$f":"N19","v":2211},{"$f":"COUNTIF(L90:L117,AI19)","v":0},{"$f":"AJ19/(AL4-AJ20)","v":0},{"$f":"IF(AK19=0,0,(AK19*((LOG(AK19))/LOG(2))))","v":0},null,{"$f":"N19","v":2211},{"$f":"COUNTIF(L118:L144,AN19)","v":0},{"$f":"AO19/(AQ4-AO20)","v":0},{"$f":"IF(AP19=0,0,(AP19*((LOG(AP19))/LOG(2))))","v":0},null,{"$f":"N19","v":2211},{"$f":"COUNTIF(L145:L172,AS19)","v":0},{"$f":"AT19/(AV4-AT20)","v":0},{"$f":"IF(AU19=0,0,(AU19*((LOG(AU19))/LOG(2))))","v":0}]
[12,1796,23,1806,24,1811,23,1820,null,null,0,1222,null,2212,{"$f":"COUNTIF($L$7:$L$500,N20)","v":23},{"$f":"O20/$Q$4","v":0.1393939393939394},{"$f":"IF(P20=0,0,(P20*((LOG(P20))/LOG(2))))","v":-0.39626355114146955},null,null,{"$f":"N20","v":2212},{"$f":"COUNTIF(L7:L34,T20)","v":2},null,null,null,{"$f":"N20","v":2212},{"$f":"COUNTIF(L35:L61,Y20)","v":3},null,null,null,{"$f":"N20","v":2212},{"$f":"COUNTIF(L62:L89,AD20)","v":5},null,null,null,{"$f":"N20","v":2212},{"$f":"COUNTIF(L90:L117,AI20)","v":5},null,null,null,{"$f":"N20","v":2212},{"$f":"COUNTIF(L118:L144,AN20)","v":2},null,null,null,{"$f":"N20","v":2212},{"$f":"COUNTIF(L145:L172,AS20)","v":6}]
[21,1937,12,1944,24,1954,23,1963,null,null,0,2122,null,2221,{"$f":"COUNTIF($L$7:$L$500,N21)","v":2},{"$f":"O21/$Q$4","v":1.2121212121212121E-2},{"$f":"IF(P21=0,0,(P21*((LOG(P21))/LOG(2))))","v":-7.716754199085836E-2},null,null,{"$f":"N21","v":2221},{"$f":"COUNTIF(L7:L34,T21)","v":0},{"$f":"U21/(W4-U20)","v":0},{"$f":"IF(V21=0,0,(V21*((LOG(V21))/LOG(2))))","v":0},null,{"$f":"N21","v":2221},{"$f":"COUNTIF(L35:L61,Y21)","v":0},{"$f":"Z21/(AB4-Z20)","v":0},{"$f":"IF(AA21=0,0,(AA21*((LOG(AA21))/LOG(2))))","v":0},null,{"$f":"N21","v":2221},{"$f":"COUNTIF(L62:L89,AD21)","v":1},{"$f":"AE21/(AG4-AE20)","v":4.3478260869565216E-2},{"$f":"IF(AF21=0,0,(AF21*((LOG(AF21))/LOG(2))))","v":-0.19667660678508753},null,{"$f":"N21","v":2221},{"$f":"COUNTIF(L90:L117,AI21)","v":1},{"$f":"AJ21/(AL4-AJ20)","v":4.3478260869565216E-2},{"$f":"IF(AK21=0,0,(AK21*((LOG(AK21))/LOG(2))))","v":-0.19667660678508753},null,{"$f":"N21","v":2221},{"$f":"COUNTIF(L118:L144,AN21)","v":0},{"$f":"AO21/(AQ4-AO20)","v":0},{"$f":"IF(AP21=0,0,(AP21*((LOG(AP21))/LOG(2))))","v":0},null,{"$f":"N21","v":2221},{"$f":"COUNTIF(L145:L172,AS21)","v":0},{"$f":"AT21/(AV4-AT20)","v":0},{"$f":"IF(AU21=0,0,(AU21*((LOG(AU21))/LOG(2))))","v":0}]
[12,2076,23,2085,24,2092,23,2106,null,null,0,1222,null,2222,{"$f":"COUNTIF($L$7:$L$500,N22)","v":13},{"$f":"O22/$Q$4","v":7.8787878787878782E-2},{"$f":"IF(P22=0,0,(P22*((LOG(P22))/LOG(2))))","v":-0.28882710575370552},null,null,{"$f":"N22","v":2222},{"$f":"COUNTIF(L7:L34,T22)","v":5},{"$f":"U22/(W4-U20)","v":0.19230769230769232},{"$f":"IF(V22=0,0,(V22*((LOG(V22))/LOG(2))))","v":-0.45740608139494804},null,{"$f":"N22","v":2222},{"$f":"COUNTIF(L35:L61,Y22)","v":2},{"$f":"Z22/(AB4-Z20)","v":8.3333333333333329E-2},{"$f":"IF(AA22=0,0,(AA22*((LOG(AA22))/LOG(2))))","v":-0.29874687506009634},null,{"$f":"N22","v":2222},{"$f":"COUNTIF(L62:L89,AD22)","v":2},{"$f":"AE22/(AG4-AE20)","v":8.6956521739130432E-2},{"$f":"IF(AF22=0,0,(AF22*((LOG(AF22))/LOG(2))))","v":-0.30639669183104457},null,{"$f":"N22","v":2222},{"$f":"COUNTIF(L90:L117,AI22)","v":3},{"$f":"AJ22/(AL4-AJ20)","v":0.13043478260869565},{"$f":"IF(AK22=0,0,(AK22*((LOG(AK22))/LOG(2))))","v":-0.3832955811307639},null,{"$f":"N22","v":2222},{"$f":"COUNTIF(L118:L144,AN22)","v":0},{"$f":"AO22/(AQ4-AO20)","v":0},{"$f":"IF(AP22=0,0,(AP22*((LOG(AP22))/LOG(2))))","v":0},null,{"$f":"N22","v":2222},{"$f":"COUNTIF(L145:L172,AS22)","v":1},{"$f":"AT22/(AV4-AT20)","v":4.7619047619047616E-2},{"$f":"IF(AU22=0,0,(AU22*((LOG(AU22))/LOG(2))))","v":-0.20915797251327431}]
[21,2205,12,2212,24,2220,23,2225,null,null,0,2122,null,null,null,{"$f":"SUM(P7:P22)","v":1},{"$f":"-SUM(Q7:Q22)","v":2.6645706598767269},null,null,null,null,{"$f":"SUM(V7:V22)","v":1},{"$f":"-SUM(W7:W22)","v":1.4034099330298797},null,null,null,{"$f":"SUM(AA7:AA22)","v":1},{"$f":"-SUM(AB7:AB22)","v":1.6635819199522097},null,null,null,{"$f":"SUM(AF7:AF22)","v":1},{"$f":"-SUM(AG7:AG22)","v":1.9644052674484187},null,null,null,{"$f":"SUM(AK7:AK22)","v":1},{"$f":"-SUM(AL7:AL22)","v":2.3507720234032266},null,null,null,{"$f":"SUM(AP7:AP22)","v":1},{"$f":"-SUM(AQ7:AQ22)","v":2.2432156925345845},null,null,null,{"$f":"SUM(AU7:AU22)","v":1},{"$f":"-SUM(AV7:AV22)","v":2.5528321616792038}]
[21,2324,12,2337,24,2348,23,2356,null,null,0,2122,null,null,null,"U=",{"$f":"Q23/(LOG(Q4)/LOG(2))","v":0.36172333796690059},null,null,null,null,"U1=",{"$f":"W23/(LOG(W4)/LOG(2))","v":0.29192975259442755},null,null,null,"U2=",{"$f":"AB23/(LOG(AB4)/LOG(2))","v":0.34986777693379328},null,null,null,"U3=",{"$f":"AG23/(LOG(AG4)/LOG(2))","v":0.40862497138189879},null,null,null,"U4=",{"$f":"AL23/(LOG(AL4)/LOG(2))","v":0.4889948966774163},null,null,null,"U5=",{"$f":"AQ23/(LOG(AQ4)/LOG(2))","v":0.47177050803282389},null,null,null,"U6=",{"$f":"AV23/(LOG(AV4)/LOG(2))","v":0.53688592222585041}]
[21,2452,12,2466,24,2476,23,2483,null,null,0,2122]
[21,2593,12,2603,24,2612,23,2621,null,null,0,2122]
[21,2721,21,2726,22,2742,23,2751,null,null,0,2222,null,"Total Target Seq"]
[21,2848,12,2863,24,2875,23,2897,null,null,0,2122,null,{"$f":"COUNTIF(L7:L172,G3)","v":23},null,28,27,28,28,27,28]
[21,2996,12,3008,24,3017,23,3025,null,null,0,2122,null,null,null,"% of reinforcement given in 6 equal intervals based on number of trials "]
[21,3127,12,3135,24,3148,23,3155,null,null,0,2122,null,null,null,"%_1","%_2","%_3","%_4","%_5","%_6"]
[21,3252,21,3257,11,3266,21,3275,null,null,0,2212,null,null,"target sequence",{"$f":"$G$3","v":2212},{"$f":"$G$3","v":2212},{"$f":"$G$3","v":2212},{"$f":"$G$3","v":2212},{"$f":"$G$3","v":2212},{"$f":"$G$3","v":2212}]
[12,3464,23,3473,24,3476,23,3481,null,null,0,1222,null,null,"total reinforcement",{"$f":"U20","v":2},{"$f":"Z20","v":3},{"$f":"AE20","v":5},{"$f":"AJ20","v":5},{"$f":"AO20","v":2},{"$f":"AT20","v":6}]
[12,3593,23,3601,24,3608,23,3616,null,null,0,1222,null,null,"% target"]
[21,3719,12,3729,24,3737,23,3743,null,null,0,2122,null,null,"CCRF"]
[21,3866,12,3875,24,3885,23,3890,null,null,0,2122,null,null,"% CCRf"]
[21,3990,12,4004,24,4017,23,4025,null,null,0,2122,null,null,"average response rate",{"$f":"H34/P28","v":133.67857142857142},{"$f":"(H61-H34)/Q28","v":138.88888888888889},{"$f":"(H89-H61)/R28","v":147.42857142857142},{"$f":"(H117-H89)/S28","v":152.32142857142858},{"$f":"(H144-H117)/T28","v":145.7037037037037},{"$f":"(H172-H144)/U28","v":-707.85714285714289}]
[21,4125,12,4137,24,4147,23,4155,null,null,0,2122]
[12,4266,14,4273,24,4281,23,4287,null,null,0,1122]
[21,4385,12,4396,24,4406,23,4413,null,null,0,2122]
[21,4511,12,4525,24,4541,23,4555,null,null,0,2122]
[21,4661,12,4669,24,4678,23,4689,null,null,0,2122]
[12,4810,23,4821,24,4826,23,4835,null,null,0,1222]
[21,4931,12,4943,24,4951,23,4958,null,null,0,2122]
[21,5055,21,5060,22,5076,23,5081,null,null,0,2222]
[21,5178,21,5183,11,5193,21,5210,null,null,0,2212]
[12,5401,23,5411,24,5416,23,5422,null,null,0,1222]
[21,5522,12,5536,24,5549,23,5563,null,null,0,2122]
[21,5662,12,5675,24,5683,23,5691,null,null,0,2122]
[21,5789,12,5805,13,5809,23,5832,null,null,0,2112]
[21,5932,12,5944,24,5955,23,5969,null,null,0,2122]
[12,6103,14,6109,24,6120,23,6124,null,null,0,1122]
[21,6221,12,6232,24,6241,23,6250,null,null,0,2122]
[21,6347,12,6358,24,6369,23,6378,null,null,0,2122]
[21,6477,21,6482,22,6518,23,6524,null,null,0,2222]
[21,6621,21,6625,11,6634,21,6646,null,null,0,2212]
[12,6847,14,6853,24,6860,23,6864,null,null,0,1122]
[21,6964,12,6973,24,6983,23,6995,null,null,0,2122]
[21,7093,12,7105,24,7117,23,7124,null,null,0,2122]
[12,7231,23,7239,24,7245,23,7254,null,null,0,1222]
[21,7350,12,7358,24,7368,23,7373,null,null,0,2122]
[21,7470,21,7476,11,7485,21,7493,null,null,0,2212]
[12,7651,14,7662,24,7674,23,7682,null,null,0,1122]
[21,7785,12,7793,24,7806,23,7815,null,null,0,2122]
[21,7912,21,7916,11,7925,21,7932,null,null,0,2212]
[12,8069,14,8074,24,8083,23,8088,null,null,0,1122]
[21,8185,12,8199,24,8238,23,8249,null,null,0,2122]
[21,8347,21,8372,22,8379,14,8427,null,null,0,2221]
[21,8523,12,8536,24,8555,23,8569,null,null,0,2122]
[21,8665,21,8669,11,8680,21,8697,null,null,0,2212]
[21,8824,12,8833,24,8843,23,8846,null,null,0,2122]
[21,8943,21,8948,11,8959,21,8968,null,null,0,2212]
[12,9097,23,9116,24,9122,23,9134,null,null,0,1222]
[21,9231,12,9243,24,9252,23,9265,null,null,0,2122]
[21,9365,21,9370,11,9378,21,9388,null,null,0,2212]
[21,9580,12,9589,24,9596,23,9600,null,null,0,2122]
[21,9697,21,9702,11,9713,21,9723,null,null,0,2212]
[21,9886,12,9894,24,9902,23,9907,null,null,0,2122]
[21,10004,12,10020,24,10028,23,10040,null,null,0,2122]
[21,10138,21,10143,22,10159,23,10163,null,null,0,2222]
[21,10260,12,10271,13,10280,23,10288,null,null,0,2112]
[21,10388,12,10403,24,10412,23,10416,null,null,0,2122]
[21,10535,12,10543,24,10553,23,10558,null,null,0,2122]
[12,10666,14,10675,24,10716,23,10728,null,null,0,1122]
[12,10835,23,10848,24,10854,23,10865,null,null,0,1222]
[21,10961,12,10971,24,10988,23,11003,null,null,0,2122]
[21,11192,21,11209,22,11212,23,11219,null,null,0,2222]
[21,11318,12,11327,13,11332,23,11352,null,null,0,2112]
[21,11449,12,11464,24,11474,23,11486,null,null,0,2122]
[21,11584,12,11598,24,11609,23,11621,null,null,0,2122]
[21,11719,12,11732,24,11767,23,11780,null,null,0,2122]
[21,11876,21,11881,11,11889,21,11898,null,null,0,2212]
[12,12058,23,12072,24,12078,23,12085,null,null,0,1222]
[21,12185,21,12189,11,12201,21,12231,null,null,0,2212]
[21,12397,21,12401,22,12416,23,12422,null,null,0,2222]
[21,12521,21,12525,11,12543,21,12555,null,null,0,2212]
[21,12705,12,12714,13,12716,14,12720,null,null,0,2111]
[21,12817,12,12828,13,12832,23,12839,null,null,0,2112]
[21,12939,21,12944,22,12961,14,13008,null,null,0,2221]
[21,13110,12,13121,24,13130,23,13152,null,null,0,2122]
[21,13257,12,13277,24,13286,23,13302,null,null,0,2122]
[21,13400,12,13414,24,13444,23,13454,null,null,0,2122]
[21,13552,21,13556,22,13585,23,13601,null,null,0,2222]
[12,13720,14,13724,24,13734,23,13738,null,null,0,1122]
[21,13838,12,13848,24,13869,23,13884,null,null,0,2122]
[21,13984,12,13993,24,14003,23,14007,null,null,0,2122]
[21,14106,12,14116,24,14124,23,14132,null,null,0,2122]
[21,14236,12,14246,24,14261,23,14273,null,null,0,2122]
[21,14373,21,14378,11,14385,21,14417,null,null,0,2212]
[21,14633,12,14641,24,14652,23,14656,null,null,0,2122]
[12,14773,23,14781,24,14785,23,14792,null,null,0,1222]
[21,14890,12,14903,13,14910,23,14918,null,null,0,2112]
[12,15031,14,15039,24,15047,23,15064,null,null,0,1122]
[21,15164,21,15169,11,15177,21,15185,null,null,0,2212]
[12,15341,14,15350,24,15391,23,15407,null,null,0,1122]
[12,15510,14,15515,24,15523,23,15527,null,null,0,1122]
[21,15627,12,15641,24,15650,23,15662,null,null,0,2122]
[21,15761,21,15766,22,15782,23,15886,null,null,0,2222]
[12,15997,23,16027,13,16044,23,16061,null,null,0,1212]
[21,16158,12,16168,24,16188,23,16214,null,null,0,2122]
[21,16312,12,16325,24,16364,23,16379,null,null,0,2122]
[21,16475,12,16485,13,16490,23,16515,null,null,0,2112]
[21,16613,12,16626,24,16642,23,16649,null,null,0,2122]
[21,16746,12,16761,24,16775,14,16814,null,null,0,2121]
[12,16916,14,16929,24,16938,23,16944,null,null,0,1122]
[21,17043,12,17057,24,17065,23,17084,null,null,0,2122]
[21,17180,12,17192,24,17210,14,17245,null,null,0,2121]
[21,17344,12,17357,13,17363,23,17403,null,null,0,2112]
[21,17502,12,17517,24,17530,14,17560,null,null,0,2121]
[21,17660,12,17670,13,17677,23,17686,null,null,0,2112]
[21,17784,12,17793,24,17805,14,17832,null,null,0,2121]
[12,17939,23,17953,24,17964,23,17973,null,null,0,1222]
[21,18070,12,18084,24,18094,23,18099,null,null,0,2122]
[21,18198,12,18212,24,18224,14,18317,null,null,0,2121]
[21,18415,12,18424,13,18435,23,18443,null,null,0,2112]
[21,18543,12,18552,13,18558,23,18568,null,null,0,2112]
[21,18664,12,18675,13,18681,23,18690,null,null,0,2112]
[21,18787,12,18800,13,18804,23,18823,null,null,0,2112]
[21,18920,12,18929,13,18934,23,18942,null,null,0,2112]
[21,19040,21,19045,11,19053,21,19077,null,null,0,2212]
[12,19281,14,19289,24,19298,23,19307,null,null,0,1122]
[21,19408,12,19420,24,19432,23,19439,null,null,0,2122]
[12,19543,14,19555,24,19562,23,19565,null,null,0,1122]
[21,19682,12,19691,24,19699,23,19703,null,null,0,2122]
[21,19799,21,19803,11,19811,21,19820,null,null,0,2212]
[21,19981,21,19987,11,19994,21,20007,null,null,0,2212]
[21,20188,21,20193,22,20206,23,20211,null,null,0,2222]
[12,20314,23,20322,24,20326,23,20331,null,null,0,1222]
[12,20436,14,20441,24,20448,23,20452,null,null,0,1122]
[21,20550,21,20573,11,20627,21,20641,null,null,0,2212]
[12,20792,23,20807,24,20811,23,20818,null,null,0,1222]
[12,20917,14,20927,24,20936,23,20946,null,null,0,1122]
[21,21047,12,21058,24,21066,14,21106,null,null,0,2121]
[21,21207,12,21218,24,21226,23,21235,null,null,0,2122]
[21,21333,12,21344,13,21352,23,21363,null,null,0,2112]
[12,21468,23,21479,24,21489,23,21497,null,null,0,1222]
[21,21595,12,21612,24,21634,23,21643,null,null,0,2122]
[21,21742,21,21746,11,21755,21,21766,null,null,0,2212]
[12,21883,23,21893,24,21900,23,21909,null,null,0,1222]
[12,22017,14,22020,13,22029,14,22037,null,null,0,1111]
[21,22135,12,22143,13,22150,23,22163,null,null,0,2112]
[21,22263,12,22275,24,22284,14,22313,null,null,0,2121]
[21,22412,21,22417,11,22426,21,22453,null,null,0,2212]
[21,22589,12,22597,24,22606,23,22613,null,null,0,2122]
[12,22735,14,22741,24,22749,23,22757,null,null,0,1122]
[21,22855,21,22859,11,22868,21,22892,null,null,0,2212]
[12,23074,23,23088,24,23093,23,23100,null,null,0,1222]
[21,23196,12,23208,13,23214,23,23223,null,null,0,2112]
[21,23323,12,23336,13,23342,23,23373,null,null,0,2112]
[21,23474,12,23484,13,23491,23,23525,null,null,0,2112]
[21,23625,12,23632,13,23637,23,23671,null,null,0,2112]
[21,23769,21,23775,11,23783,21,23811,null,null,0,2212]
[21,23983,12,23991,24,24000,null,null,null,null,null,212]

{"sheet":"!LC09A34..Is","index":31,"n_rows":169,"n_cols":48,"rows_kept":169,"cut":false,"hidden":false,"merged":[[4,39,4,42],[5,39,5,40],[4,44,4,47],[5,44,5,45],[4,24,4,27],[5,24,5,25],[4,29,4,32],[5,29,5,30],[4,34,4,37],[5,34,5,35],[1,1,1,2],[5,13,5,14],[26,13,26,14],[27,13,27,14],[4,19,4,22],[5,19,5,20]]}
["Report for:!LC09A34..Is"]
["Date:","<date>"]
["Hen:","<hen>",null,null,null,"Correct Sequence",{"$f":"Start!J2","v":2212},null,null,null,null,null,null,null,null,"Total Sequences in Data",{"$f":"4994-COUNTBLANK(L7:L5000)","v":163},null,null,null,null,"Total Sequences in Block Data",{"$f":"COUNTA(L7:L33)","v":27},null,null,null,"Total Sequences in Block Data",{"$f":"COUNTA(L34:L60)","v":27},null,null,null,"Total Sequences in Block Data",{"$f":"COUNTA(L61:L88)","v":28},null,null,null,"Total Sequences in Block Data",{"$f":"COUNTA(L89:L115)","v":27},null,null,null,"Total Sequences in Block Data",{"$f":"COUNTA(L116:L142)","v":27},null,null,null,"Total Sequences in Block Data",{"$f":"COUNTA(L143:L169)","v":27}]
[null,null,null,null,null,null,null,null,null,null,null,null,null,null,null,"Total Sequences in Summary",{"$f":"SUM(O7:O22)","v":163},null,null,null,null,"Total Sequences in Block Summary",{"$f":"SUM(U7:U22)","v":27},null,null,null,"Total Sequences in Block Summary",{"$f":"SUM(Z7:Z22)","v":27},null,null,null,"Total Sequences in Block Summary",{"$f":"SUM(AE7:AE22)","v":28},null,null,null,"Total Sequences in Block Summary",{"$f":"SUM(AJ7:AJ22)","v":27},null,null,null,"Total Sequences in Block Summary",{"$f":"SUM(AO7:AO22)","v":27},null,null,null,"Total Sequences in Block Summary",{"$f":"SUM(AT7:AT22)","v":27}]
[null,null,null,null,null,null,null,null,null,null,null,null,null,null,null,null,null,null,null,"Block 1",null,null,null,null,"Block 2",null,null,null,null,"Block 3",null,null,null,null,"Block 4",null,null,null,null,"Block 5",null,null,null,null,"Block 6"]
["Sequence\nComponent\n1","Time\n1","Sequence\nComponent\n2","Time\n2","Sequence\nComponent\n3","Time\n3","Sequence\nComponent\n4","Time\n4","Sequence\nComponent\n5","Time\n5","Correct?\n0=No 1=Yes","Sequence",null,"Frequency",null,"Relative Frequency","Variability",null,null,"Frequency",null,"Relative Frequency","Variability",null,"Frequency",null,"Relative Frequency","Variability",null,"Frequency",null,"Relative Frequency","Variability",null,"Frequency",null,"Relative Frequency","Variability",null,"Frequency",null,"Relative Frequency","Variability",null,"Frequency",null,"Relative Frequency","Variability"]
[21,9,21,14,22,24,23,29,null,null,0,2222,null,1111,{"$f":"COUNTIF($L$7:$L$500,N7)","v":0},{"$f":"O7/$Q$4","v":0},{"$f":"IF(P7=0,0,(P7*((LOG(P7))/LOG(2))))","v":0},null,null,{"$f":"N7","v":1111},{"$f":"COUNTIF(L7:L33,T7)","v":0},{"$f":"U7/(W4-U20)","v":0},{"$f":"IF(V7=0,0,(V7*((LOG(V7))/LOG(2))))","v":0},null,{"$f":"N7","v":1111},{"$f":"COUNTIF(L34:L60,Y7)","v":0},{"$f":"Z7/(AB4-Z20)","v":0},{"$f":"IF(AA7=0,0,(AA7*((LOG(AA7))/LOG(2))))","v":0},null,{"$f":"N7","v":1111},{"$f":"COUNTIF(L61:L88,AD7)","v":0},{"$f":"AE7/(AG4-AE20)","v":0},{"$f":"IF(AF7=0,0,(AF7*((LOG(AF7))/LOG(2))))","v":0},null,{"$f":"N7","v":1111},{"$f":"COUNTIF(L89:L115,AI7)","v":0},{"$f":"AJ7/(AL4-AJ20)","v":0},{"$f":"IF(AK7=0,0,(AK7*((LOG(AK7))/LOG(2))))","v":0},null,{"$f":"N7","v":1111},{"$f":"COUNTIF(L116:L142,AN7)","v":0},{"$f":"AO7/(AQ4-AO20)","v":0},{"$f":"IF(AP7=0,0,(AP7*((LOG(AP7))/LOG(2))))","v":0},null,{"$f":"N7","v":1111},{"$f":"COUNTIF(L143:L169,AS7)","v":0},{"$f":"AT7/(AV4-AT20)","v":0},{"$f":"IF(AU7=0,0,(AU7*((LOG(AU7))/LOG(2))))","v":0}]
[21,129,12,142,24,162,14,199,null,null,0,2121,null,1112,{"$f":"COUNTIF($L$7:$L$500,N8)","v":4},{"$f":"O8/$Q$4","v":2.4539877300613498E-2},{"$f":"IF(P8=0,0,(P8*((LOG(P8))/LOG(2))))","v":-0.13125713261916755},null,null,{"$f":"N8","v":1112},{"$f":"COUNTIF(L7:L33,T8)","v":0},{"$f":"U8/(W4-U20)","v":0},{"$f":"IF(V8=0,0,(V8*((LOG(V8))/LOG(2))))","v":0},null,{"$f":"N8","v":1112},{"$f":"COUNTIF(L34:L60,Y8)","v":2},{"$f":"Z8/(AB4-Z20)","v":8.3333333333333329E-2},{"$f":"IF(AA8=0,0,(AA8*((LOG(AA8))/LOG(2))))","v":-0.29874687506009634},null,{"$f":"N8","v":1112},{"$f":"COUNTIF(L61:L88,AD8)","v":0},{"$f":"AE8/(AG4-AE20)","v":0},{"$f":"IF(AF8=0,0,(AF8*((LOG(AF8))/LOG(2))))","v":0},null,{"$f":"N8","v":1112},{"$f":"COUNTIF(L89:L115,AI8)","v":1},{"$f":"AJ8/(AL4-AJ20)","v":3.8461538461538464E-2},{"$f":"IF(AK8=0,0,(AK8*((LOG(AK8))/LOG(2))))","v":-0.18078614300542661},null,{"$f":"N8","v":1112},{"$f":"COUNTIF(L116:L142,AN8)","v":1},{"$f":"AO8/(AQ4-AO20)","v":4.1666666666666664E-2},{"$f":"IF(AP8=0,0,(AP8*((LOG(AP8))/LOG(2))))","v":-0.19104010419671485},null,{"$f":"N8","v":1112},{"$f":"COUNTIF(L143:L169,AS8)","v":0},{"$f":"AT8/(AV4-AT20)","v":0},{"$f":"IF(AU8=0,0,(AU8*((LOG(AU8))/LOG(2))))","v":0}]
[21,299,21,316,22,321,23,335,null,null,0,2222,null,1121,{"$f":"COUNTIF($L$7:$L$500,N9)","v":0},{"$f":"O9/$Q$4","v":0},{"$f":"IF(P9=0,0,(P9*((LOG(P9))/LOG(2))))","v":0},null,null,{"$f":"N9","v":1121},{"$f":"COUNTIF(L7:L33,T9)","v":0},{"$f":"U9/(W4-U20)","v":0},{"$f":"IF(V9=0,0,(V9*((LOG(V9))/LOG(2))))","v":0},null,{"$f":"N9","v":1121},{"$f":"COUNTIF(L34:L60,Y9)","v":0},{"$f":"Z9/(AB4-Z20)","v":0},{"$f":"IF(AA9=0,0,(AA9*((LOG(AA9))/LOG(2))))","v":0},null,{"$f":"N9","v":1121},{"$f":"COUNTIF(L61:L88,AD9)","v":0},{"$f":"AE9/(AG4-AE20)","v":0},{"$f":"IF(AF9=0,0,(AF9*((LOG(AF9))/LOG(2))))","v":0},null,{"$f":"N9","v":1121},{"$f":"COUNTIF(L89:L115,AI9)","v":0},{"$f":"AJ9/(AL4-AJ20)","v":0},{"$f":"IF(AK9=0,0,(AK9*((LOG(AK9))/LOG(2))))","v":0},null,{"$f":"N9","v":1121},{"$f":"COUNTIF(L116:L142,AN9)","v":0},{"$f":"AO9/(AQ4-AO20)","v":0},{"$f":"IF(AP9=0,0,(AP9*((LOG(AP9))/LOG(2))))","v":0},null,{"$f":"N9","v":1121},{"$f":"COUNTIF(L143:L169,AS9)","v":0},{"$f":"AT9/(AV4-AT20)","v":0},{"$f":"IF(AU9=0,0,(AU9*((LOG(AU9))/LOG(2))))","v":0}]
[21,481,21,487,22,495,14,503,null,null,0,2221,null,1122,{"$f":"COUNTIF($L$7:$L$500,N10)","v":14},{"$f":"O10/$Q$4","v":8.5889570552147243E-2},{"$f":"IF(P10=0,0,(P10*((LOG(P10))/LOG(2))))","v":-0.30416702607624924},null,null,{"$f":"N10","v":1122},{"$f":"COUNTIF(L7:L33,T10)","v":1},{"$f":"U10/(W4-U20)","v":0.04},{"$f":"IF(V10=0,0,(V10*((LOG(V10))/LOG(2))))","v":-0.18575424759098899},null,{"$f":"N10","v":1122},{"$f":"COUNTIF(L34:L60,Y10)","v":0},{"$f":"Z10/(AB4-Z20)","v":0},{"$f":"IF(AA10=0,0,(AA10*((LOG(AA10))/LOG(2))))","v":0},null,{"$f":"N10","v":1122},{"$f":"COUNTIF(L61:L88,AD10)","v":2},{"$f":"AE10/(AG4-AE20)","v":0.08},{"$f":"IF(AF10=0,0,(AF10*((LOG(AF10))/LOG(2))))","v":-0.29150849518197797},null,{"$f":"N10","v":1122},{"$f":"COUNTIF(L89:L115,AI10)","v":1},{"$f":"AJ10/(AL4-AJ20)","v":3.8461538461538464E-2},{"$f":"IF(AK10=0,0,(AK10*((LOG(AK10))/LOG(2))))","v":-0.18078614300542661},null,{"$f":"N10","v":1122},{"$f":"COUNTIF(L116:L142,AN10)","v":4},{"$f":"AO10/(AQ4-AO20)","v":0.16666666666666666},{"$f":"IF(AP10=0,0,(AP10*((LOG(AP10))/LOG(2))))","v":-0.43082708345352599},null,{"$f":"N10","v":1122},{"$f":"COUNTIF(L143:L169,AS10)","v":6},{"$f":"AT10/(AV4-AT20)","v":0.27272727272727271},{"$f":"IF(AU10=0,0,(AU10*((LOG(AU10))/LOG(2))))","v":-0.51121885034076575}]
[21,601,12,612,24,620,23,629,null,null,0,2122,null,1211,{"$f":"COUNTIF($L$7:$L$500,N11)","v":0},{"$f":"O11/$Q$4","v":0},{"$f":"IF(P11=0,0,(P11*((LOG(P11))/LOG(2))))","v":0},null,null,{"$f":"N11","v":1211},{"$f":"COUNTIF(L7:L33,T11)","v":0},{"$f":"U11/(W4-U20)","v":0},{"$f":"IF(V11=0,0,(V11*((LOG(V11))/LOG(2))))","v":0},null,{"$f":"N11","v":1211},{"$f":"COUNTIF(L34:L60,Y11)","v":0},{"$f":"Z11/(AB4-Z20)","v":0},{"$f":"IF(AA11=0,0,(AA11*((LOG(AA11))/LOG(2))))","v":0},null,{"$f":"N11","v":1211},{"$f":"COUNTIF(L61:L88,AD11)","v":0},{"$f":"AE11/(AG4-AE20)","v":0},{"$f":"IF(AF11=0,0,(AF11*((LOG(AF11))/LOG(2))))","v":0},null,{"$f":"N11","v":1211},{"$f":"COUNTIF(L89:L115,AI11)","v":0},{"$f":"AJ11/(AL4-AJ20)","v":0},{"$f":"IF(AK11=0,0,(AK11*((LOG(AK11))/LOG(2))))","v":0},null,{"$f":"N11","v":1211},{"$f":"COUNTIF(L116:L142,AN11)","v":0},{"$f":"AO11/(AQ4-AO20)","v":0},{"$f":"IF(AP11=0,0,(AP11*((LOG(AP11))/LOG(2))))","v":0},null,{"$f":"N11","v":1211},{"$f":"COUNTIF(L143:L169,AS11)","v":0},{"$f":"AT11/(AV4-AT20)","v":0},{"$f":"IF(AU11=0,0,(AU11*((LOG(AU11))/LOG(2))))","v":0}]
[21,726,21,731,22,745,23,751,null,null,0,2222,null,1212,{"$f":"COUNTIF($L$7:$L$500,N12)","v":0},{"$f":"O12/$Q$4","v":0},{"$f":"IF(P12=0,0,(P12*((LOG(P12))/LOG(2))))","v":0},null,null,{"$f":"N12","v":1212},{"$f":"COUNTIF(L7:L33,T12)","v":0},{"$f":"U12/(W4-U20)","v":0},{"$f":"IF(V12=0,0,(V12*((LOG(V12))/LOG(2))))","v":0},null,{"$f":"N12","v":1212},{"$f":"COUNTIF(L34:L60,Y12)","v":0},{"$f":"Z12/(AB4-Z20)","v":0},{"$f":"IF(AA12=0,0,(AA12*((LOG(AA12))/LOG(2))))","v":0},null,{"$f":"N12","v":1212},{"$f":"COUNTIF(L61:L88,AD12)","v":0},{"$f":"AE12/(AG4-AE20)","v":0},{"$f":"IF(AF12=0,0,(AF12*((LOG(AF12))/LOG(2))))","v":0},null,{"$f":"N12","v":1212},{"$f":"COUNTIF(L89:L115,AI12)","v":0},{"$f":"AJ12/(AL4-AJ20)","v":0},{"$f":"IF(AK12=0,0,(AK12*((LOG(AK12))/LOG(2))))","v":0},null,{"$f":"N12","v":1212},{"$f":"COUNTIF(L116:L142,AN12)","v":0},{"$f":"AO12/(AQ4-AO20)","v":0},{"$f":"IF(AP12=0,0,(AP12*((LOG(AP12))/LOG(2))))","v":0},null,{"$f":"N12","v":1212},{"$f":"COUNTIF(L143:L169,AS12)","v":0},{"$f":"AT12/(AV4-AT20)","v":0},{"$f":"IF(AU12=0,0,(AU12*((LOG(AU12))/LOG(2))))","v":0}]
[21,848,12,859,24,870,23,886,null,null,0,2122,null,1221,{"$f":"COUNTIF($L$7:$L$500,N13)","v":0},{"$f":"O13/$Q$4","v":0},{"$f":"IF(P13=0,0,(P13*((LOG(P13))/LOG(2))))","v":0},null,null,{"$f":"N13","v":1221},{"$f":"COUNTIF(L7:L33,T13)","v":0},{"$f":"U13/(W4-U20)","v":0},{"$f":"IF(V13=0,0,(V13*((LOG(V13))/LOG(2))))","v":0},null,{"$f":"N13","v":1221},{"$f":"COUNTIF(L34:L60,Y13)","v":0},{"$f":"Z13/(AB4-Z20)","v":0},{"$f":"IF(AA13=0,0,(AA13*((LOG(AA13))/LOG(2))))","v":0},null,{"$f":"N13","v":1221},{"$f":"COUNTIF(L61:L88,AD13)","v":0},{"$f":"AE13/(AG4-AE20)","v":0},{"$f":"IF(AF13=0,0,(AF13*((LOG(AF13))/LOG(2))))","v":0},null,{"$f":"N13","v":1221},{"$f":"COUNTIF(L89:L115,AI13)","v":0},{"$f":"AJ13/(AL4-AJ20)","v":0},{"$f":"IF(AK13=0,0,(AK13*((LOG(AK13))/LOG(2))))","v":0},null,{"$f":"N13","v":1221},{"$f":"COUNTIF(L116:L142,AN13)","v":0},{"$f":"AO13/(AQ4-AO20)","v":0},{"$f":"IF(AP13=0,0,(AP13*((LOG(AP13))/LOG(2))))","v":0},null,{"$f":"N13","v":1221},{"$f":"COUNTIF(L143:L169,AS13)","v":0},{"$f":"AT13/(AV4-AT20)","v":0},{"$f":"IF(AU13=0,0,(AU13*((LOG(AU13))/LOG(2))))","v":0}]
[21,984,12,995,24,1006,23,1014,null,null,0,2122,null,1222,{"$f":"COUNTIF($L$7:$L$500,N14)","v":11},{"$f":"O14/$Q$4","v":6.7484662576687116E-2},{"$f":"IF(P14=0,0,(P14*((LOG(P14))/LOG(2))))","v":-0.26246786436522446},null,null,{"$f":"N14","v":1222},{"$f":"COUNTIF(L7:L33,T14)","v":1},{"$f":"U14/(W4-U20)","v":0.04},{"$f":"IF(V14=0,0,(V14*((LOG(V14))/LOG(2))))","v":-0.18575424759098899},null,{"$f":"N14","v":1222},{"$f":"COUNTIF(L34:L60,Y14)","v":4},{"$f":"Z14/(AB4-Z20)","v":0.16666666666666666},{"$f":"IF(AA14=0,0,(AA14*((LOG(AA14))/LOG(2))))","v":-0.43082708345352599},null,{"$f":"N14","v":1222},{"$f":"COUNTIF(L61:L88,AD14)","v":2},{"$f":"AE14/(AG4-AE20)","v":0.08},{"$f":"IF(AF14=0,0,(AF14*((LOG(AF14))/LOG(2))))","v":-0.29150849518197797},null,{"$f":"N14","v":1222},{"$f":"COUNTIF(L89:L115,AI14)","v":2},{"$f":"AJ14/(AL4-AJ20)","v":7.6923076923076927E-2},{"$f":"IF(AK14=0,0,(AK14*((LOG(AK14))/LOG(2))))","v":-0.28464920908777636},null,{"$f":"N14","v":1222},{"$f":"COUNTIF(L116:L142,AN14)","v":0},{"$f":"AO14/(AQ4-AO20)","v":0},{"$f":"IF(AP14=0,0,(AP14*((LOG(AP14))/LOG(2))))","v":0},null,{"$f":"N14","v":1222},{"$f":"COUNTIF(L143:L169,AS14)","v":2},{"$f":"AT14/(AV4-AT20)","v":9.0909090909090912E-2},{"$f":"IF(AU14=0,0,(AU14*((LOG(AU14))/LOG(2))))","v":-0.31449378351248153}]
[21,1113,12,1130,24,1140,23,1153,null,null,0,2122,null,2111,{"$f":"COUNTIF($L$7:$L$500,N15)","v":1},{"$f":"O15/$Q$4","v":6.1349693251533744E-3},{"$f":"IF(P15=0,0,(P15*((LOG(P15))/LOG(2))))","v":-4.5084221805098634E-2},null,null,{"$f":"N15","v":2111},{"$f":"COUNTIF(L7:L33,T15)","v":0},{"$f":"U15/(W4-U20)","v":0},{"$f":"IF(V15=0,0,(V15*((LOG(V15))/LOG(2))))","v":0},null,{"$f":"N15","v":2111},{"$f":"COUNTIF(L34:L60,Y15)","v":0},{"$f":"Z15/(AB4-Z20)","v":0},{"$f":"IF(AA15=0,0,(AA15*((LOG(AA15))/LOG(2))))","v":0},null,{"$f":"N15","v":2111},{"$f":"COUNTIF(L61:L88,AD15)","v":1},{"$f":"AE15/(AG4-AE20)","v":0.04},{"$f":"IF(AF15=0,0,(AF15*((LOG(AF15))/LOG(2))))","v":-0.18575424759098899},null,{"$f":"N15","v":2111},{"$f":"COUNTIF(L89:L115,AI15)","v":0},{"$f":"AJ15/(AL4-AJ20)","v":0},{"$f":"IF(AK15=0,0,(AK15*((LOG(AK15))/LOG(2))))","v":0},null,{"$f":"N15","v":2111},{"$f":"COUNTIF(L116:L142,AN15)","v":0},{"$f":"AO15/(AQ4-AO20)","v":0},{"$f":"IF(AP15=0,0,(AP15*((LOG(AP15))/LOG(2))))","v":0},null,{"$f":"N15","v":2111},{"$f":"COUNTIF(L143:L169,AS15)","v":0},{"$f":"AT15/(AV4-AT20)","v":0},{"$f":"IF(AU15=0,0,(AU15*((LOG(AU15))/LOG(2))))","v":0}]
[21,1261,12,1276,24,1287,23,1292,null,null,0,2122,null,2112,{"$f":"COUNTIF($L$7:$L$500,N16)","v":19},{"$f":"O16/$Q$4","v":0.1165644171779141},{"$f":"IF(P16=0,0,(P16*((LOG(P16))/LOG(2))))","v":-0.36144301947829666},null,null,{"$f":"N16","v":2112},{"$f":"COUNTIF(L7:L33,T16)","v":2},{"$f":"U16/(W4-U20)","v":0.08},{"$f":"IF(V16=0,0,(V16*((LOG(V16))/LOG(2))))","v":-0.29150849518197797},null,{"$f":"N16","v":2112},{"$f":"COUNTIF(L34:L60,Y16)","v":1},{"$f":"Z16/(AB4-Z20)","v":4.1666666666666664E-2},{"$f":"IF(AA16=0,0,(AA16*((LOG(AA16))/LOG(2))))","v":-0.19104010419671485},null,{"$f":"N16","v":2112},{"$f":"COUNTIF(L61:L88,AD16)","v":5},{"$f":"AE16/(AG4-AE20)","v":0.2},{"$f":"IF(AF16=0,0,(AF16*((LOG(AF16))/LOG(2))))","v":-0.46438561897747244},null,{"$f":"N16","v":2112},{"$f":"COUNTIF(L89:L115,AI16)","v":8},{"$f":"AJ16/(AL4-AJ20)","v":0.30769230769230771},{"$f":"IF(AK16=0,0,(AK16*((LOG(AK16))/LOG(2))))","v":-0.52321222096648989},null,{"$f":"N16","v":2112},{"$f":"COUNTIF(L116:L142,AN16)","v":2},{"$f":"AO16/(AQ4-AO20)","v":8.3333333333333329E-2},{"$f":"IF(AP16=0,0,(AP16*((LOG(AP16))/LOG(2))))","v":-0.29874687506009634},null,{"$f":"N16","v":2112},{"$f":"COUNTIF(L143:L169,AS16)","v":1},{"$f":"AT16/(AV4-AT20)","v":4.5454545454545456E-2},{"$f":"IF(AU16=0,0,(AU16*((LOG(AU16))/LOG(2))))","v":-0.20270143721078623}]
[21,1395,12,1403,24,1413,23,1420,null,null,0,2122,null,2121,{"$f":"COUNTIF($L$7:$L$500,N17)","v":11},{"$f":"O17/$Q$4","v":6.7484662576687116E-2},{"$f":"IF(P17=0,0,(P17*((LOG(P17))/LOG(2))))","v":-0.26246786436522446},null,null,{"$f":"N17","v":2121},{"$f":"COUNTIF(L7:L33,T17)","v":2},{"$f":"U17/(W4-U20)","v":0.08},{"$f":"IF(V17=0,0,(V17*((LOG(V17))/LOG(2))))","v":-0.29150849518197797},null,{"$f":"N17","v":2121},{"$f":"COUNTIF(L34:L60,Y17)","v":2},{"$f":"Z17/(AB4-Z20)","v":8.3333333333333329E-2},{"$f":"IF(AA17=0,0,(AA17*((LOG(AA17))/LOG(2))))","v":-0.29874687506009634},null,{"$f":"N17","v":2121},{"$f":"COUNTIF(L61:L88,AD17)","v":2},{"$f":"AE17/(AG4-AE20)","v":0.08},{"$f":"IF(AF17=0,0,(AF17*((LOG(AF17))/LOG(2))))","v":-0.29150849518197797},null,{"$f":"N17","v":2121},{"$f":"COUNTIF(L89:L115,AI17)","v":3},{"$f":"AJ17/(AL4-AJ20)","v":0.11538461538461539},{"$f":"IF(AK17=0,0,(AK17*((LOG(AK17))/LOG(2))))","v":-0.35947814047153104},null,{"$f":"N17","v":2121},{"$f":"COUNTIF(L116:L142,AN17)","v":1},{"$f":"AO17/(AQ4-AO20)","v":4.1666666666666664E-2},{"$f":"IF(AP17=0,0,(AP17*((LOG(AP17))/LOG(2))))","v":-0.19104010419671485},null,{"$f":"N17","v":2121},{"$f":"COUNTIF(L143:L169,AS17)","v":1},{"$f":"AT17/(AV4-AT20)","v":4.5454545454545456E-2},{"$f":"IF(AU17=0,0,(AU17*((LOG(AU17))/LOG(2))))","v":-0.20270143721078623}]
[21,1519,21,1524,11,1539,21,1551,null,null,0,2212,null,2122,{"$f":"COUNTIF($L$7:$L$500,N18)","v":64},{"$f":"O18/$Q$4","v":0.39263803680981596},{"$f":"IF(P18=0,0,(P18*((LOG(P18))/LOG(2))))","v":-0.52956197466741695},null,null,{"$f":"N18","v":2122},{"$f":"COUNTIF(L7:L33,T18)","v":12},{"$f":"U18/(W4-U20)","v":0.48},{"$f":"IF(V18=0,0,(V18*((LOG(V18))/LOG(2))))","v":-0.50826897074571287},null,{"$f":"N18","v":2122},{"$f":"COUNTIF(L34:L60,Y18)","v":14},{"$f":"Z18/(AB4-Z20)","v":0.58333333333333337},{"$f":"IF(AA18=0,0,(AA18*((LOG(AA18))/LOG(2))))","v":-0.45360442088707198},null,{"$f":"N18","v":2122},{"$f":"COUNTIF(L61:L88,AD18)","v":9},{"$f":"AE18/(AG4-AE20)","v":0.36},{"$f":"IF(AF18=0,0,(AF18*((LOG(AF18))/LOG(2))))","v":-0.53061522779966841},null,{"$f":"N18","v":2122},{"$f":"COUNTIF(L89:L115,AI18)","v":11},{"$f":"AJ18/(AL4-AJ20)","v":0.42307692307692307},{"$f":"IF(AK18=0,0,(AK18*((LOG(AK18))/LOG(2))))","v":-0.52504188825160547},null,{"$f":"N18","v":2122},{"$f":"COUNTIF(L116:L142,AN18)","v":11},{"$f":"AO18/(AQ4-AO20)","v":0.45833333333333331},{"$f":"IF(AP18=0,0,(AP18*((LOG(AP18))/LOG(2))))","v":-0.51586832095510204},null,{"$f":"N18","v":2122},{"$f":"COUNTIF(L143:L169,AS18)","v":7},{"$f":"AT18/(AV4-AT20)","v":0.31818181818181818},{"$f":"IF(AU18=0,0,(AU18*((LOG(AU18))/LOG(2))))","v":-0.52566076709353871}]
[12,1745,23,1755,24,1759,23,1765,null,null,0,1222,null,2211,{"$f":"COUNTIF($L$7:$L$500,N19)","v":1},{"$f":"O19/$Q$4","v":6.1349693251533744E-3},{"$f":"IF(P19=0,0,(P19*((LOG(P19))/LOG(2))))","v":-4.5084221805098634E-2},null,null,{"$f":"N19","v":2211},{"$f":"COUNTIF(L7:L33,T19)","v":0},{"$f":"U19/(W4-U20)","v":0},{"$f":"IF(V19=0,0,(V19*((LOG(V19))/LOG(2))))","v":0},null,{"$f":"N19","v":2211},{"$f":"COUNTIF(L34:L60,Y19)","v":0},{"$f":"Z19/(AB4-Z20)","v":0},{"$f":"IF(AA19=0,0,(AA19*((LOG(AA19))/LOG(2))))","v":0},null,{"$f":"N19","v":2211},{"$f":"COUNTIF(L61:L88,AD19)","v":0},{"$f":"AE19/(AG4-AE20)","v":0},{"$f":"IF(AF19=0,0,(AF19*((LOG(AF19))/LOG(2))))","v":0},null,{"$f":"N19","v":2211},{"$f":"COUNTIF(L89:L115,AI19)","v":0},{"$f":"AJ19/(AL4-AJ20)","v":0},{"$f":"IF(AK19=0,0,(AK19*((LOG(AK19))/LOG(2))))","v":0},null,{"$f":"N19","v":2211},{"$f":"COUNTIF(L116:L142,AN19)","v":1},{"$f":"AO19/(AQ4-AO20)","v":4.1666666666666664E-2},{"$f":"IF(AP19=0,0,(AP19*((LOG(AP19))/LOG(2))))","v":-0.19104010419671485},null,{"$f":"N19","v":2211},{"$f":"COUNTIF(L143:L169,AS19)","v":0},{"$f":"AT19/(AV4-AT20)","v":0},{"$f":"IF(AU19=0,0,(AU19*((LOG(AU19))/LOG(2))))","v":0}]
[21,1864,21,1906,22,1914,14,1933,null,null,0,2221,null,2212,{"$f":"COUNTIF($L$7:$L$500,N20)","v":17},{"$f":"O20/$Q$4","v":0.10429447852760736},{"$f":"IF(P20=0,0,(P20*((LOG(P20))/LOG(2))))","v":-0.34013196515750027},null,null,{"$f":"N20","v":2212},{"$f":"COUNTIF(L7:L33,T20)","v":2},null,null,null,{"$f":"N20","v":2212},{"$f":"COUNTIF(L34:L60,Y20)","v":3},null,null,null,{"$f":"N20","v":2212},{"$f":"COUNTIF(L61:L88,AD20)","v":3},null,null,null,{"$f":"N20","v":2212},{"$f":"COUNTIF(L89:L115,AI20)","v":1},null,null,null,{"$f":"N20","v":2212},{"$f":"COUNTIF(L116:L142,AN20)","v":3},null,null,null,{"$f":"N20","v":2212},{"$f":"COUNTIF(L143:L169,AS20)","v":5}]
[21,2030,12,2044,24,2077,23,2085,null,null,0,2122,null,2221,{"$f":"COUNTIF($L$7:$L$500,N21)","v":3},{"$f":"O21/$Q$4","v":1.8404907975460124E-2},{"$f":"IF(P21=0,0,(P21*((LOG(P21))/LOG(2))))","v":-0.10608157644496788},null,null,{"$f":"N21","v":2221},{"$f":"COUNTIF(L7:L33,T21)","v":2},{"$f":"U21/(W4-U20)","v":0.08},{"$f":"IF(V21=0,0,(V21*((LOG(V21))/LOG(2))))","v":-0.29150849518197797},null,{"$f":"N21","v":2221},{"$f":"COUNTIF(L34:L60,Y21)","v":0},{"$f":"Z21/(AB4-Z20)","v":0},{"$f":"IF(AA21=0,0,(AA21*((LOG(AA21))/LOG(2))))","v":0},null,{"$f":"N21","v":2221},{"$f":"COUNTIF(L61:L88,AD21)","v":0},{"$f":"AE21/(AG4-AE20)","v":0},{"$f":"IF(AF21=0,0,(AF21*((LOG(AF21))/LOG(2))))","v":0},null,{"$f":"N21","v":2221},{"$f":"COUNTIF(L89:L115,AI21)","v":0},{"$f":"AJ21/(AL4-AJ20)","v":0},{"$f":"IF(AK21=0,0,(AK21*((LOG(AK21))/LOG(2))))","v":0},null,{"$f":"N21","v":2221},{"$f":"COUNTIF(L116:L142,AN21)","v":0},{"$f":"AO21/(AQ4-AO20)","v":0},{"$f":"IF(AP21=0,0,(AP21*((LOG(AP21))/LOG(2))))","v":0},null,{"$f":"N21","v":2221},{"$f":"COUNTIF(L143:L169,AS21)","v":1},{"$f":"AT21/(AV4-AT20)","v":4.5454545454545456E-2},{"$f":"IF(AU21=0,0,(AU21*((LOG(AU21))/LOG(2))))","v":-0.20270143721078623}]
[21,2183,12,2196,13,2243,23,2254,null,null,0,2112,null,2222,{"$f":"COUNTIF($L$7:$L$500,N22)","v":18},{"$f":"O22/$Q$4","v":0.11042944785276074},{"$f":"IF(P22=0,0,(P22*((LOG(P22))/LOG(2))))","v":-0.35103347699507842},null,null,{"$f":"N22","v":2222},{"$f":"COUNTIF(L7:L33,T22)","v":5},{"$f":"U22/(W4-U20)","v":0.2},{"$f":"IF(V22=0,0,(V22*((LOG(V22))/LOG(2))))","v":-0.46438561897747244},null,{"$f":"N22","v":2222},{"$f":"COUNTIF(L34:L60,Y22)","v":1},{"$f":"Z22/(AB4-Z20)","v":4.1666666666666664E-2},{"$f":"IF(AA22=0,0,(AA22*((LOG(AA22))/LOG(2))))","v":-0.19104010419671485},null,{"$f":"N22","v":2222},{"$f":"COUNTIF(L61:L88,AD22)","v":4},{"$f":"AE22/(AG4-AE20)","v":0.16},{"$f":"IF(AF22=0,0,(AF22*((LOG(AF22))/LOG(2))))","v":-0.42301699036395596},null,{"$f":"N22","v":2222},{"$f":"COUNTIF(L89:L115,AI22)","v":0},{"$f":"AJ22/(AL4-AJ20)","v":0},{"$f":"IF(AK22=0,0,(AK22*((LOG(AK22))/LOG(2))))","v":0},null,{"$f":"N22","v":2222},{"$f":"COUNTIF(L116:L142,AN22)","v":4},{"$f":"AO22/(AQ4-AO20)","v":0.16666666666666666},{"$f":"IF(AP22=0,0,(AP22*((LOG(AP22))/LOG(2))))","v":-0.43082708345352599},null,{"$f":"N22","v":2222},{"$f":"COUNTIF(L143:L169,AS22)","v":4},{"$f":"AT22/(AV4-AT20)","v":0.18181818181818182},{"$f":"IF(AU22=0,0,(AU22*((LOG(AU22))/LOG(2))))","v":-0.44716938520678134}]
[21,2354,12,2366,24,2381,23,2395,null,null,0,2122,null,null,null,{"$f":"SUM(P7:P22)","v":1},{"$f":"-SUM(Q7:Q22)","v":2.738780343779323},null,null,null,null,{"$f":"SUM(V7:V22)","v":1},{"$f":"-SUM(W7:W22)","v":2.2186885704510972},null,null,null,{"$f":"SUM(AA7:AA22)","v":1},{"$f":"-SUM(AB7:AB22)","v":1.8640054628542204},null,null,null,{"$f":"SUM(AF7:AF22)","v":1},{"$f":"-SUM(AG7:AG22)","v":2.4782975702780194},null,null,null,{"$f":"SUM(AK7:AK22)","v":1},{"$f":"-SUM(AL7:AL22)","v":2.0539537447882559},null,null,null,{"$f":"SUM(AP7:AP22)","v":0.99999999999999989},{"$f":"-SUM(AQ7:AQ22)","v":2.2493896755123952},null,null,null,{"$f":"SUM(AU7:AU22)","v":1},{"$f":"-SUM(AV7:AV22)","v":2.406647097785926}]
[21,2493,12,2507,24,2521,14,2544,null,null,0,2121,null,null,null,"U=",{"$f":"Q23/(LOG(Q4)/LOG(2))","v":0.37268766598781489},null,null,null,null,"U1=",{"$f":"W23/(LOG(W4)/LOG(2))","v":0.46661221100217337},null,null,null,"U2=",{"$f":"AB23/(LOG(AB4)/LOG(2))","v":0.39201883577815461},null,null,null,"U3=",{"$f":"AG23/(LOG(AG4)/LOG(2))","v":0.5155220720040532},null,null,null,"U4=",{"$f":"AL23/(LOG(AL4)/LOG(2))","v":0.43196684334880886},null,null,null,"U5=",{"$f":"AQ23/(LOG(AQ4)/LOG(2))","v":0.47306895788573872},null,null,null,"U6=",{"$f":"AV23/(LOG(AV4)/LOG(2))","v":0.50614175344651258}]
[21,2641,12,2657,24,2667,23,2675,null,null,0,2122]
[21,2776,21,2782,22,2797,23,2803,null,null,0,2222]
[21,2901,12,2913,24,2921,23,2926,null,null,0,2122,null,"Total Target Seq"]
[21,3023,12,3037,13,3039,23,3059,null,null,0,2112,null,{"$f":"COUNTIF(L7:L169,G3)","v":17},null,27,27,28,27,27,27]
[21,3157,12,3169,24,3207,23,3223,null,null,0,2122,null,null,null,"% of reinforcement given in 6 equal intervals based on number of trials "]
[21,3335,21,3338,22,3369,23,3375,null,null,0,2222,null,null,null,"%_1","%_2","%_3","%_4","%_5","%_6"]
[21,3472,12,3485,24,3493,23,3501,null,null,0,2122,null,null,"target sequence",{"$f":"$G$3","v":2212},{"$f":"$G$3","v":2212},{"$f":"$G$3","v":2212},{"$f":"$G$3","v":2212},{"$f":"$G$3","v":2212},{"$f":"$G$3","v":2212}]
[21,3598,21,3602,11,3611,21,3619,null,null,0,2212,null,null,"total reinforcement",{"$f":"U20","v":2},{"$f":"Z20","v":3},{"$f":"AE20","v":3},{"$f":"AJ20","v":1},{"$f":"AO20","v":3},{"$f":"AT20","v":5}]
[12,3748,14,3753,24,3764,23,3774,null,null,0,1122,null,null,"% target"]
[21,3872,12,3887,24,3933,23,3946,null,null,0,2122,null,null,"CCRF"]
[12,4049,14,4055,13,4059,23,4066,null,null,0,1112,null,null,"% CCRf"]
[21,4167,21,4173,22,4188,23,4194,null,null,0,2222,null,null,"average response rate",{"$f":"H33/P28","v":139.77777777777777},{"$f":"(H60-H33)/Q28","v":147.7037037037037},{"$f":"(H88-H60)/R28","v":142.64285714285714},{"$f":"(H115-H88)/S28","v":146.74074074074073},{"$f":"(H142-H115)/T28","v":150.44444444444446},{"$f":"(H169-H142)/U28","v":154.33333333333334}]
[21,4297,12,4312,24,4336,14,4389,null,null,0,2121]
[21,4487,21,4491,11,4499,21,4520,null,null,0,2212]
[12,4722,23,4734,24,4738,23,4743,null,null,0,1222]
[21,4841,12,4852,13,4856,23,4896,null,null,0,2112]
[21,4994,21,4999,11,5009,21,5018,null,null,0,2212]
[12,5137,23,5145,24,5150,23,5164,null,null,0,1222]
[12,5269,23,5279,24,5283,23,5289,null,null,0,1222]
[21,5388,12,5398,24,5405,23,5409,null,null,0,2122]
[21,5506,12,5521,24,5529,14,5561,null,null,0,2121]
[21,5659,12,5672,24,5695,23,5713,null,null,0,2122]
[21,5835,12,5844,24,5852,23,5855,null,null,0,2122]
[21,5954,12,5973,24,5985,23,6000,null,null,0,2122]
[21,6099,12,6111,24,6120,23,6126,null,null,0,2122]
[21,6224,12,6233,24,6242,23,6253,null,null,0,2122]
[12,6359,14,6361,13,6367,23,6374,null,null,0,1112]
[21,6472,12,6486,24,6537,23,6545,null,null,0,2122]
[21,6645,12,6659,24,6680,23,6735,null,null,0,2122]
[21,6834,12,6842,24,6850,23,6862,null,null,0,2122]
[21,6960,12,6968,24,6987,23,7006,null,null,0,2122]
[21,7103,12,7113,24,7121,23,7126,null,null,0,2122]
[21,7228,12,7235,24,7251,23,7253,null,null,0,2122]
[21,7349,12,7362,24,7371,23,7376,null,null,0,2122]
[21,7472,21,7513,11,7544,21,7555,null,null,0,2212]
[12,7735,23,7751,24,7755,23,7762,null,null,0,1222]
[21,7858,12,7871,24,7882,23,7889,null,null,0,2122]
[21,7986,21,7995,11,8003,21,8012,null,null,0,2212]
[12,8166,23,8173,24,8178,23,8185,null,null,0,1222]
[21,8361,12,8376,24,8385,23,8389,null,null,0,2122]
[21,8490,12,8505,24,8522,23,8543,null,null,0,2122]
[21,8640,21,8645,22,8666,23,8691,null,null,0,2222]
[21,8788,12,8799,24,8834,23,8845,null,null,0,2122]
[21,8941,21,8946,22,8964,23,8987,null,null,0,2222]
[21,9083,12,9097,24,9122,14,9164,null,null,0,2121]
[21,9263,12,9275,24,9286,23,9294,null,null,0,2122]
[21,9390,12,9399,24,9408,23,9414,null,null,0,2122]
[21,9510,12,9526,13,9531,23,9543,null,null,0,2112]
[21,9640,12,9650,13,9664,23,9675,null,null,0,2112]
[21,9777,12,9790,24,9799,23,9804,null,null,0,2122]
[12,9910,23,9921,24,9924,23,9931,null,null,0,1222]
[21,10030,21,10036,22,10054,23,10066,null,null,0,2222]
[12,10170,14,10178,24,10187,23,10191,null,null,0,1122]
[21,10290,21,10295,11,10303,21,10319,null,null,0,2212]
[12,10478,14,10486,24,10494,23,10499,null,null,0,1122]
[21,10595,21,10602,11,10611,21,10622,null,null,0,2212]
[21,10759,12,10771,13,10777,23,10784,null,null,0,2112]
[21,10881,12,10890,13,10899,23,10925,null,null,0,2112]
[21,11023,12,11036,13,11047,14,11055,null,null,0,2111]
[21,11151,12,11161,13,11166,23,11175,null,null,0,2112]
[21,11272,21,11277,22,11308,23,11322,null,null,0,2222]
[21,11421,12,11433,24,11449,14,11479,null,null,0,2121]
[21,11590,12,11600,24,11608,23,11615,null,null,0,2122]
[21,11712,12,11725,24,11742,23,11756,null,null,0,2122]
[21,11854,12,11868,24,11903,23,11913,null,null,0,2122]
[21,12015,12,12026,24,12036,23,12043,null,null,0,2122]
[21,12141,12,12151,24,12161,23,12172,null,null,0,2122]
[21,12270,12,12282,24,12311,23,12326,null,null,0,2122]
[21,12424,12,12434,13,12439,23,12451,null,null,0,2112]
[21,12564,12,12574,13,12581,23,12588,null,null,0,2112]
[21,12687,12,12698,24,12707,23,12714,null,null,0,2122]
[21,12814,12,12827,24,12846,23,12860,null,null,0,2122]
[21,12959,12,12969,24,12982,23,12993,null,null,0,2122]
[21,13092,12,13107,24,13135,23,13146,null,null,0,2122]
[21,13243,12,13255,13,13257,23,13278,null,null,0,2112]
[21,13376,21,13380,11,13388,21,13401,null,null,0,2212]
[12,13644,23,13657,24,13662,23,13668,null,null,0,1222]
[21,13767,12,13781,24,13791,23,13803,null,null,0,2122]
[21,13900,12,13909,13,13914,23,13934,null,null,0,2112]
[21,14031,12,14041,13,14045,23,14061,null,null,0,2112]
[21,14160,12,14170,24,14179,23,14193,null,null,0,2122]
[21,14292,12,14302,24,14332,14,14357,null,null,0,2121]
[21,14456,12,14466,24,14484,14,14552,null,null,0,2121]
[12,14656,14,14661,13,14671,23,14680,null,null,0,1112]
[21,14781,12,14796,24,14820,14,14872,null,null,0,2121]
[21,14970,12,14982,13,14990,23,15004,null,null,0,2112]
[12,15117,14,15123,24,15133,23,15142,null,null,0,1122]
[21,15240,12,15248,13,15254,23,15263,null,null,0,2112]
[12,15393,23,15404,24,15409,23,15417,null,null,0,1222]
[21,15516,12,15529,13,15537,23,15568,null,null,0,2112]
[21,15697,12,15705,24,15715,23,15718,null,null,0,2122]
[21,15815,12,15829,24,15847,14,15884,null,null,0,2121]
[21,15983,21,15988,22,16005,23,16015,null,null,0,2222]
[21,16115,12,16131,24,16138,23,16149,null,null,0,2122]
[12,16257,14,16261,24,16269,23,16275,null,null,0,1122]
[21,16374,12,16385,24,16396,23,16415,null,null,0,2122]
[21,16512,21,16516,22,16547,23,16557,null,null,0,2222]
[21,16656,12,16668,24,16684,23,16699,null,null,0,2122]
[21,16798,21,16803,22,16820,23,16829,null,null,0,2222]
[21,16926,12,16938,24,16950,23,16961,null,null,0,2122]
[21,17059,12,17069,24,17086,23,17099,null,null,0,2122]
[21,17196,12,17207,24,17216,23,17227,null,null,0,2122]
[21,17325,21,17330,11,17339,12,17343,null,null,0,2211]
[21,17442,21,17447,11,17459,21,17473,null,null,0,2212]
[12,17881,14,17887,13,17892,23,17903,null,null,0,1112]
[21,18005,12,18013,24,18025,23,18030,null,null,0,2122]
[12,18130,14,18139,24,18149,23,18154,null,null,0,1122]
[21,18251,12,18262,13,18269,23,18278,null,null,0,2112]
[21,18376,12,18386,24,18403,23,18442,null,null,0,2122]
[21,18540,21,18544,22,18561,23,18576,null,null,0,2222]
[21,18674,12,18689,24,18697,23,18703,null,null,0,2122]
[21,18799,12,18809,13,18814,23,18823,null,null,0,2112]
[21,18920,21,18925,11,18933,21,18942,null,null,0,2212]
[12,19182,14,19191,24,19200,23,19206,null,null,0,1122]
[21,19305,12,19315,24,19322,23,19341,null,null,0,2122]
[21,19441,21,19447,11,19455,21,19464,null,null,0,2212]
[12,19630,14,19637,24,19644,23,19648,null,null,0,1122]
[21,19747,12,19759,24,19768,23,19780,null,null,0,2122]
[21,19881,21,19887,11,19896,21,19904,null,null,0,2212]
[12,20088,14,20092,24,20100,23,20104,null,null,0,1122]
[21,20203,12,20215,13,20223,23,20230,null,null,0,2112]
[12,20333,23,20342,24,20346,23,20353,null,null,0,1222]
[21,20451,21,20455,11,20465,21,20473,null,null,0,2212]
[12,20635,23,20647,24,20652,23,20657,null,null,0,1222]
[21,20755,12,20766,24,20792,23,20801,null,null,0,2122]
[21,20901,12,20912,24,20922,23,20936,null,null,0,2122]
[21,21033,21,21038,22,21074,23,21081,null,null,0,2222]
[21,21178,12,21190,24,21205,23,21220,null,null,0,2122]
[12,21326,14,21333,24,21341,23,21349,null,null,0,1122]
[21,21445,12,21456,24,21496,23,21504,null,null,0,2122]
[21,21604,12,21613,24,21625,23,21647,null,null,0,2122]
[21,21743,21,21747,22,21777,23,21790,null,null,0,2222]
[21,21889,21,21893,22,21935,23,21945,null,null,0,2222]
[21,22041,21,22045,11,22054,21,22063,null,null,0,2212]
[12,22260,14,22268,24,22278,23,22284,null,null,0,1122]
[12,22434,14,22439,24,22447,23,22451,null,null,0,1122]
[21,22547,21,22569,22,22577,14,22623,null,null,0,2221]
[21,22723,21,22756,22,22765,23,22773,null,null,0,2222]
[21,22870,21,22874,11,22886,21,22897,null,null,0,2212]
[12,23105,14,23110,24,23121,23,23126,null,null,0,1122]
[21,23224,12,23236,24,23267,14,23306,null,null,0,2121]
[21,23405,12,23414,24,23427,23,23436,null,null,0,2122]
[12,23545,14,23557,24,23566,23,23570,null,null,0,1122]
[21,23668,21,23711,11,23721,21,23758,null,null,0,2212]
[21,23926,12,23935,24,23943,23,23947,null,null,null,2122]

{"sheet":"!LC11C04..Is","index":32,"n_rows":174,"n_cols":48,"rows_kept":174,"cut":false,"hidden":false,"merged":[[4,39,4,42],[5,39,5,40],[4,44,4,47],[5,44,5,45],[4,24,4,27],[5,24,5,25],[4,29,4,32],[5,29,5,30],[4,34,4,37],[5,34,5,35],[1,1,1,2],[5,13,5,14],[26,13,26,14],[27,13,27,14],[4,19,4,22],[5,19,5,20]]}
["Report for:!LC11C04..Is"]
["Date:","<date>"]
["Hen:","<hen>",null,null,null,"Correct Sequence",{"$f":"Start!J2","v":2212},null,null,null,null,null,null,null,null,"Total Sequences in Data",{"$f":"4994-COUNTBLANK(L7:L5000)","v":168},null,null,null,null,"Total Sequences in Block Data",{"$f":"COUNTA(L7:L34)","v":28},null,null,null,"Total Sequences in Block Data",{"$f":"COUNTA(L35:L62)","v":28},null,null,null,"Total Sequences in Block Data",{"$f":"COUNTA(L63:L90)","v":28},null,null,null,"Total Sequences in Block Data",{"$f":"COUNTA(L91:L118)","v":28},null,null,null,"Total Sequences in Block Data",{"$f":"COUNTA(L119:L146)","v":28},null,null,null,"Total Sequences in Block Data",{"$f":"COUNTA(L147:L174)","v":28}]
[null,null,null,null,null,null,null,null,null,null,null,null,null,null,null,"Total Sequences in Summary",{"$f":"SUM(O7:O22)","v":168},null,null,null,null,"Total Sequences in Block Summary",{"$f":"SUM(U7:U22)","v":28},null,null,null,"Total Sequences in Block Summary",{"$f":"SUM(Z7:Z22)","v":28},null,null,null,"Total Sequences in Block Summary",{"$f":"SUM(AE7:AE22)","v":28},null,null,null,"Total Sequences in Block Summary",{"$f":"SUM(AJ7:AJ22)","v":28},null,null,null,"Total Sequences in Block Summary",{"$f":"SUM(AO7:AO22)","v":28},null,null,null,"Total Sequences in Block Summary",{"$f":"SUM(AT7:AT22)","v":28}]
[null,null,null,null,null,null,null,null,null,null,null,null,null,null,null,null,null,null,null,"Block 1",null,null,null,null,"Block 2",null,null,null,null,"Block 3",null,null,null,null,"Block 4",null,null,null,null,"Block 5",null,null,null,null,"Block 6"]
["Sequence\nComponent\n1","Time\n1","Sequence\nComponent\n2","Time\n2","Sequence\nComponent\n3","Time\n3","Sequence\nComponent\n4","Time\n4","Sequence\nComponent\n5","Time\n5","Correct?\n0=No 1=Yes","Sequence",null,"Frequency",null,"Relative Frequency","Variability",null,null,"Frequency",null,"Relative Frequency","Variability",null,"Frequency",null,"Relative Frequency","Variability",null,"Frequency",null,"Relative Frequency","Variability",null,"Frequency",null,"Relative Frequency","Variability",null,"Frequency",null,"Relative Frequency","Variability",null,"Frequency",null,"Relative Frequency","Variability"]
[12,16,23,25,24,29,23,34,null,null,0,1222,null,1111,{"$f":"COUNTIF($L$7:$L$500,N7)","v":0},{"$f":"O7/$Q$4","v":0},{"$f":"IF(P7=0,0,(P7*((LOG(P7))/LOG(2))))","v":0},null,null,{"$f":"N7","v":1111},{"$f":"COUNTIF(L7:L34,T7)","v":0},{"$f":"U7/(W4-U20)","v":0},{"$f":"IF(V7=0,0,(V7*((LOG(V7))/LOG(2))))","v":0},null,{"$f":"N7","v":1111},{"$f":"COUNTIF(L35:L62,Y7)","v":0},{"$f":"Z7/(AB4-Z20)","v":0},{"$f":"IF(AA7=0,0,(AA7*((LOG(AA7))/LOG(2))))","v":0},null,{"$f":"N7","v":1111},{"$f":"COUNTIF(L63:L90,AD7)","v":0},{"$f":"AE7/(AG4-AE20)","v":0},{"$f":"IF(AF7=0,0,(AF7*((LOG(AF7))/LOG(2))))","v":0},null,{"$f":"N7","v":1111},{"$f":"COUNTIF(L91:L118,AI7)","v":0},{"$f":"AJ7/(AL4-AJ20)","v":0},{"$f":"IF(AK7=0,0,(AK7*((LOG(AK7))/LOG(2))))","v":0},null,{"$f":"N7","v":1111},{"$f":"COUNTIF(L119:L146,AN7)","v":0},{"$f":"AO7/(AQ4-AO20)","v":0},{"$f":"IF(AP7=0,0,(AP7*((LOG(AP7))/LOG(2))))","v":0},null,{"$f":"N7","v":1111},{"$f":"COUNTIF(L147:L174,AS7)","v":0},{"$f":"AT7/(AV4-AT20)","v":0},{"$f":"IF(AU7=0,0,(AU7*((LOG(AU7))/LOG(2))))","v":0}]
[21,134,12,150,24,158,23,163,null,null,0,2122,null,1112,{"$f":"COUNTIF($L$7:$L$500,N8)","v":5},{"$f":"O8/$Q$4","v":2.976190476190476E-2},{"$f":"IF(P8=0,0,(P8*((LOG(P8))/LOG(2))))","v":-0.15090444428248206},null,null,{"$f":"N8","v":1112},{"$f":"COUNTIF(L7:L34,T8)","v":0},{"$f":"U8/(W4-U20)","v":0},{"$f":"IF(V8=0,0,(V8*((LOG(V8))/LOG(2))))","v":0},null,{"$f":"N8","v":1112},{"$f":"COUNTIF(L35:L62,Y8)","v":0},{"$f":"Z8/(AB4-Z20)","v":0},{"$f":"IF(AA8=0,0,(AA8*((LOG(AA8))/LOG(2))))","v":0},null,{"$f":"N8","v":1112},{"$f":"COUNTIF(L63:L90,AD8)","v":3},{"$f":"AE8/(AG4-AE20)","v":0.11538461538461539},{"$f":"IF(AF8=0,0,(AF8*((LOG(AF8))/LOG(2))))","v":-0.35947814047153104},null,{"$f":"N8","v":1112},{"$f":"COUNTIF(L91:L118,AI8)","v":0},{"$f":"AJ8/(AL4-AJ20)","v":0},{"$f":"IF(AK8=0,0,(AK8*((LOG(AK8))/LOG(2))))","v":0},null,{"$f":"N8","v":1112},{"$f":"COUNTIF(L119:L146,AN8)","v":1},{"$f":"AO8/(AQ4-AO20)","v":3.7037037037037035E-2},{"$f":"IF(AP8=0,0,(AP8*((LOG(AP8))/LOG(2))))","v":-0.1761069445245729},null,{"$f":"N8","v":1112},{"$f":"COUNTIF(L147:L174,AS8)","v":1},{"$f":"AT8/(AV4-AT20)","v":3.8461538461538464E-2},{"$f":"IF(AU8=0,0,(AU8*((LOG(AU8))/LOG(2))))","v":-0.18078614300542661}]
[21,262,21,281,22,288,23,294,null,null,0,2222,null,1121,{"$f":"COUNTIF($L$7:$L$500,N9)","v":0},{"$f":"O9/$Q$4","v":0},{"$f":"IF(P9=0,0,(P9*((LOG(P9))/LOG(2))))","v":0},null,null,{"$f":"N9","v":1121},{"$f":"COUNTIF(L7:L34,T9)","v":0},{"$f":"U9/(W4-U20)","v":0},{"$f":"IF(V9=0,0,(V9*((LOG(V9))/LOG(2))))","v":0},null,{"$f":"N9","v":1121},{"$f":"COUNTIF(L35:L62,Y9)","v":0},{"$f":"Z9/(AB4-Z20)","v":0},{"$f":"IF(AA9=0,0,(AA9*((LOG(AA9))/LOG(2))))","v":0},null,{"$f":"N9","v":1121},{"$f":"COUNTIF(L63:L90,AD9)","v":0},{"$f":"AE9/(AG4-AE20)","v":0},{"$f":"IF(AF9=0,0,(AF9*((LOG(AF9))/LOG(2))))","v":0},null,{"$f":"N9","v":1121},{"$f":"COUNTIF(L91:L118,AI9)","v":0},{"$f":"AJ9/(AL4-AJ20)","v":0},{"$f":"IF(AK9=0,0,(AK9*((LOG(AK9))/LOG(2))))","v":0},null,{"$f":"N9","v":1121},{"$f":"COUNTIF(L119:L146,AN9)","v":0},{"$f":"AO9/(AQ4-AO20)","v":0},{"$f":"IF(AP9=0,0,(AP9*((LOG(AP9))/LOG(2))))","v":0},null,{"$f":"N9","v":1121},{"$f":"COUNTIF(L147:L174,AS9)","v":0},{"$f":"AT9/(AV4-AT20)","v":0},{"$f":"IF(AU9=0,0,(AU9*((LOG(AU9))/LOG(2))))","v":0}]
[21,392,12,412,24,435,23,445,null,null,0,2122,null,1122,{"$f":"COUNTIF($L$7:$L$500,N10)","v":12},{"$f":"O10/$Q$4","v":7.1428571428571425E-2},{"$f":"IF(P10=0,0,(P10*((LOG(P10))/LOG(2))))","v":-0.27195392300411453},null,null,{"$f":"N10","v":1122},{"$f":"COUNTIF(L7:L34,T10)","v":2},{"$f":"U10/(W4-U20)","v":0.08},{"$f":"IF(V10=0,0,(V10*((LOG(V10))/LOG(2))))","v":-0.29150849518197797},null,{"$f":"N10","v":1122},{"$f":"COUNTIF(L35:L62,Y10)","v":1},{"$f":"Z10/(AB4-Z20)","v":3.7037037037037035E-2},{"$f":"IF(AA10=0,0,(AA10*((LOG(AA10))/LOG(2))))","v":-0.1761069445245729},null,{"$f":"N10","v":1122},{"$f":"COUNTIF(L63:L90,AD10)","v":1},{"$f":"AE10/(AG4-AE20)","v":3.8461538461538464E-2},{"$f":"IF(AF10=0,0,(AF10*((LOG(AF10))/LOG(2))))","v":-0.18078614300542661},null,{"$f":"N10","v":1122},{"$f":"COUNTIF(L91:L118,AI10)","v":3},{"$f":"AJ10/(AL4-AJ20)","v":0.1111111111111111},{"$f":"IF(AK10=0,0,(AK10*((LOG(AK10))/LOG(2))))","v":-0.3522138890491458},null,{"$f":"N10","v":1122},{"$f":"COUNTIF(L119:L146,AN10)","v":4},{"$f":"AO10/(AQ4-AO20)","v":0.14814814814814814},{"$f":"IF(AP10=0,0,(AP10*((LOG(AP10))/LOG(2))))","v":-0.40813148180199532},null,{"$f":"N10","v":1122},{"$f":"COUNTIF(L147:L174,AS10)","v":1},{"$f":"AT10/(AV4-AT20)","v":3.8461538461538464E-2},{"$f":"IF(AU10=0,0,(AU10*((LOG(AU10))/LOG(2))))","v":-0.18078614300542661}]
[21,544,12,556,24,572,23,584,null,null,0,2122,null,1211,{"$f":"COUNTIF($L$7:$L$500,N11)","v":0},{"$f":"O11/$Q$4","v":0},{"$f":"IF(P11=0,0,(P11*((LOG(P11))/LOG(2))))","v":0},null,null,{"$f":"N11","v":1211},{"$f":"COUNTIF(L7:L34,T11)","v":0},{"$f":"U11/(W4-U20)","v":0},{"$f":"IF(V11=0,0,(V11*((LOG(V11))/LOG(2))))","v":0},null,{"$f":"N11","v":1211},{"$f":"COUNTIF(L35:L62,Y11)","v":0},{"$f":"Z11/(AB4-Z20)","v":0},{"$f":"IF(AA11=0,0,(AA11*((LOG(AA11))/LOG(2))))","v":0},null,{"$f":"N11","v":1211},{"$f":"COUNTIF(L63:L90,AD11)","v":0},{"$f":"AE11/(AG4-AE20)","v":0},{"$f":"IF(AF11=0,0,(AF11*((LOG(AF11))/LOG(2))))","v":0},null,{"$f":"N11","v":1211},{"$f":"COUNTIF(L91:L118,AI11)","v":0},{"$f":"AJ11/(AL4-AJ20)","v":0},{"$f":"IF(AK11=0,0,(AK11*((LOG(AK11))/LOG(2))))","v":0},null,{"$f":"N11","v":1211},{"$f":"COUNTIF(L119:L146,AN11)","v":0},{"$f":"AO11/(AQ4-AO20)","v":0},{"$f":"IF(AP11=0,0,(AP11*((LOG(AP11))/LOG(2))))","v":0},null,{"$f":"N11","v":1211},{"$f":"COUNTIF(L147:L174,AS11)","v":0},{"$f":"AT11/(AV4-AT20)","v":0},{"$f":"IF(AU11=0,0,(AU11*((LOG(AU11))/LOG(2))))","v":0}]
[12,692,14,700,24,709,23,713,null,null,0,1122,null,1212,{"$f":"COUNTIF($L$7:$L$500,N12)","v":0},{"$f":"O12/$Q$4","v":0},{"$f":"IF(P12=0,0,(P12*((LOG(P12))/LOG(2))))","v":0},null,null,{"$f":"N12","v":1212},{"$f":"COUNTIF(L7:L34,T12)","v":0},{"$f":"U12/(W4-U20)","v":0},{"$f":"IF(V12=0,0,(V12*((LOG(V12))/LOG(2))))","v":0},null,{"$f":"N12","v":1212},{"$f":"COUNTIF(L35:L62,Y12)","v":0},{"$f":"Z12/(AB4-Z20)","v":0},{"$f":"IF(AA12=0,0,(AA12*((LOG(AA12))/LOG(2))))","v":0},null,{"$f":"N12","v":1212},{"$f":"COUNTIF(L63:L90,AD12)","v":0},{"$f":"AE12/(AG4-AE20)","v":0},{"$f":"IF(AF12=0,0,(AF12*((LOG(AF12))/LOG(2))))","v":0},null,{"$f":"N12","v":1212},{"$f":"COUNTIF(L91:L118,AI12)","v":0},{"$f":"AJ12/(AL4-AJ20)","v":0},{"$f":"IF(AK12=0,0,(AK12*((LOG(AK12))/LOG(2))))","v":0},null,{"$f":"N12","v":1212},{"$f":"COUNTIF(L119:L146,AN12)","v":0},{"$f":"AO12/(AQ4-AO20)","v":0},{"$f":"IF(AP12=0,0,(AP12*((LOG(AP12))/LOG(2))))","v":0},null,{"$f":"N12","v":1212},{"$f":"COUNTIF(L147:L174,AS12)","v":0},{"$f":"AT12/(AV4-AT20)","v":0},{"$f":"IF(AU12=0,0,(AU12*((LOG(AU12))/LOG(2))))","v":0}]
[21,833,21,840,22,852,23,855,null,null,0,2222,null,1221,{"$f":"COUNTIF($L$7:$L$500,N13)","v":0},{"$f":"O13/$Q$4","v":0},{"$f":"IF(P13=0,0,(P13*((LOG(P13))/LOG(2))))","v":0},null,null,{"$f":"N13","v":1221},{"$f":"COUNTIF(L7:L34,T13)","v":0},{"$f":"U13/(W4-U20)","v":0},{"$f":"IF(V13=0,0,(V13*((LOG(V13))/LOG(2))))","v":0},null,{"$f":"N13","v":1221},{"$f":"COUNTIF(L35:L62,Y13)","v":0},{"$f":"Z13/(AB4-Z20)","v":0},{"$f":"IF(AA13=0,0,(AA13*((LOG(AA13))/LOG(2))))","v":0},null,{"$f":"N13","v":1221},{"$f":"COUNTIF(L63:L90,AD13)","v":0},{"$f":"AE13/(AG4-AE20)","v":0},{"$f":"IF(AF13=0,0,(AF13*((LOG(AF13))/LOG(2))))","v":0},null,{"$f":"N13","v":1221},{"$f":"COUNTIF(L91:L118,AI13)","v":0},{"$f":"AJ13/(AL4-AJ20)","v":0},{"$f":"IF(AK13=0,0,(AK13*((LOG(AK13))/LOG(2))))","v":0},null,{"$f":"N13","v":1221},{"$f":"COUNTIF(L119:L146,AN13)","v":0},{"$f":"AO13/(AQ4-AO20)","v":0},{"$f":"IF(AP13=0,0,(AP13*((LOG(AP13))/LOG(2))))","v":0},null,{"$f":"N13","v":1221},{"$f":"COUNTIF(L147:L174,AS13)","v":0},{"$f":"AT13/(AV4-AT20)","v":0},{"$f":"IF(AU13=0,0,(AU13*((LOG(AU13))/LOG(2))))","v":0}]
[21,957,12,967,24,976,23,987,null,null,0,2122,null,1222,{"$f":"COUNTIF($L$7:$L$500,N14)","v":5},{"$f":"O14/$Q$4","v":2.976190476190476E-2},{"$f":"IF(P14=0,0,(P14*((LOG(P14))/LOG(2))))","v":-0.15090444428248206},null,null,{"$f":"N14","v":1222},{"$f":"COUNTIF(L7:L34,T14)","v":1},{"$f":"U14/(W4-U20)","v":0.04},{"$f":"IF(V14=0,0,(V14*((LOG(V14))/LOG(2))))","v":-0.18575424759098899},null,{"$f":"N14","v":1222},{"$f":"COUNTIF(L35:L62,Y14)","v":2},{"$f":"Z14/(AB4-Z20)","v":7.407407407407407E-2},{"$f":"IF(AA14=0,0,(AA14*((LOG(AA14))/LOG(2))))","v":-0.27813981497507173},null,{"$f":"N14","v":1222},{"$f":"COUNTIF(L63:L90,AD14)","v":1},{"$f":"AE14/(AG4-AE20)","v":3.8461538461538464E-2},{"$f":"IF(AF14=0,0,(AF14*((LOG(AF14))/LOG(2))))","v":-0.18078614300542661},null,{"$f":"N14","v":1222},{"$f":"COUNTIF(L91:L118,AI14)","v":1},{"$f":"AJ14/(AL4-AJ20)","v":3.7037037037037035E-2},{"$f":"IF(AK14=0,0,(AK14*((LOG(AK14))/LOG(2))))","v":-0.1761069445245729},null,{"$f":"N14","v":1222},{"$f":"COUNTIF(L119:L146,AN14)","v":0},{"$f":"AO14/(AQ4-AO20)","v":0},{"$f":"IF(AP14=0,0,(AP14*((LOG(AP14))/LOG(2))))","v":0},null,{"$f":"N14","v":1222},{"$f":"COUNTIF(L147:L174,AS14)","v":0},{"$f":"AT14/(AV4-AT20)","v":0},{"$f":"IF(AU14=0,0,(AU14*((LOG(AU14))/LOG(2))))","v":0}]
[21,1084,21,1086,11,1094,21,1114,null,null,0,2212,null,2111,{"$f":"COUNTIF($L$7:$L$500,N15)","v":1},{"$f":"O15/$Q$4","v":5.9523809523809521E-3},{"$f":"IF(P15=0,0,(P15*((LOG(P15))/LOG(2))))","v":-4.4001889421302141E-2},null,null,{"$f":"N15","v":2111},{"$f":"COUNTIF(L7:L34,T15)","v":0},{"$f":"U15/(W4-U20)","v":0},{"$f":"IF(V15=0,0,(V15*((LOG(V15))/LOG(2))))","v":0},null,{"$f":"N15","v":2111},{"$f":"COUNTIF(L35:L62,Y15)","v":0},{"$f":"Z15/(AB4-Z20)","v":0},{"$f":"IF(AA15=0,0,(AA15*((LOG(AA15))/LOG(2))))","v":0},null,{"$f":"N15","v":2111},{"$f":"COUNTIF(L63:L90,AD15)","v":0},{"$f":"AE15/(AG4-AE20)","v":0},{"$f":"IF(AF15=0,0,(AF15*((LOG(AF15))/LOG(2))))","v":0},null,{"$f":"N15","v":2111},{"$f":"COUNTIF(L91:L118,AI15)","v":0},{"$f":"AJ15/(AL4-AJ20)","v":0},{"$f":"IF(AK15=0,0,(AK15*((LOG(AK15))/LOG(2))))","v":0},null,{"$f":"N15","v":2111},{"$f":"COUNTIF(L119:L146,AN15)","v":0},{"$f":"AO15/(AQ4-AO20)","v":0},{"$f":"IF(AP15=0,0,(AP15*((LOG(AP15))/LOG(2))))","v":0},null,{"$f":"N15","v":2111},{"$f":"COUNTIF(L147:L174,AS15)","v":1},{"$f":"AT15/(AV4-AT20)","v":3.8461538461538464E-2},{"$f":"IF(AU15=0,0,(AU15*((LOG(AU15))/LOG(2))))","v":-0.18078614300542661}]
[21,1354,12,1363,24,1371,23,1374,null,null,0,2122,null,2112,{"$f":"COUNTIF($L$7:$L$500,N16)","v":31},{"$f":"O16/$Q$4","v":0.18452380952380953},{"$f":"IF(P16=0,0,(P16*((LOG(P16))/LOG(2))))","v":-0.44989139573897885},null,null,{"$f":"N16","v":2112},{"$f":"COUNTIF(L7:L34,T16)","v":0},{"$f":"U16/(W4-U20)","v":0},{"$f":"IF(V16=0,0,(V16*((LOG(V16))/LOG(2))))","v":0},null,{"$f":"N16","v":2112},{"$f":"COUNTIF(L35:L62,Y16)","v":4},{"$f":"Z16/(AB4-Z20)","v":0.14814814814814814},{"$f":"IF(AA16=0,0,(AA16*((LOG(AA16))/LOG(2))))","v":-0.40813148180199532},null,{"$f":"N16","v":2112},{"$f":"COUNTIF(L63:L90,AD16)","v":8},{"$f":"AE16/(AG4-AE20)","v":0.30769230769230771},{"$f":"IF(AF16=0,0,(AF16*((LOG(AF16))/LOG(2))))","v":-0.52321222096648989},null,{"$f":"N16","v":2112},{"$f":"COUNTIF(L91:L118,AI16)","v":8},{"$f":"AJ16/(AL4-AJ20)","v":0.29629629629629628},{"$f":"IF(AK16=0,0,(AK16*((LOG(AK16))/LOG(2))))","v":-0.51996666730769436},null,{"$f":"N16","v":2112},{"$f":"COUNTIF(L119:L146,AN16)","v":6},{"$f":"AO16/(AQ4-AO20)","v":0.22222222222222221},{"$f":"IF(AP16=0,0,(AP16*((LOG(AP16))/LOG(2))))","v":-0.48220555587606945},null,{"$f":"N16","v":2112},{"$f":"COUNTIF(L147:L174,AS16)","v":5},{"$f":"AT16/(AV4-AT20)","v":0.19230769230769232},{"$f":"IF(AU16=0,0,(AU16*((LOG(AU16))/LOG(2))))","v":-0.45740608139494804}]
[21,1472,21,1493,22,1499,23,1649,null,null,0,2222,null,2121,{"$f":"COUNTIF($L$7:$L$500,N17)","v":2},{"$f":"O17/$Q$4","v":1.1904761904761904E-2},{"$f":"IF(P17=0,0,(P17*((LOG(P17))/LOG(2))))","v":-7.6099016937842379E-2},null,null,{"$f":"N17","v":2121},{"$f":"COUNTIF(L7:L34,T17)","v":0},{"$f":"U17/(W4-U20)","v":0},{"$f":"IF(V17=0,0,(V17*((LOG(V17))/LOG(2))))","v":0},null,{"$f":"N17","v":2121},{"$f":"COUNTIF(L35:L62,Y17)","v":0},{"$f":"Z17/(AB4-Z20)","v":0},{"$f":"IF(AA17=0,0,(AA17*((LOG(AA17))/LOG(2))))","v":0},null,{"$f":"N17","v":2121},{"$f":"COUNTIF(L63:L90,AD17)","v":0},{"$f":"AE17/(AG4-AE20)","v":0},{"$f":"IF(AF17=0,0,(AF17*((LOG(AF17))/LOG(2))))","v":0},null,{"$f":"N17","v":2121},{"$f":"COUNTIF(L91:L118,AI17)","v":1},{"$f":"AJ17/(AL4-AJ20)","v":3.7037037037037035E-2},{"$f":"IF(AK17=0,0,(AK17*((LOG(AK17))/LOG(2))))","v":-0.1761069445245729},null,{"$f":"N17","v":2121},{"$f":"COUNTIF(L119:L146,AN17)","v":1},{"$f":"AO17/(AQ4-AO20)","v":3.7037037037037035E-2},{"$f":"IF(AP17=0,0,(AP17*((LOG(AP17))/LOG(2))))","v":-0.1761069445245729},null,{"$f":"N17","v":2121},{"$f":"COUNTIF(L147:L174,AS17)","v":0},{"$f":"AT17/(AV4-AT20)","v":0},{"$f":"IF(AU17=0,0,(AU17*((LOG(AU17))/LOG(2))))","v":0}]
[21,1748,21,1751,22,1777,23,1787,null,null,0,2222,null,2122,{"$f":"COUNTIF($L$7:$L$500,N18)","v":87},{"$f":"O18/$Q$4","v":0.5178571428571429},{"$f":"IF(P18=0,0,(P18*((LOG(P18))/LOG(2))))","v":-0.49164006930305221},null,null,{"$f":"N18","v":2122},{"$f":"COUNTIF(L7:L34,T18)","v":15},{"$f":"U18/(W4-U20)","v":0.6},{"$f":"IF(V18=0,0,(V18*((LOG(V18))/LOG(2))))","v":-0.44217935649972373},null,{"$f":"N18","v":2122},{"$f":"COUNTIF(L35:L62,Y18)","v":19},{"$f":"Z18/(AB4-Z20)","v":0.70370370370370372},{"$f":"IF(AA18=0,0,(AA18*((LOG(AA18))/LOG(2))))","v":-0.35674962169176955},null,{"$f":"N18","v":2122},{"$f":"COUNTIF(L63:L90,AD18)","v":12},{"$f":"AE18/(AG4-AE20)","v":0.46153846153846156},{"$f":"IF(AF18=0,0,(AF18*((LOG(AF18))/LOG(2))))","v":-0.51483563880920125},null,{"$f":"N18","v":2122},{"$f":"COUNTIF(L91:L118,AI18)","v":13},{"$f":"AJ18/(AL4-AJ20)","v":0.48148148148148145},{"$f":"IF(AK18=0,0,(AK18*((LOG(AK18))/LOG(2))))","v":-0.50769708119595902},null,{"$f":"N18","v":2122},{"$f":"COUNTIF(L119:L146,AN18)","v":15},{"$f":"AO18/(AQ4-AO20)","v":0.55555555555555558},{"$f":"IF(AP18=0,0,(AP18*((LOG(AP18))/LOG(2))))","v":-0.4711093925305278},null,{"$f":"N18","v":2122},{"$f":"COUNTIF(L147:L174,AS18)","v":13},{"$f":"AT18/(AV4-AT20)","v":0.5},{"$f":"IF(AU18=0,0,(AU18*((LOG(AU18))/LOG(2))))","v":-0.5}]
[21,1885,21,1911,22,1928,23,1935,null,null,0,2222,null,2211,{"$f":"COUNTIF($L$7:$L$500,N19)","v":2},{"$f":"O19/$Q$4","v":1.1904761904761904E-2},{"$f":"IF(P19=0,0,(P19*((LOG(P19))/LOG(2))))","v":-7.6099016937842379E-2},null,null,{"$f":"N19","v":2211},{"$f":"COUNTIF(L7:L34,T19)","v":0},{"$f":"U19/(W4-U20)","v":0},{"$f":"IF(V19=0,0,(V19*((LOG(V19))/LOG(2))))","v":0},null,{"$f":"N19","v":2211},{"$f":"COUNTIF(L35:L62,Y19)","v":0},{"$f":"Z19/(AB4-Z20)","v":0},{"$f":"IF(AA19=0,0,(AA19*((LOG(AA19))/LOG(2))))","v":0},null,{"$f":"N19","v":2211},{"$f":"COUNTIF(L63:L90,AD19)","v":1},{"$f":"AE19/(AG4-AE20)","v":3.8461538461538464E-2},{"$f":"IF(AF19=0,0,(AF19*((LOG(AF19))/LOG(2))))","v":-0.18078614300542661},null,{"$f":"N19","v":2211},{"$f":"COUNTIF(L91:L118,AI19)","v":0},{"$f":"AJ19/(AL4-AJ20)","v":0},{"$f":"IF(AK19=0,0,(AK19*((LOG(AK19))/LOG(2))))","v":0},null,{"$f":"N19","v":2211},{"$f":"COUNTIF(L119:L146,AN19)","v":0},{"$f":"AO19/(AQ4-AO20)","v":0},{"$f":"IF(AP19=0,0,(AP19*((LOG(AP19))/LOG(2))))","v":0},null,{"$f":"N19","v":2211},{"$f":"COUNTIF(L147:L174,AS19)","v":1},{"$f":"AT19/(AV4-AT20)","v":3.8461538461538464E-2},{"$f":"IF(AU19=0,0,(AU19*((LOG(AU19))/LOG(2))))","v":-0.18078614300542661}]
[21,2033,21,2039,11,2047,21,2062,null,null,0,2212,null,2212,{"$f":"COUNTIF($L$7:$L$500,N20)","v":10},{"$f":"O20/$Q$4","v":5.9523809523809521E-2},{"$f":"IF(P20=0,0,(P20*((LOG(P20))/LOG(2))))","v":-0.24228507904115462},null,null,{"$f":"N20","v":2212},{"$f":"COUNTIF(L7:L34,T20)","v":3},null,null,null,{"$f":"N20","v":2212},{"$f":"COUNTIF(L35:L62,Y20)","v":1},null,null,null,{"$f":"N20","v":2212},{"$f":"COUNTIF(L63:L90,AD20)","v":2},null,null,null,{"$f":"N20","v":2212},{"$f":"COUNTIF(L91:L118,AI20)","v":1},null,null,null,{"$f":"N20","v":2212},{"$f":"COUNTIF(L119:L146,AN20)","v":1},null,null,null,{"$f":"N20","v":2212},{"$f":"COUNTIF(L147:L174,AS20)","v":2}]
[21,2185,12,2201,24,2210,23,2218,null,null,0,2122,null,2221,{"$f":"COUNTIF($L$7:$L$500,N21)","v":0},{"$f":"O21/$Q$4","v":0},{"$f":"IF(P21=0,0,(P21*((LOG(P21))/LOG(2))))","v":0},null,null,{"$f":"N21","v":2221},{"$f":"COUNTIF(L7:L34,T21)","v":0},{"$f":"U21/(W4-U20)","v":0},{"$f":"IF(V21=0,0,(V21*((LOG(V21))/LOG(2))))","v":0},null,{"$f":"N21","v":2221},{"$f":"COUNTIF(L35:L62,Y21)","v":0},{"$f":"Z21/(AB4-Z20)","v":0},{"$f":"IF(AA21=0,0,(AA21*((LOG(AA21))/LOG(2))))","v":0},null,{"$f":"N21","v":2221},{"$f":"COUNTIF(L63:L90,AD21)","v":0},{"$f":"AE21/(AG4-AE20)","v":0},{"$f":"IF(AF21=0,0,(AF21*((LOG(AF21))/LOG(2))))","v":0},null,{"$f":"N21","v":2221},{"$f":"COUNTIF(L91:L118,AI21)","v":0},{"$f":"AJ21/(AL4-AJ20)","v":0},{"$f":"IF(AK21=0,0,(AK21*((LOG(AK21))/LOG(2))))","v":0},null,{"$f":"N21","v":2221},{"$f":"COUNTIF(L119:L146,AN21)","v":0},{"$f":"AO21/(AQ4-AO20)","v":0},{"$f":"IF(AP21=0,0,(AP21*((LOG(AP21))/LOG(2))))","v":0},null,{"$f":"N21","v":2221},{"$f":"COUNTIF(L147:L174,AS21)","v":0},{"$f":"AT21/(AV4-AT20)","v":0},{"$f":"IF(AU21=0,0,(AU21*((LOG(AU21))/LOG(2))))","v":0}]
[21,2315,12,2330,24,2339,23,2348,null,null,0,2122,null,2222,{"$f":"COUNTIF($L$7:$L$500,N22)","v":13},{"$f":"O22/$Q$4","v":7.7380952380952384E-2},{"$f":"IF(P22=0,0,(P22*((LOG(P22))/LOG(2))))","v":-0.28568101285886716},null,null,{"$f":"N22","v":2222},{"$f":"COUNTIF(L7:L34,T22)","v":7},{"$f":"U22/(W4-U20)","v":0.28000000000000003},{"$f":"IF(V22=0,0,(V22*((LOG(V22))/LOG(2))))","v":-0.51422035496079388},null,{"$f":"N22","v":2222},{"$f":"COUNTIF(L35:L62,Y22)","v":1},{"$f":"Z22/(AB4-Z20)","v":3.7037037037037035E-2},{"$f":"IF(AA22=0,0,(AA22*((LOG(AA22))/LOG(2))))","v":-0.1761069445245729},null,{"$f":"N22","v":2222},{"$f":"COUNTIF(L63:L90,AD22)","v":0},{"$f":"AE22/(AG4-AE20)","v":0},{"$f":"IF(AF22=0,0,(AF22*((LOG(AF22))/LOG(2))))","v":0},null,{"$f":"N22","v":2222},{"$f":"COUNTIF(L91:L118,AI22)","v":1},{"$f":"AJ22/(AL4-AJ20)","v":3.7037037037037035E-2},{"$f":"IF(AK22=0,0,(AK22*((LOG(AK22))/LOG(2))))","v":-0.1761069445245729},null,{"$f":"N22","v":2222},{"$f":"COUNTIF(L119:L146,AN22)","v":0},{"$f":"AO22/(AQ4-AO20)","v":0},{"$f":"IF(AP22=0,0,(AP22*((LOG(AP22))/LOG(2))))","v":0},null,{"$f":"N22","v":2222},{"$f":"COUNTIF(L147:L174,AS22)","v":4},{"$f":"AT22/(AV4-AT20)","v":0.15384615384615385},{"$f":"IF(AU22=0,0,(AU22*((LOG(AU22))/LOG(2))))","v":-0.4154522643293988}]
[21,2445,21,2489,22,2500,23,2506,null,null,0,2222,null,null,null,{"$f":"SUM(P7:P22)","v":1},{"$f":"-SUM(Q7:Q22)","v":2.2394602918081183},null,null,null,null,{"$f":"SUM(V7:V22)","v":1},{"$f":"-SUM(W7:W22)","v":1.4336624542334846},null,null,null,{"$f":"SUM(AA7:AA22)","v":1},{"$f":"-SUM(AB7:AB22)","v":1.3952348075179823},null,null,null,{"$f":"SUM(AF7:AF22)","v":1},{"$f":"-SUM(AG7:AG22)","v":1.9398844292635018},null,null,null,{"$f":"SUM(AK7:AK22)","v":1},{"$f":"-SUM(AL7:AL22)","v":1.9081984711265176},null,null,null,{"$f":"SUM(AP7:AP22)","v":1},{"$f":"-SUM(AQ7:AQ22)","v":1.7136603192577384},null,null,null,{"$f":"SUM(AU7:AU22)","v":1},{"$f":"-SUM(AV7:AV22)","v":2.0960029177460533}]
[21,2606,12,2622,24,2635,23,2646,null,null,0,2122,null,null,null,"U=",{"$f":"Q23/(LOG(Q4)/LOG(2))","v":0.30294428170892979},null,null,null,null,"U1=",{"$f":"W23/(LOG(W4)/LOG(2))","v":0.29822271862129546},null,null,null,"U2=",{"$f":"AB23/(LOG(AB4)/LOG(2))","v":0.29022920715011524},null,null,null,"U3=",{"$f":"AG23/(LOG(AG4)/LOG(2))","v":0.40352427909217253},null,null,null,"U4=",{"$f":"AL23/(LOG(AL4)/LOG(2))","v":0.39693313725831303},null,null,null,"U5=",{"$f":"AQ23/(LOG(AQ4)/LOG(2))","v":0.35646636186459724},null,null,null,"U6=",{"$f":"AV23/(LOG(AV4)/LOG(2))","v":0.43599920366373524}]
[21,2747,12,2763,24,2774,23,2784,null,null,0,2122]
[21,2880,21,2885,11,2894,21,2922,null,null,0,2212]
[12,3094,14,3099,24,3110,23,3115,null,null,0,1122,null,"Total Target Seq"]
[21,3211,12,3223,24,3269,23,3294,null,null,0,2122,null,{"$f":"COUNTIF(L7:L174,G3)","v":10},null,28,28,28,28,28,28]
[21,3393,12,3409,24,3420,23,3432,null,null,0,2122,null,null,null,"% of reinforcement given in 6 equal intervals based on number of trials "]
[21,3531,12,3541,24,3549,23,3555,null,null,0,2122,null,null,null,"%_1","%_2","%_3","%_4","%_5","%_6"]
[21,3652,12,3670,24,3678,23,3687,null,null,0,2122,null,null,"target sequence",{"$f":"$G$3","v":2212},{"$f":"$G$3","v":2212},{"$f":"$G$3","v":2212},{"$f":"$G$3","v":2212},{"$f":"$G$3","v":2212},{"$f":"$G$3","v":2212}]
[21,3784,21,3789,22,3806,23,3818,null,null,0,2222,null,null,"total reinforcement",{"$f":"U20","v":3},{"$f":"Z20","v":1},{"$f":"AE20","v":2},{"$f":"AJ20","v":1},{"$f":"AO20","v":1},{"$f":"AT20","v":2}]
[21,3933,12,3941,24,3951,23,3960,null,null,0,2122,null,null,"% target"]
[21,4058,12,4070,24,4079,23,4093,null,null,0,2122,null,null,"CCRF"]
[21,4191,12,4204,24,4217,23,4229,null,null,0,2122,null,null,"% CCRf"]
[21,4327,12,4338,13,4340,23,4360,null,null,0,2112,null,null,"average response rate",{"$f":"H34/P28","v":146.17857142857142},{"$f":"(H62-H34)/Q28","v":139.17857142857142},{"$f":"(H90-H62)/R28","v":151.71428571428572},{"$f":"(H118-H90)/S28","v":133.07142857142858},{"$f":"(H146-H118)/T28","v":145.75},{"$f":"(H174-H146)/U28","v":135.82142857142858}]
[21,4457,12,4467,24,4494,23,4503,null,null,0,2122]
[21,4629,12,4645,24,4653,23,4662,null,null,0,2122]
[21,4758,12,4770,24,4784,23,4793,null,null,0,2122]
[21,4889,12,4901,24,4910,23,4915,null,null,0,2122]
[21,5013,12,5025,13,5030,23,5039,null,null,0,2112]
[21,5136,21,5140,22,5163,23,5172,null,null,0,2222]
[21,5270,12,5282,24,5293,23,5303,null,null,0,2122]
[21,5401,12,5414,24,5426,23,5439,null,null,0,2122]
[21,5544,12,5553,24,5561,23,5567,null,null,0,2122]
[21,5664,21,5666,11,5676,21,5685,null,null,0,2212]
[12,5924,23,5933,24,5936,23,5943,null,null,0,1222]
[12,6045,14,6058,24,6067,23,6073,null,null,0,1122]
[21,6172,12,6183,24,6197,23,6204,null,null,0,2122]
[12,6319,23,6327,24,6331,23,6337,null,null,0,1222]
[21,6436,12,6446,24,6488,23,6500,null,null,0,2122]
[21,6597,12,6610,24,6624,23,6640,null,null,0,2122]
[21,6738,12,6750,24,6760,23,6769,null,null,0,2122]
[21,6868,12,6880,13,6886,23,6898,null,null,0,2112]
[21,6994,12,7003,24,7013,23,7017,null,null,0,2122]
[21,7116,12,7126,24,7138,23,7147,null,null,0,2122]
[21,7245,12,7257,13,7264,23,7276,null,null,0,2112]
[21,7374,12,7387,24,7425,23,7435,null,null,0,2122]
[21,7536,12,7548,24,7560,23,7574,null,null,0,2122]
[21,7673,12,7683,24,7693,23,7700,null,null,0,2122]
[21,7797,12,7810,24,7825,23,7836,null,null,0,2122]
[21,7935,12,7947,24,7976,23,7990,null,null,0,2122]
[21,8087,12,8097,13,8103,23,8113,null,null,0,2112]
[21,8252,12,8262,13,8270,23,8279,null,null,0,2112]
[21,8378,21,8383,11,8392,21,8445,null,null,0,2212]
[21,8620,12,8632,24,8646,23,8652,null,null,0,2122]
[12,8760,14,8767,24,8777,23,8781,null,null,0,1122]
[21,8879,12,8887,13,8891,23,8899,null,null,0,2112]
[21,8998,12,9008,24,9050,23,9078,null,null,0,2122]
[21,9176,12,9187,24,9197,23,9203,null,null,0,2122]
[21,9324,12,9332,24,9341,23,9346,null,null,0,2122]
[21,9445,12,9453,13,9456,23,9463,null,null,0,2112]
[21,9563,12,9572,24,9581,23,9592,null,null,0,2122]
[21,9691,12,9700,13,9705,23,9716,null,null,0,2112]
[21,9814,12,9824,24,9849,23,9859,null,null,0,2122]
[21,9956,12,9967,13,9974,23,10017,null,null,0,2112]
[12,10119,23,10132,24,10139,23,10147,null,null,0,1222]
[21,10247,12,10257,24,10265,23,10272,null,null,0,2122]
[21,10370,12,10382,24,10397,23,10411,null,null,0,2122]
[21,10510,12,10521,24,10540,23,10550,null,null,0,2122]
[21,10649,21,10654,11,10662,12,10666,null,null,0,2211]
[12,10987,14,10993,13,10997,23,11007,null,null,0,1112]
[21,11103,12,11113,24,11127,23,11141,null,null,0,2122]
[21,11239,12,11248,13,11253,23,11272,null,null,0,2112]
[21,11369,12,11380,24,11396,23,11407,null,null,0,2122]
[21,11505,12,11516,13,11523,23,11534,null,null,0,2112]
[21,11631,12,11644,24,11664,23,11675,null,null,0,2122]
[21,11771,21,11778,11,11786,21,11796,null,null,0,2212]
[12,12018,14,12031,13,12034,23,12042,null,null,0,1112]
[12,12208,14,12219,13,12226,23,12238,null,null,0,1112]
[12,12341,14,12356,24,12367,23,12371,null,null,0,1122]
[21,12469,12,12477,13,12479,23,12530,null,null,0,2112]
[21,12627,12,12636,13,12640,23,12648,null,null,0,2112]
[21,12746,12,12755,13,12760,23,12770,null,null,0,2112]
[21,12867,12,12876,24,12890,23,12899,null,null,0,2122]
[21,12997,12,13007,24,13019,14,13094,null,null,0,2121]
[12,13189,14,13195,24,13203,23,13208,null,null,0,1122]
[12,13310,14,13314,24,13323,23,13328,null,null,0,1122]
[21,13427,12,13435,13,13441,23,13460,null,null,0,2112]
[21,13558,12,13568,24,13595,23,13606,null,null,0,2122]
[21,13703,12,13712,24,13734,23,13743,null,null,0,2122]
[21,13840,12,13850,13,13859,23,13866,null,null,0,2112]
[21,13965,12,13973,24,13986,23,13995,null,null,0,2122]
[21,14093,12,14103,24,14113,23,14121,null,null,0,2122]
[21,14218,12,14230,24,14244,23,14260,null,null,0,2122]
[21,14360,12,14370,24,14391,23,14404,null,null,0,2122]
[21,14501,12,14511,24,14521,23,14531,null,null,0,2122]
[21,14628,12,14639,13,14643,23,14650,null,null,0,2112]
[21,14764,12,14771,24,14781,23,14786,null,null,0,2122]
[21,14883,12,14891,24,14910,23,14918,null,null,0,2122]
[21,15016,12,15026,13,15034,23,15042,null,null,0,2112]
[21,15138,21,15143,22,15174,23,15185,null,null,0,2222]
[12,15293,23,15301,24,15309,23,15316,null,null,0,1222]
[21,15412,12,15425,24,15436,23,15444,null,null,0,2122]
[21,15542,12,15550,24,15564,23,15573,null,null,0,2122]
[21,15684,12,15691,13,15700,23,15713,null,null,0,2112]
[21,15811,12,15820,24,15835,23,15844,null,null,0,2122]
[21,15942,21,15945,11,15956,21,15964,null,null,0,2212]
[12,16240,14,16241,13,16258,23,16267,null,null,0,1112]
[21,16365,12,16375,13,16380,23,16400,null,null,0,2112]
[21,16498,12,16510,24,16521,23,16539,null,null,0,2122]
[21,16638,12,16648,24,16668,14,16701,null,null,0,2121]
[21,16798,12,16812,24,16838,23,16853,null,null,0,2122]
[21,16952,12,16962,13,16966,23,16974,null,null,0,2112]
[21,17076,21,17079,11,17088,21,17131,null,null,0,2212]
[21,17295,12,17303,24,17315,23,17320,null,null,0,2122]
[12,17455,14,17471,24,17481,23,17485,null,null,0,1122]
[21,17585,12,17599,24,17605,23,17617,null,null,0,2122]
[21,17716,12,17726,24,17746,23,17761,null,null,0,2122]
[21,17857,12,17866,13,17873,23,17881,null,null,0,2112]
[21,17978,12,17988,24,18003,23,18014,null,null,0,2122]
[21,18113,12,18121,24,18130,23,18137,null,null,0,2122]
[21,18234,12,18244,24,18254,23,18263,null,null,0,2122]
[21,18389,12,18395,13,18402,23,18409,null,null,0,2112]
[21,18507,12,18518,24,18533,23,18548,null,null,0,2122]
[21,18647,12,18657,13,18661,23,18679,null,null,0,2112]
[12,18781,14,18786,24,18795,23,18805,null,null,0,1122]
[21,18902,12,18911,24,18940,23,18949,null,null,0,2122]
[21,19045,12,19055,24,19070,23,19082,null,null,0,2122]
[21,19179,12,19189,24,19198,23,19211,null,null,0,2122]
[21,19308,12,19318,13,19324,23,19339,null,null,0,2112]
[12,19495,14,19499,24,19506,23,19512,null,null,0,1122]
[21,19609,12,19619,24,19627,23,19635,null,null,0,2122]
[12,19742,14,19749,24,19756,23,19769,null,null,0,1122]
[21,19868,12,19882,24,19900,23,19913,null,null,0,2122]
[21,20013,12,20023,24,20033,23,20045,null,null,0,2122]
[21,20188,21,20192,22,20199,23,20205,null,null,0,2222]
[21,20301,12,20313,13,20315,14,20322,null,null,0,2111]
[21,20419,12,20431,24,20438,23,20445,null,null,0,2122]
[21,20543,12,20556,24,20566,23,20579,null,null,0,2122]
[21,20677,12,20687,24,20705,23,20718,null,null,0,2122]
[21,20814,12,20824,13,20828,23,20838,null,null,0,2112]
[21,20936,12,20951,24,20990,23,21008,null,null,0,2122]
[21,21114,12,21121,24,21128,23,21130,null,null,0,2122]
[21,21228,12,21240,24,21250,23,21258,null,null,0,2122]
[21,21354,21,21358,22,21380,23,21388,null,null,0,2222]
[21,21486,12,21497,13,21503,23,21511,null,null,0,2112]
[21,21608,21,21632,22,21640,23,21648,null,null,0,2222]
[21,21748,12,21760,24,21775,23,21786,null,null,0,2122]
[21,21882,21,21887,11,21896,12,21901,null,null,0,2211]
[21,21998,12,22008,13,22021,23,22039,null,null,0,2112]
[21,22136,21,22139,22,22167,23,22178,null,null,0,2222]
[21,22276,12,22288,24,22299,23,22307,null,null,0,2122]
[21,22406,12,22416,24,22425,23,22429,null,null,0,2122]
[21,22527,12,22537,13,22543,23,22550,null,null,0,2112]
[21,22647,12,22659,24,22668,23,22676,null,null,0,2122]
[21,22776,12,22786,24,22795,23,22803,null,null,0,2122]
[21,22904,12,22913,24,22922,23,22925,null,null,0,2122]
[21,23021,21,23026,11,23035,21,23069,null,null,0,2212]
[12,23322,14,23326,13,23335,23,23343,null,null,0,1112]
[21,23443,12,23452,24,23463,23,23475,null,null,0,2122]
[12,23586,14,23593,24,23600,23,23609,null,null,0,1122]
[21,23709,12,23718,13,23724,23,23732,null,null,0,2112]
[21,23828,21,23832,11,23841,21,23848,null,null,0,2212]