{"text_format":"1","workbook":"xlsx","n_sheets":32,"sheets":["Sample Report","Summary","Start","!LA06952..Is","!LA07A02..Is","!LA08A02..Is","!LA09922..Is","!LA10B12..Is","!LA11A12..Is","!LA13A52.. I","!LA17B02.. I","!LA18A12.. I","!LA19B02.. I","!LA20A02.. I","!LA21912.. I","!LA25A02.. I","!LA26A22.. I","!LA27A0I.sha","!LA28A44..Is","!LA29B14..Is","!LA30A44..Is","!LA31A14..Is","!LB01944..Is","!LB02A14..Is","!LB03A14..Is","!LB04A44.. I","!LB05944.. I","!LB06944.. I","!LB07C14.. I","!LB08954.. I","!LB09A44..Is","!LB10A54..Is"],"not_rendered":{"charts":0,"images":0,"macros":1,"external_links":0,"defined_names":0,"comments":0,"pivot_tables":0},"unopened":[],"bounds":{"document_bytes":16777216,"sheet_cells":100000,"rows_first":2000,"rows_last":500,"rows_between":2000,"halvings":0,"cell_chars":16384,"cell_head_chars":4096},"cells_cut":0,"cells_raw":0,"read":"whole","date_system":"1900"}

{"sheet":"Sample Report","index":0,"n_rows":12,"n_cols":11,"rows_kept":12,"cut":false,"hidden":true,"merged":[[7,0,7,6]]}
[]
["Date"]
["Hen"]
["Program"]
["Start at 999999"]
["Sequence component 1","Time 1","Seqeunce Component 2","Time 2","Seqeunce Component 3","Time 3","Correct   0 = No 1=Yes",null,null,"Seqeunce","Time"]
[12,7,12,42,13,18,"if 77 new line,                                  if 31 or 41 = yes new line on 77, ",null,null,"=string of Seqeunce compponent 1, 2 & 3","=time 3"]
["This continues until ther is a 1 on its own to indicate start of summary data"]
[null,null,null,null,null,null,null,null,null,"10-19 =1"]
["Summary Data ",null,null,null,null,null,null,null,null,"20-29 =2"]
["Correct","Incorrect","Rft","total","Av Correct","Av Incorrect","Percent correct","Time",null,"in this example the seqeunce would be 111"]
[40,33,40,73,23.95,15,54,806]

{"sheet":"Summary","index":1,"n_rows":32,"n_cols":24,"rows_kept":32,"cut":false,"hidden":false,"merged":[]}
[]
["Day","Date","Average Response Rate","Target %","RF for non correct sequence","U Value",null,null,null,null,"Block 1","Block 2","Block 3","Block 4","Block 5","Block 6"]
[1,{"$f":"'!LA06952..Is'!B2:C2","v":"<date>"},{"$f":"('!LA06952..Is'!F177/60)/'!LA06952..Is'!Q3","v":2.3357699805068228},{"$f":"'!LA06952..Is'!N20/'!LA06952..Is'!Q3","v":0.21052631578947367},{"$f":"SUM('!LA06952..Is'!L20:Q20)/'!LA06952..Is'!Q3","v":1.1929824561403508},{"$f":"'!LA06952..Is'!Q16","v":0.24307016923151029},null,null,null,"Average Response Rate",{"$f":"AVERAGE(C3:C7)","v":2.2889701544620937},{"$f":"AVERAGE(C8:C12)","v":2.1726724968532105},{"$f":"AVERAGE(C13:C17)","v":2.147544687097183},{"$f":"AVERAGE(C18:C22)","v":2.0804141464395198},{"$f":"AVERAGE(C23:C27)","v":2.114159144968256},{"$f":"AVERAGE(C28:C32)","v":2.1116082267445071}]
[2,{"$f":"'!LA07A02..Is'!B2:C2","v":"<date>"},{"$f":"('!LA07A02..Is'!F190/60)/'!LA07A02..Is'!Q3","v":2.1667572463768114},{"$f":"'!LA07A02..Is'!N20/'!LA07A02..Is'!Q3","v":0.20108695652173914},{"$f":"SUM('!LA07A02..Is'!L20:Q20)/'!LA07A02..Is'!Q3","v":1.7391304347826086},{"$f":"'!LA07A02..Is'!Q16","v":0.13138171757416703},null,null,null,"Target %",{"$f":"AVERAGE(D3:D7)","v":0.14214440134281298},{"$f":"AVERAGE(D8:D12)","v":0.39218123406631566},{"$f":"AVERAGE(D13:D17)","v":0.50755532476702869},{"$f":"AVERAGE(D18:D22)","v":0.52707975275139451},{"$f":"AVERAGE(D23:D27)","v":0.58673297815477177},{"$f":"AVERAGE(D28:D32)","v":0.54959001467780566}]
[3,{"$f":"'!LA08A02..Is'!B2:C2","v":"<date>"},{"$f":"('!LA08A02..Is'!F193/60)/'!LA08A02..Is'!Q3","v":2.1385918003565063},{"$f":"'!LA08A02..Is'!N20/'!LA08A02..Is'!Q3","v":0.16577540106951871},{"$f":"SUM('!LA08A02..Is'!L20:Q20)/'!LA08A02..Is'!Q3","v":1.6844919786096257},{"$f":"'!LA08A02..Is'!Q16","v":9.2037642194113034E-2},null,null,null,"CCRF",{"$f":"AVERAGE(E3:E7)","v":1.4852914968219217},{"$f":"AVERAGE(E8:E12)","v":2.5067833661173737},{"$f":"AVERAGE(E13:E17)","v":2.5698829340481666},{"$f":"AVERAGE(E18:E22)","v":3.258700587969245},{"$f":"AVERAGE(E23:E27)","v":2.6857518798988336},{"$f":"AVERAGE(E28:E32)","v":3.1924447926897903}]
[4,{"$f":"'!LA09922..Is'!B2:C2","v":"<date>"},{"$f":"('!LA09922..Is'!F201/60)/'!LA09922..Is'!Q3","v":2.045726495726496},{"$f":"'!LA09922..Is'!N20/'!LA09922..Is'!Q3","v":0.13333333333333333},{"$f":"SUM('!LA09922..Is'!L20:Q20)/'!LA09922..Is'!Q3","v":1.6051282051282052},{"$f":"'!LA09922..Is'!Q16","v":0.1082307229165157},null,null,null,"U Value",{"$f":"AVERAGE(F3:F7)","v":0.11494405038326121},{"$f":"AVERAGE(F8:F12)","v":0.1618494567107952},{"$f":"AVERAGE(F13:F17)","v":0.20586931279793091},{"$f":"AVERAGE(F18:F22)","v":0.20177336293863327},{"$f":"AVERAGE(F23:F27)","v":0.23811184408779856},{"$f":"AVERAGE(F28:F32)","v":0.25311451198485224}]
[5,{"$f":"'!LA10B12..Is'!B2:C2","v":"<date>"},{"$f":"('!LA10B12..Is'!F133/60)/'!LA10B12..Is'!Q3","v":2.7580052493438321},{"$f":"'!LA10B12..Is'!N20/'!LA10B12..Is'!Q3","v":0},{"$f":"SUM('!LA10B12..Is'!L20:Q20)/'!LA10B12..Is'!Q3","v":1.204724409448819},{"$f":"'!LA10B12..Is'!Q16","v":0}]
[6,{"$f":"'!LA11A12..Is'!B2:C2","v":"<date>"},{"$f":"('!LA11A12..Is'!F121/60)/'!LA11A12..Is'!Q3","v":2.1462318840579711},{"$f":"'!LA11A12..Is'!N20/'!LA11A12..Is'!Q3","v":0.34782608695652173},{"$f":"SUM('!LA11A12..Is'!L20:Q20)/'!LA11A12..Is'!Q3","v":1.7391304347826086},{"$f":"'!LA11A12..Is'!Q16","v":0.18814184158316755}]
[7,{"$f":"'!LA13A52.. I'!B2:C2","v":"<date>"},{"$f":"('!LA13A52.. I'!F123/60)/'!LA13A52.. I'!Q3","v":2.3059829059829062},{"$f":"'!LA13A52.. I'!N20/'!LA13A52.. I'!Q3","v":0.34188034188034189},{"$f":"SUM('!LA13A52.. I'!L20:Q20)/'!LA13A52.. I'!Q3","v":2.5726495726495728},{"$f":"'!LA13A52.. I'!Q16","v":0.13487008989908461},{"$f":"K3","v":2.2889701544620937},{"$f":"L3","v":2.1726724968532105},2.147544687097183,2.0804141464395198,2.114159144968256,2.1116082267445071,{"$f":"K4","v":0.14214440134281298},{"$f":"L4","v":0.39218123406631566},0.50755532476702869,0.52707975275139451,0.58673297815477177,0.54959001467780566,{"$f":"K6","v":0.11494405038326121},{"$f":"L6","v":0.1618494567107952},0.20586931279793091,0.20177336293863327,0.23811184408779856,0.25311451198485224]
[8,{"$f":"'!LA17B02.. I'!B2:C2","v":"<date>"},{"$f":"('!LA17B02.. I'!F122/60)/'!LA17B02.. I'!Q3","v":2.2334770114942528},{"$f":"'!LA17B02.. I'!N20/'!LA17B02.. I'!Q3","v":0.34482758620689657},{"$f":"SUM('!LA17B02.. I'!L20:Q20)/'!LA17B02.. I'!Q3","v":2.5948275862068964},{"$f":"'!LA17B02.. I'!Q16","v":0.1548021739703033}]
[9,{"$f":"'!LA18A12.. I'!B2:C2","v":"<date>"},{"$f":"('!LA18A12.. I'!F89/60)/'!LA18A12.. I'!Q3","v":2.0676706827309239},{"$f":"'!LA18A12.. I'!N20/'!LA18A12.. I'!Q3","v":0.48192771084337349},{"$f":"SUM('!LA18A12.. I'!L20:Q20)/'!LA18A12.. I'!Q3","v":3.4939759036144578},{"$f":"'!LA18A12.. I'!Q16","v":0.17876859294644365}]
[10,{"$f":"'!LA19B02.. I'!B2:C2","v":"<date>"},{"$f":"('!LA19B02.. I'!F96/60)/'!LA19B02.. I'!Q3","v":2.11},{"$f":"'!LA19B02.. I'!N20/'!LA19B02.. I'!Q3","v":0.44444444444444442},{"$f":"SUM('!LA19B02.. I'!L20:Q20)/'!LA19B02.. I'!Q3","v":2.1333333333333333},{"$f":"'!LA19B02.. I'!Q16","v":0.15266458515497691}]
[11,{"$f":"'!LA20A02.. I'!B2:C2","v":"<date>"},{"$f":"('!LA20A02.. I'!F104/60)/'!LA20A02.. I'!Q3","v":2.0336734693877552},{"$f":"'!LA20A02.. I'!N20/'!LA20A02.. I'!Q3","v":0.40816326530612246},{"$f":"SUM('!LA20A02.. I'!L20:Q20)/'!LA20A02.. I'!Q3","v":3.010204081632653},{"$f":"'!LA20A02.. I'!Q16","v":0.16992518111607055}]
[12,{"$f":"'!LA21912.. I'!B2:C2","v":"<date>"},{"$f":"('!LA21912.. I'!F84/60)/'!LA21912.. I'!Q3","v":2.2320512820512821},{"$f":"'!LA21912.. I'!N20/'!LA21912.. I'!Q3","v":0.51282051282051277},{"$f":"SUM('!LA21912.. I'!L20:Q20)/'!LA21912.. I'!Q3","v":2.4102564102564101},{"$f":"'!LA21912.. I'!Q16","v":0.18208032312360747}]
[13,{"$f":"'!LA25A02.. I'!B2:C2","v":"<date>"},{"$f":"('!LA25A02.. I'!F89/60)/'!LA25A02.. I'!Q3","v":2.0841365461847388},{"$f":"'!LA25A02.. I'!N20/'!LA25A02.. I'!Q3","v":0.48192771084337349},{"$f":"SUM('!LA25A02.. I'!L20:Q20)/'!LA25A02.. I'!Q3","v":2.1566265060240966},{"$f":"'!LA25A02.. I'!Q16","v":0.26681453203979189}]
[14,{"$f":"'!LA26A22.. I'!B2:C2","v":"<date>"},{"$f":"('!LA26A22.. I'!F83/60)/'!LA26A22.. I'!Q3","v":2.0865800865800863},{"$f":"'!LA26A22.. I'!N20/'!LA26A22.. I'!Q3","v":0.51948051948051943},{"$f":"SUM('!LA26A22.. I'!L20:Q20)/'!LA26A22.. I'!Q3","v":2.4415584415584415},{"$f":"'!LA26A22.. I'!Q16","v":0.17314149275657423}]
[15,{"$f":"'!LA27A0I.sha'!B2:C2","v":"<date>"},{"$f":"('!LA27A0I.sha'!F71/60)/'!LA27A0I.sha'!Q3","v":2.3012820512820515},{"$f":"'!LA27A0I.sha'!N20/'!LA27A0I.sha'!Q3","v":0.61538461538461542},{"$f":"SUM('!LA27A0I.sha'!L20:Q20)/'!LA27A0I.sha'!Q3","v":2.8307692307692309},{"$f":"'!LA27A0I.sha'!Q16","v":0.23738503495361052}]
[16,{"$f":"'!LA28A44..Is'!B2:C2","v":"<date>"},{"$f":"('!LA28A44..Is'!F94/60)/'!LA28A44..Is'!Q3","v":2.1488636363636364},{"$f":"'!LA28A44..Is'!N20/'!LA28A44..Is'!Q3","v":0.45454545454545453},{"$f":"SUM('!LA28A44..Is'!L20:Q20)/'!LA28A44..Is'!Q3","v":3.3068181818181817},{"$f":"'!LA28A44..Is'!Q16","v":0.16622483953104736}]
[17,{"$f":"'!LA29B14..Is'!B2:C2","v":"<date>"},{"$f":"('!LA29B14..Is'!F73/60)/'!LA29B14..Is'!Q3","v":2.1447761194029851},{"$f":"'!LA29B14..Is'!N20/'!LA29B14..Is'!Q3","v":0.59701492537313428},{"$f":"SUM('!LA29B14..Is'!L20:Q20)/'!LA29B14..Is'!Q3","v":4.2388059701492535},{"$f":"'!LA29B14..Is'!Q16","v":0.1856526905648844}]
[18,{"$f":"'!LA30A44..Is'!B2:C2","v":"<date>"},{"$f":"('!LA30A44..Is'!F81/60)/'!LA30A44..Is'!Q3","v":2.0575555555555556},{"$f":"'!LA30A44..Is'!N20/'!LA30A44..Is'!Q3","v":0.53333333333333333},{"$f":"SUM('!LA30A44..Is'!L20:Q20)/'!LA30A44..Is'!Q3","v":3.8266666666666667},{"$f":"'!LA30A44..Is'!Q16","v":0.18798486286945526}]
[19,{"$f":"'!LA31A14..Is'!B2:C2","v":"<date>"},{"$f":"('!LA31A14..Is'!F72/60)/'!LA31A14..Is'!Q3","v":2.0977272727272727},{"$f":"'!LA31A14..Is'!N20/'!LA31A14..Is'!Q3","v":0.60606060606060608},{"$f":"SUM('!LA31A14..Is'!L20:Q20)/'!LA31A14..Is'!Q3","v":2.7878787878787881},{"$f":"'!LA31A14..Is'!Q16","v":0.22060181758640979}]
[20,{"$f":"'!LB01944..Is'!B2:C2","v":"<date>"},{"$f":"('!LB01944..Is'!F96/60)/'!LB01944..Is'!Q3","v":1.9531481481481481},{"$f":"'!LB01944..Is'!N20/'!LB01944..Is'!Q3","v":0.44444444444444442},{"$f":"SUM('!LB01944..Is'!L20:Q20)/'!LB01944..Is'!Q3","v":2.1333333333333333},{"$f":"'!LB01944..Is'!Q16","v":0.24840260414136953}]
[21,{"$f":"'!LB02A14..Is'!B2:C2","v":"<date>"},{"$f":"('!LB02A14..Is'!F85/60)/'!LB02A14..Is'!Q3","v":2.0911392405063292},{"$f":"'!LB02A14..Is'!N20/'!LB02A14..Is'!Q3","v":0.50632911392405067},{"$f":"SUM('!LB02A14..Is'!L20:Q20)/'!LB02A14..Is'!Q3","v":2.3797468354430378},{"$f":"'!LB02A14..Is'!Q16","v":0.24063062719434566}]
[22,{"$f":"'!LB03A14..Is'!B2:C2","v":"<date>"},{"$f":"('!LB03A14..Is'!F68/60)/'!LB03A14..Is'!Q3","v":1.9943548387096774},{"$f":"'!LB03A14..Is'!N20/'!LB03A14..Is'!Q3","v":0.64516129032258063},{"$f":"SUM('!LB03A14..Is'!L20:Q20)/'!LB03A14..Is'!Q3","v":2.9516129032258065},{"$f":"'!LB03A14..Is'!Q16","v":0.22289253786836349}]
[23,{"$f":"'!LB04A44.. I'!B2:C2","v":"<date>"},{"$f":"('!LB04A44.. I'!F67/60)/'!LB04A44.. I'!Q3","v":2.0721311475409836},{"$f":"'!LB04A44.. I'!N20/'!LB04A44.. I'!Q3","v":0.65573770491803274},{"$f":"SUM('!LB04A44.. I'!L20:Q20)/'!LB04A44.. I'!Q3","v":2.9836065573770494},{"$f":"'!LB04A44.. I'!Q16","v":0.2357331704461221}]
[24,{"$f":"'!LB05944.. I'!B2:C2","v":"<date>"},{"$f":"('!LB05944.. I'!F66/60)/'!LB05944.. I'!Q3","v":2.3597222222222225},{"$f":"'!LB05944.. I'!N20/'!LB05944.. I'!Q3","v":0.66666666666666663},{"$f":"SUM('!LB05944.. I'!L20:Q20)/'!LB05944.. I'!Q3","v":3.0333333333333332},{"$f":"'!LB05944.. I'!Q16","v":0.21985854017900652}]
[25,{"$f":"'!LB06944.. I'!B2:C2","v":"<date>"},{"$f":"('!LB06944.. I'!F93/60)/'!LB06944.. I'!Q3","v":2.0534482758620691},{"$f":"'!LB06944.. I'!N20/'!LB06944.. I'!Q3","v":0.45977011494252873},{"$f":"SUM('!LB06944.. I'!L20:Q20)/'!LB06944.. I'!Q3","v":2.0804597701149423},{"$f":"'!LB06944.. I'!Q16","v":0.27144434475115498}]
[26,{"$f":"'!LB07C14.. I'!B2:C2","v":"<date>"},{"$f":"('!LB07C14.. I'!F85/60)/'!LB07C14.. I'!Q3","v":2.1590717299578057},{"$f":"'!LB07C14.. I'!N20/'!LB07C14.. I'!Q3","v":0.50632911392405067},{"$f":"SUM('!LB07C14.. I'!L20:Q20)/'!LB07C14.. I'!Q3","v":3.6455696202531644},{"$f":"'!LB07C14.. I'!Q16","v":0.25541458330740258}]
[27,{"$f":"'!LB08954.. I'!B2:C2","v":"<date>"},{"$f":"('!LB08954.. I'!F68/60)/'!LB08954.. I'!Q3","v":2.1303763440860215},{"$f":"'!LB08954.. I'!N20/'!LB08954.. I'!Q3","v":0.64516129032258063},{"$f":"SUM('!LB08954.. I'!L20:Q20)/'!LB08954.. I'!Q3","v":2.9516129032258065},{"$f":"'!LB08954.. I'!Q16","v":0.24298389051081015}]
[28,{"$f":"'!LB09A44..Is'!B2:C2","v":"<date>"},{"$f":"('!LB09A44..Is'!F85/60)/'!LB09A44..Is'!Q3","v":2.0966244725738394},{"$f":"'!LB09A44..Is'!N20/'!LB09A44..Is'!Q3","v":0.50632911392405067},{"$f":"SUM('!LB09A44..Is'!L20:Q20)/'!LB09A44..Is'!Q3","v":3.6455696202531644},{"$f":"'!LB09A44..Is'!Q16","v":0.25572815325078796}]
[29,{"$f":"'!LB10A54..Is'!B2:C2","v":"<date>"},{"$f":"('!LB10A54..Is'!F80/60)/'!LB10A54..Is'!Q3","v":2.0603603603603604},{"$f":"'!LB10A54..Is'!N20/'!LB10A54..Is'!Q3","v":0.54054054054054057},{"$f":"SUM('!LB10A54..Is'!L20:Q20)/'!LB10A54..Is'!Q3","v":2.5270270270270272},{"$f":"'!LB10A54..Is'!Q16","v":0.25833142087040833}]
[30]

{"sheet":"Start","index":2,"n_rows":35,"n_cols":10,"rows_kept":35,"cut":false,"hidden":false,"merged":[]}
[null,null,null,null,null,"Use Folder 51",null,"Auto Clean Up",null,"Correct sequence"]
[null,null,null,null,null,false,null,true,null,122]
[]
["Working with Folder",null,null,null,null,null,"Process All/Or Pick A number: ALL or an integer"]
["F:\\Possum Chapter\\Raw Data\\Ishan\\phase 2\\",null,null,null,null,null,"ALL"]
["Filenames:"]
["!LA06952..Is",null,null,null,null,null,"Paint Cells"]
["!LA07A02..Is",null,null,null,null,null,false]
["!LA08A02..Is"]
["!LA09922..Is"]
["!LA10B12..Is"]
["!LA11A12..Is"]
["!LA13A52.. I"]
["!LA17B02.. I"]
["!LA18A12.. I"]
["!LA19B02.. I"]
["!LA20A02.. I"]
["!LA21912.. I"]
["!LA25A02.. I"]
["!LA26A22.. I"]
["!LA27A0I.sha"]
["!LA28A44..Is"]
["!LA29B14..Is"]
["!LA30A44..Is"]
["!LA31A14..Is"]
["!LB02A14..Is"]
["!LB03A14..Is"]
["!LB04A44.. I"]
["!LB05944.. I"]
["!LB06944.. I"]
["!LB07C14.. I"]
["!LB08954.. I"]
["!LB09A44..Is"]
["!LB01944..Is"]
["!LB10A54..Is"]

{"sheet":"!LA06952..Is","index":3,"n_rows":177,"n_cols":48,"rows_kept":177,"cut":false,"hidden":false,"merged":[[4,39,4,42],[5,39,5,40],[4,44,4,47],[5,44,5,45],[4,24,4,27],[5,24,5,25],[4,29,4,32],[5,29,5,30],[4,34,4,37],[5,34,5,35],[1,1,1,2],[5,13,5,14],[18,13,18,14],[19,13,19,14],[4,19,4,22],[5,19,5,20]]}
["Report for:!LA06952..Is"]
["Date:","<date>"]
["Hen:","<hen>",null,null,null,"Correct Sequence",{"$f":"Start!J2","v":122},null,null,null,null,null,null,null,null,"Total Sequences in Data",{"$f":"4994-COUNTBLANK(L7:L5000)","v":171},null,null,null,null,"Total Sequences in Block Data",{"$f":"COUNTA(L7:L35)","v":29},null,null,null,"Total Sequences in Block Data",{"$f":"COUNTA(L36:L63)","v":28},null,null,null,"Total Sequences in Block Data",{"$f":"COUNTA(L64:L92)","v":29},null,null,null,"Total Sequences in Block Data",{"$f":"COUNTA(L93:L120)","v":28},null,null,null,"Total Sequences in Block Data",{"$f":"COUNTA(L121:L149)","v":29},null,null,null,"Total Sequences in Block Data",{"$f":"COUNTA(L150:L177)","v":28}]
[null,null,null,null,null,null,null,null,null,null,null,null,null,null,null,"Total Sequences in Summary",{"$f":"SUM(O7:O14)","v":171},null,null,null,null,"Total Sequences in Block Summary",{"$f":"SUM(U7:U14)","v":29},null,null,null,"Total Sequences in Block Summary",{"$f":"SUM(Z7:Z14)","v":28},null,null,null,"Total Sequences in Block Summary",{"$f":"SUM(AE7:AE14)","v":29},null,null,null,"Total Sequences in Block Summary",{"$f":"SUM(AJ7:AJ14)","v":28},null,null,null,"Total Sequences in Block Summary",{"$f":"SUM(AO7:AO14)","v":29},null,null,null,"Total Sequences in Block Summary",{"$f":"SUM(AT7:AT14)","v":28}]
[null,null,null,null,null,null,null,null,null,null,null,null,null,null,null,null,null,null,null,"Block 1",null,null,null,null,"Block 2",null,null,null,null,"Block 3",null,null,null,null,"Block 4",null,null,null,null,"Block 5",null,null,null,null,"Block 6"]
["Sequence\nComponent\n1","Time\n1","Sequence\nComponent\n2","Time\n2","Sequence\nComponent\n3","Time\n3","Sequence\nComponent\n4","Time\n4","Sequence\nComponent\n5","Time\n5","Correct?\n0=No 1=Yes","Sequence",null,"Frequency",null,"Relative Frequency","Variability",null,null,"Frequency",null,"Relative Frequency","Variability",null,"Frequency",null,"Relative Frequency","Variability",null,"Frequency",null,"Relative Frequency","Variability",null,"Frequency",null,"Relative Frequency","Variability",null,"Frequency",null,"Relative Frequency","Variability",null,"Frequency",null,"Relative Frequency","Variability"]
[11,30,12,39,14,47,null,null,null,null,0,111,null,111,{"$f":"COUNTIF($L$7:$L$500,N7)","v":31},{"$f":"O7/$Q$4","v":0.18128654970760233},{"$f":"IF(P7=0,0,(P7*((LOG(P7))/LOG(2))))","v":-0.44662773297935499},null,null,{"$f":"N7","v":111},{"$f":"COUNTIF(L7:L35,T7)","v":25},{"$f":"U7/(W4-U10)","v":0.86206896551724133},{"$f":"IF(V7=0,0,(V7*((LOG(V7))/LOG(2))))","v":-0.18459034944210989},null,{"$f":"N7","v":111},{"$f":"COUNTIF(L36:L63,Y7)","v":6},{"$f":"Z7/(AB4-Z10)","v":0.2608695652173913},{"$f":"IF(AA7=0,0,(AA7*((LOG(AA7))/LOG(2))))","v":-0.50572159704413644},null,{"$f":"N7","v":111},{"$f":"COUNTIF(L64:L92,AD7)","v":0},{"$f":"AE7/(AG4-AE10)","v":0},{"$f":"IF(AF7=0,0,(AF7*((LOG(AF7))/LOG(2))))","v":0},null,{"$f":"N7","v":111},{"$f":"COUNTIF(L93:L120,AI7)","v":0},{"$f":"AJ7/(AL4-AJ10)","v":0},{"$f":"IF(AK7=0,0,(AK7*((LOG(AK7))/LOG(2))))","v":0},null,{"$f":"N7","v":111},{"$f":"COUNTIF(L121:L149,AN7)","v":0},{"$f":"AO7/(AQ4-AO10)","v":0},{"$f":"IF(AP7=0,0,(AP7*((LOG(AP7))/LOG(2))))","v":0},null,{"$f":"N7","v":111},{"$f":"COUNTIF(L150:L177,AS7)","v":0},{"$f":"AT7/(AV4-AT10)","v":0},{"$f":"IF(AU7=0,0,(AU7*((LOG(AU7))/LOG(2))))","v":0}]
[11,147,12,155,14,163,null,null,null,null,0,111,null,112,{"$f":"COUNTIF($L$7:$L$500,N8)","v":3},{"$f":"O8/$Q$4","v":1.7543859649122806E-2},{"$f":"IF(P8=0,0,(P8*((LOG(P8))/LOG(2))))","v":-0.10233140375727617},null,null,{"$f":"N8","v":112},{"$f":"COUNTIF(L7:L35,T8)","v":1},{"$f":"U8/(W4-U10)","v":3.4482758620689655E-2},{"$f":"IF(V8=0,0,(V8*((LOG(V8))/LOG(2))))","v":-0.16751658603888178},null,{"$f":"N8","v":112},{"$f":"COUNTIF(L36:L63,Y8)","v":2},{"$f":"Z8/(AB4-Z10)","v":8.6956521739130432E-2},{"$f":"IF(AA8=0,0,(AA8*((LOG(AA8))/LOG(2))))","v":-0.30639669183104457},null,{"$f":"N8","v":112},{"$f":"COUNTIF(L64:L92,AD8)","v":0},{"$f":"AE8/(AG4-AE10)","v":0},{"$f":"IF(AF8=0,0,(AF8*((LOG(AF8))/LOG(2))))","v":0},null,{"$f":"N8","v":112},{"$f":"COUNTIF(L93:L120,AI8)","v":0},{"$f":"AJ8/(AL4-AJ10)","v":0},{"$f":"IF(AK8=0,0,(AK8*((LOG(AK8))/LOG(2))))","v":0},null,{"$f":"N8","v":112},{"$f":"COUNTIF(L121:L149,AN8)","v":0},{"$f":"AO8/(AQ4-AO10)","v":0},{"$f":"IF(AP8=0,0,(AP8*((LOG(AP8))/LOG(2))))","v":0},null,{"$f":"N8","v":112},{"$f":"COUNTIF(L150:L177,AS8)","v":0},{"$f":"AT8/(AV4-AT10)","v":0},{"$f":"IF(AU8=0,0,(AU8*((LOG(AU8))/LOG(2))))","v":0}]
[11,270,12,275,14,283,null,null,null,null,0,111,null,121,{"$f":"COUNTIF($L$7:$L$500,N9)","v":1},{"$f":"O9/$Q$4","v":5.8479532163742687E-3},{"$f":"IF(P9=0,0,(P9*((LOG(P9))/LOG(2))))","v":-4.3379254473016944E-2},null,null,{"$f":"N9","v":121},{"$f":"COUNTIF(L7:L35,T9)","v":0},{"$f":"U9/(W4-U10)","v":0},{"$f":"IF(V9=0,0,(V9*((LOG(V9))/LOG(2))))","v":0},null,{"$f":"N9","v":121},{"$f":"COUNTIF(L36:L63,Y9)","v":1},{"$f":"Z9/(AB4-Z10)","v":4.3478260869565216E-2},{"$f":"IF(AA9=0,0,(AA9*((LOG(AA9))/LOG(2))))","v":-0.19667660678508753},null,{"$f":"N9","v":121},{"$f":"COUNTIF(L64:L92,AD9)","v":0},{"$f":"AE9/(AG4-AE10)","v":0},{"$f":"IF(AF9=0,0,(AF9*((LOG(AF9))/LOG(2))))","v":0},null,{"$f":"N9","v":121},{"$f":"COUNTIF(L93:L120,AI9)","v":0},{"$f":"AJ9/(AL4-AJ10)","v":0},{"$f":"IF(AK9=0,0,(AK9*((LOG(AK9))/LOG(2))))","v":0},null,{"$f":"N9","v":121},{"$f":"COUNTIF(L121:L149,AN9)","v":0},{"$f":"AO9/(AQ4-AO10)","v":0},{"$f":"IF(AP9=0,0,(AP9*((LOG(AP9))/LOG(2))))","v":0},null,{"$f":"N9","v":121},{"$f":"COUNTIF(L150:L177,AS9)","v":0},{"$f":"AT9/(AV4-AT10)","v":0},{"$f":"IF(AU9=0,0,(AU9*((LOG(AU9))/LOG(2))))","v":0}]
[11,388,12,395,14,402,null,null,null,null,0,111,null,122,{"$f":"COUNTIF($L$7:$L$500,N10)","v":36},{"$f":"O10/$Q$4","v":0.21052631578947367},{"$f":"IF(P10=0,0,(P10*((LOG(P10))/LOG(2))))","v":-0.47324789756707064},null,null,{"$f":"N10","v":122},{"$f":"COUNTIF(L7:L35,T10)","v":0},null,null,null,{"$f":"N10","v":122},{"$f":"COUNTIF(L36:L63,Y10)","v":5},null,null,null,{"$f":"N10","v":122},{"$f":"COUNTIF(L64:L92,AD10)","v":11},null,null,null,{"$f":"N10","v":122},{"$f":"COUNTIF(L93:L120,AI10)","v":7},null,null,null,{"$f":"N10","v":122},{"$f":"COUNTIF(L121:L149,AN10)","v":5},null,null,null,{"$f":"N10","v":122},{"$f":"COUNTIF(L150:L177,AS10)","v":8}]
[11,507,12,516,14,522,null,null,null,null,0,111,null,211,{"$f":"COUNTIF($L$7:$L$500,N11)","v":6},{"$f":"O11/$Q$4","v":3.5087719298245612E-2},{"$f":"IF(P11=0,0,(P11*((LOG(P11))/LOG(2))))","v":-0.16957508821630671},null,null,{"$f":"N11","v":211},{"$f":"COUNTIF(L7:L35,T11)","v":1},{"$f":"U11/(W4-U10)","v":3.4482758620689655E-2},{"$f":"IF(V11=0,0,(V11*((LOG(V11))/LOG(2))))","v":-0.16751658603888178},null,{"$f":"N11","v":211},{"$f":"COUNTIF(L36:L63,Y11)","v":5},{"$f":"Z11/(AB4-Z10)","v":0.21739130434782608},{"$f":"IF(AA11=0,0,(AA11*((LOG(AA11))/LOG(2))))","v":-0.47861605677601093},null,{"$f":"N11","v":211},{"$f":"COUNTIF(L64:L92,AD11)","v":0},{"$f":"AE11/(AG4-AE10)","v":0},{"$f":"IF(AF11=0,0,(AF11*((LOG(AF11))/LOG(2))))","v":0},null,{"$f":"N11","v":211},{"$f":"COUNTIF(L93:L120,AI11)","v":0},{"$f":"AJ11/(AL4-AJ10)","v":0},{"$f":"IF(AK11=0,0,(AK11*((LOG(AK11))/LOG(2))))","v":0},null,{"$f":"N11","v":211},{"$f":"COUNTIF(L121:L149,AN11)","v":0},{"$f":"AO11/(AQ4-AO10)","v":0},{"$f":"IF(AP11=0,0,(AP11*((LOG(AP11))/LOG(2))))","v":0},null,{"$f":"N11","v":211},{"$f":"COUNTIF(L150:L177,AS11)","v":0},{"$f":"AT11/(AV4-AT10)","v":0},{"$f":"IF(AU11=0,0,(AU11*((LOG(AU11))/LOG(2))))","v":0}]
[11,639,12,646,14,692,null,null,null,null,0,111,null,212,{"$f":"COUNTIF($L$7:$L$500,N12)","v":1},{"$f":"O12/$Q$4","v":5.8479532163742687E-3},{"$f":"IF(P12=0,0,(P12*((LOG(P12))/LOG(2))))","v":-4.3379254473016944E-2},null,null,{"$f":"N12","v":212},{"$f":"COUNTIF(L7:L35,T12)","v":0},{"$f":"U12/(W4-U10)","v":0},{"$f":"IF(V12=0,0,(V12*((LOG(V12))/LOG(2))))","v":0},null,{"$f":"N12","v":212},{"$f":"COUNTIF(L36:L63,Y12)","v":0},{"$f":"Z12/(AB4-Z10)","v":0},{"$f":"IF(AA12=0,0,(AA12*((LOG(AA12))/LOG(2))))","v":0},null,{"$f":"N12","v":212},{"$f":"COUNTIF(L64:L92,AD12)","v":0},{"$f":"AE12/(AG4-AE10)","v":0},{"$f":"IF(AF12=0,0,(AF12*((LOG(AF12))/LOG(2))))","v":0},null,{"$f":"N12","v":212},{"$f":"COUNTIF(L93:L120,AI12)","v":1},{"$f":"AJ12/(AL4-AJ10)","v":4.7619047619047616E-2},{"$f":"IF(AK12=0,0,(AK12*((LOG(AK12))/LOG(2))))","v":-0.20915797251327431},null,{"$f":"N12","v":212},{"$f":"COUNTIF(L121:L149,AN12)","v":0},{"$f":"AO12/(AQ4-AO10)","v":0},{"$f":"IF(AP12=0,0,(AP12*((LOG(AP12))/LOG(2))))","v":0},null,{"$f":"N12","v":212},{"$f":"COUNTIF(L150:L177,AS12)","v":0},{"$f":"AT12/(AV4-AT10)","v":0},{"$f":"IF(AU12=0,0,(AU12*((LOG(AU12))/LOG(2))))","v":0}]
[11,807,12,829,14,840,null,null,null,null,0,111,null,221,{"$f":"COUNTIF($L$7:$L$500,N13)","v":1},{"$f":"O13/$Q$4","v":5.8479532163742687E-3},{"$f":"IF(P13=0,0,(P13*((LOG(P13))/LOG(2))))","v":-4.3379254473016944E-2},null,null,{"$f":"N13","v":221},{"$f":"COUNTIF(L7:L35,T13)","v":1},{"$f":"U13/(W4-U10)","v":3.4482758620689655E-2},{"$f":"IF(V13=0,0,(V13*((LOG(V13))/LOG(2))))","v":-0.16751658603888178},null,{"$f":"N13","v":221},{"$f":"COUNTIF(L36:L63,Y13)","v":0},{"$f":"Z13/(AB4-Z10)","v":0},{"$f":"IF(AA13=0,0,(AA13*((LOG(AA13))/LOG(2))))","v":0},null,{"$f":"N13","v":221},{"$f":"COUNTIF(L64:L92,AD13)","v":0},{"$f":"AE13/(AG4-AE10)","v":0},{"$f":"IF(AF13=0,0,(AF13*((LOG(AF13))/LOG(2))))","v":0},null,{"$f":"N13","v":221},{"$f":"COUNTIF(L93:L120,AI13)","v":0},{"$f":"AJ13/(AL4-AJ10)","v":0},{"$f":"IF(AK13=0,0,(AK13*((LOG(AK13))/LOG(2))))","v":0},null,{"$f":"N13","v":221},{"$f":"COUNTIF(L121:L149,AN13)","v":0},{"$f":"AO13/(AQ4-AO10)","v":0},{"$f":"IF(AP13=0,0,(AP13*((LOG(AP13))/LOG(2))))","v":0},null,{"$f":"N13","v":221},{"$f":"COUNTIF(L150:L177,AS13)","v":0},{"$f":"AT13/(AV4-AT10)","v":0},{"$f":"IF(AU13=0,0,(AU13*((LOG(AU13))/LOG(2))))","v":0}]
[11,949,12,955,14,981,null,null,null,null,0,111,null,222,{"$f":"COUNTIF($L$7:$L$500,N14)","v":92},{"$f":"O14/$Q$4","v":0.53801169590643272},{"$f":"IF(P14=0,0,(P14*((LOG(P14))/LOG(2))))","v":-0.48113878018863993},null,null,{"$f":"N14","v":222},{"$f":"COUNTIF(L7:L35,T14)","v":1},{"$f":"U14/(W4-U10)","v":3.4482758620689655E-2},{"$f":"IF(V14=0,0,(V14*((LOG(V14))/LOG(2))))","v":-0.16751658603888178},null,{"$f":"N14","v":222},{"$f":"COUNTIF(L36:L63,Y14)","v":9},{"$f":"Z14/(AB4-Z10)","v":0.39130434782608697},{"$f":"IF(AA14=0,0,(AA14*((LOG(AA14))/LOG(2))))","v":-0.5296840257187958},null,{"$f":"N14","v":222},{"$f":"COUNTIF(L64:L92,AD14)","v":18},{"$f":"AE14/(AG4-AE10)","v":1},{"$f":"IF(AF14=0,0,(AF14*((LOG(AF14))/LOG(2))))","v":0},null,{"$f":"N14","v":222},{"$f":"COUNTIF(L93:L120,AI14)","v":20},{"$f":"AJ14/(AL4-AJ10)","v":0.95238095238095233},{"$f":"IF(AK14=0,0,(AK14*((LOG(AK14))/LOG(2))))","v":-6.7037455134664775E-2},null,{"$f":"N14","v":222},{"$f":"COUNTIF(L121:L149,AN14)","v":24},{"$f":"AO14/(AQ4-AO10)","v":1},{"$f":"IF(AP14=0,0,(AP14*((LOG(AP14))/LOG(2))))","v":0},null,{"$f":"N14","v":222},{"$f":"COUNTIF(L150:L177,AS14)","v":20},{"$f":"AT14/(AV4-AT10)","v":1},{"$f":"IF(AU14=0,0,(AU14*((LOG(AU14))/LOG(2))))","v":0}]
[11,1098,12,1105,14,1180,null,null,null,null,0,111,null,null,null,{"$f":"SUM(P7:P14)","v":1},{"$f":"-SUM(Q7:Q14)","v":1.8030586661276993},null,null,null,null,{"$f":"SUM(V7:V14)","v":0.99999999999999978},{"$f":"-SUM(W7:W14)","v":0.85465669359763696},null,null,null,{"$f":"SUM(AA7:AA14)","v":1},{"$f":"-SUM(AB7:AB14)","v":2.0170949781550753},null,null,null,{"$f":"SUM(AF7:AF14)","v":1},{"$f":"-SUM(AG7:AG14)","v":0},null,null,null,{"$f":"SUM(AK7:AK14)","v":1},{"$f":"-SUM(AL7:AL14)","v":0.27619542764793908},null,null,null,{"$f":"SUM(AP7:AP14)","v":1},{"$f":"-SUM(AQ7:AQ14)","v":0},null,null,null,{"$f":"SUM(AU7:AU14)","v":1},{"$f":"-SUM(AV7:AV14)","v":0}]
[11,1300,12,1306,14,1314,null,null,null,null,0,111,null,null,null,"U=",{"$f":"Q15/(LOG(Q4)/LOG(2))","v":0.24307016923151029},null,null,null,null,"U1=",{"$f":"W15/(LOG(W4)/LOG(2))","v":0.17592837321818164},null,null,null,"U2=",{"$f":"AB15/(LOG(AB4)/LOG(2))","v":0.41958520035623564},null,null,null,"U3=",{"$f":"AG15/(LOG(AG4)/LOG(2))","v":0},null,null,null,"U4=",{"$f":"AL15/(LOG(AL4)/LOG(2))","v":5.7452680762277532E-2},null,null,null,"U5=",{"$f":"AQ15/(LOG(AQ4)/LOG(2))","v":0},null,null,null,"U6=",{"$f":"AV15/(LOG(AV4)/LOG(2))","v":0}]
[11,1438,12,1444,14,1450,null,null,null,null,0,111]
[11,1585,12,1591,14,1628,null,null,null,null,0,111]
[11,1728,12,1733,14,1833,null,null,null,null,0,111,null,"Total Target Seq"]
[11,1982,12,2095,14,2102,null,null,null,null,0,111,null,{"$f":"COUNTIF(L7:L177,G3)","v":36},null,29,28,29,28,29,28]
[11,2289,12,2303,14,2311,null,null,null,null,0,111,null,null,null,"% of reinforcement given in 6 equal intervals based on number of trials "]
[11,2428,12,2433,14,2441,null,null,null,null,0,111,null,null,null,"%_1","%_2","%_3","%_4","%_5","%_6"]
[11,2559,12,2566,14,2573,null,null,null,null,0,111,null,null,"target sequence",{"$f":"$G$3","v":122},{"$f":"$G$3","v":122},{"$f":"$G$3","v":122},{"$f":"$G$3","v":122},{"$f":"$G$3","v":122},{"$f":"$G$3","v":122}]
[11,2713,12,2724,14,2737,null,null,null,null,0,111,null,null,"total reinforcement",{"$f":"U10","v":0},{"$f":"Z10","v":5},{"$f":"AE10","v":11},{"$f":"AJ10","v":7},{"$f":"AO10","v":5},{"$f":"AT10","v":8}]
[11,2844,12,2855,14,2862,null,null,null,null,0,111,null,null,"% target"]
[11,2976,12,3031,14,3117,null,null,null,null,0,111,null,null,"CCRF"]
[11,3213,12,3217,14,3223,null,null,null,null,0,111,null,null,"% CCRf"]
[11,3322,12,3435,14,3444,null,null,null,null,0,111,null,null,"average response rate",{"$f":"F35/P20","v":155.51724137931035},{"$f":"(F63-F35)/Q20","v":142.82142857142858},{"$f":"(F92-F63)/R20","v":143.86206896551724},{"$f":"(F120-F92)/S20","v":137},{"$f":"(F149-F120)/T20","v":131.0344827586207},{"$f":"(F177-F149)/U20","v":130.28571428571428}]
[11,3560,12,3630,14,3636,null,null,null,null,0,111]
[11,3752,12,3757,14,3764,null,null,null,null,0,111]
[22,3876,23,3882,14,3910,null,null,null,null,0,221]
[11,4038,12,4043,14,4049,null,null,null,null,0,111]
[22,4167,23,4179,23,4185,null,null,null,null,0,222]
[22,4301,14,4342,14,4353,null,null,null,null,0,211]
[11,4473,12,4478,23,4510,null,null,null,null,0,112]
[22,4612,14,4621,14,4635,null,null,null,null,0,211]
[11,4736,21,4764,21,4771,null,null,null,null,0,122]
[11,4929,12,4938,14,4950,null,null,null,null,0,111]
[11,5066,12,5083,14,5089,null,null,null,null,0,111]
[11,5205,21,5212,12,5229,null,null,null,null,0,121]
[11,5337,12,5347,14,5354,null,null,null,null,0,111]
[11,5457,12,5474,23,5493,null,null,null,null,0,112]
[11,5589,21,5601,21,5608,null,null,null,null,0,122]
[11,5830,21,5845,21,5855,null,null,null,null,0,122]
[11,6068,12,6079,14,6086,null,null,null,null,0,111]
[11,6197,12,6213,14,6220,null,null,null,null,0,111]
[22,6331,23,6338,23,6346,null,null,null,null,0,222]
[22,6445,14,6455,14,6459,null,null,null,null,0,211]
[22,6564,14,6574,14,6589,null,null,null,null,0,211]
[11,6725,21,6743,21,6751,null,null,null,null,0,122]
[11,6928,21,6954,21,6963,null,null,null,null,0,122]
[11,7089,12,7095,14,7102,null,null,null,null,0,111]
[22,7205,14,7220,14,7226,null,null,null,null,0,211]
[22,7329,14,7338,14,7348,null,null,null,null,0,211]
[22,7477,23,7485,23,7492,null,null,null,null,0,222]
[22,7604,23,7615,23,7623,null,null,null,null,0,222]
[22,7739,23,7746,23,7752,null,null,null,null,0,222]
[22,7869,23,7876,23,7883,null,null,null,null,0,222]
[22,7995,23,8002,23,8010,null,null,null,null,0,222]
[22,8118,23,8125,23,8132,null,null,null,null,0,222]
[22,8244,23,8249,23,8256,null,null,null,null,0,222]
[11,8359,12,8364,23,8376,null,null,null,null,0,112]
[22,8488,23,8498,23,8509,null,null,null,null,0,222]
[22,8619,23,8624,23,8633,null,null,null,null,0,222]
[11,8734,21,8745,21,8750,null,null,null,null,0,122]
[11,8953,21,8973,21,8984,null,null,null,null,0,122]
[11,9136,21,9148,21,9152,null,null,null,null,0,122]
[22,9332,23,9344,23,9351,null,null,null,null,0,222]
[22,9462,23,9469,23,9476,null,null,null,null,0,222]
[22,9589,23,9596,23,9603,null,null,null,null,0,222]
[11,9701,21,9717,21,9724,null,null,null,null,0,122]
[22,9878,23,9883,23,9889,null,null,null,null,0,222]
[22,9999,23,10007,23,10014,null,null,null,null,0,222]
[11,10105,21,10118,21,10127,null,null,null,null,0,122]
[11,10262,21,10276,21,10282,null,null,null,null,0,122]
[22,10505,23,10511,23,10519,null,null,null,null,0,222]
[22,10631,23,10636,23,10643,null,null,null,null,0,222]
[22,10752,23,10757,23,10763,null,null,null,null,0,222]
[22,10871,23,10879,23,10886,null,null,null,null,0,222]
[11,10983,21,11002,21,11009,null,null,null,null,0,122]
[11,11151,21,11182,21,11193,null,null,null,null,0,122]
[22,11404,23,11410,23,11422,null,null,null,null,0,222]
[22,11536,23,11542,23,11549,null,null,null,null,0,222]
[11,11645,21,11658,21,11663,null,null,null,null,0,122]
[22,11782,23,11788,23,11796,null,null,null,null,0,222]
[22,11906,23,11912,23,11919,null,null,null,null,0,222]
[22,12049,23,12056,23,12063,null,null,null,null,0,222]
[22,12173,23,12179,23,12186,null,null,null,null,0,222]
[22,12291,23,12296,23,12304,null,null,null,null,0,222]
[11,12400,21,12408,21,12418,null,null,null,null,0,122]
[22,12551,23,12557,23,12564,null,null,null,null,0,222]
[11,12657,21,12674,21,12681,null,null,null,null,0,122]
[22,12836,14,12903,23,12920,null,null,null,null,0,212]
[22,13026,23,13031,23,13038,null,null,null,null,0,222]
[11,13133,21,13147,21,13153,null,null,null,null,0,122]
[22,13320,23,13325,23,13332,null,null,null,null,0,222]
[11,13428,21,13440,21,13454,null,null,null,null,0,122]
[22,13577,23,13589,23,13596,null,null,null,null,0,222]
[22,13702,23,13712,23,13719,null,null,null,null,0,222]
[11,13815,21,13828,21,13834,null,null,null,null,0,122]
[22,14012,23,14016,23,14022,null,null,null,null,0,222]
[11,14135,21,14146,21,14152,null,null,null,null,0,122]
[22,14324,23,14331,23,14338,null,null,null,null,0,222]
[22,14447,23,14460,23,14468,null,null,null,null,0,222]
[22,14576,23,14587,23,14595,null,null,null,null,0,222]
[22,14713,23,14719,23,14726,null,null,null,null,0,222]
[22,14830,23,14840,23,14848,null,null,null,null,0,222]
[22,14956,23,14964,23,14971,null,null,null,null,0,222]
[22,15074,23,15079,23,15083,null,null,null,null,0,222]
[22,15189,23,15192,23,15199,null,null,null,null,0,222]
[22,15317,23,15325,23,15332,null,null,null,null,0,222]
[22,15434,23,15440,23,15445,null,null,null,null,0,222]
[11,15539,21,15552,21,15567,null,null,null,null,0,122]
[22,15705,23,15711,23,15718,null,null,null,null,0,222]
[22,15829,23,15837,23,15844,null,null,null,null,0,222]
[22,15949,23,15954,23,15960,null,null,null,null,0,222]
[22,16062,23,16067,23,16071,null,null,null,null,0,222]
[11,16170,21,16182,21,16188,null,null,null,null,0,122]
[11,16346,21,16354,21,16358,null,null,null,null,0,122]
[22,16501,23,16511,23,16517,null,null,null,null,0,222]
[22,16631,23,16637,23,16644,null,null,null,null,0,222]
[22,16751,23,16755,23,16766,null,null,null,null,0,222]
[22,16881,23,16892,23,16897,null,null,null,null,0,222]
[11,16992,21,17021,21,17030,null,null,null,null,0,122]
[22,17235,23,17242,23,17248,null,null,null,null,0,222]
[11,17347,21,17359,21,17365,null,null,null,null,0,122]
[22,17483,23,17491,23,17505,null,null,null,null,0,222]
[22,17618,23,17626,23,17633,null,null,null,null,0,222]
[11,17750,21,17759,21,17766,null,null,null,null,0,122]
[11,17872,21,17885,21,17891,null,null,null,null,0,122]
[22,18037,23,18044,23,18051,null,null,null,null,0,222]
[22,18155,23,18162,23,18171,null,null,null,null,0,222]
[22,18282,23,18289,23,18296,null,null,null,null,0,222]
[22,18411,23,18417,23,18424,null,null,null,null,0,222]
[22,18528,23,18540,23,18549,null,null,null,null,0,222]
[22,18655,23,18672,23,18679,null,null,null,null,0,222]
[22,18788,23,18794,23,18801,null,null,null,null,0,222]
[22,18904,23,18908,23,18916,null,null,null,null,0,222]
[11,19011,21,19020,21,19026,null,null,null,null,0,122]
[22,19194,23,19202,23,19209,null,null,null,null,0,222]
[22,19318,23,19323,23,19335,null,null,null,null,0,222]
[22,19441,23,19447,23,19457,null,null,null,null,0,222]
[22,19570,23,19577,23,19583,null,null,null,null,0,222]
[22,19687,23,19693,23,19700,null,null,null,null,0,222]
[22,19809,23,19816,23,19824,null,null,null,null,0,222]
[22,19931,23,19936,23,19944,null,null,null,null,0,222]
[22,20052,23,20059,23,20067,null,null,null,null,0,222]
[22,20177,23,20187,23,20195,null,null,null,null,0,222]
[22,20304,23,20311,23,20317,null,null,null,null,0,222]
[22,20422,23,20428,23,20435,null,null,null,null,0,222]
[22,20541,23,20547,23,20554,null,null,null,null,0,222]
[11,20653,21,20668,21,20678,null,null,null,null,0,122]
[22,20826,23,20836,23,20841,null,null,null,null,0,222]
[22,20945,23,20952,23,20958,null,null,null,null,0,222]
[11,21058,21,21072,21,21085,null,null,null,null,0,122]
[22,21211,23,21215,23,21221,null,null,null,null,0,222]
[22,21330,23,21337,23,21346,null,null,null,null,0,222]
[22,21451,23,21458,23,21465,null,null,null,null,0,222]
[22,21579,23,21581,23,21591,null,null,null,null,0,222]
[22,21697,23,21703,23,21709,null,null,null,null,0,222]
[22,21814,23,21827,23,21857,null,null,null,null,0,222]
[22,21967,23,21977,23,21984,null,null,null,null,0,222]
[11,22084,21,22096,21,22101,null,null,null,null,0,122]
[22,22240,23,22245,23,22250,null,null,null,null,0,222]
[11,22349,21,22371,21,22378,null,null,null,null,0,122]
[22,22490,23,22496,23,22502,null,null,null,null,0,222]
[22,22610,23,22617,23,22630,null,null,null,null,0,222]
[22,22739,23,22749,23,22754,null,null,null,null,0,222]
[22,22863,23,22872,23,22877,null,null,null,null,0,222]
[22,22986,23,22992,23,22999,null,null,null,null,0,222]
[11,23095,21,23108,21,23113,null,null,null,null,0,122]
[11,23278,21,23288,21,23297,null,null,null,null,0,122]
[22,23437,23,23449,23,23458,null,null,null,null,0,222]
[22,23566,23,23573,23,23581,null,null,null,null,0,222]
[22,23696,23,23706,23,23715,null,null,null,null,0,222]
[11,23811,21,23823,21,23832,null,null,null,null,0,122]
[11,23937,21,23954,21,23965,null,null,null,null,1,122]

{"sheet":"!LA07A02..Is","index":4,"n_rows":190,"n_cols":48,"rows_kept":190,"cut":false,"hidden":false,"merged":[[4,39,4,42],[5,39,5,40],[4,44,4,47],[5,44,5,45],[4,24,4,27],[5,24,5,25],[4,29,4,32],[5,29,5,30],[4,34,4,37],[5,34,5,35],[1,1,1,2],[5,13,5,14],[18,13,18,14],[19,13,19,14],[4,19,4,22],[5,19,5,20]]}
["Report for:!LA07A02..Is"]
["Date:","<date>"]
["Hen:","<hen>",null,null,null,"Correct Sequence",{"$f":"Start!J2","v":122},null,null,null,null,null,null,null,null,"Total Sequences in Data",{"$f":"4994-COUNTBLANK(L7:L5000)","v":184},null,null,null,null,"Total Sequences in Block Data",{"$f":"COUNTA(L7:L37)","v":31},null,null,null,"Total Sequences in Block Data",{"$f":"COUNTA(L38:L67)","v":30},null,null,null,"Total Sequences in Block Data",{"$f":"COUNTA(L68:L98)","v":31},null,null,null,"Total Sequences in Block Data",{"$f":"COUNTA(L99:L129)","v":31},null,null,null,"Total Sequences in Block Data",{"$f":"COUNTA(L130:L159)","v":30},null,null,null,"Total Sequences in Block Data",{"$f":"COUNTA(L160:L190)","v":31}]
[null,null,null,null,null,null,null,null,null,null,null,null,null,null,null,"Total Sequences in Summary",{"$f":"SUM(O7:O14)","v":184},null,null,null,null,"Total Sequences in Block Summary",{"$f":"SUM(U7:U14)","v":31},null,null,null,"Total Sequences in Block Summary",{"$f":"SUM(Z7:Z14)","v":30},null,null,null,"Total Sequences in Block Summary",{"$f":"SUM(AE7:AE14)","v":31},null,null,null,"Total Sequences in Block Summary",{"$f":"SUM(AJ7:AJ14)","v":31},null,null,null,"Total Sequences in Block Summary",{"$f":"SUM(AO7:AO14)","v":30},null,null,null,"Total Sequences in Block Summary",{"$f":"SUM(AT7:AT14)","v":31}]
[null,null,null,null,null,null,null,null,null,null,null,null,null,null,null,null,null,null,null,"Block 1",null,null,null,null,"Block 2",null,null,null,null,"Block 3",null,null,null,null,"Block 4",null,null,null,null,"Block 5",null,null,null,null,"Block 6"]
["Sequence\nComponent\n1","Time\n1","Sequence\nComponent\n2","Time\n2","Sequence\nComponent\n3","Time\n3","Sequence\nComponent\n4","Time\n4","Sequence\nComponent\n5","Time\n5","Correct?\n0=No 1=Yes","Sequence",null,"Frequency",null,"Relative Frequency","Variability",null,null,"Frequency",null,"Relative Frequency","Variability",null,"Frequency",null,"Relative Frequency","Variability",null,"Frequency",null,"Relative Frequency","Variability",null,"Frequency",null,"Relative Frequency","Variability",null,"Frequency",null,"Relative Frequency","Variability",null,"Frequency",null,"Relative Frequency","Variability"]
[22,25,14,37,14,46,null,null,null,null,0,211,null,111,{"$f":"COUNTIF($L$7:$L$500,N7)","v":0},{"$f":"O7/$Q$4","v":0},{"$f":"IF(P7=0,0,(P7*((LOG(P7))/LOG(2))))","v":0},null,null,{"$f":"N7","v":111},{"$f":"COUNTIF(L7:L37,T7)","v":0},{"$f":"U7/(W4-U10)","v":0},{"$f":"IF(V7=0,0,(V7*((LOG(V7))/LOG(2))))","v":0},null,{"$f":"N7","v":111},{"$f":"COUNTIF(L38:L67,Y7)","v":0},{"$f":"Z7/(AB4-Z10)","v":0},{"$f":"IF(AA7=0,0,(AA7*((LOG(AA7))/LOG(2))))","v":0},null,{"$f":"N7","v":111},{"$f":"COUNTIF(L68:L98,AD7)","v":0},{"$f":"AE7/(AG4-AE10)","v":0},{"$f":"IF(AF7=0,0,(AF7*((LOG(AF7))/LOG(2))))","v":0},null,{"$f":"N7","v":111},{"$f":"COUNTIF(L99:L129,AI7)","v":0},{"$f":"AJ7/(AL4-AJ10)","v":0},{"$f":"IF(AK7=0,0,(AK7*((LOG(AK7))/LOG(2))))","v":0},null,{"$f":"N7","v":111},{"$f":"COUNTIF(L130:L159,AN7)","v":0},{"$f":"AO7/(AQ4-AO10)","v":0},{"$f":"IF(AP7=0,0,(AP7*((LOG(AP7))/LOG(2))))","v":0},null,{"$f":"N7","v":111},{"$f":"COUNTIF(L160:L190,AS7)","v":0},{"$f":"AT7/(AV4-AT10)","v":0},{"$f":"IF(AU7=0,0,(AU7*((LOG(AU7))/LOG(2))))","v":0}]
[22,143,14,155,14,160,null,null,null,null,0,211,null,112,{"$f":"COUNTIF($L$7:$L$500,N8)","v":1},{"$f":"O8/$Q$4","v":5.434782608695652E-3},{"$f":"IF(P8=0,0,(P8*((LOG(P8))/LOG(2))))","v":-4.0888923674222893E-2},null,null,{"$f":"N8","v":112},{"$f":"COUNTIF(L7:L37,T8)","v":0},{"$f":"U8/(W4-U10)","v":0},{"$f":"IF(V8=0,0,(V8*((LOG(V8))/LOG(2))))","v":0},null,{"$f":"N8","v":112},{"$f":"COUNTIF(L38:L67,Y8)","v":0},{"$f":"Z8/(AB4-Z10)","v":0},{"$f":"IF(AA8=0,0,(AA8*((LOG(AA8))/LOG(2))))","v":0},null,{"$f":"N8","v":112},{"$f":"COUNTIF(L68:L98,AD8)","v":1},{"$f":"AE8/(AG4-AE10)","v":0.04},{"$f":"IF(AF8=0,0,(AF8*((LOG(AF8))/LOG(2))))","v":-0.18575424759098899},null,{"$f":"N8","v":112},{"$f":"COUNTIF(L99:L129,AI8)","v":0},{"$f":"AJ8/(AL4-AJ10)","v":0},{"$f":"IF(AK8=0,0,(AK8*((LOG(AK8))/LOG(2))))","v":0},null,{"$f":"N8","v":112},{"$f":"COUNTIF(L130:L159,AN8)","v":0},{"$f":"AO8/(AQ4-AO10)","v":0},{"$f":"IF(AP8=0,0,(AP8*((LOG(AP8))/LOG(2))))","v":0},null,{"$f":"N8","v":112},{"$f":"COUNTIF(L160:L190,AS8)","v":0},{"$f":"AT8/(AV4-AT10)","v":0},{"$f":"IF(AU8=0,0,(AU8*((LOG(AU8))/LOG(2))))","v":0}]
[22,255,14,267,14,272,null,null,null,null,0,211,null,121,{"$f":"COUNTIF($L$7:$L$500,N9)","v":0},{"$f":"O9/$Q$4","v":0},{"$f":"IF(P9=0,0,(P9*((LOG(P9))/LOG(2))))","v":0},null,null,{"$f":"N9","v":121},{"$f":"COUNTIF(L7:L37,T9)","v":0},{"$f":"U9/(W4-U10)","v":0},{"$f":"IF(V9=0,0,(V9*((LOG(V9))/LOG(2))))","v":0},null,{"$f":"N9","v":121},{"$f":"COUNTIF(L38:L67,Y9)","v":0},{"$f":"Z9/(AB4-Z10)","v":0},{"$f":"IF(AA9=0,0,(AA9*((LOG(AA9))/LOG(2))))","v":0},null,{"$f":"N9","v":121},{"$f":"COUNTIF(L68:L98,AD9)","v":0},{"$f":"AE9/(AG4-AE10)","v":0},{"$f":"IF(AF9=0,0,(AF9*((LOG(AF9))/LOG(2))))","v":0},null,{"$f":"N9","v":121},{"$f":"COUNTIF(L99:L129,AI9)","v":0},{"$f":"AJ9/(AL4-AJ10)","v":0},{"$f":"IF(AK9=0,0,(AK9*((LOG(AK9))/LOG(2))))","v":0},null,{"$f":"N9","v":121},{"$f":"COUNTIF(L130:L159,AN9)","v":0},{"$f":"AO9/(AQ4-AO10)","v":0},{"$f":"IF(AP9=0,0,(AP9*((LOG(AP9))/LOG(2))))","v":0},null,{"$f":"N9","v":121},{"$f":"COUNTIF(L160:L190,AS9)","v":0},{"$f":"AT9/(AV4-AT10)","v":0},{"$f":"IF(AU9=0,0,(AU9*((LOG(AU9))/LOG(2))))","v":0}]
[22,377,14,385,14,402,null,null,null,null,0,211,null,122,{"$f":"COUNTIF($L$7:$L$500,N10)","v":37},{"$f":"O10/$Q$4","v":0.20108695652173914},{"$f":"IF(P10=0,0,(P10*((LOG(P10))/LOG(2))))","v":-0.46533705350999099},null,null,{"$f":"N10","v":122},{"$f":"COUNTIF(L7:L37,T10)","v":7},null,null,null,{"$f":"N10","v":122},{"$f":"COUNTIF(L38:L67,Y10)","v":8},null,null,null,{"$f":"N10","v":122},{"$f":"COUNTIF(L68:L98,AD10)","v":6},null,null,null,{"$f":"N10","v":122},{"$f":"COUNTIF(L99:L129,AI10)","v":4},null,null,null,{"$f":"N10","v":122},{"$f":"COUNTIF(L130:L159,AN10)","v":9},null,null,null,{"$f":"N10","v":122},{"$f":"COUNTIF(L160:L190,AS10)","v":3}]
[22,494,23,499,23,506,null,null,null,null,0,222,null,211,{"$f":"COUNTIF($L$7:$L$500,N11)","v":5},{"$f":"O11/$Q$4","v":2.717391304347826E-2},{"$f":"IF(P11=0,0,(P11*((LOG(P11))/LOG(2))))","v":-0.14134874622743615},null,null,{"$f":"N11","v":211},{"$f":"COUNTIF(L7:L37,T11)","v":5},{"$f":"U11/(W4-U10)","v":0.20833333333333334},{"$f":"IF(V11=0,0,(V11*((LOG(V11))/LOG(2))))","v":-0.47146550121537367},null,{"$f":"N11","v":211},{"$f":"COUNTIF(L38:L67,Y11)","v":0},{"$f":"Z11/(AB4-Z10)","v":0},{"$f":"IF(AA11=0,0,(AA11*((LOG(AA11))/LOG(2))))","v":0},null,{"$f":"N11","v":211},{"$f":"COUNTIF(L68:L98,AD11)","v":0},{"$f":"AE11/(AG4-AE10)","v":0},{"$f":"IF(AF11=0,0,(AF11*((LOG(AF11))/LOG(2))))","v":0},null,{"$f":"N11","v":211},{"$f":"COUNTIF(L99:L129,AI11)","v":0},{"$f":"AJ11/(AL4-AJ10)","v":0},{"$f":"IF(AK11=0,0,(AK11*((LOG(AK11))/LOG(2))))","v":0},null,{"$f":"N11","v":211},{"$f":"COUNTIF(L130:L159,AN11)","v":0},{"$f":"AO11/(AQ4-AO10)","v":0},{"$f":"IF(AP11=0,0,(AP11*((LOG(AP11))/LOG(2))))","v":0},null,{"$f":"N11","v":211},{"$f":"COUNTIF(L160:L190,AS11)","v":0},{"$f":"AT11/(AV4-AT10)","v":0},{"$f":"IF(AU11=0,0,(AU11*((LOG(AU11))/LOG(2))))","v":0}]
[22,607,23,613,14,622,null,null,null,null,0,221,null,212,{"$f":"COUNTIF($L$7:$L$500,N12)","v":0},{"$f":"O12/$Q$4","v":0},{"$f":"IF(P12=0,0,(P12*((LOG(P12))/LOG(2))))","v":0},null,null,{"$f":"N12","v":212},{"$f":"COUNTIF(L7:L37,T12)","v":0},{"$f":"U12/(W4-U10)","v":0},{"$f":"IF(V12=0,0,(V12*((LOG(V12))/LOG(2))))","v":0},null,{"$f":"N12","v":212},{"$f":"COUNTIF(L38:L67,Y12)","v":0},{"$f":"Z12/(AB4-Z10)","v":0},{"$f":"IF(AA12=0,0,(AA12*((LOG(AA12))/LOG(2))))","v":0},null,{"$f":"N12","v":212},{"$f":"COUNTIF(L68:L98,AD12)","v":0},{"$f":"AE12/(AG4-AE10)","v":0},{"$f":"IF(AF12=0,0,(AF12*((LOG(AF12))/LOG(2))))","v":0},null,{"$f":"N12","v":212},{"$f":"COUNTIF(L99:L129,AI12)","v":0},{"$f":"AJ12/(AL4-AJ10)","v":0},{"$f":"IF(AK12=0,0,(AK12*((LOG(AK12))/LOG(2))))","v":0},null,{"$f":"N12","v":212},{"$f":"COUNTIF(L130:L159,AN12)","v":0},{"$f":"AO12/(AQ4-AO10)","v":0},{"$f":"IF(AP12=0,0,(AP12*((LOG(AP12))/LOG(2))))","v":0},null,{"$f":"N12","v":212},{"$f":"COUNTIF(L160:L190,AS12)","v":0},{"$f":"AT12/(AV4-AT10)","v":0},{"$f":"IF(AU12=0,0,(AU12*((LOG(AU12))/LOG(2))))","v":0}]
[22,722,14,731,14,741,null,null,null,null,0,211,null,221,{"$f":"COUNTIF($L$7:$L$500,N13)","v":1},{"$f":"O13/$Q$4","v":5.434782608695652E-3},{"$f":"IF(P13=0,0,(P13*((LOG(P13))/LOG(2))))","v":-4.0888923674222893E-2},null,null,{"$f":"N13","v":221},{"$f":"COUNTIF(L7:L37,T13)","v":1},{"$f":"U13/(W4-U10)","v":4.1666666666666664E-2},{"$f":"IF(V13=0,0,(V13*((LOG(V13))/LOG(2))))","v":-0.19104010419671485},null,{"$f":"N13","v":221},{"$f":"COUNTIF(L38:L67,Y13)","v":0},{"$f":"Z13/(AB4-Z10)","v":0},{"$f":"IF(AA13=0,0,(AA13*((LOG(AA13))/LOG(2))))","v":0},null,{"$f":"N13","v":221},{"$f":"COUNTIF(L68:L98,AD13)","v":0},{"$f":"AE13/(AG4-AE10)","v":0},{"$f":"IF(AF13=0,0,(AF13*((LOG(AF13))/LOG(2))))","v":0},null,{"$f":"N13","v":221},{"$f":"COUNTIF(L99:L129,AI13)","v":0},{"$f":"AJ13/(AL4-AJ10)","v":0},{"$f":"IF(AK13=0,0,(AK13*((LOG(AK13))/LOG(2))))","v":0},null,{"$f":"N13","v":221},{"$f":"COUNTIF(L130:L159,AN13)","v":0},{"$f":"AO13/(AQ4-AO10)","v":0},{"$f":"IF(AP13=0,0,(AP13*((LOG(AP13))/LOG(2))))","v":0},null,{"$f":"N13","v":221},{"$f":"COUNTIF(L160:L190,AS13)","v":0},{"$f":"AT13/(AV4-AT10)","v":0},{"$f":"IF(AU13=0,0,(AU13*((LOG(AU13))/LOG(2))))","v":0}]
[11,841,21,852,21,854,null,null,null,null,0,122,null,222,{"$f":"COUNTIF($L$7:$L$500,N14)","v":140},{"$f":"O14/$Q$4","v":0.76086956521739135},{"$f":"IF(P14=0,0,(P14*((LOG(P14))/LOG(2))))","v":-0.29999484497655698},null,null,{"$f":"N14","v":222},{"$f":"COUNTIF(L7:L37,T14)","v":18},{"$f":"U14/(W4-U10)","v":0.75},{"$f":"IF(V14=0,0,(V14*((LOG(V14))/LOG(2))))","v":-0.31127812445913283},null,{"$f":"N14","v":222},{"$f":"COUNTIF(L38:L67,Y14)","v":22},{"$f":"Z14/(AB4-Z10)","v":1},{"$f":"IF(AA14=0,0,(AA14*((LOG(AA14))/LOG(2))))","v":0},null,{"$f":"N14","v":222},{"$f":"COUNTIF(L68:L98,AD14)","v":24},{"$f":"AE14/(AG4-AE10)","v":0.96},{"$f":"IF(AF14=0,0,(AF14*((LOG(AF14))/LOG(2))))","v":-5.6537941491425818E-2},null,{"$f":"N14","v":222},{"$f":"COUNTIF(L99:L129,AI14)","v":27},{"$f":"AJ14/(AL4-AJ10)","v":1},{"$f":"IF(AK14=0,0,(AK14*((LOG(AK14))/LOG(2))))","v":0},null,{"$f":"N14","v":222},{"$f":"COUNTIF(L130:L159,AN14)","v":21},{"$f":"AO14/(AQ4-AO10)","v":1},{"$f":"IF(AP14=0,0,(AP14*((LOG(AP14))/LOG(2))))","v":0},null,{"$f":"N14","v":222},{"$f":"COUNTIF(L160:L190,AS14)","v":28},{"$f":"AT14/(AV4-AT10)","v":1},{"$f":"IF(AU14=0,0,(AU14*((LOG(AU14))/LOG(2))))","v":0}]
[22,1032,23,1041,23,1047,null,null,null,null,0,222,null,null,null,{"$f":"SUM(P7:P14)","v":1},{"$f":"-SUM(Q7:Q14)","v":0.98845849206242997},null,null,null,null,{"$f":"SUM(V7:V14)","v":1},{"$f":"-SUM(W7:W14)","v":0.97378372987122142},null,null,null,{"$f":"SUM(AA7:AA14)","v":1},{"$f":"-SUM(AB7:AB14)","v":0},null,null,null,{"$f":"SUM(AF7:AF14)","v":1},{"$f":"-SUM(AG7:AG14)","v":0.24229218908241482},null,null,null,{"$f":"SUM(AK7:AK14)","v":1},{"$f":"-SUM(AL7:AL14)","v":0},null,null,null,{"$f":"SUM(AP7:AP14)","v":1},{"$f":"-SUM(AQ7:AQ14)","v":0},null,null,null,{"$f":"SUM(AU7:AU14)","v":1},{"$f":"-SUM(AV7:AV14)","v":0}]
[11,1149,21,1159,21,1170,null,null,null,null,0,122,null,null,null,"U=",{"$f":"Q15/(LOG(Q4)/LOG(2))","v":0.13138171757416703},null,null,null,null,"U1=",{"$f":"W15/(LOG(W4)/LOG(2))","v":0.1965573564030163},null,null,null,"U2=",{"$f":"AB15/(LOG(AB4)/LOG(2))","v":0},null,null,null,"U3=",{"$f":"AG15/(LOG(AG4)/LOG(2))","v":4.8906457052262861E-2},null,null,null,"U4=",{"$f":"AL15/(LOG(AL4)/LOG(2))","v":0},null,null,null,"U5=",{"$f":"AQ15/(LOG(AQ4)/LOG(2))","v":0},null,null,null,"U6=",{"$f":"AV15/(LOG(AV4)/LOG(2))","v":0}]
[22,1315,23,1321,23,1327,null,null,null,null,0,222]
[22,1450,23,1455,23,1462,null,null,null,null,0,222]
[22,1562,23,1567,23,1573,null,null,null,null,0,222,null,"Total Target Seq"]
[22,1677,23,1681,23,1687,null,null,null,null,0,222,null,{"$f":"COUNTIF(L7:L190,G3)","v":37},null,31,30,31,31,30,31]
[11,1805,21,1815,21,1821,null,null,null,null,0,122,null,null,null,"% of reinforcement given in 6 equal intervals based on number of trials "]
[22,2001,23,2009,23,2016,null,null,null,null,0,222,null,null,null,"%_1","%_2","%_3","%_4","%_5","%_6"]
[22,2119,23,2123,23,2126,null,null,null,null,0,222,null,null,"target sequence",{"$f":"$G$3","v":122},{"$f":"$G$3","v":122},{"$f":"$G$3","v":122},{"$f":"$G$3","v":122},{"$f":"$G$3","v":122},{"$f":"$G$3","v":122}]
[22,2230,23,2233,23,2240,null,null,null,null,0,222,null,null,"total reinforcement",{"$f":"U10","v":7},{"$f":"Z10","v":8},{"$f":"AE10","v":6},{"$f":"AJ10","v":4},{"$f":"AO10","v":9},{"$f":"AT10","v":3}]
[22,2345,23,2348,23,2351,null,null,null,null,0,222,null,null,"% target"]
[11,2450,21,2462,21,2469,null,null,null,null,0,122,null,null,"CCRF"]
[22,2622,23,2626,23,2637,null,null,null,null,0,222,null,null,"% CCRf"]
[22,2741,23,2746,23,2752,null,null,null,null,0,222,null,null,"average response rate",{"$f":"F37/P20","v":125.90322580645162},{"$f":"(F67-F37)/Q20","v":127.33333333333333},{"$f":"(F98-F67)/R20","v":132.67741935483872},{"$f":"(F129-F98)/S20","v":138.51612903225808},{"$f":"(F159-F129)/T20","v":131.30000000000001},{"$f":"(F190-F159)/U20","v":124.25806451612904}]
[11,2848,21,2860,21,2865,null,null,null,null,0,122]
[11,2994,21,3006,21,3011,null,null,null,null,0,122]
[22,3182,23,3188,23,3196,null,null,null,null,0,222]
[22,3297,23,3304,23,3309,null,null,null,null,0,222]
[22,3412,23,3416,23,3424,null,null,null,null,0,222]
[22,3531,23,3534,23,3542,null,null,null,null,0,222]
[22,3646,23,3649,23,3656,null,null,null,null,0,222]
[11,3748,21,3760,21,3763,null,null,null,null,0,122]
[22,3884,23,3897,23,3903,null,null,null,null,0,222]
[22,4011,23,4026,23,4034,null,null,null,null,0,222]
[22,4150,23,4154,23,4160,null,null,null,null,0,222]
[22,4263,23,4269,23,4275,null,null,null,null,0,222]
[22,4378,23,4381,23,4386,null,null,null,null,0,222]
[22,4488,23,4494,23,4502,null,null,null,null,0,222]
[22,4626,23,4629,23,4633,null,null,null,null,0,222]
[11,4730,21,4738,21,4743,null,null,null,null,0,122]
[11,4873,21,4895,21,4898,null,null,null,null,0,122]
[11,5042,21,5053,21,5065,null,null,null,null,0,122]
[22,5216,23,5227,23,5235,null,null,null,null,0,222]
[22,5336,23,5340,23,5347,null,null,null,null,0,222]
[22,5454,23,5462,23,5470,null,null,null,null,0,222]
[22,5576,23,5579,23,5583,null,null,null,null,0,222]
[22,5688,23,5697,23,5704,null,null,null,null,0,222]
[11,5796,21,5806,21,5810,null,null,null,null,0,122]
[22,5926,23,5929,23,5937,null,null,null,null,0,222]
[22,6042,23,6046,23,6052,null,null,null,null,0,222]
[11,6147,21,6158,21,6162,null,null,null,null,0,122]
[11,6293,21,6308,21,6315,null,null,null,null,0,122]
[11,6435,21,6445,21,6450,null,null,null,null,0,122]
[22,6648,23,6655,23,6664,null,null,null,null,0,222]
[22,6770,23,6773,23,6780,null,null,null,null,0,222]
[22,6884,23,6888,23,6901,null,null,null,null,0,222]
[22,7011,23,7014,23,7020,null,null,null,null,0,222]
[22,7120,23,7125,23,7132,null,null,null,null,0,222]
[22,7236,23,7240,23,7248,null,null,null,null,0,222]
[22,7358,23,7362,23,7366,null,null,null,null,0,222]
[22,7471,23,7475,23,7489,null,null,null,null,0,222]
[11,7587,21,7596,21,7601,null,null,null,null,0,122]
[22,7710,23,7714,23,7723,null,null,null,null,0,222]
[22,7831,23,7835,23,7843,null,null,null,null,0,222]
[22,7947,23,7956,23,7964,null,null,null,null,0,222]
[11,8056,21,8070,21,8077,null,null,null,null,0,122]
[22,8231,23,8240,23,8248,null,null,null,null,0,222]
[22,8352,23,8360,23,8368,null,null,null,null,0,222]
[11,8513,21,8526,21,8532,null,null,null,null,0,122]
[22,8697,23,8703,23,8710,null,null,null,null,0,222]
[22,8820,23,8824,23,8830,null,null,null,null,0,222]
[22,8935,23,8939,23,8947,null,null,null,null,0,222]
[22,9053,23,9056,23,9061,null,null,null,null,0,222]
[22,9169,23,9175,23,9184,null,null,null,null,0,222]
[22,9287,23,9290,23,9298,null,null,null,null,0,222]
[22,9401,23,9405,23,9413,null,null,null,null,0,222]
[11,9508,21,9517,21,9521,null,null,null,null,0,122]
[22,9680,23,9690,23,9698,null,null,null,null,0,222]
[11,9797,21,9806,21,9810,null,null,null,null,0,122]
[22,9999,23,10003,23,10015,null,null,null,null,0,222]
[11,10107,21,10116,21,10120,null,null,null,null,0,122]
[22,10280,23,10285,23,10289,null,null,null,null,0,222]
[22,10393,23,10397,23,10406,null,null,null,null,0,222]
[11,10538,12,10543,23,10556,null,null,null,null,0,112]
[22,10662,23,10665,23,10673,null,null,null,null,0,222]
[22,10780,23,10792,23,10801,null,null,null,null,0,222]
[22,10909,23,10920,23,10929,null,null,null,null,0,222]
[22,11059,23,11063,23,11068,null,null,null,null,0,222]
[22,11174,23,11178,23,11189,null,null,null,null,0,222]
[11,11285,21,11294,21,11297,null,null,null,null,0,122]
[22,11454,23,11459,23,11466,null,null,null,null,0,222]
[22,11571,23,11574,23,11581,null,null,null,null,0,222]
[22,11684,23,11689,23,11706,null,null,null,null,0,222]
[22,11814,23,11824,23,11836,null,null,null,null,0,222]
[22,11939,23,11942,23,11946,null,null,null,null,0,222]
[22,12051,23,12056,23,12062,null,null,null,null,0,222]
[22,12170,23,12176,23,12183,null,null,null,null,0,222]
[22,12341,23,12346,23,12352,null,null,null,null,0,222]
[22,12455,23,12458,23,12465,null,null,null,null,0,222]
[22,12572,23,12575,23,12581,null,null,null,null,0,222]
[22,12687,23,12699,23,12706,null,null,null,null,0,222]
[22,12816,23,12830,23,12837,null,null,null,null,0,222]
[11,12936,21,12949,21,12955,null,null,null,null,0,122]
[22,13112,23,13122,23,13130,null,null,null,null,0,222]
[22,13234,23,13238,23,13246,null,null,null,null,0,222]
[22,13351,23,13355,23,13359,null,null,null,null,0,222]
[22,13470,23,13482,23,13489,null,null,null,null,0,222]
[11,13584,21,13599,21,13630,null,null,null,null,0,122]
[22,13833,23,13843,23,13851,null,null,null,null,0,222]
[22,13954,23,13957,23,13961,null,null,null,null,0,222]
[22,14068,23,14072,23,14081,null,null,null,null,0,222]
[22,14184,23,14188,23,14203,null,null,null,null,0,222]
[11,14299,21,14313,21,14325,null,null,null,null,0,122]
[22,14481,23,14485,23,14491,null,null,null,null,0,222]
[22,14591,23,14596,23,14608,null,null,null,null,0,222]
[22,14711,23,14714,23,14720,null,null,null,null,0,222]
[22,14821,23,14826,23,14830,null,null,null,null,0,222]
[22,14934,23,14937,23,14949,null,null,null,null,0,222]
[22,15055,23,15059,23,15067,null,null,null,null,0,222]
[22,15172,23,15178,23,15187,null,null,null,null,0,222]
[11,15509,21,15521,21,15531,null,null,null,null,0,122]
[22,15718,23,15731,23,15738,null,null,null,null,0,222]
[22,15842,23,15846,23,15858,null,null,null,null,0,222]
[22,15990,23,15994,23,16006,null,null,null,null,0,222]
[22,16111,23,16117,23,16130,null,null,null,null,0,222]
[22,16237,23,16243,23,16250,null,null,null,null,0,222]
[22,16356,23,16359,23,16365,null,null,null,null,0,222]
[11,16462,21,16475,21,16486,null,null,null,null,0,122]
[22,16639,23,16651,23,16659,null,null,null,null,0,222]
[22,16770,23,16781,23,16788,null,null,null,null,0,222]
[22,16897,23,16901,23,16909,null,null,null,null,0,222]
[22,17009,23,17013,23,17025,null,null,null,null,0,222]
[22,17128,23,17132,23,17143,null,null,null,null,0,222]
[22,17251,23,17254,23,17259,null,null,null,null,0,222]
[22,17363,23,17366,23,17370,null,null,null,null,0,222]
[11,17463,21,17474,21,17483,null,null,null,null,0,122]
[22,17641,23,17646,23,17658,null,null,null,null,0,222]
[22,17761,23,17765,23,17771,null,null,null,null,0,222]
[22,17874,23,17878,23,17886,null,null,null,null,0,222]
[22,17990,23,17994,23,18002,null,null,null,null,0,222]
[11,18094,21,18105,21,18108,null,null,null,null,0,122]
[22,18268,23,18276,23,18282,null,null,null,null,0,222]
[22,18387,23,18404,23,18411,null,null,null,null,0,222]
[22,18516,23,18523,23,18539,null,null,null,null,0,222]
[22,18646,23,18650,23,18656,null,null,null,null,0,222]
[11,18752,21,18765,21,18776,null,null,null,null,0,122]
[22,18921,23,18928,23,18934,null,null,null,null,0,222]
[11,19027,21,19039,21,19048,null,null,null,null,0,122]
[11,19176,21,19189,21,19193,null,null,null,null,0,122]
[22,19374,23,19378,23,19383,null,null,null,null,0,222]
[11,19481,21,19491,21,19497,null,null,null,null,0,122]
[11,19616,21,19626,21,19629,null,null,null,null,0,122]
[11,19769,21,19782,21,19787,null,null,null,null,0,122]
[22,19942,23,19952,23,19958,null,null,null,null,0,222]
[22,20062,23,20065,23,20069,null,null,null,null,0,222]
[11,20165,21,20176,21,20179,null,null,null,null,0,122]
[22,20331,23,20335,23,20347,null,null,null,null,0,222]
[22,20450,23,20454,23,20462,null,null,null,null,0,222]
[22,20568,23,20571,23,20575,null,null,null,null,0,222]
[11,20667,21,20679,21,20684,null,null,null,null,0,122]
[22,20830,23,20836,23,20848,null,null,null,null,0,222]
[22,20949,23,20962,23,20970,null,null,null,null,0,222]
[22,21074,23,21078,23,21090,null,null,null,null,0,222]
[22,21200,23,21204,23,21210,null,null,null,null,0,222]
[22,21312,23,21315,23,21319,null,null,null,null,0,222]
[22,21429,23,21437,23,21447,null,null,null,null,0,222]
[22,21548,23,21555,23,21562,null,null,null,null,0,222]
[22,21667,23,21670,23,21674,null,null,null,null,0,222]
[11,21770,21,21794,21,21801,null,null,null,null,0,122]
[22,21963,23,21968,23,21979,null,null,null,null,0,222]
[22,22085,23,22089,23,22096,null,null,null,null,0,222]
[22,22191,23,22196,23,22202,null,null,null,null,0,222]
[22,22308,23,22312,23,22315,null,null,null,null,0,222]
[22,22438,23,22442,23,22451,null,null,null,null,0,222]
[22,22563,23,22568,23,22574,null,null,null,null,0,222]
[22,22681,23,22686,23,22690,null,null,null,null,0,222]
[22,22796,23,22800,23,22803,null,null,null,null,0,222]
[22,22912,23,22918,23,22929,null,null,null,null,0,222]
[22,23034,23,23038,23,23041,null,null,null,null,0,222]
[22,23146,23,23150,23,23154,null,null,null,null,0,222]
[22,23263,23,23267,23,23277,null,null,null,null,0,222]
[22,23381,23,23392,23,23399,null,null,null,null,0,222]
[22,23507,23,23513,23,23519,null,null,null,null,0,222]
[22,23629,23,23634,23,23639,null,null,null,null,0,222]
[22,23793,23,23799,23,23811,null,null,null,null,0,222]
[22,23913,23,23916,23,23921,null,null,null,null,null,222]

{"sheet":"!LA08A02..Is","index":5,"n_rows":193,"n_cols":48,"rows_kept":193,"cut":false,"hidden":false,"merged":[[4,39,4,42],[5,39,5,40],[4,44,4,47],[5,44,5,45],[4,24,4,27],[5,24,5,25],[4,29,4,32],[5,29,5,30],[4,34,4,37],[5,34,5,35],[1,1,1,2],[5,13,5,14],[18,13,18,14],[19,13,19,14],[4,19,4,22],[5,19,5,20]]}
["Report for:!LA08A02..Is"]
["Date:","<date>"]
["Hen:","<hen>",null,null,null,"Correct Sequence",{"$f":"Start!J2","v":122},null,null,null,null,null,null,null,null,"Total Sequences in Data",{"$f":"4994-COUNTBLANK(L7:L5000)","v":187},null,null,null,null,"Total Sequences in Block Data",{"$f":"COUNTA(L7:L37)","v":31},null,null,null,"Total Sequences in Block Data",{"$f":"COUNTA(L38:L68)","v":31},null,null,null,"Total Sequences in Block Data",{"$f":"COUNTA(L69:L100)","v":32},null,null,null,"Total Sequences in Block Data",{"$f":"COUNTA(L101:L131)","v":31},null,null,null,"Total Sequences in Block Data",{"$f":"COUNTA(L132:L162)","v":31},null,null,null,"Total Sequences in Block Data",{"$f":"COUNTA(L163:L193)","v":31}]
[null,null,null,null,null,null,null,null,null,null,null,null,null,null,null,"Total Sequences in Summary",{"$f":"SUM(O7:O14)","v":187},null,null,null,null,"Total Sequences in Block Summary",{"$f":"SUM(U7:U14)","v":31},null,null,null,"Total Sequences in Block Summary",{"$f":"SUM(Z7:Z14)","v":31},null,null,null,"Total Sequences in Block Summary",{"$f":"SUM(AE7:AE14)","v":32},null,null,null,"Total Sequences in Block Summary",{"$f":"SUM(AJ7:AJ14)","v":31},null,null,null,"Total Sequences in Block Summary",{"$f":"SUM(AO7:AO14)","v":31},null,null,null,"Total Sequences in Block Summary",{"$f":"SUM(AT7:AT14)","v":31}]
[null,null,null,null,null,null,null,null,null,null,null,null,null,null,null,null,null,null,null,"Block 1",null,null,null,null,"Block 2",null,null,null,null,"Block 3",null,null,null,null,"Block 4",null,null,null,null,"Block 5",null,null,null,null,"Block 6"]
["Sequence\nComponent\n1","Time\n1","Sequence\nComponent\n2","Time\n2","Sequence\nComponent\n3","Time\n3","Sequence\nComponent\n4","Time\n4","Sequence\nComponent\n5","Time\n5","Correct?\n0=No 1=Yes","Sequence",null,"Frequency",null,"Relative Frequency","Variability",null,null,"Frequency",null,"Relative Frequency","Variability",null,"Frequency",null,"Relative Frequency","Variability",null,"Frequency",null,"Relative Frequency","Variability",null,"Frequency",null,"Relative Frequency","Variability",null,"Frequency",null,"Relative Frequency","Variability",null,"Frequency",null,"Relative Frequency","Variability"]
[22,13,23,19,23,24,null,null,null,null,0,222,null,111,{"$f":"COUNTIF($L$7:$L$500,N7)","v":0},{"$f":"O7/$Q$4","v":0},{"$f":"IF(P7=0,0,(P7*((LOG(P7))/LOG(2))))","v":0},null,null,{"$f":"N7","v":111},{"$f":"COUNTIF(L7:L37,T7)","v":0},{"$f":"U7/(W4-U10)","v":0},{"$f":"IF(V7=0,0,(V7*((LOG(V7))/LOG(2))))","v":0},null,{"$f":"N7","v":111},{"$f":"COUNTIF(L38:L68,Y7)","v":0},{"$f":"Z7/(AB4-Z10)","v":0},{"$f":"IF(AA7=0,0,(AA7*((LOG(AA7))/LOG(2))))","v":0},null,{"$f":"N7","v":111},{"$f":"COUNTIF(L69:L100,AD7)","v":0},{"$f":"AE7/(AG4-AE10)","v":0},{"$f":"IF(AF7=0,0,(AF7*((LOG(AF7))/LOG(2))))","v":0},null,{"$f":"N7","v":111},{"$f":"COUNTIF(L101:L131,AI7)","v":0},{"$f":"AJ7/(AL4-AJ10)","v":0},{"$f":"IF(AK7=0,0,(AK7*((LOG(AK7))/LOG(2))))","v":0},null,{"$f":"N7","v":111},{"$f":"COUNTIF(L132:L162,AN7)","v":0},{"$f":"AO7/(AQ4-AO10)","v":0},{"$f":"IF(AP7=0,0,(AP7*((LOG(AP7))/LOG(2))))","v":0},null,{"$f":"N7","v":111},{"$f":"COUNTIF(L163:L193,AS7)","v":0},{"$f":"AT7/(AV4-AT10)","v":0},{"$f":"IF(AU7=0,0,(AU7*((LOG(AU7))/LOG(2))))","v":0}]
[22,128,14,136,23,150,null,null,null,null,0,212,null,112,{"$f":"COUNTIF($L$7:$L$500,N8)","v":0},{"$f":"O8/$Q$4","v":0},{"$f":"IF(P8=0,0,(P8*((LOG(P8))/LOG(2))))","v":0},null,null,{"$f":"N8","v":112},{"$f":"COUNTIF(L7:L37,T8)","v":0},{"$f":"U8/(W4-U10)","v":0},{"$f":"IF(V8=0,0,(V8*((LOG(V8))/LOG(2))))","v":0},null,{"$f":"N8","v":112},{"$f":"COUNTIF(L38:L68,Y8)","v":0},{"$f":"Z8/(AB4-Z10)","v":0},{"$f":"IF(AA8=0,0,(AA8*((LOG(AA8))/LOG(2))))","v":0},null,{"$f":"N8","v":112},{"$f":"COUNTIF(L69:L100,AD8)","v":0},{"$f":"AE8/(AG4-AE10)","v":0},{"$f":"IF(AF8=0,0,(AF8*((LOG(AF8))/LOG(2))))","v":0},null,{"$f":"N8","v":112},{"$f":"COUNTIF(L101:L131,AI8)","v":0},{"$f":"AJ8/(AL4-AJ10)","v":0},{"$f":"IF(AK8=0,0,(AK8*((LOG(AK8))/LOG(2))))","v":0},null,{"$f":"N8","v":112},{"$f":"COUNTIF(L132:L162,AN8)","v":0},{"$f":"AO8/(AQ4-AO10)","v":0},{"$f":"IF(AP8=0,0,(AP8*((LOG(AP8))/LOG(2))))","v":0},null,{"$f":"N8","v":112},{"$f":"COUNTIF(L163:L193,AS8)","v":0},{"$f":"AT8/(AV4-AT10)","v":0},{"$f":"IF(AU8=0,0,(AU8*((LOG(AU8))/LOG(2))))","v":0}]
[11,266,21,274,21,278,null,null,null,null,0,122,null,121,{"$f":"COUNTIF($L$7:$L$500,N9)","v":0},{"$f":"O9/$Q$4","v":0},{"$f":"IF(P9=0,0,(P9*((LOG(P9))/LOG(2))))","v":0},null,null,{"$f":"N9","v":121},{"$f":"COUNTIF(L7:L37,T9)","v":0},{"$f":"U9/(W4-U10)","v":0},{"$f":"IF(V9=0,0,(V9*((LOG(V9))/LOG(2))))","v":0},null,{"$f":"N9","v":121},{"$f":"COUNTIF(L38:L68,Y9)","v":0},{"$f":"Z9/(AB4-Z10)","v":0},{"$f":"IF(AA9=0,0,(AA9*((LOG(AA9))/LOG(2))))","v":0},null,{"$f":"N9","v":121},{"$f":"COUNTIF(L69:L100,AD9)","v":0},{"$f":"AE9/(AG4-AE10)","v":0},{"$f":"IF(AF9=0,0,(AF9*((LOG(AF9))/LOG(2))))","v":0},null,{"$f":"N9","v":121},{"$f":"COUNTIF(L101:L131,AI9)","v":0},{"$f":"AJ9/(AL4-AJ10)","v":0},{"$f":"IF(AK9=0,0,(AK9*((LOG(AK9))/LOG(2))))","v":0},null,{"$f":"N9","v":121},{"$f":"COUNTIF(L132:L162,AN9)","v":0},{"$f":"AO9/(AQ4-AO10)","v":0},{"$f":"IF(AP9=0,0,(AP9*((LOG(AP9))/LOG(2))))","v":0},null,{"$f":"N9","v":121},{"$f":"COUNTIF(L163:L193,AS9)","v":0},{"$f":"AT9/(AV4-AT10)","v":0},{"$f":"IF(AU9=0,0,(AU9*((LOG(AU9))/LOG(2))))","v":0}]
[22,484,23,490,23,497,null,null,null,null,0,222,null,122,{"$f":"COUNTIF($L$7:$L$500,N10)","v":31},{"$f":"O10/$Q$4","v":0.16577540106951871},{"$f":"IF(P10=0,0,(P10*((LOG(P10))/LOG(2))))","v":-0.42980557558568772},null,null,{"$f":"N10","v":122},{"$f":"COUNTIF(L7:L37,T10)","v":7},null,null,null,{"$f":"N10","v":122},{"$f":"COUNTIF(L38:L68,Y10)","v":4},null,null,null,{"$f":"N10","v":122},{"$f":"COUNTIF(L69:L100,AD10)","v":3},null,null,null,{"$f":"N10","v":122},{"$f":"COUNTIF(L101:L131,AI10)","v":8},null,null,null,{"$f":"N10","v":122},{"$f":"COUNTIF(L132:L162,AN10)","v":5},null,null,null,{"$f":"N10","v":122},{"$f":"COUNTIF(L163:L193,AS10)","v":4}]
[22,604,23,613,23,618,null,null,null,null,0,222,null,211,{"$f":"COUNTIF($L$7:$L$500,N11)","v":0},{"$f":"O11/$Q$4","v":0},{"$f":"IF(P11=0,0,(P11*((LOG(P11))/LOG(2))))","v":0},null,null,{"$f":"N11","v":211},{"$f":"COUNTIF(L7:L37,T11)","v":0},{"$f":"U11/(W4-U10)","v":0},{"$f":"IF(V11=0,0,(V11*((LOG(V11))/LOG(2))))","v":0},null,{"$f":"N11","v":211},{"$f":"COUNTIF(L38:L68,Y11)","v":0},{"$f":"Z11/(AB4-Z10)","v":0},{"$f":"IF(AA11=0,0,(AA11*((LOG(AA11))/LOG(2))))","v":0},null,{"$f":"N11","v":211},{"$f":"COUNTIF(L69:L100,AD11)","v":0},{"$f":"AE11/(AG4-AE10)","v":0},{"$f":"IF(AF11=0,0,(AF11*((LOG(AF11))/LOG(2))))","v":0},null,{"$f":"N11","v":211},{"$f":"COUNTIF(L101:L131,AI11)","v":0},{"$f":"AJ11/(AL4-AJ10)","v":0},{"$f":"IF(AK11=0,0,(AK11*((LOG(AK11))/LOG(2))))","v":0},null,{"$f":"N11","v":211},{"$f":"COUNTIF(L132:L162,AN11)","v":0},{"$f":"AO11/(AQ4-AO10)","v":0},{"$f":"IF(AP11=0,0,(AP11*((LOG(AP11))/LOG(2))))","v":0},null,{"$f":"N11","v":211},{"$f":"COUNTIF(L163:L193,AS11)","v":0},{"$f":"AT11/(AV4-AT10)","v":0},{"$f":"IF(AU11=0,0,(AU11*((LOG(AU11))/LOG(2))))","v":0}]
[22,720,23,723,23,727,null,null,null,null,0,222,null,212,{"$f":"COUNTIF($L$7:$L$500,N12)","v":1},{"$f":"O12/$Q$4","v":5.3475935828877002E-3},{"$f":"IF(P12=0,0,(P12*((LOG(P12))/LOG(2))))","v":-4.0357724384425864E-2},null,null,{"$f":"N12","v":212},{"$f":"COUNTIF(L7:L37,T12)","v":1},{"$f":"U12/(W4-U10)","v":4.1666666666666664E-2},{"$f":"IF(V12=0,0,(V12*((LOG(V12))/LOG(2))))","v":-0.19104010419671485},null,{"$f":"N12","v":212},{"$f":"COUNTIF(L38:L68,Y12)","v":0},{"$f":"Z12/(AB4-Z10)","v":0},{"$f":"IF(AA12=0,0,(AA12*((LOG(AA12))/LOG(2))))","v":0},null,{"$f":"N12","v":212},{"$f":"COUNTIF(L69:L100,AD12)","v":0},{"$f":"AE12/(AG4-AE10)","v":0},{"$f":"IF(AF12=0,0,(AF12*((LOG(AF12))/LOG(2))))","v":0},null,{"$f":"N12","v":212},{"$f":"COUNTIF(L101:L131,AI12)","v":0},{"$f":"AJ12/(AL4-AJ10)","v":0},{"$f":"IF(AK12=0,0,(AK12*((LOG(AK12))/LOG(2))))","v":0},null,{"$f":"N12","v":212},{"$f":"COUNTIF(L132:L162,AN12)","v":0},{"$f":"AO12/(AQ4-AO10)","v":0},{"$f":"IF(AP12=0,0,(AP12*((LOG(AP12))/LOG(2))))","v":0},null,{"$f":"N12","v":212},{"$f":"COUNTIF(L163:L193,AS12)","v":0},{"$f":"AT12/(AV4-AT10)","v":0},{"$f":"IF(AU12=0,0,(AU12*((LOG(AU12))/LOG(2))))","v":0}]
[22,832,23,835,23,845,null,null,null,null,0,222,null,221,{"$f":"COUNTIF($L$7:$L$500,N13)","v":0},{"$f":"O13/$Q$4","v":0},{"$f":"IF(P13=0,0,(P13*((LOG(P13))/LOG(2))))","v":0},null,null,{"$f":"N13","v":221},{"$f":"COUNTIF(L7:L37,T13)","v":0},{"$f":"U13/(W4-U10)","v":0},{"$f":"IF(V13=0,0,(V13*((LOG(V13))/LOG(2))))","v":0},null,{"$f":"N13","v":221},{"$f":"COUNTIF(L38:L68,Y13)","v":0},{"$f":"Z13/(AB4-Z10)","v":0},{"$f":"IF(AA13=0,0,(AA13*((LOG(AA13))/LOG(2))))","v":0},null,{"$f":"N13","v":221},{"$f":"COUNTIF(L69:L100,AD13)","v":0},{"$f":"AE13/(AG4-AE10)","v":0},{"$f":"IF(AF13=0,0,(AF13*((LOG(AF13))/LOG(2))))","v":0},null,{"$f":"N13","v":221},{"$f":"COUNTIF(L101:L131,AI13)","v":0},{"$f":"AJ13/(AL4-AJ10)","v":0},{"$f":"IF(AK13=0,0,(AK13*((LOG(AK13))/LOG(2))))","v":0},null,{"$f":"N13","v":221},{"$f":"COUNTIF(L132:L162,AN13)","v":0},{"$f":"AO13/(AQ4-AO10)","v":0},{"$f":"IF(AP13=0,0,(AP13*((LOG(AP13))/LOG(2))))","v":0},null,{"$f":"N13","v":221},{"$f":"COUNTIF(L163:L193,AS13)","v":0},{"$f":"AT13/(AV4-AT10)","v":0},{"$f":"IF(AU13=0,0,(AU13*((LOG(AU13))/LOG(2))))","v":0}]
[22,953,23,957,23,964,null,null,null,null,0,222,null,222,{"$f":"COUNTIF($L$7:$L$500,N14)","v":155},{"$f":"O14/$Q$4","v":0.82887700534759357},{"$f":"IF(P14=0,0,(P14*((LOG(P14))/LOG(2))))","v":-0.22443507200575866},null,null,{"$f":"N14","v":222},{"$f":"COUNTIF(L7:L37,T14)","v":23},{"$f":"U14/(W4-U10)","v":0.95833333333333337},{"$f":"IF(V14=0,0,(V14*((LOG(V14))/LOG(2))))","v":-5.8842188636470616E-2},null,{"$f":"N14","v":222},{"$f":"COUNTIF(L38:L68,Y14)","v":27},{"$f":"Z14/(AB4-Z10)","v":1},{"$f":"IF(AA14=0,0,(AA14*((LOG(AA14))/LOG(2))))","v":0},null,{"$f":"N14","v":222},{"$f":"COUNTIF(L69:L100,AD14)","v":29},{"$f":"AE14/(AG4-AE10)","v":1},{"$f":"IF(AF14=0,0,(AF14*((LOG(AF14))/LOG(2))))","v":0},null,{"$f":"N14","v":222},{"$f":"COUNTIF(L101:L131,AI14)","v":23},{"$f":"AJ14/(AL4-AJ10)","v":1},{"$f":"IF(AK14=0,0,(AK14*((LOG(AK14))/LOG(2))))","v":0},null,{"$f":"N14","v":222},{"$f":"COUNTIF(L132:L162,AN14)","v":26},{"$f":"AO14/(AQ4-AO10)","v":1},{"$f":"IF(AP14=0,0,(AP14*((LOG(AP14))/LOG(2))))","v":0},null,{"$f":"N14","v":222},{"$f":"COUNTIF(L163:L193,AS14)","v":27},{"$f":"AT14/(AV4-AT10)","v":1},{"$f":"IF(AU14=0,0,(AU14*((LOG(AU14))/LOG(2))))","v":0}]
[22,1070,23,1075,23,1082,null,null,null,null,0,222,null,null,null,{"$f":"SUM(P7:P14)","v":1},{"$f":"-SUM(Q7:Q14)","v":0.69459837197587226},null,null,null,null,{"$f":"SUM(V7:V14)","v":1},{"$f":"-SUM(W7:W14)","v":0.24988229283318547},null,null,null,{"$f":"SUM(AA7:AA14)","v":1},{"$f":"-SUM(AB7:AB14)","v":0},null,null,null,{"$f":"SUM(AF7:AF14)","v":1},{"$f":"-SUM(AG7:AG14)","v":0},null,null,null,{"$f":"SUM(AK7:AK14)","v":1},{"$f":"-SUM(AL7:AL14)","v":0},null,null,null,{"$f":"SUM(AP7:AP14)","v":1},{"$f":"-SUM(AQ7:AQ14)","v":0},null,null,null,{"$f":"SUM(AU7:AU14)","v":1},{"$f":"-SUM(AV7:AV14)","v":0}]
[11,1178,21,1187,21,1189,null,null,null,null,0,122,null,null,null,"U=",{"$f":"Q15/(LOG(Q4)/LOG(2))","v":9.2037642194113034E-2},null,null,null,null,"U1=",{"$f":"W15/(LOG(W4)/LOG(2))","v":5.0438512561419284E-2},null,null,null,"U2=",{"$f":"AB15/(LOG(AB4)/LOG(2))","v":0},null,null,null,"U3=",{"$f":"AG15/(LOG(AG4)/LOG(2))","v":0},null,null,null,"U4=",{"$f":"AL15/(LOG(AL4)/LOG(2))","v":0},null,null,null,"U5=",{"$f":"AQ15/(LOG(AQ4)/LOG(2))","v":0},null,null,null,"U6=",{"$f":"AV15/(LOG(AV4)/LOG(2))","v":0}]
[22,1352,23,1356,23,1367,null,null,null,null,0,222]
[22,1490,23,1498,23,1506,null,null,null,null,0,222]
[22,1612,23,1616,23,1622,null,null,null,null,0,222,null,"Total Target Seq"]
[22,1730,23,1734,23,1741,null,null,null,null,0,222,null,{"$f":"COUNTIF(L7:L193,G3)","v":31},null,31,31,32,31,31,31]
[11,1836,21,1851,21,1857,null,null,null,null,0,122,null,null,null,"% of reinforcement given in 6 equal intervals based on number of trials "]
[22,2019,23,2024,23,2035,null,null,null,null,0,222,null,null,null,"%_1","%_2","%_3","%_4","%_5","%_6"]
[11,2129,21,2138,21,2142,null,null,null,null,0,122,null,null,"target sequence",{"$f":"$G$3","v":122},{"$f":"$G$3","v":122},{"$f":"$G$3","v":122},{"$f":"$G$3","v":122},{"$f":"$G$3","v":122},{"$f":"$G$3","v":122}]
[22,2270,23,2280,23,2288,null,null,null,null,0,222,null,null,"total reinforcement",{"$f":"U10","v":7},{"$f":"Z10","v":4},{"$f":"AE10","v":3},{"$f":"AJ10","v":8},{"$f":"AO10","v":5},{"$f":"AT10","v":4}]
[22,2389,23,2392,23,2400,null,null,null,null,0,222,null,null,"% target"]
[22,2502,23,2505,23,2509,null,null,null,null,0,222,null,null,"CCRF"]
[22,2612,23,2616,23,2625,null,null,null,null,0,222,null,null,"% CCRf"]
[11,2718,21,2726,21,2729,null,null,null,null,0,122,null,null,"average response rate",{"$f":"F37/P20","v":124.93548387096774},{"$f":"(F68-F37)/Q20","v":138.58064516129033},{"$f":"(F100-F68)/R20","v":124.8125},{"$f":"(F131-F100)/S20","v":126.2258064516129},{"$f":"(F162-F131)/T20","v":131.74193548387098},{"$f":"(F193-F162)/U20","v":123.70967741935483}]
[22,2855,23,2863,23,2870,null,null,null,null,0,222]
[22,2975,23,2979,23,2986,null,null,null,null,0,222]
[11,3082,21,3093,21,3099,null,null,null,null,0,122]
[22,3271,23,3281,23,3292,null,null,null,null,0,222]
[22,3396,23,3402,23,3409,null,null,null,null,0,222]
[22,3512,23,3521,23,3529,null,null,null,null,0,222]
[22,3630,23,3634,23,3645,null,null,null,null,0,222]
[22,3751,23,3757,23,3770,null,null,null,null,0,222]
[11,3862,21,3870,21,3873,null,null,null,null,0,122]
[22,4020,23,4025,23,4032,null,null,null,null,0,222]
[22,4137,23,4142,23,4148,null,null,null,null,0,222]
[22,4460,23,4463,23,4469,null,null,null,null,0,222]
[11,4565,21,4579,21,4587,null,null,null,null,0,122]
[22,4710,23,4713,23,4717,null,null,null,null,0,222]
[22,4822,23,4826,23,4834,null,null,null,null,0,222]
[22,5048,23,5052,23,5058,null,null,null,null,0,222]
[22,5163,23,5167,23,5174,null,null,null,null,0,222]
[22,5277,23,5281,23,5286,null,null,null,null,0,222]
[22,5388,23,5391,23,5400,null,null,null,null,0,222]
[22,5502,23,5506,23,5516,null,null,null,null,0,222]
[22,5625,23,5629,23,5635,null,null,null,null,0,222]
[11,5731,21,5740,21,5743,null,null,null,null,0,122]
[22,5944,23,5948,23,5955,null,null,null,null,0,222]
[22,6060,23,6066,23,6070,null,null,null,null,0,222]
[11,6195,21,6213,21,6219,null,null,null,null,0,122]
[22,6431,23,6436,23,6447,null,null,null,null,0,222]
[11,6539,21,6550,21,6556,null,null,null,null,0,122]
[22,6740,23,6744,23,6750,null,null,null,null,0,222]
[22,6856,23,6860,23,6869,null,null,null,null,0,222]
[22,6972,23,6983,23,6997,null,null,null,null,0,222]
[22,7098,23,7101,23,7105,null,null,null,null,0,222]
[22,7208,23,7212,23,7218,null,null,null,null,0,222]
[22,7339,23,7342,23,7351,null,null,null,null,0,222]
[22,7452,23,7455,23,7461,null,null,null,null,0,222]
[22,7564,23,7576,23,7585,null,null,null,null,0,222]
[22,7689,23,7693,23,7707,null,null,null,null,0,222]
[22,7811,23,7817,23,7822,null,null,null,null,0,222]
[22,7935,23,7939,23,7945,null,null,null,null,0,222]
[22,8046,23,8050,23,8056,null,null,null,null,0,222]
[22,8160,23,8163,23,8169,null,null,null,null,0,222]
[22,8270,23,8274,23,8281,null,null,null,null,0,222]
[11,8373,21,8384,21,8388,null,null,null,null,0,122]
[22,8609,23,8613,23,8618,null,null,null,null,0,222]
[22,8720,23,8724,23,8728,null,null,null,null,0,222]
[22,8833,23,8835,23,8846,null,null,null,null,0,222]
[11,8942,21,8951,21,8958,null,null,null,null,0,122]
[22,9124,23,9130,23,9141,null,null,null,null,0,222]
[22,9246,23,9250,23,9259,null,null,null,null,0,222]
[22,9365,23,9376,23,9384,null,null,null,null,0,222]
[22,9488,23,9494,23,9501,null,null,null,null,0,222]
[22,9602,23,9606,23,9611,null,null,null,null,0,222]
[11,9707,21,9717,21,9720,null,null,null,null,0,122]
[22,9882,23,9888,23,9895,null,null,null,null,0,222]
[22,9998,23,10005,23,10012,null,null,null,null,0,222]
[22,10117,23,10120,23,10124,null,null,null,null,0,222]
[22,10242,23,10246,23,10251,null,null,null,null,0,222]
[22,10355,23,10359,23,10365,null,null,null,null,0,222]
[22,10503,23,10506,23,10508,null,null,null,null,0,222]
[22,10613,23,10619,23,10631,null,null,null,null,0,222]
[22,10747,23,10751,23,10754,null,null,null,null,0,222]
[22,10858,23,10861,23,10865,null,null,null,null,0,222]
[22,10970,23,10973,23,10982,null,null,null,null,0,222]
[22,11087,23,11091,23,11096,null,null,null,null,0,222]
[22,11228,23,11232,23,11237,null,null,null,null,0,222]
[22,11339,23,11343,23,11347,null,null,null,null,0,222]
[22,11449,23,11453,23,11456,null,null,null,null,0,222]
[22,11558,23,11563,23,11568,null,null,null,null,0,222]
[22,11679,23,11683,23,11690,null,null,null,null,0,222]
[22,11798,23,11806,23,11813,null,null,null,null,0,222]
[22,11918,23,11924,23,11932,null,null,null,null,0,222]
[22,12034,23,12041,23,12047,null,null,null,null,0,222]
[22,12149,23,12152,23,12163,null,null,null,null,0,222]
[22,12266,23,12270,23,12280,null,null,null,null,0,222]
[22,12383,23,12389,23,12395,null,null,null,null,0,222]
[11,12492,21,12504,21,12508,null,null,null,null,0,122]
[22,12646,23,12655,23,12662,null,null,null,null,0,222]
[22,12766,23,12769,23,12773,null,null,null,null,0,222]
[11,12866,21,12877,21,12881,null,null,null,null,0,122]
[22,13044,23,13048,23,13057,null,null,null,null,0,222]
[22,13162,23,13166,23,13173,null,null,null,null,0,222]
[22,13285,23,13292,23,13299,null,null,null,null,0,222]
[11,13423,21,13435,21,13441,null,null,null,null,0,122]
[22,13583,23,13590,23,13598,null,null,null,null,0,222]
[22,13700,23,13703,23,13709,null,null,null,null,0,222]
[22,13811,23,13815,23,13821,null,null,null,null,0,222]
[22,13924,23,13927,23,13933,null,null,null,null,0,222]
[22,14035,23,14040,23,14045,null,null,null,null,0,222]
[22,14150,23,14153,23,14161,null,null,null,null,0,222]
[22,14264,23,14267,23,14273,null,null,null,null,0,222]
[22,14383,23,14387,23,14398,null,null,null,null,0,222]
[11,14490,21,14507,21,14514,null,null,null,null,0,122]
[22,14643,23,14650,23,14665,null,null,null,null,0,222]
[22,14772,23,14783,23,14791,null,null,null,null,0,222]
[22,14894,23,14897,23,14901,null,null,null,null,0,222]
[22,15006,23,15010,23,15017,null,null,null,null,0,222]
[22,15119,23,15123,23,15129,null,null,null,null,0,222]
[11,15221,21,15231,21,15235,null,null,null,null,0,122]
[22,15390,23,15403,23,15412,null,null,null,null,0,222]
[11,15509,21,15521,21,15524,null,null,null,null,0,122]
[22,15655,23,15660,23,15681,null,null,null,null,0,222]
[22,15791,23,15795,23,15802,null,null,null,null,0,222]
[11,15895,21,15905,21,15912,null,null,null,null,0,122]
[11,16052,21,16066,21,16076,null,null,null,null,0,122]
[11,16275,21,16284,21,16288,null,null,null,null,0,122]
[22,16476,23,16485,23,16491,null,null,null,null,0,222]
[11,16583,21,16598,21,16606,null,null,null,null,0,122]
[22,16777,23,16785,23,16793,null,null,null,null,0,222]
[22,16947,23,16950,23,16956,null,null,null,null,0,222]
[22,17058,23,17064,23,17072,null,null,null,null,0,222]
[22,17179,23,17194,23,17201,null,null,null,null,0,222]
[22,17303,23,17308,23,17313,null,null,null,null,0,222]
[22,17416,23,17419,23,17425,null,null,null,null,0,222]
[22,17527,23,17532,23,17538,null,null,null,null,0,222]
[22,17640,23,17645,23,17653,null,null,null,null,0,222]
[22,17769,23,17775,23,17782,null,null,null,null,0,222]
[22,17887,23,17897,23,17904,null,null,null,null,0,222]
[22,18007,23,18017,23,18026,null,null,null,null,0,222]
[22,18129,23,18134,23,18139,null,null,null,null,0,222]
[22,18277,23,18281,23,18285,null,null,null,null,0,222]
[11,18378,21,18386,21,18394,null,null,null,null,0,122]
[22,18525,23,18533,23,18543,null,null,null,null,0,222]
[22,18647,23,18651,23,18656,null,null,null,null,0,222]
[22,18757,23,18760,23,18763,null,null,null,null,0,222]
[22,18864,23,18869,23,18876,null,null,null,null,0,222]
[22,18980,23,18989,23,19002,null,null,null,null,0,222]
[22,19106,23,19110,23,19117,null,null,null,null,0,222]
[11,19212,21,19222,21,19225,null,null,null,null,0,122]
[22,19420,23,19426,23,19440,null,null,null,null,0,222]
[22,19542,23,19546,23,19550,null,null,null,null,0,222]
[22,19653,23,19657,23,19665,null,null,null,null,0,222]
[22,19782,23,19788,23,19795,null,null,null,null,0,222]
[22,19899,23,19902,23,19911,null,null,null,null,0,222]
[11,20007,21,20015,21,20020,null,null,null,null,0,122]
[22,20147,23,20152,23,20160,null,null,null,null,0,222]
[22,20265,23,20268,23,20280,null,null,null,null,0,222]
[22,20385,23,20389,23,20402,null,null,null,null,0,222]
[22,20507,23,20510,23,20520,null,null,null,null,0,222]
[22,20623,23,20626,23,20636,null,null,null,null,0,222]
[22,20737,23,20740,23,20744,null,null,null,null,0,222]
[11,20836,21,20845,21,20853,null,null,null,null,0,122]
[22,20987,23,20992,23,20997,null,null,null,null,0,222]
[22,21104,23,21108,23,21116,null,null,null,null,0,222]
[22,21219,23,21223,23,21229,null,null,null,null,0,222]
[22,21332,23,21335,23,21342,null,null,null,null,0,222]
[22,21447,23,21451,23,21457,null,null,null,null,0,222]
[22,21560,23,21563,23,21574,null,null,null,null,0,222]
[22,21681,23,21684,23,21699,null,null,null,null,0,222]
[22,21840,23,21844,23,21850,null,null,null,null,0,222]
[22,21953,23,21956,23,21975,null,null,null,null,0,222]
[22,22080,23,22084,23,22093,null,null,null,null,0,222]
[22,22196,23,22201,23,22209,null,null,null,null,0,222]
[22,22315,23,22319,23,22324,null,null,null,null,0,222]
[22,22427,23,22430,23,22436,null,null,null,null,0,222]
[22,22544,23,22549,23,22557,null,null,null,null,0,222]
[11,22655,21,22670,21,22677,null,null,null,null,0,122]
[22,22827,23,22830,23,22836,null,null,null,null,0,222]
[22,22939,23,22942,23,22953,null,null,null,null,0,222]
[22,23054,23,23060,23,23069,null,null,null,null,0,222]
[22,23172,23,23181,23,23189,null,null,null,null,0,222]
[22,23291,23,23296,23,23304,null,null,null,null,0,222]
[11,23422,21,23436,21,23452,null,null,null,null,0,122]
[22,23607,23,23612,23,23618,null,null,null,null,0,222]
[22,23722,23,23729,23,23736,null,null,null,null,0,222]
[11,23828,21,23838,21,23841,null,null,null,null,0,122]
[22,23975,23,23981,23,23995,null,null,null,null,null,222]

{"sheet":"!LA09922..Is","index":6,"n_rows":201,"n_cols":48,"rows_kept":201,"cut":false,"hidden":false,"merged":[[4,39,4,42],[5,39,5,40],[4,44,4,47],[5,44,5,45],[4,24,4,27],[5,24,5,25],[4,29,4,32],[5,29,5,30],[4,34,4,37],[5,34,5,35],[1,1,1,2],[5,13,5,14],[18,13,18,14],[19,13,19,14],[4,19,4,22],[5,19,5,20]]}
["Report for:!LA09922..Is"]
["Date:","<date>"]
["Hen:","<hen>",null,null,null,"Correct Sequence",{"$f":"Start!J2","v":122},null,null,null,null,null,null,null,null,"Total Sequences in Data",{"$f":"4994-COUNTBLANK(L7:L5000)","v":195},null,null,null,null,"Total Sequences in Block Data",{"$f":"COUNTA(L7:L39)","v":33},null,null,null,"Total Sequences in Block Data",{"$f":"COUNTA(L40:L71)","v":32},null,null,null,"Total Sequences in Block Data",{"$f":"COUNTA(L72:L104)","v":33},null,null,null,"Total Sequences in Block Data",{"$f":"COUNTA(L105:L136)","v":32},null,null,null,"Total Sequences in Block Data",{"$f":"COUNTA(L137:L169)","v":33},null,null,null,"Total Sequences in Block Data",{"$f":"COUNTA(L170:L201)","v":32}]
[null,null,null,null,null,null,null,null,null,null,null,null,null,null,null,"Total Sequences in Summary",{"$f":"SUM(O7:O14)","v":195},null,null,null,null,"Total Sequences in Block Summary",{"$f":"SUM(U7:U14)","v":33},null,null,null,"Total Sequences in Block Summary",{"$f":"SUM(Z7:Z14)","v":32},null,null,null,"Total Sequences in Block Summary",{"$f":"SUM(AE7:AE14)","v":33},null,null,null,"Total Sequences in Block Summary",{"$f":"SUM(AJ7:AJ14)","v":32},null,null,null,"Total Sequences in Block Summary",{"$f":"SUM(AO7:AO14)","v":33},null,null,null,"Total Sequences in Block Summary",{"$f":"SUM(AT7:AT14)","v":32}]
[null,null,null,null,null,null,null,null,null,null,null,null,null,null,null,null,null,null,null,"Block 1",null,null,null,null,"Block 2",null,null,null,null,"Block 3",null,null,null,null,"Block 4",null,null,null,null,"Block 5",null,null,null,null,"Block 6"]
["Sequence\nComponent\n1","Time\n1","Sequence\nComponent\n2","Time\n2","Sequence\nComponent\n3","Time\n3","Sequence\nComponent\n4","Time\n4","Sequence\nComponent\n5","Time\n5","Correct?\n0=No 1=Yes","Sequence",null,"Frequency",null,"Relative Frequency","Variability",null,null,"Frequency",null,"Relative Frequency","Variability",null,"Frequency",null,"Relative Frequency","Variability",null,"Frequency",null,"Relative Frequency","Variability",null,"Frequency",null,"Relative Frequency","Variability",null,"Frequency",null,"Relative Frequency","Variability",null,"Frequency",null,"Relative Frequency","Variability"]
[22,42,23,45,23,51,null,null,null,null,0,222,null,111,{"$f":"COUNTIF($L$7:$L$500,N7)","v":0},{"$f":"O7/$Q$4","v":0},{"$f":"IF(P7=0,0,(P7*((LOG(P7))/LOG(2))))","v":0},null,null,{"$f":"N7","v":111},{"$f":"COUNTIF(L7:L39,T7)","v":0},{"$f":"U7/(W4-U10)","v":0},{"$f":"IF(V7=0,0,(V7*((LOG(V7))/LOG(2))))","v":0},null,{"$f":"N7","v":111},{"$f":"COUNTIF(L40:L71,Y7)","v":0},{"$f":"Z7/(AB4-Z10)","v":0},{"$f":"IF(AA7=0,0,(AA7*((LOG(AA7))/LOG(2))))","v":0},null,{"$f":"N7","v":111},{"$f":"COUNTIF(L72:L104,AD7)","v":0},{"$f":"AE7/(AG4-AE10)","v":0},{"$f":"IF(AF7=0,0,(AF7*((LOG(AF7))/LOG(2))))","v":0},null,{"$f":"N7","v":111},{"$f":"COUNTIF(L105:L136,AI7)","v":0},{"$f":"AJ7/(AL4-AJ10)","v":0},{"$f":"IF(AK7=0,0,(AK7*((LOG(AK7))/LOG(2))))","v":0},null,{"$f":"N7","v":111},{"$f":"COUNTIF(L137:L169,AN7)","v":0},{"$f":"AO7/(AQ4-AO10)","v":0},{"$f":"IF(AP7=0,0,(AP7*((LOG(AP7))/LOG(2))))","v":0},null,{"$f":"N7","v":111},{"$f":"COUNTIF(L170:L201,AS7)","v":0},{"$f":"AT7/(AV4-AT10)","v":0},{"$f":"IF(AU7=0,0,(AU7*((LOG(AU7))/LOG(2))))","v":0}]
[22,153,14,162,23,176,null,null,null,null,0,212,null,112,{"$f":"COUNTIF($L$7:$L$500,N8)","v":0},{"$f":"O8/$Q$4","v":0},{"$f":"IF(P8=0,0,(P8*((LOG(P8))/LOG(2))))","v":0},null,null,{"$f":"N8","v":112},{"$f":"COUNTIF(L7:L39,T8)","v":0},{"$f":"U8/(W4-U10)","v":0},{"$f":"IF(V8=0,0,(V8*((LOG(V8))/LOG(2))))","v":0},null,{"$f":"N8","v":112},{"$f":"COUNTIF(L40:L71,Y8)","v":0},{"$f":"Z8/(AB4-Z10)","v":0},{"$f":"IF(AA8=0,0,(AA8*((LOG(AA8))/LOG(2))))","v":0},null,{"$f":"N8","v":112},{"$f":"COUNTIF(L72:L104,AD8)","v":0},{"$f":"AE8/(AG4-AE10)","v":0},{"$f":"IF(AF8=0,0,(AF8*((LOG(AF8))/LOG(2))))","v":0},null,{"$f":"N8","v":112},{"$f":"COUNTIF(L105:L136,AI8)","v":0},{"$f":"AJ8/(AL4-AJ10)","v":0},{"$f":"IF(AK8=0,0,(AK8*((LOG(AK8))/LOG(2))))","v":0},null,{"$f":"N8","v":112},{"$f":"COUNTIF(L137:L169,AN8)","v":0},{"$f":"AO8/(AQ4-AO10)","v":0},{"$f":"IF(AP8=0,0,(AP8*((LOG(AP8))/LOG(2))))","v":0},null,{"$f":"N8","v":112},{"$f":"COUNTIF(L170:L201,AS8)","v":0},{"$f":"AT8/(AV4-AT10)","v":0},{"$f":"IF(AU8=0,0,(AU8*((LOG(AU8))/LOG(2))))","v":0}]
[11,295,21,303,21,308,null,null,null,null,0,122,null,121,{"$f":"COUNTIF($L$7:$L$500,N9)","v":0},{"$f":"O9/$Q$4","v":0},{"$f":"IF(P9=0,0,(P9*((LOG(P9))/LOG(2))))","v":0},null,null,{"$f":"N9","v":121},{"$f":"COUNTIF(L7:L39,T9)","v":0},{"$f":"U9/(W4-U10)","v":0},{"$f":"IF(V9=0,0,(V9*((LOG(V9))/LOG(2))))","v":0},null,{"$f":"N9","v":121},{"$f":"COUNTIF(L40:L71,Y9)","v":0},{"$f":"Z9/(AB4-Z10)","v":0},{"$f":"IF(AA9=0,0,(AA9*((LOG(AA9))/LOG(2))))","v":0},null,{"$f":"N9","v":121},{"$f":"COUNTIF(L72:L104,AD9)","v":0},{"$f":"AE9/(AG4-AE10)","v":0},{"$f":"IF(AF9=0,0,(AF9*((LOG(AF9))/LOG(2))))","v":0},null,{"$f":"N9","v":121},{"$f":"COUNTIF(L105:L136,AI9)","v":0},{"$f":"AJ9/(AL4-AJ10)","v":0},{"$f":"IF(AK9=0,0,(AK9*((LOG(AK9))/LOG(2))))","v":0},null,{"$f":"N9","v":121},{"$f":"COUNTIF(L137:L169,AN9)","v":0},{"$f":"AO9/(AQ4-AO10)","v":0},{"$f":"IF(AP9=0,0,(AP9*((LOG(AP9))/LOG(2))))","v":0},null,{"$f":"N9","v":121},{"$f":"COUNTIF(L170:L201,AS9)","v":0},{"$f":"AT9/(AV4-AT10)","v":0},{"$f":"IF(AU9=0,0,(AU9*((LOG(AU9))/LOG(2))))","v":0}]
[22,545,23,551,23,556,null,null,null,null,0,222,null,122,{"$f":"COUNTIF($L$7:$L$500,N10)","v":26},{"$f":"O10/$Q$4","v":0.13333333333333333},{"$f":"IF(P10=0,0,(P10*((LOG(P10))/LOG(2))))","v":-0.3875854127478025},null,null,{"$f":"N10","v":122},{"$f":"COUNTIF(L7:L39,T10)","v":3},null,null,null,{"$f":"N10","v":122},{"$f":"COUNTIF(L40:L71,Y10)","v":4},null,null,null,{"$f":"N10","v":122},{"$f":"COUNTIF(L72:L104,AD10)","v":2},null,null,null,{"$f":"N10","v":122},{"$f":"COUNTIF(L105:L136,AI10)","v":4},null,null,null,{"$f":"N10","v":122},{"$f":"COUNTIF(L137:L169,AN10)","v":7},null,null,null,{"$f":"N10","v":122},{"$f":"COUNTIF(L170:L201,AS10)","v":6}]
[22,654,23,662,23,669,null,null,null,null,0,222,null,211,{"$f":"COUNTIF($L$7:$L$500,N11)","v":1},{"$f":"O11/$Q$4","v":5.1282051282051282E-3},{"$f":"IF(P11=0,0,(P11*((LOG(P11))/LOG(2))))","v":-3.9011950326921077E-2},null,null,{"$f":"N11","v":211},{"$f":"COUNTIF(L7:L39,T11)","v":0},{"$f":"U11/(W4-U10)","v":0},{"$f":"IF(V11=0,0,(V11*((LOG(V11))/LOG(2))))","v":0},null,{"$f":"N11","v":211},{"$f":"COUNTIF(L40:L71,Y11)","v":0},{"$f":"Z11/(AB4-Z10)","v":0},{"$f":"IF(AA11=0,0,(AA11*((LOG(AA11))/LOG(2))))","v":0},null,{"$f":"N11","v":211},{"$f":"COUNTIF(L72:L104,AD11)","v":1},{"$f":"AE11/(AG4-AE10)","v":3.2258064516129031E-2},{"$f":"IF(AF11=0,0,(AF11*((LOG(AF11))/LOG(2))))","v":-0.15981278420602821},null,{"$f":"N11","v":211},{"$f":"COUNTIF(L105:L136,AI11)","v":0},{"$f":"AJ11/(AL4-AJ10)","v":0},{"$f":"IF(AK11=0,0,(AK11*((LOG(AK11))/LOG(2))))","v":0},null,{"$f":"N11","v":211},{"$f":"COUNTIF(L137:L169,AN11)","v":0},{"$f":"AO11/(AQ4-AO10)","v":0},{"$f":"IF(AP11=0,0,(AP11*((LOG(AP11))/LOG(2))))","v":0},null,{"$f":"N11","v":211},{"$f":"COUNTIF(L170:L201,AS11)","v":0},{"$f":"AT11/(AV4-AT10)","v":0},{"$f":"IF(AU11=0,0,(AU11*((LOG(AU11))/LOG(2))))","v":0}]
[22,767,23,772,23,778,null,null,null,null,0,222,null,212,{"$f":"COUNTIF($L$7:$L$500,N12)","v":5},{"$f":"O12/$Q$4","v":2.564102564102564E-2},{"$f":"IF(P12=0,0,(P12*((LOG(P12))/LOG(2))))","v":-0.13552313381698072},null,null,{"$f":"N12","v":212},{"$f":"COUNTIF(L7:L39,T12)","v":1},{"$f":"U12/(W4-U10)","v":3.3333333333333333E-2},{"$f":"IF(V12=0,0,(V12*((LOG(V12))/LOG(2))))","v":-0.16356301985361729},null,{"$f":"N12","v":212},{"$f":"COUNTIF(L40:L71,Y12)","v":0},{"$f":"Z12/(AB4-Z10)","v":0},{"$f":"IF(AA12=0,0,(AA12*((LOG(AA12))/LOG(2))))","v":0},null,{"$f":"N12","v":212},{"$f":"COUNTIF(L72:L104,AD12)","v":1},{"$f":"AE12/(AG4-AE10)","v":3.2258064516129031E-2},{"$f":"IF(AF12=0,0,(AF12*((LOG(AF12))/LOG(2))))","v":-0.15981278420602821},null,{"$f":"N12","v":212},{"$f":"COUNTIF(L105:L136,AI12)","v":3},{"$f":"AJ12/(AL4-AJ10)","v":0.10714285714285714},{"$f":"IF(AK12=0,0,(AK12*((LOG(AK12))/LOG(2))))","v":-0.34525633085747659},null,{"$f":"N12","v":212},{"$f":"COUNTIF(L137:L169,AN12)","v":0},{"$f":"AO12/(AQ4-AO10)","v":0},{"$f":"IF(AP12=0,0,(AP12*((LOG(AP12))/LOG(2))))","v":0},null,{"$f":"N12","v":212},{"$f":"COUNTIF(L170:L201,AS12)","v":0},{"$f":"AT12/(AV4-AT10)","v":0},{"$f":"IF(AU12=0,0,(AU12*((LOG(AU12))/LOG(2))))","v":0}]
[22,883,23,898,23,906,null,null,null,null,0,222,null,221,{"$f":"COUNTIF($L$7:$L$500,N13)","v":1},{"$f":"O13/$Q$4","v":5.1282051282051282E-3},{"$f":"IF(P13=0,0,(P13*((LOG(P13))/LOG(2))))","v":-3.9011950326921077E-2},null,null,{"$f":"N13","v":221},{"$f":"COUNTIF(L7:L39,T13)","v":0},{"$f":"U13/(W4-U10)","v":0},{"$f":"IF(V13=0,0,(V13*((LOG(V13))/LOG(2))))","v":0},null,{"$f":"N13","v":221},{"$f":"COUNTIF(L40:L71,Y13)","v":0},{"$f":"Z13/(AB4-Z10)","v":0},{"$f":"IF(AA13=0,0,(AA13*((LOG(AA13))/LOG(2))))","v":0},null,{"$f":"N13","v":221},{"$f":"COUNTIF(L72:L104,AD13)","v":0},{"$f":"AE13/(AG4-AE10)","v":0},{"$f":"IF(AF13=0,0,(AF13*((LOG(AF13))/LOG(2))))","v":0},null,{"$f":"N13","v":221},{"$f":"COUNTIF(L105:L136,AI13)","v":1},{"$f":"AJ13/(AL4-AJ10)","v":3.5714285714285712E-2},{"$f":"IF(AK13=0,0,(AK13*((LOG(AK13))/LOG(2))))","v":-0.17169124721634299},null,{"$f":"N13","v":221},{"$f":"COUNTIF(L137:L169,AN13)","v":0},{"$f":"AO13/(AQ4-AO10)","v":0},{"$f":"IF(AP13=0,0,(AP13*((LOG(AP13))/LOG(2))))","v":0},null,{"$f":"N13","v":221},{"$f":"COUNTIF(L170:L201,AS13)","v":0},{"$f":"AT13/(AV4-AT10)","v":0},{"$f":"IF(AU13=0,0,(AU13*((LOG(AU13))/LOG(2))))","v":0}]
[22,1003,23,1010,23,1017,null,null,null,null,0,222,null,222,{"$f":"COUNTIF($L$7:$L$500,N14)","v":162},{"$f":"O14/$Q$4","v":0.83076923076923082},{"$f":"IF(P14=0,0,(P14*((LOG(P14))/LOG(2))))","v":-0.22221441210321907},null,null,{"$f":"N14","v":222},{"$f":"COUNTIF(L7:L39,T14)","v":29},{"$f":"U14/(W4-U10)","v":0.96666666666666667},{"$f":"IF(V14=0,0,(V14*((LOG(V14))/LOG(2))))","v":-4.727928046491485E-2},null,{"$f":"N14","v":222},{"$f":"COUNTIF(L40:L71,Y14)","v":28},{"$f":"Z14/(AB4-Z10)","v":1},{"$f":"IF(AA14=0,0,(AA14*((LOG(AA14))/LOG(2))))","v":0},null,{"$f":"N14","v":222},{"$f":"COUNTIF(L72:L104,AD14)","v":29},{"$f":"AE14/(AG4-AE10)","v":0.93548387096774188},{"$f":"IF(AF14=0,0,(AF14*((LOG(AF14))/LOG(2))))","v":-9.0007875565154577E-2},null,{"$f":"N14","v":222},{"$f":"COUNTIF(L105:L136,AI14)","v":24},{"$f":"AJ14/(AL4-AJ10)","v":0.8571428571428571},{"$f":"IF(AK14=0,0,(AK14*((LOG(AK14))/LOG(2))))","v":-0.19062207543124113},null,{"$f":"N14","v":222},{"$f":"COUNTIF(L137:L169,AN14)","v":26},{"$f":"AO14/(AQ4-AO10)","v":1},{"$f":"IF(AP14=0,0,(AP14*((LOG(AP14))/LOG(2))))","v":0},null,{"$f":"N14","v":222},{"$f":"COUNTIF(L170:L201,AS14)","v":26},{"$f":"AT14/(AV4-AT10)","v":1},{"$f":"IF(AU14=0,0,(AU14*((LOG(AU14))/LOG(2))))","v":0}]
[22,1117,23,1128,23,1135,null,null,null,null,0,222,null,null,null,{"$f":"SUM(P7:P14)","v":1},{"$f":"-SUM(Q7:Q14)","v":0.82334685932184448},null,null,null,null,{"$f":"SUM(V7:V14)","v":1},{"$f":"-SUM(W7:W14)","v":0.21084230031853213},null,null,null,{"$f":"SUM(AA7:AA14)","v":1},{"$f":"-SUM(AB7:AB14)","v":0},null,null,null,{"$f":"SUM(AF7:AF14)","v":1},{"$f":"-SUM(AG7:AG14)","v":0.40963344397721102},null,null,null,{"$f":"SUM(AK7:AK14)","v":1},{"$f":"-SUM(AL7:AL14)","v":0.70756965350506063},null,null,null,{"$f":"SUM(AP7:AP14)","v":1},{"$f":"-SUM(AQ7:AQ14)","v":0},null,null,null,{"$f":"SUM(AU7:AU14)","v":1},{"$f":"-SUM(AV7:AV14)","v":0}]
[22,1232,23,1235,23,1240,null,null,null,null,0,222,null,null,null,"U=",{"$f":"Q15/(LOG(Q4)/LOG(2))","v":0.1082307229165157},null,null,null,null,"U1=",{"$f":"W15/(LOG(W4)/LOG(2))","v":4.179734876571204E-2},null,null,null,"U2=",{"$f":"AB15/(LOG(AB4)/LOG(2))","v":0},null,null,null,"U3=",{"$f":"AG15/(LOG(AG4)/LOG(2))","v":8.1205677884127789E-2},null,null,null,"U4=",{"$f":"AL15/(LOG(AL4)/LOG(2))","v":0.14151393070101212},null,null,null,"U5=",{"$f":"AQ15/(LOG(AQ4)/LOG(2))","v":0},null,null,null,"U6=",{"$f":"AV15/(LOG(AV4)/LOG(2))","v":0}]
[22,1339,23,1344,23,1353,null,null,null,null,0,222]
[22,1453,23,1457,23,1463,null,null,null,null,0,222]
[11,1560,21,1570,21,1575,null,null,null,null,0,122,null,"Total Target Seq"]
[22,1809,23,1814,23,1823,null,null,null,null,0,222,null,{"$f":"COUNTIF(L7:L201,G3)","v":26},null,33,32,33,32,33,32]
[22,1929,23,1940,23,1949,null,null,null,null,0,222,null,null,null,"% of reinforcement given in 6 equal intervals based on number of trials "]
[22,2054,23,2062,23,2070,null,null,null,null,0,222,null,null,null,"%_1","%_2","%_3","%_4","%_5","%_6"]
[22,2174,23,2179,23,2185,null,null,null,null,0,222,null,null,"target sequence",{"$f":"$G$3","v":122},{"$f":"$G$3","v":122},{"$f":"$G$3","v":122},{"$f":"$G$3","v":122},{"$f":"$G$3","v":122},{"$f":"$G$3","v":122}]
[22,2290,23,2293,23,2301,null,null,null,null,0,222,null,null,"total reinforcement",{"$f":"U10","v":3},{"$f":"Z10","v":4},{"$f":"AE10","v":2},{"$f":"AJ10","v":4},{"$f":"AO10","v":7},{"$f":"AT10","v":6}]
[22,2399,23,2405,23,2411,null,null,null,null,0,222,null,null,"% target"]
[22,2510,23,2516,23,2524,null,null,null,null,0,222,null,null,"CCRF"]
[22,2627,23,2631,23,2639,null,null,null,null,0,222,null,null,"% CCRf"]
[22,2744,23,2749,23,2757,null,null,null,null,0,222,null,null,"average response rate",{"$f":"F39/P20","v":123.93939393939394},{"$f":"(F71-F39)/Q20","v":121.25},{"$f":"(F104-F71)/R20","v":119.12121212121212},{"$f":"(F136-F104)/S20","v":124.125},{"$f":"(F169-F136)/T20","v":118.87878787878788},{"$f":"(F201-F169)/U20","v":129.34375}]
[22,2868,23,2873,23,2882,null,null,null,null,0,222]
[22,2983,23,2986,23,2996,null,null,null,null,0,222]
[22,3097,23,3104,23,3109,null,null,null,null,0,222]
[22,3224,23,3227,23,3232,null,null,null,null,0,222]
[11,3325,21,3337,21,3351,null,null,null,null,0,122]
[22,3526,23,3529,23,3534,null,null,null,null,0,222]
[22,3637,23,3641,23,3644,null,null,null,null,0,222]
[22,3751,23,3755,23,3758,null,null,null,null,0,222]
[22,3864,23,3868,23,3875,null,null,null,null,0,222]
[22,3978,23,3982,23,3988,null,null,null,null,0,222]
[22,4080,23,4085,23,4090,null,null,null,null,0,222]
[22,4190,23,4195,23,4201,null,null,null,null,0,222]
[22,4307,23,4314,23,4322,null,null,null,null,0,222]
[22,4424,23,4430,23,4436,null,null,null,null,0,222]
[22,4541,23,4545,23,4551,null,null,null,null,0,222]
[22,4681,23,4684,23,4690,null,null,null,null,0,222]
[22,4794,23,4798,23,4803,null,null,null,null,0,222]
[22,4912,23,4916,23,4922,null,null,null,null,0,222]
[11,5014,21,5023,21,5027,null,null,null,null,0,122]
[22,5202,23,5206,23,5210,null,null,null,null,0,222]
[22,5311,23,5314,23,5320,null,null,null,null,0,222]
[22,5421,23,5426,23,5432,null,null,null,null,0,222]
[11,5525,21,5536,21,5540,null,null,null,null,0,122]
[22,5722,23,5726,23,5731,null,null,null,null,0,222]
[22,5833,23,5837,23,5841,null,null,null,null,0,222]
[22,5942,23,5946,23,5951,null,null,null,null,0,222]
[22,6051,23,6056,23,6068,null,null,null,null,0,222]
[22,6183,23,6186,23,6190,null,null,null,null,0,222]
[22,6290,23,6294,23,6299,null,null,null,null,0,222]
[22,6400,23,6404,23,6410,null,null,null,null,0,222]
[22,6519,23,6522,23,6534,null,null,null,null,0,222]
[22,6636,23,6638,23,6642,null,null,null,null,0,222]
[22,6741,23,6745,23,6751,null,null,null,null,0,222]
[11,6843,21,6851,21,6857,null,null,null,null,0,122]
[22,6975,23,6983,23,6990,null,null,null,null,0,222]
[22,7093,23,7096,23,7100,null,null,null,null,0,222]
[11,7193,21,7202,21,7209,null,null,null,null,0,122]
[22,7378,23,7383,23,7391,null,null,null,null,0,222]
[22,7493,23,7497,23,7507,null,null,null,null,0,222]
[22,7608,23,7611,23,7616,null,null,null,null,0,222]
[22,7721,23,7725,23,7729,null,null,null,null,0,222]
[22,7833,23,7848,23,7855,null,null,null,null,0,222]
[22,7958,23,7964,23,7970,null,null,null,null,0,222]
[22,8072,23,8076,23,8083,null,null,null,null,0,222]
[22,8187,23,8191,23,8194,null,null,null,null,0,222]
[22,8298,23,8303,23,8313,null,null,null,null,0,222]
[22,8416,23,8419,23,8423,null,null,null,null,0,222]
[22,8525,23,8528,23,8540,null,null,null,null,0,222]
[22,8661,14,8672,23,8683,null,null,null,null,0,212]
[22,8782,14,8794,14,8801,null,null,null,null,0,211]
[22,8904,23,8911,23,8915,null,null,null,null,0,222]
[22,9020,23,9025,23,9031,null,null,null,null,0,222]
[22,9135,23,9142,23,9150,null,null,null,null,0,222]
[22,9252,23,9255,23,9260,null,null,null,null,0,222]
[22,9363,23,9366,23,9374,null,null,null,null,0,222]
[22,9476,23,9479,23,9483,null,null,null,null,0,222]
[22,9582,23,9588,23,9595,null,null,null,null,0,222]
[22,9699,23,9702,23,9706,null,null,null,null,0,222]
[22,9808,23,9812,23,9818,null,null,null,null,0,222]
[22,9933,23,9940,23,9948,null,null,null,null,0,222]
[22,10053,23,10058,23,10068,null,null,null,null,0,222]
[22,10173,23,10176,23,10181,null,null,null,null,0,222]
[11,10273,21,10283,21,10286,null,null,null,null,0,122]
[22,10447,23,10451,23,10457,null,null,null,null,0,222]
[22,10570,23,10573,23,10577,null,null,null,null,0,222]
[22,10681,23,10686,23,10695,null,null,null,null,0,222]
[22,10797,23,10800,23,10804,null,null,null,null,0,222]
[22,10907,23,10910,23,10914,null,null,null,null,0,222]
[22,11025,23,11032,23,11039,null,null,null,null,0,222]
[22,11140,23,11145,23,11151,null,null,null,null,0,222]
[11,11264,21,11277,21,11281,null,null,null,null,0,122]
[22,11413,23,11416,23,11422,null,null,null,null,0,222]
[22,11534,23,11539,23,11547,null,null,null,null,0,222]
[22,11649,23,11653,23,11665,null,null,null,null,0,222]
[22,11770,23,11774,23,11781,null,null,null,null,0,222]
[22,11890,23,11893,23,11901,null,null,null,null,0,222]
[22,12004,23,12008,23,12017,null,null,null,null,0,222]
[11,12109,21,12117,21,12120,null,null,null,null,0,122]
[22,12273,23,12275,23,12282,null,null,null,null,0,222]
[22,12384,23,12387,23,12391,null,null,null,null,0,222]
[22,12496,23,12501,23,12504,null,null,null,null,0,222]
[22,12605,23,12608,23,12614,null,null,null,null,0,222]
[22,12717,23,12720,23,12727,null,null,null,null,0,222]
[22,12839,23,12846,23,12854,null,null,null,null,0,222]
[11,12964,21,12978,21,12984,null,null,null,null,0,122]
[22,13093,23,13099,23,13104,null,null,null,null,0,222]
[22,13207,23,13212,23,13218,null,null,null,null,0,222]
[22,13320,23,13325,23,13331,null,null,null,null,0,222]
[22,13458,14,13466,23,13479,null,null,null,null,0,212]
[22,13587,23,13594,23,13600,null,null,null,null,0,222]
[22,13713,23,13715,23,13721,null,null,null,null,0,222]
[22,13821,14,13835,23,13849,null,null,null,null,0,212]
[22,14104,23,14108,23,14118,null,null,null,null,0,222]
[11,14219,21,14229,21,14235,null,null,null,null,0,122]
[22,14371,23,14376,23,14383,null,null,null,null,0,222]
[22,14477,23,14481,23,14485,null,null,null,null,0,222]
[22,14584,23,14593,14,14604,null,null,null,null,0,221]
[22,14700,23,14707,23,14712,null,null,null,null,0,222]
[22,14812,23,14818,23,14824,null,null,null,null,0,222]
[22,14923,14,14933,23,14946,null,null,null,null,0,212]
[22,15049,23,15055,23,15061,null,null,null,null,0,222]
[11,15162,21,15170,21,15177,null,null,null,null,0,122]
[22,15303,23,15307,23,15314,null,null,null,null,0,222]
[22,15411,23,15414,23,15418,null,null,null,null,0,222]
[22,15520,23,15522,23,15525,null,null,null,null,0,222]
[22,15638,23,15643,23,15650,null,null,null,null,0,222]
[22,15753,23,15756,23,15761,null,null,null,null,0,222]
[22,15865,23,15869,23,15873,null,null,null,null,0,222]
[22,15976,23,15979,23,15985,null,null,null,null,0,222]
[22,16087,23,16092,23,16097,null,null,null,null,0,222]
[22,16198,23,16203,23,16212,null,null,null,null,0,222]
[22,16313,23,16316,23,16319,null,null,null,null,0,222]
[22,16422,23,16427,23,16432,null,null,null,null,0,222]
[11,16528,21,16537,21,16541,null,null,null,null,0,122]
[11,16650,21,16659,21,16661,null,null,null,null,0,122]
[22,16808,23,16812,23,16817,null,null,null,null,0,222]
[22,16922,23,16926,23,16932,null,null,null,null,0,222]
[22,17035,23,17039,23,17045,null,null,null,null,0,222]
[22,17149,23,17156,23,17163,null,null,null,null,0,222]
[22,17265,23,17268,23,17279,null,null,null,null,0,222]
[11,17370,21,17380,21,17383,null,null,null,null,0,122]
[22,17487,23,17492,23,17501,null,null,null,null,0,222]
[22,17604,23,17607,23,17614,null,null,null,null,0,222]
[22,17719,23,17723,23,17731,null,null,null,null,0,222]
[22,17832,23,17836,23,17844,null,null,null,null,0,222]
[22,17944,23,17947,23,17951,null,null,null,null,0,222]
[22,18051,23,18054,23,18059,null,null,null,null,0,222]
[11,18151,21,18161,21,18169,null,null,null,null,0,122]
[22,18285,23,18290,23,18294,null,null,null,null,0,222]
[11,18386,21,18395,21,18399,null,null,null,null,0,122]
[22,18520,23,18524,23,18531,null,null,null,null,0,222]
[22,18635,23,18638,23,18645,null,null,null,null,0,222]
[22,18747,23,18750,23,18767,null,null,null,null,0,222]
[22,18871,23,18875,23,18880,null,null,null,null,0,222]
[22,18985,23,18992,23,19000,null,null,null,null,0,222]
[22,19100,23,19104,23,19108,null,null,null,null,0,222]
[22,19209,23,19212,23,19216,null,null,null,null,0,222]
[11,19308,21,19321,21,19326,null,null,null,null,0,122]
[22,19483,23,19488,23,19493,null,null,null,null,0,222]
[11,19585,21,19594,21,19601,null,null,null,null,0,122]
[22,19780,23,19789,23,19796,null,null,null,null,0,222]
[22,19903,23,19908,23,19917,null,null,null,null,0,222]
[22,20026,23,20033,23,20042,null,null,null,null,0,222]
[11,20135,21,20147,21,20152,null,null,null,null,0,122]
[22,20274,23,20278,23,20282,null,null,null,null,0,222]
[11,20377,21,20387,21,20390,null,null,null,null,0,122]
[22,20539,23,20544,23,20551,null,null,null,null,0,222]
[22,20654,23,20659,23,20667,null,null,null,null,0,222]
[22,20772,23,20783,23,20792,null,null,null,null,0,222]
[22,20896,23,20903,23,20911,null,null,null,null,0,222]
[22,21014,23,21018,23,21024,null,null,null,null,0,222]
[11,21117,21,21125,21,21130,null,null,null,null,0,122]
[22,21296,23,21312,23,21320,null,null,null,null,0,222]
[22,21427,23,21431,23,21439,null,null,null,null,0,222]
[22,21590,23,21596,23,21602,null,null,null,null,0,222]
[22,21711,23,21714,23,21726,null,null,null,null,0,222]
[22,21827,23,21837,23,21851,null,null,null,null,0,222]
[22,21955,23,21961,23,21969,null,null,null,null,0,222]
[22,22076,23,22093,23,22100,null,null,null,null,0,222]
[22,22206,23,22218,23,22231,null,null,null,null,0,222]
[11,22331,21,22342,21,22351,null,null,null,null,0,122]
[22,22522,23,22525,23,22534,null,null,null,null,0,222]
[22,22636,23,22642,23,22648,null,null,null,null,0,222]
[22,22751,23,22757,23,22765,null,null,null,null,0,222]
[22,22872,23,22877,23,22885,null,null,null,null,0,222]
[22,22995,23,23009,23,23017,null,null,null,null,0,222]
[11,23119,21,23129,21,23133,null,null,null,null,0,122]
[22,23277,23,23286,23,23293,null,null,null,null,0,222]
[11,23395,21,23404,21,23409,null,null,null,null,0,122]
[22,23540,23,23545,23,23555,null,null,null,null,0,222]
[22,23662,23,23671,23,23680,null,null,null,null,0,222]
[22,23788,23,23796,23,23806,null,null,null,null,0,222]
[22,23908,23,23927,23,23935,null,null,null,null,null,222]

{"sheet":"!LA10B12..Is","index":7,"n_rows":133,"n_cols":48,"rows_kept":133,"cut":false,"hidden":false,"merged":[[4,39,4,42],[5,39,5,40],[4,44,4,47],[5,44,5,45],[4,24,4,27],[5,24,5,25],[4,29,4,32],[5,29,5,30],[4,34,4,37],[5,34,5,35],[1,1,1,2],[5,13,5,14],[18,13,18,14],[19,13,19,14],[4,19,4,22],[5,19,5,20]]}
["Report for:!LA10B12..Is"]
["Date:","<date>"]
["Hen:","<hen>",null,null,null,"Correct Sequence",{"$f":"Start!J2","v":122},null,null,null,null,null,null,null,null,"Total Sequences in Data",{"$f":"4994-COUNTBLANK(L7:L5000)","v":127},null,null,null,null,"Total Sequences in Block Data",{"$f":"COUNTA(L7:L27)","v":21},null,null,null,"Total Sequences in Block Data",{"$f":"COUNTA(L28:L48)","v":21},null,null,null,"Total Sequences in Block Data",{"$f":"COUNTA(L49:L70)","v":22},null,null,null,"Total Sequences in Block Data",{"$f":"COUNTA(L71:L91)","v":21},null,null,null,"Total Sequences in Block Data",{"$f":"COUNTA(L92:L112)","v":21},null,null,null,"Total Sequences in Block Data",{"$f":"COUNTA(L113:L133)","v":21}]
[null,null,null,null,null,null,null,null,null,null,null,null,null,null,null,"Total Sequences in Summary",{"$f":"SUM(O7:O14)","v":127},null,null,null,null,"Total Sequences in Block Summary",{"$f":"SUM(U7:U14)","v":21},null,null,null,"Total Sequences in Block Summary",{"$f":"SUM(Z7:Z14)","v":21},null,null,null,"Total Sequences in Block Summary",{"$f":"SUM(AE7:AE14)","v":22},null,null,null,"Total Sequences in Block Summary",{"$f":"SUM(AJ7:AJ14)","v":21},null,null,null,"Total Sequences in Block Summary",{"$f":"SUM(AO7:AO14)","v":21},null,null,null,"Total Sequences in Block Summary",{"$f":"SUM(AT7:AT14)","v":21}]
[null,null,null,null,null,null,null,null,null,null,null,null,null,null,null,null,null,null,null,"Block 1",null,null,null,null,"Block 2",null,null,null,null,"Block 3",null,null,null,null,"Block 4",null,null,null,null,"Block 5",null,null,null,null,"Block 6"]
["Sequence\nComponent\n1","Time\n1","Sequence\nComponent\n2","Time\n2","Sequence\nComponent\n3","Time\n3","Sequence\nComponent\n4","Time\n4","Sequence\nComponent\n5","Time\n5","Correct?\n0=No 1=Yes","Sequence",null,"Frequency",null,"Relative Frequency","Variability",null,null,"Frequency",null,"Relative Frequency","Variability",null,"Frequency",null,"Relative Frequency","Variability",null,"Frequency",null,"Relative Frequency","Variability",null,"Frequency",null,"Relative Frequency","Variability",null,"Frequency",null,"Relative Frequency","Variability",null,"Frequency",null,"Relative Frequency","Variability"]
[11,144,12,155,14,162,null,null,null,null,0,111,null,111,{"$f":"COUNTIF($L$7:$L$500,N7)","v":127},{"$f":"O7/$Q$4","v":1},{"$f":"IF(P7=0,0,(P7*((LOG(P7))/LOG(2))))","v":0},null,null,{"$f":"N7","v":111},{"$f":"COUNTIF(L7:L27,T7)","v":21},{"$f":"U7/(W4-U10)","v":1},{"$f":"IF(V7=0,0,(V7*((LOG(V7))/LOG(2))))","v":0},null,{"$f":"N7","v":111},{"$f":"COUNTIF(L28:L48,Y7)","v":21},{"$f":"Z7/(AB4-Z10)","v":1},{"$f":"IF(AA7=0,0,(AA7*((LOG(AA7))/LOG(2))))","v":0},null,{"$f":"N7","v":111},{"$f":"COUNTIF(L49:L70,AD7)","v":22},{"$f":"AE7/(AG4-AE10)","v":1},{"$f":"IF(AF7=0,0,(AF7*((LOG(AF7))/LOG(2))))","v":0},null,{"$f":"N7","v":111},{"$f":"COUNTIF(L71:L91,AI7)","v":21},{"$f":"AJ7/(AL4-AJ10)","v":1},{"$f":"IF(AK7=0,0,(AK7*((LOG(AK7))/LOG(2))))","v":0},null,{"$f":"N7","v":111},{"$f":"COUNTIF(L92:L112,AN7)","v":21},{"$f":"AO7/(AQ4-AO10)","v":1},{"$f":"IF(AP7=0,0,(AP7*((LOG(AP7))/LOG(2))))","v":0},null,{"$f":"N7","v":111},{"$f":"COUNTIF(L113:L133,AS7)","v":21},{"$f":"AT7/(AV4-AT10)","v":1},{"$f":"IF(AU7=0,0,(AU7*((LOG(AU7))/LOG(2))))","v":0}]
[11,282,12,310,14,342,null,null,null,null,0,111,null,112,{"$f":"COUNTIF($L$7:$L$500,N8)","v":0},{"$f":"O8/$Q$4","v":0},{"$f":"IF(P8=0,0,(P8*((LOG(P8))/LOG(2))))","v":0},null,null,{"$f":"N8","v":112},{"$f":"COUNTIF(L7:L27,T8)","v":0},{"$f":"U8/(W4-U10)","v":0},{"$f":"IF(V8=0,0,(V8*((LOG(V8))/LOG(2))))","v":0},null,{"$f":"N8","v":112},{"$f":"COUNTIF(L28:L48,Y8)","v":0},{"$f":"Z8/(AB4-Z10)","v":0},{"$f":"IF(AA8=0,0,(AA8*((LOG(AA8))/LOG(2))))","v":0},null,{"$f":"N8","v":112},{"$f":"COUNTIF(L49:L70,AD8)","v":0},{"$f":"AE8/(AG4-AE10)","v":0},{"$f":"IF(AF8=0,0,(AF8*((LOG(AF8))/LOG(2))))","v":0},null,{"$f":"N8","v":112},{"$f":"COUNTIF(L71:L91,AI8)","v":0},{"$f":"AJ8/(AL4-AJ10)","v":0},{"$f":"IF(AK8=0,0,(AK8*((LOG(AK8))/LOG(2))))","v":0},null,{"$f":"N8","v":112},{"$f":"COUNTIF(L92:L112,AN8)","v":0},{"$f":"AO8/(AQ4-AO10)","v":0},{"$f":"IF(AP8=0,0,(AP8*((LOG(AP8))/LOG(2))))","v":0},null,{"$f":"N8","v":112},{"$f":"COUNTIF(L113:L133,AS8)","v":0},{"$f":"AT8/(AV4-AT10)","v":0},{"$f":"IF(AU8=0,0,(AU8*((LOG(AU8))/LOG(2))))","v":0}]
[11,462,12,467,14,473,null,null,null,null,0,111,null,121,{"$f":"COUNTIF($L$7:$L$500,N9)","v":0},{"$f":"O9/$Q$4","v":0},{"$f":"IF(P9=0,0,(P9*((LOG(P9))/LOG(2))))","v":0},null,null,{"$f":"N9","v":121},{"$f":"COUNTIF(L7:L27,T9)","v":0},{"$f":"U9/(W4-U10)","v":0},{"$f":"IF(V9=0,0,(V9*((LOG(V9))/LOG(2))))","v":0},null,{"$f":"N9","v":121},{"$f":"COUNTIF(L28:L48,Y9)","v":0},{"$f":"Z9/(AB4-Z10)","v":0},{"$f":"IF(AA9=0,0,(AA9*((LOG(AA9))/LOG(2))))","v":0},null,{"$f":"N9","v":121},{"$f":"COUNTIF(L49:L70,AD9)","v":0},{"$f":"AE9/(AG4-AE10)","v":0},{"$f":"IF(AF9=0,0,(AF9*((LOG(AF9))/LOG(2))))","v":0},null,{"$f":"N9","v":121},{"$f":"COUNTIF(L71:L91,AI9)","v":0},{"$f":"AJ9/(AL4-AJ10)","v":0},{"$f":"IF(AK9=0,0,(AK9*((LOG(AK9))/LOG(2))))","v":0},null,{"$f":"N9","v":121},{"$f":"COUNTIF(L92:L112,AN9)","v":0},{"$f":"AO9/(AQ4-AO10)","v":0},{"$f":"IF(AP9=0,0,(AP9*((LOG(AP9))/LOG(2))))","v":0},null,{"$f":"N9","v":121},{"$f":"COUNTIF(L113:L133,AS9)","v":0},{"$f":"AT9/(AV4-AT10)","v":0},{"$f":"IF(AU9=0,0,(AU9*((LOG(AU9))/LOG(2))))","v":0}]
[11,596,12,605,14,611,null,null,null,null,0,111,null,122,{"$f":"COUNTIF($L$7:$L$500,N10)","v":0},{"$f":"O10/$Q$4","v":0},{"$f":"IF(P10=0,0,(P10*((LOG(P10))/LOG(2))))","v":0},null,null,{"$f":"N10","v":122},{"$f":"COUNTIF(L7:L27,T10)","v":0},null,null,null,{"$f":"N10","v":122},{"$f":"COUNTIF(L28:L48,Y10)","v":0},null,null,null,{"$f":"N10","v":122},{"$f":"COUNTIF(L49:L70,AD10)","v":0},null,null,null,{"$f":"N10","v":122},{"$f":"COUNTIF(L71:L91,AI10)","v":0},null,null,null,{"$f":"N10","v":122},{"$f":"COUNTIF(L92:L112,AN10)","v":0},null,null,null,{"$f":"N10","v":122},{"$f":"COUNTIF(L113:L133,AS10)","v":0}]
[11,712,12,743,14,785,null,null,null,null,0,111,null,211,{"$f":"COUNTIF($L$7:$L$500,N11)","v":0},{"$f":"O11/$Q$4","v":0},{"$f":"IF(P11=0,0,(P11*((LOG(P11))/LOG(2))))","v":0},null,null,{"$f":"N11","v":211},{"$f":"COUNTIF(L7:L27,T11)","v":0},{"$f":"U11/(W4-U10)","v":0},{"$f":"IF(V11=0,0,(V11*((LOG(V11))/LOG(2))))","v":0},null,{"$f":"N11","v":211},{"$f":"COUNTIF(L28:L48,Y11)","v":0},{"$f":"Z11/(AB4-Z10)","v":0},{"$f":"IF(AA11=0,0,(AA11*((LOG(AA11))/LOG(2))))","v":0},null,{"$f":"N11","v":211},{"$f":"COUNTIF(L49:L70,AD11)","v":0},{"$f":"AE11/(AG4-AE10)","v":0},{"$f":"IF(AF11=0,0,(AF11*((LOG(AF11))/LOG(2))))","v":0},null,{"$f":"N11","v":211},{"$f":"COUNTIF(L71:L91,AI11)","v":0},{"$f":"AJ11/(AL4-AJ10)","v":0},{"$f":"IF(AK11=0,0,(AK11*((LOG(AK11))/LOG(2))))","v":0},null,{"$f":"N11","v":211},{"$f":"COUNTIF(L92:L112,AN11)","v":0},{"$f":"AO11/(AQ4-AO10)","v":0},{"$f":"IF(AP11=0,0,(AP11*((LOG(AP11))/LOG(2))))","v":0},null,{"$f":"N11","v":211},{"$f":"COUNTIF(L113:L133,AS11)","v":0},{"$f":"AT11/(AV4-AT10)","v":0},{"$f":"IF(AU11=0,0,(AU11*((LOG(AU11))/LOG(2))))","v":0}]
[11,901,12,937,14,984,null,null,null,null,0,111,null,212,{"$f":"COUNTIF($L$7:$L$500,N12)","v":0},{"$f":"O12/$Q$4","v":0},{"$f":"IF(P12=0,0,(P12*((LOG(P12))/LOG(2))))","v":0},null,null,{"$f":"N12","v":212},{"$f":"COUNTIF(L7:L27,T12)","v":0},{"$f":"U12/(W4-U10)","v":0},{"$f":"IF(V12=0,0,(V12*((LOG(V12))/LOG(2))))","v":0},null,{"$f":"N12","v":212},{"$f":"COUNTIF(L28:L48,Y12)","v":0},{"$f":"Z12/(AB4-Z10)","v":0},{"$f":"IF(AA12=0,0,(AA12*((LOG(AA12))/LOG(2))))","v":0},null,{"$f":"N12","v":212},{"$f":"COUNTIF(L49:L70,AD12)","v":0},{"$f":"AE12/(AG4-AE10)","v":0},{"$f":"IF(AF12=0,0,(AF12*((LOG(AF12))/LOG(2))))","v":0},null,{"$f":"N12","v":212},{"$f":"COUNTIF(L71:L91,AI12)","v":0},{"$f":"AJ12/(AL4-AJ10)","v":0},{"$f":"IF(AK12=0,0,(AK12*((LOG(AK12))/LOG(2))))","v":0},null,{"$f":"N12","v":212},{"$f":"COUNTIF(L92:L112,AN12)","v":0},{"$f":"AO12/(AQ4-AO10)","v":0},{"$f":"IF(AP12=0,0,(AP12*((LOG(AP12))/LOG(2))))","v":0},null,{"$f":"N12","v":212},{"$f":"COUNTIF(L113:L133,AS12)","v":0},{"$f":"AT12/(AV4-AT10)","v":0},{"$f":"IF(AU12=0,0,(AU12*((LOG(AU12))/LOG(2))))","v":0}]
[11,1108,12,1114,14,1173,null,null,null,null,0,111,null,221,{"$f":"COUNTIF($L$7:$L$500,N13)","v":0},{"$f":"O13/$Q$4","v":0},{"$f":"IF(P13=0,0,(P13*((LOG(P13))/LOG(2))))","v":0},null,null,{"$f":"N13","v":221},{"$f":"COUNTIF(L7:L27,T13)","v":0},{"$f":"U13/(W4-U10)","v":0},{"$f":"IF(V13=0,0,(V13*((LOG(V13))/LOG(2))))","v":0},null,{"$f":"N13","v":221},{"$f":"COUNTIF(L28:L48,Y13)","v":0},{"$f":"Z13/(AB4-Z10)","v":0},{"$f":"IF(AA13=0,0,(AA13*((LOG(AA13))/LOG(2))))","v":0},null,{"$f":"N13","v":221},{"$f":"COUNTIF(L49:L70,AD13)","v":0},{"$f":"AE13/(AG4-AE10)","v":0},{"$f":"IF(AF13=0,0,(AF13*((LOG(AF13))/LOG(2))))","v":0},null,{"$f":"N13","v":221},{"$f":"COUNTIF(L71:L91,AI13)","v":0},{"$f":"AJ13/(AL4-AJ10)","v":0},{"$f":"IF(AK13=0,0,(AK13*((LOG(AK13))/LOG(2))))","v":0},null,{"$f":"N13","v":221},{"$f":"COUNTIF(L92:L112,AN13)","v":0},{"$f":"AO13/(AQ4-AO10)","v":0},{"$f":"IF(AP13=0,0,(AP13*((LOG(AP13))/LOG(2))))","v":0},null,{"$f":"N13","v":221},{"$f":"COUNTIF(L113:L133,AS13)","v":0},{"$f":"AT13/(AV4-AT10)","v":0},{"$f":"IF(AU13=0,0,(AU13*((LOG(AU13))/LOG(2))))","v":0}]
[11,1315,12,1344,14,1381,null,null,null,null,0,111,null,222,{"$f":"COUNTIF($L$7:$L$500,N14)","v":0},{"$f":"O14/$Q$4","v":0},{"$f":"IF(P14=0,0,(P14*((LOG(P14))/LOG(2))))","v":0},null,null,{"$f":"N14","v":222},{"$f":"COUNTIF(L7:L27,T14)","v":0},{"$f":"U14/(W4-U10)","v":0},{"$f":"IF(V14=0,0,(V14*((LOG(V14))/LOG(2))))","v":0},null,{"$f":"N14","v":222},{"$f":"COUNTIF(L28:L48,Y14)","v":0},{"$f":"Z14/(AB4-Z10)","v":0},{"$f":"IF(AA14=0,0,(AA14*((LOG(AA14))/LOG(2))))","v":0},null,{"$f":"N14","v":222},{"$f":"COUNTIF(L49:L70,AD14)","v":0},{"$f":"AE14/(AG4-AE10)","v":0},{"$f":"IF(AF14=0,0,(AF14*((LOG(AF14))/LOG(2))))","v":0},null,{"$f":"N14","v":222},{"$f":"COUNTIF(L71:L91,AI14)","v":0},{"$f":"AJ14/(AL4-AJ10)","v":0},{"$f":"IF(AK14=0,0,(AK14*((LOG(AK14))/LOG(2))))","v":0},null,{"$f":"N14","v":222},{"$f":"COUNTIF(L92:L112,AN14)","v":0},{"$f":"AO14/(AQ4-AO10)","v":0},{"$f":"IF(AP14=0,0,(AP14*((LOG(AP14))/LOG(2))))","v":0},null,{"$f":"N14","v":222},{"$f":"COUNTIF(L113:L133,AS14)","v":0},{"$f":"AT14/(AV4-AT10)","v":0},{"$f":"IF(AU14=0,0,(AU14*((LOG(AU14))/LOG(2))))","v":0}]
[11,1505,12,1518,14,1563,null,null,null,null,0,111,null,null,null,{"$f":"SUM(P7:P14)","v":1},{"$f":"-SUM(Q7:Q14)","v":0},null,null,null,null,{"$f":"SUM(V7:V14)","v":1},{"$f":"-SUM(W7:W14)","v":0},null,null,null,{"$f":"SUM(AA7:AA14)","v":1},{"$f":"-SUM(AB7:AB14)","v":0},null,null,null,{"$f":"SUM(AF7:AF14)","v":1},{"$f":"-SUM(AG7:AG14)","v":0},null,null,null,{"$f":"SUM(AK7:AK14)","v":1},{"$f":"-SUM(AL7:AL14)","v":0},null,null,null,{"$f":"SUM(AP7:AP14)","v":1},{"$f":"-SUM(AQ7:AQ14)","v":0},null,null,null,{"$f":"SUM(AU7:AU14)","v":1},{"$f":"-SUM(AV7:AV14)","v":0}]
[11,1690,12,1762,14,1769,null,null,null,null,0,111,null,null,null,"U=",{"$f":"Q15/(LOG(Q4)/LOG(2))","v":0},null,null,null,null,"U1=",{"$f":"W15/(LOG(W4)/LOG(2))","v":0},null,null,null,"U2=",{"$f":"AB15/(LOG(AB4)/LOG(2))","v":0},null,null,null,"U3=",{"$f":"AG15/(LOG(AG4)/LOG(2))","v":0},null,null,null,"U4=",{"$f":"AL15/(LOG(AL4)/LOG(2))","v":0},null,null,null,"U5=",{"$f":"AQ15/(LOG(AQ4)/LOG(2))","v":0},null,null,null,"U6=",{"$f":"AV15/(LOG(AV4)/LOG(2))","v":0}]
[11,1890,12,1927,14,1932,null,null,null,null,0,111]
[11,2061,12,2105,14,2137,null,null,null,null,0,111]
[11,2268,12,2274,14,2297,null,null,null,null,0,111,null,"Total Target Seq"]
[11,2424,12,2430,14,2436,null,null,null,null,0,111,null,{"$f":"COUNTIF(L7:L133,G3)","v":0},null,21,21,22,21,21,21]
[11,2531,12,2572,14,2602,null,null,null,null,0,111,null,null,null,"% of reinforcement given in 6 equal intervals based on number of trials "]
[11,2711,12,2745,14,2787,null,null,null,null,0,111,null,null,null,"%_1","%_2","%_3","%_4","%_5","%_6"]
[11,2890,12,2904,14,2936,null,null,null,null,0,111,null,null,"target sequence",{"$f":"$G$3","v":122},{"$f":"$G$3","v":122},{"$f":"$G$3","v":122},{"$f":"$G$3","v":122},{"$f":"$G$3","v":122},{"$f":"$G$3","v":122}]
[11,3055,12,3061,14,3088,null,null,null,null,0,111,null,null,"total reinforcement",{"$f":"U10","v":0},{"$f":"Z10","v":0},{"$f":"AE10","v":0},{"$f":"AJ10","v":0},{"$f":"AO10","v":0},{"$f":"AT10","v":0}]
[11,3186,12,3208,14,3236,null,null,null,null,0,111,null,null,"% target"]
[11,3334,12,3358,14,3364,null,null,null,null,0,111,null,null,"CCRF"]
[11,3460,12,3478,14,3508,null,null,null,null,0,111,null,null,"% CCRf"]
[11,3646,12,3692,14,3705,null,null,null,null,0,111,null,null,"average response rate",{"$f":"F27/P20","v":167.04761904761904},{"$f":"(F48-F27)/Q20","v":142.71428571428572},{"$f":"(F70-F48)/R20","v":147.68181818181819},{"$f":"(F91-F70)/S20","v":148.66666666666666},{"$f":"(F112-F91)/T20","v":149.33333333333334},{"$f":"(F133-F112)/U20","v":238.28571428571428}]
[11,3802,12,3829,14,3832,null,null,null,null,0,111]
[11,3931,12,3982,14,3989,null,null,null,null,0,111]
[11,4087,12,4114,14,4119,null,null,null,null,0,111]
[11,4235,12,4263,14,4274,null,null,null,null,0,111]
[11,4369,12,4399,14,4449,null,null,null,null,0,111]
[11,4545,12,4583,14,4590,null,null,null,null,0,111]
[11,4732,12,4739,14,4745,null,null,null,null,0,111]
[11,4841,12,4873,14,4879,null,null,null,null,0,111]
[11,4973,12,4999,14,5001,null,null,null,null,0,111]
[11,5093,12,5129,14,5136,null,null,null,null,0,111]
[11,5231,12,5266,14,5268,null,null,null,null,0,111]
[11,5365,12,5367,14,5394,null,null,null,null,0,111]
[11,5489,12,5517,14,5519,null,null,null,null,0,111]
[11,5636,12,5663,14,5669,null,null,null,null,0,111]
[11,5770,12,5806,14,5811,null,null,null,null,0,111]
[11,5931,12,5952,14,5958,null,null,null,null,0,111]
[11,6054,12,6088,14,6093,null,null,null,null,0,111]
[11,6189,12,6217,14,6223,null,null,null,null,0,111]
[11,6320,12,6363,14,6369,null,null,null,null,0,111]
[11,6465,12,6499,14,6505,null,null,null,null,0,111]
[11,6599,12,6604,14,6651,null,null,null,null,0,111]
[11,6796,12,6838,14,6844,null,null,null,null,0,111]
[11,6943,12,6969,14,6976,null,null,null,null,0,111]
[11,7073,12,7108,14,7114,null,null,null,null,0,111]
[11,7269,12,7274,14,7313,null,null,null,null,0,111]
[11,7409,12,7415,14,7452,null,null,null,null,0,111]
[11,7549,12,7586,14,7592,null,null,null,null,0,111]
[11,7687,12,7715,14,7753,null,null,null,null,0,111]
[11,7858,12,7866,14,7892,null,null,null,null,0,111]
[11,8021,12,8046,14,8051,null,null,null,null,0,111]
[11,8147,12,8176,14,8181,null,null,null,null,0,111]
[11,8294,12,8319,14,8354,null,null,null,null,0,111]
[11,8451,12,8471,14,8479,null,null,null,null,0,111]
[11,8575,12,8615,14,8622,null,null,null,null,0,111]
[11,8718,12,8723,14,8757,null,null,null,null,0,111]
[11,8853,12,8858,14,8901,null,null,null,null,0,111]
[11,8998,12,9003,14,9028,null,null,null,null,0,111]
[11,9129,12,9173,14,9179,null,null,null,null,0,111]
[11,9288,12,9320,14,9327,null,null,null,null,0,111]
[11,9428,12,9433,14,9472,null,null,null,null,0,111]
[11,9576,12,9581,14,9619,null,null,null,null,0,111]
[11,9722,12,9727,14,9754,null,null,null,null,0,111]
[11,9861,12,9897,14,9902,null,null,null,null,0,111]
[11,9997,12,10003,14,10040,null,null,null,null,0,111]
[11,10142,12,10192,14,10199,null,null,null,null,0,111]
[11,10310,12,10338,14,10344,null,null,null,null,0,111]
[11,10445,12,10449,14,10479,null,null,null,null,0,111]
[11,10576,12,10581,14,10616,null,null,null,null,0,111]
[11,10746,12,10777,14,10791,null,null,null,null,0,111]
[11,10886,12,10928,14,10934,null,null,null,null,0,111]
[11,11088,12,11093,14,11124,null,null,null,null,0,111]
[11,11220,12,11226,14,11258,null,null,null,null,0,111]
[11,11356,12,11388,14,11406,null,null,null,null,0,111]
[11,11504,12,11508,14,11534,null,null,null,null,0,111]
[11,11631,12,11635,14,11669,null,null,null,null,0,111]
[11,11766,12,11814,14,11820,null,null,null,null,0,111]
[11,11917,12,11957,14,11968,null,null,null,null,0,111]
[11,12063,12,12068,14,12103,null,null,null,null,0,111]
[11,12267,12,12275,14,12314,null,null,null,null,0,111]
[11,12410,12,12414,14,12448,null,null,null,null,0,111]
[11,12545,12,12559,14,12588,null,null,null,null,0,111]
[11,12686,12,12691,14,12732,null,null,null,null,0,111]
[11,12828,12,12842,14,12876,null,null,null,null,0,111]
[11,12975,12,13023,14,13029,null,null,null,null,0,111]
[11,13137,12,13164,14,13169,null,null,null,null,0,111]
[11,13266,12,13273,14,13314,null,null,null,null,0,111]
[11,13417,12,13467,14,13478,null,null,null,null,0,111]
[11,13575,12,13606,14,13612,null,null,null,null,0,111]
[11,13707,12,13734,14,13740,null,null,null,null,0,111]
[11,13836,12,13841,14,13869,null,null,null,null,0,111]
[11,14008,12,14014,14,14021,null,null,null,null,0,111]
[11,14124,12,14166,14,14172,null,null,null,null,0,111]
[11,14268,12,14304,14,14315,null,null,null,null,0,111]
[11,14443,12,14450,14,14456,null,null,null,null,0,111]
[11,14553,12,14559,14,14588,null,null,null,null,0,111]
[11,14852,12,14863,14,14887,null,null,null,null,0,111]
[11,14983,12,14988,14,15015,null,null,null,null,0,111]
[11,15110,12,15116,14,15166,null,null,null,null,0,111]
[11,15263,12,15266,14,15299,null,null,null,null,0,111]
[11,15410,12,15427,14,15433,null,null,null,null,0,111]
[11,15530,12,15534,14,15561,null,null,null,null,0,111]
[11,15661,12,15699,14,15704,null,null,null,null,0,111]
[11,15798,12,15869,14,15875,null,null,null,null,0,111]
[11,15970,12,16006,14,16012,null,null,null,null,0,111]
[11,16107,12,16111,14,16156,null,null,null,null,0,111]
[11,16254,12,16260,14,16294,null,null,null,null,0,111]
[11,16389,12,16429,14,16444,null,null,null,null,0,111]
[11,16541,12,16580,14,16623,null,null,null,null,0,111]
[11,16759,12,16765,14,16771,null,null,null,null,0,111]
[11,16874,12,16904,14,16909,null,null,null,null,0,111]
[11,17035,12,17039,14,17052,null,null,null,null,0,111]
[11,17151,12,17189,14,17196,null,null,null,null,0,111]
[11,17302,12,17368,14,17380,null,null,null,null,0,111]
[11,17491,12,17496,14,17550,null,null,null,null,0,111]
[11,17683,12,17688,14,17722,null,null,null,null,0,111]
[11,18278,12,18336,14,18342,null,null,null,null,0,111]
[11,18479,12,18485,14,18549,null,null,null,null,0,111]
[11,18686,12,18737,14,18739,null,null,null,null,0,111]
[11,18862,12,18946,14,19021,null,null,null,null,0,111]
[11,19144,12,19221,14,19310,null,null,null,null,0,111]
[11,19469,12,19476,14,19512,null,null,null,null,0,111]
[11,19761,12,19767,14,19773,null,null,null,null,0,111]
[11,19988,12,20422,14,20446,null,null,null,null,0,111]
[11,20764,12,20873,14,20879,null,null,null,null,0,111]
[11,21004,12,21011,14,21016,null,null,null,null,0,111]

{"sheet":"!LA11A12..Is","index":8,"n_rows":121,"n_cols":48,"rows_kept":121,"cut":false,"hidden":false,"merged":[[4,39,4,42],[5,39,5,40],[4,44,4,47],[5,44,5,45],[4,24,4,27],[5,24,5,25],[4,29,4,32],[5,29,5,30],[4,34,4,37],[5,34,5,35],[1,1,1,2],[5,13,5,14],[18,13,18,14],[19,13,19,14],[4,19,4,22],[5,19,5,20]]}
["Report for:!LA11A12..Is"]
["Date:","<date>"]
["Hen:","<hen>",null,null,null,"Correct Sequence",{"$f":"Start!J2","v":122},null,null,null,null,null,null,null,null,"Total Sequences in Data",{"$f":"4994-COUNTBLANK(L7:L5000)","v":115},null,null,null,null,"Total Sequences in Block Data",{"$f":"COUNTA(L7:L25)","v":19},null,null,null,"Total Sequences in Block Data",{"$f":"COUNTA(L26:L44)","v":19},null,null,null,"Total Sequences in Block Data",{"$f":"COUNTA(L45:L64)","v":20},null,null,null,"Total Sequences in Block Data",{"$f":"COUNTA(L65:L83)","v":19},null,null,null,"Total Sequences in Block Data",{"$f":"COUNTA(L84:L102)","v":19},null,null,null,"Total Sequences in Block Data",{"$f":"COUNTA(L103:L121)","v":19}]
[null,null,null,null,null,null,null,null,null,null,null,null,null,null,null,"Total Sequences in Summary",{"$f":"SUM(O7:O14)","v":115},null,null,null,null,"Total Sequences in Block Summary",{"$f":"SUM(U7:U14)","v":19},null,null,null,"Total Sequences in Block Summary",{"$f":"SUM(Z7:Z14)","v":19},null,null,null,"Total Sequences in Block Summary",{"$f":"SUM(AE7:AE14)","v":20},null,null,null,"Total Sequences in Block Summary",{"$f":"SUM(AJ7:AJ14)","v":19},null,null,null,"Total Sequences in Block Summary",{"$f":"SUM(AO7:AO14)","v":19},null,null,null,"Total Sequences in Block Summary",{"$f":"SUM(AT7:AT14)","v":19}]
[null,null,null,null,null,null,null,null,null,null,null,null,null,null,null,null,null,null,null,"Block 1",null,null,null,null,"Block 2",null,null,null,null,"Block 3",null,null,null,null,"Block 4",null,null,null,null,"Block 5",null,null,null,null,"Block 6"]
["Sequence\nComponent\n1","Time\n1","Sequence\nComponent\n2","Time\n2","Sequence\nComponent\n3","Time\n3","Sequence\nComponent\n4","Time\n4","Sequence\nComponent\n5","Time\n5","Correct?\n0=No 1=Yes","Sequence",null,"Frequency",null,"Relative Frequency","Variability",null,null,"Frequency",null,"Relative Frequency","Variability",null,"Frequency",null,"Relative Frequency","Variability",null,"Frequency",null,"Relative Frequency","Variability",null,"Frequency",null,"Relative Frequency","Variability",null,"Frequency",null,"Relative Frequency","Variability",null,"Frequency",null,"Relative Frequency","Variability"]
[11,16,12,21,23,29,null,null,null,null,0,112,null,111,{"$f":"COUNTIF($L$7:$L$500,N7)","v":1},{"$f":"O7/$Q$4","v":8.6956521739130436E-3},{"$f":"IF(P7=0,0,(P7*((LOG(P7))/LOG(2))))","v":-5.9526000442994574E-2},null,null,{"$f":"N7","v":111},{"$f":"COUNTIF(L7:L25,T7)","v":1},{"$f":"U7/(W4-U10)","v":8.3333333333333329E-2},{"$f":"IF(V7=0,0,(V7*((LOG(V7))/LOG(2))))","v":-0.29874687506009634},null,{"$f":"N7","v":111},{"$f":"COUNTIF(L26:L44,Y7)","v":0},{"$f":"Z7/(AB4-Z10)","v":0},{"$f":"IF(AA7=0,0,(AA7*((LOG(AA7))/LOG(2))))","v":0},null,{"$f":"N7","v":111},{"$f":"COUNTIF(L45:L64,AD7)","v":0},{"$f":"AE7/(AG4-AE10)","v":0},{"$f":"IF(AF7=0,0,(AF7*((LOG(AF7))/LOG(2))))","v":0},null,{"$f":"N7","v":111},{"$f":"COUNTIF(L65:L83,AI7)","v":0},{"$f":"AJ7/(AL4-AJ10)","v":0},{"$f":"IF(AK7=0,0,(AK7*((LOG(AK7))/LOG(2))))","v":0},null,{"$f":"N7","v":111},{"$f":"COUNTIF(L84:L102,AN7)","v":0},{"$f":"AO7/(AQ4-AO10)","v":0},{"$f":"IF(AP7=0,0,(AP7*((LOG(AP7))/LOG(2))))","v":0},null,{"$f":"N7","v":111},{"$f":"COUNTIF(L103:L121,AS7)","v":0},{"$f":"AT7/(AV4-AT10)","v":0},{"$f":"IF(AU7=0,0,(AU7*((LOG(AU7))/LOG(2))))","v":0}]
[11,134,12,146,14,153,null,null,null,null,0,111,null,112,{"$f":"COUNTIF($L$7:$L$500,N8)","v":3},{"$f":"O8/$Q$4","v":2.6086956521739129E-2},{"$f":"IF(P8=0,0,(P8*((LOG(P8))/LOG(2))))","v":-0.13723115348408396},null,null,{"$f":"N8","v":112},{"$f":"COUNTIF(L7:L25,T8)","v":2},{"$f":"U8/(W4-U10)","v":0.16666666666666666},{"$f":"IF(V8=0,0,(V8*((LOG(V8))/LOG(2))))","v":-0.43082708345352599},null,{"$f":"N8","v":112},{"$f":"COUNTIF(L26:L44,Y8)","v":1},{"$f":"Z8/(AB4-Z10)","v":7.1428571428571425E-2},{"$f":"IF(AA8=0,0,(AA8*((LOG(AA8))/LOG(2))))","v":-0.27195392300411453},null,{"$f":"N8","v":112},{"$f":"COUNTIF(L45:L64,AD8)","v":0},{"$f":"AE8/(AG4-AE10)","v":0},{"$f":"IF(AF8=0,0,(AF8*((LOG(AF8))/LOG(2))))","v":0},null,{"$f":"N8","v":112},{"$f":"COUNTIF(L65:L83,AI8)","v":0},{"$f":"AJ8/(AL4-AJ10)","v":0},{"$f":"IF(AK8=0,0,(AK8*((LOG(AK8))/LOG(2))))","v":0},null,{"$f":"N8","v":112},{"$f":"COUNTIF(L84:L102,AN8)","v":0},{"$f":"AO8/(AQ4-AO10)","v":0},{"$f":"IF(AP8=0,0,(AP8*((LOG(AP8))/LOG(2))))","v":0},null,{"$f":"N8","v":112},{"$f":"COUNTIF(L103:L121,AS8)","v":0},{"$f":"AT8/(AV4-AT10)","v":0},{"$f":"IF(AU8=0,0,(AU8*((LOG(AU8))/LOG(2))))","v":0}]
[11,255,21,265,21,270,null,null,null,null,0,122,null,121,{"$f":"COUNTIF($L$7:$L$500,N9)","v":1},{"$f":"O9/$Q$4","v":8.6956521739130436E-3},{"$f":"IF(P9=0,0,(P9*((LOG(P9))/LOG(2))))","v":-5.9526000442994574E-2},null,null,{"$f":"N9","v":121},{"$f":"COUNTIF(L7:L25,T9)","v":1},{"$f":"U9/(W4-U10)","v":8.3333333333333329E-2},{"$f":"IF(V9=0,0,(V9*((LOG(V9))/LOG(2))))","v":-0.29874687506009634},null,{"$f":"N9","v":121},{"$f":"COUNTIF(L26:L44,Y9)","v":0},{"$f":"Z9/(AB4-Z10)","v":0},{"$f":"IF(AA9=0,0,(AA9*((LOG(AA9))/LOG(2))))","v":0},null,{"$f":"N9","v":121},{"$f":"COUNTIF(L45:L64,AD9)","v":0},{"$f":"AE9/(AG4-AE10)","v":0},{"$f":"IF(AF9=0,0,(AF9*((LOG(AF9))/LOG(2))))","v":0},null,{"$f":"N9","v":121},{"$f":"COUNTIF(L65:L83,AI9)","v":0},{"$f":"AJ9/(AL4-AJ10)","v":0},{"$f":"IF(AK9=0,0,(AK9*((LOG(AK9))/LOG(2))))","v":0},null,{"$f":"N9","v":121},{"$f":"COUNTIF(L84:L102,AN9)","v":0},{"$f":"AO9/(AQ4-AO10)","v":0},{"$f":"IF(AP9=0,0,(AP9*((LOG(AP9))/LOG(2))))","v":0},null,{"$f":"N9","v":121},{"$f":"COUNTIF(L103:L121,AS9)","v":0},{"$f":"AT9/(AV4-AT10)","v":0},{"$f":"IF(AU9=0,0,(AU9*((LOG(AU9))/LOG(2))))","v":0}]
[11,418,21,433,21,439,null,null,null,null,0,122,null,122,{"$f":"COUNTIF($L$7:$L$500,N10)","v":40},{"$f":"O10/$Q$4","v":0.34782608695652173},{"$f":"IF(P10=0,0,(P10*((LOG(P10))/LOG(2))))","v":-0.52993459341113491},null,null,{"$f":"N10","v":122},{"$f":"COUNTIF(L7:L25,T10)","v":7},null,null,null,{"$f":"N10","v":122},{"$f":"COUNTIF(L26:L44,Y10)","v":5},null,null,null,{"$f":"N10","v":122},{"$f":"COUNTIF(L45:L64,AD10)","v":6},null,null,null,{"$f":"N10","v":122},{"$f":"COUNTIF(L65:L83,AI10)","v":6},null,null,null,{"$f":"N10","v":122},{"$f":"COUNTIF(L84:L102,AN10)","v":6},null,null,null,{"$f":"N10","v":122},{"$f":"COUNTIF(L103:L121,AS10)","v":10}]
[22,636,23,649,23,658,null,null,null,null,0,222,null,211,{"$f":"COUNTIF($L$7:$L$500,N11)","v":1},{"$f":"O11/$Q$4","v":8.6956521739130436E-3},{"$f":"IF(P11=0,0,(P11*((LOG(P11))/LOG(2))))","v":-5.9526000442994574E-2},null,null,{"$f":"N11","v":211},{"$f":"COUNTIF(L7:L25,T11)","v":1},{"$f":"U11/(W4-U10)","v":8.3333333333333329E-2},{"$f":"IF(V11=0,0,(V11*((LOG(V11))/LOG(2))))","v":-0.29874687506009634},null,{"$f":"N11","v":211},{"$f":"COUNTIF(L26:L44,Y11)","v":0},{"$f":"Z11/(AB4-Z10)","v":0},{"$f":"IF(AA11=0,0,(AA11*((LOG(AA11))/LOG(2))))","v":0},null,{"$f":"N11","v":211},{"$f":"COUNTIF(L45:L64,AD11)","v":0},{"$f":"AE11/(AG4-AE10)","v":0},{"$f":"IF(AF11=0,0,(AF11*((LOG(AF11))/LOG(2))))","v":0},null,{"$f":"N11","v":211},{"$f":"COUNTIF(L65:L83,AI11)","v":0},{"$f":"AJ11/(AL4-AJ10)","v":0},{"$f":"IF(AK11=0,0,(AK11*((LOG(AK11))/LOG(2))))","v":0},null,{"$f":"N11","v":211},{"$f":"COUNTIF(L84:L102,AN11)","v":0},{"$f":"AO11/(AQ4-AO10)","v":0},{"$f":"IF(AP11=0,0,(AP11*((LOG(AP11))/LOG(2))))","v":0},null,{"$f":"N11","v":211},{"$f":"COUNTIF(L103:L121,AS11)","v":0},{"$f":"AT11/(AV4-AT10)","v":0},{"$f":"IF(AU11=0,0,(AU11*((LOG(AU11))/LOG(2))))","v":0}]
[11,775,21,783,21,788,null,null,null,null,0,122,null,212,{"$f":"COUNTIF($L$7:$L$500,N12)","v":0},{"$f":"O12/$Q$4","v":0},{"$f":"IF(P12=0,0,(P12*((LOG(P12))/LOG(2))))","v":0},null,null,{"$f":"N12","v":212},{"$f":"COUNTIF(L7:L25,T12)","v":0},{"$f":"U12/(W4-U10)","v":0},{"$f":"IF(V12=0,0,(V12*((LOG(V12))/LOG(2))))","v":0},null,{"$f":"N12","v":212},{"$f":"COUNTIF(L26:L44,Y12)","v":0},{"$f":"Z12/(AB4-Z10)","v":0},{"$f":"IF(AA12=0,0,(AA12*((LOG(AA12))/LOG(2))))","v":0},null,{"$f":"N12","v":212},{"$f":"COUNTIF(L45:L64,AD12)","v":0},{"$f":"AE12/(AG4-AE10)","v":0},{"$f":"IF(AF12=0,0,(AF12*((LOG(AF12))/LOG(2))))","v":0},null,{"$f":"N12","v":212},{"$f":"COUNTIF(L65:L83,AI12)","v":0},{"$f":"AJ12/(AL4-AJ10)","v":0},{"$f":"IF(AK12=0,0,(AK12*((LOG(AK12))/LOG(2))))","v":0},null,{"$f":"N12","v":212},{"$f":"COUNTIF(L84:L102,AN12)","v":0},{"$f":"AO12/(AQ4-AO10)","v":0},{"$f":"IF(AP12=0,0,(AP12*((LOG(AP12))/LOG(2))))","v":0},null,{"$f":"N12","v":212},{"$f":"COUNTIF(L103:L121,AS12)","v":0},{"$f":"AT12/(AV4-AT10)","v":0},{"$f":"IF(AU12=0,0,(AU12*((LOG(AU12))/LOG(2))))","v":0}]
[22,901,23,906,23,913,null,null,null,null,0,222,null,221,{"$f":"COUNTIF($L$7:$L$500,N13)","v":0},{"$f":"O13/$Q$4","v":0},{"$f":"IF(P13=0,0,(P13*((LOG(P13))/LOG(2))))","v":0},null,null,{"$f":"N13","v":221},{"$f":"COUNTIF(L7:L25,T13)","v":0},{"$f":"U13/(W4-U10)","v":0},{"$f":"IF(V13=0,0,(V13*((LOG(V13))/LOG(2))))","v":0},null,{"$f":"N13","v":221},{"$f":"COUNTIF(L26:L44,Y13)","v":0},{"$f":"Z13/(AB4-Z10)","v":0},{"$f":"IF(AA13=0,0,(AA13*((LOG(AA13))/LOG(2))))","v":0},null,{"$f":"N13","v":221},{"$f":"COUNTIF(L45:L64,AD13)","v":0},{"$f":"AE13/(AG4-AE10)","v":0},{"$f":"IF(AF13=0,0,(AF13*((LOG(AF13))/LOG(2))))","v":0},null,{"$f":"N13","v":221},{"$f":"COUNTIF(L65:L83,AI13)","v":0},{"$f":"AJ13/(AL4-AJ10)","v":0},{"$f":"IF(AK13=0,0,(AK13*((LOG(AK13))/LOG(2))))","v":0},null,{"$f":"N13","v":221},{"$f":"COUNTIF(L84:L102,AN13)","v":0},{"$f":"AO13/(AQ4-AO10)","v":0},{"$f":"IF(AP13=0,0,(AP13*((LOG(AP13))/LOG(2))))","v":0},null,{"$f":"N13","v":221},{"$f":"COUNTIF(L103:L121,AS13)","v":0},{"$f":"AT13/(AV4-AT10)","v":0},{"$f":"IF(AU13=0,0,(AU13*((LOG(AU13))/LOG(2))))","v":0}]
[11,1011,12,1015,23,1025,null,null,null,null,0,112,null,222,{"$f":"COUNTIF($L$7:$L$500,N14)","v":69},{"$f":"O14/$Q$4","v":0.6},{"$f":"IF(P14=0,0,(P14*((LOG(P14))/LOG(2))))","v":-0.44217935649972373},null,null,{"$f":"N14","v":222},{"$f":"COUNTIF(L7:L25,T14)","v":7},{"$f":"U14/(W4-U10)","v":0.58333333333333337},{"$f":"IF(V14=0,0,(V14*((LOG(V14))/LOG(2))))","v":-0.45360442088707198},null,{"$f":"N14","v":222},{"$f":"COUNTIF(L26:L44,Y14)","v":13},{"$f":"Z14/(AB4-Z10)","v":0.9285714285714286},{"$f":"IF(AA14=0,0,(AA14*((LOG(AA14))/LOG(2))))","v":-9.9278403636761048E-2},null,{"$f":"N14","v":222},{"$f":"COUNTIF(L45:L64,AD14)","v":14},{"$f":"AE14/(AG4-AE10)","v":1},{"$f":"IF(AF14=0,0,(AF14*((LOG(AF14))/LOG(2))))","v":0},null,{"$f":"N14","v":222},{"$f":"COUNTIF(L65:L83,AI14)","v":13},{"$f":"AJ14/(AL4-AJ10)","v":1},{"$f":"IF(AK14=0,0,(AK14*((LOG(AK14))/LOG(2))))","v":0},null,{"$f":"N14","v":222},{"$f":"COUNTIF(L84:L102,AN14)","v":13},{"$f":"AO14/(AQ4-AO10)","v":1},{"$f":"IF(AP14=0,0,(AP14*((LOG(AP14))/LOG(2))))","v":0},null,{"$f":"N14","v":222},{"$f":"COUNTIF(L103:L121,AS14)","v":9},{"$f":"AT14/(AV4-AT10)","v":1},{"$f":"IF(AU14=0,0,(AU14*((LOG(AU14))/LOG(2))))","v":0}]
[11,1122,21,1133,21,1141,null,null,null,null,0,122,null,null,null,{"$f":"SUM(P7:P14)","v":1},{"$f":"-SUM(Q7:Q14)","v":1.2879231047239263},null,null,null,null,{"$f":"SUM(V7:V14)","v":1},{"$f":"-SUM(W7:W14)","v":1.7806721295208869},null,null,null,{"$f":"SUM(AA7:AA14)","v":1},{"$f":"-SUM(AB7:AB14)","v":0.37123232664087558},null,null,null,{"$f":"SUM(AF7:AF14)","v":1},{"$f":"-SUM(AG7:AG14)","v":0},null,null,null,{"$f":"SUM(AK7:AK14)","v":1},{"$f":"-SUM(AL7:AL14)","v":0},null,null,null,{"$f":"SUM(AP7:AP14)","v":1},{"$f":"-SUM(AQ7:AQ14)","v":0},null,null,null,{"$f":"SUM(AU7:AU14)","v":1},{"$f":"-SUM(AV7:AV14)","v":0}]
[22,1298,23,1303,23,1309,null,null,null,null,0,222,null,null,null,"U=",{"$f":"Q15/(LOG(Q4)/LOG(2))","v":0.18814184158316755},null,null,null,null,"U1=",{"$f":"W15/(LOG(W4)/LOG(2))","v":0.41918609107276972},null,null,null,"U2=",{"$f":"AB15/(LOG(AB4)/LOG(2))","v":8.7391398621097433E-2},null,null,null,"U3=",{"$f":"AG15/(LOG(AG4)/LOG(2))","v":0},null,null,null,"U4=",{"$f":"AL15/(LOG(AL4)/LOG(2))","v":0},null,null,null,"U5=",{"$f":"AQ15/(LOG(AQ4)/LOG(2))","v":0},null,null,null,"U6=",{"$f":"AV15/(LOG(AV4)/LOG(2))","v":0}]
[22,1413,23,1425,23,1437,null,null,null,null,0,222]
[11,1571,21,1581,12,1595,null,null,null,null,0,121]
[22,1693,14,1700,14,1704,null,null,null,null,0,211,null,"Total Target Seq"]
[11,1800,21,1808,21,1812,null,null,null,null,0,122,null,{"$f":"COUNTIF(L7:L121,G3)","v":40},null,19,19,20,19,19,19]
[11,1986,21,1998,21,2002,null,null,null,null,0,122,null,null,null,"% of reinforcement given in 6 equal intervals based on number of trials "]
[11,2153,21,2163,21,2167,null,null,null,null,0,122,null,null,null,"%_1","%_2","%_3","%_4","%_5","%_6"]
[22,2325,23,2330,23,2336,null,null,null,null,0,222,null,null,"target sequence",{"$f":"$G$3","v":122},{"$f":"$G$3","v":122},{"$f":"$G$3","v":122},{"$f":"$G$3","v":122},{"$f":"$G$3","v":122},{"$f":"$G$3","v":122}]
[22,2441,23,2447,23,2454,null,null,null,null,0,222,null,null,"total reinforcement",{"$f":"U10","v":7},{"$f":"Z10","v":5},{"$f":"AE10","v":6},{"$f":"AJ10","v":6},{"$f":"AO10","v":6},{"$f":"AT10","v":10}]
[22,2557,23,2562,23,2568,null,null,null,null,0,222,null,null,"% target"]
[22,2670,23,2674,23,2687,null,null,null,null,0,222,null,null,"CCRF"]
[22,2790,23,2794,23,2798,null,null,null,null,0,222,null,null,"% CCRf"]
[11,2894,21,2907,21,2913,null,null,null,null,0,122,null,null,"average response rate",{"$f":"F25/P20","v":135.15789473684211},{"$f":"(F44-F25)/Q20","v":119.47368421052632},{"$f":"(F64-F44)/R20","v":129.6},{"$f":"(F83-F64)/S20","v":130.31578947368422},{"$f":"(F102-F83)/T20","v":124.78947368421052},{"$f":"(F121-F102)/U20","v":133.26315789473685}]
[22,3055,23,3059,23,3065,null,null,null,null,0,222]
[22,3167,23,3171,23,3176,null,null,null,null,0,222]
[22,3275,23,3280,23,3289,null,null,null,null,0,222]
[22,3392,23,3395,23,3404,null,null,null,null,0,222]
[22,3510,23,3518,23,3528,null,null,null,null,0,222]
[11,3627,21,3635,21,3640,null,null,null,null,0,122]
[22,3762,23,3765,23,3773,null,null,null,null,0,222]
[22,3875,23,3879,23,3886,null,null,null,null,0,222]
[22,3985,23,3989,23,3994,null,null,null,null,0,222]
[11,4090,21,4099,21,4102,null,null,null,null,0,122]
[22,4242,23,4251,23,4260,null,null,null,null,0,222]
[22,4366,23,4371,23,4379,null,null,null,null,0,222]
[22,4483,23,4488,23,4500,null,null,null,null,0,222]
[11,4595,12,4603,23,4611,null,null,null,null,0,112]
[11,4707,21,4715,21,4718,null,null,null,null,0,122]
[11,4819,21,4828,21,4838,null,null,null,null,0,122]
[22,4966,23,4969,23,4977,null,null,null,null,0,222]
[22,5078,23,5087,23,5094,null,null,null,null,0,222]
[22,5224,23,5231,23,5238,null,null,null,null,0,222]
[22,5339,23,5344,23,5350,null,null,null,null,0,222]
[11,5449,21,5459,21,5464,null,null,null,null,0,122]
[22,5595,23,5600,23,5606,null,null,null,null,0,222]
[11,5703,21,5712,21,5716,null,null,null,null,0,122]
[11,5823,21,5832,21,5834,null,null,null,null,0,122]
[22,5963,23,5971,23,5979,null,null,null,null,0,222]
[22,6089,23,6093,23,6100,null,null,null,null,0,222]
[22,6201,23,6206,23,6217,null,null,null,null,0,222]
[11,6310,21,6318,21,6322,null,null,null,null,0,122]
[22,6522,23,6525,23,6529,null,null,null,null,0,222]
[22,6630,23,6634,23,6645,null,null,null,null,0,222]
[22,6750,23,6754,23,6760,null,null,null,null,0,222]
[11,6856,21,6866,21,6870,null,null,null,null,0,122]
[11,7003,21,7011,21,7017,null,null,null,null,0,122]
[22,7190,23,7193,23,7200,null,null,null,null,0,222]
[22,7305,23,7311,23,7317,null,null,null,null,0,222]
[22,7422,23,7426,23,7430,null,null,null,null,0,222]
[11,7540,21,7550,21,7555,null,null,null,null,0,122]
[22,7689,23,7693,23,7698,null,null,null,null,0,222]
[11,7791,21,7800,21,7803,null,null,null,null,0,122]
[22,7962,23,7966,23,7971,null,null,null,null,0,222]
[22,8074,23,8078,23,8083,null,null,null,null,0,222]
[11,8186,21,8196,21,8202,null,null,null,null,0,122]
[22,8382,23,8386,23,8392,null,null,null,null,0,222]
[22,8497,23,8502,23,8510,null,null,null,null,0,222]
[11,8602,21,8612,21,8616,null,null,null,null,0,122]
[22,8767,23,8770,23,8777,null,null,null,null,0,222]
[22,8879,23,8883,23,8887,null,null,null,null,0,222]
[22,8990,23,8993,23,9000,null,null,null,null,0,222]
[22,9107,23,9117,23,9125,null,null,null,null,0,222]
[11,9217,21,9227,21,9237,null,null,null,null,0,122]
[11,9352,21,9360,21,9369,null,null,null,null,0,122]
[22,9542,23,9547,23,9553,null,null,null,null,0,222]
[22,9666,23,9674,23,9682,null,null,null,null,0,222]
[22,9783,23,9786,23,9792,null,null,null,null,0,222]
[22,9895,23,9900,23,9906,null,null,null,null,0,222]
[11,9998,21,10013,21,10016,null,null,null,null,0,122]
[22,10148,23,10151,23,10159,null,null,null,null,0,222]
[22,10267,23,10271,23,10278,null,null,null,null,0,222]
[11,10374,21,10384,21,10387,null,null,null,null,0,122]
[11,10528,21,10535,21,10539,null,null,null,null,0,122]
[22,10715,23,10719,23,10729,null,null,null,null,0,222]
[22,10833,23,10836,23,10841,null,null,null,null,0,222]
[22,10941,23,10945,23,10951,null,null,null,null,0,222]
[11,11043,21,11055,21,11059,null,null,null,null,0,122]
[22,11172,23,11175,23,11188,null,null,null,null,0,222]
[22,11289,23,11292,23,11304,null,null,null,null,0,222]
[11,11402,21,11411,21,11415,null,null,null,null,0,122]
[22,11552,23,11556,23,11562,null,null,null,null,0,222]
[11,11657,21,11666,21,11669,null,null,null,null,0,122]
[22,11791,23,11795,23,11801,null,null,null,null,0,222]
[22,11905,23,11909,23,11919,null,null,null,null,0,222]
[22,12035,23,12043,23,12052,null,null,null,null,0,222]
[22,12153,23,12156,23,12161,null,null,null,null,0,222]
[22,12264,23,12269,23,12277,null,null,null,null,0,222]
[11,12372,21,12382,21,12385,null,null,null,null,0,122]
[22,12578,23,12581,23,12587,null,null,null,null,0,222]
[22,12687,23,12690,23,12701,null,null,null,null,0,222]
[11,12793,21,12803,21,12805,null,null,null,null,0,122]
[11,12951,21,12960,21,12965,null,null,null,null,0,122]
[11,13123,21,13132,21,13138,null,null,null,null,0,122]
[22,13320,23,13327,23,13339,null,null,null,null,0,222]
[11,13438,21,13449,21,13454,null,null,null,null,0,122]
[11,13566,21,13576,21,13580,null,null,null,null,0,122]
[22,13726,23,13731,23,13737,null,null,null,null,0,222]
[11,13850,21,13858,21,13866,null,null,null,null,0,122]
[11,13957,21,13966,21,13970,null,null,null,null,0,122]
[22,14099,23,14106,23,14116,null,null,null,null,0,222]
[22,14220,23,14225,23,14237,null,null,null,null,0,222]
[11,14335,21,14346,21,14350,null,null,null,null,0,122]
[22,14456,23,14462,23,14470,null,null,null,null,0,222]
[22,14574,23,14578,23,14583,null,null,null,null,0,222]
[22,14687,23,14692,23,14696,null,null,null,null,0,222]
[11,14794,21,14802,21,14809,null,null,null,null,1,122]

{"sheet":"!LA13A52.. I","index":9,"n_rows":123,"n_cols":48,"rows_kept":123,"cut":false,"hidden":false,"merged":[[4,39,4,42],[5,39,5,40],[4,44,4,47],[5,44,5,45],[4,24,4,27],[5,24,5,25],[4,29,4,32],[5,29,5,30],[4,34,4,37],[5,34,5,35],[1,1,1,2],[5,13,5,14],[18,13,18,14],[19,13,19,14],[4,19,4,22],[5,19,5,20]]}
["Report for:!LA13A52.. I"]
["Date:","<date>"]
["Hen:","<hen>",null,null,null,"Correct Sequence",{"$f":"Start!J2","v":122},null,null,null,null,null,null,null,null,"Total Sequences in Data",{"$f":"4994-COUNTBLANK(L7:L5000)","v":117},null,null,null,null,"Total Sequences in Block Data",{"$f":"COUNTA(L7:L26)","v":20},null,null,null,"Total Sequences in Block Data",{"$f":"COUNTA(L27:L45)","v":19},null,null,null,"Total Sequences in Block Data",{"$f":"COUNTA(L46:L65)","v":20},null,null,null,"Total Sequences in Block Data",{"$f":"COUNTA(L66:L84)","v":19},null,null,null,"Total Sequences in Block Data",{"$f":"COUNTA(L85:L104)","v":20},null,null,null,"Total Sequences in Block Data",{"$f":"COUNTA(L105:L123)","v":19}]
[null,null,null,null,null,null,null,null,null,null,null,null,null,null,null,"Total Sequences in Summary",{"$f":"SUM(O7:O14)","v":117},null,null,null,null,"Total Sequences in Block Summary",{"$f":"SUM(U7:U14)","v":20},null,null,null,"Total Sequences in Block Summary",{"$f":"SUM(Z7:Z14)","v":19},null,null,null,"Total Sequences in Block Summary",{"$f":"SUM(AE7:AE14)","v":20},null,null,null,"Total Sequences in Block Summary",{"$f":"SUM(AJ7:AJ14)","v":19},null,null,null,"Total Sequences in Block Summary",{"$f":"SUM(AO7:AO14)","v":20},null,null,null,"Total Sequences in Block Summary",{"$f":"SUM(AT7:AT14)","v":19}]
[null,null,null,null,null,null,null,null,null,null,null,null,null,null,null,null,null,null,null,"Block 1",null,null,null,null,"Block 2",null,null,null,null,"Block 3",null,null,null,null,"Block 4",null,null,null,null,"Block 5",null,null,null,null,"Block 6"]
["Sequence\nComponent\n1","Time\n1","Sequence\nComponent\n2","Time\n2","Sequence\nComponent\n3","Time\n3","Sequence\nComponent\n4","Time\n4","Sequence\nComponent\n5","Time\n5","Correct?\n0=No 1=Yes","Sequence",null,"Frequency",null,"Relative Frequency","Variability",null,null,"Frequency",null,"Relative Frequency","Variability",null,"Frequency",null,"Relative Frequency","Variability",null,"Frequency",null,"Relative Frequency","Variability",null,"Frequency",null,"Relative Frequency","Variability",null,"Frequency",null,"Relative Frequency","Variability",null,"Frequency",null,"Relative Frequency","Variability"]
[22,14,23,22,23,30,null,null,null,null,0,222,null,111,{"$f":"COUNTIF($L$7:$L$500,N7)","v":0},{"$f":"O7/$Q$4","v":0},{"$f":"IF(P7=0,0,(P7*((LOG(P7))/LOG(2))))","v":0},null,null,{"$f":"N7","v":111},{"$f":"COUNTIF(L7:L26,T7)","v":0},{"$f":"U7/(W4-U10)","v":0},{"$f":"IF(V7=0,0,(V7*((LOG(V7))/LOG(2))))","v":0},null,{"$f":"N7","v":111},{"$f":"COUNTIF(L27:L45,Y7)","v":0},{"$f":"Z7/(AB4-Z10)","v":0},{"$f":"IF(AA7=0,0,(AA7*((LOG(AA7))/LOG(2))))","v":0},null,{"$f":"N7","v":111},{"$f":"COUNTIF(L46:L65,AD7)","v":0},{"$f":"AE7/(AG4-AE10)","v":0},{"$f":"IF(AF7=0,0,(AF7*((LOG(AF7))/LOG(2))))","v":0},null,{"$f":"N7","v":111},{"$f":"COUNTIF(L66:L84,AI7)","v":0},{"$f":"AJ7/(AL4-AJ10)","v":0},{"$f":"IF(AK7=0,0,(AK7*((LOG(AK7))/LOG(2))))","v":0},null,{"$f":"N7","v":111},{"$f":"COUNTIF(L85:L104,AN7)","v":0},{"$f":"AO7/(AQ4-AO10)","v":0},{"$f":"IF(AP7=0,0,(AP7*((LOG(AP7))/LOG(2))))","v":0},null,{"$f":"N7","v":111},{"$f":"COUNTIF(L105:L123,AS7)","v":0},{"$f":"AT7/(AV4-AT10)","v":0},{"$f":"IF(AU7=0,0,(AU7*((LOG(AU7))/LOG(2))))","v":0}]
[22,143,23,157,23,189,null,null,null,null,0,222,null,112,{"$f":"COUNTIF($L$7:$L$500,N8)","v":0},{"$f":"O8/$Q$4","v":0},{"$f":"IF(P8=0,0,(P8*((LOG(P8))/LOG(2))))","v":0},null,null,{"$f":"N8","v":112},{"$f":"COUNTIF(L7:L26,T8)","v":0},{"$f":"U8/(W4-U10)","v":0},{"$f":"IF(V8=0,0,(V8*((LOG(V8))/LOG(2))))","v":0},null,{"$f":"N8","v":112},{"$f":"COUNTIF(L27:L45,Y8)","v":0},{"$f":"Z8/(AB4-Z10)","v":0},{"$f":"IF(AA8=0,0,(AA8*((LOG(AA8))/LOG(2))))","v":0},null,{"$f":"N8","v":112},{"$f":"COUNTIF(L46:L65,AD8)","v":0},{"$f":"AE8/(AG4-AE10)","v":0},{"$f":"IF(AF8=0,0,(AF8*((LOG(AF8))/LOG(2))))","v":0},null,{"$f":"N8","v":112},{"$f":"COUNTIF(L66:L84,AI8)","v":0},{"$f":"AJ8/(AL4-AJ10)","v":0},{"$f":"IF(AK8=0,0,(AK8*((LOG(AK8))/LOG(2))))","v":0},null,{"$f":"N8","v":112},{"$f":"COUNTIF(L85:L104,AN8)","v":0},{"$f":"AO8/(AQ4-AO10)","v":0},{"$f":"IF(AP8=0,0,(AP8*((LOG(AP8))/LOG(2))))","v":0},null,{"$f":"N8","v":112},{"$f":"COUNTIF(L105:L123,AS8)","v":0},{"$f":"AT8/(AV4-AT10)","v":0},{"$f":"IF(AU8=0,0,(AU8*((LOG(AU8))/LOG(2))))","v":0}]
[22,295,23,304,23,312,null,null,null,null,0,222,null,121,{"$f":"COUNTIF($L$7:$L$500,N9)","v":0},{"$f":"O9/$Q$4","v":0},{"$f":"IF(P9=0,0,(P9*((LOG(P9))/LOG(2))))","v":0},null,null,{"$f":"N9","v":121},{"$f":"COUNTIF(L7:L26,T9)","v":0},{"$f":"U9/(W4-U10)","v":0},{"$f":"IF(V9=0,0,(V9*((LOG(V9))/LOG(2))))","v":0},null,{"$f":"N9","v":121},{"$f":"COUNTIF(L27:L45,Y9)","v":0},{"$f":"Z9/(AB4-Z10)","v":0},{"$f":"IF(AA9=0,0,(AA9*((LOG(AA9))/LOG(2))))","v":0},null,{"$f":"N9","v":121},{"$f":"COUNTIF(L46:L65,AD9)","v":0},{"$f":"AE9/(AG4-AE10)","v":0},{"$f":"IF(AF9=0,0,(AF9*((LOG(AF9))/LOG(2))))","v":0},null,{"$f":"N9","v":121},{"$f":"COUNTIF(L66:L84,AI9)","v":0},{"$f":"AJ9/(AL4-AJ10)","v":0},{"$f":"IF(AK9=0,0,(AK9*((LOG(AK9))/LOG(2))))","v":0},null,{"$f":"N9","v":121},{"$f":"COUNTIF(L85:L104,AN9)","v":0},{"$f":"AO9/(AQ4-AO10)","v":0},{"$f":"IF(AP9=0,0,(AP9*((LOG(AP9))/LOG(2))))","v":0},null,{"$f":"N9","v":121},{"$f":"COUNTIF(L105:L123,AS9)","v":0},{"$f":"AT9/(AV4-AT10)","v":0},{"$f":"IF(AU9=0,0,(AU9*((LOG(AU9))/LOG(2))))","v":0}]
[11,408,21,425,21,440,null,null,null,null,0,122,null,122,{"$f":"COUNTIF($L$7:$L$500,N10)","v":40},{"$f":"O10/$Q$4","v":0.34188034188034189},{"$f":"IF(P10=0,0,(P10*((LOG(P10))/LOG(2))))","v":-0.52938004263112548},null,null,{"$f":"N10","v":122},{"$f":"COUNTIF(L7:L26,T10)","v":3},null,null,null,{"$f":"N10","v":122},{"$f":"COUNTIF(L27:L45,Y10)","v":5},null,null,null,{"$f":"N10","v":122},{"$f":"COUNTIF(L46:L65,AD10)","v":9},null,null,null,{"$f":"N10","v":122},{"$f":"COUNTIF(L66:L84,AI10)","v":6},null,null,null,{"$f":"N10","v":122},{"$f":"COUNTIF(L85:L104,AN10)","v":8},null,null,null,{"$f":"N10","v":122},{"$f":"COUNTIF(L105:L123,AS10)","v":9}]
[22,647,23,653,23,661,null,null,null,null,0,222,null,211,{"$f":"COUNTIF($L$7:$L$500,N11)","v":0},{"$f":"O11/$Q$4","v":0},{"$f":"IF(P11=0,0,(P11*((LOG(P11))/LOG(2))))","v":0},null,null,{"$f":"N11","v":211},{"$f":"COUNTIF(L7:L26,T11)","v":0},{"$f":"U11/(W4-U10)","v":0},{"$f":"IF(V11=0,0,(V11*((LOG(V11))/LOG(2))))","v":0},null,{"$f":"N11","v":211},{"$f":"COUNTIF(L27:L45,Y11)","v":0},{"$f":"Z11/(AB4-Z10)","v":0},{"$f":"IF(AA11=0,0,(AA11*((LOG(AA11))/LOG(2))))","v":0},null,{"$f":"N11","v":211},{"$f":"COUNTIF(L46:L65,AD11)","v":0},{"$f":"AE11/(AG4-AE10)","v":0},{"$f":"IF(AF11=0,0,(AF11*((LOG(AF11))/LOG(2))))","v":0},null,{"$f":"N11","v":211},{"$f":"COUNTIF(L66:L84,AI11)","v":0},{"$f":"AJ11/(AL4-AJ10)","v":0},{"$f":"IF(AK11=0,0,(AK11*((LOG(AK11))/LOG(2))))","v":0},null,{"$f":"N11","v":211},{"$f":"COUNTIF(L85:L104,AN11)","v":0},{"$f":"AO11/(AQ4-AO10)","v":0},{"$f":"IF(AP11=0,0,(AP11*((LOG(AP11))/LOG(2))))","v":0},null,{"$f":"N11","v":211},{"$f":"COUNTIF(L105:L123,AS11)","v":0},{"$f":"AT11/(AV4-AT10)","v":0},{"$f":"IF(AU11=0,0,(AU11*((LOG(AU11))/LOG(2))))","v":0}]
[22,779,23,783,23,790,null,null,null,null,0,222,null,212,{"$f":"COUNTIF($L$7:$L$500,N12)","v":0},{"$f":"O12/$Q$4","v":0},{"$f":"IF(P12=0,0,(P12*((LOG(P12))/LOG(2))))","v":0},null,null,{"$f":"N12","v":212},{"$f":"COUNTIF(L7:L26,T12)","v":0},{"$f":"U12/(W4-U10)","v":0},{"$f":"IF(V12=0,0,(V12*((LOG(V12))/LOG(2))))","v":0},null,{"$f":"N12","v":212},{"$f":"COUNTIF(L27:L45,Y12)","v":0},{"$f":"Z12/(AB4-Z10)","v":0},{"$f":"IF(AA12=0,0,(AA12*((LOG(AA12))/LOG(2))))","v":0},null,{"$f":"N12","v":212},{"$f":"COUNTIF(L46:L65,AD12)","v":0},{"$f":"AE12/(AG4-AE10)","v":0},{"$f":"IF(AF12=0,0,(AF12*((LOG(AF12))/LOG(2))))","v":0},null,{"$f":"N12","v":212},{"$f":"COUNTIF(L66:L84,AI12)","v":0},{"$f":"AJ12/(AL4-AJ10)","v":0},{"$f":"IF(AK12=0,0,(AK12*((LOG(AK12))/LOG(2))))","v":0},null,{"$f":"N12","v":212},{"$f":"COUNTIF(L85:L104,AN12)","v":0},{"$f":"AO12/(AQ4-AO10)","v":0},{"$f":"IF(AP12=0,0,(AP12*((LOG(AP12))/LOG(2))))","v":0},null,{"$f":"N12","v":212},{"$f":"COUNTIF(L105:L123,AS12)","v":0},{"$f":"AT12/(AV4-AT10)","v":0},{"$f":"IF(AU12=0,0,(AU12*((LOG(AU12))/LOG(2))))","v":0}]
[22,894,23,908,23,915,null,null,null,null,0,222,null,221,{"$f":"COUNTIF($L$7:$L$500,N13)","v":0},{"$f":"O13/$Q$4","v":0},{"$f":"IF(P13=0,0,(P13*((LOG(P13))/LOG(2))))","v":0},null,null,{"$f":"N13","v":221},{"$f":"COUNTIF(L7:L26,T13)","v":0},{"$f":"U13/(W4-U10)","v":0},{"$f":"IF(V13=0,0,(V13*((LOG(V13))/LOG(2))))","v":0},null,{"$f":"N13","v":221},{"$f":"COUNTIF(L27:L45,Y13)","v":0},{"$f":"Z13/(AB4-Z10)","v":0},{"$f":"IF(AA13=0,0,(AA13*((LOG(AA13))/LOG(2))))","v":0},null,{"$f":"N13","v":221},{"$f":"COUNTIF(L46:L65,AD13)","v":0},{"$f":"AE13/(AG4-AE10)","v":0},{"$f":"IF(AF13=0,0,(AF13*((LOG(AF13))/LOG(2))))","v":0},null,{"$f":"N13","v":221},{"$f":"COUNTIF(L66:L84,AI13)","v":0},{"$f":"AJ13/(AL4-AJ10)","v":0},{"$f":"IF(AK13=0,0,(AK13*((LOG(AK13))/LOG(2))))","v":0},null,{"$f":"N13","v":221},{"$f":"COUNTIF(L85:L104,AN13)","v":0},{"$f":"AO13/(AQ4-AO10)","v":0},{"$f":"IF(AP13=0,0,(AP13*((LOG(AP13))/LOG(2))))","v":0},null,{"$f":"N13","v":221},{"$f":"COUNTIF(L105:L123,AS13)","v":0},{"$f":"AT13/(AV4-AT10)","v":0},{"$f":"IF(AU13=0,0,(AU13*((LOG(AU13))/LOG(2))))","v":0}]
[11,1010,21,1027,21,1035,null,null,null,null,0,122,null,222,{"$f":"COUNTIF($L$7:$L$500,N14)","v":77},{"$f":"O14/$Q$4","v":0.65811965811965811},{"$f":"IF(P14=0,0,(P14*((LOG(P14))/LOG(2))))","v":-0.39722666473858759},null,null,{"$f":"N14","v":222},{"$f":"COUNTIF(L7:L26,T14)","v":17},{"$f":"U14/(W4-U10)","v":1},{"$f":"IF(V14=0,0,(V14*((LOG(V14))/LOG(2))))","v":0},null,{"$f":"N14","v":222},{"$f":"COUNTIF(L27:L45,Y14)","v":14},{"$f":"Z14/(AB4-Z10)","v":1},{"$f":"IF(AA14=0,0,(AA14*((LOG(AA14))/LOG(2))))","v":0},null,{"$f":"N14","v":222},{"$f":"COUNTIF(L46:L65,AD14)","v":11},{"$f":"AE14/(AG4-AE10)","v":1},{"$f":"IF(AF14=0,0,(AF14*((LOG(AF14))/LOG(2))))","v":0},null,{"$f":"N14","v":222},{"$f":"COUNTIF(L66:L84,AI14)","v":13},{"$f":"AJ14/(AL4-AJ10)","v":1},{"$f":"IF(AK14=0,0,(AK14*((LOG(AK14))/LOG(2))))","v":0},null,{"$f":"N14","v":222},{"$f":"COUNTIF(L85:L104,AN14)","v":12},{"$f":"AO14/(AQ4-AO10)","v":1},{"$f":"IF(AP14=0,0,(AP14*((LOG(AP14))/LOG(2))))","v":0},null,{"$f":"N14","v":222},{"$f":"COUNTIF(L105:L123,AS14)","v":10},{"$f":"AT14/(AV4-AT10)","v":1},{"$f":"IF(AU14=0,0,(AU14*((LOG(AU14))/LOG(2))))","v":0}]
[22,1172,23,1178,23,1184,null,null,null,null,0,222,null,null,null,{"$f":"SUM(P7:P14)","v":1},{"$f":"-SUM(Q7:Q14)","v":0.92660670736971307},null,null,null,null,{"$f":"SUM(V7:V14)","v":1},{"$f":"-SUM(W7:W14)","v":0},null,null,null,{"$f":"SUM(AA7:AA14)","v":1},{"$f":"-SUM(AB7:AB14)","v":0},null,null,null,{"$f":"SUM(AF7:AF14)","v":1},{"$f":"-SUM(AG7:AG14)","v":0},null,null,null,{"$f":"SUM(AK7:AK14)","v":1},{"$f":"-SUM(AL7:AL14)","v":0},null,null,null,{"$f":"SUM(AP7:AP14)","v":1},{"$f":"-SUM(AQ7:AQ14)","v":0},null,null,null,{"$f":"SUM(AU7:AU14)","v":1},{"$f":"-SUM(AV7:AV14)","v":0}]
[22,1288,23,1293,23,1308,null,null,null,null,0,222,null,null,null,"U=",{"$f":"Q15/(LOG(Q4)/LOG(2))","v":0.13487008989908461},null,null,null,null,"U1=",{"$f":"W15/(LOG(W4)/LOG(2))","v":0},null,null,null,"U2=",{"$f":"AB15/(LOG(AB4)/LOG(2))","v":0},null,null,null,"U3=",{"$f":"AG15/(LOG(AG4)/LOG(2))","v":0},null,null,null,"U4=",{"$f":"AL15/(LOG(AL4)/LOG(2))","v":0},null,null,null,"U5=",{"$f":"AQ15/(LOG(AQ4)/LOG(2))","v":0},null,null,null,"U6=",{"$f":"AV15/(LOG(AV4)/LOG(2))","v":0}]
[22,1438,23,1442,23,1446,null,null,null,null,0,222]
[22,1549,23,1552,23,1561,null,null,null,null,0,222]
[22,1670,23,1681,23,1693,null,null,null,null,0,222,null,"Total Target Seq"]
[22,1805,23,1813,23,1820,null,null,null,null,0,222,null,{"$f":"COUNTIF(L7:L123,G3)","v":40},null,20,19,20,19,20,19]
[22,1923,23,1935,23,1945,null,null,null,null,0,222,null,null,null,"% of reinforcement given in 6 equal intervals based on number of trials "]
[22,2056,23,2070,23,2076,null,null,null,null,0,222,null,null,null,"%_1","%_2","%_3","%_4","%_5","%_6"]
[22,2184,23,2195,23,2205,null,null,null,null,0,222,null,null,"target sequence",{"$f":"$G$3","v":122},{"$f":"$G$3","v":122},{"$f":"$G$3","v":122},{"$f":"$G$3","v":122},{"$f":"$G$3","v":122},{"$f":"$G$3","v":122}]
[22,2331,23,2337,23,2346,null,null,null,null,0,222,null,null,"total reinforcement",{"$f":"U10","v":3},{"$f":"Z10","v":5},{"$f":"AE10","v":9},{"$f":"AJ10","v":6},{"$f":"AO10","v":8},{"$f":"AT10","v":9}]
[22,2449,23,2453,23,2460,null,null,null,null,0,222,null,null,"% target"]
[11,2552,21,2576,21,2584,null,null,null,null,0,122,null,null,"CCRF"]
[22,2745,23,2749,23,2754,null,null,null,null,0,222,null,null,"% CCRf"]
[11,2849,21,2861,21,2866,null,null,null,null,0,122,null,null,"average response rate",{"$f":"F26/P20","v":129.19999999999999},{"$f":"(F45-F26)/Q20","v":143.26315789473685},{"$f":"(F65-F45)/R20","v":137.65},{"$f":"(F84-F65)/S20","v":140.05263157894737},{"$f":"(F104-F84)/T20","v":144.15},{"$f":"(F123-F104)/U20","v":136.05263157894737}]
[22,3082,23,3087,23,3093,null,null,null,null,0,222]
[11,3191,21,3216,21,3230,null,null,null,null,0,122]
[22,3426,23,3434,23,3442,null,null,null,null,0,222]
[11,3538,21,3549,21,3557,null,null,null,null,0,122]
[11,3690,21,3702,21,3709,null,null,null,null,0,122]
[22,3892,23,3898,23,3907,null,null,null,null,0,222]
[22,4013,23,4021,23,4031,null,null,null,null,0,222]
[22,4138,23,4148,23,4156,null,null,null,null,0,222]
[22,4271,23,4283,23,4290,null,null,null,null,0,222]
[22,4395,23,4399,23,4407,null,null,null,null,0,222]
[22,4520,23,4523,23,4530,null,null,null,null,0,222]
[22,4630,23,4636,23,4640,null,null,null,null,0,222]
[22,4746,23,4750,23,4755,null,null,null,null,0,222]
[22,4874,23,4879,23,4885,null,null,null,null,0,222]
[22,4988,23,4999,23,5008,null,null,null,null,0,222]
[11,5103,21,5115,21,5120,null,null,null,null,0,122]
[22,5293,23,5297,23,5306,null,null,null,null,0,222]
[11,5402,21,5414,21,5427,null,null,null,null,0,122]
[22,5611,23,5615,23,5622,null,null,null,null,0,222]
[11,5717,21,5730,21,5749,null,null,null,null,0,122]
[22,5905,23,5915,23,5923,null,null,null,null,0,222]
[11,6053,21,6063,21,6067,null,null,null,null,0,122]
[22,6202,23,6207,23,6214,null,null,null,null,0,222]
[11,6309,21,6320,21,6329,null,null,null,null,0,122]
[11,6446,21,6455,21,6459,null,null,null,null,0,122]
[22,6627,23,6632,23,6646,null,null,null,null,0,222]
[22,6757,23,6765,23,6774,null,null,null,null,0,222]
[11,6871,21,6883,21,6893,null,null,null,null,0,122]
[22,7032,23,7037,23,7041,null,null,null,null,0,222]
[22,7159,23,7165,23,7171,null,null,null,null,0,222]
[22,7275,23,7278,23,7283,null,null,null,null,0,222]
[11,7379,21,7391,21,7394,null,null,null,null,0,122]
[22,7553,23,7559,23,7565,null,null,null,null,0,222]
[22,7671,23,7674,23,7682,null,null,null,null,0,222]
[22,7792,23,7798,23,7806,null,null,null,null,0,222]
[11,7902,21,7912,21,7917,null,null,null,null,0,122]
[11,8046,21,8054,21,8059,null,null,null,null,0,122]
[22,8187,23,8191,23,8196,null,null,null,null,0,222]
[11,8295,21,8308,21,8320,null,null,null,null,0,122]
[11,8458,21,8470,21,8484,null,null,null,null,0,122]
[22,8727,23,8731,23,8737,null,null,null,null,0,222]
[22,8842,23,8847,23,8857,null,null,null,null,0,222]
[22,8962,23,8966,23,8979,null,null,null,null,0,222]
[22,9090,23,9094,23,9104,null,null,null,null,0,222]
[11,9196,21,9209,21,9221,null,null,null,null,0,122]
[22,9365,23,9370,23,9377,null,null,null,null,0,222]
[11,9472,21,9486,21,9499,null,null,null,null,0,122]
[22,9638,23,9642,23,9652,null,null,null,null,0,222]
[22,9775,23,9784,23,9792,null,null,null,null,0,222]
[22,9903,23,9907,23,9914,null,null,null,null,0,222]
[22,10022,23,10031,23,10039,null,null,null,null,0,222]
[11,10132,21,10143,21,10146,null,null,null,null,0,122]
[11,10320,21,10330,21,10336,null,null,null,null,0,122]
[22,10450,23,10454,23,10460,null,null,null,null,0,222]
[22,10568,23,10573,23,10583,null,null,null,null,0,222]
[22,10693,23,10711,23,10720,null,null,null,null,0,222]
[22,10864,23,10868,23,10880,null,null,null,null,0,222]
[22,10990,23,10993,23,11001,null,null,null,null,0,222]
[22,11103,23,11107,23,11115,null,null,null,null,0,222]
[11,11210,21,11231,21,11270,null,null,null,null,0,122]
[22,11424,23,11429,23,11437,null,null,null,null,0,222]
[22,11540,23,11547,23,11556,null,null,null,null,0,222]
[11,11661,21,11670,21,11677,null,null,null,null,0,122]
[11,11816,21,11824,21,11836,null,null,null,null,0,122]
[11,12007,21,12016,21,12023,null,null,null,null,0,122]
[11,12180,21,12196,21,12204,null,null,null,null,0,122]
[22,12412,23,12417,23,12430,null,null,null,null,0,222]
[22,12542,23,12553,23,12561,null,null,null,null,0,222]
[22,12671,23,12676,23,12682,null,null,null,null,0,222]
[22,12791,23,12795,23,12803,null,null,null,null,0,222]
[22,12906,23,12910,23,12921,null,null,null,null,0,222]
[11,13017,21,13029,21,13032,null,null,null,null,0,122]
[22,13160,23,13168,23,13181,null,null,null,null,0,222]
[11,13307,21,13318,21,13323,null,null,null,null,0,122]
[22,13469,23,13479,23,13489,null,null,null,null,0,222]
[11,13586,21,13595,21,13603,null,null,null,null,0,122]
[11,13699,21,13722,21,13733,null,null,null,null,0,122]
[11,13869,21,13877,21,13894,null,null,null,null,0,122]
[22,14038,23,14043,23,14051,null,null,null,null,0,222]
[22,14167,23,14174,23,14196,null,null,null,null,0,222]
[22,14303,23,14307,23,14316,null,null,null,null,0,222]
[22,14424,23,14429,23,14442,null,null,null,null,0,222]
[11,14538,21,14548,21,14551,null,null,null,null,0,122]
[22,14672,23,14677,23,14682,null,null,null,null,0,222]
[11,14783,21,14793,21,14803,null,null,null,null,0,122]
[22,14922,23,14926,23,14941,null,null,null,null,0,222]
[11,15039,21,15049,21,15053,null,null,null,null,0,122]
[22,15187,23,15195,23,15208,null,null,null,null,0,222]
[11,15303,21,15314,21,15331,null,null,null,null,0,122]
[22,15489,23,15499,23,15507,null,null,null,null,0,222]
[11,15607,21,15621,21,15635,null,null,null,null,0,122]
[11,15739,21,15752,21,15757,null,null,null,null,0,122]
[22,15930,23,15934,23,15941,null,null,null,null,0,222]
[22,16050,23,16059,23,16072,null,null,null,null,0,222]
[11,16165,21,16174,21,16188,null,null,null,null,1,122]

{"sheet":"!LA17B02.. I","index":10,"n_rows":122,"n_cols":48,"rows_kept":122,"cut":false,"hidden":false,"merged":[[4,39,4,42],[5,39,5,40],[4,44,4,47],[5,44,5,45],[4,24,4,27],[5,24,5,25],[4,29,4,32],[5,29,5,30],[4,34,4,37],[5,34,5,35],[1,1,1,2],[5,13,5,14],[18,13,18,14],[19,13,19,14],[4,19,4,22],[5,19,5,20]]}
["Report for:!LA17B02.. I"]
["Date:","<date>"]
["Hen:","<hen>",null,null,null,"Correct Sequence",{"$f":"Start!J2","v":122},null,null,null,null,null,null,null,null,"Total Sequences in Data",{"$f":"4994-COUNTBLANK(L7:L5000)","v":116},null,null,null,null,"Total Sequences in Block Data",{"$f":"COUNTA(L7:L25)","v":19},null,null,null,"Total Sequences in Block Data",{"$f":"COUNTA(L26:L45)","v":20},null,null,null,"Total Sequences in Block Data",{"$f":"COUNTA(L46:L64)","v":19},null,null,null,"Total Sequences in Block Data",{"$f":"COUNTA(L65:L83)","v":19},null,null,null,"Total Sequences in Block Data",{"$f":"COUNTA(L84:L103)","v":20},null,null,null,"Total Sequences in Block Data",{"$f":"COUNTA(L104:L122)","v":19}]
[null,null,null,null,null,null,null,null,null,null,null,null,null,null,null,"Total Sequences in Summary",{"$f":"SUM(O7:O14)","v":116},null,null,null,null,"Total Sequences in Block Summary",{"$f":"SUM(U7:U14)","v":19},null,null,null,"Total Sequences in Block Summary",{"$f":"SUM(Z7:Z14)","v":20},null,null,null,"Total Sequences in Block Summary",{"$f":"SUM(AE7:AE14)","v":19},null,null,null,"Total Sequences in Block Summary",{"$f":"SUM(AJ7:AJ14)","v":19},null,null,null,"Total Sequences in Block Summary",{"$f":"SUM(AO7:AO14)","v":20},null,null,null,"Total Sequences in Block Summary",{"$f":"SUM(AT7:AT14)","v":19}]
[null,null,null,null,null,null,null,null,null,null,null,null,null,null,null,null,null,null,null,"Block 1",null,null,null,null,"Block 2",null,null,null,null,"Block 3",null,null,null,null,"Block 4",null,null,null,null,"Block 5",null,null,null,null,"Block 6"]
["Sequence\nComponent\n1","Time\n1","Sequence\nComponent\n2","Time\n2","Sequence\nComponent\n3","Time\n3","Sequence\nComponent\n4","Time\n4","Sequence\nComponent\n5","Time\n5","Correct?\n0=No 1=Yes","Sequence",null,"Frequency",null,"Relative Frequency","Variability",null,null,"Frequency",null,"Relative Frequency","Variability",null,"Frequency",null,"Relative Frequency","Variability",null,"Frequency",null,"Relative Frequency","Variability",null,"Frequency",null,"Relative Frequency","Variability",null,"Frequency",null,"Relative Frequency","Variability",null,"Frequency",null,"Relative Frequency","Variability"]
[22,11,14,71,14,76,null,null,null,null,0,211,null,111,{"$f":"COUNTIF($L$7:$L$500,N7)","v":0},{"$f":"O7/$Q$4","v":0},{"$f":"IF(P7=0,0,(P7*((LOG(P7))/LOG(2))))","v":0},null,null,{"$f":"N7","v":111},{"$f":"COUNTIF(L7:L25,T7)","v":0},{"$f":"U7/(W4-U10)","v":0},{"$f":"IF(V7=0,0,(V7*((LOG(V7))/LOG(2))))","v":0},null,{"$f":"N7","v":111},{"$f":"COUNTIF(L26:L45,Y7)","v":0},{"$f":"Z7/(AB4-Z10)","v":0},{"$f":"IF(AA7=0,0,(AA7*((LOG(AA7))/LOG(2))))","v":0},null,{"$f":"N7","v":111},{"$f":"COUNTIF(L46:L64,AD7)","v":0},{"$f":"AE7/(AG4-AE10)","v":0},{"$f":"IF(AF7=0,0,(AF7*((LOG(AF7))/LOG(2))))","v":0},null,{"$f":"N7","v":111},{"$f":"COUNTIF(L65:L83,AI7)","v":0},{"$f":"AJ7/(AL4-AJ10)","v":0},{"$f":"IF(AK7=0,0,(AK7*((LOG(AK7))/LOG(2))))","v":0},null,{"$f":"N7","v":111},{"$f":"COUNTIF(L84:L103,AN7)","v":0},{"$f":"AO7/(AQ4-AO10)","v":0},{"$f":"IF(AP7=0,0,(AP7*((LOG(AP7))/LOG(2))))","v":0},null,{"$f":"N7","v":111},{"$f":"COUNTIF(L104:L122,AS7)","v":0},{"$f":"AT7/(AV4-AT10)","v":0},{"$f":"IF(AU7=0,0,(AU7*((LOG(AU7))/LOG(2))))","v":0}]
[22,192,23,197,14,205,null,null,null,null,0,221,null,112,{"$f":"COUNTIF($L$7:$L$500,N8)","v":0},{"$f":"O8/$Q$4","v":0},{"$f":"IF(P8=0,0,(P8*((LOG(P8))/LOG(2))))","v":0},null,null,{"$f":"N8","v":112},{"$f":"COUNTIF(L7:L25,T8)","v":0},{"$f":"U8/(W4-U10)","v":0},{"$f":"IF(V8=0,0,(V8*((LOG(V8))/LOG(2))))","v":0},null,{"$f":"N8","v":112},{"$f":"COUNTIF(L26:L45,Y8)","v":0},{"$f":"Z8/(AB4-Z10)","v":0},{"$f":"IF(AA8=0,0,(AA8*((LOG(AA8))/LOG(2))))","v":0},null,{"$f":"N8","v":112},{"$f":"COUNTIF(L46:L64,AD8)","v":0},{"$f":"AE8/(AG4-AE10)","v":0},{"$f":"IF(AF8=0,0,(AF8*((LOG(AF8))/LOG(2))))","v":0},null,{"$f":"N8","v":112},{"$f":"COUNTIF(L65:L83,AI8)","v":0},{"$f":"AJ8/(AL4-AJ10)","v":0},{"$f":"IF(AK8=0,0,(AK8*((LOG(AK8))/LOG(2))))","v":0},null,{"$f":"N8","v":112},{"$f":"COUNTIF(L84:L103,AN8)","v":0},{"$f":"AO8/(AQ4-AO10)","v":0},{"$f":"IF(AP8=0,0,(AP8*((LOG(AP8))/LOG(2))))","v":0},null,{"$f":"N8","v":112},{"$f":"COUNTIF(L104:L122,AS8)","v":0},{"$f":"AT8/(AV4-AT10)","v":0},{"$f":"IF(AU8=0,0,(AU8*((LOG(AU8))/LOG(2))))","v":0}]
[22,314,23,323,23,331,null,null,null,null,0,222,null,121,{"$f":"COUNTIF($L$7:$L$500,N9)","v":0},{"$f":"O9/$Q$4","v":0},{"$f":"IF(P9=0,0,(P9*((LOG(P9))/LOG(2))))","v":0},null,null,{"$f":"N9","v":121},{"$f":"COUNTIF(L7:L25,T9)","v":0},{"$f":"U9/(W4-U10)","v":0},{"$f":"IF(V9=0,0,(V9*((LOG(V9))/LOG(2))))","v":0},null,{"$f":"N9","v":121},{"$f":"COUNTIF(L26:L45,Y9)","v":0},{"$f":"Z9/(AB4-Z10)","v":0},{"$f":"IF(AA9=0,0,(AA9*((LOG(AA9))/LOG(2))))","v":0},null,{"$f":"N9","v":121},{"$f":"COUNTIF(L46:L64,AD9)","v":0},{"$f":"AE9/(AG4-AE10)","v":0},{"$f":"IF(AF9=0,0,(AF9*((LOG(AF9))/LOG(2))))","v":0},null,{"$f":"N9","v":121},{"$f":"COUNTIF(L65:L83,AI9)","v":0},{"$f":"AJ9/(AL4-AJ10)","v":0},{"$f":"IF(AK9=0,0,(AK9*((LOG(AK9))/LOG(2))))","v":0},null,{"$f":"N9","v":121},{"$f":"COUNTIF(L84:L103,AN9)","v":0},{"$f":"AO9/(AQ4-AO10)","v":0},{"$f":"IF(AP9=0,0,(AP9*((LOG(AP9))/LOG(2))))","v":0},null,{"$f":"N9","v":121},{"$f":"COUNTIF(L104:L122,AS9)","v":0},{"$f":"AT9/(AV4-AT10)","v":0},{"$f":"IF(AU9=0,0,(AU9*((LOG(AU9))/LOG(2))))","v":0}]
[22,435,23,442,23,450,null,null,null,null,0,222,null,122,{"$f":"COUNTIF($L$7:$L$500,N10)","v":40},{"$f":"O10/$Q$4","v":0.34482758620689657},{"$f":"IF(P10=0,0,(P10*((LOG(P10))/LOG(2))))","v":-0.52967341387593436},null,null,{"$f":"N10","v":122},{"$f":"COUNTIF(L7:L25,T10)","v":4},null,null,null,{"$f":"N10","v":122},{"$f":"COUNTIF(L26:L45,Y10)","v":9},null,null,null,{"$f":"N10","v":122},{"$f":"COUNTIF(L46:L64,AD10)","v":7},null,null,null,{"$f":"N10","v":122},{"$f":"COUNTIF(L65:L83,AI10)","v":5},null,null,null,{"$f":"N10","v":122},{"$f":"COUNTIF(L84:L103,AN10)","v":8},null,null,null,{"$f":"N10","v":122},{"$f":"COUNTIF(L104:L122,AS10)","v":7}]
[22,556,23,559,23,567,null,null,null,null,0,222,null,211,{"$f":"COUNTIF($L$7:$L$500,N11)","v":1},{"$f":"O11/$Q$4","v":8.6206896551724137E-3},{"$f":"IF(P11=0,0,(P11*((LOG(P11))/LOG(2))))","v":-5.912052582006528E-2},null,null,{"$f":"N11","v":211},{"$f":"COUNTIF(L7:L25,T11)","v":1},{"$f":"U11/(W4-U10)","v":6.6666666666666666E-2},{"$f":"IF(V11=0,0,(V11*((LOG(V11))/LOG(2))))","v":-0.26045937304056793},null,{"$f":"N11","v":211},{"$f":"COUNTIF(L26:L45,Y11)","v":0},{"$f":"Z11/(AB4-Z10)","v":0},{"$f":"IF(AA11=0,0,(AA11*((LOG(AA11))/LOG(2))))","v":0},null,{"$f":"N11","v":211},{"$f":"COUNTIF(L46:L64,AD11)","v":0},{"$f":"AE11/(AG4-AE10)","v":0},{"$f":"IF(AF11=0,0,(AF11*((LOG(AF11))/LOG(2))))","v":0},null,{"$f":"N11","v":211},{"$f":"COUNTIF(L65:L83,AI11)","v":0},{"$f":"AJ11/(AL4-AJ10)","v":0},{"$f":"IF(AK11=0,0,(AK11*((LOG(AK11))/LOG(2))))","v":0},null,{"$f":"N11","v":211},{"$f":"COUNTIF(L84:L103,AN11)","v":0},{"$f":"AO11/(AQ4-AO10)","v":0},{"$f":"IF(AP11=0,0,(AP11*((LOG(AP11))/LOG(2))))","v":0},null,{"$f":"N11","v":211},{"$f":"COUNTIF(L104:L122,AS11)","v":0},{"$f":"AT11/(AV4-AT10)","v":0},{"$f":"IF(AU11=0,0,(AU11*((LOG(AU11))/LOG(2))))","v":0}]
[22,676,23,685,23,693,null,null,null,null,0,222,null,212,{"$f":"COUNTIF($L$7:$L$500,N12)","v":0},{"$f":"O12/$Q$4","v":0},{"$f":"IF(P12=0,0,(P12*((LOG(P12))/LOG(2))))","v":0},null,null,{"$f":"N12","v":212},{"$f":"COUNTIF(L7:L25,T12)","v":0},{"$f":"U12/(W4-U10)","v":0},{"$f":"IF(V12=0,0,(V12*((LOG(V12))/LOG(2))))","v":0},null,{"$f":"N12","v":212},{"$f":"COUNTIF(L26:L45,Y12)","v":0},{"$f":"Z12/(AB4-Z10)","v":0},{"$f":"IF(AA12=0,0,(AA12*((LOG(AA12))/LOG(2))))","v":0},null,{"$f":"N12","v":212},{"$f":"COUNTIF(L46:L64,AD12)","v":0},{"$f":"AE12/(AG4-AE10)","v":0},{"$f":"IF(AF12=0,0,(AF12*((LOG(AF12))/LOG(2))))","v":0},null,{"$f":"N12","v":212},{"$f":"COUNTIF(L65:L83,AI12)","v":0},{"$f":"AJ12/(AL4-AJ10)","v":0},{"$f":"IF(AK12=0,0,(AK12*((LOG(AK12))/LOG(2))))","v":0},null,{"$f":"N12","v":212},{"$f":"COUNTIF(L84:L103,AN12)","v":0},{"$f":"AO12/(AQ4-AO10)","v":0},{"$f":"IF(AP12=0,0,(AP12*((LOG(AP12))/LOG(2))))","v":0},null,{"$f":"N12","v":212},{"$f":"COUNTIF(L104:L122,AS12)","v":0},{"$f":"AT12/(AV4-AT10)","v":0},{"$f":"IF(AU12=0,0,(AU12*((LOG(AU12))/LOG(2))))","v":0}]
[11,790,21,801,21,807,null,null,null,null,0,122,null,221,{"$f":"COUNTIF($L$7:$L$500,N13)","v":1},{"$f":"O13/$Q$4","v":8.6206896551724137E-3},{"$f":"IF(P13=0,0,(P13*((LOG(P13))/LOG(2))))","v":-5.912052582006528E-2},null,null,{"$f":"N13","v":221},{"$f":"COUNTIF(L7:L25,T13)","v":1},{"$f":"U13/(W4-U10)","v":6.6666666666666666E-2},{"$f":"IF(V13=0,0,(V13*((LOG(V13))/LOG(2))))","v":-0.26045937304056793},null,{"$f":"N13","v":221},{"$f":"COUNTIF(L26:L45,Y13)","v":0},{"$f":"Z13/(AB4-Z10)","v":0},{"$f":"IF(AA13=0,0,(AA13*((LOG(AA13))/LOG(2))))","v":0},null,{"$f":"N13","v":221},{"$f":"COUNTIF(L46:L64,AD13)","v":0},{"$f":"AE13/(AG4-AE10)","v":0},{"$f":"IF(AF13=0,0,(AF13*((LOG(AF13))/LOG(2))))","v":0},null,{"$f":"N13","v":221},{"$f":"COUNTIF(L65:L83,AI13)","v":0},{"$f":"AJ13/(AL4-AJ10)","v":0},{"$f":"IF(AK13=0,0,(AK13*((LOG(AK13))/LOG(2))))","v":0},null,{"$f":"N13","v":221},{"$f":"COUNTIF(L84:L103,AN13)","v":0},{"$f":"AO13/(AQ4-AO10)","v":0},{"$f":"IF(AP13=0,0,(AP13*((LOG(AP13))/LOG(2))))","v":0},null,{"$f":"N13","v":221},{"$f":"COUNTIF(L104:L122,AS13)","v":0},{"$f":"AT13/(AV4-AT10)","v":0},{"$f":"IF(AU13=0,0,(AU13*((LOG(AU13))/LOG(2))))","v":0}]
[22,999,23,1004,23,1016,null,null,null,null,0,222,null,222,{"$f":"COUNTIF($L$7:$L$500,N14)","v":74},{"$f":"O14/$Q$4","v":0.63793103448275867},{"$f":"IF(P14=0,0,(P14*((LOG(P14))/LOG(2))))","v":-0.41371590157670729},null,null,{"$f":"N14","v":222},{"$f":"COUNTIF(L7:L25,T14)","v":13},{"$f":"U14/(W4-U10)","v":0.8666666666666667},{"$f":"IF(V14=0,0,(V14*((LOG(V14))/LOG(2))))","v":-0.17892409380510282},null,{"$f":"N14","v":222},{"$f":"COUNTIF(L26:L45,Y14)","v":11},{"$f":"Z14/(AB4-Z10)","v":1},{"$f":"IF(AA14=0,0,(AA14*((LOG(AA14))/LOG(2))))","v":0},null,{"$f":"N14","v":222},{"$f":"COUNTIF(L46:L64,AD14)","v":12},{"$f":"AE14/(AG4-AE10)","v":1},{"$f":"IF(AF14=0,0,(AF14*((LOG(AF14))/LOG(2))))","v":0},null,{"$f":"N14","v":222},{"$f":"COUNTIF(L65:L83,AI14)","v":14},{"$f":"AJ14/(AL4-AJ10)","v":1},{"$f":"IF(AK14=0,0,(AK14*((LOG(AK14))/LOG(2))))","v":0},null,{"$f":"N14","v":222},{"$f":"COUNTIF(L84:L103,AN14)","v":12},{"$f":"AO14/(AQ4-AO10)","v":1},{"$f":"IF(AP14=0,0,(AP14*((LOG(AP14))/LOG(2))))","v":0},null,{"$f":"N14","v":222},{"$f":"COUNTIF(L104:L122,AS14)","v":12},{"$f":"AT14/(AV4-AT10)","v":1},{"$f":"IF(AU14=0,0,(AU14*((LOG(AU14))/LOG(2))))","v":0}]
[22,1119,23,1123,23,1131,null,null,null,null,0,222,null,null,null,{"$f":"SUM(P7:P14)","v":1},{"$f":"-SUM(Q7:Q14)","v":1.0616303670927723},null,null,null,null,{"$f":"SUM(V7:V14)","v":1},{"$f":"-SUM(W7:W14)","v":0.69984283988623863},null,null,null,{"$f":"SUM(AA7:AA14)","v":1},{"$f":"-SUM(AB7:AB14)","v":0},null,null,null,{"$f":"SUM(AF7:AF14)","v":1},{"$f":"-SUM(AG7:AG14)","v":0},null,null,null,{"$f":"SUM(AK7:AK14)","v":1},{"$f":"-SUM(AL7:AL14)","v":0},null,null,null,{"$f":"SUM(AP7:AP14)","v":1},{"$f":"-SUM(AQ7:AQ14)","v":0},null,null,null,{"$f":"SUM(AU7:AU14)","v":1},{"$f":"-SUM(AV7:AV14)","v":0}]
[22,1299,23,1303,23,1316,null,null,null,null,0,222,null,null,null,"U=",{"$f":"Q15/(LOG(Q4)/LOG(2))","v":0.1548021739703033},null,null,null,null,"U1=",{"$f":"W15/(LOG(W4)/LOG(2))","v":0.16474924246504163},null,null,null,"U2=",{"$f":"AB15/(LOG(AB4)/LOG(2))","v":0},null,null,null,"U3=",{"$f":"AG15/(LOG(AG4)/LOG(2))","v":0},null,null,null,"U4=",{"$f":"AL15/(LOG(AL4)/LOG(2))","v":0},null,null,null,"U5=",{"$f":"AQ15/(LOG(AQ4)/LOG(2))","v":0},null,null,null,"U6=",{"$f":"AV15/(LOG(AV4)/LOG(2))","v":0}]
[22,1420,23,1424,23,1432,null,null,null,null,0,222]
[22,1536,23,1539,23,1550,null,null,null,null,0,222]
[11,1645,21,1675,21,1686,null,null,null,null,0,122,null,"Total Target Seq"]
[22,1908,23,1928,23,1936,null,null,null,null,0,222,null,{"$f":"COUNTIF(L7:L122,G3)","v":40},null,19,20,19,19,20,19]
[11,2032,21,2041,21,2047,null,null,null,null,0,122,null,null,null,"% of reinforcement given in 6 equal intervals based on number of trials "]
[22,2230,23,2234,23,2240,null,null,null,null,0,222,null,null,null,"%_1","%_2","%_3","%_4","%_5","%_6"]
[11,2335,21,2343,21,2354,null,null,null,null,0,122,null,null,"target sequence",{"$f":"$G$3","v":122},{"$f":"$G$3","v":122},{"$f":"$G$3","v":122},{"$f":"$G$3","v":122},{"$f":"$G$3","v":122},{"$f":"$G$3","v":122}]
[22,2557,23,2566,23,2572,null,null,null,null,0,222,null,null,"total reinforcement",{"$f":"U10","v":4},{"$f":"Z10","v":9},{"$f":"AE10","v":7},{"$f":"AJ10","v":5},{"$f":"AO10","v":8},{"$f":"AT10","v":7}]
[22,2682,23,2690,23,2702,null,null,null,null,0,222,null,null,"% target"]
[11,2797,21,2812,21,2830,null,null,null,null,0,122,null,null,"CCRF"]
[22,3021,23,3039,23,3047,null,null,null,null,0,222,null,null,"% CCRf"]
[11,3143,21,3152,21,3156,null,null,null,null,0,122,null,null,"average response rate",{"$f":"F25/P20","v":142.21052631578948},{"$f":"(F45-F25)/Q20","v":139.44999999999999},{"$f":"(F64-F45)/R20","v":129.42105263157896},{"$f":"(F83-F64)/S20","v":127},{"$f":"(F103-F83)/T20","v":139.94999999999999},{"$f":"(F122-F103)/U20","v":125.42105263157895}]
[22,3343,23,3359,23,3366,null,null,null,null,0,222]
[22,3473,23,3480,23,3488,null,null,null,null,0,222]
[22,3595,23,3597,23,3605,null,null,null,null,0,222]
[11,3702,21,3710,21,3715,null,null,null,null,0,122]
[22,3836,23,3847,23,3854,null,null,null,null,0,222]
[11,3951,21,3976,21,3986,null,null,null,null,0,122]
[22,4140,23,4144,23,4155,null,null,null,null,0,222]
[22,4264,23,4270,23,4279,null,null,null,null,0,222]
[22,4386,23,4397,23,4406,null,null,null,null,0,222]
[11,4502,21,4517,21,4522,null,null,null,null,0,122]
[22,4660,23,4669,23,4675,null,null,null,null,0,222]
[11,4772,21,4783,21,4793,null,null,null,null,0,122]
[11,4885,21,4896,21,4902,null,null,null,null,0,122]
[11,5033,21,5043,21,5049,null,null,null,null,0,122]
[11,5175,21,5188,21,5201,null,null,null,null,0,122]
[22,5345,23,5349,23,5367,null,null,null,null,0,222]
[22,5474,23,5478,23,5491,null,null,null,null,0,222]
[11,5587,21,5606,21,5615,null,null,null,null,0,122]
[22,5747,23,5755,23,5769,null,null,null,null,0,222]
[22,5877,23,5881,23,5892,null,null,null,null,0,222]
[22,6000,23,6005,23,6013,null,null,null,null,0,222]
[22,6120,23,6124,23,6134,null,null,null,null,0,222]
[11,6231,21,6240,21,6246,null,null,null,null,0,122]
[11,6337,21,6346,21,6354,null,null,null,null,0,122]
[22,6533,23,6547,23,6555,null,null,null,null,0,222]
[22,6665,23,6669,23,6685,null,null,null,null,0,222]
[11,6782,21,6790,21,6805,null,null,null,null,0,122]
[11,6897,21,6906,21,6914,null,null,null,null,0,122]
[22,7064,23,7069,23,7078,null,null,null,null,0,222]
[22,7184,23,7190,23,7202,null,null,null,null,0,222]
[11,7297,21,7312,21,7321,null,null,null,null,0,122]
[22,7454,23,7459,23,7468,null,null,null,null,0,222]
[22,7574,23,7577,23,7588,null,null,null,null,0,222]
[22,7694,23,7698,23,7714,null,null,null,null,0,222]
[22,7834,23,7837,23,7842,null,null,null,null,0,222]
[11,7937,21,7947,21,7950,null,null,null,null,0,122]
[22,8085,23,8094,23,8104,null,null,null,null,0,222]
[11,8201,21,8209,21,8220,null,null,null,null,0,122]
[22,8335,23,8349,23,8362,null,null,null,null,0,222]
[22,8474,23,8482,23,8488,null,null,null,null,0,222]
[11,8583,21,8593,21,8598,null,null,null,null,0,122]
[22,8703,23,8705,23,8708,null,null,null,null,0,222]
[22,8810,23,8815,23,8824,null,null,null,null,0,222]
[11,8924,21,8933,21,8937,null,null,null,null,0,122]
[22,9056,23,9064,23,9085,null,null,null,null,0,222]
[22,9195,23,9203,23,9210,null,null,null,null,0,222]
[22,9316,23,9324,23,9331,null,null,null,null,0,222]
[22,9436,23,9438,23,9447,null,null,null,null,0,222]
[22,9550,23,9556,23,9560,null,null,null,null,0,222]
[22,9676,23,9679,23,9688,null,null,null,null,0,222]
[22,9794,23,9797,23,9806,null,null,null,null,0,222]
[11,9901,21,9912,21,9924,null,null,null,null,0,122]
[22,10079,23,10092,23,10103,null,null,null,null,0,222]
[22,10211,23,10214,23,10218,null,null,null,null,0,222]
[11,10313,21,10353,21,10363,null,null,null,null,0,122]
[22,10564,23,10568,23,10576,null,null,null,null,0,222]
[11,10677,21,10687,21,10691,null,null,null,null,0,122]
[22,10813,23,10817,23,10826,null,null,null,null,0,222]
[22,10935,23,10946,23,10955,null,null,null,null,0,222]
[22,11060,23,11064,23,11068,null,null,null,null,0,222]
[11,11177,21,11189,21,11202,null,null,null,null,0,122]
[11,11334,21,11344,21,11348,null,null,null,null,0,122]
[22,11500,23,11520,23,11528,null,null,null,null,0,222]
[22,11635,23,11639,23,11649,null,null,null,null,0,222]
[11,11746,21,11754,21,11758,null,null,null,null,0,122]
[22,11879,23,11884,23,11894,null,null,null,null,0,222]
[11,11990,21,12003,21,12012,null,null,null,null,0,122]
[22,12160,23,12165,23,12176,null,null,null,null,0,222]
[22,12284,23,12292,23,12304,null,null,null,null,0,222]
[11,12400,21,12410,21,12420,null,null,null,null,0,122]
[22,12590,23,12592,23,12599,null,null,null,null,0,222]
[22,12706,23,12716,23,12724,null,null,null,null,0,222]
[11,12821,21,12832,21,12836,null,null,null,null,0,122]
[11,12931,21,12940,21,12953,null,null,null,null,0,122]
[22,13145,23,13154,23,13162,null,null,null,null,0,222]
[22,13268,23,13273,23,13280,null,null,null,null,0,222]
[11,13376,21,13387,21,13394,null,null,null,null,0,122]
[22,13537,23,13545,23,13558,null,null,null,null,0,222]
[11,13649,21,13662,21,13665,null,null,null,null,0,122]
[22,13795,23,13798,23,13808,null,null,null,null,0,222]
[11,13907,21,13916,21,13920,null,null,null,null,0,122]
[22,14040,23,14044,23,14054,null,null,null,null,0,222]
[22,14166,23,14175,23,14182,null,null,null,null,0,222]
[22,14291,23,14295,23,14303,null,null,null,null,0,222]
[22,14409,23,14414,23,14422,null,null,null,null,0,222]
[22,14527,23,14531,23,14539,null,null,null,null,0,222]
[11,14636,21,14648,21,14653,null,null,null,null,0,122]
[22,14796,23,14802,23,14811,null,null,null,null,0,222]
[11,14907,21,14916,21,14923,null,null,null,null,0,122]
[22,15032,23,15036,23,15046,null,null,null,null,0,222]
[22,15154,23,15157,23,15166,null,null,null,null,0,222]
[11,15264,21,15277,21,15286,null,null,null,null,0,122]
[22,15405,23,15421,23,15433,null,null,null,null,0,222]
[11,15530,21,15540,21,15545,null,null,null,null,1,122]

{"sheet":"!LA18A12.. I","index":11,"n_rows":89,"n_cols":48,"rows_kept":89,"cut":false,"hidden":false,"merged":[[4,39,4,42],[5,39,5,40],[4,44,4,47],[5,44,5,45],[4,24,4,27],[5,24,5,25],[4,29,4,32],[5,29,5,30],[4,34,4,37],[5,34,5,35],[1,1,1,2],[5,13,5,14],[18,13,18,14],[19,13,19,14],[4,19,4,22],[5,19,5,20]]}
["Report for:!LA18A12.. I"]
["Date:","<date>"]
["Hen:","<hen>",null,null,null,"Correct Sequence",{"$f":"Start!J2","v":122},null,null,null,null,null,null,null,null,"Total Sequences in Data",{"$f":"4994-COUNTBLANK(L7:L5000)","v":83},null,null,null,null,"Total Sequences in Block Data",{"$f":"COUNTA(L7:L20)","v":14},null,null,null,"Total Sequences in Block Data",{"$f":"COUNTA(L21:L34)","v":14},null,null,null,"Total Sequences in Block Data",{"$f":"COUNTA(L35:L47)","v":13},null,null,null,"Total Sequences in Block Data",{"$f":"COUNTA(L48:L61)","v":14},null,null,null,"Total Sequences in Block Data",{"$f":"COUNTA(L62:L75)","v":14},null,null,null,"Total Sequences in Block Data",{"$f":"COUNTA(L76:L89)","v":14}]
[null,null,null,null,null,null,null,null,null,null,null,null,null,null,null,"Total Sequences in Summary",{"$f":"SUM(O7:O14)","v":83},null,null,null,null,"Total Sequences in Block Summary",{"$f":"SUM(U7:U14)","v":14},null,null,null,"Total Sequences in Block Summary",{"$f":"SUM(Z7:Z14)","v":14},null,null,null,"Total Sequences in Block Summary",{"$f":"SUM(AE7:AE14)","v":13},null,null,null,"Total Sequences in Block Summary",{"$f":"SUM(AJ7:AJ14)","v":14},null,null,null,"Total Sequences in Block Summary",{"$f":"SUM(AO7:AO14)","v":14},null,null,null,"Total Sequences in Block Summary",{"$f":"SUM(AT7:AT14)","v":14}]
[null,null,null,null,null,null,null,null,null,null,null,null,null,null,null,null,null,null,null,"Block 1",null,null,null,null,"Block 2",null,null,null,null,"Block 3",null,null,null,null,"Block 4",null,null,null,null,"Block 5",null,null,null,null,"Block 6"]
["Sequence\nComponent\n1","Time\n1","Sequence\nComponent\n2","Time\n2","Sequence\nComponent\n3","Time\n3","Sequence\nComponent\n4","Time\n4","Sequence\nComponent\n5","Time\n5","Correct?\n0=No 1=Yes","Sequence",null,"Frequency",null,"Relative Frequency","Variability",null,null,"Frequency",null,"Relative Frequency","Variability",null,"Frequency",null,"Relative Frequency","Variability",null,"Frequency",null,"Relative Frequency","Variability",null,"Frequency",null,"Relative Frequency","Variability",null,"Frequency",null,"Relative Frequency","Variability",null,"Frequency",null,"Relative Frequency","Variability"]
[22,47,14,59,23,118,null,null,null,null,0,212,null,111,{"$f":"COUNTIF($L$7:$L$500,N7)","v":0},{"$f":"O7/$Q$4","v":0},{"$f":"IF(P7=0,0,(P7*((LOG(P7))/LOG(2))))","v":0},null,null,{"$f":"N7","v":111},{"$f":"COUNTIF(L7:L20,T7)","v":0},{"$f":"U7/(W4-U10)","v":0},{"$f":"IF(V7=0,0,(V7*((LOG(V7))/LOG(2))))","v":0},null,{"$f":"N7","v":111},{"$f":"COUNTIF(L21:L34,Y7)","v":0},{"$f":"Z7/(AB4-Z10)","v":0},{"$f":"IF(AA7=0,0,(AA7*((LOG(AA7))/LOG(2))))","v":0},null,{"$f":"N7","v":111},{"$f":"COUNTIF(L35:L47,AD7)","v":0},{"$f":"AE7/(AG4-AE10)","v":0},{"$f":"IF(AF7=0,0,(AF7*((LOG(AF7))/LOG(2))))","v":0},null,{"$f":"N7","v":111},{"$f":"COUNTIF(L48:L61,AI7)","v":0},{"$f":"AJ7/(AL4-AJ10)","v":0},{"$f":"IF(AK7=0,0,(AK7*((LOG(AK7))/LOG(2))))","v":0},null,{"$f":"N7","v":111},{"$f":"COUNTIF(L62:L75,AN7)","v":0},{"$f":"AO7/(AQ4-AO10)","v":0},{"$f":"IF(AP7=0,0,(AP7*((LOG(AP7))/LOG(2))))","v":0},null,{"$f":"N7","v":111},{"$f":"COUNTIF(L76:L89,AS7)","v":0},{"$f":"AT7/(AV4-AT10)","v":0},{"$f":"IF(AU7=0,0,(AU7*((LOG(AU7))/LOG(2))))","v":0}]
[22,214,14,228,23,237,null,null,null,null,0,212,null,112,{"$f":"COUNTIF($L$7:$L$500,N8)","v":0},{"$f":"O8/$Q$4","v":0},{"$f":"IF(P8=0,0,(P8*((LOG(P8))/LOG(2))))","v":0},null,null,{"$f":"N8","v":112},{"$f":"COUNTIF(L7:L20,T8)","v":0},{"$f":"U8/(W4-U10)","v":0},{"$f":"IF(V8=0,0,(V8*((LOG(V8))/LOG(2))))","v":0},null,{"$f":"N8","v":112},{"$f":"COUNTIF(L21:L34,Y8)","v":0},{"$f":"Z8/(AB4-Z10)","v":0},{"$f":"IF(AA8=0,0,(AA8*((LOG(AA8))/LOG(2))))","v":0},null,{"$f":"N8","v":112},{"$f":"COUNTIF(L35:L47,AD8)","v":0},{"$f":"AE8/(AG4-AE10)","v":0},{"$f":"IF(AF8=0,0,(AF8*((LOG(AF8))/LOG(2))))","v":0},null,{"$f":"N8","v":112},{"$f":"COUNTIF(L48:L61,AI8)","v":0},{"$f":"AJ8/(AL4-AJ10)","v":0},{"$f":"IF(AK8=0,0,(AK8*((LOG(AK8))/LOG(2))))","v":0},null,{"$f":"N8","v":112},{"$f":"COUNTIF(L62:L75,AN8)","v":0},{"$f":"AO8/(AQ4-AO10)","v":0},{"$f":"IF(AP8=0,0,(AP8*((LOG(AP8))/LOG(2))))","v":0},null,{"$f":"N8","v":112},{"$f":"COUNTIF(L76:L89,AS8)","v":0},{"$f":"AT8/(AV4-AT10)","v":0},{"$f":"IF(AU8=0,0,(AU8*((LOG(AU8))/LOG(2))))","v":0}]
[22,335,23,358,23,363,null,null,null,null,0,222,null,121,{"$f":"COUNTIF($L$7:$L$500,N9)","v":0},{"$f":"O9/$Q$4","v":0},{"$f":"IF(P9=0,0,(P9*((LOG(P9))/LOG(2))))","v":0},null,null,{"$f":"N9","v":121},{"$f":"COUNTIF(L7:L20,T9)","v":0},{"$f":"U9/(W4-U10)","v":0},{"$f":"IF(V9=0,0,(V9*((LOG(V9))/LOG(2))))","v":0},null,{"$f":"N9","v":121},{"$f":"COUNTIF(L21:L34,Y9)","v":0},{"$f":"Z9/(AB4-Z10)","v":0},{"$f":"IF(AA9=0,0,(AA9*((LOG(AA9))/LOG(2))))","v":0},null,{"$f":"N9","v":121},{"$f":"COUNTIF(L35:L47,AD9)","v":0},{"$f":"AE9/(AG4-AE10)","v":0},{"$f":"IF(AF9=0,0,(AF9*((LOG(AF9))/LOG(2))))","v":0},null,{"$f":"N9","v":121},{"$f":"COUNTIF(L48:L61,AI9)","v":0},{"$f":"AJ9/(AL4-AJ10)","v":0},{"$f":"IF(AK9=0,0,(AK9*((LOG(AK9))/LOG(2))))","v":0},null,{"$f":"N9","v":121},{"$f":"COUNTIF(L62:L75,AN9)","v":0},{"$f":"AO9/(AQ4-AO10)","v":0},{"$f":"IF(AP9=0,0,(AP9*((LOG(AP9))/LOG(2))))","v":0},null,{"$f":"N9","v":121},{"$f":"COUNTIF(L76:L89,AS9)","v":0},{"$f":"AT9/(AV4-AT10)","v":0},{"$f":"IF(AU9=0,0,(AU9*((LOG(AU9))/LOG(2))))","v":0}]
[22,461,23,467,23,473,null,null,null,null,0,222,null,122,{"$f":"COUNTIF($L$7:$L$500,N10)","v":40},{"$f":"O10/$Q$4","v":0.48192771084337349},{"$f":"IF(P10=0,0,(P10*((LOG(P10))/LOG(2))))","v":-0.50752353564316255},null,null,{"$f":"N10","v":122},{"$f":"COUNTIF(L7:L20,T10)","v":3},null,null,null,{"$f":"N10","v":122},{"$f":"COUNTIF(L21:L34,Y10)","v":8},null,null,null,{"$f":"N10","v":122},{"$f":"COUNTIF(L35:L47,AD10)","v":7},null,null,null,{"$f":"N10","v":122},{"$f":"COUNTIF(L48:L61,AI10)","v":9},null,null,null,{"$f":"N10","v":122},{"$f":"COUNTIF(L62:L75,AN10)","v":5},null,null,null,{"$f":"N10","v":122},{"$f":"COUNTIF(L76:L89,AS10)","v":8}]
[22,573,23,590,23,599,null,null,null,null,0,222,null,211,{"$f":"COUNTIF($L$7:$L$500,N11)","v":0},{"$f":"O11/$Q$4","v":0},{"$f":"IF(P11=0,0,(P11*((LOG(P11))/LOG(2))))","v":0},null,null,{"$f":"N11","v":211},{"$f":"COUNTIF(L7:L20,T11)","v":0},{"$f":"U11/(W4-U10)","v":0},{"$f":"IF(V11=0,0,(V11*((LOG(V11))/LOG(2))))","v":0},null,{"$f":"N11","v":211},{"$f":"COUNTIF(L21:L34,Y11)","v":0},{"$f":"Z11/(AB4-Z10)","v":0},{"$f":"IF(AA11=0,0,(AA11*((LOG(AA11))/LOG(2))))","v":0},null,{"$f":"N11","v":211},{"$f":"COUNTIF(L35:L47,AD11)","v":0},{"$f":"AE11/(AG4-AE10)","v":0},{"$f":"IF(AF11=0,0,(AF11*((LOG(AF11))/LOG(2))))","v":0},null,{"$f":"N11","v":211},{"$f":"COUNTIF(L48:L61,AI11)","v":0},{"$f":"AJ11/(AL4-AJ10)","v":0},{"$f":"IF(AK11=0,0,(AK11*((LOG(AK11))/LOG(2))))","v":0},null,{"$f":"N11","v":211},{"$f":"COUNTIF(L62:L75,AN11)","v":0},{"$f":"AO11/(AQ4-AO10)","v":0},{"$f":"IF(AP11=0,0,(AP11*((LOG(AP11))/LOG(2))))","v":0},null,{"$f":"N11","v":211},{"$f":"COUNTIF(L76:L89,AS11)","v":0},{"$f":"AT11/(AV4-AT10)","v":0},{"$f":"IF(AU11=0,0,(AU11*((LOG(AU11))/LOG(2))))","v":0}]
[11,695,21,704,21,708,null,null,null,null,0,122,null,212,{"$f":"COUNTIF($L$7:$L$500,N12)","v":2},{"$f":"O12/$Q$4","v":2.4096385542168676E-2},{"$f":"IF(P12=0,0,(P12*((LOG(P12))/LOG(2))))","v":-0.12951902244209457},null,null,{"$f":"N12","v":212},{"$f":"COUNTIF(L7:L20,T12)","v":2},{"$f":"U12/(W4-U10)","v":0.18181818181818182},{"$f":"IF(V12=0,0,(V12*((LOG(V12))/LOG(2))))","v":-0.44716938520678134},null,{"$f":"N12","v":212},{"$f":"COUNTIF(L21:L34,Y12)","v":0},{"$f":"Z12/(AB4-Z10)","v":0},{"$f":"IF(AA12=0,0,(AA12*((LOG(AA12))/LOG(2))))","v":0},null,{"$f":"N12","v":212},{"$f":"COUNTIF(L35:L47,AD12)","v":0},{"$f":"AE12/(AG4-AE10)","v":0},{"$f":"IF(AF12=0,0,(AF12*((LOG(AF12))/LOG(2))))","v":0},null,{"$f":"N12","v":212},{"$f":"COUNTIF(L48:L61,AI12)","v":0},{"$f":"AJ12/(AL4-AJ10)","v":0},{"$f":"IF(AK12=0,0,(AK12*((LOG(AK12))/LOG(2))))","v":0},null,{"$f":"N12","v":212},{"$f":"COUNTIF(L62:L75,AN12)","v":0},{"$f":"AO12/(AQ4-AO10)","v":0},{"$f":"IF(AP12=0,0,(AP12*((LOG(AP12))/LOG(2))))","v":0},null,{"$f":"N12","v":212},{"$f":"COUNTIF(L76:L89,AS12)","v":0},{"$f":"AT12/(AV4-AT10)","v":0},{"$f":"IF(AU12=0,0,(AU12*((LOG(AU12))/LOG(2))))","v":0}]
[22,846,23,850,23,853,null,null,null,null,0,222,null,221,{"$f":"COUNTIF($L$7:$L$500,N13)","v":0},{"$f":"O13/$Q$4","v":0},{"$f":"IF(P13=0,0,(P13*((LOG(P13))/LOG(2))))","v":0},null,null,{"$f":"N13","v":221},{"$f":"COUNTIF(L7:L20,T13)","v":0},{"$f":"U13/(W4-U10)","v":0},{"$f":"IF(V13=0,0,(V13*((LOG(V13))/LOG(2))))","v":0},null,{"$f":"N13","v":221},{"$f":"COUNTIF(L21:L34,Y13)","v":0},{"$f":"Z13/(AB4-Z10)","v":0},{"$f":"IF(AA13=0,0,(AA13*((LOG(AA13))/LOG(2))))","v":0},null,{"$f":"N13","v":221},{"$f":"COUNTIF(L35:L47,AD13)","v":0},{"$f":"AE13/(AG4-AE10)","v":0},{"$f":"IF(AF13=0,0,(AF13*((LOG(AF13))/LOG(2))))","v":0},null,{"$f":"N13","v":221},{"$f":"COUNTIF(L48:L61,AI13)","v":0},{"$f":"AJ13/(AL4-AJ10)","v":0},{"$f":"IF(AK13=0,0,(AK13*((LOG(AK13))/LOG(2))))","v":0},null,{"$f":"N13","v":221},{"$f":"COUNTIF(L62:L75,AN13)","v":0},{"$f":"AO13/(AQ4-AO10)","v":0},{"$f":"IF(AP13=0,0,(AP13*((LOG(AP13))/LOG(2))))","v":0},null,{"$f":"N13","v":221},{"$f":"COUNTIF(L76:L89,AS13)","v":0},{"$f":"AT13/(AV4-AT10)","v":0},{"$f":"IF(AU13=0,0,(AU13*((LOG(AU13))/LOG(2))))","v":0}]
[11,949,21,960,21,964,null,null,null,null,0,122,null,222,{"$f":"COUNTIF($L$7:$L$500,N14)","v":41},{"$f":"O14/$Q$4","v":0.49397590361445781},{"$f":"IF(P14=0,0,(P14*((LOG(P14))/LOG(2))))","v":-0.50261427103472878},null,null,{"$f":"N14","v":222},{"$f":"COUNTIF(L7:L20,T14)","v":9},{"$f":"U14/(W4-U10)","v":0.81818181818181823},{"$f":"IF(V14=0,0,(V14*((LOG(V14))/LOG(2))))","v":-0.23686905043226034},null,{"$f":"N14","v":222},{"$f":"COUNTIF(L21:L34,Y14)","v":6},{"$f":"Z14/(AB4-Z10)","v":1},{"$f":"IF(AA14=0,0,(AA14*((LOG(AA14))/LOG(2))))","v":0},null,{"$f":"N14","v":222},{"$f":"COUNTIF(L35:L47,AD14)","v":6},{"$f":"AE14/(AG4-AE10)","v":1},{"$f":"IF(AF14=0,0,(AF14*((LOG(AF14))/LOG(2))))","v":0},null,{"$f":"N14","v":222},{"$f":"COUNTIF(L48:L61,AI14)","v":5},{"$f":"AJ14/(AL4-AJ10)","v":1},{"$f":"IF(AK14=0,0,(AK14*((LOG(AK14))/LOG(2))))","v":0},null,{"$f":"N14","v":222},{"$f":"COUNTIF(L62:L75,AN14)","v":9},{"$f":"AO14/(AQ4-AO10)","v":1},{"$f":"IF(AP14=0,0,(AP14*((LOG(AP14))/LOG(2))))","v":0},null,{"$f":"N14","v":222},{"$f":"COUNTIF(L76:L89,AS14)","v":6},{"$f":"AT14/(AV4-AT10)","v":1},{"$f":"IF(AU14=0,0,(AU14*((LOG(AU14))/LOG(2))))","v":0}]
[22,1118,23,1121,23,1127,null,null,null,null,0,222,null,null,null,{"$f":"SUM(P7:P14)","v":1},{"$f":"-SUM(Q7:Q14)","v":1.139656829119986},null,null,null,null,{"$f":"SUM(V7:V14)","v":1},{"$f":"-SUM(W7:W14)","v":0.68403843563904165},null,null,null,{"$f":"SUM(AA7:AA14)","v":1},{"$f":"-SUM(AB7:AB14)","v":0},null,null,null,{"$f":"SUM(AF7:AF14)","v":1},{"$f":"-SUM(AG7:AG14)","v":0},null,null,null,{"$f":"SUM(AK7:AK14)","v":1},{"$f":"-SUM(AL7:AL14)","v":0},null,null,null,{"$f":"SUM(AP7:AP14)","v":1},{"$f":"-SUM(AQ7:AQ14)","v":0},null,null,null,{"$f":"SUM(AU7:AU14)","v":1},{"$f":"-SUM(AV7:AV14)","v":0}]
[22,1233,23,1243,23,1250,null,null,null,null,0,222,null,null,null,"U=",{"$f":"Q15/(LOG(Q4)/LOG(2))","v":0.17876859294644365},null,null,null,null,"U1=",{"$f":"W15/(LOG(W4)/LOG(2))","v":0.17966237706816354},null,null,null,"U2=",{"$f":"AB15/(LOG(AB4)/LOG(2))","v":0},null,null,null,"U3=",{"$f":"AG15/(LOG(AG4)/LOG(2))","v":0},null,null,null,"U4=",{"$f":"AL15/(LOG(AL4)/LOG(2))","v":0},null,null,null,"U5=",{"$f":"AQ15/(LOG(AQ4)/LOG(2))","v":0},null,null,null,"U6=",{"$f":"AV15/(LOG(AV4)/LOG(2))","v":0}]
[22,1354,23,1358,23,1365,null,null,null,null,0,222]
[11,1461,21,1470,21,1474,null,null,null,null,0,122]
[22,1574,23,1583,23,1591,null,null,null,null,0,222,null,"Total Target Seq"]
[22,1698,23,1702,23,1713,null,null,null,null,0,222,null,{"$f":"COUNTIF(L7:L89,G3)","v":40},null,14,14,13,14,14,14]
[22,1821,23,1827,23,1835,null,null,null,null,0,222,null,null,null,"% of reinforcement given in 6 equal intervals based on number of trials "]
[11,1932,21,1940,21,1945,null,null,null,null,0,122,null,null,null,"%_1","%_2","%_3","%_4","%_5","%_6"]
[22,2047,23,2050,23,2061,null,null,null,null,0,222,null,null,"target sequence",{"$f":"$G$3","v":122},{"$f":"$G$3","v":122},{"$f":"$G$3","v":122},{"$f":"$G$3","v":122},{"$f":"$G$3","v":122},{"$f":"$G$3","v":122}]
[11,2155,21,2164,21,2169,null,null,null,null,0,122,null,null,"total reinforcement",{"$f":"U10","v":3},{"$f":"Z10","v":8},{"$f":"AE10","v":7},{"$f":"AJ10","v":9},{"$f":"AO10","v":5},{"$f":"AT10","v":8}]
[22,2280,23,2286,23,2294,null,null,null,null,0,222,null,null,"% target"]
[11,2390,21,2400,21,2417,null,null,null,null,0,122,null,null,"CCRF"]
[11,2518,21,2526,21,2535,null,null,null,null,0,122,null,null,"% CCRf"]
[22,2652,23,2662,23,2670,null,null,null,null,0,222,null,null,"average response rate",{"$f":"F20/P20","v":122.35714285714286},{"$f":"(F34-F20)/Q20","v":121.5},{"$f":"(F47-F34)/R20","v":124.07692307692308},{"$f":"(F61-F47)/S20","v":120.21428571428571},{"$f":"(F75-F61)/T20","v":124.07142857142857},{"$f":"(F89-F75)/U20","v":132.14285714285714}]
[22,2781,23,2784,23,2790,null,null,null,null,0,222]
[11,2886,21,2897,21,2905,null,null,null,null,0,122]
[11,2997,21,3005,21,3010,null,null,null,null,0,122]
[22,3154,23,3157,23,3166,null,null,null,null,0,222]
[11,3261,21,3276,21,3280,null,null,null,null,0,122]
[11,3401,21,3409,21,3414,null,null,null,null,0,122]
[22,3551,23,3558,23,3571,null,null,null,null,0,222]
[22,3681,23,3684,23,3690,null,null,null,null,0,222]
[11,3788,21,3800,21,3805,null,null,null,null,0,122]
[22,3906,23,3913,23,3922,null,null,null,null,0,222]
[11,4019,21,4028,21,4032,null,null,null,null,0,122]
[11,4132,21,4142,21,4154,null,null,null,null,0,122]
[22,4260,23,4264,23,4271,null,null,null,null,0,222]
[11,4366,21,4377,21,4382,null,null,null,null,0,122]
[11,4475,21,4490,21,4494,null,null,null,null,0,122]
[11,4587,21,4603,21,4611,null,null,null,null,0,122]
[22,4787,23,4796,23,4803,null,null,null,null,0,222]
[11,4899,21,4907,21,4912,null,null,null,null,0,122]
[22,5014,23,5018,23,5027,null,null,null,null,0,222]
[11,5124,21,5136,21,5140,null,null,null,null,0,122]
[11,5230,21,5245,21,5249,null,null,null,null,0,122]
[11,5341,21,5354,21,5361,null,null,null,null,0,122]
[22,5493,23,5503,23,5511,null,null,null,null,0,222]
[11,5607,21,5617,21,5621,null,null,null,null,0,122]
[11,5718,21,5727,21,5735,null,null,null,null,0,122]
[22,5860,23,5865,23,5874,null,null,null,null,0,222]
[11,5966,21,5979,21,5983,null,null,null,null,0,122]
[11,6079,21,6089,21,6093,null,null,null,null,0,122]
[22,6203,23,6210,23,6218,null,null,null,null,0,222]
[11,6314,21,6326,21,6331,null,null,null,null,0,122]
[22,6457,23,6470,23,6478,null,null,null,null,0,222]
[11,6573,21,6581,21,6586,null,null,null,null,0,122]
[22,6689,23,6702,23,6710,null,null,null,null,0,222]
[11,6806,21,6817,21,6822,null,null,null,null,0,122]
[11,6915,21,6923,21,6938,null,null,null,null,0,122]
[22,7075,23,7081,23,7089,null,null,null,null,0,222]
[22,7194,23,7201,23,7212,null,null,null,null,0,222]
[22,7314,23,7317,23,7322,null,null,null,null,0,222]
[11,7425,21,7434,21,7450,null,null,null,null,0,122]
[22,7608,23,7613,23,7624,null,null,null,null,0,222]
[22,7729,23,7738,23,7747,null,null,null,null,0,222]
[22,7852,23,7856,23,7867,null,null,null,null,0,222]
[11,7965,21,7974,21,7977,null,null,null,null,0,122]
[22,8076,23,8080,23,8086,null,null,null,null,0,222]
[11,8183,21,8191,21,8206,null,null,null,null,0,122]
[22,8313,23,8318,23,8325,null,null,null,null,0,222]
[22,8430,23,8439,23,8447,null,null,null,null,0,222]
[22,8595,23,8604,23,8612,null,null,null,null,0,222]
[11,8708,21,8717,21,8721,null,null,null,null,0,122]
[11,8819,21,8827,21,8832,null,null,null,null,0,122]
[22,8939,23,8943,23,8951,null,null,null,null,0,222]
[22,9056,23,9060,23,9071,null,null,null,null,0,222]
[11,9165,21,9175,21,9179,null,null,null,null,0,122]
[22,9285,23,9291,23,9296,null,null,null,null,0,222]
[11,9395,21,9404,21,9408,null,null,null,null,0,122]
[22,9519,23,9540,23,9554,null,null,null,null,0,222]
[11,9649,21,9658,21,9663,null,null,null,null,0,122]
[11,9783,21,9793,21,9807,null,null,null,null,0,122]
[11,9920,21,9929,21,9945,null,null,null,null,0,122]
[22,10168,23,10176,23,10187,null,null,null,null,0,222]
[11,10283,21,10293,21,10297,null,null,null,null,1,122]

{"sheet":"!LA19B02.. I","index":12,"n_rows":96,"n_cols":48,"rows_kept":96,"cut":false,"hidden":false,"merged":[[4,39,4,42],[5,39,5,40],[4,44,4,47],[5,44,5,45],[4,24,4,27],[5,24,5,25],[4,29,4,32],[5,29,5,30],[4,34,4,37],[5,34,5,35],[1,1,1,2],[5,13,5,14],[18,13,18,14],[19,13,19,14],[4,19,4,22],[5,19,5,20]]}
["Report for:!LA19B02.. I"]
["Date:","<date>"]
["Hen:","<hen>",null,null,null,"Correct Sequence",{"$f":"Start!J2","v":122},null,null,null,null,null,null,null,null,"Total Sequences in Data",{"$f":"4994-COUNTBLANK(L7:L5000)","v":90},null,null,null,null,"Total Sequences in Block Data",{"$f":"COUNTA(L7:L21)","v":15},null,null,null,"Total Sequences in Block Data",{"$f":"COUNTA(L22:L36)","v":15},null,null,null,"Total Sequences in Block Data",{"$f":"COUNTA(L37:L51)","v":15},null,null,null,"Total Sequences in Block Data",{"$f":"COUNTA(L52:L66)","v":15},null,null,null,"Total Sequences in Block Data",{"$f":"COUNTA(L67:L81)","v":15},null,null,null,"Total Sequences in Block Data",{"$f":"COUNTA(L82:L96)","v":15}]
[null,null,null,null,null,null,null,null,null,null,null,null,null,null,null,"Total Sequences in Summary",{"$f":"SUM(O7:O14)","v":90},null,null,null,null,"Total Sequences in Block Summary",{"$f":"SUM(U7:U14)","v":15},null,null,null,"Total Sequences in Block Summary",{"$f":"SUM(Z7:Z14)","v":15},null,null,null,"Total Sequences in Block Summary",{"$f":"SUM(AE7:AE14)","v":15},null,null,null,"Total Sequences in Block Summary",{"$f":"SUM(AJ7:AJ14)","v":15},null,null,null,"Total Sequences in Block Summary",{"$f":"SUM(AO7:AO14)","v":15},null,null,null,"Total Sequences in Block Summary",{"$f":"SUM(AT7:AT14)","v":15}]
[null,null,null,null,null,null,null,null,null,null,null,null,null,null,null,null,null,null,null,"Block 1",null,null,null,null,"Block 2",null,null,null,null,"Block 3",null,null,null,null,"Block 4",null,null,null,null,"Block 5",null,null,null,null,"Block 6"]
["Sequence\nComponent\n1","Time\n1","Sequence\nComponent\n2","Time\n2","Sequence\nComponent\n3","Time\n3","Sequence\nComponent\n4","Time\n4","Sequence\nComponent\n5","Time\n5","Correct?\n0=No 1=Yes","Sequence",null,"Frequency",null,"Relative Frequency","Variability",null,null,"Frequency",null,"Relative Frequency","Variability",null,"Frequency",null,"Relative Frequency","Variability",null,"Frequency",null,"Relative Frequency","Variability",null,"Frequency",null,"Relative Frequency","Variability",null,"Frequency",null,"Relative Frequency","Variability",null,"Frequency",null,"Relative Frequency","Variability"]
[11,5,21,15,21,19,null,null,null,null,0,122,null,111,{"$f":"COUNTIF($L$7:$L$500,N7)","v":0},{"$f":"O7/$Q$4","v":0},{"$f":"IF(P7=0,0,(P7*((LOG(P7))/LOG(2))))","v":0},null,null,{"$f":"N7","v":111},{"$f":"COUNTIF(L7:L21,T7)","v":0},{"$f":"U7/(W4-U10)","v":0},{"$f":"IF(V7=0,0,(V7*((LOG(V7))/LOG(2))))","v":0},null,{"$f":"N7","v":111},{"$f":"COUNTIF(L22:L36,Y7)","v":0},{"$f":"Z7/(AB4-Z10)","v":0},{"$f":"IF(AA7=0,0,(AA7*((LOG(AA7))/LOG(2))))","v":0},null,{"$f":"N7","v":111},{"$f":"COUNTIF(L37:L51,AD7)","v":0},{"$f":"AE7/(AG4-AE10)","v":0},{"$f":"IF(AF7=0,0,(AF7*((LOG(AF7))/LOG(2))))","v":0},null,{"$f":"N7","v":111},{"$f":"COUNTIF(L52:L66,AI7)","v":0},{"$f":"AJ7/(AL4-AJ10)","v":0},{"$f":"IF(AK7=0,0,(AK7*((LOG(AK7))/LOG(2))))","v":0},null,{"$f":"N7","v":111},{"$f":"COUNTIF(L67:L81,AN7)","v":0},{"$f":"AO7/(AQ4-AO10)","v":0},{"$f":"IF(AP7=0,0,(AP7*((LOG(AP7))/LOG(2))))","v":0},null,{"$f":"N7","v":111},{"$f":"COUNTIF(L82:L96,AS7)","v":0},{"$f":"AT7/(AV4-AT10)","v":0},{"$f":"IF(AU7=0,0,(AU7*((LOG(AU7))/LOG(2))))","v":0}]
[22,170,23,182,23,187,null,null,null,null,0,222,null,112,{"$f":"COUNTIF($L$7:$L$500,N8)","v":0},{"$f":"O8/$Q$4","v":0},{"$f":"IF(P8=0,0,(P8*((LOG(P8))/LOG(2))))","v":0},null,null,{"$f":"N8","v":112},{"$f":"COUNTIF(L7:L21,T8)","v":0},{"$f":"U8/(W4-U10)","v":0},{"$f":"IF(V8=0,0,(V8*((LOG(V8))/LOG(2))))","v":0},null,{"$f":"N8","v":112},{"$f":"COUNTIF(L22:L36,Y8)","v":0},{"$f":"Z8/(AB4-Z10)","v":0},{"$f":"IF(AA8=0,0,(AA8*((LOG(AA8))/LOG(2))))","v":0},null,{"$f":"N8","v":112},{"$f":"COUNTIF(L37:L51,AD8)","v":0},{"$f":"AE8/(AG4-AE10)","v":0},{"$f":"IF(AF8=0,0,(AF8*((LOG(AF8))/LOG(2))))","v":0},null,{"$f":"N8","v":112},{"$f":"COUNTIF(L52:L66,AI8)","v":0},{"$f":"AJ8/(AL4-AJ10)","v":0},{"$f":"IF(AK8=0,0,(AK8*((LOG(AK8))/LOG(2))))","v":0},null,{"$f":"N8","v":112},{"$f":"COUNTIF(L67:L81,AN8)","v":0},{"$f":"AO8/(AQ4-AO10)","v":0},{"$f":"IF(AP8=0,0,(AP8*((LOG(AP8))/LOG(2))))","v":0},null,{"$f":"N8","v":112},{"$f":"COUNTIF(L82:L96,AS8)","v":0},{"$f":"AT8/(AV4-AT10)","v":0},{"$f":"IF(AU8=0,0,(AU8*((LOG(AU8))/LOG(2))))","v":0}]
[22,290,23,294,23,298,null,null,null,null,0,222,null,121,{"$f":"COUNTIF($L$7:$L$500,N9)","v":0},{"$f":"O9/$Q$4","v":0},{"$f":"IF(P9=0,0,(P9*((LOG(P9))/LOG(2))))","v":0},null,null,{"$f":"N9","v":121},{"$f":"COUNTIF(L7:L21,T9)","v":0},{"$f":"U9/(W4-U10)","v":0},{"$f":"IF(V9=0,0,(V9*((LOG(V9))/LOG(2))))","v":0},null,{"$f":"N9","v":121},{"$f":"COUNTIF(L22:L36,Y9)","v":0},{"$f":"Z9/(AB4-Z10)","v":0},{"$f":"IF(AA9=0,0,(AA9*((LOG(AA9))/LOG(2))))","v":0},null,{"$f":"N9","v":121},{"$f":"COUNTIF(L37:L51,AD9)","v":0},{"$f":"AE9/(AG4-AE10)","v":0},{"$f":"IF(AF9=0,0,(AF9*((LOG(AF9))/LOG(2))))","v":0},null,{"$f":"N9","v":121},{"$f":"COUNTIF(L52:L66,AI9)","v":0},{"$f":"AJ9/(AL4-AJ10)","v":0},{"$f":"IF(AK9=0,0,(AK9*((LOG(AK9))/LOG(2))))","v":0},null,{"$f":"N9","v":121},{"$f":"COUNTIF(L67:L81,AN9)","v":0},{"$f":"AO9/(AQ4-AO10)","v":0},{"$f":"IF(AP9=0,0,(AP9*((LOG(AP9))/LOG(2))))","v":0},null,{"$f":"N9","v":121},{"$f":"COUNTIF(L82:L96,AS9)","v":0},{"$f":"AT9/(AV4-AT10)","v":0},{"$f":"IF(AU9=0,0,(AU9*((LOG(AU9))/LOG(2))))","v":0}]
[11,395,21,404,21,409,null,null,null,null,0,122,null,122,{"$f":"COUNTIF($L$7:$L$500,N10)","v":40},{"$f":"O10/$Q$4","v":0.44444444444444442},{"$f":"IF(P10=0,0,(P10*((LOG(P10))/LOG(2))))","v":-0.51996666730769447},null,null,{"$f":"N10","v":122},{"$f":"COUNTIF(L7:L21,T10)","v":6},null,null,null,{"$f":"N10","v":122},{"$f":"COUNTIF(L22:L36,Y10)","v":7},null,null,null,{"$f":"N10","v":122},{"$f":"COUNTIF(L37:L51,AD10)","v":10},null,null,null,{"$f":"N10","v":122},{"$f":"COUNTIF(L52:L66,AI10)","v":6},null,null,null,{"$f":"N10","v":122},{"$f":"COUNTIF(L67:L81,AN10)","v":6},null,null,null,{"$f":"N10","v":122},{"$f":"COUNTIF(L82:L96,AS10)","v":5}]
[11,501,21,509,21,516,null,null,null,null,0,122,null,211,{"$f":"COUNTIF($L$7:$L$500,N11)","v":0},{"$f":"O11/$Q$4","v":0},{"$f":"IF(P11=0,0,(P11*((LOG(P11))/LOG(2))))","v":0},null,null,{"$f":"N11","v":211},{"$f":"COUNTIF(L7:L21,T11)","v":0},{"$f":"U11/(W4-U10)","v":0},{"$f":"IF(V11=0,0,(V11*((LOG(V11))/LOG(2))))","v":0},null,{"$f":"N11","v":211},{"$f":"COUNTIF(L22:L36,Y11)","v":0},{"$f":"Z11/(AB4-Z10)","v":0},{"$f":"IF(AA11=0,0,(AA11*((LOG(AA11))/LOG(2))))","v":0},null,{"$f":"N11","v":211},{"$f":"COUNTIF(L37:L51,AD11)","v":0},{"$f":"AE11/(AG4-AE10)","v":0},{"$f":"IF(AF11=0,0,(AF11*((LOG(AF11))/LOG(2))))","v":0},null,{"$f":"N11","v":211},{"$f":"COUNTIF(L52:L66,AI11)","v":0},{"$f":"AJ11/(AL4-AJ10)","v":0},{"$f":"IF(AK11=0,0,(AK11*((LOG(AK11))/LOG(2))))","v":0},null,{"$f":"N11","v":211},{"$f":"COUNTIF(L67:L81,AN11)","v":0},{"$f":"AO11/(AQ4-AO10)","v":0},{"$f":"IF(AP11=0,0,(AP11*((LOG(AP11))/LOG(2))))","v":0},null,{"$f":"N11","v":211},{"$f":"COUNTIF(L82:L96,AS11)","v":0},{"$f":"AT11/(AV4-AT10)","v":0},{"$f":"IF(AU11=0,0,(AU11*((LOG(AU11))/LOG(2))))","v":0}]
[22,656,23,659,23,664,null,null,null,null,0,222,null,212,{"$f":"COUNTIF($L$7:$L$500,N12)","v":0},{"$f":"O12/$Q$4","v":0},{"$f":"IF(P12=0,0,(P12*((LOG(P12))/LOG(2))))","v":0},null,null,{"$f":"N12","v":212},{"$f":"COUNTIF(L7:L21,T12)","v":0},{"$f":"U12/(W4-U10)","v":0},{"$f":"IF(V12=0,0,(V12*((LOG(V12))/LOG(2))))","v":0},null,{"$f":"N12","v":212},{"$f":"COUNTIF(L22:L36,Y12)","v":0},{"$f":"Z12/(AB4-Z10)","v":0},{"$f":"IF(AA12=0,0,(AA12*((LOG(AA12))/LOG(2))))","v":0},null,{"$f":"N12","v":212},{"$f":"COUNTIF(L37:L51,AD12)","v":0},{"$f":"AE12/(AG4-AE10)","v":0},{"$f":"IF(AF12=0,0,(AF12*((LOG(AF12))/LOG(2))))","v":0},null,{"$f":"N12","v":212},{"$f":"COUNTIF(L52:L66,AI12)","v":0},{"$f":"AJ12/(AL4-AJ10)","v":0},{"$f":"IF(AK12=0,0,(AK12*((LOG(AK12))/LOG(2))))","v":0},null,{"$f":"N12","v":212},{"$f":"COUNTIF(L67:L81,AN12)","v":0},{"$f":"AO12/(AQ4-AO10)","v":0},{"$f":"IF(AP12=0,0,(AP12*((LOG(AP12))/LOG(2))))","v":0},null,{"$f":"N12","v":212},{"$f":"COUNTIF(L82:L96,AS12)","v":0},{"$f":"AT12/(AV4-AT10)","v":0},{"$f":"IF(AU12=0,0,(AU12*((LOG(AU12))/LOG(2))))","v":0}]
[22,767,23,774,23,786,null,null,null,null,0,222,null,221,{"$f":"COUNTIF($L$7:$L$500,N13)","v":0},{"$f":"O13/$Q$4","v":0},{"$f":"IF(P13=0,0,(P13*((LOG(P13))/LOG(2))))","v":0},null,null,{"$f":"N13","v":221},{"$f":"COUNTIF(L7:L21,T13)","v":0},{"$f":"U13/(W4-U10)","v":0},{"$f":"IF(V13=0,0,(V13*((LOG(V13))/LOG(2))))","v":0},null,{"$f":"N13","v":221},{"$f":"COUNTIF(L22:L36,Y13)","v":0},{"$f":"Z13/(AB4-Z10)","v":0},{"$f":"IF(AA13=0,0,(AA13*((LOG(AA13))/LOG(2))))","v":0},null,{"$f":"N13","v":221},{"$f":"COUNTIF(L37:L51,AD13)","v":0},{"$f":"AE13/(AG4-AE10)","v":0},{"$f":"IF(AF13=0,0,(AF13*((LOG(AF13))/LOG(2))))","v":0},null,{"$f":"N13","v":221},{"$f":"COUNTIF(L52:L66,AI13)","v":0},{"$f":"AJ13/(AL4-AJ10)","v":0},{"$f":"IF(AK13=0,0,(AK13*((LOG(AK13))/LOG(2))))","v":0},null,{"$f":"N13","v":221},{"$f":"COUNTIF(L67:L81,AN13)","v":0},{"$f":"AO13/(AQ4-AO10)","v":0},{"$f":"IF(AP13=0,0,(AP13*((LOG(AP13))/LOG(2))))","v":0},null,{"$f":"N13","v":221},{"$f":"COUNTIF(L82:L96,AS13)","v":0},{"$f":"AT13/(AV4-AT10)","v":0},{"$f":"IF(AU13=0,0,(AU13*((LOG(AU13))/LOG(2))))","v":0}]
[22,889,23,899,23,917,null,null,null,null,0,222,null,222,{"$f":"COUNTIF($L$7:$L$500,N14)","v":50},{"$f":"O14/$Q$4","v":0.55555555555555558},{"$f":"IF(P14=0,0,(P14*((LOG(P14))/LOG(2))))","v":-0.4711093925305278},null,null,{"$f":"N14","v":222},{"$f":"COUNTIF(L7:L21,T14)","v":9},{"$f":"U14/(W4-U10)","v":1},{"$f":"IF(V14=0,0,(V14*((LOG(V14))/LOG(2))))","v":0},null,{"$f":"N14","v":222},{"$f":"COUNTIF(L22:L36,Y14)","v":8},{"$f":"Z14/(AB4-Z10)","v":1},{"$f":"IF(AA14=0,0,(AA14*((LOG(AA14))/LOG(2))))","v":0},null,{"$f":"N14","v":222},{"$f":"COUNTIF(L37:L51,AD14)","v":5},{"$f":"AE14/(AG4-AE10)","v":1},{"$f":"IF(AF14=0,0,(AF14*((LOG(AF14))/LOG(2))))","v":0},null,{"$f":"N14","v":222},{"$f":"COUNTIF(L52:L66,AI14)","v":9},{"$f":"AJ14/(AL4-AJ10)","v":1},{"$f":"IF(AK14=0,0,(AK14*((LOG(AK14))/LOG(2))))","v":0},null,{"$f":"N14","v":222},{"$f":"COUNTIF(L67:L81,AN14)","v":9},{"$f":"AO14/(AQ4-AO10)","v":1},{"$f":"IF(AP14=0,0,(AP14*((LOG(AP14))/LOG(2))))","v":0},null,{"$f":"N14","v":222},{"$f":"COUNTIF(L82:L96,AS14)","v":10},{"$f":"AT14/(AV4-AT10)","v":1},{"$f":"IF(AU14=0,0,(AU14*((LOG(AU14))/LOG(2))))","v":0}]
[22,1024,23,1030,23,1035,null,null,null,null,0,222,null,null,null,{"$f":"SUM(P7:P14)","v":1},{"$f":"-SUM(Q7:Q14)","v":0.99107605983822222},null,null,null,null,{"$f":"SUM(V7:V14)","v":1},{"$f":"-SUM(W7:W14)","v":0},null,null,null,{"$f":"SUM(AA7:AA14)","v":1},{"$f":"-SUM(AB7:AB14)","v":0},null,null,null,{"$f":"SUM(AF7:AF14)","v":1},{"$f":"-SUM(AG7:AG14)","v":0},null,null,null,{"$f":"SUM(AK7:AK14)","v":1},{"$f":"-SUM(AL7:AL14)","v":0},null,null,null,{"$f":"SUM(AP7:AP14)","v":1},{"$f":"-SUM(AQ7:AQ14)","v":0},null,null,null,{"$f":"SUM(AU7:AU14)","v":1},{"$f":"-SUM(AV7:AV14)","v":0}]
[11,1162,21,1171,21,1176,null,null,null,null,0,122,null,null,null,"U=",{"$f":"Q15/(LOG(Q4)/LOG(2))","v":0.15266458515497691},null,null,null,null,"U1=",{"$f":"W15/(LOG(W4)/LOG(2))","v":0},null,null,null,"U2=",{"$f":"AB15/(LOG(AB4)/LOG(2))","v":0},null,null,null,"U3=",{"$f":"AG15/(LOG(AG4)/LOG(2))","v":0},null,null,null,"U4=",{"$f":"AL15/(LOG(AL4)/LOG(2))","v":0},null,null,null,"U5=",{"$f":"AQ15/(LOG(AQ4)/LOG(2))","v":0},null,null,null,"U6=",{"$f":"AV15/(LOG(AV4)/LOG(2))","v":0}]
[22,1285,23,1289,23,1295,null,null,null,null,0,222]
[11,1392,21,1400,21,1418,null,null,null,null,0,122]
[22,1549,23,1552,23,1565,null,null,null,null,0,222,null,"Total Target Seq"]
[11,1660,21,1669,21,1675,null,null,null,null,0,122,null,{"$f":"COUNTIF(L7:L96,G3)","v":40},null,15,15,15,15,15,15]
[22,1813,23,1816,23,1827,null,null,null,null,0,222,null,null,null,"% of reinforcement given in 6 equal intervals based on number of trials "]
[22,1939,23,1943,23,1948,null,null,null,null,0,222,null,null,null,"%_1","%_2","%_3","%_4","%_5","%_6"]
[11,2043,21,2058,21,2066,null,null,null,null,0,122,null,null,"target sequence",{"$f":"$G$3","v":122},{"$f":"$G$3","v":122},{"$f":"$G$3","v":122},{"$f":"$G$3","v":122},{"$f":"$G$3","v":122},{"$f":"$G$3","v":122}]
[22,2175,23,2182,23,2194,null,null,null,null,0,222,null,null,"total reinforcement",{"$f":"U10","v":6},{"$f":"Z10","v":7},{"$f":"AE10","v":10},{"$f":"AJ10","v":6},{"$f":"AO10","v":6},{"$f":"AT10","v":5}]
[11,2290,21,2300,21,2304,null,null,null,null,0,122,null,null,"% target"]
[22,2444,23,2452,23,2457,null,null,null,null,0,222,null,null,"CCRF"]
[22,2568,23,2571,23,2580,null,null,null,null,0,222,null,null,"% CCRf"]
[11,2675,21,2684,21,2688,null,null,null,null,0,122,null,null,"average response rate",{"$f":"F21/P20","v":121.8},{"$f":"(F36-F21)/Q20","v":131},{"$f":"(F51-F36)/R20","v":136.73333333333332},{"$f":"(F66-F51)/S20","v":122.8},{"$f":"(F81-F66)/T20","v":119.46666666666667},{"$f":"(F96-F81)/U20","v":127.8}]
[22,2828,23,2832,23,2846,null,null,null,null,0,222]
[11,2944,21,2954,21,2961,null,null,null,null,0,122]
[11,3053,21,3060,21,3064,null,null,null,null,0,122]
[22,3212,23,3221,23,3228,null,null,null,null,0,222]
[11,3323,21,3334,21,3337,null,null,null,null,0,122]
[11,3467,21,3477,21,3485,null,null,null,null,0,122]
[22,3640,23,3651,23,3664,null,null,null,null,0,222]
[22,3776,23,3784,23,3792,null,null,null,null,0,222]
[11,3886,21,3901,21,3912,null,null,null,null,0,122]
[22,4027,23,4031,23,4035,null,null,null,null,0,222]
[11,4132,21,4142,21,4146,null,null,null,null,0,122]
[22,4253,23,4258,23,4263,null,null,null,null,0,222]
[11,4361,21,4373,21,4382,null,null,null,null,0,122]
[11,4512,21,4520,21,4524,null,null,null,null,0,122]
[11,4636,21,4657,21,4660,null,null,null,null,0,122]
[11,4815,21,4826,21,4854,null,null,null,null,0,122]
[11,4958,21,4969,21,4973,null,null,null,null,0,122]
[11,5107,21,5114,21,5128,null,null,null,null,0,122]
[22,5285,23,5291,23,5305,null,null,null,null,0,222]
[11,5400,21,5413,21,5420,null,null,null,null,0,122]
[11,5549,21,5573,21,5581,null,null,null,null,0,122]
[22,5704,23,5718,23,5728,null,null,null,null,0,222]
[22,5832,23,5836,23,5843,null,null,null,null,0,222]
[22,5948,23,5952,23,5963,null,null,null,null,0,222]
[11,6088,21,6097,21,6118,null,null,null,null,0,122]
[22,6221,23,6225,23,6234,null,null,null,null,0,222]
[11,6326,21,6339,21,6342,null,null,null,null,0,122]
[11,6460,21,6468,21,6473,null,null,null,null,0,122]
[22,6604,23,6609,23,6616,null,null,null,null,0,222]
[22,6719,23,6723,23,6730,null,null,null,null,0,222]
[11,6825,21,6834,21,6843,null,null,null,null,0,122]
[22,6948,23,6952,23,6961,null,null,null,null,0,222]
[22,7065,23,7075,23,7083,null,null,null,null,0,222]
[11,7178,21,7190,21,7194,null,null,null,null,0,122]
[11,7287,21,7295,21,7299,null,null,null,null,0,122]
[22,7421,23,7434,23,7447,null,null,null,null,0,222]
[22,7551,23,7555,23,7562,null,null,null,null,0,222]
[22,7666,23,7676,23,7685,null,null,null,null,0,222]
[22,7801,23,7805,23,7812,null,null,null,null,0,222]
[22,7929,23,7933,23,7939,null,null,null,null,0,222]
[22,8042,23,8046,23,8050,null,null,null,null,0,222]
[11,8145,21,8156,21,8161,null,null,null,null,0,122]
[11,8260,21,8268,21,8273,null,null,null,null,0,122]
[22,8431,23,8435,23,8441,null,null,null,null,0,222]
[11,8537,21,8546,21,8550,null,null,null,null,0,122]
[22,8650,23,8654,23,8660,null,null,null,null,0,222]
[22,8765,23,8769,23,8775,null,null,null,null,0,222]
[22,8885,23,8889,23,8903,null,null,null,null,0,222]
[22,9007,23,9011,23,9017,null,null,null,null,0,222]
[11,9112,21,9121,21,9124,null,null,null,null,0,122]
[22,9249,23,9254,23,9258,null,null,null,null,0,222]
[11,9356,21,9363,21,9371,null,null,null,null,0,122]
[11,9464,21,9473,21,9477,null,null,null,null,0,122]
[22,9672,23,9685,23,9694,null,null,null,null,0,222]
[22,9798,23,9808,23,9817,null,null,null,null,0,222]
[22,9919,23,9924,23,9930,null,null,null,null,0,222]
[11,10024,21,10032,21,10036,null,null,null,null,0,122]
[22,10154,23,10158,23,10164,null,null,null,null,0,222]
[22,10272,23,10278,23,10286,null,null,null,null,0,222]
[22,10389,23,10393,23,10398,null,null,null,null,0,222]
[11,10492,21,10501,21,10505,null,null,null,null,0,122]
[11,10605,21,10613,21,10618,null,null,null,null,0,122]
[22,10756,23,10760,23,10773,null,null,null,null,0,222]
[22,10877,23,10881,23,10895,null,null,null,null,0,222]
[11,10992,21,11000,21,11004,null,null,null,null,0,122]
[22,11118,23,11121,23,11128,null,null,null,null,0,222]
[22,11233,23,11236,23,11245,null,null,null,null,0,222]
[11,11365,21,11377,21,11394,null,null,null,null,1,122]

{"sheet":"!LA20A02.. I","index":13,"n_rows":104,"n_cols":48,"rows_kept":104,"cut":false,"hidden":false,"merged":[[4,39,4,42],[5,39,5,40],[4,44,4,47],[5,44,5,45],[4,24,4,27],[5,24,5,25],[4,29,4,32],[5,29,5,30],[4,34,4,37],[5,34,5,35],[1,1,1,2],[5,13,5,14],[18,13,18,14],[19,13,19,14],[4,19,4,22],[5,19,5,20]]}
["Report for:!LA20A02.. I"]
["Date:","<date>"]
["Hen:","<hen>",null,null,null,"Correct Sequence",{"$f":"Start!J2","v":122},null,null,null,null,null,null,null,null,"Total Sequences in Data",{"$f":"4994-COUNTBLANK(L7:L5000)","v":98},null,null,null,null,"Total Sequences in Block Data",{"$f":"COUNTA(L7:L22)","v":16},null,null,null,"Total Sequences in Block Data",{"$f":"COUNTA(L23:L39)","v":17},null,null,null,"Total Sequences in Block Data",{"$f":"COUNTA(L40:L55)","v":16},null,null,null,"Total Sequences in Block Data",{"$f":"COUNTA(L56:L71)","v":16},null,null,null,"Total Sequences in Block Data",{"$f":"COUNTA(L72:L88)","v":17},null,null,null,"Total Sequences in Block Data",{"$f":"COUNTA(L89:L104)","v":16}]
[null,null,null,null,null,null,null,null,null,null,null,null,null,null,null,"Total Sequences in Summary",{"$f":"SUM(O7:O14)","v":98},null,null,null,null,"Total Sequences in Block Summary",{"$f":"SUM(U7:U14)","v":16},null,null,null,"Total Sequences in Block Summary",{"$f":"SUM(Z7:Z14)","v":17},null,null,null,"Total Sequences in Block Summary",{"$f":"SUM(AE7:AE14)","v":16},null,null,null,"Total Sequences in Block Summary",{"$f":"SUM(AJ7:AJ14)","v":16},null,null,null,"Total Sequences in Block Summary",{"$f":"SUM(AO7:AO14)","v":17},null,null,null,"Total Sequences in Block Summary",{"$f":"SUM(AT7:AT14)","v":16}]
[null,null,null,null,null,null,null,null,null,null,null,null,null,null,null,null,null,null,null,"Block 1",null,null,null,null,"Block 2",null,null,null,null,"Block 3",null,null,null,null,"Block 4",null,null,null,null,"Block 5",null,null,null,null,"Block 6"]
["Sequence\nComponent\n1","Time\n1","Sequence\nComponent\n2","Time\n2","Sequence\nComponent\n3","Time\n3","Sequence\nComponent\n4","Time\n4","Sequence\nComponent\n5","Time\n5","Correct?\n0=No 1=Yes","Sequence",null,"Frequency",null,"Relative Frequency","Variability",null,null,"Frequency",null,"Relative Frequency","Variability",null,"Frequency",null,"Relative Frequency","Variability",null,"Frequency",null,"Relative Frequency","Variability",null,"Frequency",null,"Relative Frequency","Variability",null,"Frequency",null,"Relative Frequency","Variability",null,"Frequency",null,"Relative Frequency","Variability"]
[22,5,14,16,23,26,null,null,null,null,0,212,null,111,{"$f":"COUNTIF($L$7:$L$500,N7)","v":0},{"$f":"O7/$Q$4","v":0},{"$f":"IF(P7=0,0,(P7*((LOG(P7))/LOG(2))))","v":0},null,null,{"$f":"N7","v":111},{"$f":"COUNTIF(L7:L22,T7)","v":0},{"$f":"U7/(W4-U10)","v":0},{"$f":"IF(V7=0,0,(V7*((LOG(V7))/LOG(2))))","v":0},null,{"$f":"N7","v":111},{"$f":"COUNTIF(L23:L39,Y7)","v":0},{"$f":"Z7/(AB4-Z10)","v":0},{"$f":"IF(AA7=0,0,(AA7*((LOG(AA7))/LOG(2))))","v":0},null,{"$f":"N7","v":111},{"$f":"COUNTIF(L40:L55,AD7)","v":0},{"$f":"AE7/(AG4-AE10)","v":0},{"$f":"IF(AF7=0,0,(AF7*((LOG(AF7))/LOG(2))))","v":0},null,{"$f":"N7","v":111},{"$f":"COUNTIF(L56:L71,AI7)","v":0},{"$f":"AJ7/(AL4-AJ10)","v":0},{"$f":"IF(AK7=0,0,(AK7*((LOG(AK7))/LOG(2))))","v":0},null,{"$f":"N7","v":111},{"$f":"COUNTIF(L72:L88,AN7)","v":0},{"$f":"AO7/(AQ4-AO10)","v":0},{"$f":"IF(AP7=0,0,(AP7*((LOG(AP7))/LOG(2))))","v":0},null,{"$f":"N7","v":111},{"$f":"COUNTIF(L89:L104,AS7)","v":0},{"$f":"AT7/(AV4-AT10)","v":0},{"$f":"IF(AU7=0,0,(AU7*((LOG(AU7))/LOG(2))))","v":0}]
[22,127,23,132,23,137,null,null,null,null,0,222,null,112,{"$f":"COUNTIF($L$7:$L$500,N8)","v":1},{"$f":"O8/$Q$4","v":1.020408163265306E-2},{"$f":"IF(P8=0,0,(P8*((LOG(P8))/LOG(2))))","v":-6.7497039225665384E-2},null,null,{"$f":"N8","v":112},{"$f":"COUNTIF(L7:L22,T8)","v":0},{"$f":"U8/(W4-U10)","v":0},{"$f":"IF(V8=0,0,(V8*((LOG(V8))/LOG(2))))","v":0},null,{"$f":"N8","v":112},{"$f":"COUNTIF(L23:L39,Y8)","v":0},{"$f":"Z8/(AB4-Z10)","v":0},{"$f":"IF(AA8=0,0,(AA8*((LOG(AA8))/LOG(2))))","v":0},null,{"$f":"N8","v":112},{"$f":"COUNTIF(L40:L55,AD8)","v":0},{"$f":"AE8/(AG4-AE10)","v":0},{"$f":"IF(AF8=0,0,(AF8*((LOG(AF8))/LOG(2))))","v":0},null,{"$f":"N8","v":112},{"$f":"COUNTIF(L56:L71,AI8)","v":0},{"$f":"AJ8/(AL4-AJ10)","v":0},{"$f":"IF(AK8=0,0,(AK8*((LOG(AK8))/LOG(2))))","v":0},null,{"$f":"N8","v":112},{"$f":"COUNTIF(L72:L88,AN8)","v":0},{"$f":"AO8/(AQ4-AO10)","v":0},{"$f":"IF(AP8=0,0,(AP8*((LOG(AP8))/LOG(2))))","v":0},null,{"$f":"N8","v":112},{"$f":"COUNTIF(L89:L104,AS8)","v":1},{"$f":"AT8/(AV4-AT10)","v":9.0909090909090912E-2},{"$f":"IF(AU8=0,0,(AU8*((LOG(AU8))/LOG(2))))","v":-0.31449378351248153}]
[11,232,21,244,21,251,null,null,null,null,0,122,null,121,{"$f":"COUNTIF($L$7:$L$500,N9)","v":0},{"$f":"O9/$Q$4","v":0},{"$f":"IF(P9=0,0,(P9*((LOG(P9))/LOG(2))))","v":0},null,null,{"$f":"N9","v":121},{"$f":"COUNTIF(L7:L22,T9)","v":0},{"$f":"U9/(W4-U10)","v":0},{"$f":"IF(V9=0,0,(V9*((LOG(V9))/LOG(2))))","v":0},null,{"$f":"N9","v":121},{"$f":"COUNTIF(L23:L39,Y9)","v":0},{"$f":"Z9/(AB4-Z10)","v":0},{"$f":"IF(AA9=0,0,(AA9*((LOG(AA9))/LOG(2))))","v":0},null,{"$f":"N9","v":121},{"$f":"COUNTIF(L40:L55,AD9)","v":0},{"$f":"AE9/(AG4-AE10)","v":0},{"$f":"IF(AF9=0,0,(AF9*((LOG(AF9))/LOG(2))))","v":0},null,{"$f":"N9","v":121},{"$f":"COUNTIF(L56:L71,AI9)","v":0},{"$f":"AJ9/(AL4-AJ10)","v":0},{"$f":"IF(AK9=0,0,(AK9*((LOG(AK9))/LOG(2))))","v":0},null,{"$f":"N9","v":121},{"$f":"COUNTIF(L72:L88,AN9)","v":0},{"$f":"AO9/(AQ4-AO10)","v":0},{"$f":"IF(AP9=0,0,(AP9*((LOG(AP9))/LOG(2))))","v":0},null,{"$f":"N9","v":121},{"$f":"COUNTIF(L89:L104,AS9)","v":0},{"$f":"AT9/(AV4-AT10)","v":0},{"$f":"IF(AU9=0,0,(AU9*((LOG(AU9))/LOG(2))))","v":0}]
[22,400,23,404,23,415,null,null,null,null,0,222,null,122,{"$f":"COUNTIF($L$7:$L$500,N10)","v":40},{"$f":"O10/$Q$4","v":0.40816326530612246},{"$f":"IF(P10=0,0,(P10*((LOG(P10))/LOG(2))))","v":-0.52766602009299834},null,null,{"$f":"N10","v":122},{"$f":"COUNTIF(L7:L22,T10)","v":5},null,null,null,{"$f":"N10","v":122},{"$f":"COUNTIF(L23:L39,Y10)","v":8},null,null,null,{"$f":"N10","v":122},{"$f":"COUNTIF(L40:L55,AD10)","v":7},null,null,null,{"$f":"N10","v":122},{"$f":"COUNTIF(L56:L71,AI10)","v":7},null,null,null,{"$f":"N10","v":122},{"$f":"COUNTIF(L72:L88,AN10)","v":8},null,null,null,{"$f":"N10","v":122},{"$f":"COUNTIF(L89:L104,AS10)","v":5}]
[22,522,23,526,23,531,null,null,null,null,0,222,null,211,{"$f":"COUNTIF($L$7:$L$500,N11)","v":0},{"$f":"O11/$Q$4","v":0},{"$f":"IF(P11=0,0,(P11*((LOG(P11))/LOG(2))))","v":0},null,null,{"$f":"N11","v":211},{"$f":"COUNTIF(L7:L22,T11)","v":0},{"$f":"U11/(W4-U10)","v":0},{"$f":"IF(V11=0,0,(V11*((LOG(V11))/LOG(2))))","v":0},null,{"$f":"N11","v":211},{"$f":"COUNTIF(L23:L39,Y11)","v":0},{"$f":"Z11/(AB4-Z10)","v":0},{"$f":"IF(AA11=0,0,(AA11*((LOG(AA11))/LOG(2))))","v":0},null,{"$f":"N11","v":211},{"$f":"COUNTIF(L40:L55,AD11)","v":0},{"$f":"AE11/(AG4-AE10)","v":0},{"$f":"IF(AF11=0,0,(AF11*((LOG(AF11))/LOG(2))))","v":0},null,{"$f":"N11","v":211},{"$f":"COUNTIF(L56:L71,AI11)","v":0},{"$f":"AJ11/(AL4-AJ10)","v":0},{"$f":"IF(AK11=0,0,(AK11*((LOG(AK11))/LOG(2))))","v":0},null,{"$f":"N11","v":211},{"$f":"COUNTIF(L72:L88,AN11)","v":0},{"$f":"AO11/(AQ4-AO10)","v":0},{"$f":"IF(AP11=0,0,(AP11*((LOG(AP11))/LOG(2))))","v":0},null,{"$f":"N11","v":211},{"$f":"COUNTIF(L89:L104,AS11)","v":0},{"$f":"AT11/(AV4-AT10)","v":0},{"$f":"IF(AU11=0,0,(AU11*((LOG(AU11))/LOG(2))))","v":0}]
[22,640,23,647,23,654,null,null,null,null,0,222,null,212,{"$f":"COUNTIF($L$7:$L$500,N12)","v":1},{"$f":"O12/$Q$4","v":1.020408163265306E-2},{"$f":"IF(P12=0,0,(P12*((LOG(P12))/LOG(2))))","v":-6.7497039225665384E-2},null,null,{"$f":"N12","v":212},{"$f":"COUNTIF(L7:L22,T12)","v":1},{"$f":"U12/(W4-U10)","v":9.0909090909090912E-2},{"$f":"IF(V12=0,0,(V12*((LOG(V12))/LOG(2))))","v":-0.31449378351248153},null,{"$f":"N12","v":212},{"$f":"COUNTIF(L23:L39,Y12)","v":0},{"$f":"Z12/(AB4-Z10)","v":0},{"$f":"IF(AA12=0,0,(AA12*((LOG(AA12))/LOG(2))))","v":0},null,{"$f":"N12","v":212},{"$f":"COUNTIF(L40:L55,AD12)","v":0},{"$f":"AE12/(AG4-AE10)","v":0},{"$f":"IF(AF12=0,0,(AF12*((LOG(AF12))/LOG(2))))","v":0},null,{"$f":"N12","v":212},{"$f":"COUNTIF(L56:L71,AI12)","v":0},{"$f":"AJ12/(AL4-AJ10)","v":0},{"$f":"IF(AK12=0,0,(AK12*((LOG(AK12))/LOG(2))))","v":0},null,{"$f":"N12","v":212},{"$f":"COUNTIF(L72:L88,AN12)","v":0},{"$f":"AO12/(AQ4-AO10)","v":0},{"$f":"IF(AP12=0,0,(AP12*((LOG(AP12))/LOG(2))))","v":0},null,{"$f":"N12","v":212},{"$f":"COUNTIF(L89:L104,AS12)","v":0},{"$f":"AT12/(AV4-AT10)","v":0},{"$f":"IF(AU12=0,0,(AU12*((LOG(AU12))/LOG(2))))","v":0}]
[22,760,23,764,23,775,null,null,null,null,0,222,null,221,{"$f":"COUNTIF($L$7:$L$500,N13)","v":0},{"$f":"O13/$Q$4","v":0},{"$f":"IF(P13=0,0,(P13*((LOG(P13))/LOG(2))))","v":0},null,null,{"$f":"N13","v":221},{"$f":"COUNTIF(L7:L22,T13)","v":0},{"$f":"U13/(W4-U10)","v":0},{"$f":"IF(V13=0,0,(V13*((LOG(V13))/LOG(2))))","v":0},null,{"$f":"N13","v":221},{"$f":"COUNTIF(L23:L39,Y13)","v":0},{"$f":"Z13/(AB4-Z10)","v":0},{"$f":"IF(AA13=0,0,(AA13*((LOG(AA13))/LOG(2))))","v":0},null,{"$f":"N13","v":221},{"$f":"COUNTIF(L40:L55,AD13)","v":0},{"$f":"AE13/(AG4-AE10)","v":0},{"$f":"IF(AF13=0,0,(AF13*((LOG(AF13))/LOG(2))))","v":0},null,{"$f":"N13","v":221},{"$f":"COUNTIF(L56:L71,AI13)","v":0},{"$f":"AJ13/(AL4-AJ10)","v":0},{"$f":"IF(AK13=0,0,(AK13*((LOG(AK13))/LOG(2))))","v":0},null,{"$f":"N13","v":221},{"$f":"COUNTIF(L72:L88,AN13)","v":0},{"$f":"AO13/(AQ4-AO10)","v":0},{"$f":"IF(AP13=0,0,(AP13*((LOG(AP13))/LOG(2))))","v":0},null,{"$f":"N13","v":221},{"$f":"COUNTIF(L89:L104,AS13)","v":0},{"$f":"AT13/(AV4-AT10)","v":0},{"$f":"IF(AU13=0,0,(AU13*((LOG(AU13))/LOG(2))))","v":0}]
[11,871,21,885,21,891,null,null,null,null,0,122,null,222,{"$f":"COUNTIF($L$7:$L$500,N14)","v":56},{"$f":"O14/$Q$4","v":0.5714285714285714},{"$f":"IF(P14=0,0,(P14*((LOG(P14))/LOG(2))))","v":-0.46134566974720237},null,null,{"$f":"N14","v":222},{"$f":"COUNTIF(L7:L22,T14)","v":10},{"$f":"U14/(W4-U10)","v":0.90909090909090906},{"$f":"IF(V14=0,0,(V14*((LOG(V14))/LOG(2))))","v":-0.12500320340903179},null,{"$f":"N14","v":222},{"$f":"COUNTIF(L23:L39,Y14)","v":9},{"$f":"Z14/(AB4-Z10)","v":1},{"$f":"IF(AA14=0,0,(AA14*((LOG(AA14))/LOG(2))))","v":0},null,{"$f":"N14","v":222},{"$f":"COUNTIF(L40:L55,AD14)","v":9},{"$f":"AE14/(AG4-AE10)","v":1},{"$f":"IF(AF14=0,0,(AF14*((LOG(AF14))/LOG(2))))","v":0},null,{"$f":"N14","v":222},{"$f":"COUNTIF(L56:L71,AI14)","v":9},{"$f":"AJ14/(AL4-AJ10)","v":1},{"$f":"IF(AK14=0,0,(AK14*((LOG(AK14))/LOG(2))))","v":0},null,{"$f":"N14","v":222},{"$f":"COUNTIF(L72:L88,AN14)","v":9},{"$f":"AO14/(AQ4-AO10)","v":1},{"$f":"IF(AP14=0,0,(AP14*((LOG(AP14))/LOG(2))))","v":0},null,{"$f":"N14","v":222},{"$f":"COUNTIF(L89:L104,AS14)","v":10},{"$f":"AT14/(AV4-AT10)","v":0.90909090909090906},{"$f":"IF(AU14=0,0,(AU14*((LOG(AU14))/LOG(2))))","v":-0.12500320340903179}]
[11,1004,21,1014,21,1019,null,null,null,null,0,122,null,null,null,{"$f":"SUM(P7:P14)","v":1},{"$f":"-SUM(Q7:Q14)","v":1.1240057682915316},null,null,null,null,{"$f":"SUM(V7:V14)","v":1},{"$f":"-SUM(W7:W14)","v":0.43949698692151329},null,null,null,{"$f":"SUM(AA7:AA14)","v":1},{"$f":"-SUM(AB7:AB14)","v":0},null,null,null,{"$f":"SUM(AF7:AF14)","v":1},{"$f":"-SUM(AG7:AG14)","v":0},null,null,null,{"$f":"SUM(AK7:AK14)","v":1},{"$f":"-SUM(AL7:AL14)","v":0},null,null,null,{"$f":"SUM(AP7:AP14)","v":1},{"$f":"-SUM(AQ7:AQ14)","v":0},null,null,null,{"$f":"SUM(AU7:AU14)","v":1},{"$f":"-SUM(AV7:AV14)","v":0.43949698692151329}]
[22,1184,23,1189,23,1193,null,null,null,null,0,222,null,null,null,"U=",{"$f":"Q15/(LOG(Q4)/LOG(2))","v":0.16992518111607055},null,null,null,null,"U1=",{"$f":"W15/(LOG(W4)/LOG(2))","v":0.10987424673037832},null,null,null,"U2=",{"$f":"AB15/(LOG(AB4)/LOG(2))","v":0},null,null,null,"U3=",{"$f":"AG15/(LOG(AG4)/LOG(2))","v":0},null,null,null,"U4=",{"$f":"AL15/(LOG(AL4)/LOG(2))","v":0},null,null,null,"U5=",{"$f":"AQ15/(LOG(AQ4)/LOG(2))","v":0},null,null,null,"U6=",{"$f":"AV15/(LOG(AV4)/LOG(2))","v":0.10987424673037832}]
[11,1288,21,1297,21,1301,null,null,null,null,0,122]
[22,1419,23,1423,23,1428,null,null,null,null,0,222]
[22,1534,23,1539,23,1544,null,null,null,null,0,222,null,"Total Target Seq"]
[22,1648,23,1652,23,1659,null,null,null,null,0,222,null,{"$f":"COUNTIF(L7:L104,G3)","v":40},null,16,17,16,16,17,16]
[11,1754,21,1763,21,1766,null,null,null,null,0,122,null,null,null,"% of reinforcement given in 6 equal intervals based on number of trials "]
[22,1878,23,1881,23,1899,null,null,null,null,0,222,null,null,null,"%_1","%_2","%_3","%_4","%_5","%_6"]
[11,1995,21,2004,21,2007,null,null,null,null,0,122,null,null,"target sequence",{"$f":"$G$3","v":122},{"$f":"$G$3","v":122},{"$f":"$G$3","v":122},{"$f":"$G$3","v":122},{"$f":"$G$3","v":122},{"$f":"$G$3","v":122}]
[22,2116,23,2119,23,2130,null,null,null,null,0,222,null,null,"total reinforcement",{"$f":"U10","v":5},{"$f":"Z10","v":8},{"$f":"AE10","v":7},{"$f":"AJ10","v":7},{"$f":"AO10","v":8},{"$f":"AT10","v":5}]
[11,2266,21,2281,21,2284,null,null,null,null,0,122,null,null,"% target"]
[11,2387,21,2396,21,2403,null,null,null,null,0,122,null,null,"CCRF"]
[22,2512,23,2517,23,2526,null,null,null,null,0,222,null,null,"% CCRf"]
[22,2634,23,2639,23,2648,null,null,null,null,0,222,null,null,"average response rate",{"$f":"F22/P20","v":118.6875},{"$f":"(F39-F22)/Q20","v":121.94117647058823},{"$f":"(F55-F39)/R20","v":119.125},{"$f":"(F71-F55)/S20","v":123.25},{"$f":"(F88-F71)/T20","v":125.64705882352941},{"$f":"(F104-F88)/U20","v":123.25}]
[11,2745,21,2755,21,2761,null,null,null,null,0,122]
[22,2869,23,2880,23,2887,null,null,null,null,0,222]
[22,2991,23,3006,23,3014,null,null,null,null,0,222]
[11,3110,21,3120,21,3126,null,null,null,null,0,122]
[11,3223,21,3232,21,3236,null,null,null,null,0,122]
[22,3380,23,3385,23,3392,null,null,null,null,0,222]
[22,3500,23,3504,23,3508,null,null,null,null,0,222]
[22,3620,23,3627,23,3635,null,null,null,null,0,222]
[11,3731,21,3740,21,3743,null,null,null,null,0,122]
[22,3848,23,3854,23,3863,null,null,null,null,0,222]
[11,3959,21,3968,21,3972,null,null,null,null,0,122]
[22,4086,23,4089,23,4094,null,null,null,null,0,222]
[11,4190,21,4197,21,4210,null,null,null,null,0,122]
[22,4322,23,4329,23,4340,null,null,null,null,0,222]
[22,4445,23,4450,23,4453,null,null,null,null,0,222]
[11,4550,21,4559,21,4566,null,null,null,null,0,122]
[22,4678,23,4681,23,4686,null,null,null,null,0,222]
[11,4782,21,4788,21,4791,null,null,null,null,0,122]
[11,4901,21,4910,21,4933,null,null,null,null,0,122]
[22,5052,23,5056,23,5061,null,null,null,null,0,222]
[11,5156,21,5167,21,5171,null,null,null,null,0,122]
[22,5276,23,5279,23,5294,null,null,null,null,0,222]
[11,5393,21,5401,21,5407,null,null,null,null,0,122]
[22,5507,23,5511,23,5517,null,null,null,null,0,222]
[22,5624,23,5627,23,5637,null,null,null,null,0,222]
[11,5735,21,5743,21,5746,null,null,null,null,0,122]
[22,5868,23,5873,23,5878,null,null,null,null,0,222]
[22,5982,23,5986,23,5995,null,null,null,null,0,222]
[11,6090,21,6099,21,6103,null,null,null,null,0,122]
[22,6207,23,6212,23,6219,null,null,null,null,0,222]
[22,6323,23,6326,23,6331,null,null,null,null,0,222]
[11,6431,21,6439,21,6446,null,null,null,null,0,122]
[22,6574,23,6578,23,6585,null,null,null,null,0,222]
[11,6680,21,6689,21,6692,null,null,null,null,0,122]
[22,6834,23,6838,23,6842,null,null,null,null,0,222]
[11,6938,21,6950,21,6963,null,null,null,null,0,122]
[11,7079,21,7086,21,7089,null,null,null,null,0,122]
[22,7250,23,7254,23,7268,null,null,null,null,0,222]
[22,7373,23,7378,23,7383,null,null,null,null,0,222]
[11,7478,21,7488,21,7491,null,null,null,null,0,122]
[22,7597,23,7608,23,7618,null,null,null,null,0,222]
[11,7713,21,7723,21,7727,null,null,null,null,0,122]
[22,7842,23,7845,23,7850,null,null,null,null,0,222]
[22,7955,23,7960,23,7964,null,null,null,null,0,222]
[11,8094,21,8102,21,8106,null,null,null,null,0,122]
[22,8211,23,8215,23,8234,null,null,null,null,0,222]
[22,8338,23,8341,23,8346,null,null,null,null,0,222]
[11,8439,21,8453,21,8461,null,null,null,null,0,122]
[11,8574,21,8584,21,8588,null,null,null,null,0,122]
[11,8694,21,8702,21,8715,null,null,null,null,0,122]
[22,8841,23,8855,23,8869,null,null,null,null,0,222]
[11,8965,21,8978,21,8987,null,null,null,null,0,122]
[11,9083,21,9091,21,9107,null,null,null,null,0,122]
[22,9247,23,9257,23,9273,null,null,null,null,0,222]
[22,9376,23,9384,23,9390,null,null,null,null,0,222]
[11,9482,21,9492,21,9497,null,null,null,null,0,122]
[22,9616,23,9622,23,9631,null,null,null,null,0,222]
[11,9723,21,9736,21,9740,null,null,null,null,0,122]
[22,9852,23,9855,23,9865,null,null,null,null,0,222]
[22,9969,23,9976,23,9986,null,null,null,null,0,222]
[22,10097,23,10105,23,10113,null,null,null,null,0,222]
[22,10218,23,10222,23,10237,null,null,null,null,0,222]
[22,10340,23,10345,23,10355,null,null,null,null,0,222]
[22,10460,23,10464,23,10474,null,null,null,null,0,222]
[11,10570,21,10579,21,10582,null,null,null,null,0,122]
[22,10708,23,10715,23,10721,null,null,null,null,0,222]
[22,10832,23,10835,23,10840,null,null,null,null,0,222]
[11,10938,21,10945,21,10954,null,null,null,null,0,122]
[22,11069,23,11072,23,11086,null,null,null,null,0,222]
[11,11183,21,11193,21,11209,null,null,null,null,0,122]
[22,11344,23,11348,23,11360,null,null,null,null,0,222]
[11,11461,12,11466,23,11483,null,null,null,null,0,112]
[11,11578,21,11590,21,11599,null,null,null,null,0,122]
[22,11711,23,11717,23,11726,null,null,null,null,0,222]
[22,11834,23,11838,23,11849,null,null,null,null,0,222]
[11,11944,21,11955,21,11958,null,null,null,null,1,122]

{"sheet":"!LA21912.. I","index":14,"n_rows":84,"n_cols":48,"rows_kept":84,"cut":false,"hidden":false,"merged":[[4,39,4,42],[5,39,5,40],[4,44,4,47],[5,44,5,45],[4,24,4,27],[5,24,5,25],[4,29,4,32],[5,29,5,30],[4,34,4,37],[5,34,5,35],[1,1,1,2],[5,13,5,14],[18,13,18,14],[19,13,19,14],[4,19,4,22],[5,19,5,20]]}
["Report for:!LA21912.. I"]
["Date:","<date>"]
["Hen:","<hen>",null,null,null,"Correct Sequence",{"$f":"Start!J2","v":122},null,null,null,null,null,null,null,null,"Total Sequences in Data",{"$f":"4994-COUNTBLANK(L7:L5000)","v":78},null,null,null,null,"Total Sequences in Block Data",{"$f":"COUNTA(L7:L19)","v":13},null,null,null,"Total Sequences in Block Data",{"$f":"COUNTA(L20:L32)","v":13},null,null,null,"Total Sequences in Block Data",{"$f":"COUNTA(L33:L45)","v":13},null,null,null,"Total Sequences in Block Data",{"$f":"COUNTA(L46:L58)","v":13},null,null,null,"Total Sequences in Block Data",{"$f":"COUNTA(L59:L71)","v":13},null,null,null,"Total Sequences in Block Data",{"$f":"COUNTA(L72:L84)","v":13}]
[null,null,null,null,null,null,null,null,null,null,null,null,null,null,null,"Total Sequences in Summary",{"$f":"SUM(O7:O14)","v":78},null,null,null,null,"Total Sequences in Block Summary",{"$f":"SUM(U7:U14)","v":13},null,null,null,"Total Sequences in Block Summary",{"$f":"SUM(Z7:Z14)","v":13},null,null,null,"Total Sequences in Block Summary",{"$f":"SUM(AE7:AE14)","v":13},null,null,null,"Total Sequences in Block Summary",{"$f":"SUM(AJ7:AJ14)","v":13},null,null,null,"Total Sequences in Block Summary",{"$f":"SUM(AO7:AO14)","v":13},null,null,null,"Total Sequences in Block Summary",{"$f":"SUM(AT7:AT14)","v":13}]
[null,null,null,null,null,null,null,null,null,null,null,null,null,null,null,null,null,null,null,"Block 1",null,null,null,null,"Block 2",null,null,null,null,"Block 3",null,null,null,null,"Block 4",null,null,null,null,"Block 5",null,null,null,null,"Block 6"]
["Sequence\nComponent\n1","Time\n1","Sequence\nComponent\n2","Time\n2","Sequence\nComponent\n3","Time\n3","Sequence\nComponent\n4","Time\n4","Sequence\nComponent\n5","Time\n5","Correct?\n0=No 1=Yes","Sequence",null,"Frequency",null,"Relative Frequency","Variability",null,null,"Frequency",null,"Relative Frequency","Variability",null,"Frequency",null,"Relative Frequency","Variability",null,"Frequency",null,"Relative Frequency","Variability",null,"Frequency",null,"Relative Frequency","Variability",null,"Frequency",null,"Relative Frequency","Variability",null,"Frequency",null,"Relative Frequency","Variability"]
[22,11,23,17,23,24,null,null,null,null,0,222,null,111,{"$f":"COUNTIF($L$7:$L$500,N7)","v":0},{"$f":"O7/$Q$4","v":0},{"$f":"IF(P7=0,0,(P7*((LOG(P7))/LOG(2))))","v":0},null,null,{"$f":"N7","v":111},{"$f":"COUNTIF(L7:L19,T7)","v":0},{"$f":"U7/(W4-U10)","v":0},{"$f":"IF(V7=0,0,(V7*((LOG(V7))/LOG(2))))","v":0},null,{"$f":"N7","v":111},{"$f":"COUNTIF(L20:L32,Y7)","v":0},{"$f":"Z7/(AB4-Z10)","v":0},{"$f":"IF(AA7=0,0,(AA7*((LOG(AA7))/LOG(2))))","v":0},null,{"$f":"N7","v":111},{"$f":"COUNTIF(L33:L45,AD7)","v":0},{"$f":"AE7/(AG4-AE10)","v":0},{"$f":"IF(AF7=0,0,(AF7*((LOG(AF7))/LOG(2))))","v":0},null,{"$f":"N7","v":111},{"$f":"COUNTIF(L46:L58,AI7)","v":0},{"$f":"AJ7/(AL4-AJ10)","v":0},{"$f":"IF(AK7=0,0,(AK7*((LOG(AK7))/LOG(2))))","v":0},null,{"$f":"N7","v":111},{"$f":"COUNTIF(L59:L71,AN7)","v":0},{"$f":"AO7/(AQ4-AO10)","v":0},{"$f":"IF(AP7=0,0,(AP7*((LOG(AP7))/LOG(2))))","v":0},null,{"$f":"N7","v":111},{"$f":"COUNTIF(L72:L84,AS7)","v":0},{"$f":"AT7/(AV4-AT10)","v":0},{"$f":"IF(AU7=0,0,(AU7*((LOG(AU7))/LOG(2))))","v":0}]
[22,132,23,138,23,145,null,null,null,null,0,222,null,112,{"$f":"COUNTIF($L$7:$L$500,N8)","v":2},{"$f":"O8/$Q$4","v":2.564102564102564E-2},{"$f":"IF(P8=0,0,(P8*((LOG(P8))/LOG(2))))","v":-0.13552313381698072},null,null,{"$f":"N8","v":112},{"$f":"COUNTIF(L7:L19,T8)","v":0},{"$f":"U8/(W4-U10)","v":0},{"$f":"IF(V8=0,0,(V8*((LOG(V8))/LOG(2))))","v":0},null,{"$f":"N8","v":112},{"$f":"COUNTIF(L20:L32,Y8)","v":0},{"$f":"Z8/(AB4-Z10)","v":0},{"$f":"IF(AA8=0,0,(AA8*((LOG(AA8))/LOG(2))))","v":0},null,{"$f":"N8","v":112},{"$f":"COUNTIF(L33:L45,AD8)","v":1},{"$f":"AE8/(AG4-AE10)","v":0.125},{"$f":"IF(AF8=0,0,(AF8*((LOG(AF8))/LOG(2))))","v":-0.375},null,{"$f":"N8","v":112},{"$f":"COUNTIF(L46:L58,AI8)","v":1},{"$f":"AJ8/(AL4-AJ10)","v":0.16666666666666666},{"$f":"IF(AK8=0,0,(AK8*((LOG(AK8))/LOG(2))))","v":-0.43082708345352599},null,{"$f":"N8","v":112},{"$f":"COUNTIF(L59:L71,AN8)","v":0},{"$f":"AO8/(AQ4-AO10)","v":0},{"$f":"IF(AP8=0,0,(AP8*((LOG(AP8))/LOG(2))))","v":0},null,{"$f":"N8","v":112},{"$f":"COUNTIF(L72:L84,AS8)","v":0},{"$f":"AT8/(AV4-AT10)","v":0},{"$f":"IF(AU8=0,0,(AU8*((LOG(AU8))/LOG(2))))","v":0}]
[11,243,21,253,21,257,null,null,null,null,0,122,null,121,{"$f":"COUNTIF($L$7:$L$500,N9)","v":0},{"$f":"O9/$Q$4","v":0},{"$f":"IF(P9=0,0,(P9*((LOG(P9))/LOG(2))))","v":0},null,null,{"$f":"N9","v":121},{"$f":"COUNTIF(L7:L19,T9)","v":0},{"$f":"U9/(W4-U10)","v":0},{"$f":"IF(V9=0,0,(V9*((LOG(V9))/LOG(2))))","v":0},null,{"$f":"N9","v":121},{"$f":"COUNTIF(L20:L32,Y9)","v":0},{"$f":"Z9/(AB4-Z10)","v":0},{"$f":"IF(AA9=0,0,(AA9*((LOG(AA9))/LOG(2))))","v":0},null,{"$f":"N9","v":121},{"$f":"COUNTIF(L33:L45,AD9)","v":0},{"$f":"AE9/(AG4-AE10)","v":0},{"$f":"IF(AF9=0,0,(AF9*((LOG(AF9))/LOG(2))))","v":0},null,{"$f":"N9","v":121},{"$f":"COUNTIF(L46:L58,AI9)","v":0},{"$f":"AJ9/(AL4-AJ10)","v":0},{"$f":"IF(AK9=0,0,(AK9*((LOG(AK9))/LOG(2))))","v":0},null,{"$f":"N9","v":121},{"$f":"COUNTIF(L59:L71,AN9)","v":0},{"$f":"AO9/(AQ4-AO10)","v":0},{"$f":"IF(AP9=0,0,(AP9*((LOG(AP9))/LOG(2))))","v":0},null,{"$f":"N9","v":121},{"$f":"COUNTIF(L72:L84,AS9)","v":0},{"$f":"AT9/(AV4-AT10)","v":0},{"$f":"IF(AU9=0,0,(AU9*((LOG(AU9))/LOG(2))))","v":0}]
[22,401,23,405,23,421,null,null,null,null,0,222,null,122,{"$f":"COUNTIF($L$7:$L$500,N10)","v":40},{"$f":"O10/$Q$4","v":0.51282051282051277},{"$f":"IF(P10=0,0,(P10*((LOG(P10))/LOG(2))))","v":-0.49408929434609544},null,null,{"$f":"N10","v":122},{"$f":"COUNTIF(L7:L19,T10)","v":5},null,null,null,{"$f":"N10","v":122},{"$f":"COUNTIF(L20:L32,Y10)","v":8},null,null,null,{"$f":"N10","v":122},{"$f":"COUNTIF(L33:L45,AD10)","v":5},null,null,null,{"$f":"N10","v":122},{"$f":"COUNTIF(L46:L58,AI10)","v":7},null,null,null,{"$f":"N10","v":122},{"$f":"COUNTIF(L59:L71,AN10)","v":8},null,null,null,{"$f":"N10","v":122},{"$f":"COUNTIF(L72:L84,AS10)","v":7}]
[11,518,21,528,21,531,null,null,null,null,0,122,null,211,{"$f":"COUNTIF($L$7:$L$500,N11)","v":0},{"$f":"O11/$Q$4","v":0},{"$f":"IF(P11=0,0,(P11*((LOG(P11))/LOG(2))))","v":0},null,null,{"$f":"N11","v":211},{"$f":"COUNTIF(L7:L19,T11)","v":0},{"$f":"U11/(W4-U10)","v":0},{"$f":"IF(V11=0,0,(V11*((LOG(V11))/LOG(2))))","v":0},null,{"$f":"N11","v":211},{"$f":"COUNTIF(L20:L32,Y11)","v":0},{"$f":"Z11/(AB4-Z10)","v":0},{"$f":"IF(AA11=0,0,(AA11*((LOG(AA11))/LOG(2))))","v":0},null,{"$f":"N11","v":211},{"$f":"COUNTIF(L33:L45,AD11)","v":0},{"$f":"AE11/(AG4-AE10)","v":0},{"$f":"IF(AF11=0,0,(AF11*((LOG(AF11))/LOG(2))))","v":0},null,{"$f":"N11","v":211},{"$f":"COUNTIF(L46:L58,AI11)","v":0},{"$f":"AJ11/(AL4-AJ10)","v":0},{"$f":"IF(AK11=0,0,(AK11*((LOG(AK11))/LOG(2))))","v":0},null,{"$f":"N11","v":211},{"$f":"COUNTIF(L59:L71,AN11)","v":0},{"$f":"AO11/(AQ4-AO10)","v":0},{"$f":"IF(AP11=0,0,(AP11*((LOG(AP11))/LOG(2))))","v":0},null,{"$f":"N11","v":211},{"$f":"COUNTIF(L72:L84,AS11)","v":0},{"$f":"AT11/(AV4-AT10)","v":0},{"$f":"IF(AU11=0,0,(AU11*((LOG(AU11))/LOG(2))))","v":0}]
[22,671,23,676,23,681,null,null,null,null,0,222,null,212,{"$f":"COUNTIF($L$7:$L$500,N12)","v":0},{"$f":"O12/$Q$4","v":0},{"$f":"IF(P12=0,0,(P12*((LOG(P12))/LOG(2))))","v":0},null,null,{"$f":"N12","v":212},{"$f":"COUNTIF(L7:L19,T12)","v":0},{"$f":"U12/(W4-U10)","v":0},{"$f":"IF(V12=0,0,(V12*((LOG(V12))/LOG(2))))","v":0},null,{"$f":"N12","v":212},{"$f":"COUNTIF(L20:L32,Y12)","v":0},{"$f":"Z12/(AB4-Z10)","v":0},{"$f":"IF(AA12=0,0,(AA12*((LOG(AA12))/LOG(2))))","v":0},null,{"$f":"N12","v":212},{"$f":"COUNTIF(L33:L45,AD12)","v":0},{"$f":"AE12/(AG4-AE10)","v":0},{"$f":"IF(AF12=0,0,(AF12*((LOG(AF12))/LOG(2))))","v":0},null,{"$f":"N12","v":212},{"$f":"COUNTIF(L46:L58,AI12)","v":0},{"$f":"AJ12/(AL4-AJ10)","v":0},{"$f":"IF(AK12=0,0,(AK12*((LOG(AK12))/LOG(2))))","v":0},null,{"$f":"N12","v":212},{"$f":"COUNTIF(L59:L71,AN12)","v":0},{"$f":"AO12/(AQ4-AO10)","v":0},{"$f":"IF(AP12=0,0,(AP12*((LOG(AP12))/LOG(2))))","v":0},null,{"$f":"N12","v":212},{"$f":"COUNTIF(L72:L84,AS12)","v":0},{"$f":"AT12/(AV4-AT10)","v":0},{"$f":"IF(AU12=0,0,(AU12*((LOG(AU12))/LOG(2))))","v":0}]
[11,777,21,789,21,796,null,null,null,null,0,122,null,221,{"$f":"COUNTIF($L$7:$L$500,N13)","v":0},{"$f":"O13/$Q$4","v":0},{"$f":"IF(P13=0,0,(P13*((LOG(P13))/LOG(2))))","v":0},null,null,{"$f":"N13","v":221},{"$f":"COUNTIF(L7:L19,T13)","v":0},{"$f":"U13/(W4-U10)","v":0},{"$f":"IF(V13=0,0,(V13*((LOG(V13))/LOG(2))))","v":0},null,{"$f":"N13","v":221},{"$f":"COUNTIF(L20:L32,Y13)","v":0},{"$f":"Z13/(AB4-Z10)","v":0},{"$f":"IF(AA13=0,0,(AA13*((LOG(AA13))/LOG(2))))","v":0},null,{"$f":"N13","v":221},{"$f":"COUNTIF(L33:L45,AD13)","v":0},{"$f":"AE13/(AG4-AE10)","v":0},{"$f":"IF(AF13=0,0,(AF13*((LOG(AF13))/LOG(2))))","v":0},null,{"$f":"N13","v":221},{"$f":"COUNTIF(L46:L58,AI13)","v":0},{"$f":"AJ13/(AL4-AJ10)","v":0},{"$f":"IF(AK13=0,0,(AK13*((LOG(AK13))/LOG(2))))","v":0},null,{"$f":"N13","v":221},{"$f":"COUNTIF(L59:L71,AN13)","v":0},{"$f":"AO13/(AQ4-AO10)","v":0},{"$f":"IF(AP13=0,0,(AP13*((LOG(AP13))/LOG(2))))","v":0},null,{"$f":"N13","v":221},{"$f":"COUNTIF(L72:L84,AS13)","v":0},{"$f":"AT13/(AV4-AT10)","v":0},{"$f":"IF(AU13=0,0,(AU13*((LOG(AU13))/LOG(2))))","v":0}]
[11,889,21,898,21,901,null,null,null,null,0,122,null,222,{"$f":"COUNTIF($L$7:$L$500,N14)","v":36},{"$f":"O14/$Q$4","v":0.46153846153846156},{"$f":"IF(P14=0,0,(P14*((LOG(P14))/LOG(2))))","v":-0.51483563880920125},null,null,{"$f":"N14","v":222},{"$f":"COUNTIF(L7:L19,T14)","v":8},{"$f":"U14/(W4-U10)","v":1},{"$f":"IF(V14=0,0,(V14*((LOG(V14))/LOG(2))))","v":0},null,{"$f":"N14","v":222},{"$f":"COUNTIF(L20:L32,Y14)","v":5},{"$f":"Z14/(AB4-Z10)","v":1},{"$f":"IF(AA14=0,0,(AA14*((LOG(AA14))/LOG(2))))","v":0},null,{"$f":"N14","v":222},{"$f":"COUNTIF(L33:L45,AD14)","v":7},{"$f":"AE14/(AG4-AE10)","v":0.875},{"$f":"IF(AF14=0,0,(AF14*((LOG(AF14))/LOG(2))))","v":-0.1685644431995964},null,{"$f":"N14","v":222},{"$f":"COUNTIF(L46:L58,AI14)","v":5},{"$f":"AJ14/(AL4-AJ10)","v":0.83333333333333337},{"$f":"IF(AK14=0,0,(AK14*((LOG(AK14))/LOG(2))))","v":-0.21919533819482812},null,{"$f":"N14","v":222},{"$f":"COUNTIF(L59:L71,AN14)","v":5},{"$f":"AO14/(AQ4-AO10)","v":1},{"$f":"IF(AP14=0,0,(AP14*((LOG(AP14))/LOG(2))))","v":0},null,{"$f":"N14","v":222},{"$f":"COUNTIF(L72:L84,AS14)","v":6},{"$f":"AT14/(AV4-AT10)","v":1},{"$f":"IF(AU14=0,0,(AU14*((LOG(AU14))/LOG(2))))","v":0}]
[22,1016,23,1020,23,1030,null,null,null,null,0,222,null,null,null,{"$f":"SUM(P7:P14)","v":1},{"$f":"-SUM(Q7:Q14)","v":1.1444480669722774},null,null,null,null,{"$f":"SUM(V7:V14)","v":1},{"$f":"-SUM(W7:W14)","v":0},null,null,null,{"$f":"SUM(AA7:AA14)","v":1},{"$f":"-SUM(AB7:AB14)","v":0},null,null,null,{"$f":"SUM(AF7:AF14)","v":1},{"$f":"-SUM(AG7:AG14)","v":0.5435644431995964},null,null,null,{"$f":"SUM(AK7:AK14)","v":1},{"$f":"-SUM(AL7:AL14)","v":0.65002242164835411},null,null,null,{"$f":"SUM(AP7:AP14)","v":1},{"$f":"-SUM(AQ7:AQ14)","v":0},null,null,null,{"$f":"SUM(AU7:AU14)","v":1},{"$f":"-SUM(AV7:AV14)","v":0}]
[22,1144,23,1149,23,1155,null,null,null,null,0,222,null,null,null,"U=",{"$f":"Q15/(LOG(Q4)/LOG(2))","v":0.18208032312360747},null,null,null,null,"U1=",{"$f":"W15/(LOG(W4)/LOG(2))","v":0},null,null,null,"U2=",{"$f":"AB15/(LOG(AB4)/LOG(2))","v":0},null,null,null,"U3=",{"$f":"AG15/(LOG(AG4)/LOG(2))","v":0.14689185194257259},null,null,null,"U4=",{"$f":"AL15/(LOG(AL4)/LOG(2))","v":0.17566085956262825},null,null,null,"U5=",{"$f":"AQ15/(LOG(AQ4)/LOG(2))","v":0},null,null,null,"U6=",{"$f":"AV15/(LOG(AV4)/LOG(2))","v":0}]
[22,1265,23,1283,23,1291,null,null,null,null,0,222]
[11,1386,21,1400,21,1402,null,null,null,null,0,122]
[22,1518,23,1525,23,1532,null,null,null,null,0,222,null,"Total Target Seq"]
[11,1628,21,1638,21,1645,null,null,null,null,0,122,null,{"$f":"COUNTIF(L7:L84,G3)","v":40},null,13,13,13,13,13,13]
[11,1820,21,1832,21,1836,null,null,null,null,0,122,null,null,null,"% of reinforcement given in 6 equal intervals based on number of trials "]
[22,1982,23,1985,23,1996,null,null,null,null,0,222,null,null,null,"%_1","%_2","%_3","%_4","%_5","%_6"]
[11,2090,21,2104,21,2110,null,null,null,null,0,122,null,null,"target sequence",{"$f":"$G$3","v":122},{"$f":"$G$3","v":122},{"$f":"$G$3","v":122},{"$f":"$G$3","v":122},{"$f":"$G$3","v":122},{"$f":"$G$3","v":122}]
[11,2220,21,2228,21,2233,null,null,null,null,0,122,null,null,"total reinforcement",{"$f":"U10","v":5},{"$f":"Z10","v":8},{"$f":"AE10","v":5},{"$f":"AJ10","v":7},{"$f":"AO10","v":8},{"$f":"AT10","v":7}]
[22,2336,23,2339,23,2370,null,null,null,null,0,222,null,null,"% target"]
[11,2466,21,2476,21,2482,null,null,null,null,0,122,null,null,"CCRF"]
[22,2594,23,2598,23,2602,null,null,null,null,0,222,null,null,"% CCRf"]
[22,2711,23,2723,23,2734,null,null,null,null,0,222,null,null,"average response rate",{"$f":"F19/P20","v":117.84615384615384},{"$f":"(F32-F19)/Q20","v":129.76923076923077},{"$f":"(F45-F32)/R20","v":137.69230769230768},{"$f":"(F58-F45)/S20","v":132.69230769230768},{"$f":"(F71-F58)/T20","v":130.92307692307693},{"$f":"(F84-F71)/U20","v":154.61538461538461}]
[22,2838,23,2842,23,2855,null,null,null,null,0,222]
[11,2951,21,2958,21,2963,null,null,null,null,0,122]
[11,3086,21,3094,21,3099,null,null,null,null,0,122]
[11,3192,21,3201,21,3219,null,null,null,null,0,122]
[22,3388,23,3393,23,3407,null,null,null,null,0,222]
[11,3505,21,3518,21,3526,null,null,null,null,0,122]
[22,3637,23,3642,23,3650,null,null,null,null,0,222]
[11,3746,21,3766,21,3789,null,null,null,null,0,122]
[22,3951,23,3965,23,3975,null,null,null,null,0,222]
[22,4081,23,4085,23,4095,null,null,null,null,0,222]
[22,4214,23,4218,23,4237,null,null,null,null,0,222]
[11,4332,21,4345,21,4349,null,null,null,null,0,122]
[22,4483,23,4487,23,4499,null,null,null,null,0,222]
[11,4594,12,4602,23,4611,null,null,null,null,0,112]
[11,4708,21,4721,21,4730,null,null,null,null,0,122]
[22,4870,23,4879,23,4893,null,null,null,null,0,222]
[11,4988,21,5001,21,5009,null,null,null,null,0,122]
[22,5121,23,5129,23,5137,null,null,null,null,0,222]
[22,5244,23,5253,23,5259,null,null,null,null,0,222]
[11,5355,21,5365,21,5376,null,null,null,null,0,122]
[11,5474,21,5488,21,5501,null,null,null,null,0,122]
[22,5669,23,5675,23,5686,null,null,null,null,0,222]
[11,5784,21,5796,21,5800,null,null,null,null,0,122]
[11,5950,21,5958,21,5962,null,null,null,null,0,122]
[22,6083,23,6087,23,6102,null,null,null,null,0,222]
[11,6200,21,6210,21,6215,null,null,null,null,0,122]
[11,6345,21,6353,21,6369,null,null,null,null,0,122]
[11,6466,21,6478,21,6486,null,null,null,null,0,122]
[22,6596,23,6600,23,6619,null,null,null,null,0,222]
[11,6715,12,6722,23,6734,null,null,null,null,0,112]
[11,6835,21,6844,21,6846,null,null,null,null,0,122]
[11,6942,21,6952,21,6956,null,null,null,null,0,122]
[22,7095,23,7100,23,7112,null,null,null,null,0,222]
[11,7207,21,7216,21,7221,null,null,null,null,0,122]
[22,7329,23,7334,23,7340,null,null,null,null,0,222]
[11,7436,21,7446,21,7500,null,null,null,null,0,122]
[22,7635,23,7638,23,7649,null,null,null,null,0,222]
[22,7753,23,7760,23,7770,null,null,null,null,0,222]
[11,7868,21,7880,21,7896,null,null,null,null,0,122]
[22,8017,23,8022,23,8033,null,null,null,null,0,222]
[11,8128,21,8140,21,8143,null,null,null,null,0,122]
[11,8241,21,8270,21,8300,null,null,null,null,0,122]
[11,8411,21,8428,21,8436,null,null,null,null,0,122]
[11,8599,21,8608,21,8611,null,null,null,null,0,122]
[11,8733,21,8776,21,8793,null,null,null,null,0,122]
[11,8968,21,9013,21,9026,null,null,null,null,0,122]
[22,9147,23,9180,23,9194,null,null,null,null,0,222]
[22,9299,23,9305,23,9321,null,null,null,null,0,222]
[11,9416,21,9467,21,9481,null,null,null,null,0,122]
[22,9602,23,9606,23,9612,null,null,null,null,0,222]
[22,9719,23,9728,23,9744,null,null,null,null,0,222]
[11,9852,21,9865,21,9871,null,null,null,null,0,122]
[22,10044,23,10058,23,10072,null,null,null,null,0,222]
[11,10171,21,10179,21,10183,null,null,null,null,0,122]
[22,10301,23,10310,23,10322,null,null,null,null,0,222]
[11,10419,21,10427,21,10446,null,null,null,null,1,122]

{"sheet":"!LA25A02.. I","index":15,"n_rows":89,"n_cols":48,"rows_kept":89,"cut":false,"hidden":false,"merged":[[4,39,4,42],[5,39,5,40],[4,44,4,47],[5,44,5,45],[4,24,4,27],[5,24,5,25],[4,29,4,32],[5,29,5,30],[4,34,4,37],[5,34,5,35],[1,1,1,2],[5,13,5,14],[18,13,18,14],[19,13,19,14],[4,19,4,22],[5,19,5,20]]}
["Report for:!LA25A02.. I"]
["Date:","<date>"]
["Hen:","<hen>",null,null,null,"Correct Sequence",{"$f":"Start!J2","v":122},null,null,null,null,null,null,null,null,"Total Sequences in Data",{"$f":"4994-COUNTBLANK(L7:L5000)","v":83},null,null,null,null,"Total Sequences in Block Data",{"$f":"COUNTA(L7:L20)","v":14},null,null,null,"Total Sequences in Block Data",{"$f":"COUNTA(L21:L34)","v":14},null,null,null,"Total Sequences in Block Data",{"$f":"COUNTA(L35:L47)","v":13},null,null,null,"Total Sequences in Block Data",{"$f":"COUNTA(L48:L61)","v":14},null,null,null,"Total Sequences in Block Data",{"$f":"COUNTA(L62:L75)","v":14},null,null,null,"Total Sequences in Block Data",{"$f":"COUNTA(L76:L89)","v":14}]
[null,null,null,null,null,null,null,null,null,null,null,null,null,null,null,"Total Sequences in Summary",{"$f":"SUM(O7:O14)","v":83},null,null,null,null,"Total Sequences in Block Summary",{"$f":"SUM(U7:U14)","v":14},null,null,null,"Total Sequences in Block Summary",{"$f":"SUM(Z7:Z14)","v":14},null,null,null,"Total Sequences in Block Summary",{"$f":"SUM(AE7:AE14)","v":13},null,null,null,"Total Sequences in Block Summary",{"$f":"SUM(AJ7:AJ14)","v":14},null,null,null,"Total Sequences in Block Summary",{"$f":"SUM(AO7:AO14)","v":14},null,null,null,"Total Sequences in Block Summary",{"$f":"SUM(AT7:AT14)","v":14}]
[null,null,null,null,null,null,null,null,null,null,null,null,null,null,null,null,null,null,null,"Block 1",null,null,null,null,"Block 2",null,null,null,null,"Block 3",null,null,null,null,"Block 4",null,null,null,null,"Block 5",null,null,null,null,"Block 6"]
["Sequence\nComponent\n1","Time\n1","Sequence\nComponent\n2","Time\n2","Sequence\nComponent\n3","Time\n3","Sequence\nComponent\n4","Time\n4","Sequence\nComponent\n5","Time\n5","Correct?\n0=No 1=Yes","Sequence",null,"Frequency",null,"Relative Frequency","Variability",null,null,"Frequency",null,"Relative Frequency","Variability",null,"Frequency",null,"Relative Frequency","Variability",null,"Frequency",null,"Relative Frequency","Variability",null,"Frequency",null,"Relative Frequency","Variability",null,"Frequency",null,"Relative Frequency","Variability",null,"Frequency",null,"Relative Frequency","Variability"]
[22,32,14,43,23,55,null,null,null,null,0,212,null,111,{"$f":"COUNTIF($L$7:$L$500,N7)","v":3},{"$f":"O7/$Q$4","v":3.614457831325301E-2},{"$f":"IF(P7=0,0,(P7*((LOG(P7))/LOG(2))))","v":-0.17313531074550972},null,null,{"$f":"N7","v":111},{"$f":"COUNTIF(L7:L20,T7)","v":2},{"$f":"U7/(W4-U10)","v":0.14285714285714285},{"$f":"IF(V7=0,0,(V7*((LOG(V7))/LOG(2))))","v":-0.40105070315108626},null,{"$f":"N7","v":111},{"$f":"COUNTIF(L21:L34,Y7)","v":1},{"$f":"Z7/(AB4-Z10)","v":0.16666666666666666},{"$f":"IF(AA7=0,0,(AA7*((LOG(AA7))/LOG(2))))","v":-0.43082708345352599},null,{"$f":"N7","v":111},{"$f":"COUNTIF(L35:L47,AD7)","v":0},{"$f":"AE7/(AG4-AE10)","v":0},{"$f":"IF(AF7=0,0,(AF7*((LOG(AF7))/LOG(2))))","v":0},null,{"$f":"N7","v":111},{"$f":"COUNTIF(L48:L61,AI7)","v":0},{"$f":"AJ7/(AL4-AJ10)","v":0},{"$f":"IF(AK7=0,0,(AK7*((LOG(AK7))/LOG(2))))","v":0},null,{"$f":"N7","v":111},{"$f":"COUNTIF(L62:L75,AN7)","v":0},{"$f":"AO7/(AQ4-AO10)","v":0},{"$f":"IF(AP7=0,0,(AP7*((LOG(AP7))/LOG(2))))","v":0},null,{"$f":"N7","v":111},{"$f":"COUNTIF(L76:L89,AS7)","v":0},{"$f":"AT7/(AV4-AT10)","v":0},{"$f":"IF(AU7=0,0,(AU7*((LOG(AU7))/LOG(2))))","v":0}]
[22,156,23,163,23,169,null,null,null,null,0,222,null,112,{"$f":"COUNTIF($L$7:$L$500,N8)","v":13},{"$f":"O8/$Q$4","v":0.15662650602409639},{"$f":"IF(P8=0,0,(P8*((LOG(P8))/LOG(2))))","v":-0.41891320809247978},null,null,{"$f":"N8","v":112},{"$f":"COUNTIF(L7:L20,T8)","v":8},{"$f":"U8/(W4-U10)","v":0.5714285714285714},{"$f":"IF(V8=0,0,(V8*((LOG(V8))/LOG(2))))","v":-0.46134566974720237},null,{"$f":"N8","v":112},{"$f":"COUNTIF(L21:L34,Y8)","v":4},{"$f":"Z8/(AB4-Z10)","v":0.66666666666666663},{"$f":"IF(AA8=0,0,(AA8*((LOG(AA8))/LOG(2))))","v":-0.38997500048077083},null,{"$f":"N8","v":112},{"$f":"COUNTIF(L35:L47,AD8)","v":1},{"$f":"AE8/(AG4-AE10)","v":0.2},{"$f":"IF(AF8=0,0,(AF8*((LOG(AF8))/LOG(2))))","v":-0.46438561897747244},null,{"$f":"N8","v":112},{"$f":"COUNTIF(L48:L61,AI8)","v":0},{"$f":"AJ8/(AL4-AJ10)","v":0},{"$f":"IF(AK8=0,0,(AK8*((LOG(AK8))/LOG(2))))","v":0},null,{"$f":"N8","v":112},{"$f":"COUNTIF(L62:L75,AN8)","v":0},{"$f":"AO8/(AQ4-AO10)","v":0},{"$f":"IF(AP8=0,0,(AP8*((LOG(AP8))/LOG(2))))","v":0},null,{"$f":"N8","v":112},{"$f":"COUNTIF(L76:L89,AS8)","v":0},{"$f":"AT8/(AV4-AT10)","v":0},{"$f":"IF(AU8=0,0,(AU8*((LOG(AU8))/LOG(2))))","v":0}]
[22,283,23,287,23,292,null,null,null,null,0,222,null,121,{"$f":"COUNTIF($L$7:$L$500,N9)","v":0},{"$f":"O9/$Q$4","v":0},{"$f":"IF(P9=0,0,(P9*((LOG(P9))/LOG(2))))","v":0},null,null,{"$f":"N9","v":121},{"$f":"COUNTIF(L7:L20,T9)","v":0},{"$f":"U9/(W4-U10)","v":0},{"$f":"IF(V9=0,0,(V9*((LOG(V9))/LOG(2))))","v":0},null,{"$f":"N9","v":121},{"$f":"COUNTIF(L21:L34,Y9)","v":0},{"$f":"Z9/(AB4-Z10)","v":0},{"$f":"IF(AA9=0,0,(AA9*((LOG(AA9))/LOG(2))))","v":0},null,{"$f":"N9","v":121},{"$f":"COUNTIF(L35:L47,AD9)","v":0},{"$f":"AE9/(AG4-AE10)","v":0},{"$f":"IF(AF9=0,0,(AF9*((LOG(AF9))/LOG(2))))","v":0},null,{"$f":"N9","v":121},{"$f":"COUNTIF(L48:L61,AI9)","v":0},{"$f":"AJ9/(AL4-AJ10)","v":0},{"$f":"IF(AK9=0,0,(AK9*((LOG(AK9))/LOG(2))))","v":0},null,{"$f":"N9","v":121},{"$f":"COUNTIF(L62:L75,AN9)","v":0},{"$f":"AO9/(AQ4-AO10)","v":0},{"$f":"IF(AP9=0,0,(AP9*((LOG(AP9))/LOG(2))))","v":0},null,{"$f":"N9","v":121},{"$f":"COUNTIF(L76:L89,AS9)","v":0},{"$f":"AT9/(AV4-AT10)","v":0},{"$f":"IF(AU9=0,0,(AU9*((LOG(AU9))/LOG(2))))","v":0}]
[11,388,12,395,23,402,null,null,null,null,0,112,null,122,{"$f":"COUNTIF($L$7:$L$500,N10)","v":40},{"$f":"O10/$Q$4","v":0.48192771084337349},{"$f":"IF(P10=0,0,(P10*((LOG(P10))/LOG(2))))","v":-0.50752353564316255},null,null,{"$f":"N10","v":122},{"$f":"COUNTIF(L7:L20,T10)","v":0},null,null,null,{"$f":"N10","v":122},{"$f":"COUNTIF(L21:L34,Y10)","v":8},null,null,null,{"$f":"N10","v":122},{"$f":"COUNTIF(L35:L47,AD10)","v":8},null,null,null,{"$f":"N10","v":122},{"$f":"COUNTIF(L48:L61,AI10)","v":10},null,null,null,{"$f":"N10","v":122},{"$f":"COUNTIF(L62:L75,AN10)","v":7},null,null,null,{"$f":"N10","v":122},{"$f":"COUNTIF(L76:L89,AS10)","v":7}]
[11,497,12,507,23,516,null,null,null,null,0,112,null,211,{"$f":"COUNTIF($L$7:$L$500,N11)","v":0},{"$f":"O11/$Q$4","v":0},{"$f":"IF(P11=0,0,(P11*((LOG(P11))/LOG(2))))","v":0},null,null,{"$f":"N11","v":211},{"$f":"COUNTIF(L7:L20,T11)","v":0},{"$f":"U11/(W4-U10)","v":0},{"$f":"IF(V11=0,0,(V11*((LOG(V11))/LOG(2))))","v":0},null,{"$f":"N11","v":211},{"$f":"COUNTIF(L21:L34,Y11)","v":0},{"$f":"Z11/(AB4-Z10)","v":0},{"$f":"IF(AA11=0,0,(AA11*((LOG(AA11))/LOG(2))))","v":0},null,{"$f":"N11","v":211},{"$f":"COUNTIF(L35:L47,AD11)","v":0},{"$f":"AE11/(AG4-AE10)","v":0},{"$f":"IF(AF11=0,0,(AF11*((LOG(AF11))/LOG(2))))","v":0},null,{"$f":"N11","v":211},{"$f":"COUNTIF(L48:L61,AI11)","v":0},{"$f":"AJ11/(AL4-AJ10)","v":0},{"$f":"IF(AK11=0,0,(AK11*((LOG(AK11))/LOG(2))))","v":0},null,{"$f":"N11","v":211},{"$f":"COUNTIF(L62:L75,AN11)","v":0},{"$f":"AO11/(AQ4-AO10)","v":0},{"$f":"IF(AP11=0,0,(AP11*((LOG(AP11))/LOG(2))))","v":0},null,{"$f":"N11","v":211},{"$f":"COUNTIF(L76:L89,AS11)","v":0},{"$f":"AT11/(AV4-AT10)","v":0},{"$f":"IF(AU11=0,0,(AU11*((LOG(AU11))/LOG(2))))","v":0}]
[11,611,12,623,23,631,null,null,null,null,0,112,null,212,{"$f":"COUNTIF($L$7:$L$500,N12)","v":1},{"$f":"O12/$Q$4","v":1.2048192771084338E-2},{"$f":"IF(P12=0,0,(P12*((LOG(P12))/LOG(2))))","v":-7.6807703992131618E-2},null,null,{"$f":"N12","v":212},{"$f":"COUNTIF(L7:L20,T12)","v":1},{"$f":"U12/(W4-U10)","v":7.1428571428571425E-2},{"$f":"IF(V12=0,0,(V12*((LOG(V12))/LOG(2))))","v":-0.27195392300411453},null,{"$f":"N12","v":212},{"$f":"COUNTIF(L21:L34,Y12)","v":0},{"$f":"Z12/(AB4-Z10)","v":0},{"$f":"IF(AA12=0,0,(AA12*((LOG(AA12))/LOG(2))))","v":0},null,{"$f":"N12","v":212},{"$f":"COUNTIF(L35:L47,AD12)","v":0},{"$f":"AE12/(AG4-AE10)","v":0},{"$f":"IF(AF12=0,0,(AF12*((LOG(AF12))/LOG(2))))","v":0},null,{"$f":"N12","v":212},{"$f":"COUNTIF(L48:L61,AI12)","v":0},{"$f":"AJ12/(AL4-AJ10)","v":0},{"$f":"IF(AK12=0,0,(AK12*((LOG(AK12))/LOG(2))))","v":0},null,{"$f":"N12","v":212},{"$f":"COUNTIF(L62:L75,AN12)","v":0},{"$f":"AO12/(AQ4-AO10)","v":0},{"$f":"IF(AP12=0,0,(AP12*((LOG(AP12))/LOG(2))))","v":0},null,{"$f":"N12","v":212},{"$f":"COUNTIF(L76:L89,AS12)","v":0},{"$f":"AT12/(AV4-AT10)","v":0},{"$f":"IF(AU12=0,0,(AU12*((LOG(AU12))/LOG(2))))","v":0}]
[11,729,12,733,23,743,null,null,null,null,0,112,null,221,{"$f":"COUNTIF($L$7:$L$500,N13)","v":0},{"$f":"O13/$Q$4","v":0},{"$f":"IF(P13=0,0,(P13*((LOG(P13))/LOG(2))))","v":0},null,null,{"$f":"N13","v":221},{"$f":"COUNTIF(L7:L20,T13)","v":0},{"$f":"U13/(W4-U10)","v":0},{"$f":"IF(V13=0,0,(V13*((LOG(V13))/LOG(2))))","v":0},null,{"$f":"N13","v":221},{"$f":"COUNTIF(L21:L34,Y13)","v":0},{"$f":"Z13/(AB4-Z10)","v":0},{"$f":"IF(AA13=0,0,(AA13*((LOG(AA13))/LOG(2))))","v":0},null,{"$f":"N13","v":221},{"$f":"COUNTIF(L35:L47,AD13)","v":0},{"$f":"AE13/(AG4-AE10)","v":0},{"$f":"IF(AF13=0,0,(AF13*((LOG(AF13))/LOG(2))))","v":0},null,{"$f":"N13","v":221},{"$f":"COUNTIF(L48:L61,AI13)","v":0},{"$f":"AJ13/(AL4-AJ10)","v":0},{"$f":"IF(AK13=0,0,(AK13*((LOG(AK13))/LOG(2))))","v":0},null,{"$f":"N13","v":221},{"$f":"COUNTIF(L62:L75,AN13)","v":0},{"$f":"AO13/(AQ4-AO10)","v":0},{"$f":"IF(AP13=0,0,(AP13*((LOG(AP13))/LOG(2))))","v":0},null,{"$f":"N13","v":221},{"$f":"COUNTIF(L76:L89,AS13)","v":0},{"$f":"AT13/(AV4-AT10)","v":0},{"$f":"IF(AU13=0,0,(AU13*((LOG(AU13))/LOG(2))))","v":0}]
[11,839,12,849,23,874,null,null,null,null,0,112,null,222,{"$f":"COUNTIF($L$7:$L$500,N14)","v":26},{"$f":"O14/$Q$4","v":0.31325301204819278},{"$f":"IF(P14=0,0,(P14*((LOG(P14))/LOG(2))))","v":-0.52457340413676679},null,null,{"$f":"N14","v":222},{"$f":"COUNTIF(L7:L20,T14)","v":3},{"$f":"U14/(W4-U10)","v":0.21428571428571427},{"$f":"IF(V14=0,0,(V14*((LOG(V14))/LOG(2))))","v":-0.47622694742923877},null,{"$f":"N14","v":222},{"$f":"COUNTIF(L21:L34,Y14)","v":1},{"$f":"Z14/(AB4-Z10)","v":0.16666666666666666},{"$f":"IF(AA14=0,0,(AA14*((LOG(AA14))/LOG(2))))","v":-0.43082708345352599},null,{"$f":"N14","v":222},{"$f":"COUNTIF(L35:L47,AD14)","v":4},{"$f":"AE14/(AG4-AE10)","v":0.8},{"$f":"IF(AF14=0,0,(AF14*((LOG(AF14))/LOG(2))))","v":-0.25754247590988982},null,{"$f":"N14","v":222},{"$f":"COUNTIF(L48:L61,AI14)","v":4},{"$f":"AJ14/(AL4-AJ10)","v":1},{"$f":"IF(AK14=0,0,(AK14*((LOG(AK14))/LOG(2))))","v":0},null,{"$f":"N14","v":222},{"$f":"COUNTIF(L62:L75,AN14)","v":7},{"$f":"AO14/(AQ4-AO10)","v":1},{"$f":"IF(AP14=0,0,(AP14*((LOG(AP14))/LOG(2))))","v":0},null,{"$f":"N14","v":222},{"$f":"COUNTIF(L76:L89,AS14)","v":7},{"$f":"AT14/(AV4-AT10)","v":1},{"$f":"IF(AU14=0,0,(AU14*((LOG(AU14))/LOG(2))))","v":0}]
[11,969,12,974,23,984,null,null,null,null,0,112,null,null,null,{"$f":"SUM(P7:P14)","v":1},{"$f":"-SUM(Q7:Q14)","v":1.7009531626100505},null,null,null,null,{"$f":"SUM(V7:V14)","v":0.99999999999999989},{"$f":"-SUM(W7:W14)","v":1.6105772433316421},null,null,null,{"$f":"SUM(AA7:AA14)","v":0.99999999999999989},{"$f":"-SUM(AB7:AB14)","v":1.2516291673878228},null,null,null,{"$f":"SUM(AF7:AF14)","v":1},{"$f":"-SUM(AG7:AG14)","v":0.72192809488736231},null,null,null,{"$f":"SUM(AK7:AK14)","v":1},{"$f":"-SUM(AL7:AL14)","v":0},null,null,null,{"$f":"SUM(AP7:AP14)","v":1},{"$f":"-SUM(AQ7:AQ14)","v":0},null,null,null,{"$f":"SUM(AU7:AU14)","v":1},{"$f":"-SUM(AV7:AV14)","v":0}]
[22,1091,23,1095,23,1104,null,null,null,null,0,222,null,null,null,"U=",{"$f":"Q15/(LOG(Q4)/LOG(2))","v":0.26681453203979189},null,null,null,null,"U1=",{"$f":"W15/(LOG(W4)/LOG(2))","v":0.42301736410254076},null,null,null,"U2=",{"$f":"AB15/(LOG(AB4)/LOG(2))","v":0.32873981885340137},null,null,null,"U3=",{"$f":"AG15/(LOG(AG4)/LOG(2))","v":0.19509251599159175},null,null,null,"U4=",{"$f":"AL15/(LOG(AL4)/LOG(2))","v":0},null,null,null,"U5=",{"$f":"AQ15/(LOG(AQ4)/LOG(2))","v":0},null,null,null,"U6=",{"$f":"AV15/(LOG(AV4)/LOG(2))","v":0}]
[11,1200,12,1203,23,1214,null,null,null,null,0,112]
[11,1312,12,1318,23,1332,null,null,null,null,0,112]
[11,1429,12,1432,14,1436,null,null,null,null,0,111,null,"Total Target Seq"]
[11,1544,12,1547,14,1551,null,null,null,null,0,111,null,{"$f":"COUNTIF(L7:L89,G3)","v":40},null,14,14,13,14,14,14]
[11,1646,12,1654,23,1662,null,null,null,null,0,112,null,null,null,"% of reinforcement given in 6 equal intervals based on number of trials "]
[11,1757,21,1771,21,1774,null,null,null,null,0,122,null,null,null,"%_1","%_2","%_3","%_4","%_5","%_6"]
[11,1891,12,1896,23,1905,null,null,null,null,0,112,null,null,"target sequence",{"$f":"$G$3","v":122},{"$f":"$G$3","v":122},{"$f":"$G$3","v":122},{"$f":"$G$3","v":122},{"$f":"$G$3","v":122},{"$f":"$G$3","v":122}]
[11,2002,12,2006,23,2025,null,null,null,null,0,112,null,null,"total reinforcement",{"$f":"U10","v":0},{"$f":"Z10","v":8},{"$f":"AE10","v":8},{"$f":"AJ10","v":10},{"$f":"AO10","v":7},{"$f":"AT10","v":7}]
[11,2122,12,2126,23,2134,null,null,null,null,0,112,null,null,"% target"]
[11,2257,21,2265,21,2271,null,null,null,null,0,122,null,null,"CCRF"]
[11,2364,21,2373,21,2376,null,null,null,null,0,122,null,null,"% CCRf"]
[11,2467,21,2488,21,2496,null,null,null,null,0,122,null,null,"average response rate",{"$f":"F20/P20","v":110.78571428571429},{"$f":"(F34-F20)/Q20","v":125.71428571428571},{"$f":"(F47-F34)/R20","v":128},{"$f":"(F61-F47)/S20","v":135},{"$f":"(F75-F61)/T20","v":129.42857142857142},{"$f":"(F89-F75)/U20","v":121.57142857142857}]
[11,2589,21,2601,21,2613,null,null,null,null,0,122]
[11,2715,12,2736,14,2742,null,null,null,null,0,111]
[11,2848,21,2858,21,2868,null,null,null,null,0,122]
[22,3040,23,3064,23,3073,null,null,null,null,0,222]
[11,3170,21,3188,21,3202,null,null,null,null,0,122]
[11,3294,21,3306,21,3311,null,null,null,null,0,122]
[11,3403,21,3412,21,3415,null,null,null,null,0,122]
[22,3619,23,3622,23,3627,null,null,null,null,0,222]
[11,3723,21,3742,21,3761,null,null,null,null,0,122]
[11,3854,21,3864,21,3869,null,null,null,null,0,122]
[11,3981,21,3988,21,3992,null,null,null,null,0,122]
[22,4108,23,4116,23,4129,null,null,null,null,0,222]
[11,4224,12,4229,23,4236,null,null,null,null,0,112]
[11,4331,21,4342,21,4345,null,null,null,null,0,122]
[22,4452,23,4456,23,4464,null,null,null,null,0,222]
[11,4559,21,4570,21,4573,null,null,null,null,0,122]
[11,4683,21,4698,21,4708,null,null,null,null,0,122]
[22,4853,23,4859,23,4864,null,null,null,null,0,222]
[11,4959,21,4968,21,4975,null,null,null,null,0,122]
[11,5073,21,5082,21,5090,null,null,null,null,0,122]
[11,5200,21,5209,21,5214,null,null,null,null,0,122]
[11,5340,21,5350,21,5362,null,null,null,null,0,122]
[11,5507,21,5515,21,5520,null,null,null,null,0,122]
[11,5615,21,5626,21,5635,null,null,null,null,0,122]
[22,5795,23,5801,23,5811,null,null,null,null,0,222]
[11,5906,21,5917,21,5937,null,null,null,null,0,122]
[11,6033,21,6042,21,6045,null,null,null,null,0,122]
[22,6205,23,6209,23,6224,null,null,null,null,0,222]
[11,6322,21,6332,21,6344,null,null,null,null,0,122]
[22,6470,23,6477,23,6483,null,null,null,null,0,222]
[11,6579,21,6608,21,6624,null,null,null,null,0,122]
[22,6740,23,6744,23,6752,null,null,null,null,0,222]
[11,6849,21,6861,21,6865,null,null,null,null,0,122]
[22,6980,23,6988,23,6995,null,null,null,null,0,222]
[11,7090,21,7100,21,7103,null,null,null,null,0,122]
[11,7256,21,7264,21,7270,null,null,null,null,0,122]
[11,7378,21,7386,21,7405,null,null,null,null,0,122]
[11,7510,21,7521,21,7534,null,null,null,null,0,122]
[22,7660,23,7676,23,7684,null,null,null,null,0,222]
[22,7793,23,7807,23,7815,null,null,null,null,0,222]
[11,7912,21,7919,21,7923,null,null,null,null,0,122]
[22,8034,23,8038,23,8042,null,null,null,null,0,222]
[22,8158,23,8162,23,8166,null,null,null,null,0,222]
[22,8270,23,8273,23,8283,null,null,null,null,0,222]
[22,8446,23,8449,23,8463,null,null,null,null,0,222]
[11,8558,21,8567,21,8572,null,null,null,null,0,122]
[11,8662,21,8674,21,8677,null,null,null,null,0,122]
[11,8779,21,8786,21,8791,null,null,null,null,0,122]
[22,8950,23,8954,23,8968,null,null,null,null,0,222]
[11,9065,21,9073,21,9075,null,null,null,null,0,122]
[22,9186,23,9193,23,9202,null,null,null,null,0,222]
[11,9298,21,9305,21,9310,null,null,null,null,0,122]
[22,9412,23,9418,23,9426,null,null,null,null,0,222]
[11,9524,21,9533,21,9537,null,null,null,null,0,122]
[22,9655,23,9661,23,9669,null,null,null,null,0,222]
[11,9766,21,9774,21,9778,null,null,null,null,0,122]
[22,9882,23,9888,23,9896,null,null,null,null,0,222]
[11,9991,21,9999,21,10006,null,null,null,null,0,122]
[22,10108,23,10116,23,10122,null,null,null,null,0,222]
[22,10227,23,10259,23,10269,null,null,null,null,0,222]
[11,10363,21,10372,21,10379,null,null,null,null,1,122]

{"sheet":"!LA26A22.. I","index":16,"n_rows":83,"n_cols":48,"rows_kept":83,"cut":false,"hidden":false,"merged":[[4,39,4,42],[5,39,5,40],[4,44,4,47],[5,44,5,45],[4,24,4,27],[5,24,5,25],[4,29,4,32],[5,29,5,30],[4,34,4,37],[5,34,5,35],[1,1,1,2],[5,13,5,14],[18,13,18,14],[19,13,19,14],[4,19,4,22],[5,19,5,20]]}
["Report for:!LA26A22.. I"]
["Date:","<date>"]
["Hen:","<hen>",null,null,null,"Correct Sequence",{"$f":"Start!J2","v":122},null,null,null,null,null,null,null,null,"Total Sequences in Data",{"$f":"4994-COUNTBLANK(L7:L5000)","v":77},null,null,null,null,"Total Sequences in Block Data",{"$f":"COUNTA(L7:L19)","v":13},null,null,null,"Total Sequences in Block Data",{"$f":"COUNTA(L20:L32)","v":13},null,null,null,"Total Sequences in Block Data",{"$f":"COUNTA(L33:L44)","v":12},null,null,null,"Total Sequences in Block Data",{"$f":"COUNTA(L45:L57)","v":13},null,null,null,"Total Sequences in Block Data",{"$f":"COUNTA(L58:L70)","v":13},null,null,null,"Total Sequences in Block Data",{"$f":"COUNTA(L71:L83)","v":13}]
[null,null,null,null,null,null,null,null,null,null,null,null,null,null,null,"Total Sequences in Summary",{"$f":"SUM(O7:O14)","v":77},null,null,null,null,"Total Sequences in Block Summary",{"$f":"SUM(U7:U14)","v":13},null,null,null,"Total Sequences in Block Summary",{"$f":"SUM(Z7:Z14)","v":13},null,null,null,"Total Sequences in Block Summary",{"$f":"SUM(AE7:AE14)","v":12},null,null,null,"Total Sequences in Block Summary",{"$f":"SUM(AJ7:AJ14)","v":13},null,null,null,"Total Sequences in Block Summary",{"$f":"SUM(AO7:AO14)","v":13},null,null,null,"Total Sequences in Block Summary",{"$f":"SUM(AT7:AT14)","v":13}]
[null,null,null,null,null,null,null,null,null,null,null,null,null,null,null,null,null,null,null,"Block 1",null,null,null,null,"Block 2",null,null,null,null,"Block 3",null,null,null,null,"Block 4",null,null,null,null,"Block 5",null,null,null,null,"Block 6"]
["Sequence\nComponent\n1","Time\n1","Sequence\nComponent\n2","Time\n2","Sequence\nComponent\n3","Time\n3","Sequence\nComponent\n4","Time\n4","Sequence\nComponent\n5","Time\n5","Correct?\n0=No 1=Yes","Sequence",null,"Frequency",null,"Relative Frequency","Variability",null,null,"Frequency",null,"Relative Frequency","Variability",null,"Frequency",null,"Relative Frequency","Variability",null,"Frequency",null,"Relative Frequency","Variability",null,"Frequency",null,"Relative Frequency","Variability",null,"Frequency",null,"Relative Frequency","Variability",null,"Frequency",null,"Relative Frequency","Variability"]
[22,14,23,20,23,26,null,null,null,null,0,222,null,111,{"$f":"COUNTIF($L$7:$L$500,N7)","v":0},{"$f":"O7/$Q$4","v":0},{"$f":"IF(P7=0,0,(P7*((LOG(P7))/LOG(2))))","v":0},null,null,{"$f":"N7","v":111},{"$f":"COUNTIF(L7:L19,T7)","v":0},{"$f":"U7/(W4-U10)","v":0},{"$f":"IF(V7=0,0,(V7*((LOG(V7))/LOG(2))))","v":0},null,{"$f":"N7","v":111},{"$f":"COUNTIF(L20:L32,Y7)","v":0},{"$f":"Z7/(AB4-Z10)","v":0},{"$f":"IF(AA7=0,0,(AA7*((LOG(AA7))/LOG(2))))","v":0},null,{"$f":"N7","v":111},{"$f":"COUNTIF(L33:L44,AD7)","v":0},{"$f":"AE7/(AG4-AE10)","v":0},{"$f":"IF(AF7=0,0,(AF7*((LOG(AF7))/LOG(2))))","v":0},null,{"$f":"N7","v":111},{"$f":"COUNTIF(L45:L57,AI7)","v":0},{"$f":"AJ7/(AL4-AJ10)","v":0},{"$f":"IF(AK7=0,0,(AK7*((LOG(AK7))/LOG(2))))","v":0},null,{"$f":"N7","v":111},{"$f":"COUNTIF(L58:L70,AN7)","v":0},{"$f":"AO7/(AQ4-AO10)","v":0},{"$f":"IF(AP7=0,0,(AP7*((LOG(AP7))/LOG(2))))","v":0},null,{"$f":"N7","v":111},{"$f":"COUNTIF(L71:L83,AS7)","v":0},{"$f":"AT7/(AV4-AT10)","v":0},{"$f":"IF(AU7=0,0,(AU7*((LOG(AU7))/LOG(2))))","v":0}]
[11,122,21,134,21,143,null,null,null,null,0,122,null,112,{"$f":"COUNTIF($L$7:$L$500,N8)","v":1},{"$f":"O8/$Q$4","v":1.2987012987012988E-2},{"$f":"IF(P8=0,0,(P8*((LOG(P8))/LOG(2))))","v":-8.1386838190842872E-2},null,null,{"$f":"N8","v":112},{"$f":"COUNTIF(L7:L19,T8)","v":0},{"$f":"U8/(W4-U10)","v":0},{"$f":"IF(V8=0,0,(V8*((LOG(V8))/LOG(2))))","v":0},null,{"$f":"N8","v":112},{"$f":"COUNTIF(L20:L32,Y8)","v":0},{"$f":"Z8/(AB4-Z10)","v":0},{"$f":"IF(AA8=0,0,(AA8*((LOG(AA8))/LOG(2))))","v":0},null,{"$f":"N8","v":112},{"$f":"COUNTIF(L33:L44,AD8)","v":0},{"$f":"AE8/(AG4-AE10)","v":0},{"$f":"IF(AF8=0,0,(AF8*((LOG(AF8))/LOG(2))))","v":0},null,{"$f":"N8","v":112},{"$f":"COUNTIF(L45:L57,AI8)","v":0},{"$f":"AJ8/(AL4-AJ10)","v":0},{"$f":"IF(AK8=0,0,(AK8*((LOG(AK8))/LOG(2))))","v":0},null,{"$f":"N8","v":112},{"$f":"COUNTIF(L58:L70,AN8)","v":0},{"$f":"AO8/(AQ4-AO10)","v":0},{"$f":"IF(AP8=0,0,(AP8*((LOG(AP8))/LOG(2))))","v":0},null,{"$f":"N8","v":112},{"$f":"COUNTIF(L71:L83,AS8)","v":1},{"$f":"AT8/(AV4-AT10)","v":0.125},{"$f":"IF(AU8=0,0,(AU8*((LOG(AU8))/LOG(2))))","v":-0.375}]
[22,252,23,258,23,265,null,null,null,null,0,222,null,121,{"$f":"COUNTIF($L$7:$L$500,N9)","v":0},{"$f":"O9/$Q$4","v":0},{"$f":"IF(P9=0,0,(P9*((LOG(P9))/LOG(2))))","v":0},null,null,{"$f":"N9","v":121},{"$f":"COUNTIF(L7:L19,T9)","v":0},{"$f":"U9/(W4-U10)","v":0},{"$f":"IF(V9=0,0,(V9*((LOG(V9))/LOG(2))))","v":0},null,{"$f":"N9","v":121},{"$f":"COUNTIF(L20:L32,Y9)","v":0},{"$f":"Z9/(AB4-Z10)","v":0},{"$f":"IF(AA9=0,0,(AA9*((LOG(AA9))/LOG(2))))","v":0},null,{"$f":"N9","v":121},{"$f":"COUNTIF(L33:L44,AD9)","v":0},{"$f":"AE9/(AG4-AE10)","v":0},{"$f":"IF(AF9=0,0,(AF9*((LOG(AF9))/LOG(2))))","v":0},null,{"$f":"N9","v":121},{"$f":"COUNTIF(L45:L57,AI9)","v":0},{"$f":"AJ9/(AL4-AJ10)","v":0},{"$f":"IF(AK9=0,0,(AK9*((LOG(AK9))/LOG(2))))","v":0},null,{"$f":"N9","v":121},{"$f":"COUNTIF(L58:L70,AN9)","v":0},{"$f":"AO9/(AQ4-AO10)","v":0},{"$f":"IF(AP9=0,0,(AP9*((LOG(AP9))/LOG(2))))","v":0},null,{"$f":"N9","v":121},{"$f":"COUNTIF(L71:L83,AS9)","v":0},{"$f":"AT9/(AV4-AT10)","v":0},{"$f":"IF(AU9=0,0,(AU9*((LOG(AU9))/LOG(2))))","v":0}]
[22,372,23,376,23,383,null,null,null,null,0,222,null,122,{"$f":"COUNTIF($L$7:$L$500,N10)","v":40},{"$f":"O10/$Q$4","v":0.51948051948051943},{"$f":"IF(P10=0,0,(P10*((LOG(P10))/LOG(2))))","v":-0.4908355562636566},null,null,{"$f":"N10","v":122},{"$f":"COUNTIF(L7:L19,T10)","v":6},null,null,null,{"$f":"N10","v":122},{"$f":"COUNTIF(L20:L32,Y10)","v":6},null,null,null,{"$f":"N10","v":122},{"$f":"COUNTIF(L33:L44,AD10)","v":7},null,null,null,{"$f":"N10","v":122},{"$f":"COUNTIF(L45:L57,AI10)","v":9},null,null,null,{"$f":"N10","v":122},{"$f":"COUNTIF(L58:L70,AN10)","v":7},null,null,null,{"$f":"N10","v":122},{"$f":"COUNTIF(L71:L83,AS10)","v":5}]
[11,480,21,488,21,509,null,null,null,null,0,122,null,211,{"$f":"COUNTIF($L$7:$L$500,N11)","v":0},{"$f":"O11/$Q$4","v":0},{"$f":"IF(P11=0,0,(P11*((LOG(P11))/LOG(2))))","v":0},null,null,{"$f":"N11","v":211},{"$f":"COUNTIF(L7:L19,T11)","v":0},{"$f":"U11/(W4-U10)","v":0},{"$f":"IF(V11=0,0,(V11*((LOG(V11))/LOG(2))))","v":0},null,{"$f":"N11","v":211},{"$f":"COUNTIF(L20:L32,Y11)","v":0},{"$f":"Z11/(AB4-Z10)","v":0},{"$f":"IF(AA11=0,0,(AA11*((LOG(AA11))/LOG(2))))","v":0},null,{"$f":"N11","v":211},{"$f":"COUNTIF(L33:L44,AD11)","v":0},{"$f":"AE11/(AG4-AE10)","v":0},{"$f":"IF(AF11=0,0,(AF11*((LOG(AF11))/LOG(2))))","v":0},null,{"$f":"N11","v":211},{"$f":"COUNTIF(L45:L57,AI11)","v":0},{"$f":"AJ11/(AL4-AJ10)","v":0},{"$f":"IF(AK11=0,0,(AK11*((LOG(AK11))/LOG(2))))","v":0},null,{"$f":"N11","v":211},{"$f":"COUNTIF(L58:L70,AN11)","v":0},{"$f":"AO11/(AQ4-AO10)","v":0},{"$f":"IF(AP11=0,0,(AP11*((LOG(AP11))/LOG(2))))","v":0},null,{"$f":"N11","v":211},{"$f":"COUNTIF(L71:L83,AS11)","v":0},{"$f":"AT11/(AV4-AT10)","v":0},{"$f":"IF(AU11=0,0,(AU11*((LOG(AU11))/LOG(2))))","v":0}]
[22,652,23,657,23,666,null,null,null,null,0,222,null,212,{"$f":"COUNTIF($L$7:$L$500,N12)","v":0},{"$f":"O12/$Q$4","v":0},{"$f":"IF(P12=0,0,(P12*((LOG(P12))/LOG(2))))","v":0},null,null,{"$f":"N12","v":212},{"$f":"COUNTIF(L7:L19,T12)","v":0},{"$f":"U12/(W4-U10)","v":0},{"$f":"IF(V12=0,0,(V12*((LOG(V12))/LOG(2))))","v":0},null,{"$f":"N12","v":212},{"$f":"COUNTIF(L20:L32,Y12)","v":0},{"$f":"Z12/(AB4-Z10)","v":0},{"$f":"IF(AA12=0,0,(AA12*((LOG(AA12))/LOG(2))))","v":0},null,{"$f":"N12","v":212},{"$f":"COUNTIF(L33:L44,AD12)","v":0},{"$f":"AE12/(AG4-AE10)","v":0},{"$f":"IF(AF12=0,0,(AF12*((LOG(AF12))/LOG(2))))","v":0},null,{"$f":"N12","v":212},{"$f":"COUNTIF(L45:L57,AI12)","v":0},{"$f":"AJ12/(AL4-AJ10)","v":0},{"$f":"IF(AK12=0,0,(AK12*((LOG(AK12))/LOG(2))))","v":0},null,{"$f":"N12","v":212},{"$f":"COUNTIF(L58:L70,AN12)","v":0},{"$f":"AO12/(AQ4-AO10)","v":0},{"$f":"IF(AP12=0,0,(AP12*((LOG(AP12))/LOG(2))))","v":0},null,{"$f":"N12","v":212},{"$f":"COUNTIF(L71:L83,AS12)","v":0},{"$f":"AT12/(AV4-AT10)","v":0},{"$f":"IF(AU12=0,0,(AU12*((LOG(AU12))/LOG(2))))","v":0}]
[22,771,23,775,23,783,null,null,null,null,0,222,null,221,{"$f":"COUNTIF($L$7:$L$500,N13)","v":0},{"$f":"O13/$Q$4","v":0},{"$f":"IF(P13=0,0,(P13*((LOG(P13))/LOG(2))))","v":0},null,null,{"$f":"N13","v":221},{"$f":"COUNTIF(L7:L19,T13)","v":0},{"$f":"U13/(W4-U10)","v":0},{"$f":"IF(V13=0,0,(V13*((LOG(V13))/LOG(2))))","v":0},null,{"$f":"N13","v":221},{"$f":"COUNTIF(L20:L32,Y13)","v":0},{"$f":"Z13/(AB4-Z10)","v":0},{"$f":"IF(AA13=0,0,(AA13*((LOG(AA13))/LOG(2))))","v":0},null,{"$f":"N13","v":221},{"$f":"COUNTIF(L33:L44,AD13)","v":0},{"$f":"AE13/(AG4-AE10)","v":0},{"$f":"IF(AF13=0,0,(AF13*((LOG(AF13))/LOG(2))))","v":0},null,{"$f":"N13","v":221},{"$f":"COUNTIF(L45:L57,AI13)","v":0},{"$f":"AJ13/(AL4-AJ10)","v":0},{"$f":"IF(AK13=0,0,(AK13*((LOG(AK13))/LOG(2))))","v":0},null,{"$f":"N13","v":221},{"$f":"COUNTIF(L58:L70,AN13)","v":0},{"$f":"AO13/(AQ4-AO10)","v":0},{"$f":"IF(AP13=0,0,(AP13*((LOG(AP13))/LOG(2))))","v":0},null,{"$f":"N13","v":221},{"$f":"COUNTIF(L71:L83,AS13)","v":0},{"$f":"AT13/(AV4-AT10)","v":0},{"$f":"IF(AU13=0,0,(AU13*((LOG(AU13))/LOG(2))))","v":0}]
[11,879,21,897,21,905,null,null,null,null,0,122,null,222,{"$f":"COUNTIF($L$7:$L$500,N14)","v":36},{"$f":"O14/$Q$4","v":0.46753246753246752},{"$f":"IF(P14=0,0,(P14*((LOG(P14))/LOG(2))))","v":-0.51281838198822349},null,null,{"$f":"N14","v":222},{"$f":"COUNTIF(L7:L19,T14)","v":7},{"$f":"U14/(W4-U10)","v":1},{"$f":"IF(V14=0,0,(V14*((LOG(V14))/LOG(2))))","v":0},null,{"$f":"N14","v":222},{"$f":"COUNTIF(L20:L32,Y14)","v":7},{"$f":"Z14/(AB4-Z10)","v":1},{"$f":"IF(AA14=0,0,(AA14*((LOG(AA14))/LOG(2))))","v":0},null,{"$f":"N14","v":222},{"$f":"COUNTIF(L33:L44,AD14)","v":5},{"$f":"AE14/(AG4-AE10)","v":1},{"$f":"IF(AF14=0,0,(AF14*((LOG(AF14))/LOG(2))))","v":0},null,{"$f":"N14","v":222},{"$f":"COUNTIF(L45:L57,AI14)","v":4},{"$f":"AJ14/(AL4-AJ10)","v":1},{"$f":"IF(AK14=0,0,(AK14*((LOG(AK14))/LOG(2))))","v":0},null,{"$f":"N14","v":222},{"$f":"COUNTIF(L58:L70,AN14)","v":6},{"$f":"AO14/(AQ4-AO10)","v":1},{"$f":"IF(AP14=0,0,(AP14*((LOG(AP14))/LOG(2))))","v":0},null,{"$f":"N14","v":222},{"$f":"COUNTIF(L71:L83,AS14)","v":7},{"$f":"AT14/(AV4-AT10)","v":0.875},{"$f":"IF(AU14=0,0,(AU14*((LOG(AU14))/LOG(2))))","v":-0.1685644431995964}]
[11,998,21,1010,21,1014,null,null,null,null,0,122,null,null,null,{"$f":"SUM(P7:P14)","v":1},{"$f":"-SUM(Q7:Q14)","v":1.085040776442723},null,null,null,null,{"$f":"SUM(V7:V14)","v":1},{"$f":"-SUM(W7:W14)","v":0},null,null,null,{"$f":"SUM(AA7:AA14)","v":1},{"$f":"-SUM(AB7:AB14)","v":0},null,null,null,{"$f":"SUM(AF7:AF14)","v":1},{"$f":"-SUM(AG7:AG14)","v":0},null,null,null,{"$f":"SUM(AK7:AK14)","v":1},{"$f":"-SUM(AL7:AL14)","v":0},null,null,null,{"$f":"SUM(AP7:AP14)","v":1},{"$f":"-SUM(AQ7:AQ14)","v":0},null,null,null,{"$f":"SUM(AU7:AU14)","v":1},{"$f":"-SUM(AV7:AV14)","v":0.5435644431995964}]
[22,1119,23,1125,23,1136,null,null,null,null,0,222,null,null,null,"U=",{"$f":"Q15/(LOG(Q4)/LOG(2))","v":0.17314149275657423},null,null,null,null,"U1=",{"$f":"W15/(LOG(W4)/LOG(2))","v":0},null,null,null,"U2=",{"$f":"AB15/(LOG(AB4)/LOG(2))","v":0},null,null,null,"U3=",{"$f":"AG15/(LOG(AG4)/LOG(2))","v":0},null,null,null,"U4=",{"$f":"AL15/(LOG(AL4)/LOG(2))","v":0},null,null,null,"U5=",{"$f":"AQ15/(LOG(AQ4)/LOG(2))","v":0},null,null,null,"U6=",{"$f":"AV15/(LOG(AV4)/LOG(2))","v":0.14689185194257259}]
[11,1232,21,1241,21,1246,null,null,null,null,0,122]
[11,1338,21,1347,21,1350,null,null,null,null,0,122]
[22,1457,23,1465,23,1471,null,null,null,null,0,222,null,"Total Target Seq"]
[11,1569,21,1594,21,1602,null,null,null,null,0,122,null,{"$f":"COUNTIF(L7:L83,G3)","v":40},null,13,13,12,13,13,13]
[22,1739,23,1742,23,1753,null,null,null,null,0,222,null,null,null,"% of reinforcement given in 6 equal intervals based on number of trials "]
[11,1850,21,1863,21,1872,null,null,null,null,0,122,null,null,null,"%_1","%_2","%_3","%_4","%_5","%_6"]
[22,2006,23,2018,23,2027,null,null,null,null,0,222,null,null,"target sequence",{"$f":"$G$3","v":122},{"$f":"$G$3","v":122},{"$f":"$G$3","v":122},{"$f":"$G$3","v":122},{"$f":"$G$3","v":122},{"$f":"$G$3","v":122}]
[11,2124,21,2134,21,2148,null,null,null,null,0,122,null,null,"total reinforcement",{"$f":"U10","v":6},{"$f":"Z10","v":6},{"$f":"AE10","v":7},{"$f":"AJ10","v":9},{"$f":"AO10","v":7},{"$f":"AT10","v":5}]
[22,2272,23,2276,23,2281,null,null,null,null,0,222,null,null,"% target"]
[22,2394,23,2398,23,2406,null,null,null,null,0,222,null,null,"CCRF"]
[22,2512,23,2519,23,2527,null,null,null,null,0,222,null,null,"% CCRf"]
[11,2624,21,2632,21,2635,null,null,null,null,0,122,null,null,"average response rate",{"$f":"F19/P20","v":113.15384615384616},{"$f":"(F32-F19)/Q20","v":126.07692307692308},{"$f":"(F44-F32)/R20","v":124.66666666666667},{"$f":"(F57-F44)/S20","v":135.61538461538461},{"$f":"(F70-F57)/T20","v":128.84615384615384},{"$f":"(F83-F70)/U20","v":122.76923076923077}]
[22,2751,23,2754,23,2769,null,null,null,null,0,222]
[11,2864,21,2874,21,2878,null,null,null,null,0,122]
[22,2983,23,2992,23,3000,null,null,null,null,0,222]
[11,3098,21,3107,21,3110,null,null,null,null,0,122]
[22,3218,23,3222,23,3229,null,null,null,null,0,222]
[22,3336,23,3340,23,3348,null,null,null,null,0,222]
[11,3445,21,3454,21,3457,null,null,null,null,0,122]
[11,3586,21,3596,21,3599,null,null,null,null,0,122]
[22,3714,23,3719,23,3726,null,null,null,null,0,222]
[11,3821,21,3831,21,3834,null,null,null,null,0,122]
[11,3928,21,3936,21,3942,null,null,null,null,0,122]
[11,4077,21,4091,21,4098,null,null,null,null,0,122]
[22,4234,23,4238,23,4252,null,null,null,null,0,222]
[11,4355,21,4366,21,4377,null,null,null,null,0,122]
[22,4485,23,4490,23,4496,null,null,null,null,0,222]
[11,4591,21,4601,21,4606,null,null,null,null,0,122]
[11,4746,21,4754,21,4762,null,null,null,null,0,122]
[22,4898,23,4902,23,4907,null,null,null,null,0,222]
[11,5002,21,5012,21,5018,null,null,null,null,0,122]
[22,5124,23,5136,23,5144,null,null,null,null,0,222]
[11,5239,21,5248,21,5252,null,null,null,null,0,122]
[11,5376,21,5387,21,5395,null,null,null,null,0,122]
[11,5511,21,5521,21,5535,null,null,null,null,0,122]
[11,5689,21,5701,21,5705,null,null,null,null,0,122]
[11,5843,21,5855,21,5868,null,null,null,null,0,122]
[11,5971,21,5981,21,5985,null,null,null,null,0,122]
[11,6091,21,6100,21,6105,null,null,null,null,0,122]
[22,6234,23,6239,23,6244,null,null,null,null,0,222]
[22,6354,23,6358,23,6369,null,null,null,null,0,222]
[11,6466,21,6474,21,6478,null,null,null,null,0,122]
[11,6638,21,6646,21,6653,null,null,null,null,0,122]
[11,6792,21,6801,21,6807,null,null,null,null,0,122]
[22,6935,23,6960,23,6979,null,null,null,null,0,222]
[22,7087,23,7091,23,7104,null,null,null,null,0,222]
[22,7212,23,7216,23,7226,null,null,null,null,0,222]
[22,7331,23,7334,23,7346,null,null,null,null,0,222]
[11,7441,21,7451,21,7456,null,null,null,null,0,122]
[22,7559,23,7566,23,7572,null,null,null,null,0,222]
[11,7671,21,7679,21,7682,null,null,null,null,0,122]
[22,7791,23,7800,23,7808,null,null,null,null,0,222]
[11,7904,21,7913,21,7920,null,null,null,null,0,122]
[11,8014,21,8033,21,8044,null,null,null,null,0,122]
[22,8151,23,8155,23,8169,null,null,null,null,0,222]
[11,8264,12,8272,23,8282,null,null,null,null,0,112]
[11,8378,21,8400,21,8426,null,null,null,null,0,122]
[22,8527,23,8531,23,8536,null,null,null,null,0,222]
[11,8633,21,8645,21,8660,null,null,null,null,0,122]
[22,8791,23,8810,23,8819,null,null,null,null,0,222]
[22,8926,23,8929,23,8936,null,null,null,null,0,222]
[22,9042,23,9047,23,9057,null,null,null,null,0,222]
[11,9152,21,9160,21,9165,null,null,null,null,0,122]
[11,9258,21,9268,21,9272,null,null,null,null,0,122]
[22,9381,23,9387,23,9394,null,null,null,null,0,222]
[22,9502,23,9514,23,9523,null,null,null,null,0,222]
[11,9620,21,9630,21,9640,null,null,null,null,1,122]

{"sheet":"!LA27A0I.sha","index":17,"n_rows":71,"n_cols":48,"rows_kept":71,"cut":false,"hidden":false,"merged":[[4,39,4,42],[5,39,5,40],[4,44,4,47],[5,44,5,45],[4,24,4,27],[5,24,5,25],[4,29,4,32],[5,29,5,30],[4,34,4,37],[5,34,5,35],[1,1,1,2],[5,13,5,14],[18,13,18,14],[19,13,19,14],[4,19,4,22],[5,19,5,20]]}
["Report for:!LA27A0I.sha"]
["Date:","<date>"]
["Hen:","<hen>",null,null,null,"Correct Sequence",{"$f":"Start!J2","v":122},null,null,null,null,null,null,null,null,"Total Sequences in Data",{"$f":"4994-COUNTBLANK(L7:L5000)","v":65},null,null,null,null,"Total Sequences in Block Data",{"$f":"COUNTA(L7:L17)","v":11},null,null,null,"Total Sequences in Block Data",{"$f":"COUNTA(L18:L28)","v":11},null,null,null,"Total Sequences in Block Data",{"$f":"COUNTA(L29:L38)","v":10},null,null,null,"Total Sequences in Block Data",{"$f":"COUNTA(L39:L49)","v":11},null,null,null,"Total Sequences in Block Data",{"$f":"COUNTA(L50:L60)","v":11},null,null,null,"Total Sequences in Block Data",{"$f":"COUNTA(L61:L71)","v":11}]
[null,null,null,null,null,null,null,null,null,null,null,null,null,null,null,"Total Sequences in Summary",{"$f":"SUM(O7:O14)","v":65},null,null,null,null,"Total Sequences in Block Summary",{"$f":"SUM(U7:U14)","v":11},null,null,null,"Total Sequences in Block Summary",{"$f":"SUM(Z7:Z14)","v":11},null,null,null,"Total Sequences in Block Summary",{"$f":"SUM(AE7:AE14)","v":10},null,null,null,"Total Sequences in Block Summary",{"$f":"SUM(AJ7:AJ14)","v":11},null,null,null,"Total Sequences in Block Summary",{"$f":"SUM(AO7:AO14)","v":11},null,null,null,"Total Sequences in Block Summary",{"$f":"SUM(AT7:AT14)","v":11}]
[null,null,null,null,null,null,null,null,null,null,null,null,null,null,null,null,null,null,null,"Block 1",null,null,null,null,"Block 2",null,null,null,null,"Block 3",null,null,null,null,"Block 4",null,null,null,null,"Block 5",null,null,null,null,"Block 6"]
["Sequence\nComponent\n1","Time\n1","Sequence\nComponent\n2","Time\n2","Sequence\nComponent\n3","Time\n3","Sequence\nComponent\n4","Time\n4","Sequence\nComponent\n5","Time\n5","Correct?\n0=No 1=Yes","Sequence",null,"Frequency",null,"Relative Frequency","Variability",null,null,"Frequency",null,"Relative Frequency","Variability",null,"Frequency",null,"Relative Frequency","Variability",null,"Frequency",null,"Relative Frequency","Variability",null,"Frequency",null,"Relative Frequency","Variability",null,"Frequency",null,"Relative Frequency","Variability",null,"Frequency",null,"Relative Frequency","Variability"]
[11,41,12,46,14,52,null,null,null,null,0,111,null,111,{"$f":"COUNTIF($L$7:$L$500,N7)","v":2},{"$f":"O7/$Q$4","v":3.0769230769230771E-2},{"$f":"IF(P7=0,0,(P7*((LOG(P7))/LOG(2))))","v":-0.15453439424702936},null,null,{"$f":"N7","v":111},{"$f":"COUNTIF(L7:L17,T7)","v":2},{"$f":"U7/(W4-U10)","v":0.2857142857142857},{"$f":"IF(V7=0,0,(V7*((LOG(V7))/LOG(2))))","v":-0.51638712058788683},null,{"$f":"N7","v":111},{"$f":"COUNTIF(L18:L28,Y7)","v":0},{"$f":"Z7/(AB4-Z10)","v":0},{"$f":"IF(AA7=0,0,(AA7*((LOG(AA7))/LOG(2))))","v":0},null,{"$f":"N7","v":111},{"$f":"COUNTIF(L29:L38,AD7)","v":0},{"$f":"AE7/(AG4-AE10)","v":0},{"$f":"IF(AF7=0,0,(AF7*((LOG(AF7))/LOG(2))))","v":0},null,{"$f":"N7","v":111},{"$f":"COUNTIF(L39:L49,AI7)","v":0},{"$f":"AJ7/(AL4-AJ10)","v":0},{"$f":"IF(AK7=0,0,(AK7*((LOG(AK7))/LOG(2))))","v":0},null,{"$f":"N7","v":111},{"$f":"COUNTIF(L50:L60,AN7)","v":0},{"$f":"AO7/(AQ4-AO10)","v":0},{"$f":"IF(AP7=0,0,(AP7*((LOG(AP7))/LOG(2))))","v":0},null,{"$f":"N7","v":111},{"$f":"COUNTIF(L61:L71,AS7)","v":0},{"$f":"AT7/(AV4-AT10)","v":0},{"$f":"IF(AU7=0,0,(AU7*((LOG(AU7))/LOG(2))))","v":0}]
[11,148,12,214,23,235,null,null,null,null,0,112,null,112,{"$f":"COUNTIF($L$7:$L$500,N8)","v":7},{"$f":"O8/$Q$4","v":0.1076923076923077},{"$f":"IF(P8=0,0,(P8*((LOG(P8))/LOG(2))))","v":-0.34623215748916852},null,null,{"$f":"N8","v":112},{"$f":"COUNTIF(L7:L17,T8)","v":2},{"$f":"U8/(W4-U10)","v":0.2857142857142857},{"$f":"IF(V8=0,0,(V8*((LOG(V8))/LOG(2))))","v":-0.51638712058788683},null,{"$f":"N8","v":112},{"$f":"COUNTIF(L18:L28,Y8)","v":1},{"$f":"Z8/(AB4-Z10)","v":0.2},{"$f":"IF(AA8=0,0,(AA8*((LOG(AA8))/LOG(2))))","v":-0.46438561897747244},null,{"$f":"N8","v":112},{"$f":"COUNTIF(L29:L38,AD8)","v":1},{"$f":"AE8/(AG4-AE10)","v":0.25},{"$f":"IF(AF8=0,0,(AF8*((LOG(AF8))/LOG(2))))","v":-0.5},null,{"$f":"N8","v":112},{"$f":"COUNTIF(L39:L49,AI8)","v":1},{"$f":"AJ8/(AL4-AJ10)","v":0.5},{"$f":"IF(AK8=0,0,(AK8*((LOG(AK8))/LOG(2))))","v":-0.5},null,{"$f":"N8","v":112},{"$f":"COUNTIF(L50:L60,AN8)","v":1},{"$f":"AO8/(AQ4-AO10)","v":0.25},{"$f":"IF(AP8=0,0,(AP8*((LOG(AP8))/LOG(2))))","v":-0.5},null,{"$f":"N8","v":112},{"$f":"COUNTIF(L61:L71,AS8)","v":1},{"$f":"AT8/(AV4-AT10)","v":0.33333333333333331},{"$f":"IF(AU8=0,0,(AU8*((LOG(AU8))/LOG(2))))","v":-0.52832083357371862}]
[11,332,12,365,23,401,null,null,null,null,0,112,null,121,{"$f":"COUNTIF($L$7:$L$500,N9)","v":0},{"$f":"O9/$Q$4","v":0},{"$f":"IF(P9=0,0,(P9*((LOG(P9))/LOG(2))))","v":0},null,null,{"$f":"N9","v":121},{"$f":"COUNTIF(L7:L17,T9)","v":0},{"$f":"U9/(W4-U10)","v":0},{"$f":"IF(V9=0,0,(V9*((LOG(V9))/LOG(2))))","v":0},null,{"$f":"N9","v":121},{"$f":"COUNTIF(L18:L28,Y9)","v":0},{"$f":"Z9/(AB4-Z10)","v":0},{"$f":"IF(AA9=0,0,(AA9*((LOG(AA9))/LOG(2))))","v":0},null,{"$f":"N9","v":121},{"$f":"COUNTIF(L29:L38,AD9)","v":0},{"$f":"AE9/(AG4-AE10)","v":0},{"$f":"IF(AF9=0,0,(AF9*((LOG(AF9))/LOG(2))))","v":0},null,{"$f":"N9","v":121},{"$f":"COUNTIF(L39:L49,AI9)","v":0},{"$f":"AJ9/(AL4-AJ10)","v":0},{"$f":"IF(AK9=0,0,(AK9*((LOG(AK9))/LOG(2))))","v":0},null,{"$f":"N9","v":121},{"$f":"COUNTIF(L50:L60,AN9)","v":0},{"$f":"AO9/(AQ4-AO10)","v":0},{"$f":"IF(AP9=0,0,(AP9*((LOG(AP9))/LOG(2))))","v":0},null,{"$f":"N9","v":121},{"$f":"COUNTIF(L61:L71,AS9)","v":0},{"$f":"AT9/(AV4-AT10)","v":0},{"$f":"IF(AU9=0,0,(AU9*((LOG(AU9))/LOG(2))))","v":0}]
[11,496,12,553,14,583,null,null,null,null,0,111,null,122,{"$f":"COUNTIF($L$7:$L$500,N10)","v":40},{"$f":"O10/$Q$4","v":0.61538461538461542},{"$f":"IF(P10=0,0,(P10*((LOG(P10))/LOG(2))))","v":-0.43103982654836437},null,null,{"$f":"N10","v":122},{"$f":"COUNTIF(L7:L17,T10)","v":4},null,null,null,{"$f":"N10","v":122},{"$f":"COUNTIF(L18:L28,Y10)","v":6},null,null,null,{"$f":"N10","v":122},{"$f":"COUNTIF(L29:L38,AD10)","v":6},null,null,null,{"$f":"N10","v":122},{"$f":"COUNTIF(L39:L49,AI10)","v":9},null,null,null,{"$f":"N10","v":122},{"$f":"COUNTIF(L50:L60,AN10)","v":7},null,null,null,{"$f":"N10","v":122},{"$f":"COUNTIF(L61:L71,AS10)","v":8}]
[11,678,21,722,21,740,null,null,null,null,0,122,null,211,{"$f":"COUNTIF($L$7:$L$500,N11)","v":0},{"$f":"O11/$Q$4","v":0},{"$f":"IF(P11=0,0,(P11*((LOG(P11))/LOG(2))))","v":0},null,null,{"$f":"N11","v":211},{"$f":"COUNTIF(L7:L17,T11)","v":0},{"$f":"U11/(W4-U10)","v":0},{"$f":"IF(V11=0,0,(V11*((LOG(V11))/LOG(2))))","v":0},null,{"$f":"N11","v":211},{"$f":"COUNTIF(L18:L28,Y11)","v":0},{"$f":"Z11/(AB4-Z10)","v":0},{"$f":"IF(AA11=0,0,(AA11*((LOG(AA11))/LOG(2))))","v":0},null,{"$f":"N11","v":211},{"$f":"COUNTIF(L29:L38,AD11)","v":0},{"$f":"AE11/(AG4-AE10)","v":0},{"$f":"IF(AF11=0,0,(AF11*((LOG(AF11))/LOG(2))))","v":0},null,{"$f":"N11","v":211},{"$f":"COUNTIF(L39:L49,AI11)","v":0},{"$f":"AJ11/(AL4-AJ10)","v":0},{"$f":"IF(AK11=0,0,(AK11*((LOG(AK11))/LOG(2))))","v":0},null,{"$f":"N11","v":211},{"$f":"COUNTIF(L50:L60,AN11)","v":0},{"$f":"AO11/(AQ4-AO10)","v":0},{"$f":"IF(AP11=0,0,(AP11*((LOG(AP11))/LOG(2))))","v":0},null,{"$f":"N11","v":211},{"$f":"COUNTIF(L61:L71,AS11)","v":0},{"$f":"AT11/(AV4-AT10)","v":0},{"$f":"IF(AU11=0,0,(AU11*((LOG(AU11))/LOG(2))))","v":0}]
[22,901,23,920,23,928,null,null,null,null,0,222,null,212,{"$f":"COUNTIF($L$7:$L$500,N12)","v":0},{"$f":"O12/$Q$4","v":0},{"$f":"IF(P12=0,0,(P12*((LOG(P12))/LOG(2))))","v":0},null,null,{"$f":"N12","v":212},{"$f":"COUNTIF(L7:L17,T12)","v":0},{"$f":"U12/(W4-U10)","v":0},{"$f":"IF(V12=0,0,(V12*((LOG(V12))/LOG(2))))","v":0},null,{"$f":"N12","v":212},{"$f":"COUNTIF(L18:L28,Y12)","v":0},{"$f":"Z12/(AB4-Z10)","v":0},{"$f":"IF(AA12=0,0,(AA12*((LOG(AA12))/LOG(2))))","v":0},null,{"$f":"N12","v":212},{"$f":"COUNTIF(L29:L38,AD12)","v":0},{"$f":"AE12/(AG4-AE10)","v":0},{"$f":"IF(AF12=0,0,(AF12*((LOG(AF12))/LOG(2))))","v":0},null,{"$f":"N12","v":212},{"$f":"COUNTIF(L39:L49,AI12)","v":0},{"$f":"AJ12/(AL4-AJ10)","v":0},{"$f":"IF(AK12=0,0,(AK12*((LOG(AK12))/LOG(2))))","v":0},null,{"$f":"N12","v":212},{"$f":"COUNTIF(L50:L60,AN12)","v":0},{"$f":"AO12/(AQ4-AO10)","v":0},{"$f":"IF(AP12=0,0,(AP12*((LOG(AP12))/LOG(2))))","v":0},null,{"$f":"N12","v":212},{"$f":"COUNTIF(L61:L71,AS12)","v":0},{"$f":"AT12/(AV4-AT10)","v":0},{"$f":"IF(AU12=0,0,(AU12*((LOG(AU12))/LOG(2))))","v":0}]
[11,1022,21,1036,21,1049,null,null,null,null,0,122,null,221,{"$f":"COUNTIF($L$7:$L$500,N13)","v":0},{"$f":"O13/$Q$4","v":0},{"$f":"IF(P13=0,0,(P13*((LOG(P13))/LOG(2))))","v":0},null,null,{"$f":"N13","v":221},{"$f":"COUNTIF(L7:L17,T13)","v":0},{"$f":"U13/(W4-U10)","v":0},{"$f":"IF(V13=0,0,(V13*((LOG(V13))/LOG(2))))","v":0},null,{"$f":"N13","v":221},{"$f":"COUNTIF(L18:L28,Y13)","v":0},{"$f":"Z13/(AB4-Z10)","v":0},{"$f":"IF(AA13=0,0,(AA13*((LOG(AA13))/LOG(2))))","v":0},null,{"$f":"N13","v":221},{"$f":"COUNTIF(L29:L38,AD13)","v":0},{"$f":"AE13/(AG4-AE10)","v":0},{"$f":"IF(AF13=0,0,(AF13*((LOG(AF13))/LOG(2))))","v":0},null,{"$f":"N13","v":221},{"$f":"COUNTIF(L39:L49,AI13)","v":0},{"$f":"AJ13/(AL4-AJ10)","v":0},{"$f":"IF(AK13=0,0,(AK13*((LOG(AK13))/LOG(2))))","v":0},null,{"$f":"N13","v":221},{"$f":"COUNTIF(L50:L60,AN13)","v":0},{"$f":"AO13/(AQ4-AO10)","v":0},{"$f":"IF(AP13=0,0,(AP13*((LOG(AP13))/LOG(2))))","v":0},null,{"$f":"N13","v":221},{"$f":"COUNTIF(L61:L71,AS13)","v":0},{"$f":"AT13/(AV4-AT10)","v":0},{"$f":"IF(AU13=0,0,(AU13*((LOG(AU13))/LOG(2))))","v":0}]
[22,1197,23,1203,23,1215,null,null,null,null,0,222,null,222,{"$f":"COUNTIF($L$7:$L$500,N14)","v":16},{"$f":"O14/$Q$4","v":0.24615384615384617},{"$f":"IF(P14=0,0,(P14*((LOG(P14))/LOG(2))))","v":-0.49781361551469649},null,null,{"$f":"N14","v":222},{"$f":"COUNTIF(L7:L17,T14)","v":3},{"$f":"U14/(W4-U10)","v":0.42857142857142855},{"$f":"IF(V14=0,0,(V14*((LOG(V14))/LOG(2))))","v":-0.52388246628704915},null,{"$f":"N14","v":222},{"$f":"COUNTIF(L18:L28,Y14)","v":4},{"$f":"Z14/(AB4-Z10)","v":0.8},{"$f":"IF(AA14=0,0,(AA14*((LOG(AA14))/LOG(2))))","v":-0.25754247590988982},null,{"$f":"N14","v":222},{"$f":"COUNTIF(L29:L38,AD14)","v":3},{"$f":"AE14/(AG4-AE10)","v":0.75},{"$f":"IF(AF14=0,0,(AF14*((LOG(AF14))/LOG(2))))","v":-0.31127812445913283},null,{"$f":"N14","v":222},{"$f":"COUNTIF(L39:L49,AI14)","v":1},{"$f":"AJ14/(AL4-AJ10)","v":0.5},{"$f":"IF(AK14=0,0,(AK14*((LOG(AK14))/LOG(2))))","v":-0.5},null,{"$f":"N14","v":222},{"$f":"COUNTIF(L50:L60,AN14)","v":3},{"$f":"AO14/(AQ4-AO10)","v":0.75},{"$f":"IF(AP14=0,0,(AP14*((LOG(AP14))/LOG(2))))","v":-0.31127812445913283},null,{"$f":"N14","v":222},{"$f":"COUNTIF(L61:L71,AS14)","v":2},{"$f":"AT14/(AV4-AT10)","v":0.66666666666666663},{"$f":"IF(AU14=0,0,(AU14*((LOG(AU14))/LOG(2))))","v":-0.38997500048077083}]
[11,1311,21,1330,21,1347,null,null,null,null,0,122,null,null,null,{"$f":"SUM(P7:P14)","v":1},{"$f":"-SUM(Q7:Q14)","v":1.4296199937992586},null,null,null,null,{"$f":"SUM(V7:V14)","v":1},{"$f":"-SUM(W7:W14)","v":1.5566567074628228},null,null,null,{"$f":"SUM(AA7:AA14)","v":1},{"$f":"-SUM(AB7:AB14)","v":0.72192809488736231},null,null,null,{"$f":"SUM(AF7:AF14)","v":1},{"$f":"-SUM(AG7:AG14)","v":0.81127812445913283},null,null,null,{"$f":"SUM(AK7:AK14)","v":1},{"$f":"-SUM(AL7:AL14)","v":1},null,null,null,{"$f":"SUM(AP7:AP14)","v":1},{"$f":"-SUM(AQ7:AQ14)","v":0.81127812445913283},null,null,null,{"$f":"SUM(AU7:AU14)","v":1},{"$f":"-SUM(AV7:AV14)","v":0.91829583405448945}]
[22,1463,23,1472,23,1480,null,null,null,null,0,222,null,null,null,"U=",{"$f":"Q15/(LOG(Q4)/LOG(2))","v":0.23738503495361052},null,null,null,null,"U1=",{"$f":"W15/(LOG(W4)/LOG(2))","v":0.44997470077931601},null,null,null,"U2=",{"$f":"AB15/(LOG(AB4)/LOG(2))","v":0.20868401936261902},null,null,null,"U3=",{"$f":"AG15/(LOG(AG4)/LOG(2))","v":0.24421905028821556},null,null,null,"U4=",{"$f":"AL15/(LOG(AL4)/LOG(2))","v":0.28906482631788782},null,null,null,"U5=",{"$f":"AQ15/(LOG(AQ4)/LOG(2))","v":0.23451197014228101},null,null,null,"U6=",{"$f":"AV15/(LOG(AV4)/LOG(2))","v":0.26544702577940094}]
[11,1577,21,1595,21,1608,null,null,null,null,0,122]
[11,1739,21,1749,21,1763,null,null,null,null,0,122]
[22,1905,23,1909,23,1916,null,null,null,null,0,222,null,"Total Target Seq"]
[11,2012,21,2048,21,2057,null,null,null,null,0,122,null,{"$f":"COUNTIF(L7:L71,G3)","v":40},null,11,11,10,11,11,11]
[11,2183,21,2192,21,2204,null,null,null,null,0,122,null,null,null,"% of reinforcement given in 6 equal intervals based on number of trials "]
[22,2380,23,2395,23,2406,null,null,null,null,0,222,null,null,null,"%_1","%_2","%_3","%_4","%_5","%_6"]
[11,2501,21,2516,21,2530,null,null,null,null,0,122,null,null,"target sequence",{"$f":"$G$3","v":122},{"$f":"$G$3","v":122},{"$f":"$G$3","v":122},{"$f":"$G$3","v":122},{"$f":"$G$3","v":122},{"$f":"$G$3","v":122}]
[22,2658,23,2662,23,2669,null,null,null,null,0,222,null,null,"total reinforcement",{"$f":"U10","v":4},{"$f":"Z10","v":6},{"$f":"AE10","v":6},{"$f":"AJ10","v":9},{"$f":"AO10","v":7},{"$f":"AT10","v":8}]
[22,2775,23,2778,23,2792,null,null,null,null,0,222,null,null,"% target"]
[11,2888,21,2927,21,2941,null,null,null,null,0,122,null,null,"CCRF"]
[11,3044,12,3060,23,3072,null,null,null,null,0,112,null,null,"% CCRf"]
[11,3165,21,3182,21,3188,null,null,null,null,0,122,null,null,"average response rate",{"$f":"F17/P20","v":146.18181818181819},{"$f":"(F28-F17)/Q20","v":143.63636363636363},{"$f":"(F38-F28)/R20","v":133.80000000000001},{"$f":"(F49-F38)/S20","v":132.09090909090909},{"$f":"(F60-F49)/T20","v":141.18181818181819},{"$f":"(F71-F60)/U20","v":131.18181818181819}]
[11,3302,21,3311,21,3323,null,null,null,null,0,122]
[11,3459,21,3470,21,3475,null,null,null,null,0,122]
[11,3571,21,3585,21,3589,null,null,null,null,0,122]
[22,3704,23,3721,23,3730,null,null,null,null,0,222]
[11,3827,21,3877,21,3885,null,null,null,null,0,122]
[11,3981,21,3999,21,4007,null,null,null,null,0,122]
[22,4121,23,4140,23,4149,null,null,null,null,0,222]
[11,4246,12,4252,23,4263,null,null,null,null,0,112]
[22,4374,23,4380,23,4400,null,null,null,null,0,222]
[11,4497,21,4519,21,4526,null,null,null,null,0,122]
[11,4650,21,4661,21,4678,null,null,null,null,0,122]
[11,4771,21,4792,21,4805,null,null,null,null,0,122]
[11,4907,12,4924,23,4939,null,null,null,null,0,112]
[11,5034,21,5054,21,5063,null,null,null,null,0,122]
[11,5166,21,5175,21,5178,null,null,null,null,0,122]
[11,5280,21,5293,21,5309,null,null,null,null,0,122]
[11,5432,21,5441,21,5445,null,null,null,null,0,122]
[11,5560,21,5568,21,5572,null,null,null,null,0,122]
[11,5681,21,5689,21,5701,null,null,null,null,0,122]
[22,5850,23,5858,23,5866,null,null,null,null,0,222]
[11,5961,21,5975,21,5979,null,null,null,null,0,122]
[11,6079,12,6088,23,6097,null,null,null,null,0,112]
[11,6229,21,6237,21,6243,null,null,null,null,0,122]
[11,6350,21,6363,21,6370,null,null,null,null,0,122]
[11,6544,21,6557,21,6576,null,null,null,null,0,122]
[22,6711,23,6723,23,6737,null,null,null,null,0,222]
[11,6833,21,6841,21,6873,null,null,null,null,0,122]
[11,6964,21,6981,21,6989,null,null,null,null,0,122]
[11,7113,21,7124,21,7153,null,null,null,null,0,122]
[22,7274,23,7278,23,7283,null,null,null,null,0,222]
[11,7378,21,7389,21,7393,null,null,null,null,0,122]
[22,7514,23,7519,23,7532,null,null,null,null,0,222]
[11,7634,21,7643,21,7660,null,null,null,null,0,122]
[22,7789,23,7792,23,7797,null,null,null,null,0,222]
[11,7901,21,7911,21,7923,null,null,null,null,0,122]
[11,8020,21,8031,21,8040,null,null,null,null,0,122]
[11,8152,21,8176,21,8190,null,null,null,null,0,122]
[11,8293,21,8319,21,8332,null,null,null,null,0,122]
[22,8464,23,8474,23,8481,null,null,null,null,0,222]
[11,8577,12,8586,23,8595,null,null,null,null,0,112]
[11,8691,21,8701,21,8718,null,null,null,null,0,122]
[11,8818,21,8845,21,8851,null,null,null,null,0,122]
[11,8958,21,8969,21,8975,null,null,null,null,1,122]

{"sheet":"!LA28A44..Is","index":18,"n_rows":94,"n_cols":48,"rows_kept":94,"cut":false,"hidden":false,"merged":[[4,39,4,42],[5,39,5,40],[4,44,4,47],[5,44,5,45],[4,24,4,27],[5,24,5,25],[4,29,4,32],[5,29,5,30],[4,34,4,37],[5,34,5,35],[1,1,1,2],[5,13,5,14],[18,13,18,14],[19,13,19,14],[4,19,4,22],[5,19,5,20]]}
["Report for:!LA28A44..Is"]
["Date:","<date>"]
["Hen:","<hen>",null,null,null,"Correct Sequence",{"$f":"Start!J2","v":122},null,null,null,null,null,null,null,null,"Total Sequences in Data",{"$f":"4994-COUNTBLANK(L7:L5000)","v":88},null,null,null,null,"Total Sequences in Block Data",{"$f":"COUNTA(L7:L21)","v":15},null,null,null,"Total Sequences in Block Data",{"$f":"COUNTA(L22:L35)","v":14},null,null,null,"Total Sequences in Block Data",{"$f":"COUNTA(L36:L50)","v":15},null,null,null,"Total Sequences in Block Data",{"$f":"COUNTA(L51:L65)","v":15},null,null,null,"Total Sequences in Block Data",{"$f":"COUNTA(L66:L79)","v":14},null,null,null,"Total Sequences in Block Data",{"$f":"COUNTA(L80:L94)","v":15}]
[null,null,null,null,null,null,null,null,null,null,null,null,null,null,null,"Total Sequences in Summary",{"$f":"SUM(O7:O14)","v":88},null,null,null,null,"Total Sequences in Block Summary",{"$f":"SUM(U7:U14)","v":15},null,null,null,"Total Sequences in Block Summary",{"$f":"SUM(Z7:Z14)","v":14},null,null,null,"Total Sequences in Block Summary",{"$f":"SUM(AE7:AE14)","v":15},null,null,null,"Total Sequences in Block Summary",{"$f":"SUM(AJ7:AJ14)","v":15},null,null,null,"Total Sequences in Block Summary",{"$f":"SUM(AO7:AO14)","v":14},null,null,null,"Total Sequences in Block Summary",{"$f":"SUM(AT7:AT14)","v":15}]
[null,null,null,null,null,null,null,null,null,null,null,null,null,null,null,null,null,null,null,"Block 1",null,null,null,null,"Block 2",null,null,null,null,"Block 3",null,null,null,null,"Block 4",null,null,null,null,"Block 5",null,null,null,null,"Block 6"]
["Sequence\nComponent\n1","Time\n1","Sequence\nComponent\n2","Time\n2","Sequence\nComponent\n3","Time\n3","Sequence\nComponent\n4","Time\n4","Sequence\nComponent\n5","Time\n5","Correct?\n0=No 1=Yes","Sequence",null,"Frequency",null,"Relative Frequency","Variability",null,null,"Frequency",null,"Relative Frequency","Variability",null,"Frequency",null,"Relative Frequency","Variability",null,"Frequency",null,"Relative Frequency","Variability",null,"Frequency",null,"Relative Frequency","Variability",null,"Frequency",null,"Relative Frequency","Variability",null,"Frequency",null,"Relative Frequency","Variability"]
[11,39,21,53,21,56,null,null,null,null,0,122,null,111,{"$f":"COUNTIF($L$7:$L$500,N7)","v":0},{"$f":"O7/$Q$4","v":0},{"$f":"IF(P7=0,0,(P7*((LOG(P7))/LOG(2))))","v":0},null,null,{"$f":"N7","v":111},{"$f":"COUNTIF(L7:L21,T7)","v":0},{"$f":"U7/(W4-U10)","v":0},{"$f":"IF(V7=0,0,(V7*((LOG(V7))/LOG(2))))","v":0},null,{"$f":"N7","v":111},{"$f":"COUNTIF(L22:L35,Y7)","v":0},{"$f":"Z7/(AB4-Z10)","v":0},{"$f":"IF(AA7=0,0,(AA7*((LOG(AA7))/LOG(2))))","v":0},null,{"$f":"N7","v":111},{"$f":"COUNTIF(L36:L50,AD7)","v":0},{"$f":"AE7/(AG4-AE10)","v":0},{"$f":"IF(AF7=0,0,(AF7*((LOG(AF7))/LOG(2))))","v":0},null,{"$f":"N7","v":111},{"$f":"COUNTIF(L51:L65,AI7)","v":0},{"$f":"AJ7/(AL4-AJ10)","v":0},{"$f":"IF(AK7=0,0,(AK7*((LOG(AK7))/LOG(2))))","v":0},null,{"$f":"N7","v":111},{"$f":"COUNTIF(L66:L79,AN7)","v":0},{"$f":"AO7/(AQ4-AO10)","v":0},{"$f":"IF(AP7=0,0,(AP7*((LOG(AP7))/LOG(2))))","v":0},null,{"$f":"N7","v":111},{"$f":"COUNTIF(L80:L94,AS7)","v":0},{"$f":"AT7/(AV4-AT10)","v":0},{"$f":"IF(AU7=0,0,(AU7*((LOG(AU7))/LOG(2))))","v":0}]
[22,353,23,363,14,395,null,null,null,null,0,221,null,112,{"$f":"COUNTIF($L$7:$L$500,N8)","v":0},{"$f":"O8/$Q$4","v":0},{"$f":"IF(P8=0,0,(P8*((LOG(P8))/LOG(2))))","v":0},null,null,{"$f":"N8","v":112},{"$f":"COUNTIF(L7:L21,T8)","v":0},{"$f":"U8/(W4-U10)","v":0},{"$f":"IF(V8=0,0,(V8*((LOG(V8))/LOG(2))))","v":0},null,{"$f":"N8","v":112},{"$f":"COUNTIF(L22:L35,Y8)","v":0},{"$f":"Z8/(AB4-Z10)","v":0},{"$f":"IF(AA8=0,0,(AA8*((LOG(AA8))/LOG(2))))","v":0},null,{"$f":"N8","v":112},{"$f":"COUNTIF(L36:L50,AD8)","v":0},{"$f":"AE8/(AG4-AE10)","v":0},{"$f":"IF(AF8=0,0,(AF8*((LOG(AF8))/LOG(2))))","v":0},null,{"$f":"N8","v":112},{"$f":"COUNTIF(L51:L65,AI8)","v":0},{"$f":"AJ8/(AL4-AJ10)","v":0},{"$f":"IF(AK8=0,0,(AK8*((LOG(AK8))/LOG(2))))","v":0},null,{"$f":"N8","v":112},{"$f":"COUNTIF(L66:L79,AN8)","v":0},{"$f":"AO8/(AQ4-AO10)","v":0},{"$f":"IF(AP8=0,0,(AP8*((LOG(AP8))/LOG(2))))","v":0},null,{"$f":"N8","v":112},{"$f":"COUNTIF(L80:L94,AS8)","v":0},{"$f":"AT8/(AV4-AT10)","v":0},{"$f":"IF(AU8=0,0,(AU8*((LOG(AU8))/LOG(2))))","v":0}]
[22,504,23,519,23,523,null,null,null,null,0,222,null,121,{"$f":"COUNTIF($L$7:$L$500,N9)","v":0},{"$f":"O9/$Q$4","v":0},{"$f":"IF(P9=0,0,(P9*((LOG(P9))/LOG(2))))","v":0},null,null,{"$f":"N9","v":121},{"$f":"COUNTIF(L7:L21,T9)","v":0},{"$f":"U9/(W4-U10)","v":0},{"$f":"IF(V9=0,0,(V9*((LOG(V9))/LOG(2))))","v":0},null,{"$f":"N9","v":121},{"$f":"COUNTIF(L22:L35,Y9)","v":0},{"$f":"Z9/(AB4-Z10)","v":0},{"$f":"IF(AA9=0,0,(AA9*((LOG(AA9))/LOG(2))))","v":0},null,{"$f":"N9","v":121},{"$f":"COUNTIF(L36:L50,AD9)","v":0},{"$f":"AE9/(AG4-AE10)","v":0},{"$f":"IF(AF9=0,0,(AF9*((LOG(AF9))/LOG(2))))","v":0},null,{"$f":"N9","v":121},{"$f":"COUNTIF(L51:L65,AI9)","v":0},{"$f":"AJ9/(AL4-AJ10)","v":0},{"$f":"IF(AK9=0,0,(AK9*((LOG(AK9))/LOG(2))))","v":0},null,{"$f":"N9","v":121},{"$f":"COUNTIF(L66:L79,AN9)","v":0},{"$f":"AO9/(AQ4-AO10)","v":0},{"$f":"IF(AP9=0,0,(AP9*((LOG(AP9))/LOG(2))))","v":0},null,{"$f":"N9","v":121},{"$f":"COUNTIF(L80:L94,AS9)","v":0},{"$f":"AT9/(AV4-AT10)","v":0},{"$f":"IF(AU9=0,0,(AU9*((LOG(AU9))/LOG(2))))","v":0}]
[22,622,23,628,23,634,null,null,null,null,0,222,null,122,{"$f":"COUNTIF($L$7:$L$500,N10)","v":40},{"$f":"O10/$Q$4","v":0.45454545454545453},{"$f":"IF(P10=0,0,(P10*((LOG(P10))/LOG(2))))","v":-0.51704705624997038},null,null,{"$f":"N10","v":122},{"$f":"COUNTIF(L7:L21,T10)","v":2},null,null,null,{"$f":"N10","v":122},{"$f":"COUNTIF(L22:L35,Y10)","v":6},null,null,null,{"$f":"N10","v":122},{"$f":"COUNTIF(L36:L50,AD10)","v":7},null,null,null,{"$f":"N10","v":122},{"$f":"COUNTIF(L51:L65,AI10)","v":8},null,null,null,{"$f":"N10","v":122},{"$f":"COUNTIF(L66:L79,AN10)","v":8},null,null,null,{"$f":"N10","v":122},{"$f":"COUNTIF(L80:L94,AS10)","v":9}]
[22,739,23,742,23,747,null,null,null,null,0,222,null,211,{"$f":"COUNTIF($L$7:$L$500,N11)","v":0},{"$f":"O11/$Q$4","v":0},{"$f":"IF(P11=0,0,(P11*((LOG(P11))/LOG(2))))","v":0},null,null,{"$f":"N11","v":211},{"$f":"COUNTIF(L7:L21,T11)","v":0},{"$f":"U11/(W4-U10)","v":0},{"$f":"IF(V11=0,0,(V11*((LOG(V11))/LOG(2))))","v":0},null,{"$f":"N11","v":211},{"$f":"COUNTIF(L22:L35,Y11)","v":0},{"$f":"Z11/(AB4-Z10)","v":0},{"$f":"IF(AA11=0,0,(AA11*((LOG(AA11))/LOG(2))))","v":0},null,{"$f":"N11","v":211},{"$f":"COUNTIF(L36:L50,AD11)","v":0},{"$f":"AE11/(AG4-AE10)","v":0},{"$f":"IF(AF11=0,0,(AF11*((LOG(AF11))/LOG(2))))","v":0},null,{"$f":"N11","v":211},{"$f":"COUNTIF(L51:L65,AI11)","v":0},{"$f":"AJ11/(AL4-AJ10)","v":0},{"$f":"IF(AK11=0,0,(AK11*((LOG(AK11))/LOG(2))))","v":0},null,{"$f":"N11","v":211},{"$f":"COUNTIF(L66:L79,AN11)","v":0},{"$f":"AO11/(AQ4-AO10)","v":0},{"$f":"IF(AP11=0,0,(AP11*((LOG(AP11))/LOG(2))))","v":0},null,{"$f":"N11","v":211},{"$f":"COUNTIF(L80:L94,AS11)","v":0},{"$f":"AT11/(AV4-AT10)","v":0},{"$f":"IF(AU11=0,0,(AU11*((LOG(AU11))/LOG(2))))","v":0}]
[22,844,23,848,23,854,null,null,null,null,0,222,null,212,{"$f":"COUNTIF($L$7:$L$500,N12)","v":0},{"$f":"O12/$Q$4","v":0},{"$f":"IF(P12=0,0,(P12*((LOG(P12))/LOG(2))))","v":0},null,null,{"$f":"N12","v":212},{"$f":"COUNTIF(L7:L21,T12)","v":0},{"$f":"U12/(W4-U10)","v":0},{"$f":"IF(V12=0,0,(V12*((LOG(V12))/LOG(2))))","v":0},null,{"$f":"N12","v":212},{"$f":"COUNTIF(L22:L35,Y12)","v":0},{"$f":"Z12/(AB4-Z10)","v":0},{"$f":"IF(AA12=0,0,(AA12*((LOG(AA12))/LOG(2))))","v":0},null,{"$f":"N12","v":212},{"$f":"COUNTIF(L36:L50,AD12)","v":0},{"$f":"AE12/(AG4-AE10)","v":0},{"$f":"IF(AF12=0,0,(AF12*((LOG(AF12))/LOG(2))))","v":0},null,{"$f":"N12","v":212},{"$f":"COUNTIF(L51:L65,AI12)","v":0},{"$f":"AJ12/(AL4-AJ10)","v":0},{"$f":"IF(AK12=0,0,(AK12*((LOG(AK12))/LOG(2))))","v":0},null,{"$f":"N12","v":212},{"$f":"COUNTIF(L66:L79,AN12)","v":0},{"$f":"AO12/(AQ4-AO10)","v":0},{"$f":"IF(AP12=0,0,(AP12*((LOG(AP12))/LOG(2))))","v":0},null,{"$f":"N12","v":212},{"$f":"COUNTIF(L80:L94,AS12)","v":0},{"$f":"AT12/(AV4-AT10)","v":0},{"$f":"IF(AU12=0,0,(AU12*((LOG(AU12))/LOG(2))))","v":0}]
[22,953,23,963,23,969,null,null,null,null,0,222,null,221,{"$f":"COUNTIF($L$7:$L$500,N13)","v":1},{"$f":"O13/$Q$4","v":1.1363636363636364E-2},{"$f":"IF(P13=0,0,(P13*((LOG(P13))/LOG(2))))","v":-7.3402632029969286E-2},null,null,{"$f":"N13","v":221},{"$f":"COUNTIF(L7:L21,T13)","v":1},{"$f":"U13/(W4-U10)","v":7.6923076923076927E-2},{"$f":"IF(V13=0,0,(V13*((LOG(V13))/LOG(2))))","v":-0.28464920908777636},null,{"$f":"N13","v":221},{"$f":"COUNTIF(L22:L35,Y13)","v":0},{"$f":"Z13/(AB4-Z10)","v":0},{"$f":"IF(AA13=0,0,(AA13*((LOG(AA13))/LOG(2))))","v":0},null,{"$f":"N13","v":221},{"$f":"COUNTIF(L36:L50,AD13)","v":0},{"$f":"AE13/(AG4-AE10)","v":0},{"$f":"IF(AF13=0,0,(AF13*((LOG(AF13))/LOG(2))))","v":0},null,{"$f":"N13","v":221},{"$f":"COUNTIF(L51:L65,AI13)","v":0},{"$f":"AJ13/(AL4-AJ10)","v":0},{"$f":"IF(AK13=0,0,(AK13*((LOG(AK13))/LOG(2))))","v":0},null,{"$f":"N13","v":221},{"$f":"COUNTIF(L66:L79,AN13)","v":0},{"$f":"AO13/(AQ4-AO10)","v":0},{"$f":"IF(AP13=0,0,(AP13*((LOG(AP13))/LOG(2))))","v":0},null,{"$f":"N13","v":221},{"$f":"COUNTIF(L80:L94,AS13)","v":0},{"$f":"AT13/(AV4-AT10)","v":0},{"$f":"IF(AU13=0,0,(AU13*((LOG(AU13))/LOG(2))))","v":0}]
[22,1069,23,1087,23,1091,null,null,null,null,0,222,null,222,{"$f":"COUNTIF($L$7:$L$500,N14)","v":47},{"$f":"O14/$Q$4","v":0.53409090909090906},{"$f":"IF(P14=0,0,(P14*((LOG(P14))/LOG(2))))","v":-0.48326829598981841},null,null,{"$f":"N14","v":222},{"$f":"COUNTIF(L7:L21,T14)","v":12},{"$f":"U14/(W4-U10)","v":0.92307692307692313},{"$f":"IF(V14=0,0,(V14*((LOG(V14))/LOG(2))))","v":-0.10659435454147929},null,{"$f":"N14","v":222},{"$f":"COUNTIF(L22:L35,Y14)","v":8},{"$f":"Z14/(AB4-Z10)","v":1},{"$f":"IF(AA14=0,0,(AA14*((LOG(AA14))/LOG(2))))","v":0},null,{"$f":"N14","v":222},{"$f":"COUNTIF(L36:L50,AD14)","v":8},{"$f":"AE14/(AG4-AE10)","v":1},{"$f":"IF(AF14=0,0,(AF14*((LOG(AF14))/LOG(2))))","v":0},null,{"$f":"N14","v":222},{"$f":"COUNTIF(L51:L65,AI14)","v":7},{"$f":"AJ14/(AL4-AJ10)","v":1},{"$f":"IF(AK14=0,0,(AK14*((LOG(AK14))/LOG(2))))","v":0},null,{"$f":"N14","v":222},{"$f":"COUNTIF(L66:L79,AN14)","v":6},{"$f":"AO14/(AQ4-AO10)","v":1},{"$f":"IF(AP14=0,0,(AP14*((LOG(AP14))/LOG(2))))","v":0},null,{"$f":"N14","v":222},{"$f":"COUNTIF(L80:L94,AS14)","v":6},{"$f":"AT14/(AV4-AT10)","v":1},{"$f":"IF(AU14=0,0,(AU14*((LOG(AU14))/LOG(2))))","v":0}]
[22,1189,23,1195,23,1200,null,null,null,null,0,222,null,null,null,{"$f":"SUM(P7:P14)","v":1},{"$f":"-SUM(Q7:Q14)","v":1.0737179842697582},null,null,null,null,{"$f":"SUM(V7:V14)","v":1},{"$f":"-SUM(W7:W14)","v":0.39124356362925566},null,null,null,{"$f":"SUM(AA7:AA14)","v":1},{"$f":"-SUM(AB7:AB14)","v":0},null,null,null,{"$f":"SUM(AF7:AF14)","v":1},{"$f":"-SUM(AG7:AG14)","v":0},null,null,null,{"$f":"SUM(AK7:AK14)","v":1},{"$f":"-SUM(AL7:AL14)","v":0},null,null,null,{"$f":"SUM(AP7:AP14)","v":1},{"$f":"-SUM(AQ7:AQ14)","v":0},null,null,null,{"$f":"SUM(AU7:AU14)","v":1},{"$f":"-SUM(AV7:AV14)","v":0}]
[22,1306,23,1311,23,1325,null,null,null,null,0,222,null,null,null,"U=",{"$f":"Q15/(LOG(Q4)/LOG(2))","v":0.16622483953104736},null,null,null,null,"U1=",{"$f":"W15/(LOG(W4)/LOG(2))","v":0.10014192976609765},null,null,null,"U2=",{"$f":"AB15/(LOG(AB4)/LOG(2))","v":0},null,null,null,"U3=",{"$f":"AG15/(LOG(AG4)/LOG(2))","v":0},null,null,null,"U4=",{"$f":"AL15/(LOG(AL4)/LOG(2))","v":0},null,null,null,"U5=",{"$f":"AQ15/(LOG(AQ4)/LOG(2))","v":0},null,null,null,"U6=",{"$f":"AV15/(LOG(AV4)/LOG(2))","v":0}]
[11,1420,21,1430,21,1436,null,null,null,null,0,122]
[22,1546,23,1550,23,1554,null,null,null,null,0,222]
[22,1658,23,1668,23,1677,null,null,null,null,0,222,null,"Total Target Seq"]
[22,1783,23,1787,23,1797,null,null,null,null,0,222,null,{"$f":"COUNTIF(L7:L94,G3)","v":40},null,15,14,15,15,14,15]
[22,1901,23,1905,23,1911,null,null,null,null,0,222,null,null,null,"% of reinforcement given in 6 equal intervals based on number of trials "]
[22,2014,23,2017,23,2023,null,null,null,null,0,222,null,null,null,"%_1","%_2","%_3","%_4","%_5","%_6"]
[22,2127,23,2130,23,2147,null,null,null,null,0,222,null,null,"target sequence",{"$f":"$G$3","v":122},{"$f":"$G$3","v":122},{"$f":"$G$3","v":122},{"$f":"$G$3","v":122},{"$f":"$G$3","v":122},{"$f":"$G$3","v":122}]
[11,2243,21,2254,21,2259,null,null,null,null,0,122,null,null,"total reinforcement",{"$f":"U10","v":2},{"$f":"Z10","v":6},{"$f":"AE10","v":7},{"$f":"AJ10","v":8},{"$f":"AO10","v":8},{"$f":"AT10","v":9}]
[11,2350,21,2360,21,2364,null,null,null,null,0,122,null,null,"% target"]
[22,2478,23,2481,23,2487,null,null,null,null,0,222,null,null,"CCRF"]
[22,2595,23,2599,23,2605,null,null,null,null,0,222,null,null,"% CCRf"]
[22,2726,23,2730,23,2735,null,null,null,null,0,222,null,null,"average response rate",{"$f":"F21/P20","v":127.4},{"$f":"(F35-F21)/Q20","v":119.78571428571429},{"$f":"(F50-F35)/R20","v":126.33333333333333},{"$f":"(F65-F50)/S20","v":138.73333333333332},{"$f":"(F79-F65)/T20","v":125.14285714285714},{"$f":"(F94-F79)/U20","v":135.33333333333334}]
[11,2831,21,2841,21,2845,null,null,null,null,0,122]
[11,2954,21,2961,21,2969,null,null,null,null,0,122]
[22,3122,23,3126,23,3130,null,null,null,null,0,222]
[11,3228,21,3238,21,3242,null,null,null,null,0,122]
[22,3348,23,3354,23,3360,null,null,null,null,0,222]
[22,3465,23,3468,23,3472,null,null,null,null,0,222]
[11,3568,21,3580,21,3588,null,null,null,null,0,122]
[11,3682,21,3691,21,3709,null,null,null,null,0,122]
[22,3815,23,3847,23,3859,null,null,null,null,0,222]
[11,3956,21,3965,21,3970,null,null,null,null,0,122]
[22,4113,23,4118,23,4125,null,null,null,null,0,222]
[11,4222,21,4232,21,4238,null,null,null,null,0,122]
[22,4342,23,4347,23,4356,null,null,null,null,0,222]
[22,4463,23,4484,23,4493,null,null,null,null,0,222]
[11,4595,21,4613,21,4622,null,null,null,null,0,122]
[22,4734,23,4739,23,4746,null,null,null,null,0,222]
[22,4858,23,4870,23,4884,null,null,null,null,0,222]
[22,4997,23,5000,23,5007,null,null,null,null,0,222]
[11,5103,21,5113,21,5117,null,null,null,null,0,122]
[11,5219,21,5228,21,5244,null,null,null,null,0,122]
[22,5356,23,5363,23,5373,null,null,null,null,0,222]
[11,5470,21,5479,21,5483,null,null,null,null,0,122]
[11,5577,21,5586,21,5591,null,null,null,null,0,122]
[11,5709,21,5721,21,5753,null,null,null,null,0,122]
[11,5863,21,5873,21,5878,null,null,null,null,0,122]
[22,5991,23,5996,23,6017,null,null,null,null,0,222]
[11,6120,21,6130,21,6136,null,null,null,null,0,122]
[22,6272,23,6278,23,6283,null,null,null,null,0,222]
[22,6390,23,6400,23,6408,null,null,null,null,0,222]
[22,6515,23,6520,23,6529,null,null,null,null,0,222]
[11,6665,21,6709,21,6720,null,null,null,null,0,122]
[22,6841,23,6845,23,6855,null,null,null,null,0,222]
[11,6950,21,7017,21,7027,null,null,null,null,0,122]
[22,7136,23,7148,23,7162,null,null,null,null,0,222]
[11,7263,21,7272,21,7276,null,null,null,null,0,122]
[11,7367,21,7378,21,7385,null,null,null,null,0,122]
[22,7536,23,7548,23,7564,null,null,null,null,0,222]
[11,7659,21,7669,21,7674,null,null,null,null,0,122]
[22,7773,23,7783,23,7792,null,null,null,null,0,222]
[22,7897,23,7901,23,7906,null,null,null,null,0,222]
[11,8003,21,8012,21,8016,null,null,null,null,0,122]
[22,8132,23,8147,23,8163,null,null,null,null,0,222]
[11,8258,21,8268,21,8282,null,null,null,null,0,122]
[22,8380,23,8385,23,8389,null,null,null,null,0,222]
[11,8486,21,8496,21,8515,null,null,null,null,0,122]
[22,8622,23,8626,23,8632,null,null,null,null,0,222]
[11,8728,21,8738,21,8742,null,null,null,null,0,122]
[11,8845,21,8853,21,8857,null,null,null,null,0,122]
[11,8949,21,8957,21,8996,null,null,null,null,0,122]
[22,9174,23,9179,23,9188,null,null,null,null,0,222]
[11,9286,21,9294,21,9316,null,null,null,null,0,122]
[22,9415,23,9420,23,9434,null,null,null,null,0,222]
[22,9540,23,9544,23,9547,null,null,null,null,0,222]
[22,9653,23,9657,23,9667,null,null,null,null,0,222]
[22,9788,23,9792,23,9803,null,null,null,null,0,222]
[11,9900,21,9911,21,9924,null,null,null,null,0,122]
[11,10016,21,10027,21,10034,null,null,null,null,0,122]
[11,10146,21,10154,21,10189,null,null,null,null,0,122]
[11,10366,21,10372,21,10377,null,null,null,null,0,122]
[11,10477,21,10486,21,10507,null,null,null,null,0,122]
[11,10619,21,10630,21,10649,null,null,null,null,0,122]
[22,10766,23,10771,23,10783,null,null,null,null,0,222]
[22,10891,23,10904,23,10912,null,null,null,null,0,222]
[11,11008,21,11016,21,11037,null,null,null,null,0,122]
[11,11146,21,11156,21,11179,null,null,null,null,0,122]
[11,11312,21,11320,21,11346,null,null,null,null,1,122]

{"sheet":"!LA29B14..Is","index":19,"n_rows":73,"n_cols":48,"rows_kept":73,"cut":false,"hidden":false,"merged":[[4,39,4,42],[5,39,5,40],[4,44,4,47],[5,44,5,45],[4,24,4,27],[5,24,5,25],[4,29,4,32],[5,29,5,30],[4,34,4,37],[5,34,5,35],[1,1,1,2],[5,13,5,14],[18,13,18,14],[19,13,19,14],[4,19,4,22],[5,19,5,20]]}
["Report for:!LA29B14..Is"]
["Date:","<date>"]
["Hen:","<hen>",null,null,null,"Correct Sequence",{"$f":"Start!J2","v":122},null,null,null,null,null,null,null,null,"Total Sequences in Data",{"$f":"4994-COUNTBLANK(L7:L5000)","v":67},null,null,null,null,"Total Sequences in Block Data",{"$f":"COUNTA(L7:L17)","v":11},null,null,null,"Total Sequences in Block Data",{"$f":"COUNTA(L18:L28)","v":11},null,null,null,"Total Sequences in Block Data",{"$f":"COUNTA(L29:L40)","v":12},null,null,null,"Total Sequences in Block Data",{"$f":"COUNTA(L41:L51)","v":11},null,null,null,"Total Sequences in Block Data",{"$f":"COUNTA(L52:L62)","v":11},null,null,null,"Total Sequences in Block Data",{"$f":"COUNTA(L63:L73)","v":11}]
[null,null,null,null,null,null,null,null,null,null,null,null,null,null,null,"Total Sequences in Summary",{"$f":"SUM(O7:O14)","v":67},null,null,null,null,"Total Sequences in Block Summary",{"$f":"SUM(U7:U14)","v":11},null,null,null,"Total Sequences in Block Summary",{"$f":"SUM(Z7:Z14)","v":11},null,null,null,"Total Sequences in Block Summary",{"$f":"SUM(AE7:AE14)","v":12},null,null,null,"Total Sequences in Block Summary",{"$f":"SUM(AJ7:AJ14)","v":11},null,null,null,"Total Sequences in Block Summary",{"$f":"SUM(AO7:AO14)","v":11},null,null,null,"Total Sequences in Block Summary",{"$f":"SUM(AT7:AT14)","v":11}]
[null,null,null,null,null,null,null,null,null,null,null,null,null,null,null,null,null,null,null,"Block 1",null,null,null,null,"Block 2",null,null,null,null,"Block 3",null,null,null,null,"Block 4",null,null,null,null,"Block 5",null,null,null,null,"Block 6"]
["Sequence\nComponent\n1","Time\n1","Sequence\nComponent\n2","Time\n2","Sequence\nComponent\n3","Time\n3","Sequence\nComponent\n4","Time\n4","Sequence\nComponent\n5","Time\n5","Correct?\n0=No 1=Yes","Sequence",null,"Frequency",null,"Relative Frequency","Variability",null,null,"Frequency",null,"Relative Frequency","Variability",null,"Frequency",null,"Relative Frequency","Variability",null,"Frequency",null,"Relative Frequency","Variability",null,"Frequency",null,"Relative Frequency","Variability",null,"Frequency",null,"Relative Frequency","Variability",null,"Frequency",null,"Relative Frequency","Variability"]
[11,5,21,15,21,22,null,null,null,null,0,122,null,111,{"$f":"COUNTIF($L$7:$L$500,N7)","v":0},{"$f":"O7/$Q$4","v":0},{"$f":"IF(P7=0,0,(P7*((LOG(P7))/LOG(2))))","v":0},null,null,{"$f":"N7","v":111},{"$f":"COUNTIF(L7:L17,T7)","v":0},{"$f":"U7/(W4-U10)","v":0},{"$f":"IF(V7=0,0,(V7*((LOG(V7))/LOG(2))))","v":0},null,{"$f":"N7","v":111},{"$f":"COUNTIF(L18:L28,Y7)","v":0},{"$f":"Z7/(AB4-Z10)","v":0},{"$f":"IF(AA7=0,0,(AA7*((LOG(AA7))/LOG(2))))","v":0},null,{"$f":"N7","v":111},{"$f":"COUNTIF(L29:L40,AD7)","v":0},{"$f":"AE7/(AG4-AE10)","v":0},{"$f":"IF(AF7=0,0,(AF7*((LOG(AF7))/LOG(2))))","v":0},null,{"$f":"N7","v":111},{"$f":"COUNTIF(L41:L51,AI7)","v":0},{"$f":"AJ7/(AL4-AJ10)","v":0},{"$f":"IF(AK7=0,0,(AK7*((LOG(AK7))/LOG(2))))","v":0},null,{"$f":"N7","v":111},{"$f":"COUNTIF(L52:L62,AN7)","v":0},{"$f":"AO7/(AQ4-AO10)","v":0},{"$f":"IF(AP7=0,0,(AP7*((LOG(AP7))/LOG(2))))","v":0},null,{"$f":"N7","v":111},{"$f":"COUNTIF(L63:L73,AS7)","v":0},{"$f":"AT7/(AV4-AT10)","v":0},{"$f":"IF(AU7=0,0,(AU7*((LOG(AU7))/LOG(2))))","v":0}]
[22,164,23,169,23,172,null,null,null,null,0,222,null,112,{"$f":"COUNTIF($L$7:$L$500,N8)","v":2},{"$f":"O8/$Q$4","v":2.9850746268656716E-2},{"$f":"IF(P8=0,0,(P8*((LOG(P8))/LOG(2))))","v":-0.15122654299873947},null,null,{"$f":"N8","v":112},{"$f":"COUNTIF(L7:L17,T8)","v":0},{"$f":"U8/(W4-U10)","v":0},{"$f":"IF(V8=0,0,(V8*((LOG(V8))/LOG(2))))","v":0},null,{"$f":"N8","v":112},{"$f":"COUNTIF(L18:L28,Y8)","v":0},{"$f":"Z8/(AB4-Z10)","v":0},{"$f":"IF(AA8=0,0,(AA8*((LOG(AA8))/LOG(2))))","v":0},null,{"$f":"N8","v":112},{"$f":"COUNTIF(L29:L40,AD8)","v":1},{"$f":"AE8/(AG4-AE10)","v":0.25},{"$f":"IF(AF8=0,0,(AF8*((LOG(AF8))/LOG(2))))","v":-0.5},null,{"$f":"N8","v":112},{"$f":"COUNTIF(L41:L51,AI8)","v":0},{"$f":"AJ8/(AL4-AJ10)","v":0},{"$f":"IF(AK8=0,0,(AK8*((LOG(AK8))/LOG(2))))","v":0},null,{"$f":"N8","v":112},{"$f":"COUNTIF(L52:L62,AN8)","v":0},{"$f":"AO8/(AQ4-AO10)","v":0},{"$f":"IF(AP8=0,0,(AP8*((LOG(AP8))/LOG(2))))","v":0},null,{"$f":"N8","v":112},{"$f":"COUNTIF(L63:L73,AS8)","v":1},{"$f":"AT8/(AV4-AT10)","v":0.25},{"$f":"IF(AU8=0,0,(AU8*((LOG(AU8))/LOG(2))))","v":-0.5}]
[11,268,21,275,21,287,null,null,null,null,0,122,null,121,{"$f":"COUNTIF($L$7:$L$500,N9)","v":0},{"$f":"O9/$Q$4","v":0},{"$f":"IF(P9=0,0,(P9*((LOG(P9))/LOG(2))))","v":0},null,null,{"$f":"N9","v":121},{"$f":"COUNTIF(L7:L17,T9)","v":0},{"$f":"U9/(W4-U10)","v":0},{"$f":"IF(V9=0,0,(V9*((LOG(V9))/LOG(2))))","v":0},null,{"$f":"N9","v":121},{"$f":"COUNTIF(L18:L28,Y9)","v":0},{"$f":"Z9/(AB4-Z10)","v":0},{"$f":"IF(AA9=0,0,(AA9*((LOG(AA9))/LOG(2))))","v":0},null,{"$f":"N9","v":121},{"$f":"COUNTIF(L29:L40,AD9)","v":0},{"$f":"AE9/(AG4-AE10)","v":0},{"$f":"IF(AF9=0,0,(AF9*((LOG(AF9))/LOG(2))))","v":0},null,{"$f":"N9","v":121},{"$f":"COUNTIF(L41:L51,AI9)","v":0},{"$f":"AJ9/(AL4-AJ10)","v":0},{"$f":"IF(AK9=0,0,(AK9*((LOG(AK9))/LOG(2))))","v":0},null,{"$f":"N9","v":121},{"$f":"COUNTIF(L52:L62,AN9)","v":0},{"$f":"AO9/(AQ4-AO10)","v":0},{"$f":"IF(AP9=0,0,(AP9*((LOG(AP9))/LOG(2))))","v":0},null,{"$f":"N9","v":121},{"$f":"COUNTIF(L63:L73,AS9)","v":0},{"$f":"AT9/(AV4-AT10)","v":0},{"$f":"IF(AU9=0,0,(AU9*((LOG(AU9))/LOG(2))))","v":0}]
[22,408,23,412,23,424,null,null,null,null,0,222,null,122,{"$f":"COUNTIF($L$7:$L$500,N10)","v":40},{"$f":"O10/$Q$4","v":0.59701492537313428},{"$f":"IF(P10=0,0,(P10*((LOG(P10))/LOG(2))))","v":-0.4442752809375583},null,null,{"$f":"N10","v":122},{"$f":"COUNTIF(L7:L17,T10)","v":5},null,null,null,{"$f":"N10","v":122},{"$f":"COUNTIF(L18:L28,Y10)","v":6},null,null,null,{"$f":"N10","v":122},{"$f":"COUNTIF(L29:L40,AD10)","v":8},null,null,null,{"$f":"N10","v":122},{"$f":"COUNTIF(L41:L51,AI10)","v":6},null,null,null,{"$f":"N10","v":122},{"$f":"COUNTIF(L52:L62,AN10)","v":8},null,null,null,{"$f":"N10","v":122},{"$f":"COUNTIF(L63:L73,AS10)","v":7}]
[11,518,21,527,21,531,null,null,null,null,0,122,null,211,{"$f":"COUNTIF($L$7:$L$500,N11)","v":0},{"$f":"O11/$Q$4","v":0},{"$f":"IF(P11=0,0,(P11*((LOG(P11))/LOG(2))))","v":0},null,null,{"$f":"N11","v":211},{"$f":"COUNTIF(L7:L17,T11)","v":0},{"$f":"U11/(W4-U10)","v":0},{"$f":"IF(V11=0,0,(V11*((LOG(V11))/LOG(2))))","v":0},null,{"$f":"N11","v":211},{"$f":"COUNTIF(L18:L28,Y11)","v":0},{"$f":"Z11/(AB4-Z10)","v":0},{"$f":"IF(AA11=0,0,(AA11*((LOG(AA11))/LOG(2))))","v":0},null,{"$f":"N11","v":211},{"$f":"COUNTIF(L29:L40,AD11)","v":0},{"$f":"AE11/(AG4-AE10)","v":0},{"$f":"IF(AF11=0,0,(AF11*((LOG(AF11))/LOG(2))))","v":0},null,{"$f":"N11","v":211},{"$f":"COUNTIF(L41:L51,AI11)","v":0},{"$f":"AJ11/(AL4-AJ10)","v":0},{"$f":"IF(AK11=0,0,(AK11*((LOG(AK11))/LOG(2))))","v":0},null,{"$f":"N11","v":211},{"$f":"COUNTIF(L52:L62,AN11)","v":0},{"$f":"AO11/(AQ4-AO10)","v":0},{"$f":"IF(AP11=0,0,(AP11*((LOG(AP11))/LOG(2))))","v":0},null,{"$f":"N11","v":211},{"$f":"COUNTIF(L63:L73,AS11)","v":0},{"$f":"AT11/(AV4-AT10)","v":0},{"$f":"IF(AU11=0,0,(AU11*((LOG(AU11))/LOG(2))))","v":0}]
[11,623,21,631,21,636,null,null,null,null,0,122,null,212,{"$f":"COUNTIF($L$7:$L$500,N12)","v":0},{"$f":"O12/$Q$4","v":0},{"$f":"IF(P12=0,0,(P12*((LOG(P12))/LOG(2))))","v":0},null,null,{"$f":"N12","v":212},{"$f":"COUNTIF(L7:L17,T12)","v":0},{"$f":"U12/(W4-U10)","v":0},{"$f":"IF(V12=0,0,(V12*((LOG(V12))/LOG(2))))","v":0},null,{"$f":"N12","v":212},{"$f":"COUNTIF(L18:L28,Y12)","v":0},{"$f":"Z12/(AB4-Z10)","v":0},{"$f":"IF(AA12=0,0,(AA12*((LOG(AA12))/LOG(2))))","v":0},null,{"$f":"N12","v":212},{"$f":"COUNTIF(L29:L40,AD12)","v":0},{"$f":"AE12/(AG4-AE10)","v":0},{"$f":"IF(AF12=0,0,(AF12*((LOG(AF12))/LOG(2))))","v":0},null,{"$f":"N12","v":212},{"$f":"COUNTIF(L41:L51,AI12)","v":0},{"$f":"AJ12/(AL4-AJ10)","v":0},{"$f":"IF(AK12=0,0,(AK12*((LOG(AK12))/LOG(2))))","v":0},null,{"$f":"N12","v":212},{"$f":"COUNTIF(L52:L62,AN12)","v":0},{"$f":"AO12/(AQ4-AO10)","v":0},{"$f":"IF(AP12=0,0,(AP12*((LOG(AP12))/LOG(2))))","v":0},null,{"$f":"N12","v":212},{"$f":"COUNTIF(L63:L73,AS12)","v":0},{"$f":"AT12/(AV4-AT10)","v":0},{"$f":"IF(AU12=0,0,(AU12*((LOG(AU12))/LOG(2))))","v":0}]
[22,758,23,762,23,771,null,null,null,null,0,222,null,221,{"$f":"COUNTIF($L$7:$L$500,N13)","v":0},{"$f":"O13/$Q$4","v":0},{"$f":"IF(P13=0,0,(P13*((LOG(P13))/LOG(2))))","v":0},null,null,{"$f":"N13","v":221},{"$f":"COUNTIF(L7:L17,T13)","v":0},{"$f":"U13/(W4-U10)","v":0},{"$f":"IF(V13=0,0,(V13*((LOG(V13))/LOG(2))))","v":0},null,{"$f":"N13","v":221},{"$f":"COUNTIF(L18:L28,Y13)","v":0},{"$f":"Z13/(AB4-Z10)","v":0},{"$f":"IF(AA13=0,0,(AA13*((LOG(AA13))/LOG(2))))","v":0},null,{"$f":"N13","v":221},{"$f":"COUNTIF(L29:L40,AD13)","v":0},{"$f":"AE13/(AG4-AE10)","v":0},{"$f":"IF(AF13=0,0,(AF13*((LOG(AF13))/LOG(2))))","v":0},null,{"$f":"N13","v":221},{"$f":"COUNTIF(L41:L51,AI13)","v":0},{"$f":"AJ13/(AL4-AJ10)","v":0},{"$f":"IF(AK13=0,0,(AK13*((LOG(AK13))/LOG(2))))","v":0},null,{"$f":"N13","v":221},{"$f":"COUNTIF(L52:L62,AN13)","v":0},{"$f":"AO13/(AQ4-AO10)","v":0},{"$f":"IF(AP13=0,0,(AP13*((LOG(AP13))/LOG(2))))","v":0},null,{"$f":"N13","v":221},{"$f":"COUNTIF(L63:L73,AS13)","v":0},{"$f":"AT13/(AV4-AT10)","v":0},{"$f":"IF(AU13=0,0,(AU13*((LOG(AU13))/LOG(2))))","v":0}]
[22,880,23,884,23,891,null,null,null,null,0,222,null,222,{"$f":"COUNTIF($L$7:$L$500,N14)","v":25},{"$f":"O14/$Q$4","v":0.37313432835820898},{"$f":"IF(P14=0,0,(P14*((LOG(P14))/LOG(2))))","v":-0.53068395547874914},null,null,{"$f":"N14","v":222},{"$f":"COUNTIF(L7:L17,T14)","v":6},{"$f":"U14/(W4-U10)","v":1},{"$f":"IF(V14=0,0,(V14*((LOG(V14))/LOG(2))))","v":0},null,{"$f":"N14","v":222},{"$f":"COUNTIF(L18:L28,Y14)","v":5},{"$f":"Z14/(AB4-Z10)","v":1},{"$f":"IF(AA14=0,0,(AA14*((LOG(AA14))/LOG(2))))","v":0},null,{"$f":"N14","v":222},{"$f":"COUNTIF(L29:L40,AD14)","v":3},{"$f":"AE14/(AG4-AE10)","v":0.75},{"$f":"IF(AF14=0,0,(AF14*((LOG(AF14))/LOG(2))))","v":-0.31127812445913283},null,{"$f":"N14","v":222},{"$f":"COUNTIF(L41:L51,AI14)","v":5},{"$f":"AJ14/(AL4-AJ10)","v":1},{"$f":"IF(AK14=0,0,(AK14*((LOG(AK14))/LOG(2))))","v":0},null,{"$f":"N14","v":222},{"$f":"COUNTIF(L52:L62,AN14)","v":3},{"$f":"AO14/(AQ4-AO10)","v":1},{"$f":"IF(AP14=0,0,(AP14*((LOG(AP14))/LOG(2))))","v":0},null,{"$f":"N14","v":222},{"$f":"COUNTIF(L63:L73,AS14)","v":3},{"$f":"AT14/(AV4-AT10)","v":0.75},{"$f":"IF(AU14=0,0,(AU14*((LOG(AU14))/LOG(2))))","v":-0.31127812445913283}]
[11,986,21,994,21,997,null,null,null,null,0,122,null,null,null,{"$f":"SUM(P7:P14)","v":1},{"$f":"-SUM(Q7:Q14)","v":1.1261857794150469},null,null,null,null,{"$f":"SUM(V7:V14)","v":1},{"$f":"-SUM(W7:W14)","v":0},null,null,null,{"$f":"SUM(AA7:AA14)","v":1},{"$f":"-SUM(AB7:AB14)","v":0},null,null,null,{"$f":"SUM(AF7:AF14)","v":1},{"$f":"-SUM(AG7:AG14)","v":0.81127812445913283},null,null,null,{"$f":"SUM(AK7:AK14)","v":1},{"$f":"-SUM(AL7:AL14)","v":0},null,null,null,{"$f":"SUM(AP7:AP14)","v":1},{"$f":"-SUM(AQ7:AQ14)","v":0},null,null,null,{"$f":"SUM(AU7:AU14)","v":1},{"$f":"-SUM(AV7:AV14)","v":0.81127812445913283}]
[22,1116,23,1123,23,1129,null,null,null,null,0,222,null,null,null,"U=",{"$f":"Q15/(LOG(Q4)/LOG(2))","v":0.1856526905648844},null,null,null,null,"U1=",{"$f":"W15/(LOG(W4)/LOG(2))","v":0},null,null,null,"U2=",{"$f":"AB15/(LOG(AB4)/LOG(2))","v":0},null,null,null,"U3=",{"$f":"AG15/(LOG(AG4)/LOG(2))","v":0.22630030977895443},null,null,null,"U4=",{"$f":"AL15/(LOG(AL4)/LOG(2))","v":0},null,null,null,"U5=",{"$f":"AQ15/(LOG(AQ4)/LOG(2))","v":0},null,null,null,"U6=",{"$f":"AV15/(LOG(AV4)/LOG(2))","v":0.23451197014228101}]
[22,1233,23,1237,23,1242,null,null,null,null,0,222]
[11,1339,21,1347,21,1354,null,null,null,null,0,122]
[11,1475,21,1484,21,1488,null,null,null,null,0,122,null,"Total Target Seq"]
[22,1617,23,1620,23,1624,null,null,null,null,0,222,null,{"$f":"COUNTIF(L7:L73,G3)","v":40},null,11,11,12,11,11,11]
[22,1735,23,1744,23,1749,null,null,null,null,0,222,null,null,null,"% of reinforcement given in 6 equal intervals based on number of trials "]
[11,1855,21,1865,21,1880,null,null,null,null,0,122,null,null,null,"%_1","%_2","%_3","%_4","%_5","%_6"]
[22,2019,23,2027,23,2033,null,null,null,null,0,222,null,null,"target sequence",{"$f":"$G$3","v":122},{"$f":"$G$3","v":122},{"$f":"$G$3","v":122},{"$f":"$G$3","v":122},{"$f":"$G$3","v":122},{"$f":"$G$3","v":122}]
[22,2137,23,2140,23,2146,null,null,null,null,0,222,null,null,"total reinforcement",{"$f":"U10","v":5},{"$f":"Z10","v":6},{"$f":"AE10","v":8},{"$f":"AJ10","v":6},{"$f":"AO10","v":8},{"$f":"AT10","v":7}]
[11,2242,21,2254,21,2260,null,null,null,null,0,122,null,null,"% target"]
[11,2379,21,2400,21,2409,null,null,null,null,0,122,null,null,"CCRF"]
[22,2549,23,2552,23,2568,null,null,null,null,0,222,null,null,"% CCRf"]
[11,2663,21,2677,21,2683,null,null,null,null,0,122,null,null,"average response rate",{"$f":"F17/P20","v":112.90909090909091},{"$f":"(F28-F17)/Q20","v":131},{"$f":"(F40-F28)/R20","v":129.41666666666666},{"$f":"(F51-F40)/S20","v":126.63636363636364},{"$f":"(F62-F51)/T20","v":143.27272727272728},{"$f":"(F73-F62)/U20","v":128.81818181818181}]
[11,2791,21,2799,21,2802,null,null,null,null,0,122]
[22,2988,23,2992,23,3000,null,null,null,null,0,222]
[22,3104,23,3108,23,3118,null,null,null,null,0,222]
[11,3211,21,3219,21,3221,null,null,null,null,0,122]
[11,3325,21,3341,21,3345,null,null,null,null,0,122]
[11,3474,21,3483,21,3496,null,null,null,null,0,122]
[11,3620,21,3628,21,3632,null,null,null,null,0,122]
[22,3750,23,3759,23,3765,null,null,null,null,0,222]
[11,3860,12,3869,23,3876,null,null,null,null,0,112]
[11,3971,21,3980,21,3986,null,null,null,null,0,122]
[11,4086,21,4093,21,4097,null,null,null,null,0,122]
[11,4211,21,4218,21,4236,null,null,null,null,0,122]
[22,4382,23,4386,23,4397,null,null,null,null,0,222]
[11,4495,21,4502,21,4506,null,null,null,null,0,122]
[11,4666,21,4679,21,4683,null,null,null,null,0,122]
[22,4817,23,4820,23,4825,null,null,null,null,0,222]
[11,4921,21,4929,21,4932,null,null,null,null,0,122]
[22,5034,23,5038,23,5043,null,null,null,null,0,222]
[11,5142,21,5149,21,5153,null,null,null,null,0,122]
[11,5267,21,5275,21,5284,null,null,null,null,0,122]
[22,5392,23,5397,23,5402,null,null,null,null,0,222]
[22,5510,23,5514,23,5521,null,null,null,null,0,222]
[11,5617,21,5625,21,5629,null,null,null,null,0,122]
[22,5762,23,5780,23,5793,null,null,null,null,0,222]
[11,5890,21,5899,21,5902,null,null,null,null,0,122]
[11,6033,21,6043,21,6047,null,null,null,null,0,122]
[11,6188,21,6196,21,6202,null,null,null,null,0,122]
[22,6354,23,6358,23,6364,null,null,null,null,0,222]
[11,6459,21,6469,21,6472,null,null,null,null,0,122]
[11,6565,21,6573,21,6581,null,null,null,null,0,122]
[22,6721,23,6729,23,6737,null,null,null,null,0,222]
[11,6833,21,6842,21,6846,null,null,null,null,0,122]
[11,7011,21,7020,21,7029,null,null,null,null,0,122]
[11,7180,21,7190,21,7205,null,null,null,null,0,122]
[22,7321,23,7331,23,7338,null,null,null,null,0,222]
[11,7434,21,7443,21,7456,null,null,null,null,0,122]
[11,7574,21,7583,21,7597,null,null,null,null,0,122]
[11,7716,21,7728,21,7744,null,null,null,null,0,122]
[22,7863,23,7876,23,7887,null,null,null,null,0,222]
[11,7985,21,7998,21,8003,null,null,null,null,0,122]
[11,8098,21,8113,21,8118,null,null,null,null,0,122]
[22,8233,23,8242,23,8252,null,null,null,null,0,222]
[11,8346,21,8366,21,8381,null,null,null,null,0,122]
[11,8477,12,8483,23,8494,null,null,null,null,0,112]
[11,8601,21,8612,21,8622,null,null,null,null,1,122]

{"sheet":"!LA30A44..Is","index":20,"n_rows":81,"n_cols":48,"rows_kept":81,"cut":false,"hidden":false,"merged":[[4,39,4,42],[5,39,5,40],[4,44,4,47],[5,44,5,45],[4,24,4,27],[5,24,5,25],[4,29,4,32],[5,29,5,30],[4,34,4,37],[5,34,5,35],[1,1,1,2],[5,13,5,14],[18,13,18,14],[19,13,19,14],[4,19,4,22],[5,19,5,20]]}
["Report for:!LA30A44..Is"]
["Date:","<date>"]
["Hen:","<hen>",null,null,null,"Correct Sequence",{"$f":"Start!J2","v":122},null,null,null,null,null,null,null,null,"Total Sequences in Data",{"$f":"4994-COUNTBLANK(L7:L5000)","v":75},null,null,null,null,"Total Sequences in Block Data",{"$f":"COUNTA(L7:L19)","v":13},null,null,null,"Total Sequences in Block Data",{"$f":"COUNTA(L20:L31)","v":12},null,null,null,"Total Sequences in Block Data",{"$f":"COUNTA(L32:L44)","v":13},null,null,null,"Total Sequences in Block Data",{"$f":"COUNTA(L45:L56)","v":12},null,null,null,"Total Sequences in Block Data",{"$f":"COUNTA(L57:L69)","v":13},null,null,null,"Total Sequences in Block Data",{"$f":"COUNTA(L70:L81)","v":12}]
[null,null,null,null,null,null,null,null,null,null,null,null,null,null,null,"Total Sequences in Summary",{"$f":"SUM(O7:O14)","v":75},null,null,null,null,"Total Sequences in Block Summary",{"$f":"SUM(U7:U14)","v":13},null,null,null,"Total Sequences in Block Summary",{"$f":"SUM(Z7:Z14)","v":12},null,null,null,"Total Sequences in Block Summary",{"$f":"SUM(AE7:AE14)","v":13},null,null,null,"Total Sequences in Block Summary",{"$f":"SUM(AJ7:AJ14)","v":12},null,null,null,"Total Sequences in Block Summary",{"$f":"SUM(AO7:AO14)","v":13},null,null,null,"Total Sequences in Block Summary",{"$f":"SUM(AT7:AT14)","v":12}]
[null,null,null,null,null,null,null,null,null,null,null,null,null,null,null,null,null,null,null,"Block 1",null,null,null,null,"Block 2",null,null,null,null,"Block 3",null,null,null,null,"Block 4",null,null,null,null,"Block 5",null,null,null,null,"Block 6"]
["Sequence\nComponent\n1","Time\n1","Sequence\nComponent\n2","Time\n2","Sequence\nComponent\n3","Time\n3","Sequence\nComponent\n4","Time\n4","Sequence\nComponent\n5","Time\n5","Correct?\n0=No 1=Yes","Sequence",null,"Frequency",null,"Relative Frequency","Variability",null,null,"Frequency",null,"Relative Frequency","Variability",null,"Frequency",null,"Relative Frequency","Variability",null,"Frequency",null,"Relative Frequency","Variability",null,"Frequency",null,"Relative Frequency","Variability",null,"Frequency",null,"Relative Frequency","Variability",null,"Frequency",null,"Relative Frequency","Variability"]
[22,1,23,5,14,14,null,null,null,null,0,221,null,111,{"$f":"COUNTIF($L$7:$L$500,N7)","v":0},{"$f":"O7/$Q$4","v":0},{"$f":"IF(P7=0,0,(P7*((LOG(P7))/LOG(2))))","v":0},null,null,{"$f":"N7","v":111},{"$f":"COUNTIF(L7:L19,T7)","v":0},{"$f":"U7/(W4-U10)","v":0},{"$f":"IF(V7=0,0,(V7*((LOG(V7))/LOG(2))))","v":0},null,{"$f":"N7","v":111},{"$f":"COUNTIF(L20:L31,Y7)","v":0},{"$f":"Z7/(AB4-Z10)","v":0},{"$f":"IF(AA7=0,0,(AA7*((LOG(AA7))/LOG(2))))","v":0},null,{"$f":"N7","v":111},{"$f":"COUNTIF(L32:L44,AD7)","v":0},{"$f":"AE7/(AG4-AE10)","v":0},{"$f":"IF(AF7=0,0,(AF7*((LOG(AF7))/LOG(2))))","v":0},null,{"$f":"N7","v":111},{"$f":"COUNTIF(L45:L56,AI7)","v":0},{"$f":"AJ7/(AL4-AJ10)","v":0},{"$f":"IF(AK7=0,0,(AK7*((LOG(AK7))/LOG(2))))","v":0},null,{"$f":"N7","v":111},{"$f":"COUNTIF(L57:L69,AN7)","v":0},{"$f":"AO7/(AQ4-AO10)","v":0},{"$f":"IF(AP7=0,0,(AP7*((LOG(AP7))/LOG(2))))","v":0},null,{"$f":"N7","v":111},{"$f":"COUNTIF(L70:L81,AS7)","v":0},{"$f":"AT7/(AV4-AT10)","v":0},{"$f":"IF(AU7=0,0,(AU7*((LOG(AU7))/LOG(2))))","v":0}]
[22,117,23,121,23,127,null,null,null,null,0,222,null,112,{"$f":"COUNTIF($L$7:$L$500,N8)","v":1},{"$f":"O8/$Q$4","v":1.3333333333333334E-2},{"$f":"IF(P8=0,0,(P8*((LOG(P8))/LOG(2))))","v":-8.3050915873278425E-2},null,null,{"$f":"N8","v":112},{"$f":"COUNTIF(L7:L19,T8)","v":0},{"$f":"U8/(W4-U10)","v":0},{"$f":"IF(V8=0,0,(V8*((LOG(V8))/LOG(2))))","v":0},null,{"$f":"N8","v":112},{"$f":"COUNTIF(L20:L31,Y8)","v":0},{"$f":"Z8/(AB4-Z10)","v":0},{"$f":"IF(AA8=0,0,(AA8*((LOG(AA8))/LOG(2))))","v":0},null,{"$f":"N8","v":112},{"$f":"COUNTIF(L32:L44,AD8)","v":0},{"$f":"AE8/(AG4-AE10)","v":0},{"$f":"IF(AF8=0,0,(AF8*((LOG(AF8))/LOG(2))))","v":0},null,{"$f":"N8","v":112},{"$f":"COUNTIF(L45:L56,AI8)","v":1},{"$f":"AJ8/(AL4-AJ10)","v":0.16666666666666666},{"$f":"IF(AK8=0,0,(AK8*((LOG(AK8))/LOG(2))))","v":-0.43082708345352599},null,{"$f":"N8","v":112},{"$f":"COUNTIF(L57:L69,AN8)","v":0},{"$f":"AO8/(AQ4-AO10)","v":0},{"$f":"IF(AP8=0,0,(AP8*((LOG(AP8))/LOG(2))))","v":0},null,{"$f":"N8","v":112},{"$f":"COUNTIF(L70:L81,AS8)","v":0},{"$f":"AT8/(AV4-AT10)","v":0},{"$f":"IF(AU8=0,0,(AU8*((LOG(AU8))/LOG(2))))","v":0}]
[11,222,21,230,21,246,null,null,null,null,0,122,null,121,{"$f":"COUNTIF($L$7:$L$500,N9)","v":0},{"$f":"O9/$Q$4","v":0},{"$f":"IF(P9=0,0,(P9*((LOG(P9))/LOG(2))))","v":0},null,null,{"$f":"N9","v":121},{"$f":"COUNTIF(L7:L19,T9)","v":0},{"$f":"U9/(W4-U10)","v":0},{"$f":"IF(V9=0,0,(V9*((LOG(V9))/LOG(2))))","v":0},null,{"$f":"N9","v":121},{"$f":"COUNTIF(L20:L31,Y9)","v":0},{"$f":"Z9/(AB4-Z10)","v":0},{"$f":"IF(AA9=0,0,(AA9*((LOG(AA9))/LOG(2))))","v":0},null,{"$f":"N9","v":121},{"$f":"COUNTIF(L32:L44,AD9)","v":0},{"$f":"AE9/(AG4-AE10)","v":0},{"$f":"IF(AF9=0,0,(AF9*((LOG(AF9))/LOG(2))))","v":0},null,{"$f":"N9","v":121},{"$f":"COUNTIF(L45:L56,AI9)","v":0},{"$f":"AJ9/(AL4-AJ10)","v":0},{"$f":"IF(AK9=0,0,(AK9*((LOG(AK9))/LOG(2))))","v":0},null,{"$f":"N9","v":121},{"$f":"COUNTIF(L57:L69,AN9)","v":0},{"$f":"AO9/(AQ4-AO10)","v":0},{"$f":"IF(AP9=0,0,(AP9*((LOG(AP9))/LOG(2))))","v":0},null,{"$f":"N9","v":121},{"$f":"COUNTIF(L70:L81,AS9)","v":0},{"$f":"AT9/(AV4-AT10)","v":0},{"$f":"IF(AU9=0,0,(AU9*((LOG(AU9))/LOG(2))))","v":0}]
[22,389,23,400,23,413,null,null,null,null,0,222,null,122,{"$f":"COUNTIF($L$7:$L$500,N10)","v":40},{"$f":"O10/$Q$4","v":0.53333333333333333},{"$f":"IF(P10=0,0,(P10*((LOG(P10))/LOG(2))))","v":-0.4836749843245432},null,null,{"$f":"N10","v":122},{"$f":"COUNTIF(L7:L19,T10)","v":6},null,null,null,{"$f":"N10","v":122},{"$f":"COUNTIF(L20:L31,Y10)","v":7},null,null,null,{"$f":"N10","v":122},{"$f":"COUNTIF(L32:L44,AD10)","v":7},null,null,null,{"$f":"N10","v":122},{"$f":"COUNTIF(L45:L56,AI10)","v":6},null,null,null,{"$f":"N10","v":122},{"$f":"COUNTIF(L57:L69,AN10)","v":7},null,null,null,{"$f":"N10","v":122},{"$f":"COUNTIF(L70:L81,AS10)","v":7}]
[22,517,23,521,23,532,null,null,null,null,0,222,null,211,{"$f":"COUNTIF($L$7:$L$500,N11)","v":0},{"$f":"O11/$Q$4","v":0},{"$f":"IF(P11=0,0,(P11*((LOG(P11))/LOG(2))))","v":0},null,null,{"$f":"N11","v":211},{"$f":"COUNTIF(L7:L19,T11)","v":0},{"$f":"U11/(W4-U10)","v":0},{"$f":"IF(V11=0,0,(V11*((LOG(V11))/LOG(2))))","v":0},null,{"$f":"N11","v":211},{"$f":"COUNTIF(L20:L31,Y11)","v":0},{"$f":"Z11/(AB4-Z10)","v":0},{"$f":"IF(AA11=0,0,(AA11*((LOG(AA11))/LOG(2))))","v":0},null,{"$f":"N11","v":211},{"$f":"COUNTIF(L32:L44,AD11)","v":0},{"$f":"AE11/(AG4-AE10)","v":0},{"$f":"IF(AF11=0,0,(AF11*((LOG(AF11))/LOG(2))))","v":0},null,{"$f":"N11","v":211},{"$f":"COUNTIF(L45:L56,AI11)","v":0},{"$f":"AJ11/(AL4-AJ10)","v":0},{"$f":"IF(AK11=0,0,(AK11*((LOG(AK11))/LOG(2))))","v":0},null,{"$f":"N11","v":211},{"$f":"COUNTIF(L57:L69,AN11)","v":0},{"$f":"AO11/(AQ4-AO10)","v":0},{"$f":"IF(AP11=0,0,(AP11*((LOG(AP11))/LOG(2))))","v":0},null,{"$f":"N11","v":211},{"$f":"COUNTIF(L70:L81,AS11)","v":0},{"$f":"AT11/(AV4-AT10)","v":0},{"$f":"IF(AU11=0,0,(AU11*((LOG(AU11))/LOG(2))))","v":0}]
[11,628,21,636,21,640,null,null,null,null,0,122,null,212,{"$f":"COUNTIF($L$7:$L$500,N12)","v":0},{"$f":"O12/$Q$4","v":0},{"$f":"IF(P12=0,0,(P12*((LOG(P12))/LOG(2))))","v":0},null,null,{"$f":"N12","v":212},{"$f":"COUNTIF(L7:L19,T12)","v":0},{"$f":"U12/(W4-U10)","v":0},{"$f":"IF(V12=0,0,(V12*((LOG(V12))/LOG(2))))","v":0},null,{"$f":"N12","v":212},{"$f":"COUNTIF(L20:L31,Y12)","v":0},{"$f":"Z12/(AB4-Z10)","v":0},{"$f":"IF(AA12=0,0,(AA12*((LOG(AA12))/LOG(2))))","v":0},null,{"$f":"N12","v":212},{"$f":"COUNTIF(L32:L44,AD12)","v":0},{"$f":"AE12/(AG4-AE10)","v":0},{"$f":"IF(AF12=0,0,(AF12*((LOG(AF12))/LOG(2))))","v":0},null,{"$f":"N12","v":212},{"$f":"COUNTIF(L45:L56,AI12)","v":0},{"$f":"AJ12/(AL4-AJ10)","v":0},{"$f":"IF(AK12=0,0,(AK12*((LOG(AK12))/LOG(2))))","v":0},null,{"$f":"N12","v":212},{"$f":"COUNTIF(L57:L69,AN12)","v":0},{"$f":"AO12/(AQ4-AO10)","v":0},{"$f":"IF(AP12=0,0,(AP12*((LOG(AP12))/LOG(2))))","v":0},null,{"$f":"N12","v":212},{"$f":"COUNTIF(L70:L81,AS12)","v":0},{"$f":"AT12/(AV4-AT10)","v":0},{"$f":"IF(AU12=0,0,(AU12*((LOG(AU12))/LOG(2))))","v":0}]
[22,744,23,749,23,755,null,null,null,null,0,222,null,221,{"$f":"COUNTIF($L$7:$L$500,N13)","v":1},{"$f":"O13/$Q$4","v":1.3333333333333334E-2},{"$f":"IF(P13=0,0,(P13*((LOG(P13))/LOG(2))))","v":-8.3050915873278425E-2},null,null,{"$f":"N13","v":221},{"$f":"COUNTIF(L7:L19,T13)","v":1},{"$f":"U13/(W4-U10)","v":0.14285714285714285},{"$f":"IF(V13=0,0,(V13*((LOG(V13))/LOG(2))))","v":-0.40105070315108626},null,{"$f":"N13","v":221},{"$f":"COUNTIF(L20:L31,Y13)","v":0},{"$f":"Z13/(AB4-Z10)","v":0},{"$f":"IF(AA13=0,0,(AA13*((LOG(AA13))/LOG(2))))","v":0},null,{"$f":"N13","v":221},{"$f":"COUNTIF(L32:L44,AD13)","v":0},{"$f":"AE13/(AG4-AE10)","v":0},{"$f":"IF(AF13=0,0,(AF13*((LOG(AF13))/LOG(2))))","v":0},null,{"$f":"N13","v":221},{"$f":"COUNTIF(L45:L56,AI13)","v":0},{"$f":"AJ13/(AL4-AJ10)","v":0},{"$f":"IF(AK13=0,0,(AK13*((LOG(AK13))/LOG(2))))","v":0},null,{"$f":"N13","v":221},{"$f":"COUNTIF(L57:L69,AN13)","v":0},{"$f":"AO13/(AQ4-AO10)","v":0},{"$f":"IF(AP13=0,0,(AP13*((LOG(AP13))/LOG(2))))","v":0},null,{"$f":"N13","v":221},{"$f":"COUNTIF(L70:L81,AS13)","v":0},{"$f":"AT13/(AV4-AT10)","v":0},{"$f":"IF(AU13=0,0,(AU13*((LOG(AU13))/LOG(2))))","v":0}]
[11,851,21,858,21,870,null,null,null,null,0,122,null,222,{"$f":"COUNTIF($L$7:$L$500,N14)","v":33},{"$f":"O14/$Q$4","v":0.44},{"$f":"IF(P14=0,0,(P14*((LOG(P14))/LOG(2))))","v":-0.52114681130046814},null,null,{"$f":"N14","v":222},{"$f":"COUNTIF(L7:L19,T14)","v":6},{"$f":"U14/(W4-U10)","v":0.8571428571428571},{"$f":"IF(V14=0,0,(V14*((LOG(V14))/LOG(2))))","v":-0.19062207543124113},null,{"$f":"N14","v":222},{"$f":"COUNTIF(L20:L31,Y14)","v":5},{"$f":"Z14/(AB4-Z10)","v":1},{"$f":"IF(AA14=0,0,(AA14*((LOG(AA14))/LOG(2))))","v":0},null,{"$f":"N14","v":222},{"$f":"COUNTIF(L32:L44,AD14)","v":6},{"$f":"AE14/(AG4-AE10)","v":1},{"$f":"IF(AF14=0,0,(AF14*((LOG(AF14))/LOG(2))))","v":0},null,{"$f":"N14","v":222},{"$f":"COUNTIF(L45:L56,AI14)","v":5},{"$f":"AJ14/(AL4-AJ10)","v":0.83333333333333337},{"$f":"IF(AK14=0,0,(AK14*((LOG(AK14))/LOG(2))))","v":-0.21919533819482812},null,{"$f":"N14","v":222},{"$f":"COUNTIF(L57:L69,AN14)","v":6},{"$f":"AO14/(AQ4-AO10)","v":1},{"$f":"IF(AP14=0,0,(AP14*((LOG(AP14))/LOG(2))))","v":0},null,{"$f":"N14","v":222},{"$f":"COUNTIF(L70:L81,AS14)","v":5},{"$f":"AT14/(AV4-AT10)","v":1},{"$f":"IF(AU14=0,0,(AU14*((LOG(AU14))/LOG(2))))","v":0}]
[11,963,21,970,21,977,null,null,null,null,0,122,null,null,null,{"$f":"SUM(P7:P14)","v":1},{"$f":"-SUM(Q7:Q14)","v":1.1709236273715682},null,null,null,null,{"$f":"SUM(V7:V14)","v":1},{"$f":"-SUM(W7:W14)","v":0.59167277858232736},null,null,null,{"$f":"SUM(AA7:AA14)","v":1},{"$f":"-SUM(AB7:AB14)","v":0},null,null,null,{"$f":"SUM(AF7:AF14)","v":1},{"$f":"-SUM(AG7:AG14)","v":0},null,null,null,{"$f":"SUM(AK7:AK14)","v":1},{"$f":"-SUM(AL7:AL14)","v":0.65002242164835411},null,null,null,{"$f":"SUM(AP7:AP14)","v":1},{"$f":"-SUM(AQ7:AQ14)","v":0},null,null,null,{"$f":"SUM(AU7:AU14)","v":1},{"$f":"-SUM(AV7:AV14)","v":0}]
[22,1086,23,1091,23,1097,null,null,null,null,0,222,null,null,null,"U=",{"$f":"Q15/(LOG(Q4)/LOG(2))","v":0.18798486286945526},null,null,null,null,"U1=",{"$f":"W15/(LOG(W4)/LOG(2))","v":0.15989255970897234},null,null,null,"U2=",{"$f":"AB15/(LOG(AB4)/LOG(2))","v":0},null,null,null,"U3=",{"$f":"AG15/(LOG(AG4)/LOG(2))","v":0},null,null,null,"U4=",{"$f":"AL15/(LOG(AL4)/LOG(2))","v":0.18131916903387263},null,null,null,"U5=",{"$f":"AQ15/(LOG(AQ4)/LOG(2))","v":0},null,null,null,"U6=",{"$f":"AV15/(LOG(AV4)/LOG(2))","v":0}]
[11,1195,21,1207,21,1216,null,null,null,null,0,122]
[11,1309,21,1317,21,1321,null,null,null,null,0,122]
[22,1425,23,1430,23,1437,null,null,null,null,0,222,null,"Total Target Seq"]
[22,1547,23,1555,23,1563,null,null,null,null,0,222,null,{"$f":"COUNTIF(L7:L81,G3)","v":40},null,13,12,13,12,13,12]
[11,1659,21,1666,21,1670,null,null,null,null,0,122,null,null,null,"% of reinforcement given in 6 equal intervals based on number of trials "]
[22,1788,23,1789,23,1795,null,null,null,null,0,222,null,null,null,"%_1","%_2","%_3","%_4","%_5","%_6"]
[22,1902,23,1905,23,1914,null,null,null,null,0,222,null,null,"target sequence",{"$f":"$G$3","v":122},{"$f":"$G$3","v":122},{"$f":"$G$3","v":122},{"$f":"$G$3","v":122},{"$f":"$G$3","v":122},{"$f":"$G$3","v":122}]
[11,2006,21,2015,21,2025,null,null,null,null,0,122,null,null,"total reinforcement",{"$f":"U10","v":6},{"$f":"Z10","v":7},{"$f":"AE10","v":7},{"$f":"AJ10","v":6},{"$f":"AO10","v":7},{"$f":"AT10","v":7}]
[22,2129,23,2137,23,2146,null,null,null,null,0,222,null,null,"% target"]
[11,2243,21,2250,21,2254,null,null,null,null,0,122,null,null,"CCRF"]
[11,2344,21,2352,21,2356,null,null,null,null,0,122,null,null,"% CCRf"]
[11,2445,21,2463,21,2473,null,null,null,null,0,122,null,null,"average response rate",{"$f":"F19/P20","v":110.53846153846153},{"$f":"(F31-F19)/Q20","v":114.83333333333333},{"$f":"(F44-F31)/R20","v":129.61538461538461},{"$f":"(F56-F44)/S20","v":127},{"$f":"(F69-F56)/T20","v":131.61538461538461},{"$f":"(F81-F69)/U20","v":127}]
[22,2578,23,2582,23,2595,null,null,null,null,0,222]
[11,2691,21,2701,21,2704,null,null,null,null,0,122]
[11,2802,21,2810,21,2815,null,null,null,null,0,122]
[11,2916,21,2928,21,2934,null,null,null,null,0,122]
[11,3094,21,3102,21,3108,null,null,null,null,0,122]
[22,3247,23,3253,23,3261,null,null,null,null,0,222]
[11,3359,21,3368,21,3372,null,null,null,null,0,122]
[22,3473,23,3477,23,3484,null,null,null,null,0,222]
[22,3588,23,3591,23,3607,null,null,null,null,0,222]
[22,3713,23,3736,23,3744,null,null,null,null,0,222]
[22,3857,23,3864,23,3872,null,null,null,null,0,222]
[11,3967,21,3976,21,4008,null,null,null,null,0,122]
[11,4112,21,4120,21,4126,null,null,null,null,0,122]
[22,4250,23,4255,23,4264,null,null,null,null,0,222]
[11,4360,21,4378,21,4382,null,null,null,null,0,122]
[11,4473,21,4487,21,4500,null,null,null,null,0,122]
[22,4628,23,4633,23,4640,null,null,null,null,0,222]
[11,4738,21,4753,21,4772,null,null,null,null,0,122]
[22,4885,23,4889,23,4896,null,null,null,null,0,222]
[11,4992,12,5001,23,5009,null,null,null,null,0,112]
[11,5113,21,5124,21,5141,null,null,null,null,0,122]
[11,5255,21,5287,21,5299,null,null,null,null,0,122]
[22,5414,23,5423,23,5439,null,null,null,null,0,222]
[22,5544,23,5559,23,5572,null,null,null,null,0,222]
[22,5674,23,5677,23,5683,null,null,null,null,0,222]
[11,5778,21,5786,21,5789,null,null,null,null,0,122]
[11,5885,21,5893,21,5908,null,null,null,null,0,122]
[11,6011,21,6019,21,6024,null,null,null,null,0,122]
[22,6140,23,6145,23,6174,null,null,null,null,0,222]
[22,6281,23,6285,23,6292,null,null,null,null,0,222]
[11,6387,21,6396,21,6400,null,null,null,null,0,122]
[11,6491,21,6512,21,6519,null,null,null,null,0,122]
[22,6641,23,6665,23,6673,null,null,null,null,0,222]
[22,6789,23,6798,23,6813,null,null,null,null,0,222]
[11,6911,21,6921,21,6926,null,null,null,null,0,122]
[11,7022,21,7029,21,7051,null,null,null,null,0,122]
[11,7154,21,7162,21,7170,null,null,null,null,0,122]
[11,7305,21,7316,21,7355,null,null,null,null,0,122]
[22,7488,23,7493,23,7503,null,null,null,null,0,222]
[22,7613,23,7619,23,7628,null,null,null,null,0,222]
[11,7723,21,7732,21,7735,null,null,null,null,0,122]
[22,7842,23,7855,23,7863,null,null,null,null,0,222]
[22,7968,23,7971,23,7977,null,null,null,null,0,222]
[11,8073,21,8080,21,8084,null,null,null,null,0,122]
[22,8201,23,8205,23,8216,null,null,null,null,0,222]
[11,8315,21,8322,21,8327,null,null,null,null,0,122]
[11,8422,21,8433,21,8444,null,null,null,null,0,122]
[22,8588,23,8615,23,8624,null,null,null,null,0,222]
[11,8725,21,8734,21,8738,null,null,null,null,0,122]
[22,8857,23,8865,23,8874,null,null,null,null,0,222]
[11,8972,21,8983,21,8994,null,null,null,null,0,122]
[11,9099,21,9107,21,9111,null,null,null,null,0,122]
[11,9216,21,9224,21,9259,null,null,null,null,1,122]

{"sheet":"!LA31A14..Is","index":21,"n_rows":72,"n_cols":48,"rows_kept":72,"cut":false,"hidden":false,"merged":[[4,39,4,42],[5,39,5,40],[4,44,4,47],[5,44,5,45],[4,24,4,27],[5,24,5,25],[4,29,4,32],[5,29,5,30],[4,34,4,37],[5,34,5,35],[1,1,1,2],[5,13,5,14],[18,13,18,14],[19,13,19,14],[4,19,4,22],[5,19,5,20]]}
["Report for:!LA31A14..Is"]
["Date:","<date>"]
["Hen:","<hen>",null,null,null,"Correct Sequence",{"$f":"Start!J2","v":122},null,null,null,null,null,null,null,null,"Total Sequences in Data",{"$f":"4994-COUNTBLANK(L7:L5000)","v":66},null,null,null,null,"Total Sequences in Block Data",{"$f":"COUNTA(L7:L17)","v":11},null,null,null,"Total Sequences in Block Data",{"$f":"COUNTA(L18:L28)","v":11},null,null,null,"Total Sequences in Block Data",{"$f":"COUNTA(L29:L39)","v":11},null,null,null,"Total Sequences in Block Data",{"$f":"COUNTA(L40:L50)","v":11},null,null,null,"Total Sequences in Block Data",{"$f":"COUNTA(L51:L61)","v":11},null,null,null,"Total Sequences in Block Data",{"$f":"COUNTA(L62:L72)","v":11}]
[null,null,null,null,null,null,null,null,null,null,null,null,null,null,null,"Total Sequences in Summary",{"$f":"SUM(O7:O14)","v":66},null,null,null,null,"Total Sequences in Block Summary",{"$f":"SUM(U7:U14)","v":11},null,null,null,"Total Sequences in Block Summary",{"$f":"SUM(Z7:Z14)","v":11},null,null,null,"Total Sequences in Block Summary",{"$f":"SUM(AE7:AE14)","v":11},null,null,null,"Total Sequences in Block Summary",{"$f":"SUM(AJ7:AJ14)","v":11},null,null,null,"Total Sequences in Block Summary",{"$f":"SUM(AO7:AO14)","v":11},null,null,null,"Total Sequences in Block Summary",{"$f":"SUM(AT7:AT14)","v":11}]
[null,null,null,null,null,null,null,null,null,null,null,null,null,null,null,null,null,null,null,"Block 1",null,null,null,null,"Block 2",null,null,null,null,"Block 3",null,null,null,null,"Block 4",null,null,null,null,"Block 5",null,null,null,null,"Block 6"]
["Sequence\nComponent\n1","Time\n1","Sequence\nComponent\n2","Time\n2","Sequence\nComponent\n3","Time\n3","Sequence\nComponent\n4","Time\n4","Sequence\nComponent\n5","Time\n5","Correct?\n0=No 1=Yes","Sequence",null,"Frequency",null,"Relative Frequency","Variability",null,null,"Frequency",null,"Relative Frequency","Variability",null,"Frequency",null,"Relative Frequency","Variability",null,"Frequency",null,"Relative Frequency","Variability",null,"Frequency",null,"Relative Frequency","Variability",null,"Frequency",null,"Relative Frequency","Variability",null,"Frequency",null,"Relative Frequency","Variability"]
[22,7,14,24,23,32,null,null,null,null,0,212,null,111,{"$f":"COUNTIF($L$7:$L$500,N7)","v":0},{"$f":"O7/$Q$4","v":0},{"$f":"IF(P7=0,0,(P7*((LOG(P7))/LOG(2))))","v":0},null,null,{"$f":"N7","v":111},{"$f":"COUNTIF(L7:L17,T7)","v":0},{"$f":"U7/(W4-U10)","v":0},{"$f":"IF(V7=0,0,(V7*((LOG(V7))/LOG(2))))","v":0},null,{"$f":"N7","v":111},{"$f":"COUNTIF(L18:L28,Y7)","v":0},{"$f":"Z7/(AB4-Z10)","v":0},{"$f":"IF(AA7=0,0,(AA7*((LOG(AA7))/LOG(2))))","v":0},null,{"$f":"N7","v":111},{"$f":"COUNTIF(L29:L39,AD7)","v":0},{"$f":"AE7/(AG4-AE10)","v":0},{"$f":"IF(AF7=0,0,(AF7*((LOG(AF7))/LOG(2))))","v":0},null,{"$f":"N7","v":111},{"$f":"COUNTIF(L40:L50,AI7)","v":0},{"$f":"AJ7/(AL4-AJ10)","v":0},{"$f":"IF(AK7=0,0,(AK7*((LOG(AK7))/LOG(2))))","v":0},null,{"$f":"N7","v":111},{"$f":"COUNTIF(L51:L61,AN7)","v":0},{"$f":"AO7/(AQ4-AO10)","v":0},{"$f":"IF(AP7=0,0,(AP7*((LOG(AP7))/LOG(2))))","v":0},null,{"$f":"N7","v":111},{"$f":"COUNTIF(L62:L72,AS7)","v":0},{"$f":"AT7/(AV4-AT10)","v":0},{"$f":"IF(AU7=0,0,(AU7*((LOG(AU7))/LOG(2))))","v":0}]
[11,131,21,138,21,143,null,null,null,null,0,122,null,112,{"$f":"COUNTIF($L$7:$L$500,N8)","v":5},{"$f":"O8/$Q$4","v":7.575757575757576E-2},{"$f":"IF(P8=0,0,(P8*((LOG(P8))/LOG(2))))","v":-0.28200500185387051},null,null,{"$f":"N8","v":112},{"$f":"COUNTIF(L7:L17,T8)","v":0},{"$f":"U8/(W4-U10)","v":0},{"$f":"IF(V8=0,0,(V8*((LOG(V8))/LOG(2))))","v":0},null,{"$f":"N8","v":112},{"$f":"COUNTIF(L18:L28,Y8)","v":2},{"$f":"Z8/(AB4-Z10)","v":0.4},{"$f":"IF(AA8=0,0,(AA8*((LOG(AA8))/LOG(2))))","v":-0.52877123795494496},null,{"$f":"N8","v":112},{"$f":"COUNTIF(L29:L39,AD8)","v":0},{"$f":"AE8/(AG4-AE10)","v":0},{"$f":"IF(AF8=0,0,(AF8*((LOG(AF8))/LOG(2))))","v":0},null,{"$f":"N8","v":112},{"$f":"COUNTIF(L40:L50,AI8)","v":0},{"$f":"AJ8/(AL4-AJ10)","v":0},{"$f":"IF(AK8=0,0,(AK8*((LOG(AK8))/LOG(2))))","v":0},null,{"$f":"N8","v":112},{"$f":"COUNTIF(L51:L61,AN8)","v":1},{"$f":"AO8/(AQ4-AO10)","v":0.33333333333333331},{"$f":"IF(AP8=0,0,(AP8*((LOG(AP8))/LOG(2))))","v":-0.52832083357371862},null,{"$f":"N8","v":112},{"$f":"COUNTIF(L62:L72,AS8)","v":2},{"$f":"AT8/(AV4-AT10)","v":0.66666666666666663},{"$f":"IF(AU8=0,0,(AU8*((LOG(AU8))/LOG(2))))","v":-0.38997500048077083}]
[22,278,23,288,23,296,null,null,null,null,0,222,null,121,{"$f":"COUNTIF($L$7:$L$500,N9)","v":0},{"$f":"O9/$Q$4","v":0},{"$f":"IF(P9=0,0,(P9*((LOG(P9))/LOG(2))))","v":0},null,null,{"$f":"N9","v":121},{"$f":"COUNTIF(L7:L17,T9)","v":0},{"$f":"U9/(W4-U10)","v":0},{"$f":"IF(V9=0,0,(V9*((LOG(V9))/LOG(2))))","v":0},null,{"$f":"N9","v":121},{"$f":"COUNTIF(L18:L28,Y9)","v":0},{"$f":"Z9/(AB4-Z10)","v":0},{"$f":"IF(AA9=0,0,(AA9*((LOG(AA9))/LOG(2))))","v":0},null,{"$f":"N9","v":121},{"$f":"COUNTIF(L29:L39,AD9)","v":0},{"$f":"AE9/(AG4-AE10)","v":0},{"$f":"IF(AF9=0,0,(AF9*((LOG(AF9))/LOG(2))))","v":0},null,{"$f":"N9","v":121},{"$f":"COUNTIF(L40:L50,AI9)","v":0},{"$f":"AJ9/(AL4-AJ10)","v":0},{"$f":"IF(AK9=0,0,(AK9*((LOG(AK9))/LOG(2))))","v":0},null,{"$f":"N9","v":121},{"$f":"COUNTIF(L51:L61,AN9)","v":0},{"$f":"AO9/(AQ4-AO10)","v":0},{"$f":"IF(AP9=0,0,(AP9*((LOG(AP9))/LOG(2))))","v":0},null,{"$f":"N9","v":121},{"$f":"COUNTIF(L62:L72,AS9)","v":0},{"$f":"AT9/(AV4-AT10)","v":0},{"$f":"IF(AU9=0,0,(AU9*((LOG(AU9))/LOG(2))))","v":0}]
[22,399,23,412,23,421,null,null,null,null,0,222,null,122,{"$f":"COUNTIF($L$7:$L$500,N10)","v":40},{"$f":"O10/$Q$4","v":0.60606060606060608},{"$f":"IF(P10=0,0,(P10*((LOG(P10))/LOG(2))))","v":-0.43785819664914605},null,null,{"$f":"N10","v":122},{"$f":"COUNTIF(L7:L17,T10)","v":4},null,null,null,{"$f":"N10","v":122},{"$f":"COUNTIF(L18:L28,Y10)","v":6},null,null,null,{"$f":"N10","v":122},{"$f":"COUNTIF(L29:L39,AD10)","v":7},null,null,null,{"$f":"N10","v":122},{"$f":"COUNTIF(L40:L50,AI10)","v":7},null,null,null,{"$f":"N10","v":122},{"$f":"COUNTIF(L51:L61,AN10)","v":8},null,null,null,{"$f":"N10","v":122},{"$f":"COUNTIF(L62:L72,AS10)","v":8}]
[22,524,23,527,23,539,null,null,null,null,0,222,null,211,{"$f":"COUNTIF($L$7:$L$500,N11)","v":0},{"$f":"O11/$Q$4","v":0},{"$f":"IF(P11=0,0,(P11*((LOG(P11))/LOG(2))))","v":0},null,null,{"$f":"N11","v":211},{"$f":"COUNTIF(L7:L17,T11)","v":0},{"$f":"U11/(W4-U10)","v":0},{"$f":"IF(V11=0,0,(V11*((LOG(V11))/LOG(2))))","v":0},null,{"$f":"N11","v":211},{"$f":"COUNTIF(L18:L28,Y11)","v":0},{"$f":"Z11/(AB4-Z10)","v":0},{"$f":"IF(AA11=0,0,(AA11*((LOG(AA11))/LOG(2))))","v":0},null,{"$f":"N11","v":211},{"$f":"COUNTIF(L29:L39,AD11)","v":0},{"$f":"AE11/(AG4-AE10)","v":0},{"$f":"IF(AF11=0,0,(AF11*((LOG(AF11))/LOG(2))))","v":0},null,{"$f":"N11","v":211},{"$f":"COUNTIF(L40:L50,AI11)","v":0},{"$f":"AJ11/(AL4-AJ10)","v":0},{"$f":"IF(AK11=0,0,(AK11*((LOG(AK11))/LOG(2))))","v":0},null,{"$f":"N11","v":211},{"$f":"COUNTIF(L51:L61,AN11)","v":0},{"$f":"AO11/(AQ4-AO10)","v":0},{"$f":"IF(AP11=0,0,(AP11*((LOG(AP11))/LOG(2))))","v":0},null,{"$f":"N11","v":211},{"$f":"COUNTIF(L62:L72,AS11)","v":0},{"$f":"AT11/(AV4-AT10)","v":0},{"$f":"IF(AU11=0,0,(AU11*((LOG(AU11))/LOG(2))))","v":0}]
[22,643,23,651,23,659,null,null,null,null,0,222,null,212,{"$f":"COUNTIF($L$7:$L$500,N12)","v":1},{"$f":"O12/$Q$4","v":1.5151515151515152E-2},{"$f":"IF(P12=0,0,(P12*((LOG(P12))/LOG(2))))","v":-9.1581729081188695E-2},null,null,{"$f":"N12","v":212},{"$f":"COUNTIF(L7:L17,T12)","v":1},{"$f":"U12/(W4-U10)","v":0.14285714285714285},{"$f":"IF(V12=0,0,(V12*((LOG(V12))/LOG(2))))","v":-0.40105070315108626},null,{"$f":"N12","v":212},{"$f":"COUNTIF(L18:L28,Y12)","v":0},{"$f":"Z12/(AB4-Z10)","v":0},{"$f":"IF(AA12=0,0,(AA12*((LOG(AA12))/LOG(2))))","v":0},null,{"$f":"N12","v":212},{"$f":"COUNTIF(L29:L39,AD12)","v":0},{"$f":"AE12/(AG4-AE10)","v":0},{"$f":"IF(AF12=0,0,(AF12*((LOG(AF12))/LOG(2))))","v":0},null,{"$f":"N12","v":212},{"$f":"COUNTIF(L40:L50,AI12)","v":0},{"$f":"AJ12/(AL4-AJ10)","v":0},{"$f":"IF(AK12=0,0,(AK12*((LOG(AK12))/LOG(2))))","v":0},null,{"$f":"N12","v":212},{"$f":"COUNTIF(L51:L61,AN12)","v":0},{"$f":"AO12/(AQ4-AO10)","v":0},{"$f":"IF(AP12=0,0,(AP12*((LOG(AP12))/LOG(2))))","v":0},null,{"$f":"N12","v":212},{"$f":"COUNTIF(L62:L72,AS12)","v":0},{"$f":"AT12/(AV4-AT10)","v":0},{"$f":"IF(AU12=0,0,(AU12*((LOG(AU12))/LOG(2))))","v":0}]
[11,753,21,767,21,771,null,null,null,null,0,122,null,221,{"$f":"COUNTIF($L$7:$L$500,N13)","v":0},{"$f":"O13/$Q$4","v":0},{"$f":"IF(P13=0,0,(P13*((LOG(P13))/LOG(2))))","v":0},null,null,{"$f":"N13","v":221},{"$f":"COUNTIF(L7:L17,T13)","v":0},{"$f":"U13/(W4-U10)","v":0},{"$f":"IF(V13=0,0,(V13*((LOG(V13))/LOG(2))))","v":0},null,{"$f":"N13","v":221},{"$f":"COUNTIF(L18:L28,Y13)","v":0},{"$f":"Z13/(AB4-Z10)","v":0},{"$f":"IF(AA13=0,0,(AA13*((LOG(AA13))/LOG(2))))","v":0},null,{"$f":"N13","v":221},{"$f":"COUNTIF(L29:L39,AD13)","v":0},{"$f":"AE13/(AG4-AE10)","v":0},{"$f":"IF(AF13=0,0,(AF13*((LOG(AF13))/LOG(2))))","v":0},null,{"$f":"N13","v":221},{"$f":"COUNTIF(L40:L50,AI13)","v":0},{"$f":"AJ13/(AL4-AJ10)","v":0},{"$f":"IF(AK13=0,0,(AK13*((LOG(AK13))/LOG(2))))","v":0},null,{"$f":"N13","v":221},{"$f":"COUNTIF(L51:L61,AN13)","v":0},{"$f":"AO13/(AQ4-AO10)","v":0},{"$f":"IF(AP13=0,0,(AP13*((LOG(AP13))/LOG(2))))","v":0},null,{"$f":"N13","v":221},{"$f":"COUNTIF(L62:L72,AS13)","v":0},{"$f":"AT13/(AV4-AT10)","v":0},{"$f":"IF(AU13=0,0,(AU13*((LOG(AU13))/LOG(2))))","v":0}]
[22,890,23,894,23,900,null,null,null,null,0,222,null,222,{"$f":"COUNTIF($L$7:$L$500,N14)","v":20},{"$f":"O14/$Q$4","v":0.30303030303030304},{"$f":"IF(P14=0,0,(P14*((LOG(P14))/LOG(2))))","v":-0.52195940135487617},null,null,{"$f":"N14","v":222},{"$f":"COUNTIF(L7:L17,T14)","v":6},{"$f":"U14/(W4-U10)","v":0.8571428571428571},{"$f":"IF(V14=0,0,(V14*((LOG(V14))/LOG(2))))","v":-0.19062207543124113},null,{"$f":"N14","v":222},{"$f":"COUNTIF(L18:L28,Y14)","v":3},{"$f":"Z14/(AB4-Z10)","v":0.6},{"$f":"IF(AA14=0,0,(AA14*((LOG(AA14))/LOG(2))))","v":-0.44217935649972373},null,{"$f":"N14","v":222},{"$f":"COUNTIF(L29:L39,AD14)","v":4},{"$f":"AE14/(AG4-AE10)","v":1},{"$f":"IF(AF14=0,0,(AF14*((LOG(AF14))/LOG(2))))","v":0},null,{"$f":"N14","v":222},{"$f":"COUNTIF(L40:L50,AI14)","v":4},{"$f":"AJ14/(AL4-AJ10)","v":1},{"$f":"IF(AK14=0,0,(AK14*((LOG(AK14))/LOG(2))))","v":0},null,{"$f":"N14","v":222},{"$f":"COUNTIF(L51:L61,AN14)","v":2},{"$f":"AO14/(AQ4-AO10)","v":0.66666666666666663},{"$f":"IF(AP14=0,0,(AP14*((LOG(AP14))/LOG(2))))","v":-0.38997500048077083},null,{"$f":"N14","v":222},{"$f":"COUNTIF(L62:L72,AS14)","v":1},{"$f":"AT14/(AV4-AT10)","v":0.33333333333333331},{"$f":"IF(AU14=0,0,(AU14*((LOG(AU14))/LOG(2))))","v":-0.52832083357371862}]
[11,997,21,1005,21,1011,null,null,null,null,0,122,null,null,null,{"$f":"SUM(P7:P14)","v":1},{"$f":"-SUM(Q7:Q14)","v":1.3334043289390816},null,null,null,null,{"$f":"SUM(V7:V14)","v":1},{"$f":"-SUM(W7:W14)","v":0.59167277858232736},null,null,null,{"$f":"SUM(AA7:AA14)","v":1},{"$f":"-SUM(AB7:AB14)","v":0.97095059445466869},null,null,null,{"$f":"SUM(AF7:AF14)","v":1},{"$f":"-SUM(AG7:AG14)","v":0},null,null,null,{"$f":"SUM(AK7:AK14)","v":1},{"$f":"-SUM(AL7:AL14)","v":0},null,null,null,{"$f":"SUM(AP7:AP14)","v":1},{"$f":"-SUM(AQ7:AQ14)","v":0.91829583405448945},null,null,null,{"$f":"SUM(AU7:AU14)","v":1},{"$f":"-SUM(AV7:AV14)","v":0.91829583405448945}]
[22,1133,23,1143,23,1156,null,null,null,null,0,222,null,null,null,"U=",{"$f":"Q15/(LOG(Q4)/LOG(2))","v":0.22060181758640979},null,null,null,null,"U1=",{"$f":"W15/(LOG(W4)/LOG(2))","v":0.17103178897792257},null,null,null,"U2=",{"$f":"AB15/(LOG(AB4)/LOG(2))","v":0.28066766494928874},null,null,null,"U3=",{"$f":"AG15/(LOG(AG4)/LOG(2))","v":0},null,null,null,"U4=",{"$f":"AL15/(LOG(AL4)/LOG(2))","v":0},null,null,null,"U5=",{"$f":"AQ15/(LOG(AQ4)/LOG(2))","v":0.26544702577940094},null,null,null,"U6=",{"$f":"AV15/(LOG(AV4)/LOG(2))","v":0.26544702577940094}]
[11,1253,21,1262,21,1266,null,null,null,null,0,122]
[11,1361,21,1369,21,1373,null,null,null,null,0,122]
[11,1468,21,1480,21,1486,null,null,null,null,0,122,null,"Total Target Seq"]
[11,1608,21,1615,21,1619,null,null,null,null,0,122,null,{"$f":"COUNTIF(L7:L72,G3)","v":40},null,11,11,11,11,11,11]
[22,1745,23,1749,23,1753,null,null,null,null,0,222,null,null,null,"% of reinforcement given in 6 equal intervals based on number of trials "]
[11,1850,12,1855,23,1862,null,null,null,null,0,112,null,null,null,"%_1","%_2","%_3","%_4","%_5","%_6"]
[11,1957,21,1966,21,1971,null,null,null,null,0,122,null,null,"target sequence",{"$f":"$G$3","v":122},{"$f":"$G$3","v":122},{"$f":"$G$3","v":122},{"$f":"$G$3","v":122},{"$f":"$G$3","v":122},{"$f":"$G$3","v":122}]
[11,2064,21,2071,21,2078,null,null,null,null,0,122,null,null,"total reinforcement",{"$f":"U10","v":4},{"$f":"Z10","v":6},{"$f":"AE10","v":7},{"$f":"AJ10","v":7},{"$f":"AO10","v":8},{"$f":"AT10","v":8}]
[22,2217,23,2221,23,2229,null,null,null,null,0,222,null,null,"% target"]
[11,2325,12,2332,23,2342,null,null,null,null,0,112,null,null,"CCRF"]
[11,2437,21,2445,21,2449,null,null,null,null,0,122,null,null,"% CCRf"]
[22,2581,23,2585,23,2591,null,null,null,null,0,222,null,null,"average response rate",{"$f":"F17/P20","v":115.09090909090909},{"$f":"(F28-F17)/Q20","v":120.45454545454545},{"$f":"(F39-F28)/R20","v":120.18181818181819},{"$f":"(F50-F39)/S20","v":124.81818181818181},{"$f":"(F61-F50)/T20","v":132},{"$f":"(F72-F61)/U20","v":142.63636363636363}]
[22,2695,23,2698,23,2712,null,null,null,null,0,222]
[11,2809,21,2821,21,2829,null,null,null,null,0,122]
[11,2922,21,2931,21,2935,null,null,null,null,0,122]
[22,3048,23,3055,23,3061,null,null,null,null,0,222]
[11,3158,21,3165,21,3176,null,null,null,null,0,122]
[11,3314,21,3322,21,3345,null,null,null,null,0,122]
[22,3447,23,3451,23,3458,null,null,null,null,0,222]
[11,3555,21,3573,21,3580,null,null,null,null,0,122]
[11,3678,21,3686,21,3688,null,null,null,null,0,122]
[22,3790,23,3797,23,3804,null,null,null,null,0,222]
[11,3901,21,3909,21,3913,null,null,null,null,0,122]
[11,4005,21,4015,21,4023,null,null,null,null,0,122]
[22,4138,23,4142,23,4152,null,null,null,null,0,222]
[11,4246,21,4258,21,4272,null,null,null,null,0,122]
[11,4365,21,4373,21,4385,null,null,null,null,0,122]
[11,4478,21,4486,21,4489,null,null,null,null,0,122]
[22,4634,23,4642,23,4651,null,null,null,null,0,222]
[22,4755,23,4764,23,4773,null,null,null,null,0,222]
[11,4871,21,4880,21,4884,null,null,null,null,0,122]
[11,4984,21,4996,21,5011,null,null,null,null,0,122]
[22,5132,23,5157,23,5167,null,null,null,null,0,222]
[11,5261,21,5281,21,5286,null,null,null,null,0,122]
[11,5382,21,5393,21,5400,null,null,null,null,0,122]
[11,5513,12,5523,23,5531,null,null,null,null,0,112]
[11,5629,21,5639,21,5646,null,null,null,null,0,122]
[11,5755,21,5764,21,5780,null,null,null,null,0,122]
[22,5897,23,5901,23,5906,null,null,null,null,0,222]
[11,6004,21,6012,21,6026,null,null,null,null,0,122]
[11,6136,21,6146,21,6164,null,null,null,null,0,122]
[11,6278,21,6287,21,6294,null,null,null,null,0,122]
[22,6467,23,6473,23,6505,null,null,null,null,0,222]
[11,6602,21,6611,21,6615,null,null,null,null,0,122]
[11,6724,21,6732,21,6738,null,null,null,null,0,122]
[22,6883,23,6888,23,6896,null,null,null,null,0,222]
[11,6992,21,7029,21,7043,null,null,null,null,0,122]
[11,7133,21,7144,21,7150,null,null,null,null,0,122]
[11,7303,21,7312,21,7319,null,null,null,null,0,122]
[11,7457,21,7501,21,7515,null,null,null,null,0,122]
[11,7621,21,7630,21,7638,null,null,null,null,0,122]
[11,7779,12,7784,23,7822,null,null,null,null,0,112]
[11,7914,12,7922,23,7931,null,null,null,null,0,112]
[11,8028,21,8036,21,8055,null,null,null,null,0,122]
[11,8148,21,8158,21,8165,null,null,null,null,0,122]
[11,8268,21,8279,21,8307,null,null,null,null,1,122]

{"sheet":"!LB01944..Is","index":22,"n_rows":96,"n_cols":48,"rows_kept":96,"cut":false,"hidden":false,"merged":[[4,39,4,42],[5,39,5,40],[4,44,4,47],[5,44,5,45],[4,24,4,27],[5,24,5,25],[4,29,4,32],[5,29,5,30],[4,34,4,37],[5,34,5,35],[1,1,1,2],[5,13,5,14],[18,13,18,14],[19,13,19,14],[4,19,4,22],[5,19,5,20]]}
["Report for:!LB01944..Is"]
["Date:","<date>"]
["Hen:","<hen>",null,null,null,"Correct Sequence",{"$f":"Start!J2","v":122},null,null,null,null,null,null,null,null,"Total Sequences in Data",{"$f":"4994-COUNTBLANK(L7:L5000)","v":90},null,null,null,null,"Total Sequences in Block Data",{"$f":"COUNTA(L7:L21)","v":15},null,null,null,"Total Sequences in Block Data",{"$f":"COUNTA(L22:L36)","v":15},null,null,null,"Total Sequences in Block Data",{"$f":"COUNTA(L37:L51)","v":15},null,null,null,"Total Sequences in Block Data",{"$f":"COUNTA(L52:L66)","v":15},null,null,null,"Total Sequences in Block Data",{"$f":"COUNTA(L67:L81)","v":15},null,null,null,"Total Sequences in Block Data",{"$f":"COUNTA(L82:L96)","v":15}]
[null,null,null,null,null,null,null,null,null,null,null,null,null,null,null,"Total Sequences in Summary",{"$f":"SUM(O7:O14)","v":90},null,null,null,null,"Total Sequences in Block Summary",{"$f":"SUM(U7:U14)","v":15},null,null,null,"Total Sequences in Block Summary",{"$f":"SUM(Z7:Z14)","v":15},null,null,null,"Total Sequences in Block Summary",{"$f":"SUM(AE7:AE14)","v":15},null,null,null,"Total Sequences in Block Summary",{"$f":"SUM(AJ7:AJ14)","v":15},null,null,null,"Total Sequences in Block Summary",{"$f":"SUM(AO7:AO14)","v":15},null,null,null,"Total Sequences in Block Summary",{"$f":"SUM(AT7:AT14)","v":15}]
[null,null,null,null,null,null,null,null,null,null,null,null,null,null,null,null,null,null,null,"Block 1",null,null,null,null,"Block 2",null,null,null,null,"Block 3",null,null,null,null,"Block 4",null,null,null,null,"Block 5",null,null,null,null,"Block 6"]
["Sequence\nComponent\n1","Time\n1","Sequence\nComponent\n2","Time\n2","Sequence\nComponent\n3","Time\n3","Sequence\nComponent\n4","Time\n4","Sequence\nComponent\n5","Time\n5","Correct?\n0=No 1=Yes","Sequence",null,"Frequency",null,"Relative Frequency","Variability",null,null,"Frequency",null,"Relative Frequency","Variability",null,"Frequency",null,"Relative Frequency","Variability",null,"Frequency",null,"Relative Frequency","Variability",null,"Frequency",null,"Relative Frequency","Variability",null,"Frequency",null,"Relative Frequency","Variability",null,"Frequency",null,"Relative Frequency","Variability"]
[22,21,23,26,23,33,null,null,null,null,0,222,null,111,{"$f":"COUNTIF($L$7:$L$500,N7)","v":5},{"$f":"O7/$Q$4","v":5.5555555555555552E-2},{"$f":"IF(P7=0,0,(P7*((LOG(P7))/LOG(2))))","v":-0.23166250008012845},null,null,{"$f":"N7","v":111},{"$f":"COUNTIF(L7:L21,T7)","v":0},{"$f":"U7/(W4-U10)","v":0},{"$f":"IF(V7=0,0,(V7*((LOG(V7))/LOG(2))))","v":0},null,{"$f":"N7","v":111},{"$f":"COUNTIF(L22:L36,Y7)","v":0},{"$f":"Z7/(AB4-Z10)","v":0},{"$f":"IF(AA7=0,0,(AA7*((LOG(AA7))/LOG(2))))","v":0},null,{"$f":"N7","v":111},{"$f":"COUNTIF(L37:L51,AD7)","v":2},{"$f":"AE7/(AG4-AE10)","v":0.18181818181818182},{"$f":"IF(AF7=0,0,(AF7*((LOG(AF7))/LOG(2))))","v":-0.44716938520678134},null,{"$f":"N7","v":111},{"$f":"COUNTIF(L52:L66,AI7)","v":1},{"$f":"AJ7/(AL4-AJ10)","v":0.125},{"$f":"IF(AK7=0,0,(AK7*((LOG(AK7))/LOG(2))))","v":-0.375},null,{"$f":"N7","v":111},{"$f":"COUNTIF(L67:L81,AN7)","v":2},{"$f":"AO7/(AQ4-AO10)","v":0.25},{"$f":"IF(AP7=0,0,(AP7*((LOG(AP7))/LOG(2))))","v":-0.5},null,{"$f":"N7","v":111},{"$f":"COUNTIF(L82:L96,AS7)","v":0},{"$f":"AT7/(AV4-AT10)","v":0},{"$f":"IF(AU7=0,0,(AU7*((LOG(AU7))/LOG(2))))","v":0}]
[11,129,21,139,21,145,null,null,null,null,0,122,null,112,{"$f":"COUNTIF($L$7:$L$500,N8)","v":36},{"$f":"O8/$Q$4","v":0.4},{"$f":"IF(P8=0,0,(P8*((LOG(P8))/LOG(2))))","v":-0.52877123795494496},null,null,{"$f":"N8","v":112},{"$f":"COUNTIF(L7:L21,T8)","v":2},{"$f":"U8/(W4-U10)","v":0.33333333333333331},{"$f":"IF(V8=0,0,(V8*((LOG(V8))/LOG(2))))","v":-0.52832083357371862},null,{"$f":"N8","v":112},{"$f":"COUNTIF(L22:L36,Y8)","v":7},{"$f":"Z8/(AB4-Z10)","v":0.875},{"$f":"IF(AA8=0,0,(AA8*((LOG(AA8))/LOG(2))))","v":-0.1685644431995964},null,{"$f":"N8","v":112},{"$f":"COUNTIF(L37:L51,AD8)","v":7},{"$f":"AE8/(AG4-AE10)","v":0.63636363636363635},{"$f":"IF(AF8=0,0,(AF8*((LOG(AF8))/LOG(2))))","v":-0.41495789782344106},null,{"$f":"N8","v":112},{"$f":"COUNTIF(L52:L66,AI8)","v":7},{"$f":"AJ8/(AL4-AJ10)","v":0.875},{"$f":"IF(AK8=0,0,(AK8*((LOG(AK8))/LOG(2))))","v":-0.1685644431995964},null,{"$f":"N8","v":112},{"$f":"COUNTIF(L67:L81,AN8)","v":5},{"$f":"AO8/(AQ4-AO10)","v":0.625},{"$f":"IF(AP8=0,0,(AP8*((LOG(AP8))/LOG(2))))","v":-0.42379494069539858},null,{"$f":"N8","v":112},{"$f":"COUNTIF(L82:L96,AS8)","v":8},{"$f":"AT8/(AV4-AT10)","v":0.88888888888888884},{"$f":"IF(AU8=0,0,(AU8*((LOG(AU8))/LOG(2))))","v":-0.15104444572649992}]
[11,241,21,248,21,252,null,null,null,null,0,122,null,121,{"$f":"COUNTIF($L$7:$L$500,N9)","v":0},{"$f":"O9/$Q$4","v":0},{"$f":"IF(P9=0,0,(P9*((LOG(P9))/LOG(2))))","v":0},null,null,{"$f":"N9","v":121},{"$f":"COUNTIF(L7:L21,T9)","v":0},{"$f":"U9/(W4-U10)","v":0},{"$f":"IF(V9=0,0,(V9*((LOG(V9))/LOG(2))))","v":0},null,{"$f":"N9","v":121},{"$f":"COUNTIF(L22:L36,Y9)","v":0},{"$f":"Z9/(AB4-Z10)","v":0},{"$f":"IF(AA9=0,0,(AA9*((LOG(AA9))/LOG(2))))","v":0},null,{"$f":"N9","v":121},{"$f":"COUNTIF(L37:L51,AD9)","v":0},{"$f":"AE9/(AG4-AE10)","v":0},{"$f":"IF(AF9=0,0,(AF9*((LOG(AF9))/LOG(2))))","v":0},null,{"$f":"N9","v":121},{"$f":"COUNTIF(L52:L66,AI9)","v":0},{"$f":"AJ9/(AL4-AJ10)","v":0},{"$f":"IF(AK9=0,0,(AK9*((LOG(AK9))/LOG(2))))","v":0},null,{"$f":"N9","v":121},{"$f":"COUNTIF(L67:L81,AN9)","v":0},{"$f":"AO9/(AQ4-AO10)","v":0},{"$f":"IF(AP9=0,0,(AP9*((LOG(AP9))/LOG(2))))","v":0},null,{"$f":"N9","v":121},{"$f":"COUNTIF(L82:L96,AS9)","v":0},{"$f":"AT9/(AV4-AT10)","v":0},{"$f":"IF(AU9=0,0,(AU9*((LOG(AU9))/LOG(2))))","v":0}]
[22,380,23,384,23,390,null,null,null,null,0,222,null,122,{"$f":"COUNTIF($L$7:$L$500,N10)","v":40},{"$f":"O10/$Q$4","v":0.44444444444444442},{"$f":"IF(P10=0,0,(P10*((LOG(P10))/LOG(2))))","v":-0.51996666730769447},null,null,{"$f":"N10","v":122},{"$f":"COUNTIF(L7:L21,T10)","v":9},null,null,null,{"$f":"N10","v":122},{"$f":"COUNTIF(L22:L36,Y10)","v":7},null,null,null,{"$f":"N10","v":122},{"$f":"COUNTIF(L37:L51,AD10)","v":4},null,null,null,{"$f":"N10","v":122},{"$f":"COUNTIF(L52:L66,AI10)","v":7},null,null,null,{"$f":"N10","v":122},{"$f":"COUNTIF(L67:L81,AN10)","v":7},null,null,null,{"$f":"N10","v":122},{"$f":"COUNTIF(L82:L96,AS10)","v":6}]
[11,487,21,495,21,500,null,null,null,null,0,122,null,211,{"$f":"COUNTIF($L$7:$L$500,N11)","v":0},{"$f":"O11/$Q$4","v":0},{"$f":"IF(P11=0,0,(P11*((LOG(P11))/LOG(2))))","v":0},null,null,{"$f":"N11","v":211},{"$f":"COUNTIF(L7:L21,T11)","v":0},{"$f":"U11/(W4-U10)","v":0},{"$f":"IF(V11=0,0,(V11*((LOG(V11))/LOG(2))))","v":0},null,{"$f":"N11","v":211},{"$f":"COUNTIF(L22:L36,Y11)","v":0},{"$f":"Z11/(AB4-Z10)","v":0},{"$f":"IF(AA11=0,0,(AA11*((LOG(AA11))/LOG(2))))","v":0},null,{"$f":"N11","v":211},{"$f":"COUNTIF(L37:L51,AD11)","v":0},{"$f":"AE11/(AG4-AE10)","v":0},{"$f":"IF(AF11=0,0,(AF11*((LOG(AF11))/LOG(2))))","v":0},null,{"$f":"N11","v":211},{"$f":"COUNTIF(L52:L66,AI11)","v":0},{"$f":"AJ11/(AL4-AJ10)","v":0},{"$f":"IF(AK11=0,0,(AK11*((LOG(AK11))/LOG(2))))","v":0},null,{"$f":"N11","v":211},{"$f":"COUNTIF(L67:L81,AN11)","v":0},{"$f":"AO11/(AQ4-AO10)","v":0},{"$f":"IF(AP11=0,0,(AP11*((LOG(AP11))/LOG(2))))","v":0},null,{"$f":"N11","v":211},{"$f":"COUNTIF(L82:L96,AS11)","v":0},{"$f":"AT11/(AV4-AT10)","v":0},{"$f":"IF(AU11=0,0,(AU11*((LOG(AU11))/LOG(2))))","v":0}]
[22,609,23,621,23,629,null,null,null,null,0,222,null,212,{"$f":"COUNTIF($L$7:$L$500,N12)","v":0},{"$f":"O12/$Q$4","v":0},{"$f":"IF(P12=0,0,(P12*((LOG(P12))/LOG(2))))","v":0},null,null,{"$f":"N12","v":212},{"$f":"COUNTIF(L7:L21,T12)","v":0},{"$f":"U12/(W4-U10)","v":0},{"$f":"IF(V12=0,0,(V12*((LOG(V12))/LOG(2))))","v":0},null,{"$f":"N12","v":212},{"$f":"COUNTIF(L22:L36,Y12)","v":0},{"$f":"Z12/(AB4-Z10)","v":0},{"$f":"IF(AA12=0,0,(AA12*((LOG(AA12))/LOG(2))))","v":0},null,{"$f":"N12","v":212},{"$f":"COUNTIF(L37:L51,AD12)","v":0},{"$f":"AE12/(AG4-AE10)","v":0},{"$f":"IF(AF12=0,0,(AF12*((LOG(AF12))/LOG(2))))","v":0},null,{"$f":"N12","v":212},{"$f":"COUNTIF(L52:L66,AI12)","v":0},{"$f":"AJ12/(AL4-AJ10)","v":0},{"$f":"IF(AK12=0,0,(AK12*((LOG(AK12))/LOG(2))))","v":0},null,{"$f":"N12","v":212},{"$f":"COUNTIF(L67:L81,AN12)","v":0},{"$f":"AO12/(AQ4-AO10)","v":0},{"$f":"IF(AP12=0,0,(AP12*((LOG(AP12))/LOG(2))))","v":0},null,{"$f":"N12","v":212},{"$f":"COUNTIF(L82:L96,AS12)","v":0},{"$f":"AT12/(AV4-AT10)","v":0},{"$f":"IF(AU12=0,0,(AU12*((LOG(AU12))/LOG(2))))","v":0}]
[11,725,21,734,21,738,null,null,null,null,0,122,null,221,{"$f":"COUNTIF($L$7:$L$500,N13)","v":0},{"$f":"O13/$Q$4","v":0},{"$f":"IF(P13=0,0,(P13*((LOG(P13))/LOG(2))))","v":0},null,null,{"$f":"N13","v":221},{"$f":"COUNTIF(L7:L21,T13)","v":0},{"$f":"U13/(W4-U10)","v":0},{"$f":"IF(V13=0,0,(V13*((LOG(V13))/LOG(2))))","v":0},null,{"$f":"N13","v":221},{"$f":"COUNTIF(L22:L36,Y13)","v":0},{"$f":"Z13/(AB4-Z10)","v":0},{"$f":"IF(AA13=0,0,(AA13*((LOG(AA13))/LOG(2))))","v":0},null,{"$f":"N13","v":221},{"$f":"COUNTIF(L37:L51,AD13)","v":0},{"$f":"AE13/(AG4-AE10)","v":0},{"$f":"IF(AF13=0,0,(AF13*((LOG(AF13))/LOG(2))))","v":0},null,{"$f":"N13","v":221},{"$f":"COUNTIF(L52:L66,AI13)","v":0},{"$f":"AJ13/(AL4-AJ10)","v":0},{"$f":"IF(AK13=0,0,(AK13*((LOG(AK13))/LOG(2))))","v":0},null,{"$f":"N13","v":221},{"$f":"COUNTIF(L67:L81,AN13)","v":0},{"$f":"AO13/(AQ4-AO10)","v":0},{"$f":"IF(AP13=0,0,(AP13*((LOG(AP13))/LOG(2))))","v":0},null,{"$f":"N13","v":221},{"$f":"COUNTIF(L82:L96,AS13)","v":0},{"$f":"AT13/(AV4-AT10)","v":0},{"$f":"IF(AU13=0,0,(AU13*((LOG(AU13))/LOG(2))))","v":0}]
[11,840,21,852,21,863,null,null,null,null,0,122,null,222,{"$f":"COUNTIF($L$7:$L$500,N14)","v":9},{"$f":"O14/$Q$4","v":0.1},{"$f":"IF(P14=0,0,(P14*((LOG(P14))/LOG(2))))","v":-0.33219280948873625},null,null,{"$f":"N14","v":222},{"$f":"COUNTIF(L7:L21,T14)","v":4},{"$f":"U14/(W4-U10)","v":0.66666666666666663},{"$f":"IF(V14=0,0,(V14*((LOG(V14))/LOG(2))))","v":-0.38997500048077083},null,{"$f":"N14","v":222},{"$f":"COUNTIF(L22:L36,Y14)","v":1},{"$f":"Z14/(AB4-Z10)","v":0.125},{"$f":"IF(AA14=0,0,(AA14*((LOG(AA14))/LOG(2))))","v":-0.375},null,{"$f":"N14","v":222},{"$f":"COUNTIF(L37:L51,AD14)","v":2},{"$f":"AE14/(AG4-AE10)","v":0.18181818181818182},{"$f":"IF(AF14=0,0,(AF14*((LOG(AF14))/LOG(2))))","v":-0.44716938520678134},null,{"$f":"N14","v":222},{"$f":"COUNTIF(L52:L66,AI14)","v":0},{"$f":"AJ14/(AL4-AJ10)","v":0},{"$f":"IF(AK14=0,0,(AK14*((LOG(AK14))/LOG(2))))","v":0},null,{"$f":"N14","v":222},{"$f":"COUNTIF(L67:L81,AN14)","v":1},{"$f":"AO14/(AQ4-AO10)","v":0.125},{"$f":"IF(AP14=0,0,(AP14*((LOG(AP14))/LOG(2))))","v":-0.375},null,{"$f":"N14","v":222},{"$f":"COUNTIF(L82:L96,AS14)","v":1},{"$f":"AT14/(AV4-AT10)","v":0.1111111111111111},{"$f":"IF(AU14=0,0,(AU14*((LOG(AU14))/LOG(2))))","v":-0.3522138890491458}]
[22,985,23,995,23,1003,null,null,null,null,0,222,null,null,null,{"$f":"SUM(P7:P14)","v":1},{"$f":"-SUM(Q7:Q14)","v":1.6125932148315043},null,null,null,null,{"$f":"SUM(V7:V14)","v":1},{"$f":"-SUM(W7:W14)","v":0.91829583405448945},null,null,null,{"$f":"SUM(AA7:AA14)","v":1},{"$f":"-SUM(AB7:AB14)","v":0.5435644431995964},null,null,null,{"$f":"SUM(AF7:AF14)","v":1},{"$f":"-SUM(AG7:AG14)","v":1.3092966682370037},null,null,null,{"$f":"SUM(AK7:AK14)","v":1},{"$f":"-SUM(AL7:AL14)","v":0.5435644431995964},null,null,null,{"$f":"SUM(AP7:AP14)","v":1},{"$f":"-SUM(AQ7:AQ14)","v":1.2987949406953985},null,null,null,{"$f":"SUM(AU7:AU14)","v":1},{"$f":"-SUM(AV7:AV14)","v":0.50325833477564574}]
[11,1099,12,1105,23,1113,null,null,null,null,0,112,null,null,null,"U=",{"$f":"Q15/(LOG(Q4)/LOG(2))","v":0.24840260414136953},null,null,null,null,"U1=",{"$f":"W15/(LOG(W4)/LOG(2))","v":0.23504518787566922},null,null,null,"U2=",{"$f":"AB15/(LOG(AB4)/LOG(2))","v":0.13912968123821584},null,null,null,"U3=",{"$f":"AG15/(LOG(AG4)/LOG(2))","v":0.33512498909201577},null,null,null,"U4=",{"$f":"AL15/(LOG(AL4)/LOG(2))","v":0.13912968123821584},null,null,null,"U5=",{"$f":"AQ15/(LOG(AQ4)/LOG(2))","v":0.33243698765337565},null,null,null,"U6=",{"$f":"AV15/(LOG(AV4)/LOG(2))","v":0.12881300933825116}]
[11,1210,21,1220,21,1224,null,null,null,null,0,122]
[11,1318,21,1332,21,1346,null,null,null,null,0,122]
[11,1437,21,1451,21,1456,null,null,null,null,0,122,null,"Total Target Seq"]
[11,1550,21,1570,21,1579,null,null,null,null,0,122,null,{"$f":"COUNTIF(L7:L96,G3)","v":40},null,15,15,15,15,15,15]
[11,1688,12,1700,23,1710,null,null,null,null,0,112,null,null,null,"% of reinforcement given in 6 equal intervals based on number of trials "]
[11,1805,12,1813,23,1822,null,null,null,null,0,112,null,null,null,"%_1","%_2","%_3","%_4","%_5","%_6"]
[11,1919,12,1925,23,1940,null,null,null,null,0,112,null,null,"target sequence",{"$f":"$G$3","v":122},{"$f":"$G$3","v":122},{"$f":"$G$3","v":122},{"$f":"$G$3","v":122},{"$f":"$G$3","v":122},{"$f":"$G$3","v":122}]
[11,2036,21,2048,21,2061,null,null,null,null,0,122,null,null,"total reinforcement",{"$f":"U10","v":9},{"$f":"Z10","v":7},{"$f":"AE10","v":4},{"$f":"AJ10","v":7},{"$f":"AO10","v":7},{"$f":"AT10","v":6}]
[11,2154,12,2161,23,2171,null,null,null,null,0,112,null,null,"% target"]
[11,2266,21,2277,21,2281,null,null,null,null,0,122,null,null,"CCRF"]
[22,2387,23,2390,23,2400,null,null,null,null,0,222,null,null,"% CCRf"]
[11,2494,12,2499,23,2507,null,null,null,null,0,112,null,null,"average response rate",{"$f":"F21/P20","v":114},{"$f":"(F36-F21)/Q20","v":115.8},{"$f":"(F51-F36)/R20","v":115.53333333333333},{"$f":"(F66-F51)/S20","v":118.66666666666667},{"$f":"(F81-F66)/T20","v":121.86666666666666},{"$f":"(F96-F81)/U20","v":117.26666666666667}]
[11,2601,21,2610,21,2617,null,null,null,null,0,122]
[11,2716,21,2729,21,2740,null,null,null,null,0,122]
[11,2850,21,2865,21,2868,null,null,null,null,0,122]
[11,2989,12,2994,23,3003,null,null,null,null,0,112]
[11,3099,21,3107,21,3112,null,null,null,null,0,122]
[11,3203,12,3212,23,3230,null,null,null,null,0,112]
[11,3326,12,3330,23,3339,null,null,null,null,0,112]
[11,3434,21,3444,21,3447,null,null,null,null,0,122]
[11,3572,12,3580,14,3584,null,null,null,null,0,111]
[11,3678,12,3682,23,3690,null,null,null,null,0,112]
[11,3785,21,3799,21,3806,null,null,null,null,0,122]
[11,3898,12,3903,23,3924,null,null,null,null,0,112]
[11,4020,12,4022,14,4026,null,null,null,null,0,111]
[22,4130,23,4133,23,4139,null,null,null,null,0,222]
[11,4234,12,4241,23,4250,null,null,null,null,0,112]
[11,4346,12,4350,23,4361,null,null,null,null,0,112]
[11,4457,12,4464,23,4472,null,null,null,null,0,112]
[11,4584,21,4596,21,4605,null,null,null,null,0,122]
[11,4698,12,4703,23,4714,null,null,null,null,0,112]
[11,4811,12,4815,23,4824,null,null,null,null,0,112]
[22,4930,23,4933,23,4945,null,null,null,null,0,222]
[11,5044,21,5052,21,5059,null,null,null,null,0,122]
[11,5165,21,5175,21,5180,null,null,null,null,0,122]
[11,5283,12,5288,23,5298,null,null,null,null,0,112]
[11,5396,21,5409,21,5415,null,null,null,null,0,122]
[11,5544,21,5556,21,5562,null,null,null,null,0,122]
[11,5653,12,5662,23,5671,null,null,null,null,0,112]
[11,5766,12,5775,23,5784,null,null,null,null,0,112]
[11,5879,21,5888,21,5900,null,null,null,null,0,122]
[11,6001,21,6009,21,6014,null,null,null,null,0,122]
[11,6135,12,6142,23,6156,null,null,null,null,0,112]
[11,6251,12,6265,23,6273,null,null,null,null,0,112]
[11,6370,12,6376,23,6384,null,null,null,null,0,112]
[11,6479,21,6491,21,6495,null,null,null,null,0,122]
[11,6584,21,6596,21,6600,null,null,null,null,0,122]
[11,6694,21,6707,21,6718,null,null,null,null,0,122]
[11,6817,12,6824,23,6855,null,null,null,null,0,112]
[11,6952,12,6956,14,6960,null,null,null,null,0,111]
[11,7065,12,7069,23,7081,null,null,null,null,0,112]
[11,7177,21,7187,21,7191,null,null,null,null,0,122]
[11,7285,12,7290,14,7294,null,null,null,null,0,111]
[11,7403,21,7415,21,7419,null,null,null,null,0,122]
[11,7518,21,7527,21,7532,null,null,null,null,0,122]
[11,7641,12,7643,14,7649,null,null,null,null,0,111]
[11,7756,21,7765,21,7780,null,null,null,null,0,122]
[22,7918,23,7942,23,7953,null,null,null,null,0,222]
[11,8049,12,8054,23,8062,null,null,null,null,0,112]
[11,8159,21,8168,21,8182,null,null,null,null,0,122]
[11,8296,21,8304,21,8308,null,null,null,null,0,122]
[11,8405,12,8411,23,8426,null,null,null,null,0,112]
[11,8522,12,8527,23,8536,null,null,null,null,0,112]
[11,8631,12,8637,23,8677,null,null,null,null,0,112]
[11,8775,21,8784,21,8788,null,null,null,null,0,122]
[11,8900,12,8906,23,8917,null,null,null,null,0,112]
[11,9015,21,9022,21,9026,null,null,null,null,0,122]
[22,9139,23,9142,23,9148,null,null,null,null,0,222]
[11,9281,21,9293,21,9312,null,null,null,null,0,122]
[11,9436,12,9441,23,9451,null,null,null,null,0,112]
[11,9546,21,9557,21,9561,null,null,null,null,0,122]
[11,9660,12,9666,23,9676,null,null,null,null,0,112]
[11,9770,12,9773,23,9781,null,null,null,null,0,112]
[11,9875,21,9885,21,9888,null,null,null,null,0,122]
[11,9986,12,9992,23,10002,null,null,null,null,0,112]
[11,10097,12,10103,23,10112,null,null,null,null,0,112]
[11,10203,12,10207,23,10216,null,null,null,null,0,112]
[11,10311,21,10320,21,10326,null,null,null,null,0,122]
[11,10420,12,10429,23,10437,null,null,null,null,0,112]
[11,10532,21,10543,21,10547,null,null,null,null,1,122]

{"sheet":"!LB02A14..Is","index":23,"n_rows":85,"n_cols":48,"rows_kept":85,"cut":false,"hidden":false,"merged":[[4,39,4,42],[5,39,5,40],[4,44,4,47],[5,44,5,45],[4,24,4,27],[5,24,5,25],[4,29,4,32],[5,29,5,30],[4,34,4,37],[5,34,5,35],[1,1,1,2],[5,13,5,14],[18,13,18,14],[19,13,19,14],[4,19,4,22],[5,19,5,20]]}
["Report for:!LB02A14..Is"]
["Date:","<date>"]
["Hen:","<hen>",null,null,null,"Correct Sequence",{"$f":"Start!J2","v":122},null,null,null,null,null,null,null,null,"Total Sequences in Data",{"$f":"4994-COUNTBLANK(L7:L5000)","v":79},null,null,null,null,"Total Sequences in Block Data",{"$f":"COUNTA(L7:L19)","v":13},null,null,null,"Total Sequences in Block Data",{"$f":"COUNTA(L20:L32)","v":13},null,null,null,"Total Sequences in Block Data",{"$f":"COUNTA(L33:L46)","v":14},null,null,null,"Total Sequences in Block Data",{"$f":"COUNTA(L47:L59)","v":13},null,null,null,"Total Sequences in Block Data",{"$f":"COUNTA(L60:L72)","v":13},null,null,null,"Total Sequences in Block Data",{"$f":"COUNTA(L73:L85)","v":13}]
[null,null,null,null,null,null,null,null,null,null,null,null,null,null,null,"Total Sequences in Summary",{"$f":"SUM(O7:O14)","v":79},null,null,null,null,"Total Sequences in Block Summary",{"$f":"SUM(U7:U14)","v":13},null,null,null,"Total Sequences in Block Summary",{"$f":"SUM(Z7:Z14)","v":13},null,null,null,"Total Sequences in Block Summary",{"$f":"SUM(AE7:AE14)","v":14},null,null,null,"Total Sequences in Block Summary",{"$f":"SUM(AJ7:AJ14)","v":13},null,null,null,"Total Sequences in Block Summary",{"$f":"SUM(AO7:AO14)","v":13},null,null,null,"Total Sequences in Block Summary",{"$f":"SUM(AT7:AT14)","v":13}]
[null,null,null,null,null,null,null,null,null,null,null,null,null,null,null,null,null,null,null,"Block 1",null,null,null,null,"Block 2",null,null,null,null,"Block 3",null,null,null,null,"Block 4",null,null,null,null,"Block 5",null,null,null,null,"Block 6"]
["Sequence\nComponent\n1","Time\n1","Sequence\nComponent\n2","Time\n2","Sequence\nComponent\n3","Time\n3","Sequence\nComponent\n4","Time\n4","Sequence\nComponent\n5","Time\n5","Correct?\n0=No 1=Yes","Sequence",null,"Frequency",null,"Relative Frequency","Variability",null,null,"Frequency",null,"Relative Frequency","Variability",null,"Frequency",null,"Relative Frequency","Variability",null,"Frequency",null,"Relative Frequency","Variability",null,"Frequency",null,"Relative Frequency","Variability",null,"Frequency",null,"Relative Frequency","Variability",null,"Frequency",null,"Relative Frequency","Variability"]
[22,29,23,36,23,44,null,null,null,null,0,222,null,111,{"$f":"COUNTIF($L$7:$L$500,N7)","v":3},{"$f":"O7/$Q$4","v":3.7974683544303799E-2},{"$f":"IF(P7=0,0,(P7*((LOG(P7))/LOG(2))))","v":-0.17919562965022584},null,null,{"$f":"N7","v":111},{"$f":"COUNTIF(L7:L19,T7)","v":0},{"$f":"U7/(W4-U10)","v":0},{"$f":"IF(V7=0,0,(V7*((LOG(V7))/LOG(2))))","v":0},null,{"$f":"N7","v":111},{"$f":"COUNTIF(L20:L32,Y7)","v":1},{"$f":"Z7/(AB4-Z10)","v":0.16666666666666666},{"$f":"IF(AA7=0,0,(AA7*((LOG(AA7))/LOG(2))))","v":-0.43082708345352599},null,{"$f":"N7","v":111},{"$f":"COUNTIF(L33:L46,AD7)","v":0},{"$f":"AE7/(AG4-AE10)","v":0},{"$f":"IF(AF7=0,0,(AF7*((LOG(AF7))/LOG(2))))","v":0},null,{"$f":"N7","v":111},{"$f":"COUNTIF(L47:L59,AI7)","v":0},{"$f":"AJ7/(AL4-AJ10)","v":0},{"$f":"IF(AK7=0,0,(AK7*((LOG(AK7))/LOG(2))))","v":0},null,{"$f":"N7","v":111},{"$f":"COUNTIF(L60:L72,AN7)","v":1},{"$f":"AO7/(AQ4-AO10)","v":0.125},{"$f":"IF(AP7=0,0,(AP7*((LOG(AP7))/LOG(2))))","v":-0.375},null,{"$f":"N7","v":111},{"$f":"COUNTIF(L73:L85,AS7)","v":1},{"$f":"AT7/(AV4-AT10)","v":0.2},{"$f":"IF(AU7=0,0,(AU7*((LOG(AU7))/LOG(2))))","v":-0.46438561897747244}]
[11,139,21,147,21,152,null,null,null,null,0,122,null,112,{"$f":"COUNTIF($L$7:$L$500,N8)","v":29},{"$f":"O8/$Q$4","v":0.36708860759493672},{"$f":"IF(P8=0,0,(P8*((LOG(P8))/LOG(2))))","v":-0.53073661820805551},null,null,{"$f":"N8","v":112},{"$f":"COUNTIF(L7:L19,T8)","v":4},{"$f":"U8/(W4-U10)","v":0.66666666666666663},{"$f":"IF(V8=0,0,(V8*((LOG(V8))/LOG(2))))","v":-0.38997500048077083},null,{"$f":"N8","v":112},{"$f":"COUNTIF(L20:L32,Y8)","v":4},{"$f":"Z8/(AB4-Z10)","v":0.66666666666666663},{"$f":"IF(AA8=0,0,(AA8*((LOG(AA8))/LOG(2))))","v":-0.38997500048077083},null,{"$f":"N8","v":112},{"$f":"COUNTIF(L33:L46,AD8)","v":6},{"$f":"AE8/(AG4-AE10)","v":0.8571428571428571},{"$f":"IF(AF8=0,0,(AF8*((LOG(AF8))/LOG(2))))","v":-0.19062207543124113},null,{"$f":"N8","v":112},{"$f":"COUNTIF(L47:L59,AI8)","v":6},{"$f":"AJ8/(AL4-AJ10)","v":0.8571428571428571},{"$f":"IF(AK8=0,0,(AK8*((LOG(AK8))/LOG(2))))","v":-0.19062207543124113},null,{"$f":"N8","v":112},{"$f":"COUNTIF(L60:L72,AN8)","v":7},{"$f":"AO8/(AQ4-AO10)","v":0.875},{"$f":"IF(AP8=0,0,(AP8*((LOG(AP8))/LOG(2))))","v":-0.1685644431995964},null,{"$f":"N8","v":112},{"$f":"COUNTIF(L73:L85,AS8)","v":2},{"$f":"AT8/(AV4-AT10)","v":0.4},{"$f":"IF(AU8=0,0,(AU8*((LOG(AU8))/LOG(2))))","v":-0.52877123795494496}]
[11,244,21,253,21,268,null,null,null,null,0,122,null,121,{"$f":"COUNTIF($L$7:$L$500,N9)","v":0},{"$f":"O9/$Q$4","v":0},{"$f":"IF(P9=0,0,(P9*((LOG(P9))/LOG(2))))","v":0},null,null,{"$f":"N9","v":121},{"$f":"COUNTIF(L7:L19,T9)","v":0},{"$f":"U9/(W4-U10)","v":0},{"$f":"IF(V9=0,0,(V9*((LOG(V9))/LOG(2))))","v":0},null,{"$f":"N9","v":121},{"$f":"COUNTIF(L20:L32,Y9)","v":0},{"$f":"Z9/(AB4-Z10)","v":0},{"$f":"IF(AA9=0,0,(AA9*((LOG(AA9))/LOG(2))))","v":0},null,{"$f":"N9","v":121},{"$f":"COUNTIF(L33:L46,AD9)","v":0},{"$f":"AE9/(AG4-AE10)","v":0},{"$f":"IF(AF9=0,0,(AF9*((LOG(AF9))/LOG(2))))","v":0},null,{"$f":"N9","v":121},{"$f":"COUNTIF(L47:L59,AI9)","v":0},{"$f":"AJ9/(AL4-AJ10)","v":0},{"$f":"IF(AK9=0,0,(AK9*((LOG(AK9))/LOG(2))))","v":0},null,{"$f":"N9","v":121},{"$f":"COUNTIF(L60:L72,AN9)","v":0},{"$f":"AO9/(AQ4-AO10)","v":0},{"$f":"IF(AP9=0,0,(AP9*((LOG(AP9))/LOG(2))))","v":0},null,{"$f":"N9","v":121},{"$f":"COUNTIF(L73:L85,AS9)","v":0},{"$f":"AT9/(AV4-AT10)","v":0},{"$f":"IF(AU9=0,0,(AU9*((LOG(AU9))/LOG(2))))","v":0}]
[11,363,21,380,21,389,null,null,null,null,0,122,null,122,{"$f":"COUNTIF($L$7:$L$500,N10)","v":40},{"$f":"O10/$Q$4","v":0.50632911392405067},{"$f":"IF(P10=0,0,(P10*((LOG(P10))/LOG(2))))","v":-0.49714058394417238},null,null,{"$f":"N10","v":122},{"$f":"COUNTIF(L7:L19,T10)","v":7},null,null,null,{"$f":"N10","v":122},{"$f":"COUNTIF(L20:L32,Y10)","v":7},null,null,null,{"$f":"N10","v":122},{"$f":"COUNTIF(L33:L46,AD10)","v":7},null,null,null,{"$f":"N10","v":122},{"$f":"COUNTIF(L47:L59,AI10)","v":6},null,null,null,{"$f":"N10","v":122},{"$f":"COUNTIF(L60:L72,AN10)","v":5},null,null,null,{"$f":"N10","v":122},{"$f":"COUNTIF(L73:L85,AS10)","v":8}]
[22,512,23,526,23,541,null,null,null,null,0,222,null,211,{"$f":"COUNTIF($L$7:$L$500,N11)","v":0},{"$f":"O11/$Q$4","v":0},{"$f":"IF(P11=0,0,(P11*((LOG(P11))/LOG(2))))","v":0},null,null,{"$f":"N11","v":211},{"$f":"COUNTIF(L7:L19,T11)","v":0},{"$f":"U11/(W4-U10)","v":0},{"$f":"IF(V11=0,0,(V11*((LOG(V11))/LOG(2))))","v":0},null,{"$f":"N11","v":211},{"$f":"COUNTIF(L20:L32,Y11)","v":0},{"$f":"Z11/(AB4-Z10)","v":0},{"$f":"IF(AA11=0,0,(AA11*((LOG(AA11))/LOG(2))))","v":0},null,{"$f":"N11","v":211},{"$f":"COUNTIF(L33:L46,AD11)","v":0},{"$f":"AE11/(AG4-AE10)","v":0},{"$f":"IF(AF11=0,0,(AF11*((LOG(AF11))/LOG(2))))","v":0},null,{"$f":"N11","v":211},{"$f":"COUNTIF(L47:L59,AI11)","v":0},{"$f":"AJ11/(AL4-AJ10)","v":0},{"$f":"IF(AK11=0,0,(AK11*((LOG(AK11))/LOG(2))))","v":0},null,{"$f":"N11","v":211},{"$f":"COUNTIF(L60:L72,AN11)","v":0},{"$f":"AO11/(AQ4-AO10)","v":0},{"$f":"IF(AP11=0,0,(AP11*((LOG(AP11))/LOG(2))))","v":0},null,{"$f":"N11","v":211},{"$f":"COUNTIF(L73:L85,AS11)","v":0},{"$f":"AT11/(AV4-AT10)","v":0},{"$f":"IF(AU11=0,0,(AU11*((LOG(AU11))/LOG(2))))","v":0}]
[11,638,21,646,21,650,null,null,null,null,0,122,null,212,{"$f":"COUNTIF($L$7:$L$500,N12)","v":0},{"$f":"O12/$Q$4","v":0},{"$f":"IF(P12=0,0,(P12*((LOG(P12))/LOG(2))))","v":0},null,null,{"$f":"N12","v":212},{"$f":"COUNTIF(L7:L19,T12)","v":0},{"$f":"U12/(W4-U10)","v":0},{"$f":"IF(V12=0,0,(V12*((LOG(V12))/LOG(2))))","v":0},null,{"$f":"N12","v":212},{"$f":"COUNTIF(L20:L32,Y12)","v":0},{"$f":"Z12/(AB4-Z10)","v":0},{"$f":"IF(AA12=0,0,(AA12*((LOG(AA12))/LOG(2))))","v":0},null,{"$f":"N12","v":212},{"$f":"COUNTIF(L33:L46,AD12)","v":0},{"$f":"AE12/(AG4-AE10)","v":0},{"$f":"IF(AF12=0,0,(AF12*((LOG(AF12))/LOG(2))))","v":0},null,{"$f":"N12","v":212},{"$f":"COUNTIF(L47:L59,AI12)","v":0},{"$f":"AJ12/(AL4-AJ10)","v":0},{"$f":"IF(AK12=0,0,(AK12*((LOG(AK12))/LOG(2))))","v":0},null,{"$f":"N12","v":212},{"$f":"COUNTIF(L60:L72,AN12)","v":0},{"$f":"AO12/(AQ4-AO10)","v":0},{"$f":"IF(AP12=0,0,(AP12*((LOG(AP12))/LOG(2))))","v":0},null,{"$f":"N12","v":212},{"$f":"COUNTIF(L73:L85,AS12)","v":0},{"$f":"AT12/(AV4-AT10)","v":0},{"$f":"IF(AU12=0,0,(AU12*((LOG(AU12))/LOG(2))))","v":0}]
[11,743,12,748,23,757,null,null,null,null,0,112,null,221,{"$f":"COUNTIF($L$7:$L$500,N13)","v":0},{"$f":"O13/$Q$4","v":0},{"$f":"IF(P13=0,0,(P13*((LOG(P13))/LOG(2))))","v":0},null,null,{"$f":"N13","v":221},{"$f":"COUNTIF(L7:L19,T13)","v":0},{"$f":"U13/(W4-U10)","v":0},{"$f":"IF(V13=0,0,(V13*((LOG(V13))/LOG(2))))","v":0},null,{"$f":"N13","v":221},{"$f":"COUNTIF(L20:L32,Y13)","v":0},{"$f":"Z13/(AB4-Z10)","v":0},{"$f":"IF(AA13=0,0,(AA13*((LOG(AA13))/LOG(2))))","v":0},null,{"$f":"N13","v":221},{"$f":"COUNTIF(L33:L46,AD13)","v":0},{"$f":"AE13/(AG4-AE10)","v":0},{"$f":"IF(AF13=0,0,(AF13*((LOG(AF13))/LOG(2))))","v":0},null,{"$f":"N13","v":221},{"$f":"COUNTIF(L47:L59,AI13)","v":0},{"$f":"AJ13/(AL4-AJ10)","v":0},{"$f":"IF(AK13=0,0,(AK13*((LOG(AK13))/LOG(2))))","v":0},null,{"$f":"N13","v":221},{"$f":"COUNTIF(L60:L72,AN13)","v":0},{"$f":"AO13/(AQ4-AO10)","v":0},{"$f":"IF(AP13=0,0,(AP13*((LOG(AP13))/LOG(2))))","v":0},null,{"$f":"N13","v":221},{"$f":"COUNTIF(L73:L85,AS13)","v":0},{"$f":"AT13/(AV4-AT10)","v":0},{"$f":"IF(AU13=0,0,(AU13*((LOG(AU13))/LOG(2))))","v":0}]
[11,859,21,867,21,876,null,null,null,null,0,122,null,222,{"$f":"COUNTIF($L$7:$L$500,N14)","v":7},{"$f":"O14/$Q$4","v":8.8607594936708861E-2},{"$f":"IF(P14=0,0,(P14*((LOG(P14))/LOG(2))))","v":-0.30980988332704423},null,null,{"$f":"N14","v":222},{"$f":"COUNTIF(L7:L19,T14)","v":2},{"$f":"U14/(W4-U10)","v":0.33333333333333331},{"$f":"IF(V14=0,0,(V14*((LOG(V14))/LOG(2))))","v":-0.52832083357371862},null,{"$f":"N14","v":222},{"$f":"COUNTIF(L20:L32,Y14)","v":1},{"$f":"Z14/(AB4-Z10)","v":0.16666666666666666},{"$f":"IF(AA14=0,0,(AA14*((LOG(AA14))/LOG(2))))","v":-0.43082708345352599},null,{"$f":"N14","v":222},{"$f":"COUNTIF(L33:L46,AD14)","v":1},{"$f":"AE14/(AG4-AE10)","v":0.14285714285714285},{"$f":"IF(AF14=0,0,(AF14*((LOG(AF14))/LOG(2))))","v":-0.40105070315108626},null,{"$f":"N14","v":222},{"$f":"COUNTIF(L47:L59,AI14)","v":1},{"$f":"AJ14/(AL4-AJ10)","v":0.14285714285714285},{"$f":"IF(AK14=0,0,(AK14*((LOG(AK14))/LOG(2))))","v":-0.40105070315108626},null,{"$f":"N14","v":222},{"$f":"COUNTIF(L60:L72,AN14)","v":0},{"$f":"AO14/(AQ4-AO10)","v":0},{"$f":"IF(AP14=0,0,(AP14*((LOG(AP14))/LOG(2))))","v":0},null,{"$f":"N14","v":222},{"$f":"COUNTIF(L73:L85,AS14)","v":2},{"$f":"AT14/(AV4-AT10)","v":0.4},{"$f":"IF(AU14=0,0,(AU14*((LOG(AU14))/LOG(2))))","v":-0.52877123795494496}]
[11,985,12,991,23,998,null,null,null,null,0,112,null,null,null,{"$f":"SUM(P7:P14)","v":1},{"$f":"-SUM(Q7:Q14)","v":1.5168827151294979},null,null,null,null,{"$f":"SUM(V7:V14)","v":1},{"$f":"-SUM(W7:W14)","v":0.91829583405448945},null,null,null,{"$f":"SUM(AA7:AA14)","v":0.99999999999999989},{"$f":"-SUM(AB7:AB14)","v":1.2516291673878228},null,null,null,{"$f":"SUM(AF7:AF14)","v":1},{"$f":"-SUM(AG7:AG14)","v":0.59167277858232736},null,null,null,{"$f":"SUM(AK7:AK14)","v":1},{"$f":"-SUM(AL7:AL14)","v":0.59167277858232736},null,null,null,{"$f":"SUM(AP7:AP14)","v":1},{"$f":"-SUM(AQ7:AQ14)","v":0.5435644431995964},null,null,null,{"$f":"SUM(AU7:AU14)","v":1},{"$f":"-SUM(AV7:AV14)","v":1.5219280948873624}]
[11,1096,21,1105,21,1114,null,null,null,null,0,122,null,null,null,"U=",{"$f":"Q15/(LOG(Q4)/LOG(2))","v":0.24063062719434566},null,null,null,null,"U1=",{"$f":"W15/(LOG(W4)/LOG(2))","v":0.24815857141318151},null,null,null,"U2=",{"$f":"AB15/(LOG(AB4)/LOG(2))","v":0.33823795622228808},null,null,null,"U3=",{"$f":"AG15/(LOG(AG4)/LOG(2))","v":0.15540258018881267},null,null,null,"U4=",{"$f":"AL15/(LOG(AL4)/LOG(2))","v":0.15989255970897234},null,null,null,"U5=",{"$f":"AQ15/(LOG(AQ4)/LOG(2))","v":0.14689185194257259},null,null,null,"U6=",{"$f":"AV15/(LOG(AV4)/LOG(2))","v":0.41128303953344758}]
[11,1204,12,1211,23,1221,null,null,null,null,0,112]
[11,1316,12,1320,23,1332,null,null,null,null,0,112]
[11,1429,21,1444,21,1451,null,null,null,null,0,122,null,"Total Target Seq"]
[11,1595,21,1606,21,1615,null,null,null,null,0,122,null,{"$f":"COUNTIF(L7:L85,G3)","v":40},null,13,13,14,13,13,13]
[22,1757,23,1771,23,1780,null,null,null,null,0,222,null,null,null,"% of reinforcement given in 6 equal intervals based on number of trials "]
[11,1876,12,1883,23,1892,null,null,null,null,0,112,null,null,null,"%_1","%_2","%_3","%_4","%_5","%_6"]
[11,1988,21,1999,21,2002,null,null,null,null,0,122,null,null,"target sequence",{"$f":"$G$3","v":122},{"$f":"$G$3","v":122},{"$f":"$G$3","v":122},{"$f":"$G$3","v":122},{"$f":"$G$3","v":122},{"$f":"$G$3","v":122}]
[11,2092,21,2107,21,2111,null,null,null,null,0,122,null,null,"total reinforcement",{"$f":"U10","v":7},{"$f":"Z10","v":7},{"$f":"AE10","v":7},{"$f":"AJ10","v":6},{"$f":"AO10","v":5},{"$f":"AT10","v":8}]
[11,2227,12,2237,23,2251,null,null,null,null,0,112,null,null,"% target"]
[11,2347,12,2350,23,2360,null,null,null,null,0,112,null,null,"CCRF"]
[11,2456,21,2467,21,2471,null,null,null,null,0,122,null,null,"% CCRf"]
[11,2561,21,2572,21,2578,null,null,null,null,0,122,null,null,"average response rate",{"$f":"F19/P20","v":111.61538461538461},{"$f":"(F32-F19)/Q20","v":122},{"$f":"(F46-F32)/R20","v":126.5},{"$f":"(F59-F46)/S20","v":129.61538461538461},{"$f":"(F72-F59)/T20","v":125.38461538461539},{"$f":"(F85-F72)/U20","v":137.61538461538461}]
[11,2678,12,2683,14,2686,null,null,null,null,0,111]
[11,2782,21,2791,21,2794,null,null,null,null,0,122]
[11,2886,12,2890,23,2902,null,null,null,null,0,112]
[11,2997,21,3007,21,3037,null,null,null,null,0,122]
[11,3129,12,3133,23,3142,null,null,null,null,0,112]
[22,3249,23,3254,23,3272,null,null,null,null,0,222]
[11,3371,21,3379,21,3382,null,null,null,null,0,122]
[11,3476,21,3490,21,3496,null,null,null,null,0,122]
[11,3603,21,3639,21,3657,null,null,null,null,0,122]
[11,3747,21,3759,21,3762,null,null,null,null,0,122]
[11,3907,12,3914,23,3922,null,null,null,null,0,112]
[11,4020,21,4056,21,4067,null,null,null,null,0,122]
[11,4187,21,4194,21,4198,null,null,null,null,0,122]
[11,4339,21,4348,21,4353,null,null,null,null,0,122]
[11,4462,12,4467,23,4476,null,null,null,null,0,112]
[11,4573,12,4577,23,4584,null,null,null,null,0,112]
[11,4683,12,4692,23,4700,null,null,null,null,0,112]
[11,4796,12,4800,23,4808,null,null,null,null,0,112]
[11,4904,12,4909,23,4924,null,null,null,null,0,112]
[22,5031,23,5039,23,5048,null,null,null,null,0,222]
[11,5143,21,5152,21,5173,null,null,null,null,0,122]
[11,5264,21,5283,21,5302,null,null,null,null,0,122]
[11,5422,12,5428,23,5437,null,null,null,null,0,112]
[11,5556,12,5561,23,5571,null,null,null,null,0,112]
[11,5668,21,5701,21,5720,null,null,null,null,0,122]
[11,5815,12,5821,23,5830,null,null,null,null,0,112]
[11,5924,21,5979,21,5988,null,null,null,null,0,122]
[11,6091,21,6106,21,6116,null,null,null,null,0,122]
[11,6226,12,6242,23,6251,null,null,null,null,0,112]
[11,6348,12,6352,23,6383,null,null,null,null,0,112]
[11,6478,21,6489,21,6493,null,null,null,null,0,122]
[11,6588,12,6592,23,6616,null,null,null,null,0,112]
[11,6710,12,6714,23,6722,null,null,null,null,0,112]
[11,6817,12,6826,23,6834,null,null,null,null,0,112]
[11,6929,12,6933,23,6941,null,null,null,null,0,112]
[11,7077,12,7080,23,7089,null,null,null,null,0,112]
[11,7185,21,7202,21,7206,null,null,null,null,0,122]
[11,7299,21,7329,21,7345,null,null,null,null,0,122]
[11,7493,21,7500,21,7516,null,null,null,null,0,122]
[11,7615,12,7621,14,7624,null,null,null,null,0,111]
[11,7721,12,7727,23,7735,null,null,null,null,0,112]
[11,7838,21,7847,21,7872,null,null,null,null,0,122]
[11,7963,21,7971,21,7974,null,null,null,null,0,122]
[11,8105,12,8115,23,8123,null,null,null,null,0,112]
[11,8221,21,8236,21,8257,null,null,null,null,0,122]
[11,8353,21,8362,21,8370,null,null,null,null,0,122]
[11,8488,12,8493,23,8503,null,null,null,null,0,112]
[11,8598,21,8611,21,8620,null,null,null,null,0,122]
[11,8731,12,8735,14,8740,null,null,null,null,0,111]
[11,8926,21,8935,21,8945,null,null,null,null,0,122]
[11,9053,21,9060,21,9066,null,null,null,null,0,122]
[11,9184,12,9192,23,9199,null,null,null,null,0,112]
[22,9311,23,9331,23,9347,null,null,null,null,0,222]
[11,9444,21,9453,21,9460,null,null,null,null,0,122]
[11,9570,21,9611,21,9625,null,null,null,null,0,122]
[22,9750,23,9785,23,9804,null,null,null,null,0,222]
[11,9899,21,9908,21,9912,null,null,null,null,1,122]

{"sheet":"!LB03A14..Is","index":24,"n_rows":68,"n_cols":48,"rows_kept":68,"cut":false,"hidden":false,"merged":[[4,39,4,42],[5,39,5,40],[4,44,4,47],[5,44,5,45],[4,24,4,27],[5,24,5,25],[4,29,4,32],[5,29,5,30],[4,34,4,37],[5,34,5,35],[1,1,1,2],[5,13,5,14],[18,13,18,14],[19,13,19,14],[4,19,4,22],[5,19,5,20]]}
["Report for:!LB03A14..Is"]
["Date:","<date>"]
["Hen:","<hen>",null,null,null,"Correct Sequence",{"$f":"Start!J2","v":122},null,null,null,null,null,null,null,null,"Total Sequences in Data",{"$f":"4994-COUNTBLANK(L7:L5000)","v":62},null,null,null,null,"Total Sequences in Block Data",{"$f":"COUNTA(L7:L16)","v":10},null,null,null,"Total Sequences in Block Data",{"$f":"COUNTA(L17:L27)","v":11},null,null,null,"Total Sequences in Block Data",{"$f":"COUNTA(L28:L37)","v":10},null,null,null,"Total Sequences in Block Data",{"$f":"COUNTA(L38:L47)","v":10},null,null,null,"Total Sequences in Block Data",{"$f":"COUNTA(L48:L58)","v":11},null,null,null,"Total Sequences in Block Data",{"$f":"COUNTA(L59:L68)","v":10}]
[null,null,null,null,null,null,null,null,null,null,null,null,null,null,null,"Total Sequences in Summary",{"$f":"SUM(O7:O14)","v":62},null,null,null,null,"Total Sequences in Block Summary",{"$f":"SUM(U7:U14)","v":10},null,null,null,"Total Sequences in Block Summary",{"$f":"SUM(Z7:Z14)","v":11},null,null,null,"Total Sequences in Block Summary",{"$f":"SUM(AE7:AE14)","v":10},null,null,null,"Total Sequences in Block Summary",{"$f":"SUM(AJ7:AJ14)","v":10},null,null,null,"Total Sequences in Block Summary",{"$f":"SUM(AO7:AO14)","v":11},null,null,null,"Total Sequences in Block Summary",{"$f":"SUM(AT7:AT14)","v":10}]
[null,null,null,null,null,null,null,null,null,null,null,null,null,null,null,null,null,null,null,"Block 1",null,null,null,null,"Block 2",null,null,null,null,"Block 3",null,null,null,null,"Block 4",null,null,null,null,"Block 5",null,null,null,null,"Block 6"]
["Sequence\nComponent\n1","Time\n1","Sequence\nComponent\n2","Time\n2","Sequence\nComponent\n3","Time\n3","Sequence\nComponent\n4","Time\n4","Sequence\nComponent\n5","Time\n5","Correct?\n0=No 1=Yes","Sequence",null,"Frequency",null,"Relative Frequency","Variability",null,null,"Frequency",null,"Relative Frequency","Variability",null,"Frequency",null,"Relative Frequency","Variability",null,"Frequency",null,"Relative Frequency","Variability",null,"Frequency",null,"Relative Frequency","Variability",null,"Frequency",null,"Relative Frequency","Variability",null,"Frequency",null,"Relative Frequency","Variability"]
[22,4,23,9,23,16,null,null,null,null,0,222,null,111,{"$f":"COUNTIF($L$7:$L$500,N7)","v":2},{"$f":"O7/$Q$4","v":3.2258064516129031E-2},{"$f":"IF(P7=0,0,(P7*((LOG(P7))/LOG(2))))","v":-0.15981278420602821},null,null,{"$f":"N7","v":111},{"$f":"COUNTIF(L7:L16,T7)","v":0},{"$f":"U7/(W4-U10)","v":0},{"$f":"IF(V7=0,0,(V7*((LOG(V7))/LOG(2))))","v":0},null,{"$f":"N7","v":111},{"$f":"COUNTIF(L17:L27,Y7)","v":0},{"$f":"Z7/(AB4-Z10)","v":0},{"$f":"IF(AA7=0,0,(AA7*((LOG(AA7))/LOG(2))))","v":0},null,{"$f":"N7","v":111},{"$f":"COUNTIF(L28:L37,AD7)","v":0},{"$f":"AE7/(AG4-AE10)","v":0},{"$f":"IF(AF7=0,0,(AF7*((LOG(AF7))/LOG(2))))","v":0},null,{"$f":"N7","v":111},{"$f":"COUNTIF(L38:L47,AI7)","v":1},{"$f":"AJ7/(AL4-AJ10)","v":0.25},{"$f":"IF(AK7=0,0,(AK7*((LOG(AK7))/LOG(2))))","v":-0.5},null,{"$f":"N7","v":111},{"$f":"COUNTIF(L48:L58,AN7)","v":0},{"$f":"AO7/(AQ4-AO10)","v":0},{"$f":"IF(AP7=0,0,(AP7*((LOG(AP7))/LOG(2))))","v":0},null,{"$f":"N7","v":111},{"$f":"COUNTIF(L59:L68,AS7)","v":1},{"$f":"AT7/(AV4-AT10)","v":0.33333333333333331},{"$f":"IF(AU7=0,0,(AU7*((LOG(AU7))/LOG(2))))","v":-0.52832083357371862}]
[22,121,23,127,23,135,null,null,null,null,0,222,null,112,{"$f":"COUNTIF($L$7:$L$500,N8)","v":16},{"$f":"O8/$Q$4","v":0.25806451612903225},{"$f":"IF(P8=0,0,(P8*((LOG(P8))/LOG(2))))","v":-0.50430872526112902},null,null,{"$f":"N8","v":112},{"$f":"COUNTIF(L7:L16,T8)","v":3},{"$f":"U8/(W4-U10)","v":0.5},{"$f":"IF(V8=0,0,(V8*((LOG(V8))/LOG(2))))","v":-0.5},null,{"$f":"N8","v":112},{"$f":"COUNTIF(L17:L27,Y8)","v":1},{"$f":"Z8/(AB4-Z10)","v":1},{"$f":"IF(AA8=0,0,(AA8*((LOG(AA8))/LOG(2))))","v":0},null,{"$f":"N8","v":112},{"$f":"COUNTIF(L28:L37,AD8)","v":3},{"$f":"AE8/(AG4-AE10)","v":1},{"$f":"IF(AF8=0,0,(AF8*((LOG(AF8))/LOG(2))))","v":0},null,{"$f":"N8","v":112},{"$f":"COUNTIF(L38:L47,AI8)","v":2},{"$f":"AJ8/(AL4-AJ10)","v":0.5},{"$f":"IF(AK8=0,0,(AK8*((LOG(AK8))/LOG(2))))","v":-0.5},null,{"$f":"N8","v":112},{"$f":"COUNTIF(L48:L58,AN8)","v":5},{"$f":"AO8/(AQ4-AO10)","v":1},{"$f":"IF(AP8=0,0,(AP8*((LOG(AP8))/LOG(2))))","v":0},null,{"$f":"N8","v":112},{"$f":"COUNTIF(L59:L68,AS8)","v":2},{"$f":"AT8/(AV4-AT10)","v":0.66666666666666663},{"$f":"IF(AU8=0,0,(AU8*((LOG(AU8))/LOG(2))))","v":-0.38997500048077083}]
[22,239,23,243,23,247,null,null,null,null,0,222,null,121,{"$f":"COUNTIF($L$7:$L$500,N9)","v":0},{"$f":"O9/$Q$4","v":0},{"$f":"IF(P9=0,0,(P9*((LOG(P9))/LOG(2))))","v":0},null,null,{"$f":"N9","v":121},{"$f":"COUNTIF(L7:L16,T9)","v":0},{"$f":"U9/(W4-U10)","v":0},{"$f":"IF(V9=0,0,(V9*((LOG(V9))/LOG(2))))","v":0},null,{"$f":"N9","v":121},{"$f":"COUNTIF(L17:L27,Y9)","v":0},{"$f":"Z9/(AB4-Z10)","v":0},{"$f":"IF(AA9=0,0,(AA9*((LOG(AA9))/LOG(2))))","v":0},null,{"$f":"N9","v":121},{"$f":"COUNTIF(L28:L37,AD9)","v":0},{"$f":"AE9/(AG4-AE10)","v":0},{"$f":"IF(AF9=0,0,(AF9*((LOG(AF9))/LOG(2))))","v":0},null,{"$f":"N9","v":121},{"$f":"COUNTIF(L38:L47,AI9)","v":0},{"$f":"AJ9/(AL4-AJ10)","v":0},{"$f":"IF(AK9=0,0,(AK9*((LOG(AK9))/LOG(2))))","v":0},null,{"$f":"N9","v":121},{"$f":"COUNTIF(L48:L58,AN9)","v":0},{"$f":"AO9/(AQ4-AO10)","v":0},{"$f":"IF(AP9=0,0,(AP9*((LOG(AP9))/LOG(2))))","v":0},null,{"$f":"N9","v":121},{"$f":"COUNTIF(L59:L68,AS9)","v":0},{"$f":"AT9/(AV4-AT10)","v":0},{"$f":"IF(AU9=0,0,(AU9*((LOG(AU9))/LOG(2))))","v":0}]
[11,344,21,354,21,358,null,null,null,null,0,122,null,122,{"$f":"COUNTIF($L$7:$L$500,N10)","v":40},{"$f":"O10/$Q$4","v":0.64516129032258063},{"$f":"IF(P10=0,0,(P10*((LOG(P10))/LOG(2))))","v":-0.40791497774162117},null,null,{"$f":"N10","v":122},{"$f":"COUNTIF(L7:L16,T10)","v":4},null,null,null,{"$f":"N10","v":122},{"$f":"COUNTIF(L17:L27,Y10)","v":10},null,null,null,{"$f":"N10","v":122},{"$f":"COUNTIF(L28:L37,AD10)","v":7},null,null,null,{"$f":"N10","v":122},{"$f":"COUNTIF(L38:L47,AI10)","v":6},null,null,null,{"$f":"N10","v":122},{"$f":"COUNTIF(L48:L58,AN10)","v":6},null,null,null,{"$f":"N10","v":122},{"$f":"COUNTIF(L59:L68,AS10)","v":7}]
[11,450,12,452,23,459,null,null,null,null,0,112,null,211,{"$f":"COUNTIF($L$7:$L$500,N11)","v":0},{"$f":"O11/$Q$4","v":0},{"$f":"IF(P11=0,0,(P11*((LOG(P11))/LOG(2))))","v":0},null,null,{"$f":"N11","v":211},{"$f":"COUNTIF(L7:L16,T11)","v":0},{"$f":"U11/(W4-U10)","v":0},{"$f":"IF(V11=0,0,(V11*((LOG(V11))/LOG(2))))","v":0},null,{"$f":"N11","v":211},{"$f":"COUNTIF(L17:L27,Y11)","v":0},{"$f":"Z11/(AB4-Z10)","v":0},{"$f":"IF(AA11=0,0,(AA11*((LOG(AA11))/LOG(2))))","v":0},null,{"$f":"N11","v":211},{"$f":"COUNTIF(L28:L37,AD11)","v":0},{"$f":"AE11/(AG4-AE10)","v":0},{"$f":"IF(AF11=0,0,(AF11*((LOG(AF11))/LOG(2))))","v":0},null,{"$f":"N11","v":211},{"$f":"COUNTIF(L38:L47,AI11)","v":0},{"$f":"AJ11/(AL4-AJ10)","v":0},{"$f":"IF(AK11=0,0,(AK11*((LOG(AK11))/LOG(2))))","v":0},null,{"$f":"N11","v":211},{"$f":"COUNTIF(L48:L58,AN11)","v":0},{"$f":"AO11/(AQ4-AO10)","v":0},{"$f":"IF(AP11=0,0,(AP11*((LOG(AP11))/LOG(2))))","v":0},null,{"$f":"N11","v":211},{"$f":"COUNTIF(L59:L68,AS11)","v":0},{"$f":"AT11/(AV4-AT10)","v":0},{"$f":"IF(AU11=0,0,(AU11*((LOG(AU11))/LOG(2))))","v":0}]
[11,555,21,563,21,574,null,null,null,null,0,122,null,212,{"$f":"COUNTIF($L$7:$L$500,N12)","v":0},{"$f":"O12/$Q$4","v":0},{"$f":"IF(P12=0,0,(P12*((LOG(P12))/LOG(2))))","v":0},null,null,{"$f":"N12","v":212},{"$f":"COUNTIF(L7:L16,T12)","v":0},{"$f":"U12/(W4-U10)","v":0},{"$f":"IF(V12=0,0,(V12*((LOG(V12))/LOG(2))))","v":0},null,{"$f":"N12","v":212},{"$f":"COUNTIF(L17:L27,Y12)","v":0},{"$f":"Z12/(AB4-Z10)","v":0},{"$f":"IF(AA12=0,0,(AA12*((LOG(AA12))/LOG(2))))","v":0},null,{"$f":"N12","v":212},{"$f":"COUNTIF(L28:L37,AD12)","v":0},{"$f":"AE12/(AG4-AE10)","v":0},{"$f":"IF(AF12=0,0,(AF12*((LOG(AF12))/LOG(2))))","v":0},null,{"$f":"N12","v":212},{"$f":"COUNTIF(L38:L47,AI12)","v":0},{"$f":"AJ12/(AL4-AJ10)","v":0},{"$f":"IF(AK12=0,0,(AK12*((LOG(AK12))/LOG(2))))","v":0},null,{"$f":"N12","v":212},{"$f":"COUNTIF(L48:L58,AN12)","v":0},{"$f":"AO12/(AQ4-AO10)","v":0},{"$f":"IF(AP12=0,0,(AP12*((LOG(AP12))/LOG(2))))","v":0},null,{"$f":"N12","v":212},{"$f":"COUNTIF(L59:L68,AS12)","v":0},{"$f":"AT12/(AV4-AT10)","v":0},{"$f":"IF(AU12=0,0,(AU12*((LOG(AU12))/LOG(2))))","v":0}]
[11,669,12,673,23,682,null,null,null,null,0,112,null,221,{"$f":"COUNTIF($L$7:$L$500,N13)","v":0},{"$f":"O13/$Q$4","v":0},{"$f":"IF(P13=0,0,(P13*((LOG(P13))/LOG(2))))","v":0},null,null,{"$f":"N13","v":221},{"$f":"COUNTIF(L7:L16,T13)","v":0},{"$f":"U13/(W4-U10)","v":0},{"$f":"IF(V13=0,0,(V13*((LOG(V13))/LOG(2))))","v":0},null,{"$f":"N13","v":221},{"$f":"COUNTIF(L17:L27,Y13)","v":0},{"$f":"Z13/(AB4-Z10)","v":0},{"$f":"IF(AA13=0,0,(AA13*((LOG(AA13))/LOG(2))))","v":0},null,{"$f":"N13","v":221},{"$f":"COUNTIF(L28:L37,AD13)","v":0},{"$f":"AE13/(AG4-AE10)","v":0},{"$f":"IF(AF13=0,0,(AF13*((LOG(AF13))/LOG(2))))","v":0},null,{"$f":"N13","v":221},{"$f":"COUNTIF(L38:L47,AI13)","v":0},{"$f":"AJ13/(AL4-AJ10)","v":0},{"$f":"IF(AK13=0,0,(AK13*((LOG(AK13))/LOG(2))))","v":0},null,{"$f":"N13","v":221},{"$f":"COUNTIF(L48:L58,AN13)","v":0},{"$f":"AO13/(AQ4-AO10)","v":0},{"$f":"IF(AP13=0,0,(AP13*((LOG(AP13))/LOG(2))))","v":0},null,{"$f":"N13","v":221},{"$f":"COUNTIF(L59:L68,AS13)","v":0},{"$f":"AT13/(AV4-AT10)","v":0},{"$f":"IF(AU13=0,0,(AU13*((LOG(AU13))/LOG(2))))","v":0}]
[11,776,21,785,21,790,null,null,null,null,0,122,null,222,{"$f":"COUNTIF($L$7:$L$500,N14)","v":4},{"$f":"O14/$Q$4","v":6.4516129032258063E-2},{"$f":"IF(P14=0,0,(P14*((LOG(P14))/LOG(2))))","v":-0.25510943937979835},null,null,{"$f":"N14","v":222},{"$f":"COUNTIF(L7:L16,T14)","v":3},{"$f":"U14/(W4-U10)","v":0.5},{"$f":"IF(V14=0,0,(V14*((LOG(V14))/LOG(2))))","v":-0.5},null,{"$f":"N14","v":222},{"$f":"COUNTIF(L17:L27,Y14)","v":0},{"$f":"Z14/(AB4-Z10)","v":0},{"$f":"IF(AA14=0,0,(AA14*((LOG(AA14))/LOG(2))))","v":0},null,{"$f":"N14","v":222},{"$f":"COUNTIF(L28:L37,AD14)","v":0},{"$f":"AE14/(AG4-AE10)","v":0},{"$f":"IF(AF14=0,0,(AF14*((LOG(AF14))/LOG(2))))","v":0},null,{"$f":"N14","v":222},{"$f":"COUNTIF(L38:L47,AI14)","v":1},{"$f":"AJ14/(AL4-AJ10)","v":0.25},{"$f":"IF(AK14=0,0,(AK14*((LOG(AK14))/LOG(2))))","v":-0.5},null,{"$f":"N14","v":222},{"$f":"COUNTIF(L48:L58,AN14)","v":0},{"$f":"AO14/(AQ4-AO10)","v":0},{"$f":"IF(AP14=0,0,(AP14*((LOG(AP14))/LOG(2))))","v":0},null,{"$f":"N14","v":222},{"$f":"COUNTIF(L59:L68,AS14)","v":0},{"$f":"AT14/(AV4-AT10)","v":0},{"$f":"IF(AU14=0,0,(AU14*((LOG(AU14))/LOG(2))))","v":0}]
[11,925,21,944,21,955,null,null,null,null,0,122,null,null,null,{"$f":"SUM(P7:P14)","v":1},{"$f":"-SUM(Q7:Q14)","v":1.3271459265885768},null,null,null,null,{"$f":"SUM(V7:V14)","v":1},{"$f":"-SUM(W7:W14)","v":1},null,null,null,{"$f":"SUM(AA7:AA14)","v":1},{"$f":"-SUM(AB7:AB14)","v":0},null,null,null,{"$f":"SUM(AF7:AF14)","v":1},{"$f":"-SUM(AG7:AG14)","v":0},null,null,null,{"$f":"SUM(AK7:AK14)","v":1},{"$f":"-SUM(AL7:AL14)","v":1.5},null,null,null,{"$f":"SUM(AP7:AP14)","v":1},{"$f":"-SUM(AQ7:AQ14)","v":0},null,null,null,{"$f":"SUM(AU7:AU14)","v":1},{"$f":"-SUM(AV7:AV14)","v":0.91829583405448945}]
[11,1047,12,1051,23,1059,null,null,null,null,0,112,null,null,null,"U=",{"$f":"Q15/(LOG(Q4)/LOG(2))","v":0.22289253786836349},null,null,null,null,"U1=",{"$f":"W15/(LOG(W4)/LOG(2))","v":0.3010299956639812},null,null,null,"U2=",{"$f":"AB15/(LOG(AB4)/LOG(2))","v":0},null,null,null,"U3=",{"$f":"AG15/(LOG(AG4)/LOG(2))","v":0},null,null,null,"U4=",{"$f":"AL15/(LOG(AL4)/LOG(2))","v":0.45154499349597182},null,null,null,"U5=",{"$f":"AQ15/(LOG(AQ4)/LOG(2))","v":0},null,null,null,"U6=",{"$f":"AV15/(LOG(AV4)/LOG(2))","v":0.27643459094367495}]
[11,1153,21,1162,21,1166,null,null,null,null,0,122]
[11,1256,12,1261,23,1270,null,null,null,null,0,112]
[11,1364,21,1373,21,1378,null,null,null,null,0,122,null,"Total Target Seq"]
[11,1468,21,1481,21,1488,null,null,null,null,0,122,null,{"$f":"COUNTIF(L7:L68,G3)","v":40},null,10,11,10,10,11,10]
[11,1584,21,1593,21,1604,null,null,null,null,0,122,null,null,null,"% of reinforcement given in 6 equal intervals based on number of trials "]
[11,1695,21,1706,21,1709,null,null,null,null,0,122,null,null,null,"%_1","%_2","%_3","%_4","%_5","%_6"]
[11,1804,21,1813,21,1816,null,null,null,null,0,122,null,null,"target sequence",{"$f":"$G$3","v":122},{"$f":"$G$3","v":122},{"$f":"$G$3","v":122},{"$f":"$G$3","v":122},{"$f":"$G$3","v":122},{"$f":"$G$3","v":122}]
[11,1907,21,1921,21,1931,null,null,null,null,0,122,null,null,"total reinforcement",{"$f":"U10","v":4},{"$f":"Z10","v":10},{"$f":"AE10","v":7},{"$f":"AJ10","v":6},{"$f":"AO10","v":6},{"$f":"AT10","v":7}]
[11,2041,21,2049,21,2058,null,null,null,null,0,122,null,null,"% target"]
[11,2191,21,2199,21,2202,null,null,null,null,0,122,null,null,"CCRF"]
[11,2344,21,2356,21,2371,null,null,null,null,0,122,null,null,"% CCRf"]
[11,2467,21,2474,21,2478,null,null,null,null,0,122,null,null,"average response rate",{"$f":"F16/P20","v":105.9},{"$f":"(F27-F16)/Q20","v":119.27272727272727},{"$f":"(F37-F27)/R20","v":119.4},{"$f":"(F47-F37)/S20","v":132.80000000000001},{"$f":"(F58-F47)/T20","v":121.09090909090909},{"$f":"(F68-F58)/U20","v":119.4}]
[11,2589,21,2598,21,2616,null,null,null,null,0,122]
[11,2721,21,2730,21,2735,null,null,null,null,0,122]
[11,2829,21,2837,21,2847,null,null,null,null,0,122]
[11,2975,12,2982,23,2989,null,null,null,null,0,112]
[11,3083,12,3086,23,3095,null,null,null,null,0,112]
[11,3189,21,3197,21,3199,null,null,null,null,0,122]
[11,3292,21,3302,21,3340,null,null,null,null,0,122]
[11,3435,12,3442,23,3450,null,null,null,null,0,112]
[11,3547,21,3559,21,3565,null,null,null,null,0,122]
[11,3665,12,3670,14,3675,null,null,null,null,0,111]
[11,3771,21,3779,21,3798,null,null,null,null,0,122]
[11,3896,21,3903,21,3909,null,null,null,null,0,122]
[11,4001,12,4007,23,4017,null,null,null,null,0,112]
[11,4113,21,4126,21,4138,null,null,null,null,0,122]
[11,4256,21,4302,21,4311,null,null,null,null,0,122]
[11,4435,21,4445,21,4451,null,null,null,null,0,122]
[22,4573,23,4603,23,4616,null,null,null,null,0,222]
[11,4731,21,4739,21,4757,null,null,null,null,0,122]
[11,4851,12,4855,23,4893,null,null,null,null,0,112]
[11,4988,21,5001,21,5006,null,null,null,null,0,122]
[11,5099,21,5113,21,5128,null,null,null,null,0,122]
[11,5221,21,5229,21,5258,null,null,null,null,0,122]
[11,5349,12,5355,23,5367,null,null,null,null,0,112]
[11,5464,12,5466,23,5474,null,null,null,null,0,112]
[11,5570,21,5584,21,5606,null,null,null,null,0,122]
[11,5696,12,5700,23,5709,null,null,null,null,0,112]
[11,5805,12,5810,23,5820,null,null,null,null,0,112]
[11,5915,21,5928,21,5936,null,null,null,null,0,122]
[11,6064,12,6066,23,6079,null,null,null,null,0,112]
[11,6200,21,6212,21,6225,null,null,null,null,0,122]
[11,6317,21,6343,21,6355,null,null,null,null,0,122]
[11,6454,12,6458,14,6464,null,null,null,null,0,111]
[11,6559,21,6567,21,6571,null,null,null,null,0,122]
[11,6661,12,6667,23,6676,null,null,null,null,0,112]
[11,6773,21,6784,21,6788,null,null,null,null,0,122]
[11,6878,21,6890,21,6894,null,null,null,null,0,122]
[11,7033,12,7044,23,7052,null,null,null,null,0,112]
[11,7146,21,7158,21,7190,null,null,null,null,0,122]
[11,7280,21,7291,21,7294,null,null,null,null,0,122]
[11,7393,21,7404,21,7419,null,null,null,null,1,122]

{"sheet":"!LB04A44.. I","index":25,"n_rows":67,"n_cols":48,"rows_kept":67,"cut":false,"hidden":false,"merged":[[4,39,4,42],[5,39,5,40],[4,44,4,47],[5,44,5,45],[4,24,4,27],[5,24,5,25],[4,29,4,32],[5,29,5,30],[4,34,4,37],[5,34,5,35],[1,1,1,2],[5,13,5,14],[18,13,18,14],[19,13,19,14],[4,19,4,22],[5,19,5,20]]}
["Report for:!LB04A44.. I"]
["Date:","<date>"]
["Hen:","<hen>",null,null,null,"Correct Sequence",{"$f":"Start!J2","v":122},null,null,null,null,null,null,null,null,"Total Sequences in Data",{"$f":"4994-COUNTBLANK(L7:L5000)","v":61},null,null,null,null,"Total Sequences in Block Data",{"$f":"COUNTA(L7:L16)","v":10},null,null,null,"Total Sequences in Block Data",{"$f":"COUNTA(L17:L26)","v":10},null,null,null,"Total Sequences in Block Data",{"$f":"COUNTA(L27:L37)","v":11},null,null,null,"Total Sequences in Block Data",{"$f":"COUNTA(L38:L47)","v":10},null,null,null,"Total Sequences in Block Data",{"$f":"COUNTA(L48:L57)","v":10},null,null,null,"Total Sequences in Block Data",{"$f":"COUNTA(L58:L67)","v":10}]
[null,null,null,null,null,null,null,null,null,null,null,null,null,null,null,"Total Sequences in Summary",{"$f":"SUM(O7:O14)","v":61},null,null,null,null,"Total Sequences in Block Summary",{"$f":"SUM(U7:U14)","v":10},null,null,null,"Total Sequences in Block Summary",{"$f":"SUM(Z7:Z14)","v":10},null,null,null,"Total Sequences in Block Summary",{"$f":"SUM(AE7:AE14)","v":11},null,null,null,"Total Sequences in Block Summary",{"$f":"SUM(AJ7:AJ14)","v":10},null,null,null,"Total Sequences in Block Summary",{"$f":"SUM(AO7:AO14)","v":10},null,null,null,"Total Sequences in Block Summary",{"$f":"SUM(AT7:AT14)","v":10}]
[null,null,null,null,null,null,null,null,null,null,null,null,null,null,null,null,null,null,null,"Block 1",null,null,null,null,"Block 2",null,null,null,null,"Block 3",null,null,null,null,"Block 4",null,null,null,null,"Block 5",null,null,null,null,"Block 6"]
["Sequence\nComponent\n1","Time\n1","Sequence\nComponent\n2","Time\n2","Sequence\nComponent\n3","Time\n3","Sequence\nComponent\n4","Time\n4","Sequence\nComponent\n5","Time\n5","Correct?\n0=No 1=Yes","Sequence",null,"Frequency",null,"Relative Frequency","Variability",null,null,"Frequency",null,"Relative Frequency","Variability",null,"Frequency",null,"Relative Frequency","Variability",null,"Frequency",null,"Relative Frequency","Variability",null,"Frequency",null,"Relative Frequency","Variability",null,"Frequency",null,"Relative Frequency","Variability",null,"Frequency",null,"Relative Frequency","Variability"]
[22,4,14,13,23,21,null,null,null,null,0,212,null,111,{"$f":"COUNTIF($L$7:$L$500,N7)","v":1},{"$f":"O7/$Q$4","v":1.6393442622950821E-2},{"$f":"IF(P7=0,0,(P7*((LOG(P7))/LOG(2))))","v":-9.7225202255129275E-2},null,null,{"$f":"N7","v":111},{"$f":"COUNTIF(L7:L16,T7)","v":0},{"$f":"U7/(W4-U10)","v":0},{"$f":"IF(V7=0,0,(V7*((LOG(V7))/LOG(2))))","v":0},null,{"$f":"N7","v":111},{"$f":"COUNTIF(L17:L26,Y7)","v":1},{"$f":"Z7/(AB4-Z10)","v":0.16666666666666666},{"$f":"IF(AA7=0,0,(AA7*((LOG(AA7))/LOG(2))))","v":-0.43082708345352599},null,{"$f":"N7","v":111},{"$f":"COUNTIF(L27:L37,AD7)","v":0},{"$f":"AE7/(AG4-AE10)","v":0},{"$f":"IF(AF7=0,0,(AF7*((LOG(AF7))/LOG(2))))","v":0},null,{"$f":"N7","v":111},{"$f":"COUNTIF(L38:L47,AI7)","v":0},{"$f":"AJ7/(AL4-AJ10)","v":0},{"$f":"IF(AK7=0,0,(AK7*((LOG(AK7))/LOG(2))))","v":0},null,{"$f":"N7","v":111},{"$f":"COUNTIF(L48:L57,AN7)","v":0},{"$f":"AO7/(AQ4-AO10)","v":0},{"$f":"IF(AP7=0,0,(AP7*((LOG(AP7))/LOG(2))))","v":0},null,{"$f":"N7","v":111},{"$f":"COUNTIF(L58:L67,AS7)","v":0},{"$f":"AT7/(AV4-AT10)","v":0},{"$f":"IF(AU7=0,0,(AU7*((LOG(AU7))/LOG(2))))","v":0}]
[11,119,21,128,21,131,null,null,null,null,0,122,null,112,{"$f":"COUNTIF($L$7:$L$500,N8)","v":6},{"$f":"O8/$Q$4","v":9.8360655737704916E-2},{"$f":"IF(P8=0,0,(P8*((LOG(P8))/LOG(2))))","v":-0.32909260690246528},null,null,{"$f":"N8","v":112},{"$f":"COUNTIF(L7:L16,T8)","v":0},{"$f":"U8/(W4-U10)","v":0},{"$f":"IF(V8=0,0,(V8*((LOG(V8))/LOG(2))))","v":0},null,{"$f":"N8","v":112},{"$f":"COUNTIF(L17:L26,Y8)","v":2},{"$f":"Z8/(AB4-Z10)","v":0.33333333333333331},{"$f":"IF(AA8=0,0,(AA8*((LOG(AA8))/LOG(2))))","v":-0.52832083357371862},null,{"$f":"N8","v":112},{"$f":"COUNTIF(L27:L37,AD8)","v":0},{"$f":"AE8/(AG4-AE10)","v":0},{"$f":"IF(AF8=0,0,(AF8*((LOG(AF8))/LOG(2))))","v":0},null,{"$f":"N8","v":112},{"$f":"COUNTIF(L38:L47,AI8)","v":1},{"$f":"AJ8/(AL4-AJ10)","v":1},{"$f":"IF(AK8=0,0,(AK8*((LOG(AK8))/LOG(2))))","v":0},null,{"$f":"N8","v":112},{"$f":"COUNTIF(L48:L57,AN8)","v":1},{"$f":"AO8/(AQ4-AO10)","v":0.33333333333333331},{"$f":"IF(AP8=0,0,(AP8*((LOG(AP8))/LOG(2))))","v":-0.52832083357371862},null,{"$f":"N8","v":112},{"$f":"COUNTIF(L58:L67,AS8)","v":2},{"$f":"AT8/(AV4-AT10)","v":0.66666666666666663},{"$f":"IF(AU8=0,0,(AU8*((LOG(AU8))/LOG(2))))","v":-0.38997500048077083}]
[11,225,21,234,21,246,null,null,null,null,0,122,null,121,{"$f":"COUNTIF($L$7:$L$500,N9)","v":0},{"$f":"O9/$Q$4","v":0},{"$f":"IF(P9=0,0,(P9*((LOG(P9))/LOG(2))))","v":0},null,null,{"$f":"N9","v":121},{"$f":"COUNTIF(L7:L16,T9)","v":0},{"$f":"U9/(W4-U10)","v":0},{"$f":"IF(V9=0,0,(V9*((LOG(V9))/LOG(2))))","v":0},null,{"$f":"N9","v":121},{"$f":"COUNTIF(L17:L26,Y9)","v":0},{"$f":"Z9/(AB4-Z10)","v":0},{"$f":"IF(AA9=0,0,(AA9*((LOG(AA9))/LOG(2))))","v":0},null,{"$f":"N9","v":121},{"$f":"COUNTIF(L27:L37,AD9)","v":0},{"$f":"AE9/(AG4-AE10)","v":0},{"$f":"IF(AF9=0,0,(AF9*((LOG(AF9))/LOG(2))))","v":0},null,{"$f":"N9","v":121},{"$f":"COUNTIF(L38:L47,AI9)","v":0},{"$f":"AJ9/(AL4-AJ10)","v":0},{"$f":"IF(AK9=0,0,(AK9*((LOG(AK9))/LOG(2))))","v":0},null,{"$f":"N9","v":121},{"$f":"COUNTIF(L48:L57,AN9)","v":0},{"$f":"AO9/(AQ4-AO10)","v":0},{"$f":"IF(AP9=0,0,(AP9*((LOG(AP9))/LOG(2))))","v":0},null,{"$f":"N9","v":121},{"$f":"COUNTIF(L58:L67,AS9)","v":0},{"$f":"AT9/(AV4-AT10)","v":0},{"$f":"IF(AU9=0,0,(AU9*((LOG(AU9))/LOG(2))))","v":0}]
[22,400,23,404,23,410,null,null,null,null,0,222,null,122,{"$f":"COUNTIF($L$7:$L$500,N10)","v":40},{"$f":"O10/$Q$4","v":0.65573770491803274},{"$f":"IF(P10=0,0,(P10*((LOG(P10))/LOG(2))))","v":-0.3992191755249338},null,null,{"$f":"N10","v":122},{"$f":"COUNTIF(L7:L16,T10)","v":6},null,null,null,{"$f":"N10","v":122},{"$f":"COUNTIF(L17:L26,Y10)","v":4},null,null,null,{"$f":"N10","v":122},{"$f":"COUNTIF(L27:L37,AD10)","v":7},null,null,null,{"$f":"N10","v":122},{"$f":"COUNTIF(L38:L47,AI10)","v":9},null,null,null,{"$f":"N10","v":122},{"$f":"COUNTIF(L48:L57,AN10)","v":7},null,null,null,{"$f":"N10","v":122},{"$f":"COUNTIF(L58:L67,AS10)","v":7}]
[22,513,23,517,23,525,null,null,null,null,0,222,null,211,{"$f":"COUNTIF($L$7:$L$500,N11)","v":0},{"$f":"O11/$Q$4","v":0},{"$f":"IF(P11=0,0,(P11*((LOG(P11))/LOG(2))))","v":0},null,null,{"$f":"N11","v":211},{"$f":"COUNTIF(L7:L16,T11)","v":0},{"$f":"U11/(W4-U10)","v":0},{"$f":"IF(V11=0,0,(V11*((LOG(V11))/LOG(2))))","v":0},null,{"$f":"N11","v":211},{"$f":"COUNTIF(L17:L26,Y11)","v":0},{"$f":"Z11/(AB4-Z10)","v":0},{"$f":"IF(AA11=0,0,(AA11*((LOG(AA11))/LOG(2))))","v":0},null,{"$f":"N11","v":211},{"$f":"COUNTIF(L27:L37,AD11)","v":0},{"$f":"AE11/(AG4-AE10)","v":0},{"$f":"IF(AF11=0,0,(AF11*((LOG(AF11))/LOG(2))))","v":0},null,{"$f":"N11","v":211},{"$f":"COUNTIF(L38:L47,AI11)","v":0},{"$f":"AJ11/(AL4-AJ10)","v":0},{"$f":"IF(AK11=0,0,(AK11*((LOG(AK11))/LOG(2))))","v":0},null,{"$f":"N11","v":211},{"$f":"COUNTIF(L48:L57,AN11)","v":0},{"$f":"AO11/(AQ4-AO10)","v":0},{"$f":"IF(AP11=0,0,(AP11*((LOG(AP11))/LOG(2))))","v":0},null,{"$f":"N11","v":211},{"$f":"COUNTIF(L58:L67,AS11)","v":0},{"$f":"AT11/(AV4-AT10)","v":0},{"$f":"IF(AU11=0,0,(AU11*((LOG(AU11))/LOG(2))))","v":0}]
[11,620,21,626,21,631,null,null,null,null,0,122,null,212,{"$f":"COUNTIF($L$7:$L$500,N12)","v":1},{"$f":"O12/$Q$4","v":1.6393442622950821E-2},{"$f":"IF(P12=0,0,(P12*((LOG(P12))/LOG(2))))","v":-9.7225202255129275E-2},null,null,{"$f":"N12","v":212},{"$f":"COUNTIF(L7:L16,T12)","v":1},{"$f":"U12/(W4-U10)","v":0.25},{"$f":"IF(V12=0,0,(V12*((LOG(V12))/LOG(2))))","v":-0.5},null,{"$f":"N12","v":212},{"$f":"COUNTIF(L17:L26,Y12)","v":0},{"$f":"Z12/(AB4-Z10)","v":0},{"$f":"IF(AA12=0,0,(AA12*((LOG(AA12))/LOG(2))))","v":0},null,{"$f":"N12","v":212},{"$f":"COUNTIF(L27:L37,AD12)","v":0},{"$f":"AE12/(AG4-AE10)","v":0},{"$f":"IF(AF12=0,0,(AF12*((LOG(AF12))/LOG(2))))","v":0},null,{"$f":"N12","v":212},{"$f":"COUNTIF(L38:L47,AI12)","v":0},{"$f":"AJ12/(AL4-AJ10)","v":0},{"$f":"IF(AK12=0,0,(AK12*((LOG(AK12))/LOG(2))))","v":0},null,{"$f":"N12","v":212},{"$f":"COUNTIF(L48:L57,AN12)","v":0},{"$f":"AO12/(AQ4-AO10)","v":0},{"$f":"IF(AP12=0,0,(AP12*((LOG(AP12))/LOG(2))))","v":0},null,{"$f":"N12","v":212},{"$f":"COUNTIF(L58:L67,AS12)","v":0},{"$f":"AT12/(AV4-AT10)","v":0},{"$f":"IF(AU12=0,0,(AU12*((LOG(AU12))/LOG(2))))","v":0}]
[11,769,21,775,21,783,null,null,null,null,0,122,null,221,{"$f":"COUNTIF($L$7:$L$500,N13)","v":0},{"$f":"O13/$Q$4","v":0},{"$f":"IF(P13=0,0,(P13*((LOG(P13))/LOG(2))))","v":0},null,null,{"$f":"N13","v":221},{"$f":"COUNTIF(L7:L16,T13)","v":0},{"$f":"U13/(W4-U10)","v":0},{"$f":"IF(V13=0,0,(V13*((LOG(V13))/LOG(2))))","v":0},null,{"$f":"N13","v":221},{"$f":"COUNTIF(L17:L26,Y13)","v":0},{"$f":"Z13/(AB4-Z10)","v":0},{"$f":"IF(AA13=0,0,(AA13*((LOG(AA13))/LOG(2))))","v":0},null,{"$f":"N13","v":221},{"$f":"COUNTIF(L27:L37,AD13)","v":0},{"$f":"AE13/(AG4-AE10)","v":0},{"$f":"IF(AF13=0,0,(AF13*((LOG(AF13))/LOG(2))))","v":0},null,{"$f":"N13","v":221},{"$f":"COUNTIF(L38:L47,AI13)","v":0},{"$f":"AJ13/(AL4-AJ10)","v":0},{"$f":"IF(AK13=0,0,(AK13*((LOG(AK13))/LOG(2))))","v":0},null,{"$f":"N13","v":221},{"$f":"COUNTIF(L48:L57,AN13)","v":0},{"$f":"AO13/(AQ4-AO10)","v":0},{"$f":"IF(AP13=0,0,(AP13*((LOG(AP13))/LOG(2))))","v":0},null,{"$f":"N13","v":221},{"$f":"COUNTIF(L58:L67,AS13)","v":0},{"$f":"AT13/(AV4-AT10)","v":0},{"$f":"IF(AU13=0,0,(AU13*((LOG(AU13))/LOG(2))))","v":0}]
[11,881,21,893,21,897,null,null,null,null,0,122,null,222,{"$f":"COUNTIF($L$7:$L$500,N14)","v":13},{"$f":"O14/$Q$4","v":0.21311475409836064},{"$f":"IF(P14=0,0,(P14*((LOG(P14))/LOG(2))))","v":-0.47530932872923476},null,null,{"$f":"N14","v":222},{"$f":"COUNTIF(L7:L16,T14)","v":3},{"$f":"U14/(W4-U10)","v":0.75},{"$f":"IF(V14=0,0,(V14*((LOG(V14))/LOG(2))))","v":-0.31127812445913283},null,{"$f":"N14","v":222},{"$f":"COUNTIF(L17:L26,Y14)","v":3},{"$f":"Z14/(AB4-Z10)","v":0.5},{"$f":"IF(AA14=0,0,(AA14*((LOG(AA14))/LOG(2))))","v":-0.5},null,{"$f":"N14","v":222},{"$f":"COUNTIF(L27:L37,AD14)","v":4},{"$f":"AE14/(AG4-AE10)","v":1},{"$f":"IF(AF14=0,0,(AF14*((LOG(AF14))/LOG(2))))","v":0},null,{"$f":"N14","v":222},{"$f":"COUNTIF(L38:L47,AI14)","v":0},{"$f":"AJ14/(AL4-AJ10)","v":0},{"$f":"IF(AK14=0,0,(AK14*((LOG(AK14))/LOG(2))))","v":0},null,{"$f":"N14","v":222},{"$f":"COUNTIF(L48:L57,AN14)","v":2},{"$f":"AO14/(AQ4-AO10)","v":0.66666666666666663},{"$f":"IF(AP14=0,0,(AP14*((LOG(AP14))/LOG(2))))","v":-0.38997500048077083},null,{"$f":"N14","v":222},{"$f":"COUNTIF(L58:L67,AS14)","v":1},{"$f":"AT14/(AV4-AT10)","v":0.33333333333333331},{"$f":"IF(AU14=0,0,(AU14*((LOG(AU14))/LOG(2))))","v":-0.52832083357371862}]
[22,1033,23,1038,23,1050,null,null,null,null,0,222,null,null,null,{"$f":"SUM(P7:P14)","v":1},{"$f":"-SUM(Q7:Q14)","v":1.3980715156668924},null,null,null,null,{"$f":"SUM(V7:V14)","v":1},{"$f":"-SUM(W7:W14)","v":0.81127812445913283},null,null,null,{"$f":"SUM(AA7:AA14)","v":1},{"$f":"-SUM(AB7:AB14)","v":1.4591479170272446},null,null,null,{"$f":"SUM(AF7:AF14)","v":1},{"$f":"-SUM(AG7:AG14)","v":0},null,null,null,{"$f":"SUM(AK7:AK14)","v":1},{"$f":"-SUM(AL7:AL14)","v":0},null,null,null,{"$f":"SUM(AP7:AP14)","v":1},{"$f":"-SUM(AQ7:AQ14)","v":0.91829583405448945},null,null,null,{"$f":"SUM(AU7:AU14)","v":1},{"$f":"-SUM(AV7:AV14)","v":0.91829583405448945}]
[11,1146,21,1154,21,1159,null,null,null,null,0,122,null,null,null,"U=",{"$f":"Q15/(LOG(Q4)/LOG(2))","v":0.2357331704461221},null,null,null,null,"U1=",{"$f":"W15/(LOG(W4)/LOG(2))","v":0.24421905028821556},null,null,null,"U2=",{"$f":"AB15/(LOG(AB4)/LOG(2))","v":0.43924729113581862},null,null,null,"U3=",{"$f":"AG15/(LOG(AG4)/LOG(2))","v":0},null,null,null,"U4=",{"$f":"AL15/(LOG(AL4)/LOG(2))","v":0},null,null,null,"U5=",{"$f":"AQ15/(LOG(AQ4)/LOG(2))","v":0.27643459094367495},null,null,null,"U6=",{"$f":"AV15/(LOG(AV4)/LOG(2))","v":0.27643459094367495}]
[11,1296,21,1301,21,1306,null,null,null,null,0,122]
[22,1427,23,1431,23,1443,null,null,null,null,0,222]
[11,1540,21,1548,21,1555,null,null,null,null,0,122,null,"Total Target Seq"]
[11,1666,21,1673,21,1683,null,null,null,null,0,122,null,{"$f":"COUNTIF(L7:L67,G3)","v":40},null,10,10,11,10,10,10]
[11,1779,12,1786,23,1794,null,null,null,null,0,112,null,null,null,"% of reinforcement given in 6 equal intervals based on number of trials "]
[22,1899,23,1903,23,1929,null,null,null,null,0,222,null,null,null,"%_1","%_2","%_3","%_4","%_5","%_6"]
[11,2024,21,2036,21,2044,null,null,null,null,0,122,null,null,"target sequence",{"$f":"$G$3","v":122},{"$f":"$G$3","v":122},{"$f":"$G$3","v":122},{"$f":"$G$3","v":122},{"$f":"$G$3","v":122},{"$f":"$G$3","v":122}]
[11,2139,12,2146,14,2151,null,null,null,null,0,111,null,null,"total reinforcement",{"$f":"U10","v":6},{"$f":"Z10","v":4},{"$f":"AE10","v":7},{"$f":"AJ10","v":9},{"$f":"AO10","v":7},{"$f":"AT10","v":7}]
[11,2246,12,2250,23,2257,null,null,null,null,0,112,null,null,"% target"]
[22,2359,23,2364,23,2373,null,null,null,null,0,222,null,null,"CCRF"]
[11,2472,21,2485,21,2488,null,null,null,null,0,122,null,null,"% CCRf"]
[11,2589,21,2599,21,2606,null,null,null,null,0,122,null,null,"average response rate",{"$f":"F16/P20","v":115.9},{"$f":"(F26-F16)/Q20","v":121.4},{"$f":"(F37-F26)/R20","v":125.90909090909091},{"$f":"(F47-F37)/S20","v":130.6},{"$f":"(F57-F47)/T20","v":133.6},{"$f":"(F67-F57)/U20","v":118.4}]
[11,2718,21,2728,21,2732,null,null,null,null,0,122]
[11,2896,21,2903,21,2907,null,null,null,null,0,122]
[22,3059,23,3070,23,3080,null,null,null,null,0,222]
[11,3175,21,3183,21,3188,null,null,null,null,0,122]
[11,3282,21,3294,21,3298,null,null,null,null,0,122]
[22,3397,23,3400,23,3408,null,null,null,null,0,222]
[22,3512,23,3516,23,3519,null,null,null,null,0,222]
[22,3627,23,3633,23,3645,null,null,null,null,0,222]
[11,3741,21,3753,21,3758,null,null,null,null,0,122]
[11,3859,21,3867,21,3875,null,null,null,null,0,122]
[11,4008,12,4011,23,4019,null,null,null,null,0,112]
[11,4114,21,4121,21,4125,null,null,null,null,0,122]
[11,4224,21,4237,21,4241,null,null,null,null,0,122]
[11,4396,21,4414,21,4419,null,null,null,null,0,122]
[11,4522,21,4531,21,4552,null,null,null,null,0,122]
[11,4662,21,4669,21,4674,null,null,null,null,0,122]
[11,4768,21,4778,21,4785,null,null,null,null,0,122]
[11,4908,21,4916,21,4939,null,null,null,null,0,122]
[11,5047,21,5054,21,5064,null,null,null,null,0,122]
[11,5187,12,5192,23,5213,null,null,null,null,0,112]
[11,5310,21,5318,21,5322,null,null,null,null,0,122]
[22,5580,23,5588,23,5601,null,null,null,null,0,222]
[11,5696,21,5704,21,5709,null,null,null,null,0,122]
[11,5803,21,5812,21,5818,null,null,null,null,0,122]
[11,5910,21,5918,21,5922,null,null,null,null,0,122]
[22,6052,23,6057,23,6075,null,null,null,null,0,222]
[11,6172,21,6182,21,6189,null,null,null,null,0,122]
[11,6280,21,6291,21,6295,null,null,null,null,0,122]
[11,6390,21,6397,21,6400,null,null,null,null,0,122]
[11,6501,21,6509,21,6515,null,null,null,null,0,122]
[11,6608,21,6632,21,6635,null,null,null,null,0,122]
[11,6752,12,6757,23,6765,null,null,null,null,0,112]
[11,6861,21,6869,21,6872,null,null,null,null,0,122]
[11,6967,21,6976,21,6978,null,null,null,null,0,122]
[11,7079,12,7084,23,7092,null,null,null,null,0,112]
[11,7186,21,7196,21,7200,null,null,null,null,0,122]
[22,7305,23,7330,23,7340,null,null,null,null,0,222]
[11,7435,21,7445,21,7452,null,null,null,null,0,122]
[11,7570,21,7578,21,7584,null,null,null,null,1,122]

{"sheet":"!LB05944.. I","index":26,"n_rows":66,"n_cols":48,"rows_kept":66,"cut":false,"hidden":false,"merged":[[4,39,4,42],[5,39,5,40],[4,44,4,47],[5,44,5,45],[4,24,4,27],[5,24,5,25],[4,29,4,32],[5,29,5,30],[4,34,4,37],[5,34,5,35],[1,1,1,2],[5,13,5,14],[18,13,18,14],[19,13,19,14],[4,19,4,22],[5,19,5,20]]}
["Report for:!LB05944.. I"]
["Date:","<date>"]
["Hen:","<hen>",null,null,null,"Correct Sequence",{"$f":"Start!J2","v":122},null,null,null,null,null,null,null,null,"Total Sequences in Data",{"$f":"4994-COUNTBLANK(L7:L5000)","v":60},null,null,null,null,"Total Sequences in Block Data",{"$f":"COUNTA(L7:L16)","v":10},null,null,null,"Total Sequences in Block Data",{"$f":"COUNTA(L17:L26)","v":10},null,null,null,"Total Sequences in Block Data",{"$f":"COUNTA(L27:L36)","v":10},null,null,null,"Total Sequences in Block Data",{"$f":"COUNTA(L37:L46)","v":10},null,null,null,"Total Sequences in Block Data",{"$f":"COUNTA(L47:L56)","v":10},null,null,null,"Total Sequences in Block Data",{"$f":"COUNTA(L57:L66)","v":10}]
[null,null,null,null,null,null,null,null,null,null,null,null,null,null,null,"Total Sequences in Summary",{"$f":"SUM(O7:O14)","v":60},null,null,null,null,"Total Sequences in Block Summary",{"$f":"SUM(U7:U14)","v":10},null,null,null,"Total Sequences in Block Summary",{"$f":"SUM(Z7:Z14)","v":10},null,null,null,"Total Sequences in Block Summary",{"$f":"SUM(AE7:AE14)","v":10},null,null,null,"Total Sequences in Block Summary",{"$f":"SUM(AJ7:AJ14)","v":10},null,null,null,"Total Sequences in Block Summary",{"$f":"SUM(AO7:AO14)","v":10},null,null,null,"Total Sequences in Block Summary",{"$f":"SUM(AT7:AT14)","v":10}]
[null,null,null,null,null,null,null,null,null,null,null,null,null,null,null,null,null,null,null,"Block 1",null,null,null,null,"Block 2",null,null,null,null,"Block 3",null,null,null,null,"Block 4",null,null,null,null,"Block 5",null,null,null,null,"Block 6"]
["Sequence\nComponent\n1","Time\n1","Sequence\nComponent\n2","Time\n2","Sequence\nComponent\n3","Time\n3","Sequence\nComponent\n4","Time\n4","Sequence\nComponent\n5","Time\n5","Correct?\n0=No 1=Yes","Sequence",null,"Frequency",null,"Relative Frequency","Variability",null,null,"Frequency",null,"Relative Frequency","Variability",null,"Frequency",null,"Relative Frequency","Variability",null,"Frequency",null,"Relative Frequency","Variability",null,"Frequency",null,"Relative Frequency","Variability",null,"Frequency",null,"Relative Frequency","Variability",null,"Frequency",null,"Relative Frequency","Variability"]
[22,105,23,111,23,117,null,null,null,null,0,222,null,111,{"$f":"COUNTIF($L$7:$L$500,N7)","v":0},{"$f":"O7/$Q$4","v":0},{"$f":"IF(P7=0,0,(P7*((LOG(P7))/LOG(2))))","v":0},null,null,{"$f":"N7","v":111},{"$f":"COUNTIF(L7:L16,T7)","v":0},{"$f":"U7/(W4-U10)","v":0},{"$f":"IF(V7=0,0,(V7*((LOG(V7))/LOG(2))))","v":0},null,{"$f":"N7","v":111},{"$f":"COUNTIF(L17:L26,Y7)","v":0},{"$f":"Z7/(AB4-Z10)","v":0},{"$f":"IF(AA7=0,0,(AA7*((LOG(AA7))/LOG(2))))","v":0},null,{"$f":"N7","v":111},{"$f":"COUNTIF(L27:L36,AD7)","v":0},{"$f":"AE7/(AG4-AE10)","v":0},{"$f":"IF(AF7=0,0,(AF7*((LOG(AF7))/LOG(2))))","v":0},null,{"$f":"N7","v":111},{"$f":"COUNTIF(L37:L46,AI7)","v":0},{"$f":"AJ7/(AL4-AJ10)","v":0},{"$f":"IF(AK7=0,0,(AK7*((LOG(AK7))/LOG(2))))","v":0},null,{"$f":"N7","v":111},{"$f":"COUNTIF(L47:L56,AN7)","v":0},{"$f":"AO7/(AQ4-AO10)","v":0},{"$f":"IF(AP7=0,0,(AP7*((LOG(AP7))/LOG(2))))","v":0},null,{"$f":"N7","v":111},{"$f":"COUNTIF(L57:L66,AS7)","v":0},{"$f":"AT7/(AV4-AT10)","v":0},{"$f":"IF(AU7=0,0,(AU7*((LOG(AU7))/LOG(2))))","v":0}]
[11,214,21,222,21,230,null,null,null,null,0,122,null,112,{"$f":"COUNTIF($L$7:$L$500,N8)","v":6},{"$f":"O8/$Q$4","v":0.1},{"$f":"IF(P8=0,0,(P8*((LOG(P8))/LOG(2))))","v":-0.33219280948873625},null,null,{"$f":"N8","v":112},{"$f":"COUNTIF(L7:L16,T8)","v":0},{"$f":"U8/(W4-U10)","v":0},{"$f":"IF(V8=0,0,(V8*((LOG(V8))/LOG(2))))","v":0},null,{"$f":"N8","v":112},{"$f":"COUNTIF(L17:L26,Y8)","v":3},{"$f":"Z8/(AB4-Z10)","v":0.75},{"$f":"IF(AA8=0,0,(AA8*((LOG(AA8))/LOG(2))))","v":-0.31127812445913283},null,{"$f":"N8","v":112},{"$f":"COUNTIF(L27:L36,AD8)","v":1},{"$f":"AE8/(AG4-AE10)","v":0.33333333333333331},{"$f":"IF(AF8=0,0,(AF8*((LOG(AF8))/LOG(2))))","v":-0.52832083357371862},null,{"$f":"N8","v":112},{"$f":"COUNTIF(L37:L46,AI8)","v":0},{"$f":"AJ8/(AL4-AJ10)","v":0},{"$f":"IF(AK8=0,0,(AK8*((LOG(AK8))/LOG(2))))","v":0},null,{"$f":"N8","v":112},{"$f":"COUNTIF(L47:L56,AN8)","v":0},{"$f":"AO8/(AQ4-AO10)","v":0},{"$f":"IF(AP8=0,0,(AP8*((LOG(AP8))/LOG(2))))","v":0},null,{"$f":"N8","v":112},{"$f":"COUNTIF(L57:L66,AS8)","v":2},{"$f":"AT8/(AV4-AT10)","v":0.4},{"$f":"IF(AU8=0,0,(AU8*((LOG(AU8))/LOG(2))))","v":-0.52877123795494496}]
[11,359,21,366,21,385,null,null,null,null,0,122,null,121,{"$f":"COUNTIF($L$7:$L$500,N9)","v":1},{"$f":"O9/$Q$4","v":1.6666666666666666E-2},{"$f":"IF(P9=0,0,(P9*((LOG(P9))/LOG(2))))","v":-9.8448176593475309E-2},null,null,{"$f":"N9","v":121},{"$f":"COUNTIF(L7:L16,T9)","v":0},{"$f":"U9/(W4-U10)","v":0},{"$f":"IF(V9=0,0,(V9*((LOG(V9))/LOG(2))))","v":0},null,{"$f":"N9","v":121},{"$f":"COUNTIF(L17:L26,Y9)","v":0},{"$f":"Z9/(AB4-Z10)","v":0},{"$f":"IF(AA9=0,0,(AA9*((LOG(AA9))/LOG(2))))","v":0},null,{"$f":"N9","v":121},{"$f":"COUNTIF(L27:L36,AD9)","v":1},{"$f":"AE9/(AG4-AE10)","v":0.33333333333333331},{"$f":"IF(AF9=0,0,(AF9*((LOG(AF9))/LOG(2))))","v":-0.52832083357371862},null,{"$f":"N9","v":121},{"$f":"COUNTIF(L37:L46,AI9)","v":0},{"$f":"AJ9/(AL4-AJ10)","v":0},{"$f":"IF(AK9=0,0,(AK9*((LOG(AK9))/LOG(2))))","v":0},null,{"$f":"N9","v":121},{"$f":"COUNTIF(L47:L56,AN9)","v":0},{"$f":"AO9/(AQ4-AO10)","v":0},{"$f":"IF(AP9=0,0,(AP9*((LOG(AP9))/LOG(2))))","v":0},null,{"$f":"N9","v":121},{"$f":"COUNTIF(L57:L66,AS9)","v":0},{"$f":"AT9/(AV4-AT10)","v":0},{"$f":"IF(AU9=0,0,(AU9*((LOG(AU9))/LOG(2))))","v":0}]
[22,492,23,520,23,530,null,null,null,null,0,222,null,122,{"$f":"COUNTIF($L$7:$L$500,N10)","v":40},{"$f":"O10/$Q$4","v":0.66666666666666663},{"$f":"IF(P10=0,0,(P10*((LOG(P10))/LOG(2))))","v":-0.38997500048077083},null,null,{"$f":"N10","v":122},{"$f":"COUNTIF(L7:L16,T10)","v":6},null,null,null,{"$f":"N10","v":122},{"$f":"COUNTIF(L17:L26,Y10)","v":6},null,null,null,{"$f":"N10","v":122},{"$f":"COUNTIF(L27:L36,AD10)","v":7},null,null,null,{"$f":"N10","v":122},{"$f":"COUNTIF(L37:L46,AI10)","v":8},null,null,null,{"$f":"N10","v":122},{"$f":"COUNTIF(L47:L56,AN10)","v":8},null,null,null,{"$f":"N10","v":122},{"$f":"COUNTIF(L57:L66,AS10)","v":5}]
[11,627,21,634,21,637,null,null,null,null,0,122,null,211,{"$f":"COUNTIF($L$7:$L$500,N11)","v":0},{"$f":"O11/$Q$4","v":0},{"$f":"IF(P11=0,0,(P11*((LOG(P11))/LOG(2))))","v":0},null,null,{"$f":"N11","v":211},{"$f":"COUNTIF(L7:L16,T11)","v":0},{"$f":"U11/(W4-U10)","v":0},{"$f":"IF(V11=0,0,(V11*((LOG(V11))/LOG(2))))","v":0},null,{"$f":"N11","v":211},{"$f":"COUNTIF(L17:L26,Y11)","v":0},{"$f":"Z11/(AB4-Z10)","v":0},{"$f":"IF(AA11=0,0,(AA11*((LOG(AA11))/LOG(2))))","v":0},null,{"$f":"N11","v":211},{"$f":"COUNTIF(L27:L36,AD11)","v":0},{"$f":"AE11/(AG4-AE10)","v":0},{"$f":"IF(AF11=0,0,(AF11*((LOG(AF11))/LOG(2))))","v":0},null,{"$f":"N11","v":211},{"$f":"COUNTIF(L37:L46,AI11)","v":0},{"$f":"AJ11/(AL4-AJ10)","v":0},{"$f":"IF(AK11=0,0,(AK11*((LOG(AK11))/LOG(2))))","v":0},null,{"$f":"N11","v":211},{"$f":"COUNTIF(L47:L56,AN11)","v":0},{"$f":"AO11/(AQ4-AO10)","v":0},{"$f":"IF(AP11=0,0,(AP11*((LOG(AP11))/LOG(2))))","v":0},null,{"$f":"N11","v":211},{"$f":"COUNTIF(L57:L66,AS11)","v":0},{"$f":"AT11/(AV4-AT10)","v":0},{"$f":"IF(AU11=0,0,(AU11*((LOG(AU11))/LOG(2))))","v":0}]
[11,731,21,740,21,745,null,null,null,null,0,122,null,212,{"$f":"COUNTIF($L$7:$L$500,N12)","v":0},{"$f":"O12/$Q$4","v":0},{"$f":"IF(P12=0,0,(P12*((LOG(P12))/LOG(2))))","v":0},null,null,{"$f":"N12","v":212},{"$f":"COUNTIF(L7:L16,T12)","v":0},{"$f":"U12/(W4-U10)","v":0},{"$f":"IF(V12=0,0,(V12*((LOG(V12))/LOG(2))))","v":0},null,{"$f":"N12","v":212},{"$f":"COUNTIF(L17:L26,Y12)","v":0},{"$f":"Z12/(AB4-Z10)","v":0},{"$f":"IF(AA12=0,0,(AA12*((LOG(AA12))/LOG(2))))","v":0},null,{"$f":"N12","v":212},{"$f":"COUNTIF(L27:L36,AD12)","v":0},{"$f":"AE12/(AG4-AE10)","v":0},{"$f":"IF(AF12=0,0,(AF12*((LOG(AF12))/LOG(2))))","v":0},null,{"$f":"N12","v":212},{"$f":"COUNTIF(L37:L46,AI12)","v":0},{"$f":"AJ12/(AL4-AJ10)","v":0},{"$f":"IF(AK12=0,0,(AK12*((LOG(AK12))/LOG(2))))","v":0},null,{"$f":"N12","v":212},{"$f":"COUNTIF(L47:L56,AN12)","v":0},{"$f":"AO12/(AQ4-AO10)","v":0},{"$f":"IF(AP12=0,0,(AP12*((LOG(AP12))/LOG(2))))","v":0},null,{"$f":"N12","v":212},{"$f":"COUNTIF(L57:L66,AS12)","v":0},{"$f":"AT12/(AV4-AT10)","v":0},{"$f":"IF(AU12=0,0,(AU12*((LOG(AU12))/LOG(2))))","v":0}]
[11,850,21,863,21,873,null,null,null,null,0,122,null,221,{"$f":"COUNTIF($L$7:$L$500,N13)","v":0},{"$f":"O13/$Q$4","v":0},{"$f":"IF(P13=0,0,(P13*((LOG(P13))/LOG(2))))","v":0},null,null,{"$f":"N13","v":221},{"$f":"COUNTIF(L7:L16,T13)","v":0},{"$f":"U13/(W4-U10)","v":0},{"$f":"IF(V13=0,0,(V13*((LOG(V13))/LOG(2))))","v":0},null,{"$f":"N13","v":221},{"$f":"COUNTIF(L17:L26,Y13)","v":0},{"$f":"Z13/(AB4-Z10)","v":0},{"$f":"IF(AA13=0,0,(AA13*((LOG(AA13))/LOG(2))))","v":0},null,{"$f":"N13","v":221},{"$f":"COUNTIF(L27:L36,AD13)","v":0},{"$f":"AE13/(AG4-AE10)","v":0},{"$f":"IF(AF13=0,0,(AF13*((LOG(AF13))/LOG(2))))","v":0},null,{"$f":"N13","v":221},{"$f":"COUNTIF(L37:L46,AI13)","v":0},{"$f":"AJ13/(AL4-AJ10)","v":0},{"$f":"IF(AK13=0,0,(AK13*((LOG(AK13))/LOG(2))))","v":0},null,{"$f":"N13","v":221},{"$f":"COUNTIF(L47:L56,AN13)","v":0},{"$f":"AO13/(AQ4-AO10)","v":0},{"$f":"IF(AP13=0,0,(AP13*((LOG(AP13))/LOG(2))))","v":0},null,{"$f":"N13","v":221},{"$f":"COUNTIF(L57:L66,AS13)","v":0},{"$f":"AT13/(AV4-AT10)","v":0},{"$f":"IF(AU13=0,0,(AU13*((LOG(AU13))/LOG(2))))","v":0}]
[22,1026,23,1030,23,1039,null,null,null,null,0,222,null,222,{"$f":"COUNTIF($L$7:$L$500,N14)","v":13},{"$f":"O14/$Q$4","v":0.21666666666666667},{"$f":"IF(P14=0,0,(P14*((LOG(P14))/LOG(2))))","v":-0.47806435678460901},null,null,{"$f":"N14","v":222},{"$f":"COUNTIF(L7:L16,T14)","v":4},{"$f":"U14/(W4-U10)","v":1},{"$f":"IF(V14=0,0,(V14*((LOG(V14))/LOG(2))))","v":0},null,{"$f":"N14","v":222},{"$f":"COUNTIF(L17:L26,Y14)","v":1},{"$f":"Z14/(AB4-Z10)","v":0.25},{"$f":"IF(AA14=0,0,(AA14*((LOG(AA14))/LOG(2))))","v":-0.5},null,{"$f":"N14","v":222},{"$f":"COUNTIF(L27:L36,AD14)","v":1},{"$f":"AE14/(AG4-AE10)","v":0.33333333333333331},{"$f":"IF(AF14=0,0,(AF14*((LOG(AF14))/LOG(2))))","v":-0.52832083357371862},null,{"$f":"N14","v":222},{"$f":"COUNTIF(L37:L46,AI14)","v":2},{"$f":"AJ14/(AL4-AJ10)","v":1},{"$f":"IF(AK14=0,0,(AK14*((LOG(AK14))/LOG(2))))","v":0},null,{"$f":"N14","v":222},{"$f":"COUNTIF(L47:L56,AN14)","v":2},{"$f":"AO14/(AQ4-AO10)","v":1},{"$f":"IF(AP14=0,0,(AP14*((LOG(AP14))/LOG(2))))","v":0},null,{"$f":"N14","v":222},{"$f":"COUNTIF(L57:L66,AS14)","v":3},{"$f":"AT14/(AV4-AT10)","v":0.6},{"$f":"IF(AU14=0,0,(AU14*((LOG(AU14))/LOG(2))))","v":-0.44217935649972373}]
[11,1137,21,1146,21,1151,null,null,null,null,0,122,null,null,null,{"$f":"SUM(P7:P14)","v":1},{"$f":"-SUM(Q7:Q14)","v":1.2986803433475913},null,null,null,null,{"$f":"SUM(V7:V14)","v":1},{"$f":"-SUM(W7:W14)","v":0},null,null,null,{"$f":"SUM(AA7:AA14)","v":1},{"$f":"-SUM(AB7:AB14)","v":0.81127812445913283},null,null,null,{"$f":"SUM(AF7:AF14)","v":1},{"$f":"-SUM(AG7:AG14)","v":1.5849625007211559},null,null,null,{"$f":"SUM(AK7:AK14)","v":1},{"$f":"-SUM(AL7:AL14)","v":0},null,null,null,{"$f":"SUM(AP7:AP14)","v":1},{"$f":"-SUM(AQ7:AQ14)","v":0},null,null,null,{"$f":"SUM(AU7:AU14)","v":1},{"$f":"-SUM(AV7:AV14)","v":0.97095059445466869}]
[22,1260,23,1265,23,1276,null,null,null,null,0,222,null,null,null,"U=",{"$f":"Q15/(LOG(Q4)/LOG(2))","v":0.21985854017900652},null,null,null,null,"U1=",{"$f":"W15/(LOG(W4)/LOG(2))","v":0},null,null,null,"U2=",{"$f":"AB15/(LOG(AB4)/LOG(2))","v":0.24421905028821556},null,null,null,"U3=",{"$f":"AG15/(LOG(AG4)/LOG(2))","v":0.47712125471966238},null,null,null,"U4=",{"$f":"AL15/(LOG(AL4)/LOG(2))","v":0},null,null,null,"U5=",{"$f":"AQ15/(LOG(AQ4)/LOG(2))","v":0},null,null,null,"U6=",{"$f":"AV15/(LOG(AV4)/LOG(2))","v":0.29228525323862892}]
[11,1373,21,1382,21,1393,null,null,null,null,0,122]
[11,1521,12,1526,23,1534,null,null,null,null,0,112]
[11,1630,21,1639,21,1682,null,null,null,null,0,122,null,"Total Target Seq"]
[11,1797,21,1807,21,1828,null,null,null,null,0,122,null,{"$f":"COUNTIF(L7:L66,G3)","v":40},null,10,10,10,10,10,10]
[22,2007,23,2021,23,2041,null,null,null,null,0,222,null,null,null,"% of reinforcement given in 6 equal intervals based on number of trials "]
[11,2139,21,2146,21,2155,null,null,null,null,0,122,null,null,null,"%_1","%_2","%_3","%_4","%_5","%_6"]
[11,2246,12,2251,23,2262,null,null,null,null,0,112,null,null,"target sequence",{"$f":"$G$3","v":122},{"$f":"$G$3","v":122},{"$f":"$G$3","v":122},{"$f":"$G$3","v":122},{"$f":"$G$3","v":122},{"$f":"$G$3","v":122}]
[11,2359,21,2374,21,2378,null,null,null,null,0,122,null,null,"total reinforcement",{"$f":"U10","v":6},{"$f":"Z10","v":6},{"$f":"AE10","v":7},{"$f":"AJ10","v":8},{"$f":"AO10","v":8},{"$f":"AT10","v":5}]
[11,2499,21,2510,21,2529,null,null,null,null,0,122,null,null,"% target"]
[11,2629,12,2635,23,2647,null,null,null,null,0,112,null,null,"CCRF"]
[11,2742,12,2746,23,2753,null,null,null,null,0,112,null,null,"% CCRf"]
[11,2849,21,2858,21,2906,null,null,null,null,0,122,null,null,"average response rate",{"$f":"F16/P20","v":127.6},{"$f":"(F26-F16)/Q20","v":137.1},{"$f":"(F36-F26)/R20","v":141.9},{"$f":"(F46-F36)/S20","v":166.4},{"$f":"(F56-F46)/T20","v":145.69999999999999},{"$f":"(F66-F56)/U20","v":130.80000000000001}]
[11,3004,21,3013,21,3017,null,null,null,null,0,122]
[11,3111,21,3120,12,3131,null,null,null,null,0,121]
[11,3234,21,3244,21,3249,null,null,null,null,0,122]
[11,3342,21,3349,21,3369,null,null,null,null,0,122]
[11,3497,21,3507,21,3512,null,null,null,null,0,122]
[11,3654,21,3707,21,3723,null,null,null,null,0,122]
[11,3868,21,3878,21,3885,null,null,null,null,0,122]
[22,4003,23,4041,23,4066,null,null,null,null,0,222]
[22,4174,23,4178,23,4198,null,null,null,null,0,222]
[11,4294,21,4306,21,4310,null,null,null,null,0,122]
[11,4405,21,4438,21,4459,null,null,null,null,0,122]
[11,4607,21,4616,21,4646,null,null,null,null,0,122]
[11,4751,21,4792,21,4813,null,null,null,null,0,122]
[11,4969,21,5001,21,5013,null,null,null,null,0,122]
[11,5127,21,5137,21,5168,null,null,null,null,0,122]
[11,5264,21,5272,21,5300,null,null,null,null,0,122]
[11,5472,21,5482,21,5499,null,null,null,null,0,122]
[22,5678,23,5710,23,5730,null,null,null,null,0,222]
[11,5828,21,5838,21,5844,null,null,null,null,0,122]
[11,5952,21,5960,21,5962,null,null,null,null,0,122]
[11,6117,21,6126,21,6176,null,null,null,null,0,122]
[22,6301,23,6306,23,6315,null,null,null,null,0,222]
[11,6411,21,6419,21,6423,null,null,null,null,0,122]
[11,6516,21,6535,21,6564,null,null,null,null,0,122]
[11,6658,21,6668,21,6674,null,null,null,null,0,122]
[11,6824,21,6865,21,6888,null,null,null,null,0,122]
[11,6995,21,7041,21,7061,null,null,null,null,0,122]
[22,7169,23,7178,23,7187,null,null,null,null,0,222]
[11,7285,21,7295,21,7300,null,null,null,null,0,122]
[22,7442,23,7467,23,7476,null,null,null,null,0,222]
[22,7581,23,7584,23,7595,null,null,null,null,0,222]
[11,7690,21,7698,21,7702,null,null,null,null,0,122]
[11,7808,12,7813,23,7822,null,null,null,null,0,112]
[11,7917,21,7943,21,7954,null,null,null,null,0,122]
[11,8104,12,8108,23,8119,null,null,null,null,0,112]
[22,8224,23,8228,23,8238,null,null,null,null,0,222]
[11,8341,21,8350,21,8380,null,null,null,null,0,122]
[11,8483,21,8491,21,8495,null,null,null,null,1,122]

{"sheet":"!LB06944.. I","index":27,"n_rows":93,"n_cols":48,"rows_kept":93,"cut":false,"hidden":false,"merged":[[4,39,4,42],[5,39,5,40],[4,44,4,47],[5,44,5,45],[4,24,4,27],[5,24,5,25],[4,29,4,32],[5,29,5,30],[4,34,4,37],[5,34,5,35],[1,1,1,2],[5,13,5,14],[18,13,18,14],[19,13,19,14],[4,19,4,22],[5,19,5,20]]}
["Report for:!LB06944.. I"]
["Date:","<date>"]
["Hen:","<hen>",null,null,null,"Correct Sequence",{"$f":"Start!J2","v":122},null,null,null,null,null,null,null,null,"Total Sequences in Data",{"$f":"4994-COUNTBLANK(L7:L5000)","v":87},null,null,null,null,"Total Sequences in Block Data",{"$f":"COUNTA(L7:L21)","v":15},null,null,null,"Total Sequences in Block Data",{"$f":"COUNTA(L22:L35)","v":14},null,null,null,"Total Sequences in Block Data",{"$f":"COUNTA(L36:L50)","v":15},null,null,null,"Total Sequences in Block Data",{"$f":"COUNTA(L51:L64)","v":14},null,null,null,"Total Sequences in Block Data",{"$f":"COUNTA(L65:L79)","v":15},null,null,null,"Total Sequences in Block Data",{"$f":"COUNTA(L80:L93)","v":14}]
[null,null,null,null,null,null,null,null,null,null,null,null,null,null,null,"Total Sequences in Summary",{"$f":"SUM(O7:O14)","v":87},null,null,null,null,"Total Sequences in Block Summary",{"$f":"SUM(U7:U14)","v":15},null,null,null,"Total Sequences in Block Summary",{"$f":"SUM(Z7:Z14)","v":14},null,null,null,"Total Sequences in Block Summary",{"$f":"SUM(AE7:AE14)","v":15},null,null,null,"Total Sequences in Block Summary",{"$f":"SUM(AJ7:AJ14)","v":14},null,null,null,"Total Sequences in Block Summary",{"$f":"SUM(AO7:AO14)","v":15},null,null,null,"Total Sequences in Block Summary",{"$f":"SUM(AT7:AT14)","v":14}]
[null,null,null,null,null,null,null,null,null,null,null,null,null,null,null,null,null,null,null,"Block 1",null,null,null,null,"Block 2",null,null,null,null,"Block 3",null,null,null,null,"Block 4",null,null,null,null,"Block 5",null,null,null,null,"Block 6"]
["Sequence\nComponent\n1","Time\n1","Sequence\nComponent\n2","Time\n2","Sequence\nComponent\n3","Time\n3","Sequence\nComponent\n4","Time\n4","Sequence\nComponent\n5","Time\n5","Correct?\n0=No 1=Yes","Sequence",null,"Frequency",null,"Relative Frequency","Variability",null,null,"Frequency",null,"Relative Frequency","Variability",null,"Frequency",null,"Relative Frequency","Variability",null,"Frequency",null,"Relative Frequency","Variability",null,"Frequency",null,"Relative Frequency","Variability",null,"Frequency",null,"Relative Frequency","Variability",null,"Frequency",null,"Relative Frequency","Variability"]
[22,45,23,78,23,87,null,null,null,null,0,222,null,111,{"$f":"COUNTIF($L$7:$L$500,N7)","v":3},{"$f":"O7/$Q$4","v":3.4482758620689655E-2},{"$f":"IF(P7=0,0,(P7*((LOG(P7))/LOG(2))))","v":-0.16751658603888178},null,null,{"$f":"N7","v":111},{"$f":"COUNTIF(L7:L21,T7)","v":0},{"$f":"U7/(W4-U10)","v":0},{"$f":"IF(V7=0,0,(V7*((LOG(V7))/LOG(2))))","v":0},null,{"$f":"N7","v":111},{"$f":"COUNTIF(L22:L35,Y7)","v":1},{"$f":"Z7/(AB4-Z10)","v":0.16666666666666666},{"$f":"IF(AA7=0,0,(AA7*((LOG(AA7))/LOG(2))))","v":-0.43082708345352599},null,{"$f":"N7","v":111},{"$f":"COUNTIF(L36:L50,AD7)","v":0},{"$f":"AE7/(AG4-AE10)","v":0},{"$f":"IF(AF7=0,0,(AF7*((LOG(AF7))/LOG(2))))","v":0},null,{"$f":"N7","v":111},{"$f":"COUNTIF(L51:L64,AI7)","v":1},{"$f":"AJ7/(AL4-AJ10)","v":0.14285714285714285},{"$f":"IF(AK7=0,0,(AK7*((LOG(AK7))/LOG(2))))","v":-0.40105070315108626},null,{"$f":"N7","v":111},{"$f":"COUNTIF(L65:L79,AN7)","v":0},{"$f":"AO7/(AQ4-AO10)","v":0},{"$f":"IF(AP7=0,0,(AP7*((LOG(AP7))/LOG(2))))","v":0},null,{"$f":"N7","v":111},{"$f":"COUNTIF(L80:L93,AS7)","v":1},{"$f":"AT7/(AV4-AT10)","v":0.16666666666666666},{"$f":"IF(AU7=0,0,(AU7*((LOG(AU7))/LOG(2))))","v":-0.43082708345352599}]
[22,198,14,211,23,219,null,null,null,null,0,212,null,112,{"$f":"COUNTIF($L$7:$L$500,N8)","v":24},{"$f":"O8/$Q$4","v":0.27586206896551724},{"$f":"IF(P8=0,0,(P8*((LOG(P8))/LOG(2))))","v":-0.51254648141450265},null,null,{"$f":"N8","v":112},{"$f":"COUNTIF(L7:L21,T8)","v":1},{"$f":"U8/(W4-U10)","v":0.1},{"$f":"IF(V8=0,0,(V8*((LOG(V8))/LOG(2))))","v":-0.33219280948873625},null,{"$f":"N8","v":112},{"$f":"COUNTIF(L22:L35,Y8)","v":1},{"$f":"Z8/(AB4-Z10)","v":0.16666666666666666},{"$f":"IF(AA8=0,0,(AA8*((LOG(AA8))/LOG(2))))","v":-0.43082708345352599},null,{"$f":"N8","v":112},{"$f":"COUNTIF(L36:L50,AD8)","v":7},{"$f":"AE8/(AG4-AE10)","v":0.875},{"$f":"IF(AF8=0,0,(AF8*((LOG(AF8))/LOG(2))))","v":-0.1685644431995964},null,{"$f":"N8","v":112},{"$f":"COUNTIF(L51:L64,AI8)","v":3},{"$f":"AJ8/(AL4-AJ10)","v":0.42857142857142855},{"$f":"IF(AK8=0,0,(AK8*((LOG(AK8))/LOG(2))))","v":-0.52388246628704915},null,{"$f":"N8","v":112},{"$f":"COUNTIF(L65:L79,AN8)","v":8},{"$f":"AO8/(AQ4-AO10)","v":0.8},{"$f":"IF(AP8=0,0,(AP8*((LOG(AP8))/LOG(2))))","v":-0.25754247590988982},null,{"$f":"N8","v":112},{"$f":"COUNTIF(L80:L93,AS8)","v":4},{"$f":"AT8/(AV4-AT10)","v":0.66666666666666663},{"$f":"IF(AU8=0,0,(AU8*((LOG(AU8))/LOG(2))))","v":-0.38997500048077083}]
[22,313,23,328,23,331,null,null,null,null,0,222,null,121,{"$f":"COUNTIF($L$7:$L$500,N9)","v":0},{"$f":"O9/$Q$4","v":0},{"$f":"IF(P9=0,0,(P9*((LOG(P9))/LOG(2))))","v":0},null,null,{"$f":"N9","v":121},{"$f":"COUNTIF(L7:L21,T9)","v":0},{"$f":"U9/(W4-U10)","v":0},{"$f":"IF(V9=0,0,(V9*((LOG(V9))/LOG(2))))","v":0},null,{"$f":"N9","v":121},{"$f":"COUNTIF(L22:L35,Y9)","v":0},{"$f":"Z9/(AB4-Z10)","v":0},{"$f":"IF(AA9=0,0,(AA9*((LOG(AA9))/LOG(2))))","v":0},null,{"$f":"N9","v":121},{"$f":"COUNTIF(L36:L50,AD9)","v":0},{"$f":"AE9/(AG4-AE10)","v":0},{"$f":"IF(AF9=0,0,(AF9*((LOG(AF9))/LOG(2))))","v":0},null,{"$f":"N9","v":121},{"$f":"COUNTIF(L51:L64,AI9)","v":0},{"$f":"AJ9/(AL4-AJ10)","v":0},{"$f":"IF(AK9=0,0,(AK9*((LOG(AK9))/LOG(2))))","v":0},null,{"$f":"N9","v":121},{"$f":"COUNTIF(L65:L79,AN9)","v":0},{"$f":"AO9/(AQ4-AO10)","v":0},{"$f":"IF(AP9=0,0,(AP9*((LOG(AP9))/LOG(2))))","v":0},null,{"$f":"N9","v":121},{"$f":"COUNTIF(L80:L93,AS9)","v":0},{"$f":"AT9/(AV4-AT10)","v":0},{"$f":"IF(AU9=0,0,(AU9*((LOG(AU9))/LOG(2))))","v":0}]
[22,432,23,436,23,442,null,null,null,null,0,222,null,122,{"$f":"COUNTIF($L$7:$L$500,N10)","v":40},{"$f":"O10/$Q$4","v":0.45977011494252873},{"$f":"IF(P10=0,0,(P10*((LOG(P10))/LOG(2))))","v":-0.51540937975235213},null,null,{"$f":"N10","v":122},{"$f":"COUNTIF(L7:L21,T10)","v":5},null,null,null,{"$f":"N10","v":122},{"$f":"COUNTIF(L22:L35,Y10)","v":8},null,null,null,{"$f":"N10","v":122},{"$f":"COUNTIF(L36:L50,AD10)","v":7},null,null,null,{"$f":"N10","v":122},{"$f":"COUNTIF(L51:L64,AI10)","v":7},null,null,null,{"$f":"N10","v":122},{"$f":"COUNTIF(L65:L79,AN10)","v":5},null,null,null,{"$f":"N10","v":122},{"$f":"COUNTIF(L80:L93,AS10)","v":8}]
[22,550,23,561,23,569,null,null,null,null,0,222,null,211,{"$f":"COUNTIF($L$7:$L$500,N11)","v":0},{"$f":"O11/$Q$4","v":0},{"$f":"IF(P11=0,0,(P11*((LOG(P11))/LOG(2))))","v":0},null,null,{"$f":"N11","v":211},{"$f":"COUNTIF(L7:L21,T11)","v":0},{"$f":"U11/(W4-U10)","v":0},{"$f":"IF(V11=0,0,(V11*((LOG(V11))/LOG(2))))","v":0},null,{"$f":"N11","v":211},{"$f":"COUNTIF(L22:L35,Y11)","v":0},{"$f":"Z11/(AB4-Z10)","v":0},{"$f":"IF(AA11=0,0,(AA11*((LOG(AA11))/LOG(2))))","v":0},null,{"$f":"N11","v":211},{"$f":"COUNTIF(L36:L50,AD11)","v":0},{"$f":"AE11/(AG4-AE10)","v":0},{"$f":"IF(AF11=0,0,(AF11*((LOG(AF11))/LOG(2))))","v":0},null,{"$f":"N11","v":211},{"$f":"COUNTIF(L51:L64,AI11)","v":0},{"$f":"AJ11/(AL4-AJ10)","v":0},{"$f":"IF(AK11=0,0,(AK11*((LOG(AK11))/LOG(2))))","v":0},null,{"$f":"N11","v":211},{"$f":"COUNTIF(L65:L79,AN11)","v":0},{"$f":"AO11/(AQ4-AO10)","v":0},{"$f":"IF(AP11=0,0,(AP11*((LOG(AP11))/LOG(2))))","v":0},null,{"$f":"N11","v":211},{"$f":"COUNTIF(L80:L93,AS11)","v":0},{"$f":"AT11/(AV4-AT10)","v":0},{"$f":"IF(AU11=0,0,(AU11*((LOG(AU11))/LOG(2))))","v":0}]
[11,667,21,680,21,685,null,null,null,null,0,122,null,212,{"$f":"COUNTIF($L$7:$L$500,N12)","v":1},{"$f":"O12/$Q$4","v":1.1494252873563218E-2},{"$f":"IF(P12=0,0,(P12*((LOG(P12))/LOG(2))))","v":-7.4056821791364691E-2},null,null,{"$f":"N12","v":212},{"$f":"COUNTIF(L7:L21,T12)","v":1},{"$f":"U12/(W4-U10)","v":0.1},{"$f":"IF(V12=0,0,(V12*((LOG(V12))/LOG(2))))","v":-0.33219280948873625},null,{"$f":"N12","v":212},{"$f":"COUNTIF(L22:L35,Y12)","v":0},{"$f":"Z12/(AB4-Z10)","v":0},{"$f":"IF(AA12=0,0,(AA12*((LOG(AA12))/LOG(2))))","v":0},null,{"$f":"N12","v":212},{"$f":"COUNTIF(L36:L50,AD12)","v":0},{"$f":"AE12/(AG4-AE10)","v":0},{"$f":"IF(AF12=0,0,(AF12*((LOG(AF12))/LOG(2))))","v":0},null,{"$f":"N12","v":212},{"$f":"COUNTIF(L51:L64,AI12)","v":0},{"$f":"AJ12/(AL4-AJ10)","v":0},{"$f":"IF(AK12=0,0,(AK12*((LOG(AK12))/LOG(2))))","v":0},null,{"$f":"N12","v":212},{"$f":"COUNTIF(L65:L79,AN12)","v":0},{"$f":"AO12/(AQ4-AO10)","v":0},{"$f":"IF(AP12=0,0,(AP12*((LOG(AP12))/LOG(2))))","v":0},null,{"$f":"N12","v":212},{"$f":"COUNTIF(L80:L93,AS12)","v":0},{"$f":"AT12/(AV4-AT10)","v":0},{"$f":"IF(AU12=0,0,(AU12*((LOG(AU12))/LOG(2))))","v":0}]
[11,784,21,793,21,813,null,null,null,null,0,122,null,221,{"$f":"COUNTIF($L$7:$L$500,N13)","v":0},{"$f":"O13/$Q$4","v":0},{"$f":"IF(P13=0,0,(P13*((LOG(P13))/LOG(2))))","v":0},null,null,{"$f":"N13","v":221},{"$f":"COUNTIF(L7:L21,T13)","v":0},{"$f":"U13/(W4-U10)","v":0},{"$f":"IF(V13=0,0,(V13*((LOG(V13))/LOG(2))))","v":0},null,{"$f":"N13","v":221},{"$f":"COUNTIF(L22:L35,Y13)","v":0},{"$f":"Z13/(AB4-Z10)","v":0},{"$f":"IF(AA13=0,0,(AA13*((LOG(AA13))/LOG(2))))","v":0},null,{"$f":"N13","v":221},{"$f":"COUNTIF(L36:L50,AD13)","v":0},{"$f":"AE13/(AG4-AE10)","v":0},{"$f":"IF(AF13=0,0,(AF13*((LOG(AF13))/LOG(2))))","v":0},null,{"$f":"N13","v":221},{"$f":"COUNTIF(L51:L64,AI13)","v":0},{"$f":"AJ13/(AL4-AJ10)","v":0},{"$f":"IF(AK13=0,0,(AK13*((LOG(AK13))/LOG(2))))","v":0},null,{"$f":"N13","v":221},{"$f":"COUNTIF(L65:L79,AN13)","v":0},{"$f":"AO13/(AQ4-AO10)","v":0},{"$f":"IF(AP13=0,0,(AP13*((LOG(AP13))/LOG(2))))","v":0},null,{"$f":"N13","v":221},{"$f":"COUNTIF(L80:L93,AS13)","v":0},{"$f":"AT13/(AV4-AT10)","v":0},{"$f":"IF(AU13=0,0,(AU13*((LOG(AU13))/LOG(2))))","v":0}]
[11,916,21,929,21,940,null,null,null,null,0,122,null,222,{"$f":"COUNTIF($L$7:$L$500,N14)","v":19},{"$f":"O14/$Q$4","v":0.21839080459770116},{"$f":"IF(P14=0,0,(P14*((LOG(P14))/LOG(2))))","v":-0.47937130650227255},null,null,{"$f":"N14","v":222},{"$f":"COUNTIF(L7:L21,T14)","v":8},{"$f":"U14/(W4-U10)","v":0.8},{"$f":"IF(V14=0,0,(V14*((LOG(V14))/LOG(2))))","v":-0.25754247590988982},null,{"$f":"N14","v":222},{"$f":"COUNTIF(L22:L35,Y14)","v":4},{"$f":"Z14/(AB4-Z10)","v":0.66666666666666663},{"$f":"IF(AA14=0,0,(AA14*((LOG(AA14))/LOG(2))))","v":-0.38997500048077083},null,{"$f":"N14","v":222},{"$f":"COUNTIF(L36:L50,AD14)","v":1},{"$f":"AE14/(AG4-AE10)","v":0.125},{"$f":"IF(AF14=0,0,(AF14*((LOG(AF14))/LOG(2))))","v":-0.375},null,{"$f":"N14","v":222},{"$f":"COUNTIF(L51:L64,AI14)","v":3},{"$f":"AJ14/(AL4-AJ10)","v":0.42857142857142855},{"$f":"IF(AK14=0,0,(AK14*((LOG(AK14))/LOG(2))))","v":-0.52388246628704915},null,{"$f":"N14","v":222},{"$f":"COUNTIF(L65:L79,AN14)","v":2},{"$f":"AO14/(AQ4-AO10)","v":0.2},{"$f":"IF(AP14=0,0,(AP14*((LOG(AP14))/LOG(2))))","v":-0.46438561897747244},null,{"$f":"N14","v":222},{"$f":"COUNTIF(L80:L93,AS14)","v":1},{"$f":"AT14/(AV4-AT10)","v":0.16666666666666666},{"$f":"IF(AU14=0,0,(AU14*((LOG(AU14))/LOG(2))))","v":-0.43082708345352599}]
[22,1049,23,1055,23,1065,null,null,null,null,0,222,null,null,null,{"$f":"SUM(P7:P14)","v":1},{"$f":"-SUM(Q7:Q14)","v":1.7489005754993738},null,null,null,null,{"$f":"SUM(V7:V14)","v":1},{"$f":"-SUM(W7:W14)","v":0.92192809488736227},null,null,null,{"$f":"SUM(AA7:AA14)","v":1},{"$f":"-SUM(AB7:AB14)","v":1.2516291673878228},null,null,null,{"$f":"SUM(AF7:AF14)","v":1},{"$f":"-SUM(AG7:AG14)","v":0.5435644431995964},null,null,null,{"$f":"SUM(AK7:AK14)","v":1},{"$f":"-SUM(AL7:AL14)","v":1.4488156357251847},null,null,null,{"$f":"SUM(AP7:AP14)","v":1},{"$f":"-SUM(AQ7:AQ14)","v":0.72192809488736231},null,null,null,{"$f":"SUM(AU7:AU14)","v":0.99999999999999989},{"$f":"-SUM(AV7:AV14)","v":1.2516291673878228}]
[22,1169,23,1172,23,1177,null,null,null,null,0,222,null,null,null,"U=",{"$f":"Q15/(LOG(Q4)/LOG(2))","v":0.27144434475115498},null,null,null,null,"U1=",{"$f":"W15/(LOG(W4)/LOG(2))","v":0.23597489418404538},null,null,null,"U2=",{"$f":"AB15/(LOG(AB4)/LOG(2))","v":0.32873981885340137},null,null,null,"U3=",{"$f":"AG15/(LOG(AG4)/LOG(2))","v":0.13912968123821584},null,null,null,"U4=",{"$f":"AL15/(LOG(AL4)/LOG(2))","v":0.38053075307783579},null,null,null,"U5=",{"$f":"AQ15/(LOG(AQ4)/LOG(2))","v":0.18478328922208231},null,null,null,"U6=",{"$f":"AV15/(LOG(AV4)/LOG(2))","v":0.32873981885340137}]
[11,1274,21,1283,21,1301,null,null,null,null,0,122]
[22,1441,23,1445,23,1451,null,null,null,null,0,222]
[11,1546,21,1556,21,1559,null,null,null,null,0,122,null,"Total Target Seq"]
[11,1652,12,1658,23,1670,null,null,null,null,0,112,null,{"$f":"COUNTIF(L7:L93,G3)","v":40},null,15,14,15,14,15,14]
[22,1778,23,1780,23,1785,null,null,null,null,0,222,null,null,null,"% of reinforcement given in 6 equal intervals based on number of trials "]
[22,1887,23,1890,23,1895,null,null,null,null,0,222,null,null,null,"%_1","%_2","%_3","%_4","%_5","%_6"]
[11,1993,21,2002,21,2005,null,null,null,null,0,122,null,null,"target sequence",{"$f":"$G$3","v":122},{"$f":"$G$3","v":122},{"$f":"$G$3","v":122},{"$f":"$G$3","v":122},{"$f":"$G$3","v":122},{"$f":"$G$3","v":122}]
[11,2099,21,2113,21,2122,null,null,null,null,0,122,null,null,"total reinforcement",{"$f":"U10","v":5},{"$f":"Z10","v":8},{"$f":"AE10","v":7},{"$f":"AJ10","v":7},{"$f":"AO10","v":5},{"$f":"AT10","v":8}]
[11,2216,21,2226,21,2248,null,null,null,null,0,122,null,null,"% target"]
[11,2343,12,2349,14,2351,null,null,null,null,0,111,null,null,"CCRF"]
[22,2456,23,2459,23,2465,null,null,null,null,0,222,null,null,"% CCRf"]
[22,2569,23,2573,23,2578,null,null,null,null,0,222,null,null,"average response rate",{"$f":"F21/P20","v":119},{"$f":"(F35-F21)/Q20","v":118.85714285714286},{"$f":"(F50-F35)/R20","v":124.33333333333333},{"$f":"(F64-F50)/S20","v":133},{"$f":"(F79-F64)/T20","v":120.26666666666667},{"$f":"(F93-F79)/U20","v":124.21428571428571}]
[22,2682,23,2686,23,2695,null,null,null,null,0,222]
[11,2790,21,2797,21,2802,null,null,null,null,0,122]
[11,2892,21,2909,21,2920,null,null,null,null,0,122]
[11,3064,21,3086,21,3097,null,null,null,null,0,122]
[11,3203,21,3214,21,3219,null,null,null,null,0,122]
[11,3312,12,3322,23,3332,null,null,null,null,0,112]
[11,3430,21,3442,21,3449,null,null,null,null,0,122]
[11,3603,12,3608,23,3617,null,null,null,null,0,112]
[11,3712,12,3722,23,3730,null,null,null,null,0,112]
[22,3882,23,3893,23,3902,null,null,null,null,0,222]
[11,3997,21,4004,21,4009,null,null,null,null,0,122]
[11,4102,12,4111,23,4120,null,null,null,null,0,112]
[11,4215,21,4223,21,4227,null,null,null,null,0,122]
[11,4316,21,4327,21,4353,null,null,null,null,0,122]
[11,4467,21,4509,21,4521,null,null,null,null,0,122]
[11,4638,12,4639,23,4647,null,null,null,null,0,112]
[11,4741,21,4749,21,4753,null,null,null,null,0,122]
[11,4850,12,4858,23,4871,null,null,null,null,0,112]
[11,4968,21,4975,21,4979,null,null,null,null,0,122]
[11,5075,12,5082,23,5089,null,null,null,null,0,112]
[11,5185,12,5188,23,5197,null,null,null,null,0,112]
[11,5292,21,5301,21,5314,null,null,null,null,0,122]
[11,5417,12,5422,14,5429,null,null,null,null,0,111]
[22,5530,23,5535,23,5550,null,null,null,null,0,222]
[22,5658,23,5662,23,5673,null,null,null,null,0,222]
[11,5767,21,5776,21,5779,null,null,null,null,0,122]
[11,5875,21,5883,21,5912,null,null,null,null,0,122]
[11,6017,21,6027,21,6034,null,null,null,null,0,122]
[11,6222,12,6227,23,6261,null,null,null,null,0,112]
[11,6357,21,6366,21,6370,null,null,null,null,0,122]
[11,6490,21,6519,21,6532,null,null,null,null,0,122]
[11,6680,21,6691,21,6696,null,null,null,null,0,122]
[11,6797,12,6801,23,6810,null,null,null,null,0,112]
[22,6911,23,6915,23,6926,null,null,null,null,0,222]
[11,7023,21,7060,21,7070,null,null,null,null,0,122]
[11,7164,12,7169,23,7176,null,null,null,null,0,112]
[22,7280,23,7284,23,7308,null,null,null,null,0,222]
[11,7404,12,7412,23,7419,null,null,null,null,0,112]
[11,7515,21,7526,21,7534,null,null,null,null,0,122]
[11,7636,21,7651,21,7664,null,null,null,null,0,122]
[11,7781,12,7786,23,7795,null,null,null,null,0,112]
[11,7891,21,7900,21,7903,null,null,null,null,0,122]
[11,7999,21,8043,21,8053,null,null,null,null,0,122]
[11,8147,12,8157,23,8163,null,null,null,null,0,112]
[11,8258,12,8261,23,8269,null,null,null,null,0,112]
[11,8365,12,8370,23,8377,null,null,null,null,0,112]
[11,8476,12,8480,23,8488,null,null,null,null,0,112]
[22,8592,23,8605,23,8619,null,null,null,null,0,222]
[11,8715,21,8725,21,8731,null,null,null,null,0,122]
[11,8822,12,8826,23,8872,null,null,null,null,0,112]
[11,8968,12,8971,23,8980,null,null,null,null,0,112]
[11,9075,21,9083,21,9098,null,null,null,null,0,122]
[11,9200,12,9207,23,9223,null,null,null,null,0,112]
[11,9321,21,9329,21,9361,null,null,null,null,0,122]
[11,9451,21,9460,21,9475,null,null,null,null,0,122]
[11,9577,12,9581,23,9622,null,null,null,null,0,112]
[11,9717,21,9725,21,9729,null,null,null,null,0,122]
[11,9836,12,9852,23,9866,null,null,null,null,0,112]
[11,9963,21,9971,21,9993,null,null,null,null,0,122]
[11,10120,21,10138,21,10142,null,null,null,null,0,122]
[11,10241,12,10243,14,10247,null,null,null,null,0,111]
[22,10348,23,10364,23,10369,null,null,null,null,0,222]
[11,10464,12,10468,23,10480,null,null,null,null,0,112]
[11,10583,21,10589,21,10593,null,null,null,null,0,122]
[11,10688,21,10700,21,10719,null,null,null,null,1,122]

{"sheet":"!LB07C14.. I","index":28,"n_rows":85,"n_cols":48,"rows_kept":85,"cut":false,"hidden":false,"merged":[[4,39,4,42],[5,39,5,40],[4,44,4,47],[5,44,5,45],[4,24,4,27],[5,24,5,25],[4,29,4,32],[5,29,5,30],[4,34,4,37],[5,34,5,35],[1,1,1,2],[5,13,5,14],[18,13,18,14],[19,13,19,14],[4,19,4,22],[5,19,5,20]]}
["Report for:!LB07C14.. I"]
["Date:","<date>"]
["Hen:","<hen>",null,null,null,"Correct Sequence",{"$f":"Start!J2","v":122},null,null,null,null,null,null,null,null,"Total Sequences in Data",{"$f":"4994-COUNTBLANK(L7:L5000)","v":79},null,null,null,null,"Total Sequences in Block Data",{"$f":"COUNTA(L7:L19)","v":13},null,null,null,"Total Sequences in Block Data",{"$f":"COUNTA(L20:L32)","v":13},null,null,null,"Total Sequences in Block Data",{"$f":"COUNTA(L33:L46)","v":14},null,null,null,"Total Sequences in Block Data",{"$f":"COUNTA(L47:L59)","v":13},null,null,null,"Total Sequences in Block Data",{"$f":"COUNTA(L60:L72)","v":13},null,null,null,"Total Sequences in Block Data",{"$f":"COUNTA(L73:L85)","v":13}]
[null,null,null,null,null,null,null,null,null,null,null,null,null,null,null,"Total Sequences in Summary",{"$f":"SUM(O7:O14)","v":79},null,null,null,null,"Total Sequences in Block Summary",{"$f":"SUM(U7:U14)","v":13},null,null,null,"Total Sequences in Block Summary",{"$f":"SUM(Z7:Z14)","v":13},null,null,null,"Total Sequences in Block Summary",{"$f":"SUM(AE7:AE14)","v":14},null,null,null,"Total Sequences in Block Summary",{"$f":"SUM(AJ7:AJ14)","v":13},null,null,null,"Total Sequences in Block Summary",{"$f":"SUM(AO7:AO14)","v":13},null,null,null,"Total Sequences in Block Summary",{"$f":"SUM(AT7:AT14)","v":13}]
[null,null,null,null,null,null,null,null,null,null,null,null,null,null,null,null,null,null,null,"Block 1",null,null,null,null,"Block 2",null,null,null,null,"Block 3",null,null,null,null,"Block 4",null,null,null,null,"Block 5",null,null,null,null,"Block 6"]
["Sequence\nComponent\n1","Time\n1","Sequence\nComponent\n2","Time\n2","Sequence\nComponent\n3","Time\n3","Sequence\nComponent\n4","Time\n4","Sequence\nComponent\n5","Time\n5","Correct?\n0=No 1=Yes","Sequence",null,"Frequency",null,"Relative Frequency","Variability",null,null,"Frequency",null,"Relative Frequency","Variability",null,"Frequency",null,"Relative Frequency","Variability",null,"Frequency",null,"Relative Frequency","Variability",null,"Frequency",null,"Relative Frequency","Variability",null,"Frequency",null,"Relative Frequency","Variability",null,"Frequency",null,"Relative Frequency","Variability"]
[22,4,23,7,23,12,null,null,null,null,0,222,null,111,{"$f":"COUNTIF($L$7:$L$500,N7)","v":2},{"$f":"O7/$Q$4","v":2.5316455696202531E-2},{"$f":"IF(P7=0,0,(P7*((LOG(P7))/LOG(2))))","v":-0.13427293033359755},null,null,{"$f":"N7","v":111},{"$f":"COUNTIF(L7:L19,T7)","v":0},{"$f":"U7/(W4-U10)","v":0},{"$f":"IF(V7=0,0,(V7*((LOG(V7))/LOG(2))))","v":0},null,{"$f":"N7","v":111},{"$f":"COUNTIF(L20:L32,Y7)","v":0},{"$f":"Z7/(AB4-Z10)","v":0},{"$f":"IF(AA7=0,0,(AA7*((LOG(AA7))/LOG(2))))","v":0},null,{"$f":"N7","v":111},{"$f":"COUNTIF(L33:L46,AD7)","v":0},{"$f":"AE7/(AG4-AE10)","v":0},{"$f":"IF(AF7=0,0,(AF7*((LOG(AF7))/LOG(2))))","v":0},null,{"$f":"N7","v":111},{"$f":"COUNTIF(L47:L59,AI7)","v":0},{"$f":"AJ7/(AL4-AJ10)","v":0},{"$f":"IF(AK7=0,0,(AK7*((LOG(AK7))/LOG(2))))","v":0},null,{"$f":"N7","v":111},{"$f":"COUNTIF(L60:L72,AN7)","v":2},{"$f":"AO7/(AQ4-AO10)","v":0.4},{"$f":"IF(AP7=0,0,(AP7*((LOG(AP7))/LOG(2))))","v":-0.52877123795494496},null,{"$f":"N7","v":111},{"$f":"COUNTIF(L73:L85,AS7)","v":0},{"$f":"AT7/(AV4-AT10)","v":0},{"$f":"IF(AU7=0,0,(AU7*((LOG(AU7))/LOG(2))))","v":0}]
[22,113,23,128,23,130,null,null,null,null,0,222,null,112,{"$f":"COUNTIF($L$7:$L$500,N8)","v":17},{"$f":"O8/$Q$4","v":0.21518987341772153},{"$f":"IF(P8=0,0,(P8*((LOG(P8))/LOG(2))))","v":-0.47692916984499978},null,null,{"$f":"N8","v":112},{"$f":"COUNTIF(L7:L19,T8)","v":0},{"$f":"U8/(W4-U10)","v":0},{"$f":"IF(V8=0,0,(V8*((LOG(V8))/LOG(2))))","v":0},null,{"$f":"N8","v":112},{"$f":"COUNTIF(L20:L32,Y8)","v":3},{"$f":"Z8/(AB4-Z10)","v":0.42857142857142855},{"$f":"IF(AA8=0,0,(AA8*((LOG(AA8))/LOG(2))))","v":-0.52388246628704915},null,{"$f":"N8","v":112},{"$f":"COUNTIF(L33:L46,AD8)","v":2},{"$f":"AE8/(AG4-AE10)","v":0.33333333333333331},{"$f":"IF(AF8=0,0,(AF8*((LOG(AF8))/LOG(2))))","v":-0.52832083357371862},null,{"$f":"N8","v":112},{"$f":"COUNTIF(L47:L59,AI8)","v":5},{"$f":"AJ8/(AL4-AJ10)","v":0.625},{"$f":"IF(AK8=0,0,(AK8*((LOG(AK8))/LOG(2))))","v":-0.42379494069539858},null,{"$f":"N8","v":112},{"$f":"COUNTIF(L60:L72,AN8)","v":2},{"$f":"AO8/(AQ4-AO10)","v":0.4},{"$f":"IF(AP8=0,0,(AP8*((LOG(AP8))/LOG(2))))","v":-0.52877123795494496},null,{"$f":"N8","v":112},{"$f":"COUNTIF(L73:L85,AS8)","v":5},{"$f":"AT8/(AV4-AT10)","v":0.83333333333333337},{"$f":"IF(AU8=0,0,(AU8*((LOG(AU8))/LOG(2))))","v":-0.21919533819482812}]
[22,233,23,237,23,241,null,null,null,null,0,222,null,121,{"$f":"COUNTIF($L$7:$L$500,N9)","v":0},{"$f":"O9/$Q$4","v":0},{"$f":"IF(P9=0,0,(P9*((LOG(P9))/LOG(2))))","v":0},null,null,{"$f":"N9","v":121},{"$f":"COUNTIF(L7:L19,T9)","v":0},{"$f":"U9/(W4-U10)","v":0},{"$f":"IF(V9=0,0,(V9*((LOG(V9))/LOG(2))))","v":0},null,{"$f":"N9","v":121},{"$f":"COUNTIF(L20:L32,Y9)","v":0},{"$f":"Z9/(AB4-Z10)","v":0},{"$f":"IF(AA9=0,0,(AA9*((LOG(AA9))/LOG(2))))","v":0},null,{"$f":"N9","v":121},{"$f":"COUNTIF(L33:L46,AD9)","v":0},{"$f":"AE9/(AG4-AE10)","v":0},{"$f":"IF(AF9=0,0,(AF9*((LOG(AF9))/LOG(2))))","v":0},null,{"$f":"N9","v":121},{"$f":"COUNTIF(L47:L59,AI9)","v":0},{"$f":"AJ9/(AL4-AJ10)","v":0},{"$f":"IF(AK9=0,0,(AK9*((LOG(AK9))/LOG(2))))","v":0},null,{"$f":"N9","v":121},{"$f":"COUNTIF(L60:L72,AN9)","v":0},{"$f":"AO9/(AQ4-AO10)","v":0},{"$f":"IF(AP9=0,0,(AP9*((LOG(AP9))/LOG(2))))","v":0},null,{"$f":"N9","v":121},{"$f":"COUNTIF(L73:L85,AS9)","v":0},{"$f":"AT9/(AV4-AT10)","v":0},{"$f":"IF(AU9=0,0,(AU9*((LOG(AU9))/LOG(2))))","v":0}]
[22,349,23,357,23,366,null,null,null,null,0,222,null,122,{"$f":"COUNTIF($L$7:$L$500,N10)","v":40},{"$f":"O10/$Q$4","v":0.50632911392405067},{"$f":"IF(P10=0,0,(P10*((LOG(P10))/LOG(2))))","v":-0.49714058394417238},null,null,{"$f":"N10","v":122},{"$f":"COUNTIF(L7:L19,T10)","v":6},null,null,null,{"$f":"N10","v":122},{"$f":"COUNTIF(L20:L32,Y10)","v":6},null,null,null,{"$f":"N10","v":122},{"$f":"COUNTIF(L33:L46,AD10)","v":8},null,null,null,{"$f":"N10","v":122},{"$f":"COUNTIF(L47:L59,AI10)","v":5},null,null,null,{"$f":"N10","v":122},{"$f":"COUNTIF(L60:L72,AN10)","v":8},null,null,null,{"$f":"N10","v":122},{"$f":"COUNTIF(L73:L85,AS10)","v":7}]
[22,468,23,478,23,485,null,null,null,null,0,222,null,211,{"$f":"COUNTIF($L$7:$L$500,N11)","v":0},{"$f":"O11/$Q$4","v":0},{"$f":"IF(P11=0,0,(P11*((LOG(P11))/LOG(2))))","v":0},null,null,{"$f":"N11","v":211},{"$f":"COUNTIF(L7:L19,T11)","v":0},{"$f":"U11/(W4-U10)","v":0},{"$f":"IF(V11=0,0,(V11*((LOG(V11))/LOG(2))))","v":0},null,{"$f":"N11","v":211},{"$f":"COUNTIF(L20:L32,Y11)","v":0},{"$f":"Z11/(AB4-Z10)","v":0},{"$f":"IF(AA11=0,0,(AA11*((LOG(AA11))/LOG(2))))","v":0},null,{"$f":"N11","v":211},{"$f":"COUNTIF(L33:L46,AD11)","v":0},{"$f":"AE11/(AG4-AE10)","v":0},{"$f":"IF(AF11=0,0,(AF11*((LOG(AF11))/LOG(2))))","v":0},null,{"$f":"N11","v":211},{"$f":"COUNTIF(L47:L59,AI11)","v":0},{"$f":"AJ11/(AL4-AJ10)","v":0},{"$f":"IF(AK11=0,0,(AK11*((LOG(AK11))/LOG(2))))","v":0},null,{"$f":"N11","v":211},{"$f":"COUNTIF(L60:L72,AN11)","v":0},{"$f":"AO11/(AQ4-AO10)","v":0},{"$f":"IF(AP11=0,0,(AP11*((LOG(AP11))/LOG(2))))","v":0},null,{"$f":"N11","v":211},{"$f":"COUNTIF(L73:L85,AS11)","v":0},{"$f":"AT11/(AV4-AT10)","v":0},{"$f":"IF(AU11=0,0,(AU11*((LOG(AU11))/LOG(2))))","v":0}]
[11,582,21,589,21,592,null,null,null,null,0,122,null,212,{"$f":"COUNTIF($L$7:$L$500,N12)","v":0},{"$f":"O12/$Q$4","v":0},{"$f":"IF(P12=0,0,(P12*((LOG(P12))/LOG(2))))","v":0},null,null,{"$f":"N12","v":212},{"$f":"COUNTIF(L7:L19,T12)","v":0},{"$f":"U12/(W4-U10)","v":0},{"$f":"IF(V12=0,0,(V12*((LOG(V12))/LOG(2))))","v":0},null,{"$f":"N12","v":212},{"$f":"COUNTIF(L20:L32,Y12)","v":0},{"$f":"Z12/(AB4-Z10)","v":0},{"$f":"IF(AA12=0,0,(AA12*((LOG(AA12))/LOG(2))))","v":0},null,{"$f":"N12","v":212},{"$f":"COUNTIF(L33:L46,AD12)","v":0},{"$f":"AE12/(AG4-AE10)","v":0},{"$f":"IF(AF12=0,0,(AF12*((LOG(AF12))/LOG(2))))","v":0},null,{"$f":"N12","v":212},{"$f":"COUNTIF(L47:L59,AI12)","v":0},{"$f":"AJ12/(AL4-AJ10)","v":0},{"$f":"IF(AK12=0,0,(AK12*((LOG(AK12))/LOG(2))))","v":0},null,{"$f":"N12","v":212},{"$f":"COUNTIF(L60:L72,AN12)","v":0},{"$f":"AO12/(AQ4-AO10)","v":0},{"$f":"IF(AP12=0,0,(AP12*((LOG(AP12))/LOG(2))))","v":0},null,{"$f":"N12","v":212},{"$f":"COUNTIF(L73:L85,AS12)","v":0},{"$f":"AT12/(AV4-AT10)","v":0},{"$f":"IF(AU12=0,0,(AU12*((LOG(AU12))/LOG(2))))","v":0}]
[11,739,21,750,21,756,null,null,null,null,0,122,null,221,{"$f":"COUNTIF($L$7:$L$500,N13)","v":0},{"$f":"O13/$Q$4","v":0},{"$f":"IF(P13=0,0,(P13*((LOG(P13))/LOG(2))))","v":0},null,null,{"$f":"N13","v":221},{"$f":"COUNTIF(L7:L19,T13)","v":0},{"$f":"U13/(W4-U10)","v":0},{"$f":"IF(V13=0,0,(V13*((LOG(V13))/LOG(2))))","v":0},null,{"$f":"N13","v":221},{"$f":"COUNTIF(L20:L32,Y13)","v":0},{"$f":"Z13/(AB4-Z10)","v":0},{"$f":"IF(AA13=0,0,(AA13*((LOG(AA13))/LOG(2))))","v":0},null,{"$f":"N13","v":221},{"$f":"COUNTIF(L33:L46,AD13)","v":0},{"$f":"AE13/(AG4-AE10)","v":0},{"$f":"IF(AF13=0,0,(AF13*((LOG(AF13))/LOG(2))))","v":0},null,{"$f":"N13","v":221},{"$f":"COUNTIF(L47:L59,AI13)","v":0},{"$f":"AJ13/(AL4-AJ10)","v":0},{"$f":"IF(AK13=0,0,(AK13*((LOG(AK13))/LOG(2))))","v":0},null,{"$f":"N13","v":221},{"$f":"COUNTIF(L60:L72,AN13)","v":0},{"$f":"AO13/(AQ4-AO10)","v":0},{"$f":"IF(AP13=0,0,(AP13*((LOG(AP13))/LOG(2))))","v":0},null,{"$f":"N13","v":221},{"$f":"COUNTIF(L73:L85,AS13)","v":0},{"$f":"AT13/(AV4-AT10)","v":0},{"$f":"IF(AU13=0,0,(AU13*((LOG(AU13))/LOG(2))))","v":0}]
[22,907,23,912,23,919,null,null,null,null,0,222,null,222,{"$f":"COUNTIF($L$7:$L$500,N14)","v":20},{"$f":"O14/$Q$4","v":0.25316455696202533},{"$f":"IF(P14=0,0,(P14*((LOG(P14))/LOG(2))))","v":-0.50173484893411158},null,null,{"$f":"N14","v":222},{"$f":"COUNTIF(L7:L19,T14)","v":7},{"$f":"U14/(W4-U10)","v":1},{"$f":"IF(V14=0,0,(V14*((LOG(V14))/LOG(2))))","v":0},null,{"$f":"N14","v":222},{"$f":"COUNTIF(L20:L32,Y14)","v":4},{"$f":"Z14/(AB4-Z10)","v":0.5714285714285714},{"$f":"IF(AA14=0,0,(AA14*((LOG(AA14))/LOG(2))))","v":-0.46134566974720237},null,{"$f":"N14","v":222},{"$f":"COUNTIF(L33:L46,AD14)","v":4},{"$f":"AE14/(AG4-AE10)","v":0.66666666666666663},{"$f":"IF(AF14=0,0,(AF14*((LOG(AF14))/LOG(2))))","v":-0.38997500048077083},null,{"$f":"N14","v":222},{"$f":"COUNTIF(L47:L59,AI14)","v":3},{"$f":"AJ14/(AL4-AJ10)","v":0.375},{"$f":"IF(AK14=0,0,(AK14*((LOG(AK14))/LOG(2))))","v":-0.53063906222956647},null,{"$f":"N14","v":222},{"$f":"COUNTIF(L60:L72,AN14)","v":1},{"$f":"AO14/(AQ4-AO10)","v":0.2},{"$f":"IF(AP14=0,0,(AP14*((LOG(AP14))/LOG(2))))","v":-0.46438561897747244},null,{"$f":"N14","v":222},{"$f":"COUNTIF(L73:L85,AS14)","v":1},{"$f":"AT14/(AV4-AT10)","v":0.16666666666666666},{"$f":"IF(AU14=0,0,(AU14*((LOG(AU14))/LOG(2))))","v":-0.43082708345352599}]
[22,1026,23,1041,23,1049,null,null,null,null,0,222,null,null,null,{"$f":"SUM(P7:P14)","v":1},{"$f":"-SUM(Q7:Q14)","v":1.6100775330568813},null,null,null,null,{"$f":"SUM(V7:V14)","v":1},{"$f":"-SUM(W7:W14)","v":0},null,null,null,{"$f":"SUM(AA7:AA14)","v":1},{"$f":"-SUM(AB7:AB14)","v":0.98522813603425152},null,null,null,{"$f":"SUM(AF7:AF14)","v":1},{"$f":"-SUM(AG7:AG14)","v":0.91829583405448945},null,null,null,{"$f":"SUM(AK7:AK14)","v":1},{"$f":"-SUM(AL7:AL14)","v":0.95443400292496505},null,null,null,{"$f":"SUM(AP7:AP14)","v":1},{"$f":"-SUM(AQ7:AQ14)","v":1.5219280948873624},null,null,null,{"$f":"SUM(AU7:AU14)","v":1},{"$f":"-SUM(AV7:AV14)","v":0.65002242164835411}]
[11,1148,21,1155,21,1162,null,null,null,null,0,122,null,null,null,"U=",{"$f":"Q15/(LOG(Q4)/LOG(2))","v":0.25541458330740258},null,null,null,null,"U1=",{"$f":"W15/(LOG(W4)/LOG(2))","v":0},null,null,null,"U2=",{"$f":"AB15/(LOG(AB4)/LOG(2))","v":0.26624623317176443},null,null,null,"U3=",{"$f":"AG15/(LOG(AG4)/LOG(2))","v":0.24118997384100352},null,null,null,"U4=",{"$f":"AL15/(LOG(AL4)/LOG(2))","v":0.25792448347312164},null,null,null,"U5=",{"$f":"AQ15/(LOG(AQ4)/LOG(2))","v":0.41128303953344758},null,null,null,"U6=",{"$f":"AV15/(LOG(AV4)/LOG(2))","v":0.17566085956262825}]
[11,1253,21,1265,21,1268,null,null,null,null,0,122]
[11,1360,21,1369,21,1375,null,null,null,null,0,122]
[11,1468,21,1483,21,1503,null,null,null,null,0,122,null,"Total Target Seq"]
[22,1608,23,1627,23,1641,null,null,null,null,0,222,null,{"$f":"COUNTIF(L7:L85,G3)","v":40},null,13,13,14,13,13,13]
[22,1745,23,1755,23,1764,null,null,null,null,0,222,null,null,null,"% of reinforcement given in 6 equal intervals based on number of trials "]
[22,1874,23,1882,23,1890,null,null,null,null,0,222,null,null,null,"%_1","%_2","%_3","%_4","%_5","%_6"]
[22,1994,23,2000,23,2007,null,null,null,null,0,222,null,null,"target sequence",{"$f":"$G$3","v":122},{"$f":"$G$3","v":122},{"$f":"$G$3","v":122},{"$f":"$G$3","v":122},{"$f":"$G$3","v":122},{"$f":"$G$3","v":122}]
[11,2101,21,2109,21,2143,null,null,null,null,0,122,null,null,"total reinforcement",{"$f":"U10","v":6},{"$f":"Z10","v":6},{"$f":"AE10","v":8},{"$f":"AJ10","v":5},{"$f":"AO10","v":8},{"$f":"AT10","v":7}]
[11,2240,21,2248,21,2276,null,null,null,null,0,122,null,null,"% target"]
[11,2368,12,2370,23,2392,null,null,null,null,0,112,null,null,"CCRF"]
[11,2487,21,2494,21,2498,null,null,null,null,0,122,null,null,"% CCRf"]
[11,2618,21,2635,21,2639,null,null,null,null,0,122,null,null,"average response rate",{"$f":"F19/P20","v":115.61538461538461},{"$f":"(F32-F19)/Q20","v":127.38461538461539},{"$f":"(F46-F32)/R20","v":142.35714285714286},{"$f":"(F59-F46)/S20","v":128.76923076923077},{"$f":"(F72-F59)/T20","v":138.53846153846155},{"$f":"(F85-F72)/U20","v":123.61538461538461}]
[11,2778,12,2784,23,2790,null,null,null,null,0,112]
[11,2886,21,2893,21,2897,null,null,null,null,0,122]
[11,3000,12,3005,23,3036,null,null,null,null,0,112]
[11,3134,21,3143,21,3159,null,null,null,null,0,122]
[11,3282,21,3290,21,3312,null,null,null,null,0,122]
[11,3502,21,3511,21,3533,null,null,null,null,0,122]
[11,3669,21,3676,21,3679,null,null,null,null,0,122]
[11,3792,21,3825,21,3859,null,null,null,null,0,122]
[22,3972,23,4003,23,4024,null,null,null,null,0,222]
[22,4129,23,4133,23,4144,null,null,null,null,0,222]
[22,4246,23,4278,23,4298,null,null,null,null,0,222]
[11,4392,21,4402,21,4407,null,null,null,null,0,122]
[11,4504,12,4508,23,4517,null,null,null,null,0,112]
[11,4611,21,4622,21,4625,null,null,null,null,0,122]
[11,4728,21,4736,21,4757,null,null,null,null,0,122]
[11,4861,12,4869,23,4877,null,null,null,null,0,112]
[22,4983,23,5033,23,5042,null,null,null,null,0,222]
[11,5137,21,5145,21,5152,null,null,null,null,0,122]
[22,5252,23,5279,23,5293,null,null,null,null,0,222]
[11,5388,21,5399,21,5403,null,null,null,null,0,122]
[22,5531,23,5559,23,5567,null,null,null,null,0,222]
[11,5662,12,5673,23,5680,null,null,null,null,0,112]
[11,5776,12,5781,23,5787,null,null,null,null,0,112]
[22,5890,23,5893,23,5900,null,null,null,null,0,222]
[11,5995,12,5998,23,6008,null,null,null,null,0,112]
[11,6108,12,6112,23,6119,null,null,null,null,0,112]
[11,6221,21,6230,21,6249,null,null,null,null,0,122]
[11,6350,21,6358,21,6381,null,null,null,null,0,122]
[11,6484,21,6493,21,6512,null,null,null,null,0,122]
[11,6656,12,6661,23,6667,null,null,null,null,0,112]
[11,6762,21,6771,21,6826,null,null,null,null,0,122]
[11,6921,12,6925,23,6948,null,null,null,null,0,112]
[11,7042,21,7053,21,7066,null,null,null,null,0,122]
[11,7182,21,7197,21,7229,null,null,null,null,0,122]
[11,7347,21,7355,21,7374,null,null,null,null,0,122]
[11,7486,12,7496,23,7509,null,null,null,null,0,112]
[11,7605,21,7617,21,7628,null,null,null,null,0,122]
[11,7724,12,7729,14,7733,null,null,null,null,0,111]
[11,7828,21,7843,21,7847,null,null,null,null,0,122]
[11,7939,12,7944,14,7947,null,null,null,null,0,111]
[11,8206,21,8212,21,8217,null,null,null,null,0,122]
[22,8321,23,8348,23,8376,null,null,null,null,0,222]
[11,8471,21,8486,21,8490,null,null,null,null,0,122]
[11,8591,21,8612,21,8627,null,null,null,null,0,122]
[11,8719,12,8722,23,8730,null,null,null,null,0,112]
[11,8826,21,8836,21,8881,null,null,null,null,0,122]
[11,8980,12,8987,23,8998,null,null,null,null,0,112]
[11,9094,21,9108,21,9147,null,null,null,null,0,122]
[11,9237,12,9243,23,9250,null,null,null,null,0,112]
[11,9345,21,9355,21,9359,null,null,null,null,0,122]
[11,9449,21,9455,21,9503,null,null,null,null,0,122]
[11,9592,21,9604,21,9617,null,null,null,null,0,122]
[11,9714,12,9720,23,9727,null,null,null,null,0,112]
[11,9827,21,9837,21,9840,null,null,null,null,0,122]
[11,9943,12,9950,23,9958,null,null,null,null,0,112]
[22,10080,23,10093,23,10101,null,null,null,null,0,222]
[11,10199,21,10206,21,10234,null,null,null,null,1,122]

{"sheet":"!LB08954.. I","index":29,"n_rows":68,"n_cols":48,"rows_kept":68,"cut":false,"hidden":false,"merged":[[4,39,4,42],[5,39,5,40],[4,44,4,47],[5,44,5,45],[4,24,4,27],[5,24,5,25],[4,29,4,32],[5,29,5,30],[4,34,4,37],[5,34,5,35],[1,1,1,2],[5,13,5,14],[18,13,18,14],[19,13,19,14],[4,19,4,22],[5,19,5,20]]}
["Report for:!LB08954.. I"]
["Date:","<date>"]
["Hen:","<hen>",null,null,null,"Correct Sequence",{"$f":"Start!J2","v":122},null,null,null,null,null,null,null,null,"Total Sequences in Data",{"$f":"4994-COUNTBLANK(L7:L5000)","v":62},null,null,null,null,"Total Sequences in Block Data",{"$f":"COUNTA(L7:L16)","v":10},null,null,null,"Total Sequences in Block Data",{"$f":"COUNTA(L17:L27)","v":11},null,null,null,"Total Sequences in Block Data",{"$f":"COUNTA(L28:L37)","v":10},null,null,null,"Total Sequences in Block Data",{"$f":"COUNTA(L38:L47)","v":10},null,null,null,"Total Sequences in Block Data",{"$f":"COUNTA(L48:L58)","v":11},null,null,null,"Total Sequences in Block Data",{"$f":"COUNTA(L59:L68)","v":10}]
[null,null,null,null,null,null,null,null,null,null,null,null,null,null,null,"Total Sequences in Summary",{"$f":"SUM(O7:O14)","v":62},null,null,null,null,"Total Sequences in Block Summary",{"$f":"SUM(U7:U14)","v":10},null,null,null,"Total Sequences in Block Summary",{"$f":"SUM(Z7:Z14)","v":11},null,null,null,"Total Sequences in Block Summary",{"$f":"SUM(AE7:AE14)","v":10},null,null,null,"Total Sequences in Block Summary",{"$f":"SUM(AJ7:AJ14)","v":10},null,null,null,"Total Sequences in Block Summary",{"$f":"SUM(AO7:AO14)","v":11},null,null,null,"Total Sequences in Block Summary",{"$f":"SUM(AT7:AT14)","v":10}]
[null,null,null,null,null,null,null,null,null,null,null,null,null,null,null,null,null,null,null,"Block 1",null,null,null,null,"Block 2",null,null,null,null,"Block 3",null,null,null,null,"Block 4",null,null,null,null,"Block 5",null,null,null,null,"Block 6"]
["Sequence\nComponent\n1","Time\n1","Sequence\nComponent\n2","Time\n2","Sequence\nComponent\n3","Time\n3","Sequence\nComponent\n4","Time\n4","Sequence\nComponent\n5","Time\n5","Correct?\n0=No 1=Yes","Sequence",null,"Frequency",null,"Relative Frequency","Variability",null,null,"Frequency",null,"Relative Frequency","Variability",null,"Frequency",null,"Relative Frequency","Variability",null,"Frequency",null,"Relative Frequency","Variability",null,"Frequency",null,"Relative Frequency","Variability",null,"Frequency",null,"Relative Frequency","Variability",null,"Frequency",null,"Relative Frequency","Variability"]
[11,52,21,64,21,74,null,null,null,null,0,122,null,111,{"$f":"COUNTIF($L$7:$L$500,N7)","v":1},{"$f":"O7/$Q$4","v":1.6129032258064516E-2},{"$f":"IF(P7=0,0,(P7*((LOG(P7))/LOG(2))))","v":-9.603542436107862E-2},null,null,{"$f":"N7","v":111},{"$f":"COUNTIF(L7:L16,T7)","v":0},{"$f":"U7/(W4-U10)","v":0},{"$f":"IF(V7=0,0,(V7*((LOG(V7))/LOG(2))))","v":0},null,{"$f":"N7","v":111},{"$f":"COUNTIF(L17:L27,Y7)","v":1},{"$f":"Z7/(AB4-Z10)","v":0.25},{"$f":"IF(AA7=0,0,(AA7*((LOG(AA7))/LOG(2))))","v":-0.5},null,{"$f":"N7","v":111},{"$f":"COUNTIF(L28:L37,AD7)","v":0},{"$f":"AE7/(AG4-AE10)","v":0},{"$f":"IF(AF7=0,0,(AF7*((LOG(AF7))/LOG(2))))","v":0},null,{"$f":"N7","v":111},{"$f":"COUNTIF(L38:L47,AI7)","v":0},{"$f":"AJ7/(AL4-AJ10)","v":0},{"$f":"IF(AK7=0,0,(AK7*((LOG(AK7))/LOG(2))))","v":0},null,{"$f":"N7","v":111},{"$f":"COUNTIF(L48:L58,AN7)","v":0},{"$f":"AO7/(AQ4-AO10)","v":0},{"$f":"IF(AP7=0,0,(AP7*((LOG(AP7))/LOG(2))))","v":0},null,{"$f":"N7","v":111},{"$f":"COUNTIF(L59:L68,AS7)","v":0},{"$f":"AT7/(AV4-AT10)","v":0},{"$f":"IF(AU7=0,0,(AU7*((LOG(AU7))/LOG(2))))","v":0}]
[22,233,23,237,23,263,null,null,null,null,0,222,null,112,{"$f":"COUNTIF($L$7:$L$500,N8)","v":11},{"$f":"O8/$Q$4","v":0.17741935483870969},{"$f":"IF(P8=0,0,(P8*((LOG(P8))/LOG(2))))","v":-0.44261954208460258},null,null,{"$f":"N8","v":112},{"$f":"COUNTIF(L7:L16,T8)","v":0},{"$f":"U8/(W4-U10)","v":0},{"$f":"IF(V8=0,0,(V8*((LOG(V8))/LOG(2))))","v":0},null,{"$f":"N8","v":112},{"$f":"COUNTIF(L17:L27,Y8)","v":3},{"$f":"Z8/(AB4-Z10)","v":0.75},{"$f":"IF(AA8=0,0,(AA8*((LOG(AA8))/LOG(2))))","v":-0.31127812445913283},null,{"$f":"N8","v":112},{"$f":"COUNTIF(L28:L37,AD8)","v":1},{"$f":"AE8/(AG4-AE10)","v":0.33333333333333331},{"$f":"IF(AF8=0,0,(AF8*((LOG(AF8))/LOG(2))))","v":-0.52832083357371862},null,{"$f":"N8","v":112},{"$f":"COUNTIF(L38:L47,AI8)","v":1},{"$f":"AJ8/(AL4-AJ10)","v":0.5},{"$f":"IF(AK8=0,0,(AK8*((LOG(AK8))/LOG(2))))","v":-0.5},null,{"$f":"N8","v":112},{"$f":"COUNTIF(L48:L58,AN8)","v":4},{"$f":"AO8/(AQ4-AO10)","v":0.8},{"$f":"IF(AP8=0,0,(AP8*((LOG(AP8))/LOG(2))))","v":-0.25754247590988982},null,{"$f":"N8","v":112},{"$f":"COUNTIF(L59:L68,AS8)","v":2},{"$f":"AT8/(AV4-AT10)","v":0.5},{"$f":"IF(AU8=0,0,(AU8*((LOG(AU8))/LOG(2))))","v":-0.5}]
[22,370,23,376,23,388,null,null,null,null,0,222,null,121,{"$f":"COUNTIF($L$7:$L$500,N9)","v":0},{"$f":"O9/$Q$4","v":0},{"$f":"IF(P9=0,0,(P9*((LOG(P9))/LOG(2))))","v":0},null,null,{"$f":"N9","v":121},{"$f":"COUNTIF(L7:L16,T9)","v":0},{"$f":"U9/(W4-U10)","v":0},{"$f":"IF(V9=0,0,(V9*((LOG(V9))/LOG(2))))","v":0},null,{"$f":"N9","v":121},{"$f":"COUNTIF(L17:L27,Y9)","v":0},{"$f":"Z9/(AB4-Z10)","v":0},{"$f":"IF(AA9=0,0,(AA9*((LOG(AA9))/LOG(2))))","v":0},null,{"$f":"N9","v":121},{"$f":"COUNTIF(L28:L37,AD9)","v":0},{"$f":"AE9/(AG4-AE10)","v":0},{"$f":"IF(AF9=0,0,(AF9*((LOG(AF9))/LOG(2))))","v":0},null,{"$f":"N9","v":121},{"$f":"COUNTIF(L38:L47,AI9)","v":0},{"$f":"AJ9/(AL4-AJ10)","v":0},{"$f":"IF(AK9=0,0,(AK9*((LOG(AK9))/LOG(2))))","v":0},null,{"$f":"N9","v":121},{"$f":"COUNTIF(L48:L58,AN9)","v":0},{"$f":"AO9/(AQ4-AO10)","v":0},{"$f":"IF(AP9=0,0,(AP9*((LOG(AP9))/LOG(2))))","v":0},null,{"$f":"N9","v":121},{"$f":"COUNTIF(L59:L68,AS9)","v":0},{"$f":"AT9/(AV4-AT10)","v":0},{"$f":"IF(AU9=0,0,(AU9*((LOG(AU9))/LOG(2))))","v":0}]
[11,484,21,499,21,507,null,null,null,null,0,122,null,122,{"$f":"COUNTIF($L$7:$L$500,N10)","v":40},{"$f":"O10/$Q$4","v":0.64516129032258063},{"$f":"IF(P10=0,0,(P10*((LOG(P10))/LOG(2))))","v":-0.40791497774162117},null,null,{"$f":"N10","v":122},{"$f":"COUNTIF(L7:L16,T10)","v":6},null,null,null,{"$f":"N10","v":122},{"$f":"COUNTIF(L17:L27,Y10)","v":7},null,null,null,{"$f":"N10","v":122},{"$f":"COUNTIF(L28:L37,AD10)","v":7},null,null,null,{"$f":"N10","v":122},{"$f":"COUNTIF(L38:L47,AI10)","v":8},null,null,null,{"$f":"N10","v":122},{"$f":"COUNTIF(L48:L58,AN10)","v":6},null,null,null,{"$f":"N10","v":122},{"$f":"COUNTIF(L59:L68,AS10)","v":6}]
[11,627,21,637,21,649,null,null,null,null,0,122,null,211,{"$f":"COUNTIF($L$7:$L$500,N11)","v":0},{"$f":"O11/$Q$4","v":0},{"$f":"IF(P11=0,0,(P11*((LOG(P11))/LOG(2))))","v":0},null,null,{"$f":"N11","v":211},{"$f":"COUNTIF(L7:L16,T11)","v":0},{"$f":"U11/(W4-U10)","v":0},{"$f":"IF(V11=0,0,(V11*((LOG(V11))/LOG(2))))","v":0},null,{"$f":"N11","v":211},{"$f":"COUNTIF(L17:L27,Y11)","v":0},{"$f":"Z11/(AB4-Z10)","v":0},{"$f":"IF(AA11=0,0,(AA11*((LOG(AA11))/LOG(2))))","v":0},null,{"$f":"N11","v":211},{"$f":"COUNTIF(L28:L37,AD11)","v":0},{"$f":"AE11/(AG4-AE10)","v":0},{"$f":"IF(AF11=0,0,(AF11*((LOG(AF11))/LOG(2))))","v":0},null,{"$f":"N11","v":211},{"$f":"COUNTIF(L38:L47,AI11)","v":0},{"$f":"AJ11/(AL4-AJ10)","v":0},{"$f":"IF(AK11=0,0,(AK11*((LOG(AK11))/LOG(2))))","v":0},null,{"$f":"N11","v":211},{"$f":"COUNTIF(L48:L58,AN11)","v":0},{"$f":"AO11/(AQ4-AO10)","v":0},{"$f":"IF(AP11=0,0,(AP11*((LOG(AP11))/LOG(2))))","v":0},null,{"$f":"N11","v":211},{"$f":"COUNTIF(L59:L68,AS11)","v":0},{"$f":"AT11/(AV4-AT10)","v":0},{"$f":"IF(AU11=0,0,(AU11*((LOG(AU11))/LOG(2))))","v":0}]
[22,793,23,805,23,813,null,null,null,null,0,222,null,212,{"$f":"COUNTIF($L$7:$L$500,N12)","v":1},{"$f":"O12/$Q$4","v":1.6129032258064516E-2},{"$f":"IF(P12=0,0,(P12*((LOG(P12))/LOG(2))))","v":-9.603542436107862E-2},null,null,{"$f":"N12","v":212},{"$f":"COUNTIF(L7:L16,T12)","v":0},{"$f":"U12/(W4-U10)","v":0},{"$f":"IF(V12=0,0,(V12*((LOG(V12))/LOG(2))))","v":0},null,{"$f":"N12","v":212},{"$f":"COUNTIF(L17:L27,Y12)","v":0},{"$f":"Z12/(AB4-Z10)","v":0},{"$f":"IF(AA12=0,0,(AA12*((LOG(AA12))/LOG(2))))","v":0},null,{"$f":"N12","v":212},{"$f":"COUNTIF(L28:L37,AD12)","v":1},{"$f":"AE12/(AG4-AE10)","v":0.33333333333333331},{"$f":"IF(AF12=0,0,(AF12*((LOG(AF12))/LOG(2))))","v":-0.52832083357371862},null,{"$f":"N12","v":212},{"$f":"COUNTIF(L38:L47,AI12)","v":0},{"$f":"AJ12/(AL4-AJ10)","v":0},{"$f":"IF(AK12=0,0,(AK12*((LOG(AK12))/LOG(2))))","v":0},null,{"$f":"N12","v":212},{"$f":"COUNTIF(L48:L58,AN12)","v":0},{"$f":"AO12/(AQ4-AO10)","v":0},{"$f":"IF(AP12=0,0,(AP12*((LOG(AP12))/LOG(2))))","v":0},null,{"$f":"N12","v":212},{"$f":"COUNTIF(L59:L68,AS12)","v":0},{"$f":"AT12/(AV4-AT10)","v":0},{"$f":"IF(AU12=0,0,(AU12*((LOG(AU12))/LOG(2))))","v":0}]
[11,912,21,925,21,935,null,null,null,null,0,122,null,221,{"$f":"COUNTIF($L$7:$L$500,N13)","v":0},{"$f":"O13/$Q$4","v":0},{"$f":"IF(P13=0,0,(P13*((LOG(P13))/LOG(2))))","v":0},null,null,{"$f":"N13","v":221},{"$f":"COUNTIF(L7:L16,T13)","v":0},{"$f":"U13/(W4-U10)","v":0},{"$f":"IF(V13=0,0,(V13*((LOG(V13))/LOG(2))))","v":0},null,{"$f":"N13","v":221},{"$f":"COUNTIF(L17:L27,Y13)","v":0},{"$f":"Z13/(AB4-Z10)","v":0},{"$f":"IF(AA13=0,0,(AA13*((LOG(AA13))/LOG(2))))","v":0},null,{"$f":"N13","v":221},{"$f":"COUNTIF(L28:L37,AD13)","v":0},{"$f":"AE13/(AG4-AE10)","v":0},{"$f":"IF(AF13=0,0,(AF13*((LOG(AF13))/LOG(2))))","v":0},null,{"$f":"N13","v":221},{"$f":"COUNTIF(L38:L47,AI13)","v":0},{"$f":"AJ13/(AL4-AJ10)","v":0},{"$f":"IF(AK13=0,0,(AK13*((LOG(AK13))/LOG(2))))","v":0},null,{"$f":"N13","v":221},{"$f":"COUNTIF(L48:L58,AN13)","v":0},{"$f":"AO13/(AQ4-AO10)","v":0},{"$f":"IF(AP13=0,0,(AP13*((LOG(AP13))/LOG(2))))","v":0},null,{"$f":"N13","v":221},{"$f":"COUNTIF(L59:L68,AS13)","v":0},{"$f":"AT13/(AV4-AT10)","v":0},{"$f":"IF(AU13=0,0,(AU13*((LOG(AU13))/LOG(2))))","v":0}]
[11,1027,21,1037,21,1041,null,null,null,null,0,122,null,222,{"$f":"COUNTIF($L$7:$L$500,N14)","v":9},{"$f":"O14/$Q$4","v":0.14516129032258066},{"$f":"IF(P14=0,0,(P14*((LOG(P14))/LOG(2))))","v":-0.40416841581453333},null,null,{"$f":"N14","v":222},{"$f":"COUNTIF(L7:L16,T14)","v":4},{"$f":"U14/(W4-U10)","v":1},{"$f":"IF(V14=0,0,(V14*((LOG(V14))/LOG(2))))","v":0},null,{"$f":"N14","v":222},{"$f":"COUNTIF(L17:L27,Y14)","v":0},{"$f":"Z14/(AB4-Z10)","v":0},{"$f":"IF(AA14=0,0,(AA14*((LOG(AA14))/LOG(2))))","v":0},null,{"$f":"N14","v":222},{"$f":"COUNTIF(L28:L37,AD14)","v":1},{"$f":"AE14/(AG4-AE10)","v":0.33333333333333331},{"$f":"IF(AF14=0,0,(AF14*((LOG(AF14))/LOG(2))))","v":-0.52832083357371862},null,{"$f":"N14","v":222},{"$f":"COUNTIF(L38:L47,AI14)","v":1},{"$f":"AJ14/(AL4-AJ10)","v":0.5},{"$f":"IF(AK14=0,0,(AK14*((LOG(AK14))/LOG(2))))","v":-0.5},null,{"$f":"N14","v":222},{"$f":"COUNTIF(L48:L58,AN14)","v":1},{"$f":"AO14/(AQ4-AO10)","v":0.2},{"$f":"IF(AP14=0,0,(AP14*((LOG(AP14))/LOG(2))))","v":-0.46438561897747244},null,{"$f":"N14","v":222},{"$f":"COUNTIF(L59:L68,AS14)","v":2},{"$f":"AT14/(AV4-AT10)","v":0.5},{"$f":"IF(AU14=0,0,(AU14*((LOG(AU14))/LOG(2))))","v":-0.5}]
[11,1135,21,1144,21,1158,null,null,null,null,0,122,null,null,null,{"$f":"SUM(P7:P14)","v":0.99999999999999989},{"$f":"-SUM(Q7:Q14)","v":1.4467737843629143},null,null,null,null,{"$f":"SUM(V7:V14)","v":1},{"$f":"-SUM(W7:W14)","v":0},null,null,null,{"$f":"SUM(AA7:AA14)","v":1},{"$f":"-SUM(AB7:AB14)","v":0.81127812445913283},null,null,null,{"$f":"SUM(AF7:AF14)","v":1},{"$f":"-SUM(AG7:AG14)","v":1.5849625007211559},null,null,null,{"$f":"SUM(AK7:AK14)","v":1},{"$f":"-SUM(AL7:AL14)","v":1},null,null,null,{"$f":"SUM(AP7:AP14)","v":1},{"$f":"-SUM(AQ7:AQ14)","v":0.72192809488736231},null,null,null,{"$f":"SUM(AU7:AU14)","v":1},{"$f":"-SUM(AV7:AV14)","v":1}]
[22,1273,23,1277,23,1290,null,null,null,null,0,222,null,null,null,"U=",{"$f":"Q15/(LOG(Q4)/LOG(2))","v":0.24298389051081015},null,null,null,null,"U1=",{"$f":"W15/(LOG(W4)/LOG(2))","v":0},null,null,null,"U2=",{"$f":"AB15/(LOG(AB4)/LOG(2))","v":0.23451197014228101},null,null,null,"U3=",{"$f":"AG15/(LOG(AG4)/LOG(2))","v":0.47712125471966238},null,null,null,"U4=",{"$f":"AL15/(LOG(AL4)/LOG(2))","v":0.3010299956639812},null,null,null,"U5=",{"$f":"AQ15/(LOG(AQ4)/LOG(2))","v":0.20868401936261902},null,null,null,"U6=",{"$f":"AV15/(LOG(AV4)/LOG(2))","v":0.3010299956639812}]
[11,1386,12,1393,23,1399,null,null,null,null,0,112]
[11,1497,21,1505,21,1523,null,null,null,null,0,122]
[11,1615,12,1622,23,1630,null,null,null,null,0,112,null,"Total Target Seq"]
[11,1725,21,1737,21,1753,null,null,null,null,0,122,null,{"$f":"COUNTIF(L7:L68,G3)","v":40},null,10,11,10,10,11,10]
[11,1886,12,1890,23,1897,null,null,null,null,0,112,null,null,null,"% of reinforcement given in 6 equal intervals based on number of trials "]
[11,1992,21,2001,21,2013,null,null,null,null,0,122,null,null,null,"%_1","%_2","%_3","%_4","%_5","%_6"]
[11,2105,12,2108,14,2111,null,null,null,null,0,111,null,null,"target sequence",{"$f":"$G$3","v":122},{"$f":"$G$3","v":122},{"$f":"$G$3","v":122},{"$f":"$G$3","v":122},{"$f":"$G$3","v":122},{"$f":"$G$3","v":122}]
[11,2203,21,2216,21,2219,null,null,null,null,0,122,null,null,"total reinforcement",{"$f":"U10","v":6},{"$f":"Z10","v":7},{"$f":"AE10","v":7},{"$f":"AJ10","v":8},{"$f":"AO10","v":6},{"$f":"AT10","v":6}]
[11,2315,21,2323,21,2346,null,null,null,null,0,122,null,null,"% target"]
[11,2454,21,2463,21,2479,null,null,null,null,0,122,null,null,"CCRF"]
[11,2591,21,2608,21,2617,null,null,null,null,0,122,null,null,"% CCRf"]
[11,2719,21,2728,21,2776,null,null,null,null,0,122,null,null,"average response rate",{"$f":"F16/P20","v":129},{"$f":"(F27-F16)/Q20","v":120.63636363636364},{"$f":"(F37-F27)/R20","v":137.69999999999999},{"$f":"(F47-F37)/S20","v":119.8},{"$f":"(F58-F47)/T20","v":136.63636363636363},{"$f":"(F68-F58)/U20","v":123}]
[11,2886,21,2895,21,2909,null,null,null,null,0,122]
[11,3011,21,3030,21,3041,null,null,null,null,0,122]
[11,3151,21,3161,21,3175,null,null,null,null,0,122]
[11,3319,21,3358,21,3376,null,null,null,null,0,122]
[22,3520,23,3524,23,3534,null,null,null,null,0,222]
[22,3644,14,3648,23,3657,null,null,null,null,0,212]
[11,3752,12,3757,23,3763,null,null,null,null,0,112]
[11,3858,21,3866,21,3877,null,null,null,null,0,122]
[11,3977,21,3987,21,3994,null,null,null,null,0,122]
[22,4095,23,4120,23,4129,null,null,null,null,0,222]
[11,4224,21,4233,21,4236,null,null,null,null,0,122]
[11,4335,21,4343,21,4347,null,null,null,null,0,122]
[11,4437,12,4444,23,4451,null,null,null,null,0,112]
[11,4550,21,4557,21,4562,null,null,null,null,0,122]
[11,4658,21,4666,21,4701,null,null,null,null,0,122]
[11,4794,21,4805,21,4809,null,null,null,null,0,122]
[11,4916,21,4925,21,4929,null,null,null,null,0,122]
[11,5029,21,5038,21,5056,null,null,null,null,0,122]
[11,5151,21,5159,21,5192,null,null,null,null,0,122]
[11,5309,21,5324,21,5340,null,null,null,null,0,122]
[11,5484,12,5490,23,5500,null,null,null,null,0,112]
[22,5611,23,5616,23,5626,null,null,null,null,0,222]
[11,5723,12,5726,23,5736,null,null,null,null,0,112]
[11,5831,21,5841,21,5845,null,null,null,null,0,122]
[11,5961,21,5979,21,6001,null,null,null,null,0,122]
[11,6121,21,6152,21,6168,null,null,null,null,0,122]
[11,6339,12,6342,23,6349,null,null,null,null,0,112]
[11,6448,21,6457,21,6468,null,null,null,null,0,122]
[11,6563,21,6572,21,6588,null,null,null,null,0,122]
[11,6682,12,6688,23,6695,null,null,null,null,0,112]
[11,6791,21,6801,21,6805,null,null,null,null,0,122]
[11,6894,21,6906,21,6909,null,null,null,null,0,122]
[11,7017,12,7024,23,7080,null,null,null,null,0,112]
[11,7176,21,7183,21,7227,null,null,null,null,0,122]
[11,7319,21,7329,21,7332,null,null,null,null,0,122]
[11,7449,21,7461,21,7466,null,null,null,null,0,122]
[11,7559,12,7562,23,7575,null,null,null,null,0,112]
[22,7679,23,7682,23,7693,null,null,null,null,0,222]
[22,7800,23,7807,23,7814,null,null,null,null,0,222]
[11,7911,21,7922,21,7925,null,null,null,null,1,122]

{"sheet":"!LB09A44..Is","index":30,"n_rows":85,"n_cols":48,"rows_kept":85,"cut":false,"hidden":false,"merged":[[4,39,4,42],[5,39,5,40],[4,44,4,47],[5,44,5,45],[4,24,4,27],[5,24,5,25],[4,29,4,32],[5,29,5,30],[4,34,4,37],[5,34,5,35],[1,1,1,2],[5,13,5,14],[18,13,18,14],[19,13,19,14],[4,19,4,22],[5,19,5,20]]}
["Report for:!LB09A44..Is"]
["Date:","<date>"]
["Hen:","<hen>",null,null,null,"Correct Sequence",{"$f":"Start!J2","v":122},null,null,null,null,null,null,null,null,"Total Sequences in Data",{"$f":"4994-COUNTBLANK(L7:L5000)","v":79},null,null,null,null,"Total Sequences in Block Data",{"$f":"COUNTA(L7:L19)","v":13},null,null,null,"Total Sequences in Block Data",{"$f":"COUNTA(L20:L32)","v":13},null,null,null,"Total Sequences in Block Data",{"$f":"COUNTA(L33:L46)","v":14},null,null,null,"Total Sequences in Block Data",{"$f":"COUNTA(L47:L59)","v":13},null,null,null,"Total Sequences in Block Data",{"$f":"COUNTA(L60:L72)","v":13},null,null,null,"Total Sequences in Block Data",{"$f":"COUNTA(L73:L85)","v":13}]
[null,null,null,null,null,null,null,null,null,null,null,null,null,null,null,"Total Sequences in Summary",{"$f":"SUM(O7:O14)","v":79},null,null,null,null,"Total Sequences in Block Summary",{"$f":"SUM(U7:U14)","v":13},null,null,null,"Total Sequences in Block Summary",{"$f":"SUM(Z7:Z14)","v":13},null,null,null,"Total Sequences in Block Summary",{"$f":"SUM(AE7:AE14)","v":14},null,null,null,"Total Sequences in Block Summary",{"$f":"SUM(AJ7:AJ14)","v":13},null,null,null,"Total Sequences in Block Summary",{"$f":"SUM(AO7:AO14)","v":13},null,null,null,"Total Sequences in Block Summary",{"$f":"SUM(AT7:AT14)","v":13}]
[null,null,null,null,null,null,null,null,null,null,null,null,null,null,null,null,null,null,null,"Block 1",null,null,null,null,"Block 2",null,null,null,null,"Block 3",null,null,null,null,"Block 4",null,null,null,null,"Block 5",null,null,null,null,"Block 6"]
["Sequence\nComponent\n1","Time\n1","Sequence\nComponent\n2","Time\n2","Sequence\nComponent\n3","Time\n3","Sequence\nComponent\n4","Time\n4","Sequence\nComponent\n5","Time\n5","Correct?\n0=No 1=Yes","Sequence",null,"Frequency",null,"Relative Frequency","Variability",null,null,"Frequency",null,"Relative Frequency","Variability",null,"Frequency",null,"Relative Frequency","Variability",null,"Frequency",null,"Relative Frequency","Variability",null,"Frequency",null,"Relative Frequency","Variability",null,"Frequency",null,"Relative Frequency","Variability",null,"Frequency",null,"Relative Frequency","Variability"]
[22,40,23,45,23,50,null,null,null,null,0,222,null,111,{"$f":"COUNTIF($L$7:$L$500,N7)","v":2},{"$f":"O7/$Q$4","v":2.5316455696202531E-2},{"$f":"IF(P7=0,0,(P7*((LOG(P7))/LOG(2))))","v":-0.13427293033359755},null,null,{"$f":"N7","v":111},{"$f":"COUNTIF(L7:L19,T7)","v":0},{"$f":"U7/(W4-U10)","v":0},{"$f":"IF(V7=0,0,(V7*((LOG(V7))/LOG(2))))","v":0},null,{"$f":"N7","v":111},{"$f":"COUNTIF(L20:L32,Y7)","v":1},{"$f":"Z7/(AB4-Z10)","v":0.1111111111111111},{"$f":"IF(AA7=0,0,(AA7*((LOG(AA7))/LOG(2))))","v":-0.3522138890491458},null,{"$f":"N7","v":111},{"$f":"COUNTIF(L33:L46,AD7)","v":0},{"$f":"AE7/(AG4-AE10)","v":0},{"$f":"IF(AF7=0,0,(AF7*((LOG(AF7))/LOG(2))))","v":0},null,{"$f":"N7","v":111},{"$f":"COUNTIF(L47:L59,AI7)","v":0},{"$f":"AJ7/(AL4-AJ10)","v":0},{"$f":"IF(AK7=0,0,(AK7*((LOG(AK7))/LOG(2))))","v":0},null,{"$f":"N7","v":111},{"$f":"COUNTIF(L60:L72,AN7)","v":1},{"$f":"AO7/(AQ4-AO10)","v":0.14285714285714285},{"$f":"IF(AP7=0,0,(AP7*((LOG(AP7))/LOG(2))))","v":-0.40105070315108626},null,{"$f":"N7","v":111},{"$f":"COUNTIF(L73:L85,AS7)","v":0},{"$f":"AT7/(AV4-AT10)","v":0},{"$f":"IF(AU7=0,0,(AU7*((LOG(AU7))/LOG(2))))","v":0}]
[22,173,23,181,23,192,null,null,null,null,0,222,null,112,{"$f":"COUNTIF($L$7:$L$500,N8)","v":18},{"$f":"O8/$Q$4","v":0.22784810126582278},{"$f":"IF(P8=0,0,(P8*((LOG(P8))/LOG(2))))","v":-0.48619498026868641},null,null,{"$f":"N8","v":112},{"$f":"COUNTIF(L7:L19,T8)","v":0},{"$f":"U8/(W4-U10)","v":0},{"$f":"IF(V8=0,0,(V8*((LOG(V8))/LOG(2))))","v":0},null,{"$f":"N8","v":112},{"$f":"COUNTIF(L20:L32,Y8)","v":2},{"$f":"Z8/(AB4-Z10)","v":0.22222222222222221},{"$f":"IF(AA8=0,0,(AA8*((LOG(AA8))/LOG(2))))","v":-0.48220555587606945},null,{"$f":"N8","v":112},{"$f":"COUNTIF(L33:L46,AD8)","v":3},{"$f":"AE8/(AG4-AE10)","v":0.6},{"$f":"IF(AF8=0,0,(AF8*((LOG(AF8))/LOG(2))))","v":-0.44217935649972373},null,{"$f":"N8","v":112},{"$f":"COUNTIF(L47:L59,AI8)","v":6},{"$f":"AJ8/(AL4-AJ10)","v":1},{"$f":"IF(AK8=0,0,(AK8*((LOG(AK8))/LOG(2))))","v":0},null,{"$f":"N8","v":112},{"$f":"COUNTIF(L60:L72,AN8)","v":4},{"$f":"AO8/(AQ4-AO10)","v":0.5714285714285714},{"$f":"IF(AP8=0,0,(AP8*((LOG(AP8))/LOG(2))))","v":-0.46134566974720237},null,{"$f":"N8","v":112},{"$f":"COUNTIF(L73:L85,AS8)","v":3},{"$f":"AT8/(AV4-AT10)","v":1},{"$f":"IF(AU8=0,0,(AU8*((LOG(AU8))/LOG(2))))","v":0}]
[22,295,23,300,23,306,null,null,null,null,0,222,null,121,{"$f":"COUNTIF($L$7:$L$500,N9)","v":0},{"$f":"O9/$Q$4","v":0},{"$f":"IF(P9=0,0,(P9*((LOG(P9))/LOG(2))))","v":0},null,null,{"$f":"N9","v":121},{"$f":"COUNTIF(L7:L19,T9)","v":0},{"$f":"U9/(W4-U10)","v":0},{"$f":"IF(V9=0,0,(V9*((LOG(V9))/LOG(2))))","v":0},null,{"$f":"N9","v":121},{"$f":"COUNTIF(L20:L32,Y9)","v":0},{"$f":"Z9/(AB4-Z10)","v":0},{"$f":"IF(AA9=0,0,(AA9*((LOG(AA9))/LOG(2))))","v":0},null,{"$f":"N9","v":121},{"$f":"COUNTIF(L33:L46,AD9)","v":0},{"$f":"AE9/(AG4-AE10)","v":0},{"$f":"IF(AF9=0,0,(AF9*((LOG(AF9))/LOG(2))))","v":0},null,{"$f":"N9","v":121},{"$f":"COUNTIF(L47:L59,AI9)","v":0},{"$f":"AJ9/(AL4-AJ10)","v":0},{"$f":"IF(AK9=0,0,(AK9*((LOG(AK9))/LOG(2))))","v":0},null,{"$f":"N9","v":121},{"$f":"COUNTIF(L60:L72,AN9)","v":0},{"$f":"AO9/(AQ4-AO10)","v":0},{"$f":"IF(AP9=0,0,(AP9*((LOG(AP9))/LOG(2))))","v":0},null,{"$f":"N9","v":121},{"$f":"COUNTIF(L73:L85,AS9)","v":0},{"$f":"AT9/(AV4-AT10)","v":0},{"$f":"IF(AU9=0,0,(AU9*((LOG(AU9))/LOG(2))))","v":0}]
[11,400,21,409,21,415,null,null,null,null,0,122,null,122,{"$f":"COUNTIF($L$7:$L$500,N10)","v":40},{"$f":"O10/$Q$4","v":0.50632911392405067},{"$f":"IF(P10=0,0,(P10*((LOG(P10))/LOG(2))))","v":-0.49714058394417238},null,null,{"$f":"N10","v":122},{"$f":"COUNTIF(L7:L19,T10)","v":4},null,null,null,{"$f":"N10","v":122},{"$f":"COUNTIF(L20:L32,Y10)","v":4},null,null,null,{"$f":"N10","v":122},{"$f":"COUNTIF(L33:L46,AD10)","v":9},null,null,null,{"$f":"N10","v":122},{"$f":"COUNTIF(L47:L59,AI10)","v":7},null,null,null,{"$f":"N10","v":122},{"$f":"COUNTIF(L60:L72,AN10)","v":6},null,null,null,{"$f":"N10","v":122},{"$f":"COUNTIF(L73:L85,AS10)","v":10}]
[22,524,23,527,23,537,null,null,null,null,0,222,null,211,{"$f":"COUNTIF($L$7:$L$500,N11)","v":0},{"$f":"O11/$Q$4","v":0},{"$f":"IF(P11=0,0,(P11*((LOG(P11))/LOG(2))))","v":0},null,null,{"$f":"N11","v":211},{"$f":"COUNTIF(L7:L19,T11)","v":0},{"$f":"U11/(W4-U10)","v":0},{"$f":"IF(V11=0,0,(V11*((LOG(V11))/LOG(2))))","v":0},null,{"$f":"N11","v":211},{"$f":"COUNTIF(L20:L32,Y11)","v":0},{"$f":"Z11/(AB4-Z10)","v":0},{"$f":"IF(AA11=0,0,(AA11*((LOG(AA11))/LOG(2))))","v":0},null,{"$f":"N11","v":211},{"$f":"COUNTIF(L33:L46,AD11)","v":0},{"$f":"AE11/(AG4-AE10)","v":0},{"$f":"IF(AF11=0,0,(AF11*((LOG(AF11))/LOG(2))))","v":0},null,{"$f":"N11","v":211},{"$f":"COUNTIF(L47:L59,AI11)","v":0},{"$f":"AJ11/(AL4-AJ10)","v":0},{"$f":"IF(AK11=0,0,(AK11*((LOG(AK11))/LOG(2))))","v":0},null,{"$f":"N11","v":211},{"$f":"COUNTIF(L60:L72,AN11)","v":0},{"$f":"AO11/(AQ4-AO10)","v":0},{"$f":"IF(AP11=0,0,(AP11*((LOG(AP11))/LOG(2))))","v":0},null,{"$f":"N11","v":211},{"$f":"COUNTIF(L73:L85,AS11)","v":0},{"$f":"AT11/(AV4-AT10)","v":0},{"$f":"IF(AU11=0,0,(AU11*((LOG(AU11))/LOG(2))))","v":0}]
[22,642,23,647,23,655,null,null,null,null,0,222,null,212,{"$f":"COUNTIF($L$7:$L$500,N12)","v":0},{"$f":"O12/$Q$4","v":0},{"$f":"IF(P12=0,0,(P12*((LOG(P12))/LOG(2))))","v":0},null,null,{"$f":"N12","v":212},{"$f":"COUNTIF(L7:L19,T12)","v":0},{"$f":"U12/(W4-U10)","v":0},{"$f":"IF(V12=0,0,(V12*((LOG(V12))/LOG(2))))","v":0},null,{"$f":"N12","v":212},{"$f":"COUNTIF(L20:L32,Y12)","v":0},{"$f":"Z12/(AB4-Z10)","v":0},{"$f":"IF(AA12=0,0,(AA12*((LOG(AA12))/LOG(2))))","v":0},null,{"$f":"N12","v":212},{"$f":"COUNTIF(L33:L46,AD12)","v":0},{"$f":"AE12/(AG4-AE10)","v":0},{"$f":"IF(AF12=0,0,(AF12*((LOG(AF12))/LOG(2))))","v":0},null,{"$f":"N12","v":212},{"$f":"COUNTIF(L47:L59,AI12)","v":0},{"$f":"AJ12/(AL4-AJ10)","v":0},{"$f":"IF(AK12=0,0,(AK12*((LOG(AK12))/LOG(2))))","v":0},null,{"$f":"N12","v":212},{"$f":"COUNTIF(L60:L72,AN12)","v":0},{"$f":"AO12/(AQ4-AO10)","v":0},{"$f":"IF(AP12=0,0,(AP12*((LOG(AP12))/LOG(2))))","v":0},null,{"$f":"N12","v":212},{"$f":"COUNTIF(L73:L85,AS12)","v":0},{"$f":"AT12/(AV4-AT10)","v":0},{"$f":"IF(AU12=0,0,(AU12*((LOG(AU12))/LOG(2))))","v":0}]
[22,757,23,761,23,766,null,null,null,null,0,222,null,221,{"$f":"COUNTIF($L$7:$L$500,N13)","v":0},{"$f":"O13/$Q$4","v":0},{"$f":"IF(P13=0,0,(P13*((LOG(P13))/LOG(2))))","v":0},null,null,{"$f":"N13","v":221},{"$f":"COUNTIF(L7:L19,T13)","v":0},{"$f":"U13/(W4-U10)","v":0},{"$f":"IF(V13=0,0,(V13*((LOG(V13))/LOG(2))))","v":0},null,{"$f":"N13","v":221},{"$f":"COUNTIF(L20:L32,Y13)","v":0},{"$f":"Z13/(AB4-Z10)","v":0},{"$f":"IF(AA13=0,0,(AA13*((LOG(AA13))/LOG(2))))","v":0},null,{"$f":"N13","v":221},{"$f":"COUNTIF(L33:L46,AD13)","v":0},{"$f":"AE13/(AG4-AE10)","v":0},{"$f":"IF(AF13=0,0,(AF13*((LOG(AF13))/LOG(2))))","v":0},null,{"$f":"N13","v":221},{"$f":"COUNTIF(L47:L59,AI13)","v":0},{"$f":"AJ13/(AL4-AJ10)","v":0},{"$f":"IF(AK13=0,0,(AK13*((LOG(AK13))/LOG(2))))","v":0},null,{"$f":"N13","v":221},{"$f":"COUNTIF(L60:L72,AN13)","v":0},{"$f":"AO13/(AQ4-AO10)","v":0},{"$f":"IF(AP13=0,0,(AP13*((LOG(AP13))/LOG(2))))","v":0},null,{"$f":"N13","v":221},{"$f":"COUNTIF(L73:L85,AS13)","v":0},{"$f":"AT13/(AV4-AT10)","v":0},{"$f":"IF(AU13=0,0,(AU13*((LOG(AU13))/LOG(2))))","v":0}]
[11,862,21,874,21,878,null,null,null,null,0,122,null,222,{"$f":"COUNTIF($L$7:$L$500,N14)","v":19},{"$f":"O14/$Q$4","v":0.24050632911392406},{"$f":"IF(P14=0,0,(P14*((LOG(P14))/LOG(2))))","v":-0.49444571468274462},null,null,{"$f":"N14","v":222},{"$f":"COUNTIF(L7:L19,T14)","v":9},{"$f":"U14/(W4-U10)","v":1},{"$f":"IF(V14=0,0,(V14*((LOG(V14))/LOG(2))))","v":0},null,{"$f":"N14","v":222},{"$f":"COUNTIF(L20:L32,Y14)","v":6},{"$f":"Z14/(AB4-Z10)","v":0.66666666666666663},{"$f":"IF(AA14=0,0,(AA14*((LOG(AA14))/LOG(2))))","v":-0.38997500048077083},null,{"$f":"N14","v":222},{"$f":"COUNTIF(L33:L46,AD14)","v":2},{"$f":"AE14/(AG4-AE10)","v":0.4},{"$f":"IF(AF14=0,0,(AF14*((LOG(AF14))/LOG(2))))","v":-0.52877123795494496},null,{"$f":"N14","v":222},{"$f":"COUNTIF(L47:L59,AI14)","v":0},{"$f":"AJ14/(AL4-AJ10)","v":0},{"$f":"IF(AK14=0,0,(AK14*((LOG(AK14))/LOG(2))))","v":0},null,{"$f":"N14","v":222},{"$f":"COUNTIF(L60:L72,AN14)","v":2},{"$f":"AO14/(AQ4-AO10)","v":0.2857142857142857},{"$f":"IF(AP14=0,0,(AP14*((LOG(AP14))/LOG(2))))","v":-0.51638712058788683},null,{"$f":"N14","v":222},{"$f":"COUNTIF(L73:L85,AS14)","v":0},{"$f":"AT14/(AV4-AT10)","v":0},{"$f":"IF(AU14=0,0,(AU14*((LOG(AU14))/LOG(2))))","v":0}]
[11,978,21,994,21,1005,null,null,null,null,0,122,null,null,null,{"$f":"SUM(P7:P14)","v":1},{"$f":"-SUM(Q7:Q14)","v":1.612054209229201},null,null,null,null,{"$f":"SUM(V7:V14)","v":1},{"$f":"-SUM(W7:W14)","v":0},null,null,null,{"$f":"SUM(AA7:AA14)","v":1},{"$f":"-SUM(AB7:AB14)","v":1.2243944454059861},null,null,null,{"$f":"SUM(AF7:AF14)","v":1},{"$f":"-SUM(AG7:AG14)","v":0.97095059445466869},null,null,null,{"$f":"SUM(AK7:AK14)","v":1},{"$f":"-SUM(AL7:AL14)","v":0},null,null,null,{"$f":"SUM(AP7:AP14)","v":0.99999999999999989},{"$f":"-SUM(AQ7:AQ14)","v":1.3787834934861753},null,null,null,{"$f":"SUM(AU7:AU14)","v":1},{"$f":"-SUM(AV7:AV14)","v":0}]
[22,1135,23,1139,23,1145,null,null,null,null,0,222,null,null,null,"U=",{"$f":"Q15/(LOG(Q4)/LOG(2))","v":0.25572815325078796},null,null,null,null,"U1=",{"$f":"W15/(LOG(W4)/LOG(2))","v":0},null,null,null,"U2=",{"$f":"AB15/(LOG(AB4)/LOG(2))","v":0.33087809521757539},null,null,null,"U3=",{"$f":"AG15/(LOG(AG4)/LOG(2))","v":0.25501972217760543},null,null,null,"U4=",{"$f":"AL15/(LOG(AL4)/LOG(2))","v":0},null,null,null,"U5=",{"$f":"AQ15/(LOG(AQ4)/LOG(2))","v":0.37259990663455644},null,null,null,"U6=",{"$f":"AV15/(LOG(AV4)/LOG(2))","v":0}]
[22,1253,23,1261,23,1277,null,null,null,null,0,222]
[11,1372,21,1381,21,1386,null,null,null,null,0,122]
[22,1494,23,1527,23,1537,null,null,null,null,0,222,null,"Total Target Seq"]
[22,1639,23,1642,23,1652,null,null,null,null,0,222,null,{"$f":"COUNTIF(L7:L85,G3)","v":40},null,13,13,14,13,13,13]
[11,1744,12,1749,23,1756,null,null,null,null,0,112,null,null,null,"% of reinforcement given in 6 equal intervals based on number of trials "]
[22,1862,23,1869,23,1891,null,null,null,null,0,222,null,null,null,"%_1","%_2","%_3","%_4","%_5","%_6"]
[22,1995,23,1998,23,2002,null,null,null,null,0,222,null,null,"target sequence",{"$f":"$G$3","v":122},{"$f":"$G$3","v":122},{"$f":"$G$3","v":122},{"$f":"$G$3","v":122},{"$f":"$G$3","v":122},{"$f":"$G$3","v":122}]
[11,2100,21,2109,21,2113,null,null,null,null,0,122,null,null,"total reinforcement",{"$f":"U10","v":4},{"$f":"Z10","v":4},{"$f":"AE10","v":9},{"$f":"AJ10","v":7},{"$f":"AO10","v":6},{"$f":"AT10","v":10}]
[11,2200,21,2212,21,2229,null,null,null,null,0,122,null,null,"% target"]
[11,2384,12,2388,14,2392,null,null,null,null,0,111,null,null,"CCRF"]
[22,2500,23,2503,23,2508,null,null,null,null,0,222,null,null,"% CCRf"]
[11,2649,12,2653,23,2661,null,null,null,null,0,112,null,null,"average response rate",{"$f":"F19/P20","v":118.23076923076923},{"$f":"(F32-F19)/Q20","v":125.38461538461539},{"$f":"(F46-F32)/R20","v":129.71428571428572},{"$f":"(F59-F46)/S20","v":126},{"$f":"(F72-F59)/T20","v":123.38461538461539},{"$f":"(F85-F72)/U20","v":131.76923076923077}]
[22,2763,23,2767,23,2780,null,null,null,null,0,222]
[22,2885,23,2902,23,2912,null,null,null,null,0,222]
[11,3007,21,3020,21,3046,null,null,null,null,0,122]
[11,3138,21,3150,21,3167,null,null,null,null,0,122]
[11,3304,12,3307,23,3314,null,null,null,null,0,112]
[11,3411,21,3420,21,3437,null,null,null,null,0,122]
[11,3554,12,3558,23,3565,null,null,null,null,0,112]
[11,3661,21,3670,21,3701,null,null,null,null,0,122]
[11,3828,21,3835,21,3866,null,null,null,null,0,122]
[22,3996,23,4004,23,4023,null,null,null,null,0,222]
[22,4127,23,4134,23,4141,null,null,null,null,0,222]
[11,4239,21,4248,21,4251,null,null,null,null,0,122]
[11,4341,12,4345,23,4356,null,null,null,null,0,112]
[11,4476,21,4493,21,4500,null,null,null,null,0,122]
[11,4597,21,4606,21,4621,null,null,null,null,0,122]
[11,4754,21,4763,21,4767,null,null,null,null,0,122]
[11,4859,21,4868,21,4877,null,null,null,null,0,122]
[11,4969,21,4980,21,4983,null,null,null,null,0,122]
[11,5097,12,5102,23,5129,null,null,null,null,0,112]
[11,5224,21,5233,21,5236,null,null,null,null,0,122]
[11,5348,21,5358,21,5374,null,null,null,null,0,122]
[11,5473,12,5478,23,5484,null,null,null,null,0,112]
[11,5581,12,5585,23,5592,null,null,null,null,0,112]
[11,5687,21,5703,21,5707,null,null,null,null,0,122]
[11,5812,12,5819,23,5828,null,null,null,null,0,112]
[11,5923,21,5932,21,5963,null,null,null,null,0,122]
[11,6075,21,6083,21,6112,null,null,null,null,0,122]
[11,6240,12,6250,23,6259,null,null,null,null,0,112]
[11,6357,21,6365,21,6369,null,null,null,null,0,122]
[11,6486,21,6496,21,6510,null,null,null,null,0,122]
[11,6607,12,6613,23,6621,null,null,null,null,0,112]
[11,6720,21,6727,21,6744,null,null,null,null,0,122]
[11,6842,12,6847,23,6859,null,null,null,null,0,112]
[11,6955,12,6960,23,6966,null,null,null,null,0,112]
[11,7060,21,7069,21,7092,null,null,null,null,0,122]
[11,7210,21,7229,21,7236,null,null,null,null,0,122]
[11,7346,12,7351,23,7362,null,null,null,null,0,112]
[11,7458,21,7466,21,7469,null,null,null,null,0,122]
[11,7579,12,7586,23,7595,null,null,null,null,0,112]
[11,7698,21,7705,21,7713,null,null,null,null,0,122]
[11,7820,12,7826,14,7832,null,null,null,null,0,111]
[22,7955,23,7959,23,7965,null,null,null,null,0,222]
[22,8069,23,8073,23,8079,null,null,null,null,0,222]
[11,8175,21,8183,21,8225,null,null,null,null,0,122]
[11,8335,21,8349,21,8359,null,null,null,null,0,122]
[11,8484,12,8490,23,8498,null,null,null,null,0,112]
[11,8592,12,8596,23,8605,null,null,null,null,0,112]
[11,8703,21,8711,21,8741,null,null,null,null,0,122]
[11,8854,21,8862,21,8874,null,null,null,null,0,122]
[11,8965,21,8980,21,8999,null,null,null,null,0,122]
[11,9112,12,9121,23,9130,null,null,null,null,0,112]
[11,9225,21,9235,21,9265,null,null,null,null,0,122]
[11,9367,21,9376,21,9392,null,null,null,null,0,122]
[11,9495,21,9508,21,9525,null,null,null,null,0,122]
[11,9667,21,9674,21,9678,null,null,null,null,0,122]
[11,9802,21,9809,21,9813,null,null,null,null,0,122]
[11,9927,21,9933,21,9938,null,null,null,null,1,122]

{"sheet":"!LB10A54..Is","index":31,"n_rows":80,"n_cols":48,"rows_kept":80,"cut":false,"hidden":false,"merged":[[4,39,4,42],[5,39,5,40],[4,44,4,47],[5,44,5,45],[4,24,4,27],[5,24,5,25],[4,29,4,32],[5,29,5,30],[4,34,4,37],[5,34,5,35],[1,1,1,2],[5,13,5,14],[18,13,18,14],[19,13,19,14],[4,19,4,22],[5,19,5,20]]}
["Report for:!LB10A54..Is"]
["Date:","<date>"]
["Hen:","<hen>",null,null,null,"Correct Sequence",{"$f":"Start!J2","v":122},null,null,null,null,null,null,null,null,"Total Sequences in Data",{"$f":"4994-COUNTBLANK(L7:L5000)","v":74},null,null,null,null,"Total Sequences in Block Data",{"$f":"COUNTA(L7:L18)","v":12},null,null,null,"Total Sequences in Block Data",{"$f":"COUNTA(L19:L31)","v":13},null,null,null,"Total Sequences in Block Data",{"$f":"COUNTA(L32:L43)","v":12},null,null,null,"Total Sequences in Block Data",{"$f":"COUNTA(L44:L55)","v":12},null,null,null,"Total Sequences in Block Data",{"$f":"COUNTA(L56:L68)","v":13},null,null,null,"Total Sequences in Block Data",{"$f":"COUNTA(L69:L80)","v":12}]
[null,null,null,null,null,null,null,null,null,null,null,null,null,null,null,"Total Sequences in Summary",{"$f":"SUM(O7:O14)","v":74},null,null,null,null,"Total Sequences in Block Summary",{"$f":"SUM(U7:U14)","v":12},null,null,null,"Total Sequences in Block Summary",{"$f":"SUM(Z7:Z14)","v":13},null,null,null,"Total Sequences in Block Summary",{"$f":"SUM(AE7:AE14)","v":12},null,null,null,"Total Sequences in Block Summary",{"$f":"SUM(AJ7:AJ14)","v":12},null,null,null,"Total Sequences in Block Summary",{"$f":"SUM(AO7:AO14)","v":13},null,null,null,"Total Sequences in Block Summary",{"$f":"SUM(AT7:AT14)","v":12}]
[null,null,null,null,null,null,null,null,null,null,null,null,null,null,null,null,null,null,null,"Block 1",null,null,null,null,"Block 2",null,null,null,null,"Block 3",null,null,null,null,"Block 4",null,null,null,null,"Block 5",null,null,null,null,"Block 6"]
["Sequence\nComponent\n1","Time\n1","Sequence\nComponent\n2","Time\n2","Sequence\nComponent\n3","Time\n3","Sequence\nComponent\n4","Time\n4","Sequence\nComponent\n5","Time\n5","Correct?\n0=No 1=Yes","Sequence",null,"Frequency",null,"Relative Frequency","Variability",null,null,"Frequency",null,"Relative Frequency","Variability",null,"Frequency",null,"Relative Frequency","Variability",null,"Frequency",null,"Relative Frequency","Variability",null,"Frequency",null,"Relative Frequency","Variability",null,"Frequency",null,"Relative Frequency","Variability",null,"Frequency",null,"Relative Frequency","Variability"]
[22,43,23,48,23,52,null,null,null,null,0,222,null,111,{"$f":"COUNTIF($L$7:$L$500,N7)","v":3},{"$f":"O7/$Q$4","v":4.0540540540540543E-2},{"$f":"IF(P7=0,0,(P7*((LOG(P7))/LOG(2))))","v":-0.1874793593881538},null,null,{"$f":"N7","v":111},{"$f":"COUNTIF(L7:L18,T7)","v":0},{"$f":"U7/(W4-U10)","v":0},{"$f":"IF(V7=0,0,(V7*((LOG(V7))/LOG(2))))","v":0},null,{"$f":"N7","v":111},{"$f":"COUNTIF(L19:L31,Y7)","v":0},{"$f":"Z7/(AB4-Z10)","v":0},{"$f":"IF(AA7=0,0,(AA7*((LOG(AA7))/LOG(2))))","v":0},null,{"$f":"N7","v":111},{"$f":"COUNTIF(L32:L43,AD7)","v":1},{"$f":"AE7/(AG4-AE10)","v":0.25},{"$f":"IF(AF7=0,0,(AF7*((LOG(AF7))/LOG(2))))","v":-0.5},null,{"$f":"N7","v":111},{"$f":"COUNTIF(L44:L55,AI7)","v":0},{"$f":"AJ7/(AL4-AJ10)","v":0},{"$f":"IF(AK7=0,0,(AK7*((LOG(AK7))/LOG(2))))","v":0},null,{"$f":"N7","v":111},{"$f":"COUNTIF(L56:L68,AN7)","v":0},{"$f":"AO7/(AQ4-AO10)","v":0},{"$f":"IF(AP7=0,0,(AP7*((LOG(AP7))/LOG(2))))","v":0},null,{"$f":"N7","v":111},{"$f":"COUNTIF(L69:L80,AS7)","v":2},{"$f":"AT7/(AV4-AT10)","v":0.2857142857142857},{"$f":"IF(AU7=0,0,(AU7*((LOG(AU7))/LOG(2))))","v":-0.51638712058788683}]
[22,154,23,157,23,161,null,null,null,null,0,222,null,112,{"$f":"COUNTIF($L$7:$L$500,N8)","v":18},{"$f":"O8/$Q$4","v":0.24324324324324326},{"$f":"IF(P8=0,0,(P8*((LOG(P8))/LOG(2))))","v":-0.49610149399134429},null,null,{"$f":"N8","v":112},{"$f":"COUNTIF(L7:L18,T8)","v":0},{"$f":"U8/(W4-U10)","v":0},{"$f":"IF(V8=0,0,(V8*((LOG(V8))/LOG(2))))","v":0},null,{"$f":"N8","v":112},{"$f":"COUNTIF(L19:L31,Y8)","v":1},{"$f":"Z8/(AB4-Z10)","v":0.25},{"$f":"IF(AA8=0,0,(AA8*((LOG(AA8))/LOG(2))))","v":-0.5},null,{"$f":"N8","v":112},{"$f":"COUNTIF(L32:L43,AD8)","v":3},{"$f":"AE8/(AG4-AE10)","v":0.75},{"$f":"IF(AF8=0,0,(AF8*((LOG(AF8))/LOG(2))))","v":-0.31127812445913283},null,{"$f":"N8","v":112},{"$f":"COUNTIF(L44:L55,AI8)","v":4},{"$f":"AJ8/(AL4-AJ10)","v":0.66666666666666663},{"$f":"IF(AK8=0,0,(AK8*((LOG(AK8))/LOG(2))))","v":-0.38997500048077083},null,{"$f":"N8","v":112},{"$f":"COUNTIF(L56:L68,AN8)","v":7},{"$f":"AO8/(AQ4-AO10)","v":1},{"$f":"IF(AP8=0,0,(AP8*((LOG(AP8))/LOG(2))))","v":0},null,{"$f":"N8","v":112},{"$f":"COUNTIF(L69:L80,AS8)","v":3},{"$f":"AT8/(AV4-AT10)","v":0.42857142857142855},{"$f":"IF(AU8=0,0,(AU8*((LOG(AU8))/LOG(2))))","v":-0.52388246628704915}]
[22,262,23,265,23,270,null,null,null,null,0,222,null,121,{"$f":"COUNTIF($L$7:$L$500,N9)","v":0},{"$f":"O9/$Q$4","v":0},{"$f":"IF(P9=0,0,(P9*((LOG(P9))/LOG(2))))","v":0},null,null,{"$f":"N9","v":121},{"$f":"COUNTIF(L7:L18,T9)","v":0},{"$f":"U9/(W4-U10)","v":0},{"$f":"IF(V9=0,0,(V9*((LOG(V9))/LOG(2))))","v":0},null,{"$f":"N9","v":121},{"$f":"COUNTIF(L19:L31,Y9)","v":0},{"$f":"Z9/(AB4-Z10)","v":0},{"$f":"IF(AA9=0,0,(AA9*((LOG(AA9))/LOG(2))))","v":0},null,{"$f":"N9","v":121},{"$f":"COUNTIF(L32:L43,AD9)","v":0},{"$f":"AE9/(AG4-AE10)","v":0},{"$f":"IF(AF9=0,0,(AF9*((LOG(AF9))/LOG(2))))","v":0},null,{"$f":"N9","v":121},{"$f":"COUNTIF(L44:L55,AI9)","v":0},{"$f":"AJ9/(AL4-AJ10)","v":0},{"$f":"IF(AK9=0,0,(AK9*((LOG(AK9))/LOG(2))))","v":0},null,{"$f":"N9","v":121},{"$f":"COUNTIF(L56:L68,AN9)","v":0},{"$f":"AO9/(AQ4-AO10)","v":0},{"$f":"IF(AP9=0,0,(AP9*((LOG(AP9))/LOG(2))))","v":0},null,{"$f":"N9","v":121},{"$f":"COUNTIF(L69:L80,AS9)","v":0},{"$f":"AT9/(AV4-AT10)","v":0},{"$f":"IF(AU9=0,0,(AU9*((LOG(AU9))/LOG(2))))","v":0}]
[22,373,23,377,23,383,null,null,null,null,0,222,null,122,{"$f":"COUNTIF($L$7:$L$500,N10)","v":40},{"$f":"O10/$Q$4","v":0.54054054054054057},{"$f":"IF(P10=0,0,(P10*((LOG(P10))/LOG(2))))","v":-0.47974338959004725},null,null,{"$f":"N10","v":122},{"$f":"COUNTIF(L7:L18,T10)","v":6},null,null,null,{"$f":"N10","v":122},{"$f":"COUNTIF(L19:L31,Y10)","v":9},null,null,null,{"$f":"N10","v":122},{"$f":"COUNTIF(L32:L43,AD10)","v":8},null,null,null,{"$f":"N10","v":122},{"$f":"COUNTIF(L44:L55,AI10)","v":6},null,null,null,{"$f":"N10","v":122},{"$f":"COUNTIF(L56:L68,AN10)","v":6},null,null,null,{"$f":"N10","v":122},{"$f":"COUNTIF(L69:L80,AS10)","v":5}]
[22,492,23,495,23,501,null,null,null,null,0,222,null,211,{"$f":"COUNTIF($L$7:$L$500,N11)","v":0},{"$f":"O11/$Q$4","v":0},{"$f":"IF(P11=0,0,(P11*((LOG(P11))/LOG(2))))","v":0},null,null,{"$f":"N11","v":211},{"$f":"COUNTIF(L7:L18,T11)","v":0},{"$f":"U11/(W4-U10)","v":0},{"$f":"IF(V11=0,0,(V11*((LOG(V11))/LOG(2))))","v":0},null,{"$f":"N11","v":211},{"$f":"COUNTIF(L19:L31,Y11)","v":0},{"$f":"Z11/(AB4-Z10)","v":0},{"$f":"IF(AA11=0,0,(AA11*((LOG(AA11))/LOG(2))))","v":0},null,{"$f":"N11","v":211},{"$f":"COUNTIF(L32:L43,AD11)","v":0},{"$f":"AE11/(AG4-AE10)","v":0},{"$f":"IF(AF11=0,0,(AF11*((LOG(AF11))/LOG(2))))","v":0},null,{"$f":"N11","v":211},{"$f":"COUNTIF(L44:L55,AI11)","v":0},{"$f":"AJ11/(AL4-AJ10)","v":0},{"$f":"IF(AK11=0,0,(AK11*((LOG(AK11))/LOG(2))))","v":0},null,{"$f":"N11","v":211},{"$f":"COUNTIF(L56:L68,AN11)","v":0},{"$f":"AO11/(AQ4-AO10)","v":0},{"$f":"IF(AP11=0,0,(AP11*((LOG(AP11))/LOG(2))))","v":0},null,{"$f":"N11","v":211},{"$f":"COUNTIF(L69:L80,AS11)","v":0},{"$f":"AT11/(AV4-AT10)","v":0},{"$f":"IF(AU11=0,0,(AU11*((LOG(AU11))/LOG(2))))","v":0}]
[11,597,21,604,21,607,null,null,null,null,0,122,null,212,{"$f":"COUNTIF($L$7:$L$500,N12)","v":0},{"$f":"O12/$Q$4","v":0},{"$f":"IF(P12=0,0,(P12*((LOG(P12))/LOG(2))))","v":0},null,null,{"$f":"N12","v":212},{"$f":"COUNTIF(L7:L18,T12)","v":0},{"$f":"U12/(W4-U10)","v":0},{"$f":"IF(V12=0,0,(V12*((LOG(V12))/LOG(2))))","v":0},null,{"$f":"N12","v":212},{"$f":"COUNTIF(L19:L31,Y12)","v":0},{"$f":"Z12/(AB4-Z10)","v":0},{"$f":"IF(AA12=0,0,(AA12*((LOG(AA12))/LOG(2))))","v":0},null,{"$f":"N12","v":212},{"$f":"COUNTIF(L32:L43,AD12)","v":0},{"$f":"AE12/(AG4-AE10)","v":0},{"$f":"IF(AF12=0,0,(AF12*((LOG(AF12))/LOG(2))))","v":0},null,{"$f":"N12","v":212},{"$f":"COUNTIF(L44:L55,AI12)","v":0},{"$f":"AJ12/(AL4-AJ10)","v":0},{"$f":"IF(AK12=0,0,(AK12*((LOG(AK12))/LOG(2))))","v":0},null,{"$f":"N12","v":212},{"$f":"COUNTIF(L56:L68,AN12)","v":0},{"$f":"AO12/(AQ4-AO10)","v":0},{"$f":"IF(AP12=0,0,(AP12*((LOG(AP12))/LOG(2))))","v":0},null,{"$f":"N12","v":212},{"$f":"COUNTIF(L69:L80,AS12)","v":0},{"$f":"AT12/(AV4-AT10)","v":0},{"$f":"IF(AU12=0,0,(AU12*((LOG(AU12))/LOG(2))))","v":0}]
[22,742,23,746,23,751,null,null,null,null,0,222,null,221,{"$f":"COUNTIF($L$7:$L$500,N13)","v":0},{"$f":"O13/$Q$4","v":0},{"$f":"IF(P13=0,0,(P13*((LOG(P13))/LOG(2))))","v":0},null,null,{"$f":"N13","v":221},{"$f":"COUNTIF(L7:L18,T13)","v":0},{"$f":"U13/(W4-U10)","v":0},{"$f":"IF(V13=0,0,(V13*((LOG(V13))/LOG(2))))","v":0},null,{"$f":"N13","v":221},{"$f":"COUNTIF(L19:L31,Y13)","v":0},{"$f":"Z13/(AB4-Z10)","v":0},{"$f":"IF(AA13=0,0,(AA13*((LOG(AA13))/LOG(2))))","v":0},null,{"$f":"N13","v":221},{"$f":"COUNTIF(L32:L43,AD13)","v":0},{"$f":"AE13/(AG4-AE10)","v":0},{"$f":"IF(AF13=0,0,(AF13*((LOG(AF13))/LOG(2))))","v":0},null,{"$f":"N13","v":221},{"$f":"COUNTIF(L44:L55,AI13)","v":0},{"$f":"AJ13/(AL4-AJ10)","v":0},{"$f":"IF(AK13=0,0,(AK13*((LOG(AK13))/LOG(2))))","v":0},null,{"$f":"N13","v":221},{"$f":"COUNTIF(L56:L68,AN13)","v":0},{"$f":"AO13/(AQ4-AO10)","v":0},{"$f":"IF(AP13=0,0,(AP13*((LOG(AP13))/LOG(2))))","v":0},null,{"$f":"N13","v":221},{"$f":"COUNTIF(L69:L80,AS13)","v":0},{"$f":"AT13/(AV4-AT10)","v":0},{"$f":"IF(AU13=0,0,(AU13*((LOG(AU13))/LOG(2))))","v":0}]
[11,853,21,865,21,872,null,null,null,null,0,122,null,222,{"$f":"COUNTIF($L$7:$L$500,N14)","v":13},{"$f":"O14/$Q$4","v":0.17567567567567569},{"$f":"IF(P14=0,0,(P14*((LOG(P14))/LOG(2))))","v":-0.44077266780192093},null,null,{"$f":"N14","v":222},{"$f":"COUNTIF(L7:L18,T14)","v":6},{"$f":"U14/(W4-U10)","v":1},{"$f":"IF(V14=0,0,(V14*((LOG(V14))/LOG(2))))","v":0},null,{"$f":"N14","v":222},{"$f":"COUNTIF(L19:L31,Y14)","v":3},{"$f":"Z14/(AB4-Z10)","v":0.75},{"$f":"IF(AA14=0,0,(AA14*((LOG(AA14))/LOG(2))))","v":-0.31127812445913283},null,{"$f":"N14","v":222},{"$f":"COUNTIF(L32:L43,AD14)","v":0},{"$f":"AE14/(AG4-AE10)","v":0},{"$f":"IF(AF14=0,0,(AF14*((LOG(AF14))/LOG(2))))","v":0},null,{"$f":"N14","v":222},{"$f":"COUNTIF(L44:L55,AI14)","v":2},{"$f":"AJ14/(AL4-AJ10)","v":0.33333333333333331},{"$f":"IF(AK14=0,0,(AK14*((LOG(AK14))/LOG(2))))","v":-0.52832083357371862},null,{"$f":"N14","v":222},{"$f":"COUNTIF(L56:L68,AN14)","v":0},{"$f":"AO14/(AQ4-AO10)","v":0},{"$f":"IF(AP14=0,0,(AP14*((LOG(AP14))/LOG(2))))","v":0},null,{"$f":"N14","v":222},{"$f":"COUNTIF(L69:L80,AS14)","v":2},{"$f":"AT14/(AV4-AT10)","v":0.2857142857142857},{"$f":"IF(AU14=0,0,(AU14*((LOG(AU14))/LOG(2))))","v":-0.51638712058788683}]
[11,1009,21,1018,21,1023,null,null,null,null,0,122,null,null,null,{"$f":"SUM(P7:P14)","v":1},{"$f":"-SUM(Q7:Q14)","v":1.604096910771466},null,null,null,null,{"$f":"SUM(V7:V14)","v":1},{"$f":"-SUM(W7:W14)","v":0},null,null,null,{"$f":"SUM(AA7:AA14)","v":1},{"$f":"-SUM(AB7:AB14)","v":0.81127812445913283},null,null,null,{"$f":"SUM(AF7:AF14)","v":1},{"$f":"-SUM(AG7:AG14)","v":0.81127812445913283},null,null,null,{"$f":"SUM(AK7:AK14)","v":1},{"$f":"-SUM(AL7:AL14)","v":0.91829583405448945},null,null,null,{"$f":"SUM(AP7:AP14)","v":1},{"$f":"-SUM(AQ7:AQ14)","v":0},null,null,null,{"$f":"SUM(AU7:AU14)","v":0.99999999999999989},{"$f":"-SUM(AV7:AV14)","v":1.5566567074628228}]
[11,1114,21,1125,21,1130,null,null,null,null,0,122,null,null,null,"U=",{"$f":"Q15/(LOG(Q4)/LOG(2))","v":0.25833142087040833},null,null,null,null,"U1=",{"$f":"W15/(LOG(W4)/LOG(2))","v":0},null,null,null,"U2=",{"$f":"AB15/(LOG(AB4)/LOG(2))","v":0.21923830308109346},null,null,null,"U3=",{"$f":"AG15/(LOG(AG4)/LOG(2))","v":0.22630030977895443},null,null,null,"U4=",{"$f":"AL15/(LOG(AL4)/LOG(2))","v":0.2561521449303204},null,null,null,"U5=",{"$f":"AQ15/(LOG(AQ4)/LOG(2))","v":0},null,null,null,"U6=",{"$f":"AV15/(LOG(AV4)/LOG(2))","v":0.43421840734726885}]
[11,1327,21,1335,21,1339,null,null,null,null,0,122]
[11,1459,21,1468,21,1477,null,null,null,null,0,122]
[11,1607,21,1615,21,1619,null,null,null,null,0,122,null,"Total Target Seq"]
[11,1721,21,1737,21,1757,null,null,null,null,0,122,null,{"$f":"COUNTIF(L7:L80,G3)","v":40},null,12,13,12,12,13,12]
[11,1871,21,1881,21,1886,null,null,null,null,0,122,null,null,null,"% of reinforcement given in 6 equal intervals based on number of trials "]
[22,2018,23,2021,23,2032,null,null,null,null,0,222,null,null,null,"%_1","%_2","%_3","%_4","%_5","%_6"]
[11,2127,21,2135,21,2139,null,null,null,null,0,122,null,null,"target sequence",{"$f":"$G$3","v":122},{"$f":"$G$3","v":122},{"$f":"$G$3","v":122},{"$f":"$G$3","v":122},{"$f":"$G$3","v":122},{"$f":"$G$3","v":122}]
[22,2265,23,2276,23,2286,null,null,null,null,0,222,null,null,"total reinforcement",{"$f":"U10","v":6},{"$f":"Z10","v":9},{"$f":"AE10","v":8},{"$f":"AJ10","v":6},{"$f":"AO10","v":6},{"$f":"AT10","v":5}]
[11,2381,21,2391,21,2394,null,null,null,null,0,122,null,null,"% target"]
[11,2497,21,2521,21,2530,null,null,null,null,0,122,null,null,"CCRF"]
[11,2625,21,2636,21,2645,null,null,null,null,0,122,null,null,"% CCRf"]
[11,2736,21,2746,21,2778,null,null,null,null,0,122,null,null,"average response rate",{"$f":"F18/P20","v":123.08333333333333},{"$f":"(F31-F18)/Q20","v":129.53846153846155},{"$f":"(F43-F31)/R20","v":128.41666666666666},{"$f":"(F55-F43)/S20","v":118.5},{"$f":"(F68-F55)/T20","v":119.46153846153847},{"$f":"(F80-F68)/U20","v":122.58333333333333}]
[22,2904,23,2910,23,2920,null,null,null,null,0,222]
[11,3015,21,3023,21,3025,null,null,null,null,0,122]
[11,3149,12,3153,23,3161,null,null,null,null,0,112]
[11,3256,21,3271,21,3279,null,null,null,null,0,122]
[11,3388,21,3395,21,3412,null,null,null,null,0,122]
[11,3521,12,3525,23,3532,null,null,null,null,0,112]
[11,3629,12,3632,14,3635,null,null,null,null,0,111]
[11,3733,12,3735,23,3744,null,null,null,null,0,112]
[11,3841,12,3843,23,3850,null,null,null,null,0,112]
[11,3948,21,3960,21,3963,null,null,null,null,0,122]
[11,4062,21,4070,21,4085,null,null,null,null,0,122]
[11,4251,21,4258,21,4266,null,null,null,null,0,122]
[11,4363,21,4391,21,4402,null,null,null,null,0,122]
[11,4545,21,4553,21,4561,null,null,null,null,0,122]
[11,4689,21,4698,21,4702,null,null,null,null,0,122]
[22,4808,23,4817,23,4826,null,null,null,null,0,222]
[22,4937,23,4941,23,4946,null,null,null,null,0,222]
[11,5042,21,5050,21,5053,null,null,null,null,0,122]
[11,5153,12,5157,23,5165,null,null,null,null,0,112]
[11,5273,21,5280,21,5285,null,null,null,null,0,122]
[11,5389,12,5394,23,5400,null,null,null,null,0,112]
[11,5497,21,5513,21,5518,null,null,null,null,0,122]
[11,5611,21,5624,21,5631,null,null,null,null,0,122]
[11,5727,21,5734,21,5738,null,null,null,null,0,122]
[11,5885,12,5890,23,5898,null,null,null,null,0,112]
[11,5992,21,6003,21,6008,null,null,null,null,0,122]
[11,6109,12,6114,23,6124,null,null,null,null,0,112]
[11,6220,21,6227,21,6228,null,null,null,null,0,122]
[11,6366,12,6369,23,6377,null,null,null,null,0,112]
[11,6473,12,6478,23,6486,null,null,null,null,0,112]
[11,6581,12,6585,23,6593,null,null,null,null,0,112]
[11,6689,21,6697,21,6707,null,null,null,null,0,122]
[11,6804,12,6807,23,6814,null,null,null,null,0,112]
[11,6909,12,6911,23,6919,null,null,null,null,0,112]
[11,7015,12,7019,23,7028,null,null,null,null,0,112]
[11,7124,21,7134,21,7139,null,null,null,null,0,122]
[11,7227,21,7238,21,7252,null,null,null,null,0,122]
[11,7359,21,7367,21,7372,null,null,null,null,0,122]
[11,7497,21,7506,21,7515,null,null,null,null,0,122]
[11,7664,12,7670,23,7677,null,null,null,null,0,112]
[11,7773,12,7778,23,7805,null,null,null,null,0,112]
[22,7908,23,7911,23,7919,null,null,null,null,0,222]
[11,8013,12,8020,23,8026,null,null,null,null,0,112]
[11,8131,21,8137,21,8141,null,null,null,null,0,122]
[11,8260,12,8266,23,8275,null,null,null,null,0,112]
[11,8382,12,8385,14,8389,null,null,null,null,0,111]
[11,8491,21,8498,21,8508,null,null,null,null,0,122]
[11,8612,12,8618,14,8622,null,null,null,null,0,111]
[11,8718,21,8726,21,8730,null,null,null,null,0,122]
[11,8881,21,8887,21,8894,null,null,null,null,0,122]
[22,9008,23,9013,23,9020,null,null,null,null,0,222]
[11,9121,21,9138,21,9148,null,null,null,null,1,122]