{"text_format":"1","workbook":"xlsx","n_sheets":33,"sheets":["Sample Report","Summary","Start","!M923A00.Gus","!M924B00.Gus","!M925920.Gus","!M926930.Gus","!M927A20.Gus","!M928910.Gus","!M930B00.Gus","!MA01A50.Gus","!MA02940.Gus","!MA03940.Gus","!MA04A50.Gus","!MA05A00.Gus","!MA06850.Gus","!MA07910.Gus","!MA08A50.Gus","!MA09920.Gus","!MA10A30.Gus","!MA12910.Gus","!MA13A30.Gus","!MA14A00.Gus","!MA15A40.Gus","!MA16920.Gus","!MA17B10.Gus","!MA18A30.Gus","!MA19940.Gus","!MA20920.Gus","!MA21940.Gus","!MA22B00.Gus","!MA23B10.Gus","!MA24A40.Gus"],"not_rendered":{"charts":0,"images":0,"macros":1,"external_links":0,"defined_names":0,"comments":0,"pivot_tables":0},"unopened":[],"bounds":{"document_bytes":16777216,"sheet_cells":100000,"rows_first":2000,"rows_last":500,"rows_between":2000,"halvings":0,"cell_chars":16384,"cell_head_chars":4096},"cells_cut":0,"cells_raw":0,"read":"whole","date_system":"1900"}

{"sheet":"Sample Report","index":0,"n_rows":12,"n_cols":11,"rows_kept":12,"cut":false,"hidden":true,"merged":[[7,0,7,6]]}
[]
["Date"]
["Hen"]
["Program"]
["Start at 999999"]
["Sequence component 1","Time 1","Seqeunce Component 2","Time 2","Seqeunce Component 3","Time 3","Correct   0 = No 1=Yes",null,null,"Seqeunce","Time"]
[12,7,12,42,13,18,"if 77 new line,                                  if 31 or 41 = yes new line on 77, ",null,null,"=string of Seqeunce compponent 1, 2 & 3","=time 3"]
["This continues until ther is a 1 on its own to indicate start of summary data"]
[null,null,null,null,null,null,null,null,null,"10-19 =1"]
["Summary Data ",null,null,null,null,null,null,null,null,"20-29 =2"]
["Correct","Incorrect","Rft","total","Av Correct","Av Incorrect","Percent correct","Time",null,"in this example the seqeunce would be 111"]
[40,33,40,73,23.95,15,54,806]

{"sheet":"Summary","index":1,"n_rows":32,"n_cols":24,"rows_kept":32,"cut":false,"hidden":false,"merged":[]}
[]
["Day","Date","Average Response Rate","Target %","RF for non correct sequence","U Value",null,null,null,null,"Block 1","Block 2","Block 3","Block 4","Block 5","Block 6"]
[1,{"$f":"'!M923A00.Gus'!B2:C2","v":"<date>"},{"$f":"('!M923A00.Gus'!F129/60)/'!M923A00.Gus'!Q3","v":2.0697831978319785},{"$f":"'!M923A00.Gus'!N20/'!M923A00.Gus'!Q3","v":3.2520325203252036E-2},{"$f":"SUM('!M923A00.Gus'!L20:Q20)/'!M923A00.Gus'!Q3","v":2.1707317073170733},{"$f":"'!M923A00.Gus'!Q16","v":0.16162127927617728},null,null,null,"Average Response Rate",{"$f":"AVERAGE(C3:C7)","v":2.0125355231969477},{"$f":"AVERAGE(C8:C12)","v":2.8495525464897993},{"$f":"AVERAGE(C13:C17)","v":2.154612925273045},{"$f":"AVERAGE(C18:C22)","v":2.3059724851732524},{"$f":"AVERAGE(C23:C27)","v":2.4776262078873863},{"$f":"AVERAGE(C28:C32)","v":2.1934636647864623}]
[2,{"$f":"'!M924B00.Gus'!B2:C2","v":"<date>"},{"$f":"('!M924B00.Gus'!F132/60)/'!M924B00.Gus'!Q3","v":1.8928571428571428},{"$f":"'!M924B00.Gus'!N20/'!M924B00.Gus'!Q3","v":6.3492063492063489E-2},{"$f":"SUM('!M924B00.Gus'!L20:Q20)/'!M924B00.Gus'!Q3","v":1.3650793650793651},{"$f":"'!M924B00.Gus'!Q16","v":0.18358484308438264},null,null,null,"Target %",{"$f":"AVERAGE(D3:D7)","v":8.6059990726550337E-2},{"$f":"AVERAGE(D8:D12)","v":0.10154604576311757},{"$f":"AVERAGE(D13:D17)","v":0.14565417125524488},{"$f":"AVERAGE(D18:D22)","v":0.16909014330369829},{"$f":"AVERAGE(D23:D27)","v":0.20877254160669412},{"$f":"AVERAGE(D28:D32)","v":0.18106615405851295}]
[3,{"$f":"'!M925920.Gus'!B2:C2","v":"<date>"},{"$f":"('!M925920.Gus'!F165/60)/'!M925920.Gus'!Q3","v":2.0067085953878405},{"$f":"'!M925920.Gus'!N20/'!M925920.Gus'!Q3","v":0.11320754716981132},{"$f":"SUM('!M925920.Gus'!L20:Q20)/'!M925920.Gus'!Q3","v":1.779874213836478},{"$f":"'!M925920.Gus'!Q16","v":0.19899267903211121},null,null,null,"CCRF",{"$f":"AVERAGE(E3:E7)","v":1.7671284272573708},{"$f":"AVERAGE(E8:E12)","v":2.5170486419553688},{"$f":"AVERAGE(E13:E17)","v":1.7011120323004447},{"$f":"AVERAGE(E18:E22)","v":1.9137788800192894},{"$f":"AVERAGE(E23:E27)","v":2.051533473309278},{"$f":"AVERAGE(E28:E32)","v":1.8355834204534609}]
[4,{"$f":"'!M926930.Gus'!B2:C2","v":"<date>"},{"$f":"('!M926930.Gus'!F109/60)/'!M926930.Gus'!Q3","v":2.0749190938511326},{"$f":"'!M926930.Gus'!N20/'!M926930.Gus'!Q3","v":0.11650485436893204},{"$f":"SUM('!M926930.Gus'!L20:Q20)/'!M926930.Gus'!Q3","v":1.6310679611650485},{"$f":"'!M926930.Gus'!Q16","v":0.21617674879824203},null,null,null,"U Value",{"$f":"AVERAGE(F3:F7)","v":0.19962582378093105},{"$f":"AVERAGE(F8:F12)","v":0.23985814759892113},{"$f":"AVERAGE(F13:F17)","v":0.29432074348306425},{"$f":"AVERAGE(F18:F22)","v":0.26772787059215036},{"$f":"AVERAGE(F23:F27)","v":0.28124747897073554},{"$f":"AVERAGE(F28:F32)","v":0.32743680098978656}]
[5,{"$f":"'!M927A20.Gus'!B2:C2","v":"<date>"},{"$f":"('!M927A20.Gus'!F159/60)/'!M927A20.Gus'!Q3","v":2.0184095860566447},{"$f":"'!M927A20.Gus'!N20/'!M927A20.Gus'!Q3","v":0.10457516339869281},{"$f":"SUM('!M927A20.Gus'!L20:Q20)/'!M927A20.Gus'!Q3","v":1.8888888888888888},{"$f":"'!M927A20.Gus'!Q16","v":0.23775356871374223}]
[6,{"$f":"'!M928910.Gus'!B2:C2","v":"<date>"},{"$f":"('!M928910.Gus'!F40/60)/'!M928910.Gus'!Q3","v":5.2695238095238093},{"$f":"'!M928910.Gus'!N20/'!M928910.Gus'!Q3","v":0},{"$f":"SUM('!M928910.Gus'!L20:Q20)/'!M928910.Gus'!Q3","v":6.6857142857142859},{"$f":"'!M928910.Gus'!Q16","v":7.5004083610246547E-2}]
[7,{"$f":"'!M930B00.Gus'!B2:C2","v":"<date>"},{"$f":"('!M930B00.Gus'!F191/60)/'!M930B00.Gus'!Q3","v":2.1563063063063064},{"$f":"'!M930B00.Gus'!N20/'!M930B00.Gus'!Q3","v":0.12432432432432433},{"$f":"SUM('!M930B00.Gus'!L20:Q20)/'!M930B00.Gus'!Q3","v":1.1189189189189188},{"$f":"'!M930B00.Gus'!Q16","v":0.32836456986130413},{"$f":"K3","v":2.0125355231969477},{"$f":"L3","v":2.8495525464897993},2.154612925273045,2.3059724851732524,2.4776262078873863,2.1934636647864623,{"$f":"K4","v":8.6059990726550337E-2},{"$f":"L4","v":0.10154604576311757},0.14565417125524488,0.16909014330369829,0.20877254160669412,0.18106615405851295,{"$f":"K6","v":0.19962582378093105},{"$f":"L6","v":0.23985814759892113},0.29432074348306425,0.26772787059215036,0.28124747897073554,0.32743680098978656]
[8,{"$f":"'!MA01A50.Gus'!B2:C2","v":"<date>"},{"$f":"('!MA01A50.Gus'!F151/60)/'!MA01A50.Gus'!Q3","v":2.5018390804597699},{"$f":"'!MA01A50.Gus'!N20/'!MA01A50.Gus'!Q3","v":0.11724137931034483},{"$f":"SUM('!MA01A50.Gus'!L20:Q20)/'!MA01A50.Gus'!Q3","v":1.9793103448275862},{"$f":"'!MA01A50.Gus'!Q16","v":0.27559833445915621}]
[9,{"$f":"'!MA02940.Gus'!B2:C2","v":"<date>"},{"$f":"('!MA02940.Gus'!F189/60)/'!MA02940.Gus'!Q3","v":2.1586520947176688},{"$f":"'!MA02940.Gus'!N20/'!MA02940.Gus'!Q3","v":0.12021857923497267},{"$f":"SUM('!MA02940.Gus'!L20:Q20)/'!MA02940.Gus'!Q3","v":1.1202185792349726},{"$f":"'!MA02940.Gus'!Q16","v":0.26643792689617579}]
[10,{"$f":"'!MA03940.Gus'!B2:C2","v":"<date>"},{"$f":"('!MA03940.Gus'!F191/60)/'!MA03940.Gus'!Q3","v":2.1614414414414416},{"$f":"'!MA03940.Gus'!N20/'!MA03940.Gus'!Q3","v":0.14594594594594595},{"$f":"SUM('!MA03940.Gus'!L20:Q20)/'!MA03940.Gus'!Q3","v":1.681081081081081},{"$f":"'!MA03940.Gus'!Q16","v":0.25388582316772279}]
[11,{"$f":"'!MA04A50.Gus'!B2:C2","v":"<date>"},{"$f":"('!MA04A50.Gus'!F194/60)/'!MA04A50.Gus'!Q3","v":2.1252659574468087},{"$f":"'!MA04A50.Gus'!N20/'!MA04A50.Gus'!Q3","v":0.14361702127659576},{"$f":"SUM('!MA04A50.Gus'!L20:Q20)/'!MA04A50.Gus'!Q3","v":1.6595744680851063},{"$f":"'!MA04A50.Gus'!Q16","v":0.29051107131258169}]
[12,{"$f":"'!MA05A00.Gus'!B2:C2","v":"<date>"},{"$f":"('!MA05A00.Gus'!F190/60)/'!MA05A00.Gus'!Q3","v":2.1729166666666666},{"$f":"'!MA05A00.Gus'!N20/'!MA05A00.Gus'!Q3","v":0.14130434782608695},{"$f":"SUM('!MA05A00.Gus'!L20:Q20)/'!MA05A00.Gus'!Q3","v":1.625},{"$f":"'!MA05A00.Gus'!Q16","v":0.3067308144272809}]
[13,{"$f":"'!MA06850.Gus'!B2:C2","v":"<date>"},{"$f":"('!MA06850.Gus'!F146/60)/'!MA06850.Gus'!Q3","v":2.3119047619047621},{"$f":"'!MA06850.Gus'!N20/'!MA06850.Gus'!Q3","v":0.14285714285714285},{"$f":"SUM('!MA06850.Gus'!L20:Q20)/'!MA06850.Gus'!Q3","v":1.9928571428571429},{"$f":"'!MA06850.Gus'!Q16","v":0.28074250377222776}]
[14,{"$f":"'!MA07910.Gus'!B2:C2","v":"<date>"},{"$f":"('!MA07910.Gus'!F189/60)/'!MA07910.Gus'!Q3","v":2.185336976320583},{"$f":"'!MA07910.Gus'!N20/'!MA07910.Gus'!Q3","v":0.14207650273224043},{"$f":"SUM('!MA07910.Gus'!L20:Q20)/'!MA07910.Gus'!Q3","v":1.6885245901639345},{"$f":"'!MA07910.Gus'!Q16","v":0.29571506002001213}]
[15,{"$f":"'!MA08A50.Gus'!B2:C2","v":"<date>"},{"$f":"('!MA08A50.Gus'!F208/60)/'!MA08A50.Gus'!Q3","v":1.9776402640264028},{"$f":"'!MA08A50.Gus'!N20/'!MA08A50.Gus'!Q3","v":0.15841584158415842},{"$f":"SUM('!MA08A50.Gus'!L20:Q20)/'!MA08A50.Gus'!Q3","v":1.5396039603960396},{"$f":"'!MA08A50.Gus'!Q16","v":0.29790426788321889}]
[16,{"$f":"'!MA09920.Gus'!B2:C2","v":"<date>"},{"$f":"('!MA09920.Gus'!F195/60)/'!MA09920.Gus'!Q3","v":2.1092592592592592},{"$f":"'!MA09920.Gus'!N20/'!MA09920.Gus'!Q3","v":0.14285714285714285},{"$f":"SUM('!MA09920.Gus'!L20:Q20)/'!MA09920.Gus'!Q3","v":1.5978835978835979},{"$f":"'!MA09920.Gus'!Q16","v":0.27568506697803746}]
[17,{"$f":"'!MA10A30.Gus'!B2:C2","v":"<date>"},{"$f":"('!MA10A30.Gus'!F182/60)/'!MA10A30.Gus'!Q3","v":2.1909090909090909},{"$f":"'!MA10A30.Gus'!N20/'!MA10A30.Gus'!Q3","v":0.1875},{"$f":"SUM('!MA10A30.Gus'!L20:Q20)/'!MA10A30.Gus'!Q3","v":1.7272727272727273},{"$f":"'!MA10A30.Gus'!Q16","v":0.26634517888068765}]
[18,{"$f":"'!MA12910.Gus'!B2:C2","v":"<date>"},{"$f":"('!MA12910.Gus'!F107/60)/'!MA12910.Gus'!Q3","v":2.5431372549019606},{"$f":"'!MA12910.Gus'!N20/'!MA12910.Gus'!Q3","v":0.11764705882352941},{"$f":"SUM('!MA12910.Gus'!L20:Q20)/'!MA12910.Gus'!Q3","v":2.6274509803921569},{"$f":"'!MA12910.Gus'!Q16","v":0.25172376113374939}]
[19,{"$f":"'!MA13A30.Gus'!B2:C2","v":"<date>"},{"$f":"('!MA13A30.Gus'!F186/60)/'!MA13A30.Gus'!Q3","v":2.2060185185185186},{"$f":"'!MA13A30.Gus'!N20/'!MA13A30.Gus'!Q3","v":0.21111111111111111},{"$f":"SUM('!MA13A30.Gus'!L20:Q20)/'!MA13A30.Gus'!Q3","v":1.7777777777777777},{"$f":"'!MA13A30.Gus'!Q16","v":0.2737785291953328}]
[20,{"$f":"'!MA14A00.Gus'!B2:C2","v":"<date>"},{"$f":"('!MA14A00.Gus'!F167/60)/'!MA14A00.Gus'!Q3","v":2.4805383022774325},{"$f":"'!MA14A00.Gus'!N20/'!MA14A00.Gus'!Q3","v":0.18633540372670807},{"$f":"SUM('!MA14A00.Gus'!L20:Q20)/'!MA14A00.Gus'!Q3","v":1.8385093167701863},{"$f":"'!MA14A00.Gus'!Q16","v":0.2711068167729444}]
[21,{"$f":"'!MA15A40.Gus'!B2:C2","v":"<date>"},{"$f":"('!MA15A40.Gus'!F118/60)/'!MA15A40.Gus'!Q3","v":2.1288690476190477},{"$f":"'!MA15A40.Gus'!N20/'!MA15A40.Gus'!Q3","v":0.19642857142857142},{"$f":"SUM('!MA15A40.Gus'!L20:Q20)/'!MA15A40.Gus'!Q3","v":2.5},{"$f":"'!MA15A40.Gus'!Q16","v":0.30051424889694905}]
[22,{"$f":"'!MA16920.Gus'!B2:C2","v":"<date>"},{"$f":"('!MA16920.Gus'!F165/60)/'!MA16920.Gus'!Q3","v":2.5113207547169814},{"$f":"'!MA16920.Gus'!N20/'!MA16920.Gus'!Q3","v":0.18238993710691823},{"$f":"SUM('!MA16920.Gus'!L20:Q20)/'!MA16920.Gus'!Q3","v":1.9119496855345912},{"$f":"'!MA16920.Gus'!Q16","v":0.2652587443633464}]
[23,{"$f":"'!MA17B10.Gus'!B2:C2","v":"<date>"},{"$f":"('!MA17B10.Gus'!F159/60)/'!MA17B10.Gus'!Q3","v":2.6143790849673203},{"$f":"'!MA17B10.Gus'!N20/'!MA17B10.Gus'!Q3","v":0.25490196078431371},{"$f":"SUM('!MA17B10.Gus'!L20:Q20)/'!MA17B10.Gus'!Q3","v":1.9738562091503269},{"$f":"'!MA17B10.Gus'!Q16","v":0.28237001040538745}]
[24,{"$f":"'!MA18A30.Gus'!B2:C2","v":"<date>"},{"$f":"('!MA18A30.Gus'!F171/60)/'!MA18A30.Gus'!Q3","v":2.4175757575757575},{"$f":"'!MA18A30.Gus'!N20/'!MA18A30.Gus'!Q3","v":0.20606060606060606},{"$f":"SUM('!MA18A30.Gus'!L20:Q20)/'!MA18A30.Gus'!Q3","v":1.8242424242424242},{"$f":"'!MA18A30.Gus'!Q16","v":0.2867916665664238}]
[25,{"$f":"'!MA19940.Gus'!B2:C2","v":"<date>"},{"$f":"('!MA19940.Gus'!F153/60)/'!MA19940.Gus'!Q3","v":2.7159863945578233},{"$f":"'!MA19940.Gus'!N20/'!MA19940.Gus'!Q3","v":0.20408163265306123},{"$f":"SUM('!MA19940.Gus'!L20:Q20)/'!MA19940.Gus'!Q3","v":2.0476190476190474},{"$f":"'!MA19940.Gus'!Q16","v":0.27130272462157101}]
[26,{"$f":"'!MA20920.Gus'!B2:C2","v":"<date>"},{"$f":"('!MA20920.Gus'!F67/60)/'!MA20920.Gus'!Q3","v":2.0035519125683061},{"$f":"'!MA20920.Gus'!N20/'!MA20920.Gus'!Q3","v":4.9180327868852458E-2},{"$f":"SUM('!MA20920.Gus'!L20:Q20)/'!MA20920.Gus'!Q3","v":2.1967213114754101},{"$f":"'!MA20920.Gus'!Q16","v":0.40283331425201113}]
[27,{"$f":"'!MA21940.Gus'!B2:C2","v":"<date>"},{"$f":"('!MA21940.Gus'!F79/60)/'!MA21940.Gus'!Q3","v":2.2082191780821918},{"$f":"'!MA21940.Gus'!N20/'!MA21940.Gus'!Q3","v":0.17808219178082191},{"$f":"SUM('!MA21940.Gus'!L20:Q20)/'!MA21940.Gus'!Q3","v":2.0410958904109591},{"$f":"'!MA21940.Gus'!Q16","v":0.42940914559699134}]
[28,{"$f":"'!MA22B00.Gus'!B2:C2","v":"<date>"},{"$f":"('!MA22B00.Gus'!F157/60)/'!MA22B00.Gus'!Q3","v":2.3083885209713024},{"$f":"'!MA22B00.Gus'!N20/'!MA22B00.Gus'!Q3","v":0.25827814569536423},{"$f":"SUM('!MA22B00.Gus'!L20:Q20)/'!MA22B00.Gus'!Q3","v":2.0596026490066226},{"$f":"'!MA22B00.Gus'!Q16","v":0.28446382117856495}]
[29,{"$f":"'!MA23B10.Gus'!B2:C2","v":"<date>"},{"$f":"('!MA23B10.Gus'!F190/60)/'!MA23B10.Gus'!Q3","v":2.1544384057971016},{"$f":"'!MA23B10.Gus'!N20/'!MA23B10.Gus'!Q3","v":0.19565217391304349},{"$f":"SUM('!MA23B10.Gus'!L20:Q20)/'!MA23B10.Gus'!Q3","v":1.6793478260869565},{"$f":"'!MA23B10.Gus'!Q16","v":0.24942428474790435}]
[30,{"$f":"'!MA24A40.Gus'!B2:C2","v":"<date>"},{"$f":"('!MA24A40.Gus'!F180/60)/'!MA24A40.Gus'!Q3","v":2.2927203065134099},{"$f":"'!MA24A40.Gus'!N20/'!MA24A40.Gus'!Q3","v":0.22413793103448276},{"$f":"SUM('!MA24A40.Gus'!L20:Q20)/'!MA24A40.Gus'!Q3","v":1.2011494252873562},{"$f":"'!MA24A40.Gus'!Q16","v":0.27105343917346081}]

{"sheet":"Start","index":2,"n_rows":36,"n_cols":10,"rows_kept":36,"cut":false,"hidden":false,"merged":[]}
[null,null,null,null,null,"Use Folder 51",null,"Auto Clean Up",null,"Correct sequence"]
[null,null,null,null,null,false,null,true,null,221]
[]
["Working with Folder",null,null,null,null,null,"Process All/Or Pick A number: ALL or an integer"]
["F:\\Possum Chapter\\Raw Data\\Gus\\New Phase RRL\\",null,null,null,null,null,"ALL"]
["Filenames:"]
["!MA22B00.Gus",null,null,null,null,null,"Paint Cells"]
["!MA23B10.Gus",null,null,null,null,null,false]
["!MA24A40.Gus"]
["!M923A00.Gus"]
["!M924B00.Gus"]
["!M925920.Gus"]
["!M926930.Gus"]
["!M927A20.Gus"]
["!M928910.Gus"]
["!M930B00.Gus"]
["!MA01A50.Gus"]
["!MA02940.Gus"]
["!MA03940.Gus"]
["!MA04A50.Gus"]
["!MA05A00.Gus"]
["!MA06850.Gus"]
["!MA07910.Gus"]
["!MA08A50.Gus"]
["!MA09920.Gus"]
["!MA10A30.Gus"]
["!MA12910.Gus"]
["!MA13A30.Gus"]
["!MA14A00.Gus"]
["!MA15A40.Gus"]
["!MA16920.Gus"]
["!MA17B10.Gus"]
["!MA18A30.Gus"]
["!MA19940.Gus"]
["!MA20920.Gus"]
["!MA21940.Gus"]

{"sheet":"!M923A00.Gus","index":3,"n_rows":129,"n_cols":48,"rows_kept":129,"cut":false,"hidden":false,"merged":[[4,39,4,42],[5,39,5,40],[4,44,4,47],[5,44,5,45],[4,24,4,27],[5,24,5,25],[4,29,4,32],[5,29,5,30],[4,34,4,37],[5,34,5,35],[1,1,1,2],[5,13,5,14],[18,13,18,14],[19,13,19,14],[4,19,4,22],[5,19,5,20]]}
["Report for:!M923A00.Gus"]
["Date:","<date>"]
["Hen:","<hen>",null,null,null,"Correct Sequence",{"$f":"Start!J2","v":221},null,null,null,null,null,null,null,null,"Total Sequences in Data",{"$f":"4994-COUNTBLANK(L7:L5000)","v":123},null,null,null,null,"Total Sequences in Block Data",{"$f":"COUNTA(L7:L27)","v":21},null,null,null,"Total Sequences in Block Data",{"$f":"COUNTA(L28:L47)","v":20},null,null,null,"Total Sequences in Block Data",{"$f":"COUNTA(L48:L68)","v":21},null,null,null,"Total Sequences in Block Data",{"$f":"COUNTA(L69:L88)","v":20},null,null,null,"Total Sequences in Block Data",{"$f":"COUNTA(L89:L109)","v":21},null,null,null,"Total Sequences in Block Data",{"$f":"COUNTA(L110:L129)","v":20}]
[null,null,null,null,null,null,null,null,null,null,null,null,null,null,null,"Total Sequences in Summary",{"$f":"SUM(O7:O14)","v":123},null,null,null,null,"Total Sequences in Block Summary",{"$f":"SUM(U7:U14)","v":21},null,null,null,"Total Sequences in Block Summary",{"$f":"SUM(Z7:Z14)","v":20},null,null,null,"Total Sequences in Block Summary",{"$f":"SUM(AE7:AE14)","v":21},null,null,null,"Total Sequences in Block Summary",{"$f":"SUM(AJ7:AJ14)","v":20},null,null,null,"Total Sequences in Block Summary",{"$f":"SUM(AO7:AO14)","v":21},null,null,null,"Total Sequences in Block Summary",{"$f":"SUM(AT7:AT14)","v":20}]
[null,null,null,null,null,null,null,null,null,null,null,null,null,null,null,null,null,null,null,"Block 1",null,null,null,null,"Block 2",null,null,null,null,"Block 3",null,null,null,null,"Block 4",null,null,null,null,"Block 5",null,null,null,null,"Block 6"]
["Sequence\nComponent\n1","Time\n1","Sequence\nComponent\n2","Time\n2","Sequence\nComponent\n3","Time\n3","Sequence\nComponent\n4","Time\n4","Sequence\nComponent\n5","Time\n5","Correct?\n0=No 1=Yes","Sequence",null,"Frequency",null,"Relative Frequency","Variability",null,null,"Frequency",null,"Relative Frequency","Variability",null,"Frequency",null,"Relative Frequency","Variability",null,"Frequency",null,"Relative Frequency","Variability",null,"Frequency",null,"Relative Frequency","Variability",null,"Frequency",null,"Relative Frequency","Variability",null,"Frequency",null,"Relative Frequency","Variability"]
[21,2,21,4,22,8,null,null,null,null,0,222,null,111,{"$f":"COUNTIF($L$7:$L$500,N7)","v":0},{"$f":"O7/$Q$4","v":0},{"$f":"IF(P7=0,0,(P7*((LOG(P7))/LOG(2))))","v":0},null,null,{"$f":"N7","v":111},{"$f":"COUNTIF(L7:L27,T7)","v":0},{"$f":"U7/(W4-U13)","v":0},{"$f":"IF(V7=0,0,(V7*((LOG(V7))/LOG(2))))","v":0},null,{"$f":"N7","v":111},{"$f":"COUNTIF(L28:L47,Y7)","v":0},{"$f":"Z7/(AB4-Z13)","v":0},{"$f":"IF(AA7=0,0,(AA7*((LOG(AA7))/LOG(2))))","v":0},null,{"$f":"N7","v":111},{"$f":"COUNTIF(L48:L68,AD7)","v":0},{"$f":"AE7/(AG4-AE13)","v":0},{"$f":"IF(AF7=0,0,(AF7*((LOG(AF7))/LOG(2))))","v":0},null,{"$f":"N7","v":111},{"$f":"COUNTIF(L69:L88,AI7)","v":0},{"$f":"AJ7/(AL4-AJ13)","v":0},{"$f":"IF(AK7=0,0,(AK7*((LOG(AK7))/LOG(2))))","v":0},null,{"$f":"N7","v":111},{"$f":"COUNTIF(L89:L109,AN7)","v":0},{"$f":"AO7/(AQ4-AO13)","v":0},{"$f":"IF(AP7=0,0,(AP7*((LOG(AP7))/LOG(2))))","v":0},null,{"$f":"N7","v":111},{"$f":"COUNTIF(L110:L129,AS7)","v":0},{"$f":"AT7/(AV4-AT13)","v":0},{"$f":"IF(AU7=0,0,(AU7*((LOG(AU7))/LOG(2))))","v":0}]
[12,110,23,122,24,132,null,null,null,null,0,122,null,112,{"$f":"COUNTIF($L$7:$L$500,N8)","v":0},{"$f":"O8/$Q$4","v":0},{"$f":"IF(P8=0,0,(P8*((LOG(P8))/LOG(2))))","v":0},null,null,{"$f":"N8","v":112},{"$f":"COUNTIF(L7:L27,T8)","v":0},{"$f":"U8/(W4-U13)","v":0},{"$f":"IF(V8=0,0,(V8*((LOG(V8))/LOG(2))))","v":0},null,{"$f":"N8","v":112},{"$f":"COUNTIF(L28:L47,Y8)","v":0},{"$f":"Z8/(AB4-Z13)","v":0},{"$f":"IF(AA8=0,0,(AA8*((LOG(AA8))/LOG(2))))","v":0},null,{"$f":"N8","v":112},{"$f":"COUNTIF(L48:L68,AD8)","v":0},{"$f":"AE8/(AG4-AE13)","v":0},{"$f":"IF(AF8=0,0,(AF8*((LOG(AF8))/LOG(2))))","v":0},null,{"$f":"N8","v":112},{"$f":"COUNTIF(L69:L88,AI8)","v":0},{"$f":"AJ8/(AL4-AJ13)","v":0},{"$f":"IF(AK8=0,0,(AK8*((LOG(AK8))/LOG(2))))","v":0},null,{"$f":"N8","v":112},{"$f":"COUNTIF(L89:L109,AN8)","v":0},{"$f":"AO8/(AQ4-AO13)","v":0},{"$f":"IF(AP8=0,0,(AP8*((LOG(AP8))/LOG(2))))","v":0},null,{"$f":"N8","v":112},{"$f":"COUNTIF(L110:L129,AS8)","v":0},{"$f":"AT8/(AV4-AT13)","v":0},{"$f":"IF(AU8=0,0,(AU8*((LOG(AU8))/LOG(2))))","v":0}]
[21,237,21,239,22,245,null,null,null,null,0,222,null,121,{"$f":"COUNTIF($L$7:$L$500,N9)","v":0},{"$f":"O9/$Q$4","v":0},{"$f":"IF(P9=0,0,(P9*((LOG(P9))/LOG(2))))","v":0},null,null,{"$f":"N9","v":121},{"$f":"COUNTIF(L7:L27,T9)","v":0},{"$f":"U9/(W4-U13)","v":0},{"$f":"IF(V9=0,0,(V9*((LOG(V9))/LOG(2))))","v":0},null,{"$f":"N9","v":121},{"$f":"COUNTIF(L28:L47,Y9)","v":0},{"$f":"Z9/(AB4-Z13)","v":0},{"$f":"IF(AA9=0,0,(AA9*((LOG(AA9))/LOG(2))))","v":0},null,{"$f":"N9","v":121},{"$f":"COUNTIF(L48:L68,AD9)","v":0},{"$f":"AE9/(AG4-AE13)","v":0},{"$f":"IF(AF9=0,0,(AF9*((LOG(AF9))/LOG(2))))","v":0},null,{"$f":"N9","v":121},{"$f":"COUNTIF(L69:L88,AI9)","v":0},{"$f":"AJ9/(AL4-AJ13)","v":0},{"$f":"IF(AK9=0,0,(AK9*((LOG(AK9))/LOG(2))))","v":0},null,{"$f":"N9","v":121},{"$f":"COUNTIF(L89:L109,AN9)","v":0},{"$f":"AO9/(AQ4-AO13)","v":0},{"$f":"IF(AP9=0,0,(AP9*((LOG(AP9))/LOG(2))))","v":0},null,{"$f":"N9","v":121},{"$f":"COUNTIF(L110:L129,AS9)","v":0},{"$f":"AT9/(AV4-AT13)","v":0},{"$f":"IF(AU9=0,0,(AU9*((LOG(AU9))/LOG(2))))","v":0}]
[21,349,21,351,22,353,null,null,null,null,0,222,null,122,{"$f":"COUNTIF($L$7:$L$500,N10)","v":21},{"$f":"O10/$Q$4","v":0.17073170731707318},{"$f":"IF(P10=0,0,(P10*((LOG(P10))/LOG(2))))","v":-0.4353995019005697},null,null,{"$f":"N10","v":122},{"$f":"COUNTIF(L7:L27,T10)","v":5},{"$f":"U10/(W4-U13)","v":0.23809523809523808},{"$f":"IF(V10=0,0,(V10*((LOG(V10))/LOG(2))))","v":-0.49294983997414238},null,{"$f":"N10","v":122},{"$f":"COUNTIF(L28:L47,Y10)","v":2},{"$f":"Z10/(AB4-Z13)","v":0.10526315789473684},{"$f":"IF(AA10=0,0,(AA10*((LOG(AA10))/LOG(2))))","v":-0.34188710667827216},null,{"$f":"N10","v":122},{"$f":"COUNTIF(L48:L68,AD10)","v":0},{"$f":"AE10/(AG4-AE13)","v":0},{"$f":"IF(AF10=0,0,(AF10*((LOG(AF10))/LOG(2))))","v":0},null,{"$f":"N10","v":122},{"$f":"COUNTIF(L69:L88,AI10)","v":5},{"$f":"AJ10/(AL4-AJ13)","v":0.26315789473684209},{"$f":"IF(AK10=0,0,(AK10*((LOG(AK10))/LOG(2))))","v":-0.50684195225163764},null,{"$f":"N10","v":122},{"$f":"COUNTIF(L89:L109,AN10)","v":4},{"$f":"AO10/(AQ4-AO13)","v":0.19047619047619047},{"$f":"IF(AP10=0,0,(AP10*((LOG(AP10))/LOG(2))))","v":-0.4556795091007162},null,{"$f":"N10","v":122},{"$f":"COUNTIF(L110:L129,AS10)","v":5},{"$f":"AT10/(AV4-AT13)","v":0.25},{"$f":"IF(AU10=0,0,(AU10*((LOG(AU10))/LOG(2))))","v":-0.5}]
[12,447,23,456,24,459,null,null,null,null,0,122,null,211,{"$f":"COUNTIF($L$7:$L$500,N11)","v":0},{"$f":"O11/$Q$4","v":0},{"$f":"IF(P11=0,0,(P11*((LOG(P11))/LOG(2))))","v":0},null,null,{"$f":"N11","v":211},{"$f":"COUNTIF(L7:L27,T11)","v":0},{"$f":"U11/(W4-U13)","v":0},{"$f":"IF(V11=0,0,(V11*((LOG(V11))/LOG(2))))","v":0},null,{"$f":"N11","v":211},{"$f":"COUNTIF(L28:L47,Y11)","v":0},{"$f":"Z11/(AB4-Z13)","v":0},{"$f":"IF(AA11=0,0,(AA11*((LOG(AA11))/LOG(2))))","v":0},null,{"$f":"N11","v":211},{"$f":"COUNTIF(L48:L68,AD11)","v":0},{"$f":"AE11/(AG4-AE13)","v":0},{"$f":"IF(AF11=0,0,(AF11*((LOG(AF11))/LOG(2))))","v":0},null,{"$f":"N11","v":211},{"$f":"COUNTIF(L69:L88,AI11)","v":0},{"$f":"AJ11/(AL4-AJ13)","v":0},{"$f":"IF(AK11=0,0,(AK11*((LOG(AK11))/LOG(2))))","v":0},null,{"$f":"N11","v":211},{"$f":"COUNTIF(L89:L109,AN11)","v":0},{"$f":"AO11/(AQ4-AO13)","v":0},{"$f":"IF(AP11=0,0,(AP11*((LOG(AP11))/LOG(2))))","v":0},null,{"$f":"N11","v":211},{"$f":"COUNTIF(L110:L129,AS11)","v":0},{"$f":"AT11/(AV4-AT13)","v":0},{"$f":"IF(AU11=0,0,(AU11*((LOG(AU11))/LOG(2))))","v":0}]
[21,557,21,561,22,580,null,null,null,null,0,222,null,212,{"$f":"COUNTIF($L$7:$L$500,N12)","v":6},{"$f":"O12/$Q$4","v":4.878048780487805E-2},{"$f":"IF(P12=0,0,(P12*((LOG(P12))/LOG(2))))","v":-0.21256351242039428},null,null,{"$f":"N12","v":212},{"$f":"COUNTIF(L7:L27,T12)","v":0},{"$f":"U12/(W4-U13)","v":0},{"$f":"IF(V12=0,0,(V12*((LOG(V12))/LOG(2))))","v":0},null,{"$f":"N12","v":212},{"$f":"COUNTIF(L28:L47,Y12)","v":1},{"$f":"Z12/(AB4-Z13)","v":5.2631578947368418E-2},{"$f":"IF(AA12=0,0,(AA12*((LOG(AA12))/LOG(2))))","v":-0.22357513228650452},null,{"$f":"N12","v":212},{"$f":"COUNTIF(L48:L68,AD12)","v":1},{"$f":"AE12/(AG4-AE13)","v":5.2631578947368418E-2},{"$f":"IF(AF12=0,0,(AF12*((LOG(AF12))/LOG(2))))","v":-0.22357513228650452},null,{"$f":"N12","v":212},{"$f":"COUNTIF(L69:L88,AI12)","v":1},{"$f":"AJ12/(AL4-AJ13)","v":5.2631578947368418E-2},{"$f":"IF(AK12=0,0,(AK12*((LOG(AK12))/LOG(2))))","v":-0.22357513228650452},null,{"$f":"N12","v":212},{"$f":"COUNTIF(L89:L109,AN12)","v":1},{"$f":"AO12/(AQ4-AO13)","v":4.7619047619047616E-2},{"$f":"IF(AP12=0,0,(AP12*((LOG(AP12))/LOG(2))))","v":-0.20915797251327431},null,{"$f":"N12","v":212},{"$f":"COUNTIF(L110:L129,AS12)","v":2},{"$f":"AT12/(AV4-AT13)","v":0.1},{"$f":"IF(AU12=0,0,(AU12*((LOG(AU12))/LOG(2))))","v":-0.33219280948873625}]
[21,686,21,699,22,713,null,null,null,null,0,222,null,221,{"$f":"COUNTIF($L$7:$L$500,N13)","v":4},{"$f":"O13/$Q$4","v":3.2520325203252036E-2},{"$f":"IF(P13=0,0,(P13*((LOG(P13))/LOG(2))))","v":-0.16073217903542245},null,null,{"$f":"N13","v":221},{"$f":"COUNTIF(L7:L27,T13)","v":0},null,null,null,{"$f":"N13","v":221},{"$f":"COUNTIF(L28:L47,Y13)","v":1},null,null,null,{"$f":"N13","v":221},{"$f":"COUNTIF(L48:L68,AD13)","v":2},null,null,null,{"$f":"N13","v":221},{"$f":"COUNTIF(L69:L88,AI13)","v":1},null,null,null,{"$f":"N13","v":221},{"$f":"COUNTIF(L89:L109,AN13)","v":0},null,null,null,{"$f":"N13","v":221},{"$f":"COUNTIF(L110:L129,AS13)","v":0}]
[21,810,21,814,22,819,null,null,null,null,0,222,null,222,{"$f":"COUNTIF($L$7:$L$500,N14)","v":92},{"$f":"O14/$Q$4","v":0.74796747967479671},{"$f":"IF(P14=0,0,(P14*((LOG(P14))/LOG(2))))","v":-0.31336288238995846},null,null,{"$f":"N14","v":222},{"$f":"COUNTIF(L7:L27,T14)","v":16},{"$f":"U14/(W4-U13)","v":0.76190476190476186},{"$f":"IF(V14=0,0,(V14*((LOG(V14))/LOG(2))))","v":-0.29890851259334122},null,{"$f":"N14","v":222},{"$f":"COUNTIF(L28:L47,Y14)","v":16},{"$f":"Z14/(AB4-Z13)","v":0.84210526315789469},{"$f":"IF(AA14=0,0,(AA14*((LOG(AA14))/LOG(2))))","v":-0.2087810639524931},null,{"$f":"N14","v":222},{"$f":"COUNTIF(L48:L68,AD14)","v":18},{"$f":"AE14/(AG4-AE13)","v":0.94736842105263153},{"$f":"IF(AF14=0,0,(AF14*((LOG(AF14))/LOG(2))))","v":-7.3897116632785129E-2},null,{"$f":"N14","v":222},{"$f":"COUNTIF(L69:L88,AI14)","v":13},{"$f":"AJ14/(AL4-AJ13)","v":0.68421052631578949},{"$f":"IF(AK14=0,0,(AK14*((LOG(AK14))/LOG(2))))","v":-0.37459691257539013},null,{"$f":"N14","v":222},{"$f":"COUNTIF(L89:L109,AN14)","v":16},{"$f":"AO14/(AQ4-AO13)","v":0.76190476190476186},{"$f":"IF(AP14=0,0,(AP14*((LOG(AP14))/LOG(2))))","v":-0.29890851259334122},null,{"$f":"N14","v":222},{"$f":"COUNTIF(L110:L129,AS14)","v":13},{"$f":"AT14/(AV4-AT13)","v":0.65},{"$f":"IF(AU14=0,0,(AU14*((LOG(AU14))/LOG(2))))","v":-0.40396744488507563}]
[21,916,21,922,22,925,null,null,null,null,0,222,null,null,null,{"$f":"SUM(P7:P14)","v":1},{"$f":"-SUM(Q7:Q14)","v":1.122058075746345},null,null,null,null,{"$f":"SUM(V7:V14)","v":1},{"$f":"-SUM(W7:W14)","v":0.7918583525674836},null,null,null,{"$f":"SUM(AA7:AA14)","v":1},{"$f":"-SUM(AB7:AB14)","v":0.77424330291726973},null,null,null,{"$f":"SUM(AF7:AF14)","v":1},{"$f":"-SUM(AG7:AG14)","v":0.29747224891928964},null,null,null,{"$f":"SUM(AK7:AK14)","v":1},{"$f":"-SUM(AL7:AL14)","v":1.1050139971135322},null,null,null,{"$f":"SUM(AP7:AP14)","v":1},{"$f":"-SUM(AQ7:AQ14)","v":0.96374599420733165},null,null,null,{"$f":"SUM(AU7:AU14)","v":1},{"$f":"-SUM(AV7:AV14)","v":1.2361602543738119}]
[12,1022,23,1030,24,1035,null,null,null,null,0,122,null,null,null,"U=",{"$f":"Q15/(LOG(Q4)/LOG(2))","v":0.16162127927617728},null,null,null,null,"U1=",{"$f":"W15/(LOG(W4)/LOG(2))","v":0.18028258806179848},null,null,null,"U2=",{"$f":"AB15/(LOG(AB4)/LOG(2))","v":0.17914303197990802},null,null,null,"U3=",{"$f":"AG15/(LOG(AG4)/LOG(2))","v":6.7725580891896578E-2},null,null,null,"U4=",{"$f":"AL15/(LOG(AL4)/LOG(2))","v":0.25567616416865235},null,null,null,"U5=",{"$f":"AQ15/(LOG(AQ4)/LOG(2))","v":0.21941629018187539},null,null,null,"U6=",{"$f":"AV15/(LOG(AV4)/LOG(2))","v":0.28602055083612599}]
[21,1136,21,1140,22,1146,null,null,null,null,0,222]
[21,1248,21,1254,22,1261,null,null,null,null,0,222]
[21,1358,21,1362,22,1366,null,null,null,null,0,222,null,"Total Target Seq"]
[21,1466,21,1468,22,1479,null,null,null,null,0,222,null,{"$f":"COUNTIF(L7:L129,G3)","v":4},null,21,20,21,20,21,20]
[21,1577,21,1581,22,1585,null,null,null,null,0,222,null,null,null,"% of reinforcement given in 6 equal intervals based on number of trials "]
[21,1677,21,1680,22,1685,null,null,null,null,0,222,null,null,null,"%_1","%_2","%_3","%_4","%_5","%_6"]
[21,1785,21,1788,22,1791,null,null,null,null,0,222,null,null,"target sequence",{"$f":"$G$3","v":221},{"$f":"$G$3","v":221},{"$f":"$G$3","v":221},{"$f":"$G$3","v":221},{"$f":"$G$3","v":221},{"$f":"$G$3","v":221}]
[21,1892,21,1900,22,1907,null,null,null,null,0,222,null,null,"total reinforcement",{"$f":"U13","v":0},{"$f":"Z13","v":1},{"$f":"AE13","v":2},{"$f":"AJ13","v":1},{"$f":"AO13","v":0},{"$f":"AT13","v":0}]
[12,2018,23,2027,24,2033,null,null,null,null,0,122,null,null,"% target"]
[21,2131,21,2134,22,2139,null,null,null,null,0,222,null,null,"CCRF"]
[12,2231,23,2236,24,2240,null,null,null,null,0,122,null,null,"% CCRf"]
[21,2337,21,2340,22,2343,null,null,null,null,0,222,null,null,"average response rate",{"$f":"F27/P20","v":106.66666666666667},{"$f":"(F47-F27)/Q20","v":120.15},{"$f":"(F68-F47)/R20","v":127.52380952380952},{"$f":"(F88-F68)/S20","v":138.15},{"$f":"(F109-F88)/T20","v":136.42857142857142},{"$f":"(F129-F109)/U20","v":116.3}]
[12,2448,23,2458,24,2461,null,null,null,null,0,122]
[21,2584,21,2588,22,2600,null,null,null,null,0,222]
[21,2697,21,2700,22,2712,null,null,null,null,0,222]
[21,2809,21,2815,22,2827,null,null,null,null,0,222]
[21,2927,21,2931,22,2935,null,null,null,null,0,222]
[21,3036,21,3048,22,3059,null,null,null,null,0,222]
[21,3157,21,3161,22,3169,null,null,null,null,0,222]
[21,3266,21,3271,22,3290,null,null,null,null,0,222]
[21,3388,21,3396,11,3400,null,null,null,null,0,221]
[21,3625,21,3635,22,3642,null,null,null,null,0,222]
[21,3755,21,3764,22,3770,null,null,null,null,0,222]
[12,3872,23,3884,24,3888,null,null,null,null,0,122]
[21,3998,12,4001,24,4006,null,null,null,null,0,212]
[21,4098,21,4104,22,4109,null,null,null,null,0,222]
[21,4205,21,4212,22,4215,null,null,null,null,0,222]
[21,4317,21,4321,22,4327,null,null,null,null,0,222]
[21,4423,21,4426,22,4429,null,null,null,null,0,222]
[21,4527,21,4530,22,4537,null,null,null,null,0,222]
[21,4635,21,4638,22,4643,null,null,null,null,0,222]
[21,4745,21,4753,22,4759,null,null,null,null,0,222]
[21,4857,21,4864,22,4870,null,null,null,null,0,222]
[21,4969,21,4971,22,4974,null,null,null,null,0,222]
[21,5072,21,5076,22,5081,null,null,null,null,0,222]
[21,5178,21,5181,22,5186,null,null,null,null,0,222]
[21,5287,21,5288,22,5292,null,null,null,null,0,222]
[21,5388,12,5391,24,5393,null,null,null,null,0,212]
[21,5494,21,5498,22,5504,null,null,null,null,0,222]
[21,5603,21,5610,22,5622,null,null,null,null,0,222]
[21,5714,21,5717,22,5722,null,null,null,null,0,222]
[21,5822,21,5828,22,5834,null,null,null,null,0,222]
[21,5932,21,5936,22,5940,null,null,null,null,0,222]
[21,6037,21,6049,22,6056,null,null,null,null,0,222]
[21,6157,21,6164,11,6169,null,null,null,null,0,221]
[21,6287,21,6303,11,6316,null,null,null,null,0,221]
[21,6759,21,6764,22,6770,null,null,null,null,0,222]
[21,6870,21,6875,22,6878,null,null,null,null,0,222]
[21,6985,21,6989,22,6994,null,null,null,null,0,222]
[21,7091,21,7095,22,7103,null,null,null,null,0,222]
[21,7202,21,7209,22,7218,null,null,null,null,0,222]
[21,7310,21,7316,22,7321,null,null,null,null,0,222]
[21,7419,21,7423,22,7427,null,null,null,null,0,222]
[12,7520,23,7525,24,7528,null,null,null,null,0,122]
[21,7626,21,7634,22,7640,null,null,null,null,0,222]
[21,7738,21,7743,22,7748,null,null,null,null,0,222]
[21,7845,21,7849,22,7855,null,null,null,null,0,222]
[21,7951,21,7954,22,7967,null,null,null,null,0,222]
[12,8063,23,8071,24,8073,null,null,null,null,0,122]
[21,8185,21,8192,11,8196,null,null,null,null,0,221]
[12,8868,23,8881,24,8885,null,null,null,null,0,122]
[21,8981,21,8985,22,8990,null,null,null,null,0,222]
[21,9088,21,9090,22,9101,null,null,null,null,0,222]
[21,9201,21,9209,22,9214,null,null,null,null,0,222]
[21,9315,21,9318,22,9324,null,null,null,null,0,222]
[12,9418,23,9422,24,9429,null,null,null,null,0,122]
[12,9523,23,9527,24,9531,null,null,null,null,0,122]
[21,9629,21,9637,22,9642,null,null,null,null,0,222]
[21,9744,21,9747,22,9753,null,null,null,null,0,222]
[21,9850,21,9857,22,9864,null,null,null,null,0,222]
[21,9969,21,9975,22,9979,null,null,null,null,0,222]
[21,10077,12,10082,24,10084,null,null,null,null,0,212]
[21,10185,12,10191,24,10193,null,null,null,null,0,212]
[12,10285,23,10290,24,10294,null,null,null,null,0,122]
[12,10391,23,10397,24,10403,null,null,null,null,0,122]
[21,10501,21,10505,22,10509,null,null,null,null,0,222]
[21,10606,21,10617,22,10629,null,null,null,null,0,222]
[21,10722,21,10727,22,10730,null,null,null,null,0,222]
[21,10828,21,10833,22,10837,null,null,null,null,0,222]
[12,10939,23,10951,24,10956,null,null,null,null,0,122]
[21,11053,21,11058,22,11063,null,null,null,null,0,222]
[21,11160,21,11166,22,11172,null,null,null,null,0,222]
[21,11268,21,11272,22,11277,null,null,null,null,0,222]
[21,11374,21,11377,22,11384,null,null,null,null,0,222]
[21,11482,21,11486,22,11491,null,null,null,null,0,222]
[21,11745,21,11750,22,11756,null,null,null,null,0,222]
[21,11996,21,11999,22,12007,null,null,null,null,0,222]
[21,12105,21,12109,22,12114,null,null,null,null,0,222]
[21,12210,21,12218,22,12222,null,null,null,null,0,222]
[12,12316,23,12321,24,12323,null,null,null,null,0,122]
[21,12443,21,12447,22,12453,null,null,null,null,0,222]
[21,12551,21,12555,22,12559,null,null,null,null,0,222]
[21,12940,21,12945,22,12949,null,null,null,null,0,222]
[12,13142,23,13150,24,13154,null,null,null,null,0,122]
[21,13254,21,13262,22,13265,null,null,null,null,0,222]
[21,13363,21,13376,22,13382,null,null,null,null,0,222]
[12,13475,23,13478,24,13486,null,null,null,null,0,122]
[21,13578,21,13583,22,13586,null,null,null,null,0,222]
[21,13684,21,13689,22,13694,null,null,null,null,0,222]
[21,13792,21,13801,22,13806,null,null,null,null,0,222]
[21,13905,21,13908,22,13913,null,null,null,null,0,222]
[21,14046,21,14052,22,14057,null,null,null,null,0,222]
[21,14171,21,14178,22,14183,null,null,null,null,0,222]
[21,14281,21,14286,22,14290,null,null,null,null,0,222]
[21,14388,21,14391,22,14395,null,null,null,null,0,222]
[12,14487,23,14493,24,14499,null,null,null,null,0,122]
[21,14599,12,14607,24,14613,null,null,null,null,0,212]
[21,14715,12,14717,24,14722,null,null,null,null,0,212]
[21,14825,21,14835,22,14840,null,null,null,null,0,222]
[12,14934,23,14943,24,14951,null,null,null,null,0,122]
[21,15050,21,15054,22,15062,null,null,null,null,0,222]
[21,15164,21,15166,22,15173,null,null,null,null,0,222]
[12,15265,23,15271,24,15275,null,null,null,null,0,122]

{"sheet":"!M924B00.Gus","index":4,"n_rows":132,"n_cols":48,"rows_kept":132,"cut":false,"hidden":false,"merged":[[4,39,4,42],[5,39,5,40],[4,44,4,47],[5,44,5,45],[4,24,4,27],[5,24,5,25],[4,29,4,32],[5,29,5,30],[4,34,4,37],[5,34,5,35],[1,1,1,2],[5,13,5,14],[18,13,18,14],[19,13,19,14],[4,19,4,22],[5,19,5,20]]}
["Report for:!M924B00.Gus"]
["Date:","<date>"]
["Hen:","<hen>",null,null,null,"Correct Sequence",{"$f":"Start!J2","v":221},null,null,null,null,null,null,null,null,"Total Sequences in Data",{"$f":"4994-COUNTBLANK(L7:L5000)","v":126},null,null,null,null,"Total Sequences in Block Data",{"$f":"COUNTA(L7:L27)","v":21},null,null,null,"Total Sequences in Block Data",{"$f":"COUNTA(L28:L48)","v":21},null,null,null,"Total Sequences in Block Data",{"$f":"COUNTA(L49:L69)","v":21},null,null,null,"Total Sequences in Block Data",{"$f":"COUNTA(L70:L90)","v":21},null,null,null,"Total Sequences in Block Data",{"$f":"COUNTA(L91:L111)","v":21},null,null,null,"Total Sequences in Block Data",{"$f":"COUNTA(L112:L132)","v":21}]
[null,null,null,null,null,null,null,null,null,null,null,null,null,null,null,"Total Sequences in Summary",{"$f":"SUM(O7:O14)","v":126},null,null,null,null,"Total Sequences in Block Summary",{"$f":"SUM(U7:U14)","v":21},null,null,null,"Total Sequences in Block Summary",{"$f":"SUM(Z7:Z14)","v":21},null,null,null,"Total Sequences in Block Summary",{"$f":"SUM(AE7:AE14)","v":21},null,null,null,"Total Sequences in Block Summary",{"$f":"SUM(AJ7:AJ14)","v":21},null,null,null,"Total Sequences in Block Summary",{"$f":"SUM(AO7:AO14)","v":21},null,null,null,"Total Sequences in Block Summary",{"$f":"SUM(AT7:AT14)","v":21}]
[null,null,null,null,null,null,null,null,null,null,null,null,null,null,null,null,null,null,null,"Block 1",null,null,null,null,"Block 2",null,null,null,null,"Block 3",null,null,null,null,"Block 4",null,null,null,null,"Block 5",null,null,null,null,"Block 6"]
["Sequence\nComponent\n1","Time\n1","Sequence\nComponent\n2","Time\n2","Sequence\nComponent\n3","Time\n3","Sequence\nComponent\n4","Time\n4","Sequence\nComponent\n5","Time\n5","Correct?\n0=No 1=Yes","Sequence",null,"Frequency",null,"Relative Frequency","Variability",null,null,"Frequency",null,"Relative Frequency","Variability",null,"Frequency",null,"Relative Frequency","Variability",null,"Frequency",null,"Relative Frequency","Variability",null,"Frequency",null,"Relative Frequency","Variability",null,"Frequency",null,"Relative Frequency","Variability",null,"Frequency",null,"Relative Frequency","Variability"]
[21,21,21,25,22,29,null,null,null,null,0,222,null,111,{"$f":"COUNTIF($L$7:$L$500,N7)","v":0},{"$f":"O7/$Q$4","v":0},{"$f":"IF(P7=0,0,(P7*((LOG(P7))/LOG(2))))","v":0},null,null,{"$f":"N7","v":111},{"$f":"COUNTIF(L7:L27,T7)","v":0},{"$f":"U7/(W4-U13)","v":0},{"$f":"IF(V7=0,0,(V7*((LOG(V7))/LOG(2))))","v":0},null,{"$f":"N7","v":111},{"$f":"COUNTIF(L28:L48,Y7)","v":0},{"$f":"Z7/(AB4-Z13)","v":0},{"$f":"IF(AA7=0,0,(AA7*((LOG(AA7))/LOG(2))))","v":0},null,{"$f":"N7","v":111},{"$f":"COUNTIF(L49:L69,AD7)","v":0},{"$f":"AE7/(AG4-AE13)","v":0},{"$f":"IF(AF7=0,0,(AF7*((LOG(AF7))/LOG(2))))","v":0},null,{"$f":"N7","v":111},{"$f":"COUNTIF(L70:L90,AI7)","v":0},{"$f":"AJ7/(AL4-AJ13)","v":0},{"$f":"IF(AK7=0,0,(AK7*((LOG(AK7))/LOG(2))))","v":0},null,{"$f":"N7","v":111},{"$f":"COUNTIF(L91:L111,AN7)","v":0},{"$f":"AO7/(AQ4-AO13)","v":0},{"$f":"IF(AP7=0,0,(AP7*((LOG(AP7))/LOG(2))))","v":0},null,{"$f":"N7","v":111},{"$f":"COUNTIF(L112:L132,AS7)","v":0},{"$f":"AT7/(AV4-AT13)","v":0},{"$f":"IF(AU7=0,0,(AU7*((LOG(AU7))/LOG(2))))","v":0}]
[21,130,21,133,22,141,null,null,null,null,0,222,null,112,{"$f":"COUNTIF($L$7:$L$500,N8)","v":1},{"$f":"O8/$Q$4","v":7.9365079365079361E-3},{"$f":"IF(P8=0,0,(P8*((LOG(P8))/LOG(2))))","v":-5.5375237488094572E-2},null,null,{"$f":"N8","v":112},{"$f":"COUNTIF(L7:L27,T8)","v":0},{"$f":"U8/(W4-U13)","v":0},{"$f":"IF(V8=0,0,(V8*((LOG(V8))/LOG(2))))","v":0},null,{"$f":"N8","v":112},{"$f":"COUNTIF(L28:L48,Y8)","v":0},{"$f":"Z8/(AB4-Z13)","v":0},{"$f":"IF(AA8=0,0,(AA8*((LOG(AA8))/LOG(2))))","v":0},null,{"$f":"N8","v":112},{"$f":"COUNTIF(L49:L69,AD8)","v":1},{"$f":"AE8/(AG4-AE13)","v":5.5555555555555552E-2},{"$f":"IF(AF8=0,0,(AF8*((LOG(AF8))/LOG(2))))","v":-0.23166250008012845},null,{"$f":"N8","v":112},{"$f":"COUNTIF(L70:L90,AI8)","v":0},{"$f":"AJ8/(AL4-AJ13)","v":0},{"$f":"IF(AK8=0,0,(AK8*((LOG(AK8))/LOG(2))))","v":0},null,{"$f":"N8","v":112},{"$f":"COUNTIF(L91:L111,AN8)","v":0},{"$f":"AO8/(AQ4-AO13)","v":0},{"$f":"IF(AP8=0,0,(AP8*((LOG(AP8))/LOG(2))))","v":0},null,{"$f":"N8","v":112},{"$f":"COUNTIF(L112:L132,AS8)","v":0},{"$f":"AT8/(AV4-AT13)","v":0},{"$f":"IF(AU8=0,0,(AU8*((LOG(AU8))/LOG(2))))","v":0}]
[21,238,21,247,22,253,null,null,null,null,0,222,null,121,{"$f":"COUNTIF($L$7:$L$500,N9)","v":2},{"$f":"O9/$Q$4","v":1.5873015873015872E-2},{"$f":"IF(P9=0,0,(P9*((LOG(P9))/LOG(2))))","v":-9.4877459103173273E-2},null,null,{"$f":"N9","v":121},{"$f":"COUNTIF(L7:L27,T9)","v":0},{"$f":"U9/(W4-U13)","v":0},{"$f":"IF(V9=0,0,(V9*((LOG(V9))/LOG(2))))","v":0},null,{"$f":"N9","v":121},{"$f":"COUNTIF(L28:L48,Y9)","v":1},{"$f":"Z9/(AB4-Z13)","v":0.05},{"$f":"IF(AA9=0,0,(AA9*((LOG(AA9))/LOG(2))))","v":-0.21609640474436814},null,{"$f":"N9","v":121},{"$f":"COUNTIF(L49:L69,AD9)","v":0},{"$f":"AE9/(AG4-AE13)","v":0},{"$f":"IF(AF9=0,0,(AF9*((LOG(AF9))/LOG(2))))","v":0},null,{"$f":"N9","v":121},{"$f":"COUNTIF(L70:L90,AI9)","v":0},{"$f":"AJ9/(AL4-AJ13)","v":0},{"$f":"IF(AK9=0,0,(AK9*((LOG(AK9))/LOG(2))))","v":0},null,{"$f":"N9","v":121},{"$f":"COUNTIF(L91:L111,AN9)","v":0},{"$f":"AO9/(AQ4-AO13)","v":0},{"$f":"IF(AP9=0,0,(AP9*((LOG(AP9))/LOG(2))))","v":0},null,{"$f":"N9","v":121},{"$f":"COUNTIF(L112:L132,AS9)","v":1},{"$f":"AT9/(AV4-AT13)","v":4.7619047619047616E-2},{"$f":"IF(AU9=0,0,(AU9*((LOG(AU9))/LOG(2))))","v":-0.20915797251327431}]
[21,351,21,358,22,360,null,null,null,null,0,222,null,122,{"$f":"COUNTIF($L$7:$L$500,N10)","v":16},{"$f":"O10/$Q$4","v":0.12698412698412698},{"$f":"IF(P10=0,0,(P10*((LOG(P10))/LOG(2))))","v":-0.37806729187300525},null,null,{"$f":"N10","v":122},{"$f":"COUNTIF(L7:L27,T10)","v":7},{"$f":"U10/(W4-U13)","v":0.35},{"$f":"IF(V10=0,0,(V10*((LOG(V10))/LOG(2))))","v":-0.53010061049041535},null,{"$f":"N10","v":122},{"$f":"COUNTIF(L28:L48,Y10)","v":3},{"$f":"Z10/(AB4-Z13)","v":0.15},{"$f":"IF(AA10=0,0,(AA10*((LOG(AA10))/LOG(2))))","v":-0.41054483912493089},null,{"$f":"N10","v":122},{"$f":"COUNTIF(L49:L69,AD10)","v":2},{"$f":"AE10/(AG4-AE13)","v":0.1111111111111111},{"$f":"IF(AF10=0,0,(AF10*((LOG(AF10))/LOG(2))))","v":-0.3522138890491458},null,{"$f":"N10","v":122},{"$f":"COUNTIF(L70:L90,AI10)","v":1},{"$f":"AJ10/(AL4-AJ13)","v":5.5555555555555552E-2},{"$f":"IF(AK10=0,0,(AK10*((LOG(AK10))/LOG(2))))","v":-0.23166250008012845},null,{"$f":"N10","v":122},{"$f":"COUNTIF(L91:L111,AN10)","v":2},{"$f":"AO10/(AQ4-AO13)","v":9.5238095238095233E-2},{"$f":"IF(AP10=0,0,(AP10*((LOG(AP10))/LOG(2))))","v":-0.32307784978845333},null,{"$f":"N10","v":122},{"$f":"COUNTIF(L112:L132,AS10)","v":1},{"$f":"AT10/(AV4-AT13)","v":4.7619047619047616E-2},{"$f":"IF(AU10=0,0,(AU10*((LOG(AU10))/LOG(2))))","v":-0.20915797251327431}]
[12,454,23,459,24,461,null,null,null,null,0,122,null,211,{"$f":"COUNTIF($L$7:$L$500,N11)","v":0},{"$f":"O11/$Q$4","v":0},{"$f":"IF(P11=0,0,(P11*((LOG(P11))/LOG(2))))","v":0},null,null,{"$f":"N11","v":211},{"$f":"COUNTIF(L7:L27,T11)","v":0},{"$f":"U11/(W4-U13)","v":0},{"$f":"IF(V11=0,0,(V11*((LOG(V11))/LOG(2))))","v":0},null,{"$f":"N11","v":211},{"$f":"COUNTIF(L28:L48,Y11)","v":0},{"$f":"Z11/(AB4-Z13)","v":0},{"$f":"IF(AA11=0,0,(AA11*((LOG(AA11))/LOG(2))))","v":0},null,{"$f":"N11","v":211},{"$f":"COUNTIF(L49:L69,AD11)","v":0},{"$f":"AE11/(AG4-AE13)","v":0},{"$f":"IF(AF11=0,0,(AF11*((LOG(AF11))/LOG(2))))","v":0},null,{"$f":"N11","v":211},{"$f":"COUNTIF(L70:L90,AI11)","v":0},{"$f":"AJ11/(AL4-AJ13)","v":0},{"$f":"IF(AK11=0,0,(AK11*((LOG(AK11))/LOG(2))))","v":0},null,{"$f":"N11","v":211},{"$f":"COUNTIF(L91:L111,AN11)","v":0},{"$f":"AO11/(AQ4-AO13)","v":0},{"$f":"IF(AP11=0,0,(AP11*((LOG(AP11))/LOG(2))))","v":0},null,{"$f":"N11","v":211},{"$f":"COUNTIF(L112:L132,AS11)","v":0},{"$f":"AT11/(AV4-AT13)","v":0},{"$f":"IF(AU11=0,0,(AU11*((LOG(AU11))/LOG(2))))","v":0}]
[21,558,21,561,22,568,null,null,null,null,0,222,null,212,{"$f":"COUNTIF($L$7:$L$500,N12)","v":5},{"$f":"O12/$Q$4","v":3.968253968253968E-2},{"$f":"IF(P12=0,0,(P12*((LOG(P12))/LOG(2))))","v":-0.18473618367510133},null,null,{"$f":"N12","v":212},{"$f":"COUNTIF(L7:L27,T12)","v":0},{"$f":"U12/(W4-U13)","v":0},{"$f":"IF(V12=0,0,(V12*((LOG(V12))/LOG(2))))","v":0},null,{"$f":"N12","v":212},{"$f":"COUNTIF(L28:L48,Y12)","v":0},{"$f":"Z12/(AB4-Z13)","v":0},{"$f":"IF(AA12=0,0,(AA12*((LOG(AA12))/LOG(2))))","v":0},null,{"$f":"N12","v":212},{"$f":"COUNTIF(L49:L69,AD12)","v":0},{"$f":"AE12/(AG4-AE13)","v":0},{"$f":"IF(AF12=0,0,(AF12*((LOG(AF12))/LOG(2))))","v":0},null,{"$f":"N12","v":212},{"$f":"COUNTIF(L70:L90,AI12)","v":2},{"$f":"AJ12/(AL4-AJ13)","v":0.1111111111111111},{"$f":"IF(AK12=0,0,(AK12*((LOG(AK12))/LOG(2))))","v":-0.3522138890491458},null,{"$f":"N12","v":212},{"$f":"COUNTIF(L91:L111,AN12)","v":1},{"$f":"AO12/(AQ4-AO13)","v":4.7619047619047616E-2},{"$f":"IF(AP12=0,0,(AP12*((LOG(AP12))/LOG(2))))","v":-0.20915797251327431},null,{"$f":"N12","v":212},{"$f":"COUNTIF(L112:L132,AS12)","v":2},{"$f":"AT12/(AV4-AT13)","v":9.5238095238095233E-2},{"$f":"IF(AU12=0,0,(AU12*((LOG(AU12))/LOG(2))))","v":-0.32307784978845333}]
[12,661,23,665,24,668,null,null,null,null,0,122,null,221,{"$f":"COUNTIF($L$7:$L$500,N13)","v":8},{"$f":"O13/$Q$4","v":6.3492063492063489E-2},{"$f":"IF(P13=0,0,(P13*((LOG(P13))/LOG(2))))","v":-0.25252570942856611},null,null,{"$f":"N13","v":221},{"$f":"COUNTIF(L7:L27,T13)","v":1},null,null,null,{"$f":"N13","v":221},{"$f":"COUNTIF(L28:L48,Y13)","v":1},null,null,null,{"$f":"N13","v":221},{"$f":"COUNTIF(L49:L69,AD13)","v":3},null,null,null,{"$f":"N13","v":221},{"$f":"COUNTIF(L70:L90,AI13)","v":3},null,null,null,{"$f":"N13","v":221},{"$f":"COUNTIF(L91:L111,AN13)","v":0},null,null,null,{"$f":"N13","v":221},{"$f":"COUNTIF(L112:L132,AS13)","v":0}]
[12,762,23,765,24,773,null,null,null,null,0,122,null,222,{"$f":"COUNTIF($L$7:$L$500,N14)","v":94},{"$f":"O14/$Q$4","v":0.74603174603174605},{"$f":"IF(P14=0,0,(P14*((LOG(P14))/LOG(2))))","v":-0.31534095834360504},null,null,{"$f":"N14","v":222},{"$f":"COUNTIF(L7:L27,T14)","v":13},{"$f":"U14/(W4-U13)","v":0.65},{"$f":"IF(V14=0,0,(V14*((LOG(V14))/LOG(2))))","v":-0.40396744488507563},null,{"$f":"N14","v":222},{"$f":"COUNTIF(L28:L48,Y14)","v":16},{"$f":"Z14/(AB4-Z13)","v":0.8},{"$f":"IF(AA14=0,0,(AA14*((LOG(AA14))/LOG(2))))","v":-0.25754247590988982},null,{"$f":"N14","v":222},{"$f":"COUNTIF(L49:L69,AD14)","v":15},{"$f":"AE14/(AG4-AE13)","v":0.83333333333333337},{"$f":"IF(AF14=0,0,(AF14*((LOG(AF14))/LOG(2))))","v":-0.21919533819482812},null,{"$f":"N14","v":222},{"$f":"COUNTIF(L70:L90,AI14)","v":15},{"$f":"AJ14/(AL4-AJ13)","v":0.83333333333333337},{"$f":"IF(AK14=0,0,(AK14*((LOG(AK14))/LOG(2))))","v":-0.21919533819482812},null,{"$f":"N14","v":222},{"$f":"COUNTIF(L91:L111,AN14)","v":18},{"$f":"AO14/(AQ4-AO13)","v":0.8571428571428571},{"$f":"IF(AP14=0,0,(AP14*((LOG(AP14))/LOG(2))))","v":-0.19062207543124113},null,{"$f":"N14","v":222},{"$f":"COUNTIF(L112:L132,AS14)","v":17},{"$f":"AT14/(AV4-AT13)","v":0.80952380952380953},{"$f":"IF(AU14=0,0,(AU14*((LOG(AU14))/LOG(2))))","v":-0.24678704218967404}]
[12,867,23,871,24,875,null,null,null,null,0,122,null,null,null,{"$f":"SUM(P7:P14)","v":1},{"$f":"-SUM(Q7:Q14)","v":1.2809228399115455},null,null,null,null,{"$f":"SUM(V7:V14)","v":1},{"$f":"-SUM(W7:W14)","v":0.93406805537549098},null,null,null,{"$f":"SUM(AA7:AA14)","v":1},{"$f":"-SUM(AB7:AB14)","v":0.88418371977918886},null,null,null,{"$f":"SUM(AF7:AF14)","v":1},{"$f":"-SUM(AG7:AG14)","v":0.80307172732410237},null,null,null,{"$f":"SUM(AK7:AK14)","v":1},{"$f":"-SUM(AL7:AL14)","v":0.80307172732410237},null,null,null,{"$f":"SUM(AP7:AP14)","v":1},{"$f":"-SUM(AQ7:AQ14)","v":0.72285789773296871},null,null,null,{"$f":"SUM(AU7:AU14)","v":1},{"$f":"-SUM(AV7:AV14)","v":0.98818083700467607}]
[21,973,21,975,22,977,null,null,null,null,0,222,null,null,null,"U=",{"$f":"Q15/(LOG(Q4)/LOG(2))","v":0.18358484308438264},null,null,null,null,"U1=",{"$f":"W15/(LOG(W4)/LOG(2))","v":0.21265950646721726},null,null,null,"U2=",{"$f":"AB15/(LOG(AB4)/LOG(2))","v":0.20130232737592491},null,null,null,"U3=",{"$f":"AG15/(LOG(AG4)/LOG(2))","v":0.18283553988137},null,null,null,"U4=",{"$f":"AL15/(LOG(AL4)/LOG(2))","v":0.18283553988137},null,null,null,"U5=",{"$f":"AQ15/(LOG(AQ4)/LOG(2))","v":0.16457323734942159},null,null,null,"U6=",{"$f":"AV15/(LOG(AV4)/LOG(2))","v":0.22497937691841777}]
[21,1073,21,1078,22,1087,null,null,null,null,0,222]
[21,1184,21,1188,22,1191,null,null,null,null,0,222]
[21,1288,21,1290,22,1295,null,null,null,null,0,222,null,"Total Target Seq"]
[12,1388,23,1392,24,1394,null,null,null,null,0,122,null,{"$f":"COUNTIF(L7:L132,G3)","v":8},null,21,21,21,21,21,21]
[21,1492,21,1495,22,1499,null,null,null,null,0,222,null,null,null,"% of reinforcement given in 6 equal intervals based on number of trials "]
[12,1592,23,1596,24,1599,null,null,null,null,0,122,null,null,null,"%_1","%_2","%_3","%_4","%_5","%_6"]
[12,1694,23,1696,24,1698,null,null,null,null,0,122,null,null,"target sequence",{"$f":"$G$3","v":221},{"$f":"$G$3","v":221},{"$f":"$G$3","v":221},{"$f":"$G$3","v":221},{"$f":"$G$3","v":221},{"$f":"$G$3","v":221}]
[21,1791,21,1794,22,1798,null,null,null,null,0,222,null,null,"total reinforcement",{"$f":"U13","v":1},{"$f":"Z13","v":1},{"$f":"AE13","v":3},{"$f":"AJ13","v":3},{"$f":"AO13","v":0},{"$f":"AT13","v":0}]
[21,1895,21,1899,11,1903,null,null,null,null,0,221,null,null,"% target"]
[21,2067,21,2078,22,2085,null,null,null,null,0,222,null,null,"CCRF"]
[21,2180,21,2184,22,2189,null,null,null,null,0,222,null,null,"% CCRf"]
[12,2292,23,2305,24,2312,null,null,null,null,0,122,null,null,"average response rate",{"$f":"F27/P20","v":104.23809523809524},{"$f":"(F48-F27)/Q20","v":110.28571428571429},{"$f":"(F69-F48)/R20","v":127.61904761904762},{"$f":"(F90-F69)/S20","v":125.61904761904762},{"$f":"(F111-F90)/T20","v":107.47619047619048},{"$f":"(F132-F111)/U20","v":106.19047619047619}]
[21,2408,21,2412,22,2417,null,null,null,null,0,222]
[21,2513,21,2518,22,2522,null,null,null,null,0,222]
[21,2619,21,2622,22,2625,null,null,null,null,0,222]
[21,2718,21,2722,22,2726,null,null,null,null,0,222]
[21,2822,21,2825,22,2829,null,null,null,null,0,222]
[12,2921,23,2925,13,2931,null,null,null,null,0,121]
[21,3028,21,3031,22,3041,null,null,null,null,0,222]
[21,3137,21,3141,22,3144,null,null,null,null,0,222]
[21,3242,21,3248,22,3254,null,null,null,null,0,222]
[21,3351,21,3353,22,3358,null,null,null,null,0,222]
[12,3450,23,3453,24,3458,null,null,null,null,0,122]
[21,3554,21,3557,11,3561,null,null,null,null,0,221]
[21,3692,21,3705,22,3716,null,null,null,null,0,222]
[12,3859,23,3866,24,3874,null,null,null,null,0,122]
[21,3972,21,3977,22,3984,null,null,null,null,0,222]
[21,4080,21,4083,22,4088,null,null,null,null,0,222]
[21,4185,21,4188,22,4195,null,null,null,null,0,222]
[21,4292,21,4295,22,4299,null,null,null,null,0,222]
[21,4396,21,4398,22,4401,null,null,null,null,0,222]
[21,4497,21,4499,22,4505,null,null,null,null,0,222]
[21,4597,21,4601,22,4604,null,null,null,null,0,222]
[12,4699,14,4708,24,4720,null,null,null,null,0,112]
[21,4891,21,4897,22,4906,null,null,null,null,0,222]
[21,5003,21,5006,22,5015,null,null,null,null,0,222]
[21,5121,21,5126,22,5133,null,null,null,null,0,222]
[21,5231,21,5234,22,5238,null,null,null,null,0,222]
[12,5331,23,5335,24,5338,null,null,null,null,0,122]
[21,5434,21,5442,11,5447,null,null,null,null,0,221]
[21,5587,21,5597,11,5601,null,null,null,null,0,221]
[21,5966,21,5971,11,5974,null,null,null,null,0,221]
[21,6110,21,6120,22,6127,null,null,null,null,0,222]
[21,6227,21,6236,22,6241,null,null,null,null,0,222]
[21,6338,21,6342,22,6346,null,null,null,null,0,222]
[21,6442,21,6446,22,6448,null,null,null,null,0,222]
[21,6545,21,6547,22,6549,null,null,null,null,0,222]
[12,6641,23,6648,24,6654,null,null,null,null,0,122]
[21,6752,21,6755,22,6760,null,null,null,null,0,222]
[21,6857,21,6862,22,6867,null,null,null,null,0,222]
[21,6966,21,6968,22,6973,null,null,null,null,0,222]
[21,7070,21,7072,22,7076,null,null,null,null,0,222]
[21,7174,21,7181,22,7185,null,null,null,null,0,222]
[21,7281,21,7285,22,7289,null,null,null,null,0,222]
[21,7386,12,7393,24,7395,null,null,null,null,0,212]
[21,7492,21,7498,22,7500,null,null,null,null,0,222]
[21,7597,21,7602,22,7607,null,null,null,null,0,222]
[12,7699,23,7702,24,7705,null,null,null,null,0,122]
[21,7802,21,7805,22,7811,null,null,null,null,0,222]
[21,7907,21,7913,11,7921,null,null,null,null,0,221]
[21,8102,21,8106,22,8122,null,null,null,null,0,222]
[21,8219,21,8223,11,8227,null,null,null,null,0,221]
[21,8365,21,8391,22,8397,null,null,null,null,0,222]
[21,8489,21,8492,22,8497,null,null,null,null,0,222]
[21,8593,21,8597,22,8604,null,null,null,null,0,222]
[21,8696,21,8700,22,8704,null,null,null,null,0,222]
[21,8819,21,8825,22,8832,null,null,null,null,0,222]
[21,8927,21,8930,22,8934,null,null,null,null,0,222]
[21,9030,21,9033,22,9039,null,null,null,null,0,222]
[21,9131,21,9134,22,9137,null,null,null,null,0,222]
[21,9234,21,9240,22,9246,null,null,null,null,0,222]
[21,9342,21,9345,11,9349,null,null,null,null,0,221]
[21,9703,12,9709,24,9718,null,null,null,null,0,212]
[21,9813,21,9818,22,9823,null,null,null,null,0,222]
[21,9919,21,9924,22,9937,null,null,null,null,0,222]
[21,10035,21,10040,22,10043,null,null,null,null,0,222]
[21,10139,21,10143,22,10145,null,null,null,null,0,222]
[12,10241,23,10244,24,10248,null,null,null,null,0,122]
[21,10344,21,10351,22,10356,null,null,null,null,0,222]
[21,10449,12,10458,24,10465,null,null,null,null,0,212]
[21,10559,21,10562,22,10566,null,null,null,null,0,222]
[21,10663,21,10667,22,10671,null,null,null,null,0,222]
[21,10763,21,10767,22,10774,null,null,null,null,0,222]
[21,10870,21,10878,22,10883,null,null,null,null,0,222]
[21,10980,21,10984,22,10989,null,null,null,null,0,222]
[21,11086,21,11090,22,11096,null,null,null,null,0,222]
[12,11198,23,11202,24,11207,null,null,null,null,0,122]
[21,11303,21,11307,22,11311,null,null,null,null,0,222]
[21,11407,21,11411,22,11417,null,null,null,null,0,222]
[21,11513,21,11517,22,11521,null,null,null,null,0,222]
[21,11614,21,11621,22,11629,null,null,null,null,0,222]
[21,11725,21,11734,22,11744,null,null,null,null,0,222]
[21,11863,21,11865,22,11869,null,null,null,null,0,222]
[21,11965,21,11968,22,11972,null,null,null,null,0,222]
[21,12068,21,12071,22,12080,null,null,null,null,0,222]
[21,12177,21,12181,22,12189,null,null,null,null,0,222]
[21,12291,21,12293,22,12298,null,null,null,null,0,222]
[21,12391,21,12395,22,12398,null,null,null,null,0,222]
[21,12496,21,12498,22,12500,null,null,null,null,0,222]
[21,12595,21,12600,22,12604,null,null,null,null,0,222]
[21,12697,21,12700,22,12706,null,null,null,null,0,222]
[21,12807,21,12814,22,12818,null,null,null,null,0,222]
[21,12915,21,12918,22,12921,null,null,null,null,0,222]
[21,13020,21,13025,22,13029,null,null,null,null,0,222]
[21,13127,21,13132,22,13142,null,null,null,null,0,222]
[21,13240,21,13243,22,13247,null,null,null,null,0,222]
[21,13344,12,13349,24,13352,null,null,null,null,0,212]
[21,13450,21,13454,22,13458,null,null,null,null,0,222]
[12,13558,23,13565,24,13572,null,null,null,null,0,122]
[21,13668,21,13672,22,13676,null,null,null,null,0,222]
[12,13769,23,13772,13,13776,null,null,null,null,0,121]
[21,13868,21,13874,22,13883,null,null,null,null,0,222]
[21,13981,21,13985,22,13989,null,null,null,null,0,222]
[21,14086,21,14091,22,14096,null,null,null,null,0,222]
[21,14194,21,14197,22,14202,null,null,null,null,0,222]
[21,14300,12,14304,24,14310,null,null,null,null,0,212]

{"sheet":"!M925920.Gus","index":5,"n_rows":165,"n_cols":48,"rows_kept":165,"cut":false,"hidden":false,"merged":[[4,39,4,42],[5,39,5,40],[4,44,4,47],[5,44,5,45],[4,24,4,27],[5,24,5,25],[4,29,4,32],[5,29,5,30],[4,34,4,37],[5,34,5,35],[1,1,1,2],[5,13,5,14],[18,13,18,14],[19,13,19,14],[4,19,4,22],[5,19,5,20]]}
["Report for:!M925920.Gus"]
["Date:","<date>"]
["Hen:","<hen>",null,null,null,"Correct Sequence",{"$f":"Start!J2","v":221},null,null,null,null,null,null,null,null,"Total Sequences in Data",{"$f":"4994-COUNTBLANK(L7:L5000)","v":159},null,null,null,null,"Total Sequences in Block Data",{"$f":"COUNTA(L7:L33)","v":27},null,null,null,"Total Sequences in Block Data",{"$f":"COUNTA(L34:L59)","v":26},null,null,null,"Total Sequences in Block Data",{"$f":"COUNTA(L60:L86)","v":27},null,null,null,"Total Sequences in Block Data",{"$f":"COUNTA(L87:L112)","v":26},null,null,null,"Total Sequences in Block Data",{"$f":"COUNTA(L113:L139)","v":27},null,null,null,"Total Sequences in Block Data",{"$f":"COUNTA(L140:L165)","v":26}]
[null,null,null,null,null,null,null,null,null,null,null,null,null,null,null,"Total Sequences in Summary",{"$f":"SUM(O7:O14)","v":159},null,null,null,null,"Total Sequences in Block Summary",{"$f":"SUM(U7:U14)","v":27},null,null,null,"Total Sequences in Block Summary",{"$f":"SUM(Z7:Z14)","v":26},null,null,null,"Total Sequences in Block Summary",{"$f":"SUM(AE7:AE14)","v":27},null,null,null,"Total Sequences in Block Summary",{"$f":"SUM(AJ7:AJ14)","v":26},null,null,null,"Total Sequences in Block Summary",{"$f":"SUM(AO7:AO14)","v":27},null,null,null,"Total Sequences in Block Summary",{"$f":"SUM(AT7:AT14)","v":26}]
[null,null,null,null,null,null,null,null,null,null,null,null,null,null,null,null,null,null,null,"Block 1",null,null,null,null,"Block 2",null,null,null,null,"Block 3",null,null,null,null,"Block 4",null,null,null,null,"Block 5",null,null,null,null,"Block 6"]
["Sequence\nComponent\n1","Time\n1","Sequence\nComponent\n2","Time\n2","Sequence\nComponent\n3","Time\n3","Sequence\nComponent\n4","Time\n4","Sequence\nComponent\n5","Time\n5","Correct?\n0=No 1=Yes","Sequence",null,"Frequency",null,"Relative Frequency","Variability",null,null,"Frequency",null,"Relative Frequency","Variability",null,"Frequency",null,"Relative Frequency","Variability",null,"Frequency",null,"Relative Frequency","Variability",null,"Frequency",null,"Relative Frequency","Variability",null,"Frequency",null,"Relative Frequency","Variability",null,"Frequency",null,"Relative Frequency","Variability"]
[21,5,21,15,22,22,null,null,null,null,0,222,null,111,{"$f":"COUNTIF($L$7:$L$500,N7)","v":0},{"$f":"O7/$Q$4","v":0},{"$f":"IF(P7=0,0,(P7*((LOG(P7))/LOG(2))))","v":0},null,null,{"$f":"N7","v":111},{"$f":"COUNTIF(L7:L33,T7)","v":0},{"$f":"U7/(W4-U13)","v":0},{"$f":"IF(V7=0,0,(V7*((LOG(V7))/LOG(2))))","v":0},null,{"$f":"N7","v":111},{"$f":"COUNTIF(L34:L59,Y7)","v":0},{"$f":"Z7/(AB4-Z13)","v":0},{"$f":"IF(AA7=0,0,(AA7*((LOG(AA7))/LOG(2))))","v":0},null,{"$f":"N7","v":111},{"$f":"COUNTIF(L60:L86,AD7)","v":0},{"$f":"AE7/(AG4-AE13)","v":0},{"$f":"IF(AF7=0,0,(AF7*((LOG(AF7))/LOG(2))))","v":0},null,{"$f":"N7","v":111},{"$f":"COUNTIF(L87:L112,AI7)","v":0},{"$f":"AJ7/(AL4-AJ13)","v":0},{"$f":"IF(AK7=0,0,(AK7*((LOG(AK7))/LOG(2))))","v":0},null,{"$f":"N7","v":111},{"$f":"COUNTIF(L113:L139,AN7)","v":0},{"$f":"AO7/(AQ4-AO13)","v":0},{"$f":"IF(AP7=0,0,(AP7*((LOG(AP7))/LOG(2))))","v":0},null,{"$f":"N7","v":111},{"$f":"COUNTIF(L140:L165,AS7)","v":0},{"$f":"AT7/(AV4-AT13)","v":0},{"$f":"IF(AU7=0,0,(AU7*((LOG(AU7))/LOG(2))))","v":0}]
[21,119,21,121,22,125,null,null,null,null,0,222,null,112,{"$f":"COUNTIF($L$7:$L$500,N8)","v":0},{"$f":"O8/$Q$4","v":0},{"$f":"IF(P8=0,0,(P8*((LOG(P8))/LOG(2))))","v":0},null,null,{"$f":"N8","v":112},{"$f":"COUNTIF(L7:L33,T8)","v":0},{"$f":"U8/(W4-U13)","v":0},{"$f":"IF(V8=0,0,(V8*((LOG(V8))/LOG(2))))","v":0},null,{"$f":"N8","v":112},{"$f":"COUNTIF(L34:L59,Y8)","v":0},{"$f":"Z8/(AB4-Z13)","v":0},{"$f":"IF(AA8=0,0,(AA8*((LOG(AA8))/LOG(2))))","v":0},null,{"$f":"N8","v":112},{"$f":"COUNTIF(L60:L86,AD8)","v":0},{"$f":"AE8/(AG4-AE13)","v":0},{"$f":"IF(AF8=0,0,(AF8*((LOG(AF8))/LOG(2))))","v":0},null,{"$f":"N8","v":112},{"$f":"COUNTIF(L87:L112,AI8)","v":0},{"$f":"AJ8/(AL4-AJ13)","v":0},{"$f":"IF(AK8=0,0,(AK8*((LOG(AK8))/LOG(2))))","v":0},null,{"$f":"N8","v":112},{"$f":"COUNTIF(L113:L139,AN8)","v":0},{"$f":"AO8/(AQ4-AO13)","v":0},{"$f":"IF(AP8=0,0,(AP8*((LOG(AP8))/LOG(2))))","v":0},null,{"$f":"N8","v":112},{"$f":"COUNTIF(L140:L165,AS8)","v":0},{"$f":"AT8/(AV4-AT13)","v":0},{"$f":"IF(AU8=0,0,(AU8*((LOG(AU8))/LOG(2))))","v":0}]
[12,218,23,223,24,225,null,null,null,null,0,122,null,121,{"$f":"COUNTIF($L$7:$L$500,N9)","v":2},{"$f":"O9/$Q$4","v":1.2578616352201259E-2},{"$f":"IF(P9=0,0,(P9*((LOG(P9))/LOG(2))))","v":-7.9407332770872405E-2},null,null,{"$f":"N9","v":121},{"$f":"COUNTIF(L7:L33,T9)","v":0},{"$f":"U9/(W4-U13)","v":0},{"$f":"IF(V9=0,0,(V9*((LOG(V9))/LOG(2))))","v":0},null,{"$f":"N9","v":121},{"$f":"COUNTIF(L34:L59,Y9)","v":0},{"$f":"Z9/(AB4-Z13)","v":0},{"$f":"IF(AA9=0,0,(AA9*((LOG(AA9))/LOG(2))))","v":0},null,{"$f":"N9","v":121},{"$f":"COUNTIF(L60:L86,AD9)","v":0},{"$f":"AE9/(AG4-AE13)","v":0},{"$f":"IF(AF9=0,0,(AF9*((LOG(AF9))/LOG(2))))","v":0},null,{"$f":"N9","v":121},{"$f":"COUNTIF(L87:L112,AI9)","v":1},{"$f":"AJ9/(AL4-AJ13)","v":0.05},{"$f":"IF(AK9=0,0,(AK9*((LOG(AK9))/LOG(2))))","v":-0.21609640474436814},null,{"$f":"N9","v":121},{"$f":"COUNTIF(L113:L139,AN9)","v":0},{"$f":"AO9/(AQ4-AO13)","v":0},{"$f":"IF(AP9=0,0,(AP9*((LOG(AP9))/LOG(2))))","v":0},null,{"$f":"N9","v":121},{"$f":"COUNTIF(L140:L165,AS9)","v":1},{"$f":"AT9/(AV4-AT13)","v":3.8461538461538464E-2},{"$f":"IF(AU9=0,0,(AU9*((LOG(AU9))/LOG(2))))","v":-0.18078614300542661}]
[21,322,21,325,22,327,null,null,null,null,0,222,null,122,{"$f":"COUNTIF($L$7:$L$500,N10)","v":15},{"$f":"O10/$Q$4","v":9.4339622641509441E-2},{"$f":"IF(P10=0,0,(P10*((LOG(P10))/LOG(2))))","v":-0.32132003393168274},null,null,{"$f":"N10","v":122},{"$f":"COUNTIF(L7:L33,T10)","v":4},{"$f":"U10/(W4-U13)","v":0.14814814814814814},{"$f":"IF(V10=0,0,(V10*((LOG(V10))/LOG(2))))","v":-0.40813148180199532},null,{"$f":"N10","v":122},{"$f":"COUNTIF(L34:L59,Y10)","v":3},{"$f":"Z10/(AB4-Z13)","v":0.13636363636363635},{"$f":"IF(AA10=0,0,(AA10*((LOG(AA10))/LOG(2))))","v":-0.39197306153401923},null,{"$f":"N10","v":122},{"$f":"COUNTIF(L60:L86,AD10)","v":4},{"$f":"AE10/(AG4-AE13)","v":0.17391304347826086},{"$f":"IF(AF10=0,0,(AF10*((LOG(AF10))/LOG(2))))","v":-0.43888034018382832},null,{"$f":"N10","v":122},{"$f":"COUNTIF(L87:L112,AI10)","v":2},{"$f":"AJ10/(AL4-AJ13)","v":0.1},{"$f":"IF(AK10=0,0,(AK10*((LOG(AK10))/LOG(2))))","v":-0.33219280948873625},null,{"$f":"N10","v":122},{"$f":"COUNTIF(L113:L139,AN10)","v":1},{"$f":"AO10/(AQ4-AO13)","v":4.3478260869565216E-2},{"$f":"IF(AP10=0,0,(AP10*((LOG(AP10))/LOG(2))))","v":-0.19667660678508753},null,{"$f":"N10","v":122},{"$f":"COUNTIF(L140:L165,AS10)","v":1},{"$f":"AT10/(AV4-AT13)","v":3.8461538461538464E-2},{"$f":"IF(AU10=0,0,(AU10*((LOG(AU10))/LOG(2))))","v":-0.18078614300542661}]
[12,420,23,428,24,434,null,null,null,null,0,122,null,211,{"$f":"COUNTIF($L$7:$L$500,N11)","v":3},{"$f":"O11/$Q$4","v":1.8867924528301886E-2},{"$f":"IF(P11=0,0,(P11*((LOG(P11))/LOG(2))))","v":-0.10807397084081509},null,null,{"$f":"N11","v":211},{"$f":"COUNTIF(L7:L33,T11)","v":1},{"$f":"U11/(W4-U13)","v":3.7037037037037035E-2},{"$f":"IF(V11=0,0,(V11*((LOG(V11))/LOG(2))))","v":-0.1761069445245729},null,{"$f":"N11","v":211},{"$f":"COUNTIF(L34:L59,Y11)","v":0},{"$f":"Z11/(AB4-Z13)","v":0},{"$f":"IF(AA11=0,0,(AA11*((LOG(AA11))/LOG(2))))","v":0},null,{"$f":"N11","v":211},{"$f":"COUNTIF(L60:L86,AD11)","v":0},{"$f":"AE11/(AG4-AE13)","v":0},{"$f":"IF(AF11=0,0,(AF11*((LOG(AF11))/LOG(2))))","v":0},null,{"$f":"N11","v":211},{"$f":"COUNTIF(L87:L112,AI11)","v":1},{"$f":"AJ11/(AL4-AJ13)","v":0.05},{"$f":"IF(AK11=0,0,(AK11*((LOG(AK11))/LOG(2))))","v":-0.21609640474436814},null,{"$f":"N11","v":211},{"$f":"COUNTIF(L113:L139,AN11)","v":1},{"$f":"AO11/(AQ4-AO13)","v":4.3478260869565216E-2},{"$f":"IF(AP11=0,0,(AP11*((LOG(AP11))/LOG(2))))","v":-0.19667660678508753},null,{"$f":"N11","v":211},{"$f":"COUNTIF(L140:L165,AS11)","v":0},{"$f":"AT11/(AV4-AT13)","v":0},{"$f":"IF(AU11=0,0,(AU11*((LOG(AU11))/LOG(2))))","v":0}]
[21,533,21,536,22,541,null,null,null,null,0,222,null,212,{"$f":"COUNTIF($L$7:$L$500,N12)","v":9},{"$f":"O12/$Q$4","v":5.6603773584905662E-2},{"$f":"IF(P12=0,0,(P12*((LOG(P12))/LOG(2))))","v":-0.23450705399105903},null,null,{"$f":"N12","v":212},{"$f":"COUNTIF(L7:L33,T12)","v":2},{"$f":"U12/(W4-U13)","v":7.407407407407407E-2},{"$f":"IF(V12=0,0,(V12*((LOG(V12))/LOG(2))))","v":-0.27813981497507173},null,{"$f":"N12","v":212},{"$f":"COUNTIF(L34:L59,Y12)","v":3},{"$f":"Z12/(AB4-Z13)","v":0.13636363636363635},{"$f":"IF(AA12=0,0,(AA12*((LOG(AA12))/LOG(2))))","v":-0.39197306153401923},null,{"$f":"N12","v":212},{"$f":"COUNTIF(L60:L86,AD12)","v":1},{"$f":"AE12/(AG4-AE13)","v":4.3478260869565216E-2},{"$f":"IF(AF12=0,0,(AF12*((LOG(AF12))/LOG(2))))","v":-0.19667660678508753},null,{"$f":"N12","v":212},{"$f":"COUNTIF(L87:L112,AI12)","v":1},{"$f":"AJ12/(AL4-AJ13)","v":0.05},{"$f":"IF(AK12=0,0,(AK12*((LOG(AK12))/LOG(2))))","v":-0.21609640474436814},null,{"$f":"N12","v":212},{"$f":"COUNTIF(L113:L139,AN12)","v":0},{"$f":"AO12/(AQ4-AO13)","v":0},{"$f":"IF(AP12=0,0,(AP12*((LOG(AP12))/LOG(2))))","v":0},null,{"$f":"N12","v":212},{"$f":"COUNTIF(L140:L165,AS12)","v":2},{"$f":"AT12/(AV4-AT13)","v":7.6923076923076927E-2},{"$f":"IF(AU12=0,0,(AU12*((LOG(AU12))/LOG(2))))","v":-0.28464920908777636}]
[12,634,23,638,24,642,null,null,null,null,0,122,null,221,{"$f":"COUNTIF($L$7:$L$500,N13)","v":18},{"$f":"O13/$Q$4","v":0.11320754716981132},{"$f":"IF(P13=0,0,(P13*((LOG(P13))/LOG(2))))","v":-0.35580656081230677},null,null,{"$f":"N13","v":221},{"$f":"COUNTIF(L7:L33,T13)","v":0},null,null,null,{"$f":"N13","v":221},{"$f":"COUNTIF(L34:L59,Y13)","v":4},null,null,null,{"$f":"N13","v":221},{"$f":"COUNTIF(L60:L86,AD13)","v":4},null,null,null,{"$f":"N13","v":221},{"$f":"COUNTIF(L87:L112,AI13)","v":6},null,null,null,{"$f":"N13","v":221},{"$f":"COUNTIF(L113:L139,AN13)","v":4},null,null,null,{"$f":"N13","v":221},{"$f":"COUNTIF(L140:L165,AS13)","v":0}]
[21,742,21,746,22,748,null,null,null,null,0,222,null,222,{"$f":"COUNTIF($L$7:$L$500,N14)","v":112},{"$f":"O14/$Q$4","v":0.70440251572327039},{"$f":"IF(P14=0,0,(P14*((LOG(P14))/LOG(2))))","v":-0.35609521837356067},null,null,{"$f":"N14","v":222},{"$f":"COUNTIF(L7:L33,T14)","v":20},{"$f":"U14/(W4-U13)","v":0.7407407407407407},{"$f":"IF(V14=0,0,(V14*((LOG(V14))/LOG(2))))","v":-0.32071067205637499},null,{"$f":"N14","v":222},{"$f":"COUNTIF(L34:L59,Y14)","v":16},{"$f":"Z14/(AB4-Z13)","v":0.72727272727272729},{"$f":"IF(AA14=0,0,(AA14*((LOG(AA14))/LOG(2))))","v":-0.33413208628167068},null,{"$f":"N14","v":222},{"$f":"COUNTIF(L60:L86,AD14)","v":18},{"$f":"AE14/(AG4-AE13)","v":0.78260869565217395},{"$f":"IF(AF14=0,0,(AF14*((LOG(AF14))/LOG(2))))","v":-0.27675935578541772},null,{"$f":"N14","v":222},{"$f":"COUNTIF(L87:L112,AI14)","v":15},{"$f":"AJ14/(AL4-AJ13)","v":0.75},{"$f":"IF(AK14=0,0,(AK14*((LOG(AK14))/LOG(2))))","v":-0.31127812445913283},null,{"$f":"N14","v":222},{"$f":"COUNTIF(L113:L139,AN14)","v":21},{"$f":"AO14/(AQ4-AO13)","v":0.91304347826086951},{"$f":"IF(AP14=0,0,(AP14*((LOG(AP14))/LOG(2))))","v":-0.11983196516710025},null,{"$f":"N14","v":222},{"$f":"COUNTIF(L140:L165,AS14)","v":22},{"$f":"AT14/(AV4-AT13)","v":0.84615384615384615},{"$f":"IF(AU14=0,0,(AU14*((LOG(AU14))/LOG(2))))","v":-0.20392993034936494}]
[21,846,21,850,22,856,null,null,null,null,0,222,null,null,null,{"$f":"SUM(P7:P14)","v":1},{"$f":"-SUM(Q7:Q14)","v":1.4552101707202965},null,null,null,null,{"$f":"SUM(V7:V14)","v":1},{"$f":"-SUM(W7:W14)","v":1.1830889133580149},null,null,null,{"$f":"SUM(AA7:AA14)","v":1},{"$f":"-SUM(AB7:AB14)","v":1.1180782093497093},null,null,null,{"$f":"SUM(AF7:AF14)","v":1},{"$f":"-SUM(AG7:AG14)","v":0.91231630275433351},null,null,null,{"$f":"SUM(AK7:AK14)","v":1},{"$f":"-SUM(AL7:AL14)","v":1.2917601481809733},null,null,null,{"$f":"SUM(AP7:AP14)","v":1},{"$f":"-SUM(AQ7:AQ14)","v":0.51318517873727532},null,null,null,{"$f":"SUM(AU7:AU14)","v":1},{"$f":"-SUM(AV7:AV14)","v":0.85015142544799449}]
[21,955,21,960,22,965,null,null,null,null,0,222,null,null,null,"U=",{"$f":"Q15/(LOG(Q4)/LOG(2))","v":0.19899267903211121},null,null,null,null,"U1=",{"$f":"W15/(LOG(W4)/LOG(2))","v":0.24881533218603191},null,null,null,"U2=",{"$f":"AB15/(LOG(AB4)/LOG(2))","v":0.23786672660316163},null,null,null,"U3=",{"$f":"AG15/(LOG(AG4)/LOG(2))","v":0.19186916669200493},null,null,null,"U4=",{"$f":"AL15/(LOG(AL4)/LOG(2))","v":0.27481687366300966},null,null,null,"U5=",{"$f":"AQ15/(LOG(AQ4)/LOG(2))","v":0.10792793278574449},null,null,null,"U6=",{"$f":"AV15/(LOG(AV4)/LOG(2))","v":0.18086636068682707}]
[21,1062,21,1069,22,1076,null,null,null,null,0,222]
[21,1174,21,1176,22,1178,null,null,null,null,0,222]
[21,1277,21,1280,22,1282,null,null,null,null,0,222,null,"Total Target Seq"]
[21,1380,12,1383,24,1389,null,null,null,null,0,212,null,{"$f":"COUNTIF(L7:L165,G3)","v":18},null,27,26,27,26,27,26]
[21,1485,21,1488,22,1494,null,null,null,null,0,222,null,null,null,"% of reinforcement given in 6 equal intervals based on number of trials "]
[21,1592,21,1597,22,1602,null,null,null,null,0,222,null,null,null,"%_1","%_2","%_3","%_4","%_5","%_6"]
[21,1700,21,1703,22,1707,null,null,null,null,0,222,null,null,"target sequence",{"$f":"$G$3","v":221},{"$f":"$G$3","v":221},{"$f":"$G$3","v":221},{"$f":"$G$3","v":221},{"$f":"$G$3","v":221},{"$f":"$G$3","v":221}]
[21,1806,21,1810,22,1814,null,null,null,null,0,222,null,null,"total reinforcement",{"$f":"U13","v":0},{"$f":"Z13","v":4},{"$f":"AE13","v":4},{"$f":"AJ13","v":6},{"$f":"AO13","v":4},{"$f":"AT13","v":0}]
[21,1913,21,1920,22,1923,null,null,null,null,0,222,null,null,"% target"]
[21,2023,12,2027,13,2032,null,null,null,null,0,211,null,null,"CCRF"]
[21,2130,21,2134,22,2138,null,null,null,null,0,222,null,null,"% CCRf"]
[21,2235,21,2238,22,2242,null,null,null,null,0,222,null,null,"average response rate",{"$f":"F33/P20","v":103.4074074074074},{"$f":"(F59-F33)/Q20","v":127.19230769230769},{"$f":"(F86-F59)/R20","v":114.4074074074074},{"$f":"(F112-F86)/S20","v":127.34615384615384},{"$f":"(F139-F112)/T20","v":140.66666666666666},{"$f":"(F165-F139)/U20","v":109.5}]
[21,2341,21,2344,22,2347,null,null,null,null,0,222]
[21,2446,21,2449,22,2453,null,null,null,null,0,222]
[21,2551,12,2556,24,2558,null,null,null,null,0,212]
[21,2658,21,2661,22,2663,null,null,null,null,0,222]
[12,2776,23,2786,24,2792,null,null,null,null,0,122]
[12,2886,23,2890,24,2896,null,null,null,null,0,122]
[21,2994,21,3000,22,3005,null,null,null,null,0,222]
[21,3103,21,3105,22,3111,null,null,null,null,0,222]
[21,3208,21,3214,22,3217,null,null,null,null,0,222]
[21,3315,21,3320,11,3324,null,null,null,null,0,221]
[21,3439,21,3445,22,3458,null,null,null,null,0,222]
[21,3594,21,3601,22,3611,null,null,null,null,0,222]
[21,3712,21,3717,22,3725,null,null,null,null,0,222]
[12,3818,23,3825,24,3829,null,null,null,null,0,122]
[21,3926,21,3931,22,3936,null,null,null,null,0,222]
[21,4033,12,4042,24,4043,null,null,null,null,0,212]
[21,4140,21,4146,22,4151,null,null,null,null,0,222]
[21,4249,21,4258,22,4263,null,null,null,null,0,222]
[21,4360,21,4364,22,4368,null,null,null,null,0,222]
[21,4466,21,4468,11,4473,null,null,null,null,0,221]
[21,4645,21,4652,22,4665,null,null,null,null,0,222]
[21,4796,12,4802,24,4807,null,null,null,null,0,212]
[12,4939,23,4941,24,4956,null,null,null,null,0,122]
[21,5053,21,5058,11,5062,null,null,null,null,0,221]
[21,5226,21,5230,11,5233,null,null,null,null,0,221]
[21,5456,21,5473,22,5482,null,null,null,null,0,222]
[21,5641,12,5650,24,5658,null,null,null,null,0,212]
[21,5755,21,5761,22,5766,null,null,null,null,0,222]
[21,5864,21,5867,22,5873,null,null,null,null,0,222]
[21,5969,21,5976,22,5981,null,null,null,null,0,222]
[21,6088,21,6095,22,6099,null,null,null,null,0,222]
[12,6193,23,6198,24,6201,null,null,null,null,0,122]
[21,6298,21,6302,22,6305,null,null,null,null,0,222]
[21,6403,21,6411,11,6415,null,null,null,null,0,221]
[21,6524,21,6538,22,6544,null,null,null,null,0,222]
[12,6636,23,6638,24,6643,null,null,null,null,0,122]
[21,6742,21,6745,22,6751,null,null,null,null,0,222]
[21,6847,21,6851,22,6855,null,null,null,null,0,222]
[21,6951,21,6955,22,6959,null,null,null,null,0,222]
[21,7056,21,7058,11,7060,null,null,null,null,0,221]
[21,7219,21,7229,22,7236,null,null,null,null,0,222]
[21,7338,21,7341,11,7346,null,null,null,null,0,221]
[21,7498,12,7501,24,7510,null,null,null,null,0,212]
[21,7607,21,7612,22,7617,null,null,null,null,0,222]
[21,7714,21,7718,22,7722,null,null,null,null,0,222]
[21,7818,21,7821,22,7823,null,null,null,null,0,222]
[21,7924,21,7938,22,7946,null,null,null,null,0,222]
[21,8041,21,8047,22,8051,null,null,null,null,0,222]
[12,8145,23,8148,24,8151,null,null,null,null,0,122]
[21,8248,21,8251,22,8260,null,null,null,null,0,222]
[21,8357,21,8360,22,8366,null,null,null,null,0,222]
[21,8462,21,8464,22,8469,null,null,null,null,0,222]
[21,8566,21,8568,22,8572,null,null,null,null,0,222]
[21,8669,21,8672,22,8678,null,null,null,null,0,222]
[21,8775,21,8778,11,8784,null,null,null,null,0,221]
[21,8946,21,8966,22,8975,null,null,null,null,0,222]
[21,9066,21,9075,22,9087,null,null,null,null,0,222]
[12,9182,23,9185,24,9188,null,null,null,null,0,122]
[12,9281,23,9285,13,9291,null,null,null,null,0,121]
[21,9388,21,9396,11,9399,null,null,null,null,0,221]
[21,9540,12,9548,13,9558,null,null,null,null,0,211]
[21,9650,21,9653,22,9658,null,null,null,null,0,222]
[21,9754,21,9763,22,9767,null,null,null,null,0,222]
[21,9864,21,9866,22,9871,null,null,null,null,0,222]
[21,9969,21,9974,22,9982,null,null,null,null,0,222]
[21,10079,21,10083,22,10092,null,null,null,null,0,222]
[21,10188,21,10196,11,10199,null,null,null,null,0,221]
[21,10347,21,10354,11,10360,null,null,null,null,0,221]
[21,10592,21,10602,22,10608,null,null,null,null,0,222]
[21,10739,21,10743,22,10753,null,null,null,null,0,222]
[21,10850,21,10853,11,10856,null,null,null,null,0,221]
[21,11024,21,11030,22,11041,null,null,null,null,0,222]
[21,11142,21,11146,22,11151,null,null,null,null,0,222]
[21,11247,21,11250,22,11255,null,null,null,null,0,222]
[21,11351,12,11357,24,11362,null,null,null,null,0,212]
[21,11459,21,11462,22,11471,null,null,null,null,0,222]
[21,11568,21,11574,22,11578,null,null,null,null,0,222]
[12,11672,23,11675,24,11687,null,null,null,null,0,122]
[21,11784,21,11788,22,11791,null,null,null,null,0,222]
[21,11884,21,11887,11,11897,null,null,null,null,0,221]
[21,12073,21,12087,22,12098,null,null,null,null,0,222]
[12,12195,23,12200,24,12206,null,null,null,null,0,122]
[21,12302,21,12311,11,12315,null,null,null,null,0,221]
[21,12485,21,12490,22,12499,null,null,null,null,0,222]
[21,12593,21,12596,11,12603,null,null,null,null,0,221]
[21,12959,21,12967,22,12973,null,null,null,null,0,222]
[21,13073,21,13077,22,13085,null,null,null,null,0,222]
[21,13182,21,13188,22,13195,null,null,null,null,0,222]
[21,13292,21,13302,22,13313,null,null,null,null,0,222]
[21,13411,21,13414,22,13420,null,null,null,null,0,222]
[21,13516,21,13520,22,13524,null,null,null,null,0,222]
[21,13621,21,13629,22,13634,null,null,null,null,0,222]
[21,13737,21,13742,22,13746,null,null,null,null,0,222]
[21,13842,21,13846,22,13850,null,null,null,null,0,222]
[21,13947,21,13951,22,13957,null,null,null,null,0,222]
[21,14054,21,14058,22,14063,null,null,null,null,0,222]
[21,14161,21,14164,22,14170,null,null,null,null,0,222]
[21,14267,21,14270,22,14275,null,null,null,null,0,222]
[21,14373,21,14376,11,14381,null,null,null,null,0,221]
[21,14585,21,14592,22,14599,null,null,null,null,0,222]
[21,14696,21,14700,22,14704,null,null,null,null,0,222]
[21,14829,21,14835,22,14839,null,null,null,null,0,222]
[21,14936,21,14940,11,14942,null,null,null,null,0,221]
[21,15157,21,15162,11,15165,null,null,null,null,0,221]
[12,15605,23,15614,24,15620,null,null,null,null,0,122]
[21,15716,21,15719,22,15723,null,null,null,null,0,222]
[21,15820,21,15823,22,15830,null,null,null,null,0,222]
[21,15928,12,15932,13,15936,null,null,null,null,0,211]
[21,16036,21,16042,22,16048,null,null,null,null,0,222]
[21,16181,21,16188,22,16191,null,null,null,null,0,222]
[21,16290,21,16293,22,16297,null,null,null,null,0,222]
[21,16395,21,16399,22,16405,null,null,null,null,0,222]
[21,16503,21,16511,22,16516,null,null,null,null,0,222]
[12,16610,23,16614,13,16620,null,null,null,null,0,121]
[21,16717,21,16722,22,16730,null,null,null,null,0,222]
[21,16828,21,16830,22,16832,null,null,null,null,0,222]
[21,16927,21,16929,22,16935,null,null,null,null,0,222]
[12,17046,23,17051,24,17059,null,null,null,null,0,122]
[21,17152,12,17161,24,17169,null,null,null,null,0,212]
[21,17265,21,17270,22,17275,null,null,null,null,0,222]
[21,17372,21,17374,22,17380,null,null,null,null,0,222]
[21,17477,21,17481,22,17484,null,null,null,null,0,222]
[21,17581,21,17590,22,17595,null,null,null,null,0,222]
[21,17687,21,17691,22,17699,null,null,null,null,0,222]
[21,17796,21,17805,22,17812,null,null,null,null,0,222]
[21,17910,21,17912,22,17917,null,null,null,null,0,222]
[21,18012,21,18016,22,18019,null,null,null,null,0,222]
[21,18116,21,18119,22,18124,null,null,null,null,0,222]
[21,18221,12,18230,24,18237,null,null,null,null,0,212]
[21,18334,21,18340,22,18346,null,null,null,null,0,222]
[21,18444,21,18448,22,18456,null,null,null,null,0,222]
[21,18554,21,18562,22,18566,null,null,null,null,0,222]
[21,18663,21,18665,22,18670,null,null,null,null,0,222]
[21,18768,21,18776,22,18780,null,null,null,null,0,222]
[21,18902,21,18915,22,18921,null,null,null,null,0,222]
[21,19019,21,19028,22,19035,null,null,null,null,0,222]
[21,19132,21,19138,22,19144,null,null,null,null,0,222]

{"sheet":"!M926930.Gus","index":6,"n_rows":109,"n_cols":48,"rows_kept":109,"cut":false,"hidden":false,"merged":[[4,39,4,42],[5,39,5,40],[4,44,4,47],[5,44,5,45],[4,24,4,27],[5,24,5,25],[4,29,4,32],[5,29,5,30],[4,34,4,37],[5,34,5,35],[1,1,1,2],[5,13,5,14],[18,13,18,14],[19,13,19,14],[4,19,4,22],[5,19,5,20]]}
["Report for:!M926930.Gus"]
["Date:","<date>"]
["Hen:","<hen>",null,null,null,"Correct Sequence",{"$f":"Start!J2","v":221},null,null,null,null,null,null,null,null,"Total Sequences in Data",{"$f":"4994-COUNTBLANK(L7:L5000)","v":103},null,null,null,null,"Total Sequences in Block Data",{"$f":"COUNTA(L7:L23)","v":17},null,null,null,"Total Sequences in Block Data",{"$f":"COUNTA(L24:L40)","v":17},null,null,null,"Total Sequences in Block Data",{"$f":"COUNTA(L41:L58)","v":18},null,null,null,"Total Sequences in Block Data",{"$f":"COUNTA(L59:L75)","v":17},null,null,null,"Total Sequences in Block Data",{"$f":"COUNTA(L76:L92)","v":17},null,null,null,"Total Sequences in Block Data",{"$f":"COUNTA(L93:L109)","v":17}]
[null,null,null,null,null,null,null,null,null,null,null,null,null,null,null,"Total Sequences in Summary",{"$f":"SUM(O7:O14)","v":103},null,null,null,null,"Total Sequences in Block Summary",{"$f":"SUM(U7:U14)","v":17},null,null,null,"Total Sequences in Block Summary",{"$f":"SUM(Z7:Z14)","v":17},null,null,null,"Total Sequences in Block Summary",{"$f":"SUM(AE7:AE14)","v":18},null,null,null,"Total Sequences in Block Summary",{"$f":"SUM(AJ7:AJ14)","v":17},null,null,null,"Total Sequences in Block Summary",{"$f":"SUM(AO7:AO14)","v":17},null,null,null,"Total Sequences in Block Summary",{"$f":"SUM(AT7:AT14)","v":17}]
[null,null,null,null,null,null,null,null,null,null,null,null,null,null,null,null,null,null,null,"Block 1",null,null,null,null,"Block 2",null,null,null,null,"Block 3",null,null,null,null,"Block 4",null,null,null,null,"Block 5",null,null,null,null,"Block 6"]
["Sequence\nComponent\n1","Time\n1","Sequence\nComponent\n2","Time\n2","Sequence\nComponent\n3","Time\n3","Sequence\nComponent\n4","Time\n4","Sequence\nComponent\n5","Time\n5","Correct?\n0=No 1=Yes","Sequence",null,"Frequency",null,"Relative Frequency","Variability",null,null,"Frequency",null,"Relative Frequency","Variability",null,"Frequency",null,"Relative Frequency","Variability",null,"Frequency",null,"Relative Frequency","Variability",null,"Frequency",null,"Relative Frequency","Variability",null,"Frequency",null,"Relative Frequency","Variability",null,"Frequency",null,"Relative Frequency","Variability"]
[21,166,21,176,22,179,null,null,null,null,0,222,null,111,{"$f":"COUNTIF($L$7:$L$500,N7)","v":0},{"$f":"O7/$Q$4","v":0},{"$f":"IF(P7=0,0,(P7*((LOG(P7))/LOG(2))))","v":0},null,null,{"$f":"N7","v":111},{"$f":"COUNTIF(L7:L23,T7)","v":0},{"$f":"U7/(W4-U13)","v":0},{"$f":"IF(V7=0,0,(V7*((LOG(V7))/LOG(2))))","v":0},null,{"$f":"N7","v":111},{"$f":"COUNTIF(L24:L40,Y7)","v":0},{"$f":"Z7/(AB4-Z13)","v":0},{"$f":"IF(AA7=0,0,(AA7*((LOG(AA7))/LOG(2))))","v":0},null,{"$f":"N7","v":111},{"$f":"COUNTIF(L41:L58,AD7)","v":0},{"$f":"AE7/(AG4-AE13)","v":0},{"$f":"IF(AF7=0,0,(AF7*((LOG(AF7))/LOG(2))))","v":0},null,{"$f":"N7","v":111},{"$f":"COUNTIF(L59:L75,AI7)","v":0},{"$f":"AJ7/(AL4-AJ13)","v":0},{"$f":"IF(AK7=0,0,(AK7*((LOG(AK7))/LOG(2))))","v":0},null,{"$f":"N7","v":111},{"$f":"COUNTIF(L76:L92,AN7)","v":0},{"$f":"AO7/(AQ4-AO13)","v":0},{"$f":"IF(AP7=0,0,(AP7*((LOG(AP7))/LOG(2))))","v":0},null,{"$f":"N7","v":111},{"$f":"COUNTIF(L93:L109,AS7)","v":0},{"$f":"AT7/(AV4-AT13)","v":0},{"$f":"IF(AU7=0,0,(AU7*((LOG(AU7))/LOG(2))))","v":0}]
[12,278,23,287,24,299,null,null,null,null,0,122,null,112,{"$f":"COUNTIF($L$7:$L$500,N8)","v":0},{"$f":"O8/$Q$4","v":0},{"$f":"IF(P8=0,0,(P8*((LOG(P8))/LOG(2))))","v":0},null,null,{"$f":"N8","v":112},{"$f":"COUNTIF(L7:L23,T8)","v":0},{"$f":"U8/(W4-U13)","v":0},{"$f":"IF(V8=0,0,(V8*((LOG(V8))/LOG(2))))","v":0},null,{"$f":"N8","v":112},{"$f":"COUNTIF(L24:L40,Y8)","v":0},{"$f":"Z8/(AB4-Z13)","v":0},{"$f":"IF(AA8=0,0,(AA8*((LOG(AA8))/LOG(2))))","v":0},null,{"$f":"N8","v":112},{"$f":"COUNTIF(L41:L58,AD8)","v":0},{"$f":"AE8/(AG4-AE13)","v":0},{"$f":"IF(AF8=0,0,(AF8*((LOG(AF8))/LOG(2))))","v":0},null,{"$f":"N8","v":112},{"$f":"COUNTIF(L59:L75,AI8)","v":0},{"$f":"AJ8/(AL4-AJ13)","v":0},{"$f":"IF(AK8=0,0,(AK8*((LOG(AK8))/LOG(2))))","v":0},null,{"$f":"N8","v":112},{"$f":"COUNTIF(L76:L92,AN8)","v":0},{"$f":"AO8/(AQ4-AO13)","v":0},{"$f":"IF(AP8=0,0,(AP8*((LOG(AP8))/LOG(2))))","v":0},null,{"$f":"N8","v":112},{"$f":"COUNTIF(L93:L109,AS8)","v":0},{"$f":"AT8/(AV4-AT13)","v":0},{"$f":"IF(AU8=0,0,(AU8*((LOG(AU8))/LOG(2))))","v":0}]
[21,394,21,404,22,409,null,null,null,null,0,222,null,121,{"$f":"COUNTIF($L$7:$L$500,N9)","v":1},{"$f":"O9/$Q$4","v":9.7087378640776691E-3},{"$f":"IF(P9=0,0,(P9*((LOG(P9))/LOG(2))))","v":-6.4917480846439016E-2},null,null,{"$f":"N9","v":121},{"$f":"COUNTIF(L7:L23,T9)","v":0},{"$f":"U9/(W4-U13)","v":0},{"$f":"IF(V9=0,0,(V9*((LOG(V9))/LOG(2))))","v":0},null,{"$f":"N9","v":121},{"$f":"COUNTIF(L24:L40,Y9)","v":1},{"$f":"Z9/(AB4-Z13)","v":6.6666666666666666E-2},{"$f":"IF(AA9=0,0,(AA9*((LOG(AA9))/LOG(2))))","v":-0.26045937304056793},null,{"$f":"N9","v":121},{"$f":"COUNTIF(L41:L58,AD9)","v":0},{"$f":"AE9/(AG4-AE13)","v":0},{"$f":"IF(AF9=0,0,(AF9*((LOG(AF9))/LOG(2))))","v":0},null,{"$f":"N9","v":121},{"$f":"COUNTIF(L59:L75,AI9)","v":0},{"$f":"AJ9/(AL4-AJ13)","v":0},{"$f":"IF(AK9=0,0,(AK9*((LOG(AK9))/LOG(2))))","v":0},null,{"$f":"N9","v":121},{"$f":"COUNTIF(L76:L92,AN9)","v":0},{"$f":"AO9/(AQ4-AO13)","v":0},{"$f":"IF(AP9=0,0,(AP9*((LOG(AP9))/LOG(2))))","v":0},null,{"$f":"N9","v":121},{"$f":"COUNTIF(L93:L109,AS9)","v":0},{"$f":"AT9/(AV4-AT13)","v":0},{"$f":"IF(AU9=0,0,(AU9*((LOG(AU9))/LOG(2))))","v":0}]
[21,697,21,703,22,709,null,null,null,null,0,222,null,122,{"$f":"COUNTIF($L$7:$L$500,N10)","v":13},{"$f":"O10/$Q$4","v":0.12621359223300971},{"$f":"IF(P10=0,0,(P10*((LOG(P10))/LOG(2))))","v":-0.37688146133541395},null,null,{"$f":"N10","v":122},{"$f":"COUNTIF(L7:L23,T10)","v":4},{"$f":"U10/(W4-U13)","v":0.25},{"$f":"IF(V10=0,0,(V10*((LOG(V10))/LOG(2))))","v":-0.5},null,{"$f":"N10","v":122},{"$f":"COUNTIF(L24:L40,Y10)","v":3},{"$f":"Z10/(AB4-Z13)","v":0.2},{"$f":"IF(AA10=0,0,(AA10*((LOG(AA10))/LOG(2))))","v":-0.46438561897747244},null,{"$f":"N10","v":122},{"$f":"COUNTIF(L41:L58,AD10)","v":1},{"$f":"AE10/(AG4-AE13)","v":6.25E-2},{"$f":"IF(AF10=0,0,(AF10*((LOG(AF10))/LOG(2))))","v":-0.25},null,{"$f":"N10","v":122},{"$f":"COUNTIF(L59:L75,AI10)","v":3},{"$f":"AJ10/(AL4-AJ13)","v":0.2},{"$f":"IF(AK10=0,0,(AK10*((LOG(AK10))/LOG(2))))","v":-0.46438561897747244},null,{"$f":"N10","v":122},{"$f":"COUNTIF(L76:L92,AN10)","v":1},{"$f":"AO10/(AQ4-AO13)","v":7.1428571428571425E-2},{"$f":"IF(AP10=0,0,(AP10*((LOG(AP10))/LOG(2))))","v":-0.27195392300411453},null,{"$f":"N10","v":122},{"$f":"COUNTIF(L93:L109,AS10)","v":1},{"$f":"AT10/(AV4-AT13)","v":6.6666666666666666E-2},{"$f":"IF(AU10=0,0,(AU10*((LOG(AU10))/LOG(2))))","v":-0.26045937304056793}]
[21,809,21,818,22,823,null,null,null,null,0,222,null,211,{"$f":"COUNTIF($L$7:$L$500,N11)","v":0},{"$f":"O11/$Q$4","v":0},{"$f":"IF(P11=0,0,(P11*((LOG(P11))/LOG(2))))","v":0},null,null,{"$f":"N11","v":211},{"$f":"COUNTIF(L7:L23,T11)","v":0},{"$f":"U11/(W4-U13)","v":0},{"$f":"IF(V11=0,0,(V11*((LOG(V11))/LOG(2))))","v":0},null,{"$f":"N11","v":211},{"$f":"COUNTIF(L24:L40,Y11)","v":0},{"$f":"Z11/(AB4-Z13)","v":0},{"$f":"IF(AA11=0,0,(AA11*((LOG(AA11))/LOG(2))))","v":0},null,{"$f":"N11","v":211},{"$f":"COUNTIF(L41:L58,AD11)","v":0},{"$f":"AE11/(AG4-AE13)","v":0},{"$f":"IF(AF11=0,0,(AF11*((LOG(AF11))/LOG(2))))","v":0},null,{"$f":"N11","v":211},{"$f":"COUNTIF(L59:L75,AI11)","v":0},{"$f":"AJ11/(AL4-AJ13)","v":0},{"$f":"IF(AK11=0,0,(AK11*((LOG(AK11))/LOG(2))))","v":0},null,{"$f":"N11","v":211},{"$f":"COUNTIF(L76:L92,AN11)","v":0},{"$f":"AO11/(AQ4-AO13)","v":0},{"$f":"IF(AP11=0,0,(AP11*((LOG(AP11))/LOG(2))))","v":0},null,{"$f":"N11","v":211},{"$f":"COUNTIF(L93:L109,AS11)","v":0},{"$f":"AT11/(AV4-AT13)","v":0},{"$f":"IF(AU11=0,0,(AU11*((LOG(AU11))/LOG(2))))","v":0}]
[12,916,23,921,24,927,null,null,null,null,0,122,null,212,{"$f":"COUNTIF($L$7:$L$500,N12)","v":7},{"$f":"O12/$Q$4","v":6.7961165048543687E-2},{"$f":"IF(P12=0,0,(P12*((LOG(P12))/LOG(2))))","v":-0.26363125471727472},null,null,{"$f":"N12","v":212},{"$f":"COUNTIF(L7:L23,T12)","v":0},{"$f":"U12/(W4-U13)","v":0},{"$f":"IF(V12=0,0,(V12*((LOG(V12))/LOG(2))))","v":0},null,{"$f":"N12","v":212},{"$f":"COUNTIF(L24:L40,Y12)","v":2},{"$f":"Z12/(AB4-Z13)","v":0.13333333333333333},{"$f":"IF(AA12=0,0,(AA12*((LOG(AA12))/LOG(2))))","v":-0.3875854127478025},null,{"$f":"N12","v":212},{"$f":"COUNTIF(L41:L58,AD12)","v":0},{"$f":"AE12/(AG4-AE13)","v":0},{"$f":"IF(AF12=0,0,(AF12*((LOG(AF12))/LOG(2))))","v":0},null,{"$f":"N12","v":212},{"$f":"COUNTIF(L59:L75,AI12)","v":1},{"$f":"AJ12/(AL4-AJ13)","v":6.6666666666666666E-2},{"$f":"IF(AK12=0,0,(AK12*((LOG(AK12))/LOG(2))))","v":-0.26045937304056793},null,{"$f":"N12","v":212},{"$f":"COUNTIF(L76:L92,AN12)","v":2},{"$f":"AO12/(AQ4-AO13)","v":0.14285714285714285},{"$f":"IF(AP12=0,0,(AP12*((LOG(AP12))/LOG(2))))","v":-0.40105070315108626},null,{"$f":"N12","v":212},{"$f":"COUNTIF(L93:L109,AS12)","v":2},{"$f":"AT12/(AV4-AT13)","v":0.13333333333333333},{"$f":"IF(AU12=0,0,(AU12*((LOG(AU12))/LOG(2))))","v":-0.3875854127478025}]
[21,1024,21,1027,22,1032,null,null,null,null,0,222,null,221,{"$f":"COUNTIF($L$7:$L$500,N13)","v":12},{"$f":"O13/$Q$4","v":0.11650485436893204},{"$f":"IF(P13=0,0,(P13*((LOG(P13))/LOG(2))))","v":-0.36134423609266741},null,null,{"$f":"N13","v":221},{"$f":"COUNTIF(L7:L23,T13)","v":1},null,null,null,{"$f":"N13","v":221},{"$f":"COUNTIF(L24:L40,Y13)","v":2},null,null,null,{"$f":"N13","v":221},{"$f":"COUNTIF(L41:L58,AD13)","v":2},null,null,null,{"$f":"N13","v":221},{"$f":"COUNTIF(L59:L75,AI13)","v":2},null,null,null,{"$f":"N13","v":221},{"$f":"COUNTIF(L76:L92,AN13)","v":3},null,null,null,{"$f":"N13","v":221},{"$f":"COUNTIF(L93:L109,AS13)","v":2}]
[21,1153,21,1182,22,1188,null,null,null,null,0,222,null,222,{"$f":"COUNTIF($L$7:$L$500,N14)","v":70},{"$f":"O14/$Q$4","v":0.67961165048543692},{"$f":"IF(P14=0,0,(P14*((LOG(P14))/LOG(2))))","v":-0.37869151181240424},null,null,{"$f":"N14","v":222},{"$f":"COUNTIF(L7:L23,T14)","v":12},{"$f":"U14/(W4-U13)","v":0.75},{"$f":"IF(V14=0,0,(V14*((LOG(V14))/LOG(2))))","v":-0.31127812445913283},null,{"$f":"N14","v":222},{"$f":"COUNTIF(L24:L40,Y14)","v":9},{"$f":"Z14/(AB4-Z13)","v":0.6},{"$f":"IF(AA14=0,0,(AA14*((LOG(AA14))/LOG(2))))","v":-0.44217935649972373},null,{"$f":"N14","v":222},{"$f":"COUNTIF(L41:L58,AD14)","v":15},{"$f":"AE14/(AG4-AE13)","v":0.9375},{"$f":"IF(AF14=0,0,(AF14*((LOG(AF14))/LOG(2))))","v":-8.729006661701387E-2},null,{"$f":"N14","v":222},{"$f":"COUNTIF(L59:L75,AI14)","v":11},{"$f":"AJ14/(AL4-AJ13)","v":0.73333333333333328},{"$f":"IF(AK14=0,0,(AK14*((LOG(AK14))/LOG(2))))","v":-0.32813658311222899},null,{"$f":"N14","v":222},{"$f":"COUNTIF(L76:L92,AN14)","v":11},{"$f":"AO14/(AQ4-AO13)","v":0.7857142857142857},{"$f":"IF(AP14=0,0,(AP14*((LOG(AP14))/LOG(2))))","v":-0.27336830983024107},null,{"$f":"N14","v":222},{"$f":"COUNTIF(L93:L109,AS14)","v":12},{"$f":"AT14/(AV4-AT13)","v":0.8},{"$f":"IF(AU14=0,0,(AU14*((LOG(AU14))/LOG(2))))","v":-0.25754247590988982}]
[21,1285,21,1289,22,1293,null,null,null,null,0,222,null,null,null,{"$f":"SUM(P7:P14)","v":1},{"$f":"-SUM(Q7:Q14)","v":1.4454659448041993},null,null,null,null,{"$f":"SUM(V7:V14)","v":1},{"$f":"-SUM(W7:W14)","v":0.81127812445913283},null,null,null,{"$f":"SUM(AA7:AA14)","v":1},{"$f":"-SUM(AB7:AB14)","v":1.5546097612655667},null,null,null,{"$f":"SUM(AF7:AF14)","v":1},{"$f":"-SUM(AG7:AG14)","v":0.33729006661701388},null,null,null,{"$f":"SUM(AK7:AK14)","v":1},{"$f":"-SUM(AL7:AL14)","v":1.0529815751302694},null,null,null,{"$f":"SUM(AP7:AP14)","v":1},{"$f":"-SUM(AQ7:AQ14)","v":0.94637293598544181},null,null,null,{"$f":"SUM(AU7:AU14)","v":1},{"$f":"-SUM(AV7:AV14)","v":0.90558726169826032}]
[21,1393,21,1399,22,1409,null,null,null,null,0,222,null,null,null,"U=",{"$f":"Q15/(LOG(Q4)/LOG(2))","v":0.21617674879824203},null,null,null,null,"U1=",{"$f":"W15/(LOG(W4)/LOG(2))","v":0.1984796329575845},null,null,null,"U2=",{"$f":"AB15/(LOG(AB4)/LOG(2))","v":0.38033612087590685},null,null,null,"U3=",{"$f":"AG15/(LOG(AG4)/LOG(2))","v":8.0886362824355476E-2},null,null,null,"U4=",{"$f":"AL15/(LOG(AL4)/LOG(2))","v":0.25761251319612399},null,null,null,"U5=",{"$f":"AQ15/(LOG(AQ4)/LOG(2))","v":0.23153065183485558},null,null,null,"U6=",{"$f":"AV15/(LOG(AV4)/LOG(2))","v":0.22155241450983923}]
[12,1500,23,1505,24,1509,null,null,null,null,0,122]
[21,1670,21,1675,22,1680,null,null,null,null,0,222]
[21,1777,21,1779,22,1783,null,null,null,null,0,222,null,"Total Target Seq"]
[12,1877,23,1880,24,1890,null,null,null,null,0,122,null,{"$f":"COUNTIF(L7:L109,G3)","v":12},null,17,17,18,17,17,17]
[21,1987,21,1993,11,1998,null,null,null,null,0,221,null,null,null,"% of reinforcement given in 6 equal intervals based on number of trials "]
[21,2158,21,2168,22,2176,null,null,null,null,0,222,null,null,null,"%_1","%_2","%_3","%_4","%_5","%_6"]
[21,2275,21,2281,22,2289,null,null,null,null,0,222,null,null,"target sequence",{"$f":"$G$3","v":221},{"$f":"$G$3","v":221},{"$f":"$G$3","v":221},{"$f":"$G$3","v":221},{"$f":"$G$3","v":221},{"$f":"$G$3","v":221}]
[21,2397,21,2401,11,2405,null,null,null,null,0,221,null,null,"total reinforcement",{"$f":"U13","v":1},{"$f":"Z13","v":2},{"$f":"AE13","v":2},{"$f":"AJ13","v":2},{"$f":"AO13","v":3},{"$f":"AT13","v":2}]
[21,2531,21,2535,22,2545,null,null,null,null,0,222,null,null,"% target"]
[21,2643,21,2653,11,2656,null,null,null,null,0,221,null,null,"CCRF"]
[21,2800,12,2812,24,2814,null,null,null,null,0,212,null,null,"% CCRf"]
[21,2936,21,2947,22,2953,null,null,null,null,0,222,null,null,"average response rate",{"$f":"F23/P20","v":134.64705882352942},{"$f":"(F40-F23)/Q20","v":120.58823529411765},{"$f":"(F58-F40)/R20","v":118.72222222222223},{"$f":"(F75-F58)/S20","v":119.58823529411765},{"$f":"(F92-F75)/T20","v":131.64705882352942},{"$f":"(F109-F92)/U20","v":122.11764705882354}]
[21,3051,21,3054,22,3056,null,null,null,null,0,222]
[21,3158,21,3164,22,3168,null,null,null,null,0,222]
[21,3266,21,3268,22,3273,null,null,null,null,0,222]
[21,3369,21,3373,22,3376,null,null,null,null,0,222]
[12,3505,23,3529,24,3532,null,null,null,null,0,122]
[12,3683,23,3688,24,3697,null,null,null,null,0,122]
[21,3795,21,3800,22,3806,null,null,null,null,0,222]
[21,3902,21,3906,22,3912,null,null,null,null,0,222]
[21,4010,12,4017,24,4023,null,null,null,null,0,212]
[12,4117,23,4123,13,4129,null,null,null,null,0,121]
[21,4227,21,4233,22,4238,null,null,null,null,0,222]
[12,4332,23,4336,24,4339,null,null,null,null,0,122]
[21,4431,21,4439,22,4441,null,null,null,null,0,222]
[21,4541,21,4546,22,4549,null,null,null,null,0,222]
[21,4646,21,4654,22,4659,null,null,null,null,0,222]
[21,4755,21,4758,22,4763,null,null,null,null,0,222]
[21,4861,21,4865,22,4870,null,null,null,null,0,222]
[21,4965,21,4969,22,4973,null,null,null,null,0,222]
[12,5136,23,5149,24,5153,null,null,null,null,0,122]
[21,5250,21,5258,22,5262,null,null,null,null,0,222]
[21,5360,21,5364,22,5374,null,null,null,null,0,222]
[21,5471,21,5476,22,5481,null,null,null,null,0,222]
[21,5579,21,5582,11,5585,null,null,null,null,0,221]
[21,5779,21,5787,22,5792,null,null,null,null,0,222]
[21,5892,21,5896,22,5903,null,null,null,null,0,222]
[21,6000,21,6003,22,6009,null,null,null,null,0,222]
[21,6105,21,6109,22,6114,null,null,null,null,0,222]
[21,6210,21,6218,11,6221,null,null,null,null,0,221]
[21,6338,21,6343,22,6348,null,null,null,null,0,222]
[21,6462,21,6466,22,6476,null,null,null,null,0,222]
[21,6575,21,6583,22,6587,null,null,null,null,0,222]
[12,6679,23,6683,24,6688,null,null,null,null,0,122]
[21,6792,21,6800,22,6805,null,null,null,null,0,222]
[21,6902,21,6910,11,6915,null,null,null,null,0,221]
[21,7050,21,7061,22,7069,null,null,null,null,0,222]
[21,7167,21,7175,22,7180,null,null,null,null,0,222]
[21,7280,21,7284,22,7288,null,null,null,null,0,222]
[21,7384,21,7392,22,7397,null,null,null,null,0,222]
[21,7493,12,7496,24,7502,null,null,null,null,0,212]
[21,7600,21,7604,22,7609,null,null,null,null,0,222]
[21,7740,21,7745,22,7756,null,null,null,null,0,222]
[12,7975,23,7981,24,7987,null,null,null,null,0,122]
[12,8081,23,8083,24,8090,null,null,null,null,0,122]
[21,8186,21,8190,22,8195,null,null,null,null,0,222]
[21,8291,21,8295,22,8299,null,null,null,null,0,222]
[21,8396,21,8398,22,8400,null,null,null,null,0,222]
[21,8496,21,8507,11,8509,null,null,null,null,0,221]
[21,8627,21,8642,22,8652,null,null,null,null,0,222]
[21,8773,21,8778,22,8792,null,null,null,null,0,222]
[12,8884,23,8891,24,8895,null,null,null,null,0,122]
[21,8992,21,8995,11,9004,null,null,null,null,0,221]
[21,9137,21,9145,22,9161,null,null,null,null,0,222]
[21,9258,21,9264,22,9267,null,null,null,null,0,222]
[21,9364,21,9367,22,9369,null,null,null,null,0,222]
[21,9468,21,9472,22,9478,null,null,null,null,0,222]
[21,9575,21,9578,11,9583,null,null,null,null,0,221]
[21,9841,21,9845,22,9851,null,null,null,null,0,222]
[21,9952,21,9956,22,9970,null,null,null,null,0,222]
[21,10066,21,10070,22,10072,null,null,null,null,0,222]
[21,10169,21,10174,11,10179,null,null,null,null,0,221]
[21,10379,12,10383,24,10386,null,null,null,null,0,212]
[21,10511,21,10520,22,10526,null,null,null,null,0,222]
[21,10623,12,10628,24,10638,null,null,null,null,0,212]
[21,10733,21,10741,22,10747,null,null,null,null,0,222]
[21,10843,21,10854,22,10858,null,null,null,null,0,222]
[21,10953,21,10957,22,10961,null,null,null,null,0,222]
[21,11058,21,11062,22,11067,null,null,null,null,0,222]
[21,11164,21,11172,11,11176,null,null,null,null,0,221]
[21,11344,21,11350,22,11362,null,null,null,null,0,222]
[21,11454,21,11458,22,11467,null,null,null,null,0,222]
[21,11563,21,11567,22,11571,null,null,null,null,0,222]
[21,11667,12,11673,24,11678,null,null,null,null,0,212]
[21,11775,21,11780,11,11782,null,null,null,null,0,221]
[21,11990,21,11995,22,12003,null,null,null,null,0,222]
[21,12169,21,12173,22,12180,null,null,null,null,0,222]
[21,12275,12,12281,24,12284,null,null,null,null,0,212]
[21,12380,21,12391,22,12405,null,null,null,null,0,222]
[21,12507,21,12512,22,12516,null,null,null,null,0,222]
[21,12613,21,12620,22,12624,null,null,null,null,0,222]
[12,12717,23,12719,24,12724,null,null,null,null,0,122]
[21,12816,21,12821,22,12823,null,null,null,null,0,222]

{"sheet":"!M927A20.Gus","index":7,"n_rows":159,"n_cols":48,"rows_kept":159,"cut":false,"hidden":false,"merged":[[4,39,4,42],[5,39,5,40],[4,44,4,47],[5,44,5,45],[4,24,4,27],[5,24,5,25],[4,29,4,32],[5,29,5,30],[4,34,4,37],[5,34,5,35],[1,1,1,2],[5,13,5,14],[18,13,18,14],[19,13,19,14],[4,19,4,22],[5,19,5,20]]}
["Report for:!M927A20.Gus"]
["Date:","<date>"]
["Hen:","<hen>",null,null,null,"Correct Sequence",{"$f":"Start!J2","v":221},null,null,null,null,null,null,null,null,"Total Sequences in Data",{"$f":"4994-COUNTBLANK(L7:L5000)","v":153},null,null,null,null,"Total Sequences in Block Data",{"$f":"COUNTA(L7:L32)","v":26},null,null,null,"Total Sequences in Block Data",{"$f":"COUNTA(L33:L57)","v":25},null,null,null,"Total Sequences in Block Data",{"$f":"COUNTA(L58:L83)","v":26},null,null,null,"Total Sequences in Block Data",{"$f":"COUNTA(L84:L108)","v":25},null,null,null,"Total Sequences in Block Data",{"$f":"COUNTA(L109:L134)","v":26},null,null,null,"Total Sequences in Block Data",{"$f":"COUNTA(L135:L159)","v":25}]
[null,null,null,null,null,null,null,null,null,null,null,null,null,null,null,"Total Sequences in Summary",{"$f":"SUM(O7:O14)","v":153},null,null,null,null,"Total Sequences in Block Summary",{"$f":"SUM(U7:U14)","v":26},null,null,null,"Total Sequences in Block Summary",{"$f":"SUM(Z7:Z14)","v":25},null,null,null,"Total Sequences in Block Summary",{"$f":"SUM(AE7:AE14)","v":26},null,null,null,"Total Sequences in Block Summary",{"$f":"SUM(AJ7:AJ14)","v":25},null,null,null,"Total Sequences in Block Summary",{"$f":"SUM(AO7:AO14)","v":26},null,null,null,"Total Sequences in Block Summary",{"$f":"SUM(AT7:AT14)","v":25}]
[null,null,null,null,null,null,null,null,null,null,null,null,null,null,null,null,null,null,null,"Block 1",null,null,null,null,"Block 2",null,null,null,null,"Block 3",null,null,null,null,"Block 4",null,null,null,null,"Block 5",null,null,null,null,"Block 6"]
["Sequence\nComponent\n1","Time\n1","Sequence\nComponent\n2","Time\n2","Sequence\nComponent\n3","Time\n3","Sequence\nComponent\n4","Time\n4","Sequence\nComponent\n5","Time\n5","Correct?\n0=No 1=Yes","Sequence",null,"Frequency",null,"Relative Frequency","Variability",null,null,"Frequency",null,"Relative Frequency","Variability",null,"Frequency",null,"Relative Frequency","Variability",null,"Frequency",null,"Relative Frequency","Variability",null,"Frequency",null,"Relative Frequency","Variability",null,"Frequency",null,"Relative Frequency","Variability",null,"Frequency",null,"Relative Frequency","Variability"]
[21,540,21,544,22,552,null,null,null,null,0,222,null,111,{"$f":"COUNTIF($L$7:$L$500,N7)","v":0},{"$f":"O7/$Q$4","v":0},{"$f":"IF(P7=0,0,(P7*((LOG(P7))/LOG(2))))","v":0},null,null,{"$f":"N7","v":111},{"$f":"COUNTIF(L7:L32,T7)","v":0},{"$f":"U7/(W4-U13)","v":0},{"$f":"IF(V7=0,0,(V7*((LOG(V7))/LOG(2))))","v":0},null,{"$f":"N7","v":111},{"$f":"COUNTIF(L33:L57,Y7)","v":0},{"$f":"Z7/(AB4-Z13)","v":0},{"$f":"IF(AA7=0,0,(AA7*((LOG(AA7))/LOG(2))))","v":0},null,{"$f":"N7","v":111},{"$f":"COUNTIF(L58:L83,AD7)","v":0},{"$f":"AE7/(AG4-AE13)","v":0},{"$f":"IF(AF7=0,0,(AF7*((LOG(AF7))/LOG(2))))","v":0},null,{"$f":"N7","v":111},{"$f":"COUNTIF(L84:L108,AI7)","v":0},{"$f":"AJ7/(AL4-AJ13)","v":0},{"$f":"IF(AK7=0,0,(AK7*((LOG(AK7))/LOG(2))))","v":0},null,{"$f":"N7","v":111},{"$f":"COUNTIF(L109:L134,AN7)","v":0},{"$f":"AO7/(AQ4-AO13)","v":0},{"$f":"IF(AP7=0,0,(AP7*((LOG(AP7))/LOG(2))))","v":0},null,{"$f":"N7","v":111},{"$f":"COUNTIF(L135:L159,AS7)","v":0},{"$f":"AT7/(AV4-AT13)","v":0},{"$f":"IF(AU7=0,0,(AU7*((LOG(AU7))/LOG(2))))","v":0}]
[21,660,21,673,22,684,null,null,null,null,0,222,null,112,{"$f":"COUNTIF($L$7:$L$500,N8)","v":1},{"$f":"O8/$Q$4","v":6.5359477124183009E-3},{"$f":"IF(P8=0,0,(P8*((LOG(P8))/LOG(2))))","v":-4.743390746857943E-2},null,null,{"$f":"N8","v":112},{"$f":"COUNTIF(L7:L32,T8)","v":0},{"$f":"U8/(W4-U13)","v":0},{"$f":"IF(V8=0,0,(V8*((LOG(V8))/LOG(2))))","v":0},null,{"$f":"N8","v":112},{"$f":"COUNTIF(L33:L57,Y8)","v":0},{"$f":"Z8/(AB4-Z13)","v":0},{"$f":"IF(AA8=0,0,(AA8*((LOG(AA8))/LOG(2))))","v":0},null,{"$f":"N8","v":112},{"$f":"COUNTIF(L58:L83,AD8)","v":0},{"$f":"AE8/(AG4-AE13)","v":0},{"$f":"IF(AF8=0,0,(AF8*((LOG(AF8))/LOG(2))))","v":0},null,{"$f":"N8","v":112},{"$f":"COUNTIF(L84:L108,AI8)","v":0},{"$f":"AJ8/(AL4-AJ13)","v":0},{"$f":"IF(AK8=0,0,(AK8*((LOG(AK8))/LOG(2))))","v":0},null,{"$f":"N8","v":112},{"$f":"COUNTIF(L109:L134,AN8)","v":0},{"$f":"AO8/(AQ4-AO13)","v":0},{"$f":"IF(AP8=0,0,(AP8*((LOG(AP8))/LOG(2))))","v":0},null,{"$f":"N8","v":112},{"$f":"COUNTIF(L135:L159,AS8)","v":1},{"$f":"AT8/(AV4-AT13)","v":4.5454545454545456E-2},{"$f":"IF(AU8=0,0,(AU8*((LOG(AU8))/LOG(2))))","v":-0.20270143721078623}]
[12,789,23,794,24,802,null,null,null,null,0,122,null,121,{"$f":"COUNTIF($L$7:$L$500,N9)","v":3},{"$f":"O9/$Q$4","v":1.9607843137254902E-2},{"$f":"IF(P9=0,0,(P9*((LOG(P9))/LOG(2))))","v":-0.11122402631316657},null,null,{"$f":"N9","v":121},{"$f":"COUNTIF(L7:L32,T9)","v":0},{"$f":"U9/(W4-U13)","v":0},{"$f":"IF(V9=0,0,(V9*((LOG(V9))/LOG(2))))","v":0},null,{"$f":"N9","v":121},{"$f":"COUNTIF(L33:L57,Y9)","v":0},{"$f":"Z9/(AB4-Z13)","v":0},{"$f":"IF(AA9=0,0,(AA9*((LOG(AA9))/LOG(2))))","v":0},null,{"$f":"N9","v":121},{"$f":"COUNTIF(L58:L83,AD9)","v":1},{"$f":"AE9/(AG4-AE13)","v":4.1666666666666664E-2},{"$f":"IF(AF9=0,0,(AF9*((LOG(AF9))/LOG(2))))","v":-0.19104010419671485},null,{"$f":"N9","v":121},{"$f":"COUNTIF(L84:L108,AI9)","v":1},{"$f":"AJ9/(AL4-AJ13)","v":4.5454545454545456E-2},{"$f":"IF(AK9=0,0,(AK9*((LOG(AK9))/LOG(2))))","v":-0.20270143721078623},null,{"$f":"N9","v":121},{"$f":"COUNTIF(L109:L134,AN9)","v":1},{"$f":"AO9/(AQ4-AO13)","v":4.3478260869565216E-2},{"$f":"IF(AP9=0,0,(AP9*((LOG(AP9))/LOG(2))))","v":-0.19667660678508753},null,{"$f":"N9","v":121},{"$f":"COUNTIF(L135:L159,AS9)","v":0},{"$f":"AT9/(AV4-AT13)","v":0},{"$f":"IF(AU9=0,0,(AU9*((LOG(AU9))/LOG(2))))","v":0}]
[12,936,23,942,24,946,null,null,null,null,0,122,null,122,{"$f":"COUNTIF($L$7:$L$500,N10)","v":18},{"$f":"O10/$Q$4","v":0.11764705882352941},{"$f":"IF(P10=0,0,(P10*((LOG(P10))/LOG(2))))","v":-0.36323092250003997},null,null,{"$f":"N10","v":122},{"$f":"COUNTIF(L7:L32,T10)","v":5},{"$f":"U10/(W4-U13)","v":0.2},{"$f":"IF(V10=0,0,(V10*((LOG(V10))/LOG(2))))","v":-0.46438561897747244},null,{"$f":"N10","v":122},{"$f":"COUNTIF(L33:L57,Y10)","v":2},{"$f":"Z10/(AB4-Z13)","v":9.5238095238095233E-2},{"$f":"IF(AA10=0,0,(AA10*((LOG(AA10))/LOG(2))))","v":-0.32307784978845333},null,{"$f":"N10","v":122},{"$f":"COUNTIF(L58:L83,AD10)","v":4},{"$f":"AE10/(AG4-AE13)","v":0.16666666666666666},{"$f":"IF(AF10=0,0,(AF10*((LOG(AF10))/LOG(2))))","v":-0.43082708345352599},null,{"$f":"N10","v":122},{"$f":"COUNTIF(L84:L108,AI10)","v":3},{"$f":"AJ10/(AL4-AJ13)","v":0.13636363636363635},{"$f":"IF(AK10=0,0,(AK10*((LOG(AK10))/LOG(2))))","v":-0.39197306153401923},null,{"$f":"N10","v":122},{"$f":"COUNTIF(L109:L134,AN10)","v":3},{"$f":"AO10/(AQ4-AO13)","v":0.13043478260869565},{"$f":"IF(AP10=0,0,(AP10*((LOG(AP10))/LOG(2))))","v":-0.3832955811307639},null,{"$f":"N10","v":122},{"$f":"COUNTIF(L135:L159,AS10)","v":1},{"$f":"AT10/(AV4-AT13)","v":4.5454545454545456E-2},{"$f":"IF(AU10=0,0,(AU10*((LOG(AU10))/LOG(2))))","v":-0.20270143721078623}]
[21,1043,21,1046,22,1051,null,null,null,null,0,222,null,211,{"$f":"COUNTIF($L$7:$L$500,N11)","v":1},{"$f":"O11/$Q$4","v":6.5359477124183009E-3},{"$f":"IF(P11=0,0,(P11*((LOG(P11))/LOG(2))))","v":-4.743390746857943E-2},null,null,{"$f":"N11","v":211},{"$f":"COUNTIF(L7:L32,T11)","v":0},{"$f":"U11/(W4-U13)","v":0},{"$f":"IF(V11=0,0,(V11*((LOG(V11))/LOG(2))))","v":0},null,{"$f":"N11","v":211},{"$f":"COUNTIF(L33:L57,Y11)","v":0},{"$f":"Z11/(AB4-Z13)","v":0},{"$f":"IF(AA11=0,0,(AA11*((LOG(AA11))/LOG(2))))","v":0},null,{"$f":"N11","v":211},{"$f":"COUNTIF(L58:L83,AD11)","v":0},{"$f":"AE11/(AG4-AE13)","v":0},{"$f":"IF(AF11=0,0,(AF11*((LOG(AF11))/LOG(2))))","v":0},null,{"$f":"N11","v":211},{"$f":"COUNTIF(L84:L108,AI11)","v":0},{"$f":"AJ11/(AL4-AJ13)","v":0},{"$f":"IF(AK11=0,0,(AK11*((LOG(AK11))/LOG(2))))","v":0},null,{"$f":"N11","v":211},{"$f":"COUNTIF(L109:L134,AN11)","v":1},{"$f":"AO11/(AQ4-AO13)","v":4.3478260869565216E-2},{"$f":"IF(AP11=0,0,(AP11*((LOG(AP11))/LOG(2))))","v":-0.19667660678508753},null,{"$f":"N11","v":211},{"$f":"COUNTIF(L135:L159,AS11)","v":0},{"$f":"AT11/(AV4-AT13)","v":0},{"$f":"IF(AU11=0,0,(AU11*((LOG(AU11))/LOG(2))))","v":0}]
[21,1148,21,1150,22,1155,null,null,null,null,0,222,null,212,{"$f":"COUNTIF($L$7:$L$500,N12)","v":20},{"$f":"O12/$Q$4","v":0.13071895424836602},{"$f":"IF(P12=0,0,(P12*((LOG(P12))/LOG(2))))","v":-0.38372022847127968},null,null,{"$f":"N12","v":212},{"$f":"COUNTIF(L7:L32,T12)","v":2},{"$f":"U12/(W4-U13)","v":0.08},{"$f":"IF(V12=0,0,(V12*((LOG(V12))/LOG(2))))","v":-0.29150849518197797},null,{"$f":"N12","v":212},{"$f":"COUNTIF(L33:L57,Y12)","v":3},{"$f":"Z12/(AB4-Z13)","v":0.14285714285714285},{"$f":"IF(AA12=0,0,(AA12*((LOG(AA12))/LOG(2))))","v":-0.40105070315108626},null,{"$f":"N12","v":212},{"$f":"COUNTIF(L58:L83,AD12)","v":5},{"$f":"AE12/(AG4-AE13)","v":0.20833333333333334},{"$f":"IF(AF12=0,0,(AF12*((LOG(AF12))/LOG(2))))","v":-0.47146550121537367},null,{"$f":"N12","v":212},{"$f":"COUNTIF(L84:L108,AI12)","v":2},{"$f":"AJ12/(AL4-AJ13)","v":9.0909090909090912E-2},{"$f":"IF(AK12=0,0,(AK12*((LOG(AK12))/LOG(2))))","v":-0.31449378351248153},null,{"$f":"N12","v":212},{"$f":"COUNTIF(L109:L134,AN12)","v":6},{"$f":"AO12/(AQ4-AO13)","v":0.2608695652173913},{"$f":"IF(AP12=0,0,(AP12*((LOG(AP12))/LOG(2))))","v":-0.50572159704413644},null,{"$f":"N12","v":212},{"$f":"COUNTIF(L135:L159,AS12)","v":2},{"$f":"AT12/(AV4-AT13)","v":9.0909090909090912E-2},{"$f":"IF(AU12=0,0,(AU12*((LOG(AU12))/LOG(2))))","v":-0.31449378351248153}]
[21,1252,21,1254,22,1262,null,null,null,null,0,222,null,221,{"$f":"COUNTIF($L$7:$L$500,N13)","v":16},{"$f":"O13/$Q$4","v":0.10457516339869281},{"$f":"IF(P13=0,0,(P13*((LOG(P13))/LOG(2))))","v":-0.34064186590249951},null,null,{"$f":"N13","v":221},{"$f":"COUNTIF(L7:L32,T13)","v":1},null,null,null,{"$f":"N13","v":221},{"$f":"COUNTIF(L33:L57,Y13)","v":4},null,null,null,{"$f":"N13","v":221},{"$f":"COUNTIF(L58:L83,AD13)","v":2},null,null,null,{"$f":"N13","v":221},{"$f":"COUNTIF(L84:L108,AI13)","v":3},null,null,null,{"$f":"N13","v":221},{"$f":"COUNTIF(L109:L134,AN13)","v":3},null,null,null,{"$f":"N13","v":221},{"$f":"COUNTIF(L135:L159,AS13)","v":3}]
[21,1359,21,1362,22,1365,null,null,null,null,0,222,null,222,{"$f":"COUNTIF($L$7:$L$500,N14)","v":94},{"$f":"O14/$Q$4","v":0.6143790849673203},{"$f":"IF(P14=0,0,(P14*((LOG(P14))/LOG(2))))","v":-0.43178500101576045},null,null,{"$f":"N14","v":222},{"$f":"COUNTIF(L7:L32,T14)","v":18},{"$f":"U14/(W4-U13)","v":0.72},{"$f":"IF(V14=0,0,(V14*((LOG(V14))/LOG(2))))","v":-0.3412304555993369},null,{"$f":"N14","v":222},{"$f":"COUNTIF(L33:L57,Y14)","v":16},{"$f":"Z14/(AB4-Z13)","v":0.76190476190476186},{"$f":"IF(AA14=0,0,(AA14*((LOG(AA14))/LOG(2))))","v":-0.29890851259334122},null,{"$f":"N14","v":222},{"$f":"COUNTIF(L58:L83,AD14)","v":14},{"$f":"AE14/(AG4-AE13)","v":0.58333333333333337},{"$f":"IF(AF14=0,0,(AF14*((LOG(AF14))/LOG(2))))","v":-0.45360442088707198},null,{"$f":"N14","v":222},{"$f":"COUNTIF(L84:L108,AI14)","v":16},{"$f":"AJ14/(AL4-AJ13)","v":0.72727272727272729},{"$f":"IF(AK14=0,0,(AK14*((LOG(AK14))/LOG(2))))","v":-0.33413208628167068},null,{"$f":"N14","v":222},{"$f":"COUNTIF(L109:L134,AN14)","v":12},{"$f":"AO14/(AQ4-AO13)","v":0.52173913043478259},{"$f":"IF(AP14=0,0,(AP14*((LOG(AP14))/LOG(2))))","v":-0.48970406365349045},null,{"$f":"N14","v":222},{"$f":"COUNTIF(L135:L159,AS14)","v":18},{"$f":"AT14/(AV4-AT13)","v":0.81818181818181823},{"$f":"IF(AU14=0,0,(AU14*((LOG(AU14))/LOG(2))))","v":-0.23686905043226034}]
[21,1458,21,1463,22,1466,null,null,null,null,0,222,null,null,null,{"$f":"SUM(P7:P14)","v":1},{"$f":"-SUM(Q7:Q14)","v":1.7254698591399049},null,null,null,null,{"$f":"SUM(V7:V14)","v":1},{"$f":"-SUM(W7:W14)","v":1.0971245697587872},null,null,null,{"$f":"SUM(AA7:AA14)","v":1},{"$f":"-SUM(AB7:AB14)","v":1.0230370655328809},null,null,null,{"$f":"SUM(AF7:AF14)","v":1},{"$f":"-SUM(AG7:AG14)","v":1.5469371097526865},null,null,null,{"$f":"SUM(AK7:AK14)","v":1},{"$f":"-SUM(AL7:AL14)","v":1.2433003685389576},null,null,null,{"$f":"SUM(AP7:AP14)","v":1},{"$f":"-SUM(AQ7:AQ14)","v":1.7720744553985659},null,null,null,{"$f":"SUM(AU7:AU14)","v":1},{"$f":"-SUM(AV7:AV14)","v":0.95676570836631436}]
[21,1563,21,1568,22,1570,null,null,null,null,0,222,null,null,null,"U=",{"$f":"Q15/(LOG(Q4)/LOG(2))","v":0.23775356871374223},null,null,null,null,"U1=",{"$f":"W15/(LOG(W4)/LOG(2))","v":0.23340892247261349},null,null,null,"U2=",{"$f":"AB15/(LOG(AB4)/LOG(2))","v":0.22029904108260268},null,null,null,"U3=",{"$f":"AG15/(LOG(AG4)/LOG(2))","v":0.32910476519512988},null,null,null,"U4=",{"$f":"AL15/(LOG(AL4)/LOG(2))","v":0.26773016168686964},null,null,null,"U5=",{"$f":"AQ15/(LOG(AQ4)/LOG(2))","v":0.37700184698877021},null,null,null,"U6=",{"$f":"AV15/(LOG(AV4)/LOG(2))","v":0.20602828108092799}]
[21,1668,21,1677,22,1683,null,null,null,null,0,222]
[21,1781,12,1788,24,1791,null,null,null,null,0,212]
[21,1887,21,1890,22,1895,null,null,null,null,0,222,null,"Total Target Seq"]
[21,1994,21,1996,22,1998,null,null,null,null,0,222,null,{"$f":"COUNTIF(L7:L159,G3)","v":16},null,26,25,26,25,26,25]
[21,2096,21,2099,22,2103,null,null,null,null,0,222,null,null,null,"% of reinforcement given in 6 equal intervals based on number of trials "]
[12,2197,23,2200,24,2204,null,null,null,null,0,122,null,null,null,"%_1","%_2","%_3","%_4","%_5","%_6"]
[21,2305,21,2311,22,2315,null,null,null,null,0,222,null,null,"target sequence",{"$f":"$G$3","v":221},{"$f":"$G$3","v":221},{"$f":"$G$3","v":221},{"$f":"$G$3","v":221},{"$f":"$G$3","v":221},{"$f":"$G$3","v":221}]
[21,2413,21,2418,22,2422,null,null,null,null,0,222,null,null,"total reinforcement",{"$f":"U13","v":1},{"$f":"Z13","v":4},{"$f":"AE13","v":2},{"$f":"AJ13","v":3},{"$f":"AO13","v":3},{"$f":"AT13","v":3}]
[12,2520,23,2532,24,2537,null,null,null,null,0,122,null,null,"% target"]
[21,2634,12,2638,24,2640,null,null,null,null,0,212,null,null,"CCRF"]
[21,2737,21,2739,22,2743,null,null,null,null,0,222,null,null,"% CCRf"]
[21,2840,21,2848,11,2853,null,null,null,null,0,221,null,null,"average response rate",{"$f":"F32/P20","v":132.07692307692307},{"$f":"(F57-F32)/Q20","v":114.48},{"$f":"(F83-F57)/R20","v":112.80769230769231},{"$f":"(F108-F83)/S20","v":113.64},{"$f":"(F134-F108)/T20","v":128.03846153846155},{"$f":"(F159-F134)/U20","v":125.2}]
[21,3070,21,3075,22,3082,null,null,null,null,0,222]
[21,3178,21,3183,22,3190,null,null,null,null,0,222]
[21,3287,21,3293,22,3305,null,null,null,null,0,222]
[12,3420,23,3428,24,3434,null,null,null,null,0,122]
[21,3531,21,3534,22,3536,null,null,null,null,0,222]
[21,3633,21,3638,22,3643,null,null,null,null,0,222]
[21,3741,21,3745,22,3749,null,null,null,null,0,222]
[21,3849,21,3852,22,3857,null,null,null,null,0,222]
[21,3954,21,3963,22,3969,null,null,null,null,0,222]
[21,4066,21,4068,22,4070,null,null,null,null,0,222]
[21,4167,12,4178,24,4187,null,null,null,null,0,212]
[21,4283,21,4288,22,4292,null,null,null,null,0,222]
[21,4423,21,4428,22,4431,null,null,null,null,0,222]
[21,4527,21,4531,22,4538,null,null,null,null,0,222]
[21,4634,21,4637,11,4640,null,null,null,null,0,221]
[21,4781,21,4787,22,4800,null,null,null,null,0,222]
[12,4892,23,4895,24,4903,null,null,null,null,0,122]
[21,5003,21,5007,22,5014,null,null,null,null,0,222]
[21,5110,21,5117,11,5125,null,null,null,null,0,221]
[21,5225,21,5230,22,5237,null,null,null,null,0,222]
[21,5329,21,5333,11,5335,null,null,null,null,0,221]
[21,5477,21,5485,22,5498,null,null,null,null,0,222]
[12,5590,23,5594,24,5601,null,null,null,null,0,122]
[21,5724,21,5729,11,5732,null,null,null,null,0,221]
[21,5849,12,5861,24,5868,null,null,null,null,0,212]
[21,5964,12,5977,24,5981,null,null,null,null,0,212]
[21,6076,21,6080,22,6083,null,null,null,null,0,222]
[21,6178,21,6185,22,6190,null,null,null,null,0,222]
[21,6287,21,6291,22,6296,null,null,null,null,0,222]
[21,6392,21,6395,22,6401,null,null,null,null,0,222]
[12,6494,23,6497,24,6505,null,null,null,null,0,122]
[12,6599,23,6601,13,6606,null,null,null,null,0,121]
[21,6709,12,6717,24,6720,null,null,null,null,0,212]
[21,6821,21,6827,11,6835,null,null,null,null,0,221]
[21,6980,21,6984,22,6988,null,null,null,null,0,222]
[21,7122,21,7130,22,7136,null,null,null,null,0,222]
[21,7232,12,7237,24,7242,null,null,null,null,0,212]
[12,7334,23,7337,24,7343,null,null,null,null,0,122]
[21,7437,21,7441,22,7445,null,null,null,null,0,222]
[21,7541,12,7547,24,7549,null,null,null,null,0,212]
[21,7645,21,7650,22,7653,null,null,null,null,0,222]
[21,7750,12,7758,24,7767,null,null,null,null,0,212]
[21,7863,21,7868,22,7872,null,null,null,null,0,222]
[21,7969,21,7972,22,7977,null,null,null,null,0,222]
[21,8073,12,8077,24,8081,null,null,null,null,0,212]
[21,8178,21,8183,11,8185,null,null,null,null,0,221]
[12,8366,23,8372,24,8381,null,null,null,null,0,122]
[21,8480,21,8483,22,8488,null,null,null,null,0,222]
[21,8586,21,8589,22,8593,null,null,null,null,0,222]
[21,8690,21,8694,22,8698,null,null,null,null,0,222]
[21,8795,21,8801,22,8815,null,null,null,null,0,222]
[21,8912,21,8916,22,8920,null,null,null,null,0,222]
[21,9017,21,9022,22,9026,null,null,null,null,0,222]
[12,9119,23,9123,24,9127,null,null,null,null,0,122]
[21,9224,21,9227,22,9229,null,null,null,null,0,222]
[21,9325,21,9333,22,9344,null,null,null,null,0,222]
[21,9441,21,9445,22,9449,null,null,null,null,0,222]
[21,9541,12,9546,24,9551,null,null,null,null,0,212]
[21,9648,21,9653,22,9657,null,null,null,null,0,222]
[21,9754,21,9761,22,9766,null,null,null,null,0,222]
[21,9865,21,9868,22,9873,null,null,null,null,0,222]
[21,9971,21,9979,11,9985,null,null,null,null,0,221]
[12,10165,23,10187,24,10205,null,null,null,null,0,122]
[21,10302,21,10306,22,10310,null,null,null,null,0,222]
[21,10407,21,10411,11,10414,null,null,null,null,0,221]
[21,10576,21,10587,22,10594,null,null,null,null,0,222]
[21,10689,21,10693,22,10700,null,null,null,null,0,222]
[21,10797,21,10802,11,10805,null,null,null,null,0,221]
[21,10903,21,10906,22,10911,null,null,null,null,0,222]
[21,11009,12,11014,24,11017,null,null,null,null,0,212]
[21,11113,21,11116,22,11118,null,null,null,null,0,222]
[21,11215,21,11218,22,11222,null,null,null,null,0,222]
[21,11319,21,11325,22,11329,null,null,null,null,0,222]
[21,11426,21,11428,22,11432,null,null,null,null,0,222]
[21,11530,21,11533,22,11537,null,null,null,null,0,222]
[12,11631,23,11634,24,11641,null,null,null,null,0,122]
[12,11736,23,11738,24,11743,null,null,null,null,0,122]
[21,11838,21,11849,22,11853,null,null,null,null,0,222]
[12,11953,23,11957,13,11961,null,null,null,null,0,121]
[21,12058,21,12066,22,12070,null,null,null,null,0,222]
[21,12166,12,12172,24,12176,null,null,null,null,0,212]
[21,12273,21,12277,22,12281,null,null,null,null,0,222]
[21,12378,21,12383,22,12387,null,null,null,null,0,222]
[21,12485,21,12487,22,12491,null,null,null,null,0,222]
[21,12588,21,12593,22,12597,null,null,null,null,0,222]
[21,12695,12,12700,24,12703,null,null,null,null,0,212]
[21,12799,12,12805,24,12809,null,null,null,null,0,212]
[21,12901,21,12912,22,12925,null,null,null,null,0,222]
[21,13021,21,13037,22,13044,null,null,null,null,0,222]
[21,13141,21,13145,22,13148,null,null,null,null,0,222]
[12,13307,23,13317,13,13320,null,null,null,null,0,121]
[21,13417,21,13421,22,13424,null,null,null,null,0,222]
[21,13517,12,13519,24,13525,null,null,null,null,0,212]
[21,13622,21,13626,11,13629,null,null,null,null,0,221]
[21,13999,21,14005,22,14011,null,null,null,null,0,222]
[21,14115,12,14121,24,14127,null,null,null,null,0,212]
[21,14223,12,14226,24,14237,null,null,null,null,0,212]
[12,14329,23,14333,24,14335,null,null,null,null,0,122]
[12,14427,23,14431,24,14434,null,null,null,null,0,122]
[21,14531,21,14533,11,14538,null,null,null,null,0,221]
[21,14761,12,14779,13,14784,null,null,null,null,0,211]
[21,14899,21,14905,22,14909,null,null,null,null,0,222]
[21,15005,21,15013,11,15018,null,null,null,null,0,221]
[21,15177,21,15183,22,15189,null,null,null,null,0,222]
[21,15285,21,15292,22,15298,null,null,null,null,0,222]
[12,15389,23,15395,24,15399,null,null,null,null,0,122]
[21,15491,21,15494,22,15512,null,null,null,null,0,222]
[21,15609,21,15614,11,15617,null,null,null,null,0,221]
[21,15823,21,15831,22,15841,null,null,null,null,0,222]
[21,15938,21,15943,22,15949,null,null,null,null,0,222]
[12,16042,14,16050,24,16052,null,null,null,null,0,112]
[21,16209,21,16215,22,16226,null,null,null,null,0,222]
[21,16322,21,16329,11,16334,null,null,null,null,0,221]
[21,16488,21,16497,22,16504,null,null,null,null,0,222]
[21,16600,21,16609,22,16613,null,null,null,null,0,222]
[21,16711,12,16722,24,16724,null,null,null,null,0,212]
[21,16821,21,16827,11,16831,null,null,null,null,0,221]
[21,16989,21,17003,22,17006,null,null,null,null,0,222]
[21,17103,21,17108,22,17116,null,null,null,null,0,222]
[21,17208,21,17213,22,17221,null,null,null,null,0,222]
[21,17318,12,17328,24,17335,null,null,null,null,0,212]
[21,17434,21,17442,22,17447,null,null,null,null,0,222]
[12,17544,23,17551,24,17559,null,null,null,null,0,122]
[21,17656,21,17659,22,17663,null,null,null,null,0,222]
[21,17818,21,17834,22,17839,null,null,null,null,0,222]
[21,17935,21,17937,22,17942,null,null,null,null,0,222]
[21,18039,21,18043,22,18047,null,null,null,null,0,222]
[21,18142,21,18146,22,18151,null,null,null,null,0,222]
[21,18247,21,18251,22,18260,null,null,null,null,0,222]
[21,18420,21,18425,22,18427,null,null,null,null,0,222]
[21,18525,21,18527,22,18529,null,null,null,null,0,222]

{"sheet":"!M928910.Gus","index":8,"n_rows":41,"n_cols":48,"rows_kept":41,"cut":false,"hidden":false,"merged":[[4,39,4,42],[5,39,5,40],[4,44,4,47],[5,44,5,45],[4,24,4,27],[5,24,5,25],[4,29,4,32],[5,29,5,30],[4,34,4,37],[5,34,5,35],[1,1,1,2],[5,13,5,14],[18,13,18,14],[19,13,19,14],[4,19,4,22],[5,19,5,20]]}
["Report for:!M928910.Gus"]
["Date:","<date>"]
["Hen:","<hen>",null,null,null,"Correct Sequence",{"$f":"Start!J2","v":221},null,null,null,null,null,null,null,null,"Total Sequences in Data",{"$f":"4994-COUNTBLANK(L7:L5000)","v":35},null,null,null,null,"Total Sequences in Block Data",{"$f":"COUNTA(L7:L12)","v":6},null,null,null,"Total Sequences in Block Data",{"$f":"COUNTA(L13:L18)","v":6},null,null,null,"Total Sequences in Block Data",{"$f":"COUNTA(L19:L23)","v":5},null,null,null,"Total Sequences in Block Data",{"$f":"COUNTA(L24:L29)","v":6},null,null,null,"Total Sequences in Block Data",{"$f":"COUNTA(L30:L35)","v":6},null,null,null,"Total Sequences in Block Data",{"$f":"COUNTA(L36:L41)","v":6}]
[null,null,null,null,null,null,null,null,null,null,null,null,null,null,null,"Total Sequences in Summary",{"$f":"SUM(O7:O14)","v":34},null,null,null,null,"Total Sequences in Block Summary",{"$f":"SUM(U7:U14)","v":6},null,null,null,"Total Sequences in Block Summary",{"$f":"SUM(Z7:Z14)","v":6},null,null,null,"Total Sequences in Block Summary",{"$f":"SUM(AE7:AE14)","v":5},null,null,null,"Total Sequences in Block Summary",{"$f":"SUM(AJ7:AJ14)","v":6},null,null,null,"Total Sequences in Block Summary",{"$f":"SUM(AO7:AO14)","v":6},null,null,null,"Total Sequences in Block Summary",{"$f":"SUM(AT7:AT14)","v":5}]
[null,null,null,null,null,null,null,null,null,null,null,null,null,null,null,null,null,null,null,"Block 1",null,null,null,null,"Block 2",null,null,null,null,"Block 3",null,null,null,null,"Block 4",null,null,null,null,"Block 5",null,null,null,null,"Block 6"]
["Sequence\nComponent\n1","Time\n1","Sequence\nComponent\n2","Time\n2","Sequence\nComponent\n3","Time\n3","Sequence\nComponent\n4","Time\n4","Sequence\nComponent\n5","Time\n5","Correct?\n0=No 1=Yes","Sequence",null,"Frequency",null,"Relative Frequency","Variability",null,null,"Frequency",null,"Relative Frequency","Variability",null,"Frequency",null,"Relative Frequency","Variability",null,"Frequency",null,"Relative Frequency","Variability",null,"Frequency",null,"Relative Frequency","Variability",null,"Frequency",null,"Relative Frequency","Variability",null,"Frequency",null,"Relative Frequency","Variability"]
[21,157,12,181,13,197,null,null,null,null,0,211,null,111,{"$f":"COUNTIF($L$7:$L$500,N7)","v":0},{"$f":"O7/$Q$4","v":0},{"$f":"IF(P7=0,0,(P7*((LOG(P7))/LOG(2))))","v":0},null,null,{"$f":"N7","v":111},{"$f":"COUNTIF(L7:L12,T7)","v":0},{"$f":"U7/(W4-U13)","v":0},{"$f":"IF(V7=0,0,(V7*((LOG(V7))/LOG(2))))","v":0},null,{"$f":"N7","v":111},{"$f":"COUNTIF(L13:L18,Y7)","v":0},{"$f":"Z7/(AB4-Z13)","v":0},{"$f":"IF(AA7=0,0,(AA7*((LOG(AA7))/LOG(2))))","v":0},null,{"$f":"N7","v":111},{"$f":"COUNTIF(L19:L23,AD7)","v":0},{"$f":"AE7/(AG4-AE13)","v":0},{"$f":"IF(AF7=0,0,(AF7*((LOG(AF7))/LOG(2))))","v":0},null,{"$f":"N7","v":111},{"$f":"COUNTIF(L24:L29,AI7)","v":0},{"$f":"AJ7/(AL4-AJ13)","v":0},{"$f":"IF(AK7=0,0,(AK7*((LOG(AK7))/LOG(2))))","v":0},null,{"$f":"N7","v":111},{"$f":"COUNTIF(L30:L35,AN7)","v":0},{"$f":"AO7/(AQ4-AO13)","v":0},{"$f":"IF(AP7=0,0,(AP7*((LOG(AP7))/LOG(2))))","v":0},null,{"$f":"N7","v":111},{"$f":"COUNTIF(L36:L41,AS7)","v":0},{"$f":"AT7/(AV4-AT13)","v":0},{"$f":"IF(AU7=0,0,(AU7*((LOG(AU7))/LOG(2))))","v":0}]
[21,373,21,1274,22,1297,null,null,null,null,0,222,null,112,{"$f":"COUNTIF($L$7:$L$500,N8)","v":0},{"$f":"O8/$Q$4","v":0},{"$f":"IF(P8=0,0,(P8*((LOG(P8))/LOG(2))))","v":0},null,null,{"$f":"N8","v":112},{"$f":"COUNTIF(L7:L12,T8)","v":0},{"$f":"U8/(W4-U13)","v":0},{"$f":"IF(V8=0,0,(V8*((LOG(V8))/LOG(2))))","v":0},null,{"$f":"N8","v":112},{"$f":"COUNTIF(L13:L18,Y8)","v":0},{"$f":"Z8/(AB4-Z13)","v":0},{"$f":"IF(AA8=0,0,(AA8*((LOG(AA8))/LOG(2))))","v":0},null,{"$f":"N8","v":112},{"$f":"COUNTIF(L19:L23,AD8)","v":0},{"$f":"AE8/(AG4-AE13)","v":0},{"$f":"IF(AF8=0,0,(AF8*((LOG(AF8))/LOG(2))))","v":0},null,{"$f":"N8","v":112},{"$f":"COUNTIF(L24:L29,AI8)","v":0},{"$f":"AJ8/(AL4-AJ13)","v":0},{"$f":"IF(AK8=0,0,(AK8*((LOG(AK8))/LOG(2))))","v":0},null,{"$f":"N8","v":112},{"$f":"COUNTIF(L30:L35,AN8)","v":0},{"$f":"AO8/(AQ4-AO13)","v":0},{"$f":"IF(AP8=0,0,(AP8*((LOG(AP8))/LOG(2))))","v":0},null,{"$f":"N8","v":112},{"$f":"COUNTIF(L36:L41,AS8)","v":0},{"$f":"AT8/(AV4-AT13)","v":0},{"$f":"IF(AU8=0,0,(AU8*((LOG(AU8))/LOG(2))))","v":0}]
[21,1393,21,1424,22,1428,null,null,null,null,0,222,null,121,{"$f":"COUNTIF($L$7:$L$500,N9)","v":0},{"$f":"O9/$Q$4","v":0},{"$f":"IF(P9=0,0,(P9*((LOG(P9))/LOG(2))))","v":0},null,null,{"$f":"N9","v":121},{"$f":"COUNTIF(L7:L12,T9)","v":0},{"$f":"U9/(W4-U13)","v":0},{"$f":"IF(V9=0,0,(V9*((LOG(V9))/LOG(2))))","v":0},null,{"$f":"N9","v":121},{"$f":"COUNTIF(L13:L18,Y9)","v":0},{"$f":"Z9/(AB4-Z13)","v":0},{"$f":"IF(AA9=0,0,(AA9*((LOG(AA9))/LOG(2))))","v":0},null,{"$f":"N9","v":121},{"$f":"COUNTIF(L19:L23,AD9)","v":0},{"$f":"AE9/(AG4-AE13)","v":0},{"$f":"IF(AF9=0,0,(AF9*((LOG(AF9))/LOG(2))))","v":0},null,{"$f":"N9","v":121},{"$f":"COUNTIF(L24:L29,AI9)","v":0},{"$f":"AJ9/(AL4-AJ13)","v":0},{"$f":"IF(AK9=0,0,(AK9*((LOG(AK9))/LOG(2))))","v":0},null,{"$f":"N9","v":121},{"$f":"COUNTIF(L30:L35,AN9)","v":0},{"$f":"AO9/(AQ4-AO13)","v":0},{"$f":"IF(AP9=0,0,(AP9*((LOG(AP9))/LOG(2))))","v":0},null,{"$f":"N9","v":121},{"$f":"COUNTIF(L36:L41,AS9)","v":0},{"$f":"AT9/(AV4-AT13)","v":0},{"$f":"IF(AU9=0,0,(AU9*((LOG(AU9))/LOG(2))))","v":0}]
[21,1549,21,1557,22,1564,null,null,null,null,0,222,null,122,{"$f":"COUNTIF($L$7:$L$500,N10)","v":0},{"$f":"O10/$Q$4","v":0},{"$f":"IF(P10=0,0,(P10*((LOG(P10))/LOG(2))))","v":0},null,null,{"$f":"N10","v":122},{"$f":"COUNTIF(L7:L12,T10)","v":0},{"$f":"U10/(W4-U13)","v":0},{"$f":"IF(V10=0,0,(V10*((LOG(V10))/LOG(2))))","v":0},null,{"$f":"N10","v":122},{"$f":"COUNTIF(L13:L18,Y10)","v":0},{"$f":"Z10/(AB4-Z13)","v":0},{"$f":"IF(AA10=0,0,(AA10*((LOG(AA10))/LOG(2))))","v":0},null,{"$f":"N10","v":122},{"$f":"COUNTIF(L19:L23,AD10)","v":0},{"$f":"AE10/(AG4-AE13)","v":0},{"$f":"IF(AF10=0,0,(AF10*((LOG(AF10))/LOG(2))))","v":0},null,{"$f":"N10","v":122},{"$f":"COUNTIF(L24:L29,AI10)","v":0},{"$f":"AJ10/(AL4-AJ13)","v":0},{"$f":"IF(AK10=0,0,(AK10*((LOG(AK10))/LOG(2))))","v":0},null,{"$f":"N10","v":122},{"$f":"COUNTIF(L30:L35,AN10)","v":0},{"$f":"AO10/(AQ4-AO13)","v":0},{"$f":"IF(AP10=0,0,(AP10*((LOG(AP10))/LOG(2))))","v":0},null,{"$f":"N10","v":122},{"$f":"COUNTIF(L36:L41,AS10)","v":0},{"$f":"AT10/(AV4-AT13)","v":0},{"$f":"IF(AU10=0,0,(AU10*((LOG(AU10))/LOG(2))))","v":0}]
[21,1695,12,1747,24,2248,null,null,null,null,0,212,null,211,{"$f":"COUNTIF($L$7:$L$500,N11)","v":1},{"$f":"O11/$Q$4","v":2.9411764705882353E-2},{"$f":"IF(P11=0,0,(P11*((LOG(P11))/LOG(2))))","v":-0.14963126003677468},null,null,{"$f":"N11","v":211},{"$f":"COUNTIF(L7:L12,T11)","v":1},{"$f":"U11/(W4-U13)","v":0.16666666666666666},{"$f":"IF(V11=0,0,(V11*((LOG(V11))/LOG(2))))","v":-0.43082708345352599},null,{"$f":"N11","v":211},{"$f":"COUNTIF(L13:L18,Y11)","v":0},{"$f":"Z11/(AB4-Z13)","v":0},{"$f":"IF(AA11=0,0,(AA11*((LOG(AA11))/LOG(2))))","v":0},null,{"$f":"N11","v":211},{"$f":"COUNTIF(L19:L23,AD11)","v":0},{"$f":"AE11/(AG4-AE13)","v":0},{"$f":"IF(AF11=0,0,(AF11*((LOG(AF11))/LOG(2))))","v":0},null,{"$f":"N11","v":211},{"$f":"COUNTIF(L24:L29,AI11)","v":0},{"$f":"AJ11/(AL4-AJ13)","v":0},{"$f":"IF(AK11=0,0,(AK11*((LOG(AK11))/LOG(2))))","v":0},null,{"$f":"N11","v":211},{"$f":"COUNTIF(L30:L35,AN11)","v":0},{"$f":"AO11/(AQ4-AO13)","v":0},{"$f":"IF(AP11=0,0,(AP11*((LOG(AP11))/LOG(2))))","v":0},null,{"$f":"N11","v":211},{"$f":"COUNTIF(L36:L41,AS11)","v":0},{"$f":"AT11/(AV4-AT13)","v":0},{"$f":"IF(AU11=0,0,(AU11*((LOG(AU11))/LOG(2))))","v":0}]
[21,2438,21,2460,22,2525,null,null,null,null,0,222,null,212,{"$f":"COUNTIF($L$7:$L$500,N12)","v":1},{"$f":"O12/$Q$4","v":2.9411764705882353E-2},{"$f":"IF(P12=0,0,(P12*((LOG(P12))/LOG(2))))","v":-0.14963126003677468},null,null,{"$f":"N12","v":212},{"$f":"COUNTIF(L7:L12,T12)","v":1},{"$f":"U12/(W4-U13)","v":0.16666666666666666},{"$f":"IF(V12=0,0,(V12*((LOG(V12))/LOG(2))))","v":-0.43082708345352599},null,{"$f":"N12","v":212},{"$f":"COUNTIF(L13:L18,Y12)","v":0},{"$f":"Z12/(AB4-Z13)","v":0},{"$f":"IF(AA12=0,0,(AA12*((LOG(AA12))/LOG(2))))","v":0},null,{"$f":"N12","v":212},{"$f":"COUNTIF(L19:L23,AD12)","v":0},{"$f":"AE12/(AG4-AE13)","v":0},{"$f":"IF(AF12=0,0,(AF12*((LOG(AF12))/LOG(2))))","v":0},null,{"$f":"N12","v":212},{"$f":"COUNTIF(L24:L29,AI12)","v":0},{"$f":"AJ12/(AL4-AJ13)","v":0},{"$f":"IF(AK12=0,0,(AK12*((LOG(AK12))/LOG(2))))","v":0},null,{"$f":"N12","v":212},{"$f":"COUNTIF(L30:L35,AN12)","v":0},{"$f":"AO12/(AQ4-AO13)","v":0},{"$f":"IF(AP12=0,0,(AP12*((LOG(AP12))/LOG(2))))","v":0},null,{"$f":"N12","v":212},{"$f":"COUNTIF(L36:L41,AS12)","v":0},{"$f":"AT12/(AV4-AT13)","v":0},{"$f":"IF(AU12=0,0,(AU12*((LOG(AU12))/LOG(2))))","v":0}]
[21,2625,21,2639,22,2651,null,null,null,null,0,222,null,221,{"$f":"COUNTIF($L$7:$L$500,N13)","v":0},{"$f":"O13/$Q$4","v":0},{"$f":"IF(P13=0,0,(P13*((LOG(P13))/LOG(2))))","v":0},null,null,{"$f":"N13","v":221},{"$f":"COUNTIF(L7:L12,T13)","v":0},null,null,null,{"$f":"N13","v":221},{"$f":"COUNTIF(L13:L18,Y13)","v":0},null,null,null,{"$f":"N13","v":221},{"$f":"COUNTIF(L19:L23,AD13)","v":0},null,null,null,{"$f":"N13","v":221},{"$f":"COUNTIF(L24:L29,AI13)","v":0},null,null,null,{"$f":"N13","v":221},{"$f":"COUNTIF(L30:L35,AN13)","v":0},null,null,null,{"$f":"N13","v":221},{"$f":"COUNTIF(L36:L41,AS13)","v":0}]
[21,2753,21,2758,22,2764,null,null,null,null,0,222,null,222,{"$f":"COUNTIF($L$7:$L$500,N14)","v":32},{"$f":"O14/$Q$4","v":0.94117647058823528},{"$f":"IF(P14=0,0,(P14*((LOG(P14))/LOG(2))))","v":-8.2317968235613576E-2},null,null,{"$f":"N14","v":222},{"$f":"COUNTIF(L7:L12,T14)","v":4},{"$f":"U14/(W4-U13)","v":0.66666666666666663},{"$f":"IF(V14=0,0,(V14*((LOG(V14))/LOG(2))))","v":-0.38997500048077083},null,{"$f":"N14","v":222},{"$f":"COUNTIF(L13:L18,Y14)","v":6},{"$f":"Z14/(AB4-Z13)","v":1},{"$f":"IF(AA14=0,0,(AA14*((LOG(AA14))/LOG(2))))","v":0},null,{"$f":"N14","v":222},{"$f":"COUNTIF(L19:L23,AD14)","v":5},{"$f":"AE14/(AG4-AE13)","v":1},{"$f":"IF(AF14=0,0,(AF14*((LOG(AF14))/LOG(2))))","v":0},null,{"$f":"N14","v":222},{"$f":"COUNTIF(L24:L29,AI14)","v":6},{"$f":"AJ14/(AL4-AJ13)","v":1},{"$f":"IF(AK14=0,0,(AK14*((LOG(AK14))/LOG(2))))","v":0},null,{"$f":"N14","v":222},{"$f":"COUNTIF(L30:L35,AN14)","v":6},{"$f":"AO14/(AQ4-AO13)","v":1},{"$f":"IF(AP14=0,0,(AP14*((LOG(AP14))/LOG(2))))","v":0},null,{"$f":"N14","v":222},{"$f":"COUNTIF(L36:L41,AS14)","v":5},{"$f":"AT14/(AV4-AT13)","v":1},{"$f":"IF(AU14=0,0,(AU14*((LOG(AU14))/LOG(2))))","v":0}]
[21,2866,21,2876,22,2883,null,null,null,null,0,222,null,null,null,{"$f":"SUM(P7:P14)","v":1},{"$f":"-SUM(Q7:Q14)","v":0.38158048830916291},null,null,null,null,{"$f":"SUM(V7:V14)","v":1},{"$f":"-SUM(W7:W14)","v":1.2516291673878228},null,null,null,{"$f":"SUM(AA7:AA14)","v":1},{"$f":"-SUM(AB7:AB14)","v":0},null,null,null,{"$f":"SUM(AF7:AF14)","v":1},{"$f":"-SUM(AG7:AG14)","v":0},null,null,null,{"$f":"SUM(AK7:AK14)","v":1},{"$f":"-SUM(AL7:AL14)","v":0},null,null,null,{"$f":"SUM(AP7:AP14)","v":1},{"$f":"-SUM(AQ7:AQ14)","v":0},null,null,null,{"$f":"SUM(AU7:AU14)","v":1},{"$f":"-SUM(AV7:AV14)","v":0}]
[21,2981,21,2997,22,3004,null,null,null,null,0,222,null,null,null,"U=",{"$f":"Q15/(LOG(Q4)/LOG(2))","v":7.5004083610246547E-2},null,null,null,null,"U1=",{"$f":"W15/(LOG(W4)/LOG(2))","v":0.4841962570206112},null,null,null,"U2=",{"$f":"AB15/(LOG(AB4)/LOG(2))","v":0},null,null,null,"U3=",{"$f":"AG15/(LOG(AG4)/LOG(2))","v":0},null,null,null,"U4=",{"$f":"AL15/(LOG(AL4)/LOG(2))","v":0},null,null,null,"U5=",{"$f":"AQ15/(LOG(AQ4)/LOG(2))","v":0},null,null,null,"U6=",{"$f":"AV15/(LOG(AV4)/LOG(2))","v":0}]
[21,3106,21,3290,22,3296,null,null,null,null,0,222]
[21,3493,21,3506,22,3655,null,null,null,null,0,222]
[21,3766,21,3785,22,3804,null,null,null,null,0,222,null,"Total Target Seq"]
[21,3955,21,3963,22,3974,null,null,null,null,0,222,null,{"$f":"COUNTIF(L7:L41,G3)","v":0},null,6,6,5,6,6,6]
[21,4072,21,4080,22,4097,null,null,null,null,0,222,null,null,null,"% of reinforcement given in 6 equal intervals based on number of trials "]
[21,4194,21,4248,22,4257,null,null,null,null,0,222,null,null,null,"%_1","%_2","%_3","%_4","%_5","%_6"]
[21,4389,21,4403,22,4412,null,null,null,null,0,222,null,null,"target sequence",{"$f":"$G$3","v":221},{"$f":"$G$3","v":221},{"$f":"$G$3","v":221},{"$f":"$G$3","v":221},{"$f":"$G$3","v":221},{"$f":"$G$3","v":221}]
[21,4525,21,4536,22,4542,null,null,null,null,0,222,null,null,"total reinforcement",{"$f":"U13","v":0},{"$f":"Z13","v":0},{"$f":"AE13","v":0},{"$f":"AJ13","v":0},{"$f":"AO13","v":0},{"$f":"AT13","v":0}]
[21,4638,21,4645,22,4728,null,null,null,null,0,222,null,null,"% target"]
[21,4830,21,4832,22,4845,null,null,null,null,0,222,null,null,"CCRF"]
[21,4960,21,5082,22,5132,null,null,null,null,0,222,null,null,"% CCRf"]
[21,5228,21,5234,22,5269,null,null,null,null,0,222,null,null,"average response rate",{"$f":"F12/P20","v":420.83333333333331},{"$f":"(F18-F12)/Q20","v":188.33333333333334},{"$f":"(F23-F18)/R20","v":151.4},{"$f":"(F29-F23)/S20","v":160.16666666666666},{"$f":"(F35-F29)/T20","v":141.5},{"$f":"(F41-F35)/U20","v":-1037}]
[21,5361,21,5366,22,5373,null,null,null,null,0,222]
[21,5588,21,5602,22,5614,null,null,null,null,0,222]
[21,5720,21,5733,22,5741,null,null,null,null,0,222]
[21,5849,21,5869,22,5876,null,null,null,null,0,222]
[21,5986,21,5989,22,6001,null,null,null,null,0,222]
[21,6097,21,6102,22,6108,null,null,null,null,0,222]
[21,6206,21,6210,22,6222,null,null,null,null,0,222]
[21,6320,21,6336,22,6343,null,null,null,null,0,222]
[21,6454,21,6458,22,6463,null,null,null,null,0,222]
[21,6559,21,6564,22,6570,null,null,null,null,0,222]
[21,6686,21,6691,22,6695,null,null,null,null,0,222]
[21,11053,21,11056,22,11066,null,null,null,null,0,222]
[21,22957,null,null,null,null,null,null,null,null,null,2]

{"sheet":"!M930B00.Gus","index":9,"n_rows":191,"n_cols":48,"rows_kept":191,"cut":false,"hidden":false,"merged":[[4,39,4,42],[5,39,5,40],[4,44,4,47],[5,44,5,45],[4,24,4,27],[5,24,5,25],[4,29,4,32],[5,29,5,30],[4,34,4,37],[5,34,5,35],[1,1,1,2],[5,13,5,14],[18,13,18,14],[19,13,19,14],[4,19,4,22],[5,19,5,20]]}
["Report for:!M930B00.Gus"]
["Date:","<date>"]
["Hen:","<hen>",null,null,null,"Correct Sequence",{"$f":"Start!J2","v":221},null,null,null,null,null,null,null,null,"Total Sequences in Data",{"$f":"4994-COUNTBLANK(L7:L5000)","v":185},null,null,null,null,"Total Sequences in Block Data",{"$f":"COUNTA(L7:L37)","v":31},null,null,null,"Total Sequences in Block Data",{"$f":"COUNTA(L38:L68)","v":31},null,null,null,"Total Sequences in Block Data",{"$f":"COUNTA(L69:L98)","v":30},null,null,null,"Total Sequences in Block Data",{"$f":"COUNTA(L99:L129)","v":31},null,null,null,"Total Sequences in Block Data",{"$f":"COUNTA(L130:L160)","v":31},null,null,null,"Total Sequences in Block Data",{"$f":"COUNTA(L161:L191)","v":31}]
[null,null,null,null,null,null,null,null,null,null,null,null,null,null,null,"Total Sequences in Summary",{"$f":"SUM(O7:O14)","v":185},null,null,null,null,"Total Sequences in Block Summary",{"$f":"SUM(U7:U14)","v":31},null,null,null,"Total Sequences in Block Summary",{"$f":"SUM(Z7:Z14)","v":31},null,null,null,"Total Sequences in Block Summary",{"$f":"SUM(AE7:AE14)","v":30},null,null,null,"Total Sequences in Block Summary",{"$f":"SUM(AJ7:AJ14)","v":31},null,null,null,"Total Sequences in Block Summary",{"$f":"SUM(AO7:AO14)","v":31},null,null,null,"Total Sequences in Block Summary",{"$f":"SUM(AT7:AT14)","v":31}]
[null,null,null,null,null,null,null,null,null,null,null,null,null,null,null,null,null,null,null,"Block 1",null,null,null,null,"Block 2",null,null,null,null,"Block 3",null,null,null,null,"Block 4",null,null,null,null,"Block 5",null,null,null,null,"Block 6"]
["Sequence\nComponent\n1","Time\n1","Sequence\nComponent\n2","Time\n2","Sequence\nComponent\n3","Time\n3","Sequence\nComponent\n4","Time\n4","Sequence\nComponent\n5","Time\n5","Correct?\n0=No 1=Yes","Sequence",null,"Frequency",null,"Relative Frequency","Variability",null,null,"Frequency",null,"Relative Frequency","Variability",null,"Frequency",null,"Relative Frequency","Variability",null,"Frequency",null,"Relative Frequency","Variability",null,"Frequency",null,"Relative Frequency","Variability",null,"Frequency",null,"Relative Frequency","Variability",null,"Frequency",null,"Relative Frequency","Variability"]
[21,214,21,220,22,237,null,null,null,null,0,222,null,111,{"$f":"COUNTIF($L$7:$L$500,N7)","v":5},{"$f":"O7/$Q$4","v":2.7027027027027029E-2},{"$f":"IF(P7=0,0,(P7*((LOG(P7))/LOG(2))))","v":-0.14079603690889056},null,null,{"$f":"N7","v":111},{"$f":"COUNTIF(L7:L37,T7)","v":0},{"$f":"U7/(W4-U13)","v":0},{"$f":"IF(V7=0,0,(V7*((LOG(V7))/LOG(2))))","v":0},null,{"$f":"N7","v":111},{"$f":"COUNTIF(L38:L68,Y7)","v":1},{"$f":"Z7/(AB4-Z13)","v":3.5714285714285712E-2},{"$f":"IF(AA7=0,0,(AA7*((LOG(AA7))/LOG(2))))","v":-0.17169124721634299},null,{"$f":"N7","v":111},{"$f":"COUNTIF(L69:L98,AD7)","v":3},{"$f":"AE7/(AG4-AE13)","v":0.125},{"$f":"IF(AF7=0,0,(AF7*((LOG(AF7))/LOG(2))))","v":-0.375},null,{"$f":"N7","v":111},{"$f":"COUNTIF(L99:L129,AI7)","v":1},{"$f":"AJ7/(AL4-AJ13)","v":3.5714285714285712E-2},{"$f":"IF(AK7=0,0,(AK7*((LOG(AK7))/LOG(2))))","v":-0.17169124721634299},null,{"$f":"N7","v":111},{"$f":"COUNTIF(L130:L160,AN7)","v":0},{"$f":"AO7/(AQ4-AO13)","v":0},{"$f":"IF(AP7=0,0,(AP7*((LOG(AP7))/LOG(2))))","v":0},null,{"$f":"N7","v":111},{"$f":"COUNTIF(L161:L191,AS7)","v":0},{"$f":"AT7/(AV4-AT13)","v":0},{"$f":"IF(AU7=0,0,(AU7*((LOG(AU7))/LOG(2))))","v":0}]
[21,343,21,353,22,361,null,null,null,null,0,222,null,112,{"$f":"COUNTIF($L$7:$L$500,N8)","v":6},{"$f":"O8/$Q$4","v":3.2432432432432434E-2},{"$f":"IF(P8=0,0,(P8*((LOG(P8))/LOG(2))))","v":-0.16042439869605912},null,null,{"$f":"N8","v":112},{"$f":"COUNTIF(L7:L37,T8)","v":0},{"$f":"U8/(W4-U13)","v":0},{"$f":"IF(V8=0,0,(V8*((LOG(V8))/LOG(2))))","v":0},null,{"$f":"N8","v":112},{"$f":"COUNTIF(L38:L68,Y8)","v":1},{"$f":"Z8/(AB4-Z13)","v":3.5714285714285712E-2},{"$f":"IF(AA8=0,0,(AA8*((LOG(AA8))/LOG(2))))","v":-0.17169124721634299},null,{"$f":"N8","v":112},{"$f":"COUNTIF(L69:L98,AD8)","v":4},{"$f":"AE8/(AG4-AE13)","v":0.16666666666666666},{"$f":"IF(AF8=0,0,(AF8*((LOG(AF8))/LOG(2))))","v":-0.43082708345352599},null,{"$f":"N8","v":112},{"$f":"COUNTIF(L99:L129,AI8)","v":0},{"$f":"AJ8/(AL4-AJ13)","v":0},{"$f":"IF(AK8=0,0,(AK8*((LOG(AK8))/LOG(2))))","v":0},null,{"$f":"N8","v":112},{"$f":"COUNTIF(L130:L160,AN8)","v":1},{"$f":"AO8/(AQ4-AO13)","v":3.7037037037037035E-2},{"$f":"IF(AP8=0,0,(AP8*((LOG(AP8))/LOG(2))))","v":-0.1761069445245729},null,{"$f":"N8","v":112},{"$f":"COUNTIF(L161:L191,AS8)","v":0},{"$f":"AT8/(AV4-AT13)","v":0},{"$f":"IF(AU8=0,0,(AU8*((LOG(AU8))/LOG(2))))","v":0}]
[21,470,21,480,22,487,null,null,null,null,0,222,null,121,{"$f":"COUNTIF($L$7:$L$500,N9)","v":8},{"$f":"O9/$Q$4","v":4.3243243243243246E-2},{"$f":"IF(P9=0,0,(P9*((LOG(P9))/LOG(2))))","v":-0.19595163072502972},null,null,{"$f":"N9","v":121},{"$f":"COUNTIF(L7:L37,T9)","v":2},{"$f":"U9/(W4-U13)","v":7.1428571428571425E-2},{"$f":"IF(V9=0,0,(V9*((LOG(V9))/LOG(2))))","v":-0.27195392300411453},null,{"$f":"N9","v":121},{"$f":"COUNTIF(L38:L68,Y9)","v":3},{"$f":"Z9/(AB4-Z13)","v":0.10714285714285714},{"$f":"IF(AA9=0,0,(AA9*((LOG(AA9))/LOG(2))))","v":-0.34525633085747659},null,{"$f":"N9","v":121},{"$f":"COUNTIF(L69:L98,AD9)","v":0},{"$f":"AE9/(AG4-AE13)","v":0},{"$f":"IF(AF9=0,0,(AF9*((LOG(AF9))/LOG(2))))","v":0},null,{"$f":"N9","v":121},{"$f":"COUNTIF(L99:L129,AI9)","v":2},{"$f":"AJ9/(AL4-AJ13)","v":7.1428571428571425E-2},{"$f":"IF(AK9=0,0,(AK9*((LOG(AK9))/LOG(2))))","v":-0.27195392300411453},null,{"$f":"N9","v":121},{"$f":"COUNTIF(L130:L160,AN9)","v":0},{"$f":"AO9/(AQ4-AO13)","v":0},{"$f":"IF(AP9=0,0,(AP9*((LOG(AP9))/LOG(2))))","v":0},null,{"$f":"N9","v":121},{"$f":"COUNTIF(L161:L191,AS9)","v":1},{"$f":"AT9/(AV4-AT13)","v":3.7037037037037035E-2},{"$f":"IF(AU9=0,0,(AU9*((LOG(AU9))/LOG(2))))","v":-0.1761069445245729}]
[21,586,12,589,24,605,null,null,null,null,0,212,null,122,{"$f":"COUNTIF($L$7:$L$500,N10)","v":32},{"$f":"O10/$Q$4","v":0.17297297297297298},{"$f":"IF(P10=0,0,(P10*((LOG(P10))/LOG(2))))","v":-0.43786057695417291},null,null,{"$f":"N10","v":122},{"$f":"COUNTIF(L7:L37,T10)","v":7},{"$f":"U10/(W4-U13)","v":0.25},{"$f":"IF(V10=0,0,(V10*((LOG(V10))/LOG(2))))","v":-0.5},null,{"$f":"N10","v":122},{"$f":"COUNTIF(L38:L68,Y10)","v":5},{"$f":"Z10/(AB4-Z13)","v":0.17857142857142858},{"$f":"IF(AA10=0,0,(AA10*((LOG(AA10))/LOG(2))))","v":-0.44382621913754317},null,{"$f":"N10","v":122},{"$f":"COUNTIF(L69:L98,AD10)","v":3},{"$f":"AE10/(AG4-AE13)","v":0.125},{"$f":"IF(AF10=0,0,(AF10*((LOG(AF10))/LOG(2))))","v":-0.375},null,{"$f":"N10","v":122},{"$f":"COUNTIF(L99:L129,AI10)","v":11},{"$f":"AJ10/(AL4-AJ13)","v":0.39285714285714285},{"$f":"IF(AK10=0,0,(AK10*((LOG(AK10))/LOG(2))))","v":-0.52954129777226344},null,{"$f":"N10","v":122},{"$f":"COUNTIF(L130:L160,AN10)","v":1},{"$f":"AO10/(AQ4-AO13)","v":3.7037037037037035E-2},{"$f":"IF(AP10=0,0,(AP10*((LOG(AP10))/LOG(2))))","v":-0.1761069445245729},null,{"$f":"N10","v":122},{"$f":"COUNTIF(L161:L191,AS10)","v":5},{"$f":"AT10/(AV4-AT13)","v":0.18518518518518517},{"$f":"IF(AU10=0,0,(AU10*((LOG(AU10))/LOG(2))))","v":-0.45054803838446406}]
[21,697,21,702,22,720,null,null,null,null,0,222,null,211,{"$f":"COUNTIF($L$7:$L$500,N11)","v":8},{"$f":"O11/$Q$4","v":4.3243243243243246E-2},{"$f":"IF(P11=0,0,(P11*((LOG(P11))/LOG(2))))","v":-0.19595163072502972},null,null,{"$f":"N11","v":211},{"$f":"COUNTIF(L7:L37,T11)","v":0},{"$f":"U11/(W4-U13)","v":0},{"$f":"IF(V11=0,0,(V11*((LOG(V11))/LOG(2))))","v":0},null,{"$f":"N11","v":211},{"$f":"COUNTIF(L38:L68,Y11)","v":4},{"$f":"Z11/(AB4-Z13)","v":0.14285714285714285},{"$f":"IF(AA11=0,0,(AA11*((LOG(AA11))/LOG(2))))","v":-0.40105070315108626},null,{"$f":"N11","v":211},{"$f":"COUNTIF(L69:L98,AD11)","v":3},{"$f":"AE11/(AG4-AE13)","v":0.125},{"$f":"IF(AF11=0,0,(AF11*((LOG(AF11))/LOG(2))))","v":-0.375},null,{"$f":"N11","v":211},{"$f":"COUNTIF(L99:L129,AI11)","v":1},{"$f":"AJ11/(AL4-AJ13)","v":3.5714285714285712E-2},{"$f":"IF(AK11=0,0,(AK11*((LOG(AK11))/LOG(2))))","v":-0.17169124721634299},null,{"$f":"N11","v":211},{"$f":"COUNTIF(L130:L160,AN11)","v":0},{"$f":"AO11/(AQ4-AO13)","v":0},{"$f":"IF(AP11=0,0,(AP11*((LOG(AP11))/LOG(2))))","v":0},null,{"$f":"N11","v":211},{"$f":"COUNTIF(L161:L191,AS11)","v":0},{"$f":"AT11/(AV4-AT13)","v":0},{"$f":"IF(AU11=0,0,(AU11*((LOG(AU11))/LOG(2))))","v":0}]
[12,916,23,920,24,928,null,null,null,null,0,122,null,212,{"$f":"COUNTIF($L$7:$L$500,N12)","v":32},{"$f":"O12/$Q$4","v":0.17297297297297298},{"$f":"IF(P12=0,0,(P12*((LOG(P12))/LOG(2))))","v":-0.43786057695417291},null,null,{"$f":"N12","v":212},{"$f":"COUNTIF(L7:L37,T12)","v":6},{"$f":"U12/(W4-U13)","v":0.21428571428571427},{"$f":"IF(V12=0,0,(V12*((LOG(V12))/LOG(2))))","v":-0.47622694742923877},null,{"$f":"N12","v":212},{"$f":"COUNTIF(L38:L68,Y12)","v":6},{"$f":"Z12/(AB4-Z13)","v":0.21428571428571427},{"$f":"IF(AA12=0,0,(AA12*((LOG(AA12))/LOG(2))))","v":-0.47622694742923877},null,{"$f":"N12","v":212},{"$f":"COUNTIF(L69:L98,AD12)","v":8},{"$f":"AE12/(AG4-AE13)","v":0.33333333333333331},{"$f":"IF(AF12=0,0,(AF12*((LOG(AF12))/LOG(2))))","v":-0.52832083357371862},null,{"$f":"N12","v":212},{"$f":"COUNTIF(L99:L129,AI12)","v":3},{"$f":"AJ12/(AL4-AJ13)","v":0.10714285714285714},{"$f":"IF(AK12=0,0,(AK12*((LOG(AK12))/LOG(2))))","v":-0.34525633085747659},null,{"$f":"N12","v":212},{"$f":"COUNTIF(L130:L160,AN12)","v":6},{"$f":"AO12/(AQ4-AO13)","v":0.22222222222222221},{"$f":"IF(AP12=0,0,(AP12*((LOG(AP12))/LOG(2))))","v":-0.48220555587606945},null,{"$f":"N12","v":212},{"$f":"COUNTIF(L161:L191,AS12)","v":3},{"$f":"AT12/(AV4-AT13)","v":0.1111111111111111},{"$f":"IF(AU12=0,0,(AU12*((LOG(AU12))/LOG(2))))","v":-0.3522138890491458}]
[21,1030,21,1042,11,1047,null,null,null,null,0,221,null,221,{"$f":"COUNTIF($L$7:$L$500,N13)","v":23},{"$f":"O13/$Q$4","v":0.12432432432432433},{"$f":"IF(P13=0,0,(P13*((LOG(P13))/LOG(2))))","v":-0.3739451275814264},null,null,{"$f":"N13","v":221},{"$f":"COUNTIF(L7:L37,T13)","v":3},null,null,null,{"$f":"N13","v":221},{"$f":"COUNTIF(L38:L68,Y13)","v":3},null,null,null,{"$f":"N13","v":221},{"$f":"COUNTIF(L69:L98,AD13)","v":6},null,null,null,{"$f":"N13","v":221},{"$f":"COUNTIF(L99:L129,AI13)","v":3},null,null,null,{"$f":"N13","v":221},{"$f":"COUNTIF(L130:L160,AN13)","v":4},null,null,null,{"$f":"N13","v":221},{"$f":"COUNTIF(L161:L191,AS13)","v":4}]
[21,1220,21,1225,22,1239,null,null,null,null,0,222,null,222,{"$f":"COUNTIF($L$7:$L$500,N14)","v":71},{"$f":"O14/$Q$4","v":0.38378378378378381},{"$f":"IF(P14=0,0,(P14*((LOG(P14))/LOG(2))))","v":-0.53024885519905807},null,null,{"$f":"N14","v":222},{"$f":"COUNTIF(L7:L37,T14)","v":13},{"$f":"U14/(W4-U13)","v":0.4642857142857143},{"$f":"IF(V14=0,0,(V14*((LOG(V14))/LOG(2))))","v":-0.51392491610409474},null,{"$f":"N14","v":222},{"$f":"COUNTIF(L38:L68,Y14)","v":8},{"$f":"Z14/(AB4-Z13)","v":0.2857142857142857},{"$f":"IF(AA14=0,0,(AA14*((LOG(AA14))/LOG(2))))","v":-0.51638712058788683},null,{"$f":"N14","v":222},{"$f":"COUNTIF(L69:L98,AD14)","v":3},{"$f":"AE14/(AG4-AE13)","v":0.125},{"$f":"IF(AF14=0,0,(AF14*((LOG(AF14))/LOG(2))))","v":-0.375},null,{"$f":"N14","v":222},{"$f":"COUNTIF(L99:L129,AI14)","v":10},{"$f":"AJ14/(AL4-AJ13)","v":0.35714285714285715},{"$f":"IF(AK14=0,0,(AK14*((LOG(AK14))/LOG(2))))","v":-0.53050958113222924},null,{"$f":"N14","v":222},{"$f":"COUNTIF(L130:L160,AN14)","v":19},{"$f":"AO14/(AQ4-AO13)","v":0.70370370370370372},{"$f":"IF(AP14=0,0,(AP14*((LOG(AP14))/LOG(2))))","v":-0.35674962169176955},null,{"$f":"N14","v":222},{"$f":"COUNTIF(L161:L191,AS14)","v":18},{"$f":"AT14/(AV4-AT13)","v":0.66666666666666663},{"$f":"IF(AU14=0,0,(AU14*((LOG(AU14))/LOG(2))))","v":-0.38997500048077083}]
[12,1343,23,1379,24,1390,null,null,null,null,0,122,null,null,null,{"$f":"SUM(P7:P14)","v":1},{"$f":"-SUM(Q7:Q14)","v":2.4730388337438391},null,null,null,null,{"$f":"SUM(V7:V14)","v":1},{"$f":"-SUM(W7:W14)","v":1.7621057865374481},null,null,null,{"$f":"SUM(AA7:AA14)","v":0.99999999999999989},{"$f":"-SUM(AB7:AB14)","v":2.5261298155959175},null,null,null,{"$f":"SUM(AF7:AF14)","v":1},{"$f":"-SUM(AG7:AG14)","v":2.4591479170272446},null,null,null,{"$f":"SUM(AK7:AK14)","v":1},{"$f":"-SUM(AL7:AL14)","v":2.0206436271987696},null,null,null,{"$f":"SUM(AP7:AP14)","v":1},{"$f":"-SUM(AQ7:AQ14)","v":1.1911690666169847},null,null,null,{"$f":"SUM(AU7:AU14)","v":1},{"$f":"-SUM(AV7:AV14)","v":1.3688438724389536}]
[21,1485,12,1495,24,1502,null,null,null,null,0,212,null,null,null,"U=",{"$f":"Q15/(LOG(Q4)/LOG(2))","v":0.32836456986130413},null,null,null,null,"U1=",{"$f":"W15/(LOG(W4)/LOG(2))","v":0.35567944347361652},null,null,null,"U2=",{"$f":"AB15/(LOG(AB4)/LOG(2))","v":0.50989699586584436},null,null,null,"U3=",{"$f":"AG15/(LOG(AG4)/LOG(2))","v":0.50116216555308746},null,null,null,"U4=",{"$f":"AL15/(LOG(AL4)/LOG(2))","v":0.40786507045801274},null,null,null,"U5=",{"$f":"AQ15/(LOG(AQ4)/LOG(2))","v":0.24043638806149084},null,null,null,"U6=",{"$f":"AV15/(LOG(AV4)/LOG(2))","v":0.27629988532530719}]
[21,1599,12,1607,24,1611,null,null,null,null,0,212]
[21,1712,12,1715,24,1720,null,null,null,null,0,212]
[21,1816,21,1832,11,1838,null,null,null,null,0,221,null,"Total Target Seq"]
[12,1985,23,1994,24,2004,null,null,null,null,0,122,null,{"$f":"COUNTIF(L7:L191,G3)","v":23},null,31,31,30,31,31,31]
[21,2100,21,2103,22,2114,null,null,null,null,0,222,null,null,null,"% of reinforcement given in 6 equal intervals based on number of trials "]
[21,2212,21,2216,22,2221,null,null,null,null,0,222,null,null,null,"%_1","%_2","%_3","%_4","%_5","%_6"]
[21,2326,21,2341,22,2348,null,null,null,null,0,222,null,null,"target sequence",{"$f":"$G$3","v":221},{"$f":"$G$3","v":221},{"$f":"$G$3","v":221},{"$f":"$G$3","v":221},{"$f":"$G$3","v":221},{"$f":"$G$3","v":221}]
[12,2441,23,2452,24,2454,null,null,null,null,0,122,null,null,"total reinforcement",{"$f":"U13","v":3},{"$f":"Z13","v":3},{"$f":"AE13","v":6},{"$f":"AJ13","v":3},{"$f":"AO13","v":4},{"$f":"AT13","v":4}]
[21,2555,21,2568,22,2576,null,null,null,null,0,222,null,null,"% target"]
[21,2673,21,2687,22,2695,null,null,null,null,0,222,null,null,"CCRF"]
[12,2789,23,2791,24,2808,null,null,null,null,0,122,null,null,"% CCRf"]
[21,2904,12,2913,24,2920,null,null,null,null,0,212,null,null,"average response rate",{"$f":"F37/P20","v":127.16129032258064},{"$f":"(F68-F37)/Q20","v":115.38709677419355},{"$f":"(F98-F68)/R20","v":134.73333333333332},{"$f":"(F129-F98)/S20","v":122.3225806451613},{"$f":"(F160-F129)/T20","v":148.54838709677421},{"$f":"(F191-F160)/U20","v":128.29032258064515}]
[12,3012,23,3016,13,3020,null,null,null,null,0,121]
[21,3117,21,3134,22,3141,null,null,null,null,0,222]
[12,3234,23,3238,13,3244,null,null,null,null,0,121]
[21,3341,21,3345,22,3355,null,null,null,null,0,222]
[21,3451,21,3463,22,3470,null,null,null,null,0,222]
[12,3562,23,3566,24,3579,null,null,null,null,0,122]
[21,3675,21,3684,11,3689,null,null,null,null,0,221]
[21,3825,12,3835,24,3839,null,null,null,null,0,212]
[12,3935,23,3937,24,3942,null,null,null,null,0,122]
[21,4038,12,4047,24,4053,null,null,null,null,0,212]
[12,4150,23,4154,24,4162,null,null,null,null,0,122]
[21,4259,21,4263,22,4267,null,null,null,null,0,222]
[21,4363,21,4370,11,4373,null,null,null,null,0,221]
[21,4495,21,4508,22,4517,null,null,null,null,0,222]
[21,4616,21,4619,22,4625,null,null,null,null,0,222]
[21,4721,12,4728,24,4739,null,null,null,null,0,212]
[21,4835,21,4842,22,4848,null,null,null,null,0,222]
[21,4946,21,4959,11,4966,null,null,null,null,0,221]
[12,5161,23,5195,24,5199,null,null,null,null,0,122]
[21,5296,12,5300,13,5308,null,null,null,null,0,211]
[21,5407,12,5419,24,5426,null,null,null,null,0,212]
[21,5522,21,5529,22,5531,null,null,null,null,0,222]
[12,5624,23,5628,24,5639,null,null,null,null,0,122]
[12,5733,23,5736,13,5743,null,null,null,null,0,121]
[12,5837,23,5840,13,5844,null,null,null,null,0,121]
[21,5941,21,5951,22,5957,null,null,null,null,0,222]
[21,6055,12,6060,13,6062,null,null,null,null,0,211]
[21,6157,12,6164,13,6171,null,null,null,null,0,211]
[12,6268,14,6273,24,6284,null,null,null,null,0,112]
[12,6378,14,6380,13,6386,null,null,null,null,0,111]
[12,6480,23,6482,24,6489,null,null,null,null,0,122]
[21,6586,21,6590,22,6594,null,null,null,null,0,222]
[21,6691,12,6693,13,6698,null,null,null,null,0,211]
[21,6794,12,6800,24,6812,null,null,null,null,0,212]
[21,6908,12,6915,24,6920,null,null,null,null,0,212]
[21,7016,12,7020,24,7033,null,null,null,null,0,212]
[12,7163,23,7169,13,7174,null,null,null,null,0,121]
[21,7269,21,7278,22,7282,null,null,null,null,0,222]
[21,7379,21,7382,11,7393,null,null,null,null,0,221]
[12,7500,23,7512,24,7519,null,null,null,null,0,122]
[21,7618,12,7622,13,7624,null,null,null,null,0,211]
[12,7719,14,7725,24,7730,null,null,null,null,0,112]
[12,7829,23,7845,24,7852,null,null,null,null,0,122]
[21,7949,12,7958,24,7961,null,null,null,null,0,212]
[21,8057,12,8063,24,8074,null,null,null,null,0,212]
[21,8171,12,8179,24,8186,null,null,null,null,0,212]
[12,8322,14,8426,13,8462,null,null,null,null,0,111]
[12,8614,14,8647,24,8817,null,null,null,null,0,112]
[21,8914,21,8928,22,8935,null,null,null,null,0,222]
[21,9033,21,9049,22,9055,null,null,null,null,0,222]
[21,9154,12,9158,24,9163,null,null,null,null,0,212]
[21,9261,12,9266,24,9272,null,null,null,null,0,212]
[21,9371,12,9377,24,9380,null,null,null,null,0,212]
[21,9478,21,9487,11,9494,null,null,null,null,0,221]
[21,9635,21,9641,11,9647,null,null,null,null,0,221]
[21,9839,21,9841,11,9843,null,null,null,null,0,221]
[12,9949,23,9967,24,9974,null,null,null,null,0,122]
[21,10073,12,10080,24,10083,null,null,null,null,0,212]
[21,10181,12,10183,24,10192,null,null,null,null,0,212]
[21,10288,21,10299,11,10302,null,null,null,null,0,221]
[12,10408,14,10422,24,10445,null,null,null,null,0,112]
[12,10537,14,10541,13,10548,null,null,null,null,0,111]
[21,10644,12,10646,13,10653,null,null,null,null,0,211]
[21,10749,21,10772,11,10774,null,null,null,null,0,221]
[12,10908,14,10915,13,10921,null,null,null,null,0,111]
[21,11021,21,11027,22,11034,null,null,null,null,0,222]
[21,11130,21,11138,11,11142,null,null,null,null,0,221]
[12,11229,14,11243,24,11303,null,null,null,null,0,112]
[12,11433,23,11440,24,11449,null,null,null,null,0,122]
[21,11545,12,11550,13,11561,null,null,null,null,0,211]
[12,11655,23,11658,24,11666,null,null,null,null,0,122]
[21,11763,21,11770,11,11775,null,null,null,null,0,221]
[12,11862,23,11883,24,11888,null,null,null,null,0,122]
[21,11984,12,11991,24,11994,null,null,null,null,0,212]
[21,12091,21,12099,22,12106,null,null,null,null,0,222]
[12,12201,23,12206,24,12210,null,null,null,null,0,122]
[12,12302,23,12307,13,12316,null,null,null,null,0,121]
[12,12405,23,12459,24,12464,null,null,null,null,0,122]
[21,12559,21,12568,22,12577,null,null,null,null,0,222]
[21,12689,21,12699,22,12706,null,null,null,null,0,222]
[12,12799,14,12811,13,12814,null,null,null,null,0,111]
[21,12911,21,12929,22,12935,null,null,null,null,0,222]
[21,13034,12,13042,13,13043,null,null,null,null,0,211]
[21,13140,21,13145,22,13151,null,null,null,null,0,222]
[12,13244,23,13248,24,13259,null,null,null,null,0,122]
[12,13362,23,13369,13,13379,null,null,null,null,0,121]
[12,13533,23,13559,24,13566,null,null,null,null,0,122]
[21,13687,21,13691,22,13704,null,null,null,null,0,222]
[21,13801,21,13810,11,13816,null,null,null,null,0,221]
[12,13927,23,13974,24,13981,null,null,null,null,0,122]
[12,14086,23,14088,24,14095,null,null,null,null,0,122]
[12,14188,23,14191,24,14203,null,null,null,null,0,122]
[21,14299,21,14311,22,14317,null,null,null,null,0,222]
[21,14413,21,14421,22,14430,null,null,null,null,0,222]
[21,14542,12,14546,24,14560,null,null,null,null,0,212]
[12,14652,23,14656,24,14665,null,null,null,null,0,122]
[21,14761,21,14771,11,14778,null,null,null,null,0,221]
[21,14997,21,15010,22,15024,null,null,null,null,0,222]
[21,15117,12,15125,24,15131,null,null,null,null,0,212]
[21,15228,21,15235,22,15241,null,null,null,null,0,222]
[12,15341,23,15344,24,15353,null,null,null,null,0,122]
[12,15446,23,15450,24,15459,null,null,null,null,0,122]
[21,15555,12,15558,24,15563,null,null,null,null,0,212]
[21,15660,21,15672,11,15675,null,null,null,null,0,221]
[21,15790,21,15797,22,15803,null,null,null,null,0,222]
[21,15906,21,15913,22,15920,null,null,null,null,0,222]
[21,16017,21,16024,11,16026,null,null,null,null,0,221]
[21,16185,12,16191,24,16196,null,null,null,null,0,212]
[21,16293,21,16298,22,16302,null,null,null,null,0,222]
[21,16398,21,16403,22,16407,null,null,null,null,0,222]
[21,16504,12,16511,24,16514,null,null,null,null,0,212]
[21,16615,21,16623,22,16629,null,null,null,null,0,222]
[12,16724,14,16730,24,16736,null,null,null,null,0,112]
[21,16833,12,16851,24,16862,null,null,null,null,0,212]
[21,16959,21,16970,11,16975,null,null,null,null,0,221]
[21,17209,21,17212,22,17218,null,null,null,null,0,222]
[21,17315,12,17320,24,17325,null,null,null,null,0,212]
[21,17422,12,17427,24,17429,null,null,null,null,0,212]
[21,17533,21,17538,22,17546,null,null,null,null,0,222]
[21,17641,21,17645,11,17649,null,null,null,null,0,221]
[21,18002,21,18011,22,18018,null,null,null,null,0,222]
[21,18114,21,18123,22,18142,null,null,null,null,0,222]
[21,18296,21,18304,22,18310,null,null,null,null,0,222]
[21,18406,21,18412,22,18420,null,null,null,null,0,222]
[21,18534,21,18549,22,18555,null,null,null,null,0,222]
[21,18651,21,18654,22,18662,null,null,null,null,0,222]
[21,18759,21,18767,22,18772,null,null,null,null,0,222]
[21,18865,21,18867,22,18875,null,null,null,null,0,222]
[21,18971,21,18978,22,18982,null,null,null,null,0,222]
[21,19686,21,19690,22,19697,null,null,null,null,0,222]
[21,19836,21,19843,22,19847,null,null,null,null,0,222]
[21,19944,21,19954,22,19958,null,null,null,null,0,222]
[21,20055,21,20059,22,20068,null,null,null,null,0,222]
[21,20164,21,20177,22,20182,null,null,null,null,0,222]
[12,20274,23,20283,24,20293,null,null,null,null,0,122]
[12,20394,23,20396,24,20408,null,null,null,null,0,122]
[21,20504,21,20511,22,20519,null,null,null,null,0,222]
[21,20615,21,20626,22,20630,null,null,null,null,0,222]
[12,20811,23,20821,24,20836,null,null,null,null,0,122]
[12,20944,23,20950,24,20958,null,null,null,null,0,122]
[21,21055,12,21073,24,21075,null,null,null,null,0,212]
[21,21170,21,21189,11,21191,null,null,null,null,0,221]
[21,21309,21,21320,22,21325,null,null,null,null,0,222]
[21,21448,21,21464,22,21471,null,null,null,null,0,222]
[21,21568,21,21587,22,21594,null,null,null,null,0,222]
[21,21691,21,21697,22,21704,null,null,null,null,0,222]
[12,21810,23,21812,13,21831,null,null,null,null,0,121]
[21,21928,21,21938,11,21943,null,null,null,null,0,221]
[21,22128,21,22134,22,22141,null,null,null,null,0,222]
[21,22240,21,22249,11,22255,null,null,null,null,0,221]
[12,22414,23,22420,24,22432,null,null,null,null,0,122]
[21,22530,21,22548,11,22550,null,null,null,null,0,221]
[21,22700,21,22709,22,22717,null,null,null,null,0,222]
[21,22864,21,22870,22,22875,null,null,null,null,0,222]
[21,22972,21,22981,22,22985,null,null,null,null,0,222]
[21,23080,21,23084,22,23098,null,null,null,null,0,222]
[21,23194,21,23209,22,23215,null,null,null,null,0,222]
[21,23310,12,23319,24,23327,null,null,null,null,0,212]
[21,23423,12,23430,24,23443,null,null,null,null,0,212]
[21,23556,21,23572,22,23577,null,null,null,null,0,222]
[21,23685,21,23690,22,23703,null,null,null,null,0,222]
[21,23805,21,23820,22,23828,null,null,null,null,0,222]
[21,23924,21,23931,22,23935,null,null,null,null,null,222]

{"sheet":"!MA01A50.Gus","index":10,"n_rows":151,"n_cols":48,"rows_kept":151,"cut":false,"hidden":false,"merged":[[4,39,4,42],[5,39,5,40],[4,44,4,47],[5,44,5,45],[4,24,4,27],[5,24,5,25],[4,29,4,32],[5,29,5,30],[4,34,4,37],[5,34,5,35],[1,1,1,2],[5,13,5,14],[18,13,18,14],[19,13,19,14],[4,19,4,22],[5,19,5,20]]}
["Report for:!MA01A50.Gus"]
["Date:","<date>"]
["Hen:","<hen>",null,null,null,"Correct Sequence",{"$f":"Start!J2","v":221},null,null,null,null,null,null,null,null,"Total Sequences in Data",{"$f":"4994-COUNTBLANK(L7:L5000)","v":145},null,null,null,null,"Total Sequences in Block Data",{"$f":"COUNTA(L7:L30)","v":24},null,null,null,"Total Sequences in Block Data",{"$f":"COUNTA(L31:L54)","v":24},null,null,null,"Total Sequences in Block Data",{"$f":"COUNTA(L55:L79)","v":25},null,null,null,"Total Sequences in Block Data",{"$f":"COUNTA(L80:L103)","v":24},null,null,null,"Total Sequences in Block Data",{"$f":"COUNTA(L104:L127)","v":24},null,null,null,"Total Sequences in Block Data",{"$f":"COUNTA(L128:L151)","v":24}]
[null,null,null,null,null,null,null,null,null,null,null,null,null,null,null,"Total Sequences in Summary",{"$f":"SUM(O7:O14)","v":145},null,null,null,null,"Total Sequences in Block Summary",{"$f":"SUM(U7:U14)","v":24},null,null,null,"Total Sequences in Block Summary",{"$f":"SUM(Z7:Z14)","v":24},null,null,null,"Total Sequences in Block Summary",{"$f":"SUM(AE7:AE14)","v":25},null,null,null,"Total Sequences in Block Summary",{"$f":"SUM(AJ7:AJ14)","v":24},null,null,null,"Total Sequences in Block Summary",{"$f":"SUM(AO7:AO14)","v":24},null,null,null,"Total Sequences in Block Summary",{"$f":"SUM(AT7:AT14)","v":24}]
[null,null,null,null,null,null,null,null,null,null,null,null,null,null,null,null,null,null,null,"Block 1",null,null,null,null,"Block 2",null,null,null,null,"Block 3",null,null,null,null,"Block 4",null,null,null,null,"Block 5",null,null,null,null,"Block 6"]
["Sequence\nComponent\n1","Time\n1","Sequence\nComponent\n2","Time\n2","Sequence\nComponent\n3","Time\n3","Sequence\nComponent\n4","Time\n4","Sequence\nComponent\n5","Time\n5","Correct?\n0=No 1=Yes","Sequence",null,"Frequency",null,"Relative Frequency","Variability",null,null,"Frequency",null,"Relative Frequency","Variability",null,"Frequency",null,"Relative Frequency","Variability",null,"Frequency",null,"Relative Frequency","Variability",null,"Frequency",null,"Relative Frequency","Variability",null,"Frequency",null,"Relative Frequency","Variability",null,"Frequency",null,"Relative Frequency","Variability"]
[21,10,21,15,22,21,null,null,null,null,0,222,null,111,{"$f":"COUNTIF($L$7:$L$500,N7)","v":0},{"$f":"O7/$Q$4","v":0},{"$f":"IF(P7=0,0,(P7*((LOG(P7))/LOG(2))))","v":0},null,null,{"$f":"N7","v":111},{"$f":"COUNTIF(L7:L30,T7)","v":0},{"$f":"U7/(W4-U13)","v":0},{"$f":"IF(V7=0,0,(V7*((LOG(V7))/LOG(2))))","v":0},null,{"$f":"N7","v":111},{"$f":"COUNTIF(L31:L54,Y7)","v":0},{"$f":"Z7/(AB4-Z13)","v":0},{"$f":"IF(AA7=0,0,(AA7*((LOG(AA7))/LOG(2))))","v":0},null,{"$f":"N7","v":111},{"$f":"COUNTIF(L55:L79,AD7)","v":0},{"$f":"AE7/(AG4-AE13)","v":0},{"$f":"IF(AF7=0,0,(AF7*((LOG(AF7))/LOG(2))))","v":0},null,{"$f":"N7","v":111},{"$f":"COUNTIF(L80:L103,AI7)","v":0},{"$f":"AJ7/(AL4-AJ13)","v":0},{"$f":"IF(AK7=0,0,(AK7*((LOG(AK7))/LOG(2))))","v":0},null,{"$f":"N7","v":111},{"$f":"COUNTIF(L104:L127,AN7)","v":0},{"$f":"AO7/(AQ4-AO13)","v":0},{"$f":"IF(AP7=0,0,(AP7*((LOG(AP7))/LOG(2))))","v":0},null,{"$f":"N7","v":111},{"$f":"COUNTIF(L128:L151,AS7)","v":0},{"$f":"AT7/(AV4-AT13)","v":0},{"$f":"IF(AU7=0,0,(AU7*((LOG(AU7))/LOG(2))))","v":0}]
[21,119,21,130,22,135,null,null,null,null,0,222,null,112,{"$f":"COUNTIF($L$7:$L$500,N8)","v":2},{"$f":"O8/$Q$4","v":1.3793103448275862E-2},{"$f":"IF(P8=0,0,(P8*((LOG(P8))/LOG(2))))","v":-8.5240125379516335E-2},null,null,{"$f":"N8","v":112},{"$f":"COUNTIF(L7:L30,T8)","v":0},{"$f":"U8/(W4-U13)","v":0},{"$f":"IF(V8=0,0,(V8*((LOG(V8))/LOG(2))))","v":0},null,{"$f":"N8","v":112},{"$f":"COUNTIF(L31:L54,Y8)","v":2},{"$f":"Z8/(AB4-Z13)","v":9.0909090909090912E-2},{"$f":"IF(AA8=0,0,(AA8*((LOG(AA8))/LOG(2))))","v":-0.31449378351248153},null,{"$f":"N8","v":112},{"$f":"COUNTIF(L55:L79,AD8)","v":0},{"$f":"AE8/(AG4-AE13)","v":0},{"$f":"IF(AF8=0,0,(AF8*((LOG(AF8))/LOG(2))))","v":0},null,{"$f":"N8","v":112},{"$f":"COUNTIF(L80:L103,AI8)","v":0},{"$f":"AJ8/(AL4-AJ13)","v":0},{"$f":"IF(AK8=0,0,(AK8*((LOG(AK8))/LOG(2))))","v":0},null,{"$f":"N8","v":112},{"$f":"COUNTIF(L104:L127,AN8)","v":0},{"$f":"AO8/(AQ4-AO13)","v":0},{"$f":"IF(AP8=0,0,(AP8*((LOG(AP8))/LOG(2))))","v":0},null,{"$f":"N8","v":112},{"$f":"COUNTIF(L128:L151,AS8)","v":0},{"$f":"AT8/(AV4-AT13)","v":0},{"$f":"IF(AU8=0,0,(AU8*((LOG(AU8))/LOG(2))))","v":0}]
[21,232,21,260,11,266,null,null,null,null,0,221,null,121,{"$f":"COUNTIF($L$7:$L$500,N9)","v":9},{"$f":"O9/$Q$4","v":6.2068965517241378E-2},{"$f":"IF(P9=0,0,(P9*((LOG(P9))/LOG(2))))","v":-0.24889556411830069},null,null,{"$f":"N9","v":121},{"$f":"COUNTIF(L7:L30,T9)","v":1},{"$f":"U9/(W4-U13)","v":4.7619047619047616E-2},{"$f":"IF(V9=0,0,(V9*((LOG(V9))/LOG(2))))","v":-0.20915797251327431},null,{"$f":"N9","v":121},{"$f":"COUNTIF(L31:L54,Y9)","v":0},{"$f":"Z9/(AB4-Z13)","v":0},{"$f":"IF(AA9=0,0,(AA9*((LOG(AA9))/LOG(2))))","v":0},null,{"$f":"N9","v":121},{"$f":"COUNTIF(L55:L79,AD9)","v":1},{"$f":"AE9/(AG4-AE13)","v":0.05},{"$f":"IF(AF9=0,0,(AF9*((LOG(AF9))/LOG(2))))","v":-0.21609640474436814},null,{"$f":"N9","v":121},{"$f":"COUNTIF(L80:L103,AI9)","v":3},{"$f":"AJ9/(AL4-AJ13)","v":0.13636363636363635},{"$f":"IF(AK9=0,0,(AK9*((LOG(AK9))/LOG(2))))","v":-0.39197306153401923},null,{"$f":"N9","v":121},{"$f":"COUNTIF(L104:L127,AN9)","v":1},{"$f":"AO9/(AQ4-AO13)","v":0.05},{"$f":"IF(AP9=0,0,(AP9*((LOG(AP9))/LOG(2))))","v":-0.21609640474436814},null,{"$f":"N9","v":121},{"$f":"COUNTIF(L128:L151,AS9)","v":3},{"$f":"AT9/(AV4-AT13)","v":0.13043478260869565},{"$f":"IF(AU9=0,0,(AU9*((LOG(AU9))/LOG(2))))","v":-0.3832955811307639}]
[21,468,21,487,22,500,null,null,null,null,0,222,null,122,{"$f":"COUNTIF($L$7:$L$500,N10)","v":11},{"$f":"O10/$Q$4","v":7.586206896551724E-2},{"$f":"IF(P10=0,0,(P10*((LOG(P10))/LOG(2))))","v":-0.28224311851830353},null,null,{"$f":"N10","v":122},{"$f":"COUNTIF(L7:L30,T10)","v":2},{"$f":"U10/(W4-U13)","v":9.5238095238095233E-2},{"$f":"IF(V10=0,0,(V10*((LOG(V10))/LOG(2))))","v":-0.32307784978845333},null,{"$f":"N10","v":122},{"$f":"COUNTIF(L31:L54,Y10)","v":2},{"$f":"Z10/(AB4-Z13)","v":9.0909090909090912E-2},{"$f":"IF(AA10=0,0,(AA10*((LOG(AA10))/LOG(2))))","v":-0.31449378351248153},null,{"$f":"N10","v":122},{"$f":"COUNTIF(L55:L79,AD10)","v":0},{"$f":"AE10/(AG4-AE13)","v":0},{"$f":"IF(AF10=0,0,(AF10*((LOG(AF10))/LOG(2))))","v":0},null,{"$f":"N10","v":122},{"$f":"COUNTIF(L80:L103,AI10)","v":3},{"$f":"AJ10/(AL4-AJ13)","v":0.13636363636363635},{"$f":"IF(AK10=0,0,(AK10*((LOG(AK10))/LOG(2))))","v":-0.39197306153401923},null,{"$f":"N10","v":122},{"$f":"COUNTIF(L104:L127,AN10)","v":3},{"$f":"AO10/(AQ4-AO13)","v":0.15},{"$f":"IF(AP10=0,0,(AP10*((LOG(AP10))/LOG(2))))","v":-0.41054483912493089},null,{"$f":"N10","v":122},{"$f":"COUNTIF(L128:L151,AS10)","v":1},{"$f":"AT10/(AV4-AT13)","v":4.3478260869565216E-2},{"$f":"IF(AU10=0,0,(AU10*((LOG(AU10))/LOG(2))))","v":-0.19667660678508753}]
[21,598,12,604,24,610,null,null,null,null,0,212,null,211,{"$f":"COUNTIF($L$7:$L$500,N11)","v":2},{"$f":"O11/$Q$4","v":1.3793103448275862E-2},{"$f":"IF(P11=0,0,(P11*((LOG(P11))/LOG(2))))","v":-8.5240125379516335E-2},null,null,{"$f":"N11","v":211},{"$f":"COUNTIF(L7:L30,T11)","v":0},{"$f":"U11/(W4-U13)","v":0},{"$f":"IF(V11=0,0,(V11*((LOG(V11))/LOG(2))))","v":0},null,{"$f":"N11","v":211},{"$f":"COUNTIF(L31:L54,Y11)","v":1},{"$f":"Z11/(AB4-Z13)","v":4.5454545454545456E-2},{"$f":"IF(AA11=0,0,(AA11*((LOG(AA11))/LOG(2))))","v":-0.20270143721078623},null,{"$f":"N11","v":211},{"$f":"COUNTIF(L55:L79,AD11)","v":0},{"$f":"AE11/(AG4-AE13)","v":0},{"$f":"IF(AF11=0,0,(AF11*((LOG(AF11))/LOG(2))))","v":0},null,{"$f":"N11","v":211},{"$f":"COUNTIF(L80:L103,AI11)","v":0},{"$f":"AJ11/(AL4-AJ13)","v":0},{"$f":"IF(AK11=0,0,(AK11*((LOG(AK11))/LOG(2))))","v":0},null,{"$f":"N11","v":211},{"$f":"COUNTIF(L104:L127,AN11)","v":1},{"$f":"AO11/(AQ4-AO13)","v":0.05},{"$f":"IF(AP11=0,0,(AP11*((LOG(AP11))/LOG(2))))","v":-0.21609640474436814},null,{"$f":"N11","v":211},{"$f":"COUNTIF(L128:L151,AS11)","v":0},{"$f":"AT11/(AV4-AT13)","v":0},{"$f":"IF(AU11=0,0,(AU11*((LOG(AU11))/LOG(2))))","v":0}]
[21,715,21,720,22,730,null,null,null,null,0,222,null,212,{"$f":"COUNTIF($L$7:$L$500,N12)","v":25},{"$f":"O12/$Q$4","v":0.17241379310344829},{"$f":"IF(P12=0,0,(P12*((LOG(P12))/LOG(2))))","v":-0.43725050004141547},null,null,{"$f":"N12","v":212},{"$f":"COUNTIF(L7:L30,T12)","v":3},{"$f":"U12/(W4-U13)","v":0.14285714285714285},{"$f":"IF(V12=0,0,(V12*((LOG(V12))/LOG(2))))","v":-0.40105070315108626},null,{"$f":"N12","v":212},{"$f":"COUNTIF(L31:L54,Y12)","v":2},{"$f":"Z12/(AB4-Z13)","v":9.0909090909090912E-2},{"$f":"IF(AA12=0,0,(AA12*((LOG(AA12))/LOG(2))))","v":-0.31449378351248153},null,{"$f":"N12","v":212},{"$f":"COUNTIF(L55:L79,AD12)","v":3},{"$f":"AE12/(AG4-AE13)","v":0.15},{"$f":"IF(AF12=0,0,(AF12*((LOG(AF12))/LOG(2))))","v":-0.41054483912493089},null,{"$f":"N12","v":212},{"$f":"COUNTIF(L80:L103,AI12)","v":3},{"$f":"AJ12/(AL4-AJ13)","v":0.13636363636363635},{"$f":"IF(AK12=0,0,(AK12*((LOG(AK12))/LOG(2))))","v":-0.39197306153401923},null,{"$f":"N12","v":212},{"$f":"COUNTIF(L104:L127,AN12)","v":7},{"$f":"AO12/(AQ4-AO13)","v":0.35},{"$f":"IF(AP12=0,0,(AP12*((LOG(AP12))/LOG(2))))","v":-0.53010061049041535},null,{"$f":"N12","v":212},{"$f":"COUNTIF(L128:L151,AS12)","v":7},{"$f":"AT12/(AV4-AT13)","v":0.30434782608695654},{"$f":"IF(AU12=0,0,(AU12*((LOG(AU12))/LOG(2))))","v":-0.52232387991286355}]
[21,828,21,834,22,838,null,null,null,null,0,222,null,221,{"$f":"COUNTIF($L$7:$L$500,N13)","v":17},{"$f":"O13/$Q$4","v":0.11724137931034483},{"$f":"IF(P13=0,0,(P13*((LOG(P13))/LOG(2))))","v":-0.36256266364826284},null,null,{"$f":"N13","v":221},{"$f":"COUNTIF(L7:L30,T13)","v":3},null,null,null,{"$f":"N13","v":221},{"$f":"COUNTIF(L31:L54,Y13)","v":2},null,null,null,{"$f":"N13","v":221},{"$f":"COUNTIF(L55:L79,AD13)","v":5},null,null,null,{"$f":"N13","v":221},{"$f":"COUNTIF(L80:L103,AI13)","v":2},null,null,null,{"$f":"N13","v":221},{"$f":"COUNTIF(L104:L127,AN13)","v":4},null,null,null,{"$f":"N13","v":221},{"$f":"COUNTIF(L128:L151,AS13)","v":1}]
[21,935,21,947,22,967,null,null,null,null,0,222,null,222,{"$f":"COUNTIF($L$7:$L$500,N14)","v":79},{"$f":"O14/$Q$4","v":0.54482758620689653},{"$f":"IF(P14=0,0,(P14*((LOG(P14))/LOG(2))))","v":-0.4773388896909565},null,null,{"$f":"N14","v":222},{"$f":"COUNTIF(L7:L30,T14)","v":15},{"$f":"U14/(W4-U13)","v":0.7142857142857143},{"$f":"IF(V14=0,0,(V14*((LOG(V14))/LOG(2))))","v":-0.34673344797874411},null,{"$f":"N14","v":222},{"$f":"COUNTIF(L31:L54,Y14)","v":15},{"$f":"Z14/(AB4-Z13)","v":0.68181818181818177},{"$f":"IF(AA14=0,0,(AA14*((LOG(AA14))/LOG(2))))","v":-0.37673251570144006},null,{"$f":"N14","v":222},{"$f":"COUNTIF(L55:L79,AD14)","v":16},{"$f":"AE14/(AG4-AE13)","v":0.8},{"$f":"IF(AF14=0,0,(AF14*((LOG(AF14))/LOG(2))))","v":-0.25754247590988982},null,{"$f":"N14","v":222},{"$f":"COUNTIF(L80:L103,AI14)","v":13},{"$f":"AJ14/(AL4-AJ13)","v":0.59090909090909094},{"$f":"IF(AK14=0,0,(AK14*((LOG(AK14))/LOG(2))))","v":-0.4484952139295757},null,{"$f":"N14","v":222},{"$f":"COUNTIF(L104:L127,AN14)","v":8},{"$f":"AO14/(AQ4-AO13)","v":0.4},{"$f":"IF(AP14=0,0,(AP14*((LOG(AP14))/LOG(2))))","v":-0.52877123795494496},null,{"$f":"N14","v":222},{"$f":"COUNTIF(L128:L151,AS14)","v":12},{"$f":"AT14/(AV4-AT13)","v":0.52173913043478259},{"$f":"IF(AU14=0,0,(AU14*((LOG(AU14))/LOG(2))))","v":-0.48970406365349045}]
[12,1059,23,1064,24,1075,null,null,null,null,0,122,null,null,null,{"$f":"SUM(P7:P14)","v":1},{"$f":"-SUM(Q7:Q14)","v":1.9787709867762717},null,null,null,null,{"$f":"SUM(V7:V14)","v":1},{"$f":"-SUM(W7:W14)","v":1.280019973431558},null,null,null,{"$f":"SUM(AA7:AA14)","v":1},{"$f":"-SUM(AB7:AB14)","v":1.522915303449671},null,null,null,{"$f":"SUM(AF7:AF14)","v":1},{"$f":"-SUM(AG7:AG14)","v":0.88418371977918886},null,null,null,{"$f":"SUM(AK7:AK14)","v":1},{"$f":"-SUM(AL7:AL14)","v":1.6244143985316333},null,null,null,{"$f":"SUM(AP7:AP14)","v":1},{"$f":"-SUM(AQ7:AQ14)","v":1.9016094970590274},null,null,null,{"$f":"SUM(AU7:AU14)","v":1},{"$f":"-SUM(AV7:AV14)","v":1.5920001314822054}]
[21,1186,21,1204,22,1213,null,null,null,null,0,222,null,null,null,"U=",{"$f":"Q15/(LOG(Q4)/LOG(2))","v":0.27559833445915621},null,null,null,null,"U1=",{"$f":"W15/(LOG(W4)/LOG(2))","v":0.2791778500326289},null,null,null,"U2=",{"$f":"AB15/(LOG(AB4)/LOG(2))","v":0.33215436401282145},null,null,null,"U3=",{"$f":"AG15/(LOG(AG4)/LOG(2))","v":0.19039860056951524},null,null,null,"U4=",{"$f":"AL15/(LOG(AL4)/LOG(2))","v":0.35429175228284499},null,null,null,"U5=",{"$f":"AQ15/(LOG(AQ4)/LOG(2))","v":0.41474919298902191},null,null,null,"U6=",{"$f":"AV15/(LOG(AV4)/LOG(2))","v":0.34722206151779955}]
[21,1311,21,1317,11,1320,null,null,null,null,0,221]
[21,1419,12,1429,24,1437,null,null,null,null,0,212]
[21,1533,21,1543,22,1550,null,null,null,null,0,222,null,"Total Target Seq"]
[21,1646,21,1653,22,1660,null,null,null,null,0,222,null,{"$f":"COUNTIF(L7:L151,G3)","v":17},null,24,24,25,24,24,24]
[21,1756,21,1771,22,1777,null,null,null,null,0,222,null,null,null,"% of reinforcement given in 6 equal intervals based on number of trials "]
[21,1873,21,1889,22,1895,null,null,null,null,0,222,null,null,null,"%_1","%_2","%_3","%_4","%_5","%_6"]
[21,1991,21,2000,22,2004,null,null,null,null,0,222,null,null,"target sequence",{"$f":"$G$3","v":221},{"$f":"$G$3","v":221},{"$f":"$G$3","v":221},{"$f":"$G$3","v":221},{"$f":"$G$3","v":221},{"$f":"$G$3","v":221}]
[21,2100,21,2107,11,2120,null,null,null,null,0,221,null,null,"total reinforcement",{"$f":"U13","v":3},{"$f":"Z13","v":2},{"$f":"AE13","v":5},{"$f":"AJ13","v":2},{"$f":"AO13","v":4},{"$f":"AT13","v":1}]
[21,2220,12,2231,24,2240,null,null,null,null,0,212,null,null,"% target"]
[21,2339,21,2350,22,2357,null,null,null,null,0,222,null,null,"CCRF"]
[12,2450,23,2453,13,2460,null,null,null,null,0,121,null,null,"% CCRf"]
[21,2556,21,2560,22,2569,null,null,null,null,0,222,null,null,"average response rate",{"$f":"F30/P20","v":115.66666666666667},{"$f":"(F54-F30)/Q20","v":120},{"$f":"(F79-F54)/R20","v":131.80000000000001},{"$f":"(F103-F79)/S20","v":120.41666666666667},{"$f":"(F127-F103)/T20","v":133.70833333333334},{"$f":"(F151-F127)/U20","v":279.83333333333331}]
[21,2665,21,2667,22,2674,null,null,null,null,0,222]
[12,2767,23,2770,24,2776,null,null,null,null,0,122]
[21,2871,21,2889,22,2896,null,null,null,null,0,222]
[12,2988,14,2998,24,3015,null,null,null,null,0,112]
[21,3112,21,3126,11,3129,null,null,null,null,0,221]
[12,3267,23,3278,24,3284,null,null,null,null,0,122]
[21,3380,21,3389,11,3393,null,null,null,null,0,221]
[21,3605,21,3609,22,3621,null,null,null,null,0,222]
[21,3716,21,3725,22,3730,null,null,null,null,0,222]
[21,3822,21,3827,22,3832,null,null,null,null,0,222]
[21,3929,21,3936,22,3938,null,null,null,null,0,222]
[21,4033,12,4042,24,4044,null,null,null,null,0,212]
[21,4139,21,4148,22,4152,null,null,null,null,0,222]
[12,4307,14,4313,24,4315,null,null,null,null,0,112]
[21,4410,21,4414,22,4418,null,null,null,null,0,222]
[21,4513,21,4525,22,4533,null,null,null,null,0,222]
[21,4629,21,4636,22,4649,null,null,null,null,0,222]
[21,4745,12,4757,13,4763,null,null,null,null,0,211]
[21,4860,21,4880,22,4886,null,null,null,null,0,222]
[21,4985,21,4993,22,4998,null,null,null,null,0,222]
[21,5096,21,5112,22,5115,null,null,null,null,0,222]
[21,5211,12,5220,24,5226,null,null,null,null,0,212]
[12,5320,23,5322,24,5324,null,null,null,null,0,122]
[21,5420,21,5434,22,5440,null,null,null,null,0,222]
[21,5537,21,5539,22,5543,null,null,null,null,0,222]
[21,5635,21,5640,22,5656,null,null,null,null,0,222]
[21,5757,21,5764,22,5770,null,null,null,null,0,222]
[12,5862,23,5867,13,5874,null,null,null,null,0,121]
[21,5970,21,5973,11,5976,null,null,null,null,0,221]
[21,6192,21,6201,22,6207,null,null,null,null,0,222]
[21,6303,12,6314,24,6320,null,null,null,null,0,212]
[21,6416,21,6427,22,6433,null,null,null,null,0,222]
[21,6529,21,6546,22,6552,null,null,null,null,0,222]
[21,6647,21,6659,22,6664,null,null,null,null,0,222]
[21,6761,21,6765,11,6771,null,null,null,null,0,221]
[21,6861,21,6865,22,6879,null,null,null,null,0,222]
[21,6971,21,6974,11,6981,null,null,null,null,0,221]
[21,7159,12,7169,24,7176,null,null,null,null,0,212]
[21,7272,12,7278,24,7284,null,null,null,null,0,212]
[21,7380,21,7388,22,7393,null,null,null,null,0,222]
[21,7489,21,7493,22,7507,null,null,null,null,0,222]
[21,7603,21,7627,11,7631,null,null,null,null,0,221]
[21,7816,21,7824,22,7830,null,null,null,null,0,222]
[21,7955,21,7970,22,7977,null,null,null,null,0,222]
[21,8073,21,8075,22,8087,null,null,null,null,0,222]
[21,8183,21,8197,22,8206,null,null,null,null,0,222]
[21,8302,21,8306,22,8311,null,null,null,null,0,222]
[21,8407,21,8417,22,8424,null,null,null,null,0,222]
[21,8520,21,8528,11,8532,null,null,null,null,0,221]
[21,8818,21,8825,22,8840,null,null,null,null,0,222]
[21,8937,21,8945,22,8951,null,null,null,null,0,222]
[21,9050,21,9058,22,9063,null,null,null,null,0,222]
[12,9155,23,9158,24,9166,null,null,null,null,0,122]
[12,9310,23,9314,24,9328,null,null,null,null,0,122]
[21,9423,21,9432,22,9443,null,null,null,null,0,222]
[21,9539,21,9550,22,9554,null,null,null,null,0,222]
[21,9649,21,9662,22,9669,null,null,null,null,0,222]
[12,9762,23,9765,13,9773,null,null,null,null,0,121]
[12,9923,23,9926,13,9932,null,null,null,null,0,121]
[21,10028,12,10033,24,10036,null,null,null,null,0,212]
[21,10132,21,10136,22,10142,null,null,null,null,0,222]
[12,10247,23,10254,24,10262,null,null,null,null,0,122]
[21,10357,21,10367,22,10374,null,null,null,null,0,222]
[21,10466,21,10469,11,10477,null,null,null,null,0,221]
[21,10686,21,10696,22,10711,null,null,null,null,0,222]
[21,10803,21,10809,22,10813,null,null,null,null,0,222]
[21,10906,21,10908,22,10916,null,null,null,null,0,222]
[21,11012,21,11015,22,11025,null,null,null,null,0,222]
[21,11120,21,11133,11,11136,null,null,null,null,0,221]
[21,11286,21,11292,22,11300,null,null,null,null,0,222]
[21,11400,12,11403,24,11407,null,null,null,null,0,212]
[21,11502,21,11505,22,11516,null,null,null,null,0,222]
[12,11609,23,11612,13,11620,null,null,null,null,0,121]
[21,11716,12,11726,24,11734,null,null,null,null,0,212]
[21,11829,21,11833,22,11841,null,null,null,null,0,222]
[21,11989,12,11999,24,12002,null,null,null,null,0,212]
[21,12098,12,12104,24,12109,null,null,null,null,0,212]
[21,12208,21,12218,11,12222,null,null,null,null,0,221]
[21,12453,21,12461,22,12467,null,null,null,null,0,222]
[21,12563,12,12570,24,12578,null,null,null,null,0,212]
[12,12672,23,12673,24,12683,null,null,null,null,0,122]
[12,12775,23,12778,24,12790,null,null,null,null,0,122]
[21,12888,21,12891,22,12895,null,null,null,null,0,222]
[21,12991,21,13003,22,13010,null,null,null,null,0,222]
[21,13106,21,13110,22,13114,null,null,null,null,0,222]
[21,13211,12,13217,24,13222,null,null,null,null,0,212]
[12,13326,23,13334,13,13345,null,null,null,null,0,121]
[21,13441,12,13447,24,13449,null,null,null,null,0,212]
[21,13545,12,13551,24,13558,null,null,null,null,0,212]
[21,13661,21,13665,22,13672,null,null,null,null,0,222]
[21,13767,21,13771,22,13784,null,null,null,null,0,222]
[21,13880,12,13891,13,13893,null,null,null,null,0,211]
[21,13988,21,13999,22,14005,null,null,null,null,0,222]
[21,14097,12,14107,24,14109,null,null,null,null,0,212]
[12,14274,23,14279,24,14296,null,null,null,null,0,122]
[21,14392,21,14407,11,14411,null,null,null,null,0,221]
[21,14764,21,14770,22,14776,null,null,null,null,0,222]
[21,14870,21,14877,11,14879,null,null,null,null,0,221]
[21,15033,21,15045,11,15050,null,null,null,null,0,221]
[21,15421,21,15429,22,15442,null,null,null,null,0,222]
[21,15536,21,15543,22,15550,null,null,null,null,0,222]
[21,15644,12,15654,24,15659,null,null,null,null,0,212]
[21,15755,21,15774,11,15780,null,null,null,null,0,221]
[21,15959,21,15964,22,15971,null,null,null,null,0,222]
[21,16148,21,16153,22,16166,null,null,null,null,0,222]
[12,16258,23,16262,24,16267,null,null,null,null,0,122]
[21,16363,21,16368,22,16377,null,null,null,null,0,222]
[21,16473,12,16481,24,16486,null,null,null,null,0,212]
[21,16582,12,16592,24,16597,null,null,null,null,0,212]
[12,16691,23,16694,13,16697,null,null,null,null,0,121]
[21,16804,21,16809,22,16813,null,null,null,null,0,222]
[12,16909,23,16913,13,16920,null,null,null,null,0,121]
[21,17019,12,17025,24,17030,null,null,null,null,0,212]
[21,17144,12,17150,24,17156,null,null,null,null,0,212]
[12,17250,23,17251,13,17258,null,null,null,null,0,121]
[21,17355,12,17360,24,17378,null,null,null,null,0,212]
[21,17473,12,17481,24,17484,null,null,null,null,0,212]
[21,17579,21,17595,22,17600,null,null,null,null,0,222]
[21,17729,21,17736,22,17742,null,null,null,null,0,222]
[21,17838,21,17844,22,17852,null,null,null,null,0,222]
[21,20102,21,20112,22,20120,null,null,null,null,0,222]
[21,21412,21,21438,22,21445,null,null,null,null,0,222]
[21,21747,21,21758,22,21766,null,null,null,null,0,222]

{"sheet":"!MA02940.Gus","index":11,"n_rows":189,"n_cols":48,"rows_kept":189,"cut":false,"hidden":false,"merged":[[4,39,4,42],[5,39,5,40],[4,44,4,47],[5,44,5,45],[4,24,4,27],[5,24,5,25],[4,29,4,32],[5,29,5,30],[4,34,4,37],[5,34,5,35],[1,1,1,2],[5,13,5,14],[18,13,18,14],[19,13,19,14],[4,19,4,22],[5,19,5,20]]}
["Report for:!MA02940.Gus"]
["Date:","<date>"]
["Hen:","<hen>",null,null,null,"Correct Sequence",{"$f":"Start!J2","v":221},null,null,null,null,null,null,null,null,"Total Sequences in Data",{"$f":"4994-COUNTBLANK(L7:L5000)","v":183},null,null,null,null,"Total Sequences in Block Data",{"$f":"COUNTA(L7:L37)","v":31},null,null,null,"Total Sequences in Block Data",{"$f":"COUNTA(L38:L67)","v":30},null,null,null,"Total Sequences in Block Data",{"$f":"COUNTA(L68:L98)","v":31},null,null,null,"Total Sequences in Block Data",{"$f":"COUNTA(L99:L128)","v":30},null,null,null,"Total Sequences in Block Data",{"$f":"COUNTA(L129:L159)","v":31},null,null,null,"Total Sequences in Block Data",{"$f":"COUNTA(L160:L189)","v":30}]
[null,null,null,null,null,null,null,null,null,null,null,null,null,null,null,"Total Sequences in Summary",{"$f":"SUM(O7:O14)","v":183},null,null,null,null,"Total Sequences in Block Summary",{"$f":"SUM(U7:U14)","v":31},null,null,null,"Total Sequences in Block Summary",{"$f":"SUM(Z7:Z14)","v":30},null,null,null,"Total Sequences in Block Summary",{"$f":"SUM(AE7:AE14)","v":31},null,null,null,"Total Sequences in Block Summary",{"$f":"SUM(AJ7:AJ14)","v":30},null,null,null,"Total Sequences in Block Summary",{"$f":"SUM(AO7:AO14)","v":31},null,null,null,"Total Sequences in Block Summary",{"$f":"SUM(AT7:AT14)","v":30}]
[null,null,null,null,null,null,null,null,null,null,null,null,null,null,null,null,null,null,null,"Block 1",null,null,null,null,"Block 2",null,null,null,null,"Block 3",null,null,null,null,"Block 4",null,null,null,null,"Block 5",null,null,null,null,"Block 6"]
["Sequence\nComponent\n1","Time\n1","Sequence\nComponent\n2","Time\n2","Sequence\nComponent\n3","Time\n3","Sequence\nComponent\n4","Time\n4","Sequence\nComponent\n5","Time\n5","Correct?\n0=No 1=Yes","Sequence",null,"Frequency",null,"Relative Frequency","Variability",null,null,"Frequency",null,"Relative Frequency","Variability",null,"Frequency",null,"Relative Frequency","Variability",null,"Frequency",null,"Relative Frequency","Variability",null,"Frequency",null,"Relative Frequency","Variability",null,"Frequency",null,"Relative Frequency","Variability",null,"Frequency",null,"Relative Frequency","Variability"]
[21,36,21,40,22,47,null,null,null,null,0,222,null,111,{"$f":"COUNTIF($L$7:$L$500,N7)","v":0},{"$f":"O7/$Q$4","v":0},{"$f":"IF(P7=0,0,(P7*((LOG(P7))/LOG(2))))","v":0},null,null,{"$f":"N7","v":111},{"$f":"COUNTIF(L7:L37,T7)","v":0},{"$f":"U7/(W4-U13)","v":0},{"$f":"IF(V7=0,0,(V7*((LOG(V7))/LOG(2))))","v":0},null,{"$f":"N7","v":111},{"$f":"COUNTIF(L38:L67,Y7)","v":0},{"$f":"Z7/(AB4-Z13)","v":0},{"$f":"IF(AA7=0,0,(AA7*((LOG(AA7))/LOG(2))))","v":0},null,{"$f":"N7","v":111},{"$f":"COUNTIF(L68:L98,AD7)","v":0},{"$f":"AE7/(AG4-AE13)","v":0},{"$f":"IF(AF7=0,0,(AF7*((LOG(AF7))/LOG(2))))","v":0},null,{"$f":"N7","v":111},{"$f":"COUNTIF(L99:L128,AI7)","v":0},{"$f":"AJ7/(AL4-AJ13)","v":0},{"$f":"IF(AK7=0,0,(AK7*((LOG(AK7))/LOG(2))))","v":0},null,{"$f":"N7","v":111},{"$f":"COUNTIF(L129:L159,AN7)","v":0},{"$f":"AO7/(AQ4-AO13)","v":0},{"$f":"IF(AP7=0,0,(AP7*((LOG(AP7))/LOG(2))))","v":0},null,{"$f":"N7","v":111},{"$f":"COUNTIF(L160:L189,AS7)","v":0},{"$f":"AT7/(AV4-AT13)","v":0},{"$f":"IF(AU7=0,0,(AU7*((LOG(AU7))/LOG(2))))","v":0}]
[21,143,21,158,22,165,null,null,null,null,0,222,null,112,{"$f":"COUNTIF($L$7:$L$500,N8)","v":1},{"$f":"O8/$Q$4","v":5.4644808743169399E-3},{"$f":"IF(P8=0,0,(P8*((LOG(P8))/LOG(2))))","v":-4.1069398023410066E-2},null,null,{"$f":"N8","v":112},{"$f":"COUNTIF(L7:L37,T8)","v":0},{"$f":"U8/(W4-U13)","v":0},{"$f":"IF(V8=0,0,(V8*((LOG(V8))/LOG(2))))","v":0},null,{"$f":"N8","v":112},{"$f":"COUNTIF(L38:L67,Y8)","v":0},{"$f":"Z8/(AB4-Z13)","v":0},{"$f":"IF(AA8=0,0,(AA8*((LOG(AA8))/LOG(2))))","v":0},null,{"$f":"N8","v":112},{"$f":"COUNTIF(L68:L98,AD8)","v":0},{"$f":"AE8/(AG4-AE13)","v":0},{"$f":"IF(AF8=0,0,(AF8*((LOG(AF8))/LOG(2))))","v":0},null,{"$f":"N8","v":112},{"$f":"COUNTIF(L99:L128,AI8)","v":0},{"$f":"AJ8/(AL4-AJ13)","v":0},{"$f":"IF(AK8=0,0,(AK8*((LOG(AK8))/LOG(2))))","v":0},null,{"$f":"N8","v":112},{"$f":"COUNTIF(L129:L159,AN8)","v":0},{"$f":"AO8/(AQ4-AO13)","v":0},{"$f":"IF(AP8=0,0,(AP8*((LOG(AP8))/LOG(2))))","v":0},null,{"$f":"N8","v":112},{"$f":"COUNTIF(L160:L189,AS8)","v":1},{"$f":"AT8/(AV4-AT13)","v":4.1666666666666664E-2},{"$f":"IF(AU8=0,0,(AU8*((LOG(AU8))/LOG(2))))","v":-0.19104010419671485}]
[21,262,21,273,22,275,null,null,null,null,0,222,null,121,{"$f":"COUNTIF($L$7:$L$500,N9)","v":14},{"$f":"O9/$Q$4","v":7.650273224043716E-2},{"$f":"IF(P9=0,0,(P9*((LOG(P9))/LOG(2))))","v":-0.28369851818125758},null,null,{"$f":"N9","v":121},{"$f":"COUNTIF(L7:L37,T9)","v":2},{"$f":"U9/(W4-U13)","v":7.407407407407407E-2},{"$f":"IF(V9=0,0,(V9*((LOG(V9))/LOG(2))))","v":-0.27813981497507173},null,{"$f":"N9","v":121},{"$f":"COUNTIF(L38:L67,Y9)","v":2},{"$f":"Z9/(AB4-Z13)","v":6.6666666666666666E-2},{"$f":"IF(AA9=0,0,(AA9*((LOG(AA9))/LOG(2))))","v":-0.26045937304056793},null,{"$f":"N9","v":121},{"$f":"COUNTIF(L68:L98,AD9)","v":5},{"$f":"AE9/(AG4-AE13)","v":0.18518518518518517},{"$f":"IF(AF9=0,0,(AF9*((LOG(AF9))/LOG(2))))","v":-0.45054803838446406},null,{"$f":"N9","v":121},{"$f":"COUNTIF(L99:L128,AI9)","v":1},{"$f":"AJ9/(AL4-AJ13)","v":3.7037037037037035E-2},{"$f":"IF(AK9=0,0,(AK9*((LOG(AK9))/LOG(2))))","v":-0.1761069445245729},null,{"$f":"N9","v":121},{"$f":"COUNTIF(L129:L159,AN9)","v":3},{"$f":"AO9/(AQ4-AO13)","v":0.11538461538461539},{"$f":"IF(AP9=0,0,(AP9*((LOG(AP9))/LOG(2))))","v":-0.35947814047153104},null,{"$f":"N9","v":121},{"$f":"COUNTIF(L160:L189,AS9)","v":1},{"$f":"AT9/(AV4-AT13)","v":4.1666666666666664E-2},{"$f":"IF(AU9=0,0,(AU9*((LOG(AU9))/LOG(2))))","v":-0.19104010419671485}]
[12,369,23,372,24,378,null,null,null,null,0,122,null,122,{"$f":"COUNTIF($L$7:$L$500,N10)","v":10},{"$f":"O10/$Q$4","v":5.4644808743169397E-2},{"$f":"IF(P10=0,0,(P10*((LOG(P10))/LOG(2))))","v":-0.22916785483041968},null,null,{"$f":"N10","v":122},{"$f":"COUNTIF(L7:L37,T10)","v":3},{"$f":"U10/(W4-U13)","v":0.1111111111111111},{"$f":"IF(V10=0,0,(V10*((LOG(V10))/LOG(2))))","v":-0.3522138890491458},null,{"$f":"N10","v":122},{"$f":"COUNTIF(L38:L67,Y10)","v":2},{"$f":"Z10/(AB4-Z13)","v":6.6666666666666666E-2},{"$f":"IF(AA10=0,0,(AA10*((LOG(AA10))/LOG(2))))","v":-0.26045937304056793},null,{"$f":"N10","v":122},{"$f":"COUNTIF(L68:L98,AD10)","v":1},{"$f":"AE10/(AG4-AE13)","v":3.7037037037037035E-2},{"$f":"IF(AF10=0,0,(AF10*((LOG(AF10))/LOG(2))))","v":-0.1761069445245729},null,{"$f":"N10","v":122},{"$f":"COUNTIF(L99:L128,AI10)","v":2},{"$f":"AJ10/(AL4-AJ13)","v":7.407407407407407E-2},{"$f":"IF(AK10=0,0,(AK10*((LOG(AK10))/LOG(2))))","v":-0.27813981497507173},null,{"$f":"N10","v":122},{"$f":"COUNTIF(L129:L159,AN10)","v":0},{"$f":"AO10/(AQ4-AO13)","v":0},{"$f":"IF(AP10=0,0,(AP10*((LOG(AP10))/LOG(2))))","v":0},null,{"$f":"N10","v":122},{"$f":"COUNTIF(L160:L189,AS10)","v":2},{"$f":"AT10/(AV4-AT13)","v":8.3333333333333329E-2},{"$f":"IF(AU10=0,0,(AU10*((LOG(AU10))/LOG(2))))","v":-0.29874687506009634}]
[21,606,21,618,22,630,null,null,null,null,0,222,null,211,{"$f":"COUNTIF($L$7:$L$500,N11)","v":1},{"$f":"O11/$Q$4","v":5.4644808743169399E-3},{"$f":"IF(P11=0,0,(P11*((LOG(P11))/LOG(2))))","v":-4.1069398023410066E-2},null,null,{"$f":"N11","v":211},{"$f":"COUNTIF(L7:L37,T11)","v":0},{"$f":"U11/(W4-U13)","v":0},{"$f":"IF(V11=0,0,(V11*((LOG(V11))/LOG(2))))","v":0},null,{"$f":"N11","v":211},{"$f":"COUNTIF(L38:L67,Y11)","v":0},{"$f":"Z11/(AB4-Z13)","v":0},{"$f":"IF(AA11=0,0,(AA11*((LOG(AA11))/LOG(2))))","v":0},null,{"$f":"N11","v":211},{"$f":"COUNTIF(L68:L98,AD11)","v":0},{"$f":"AE11/(AG4-AE13)","v":0},{"$f":"IF(AF11=0,0,(AF11*((LOG(AF11))/LOG(2))))","v":0},null,{"$f":"N11","v":211},{"$f":"COUNTIF(L99:L128,AI11)","v":1},{"$f":"AJ11/(AL4-AJ13)","v":3.7037037037037035E-2},{"$f":"IF(AK11=0,0,(AK11*((LOG(AK11))/LOG(2))))","v":-0.1761069445245729},null,{"$f":"N11","v":211},{"$f":"COUNTIF(L129:L159,AN11)","v":0},{"$f":"AO11/(AQ4-AO13)","v":0},{"$f":"IF(AP11=0,0,(AP11*((LOG(AP11))/LOG(2))))","v":0},null,{"$f":"N11","v":211},{"$f":"COUNTIF(L160:L189,AS11)","v":0},{"$f":"AT11/(AV4-AT13)","v":0},{"$f":"IF(AU11=0,0,(AU11*((LOG(AU11))/LOG(2))))","v":0}]
[21,728,21,740,11,744,null,null,null,null,0,221,null,212,{"$f":"COUNTIF($L$7:$L$500,N12)","v":54},{"$f":"O12/$Q$4","v":0.29508196721311475},{"$f":"IF(P12=0,0,(P12*((LOG(P12))/LOG(2))))","v":-0.51958396803557927},null,null,{"$f":"N12","v":212},{"$f":"COUNTIF(L7:L37,T12)","v":5},{"$f":"U12/(W4-U13)","v":0.18518518518518517},{"$f":"IF(V12=0,0,(V12*((LOG(V12))/LOG(2))))","v":-0.45054803838446406},null,{"$f":"N12","v":212},{"$f":"COUNTIF(L38:L67,Y12)","v":11},{"$f":"Z12/(AB4-Z13)","v":0.36666666666666664},{"$f":"IF(AA12=0,0,(AA12*((LOG(AA12))/LOG(2))))","v":-0.53073495822278116},null,{"$f":"N12","v":212},{"$f":"COUNTIF(L68:L98,AD12)","v":11},{"$f":"AE12/(AG4-AE13)","v":0.40740740740740738},{"$f":"IF(AF12=0,0,(AF12*((LOG(AF12))/LOG(2))))","v":-0.52777832291806981},null,{"$f":"N12","v":212},{"$f":"COUNTIF(L99:L128,AI12)","v":12},{"$f":"AJ12/(AL4-AJ13)","v":0.44444444444444442},{"$f":"IF(AK12=0,0,(AK12*((LOG(AK12))/LOG(2))))","v":-0.51996666730769447},null,{"$f":"N12","v":212},{"$f":"COUNTIF(L129:L159,AN12)","v":11},{"$f":"AO12/(AQ4-AO13)","v":0.42307692307692307},{"$f":"IF(AP12=0,0,(AP12*((LOG(AP12))/LOG(2))))","v":-0.52504188825160547},null,{"$f":"N12","v":212},{"$f":"COUNTIF(L160:L189,AS12)","v":4},{"$f":"AT12/(AV4-AT13)","v":0.16666666666666666},{"$f":"IF(AU12=0,0,(AU12*((LOG(AU12))/LOG(2))))","v":-0.43082708345352599}]
[21,841,12,847,24,852,null,null,null,null,0,212,null,221,{"$f":"COUNTIF($L$7:$L$500,N13)","v":22},{"$f":"O13/$Q$4","v":0.12021857923497267},{"$f":"IF(P13=0,0,(P13*((LOG(P13))/LOG(2))))","v":-0.36742022312693107},null,null,{"$f":"N13","v":221},{"$f":"COUNTIF(L7:L37,T13)","v":4},null,null,null,{"$f":"N13","v":221},{"$f":"COUNTIF(L38:L67,Y13)","v":0},null,null,null,{"$f":"N13","v":221},{"$f":"COUNTIF(L68:L98,AD13)","v":4},null,null,null,{"$f":"N13","v":221},{"$f":"COUNTIF(L99:L128,AI13)","v":3},null,null,null,{"$f":"N13","v":221},{"$f":"COUNTIF(L129:L159,AN13)","v":5},null,null,null,{"$f":"N13","v":221},{"$f":"COUNTIF(L160:L189,AS13)","v":6}]
[21,948,21,953,11,956,null,null,null,null,0,221,null,222,{"$f":"COUNTIF($L$7:$L$500,N14)","v":81},{"$f":"O14/$Q$4","v":0.44262295081967212},{"$f":"IF(P14=0,0,(P14*((LOG(P14))/LOG(2))))","v":-0.52045812386531609},null,null,{"$f":"N14","v":222},{"$f":"COUNTIF(L7:L37,T14)","v":17},{"$f":"U14/(W4-U13)","v":0.62962962962962965},{"$f":"IF(V14=0,0,(V14*((LOG(V14))/LOG(2))))","v":-0.42023034205641457},null,{"$f":"N14","v":222},{"$f":"COUNTIF(L38:L67,Y14)","v":15},{"$f":"Z14/(AB4-Z13)","v":0.5},{"$f":"IF(AA14=0,0,(AA14*((LOG(AA14))/LOG(2))))","v":-0.5},null,{"$f":"N14","v":222},{"$f":"COUNTIF(L68:L98,AD14)","v":10},{"$f":"AE14/(AG4-AE13)","v":0.37037037037037035},{"$f":"IF(AF14=0,0,(AF14*((LOG(AF14))/LOG(2))))","v":-0.53072570639855787},null,{"$f":"N14","v":222},{"$f":"COUNTIF(L99:L128,AI14)","v":11},{"$f":"AJ14/(AL4-AJ13)","v":0.40740740740740738},{"$f":"IF(AK14=0,0,(AK14*((LOG(AK14))/LOG(2))))","v":-0.52777832291806981},null,{"$f":"N14","v":222},{"$f":"COUNTIF(L129:L159,AN14)","v":12},{"$f":"AO14/(AQ4-AO13)","v":0.46153846153846156},{"$f":"IF(AP14=0,0,(AP14*((LOG(AP14))/LOG(2))))","v":-0.51483563880920125},null,{"$f":"N14","v":222},{"$f":"COUNTIF(L160:L189,AS14)","v":16},{"$f":"AT14/(AV4-AT13)","v":0.66666666666666663},{"$f":"IF(AU14=0,0,(AU14*((LOG(AU14))/LOG(2))))","v":-0.38997500048077083}]
[21,1078,21,1082,22,1091,null,null,null,null,0,222,null,null,null,{"$f":"SUM(P7:P14)","v":1},{"$f":"-SUM(Q7:Q14)","v":2.0024674840863237},null,null,null,null,{"$f":"SUM(V7:V14)","v":1},{"$f":"-SUM(W7:W14)","v":1.5011320844650962},null,null,null,{"$f":"SUM(AA7:AA14)","v":1},{"$f":"-SUM(AB7:AB14)","v":1.5516537043039169},null,null,null,{"$f":"SUM(AF7:AF14)","v":0.99999999999999989},{"$f":"-SUM(AG7:AG14)","v":1.6851590122256646},null,null,null,{"$f":"SUM(AK7:AK14)","v":1},{"$f":"-SUM(AL7:AL14)","v":1.6780986942499818},null,null,null,{"$f":"SUM(AP7:AP14)","v":1},{"$f":"-SUM(AQ7:AQ14)","v":1.3993556675323378},null,null,null,{"$f":"SUM(AU7:AU14)","v":1},{"$f":"-SUM(AV7:AV14)","v":1.501629167387823}]
[21,1188,21,1202,22,1209,null,null,null,null,0,222,null,null,null,"U=",{"$f":"Q15/(LOG(Q4)/LOG(2))","v":0.26643792689617579},null,null,null,null,"U1=",{"$f":"W15/(LOG(W4)/LOG(2))","v":0.30300214008836324},null,null,null,"U2=",{"$f":"AB15/(LOG(AB4)/LOG(2))","v":0.31621933973677513},null,null,null,"U3=",{"$f":"AG15/(LOG(AG4)/LOG(2))","v":0.34014780736334405},null,null,null,"U4=",{"$f":"AL15/(LOG(AL4)/LOG(2))","v":0.34198820241719197},null,null,null,"U5=",{"$f":"AQ15/(LOG(AQ4)/LOG(2))","v":0.282458663294887},null,null,null,"U6=",{"$f":"AV15/(LOG(AV4)/LOG(2))","v":0.306024586880279}]
[21,1305,21,1315,11,1330,null,null,null,null,0,221]
[21,1432,21,1446,22,1454,null,null,null,null,0,222]
[21,1555,21,1557,22,1564,null,null,null,null,0,222,null,"Total Target Seq"]
[12,1657,23,1660,24,1669,null,null,null,null,0,122,null,{"$f":"COUNTIF(L7:L189,G3)","v":22},null,31,30,31,30,31,30]
[21,1766,21,1777,22,1781,null,null,null,null,0,222,null,null,null,"% of reinforcement given in 6 equal intervals based on number of trials "]
[21,1877,12,1884,24,1893,null,null,null,null,0,212,null,null,null,"%_1","%_2","%_3","%_4","%_5","%_6"]
[21,1988,12,2000,24,2006,null,null,null,null,0,212,null,null,"target sequence",{"$f":"$G$3","v":221},{"$f":"$G$3","v":221},{"$f":"$G$3","v":221},{"$f":"$G$3","v":221},{"$f":"$G$3","v":221},{"$f":"$G$3","v":221}]
[21,2102,21,2105,22,2120,null,null,null,null,0,222,null,null,"total reinforcement",{"$f":"U13","v":4},{"$f":"Z13","v":0},{"$f":"AE13","v":4},{"$f":"AJ13","v":3},{"$f":"AO13","v":5},{"$f":"AT13","v":6}]
[21,2216,21,2223,22,2234,null,null,null,null,0,222,null,null,"% target"]
[12,2327,23,2330,13,2335,null,null,null,null,0,121,null,null,"CCRF"]
[21,2459,21,2472,22,2480,null,null,null,null,0,222,null,null,"% CCRf"]
[21,2575,12,2583,24,2593,null,null,null,null,0,212,null,null,"average response rate",{"$f":"F37/P20","v":118.7741935483871},{"$f":"(F67-F37)/Q20","v":106.26666666666667},{"$f":"(F98-F67)/R20","v":141.32258064516128},{"$f":"(F128-F98)/S20","v":136.86666666666667},{"$f":"(F159-F128)/T20","v":128.45161290322579},{"$f":"(F189-F159)/U20","v":145.43333333333334}]
[21,2691,21,2692,22,2704,null,null,null,null,0,222]
[21,2800,21,2822,22,2826,null,null,null,null,0,222]
[21,2921,12,2928,24,2931,null,null,null,null,0,212]
[12,3025,23,3028,13,3035,null,null,null,null,0,121]
[12,3129,23,3131,24,3138,null,null,null,null,0,122]
[21,3234,21,3244,22,3250,null,null,null,null,0,222]
[21,3347,21,3351,11,3357,null,null,null,null,0,221]
[21,3551,21,3557,22,3573,null,null,null,null,0,222]
[21,3669,21,3677,22,3682,null,null,null,null,0,222]
[21,3780,21,3789,22,3794,null,null,null,null,0,222]
[21,3890,12,3895,24,3899,null,null,null,null,0,212]
[21,3995,12,4002,24,4006,null,null,null,null,0,212]
[21,4102,21,4109,22,4115,null,null,null,null,0,222]
[21,4212,12,4222,24,4226,null,null,null,null,0,212]
[21,4322,21,4335,22,4344,null,null,null,null,0,222]
[21,4440,12,4455,24,4457,null,null,null,null,0,212]
[21,4552,21,4557,22,4566,null,null,null,null,0,222]
[21,4661,21,4665,22,4669,null,null,null,null,0,222]
[21,4765,12,4768,24,4774,null,null,null,null,0,212]
[21,4866,12,4873,24,4877,null,null,null,null,0,212]
[21,4972,21,4976,22,4980,null,null,null,null,0,222]
[12,5073,23,5076,24,5081,null,null,null,null,0,122]
[12,5174,23,5177,24,5180,null,null,null,null,0,122]
[21,5276,21,5280,22,5283,null,null,null,null,0,222]
[21,5379,21,5388,22,5392,null,null,null,null,0,222]
[12,5485,23,5488,13,5497,null,null,null,null,0,121]
[21,5594,21,5598,22,5601,null,null,null,null,0,222]
[21,5697,21,5700,22,5703,null,null,null,null,0,222]
[21,5799,12,5805,24,5807,null,null,null,null,0,212]
[21,5903,12,5909,24,5916,null,null,null,null,0,212]
[21,6012,21,6016,22,6025,null,null,null,null,0,222]
[21,6121,12,6130,24,6134,null,null,null,null,0,212]
[21,6231,21,6235,22,6238,null,null,null,null,0,222]
[21,6335,21,6340,22,6344,null,null,null,null,0,222]
[21,6442,21,6446,22,6450,null,null,null,null,0,222]
[12,6543,23,6547,13,6553,null,null,null,null,0,121]
[21,6649,21,6651,22,6656,null,null,null,null,0,222]
[21,6752,12,6758,24,6764,null,null,null,null,0,212]
[21,6860,12,6864,24,6870,null,null,null,null,0,212]
[21,6969,12,6974,24,6982,null,null,null,null,0,212]
[21,7078,21,7080,22,7084,null,null,null,null,0,222]
[12,7177,23,7181,24,7190,null,null,null,null,0,122]
[12,7283,23,7286,13,7292,null,null,null,null,0,121]
[21,7393,21,7409,22,7417,null,null,null,null,0,222]
[12,7509,23,7513,13,7520,null,null,null,null,0,121]
[21,7617,12,7623,24,7625,null,null,null,null,0,212]
[21,7721,21,7725,22,7730,null,null,null,null,0,222]
[21,7964,21,7978,22,7984,null,null,null,null,0,222]
[21,8081,21,8090,22,8096,null,null,null,null,0,222]
[21,8192,21,8204,11,8207,null,null,null,null,0,221]
[21,8571,21,8576,22,8586,null,null,null,null,0,222]
[21,8682,12,8689,24,8697,null,null,null,null,0,212]
[21,8793,12,8802,24,8806,null,null,null,null,0,212]
[12,8899,23,8903,13,8916,null,null,null,null,0,121]
[21,9012,12,9018,24,9023,null,null,null,null,0,212]
[21,9118,21,9123,11,9125,null,null,null,null,0,221]
[21,9522,12,9532,24,9539,null,null,null,null,0,212]
[12,9631,23,9635,13,9639,null,null,null,null,0,121]
[21,9736,12,9743,24,9754,null,null,null,null,0,212]
[12,9847,23,9850,13,9857,null,null,null,null,0,121]
[21,9954,12,9970,24,9972,null,null,null,null,0,212]
[21,10069,21,10077,22,10083,null,null,null,null,0,222]
[21,10179,21,10183,22,10189,null,null,null,null,0,222]
[21,10285,21,10288,11,10293,null,null,null,null,0,221]
[21,10589,21,10597,22,10602,null,null,null,null,0,222]
[21,10701,12,10707,24,10710,null,null,null,null,0,212]
[21,10806,21,10810,11,10815,null,null,null,null,0,221]
[21,11031,21,11038,22,11044,null,null,null,null,0,222]
[21,11137,12,11140,24,11141,null,null,null,null,0,212]
[21,11237,12,11244,24,11251,null,null,null,null,0,212]
[21,11346,21,11354,22,11360,null,null,null,null,0,222]
[21,11457,21,11466,22,11473,null,null,null,null,0,222]
[12,11565,23,11569,13,11573,null,null,null,null,0,121]
[21,11670,21,11674,22,11678,null,null,null,null,0,222]
[21,11769,21,11775,11,11782,null,null,null,null,0,221]
[21,12147,21,12158,22,12165,null,null,null,null,0,222]
[21,12267,12,12273,24,12282,null,null,null,null,0,212]
[21,12379,12,12383,24,12390,null,null,null,null,0,212]
[21,12483,21,12488,22,12492,null,null,null,null,0,222]
[21,12584,12,12586,24,12592,null,null,null,null,0,212]
[21,12688,21,12699,22,12704,null,null,null,null,0,222]
[21,12800,12,12808,24,12815,null,null,null,null,0,212]
[21,12911,21,12919,22,12925,null,null,null,null,0,222]
[21,13022,21,13034,22,13040,null,null,null,null,0,222]
[21,13137,12,13142,24,13145,null,null,null,null,0,212]
[21,13241,21,13245,22,13249,null,null,null,null,0,222]
[21,13370,12,13381,24,13384,null,null,null,null,0,212]
[21,13480,12,13487,24,13490,null,null,null,null,0,212]
[21,13586,12,13593,13,13596,null,null,null,null,0,211]
[21,13693,12,13700,24,13703,null,null,null,null,0,212]
[12,13797,23,13799,24,13803,null,null,null,null,0,122]
[21,13899,12,13904,24,13906,null,null,null,null,0,212]
[21,13999,21,14002,11,14011,null,null,null,null,0,221]
[21,14417,21,14422,22,14428,null,null,null,null,0,222]
[21,14524,12,14531,24,14533,null,null,null,null,0,212]
[21,14628,21,14640,11,14644,null,null,null,null,0,221]
[21,15021,21,15028,22,15035,null,null,null,null,0,222]
[12,15133,23,15138,24,15145,null,null,null,null,0,122]
[21,15241,12,15248,24,15249,null,null,null,null,0,212]
[21,15344,12,15355,24,15357,null,null,null,null,0,212]
[21,15451,12,15461,24,15463,null,null,null,null,0,212]
[21,15559,12,15570,24,15573,null,null,null,null,0,212]
[21,15669,21,15674,11,15677,null,null,null,null,0,221]
[21,15872,21,15878,22,15886,null,null,null,null,0,222]
[21,15980,12,15985,24,15988,null,null,null,null,0,212]
[12,16083,23,16091,13,16094,null,null,null,null,0,121]
[21,16187,12,16193,24,16195,null,null,null,null,0,212]
[21,16291,21,16293,22,16299,null,null,null,null,0,222]
[21,16395,12,16400,24,16404,null,null,null,null,0,212]
[21,16501,21,16511,22,16515,null,null,null,null,0,222]
[21,16611,21,16621,22,16628,null,null,null,null,0,222]
[12,16720,23,16723,13,16729,null,null,null,null,0,121]
[21,16826,12,16831,24,16834,null,null,null,null,0,212]
[21,16931,12,16935,24,16943,null,null,null,null,0,212]
[21,17039,12,17047,24,17049,null,null,null,null,0,212]
[21,17170,21,17173,22,17185,null,null,null,null,0,222]
[21,17277,12,17278,24,17285,null,null,null,null,0,212]
[21,17387,21,17392,22,17399,null,null,null,null,0,222]
[21,17495,21,17505,11,17507,null,null,null,null,0,221]
[21,17873,21,17885,22,17897,null,null,null,null,0,222]
[12,17989,23,17992,13,17997,null,null,null,null,0,121]
[21,18090,21,18092,11,18100,null,null,null,null,0,221]
[21,18272,21,18279,22,18286,null,null,null,null,0,222]
[21,18382,12,18388,24,18396,null,null,null,null,0,212]
[21,18492,21,18503,11,18504,null,null,null,null,0,221]
[21,18692,21,18698,22,18703,null,null,null,null,0,222]
[21,18808,21,18819,22,18827,null,null,null,null,0,222]
[21,18925,12,18928,24,18930,null,null,null,null,0,212]
[21,19025,21,19029,11,19031,null,null,null,null,0,221]
[21,19219,21,19224,22,19231,null,null,null,null,0,222]
[21,19329,21,19333,22,19339,null,null,null,null,0,222]
[21,19435,21,19439,11,19441,null,null,null,null,0,221]
[21,19661,21,19666,22,19679,null,null,null,null,0,222]
[21,19774,12,19776,24,19779,null,null,null,null,0,212]
[12,19871,23,19878,24,19884,null,null,null,null,0,122]
[21,19984,21,19989,22,19995,null,null,null,null,0,222]
[21,20092,21,20096,22,20103,null,null,null,null,0,222]
[21,20199,21,20208,11,20213,null,null,null,null,0,221]
[21,20460,21,20465,22,20472,null,null,null,null,0,222]
[21,20567,21,20577,22,20583,null,null,null,null,0,222]
[21,20695,21,20706,22,20711,null,null,null,null,0,222]
[21,20807,21,20809,11,20814,null,null,null,null,0,221]
[21,21045,21,21055,22,21061,null,null,null,null,0,222]
[12,21153,23,21156,24,21160,null,null,null,null,0,122]
[21,21408,21,21421,22,21428,null,null,null,null,0,222]
[21,21522,21,21530,11,21535,null,null,null,null,0,221]
[21,21767,21,21773,22,21781,null,null,null,null,0,222]
[21,21886,21,21891,22,21898,null,null,null,null,0,222]
[21,21993,21,21998,22,22003,null,null,null,null,0,222]
[21,22101,12,22112,24,22118,null,null,null,null,0,212]
[12,22211,14,22220,24,22222,null,null,null,null,0,112]
[21,22318,21,22330,22,22336,null,null,null,null,0,222]
[21,22428,12,22435,24,22450,null,null,null,null,0,212]
[21,22545,21,22549,22,22552,null,null,null,null,0,222]
[21,22647,21,22653,22,22659,null,null,null,null,0,222]
[21,22755,12,22762,24,22768,null,null,null,null,0,212]
[21,22864,21,22876,11,22880,null,null,null,null,0,221]
[21,23354,21,23375,22,23381,null,null,null,null,0,222]
[21,23476,21,23483,22,23487,null,null,null,null,0,222]
[12,23580,23,23592,13,23594,null,null,null,null,0,121]
[21,23689,21,23696,11,23702,null,null,null,null,0,221]

{"sheet":"!MA03940.Gus","index":12,"n_rows":191,"n_cols":48,"rows_kept":191,"cut":false,"hidden":false,"merged":[[4,39,4,42],[5,39,5,40],[4,44,4,47],[5,44,5,45],[4,24,4,27],[5,24,5,25],[4,29,4,32],[5,29,5,30],[4,34,4,37],[5,34,5,35],[1,1,1,2],[5,13,5,14],[18,13,18,14],[19,13,19,14],[4,19,4,22],[5,19,5,20]]}
["Report for:!MA03940.Gus"]
["Date:","<date>"]
["Hen:","<hen>",null,null,null,"Correct Sequence",{"$f":"Start!J2","v":221},null,null,null,null,null,null,null,null,"Total Sequences in Data",{"$f":"4994-COUNTBLANK(L7:L5000)","v":185},null,null,null,null,"Total Sequences in Block Data",{"$f":"COUNTA(L7:L37)","v":31},null,null,null,"Total Sequences in Block Data",{"$f":"COUNTA(L38:L68)","v":31},null,null,null,"Total Sequences in Block Data",{"$f":"COUNTA(L69:L98)","v":30},null,null,null,"Total Sequences in Block Data",{"$f":"COUNTA(L99:L129)","v":31},null,null,null,"Total Sequences in Block Data",{"$f":"COUNTA(L130:L160)","v":31},null,null,null,"Total Sequences in Block Data",{"$f":"COUNTA(L161:L191)","v":31}]
[null,null,null,null,null,null,null,null,null,null,null,null,null,null,null,"Total Sequences in Summary",{"$f":"SUM(O7:O14)","v":185},null,null,null,null,"Total Sequences in Block Summary",{"$f":"SUM(U7:U14)","v":31},null,null,null,"Total Sequences in Block Summary",{"$f":"SUM(Z7:Z14)","v":31},null,null,null,"Total Sequences in Block Summary",{"$f":"SUM(AE7:AE14)","v":30},null,null,null,"Total Sequences in Block Summary",{"$f":"SUM(AJ7:AJ14)","v":31},null,null,null,"Total Sequences in Block Summary",{"$f":"SUM(AO7:AO14)","v":31},null,null,null,"Total Sequences in Block Summary",{"$f":"SUM(AT7:AT14)","v":31}]
[null,null,null,null,null,null,null,null,null,null,null,null,null,null,null,null,null,null,null,"Block 1",null,null,null,null,"Block 2",null,null,null,null,"Block 3",null,null,null,null,"Block 4",null,null,null,null,"Block 5",null,null,null,null,"Block 6"]
["Sequence\nComponent\n1","Time\n1","Sequence\nComponent\n2","Time\n2","Sequence\nComponent\n3","Time\n3","Sequence\nComponent\n4","Time\n4","Sequence\nComponent\n5","Time\n5","Correct?\n0=No 1=Yes","Sequence",null,"Frequency",null,"Relative Frequency","Variability",null,null,"Frequency",null,"Relative Frequency","Variability",null,"Frequency",null,"Relative Frequency","Variability",null,"Frequency",null,"Relative Frequency","Variability",null,"Frequency",null,"Relative Frequency","Variability",null,"Frequency",null,"Relative Frequency","Variability",null,"Frequency",null,"Relative Frequency","Variability"]
[21,8,21,14,22,26,null,null,null,null,0,222,null,111,{"$f":"COUNTIF($L$7:$L$500,N7)","v":0},{"$f":"O7/$Q$4","v":0},{"$f":"IF(P7=0,0,(P7*((LOG(P7))/LOG(2))))","v":0},null,null,{"$f":"N7","v":111},{"$f":"COUNTIF(L7:L37,T7)","v":0},{"$f":"U7/(W4-U13)","v":0},{"$f":"IF(V7=0,0,(V7*((LOG(V7))/LOG(2))))","v":0},null,{"$f":"N7","v":111},{"$f":"COUNTIF(L38:L68,Y7)","v":0},{"$f":"Z7/(AB4-Z13)","v":0},{"$f":"IF(AA7=0,0,(AA7*((LOG(AA7))/LOG(2))))","v":0},null,{"$f":"N7","v":111},{"$f":"COUNTIF(L69:L98,AD7)","v":0},{"$f":"AE7/(AG4-AE13)","v":0},{"$f":"IF(AF7=0,0,(AF7*((LOG(AF7))/LOG(2))))","v":0},null,{"$f":"N7","v":111},{"$f":"COUNTIF(L99:L129,AI7)","v":0},{"$f":"AJ7/(AL4-AJ13)","v":0},{"$f":"IF(AK7=0,0,(AK7*((LOG(AK7))/LOG(2))))","v":0},null,{"$f":"N7","v":111},{"$f":"COUNTIF(L130:L160,AN7)","v":0},{"$f":"AO7/(AQ4-AO13)","v":0},{"$f":"IF(AP7=0,0,(AP7*((LOG(AP7))/LOG(2))))","v":0},null,{"$f":"N7","v":111},{"$f":"COUNTIF(L161:L191,AS7)","v":0},{"$f":"AT7/(AV4-AT13)","v":0},{"$f":"IF(AU7=0,0,(AU7*((LOG(AU7))/LOG(2))))","v":0}]
[21,123,21,127,22,136,null,null,null,null,0,222,null,112,{"$f":"COUNTIF($L$7:$L$500,N8)","v":3},{"$f":"O8/$Q$4","v":1.6216216216216217E-2},{"$f":"IF(P8=0,0,(P8*((LOG(P8))/LOG(2))))","v":-9.6428415564245779E-2},null,null,{"$f":"N8","v":112},{"$f":"COUNTIF(L7:L37,T8)","v":0},{"$f":"U8/(W4-U13)","v":0},{"$f":"IF(V8=0,0,(V8*((LOG(V8))/LOG(2))))","v":0},null,{"$f":"N8","v":112},{"$f":"COUNTIF(L38:L68,Y8)","v":1},{"$f":"Z8/(AB4-Z13)","v":3.7037037037037035E-2},{"$f":"IF(AA8=0,0,(AA8*((LOG(AA8))/LOG(2))))","v":-0.1761069445245729},null,{"$f":"N8","v":112},{"$f":"COUNTIF(L69:L98,AD8)","v":0},{"$f":"AE8/(AG4-AE13)","v":0},{"$f":"IF(AF8=0,0,(AF8*((LOG(AF8))/LOG(2))))","v":0},null,{"$f":"N8","v":112},{"$f":"COUNTIF(L99:L129,AI8)","v":0},{"$f":"AJ8/(AL4-AJ13)","v":0},{"$f":"IF(AK8=0,0,(AK8*((LOG(AK8))/LOG(2))))","v":0},null,{"$f":"N8","v":112},{"$f":"COUNTIF(L130:L160,AN8)","v":2},{"$f":"AO8/(AQ4-AO13)","v":7.6923076923076927E-2},{"$f":"IF(AP8=0,0,(AP8*((LOG(AP8))/LOG(2))))","v":-0.28464920908777636},null,{"$f":"N8","v":112},{"$f":"COUNTIF(L161:L191,AS8)","v":0},{"$f":"AT8/(AV4-AT13)","v":0},{"$f":"IF(AU8=0,0,(AU8*((LOG(AU8))/LOG(2))))","v":0}]
[21,234,21,247,22,254,null,null,null,null,0,222,null,121,{"$f":"COUNTIF($L$7:$L$500,N9)","v":2},{"$f":"O9/$Q$4","v":1.0810810810810811E-2},{"$f":"IF(P9=0,0,(P9*((LOG(P9))/LOG(2))))","v":-7.0609529302879045E-2},null,null,{"$f":"N9","v":121},{"$f":"COUNTIF(L7:L37,T9)","v":1},{"$f":"U9/(W4-U13)","v":3.7037037037037035E-2},{"$f":"IF(V9=0,0,(V9*((LOG(V9))/LOG(2))))","v":-0.1761069445245729},null,{"$f":"N9","v":121},{"$f":"COUNTIF(L38:L68,Y9)","v":0},{"$f":"Z9/(AB4-Z13)","v":0},{"$f":"IF(AA9=0,0,(AA9*((LOG(AA9))/LOG(2))))","v":0},null,{"$f":"N9","v":121},{"$f":"COUNTIF(L69:L98,AD9)","v":1},{"$f":"AE9/(AG4-AE13)","v":3.8461538461538464E-2},{"$f":"IF(AF9=0,0,(AF9*((LOG(AF9))/LOG(2))))","v":-0.18078614300542661},null,{"$f":"N9","v":121},{"$f":"COUNTIF(L99:L129,AI9)","v":0},{"$f":"AJ9/(AL4-AJ13)","v":0},{"$f":"IF(AK9=0,0,(AK9*((LOG(AK9))/LOG(2))))","v":0},null,{"$f":"N9","v":121},{"$f":"COUNTIF(L130:L160,AN9)","v":0},{"$f":"AO9/(AQ4-AO13)","v":0},{"$f":"IF(AP9=0,0,(AP9*((LOG(AP9))/LOG(2))))","v":0},null,{"$f":"N9","v":121},{"$f":"COUNTIF(L161:L191,AS9)","v":0},{"$f":"AT9/(AV4-AT13)","v":0},{"$f":"IF(AU9=0,0,(AU9*((LOG(AU9))/LOG(2))))","v":0}]
[21,350,21,375,11,379,null,null,null,null,0,221,null,122,{"$f":"COUNTIF($L$7:$L$500,N10)","v":17},{"$f":"O10/$Q$4","v":9.1891891891891897E-2},{"$f":"IF(P10=0,0,(P10*((LOG(P10))/LOG(2))))","v":-0.31646819744606236},null,null,{"$f":"N10","v":122},{"$f":"COUNTIF(L7:L37,T10)","v":2},{"$f":"U10/(W4-U13)","v":7.407407407407407E-2},{"$f":"IF(V10=0,0,(V10*((LOG(V10))/LOG(2))))","v":-0.27813981497507173},null,{"$f":"N10","v":122},{"$f":"COUNTIF(L38:L68,Y10)","v":3},{"$f":"Z10/(AB4-Z13)","v":0.1111111111111111},{"$f":"IF(AA10=0,0,(AA10*((LOG(AA10))/LOG(2))))","v":-0.3522138890491458},null,{"$f":"N10","v":122},{"$f":"COUNTIF(L69:L98,AD10)","v":3},{"$f":"AE10/(AG4-AE13)","v":0.11538461538461539},{"$f":"IF(AF10=0,0,(AF10*((LOG(AF10))/LOG(2))))","v":-0.35947814047153104},null,{"$f":"N10","v":122},{"$f":"COUNTIF(L99:L129,AI10)","v":3},{"$f":"AJ10/(AL4-AJ13)","v":0.11538461538461539},{"$f":"IF(AK10=0,0,(AK10*((LOG(AK10))/LOG(2))))","v":-0.35947814047153104},null,{"$f":"N10","v":122},{"$f":"COUNTIF(L130:L160,AN10)","v":2},{"$f":"AO10/(AQ4-AO13)","v":7.6923076923076927E-2},{"$f":"IF(AP10=0,0,(AP10*((LOG(AP10))/LOG(2))))","v":-0.28464920908777636},null,{"$f":"N10","v":122},{"$f":"COUNTIF(L161:L191,AS10)","v":4},{"$f":"AT10/(AV4-AT13)","v":0.15384615384615385},{"$f":"IF(AU10=0,0,(AU10*((LOG(AU10))/LOG(2))))","v":-0.4154522643293988}]
[21,539,21,548,22,555,null,null,null,null,0,222,null,211,{"$f":"COUNTIF($L$7:$L$500,N11)","v":2},{"$f":"O11/$Q$4","v":1.0810810810810811E-2},{"$f":"IF(P11=0,0,(P11*((LOG(P11))/LOG(2))))","v":-7.0609529302879045E-2},null,null,{"$f":"N11","v":211},{"$f":"COUNTIF(L7:L37,T11)","v":1},{"$f":"U11/(W4-U13)","v":3.7037037037037035E-2},{"$f":"IF(V11=0,0,(V11*((LOG(V11))/LOG(2))))","v":-0.1761069445245729},null,{"$f":"N11","v":211},{"$f":"COUNTIF(L38:L68,Y11)","v":1},{"$f":"Z11/(AB4-Z13)","v":3.7037037037037035E-2},{"$f":"IF(AA11=0,0,(AA11*((LOG(AA11))/LOG(2))))","v":-0.1761069445245729},null,{"$f":"N11","v":211},{"$f":"COUNTIF(L69:L98,AD11)","v":0},{"$f":"AE11/(AG4-AE13)","v":0},{"$f":"IF(AF11=0,0,(AF11*((LOG(AF11))/LOG(2))))","v":0},null,{"$f":"N11","v":211},{"$f":"COUNTIF(L99:L129,AI11)","v":0},{"$f":"AJ11/(AL4-AJ13)","v":0},{"$f":"IF(AK11=0,0,(AK11*((LOG(AK11))/LOG(2))))","v":0},null,{"$f":"N11","v":211},{"$f":"COUNTIF(L130:L160,AN11)","v":0},{"$f":"AO11/(AQ4-AO13)","v":0},{"$f":"IF(AP11=0,0,(AP11*((LOG(AP11))/LOG(2))))","v":0},null,{"$f":"N11","v":211},{"$f":"COUNTIF(L161:L191,AS11)","v":0},{"$f":"AT11/(AV4-AT13)","v":0},{"$f":"IF(AU11=0,0,(AU11*((LOG(AU11))/LOG(2))))","v":0}]
[21,647,12,658,24,661,null,null,null,null,0,212,null,212,{"$f":"COUNTIF($L$7:$L$500,N12)","v":37},{"$f":"O12/$Q$4","v":0.2},{"$f":"IF(P12=0,0,(P12*((LOG(P12))/LOG(2))))","v":-0.46438561897747244},null,null,{"$f":"N12","v":212},{"$f":"COUNTIF(L7:L37,T12)","v":2},{"$f":"U12/(W4-U13)","v":7.407407407407407E-2},{"$f":"IF(V12=0,0,(V12*((LOG(V12))/LOG(2))))","v":-0.27813981497507173},null,{"$f":"N12","v":212},{"$f":"COUNTIF(L38:L68,Y12)","v":4},{"$f":"Z12/(AB4-Z13)","v":0.14814814814814814},{"$f":"IF(AA12=0,0,(AA12*((LOG(AA12))/LOG(2))))","v":-0.40813148180199532},null,{"$f":"N12","v":212},{"$f":"COUNTIF(L69:L98,AD12)","v":9},{"$f":"AE12/(AG4-AE13)","v":0.34615384615384615},{"$f":"IF(AF12=0,0,(AF12*((LOG(AF12))/LOG(2))))","v":-0.52979355578034681},null,{"$f":"N12","v":212},{"$f":"COUNTIF(L99:L129,AI12)","v":6},{"$f":"AJ12/(AL4-AJ13)","v":0.23076923076923078},{"$f":"IF(AK12=0,0,(AK12*((LOG(AK12))/LOG(2))))","v":-0.48818705017383146},null,{"$f":"N12","v":212},{"$f":"COUNTIF(L130:L160,AN12)","v":10},{"$f":"AO12/(AQ4-AO13)","v":0.38461538461538464},{"$f":"IF(AP12=0,0,(AP12*((LOG(AP12))/LOG(2))))","v":-0.53019677817451139},null,{"$f":"N12","v":212},{"$f":"COUNTIF(L161:L191,AS12)","v":6},{"$f":"AT12/(AV4-AT13)","v":0.23076923076923078},{"$f":"IF(AU12=0,0,(AU12*((LOG(AU12))/LOG(2))))","v":-0.48818705017383146}]
[12,760,23,764,24,774,null,null,null,null,0,122,null,221,{"$f":"COUNTIF($L$7:$L$500,N13)","v":27},{"$f":"O13/$Q$4","v":0.14594594594594595},{"$f":"IF(P13=0,0,(P13*((LOG(P13))/LOG(2))))","v":-0.40521803716500965},null,null,{"$f":"N13","v":221},{"$f":"COUNTIF(L7:L37,T13)","v":4},null,null,null,{"$f":"N13","v":221},{"$f":"COUNTIF(L38:L68,Y13)","v":4},null,null,null,{"$f":"N13","v":221},{"$f":"COUNTIF(L69:L98,AD13)","v":4},null,null,null,{"$f":"N13","v":221},{"$f":"COUNTIF(L99:L129,AI13)","v":5},null,null,null,{"$f":"N13","v":221},{"$f":"COUNTIF(L130:L160,AN13)","v":5},null,null,null,{"$f":"N13","v":221},{"$f":"COUNTIF(L161:L191,AS13)","v":5}]
[21,872,21,876,22,888,null,null,null,null,0,222,null,222,{"$f":"COUNTIF($L$7:$L$500,N14)","v":97},{"$f":"O14/$Q$4","v":0.5243243243243243},{"$f":"IF(P14=0,0,(P14*((LOG(P14))/LOG(2))))","v":-0.48839165393476158},null,null,{"$f":"N14","v":222},{"$f":"COUNTIF(L7:L37,T14)","v":21},{"$f":"U14/(W4-U13)","v":0.77777777777777779},{"$f":"IF(V14=0,0,(V14*((LOG(V14))/LOG(2))))","v":-0.28199895063255082},null,{"$f":"N14","v":222},{"$f":"COUNTIF(L38:L68,Y14)","v":18},{"$f":"Z14/(AB4-Z13)","v":0.66666666666666663},{"$f":"IF(AA14=0,0,(AA14*((LOG(AA14))/LOG(2))))","v":-0.38997500048077083},null,{"$f":"N14","v":222},{"$f":"COUNTIF(L69:L98,AD14)","v":13},{"$f":"AE14/(AG4-AE13)","v":0.5},{"$f":"IF(AF14=0,0,(AF14*((LOG(AF14))/LOG(2))))","v":-0.5},null,{"$f":"N14","v":222},{"$f":"COUNTIF(L99:L129,AI14)","v":17},{"$f":"AJ14/(AL4-AJ13)","v":0.65384615384615385},{"$f":"IF(AK14=0,0,(AK14*((LOG(AK14))/LOG(2))))","v":-0.40079257335164603},null,{"$f":"N14","v":222},{"$f":"COUNTIF(L130:L160,AN14)","v":12},{"$f":"AO14/(AQ4-AO13)","v":0.46153846153846156},{"$f":"IF(AP14=0,0,(AP14*((LOG(AP14))/LOG(2))))","v":-0.51483563880920125},null,{"$f":"N14","v":222},{"$f":"COUNTIF(L161:L191,AS14)","v":16},{"$f":"AT14/(AV4-AT13)","v":0.61538461538461542},{"$f":"IF(AU14=0,0,(AU14*((LOG(AU14))/LOG(2))))","v":-0.43103982654836437}]
[21,980,12,983,13,996,null,null,null,null,0,211,null,null,null,{"$f":"SUM(P7:P14)","v":1},{"$f":"-SUM(Q7:Q14)","v":1.91211098169331},null,null,null,null,{"$f":"SUM(V7:V14)","v":1},{"$f":"-SUM(W7:W14)","v":1.1904924696318402},null,null,null,{"$f":"SUM(AA7:AA14)","v":1},{"$f":"-SUM(AB7:AB14)","v":1.5025342603810579},null,null,null,{"$f":"SUM(AF7:AF14)","v":1},{"$f":"-SUM(AG7:AG14)","v":1.5700578392573044},null,null,null,{"$f":"SUM(AK7:AK14)","v":1},{"$f":"-SUM(AL7:AL14)","v":1.2484577639970085},null,null,null,{"$f":"SUM(AP7:AP14)","v":1},{"$f":"-SUM(AQ7:AQ14)","v":1.6143308351592653},null,null,null,{"$f":"SUM(AU7:AU14)","v":1},{"$f":"-SUM(AV7:AV14)","v":1.3346791410515946}]
[21,1089,21,1105,22,1111,null,null,null,null,0,222,null,null,null,"U=",{"$f":"Q15/(LOG(Q4)/LOG(2))","v":0.25388582316772279},null,null,null,null,"U1=",{"$f":"W15/(LOG(W4)/LOG(2))","v":0.24029981757805521},null,null,null,"U2=",{"$f":"AB15/(LOG(AB4)/LOG(2))","v":0.30328516801622751},null,null,null,"U3=",{"$f":"AG15/(LOG(AG4)/LOG(2))","v":0.31997001128626074},null,null,null,"U4=",{"$f":"AL15/(LOG(AL4)/LOG(2))","v":0.25200005929912694},null,null,null,"U5=",{"$f":"AQ15/(LOG(AQ4)/LOG(2))","v":0.32585120451821614},null,null,null,"U6=",{"$f":"AV15/(LOG(AV4)/LOG(2))","v":0.26940376550144601}]
[21,1208,21,1213,22,1220,null,null,null,null,0,222]
[21,1317,21,1319,22,1322,null,null,null,null,0,222]
[21,1420,21,1424,22,1429,null,null,null,null,0,222,null,"Total Target Seq"]
[21,1525,21,1531,22,1538,null,null,null,null,0,222,null,{"$f":"COUNTIF(L7:L191,G3)","v":27},null,31,31,30,31,31,31]
[21,1635,21,1650,11,1656,null,null,null,null,0,221,null,null,null,"% of reinforcement given in 6 equal intervals based on number of trials "]
[21,1781,21,1784,22,1792,null,null,null,null,0,222,null,null,null,"%_1","%_2","%_3","%_4","%_5","%_6"]
[21,1888,21,1895,22,1902,null,null,null,null,0,222,null,null,"target sequence",{"$f":"$G$3","v":221},{"$f":"$G$3","v":221},{"$f":"$G$3","v":221},{"$f":"$G$3","v":221},{"$f":"$G$3","v":221},{"$f":"$G$3","v":221}]
[21,1994,21,2008,22,2017,null,null,null,null,0,222,null,null,"total reinforcement",{"$f":"U13","v":4},{"$f":"Z13","v":4},{"$f":"AE13","v":4},{"$f":"AJ13","v":5},{"$f":"AO13","v":5},{"$f":"AT13","v":5}]
[21,2109,21,2111,22,2116,null,null,null,null,0,222,null,null,"% target"]
[12,2208,23,2210,24,2215,null,null,null,null,0,122,null,null,"CCRF"]
[21,2311,21,2315,22,2325,null,null,null,null,0,222,null,null,"% CCRf"]
[21,2422,21,2431,22,2438,null,null,null,null,0,222,null,null,"average response rate",{"$f":"F37/P20","v":117.54838709677419},{"$f":"(F68-F37)/Q20","v":126.83870967741936},{"$f":"(F98-F68)/R20","v":121.66666666666667},{"$f":"(F129-F98)/S20","v":137.48387096774192},{"$f":"(F160-F129)/T20","v":141},{"$f":"(F191-F160)/U20","v":133.32258064516128}]
[12,2530,23,2534,13,2542,null,null,null,null,0,121]
[21,2759,21,2778,22,2792,null,null,null,null,0,222]
[21,2887,12,2897,24,2905,null,null,null,null,0,212]
[21,2999,21,3006,11,3009,null,null,null,null,0,221]
[21,3144,21,3158,22,3171,null,null,null,null,0,222]
[21,3268,21,3280,11,3285,null,null,null,null,0,221]
[21,3401,21,3410,22,3416,null,null,null,null,0,222]
[21,3509,21,3513,22,3522,null,null,null,null,0,222]
[21,3621,21,3637,22,3644,null,null,null,null,0,222]
[21,3738,21,3745,22,3749,null,null,null,null,0,222]
[21,3844,21,3864,11,3866,null,null,null,null,0,221]
[21,4066,21,4079,22,4083,null,null,null,null,0,222]
[21,4178,12,4182,24,4194,null,null,null,null,0,212]
[21,4286,21,4294,22,4298,null,null,null,null,0,222]
[21,4394,12,4399,24,4401,null,null,null,null,0,212]
[21,4494,21,4500,22,4505,null,null,null,null,0,222]
[21,4600,21,4606,22,4613,null,null,null,null,0,222]
[21,4710,21,4714,22,4721,null,null,null,null,0,222]
[21,4818,21,4838,22,4844,null,null,null,null,0,222]
[21,4940,12,4945,24,4950,null,null,null,null,0,212]
[21,5047,21,5055,22,5060,null,null,null,null,0,222]
[12,5152,14,5162,24,5168,null,null,null,null,0,112]
[21,5265,21,5269,11,5272,null,null,null,null,0,221]
[21,5421,21,5425,22,5431,null,null,null,null,0,222]
[21,5527,21,5537,11,5540,null,null,null,null,0,221]
[21,5767,12,5778,13,5783,null,null,null,null,0,211]
[12,5876,23,5882,24,5885,null,null,null,null,0,122]
[21,5983,21,5987,22,5994,null,null,null,null,0,222]
[21,6092,21,6096,22,6102,null,null,null,null,0,222]
[12,6202,23,6208,24,6215,null,null,null,null,0,122]
[21,6307,21,6320,22,6327,null,null,null,null,0,222]
[21,6424,21,6428,22,6432,null,null,null,null,0,222]
[21,6528,21,6529,22,6536,null,null,null,null,0,222]
[21,6632,21,6636,22,6641,null,null,null,null,0,222]
[21,6738,21,6742,22,6745,null,null,null,null,0,222]
[21,6842,12,6850,24,6855,null,null,null,null,0,212]
[21,6952,21,6955,22,6968,null,null,null,null,0,222]
[12,7060,23,7064,24,7072,null,null,null,null,0,122]
[21,7169,21,7182,11,7186,null,null,null,null,0,221]
[21,7563,21,7567,22,7576,null,null,null,null,0,222]
[21,7673,21,7686,22,7693,null,null,null,null,0,222]
[21,7787,21,7791,22,7796,null,null,null,null,0,222]
[21,7891,21,7895,22,7901,null,null,null,null,0,222]
[21,7997,21,8001,22,8010,null,null,null,null,0,222]
[21,8107,12,8112,24,8122,null,null,null,null,0,212]
[21,8214,21,8219,11,8234,null,null,null,null,0,221]
[21,8536,21,8541,22,8549,null,null,null,null,0,222]
[21,8643,12,8646,24,8649,null,null,null,null,0,212]
[21,8741,12,8751,24,8752,null,null,null,null,0,212]
[12,8847,23,8849,24,8856,null,null,null,null,0,122]
[21,8953,12,8962,24,8964,null,null,null,null,0,212]
[21,9057,21,9063,22,9071,null,null,null,null,0,222]
[21,9167,12,9175,24,9181,null,null,null,null,0,212]
[21,9277,12,9286,24,9289,null,null,null,null,0,212]
[12,9382,23,9384,13,9394,null,null,null,null,0,121]
[21,9490,21,9496,22,9500,null,null,null,null,0,222]
[21,9595,21,9602,11,9604,null,null,null,null,0,221]
[21,9841,21,9848,22,9853,null,null,null,null,0,222]
[12,9945,23,9947,24,9953,null,null,null,null,0,122]
[21,10052,21,10060,22,10067,null,null,null,null,0,222]
[21,10163,12,10169,24,10178,null,null,null,null,0,212]
[21,10273,12,10286,24,10288,null,null,null,null,0,212]
[21,10384,21,10388,22,10392,null,null,null,null,0,222]
[21,10484,21,10488,22,10491,null,null,null,null,0,222]
[21,10584,21,10592,11,10595,null,null,null,null,0,221]
[21,10746,21,10752,22,10758,null,null,null,null,0,222]
[21,10892,21,10905,22,10911,null,null,null,null,0,222]
[12,11003,23,11009,24,11017,null,null,null,null,0,122]
[21,11116,12,11120,24,11122,null,null,null,null,0,212]
[21,11214,21,11218,11,11226,null,null,null,null,0,221]
[21,11347,21,11352,22,11358,null,null,null,null,0,222]
[21,11454,21,11458,22,11464,null,null,null,null,0,222]
[21,11556,21,11561,22,11564,null,null,null,null,0,222]
[21,11656,21,11659,11,11664,null,null,null,null,0,221]
[21,11906,21,11911,22,11917,null,null,null,null,0,222]
[21,12013,12,12020,24,12029,null,null,null,null,0,212]
[21,12126,12,12134,24,12142,null,null,null,null,0,212]
[21,12234,21,12239,22,12245,null,null,null,null,0,222]
[21,12338,21,12352,22,12359,null,null,null,null,0,222]
[21,12451,21,12457,22,12461,null,null,null,null,0,222]
[12,12555,23,12565,24,12572,null,null,null,null,0,122]
[21,12664,21,12677,11,12681,null,null,null,null,0,221]
[21,13057,21,13068,22,13074,null,null,null,null,0,222]
[12,13168,23,13172,24,13178,null,null,null,null,0,122]
[21,13274,21,13279,22,13283,null,null,null,null,0,222]
[21,13378,21,13385,22,13391,null,null,null,null,0,222]
[21,13490,21,13495,22,13502,null,null,null,null,0,222]
[21,13596,21,13601,22,13607,null,null,null,null,0,222]
[21,13703,21,13709,22,13717,null,null,null,null,0,222]
[21,13815,12,13825,24,13829,null,null,null,null,0,212]
[21,13922,12,13926,24,13930,null,null,null,null,0,212]
[21,14026,21,14031,11,14033,null,null,null,null,0,221]
[21,14361,21,14364,22,14376,null,null,null,null,0,222]
[21,14469,12,14473,24,14480,null,null,null,null,0,212]
[21,14575,21,14582,11,14586,null,null,null,null,0,221]
[21,14826,21,14837,22,14843,null,null,null,null,0,222]
[21,14938,21,14943,22,14948,null,null,null,null,0,222]
[12,15049,23,15053,24,15059,null,null,null,null,0,122]
[21,15153,21,15160,11,15167,null,null,null,null,0,221]
[21,15366,21,15373,22,15384,null,null,null,null,0,222]
[21,15481,12,15485,24,15488,null,null,null,null,0,212]
[21,15583,21,15586,22,15595,null,null,null,null,0,222]
[21,15690,12,15698,24,15706,null,null,null,null,0,212]
[21,15803,21,15812,11,15815,null,null,null,null,0,221]
[21,15964,21,15971,22,15985,null,null,null,null,0,222]
[21,16080,12,16086,24,16088,null,null,null,null,0,212]
[21,16192,21,16214,22,16220,null,null,null,null,0,222]
[21,16337,21,16343,22,16349,null,null,null,null,0,222]
[21,16443,21,16455,22,16459,null,null,null,null,0,222]
[21,16554,12,16561,24,16567,null,null,null,null,0,212]
[12,16662,14,16676,24,16681,null,null,null,null,0,112]
[21,16888,21,16892,22,16899,null,null,null,null,0,222]
[21,16996,12,17003,24,17007,null,null,null,null,0,212]
[12,17102,23,17104,24,17109,null,null,null,null,0,122]
[21,17216,12,17220,24,17225,null,null,null,null,0,212]
[21,17320,12,17329,24,17334,null,null,null,null,0,212]
[21,17430,12,17434,24,17438,null,null,null,null,0,212]
[21,17531,12,17540,24,17556,null,null,null,null,0,212]
[21,17652,21,17660,11,17665,null,null,null,null,0,221]
[21,17961,21,17969,22,17974,null,null,null,null,0,222]
[21,18075,12,18081,24,18085,null,null,null,null,0,212]
[21,18229,12,18239,24,18242,null,null,null,null,0,212]
[21,18334,21,18341,11,18349,null,null,null,null,0,221]
[21,18643,21,18649,22,18659,null,null,null,null,0,222]
[21,18752,21,18755,11,18761,null,null,null,null,0,221]
[21,19072,21,19080,22,19087,null,null,null,null,0,222]
[21,19185,21,19194,11,19197,null,null,null,null,0,221]
[21,19411,21,19417,22,19427,null,null,null,null,0,222]
[21,19523,21,19533,22,19538,null,null,null,null,0,222]
[21,19630,21,19636,22,19644,null,null,null,null,0,222]
[12,19736,23,19746,24,19751,null,null,null,null,0,122]
[12,19844,14,19854,24,19859,null,null,null,null,0,112]
[21,19953,12,19959,24,19960,null,null,null,null,0,212]
[12,20054,23,20057,24,20068,null,null,null,null,0,122]
[21,20178,21,20188,22,20194,null,null,null,null,0,222]
[21,20289,12,20296,24,20301,null,null,null,null,0,212]
[21,20397,21,20401,22,20405,null,null,null,null,0,222]
[21,20502,12,20512,24,20514,null,null,null,null,0,212]
[21,20606,12,20616,24,20623,null,null,null,null,0,212]
[21,20719,21,20727,22,20732,null,null,null,null,0,222]
[21,20827,12,20832,24,20838,null,null,null,null,0,212]
[12,20931,23,20933,24,20938,null,null,null,null,0,122]
[21,21035,21,21039,11,21040,null,null,null,null,0,221]
[21,21268,21,21273,22,21280,null,null,null,null,0,222]
[21,21387,21,21394,22,21401,null,null,null,null,0,222]
[21,21497,21,21502,22,21507,null,null,null,null,0,222]
[21,21602,21,21605,11,21608,null,null,null,null,0,221]
[21,21857,21,21867,22,21872,null,null,null,null,0,222]
[21,21964,21,21973,22,21979,null,null,null,null,0,222]
[21,22074,21,22078,22,22082,null,null,null,null,0,222]
[21,22179,21,22186,11,22191,null,null,null,null,0,221]
[21,22428,21,22434,22,22440,null,null,null,null,0,222]
[21,22532,12,22542,24,22546,null,null,null,null,0,212]
[21,22640,21,22644,22,22650,null,null,null,null,0,222]
[21,22746,21,22761,11,22765,null,null,null,null,0,221]
[21,22994,21,23004,22,23010,null,null,null,null,0,222]
[21,23105,21,23112,11,23115,null,null,null,null,0,221]
[21,23460,21,23465,22,23471,null,null,null,null,0,222]
[12,23564,23,23568,24,23573,null,null,null,null,0,122]
[21,23666,21,23672,22,23677,null,null,null,null,0,222]
[21,23769,21,23775,22,23783,null,null,null,null,0,222]
[12,23875,23,23878,24,23881,null,null,null,null,0,122]
[21,23980,21,23987,22,23992,null,null,null,null,null,222]

{"sheet":"!MA04A50.Gus","index":13,"n_rows":194,"n_cols":48,"rows_kept":194,"cut":false,"hidden":false,"merged":[[4,39,4,42],[5,39,5,40],[4,44,4,47],[5,44,5,45],[4,24,4,27],[5,24,5,25],[4,29,4,32],[5,29,5,30],[4,34,4,37],[5,34,5,35],[1,1,1,2],[5,13,5,14],[18,13,18,14],[19,13,19,14],[4,19,4,22],[5,19,5,20]]}
["Report for:!MA04A50.Gus"]
["Date:","<date>"]
["Hen:","<hen>",null,null,null,"Correct Sequence",{"$f":"Start!J2","v":221},null,null,null,null,null,null,null,null,"Total Sequences in Data",{"$f":"4994-COUNTBLANK(L7:L5000)","v":188},null,null,null,null,"Total Sequences in Block Data",{"$f":"COUNTA(L7:L37)","v":31},null,null,null,"Total Sequences in Block Data",{"$f":"COUNTA(L38:L69)","v":32},null,null,null,"Total Sequences in Block Data",{"$f":"COUNTA(L70:L100)","v":31},null,null,null,"Total Sequences in Block Data",{"$f":"COUNTA(L101:L131)","v":31},null,null,null,"Total Sequences in Block Data",{"$f":"COUNTA(L132:L163)","v":32},null,null,null,"Total Sequences in Block Data",{"$f":"COUNTA(L164:L194)","v":31}]
[null,null,null,null,null,null,null,null,null,null,null,null,null,null,null,"Total Sequences in Summary",{"$f":"SUM(O7:O14)","v":188},null,null,null,null,"Total Sequences in Block Summary",{"$f":"SUM(U7:U14)","v":31},null,null,null,"Total Sequences in Block Summary",{"$f":"SUM(Z7:Z14)","v":32},null,null,null,"Total Sequences in Block Summary",{"$f":"SUM(AE7:AE14)","v":31},null,null,null,"Total Sequences in Block Summary",{"$f":"SUM(AJ7:AJ14)","v":31},null,null,null,"Total Sequences in Block Summary",{"$f":"SUM(AO7:AO14)","v":32},null,null,null,"Total Sequences in Block Summary",{"$f":"SUM(AT7:AT14)","v":31}]
[null,null,null,null,null,null,null,null,null,null,null,null,null,null,null,null,null,null,null,"Block 1",null,null,null,null,"Block 2",null,null,null,null,"Block 3",null,null,null,null,"Block 4",null,null,null,null,"Block 5",null,null,null,null,"Block 6"]
["Sequence\nComponent\n1","Time\n1","Sequence\nComponent\n2","Time\n2","Sequence\nComponent\n3","Time\n3","Sequence\nComponent\n4","Time\n4","Sequence\nComponent\n5","Time\n5","Correct?\n0=No 1=Yes","Sequence",null,"Frequency",null,"Relative Frequency","Variability",null,null,"Frequency",null,"Relative Frequency","Variability",null,"Frequency",null,"Relative Frequency","Variability",null,"Frequency",null,"Relative Frequency","Variability",null,"Frequency",null,"Relative Frequency","Variability",null,"Frequency",null,"Relative Frequency","Variability",null,"Frequency",null,"Relative Frequency","Variability"]
[21,10,21,29,22,38,null,null,null,null,0,222,null,111,{"$f":"COUNTIF($L$7:$L$500,N7)","v":0},{"$f":"O7/$Q$4","v":0},{"$f":"IF(P7=0,0,(P7*((LOG(P7))/LOG(2))))","v":0},null,null,{"$f":"N7","v":111},{"$f":"COUNTIF(L7:L37,T7)","v":0},{"$f":"U7/(W4-U13)","v":0},{"$f":"IF(V7=0,0,(V7*((LOG(V7))/LOG(2))))","v":0},null,{"$f":"N7","v":111},{"$f":"COUNTIF(L38:L69,Y7)","v":0},{"$f":"Z7/(AB4-Z13)","v":0},{"$f":"IF(AA7=0,0,(AA7*((LOG(AA7))/LOG(2))))","v":0},null,{"$f":"N7","v":111},{"$f":"COUNTIF(L70:L100,AD7)","v":0},{"$f":"AE7/(AG4-AE13)","v":0},{"$f":"IF(AF7=0,0,(AF7*((LOG(AF7))/LOG(2))))","v":0},null,{"$f":"N7","v":111},{"$f":"COUNTIF(L101:L131,AI7)","v":0},{"$f":"AJ7/(AL4-AJ13)","v":0},{"$f":"IF(AK7=0,0,(AK7*((LOG(AK7))/LOG(2))))","v":0},null,{"$f":"N7","v":111},{"$f":"COUNTIF(L132:L163,AN7)","v":0},{"$f":"AO7/(AQ4-AO13)","v":0},{"$f":"IF(AP7=0,0,(AP7*((LOG(AP7))/LOG(2))))","v":0},null,{"$f":"N7","v":111},{"$f":"COUNTIF(L164:L194,AS7)","v":0},{"$f":"AT7/(AV4-AT13)","v":0},{"$f":"IF(AU7=0,0,(AU7*((LOG(AU7))/LOG(2))))","v":0}]
[21,132,21,145,22,152,null,null,null,null,0,222,null,112,{"$f":"COUNTIF($L$7:$L$500,N8)","v":4},{"$f":"O8/$Q$4","v":2.1276595744680851E-2},{"$f":"IF(P8=0,0,(P8*((LOG(P8))/LOG(2))))","v":-0.11818274152505612},null,null,{"$f":"N8","v":112},{"$f":"COUNTIF(L7:L37,T8)","v":1},{"$f":"U8/(W4-U13)","v":0.04},{"$f":"IF(V8=0,0,(V8*((LOG(V8))/LOG(2))))","v":-0.18575424759098899},null,{"$f":"N8","v":112},{"$f":"COUNTIF(L38:L69,Y8)","v":0},{"$f":"Z8/(AB4-Z13)","v":0},{"$f":"IF(AA8=0,0,(AA8*((LOG(AA8))/LOG(2))))","v":0},null,{"$f":"N8","v":112},{"$f":"COUNTIF(L70:L100,AD8)","v":0},{"$f":"AE8/(AG4-AE13)","v":0},{"$f":"IF(AF8=0,0,(AF8*((LOG(AF8))/LOG(2))))","v":0},null,{"$f":"N8","v":112},{"$f":"COUNTIF(L101:L131,AI8)","v":1},{"$f":"AJ8/(AL4-AJ13)","v":3.5714285714285712E-2},{"$f":"IF(AK8=0,0,(AK8*((LOG(AK8))/LOG(2))))","v":-0.17169124721634299},null,{"$f":"N8","v":112},{"$f":"COUNTIF(L132:L163,AN8)","v":1},{"$f":"AO8/(AQ4-AO13)","v":3.7037037037037035E-2},{"$f":"IF(AP8=0,0,(AP8*((LOG(AP8))/LOG(2))))","v":-0.1761069445245729},null,{"$f":"N8","v":112},{"$f":"COUNTIF(L164:L194,AS8)","v":1},{"$f":"AT8/(AV4-AT13)","v":3.5714285714285712E-2},{"$f":"IF(AU8=0,0,(AU8*((LOG(AU8))/LOG(2))))","v":-0.17169124721634299}]
[21,247,21,259,11,264,null,null,null,null,0,221,null,121,{"$f":"COUNTIF($L$7:$L$500,N9)","v":8},{"$f":"O9/$Q$4","v":4.2553191489361701E-2},{"$f":"IF(P9=0,0,(P9*((LOG(P9))/LOG(2))))","v":-0.19381229156075053},null,null,{"$f":"N9","v":121},{"$f":"COUNTIF(L7:L37,T9)","v":0},{"$f":"U9/(W4-U13)","v":0},{"$f":"IF(V9=0,0,(V9*((LOG(V9))/LOG(2))))","v":0},null,{"$f":"N9","v":121},{"$f":"COUNTIF(L38:L69,Y9)","v":0},{"$f":"Z9/(AB4-Z13)","v":0},{"$f":"IF(AA9=0,0,(AA9*((LOG(AA9))/LOG(2))))","v":0},null,{"$f":"N9","v":121},{"$f":"COUNTIF(L70:L100,AD9)","v":1},{"$f":"AE9/(AG4-AE13)","v":3.8461538461538464E-2},{"$f":"IF(AF9=0,0,(AF9*((LOG(AF9))/LOG(2))))","v":-0.18078614300542661},null,{"$f":"N9","v":121},{"$f":"COUNTIF(L101:L131,AI9)","v":2},{"$f":"AJ9/(AL4-AJ13)","v":7.1428571428571425E-2},{"$f":"IF(AK9=0,0,(AK9*((LOG(AK9))/LOG(2))))","v":-0.27195392300411453},null,{"$f":"N9","v":121},{"$f":"COUNTIF(L132:L163,AN9)","v":2},{"$f":"AO9/(AQ4-AO13)","v":7.407407407407407E-2},{"$f":"IF(AP9=0,0,(AP9*((LOG(AP9))/LOG(2))))","v":-0.27813981497507173},null,{"$f":"N9","v":121},{"$f":"COUNTIF(L164:L194,AS9)","v":3},{"$f":"AT9/(AV4-AT13)","v":0.10714285714285714},{"$f":"IF(AU9=0,0,(AU9*((LOG(AU9))/LOG(2))))","v":-0.34525633085747659}]
[21,420,21,430,11,438,null,null,null,null,0,221,null,122,{"$f":"COUNTIF($L$7:$L$500,N10)","v":24},{"$f":"O10/$Q$4","v":0.1276595744680851},{"$f":"IF(P10=0,0,(P10*((LOG(P10))/LOG(2))))","v":-0.37910123629231673},null,null,{"$f":"N10","v":122},{"$f":"COUNTIF(L7:L37,T10)","v":3},{"$f":"U10/(W4-U13)","v":0.12},{"$f":"IF(V10=0,0,(V10*((LOG(V10))/LOG(2))))","v":-0.36706724268642821},null,{"$f":"N10","v":122},{"$f":"COUNTIF(L38:L69,Y10)","v":5},{"$f":"Z10/(AB4-Z13)","v":0.18518518518518517},{"$f":"IF(AA10=0,0,(AA10*((LOG(AA10))/LOG(2))))","v":-0.45054803838446406},null,{"$f":"N10","v":122},{"$f":"COUNTIF(L70:L100,AD10)","v":2},{"$f":"AE10/(AG4-AE13)","v":7.6923076923076927E-2},{"$f":"IF(AF10=0,0,(AF10*((LOG(AF10))/LOG(2))))","v":-0.28464920908777636},null,{"$f":"N10","v":122},{"$f":"COUNTIF(L101:L131,AI10)","v":5},{"$f":"AJ10/(AL4-AJ13)","v":0.17857142857142858},{"$f":"IF(AK10=0,0,(AK10*((LOG(AK10))/LOG(2))))","v":-0.44382621913754317},null,{"$f":"N10","v":122},{"$f":"COUNTIF(L132:L163,AN10)","v":5},{"$f":"AO10/(AQ4-AO13)","v":0.18518518518518517},{"$f":"IF(AP10=0,0,(AP10*((LOG(AP10))/LOG(2))))","v":-0.45054803838446406},null,{"$f":"N10","v":122},{"$f":"COUNTIF(L164:L194,AS10)","v":4},{"$f":"AT10/(AV4-AT13)","v":0.14285714285714285},{"$f":"IF(AU10=0,0,(AU10*((LOG(AU10))/LOG(2))))","v":-0.40105070315108626}]
[21,605,21,624,22,630,null,null,null,null,0,222,null,211,{"$f":"COUNTIF($L$7:$L$500,N11)","v":2},{"$f":"O11/$Q$4","v":1.0638297872340425E-2},{"$f":"IF(P11=0,0,(P11*((LOG(P11))/LOG(2))))","v":-6.9729668634868486E-2},null,null,{"$f":"N11","v":211},{"$f":"COUNTIF(L7:L37,T11)","v":0},{"$f":"U11/(W4-U13)","v":0},{"$f":"IF(V11=0,0,(V11*((LOG(V11))/LOG(2))))","v":0},null,{"$f":"N11","v":211},{"$f":"COUNTIF(L38:L69,Y11)","v":0},{"$f":"Z11/(AB4-Z13)","v":0},{"$f":"IF(AA11=0,0,(AA11*((LOG(AA11))/LOG(2))))","v":0},null,{"$f":"N11","v":211},{"$f":"COUNTIF(L70:L100,AD11)","v":0},{"$f":"AE11/(AG4-AE13)","v":0},{"$f":"IF(AF11=0,0,(AF11*((LOG(AF11))/LOG(2))))","v":0},null,{"$f":"N11","v":211},{"$f":"COUNTIF(L101:L131,AI11)","v":1},{"$f":"AJ11/(AL4-AJ13)","v":3.5714285714285712E-2},{"$f":"IF(AK11=0,0,(AK11*((LOG(AK11))/LOG(2))))","v":-0.17169124721634299},null,{"$f":"N11","v":211},{"$f":"COUNTIF(L132:L163,AN11)","v":1},{"$f":"AO11/(AQ4-AO13)","v":3.7037037037037035E-2},{"$f":"IF(AP11=0,0,(AP11*((LOG(AP11))/LOG(2))))","v":-0.1761069445245729},null,{"$f":"N11","v":211},{"$f":"COUNTIF(L164:L194,AS11)","v":0},{"$f":"AT11/(AV4-AT13)","v":0},{"$f":"IF(AU11=0,0,(AU11*((LOG(AU11))/LOG(2))))","v":0}]
[12,732,23,735,24,744,null,null,null,null,0,122,null,212,{"$f":"COUNTIF($L$7:$L$500,N12)","v":48},{"$f":"O12/$Q$4","v":0.25531914893617019},{"$f":"IF(P12=0,0,(P12*((LOG(P12))/LOG(2))))","v":-0.50288332364846322},null,null,{"$f":"N12","v":212},{"$f":"COUNTIF(L7:L37,T12)","v":4},{"$f":"U12/(W4-U13)","v":0.16},{"$f":"IF(V12=0,0,(V12*((LOG(V12))/LOG(2))))","v":-0.42301699036395596},null,{"$f":"N12","v":212},{"$f":"COUNTIF(L38:L69,Y12)","v":5},{"$f":"Z12/(AB4-Z13)","v":0.18518518518518517},{"$f":"IF(AA12=0,0,(AA12*((LOG(AA12))/LOG(2))))","v":-0.45054803838446406},null,{"$f":"N12","v":212},{"$f":"COUNTIF(L70:L100,AD12)","v":7},{"$f":"AE12/(AG4-AE13)","v":0.26923076923076922},{"$f":"IF(AF12=0,0,(AF12*((LOG(AF12))/LOG(2))))","v":-0.50967667586863141},null,{"$f":"N12","v":212},{"$f":"COUNTIF(L101:L131,AI12)","v":11},{"$f":"AJ12/(AL4-AJ13)","v":0.39285714285714285},{"$f":"IF(AK12=0,0,(AK12*((LOG(AK12))/LOG(2))))","v":-0.52954129777226344},null,{"$f":"N12","v":212},{"$f":"COUNTIF(L132:L163,AN12)","v":11},{"$f":"AO12/(AQ4-AO13)","v":0.40740740740740738},{"$f":"IF(AP12=0,0,(AP12*((LOG(AP12))/LOG(2))))","v":-0.52777832291806981},null,{"$f":"N12","v":212},{"$f":"COUNTIF(L164:L194,AS12)","v":10},{"$f":"AT12/(AV4-AT13)","v":0.35714285714285715},{"$f":"IF(AU12=0,0,(AU12*((LOG(AU12))/LOG(2))))","v":-0.53050958113222924}]
[21,945,21,961,22,970,null,null,null,null,0,222,null,221,{"$f":"COUNTIF($L$7:$L$500,N13)","v":27},{"$f":"O13/$Q$4","v":0.14361702127659576},{"$f":"IF(P13=0,0,(P13*((LOG(P13))/LOG(2))))","v":-0.40208476828129025},null,null,{"$f":"N13","v":221},{"$f":"COUNTIF(L7:L37,T13)","v":6},null,null,null,{"$f":"N13","v":221},{"$f":"COUNTIF(L38:L69,Y13)","v":5},null,null,null,{"$f":"N13","v":221},{"$f":"COUNTIF(L70:L100,AD13)","v":5},null,null,null,{"$f":"N13","v":221},{"$f":"COUNTIF(L101:L131,AI13)","v":3},null,null,null,{"$f":"N13","v":221},{"$f":"COUNTIF(L132:L163,AN13)","v":5},null,null,null,{"$f":"N13","v":221},{"$f":"COUNTIF(L164:L194,AS13)","v":3}]
[21,1069,12,1073,24,1080,null,null,null,null,0,212,null,222,{"$f":"COUNTIF($L$7:$L$500,N14)","v":75},{"$f":"O14/$Q$4","v":0.39893617021276595},{"$f":"IF(P14=0,0,(P14*((LOG(P14))/LOG(2))))","v":-0.52889767068421134},null,null,{"$f":"N14","v":222},{"$f":"COUNTIF(L7:L37,T14)","v":17},{"$f":"U14/(W4-U13)","v":0.68},{"$f":"IF(V14=0,0,(V14*((LOG(V14))/LOG(2))))","v":-0.378347476996582},null,{"$f":"N14","v":222},{"$f":"COUNTIF(L38:L69,Y14)","v":17},{"$f":"Z14/(AB4-Z13)","v":0.62962962962962965},{"$f":"IF(AA14=0,0,(AA14*((LOG(AA14))/LOG(2))))","v":-0.42023034205641457},null,{"$f":"N14","v":222},{"$f":"COUNTIF(L70:L100,AD14)","v":16},{"$f":"AE14/(AG4-AE13)","v":0.61538461538461542},{"$f":"IF(AF14=0,0,(AF14*((LOG(AF14))/LOG(2))))","v":-0.43103982654836437},null,{"$f":"N14","v":222},{"$f":"COUNTIF(L101:L131,AI14)","v":8},{"$f":"AJ14/(AL4-AJ13)","v":0.2857142857142857},{"$f":"IF(AK14=0,0,(AK14*((LOG(AK14))/LOG(2))))","v":-0.51638712058788683},null,{"$f":"N14","v":222},{"$f":"COUNTIF(L132:L163,AN14)","v":7},{"$f":"AO14/(AQ4-AO13)","v":0.25925925925925924},{"$f":"IF(AP14=0,0,(AP14*((LOG(AP14))/LOG(2))))","v":-0.5049158541015204},null,{"$f":"N14","v":222},{"$f":"COUNTIF(L164:L194,AS14)","v":10},{"$f":"AT14/(AV4-AT13)","v":0.35714285714285715},{"$f":"IF(AU14=0,0,(AU14*((LOG(AU14))/LOG(2))))","v":-0.53050958113222924}]
[21,1179,21,1188,22,1193,null,null,null,null,0,222,null,null,null,{"$f":"SUM(P7:P14)","v":0.99999999999999989},{"$f":"-SUM(Q7:Q14)","v":2.1946917006269566},null,null,null,null,{"$f":"SUM(V7:V14)","v":1},{"$f":"-SUM(W7:W14)","v":1.3541859576379551},null,null,null,{"$f":"SUM(AA7:AA14)","v":1},{"$f":"-SUM(AB7:AB14)","v":1.3213264188253426},null,null,null,{"$f":"SUM(AF7:AF14)","v":1},{"$f":"-SUM(AG7:AG14)","v":1.4061518545101988},null,null,null,{"$f":"SUM(AK7:AK14)","v":0.99999999999999989},{"$f":"-SUM(AL7:AL14)","v":2.1050910549344937},null,null,null,{"$f":"SUM(AP7:AP14)","v":1},{"$f":"-SUM(AQ7:AQ14)","v":2.1135959194282714},null,null,null,{"$f":"SUM(AU7:AU14)","v":1},{"$f":"-SUM(AV7:AV14)","v":1.9790174434893641}]
[21,1291,21,1294,22,1300,null,null,null,null,0,222,null,null,null,"U=",{"$f":"Q15/(LOG(Q4)/LOG(2))","v":0.29051107131258169},null,null,null,null,"U1=",{"$f":"W15/(LOG(W4)/LOG(2))","v":0.27334119861152745},null,null,null,"U2=",{"$f":"AB15/(LOG(AB4)/LOG(2))","v":0.26426528376506853},null,null,null,"U3=",{"$f":"AG15/(LOG(AG4)/LOG(2))","v":0.2838304674286094},null,null,null,"U4=",{"$f":"AL15/(LOG(AL4)/LOG(2))","v":0.42491070661067654},null,null,null,"U5=",{"$f":"AQ15/(LOG(AQ4)/LOG(2))","v":0.42271918388565427},null,null,null,"U6=",{"$f":"AV15/(LOG(AV4)/LOG(2))","v":0.39946286329837061}]
[21,1398,21,1408,22,1417,null,null,null,null,0,222]
[21,1512,21,1514,22,1524,null,null,null,null,0,222]
[21,1619,21,1621,11,1625,null,null,null,null,0,221,null,"Total Target Seq"]
[21,1730,21,1746,22,1754,null,null,null,null,0,222,null,{"$f":"COUNTIF(L7:L194,G3)","v":27},null,31,32,31,31,32,31]
[21,1848,21,1853,22,1859,null,null,null,null,0,222,null,null,null,"% of reinforcement given in 6 equal intervals based on number of trials "]
[21,1955,21,1961,22,1965,null,null,null,null,0,222,null,null,null,"%_1","%_2","%_3","%_4","%_5","%_6"]
[21,2058,12,2069,24,2073,null,null,null,null,0,212,null,null,"target sequence",{"$f":"$G$3","v":221},{"$f":"$G$3","v":221},{"$f":"$G$3","v":221},{"$f":"$G$3","v":221},{"$f":"$G$3","v":221},{"$f":"$G$3","v":221}]
[21,2171,12,2181,24,2189,null,null,null,null,0,212,null,null,"total reinforcement",{"$f":"U13","v":6},{"$f":"Z13","v":5},{"$f":"AE13","v":5},{"$f":"AJ13","v":3},{"$f":"AO13","v":5},{"$f":"AT13","v":3}]
[12,2283,14,2292,24,2298,null,null,null,null,0,112,null,null,"% target"]
[21,2393,21,2405,22,2410,null,null,null,null,0,222,null,null,"CCRF"]
[12,2506,23,2509,24,2522,null,null,null,null,0,122,null,null,"% CCRf"]
[21,2620,21,2624,22,2635,null,null,null,null,0,222,null,null,"average response rate",{"$f":"F37/P20","v":120.51612903225806},{"$f":"(F69-F37)/Q20","v":126.6875},{"$f":"(F100-F69)/R20","v":139.19354838709677},{"$f":"(F131-F100)/S20","v":126.74193548387096},{"$f":"(F163-F131)/T20","v":129.5},{"$f":"(F194-F163)/U20","v":122.41935483870968}]
[21,2729,12,2735,24,2742,null,null,null,null,0,212]
[21,2837,21,2848,22,2855,null,null,null,null,0,222]
[21,2947,21,2950,11,2954,null,null,null,null,0,221]
[21,3080,21,3087,22,3093,null,null,null,null,0,222]
[12,3187,23,3190,24,3199,null,null,null,null,0,122]
[21,3295,21,3299,11,3301,null,null,null,null,0,221]
[21,3489,21,3502,22,3511,null,null,null,null,0,222]
[21,3607,21,3610,11,3619,null,null,null,null,0,221]
[21,3722,21,3729,22,3736,null,null,null,null,0,222]
[12,3829,23,3831,24,3838,null,null,null,null,0,122]
[12,3930,23,3933,24,3944,null,null,null,null,0,122]
[12,4038,23,4054,24,4060,null,null,null,null,0,122]
[12,4153,23,4164,24,4171,null,null,null,null,0,122]
[21,4266,21,4279,22,4285,null,null,null,null,0,222]
[21,4380,21,4384,22,4388,null,null,null,null,0,222]
[21,4484,21,4487,22,4491,null,null,null,null,0,222]
[12,4593,23,4596,24,4602,null,null,null,null,0,122]
[21,4699,21,4703,22,4710,null,null,null,null,0,222]
[21,4804,21,4807,22,4811,null,null,null,null,0,222]
[21,4908,12,4913,24,4915,null,null,null,null,0,212]
[21,5012,21,5022,22,5030,null,null,null,null,0,222]
[21,5126,12,5133,24,5136,null,null,null,null,0,212]
[21,5232,21,5235,11,5240,null,null,null,null,0,221]
[21,5490,21,5495,22,5499,null,null,null,null,0,222]
[21,5600,21,5608,22,5613,null,null,null,null,0,222]
[21,5709,12,5711,24,5716,null,null,null,null,0,212]
[21,5812,21,5819,11,5823,null,null,null,null,0,221]
[21,5951,21,5956,22,5962,null,null,null,null,0,222]
[21,6058,12,6064,24,6075,null,null,null,null,0,212]
[21,6166,21,6182,11,6185,null,null,null,null,0,221]
[21,6368,21,6381,22,6388,null,null,null,null,0,222]
[21,6483,21,6488,22,6499,null,null,null,null,0,222]
[21,6591,21,6609,11,6613,null,null,null,null,0,221]
[21,6843,12,6848,24,6849,null,null,null,null,0,212]
[21,6945,21,6955,22,6962,null,null,null,null,0,222]
[21,7054,21,7062,22,7068,null,null,null,null,0,222]
[21,7164,21,7176,22,7185,null,null,null,null,0,222]
[21,7280,21,7286,11,7288,null,null,null,null,0,221]
[21,7566,21,7569,22,7575,null,null,null,null,0,222]
[21,7671,21,7677,22,7684,null,null,null,null,0,222]
[21,7779,21,7784,22,7790,null,null,null,null,0,222]
[21,7885,21,7897,11,7901,null,null,null,null,0,221]
[21,8247,21,8257,22,8263,null,null,null,null,0,222]
[21,8354,12,8361,24,8363,null,null,null,null,0,212]
[21,8458,21,8467,22,8475,null,null,null,null,0,222]
[21,8568,21,8571,22,8577,null,null,null,null,0,222]
[21,8675,12,8680,24,8683,null,null,null,null,0,212]
[21,8778,21,8785,22,8790,null,null,null,null,0,222]
[21,8882,21,8886,22,8902,null,null,null,null,0,222]
[21,8995,21,9003,11,9005,null,null,null,null,0,221]
[21,9399,21,9403,22,9408,null,null,null,null,0,222]
[21,9503,12,9513,24,9516,null,null,null,null,0,212]
[21,9613,21,9615,22,9619,null,null,null,null,0,222]
[12,9713,23,9717,24,9722,null,null,null,null,0,122]
[21,9815,21,9818,22,9827,null,null,null,null,0,222]
[21,9923,21,9941,22,9947,null,null,null,null,0,222]
[21,10042,21,10061,11,10067,null,null,null,null,0,221]
[21,10372,21,10376,22,10382,null,null,null,null,0,222]
[21,10478,12,10482,24,10488,null,null,null,null,0,212]
[21,10581,21,10583,22,10591,null,null,null,null,0,222]
[21,10686,21,10706,22,10711,null,null,null,null,0,222]
[21,10808,12,10817,24,10820,null,null,null,null,0,212]
[21,10916,21,10919,11,10923,null,null,null,null,0,221]
[21,11056,21,11062,22,11069,null,null,null,null,0,222]
[21,11162,21,11165,11,11172,null,null,null,null,0,221]
[21,11330,21,11335,22,11341,null,null,null,null,0,222]
[12,11451,23,11460,24,11467,null,null,null,null,0,122]
[12,11560,23,11563,13,11574,null,null,null,null,0,121]
[21,11767,21,11773,22,11779,null,null,null,null,0,222]
[21,11874,12,11880,24,11884,null,null,null,null,0,212]
[21,11979,21,11990,22,11994,null,null,null,null,0,222]
[21,12090,12,12100,24,12105,null,null,null,null,0,212]
[21,12202,12,12208,24,12215,null,null,null,null,0,212]
[12,12310,23,12314,24,12318,null,null,null,null,0,122]
[12,12410,23,12412,24,12423,null,null,null,null,0,122]
[21,12519,12,12529,24,12531,null,null,null,null,0,212]
[21,12627,12,12636,24,12642,null,null,null,null,0,212]
[21,12735,21,12738,11,12741,null,null,null,null,0,221]
[21,13056,21,13064,22,13070,null,null,null,null,0,222]
[12,13164,23,13167,13,13175,null,null,null,null,0,121]
[21,13268,12,13273,13,13280,null,null,null,null,0,211]
[21,13376,21,13380,22,13387,null,null,null,null,0,222]
[21,13484,12,13490,24,13497,null,null,null,null,0,212]
[21,13589,12,13596,24,13599,null,null,null,null,0,212]
[12,13703,14,13719,24,13721,null,null,null,null,0,112]
[21,13816,12,13821,24,13832,null,null,null,null,0,212]
[21,13928,12,13937,24,13944,null,null,null,null,0,212]
[21,14041,21,14045,22,14051,null,null,null,null,0,222]
[21,14147,12,14153,24,14159,null,null,null,null,0,212]
[21,14255,12,14261,24,14268,null,null,null,null,0,212]
[12,14363,23,14365,24,14369,null,null,null,null,0,122]
[21,14465,12,14472,24,14482,null,null,null,null,0,212]
[21,14578,21,14580,11,14582,null,null,null,null,0,221]
[21,14772,21,14784,22,14796,null,null,null,null,0,222]
[21,14892,21,14902,22,14908,null,null,null,null,0,222]
[21,15001,21,15006,11,15008,null,null,null,null,0,221]
[21,15386,21,15391,22,15397,null,null,null,null,0,222]
[21,15493,12,15499,24,15505,null,null,null,null,0,212]
[12,15598,23,15604,24,15609,null,null,null,null,0,122]
[12,15701,23,15703,13,15710,null,null,null,null,0,121]
[21,15805,21,15811,22,15815,null,null,null,null,0,222]
[21,15913,21,15917,22,15923,null,null,null,null,0,222]
[12,16019,23,16027,24,16034,null,null,null,null,0,122]
[12,16136,23,16139,24,16142,null,null,null,null,0,122]
[21,16238,21,16242,11,16247,null,null,null,null,0,221]
[21,16537,21,16541,22,16547,null,null,null,null,0,222]
[21,16643,12,16647,24,16653,null,null,null,null,0,212]
[12,16746,23,16748,13,16755,null,null,null,null,0,121]
[12,16850,14,16872,24,16881,null,null,null,null,0,112]
[21,16979,21,16982,22,16990,null,null,null,null,0,222]
[21,17086,12,17091,24,17102,null,null,null,null,0,212]
[21,17198,12,17202,24,17214,null,null,null,null,0,212]
[21,17310,12,17315,24,17320,null,null,null,null,0,212]
[21,17417,21,17424,11,17426,null,null,null,null,0,221]
[21,17681,21,17690,22,17697,null,null,null,null,0,222]
[12,17793,23,17803,24,17809,null,null,null,null,0,122]
[21,17902,12,17906,24,17910,null,null,null,null,0,212]
[12,18009,23,18011,24,18019,null,null,null,null,0,122]
[12,18112,23,18114,24,18117,null,null,null,null,0,122]
[21,18213,21,18218,11,18220,null,null,null,null,0,221]
[21,18468,21,18478,22,18484,null,null,null,null,0,222]
[21,18577,21,18579,22,18582,null,null,null,null,0,222]
[12,18679,23,18684,24,18692,null,null,null,null,0,122]
[21,18790,12,18795,24,18801,null,null,null,null,0,212]
[21,18896,21,18898,11,18901,null,null,null,null,0,221]
[21,19090,21,19096,22,19103,null,null,null,null,0,222]
[21,19196,12,19200,24,19209,null,null,null,null,0,212]
[21,19305,12,19308,13,19315,null,null,null,null,0,211]
[21,19411,12,19413,24,19415,null,null,null,null,0,212]
[21,19511,12,19516,24,19519,null,null,null,null,0,212]
[12,19615,23,19618,13,19623,null,null,null,null,0,121]
[21,19720,12,19724,24,19728,null,null,null,null,0,212]
[21,19822,12,19831,24,19838,null,null,null,null,0,212]
[21,19934,21,19938,11,19940,null,null,null,null,0,221]
[21,20165,21,20171,22,20178,null,null,null,null,0,222]
[12,20271,23,20273,13,20278,null,null,null,null,0,121]
[21,20375,12,20383,24,20385,null,null,null,null,0,212]
[21,20477,12,20483,24,20488,null,null,null,null,0,212]
[21,20584,21,20602,22,20608,null,null,null,null,0,222]
[21,20702,12,20708,24,20710,null,null,null,null,0,212]
[21,20807,12,20812,24,20819,null,null,null,null,0,212]
[21,20915,21,20920,22,20930,null,null,null,null,0,222]
[21,21034,21,21045,11,21050,null,null,null,null,0,221]
[21,21203,21,21207,22,21215,null,null,null,null,0,222]
[21,21307,12,21312,24,21316,null,null,null,null,0,212]
[21,21505,21,21508,22,21517,null,null,null,null,0,222]
[21,21609,21,21617,22,21622,null,null,null,null,0,222]
[21,21718,21,21725,11,21728,null,null,null,null,0,221]
[21,21832,21,21837,22,21844,null,null,null,null,0,222]
[12,21948,23,21953,24,21967,null,null,null,null,0,122]
[21,22062,12,22068,24,22070,null,null,null,null,0,212]
[21,22166,21,22171,22,22177,null,null,null,null,0,222]
[12,22270,23,22273,13,22280,null,null,null,null,0,121]
[21,22376,21,22378,22,22385,null,null,null,null,0,222]
[21,22498,21,22506,22,22512,null,null,null,null,0,222]
[21,22605,21,22614,22,22616,null,null,null,null,0,222]
[21,22712,12,22716,24,22721,null,null,null,null,0,212]
[21,22816,21,22820,11,22822,null,null,null,null,0,221]
[21,23155,12,23167,24,23174,null,null,null,null,0,212]
[21,23270,12,23275,24,23280,null,null,null,null,0,212]
[12,23387,14,23397,24,23400,null,null,null,null,0,112]
[12,23492,23,23494,24,23499,null,null,null,null,0,122]
[12,23602,23,23606,24,23612,null,null,null,null,0,122]
[12,23710,23,23715,24,23721,null,null,null,null,0,122]
[12,23856,23,23860,13,23868,null,null,null,null,0,121]
[21,23962,12,23969,24,23973,null,null,null,null,null,212]

{"sheet":"!MA05A00.Gus","index":14,"n_rows":190,"n_cols":48,"rows_kept":190,"cut":false,"hidden":false,"merged":[[4,39,4,42],[5,39,5,40],[4,44,4,47],[5,44,5,45],[4,24,4,27],[5,24,5,25],[4,29,4,32],[5,29,5,30],[4,34,4,37],[5,34,5,35],[1,1,1,2],[5,13,5,14],[18,13,18,14],[19,13,19,14],[4,19,4,22],[5,19,5,20]]}
["Report for:!MA05A00.Gus"]
["Date:","<date>"]
["Hen:","<hen>",null,null,null,"Correct Sequence",{"$f":"Start!J2","v":221},null,null,null,null,null,null,null,null,"Total Sequences in Data",{"$f":"4994-COUNTBLANK(L7:L5000)","v":184},null,null,null,null,"Total Sequences in Block Data",{"$f":"COUNTA(L7:L37)","v":31},null,null,null,"Total Sequences in Block Data",{"$f":"COUNTA(L38:L67)","v":30},null,null,null,"Total Sequences in Block Data",{"$f":"COUNTA(L68:L98)","v":31},null,null,null,"Total Sequences in Block Data",{"$f":"COUNTA(L99:L129)","v":31},null,null,null,"Total Sequences in Block Data",{"$f":"COUNTA(L130:L159)","v":30},null,null,null,"Total Sequences in Block Data",{"$f":"COUNTA(L160:L190)","v":31}]
[null,null,null,null,null,null,null,null,null,null,null,null,null,null,null,"Total Sequences in Summary",{"$f":"SUM(O7:O14)","v":184},null,null,null,null,"Total Sequences in Block Summary",{"$f":"SUM(U7:U14)","v":31},null,null,null,"Total Sequences in Block Summary",{"$f":"SUM(Z7:Z14)","v":30},null,null,null,"Total Sequences in Block Summary",{"$f":"SUM(AE7:AE14)","v":31},null,null,null,"Total Sequences in Block Summary",{"$f":"SUM(AJ7:AJ14)","v":31},null,null,null,"Total Sequences in Block Summary",{"$f":"SUM(AO7:AO14)","v":30},null,null,null,"Total Sequences in Block Summary",{"$f":"SUM(AT7:AT14)","v":31}]
[null,null,null,null,null,null,null,null,null,null,null,null,null,null,null,null,null,null,null,"Block 1",null,null,null,null,"Block 2",null,null,null,null,"Block 3",null,null,null,null,"Block 4",null,null,null,null,"Block 5",null,null,null,null,"Block 6"]
["Sequence\nComponent\n1","Time\n1","Sequence\nComponent\n2","Time\n2","Sequence\nComponent\n3","Time\n3","Sequence\nComponent\n4","Time\n4","Sequence\nComponent\n5","Time\n5","Correct?\n0=No 1=Yes","Sequence",null,"Frequency",null,"Relative Frequency","Variability",null,null,"Frequency",null,"Relative Frequency","Variability",null,"Frequency",null,"Relative Frequency","Variability",null,"Frequency",null,"Relative Frequency","Variability",null,"Frequency",null,"Relative Frequency","Variability",null,"Frequency",null,"Relative Frequency","Variability",null,"Frequency",null,"Relative Frequency","Variability"]
[21,18,21,23,22,28,null,null,null,null,0,222,null,111,{"$f":"COUNTIF($L$7:$L$500,N7)","v":1},{"$f":"O7/$Q$4","v":5.434782608695652E-3},{"$f":"IF(P7=0,0,(P7*((LOG(P7))/LOG(2))))","v":-4.0888923674222893E-2},null,null,{"$f":"N7","v":111},{"$f":"COUNTIF(L7:L37,T7)","v":0},{"$f":"U7/(W4-U13)","v":0},{"$f":"IF(V7=0,0,(V7*((LOG(V7))/LOG(2))))","v":0},null,{"$f":"N7","v":111},{"$f":"COUNTIF(L38:L67,Y7)","v":1},{"$f":"Z7/(AB4-Z13)","v":3.8461538461538464E-2},{"$f":"IF(AA7=0,0,(AA7*((LOG(AA7))/LOG(2))))","v":-0.18078614300542661},null,{"$f":"N7","v":111},{"$f":"COUNTIF(L68:L98,AD7)","v":0},{"$f":"AE7/(AG4-AE13)","v":0},{"$f":"IF(AF7=0,0,(AF7*((LOG(AF7))/LOG(2))))","v":0},null,{"$f":"N7","v":111},{"$f":"COUNTIF(L99:L129,AI7)","v":0},{"$f":"AJ7/(AL4-AJ13)","v":0},{"$f":"IF(AK7=0,0,(AK7*((LOG(AK7))/LOG(2))))","v":0},null,{"$f":"N7","v":111},{"$f":"COUNTIF(L130:L159,AN7)","v":0},{"$f":"AO7/(AQ4-AO13)","v":0},{"$f":"IF(AP7=0,0,(AP7*((LOG(AP7))/LOG(2))))","v":0},null,{"$f":"N7","v":111},{"$f":"COUNTIF(L160:L190,AS7)","v":0},{"$f":"AT7/(AV4-AT13)","v":0},{"$f":"IF(AU7=0,0,(AU7*((LOG(AU7))/LOG(2))))","v":0}]
[21,121,21,129,22,142,null,null,null,null,0,222,null,112,{"$f":"COUNTIF($L$7:$L$500,N8)","v":4},{"$f":"O8/$Q$4","v":2.1739130434782608E-2},{"$f":"IF(P8=0,0,(P8*((LOG(P8))/LOG(2))))","v":-0.12007743382732637},null,null,{"$f":"N8","v":112},{"$f":"COUNTIF(L7:L37,T8)","v":0},{"$f":"U8/(W4-U13)","v":0},{"$f":"IF(V8=0,0,(V8*((LOG(V8))/LOG(2))))","v":0},null,{"$f":"N8","v":112},{"$f":"COUNTIF(L38:L67,Y8)","v":2},{"$f":"Z8/(AB4-Z13)","v":7.6923076923076927E-2},{"$f":"IF(AA8=0,0,(AA8*((LOG(AA8))/LOG(2))))","v":-0.28464920908777636},null,{"$f":"N8","v":112},{"$f":"COUNTIF(L68:L98,AD8)","v":1},{"$f":"AE8/(AG4-AE13)","v":3.4482758620689655E-2},{"$f":"IF(AF8=0,0,(AF8*((LOG(AF8))/LOG(2))))","v":-0.16751658603888178},null,{"$f":"N8","v":112},{"$f":"COUNTIF(L99:L129,AI8)","v":0},{"$f":"AJ8/(AL4-AJ13)","v":0},{"$f":"IF(AK8=0,0,(AK8*((LOG(AK8))/LOG(2))))","v":0},null,{"$f":"N8","v":112},{"$f":"COUNTIF(L130:L159,AN8)","v":1},{"$f":"AO8/(AQ4-AO13)","v":3.8461538461538464E-2},{"$f":"IF(AP8=0,0,(AP8*((LOG(AP8))/LOG(2))))","v":-0.18078614300542661},null,{"$f":"N8","v":112},{"$f":"COUNTIF(L160:L190,AS8)","v":0},{"$f":"AT8/(AV4-AT13)","v":0},{"$f":"IF(AU8=0,0,(AU8*((LOG(AU8))/LOG(2))))","v":0}]
[21,239,21,255,22,263,null,null,null,null,0,222,null,121,{"$f":"COUNTIF($L$7:$L$500,N9)","v":9},{"$f":"O9/$Q$4","v":4.8913043478260872E-2},{"$f":"IF(P9=0,0,(P9*((LOG(P9))/LOG(2))))","v":-0.21294963364963213},null,null,{"$f":"N9","v":121},{"$f":"COUNTIF(L7:L37,T9)","v":2},{"$f":"U9/(W4-U13)","v":7.407407407407407E-2},{"$f":"IF(V9=0,0,(V9*((LOG(V9))/LOG(2))))","v":-0.27813981497507173},null,{"$f":"N9","v":121},{"$f":"COUNTIF(L38:L67,Y9)","v":1},{"$f":"Z9/(AB4-Z13)","v":3.8461538461538464E-2},{"$f":"IF(AA9=0,0,(AA9*((LOG(AA9))/LOG(2))))","v":-0.18078614300542661},null,{"$f":"N9","v":121},{"$f":"COUNTIF(L68:L98,AD9)","v":0},{"$f":"AE9/(AG4-AE13)","v":0},{"$f":"IF(AF9=0,0,(AF9*((LOG(AF9))/LOG(2))))","v":0},null,{"$f":"N9","v":121},{"$f":"COUNTIF(L99:L129,AI9)","v":2},{"$f":"AJ9/(AL4-AJ13)","v":7.6923076923076927E-2},{"$f":"IF(AK9=0,0,(AK9*((LOG(AK9))/LOG(2))))","v":-0.28464920908777636},null,{"$f":"N9","v":121},{"$f":"COUNTIF(L130:L159,AN9)","v":2},{"$f":"AO9/(AQ4-AO13)","v":7.6923076923076927E-2},{"$f":"IF(AP9=0,0,(AP9*((LOG(AP9))/LOG(2))))","v":-0.28464920908777636},null,{"$f":"N9","v":121},{"$f":"COUNTIF(L160:L190,AS9)","v":2},{"$f":"AT9/(AV4-AT13)","v":8.3333333333333329E-2},{"$f":"IF(AU9=0,0,(AU9*((LOG(AU9))/LOG(2))))","v":-0.29874687506009634}]
[21,360,21,375,22,386,null,null,null,null,0,222,null,122,{"$f":"COUNTIF($L$7:$L$500,N10)","v":21},{"$f":"O10/$Q$4","v":0.11413043478260869},{"$f":"IF(P10=0,0,(P10*((LOG(P10))/LOG(2))))","v":-0.35737029999371356},null,null,{"$f":"N10","v":122},{"$f":"COUNTIF(L7:L37,T10)","v":2},{"$f":"U10/(W4-U13)","v":7.407407407407407E-2},{"$f":"IF(V10=0,0,(V10*((LOG(V10))/LOG(2))))","v":-0.27813981497507173},null,{"$f":"N10","v":122},{"$f":"COUNTIF(L38:L67,Y10)","v":2},{"$f":"Z10/(AB4-Z13)","v":7.6923076923076927E-2},{"$f":"IF(AA10=0,0,(AA10*((LOG(AA10))/LOG(2))))","v":-0.28464920908777636},null,{"$f":"N10","v":122},{"$f":"COUNTIF(L68:L98,AD10)","v":5},{"$f":"AE10/(AG4-AE13)","v":0.17241379310344829},{"$f":"IF(AF10=0,0,(AF10*((LOG(AF10))/LOG(2))))","v":-0.43725050004141547},null,{"$f":"N10","v":122},{"$f":"COUNTIF(L99:L129,AI10)","v":2},{"$f":"AJ10/(AL4-AJ13)","v":7.6923076923076927E-2},{"$f":"IF(AK10=0,0,(AK10*((LOG(AK10))/LOG(2))))","v":-0.28464920908777636},null,{"$f":"N10","v":122},{"$f":"COUNTIF(L130:L159,AN10)","v":5},{"$f":"AO10/(AQ4-AO13)","v":0.19230769230769232},{"$f":"IF(AP10=0,0,(AP10*((LOG(AP10))/LOG(2))))","v":-0.45740608139494804},null,{"$f":"N10","v":122},{"$f":"COUNTIF(L160:L190,AS10)","v":5},{"$f":"AT10/(AV4-AT13)","v":0.20833333333333334},{"$f":"IF(AU10=0,0,(AU10*((LOG(AU10))/LOG(2))))","v":-0.47146550121537367}]
[21,483,12,493,24,495,null,null,null,null,0,212,null,211,{"$f":"COUNTIF($L$7:$L$500,N11)","v":5},{"$f":"O11/$Q$4","v":2.717391304347826E-2},{"$f":"IF(P11=0,0,(P11*((LOG(P11))/LOG(2))))","v":-0.14134874622743615},null,null,{"$f":"N11","v":211},{"$f":"COUNTIF(L7:L37,T11)","v":0},{"$f":"U11/(W4-U13)","v":0},{"$f":"IF(V11=0,0,(V11*((LOG(V11))/LOG(2))))","v":0},null,{"$f":"N11","v":211},{"$f":"COUNTIF(L38:L67,Y11)","v":0},{"$f":"Z11/(AB4-Z13)","v":0},{"$f":"IF(AA11=0,0,(AA11*((LOG(AA11))/LOG(2))))","v":0},null,{"$f":"N11","v":211},{"$f":"COUNTIF(L68:L98,AD11)","v":2},{"$f":"AE11/(AG4-AE13)","v":6.8965517241379309E-2},{"$f":"IF(AF11=0,0,(AF11*((LOG(AF11))/LOG(2))))","v":-0.26606765483638428},null,{"$f":"N11","v":211},{"$f":"COUNTIF(L99:L129,AI11)","v":0},{"$f":"AJ11/(AL4-AJ13)","v":0},{"$f":"IF(AK11=0,0,(AK11*((LOG(AK11))/LOG(2))))","v":0},null,{"$f":"N11","v":211},{"$f":"COUNTIF(L130:L159,AN11)","v":3},{"$f":"AO11/(AQ4-AO13)","v":0.11538461538461539},{"$f":"IF(AP11=0,0,(AP11*((LOG(AP11))/LOG(2))))","v":-0.35947814047153104},null,{"$f":"N11","v":211},{"$f":"COUNTIF(L160:L190,AS11)","v":0},{"$f":"AT11/(AV4-AT13)","v":0},{"$f":"IF(AU11=0,0,(AU11*((LOG(AU11))/LOG(2))))","v":0}]
[12,605,23,620,24,629,null,null,null,null,0,122,null,212,{"$f":"COUNTIF($L$7:$L$500,N12)","v":48},{"$f":"O12/$Q$4","v":0.2608695652173913},{"$f":"IF(P12=0,0,(P12*((LOG(P12))/LOG(2))))","v":-0.50572159704413644},null,null,{"$f":"N12","v":212},{"$f":"COUNTIF(L7:L37,T12)","v":6},{"$f":"U12/(W4-U13)","v":0.22222222222222221},{"$f":"IF(V12=0,0,(V12*((LOG(V12))/LOG(2))))","v":-0.48220555587606945},null,{"$f":"N12","v":212},{"$f":"COUNTIF(L38:L67,Y12)","v":4},{"$f":"Z12/(AB4-Z13)","v":0.15384615384615385},{"$f":"IF(AA12=0,0,(AA12*((LOG(AA12))/LOG(2))))","v":-0.4154522643293988},null,{"$f":"N12","v":212},{"$f":"COUNTIF(L68:L98,AD12)","v":15},{"$f":"AE12/(AG4-AE13)","v":0.51724137931034486},{"$f":"IF(AF12=0,0,(AF12*((LOG(AF12))/LOG(2))))","v":-0.49194331009606224},null,{"$f":"N12","v":212},{"$f":"COUNTIF(L99:L129,AI12)","v":9},{"$f":"AJ12/(AL4-AJ13)","v":0.34615384615384615},{"$f":"IF(AK12=0,0,(AK12*((LOG(AK12))/LOG(2))))","v":-0.52979355578034681},null,{"$f":"N12","v":212},{"$f":"COUNTIF(L130:L159,AN12)","v":9},{"$f":"AO12/(AQ4-AO13)","v":0.34615384615384615},{"$f":"IF(AP12=0,0,(AP12*((LOG(AP12))/LOG(2))))","v":-0.52979355578034681},null,{"$f":"N12","v":212},{"$f":"COUNTIF(L160:L190,AS12)","v":5},{"$f":"AT12/(AV4-AT13)","v":0.20833333333333334},{"$f":"IF(AU12=0,0,(AU12*((LOG(AU12))/LOG(2))))","v":-0.47146550121537367}]
[21,754,21,764,22,771,null,null,null,null,0,222,null,221,{"$f":"COUNTIF($L$7:$L$500,N13)","v":26},{"$f":"O13/$Q$4","v":0.14130434782608695},{"$f":"IF(P13=0,0,(P13*((LOG(P13))/LOG(2))))","v":-0.39891944666203227},null,null,{"$f":"N13","v":221},{"$f":"COUNTIF(L7:L37,T13)","v":4},null,null,null,{"$f":"N13","v":221},{"$f":"COUNTIF(L38:L67,Y13)","v":4},null,null,null,{"$f":"N13","v":221},{"$f":"COUNTIF(L68:L98,AD13)","v":2},null,null,null,{"$f":"N13","v":221},{"$f":"COUNTIF(L99:L129,AI13)","v":5},null,null,null,{"$f":"N13","v":221},{"$f":"COUNTIF(L130:L159,AN13)","v":4},null,null,null,{"$f":"N13","v":221},{"$f":"COUNTIF(L160:L190,AS13)","v":7}]
[21,869,12,872,24,879,null,null,null,null,0,212,null,222,{"$f":"COUNTIF($L$7:$L$500,N14)","v":70},{"$f":"O14/$Q$4","v":0.38043478260869568},{"$f":"IF(P14=0,0,(P14*((LOG(P14))/LOG(2))))","v":-0.5304322050969742},null,null,{"$f":"N14","v":222},{"$f":"COUNTIF(L7:L37,T14)","v":17},{"$f":"U14/(W4-U13)","v":0.62962962962962965},{"$f":"IF(V14=0,0,(V14*((LOG(V14))/LOG(2))))","v":-0.42023034205641457},null,{"$f":"N14","v":222},{"$f":"COUNTIF(L38:L67,Y14)","v":16},{"$f":"Z14/(AB4-Z13)","v":0.61538461538461542},{"$f":"IF(AA14=0,0,(AA14*((LOG(AA14))/LOG(2))))","v":-0.43103982654836437},null,{"$f":"N14","v":222},{"$f":"COUNTIF(L68:L98,AD14)","v":6},{"$f":"AE14/(AG4-AE13)","v":0.20689655172413793},{"$f":"IF(AF14=0,0,(AF14*((LOG(AF14))/LOG(2))))","v":-0.4702796884978791},null,{"$f":"N14","v":222},{"$f":"COUNTIF(L99:L129,AI14)","v":13},{"$f":"AJ14/(AL4-AJ13)","v":0.5},{"$f":"IF(AK14=0,0,(AK14*((LOG(AK14))/LOG(2))))","v":-0.5},null,{"$f":"N14","v":222},{"$f":"COUNTIF(L130:L159,AN14)","v":6},{"$f":"AO14/(AQ4-AO13)","v":0.23076923076923078},{"$f":"IF(AP14=0,0,(AP14*((LOG(AP14))/LOG(2))))","v":-0.48818705017383146},null,{"$f":"N14","v":222},{"$f":"COUNTIF(L160:L190,AS14)","v":12},{"$f":"AT14/(AV4-AT13)","v":0.5},{"$f":"IF(AU14=0,0,(AU14*((LOG(AU14))/LOG(2))))","v":-0.5}]
[21,976,12,985,24,989,null,null,null,null,0,212,null,null,null,{"$f":"SUM(P7:P14)","v":1},{"$f":"-SUM(Q7:Q14)","v":2.3077082861754739},null,null,null,null,{"$f":"SUM(V7:V14)","v":1},{"$f":"-SUM(W7:W14)","v":1.4587155278826276},null,null,null,{"$f":"SUM(AA7:AA14)","v":1},{"$f":"-SUM(AB7:AB14)","v":1.7773627950641691},null,null,null,{"$f":"SUM(AF7:AF14)","v":1},{"$f":"-SUM(AG7:AG14)","v":1.8330577395106229},null,null,null,{"$f":"SUM(AK7:AK14)","v":1},{"$f":"-SUM(AL7:AL14)","v":1.5990919739558995},null,null,null,{"$f":"SUM(AP7:AP14)","v":1},{"$f":"-SUM(AQ7:AQ14)","v":2.3003001799138603},null,null,null,{"$f":"SUM(AU7:AU14)","v":1},{"$f":"-SUM(AV7:AV14)","v":1.7416778774908437}]
[21,1104,21,1111,11,1120,null,null,null,null,0,221,null,null,null,"U=",{"$f":"Q15/(LOG(Q4)/LOG(2))","v":0.3067308144272809},null,null,null,null,"U1=",{"$f":"W15/(LOG(W4)/LOG(2))","v":0.29444039688623402},null,null,null,"U2=",{"$f":"AB15/(LOG(AB4)/LOG(2))","v":0.362217734517016},null,null,null,"U3=",{"$f":"AG15/(LOG(AG4)/LOG(2))","v":0.37000103037246795},null,null,null,"U4=",{"$f":"AL15/(LOG(AL4)/LOG(2))","v":0.32277525430376536},null,null,null,"U5=",{"$f":"AQ15/(LOG(AQ4)/LOG(2))","v":0.468789783487845},null,null,null,"U6=",{"$f":"AV15/(LOG(AV4)/LOG(2))","v":0.35155608869177724}]
[21,1240,21,1255,22,1261,null,null,null,null,0,222]
[21,1363,21,1381,22,1388,null,null,null,null,0,222]
[21,1479,21,1485,22,1491,null,null,null,null,0,222,null,"Total Target Seq"]
[21,1587,12,1595,24,1607,null,null,null,null,0,212,null,{"$f":"COUNTIF(L7:L190,G3)","v":26},null,31,30,31,31,30,31]
[12,1704,23,1707,13,1715,null,null,null,null,0,121,null,null,null,"% of reinforcement given in 6 equal intervals based on number of trials "]
[21,1812,21,1823,22,1831,null,null,null,null,0,222,null,null,null,"%_1","%_2","%_3","%_4","%_5","%_6"]
[12,1935,23,1938,24,1940,null,null,null,null,0,122,null,null,"target sequence",{"$f":"$G$3","v":221},{"$f":"$G$3","v":221},{"$f":"$G$3","v":221},{"$f":"$G$3","v":221},{"$f":"$G$3","v":221},{"$f":"$G$3","v":221}]
[21,2038,21,2056,22,2064,null,null,null,null,0,222,null,null,"total reinforcement",{"$f":"U13","v":4},{"$f":"Z13","v":4},{"$f":"AE13","v":2},{"$f":"AJ13","v":5},{"$f":"AO13","v":4},{"$f":"AT13","v":7}]
[21,2160,21,2164,11,2166,null,null,null,null,0,221,null,null,"% target"]
[21,2283,21,2288,22,2295,null,null,null,null,0,222,null,null,"CCRF"]
[21,2406,21,2412,22,2419,null,null,null,null,0,222,null,null,"% CCRf"]
[21,2517,21,2528,22,2532,null,null,null,null,0,222,null,null,"average response rate",{"$f":"F37/P20","v":120.03225806451613},{"$f":"(F67-F37)/Q20","v":129.5},{"$f":"(F98-F67)/R20","v":120.80645161290323},{"$f":"(F129-F98)/S20","v":123.25806451612904},{"$f":"(F159-F129)/T20","v":129.9},{"$f":"(F190-F159)/U20","v":158.70967741935485}]
[21,2625,21,2646,22,2652,null,null,null,null,0,222]
[12,2745,23,2747,13,2753,null,null,null,null,0,121]
[21,2850,21,2853,11,2857,null,null,null,null,0,221]
[21,2990,21,2995,22,3010,null,null,null,null,0,222]
[21,3109,21,3115,11,3120,null,null,null,null,0,221]
[21,3367,21,3376,22,3381,null,null,null,null,0,222]
[21,3479,12,3486,24,3492,null,null,null,null,0,212]
[21,3591,21,3595,22,3604,null,null,null,null,0,222]
[21,3701,12,3713,24,3721,null,null,null,null,0,212]
[21,3815,21,3832,22,3841,null,null,null,null,0,222]
[12,3939,14,3942,13,3962,null,null,null,null,0,111]
[21,4207,21,4218,22,4231,null,null,null,null,0,222]
[21,4329,21,4340,11,4343,null,null,null,null,0,221]
[21,4532,21,4538,22,4546,null,null,null,null,0,222]
[21,4644,21,4651,22,4655,null,null,null,null,0,222]
[12,4755,23,4759,24,4765,null,null,null,null,0,122]
[12,4863,23,4868,13,4874,null,null,null,null,0,121]
[21,4971,21,4978,22,4982,null,null,null,null,0,222]
[21,5078,21,5088,22,5100,null,null,null,null,0,222]
[21,5196,21,5203,22,5208,null,null,null,null,0,222]
[12,5312,14,5317,24,5318,null,null,null,null,0,112]
[21,5445,21,5451,22,5457,null,null,null,null,0,222]
[21,5563,21,5580,11,5585,null,null,null,null,0,221]
[21,5835,21,5846,22,5854,null,null,null,null,0,222]
[12,5947,14,5957,24,5960,null,null,null,null,0,112]
[21,6056,12,6065,24,6072,null,null,null,null,0,212]
[21,6164,21,6168,11,6171,null,null,null,null,0,221]
[21,6320,21,6337,22,6344,null,null,null,null,0,222]
[21,6445,21,6447,22,6453,null,null,null,null,0,222]
[21,6548,21,6551,22,6557,null,null,null,null,0,222]
[21,6652,21,6657,22,6662,null,null,null,null,0,222]
[21,6758,21,6762,22,6769,null,null,null,null,0,222]
[21,6864,12,6868,24,6879,null,null,null,null,0,212]
[21,6976,21,6986,22,6992,null,null,null,null,0,222]
[21,7087,12,7093,24,7104,null,null,null,null,0,212]
[21,7200,21,7203,11,7206,null,null,null,null,0,221]
[12,7373,23,7381,24,7387,null,null,null,null,0,122]
[21,7484,21,7491,22,7498,null,null,null,null,0,222]
[21,7595,12,7603,24,7606,null,null,null,null,0,212]
[21,7701,12,7707,24,7711,null,null,null,null,0,212]
[21,7808,12,7812,24,7818,null,null,null,null,0,212]
[12,7912,23,7915,24,7932,null,null,null,null,0,122]
[21,8028,12,8034,24,8036,null,null,null,null,0,212]
[21,8133,21,8141,22,8145,null,null,null,null,0,222]
[21,8242,21,8246,11,8247,null,null,null,null,0,221]
[21,8368,21,8373,22,8379,null,null,null,null,0,222]
[21,8471,12,8480,24,8483,null,null,null,null,0,212]
[12,8613,23,8617,24,8630,null,null,null,null,0,122]
[12,8728,23,8730,24,8736,null,null,null,null,0,122]
[21,8832,21,8836,22,8842,null,null,null,null,0,222]
[21,8934,21,8945,22,8951,null,null,null,null,0,222]
[21,9049,12,9052,24,9055,null,null,null,null,0,212]
[21,9155,12,9157,13,9169,null,null,null,null,0,211]
[21,9265,21,9274,22,9278,null,null,null,null,0,222]
[21,9373,12,9383,24,9389,null,null,null,null,0,212]
[21,9484,12,9487,24,9496,null,null,null,null,0,212]
[21,9593,12,9598,24,9606,null,null,null,null,0,212]
[21,9700,12,9708,24,9717,null,null,null,null,0,212]
[12,9810,23,9812,24,9824,null,null,null,null,0,122]
[21,9920,12,9924,24,9936,null,null,null,null,0,212]
[21,10032,12,10039,24,10046,null,null,null,null,0,212]
[21,10143,12,10151,24,10153,null,null,null,null,0,212]
[21,10250,12,10258,24,10263,null,null,null,null,0,212]
[21,10360,12,10366,24,10373,null,null,null,null,0,212]
[21,10470,21,10472,11,10476,null,null,null,null,0,221]
[12,10826,23,10836,24,10846,null,null,null,null,0,122]
[12,10939,14,10945,24,10952,null,null,null,null,0,112]
[21,11044,12,11061,13,11070,null,null,null,null,0,211]
[21,11221,21,11228,22,11235,null,null,null,null,0,222]
[21,11332,12,11347,24,11351,null,null,null,null,0,212]
[21,11448,21,11452,22,11460,null,null,null,null,0,222]
[12,11553,23,11557,24,11567,null,null,null,null,0,122]
[21,11664,12,11670,24,11673,null,null,null,null,0,212]
[21,11769,21,11772,11,11774,null,null,null,null,0,221]
[21,11987,21,11998,22,12011,null,null,null,null,0,222]
[12,12112,23,12125,24,12129,null,null,null,null,0,122]
[21,12226,21,12228,22,12234,null,null,null,null,0,222]
[21,12331,21,12333,22,12336,null,null,null,null,0,222]
[21,12432,21,12436,22,12445,null,null,null,null,0,222]
[21,12542,21,12546,22,12550,null,null,null,null,0,222]
[21,12645,12,12649,24,12654,null,null,null,null,0,212]
[12,12748,23,12750,13,12761,null,null,null,null,0,121]
[21,12859,21,12869,11,12871,null,null,null,null,0,221]
[21,13042,21,13049,22,13055,null,null,null,null,0,222]
[21,13154,21,13166,22,13173,null,null,null,null,0,222]
[21,13270,12,13276,24,13278,null,null,null,null,0,212]
[21,13374,21,13376,11,13380,null,null,null,null,0,221]
[21,13558,21,13561,22,13568,null,null,null,null,0,222]
[21,13665,12,13668,24,13689,null,null,null,null,0,212]
[21,13786,21,13794,22,13800,null,null,null,null,0,222]
[21,13892,21,13897,11,13903,null,null,null,null,0,221]
[21,14078,21,14082,22,14087,null,null,null,null,0,222]
[12,14191,23,14201,13,14207,null,null,null,null,0,121]
[21,14303,12,14312,24,14315,null,null,null,null,0,212]
[21,14413,12,14415,24,14417,null,null,null,null,0,212]
[21,14517,21,14524,22,14529,null,null,null,null,0,222]
[21,14626,21,14629,11,14631,null,null,null,null,0,221]
[21,14832,21,14840,22,14847,null,null,null,null,0,222]
[21,14943,12,14949,24,14956,null,null,null,null,0,212]
[21,15052,12,15058,24,15065,null,null,null,null,0,212]
[21,15162,12,15168,24,15172,null,null,null,null,0,212]
[12,15269,14,15277,24,15280,null,null,null,null,0,112]
[21,15376,12,15379,24,15386,null,null,null,null,0,212]
[12,15484,23,15488,24,15493,null,null,null,null,0,122]
[21,15590,12,15600,24,15609,null,null,null,null,0,212]
[21,15701,12,15724,24,15726,null,null,null,null,0,212]
[21,15822,21,15836,11,15842,null,null,null,null,0,221]
[21,16262,21,16267,22,16276,null,null,null,null,0,222]
[21,16371,21,16374,11,16376,null,null,null,null,0,221]
[21,16541,21,16548,22,16554,null,null,null,null,0,222]
[21,16649,12,16656,24,16661,null,null,null,null,0,212]
[21,16756,21,16762,11,16765,null,null,null,null,0,221]
[21,16936,21,16942,22,16948,null,null,null,null,0,222]
[21,17040,12,17045,13,17051,null,null,null,null,0,211]
[12,17146,23,17160,24,17167,null,null,null,null,0,122]
[21,17263,12,17266,13,17275,null,null,null,null,0,211]
[12,17368,23,17370,13,17376,null,null,null,null,0,121]
[21,17474,12,17479,24,17484,null,null,null,null,0,212]
[21,17577,21,17579,11,17584,null,null,null,null,0,221]
[21,17763,21,17769,22,17777,null,null,null,null,0,222]
[12,17876,23,17881,24,17886,null,null,null,null,0,122]
[21,17982,12,17991,24,17999,null,null,null,null,0,212]
[12,18101,23,18116,13,18121,null,null,null,null,0,121]
[21,18220,12,18222,13,18238,null,null,null,null,0,211]
[12,18331,23,18337,24,18351,null,null,null,null,0,122]
[21,18524,12,18529,24,18532,null,null,null,null,0,212]
[21,18637,21,18642,22,18650,null,null,null,null,0,222]
[12,18744,23,18748,24,18753,null,null,null,null,0,122]
[21,18850,21,18852,22,18859,null,null,null,null,0,222]
[21,18955,12,18960,24,18964,null,null,null,null,0,212]
[21,19063,12,19067,24,19069,null,null,null,null,0,212]
[21,19166,21,19172,11,19178,null,null,null,null,0,221]
[21,19591,21,19605,11,19610,null,null,null,null,0,221]
[21,19909,21,19912,22,19980,null,null,null,null,0,222]
[21,20072,12,20086,24,20088,null,null,null,null,0,212]
[21,20183,12,20186,24,20188,null,null,null,null,0,212]
[21,20285,21,20289,11,20294,null,null,null,null,0,221]
[21,20447,21,20453,22,20461,null,null,null,null,0,222]
[21,20559,21,20567,22,20572,null,null,null,null,0,222]
[21,20669,21,20675,11,20677,null,null,null,null,0,221]
[21,20866,21,20871,22,20876,null,null,null,null,0,222]
[21,20980,12,20984,24,20986,null,null,null,null,0,212]
[12,21079,23,21082,24,21086,null,null,null,null,0,122]
[21,21187,21,21197,22,21204,null,null,null,null,0,222]
[12,21296,23,21299,13,21307,null,null,null,null,0,121]
[21,21403,12,21409,24,21416,null,null,null,null,0,212]
[12,21515,23,21523,24,21530,null,null,null,null,0,122]
[21,21692,21,21699,22,21703,null,null,null,null,0,222]
[21,21799,21,21807,22,21811,null,null,null,null,0,222]
[21,21908,12,21910,24,21924,null,null,null,null,0,212]
[21,22047,21,22052,22,22057,null,null,null,null,0,222]
[12,22155,23,22162,24,22169,null,null,null,null,0,122]
[12,22261,23,22271,13,22282,null,null,null,null,0,121]
[21,22374,21,22376,11,22382,null,null,null,null,0,221]
[21,22805,21,22819,22,22826,null,null,null,null,0,222]
[12,22934,23,22938,24,22941,null,null,null,null,0,122]
[21,23265,21,23290,22,23297,null,null,null,null,0,222]
[12,23390,23,23393,24,23400,null,null,null,null,0,122]
[21,23514,21,23520,11,23523,null,null,null,null,0,221]
[21,23699,21,23715,22,23721,null,null,null,null,0,222]
[21,23818,21,23832,11,23836,null,null,null,null,0,221]
[21,23975,21,23978,22,23989,null,null,null,null,null,222]

{"sheet":"!MA06850.Gus","index":15,"n_rows":146,"n_cols":48,"rows_kept":146,"cut":false,"hidden":false,"merged":[[4,39,4,42],[5,39,5,40],[4,44,4,47],[5,44,5,45],[4,24,4,27],[5,24,5,25],[4,29,4,32],[5,29,5,30],[4,34,4,37],[5,34,5,35],[1,1,1,2],[5,13,5,14],[18,13,18,14],[19,13,19,14],[4,19,4,22],[5,19,5,20]]}
["Report for:!MA06850.Gus"]
["Date:","<date>"]
["Hen:","<hen>",null,null,null,"Correct Sequence",{"$f":"Start!J2","v":221},null,null,null,null,null,null,null,null,"Total Sequences in Data",{"$f":"4994-COUNTBLANK(L7:L5000)","v":140},null,null,null,null,"Total Sequences in Block Data",{"$f":"COUNTA(L7:L29)","v":23},null,null,null,"Total Sequences in Block Data",{"$f":"COUNTA(L30:L53)","v":24},null,null,null,"Total Sequences in Block Data",{"$f":"COUNTA(L54:L76)","v":23},null,null,null,"Total Sequences in Block Data",{"$f":"COUNTA(L77:L99)","v":23},null,null,null,"Total Sequences in Block Data",{"$f":"COUNTA(L100:L123)","v":24},null,null,null,"Total Sequences in Block Data",{"$f":"COUNTA(L124:L146)","v":23}]
[null,null,null,null,null,null,null,null,null,null,null,null,null,null,null,"Total Sequences in Summary",{"$f":"SUM(O7:O14)","v":140},null,null,null,null,"Total Sequences in Block Summary",{"$f":"SUM(U7:U14)","v":23},null,null,null,"Total Sequences in Block Summary",{"$f":"SUM(Z7:Z14)","v":24},null,null,null,"Total Sequences in Block Summary",{"$f":"SUM(AE7:AE14)","v":23},null,null,null,"Total Sequences in Block Summary",{"$f":"SUM(AJ7:AJ14)","v":23},null,null,null,"Total Sequences in Block Summary",{"$f":"SUM(AO7:AO14)","v":24},null,null,null,"Total Sequences in Block Summary",{"$f":"SUM(AT7:AT14)","v":23}]
[null,null,null,null,null,null,null,null,null,null,null,null,null,null,null,null,null,null,null,"Block 1",null,null,null,null,"Block 2",null,null,null,null,"Block 3",null,null,null,null,"Block 4",null,null,null,null,"Block 5",null,null,null,null,"Block 6"]
["Sequence\nComponent\n1","Time\n1","Sequence\nComponent\n2","Time\n2","Sequence\nComponent\n3","Time\n3","Sequence\nComponent\n4","Time\n4","Sequence\nComponent\n5","Time\n5","Correct?\n0=No 1=Yes","Sequence",null,"Frequency",null,"Relative Frequency","Variability",null,null,"Frequency",null,"Relative Frequency","Variability",null,"Frequency",null,"Relative Frequency","Variability",null,"Frequency",null,"Relative Frequency","Variability",null,"Frequency",null,"Relative Frequency","Variability",null,"Frequency",null,"Relative Frequency","Variability",null,"Frequency",null,"Relative Frequency","Variability"]
[21,4,21,8,22,14,null,null,null,null,0,222,null,111,{"$f":"COUNTIF($L$7:$L$500,N7)","v":0},{"$f":"O7/$Q$4","v":0},{"$f":"IF(P7=0,0,(P7*((LOG(P7))/LOG(2))))","v":0},null,null,{"$f":"N7","v":111},{"$f":"COUNTIF(L7:L29,T7)","v":0},{"$f":"U7/(W4-U13)","v":0},{"$f":"IF(V7=0,0,(V7*((LOG(V7))/LOG(2))))","v":0},null,{"$f":"N7","v":111},{"$f":"COUNTIF(L30:L53,Y7)","v":0},{"$f":"Z7/(AB4-Z13)","v":0},{"$f":"IF(AA7=0,0,(AA7*((LOG(AA7))/LOG(2))))","v":0},null,{"$f":"N7","v":111},{"$f":"COUNTIF(L54:L76,AD7)","v":0},{"$f":"AE7/(AG4-AE13)","v":0},{"$f":"IF(AF7=0,0,(AF7*((LOG(AF7))/LOG(2))))","v":0},null,{"$f":"N7","v":111},{"$f":"COUNTIF(L77:L99,AI7)","v":0},{"$f":"AJ7/(AL4-AJ13)","v":0},{"$f":"IF(AK7=0,0,(AK7*((LOG(AK7))/LOG(2))))","v":0},null,{"$f":"N7","v":111},{"$f":"COUNTIF(L100:L123,AN7)","v":0},{"$f":"AO7/(AQ4-AO13)","v":0},{"$f":"IF(AP7=0,0,(AP7*((LOG(AP7))/LOG(2))))","v":0},null,{"$f":"N7","v":111},{"$f":"COUNTIF(L124:L146,AS7)","v":0},{"$f":"AT7/(AV4-AT13)","v":0},{"$f":"IF(AU7=0,0,(AU7*((LOG(AU7))/LOG(2))))","v":0}]
[21,123,21,126,22,131,null,null,null,null,0,222,null,112,{"$f":"COUNTIF($L$7:$L$500,N8)","v":2},{"$f":"O8/$Q$4","v":1.4285714285714285E-2},{"$f":"IF(P8=0,0,(P8*((LOG(P8))/LOG(2))))","v":-8.756118595635666E-2},null,null,{"$f":"N8","v":112},{"$f":"COUNTIF(L7:L29,T8)","v":1},{"$f":"U8/(W4-U13)","v":0.05},{"$f":"IF(V8=0,0,(V8*((LOG(V8))/LOG(2))))","v":-0.21609640474436814},null,{"$f":"N8","v":112},{"$f":"COUNTIF(L30:L53,Y8)","v":0},{"$f":"Z8/(AB4-Z13)","v":0},{"$f":"IF(AA8=0,0,(AA8*((LOG(AA8))/LOG(2))))","v":0},null,{"$f":"N8","v":112},{"$f":"COUNTIF(L54:L76,AD8)","v":0},{"$f":"AE8/(AG4-AE13)","v":0},{"$f":"IF(AF8=0,0,(AF8*((LOG(AF8))/LOG(2))))","v":0},null,{"$f":"N8","v":112},{"$f":"COUNTIF(L77:L99,AI8)","v":0},{"$f":"AJ8/(AL4-AJ13)","v":0},{"$f":"IF(AK8=0,0,(AK8*((LOG(AK8))/LOG(2))))","v":0},null,{"$f":"N8","v":112},{"$f":"COUNTIF(L100:L123,AN8)","v":0},{"$f":"AO8/(AQ4-AO13)","v":0},{"$f":"IF(AP8=0,0,(AP8*((LOG(AP8))/LOG(2))))","v":0},null,{"$f":"N8","v":112},{"$f":"COUNTIF(L124:L146,AS8)","v":1},{"$f":"AT8/(AV4-AT13)","v":5.8823529411764705E-2},{"$f":"IF(AU8=0,0,(AU8*((LOG(AU8))/LOG(2))))","v":-0.24043899066178465}]
[21,293,21,296,22,304,null,null,null,null,0,222,null,121,{"$f":"COUNTIF($L$7:$L$500,N9)","v":5},{"$f":"O9/$Q$4","v":3.5714285714285712E-2},{"$f":"IF(P9=0,0,(P9*((LOG(P9))/LOG(2))))","v":-0.17169124721634299},null,null,{"$f":"N9","v":121},{"$f":"COUNTIF(L7:L29,T9)","v":0},{"$f":"U9/(W4-U13)","v":0},{"$f":"IF(V9=0,0,(V9*((LOG(V9))/LOG(2))))","v":0},null,{"$f":"N9","v":121},{"$f":"COUNTIF(L30:L53,Y9)","v":2},{"$f":"Z9/(AB4-Z13)","v":9.0909090909090912E-2},{"$f":"IF(AA9=0,0,(AA9*((LOG(AA9))/LOG(2))))","v":-0.31449378351248153},null,{"$f":"N9","v":121},{"$f":"COUNTIF(L54:L76,AD9)","v":2},{"$f":"AE9/(AG4-AE13)","v":9.5238095238095233E-2},{"$f":"IF(AF9=0,0,(AF9*((LOG(AF9))/LOG(2))))","v":-0.32307784978845333},null,{"$f":"N9","v":121},{"$f":"COUNTIF(L77:L99,AI9)","v":0},{"$f":"AJ9/(AL4-AJ13)","v":0},{"$f":"IF(AK9=0,0,(AK9*((LOG(AK9))/LOG(2))))","v":0},null,{"$f":"N9","v":121},{"$f":"COUNTIF(L100:L123,AN9)","v":1},{"$f":"AO9/(AQ4-AO13)","v":0.05},{"$f":"IF(AP9=0,0,(AP9*((LOG(AP9))/LOG(2))))","v":-0.21609640474436814},null,{"$f":"N9","v":121},{"$f":"COUNTIF(L124:L146,AS9)","v":0},{"$f":"AT9/(AV4-AT13)","v":0},{"$f":"IF(AU9=0,0,(AU9*((LOG(AU9))/LOG(2))))","v":0}]
[21,400,21,418,22,424,null,null,null,null,0,222,null,122,{"$f":"COUNTIF($L$7:$L$500,N10)","v":6},{"$f":"O10/$Q$4","v":4.2857142857142858E-2},{"$f":"IF(P10=0,0,(P10*((LOG(P10))/LOG(2))))","v":-0.19475659355244901},null,null,{"$f":"N10","v":122},{"$f":"COUNTIF(L7:L29,T10)","v":0},{"$f":"U10/(W4-U13)","v":0},{"$f":"IF(V10=0,0,(V10*((LOG(V10))/LOG(2))))","v":0},null,{"$f":"N10","v":122},{"$f":"COUNTIF(L30:L53,Y10)","v":2},{"$f":"Z10/(AB4-Z13)","v":9.0909090909090912E-2},{"$f":"IF(AA10=0,0,(AA10*((LOG(AA10))/LOG(2))))","v":-0.31449378351248153},null,{"$f":"N10","v":122},{"$f":"COUNTIF(L54:L76,AD10)","v":3},{"$f":"AE10/(AG4-AE13)","v":0.14285714285714285},{"$f":"IF(AF10=0,0,(AF10*((LOG(AF10))/LOG(2))))","v":-0.40105070315108626},null,{"$f":"N10","v":122},{"$f":"COUNTIF(L77:L99,AI10)","v":1},{"$f":"AJ10/(AL4-AJ13)","v":0.05},{"$f":"IF(AK10=0,0,(AK10*((LOG(AK10))/LOG(2))))","v":-0.21609640474436814},null,{"$f":"N10","v":122},{"$f":"COUNTIF(L100:L123,AN10)","v":0},{"$f":"AO10/(AQ4-AO13)","v":0},{"$f":"IF(AP10=0,0,(AP10*((LOG(AP10))/LOG(2))))","v":0},null,{"$f":"N10","v":122},{"$f":"COUNTIF(L124:L146,AS10)","v":0},{"$f":"AT10/(AV4-AT13)","v":0},{"$f":"IF(AU10=0,0,(AU10*((LOG(AU10))/LOG(2))))","v":0}]
[21,518,21,522,11,534,null,null,null,null,0,221,null,211,{"$f":"COUNTIF($L$7:$L$500,N11)","v":2},{"$f":"O11/$Q$4","v":1.4285714285714285E-2},{"$f":"IF(P11=0,0,(P11*((LOG(P11))/LOG(2))))","v":-8.756118595635666E-2},null,null,{"$f":"N11","v":211},{"$f":"COUNTIF(L7:L29,T11)","v":1},{"$f":"U11/(W4-U13)","v":0.05},{"$f":"IF(V11=0,0,(V11*((LOG(V11))/LOG(2))))","v":-0.21609640474436814},null,{"$f":"N11","v":211},{"$f":"COUNTIF(L30:L53,Y11)","v":0},{"$f":"Z11/(AB4-Z13)","v":0},{"$f":"IF(AA11=0,0,(AA11*((LOG(AA11))/LOG(2))))","v":0},null,{"$f":"N11","v":211},{"$f":"COUNTIF(L54:L76,AD11)","v":0},{"$f":"AE11/(AG4-AE13)","v":0},{"$f":"IF(AF11=0,0,(AF11*((LOG(AF11))/LOG(2))))","v":0},null,{"$f":"N11","v":211},{"$f":"COUNTIF(L77:L99,AI11)","v":0},{"$f":"AJ11/(AL4-AJ13)","v":0},{"$f":"IF(AK11=0,0,(AK11*((LOG(AK11))/LOG(2))))","v":0},null,{"$f":"N11","v":211},{"$f":"COUNTIF(L100:L123,AN11)","v":1},{"$f":"AO11/(AQ4-AO13)","v":0.05},{"$f":"IF(AP11=0,0,(AP11*((LOG(AP11))/LOG(2))))","v":-0.21609640474436814},null,{"$f":"N11","v":211},{"$f":"COUNTIF(L124:L146,AS11)","v":0},{"$f":"AT11/(AV4-AT13)","v":0},{"$f":"IF(AU11=0,0,(AU11*((LOG(AU11))/LOG(2))))","v":0}]
[21,891,21,906,22,915,null,null,null,null,0,222,null,212,{"$f":"COUNTIF($L$7:$L$500,N12)","v":49},{"$f":"O12/$Q$4","v":0.35},{"$f":"IF(P12=0,0,(P12*((LOG(P12))/LOG(2))))","v":-0.53010061049041535},null,null,{"$f":"N12","v":212},{"$f":"COUNTIF(L7:L29,T12)","v":9},{"$f":"U12/(W4-U13)","v":0.45},{"$f":"IF(V12=0,0,(V12*((LOG(V12))/LOG(2))))","v":-0.51840139205027258},null,{"$f":"N12","v":212},{"$f":"COUNTIF(L30:L53,Y12)","v":6},{"$f":"Z12/(AB4-Z13)","v":0.27272727272727271},{"$f":"IF(AA12=0,0,(AA12*((LOG(AA12))/LOG(2))))","v":-0.51121885034076575},null,{"$f":"N12","v":212},{"$f":"COUNTIF(L54:L76,AD12)","v":10},{"$f":"AE12/(AG4-AE13)","v":0.47619047619047616},{"$f":"IF(AF12=0,0,(AF12*((LOG(AF12))/LOG(2))))","v":-0.50970920375780859},null,{"$f":"N12","v":212},{"$f":"COUNTIF(L77:L99,AI12)","v":10},{"$f":"AJ12/(AL4-AJ13)","v":0.5},{"$f":"IF(AK12=0,0,(AK12*((LOG(AK12))/LOG(2))))","v":-0.5},null,{"$f":"N12","v":212},{"$f":"COUNTIF(L100:L123,AN12)","v":8},{"$f":"AO12/(AQ4-AO13)","v":0.4},{"$f":"IF(AP12=0,0,(AP12*((LOG(AP12))/LOG(2))))","v":-0.52877123795494496},null,{"$f":"N12","v":212},{"$f":"COUNTIF(L124:L146,AS12)","v":6},{"$f":"AT12/(AV4-AT13)","v":0.35294117647058826},{"$f":"IF(AU12=0,0,(AU12*((LOG(AU12))/LOG(2))))","v":-0.53029423783382934}]
[21,1011,21,1030,22,1037,null,null,null,null,0,222,null,221,{"$f":"COUNTIF($L$7:$L$500,N13)","v":20},{"$f":"O13/$Q$4","v":0.14285714285714285},{"$f":"IF(P13=0,0,(P13*((LOG(P13))/LOG(2))))","v":-0.40105070315108626},null,null,{"$f":"N13","v":221},{"$f":"COUNTIF(L7:L29,T13)","v":3},null,null,null,{"$f":"N13","v":221},{"$f":"COUNTIF(L30:L53,Y13)","v":2},null,null,null,{"$f":"N13","v":221},{"$f":"COUNTIF(L54:L76,AD13)","v":2},null,null,null,{"$f":"N13","v":221},{"$f":"COUNTIF(L77:L99,AI13)","v":3},null,null,null,{"$f":"N13","v":221},{"$f":"COUNTIF(L100:L123,AN13)","v":4},null,null,null,{"$f":"N13","v":221},{"$f":"COUNTIF(L124:L146,AS13)","v":6}]
[21,1129,21,1141,11,1156,null,null,null,null,0,221,null,222,{"$f":"COUNTIF($L$7:$L$500,N14)","v":56},{"$f":"O14/$Q$4","v":0.4},{"$f":"IF(P14=0,0,(P14*((LOG(P14))/LOG(2))))","v":-0.52877123795494496},null,null,{"$f":"N14","v":222},{"$f":"COUNTIF(L7:L29,T14)","v":9},{"$f":"U14/(W4-U13)","v":0.45},{"$f":"IF(V14=0,0,(V14*((LOG(V14))/LOG(2))))","v":-0.51840139205027258},null,{"$f":"N14","v":222},{"$f":"COUNTIF(L30:L53,Y14)","v":12},{"$f":"Z14/(AB4-Z13)","v":0.54545454545454541},{"$f":"IF(AA14=0,0,(AA14*((LOG(AA14))/LOG(2))))","v":-0.47698315522698609},null,{"$f":"N14","v":222},{"$f":"COUNTIF(L54:L76,AD14)","v":6},{"$f":"AE14/(AG4-AE13)","v":0.2857142857142857},{"$f":"IF(AF14=0,0,(AF14*((LOG(AF14))/LOG(2))))","v":-0.51638712058788683},null,{"$f":"N14","v":222},{"$f":"COUNTIF(L77:L99,AI14)","v":9},{"$f":"AJ14/(AL4-AJ13)","v":0.45},{"$f":"IF(AK14=0,0,(AK14*((LOG(AK14))/LOG(2))))","v":-0.51840139205027258},null,{"$f":"N14","v":222},{"$f":"COUNTIF(L100:L123,AN14)","v":10},{"$f":"AO14/(AQ4-AO13)","v":0.5},{"$f":"IF(AP14=0,0,(AP14*((LOG(AP14))/LOG(2))))","v":-0.5},null,{"$f":"N14","v":222},{"$f":"COUNTIF(L124:L146,AS14)","v":10},{"$f":"AT14/(AV4-AT13)","v":0.58823529411764708},{"$f":"IF(AU14=0,0,(AU14*((LOG(AU14))/LOG(2))))","v":-0.45031455668410414}]
[21,1351,12,1358,24,1362,null,null,null,null,0,212,null,null,null,{"$f":"SUM(P7:P14)","v":1},{"$f":"-SUM(Q7:Q14)","v":2.0014927642779519},null,null,null,null,{"$f":"SUM(V7:V14)","v":1},{"$f":"-SUM(W7:W14)","v":1.4689955935892813},null,null,null,{"$f":"SUM(AA7:AA14)","v":1},{"$f":"-SUM(AB7:AB14)","v":1.6171895725927148},null,null,null,{"$f":"SUM(AF7:AF14)","v":0.99999999999999989},{"$f":"-SUM(AG7:AG14)","v":1.7502248772852349},null,null,null,{"$f":"SUM(AK7:AK14)","v":1},{"$f":"-SUM(AL7:AL14)","v":1.2344977967946407},null,null,null,{"$f":"SUM(AP7:AP14)","v":1},{"$f":"-SUM(AQ7:AQ14)","v":1.4609640474436811},null,null,null,{"$f":"SUM(AU7:AU14)","v":1},{"$f":"-SUM(AV7:AV14)","v":1.2210477851797181}]
[21,1460,12,1477,24,1482,null,null,null,null,0,212,null,null,null,"U=",{"$f":"Q15/(LOG(Q4)/LOG(2))","v":0.28074250377222776},null,null,null,null,"U1=",{"$f":"W15/(LOG(W4)/LOG(2))","v":0.32474311347107959},null,null,null,"U2=",{"$f":"AB15/(LOG(AB4)/LOG(2))","v":0.35271598673671845},null,null,null,"U3=",{"$f":"AG15/(LOG(AG4)/LOG(2))","v":0.38691298898685311},null,null,null,"U4=",{"$f":"AL15/(LOG(AL4)/LOG(2))","v":0.27290392146429165},null,null,null,"U5=",{"$f":"AQ15/(LOG(AQ4)/LOG(2))","v":0.31864252918402064},null,null,null,"U6=",{"$f":"AV15/(LOG(AV4)/LOG(2))","v":0.26993059828543853}]
[21,1578,21,1584,22,1592,null,null,null,null,0,222]
[21,1692,12,1704,13,1708,null,null,null,null,0,211]
[21,1806,21,1817,22,1826,null,null,null,null,0,222,null,"Total Target Seq"]
[21,1922,12,1936,24,1942,null,null,null,null,0,212,null,{"$f":"COUNTIF(L7:L146,G3)","v":20},null,23,24,23,23,24,23]
[21,2039,12,2048,24,2051,null,null,null,null,0,212,null,null,null,"% of reinforcement given in 6 equal intervals based on number of trials "]
[21,2148,12,2153,24,2159,null,null,null,null,0,212,null,null,null,"%_1","%_2","%_3","%_4","%_5","%_6"]
[21,2252,12,2259,24,2265,null,null,null,null,0,212,null,null,"target sequence",{"$f":"$G$3","v":221},{"$f":"$G$3","v":221},{"$f":"$G$3","v":221},{"$f":"$G$3","v":221},{"$f":"$G$3","v":221},{"$f":"$G$3","v":221}]
[21,2361,12,2372,24,2379,null,null,null,null,0,212,null,null,"total reinforcement",{"$f":"U13","v":3},{"$f":"Z13","v":2},{"$f":"AE13","v":2},{"$f":"AJ13","v":3},{"$f":"AO13","v":4},{"$f":"AT13","v":6}]
[21,2478,21,2484,11,2488,null,null,null,null,0,221,null,null,"% target"]
[21,2601,21,2608,22,2614,null,null,null,null,0,222,null,null,"CCRF"]
[12,2716,14,2724,24,2730,null,null,null,null,0,112,null,null,"% CCRf"]
[21,2827,12,2835,24,2840,null,null,null,null,0,212,null,null,"average response rate",{"$f":"F29/P20","v":128.39130434782609},{"$f":"(F53-F29)/Q20","v":138.75},{"$f":"(F76-F53)/R20","v":135.7391304347826},{"$f":"(F99-F76)/S20","v":134.17391304347825},{"$f":"(F123-F99)/T20","v":147.95833333333334},{"$f":"(F146-F123)/U20","v":146.86956521739131}]
[21,2937,12,2945,24,2953,null,null,null,null,0,212]
[12,3046,23,3049,13,3055,null,null,null,null,0,121]
[21,3152,21,3161,22,3165,null,null,null,null,0,222]
[21,3261,21,3268,22,3274,null,null,null,null,0,222]
[21,3467,21,3472,22,3479,null,null,null,null,0,222]
[21,3621,21,3632,22,3639,null,null,null,null,0,222]
[21,3735,21,3747,11,3750,null,null,null,null,0,221]
[21,3953,21,3963,22,3971,null,null,null,null,0,222]
[21,4068,12,4080,24,4084,null,null,null,null,0,212]
[21,4181,12,4187,24,4190,null,null,null,null,0,212]
[21,4286,12,4295,24,4303,null,null,null,null,0,212]
[12,4418,23,4422,24,4428,null,null,null,null,0,122]
[21,4527,21,4538,22,4544,null,null,null,null,0,222]
[21,4641,21,4644,22,4654,null,null,null,null,0,222]
[12,4746,23,4751,13,4757,null,null,null,null,0,121]
[21,4994,21,5000,22,5006,null,null,null,null,0,222]
[21,5101,21,5107,11,5118,null,null,null,null,0,221]
[21,5525,21,5531,22,5539,null,null,null,null,0,222]
[21,5632,21,5637,22,5645,null,null,null,null,0,222]
[21,5741,21,5745,22,5753,null,null,null,null,0,222]
[21,5846,12,5850,24,5854,null,null,null,null,0,212]
[12,5951,23,5956,24,5963,null,null,null,null,0,122]
[21,6058,12,6065,24,6071,null,null,null,null,0,212]
[21,6170,21,6175,22,6181,null,null,null,null,0,222]
[21,6277,12,6279,24,6283,null,null,null,null,0,212]
[21,6379,12,6383,24,6394,null,null,null,null,0,212]
[21,6490,12,6494,24,6497,null,null,null,null,0,212]
[12,6589,23,6594,13,6600,null,null,null,null,0,121]
[21,6696,12,6700,24,6703,null,null,null,null,0,212]
[21,6800,12,6804,24,6809,null,null,null,null,0,212]
[12,6901,23,6905,13,6910,null,null,null,null,0,121]
[21,7007,21,7015,11,7019,null,null,null,null,0,221]
[21,7502,21,7506,11,7511,null,null,null,null,0,221]
[21,7846,21,7860,22,7867,null,null,null,null,0,222]
[21,7962,21,7971,22,7977,null,null,null,null,0,222]
[21,8073,21,8082,22,8088,null,null,null,null,0,222]
[21,8183,21,8187,22,8194,null,null,null,null,0,222]
[21,8291,21,8305,22,8310,null,null,null,null,0,222]
[21,8405,12,8408,24,8414,null,null,null,null,0,212]
[21,8509,12,8514,24,8518,null,null,null,null,0,212]
[12,8612,23,8614,24,8617,null,null,null,null,0,122]
[21,8713,12,8721,24,8723,null,null,null,null,0,212]
[21,8819,12,8823,24,8827,null,null,null,null,0,212]
[21,8922,12,8929,24,8935,null,null,null,null,0,212]
[12,9052,23,9060,24,9063,null,null,null,null,0,122]
[21,9159,12,9164,24,9167,null,null,null,null,0,212]
[21,9263,21,9266,22,9271,null,null,null,null,0,222]
[12,9386,23,9399,24,9405,null,null,null,null,0,122]
[21,9502,21,9518,22,9525,null,null,null,null,0,222]
[21,9622,12,9630,24,9636,null,null,null,null,0,212]
[21,9738,21,9743,11,9758,null,null,null,null,0,221]
[21,9950,21,9958,22,9969,null,null,null,null,0,222]
[21,10064,21,10070,22,10076,null,null,null,null,0,222]
[21,10173,12,10179,24,10183,null,null,null,null,0,212]
[21,10279,12,10282,24,10289,null,null,null,null,0,212]
[21,10392,21,10402,22,10408,null,null,null,null,0,222]
[21,10501,12,10516,24,10519,null,null,null,null,0,212]
[21,10616,12,10620,24,10624,null,null,null,null,0,212]
[21,10717,21,10720,11,10725,null,null,null,null,0,221]
[21,10822,21,10827,22,10832,null,null,null,null,0,222]
[21,10927,12,10935,24,10937,null,null,null,null,0,212]
[21,11033,12,11040,24,11042,null,null,null,null,0,212]
[21,11140,21,11144,22,11154,null,null,null,null,0,222]
[21,11266,12,11277,24,11279,null,null,null,null,0,212]
[21,11376,21,11383,11,11386,null,null,null,null,0,221]
[21,11668,21,11674,22,11681,null,null,null,null,0,222]
[12,11775,23,11778,24,11788,null,null,null,null,0,122]
[21,11884,12,11891,24,11893,null,null,null,null,0,212]
[21,12006,12,12012,24,12016,null,null,null,null,0,212]
[21,12112,21,12117,22,12125,null,null,null,null,0,222]
[21,12474,21,12484,22,12491,null,null,null,null,0,222]
[21,12589,21,12599,22,12606,null,null,null,null,0,222]
[21,12704,21,12709,22,12717,null,null,null,null,0,222]
[21,12831,12,12838,24,12841,null,null,null,null,0,212]
[12,12933,23,12937,13,12943,null,null,null,null,0,121]
[21,13040,12,13044,24,13049,null,null,null,null,0,212]
[21,13142,21,13144,11,13150,null,null,null,null,0,221]
[21,13353,21,13358,22,13365,null,null,null,null,0,222]
[21,13492,21,13505,11,13509,null,null,null,null,0,221]
[21,13962,21,13973,22,13980,null,null,null,null,0,222]
[21,14077,12,14080,24,14091,null,null,null,null,0,212]
[21,14186,21,14195,22,14202,null,null,null,null,0,222]
[21,14298,12,14306,24,14309,null,null,null,null,0,212]
[21,14404,12,14410,13,14423,null,null,null,null,0,211]
[21,14519,21,14527,22,14533,null,null,null,null,0,222]
[21,14630,12,14638,24,14642,null,null,null,null,0,212]
[21,14733,21,14737,11,14739,null,null,null,null,0,221]
[21,15050,21,15054,22,15061,null,null,null,null,0,222]
[21,15156,12,15164,24,15169,null,null,null,null,0,212]
[21,15266,12,15270,24,15277,null,null,null,null,0,212]
[21,15374,21,15380,22,15385,null,null,null,null,0,222]
[21,15477,21,15486,11,15488,null,null,null,null,0,221]
[21,15769,21,15776,22,15782,null,null,null,null,0,222]
[21,15915,21,15924,22,15929,null,null,null,null,0,222]
[21,16025,12,16035,24,16042,null,null,null,null,0,212]
[21,16138,12,16144,24,16146,null,null,null,null,0,212]
[21,16243,21,16250,11,16260,null,null,null,null,0,221]
[21,16377,21,16383,22,16388,null,null,null,null,0,222]
[21,16481,12,16487,24,16492,null,null,null,null,0,212]
[21,16587,21,16594,22,16607,null,null,null,null,0,222]
[21,16704,21,16712,11,16718,null,null,null,null,0,221]
[21,17040,21,17048,22,17054,null,null,null,null,0,222]
[21,17150,12,17155,24,17160,null,null,null,null,0,212]
[21,17256,21,17264,22,17270,null,null,null,null,0,222]
[12,17364,14,17371,24,17376,null,null,null,null,0,112]
[21,17470,21,17477,22,17483,null,null,null,null,0,222]
[21,17577,12,17582,24,17591,null,null,null,null,0,212]
[21,17683,12,17687,24,17696,null,null,null,null,0,212]
[21,17791,21,17807,11,17811,null,null,null,null,0,221]
[21,18087,21,18092,22,18098,null,null,null,null,0,222]
[21,18193,21,18196,11,18197,null,null,null,null,0,221]
[21,18410,21,18415,22,18427,null,null,null,null,0,222]
[21,18556,12,18568,24,18580,null,null,null,null,0,212]
[21,18676,21,18680,11,18684,null,null,null,null,0,221]
[21,18898,21,18915,22,18922,null,null,null,null,0,222]
[21,19034,21,19047,11,19065,null,null,null,null,0,221]
[21,19281,21,19293,22,19300,null,null,null,null,0,222]
[21,19396,21,19415,22,19420,null,null,null,null,0,222]

{"sheet":"!MA07910.Gus","index":16,"n_rows":189,"n_cols":48,"rows_kept":189,"cut":false,"hidden":false,"merged":[[4,39,4,42],[5,39,5,40],[4,44,4,47],[5,44,5,45],[4,24,4,27],[5,24,5,25],[4,29,4,32],[5,29,5,30],[4,34,4,37],[5,34,5,35],[1,1,1,2],[5,13,5,14],[18,13,18,14],[19,13,19,14],[4,19,4,22],[5,19,5,20]]}
["Report for:!MA07910.Gus"]
["Date:","<date>"]
["Hen:","<hen>",null,null,null,"Correct Sequence",{"$f":"Start!J2","v":221},null,null,null,null,null,null,null,null,"Total Sequences in Data",{"$f":"4994-COUNTBLANK(L7:L5000)","v":183},null,null,null,null,"Total Sequences in Block Data",{"$f":"COUNTA(L7:L37)","v":31},null,null,null,"Total Sequences in Block Data",{"$f":"COUNTA(L38:L67)","v":30},null,null,null,"Total Sequences in Block Data",{"$f":"COUNTA(L68:L98)","v":31},null,null,null,"Total Sequences in Block Data",{"$f":"COUNTA(L99:L128)","v":30},null,null,null,"Total Sequences in Block Data",{"$f":"COUNTA(L129:L159)","v":31},null,null,null,"Total Sequences in Block Data",{"$f":"COUNTA(L160:L189)","v":30}]
[null,null,null,null,null,null,null,null,null,null,null,null,null,null,null,"Total Sequences in Summary",{"$f":"SUM(O7:O14)","v":183},null,null,null,null,"Total Sequences in Block Summary",{"$f":"SUM(U7:U14)","v":31},null,null,null,"Total Sequences in Block Summary",{"$f":"SUM(Z7:Z14)","v":30},null,null,null,"Total Sequences in Block Summary",{"$f":"SUM(AE7:AE14)","v":31},null,null,null,"Total Sequences in Block Summary",{"$f":"SUM(AJ7:AJ14)","v":30},null,null,null,"Total Sequences in Block Summary",{"$f":"SUM(AO7:AO14)","v":31},null,null,null,"Total Sequences in Block Summary",{"$f":"SUM(AT7:AT14)","v":30}]
[null,null,null,null,null,null,null,null,null,null,null,null,null,null,null,null,null,null,null,"Block 1",null,null,null,null,"Block 2",null,null,null,null,"Block 3",null,null,null,null,"Block 4",null,null,null,null,"Block 5",null,null,null,null,"Block 6"]
["Sequence\nComponent\n1","Time\n1","Sequence\nComponent\n2","Time\n2","Sequence\nComponent\n3","Time\n3","Sequence\nComponent\n4","Time\n4","Sequence\nComponent\n5","Time\n5","Correct?\n0=No 1=Yes","Sequence",null,"Frequency",null,"Relative Frequency","Variability",null,null,"Frequency",null,"Relative Frequency","Variability",null,"Frequency",null,"Relative Frequency","Variability",null,"Frequency",null,"Relative Frequency","Variability",null,"Frequency",null,"Relative Frequency","Variability",null,"Frequency",null,"Relative Frequency","Variability",null,"Frequency",null,"Relative Frequency","Variability"]
[21,30,21,46,22,52,null,null,null,null,0,222,null,111,{"$f":"COUNTIF($L$7:$L$500,N7)","v":0},{"$f":"O7/$Q$4","v":0},{"$f":"IF(P7=0,0,(P7*((LOG(P7))/LOG(2))))","v":0},null,null,{"$f":"N7","v":111},{"$f":"COUNTIF(L7:L37,T7)","v":0},{"$f":"U7/(W4-U13)","v":0},{"$f":"IF(V7=0,0,(V7*((LOG(V7))/LOG(2))))","v":0},null,{"$f":"N7","v":111},{"$f":"COUNTIF(L38:L67,Y7)","v":0},{"$f":"Z7/(AB4-Z13)","v":0},{"$f":"IF(AA7=0,0,(AA7*((LOG(AA7))/LOG(2))))","v":0},null,{"$f":"N7","v":111},{"$f":"COUNTIF(L68:L98,AD7)","v":0},{"$f":"AE7/(AG4-AE13)","v":0},{"$f":"IF(AF7=0,0,(AF7*((LOG(AF7))/LOG(2))))","v":0},null,{"$f":"N7","v":111},{"$f":"COUNTIF(L99:L128,AI7)","v":0},{"$f":"AJ7/(AL4-AJ13)","v":0},{"$f":"IF(AK7=0,0,(AK7*((LOG(AK7))/LOG(2))))","v":0},null,{"$f":"N7","v":111},{"$f":"COUNTIF(L129:L159,AN7)","v":0},{"$f":"AO7/(AQ4-AO13)","v":0},{"$f":"IF(AP7=0,0,(AP7*((LOG(AP7))/LOG(2))))","v":0},null,{"$f":"N7","v":111},{"$f":"COUNTIF(L160:L189,AS7)","v":0},{"$f":"AT7/(AV4-AT13)","v":0},{"$f":"IF(AU7=0,0,(AU7*((LOG(AU7))/LOG(2))))","v":0}]
[21,172,21,183,22,194,null,null,null,null,0,222,null,112,{"$f":"COUNTIF($L$7:$L$500,N8)","v":3},{"$f":"O8/$Q$4","v":1.6393442622950821E-2},{"$f":"IF(P8=0,0,(P8*((LOG(P8))/LOG(2))))","v":-9.7225202255129275E-2},null,null,{"$f":"N8","v":112},{"$f":"COUNTIF(L7:L37,T8)","v":1},{"$f":"U8/(W4-U13)","v":3.8461538461538464E-2},{"$f":"IF(V8=0,0,(V8*((LOG(V8))/LOG(2))))","v":-0.18078614300542661},null,{"$f":"N8","v":112},{"$f":"COUNTIF(L38:L67,Y8)","v":1},{"$f":"Z8/(AB4-Z13)","v":3.5714285714285712E-2},{"$f":"IF(AA8=0,0,(AA8*((LOG(AA8))/LOG(2))))","v":-0.17169124721634299},null,{"$f":"N8","v":112},{"$f":"COUNTIF(L68:L98,AD8)","v":0},{"$f":"AE8/(AG4-AE13)","v":0},{"$f":"IF(AF8=0,0,(AF8*((LOG(AF8))/LOG(2))))","v":0},null,{"$f":"N8","v":112},{"$f":"COUNTIF(L99:L128,AI8)","v":1},{"$f":"AJ8/(AL4-AJ13)","v":0.04},{"$f":"IF(AK8=0,0,(AK8*((LOG(AK8))/LOG(2))))","v":-0.18575424759098899},null,{"$f":"N8","v":112},{"$f":"COUNTIF(L129:L159,AN8)","v":0},{"$f":"AO8/(AQ4-AO13)","v":0},{"$f":"IF(AP8=0,0,(AP8*((LOG(AP8))/LOG(2))))","v":0},null,{"$f":"N8","v":112},{"$f":"COUNTIF(L160:L189,AS8)","v":0},{"$f":"AT8/(AV4-AT13)","v":0},{"$f":"IF(AU8=0,0,(AU8*((LOG(AU8))/LOG(2))))","v":0}]
[21,296,21,322,22,330,null,null,null,null,0,222,null,121,{"$f":"COUNTIF($L$7:$L$500,N9)","v":10},{"$f":"O9/$Q$4","v":5.4644808743169397E-2},{"$f":"IF(P9=0,0,(P9*((LOG(P9))/LOG(2))))","v":-0.22916785483041968},null,null,{"$f":"N9","v":121},{"$f":"COUNTIF(L7:L37,T9)","v":0},{"$f":"U9/(W4-U13)","v":0},{"$f":"IF(V9=0,0,(V9*((LOG(V9))/LOG(2))))","v":0},null,{"$f":"N9","v":121},{"$f":"COUNTIF(L38:L67,Y9)","v":7},{"$f":"Z9/(AB4-Z13)","v":0.25},{"$f":"IF(AA9=0,0,(AA9*((LOG(AA9))/LOG(2))))","v":-0.5},null,{"$f":"N9","v":121},{"$f":"COUNTIF(L68:L98,AD9)","v":0},{"$f":"AE9/(AG4-AE13)","v":0},{"$f":"IF(AF9=0,0,(AF9*((LOG(AF9))/LOG(2))))","v":0},null,{"$f":"N9","v":121},{"$f":"COUNTIF(L99:L128,AI9)","v":2},{"$f":"AJ9/(AL4-AJ13)","v":0.08},{"$f":"IF(AK9=0,0,(AK9*((LOG(AK9))/LOG(2))))","v":-0.29150849518197797},null,{"$f":"N9","v":121},{"$f":"COUNTIF(L129:L159,AN9)","v":1},{"$f":"AO9/(AQ4-AO13)","v":3.5714285714285712E-2},{"$f":"IF(AP9=0,0,(AP9*((LOG(AP9))/LOG(2))))","v":-0.17169124721634299},null,{"$f":"N9","v":121},{"$f":"COUNTIF(L160:L189,AS9)","v":0},{"$f":"AT9/(AV4-AT13)","v":0},{"$f":"IF(AU9=0,0,(AU9*((LOG(AU9))/LOG(2))))","v":0}]
[21,423,21,428,22,431,null,null,null,null,0,222,null,122,{"$f":"COUNTIF($L$7:$L$500,N10)","v":17},{"$f":"O10/$Q$4","v":9.2896174863387984E-2},{"$f":"IF(P10=0,0,(P10*((LOG(P10))/LOG(2))))","v":-0.31847010354957894},null,null,{"$f":"N10","v":122},{"$f":"COUNTIF(L7:L37,T10)","v":1},{"$f":"U10/(W4-U13)","v":3.8461538461538464E-2},{"$f":"IF(V10=0,0,(V10*((LOG(V10))/LOG(2))))","v":-0.18078614300542661},null,{"$f":"N10","v":122},{"$f":"COUNTIF(L38:L67,Y10)","v":1},{"$f":"Z10/(AB4-Z13)","v":3.5714285714285712E-2},{"$f":"IF(AA10=0,0,(AA10*((LOG(AA10))/LOG(2))))","v":-0.17169124721634299},null,{"$f":"N10","v":122},{"$f":"COUNTIF(L68:L98,AD10)","v":4},{"$f":"AE10/(AG4-AE13)","v":0.16666666666666666},{"$f":"IF(AF10=0,0,(AF10*((LOG(AF10))/LOG(2))))","v":-0.43082708345352599},null,{"$f":"N10","v":122},{"$f":"COUNTIF(L99:L128,AI10)","v":7},{"$f":"AJ10/(AL4-AJ13)","v":0.28000000000000003},{"$f":"IF(AK10=0,0,(AK10*((LOG(AK10))/LOG(2))))","v":-0.51422035496079388},null,{"$f":"N10","v":122},{"$f":"COUNTIF(L129:L159,AN10)","v":4},{"$f":"AO10/(AQ4-AO13)","v":0.14285714285714285},{"$f":"IF(AP10=0,0,(AP10*((LOG(AP10))/LOG(2))))","v":-0.40105070315108626},null,{"$f":"N10","v":122},{"$f":"COUNTIF(L160:L189,AS10)","v":0},{"$f":"AT10/(AV4-AT13)","v":0},{"$f":"IF(AU10=0,0,(AU10*((LOG(AU10))/LOG(2))))","v":0}]
[21,530,21,541,22,559,null,null,null,null,0,222,null,211,{"$f":"COUNTIF($L$7:$L$500,N11)","v":4},{"$f":"O11/$Q$4","v":2.185792349726776E-2},{"$f":"IF(P11=0,0,(P11*((LOG(P11))/LOG(2))))","v":-0.12056174509910474},null,null,{"$f":"N11","v":211},{"$f":"COUNTIF(L7:L37,T11)","v":0},{"$f":"U11/(W4-U13)","v":0},{"$f":"IF(V11=0,0,(V11*((LOG(V11))/LOG(2))))","v":0},null,{"$f":"N11","v":211},{"$f":"COUNTIF(L38:L67,Y11)","v":0},{"$f":"Z11/(AB4-Z13)","v":0},{"$f":"IF(AA11=0,0,(AA11*((LOG(AA11))/LOG(2))))","v":0},null,{"$f":"N11","v":211},{"$f":"COUNTIF(L68:L98,AD11)","v":1},{"$f":"AE11/(AG4-AE13)","v":4.1666666666666664E-2},{"$f":"IF(AF11=0,0,(AF11*((LOG(AF11))/LOG(2))))","v":-0.19104010419671485},null,{"$f":"N11","v":211},{"$f":"COUNTIF(L99:L128,AI11)","v":0},{"$f":"AJ11/(AL4-AJ13)","v":0},{"$f":"IF(AK11=0,0,(AK11*((LOG(AK11))/LOG(2))))","v":0},null,{"$f":"N11","v":211},{"$f":"COUNTIF(L129:L159,AN11)","v":2},{"$f":"AO11/(AQ4-AO13)","v":7.1428571428571425E-2},{"$f":"IF(AP11=0,0,(AP11*((LOG(AP11))/LOG(2))))","v":-0.27195392300411453},null,{"$f":"N11","v":211},{"$f":"COUNTIF(L160:L189,AS11)","v":1},{"$f":"AT11/(AV4-AT13)","v":3.8461538461538464E-2},{"$f":"IF(AU11=0,0,(AU11*((LOG(AU11))/LOG(2))))","v":-0.18078614300542661}]
[21,676,21,703,22,711,null,null,null,null,0,222,null,212,{"$f":"COUNTIF($L$7:$L$500,N12)","v":63},{"$f":"O12/$Q$4","v":0.34426229508196721},{"$f":"IF(P12=0,0,(P12*((LOG(P12))/LOG(2))))","v":-0.52961997066338762},null,null,{"$f":"N12","v":212},{"$f":"COUNTIF(L7:L37,T12)","v":5},{"$f":"U12/(W4-U13)","v":0.19230769230769232},{"$f":"IF(V12=0,0,(V12*((LOG(V12))/LOG(2))))","v":-0.45740608139494804},null,{"$f":"N12","v":212},{"$f":"COUNTIF(L38:L67,Y12)","v":9},{"$f":"Z12/(AB4-Z13)","v":0.32142857142857145},{"$f":"IF(AA12=0,0,(AA12*((LOG(AA12))/LOG(2))))","v":-0.5263167601977724},null,{"$f":"N12","v":212},{"$f":"COUNTIF(L68:L98,AD12)","v":12},{"$f":"AE12/(AG4-AE13)","v":0.5},{"$f":"IF(AF12=0,0,(AF12*((LOG(AF12))/LOG(2))))","v":-0.5},null,{"$f":"N12","v":212},{"$f":"COUNTIF(L99:L128,AI12)","v":6},{"$f":"AJ12/(AL4-AJ13)","v":0.24},{"$f":"IF(AK12=0,0,(AK12*((LOG(AK12))/LOG(2))))","v":-0.49413448537285637},null,{"$f":"N12","v":212},{"$f":"COUNTIF(L129:L159,AN12)","v":15},{"$f":"AO12/(AQ4-AO13)","v":0.5357142857142857},{"$f":"IF(AP12=0,0,(AP12*((LOG(AP12))/LOG(2))))","v":-0.48239160345486726},null,{"$f":"N12","v":212},{"$f":"COUNTIF(L160:L189,AS12)","v":16},{"$f":"AT12/(AV4-AT13)","v":0.61538461538461542},{"$f":"IF(AU12=0,0,(AU12*((LOG(AU12))/LOG(2))))","v":-0.43103982654836437}]
[21,803,21,811,11,818,null,null,null,null,0,221,null,221,{"$f":"COUNTIF($L$7:$L$500,N13)","v":26},{"$f":"O13/$Q$4","v":0.14207650273224043},{"$f":"IF(P13=0,0,(P13*((LOG(P13))/LOG(2))))","v":-0.39998231215145741},null,null,{"$f":"N13","v":221},{"$f":"COUNTIF(L7:L37,T13)","v":5},null,null,null,{"$f":"N13","v":221},{"$f":"COUNTIF(L38:L67,Y13)","v":2},null,null,null,{"$f":"N13","v":221},{"$f":"COUNTIF(L68:L98,AD13)","v":7},null,null,null,{"$f":"N13","v":221},{"$f":"COUNTIF(L99:L128,AI13)","v":5},null,null,null,{"$f":"N13","v":221},{"$f":"COUNTIF(L129:L159,AN13)","v":3},null,null,null,{"$f":"N13","v":221},{"$f":"COUNTIF(L160:L189,AS13)","v":4}]
[21,942,21,966,11,971,null,null,null,null,0,221,null,222,{"$f":"COUNTIF($L$7:$L$500,N14)","v":60},{"$f":"O14/$Q$4","v":0.32786885245901637},{"$f":"IF(P14=0,0,(P14*((LOG(P14))/LOG(2))))","v":-0.52747844022148327},null,null,{"$f":"N14","v":222},{"$f":"COUNTIF(L7:L37,T14)","v":19},{"$f":"U14/(W4-U13)","v":0.73076923076923073},{"$f":"IF(V14=0,0,(V14*((LOG(V14))/LOG(2))))","v":-0.33068199574048568},null,{"$f":"N14","v":222},{"$f":"COUNTIF(L38:L67,Y14)","v":10},{"$f":"Z14/(AB4-Z13)","v":0.35714285714285715},{"$f":"IF(AA14=0,0,(AA14*((LOG(AA14))/LOG(2))))","v":-0.53050958113222924},null,{"$f":"N14","v":222},{"$f":"COUNTIF(L68:L98,AD14)","v":7},{"$f":"AE14/(AG4-AE13)","v":0.29166666666666669},{"$f":"IF(AF14=0,0,(AF14*((LOG(AF14))/LOG(2))))","v":-0.51846887711020273},null,{"$f":"N14","v":222},{"$f":"COUNTIF(L99:L128,AI14)","v":9},{"$f":"AJ14/(AL4-AJ13)","v":0.36},{"$f":"IF(AK14=0,0,(AK14*((LOG(AK14))/LOG(2))))","v":-0.53061522779966841},null,{"$f":"N14","v":222},{"$f":"COUNTIF(L129:L159,AN14)","v":6},{"$f":"AO14/(AQ4-AO13)","v":0.21428571428571427},{"$f":"IF(AP14=0,0,(AP14*((LOG(AP14))/LOG(2))))","v":-0.47622694742923877},null,{"$f":"N14","v":222},{"$f":"COUNTIF(L160:L189,AS14)","v":9},{"$f":"AT14/(AV4-AT13)","v":0.34615384615384615},{"$f":"IF(AU14=0,0,(AU14*((LOG(AU14))/LOG(2))))","v":-0.52979355578034681}]
[21,1134,21,1153,22,1161,null,null,null,null,0,222,null,null,null,{"$f":"SUM(P7:P14)","v":1},{"$f":"-SUM(Q7:Q14)","v":2.2225056287705609},null,null,null,null,{"$f":"SUM(V7:V14)","v":1},{"$f":"-SUM(W7:W14)","v":1.1496603631462869},null,null,null,{"$f":"SUM(AA7:AA14)","v":1},{"$f":"-SUM(AB7:AB14)","v":1.9002088357626876},null,null,null,{"$f":"SUM(AF7:AF14)","v":1},{"$f":"-SUM(AG7:AG14)","v":1.6403360647604437},null,null,null,{"$f":"SUM(AK7:AK14)","v":1},{"$f":"-SUM(AL7:AL14)","v":2.0162328109062857},null,null,null,{"$f":"SUM(AP7:AP14)","v":1},{"$f":"-SUM(AQ7:AQ14)","v":1.8033144242556496},null,null,null,{"$f":"SUM(AU7:AU14)","v":1},{"$f":"-SUM(AV7:AV14)","v":1.1416195253341379}]
[21,1260,12,1264,24,1273,null,null,null,null,0,212,null,null,null,"U=",{"$f":"Q15/(LOG(Q4)/LOG(2))","v":0.29571506002001213},null,null,null,null,"U1=",{"$f":"W15/(LOG(W4)/LOG(2))","v":0.23205789418072326},null,null,null,"U2=",{"$f":"AB15/(LOG(AB4)/LOG(2))","v":0.38725314916605286},null,null,null,"U3=",{"$f":"AG15/(LOG(AG4)/LOG(2))","v":0.33110033635957176},null,null,null,"U4=",{"$f":"AL15/(LOG(AL4)/LOG(2))","v":0.41089826064407015},null,null,null,"U5=",{"$f":"AQ15/(LOG(AQ4)/LOG(2))","v":0.3639973693563282},null,null,null,"U6=",{"$f":"AV15/(LOG(AV4)/LOG(2))","v":0.23265640492491196}]
[21,1371,21,1374,11,1391,null,null,null,null,0,221]
[21,1510,21,1516,22,1529,null,null,null,null,0,222]
[21,1621,12,1636,24,1639,null,null,null,null,0,212,null,"Total Target Seq"]
[21,1793,21,1800,22,1807,null,null,null,null,0,222,null,{"$f":"COUNTIF(L7:L189,G3)","v":26},null,31,30,31,30,31,30]
[21,1904,21,1909,11,1912,null,null,null,null,0,221,null,null,null,"% of reinforcement given in 6 equal intervals based on number of trials "]
[21,2006,21,2011,22,2017,null,null,null,null,0,222,null,null,null,"%_1","%_2","%_3","%_4","%_5","%_6"]
[21,2130,21,2136,22,2144,null,null,null,null,0,222,null,null,"target sequence",{"$f":"$G$3","v":221},{"$f":"$G$3","v":221},{"$f":"$G$3","v":221},{"$f":"$G$3","v":221},{"$f":"$G$3","v":221},{"$f":"$G$3","v":221}]
[21,2241,12,2244,24,2257,null,null,null,null,0,212,null,null,"total reinforcement",{"$f":"U13","v":5},{"$f":"Z13","v":2},{"$f":"AE13","v":7},{"$f":"AJ13","v":5},{"$f":"AO13","v":3},{"$f":"AT13","v":4}]
[21,2365,21,2370,22,2379,null,null,null,null,0,222,null,null,"% target"]
[21,2479,21,2486,22,2496,null,null,null,null,0,222,null,null,"CCRF"]
[12,2598,23,2611,24,2621,null,null,null,null,0,122,null,null,"% CCRf"]
[21,2717,21,2722,22,2727,null,null,null,null,0,222,null,null,"average response rate",{"$f":"F37/P20","v":122.12903225806451},{"$f":"(F67-F37)/Q20","v":123.9},{"$f":"(F98-F67)/R20","v":118.35483870967742},{"$f":"(F128-F98)/S20","v":179.76666666666668},{"$f":"(F159-F128)/T20","v":115.51612903225806},{"$f":"(F189-F159)/U20","v":128.30000000000001}]
[21,2825,12,2832,24,2834,null,null,null,null,0,212]
[21,2929,21,2937,11,2940,null,null,null,null,0,221]
[21,3038,21,3064,22,3072,null,null,null,null,0,222]
[21,3177,21,3182,22,3191,null,null,null,null,0,222]
[21,3291,12,3296,24,3303,null,null,null,null,0,212]
[12,3440,14,3449,24,3464,null,null,null,null,0,112]
[21,3561,21,3563,22,3566,null,null,null,null,0,222]
[21,3661,21,3667,22,3674,null,null,null,null,0,222]
[21,3774,21,3782,22,3786,null,null,null,null,0,222]
[21,4214,21,4216,22,4221,null,null,null,null,0,222]
[21,4319,21,4321,22,4327,null,null,null,null,0,222]
[21,4420,21,4424,22,4429,null,null,null,null,0,222]
[21,4526,12,4534,24,4539,null,null,null,null,0,212]
[21,4633,12,4637,24,4642,null,null,null,null,0,212]
[21,4740,12,4743,24,4750,null,null,null,null,0,212]
[21,4849,12,4855,24,4866,null,null,null,null,0,212]
[21,4964,21,4969,22,4978,null,null,null,null,0,222]
[21,5074,21,5083,11,5085,null,null,null,null,0,221]
[21,5172,21,5175,22,5184,null,null,null,null,0,222]
[12,5297,23,5307,24,5313,null,null,null,null,0,122]
[12,5410,23,5420,13,5429,null,null,null,null,0,121]
[21,5527,21,5533,22,5540,null,null,null,null,0,222]
[12,5632,23,5640,13,5643,null,null,null,null,0,121]
[21,5740,12,5748,24,5752,null,null,null,null,0,212]
[12,5961,23,5966,13,5970,null,null,null,null,0,121]
[21,6067,12,6068,24,6085,null,null,null,null,0,212]
[12,6178,23,6182,13,6186,null,null,null,null,0,121]
[21,6280,21,6282,22,6294,null,null,null,null,0,222]
[12,6386,23,6390,13,6393,null,null,null,null,0,121]
[12,6504,14,6512,24,6518,null,null,null,null,0,112]
[21,6615,12,6619,24,6624,null,null,null,null,0,212]
[21,6722,21,6730,22,6738,null,null,null,null,0,222]
[21,6838,12,6840,24,6846,null,null,null,null,0,212]
[12,6940,23,6942,13,6945,null,null,null,null,0,121]
[12,7038,23,7042,13,7048,null,null,null,null,0,121]
[21,7144,12,7148,24,7155,null,null,null,null,0,212]
[21,7251,21,7257,11,7261,null,null,null,null,0,221]
[21,7370,21,7375,22,7384,null,null,null,null,0,222]
[21,7489,21,7495,22,7503,null,null,null,null,0,222]
[21,7602,12,7606,24,7611,null,null,null,null,0,212]
[21,7709,12,7712,24,7717,null,null,null,null,0,212]
[21,7811,21,7814,11,7820,null,null,null,null,0,221]
[21,7988,21,7993,22,8004,null,null,null,null,0,222]
[12,8097,23,8101,24,8111,null,null,null,null,0,122]
[12,8209,23,8215,24,8224,null,null,null,null,0,122]
[21,8319,12,8325,24,8330,null,null,null,null,0,212]
[21,8426,12,8428,13,8431,null,null,null,null,0,211]
[21,8528,12,8534,24,8540,null,null,null,null,0,212]
[12,8636,23,8645,24,8649,null,null,null,null,0,122]
[21,8741,12,8743,24,8748,null,null,null,null,0,212]
[21,8845,12,8850,24,8854,null,null,null,null,0,212]
[21,8950,21,8956,22,8964,null,null,null,null,0,222]
[21,9060,12,9064,24,9071,null,null,null,null,0,212]
[21,9169,12,9173,24,9184,null,null,null,null,0,212]
[21,9282,12,9286,24,9289,null,null,null,null,0,212]
[21,9387,21,9398,22,9403,null,null,null,null,0,222]
[21,9500,21,9507,11,9510,null,null,null,null,0,221]
[21,9615,21,9623,22,9629,null,null,null,null,0,222]
[21,9726,12,9731,24,9735,null,null,null,null,0,212]
[21,9871,21,9881,22,9889,null,null,null,null,0,222]
[21,9985,21,9994,11,9998,null,null,null,null,0,221]
[21,10109,21,10120,22,10127,null,null,null,null,0,222]
[21,10224,21,10240,11,10245,null,null,null,null,0,221]
[21,10402,21,10406,11,10408,null,null,null,null,0,221]
[21,10567,21,10571,22,10579,null,null,null,null,0,222]
[21,10672,21,10678,11,10681,null,null,null,null,0,221]
[12,10831,23,10840,24,10846,null,null,null,null,0,122]
[21,10942,12,10947,24,10951,null,null,null,null,0,212]
[21,11048,12,11050,24,11061,null,null,null,null,0,212]
[21,11160,21,11164,11,11172,null,null,null,null,0,221]
[21,11286,21,11291,22,11297,null,null,null,null,0,222]
[12,11390,23,11393,24,11397,null,null,null,null,0,122]
[12,11503,23,11510,13,11518,null,null,null,null,0,121]
[12,11666,23,11668,13,11674,null,null,null,null,0,121]
[21,12527,21,12534,22,12541,null,null,null,null,0,222]
[21,13340,21,13348,22,13353,null,null,null,null,0,222]
[21,13449,21,13454,22,13457,null,null,null,null,0,222]
[21,13553,21,13564,11,13567,null,null,null,null,0,221]
[21,13773,21,13782,22,13790,null,null,null,null,0,222]
[21,13886,12,13890,24,13896,null,null,null,null,0,212]
[12,13990,23,13993,24,13996,null,null,null,null,0,122]
[21,14101,12,14106,24,14114,null,null,null,null,0,212]
[21,14208,21,14213,22,14221,null,null,null,null,0,222]
[12,14316,23,14330,24,14336,null,null,null,null,0,122]
[21,14432,21,14439,11,14443,null,null,null,null,0,221]
[21,14587,21,14595,22,14602,null,null,null,null,0,222]
[12,14694,23,14697,24,14708,null,null,null,null,0,122]
[12,14800,23,14803,24,14809,null,null,null,null,0,122]
[12,14902,14,14912,24,14919,null,null,null,null,0,112]
[21,15120,21,15126,11,15136,null,null,null,null,0,221]
[21,15290,21,15301,22,15308,null,null,null,null,0,222]
[21,15401,12,15407,24,15409,null,null,null,null,0,212]
[21,15509,12,15513,24,15519,null,null,null,null,0,212]
[21,15616,12,15621,24,15625,null,null,null,null,0,212]
[21,15718,21,15728,11,15730,null,null,null,null,0,221]
[21,16073,21,16084,11,16088,null,null,null,null,0,221]
[21,16214,21,16221,22,16234,null,null,null,null,0,222]
[12,16333,23,16337,24,16344,null,null,null,null,0,122]
[21,16441,12,16452,24,16460,null,null,null,null,0,212]
[12,16555,23,16560,24,16565,null,null,null,null,0,122]
[12,16659,23,16665,24,16671,null,null,null,null,0,122]
[21,16768,12,16779,24,16782,null,null,null,null,0,212]
[21,16874,21,16881,11,16883,null,null,null,null,0,221]
[21,17017,21,17023,22,17030,null,null,null,null,0,222]
[21,17127,21,17138,11,17142,null,null,null,null,0,221]
[21,17384,12,17395,24,17397,null,null,null,null,0,212]
[21,17492,12,17497,24,17501,null,null,null,null,0,212]
[12,17594,23,17597,24,17601,null,null,null,null,0,122]
[21,17698,12,17707,24,17715,null,null,null,null,0,212]
[21,17811,12,17818,24,17820,null,null,null,null,0,212]
[21,17917,12,17923,24,17928,null,null,null,null,0,212]
[21,18024,12,18032,13,18034,null,null,null,null,0,211]
[21,18131,21,18145,22,18153,null,null,null,null,0,222]
[12,18245,23,18257,24,18262,null,null,null,null,0,122]
[21,18358,12,18367,24,18371,null,null,null,null,0,212]
[21,18467,12,18474,24,18480,null,null,null,null,0,212]
[21,18574,21,18580,11,18585,null,null,null,null,0,221]
[21,18691,21,18697,22,18705,null,null,null,null,0,222]
[21,18801,21,18808,22,18815,null,null,null,null,0,222]
[12,18908,23,18911,13,18917,null,null,null,null,0,121]
[21,19028,12,19031,24,19033,null,null,null,null,0,212]
[21,19130,12,19134,24,19141,null,null,null,null,0,212]
[21,19238,12,19242,24,19245,null,null,null,null,0,212]
[21,19342,21,19347,22,19354,null,null,null,null,0,222]
[21,19488,12,19498,24,19499,null,null,null,null,0,212]
[12,19598,23,19603,24,19607,null,null,null,null,0,122]
[21,19704,21,19711,22,19717,null,null,null,null,0,222]
[21,19814,12,19819,24,19825,null,null,null,null,0,212]
[21,19921,12,19925,13,19934,null,null,null,null,0,211]
[21,20031,12,20035,24,20039,null,null,null,null,0,212]
[21,20131,12,20138,24,20146,null,null,null,null,0,212]
[21,20241,12,20248,24,20255,null,null,null,null,0,212]
[21,20351,12,20355,24,20359,null,null,null,null,0,212]
[21,20465,21,20469,11,20474,null,null,null,null,0,221]
[21,20619,21,20622,22,20627,null,null,null,null,0,222]
[21,20723,21,20730,22,20736,null,null,null,null,0,222]
[21,20831,21,20836,22,20844,null,null,null,null,0,222]
[21,20936,12,20946,24,20949,null,null,null,null,0,212]
[21,21047,21,21051,22,21058,null,null,null,null,0,222]
[21,21152,12,21159,24,21164,null,null,null,null,0,212]
[21,21260,12,21264,24,21272,null,null,null,null,0,212]
[21,21369,12,21371,13,21374,null,null,null,null,0,211]
[21,21470,12,21477,24,21479,null,null,null,null,0,212]
[21,21575,12,21582,24,21586,null,null,null,null,0,212]
[21,21791,21,21796,11,21798,null,null,null,null,0,221]
[21,22086,21,22092,22,22103,null,null,null,null,0,222]
[21,22199,12,22203,24,22213,null,null,null,null,0,212]
[21,22305,12,22310,24,22317,null,null,null,null,0,212]
[21,22409,21,22414,11,22422,null,null,null,null,0,221]
[21,22553,21,22559,22,22566,null,null,null,null,0,222]
[21,22661,12,22668,24,22675,null,null,null,null,0,212]
[21,22772,12,22777,24,22782,null,null,null,null,0,212]
[21,22877,12,22880,24,22888,null,null,null,null,0,212]
[21,22986,12,22993,24,22996,null,null,null,null,0,212]
[21,23091,12,23095,24,23098,null,null,null,null,0,212]
[21,23221,21,23228,22,23234,null,null,null,null,0,222]
[21,23330,21,23335,11,23337,null,null,null,null,0,221]
[21,23572,21,23578,22,23592,null,null,null,null,0,222]
[21,23688,12,23692,24,23699,null,null,null,null,0,212]
[21,23796,21,23803,22,23810,null,null,null,null,0,222]
[21,23986,12,23993,24,23995,null,null,null,null,null,212]

{"sheet":"!MA08A50.Gus","index":17,"n_rows":208,"n_cols":48,"rows_kept":208,"cut":false,"hidden":false,"merged":[[4,39,4,42],[5,39,5,40],[4,44,4,47],[5,44,5,45],[4,24,4,27],[5,24,5,25],[4,29,4,32],[5,29,5,30],[4,34,4,37],[5,34,5,35],[1,1,1,2],[5,13,5,14],[18,13,18,14],[19,13,19,14],[4,19,4,22],[5,19,5,20]]}
["Report for:!MA08A50.Gus"]
["Date:","<date>"]
["Hen:","<hen>",null,null,null,"Correct Sequence",{"$f":"Start!J2","v":221},null,null,null,null,null,null,null,null,"Total Sequences in Data",{"$f":"4994-COUNTBLANK(L7:L5000)","v":202},null,null,null,null,"Total Sequences in Block Data",{"$f":"COUNTA(L7:L40)","v":34},null,null,null,"Total Sequences in Block Data",{"$f":"COUNTA(L41:L73)","v":33},null,null,null,"Total Sequences in Block Data",{"$f":"COUNTA(L74:L107)","v":34},null,null,null,"Total Sequences in Block Data",{"$f":"COUNTA(L108:L141)","v":34},null,null,null,"Total Sequences in Block Data",{"$f":"COUNTA(L142:L174)","v":33},null,null,null,"Total Sequences in Block Data",{"$f":"COUNTA(L175:L208)","v":34}]
[null,null,null,null,null,null,null,null,null,null,null,null,null,null,null,"Total Sequences in Summary",{"$f":"SUM(O7:O14)","v":202},null,null,null,null,"Total Sequences in Block Summary",{"$f":"SUM(U7:U14)","v":34},null,null,null,"Total Sequences in Block Summary",{"$f":"SUM(Z7:Z14)","v":33},null,null,null,"Total Sequences in Block Summary",{"$f":"SUM(AE7:AE14)","v":34},null,null,null,"Total Sequences in Block Summary",{"$f":"SUM(AJ7:AJ14)","v":34},null,null,null,"Total Sequences in Block Summary",{"$f":"SUM(AO7:AO14)","v":33},null,null,null,"Total Sequences in Block Summary",{"$f":"SUM(AT7:AT14)","v":34}]
[null,null,null,null,null,null,null,null,null,null,null,null,null,null,null,null,null,null,null,"Block 1",null,null,null,null,"Block 2",null,null,null,null,"Block 3",null,null,null,null,"Block 4",null,null,null,null,"Block 5",null,null,null,null,"Block 6"]
["Sequence\nComponent\n1","Time\n1","Sequence\nComponent\n2","Time\n2","Sequence\nComponent\n3","Time\n3","Sequence\nComponent\n4","Time\n4","Sequence\nComponent\n5","Time\n5","Correct?\n0=No 1=Yes","Sequence",null,"Frequency",null,"Relative Frequency","Variability",null,null,"Frequency",null,"Relative Frequency","Variability",null,"Frequency",null,"Relative Frequency","Variability",null,"Frequency",null,"Relative Frequency","Variability",null,"Frequency",null,"Relative Frequency","Variability",null,"Frequency",null,"Relative Frequency","Variability",null,"Frequency",null,"Relative Frequency","Variability"]
[21,185,21,190,22,193,null,null,null,null,0,222,null,111,{"$f":"COUNTIF($L$7:$L$500,N7)","v":0},{"$f":"O7/$Q$4","v":0},{"$f":"IF(P7=0,0,(P7*((LOG(P7))/LOG(2))))","v":0},null,null,{"$f":"N7","v":111},{"$f":"COUNTIF(L7:L40,T7)","v":0},{"$f":"U7/(W4-U13)","v":0},{"$f":"IF(V7=0,0,(V7*((LOG(V7))/LOG(2))))","v":0},null,{"$f":"N7","v":111},{"$f":"COUNTIF(L41:L73,Y7)","v":0},{"$f":"Z7/(AB4-Z13)","v":0},{"$f":"IF(AA7=0,0,(AA7*((LOG(AA7))/LOG(2))))","v":0},null,{"$f":"N7","v":111},{"$f":"COUNTIF(L74:L107,AD7)","v":0},{"$f":"AE7/(AG4-AE13)","v":0},{"$f":"IF(AF7=0,0,(AF7*((LOG(AF7))/LOG(2))))","v":0},null,{"$f":"N7","v":111},{"$f":"COUNTIF(L108:L141,AI7)","v":0},{"$f":"AJ7/(AL4-AJ13)","v":0},{"$f":"IF(AK7=0,0,(AK7*((LOG(AK7))/LOG(2))))","v":0},null,{"$f":"N7","v":111},{"$f":"COUNTIF(L142:L174,AN7)","v":0},{"$f":"AO7/(AQ4-AO13)","v":0},{"$f":"IF(AP7=0,0,(AP7*((LOG(AP7))/LOG(2))))","v":0},null,{"$f":"N7","v":111},{"$f":"COUNTIF(L175:L208,AS7)","v":0},{"$f":"AT7/(AV4-AT13)","v":0},{"$f":"IF(AU7=0,0,(AU7*((LOG(AU7))/LOG(2))))","v":0}]
[12,289,23,291,24,296,null,null,null,null,0,122,null,112,{"$f":"COUNTIF($L$7:$L$500,N8)","v":4},{"$f":"O8/$Q$4","v":1.9801980198019802E-2},{"$f":"IF(P8=0,0,(P8*((LOG(P8))/LOG(2))))","v":-0.1120437917376593},null,null,{"$f":"N8","v":112},{"$f":"COUNTIF(L7:L40,T8)","v":0},{"$f":"U8/(W4-U13)","v":0},{"$f":"IF(V8=0,0,(V8*((LOG(V8))/LOG(2))))","v":0},null,{"$f":"N8","v":112},{"$f":"COUNTIF(L41:L73,Y8)","v":0},{"$f":"Z8/(AB4-Z13)","v":0},{"$f":"IF(AA8=0,0,(AA8*((LOG(AA8))/LOG(2))))","v":0},null,{"$f":"N8","v":112},{"$f":"COUNTIF(L74:L107,AD8)","v":2},{"$f":"AE8/(AG4-AE13)","v":6.8965517241379309E-2},{"$f":"IF(AF8=0,0,(AF8*((LOG(AF8))/LOG(2))))","v":-0.26606765483638428},null,{"$f":"N8","v":112},{"$f":"COUNTIF(L108:L141,AI8)","v":0},{"$f":"AJ8/(AL4-AJ13)","v":0},{"$f":"IF(AK8=0,0,(AK8*((LOG(AK8))/LOG(2))))","v":0},null,{"$f":"N8","v":112},{"$f":"COUNTIF(L142:L174,AN8)","v":1},{"$f":"AO8/(AQ4-AO13)","v":0.04},{"$f":"IF(AP8=0,0,(AP8*((LOG(AP8))/LOG(2))))","v":-0.18575424759098899},null,{"$f":"N8","v":112},{"$f":"COUNTIF(L175:L208,AS8)","v":1},{"$f":"AT8/(AV4-AT13)","v":3.4482758620689655E-2},{"$f":"IF(AU8=0,0,(AU8*((LOG(AU8))/LOG(2))))","v":-0.16751658603888178}]
[21,389,21,392,11,400,null,null,null,null,0,221,null,121,{"$f":"COUNTIF($L$7:$L$500,N9)","v":17},{"$f":"O9/$Q$4","v":8.4158415841584164E-2},{"$f":"IF(P9=0,0,(P9*((LOG(P9))/LOG(2))))","v":-0.30050854903725122},null,null,{"$f":"N9","v":121},{"$f":"COUNTIF(L7:L40,T9)","v":4},{"$f":"U9/(W4-U13)","v":0.13333333333333333},{"$f":"IF(V9=0,0,(V9*((LOG(V9))/LOG(2))))","v":-0.3875854127478025},null,{"$f":"N9","v":121},{"$f":"COUNTIF(L41:L73,Y9)","v":3},{"$f":"Z9/(AB4-Z13)","v":0.10344827586206896},{"$f":"IF(AA9=0,0,(AA9*((LOG(AA9))/LOG(2))))","v":-0.33858812011100858},null,{"$f":"N9","v":121},{"$f":"COUNTIF(L74:L107,AD9)","v":2},{"$f":"AE9/(AG4-AE13)","v":6.8965517241379309E-2},{"$f":"IF(AF9=0,0,(AF9*((LOG(AF9))/LOG(2))))","v":-0.26606765483638428},null,{"$f":"N9","v":121},{"$f":"COUNTIF(L108:L141,AI9)","v":2},{"$f":"AJ9/(AL4-AJ13)","v":7.1428571428571425E-2},{"$f":"IF(AK9=0,0,(AK9*((LOG(AK9))/LOG(2))))","v":-0.27195392300411453},null,{"$f":"N9","v":121},{"$f":"COUNTIF(L142:L174,AN9)","v":1},{"$f":"AO9/(AQ4-AO13)","v":0.04},{"$f":"IF(AP9=0,0,(AP9*((LOG(AP9))/LOG(2))))","v":-0.18575424759098899},null,{"$f":"N9","v":121},{"$f":"COUNTIF(L175:L208,AS9)","v":5},{"$f":"AT9/(AV4-AT13)","v":0.17241379310344829},{"$f":"IF(AU9=0,0,(AU9*((LOG(AU9))/LOG(2))))","v":-0.43725050004141547}]
[21,581,21,586,22,601,null,null,null,null,0,222,null,122,{"$f":"COUNTIF($L$7:$L$500,N10)","v":18},{"$f":"O10/$Q$4","v":8.9108910891089105E-2},{"$f":"IF(P10=0,0,(P10*((LOG(P10))/LOG(2))))","v":-0.31083740922559738},null,null,{"$f":"N10","v":122},{"$f":"COUNTIF(L7:L40,T10)","v":4},{"$f":"U10/(W4-U13)","v":0.13333333333333333},{"$f":"IF(V10=0,0,(V10*((LOG(V10))/LOG(2))))","v":-0.3875854127478025},null,{"$f":"N10","v":122},{"$f":"COUNTIF(L41:L73,Y10)","v":1},{"$f":"Z10/(AB4-Z13)","v":3.4482758620689655E-2},{"$f":"IF(AA10=0,0,(AA10*((LOG(AA10))/LOG(2))))","v":-0.16751658603888178},null,{"$f":"N10","v":122},{"$f":"COUNTIF(L74:L107,AD10)","v":1},{"$f":"AE10/(AG4-AE13)","v":3.4482758620689655E-2},{"$f":"IF(AF10=0,0,(AF10*((LOG(AF10))/LOG(2))))","v":-0.16751658603888178},null,{"$f":"N10","v":122},{"$f":"COUNTIF(L108:L141,AI10)","v":4},{"$f":"AJ10/(AL4-AJ13)","v":0.14285714285714285},{"$f":"IF(AK10=0,0,(AK10*((LOG(AK10))/LOG(2))))","v":-0.40105070315108626},null,{"$f":"N10","v":122},{"$f":"COUNTIF(L142:L174,AN10)","v":3},{"$f":"AO10/(AQ4-AO13)","v":0.12},{"$f":"IF(AP10=0,0,(AP10*((LOG(AP10))/LOG(2))))","v":-0.36706724268642821},null,{"$f":"N10","v":122},{"$f":"COUNTIF(L175:L208,AS10)","v":5},{"$f":"AT10/(AV4-AT13)","v":0.17241379310344829},{"$f":"IF(AU10=0,0,(AU10*((LOG(AU10))/LOG(2))))","v":-0.43725050004141547}]
[21,697,12,713,13,718,null,null,null,null,0,211,null,211,{"$f":"COUNTIF($L$7:$L$500,N11)","v":3},{"$f":"O11/$Q$4","v":1.4851485148514851E-2},{"$f":"IF(P11=0,0,(P11*((LOG(P11))/LOG(2))))","v":-9.0196767059860961E-2},null,null,{"$f":"N11","v":211},{"$f":"COUNTIF(L7:L40,T11)","v":1},{"$f":"U11/(W4-U13)","v":3.3333333333333333E-2},{"$f":"IF(V11=0,0,(V11*((LOG(V11))/LOG(2))))","v":-0.16356301985361729},null,{"$f":"N11","v":211},{"$f":"COUNTIF(L41:L73,Y11)","v":2},{"$f":"Z11/(AB4-Z13)","v":6.8965517241379309E-2},{"$f":"IF(AA11=0,0,(AA11*((LOG(AA11))/LOG(2))))","v":-0.26606765483638428},null,{"$f":"N11","v":211},{"$f":"COUNTIF(L74:L107,AD11)","v":0},{"$f":"AE11/(AG4-AE13)","v":0},{"$f":"IF(AF11=0,0,(AF11*((LOG(AF11))/LOG(2))))","v":0},null,{"$f":"N11","v":211},{"$f":"COUNTIF(L108:L141,AI11)","v":0},{"$f":"AJ11/(AL4-AJ13)","v":0},{"$f":"IF(AK11=0,0,(AK11*((LOG(AK11))/LOG(2))))","v":0},null,{"$f":"N11","v":211},{"$f":"COUNTIF(L142:L174,AN11)","v":0},{"$f":"AO11/(AQ4-AO13)","v":0},{"$f":"IF(AP11=0,0,(AP11*((LOG(AP11))/LOG(2))))","v":0},null,{"$f":"N11","v":211},{"$f":"COUNTIF(L175:L208,AS11)","v":0},{"$f":"AT11/(AV4-AT13)","v":0},{"$f":"IF(AU11=0,0,(AU11*((LOG(AU11))/LOG(2))))","v":0}]
[21,817,12,819,24,821,null,null,null,null,0,212,null,212,{"$f":"COUNTIF($L$7:$L$500,N12)","v":70},{"$f":"O12/$Q$4","v":0.34653465346534651},{"$f":"IF(P12=0,0,(P12*((LOG(P12))/LOG(2))))","v":-0.5298266960716731},null,null,{"$f":"N12","v":212},{"$f":"COUNTIF(L7:L40,T12)","v":12},{"$f":"U12/(W4-U13)","v":0.4},{"$f":"IF(V12=0,0,(V12*((LOG(V12))/LOG(2))))","v":-0.52877123795494496},null,{"$f":"N12","v":212},{"$f":"COUNTIF(L41:L73,Y12)","v":12},{"$f":"Z12/(AB4-Z13)","v":0.41379310344827586},{"$f":"IF(AA12=0,0,(AA12*((LOG(AA12))/LOG(2))))","v":-0.5267662735474824},null,{"$f":"N12","v":212},{"$f":"COUNTIF(L74:L107,AD12)","v":18},{"$f":"AE12/(AG4-AE13)","v":0.62068965517241381},{"$f":"IF(AF12=0,0,(AF12*((LOG(AF12))/LOG(2))))","v":-0.4270692374598164},null,{"$f":"N12","v":212},{"$f":"COUNTIF(L108:L141,AI12)","v":12},{"$f":"AJ12/(AL4-AJ13)","v":0.42857142857142855},{"$f":"IF(AK12=0,0,(AK12*((LOG(AK12))/LOG(2))))","v":-0.52388246628704915},null,{"$f":"N12","v":212},{"$f":"COUNTIF(L142:L174,AN12)","v":8},{"$f":"AO12/(AQ4-AO13)","v":0.32},{"$f":"IF(AP12=0,0,(AP12*((LOG(AP12))/LOG(2))))","v":-0.52603398072791185},null,{"$f":"N12","v":212},{"$f":"COUNTIF(L175:L208,AS12)","v":8},{"$f":"AT12/(AV4-AT13)","v":0.27586206896551724},{"$f":"IF(AU12=0,0,(AU12*((LOG(AU12))/LOG(2))))","v":-0.51254648141450265}]
[21,917,12,923,24,925,null,null,null,null,0,212,null,221,{"$f":"COUNTIF($L$7:$L$500,N13)","v":32},{"$f":"O13/$Q$4","v":0.15841584158415842},{"$f":"IF(P13=0,0,(P13*((LOG(P13))/LOG(2))))","v":-0.42110280914879922},null,null,{"$f":"N13","v":221},{"$f":"COUNTIF(L7:L40,T13)","v":4},null,null,null,{"$f":"N13","v":221},{"$f":"COUNTIF(L41:L73,Y13)","v":4},null,null,null,{"$f":"N13","v":221},{"$f":"COUNTIF(L74:L107,AD13)","v":5},null,null,null,{"$f":"N13","v":221},{"$f":"COUNTIF(L108:L141,AI13)","v":6},null,null,null,{"$f":"N13","v":221},{"$f":"COUNTIF(L142:L174,AN13)","v":8},null,null,null,{"$f":"N13","v":221},{"$f":"COUNTIF(L175:L208,AS13)","v":5}]
[21,1026,21,1032,11,1035,null,null,null,null,0,221,null,222,{"$f":"COUNTIF($L$7:$L$500,N14)","v":58},{"$f":"O14/$Q$4","v":0.28712871287128711},{"$f":"IF(P14=0,0,(P14*((LOG(P14))/LOG(2))))","v":-0.51689786278319261},null,null,{"$f":"N14","v":222},{"$f":"COUNTIF(L7:L40,T14)","v":9},{"$f":"U14/(W4-U13)","v":0.3},{"$f":"IF(V14=0,0,(V14*((LOG(V14))/LOG(2))))","v":-0.52108967824986185},null,{"$f":"N14","v":222},{"$f":"COUNTIF(L41:L73,Y14)","v":11},{"$f":"Z14/(AB4-Z13)","v":0.37931034482758619},{"$f":"IF(AA14=0,0,(AA14*((LOG(AA14))/LOG(2))))","v":-0.53048424625493174},null,{"$f":"N14","v":222},{"$f":"COUNTIF(L74:L107,AD14)","v":6},{"$f":"AE14/(AG4-AE13)","v":0.20689655172413793},{"$f":"IF(AF14=0,0,(AF14*((LOG(AF14))/LOG(2))))","v":-0.4702796884978791},null,{"$f":"N14","v":222},{"$f":"COUNTIF(L108:L141,AI14)","v":10},{"$f":"AJ14/(AL4-AJ13)","v":0.35714285714285715},{"$f":"IF(AK14=0,0,(AK14*((LOG(AK14))/LOG(2))))","v":-0.53050958113222924},null,{"$f":"N14","v":222},{"$f":"COUNTIF(L142:L174,AN14)","v":12},{"$f":"AO14/(AQ4-AO13)","v":0.48},{"$f":"IF(AP14=0,0,(AP14*((LOG(AP14))/LOG(2))))","v":-0.50826897074571287},null,{"$f":"N14","v":222},{"$f":"COUNTIF(L175:L208,AS14)","v":10},{"$f":"AT14/(AV4-AT13)","v":0.34482758620689657},{"$f":"IF(AU14=0,0,(AU14*((LOG(AU14))/LOG(2))))","v":-0.52967341387593436}]
[21,1127,12,1132,24,1138,null,null,null,null,0,212,null,null,null,{"$f":"SUM(P7:P14)","v":1},{"$f":"-SUM(Q7:Q14)","v":2.2814138850640338},null,null,null,null,{"$f":"SUM(V7:V14)","v":1},{"$f":"-SUM(W7:W14)","v":1.9885947615540291},null,null,null,{"$f":"SUM(AA7:AA14)","v":1},{"$f":"-SUM(AB7:AB14)","v":1.8294228807886888},null,null,null,{"$f":"SUM(AF7:AF14)","v":1},{"$f":"-SUM(AG7:AG14)","v":1.5970008216693456},null,null,null,{"$f":"SUM(AK7:AK14)","v":1},{"$f":"-SUM(AL7:AL14)","v":1.727396673574479},null,null,null,{"$f":"SUM(AP7:AP14)","v":1},{"$f":"-SUM(AQ7:AQ14)","v":1.772878689342031},null,null,null,{"$f":"SUM(AU7:AU14)","v":1},{"$f":"-SUM(AV7:AV14)","v":2.0842374814121496}]
[12,1231,23,1233,13,1237,null,null,null,null,0,121,null,null,null,"U=",{"$f":"Q15/(LOG(Q4)/LOG(2))","v":0.29790426788321889},null,null,null,null,"U1=",{"$f":"W15/(LOG(W4)/LOG(2))","v":0.39088143218070065},null,null,null,"U2=",{"$f":"AB15/(LOG(AB4)/LOG(2))","v":0.36266454156864231},null,null,null,"U3=",{"$f":"AG15/(LOG(AG4)/LOG(2))","v":0.31390908818448549},null,null,null,"U4=",{"$f":"AL15/(LOG(AL4)/LOG(2))","v":0.33953990967134789},null,null,null,"U5=",{"$f":"AQ15/(LOG(AQ4)/LOG(2))","v":0.35145522879316693},null,null,null,"U6=",{"$f":"AV15/(LOG(AV4)/LOG(2))","v":0.40968112130719941}]
[21,1349,21,1357,22,1365,null,null,null,null,0,222]
[12,1457,23,1461,13,1467,null,null,null,null,0,121]
[12,1559,23,1563,13,1568,null,null,null,null,0,121,null,"Total Target Seq"]
[21,1664,12,1668,24,1672,null,null,null,null,0,212,null,{"$f":"COUNTIF(L7:L208,G3)","v":32},null,34,33,34,34,33,34]
[21,1769,12,1778,24,1784,null,null,null,null,0,212,null,null,null,"% of reinforcement given in 6 equal intervals based on number of trials "]
[21,1880,12,1885,24,1895,null,null,null,null,0,212,null,null,null,"%_1","%_2","%_3","%_4","%_5","%_6"]
[21,1992,12,2000,24,2002,null,null,null,null,0,212,null,null,"target sequence",{"$f":"$G$3","v":221},{"$f":"$G$3","v":221},{"$f":"$G$3","v":221},{"$f":"$G$3","v":221},{"$f":"$G$3","v":221},{"$f":"$G$3","v":221}]
[21,2099,21,2105,22,2110,null,null,null,null,0,222,null,null,"total reinforcement",{"$f":"U13","v":4},{"$f":"Z13","v":4},{"$f":"AE13","v":5},{"$f":"AJ13","v":6},{"$f":"AO13","v":8},{"$f":"AT13","v":5}]
[21,2206,12,2211,24,2219,null,null,null,null,0,212,null,null,"% target"]
[21,2315,12,2324,24,2332,null,null,null,null,0,212,null,null,"CCRF"]
[21,2429,12,2435,24,2437,null,null,null,null,0,212,null,null,"% CCRf"]
[12,2530,23,2533,13,2538,null,null,null,null,0,121,null,null,"average response rate",{"$f":"F40/P20","v":113.55882352941177},{"$f":"(F73-F40)/Q20","v":115},{"$f":"(F107-F73)/R20","v":114.82352941176471},{"$f":"(F141-F107)/S20","v":115.88235294117646},{"$f":"(F174-F141)/T20","v":126.18181818181819},{"$f":"(F208-F174)/U20","v":126.61764705882354}]
[21,2634,12,2639,24,2642,null,null,null,null,0,212]
[12,2736,23,2738,24,2744,null,null,null,null,0,122]
[21,2841,21,2845,22,2849,null,null,null,null,0,222]
[21,2946,21,2951,22,2958,null,null,null,null,0,222]
[21,3056,21,3060,11,3062,null,null,null,null,0,221]
[21,3162,21,3166,22,3170,null,null,null,null,0,222]
[21,3267,21,3276,22,3282,null,null,null,null,0,222]
[21,3381,12,3391,24,3393,null,null,null,null,0,212]
[12,3486,23,3489,24,3496,null,null,null,null,0,122]
[21,3595,21,3599,11,3602,null,null,null,null,0,221]
[21,3743,21,3753,22,3759,null,null,null,null,0,222]
[12,3851,23,3855,24,3861,null,null,null,null,0,122]
[21,3955,21,3962,22,3967,null,null,null,null,0,222]
[12,4061,23,4064,13,4068,null,null,null,null,0,121]
[21,4163,12,4170,24,4177,null,null,null,null,0,212]
[21,4273,21,4275,22,4279,null,null,null,null,0,222]
[12,4373,23,4376,13,4381,null,null,null,null,0,121]
[21,4478,12,4486,24,4491,null,null,null,null,0,212]
[21,4589,21,4594,22,4601,null,null,null,null,0,222]
[21,4696,21,4706,22,4717,null,null,null,null,0,222]
[21,4813,12,4820,13,4822,null,null,null,null,0,211]
[21,4918,21,4926,11,4934,null,null,null,null,0,221]
[21,5087,21,5097,22,5102,null,null,null,null,0,222]
[21,5199,12,5207,24,5219,null,null,null,null,0,212]
[21,5314,12,5320,24,5323,null,null,null,null,0,212]
[21,5415,12,5420,13,5430,null,null,null,null,0,211]
[12,5522,23,5527,13,5533,null,null,null,null,0,121]
[21,5631,12,5638,24,5646,null,null,null,null,0,212]
[21,5741,12,5747,24,5749,null,null,null,null,0,212]
[21,5845,21,5862,22,5867,null,null,null,null,0,222]
[21,5963,21,5970,22,5978,null,null,null,null,0,222]
[12,6072,23,6075,24,6078,null,null,null,null,0,122]
[21,6170,21,6176,22,6184,null,null,null,null,0,222]
[21,6280,12,6287,24,6300,null,null,null,null,0,212]
[21,6396,12,6403,24,6409,null,null,null,null,0,212]
[21,6506,12,6515,24,6519,null,null,null,null,0,212]
[21,6615,21,6622,11,6625,null,null,null,null,0,221]
[21,6742,21,6747,22,6756,null,null,null,null,0,222]
[21,6858,12,6860,24,6867,null,null,null,null,0,212]
[21,6962,21,6972,22,6983,null,null,null,null,0,222]
[21,7079,21,7082,11,7085,null,null,null,null,0,221]
[21,7194,21,7201,22,7208,null,null,null,null,0,222]
[21,7300,12,7302,24,7312,null,null,null,null,0,212]
[21,7407,21,7414,11,7417,null,null,null,null,0,221]
[21,7639,12,7648,24,7656,null,null,null,null,0,212]
[21,7755,12,7760,24,7762,null,null,null,null,0,212]
[21,7862,12,7869,24,7881,null,null,null,null,0,212]
[21,7977,12,7986,24,7989,null,null,null,null,0,212]
[21,8084,12,8092,24,8096,null,null,null,null,0,212]
[12,8190,23,8192,13,8197,null,null,null,null,0,121]
[21,8292,12,8297,24,8305,null,null,null,null,0,212]
[21,8402,21,8405,22,8410,null,null,null,null,0,222]
[21,8503,21,8505,11,8510,null,null,null,null,0,221]
[21,8625,21,8630,22,8635,null,null,null,null,0,222]
[21,8730,12,8736,24,8742,null,null,null,null,0,212]
[21,8837,21,8844,11,8849,null,null,null,null,0,221]
[21,8993,21,9003,22,9010,null,null,null,null,0,222]
[21,9103,12,9108,24,9111,null,null,null,null,0,212]
[12,9204,23,9207,24,9209,null,null,null,null,0,122]
[21,9302,12,9310,24,9314,null,null,null,null,0,212]
[21,9431,12,9435,24,9447,null,null,null,null,0,212]
[12,9540,14,9547,24,9549,null,null,null,null,0,112]
[21,9642,21,9647,11,9654,null,null,null,null,0,221]
[21,9766,21,9771,22,9777,null,null,null,null,0,222]
[12,9871,14,9880,24,9886,null,null,null,null,0,112]
[21,9982,12,9987,24,9989,null,null,null,null,0,212]
[21,10083,12,10087,24,10090,null,null,null,null,0,212]
[21,10187,12,10196,24,10203,null,null,null,null,0,212]
[21,10298,21,10305,11,10308,null,null,null,null,0,221]
[21,10436,12,10442,24,10445,null,null,null,null,0,212]
[21,10538,12,10547,24,10556,null,null,null,null,0,212]
[21,10652,21,10656,22,10662,null,null,null,null,0,222]
[21,10758,12,10765,24,10770,null,null,null,null,0,212]
[21,10869,12,10880,24,10886,null,null,null,null,0,212]
[21,10982,21,10988,11,10992,null,null,null,null,0,221]
[21,11217,21,11222,22,11242,null,null,null,null,0,222]
[21,11339,12,11346,24,11349,null,null,null,null,0,212]
[21,11445,12,11453,24,11457,null,null,null,null,0,212]
[12,11550,23,11553,13,11560,null,null,null,null,0,121]
[21,11673,21,11677,22,11686,null,null,null,null,0,222]
[21,11782,12,11786,24,11790,null,null,null,null,0,212]
[21,11882,21,11889,22,11893,null,null,null,null,0,222]
[21,11986,21,11989,22,11993,null,null,null,null,0,222]
[12,12086,23,12088,24,12097,null,null,null,null,0,122]
[21,12192,21,12196,11,12199,null,null,null,null,0,221]
[21,12337,21,12342,22,12346,null,null,null,null,0,222]
[12,12439,23,12441,13,12446,null,null,null,null,0,121]
[21,12538,21,12548,11,12550,null,null,null,null,0,221]
[21,12726,21,12739,22,12746,null,null,null,null,0,222]
[21,12841,12,12847,24,12849,null,null,null,null,0,212]
[21,12945,21,12949,11,12951,null,null,null,null,0,221]
[21,13069,12,13081,24,13086,null,null,null,null,0,212]
[21,13185,12,13189,24,13195,null,null,null,null,0,212]
[21,13289,12,13295,24,13305,null,null,null,null,0,212]
[21,13401,12,13407,24,13416,null,null,null,null,0,212]
[21,13515,21,13522,22,13528,null,null,null,null,0,222]
[21,13623,21,13628,22,13636,null,null,null,null,0,222]
[12,13730,23,13733,24,13735,null,null,null,null,0,122]
[21,13830,12,13837,24,13847,null,null,null,null,0,212]
[21,13942,12,13948,24,13953,null,null,null,null,0,212]
[12,14045,23,14048,24,14053,null,null,null,null,0,122]
[21,14149,12,14155,24,14161,null,null,null,null,0,212]
[21,14256,12,14263,24,14268,null,null,null,null,0,212]
[12,14360,23,14363,13,14369,null,null,null,null,0,121]
[21,14466,21,14472,22,14480,null,null,null,null,0,222]
[21,14576,12,14581,24,14590,null,null,null,null,0,212]
[21,14685,12,14696,24,14698,null,null,null,null,0,212]
[21,14795,21,14798,11,14803,null,null,null,null,0,221]
[21,14972,21,14975,22,14976,null,null,null,null,0,222]
[21,15073,21,15077,11,15081,null,null,null,null,0,221]
[12,15248,23,15253,24,15262,null,null,null,null,0,122]
[21,15359,21,15365,11,15369,null,null,null,null,0,221]
[21,15484,21,15493,22,15500,null,null,null,null,0,222]
[21,15595,12,15599,24,15610,null,null,null,null,0,212]
[21,15705,21,15709,22,15714,null,null,null,null,0,222]
[21,15806,21,15813,11,15819,null,null,null,null,0,221]
[21,16016,12,16022,24,16024,null,null,null,null,0,212]
[12,16118,14,16130,24,16133,null,null,null,null,0,112]
[21,16229,12,16241,24,16244,null,null,null,null,0,212]
[21,16340,21,16343,11,16348,null,null,null,null,0,221]
[21,16506,21,16511,22,16515,null,null,null,null,0,222]
[21,16608,21,16614,22,16619,null,null,null,null,0,222]
[21,16715,21,16718,11,16722,null,null,null,null,0,221]
[21,16880,21,16886,22,16892,null,null,null,null,0,222]
[21,17016,12,17024,24,17029,null,null,null,null,0,212]
[12,17125,23,17128,24,17132,null,null,null,null,0,122]
[12,17241,23,17245,24,17252,null,null,null,null,0,122]
[12,17355,23,17362,24,17369,null,null,null,null,0,122]
[21,17465,21,17469,22,17474,null,null,null,null,0,222]
[12,17566,23,17569,13,17575,null,null,null,null,0,121]
[21,17667,12,17671,24,17676,null,null,null,null,0,212]
[21,17772,12,17778,24,17781,null,null,null,null,0,212]
[21,17893,21,17896,22,17903,null,null,null,null,0,222]
[21,17998,21,18002,11,18006,null,null,null,null,0,221]
[21,18218,21,18220,22,18222,null,null,null,null,0,222]
[21,18314,21,18318,11,18320,null,null,null,null,0,221]
[21,18454,21,18461,22,18469,null,null,null,null,0,222]
[21,18564,21,18569,22,18573,null,null,null,null,0,222]
[21,18668,21,18675,11,18677,null,null,null,null,0,221]
[21,18821,21,18831,22,18838,null,null,null,null,0,222]
[21,18934,21,18939,22,18946,null,null,null,null,0,222]
[21,19040,12,19042,24,19045,null,null,null,null,0,212]
[21,19137,12,19143,24,19146,null,null,null,null,0,212]
[21,19237,21,19245,11,19249,null,null,null,null,0,221]
[21,19542,21,19547,22,19556,null,null,null,null,0,222]
[21,19655,21,19658,11,19664,null,null,null,null,0,221]
[21,19829,21,19835,22,19842,null,null,null,null,0,222]
[21,19936,21,19940,22,19946,null,null,null,null,0,222]
[21,20042,21,20047,11,20049,null,null,null,null,0,221]
[21,20272,21,20275,22,20285,null,null,null,null,0,222]
[12,20377,23,20385,13,20387,null,null,null,null,0,121]
[21,20481,21,20492,22,20499,null,null,null,null,0,222]
[21,20596,12,20599,24,20602,null,null,null,null,0,212]
[21,20698,21,20704,11,20707,null,null,null,null,0,221]
[21,20813,21,20831,22,20837,null,null,null,null,0,222]
[21,20929,21,20934,22,20940,null,null,null,null,0,222]
[21,21036,12,21041,24,21043,null,null,null,null,0,212]
[12,21142,23,21145,24,21149,null,null,null,null,0,122]
[12,21242,23,21246,24,21252,null,null,null,null,0,122]
[12,21354,23,21365,24,21371,null,null,null,null,0,122]
[21,21466,12,21469,24,21476,null,null,null,null,0,212]
[21,21568,12,21574,24,21576,null,null,null,null,0,212]
[21,21677,12,21680,24,21683,null,null,null,null,0,212]
[12,21776,14,21779,24,21784,null,null,null,null,0,112]
[21,21876,12,21880,24,21881,null,null,null,null,0,212]
[12,21974,23,21976,13,21982,null,null,null,null,0,121]
[21,22077,21,22082,22,22085,null,null,null,null,0,222]
[21,22181,21,22188,11,22194,null,null,null,null,0,221]
[21,22455,21,22473,22,22480,null,null,null,null,0,222]
[21,22580,21,22585,11,22589,null,null,null,null,0,221]
[12,22925,23,22928,13,22934,null,null,null,null,0,121]
[21,23028,21,23033,22,23038,null,null,null,null,0,222]
[12,23132,23,23135,24,23142,null,null,null,null,0,122]
[12,23235,23,23237,13,23243,null,null,null,null,0,121]
[21,23338,12,23349,24,23354,null,null,null,null,0,212]
[21,23453,21,23457,11,23462,null,null,null,null,0,221]
[21,23642,21,23648,22,23661,null,null,null,null,0,222]
[12,23754,23,23756,24,23761,null,null,null,null,0,122]
[21,23857,12,23864,24,23869,null,null,null,null,0,212]
[12,23961,23,23963,13,23969,null,null,null,null,null,121]

{"sheet":"!MA09920.Gus","index":18,"n_rows":195,"n_cols":48,"rows_kept":195,"cut":false,"hidden":false,"merged":[[4,39,4,42],[5,39,5,40],[4,44,4,47],[5,44,5,45],[4,24,4,27],[5,24,5,25],[4,29,4,32],[5,29,5,30],[4,34,4,37],[5,34,5,35],[1,1,1,2],[5,13,5,14],[18,13,18,14],[19,13,19,14],[4,19,4,22],[5,19,5,20]]}
["Report for:!MA09920.Gus"]
["Date:","<date>"]
["Hen:","<hen>",null,null,null,"Correct Sequence",{"$f":"Start!J2","v":221},null,null,null,null,null,null,null,null,"Total Sequences in Data",{"$f":"4994-COUNTBLANK(L7:L5000)","v":189},null,null,null,null,"Total Sequences in Block Data",{"$f":"COUNTA(L7:L38)","v":32},null,null,null,"Total Sequences in Block Data",{"$f":"COUNTA(L39:L69)","v":31},null,null,null,"Total Sequences in Block Data",{"$f":"COUNTA(L70:L101)","v":32},null,null,null,"Total Sequences in Block Data",{"$f":"COUNTA(L102:L132)","v":31},null,null,null,"Total Sequences in Block Data",{"$f":"COUNTA(L133:L164)","v":32},null,null,null,"Total Sequences in Block Data",{"$f":"COUNTA(L165:L195)","v":31}]
[null,null,null,null,null,null,null,null,null,null,null,null,null,null,null,"Total Sequences in Summary",{"$f":"SUM(O7:O14)","v":189},null,null,null,null,"Total Sequences in Block Summary",{"$f":"SUM(U7:U14)","v":32},null,null,null,"Total Sequences in Block Summary",{"$f":"SUM(Z7:Z14)","v":31},null,null,null,"Total Sequences in Block Summary",{"$f":"SUM(AE7:AE14)","v":32},null,null,null,"Total Sequences in Block Summary",{"$f":"SUM(AJ7:AJ14)","v":31},null,null,null,"Total Sequences in Block Summary",{"$f":"SUM(AO7:AO14)","v":32},null,null,null,"Total Sequences in Block Summary",{"$f":"SUM(AT7:AT14)","v":31}]
[null,null,null,null,null,null,null,null,null,null,null,null,null,null,null,null,null,null,null,"Block 1",null,null,null,null,"Block 2",null,null,null,null,"Block 3",null,null,null,null,"Block 4",null,null,null,null,"Block 5",null,null,null,null,"Block 6"]
["Sequence\nComponent\n1","Time\n1","Sequence\nComponent\n2","Time\n2","Sequence\nComponent\n3","Time\n3","Sequence\nComponent\n4","Time\n4","Sequence\nComponent\n5","Time\n5","Correct?\n0=No 1=Yes","Sequence",null,"Frequency",null,"Relative Frequency","Variability",null,null,"Frequency",null,"Relative Frequency","Variability",null,"Frequency",null,"Relative Frequency","Variability",null,"Frequency",null,"Relative Frequency","Variability",null,"Frequency",null,"Relative Frequency","Variability",null,"Frequency",null,"Relative Frequency","Variability",null,"Frequency",null,"Relative Frequency","Variability"]
[21,112,21,116,22,122,null,null,null,null,0,222,null,111,{"$f":"COUNTIF($L$7:$L$500,N7)","v":0},{"$f":"O7/$Q$4","v":0},{"$f":"IF(P7=0,0,(P7*((LOG(P7))/LOG(2))))","v":0},null,null,{"$f":"N7","v":111},{"$f":"COUNTIF(L7:L38,T7)","v":0},{"$f":"U7/(W4-U13)","v":0},{"$f":"IF(V7=0,0,(V7*((LOG(V7))/LOG(2))))","v":0},null,{"$f":"N7","v":111},{"$f":"COUNTIF(L39:L69,Y7)","v":0},{"$f":"Z7/(AB4-Z13)","v":0},{"$f":"IF(AA7=0,0,(AA7*((LOG(AA7))/LOG(2))))","v":0},null,{"$f":"N7","v":111},{"$f":"COUNTIF(L70:L101,AD7)","v":0},{"$f":"AE7/(AG4-AE13)","v":0},{"$f":"IF(AF7=0,0,(AF7*((LOG(AF7))/LOG(2))))","v":0},null,{"$f":"N7","v":111},{"$f":"COUNTIF(L102:L132,AI7)","v":0},{"$f":"AJ7/(AL4-AJ13)","v":0},{"$f":"IF(AK7=0,0,(AK7*((LOG(AK7))/LOG(2))))","v":0},null,{"$f":"N7","v":111},{"$f":"COUNTIF(L133:L164,AN7)","v":0},{"$f":"AO7/(AQ4-AO13)","v":0},{"$f":"IF(AP7=0,0,(AP7*((LOG(AP7))/LOG(2))))","v":0},null,{"$f":"N7","v":111},{"$f":"COUNTIF(L165:L195,AS7)","v":0},{"$f":"AT7/(AV4-AT13)","v":0},{"$f":"IF(AU7=0,0,(AU7*((LOG(AU7))/LOG(2))))","v":0}]
[21,306,21,311,22,317,null,null,null,null,0,222,null,112,{"$f":"COUNTIF($L$7:$L$500,N8)","v":0},{"$f":"O8/$Q$4","v":0},{"$f":"IF(P8=0,0,(P8*((LOG(P8))/LOG(2))))","v":0},null,null,{"$f":"N8","v":112},{"$f":"COUNTIF(L7:L38,T8)","v":0},{"$f":"U8/(W4-U13)","v":0},{"$f":"IF(V8=0,0,(V8*((LOG(V8))/LOG(2))))","v":0},null,{"$f":"N8","v":112},{"$f":"COUNTIF(L39:L69,Y8)","v":0},{"$f":"Z8/(AB4-Z13)","v":0},{"$f":"IF(AA8=0,0,(AA8*((LOG(AA8))/LOG(2))))","v":0},null,{"$f":"N8","v":112},{"$f":"COUNTIF(L70:L101,AD8)","v":0},{"$f":"AE8/(AG4-AE13)","v":0},{"$f":"IF(AF8=0,0,(AF8*((LOG(AF8))/LOG(2))))","v":0},null,{"$f":"N8","v":112},{"$f":"COUNTIF(L102:L132,AI8)","v":0},{"$f":"AJ8/(AL4-AJ13)","v":0},{"$f":"IF(AK8=0,0,(AK8*((LOG(AK8))/LOG(2))))","v":0},null,{"$f":"N8","v":112},{"$f":"COUNTIF(L133:L164,AN8)","v":0},{"$f":"AO8/(AQ4-AO13)","v":0},{"$f":"IF(AP8=0,0,(AP8*((LOG(AP8))/LOG(2))))","v":0},null,{"$f":"N8","v":112},{"$f":"COUNTIF(L165:L195,AS8)","v":0},{"$f":"AT8/(AV4-AT13)","v":0},{"$f":"IF(AU8=0,0,(AU8*((LOG(AU8))/LOG(2))))","v":0}]
[21,410,21,416,22,421,null,null,null,null,0,222,null,121,{"$f":"COUNTIF($L$7:$L$500,N9)","v":15},{"$f":"O9/$Q$4","v":7.9365079365079361E-2},{"$f":"IF(P9=0,0,(P9*((LOG(P9))/LOG(2))))","v":-0.29010728798512331},null,null,{"$f":"N9","v":121},{"$f":"COUNTIF(L7:L38,T9)","v":0},{"$f":"U9/(W4-U13)","v":0},{"$f":"IF(V9=0,0,(V9*((LOG(V9))/LOG(2))))","v":0},null,{"$f":"N9","v":121},{"$f":"COUNTIF(L39:L69,Y9)","v":3},{"$f":"Z9/(AB4-Z13)","v":0.11538461538461539},{"$f":"IF(AA9=0,0,(AA9*((LOG(AA9))/LOG(2))))","v":-0.35947814047153104},null,{"$f":"N9","v":121},{"$f":"COUNTIF(L70:L101,AD9)","v":2},{"$f":"AE9/(AG4-AE13)","v":7.407407407407407E-2},{"$f":"IF(AF9=0,0,(AF9*((LOG(AF9))/LOG(2))))","v":-0.27813981497507173},null,{"$f":"N9","v":121},{"$f":"COUNTIF(L102:L132,AI9)","v":3},{"$f":"AJ9/(AL4-AJ13)","v":0.1111111111111111},{"$f":"IF(AK9=0,0,(AK9*((LOG(AK9))/LOG(2))))","v":-0.3522138890491458},null,{"$f":"N9","v":121},{"$f":"COUNTIF(L133:L164,AN9)","v":6},{"$f":"AO9/(AQ4-AO13)","v":0.20689655172413793},{"$f":"IF(AP9=0,0,(AP9*((LOG(AP9))/LOG(2))))","v":-0.4702796884978791},null,{"$f":"N9","v":121},{"$f":"COUNTIF(L165:L195,AS9)","v":1},{"$f":"AT9/(AV4-AT13)","v":3.8461538461538464E-2},{"$f":"IF(AU9=0,0,(AU9*((LOG(AU9))/LOG(2))))","v":-0.18078614300542661}]
[21,518,21,529,22,542,null,null,null,null,0,222,null,122,{"$f":"COUNTIF($L$7:$L$500,N10)","v":14},{"$f":"O10/$Q$4","v":7.407407407407407E-2},{"$f":"IF(P10=0,0,(P10*((LOG(P10))/LOG(2))))","v":-0.27813981497507173},null,null,{"$f":"N10","v":122},{"$f":"COUNTIF(L7:L38,T10)","v":3},{"$f":"U10/(W4-U13)","v":0.1111111111111111},{"$f":"IF(V10=0,0,(V10*((LOG(V10))/LOG(2))))","v":-0.3522138890491458},null,{"$f":"N10","v":122},{"$f":"COUNTIF(L39:L69,Y10)","v":1},{"$f":"Z10/(AB4-Z13)","v":3.8461538461538464E-2},{"$f":"IF(AA10=0,0,(AA10*((LOG(AA10))/LOG(2))))","v":-0.18078614300542661},null,{"$f":"N10","v":122},{"$f":"COUNTIF(L70:L101,AD10)","v":0},{"$f":"AE10/(AG4-AE13)","v":0},{"$f":"IF(AF10=0,0,(AF10*((LOG(AF10))/LOG(2))))","v":0},null,{"$f":"N10","v":122},{"$f":"COUNTIF(L102:L132,AI10)","v":3},{"$f":"AJ10/(AL4-AJ13)","v":0.1111111111111111},{"$f":"IF(AK10=0,0,(AK10*((LOG(AK10))/LOG(2))))","v":-0.3522138890491458},null,{"$f":"N10","v":122},{"$f":"COUNTIF(L133:L164,AN10)","v":3},{"$f":"AO10/(AQ4-AO13)","v":0.10344827586206896},{"$f":"IF(AP10=0,0,(AP10*((LOG(AP10))/LOG(2))))","v":-0.33858812011100858},null,{"$f":"N10","v":122},{"$f":"COUNTIF(L165:L195,AS10)","v":4},{"$f":"AT10/(AV4-AT13)","v":0.15384615384615385},{"$f":"IF(AU10=0,0,(AU10*((LOG(AU10))/LOG(2))))","v":-0.4154522643293988}]
[21,640,21,645,22,650,null,null,null,null,0,222,null,211,{"$f":"COUNTIF($L$7:$L$500,N11)","v":3},{"$f":"O11/$Q$4","v":1.5873015873015872E-2},{"$f":"IF(P11=0,0,(P11*((LOG(P11))/LOG(2))))","v":-9.4877459103173273E-2},null,null,{"$f":"N11","v":211},{"$f":"COUNTIF(L7:L38,T11)","v":0},{"$f":"U11/(W4-U13)","v":0},{"$f":"IF(V11=0,0,(V11*((LOG(V11))/LOG(2))))","v":0},null,{"$f":"N11","v":211},{"$f":"COUNTIF(L39:L69,Y11)","v":1},{"$f":"Z11/(AB4-Z13)","v":3.8461538461538464E-2},{"$f":"IF(AA11=0,0,(AA11*((LOG(AA11))/LOG(2))))","v":-0.18078614300542661},null,{"$f":"N11","v":211},{"$f":"COUNTIF(L70:L101,AD11)","v":2},{"$f":"AE11/(AG4-AE13)","v":7.407407407407407E-2},{"$f":"IF(AF11=0,0,(AF11*((LOG(AF11))/LOG(2))))","v":-0.27813981497507173},null,{"$f":"N11","v":211},{"$f":"COUNTIF(L102:L132,AI11)","v":0},{"$f":"AJ11/(AL4-AJ13)","v":0},{"$f":"IF(AK11=0,0,(AK11*((LOG(AK11))/LOG(2))))","v":0},null,{"$f":"N11","v":211},{"$f":"COUNTIF(L133:L164,AN11)","v":0},{"$f":"AO11/(AQ4-AO13)","v":0},{"$f":"IF(AP11=0,0,(AP11*((LOG(AP11))/LOG(2))))","v":0},null,{"$f":"N11","v":211},{"$f":"COUNTIF(L165:L195,AS11)","v":0},{"$f":"AT11/(AV4-AT13)","v":0},{"$f":"IF(AU11=0,0,(AU11*((LOG(AU11))/LOG(2))))","v":0}]
[21,747,21,754,22,759,null,null,null,null,0,222,null,212,{"$f":"COUNTIF($L$7:$L$500,N12)","v":47},{"$f":"O12/$Q$4","v":0.24867724867724866},{"$f":"IF(P12=0,0,(P12*((LOG(P12))/LOG(2))))","v":-0.49925776671715055},null,null,{"$f":"N12","v":212},{"$f":"COUNTIF(L7:L38,T12)","v":4},{"$f":"U12/(W4-U13)","v":0.14814814814814814},{"$f":"IF(V12=0,0,(V12*((LOG(V12))/LOG(2))))","v":-0.40813148180199532},null,{"$f":"N12","v":212},{"$f":"COUNTIF(L39:L69,Y12)","v":2},{"$f":"Z12/(AB4-Z13)","v":7.6923076923076927E-2},{"$f":"IF(AA12=0,0,(AA12*((LOG(AA12))/LOG(2))))","v":-0.28464920908777636},null,{"$f":"N12","v":212},{"$f":"COUNTIF(L70:L101,AD12)","v":12},{"$f":"AE12/(AG4-AE13)","v":0.44444444444444442},{"$f":"IF(AF12=0,0,(AF12*((LOG(AF12))/LOG(2))))","v":-0.51996666730769447},null,{"$f":"N12","v":212},{"$f":"COUNTIF(L102:L132,AI12)","v":10},{"$f":"AJ12/(AL4-AJ13)","v":0.37037037037037035},{"$f":"IF(AK12=0,0,(AK12*((LOG(AK12))/LOG(2))))","v":-0.53072570639855787},null,{"$f":"N12","v":212},{"$f":"COUNTIF(L133:L164,AN12)","v":10},{"$f":"AO12/(AQ4-AO13)","v":0.34482758620689657},{"$f":"IF(AP12=0,0,(AP12*((LOG(AP12))/LOG(2))))","v":-0.52967341387593436},null,{"$f":"N12","v":212},{"$f":"COUNTIF(L165:L195,AS12)","v":9},{"$f":"AT12/(AV4-AT13)","v":0.34615384615384615},{"$f":"IF(AU12=0,0,(AU12*((LOG(AU12))/LOG(2))))","v":-0.52979355578034681}]
[21,856,21,865,22,874,null,null,null,null,0,222,null,221,{"$f":"COUNTIF($L$7:$L$500,N13)","v":27},{"$f":"O13/$Q$4","v":0.14285714285714285},{"$f":"IF(P13=0,0,(P13*((LOG(P13))/LOG(2))))","v":-0.40105070315108626},null,null,{"$f":"N13","v":221},{"$f":"COUNTIF(L7:L38,T13)","v":5},null,null,null,{"$f":"N13","v":221},{"$f":"COUNTIF(L39:L69,Y13)","v":5},null,null,null,{"$f":"N13","v":221},{"$f":"COUNTIF(L70:L101,AD13)","v":5},null,null,null,{"$f":"N13","v":221},{"$f":"COUNTIF(L102:L132,AI13)","v":4},null,null,null,{"$f":"N13","v":221},{"$f":"COUNTIF(L133:L164,AN13)","v":3},null,null,null,{"$f":"N13","v":221},{"$f":"COUNTIF(L165:L195,AS13)","v":5}]
[21,969,21,972,22,982,null,null,null,null,0,222,null,222,{"$f":"COUNTIF($L$7:$L$500,N14)","v":83},{"$f":"O14/$Q$4","v":0.43915343915343913},{"$f":"IF(P14=0,0,(P14*((LOG(P14))/LOG(2))))","v":-0.52136427729393797},null,null,{"$f":"N14","v":222},{"$f":"COUNTIF(L7:L38,T14)","v":20},{"$f":"U14/(W4-U13)","v":0.7407407407407407},{"$f":"IF(V14=0,0,(V14*((LOG(V14))/LOG(2))))","v":-0.32071067205637499},null,{"$f":"N14","v":222},{"$f":"COUNTIF(L39:L69,Y14)","v":19},{"$f":"Z14/(AB4-Z13)","v":0.73076923076923073},{"$f":"IF(AA14=0,0,(AA14*((LOG(AA14))/LOG(2))))","v":-0.33068199574048568},null,{"$f":"N14","v":222},{"$f":"COUNTIF(L70:L101,AD14)","v":11},{"$f":"AE14/(AG4-AE13)","v":0.40740740740740738},{"$f":"IF(AF14=0,0,(AF14*((LOG(AF14))/LOG(2))))","v":-0.52777832291806981},null,{"$f":"N14","v":222},{"$f":"COUNTIF(L102:L132,AI14)","v":11},{"$f":"AJ14/(AL4-AJ13)","v":0.40740740740740738},{"$f":"IF(AK14=0,0,(AK14*((LOG(AK14))/LOG(2))))","v":-0.52777832291806981},null,{"$f":"N14","v":222},{"$f":"COUNTIF(L133:L164,AN14)","v":10},{"$f":"AO14/(AQ4-AO13)","v":0.34482758620689657},{"$f":"IF(AP14=0,0,(AP14*((LOG(AP14))/LOG(2))))","v":-0.52967341387593436},null,{"$f":"N14","v":222},{"$f":"COUNTIF(L165:L195,AS14)","v":12},{"$f":"AT14/(AV4-AT13)","v":0.46153846153846156},{"$f":"IF(AU14=0,0,(AU14*((LOG(AU14))/LOG(2))))","v":-0.51483563880920125}]
[21,1247,21,1257,22,1265,null,null,null,null,0,222,null,null,null,{"$f":"SUM(P7:P14)","v":1},{"$f":"-SUM(Q7:Q14)","v":2.084797309225543},null,null,null,null,{"$f":"SUM(V7:V14)","v":1},{"$f":"-SUM(W7:W14)","v":1.0810560429075162},null,null,null,{"$f":"SUM(AA7:AA14)","v":1},{"$f":"-SUM(AB7:AB14)","v":1.3363816313106462},null,null,null,{"$f":"SUM(AF7:AF14)","v":1},{"$f":"-SUM(AG7:AG14)","v":1.6040246201759079},null,null,null,{"$f":"SUM(AK7:AK14)","v":1},{"$f":"-SUM(AL7:AL14)","v":1.7629318074149194},null,null,null,{"$f":"SUM(AP7:AP14)","v":1},{"$f":"-SUM(AQ7:AQ14)","v":1.8682146363607561},null,null,null,{"$f":"SUM(AU7:AU14)","v":1},{"$f":"-SUM(AV7:AV14)","v":1.6408676019243735}]
[21,1362,21,1369,22,1379,null,null,null,null,0,222,null,null,null,"U=",{"$f":"Q15/(LOG(Q4)/LOG(2))","v":0.27568506697803746},null,null,null,null,"U1=",{"$f":"W15/(LOG(W4)/LOG(2))","v":0.21621120858150325},null,null,null,"U2=",{"$f":"AB15/(LOG(AB4)/LOG(2))","v":0.26974741160515048},null,null,null,"U3=",{"$f":"AG15/(LOG(AG4)/LOG(2))","v":0.32080492403518157},null,null,null,"U4=",{"$f":"AL15/(LOG(AL4)/LOG(2))","v":0.35584617503323185},null,null,null,"U5=",{"$f":"AQ15/(LOG(AQ4)/LOG(2))","v":0.3736429272721512},null,null,null,"U6=",{"$f":"AV15/(LOG(AV4)/LOG(2))","v":0.33120762665059544}]
[12,1471,23,1478,24,1491,null,null,null,null,0,122]
[21,1661,21,1671,22,1686,null,null,null,null,0,222]
[21,1783,21,1790,22,1796,null,null,null,null,0,222,null,"Total Target Seq"]
[21,1900,12,1908,24,1913,null,null,null,null,0,212,null,{"$f":"COUNTIF(L7:L195,G3)","v":27},null,32,31,32,31,32,31]
[21,2009,21,2017,11,2021,null,null,null,null,0,221,null,null,null,"% of reinforcement given in 6 equal intervals based on number of trials "]
[21,2140,21,2151,11,2156,null,null,null,null,0,221,null,null,null,"%_1","%_2","%_3","%_4","%_5","%_6"]
[21,2297,21,2308,22,2317,null,null,null,null,0,222,null,null,"target sequence",{"$f":"$G$3","v":221},{"$f":"$G$3","v":221},{"$f":"$G$3","v":221},{"$f":"$G$3","v":221},{"$f":"$G$3","v":221},{"$f":"$G$3","v":221}]
[21,2409,21,2414,22,2418,null,null,null,null,0,222,null,null,"total reinforcement",{"$f":"U13","v":5},{"$f":"Z13","v":5},{"$f":"AE13","v":5},{"$f":"AJ13","v":4},{"$f":"AO13","v":3},{"$f":"AT13","v":5}]
[21,2513,12,2520,24,2529,null,null,null,null,0,212,null,null,"% target"]
[21,2621,21,2624,11,2629,null,null,null,null,0,221,null,null,"CCRF"]
[21,2769,21,2777,22,2784,null,null,null,null,0,222,null,null,"% CCRf"]
[21,2880,12,2893,24,2895,null,null,null,null,0,212,null,null,"average response rate",{"$f":"F38/P20","v":124.71875},{"$f":"(F69-F38)/Q20","v":131.2258064516129},{"$f":"(F101-F69)/R20","v":129.78125},{"$f":"(F132-F101)/S20","v":111.80645161290323},{"$f":"(F164-F132)/T20","v":135.5625},{"$f":"(F195-F164)/U20","v":125.90322580645162}]
[21,2988,21,2997,22,3002,null,null,null,null,0,222]
[21,3100,21,3106,22,3111,null,null,null,null,0,222]
[21,3206,12,3211,24,3219,null,null,null,null,0,212]
[12,3312,23,3321,24,3324,null,null,null,null,0,122]
[21,3421,21,3425,22,3430,null,null,null,null,0,222]
[21,3522,21,3529,22,3531,null,null,null,null,0,222]
[21,3624,21,3627,22,3632,null,null,null,null,0,222]
[12,3726,23,3729,24,3743,null,null,null,null,0,122]
[21,3839,21,3847,11,3863,null,null,null,null,0,221]
[21,3980,21,3986,11,3991,null,null,null,null,0,221]
[21,4170,21,4175,22,4181,null,null,null,null,0,222]
[21,4273,21,4279,22,4287,null,null,null,null,0,222]
[12,4380,23,4384,24,4395,null,null,null,null,0,122]
[21,4723,12,4737,24,4740,null,null,null,null,0,212]
[21,4836,21,4846,22,4851,null,null,null,null,0,222]
[21,4950,21,4957,22,4965,null,null,null,null,0,222]
[21,5059,21,5066,22,5078,null,null,null,null,0,222]
[12,5253,23,5255,13,5268,null,null,null,null,0,121]
[21,5433,21,5444,22,5449,null,null,null,null,0,222]
[21,5541,21,5547,11,5549,null,null,null,null,0,221]
[21,5694,21,5698,22,5705,null,null,null,null,0,222]
[21,5801,21,5811,11,5816,null,null,null,null,0,221]
[21,5936,21,5942,22,5948,null,null,null,null,0,222]
[21,6043,21,6049,22,6056,null,null,null,null,0,222]
[21,6173,21,6188,22,6195,null,null,null,null,0,222]
[21,6291,21,6302,22,6307,null,null,null,null,0,222]
[21,6404,21,6412,22,6419,null,null,null,null,0,222]
[12,6513,23,6514,13,6520,null,null,null,null,0,121]
[21,6641,21,6661,22,6667,null,null,null,null,0,222]
[21,6763,21,6768,22,6773,null,null,null,null,0,222]
[21,6870,21,6877,11,6882,null,null,null,null,0,221]
[21,7004,21,7009,22,7013,null,null,null,null,0,222]
[21,7108,21,7111,11,7113,null,null,null,null,0,221]
[21,7286,21,7299,22,7303,null,null,null,null,0,222]
[21,7401,21,7407,22,7414,null,null,null,null,0,222]
[21,7506,12,7516,24,7521,null,null,null,null,0,212]
[21,7613,21,7618,22,7632,null,null,null,null,0,222]
[21,7724,21,7730,22,7734,null,null,null,null,0,222]
[12,7826,23,7830,13,7836,null,null,null,null,0,121]
[21,7941,12,7943,13,7957,null,null,null,null,0,211]
[21,8051,21,8053,11,8059,null,null,null,null,0,221]
[21,8185,12,8192,24,8194,null,null,null,null,0,212]
[21,8297,12,8303,24,8308,null,null,null,null,0,212]
[21,8404,12,8409,24,8412,null,null,null,null,0,212]
[21,8509,12,8515,24,8524,null,null,null,null,0,212]
[21,8619,12,8628,24,8634,null,null,null,null,0,212]
[21,8729,12,8734,24,8737,null,null,null,null,0,212]
[21,8850,21,8855,11,8859,null,null,null,null,0,221]
[21,8998,21,9018,22,9024,null,null,null,null,0,222]
[21,9116,21,9124,11,9127,null,null,null,null,0,221]
[21,9366,21,9383,22,9390,null,null,null,null,0,222]
[21,9489,21,9496,22,9500,null,null,null,null,0,222]
[12,9594,23,9597,13,9604,null,null,null,null,0,121]
[21,9700,21,9706,22,9712,null,null,null,null,0,222]
[21,9831,21,9837,22,9842,null,null,null,null,0,222]
[21,9937,12,9941,24,9945,null,null,null,null,0,212]
[21,10406,21,10411,22,10422,null,null,null,null,0,222]
[21,10514,21,10522,22,10527,null,null,null,null,0,222]
[21,10623,21,10628,22,10636,null,null,null,null,0,222]
[21,10733,12,10737,24,10742,null,null,null,null,0,212]
[21,10838,12,10844,24,10847,null,null,null,null,0,212]
[21,10943,12,10950,24,10952,null,null,null,null,0,212]
[21,11049,21,11059,22,11065,null,null,null,null,0,222]
[21,11158,21,11160,11,11167,null,null,null,null,0,221]
[21,11311,21,11317,22,11324,null,null,null,null,0,222]
[21,11418,21,11424,22,11431,null,null,null,null,0,222]
[21,11523,12,11531,24,11544,null,null,null,null,0,212]
[21,11641,12,11650,13,11652,null,null,null,null,0,211]
[21,11750,21,11762,11,11765,null,null,null,null,0,221]
[21,11862,21,11867,11,11870,null,null,null,null,0,221]
[21,11993,12,11998,24,12006,null,null,null,null,0,212]
[12,12098,23,12100,13,12112,null,null,null,null,0,121]
[21,12206,12,12210,13,12212,null,null,null,null,0,211]
[21,12308,12,12314,24,12319,null,null,null,null,0,212]
[21,12415,12,12421,24,12423,null,null,null,null,0,212]
[21,12518,12,12526,24,12532,null,null,null,null,0,212]
[21,12624,21,12629,11,12634,null,null,null,null,0,221]
[21,12758,21,12771,11,12775,null,null,null,null,0,221]
[21,12924,21,12930,22,12936,null,null,null,null,0,222]
[21,13032,21,13037,22,13045,null,null,null,null,0,222]
[12,13137,23,13142,13,13144,null,null,null,null,0,121]
[12,13238,23,13240,13,13249,null,null,null,null,0,121]
[21,13345,21,13350,11,13356,null,null,null,null,0,221]
[21,13466,21,13472,22,13479,null,null,null,null,0,222]
[12,13572,23,13579,24,13587,null,null,null,null,0,122]
[21,13714,12,13717,24,13722,null,null,null,null,0,212]
[21,13817,12,13821,24,13829,null,null,null,null,0,212]
[21,13922,21,13928,22,13933,null,null,null,null,0,222]
[21,14025,21,14030,22,14034,null,null,null,null,0,222]
[12,14126,23,14130,13,14136,null,null,null,null,0,121]
[21,14232,12,14234,24,14236,null,null,null,null,0,212]
[21,14332,21,14339,22,14349,null,null,null,null,0,222]
[12,14451,23,14457,24,14464,null,null,null,null,0,122]
[21,14561,12,14566,24,14581,null,null,null,null,0,212]
[21,14677,12,14680,24,14683,null,null,null,null,0,212]
[21,14781,21,14788,22,14794,null,null,null,null,0,222]
[21,14891,12,14896,24,14900,null,null,null,null,0,212]
[21,14996,12,15001,24,15003,null,null,null,null,0,212]
[21,15102,21,15115,11,15120,null,null,null,null,0,221]
[21,15252,21,15257,22,15265,null,null,null,null,0,222]
[21,15358,21,15361,22,15365,null,null,null,null,0,222]
[12,15458,23,15462,24,15467,null,null,null,null,0,122]
[21,15564,21,15569,22,15576,null,null,null,null,0,222]
[21,15669,21,15672,22,15678,null,null,null,null,0,222]
[12,15770,23,15773,24,15781,null,null,null,null,0,122]
[12,15874,23,15878,13,15886,null,null,null,null,0,121]
[12,15978,23,15982,13,15989,null,null,null,null,0,121]
[21,16085,21,16094,22,16098,null,null,null,null,0,222]
[21,16192,21,16200,11,16204,null,null,null,null,0,221]
[21,16392,21,16402,22,16409,null,null,null,null,0,222]
[21,16511,12,16520,24,16532,null,null,null,null,0,212]
[12,16626,23,16638,24,16642,null,null,null,null,0,122]
[21,16737,21,16744,22,16749,null,null,null,null,0,222]
[12,16842,23,16846,13,16854,null,null,null,null,0,121]
[21,16950,21,16956,11,16957,null,null,null,null,0,221]
[21,17128,21,17152,22,17158,null,null,null,null,0,222]
[21,17262,12,17266,24,17271,null,null,null,null,0,212]
[21,17366,21,17375,22,17381,null,null,null,null,0,222]
[21,17478,21,17484,22,17490,null,null,null,null,0,222]
[21,17586,12,17593,24,17595,null,null,null,null,0,212]
[21,17687,12,17689,24,17695,null,null,null,null,0,212]
[21,17790,12,17795,24,17797,null,null,null,null,0,212]
[21,17894,12,17900,24,17908,null,null,null,null,0,212]
[21,18002,12,18007,24,18009,null,null,null,null,0,212]
[21,18124,21,18129,22,18137,null,null,null,null,0,222]
[12,18230,23,18232,13,18237,null,null,null,null,0,121]
[21,18367,12,18379,24,18384,null,null,null,null,0,212]
[21,18480,12,18485,24,18491,null,null,null,null,0,212]
[21,18583,21,18588,11,18594,null,null,null,null,0,221]
[21,18714,21,18719,22,18726,null,null,null,null,0,222]
[12,18821,23,18834,24,18845,null,null,null,null,0,122]
[12,18938,23,18944,13,18946,null,null,null,null,0,121]
[21,19042,12,19047,24,19054,null,null,null,null,0,212]
[21,19152,21,19158,22,19162,null,null,null,null,0,222]
[12,19258,23,19263,13,19269,null,null,null,null,0,121]
[21,20005,21,20011,22,20016,null,null,null,null,0,222]
[21,20112,21,20119,22,20124,null,null,null,null,0,222]
[21,20218,21,20226,22,20232,null,null,null,null,0,222]
[21,20348,21,20354,22,20359,null,null,null,null,0,222]
[12,20452,23,20455,24,20464,null,null,null,null,0,122]
[21,20561,12,20565,24,20569,null,null,null,null,0,212]
[21,20665,12,20669,24,20674,null,null,null,null,0,212]
[21,20916,21,20921,22,20927,null,null,null,null,0,222]
[21,21071,21,21077,22,21092,null,null,null,null,0,222]
[21,21185,12,21193,24,21199,null,null,null,null,0,212]
[21,21297,21,21305,11,21311,null,null,null,null,0,221]
[21,21507,12,21518,24,21530,null,null,null,null,0,212]
[21,21626,21,21646,11,21654,null,null,null,null,0,221]
[21,21797,21,21802,22,21814,null,null,null,null,0,222]
[21,21910,12,21918,24,21921,null,null,null,null,0,212]
[21,22021,12,22026,24,22028,null,null,null,null,0,212]
[21,22124,12,22132,24,22136,null,null,null,null,0,212]
[12,22230,23,22232,13,22253,null,null,null,null,0,121]
[21,22349,21,22355,22,22360,null,null,null,null,0,222]
[21,22456,21,22467,22,22473,null,null,null,null,0,222]
[21,22568,21,22575,11,22579,null,null,null,null,0,221]
[21,22711,21,22725,22,22731,null,null,null,null,0,222]
[12,22829,23,22834,24,22838,null,null,null,null,0,122]
[21,22933,21,22938,11,22941,null,null,null,null,0,221]
[21,23098,21,23105,22,23112,null,null,null,null,0,222]
[21,23207,12,23212,24,23217,null,null,null,null,0,212]
[21,23316,21,23322,22,23328,null,null,null,null,0,222]
[21,23425,12,23429,24,23439,null,null,null,null,0,212]
[21,23531,21,23536,11,23540,null,null,null,null,0,221]
[21,23686,21,23693,22,23699,null,null,null,null,0,222]
[12,23791,23,23794,24,23804,null,null,null,null,0,122]
[12,23901,23,23913,24,23919,null,null,null,null,null,122]

{"sheet":"!MA10A30.Gus","index":19,"n_rows":182,"n_cols":48,"rows_kept":182,"cut":false,"hidden":false,"merged":[[4,39,4,42],[5,39,5,40],[4,44,4,47],[5,44,5,45],[4,24,4,27],[5,24,5,25],[4,29,4,32],[5,29,5,30],[4,34,4,37],[5,34,5,35],[1,1,1,2],[5,13,5,14],[18,13,18,14],[19,13,19,14],[4,19,4,22],[5,19,5,20]]}
["Report for:!MA10A30.Gus"]
["Date:","<date>"]
["Hen:","<hen>",null,null,null,"Correct Sequence",{"$f":"Start!J2","v":221},null,null,null,null,null,null,null,null,"Total Sequences in Data",{"$f":"4994-COUNTBLANK(L7:L5000)","v":176},null,null,null,null,"Total Sequences in Block Data",{"$f":"COUNTA(L7:L35)","v":29},null,null,null,"Total Sequences in Block Data",{"$f":"COUNTA(L36:L65)","v":30},null,null,null,"Total Sequences in Block Data",{"$f":"COUNTA(L66:L94)","v":29},null,null,null,"Total Sequences in Block Data",{"$f":"COUNTA(L95:L123)","v":29},null,null,null,"Total Sequences in Block Data",{"$f":"COUNTA(L124:L153)","v":30},null,null,null,"Total Sequences in Block Data",{"$f":"COUNTA(L154:L182)","v":29}]
[null,null,null,null,null,null,null,null,null,null,null,null,null,null,null,"Total Sequences in Summary",{"$f":"SUM(O7:O14)","v":176},null,null,null,null,"Total Sequences in Block Summary",{"$f":"SUM(U7:U14)","v":29},null,null,null,"Total Sequences in Block Summary",{"$f":"SUM(Z7:Z14)","v":30},null,null,null,"Total Sequences in Block Summary",{"$f":"SUM(AE7:AE14)","v":29},null,null,null,"Total Sequences in Block Summary",{"$f":"SUM(AJ7:AJ14)","v":29},null,null,null,"Total Sequences in Block Summary",{"$f":"SUM(AO7:AO14)","v":30},null,null,null,"Total Sequences in Block Summary",{"$f":"SUM(AT7:AT14)","v":29}]
[null,null,null,null,null,null,null,null,null,null,null,null,null,null,null,null,null,null,null,"Block 1",null,null,null,null,"Block 2",null,null,null,null,"Block 3",null,null,null,null,"Block 4",null,null,null,null,"Block 5",null,null,null,null,"Block 6"]
["Sequence\nComponent\n1","Time\n1","Sequence\nComponent\n2","Time\n2","Sequence\nComponent\n3","Time\n3","Sequence\nComponent\n4","Time\n4","Sequence\nComponent\n5","Time\n5","Correct?\n0=No 1=Yes","Sequence",null,"Frequency",null,"Relative Frequency","Variability",null,null,"Frequency",null,"Relative Frequency","Variability",null,"Frequency",null,"Relative Frequency","Variability",null,"Frequency",null,"Relative Frequency","Variability",null,"Frequency",null,"Relative Frequency","Variability",null,"Frequency",null,"Relative Frequency","Variability",null,"Frequency",null,"Relative Frequency","Variability"]
[21,8,21,13,22,17,null,null,null,null,0,222,null,111,{"$f":"COUNTIF($L$7:$L$500,N7)","v":0},{"$f":"O7/$Q$4","v":0},{"$f":"IF(P7=0,0,(P7*((LOG(P7))/LOG(2))))","v":0},null,null,{"$f":"N7","v":111},{"$f":"COUNTIF(L7:L35,T7)","v":0},{"$f":"U7/(W4-U13)","v":0},{"$f":"IF(V7=0,0,(V7*((LOG(V7))/LOG(2))))","v":0},null,{"$f":"N7","v":111},{"$f":"COUNTIF(L36:L65,Y7)","v":0},{"$f":"Z7/(AB4-Z13)","v":0},{"$f":"IF(AA7=0,0,(AA7*((LOG(AA7))/LOG(2))))","v":0},null,{"$f":"N7","v":111},{"$f":"COUNTIF(L66:L94,AD7)","v":0},{"$f":"AE7/(AG4-AE13)","v":0},{"$f":"IF(AF7=0,0,(AF7*((LOG(AF7))/LOG(2))))","v":0},null,{"$f":"N7","v":111},{"$f":"COUNTIF(L95:L123,AI7)","v":0},{"$f":"AJ7/(AL4-AJ13)","v":0},{"$f":"IF(AK7=0,0,(AK7*((LOG(AK7))/LOG(2))))","v":0},null,{"$f":"N7","v":111},{"$f":"COUNTIF(L124:L153,AN7)","v":0},{"$f":"AO7/(AQ4-AO13)","v":0},{"$f":"IF(AP7=0,0,(AP7*((LOG(AP7))/LOG(2))))","v":0},null,{"$f":"N7","v":111},{"$f":"COUNTIF(L154:L182,AS7)","v":0},{"$f":"AT7/(AV4-AT13)","v":0},{"$f":"IF(AU7=0,0,(AU7*((LOG(AU7))/LOG(2))))","v":0}]
[21,112,21,120,22,124,null,null,null,null,0,222,null,112,{"$f":"COUNTIF($L$7:$L$500,N8)","v":0},{"$f":"O8/$Q$4","v":0},{"$f":"IF(P8=0,0,(P8*((LOG(P8))/LOG(2))))","v":0},null,null,{"$f":"N8","v":112},{"$f":"COUNTIF(L7:L35,T8)","v":0},{"$f":"U8/(W4-U13)","v":0},{"$f":"IF(V8=0,0,(V8*((LOG(V8))/LOG(2))))","v":0},null,{"$f":"N8","v":112},{"$f":"COUNTIF(L36:L65,Y8)","v":0},{"$f":"Z8/(AB4-Z13)","v":0},{"$f":"IF(AA8=0,0,(AA8*((LOG(AA8))/LOG(2))))","v":0},null,{"$f":"N8","v":112},{"$f":"COUNTIF(L66:L94,AD8)","v":0},{"$f":"AE8/(AG4-AE13)","v":0},{"$f":"IF(AF8=0,0,(AF8*((LOG(AF8))/LOG(2))))","v":0},null,{"$f":"N8","v":112},{"$f":"COUNTIF(L95:L123,AI8)","v":0},{"$f":"AJ8/(AL4-AJ13)","v":0},{"$f":"IF(AK8=0,0,(AK8*((LOG(AK8))/LOG(2))))","v":0},null,{"$f":"N8","v":112},{"$f":"COUNTIF(L124:L153,AN8)","v":0},{"$f":"AO8/(AQ4-AO13)","v":0},{"$f":"IF(AP8=0,0,(AP8*((LOG(AP8))/LOG(2))))","v":0},null,{"$f":"N8","v":112},{"$f":"COUNTIF(L154:L182,AS8)","v":0},{"$f":"AT8/(AV4-AT13)","v":0},{"$f":"IF(AU8=0,0,(AU8*((LOG(AU8))/LOG(2))))","v":0}]
[21,221,12,231,24,238,null,null,null,null,0,212,null,121,{"$f":"COUNTIF($L$7:$L$500,N9)","v":7},{"$f":"O9/$Q$4","v":3.9772727272727272E-2},{"$f":"IF(P9=0,0,(P9*((LOG(P9))/LOG(2))))","v":-0.18502577770487416},null,null,{"$f":"N9","v":121},{"$f":"COUNTIF(L7:L35,T9)","v":2},{"$f":"U9/(W4-U13)","v":0.08},{"$f":"IF(V9=0,0,(V9*((LOG(V9))/LOG(2))))","v":-0.29150849518197797},null,{"$f":"N9","v":121},{"$f":"COUNTIF(L36:L65,Y9)","v":3},{"$f":"Z9/(AB4-Z13)","v":0.125},{"$f":"IF(AA9=0,0,(AA9*((LOG(AA9))/LOG(2))))","v":-0.375},null,{"$f":"N9","v":121},{"$f":"COUNTIF(L66:L94,AD9)","v":0},{"$f":"AE9/(AG4-AE13)","v":0},{"$f":"IF(AF9=0,0,(AF9*((LOG(AF9))/LOG(2))))","v":0},null,{"$f":"N9","v":121},{"$f":"COUNTIF(L95:L123,AI9)","v":1},{"$f":"AJ9/(AL4-AJ13)","v":4.5454545454545456E-2},{"$f":"IF(AK9=0,0,(AK9*((LOG(AK9))/LOG(2))))","v":-0.20270143721078623},null,{"$f":"N9","v":121},{"$f":"COUNTIF(L124:L153,AN9)","v":1},{"$f":"AO9/(AQ4-AO13)","v":4.3478260869565216E-2},{"$f":"IF(AP9=0,0,(AP9*((LOG(AP9))/LOG(2))))","v":-0.19667660678508753},null,{"$f":"N9","v":121},{"$f":"COUNTIF(L154:L182,AS9)","v":0},{"$f":"AT9/(AV4-AT13)","v":0},{"$f":"IF(AU9=0,0,(AU9*((LOG(AU9))/LOG(2))))","v":0}]
[21,331,21,336,22,341,null,null,null,null,0,222,null,122,{"$f":"COUNTIF($L$7:$L$500,N10)","v":12},{"$f":"O10/$Q$4","v":6.8181818181818177E-2},{"$f":"IF(P10=0,0,(P10*((LOG(P10))/LOG(2))))","v":-0.26416834894882779},null,null,{"$f":"N10","v":122},{"$f":"COUNTIF(L7:L35,T10)","v":1},{"$f":"U10/(W4-U13)","v":0.04},{"$f":"IF(V10=0,0,(V10*((LOG(V10))/LOG(2))))","v":-0.18575424759098899},null,{"$f":"N10","v":122},{"$f":"COUNTIF(L36:L65,Y10)","v":2},{"$f":"Z10/(AB4-Z13)","v":8.3333333333333329E-2},{"$f":"IF(AA10=0,0,(AA10*((LOG(AA10))/LOG(2))))","v":-0.29874687506009634},null,{"$f":"N10","v":122},{"$f":"COUNTIF(L66:L94,AD10)","v":5},{"$f":"AE10/(AG4-AE13)","v":0.19230769230769232},{"$f":"IF(AF10=0,0,(AF10*((LOG(AF10))/LOG(2))))","v":-0.45740608139494804},null,{"$f":"N10","v":122},{"$f":"COUNTIF(L95:L123,AI10)","v":1},{"$f":"AJ10/(AL4-AJ13)","v":4.5454545454545456E-2},{"$f":"IF(AK10=0,0,(AK10*((LOG(AK10))/LOG(2))))","v":-0.20270143721078623},null,{"$f":"N10","v":122},{"$f":"COUNTIF(L124:L153,AN10)","v":1},{"$f":"AO10/(AQ4-AO13)","v":4.3478260869565216E-2},{"$f":"IF(AP10=0,0,(AP10*((LOG(AP10))/LOG(2))))","v":-0.19667660678508753},null,{"$f":"N10","v":122},{"$f":"COUNTIF(L154:L182,AS10)","v":2},{"$f":"AT10/(AV4-AT13)","v":8.6956521739130432E-2},{"$f":"IF(AU10=0,0,(AU10*((LOG(AU10))/LOG(2))))","v":-0.30639669183104457}]
[21,437,21,443,11,446,null,null,null,null,0,221,null,211,{"$f":"COUNTIF($L$7:$L$500,N11)","v":1},{"$f":"O11/$Q$4","v":5.681818181818182E-3},{"$f":"IF(P11=0,0,(P11*((LOG(P11))/LOG(2))))","v":-4.2383134196802827E-2},null,null,{"$f":"N11","v":211},{"$f":"COUNTIF(L7:L35,T11)","v":0},{"$f":"U11/(W4-U13)","v":0},{"$f":"IF(V11=0,0,(V11*((LOG(V11))/LOG(2))))","v":0},null,{"$f":"N11","v":211},{"$f":"COUNTIF(L36:L65,Y11)","v":0},{"$f":"Z11/(AB4-Z13)","v":0},{"$f":"IF(AA11=0,0,(AA11*((LOG(AA11))/LOG(2))))","v":0},null,{"$f":"N11","v":211},{"$f":"COUNTIF(L66:L94,AD11)","v":1},{"$f":"AE11/(AG4-AE13)","v":3.8461538461538464E-2},{"$f":"IF(AF11=0,0,(AF11*((LOG(AF11))/LOG(2))))","v":-0.18078614300542661},null,{"$f":"N11","v":211},{"$f":"COUNTIF(L95:L123,AI11)","v":0},{"$f":"AJ11/(AL4-AJ13)","v":0},{"$f":"IF(AK11=0,0,(AK11*((LOG(AK11))/LOG(2))))","v":0},null,{"$f":"N11","v":211},{"$f":"COUNTIF(L124:L153,AN11)","v":0},{"$f":"AO11/(AQ4-AO13)","v":0},{"$f":"IF(AP11=0,0,(AP11*((LOG(AP11))/LOG(2))))","v":0},null,{"$f":"N11","v":211},{"$f":"COUNTIF(L154:L182,AS11)","v":0},{"$f":"AT11/(AV4-AT13)","v":0},{"$f":"IF(AU11=0,0,(AU11*((LOG(AU11))/LOG(2))))","v":0}]
[21,598,21,608,22,615,null,null,null,null,0,222,null,212,{"$f":"COUNTIF($L$7:$L$500,N12)","v":50},{"$f":"O12/$Q$4","v":0.28409090909090912},{"$f":"IF(P12=0,0,(P12*((LOG(P12))/LOG(2))))","v":-0.51578847410868534},null,null,{"$f":"N12","v":212},{"$f":"COUNTIF(L7:L35,T12)","v":7},{"$f":"U12/(W4-U13)","v":0.28000000000000003},{"$f":"IF(V12=0,0,(V12*((LOG(V12))/LOG(2))))","v":-0.51422035496079388},null,{"$f":"N12","v":212},{"$f":"COUNTIF(L36:L65,Y12)","v":8},{"$f":"Z12/(AB4-Z13)","v":0.33333333333333331},{"$f":"IF(AA12=0,0,(AA12*((LOG(AA12))/LOG(2))))","v":-0.52832083357371862},null,{"$f":"N12","v":212},{"$f":"COUNTIF(L66:L94,AD12)","v":6},{"$f":"AE12/(AG4-AE13)","v":0.23076923076923078},{"$f":"IF(AF12=0,0,(AF12*((LOG(AF12))/LOG(2))))","v":-0.48818705017383146},null,{"$f":"N12","v":212},{"$f":"COUNTIF(L95:L123,AI12)","v":10},{"$f":"AJ12/(AL4-AJ13)","v":0.45454545454545453},{"$f":"IF(AK12=0,0,(AK12*((LOG(AK12))/LOG(2))))","v":-0.51704705624997038},null,{"$f":"N12","v":212},{"$f":"COUNTIF(L124:L153,AN12)","v":11},{"$f":"AO12/(AQ4-AO13)","v":0.47826086956521741},{"$f":"IF(AP12=0,0,(AP12*((LOG(AP12))/LOG(2))))","v":-0.5089319005050813},null,{"$f":"N12","v":212},{"$f":"COUNTIF(L154:L182,AS12)","v":8},{"$f":"AT12/(AV4-AT13)","v":0.34782608695652173},{"$f":"IF(AU12=0,0,(AU12*((LOG(AU12))/LOG(2))))","v":-0.52993459341113491}]
[12,708,23,710,13,717,null,null,null,null,0,121,null,221,{"$f":"COUNTIF($L$7:$L$500,N13)","v":33},{"$f":"O13/$Q$4","v":0.1875},{"$f":"IF(P13=0,0,(P13*((LOG(P13))/LOG(2))))","v":-0.45281953111478312},null,null,{"$f":"N13","v":221},{"$f":"COUNTIF(L7:L35,T13)","v":4},null,null,null,{"$f":"N13","v":221},{"$f":"COUNTIF(L36:L65,Y13)","v":6},null,null,null,{"$f":"N13","v":221},{"$f":"COUNTIF(L66:L94,AD13)","v":3},null,null,null,{"$f":"N13","v":221},{"$f":"COUNTIF(L95:L123,AI13)","v":7},null,null,null,{"$f":"N13","v":221},{"$f":"COUNTIF(L124:L153,AN13)","v":7},null,null,null,{"$f":"N13","v":221},{"$f":"COUNTIF(L154:L182,AS13)","v":6}]
[21,806,12,812,24,817,null,null,null,null,0,212,null,222,{"$f":"COUNTIF($L$7:$L$500,N14)","v":73},{"$f":"O14/$Q$4","v":0.41477272727272729},{"$f":"IF(P14=0,0,(P14*((LOG(P14))/LOG(2))))","v":-0.5265983827402354},null,null,{"$f":"N14","v":222},{"$f":"COUNTIF(L7:L35,T14)","v":15},{"$f":"U14/(W4-U13)","v":0.6},{"$f":"IF(V14=0,0,(V14*((LOG(V14))/LOG(2))))","v":-0.44217935649972373},null,{"$f":"N14","v":222},{"$f":"COUNTIF(L36:L65,Y14)","v":11},{"$f":"Z14/(AB4-Z13)","v":0.45833333333333331},{"$f":"IF(AA14=0,0,(AA14*((LOG(AA14))/LOG(2))))","v":-0.51586832095510204},null,{"$f":"N14","v":222},{"$f":"COUNTIF(L66:L94,AD14)","v":14},{"$f":"AE14/(AG4-AE13)","v":0.53846153846153844},{"$f":"IF(AF14=0,0,(AF14*((LOG(AF14))/LOG(2))))","v":-0.48089181327572433},null,{"$f":"N14","v":222},{"$f":"COUNTIF(L95:L123,AI14)","v":10},{"$f":"AJ14/(AL4-AJ13)","v":0.45454545454545453},{"$f":"IF(AK14=0,0,(AK14*((LOG(AK14))/LOG(2))))","v":-0.51704705624997038},null,{"$f":"N14","v":222},{"$f":"COUNTIF(L124:L153,AN14)","v":10},{"$f":"AO14/(AQ4-AO13)","v":0.43478260869565216},{"$f":"IF(AP14=0,0,(AP14*((LOG(AP14))/LOG(2))))","v":-0.52244950485636987},null,{"$f":"N14","v":222},{"$f":"COUNTIF(L154:L182,AS14)","v":13},{"$f":"AT14/(AV4-AT13)","v":0.56521739130434778},{"$f":"IF(AU14=0,0,(AU14*((LOG(AU14))/LOG(2))))","v":-0.46524300403943353}]
[21,912,21,919,22,934,null,null,null,null,0,222,null,null,null,{"$f":"SUM(P7:P14)","v":1},{"$f":"-SUM(Q7:Q14)","v":1.9867836488142085},null,null,null,null,{"$f":"SUM(V7:V14)","v":1},{"$f":"-SUM(W7:W14)","v":1.4336624542334846},null,null,null,{"$f":"SUM(AA7:AA14)","v":1},{"$f":"-SUM(AB7:AB14)","v":1.717936029588917},null,null,null,{"$f":"SUM(AF7:AF14)","v":1},{"$f":"-SUM(AG7:AG14)","v":1.6072710878499303},null,null,null,{"$f":"SUM(AK7:AK14)","v":1},{"$f":"-SUM(AL7:AL14)","v":1.4394969869215131},null,null,null,{"$f":"SUM(AP7:AP14)","v":1},{"$f":"-SUM(AQ7:AQ14)","v":1.4247346189316263},null,null,null,{"$f":"SUM(AU7:AU14)","v":1},{"$f":"-SUM(AV7:AV14)","v":1.3015742892816129}]
[21,1028,21,1035,22,1042,null,null,null,null,0,222,null,null,null,"U=",{"$f":"Q15/(LOG(Q4)/LOG(2))","v":0.26634517888068765},null,null,null,null,"U1=",{"$f":"W15/(LOG(W4)/LOG(2))","v":0.29511487502141542},null,null,null,"U2=",{"$f":"AB15/(LOG(AB4)/LOG(2))","v":0.35010685404855058},null,null,null,"U3=",{"$f":"AG15/(LOG(AG4)/LOG(2))","v":0.33085166233914487},null,null,null,"U4=",{"$f":"AL15/(LOG(AL4)/LOG(2))","v":0.29631589509413292},null,null,null,"U5=",{"$f":"AQ15/(LOG(AQ4)/LOG(2))","v":0.29035385875664516},null,null,null,"U6=",{"$f":"AV15/(LOG(AV4)/LOG(2))","v":0.26792494466056122}]
[21,1138,21,1142,11,1145,null,null,null,null,0,221]
[21,1237,12,1245,24,1264,null,null,null,null,0,212]
[21,1361,21,1366,22,1371,null,null,null,null,0,222,null,"Total Target Seq"]
[21,1464,12,1473,24,1486,null,null,null,null,0,212,null,{"$f":"COUNTIF(L7:L182,G3)","v":33},null,29,30,29,29,30,29]
[21,1578,21,1585,22,1590,null,null,null,null,0,222,null,null,null,"% of reinforcement given in 6 equal intervals based on number of trials "]
[21,1690,21,1696,22,1703,null,null,null,null,0,222,null,null,null,"%_1","%_2","%_3","%_4","%_5","%_6"]
[21,1801,21,1806,22,1811,null,null,null,null,0,222,null,null,"target sequence",{"$f":"$G$3","v":221},{"$f":"$G$3","v":221},{"$f":"$G$3","v":221},{"$f":"$G$3","v":221},{"$f":"$G$3","v":221},{"$f":"$G$3","v":221}]
[21,1905,21,1911,22,1917,null,null,null,null,0,222,null,null,"total reinforcement",{"$f":"U13","v":4},{"$f":"Z13","v":6},{"$f":"AE13","v":3},{"$f":"AJ13","v":7},{"$f":"AO13","v":7},{"$f":"AT13","v":6}]
[21,2012,21,2016,11,2020,null,null,null,null,0,221,null,null,"% target"]
[21,2135,21,2141,22,2147,null,null,null,null,0,222,null,null,"CCRF"]
[21,2240,21,2247,22,2259,null,null,null,null,0,222,null,null,"% CCRf"]
[21,2359,12,2362,24,2370,null,null,null,null,0,212,null,null,"average response rate",{"$f":"F35/P20","v":107.27586206896552},{"$f":"(F65-F35)/Q20","v":117.83333333333333},{"$f":"(F94-F65)/R20","v":115.82758620689656},{"$f":"(F123-F94)/S20","v":122.24137931034483},{"$f":"(F153-F123)/T20","v":122.23333333333333},{"$f":"(F182-F153)/U20","v":204.10344827586206}]
[21,2467,21,2470,11,2474,null,null,null,null,0,221]
[21,2568,12,2574,24,2587,null,null,null,null,0,212]
[21,2683,12,2690,24,2693,null,null,null,null,0,212]
[12,2786,23,2790,24,2799,null,null,null,null,0,122]
[12,2894,23,2897,13,2899,null,null,null,null,0,121]
[21,2997,21,3000,22,3006,null,null,null,null,0,222]
[21,3103,21,3106,22,3111,null,null,null,null,0,222]
[21,3207,12,3214,24,3227,null,null,null,null,0,212]
[12,3319,23,3323,13,3329,null,null,null,null,0,121]
[21,3424,21,3437,11,3441,null,null,null,null,0,221]
[21,3557,12,3567,24,3578,null,null,null,null,0,212]
[21,3671,21,3674,22,3680,null,null,null,null,0,222]
[21,3772,21,3777,11,3779,null,null,null,null,0,221]
[21,3883,12,3886,24,3893,null,null,null,null,0,212]
[12,3987,23,3989,24,3998,null,null,null,null,0,122]
[21,4095,21,4099,22,4105,null,null,null,null,0,222]
[12,4200,23,4209,13,4210,null,null,null,null,0,121]
[21,4308,21,4312,22,4319,null,null,null,null,0,222]
[21,4411,21,4414,22,4418,null,null,null,null,0,222]
[21,4514,21,4523,22,4529,null,null,null,null,0,222]
[21,4621,21,4626,22,4629,null,null,null,null,0,222]
[21,4725,21,4734,22,4741,null,null,null,null,0,222]
[21,4837,21,4839,11,4845,null,null,null,null,0,221]
[21,4981,21,4985,11,4990,null,null,null,null,0,221]
[21,5291,21,5297,22,5303,null,null,null,null,0,222]
[21,5403,12,5409,24,5420,null,null,null,null,0,212]
[21,5513,12,5520,24,5524,null,null,null,null,0,212]
[21,5616,12,5621,24,5632,null,null,null,null,0,212]
[12,5725,23,5730,13,5736,null,null,null,null,0,121]
[21,5832,21,5838,22,5844,null,null,null,null,0,222]
[12,5937,23,5940,24,5944,null,null,null,null,0,122]
[21,6036,21,6042,11,6049,null,null,null,null,0,221]
[21,6184,21,6190,22,6198,null,null,null,null,0,222]
[21,6293,12,6298,24,6311,null,null,null,null,0,212]
[21,6406,12,6413,24,6420,null,null,null,null,0,212]
[21,6517,21,6524,11,6529,null,null,null,null,0,221]
[21,6636,21,6642,22,6646,null,null,null,null,0,222]
[21,6741,21,6746,11,6751,null,null,null,null,0,221]
[21,6849,12,6853,24,6858,null,null,null,null,0,212]
[21,6957,12,6964,24,6971,null,null,null,null,0,212]
[21,7064,21,7067,22,7069,null,null,null,null,0,222]
[12,7162,23,7165,24,7177,null,null,null,null,0,122]
[21,7274,21,7279,22,7286,null,null,null,null,0,222]
[21,7378,21,7385,22,7390,null,null,null,null,0,222]
[21,7488,21,7494,22,7501,null,null,null,null,0,222]
[12,7595,23,7598,24,7601,null,null,null,null,0,122]
[21,7697,21,7702,22,7708,null,null,null,null,0,222]
[21,7806,12,7812,13,7816,null,null,null,null,0,211]
[21,7913,21,7917,11,7920,null,null,null,null,0,221]
[21,8197,12,8201,24,8213,null,null,null,null,0,212]
[12,8305,23,8348,24,8353,null,null,null,null,0,122]
[21,8448,21,8452,22,8457,null,null,null,null,0,222]
[21,8554,21,8558,22,8564,null,null,null,null,0,222]
[21,8665,12,8675,24,8680,null,null,null,null,0,212]
[21,8777,21,8784,22,8790,null,null,null,null,0,222]
[21,8886,21,8888,22,8899,null,null,null,null,0,222]
[21,8992,21,8999,11,9004,null,null,null,null,0,221]
[21,9136,21,9143,22,9150,null,null,null,null,0,222]
[21,9247,12,9258,24,9261,null,null,null,null,0,212]
[21,9357,21,9360,22,9364,null,null,null,null,0,222]
[21,9461,21,9465,22,9474,null,null,null,null,0,222]
[21,9571,21,9575,22,9580,null,null,null,null,0,222]
[12,9674,23,9678,24,9682,null,null,null,null,0,122]
[21,9779,21,9783,22,9789,null,null,null,null,0,222]
[12,9885,23,9887,24,9893,null,null,null,null,0,122]
[21,9996,12,9999,24,10005,null,null,null,null,0,212]
[21,10101,21,10106,11,10109,null,null,null,null,0,221]
[21,10233,21,10239,22,10247,null,null,null,null,0,222]
[21,10343,12,10350,24,10356,null,null,null,null,0,212]
[21,10453,12,10459,24,10468,null,null,null,null,0,212]
[12,10560,23,10563,24,10566,null,null,null,null,0,122]
[21,10661,12,10670,24,10672,null,null,null,null,0,212]
[21,10770,12,10776,24,10778,null,null,null,null,0,212]
[12,10870,23,10873,13,10881,null,null,null,null,0,121]
[21,10977,12,10984,24,10988,null,null,null,null,0,212]
[21,11084,12,11090,24,11099,null,null,null,null,0,212]
[21,11195,12,11206,24,11209,null,null,null,null,0,212]
[21,11301,21,11306,11,11308,null,null,null,null,0,221]
[21,11531,21,11537,22,11544,null,null,null,null,0,222]
[21,11640,21,11648,11,11652,null,null,null,null,0,221]
[21,11802,21,11809,22,11814,null,null,null,null,0,222]
[21,11908,21,11913,22,11920,null,null,null,null,0,222]
[21,12012,21,12017,11,12021,null,null,null,null,0,221]
[21,12159,12,12169,24,12177,null,null,null,null,0,212]
[21,12271,21,12275,11,12279,null,null,null,null,0,221]
[21,12416,21,12421,22,12427,null,null,null,null,0,222]
[21,12523,21,12528,11,12533,null,null,null,null,0,221]
[21,12714,21,12719,22,12732,null,null,null,null,0,222]
[21,12843,21,12853,22,12861,null,null,null,null,0,222]
[21,12954,21,12961,22,12966,null,null,null,null,0,222]
[21,13062,12,13069,24,13075,null,null,null,null,0,212]
[21,13172,12,13178,24,13183,null,null,null,null,0,212]
[21,13276,21,13278,22,13283,null,null,null,null,0,222]
[21,13379,21,13382,11,13390,null,null,null,null,0,221]
[21,13533,21,13543,22,13550,null,null,null,null,0,222]
[21,13651,21,13656,11,13661,null,null,null,null,0,221]
[21,13796,21,13802,22,13809,null,null,null,null,0,222]
[21,13905,12,13911,24,13922,null,null,null,null,0,212]
[21,14018,21,14022,11,14024,null,null,null,null,0,221]
[21,14237,21,14248,22,14253,null,null,null,null,0,222]
[21,14361,12,14373,24,14376,null,null,null,null,0,212]
[21,14471,21,14478,22,14483,null,null,null,null,0,222]
[21,14579,21,14584,22,14590,null,null,null,null,0,222]
[21,14684,12,14691,24,14697,null,null,null,null,0,212]
[12,14792,23,14795,13,14801,null,null,null,null,0,121]
[21,14898,12,14904,24,14912,null,null,null,null,0,212]
[21,15010,21,15013,11,15015,null,null,null,null,0,221]
[21,15136,21,15147,22,15154,null,null,null,null,0,222]
[21,15250,12,15257,24,15259,null,null,null,null,0,212]
[21,15407,21,15411,11,15413,null,null,null,null,0,221]
[21,15570,21,15576,22,15583,null,null,null,null,0,222]
[21,15680,12,15686,24,15698,null,null,null,null,0,212]
[12,15791,23,15794,24,15799,null,null,null,null,0,122]
[21,15895,21,15899,22,15904,null,null,null,null,0,222]
[21,15999,12,16001,24,16009,null,null,null,null,0,212]
[21,16101,21,16107,11,16109,null,null,null,null,0,221]
[21,16225,21,16231,11,16235,null,null,null,null,0,221]
[21,16438,21,16451,22,16458,null,null,null,null,0,222]
[21,16553,21,16558,11,16569,null,null,null,null,0,221]
[21,16659,12,16667,24,16675,null,null,null,null,0,212]
[21,16771,12,16777,24,16786,null,null,null,null,0,212]
[21,16882,21,16888,22,16894,null,null,null,null,0,222]
[21,16986,12,16994,24,17002,null,null,null,null,0,212]
[21,17098,12,17105,24,17112,null,null,null,null,0,212]
[21,17209,21,17212,22,17217,null,null,null,null,0,222]
[21,17313,21,17324,11,17328,null,null,null,null,0,221]
[21,17509,21,17516,22,17523,null,null,null,null,0,222]
[21,17615,12,17621,24,17626,null,null,null,null,0,212]
[21,17722,12,17733,24,17739,null,null,null,null,0,212]
[21,17895,21,17908,22,17913,null,null,null,null,0,222]
[21,18010,21,18014,22,18020,null,null,null,null,0,222]
[21,18115,12,18123,24,18127,null,null,null,null,0,212]
[21,18223,21,18228,22,18232,null,null,null,null,0,222]
[21,18329,21,18336,22,18341,null,null,null,null,0,222]
[21,18438,21,18442,22,18448,null,null,null,null,0,222]
[21,18544,21,18551,11,18555,null,null,null,null,0,221]
[21,18821,12,18828,24,18830,null,null,null,null,0,212]
[12,18923,23,18925,24,18933,null,null,null,null,0,122]
[21,19028,21,19031,22,19037,null,null,null,null,0,222]
[21,21122,21,21128,22,21132,null,null,null,null,0,222]
[21,21228,21,21235,22,21241,null,null,null,null,0,222]
[21,21337,21,21344,22,21350,null,null,null,null,0,222]
[21,21450,21,21456,22,21462,null,null,null,null,0,222]
[21,21560,12,21563,24,21569,null,null,null,null,0,212]
[21,21665,21,21671,22,21676,null,null,null,null,0,222]
[21,21775,12,21781,24,21784,null,null,null,null,0,212]
[21,21881,12,21886,24,21892,null,null,null,null,0,212]
[21,21985,21,21988,11,21991,null,null,null,null,0,221]
[21,22147,21,22157,11,22159,null,null,null,null,0,221]
[21,22508,12,22516,24,22519,null,null,null,null,0,212]
[21,22615,21,22622,11,22627,null,null,null,null,0,221]
[21,22735,21,22741,11,22745,null,null,null,null,0,221]
[21,23009,21,23019,22,23025,null,null,null,null,0,222]
[12,23122,23,23129,24,23136,null,null,null,null,0,122]

{"sheet":"!MA12910.Gus","index":20,"n_rows":108,"n_cols":48,"rows_kept":108,"cut":false,"hidden":false,"merged":[[4,39,4,42],[5,39,5,40],[4,44,4,47],[5,44,5,45],[4,24,4,27],[5,24,5,25],[4,29,4,32],[5,29,5,30],[4,34,4,37],[5,34,5,35],[1,1,1,2],[5,13,5,14],[18,13,18,14],[19,13,19,14],[4,19,4,22],[5,19,5,20]]}
["Report for:!MA12910.Gus"]
["Date:","<date>"]
["Hen:","<hen>",null,null,null,"Correct Sequence",{"$f":"Start!J2","v":221},null,null,null,null,null,null,null,null,"Total Sequences in Data",{"$f":"4994-COUNTBLANK(L7:L5000)","v":102},null,null,null,null,"Total Sequences in Block Data",{"$f":"COUNTA(L7:L23)","v":17},null,null,null,"Total Sequences in Block Data",{"$f":"COUNTA(L24:L40)","v":17},null,null,null,"Total Sequences in Block Data",{"$f":"COUNTA(L41:L57)","v":17},null,null,null,"Total Sequences in Block Data",{"$f":"COUNTA(L58:L74)","v":17},null,null,null,"Total Sequences in Block Data",{"$f":"COUNTA(L75:L91)","v":17},null,null,null,"Total Sequences in Block Data",{"$f":"COUNTA(L92:L108)","v":17}]
[null,null,null,null,null,null,null,null,null,null,null,null,null,null,null,"Total Sequences in Summary",{"$f":"SUM(O7:O14)","v":101},null,null,null,null,"Total Sequences in Block Summary",{"$f":"SUM(U7:U14)","v":17},null,null,null,"Total Sequences in Block Summary",{"$f":"SUM(Z7:Z14)","v":17},null,null,null,"Total Sequences in Block Summary",{"$f":"SUM(AE7:AE14)","v":17},null,null,null,"Total Sequences in Block Summary",{"$f":"SUM(AJ7:AJ14)","v":17},null,null,null,"Total Sequences in Block Summary",{"$f":"SUM(AO7:AO14)","v":17},null,null,null,"Total Sequences in Block Summary",{"$f":"SUM(AT7:AT14)","v":16}]
[null,null,null,null,null,null,null,null,null,null,null,null,null,null,null,null,null,null,null,"Block 1",null,null,null,null,"Block 2",null,null,null,null,"Block 3",null,null,null,null,"Block 4",null,null,null,null,"Block 5",null,null,null,null,"Block 6"]
["Sequence\nComponent\n1","Time\n1","Sequence\nComponent\n2","Time\n2","Sequence\nComponent\n3","Time\n3","Sequence\nComponent\n4","Time\n4","Sequence\nComponent\n5","Time\n5","Correct?\n0=No 1=Yes","Sequence",null,"Frequency",null,"Relative Frequency","Variability",null,null,"Frequency",null,"Relative Frequency","Variability",null,"Frequency",null,"Relative Frequency","Variability",null,"Frequency",null,"Relative Frequency","Variability",null,"Frequency",null,"Relative Frequency","Variability",null,"Frequency",null,"Relative Frequency","Variability",null,"Frequency",null,"Relative Frequency","Variability"]
[21,147,21,153,22,161,null,null,null,null,0,222,null,111,{"$f":"COUNTIF($L$7:$L$500,N7)","v":0},{"$f":"O7/$Q$4","v":0},{"$f":"IF(P7=0,0,(P7*((LOG(P7))/LOG(2))))","v":0},null,null,{"$f":"N7","v":111},{"$f":"COUNTIF(L7:L23,T7)","v":0},{"$f":"U7/(W4-U13)","v":0},{"$f":"IF(V7=0,0,(V7*((LOG(V7))/LOG(2))))","v":0},null,{"$f":"N7","v":111},{"$f":"COUNTIF(L24:L40,Y7)","v":0},{"$f":"Z7/(AB4-Z13)","v":0},{"$f":"IF(AA7=0,0,(AA7*((LOG(AA7))/LOG(2))))","v":0},null,{"$f":"N7","v":111},{"$f":"COUNTIF(L41:L57,AD7)","v":0},{"$f":"AE7/(AG4-AE13)","v":0},{"$f":"IF(AF7=0,0,(AF7*((LOG(AF7))/LOG(2))))","v":0},null,{"$f":"N7","v":111},{"$f":"COUNTIF(L58:L74,AI7)","v":0},{"$f":"AJ7/(AL4-AJ13)","v":0},{"$f":"IF(AK7=0,0,(AK7*((LOG(AK7))/LOG(2))))","v":0},null,{"$f":"N7","v":111},{"$f":"COUNTIF(L75:L91,AN7)","v":0},{"$f":"AO7/(AQ4-AO13)","v":0},{"$f":"IF(AP7=0,0,(AP7*((LOG(AP7))/LOG(2))))","v":0},null,{"$f":"N7","v":111},{"$f":"COUNTIF(L92:L108,AS7)","v":0},{"$f":"AT7/(AV4-AT13)","v":0},{"$f":"IF(AU7=0,0,(AU7*((LOG(AU7))/LOG(2))))","v":0}]
[21,305,21,315,22,321,null,null,null,null,0,222,null,112,{"$f":"COUNTIF($L$7:$L$500,N8)","v":0},{"$f":"O8/$Q$4","v":0},{"$f":"IF(P8=0,0,(P8*((LOG(P8))/LOG(2))))","v":0},null,null,{"$f":"N8","v":112},{"$f":"COUNTIF(L7:L23,T8)","v":0},{"$f":"U8/(W4-U13)","v":0},{"$f":"IF(V8=0,0,(V8*((LOG(V8))/LOG(2))))","v":0},null,{"$f":"N8","v":112},{"$f":"COUNTIF(L24:L40,Y8)","v":0},{"$f":"Z8/(AB4-Z13)","v":0},{"$f":"IF(AA8=0,0,(AA8*((LOG(AA8))/LOG(2))))","v":0},null,{"$f":"N8","v":112},{"$f":"COUNTIF(L41:L57,AD8)","v":0},{"$f":"AE8/(AG4-AE13)","v":0},{"$f":"IF(AF8=0,0,(AF8*((LOG(AF8))/LOG(2))))","v":0},null,{"$f":"N8","v":112},{"$f":"COUNTIF(L58:L74,AI8)","v":0},{"$f":"AJ8/(AL4-AJ13)","v":0},{"$f":"IF(AK8=0,0,(AK8*((LOG(AK8))/LOG(2))))","v":0},null,{"$f":"N8","v":112},{"$f":"COUNTIF(L75:L91,AN8)","v":0},{"$f":"AO8/(AQ4-AO13)","v":0},{"$f":"IF(AP8=0,0,(AP8*((LOG(AP8))/LOG(2))))","v":0},null,{"$f":"N8","v":112},{"$f":"COUNTIF(L92:L108,AS8)","v":0},{"$f":"AT8/(AV4-AT13)","v":0},{"$f":"IF(AU8=0,0,(AU8*((LOG(AU8))/LOG(2))))","v":0}]
[21,425,21,430,22,437,null,null,null,null,0,222,null,121,{"$f":"COUNTIF($L$7:$L$500,N9)","v":1},{"$f":"O9/$Q$4","v":9.9009900990099011E-3},{"$f":"IF(P9=0,0,(P9*((LOG(P9))/LOG(2))))","v":-6.5922885967839545E-2},null,null,{"$f":"N9","v":121},{"$f":"COUNTIF(L7:L23,T9)","v":0},{"$f":"U9/(W4-U13)","v":0},{"$f":"IF(V9=0,0,(V9*((LOG(V9))/LOG(2))))","v":0},null,{"$f":"N9","v":121},{"$f":"COUNTIF(L24:L40,Y9)","v":0},{"$f":"Z9/(AB4-Z13)","v":0},{"$f":"IF(AA9=0,0,(AA9*((LOG(AA9))/LOG(2))))","v":0},null,{"$f":"N9","v":121},{"$f":"COUNTIF(L41:L57,AD9)","v":0},{"$f":"AE9/(AG4-AE13)","v":0},{"$f":"IF(AF9=0,0,(AF9*((LOG(AF9))/LOG(2))))","v":0},null,{"$f":"N9","v":121},{"$f":"COUNTIF(L58:L74,AI9)","v":0},{"$f":"AJ9/(AL4-AJ13)","v":0},{"$f":"IF(AK9=0,0,(AK9*((LOG(AK9))/LOG(2))))","v":0},null,{"$f":"N9","v":121},{"$f":"COUNTIF(L75:L91,AN9)","v":0},{"$f":"AO9/(AQ4-AO13)","v":0},{"$f":"IF(AP9=0,0,(AP9*((LOG(AP9))/LOG(2))))","v":0},null,{"$f":"N9","v":121},{"$f":"COUNTIF(L92:L108,AS9)","v":1},{"$f":"AT9/(AV4-AT13)","v":6.6666666666666666E-2},{"$f":"IF(AU9=0,0,(AU9*((LOG(AU9))/LOG(2))))","v":-0.26045937304056793}]
[21,530,21,539,22,545,null,null,null,null,0,222,null,122,{"$f":"COUNTIF($L$7:$L$500,N10)","v":5},{"$f":"O10/$Q$4","v":4.9504950495049507E-2},{"$f":"IF(P10=0,0,(P10*((LOG(P10))/LOG(2))))","v":-0.21466749444873426},null,null,{"$f":"N10","v":122},{"$f":"COUNTIF(L7:L23,T10)","v":0},{"$f":"U10/(W4-U13)","v":0},{"$f":"IF(V10=0,0,(V10*((LOG(V10))/LOG(2))))","v":0},null,{"$f":"N10","v":122},{"$f":"COUNTIF(L24:L40,Y10)","v":2},{"$f":"Z10/(AB4-Z13)","v":0.14285714285714285},{"$f":"IF(AA10=0,0,(AA10*((LOG(AA10))/LOG(2))))","v":-0.40105070315108626},null,{"$f":"N10","v":122},{"$f":"COUNTIF(L41:L57,AD10)","v":2},{"$f":"AE10/(AG4-AE13)","v":0.14285714285714285},{"$f":"IF(AF10=0,0,(AF10*((LOG(AF10))/LOG(2))))","v":-0.40105070315108626},null,{"$f":"N10","v":122},{"$f":"COUNTIF(L58:L74,AI10)","v":0},{"$f":"AJ10/(AL4-AJ13)","v":0},{"$f":"IF(AK10=0,0,(AK10*((LOG(AK10))/LOG(2))))","v":0},null,{"$f":"N10","v":122},{"$f":"COUNTIF(L75:L91,AN10)","v":1},{"$f":"AO10/(AQ4-AO13)","v":6.25E-2},{"$f":"IF(AP10=0,0,(AP10*((LOG(AP10))/LOG(2))))","v":-0.25},null,{"$f":"N10","v":122},{"$f":"COUNTIF(L92:L108,AS10)","v":0},{"$f":"AT10/(AV4-AT13)","v":0},{"$f":"IF(AU10=0,0,(AU10*((LOG(AU10))/LOG(2))))","v":0}]
[21,642,21,656,22,664,null,null,null,null,0,222,null,211,{"$f":"COUNTIF($L$7:$L$500,N11)","v":1},{"$f":"O11/$Q$4","v":9.9009900990099011E-3},{"$f":"IF(P11=0,0,(P11*((LOG(P11))/LOG(2))))","v":-6.5922885967839545E-2},null,null,{"$f":"N11","v":211},{"$f":"COUNTIF(L7:L23,T11)","v":0},{"$f":"U11/(W4-U13)","v":0},{"$f":"IF(V11=0,0,(V11*((LOG(V11))/LOG(2))))","v":0},null,{"$f":"N11","v":211},{"$f":"COUNTIF(L24:L40,Y11)","v":0},{"$f":"Z11/(AB4-Z13)","v":0},{"$f":"IF(AA11=0,0,(AA11*((LOG(AA11))/LOG(2))))","v":0},null,{"$f":"N11","v":211},{"$f":"COUNTIF(L41:L57,AD11)","v":1},{"$f":"AE11/(AG4-AE13)","v":7.1428571428571425E-2},{"$f":"IF(AF11=0,0,(AF11*((LOG(AF11))/LOG(2))))","v":-0.27195392300411453},null,{"$f":"N11","v":211},{"$f":"COUNTIF(L58:L74,AI11)","v":0},{"$f":"AJ11/(AL4-AJ13)","v":0},{"$f":"IF(AK11=0,0,(AK11*((LOG(AK11))/LOG(2))))","v":0},null,{"$f":"N11","v":211},{"$f":"COUNTIF(L75:L91,AN11)","v":0},{"$f":"AO11/(AQ4-AO13)","v":0},{"$f":"IF(AP11=0,0,(AP11*((LOG(AP11))/LOG(2))))","v":0},null,{"$f":"N11","v":211},{"$f":"COUNTIF(L92:L108,AS11)","v":0},{"$f":"AT11/(AV4-AT13)","v":0},{"$f":"IF(AU11=0,0,(AU11*((LOG(AU11))/LOG(2))))","v":0}]
[21,939,21,949,22,954,null,null,null,null,0,222,null,212,{"$f":"COUNTIF($L$7:$L$500,N12)","v":25},{"$f":"O12/$Q$4","v":0.24752475247524752},{"$f":"IF(P12=0,0,(P12*((LOG(P12))/LOG(2))))","v":-0.49860279529135393},null,null,{"$f":"N12","v":212},{"$f":"COUNTIF(L7:L23,T12)","v":1},{"$f":"U12/(W4-U13)","v":5.8823529411764705E-2},{"$f":"IF(V12=0,0,(V12*((LOG(V12))/LOG(2))))","v":-0.24043899066178465},null,{"$f":"N12","v":212},{"$f":"COUNTIF(L24:L40,Y12)","v":2},{"$f":"Z12/(AB4-Z13)","v":0.14285714285714285},{"$f":"IF(AA12=0,0,(AA12*((LOG(AA12))/LOG(2))))","v":-0.40105070315108626},null,{"$f":"N12","v":212},{"$f":"COUNTIF(L41:L57,AD12)","v":5},{"$f":"AE12/(AG4-AE13)","v":0.35714285714285715},{"$f":"IF(AF12=0,0,(AF12*((LOG(AF12))/LOG(2))))","v":-0.53050958113222924},null,{"$f":"N12","v":212},{"$f":"COUNTIF(L58:L74,AI12)","v":5},{"$f":"AJ12/(AL4-AJ13)","v":0.38461538461538464},{"$f":"IF(AK12=0,0,(AK12*((LOG(AK12))/LOG(2))))","v":-0.53019677817451139},null,{"$f":"N12","v":212},{"$f":"COUNTIF(L75:L91,AN12)","v":6},{"$f":"AO12/(AQ4-AO13)","v":0.375},{"$f":"IF(AP12=0,0,(AP12*((LOG(AP12))/LOG(2))))","v":-0.53063906222956647},null,{"$f":"N12","v":212},{"$f":"COUNTIF(L92:L108,AS12)","v":6},{"$f":"AT12/(AV4-AT13)","v":0.4},{"$f":"IF(AU12=0,0,(AU12*((LOG(AU12))/LOG(2))))","v":-0.52877123795494496}]
[21,1051,21,1063,22,1073,null,null,null,null,0,222,null,221,{"$f":"COUNTIF($L$7:$L$500,N13)","v":12},{"$f":"O13/$Q$4","v":0.11881188118811881},{"$f":"IF(P13=0,0,(P13*((LOG(P13))/LOG(2))))","v":-0.36513849291453132},null,null,{"$f":"N13","v":221},{"$f":"COUNTIF(L7:L23,T13)","v":0},null,null,null,{"$f":"N13","v":221},{"$f":"COUNTIF(L24:L40,Y13)","v":3},null,null,null,{"$f":"N13","v":221},{"$f":"COUNTIF(L41:L57,AD13)","v":3},null,null,null,{"$f":"N13","v":221},{"$f":"COUNTIF(L58:L74,AI13)","v":4},null,null,null,{"$f":"N13","v":221},{"$f":"COUNTIF(L75:L91,AN13)","v":1},null,null,null,{"$f":"N13","v":221},{"$f":"COUNTIF(L92:L108,AS13)","v":1}]
[21,1171,21,1176,22,1181,null,null,null,null,0,222,null,222,{"$f":"COUNTIF($L$7:$L$500,N14)","v":57},{"$f":"O14/$Q$4","v":0.5643564356435643},{"$f":"IF(P14=0,0,(P14*((LOG(P14))/LOG(2))))","v":-0.4657754822719013},null,null,{"$f":"N14","v":222},{"$f":"COUNTIF(L7:L23,T14)","v":16},{"$f":"U14/(W4-U13)","v":0.94117647058823528},{"$f":"IF(V14=0,0,(V14*((LOG(V14))/LOG(2))))","v":-8.2317968235613576E-2},null,{"$f":"N14","v":222},{"$f":"COUNTIF(L24:L40,Y14)","v":10},{"$f":"Z14/(AB4-Z13)","v":0.7142857142857143},{"$f":"IF(AA14=0,0,(AA14*((LOG(AA14))/LOG(2))))","v":-0.34673344797874411},null,{"$f":"N14","v":222},{"$f":"COUNTIF(L41:L57,AD14)","v":6},{"$f":"AE14/(AG4-AE13)","v":0.42857142857142855},{"$f":"IF(AF14=0,0,(AF14*((LOG(AF14))/LOG(2))))","v":-0.52388246628704915},null,{"$f":"N14","v":222},{"$f":"COUNTIF(L58:L74,AI14)","v":8},{"$f":"AJ14/(AL4-AJ13)","v":0.61538461538461542},{"$f":"IF(AK14=0,0,(AK14*((LOG(AK14))/LOG(2))))","v":-0.43103982654836437},null,{"$f":"N14","v":222},{"$f":"COUNTIF(L75:L91,AN14)","v":9},{"$f":"AO14/(AQ4-AO13)","v":0.5625},{"$f":"IF(AP14=0,0,(AP14*((LOG(AP14))/LOG(2))))","v":-0.4669171866886993},null,{"$f":"N14","v":222},{"$f":"COUNTIF(L92:L108,AS14)","v":8},{"$f":"AT14/(AV4-AT13)","v":0.53333333333333333},{"$f":"IF(AU14=0,0,(AU14*((LOG(AU14))/LOG(2))))","v":-0.4836749843245432}]
[21,1454,21,1462,22,1468,null,null,null,null,0,222,null,null,null,{"$f":"SUM(P7:P14)","v":1},{"$f":"-SUM(Q7:Q14)","v":1.6760300368622001},null,null,null,null,{"$f":"SUM(V7:V14)","v":1},{"$f":"-SUM(W7:W14)","v":0.32275695889739819},null,null,null,{"$f":"SUM(AA7:AA14)","v":1},{"$f":"-SUM(AB7:AB14)","v":1.1488348542809166},null,null,null,{"$f":"SUM(AF7:AF14)","v":1},{"$f":"-SUM(AG7:AG14)","v":1.7273966735744792},null,null,null,{"$f":"SUM(AK7:AK14)","v":1},{"$f":"-SUM(AL7:AL14)","v":0.96123660472287575},null,null,null,{"$f":"SUM(AP7:AP14)","v":1},{"$f":"-SUM(AQ7:AQ14)","v":1.2475562489182659},null,null,null,{"$f":"SUM(AU7:AU14)","v":1},{"$f":"-SUM(AV7:AV14)","v":1.2729055953200561}]
[21,2032,21,2039,22,2057,null,null,null,null,0,222,null,null,null,"U=",{"$f":"Q15/(LOG(Q4)/LOG(2))","v":0.25172376113374939},null,null,null,null,"U1=",{"$f":"W15/(LOG(W4)/LOG(2))","v":7.8962664966678475E-2},null,null,null,"U2=",{"$f":"AB15/(LOG(AB4)/LOG(2))","v":0.28106306990413948},null,null,null,"U3=",{"$f":"AG15/(LOG(AG4)/LOG(2))","v":0.42260853264321668},null,null,null,"U4=",{"$f":"AL15/(LOG(AL4)/LOG(2))","v":0.23516705644933453},null,null,null,"U5=",{"$f":"AQ15/(LOG(AQ4)/LOG(2))","v":0.30521531262083429},null,null,null,"U6=",{"$f":"AV15/(LOG(AV4)/LOG(2))","v":0.31822639883001402}]
[21,2149,21,2155,22,2164,null,null,null,null,0,222]
[21,2260,21,2267,22,2274,null,null,null,null,0,222]
[21,2370,12,2378,24,2389,null,null,null,null,0,212,null,"Total Target Seq"]
[21,2520,21,2524,22,2541,null,null,null,null,0,222,null,{"$f":"COUNTIF(L7:L108,G3)","v":12},null,17,17,17,17,17,17]
[21,2637,21,2643,22,2648,null,null,null,null,0,222,null,null,null,"% of reinforcement given in 6 equal intervals based on number of trials "]
[21,2888,21,2895,22,2914,null,null,null,null,0,222,null,null,null,"%_1","%_2","%_3","%_4","%_5","%_6"]
[21,3010,21,3015,22,3020,null,null,null,null,0,222,null,null,"target sequence",{"$f":"$G$3","v":221},{"$f":"$G$3","v":221},{"$f":"$G$3","v":221},{"$f":"$G$3","v":221},{"$f":"$G$3","v":221},{"$f":"$G$3","v":221}]
[21,3133,12,3140,24,3142,null,null,null,null,0,212,null,null,"total reinforcement",{"$f":"U13","v":0},{"$f":"Z13","v":3},{"$f":"AE13","v":3},{"$f":"AJ13","v":4},{"$f":"AO13","v":1},{"$f":"AT13","v":1}]
[21,3240,21,3244,22,3250,null,null,null,null,0,222,null,null,"% target"]
[21,3348,21,3356,22,3365,null,null,null,null,0,222,null,null,"CCRF"]
[21,3645,21,3651,22,3658,null,null,null,null,0,222,null,null,"% CCRf"]
[12,3769,23,3777,24,3794,null,null,null,null,0,122,null,null,"average response rate",{"$f":"F23/P20","v":177.64705882352942},{"$f":"(F40-F23)/Q20","v":143.11764705882354},{"$f":"(F57-F40)/R20","v":144.76470588235293},{"$f":"(F74-F57)/S20","v":145.47058823529412},{"$f":"(F91-F74)/T20","v":155.47058823529412},{"$f":"(F108-F91)/U20","v":-766.47058823529414}]
[21,4014,21,4021,22,4028,null,null,null,null,0,222]
[12,4125,23,4132,24,4135,null,null,null,null,0,122]
[21,4260,12,4274,24,4282,null,null,null,null,0,212]
[21,4380,21,4395,22,4399,null,null,null,null,0,222]
[21,4535,21,4541,11,4545,null,null,null,null,0,221]
[21,4683,21,4688,22,4697,null,null,null,null,0,222]
[21,4796,21,4802,22,4808,null,null,null,null,0,222]
[21,4907,21,4912,22,4918,null,null,null,null,0,222]
[21,5016,21,5026,22,5032,null,null,null,null,0,222]
[21,5159,21,5167,11,5173,null,null,null,null,0,221]
[21,5327,21,5342,22,5350,null,null,null,null,0,222]
[21,5446,21,5448,11,5453,null,null,null,null,0,221]
[21,5634,12,5640,24,5648,null,null,null,null,0,212]
[21,5802,12,5817,24,5821,null,null,null,null,0,212]
[21,5918,21,5933,11,5946,null,null,null,null,0,221]
[21,6143,12,6147,24,6151,null,null,null,null,0,212]
[12,6243,23,6248,24,6254,null,null,null,null,0,122]
[21,6376,12,6379,13,6384,null,null,null,null,0,211]
[21,6479,12,6481,24,6487,null,null,null,null,0,212]
[21,6584,21,6591,22,6596,null,null,null,null,0,222]
[21,6691,21,6705,22,6710,null,null,null,null,0,222]
[21,6807,21,6814,22,6820,null,null,null,null,0,222]
[21,6934,21,6940,22,6952,null,null,null,null,0,222]
[12,7045,23,7050,24,7054,null,null,null,null,0,122]
[21,7152,21,7158,11,7162,null,null,null,null,0,221]
[21,7312,21,7321,11,7326,null,null,null,null,0,221]
[21,7690,12,7698,24,7705,null,null,null,null,0,212]
[21,7801,21,7803,22,7806,null,null,null,null,0,222]
[21,7904,21,7909,22,7914,null,null,null,null,0,222]
[21,8009,21,8016,11,8019,null,null,null,null,0,221]
[21,8133,21,8138,22,8144,null,null,null,null,0,222]
[21,8241,21,8244,11,8250,null,null,null,null,0,221]
[21,8368,12,8381,24,8385,null,null,null,null,0,212]
[21,8492,21,8503,22,8510,null,null,null,null,0,222]
[21,8610,12,8615,24,8621,null,null,null,null,0,212]
[21,8726,21,8731,11,8734,null,null,null,null,0,221]
[21,8831,12,8839,24,8842,null,null,null,null,0,212]
[21,8942,21,8953,22,8961,null,null,null,null,0,222]
[21,9144,21,9156,22,9163,null,null,null,null,0,222]
[21,9260,21,9264,22,9269,null,null,null,null,0,222]
[21,9756,21,9768,22,9774,null,null,null,null,0,222]
[21,9868,12,9870,24,9877,null,null,null,null,0,212]
[21,9972,21,9979,22,9984,null,null,null,null,0,222]
[21,10160,21,10169,22,10177,null,null,null,null,0,222]
[21,10275,12,10282,24,10284,null,null,null,null,0,212]
[21,10377,21,10386,11,10387,null,null,null,null,0,221]
[21,10492,21,10497,22,10504,null,null,null,null,0,222]
[21,10600,21,10613,22,10619,null,null,null,null,0,222]
[21,10847,12,10852,24,10861,null,null,null,null,0,212]
[21,10977,12,10984,24,10987,null,null,null,null,0,212]
[21,11086,12,11090,24,11093,null,null,null,null,0,212]
[21,11190,21,11195,22,11199,null,null,null,null,0,222]
[21,11344,21,11362,22,11369,null,null,null,null,0,222]
[21,11464,12,11466,24,11469,null,null,null,null,0,212]
[21,11873,21,11879,22,11886,null,null,null,null,0,222]
[21,11982,21,11999,22,12006,null,null,null,null,0,222]
[21,12141,21,12147,22,12154,null,null,null,null,0,222]
[21,12252,12,12258,24,12268,null,null,null,null,0,212]
[21,12525,21,12531,22,12537,null,null,null,null,0,222]
[21,12630,12,12635,24,12640,null,null,null,null,0,212]
[21,12787,21,12797,22,12805,null,null,null,null,0,222]
[12,12899,23,12903,24,12915,null,null,null,null,0,122]
[21,13012,21,13023,11,13030,null,null,null,null,0,221]
[21,13146,21,13153,11,13155,null,null,null,null,0,221]
[21,13465,12,13477,24,13481,null,null,null,null,0,212]
[21,13665,12,13675,24,13688,null,null,null,null,0,212]
[21,13783,21,13788,22,13793,null,null,null,null,0,222]
[21,13890,12,13894,24,13897,null,null,null,null,0,212]
[12,13990,23,13995,13,14000,null,null,null,null,0,121]
[21,14096,12,14103,24,14106,null,null,null,null,0,212]
[21,14201,21,14208,22,14215,null,null,null,null,0,222]
[21,14318,21,14323,22,14329,null,null,null,null,0,222]
[21,14426,12,14428,24,14437,null,null,null,null,0,212]
[21,14556,21,14562,22,14564,null,null,null,null,0,222]
[21,14660,21,14664,22,14669,null,null,null,null,0,222]
[21,14766,12,14775,24,14777,null,null,null,null,0,212]
[21,14875,21,14883,22,14889,null,null,null,null,0,222]
[21,15442,21,15454,22,15460,null,null,null,null,0,222]
[21,15555,21,15560,22,15564,null,null,null,null,0,222]
[12,20247,null,null,null,null,null,null,null,null,null,1]

{"sheet":"!MA13A30.Gus","index":21,"n_rows":186,"n_cols":48,"rows_kept":186,"cut":false,"hidden":false,"merged":[[4,39,4,42],[5,39,5,40],[4,44,4,47],[5,44,5,45],[4,24,4,27],[5,24,5,25],[4,29,4,32],[5,29,5,30],[4,34,4,37],[5,34,5,35],[1,1,1,2],[5,13,5,14],[18,13,18,14],[19,13,19,14],[4,19,4,22],[5,19,5,20]]}
["Report for:!MA13A30.Gus"]
["Date:","<date>"]
["Hen:","<hen>",null,null,null,"Correct Sequence",{"$f":"Start!J2","v":221},null,null,null,null,null,null,null,null,"Total Sequences in Data",{"$f":"4994-COUNTBLANK(L7:L5000)","v":180},null,null,null,null,"Total Sequences in Block Data",{"$f":"COUNTA(L7:L36)","v":30},null,null,null,"Total Sequences in Block Data",{"$f":"COUNTA(L37:L66)","v":30},null,null,null,"Total Sequences in Block Data",{"$f":"COUNTA(L67:L96)","v":30},null,null,null,"Total Sequences in Block Data",{"$f":"COUNTA(L97:L126)","v":30},null,null,null,"Total Sequences in Block Data",{"$f":"COUNTA(L127:L156)","v":30},null,null,null,"Total Sequences in Block Data",{"$f":"COUNTA(L157:L186)","v":30}]
[null,null,null,null,null,null,null,null,null,null,null,null,null,null,null,"Total Sequences in Summary",{"$f":"SUM(O7:O14)","v":180},null,null,null,null,"Total Sequences in Block Summary",{"$f":"SUM(U7:U14)","v":30},null,null,null,"Total Sequences in Block Summary",{"$f":"SUM(Z7:Z14)","v":30},null,null,null,"Total Sequences in Block Summary",{"$f":"SUM(AE7:AE14)","v":30},null,null,null,"Total Sequences in Block Summary",{"$f":"SUM(AJ7:AJ14)","v":30},null,null,null,"Total Sequences in Block Summary",{"$f":"SUM(AO7:AO14)","v":30},null,null,null,"Total Sequences in Block Summary",{"$f":"SUM(AT7:AT14)","v":30}]
[null,null,null,null,null,null,null,null,null,null,null,null,null,null,null,null,null,null,null,"Block 1",null,null,null,null,"Block 2",null,null,null,null,"Block 3",null,null,null,null,"Block 4",null,null,null,null,"Block 5",null,null,null,null,"Block 6"]
["Sequence\nComponent\n1","Time\n1","Sequence\nComponent\n2","Time\n2","Sequence\nComponent\n3","Time\n3","Sequence\nComponent\n4","Time\n4","Sequence\nComponent\n5","Time\n5","Correct?\n0=No 1=Yes","Sequence",null,"Frequency",null,"Relative Frequency","Variability",null,null,"Frequency",null,"Relative Frequency","Variability",null,"Frequency",null,"Relative Frequency","Variability",null,"Frequency",null,"Relative Frequency","Variability",null,"Frequency",null,"Relative Frequency","Variability",null,"Frequency",null,"Relative Frequency","Variability",null,"Frequency",null,"Relative Frequency","Variability"]
[21,212,21,218,22,227,null,null,null,null,0,222,null,111,{"$f":"COUNTIF($L$7:$L$500,N7)","v":0},{"$f":"O7/$Q$4","v":0},{"$f":"IF(P7=0,0,(P7*((LOG(P7))/LOG(2))))","v":0},null,null,{"$f":"N7","v":111},{"$f":"COUNTIF(L7:L36,T7)","v":0},{"$f":"U7/(W4-U13)","v":0},{"$f":"IF(V7=0,0,(V7*((LOG(V7))/LOG(2))))","v":0},null,{"$f":"N7","v":111},{"$f":"COUNTIF(L37:L66,Y7)","v":0},{"$f":"Z7/(AB4-Z13)","v":0},{"$f":"IF(AA7=0,0,(AA7*((LOG(AA7))/LOG(2))))","v":0},null,{"$f":"N7","v":111},{"$f":"COUNTIF(L67:L96,AD7)","v":0},{"$f":"AE7/(AG4-AE13)","v":0},{"$f":"IF(AF7=0,0,(AF7*((LOG(AF7))/LOG(2))))","v":0},null,{"$f":"N7","v":111},{"$f":"COUNTIF(L97:L126,AI7)","v":0},{"$f":"AJ7/(AL4-AJ13)","v":0},{"$f":"IF(AK7=0,0,(AK7*((LOG(AK7))/LOG(2))))","v":0},null,{"$f":"N7","v":111},{"$f":"COUNTIF(L127:L156,AN7)","v":0},{"$f":"AO7/(AQ4-AO13)","v":0},{"$f":"IF(AP7=0,0,(AP7*((LOG(AP7))/LOG(2))))","v":0},null,{"$f":"N7","v":111},{"$f":"COUNTIF(L157:L186,AS7)","v":0},{"$f":"AT7/(AV4-AT13)","v":0},{"$f":"IF(AU7=0,0,(AU7*((LOG(AU7))/LOG(2))))","v":0}]
[21,365,21,382,22,389,null,null,null,null,0,222,null,112,{"$f":"COUNTIF($L$7:$L$500,N8)","v":0},{"$f":"O8/$Q$4","v":0},{"$f":"IF(P8=0,0,(P8*((LOG(P8))/LOG(2))))","v":0},null,null,{"$f":"N8","v":112},{"$f":"COUNTIF(L7:L36,T8)","v":0},{"$f":"U8/(W4-U13)","v":0},{"$f":"IF(V8=0,0,(V8*((LOG(V8))/LOG(2))))","v":0},null,{"$f":"N8","v":112},{"$f":"COUNTIF(L37:L66,Y8)","v":0},{"$f":"Z8/(AB4-Z13)","v":0},{"$f":"IF(AA8=0,0,(AA8*((LOG(AA8))/LOG(2))))","v":0},null,{"$f":"N8","v":112},{"$f":"COUNTIF(L67:L96,AD8)","v":0},{"$f":"AE8/(AG4-AE13)","v":0},{"$f":"IF(AF8=0,0,(AF8*((LOG(AF8))/LOG(2))))","v":0},null,{"$f":"N8","v":112},{"$f":"COUNTIF(L97:L126,AI8)","v":0},{"$f":"AJ8/(AL4-AJ13)","v":0},{"$f":"IF(AK8=0,0,(AK8*((LOG(AK8))/LOG(2))))","v":0},null,{"$f":"N8","v":112},{"$f":"COUNTIF(L127:L156,AN8)","v":0},{"$f":"AO8/(AQ4-AO13)","v":0},{"$f":"IF(AP8=0,0,(AP8*((LOG(AP8))/LOG(2))))","v":0},null,{"$f":"N8","v":112},{"$f":"COUNTIF(L157:L186,AS8)","v":0},{"$f":"AT8/(AV4-AT13)","v":0},{"$f":"IF(AU8=0,0,(AU8*((LOG(AU8))/LOG(2))))","v":0}]
[12,484,23,488,24,495,null,null,null,null,0,122,null,121,{"$f":"COUNTIF($L$7:$L$500,N9)","v":7},{"$f":"O9/$Q$4","v":3.888888888888889E-2},{"$f":"IF(P9=0,0,(P9*((LOG(P9))/LOG(2))))","v":-0.18217492899946944},null,null,{"$f":"N9","v":121},{"$f":"COUNTIF(L7:L36,T9)","v":2},{"$f":"U9/(W4-U13)","v":0.08},{"$f":"IF(V9=0,0,(V9*((LOG(V9))/LOG(2))))","v":-0.29150849518197797},null,{"$f":"N9","v":121},{"$f":"COUNTIF(L37:L66,Y9)","v":2},{"$f":"Z9/(AB4-Z13)","v":8.3333333333333329E-2},{"$f":"IF(AA9=0,0,(AA9*((LOG(AA9))/LOG(2))))","v":-0.29874687506009634},null,{"$f":"N9","v":121},{"$f":"COUNTIF(L67:L96,AD9)","v":2},{"$f":"AE9/(AG4-AE13)","v":7.407407407407407E-2},{"$f":"IF(AF9=0,0,(AF9*((LOG(AF9))/LOG(2))))","v":-0.27813981497507173},null,{"$f":"N9","v":121},{"$f":"COUNTIF(L97:L126,AI9)","v":0},{"$f":"AJ9/(AL4-AJ13)","v":0},{"$f":"IF(AK9=0,0,(AK9*((LOG(AK9))/LOG(2))))","v":0},null,{"$f":"N9","v":121},{"$f":"COUNTIF(L127:L156,AN9)","v":1},{"$f":"AO9/(AQ4-AO13)","v":4.3478260869565216E-2},{"$f":"IF(AP9=0,0,(AP9*((LOG(AP9))/LOG(2))))","v":-0.19667660678508753},null,{"$f":"N9","v":121},{"$f":"COUNTIF(L157:L186,AS9)","v":0},{"$f":"AT9/(AV4-AT13)","v":0},{"$f":"IF(AU9=0,0,(AU9*((LOG(AU9))/LOG(2))))","v":0}]
[21,597,21,603,22,608,null,null,null,null,0,222,null,122,{"$f":"COUNTIF($L$7:$L$500,N10)","v":19},{"$f":"O10/$Q$4","v":0.10555555555555556},{"$f":"IF(P10=0,0,(P10*((LOG(P10))/LOG(2))))","v":-0.34241436708242051},null,null,{"$f":"N10","v":122},{"$f":"COUNTIF(L7:L36,T10)","v":6},{"$f":"U10/(W4-U13)","v":0.24},{"$f":"IF(V10=0,0,(V10*((LOG(V10))/LOG(2))))","v":-0.49413448537285637},null,{"$f":"N10","v":122},{"$f":"COUNTIF(L37:L66,Y10)","v":0},{"$f":"Z10/(AB4-Z13)","v":0},{"$f":"IF(AA10=0,0,(AA10*((LOG(AA10))/LOG(2))))","v":0},null,{"$f":"N10","v":122},{"$f":"COUNTIF(L67:L96,AD10)","v":4},{"$f":"AE10/(AG4-AE13)","v":0.14814814814814814},{"$f":"IF(AF10=0,0,(AF10*((LOG(AF10))/LOG(2))))","v":-0.40813148180199532},null,{"$f":"N10","v":122},{"$f":"COUNTIF(L97:L126,AI10)","v":2},{"$f":"AJ10/(AL4-AJ13)","v":9.0909090909090912E-2},{"$f":"IF(AK10=0,0,(AK10*((LOG(AK10))/LOG(2))))","v":-0.31449378351248153},null,{"$f":"N10","v":122},{"$f":"COUNTIF(L127:L156,AN10)","v":4},{"$f":"AO10/(AQ4-AO13)","v":0.17391304347826086},{"$f":"IF(AP10=0,0,(AP10*((LOG(AP10))/LOG(2))))","v":-0.43888034018382832},null,{"$f":"N10","v":122},{"$f":"COUNTIF(L157:L186,AS10)","v":3},{"$f":"AT10/(AV4-AT13)","v":0.14285714285714285},{"$f":"IF(AU10=0,0,(AU10*((LOG(AU10))/LOG(2))))","v":-0.40105070315108626}]
[12,701,23,705,24,717,null,null,null,null,0,122,null,211,{"$f":"COUNTIF($L$7:$L$500,N11)","v":0},{"$f":"O11/$Q$4","v":0},{"$f":"IF(P11=0,0,(P11*((LOG(P11))/LOG(2))))","v":0},null,null,{"$f":"N11","v":211},{"$f":"COUNTIF(L7:L36,T11)","v":0},{"$f":"U11/(W4-U13)","v":0},{"$f":"IF(V11=0,0,(V11*((LOG(V11))/LOG(2))))","v":0},null,{"$f":"N11","v":211},{"$f":"COUNTIF(L37:L66,Y11)","v":0},{"$f":"Z11/(AB4-Z13)","v":0},{"$f":"IF(AA11=0,0,(AA11*((LOG(AA11))/LOG(2))))","v":0},null,{"$f":"N11","v":211},{"$f":"COUNTIF(L67:L96,AD11)","v":0},{"$f":"AE11/(AG4-AE13)","v":0},{"$f":"IF(AF11=0,0,(AF11*((LOG(AF11))/LOG(2))))","v":0},null,{"$f":"N11","v":211},{"$f":"COUNTIF(L97:L126,AI11)","v":0},{"$f":"AJ11/(AL4-AJ13)","v":0},{"$f":"IF(AK11=0,0,(AK11*((LOG(AK11))/LOG(2))))","v":0},null,{"$f":"N11","v":211},{"$f":"COUNTIF(L127:L156,AN11)","v":0},{"$f":"AO11/(AQ4-AO13)","v":0},{"$f":"IF(AP11=0,0,(AP11*((LOG(AP11))/LOG(2))))","v":0},null,{"$f":"N11","v":211},{"$f":"COUNTIF(L157:L186,AS11)","v":0},{"$f":"AT11/(AV4-AT13)","v":0},{"$f":"IF(AU11=0,0,(AU11*((LOG(AU11))/LOG(2))))","v":0}]
[12,810,23,815,24,820,null,null,null,null,0,122,null,212,{"$f":"COUNTIF($L$7:$L$500,N12)","v":57},{"$f":"O12/$Q$4","v":0.31666666666666665},{"$f":"IF(P12=0,0,(P12*((LOG(P12))/LOG(2))))","v":-0.5253383093522288},null,null,{"$f":"N12","v":212},{"$f":"COUNTIF(L7:L36,T12)","v":6},{"$f":"U12/(W4-U13)","v":0.24},{"$f":"IF(V12=0,0,(V12*((LOG(V12))/LOG(2))))","v":-0.49413448537285637},null,{"$f":"N12","v":212},{"$f":"COUNTIF(L37:L66,Y12)","v":6},{"$f":"Z12/(AB4-Z13)","v":0.25},{"$f":"IF(AA12=0,0,(AA12*((LOG(AA12))/LOG(2))))","v":-0.5},null,{"$f":"N12","v":212},{"$f":"COUNTIF(L67:L96,AD12)","v":13},{"$f":"AE12/(AG4-AE13)","v":0.48148148148148145},{"$f":"IF(AF12=0,0,(AF12*((LOG(AF12))/LOG(2))))","v":-0.50769708119595902},null,{"$f":"N12","v":212},{"$f":"COUNTIF(L97:L126,AI12)","v":7},{"$f":"AJ12/(AL4-AJ13)","v":0.31818181818181818},{"$f":"IF(AK12=0,0,(AK12*((LOG(AK12))/LOG(2))))","v":-0.52566076709353871},null,{"$f":"N12","v":212},{"$f":"COUNTIF(L127:L156,AN12)","v":15},{"$f":"AO12/(AQ4-AO13)","v":0.65217391304347827},{"$f":"IF(AP12=0,0,(AP12*((LOG(AP12))/LOG(2))))","v":-0.40217697420553983},null,{"$f":"N12","v":212},{"$f":"COUNTIF(L157:L186,AS12)","v":10},{"$f":"AT12/(AV4-AT13)","v":0.47619047619047616},{"$f":"IF(AU12=0,0,(AU12*((LOG(AU12))/LOG(2))))","v":-0.50970920375780859}]
[12,926,23,929,24,945,null,null,null,null,0,122,null,221,{"$f":"COUNTIF($L$7:$L$500,N13)","v":38},{"$f":"O13/$Q$4","v":0.21111111111111111},{"$f":"IF(P13=0,0,(P13*((LOG(P13))/LOG(2))))","v":-0.47371762305372994},null,null,{"$f":"N13","v":221},{"$f":"COUNTIF(L7:L36,T13)","v":5},null,null,null,{"$f":"N13","v":221},{"$f":"COUNTIF(L37:L66,Y13)","v":6},null,null,null,{"$f":"N13","v":221},{"$f":"COUNTIF(L67:L96,AD13)","v":3},null,null,null,{"$f":"N13","v":221},{"$f":"COUNTIF(L97:L126,AI13)","v":8},null,null,null,{"$f":"N13","v":221},{"$f":"COUNTIF(L127:L156,AN13)","v":7},null,null,null,{"$f":"N13","v":221},{"$f":"COUNTIF(L157:L186,AS13)","v":9}]
[12,1040,23,1045,13,1048,null,null,null,null,0,121,null,222,{"$f":"COUNTIF($L$7:$L$500,N14)","v":59},{"$f":"O14/$Q$4","v":0.32777777777777778},{"$f":"IF(P14=0,0,(P14*((LOG(P14))/LOG(2))))","v":-0.52746329317278984},null,null,{"$f":"N14","v":222},{"$f":"COUNTIF(L7:L36,T14)","v":11},{"$f":"U14/(W4-U13)","v":0.44},{"$f":"IF(V14=0,0,(V14*((LOG(V14))/LOG(2))))","v":-0.52114681130046814},null,{"$f":"N14","v":222},{"$f":"COUNTIF(L37:L66,Y14)","v":16},{"$f":"Z14/(AB4-Z13)","v":0.66666666666666663},{"$f":"IF(AA14=0,0,(AA14*((LOG(AA14))/LOG(2))))","v":-0.38997500048077083},null,{"$f":"N14","v":222},{"$f":"COUNTIF(L67:L96,AD14)","v":8},{"$f":"AE14/(AG4-AE13)","v":0.29629629629629628},{"$f":"IF(AF14=0,0,(AF14*((LOG(AF14))/LOG(2))))","v":-0.51996666730769436},null,{"$f":"N14","v":222},{"$f":"COUNTIF(L97:L126,AI14)","v":13},{"$f":"AJ14/(AL4-AJ13)","v":0.59090909090909094},{"$f":"IF(AK14=0,0,(AK14*((LOG(AK14))/LOG(2))))","v":-0.4484952139295757},null,{"$f":"N14","v":222},{"$f":"COUNTIF(L127:L156,AN14)","v":3},{"$f":"AO14/(AQ4-AO13)","v":0.13043478260869565},{"$f":"IF(AP14=0,0,(AP14*((LOG(AP14))/LOG(2))))","v":-0.3832955811307639},null,{"$f":"N14","v":222},{"$f":"COUNTIF(L157:L186,AS14)","v":8},{"$f":"AT14/(AV4-AT13)","v":0.38095238095238093},{"$f":"IF(AU14=0,0,(AU14*((LOG(AU14))/LOG(2))))","v":-0.53040663724905157}]
[21,1146,21,1155,11,1176,null,null,null,null,0,221,null,null,null,{"$f":"SUM(P7:P14)","v":1},{"$f":"-SUM(Q7:Q14)","v":2.0511085216606384},null,null,null,null,{"$f":"SUM(V7:V14)","v":1},{"$f":"-SUM(W7:W14)","v":1.8009242772281588},null,null,null,{"$f":"SUM(AA7:AA14)","v":1},{"$f":"-SUM(AB7:AB14)","v":1.1887218755408671},null,null,null,{"$f":"SUM(AF7:AF14)","v":1},{"$f":"-SUM(AG7:AG14)","v":1.7139350452807205},null,null,null,{"$f":"SUM(AK7:AK14)","v":1},{"$f":"-SUM(AL7:AL14)","v":1.2886497645355959},null,null,null,{"$f":"SUM(AP7:AP14)","v":1},{"$f":"-SUM(AQ7:AQ14)","v":1.4210295023052195},null,null,null,{"$f":"SUM(AU7:AU14)","v":1},{"$f":"-SUM(AV7:AV14)","v":1.4411665441579464}]
[21,1294,12,1307,24,1319,null,null,null,null,0,212,null,null,null,"U=",{"$f":"Q15/(LOG(Q4)/LOG(2))","v":0.2737785291953328},null,null,null,null,"U1=",{"$f":"W15/(LOG(W4)/LOG(2))","v":0.36701944788414842},null,null,null,"U2=",{"$f":"AB15/(LOG(AB4)/LOG(2))","v":0.24225563060336583},null,null,null,"U3=",{"$f":"AG15/(LOG(AG4)/LOG(2))","v":0.34929147326305326},null,null,null,"U4=",{"$f":"AL15/(LOG(AL4)/LOG(2))","v":0.26262043944670149},null,null,null,"U5=",{"$f":"AQ15/(LOG(AQ4)/LOG(2))","v":0.28959877433929077},null,null,null,"U6=",{"$f":"AV15/(LOG(AV4)/LOG(2))","v":0.29370260373193074}]
[21,1454,21,1462,22,1471,null,null,null,null,0,222]
[21,1570,21,1582,11,1587,null,null,null,null,0,221]
[21,1709,21,1716,22,1724,null,null,null,null,0,222,null,"Total Target Seq"]
[21,1823,21,1836,22,1844,null,null,null,null,0,222,null,{"$f":"COUNTIF(L7:L186,G3)","v":38},null,30,30,30,30,30,30]
[21,1941,12,1953,24,1960,null,null,null,null,0,212,null,null,null,"% of reinforcement given in 6 equal intervals based on number of trials "]
[21,2056,21,2069,22,2076,null,null,null,null,0,222,null,null,null,"%_1","%_2","%_3","%_4","%_5","%_6"]
[21,2171,21,2178,11,2181,null,null,null,null,0,221,null,null,"target sequence",{"$f":"$G$3","v":221},{"$f":"$G$3","v":221},{"$f":"$G$3","v":221},{"$f":"$G$3","v":221},{"$f":"$G$3","v":221},{"$f":"$G$3","v":221}]
[21,2271,21,2280,22,2287,null,null,null,null,0,222,null,null,"total reinforcement",{"$f":"U13","v":5},{"$f":"Z13","v":6},{"$f":"AE13","v":3},{"$f":"AJ13","v":8},{"$f":"AO13","v":7},{"$f":"AT13","v":9}]
[21,2384,12,2393,24,2396,null,null,null,null,0,212,null,null,"% target"]
[12,2489,23,2492,24,2498,null,null,null,null,0,122,null,null,"CCRF"]
[21,2589,21,2594,11,2600,null,null,null,null,0,221,null,null,"% CCRf"]
[21,2749,12,2756,24,2769,null,null,null,null,0,212,null,null,"average response rate",{"$f":"F36/P20","v":121.66666666666667},{"$f":"(F66-F36)/Q20","v":131.33333333333334},{"$f":"(F96-F66)/R20","v":116.06666666666666},{"$f":"(F126-F96)/S20","v":145.43333333333334},{"$f":"(F156-F126)/T20","v":137.06666666666666},{"$f":"(F186-F156)/U20","v":142.6}]
[21,2887,12,2893,24,2904,null,null,null,null,0,212]
[21,2995,21,3000,22,3006,null,null,null,null,0,222]
[21,3104,12,3112,24,3118,null,null,null,null,0,212]
[21,3218,21,3224,22,3230,null,null,null,null,0,222]
[21,3327,21,3330,22,3340,null,null,null,null,0,222]
[12,3434,23,3436,13,3443,null,null,null,null,0,121]
[12,3535,23,3539,24,3544,null,null,null,null,0,122]
[21,3644,21,3647,11,3650,null,null,null,null,0,221]
[21,3820,21,3825,22,3831,null,null,null,null,0,222]
[21,3926,21,3944,22,3951,null,null,null,null,0,222]
[21,4045,21,4052,11,4054,null,null,null,null,0,221]
[21,4292,12,4299,24,4306,null,null,null,null,0,212]
[21,4402,21,4408,22,4413,null,null,null,null,0,222]
[21,4509,12,4522,24,4525,null,null,null,null,0,212]
[21,4621,12,4629,24,4636,null,null,null,null,0,212]
[21,4731,21,4739,22,4744,null,null,null,null,0,222]
[12,4838,23,4844,13,4852,null,null,null,null,0,121]
[21,4949,21,4953,22,4959,null,null,null,null,0,222]
[21,5051,21,5054,22,5058,null,null,null,null,0,222]
[21,5154,21,5160,22,5165,null,null,null,null,0,222]
[21,5258,21,5264,22,5268,null,null,null,null,0,222]
[12,5361,23,5363,13,5374,null,null,null,null,0,121]
[21,5470,21,5474,22,5483,null,null,null,null,0,222]
[21,5580,21,5584,22,5589,null,null,null,null,0,222]
[21,5685,12,5692,24,5694,null,null,null,null,0,212]
[21,5790,21,5794,11,5796,null,null,null,null,0,221]
[21,5943,21,5949,11,5955,null,null,null,null,0,221]
[21,6248,12,6254,24,6269,null,null,null,null,0,212]
[21,6384,21,6392,22,6397,null,null,null,null,0,222]
[21,6489,21,6493,22,6499,null,null,null,null,0,222]
[21,6596,21,6603,11,6605,null,null,null,null,0,221]
[21,6758,21,6769,22,6775,null,null,null,null,0,222]
[21,6870,21,6876,22,6884,null,null,null,null,0,222]
[21,6979,12,6986,24,6993,null,null,null,null,0,212]
[21,7088,21,7093,22,7097,null,null,null,null,0,222]
[21,7189,21,7193,11,7198,null,null,null,null,0,221]
[21,7332,21,7339,11,7343,null,null,null,null,0,221]
[21,7573,21,7577,22,7590,null,null,null,null,0,222]
[21,7687,12,7693,24,7702,null,null,null,null,0,212]
[21,7797,12,7803,24,7806,null,null,null,null,0,212]
[21,7903,21,7906,22,7910,null,null,null,null,0,222]
[21,8007,21,8014,22,8019,null,null,null,null,0,222]
[21,8114,21,8118,22,8123,null,null,null,null,0,222]
[12,8217,23,8220,13,8227,null,null,null,null,0,121]
[21,8323,21,8327,22,8334,null,null,null,null,0,222]
[21,8429,12,8434,24,8442,null,null,null,null,0,212]
[21,8543,21,8549,22,8556,null,null,null,null,0,222]
[12,8650,23,8652,13,8657,null,null,null,null,0,121]
[21,8753,21,8758,22,8764,null,null,null,null,0,222]
[21,8860,21,8868,11,8870,null,null,null,null,0,221]
[21,9039,21,9045,11,9048,null,null,null,null,0,221]
[21,9266,12,9273,24,9288,null,null,null,null,0,212]
[21,9384,12,9389,24,9393,null,null,null,null,0,212]
[12,9491,23,9496,24,9502,null,null,null,null,0,122]
[21,9599,12,9603,24,9608,null,null,null,null,0,212]
[21,9704,21,9712,11,9714,null,null,null,null,0,221]
[21,9886,12,9893,24,9898,null,null,null,null,0,212]
[21,9991,12,9997,24,10000,null,null,null,null,0,212]
[21,10095,12,10098,24,10103,null,null,null,null,0,212]
[12,10195,23,10198,24,10201,null,null,null,null,0,122]
[21,10296,12,10298,24,10300,null,null,null,null,0,212]
[21,10396,12,10402,24,10408,null,null,null,null,0,212]
[12,10506,23,10508,24,10513,null,null,null,null,0,122]
[21,10606,21,10608,22,10614,null,null,null,null,0,222]
[21,10709,12,10713,24,10722,null,null,null,null,0,212]
[12,10815,23,10818,24,10822,null,null,null,null,0,122]
[21,10957,12,10962,24,10966,null,null,null,null,0,212]
[21,11062,21,11066,22,11072,null,null,null,null,0,222]
[21,11169,12,11182,24,11185,null,null,null,null,0,212]
[21,11282,21,11284,22,11289,null,null,null,null,0,222]
[21,11385,21,11390,11,11392,null,null,null,null,0,221]
[21,11741,21,11753,22,11765,null,null,null,null,0,222]
[21,11860,12,11868,24,11879,null,null,null,null,0,212]
[12,11971,23,11975,24,11980,null,null,null,null,0,122]
[21,12076,21,12083,22,12090,null,null,null,null,0,222]
[21,12183,21,12187,22,12193,null,null,null,null,0,222]
[21,12290,21,12299,11,12305,null,null,null,null,0,221]
[12,12515,23,12522,24,12527,null,null,null,null,0,122]
[21,12623,21,12627,22,12640,null,null,null,null,0,222]
[21,12737,12,12743,24,12746,null,null,null,null,0,212]
[21,12840,21,12845,11,12847,null,null,null,null,0,221]
[21,13351,12,13355,24,13361,null,null,null,null,0,212]
[21,13457,21,13465,22,13471,null,null,null,null,0,222]
[21,13568,21,13571,22,13577,null,null,null,null,0,222]
[21,13673,21,13679,11,13683,null,null,null,null,0,221]
[21,13808,12,13819,24,13827,null,null,null,null,0,212]
[21,13922,21,13928,11,13931,null,null,null,null,0,221]
[21,14092,21,14097,22,14103,null,null,null,null,0,222]
[21,14199,21,14208,11,14213,null,null,null,null,0,221]
[21,14409,21,14415,22,14422,null,null,null,null,0,222]
[21,14515,21,14522,22,14528,null,null,null,null,0,222]
[21,14620,21,14624,22,14628,null,null,null,null,0,222]
[21,14728,21,14733,11,14738,null,null,null,null,0,221]
[21,14903,21,14908,11,14912,null,null,null,null,0,221]
[21,15109,12,15116,24,15118,null,null,null,null,0,212]
[21,15215,21,15218,22,15224,null,null,null,null,0,222]
[21,15318,21,15323,22,15329,null,null,null,null,0,222]
[21,15423,12,15429,24,15435,null,null,null,null,0,212]
[21,15530,21,15535,11,15537,null,null,null,null,0,221]
[21,15940,12,15944,24,15953,null,null,null,null,0,212]
[12,16046,23,16054,24,16058,null,null,null,null,0,122]
[12,16153,23,16156,24,16158,null,null,null,null,0,122]
[21,16255,21,16261,22,16269,null,null,null,null,0,222]
[21,16365,12,16371,24,16385,null,null,null,null,0,212]
[21,16481,21,16489,11,16493,null,null,null,null,0,221]
[21,16754,21,16760,11,16763,null,null,null,null,0,221]
[21,16983,12,16987,24,16994,null,null,null,null,0,212]
[21,17095,21,17100,22,17106,null,null,null,null,0,222]
[21,17197,12,17201,24,17206,null,null,null,null,0,212]
[21,17302,12,17306,24,17311,null,null,null,null,0,212]
[12,17405,23,17407,24,17411,null,null,null,null,0,122]
[21,17505,12,17510,24,17516,null,null,null,null,0,212]
[21,17612,12,17616,24,17620,null,null,null,null,0,212]
[21,17716,12,17723,24,17728,null,null,null,null,0,212]
[12,17819,23,17825,24,17831,null,null,null,null,0,122]
[21,17926,12,17932,24,17940,null,null,null,null,0,212]
[12,18032,23,18036,13,18041,null,null,null,null,0,121]
[21,18138,21,18142,11,18144,null,null,null,null,0,221]
[21,18313,21,18318,11,18323,null,null,null,null,0,221]
[21,18539,21,18545,22,18551,null,null,null,null,0,222]
[21,18647,12,18653,24,18661,null,null,null,null,0,212]
[21,18758,12,18761,24,18767,null,null,null,null,0,212]
[21,18864,21,18869,11,18873,null,null,null,null,0,221]
[21,19054,12,19057,24,19059,null,null,null,null,0,212]
[21,19154,12,19161,24,19163,null,null,null,null,0,212]
[21,19260,21,19266,11,19268,null,null,null,null,0,221]
[21,19415,12,19418,24,19422,null,null,null,null,0,212]
[21,19536,12,19541,24,19547,null,null,null,null,0,212]
[21,19643,12,19647,24,19651,null,null,null,null,0,212]
[21,19748,21,19750,22,19756,null,null,null,null,0,222]
[21,19847,12,19851,24,19859,null,null,null,null,0,212]
[21,19956,21,19960,11,19962,null,null,null,null,0,221]
[21,20105,12,20108,24,20115,null,null,null,null,0,212]
[21,20211,12,20215,24,20225,null,null,null,null,0,212]
[21,20324,12,20331,24,20333,null,null,null,null,0,212]
[12,20425,23,20428,24,20436,null,null,null,null,0,122]
[12,20530,23,20532,24,20540,null,null,null,null,0,122]
[21,20632,21,20642,22,20649,null,null,null,null,0,222]
[21,20747,21,20751,11,20756,null,null,null,null,0,221]
[21,20895,21,20908,22,20915,null,null,null,null,0,222]
[21,21011,21,21016,11,21017,null,null,null,null,0,221]
[21,21250,21,21254,11,21261,null,null,null,null,0,221]
[21,21965,21,21974,22,21980,null,null,null,null,0,222]
[21,22074,21,22078,11,22081,null,null,null,null,0,221]
[21,22210,21,22213,22,22217,null,null,null,null,0,222]
[21,22313,21,22320,11,22324,null,null,null,null,0,221]
[21,22488,12,22490,24,22496,null,null,null,null,0,212]
[21,22594,12,22599,24,22601,null,null,null,null,0,212]
[21,22698,21,22703,22,22714,null,null,null,null,0,222]
[12,22806,23,22810,24,22813,null,null,null,null,0,122]
[21,22905,21,22911,11,22914,null,null,null,null,0,221]
[21,23088,21,23096,22,23101,null,null,null,null,0,222]
[21,23196,21,23199,11,23202,null,null,null,null,0,221]
[21,23369,12,23376,24,23385,null,null,null,null,0,212]
[21,23478,21,23488,22,23493,null,null,null,null,0,222]
[21,23590,12,23598,24,23604,null,null,null,null,0,212]
[21,23700,12,23708,24,23714,null,null,null,null,0,212]
[21,23811,21,23823,11,23825,null,null,null,null,0,221]

{"sheet":"!MA14A00.Gus","index":22,"n_rows":167,"n_cols":48,"rows_kept":167,"cut":false,"hidden":false,"merged":[[4,39,4,42],[5,39,5,40],[4,44,4,47],[5,44,5,45],[4,24,4,27],[5,24,5,25],[4,29,4,32],[5,29,5,30],[4,34,4,37],[5,34,5,35],[1,1,1,2],[5,13,5,14],[18,13,18,14],[19,13,19,14],[4,19,4,22],[5,19,5,20]]}
["Report for:!MA14A00.Gus"]
["Date:","<date>"]
["Hen:","<hen>",null,null,null,"Correct Sequence",{"$f":"Start!J2","v":221},null,null,null,null,null,null,null,null,"Total Sequences in Data",{"$f":"4994-COUNTBLANK(L7:L5000)","v":161},null,null,null,null,"Total Sequences in Block Data",{"$f":"COUNTA(L7:L33)","v":27},null,null,null,"Total Sequences in Block Data",{"$f":"COUNTA(L34:L60)","v":27},null,null,null,"Total Sequences in Block Data",{"$f":"COUNTA(L61:L86)","v":26},null,null,null,"Total Sequences in Block Data",{"$f":"COUNTA(L87:L113)","v":27},null,null,null,"Total Sequences in Block Data",{"$f":"COUNTA(L114:L140)","v":27},null,null,null,"Total Sequences in Block Data",{"$f":"COUNTA(L141:L167)","v":27}]
[null,null,null,null,null,null,null,null,null,null,null,null,null,null,null,"Total Sequences in Summary",{"$f":"SUM(O7:O14)","v":161},null,null,null,null,"Total Sequences in Block Summary",{"$f":"SUM(U7:U14)","v":27},null,null,null,"Total Sequences in Block Summary",{"$f":"SUM(Z7:Z14)","v":27},null,null,null,"Total Sequences in Block Summary",{"$f":"SUM(AE7:AE14)","v":26},null,null,null,"Total Sequences in Block Summary",{"$f":"SUM(AJ7:AJ14)","v":27},null,null,null,"Total Sequences in Block Summary",{"$f":"SUM(AO7:AO14)","v":27},null,null,null,"Total Sequences in Block Summary",{"$f":"SUM(AT7:AT14)","v":27}]
[null,null,null,null,null,null,null,null,null,null,null,null,null,null,null,null,null,null,null,"Block 1",null,null,null,null,"Block 2",null,null,null,null,"Block 3",null,null,null,null,"Block 4",null,null,null,null,"Block 5",null,null,null,null,"Block 6"]
["Sequence\nComponent\n1","Time\n1","Sequence\nComponent\n2","Time\n2","Sequence\nComponent\n3","Time\n3","Sequence\nComponent\n4","Time\n4","Sequence\nComponent\n5","Time\n5","Correct?\n0=No 1=Yes","Sequence",null,"Frequency",null,"Relative Frequency","Variability",null,null,"Frequency",null,"Relative Frequency","Variability",null,"Frequency",null,"Relative Frequency","Variability",null,"Frequency",null,"Relative Frequency","Variability",null,"Frequency",null,"Relative Frequency","Variability",null,"Frequency",null,"Relative Frequency","Variability",null,"Frequency",null,"Relative Frequency","Variability"]
[21,10,21,15,22,22,null,null,null,null,0,222,null,111,{"$f":"COUNTIF($L$7:$L$500,N7)","v":0},{"$f":"O7/$Q$4","v":0},{"$f":"IF(P7=0,0,(P7*((LOG(P7))/LOG(2))))","v":0},null,null,{"$f":"N7","v":111},{"$f":"COUNTIF(L7:L33,T7)","v":0},{"$f":"U7/(W4-U13)","v":0},{"$f":"IF(V7=0,0,(V7*((LOG(V7))/LOG(2))))","v":0},null,{"$f":"N7","v":111},{"$f":"COUNTIF(L34:L60,Y7)","v":0},{"$f":"Z7/(AB4-Z13)","v":0},{"$f":"IF(AA7=0,0,(AA7*((LOG(AA7))/LOG(2))))","v":0},null,{"$f":"N7","v":111},{"$f":"COUNTIF(L61:L86,AD7)","v":0},{"$f":"AE7/(AG4-AE13)","v":0},{"$f":"IF(AF7=0,0,(AF7*((LOG(AF7))/LOG(2))))","v":0},null,{"$f":"N7","v":111},{"$f":"COUNTIF(L87:L113,AI7)","v":0},{"$f":"AJ7/(AL4-AJ13)","v":0},{"$f":"IF(AK7=0,0,(AK7*((LOG(AK7))/LOG(2))))","v":0},null,{"$f":"N7","v":111},{"$f":"COUNTIF(L114:L140,AN7)","v":0},{"$f":"AO7/(AQ4-AO13)","v":0},{"$f":"IF(AP7=0,0,(AP7*((LOG(AP7))/LOG(2))))","v":0},null,{"$f":"N7","v":111},{"$f":"COUNTIF(L141:L167,AS7)","v":0},{"$f":"AT7/(AV4-AT13)","v":0},{"$f":"IF(AU7=0,0,(AU7*((LOG(AU7))/LOG(2))))","v":0}]
[21,118,21,131,22,137,null,null,null,null,0,222,null,112,{"$f":"COUNTIF($L$7:$L$500,N8)","v":0},{"$f":"O8/$Q$4","v":0},{"$f":"IF(P8=0,0,(P8*((LOG(P8))/LOG(2))))","v":0},null,null,{"$f":"N8","v":112},{"$f":"COUNTIF(L7:L33,T8)","v":0},{"$f":"U8/(W4-U13)","v":0},{"$f":"IF(V8=0,0,(V8*((LOG(V8))/LOG(2))))","v":0},null,{"$f":"N8","v":112},{"$f":"COUNTIF(L34:L60,Y8)","v":0},{"$f":"Z8/(AB4-Z13)","v":0},{"$f":"IF(AA8=0,0,(AA8*((LOG(AA8))/LOG(2))))","v":0},null,{"$f":"N8","v":112},{"$f":"COUNTIF(L61:L86,AD8)","v":0},{"$f":"AE8/(AG4-AE13)","v":0},{"$f":"IF(AF8=0,0,(AF8*((LOG(AF8))/LOG(2))))","v":0},null,{"$f":"N8","v":112},{"$f":"COUNTIF(L87:L113,AI8)","v":0},{"$f":"AJ8/(AL4-AJ13)","v":0},{"$f":"IF(AK8=0,0,(AK8*((LOG(AK8))/LOG(2))))","v":0},null,{"$f":"N8","v":112},{"$f":"COUNTIF(L114:L140,AN8)","v":0},{"$f":"AO8/(AQ4-AO13)","v":0},{"$f":"IF(AP8=0,0,(AP8*((LOG(AP8))/LOG(2))))","v":0},null,{"$f":"N8","v":112},{"$f":"COUNTIF(L141:L167,AS8)","v":0},{"$f":"AT8/(AV4-AT13)","v":0},{"$f":"IF(AU8=0,0,(AU8*((LOG(AU8))/LOG(2))))","v":0}]
[21,232,21,243,22,249,null,null,null,null,0,222,null,121,{"$f":"COUNTIF($L$7:$L$500,N9)","v":7},{"$f":"O9/$Q$4","v":4.3478260869565216E-2},{"$f":"IF(P9=0,0,(P9*((LOG(P9))/LOG(2))))","v":-0.19667660678508753},null,null,{"$f":"N9","v":121},{"$f":"COUNTIF(L7:L33,T9)","v":0},{"$f":"U9/(W4-U13)","v":0},{"$f":"IF(V9=0,0,(V9*((LOG(V9))/LOG(2))))","v":0},null,{"$f":"N9","v":121},{"$f":"COUNTIF(L34:L60,Y9)","v":1},{"$f":"Z9/(AB4-Z13)","v":4.1666666666666664E-2},{"$f":"IF(AA9=0,0,(AA9*((LOG(AA9))/LOG(2))))","v":-0.19104010419671485},null,{"$f":"N9","v":121},{"$f":"COUNTIF(L61:L86,AD9)","v":0},{"$f":"AE9/(AG4-AE13)","v":0},{"$f":"IF(AF9=0,0,(AF9*((LOG(AF9))/LOG(2))))","v":0},null,{"$f":"N9","v":121},{"$f":"COUNTIF(L87:L113,AI9)","v":1},{"$f":"AJ9/(AL4-AJ13)","v":4.7619047619047616E-2},{"$f":"IF(AK9=0,0,(AK9*((LOG(AK9))/LOG(2))))","v":-0.20915797251327431},null,{"$f":"N9","v":121},{"$f":"COUNTIF(L114:L140,AN9)","v":0},{"$f":"AO9/(AQ4-AO13)","v":0},{"$f":"IF(AP9=0,0,(AP9*((LOG(AP9))/LOG(2))))","v":0},null,{"$f":"N9","v":121},{"$f":"COUNTIF(L141:L167,AS9)","v":5},{"$f":"AT9/(AV4-AT13)","v":0.20833333333333334},{"$f":"IF(AU9=0,0,(AU9*((LOG(AU9))/LOG(2))))","v":-0.47146550121537367}]
[21,347,21,362,22,367,null,null,null,null,0,222,null,122,{"$f":"COUNTIF($L$7:$L$500,N10)","v":14},{"$f":"O10/$Q$4","v":8.6956521739130432E-2},{"$f":"IF(P10=0,0,(P10*((LOG(P10))/LOG(2))))","v":-0.30639669183104457},null,null,{"$f":"N10","v":122},{"$f":"COUNTIF(L7:L33,T10)","v":3},{"$f":"U10/(W4-U13)","v":0.125},{"$f":"IF(V10=0,0,(V10*((LOG(V10))/LOG(2))))","v":-0.375},null,{"$f":"N10","v":122},{"$f":"COUNTIF(L34:L60,Y10)","v":3},{"$f":"Z10/(AB4-Z13)","v":0.125},{"$f":"IF(AA10=0,0,(AA10*((LOG(AA10))/LOG(2))))","v":-0.375},null,{"$f":"N10","v":122},{"$f":"COUNTIF(L61:L86,AD10)","v":2},{"$f":"AE10/(AG4-AE13)","v":0.10526315789473684},{"$f":"IF(AF10=0,0,(AF10*((LOG(AF10))/LOG(2))))","v":-0.34188710667827216},null,{"$f":"N10","v":122},{"$f":"COUNTIF(L87:L113,AI10)","v":2},{"$f":"AJ10/(AL4-AJ13)","v":9.5238095238095233E-2},{"$f":"IF(AK10=0,0,(AK10*((LOG(AK10))/LOG(2))))","v":-0.32307784978845333},null,{"$f":"N10","v":122},{"$f":"COUNTIF(L114:L140,AN10)","v":3},{"$f":"AO10/(AQ4-AO13)","v":0.15789473684210525},{"$f":"IF(AP10=0,0,(AP10*((LOG(AP10))/LOG(2))))","v":-0.42046815990354147},null,{"$f":"N10","v":122},{"$f":"COUNTIF(L141:L167,AS10)","v":1},{"$f":"AT10/(AV4-AT13)","v":4.1666666666666664E-2},{"$f":"IF(AU10=0,0,(AU10*((LOG(AU10))/LOG(2))))","v":-0.19104010419671485}]
[21,464,21,467,11,468,null,null,null,null,0,221,null,211,{"$f":"COUNTIF($L$7:$L$500,N11)","v":1},{"$f":"O11/$Q$4","v":6.2111801242236021E-3},{"$f":"IF(P11=0,0,(P11*((LOG(P11))/LOG(2))))","v":-4.5533645205680845E-2},null,null,{"$f":"N11","v":211},{"$f":"COUNTIF(L7:L33,T11)","v":1},{"$f":"U11/(W4-U13)","v":4.1666666666666664E-2},{"$f":"IF(V11=0,0,(V11*((LOG(V11))/LOG(2))))","v":-0.19104010419671485},null,{"$f":"N11","v":211},{"$f":"COUNTIF(L34:L60,Y11)","v":0},{"$f":"Z11/(AB4-Z13)","v":0},{"$f":"IF(AA11=0,0,(AA11*((LOG(AA11))/LOG(2))))","v":0},null,{"$f":"N11","v":211},{"$f":"COUNTIF(L61:L86,AD11)","v":0},{"$f":"AE11/(AG4-AE13)","v":0},{"$f":"IF(AF11=0,0,(AF11*((LOG(AF11))/LOG(2))))","v":0},null,{"$f":"N11","v":211},{"$f":"COUNTIF(L87:L113,AI11)","v":0},{"$f":"AJ11/(AL4-AJ13)","v":0},{"$f":"IF(AK11=0,0,(AK11*((LOG(AK11))/LOG(2))))","v":0},null,{"$f":"N11","v":211},{"$f":"COUNTIF(L114:L140,AN11)","v":0},{"$f":"AO11/(AQ4-AO13)","v":0},{"$f":"IF(AP11=0,0,(AP11*((LOG(AP11))/LOG(2))))","v":0},null,{"$f":"N11","v":211},{"$f":"COUNTIF(L141:L167,AS11)","v":0},{"$f":"AT11/(AV4-AT13)","v":0},{"$f":"IF(AU11=0,0,(AU11*((LOG(AU11))/LOG(2))))","v":0}]
[21,904,21,919,22,926,null,null,null,null,0,222,null,212,{"$f":"COUNTIF($L$7:$L$500,N12)","v":34},{"$f":"O12/$Q$4","v":0.21118012422360249},{"$f":"IF(P12=0,0,(P12*((LOG(P12))/LOG(2))))","v":-0.47377290219494056},null,null,{"$f":"N12","v":212},{"$f":"COUNTIF(L7:L33,T12)","v":6},{"$f":"U12/(W4-U13)","v":0.25},{"$f":"IF(V12=0,0,(V12*((LOG(V12))/LOG(2))))","v":-0.5},null,{"$f":"N12","v":212},{"$f":"COUNTIF(L34:L60,Y12)","v":8},{"$f":"Z12/(AB4-Z13)","v":0.33333333333333331},{"$f":"IF(AA12=0,0,(AA12*((LOG(AA12))/LOG(2))))","v":-0.52832083357371862},null,{"$f":"N12","v":212},{"$f":"COUNTIF(L61:L86,AD12)","v":5},{"$f":"AE12/(AG4-AE13)","v":0.26315789473684209},{"$f":"IF(AF12=0,0,(AF12*((LOG(AF12))/LOG(2))))","v":-0.50684195225163764},null,{"$f":"N12","v":212},{"$f":"COUNTIF(L87:L113,AI12)","v":6},{"$f":"AJ12/(AL4-AJ13)","v":0.2857142857142857},{"$f":"IF(AK12=0,0,(AK12*((LOG(AK12))/LOG(2))))","v":-0.51638712058788683},null,{"$f":"N12","v":212},{"$f":"COUNTIF(L114:L140,AN12)","v":5},{"$f":"AO12/(AQ4-AO13)","v":0.26315789473684209},{"$f":"IF(AP12=0,0,(AP12*((LOG(AP12))/LOG(2))))","v":-0.50684195225163764},null,{"$f":"N12","v":212},{"$f":"COUNTIF(L141:L167,AS12)","v":4},{"$f":"AT12/(AV4-AT13)","v":0.16666666666666666},{"$f":"IF(AU12=0,0,(AU12*((LOG(AU12))/LOG(2))))","v":-0.43082708345352599}]
[12,1019,23,1024,24,1031,null,null,null,null,0,122,null,221,{"$f":"COUNTIF($L$7:$L$500,N13)","v":30},{"$f":"O13/$Q$4","v":0.18633540372670807},{"$f":"IF(P13=0,0,(P13*((LOG(P13))/LOG(2))))","v":-0.45168191599492519},null,null,{"$f":"N13","v":221},{"$f":"COUNTIF(L7:L33,T13)","v":3},null,null,null,{"$f":"N13","v":221},{"$f":"COUNTIF(L34:L60,Y13)","v":3},null,null,null,{"$f":"N13","v":221},{"$f":"COUNTIF(L61:L86,AD13)","v":7},null,null,null,{"$f":"N13","v":221},{"$f":"COUNTIF(L87:L113,AI13)","v":6},null,null,null,{"$f":"N13","v":221},{"$f":"COUNTIF(L114:L140,AN13)","v":8},null,null,null,{"$f":"N13","v":221},{"$f":"COUNTIF(L141:L167,AS13)","v":3}]
[21,1348,12,1354,24,1360,null,null,null,null,0,212,null,222,{"$f":"COUNTIF($L$7:$L$500,N14)","v":75},{"$f":"O14/$Q$4","v":0.46583850931677018},{"$f":"IF(P14=0,0,(P14*((LOG(P14))/LOG(2))))","v":-0.51339977684102611},null,null,{"$f":"N14","v":222},{"$f":"COUNTIF(L7:L33,T14)","v":14},{"$f":"U14/(W4-U13)","v":0.58333333333333337},{"$f":"IF(V14=0,0,(V14*((LOG(V14))/LOG(2))))","v":-0.45360442088707198},null,{"$f":"N14","v":222},{"$f":"COUNTIF(L34:L60,Y14)","v":12},{"$f":"Z14/(AB4-Z13)","v":0.5},{"$f":"IF(AA14=0,0,(AA14*((LOG(AA14))/LOG(2))))","v":-0.5},null,{"$f":"N14","v":222},{"$f":"COUNTIF(L61:L86,AD14)","v":12},{"$f":"AE14/(AG4-AE13)","v":0.63157894736842102},{"$f":"IF(AF14=0,0,(AF14*((LOG(AF14))/LOG(2))))","v":-0.41871474487732385},null,{"$f":"N14","v":222},{"$f":"COUNTIF(L87:L113,AI14)","v":12},{"$f":"AJ14/(AL4-AJ13)","v":0.5714285714285714},{"$f":"IF(AK14=0,0,(AK14*((LOG(AK14))/LOG(2))))","v":-0.46134566974720237},null,{"$f":"N14","v":222},{"$f":"COUNTIF(L114:L140,AN14)","v":11},{"$f":"AO14/(AQ4-AO13)","v":0.57894736842105265},{"$f":"IF(AP14=0,0,(AP14*((LOG(AP14))/LOG(2))))","v":-0.45649762330890375},null,{"$f":"N14","v":222},{"$f":"COUNTIF(L141:L167,AS14)","v":14},{"$f":"AT14/(AV4-AT13)","v":0.58333333333333337},{"$f":"IF(AU14=0,0,(AU14*((LOG(AU14))/LOG(2))))","v":-0.45360442088707198}]
[21,1457,21,1463,22,1470,null,null,null,null,0,222,null,null,null,{"$f":"SUM(P7:P14)","v":1},{"$f":"-SUM(Q7:Q14)","v":1.9874615388527048},null,null,null,null,{"$f":"SUM(V7:V14)","v":1},{"$f":"-SUM(W7:W14)","v":1.5196445250837869},null,null,null,{"$f":"SUM(AA7:AA14)","v":1},{"$f":"-SUM(AB7:AB14)","v":1.5943609377704335},null,null,null,{"$f":"SUM(AF7:AF14)","v":1},{"$f":"-SUM(AG7:AG14)","v":1.2674438038072338},null,null,null,{"$f":"SUM(AK7:AK14)","v":1},{"$f":"-SUM(AL7:AL14)","v":1.5099686126368166},null,null,null,{"$f":"SUM(AP7:AP14)","v":1},{"$f":"-SUM(AQ7:AQ14)","v":1.383807735464083},null,null,null,{"$f":"SUM(AU7:AU14)","v":1},{"$f":"-SUM(AV7:AV14)","v":1.5469371097526865}]
[21,1566,21,1583,22,1591,null,null,null,null,0,222,null,null,null,"U=",{"$f":"Q15/(LOG(Q4)/LOG(2))","v":0.2711068167729444},null,null,null,null,"U1=",{"$f":"W15/(LOG(W4)/LOG(2))","v":0.31959631524244275},null,null,null,"U2=",{"$f":"AB15/(LOG(AB4)/LOG(2))","v":0.33530991785715247},null,null,null,"U3=",{"$f":"AG15/(LOG(AG4)/LOG(2))","v":0.2696436673606521},null,null,null,"U4=",{"$f":"AL15/(LOG(AL4)/LOG(2))","v":0.31756137489052738},null,null,null,"U5=",{"$f":"AQ15/(LOG(AQ4)/LOG(2))","v":0.29102849117554352},null,null,null,"U6=",{"$f":"AV15/(LOG(AV4)/LOG(2))","v":0.3253362164822684}]
[21,1687,21,1694,11,1698,null,null,null,null,0,221]
[21,1830,21,1834,22,1842,null,null,null,null,0,222]
[21,1939,12,1945,24,1959,null,null,null,null,0,212,null,"Total Target Seq"]
[21,2056,12,2062,24,2071,null,null,null,null,0,212,null,{"$f":"COUNTIF(L7:L167,G3)","v":30},null,27,27,26,27,27,27]
[21,2169,12,2174,13,2185,null,null,null,null,0,211,null,null,null,"% of reinforcement given in 6 equal intervals based on number of trials "]
[21,2282,21,2289,22,2296,null,null,null,null,0,222,null,null,null,"%_1","%_2","%_3","%_4","%_5","%_6"]
[21,2388,21,2392,22,2412,null,null,null,null,0,222,null,null,"target sequence",{"$f":"$G$3","v":221},{"$f":"$G$3","v":221},{"$f":"$G$3","v":221},{"$f":"$G$3","v":221},{"$f":"$G$3","v":221},{"$f":"$G$3","v":221}]
[12,2507,23,2510,24,2516,null,null,null,null,0,122,null,null,"total reinforcement",{"$f":"U13","v":3},{"$f":"Z13","v":3},{"$f":"AE13","v":7},{"$f":"AJ13","v":6},{"$f":"AO13","v":8},{"$f":"AT13","v":3}]
[21,2612,12,2620,24,2627,null,null,null,null,0,212,null,null,"% target"]
[12,2722,23,2725,24,2728,null,null,null,null,0,122,null,null,"CCRF"]
[21,2824,21,2829,22,2834,null,null,null,null,0,222,null,null,"% CCRf"]
[21,2930,21,2934,22,2939,null,null,null,null,0,222,null,null,"average response rate",{"$f":"F33/P20","v":130.14814814814815},{"$f":"(F60-F33)/Q20","v":132.59259259259258},{"$f":"(F86-F60)/R20","v":175.38461538461539},{"$f":"(F113-F86)/S20","v":170.11111111111111},{"$f":"(F140-F113)/T20","v":159.92592592592592},{"$f":"(F167-F140)/U20","v":125.81481481481481}]
[21,3037,21,3044,22,3054,null,null,null,null,0,222]
[21,3150,21,3155,11,3158,null,null,null,null,0,221]
[21,3279,12,3285,24,3294,null,null,null,null,0,212]
[21,3392,21,3399,22,3405,null,null,null,null,0,222]
[21,3505,12,3510,24,3514,null,null,null,null,0,212]
[21,3606,21,3610,22,3620,null,null,null,null,0,222]
[21,3717,12,3721,24,3730,null,null,null,null,0,212]
[21,3827,21,3833,22,3840,null,null,null,null,0,222]
[21,3932,21,3936,22,3941,null,null,null,null,0,222]
[21,4038,21,4041,22,4046,null,null,null,null,0,222]
[21,4143,21,4145,22,4158,null,null,null,null,0,222]
[21,4254,21,4259,11,4265,null,null,null,null,0,221]
[21,4558,12,4565,24,4570,null,null,null,null,0,212]
[12,4663,23,4668,24,4673,null,null,null,null,0,122]
[21,4768,21,4771,22,4777,null,null,null,null,0,222]
[12,4869,23,4873,13,4879,null,null,null,null,0,121]
[21,5043,21,5049,11,5054,null,null,null,null,0,221]
[21,5407,12,5411,24,5425,null,null,null,null,0,212]
[21,5523,21,5528,22,5535,null,null,null,null,0,222]
[12,5627,23,5631,24,5639,null,null,null,null,0,122]
[21,5735,12,5744,24,5747,null,null,null,null,0,212]
[21,5846,12,5856,24,5863,null,null,null,null,0,212]
[21,5955,21,5961,22,5972,null,null,null,null,0,222]
[12,6066,23,6070,24,6079,null,null,null,null,0,122]
[21,6177,21,6180,22,6184,null,null,null,null,0,222]
[21,6280,12,6293,24,6295,null,null,null,null,0,212]
[21,6388,21,6390,11,6397,null,null,null,null,0,221]
[21,6630,12,6634,24,6639,null,null,null,null,0,212]
[21,6736,21,6745,22,6753,null,null,null,null,0,222]
[21,6851,21,6859,22,6872,null,null,null,null,0,222]
[21,6970,12,6978,24,6982,null,null,null,null,0,212]
[21,7079,21,7088,22,7094,null,null,null,null,0,222]
[21,7186,21,7190,22,7196,null,null,null,null,0,222]
[21,7293,21,7296,22,7301,null,null,null,null,0,222]
[21,7398,21,7401,22,7405,null,null,null,null,0,222]
[21,7503,21,7510,22,7516,null,null,null,null,0,222]
[21,7613,21,7625,22,7631,null,null,null,null,0,222]
[21,7729,21,7740,11,7744,null,null,null,null,0,221]
[21,7871,21,7878,11,7883,null,null,null,null,0,221]
[21,8579,12,8585,24,8593,null,null,null,null,0,212]
[21,8690,21,8695,22,8700,null,null,null,null,0,222]
[21,8797,21,8805,22,8810,null,null,null,null,0,222]
[21,8907,21,8914,22,8919,null,null,null,null,0,222]
[21,9015,21,9019,22,9024,null,null,null,null,0,222]
[12,9116,23,9121,24,9130,null,null,null,null,0,122]
[21,9227,21,9230,22,9235,null,null,null,null,0,222]
[21,9331,21,9341,11,9345,null,null,null,null,0,221]
[21,9576,12,9584,24,9587,null,null,null,null,0,212]
[21,9680,21,9683,11,9689,null,null,null,null,0,221]
[21,9835,12,9842,24,9850,null,null,null,null,0,212]
[12,9943,23,9949,24,9954,null,null,null,null,0,122]
[21,10050,12,10058,24,10066,null,null,null,null,0,212]
[21,10162,21,10177,22,10184,null,null,null,null,0,222]
[21,10280,21,10289,11,10294,null,null,null,null,0,221]
[21,10412,21,10418,11,10421,null,null,null,null,0,221]
[21,11024,21,11030,11,11034,null,null,null,null,0,221]
[21,11536,21,11541,22,11546,null,null,null,null,0,222]
[21,11643,12,11651,24,11654,null,null,null,null,0,212]
[21,11753,21,11758,22,11768,null,null,null,null,0,222]
[21,11864,12,11872,24,11876,null,null,null,null,0,212]
[12,11968,23,11972,24,11977,null,null,null,null,0,122]
[12,12069,23,12074,13,12084,null,null,null,null,0,121]
[21,12180,12,12190,24,12197,null,null,null,null,0,212]
[21,12293,21,12298,22,12310,null,null,null,null,0,222]
[21,12407,21,12412,11,12416,null,null,null,null,0,221]
[21,12840,21,12858,11,12862,null,null,null,null,0,221]
[21,13395,21,13405,22,13418,null,null,null,null,0,222]
[21,13513,21,13520,22,13526,null,null,null,null,0,222]
[21,13622,21,13636,11,13640,null,null,null,null,0,221]
[21,13954,21,13959,11,13963,null,null,null,null,0,221]
[21,14302,12,14312,24,14314,null,null,null,null,0,212]
[21,14411,12,14419,24,14425,null,null,null,null,0,212]
[21,14523,21,14526,22,14530,null,null,null,null,0,222]
[21,14626,21,14630,22,14636,null,null,null,null,0,222]
[21,14733,21,14743,22,14749,null,null,null,null,0,222]
[21,14845,21,14850,11,14856,null,null,null,null,0,221]
[21,15108,21,15113,22,15120,null,null,null,null,0,222]
[21,15216,21,15218,22,15224,null,null,null,null,0,222]
[21,15318,21,15322,11,15324,null,null,null,null,0,221]
[21,15683,12,15688,24,15693,null,null,null,null,0,212]
[21,15789,21,15795,22,15806,null,null,null,null,0,222]
[12,15898,23,15902,24,15910,null,null,null,null,0,122]
[21,16009,21,16014,22,16028,null,null,null,null,0,222]
[21,16124,12,16132,24,16140,null,null,null,null,0,212]
[21,16237,21,16241,22,16247,null,null,null,null,0,222]
[21,16346,12,16356,24,16359,null,null,null,null,0,212]
[21,16456,21,16466,11,16470,null,null,null,null,0,221]
[21,16843,21,16850,11,16853,null,null,null,null,0,221]
[21,17164,21,17167,11,17170,null,null,null,null,0,221]
[21,17398,21,17407,11,17410,null,null,null,null,0,221]
[21,17702,12,17707,24,17709,null,null,null,null,0,212]
[21,17806,21,17816,11,17823,null,null,null,null,0,221]
[21,18020,21,18032,11,18036,null,null,null,null,0,221]
[21,18361,21,18370,22,18375,null,null,null,null,0,222]
[21,18472,21,18480,22,18489,null,null,null,null,0,222]
[21,18585,21,18597,22,18604,null,null,null,null,0,222]
[21,18702,21,18712,22,18717,null,null,null,null,0,222]
[21,18812,21,18816,11,18821,null,null,null,null,0,221]
[21,18989,12,18993,24,18995,null,null,null,null,0,212]
[12,19094,23,19101,24,19107,null,null,null,null,0,122]
[21,19204,21,19208,22,19213,null,null,null,null,0,222]
[21,19310,21,19314,22,19319,null,null,null,null,0,222]
[12,19415,23,19417,24,19423,null,null,null,null,0,122]
[21,19518,12,19525,24,19532,null,null,null,null,0,212]
[21,19627,21,19632,22,19637,null,null,null,null,0,222]
[21,19733,12,19743,24,19745,null,null,null,null,0,212]
[12,19838,23,19841,24,19847,null,null,null,null,0,122]
[21,19944,21,19953,22,19959,null,null,null,null,0,222]
[21,20054,21,20057,11,20060,null,null,null,null,0,221]
[21,20327,21,20343,22,20346,null,null,null,null,0,222]
[21,20442,21,20447,22,20457,null,null,null,null,0,222]
[21,20554,21,20559,22,20565,null,null,null,null,0,222]
[12,20657,23,20660,13,20667,null,null,null,null,0,121]
[21,20765,12,20772,24,20776,null,null,null,null,0,212]
[12,20869,23,20872,13,20877,null,null,null,null,0,121]
[21,20972,21,20984,22,20989,null,null,null,null,0,222]
[12,21082,23,21084,13,21090,null,null,null,null,0,121]
[21,21186,21,21196,22,21202,null,null,null,null,0,222]
[21,21294,21,21298,22,21304,null,null,null,null,0,222]
[21,21399,21,21404,22,21413,null,null,null,null,0,222]
[21,21511,21,21516,22,21522,null,null,null,null,0,222]
[21,21618,21,21624,22,21630,null,null,null,null,0,222]
[21,21728,21,21741,22,21747,null,null,null,null,0,222]
[21,21842,12,21849,24,21851,null,null,null,null,0,212]
[21,21947,21,21952,22,21960,null,null,null,null,0,222]
[21,22056,21,22061,22,22067,null,null,null,null,0,222]
[21,22168,12,22173,24,22177,null,null,null,null,0,212]
[12,22270,23,22274,13,22278,null,null,null,null,0,121]
[21,22374,12,22378,24,22386,null,null,null,null,0,212]
[21,22482,21,22487,11,22489,null,null,null,null,0,221]
[21,23014,21,23023,22,23030,null,null,null,null,0,222]
[21,23126,21,23132,22,23138,null,null,null,null,0,222]
[21,23243,21,23248,22,23255,null,null,null,null,0,222]
[21,23351,21,23358,11,23359,null,null,null,null,0,221]
[21,23507,21,23514,22,23520,null,null,null,null,0,222]
[21,23616,21,23622,11,23624,null,null,null,null,0,221]
[21,23740,21,23748,22,23754,null,null,null,null,0,222]
[12,23847,23,23849,24,23860,null,null,null,null,0,122]
[12,23955,23,23957,13,23962,null,null,null,null,null,121]

{"sheet":"!MA15A40.Gus","index":23,"n_rows":118,"n_cols":48,"rows_kept":118,"cut":false,"hidden":false,"merged":[[4,39,4,42],[5,39,5,40],[4,44,4,47],[5,44,5,45],[4,24,4,27],[5,24,5,25],[4,29,4,32],[5,29,5,30],[4,34,4,37],[5,34,5,35],[1,1,1,2],[5,13,5,14],[18,13,18,14],[19,13,19,14],[4,19,4,22],[5,19,5,20]]}
["Report for:!MA15A40.Gus"]
["Date:","<date>"]
["Hen:","<hen>",null,null,null,"Correct Sequence",{"$f":"Start!J2","v":221},null,null,null,null,null,null,null,null,"Total Sequences in Data",{"$f":"4994-COUNTBLANK(L7:L5000)","v":112},null,null,null,null,"Total Sequences in Block Data",{"$f":"COUNTA(L7:L25)","v":19},null,null,null,"Total Sequences in Block Data",{"$f":"COUNTA(L26:L43)","v":18},null,null,null,"Total Sequences in Block Data",{"$f":"COUNTA(L44:L62)","v":19},null,null,null,"Total Sequences in Block Data",{"$f":"COUNTA(L63:L81)","v":19},null,null,null,"Total Sequences in Block Data",{"$f":"COUNTA(L82:L99)","v":18},null,null,null,"Total Sequences in Block Data",{"$f":"COUNTA(L100:L118)","v":19}]
[null,null,null,null,null,null,null,null,null,null,null,null,null,null,null,"Total Sequences in Summary",{"$f":"SUM(O7:O14)","v":112},null,null,null,null,"Total Sequences in Block Summary",{"$f":"SUM(U7:U14)","v":19},null,null,null,"Total Sequences in Block Summary",{"$f":"SUM(Z7:Z14)","v":18},null,null,null,"Total Sequences in Block Summary",{"$f":"SUM(AE7:AE14)","v":19},null,null,null,"Total Sequences in Block Summary",{"$f":"SUM(AJ7:AJ14)","v":19},null,null,null,"Total Sequences in Block Summary",{"$f":"SUM(AO7:AO14)","v":18},null,null,null,"Total Sequences in Block Summary",{"$f":"SUM(AT7:AT14)","v":19}]
[null,null,null,null,null,null,null,null,null,null,null,null,null,null,null,null,null,null,null,"Block 1",null,null,null,null,"Block 2",null,null,null,null,"Block 3",null,null,null,null,"Block 4",null,null,null,null,"Block 5",null,null,null,null,"Block 6"]
["Sequence\nComponent\n1","Time\n1","Sequence\nComponent\n2","Time\n2","Sequence\nComponent\n3","Time\n3","Sequence\nComponent\n4","Time\n4","Sequence\nComponent\n5","Time\n5","Correct?\n0=No 1=Yes","Sequence",null,"Frequency",null,"Relative Frequency","Variability",null,null,"Frequency",null,"Relative Frequency","Variability",null,"Frequency",null,"Relative Frequency","Variability",null,"Frequency",null,"Relative Frequency","Variability",null,"Frequency",null,"Relative Frequency","Variability",null,"Frequency",null,"Relative Frequency","Variability",null,"Frequency",null,"Relative Frequency","Variability"]
[21,2,21,10,22,12,null,null,null,null,0,222,null,111,{"$f":"COUNTIF($L$7:$L$500,N7)","v":3},{"$f":"O7/$Q$4","v":2.6785714285714284E-2},{"$f":"IF(P7=0,0,(P7*((LOG(P7))/LOG(2))))","v":-0.13988551128579771},null,null,{"$f":"N7","v":111},{"$f":"COUNTIF(L7:L25,T7)","v":0},{"$f":"U7/(W4-U13)","v":0},{"$f":"IF(V7=0,0,(V7*((LOG(V7))/LOG(2))))","v":0},null,{"$f":"N7","v":111},{"$f":"COUNTIF(L26:L43,Y7)","v":0},{"$f":"Z7/(AB4-Z13)","v":0},{"$f":"IF(AA7=0,0,(AA7*((LOG(AA7))/LOG(2))))","v":0},null,{"$f":"N7","v":111},{"$f":"COUNTIF(L44:L62,AD7)","v":0},{"$f":"AE7/(AG4-AE13)","v":0},{"$f":"IF(AF7=0,0,(AF7*((LOG(AF7))/LOG(2))))","v":0},null,{"$f":"N7","v":111},{"$f":"COUNTIF(L63:L81,AI7)","v":0},{"$f":"AJ7/(AL4-AJ13)","v":0},{"$f":"IF(AK7=0,0,(AK7*((LOG(AK7))/LOG(2))))","v":0},null,{"$f":"N7","v":111},{"$f":"COUNTIF(L82:L99,AN7)","v":0},{"$f":"AO7/(AQ4-AO13)","v":0},{"$f":"IF(AP7=0,0,(AP7*((LOG(AP7))/LOG(2))))","v":0},null,{"$f":"N7","v":111},{"$f":"COUNTIF(L100:L118,AS7)","v":3},{"$f":"AT7/(AV4-AT13)","v":0.17647058823529413},{"$f":"IF(AU7=0,0,(AU7*((LOG(AU7))/LOG(2))))","v":-0.44161770715220888}]
[21,108,21,113,22,121,null,null,null,null,0,222,null,112,{"$f":"COUNTIF($L$7:$L$500,N8)","v":0},{"$f":"O8/$Q$4","v":0},{"$f":"IF(P8=0,0,(P8*((LOG(P8))/LOG(2))))","v":0},null,null,{"$f":"N8","v":112},{"$f":"COUNTIF(L7:L25,T8)","v":0},{"$f":"U8/(W4-U13)","v":0},{"$f":"IF(V8=0,0,(V8*((LOG(V8))/LOG(2))))","v":0},null,{"$f":"N8","v":112},{"$f":"COUNTIF(L26:L43,Y8)","v":0},{"$f":"Z8/(AB4-Z13)","v":0},{"$f":"IF(AA8=0,0,(AA8*((LOG(AA8))/LOG(2))))","v":0},null,{"$f":"N8","v":112},{"$f":"COUNTIF(L44:L62,AD8)","v":0},{"$f":"AE8/(AG4-AE13)","v":0},{"$f":"IF(AF8=0,0,(AF8*((LOG(AF8))/LOG(2))))","v":0},null,{"$f":"N8","v":112},{"$f":"COUNTIF(L63:L81,AI8)","v":0},{"$f":"AJ8/(AL4-AJ13)","v":0},{"$f":"IF(AK8=0,0,(AK8*((LOG(AK8))/LOG(2))))","v":0},null,{"$f":"N8","v":112},{"$f":"COUNTIF(L82:L99,AN8)","v":0},{"$f":"AO8/(AQ4-AO13)","v":0},{"$f":"IF(AP8=0,0,(AP8*((LOG(AP8))/LOG(2))))","v":0},null,{"$f":"N8","v":112},{"$f":"COUNTIF(L100:L118,AS8)","v":0},{"$f":"AT8/(AV4-AT13)","v":0},{"$f":"IF(AU8=0,0,(AU8*((LOG(AU8))/LOG(2))))","v":0}]
[21,218,21,223,22,228,null,null,null,null,0,222,null,121,{"$f":"COUNTIF($L$7:$L$500,N9)","v":3},{"$f":"O9/$Q$4","v":2.6785714285714284E-2},{"$f":"IF(P9=0,0,(P9*((LOG(P9))/LOG(2))))","v":-0.13988551128579771},null,null,{"$f":"N9","v":121},{"$f":"COUNTIF(L7:L25,T9)","v":0},{"$f":"U9/(W4-U13)","v":0},{"$f":"IF(V9=0,0,(V9*((LOG(V9))/LOG(2))))","v":0},null,{"$f":"N9","v":121},{"$f":"COUNTIF(L26:L43,Y9)","v":0},{"$f":"Z9/(AB4-Z13)","v":0},{"$f":"IF(AA9=0,0,(AA9*((LOG(AA9))/LOG(2))))","v":0},null,{"$f":"N9","v":121},{"$f":"COUNTIF(L44:L62,AD9)","v":1},{"$f":"AE9/(AG4-AE13)","v":7.6923076923076927E-2},{"$f":"IF(AF9=0,0,(AF9*((LOG(AF9))/LOG(2))))","v":-0.28464920908777636},null,{"$f":"N9","v":121},{"$f":"COUNTIF(L63:L81,AI9)","v":1},{"$f":"AJ9/(AL4-AJ13)","v":6.6666666666666666E-2},{"$f":"IF(AK9=0,0,(AK9*((LOG(AK9))/LOG(2))))","v":-0.26045937304056793},null,{"$f":"N9","v":121},{"$f":"COUNTIF(L82:L99,AN9)","v":1},{"$f":"AO9/(AQ4-AO13)","v":7.1428571428571425E-2},{"$f":"IF(AP9=0,0,(AP9*((LOG(AP9))/LOG(2))))","v":-0.27195392300411453},null,{"$f":"N9","v":121},{"$f":"COUNTIF(L100:L118,AS9)","v":0},{"$f":"AT9/(AV4-AT13)","v":0},{"$f":"IF(AU9=0,0,(AU9*((LOG(AU9))/LOG(2))))","v":0}]
[21,325,21,333,22,338,null,null,null,null,0,222,null,122,{"$f":"COUNTIF($L$7:$L$500,N10)","v":8},{"$f":"O10/$Q$4","v":7.1428571428571425E-2},{"$f":"IF(P10=0,0,(P10*((LOG(P10))/LOG(2))))","v":-0.27195392300411453},null,null,{"$f":"N10","v":122},{"$f":"COUNTIF(L7:L25,T10)","v":0},{"$f":"U10/(W4-U13)","v":0},{"$f":"IF(V10=0,0,(V10*((LOG(V10))/LOG(2))))","v":0},null,{"$f":"N10","v":122},{"$f":"COUNTIF(L26:L43,Y10)","v":2},{"$f":"Z10/(AB4-Z13)","v":0.14285714285714285},{"$f":"IF(AA10=0,0,(AA10*((LOG(AA10))/LOG(2))))","v":-0.40105070315108626},null,{"$f":"N10","v":122},{"$f":"COUNTIF(L44:L62,AD10)","v":0},{"$f":"AE10/(AG4-AE13)","v":0},{"$f":"IF(AF10=0,0,(AF10*((LOG(AF10))/LOG(2))))","v":0},null,{"$f":"N10","v":122},{"$f":"COUNTIF(L63:L81,AI10)","v":2},{"$f":"AJ10/(AL4-AJ13)","v":0.13333333333333333},{"$f":"IF(AK10=0,0,(AK10*((LOG(AK10))/LOG(2))))","v":-0.3875854127478025},null,{"$f":"N10","v":122},{"$f":"COUNTIF(L82:L99,AN10)","v":1},{"$f":"AO10/(AQ4-AO13)","v":7.1428571428571425E-2},{"$f":"IF(AP10=0,0,(AP10*((LOG(AP10))/LOG(2))))","v":-0.27195392300411453},null,{"$f":"N10","v":122},{"$f":"COUNTIF(L100:L118,AS10)","v":3},{"$f":"AT10/(AV4-AT13)","v":0.17647058823529413},{"$f":"IF(AU10=0,0,(AU10*((LOG(AU10))/LOG(2))))","v":-0.44161770715220888}]
[21,458,21,461,22,475,null,null,null,null,0,222,null,211,{"$f":"COUNTIF($L$7:$L$500,N11)","v":1},{"$f":"O11/$Q$4","v":8.9285714285714281E-3},{"$f":"IF(P11=0,0,(P11*((LOG(P11))/LOG(2))))","v":-6.0779954661228604E-2},null,null,{"$f":"N11","v":211},{"$f":"COUNTIF(L7:L25,T11)","v":0},{"$f":"U11/(W4-U13)","v":0},{"$f":"IF(V11=0,0,(V11*((LOG(V11))/LOG(2))))","v":0},null,{"$f":"N11","v":211},{"$f":"COUNTIF(L26:L43,Y11)","v":0},{"$f":"Z11/(AB4-Z13)","v":0},{"$f":"IF(AA11=0,0,(AA11*((LOG(AA11))/LOG(2))))","v":0},null,{"$f":"N11","v":211},{"$f":"COUNTIF(L44:L62,AD11)","v":0},{"$f":"AE11/(AG4-AE13)","v":0},{"$f":"IF(AF11=0,0,(AF11*((LOG(AF11))/LOG(2))))","v":0},null,{"$f":"N11","v":211},{"$f":"COUNTIF(L63:L81,AI11)","v":0},{"$f":"AJ11/(AL4-AJ13)","v":0},{"$f":"IF(AK11=0,0,(AK11*((LOG(AK11))/LOG(2))))","v":0},null,{"$f":"N11","v":211},{"$f":"COUNTIF(L82:L99,AN11)","v":0},{"$f":"AO11/(AQ4-AO13)","v":0},{"$f":"IF(AP11=0,0,(AP11*((LOG(AP11))/LOG(2))))","v":0},null,{"$f":"N11","v":211},{"$f":"COUNTIF(L100:L118,AS11)","v":1},{"$f":"AT11/(AV4-AT13)","v":5.8823529411764705E-2},{"$f":"IF(AU11=0,0,(AU11*((LOG(AU11))/LOG(2))))","v":-0.24043899066178465}]
[21,573,12,582,24,585,null,null,null,null,0,212,null,212,{"$f":"COUNTIF($L$7:$L$500,N12)","v":22},{"$f":"O12/$Q$4","v":0.19642857142857142},{"$f":"IF(P12=0,0,(P12*((LOG(P12))/LOG(2))))","v":-0.46119922031470312},null,null,{"$f":"N12","v":212},{"$f":"COUNTIF(L7:L25,T12)","v":5},{"$f":"U12/(W4-U13)","v":0.29411764705882354},{"$f":"IF(V12=0,0,(V12*((LOG(V12))/LOG(2))))","v":-0.51927492540087561},null,{"$f":"N12","v":212},{"$f":"COUNTIF(L26:L43,Y12)","v":2},{"$f":"Z12/(AB4-Z13)","v":0.14285714285714285},{"$f":"IF(AA12=0,0,(AA12*((LOG(AA12))/LOG(2))))","v":-0.40105070315108626},null,{"$f":"N12","v":212},{"$f":"COUNTIF(L44:L62,AD12)","v":3},{"$f":"AE12/(AG4-AE13)","v":0.23076923076923078},{"$f":"IF(AF12=0,0,(AF12*((LOG(AF12))/LOG(2))))","v":-0.48818705017383146},null,{"$f":"N12","v":212},{"$f":"COUNTIF(L63:L81,AI12)","v":2},{"$f":"AJ12/(AL4-AJ13)","v":0.13333333333333333},{"$f":"IF(AK12=0,0,(AK12*((LOG(AK12))/LOG(2))))","v":-0.3875854127478025},null,{"$f":"N12","v":212},{"$f":"COUNTIF(L82:L99,AN12)","v":4},{"$f":"AO12/(AQ4-AO13)","v":0.2857142857142857},{"$f":"IF(AP12=0,0,(AP12*((LOG(AP12))/LOG(2))))","v":-0.51638712058788683},null,{"$f":"N12","v":212},{"$f":"COUNTIF(L100:L118,AS12)","v":6},{"$f":"AT12/(AV4-AT13)","v":0.35294117647058826},{"$f":"IF(AU12=0,0,(AU12*((LOG(AU12))/LOG(2))))","v":-0.53029423783382934}]
[21,686,21,693,11,696,null,null,null,null,0,221,null,221,{"$f":"COUNTIF($L$7:$L$500,N13)","v":22},{"$f":"O13/$Q$4","v":0.19642857142857142},{"$f":"IF(P13=0,0,(P13*((LOG(P13))/LOG(2))))","v":-0.46119922031470312},null,null,{"$f":"N13","v":221},{"$f":"COUNTIF(L7:L25,T13)","v":2},null,null,null,{"$f":"N13","v":221},{"$f":"COUNTIF(L26:L43,Y13)","v":4},null,null,null,{"$f":"N13","v":221},{"$f":"COUNTIF(L44:L62,AD13)","v":6},null,null,null,{"$f":"N13","v":221},{"$f":"COUNTIF(L63:L81,AI13)","v":4},null,null,null,{"$f":"N13","v":221},{"$f":"COUNTIF(L82:L99,AN13)","v":4},null,null,null,{"$f":"N13","v":221},{"$f":"COUNTIF(L100:L118,AS13)","v":2}]
[21,831,21,837,22,843,null,null,null,null,0,222,null,222,{"$f":"COUNTIF($L$7:$L$500,N14)","v":53},{"$f":"O14/$Q$4","v":0.4732142857142857},{"$f":"IF(P14=0,0,(P14*((LOG(P14))/LOG(2))))","v":-0.51080381051074519},null,null,{"$f":"N14","v":222},{"$f":"COUNTIF(L7:L25,T14)","v":12},{"$f":"U14/(W4-U13)","v":0.70588235294117652},{"$f":"IF(V14=0,0,(V14*((LOG(V14))/LOG(2))))","v":-0.35470612272648222},null,{"$f":"N14","v":222},{"$f":"COUNTIF(L26:L43,Y14)","v":10},{"$f":"Z14/(AB4-Z13)","v":0.7142857142857143},{"$f":"IF(AA14=0,0,(AA14*((LOG(AA14))/LOG(2))))","v":-0.34673344797874411},null,{"$f":"N14","v":222},{"$f":"COUNTIF(L44:L62,AD14)","v":9},{"$f":"AE14/(AG4-AE13)","v":0.69230769230769229},{"$f":"IF(AF14=0,0,(AF14*((LOG(AF14))/LOG(2))))","v":-0.36727941925300139},null,{"$f":"N14","v":222},{"$f":"COUNTIF(L63:L81,AI14)","v":10},{"$f":"AJ14/(AL4-AJ13)","v":0.66666666666666663},{"$f":"IF(AK14=0,0,(AK14*((LOG(AK14))/LOG(2))))","v":-0.38997500048077083},null,{"$f":"N14","v":222},{"$f":"COUNTIF(L82:L99,AN14)","v":8},{"$f":"AO14/(AQ4-AO13)","v":0.5714285714285714},{"$f":"IF(AP14=0,0,(AP14*((LOG(AP14))/LOG(2))))","v":-0.46134566974720237},null,{"$f":"N14","v":222},{"$f":"COUNTIF(L100:L118,AS14)","v":4},{"$f":"AT14/(AV4-AT13)","v":0.23529411764705882},{"$f":"IF(AU14=0,0,(AU14*((LOG(AU14))/LOG(2))))","v":-0.49116772735302094}]
[21,948,12,958,24,962,null,null,null,null,0,212,null,null,null,{"$f":"SUM(P7:P14)","v":1},{"$f":"-SUM(Q7:Q14)","v":2.0457071513770901},null,null,null,null,{"$f":"SUM(V7:V14)","v":1},{"$f":"-SUM(W7:W14)","v":0.87398104812735777},null,null,null,{"$f":"SUM(AA7:AA14)","v":1},{"$f":"-SUM(AB7:AB14)","v":1.1488348542809166},null,null,null,{"$f":"SUM(AF7:AF14)","v":1},{"$f":"-SUM(AG7:AG14)","v":1.1401156785146092},null,null,null,{"$f":"SUM(AK7:AK14)","v":1},{"$f":"-SUM(AL7:AL14)","v":1.4256051990169438},null,null,null,{"$f":"SUM(AP7:AP14)","v":1},{"$f":"-SUM(AQ7:AQ14)","v":1.5216406363433181},null,null,null,{"$f":"SUM(AU7:AU14)","v":1},{"$f":"-SUM(AV7:AV14)","v":2.1451363701530526}]
[21,1058,21,1067,22,1074,null,null,null,null,0,222,null,null,null,"U=",{"$f":"Q15/(LOG(Q4)/LOG(2))","v":0.30051424889694905},null,null,null,null,"U1=",{"$f":"W15/(LOG(W4)/LOG(2))","v":0.20574292884269688},null,null,null,"U2=",{"$f":"AB15/(LOG(AB4)/LOG(2))","v":0.27550492008454647},null,null,null,"U3=",{"$f":"AG15/(LOG(AG4)/LOG(2))","v":0.26839339299139159},null,null,null,"U4=",{"$f":"AL15/(LOG(AL4)/LOG(2))","v":0.33560017079040882},null,null,null,"U5=",{"$f":"AQ15/(LOG(AQ4)/LOG(2))","v":0.36490839423179228},null,null,null,"U6=",{"$f":"AV15/(LOG(AV4)/LOG(2))","v":0.5049842219209848}]
[21,1172,21,1177,22,1181,null,null,null,null,0,222]
[21,1277,21,1292,22,1298,null,null,null,null,0,222]
[21,1394,12,1401,24,1409,null,null,null,null,0,212,null,"Total Target Seq"]
[21,1506,21,1513,11,1516,null,null,null,null,0,221,null,{"$f":"COUNTIF(L7:L118,G3)","v":22},null,19,18,19,19,18,19]
[21,1676,21,1690,22,1702,null,null,null,null,0,222,null,null,null,"% of reinforcement given in 6 equal intervals based on number of trials "]
[21,1801,12,1807,24,1813,null,null,null,null,0,212,null,null,null,"%_1","%_2","%_3","%_4","%_5","%_6"]
[21,1910,12,1914,24,1918,null,null,null,null,0,212,null,null,"target sequence",{"$f":"$G$3","v":221},{"$f":"$G$3","v":221},{"$f":"$G$3","v":221},{"$f":"$G$3","v":221},{"$f":"$G$3","v":221},{"$f":"$G$3","v":221}]
[21,2015,21,2018,22,2023,null,null,null,null,0,222,null,null,"total reinforcement",{"$f":"U13","v":2},{"$f":"Z13","v":4},{"$f":"AE13","v":6},{"$f":"AJ13","v":4},{"$f":"AO13","v":4},{"$f":"AT13","v":2}]
[21,2119,21,2123,22,2127,null,null,null,null,0,222,null,null,"% target"]
[21,2224,21,2228,22,2233,null,null,null,null,0,222,null,null,"CCRF"]
[21,2329,21,2343,11,2348,null,null,null,null,0,221,null,null,"% CCRf"]
[21,2487,21,2493,22,2500,null,null,null,null,0,222,null,null,"average response rate",{"$f":"F25/P20","v":111.94736842105263},{"$f":"(F43-F25)/Q20","v":127.55555555555556},{"$f":"(F62-F43)/R20","v":159.05263157894737},{"$f":"(F81-F62)/S20","v":114.94736842105263},{"$f":"(F99-F81)/T20","v":119.66666666666667},{"$f":"(F118-F99)/U20","v":132.78947368421052}]
[21,2598,21,2608,11,2612,null,null,null,null,0,221]
[21,2827,21,2833,11,2836,null,null,null,null,0,221]
[21,3053,12,3061,24,3068,null,null,null,null,0,212]
[21,3163,21,3166,22,3168,null,null,null,null,0,222]
[21,3265,21,3268,22,3272,null,null,null,null,0,222]
[21,3368,21,3372,22,3376,null,null,null,null,0,222]
[21,3476,12,3478,24,3480,null,null,null,null,0,212]
[21,3577,21,3581,22,3585,null,null,null,null,0,222]
[12,3678,23,3684,24,3690,null,null,null,null,0,122]
[21,3823,21,3829,22,3835,null,null,null,null,0,222]
[21,3928,21,3938,11,3943,null,null,null,null,0,221]
[21,4094,21,4101,22,4106,null,null,null,null,0,222]
[21,4199,21,4204,22,4213,null,null,null,null,0,222]
[21,4307,21,4310,22,4315,null,null,null,null,0,222]
[12,4408,23,4414,24,4423,null,null,null,null,0,122]
[21,4519,21,4524,22,4530,null,null,null,null,0,222]
[21,4626,12,4633,24,4637,null,null,null,null,0,212]
[21,4735,21,4738,22,4742,null,null,null,null,0,222]
[21,4841,21,4847,22,4852,null,null,null,null,0,222]
[21,4947,21,4954,22,4958,null,null,null,null,0,222]
[12,5052,23,5056,13,5066,null,null,null,null,0,121]
[21,5162,21,5166,22,5172,null,null,null,null,0,222]
[21,5268,12,5272,24,5278,null,null,null,null,0,212]
[21,5370,21,5374,22,5377,null,null,null,null,0,222]
[21,5473,21,5476,22,5480,null,null,null,null,0,222]
[21,5578,21,5586,11,5589,null,null,null,null,0,221]
[21,5756,21,5767,11,5771,null,null,null,null,0,221]
[21,6205,21,6215,11,6219,null,null,null,null,0,221]
[21,6383,21,6392,22,6399,null,null,null,null,0,222]
[21,6495,21,6502,22,6511,null,null,null,null,0,222]
[21,6608,21,6612,11,6614,null,null,null,null,0,221]
[21,6788,21,6794,11,6798,null,null,null,null,0,221]
[21,6978,21,6984,11,6988,null,null,null,null,0,221]
[21,7430,12,7437,24,7445,null,null,null,null,0,212]
[21,7543,21,7552,22,7558,null,null,null,null,0,222]
[12,7652,23,7655,13,7659,null,null,null,null,0,121]
[21,7755,21,7759,22,7763,null,null,null,null,0,222]
[21,7860,21,7864,11,7868,null,null,null,null,0,221]
[21,7993,21,7997,22,8005,null,null,null,null,0,222]
[12,8098,23,8102,24,8107,null,null,null,null,0,122]
[21,8202,12,8210,24,8214,null,null,null,null,0,212]
[21,8309,12,8317,24,8319,null,null,null,null,0,212]
[21,8411,21,8421,22,8426,null,null,null,null,0,222]
[21,8522,21,8527,11,8530,null,null,null,null,0,221]
[21,8647,21,8651,22,8657,null,null,null,null,0,222]
[21,8751,21,8756,11,8760,null,null,null,null,0,221]
[21,8967,21,8971,22,8978,null,null,null,null,0,222]
[12,9070,23,9074,24,9082,null,null,null,null,0,122]
[21,9176,21,9183,22,9189,null,null,null,null,0,222]
[21,9286,21,9290,22,9295,null,null,null,null,0,222]
[21,9391,21,9395,22,9399,null,null,null,null,0,222]
[21,9495,21,9505,11,9507,null,null,null,null,0,221]
[21,9619,21,9624,22,9629,null,null,null,null,0,222]
[21,9724,21,9729,22,9741,null,null,null,null,0,222]
[21,9837,12,9844,24,9850,null,null,null,null,0,212]
[21,9948,21,9954,11,9958,null,null,null,null,0,221]
[21,10164,21,10169,22,10175,null,null,null,null,0,222]
[21,10271,21,10280,22,10286,null,null,null,null,0,222]
[21,10380,21,10390,11,10394,null,null,null,null,0,221]
[21,10503,21,10509,22,10514,null,null,null,null,0,222]
[21,10609,21,10614,11,10617,null,null,null,null,0,221]
[21,10809,21,10819,22,10823,null,null,null,null,0,222]
[21,10916,12,10920,24,10925,null,null,null,null,0,212]
[21,11022,21,11026,22,11032,null,null,null,null,0,222]
[21,11126,12,11128,24,11137,null,null,null,null,0,212]
[21,11234,12,11238,24,11243,null,null,null,null,0,212]
[12,11336,23,11338,24,11342,null,null,null,null,0,122]
[12,11436,23,11439,13,11445,null,null,null,null,0,121]
[21,11537,21,11540,11,11545,null,null,null,null,0,221]
[21,11665,21,11674,22,11679,null,null,null,null,0,222]
[21,11773,21,11777,22,11783,null,null,null,null,0,222]
[21,11879,21,11885,22,11889,null,null,null,null,0,222]
[21,11985,12,11992,24,11999,null,null,null,null,0,212]
[21,12095,12,12102,24,12104,null,null,null,null,0,212]
[21,12195,12,12200,13,12202,null,null,null,null,0,211]
[12,12294,14,12295,13,12297,null,null,null,null,0,111]
[12,12399,23,12402,24,12407,null,null,null,null,0,122]
[21,12500,21,12503,22,12507,null,null,null,null,0,222]
[12,12607,23,12613,24,12618,null,null,null,null,0,122]
[21,12713,12,12717,24,12726,null,null,null,null,0,212]
[12,12818,23,12823,24,12827,null,null,null,null,0,122]
[21,12924,12,12927,24,12935,null,null,null,null,0,212]
[21,13027,21,13031,22,13038,null,null,null,null,0,222]
[21,13133,21,13142,22,13149,null,null,null,null,0,222]
[21,13245,21,13250,11,13253,null,null,null,null,0,221]
[21,13457,12,13459,24,13463,null,null,null,null,0,212]
[21,13559,12,13564,24,13574,null,null,null,null,0,212]
[12,13666,14,13668,13,13669,null,null,null,null,0,111]
[21,14161,21,14170,11,14172,null,null,null,null,0,221]
[12,14303,14,14305,13,14306,null,null,null,null,null,111]

{"sheet":"!MA16920.Gus","index":24,"n_rows":165,"n_cols":48,"rows_kept":165,"cut":false,"hidden":false,"merged":[[4,39,4,42],[5,39,5,40],[4,44,4,47],[5,44,5,45],[4,24,4,27],[5,24,5,25],[4,29,4,32],[5,29,5,30],[4,34,4,37],[5,34,5,35],[1,1,1,2],[5,13,5,14],[18,13,18,14],[19,13,19,14],[4,19,4,22],[5,19,5,20]]}
["Report for:!MA16920.Gus"]
["Date:","<date>"]
["Hen:","<hen>",null,null,null,"Correct Sequence",{"$f":"Start!J2","v":221},null,null,null,null,null,null,null,null,"Total Sequences in Data",{"$f":"4994-COUNTBLANK(L7:L5000)","v":159},null,null,null,null,"Total Sequences in Block Data",{"$f":"COUNTA(L7:L33)","v":27},null,null,null,"Total Sequences in Block Data",{"$f":"COUNTA(L34:L59)","v":26},null,null,null,"Total Sequences in Block Data",{"$f":"COUNTA(L60:L86)","v":27},null,null,null,"Total Sequences in Block Data",{"$f":"COUNTA(L87:L112)","v":26},null,null,null,"Total Sequences in Block Data",{"$f":"COUNTA(L113:L139)","v":27},null,null,null,"Total Sequences in Block Data",{"$f":"COUNTA(L140:L165)","v":26}]
[null,null,null,null,null,null,null,null,null,null,null,null,null,null,null,"Total Sequences in Summary",{"$f":"SUM(O7:O14)","v":159},null,null,null,null,"Total Sequences in Block Summary",{"$f":"SUM(U7:U14)","v":27},null,null,null,"Total Sequences in Block Summary",{"$f":"SUM(Z7:Z14)","v":26},null,null,null,"Total Sequences in Block Summary",{"$f":"SUM(AE7:AE14)","v":27},null,null,null,"Total Sequences in Block Summary",{"$f":"SUM(AJ7:AJ14)","v":26},null,null,null,"Total Sequences in Block Summary",{"$f":"SUM(AO7:AO14)","v":27},null,null,null,"Total Sequences in Block Summary",{"$f":"SUM(AT7:AT14)","v":26}]
[null,null,null,null,null,null,null,null,null,null,null,null,null,null,null,null,null,null,null,"Block 1",null,null,null,null,"Block 2",null,null,null,null,"Block 3",null,null,null,null,"Block 4",null,null,null,null,"Block 5",null,null,null,null,"Block 6"]
["Sequence\nComponent\n1","Time\n1","Sequence\nComponent\n2","Time\n2","Sequence\nComponent\n3","Time\n3","Sequence\nComponent\n4","Time\n4","Sequence\nComponent\n5","Time\n5","Correct?\n0=No 1=Yes","Sequence",null,"Frequency",null,"Relative Frequency","Variability",null,null,"Frequency",null,"Relative Frequency","Variability",null,"Frequency",null,"Relative Frequency","Variability",null,"Frequency",null,"Relative Frequency","Variability",null,"Frequency",null,"Relative Frequency","Variability",null,"Frequency",null,"Relative Frequency","Variability",null,"Frequency",null,"Relative Frequency","Variability"]
[21,150,21,157,22,165,null,null,null,null,0,222,null,111,{"$f":"COUNTIF($L$7:$L$500,N7)","v":0},{"$f":"O7/$Q$4","v":0},{"$f":"IF(P7=0,0,(P7*((LOG(P7))/LOG(2))))","v":0},null,null,{"$f":"N7","v":111},{"$f":"COUNTIF(L7:L33,T7)","v":0},{"$f":"U7/(W4-U13)","v":0},{"$f":"IF(V7=0,0,(V7*((LOG(V7))/LOG(2))))","v":0},null,{"$f":"N7","v":111},{"$f":"COUNTIF(L34:L59,Y7)","v":0},{"$f":"Z7/(AB4-Z13)","v":0},{"$f":"IF(AA7=0,0,(AA7*((LOG(AA7))/LOG(2))))","v":0},null,{"$f":"N7","v":111},{"$f":"COUNTIF(L60:L86,AD7)","v":0},{"$f":"AE7/(AG4-AE13)","v":0},{"$f":"IF(AF7=0,0,(AF7*((LOG(AF7))/LOG(2))))","v":0},null,{"$f":"N7","v":111},{"$f":"COUNTIF(L87:L112,AI7)","v":0},{"$f":"AJ7/(AL4-AJ13)","v":0},{"$f":"IF(AK7=0,0,(AK7*((LOG(AK7))/LOG(2))))","v":0},null,{"$f":"N7","v":111},{"$f":"COUNTIF(L113:L139,AN7)","v":0},{"$f":"AO7/(AQ4-AO13)","v":0},{"$f":"IF(AP7=0,0,(AP7*((LOG(AP7))/LOG(2))))","v":0},null,{"$f":"N7","v":111},{"$f":"COUNTIF(L140:L165,AS7)","v":0},{"$f":"AT7/(AV4-AT13)","v":0},{"$f":"IF(AU7=0,0,(AU7*((LOG(AU7))/LOG(2))))","v":0}]
[21,262,21,276,22,283,null,null,null,null,0,222,null,112,{"$f":"COUNTIF($L$7:$L$500,N8)","v":1},{"$f":"O8/$Q$4","v":6.2893081761006293E-3},{"$f":"IF(P8=0,0,(P8*((LOG(P8))/LOG(2))))","v":-4.5992974561536823E-2},null,null,{"$f":"N8","v":112},{"$f":"COUNTIF(L7:L33,T8)","v":0},{"$f":"U8/(W4-U13)","v":0},{"$f":"IF(V8=0,0,(V8*((LOG(V8))/LOG(2))))","v":0},null,{"$f":"N8","v":112},{"$f":"COUNTIF(L34:L59,Y8)","v":0},{"$f":"Z8/(AB4-Z13)","v":0},{"$f":"IF(AA8=0,0,(AA8*((LOG(AA8))/LOG(2))))","v":0},null,{"$f":"N8","v":112},{"$f":"COUNTIF(L60:L86,AD8)","v":0},{"$f":"AE8/(AG4-AE13)","v":0},{"$f":"IF(AF8=0,0,(AF8*((LOG(AF8))/LOG(2))))","v":0},null,{"$f":"N8","v":112},{"$f":"COUNTIF(L87:L112,AI8)","v":0},{"$f":"AJ8/(AL4-AJ13)","v":0},{"$f":"IF(AK8=0,0,(AK8*((LOG(AK8))/LOG(2))))","v":0},null,{"$f":"N8","v":112},{"$f":"COUNTIF(L113:L139,AN8)","v":1},{"$f":"AO8/(AQ4-AO13)","v":4.5454545454545456E-2},{"$f":"IF(AP8=0,0,(AP8*((LOG(AP8))/LOG(2))))","v":-0.20270143721078623},null,{"$f":"N8","v":112},{"$f":"COUNTIF(L140:L165,AS8)","v":0},{"$f":"AT8/(AV4-AT13)","v":0},{"$f":"IF(AU8=0,0,(AU8*((LOG(AU8))/LOG(2))))","v":0}]
[21,375,21,387,22,393,null,null,null,null,0,222,null,121,{"$f":"COUNTIF($L$7:$L$500,N9)","v":7},{"$f":"O9/$Q$4","v":4.40251572327044E-2},{"$f":"IF(P9=0,0,(P9*((LOG(P9))/LOG(2))))","v":-0.19835658007916512},null,null,{"$f":"N9","v":121},{"$f":"COUNTIF(L7:L33,T9)","v":0},{"$f":"U9/(W4-U13)","v":0},{"$f":"IF(V9=0,0,(V9*((LOG(V9))/LOG(2))))","v":0},null,{"$f":"N9","v":121},{"$f":"COUNTIF(L34:L59,Y9)","v":1},{"$f":"Z9/(AB4-Z13)","v":4.5454545454545456E-2},{"$f":"IF(AA9=0,0,(AA9*((LOG(AA9))/LOG(2))))","v":-0.20270143721078623},null,{"$f":"N9","v":121},{"$f":"COUNTIF(L60:L86,AD9)","v":2},{"$f":"AE9/(AG4-AE13)","v":9.5238095238095233E-2},{"$f":"IF(AF9=0,0,(AF9*((LOG(AF9))/LOG(2))))","v":-0.32307784978845333},null,{"$f":"N9","v":121},{"$f":"COUNTIF(L87:L112,AI9)","v":1},{"$f":"AJ9/(AL4-AJ13)","v":5.2631578947368418E-2},{"$f":"IF(AK9=0,0,(AK9*((LOG(AK9))/LOG(2))))","v":-0.22357513228650452},null,{"$f":"N9","v":121},{"$f":"COUNTIF(L113:L139,AN9)","v":3},{"$f":"AO9/(AQ4-AO13)","v":0.13636363636363635},{"$f":"IF(AP9=0,0,(AP9*((LOG(AP9))/LOG(2))))","v":-0.39197306153401923},null,{"$f":"N9","v":121},{"$f":"COUNTIF(L140:L165,AS9)","v":0},{"$f":"AT9/(AV4-AT13)","v":0},{"$f":"IF(AU9=0,0,(AU9*((LOG(AU9))/LOG(2))))","v":0}]
[21,493,21,514,22,521,null,null,null,null,0,222,null,122,{"$f":"COUNTIF($L$7:$L$500,N10)","v":8},{"$f":"O10/$Q$4","v":5.0314465408805034E-2},{"$f":"IF(P10=0,0,(P10*((LOG(P10))/LOG(2))))","v":-0.2170004002658795},null,null,{"$f":"N10","v":122},{"$f":"COUNTIF(L7:L33,T10)","v":2},{"$f":"U10/(W4-U13)","v":7.6923076923076927E-2},{"$f":"IF(V10=0,0,(V10*((LOG(V10))/LOG(2))))","v":-0.28464920908777636},null,{"$f":"N10","v":122},{"$f":"COUNTIF(L34:L59,Y10)","v":3},{"$f":"Z10/(AB4-Z13)","v":0.13636363636363635},{"$f":"IF(AA10=0,0,(AA10*((LOG(AA10))/LOG(2))))","v":-0.39197306153401923},null,{"$f":"N10","v":122},{"$f":"COUNTIF(L60:L86,AD10)","v":2},{"$f":"AE10/(AG4-AE13)","v":9.5238095238095233E-2},{"$f":"IF(AF10=0,0,(AF10*((LOG(AF10))/LOG(2))))","v":-0.32307784978845333},null,{"$f":"N10","v":122},{"$f":"COUNTIF(L87:L112,AI10)","v":1},{"$f":"AJ10/(AL4-AJ13)","v":5.2631578947368418E-2},{"$f":"IF(AK10=0,0,(AK10*((LOG(AK10))/LOG(2))))","v":-0.22357513228650452},null,{"$f":"N10","v":122},{"$f":"COUNTIF(L113:L139,AN10)","v":0},{"$f":"AO10/(AQ4-AO13)","v":0},{"$f":"IF(AP10=0,0,(AP10*((LOG(AP10))/LOG(2))))","v":0},null,{"$f":"N10","v":122},{"$f":"COUNTIF(L140:L165,AS10)","v":0},{"$f":"AT10/(AV4-AT13)","v":0},{"$f":"IF(AU10=0,0,(AU10*((LOG(AU10))/LOG(2))))","v":0}]
[21,616,12,628,24,633,null,null,null,null,0,212,null,211,{"$f":"COUNTIF($L$7:$L$500,N11)","v":1},{"$f":"O11/$Q$4","v":6.2893081761006293E-3},{"$f":"IF(P11=0,0,(P11*((LOG(P11))/LOG(2))))","v":-4.5992974561536823E-2},null,null,{"$f":"N11","v":211},{"$f":"COUNTIF(L7:L33,T11)","v":0},{"$f":"U11/(W4-U13)","v":0},{"$f":"IF(V11=0,0,(V11*((LOG(V11))/LOG(2))))","v":0},null,{"$f":"N11","v":211},{"$f":"COUNTIF(L34:L59,Y11)","v":0},{"$f":"Z11/(AB4-Z13)","v":0},{"$f":"IF(AA11=0,0,(AA11*((LOG(AA11))/LOG(2))))","v":0},null,{"$f":"N11","v":211},{"$f":"COUNTIF(L60:L86,AD11)","v":0},{"$f":"AE11/(AG4-AE13)","v":0},{"$f":"IF(AF11=0,0,(AF11*((LOG(AF11))/LOG(2))))","v":0},null,{"$f":"N11","v":211},{"$f":"COUNTIF(L87:L112,AI11)","v":1},{"$f":"AJ11/(AL4-AJ13)","v":5.2631578947368418E-2},{"$f":"IF(AK11=0,0,(AK11*((LOG(AK11))/LOG(2))))","v":-0.22357513228650452},null,{"$f":"N11","v":211},{"$f":"COUNTIF(L113:L139,AN11)","v":0},{"$f":"AO11/(AQ4-AO13)","v":0},{"$f":"IF(AP11=0,0,(AP11*((LOG(AP11))/LOG(2))))","v":0},null,{"$f":"N11","v":211},{"$f":"COUNTIF(L140:L165,AS11)","v":0},{"$f":"AT11/(AV4-AT13)","v":0},{"$f":"IF(AU11=0,0,(AU11*((LOG(AU11))/LOG(2))))","v":0}]
[21,824,21,829,22,835,null,null,null,null,0,222,null,212,{"$f":"COUNTIF($L$7:$L$500,N12)","v":35},{"$f":"O12/$Q$4","v":0.22012578616352202},{"$f":"IF(P12=0,0,(P12*((LOG(P12))/LOG(2))))","v":-0.4806666530935762},null,null,{"$f":"N12","v":212},{"$f":"COUNTIF(L7:L33,T12)","v":1},{"$f":"U12/(W4-U13)","v":3.8461538461538464E-2},{"$f":"IF(V12=0,0,(V12*((LOG(V12))/LOG(2))))","v":-0.18078614300542661},null,{"$f":"N12","v":212},{"$f":"COUNTIF(L34:L59,Y12)","v":5},{"$f":"Z12/(AB4-Z13)","v":0.22727272727272727},{"$f":"IF(AA12=0,0,(AA12*((LOG(AA12))/LOG(2))))","v":-0.48579625539771243},null,{"$f":"N12","v":212},{"$f":"COUNTIF(L60:L86,AD12)","v":6},{"$f":"AE12/(AG4-AE13)","v":0.2857142857142857},{"$f":"IF(AF12=0,0,(AF12*((LOG(AF12))/LOG(2))))","v":-0.51638712058788683},null,{"$f":"N12","v":212},{"$f":"COUNTIF(L87:L112,AI12)","v":6},{"$f":"AJ12/(AL4-AJ13)","v":0.31578947368421051},{"$f":"IF(AK12=0,0,(AK12*((LOG(AK12))/LOG(2))))","v":-0.52514684612287243},null,{"$f":"N12","v":212},{"$f":"COUNTIF(L113:L139,AN12)","v":5},{"$f":"AO12/(AQ4-AO13)","v":0.22727272727272727},{"$f":"IF(AP12=0,0,(AP12*((LOG(AP12))/LOG(2))))","v":-0.48579625539771243},null,{"$f":"N12","v":212},{"$f":"COUNTIF(L140:L165,AS12)","v":12},{"$f":"AT12/(AV4-AT13)","v":0.6},{"$f":"IF(AU12=0,0,(AU12*((LOG(AU12))/LOG(2))))","v":-0.44217935649972373}]
[21,938,21,943,22,952,null,null,null,null,0,222,null,221,{"$f":"COUNTIF($L$7:$L$500,N13)","v":29},{"$f":"O13/$Q$4","v":0.18238993710691823},{"$f":"IF(P13=0,0,(P13*((LOG(P13))/LOG(2))))","v":-0.44774941411664598},null,null,{"$f":"N13","v":221},{"$f":"COUNTIF(L7:L33,T13)","v":1},null,null,null,{"$f":"N13","v":221},{"$f":"COUNTIF(L34:L59,Y13)","v":4},null,null,null,{"$f":"N13","v":221},{"$f":"COUNTIF(L60:L86,AD13)","v":6},null,null,null,{"$f":"N13","v":221},{"$f":"COUNTIF(L87:L112,AI13)","v":7},null,null,null,{"$f":"N13","v":221},{"$f":"COUNTIF(L113:L139,AN13)","v":5},null,null,null,{"$f":"N13","v":221},{"$f":"COUNTIF(L140:L165,AS13)","v":6}]
[21,1050,21,1059,11,1061,null,null,null,null,0,221,null,222,{"$f":"COUNTIF($L$7:$L$500,N14)","v":78},{"$f":"O14/$Q$4","v":0.49056603773584906},{"$f":"IF(P14=0,0,(P14*((LOG(P14))/LOG(2))))","v":-0.50404715371650533},null,null,{"$f":"N14","v":222},{"$f":"COUNTIF(L7:L33,T14)","v":23},{"$f":"U14/(W4-U13)","v":0.88461538461538458},{"$f":"IF(V14=0,0,(V14*((LOG(V14))/LOG(2))))","v":-0.15646878953591634},null,{"$f":"N14","v":222},{"$f":"COUNTIF(L34:L59,Y14)","v":13},{"$f":"Z14/(AB4-Z13)","v":0.59090909090909094},{"$f":"IF(AA14=0,0,(AA14*((LOG(AA14))/LOG(2))))","v":-0.4484952139295757},null,{"$f":"N14","v":222},{"$f":"COUNTIF(L60:L86,AD14)","v":11},{"$f":"AE14/(AG4-AE13)","v":0.52380952380952384},{"$f":"IF(AF14=0,0,(AF14*((LOG(AF14))/LOG(2))))","v":-0.4886544688360045},null,{"$f":"N14","v":222},{"$f":"COUNTIF(L87:L112,AI14)","v":10},{"$f":"AJ14/(AL4-AJ13)","v":0.52631578947368418},{"$f":"IF(AK14=0,0,(AK14*((LOG(AK14))/LOG(2))))","v":-0.4873681150295911},null,{"$f":"N14","v":222},{"$f":"COUNTIF(L113:L139,AN14)","v":13},{"$f":"AO14/(AQ4-AO13)","v":0.59090909090909094},{"$f":"IF(AP14=0,0,(AP14*((LOG(AP14))/LOG(2))))","v":-0.4484952139295757},null,{"$f":"N14","v":222},{"$f":"COUNTIF(L140:L165,AS14)","v":8},{"$f":"AT14/(AV4-AT13)","v":0.4},{"$f":"IF(AU14=0,0,(AU14*((LOG(AU14))/LOG(2))))","v":-0.52877123795494496}]
[21,1238,21,1250,22,1258,null,null,null,null,0,222,null,null,null,{"$f":"SUM(P7:P14)","v":1},{"$f":"-SUM(Q7:Q14)","v":1.9398061503948458},null,null,null,null,{"$f":"SUM(V7:V14)","v":1},{"$f":"-SUM(W7:W14)","v":0.62190414162911933},null,null,null,{"$f":"SUM(AA7:AA14)","v":1},{"$f":"-SUM(AB7:AB14)","v":1.5289659680720935},null,null,null,{"$f":"SUM(AF7:AF14)","v":1},{"$f":"-SUM(AG7:AG14)","v":1.6511972890007982},null,null,null,{"$f":"SUM(AK7:AK14)","v":1},{"$f":"-SUM(AL7:AL14)","v":1.683240358011977},null,null,null,{"$f":"SUM(AP7:AP14)","v":1},{"$f":"-SUM(AQ7:AQ14)","v":1.5289659680720935},null,null,null,{"$f":"SUM(AU7:AU14)","v":1},{"$f":"-SUM(AV7:AV14)","v":0.97095059445466869}]
[21,1358,21,1361,22,1371,null,null,null,null,0,222,null,null,null,"U=",{"$f":"Q15/(LOG(Q4)/LOG(2))","v":0.2652587443633464},null,null,null,null,"U1=",{"$f":"W15/(LOG(W4)/LOG(2))","v":0.13079260894104303},null,null,null,"U2=",{"$f":"AB15/(LOG(AB4)/LOG(2))","v":0.32528147572473537},null,null,null,"U3=",{"$f":"AG15/(LOG(AG4)/LOG(2))","v":0.34726316621571074},null,null,null,"U4=",{"$f":"AL15/(LOG(AL4)/LOG(2))","v":0.35810274334879827},null,null,null,"U5=",{"$f":"AQ15/(LOG(AQ4)/LOG(2))","v":0.3215567071516236},null,null,null,"U6=",{"$f":"AV15/(LOG(AV4)/LOG(2))","v":0.20656590716552276}]
[21,1467,21,1473,22,1478,null,null,null,null,0,222]
[21,1575,21,1579,22,1585,null,null,null,null,0,222]
[21,1682,21,1697,22,1705,null,null,null,null,0,222,null,"Total Target Seq"]
[21,1804,21,1808,22,1820,null,null,null,null,0,222,null,{"$f":"COUNTIF(L7:L165,G3)","v":29},null,27,26,27,26,27,26]
[21,1917,21,1925,22,1942,null,null,null,null,0,222,null,null,null,"% of reinforcement given in 6 equal intervals based on number of trials "]
[21,2042,21,2055,22,2063,null,null,null,null,0,222,null,null,null,"%_1","%_2","%_3","%_4","%_5","%_6"]
[21,2159,21,2173,22,2180,null,null,null,null,0,222,null,null,"target sequence",{"$f":"$G$3","v":221},{"$f":"$G$3","v":221},{"$f":"$G$3","v":221},{"$f":"$G$3","v":221},{"$f":"$G$3","v":221},{"$f":"$G$3","v":221}]
[12,2272,23,2278,24,2286,null,null,null,null,0,122,null,null,"total reinforcement",{"$f":"U13","v":1},{"$f":"Z13","v":4},{"$f":"AE13","v":6},{"$f":"AJ13","v":7},{"$f":"AO13","v":5},{"$f":"AT13","v":6}]
[21,2461,21,2472,22,2479,null,null,null,null,0,222,null,null,"% target"]
[21,2576,21,2590,22,2596,null,null,null,null,0,222,null,null,"CCRF"]
[21,2695,21,2697,22,2705,null,null,null,null,0,222,null,null,"% CCRf"]
[21,2805,21,2809,22,2824,null,null,null,null,0,222,null,null,"average response rate",{"$f":"F33/P20","v":124.55555555555556},{"$f":"(F59-F33)/Q20","v":123.26923076923077},{"$f":"(F86-F59)/R20","v":143.55555555555554},{"$f":"(F112-F86)/S20","v":170.88461538461539},{"$f":"(F139-F112)/T20","v":182.25925925925927},{"$f":"(F165-F139)/U20","v":159.61538461538461}]
[21,2919,21,2930,22,2936,null,null,null,null,0,222]
[21,3032,21,3035,22,3045,null,null,null,null,0,222]
[21,3141,21,3147,22,3155,null,null,null,null,0,222]
[21,3252,21,3254,22,3259,null,null,null,null,0,222]
[12,3353,23,3357,24,3363,null,null,null,null,0,122]
[12,3467,23,3471,24,3478,null,null,null,null,0,122]
[12,3570,23,3575,13,3581,null,null,null,null,0,121]
[21,3773,12,3781,24,3795,null,null,null,null,0,212]
[21,3894,21,3900,22,3905,null,null,null,null,0,222]
[21,4001,12,4006,24,4012,null,null,null,null,0,212]
[21,4111,21,4113,22,4119,null,null,null,null,0,222]
[21,4212,21,4215,11,4223,null,null,null,null,0,221]
[21,4393,21,4407,22,4415,null,null,null,null,0,222]
[21,4512,21,4521,11,4525,null,null,null,null,0,221]
[21,4725,21,4731,22,4735,null,null,null,null,0,222]
[21,4832,21,4837,11,4841,null,null,null,null,0,221]
[21,4973,21,4982,22,4990,null,null,null,null,0,222]
[21,5086,12,5095,24,5104,null,null,null,null,0,212]
[21,5199,12,5203,24,5208,null,null,null,null,0,212]
[12,5301,23,5307,24,5311,null,null,null,null,0,122]
[21,5410,21,5419,22,5425,null,null,null,null,0,222]
[21,5522,21,5531,22,5536,null,null,null,null,0,222]
[21,5631,21,5638,22,5644,null,null,null,null,0,222]
[21,5742,21,5744,22,5751,null,null,null,null,0,222]
[21,5848,21,5865,11,5872,null,null,null,null,0,221]
[21,6003,21,6014,22,6022,null,null,null,null,0,222]
[12,6122,23,6124,24,6135,null,null,null,null,0,122]
[21,6234,12,6240,24,6246,null,null,null,null,0,212]
[21,6342,21,6348,22,6355,null,null,null,null,0,222]
[21,6453,21,6459,22,6464,null,null,null,null,0,222]
[21,6560,21,6563,22,6568,null,null,null,null,0,222]
[21,6667,21,6676,22,6683,null,null,null,null,0,222]
[21,6775,21,6781,22,6787,null,null,null,null,0,222]
[21,6883,21,6892,22,6898,null,null,null,null,0,222]
[21,6995,21,7004,22,7009,null,null,null,null,0,222]
[12,7103,23,7106,13,7111,null,null,null,null,0,121]
[21,7204,12,7211,24,7225,null,null,null,null,0,212]
[21,7321,21,7327,11,7331,null,null,null,null,0,221]
[21,7598,21,7604,22,7612,null,null,null,null,0,222]
[21,7704,12,7708,24,7720,null,null,null,null,0,212]
[21,7816,21,7819,11,7823,null,null,null,null,0,221]
[21,8359,12,8369,24,8378,null,null,null,null,0,212]
[21,8474,21,8477,11,8484,null,null,null,null,0,221]
[21,8611,21,8622,22,8629,null,null,null,null,0,222]
[21,8727,21,8731,22,8741,null,null,null,null,0,222]
[21,8837,12,8843,24,8847,null,null,null,null,0,212]
[21,8941,21,8945,11,8948,null,null,null,null,0,221]
[21,9058,21,9064,11,9069,null,null,null,null,0,221]
[12,9467,23,9476,24,9484,null,null,null,null,0,122]
[21,9579,12,9586,24,9593,null,null,null,null,0,212]
[21,9691,21,9697,22,9705,null,null,null,null,0,222]
[12,9798,23,9801,24,9804,null,null,null,null,0,122]
[21,9902,21,9913,22,9920,null,null,null,null,0,222]
[21,10013,21,10019,22,10025,null,null,null,null,0,222]
[21,10121,12,10131,24,10133,null,null,null,null,0,212]
[21,10230,21,10234,22,10244,null,null,null,null,0,222]
[12,10336,23,10339,13,10345,null,null,null,null,0,121]
[21,10438,21,10440,11,10444,null,null,null,null,0,221]
[21,10570,21,10576,22,10583,null,null,null,null,0,222]
[21,10696,12,10707,24,10712,null,null,null,null,0,212]
[21,10807,12,10814,24,10825,null,null,null,null,0,212]
[21,10921,21,10929,11,10934,null,null,null,null,0,221]
[21,11480,21,11487,22,11492,null,null,null,null,0,222]
[21,11588,12,11596,24,11604,null,null,null,null,0,212]
[21,11697,21,11701,22,11705,null,null,null,null,0,222]
[21,11801,21,11806,22,11811,null,null,null,null,0,222]
[21,11909,21,11919,11,11923,null,null,null,null,0,221]
[21,12138,21,12142,11,12145,null,null,null,null,0,221]
[21,12591,21,12597,22,12604,null,null,null,null,0,222]
[12,12698,23,12708,24,12714,null,null,null,null,0,122]
[12,12806,23,12810,13,12819,null,null,null,null,0,121]
[21,12917,12,12924,24,12931,null,null,null,null,0,212]
[21,13029,12,13031,13,13033,null,null,null,null,0,211]
[21,13130,21,13136,11,13141,null,null,null,null,0,221]
[21,13299,21,13309,11,13312,null,null,null,null,0,221]
[21,13817,12,13835,24,13844,null,null,null,null,0,212]
[21,13941,12,13945,24,13950,null,null,null,null,0,212]
[21,14049,21,14052,22,14056,null,null,null,null,0,222]
[21,14149,21,14153,11,14156,null,null,null,null,0,221]
[21,14276,21,14286,22,14292,null,null,null,null,0,222]
[21,14487,21,14493,22,14501,null,null,null,null,0,222]
[21,14597,21,14606,11,14613,null,null,null,null,0,221]
[21,14764,21,14771,22,14778,null,null,null,null,0,222]
[21,14875,21,14881,22,14887,null,null,null,null,0,222]
[12,14980,23,14983,13,14990,null,null,null,null,0,121]
[21,15086,12,15096,24,15098,null,null,null,null,0,212]
[21,15194,21,15198,22,15202,null,null,null,null,0,222]
[12,15295,23,15298,13,15303,null,null,null,null,0,121]
[21,15399,21,15411,11,15415,null,null,null,null,0,221]
[21,15597,21,15603,11,15605,null,null,null,null,0,221]
[21,16468,21,16474,22,16480,null,null,null,null,0,222]
[21,16580,21,16584,22,16589,null,null,null,null,0,222]
[21,16685,21,16691,22,16699,null,null,null,null,0,222]
[21,16856,21,16862,22,16868,null,null,null,null,0,222]
[21,16964,12,16974,24,16980,null,null,null,null,0,212]
[21,17077,12,17083,24,17090,null,null,null,null,0,212]
[21,17186,12,17192,24,17195,null,null,null,null,0,212]
[21,17286,21,17293,22,17300,null,null,null,null,0,222]
[21,17392,21,17394,22,17399,null,null,null,null,0,222]
[21,17497,21,17504,22,17509,null,null,null,null,0,222]
[12,17602,14,17608,24,17611,null,null,null,null,0,112]
[21,17768,21,17782,11,17786,null,null,null,null,0,221]
[21,18239,21,18246,22,18257,null,null,null,null,0,222]
[21,18354,21,18358,22,18364,null,null,null,null,0,222]
[21,18463,21,18471,11,18474,null,null,null,null,0,221]
[21,18943,21,18948,11,18952,null,null,null,null,0,221]
[21,19366,21,19375,22,19378,null,null,null,null,0,222]
[21,19475,12,19482,24,19484,null,null,null,null,0,212]
[21,19581,21,19585,22,19598,null,null,null,null,0,222]
[21,19694,21,19701,22,19706,null,null,null,null,0,222]
[12,19798,23,19802,13,19808,null,null,null,null,0,121]
[21,19904,21,19913,11,19917,null,null,null,null,0,221]
[21,20097,21,20107,22,20114,null,null,null,null,0,222]
[21,20209,12,20219,24,20222,null,null,null,null,0,212]
[21,20319,12,20325,24,20327,null,null,null,null,0,212]
[21,20422,12,20432,24,20438,null,null,null,null,0,212]
[21,20551,21,20558,22,20564,null,null,null,null,0,222]
[21,20660,12,20665,24,20674,null,null,null,null,0,212]
[21,20771,21,20774,11,20776,null,null,null,null,0,221]
[21,20988,21,20995,11,21001,null,null,null,null,0,221]
[21,21580,12,21592,24,21594,null,null,null,null,0,212]
[21,21690,12,21700,24,21705,null,null,null,null,0,212]
[21,21797,21,21803,22,21814,null,null,null,null,0,222]
[21,21911,21,21915,22,21917,null,null,null,null,0,222]
[21,22013,21,22020,11,22021,null,null,null,null,0,221]
[21,22148,21,22161,11,22166,null,null,null,null,0,221]
[21,22653,21,22659,22,22666,null,null,null,null,0,222]
[21,22758,12,22766,24,22771,null,null,null,null,0,212]
[21,22866,12,22875,24,22886,null,null,null,null,0,212]
[21,22982,21,22986,22,22992,null,null,null,null,0,222]
[21,23087,12,23095,24,23101,null,null,null,null,0,212]
[21,23197,21,23202,22,23208,null,null,null,null,0,222]
[21,23301,21,23305,11,23310,null,null,null,null,0,221]
[21,23628,21,23631,22,23637,null,null,null,null,0,222]
[21,23734,12,23739,24,23742,null,null,null,null,0,212]
[21,23840,12,23844,24,23849,null,null,null,null,0,212]
[21,23944,12,23952,24,23958,null,null,null,null,null,212]

{"sheet":"!MA17B10.Gus","index":25,"n_rows":159,"n_cols":48,"rows_kept":159,"cut":false,"hidden":false,"merged":[[4,39,4,42],[5,39,5,40],[4,44,4,47],[5,44,5,45],[4,24,4,27],[5,24,5,25],[4,29,4,32],[5,29,5,30],[4,34,4,37],[5,34,5,35],[1,1,1,2],[5,13,5,14],[18,13,18,14],[19,13,19,14],[4,19,4,22],[5,19,5,20]]}
["Report for:!MA17B10.Gus"]
["Date:","<date>"]
["Hen:","<hen>",null,null,null,"Correct Sequence",{"$f":"Start!J2","v":221},null,null,null,null,null,null,null,null,"Total Sequences in Data",{"$f":"4994-COUNTBLANK(L7:L5000)","v":153},null,null,null,null,"Total Sequences in Block Data",{"$f":"COUNTA(L7:L32)","v":26},null,null,null,"Total Sequences in Block Data",{"$f":"COUNTA(L33:L57)","v":25},null,null,null,"Total Sequences in Block Data",{"$f":"COUNTA(L58:L83)","v":26},null,null,null,"Total Sequences in Block Data",{"$f":"COUNTA(L84:L108)","v":25},null,null,null,"Total Sequences in Block Data",{"$f":"COUNTA(L109:L134)","v":26},null,null,null,"Total Sequences in Block Data",{"$f":"COUNTA(L135:L159)","v":25}]
[null,null,null,null,null,null,null,null,null,null,null,null,null,null,null,"Total Sequences in Summary",{"$f":"SUM(O7:O14)","v":153},null,null,null,null,"Total Sequences in Block Summary",{"$f":"SUM(U7:U14)","v":26},null,null,null,"Total Sequences in Block Summary",{"$f":"SUM(Z7:Z14)","v":25},null,null,null,"Total Sequences in Block Summary",{"$f":"SUM(AE7:AE14)","v":26},null,null,null,"Total Sequences in Block Summary",{"$f":"SUM(AJ7:AJ14)","v":25},null,null,null,"Total Sequences in Block Summary",{"$f":"SUM(AO7:AO14)","v":26},null,null,null,"Total Sequences in Block Summary",{"$f":"SUM(AT7:AT14)","v":25}]
[null,null,null,null,null,null,null,null,null,null,null,null,null,null,null,null,null,null,null,"Block 1",null,null,null,null,"Block 2",null,null,null,null,"Block 3",null,null,null,null,"Block 4",null,null,null,null,"Block 5",null,null,null,null,"Block 6"]
["Sequence\nComponent\n1","Time\n1","Sequence\nComponent\n2","Time\n2","Sequence\nComponent\n3","Time\n3","Sequence\nComponent\n4","Time\n4","Sequence\nComponent\n5","Time\n5","Correct?\n0=No 1=Yes","Sequence",null,"Frequency",null,"Relative Frequency","Variability",null,null,"Frequency",null,"Relative Frequency","Variability",null,"Frequency",null,"Relative Frequency","Variability",null,"Frequency",null,"Relative Frequency","Variability",null,"Frequency",null,"Relative Frequency","Variability",null,"Frequency",null,"Relative Frequency","Variability",null,"Frequency",null,"Relative Frequency","Variability"]
[12,631,23,635,24,640,null,null,null,null,0,122,null,111,{"$f":"COUNTIF($L$7:$L$500,N7)","v":0},{"$f":"O7/$Q$4","v":0},{"$f":"IF(P7=0,0,(P7*((LOG(P7))/LOG(2))))","v":0},null,null,{"$f":"N7","v":111},{"$f":"COUNTIF(L7:L32,T7)","v":0},{"$f":"U7/(W4-U13)","v":0},{"$f":"IF(V7=0,0,(V7*((LOG(V7))/LOG(2))))","v":0},null,{"$f":"N7","v":111},{"$f":"COUNTIF(L33:L57,Y7)","v":0},{"$f":"Z7/(AB4-Z13)","v":0},{"$f":"IF(AA7=0,0,(AA7*((LOG(AA7))/LOG(2))))","v":0},null,{"$f":"N7","v":111},{"$f":"COUNTIF(L58:L83,AD7)","v":0},{"$f":"AE7/(AG4-AE13)","v":0},{"$f":"IF(AF7=0,0,(AF7*((LOG(AF7))/LOG(2))))","v":0},null,{"$f":"N7","v":111},{"$f":"COUNTIF(L84:L108,AI7)","v":0},{"$f":"AJ7/(AL4-AJ13)","v":0},{"$f":"IF(AK7=0,0,(AK7*((LOG(AK7))/LOG(2))))","v":0},null,{"$f":"N7","v":111},{"$f":"COUNTIF(L109:L134,AN7)","v":0},{"$f":"AO7/(AQ4-AO13)","v":0},{"$f":"IF(AP7=0,0,(AP7*((LOG(AP7))/LOG(2))))","v":0},null,{"$f":"N7","v":111},{"$f":"COUNTIF(L135:L159,AS7)","v":0},{"$f":"AT7/(AV4-AT13)","v":0},{"$f":"IF(AU7=0,0,(AU7*((LOG(AU7))/LOG(2))))","v":0}]
[21,783,21,797,22,805,null,null,null,null,0,222,null,112,{"$f":"COUNTIF($L$7:$L$500,N8)","v":0},{"$f":"O8/$Q$4","v":0},{"$f":"IF(P8=0,0,(P8*((LOG(P8))/LOG(2))))","v":0},null,null,{"$f":"N8","v":112},{"$f":"COUNTIF(L7:L32,T8)","v":0},{"$f":"U8/(W4-U13)","v":0},{"$f":"IF(V8=0,0,(V8*((LOG(V8))/LOG(2))))","v":0},null,{"$f":"N8","v":112},{"$f":"COUNTIF(L33:L57,Y8)","v":0},{"$f":"Z8/(AB4-Z13)","v":0},{"$f":"IF(AA8=0,0,(AA8*((LOG(AA8))/LOG(2))))","v":0},null,{"$f":"N8","v":112},{"$f":"COUNTIF(L58:L83,AD8)","v":0},{"$f":"AE8/(AG4-AE13)","v":0},{"$f":"IF(AF8=0,0,(AF8*((LOG(AF8))/LOG(2))))","v":0},null,{"$f":"N8","v":112},{"$f":"COUNTIF(L84:L108,AI8)","v":0},{"$f":"AJ8/(AL4-AJ13)","v":0},{"$f":"IF(AK8=0,0,(AK8*((LOG(AK8))/LOG(2))))","v":0},null,{"$f":"N8","v":112},{"$f":"COUNTIF(L109:L134,AN8)","v":0},{"$f":"AO8/(AQ4-AO13)","v":0},{"$f":"IF(AP8=0,0,(AP8*((LOG(AP8))/LOG(2))))","v":0},null,{"$f":"N8","v":112},{"$f":"COUNTIF(L135:L159,AS8)","v":0},{"$f":"AT8/(AV4-AT13)","v":0},{"$f":"IF(AU8=0,0,(AU8*((LOG(AU8))/LOG(2))))","v":0}]
[12,900,23,902,13,910,null,null,null,null,0,121,null,121,{"$f":"COUNTIF($L$7:$L$500,N9)","v":7},{"$f":"O9/$Q$4","v":4.5751633986928102E-2},{"$f":"IF(P9=0,0,(P9*((LOG(P9))/LOG(2))))","v":-0.20359627741467537},null,null,{"$f":"N9","v":121},{"$f":"COUNTIF(L7:L32,T9)","v":2},{"$f":"U9/(W4-U13)","v":0.1},{"$f":"IF(V9=0,0,(V9*((LOG(V9))/LOG(2))))","v":-0.33219280948873625},null,{"$f":"N9","v":121},{"$f":"COUNTIF(L33:L57,Y9)","v":2},{"$f":"Z9/(AB4-Z13)","v":9.0909090909090912E-2},{"$f":"IF(AA9=0,0,(AA9*((LOG(AA9))/LOG(2))))","v":-0.31449378351248153},null,{"$f":"N9","v":121},{"$f":"COUNTIF(L58:L83,AD9)","v":1},{"$f":"AE9/(AG4-AE13)","v":5.2631578947368418E-2},{"$f":"IF(AF9=0,0,(AF9*((LOG(AF9))/LOG(2))))","v":-0.22357513228650452},null,{"$f":"N9","v":121},{"$f":"COUNTIF(L84:L108,AI9)","v":1},{"$f":"AJ9/(AL4-AJ13)","v":7.6923076923076927E-2},{"$f":"IF(AK9=0,0,(AK9*((LOG(AK9))/LOG(2))))","v":-0.28464920908777636},null,{"$f":"N9","v":121},{"$f":"COUNTIF(L109:L134,AN9)","v":1},{"$f":"AO9/(AQ4-AO13)","v":4.5454545454545456E-2},{"$f":"IF(AP9=0,0,(AP9*((LOG(AP9))/LOG(2))))","v":-0.20270143721078623},null,{"$f":"N9","v":121},{"$f":"COUNTIF(L135:L159,AS9)","v":0},{"$f":"AT9/(AV4-AT13)","v":0},{"$f":"IF(AU9=0,0,(AU9*((LOG(AU9))/LOG(2))))","v":0}]
[21,1005,21,1013,22,1019,null,null,null,null,0,222,null,122,{"$f":"COUNTIF($L$7:$L$500,N10)","v":9},{"$f":"O10/$Q$4","v":5.8823529411764705E-2},{"$f":"IF(P10=0,0,(P10*((LOG(P10))/LOG(2))))","v":-0.24043899066178465},null,null,{"$f":"N10","v":122},{"$f":"COUNTIF(L7:L32,T10)","v":1},{"$f":"U10/(W4-U13)","v":0.05},{"$f":"IF(V10=0,0,(V10*((LOG(V10))/LOG(2))))","v":-0.21609640474436814},null,{"$f":"N10","v":122},{"$f":"COUNTIF(L33:L57,Y10)","v":4},{"$f":"Z10/(AB4-Z13)","v":0.18181818181818182},{"$f":"IF(AA10=0,0,(AA10*((LOG(AA10))/LOG(2))))","v":-0.44716938520678134},null,{"$f":"N10","v":122},{"$f":"COUNTIF(L58:L83,AD10)","v":0},{"$f":"AE10/(AG4-AE13)","v":0},{"$f":"IF(AF10=0,0,(AF10*((LOG(AF10))/LOG(2))))","v":0},null,{"$f":"N10","v":122},{"$f":"COUNTIF(L84:L108,AI10)","v":0},{"$f":"AJ10/(AL4-AJ13)","v":0},{"$f":"IF(AK10=0,0,(AK10*((LOG(AK10))/LOG(2))))","v":0},null,{"$f":"N10","v":122},{"$f":"COUNTIF(L109:L134,AN10)","v":4},{"$f":"AO10/(AQ4-AO13)","v":0.18181818181818182},{"$f":"IF(AP10=0,0,(AP10*((LOG(AP10))/LOG(2))))","v":-0.44716938520678134},null,{"$f":"N10","v":122},{"$f":"COUNTIF(L135:L159,AS10)","v":0},{"$f":"AT10/(AV4-AT13)","v":0},{"$f":"IF(AU10=0,0,(AU10*((LOG(AU10))/LOG(2))))","v":0}]
[21,1111,21,1118,22,1122,null,null,null,null,0,222,null,211,{"$f":"COUNTIF($L$7:$L$500,N11)","v":2},{"$f":"O11/$Q$4","v":1.3071895424836602E-2},{"$f":"IF(P11=0,0,(P11*((LOG(P11))/LOG(2))))","v":-8.1795919512322249E-2},null,null,{"$f":"N11","v":211},{"$f":"COUNTIF(L7:L32,T11)","v":1},{"$f":"U11/(W4-U13)","v":0.05},{"$f":"IF(V11=0,0,(V11*((LOG(V11))/LOG(2))))","v":-0.21609640474436814},null,{"$f":"N11","v":211},{"$f":"COUNTIF(L33:L57,Y11)","v":1},{"$f":"Z11/(AB4-Z13)","v":4.5454545454545456E-2},{"$f":"IF(AA11=0,0,(AA11*((LOG(AA11))/LOG(2))))","v":-0.20270143721078623},null,{"$f":"N11","v":211},{"$f":"COUNTIF(L58:L83,AD11)","v":0},{"$f":"AE11/(AG4-AE13)","v":0},{"$f":"IF(AF11=0,0,(AF11*((LOG(AF11))/LOG(2))))","v":0},null,{"$f":"N11","v":211},{"$f":"COUNTIF(L84:L108,AI11)","v":0},{"$f":"AJ11/(AL4-AJ13)","v":0},{"$f":"IF(AK11=0,0,(AK11*((LOG(AK11))/LOG(2))))","v":0},null,{"$f":"N11","v":211},{"$f":"COUNTIF(L109:L134,AN11)","v":0},{"$f":"AO11/(AQ4-AO13)","v":0},{"$f":"IF(AP11=0,0,(AP11*((LOG(AP11))/LOG(2))))","v":0},null,{"$f":"N11","v":211},{"$f":"COUNTIF(L135:L159,AS11)","v":0},{"$f":"AT11/(AV4-AT13)","v":0},{"$f":"IF(AU11=0,0,(AU11*((LOG(AU11))/LOG(2))))","v":0}]
[21,1218,21,1224,11,1226,null,null,null,null,0,221,null,212,{"$f":"COUNTIF($L$7:$L$500,N12)","v":36},{"$f":"O12/$Q$4","v":0.23529411764705882},{"$f":"IF(P12=0,0,(P12*((LOG(P12))/LOG(2))))","v":-0.49116772735302094},null,null,{"$f":"N12","v":212},{"$f":"COUNTIF(L7:L32,T12)","v":4},{"$f":"U12/(W4-U13)","v":0.2},{"$f":"IF(V12=0,0,(V12*((LOG(V12))/LOG(2))))","v":-0.46438561897747244},null,{"$f":"N12","v":212},{"$f":"COUNTIF(L33:L57,Y12)","v":7},{"$f":"Z12/(AB4-Z13)","v":0.31818181818181818},{"$f":"IF(AA12=0,0,(AA12*((LOG(AA12))/LOG(2))))","v":-0.52566076709353871},null,{"$f":"N12","v":212},{"$f":"COUNTIF(L58:L83,AD12)","v":8},{"$f":"AE12/(AG4-AE13)","v":0.42105263157894735},{"$f":"IF(AF12=0,0,(AF12*((LOG(AF12))/LOG(2))))","v":-0.52544316355519383},null,{"$f":"N12","v":212},{"$f":"COUNTIF(L84:L108,AI12)","v":4},{"$f":"AJ12/(AL4-AJ13)","v":0.30769230769230771},{"$f":"IF(AK12=0,0,(AK12*((LOG(AK12))/LOG(2))))","v":-0.52321222096648989},null,{"$f":"N12","v":212},{"$f":"COUNTIF(L109:L134,AN12)","v":6},{"$f":"AO12/(AQ4-AO13)","v":0.27272727272727271},{"$f":"IF(AP12=0,0,(AP12*((LOG(AP12))/LOG(2))))","v":-0.51121885034076575},null,{"$f":"N12","v":212},{"$f":"COUNTIF(L135:L159,AS12)","v":7},{"$f":"AT12/(AV4-AT13)","v":0.3888888888888889},{"$f":"IF(AU12=0,0,(AU12*((LOG(AU12))/LOG(2))))","v":-0.52988836420516428}]
[21,1383,21,1388,22,1399,null,null,null,null,0,222,null,221,{"$f":"COUNTIF($L$7:$L$500,N13)","v":39},{"$f":"O13/$Q$4","v":0.25490196078431371},{"$f":"IF(P13=0,0,(P13*((LOG(P13))/LOG(2))))","v":-0.50266300215284798},null,null,{"$f":"N13","v":221},{"$f":"COUNTIF(L7:L32,T13)","v":6},null,null,null,{"$f":"N13","v":221},{"$f":"COUNTIF(L33:L57,Y13)","v":3},null,null,null,{"$f":"N13","v":221},{"$f":"COUNTIF(L58:L83,AD13)","v":7},null,null,null,{"$f":"N13","v":221},{"$f":"COUNTIF(L84:L108,AI13)","v":12},null,null,null,{"$f":"N13","v":221},{"$f":"COUNTIF(L109:L134,AN13)","v":4},null,null,null,{"$f":"N13","v":221},{"$f":"COUNTIF(L135:L159,AS13)","v":7}]
[21,1495,12,1499,24,1506,null,null,null,null,0,212,null,222,{"$f":"COUNTIF($L$7:$L$500,N14)","v":60},{"$f":"O14/$Q$4","v":0.39215686274509803},{"$f":"IF(P14=0,0,(P14*((LOG(P14))/LOG(2))))","v":-0.52960676356240521},null,null,{"$f":"N14","v":222},{"$f":"COUNTIF(L7:L32,T14)","v":12},{"$f":"U14/(W4-U13)","v":0.6},{"$f":"IF(V14=0,0,(V14*((LOG(V14))/LOG(2))))","v":-0.44217935649972373},null,{"$f":"N14","v":222},{"$f":"COUNTIF(L33:L57,Y14)","v":8},{"$f":"Z14/(AB4-Z13)","v":0.36363636363636365},{"$f":"IF(AA14=0,0,(AA14*((LOG(AA14))/LOG(2))))","v":-0.53070240677719893},null,{"$f":"N14","v":222},{"$f":"COUNTIF(L58:L83,AD14)","v":10},{"$f":"AE14/(AG4-AE13)","v":0.52631578947368418},{"$f":"IF(AF14=0,0,(AF14*((LOG(AF14))/LOG(2))))","v":-0.4873681150295911},null,{"$f":"N14","v":222},{"$f":"COUNTIF(L84:L108,AI14)","v":8},{"$f":"AJ14/(AL4-AJ13)","v":0.61538461538461542},{"$f":"IF(AK14=0,0,(AK14*((LOG(AK14))/LOG(2))))","v":-0.43103982654836437},null,{"$f":"N14","v":222},{"$f":"COUNTIF(L109:L134,AN14)","v":11},{"$f":"AO14/(AQ4-AO13)","v":0.5},{"$f":"IF(AP14=0,0,(AP14*((LOG(AP14))/LOG(2))))","v":-0.5},null,{"$f":"N14","v":222},{"$f":"COUNTIF(L135:L159,AS14)","v":11},{"$f":"AT14/(AV4-AT13)","v":0.61111111111111116},{"$f":"IF(AU14=0,0,(AU14*((LOG(AU14))/LOG(2))))","v":-0.43419040060306474}]
[21,1603,21,1609,11,1619,null,null,null,null,0,221,null,null,null,{"$f":"SUM(P7:P14)","v":1},{"$f":"-SUM(Q7:Q14)","v":2.0492686806570566},null,null,null,null,{"$f":"SUM(V7:V14)","v":1},{"$f":"-SUM(W7:W14)","v":1.6709505944546685},null,null,null,{"$f":"SUM(AA7:AA14)","v":1},{"$f":"-SUM(AB7:AB14)","v":2.0207277798007865},null,null,null,{"$f":"SUM(AF7:AF14)","v":1},{"$f":"-SUM(AG7:AG14)","v":1.2363864108712894},null,null,null,{"$f":"SUM(AK7:AK14)","v":1},{"$f":"-SUM(AL7:AL14)","v":1.2389012566026305},null,null,null,{"$f":"SUM(AP7:AP14)","v":1},{"$f":"-SUM(AQ7:AQ14)","v":1.6610896727583333},null,null,null,{"$f":"SUM(AU7:AU14)","v":1},{"$f":"-SUM(AV7:AV14)","v":0.96407876480822896}]
[21,1777,21,1780,22,1786,null,null,null,null,0,222,null,null,null,"U=",{"$f":"Q15/(LOG(Q4)/LOG(2))","v":0.28237001040538745},null,null,null,null,"U1=",{"$f":"W15/(LOG(W4)/LOG(2))","v":0.35548814465287693},null,null,null,"U2=",{"$f":"AB15/(LOG(AB4)/LOG(2))","v":0.435140042503946},null,null,null,"U3=",{"$f":"AG15/(LOG(AG4)/LOG(2))","v":0.26303632957987383},null,null,null,"U4=",{"$f":"AL15/(LOG(AL4)/LOG(2))","v":0.2667828644932112},null,null,null,"U5=",{"$f":"AQ15/(LOG(AQ4)/LOG(2))","v":0.35339027247758287},null,null,null,"U6=",{"$f":"AV15/(LOG(AV4)/LOG(2))","v":0.20760306206962811}]
[21,1884,21,1897,11,1904,null,null,null,null,0,221]
[21,2111,21,2113,22,2121,null,null,null,null,0,222]
[21,2217,21,2221,22,2226,null,null,null,null,0,222,null,"Total Target Seq"]
[21,2323,12,2327,24,2332,null,null,null,null,0,212,null,{"$f":"COUNTIF(L7:L159,G3)","v":39},null,26,25,26,25,26,25]
[21,2429,21,2436,22,2440,null,null,null,null,0,222,null,null,null,"% of reinforcement given in 6 equal intervals based on number of trials "]
[12,2532,23,2537,13,2543,null,null,null,null,0,121,null,null,null,"%_1","%_2","%_3","%_4","%_5","%_6"]
[21,2639,12,2645,24,2654,null,null,null,null,0,212,null,null,"target sequence",{"$f":"$G$3","v":221},{"$f":"$G$3","v":221},{"$f":"$G$3","v":221},{"$f":"$G$3","v":221},{"$f":"$G$3","v":221},{"$f":"$G$3","v":221}]
[21,2750,21,2757,11,2759,null,null,null,null,0,221,null,null,"total reinforcement",{"$f":"U13","v":6},{"$f":"Z13","v":3},{"$f":"AE13","v":7},{"$f":"AJ13","v":12},{"$f":"AO13","v":4},{"$f":"AT13","v":7}]
[21,2974,21,2980,11,2989,null,null,null,null,0,221,null,null,"% target"]
[21,3207,21,3220,22,3230,null,null,null,null,0,222,null,null,"CCRF"]
[21,3322,21,3336,22,3341,null,null,null,null,0,222,null,null,"% CCRf"]
[21,3437,12,3443,24,3451,null,null,null,null,0,212,null,null,"average response rate",{"$f":"F32/P20","v":150.23076923076923},{"$f":"(F57-F32)/Q20","v":113.72},{"$f":"(F83-F57)/R20","v":191.11538461538461},{"$f":"(F108-F83)/S20","v":175.04},{"$f":"(F134-F108)/T20","v":139.57692307692307},{"$f":"(F159-F134)/U20","v":171.08}]
[21,3546,12,3553,13,3561,null,null,null,null,0,211]
[21,3658,21,3662,22,3669,null,null,null,null,0,222]
[21,3765,21,3774,11,3778,null,null,null,null,0,221]
[21,3894,21,3897,22,3906,null,null,null,null,0,222]
[12,3998,23,4003,13,4009,null,null,null,null,0,121]
[21,4105,21,4110,11,4114,null,null,null,null,0,221]
[21,4306,21,4313,22,4320,null,null,null,null,0,222]
[12,4412,23,4417,24,4426,null,null,null,null,0,122]
[21,4522,21,4527,11,4534,null,null,null,null,0,221]
[21,4692,21,4707,22,4713,null,null,null,null,0,222]
[12,4808,23,4812,24,4818,null,null,null,null,0,122]
[21,4914,12,4919,24,4923,null,null,null,null,0,212]
[21,5018,21,5023,22,5027,null,null,null,null,0,222]
[21,5125,12,5129,24,5133,null,null,null,null,0,212]
[21,5225,21,5229,22,5237,null,null,null,null,0,222]
[21,5329,12,5335,24,5338,null,null,null,null,0,212]
[21,5435,12,5438,24,5447,null,null,null,null,0,212]
[12,5541,23,5545,13,5552,null,null,null,null,0,121]
[21,5649,21,5654,22,5659,null,null,null,null,0,222]
[21,5755,12,5760,13,5762,null,null,null,null,0,211]
[21,5860,21,5864,22,5869,null,null,null,null,0,222]
[21,5966,12,5970,24,5977,null,null,null,null,0,212]
[21,6074,12,6079,24,6082,null,null,null,null,0,212]
[21,6181,12,6185,24,6192,null,null,null,null,0,212]
[21,6289,21,6295,22,6300,null,null,null,null,0,222]
[12,6393,23,6396,24,6404,null,null,null,null,0,122]
[21,6500,21,6508,11,6512,null,null,null,null,0,221]
[21,6637,21,6644,22,6649,null,null,null,null,0,222]
[12,6742,23,6744,24,6749,null,null,null,null,0,122]
[21,6847,21,6852,11,6854,null,null,null,null,0,221]
[21,7438,21,7443,22,7450,null,null,null,null,0,222]
[21,7545,21,7557,11,7561,null,null,null,null,0,221]
[21,7713,12,7721,24,7726,null,null,null,null,0,212]
[21,7822,12,7831,24,7834,null,null,null,null,0,212]
[21,7930,12,7935,24,7938,null,null,null,null,0,212]
[21,8035,21,8039,22,8045,null,null,null,null,0,222]
[12,8137,23,8141,13,8146,null,null,null,null,0,121]
[21,8243,21,8251,11,8253,null,null,null,null,0,221]
[21,8532,21,8537,22,8541,null,null,null,null,0,222]
[21,8634,12,8636,24,8642,null,null,null,null,0,212]
[21,8734,21,8740,22,8743,null,null,null,null,0,222]
[21,8838,21,8847,22,8852,null,null,null,null,0,222]
[21,8948,12,8954,24,8959,null,null,null,null,0,212]
[21,9057,21,9060,22,9065,null,null,null,null,0,222]
[21,9175,12,9183,24,9188,null,null,null,null,0,212]
[21,9284,12,9293,24,9301,null,null,null,null,0,212]
[21,9399,21,9405,11,9407,null,null,null,null,0,221]
[21,10091,12,10102,24,10107,null,null,null,null,0,212]
[21,10209,21,10219,22,10227,null,null,null,null,0,222]
[21,10323,21,10330,11,10335,null,null,null,null,0,221]
[21,10575,21,10584,11,10587,null,null,null,null,0,221]
[21,11242,21,11247,11,11249,null,null,null,null,0,221]
[21,11478,21,11491,22,11498,null,null,null,null,0,222]
[21,11594,21,11598,22,11605,null,null,null,null,0,222]
[21,11703,21,11711,22,11718,null,null,null,null,0,222]
[21,11813,21,11823,11,11826,null,null,null,null,0,221]
[21,12020,21,12034,22,12040,null,null,null,null,0,222]
[21,12136,21,12143,22,12150,null,null,null,null,0,222]
[21,12244,21,12255,11,12257,null,null,null,null,0,221]
[21,12609,12,12610,24,12618,null,null,null,null,0,212]
[21,12720,12,12727,24,12735,null,null,null,null,0,212]
[21,12832,21,12840,11,12844,null,null,null,null,0,221]
[21,13043,21,13053,22,13059,null,null,null,null,0,222]
[21,13175,12,13178,24,13182,null,null,null,null,0,212]
[21,13278,21,13282,11,13286,null,null,null,null,0,221]
[21,13429,21,13441,22,13446,null,null,null,null,0,222]
[12,13538,23,13542,13,13546,null,null,null,null,0,121]
[21,13644,21,13653,11,13661,null,null,null,null,0,221]
[21,13859,21,13866,22,13874,null,null,null,null,0,222]
[21,13967,21,13972,11,13979,null,null,null,null,0,221]
[21,14406,21,14412,11,14419,null,null,null,null,0,221]
[21,14524,21,14531,11,14534,null,null,null,null,0,221]
[21,14870,21,14873,22,14880,null,null,null,null,0,222]
[21,14971,21,14978,11,14984,null,null,null,null,0,221]
[21,15268,21,15272,22,15278,null,null,null,null,0,222]
[21,15370,21,15374,11,15376,null,null,null,null,0,221]
[21,15736,21,15753,11,15756,null,null,null,null,0,221]
[21,15868,21,15875,22,15882,null,null,null,null,0,222]
[21,15975,12,15986,24,15989,null,null,null,null,0,212]
[21,16086,21,16091,11,16094,null,null,null,null,0,221]
[21,16355,12,16360,24,16369,null,null,null,null,0,212]
[21,16482,12,16490,24,16495,null,null,null,null,0,212]
[21,16592,21,16597,22,16604,null,null,null,null,0,222]
[21,16702,12,16711,24,16716,null,null,null,null,0,212]
[21,16809,21,16817,11,16819,null,null,null,null,0,221]
[21,16985,21,16991,11,16994,null,null,null,null,0,221]
[21,17415,12,17418,24,17422,null,null,null,null,0,212]
[21,17514,21,17519,22,17523,null,null,null,null,0,222]
[21,17619,21,17624,22,17630,null,null,null,null,0,222]
[21,17726,21,17736,22,17745,null,null,null,null,0,222]
[21,17840,21,17857,22,17863,null,null,null,null,0,222]
[21,17955,12,17964,24,17966,null,null,null,null,0,212]
[12,18058,23,18064,24,18067,null,null,null,null,0,122]
[12,18160,23,18163,24,18175,null,null,null,null,0,122]
[12,18269,23,18272,24,18278,null,null,null,null,0,122]
[21,18375,21,18385,11,18389,null,null,null,null,0,221]
[21,18704,21,18708,22,18714,null,null,null,null,0,222]
[21,18806,21,18811,22,18820,null,null,null,null,0,222]
[21,18917,21,18921,22,18926,null,null,null,null,0,222]
[21,19024,12,19035,24,19036,null,null,null,null,0,212]
[12,19130,23,19132,24,19139,null,null,null,null,0,122]
[12,19232,23,19235,13,19240,null,null,null,null,0,121]
[21,19337,21,19341,11,19344,null,null,null,null,0,221]
[21,19497,21,19502,22,19509,null,null,null,null,0,222]
[21,19604,21,19611,22,19616,null,null,null,null,0,222]
[21,19711,21,19718,22,19723,null,null,null,null,0,222]
[21,19820,21,19823,22,19831,null,null,null,null,0,222]
[21,19926,21,19939,11,19946,null,null,null,null,0,221]
[21,20263,21,20272,11,20278,null,null,null,null,0,221]
[21,20857,12,20864,24,20866,null,null,null,null,0,212]
[21,20961,21,20966,22,20973,null,null,null,null,0,222]
[21,21068,21,21072,22,21079,null,null,null,null,0,222]
[21,21176,21,21184,11,21186,null,null,null,null,0,221]
[21,21348,21,21360,22,21367,null,null,null,null,0,222]
[21,21462,12,21469,24,21480,null,null,null,null,0,212]
[21,21579,12,21585,24,21588,null,null,null,null,0,212]
[21,21685,12,21694,24,21696,null,null,null,null,0,212]
[21,21792,12,21800,24,21802,null,null,null,null,0,212]
[21,21899,21,21901,11,21908,null,null,null,null,0,221]
[21,22407,21,22413,11,22415,null,null,null,null,0,221]
[21,22707,21,22718,22,22728,null,null,null,null,0,222]
[21,22820,21,22827,22,22833,null,null,null,null,0,222]
[21,22927,21,22930,11,22936,null,null,null,null,0,221]
[21,23216,21,23223,22,23229,null,null,null,null,0,222]
[21,23325,21,23330,22,23336,null,null,null,null,0,222]
[21,23429,21,23434,22,23438,null,null,null,null,0,222]
[21,23533,21,23541,22,23546,null,null,null,null,0,222]
[21,23669,21,23675,22,23681,null,null,null,null,0,222]
[21,23774,12,23779,24,23783,null,null,null,null,0,212]
[21,23879,12,23890,24,23893,null,null,null,null,0,212]
[21,23989,21,23995,11,24000,null,null,null,null,1,221]

{"sheet":"!MA18A30.Gus","index":26,"n_rows":171,"n_cols":48,"rows_kept":171,"cut":false,"hidden":false,"merged":[[4,39,4,42],[5,39,5,40],[4,44,4,47],[5,44,5,45],[4,24,4,27],[5,24,5,25],[4,29,4,32],[5,29,5,30],[4,34,4,37],[5,34,5,35],[1,1,1,2],[5,13,5,14],[18,13,18,14],[19,13,19,14],[4,19,4,22],[5,19,5,20]]}
["Report for:!MA18A30.Gus"]
["Date:","<date>"]
["Hen:","<hen>",null,null,null,"Correct Sequence",{"$f":"Start!J2","v":221},null,null,null,null,null,null,null,null,"Total Sequences in Data",{"$f":"4994-COUNTBLANK(L7:L5000)","v":165},null,null,null,null,"Total Sequences in Block Data",{"$f":"COUNTA(L7:L34)","v":28},null,null,null,"Total Sequences in Block Data",{"$f":"COUNTA(L35:L61)","v":27},null,null,null,"Total Sequences in Block Data",{"$f":"COUNTA(L62:L89)","v":28},null,null,null,"Total Sequences in Block Data",{"$f":"COUNTA(L90:L116)","v":27},null,null,null,"Total Sequences in Block Data",{"$f":"COUNTA(L117:L144)","v":28},null,null,null,"Total Sequences in Block Data",{"$f":"COUNTA(L145:L171)","v":27}]
[null,null,null,null,null,null,null,null,null,null,null,null,null,null,null,"Total Sequences in Summary",{"$f":"SUM(O7:O14)","v":165},null,null,null,null,"Total Sequences in Block Summary",{"$f":"SUM(U7:U14)","v":28},null,null,null,"Total Sequences in Block Summary",{"$f":"SUM(Z7:Z14)","v":27},null,null,null,"Total Sequences in Block Summary",{"$f":"SUM(AE7:AE14)","v":28},null,null,null,"Total Sequences in Block Summary",{"$f":"SUM(AJ7:AJ14)","v":27},null,null,null,"Total Sequences in Block Summary",{"$f":"SUM(AO7:AO14)","v":28},null,null,null,"Total Sequences in Block Summary",{"$f":"SUM(AT7:AT14)","v":27}]
[null,null,null,null,null,null,null,null,null,null,null,null,null,null,null,null,null,null,null,"Block 1",null,null,null,null,"Block 2",null,null,null,null,"Block 3",null,null,null,null,"Block 4",null,null,null,null,"Block 5",null,null,null,null,"Block 6"]
["Sequence\nComponent\n1","Time\n1","Sequence\nComponent\n2","Time\n2","Sequence\nComponent\n3","Time\n3","Sequence\nComponent\n4","Time\n4","Sequence\nComponent\n5","Time\n5","Correct?\n0=No 1=Yes","Sequence",null,"Frequency",null,"Relative Frequency","Variability",null,null,"Frequency",null,"Relative Frequency","Variability",null,"Frequency",null,"Relative Frequency","Variability",null,"Frequency",null,"Relative Frequency","Variability",null,"Frequency",null,"Relative Frequency","Variability",null,"Frequency",null,"Relative Frequency","Variability",null,"Frequency",null,"Relative Frequency","Variability"]
[21,35,21,39,22,47,null,null,null,null,0,222,null,111,{"$f":"COUNTIF($L$7:$L$500,N7)","v":0},{"$f":"O7/$Q$4","v":0},{"$f":"IF(P7=0,0,(P7*((LOG(P7))/LOG(2))))","v":0},null,null,{"$f":"N7","v":111},{"$f":"COUNTIF(L7:L34,T7)","v":0},{"$f":"U7/(W4-U13)","v":0},{"$f":"IF(V7=0,0,(V7*((LOG(V7))/LOG(2))))","v":0},null,{"$f":"N7","v":111},{"$f":"COUNTIF(L35:L61,Y7)","v":0},{"$f":"Z7/(AB4-Z13)","v":0},{"$f":"IF(AA7=0,0,(AA7*((LOG(AA7))/LOG(2))))","v":0},null,{"$f":"N7","v":111},{"$f":"COUNTIF(L62:L89,AD7)","v":0},{"$f":"AE7/(AG4-AE13)","v":0},{"$f":"IF(AF7=0,0,(AF7*((LOG(AF7))/LOG(2))))","v":0},null,{"$f":"N7","v":111},{"$f":"COUNTIF(L90:L116,AI7)","v":0},{"$f":"AJ7/(AL4-AJ13)","v":0},{"$f":"IF(AK7=0,0,(AK7*((LOG(AK7))/LOG(2))))","v":0},null,{"$f":"N7","v":111},{"$f":"COUNTIF(L117:L144,AN7)","v":0},{"$f":"AO7/(AQ4-AO13)","v":0},{"$f":"IF(AP7=0,0,(AP7*((LOG(AP7))/LOG(2))))","v":0},null,{"$f":"N7","v":111},{"$f":"COUNTIF(L145:L171,AS7)","v":0},{"$f":"AT7/(AV4-AT13)","v":0},{"$f":"IF(AU7=0,0,(AU7*((LOG(AU7))/LOG(2))))","v":0}]
[21,146,21,154,22,160,null,null,null,null,0,222,null,112,{"$f":"COUNTIF($L$7:$L$500,N8)","v":1},{"$f":"O8/$Q$4","v":6.0606060606060606E-3},{"$f":"IF(P8=0,0,(P8*((LOG(P8))/LOG(2))))","v":-4.4644377056035252E-2},null,null,{"$f":"N8","v":112},{"$f":"COUNTIF(L7:L34,T8)","v":1},{"$f":"U8/(W4-U13)","v":4.3478260869565216E-2},{"$f":"IF(V8=0,0,(V8*((LOG(V8))/LOG(2))))","v":-0.19667660678508753},null,{"$f":"N8","v":112},{"$f":"COUNTIF(L35:L61,Y8)","v":0},{"$f":"Z8/(AB4-Z13)","v":0},{"$f":"IF(AA8=0,0,(AA8*((LOG(AA8))/LOG(2))))","v":0},null,{"$f":"N8","v":112},{"$f":"COUNTIF(L62:L89,AD8)","v":0},{"$f":"AE8/(AG4-AE13)","v":0},{"$f":"IF(AF8=0,0,(AF8*((LOG(AF8))/LOG(2))))","v":0},null,{"$f":"N8","v":112},{"$f":"COUNTIF(L90:L116,AI8)","v":0},{"$f":"AJ8/(AL4-AJ13)","v":0},{"$f":"IF(AK8=0,0,(AK8*((LOG(AK8))/LOG(2))))","v":0},null,{"$f":"N8","v":112},{"$f":"COUNTIF(L117:L144,AN8)","v":0},{"$f":"AO8/(AQ4-AO13)","v":0},{"$f":"IF(AP8=0,0,(AP8*((LOG(AP8))/LOG(2))))","v":0},null,{"$f":"N8","v":112},{"$f":"COUNTIF(L145:L171,AS8)","v":0},{"$f":"AT8/(AV4-AT13)","v":0},{"$f":"IF(AU8=0,0,(AU8*((LOG(AU8))/LOG(2))))","v":0}]
[21,255,21,261,22,267,null,null,null,null,0,222,null,121,{"$f":"COUNTIF($L$7:$L$500,N9)","v":8},{"$f":"O9/$Q$4","v":4.8484848484848485E-2},{"$f":"IF(P9=0,0,(P9*((LOG(P9))/LOG(2))))","v":-0.21170047099373654},null,null,{"$f":"N9","v":121},{"$f":"COUNTIF(L7:L34,T9)","v":2},{"$f":"U9/(W4-U13)","v":8.6956521739130432E-2},{"$f":"IF(V9=0,0,(V9*((LOG(V9))/LOG(2))))","v":-0.30639669183104457},null,{"$f":"N9","v":121},{"$f":"COUNTIF(L35:L61,Y9)","v":1},{"$f":"Z9/(AB4-Z13)","v":0.05},{"$f":"IF(AA9=0,0,(AA9*((LOG(AA9))/LOG(2))))","v":-0.21609640474436814},null,{"$f":"N9","v":121},{"$f":"COUNTIF(L62:L89,AD9)","v":1},{"$f":"AE9/(AG4-AE13)","v":4.1666666666666664E-2},{"$f":"IF(AF9=0,0,(AF9*((LOG(AF9))/LOG(2))))","v":-0.19104010419671485},null,{"$f":"N9","v":121},{"$f":"COUNTIF(L90:L116,AI9)","v":1},{"$f":"AJ9/(AL4-AJ13)","v":4.5454545454545456E-2},{"$f":"IF(AK9=0,0,(AK9*((LOG(AK9))/LOG(2))))","v":-0.20270143721078623},null,{"$f":"N9","v":121},{"$f":"COUNTIF(L117:L144,AN9)","v":0},{"$f":"AO9/(AQ4-AO13)","v":0},{"$f":"IF(AP9=0,0,(AP9*((LOG(AP9))/LOG(2))))","v":0},null,{"$f":"N9","v":121},{"$f":"COUNTIF(L145:L171,AS9)","v":3},{"$f":"AT9/(AV4-AT13)","v":0.13636363636363635},{"$f":"IF(AU9=0,0,(AU9*((LOG(AU9))/LOG(2))))","v":-0.39197306153401923}]
[12,360,14,362,24,367,null,null,null,null,0,112,null,122,{"$f":"COUNTIF($L$7:$L$500,N10)","v":9},{"$f":"O10/$Q$4","v":5.4545454545454543E-2},{"$f":"IF(P10=0,0,(P10*((LOG(P10))/LOG(2))))","v":-0.22889439342564566},null,null,{"$f":"N10","v":122},{"$f":"COUNTIF(L7:L34,T10)","v":1},{"$f":"U10/(W4-U13)","v":4.3478260869565216E-2},{"$f":"IF(V10=0,0,(V10*((LOG(V10))/LOG(2))))","v":-0.19667660678508753},null,{"$f":"N10","v":122},{"$f":"COUNTIF(L35:L61,Y10)","v":0},{"$f":"Z10/(AB4-Z13)","v":0},{"$f":"IF(AA10=0,0,(AA10*((LOG(AA10))/LOG(2))))","v":0},null,{"$f":"N10","v":122},{"$f":"COUNTIF(L62:L89,AD10)","v":2},{"$f":"AE10/(AG4-AE13)","v":8.3333333333333329E-2},{"$f":"IF(AF10=0,0,(AF10*((LOG(AF10))/LOG(2))))","v":-0.29874687506009634},null,{"$f":"N10","v":122},{"$f":"COUNTIF(L90:L116,AI10)","v":2},{"$f":"AJ10/(AL4-AJ13)","v":9.0909090909090912E-2},{"$f":"IF(AK10=0,0,(AK10*((LOG(AK10))/LOG(2))))","v":-0.31449378351248153},null,{"$f":"N10","v":122},{"$f":"COUNTIF(L117:L144,AN10)","v":1},{"$f":"AO10/(AQ4-AO13)","v":0.05},{"$f":"IF(AP10=0,0,(AP10*((LOG(AP10))/LOG(2))))","v":-0.21609640474436814},null,{"$f":"N10","v":122},{"$f":"COUNTIF(L145:L171,AS10)","v":3},{"$f":"AT10/(AV4-AT13)","v":0.13636363636363635},{"$f":"IF(AU10=0,0,(AU10*((LOG(AU10))/LOG(2))))","v":-0.39197306153401923}]
[21,467,21,472,11,477,null,null,null,null,0,221,null,211,{"$f":"COUNTIF($L$7:$L$500,N11)","v":3},{"$f":"O11/$Q$4","v":1.8181818181818181E-2},{"$f":"IF(P11=0,0,(P11*((LOG(P11))/LOG(2))))","v":-0.10511563115499381},null,null,{"$f":"N11","v":211},{"$f":"COUNTIF(L7:L34,T11)","v":0},{"$f":"U11/(W4-U13)","v":0},{"$f":"IF(V11=0,0,(V11*((LOG(V11))/LOG(2))))","v":0},null,{"$f":"N11","v":211},{"$f":"COUNTIF(L35:L61,Y11)","v":1},{"$f":"Z11/(AB4-Z13)","v":0.05},{"$f":"IF(AA11=0,0,(AA11*((LOG(AA11))/LOG(2))))","v":-0.21609640474436814},null,{"$f":"N11","v":211},{"$f":"COUNTIF(L62:L89,AD11)","v":1},{"$f":"AE11/(AG4-AE13)","v":4.1666666666666664E-2},{"$f":"IF(AF11=0,0,(AF11*((LOG(AF11))/LOG(2))))","v":-0.19104010419671485},null,{"$f":"N11","v":211},{"$f":"COUNTIF(L90:L116,AI11)","v":0},{"$f":"AJ11/(AL4-AJ13)","v":0},{"$f":"IF(AK11=0,0,(AK11*((LOG(AK11))/LOG(2))))","v":0},null,{"$f":"N11","v":211},{"$f":"COUNTIF(L117:L144,AN11)","v":1},{"$f":"AO11/(AQ4-AO13)","v":0.05},{"$f":"IF(AP11=0,0,(AP11*((LOG(AP11))/LOG(2))))","v":-0.21609640474436814},null,{"$f":"N11","v":211},{"$f":"COUNTIF(L145:L171,AS11)","v":0},{"$f":"AT11/(AV4-AT13)","v":0},{"$f":"IF(AU11=0,0,(AU11*((LOG(AU11))/LOG(2))))","v":0}]
[21,641,21,652,22,658,null,null,null,null,0,222,null,212,{"$f":"COUNTIF($L$7:$L$500,N12)","v":60},{"$f":"O12/$Q$4","v":0.36363636363636365},{"$f":"IF(P12=0,0,(P12*((LOG(P12))/LOG(2))))","v":-0.53070240677719893},null,null,{"$f":"N12","v":212},{"$f":"COUNTIF(L7:L34,T12)","v":8},{"$f":"U12/(W4-U13)","v":0.34782608695652173},{"$f":"IF(V12=0,0,(V12*((LOG(V12))/LOG(2))))","v":-0.52993459341113491},null,{"$f":"N12","v":212},{"$f":"COUNTIF(L35:L61,Y12)","v":11},{"$f":"Z12/(AB4-Z13)","v":0.55000000000000004},{"$f":"IF(AA12=0,0,(AA12*((LOG(AA12))/LOG(2))))","v":-0.47437306193753576},null,{"$f":"N12","v":212},{"$f":"COUNTIF(L62:L89,AD12)","v":12},{"$f":"AE12/(AG4-AE13)","v":0.5},{"$f":"IF(AF12=0,0,(AF12*((LOG(AF12))/LOG(2))))","v":-0.5},null,{"$f":"N12","v":212},{"$f":"COUNTIF(L90:L116,AI12)","v":13},{"$f":"AJ12/(AL4-AJ13)","v":0.59090909090909094},{"$f":"IF(AK12=0,0,(AK12*((LOG(AK12))/LOG(2))))","v":-0.4484952139295757},null,{"$f":"N12","v":212},{"$f":"COUNTIF(L117:L144,AN12)","v":9},{"$f":"AO12/(AQ4-AO13)","v":0.45},{"$f":"IF(AP12=0,0,(AP12*((LOG(AP12))/LOG(2))))","v":-0.51840139205027258},null,{"$f":"N12","v":212},{"$f":"COUNTIF(L145:L171,AS12)","v":7},{"$f":"AT12/(AV4-AT13)","v":0.31818181818181818},{"$f":"IF(AU12=0,0,(AU12*((LOG(AU12))/LOG(2))))","v":-0.52566076709353871}]
[21,757,12,762,24,766,null,null,null,null,0,212,null,221,{"$f":"COUNTIF($L$7:$L$500,N13)","v":34},{"$f":"O13/$Q$4","v":0.20606060606060606},{"$f":"IF(P13=0,0,(P13*((LOG(P13))/LOG(2))))","v":-0.46958314352634051},null,null,{"$f":"N13","v":221},{"$f":"COUNTIF(L7:L34,T13)","v":5},null,null,null,{"$f":"N13","v":221},{"$f":"COUNTIF(L35:L61,Y13)","v":7},null,null,null,{"$f":"N13","v":221},{"$f":"COUNTIF(L62:L89,AD13)","v":4},null,null,null,{"$f":"N13","v":221},{"$f":"COUNTIF(L90:L116,AI13)","v":5},null,null,null,{"$f":"N13","v":221},{"$f":"COUNTIF(L117:L144,AN13)","v":8},null,null,null,{"$f":"N13","v":221},{"$f":"COUNTIF(L145:L171,AS13)","v":5}]
[21,863,12,875,24,877,null,null,null,null,0,212,null,222,{"$f":"COUNTIF($L$7:$L$500,N14)","v":50},{"$f":"O14/$Q$4","v":0.30303030303030304},{"$f":"IF(P14=0,0,(P14*((LOG(P14))/LOG(2))))","v":-0.52195940135487617},null,null,{"$f":"N14","v":222},{"$f":"COUNTIF(L7:L34,T14)","v":11},{"$f":"U14/(W4-U13)","v":0.47826086956521741},{"$f":"IF(V14=0,0,(V14*((LOG(V14))/LOG(2))))","v":-0.5089319005050813},null,{"$f":"N14","v":222},{"$f":"COUNTIF(L35:L61,Y14)","v":7},{"$f":"Z14/(AB4-Z13)","v":0.35},{"$f":"IF(AA14=0,0,(AA14*((LOG(AA14))/LOG(2))))","v":-0.53010061049041535},null,{"$f":"N14","v":222},{"$f":"COUNTIF(L62:L89,AD14)","v":8},{"$f":"AE14/(AG4-AE13)","v":0.33333333333333331},{"$f":"IF(AF14=0,0,(AF14*((LOG(AF14))/LOG(2))))","v":-0.52832083357371862},null,{"$f":"N14","v":222},{"$f":"COUNTIF(L90:L116,AI14)","v":6},{"$f":"AJ14/(AL4-AJ13)","v":0.27272727272727271},{"$f":"IF(AK14=0,0,(AK14*((LOG(AK14))/LOG(2))))","v":-0.51121885034076575},null,{"$f":"N14","v":222},{"$f":"COUNTIF(L117:L144,AN14)","v":9},{"$f":"AO14/(AQ4-AO13)","v":0.45},{"$f":"IF(AP14=0,0,(AP14*((LOG(AP14))/LOG(2))))","v":-0.51840139205027258},null,{"$f":"N14","v":222},{"$f":"COUNTIF(L145:L171,AS14)","v":9},{"$f":"AT14/(AV4-AT13)","v":0.40909090909090912},{"$f":"IF(AU14=0,0,(AU14*((LOG(AU14))/LOG(2))))","v":-0.52752543430703935}]
[21,975,12,982,24,987,null,null,null,null,0,212,null,null,null,{"$f":"SUM(P7:P14)","v":1},{"$f":"-SUM(Q7:Q14)","v":2.1125998242888269},null,null,null,null,{"$f":"SUM(V7:V14)","v":1},{"$f":"-SUM(W7:W14)","v":1.7386163993174359},null,null,null,{"$f":"SUM(AA7:AA14)","v":1},{"$f":"-SUM(AB7:AB14)","v":1.4366664819166874},null,null,null,{"$f":"SUM(AF7:AF14)","v":1},{"$f":"-SUM(AG7:AG14)","v":1.7091479170272448},null,null,null,{"$f":"SUM(AK7:AK14)","v":1},{"$f":"-SUM(AL7:AL14)","v":1.4769092849936092},null,null,null,{"$f":"SUM(AP7:AP14)","v":1},{"$f":"-SUM(AQ7:AQ14)","v":1.4689955935892813},null,null,null,{"$f":"SUM(AU7:AU14)","v":1},{"$f":"-SUM(AV7:AV14)","v":1.8371323244686164}]
[21,1087,21,1092,22,1098,null,null,null,null,0,222,null,null,null,"U=",{"$f":"Q15/(LOG(Q4)/LOG(2))","v":0.2867916665664238},null,null,null,null,"U1=",{"$f":"W15/(LOG(W4)/LOG(2))","v":0.36165759081779797},null,null,null,"U2=",{"$f":"AB15/(LOG(AB4)/LOG(2))","v":0.3021452098000228},null,null,null,"U3=",{"$f":"AG15/(LOG(AG4)/LOG(2))","v":0.35552771633006652},null,null,null,"U4=",{"$f":"AL15/(LOG(AL4)/LOG(2))","v":0.31060867040947177},null,null,null,"U5=",{"$f":"AQ15/(LOG(AQ4)/LOG(2))","v":0.30557252738903956},null,null,null,"U6=",{"$f":"AV15/(LOG(AV4)/LOG(2))","v":0.38636714825171437}]
[21,1195,21,1209,11,1218,null,null,null,null,0,221]
[12,1308,23,1321,24,1334,null,null,null,null,0,122]
[21,1606,21,1627,22,1631,null,null,null,null,0,222,null,"Total Target Seq"]
[21,1727,12,1731,24,1738,null,null,null,null,0,212,null,{"$f":"COUNTIF(L7:L171,G3)","v":34},null,28,27,28,27,28,27]
[12,1832,23,1837,13,1846,null,null,null,null,0,121,null,null,null,"% of reinforcement given in 6 equal intervals based on number of trials "]
[21,1944,12,1950,24,1956,null,null,null,null,0,212,null,null,null,"%_1","%_2","%_3","%_4","%_5","%_6"]
[21,2055,12,2060,24,2065,null,null,null,null,0,212,null,null,"target sequence",{"$f":"$G$3","v":221},{"$f":"$G$3","v":221},{"$f":"$G$3","v":221},{"$f":"$G$3","v":221},{"$f":"$G$3","v":221},{"$f":"$G$3","v":221}]
[21,2163,21,2168,22,2173,null,null,null,null,0,222,null,null,"total reinforcement",{"$f":"U13","v":5},{"$f":"Z13","v":7},{"$f":"AE13","v":4},{"$f":"AJ13","v":5},{"$f":"AO13","v":8},{"$f":"AT13","v":5}]
[21,2266,21,2270,11,2277,null,null,null,null,0,221,null,null,"% target"]
[21,2369,21,2374,11,2380,null,null,null,null,0,221,null,null,"CCRF"]
[21,2667,12,2680,24,2692,null,null,null,null,0,212,null,null,"% CCRf"]
[21,2790,21,2794,22,2801,null,null,null,null,0,222,null,null,"average response rate",{"$f":"F34/P20","v":125.21428571428571},{"$f":"(F61-F34)/Q20","v":140.18518518518519},{"$f":"(F89-F61)/R20","v":137.67857142857142},{"$f":"(F116-F89)/S20","v":151.25925925925927},{"$f":"(F144-F116)/T20","v":164.32142857142858},{"$f":"(F171-F144)/U20","v":151.96296296296296}]
[21,2897,21,2904,22,2907,null,null,null,null,0,222]
[12,3000,23,3006,13,3010,null,null,null,null,0,121]
[21,3102,21,3107,22,3110,null,null,null,null,0,222]
[21,3210,21,3215,22,3220,null,null,null,null,0,222]
[21,3312,21,3317,11,3327,null,null,null,null,0,221]
[21,3497,12,3504,24,3506,null,null,null,null,0,212]
[21,3599,21,3600,11,3608,null,null,null,null,0,221]
[21,3909,21,3913,22,3925,null,null,null,null,0,222]
[21,4025,21,4029,22,4033,null,null,null,null,0,222]
[21,4130,21,4138,22,4144,null,null,null,null,0,222]
[21,4242,21,4247,11,4255,null,null,null,null,0,221]
[21,4380,21,4385,22,4389,null,null,null,null,0,222]
[21,4486,12,4491,24,4494,null,null,null,null,0,212]
[21,4592,12,4598,24,4604,null,null,null,null,0,212]
[21,4702,12,4706,24,4716,null,null,null,null,0,212]
[12,4810,23,4815,13,4818,null,null,null,null,0,121]
[21,4910,21,4917,11,4922,null,null,null,null,0,221]
[21,5147,21,5152,11,5157,null,null,null,null,0,221]
[21,5594,12,5600,13,5603,null,null,null,null,0,211]
[21,5700,21,5702,11,5705,null,null,null,null,0,221]
[21,5872,21,5878,22,5888,null,null,null,null,0,222]
[21,5986,12,5990,24,6002,null,null,null,null,0,212]
[21,6099,21,6107,22,6113,null,null,null,null,0,222]
[21,6211,12,6221,24,6225,null,null,null,null,0,212]
[21,6324,21,6330,22,6336,null,null,null,null,0,222]
[21,6434,21,6441,11,6443,null,null,null,null,0,221]
[21,6619,12,6628,24,6636,null,null,null,null,0,212]
[21,6733,12,6740,24,6742,null,null,null,null,0,212]
[21,6840,12,6847,24,6854,null,null,null,null,0,212]
[21,6951,21,6957,11,6959,null,null,null,null,0,221]
[21,7066,12,7070,24,7080,null,null,null,null,0,212]
[21,7178,12,7182,24,7188,null,null,null,null,0,212]
[21,7286,12,7289,24,7291,null,null,null,null,0,212]
[21,7391,12,7396,24,7403,null,null,null,null,0,212]
[21,7500,12,7510,24,7517,null,null,null,null,0,212]
[21,7614,12,7619,13,7621,null,null,null,null,0,211]
[21,7718,21,7724,22,7726,null,null,null,null,0,222]
[21,7823,12,7827,24,7834,null,null,null,null,0,212]
[21,7931,21,7939,11,7940,null,null,null,null,0,221]
[21,8112,21,8119,11,8123,null,null,null,null,0,221]
[21,8739,21,8745,22,8751,null,null,null,null,0,222]
[21,8847,21,8851,22,8856,null,null,null,null,0,222]
[21,8953,21,8956,22,8960,null,null,null,null,0,222]
[21,9056,21,9063,22,9073,null,null,null,null,0,222]
[12,9174,23,9177,24,9188,null,null,null,null,0,122]
[21,9285,21,9289,22,9295,null,null,null,null,0,222]
[21,9394,12,9397,24,9403,null,null,null,null,0,212]
[21,9500,12,9504,24,9506,null,null,null,null,0,212]
[21,9600,12,9606,24,9616,null,null,null,null,0,212]
[21,9709,12,9712,24,9718,null,null,null,null,0,212]
[12,9812,23,9816,13,9819,null,null,null,null,0,121]
[21,9914,21,9920,11,9925,null,null,null,null,0,221]
[21,10117,21,10123,22,10129,null,null,null,null,0,222]
[21,10227,12,10233,24,10238,null,null,null,null,0,212]
[21,10336,12,10341,24,10346,null,null,null,null,0,212]
[21,10443,12,10450,24,10457,null,null,null,null,0,212]
[21,10549,21,10555,11,10563,null,null,null,null,0,221]
[21,10796,12,10802,24,10809,null,null,null,null,0,212]
[12,10901,23,10906,24,10915,null,null,null,null,0,122]
[21,11026,12,11028,24,11037,null,null,null,null,0,212]
[21,11136,21,11141,22,11146,null,null,null,null,0,222]
[21,11242,21,11252,11,11255,null,null,null,null,0,221]
[21,11604,21,11608,11,11610,null,null,null,null,0,221]
[12,11954,23,12018,24,12023,null,null,null,null,0,122]
[21,12119,21,12127,22,12139,null,null,null,null,0,222]
[21,12238,21,12240,22,12246,null,null,null,null,0,222]
[21,12342,21,12347,22,12354,null,null,null,null,0,222]
[21,12452,21,12458,11,12462,null,null,null,null,0,221]
[21,12646,21,12657,22,12665,null,null,null,null,0,222]
[21,12765,12,12770,24,12774,null,null,null,null,0,212]
[21,12871,12,12882,24,12890,null,null,null,null,0,212]
[21,12987,12,12990,24,12999,null,null,null,null,0,212]
[21,13094,21,13099,22,13103,null,null,null,null,0,222]
[21,13199,21,13208,11,13212,null,null,null,null,0,221]
[21,13644,12,13652,24,13655,null,null,null,null,0,212]
[21,13752,12,13758,24,13760,null,null,null,null,0,212]
[21,13856,21,13861,22,13866,null,null,null,null,0,222]
[12,13961,23,13964,13,13971,null,null,null,null,0,121]
[21,14070,12,14076,24,14087,null,null,null,null,0,212]
[21,14185,12,14189,24,14197,null,null,null,null,0,212]
[21,14294,12,14301,24,14309,null,null,null,null,0,212]
[21,14403,12,14412,24,14413,null,null,null,null,0,212]
[21,14512,12,14516,24,14520,null,null,null,null,0,212]
[21,14613,21,14616,11,14623,null,null,null,null,0,221]
[21,14875,12,14884,24,14890,null,null,null,null,0,212]
[12,14982,23,14984,24,14988,null,null,null,null,0,122]
[21,15118,12,15124,24,15126,null,null,null,null,0,212]
[21,15224,12,15228,24,15230,null,null,null,null,0,212]
[21,15328,21,15336,11,15338,null,null,null,null,0,221]
[21,15590,21,15604,22,15612,null,null,null,null,0,222]
[12,15705,23,15709,24,15719,null,null,null,null,0,122]
[21,15815,21,15823,22,15829,null,null,null,null,0,222]
[21,15926,12,15930,24,15940,null,null,null,null,0,212]
[21,16038,12,16044,24,16047,null,null,null,null,0,212]
[21,16142,21,16147,22,16154,null,null,null,null,0,222]
[21,16251,21,16255,22,16260,null,null,null,null,0,222]
[21,16357,12,16360,24,16366,null,null,null,null,0,212]
[21,16464,12,16467,24,16476,null,null,null,null,0,212]
[21,16572,21,16576,11,16580,null,null,null,null,0,221]
[21,16867,21,16870,11,16875,null,null,null,null,0,221]
[21,17220,21,17234,22,17242,null,null,null,null,0,222]
[21,17339,12,17343,24,17350,null,null,null,null,0,212]
[21,17646,12,17647,24,17655,null,null,null,null,0,212]
[21,17752,21,17757,22,17762,null,null,null,null,0,222]
[21,17861,21,17868,22,17879,null,null,null,null,0,222]
[21,17975,21,17981,11,17983,null,null,null,null,0,221]
[21,18333,21,18339,22,18347,null,null,null,null,0,222]
[21,18445,12,18452,24,18455,null,null,null,null,0,212]
[21,18547,21,18553,11,18559,null,null,null,null,0,221]
[21,18689,21,18696,11,18698,null,null,null,null,0,221]
[21,19155,12,19157,13,19162,null,null,null,null,0,211]
[21,19258,21,19262,22,19266,null,null,null,null,0,222]
[21,19364,21,19368,11,19371,null,null,null,null,0,221]
[21,19591,12,19600,24,19612,null,null,null,null,0,212]
[21,19704,12,19712,24,19719,null,null,null,null,0,212]
[21,19816,21,19825,11,19831,null,null,null,null,0,221]
[21,20074,21,20079,11,20083,null,null,null,null,0,221]
[21,20447,21,20451,22,20465,null,null,null,null,0,222]
[21,20559,21,20570,22,20576,null,null,null,null,0,222]
[12,20671,23,20672,13,20679,null,null,null,null,0,121]
[21,20774,21,20778,22,20780,null,null,null,null,0,222]
[12,20874,23,20877,13,20884,null,null,null,null,0,121]
[21,20980,12,20987,24,20999,null,null,null,null,0,212]
[12,21092,23,21097,24,21105,null,null,null,null,0,122]
[12,21199,23,21201,13,21207,null,null,null,null,0,121]
[21,21299,21,21304,11,21312,null,null,null,null,0,221]
[21,21652,21,21656,22,21663,null,null,null,null,0,222]
[12,21756,23,21759,24,21766,null,null,null,null,0,122]
[21,21863,12,21865,24,21871,null,null,null,null,0,212]
[21,21967,12,21978,24,21984,null,null,null,null,0,212]
[12,22077,23,22079,24,22084,null,null,null,null,0,122]
[21,22181,21,22185,11,22190,null,null,null,null,0,221]
[21,22412,21,22422,22,22429,null,null,null,null,0,222]
[21,22525,21,22528,11,22536,null,null,null,null,0,221]
[21,22818,21,22830,22,22836,null,null,null,null,0,222]
[21,22929,21,22931,11,22937,null,null,null,null,0,221]
[21,23243,21,23250,22,23260,null,null,null,null,0,222]
[21,23387,12,23393,24,23397,null,null,null,null,0,212]
[21,23493,12,23499,24,23505,null,null,null,null,0,212]
[21,23601,21,23606,22,23612,null,null,null,null,0,222]
[21,23710,12,23713,24,23718,null,null,null,null,0,212]
[21,23816,12,23823,24,23827,null,null,null,null,0,212]
[21,23924,21,23929,22,23934,null,null,null,null,null,222]

{"sheet":"!MA19940.Gus","index":27,"n_rows":153,"n_cols":48,"rows_kept":153,"cut":false,"hidden":false,"merged":[[4,39,4,42],[5,39,5,40],[4,44,4,47],[5,44,5,45],[4,24,4,27],[5,24,5,25],[4,29,4,32],[5,29,5,30],[4,34,4,37],[5,34,5,35],[1,1,1,2],[5,13,5,14],[18,13,18,14],[19,13,19,14],[4,19,4,22],[5,19,5,20]]}
["Report for:!MA19940.Gus"]
["Date:","<date>"]
["Hen:","<hen>",null,null,null,"Correct Sequence",{"$f":"Start!J2","v":221},null,null,null,null,null,null,null,null,"Total Sequences in Data",{"$f":"4994-COUNTBLANK(L7:L5000)","v":147},null,null,null,null,"Total Sequences in Block Data",{"$f":"COUNTA(L7:L31)","v":25},null,null,null,"Total Sequences in Block Data",{"$f":"COUNTA(L32:L55)","v":24},null,null,null,"Total Sequences in Block Data",{"$f":"COUNTA(L56:L80)","v":25},null,null,null,"Total Sequences in Block Data",{"$f":"COUNTA(L81:L104)","v":24},null,null,null,"Total Sequences in Block Data",{"$f":"COUNTA(L105:L129)","v":25},null,null,null,"Total Sequences in Block Data",{"$f":"COUNTA(L130:L153)","v":24}]
[null,null,null,null,null,null,null,null,null,null,null,null,null,null,null,"Total Sequences in Summary",{"$f":"SUM(O7:O14)","v":147},null,null,null,null,"Total Sequences in Block Summary",{"$f":"SUM(U7:U14)","v":25},null,null,null,"Total Sequences in Block Summary",{"$f":"SUM(Z7:Z14)","v":24},null,null,null,"Total Sequences in Block Summary",{"$f":"SUM(AE7:AE14)","v":25},null,null,null,"Total Sequences in Block Summary",{"$f":"SUM(AJ7:AJ14)","v":24},null,null,null,"Total Sequences in Block Summary",{"$f":"SUM(AO7:AO14)","v":25},null,null,null,"Total Sequences in Block Summary",{"$f":"SUM(AT7:AT14)","v":24}]
[null,null,null,null,null,null,null,null,null,null,null,null,null,null,null,null,null,null,null,"Block 1",null,null,null,null,"Block 2",null,null,null,null,"Block 3",null,null,null,null,"Block 4",null,null,null,null,"Block 5",null,null,null,null,"Block 6"]
["Sequence\nComponent\n1","Time\n1","Sequence\nComponent\n2","Time\n2","Sequence\nComponent\n3","Time\n3","Sequence\nComponent\n4","Time\n4","Sequence\nComponent\n5","Time\n5","Correct?\n0=No 1=Yes","Sequence",null,"Frequency",null,"Relative Frequency","Variability",null,null,"Frequency",null,"Relative Frequency","Variability",null,"Frequency",null,"Relative Frequency","Variability",null,"Frequency",null,"Relative Frequency","Variability",null,"Frequency",null,"Relative Frequency","Variability",null,"Frequency",null,"Relative Frequency","Variability",null,"Frequency",null,"Relative Frequency","Variability"]
[21,6,12,18,24,26,null,null,null,null,0,212,null,111,{"$f":"COUNTIF($L$7:$L$500,N7)","v":0},{"$f":"O7/$Q$4","v":0},{"$f":"IF(P7=0,0,(P7*((LOG(P7))/LOG(2))))","v":0},null,null,{"$f":"N7","v":111},{"$f":"COUNTIF(L7:L31,T7)","v":0},{"$f":"U7/(W4-U13)","v":0},{"$f":"IF(V7=0,0,(V7*((LOG(V7))/LOG(2))))","v":0},null,{"$f":"N7","v":111},{"$f":"COUNTIF(L32:L55,Y7)","v":0},{"$f":"Z7/(AB4-Z13)","v":0},{"$f":"IF(AA7=0,0,(AA7*((LOG(AA7))/LOG(2))))","v":0},null,{"$f":"N7","v":111},{"$f":"COUNTIF(L56:L80,AD7)","v":0},{"$f":"AE7/(AG4-AE13)","v":0},{"$f":"IF(AF7=0,0,(AF7*((LOG(AF7))/LOG(2))))","v":0},null,{"$f":"N7","v":111},{"$f":"COUNTIF(L81:L104,AI7)","v":0},{"$f":"AJ7/(AL4-AJ13)","v":0},{"$f":"IF(AK7=0,0,(AK7*((LOG(AK7))/LOG(2))))","v":0},null,{"$f":"N7","v":111},{"$f":"COUNTIF(L105:L129,AN7)","v":0},{"$f":"AO7/(AQ4-AO13)","v":0},{"$f":"IF(AP7=0,0,(AP7*((LOG(AP7))/LOG(2))))","v":0},null,{"$f":"N7","v":111},{"$f":"COUNTIF(L130:L153,AS7)","v":0},{"$f":"AT7/(AV4-AT13)","v":0},{"$f":"IF(AU7=0,0,(AU7*((LOG(AU7))/LOG(2))))","v":0}]
[21,117,21,123,22,127,null,null,null,null,0,222,null,112,{"$f":"COUNTIF($L$7:$L$500,N8)","v":0},{"$f":"O8/$Q$4","v":0},{"$f":"IF(P8=0,0,(P8*((LOG(P8))/LOG(2))))","v":0},null,null,{"$f":"N8","v":112},{"$f":"COUNTIF(L7:L31,T8)","v":0},{"$f":"U8/(W4-U13)","v":0},{"$f":"IF(V8=0,0,(V8*((LOG(V8))/LOG(2))))","v":0},null,{"$f":"N8","v":112},{"$f":"COUNTIF(L32:L55,Y8)","v":0},{"$f":"Z8/(AB4-Z13)","v":0},{"$f":"IF(AA8=0,0,(AA8*((LOG(AA8))/LOG(2))))","v":0},null,{"$f":"N8","v":112},{"$f":"COUNTIF(L56:L80,AD8)","v":0},{"$f":"AE8/(AG4-AE13)","v":0},{"$f":"IF(AF8=0,0,(AF8*((LOG(AF8))/LOG(2))))","v":0},null,{"$f":"N8","v":112},{"$f":"COUNTIF(L81:L104,AI8)","v":0},{"$f":"AJ8/(AL4-AJ13)","v":0},{"$f":"IF(AK8=0,0,(AK8*((LOG(AK8))/LOG(2))))","v":0},null,{"$f":"N8","v":112},{"$f":"COUNTIF(L105:L129,AN8)","v":0},{"$f":"AO8/(AQ4-AO13)","v":0},{"$f":"IF(AP8=0,0,(AP8*((LOG(AP8))/LOG(2))))","v":0},null,{"$f":"N8","v":112},{"$f":"COUNTIF(L130:L153,AS8)","v":0},{"$f":"AT8/(AV4-AT13)","v":0},{"$f":"IF(AU8=0,0,(AU8*((LOG(AU8))/LOG(2))))","v":0}]
[21,224,12,231,24,234,null,null,null,null,0,212,null,121,{"$f":"COUNTIF($L$7:$L$500,N9)","v":4},{"$f":"O9/$Q$4","v":2.7210884353741496E-2},{"$f":"IF(P9=0,0,(P9*((LOG(P9))/LOG(2))))","v":-0.14148768285269017},null,null,{"$f":"N9","v":121},{"$f":"COUNTIF(L7:L31,T9)","v":2},{"$f":"U9/(W4-U13)","v":9.5238095238095233E-2},{"$f":"IF(V9=0,0,(V9*((LOG(V9))/LOG(2))))","v":-0.32307784978845333},null,{"$f":"N9","v":121},{"$f":"COUNTIF(L32:L55,Y9)","v":1},{"$f":"Z9/(AB4-Z13)","v":4.5454545454545456E-2},{"$f":"IF(AA9=0,0,(AA9*((LOG(AA9))/LOG(2))))","v":-0.20270143721078623},null,{"$f":"N9","v":121},{"$f":"COUNTIF(L56:L80,AD9)","v":0},{"$f":"AE9/(AG4-AE13)","v":0},{"$f":"IF(AF9=0,0,(AF9*((LOG(AF9))/LOG(2))))","v":0},null,{"$f":"N9","v":121},{"$f":"COUNTIF(L81:L104,AI9)","v":0},{"$f":"AJ9/(AL4-AJ13)","v":0},{"$f":"IF(AK9=0,0,(AK9*((LOG(AK9))/LOG(2))))","v":0},null,{"$f":"N9","v":121},{"$f":"COUNTIF(L105:L129,AN9)","v":1},{"$f":"AO9/(AQ4-AO13)","v":4.3478260869565216E-2},{"$f":"IF(AP9=0,0,(AP9*((LOG(AP9))/LOG(2))))","v":-0.19667660678508753},null,{"$f":"N9","v":121},{"$f":"COUNTIF(L130:L153,AS9)","v":0},{"$f":"AT9/(AV4-AT13)","v":0},{"$f":"IF(AU9=0,0,(AU9*((LOG(AU9))/LOG(2))))","v":0}]
[21,618,21,629,22,635,null,null,null,null,0,222,null,122,{"$f":"COUNTIF($L$7:$L$500,N10)","v":13},{"$f":"O10/$Q$4","v":8.8435374149659865E-2},{"$f":"IF(P10=0,0,(P10*((LOG(P10))/LOG(2))))","v":-0.30945594657849346},null,null,{"$f":"N10","v":122},{"$f":"COUNTIF(L7:L31,T10)","v":0},{"$f":"U10/(W4-U13)","v":0},{"$f":"IF(V10=0,0,(V10*((LOG(V10))/LOG(2))))","v":0},null,{"$f":"N10","v":122},{"$f":"COUNTIF(L32:L55,Y10)","v":3},{"$f":"Z10/(AB4-Z13)","v":0.13636363636363635},{"$f":"IF(AA10=0,0,(AA10*((LOG(AA10))/LOG(2))))","v":-0.39197306153401923},null,{"$f":"N10","v":122},{"$f":"COUNTIF(L56:L80,AD10)","v":0},{"$f":"AE10/(AG4-AE13)","v":0},{"$f":"IF(AF10=0,0,(AF10*((LOG(AF10))/LOG(2))))","v":0},null,{"$f":"N10","v":122},{"$f":"COUNTIF(L81:L104,AI10)","v":2},{"$f":"AJ10/(AL4-AJ13)","v":0.1},{"$f":"IF(AK10=0,0,(AK10*((LOG(AK10))/LOG(2))))","v":-0.33219280948873625},null,{"$f":"N10","v":122},{"$f":"COUNTIF(L105:L129,AN10)","v":6},{"$f":"AO10/(AQ4-AO13)","v":0.2608695652173913},{"$f":"IF(AP10=0,0,(AP10*((LOG(AP10))/LOG(2))))","v":-0.50572159704413644},null,{"$f":"N10","v":122},{"$f":"COUNTIF(L130:L153,AS10)","v":2},{"$f":"AT10/(AV4-AT13)","v":0.15384615384615385},{"$f":"IF(AU10=0,0,(AU10*((LOG(AU10))/LOG(2))))","v":-0.4154522643293988}]
[21,733,21,739,22,745,null,null,null,null,0,222,null,211,{"$f":"COUNTIF($L$7:$L$500,N11)","v":0},{"$f":"O11/$Q$4","v":0},{"$f":"IF(P11=0,0,(P11*((LOG(P11))/LOG(2))))","v":0},null,null,{"$f":"N11","v":211},{"$f":"COUNTIF(L7:L31,T11)","v":0},{"$f":"U11/(W4-U13)","v":0},{"$f":"IF(V11=0,0,(V11*((LOG(V11))/LOG(2))))","v":0},null,{"$f":"N11","v":211},{"$f":"COUNTIF(L32:L55,Y11)","v":0},{"$f":"Z11/(AB4-Z13)","v":0},{"$f":"IF(AA11=0,0,(AA11*((LOG(AA11))/LOG(2))))","v":0},null,{"$f":"N11","v":211},{"$f":"COUNTIF(L56:L80,AD11)","v":0},{"$f":"AE11/(AG4-AE13)","v":0},{"$f":"IF(AF11=0,0,(AF11*((LOG(AF11))/LOG(2))))","v":0},null,{"$f":"N11","v":211},{"$f":"COUNTIF(L81:L104,AI11)","v":0},{"$f":"AJ11/(AL4-AJ13)","v":0},{"$f":"IF(AK11=0,0,(AK11*((LOG(AK11))/LOG(2))))","v":0},null,{"$f":"N11","v":211},{"$f":"COUNTIF(L105:L129,AN11)","v":0},{"$f":"AO11/(AQ4-AO13)","v":0},{"$f":"IF(AP11=0,0,(AP11*((LOG(AP11))/LOG(2))))","v":0},null,{"$f":"N11","v":211},{"$f":"COUNTIF(L130:L153,AS11)","v":0},{"$f":"AT11/(AV4-AT13)","v":0},{"$f":"IF(AU11=0,0,(AU11*((LOG(AU11))/LOG(2))))","v":0}]
[21,842,12,852,24,859,null,null,null,null,0,212,null,212,{"$f":"COUNTIF($L$7:$L$500,N12)","v":39},{"$f":"O12/$Q$4","v":0.26530612244897961},{"$f":"IF(P12=0,0,(P12*((LOG(P12))/LOG(2))))","v":-0.50786758444211244},null,null,{"$f":"N12","v":212},{"$f":"COUNTIF(L7:L31,T12)","v":8},{"$f":"U12/(W4-U13)","v":0.38095238095238093},{"$f":"IF(V12=0,0,(V12*((LOG(V12))/LOG(2))))","v":-0.53040663724905157},null,{"$f":"N12","v":212},{"$f":"COUNTIF(L32:L55,Y12)","v":8},{"$f":"Z12/(AB4-Z13)","v":0.36363636363636365},{"$f":"IF(AA12=0,0,(AA12*((LOG(AA12))/LOG(2))))","v":-0.53070240677719893},null,{"$f":"N12","v":212},{"$f":"COUNTIF(L56:L80,AD12)","v":5},{"$f":"AE12/(AG4-AE13)","v":0.27777777777777779},{"$f":"IF(AF12=0,0,(AF12*((LOG(AF12))/LOG(2))))","v":-0.51333247404304172},null,{"$f":"N12","v":212},{"$f":"COUNTIF(L81:L104,AI12)","v":5},{"$f":"AJ12/(AL4-AJ13)","v":0.25},{"$f":"IF(AK12=0,0,(AK12*((LOG(AK12))/LOG(2))))","v":-0.5},null,{"$f":"N12","v":212},{"$f":"COUNTIF(L105:L129,AN12)","v":8},{"$f":"AO12/(AQ4-AO13)","v":0.34782608695652173},{"$f":"IF(AP12=0,0,(AP12*((LOG(AP12))/LOG(2))))","v":-0.52993459341113491},null,{"$f":"N12","v":212},{"$f":"COUNTIF(L130:L153,AS12)","v":5},{"$f":"AT12/(AV4-AT13)","v":0.38461538461538464},{"$f":"IF(AU12=0,0,(AU12*((LOG(AU12))/LOG(2))))","v":-0.53019677817451139}]
[21,956,12,964,24,966,null,null,null,null,0,212,null,221,{"$f":"COUNTIF($L$7:$L$500,N13)","v":30},{"$f":"O13/$Q$4","v":0.20408163265306123},{"$f":"IF(P13=0,0,(P13*((LOG(P13))/LOG(2))))","v":-0.46791464269956035},null,null,{"$f":"N13","v":221},{"$f":"COUNTIF(L7:L31,T13)","v":4},null,null,null,{"$f":"N13","v":221},{"$f":"COUNTIF(L32:L55,Y13)","v":2},null,null,null,{"$f":"N13","v":221},{"$f":"COUNTIF(L56:L80,AD13)","v":7},null,null,null,{"$f":"N13","v":221},{"$f":"COUNTIF(L81:L104,AI13)","v":4},null,null,null,{"$f":"N13","v":221},{"$f":"COUNTIF(L105:L129,AN13)","v":2},null,null,null,{"$f":"N13","v":221},{"$f":"COUNTIF(L130:L153,AS13)","v":11}]
[21,1063,21,1069,22,1075,null,null,null,null,0,222,null,222,{"$f":"COUNTIF($L$7:$L$500,N14)","v":61},{"$f":"O14/$Q$4","v":0.41496598639455784},{"$f":"IF(P14=0,0,(P14*((LOG(P14))/LOG(2))))","v":-0.52656486696382421},null,null,{"$f":"N14","v":222},{"$f":"COUNTIF(L7:L31,T14)","v":11},{"$f":"U14/(W4-U13)","v":0.52380952380952384},{"$f":"IF(V14=0,0,(V14*((LOG(V14))/LOG(2))))","v":-0.4886544688360045},null,{"$f":"N14","v":222},{"$f":"COUNTIF(L32:L55,Y14)","v":10},{"$f":"Z14/(AB4-Z13)","v":0.45454545454545453},{"$f":"IF(AA14=0,0,(AA14*((LOG(AA14))/LOG(2))))","v":-0.51704705624997038},null,{"$f":"N14","v":222},{"$f":"COUNTIF(L56:L80,AD14)","v":13},{"$f":"AE14/(AG4-AE13)","v":0.72222222222222221},{"$f":"IF(AF14=0,0,(AF14*((LOG(AF14))/LOG(2))))","v":-0.33907270460643685},null,{"$f":"N14","v":222},{"$f":"COUNTIF(L81:L104,AI14)","v":13},{"$f":"AJ14/(AL4-AJ13)","v":0.65},{"$f":"IF(AK14=0,0,(AK14*((LOG(AK14))/LOG(2))))","v":-0.40396744488507563},null,{"$f":"N14","v":222},{"$f":"COUNTIF(L105:L129,AN14)","v":8},{"$f":"AO14/(AQ4-AO13)","v":0.34782608695652173},{"$f":"IF(AP14=0,0,(AP14*((LOG(AP14))/LOG(2))))","v":-0.52993459341113491},null,{"$f":"N14","v":222},{"$f":"COUNTIF(L130:L153,AS14)","v":6},{"$f":"AT14/(AV4-AT13)","v":0.46153846153846156},{"$f":"IF(AU14=0,0,(AU14*((LOG(AU14))/LOG(2))))","v":-0.51483563880920125}]
[21,1171,21,1178,22,1183,null,null,null,null,0,222,null,null,null,{"$f":"SUM(P7:P14)","v":1},{"$f":"-SUM(Q7:Q14)","v":1.9532907235366808},null,null,null,null,{"$f":"SUM(V7:V14)","v":1},{"$f":"-SUM(W7:W14)","v":1.3421389558735095},null,null,null,{"$f":"SUM(AA7:AA14)","v":1},{"$f":"-SUM(AB7:AB14)","v":1.6424239617719749},null,null,null,{"$f":"SUM(AF7:AF14)","v":1},{"$f":"-SUM(AG7:AG14)","v":0.85240517864947862},null,null,null,{"$f":"SUM(AK7:AK14)","v":1},{"$f":"-SUM(AL7:AL14)","v":1.2361602543738119},null,null,null,{"$f":"SUM(AP7:AP14)","v":1},{"$f":"-SUM(AQ7:AQ14)","v":1.7622673906514938},null,null,null,{"$f":"SUM(AU7:AU14)","v":1},{"$f":"-SUM(AV7:AV14)","v":1.4604846813131114}]
[12,1276,23,1282,13,1286,null,null,null,null,0,121,null,null,null,"U=",{"$f":"Q15/(LOG(Q4)/LOG(2))","v":0.27130272462157101},null,null,null,null,"U1=",{"$f":"W15/(LOG(W4)/LOG(2))","v":0.28901389298591029},null,null,null,"U2=",{"$f":"AB15/(LOG(AB4)/LOG(2))","v":0.35821971532234836},null,null,null,"U3=",{"$f":"AG15/(LOG(AG4)/LOG(2))","v":0.18355546421234656},null,null,null,"U4=",{"$f":"AL15/(LOG(AL4)/LOG(2))","v":0.26961185706085483},null,null,null,"U5=",{"$f":"AQ15/(LOG(AQ4)/LOG(2))","v":0.37948362710538242},null,null,null,"U6=",{"$f":"AV15/(LOG(AV4)/LOG(2))","v":0.31853797737351086}]
[21,1442,21,1448,11,1451,null,null,null,null,0,221]
[21,1727,12,1730,24,1741,null,null,null,null,0,212]
[21,1841,12,1847,24,1854,null,null,null,null,0,212,null,"Total Target Seq"]
[21,1952,21,1958,22,1964,null,null,null,null,0,222,null,{"$f":"COUNTIF(L7:L153,G3)","v":30},null,25,24,25,24,25,24]
[21,2063,21,2071,22,2076,null,null,null,null,0,222,null,null,null,"% of reinforcement given in 6 equal intervals based on number of trials "]
[21,2175,21,2179,11,2184,null,null,null,null,0,221,null,null,null,"%_1","%_2","%_3","%_4","%_5","%_6"]
[21,4125,21,4129,22,4137,null,null,null,null,0,222,null,null,"target sequence",{"$f":"$G$3","v":221},{"$f":"$G$3","v":221},{"$f":"$G$3","v":221},{"$f":"$G$3","v":221},{"$f":"$G$3","v":221},{"$f":"$G$3","v":221}]
[21,4673,21,4678,22,4685,null,null,null,null,0,222,null,null,"total reinforcement",{"$f":"U13","v":4},{"$f":"Z13","v":2},{"$f":"AE13","v":7},{"$f":"AJ13","v":4},{"$f":"AO13","v":2},{"$f":"AT13","v":11}]
[12,4777,23,4781,13,4792,null,null,null,null,0,121,null,null,"% target"]
[21,4947,21,4952,11,4955,null,null,null,null,0,221,null,null,"CCRF"]
[21,5103,21,5114,22,5120,null,null,null,null,0,222,null,null,"% CCRf"]
[21,5217,12,5223,24,5228,null,null,null,null,0,212,null,null,"average response rate",{"$f":"F31/P20","v":223.76},{"$f":"(F55-F31)/Q20","v":124.66666666666667},{"$f":"(F80-F55)/R20","v":149.4},{"$f":"(F104-F80)/S20","v":125.08333333333333},{"$f":"(F129-F104)/T20","v":123.4},{"$f":"(F153-F129)/U20","v":231.125}]
[21,5324,21,5326,22,5332,null,null,null,null,0,222]
[21,5427,21,5434,11,5437,null,null,null,null,0,221]
[21,5577,12,5584,24,5594,null,null,null,null,0,212]
[21,5691,21,5699,22,5712,null,null,null,null,0,222]
[21,5835,21,5853,22,5867,null,null,null,null,0,222]
[21,5963,12,5969,24,5973,null,null,null,null,0,212]
[21,6070,21,6075,22,6081,null,null,null,null,0,222]
[21,6178,21,6187,22,6191,null,null,null,null,0,222]
[21,6290,21,6300,22,6306,null,null,null,null,0,222]
[21,6400,21,6408,11,6411,null,null,null,null,0,221]
[12,6730,23,6741,24,6749,null,null,null,null,0,122]
[21,6847,21,6855,11,6859,null,null,null,null,0,221]
[21,7078,12,7084,24,7093,null,null,null,null,0,212]
[21,7195,21,7203,22,7215,null,null,null,null,0,222]
[21,7311,12,7315,24,7321,null,null,null,null,0,212]
[21,7417,21,7421,22,7426,null,null,null,null,0,222]
[21,7518,12,7519,24,7527,null,null,null,null,0,212]
[12,7620,23,7624,24,7627,null,null,null,null,0,122]
[21,7723,12,7731,24,7733,null,null,null,null,0,212]
[21,7828,21,7836,22,7842,null,null,null,null,0,222]
[21,7934,12,7945,24,7948,null,null,null,null,0,212]
[12,8041,23,8047,13,8054,null,null,null,null,0,121]
[21,8149,21,8158,22,8164,null,null,null,null,0,222]
[21,8260,12,8265,24,8269,null,null,null,null,0,212]
[21,8361,21,8367,22,8372,null,null,null,null,0,222]
[21,8468,12,8476,24,8483,null,null,null,null,0,212]
[12,8576,23,8581,24,8586,null,null,null,null,0,122]
[21,8684,21,8694,11,8698,null,null,null,null,0,221]
[21,8820,21,8827,22,8835,null,null,null,null,0,222]
[21,8927,21,8933,22,8939,null,null,null,null,0,222]
[21,9035,21,9044,22,9050,null,null,null,null,0,222]
[21,9147,21,9151,11,9155,null,null,null,null,0,221]
[21,9371,21,9377,11,9381,null,null,null,null,0,221]
[21,9637,12,9646,24,9662,null,null,null,null,0,212]
[21,9759,21,9764,22,9769,null,null,null,null,0,222]
[21,9861,12,9867,24,9871,null,null,null,null,0,212]
[21,9967,21,9971,22,9977,null,null,null,null,0,222]
[21,10073,21,10077,22,10083,null,null,null,null,0,222]
[21,10179,21,10183,22,10189,null,null,null,null,0,222]
[21,10282,21,10287,11,10292,null,null,null,null,0,221]
[21,10501,21,10510,22,10518,null,null,null,null,0,222]
[21,10627,21,10631,22,10641,null,null,null,null,0,222]
[21,10737,12,10745,24,10757,null,null,null,null,0,212]
[21,10850,21,10859,22,10865,null,null,null,null,0,222]
[21,10961,21,10966,22,10972,null,null,null,null,0,222]
[21,11063,21,11070,11,11079,null,null,null,null,0,221]
[21,11354,21,11360,22,11372,null,null,null,null,0,222]
[21,11468,21,11472,11,11475,null,null,null,null,0,221]
[21,11752,12,11760,24,11767,null,null,null,null,0,212]
[21,11864,21,11867,11,11873,null,null,null,null,0,221]
[21,12201,12,12211,24,12214,null,null,null,null,0,212]
[21,12310,21,12315,22,12321,null,null,null,null,0,222]
[21,12418,21,12421,22,12428,null,null,null,null,0,222]
[21,12523,21,12529,22,12535,null,null,null,null,0,222]
[21,12632,21,12636,22,12642,null,null,null,null,0,222]
[21,12737,21,12746,22,12752,null,null,null,null,0,222]
[21,12848,21,12850,11,12858,null,null,null,null,0,221]
[21,12961,21,12972,22,12977,null,null,null,null,0,222]
[21,13074,12,13080,24,13085,null,null,null,null,0,212]
[21,13184,12,13191,24,13192,null,null,null,null,0,212]
[21,13289,21,13294,11,13297,null,null,null,null,0,221]
[21,13538,12,13543,24,13556,null,null,null,null,0,212]
[21,13658,21,13669,22,13675,null,null,null,null,0,222]
[21,13772,21,13776,22,13782,null,null,null,null,0,222]
[21,13878,21,13882,22,13887,null,null,null,null,0,222]
[21,13980,21,13987,11,13991,null,null,null,null,0,221]
[12,14129,23,14135,24,14149,null,null,null,null,0,122]
[12,14243,23,14246,24,14251,null,null,null,null,0,122]
[21,14364,12,14372,24,14380,null,null,null,null,0,212]
[21,14477,21,14481,22,14486,null,null,null,null,0,222]
[21,14583,21,14587,22,14592,null,null,null,null,0,222]
[21,14688,21,14697,11,14700,null,null,null,null,0,221]
[21,14985,21,14990,22,15003,null,null,null,null,0,222]
[21,15100,12,15106,24,15109,null,null,null,null,0,212]
[21,15205,21,15209,22,15216,null,null,null,null,0,222]
[21,15314,21,15318,22,15323,null,null,null,null,0,222]
[12,15416,23,15419,24,15429,null,null,null,null,0,122]
[21,15524,21,15529,22,15534,null,null,null,null,0,222]
[12,15628,23,15631,24,15641,null,null,null,null,0,122]
[21,15733,21,15741,22,15744,null,null,null,null,0,222]
[21,15841,21,15846,11,15849,null,null,null,null,0,221]
[21,16085,12,16093,24,16104,null,null,null,null,0,212]
[21,16203,21,16209,22,16215,null,null,null,null,0,222]
[21,16310,21,16325,22,16332,null,null,null,null,0,222]
[21,16428,12,16434,24,16440,null,null,null,null,0,212]
[21,16536,12,16542,24,16548,null,null,null,null,0,212]
[21,16644,21,16651,22,16656,null,null,null,null,0,222]
[21,16753,12,16760,24,16767,null,null,null,null,0,212]
[21,16865,12,16869,24,16872,null,null,null,null,0,212]
[12,16966,23,16970,24,16974,null,null,null,null,0,122]
[21,17071,21,17079,22,17084,null,null,null,null,0,222]
[21,17180,12,17184,24,17189,null,null,null,null,0,212]
[21,17286,12,17291,24,17296,null,null,null,null,0,212]
[21,17392,21,17396,22,17403,null,null,null,null,0,222]
[12,17497,23,17499,24,17507,null,null,null,null,0,122]
[12,17601,23,17606,13,17611,null,null,null,null,0,121]
[21,17718,21,17729,22,17736,null,null,null,null,0,222]
[21,17829,21,17835,11,17839,null,null,null,null,0,221]
[12,18166,23,18174,24,18181,null,null,null,null,0,122]
[21,18294,12,18301,24,18305,null,null,null,null,0,212]
[12,18397,23,18402,24,18408,null,null,null,null,0,122]
[21,18503,21,18513,11,18518,null,null,null,null,0,221]
[21,18660,21,18664,11,18667,null,null,null,null,0,221]
[21,19083,21,19092,11,19095,null,null,null,null,0,221]
[21,20074,12,20086,24,20098,null,null,null,null,0,212]
[21,20194,21,20197,22,20202,null,null,null,null,0,222]
[21,20298,21,20303,22,20309,null,null,null,null,0,222]
[21,20407,21,20413,22,20419,null,null,null,null,0,222]
[21,20511,21,20514,11,20520,null,null,null,null,0,221]
[21,20798,21,20803,11,20821,null,null,null,null,0,221]
[12,21168,23,21240,24,21247,null,null,null,null,0,122]
[21,21343,21,21348,22,21352,null,null,null,null,0,222]
[12,21445,23,21448,24,21452,null,null,null,null,0,122]
[21,21544,21,21549,22,21556,null,null,null,null,0,222]
[21,21653,21,21660,11,21661,null,null,null,null,0,221]
[21,21819,12,21823,24,21825,null,null,null,null,0,212]
[21,21922,21,21927,11,21938,null,null,null,null,0,221]
[21,22114,12,22129,24,22133,null,null,null,null,0,212]
[21,22233,21,22238,11,22240,null,null,null,null,0,221]
[21,22447,21,22678,11,22681,null,null,null,null,0,221]
[21,22993,12,22997,24,23007,null,null,null,null,0,212]
[21,23100,21,23105,22,23109,null,null,null,null,0,222]
[21,23202,21,23204,11,23210,null,null,null,null,0,221]
[21,23472,21,23479,11,23485,null,null,null,null,0,221]
[21,23935,12,23942,24,23955,null,null,null,null,null,212]

{"sheet":"!MA20920.Gus","index":28,"n_rows":67,"n_cols":48,"rows_kept":67,"cut":false,"hidden":false,"merged":[[4,39,4,42],[5,39,5,40],[4,44,4,47],[5,44,5,45],[4,24,4,27],[5,24,5,25],[4,29,4,32],[5,29,5,30],[4,34,4,37],[5,34,5,35],[1,1,1,2],[5,13,5,14],[18,13,18,14],[19,13,19,14],[4,19,4,22],[5,19,5,20]]}
["Report for:!MA20920.Gus"]
["Date:","<date>"]
["Hen:","<hen>",null,null,null,"Correct Sequence",{"$f":"Start!J2","v":221},null,null,null,null,null,null,null,null,"Total Sequences in Data",{"$f":"4994-COUNTBLANK(L7:L5000)","v":61},null,null,null,null,"Total Sequences in Block Data",{"$f":"COUNTA(L7:L16)","v":10},null,null,null,"Total Sequences in Block Data",{"$f":"COUNTA(L17:L26)","v":10},null,null,null,"Total Sequences in Block Data",{"$f":"COUNTA(L27:L37)","v":11},null,null,null,"Total Sequences in Block Data",{"$f":"COUNTA(L38:L47)","v":10},null,null,null,"Total Sequences in Block Data",{"$f":"COUNTA(L48:L57)","v":10},null,null,null,"Total Sequences in Block Data",{"$f":"COUNTA(L58:L67)","v":10}]
[null,null,null,null,null,null,null,null,null,null,null,null,null,null,null,"Total Sequences in Summary",{"$f":"SUM(O7:O14)","v":61},null,null,null,null,"Total Sequences in Block Summary",{"$f":"SUM(U7:U14)","v":10},null,null,null,"Total Sequences in Block Summary",{"$f":"SUM(Z7:Z14)","v":10},null,null,null,"Total Sequences in Block Summary",{"$f":"SUM(AE7:AE14)","v":11},null,null,null,"Total Sequences in Block Summary",{"$f":"SUM(AJ7:AJ14)","v":10},null,null,null,"Total Sequences in Block Summary",{"$f":"SUM(AO7:AO14)","v":10},null,null,null,"Total Sequences in Block Summary",{"$f":"SUM(AT7:AT14)","v":10}]
[null,null,null,null,null,null,null,null,null,null,null,null,null,null,null,null,null,null,null,"Block 1",null,null,null,null,"Block 2",null,null,null,null,"Block 3",null,null,null,null,"Block 4",null,null,null,null,"Block 5",null,null,null,null,"Block 6"]
["Sequence\nComponent\n1","Time\n1","Sequence\nComponent\n2","Time\n2","Sequence\nComponent\n3","Time\n3","Sequence\nComponent\n4","Time\n4","Sequence\nComponent\n5","Time\n5","Correct?\n0=No 1=Yes","Sequence",null,"Frequency",null,"Relative Frequency","Variability",null,null,"Frequency",null,"Relative Frequency","Variability",null,"Frequency",null,"Relative Frequency","Variability",null,"Frequency",null,"Relative Frequency","Variability",null,"Frequency",null,"Relative Frequency","Variability",null,"Frequency",null,"Relative Frequency","Variability",null,"Frequency",null,"Relative Frequency","Variability"]
[12,7,14,11,13,16,null,null,null,null,0,111,null,111,{"$f":"COUNTIF($L$7:$L$500,N7)","v":29},{"$f":"O7/$Q$4","v":0.47540983606557374},{"$f":"IF(P7=0,0,(P7*((LOG(P7))/LOG(2))))","v":-0.50999891689547716},null,null,{"$f":"N7","v":111},{"$f":"COUNTIF(L7:L16,T7)","v":7},{"$f":"U7/(W4-U13)","v":0.7},{"$f":"IF(V7=0,0,(V7*((LOG(V7))/LOG(2))))","v":-0.36020122098083079},null,{"$f":"N7","v":111},{"$f":"COUNTIF(L17:L26,Y7)","v":1},{"$f":"Z7/(AB4-Z13)","v":0.1},{"$f":"IF(AA7=0,0,(AA7*((LOG(AA7))/LOG(2))))","v":-0.33219280948873625},null,{"$f":"N7","v":111},{"$f":"COUNTIF(L27:L37,AD7)","v":3},{"$f":"AE7/(AG4-AE13)","v":0.3},{"$f":"IF(AF7=0,0,(AF7*((LOG(AF7))/LOG(2))))","v":-0.52108967824986185},null,{"$f":"N7","v":111},{"$f":"COUNTIF(L38:L47,AI7)","v":4},{"$f":"AJ7/(AL4-AJ13)","v":0.5},{"$f":"IF(AK7=0,0,(AK7*((LOG(AK7))/LOG(2))))","v":-0.5},null,{"$f":"N7","v":111},{"$f":"COUNTIF(L48:L57,AN7)","v":6},{"$f":"AO7/(AQ4-AO13)","v":0.6},{"$f":"IF(AP7=0,0,(AP7*((LOG(AP7))/LOG(2))))","v":-0.44217935649972373},null,{"$f":"N7","v":111},{"$f":"COUNTIF(L58:L67,AS7)","v":8},{"$f":"AT7/(AV4-AT13)","v":0.8},{"$f":"IF(AU7=0,0,(AU7*((LOG(AU7))/LOG(2))))","v":-0.25754247590988982}]
[12,131,14,134,13,138,null,null,null,null,0,111,null,112,{"$f":"COUNTIF($L$7:$L$500,N8)","v":4},{"$f":"O8/$Q$4","v":6.5573770491803282E-2},{"$f":"IF(P8=0,0,(P8*((LOG(P8))/LOG(2))))","v":-0.25775326803691057},null,null,{"$f":"N8","v":112},{"$f":"COUNTIF(L7:L16,T8)","v":0},{"$f":"U8/(W4-U13)","v":0},{"$f":"IF(V8=0,0,(V8*((LOG(V8))/LOG(2))))","v":0},null,{"$f":"N8","v":112},{"$f":"COUNTIF(L17:L26,Y8)","v":1},{"$f":"Z8/(AB4-Z13)","v":0.1},{"$f":"IF(AA8=0,0,(AA8*((LOG(AA8))/LOG(2))))","v":-0.33219280948873625},null,{"$f":"N8","v":112},{"$f":"COUNTIF(L27:L37,AD8)","v":0},{"$f":"AE8/(AG4-AE13)","v":0},{"$f":"IF(AF8=0,0,(AF8*((LOG(AF8))/LOG(2))))","v":0},null,{"$f":"N8","v":112},{"$f":"COUNTIF(L38:L47,AI8)","v":0},{"$f":"AJ8/(AL4-AJ13)","v":0},{"$f":"IF(AK8=0,0,(AK8*((LOG(AK8))/LOG(2))))","v":0},null,{"$f":"N8","v":112},{"$f":"COUNTIF(L48:L57,AN8)","v":3},{"$f":"AO8/(AQ4-AO13)","v":0.3},{"$f":"IF(AP8=0,0,(AP8*((LOG(AP8))/LOG(2))))","v":-0.52108967824986185},null,{"$f":"N8","v":112},{"$f":"COUNTIF(L58:L67,AS8)","v":0},{"$f":"AT8/(AV4-AT13)","v":0},{"$f":"IF(AU8=0,0,(AU8*((LOG(AU8))/LOG(2))))","v":0}]
[12,274,14,286,13,313,null,null,null,null,0,111,null,121,{"$f":"COUNTIF($L$7:$L$500,N9)","v":3},{"$f":"O9/$Q$4","v":4.9180327868852458E-2},{"$f":"IF(P9=0,0,(P9*((LOG(P9))/LOG(2))))","v":-0.21372663132008507},null,null,{"$f":"N9","v":121},{"$f":"COUNTIF(L7:L16,T9)","v":0},{"$f":"U9/(W4-U13)","v":0},{"$f":"IF(V9=0,0,(V9*((LOG(V9))/LOG(2))))","v":0},null,{"$f":"N9","v":121},{"$f":"COUNTIF(L17:L26,Y9)","v":0},{"$f":"Z9/(AB4-Z13)","v":0},{"$f":"IF(AA9=0,0,(AA9*((LOG(AA9))/LOG(2))))","v":0},null,{"$f":"N9","v":121},{"$f":"COUNTIF(L27:L37,AD9)","v":2},{"$f":"AE9/(AG4-AE13)","v":0.2},{"$f":"IF(AF9=0,0,(AF9*((LOG(AF9))/LOG(2))))","v":-0.46438561897747244},null,{"$f":"N9","v":121},{"$f":"COUNTIF(L38:L47,AI9)","v":0},{"$f":"AJ9/(AL4-AJ13)","v":0},{"$f":"IF(AK9=0,0,(AK9*((LOG(AK9))/LOG(2))))","v":0},null,{"$f":"N9","v":121},{"$f":"COUNTIF(L48:L57,AN9)","v":0},{"$f":"AO9/(AQ4-AO13)","v":0},{"$f":"IF(AP9=0,0,(AP9*((LOG(AP9))/LOG(2))))","v":0},null,{"$f":"N9","v":121},{"$f":"COUNTIF(L58:L67,AS9)","v":1},{"$f":"AT9/(AV4-AT13)","v":0.1},{"$f":"IF(AU9=0,0,(AU9*((LOG(AU9))/LOG(2))))","v":-0.33219280948873625}]
[12,421,14,445,13,450,null,null,null,null,0,111,null,122,{"$f":"COUNTIF($L$7:$L$500,N10)","v":6},{"$f":"O10/$Q$4","v":9.8360655737704916E-2},{"$f":"IF(P10=0,0,(P10*((LOG(P10))/LOG(2))))","v":-0.32909260690246528},null,null,{"$f":"N10","v":122},{"$f":"COUNTIF(L7:L16,T10)","v":1},{"$f":"U10/(W4-U13)","v":0.1},{"$f":"IF(V10=0,0,(V10*((LOG(V10))/LOG(2))))","v":-0.33219280948873625},null,{"$f":"N10","v":122},{"$f":"COUNTIF(L17:L26,Y10)","v":2},{"$f":"Z10/(AB4-Z13)","v":0.2},{"$f":"IF(AA10=0,0,(AA10*((LOG(AA10))/LOG(2))))","v":-0.46438561897747244},null,{"$f":"N10","v":122},{"$f":"COUNTIF(L27:L37,AD10)","v":1},{"$f":"AE10/(AG4-AE13)","v":0.1},{"$f":"IF(AF10=0,0,(AF10*((LOG(AF10))/LOG(2))))","v":-0.33219280948873625},null,{"$f":"N10","v":122},{"$f":"COUNTIF(L38:L47,AI10)","v":0},{"$f":"AJ10/(AL4-AJ13)","v":0},{"$f":"IF(AK10=0,0,(AK10*((LOG(AK10))/LOG(2))))","v":0},null,{"$f":"N10","v":122},{"$f":"COUNTIF(L48:L57,AN10)","v":1},{"$f":"AO10/(AQ4-AO13)","v":0.1},{"$f":"IF(AP10=0,0,(AP10*((LOG(AP10))/LOG(2))))","v":-0.33219280948873625},null,{"$f":"N10","v":122},{"$f":"COUNTIF(L58:L67,AS10)","v":1},{"$f":"AT10/(AV4-AT13)","v":0.1},{"$f":"IF(AU10=0,0,(AU10*((LOG(AU10))/LOG(2))))","v":-0.33219280948873625}]
[12,629,14,638,13,653,null,null,null,null,0,111,null,211,{"$f":"COUNTIF($L$7:$L$500,N11)","v":2},{"$f":"O11/$Q$4","v":3.2786885245901641E-2},{"$f":"IF(P11=0,0,(P11*((LOG(P11))/LOG(2))))","v":-0.16166351926435696},null,null,{"$f":"N11","v":211},{"$f":"COUNTIF(L7:L16,T11)","v":0},{"$f":"U11/(W4-U13)","v":0},{"$f":"IF(V11=0,0,(V11*((LOG(V11))/LOG(2))))","v":0},null,{"$f":"N11","v":211},{"$f":"COUNTIF(L17:L26,Y11)","v":1},{"$f":"Z11/(AB4-Z13)","v":0.1},{"$f":"IF(AA11=0,0,(AA11*((LOG(AA11))/LOG(2))))","v":-0.33219280948873625},null,{"$f":"N11","v":211},{"$f":"COUNTIF(L27:L37,AD11)","v":1},{"$f":"AE11/(AG4-AE13)","v":0.1},{"$f":"IF(AF11=0,0,(AF11*((LOG(AF11))/LOG(2))))","v":-0.33219280948873625},null,{"$f":"N11","v":211},{"$f":"COUNTIF(L38:L47,AI11)","v":0},{"$f":"AJ11/(AL4-AJ13)","v":0},{"$f":"IF(AK11=0,0,(AK11*((LOG(AK11))/LOG(2))))","v":0},null,{"$f":"N11","v":211},{"$f":"COUNTIF(L48:L57,AN11)","v":0},{"$f":"AO11/(AQ4-AO13)","v":0},{"$f":"IF(AP11=0,0,(AP11*((LOG(AP11))/LOG(2))))","v":0},null,{"$f":"N11","v":211},{"$f":"COUNTIF(L58:L67,AS11)","v":0},{"$f":"AT11/(AV4-AT13)","v":0},{"$f":"IF(AU11=0,0,(AU11*((LOG(AU11))/LOG(2))))","v":0}]
[12,760,14,770,13,788,null,null,null,null,0,111,null,212,{"$f":"COUNTIF($L$7:$L$500,N12)","v":5},{"$f":"O12/$Q$4","v":8.1967213114754092E-2},{"$f":"IF(P12=0,0,(P12*((LOG(P12))/LOG(2))))","v":-0.29580403628487895},null,null,{"$f":"N12","v":212},{"$f":"COUNTIF(L7:L16,T12)","v":2},{"$f":"U12/(W4-U13)","v":0.2},{"$f":"IF(V12=0,0,(V12*((LOG(V12))/LOG(2))))","v":-0.46438561897747244},null,{"$f":"N12","v":212},{"$f":"COUNTIF(L17:L26,Y12)","v":1},{"$f":"Z12/(AB4-Z13)","v":0.1},{"$f":"IF(AA12=0,0,(AA12*((LOG(AA12))/LOG(2))))","v":-0.33219280948873625},null,{"$f":"N12","v":212},{"$f":"COUNTIF(L27:L37,AD12)","v":1},{"$f":"AE12/(AG4-AE13)","v":0.1},{"$f":"IF(AF12=0,0,(AF12*((LOG(AF12))/LOG(2))))","v":-0.33219280948873625},null,{"$f":"N12","v":212},{"$f":"COUNTIF(L38:L47,AI12)","v":1},{"$f":"AJ12/(AL4-AJ13)","v":0.125},{"$f":"IF(AK12=0,0,(AK12*((LOG(AK12))/LOG(2))))","v":-0.375},null,{"$f":"N12","v":212},{"$f":"COUNTIF(L48:L57,AN12)","v":0},{"$f":"AO12/(AQ4-AO13)","v":0},{"$f":"IF(AP12=0,0,(AP12*((LOG(AP12))/LOG(2))))","v":0},null,{"$f":"N12","v":212},{"$f":"COUNTIF(L58:L67,AS12)","v":0},{"$f":"AT12/(AV4-AT13)","v":0},{"$f":"IF(AU12=0,0,(AU12*((LOG(AU12))/LOG(2))))","v":0}]
[21,898,12,903,24,904,null,null,null,null,0,212,null,221,{"$f":"COUNTIF($L$7:$L$500,N13)","v":3},{"$f":"O13/$Q$4","v":4.9180327868852458E-2},{"$f":"IF(P13=0,0,(P13*((LOG(P13))/LOG(2))))","v":-0.21372663132008507},null,null,{"$f":"N13","v":221},{"$f":"COUNTIF(L7:L16,T13)","v":0},null,null,null,{"$f":"N13","v":221},{"$f":"COUNTIF(L17:L26,Y13)","v":0},null,null,null,{"$f":"N13","v":221},{"$f":"COUNTIF(L27:L37,AD13)","v":1},null,null,null,{"$f":"N13","v":221},{"$f":"COUNTIF(L38:L47,AI13)","v":2},null,null,null,{"$f":"N13","v":221},{"$f":"COUNTIF(L48:L57,AN13)","v":0},null,null,null,{"$f":"N13","v":221},{"$f":"COUNTIF(L58:L67,AS13)","v":0}]
[21,1001,12,1003,24,1007,null,null,null,null,0,212,null,222,{"$f":"COUNTIF($L$7:$L$500,N14)","v":9},{"$f":"O14/$Q$4","v":0.14754098360655737},{"$f":"IF(P14=0,0,(P14*((LOG(P14))/LOG(2))))","v":-0.40733296762434701},null,null,{"$f":"N14","v":222},{"$f":"COUNTIF(L7:L16,T14)","v":0},{"$f":"U14/(W4-U13)","v":0},{"$f":"IF(V14=0,0,(V14*((LOG(V14))/LOG(2))))","v":0},null,{"$f":"N14","v":222},{"$f":"COUNTIF(L17:L26,Y14)","v":4},{"$f":"Z14/(AB4-Z13)","v":0.4},{"$f":"IF(AA14=0,0,(AA14*((LOG(AA14))/LOG(2))))","v":-0.52877123795494496},null,{"$f":"N14","v":222},{"$f":"COUNTIF(L27:L37,AD14)","v":2},{"$f":"AE14/(AG4-AE13)","v":0.2},{"$f":"IF(AF14=0,0,(AF14*((LOG(AF14))/LOG(2))))","v":-0.46438561897747244},null,{"$f":"N14","v":222},{"$f":"COUNTIF(L38:L47,AI14)","v":3},{"$f":"AJ14/(AL4-AJ13)","v":0.375},{"$f":"IF(AK14=0,0,(AK14*((LOG(AK14))/LOG(2))))","v":-0.53063906222956647},null,{"$f":"N14","v":222},{"$f":"COUNTIF(L48:L57,AN14)","v":0},{"$f":"AO14/(AQ4-AO13)","v":0},{"$f":"IF(AP14=0,0,(AP14*((LOG(AP14))/LOG(2))))","v":0},null,{"$f":"N14","v":222},{"$f":"COUNTIF(L58:L67,AS14)","v":0},{"$f":"AT14/(AV4-AT13)","v":0},{"$f":"IF(AU14=0,0,(AU14*((LOG(AU14))/LOG(2))))","v":0}]
[12,1101,23,1105,24,1121,null,null,null,null,0,122,null,null,null,{"$f":"SUM(P7:P14)","v":1},{"$f":"-SUM(Q7:Q14)","v":2.389098577648606},null,null,null,null,{"$f":"SUM(V7:V14)","v":1},{"$f":"-SUM(W7:W14)","v":1.1567796494470395},null,null,null,{"$f":"SUM(AA7:AA14)","v":1},{"$f":"-SUM(AB7:AB14)","v":2.3219280948873626},null,null,null,{"$f":"SUM(AF7:AF14)","v":1},{"$f":"-SUM(AG7:AG14)","v":2.4464393446710155},null,null,null,{"$f":"SUM(AK7:AK14)","v":1},{"$f":"-SUM(AL7:AL14)","v":1.4056390622295665},null,null,null,{"$f":"SUM(AP7:AP14)","v":0.99999999999999989},{"$f":"-SUM(AQ7:AQ14)","v":1.2954618442383219},null,null,null,{"$f":"SUM(AU7:AU14)","v":1},{"$f":"-SUM(AV7:AV14)","v":0.92192809488736227}]
[12,1213,14,1221,13,1301,null,null,null,null,0,111,null,null,null,"U=",{"$f":"Q15/(LOG(Q4)/LOG(2))","v":0.40283331425201113},null,null,null,null,"U1=",{"$f":"W15/(LOG(W4)/LOG(2))","v":0.34822537285722399},null,null,null,"U2=",{"$f":"AB15/(LOG(AB4)/LOG(2))","v":0.69897000433601897},null,null,null,"U3=",{"$f":"AG15/(LOG(AG4)/LOG(2))","v":0.7071795642645744},null,null,null,"U4=",{"$f":"AL15/(LOG(AL4)/LOG(2))","v":0.42313952080808903},null,null,null,"U5=",{"$f":"AQ15/(LOG(AQ4)/LOG(2))","v":0.38997287335391512},null,null,null,"U6=",{"$f":"AV15/(LOG(AV4)/LOG(2))","v":0.27752801040644515}]
[21,1404,21,1420,22,1438,null,null,null,null,0,222]
[12,1532,23,1536,24,1542,null,null,null,null,0,122]
[12,1636,14,1642,24,1666,null,null,null,null,0,112,null,"Total Target Seq"]
[12,1776,14,1788,13,1790,null,null,null,null,0,111,null,{"$f":"COUNTIF(L7:L67,G3)","v":3},null,10,10,11,10,10,10]
[21,1893,12,1897,13,1899,null,null,null,null,0,211,null,null,null,"% of reinforcement given in 6 equal intervals based on number of trials "]
[21,2011,12,2014,24,2016,null,null,null,null,0,212,null,null,null,"%_1","%_2","%_3","%_4","%_5","%_6"]
[12,2113,23,2115,24,2122,null,null,null,null,0,122,null,null,"target sequence",{"$f":"$G$3","v":221},{"$f":"$G$3","v":221},{"$f":"$G$3","v":221},{"$f":"$G$3","v":221},{"$f":"$G$3","v":221},{"$f":"$G$3","v":221}]
[21,2224,21,2237,22,2242,null,null,null,null,0,222,null,null,"total reinforcement",{"$f":"U13","v":0},{"$f":"Z13","v":0},{"$f":"AE13","v":1},{"$f":"AJ13","v":2},{"$f":"AO13","v":0},{"$f":"AT13","v":0}]
[21,2343,21,2353,22,2360,null,null,null,null,0,222,null,null,"% target"]
[21,2458,21,2463,22,2468,null,null,null,null,0,222,null,null,"CCRF"]
[21,2567,21,2574,22,2580,null,null,null,null,0,222,null,null,"% CCRf"]
[21,2674,12,2678,24,2681,null,null,null,null,0,212,null,null,"average response rate",{"$f":"F16/P20","v":130.1},{"$f":"(F26-F16)/Q20","v":116.7},{"$f":"(F37-F26)/R20","v":118.54545454545455},{"$f":"(F47-F37)/S20","v":137.5},{"$f":"(F57-F47)/T20","v":118.1},{"$f":"(F67-F57)/U20","v":100.5}]
[12,2789,23,2793,13,2796,null,null,null,null,0,121]
[21,2895,21,2908,22,2915,null,null,null,null,0,222]
[12,3054,23,3056,13,3061,null,null,null,null,0,121]
[12,3184,14,3202,13,3211,null,null,null,null,0,111]
[12,3304,14,3306,13,3310,null,null,null,null,0,111]
[21,3408,12,3418,13,3423,null,null,null,null,0,211]
[21,3520,21,3523,11,3528,null,null,null,null,0,221]
[12,3620,14,3632,13,3641,null,null,null,null,0,111]
[12,3762,23,3767,24,3772,null,null,null,null,0,122]
[21,3872,12,3879,24,3882,null,null,null,null,0,212]
[21,3982,21,3986,22,3992,null,null,null,null,0,222]
[21,4089,21,4100,22,4107,null,null,null,null,0,222]
[21,4204,21,4217,22,4224,null,null,null,null,0,222]
[21,4324,21,4337,11,4340,null,null,null,null,0,221]
[21,4461,21,4465,11,4473,null,null,null,null,0,221]
[12,4560,14,4621,13,4665,null,null,null,null,0,111]
[12,4776,14,4811,13,4821,null,null,null,null,0,111]
[12,4921,14,4928,13,4950,null,null,null,null,0,111]
[12,5087,14,5089,13,5147,null,null,null,null,0,111]
[12,5256,14,5262,24,5357,null,null,null,null,0,112]
[12,5477,14,5484,13,5501,null,null,null,null,0,111]
[12,5595,14,5619,24,5621,null,null,null,null,0,112]
[12,5713,23,5720,24,5726,null,null,null,null,0,122]
[12,5818,14,5822,24,5824,null,null,null,null,0,112]
[12,5910,14,5912,13,5917,null,null,null,null,0,111]
[12,6009,14,6011,13,6012,null,null,null,null,0,111]
[12,6113,14,6114,13,6116,null,null,null,null,0,111]
[12,6223,14,6225,13,6226,null,null,null,null,0,111]
[12,6324,14,6326,13,6328,null,null,null,null,0,111]
[12,6420,14,6421,13,6423,null,null,null,null,0,111]
[12,6515,14,6517,13,6518,null,null,null,null,0,111]
[12,6614,14,6616,13,6618,null,null,null,null,0,111]
[12,6714,23,6716,24,6720,null,null,null,null,0,122]
[12,6814,23,6818,13,6821,null,null,null,null,0,121]
[12,6908,14,6909,13,6911,null,null,null,null,0,111]
[12,7014,14,7015,13,7017,null,null,null,null,0,111]
[12,7114,14,7116,13,7117,null,null,null,null,0,111]
[12,7214,14,7215,13,7217,null,null,null,null,0,111]
[12,7329,14,7331,13,7333,null,null,null,null,null,111]

{"sheet":"!MA21940.Gus","index":29,"n_rows":79,"n_cols":48,"rows_kept":79,"cut":false,"hidden":false,"merged":[[4,39,4,42],[5,39,5,40],[4,44,4,47],[5,44,5,45],[4,24,4,27],[5,24,5,25],[4,29,4,32],[5,29,5,30],[4,34,4,37],[5,34,5,35],[1,1,1,2],[5,13,5,14],[18,13,18,14],[19,13,19,14],[4,19,4,22],[5,19,5,20]]}
["Report for:!MA21940.Gus"]
["Date:","<date>"]
["Hen:","<hen>",null,null,null,"Correct Sequence",{"$f":"Start!J2","v":221},null,null,null,null,null,null,null,null,"Total Sequences in Data",{"$f":"4994-COUNTBLANK(L7:L5000)","v":73},null,null,null,null,"Total Sequences in Block Data",{"$f":"COUNTA(L7:L18)","v":12},null,null,null,"Total Sequences in Block Data",{"$f":"COUNTA(L19:L30)","v":12},null,null,null,"Total Sequences in Block Data",{"$f":"COUNTA(L31:L43)","v":13},null,null,null,"Total Sequences in Block Data",{"$f":"COUNTA(L44:L55)","v":12},null,null,null,"Total Sequences in Block Data",{"$f":"COUNTA(L56:L67)","v":12},null,null,null,"Total Sequences in Block Data",{"$f":"COUNTA(L68:L79)","v":12}]
[null,null,null,null,null,null,null,null,null,null,null,null,null,null,null,"Total Sequences in Summary",{"$f":"SUM(O7:O14)","v":73},null,null,null,null,"Total Sequences in Block Summary",{"$f":"SUM(U7:U14)","v":12},null,null,null,"Total Sequences in Block Summary",{"$f":"SUM(Z7:Z14)","v":12},null,null,null,"Total Sequences in Block Summary",{"$f":"SUM(AE7:AE14)","v":13},null,null,null,"Total Sequences in Block Summary",{"$f":"SUM(AJ7:AJ14)","v":12},null,null,null,"Total Sequences in Block Summary",{"$f":"SUM(AO7:AO14)","v":12},null,null,null,"Total Sequences in Block Summary",{"$f":"SUM(AT7:AT14)","v":12}]
[null,null,null,null,null,null,null,null,null,null,null,null,null,null,null,null,null,null,null,"Block 1",null,null,null,null,"Block 2",null,null,null,null,"Block 3",null,null,null,null,"Block 4",null,null,null,null,"Block 5",null,null,null,null,"Block 6"]
["Sequence\nComponent\n1","Time\n1","Sequence\nComponent\n2","Time\n2","Sequence\nComponent\n3","Time\n3","Sequence\nComponent\n4","Time\n4","Sequence\nComponent\n5","Time\n5","Correct?\n0=No 1=Yes","Sequence",null,"Frequency",null,"Relative Frequency","Variability",null,null,"Frequency",null,"Relative Frequency","Variability",null,"Frequency",null,"Relative Frequency","Variability",null,"Frequency",null,"Relative Frequency","Variability",null,"Frequency",null,"Relative Frequency","Variability",null,"Frequency",null,"Relative Frequency","Variability",null,"Frequency",null,"Relative Frequency","Variability"]
[21,129,21,135,22,141,null,null,null,null,0,222,null,111,{"$f":"COUNTIF($L$7:$L$500,N7)","v":15},{"$f":"O7/$Q$4","v":0.20547945205479451},{"$f":"IF(P7=0,0,(P7*((LOG(P7))/LOG(2))))","v":-0.46909601985030785},null,null,{"$f":"N7","v":111},{"$f":"COUNTIF(L7:L18,T7)","v":0},{"$f":"U7/(W4-U13)","v":0},{"$f":"IF(V7=0,0,(V7*((LOG(V7))/LOG(2))))","v":0},null,{"$f":"N7","v":111},{"$f":"COUNTIF(L19:L30,Y7)","v":2},{"$f":"Z7/(AB4-Z13)","v":0.25},{"$f":"IF(AA7=0,0,(AA7*((LOG(AA7))/LOG(2))))","v":-0.5},null,{"$f":"N7","v":111},{"$f":"COUNTIF(L31:L43,AD7)","v":8},{"$f":"AE7/(AG4-AE13)","v":0.61538461538461542},{"$f":"IF(AF7=0,0,(AF7*((LOG(AF7))/LOG(2))))","v":-0.43103982654836437},null,{"$f":"N7","v":111},{"$f":"COUNTIF(L44:L55,AI7)","v":4},{"$f":"AJ7/(AL4-AJ13)","v":0.36363636363636365},{"$f":"IF(AK7=0,0,(AK7*((LOG(AK7))/LOG(2))))","v":-0.53070240677719893},null,{"$f":"N7","v":111},{"$f":"COUNTIF(L56:L67,AN7)","v":0},{"$f":"AO7/(AQ4-AO13)","v":0},{"$f":"IF(AP7=0,0,(AP7*((LOG(AP7))/LOG(2))))","v":0},null,{"$f":"N7","v":111},{"$f":"COUNTIF(L68:L79,AS7)","v":1},{"$f":"AT7/(AV4-AT13)","v":0.1},{"$f":"IF(AU7=0,0,(AU7*((LOG(AU7))/LOG(2))))","v":-0.33219280948873625}]
[21,328,21,341,22,347,null,null,null,null,0,222,null,112,{"$f":"COUNTIF($L$7:$L$500,N8)","v":2},{"$f":"O8/$Q$4","v":2.7397260273972601E-2},{"$f":"IF(P8=0,0,(P8*((LOG(P8))/LOG(2))))","v":-0.14218697421589085},null,null,{"$f":"N8","v":112},{"$f":"COUNTIF(L7:L18,T8)","v":0},{"$f":"U8/(W4-U13)","v":0},{"$f":"IF(V8=0,0,(V8*((LOG(V8))/LOG(2))))","v":0},null,{"$f":"N8","v":112},{"$f":"COUNTIF(L19:L30,Y8)","v":2},{"$f":"Z8/(AB4-Z13)","v":0.25},{"$f":"IF(AA8=0,0,(AA8*((LOG(AA8))/LOG(2))))","v":-0.5},null,{"$f":"N8","v":112},{"$f":"COUNTIF(L31:L43,AD8)","v":0},{"$f":"AE8/(AG4-AE13)","v":0},{"$f":"IF(AF8=0,0,(AF8*((LOG(AF8))/LOG(2))))","v":0},null,{"$f":"N8","v":112},{"$f":"COUNTIF(L44:L55,AI8)","v":0},{"$f":"AJ8/(AL4-AJ13)","v":0},{"$f":"IF(AK8=0,0,(AK8*((LOG(AK8))/LOG(2))))","v":0},null,{"$f":"N8","v":112},{"$f":"COUNTIF(L56:L67,AN8)","v":0},{"$f":"AO8/(AQ4-AO13)","v":0},{"$f":"IF(AP8=0,0,(AP8*((LOG(AP8))/LOG(2))))","v":0},null,{"$f":"N8","v":112},{"$f":"COUNTIF(L68:L79,AS8)","v":0},{"$f":"AT8/(AV4-AT13)","v":0},{"$f":"IF(AU8=0,0,(AU8*((LOG(AU8))/LOG(2))))","v":0}]
[21,455,21,458,22,467,null,null,null,null,0,222,null,121,{"$f":"COUNTIF($L$7:$L$500,N9)","v":4},{"$f":"O9/$Q$4","v":5.4794520547945202E-2},{"$f":"IF(P9=0,0,(P9*((LOG(P9))/LOG(2))))","v":-0.22957942788383656},null,null,{"$f":"N9","v":121},{"$f":"COUNTIF(L7:L18,T9)","v":0},{"$f":"U9/(W4-U13)","v":0},{"$f":"IF(V9=0,0,(V9*((LOG(V9))/LOG(2))))","v":0},null,{"$f":"N9","v":121},{"$f":"COUNTIF(L19:L30,Y9)","v":0},{"$f":"Z9/(AB4-Z13)","v":0},{"$f":"IF(AA9=0,0,(AA9*((LOG(AA9))/LOG(2))))","v":0},null,{"$f":"N9","v":121},{"$f":"COUNTIF(L31:L43,AD9)","v":3},{"$f":"AE9/(AG4-AE13)","v":0.23076923076923078},{"$f":"IF(AF9=0,0,(AF9*((LOG(AF9))/LOG(2))))","v":-0.48818705017383146},null,{"$f":"N9","v":121},{"$f":"COUNTIF(L44:L55,AI9)","v":0},{"$f":"AJ9/(AL4-AJ13)","v":0},{"$f":"IF(AK9=0,0,(AK9*((LOG(AK9))/LOG(2))))","v":0},null,{"$f":"N9","v":121},{"$f":"COUNTIF(L56:L67,AN9)","v":0},{"$f":"AO9/(AQ4-AO13)","v":0},{"$f":"IF(AP9=0,0,(AP9*((LOG(AP9))/LOG(2))))","v":0},null,{"$f":"N9","v":121},{"$f":"COUNTIF(L68:L79,AS9)","v":1},{"$f":"AT9/(AV4-AT13)","v":0.1},{"$f":"IF(AU9=0,0,(AU9*((LOG(AU9))/LOG(2))))","v":-0.33219280948873625}]
[12,560,23,563,24,573,null,null,null,null,0,122,null,122,{"$f":"COUNTIF($L$7:$L$500,N10)","v":4},{"$f":"O10/$Q$4","v":5.4794520547945202E-2},{"$f":"IF(P10=0,0,(P10*((LOG(P10))/LOG(2))))","v":-0.22957942788383656},null,null,{"$f":"N10","v":122},{"$f":"COUNTIF(L7:L18,T10)","v":2},{"$f":"U10/(W4-U13)","v":0.18181818181818182},{"$f":"IF(V10=0,0,(V10*((LOG(V10))/LOG(2))))","v":-0.44716938520678134},null,{"$f":"N10","v":122},{"$f":"COUNTIF(L19:L30,Y10)","v":1},{"$f":"Z10/(AB4-Z13)","v":0.125},{"$f":"IF(AA10=0,0,(AA10*((LOG(AA10))/LOG(2))))","v":-0.375},null,{"$f":"N10","v":122},{"$f":"COUNTIF(L31:L43,AD10)","v":0},{"$f":"AE10/(AG4-AE13)","v":0},{"$f":"IF(AF10=0,0,(AF10*((LOG(AF10))/LOG(2))))","v":0},null,{"$f":"N10","v":122},{"$f":"COUNTIF(L44:L55,AI10)","v":1},{"$f":"AJ10/(AL4-AJ13)","v":9.0909090909090912E-2},{"$f":"IF(AK10=0,0,(AK10*((LOG(AK10))/LOG(2))))","v":-0.31449378351248153},null,{"$f":"N10","v":122},{"$f":"COUNTIF(L56:L67,AN10)","v":0},{"$f":"AO10/(AQ4-AO13)","v":0},{"$f":"IF(AP10=0,0,(AP10*((LOG(AP10))/LOG(2))))","v":0},null,{"$f":"N10","v":122},{"$f":"COUNTIF(L68:L79,AS10)","v":0},{"$f":"AT10/(AV4-AT13)","v":0},{"$f":"IF(AU10=0,0,(AU10*((LOG(AU10))/LOG(2))))","v":0}]
[21,676,12,680,24,692,null,null,null,null,0,212,null,211,{"$f":"COUNTIF($L$7:$L$500,N11)","v":3},{"$f":"O11/$Q$4","v":4.1095890410958902E-2},{"$f":"IF(P11=0,0,(P11*((LOG(P11))/LOG(2))))","v":-0.18924090649967923},null,null,{"$f":"N11","v":211},{"$f":"COUNTIF(L7:L18,T11)","v":0},{"$f":"U11/(W4-U13)","v":0},{"$f":"IF(V11=0,0,(V11*((LOG(V11))/LOG(2))))","v":0},null,{"$f":"N11","v":211},{"$f":"COUNTIF(L19:L30,Y11)","v":1},{"$f":"Z11/(AB4-Z13)","v":0.125},{"$f":"IF(AA11=0,0,(AA11*((LOG(AA11))/LOG(2))))","v":-0.375},null,{"$f":"N11","v":211},{"$f":"COUNTIF(L31:L43,AD11)","v":2},{"$f":"AE11/(AG4-AE13)","v":0.15384615384615385},{"$f":"IF(AF11=0,0,(AF11*((LOG(AF11))/LOG(2))))","v":-0.4154522643293988},null,{"$f":"N11","v":211},{"$f":"COUNTIF(L44:L55,AI11)","v":0},{"$f":"AJ11/(AL4-AJ13)","v":0},{"$f":"IF(AK11=0,0,(AK11*((LOG(AK11))/LOG(2))))","v":0},null,{"$f":"N11","v":211},{"$f":"COUNTIF(L56:L67,AN11)","v":0},{"$f":"AO11/(AQ4-AO13)","v":0},{"$f":"IF(AP11=0,0,(AP11*((LOG(AP11))/LOG(2))))","v":0},null,{"$f":"N11","v":211},{"$f":"COUNTIF(L68:L79,AS11)","v":0},{"$f":"AT11/(AV4-AT13)","v":0},{"$f":"IF(AU11=0,0,(AU11*((LOG(AU11))/LOG(2))))","v":0}]
[21,900,12,909,24,912,null,null,null,null,0,212,null,212,{"$f":"COUNTIF($L$7:$L$500,N12)","v":14},{"$f":"O12/$Q$4","v":0.19178082191780821},{"$f":"IF(P12=0,0,(P12*((LOG(P12))/LOG(2))))","v":-0.45691198514402448},null,null,{"$f":"N12","v":212},{"$f":"COUNTIF(L7:L18,T12)","v":6},{"$f":"U12/(W4-U13)","v":0.54545454545454541},{"$f":"IF(V12=0,0,(V12*((LOG(V12))/LOG(2))))","v":-0.47698315522698609},null,{"$f":"N12","v":212},{"$f":"COUNTIF(L19:L30,Y12)","v":1},{"$f":"Z12/(AB4-Z13)","v":0.125},{"$f":"IF(AA12=0,0,(AA12*((LOG(AA12))/LOG(2))))","v":-0.375},null,{"$f":"N12","v":212},{"$f":"COUNTIF(L31:L43,AD12)","v":0},{"$f":"AE12/(AG4-AE13)","v":0},{"$f":"IF(AF12=0,0,(AF12*((LOG(AF12))/LOG(2))))","v":0},null,{"$f":"N12","v":212},{"$f":"COUNTIF(L44:L55,AI12)","v":1},{"$f":"AJ12/(AL4-AJ13)","v":9.0909090909090912E-2},{"$f":"IF(AK12=0,0,(AK12*((LOG(AK12))/LOG(2))))","v":-0.31449378351248153},null,{"$f":"N12","v":212},{"$f":"COUNTIF(L56:L67,AN12)","v":3},{"$f":"AO12/(AQ4-AO13)","v":0.42857142857142855},{"$f":"IF(AP12=0,0,(AP12*((LOG(AP12))/LOG(2))))","v":-0.52388246628704915},null,{"$f":"N12","v":212},{"$f":"COUNTIF(L68:L79,AS12)","v":3},{"$f":"AT12/(AV4-AT13)","v":0.3},{"$f":"IF(AU12=0,0,(AU12*((LOG(AU12))/LOG(2))))","v":-0.52108967824986185}]
[21,1029,12,1033,24,1039,null,null,null,null,0,212,null,221,{"$f":"COUNTIF($L$7:$L$500,N13)","v":13},{"$f":"O13/$Q$4","v":0.17808219178082191},{"$f":"IF(P13=0,0,(P13*((LOG(P13))/LOG(2))))","v":-0.44331510862474005},null,null,{"$f":"N13","v":221},{"$f":"COUNTIF(L7:L18,T13)","v":1},null,null,null,{"$f":"N13","v":221},{"$f":"COUNTIF(L19:L30,Y13)","v":4},null,null,null,{"$f":"N13","v":221},{"$f":"COUNTIF(L31:L43,AD13)","v":0},null,null,null,{"$f":"N13","v":221},{"$f":"COUNTIF(L44:L55,AI13)","v":1},null,null,null,{"$f":"N13","v":221},{"$f":"COUNTIF(L56:L67,AN13)","v":5},null,null,null,{"$f":"N13","v":221},{"$f":"COUNTIF(L68:L79,AS13)","v":2}]
[21,1142,21,1151,11,1156,null,null,null,null,0,221,null,222,{"$f":"COUNTIF($L$7:$L$500,N14)","v":18},{"$f":"O14/$Q$4","v":0.24657534246575341},{"$f":"IF(P14=0,0,(P14*((LOG(P14))/LOG(2))))","v":-0.49805742512162587},null,null,{"$f":"N14","v":222},{"$f":"COUNTIF(L7:L18,T14)","v":3},{"$f":"U14/(W4-U13)","v":0.27272727272727271},{"$f":"IF(V14=0,0,(V14*((LOG(V14))/LOG(2))))","v":-0.51121885034076575},null,{"$f":"N14","v":222},{"$f":"COUNTIF(L19:L30,Y14)","v":1},{"$f":"Z14/(AB4-Z13)","v":0.125},{"$f":"IF(AA14=0,0,(AA14*((LOG(AA14))/LOG(2))))","v":-0.375},null,{"$f":"N14","v":222},{"$f":"COUNTIF(L31:L43,AD14)","v":0},{"$f":"AE14/(AG4-AE13)","v":0},{"$f":"IF(AF14=0,0,(AF14*((LOG(AF14))/LOG(2))))","v":0},null,{"$f":"N14","v":222},{"$f":"COUNTIF(L44:L55,AI14)","v":5},{"$f":"AJ14/(AL4-AJ13)","v":0.45454545454545453},{"$f":"IF(AK14=0,0,(AK14*((LOG(AK14))/LOG(2))))","v":-0.51704705624997038},null,{"$f":"N14","v":222},{"$f":"COUNTIF(L56:L67,AN14)","v":4},{"$f":"AO14/(AQ4-AO13)","v":0.5714285714285714},{"$f":"IF(AP14=0,0,(AP14*((LOG(AP14))/LOG(2))))","v":-0.46134566974720237},null,{"$f":"N14","v":222},{"$f":"COUNTIF(L68:L79,AS14)","v":5},{"$f":"AT14/(AV4-AT13)","v":0.5},{"$f":"IF(AU14=0,0,(AU14*((LOG(AU14))/LOG(2))))","v":-0.5}]
[21,1328,12,1337,24,1349,null,null,null,null,0,212,null,null,null,{"$f":"SUM(P7:P14)","v":0.99999999999999989},{"$f":"-SUM(Q7:Q14)","v":2.6579672752239416},null,null,null,null,{"$f":"SUM(V7:V14)","v":1},{"$f":"-SUM(W7:W14)","v":1.4353713907745331},null,null,null,{"$f":"SUM(AA7:AA14)","v":1},{"$f":"-SUM(AB7:AB14)","v":2.5},null,null,null,{"$f":"SUM(AF7:AF14)","v":1},{"$f":"-SUM(AG7:AG14)","v":1.3346791410515946},null,null,null,{"$f":"SUM(AK7:AK14)","v":1},{"$f":"-SUM(AL7:AL14)","v":1.6767370300521325},null,null,null,{"$f":"SUM(AP7:AP14)","v":1},{"$f":"-SUM(AQ7:AQ14)","v":0.98522813603425152},null,null,null,{"$f":"SUM(AU7:AU14)","v":1},{"$f":"-SUM(AV7:AV14)","v":1.6854752972273344}]
[21,1447,12,1454,24,1460,null,null,null,null,0,212,null,null,null,"U=",{"$f":"Q15/(LOG(Q4)/LOG(2))","v":0.42940914559699134},null,null,null,null,"U1=",{"$f":"W15/(LOG(W4)/LOG(2))","v":0.40038672384600721},null,null,null,"U2=",{"$f":"AB15/(LOG(AB4)/LOG(2))","v":0.69735736412782456},null,null,null,"U3=",{"$f":"AG15/(LOG(AG4)/LOG(2))","v":0.36068122783042328},null,null,null,"U4=",{"$f":"AL15/(LOG(AL4)/LOG(2))","v":0.46771396624506884},null,null,null,"U5=",{"$f":"AQ15/(LOG(AQ4)/LOG(2))","v":0.27482243840376613},null,null,null,"U6=",{"$f":"AV15/(LOG(AV4)/LOG(2))","v":0.47015144423080618}]
[21,1557,12,1564,24,1568,null,null,null,null,0,212]
[12,1661,23,1666,24,1672,null,null,null,null,0,122]
[21,1768,21,1780,22,1784,null,null,null,null,0,222,null,"Total Target Seq"]
[12,1879,14,1881,24,1886,null,null,null,null,0,112,null,{"$f":"COUNTIF(L7:L79,G3)","v":13},null,12,12,13,12,12,12]
[21,1987,21,1991,11,1995,null,null,null,null,0,221,null,null,null,"% of reinforcement given in 6 equal intervals based on number of trials "]
[12,2095,14,2105,13,2116,null,null,null,null,0,111,null,null,null,"%_1","%_2","%_3","%_4","%_5","%_6"]
[12,2222,14,2227,24,2236,null,null,null,null,0,112,null,null,"target sequence",{"$f":"$G$3","v":221},{"$f":"$G$3","v":221},{"$f":"$G$3","v":221},{"$f":"$G$3","v":221},{"$f":"$G$3","v":221},{"$f":"$G$3","v":221}]
[21,2334,12,2341,24,2343,null,null,null,null,0,212,null,null,"total reinforcement",{"$f":"U13","v":1},{"$f":"Z13","v":4},{"$f":"AE13","v":0},{"$f":"AJ13","v":1},{"$f":"AO13","v":5},{"$f":"AT13","v":2}]
[21,2434,21,2441,11,2447,null,null,null,null,0,221,null,null,"% target"]
[12,2537,23,2564,24,2573,null,null,null,null,0,122,null,null,"CCRF"]
[21,2665,12,2667,13,2678,null,null,null,null,0,211,null,null,"% CCRf"]
[21,2775,21,2782,11,2784,null,null,null,null,0,221,null,null,"average response rate",{"$f":"F18/P20","v":139.33333333333334},{"$f":"(F30-F18)/Q20","v":112.5},{"$f":"(F43-F30)/R20","v":109.30769230769231},{"$f":"(F55-F43)/S20","v":113.58333333333333},{"$f":"(F67-F55)/T20","v":160.5},{"$f":"(F79-F67)/U20","v":161.66666666666666}]
[12,2871,14,2886,13,2914,null,null,null,null,0,111]
[21,3011,21,3018,11,3022,null,null,null,null,0,221]
[12,3116,14,3189,13,3197,null,null,null,null,0,111]
[21,3300,12,3302,13,3310,null,null,null,null,0,211]
[21,3406,12,3411,13,3416,null,null,null,null,0,211]
[12,3509,23,3513,13,3520,null,null,null,null,0,121]
[12,3615,14,3616,13,3618,null,null,null,null,0,111]
[12,3710,14,3712,13,3714,null,null,null,null,0,111]
[12,3809,14,3811,13,3814,null,null,null,null,0,111]
[12,3911,23,3913,13,3915,null,null,null,null,0,121]
[12,4007,14,4009,13,4012,null,null,null,null,0,111]
[12,4105,23,4107,13,4112,null,null,null,null,0,121]
[12,4238,14,4240,13,4241,null,null,null,null,0,111]
[12,4344,14,4346,13,4348,null,null,null,null,0,111]
[12,4439,14,4441,13,4443,null,null,null,null,0,111]
[12,4536,14,4537,13,4540,null,null,null,null,0,111]
[12,4633,14,4634,13,4637,null,null,null,null,0,111]
[12,4749,14,4750,13,4752,null,null,null,null,0,111]
[21,4850,21,4856,22,4863,null,null,null,null,0,222]
[21,4960,21,4962,22,4967,null,null,null,null,0,222]
[21,5064,21,5071,22,5077,null,null,null,null,0,222]
[21,5181,21,5188,11,5190,null,null,null,null,0,221]
[12,5347,23,5354,24,5362,null,null,null,null,0,122]
[21,5460,21,5473,22,5480,null,null,null,null,0,222]
[21,5577,21,5585,22,5597,null,null,null,null,0,222]
[12,5688,14,5690,13,5692,null,null,null,null,0,111]
[21,5793,12,5803,24,5806,null,null,null,null,0,212]
[21,5904,21,5912,11,5914,null,null,null,null,0,221]
[21,6043,21,6046,11,6049,null,null,null,null,0,221]
[21,6540,12,6546,24,6549,null,null,null,null,0,212]
[21,6642,21,6645,22,6659,null,null,null,null,0,222]
[21,6757,21,6763,22,6770,null,null,null,null,0,222]
[21,6869,21,6884,22,6890,null,null,null,null,0,222]
[21,6987,21,6995,11,6998,null,null,null,null,0,221]
[21,7159,12,7163,24,7166,null,null,null,null,0,212]
[21,7300,12,7304,24,7308,null,null,null,null,0,212]
[21,7409,21,7417,11,7419,null,null,null,null,0,221]
[21,7603,21,7607,22,7619,null,null,null,null,0,222]
[21,7718,21,7728,11,7732,null,null,null,null,0,221]
[21,8174,21,8183,22,8191,null,null,null,null,0,222]
[21,8288,21,8299,11,8300,null,null,null,null,0,221]
[21,8531,12,8539,24,8552,null,null,null,null,0,212]
[21,8679,12,8684,24,8689,null,null,null,null,0,212]
[21,8849,21,8854,22,8859,null,null,null,null,0,222]
[21,8957,21,8962,22,8967,null,null,null,null,0,222]
[21,9062,21,9070,22,9080,null,null,null,null,0,222]
[12,9173,23,9177,13,9189,null,null,null,null,0,121]
[21,9289,21,9295,11,9298,null,null,null,null,0,221]
[21,9452,12,9455,24,9467,null,null,null,null,0,212]
[21,9564,21,9570,22,9575,null,null,null,null,0,222]
[12,9669,14,9671,13,9672,null,null,null,null,null,111]

{"sheet":"!MA22B00.Gus","index":30,"n_rows":157,"n_cols":48,"rows_kept":157,"cut":false,"hidden":false,"merged":[[4,39,4,42],[5,39,5,40],[4,44,4,47],[5,44,5,45],[4,24,4,27],[5,24,5,25],[4,29,4,32],[5,29,5,30],[4,34,4,37],[5,34,5,35],[1,1,1,2],[5,13,5,14],[18,13,18,14],[19,13,19,14],[4,19,4,22],[5,19,5,20]]}
["Report for:!MA22B00.Gus"]
["Date:","<date>"]
["Hen:","<hen>",null,null,null,"Correct Sequence",{"$f":"Start!J2","v":221},null,null,null,null,null,null,null,null,"Total Sequences in Data",{"$f":"4994-COUNTBLANK(L7:L5000)","v":151},null,null,null,null,"Total Sequences in Block Data",{"$f":"COUNTA(L7:L31)","v":25},null,null,null,"Total Sequences in Block Data",{"$f":"COUNTA(L32:L56)","v":25},null,null,null,"Total Sequences in Block Data",{"$f":"COUNTA(L57:L82)","v":26},null,null,null,"Total Sequences in Block Data",{"$f":"COUNTA(L83:L107)","v":25},null,null,null,"Total Sequences in Block Data",{"$f":"COUNTA(L108:L132)","v":25},null,null,null,"Total Sequences in Block Data",{"$f":"COUNTA(L133:L157)","v":25}]
[null,null,null,null,null,null,null,null,null,null,null,null,null,null,null,"Total Sequences in Summary",{"$f":"SUM(O7:O14)","v":151},null,null,null,null,"Total Sequences in Block Summary",{"$f":"SUM(U7:U14)","v":25},null,null,null,"Total Sequences in Block Summary",{"$f":"SUM(Z7:Z14)","v":25},null,null,null,"Total Sequences in Block Summary",{"$f":"SUM(AE7:AE14)","v":26},null,null,null,"Total Sequences in Block Summary",{"$f":"SUM(AJ7:AJ14)","v":25},null,null,null,"Total Sequences in Block Summary",{"$f":"SUM(AO7:AO14)","v":25},null,null,null,"Total Sequences in Block Summary",{"$f":"SUM(AT7:AT14)","v":25}]
[null,null,null,null,null,null,null,null,null,null,null,null,null,null,null,null,null,null,null,"Block 1",null,null,null,null,"Block 2",null,null,null,null,"Block 3",null,null,null,null,"Block 4",null,null,null,null,"Block 5",null,null,null,null,"Block 6"]
["Sequence\nComponent\n1","Time\n1","Sequence\nComponent\n2","Time\n2","Sequence\nComponent\n3","Time\n3","Sequence\nComponent\n4","Time\n4","Sequence\nComponent\n5","Time\n5","Correct?\n0=No 1=Yes","Sequence",null,"Frequency",null,"Relative Frequency","Variability",null,null,"Frequency",null,"Relative Frequency","Variability",null,"Frequency",null,"Relative Frequency","Variability",null,"Frequency",null,"Relative Frequency","Variability",null,"Frequency",null,"Relative Frequency","Variability",null,"Frequency",null,"Relative Frequency","Variability",null,"Frequency",null,"Relative Frequency","Variability"]
[12,8,14,12,24,18,null,null,null,null,0,112,null,111,{"$f":"COUNTIF($L$7:$L$500,N7)","v":0},{"$f":"O7/$Q$4","v":0},{"$f":"IF(P7=0,0,(P7*((LOG(P7))/LOG(2))))","v":0},null,null,{"$f":"N7","v":111},{"$f":"COUNTIF(L7:L31,T7)","v":0},{"$f":"U7/(W4-U13)","v":0},{"$f":"IF(V7=0,0,(V7*((LOG(V7))/LOG(2))))","v":0},null,{"$f":"N7","v":111},{"$f":"COUNTIF(L32:L56,Y7)","v":0},{"$f":"Z7/(AB4-Z13)","v":0},{"$f":"IF(AA7=0,0,(AA7*((LOG(AA7))/LOG(2))))","v":0},null,{"$f":"N7","v":111},{"$f":"COUNTIF(L57:L82,AD7)","v":0},{"$f":"AE7/(AG4-AE13)","v":0},{"$f":"IF(AF7=0,0,(AF7*((LOG(AF7))/LOG(2))))","v":0},null,{"$f":"N7","v":111},{"$f":"COUNTIF(L83:L107,AI7)","v":0},{"$f":"AJ7/(AL4-AJ13)","v":0},{"$f":"IF(AK7=0,0,(AK7*((LOG(AK7))/LOG(2))))","v":0},null,{"$f":"N7","v":111},{"$f":"COUNTIF(L108:L132,AN7)","v":0},{"$f":"AO7/(AQ4-AO13)","v":0},{"$f":"IF(AP7=0,0,(AP7*((LOG(AP7))/LOG(2))))","v":0},null,{"$f":"N7","v":111},{"$f":"COUNTIF(L133:L157,AS7)","v":0},{"$f":"AT7/(AV4-AT13)","v":0},{"$f":"IF(AU7=0,0,(AU7*((LOG(AU7))/LOG(2))))","v":0}]
[21,116,12,124,24,126,null,null,null,null,0,212,null,112,{"$f":"COUNTIF($L$7:$L$500,N8)","v":2},{"$f":"O8/$Q$4","v":1.3245033112582781E-2},{"$f":"IF(P8=0,0,(P8*((LOG(P8))/LOG(2))))","v":-8.2627877342054026E-2},null,null,{"$f":"N8","v":112},{"$f":"COUNTIF(L7:L31,T8)","v":1},{"$f":"U8/(W4-U13)","v":0.05},{"$f":"IF(V8=0,0,(V8*((LOG(V8))/LOG(2))))","v":-0.21609640474436814},null,{"$f":"N8","v":112},{"$f":"COUNTIF(L32:L56,Y8)","v":1},{"$f":"Z8/(AB4-Z13)","v":5.5555555555555552E-2},{"$f":"IF(AA8=0,0,(AA8*((LOG(AA8))/LOG(2))))","v":-0.23166250008012845},null,{"$f":"N8","v":112},{"$f":"COUNTIF(L57:L82,AD8)","v":0},{"$f":"AE8/(AG4-AE13)","v":0},{"$f":"IF(AF8=0,0,(AF8*((LOG(AF8))/LOG(2))))","v":0},null,{"$f":"N8","v":112},{"$f":"COUNTIF(L83:L107,AI8)","v":0},{"$f":"AJ8/(AL4-AJ13)","v":0},{"$f":"IF(AK8=0,0,(AK8*((LOG(AK8))/LOG(2))))","v":0},null,{"$f":"N8","v":112},{"$f":"COUNTIF(L108:L132,AN8)","v":0},{"$f":"AO8/(AQ4-AO13)","v":0},{"$f":"IF(AP8=0,0,(AP8*((LOG(AP8))/LOG(2))))","v":0},null,{"$f":"N8","v":112},{"$f":"COUNTIF(L133:L157,AS8)","v":0},{"$f":"AT8/(AV4-AT13)","v":0},{"$f":"IF(AU8=0,0,(AU8*((LOG(AU8))/LOG(2))))","v":0}]
[21,223,12,229,24,233,null,null,null,null,0,212,null,121,{"$f":"COUNTIF($L$7:$L$500,N9)","v":2},{"$f":"O9/$Q$4","v":1.3245033112582781E-2},{"$f":"IF(P9=0,0,(P9*((LOG(P9))/LOG(2))))","v":-8.2627877342054026E-2},null,null,{"$f":"N9","v":121},{"$f":"COUNTIF(L7:L31,T9)","v":1},{"$f":"U9/(W4-U13)","v":0.05},{"$f":"IF(V9=0,0,(V9*((LOG(V9))/LOG(2))))","v":-0.21609640474436814},null,{"$f":"N9","v":121},{"$f":"COUNTIF(L32:L56,Y9)","v":0},{"$f":"Z9/(AB4-Z13)","v":0},{"$f":"IF(AA9=0,0,(AA9*((LOG(AA9))/LOG(2))))","v":0},null,{"$f":"N9","v":121},{"$f":"COUNTIF(L57:L82,AD9)","v":1},{"$f":"AE9/(AG4-AE13)","v":4.5454545454545456E-2},{"$f":"IF(AF9=0,0,(AF9*((LOG(AF9))/LOG(2))))","v":-0.20270143721078623},null,{"$f":"N9","v":121},{"$f":"COUNTIF(L83:L107,AI9)","v":0},{"$f":"AJ9/(AL4-AJ13)","v":0},{"$f":"IF(AK9=0,0,(AK9*((LOG(AK9))/LOG(2))))","v":0},null,{"$f":"N9","v":121},{"$f":"COUNTIF(L108:L132,AN9)","v":0},{"$f":"AO9/(AQ4-AO13)","v":0},{"$f":"IF(AP9=0,0,(AP9*((LOG(AP9))/LOG(2))))","v":0},null,{"$f":"N9","v":121},{"$f":"COUNTIF(L133:L157,AS9)","v":0},{"$f":"AT9/(AV4-AT13)","v":0},{"$f":"IF(AU9=0,0,(AU9*((LOG(AU9))/LOG(2))))","v":0}]
[21,331,12,340,24,343,null,null,null,null,0,212,null,122,{"$f":"COUNTIF($L$7:$L$500,N10)","v":11},{"$f":"O10/$Q$4","v":7.2847682119205295E-2},{"$f":"IF(P10=0,0,(P10*((LOG(P10))/LOG(2))))","v":-0.27528943263288469},null,null,{"$f":"N10","v":122},{"$f":"COUNTIF(L7:L31,T10)","v":2},{"$f":"U10/(W4-U13)","v":0.1},{"$f":"IF(V10=0,0,(V10*((LOG(V10))/LOG(2))))","v":-0.33219280948873625},null,{"$f":"N10","v":122},{"$f":"COUNTIF(L32:L56,Y10)","v":1},{"$f":"Z10/(AB4-Z13)","v":5.5555555555555552E-2},{"$f":"IF(AA10=0,0,(AA10*((LOG(AA10))/LOG(2))))","v":-0.23166250008012845},null,{"$f":"N10","v":122},{"$f":"COUNTIF(L57:L82,AD10)","v":1},{"$f":"AE10/(AG4-AE13)","v":4.5454545454545456E-2},{"$f":"IF(AF10=0,0,(AF10*((LOG(AF10))/LOG(2))))","v":-0.20270143721078623},null,{"$f":"N10","v":122},{"$f":"COUNTIF(L83:L107,AI10)","v":2},{"$f":"AJ10/(AL4-AJ13)","v":9.0909090909090912E-2},{"$f":"IF(AK10=0,0,(AK10*((LOG(AK10))/LOG(2))))","v":-0.31449378351248153},null,{"$f":"N10","v":122},{"$f":"COUNTIF(L108:L132,AN10)","v":2},{"$f":"AO10/(AQ4-AO13)","v":0.125},{"$f":"IF(AP10=0,0,(AP10*((LOG(AP10))/LOG(2))))","v":-0.375},null,{"$f":"N10","v":122},{"$f":"COUNTIF(L133:L157,AS10)","v":3},{"$f":"AT10/(AV4-AT13)","v":0.21428571428571427},{"$f":"IF(AU10=0,0,(AU10*((LOG(AU10))/LOG(2))))","v":-0.47622694742923877}]
[21,440,12,451,24,458,null,null,null,null,0,212,null,211,{"$f":"COUNTIF($L$7:$L$500,N11)","v":2},{"$f":"O11/$Q$4","v":1.3245033112582781E-2},{"$f":"IF(P11=0,0,(P11*((LOG(P11))/LOG(2))))","v":-8.2627877342054026E-2},null,null,{"$f":"N11","v":211},{"$f":"COUNTIF(L7:L31,T11)","v":1},{"$f":"U11/(W4-U13)","v":0.05},{"$f":"IF(V11=0,0,(V11*((LOG(V11))/LOG(2))))","v":-0.21609640474436814},null,{"$f":"N11","v":211},{"$f":"COUNTIF(L32:L56,Y11)","v":1},{"$f":"Z11/(AB4-Z13)","v":5.5555555555555552E-2},{"$f":"IF(AA11=0,0,(AA11*((LOG(AA11))/LOG(2))))","v":-0.23166250008012845},null,{"$f":"N11","v":211},{"$f":"COUNTIF(L57:L82,AD11)","v":0},{"$f":"AE11/(AG4-AE13)","v":0},{"$f":"IF(AF11=0,0,(AF11*((LOG(AF11))/LOG(2))))","v":0},null,{"$f":"N11","v":211},{"$f":"COUNTIF(L83:L107,AI11)","v":0},{"$f":"AJ11/(AL4-AJ13)","v":0},{"$f":"IF(AK11=0,0,(AK11*((LOG(AK11))/LOG(2))))","v":0},null,{"$f":"N11","v":211},{"$f":"COUNTIF(L108:L132,AN11)","v":0},{"$f":"AO11/(AQ4-AO13)","v":0},{"$f":"IF(AP11=0,0,(AP11*((LOG(AP11))/LOG(2))))","v":0},null,{"$f":"N11","v":211},{"$f":"COUNTIF(L133:L157,AS11)","v":0},{"$f":"AT11/(AV4-AT13)","v":0},{"$f":"IF(AU11=0,0,(AU11*((LOG(AU11))/LOG(2))))","v":0}]
[12,552,23,557,13,560,null,null,null,null,0,121,null,212,{"$f":"COUNTIF($L$7:$L$500,N12)","v":57},{"$f":"O12/$Q$4","v":0.37748344370860926},{"$f":"IF(P12=0,0,(P12*((LOG(P12))/LOG(2))))","v":-0.53055853863668356},null,null,{"$f":"N12","v":212},{"$f":"COUNTIF(L7:L31,T12)","v":10},{"$f":"U12/(W4-U13)","v":0.5},{"$f":"IF(V12=0,0,(V12*((LOG(V12))/LOG(2))))","v":-0.5},null,{"$f":"N12","v":212},{"$f":"COUNTIF(L32:L56,Y12)","v":10},{"$f":"Z12/(AB4-Z13)","v":0.55555555555555558},{"$f":"IF(AA12=0,0,(AA12*((LOG(AA12))/LOG(2))))","v":-0.4711093925305278},null,{"$f":"N12","v":212},{"$f":"COUNTIF(L57:L82,AD12)","v":9},{"$f":"AE12/(AG4-AE13)","v":0.40909090909090912},{"$f":"IF(AF12=0,0,(AF12*((LOG(AF12))/LOG(2))))","v":-0.52752543430703935},null,{"$f":"N12","v":212},{"$f":"COUNTIF(L83:L107,AI12)","v":8},{"$f":"AJ12/(AL4-AJ13)","v":0.36363636363636365},{"$f":"IF(AK12=0,0,(AK12*((LOG(AK12))/LOG(2))))","v":-0.53070240677719893},null,{"$f":"N12","v":212},{"$f":"COUNTIF(L108:L132,AN12)","v":12},{"$f":"AO12/(AQ4-AO13)","v":0.75},{"$f":"IF(AP12=0,0,(AP12*((LOG(AP12))/LOG(2))))","v":-0.31127812445913283},null,{"$f":"N12","v":212},{"$f":"COUNTIF(L133:L157,AS12)","v":8},{"$f":"AT12/(AV4-AT13)","v":0.5714285714285714},{"$f":"IF(AU12=0,0,(AU12*((LOG(AU12))/LOG(2))))","v":-0.46134566974720237}]
[12,652,23,657,24,668,null,null,null,null,0,122,null,221,{"$f":"COUNTIF($L$7:$L$500,N13)","v":39},{"$f":"O13/$Q$4","v":0.25827814569536423},{"$f":"IF(P13=0,0,(P13*((LOG(P13))/LOG(2))))","v":-0.50441786952351253},null,null,{"$f":"N13","v":221},{"$f":"COUNTIF(L7:L31,T13)","v":5},null,null,null,{"$f":"N13","v":221},{"$f":"COUNTIF(L32:L56,Y13)","v":7},null,null,null,{"$f":"N13","v":221},{"$f":"COUNTIF(L57:L82,AD13)","v":4},null,null,null,{"$f":"N13","v":221},{"$f":"COUNTIF(L83:L107,AI13)","v":3},null,null,null,{"$f":"N13","v":221},{"$f":"COUNTIF(L108:L132,AN13)","v":9},null,null,null,{"$f":"N13","v":221},{"$f":"COUNTIF(L133:L157,AS13)","v":11}]
[21,1145,21,1151,22,1159,null,null,null,null,0,222,null,222,{"$f":"COUNTIF($L$7:$L$500,N14)","v":38},{"$f":"O14/$Q$4","v":0.25165562913907286},{"$f":"IF(P14=0,0,(P14*((LOG(P14))/LOG(2))))","v":-0.50091479856620369},null,null,{"$f":"N14","v":222},{"$f":"COUNTIF(L7:L31,T14)","v":5},{"$f":"U14/(W4-U13)","v":0.25},{"$f":"IF(V14=0,0,(V14*((LOG(V14))/LOG(2))))","v":-0.5},null,{"$f":"N14","v":222},{"$f":"COUNTIF(L32:L56,Y14)","v":5},{"$f":"Z14/(AB4-Z13)","v":0.27777777777777779},{"$f":"IF(AA14=0,0,(AA14*((LOG(AA14))/LOG(2))))","v":-0.51333247404304172},null,{"$f":"N14","v":222},{"$f":"COUNTIF(L57:L82,AD14)","v":11},{"$f":"AE14/(AG4-AE13)","v":0.5},{"$f":"IF(AF14=0,0,(AF14*((LOG(AF14))/LOG(2))))","v":-0.5},null,{"$f":"N14","v":222},{"$f":"COUNTIF(L83:L107,AI14)","v":12},{"$f":"AJ14/(AL4-AJ13)","v":0.54545454545454541},{"$f":"IF(AK14=0,0,(AK14*((LOG(AK14))/LOG(2))))","v":-0.47698315522698609},null,{"$f":"N14","v":222},{"$f":"COUNTIF(L108:L132,AN14)","v":2},{"$f":"AO14/(AQ4-AO13)","v":0.125},{"$f":"IF(AP14=0,0,(AP14*((LOG(AP14))/LOG(2))))","v":-0.375},null,{"$f":"N14","v":222},{"$f":"COUNTIF(L133:L157,AS14)","v":3},{"$f":"AT14/(AV4-AT13)","v":0.21428571428571427},{"$f":"IF(AU14=0,0,(AU14*((LOG(AU14))/LOG(2))))","v":-0.47622694742923877}]
[21,1258,12,1266,24,1271,null,null,null,null,0,212,null,null,null,{"$f":"SUM(P7:P14)","v":1},{"$f":"-SUM(Q7:Q14)","v":2.0590642713854463},null,null,null,null,{"$f":"SUM(V7:V14)","v":1},{"$f":"-SUM(W7:W14)","v":1.9804820237218406},null,null,null,{"$f":"SUM(AA7:AA14)","v":1},{"$f":"-SUM(AB7:AB14)","v":1.679429366813955},null,null,null,{"$f":"SUM(AF7:AF14)","v":1},{"$f":"-SUM(AG7:AG14)","v":1.4329283087286118},null,null,null,{"$f":"SUM(AK7:AK14)","v":1},{"$f":"-SUM(AL7:AL14)","v":1.3221793455166666},null,null,null,{"$f":"SUM(AP7:AP14)","v":1},{"$f":"-SUM(AQ7:AQ14)","v":1.0612781244591329},null,null,null,{"$f":"SUM(AU7:AU14)","v":1},{"$f":"-SUM(AV7:AV14)","v":1.41379956460568}]
[21,1363,12,1368,24,1370,null,null,null,null,0,212,null,null,null,"U=",{"$f":"Q15/(LOG(Q4)/LOG(2))","v":0.28446382117856495},null,null,null,null,"U1=",{"$f":"W15/(LOG(W4)/LOG(2))","v":0.42647359065137508},null,null,null,"U2=",{"$f":"AB15/(LOG(AB4)/LOG(2))","v":0.36164542961340596},null,null,null,"U3=",{"$f":"AG15/(LOG(AG4)/LOG(2))","v":0.30484984270690735},null,null,null,"U4=",{"$f":"AL15/(LOG(AL4)/LOG(2))","v":0.28471582484142471},null,null,null,"U5=",{"$f":"AQ15/(LOG(AQ4)/LOG(2))","v":0.22853380490032268},null,null,null,"U6=",{"$f":"AV15/(LOG(AV4)/LOG(2))","v":0.30444516514501796}]
[21,1465,21,1472,11,1473,null,null,null,null,0,221]
[21,1697,12,1703,13,1707,null,null,null,null,0,211]
[21,1805,21,1810,11,1812,null,null,null,null,0,221,null,"Total Target Seq"]
[21,1965,21,1978,22,1986,null,null,null,null,0,222,null,{"$f":"COUNTIF(L7:L157,G3)","v":39},null,25,25,26,25,25,25]
[21,2085,21,2090,22,2095,null,null,null,null,0,222,null,null,null,"% of reinforcement given in 6 equal intervals based on number of trials "]
[21,2199,12,2207,24,2210,null,null,null,null,0,212,null,null,null,"%_1","%_2","%_3","%_4","%_5","%_6"]
[21,2307,21,2317,11,2321,null,null,null,null,0,221,null,null,"target sequence",{"$f":"$G$3","v":221},{"$f":"$G$3","v":221},{"$f":"$G$3","v":221},{"$f":"$G$3","v":221},{"$f":"$G$3","v":221},{"$f":"$G$3","v":221}]
[21,2624,21,2635,11,2647,null,null,null,null,0,221,null,null,"total reinforcement",{"$f":"U13","v":5},{"$f":"Z13","v":7},{"$f":"AE13","v":4},{"$f":"AJ13","v":3},{"$f":"AO13","v":9},{"$f":"AT13","v":11}]
[12,2753,23,2758,24,2766,null,null,null,null,0,122,null,null,"% target"]
[21,2880,21,2893,22,2901,null,null,null,null,0,222,null,null,"CCRF"]
[21,2994,21,2997,11,3001,null,null,null,null,0,221,null,null,"% CCRf"]
[21,3137,21,3142,22,3151,null,null,null,null,0,222,null,null,"average response rate",{"$f":"F31/P20","v":138.88},{"$f":"(F56-F31)/Q20","v":137.76},{"$f":"(F82-F56)/R20","v":126.5},{"$f":"(F107-F82)/S20","v":126.72},{"$f":"(F132-F107)/T20","v":144.68},{"$f":"(F157-F132)/U20","v":156.96}]
[21,3248,12,3255,24,3257,null,null,null,null,0,212]
[21,3354,12,3361,24,3365,null,null,null,null,0,212]
[21,3461,12,3467,24,3472,null,null,null,null,0,212]
[21,3569,21,3574,11,3578,null,null,null,null,0,221]
[21,3680,12,3684,24,3692,null,null,null,null,0,212]
[21,3788,12,3793,24,3803,null,null,null,null,0,212]
[21,3900,12,3909,24,3911,null,null,null,null,0,212]
[21,4010,12,4016,24,4020,null,null,null,null,0,212]
[21,4117,12,4125,24,4133,null,null,null,null,0,212]
[21,4230,21,4239,22,4244,null,null,null,null,0,222]
[21,4337,21,4339,11,4342,null,null,null,null,0,221]
[21,4624,21,4630,11,4634,null,null,null,null,0,221]
[12,4812,14,4819,24,4828,null,null,null,null,0,112]
[21,4926,12,4933,24,4937,null,null,null,null,0,212]
[21,5033,21,5042,11,5046,null,null,null,null,0,221]
[12,5199,23,5208,24,5222,null,null,null,null,0,122]
[21,5316,12,5321,24,5325,null,null,null,null,0,212]
[21,5423,21,5426,22,5430,null,null,null,null,0,222]
[21,5527,21,5531,22,5537,null,null,null,null,0,222]
[21,5633,21,5641,11,5647,null,null,null,null,0,221]
[21,5785,12,5793,24,5800,null,null,null,null,0,212]
[21,5896,21,5901,11,5905,null,null,null,null,0,221]
[21,6243,12,6245,13,6253,null,null,null,null,0,211]
[21,6356,12,6369,24,6385,null,null,null,null,0,212]
[21,6479,21,6483,22,6489,null,null,null,null,0,222]
[21,6585,21,6593,22,6598,null,null,null,null,0,222]
[21,6712,21,6720,11,6726,null,null,null,null,0,221]
[21,6899,12,6909,24,6916,null,null,null,null,0,212]
[21,7012,21,7017,11,7019,null,null,null,null,0,221]
[21,7184,12,7189,24,7202,null,null,null,null,0,212]
[21,7312,21,7316,11,7320,null,null,null,null,0,221]
[21,7477,12,7483,24,7496,null,null,null,null,0,212]
[21,7591,12,7596,24,7602,null,null,null,null,0,212]
[21,7699,21,7710,11,7714,null,null,null,null,0,221]
[21,7847,12,7853,24,7860,null,null,null,null,0,212]
[21,7956,12,7963,24,7975,null,null,null,null,0,212]
[21,8072,12,8082,24,8085,null,null,null,null,0,212]
[21,8182,21,8190,22,8196,null,null,null,null,0,222]
[21,8292,21,8296,22,8306,null,null,null,null,0,222]
[21,8405,21,8417,22,8424,null,null,null,null,0,222]
[21,8518,12,8526,24,8529,null,null,null,null,0,212]
[21,8622,21,8624,22,8627,null,null,null,null,0,222]
[21,8726,21,8730,11,8749,null,null,null,null,0,221]
[21,9077,12,9087,24,9095,null,null,null,null,0,212]
[21,9194,21,9199,22,9211,null,null,null,null,0,222]
[21,9304,21,9309,22,9315,null,null,null,null,0,222]
[21,9411,21,9418,22,9429,null,null,null,null,0,222]
[12,9521,23,9526,24,9531,null,null,null,null,0,122]
[21,9628,12,9638,24,9643,null,null,null,null,0,212]
[12,9737,23,9740,13,9748,null,null,null,null,0,121]
[21,9845,21,9859,22,9866,null,null,null,null,0,222]
[21,9962,21,9974,22,9980,null,null,null,null,0,222]
[21,10080,21,10087,22,10092,null,null,null,null,0,222]
[21,10191,21,10199,22,10205,null,null,null,null,0,222]
[21,10300,12,10303,24,10307,null,null,null,null,0,212]
[21,10399,21,10407,22,10415,null,null,null,null,0,222]
[21,10510,21,10518,11,10521,null,null,null,null,0,221]
[12,10817,23,10827,24,10836,null,null,null,null,0,122]
[21,10961,12,10966,24,10972,null,null,null,null,0,212]
[21,11069,21,11073,22,11079,null,null,null,null,0,222]
[21,11176,21,11190,22,11195,null,null,null,null,0,222]
[12,11294,23,11304,24,11312,null,null,null,null,0,122]
[21,11409,12,11415,24,11424,null,null,null,null,0,212]
[21,11519,12,11529,24,11533,null,null,null,null,0,212]
[21,11625,21,11629,22,11636,null,null,null,null,0,222]
[21,11755,21,11757,22,11763,null,null,null,null,0,222]
[21,11859,21,11866,22,11873,null,null,null,null,0,222]
[21,11970,21,11976,22,11981,null,null,null,null,0,222]
[21,12077,12,12082,24,12087,null,null,null,null,0,212]
[21,12187,21,12191,22,12201,null,null,null,null,0,222]
[21,12293,21,12299,22,12305,null,null,null,null,0,222]
[21,12401,21,12407,11,12414,null,null,null,null,0,221]
[21,12574,12,12581,24,12588,null,null,null,null,0,212]
[21,12687,21,12691,22,12695,null,null,null,null,0,222]
[21,12793,12,12797,24,12804,null,null,null,null,0,212]
[21,12900,21,12903,22,12908,null,null,null,null,0,222]
[21,13009,21,13015,22,13021,null,null,null,null,0,222]
[21,13117,21,13127,11,13129,null,null,null,null,0,221]
[21,13361,12,13364,24,13373,null,null,null,null,0,212]
[21,13466,21,13474,11,13481,null,null,null,null,0,221]
[21,13766,21,13770,11,13772,null,null,null,null,0,221]
[21,14075,12,14080,24,14086,null,null,null,null,0,212]
[21,14185,21,14188,11,14190,null,null,null,null,0,221]
[21,14332,12,14337,24,14346,null,null,null,null,0,212]
[12,14446,23,14454,24,14460,null,null,null,null,0,122]
[21,14559,21,14568,11,14572,null,null,null,null,0,221]
[21,14744,12,14752,24,14765,null,null,null,null,0,212]
[21,14862,12,14869,24,14883,null,null,null,null,0,212]
[21,14977,12,14993,24,14996,null,null,null,null,0,212]
[21,15096,21,15101,11,15103,null,null,null,null,0,221]
[21,15242,21,15249,22,15266,null,null,null,null,0,222]
[21,15363,12,15370,24,15373,null,null,null,null,0,212]
[21,15511,21,15528,11,15539,null,null,null,null,0,221]
[21,15693,12,15697,24,15704,null,null,null,null,0,212]
[21,15803,12,15807,24,15813,null,null,null,null,0,212]
[21,15910,21,15920,11,15923,null,null,null,null,0,221]
[21,16065,12,16070,24,16080,null,null,null,null,0,212]
[21,16176,12,16184,24,16186,null,null,null,null,0,212]
[21,16285,21,16289,11,16300,null,null,null,null,0,221]
[21,16492,12,16497,24,16509,null,null,null,null,0,212]
[21,16605,12,16611,24,16623,null,null,null,null,0,212]
[21,16715,21,16721,11,16725,null,null,null,null,0,221]
[12,16864,23,16871,24,16879,null,null,null,null,0,122]
[21,16974,21,16980,22,16990,null,null,null,null,0,222]
[21,17084,21,17095,22,17101,null,null,null,null,0,222]
[21,17193,21,17200,11,17204,null,null,null,null,0,221]
[21,17347,21,17352,11,17356,null,null,null,null,0,221]
[21,17682,21,17686,11,17703,null,null,null,null,0,221]
[21,17985,12,17993,24,18002,null,null,null,null,0,212]
[21,18096,21,18105,11,18114,null,null,null,null,0,221]
[21,18310,12,18316,24,18325,null,null,null,null,0,212]
[21,18423,21,18428,11,18432,null,null,null,null,0,221]
[12,18574,23,18582,24,18593,null,null,null,null,0,122]
[21,18690,12,18698,24,18705,null,null,null,null,0,212]
[21,18800,21,18802,11,18810,null,null,null,null,0,221]
[12,18921,23,18928,24,18937,null,null,null,null,0,122]
[21,19033,21,19039,22,19043,null,null,null,null,0,222]
[21,19138,21,19144,11,19149,null,null,null,null,0,221]
[21,19281,12,19287,24,19293,null,null,null,null,0,212]
[21,19398,12,19402,24,19410,null,null,null,null,0,212]
[21,19509,12,19519,24,19526,null,null,null,null,0,212]
[21,19622,21,19631,11,19634,null,null,null,null,0,221]
[12,19806,23,19815,24,19822,null,null,null,null,0,122]
[21,19918,21,19928,11,19936,null,null,null,null,0,221]
[21,20356,21,20360,11,20363,null,null,null,null,0,221]
[21,20566,12,20574,24,20587,null,null,null,null,0,212]
[21,20682,21,20693,22,20704,null,null,null,null,0,222]
[21,20796,12,20804,24,20808,null,null,null,null,0,212]
[21,20904,21,20907,11,20914,null,null,null,null,1,221]

{"sheet":"!MA23B10.Gus","index":31,"n_rows":190,"n_cols":48,"rows_kept":190,"cut":false,"hidden":false,"merged":[[4,39,4,42],[5,39,5,40],[4,44,4,47],[5,44,5,45],[4,24,4,27],[5,24,5,25],[4,29,4,32],[5,29,5,30],[4,34,4,37],[5,34,5,35],[1,1,1,2],[5,13,5,14],[18,13,18,14],[19,13,19,14],[4,19,4,22],[5,19,5,20]]}
["Report for:!MA23B10.Gus"]
["Date:","<date>"]
["Hen:","<hen>",null,null,null,"Correct Sequence",{"$f":"Start!J2","v":221},null,null,null,null,null,null,null,null,"Total Sequences in Data",{"$f":"4994-COUNTBLANK(L7:L5000)","v":184},null,null,null,null,"Total Sequences in Block Data",{"$f":"COUNTA(L7:L37)","v":31},null,null,null,"Total Sequences in Block Data",{"$f":"COUNTA(L38:L67)","v":30},null,null,null,"Total Sequences in Block Data",{"$f":"COUNTA(L68:L98)","v":31},null,null,null,"Total Sequences in Block Data",{"$f":"COUNTA(L99:L129)","v":31},null,null,null,"Total Sequences in Block Data",{"$f":"COUNTA(L130:L159)","v":30},null,null,null,"Total Sequences in Block Data",{"$f":"COUNTA(L160:L190)","v":31}]
[null,null,null,null,null,null,null,null,null,null,null,null,null,null,null,"Total Sequences in Summary",{"$f":"SUM(O7:O14)","v":184},null,null,null,null,"Total Sequences in Block Summary",{"$f":"SUM(U7:U14)","v":31},null,null,null,"Total Sequences in Block Summary",{"$f":"SUM(Z7:Z14)","v":30},null,null,null,"Total Sequences in Block Summary",{"$f":"SUM(AE7:AE14)","v":31},null,null,null,"Total Sequences in Block Summary",{"$f":"SUM(AJ7:AJ14)","v":31},null,null,null,"Total Sequences in Block Summary",{"$f":"SUM(AO7:AO14)","v":30},null,null,null,"Total Sequences in Block Summary",{"$f":"SUM(AT7:AT14)","v":31}]
[null,null,null,null,null,null,null,null,null,null,null,null,null,null,null,null,null,null,null,"Block 1",null,null,null,null,"Block 2",null,null,null,null,"Block 3",null,null,null,null,"Block 4",null,null,null,null,"Block 5",null,null,null,null,"Block 6"]
["Sequence\nComponent\n1","Time\n1","Sequence\nComponent\n2","Time\n2","Sequence\nComponent\n3","Time\n3","Sequence\nComponent\n4","Time\n4","Sequence\nComponent\n5","Time\n5","Correct?\n0=No 1=Yes","Sequence",null,"Frequency",null,"Relative Frequency","Variability",null,null,"Frequency",null,"Relative Frequency","Variability",null,"Frequency",null,"Relative Frequency","Variability",null,"Frequency",null,"Relative Frequency","Variability",null,"Frequency",null,"Relative Frequency","Variability",null,"Frequency",null,"Relative Frequency","Variability",null,"Frequency",null,"Relative Frequency","Variability"]
[21,5,21,12,22,18,null,null,null,null,0,222,null,111,{"$f":"COUNTIF($L$7:$L$500,N7)","v":0},{"$f":"O7/$Q$4","v":0},{"$f":"IF(P7=0,0,(P7*((LOG(P7))/LOG(2))))","v":0},null,null,{"$f":"N7","v":111},{"$f":"COUNTIF(L7:L37,T7)","v":0},{"$f":"U7/(W4-U13)","v":0},{"$f":"IF(V7=0,0,(V7*((LOG(V7))/LOG(2))))","v":0},null,{"$f":"N7","v":111},{"$f":"COUNTIF(L38:L67,Y7)","v":0},{"$f":"Z7/(AB4-Z13)","v":0},{"$f":"IF(AA7=0,0,(AA7*((LOG(AA7))/LOG(2))))","v":0},null,{"$f":"N7","v":111},{"$f":"COUNTIF(L68:L98,AD7)","v":0},{"$f":"AE7/(AG4-AE13)","v":0},{"$f":"IF(AF7=0,0,(AF7*((LOG(AF7))/LOG(2))))","v":0},null,{"$f":"N7","v":111},{"$f":"COUNTIF(L99:L129,AI7)","v":0},{"$f":"AJ7/(AL4-AJ13)","v":0},{"$f":"IF(AK7=0,0,(AK7*((LOG(AK7))/LOG(2))))","v":0},null,{"$f":"N7","v":111},{"$f":"COUNTIF(L130:L159,AN7)","v":0},{"$f":"AO7/(AQ4-AO13)","v":0},{"$f":"IF(AP7=0,0,(AP7*((LOG(AP7))/LOG(2))))","v":0},null,{"$f":"N7","v":111},{"$f":"COUNTIF(L160:L190,AS7)","v":0},{"$f":"AT7/(AV4-AT13)","v":0},{"$f":"IF(AU7=0,0,(AU7*((LOG(AU7))/LOG(2))))","v":0}]
[21,116,21,131,22,138,null,null,null,null,0,222,null,112,{"$f":"COUNTIF($L$7:$L$500,N8)","v":1},{"$f":"O8/$Q$4","v":5.434782608695652E-3},{"$f":"IF(P8=0,0,(P8*((LOG(P8))/LOG(2))))","v":-4.0888923674222893E-2},null,null,{"$f":"N8","v":112},{"$f":"COUNTIF(L7:L37,T8)","v":0},{"$f":"U8/(W4-U13)","v":0},{"$f":"IF(V8=0,0,(V8*((LOG(V8))/LOG(2))))","v":0},null,{"$f":"N8","v":112},{"$f":"COUNTIF(L38:L67,Y8)","v":0},{"$f":"Z8/(AB4-Z13)","v":0},{"$f":"IF(AA8=0,0,(AA8*((LOG(AA8))/LOG(2))))","v":0},null,{"$f":"N8","v":112},{"$f":"COUNTIF(L68:L98,AD8)","v":0},{"$f":"AE8/(AG4-AE13)","v":0},{"$f":"IF(AF8=0,0,(AF8*((LOG(AF8))/LOG(2))))","v":0},null,{"$f":"N8","v":112},{"$f":"COUNTIF(L99:L129,AI8)","v":0},{"$f":"AJ8/(AL4-AJ13)","v":0},{"$f":"IF(AK8=0,0,(AK8*((LOG(AK8))/LOG(2))))","v":0},null,{"$f":"N8","v":112},{"$f":"COUNTIF(L130:L159,AN8)","v":1},{"$f":"AO8/(AQ4-AO13)","v":4.1666666666666664E-2},{"$f":"IF(AP8=0,0,(AP8*((LOG(AP8))/LOG(2))))","v":-0.19104010419671485},null,{"$f":"N8","v":112},{"$f":"COUNTIF(L160:L190,AS8)","v":0},{"$f":"AT8/(AV4-AT13)","v":0},{"$f":"IF(AU8=0,0,(AU8*((LOG(AU8))/LOG(2))))","v":0}]
[21,237,21,244,22,251,null,null,null,null,0,222,null,121,{"$f":"COUNTIF($L$7:$L$500,N9)","v":2},{"$f":"O9/$Q$4","v":1.0869565217391304E-2},{"$f":"IF(P9=0,0,(P9*((LOG(P9))/LOG(2))))","v":-7.090828213105449E-2},null,null,{"$f":"N9","v":121},{"$f":"COUNTIF(L7:L37,T9)","v":0},{"$f":"U9/(W4-U13)","v":0},{"$f":"IF(V9=0,0,(V9*((LOG(V9))/LOG(2))))","v":0},null,{"$f":"N9","v":121},{"$f":"COUNTIF(L38:L67,Y9)","v":1},{"$f":"Z9/(AB4-Z13)","v":0.04},{"$f":"IF(AA9=0,0,(AA9*((LOG(AA9))/LOG(2))))","v":-0.18575424759098899},null,{"$f":"N9","v":121},{"$f":"COUNTIF(L68:L98,AD9)","v":1},{"$f":"AE9/(AG4-AE13)","v":0.04},{"$f":"IF(AF9=0,0,(AF9*((LOG(AF9))/LOG(2))))","v":-0.18575424759098899},null,{"$f":"N9","v":121},{"$f":"COUNTIF(L99:L129,AI9)","v":0},{"$f":"AJ9/(AL4-AJ13)","v":0},{"$f":"IF(AK9=0,0,(AK9*((LOG(AK9))/LOG(2))))","v":0},null,{"$f":"N9","v":121},{"$f":"COUNTIF(L130:L159,AN9)","v":0},{"$f":"AO9/(AQ4-AO13)","v":0},{"$f":"IF(AP9=0,0,(AP9*((LOG(AP9))/LOG(2))))","v":0},null,{"$f":"N9","v":121},{"$f":"COUNTIF(L160:L190,AS9)","v":0},{"$f":"AT9/(AV4-AT13)","v":0},{"$f":"IF(AU9=0,0,(AU9*((LOG(AU9))/LOG(2))))","v":0}]
[21,348,21,354,11,357,null,null,null,null,0,221,null,122,{"$f":"COUNTIF($L$7:$L$500,N10)","v":11},{"$f":"O10/$Q$4","v":5.9782608695652176E-2},{"$f":"IF(P10=0,0,(P10*((LOG(P10))/LOG(2))))","v":-0.24296431365009172},null,null,{"$f":"N10","v":122},{"$f":"COUNTIF(L7:L37,T10)","v":0},{"$f":"U10/(W4-U13)","v":0},{"$f":"IF(V10=0,0,(V10*((LOG(V10))/LOG(2))))","v":0},null,{"$f":"N10","v":122},{"$f":"COUNTIF(L38:L67,Y10)","v":1},{"$f":"Z10/(AB4-Z13)","v":0.04},{"$f":"IF(AA10=0,0,(AA10*((LOG(AA10))/LOG(2))))","v":-0.18575424759098899},null,{"$f":"N10","v":122},{"$f":"COUNTIF(L68:L98,AD10)","v":3},{"$f":"AE10/(AG4-AE13)","v":0.12},{"$f":"IF(AF10=0,0,(AF10*((LOG(AF10))/LOG(2))))","v":-0.36706724268642821},null,{"$f":"N10","v":122},{"$f":"COUNTIF(L99:L129,AI10)","v":1},{"$f":"AJ10/(AL4-AJ13)","v":3.7037037037037035E-2},{"$f":"IF(AK10=0,0,(AK10*((LOG(AK10))/LOG(2))))","v":-0.1761069445245729},null,{"$f":"N10","v":122},{"$f":"COUNTIF(L130:L159,AN10)","v":4},{"$f":"AO10/(AQ4-AO13)","v":0.16666666666666666},{"$f":"IF(AP10=0,0,(AP10*((LOG(AP10))/LOG(2))))","v":-0.43082708345352599},null,{"$f":"N10","v":122},{"$f":"COUNTIF(L160:L190,AS10)","v":2},{"$f":"AT10/(AV4-AT13)","v":9.5238095238095233E-2},{"$f":"IF(AU10=0,0,(AU10*((LOG(AU10))/LOG(2))))","v":-0.32307784978845333}]
[21,456,21,463,22,469,null,null,null,null,0,222,null,211,{"$f":"COUNTIF($L$7:$L$500,N11)","v":0},{"$f":"O11/$Q$4","v":0},{"$f":"IF(P11=0,0,(P11*((LOG(P11))/LOG(2))))","v":0},null,null,{"$f":"N11","v":211},{"$f":"COUNTIF(L7:L37,T11)","v":0},{"$f":"U11/(W4-U13)","v":0},{"$f":"IF(V11=0,0,(V11*((LOG(V11))/LOG(2))))","v":0},null,{"$f":"N11","v":211},{"$f":"COUNTIF(L38:L67,Y11)","v":0},{"$f":"Z11/(AB4-Z13)","v":0},{"$f":"IF(AA11=0,0,(AA11*((LOG(AA11))/LOG(2))))","v":0},null,{"$f":"N11","v":211},{"$f":"COUNTIF(L68:L98,AD11)","v":0},{"$f":"AE11/(AG4-AE13)","v":0},{"$f":"IF(AF11=0,0,(AF11*((LOG(AF11))/LOG(2))))","v":0},null,{"$f":"N11","v":211},{"$f":"COUNTIF(L99:L129,AI11)","v":0},{"$f":"AJ11/(AL4-AJ13)","v":0},{"$f":"IF(AK11=0,0,(AK11*((LOG(AK11))/LOG(2))))","v":0},null,{"$f":"N11","v":211},{"$f":"COUNTIF(L130:L159,AN11)","v":0},{"$f":"AO11/(AQ4-AO13)","v":0},{"$f":"IF(AP11=0,0,(AP11*((LOG(AP11))/LOG(2))))","v":0},null,{"$f":"N11","v":211},{"$f":"COUNTIF(L160:L190,AS11)","v":0},{"$f":"AT11/(AV4-AT13)","v":0},{"$f":"IF(AU11=0,0,(AU11*((LOG(AU11))/LOG(2))))","v":0}]
[21,568,12,576,24,578,null,null,null,null,0,212,null,212,{"$f":"COUNTIF($L$7:$L$500,N12)","v":66},{"$f":"O12/$Q$4","v":0.35869565217391303},{"$f":"IF(P12=0,0,(P12*((LOG(P12))/LOG(2))))","v":-0.53057107185926589},null,null,{"$f":"N12","v":212},{"$f":"COUNTIF(L7:L37,T12)","v":9},{"$f":"U12/(W4-U13)","v":0.34615384615384615},{"$f":"IF(V12=0,0,(V12*((LOG(V12))/LOG(2))))","v":-0.52979355578034681},null,{"$f":"N12","v":212},{"$f":"COUNTIF(L38:L67,Y12)","v":11},{"$f":"Z12/(AB4-Z13)","v":0.44},{"$f":"IF(AA12=0,0,(AA12*((LOG(AA12))/LOG(2))))","v":-0.52114681130046814},null,{"$f":"N12","v":212},{"$f":"COUNTIF(L68:L98,AD12)","v":12},{"$f":"AE12/(AG4-AE13)","v":0.48},{"$f":"IF(AF12=0,0,(AF12*((LOG(AF12))/LOG(2))))","v":-0.50826897074571287},null,{"$f":"N12","v":212},{"$f":"COUNTIF(L99:L129,AI12)","v":14},{"$f":"AJ12/(AL4-AJ13)","v":0.51851851851851849},{"$f":"IF(AK12=0,0,(AK12*((LOG(AK12))/LOG(2))))","v":-0.49131318968452231},null,{"$f":"N12","v":212},{"$f":"COUNTIF(L130:L159,AN12)","v":8},{"$f":"AO12/(AQ4-AO13)","v":0.33333333333333331},{"$f":"IF(AP12=0,0,(AP12*((LOG(AP12))/LOG(2))))","v":-0.52832083357371862},null,{"$f":"N12","v":212},{"$f":"COUNTIF(L160:L190,AS12)","v":12},{"$f":"AT12/(AV4-AT13)","v":0.5714285714285714},{"$f":"IF(AU12=0,0,(AU12*((LOG(AU12))/LOG(2))))","v":-0.46134566974720237}]
[21,674,21,679,11,686,null,null,null,null,0,221,null,221,{"$f":"COUNTIF($L$7:$L$500,N13)","v":36},{"$f":"O13/$Q$4","v":0.19565217391304349},{"$f":"IF(P13=0,0,(P13*((LOG(P13))/LOG(2))))","v":-0.46049418677244142},null,null,{"$f":"N13","v":221},{"$f":"COUNTIF(L7:L37,T13)","v":5},null,null,null,{"$f":"N13","v":221},{"$f":"COUNTIF(L38:L67,Y13)","v":5},null,null,null,{"$f":"N13","v":221},{"$f":"COUNTIF(L68:L98,AD13)","v":6},null,null,null,{"$f":"N13","v":221},{"$f":"COUNTIF(L99:L129,AI13)","v":4},null,null,null,{"$f":"N13","v":221},{"$f":"COUNTIF(L130:L159,AN13)","v":6},null,null,null,{"$f":"N13","v":221},{"$f":"COUNTIF(L160:L190,AS13)","v":10}]
[21,833,12,839,24,846,null,null,null,null,0,212,null,222,{"$f":"COUNTIF($L$7:$L$500,N14)","v":68},{"$f":"O14/$Q$4","v":0.36956521739130432},{"$f":"IF(P14=0,0,(P14*((LOG(P14))/LOG(2))))","v":-0.53073228155898799},null,null,{"$f":"N14","v":222},{"$f":"COUNTIF(L7:L37,T14)","v":17},{"$f":"U14/(W4-U13)","v":0.65384615384615385},{"$f":"IF(V14=0,0,(V14*((LOG(V14))/LOG(2))))","v":-0.40079257335164603},null,{"$f":"N14","v":222},{"$f":"COUNTIF(L38:L67,Y14)","v":12},{"$f":"Z14/(AB4-Z13)","v":0.48},{"$f":"IF(AA14=0,0,(AA14*((LOG(AA14))/LOG(2))))","v":-0.50826897074571287},null,{"$f":"N14","v":222},{"$f":"COUNTIF(L68:L98,AD14)","v":9},{"$f":"AE14/(AG4-AE13)","v":0.36},{"$f":"IF(AF14=0,0,(AF14*((LOG(AF14))/LOG(2))))","v":-0.53061522779966841},null,{"$f":"N14","v":222},{"$f":"COUNTIF(L99:L129,AI14)","v":12},{"$f":"AJ14/(AL4-AJ13)","v":0.44444444444444442},{"$f":"IF(AK14=0,0,(AK14*((LOG(AK14))/LOG(2))))","v":-0.51996666730769447},null,{"$f":"N14","v":222},{"$f":"COUNTIF(L130:L159,AN14)","v":11},{"$f":"AO14/(AQ4-AO13)","v":0.45833333333333331},{"$f":"IF(AP14=0,0,(AP14*((LOG(AP14))/LOG(2))))","v":-0.51586832095510204},null,{"$f":"N14","v":222},{"$f":"COUNTIF(L160:L190,AS14)","v":7},{"$f":"AT14/(AV4-AT13)","v":0.33333333333333331},{"$f":"IF(AU14=0,0,(AU14*((LOG(AU14))/LOG(2))))","v":-0.52832083357371862}]
[21,952,12,958,24,962,null,null,null,null,0,212,null,null,null,{"$f":"SUM(P7:P14)","v":1},{"$f":"-SUM(Q7:Q14)","v":1.8765590596460644},null,null,null,null,{"$f":"SUM(V7:V14)","v":1},{"$f":"-SUM(W7:W14)","v":0.93058612913199279},null,null,null,{"$f":"SUM(AA7:AA14)","v":1},{"$f":"-SUM(AB7:AB14)","v":1.4009242772281589},null,null,null,{"$f":"SUM(AF7:AF14)","v":1},{"$f":"-SUM(AG7:AG14)","v":1.5917056888227985},null,null,null,{"$f":"SUM(AK7:AK14)","v":1},{"$f":"-SUM(AL7:AL14)","v":1.1873868015167897},null,null,null,{"$f":"SUM(AP7:AP14)","v":1},{"$f":"-SUM(AQ7:AQ14)","v":1.6660563421790615},null,null,null,{"$f":"SUM(AU7:AU14)","v":1},{"$f":"-SUM(AV7:AV14)","v":1.3127443531093743}]
[21,1058,12,1069,24,1072,null,null,null,null,0,212,null,null,null,"U=",{"$f":"Q15/(LOG(Q4)/LOG(2))","v":0.24942428474790435},null,null,null,null,"U1=",{"$f":"W15/(LOG(W4)/LOG(2))","v":0.18783796015126478},null,null,null,"U2=",{"$f":"AB15/(LOG(AB4)/LOG(2))","v":0.28550142904794601},null,null,null,"U3=",{"$f":"AG15/(LOG(AG4)/LOG(2))","v":0.32128433939641393},null,null,null,"U4=",{"$f":"AL15/(LOG(AL4)/LOG(2))","v":0.2396729413058051},null,null,null,"U5=",{"$f":"AQ15/(LOG(AQ4)/LOG(2))","v":0.3395340307098183},null,null,null,"U6=",{"$f":"AV15/(LOG(AV4)/LOG(2))","v":0.26497624859093677}]
[21,1170,21,1177,22,1189,null,null,null,null,0,222]
[21,1285,21,1288,22,1297,null,null,null,null,0,222]
[21,1397,21,1409,22,1415,null,null,null,null,0,222,null,"Total Target Seq"]
[21,1520,12,1530,24,1536,null,null,null,null,0,212,null,{"$f":"COUNTIF(L7:L190,G3)","v":36},null,31,30,31,31,30,31]
[21,1638,21,1647,22,1657,null,null,null,null,0,222,null,null,null,"% of reinforcement given in 6 equal intervals based on number of trials "]
[21,1755,21,1768,22,1774,null,null,null,null,0,222,null,null,null,"%_1","%_2","%_3","%_4","%_5","%_6"]
[21,1873,21,1886,22,1898,null,null,null,null,0,222,null,null,"target sequence",{"$f":"$G$3","v":221},{"$f":"$G$3","v":221},{"$f":"$G$3","v":221},{"$f":"$G$3","v":221},{"$f":"$G$3","v":221},{"$f":"$G$3","v":221}]
[21,1999,21,2004,22,2008,null,null,null,null,0,222,null,null,"total reinforcement",{"$f":"U13","v":5},{"$f":"Z13","v":5},{"$f":"AE13","v":6},{"$f":"AJ13","v":4},{"$f":"AO13","v":6},{"$f":"AT13","v":10}]
[21,2107,21,2115,22,2122,null,null,null,null,0,222,null,null,"% target"]
[21,2220,21,2229,22,2237,null,null,null,null,0,222,null,null,"CCRF"]
[21,2339,21,2355,22,2360,null,null,null,null,0,222,null,null,"% CCRf"]
[21,2453,21,2464,22,2475,null,null,null,null,0,222,null,null,"average response rate",{"$f":"F37/P20","v":121.83870967741936},{"$f":"(F67-F37)/Q20","v":133},{"$f":"(F98-F67)/R20","v":124.51612903225806},{"$f":"(F129-F98)/S20","v":131.25806451612902},{"$f":"(F159-F129)/T20","v":123.8},{"$f":"(F190-F159)/U20","v":141.12903225806451}]
[21,2578,21,2586,22,2595,null,null,null,null,0,222]
[21,2694,12,2706,24,2708,null,null,null,null,0,212]
[21,2813,21,2822,22,2835,null,null,null,null,0,222]
[21,2936,21,2949,11,2952,null,null,null,null,0,221]
[21,3157,21,3162,11,3167,null,null,null,null,0,221]
[21,3318,12,3328,24,3330,null,null,null,null,0,212]
[21,3435,21,3440,11,3443,null,null,null,null,0,221]
[21,3629,12,3637,24,3647,null,null,null,null,0,212]
[21,3754,12,3765,24,3777,null,null,null,null,0,212]
[21,3869,21,3876,22,3885,null,null,null,null,0,222]
[21,3983,21,3987,22,3993,null,null,null,null,0,222]
[21,4085,21,4090,22,4092,null,null,null,null,0,222]
[21,4190,21,4192,11,4193,null,null,null,null,0,221]
[21,4392,12,4401,24,4418,null,null,null,null,0,212]
[21,4516,12,4525,24,4529,null,null,null,null,0,212]
[21,4627,21,4634,11,4637,null,null,null,null,0,221]
[21,4968,12,4975,24,4982,null,null,null,null,0,212]
[21,5086,12,5088,24,5093,null,null,null,null,0,212]
[21,5190,21,5198,22,5204,null,null,null,null,0,222]
[21,5302,12,5308,24,5311,null,null,null,null,0,212]
[21,5408,21,5415,11,5417,null,null,null,null,0,221]
[12,5566,23,5575,24,5581,null,null,null,null,0,122]
[21,5777,12,5782,24,5802,null,null,null,null,0,212]
[21,6026,12,6028,24,6037,null,null,null,null,0,212]
[21,6140,21,6143,22,6150,null,null,null,null,0,222]
[21,6246,12,6250,24,6254,null,null,null,null,0,212]
[21,6349,21,6356,22,6361,null,null,null,null,0,222]
[21,6460,21,6466,11,6470,null,null,null,null,0,221]
[21,6596,21,6602,22,6615,null,null,null,null,0,222]
[21,6710,12,6723,24,6735,null,null,null,null,0,212]
[21,6832,21,6834,22,6839,null,null,null,null,0,222]
[21,6934,21,6941,11,6948,null,null,null,null,0,221]
[21,7097,12,7102,24,7111,null,null,null,null,0,212]
[21,7210,21,7218,22,7225,null,null,null,null,0,222]
[21,7318,21,7327,22,7332,null,null,null,null,0,222]
[12,7425,23,7429,13,7437,null,null,null,null,0,121]
[21,7532,12,7538,24,7549,null,null,null,null,0,212]
[21,7647,21,7652,22,7658,null,null,null,null,0,222]
[21,7749,21,7762,22,7767,null,null,null,null,0,222]
[21,7865,21,7877,11,7882,null,null,null,null,0,221]
[21,8168,12,8179,24,8188,null,null,null,null,0,212]
[21,8286,21,8293,22,8298,null,null,null,null,0,222]
[21,8397,21,8407,11,8411,null,null,null,null,0,221]
[12,8556,23,8562,24,8574,null,null,null,null,0,122]
[21,8673,12,8679,24,8686,null,null,null,null,0,212]
[21,8784,21,8790,22,8794,null,null,null,null,0,222]
[21,8891,12,8899,24,8901,null,null,null,null,0,212]
[21,8999,12,9006,24,9009,null,null,null,null,0,212]
[21,9104,12,9106,24,9108,null,null,null,null,0,212]
[21,9207,21,9213,22,9218,null,null,null,null,0,222]
[21,9310,12,9316,24,9318,null,null,null,null,0,212]
[12,9410,23,9415,24,9425,null,null,null,null,0,122]
[21,9522,21,9531,22,9538,null,null,null,null,0,222]
[21,9630,12,9635,24,9637,null,null,null,null,0,212]
[21,9735,21,9741,22,9747,null,null,null,null,0,222]
[21,9843,21,9850,11,9852,null,null,null,null,0,221]
[12,10048,23,10054,24,10067,null,null,null,null,0,122]
[21,10162,12,10168,24,10171,null,null,null,null,0,212]
[21,10268,21,10274,11,10277,null,null,null,null,0,221]
[21,10469,21,10474,22,10486,null,null,null,null,0,222]
[21,10581,21,10588,22,10596,null,null,null,null,0,222]
[21,10691,12,10702,24,10713,null,null,null,null,0,212]
[21,10809,12,10817,24,10824,null,null,null,null,0,212]
[21,10919,21,10927,11,10931,null,null,null,null,0,221]
[21,11085,12,11092,24,11097,null,null,null,null,0,212]
[12,11191,23,11193,13,11195,null,null,null,null,0,121]
[21,11295,12,11300,24,11302,null,null,null,null,0,212]
[21,11394,21,11398,22,11405,null,null,null,null,0,222]
[21,11503,21,11512,22,11516,null,null,null,null,0,222]
[21,11614,21,11624,11,11627,null,null,null,null,0,221]
[21,11737,12,11741,24,11747,null,null,null,null,0,212]
[21,11845,12,11848,24,11856,null,null,null,null,0,212]
[21,11954,12,11959,24,11962,null,null,null,null,0,212]
[21,12055,12,12063,24,12066,null,null,null,null,0,212]
[21,12164,21,12168,22,12174,null,null,null,null,0,222]
[21,12270,12,12278,24,12283,null,null,null,null,0,212]
[21,12383,21,12387,11,12389,null,null,null,null,0,221]
[21,12507,21,12511,22,12517,null,null,null,null,0,222]
[21,12610,12,12615,24,12618,null,null,null,null,0,212]
[21,12711,21,12717,11,12723,null,null,null,null,0,221]
[21,13139,12,13155,24,13158,null,null,null,null,0,212]
[21,13256,21,13261,22,13263,null,null,null,null,0,222]
[21,13361,21,13364,22,13371,null,null,null,null,0,222]
[21,13466,21,13470,22,13475,null,null,null,null,0,222]
[21,13576,21,13582,22,13595,null,null,null,null,0,222]
[21,13693,12,13699,24,13705,null,null,null,null,0,212]
[21,13800,21,13807,22,13811,null,null,null,null,0,222]
[21,13909,21,13914,11,13918,null,null,null,null,0,221]
[21,14101,21,14107,11,14110,null,null,null,null,0,221]
[21,14502,12,14507,24,14520,null,null,null,null,0,212]
[21,14618,12,14623,24,14625,null,null,null,null,0,212]
[21,14718,21,14721,22,14725,null,null,null,null,0,222]
[21,14821,12,14823,24,14829,null,null,null,null,0,212]
[21,14926,21,14932,22,14938,null,null,null,null,0,222]
[21,15035,21,15045,22,15050,null,null,null,null,0,222]
[12,15144,23,15147,24,15151,null,null,null,null,0,122]
[21,15248,21,15254,22,15260,null,null,null,null,0,222]
[21,15357,12,15362,24,15368,null,null,null,null,0,212]
[21,15467,12,15472,24,15481,null,null,null,null,0,212]
[21,15580,21,15587,22,15593,null,null,null,null,0,222]
[21,15688,12,15693,24,15696,null,null,null,null,0,212]
[21,15793,12,15801,24,15804,null,null,null,null,0,212]
[21,15902,12,15906,24,15917,null,null,null,null,0,212]
[21,16010,21,16017,22,16023,null,null,null,null,0,222]
[21,16119,21,16126,22,16130,null,null,null,null,0,222]
[21,16227,21,16235,22,16243,null,null,null,null,0,222]
[21,16341,12,16349,24,16360,null,null,null,null,0,212]
[21,16451,21,16458,11,16465,null,null,null,null,0,221]
[21,16624,21,16636,22,16643,null,null,null,null,0,222]
[21,16745,21,16752,22,16757,null,null,null,null,0,222]
[21,16854,12,16866,24,16868,null,null,null,null,0,212]
[12,16962,23,16965,24,16973,null,null,null,null,0,122]
[21,17069,21,17079,11,17083,null,null,null,null,0,221]
[21,17224,21,17230,22,17236,null,null,null,null,0,222]
[12,17331,23,17344,24,17356,null,null,null,null,0,122]
[21,17453,21,17457,11,17460,null,null,null,null,0,221]
[21,17644,21,17649,22,17655,null,null,null,null,0,222]
[21,17747,21,17751,22,17755,null,null,null,null,0,222]
[21,17851,12,17858,24,17869,null,null,null,null,0,212]
[21,17961,21,17966,11,17969,null,null,null,null,0,221]
[12,18177,14,18195,24,18202,null,null,null,null,0,112]
[12,18295,23,18298,24,18306,null,null,null,null,0,122]
[21,18404,21,18407,22,18412,null,null,null,null,0,222]
[21,18504,21,18509,11,18517,null,null,null,null,0,221]
[21,18696,12,18702,24,18709,null,null,null,null,0,212]
[21,18835,21,18846,11,18848,null,null,null,null,0,221]
[21,18971,12,18975,24,18983,null,null,null,null,0,212]
[21,19075,21,19082,22,19088,null,null,null,null,0,222]
[12,19181,23,19185,24,19191,null,null,null,null,0,122]
[21,19290,21,19297,22,19303,null,null,null,null,0,222]
[21,19399,12,19408,24,19410,null,null,null,null,0,212]
[21,19503,12,19512,24,19514,null,null,null,null,0,212]
[21,19606,21,19614,22,19623,null,null,null,null,0,222]
[21,19716,21,19722,22,19725,null,null,null,null,0,222]
[21,19825,21,19829,11,19833,null,null,null,null,0,221]
[21,20032,12,20040,24,20047,null,null,null,null,0,212]
[21,20144,12,20151,24,20159,null,null,null,null,0,212]
[21,20255,12,20261,24,20264,null,null,null,null,0,212]
[21,20362,12,20369,24,20375,null,null,null,null,0,212]
[21,20474,12,20479,24,20482,null,null,null,null,0,212]
[21,20574,21,20583,11,20587,null,null,null,null,0,221]
[21,20839,21,20851,22,20857,null,null,null,null,0,222]
[21,20955,21,20960,11,20967,null,null,null,null,0,221]
[21,21127,21,21132,22,21137,null,null,null,null,0,222]
[21,21235,12,21243,24,21254,null,null,null,null,0,212]
[21,21353,12,21355,24,21361,null,null,null,null,0,212]
[21,21461,21,21468,11,21471,null,null,null,null,0,221]
[21,21673,21,21687,11,21690,null,null,null,null,0,221]
[21,21997,12,22006,24,22008,null,null,null,null,0,212]
[12,22101,23,22113,24,22120,null,null,null,null,0,122]
[21,22217,12,22221,24,22226,null,null,null,null,0,212]
[21,22320,21,22326,11,22329,null,null,null,null,0,221]
[21,22480,21,22486,22,22492,null,null,null,null,0,222]
[12,22584,23,22586,24,22592,null,null,null,null,0,122]
[21,22689,21,22694,11,22697,null,null,null,null,0,221]
[21,22814,21,22819,11,22822,null,null,null,null,0,221]
[21,23104,12,23110,24,23122,null,null,null,null,0,212]
[21,23218,21,23221,22,23226,null,null,null,null,0,222]
[21,23324,21,23334,22,23339,null,null,null,null,0,222]
[21,23436,21,23444,11,23450,null,null,null,null,0,221]
[21,23658,12,23664,24,23676,null,null,null,null,0,212]
[21,23772,21,23780,11,23785,null,null,null,null,0,221]

{"sheet":"!MA24A40.Gus","index":32,"n_rows":180,"n_cols":48,"rows_kept":180,"cut":false,"hidden":false,"merged":[[4,39,4,42],[5,39,5,40],[4,44,4,47],[5,44,5,45],[4,24,4,27],[5,24,5,25],[4,29,4,32],[5,29,5,30],[4,34,4,37],[5,34,5,35],[1,1,1,2],[5,13,5,14],[18,13,18,14],[19,13,19,14],[4,19,4,22],[5,19,5,20]]}
["Report for:!MA24A40.Gus"]
["Date:","<date>"]
["Hen:","<hen>",null,null,null,"Correct Sequence",{"$f":"Start!J2","v":221},null,null,null,null,null,null,null,null,"Total Sequences in Data",{"$f":"4994-COUNTBLANK(L7:L5000)","v":174},null,null,null,null,"Total Sequences in Block Data",{"$f":"COUNTA(L7:L35)","v":29},null,null,null,"Total Sequences in Block Data",{"$f":"COUNTA(L36:L64)","v":29},null,null,null,"Total Sequences in Block Data",{"$f":"COUNTA(L65:L93)","v":29},null,null,null,"Total Sequences in Block Data",{"$f":"COUNTA(L94:L122)","v":29},null,null,null,"Total Sequences in Block Data",{"$f":"COUNTA(L123:L151)","v":29},null,null,null,"Total Sequences in Block Data",{"$f":"COUNTA(L152:L180)","v":29}]
[null,null,null,null,null,null,null,null,null,null,null,null,null,null,null,"Total Sequences in Summary",{"$f":"SUM(O7:O14)","v":174},null,null,null,null,"Total Sequences in Block Summary",{"$f":"SUM(U7:U14)","v":29},null,null,null,"Total Sequences in Block Summary",{"$f":"SUM(Z7:Z14)","v":29},null,null,null,"Total Sequences in Block Summary",{"$f":"SUM(AE7:AE14)","v":29},null,null,null,"Total Sequences in Block Summary",{"$f":"SUM(AJ7:AJ14)","v":29},null,null,null,"Total Sequences in Block Summary",{"$f":"SUM(AO7:AO14)","v":29},null,null,null,"Total Sequences in Block Summary",{"$f":"SUM(AT7:AT14)","v":29}]
[null,null,null,null,null,null,null,null,null,null,null,null,null,null,null,null,null,null,null,"Block 1",null,null,null,null,"Block 2",null,null,null,null,"Block 3",null,null,null,null,"Block 4",null,null,null,null,"Block 5",null,null,null,null,"Block 6"]
["Sequence\nComponent\n1","Time\n1","Sequence\nComponent\n2","Time\n2","Sequence\nComponent\n3","Time\n3","Sequence\nComponent\n4","Time\n4","Sequence\nComponent\n5","Time\n5","Correct?\n0=No 1=Yes","Sequence",null,"Frequency",null,"Relative Frequency","Variability",null,null,"Frequency",null,"Relative Frequency","Variability",null,"Frequency",null,"Relative Frequency","Variability",null,"Frequency",null,"Relative Frequency","Variability",null,"Frequency",null,"Relative Frequency","Variability",null,"Frequency",null,"Relative Frequency","Variability",null,"Frequency",null,"Relative Frequency","Variability"]
[21,277,21,281,22,283,null,null,null,null,0,222,null,111,{"$f":"COUNTIF($L$7:$L$500,N7)","v":0},{"$f":"O7/$Q$4","v":0},{"$f":"IF(P7=0,0,(P7*((LOG(P7))/LOG(2))))","v":0},null,null,{"$f":"N7","v":111},{"$f":"COUNTIF(L7:L35,T7)","v":0},{"$f":"U7/(W4-U13)","v":0},{"$f":"IF(V7=0,0,(V7*((LOG(V7))/LOG(2))))","v":0},null,{"$f":"N7","v":111},{"$f":"COUNTIF(L36:L64,Y7)","v":0},{"$f":"Z7/(AB4-Z13)","v":0},{"$f":"IF(AA7=0,0,(AA7*((LOG(AA7))/LOG(2))))","v":0},null,{"$f":"N7","v":111},{"$f":"COUNTIF(L65:L93,AD7)","v":0},{"$f":"AE7/(AG4-AE13)","v":0},{"$f":"IF(AF7=0,0,(AF7*((LOG(AF7))/LOG(2))))","v":0},null,{"$f":"N7","v":111},{"$f":"COUNTIF(L94:L122,AI7)","v":0},{"$f":"AJ7/(AL4-AJ13)","v":0},{"$f":"IF(AK7=0,0,(AK7*((LOG(AK7))/LOG(2))))","v":0},null,{"$f":"N7","v":111},{"$f":"COUNTIF(L123:L151,AN7)","v":0},{"$f":"AO7/(AQ4-AO13)","v":0},{"$f":"IF(AP7=0,0,(AP7*((LOG(AP7))/LOG(2))))","v":0},null,{"$f":"N7","v":111},{"$f":"COUNTIF(L152:L180,AS7)","v":0},{"$f":"AT7/(AV4-AT13)","v":0},{"$f":"IF(AU7=0,0,(AU7*((LOG(AU7))/LOG(2))))","v":0}]
[21,378,21,387,22,392,null,null,null,null,0,222,null,112,{"$f":"COUNTIF($L$7:$L$500,N8)","v":1},{"$f":"O8/$Q$4","v":5.7471264367816091E-3},{"$f":"IF(P8=0,0,(P8*((LOG(P8))/LOG(2))))","v":-4.2775537332463962E-2},null,null,{"$f":"N8","v":112},{"$f":"COUNTIF(L7:L35,T8)","v":1},{"$f":"U8/(W4-U13)","v":4.7619047619047616E-2},{"$f":"IF(V8=0,0,(V8*((LOG(V8))/LOG(2))))","v":-0.20915797251327431},null,{"$f":"N8","v":112},{"$f":"COUNTIF(L36:L64,Y8)","v":0},{"$f":"Z8/(AB4-Z13)","v":0},{"$f":"IF(AA8=0,0,(AA8*((LOG(AA8))/LOG(2))))","v":0},null,{"$f":"N8","v":112},{"$f":"COUNTIF(L65:L93,AD8)","v":0},{"$f":"AE8/(AG4-AE13)","v":0},{"$f":"IF(AF8=0,0,(AF8*((LOG(AF8))/LOG(2))))","v":0},null,{"$f":"N8","v":112},{"$f":"COUNTIF(L94:L122,AI8)","v":0},{"$f":"AJ8/(AL4-AJ13)","v":0},{"$f":"IF(AK8=0,0,(AK8*((LOG(AK8))/LOG(2))))","v":0},null,{"$f":"N8","v":112},{"$f":"COUNTIF(L123:L151,AN8)","v":0},{"$f":"AO8/(AQ4-AO13)","v":0},{"$f":"IF(AP8=0,0,(AP8*((LOG(AP8))/LOG(2))))","v":0},null,{"$f":"N8","v":112},{"$f":"COUNTIF(L152:L180,AS8)","v":0},{"$f":"AT8/(AV4-AT13)","v":0},{"$f":"IF(AU8=0,0,(AU8*((LOG(AU8))/LOG(2))))","v":0}]
[12,485,23,489,13,499,null,null,null,null,0,121,null,121,{"$f":"COUNTIF($L$7:$L$500,N9)","v":4},{"$f":"O9/$Q$4","v":2.2988505747126436E-2},{"$f":"IF(P9=0,0,(P9*((LOG(P9))/LOG(2))))","v":-0.12512513783560297},null,null,{"$f":"N9","v":121},{"$f":"COUNTIF(L7:L35,T9)","v":1},{"$f":"U9/(W4-U13)","v":4.7619047619047616E-2},{"$f":"IF(V9=0,0,(V9*((LOG(V9))/LOG(2))))","v":-0.20915797251327431},null,{"$f":"N9","v":121},{"$f":"COUNTIF(L36:L64,Y9)","v":1},{"$f":"Z9/(AB4-Z13)","v":0.04},{"$f":"IF(AA9=0,0,(AA9*((LOG(AA9))/LOG(2))))","v":-0.18575424759098899},null,{"$f":"N9","v":121},{"$f":"COUNTIF(L65:L93,AD9)","v":2},{"$f":"AE9/(AG4-AE13)","v":0.08},{"$f":"IF(AF9=0,0,(AF9*((LOG(AF9))/LOG(2))))","v":-0.29150849518197797},null,{"$f":"N9","v":121},{"$f":"COUNTIF(L94:L122,AI9)","v":0},{"$f":"AJ9/(AL4-AJ13)","v":0},{"$f":"IF(AK9=0,0,(AK9*((LOG(AK9))/LOG(2))))","v":0},null,{"$f":"N9","v":121},{"$f":"COUNTIF(L123:L151,AN9)","v":0},{"$f":"AO9/(AQ4-AO13)","v":0},{"$f":"IF(AP9=0,0,(AP9*((LOG(AP9))/LOG(2))))","v":0},null,{"$f":"N9","v":121},{"$f":"COUNTIF(L152:L180,AS9)","v":0},{"$f":"AT9/(AV4-AT13)","v":0},{"$f":"IF(AU9=0,0,(AU9*((LOG(AU9))/LOG(2))))","v":0}]
[21,595,12,603,24,608,null,null,null,null,0,212,null,122,{"$f":"COUNTIF($L$7:$L$500,N10)","v":12},{"$f":"O10/$Q$4","v":6.8965517241379309E-2},{"$f":"IF(P10=0,0,(P10*((LOG(P10))/LOG(2))))","v":-0.26606765483638428},null,null,{"$f":"N10","v":122},{"$f":"COUNTIF(L7:L35,T10)","v":2},{"$f":"U10/(W4-U13)","v":9.5238095238095233E-2},{"$f":"IF(V10=0,0,(V10*((LOG(V10))/LOG(2))))","v":-0.32307784978845333},null,{"$f":"N10","v":122},{"$f":"COUNTIF(L36:L64,Y10)","v":2},{"$f":"Z10/(AB4-Z13)","v":0.08},{"$f":"IF(AA10=0,0,(AA10*((LOG(AA10))/LOG(2))))","v":-0.29150849518197797},null,{"$f":"N10","v":122},{"$f":"COUNTIF(L65:L93,AD10)","v":1},{"$f":"AE10/(AG4-AE13)","v":0.04},{"$f":"IF(AF10=0,0,(AF10*((LOG(AF10))/LOG(2))))","v":-0.18575424759098899},null,{"$f":"N10","v":122},{"$f":"COUNTIF(L94:L122,AI10)","v":1},{"$f":"AJ10/(AL4-AJ13)","v":0.05},{"$f":"IF(AK10=0,0,(AK10*((LOG(AK10))/LOG(2))))","v":-0.21609640474436814},null,{"$f":"N10","v":122},{"$f":"COUNTIF(L123:L151,AN10)","v":3},{"$f":"AO10/(AQ4-AO13)","v":0.125},{"$f":"IF(AP10=0,0,(AP10*((LOG(AP10))/LOG(2))))","v":-0.375},null,{"$f":"N10","v":122},{"$f":"COUNTIF(L152:L180,AS10)","v":3},{"$f":"AT10/(AV4-AT13)","v":0.15},{"$f":"IF(AU10=0,0,(AU10*((LOG(AU10))/LOG(2))))","v":-0.41054483912493089}]
[21,704,21,712,22,718,null,null,null,null,0,222,null,211,{"$f":"COUNTIF($L$7:$L$500,N11)","v":1},{"$f":"O11/$Q$4","v":5.7471264367816091E-3},{"$f":"IF(P11=0,0,(P11*((LOG(P11))/LOG(2))))","v":-4.2775537332463962E-2},null,null,{"$f":"N11","v":211},{"$f":"COUNTIF(L7:L35,T11)","v":0},{"$f":"U11/(W4-U13)","v":0},{"$f":"IF(V11=0,0,(V11*((LOG(V11))/LOG(2))))","v":0},null,{"$f":"N11","v":211},{"$f":"COUNTIF(L36:L64,Y11)","v":0},{"$f":"Z11/(AB4-Z13)","v":0},{"$f":"IF(AA11=0,0,(AA11*((LOG(AA11))/LOG(2))))","v":0},null,{"$f":"N11","v":211},{"$f":"COUNTIF(L65:L93,AD11)","v":0},{"$f":"AE11/(AG4-AE13)","v":0},{"$f":"IF(AF11=0,0,(AF11*((LOG(AF11))/LOG(2))))","v":0},null,{"$f":"N11","v":211},{"$f":"COUNTIF(L94:L122,AI11)","v":0},{"$f":"AJ11/(AL4-AJ13)","v":0},{"$f":"IF(AK11=0,0,(AK11*((LOG(AK11))/LOG(2))))","v":0},null,{"$f":"N11","v":211},{"$f":"COUNTIF(L123:L151,AN11)","v":1},{"$f":"AO11/(AQ4-AO13)","v":4.1666666666666664E-2},{"$f":"IF(AP11=0,0,(AP11*((LOG(AP11))/LOG(2))))","v":-0.19104010419671485},null,{"$f":"N11","v":211},{"$f":"COUNTIF(L152:L180,AS11)","v":0},{"$f":"AT11/(AV4-AT13)","v":0},{"$f":"IF(AU11=0,0,(AU11*((LOG(AU11))/LOG(2))))","v":0}]
[21,815,12,825,24,827,null,null,null,null,0,212,null,212,{"$f":"COUNTIF($L$7:$L$500,N12)","v":60},{"$f":"O12/$Q$4","v":0.34482758620689657},{"$f":"IF(P12=0,0,(P12*((LOG(P12))/LOG(2))))","v":-0.52967341387593436},null,null,{"$f":"N12","v":212},{"$f":"COUNTIF(L7:L35,T12)","v":6},{"$f":"U12/(W4-U13)","v":0.2857142857142857},{"$f":"IF(V12=0,0,(V12*((LOG(V12))/LOG(2))))","v":-0.51638712058788683},null,{"$f":"N12","v":212},{"$f":"COUNTIF(L36:L64,Y12)","v":8},{"$f":"Z12/(AB4-Z13)","v":0.32},{"$f":"IF(AA12=0,0,(AA12*((LOG(AA12))/LOG(2))))","v":-0.52603398072791185},null,{"$f":"N12","v":212},{"$f":"COUNTIF(L65:L93,AD12)","v":10},{"$f":"AE12/(AG4-AE13)","v":0.4},{"$f":"IF(AF12=0,0,(AF12*((LOG(AF12))/LOG(2))))","v":-0.52877123795494496},null,{"$f":"N12","v":212},{"$f":"COUNTIF(L94:L122,AI12)","v":13},{"$f":"AJ12/(AL4-AJ13)","v":0.65},{"$f":"IF(AK12=0,0,(AK12*((LOG(AK12))/LOG(2))))","v":-0.40396744488507563},null,{"$f":"N12","v":212},{"$f":"COUNTIF(L123:L151,AN12)","v":12},{"$f":"AO12/(AQ4-AO13)","v":0.5},{"$f":"IF(AP12=0,0,(AP12*((LOG(AP12))/LOG(2))))","v":-0.5},null,{"$f":"N12","v":212},{"$f":"COUNTIF(L152:L180,AS12)","v":11},{"$f":"AT12/(AV4-AT13)","v":0.55000000000000004},{"$f":"IF(AU12=0,0,(AU12*((LOG(AU12))/LOG(2))))","v":-0.47437306193753576}]
[21,919,21,923,22,929,null,null,null,null,0,222,null,221,{"$f":"COUNTIF($L$7:$L$500,N13)","v":39},{"$f":"O13/$Q$4","v":0.22413793103448276},{"$f":"IF(P13=0,0,(P13*((LOG(P13))/LOG(2))))","v":-0.48358683794524554},null,null,{"$f":"N13","v":221},{"$f":"COUNTIF(L7:L35,T13)","v":8},null,null,null,{"$f":"N13","v":221},{"$f":"COUNTIF(L36:L64,Y13)","v":4},null,null,null,{"$f":"N13","v":221},{"$f":"COUNTIF(L65:L93,AD13)","v":4},null,null,null,{"$f":"N13","v":221},{"$f":"COUNTIF(L94:L122,AI13)","v":9},null,null,null,{"$f":"N13","v":221},{"$f":"COUNTIF(L123:L151,AN13)","v":5},null,null,null,{"$f":"N13","v":221},{"$f":"COUNTIF(L152:L180,AS13)","v":9}]
[21,1021,21,1025,22,1031,null,null,null,null,0,222,null,222,{"$f":"COUNTIF($L$7:$L$500,N14)","v":57},{"$f":"O14/$Q$4","v":0.32758620689655171},{"$f":"IF(P14=0,0,(P14*((LOG(P14))/LOG(2))))","v":-0.52743131296544388},null,null,{"$f":"N14","v":222},{"$f":"COUNTIF(L7:L35,T14)","v":11},{"$f":"U14/(W4-U13)","v":0.52380952380952384},{"$f":"IF(V14=0,0,(V14*((LOG(V14))/LOG(2))))","v":-0.4886544688360045},null,{"$f":"N14","v":222},{"$f":"COUNTIF(L36:L64,Y14)","v":14},{"$f":"Z14/(AB4-Z13)","v":0.56000000000000005},{"$f":"IF(AA14=0,0,(AA14*((LOG(AA14))/LOG(2))))","v":-0.46844070992158748},null,{"$f":"N14","v":222},{"$f":"COUNTIF(L65:L93,AD14)","v":12},{"$f":"AE14/(AG4-AE13)","v":0.48},{"$f":"IF(AF14=0,0,(AF14*((LOG(AF14))/LOG(2))))","v":-0.50826897074571287},null,{"$f":"N14","v":222},{"$f":"COUNTIF(L94:L122,AI14)","v":6},{"$f":"AJ14/(AL4-AJ13)","v":0.3},{"$f":"IF(AK14=0,0,(AK14*((LOG(AK14))/LOG(2))))","v":-0.52108967824986185},null,{"$f":"N14","v":222},{"$f":"COUNTIF(L123:L151,AN14)","v":8},{"$f":"AO14/(AQ4-AO13)","v":0.33333333333333331},{"$f":"IF(AP14=0,0,(AP14*((LOG(AP14))/LOG(2))))","v":-0.52832083357371862},null,{"$f":"N14","v":222},{"$f":"COUNTIF(L152:L180,AS14)","v":6},{"$f":"AT14/(AV4-AT13)","v":0.3},{"$f":"IF(AU14=0,0,(AU14*((LOG(AU14))/LOG(2))))","v":-0.52108967824986185}]
[21,1127,21,1134,22,1140,null,null,null,null,0,222,null,null,null,{"$f":"SUM(P7:P14)","v":1},{"$f":"-SUM(Q7:Q14)","v":2.017435432123539},null,null,null,null,{"$f":"SUM(V7:V14)","v":1},{"$f":"-SUM(W7:W14)","v":1.7464353842388936},null,null,null,{"$f":"SUM(AA7:AA14)","v":1},{"$f":"-SUM(AB7:AB14)","v":1.4717374334224664},null,null,null,{"$f":"SUM(AF7:AF14)","v":1},{"$f":"-SUM(AG7:AG14)","v":1.5143029514736248},null,null,null,{"$f":"SUM(AK7:AK14)","v":1},{"$f":"-SUM(AL7:AL14)","v":1.1411535278793057},null,null,null,{"$f":"SUM(AP7:AP14)","v":1},{"$f":"-SUM(AQ7:AQ14)","v":1.5943609377704335},null,null,null,{"$f":"SUM(AU7:AU14)","v":1},{"$f":"-SUM(AV7:AV14)","v":1.4060075793123286}]
[21,1232,21,1239,22,1245,null,null,null,null,0,222,null,null,null,"U=",{"$f":"Q15/(LOG(Q4)/LOG(2))","v":0.27105343917346081},null,null,null,null,"U1=",{"$f":"W15/(LOG(W4)/LOG(2))","v":0.35949819194239802},null,null,null,"U2=",{"$f":"AB15/(LOG(AB4)/LOG(2))","v":0.30295248888346427},null,null,null,"U3=",{"$f":"AG15/(LOG(AG4)/LOG(2))","v":0.31171446594633268},null,null,null,"U4=",{"$f":"AL15/(LOG(AL4)/LOG(2))","v":0.23490283906500517},null,null,null,"U5=",{"$f":"AQ15/(LOG(AQ4)/LOG(2))","v":0.32819414883869164},null,null,null,"U6=",{"$f":"AV15/(LOG(AV4)/LOG(2))","v":0.2894222066168059}]
[21,1344,21,1355,22,1361,null,null,null,null,0,222]
[21,1470,21,1476,11,1478,null,null,null,null,0,221]
[21,1678,21,1683,11,1688,null,null,null,null,0,221,null,"Total Target Seq"]
[12,2014,14,2017,24,2029,null,null,null,null,0,112,null,{"$f":"COUNTIF(L7:L180,G3)","v":39},null,29,29,29,29,29,29]
[21,2225,21,2237,11,2240,null,null,null,null,0,221,null,null,null,"% of reinforcement given in 6 equal intervals based on number of trials "]
[21,2436,21,2442,22,2453,null,null,null,null,0,222,null,null,null,"%_1","%_2","%_3","%_4","%_5","%_6"]
[21,2553,21,2556,11,2559,null,null,null,null,0,221,null,null,"target sequence",{"$f":"$G$3","v":221},{"$f":"$G$3","v":221},{"$f":"$G$3","v":221},{"$f":"$G$3","v":221},{"$f":"$G$3","v":221},{"$f":"$G$3","v":221}]
[12,2704,23,2725,24,2732,null,null,null,null,0,122,null,null,"total reinforcement",{"$f":"U13","v":8},{"$f":"Z13","v":4},{"$f":"AE13","v":4},{"$f":"AJ13","v":9},{"$f":"AO13","v":5},{"$f":"AT13","v":9}]
[12,2826,23,2837,24,2848,null,null,null,null,0,122,null,null,"% target"]
[21,2952,21,2958,11,2961,null,null,null,null,0,221,null,null,"CCRF"]
[21,3066,21,3073,11,3078,null,null,null,null,0,221,null,null,"% CCRf"]
[21,3235,12,3247,24,3261,null,null,null,null,0,212,null,null,"average response rate",{"$f":"F35/P20","v":144.24137931034483},{"$f":"(F64-F35)/Q20","v":117.55172413793103},{"$f":"(F93-F64)/R20","v":124.31034482758621},{"$f":"(F122-F93)/S20","v":163.13793103448276},{"$f":"(F151-F122)/T20","v":141.55172413793105},{"$f":"(F180-F151)/U20","v":134.58620689655172}]
[21,3357,12,3360,24,3367,null,null,null,null,0,212]
[21,3464,12,3469,24,3477,null,null,null,null,0,212]
[21,3574,21,3583,22,3590,null,null,null,null,0,222]
[21,3687,21,3694,22,3699,null,null,null,null,0,222]
[21,3796,21,3804,11,3805,null,null,null,null,0,221]
[21,3940,21,3946,11,3950,null,null,null,null,0,221]
[21,4169,12,4171,24,4183,null,null,null,null,0,212]
[21,4280,21,4285,22,4296,null,null,null,null,0,222]
[21,4392,21,4401,22,4412,null,null,null,null,0,222]
[21,4510,21,4513,22,4515,null,null,null,null,0,222]
[21,4613,21,4618,11,4623,null,null,null,null,0,221]
[21,4758,12,4760,24,4767,null,null,null,null,0,212]
[21,4861,21,4863,22,4869,null,null,null,null,0,222]
[21,4965,21,4971,11,4976,null,null,null,null,0,221]
[21,5106,21,5122,22,5129,null,null,null,null,0,222]
[21,5226,12,5233,24,5239,null,null,null,null,0,212]
[12,5333,23,5337,13,5344,null,null,null,null,0,121]
[21,5440,21,5450,22,5456,null,null,null,null,0,222]
[21,5574,12,5581,24,5589,null,null,null,null,0,212]
[12,5681,23,5684,24,5693,null,null,null,null,0,122]
[12,5785,23,5791,24,5797,null,null,null,null,0,122]
[21,5962,21,5974,11,5977,null,null,null,null,0,221]
[21,6107,12,6110,24,6116,null,null,null,null,0,212]
[21,6216,12,6220,24,6223,null,null,null,null,0,212]
[21,6315,21,6322,22,6328,null,null,null,null,0,222]
[21,6425,21,6429,22,6434,null,null,null,null,0,222]
[21,6532,21,6538,11,6540,null,null,null,null,0,221]
[21,6683,12,6686,24,6693,null,null,null,null,0,212]
[21,6789,12,6798,24,6805,null,null,null,null,0,212]
[21,6904,21,6909,22,6918,null,null,null,null,0,222]
[21,7014,12,7020,24,7033,null,null,null,null,0,212]
[21,7131,21,7138,22,7141,null,null,null,null,0,222]
[21,7238,21,7249,22,7257,null,null,null,null,0,222]
[21,7354,21,7361,22,7368,null,null,null,null,0,222]
[21,7466,21,7472,22,7478,null,null,null,null,0,222]
[21,7577,21,7586,22,7592,null,null,null,null,0,222]
[21,7690,12,7700,24,7704,null,null,null,null,0,212]
[21,7802,21,7809,11,7811,null,null,null,null,0,221]
[21,7936,12,7943,24,7945,null,null,null,null,0,212]
[12,8039,23,8049,13,8053,null,null,null,null,0,121]
[21,8149,21,8155,22,8161,null,null,null,null,0,222]
[21,8254,12,8256,24,8267,null,null,null,null,0,212]
[21,8365,21,8371,22,8376,null,null,null,null,0,222]
[21,8470,21,8475,22,8481,null,null,null,null,0,222]
[21,8577,21,8583,11,8587,null,null,null,null,0,221]
[21,8717,21,8729,22,8734,null,null,null,null,0,222]
[21,8831,12,8838,24,8852,null,null,null,null,0,212]
[12,8946,23,8951,24,8956,null,null,null,null,0,122]
[21,9052,21,9060,11,9062,null,null,null,null,0,221]
[21,9462,12,9467,24,9477,null,null,null,null,0,212]
[21,9569,21,9575,22,9582,null,null,null,null,0,222]
[21,9679,12,9686,24,9688,null,null,null,null,0,212]
[21,9786,21,9787,22,9792,null,null,null,null,0,222]
[21,9890,21,9896,22,9902,null,null,null,null,0,222]
[21,9998,21,10003,22,10010,null,null,null,null,0,222]
[21,10106,21,10114,22,10120,null,null,null,null,0,222]
[21,10217,12,10224,24,10230,null,null,null,null,0,212]
[12,10325,23,10338,13,10342,null,null,null,null,0,121]
[21,10438,12,10440,24,10444,null,null,null,null,0,212]
[21,10541,21,10546,22,10550,null,null,null,null,0,222]
[21,10647,21,10658,11,10661,null,null,null,null,0,221]
[21,10845,12,10851,24,10865,null,null,null,null,0,212]
[21,10964,21,10975,22,10981,null,null,null,null,0,222]
[21,11078,12,11085,24,11090,null,null,null,null,0,212]
[21,11187,21,11192,22,11197,null,null,null,null,0,222]
[21,11294,21,11303,22,11313,null,null,null,null,0,222]
[21,11409,12,11417,24,11420,null,null,null,null,0,212]
[21,11519,21,11526,11,11530,null,null,null,null,0,221]
[21,11768,12,11777,24,11802,null,null,null,null,0,212]
[21,11899,12,11903,24,11907,null,null,null,null,0,212]
[12,11999,23,12003,24,12011,null,null,null,null,0,122]
[21,12103,21,12107,22,12120,null,null,null,null,0,222]
[21,12217,12,12224,24,12232,null,null,null,null,0,212]
[21,12325,21,12336,11,12347,null,null,null,null,0,221]
[21,12670,12,12675,24,12681,null,null,null,null,0,212]
[21,12778,21,12782,22,12788,null,null,null,null,0,222]
[21,12887,12,12897,24,12902,null,null,null,null,0,212]
[21,12999,21,13010,11,13015,null,null,null,null,0,221]
[21,13243,21,13246,11,13249,null,null,null,null,0,221]
[21,13547,12,13553,24,13567,null,null,null,null,0,212]
[21,13663,12,13668,24,13672,null,null,null,null,0,212]
[21,13764,12,13771,24,13773,null,null,null,null,0,212]
[21,13868,12,13879,24,13882,null,null,null,null,0,212]
[21,13979,21,13990,22,13996,null,null,null,null,0,222]
[21,14093,21,14103,22,14109,null,null,null,null,0,222]
[21,14206,12,14211,24,14217,null,null,null,null,0,212]
[21,14313,21,14323,11,14327,null,null,null,null,0,221]
[21,14497,12,14503,24,14510,null,null,null,null,0,212]
[21,14603,21,14605,11,14616,null,null,null,null,0,221]
[21,15016,12,15023,24,15031,null,null,null,null,0,212]
[21,15126,21,15131,22,15136,null,null,null,null,0,222]
[21,15234,21,15243,11,15247,null,null,null,null,0,221]
[21,15514,21,15520,11,15525,null,null,null,null,0,221]
[21,15916,21,15925,11,15928,null,null,null,null,0,221]
[21,16107,12,16112,24,16118,null,null,null,null,0,212]
[21,16211,12,16214,24,16219,null,null,null,null,0,212]
[21,16312,21,16317,22,16321,null,null,null,null,0,222]
[21,16414,21,16417,22,16422,null,null,null,null,0,222]
[21,16518,12,16528,13,16529,null,null,null,null,0,211]
[21,16622,21,16630,11,16634,null,null,null,null,0,221]
[21,16909,12,16921,24,16930,null,null,null,null,0,212]
[12,17023,23,17027,24,17033,null,null,null,null,0,122]
[21,17129,12,17141,24,17147,null,null,null,null,0,212]
[21,17243,21,17250,22,17256,null,null,null,null,0,222]
[21,17353,21,17360,11,17363,null,null,null,null,0,221]
[21,17523,12,17525,24,17539,null,null,null,null,0,212]
[21,17638,12,17643,24,17648,null,null,null,null,0,212]
[12,17740,23,17743,24,17747,null,null,null,null,0,122]
[21,17844,21,17848,22,17853,null,null,null,null,0,222]
[21,17949,12,17956,24,17961,null,null,null,null,0,212]
[21,18071,12,18074,24,18076,null,null,null,null,0,212]
[21,18169,21,18173,22,18179,null,null,null,null,0,222]
[21,18276,12,18283,24,18288,null,null,null,null,0,212]
[21,18389,21,18408,22,18415,null,null,null,null,0,222]
[21,18511,21,18513,22,18516,null,null,null,null,0,222]
[21,18614,21,18620,11,18623,null,null,null,null,0,221]
[12,18757,23,18764,24,18775,null,null,null,null,0,122]
[21,18881,21,18894,22,18900,null,null,null,null,0,222]
[21,18997,21,19002,11,19004,null,null,null,null,0,221]
[21,19149,12,19154,24,19161,null,null,null,null,0,212]
[21,19261,12,19266,24,19273,null,null,null,null,0,212]
[21,19369,21,19379,11,19381,null,null,null,null,0,221]
[21,20021,12,20026,24,20033,null,null,null,null,0,212]
[21,20131,21,20136,11,20139,null,null,null,null,0,221]
[21,20296,12,20303,24,20313,null,null,null,null,0,212]
[21,20409,12,20418,24,20427,null,null,null,null,0,212]
[21,20519,21,20524,11,20532,null,null,null,null,0,221]
[21,20672,21,20679,11,20682,null,null,null,null,0,221]
[21,20886,12,20891,24,20903,null,null,null,null,0,212]
[21,21005,12,21012,24,21021,null,null,null,null,0,212]
[21,21118,21,21120,11,21127,null,null,null,null,0,221]
[12,21244,23,21260,24,21267,null,null,null,null,0,122]
[21,21367,12,21373,24,21389,null,null,null,null,0,212]
[21,21486,21,21491,11,21493,null,null,null,null,0,221]
[21,21710,12,21719,24,21720,null,null,null,null,0,212]
[21,21856,12,21864,24,21872,null,null,null,null,0,212]
[21,21970,21,21973,11,21980,null,null,null,null,0,221]
[21,22125,12,22134,24,22141,null,null,null,null,0,212]
[21,22234,21,22241,22,22247,null,null,null,null,0,222]
[21,22338,21,22345,22,22351,null,null,null,null,0,222]
[21,22449,21,22456,22,22462,null,null,null,null,0,222]
[21,22573,12,22579,24,22581,null,null,null,null,0,212]
[12,22674,23,22678,24,22692,null,null,null,null,0,122]
[21,22784,21,22788,22,22793,null,null,null,null,0,222]
[21,22889,21,22891,22,22893,null,null,null,null,0,222]
[21,22990,21,22996,11,23002,null,null,null,null,0,221]
[21,23188,12,23197,24,23204,null,null,null,null,0,212]
[21,23303,21,23311,11,23317,null,null,null,null,0,221]
[12,23576,23,23583,24,23597,null,null,null,null,0,122]
[21,23699,21,23713,22,23719,null,null,null,null,0,222]
[21,23816,12,23826,24,23833,null,null,null,null,0,212]
[21,23927,21,23933,11,23936,null,null,null,null,1,221]