{"text_format":"1","workbook":"xlsx","n_sheets":34,"sheets":["Sample Report","Summary","Start","!M117A20.Gus","!M118B30.Gus","!M119B40.Gus","!M120A30.Gus","!M121A00.Gus","!M122950.Gus","!M123B00.Gus","!M124B10.Gus","!M125B00.Gus","!M126A30.Gus","!M127950.Gus","!M128B20.Gus","!M129B10.Gus","!M130B00.Gus","!M131A40.Gus","!M201A40.Gus","!M202B40.Gus","!M204B40.Gus","!M205B30.Gus","!M206B50.Gus","!M207A10.Gus","!M208B30.Gus","!M209A40.Gus","!M210B40.Gus","!M211A20.Gus","!M212A10.Gus","!M213B30.Gus","!M214A30.Gus","!M215A30.Gus","!M216A00.Gus","!M217B10.Gus"],"not_rendered":{"charts":0,"images":0,"macros":1,"external_links":0,"defined_names":0,"comments":0,"pivot_tables":0},"unopened":[],"bounds":{"document_bytes":16777216,"sheet_cells":100000,"rows_first":2000,"rows_last":500,"rows_between":2000,"halvings":0,"cell_chars":16384,"cell_head_chars":4096},"cells_cut":0,"cells_raw":0,"read":"whole","date_system":"1900"}

{"sheet":"Sample Report","index":0,"n_rows":12,"n_cols":11,"rows_kept":12,"cut":false,"hidden":true,"merged":[[7,0,7,6]]}
[]
["Date"]
["Hen"]
["Program"]
["Start at 999999"]
["Sequence component 1","Time 1","Seqeunce Component 2","Time 2","Seqeunce Component 3","Time 3","Correct   0 = No 1=Yes",null,null,"Seqeunce","Time"]
[12,7,12,42,13,18,"if 77 new line,                                  if 31 or 41 = yes new line on 77, ",null,null,"=string of Seqeunce compponent 1, 2 & 3","=time 3"]
["This continues until ther is a 1 on its own to indicate start of summary data"]
[null,null,null,null,null,null,null,null,null,"10-19 =1"]
["Summary Data ",null,null,null,null,null,null,null,null,"20-29 =2"]
["Correct","Incorrect","Rft","total","Av Correct","Av Incorrect","Percent correct","Time",null,"in this example the seqeunce would be 111"]
[40,33,40,73,23.95,15,54,806]

{"sheet":"Summary","index":1,"n_rows":33,"n_cols":24,"rows_kept":33,"cut":false,"hidden":false,"merged":[]}
[]
["Day","Date","Average Response Rate","Target %","RF for non correct sequence","U Value",null,null,null,null,"Block 1","Block 2","Block 3","Block 4","Block 5","Block 6"]
[1,{"$f":"'!M117A20.Gus'!B2:C2","v":"<date>"},{"$f":"('!M117A20.Gus'!F132/60)/'!M117A20.Gus'!Q3","v":2.397883597883598},{"$f":"'!M117A20.Gus'!N20/'!M117A20.Gus'!Q3","v":0},{"$f":"SUM('!M117A20.Gus'!L20:Q20)/'!M117A20.Gus'!Q3","v":1.3015873015873016},{"$f":"'!M117A20.Gus'!Q16","v":0.17264867844036849},null,null,null,"Average Response Rate",{"$f":"AVERAGE(C3:C7)","v":2.2962193180425552},{"$f":"AVERAGE(C8:C12)","v":2.4499244380396958},{"$f":"AVERAGE(C13:C17)","v":2.3899356243939054},{"$f":"AVERAGE(C18:C22)","v":2.0461190401777687},{"$f":"AVERAGE(C23:C27)","v":2.4568802913535239},{"$f":"AVERAGE(C28:C32)","v":2.6345487077889773}]
[2,{"$f":"'!M118B30.Gus'!B2:C2","v":"<date>"},{"$f":"('!M118B30.Gus'!F138/60)/'!M118B30.Gus'!Q3","v":3.0210858585858587},{"$f":"'!M118B30.Gus'!N20/'!M118B30.Gus'!Q3","v":0},{"$f":"SUM('!M118B30.Gus'!L20:Q20)/'!M118B30.Gus'!Q3","v":1.1818181818181819},{"$f":"'!M118B30.Gus'!Q16","v":0.16012581568691234},null,null,null,"Target %",{"$f":"AVERAGE(D3:D7)","v":0},{"$f":"AVERAGE(D8:D12)","v":0},{"$f":"AVERAGE(D13:D17)","v":0},{"$f":"AVERAGE(D18:D22)","v":1.3422818791946308E-3},{"$f":"AVERAGE(D23:D27)","v":0},{"$f":"AVERAGE(D28:D32)","v":1.3245033112582781E-3}]
[3,{"$f":"'!M119B40.Gus'!B2:C2","v":"<date>"},{"$f":"('!M119B40.Gus'!F143/60)/'!M119B40.Gus'!Q3","v":2.9126520681265209},{"$f":"'!M119B40.Gus'!N20/'!M119B40.Gus'!Q3","v":0},{"$f":"SUM('!M119B40.Gus'!L20:Q20)/'!M119B40.Gus'!Q3","v":1.9562043795620438},{"$f":"'!M119B40.Gus'!Q16","v":0.1861511096010168},null,null,null,"CCRF",{"$f":"AVERAGE(E3:E7)","v":1.5211896891289385},{"$f":"AVERAGE(E8:E12)","v":1.8157588403027334},{"$f":"AVERAGE(E13:E17)","v":1.6657139934799599},{"$f":"AVERAGE(E18:E22)","v":1.8153096840225935},{"$f":"AVERAGE(E23:E27)","v":1.2154691790213645},{"$f":"AVERAGE(E28:E32)","v":1.801375574852661}]
[4,{"$f":"'!M120A30.Gus'!B2:C2","v":"<date>"},{"$f":"('!M120A30.Gus'!F150/60)/'!M120A30.Gus'!Q3","v":0},{"$f":"'!M120A30.Gus'!N20/'!M120A30.Gus'!Q3","v":0},{"$f":"SUM('!M120A30.Gus'!L20:Q20)/'!M120A30.Gus'!Q3","v":1.875},{"$f":"'!M120A30.Gus'!Q16","v":0.19138503010292371},null,null,null,"U Value",{"$f":"AVERAGE(F3:F7)","v":0.17640410975835075},{"$f":"AVERAGE(F8:F12)","v":0.157667720365674},{"$f":"AVERAGE(F13:F17)","v":0.17064485146230804},{"$f":"AVERAGE(F18:F22)","v":0.17607412948986209},{"$f":"AVERAGE(F23:F27)","v":0.14488125457933329},{"$f":"AVERAGE(F28:F32)","v":0.12899070276293209}]
[5,{"$f":"'!M121A00.Gus'!B2:C2","v":"<date>"},{"$f":"('!M121A00.Gus'!F133/60)/'!M121A00.Gus'!Q3","v":3.149475065616798},{"$f":"'!M121A00.Gus'!N20/'!M121A00.Gus'!Q3","v":0},{"$f":"SUM('!M121A00.Gus'!L20:Q20)/'!M121A00.Gus'!Q3","v":1.2913385826771653},{"$f":"'!M121A00.Gus'!Q16","v":0.17170991496053231}]
[6,{"$f":"'!M122950.Gus'!B2:C2","v":"<date>"},{"$f":"('!M122950.Gus'!F148/60)/'!M122950.Gus'!Q3","v":2.8049295774647889},{"$f":"'!M122950.Gus'!N20/'!M122950.Gus'!Q3","v":0},{"$f":"SUM('!M122950.Gus'!L20:Q20)/'!M122950.Gus'!Q3","v":1.8943661971830985},{"$f":"'!M122950.Gus'!Q16","v":0.15118276676735515}]
[7,{"$f":"'!M123B00.Gus'!B2:C2","v":"<date>"},{"$f":"('!M123B00.Gus'!F176/60)/'!M123B00.Gus'!Q3","v":2.3493137254901959},{"$f":"'!M123B00.Gus'!N20/'!M123B00.Gus'!Q3","v":0},{"$f":"SUM('!M123B00.Gus'!L20:Q20)/'!M123B00.Gus'!Q3","v":1.6411764705882352},{"$f":"'!M123B00.Gus'!Q16","v":0.16510264947282857},{"$f":"K3","v":2.2962193180425552},{"$f":"L3","v":2.4499244380396958},2.3899356243939054,2.0461190401777687,2.4568802913535239,2.6345487077889773,{"$f":"K4","v":0},{"$f":"L4","v":0},0,1.3422818791946308E-3,0,1.3245033112582781E-3,{"$f":"K6","v":0.17640410975835075},{"$f":"L6","v":0.157667720365674},0.17064485146230804,0.17607412948986209,0.14488125457933329,0.12899070276293209]
[8,{"$f":"'!M124B10.Gus'!B2:C2","v":"<date>"},{"$f":"('!M124B10.Gus'!F181/60)/'!M124B10.Gus'!Q3","v":2.278},{"$f":"'!M124B10.Gus'!N20/'!M124B10.Gus'!Q3","v":0},{"$f":"SUM('!M124B10.Gus'!L20:Q20)/'!M124B10.Gus'!Q3","v":1.6},{"$f":"'!M124B10.Gus'!Q16","v":0.14612217246203699}]
[9,{"$f":"'!M125B00.Gus'!B2:C2","v":"<date>"},{"$f":"('!M125B00.Gus'!F169/60)/'!M125B00.Gus'!Q3","v":2.4461145194274025},{"$f":"'!M125B00.Gus'!N20/'!M125B00.Gus'!Q3","v":0},{"$f":"SUM('!M125B00.Gus'!L20:Q20)/'!M125B00.Gus'!Q3","v":1.6932515337423313},{"$f":"'!M125B00.Gus'!Q16","v":0.15684544185941288}]
[10,{"$f":"'!M126A30.Gus'!B2:C2","v":"<date>"},{"$f":"('!M126A30.Gus'!F122/60)/'!M126A30.Gus'!Q3","v":2.3712643678160918},{"$f":"'!M126A30.Gus'!N20/'!M126A30.Gus'!Q3","v":0},{"$f":"SUM('!M126A30.Gus'!L20:Q20)/'!M126A30.Gus'!Q3","v":2.25},{"$f":"'!M126A30.Gus'!Q16","v":0.16908557126673648}]
[11,{"$f":"'!M127950.Gus'!B2:C2","v":"<date>"},{"$f":"('!M127950.Gus'!F147/60)/'!M127950.Gus'!Q3","v":2.8355791962174939},{"$f":"'!M127950.Gus'!N20/'!M127950.Gus'!Q3","v":0},{"$f":"SUM('!M127950.Gus'!L20:Q20)/'!M127950.Gus'!Q3","v":1.9078014184397163},{"$f":"'!M127950.Gus'!Q16","v":0.17063838397642828}]
[12,{"$f":"'!M128B20.Gus'!B2:C2","v":"<date>"},{"$f":"('!M128B20.Gus'!F187/60)/'!M128B20.Gus'!Q3","v":2.1684981684981688},{"$f":"'!M128B20.Gus'!N20/'!M128B20.Gus'!Q3","v":0},{"$f":"SUM('!M128B20.Gus'!L20:Q20)/'!M128B20.Gus'!Q3","v":1.554945054945055},{"$f":"'!M128B20.Gus'!Q16","v":0.17120277916801857}]
[13,{"$f":"'!M129B10.Gus'!B2:C2","v":"<date>"},{"$f":"('!M129B10.Gus'!F179/60)/'!M129B10.Gus'!Q3","v":2.3053949903660884},{"$f":"'!M129B10.Gus'!N20/'!M129B10.Gus'!Q3","v":0},{"$f":"SUM('!M129B10.Gus'!L20:Q20)/'!M129B10.Gus'!Q3","v":1.6184971098265897},{"$f":"'!M129B10.Gus'!Q16","v":0.17907186557866447}]
[14,{"$f":"'!M130B00.Gus'!B2:C2","v":"<date>"},{"$f":"('!M130B00.Gus'!F184/60)/'!M130B00.Gus'!Q3","v":2.243820224719101},{"$f":"'!M130B00.Gus'!N20/'!M130B00.Gus'!Q3","v":0},{"$f":"SUM('!M130B00.Gus'!L20:Q20)/'!M130B00.Gus'!Q3","v":1.5786516853932584},{"$f":"'!M130B00.Gus'!Q16","v":0.16735392334501009}]
[15,{"$f":"'!M131A40.Gus'!B2:C2","v":"<date>"},{"$f":"('!M131A40.Gus'!F172/60)/'!M131A40.Gus'!Q3","v":2.3963855421686748},{"$f":"'!M131A40.Gus'!N20/'!M131A40.Gus'!Q3","v":0},{"$f":"SUM('!M131A40.Gus'!L20:Q20)/'!M131A40.Gus'!Q3","v":1.6686746987951808},{"$f":"'!M131A40.Gus'!Q16","v":0.16495730524341881}]
[16,{"$f":"'!M201A40.Gus'!B2:C2","v":"<date>"},{"$f":"('!M201A40.Gus'!F155/60)/'!M201A40.Gus'!Q3","v":2.6771812080536912},{"$f":"'!M201A40.Gus'!N20/'!M201A40.Gus'!Q3","v":6.7114093959731542E-3},{"$f":"SUM('!M201A40.Gus'!L20:Q20)/'!M201A40.Gus'!Q3","v":1.8322147651006711},{"$f":"'!M201A40.Gus'!Q16","v":0.14416809840772105}]
[17,{"$f":"'!M202B40.Gus'!B2:C2","v":"<date>"},{"$f":"('!M202B40.Gus'!F154/60)/'!M202B40.Gus'!Q3","v":2.6945945945945948},{"$f":"'!M202B40.Gus'!N20/'!M202B40.Gus'!Q3","v":0},{"$f":"SUM('!M202B40.Gus'!L20:Q20)/'!M202B40.Gus'!Q3","v":1.1554054054054055},{"$f":"'!M202B40.Gus'!Q16","v":0.13997570203351536}]
[18,{"$f":"'!M204B40.Gus'!B2:C2","v":"<date>"},{"$f":"('!M204B40.Gus'!F168/60)/'!M204B40.Gus'!Q3","v":2.4679012345679014},{"$f":"'!M204B40.Gus'!N20/'!M204B40.Gus'!Q3","v":0},{"$f":"SUM('!M204B40.Gus'!L20:Q20)/'!M204B40.Gus'!Q3","v":1.0864197530864197},{"$f":"'!M204B40.Gus'!Q16","v":0.16309015696059267}]
[19,{"$f":"'!M205B30.Gus'!B2:C2","v":"<date>"},{"$f":"('!M205B30.Gus'!F80/60)/'!M205B30.Gus'!Q3","v":0},{"$f":"'!M205B30.Gus'!N20/'!M205B30.Gus'!Q3","v":0},{"$f":"SUM('!M205B30.Gus'!L20:Q20)/'!M205B30.Gus'!Q3","v":3.3378378378378377},{"$f":"'!M205B30.Gus'!Q16","v":0.27239780968134814}]
[20,{"$f":"'!M206B50.Gus'!B2:C2","v":"<date>"},{"$f":"('!M206B50.Gus'!F173/60)/'!M206B50.Gus'!Q3","v":2.3909181636726546},{"$f":"'!M206B50.Gus'!N20/'!M206B50.Gus'!Q3","v":0},{"$f":"SUM('!M206B50.Gus'!L20:Q20)/'!M206B50.Gus'!Q3","v":1.6646706586826348},{"$f":"'!M206B50.Gus'!Q16","v":0.1607388803661331}]
[21,{"$f":"'!M207A10.Gus'!B2:C2","v":"<date>"},{"$f":"('!M207A10.Gus'!F164/60)/'!M207A10.Gus'!Q3","v":2.5120253164556963},{"$f":"'!M207A10.Gus'!N20/'!M207A10.Gus'!Q3","v":0},{"$f":"SUM('!M207A10.Gus'!L20:Q20)/'!M207A10.Gus'!Q3","v":1.1075949367088607},{"$f":"'!M207A10.Gus'!Q16","v":0.15838807139742353}]
[22,{"$f":"'!M208B30.Gus'!B2:C2","v":"<date>"},{"$f":"('!M208B30.Gus'!F184/60)/'!M208B30.Gus'!Q3","v":2.2419475655430712},{"$f":"'!M208B30.Gus'!N20/'!M208B30.Gus'!Q3","v":0},{"$f":"SUM('!M208B30.Gus'!L20:Q20)/'!M208B30.Gus'!Q3","v":1.0168539325842696},{"$f":"'!M208B30.Gus'!Q16","v":0.13456762082205626}]
[23,{"$f":"'!M209A40.Gus'!B2:C2","v":"<date>"},{"$f":"('!M209A40.Gus'!F166/60)/'!M209A40.Gus'!Q3","v":2.5001041666666666},{"$f":"'!M209A40.Gus'!N20/'!M209A40.Gus'!Q3","v":0},{"$f":"SUM('!M209A40.Gus'!L20:Q20)/'!M209A40.Gus'!Q3","v":1.09375},{"$f":"'!M209A40.Gus'!Q16","v":0.16200420039700777}]
[24,{"$f":"'!M210B40.Gus'!B2:C2","v":"<date>"},{"$f":"('!M210B40.Gus'!F168/60)/'!M210B40.Gus'!Q3","v":2.4329218106995882},{"$f":"'!M210B40.Gus'!N20/'!M210B40.Gus'!Q3","v":0},{"$f":"SUM('!M210B40.Gus'!L20:Q20)/'!M210B40.Gus'!Q3","v":1.0864197530864197},{"$f":"'!M210B40.Gus'!Q16","v":0.13810368308769627}]
[25,{"$f":"'!M211A20.Gus'!B2:C2","v":"<date>"},{"$f":"('!M211A20.Gus'!F160/60)/'!M211A20.Gus'!Q3","v":2.5974025974025974},{"$f":"'!M211A20.Gus'!N20/'!M211A20.Gus'!Q3","v":0},{"$f":"SUM('!M211A20.Gus'!L20:Q20)/'!M211A20.Gus'!Q3","v":1.7727272727272727},{"$f":"'!M211A20.Gus'!Q16","v":0.13134269719248257}]
[26,{"$f":"'!M212A10.Gus'!B2:C2","v":"<date>"},{"$f":"('!M212A10.Gus'!F172/60)/'!M212A10.Gus'!Q3","v":2.3893574297188755},{"$f":"'!M212A10.Gus'!N20/'!M212A10.Gus'!Q3","v":0},{"$f":"SUM('!M212A10.Gus'!L20:Q20)/'!M212A10.Gus'!Q3","v":1.6686746987951808},{"$f":"'!M212A10.Gus'!Q16","v":0.12434424729921012}]
[27,{"$f":"'!M213B30.Gus'!B2:C2","v":"<date>"},{"$f":"('!M213B30.Gus'!F157/60)/'!M213B30.Gus'!Q3","v":2.6430463576158942},{"$f":"'!M213B30.Gus'!N20/'!M213B30.Gus'!Q3","v":0},{"$f":"SUM('!M213B30.Gus'!L20:Q20)/'!M213B30.Gus'!Q3","v":1.8013245033112584},{"$f":"'!M213B30.Gus'!Q16","v":0.12562018749713097}]
[28,{"$f":"'!M214A30.Gus'!B2:C2","v":"<date>"},{"$f":"('!M214A30.Gus'!F160/60)/'!M214A30.Gus'!Q3","v":2.5913419913419915},{"$f":"'!M214A30.Gus'!N20/'!M214A30.Gus'!Q3","v":0},{"$f":"SUM('!M214A30.Gus'!L20:Q20)/'!M214A30.Gus'!Q3","v":1.7727272727272727},{"$f":"'!M214A30.Gus'!Q16","v":0.11791731265526892}]
[29,{"$f":"'!M215A30.Gus'!B2:C2","v":"<date>"},{"$f":"('!M215A30.Gus'!F143/60)/'!M215A30.Gus'!Q3","v":2.901094890510949},{"$f":"'!M215A30.Gus'!N20/'!M215A30.Gus'!Q3","v":0},{"$f":"SUM('!M215A30.Gus'!L20:Q20)/'!M215A30.Gus'!Q3","v":1.9562043795620438},{"$f":"'!M215A30.Gus'!Q16","v":0.13459972584903704}]
[30,{"$f":"'!M216A00.Gus'!B2:C2","v":"<date>"},{"$f":"('!M216A00.Gus'!F157/60)/'!M216A00.Gus'!Q3","v":2.6479028697571745},{"$f":"'!M216A00.Gus'!N20/'!M216A00.Gus'!Q3","v":6.6225165562913907E-3},{"$f":"SUM('!M216A00.Gus'!L20:Q20)/'!M216A00.Gus'!Q3","v":1.8079470198675496},{"$f":"'!M216A00.Gus'!Q16","v":0.14247204051401346}]
[null,{"$f":"'!M217B10.Gus'!B2:C2","v":"<date>"},{"$f":"('!M217B10.Gus'!F180/60)/'!M217B10.Gus'!Q3","v":2.2937739463601532},{"$f":"'!M217B10.Gus'!N20/'!M217B10.Gus'!Q3","v":0},{"$f":"SUM('!M217B10.Gus'!L20:Q20)/'!M217B10.Gus'!Q3","v":1.0344827586206897},{"$f":"'!M217B10.Gus'!Q16","v":0.13537648702859673}]

{"sheet":"Start","index":2,"n_rows":37,"n_cols":10,"rows_kept":37,"cut":false,"hidden":false,"merged":[]}
[null,null,null,null,null,"Use Folder 51",null,"Auto Clean Up",null,"Correct sequence"]
[null,null,null,null,null,false,null,true,null,211]
[]
["Working with Folder",null,null,null,null,null,"Process All/Or Pick A number: ALL or an integer"]
["F:\\Possum Chapter\\Raw Data\\Gus\\Phase 1 Any\\",null,null,null,null,null,"ALL"]
["Filenames:"]
["!M211A20.Gus",null,null,null,null,null,"Paint Cells"]
["!M212A10.Gus",null,null,null,null,null,false]
["!M213B30.Gus"]
["!M214A30.Gus"]
["!M215A30.Gus"]
["!M216A00.Gus"]
["!M217B10.Gus"]
["!M117A20.Gus"]
["!M118B30.Gus"]
["!M119B40.Gus"]
["!M120A30.Gus"]
["!M121A00.Gus"]
["!M122950.Gus"]
["!M123B00.Gus"]
["!M124B10.Gus"]
["!M125B00.Gus"]
["!M126A30.Gus"]
["!M127950.Gus"]
["!M128B20.Gus"]
["!M129B10.Gus"]
["!M130B00.Gus"]
["!M131A40.Gus"]
["!M201A40.Gus"]
["!M202B40.Gus"]
["!M204B40.Gus"]
["!M205B30.Gus"]
["!M206B50.Gus"]
["!M207A10.Gus"]
["!M208B30.Gus"]
["!M209A40.Gus"]
["!M210B40.Gus"]

{"sheet":"!M117A20.Gus","index":3,"n_rows":132,"n_cols":48,"rows_kept":132,"cut":false,"hidden":false,"merged":[[4,39,4,42],[5,39,5,40],[4,44,4,47],[5,44,5,45],[4,24,4,27],[5,24,5,25],[4,29,4,32],[5,29,5,30],[4,34,4,37],[5,34,5,35],[1,1,1,2],[5,13,5,14],[18,13,18,14],[19,13,19,14],[4,19,4,22],[5,19,5,20]]}
["Report for:!M117A20.Gus"]
["Date:","<date>"]
["Hen:","<hen>",null,null,null,"Correct Sequence",{"$f":"Start!J2","v":211},null,null,null,null,null,null,null,null,"Total Sequences in Data",{"$f":"4994-COUNTBLANK(L7:L5000)","v":126},null,null,null,null,"Total Sequences in Block Data",{"$f":"COUNTA(L7:L27)","v":21},null,null,null,"Total Sequences in Block Data",{"$f":"COUNTA(L28:L48)","v":21},null,null,null,"Total Sequences in Block Data",{"$f":"COUNTA(L49:L69)","v":21},null,null,null,"Total Sequences in Block Data",{"$f":"COUNTA(L70:L90)","v":21},null,null,null,"Total Sequences in Block Data",{"$f":"COUNTA(L91:L111)","v":21},null,null,null,"Total Sequences in Block Data",{"$f":"COUNTA(L112:L132)","v":21}]
[null,null,null,null,null,null,null,null,null,null,null,null,null,null,null,"Total Sequences in Summary",{"$f":"SUM(O7:O14)","v":126},null,null,null,null,"Total Sequences in Block Summary",{"$f":"SUM(U7:U14)","v":21},null,null,null,"Total Sequences in Block Summary",{"$f":"SUM(Z7:Z14)","v":21},null,null,null,"Total Sequences in Block Summary",{"$f":"SUM(AE7:AE14)","v":21},null,null,null,"Total Sequences in Block Summary",{"$f":"SUM(AJ7:AJ14)","v":21},null,null,null,"Total Sequences in Block Summary",{"$f":"SUM(AO7:AO14)","v":21},null,null,null,"Total Sequences in Block Summary",{"$f":"SUM(AT7:AT14)","v":21}]
[null,null,null,null,null,null,null,null,null,null,null,null,null,null,null,null,null,null,null,"Block 1",null,null,null,null,"Block 2",null,null,null,null,"Block 3",null,null,null,null,"Block 4",null,null,null,null,"Block 5",null,null,null,null,"Block 6"]
["Sequence\nComponent\n1","Time\n1","Sequence\nComponent\n2","Time\n2","Sequence\nComponent\n3","Time\n3","Sequence\nComponent\n4","Time\n4","Sequence\nComponent\n5","Time\n5","Correct?\n0=No 1=Yes","Sequence",null,"Frequency",null,"Relative Frequency","Variability",null,null,"Frequency",null,"Relative Frequency","Variability",null,"Frequency",null,"Relative Frequency","Variability",null,"Frequency",null,"Relative Frequency","Variability",null,"Frequency",null,"Relative Frequency","Variability",null,"Frequency",null,"Relative Frequency","Variability",null,"Frequency",null,"Relative Frequency","Variability"]
[21,85,22,92,24,102,null,null,null,null,0,222,null,111,{"$f":"COUNTIF($L$7:$L$500,N7)","v":0},{"$f":"O7/$Q$4","v":0},{"$f":"IF(P7=0,0,(P7*((LOG(P7))/LOG(2))))","v":0},null,null,{"$f":"N7","v":111},{"$f":"COUNTIF(L7:L27,T7)","v":0},{"$f":"U7/(W4-U11)","v":0},{"$f":"IF(V7=0,0,(V7*((LOG(V7))/LOG(2))))","v":0},null,{"$f":"N7","v":111},{"$f":"COUNTIF(L28:L48,Y7)","v":0},{"$f":"Z7/(AB4-Z11)","v":0},{"$f":"IF(AA7=0,0,(AA7*((LOG(AA7))/LOG(2))))","v":0},null,{"$f":"N7","v":111},{"$f":"COUNTIF(L49:L69,AD7)","v":0},{"$f":"AE7/(AG4-AE11)","v":0},{"$f":"IF(AF7=0,0,(AF7*((LOG(AF7))/LOG(2))))","v":0},null,{"$f":"N7","v":111},{"$f":"COUNTIF(L70:L90,AI7)","v":0},{"$f":"AJ7/(AL4-AJ11)","v":0},{"$f":"IF(AK7=0,0,(AK7*((LOG(AK7))/LOG(2))))","v":0},null,{"$f":"N7","v":111},{"$f":"COUNTIF(L91:L111,AN7)","v":0},{"$f":"AO7/(AQ4-AO11)","v":0},{"$f":"IF(AP7=0,0,(AP7*((LOG(AP7))/LOG(2))))","v":0},null,{"$f":"N7","v":111},{"$f":"COUNTIF(L112:L132,AS7)","v":0},{"$f":"AT7/(AV4-AT11)","v":0},{"$f":"IF(AU7=0,0,(AU7*((LOG(AU7))/LOG(2))))","v":0}]
[21,211,22,224,24,233,null,null,null,null,0,222,null,112,{"$f":"COUNTIF($L$7:$L$500,N8)","v":4},{"$f":"O8/$Q$4","v":3.1746031746031744E-2},{"$f":"IF(P8=0,0,(P8*((LOG(P8))/LOG(2))))","v":-0.15800888646031477},null,null,{"$f":"N8","v":112},{"$f":"COUNTIF(L7:L27,T8)","v":1},{"$f":"U8/(W4-U11)","v":4.7619047619047616E-2},{"$f":"IF(V8=0,0,(V8*((LOG(V8))/LOG(2))))","v":-0.20915797251327431},null,{"$f":"N8","v":112},{"$f":"COUNTIF(L28:L48,Y8)","v":0},{"$f":"Z8/(AB4-Z11)","v":0},{"$f":"IF(AA8=0,0,(AA8*((LOG(AA8))/LOG(2))))","v":0},null,{"$f":"N8","v":112},{"$f":"COUNTIF(L49:L69,AD8)","v":1},{"$f":"AE8/(AG4-AE11)","v":4.7619047619047616E-2},{"$f":"IF(AF8=0,0,(AF8*((LOG(AF8))/LOG(2))))","v":-0.20915797251327431},null,{"$f":"N8","v":112},{"$f":"COUNTIF(L70:L90,AI8)","v":0},{"$f":"AJ8/(AL4-AJ11)","v":0},{"$f":"IF(AK8=0,0,(AK8*((LOG(AK8))/LOG(2))))","v":0},null,{"$f":"N8","v":112},{"$f":"COUNTIF(L91:L111,AN8)","v":1},{"$f":"AO8/(AQ4-AO11)","v":4.7619047619047616E-2},{"$f":"IF(AP8=0,0,(AP8*((LOG(AP8))/LOG(2))))","v":-0.20915797251327431},null,{"$f":"N8","v":112},{"$f":"COUNTIF(L112:L132,AS8)","v":1},{"$f":"AT8/(AV4-AT11)","v":4.7619047619047616E-2},{"$f":"IF(AU8=0,0,(AU8*((LOG(AU8))/LOG(2))))","v":-0.20915797251327431}]
[21,330,22,335,24,339,null,null,null,null,0,222,null,121,{"$f":"COUNTIF($L$7:$L$500,N9)","v":0},{"$f":"O9/$Q$4","v":0},{"$f":"IF(P9=0,0,(P9*((LOG(P9))/LOG(2))))","v":0},null,null,{"$f":"N9","v":121},{"$f":"COUNTIF(L7:L27,T9)","v":0},{"$f":"U9/(W4-U11)","v":0},{"$f":"IF(V9=0,0,(V9*((LOG(V9))/LOG(2))))","v":0},null,{"$f":"N9","v":121},{"$f":"COUNTIF(L28:L48,Y9)","v":0},{"$f":"Z9/(AB4-Z11)","v":0},{"$f":"IF(AA9=0,0,(AA9*((LOG(AA9))/LOG(2))))","v":0},null,{"$f":"N9","v":121},{"$f":"COUNTIF(L49:L69,AD9)","v":0},{"$f":"AE9/(AG4-AE11)","v":0},{"$f":"IF(AF9=0,0,(AF9*((LOG(AF9))/LOG(2))))","v":0},null,{"$f":"N9","v":121},{"$f":"COUNTIF(L70:L90,AI9)","v":0},{"$f":"AJ9/(AL4-AJ11)","v":0},{"$f":"IF(AK9=0,0,(AK9*((LOG(AK9))/LOG(2))))","v":0},null,{"$f":"N9","v":121},{"$f":"COUNTIF(L91:L111,AN9)","v":0},{"$f":"AO9/(AQ4-AO11)","v":0},{"$f":"IF(AP9=0,0,(AP9*((LOG(AP9))/LOG(2))))","v":0},null,{"$f":"N9","v":121},{"$f":"COUNTIF(L112:L132,AS9)","v":0},{"$f":"AT9/(AV4-AT11)","v":0},{"$f":"IF(AU9=0,0,(AU9*((LOG(AU9))/LOG(2))))","v":0}]
[12,435,24,442,24,448,null,null,null,null,0,122,null,122,{"$f":"COUNTIF($L$7:$L$500,N10)","v":72},{"$f":"O10/$Q$4","v":0.5714285714285714},{"$f":"IF(P10=0,0,(P10*((LOG(P10))/LOG(2))))","v":-0.46134566974720237},null,null,{"$f":"N10","v":122},{"$f":"COUNTIF(L7:L27,T10)","v":11},{"$f":"U10/(W4-U11)","v":0.52380952380952384},{"$f":"IF(V10=0,0,(V10*((LOG(V10))/LOG(2))))","v":-0.4886544688360045},null,{"$f":"N10","v":122},{"$f":"COUNTIF(L28:L48,Y10)","v":9},{"$f":"Z10/(AB4-Z11)","v":0.42857142857142855},{"$f":"IF(AA10=0,0,(AA10*((LOG(AA10))/LOG(2))))","v":-0.52388246628704915},null,{"$f":"N10","v":122},{"$f":"COUNTIF(L49:L69,AD10)","v":12},{"$f":"AE10/(AG4-AE11)","v":0.5714285714285714},{"$f":"IF(AF10=0,0,(AF10*((LOG(AF10))/LOG(2))))","v":-0.46134566974720237},null,{"$f":"N10","v":122},{"$f":"COUNTIF(L70:L90,AI10)","v":13},{"$f":"AJ10/(AL4-AJ11)","v":0.61904761904761907},{"$f":"IF(AK10=0,0,(AK10*((LOG(AK10))/LOG(2))))","v":-0.42830524572808026},null,{"$f":"N10","v":122},{"$f":"COUNTIF(L91:L111,AN10)","v":12},{"$f":"AO10/(AQ4-AO11)","v":0.5714285714285714},{"$f":"IF(AP10=0,0,(AP10*((LOG(AP10))/LOG(2))))","v":-0.46134566974720237},null,{"$f":"N10","v":122},{"$f":"COUNTIF(L112:L132,AS10)","v":15},{"$f":"AT10/(AV4-AT11)","v":0.7142857142857143},{"$f":"IF(AU10=0,0,(AU10*((LOG(AU10))/LOG(2))))","v":-0.34673344797874411}]
[12,542,24,550,24,553,null,null,null,null,0,122,null,211,{"$f":"COUNTIF($L$7:$L$500,N11)","v":0},{"$f":"O11/$Q$4","v":0},{"$f":"IF(P11=0,0,(P11*((LOG(P11))/LOG(2))))","v":0},null,null,{"$f":"N11","v":211},{"$f":"COUNTIF(L7:L27,T11)","v":0},null,null,null,{"$f":"N11","v":211},{"$f":"COUNTIF(L28:L48,Y11)","v":0},null,null,null,{"$f":"N11","v":211},{"$f":"COUNTIF(L49:L69,AD11)","v":0},null,null,null,{"$f":"N11","v":211},{"$f":"COUNTIF(L70:L90,AI11)","v":0},null,null,null,{"$f":"N11","v":211},{"$f":"COUNTIF(L91:L111,AN11)","v":0},null,null,null,{"$f":"N11","v":211},{"$f":"COUNTIF(L112:L132,AS11)","v":0}]
[12,647,24,658,24,671,null,null,null,null,0,122,null,212,{"$f":"COUNTIF($L$7:$L$500,N12)","v":1},{"$f":"O12/$Q$4","v":7.9365079365079361E-3},{"$f":"IF(P12=0,0,(P12*((LOG(P12))/LOG(2))))","v":-5.5375237488094572E-2},null,null,{"$f":"N12","v":212},{"$f":"COUNTIF(L7:L27,T12)","v":0},{"$f":"U12/(W4-U11)","v":0},{"$f":"IF(V12=0,0,(V12*((LOG(V12))/LOG(2))))","v":0},null,{"$f":"N12","v":212},{"$f":"COUNTIF(L28:L48,Y12)","v":1},{"$f":"Z12/(AB4-Z11)","v":4.7619047619047616E-2},{"$f":"IF(AA12=0,0,(AA12*((LOG(AA12))/LOG(2))))","v":-0.20915797251327431},null,{"$f":"N12","v":212},{"$f":"COUNTIF(L49:L69,AD12)","v":0},{"$f":"AE12/(AG4-AE11)","v":0},{"$f":"IF(AF12=0,0,(AF12*((LOG(AF12))/LOG(2))))","v":0},null,{"$f":"N12","v":212},{"$f":"COUNTIF(L70:L90,AI12)","v":0},{"$f":"AJ12/(AL4-AJ11)","v":0},{"$f":"IF(AK12=0,0,(AK12*((LOG(AK12))/LOG(2))))","v":0},null,{"$f":"N12","v":212},{"$f":"COUNTIF(L91:L111,AN12)","v":0},{"$f":"AO12/(AQ4-AO11)","v":0},{"$f":"IF(AP12=0,0,(AP12*((LOG(AP12))/LOG(2))))","v":0},null,{"$f":"N12","v":212},{"$f":"COUNTIF(L112:L132,AS12)","v":0},{"$f":"AT12/(AV4-AT11)","v":0},{"$f":"IF(AU12=0,0,(AU12*((LOG(AU12))/LOG(2))))","v":0}]
[12,771,24,784,24,791,null,null,null,null,0,122,null,221,{"$f":"COUNTIF($L$7:$L$500,N13)","v":0},{"$f":"O13/$Q$4","v":0},{"$f":"IF(P13=0,0,(P13*((LOG(P13))/LOG(2))))","v":0},null,null,{"$f":"N13","v":221},{"$f":"COUNTIF(L7:L27,T13)","v":0},{"$f":"U13/(W4-U11)","v":0},{"$f":"IF(V13=0,0,(V13*((LOG(V13))/LOG(2))))","v":0},null,{"$f":"N13","v":221},{"$f":"COUNTIF(L28:L48,Y13)","v":0},{"$f":"Z13/(AB4-Z11)","v":0},{"$f":"IF(AA13=0,0,(AA13*((LOG(AA13))/LOG(2))))","v":0},null,{"$f":"N13","v":221},{"$f":"COUNTIF(L49:L69,AD13)","v":0},{"$f":"AE13/(AG4-AE11)","v":0},{"$f":"IF(AF13=0,0,(AF13*((LOG(AF13))/LOG(2))))","v":0},null,{"$f":"N13","v":221},{"$f":"COUNTIF(L70:L90,AI13)","v":0},{"$f":"AJ13/(AL4-AJ11)","v":0},{"$f":"IF(AK13=0,0,(AK13*((LOG(AK13))/LOG(2))))","v":0},null,{"$f":"N13","v":221},{"$f":"COUNTIF(L91:L111,AN13)","v":0},{"$f":"AO13/(AQ4-AO11)","v":0},{"$f":"IF(AP13=0,0,(AP13*((LOG(AP13))/LOG(2))))","v":0},null,{"$f":"N13","v":221},{"$f":"COUNTIF(L112:L132,AS13)","v":0},{"$f":"AT13/(AV4-AT11)","v":0},{"$f":"IF(AU13=0,0,(AU13*((LOG(AU13))/LOG(2))))","v":0}]
[12,888,24,897,24,928,null,null,null,null,0,122,null,222,{"$f":"COUNTIF($L$7:$L$500,N14)","v":49},{"$f":"O14/$Q$4","v":0.3888888888888889},{"$f":"IF(P14=0,0,(P14*((LOG(P14))/LOG(2))))","v":-0.52988836420516428},null,null,{"$f":"N14","v":222},{"$f":"COUNTIF(L7:L27,T14)","v":9},{"$f":"U14/(W4-U11)","v":0.42857142857142855},{"$f":"IF(V14=0,0,(V14*((LOG(V14))/LOG(2))))","v":-0.52388246628704915},null,{"$f":"N14","v":222},{"$f":"COUNTIF(L28:L48,Y14)","v":11},{"$f":"Z14/(AB4-Z11)","v":0.52380952380952384},{"$f":"IF(AA14=0,0,(AA14*((LOG(AA14))/LOG(2))))","v":-0.4886544688360045},null,{"$f":"N14","v":222},{"$f":"COUNTIF(L49:L69,AD14)","v":8},{"$f":"AE14/(AG4-AE11)","v":0.38095238095238093},{"$f":"IF(AF14=0,0,(AF14*((LOG(AF14))/LOG(2))))","v":-0.53040663724905157},null,{"$f":"N14","v":222},{"$f":"COUNTIF(L70:L90,AI14)","v":8},{"$f":"AJ14/(AL4-AJ11)","v":0.38095238095238093},{"$f":"IF(AK14=0,0,(AK14*((LOG(AK14))/LOG(2))))","v":-0.53040663724905157},null,{"$f":"N14","v":222},{"$f":"COUNTIF(L91:L111,AN14)","v":8},{"$f":"AO14/(AQ4-AO11)","v":0.38095238095238093},{"$f":"IF(AP14=0,0,(AP14*((LOG(AP14))/LOG(2))))","v":-0.53040663724905157},null,{"$f":"N14","v":222},{"$f":"COUNTIF(L112:L132,AS14)","v":5},{"$f":"AT14/(AV4-AT11)","v":0.23809523809523808},{"$f":"IF(AU14=0,0,(AU14*((LOG(AU14))/LOG(2))))","v":-0.49294983997414238}]
[12,1022,24,1036,24,1049,null,null,null,null,0,122,null,null,null,{"$f":"SUM(P7:P14)","v":1},{"$f":"-SUM(Q7:Q14)","v":1.204618157900776},null,null,null,null,{"$f":"SUM(V7:V14)","v":1},{"$f":"-SUM(W7:W14)","v":1.2216949076363279},null,null,null,{"$f":"SUM(AA7:AA14)","v":1},{"$f":"-SUM(AB7:AB14)","v":1.2216949076363279},null,null,null,{"$f":"SUM(AF7:AF14)","v":1},{"$f":"-SUM(AG7:AG14)","v":1.2009102795095283},null,null,null,{"$f":"SUM(AK7:AK14)","v":1},{"$f":"-SUM(AL7:AL14)","v":0.95871188297713184},null,null,null,{"$f":"SUM(AP7:AP14)","v":1},{"$f":"-SUM(AQ7:AQ14)","v":1.2009102795095283},null,null,null,{"$f":"SUM(AU7:AU14)","v":1},{"$f":"-SUM(AV7:AV14)","v":1.0488412604661608}]
[12,1141,13,1145,24,1153,null,null,null,null,0,112,null,null,null,"U=",{"$f":"Q15/(LOG(Q4)/LOG(2))","v":0.17264867844036849},null,null,null,null,"U1=",{"$f":"W15/(LOG(W4)/LOG(2))","v":0.27814358345336376},null,null,null,"U2=",{"$f":"AB15/(LOG(AB4)/LOG(2))","v":0.27814358345336376},null,null,null,"U3=",{"$f":"AG15/(LOG(AG4)/LOG(2))","v":0.27341154199866163},null,null,null,"U4=",{"$f":"AL15/(LOG(AL4)/LOG(2))","v":0.21827017282612768},null,null,null,"U5=",{"$f":"AQ15/(LOG(AQ4)/LOG(2))","v":0.27341154199866163},null,null,null,"U6=",{"$f":"AV15/(LOG(AV4)/LOG(2))","v":0.23878995061395647}]
[21,1340,22,1347,24,1354,null,null,null,null,0,222]
[21,1462,22,1471,24,1480,null,null,null,null,0,222]
[21,1587,22,1592,24,1600,null,null,null,null,0,222,null,"Total Target Seq"]
[12,1693,24,1711,24,1715,null,null,null,null,0,122,null,{"$f":"COUNTIF(L7:L132,G3)","v":0},null,21,21,21,21,21,21]
[12,1806,24,1823,24,1836,null,null,null,null,0,122,null,null,null,"% of reinforcement given in 6 equal intervals based on number of trials "]
[21,1942,22,1949,24,1956,null,null,null,null,0,222,null,null,null,"%_1","%_2","%_3","%_4","%_5","%_6"]
[21,2064,22,2071,24,2079,null,null,null,null,0,222,null,null,"target sequence",{"$f":"$G$3","v":211},{"$f":"$G$3","v":211},{"$f":"$G$3","v":211},{"$f":"$G$3","v":211},{"$f":"$G$3","v":211},{"$f":"$G$3","v":211}]
[12,2216,24,2230,24,2239,null,null,null,null,0,122,null,null,"total reinforcement",{"$f":"U11","v":0},{"$f":"Z11","v":0},{"$f":"AE11","v":0},{"$f":"AJ11","v":0},{"$f":"AO11","v":0},{"$f":"AT11","v":0}]
[21,2339,22,2345,24,2349,null,null,null,null,0,222,null,null,"% target"]
[12,2440,24,2457,24,2464,null,null,null,null,0,122,null,null,"CCRF"]
[12,2556,24,2570,24,2574,null,null,null,null,0,122,null,null,"% CCRf"]
[12,2693,24,2722,24,2729,null,null,null,null,0,122,null,null,"average response rate",{"$f":"F27/P20","v":122.57142857142857},{"$f":"(F48-F27)/Q20","v":158.95238095238096},{"$f":"(F69-F48)/R20","v":126.85714285714286},{"$f":"(F90-F69)/S20","v":185.1904761904762},{"$f":"(F111-F90)/T20","v":134.23809523809524},{"$f":"(F132-F111)/U20","v":135.42857142857142}]
[21,2941,22,2948,24,2955,null,null,null,null,0,222]
[21,3060,22,3066,24,3076,null,null,null,null,0,222]
[21,3388,22,3402,24,3410,null,null,null,null,0,222]
[12,3505,24,3517,24,3540,null,null,null,null,0,122]
[12,3643,24,3650,24,3656,null,null,null,null,0,122]
[21,3803,22,3811,24,3820,null,null,null,null,0,222]
[12,3916,24,3930,24,3932,null,null,null,null,0,122]
[21,4036,22,4042,24,4048,null,null,null,null,0,222]
[21,4146,22,4158,24,4175,null,null,null,null,0,222]
[21,4279,22,4286,24,4294,null,null,null,null,0,222]
[21,4723,22,4731,24,4748,null,null,null,null,0,222]
[12,4841,24,4857,24,4863,null,null,null,null,0,122]
[21,4973,22,4987,24,5003,null,null,null,null,0,222]
[12,5097,24,5105,24,5110,null,null,null,null,0,122]
[21,5218,22,5222,24,5238,null,null,null,null,0,222]
[12,5336,24,5342,24,5349,null,null,null,null,0,122]
[12,5504,24,5521,24,5540,null,null,null,null,0,122]
[12,5640,24,5648,24,5653,null,null,null,null,0,122]
[21,5746,11,5749,22,5758,null,null,null,null,0,212]
[21,5891,22,5902,24,5912,null,null,null,null,0,222]
[12,6010,24,6019,24,6023,null,null,null,null,0,122]
[12,6122,24,6128,24,6132,null,null,null,null,0,122]
[12,6232,24,6239,24,6242,null,null,null,null,0,122]
[12,6337,24,6346,24,6353,null,null,null,null,0,122]
[12,6456,24,6461,24,6466,null,null,null,null,0,122]
[12,6560,24,6575,24,6605,null,null,null,null,0,122]
[12,6697,24,6707,24,6713,null,null,null,null,0,122]
[12,6847,24,6852,24,6861,null,null,null,null,0,122]
[21,7044,22,7056,24,7068,null,null,null,null,0,222]
[21,7161,22,7174,24,7181,null,null,null,null,0,222]
[21,7293,22,7309,24,7333,null,null,null,null,0,222]
[21,7439,22,7443,24,7447,null,null,null,null,0,222]
[12,7539,13,7546,24,7557,null,null,null,null,0,112]
[12,7691,24,7705,24,7712,null,null,null,null,0,122]
[12,7805,24,7814,24,7822,null,null,null,null,0,122]
[21,7943,22,7983,24,7992,null,null,null,null,0,222]
[21,8090,22,8102,24,8112,null,null,null,null,0,222]
[12,8204,24,8213,24,8218,null,null,null,null,0,122]
[12,8321,24,8328,24,8335,null,null,null,null,0,122]
[21,8442,22,8448,24,8456,null,null,null,null,0,222]
[21,8559,22,8566,24,8576,null,null,null,null,0,222]
[21,8675,22,8684,24,8689,null,null,null,null,0,222]
[12,8789,24,8795,24,8800,null,null,null,null,0,122]
[21,8904,22,8911,24,8937,null,null,null,null,0,222]
[12,9032,24,9039,24,9050,null,null,null,null,0,122]
[12,9316,24,9343,24,9356,null,null,null,null,0,122]
[21,9523,22,9525,24,9529,null,null,null,null,0,222]
[12,9622,24,9635,24,9644,null,null,null,null,0,122]
[21,9748,22,9755,24,9766,null,null,null,null,0,222]
[12,10192,24,10200,24,10210,null,null,null,null,0,122]
[12,10311,24,10318,24,10328,null,null,null,null,0,122]
[21,10435,22,10449,24,10455,null,null,null,null,0,222]
[12,10650,24,10680,24,10687,null,null,null,null,0,122]
[12,10781,24,10786,24,10792,null,null,null,null,0,122]
[12,11168,24,11186,24,11205,null,null,null,null,0,122]
[21,11589,22,11602,24,11608,null,null,null,null,0,222]
[21,11829,22,11837,24,11848,null,null,null,null,0,222]
[12,11942,24,11948,24,11957,null,null,null,null,0,122]
[12,12088,24,12113,24,12133,null,null,null,null,0,122]
[12,12228,24,12230,24,12234,null,null,null,null,0,122]
[21,12342,22,12348,24,12354,null,null,null,null,0,222]
[12,12446,24,12456,24,12465,null,null,null,null,0,122]
[12,12564,24,12569,24,12574,null,null,null,null,0,122]
[21,12675,22,12681,24,12688,null,null,null,null,0,222]
[12,12884,24,12918,24,12925,null,null,null,null,0,122]
[12,13020,24,13026,24,13029,null,null,null,null,0,122]
[21,13130,22,13142,24,13149,null,null,null,null,0,222]
[12,13241,24,13251,24,13263,null,null,null,null,0,122]
[12,13356,24,13366,24,13372,null,null,null,null,0,122]
[12,13464,24,13472,24,13475,null,null,null,null,0,122]
[21,13616,22,13628,24,13637,null,null,null,null,0,222]
[21,13738,22,13748,24,13770,null,null,null,null,0,222]
[12,13866,24,13877,24,13879,null,null,null,null,0,122]
[21,13985,22,13992,24,13999,null,null,null,null,0,222]
[12,14093,24,14106,24,14115,null,null,null,null,0,122]
[21,14220,22,14227,24,14233,null,null,null,null,0,222]
[21,14340,22,14347,24,14353,null,null,null,null,0,222]
[12,14446,24,14451,24,14457,null,null,null,null,0,122]
[12,14697,24,14718,24,14732,null,null,null,null,0,122]
[21,14841,22,14853,24,14869,null,null,null,null,0,222]
[12,15031,13,15043,24,15057,null,null,null,null,0,112]
[12,15154,24,15160,24,15173,null,null,null,null,0,122]
[12,15266,24,15275,24,15284,null,null,null,null,0,122]
[21,15393,22,15399,24,15406,null,null,null,null,0,222]
[21,15593,22,15615,24,15627,null,null,null,null,0,222]
[12,15720,24,15733,24,15749,null,null,null,null,0,122]
[12,15846,24,15851,24,15861,null,null,null,null,0,122]
[12,15958,24,15965,24,15969,null,null,null,null,0,122]
[12,16063,24,16070,24,16079,null,null,null,null,0,122]
[12,16180,24,16186,24,16188,null,null,null,null,0,122]
[12,16280,24,16287,24,16291,null,null,null,null,0,122]
[12,16391,24,16397,24,16426,null,null,null,null,0,122]
[21,16623,22,16640,24,16647,null,null,null,null,0,222]
[12,16886,13,16897,24,16910,null,null,null,null,0,112]
[12,17003,24,17012,24,17020,null,null,null,null,0,122]
[12,17130,24,17161,24,17174,null,null,null,null,0,122]
[12,17273,24,17280,24,17287,null,null,null,null,0,122]
[12,17386,24,17397,24,17401,null,null,null,null,0,122]
[12,17503,24,17507,24,17513,null,null,null,null,0,122]
[12,17609,24,17625,24,17633,null,null,null,null,0,122]
[12,17747,24,17787,24,17799,null,null,null,null,0,122]
[21,17891,22,17897,24,17907,null,null,null,null,0,222]
[12,18003,24,18010,24,18014,null,null,null,null,0,122]
[21,18112,22,18120,24,18128,null,null,null,null,0,222]

{"sheet":"!M118B30.Gus","index":4,"n_rows":138,"n_cols":48,"rows_kept":138,"cut":false,"hidden":false,"merged":[[4,39,4,42],[5,39,5,40],[4,44,4,47],[5,44,5,45],[4,24,4,27],[5,24,5,25],[4,29,4,32],[5,29,5,30],[4,34,4,37],[5,34,5,35],[1,1,1,2],[5,13,5,14],[18,13,18,14],[19,13,19,14],[4,19,4,22],[5,19,5,20]]}
["Report for:!M118B30.Gus"]
["Date:","<date>"]
["Hen:","<hen>",null,null,null,"Correct Sequence",{"$f":"Start!J2","v":211},null,null,null,null,null,null,null,null,"Total Sequences in Data",{"$f":"4994-COUNTBLANK(L7:L5000)","v":132},null,null,null,null,"Total Sequences in Block Data",{"$f":"COUNTA(L7:L28)","v":22},null,null,null,"Total Sequences in Block Data",{"$f":"COUNTA(L29:L50)","v":22},null,null,null,"Total Sequences in Block Data",{"$f":"COUNTA(L51:L72)","v":22},null,null,null,"Total Sequences in Block Data",{"$f":"COUNTA(L73:L94)","v":22},null,null,null,"Total Sequences in Block Data",{"$f":"COUNTA(L95:L116)","v":22},null,null,null,"Total Sequences in Block Data",{"$f":"COUNTA(L117:L138)","v":22}]
[null,null,null,null,null,null,null,null,null,null,null,null,null,null,null,"Total Sequences in Summary",{"$f":"SUM(O7:O14)","v":132},null,null,null,null,"Total Sequences in Block Summary",{"$f":"SUM(U7:U14)","v":22},null,null,null,"Total Sequences in Block Summary",{"$f":"SUM(Z7:Z14)","v":22},null,null,null,"Total Sequences in Block Summary",{"$f":"SUM(AE7:AE14)","v":22},null,null,null,"Total Sequences in Block Summary",{"$f":"SUM(AJ7:AJ14)","v":22},null,null,null,"Total Sequences in Block Summary",{"$f":"SUM(AO7:AO14)","v":22},null,null,null,"Total Sequences in Block Summary",{"$f":"SUM(AT7:AT14)","v":22}]
[null,null,null,null,null,null,null,null,null,null,null,null,null,null,null,null,null,null,null,"Block 1",null,null,null,null,"Block 2",null,null,null,null,"Block 3",null,null,null,null,"Block 4",null,null,null,null,"Block 5",null,null,null,null,"Block 6"]
["Sequence\nComponent\n1","Time\n1","Sequence\nComponent\n2","Time\n2","Sequence\nComponent\n3","Time\n3","Sequence\nComponent\n4","Time\n4","Sequence\nComponent\n5","Time\n5","Correct?\n0=No 1=Yes","Sequence",null,"Frequency",null,"Relative Frequency","Variability",null,null,"Frequency",null,"Relative Frequency","Variability",null,"Frequency",null,"Relative Frequency","Variability",null,"Frequency",null,"Relative Frequency","Variability",null,"Frequency",null,"Relative Frequency","Variability",null,"Frequency",null,"Relative Frequency","Variability",null,"Frequency",null,"Relative Frequency","Variability"]
[21,84,22,87,24,94,null,null,null,null,0,222,null,111,{"$f":"COUNTIF($L$7:$L$500,N7)","v":0},{"$f":"O7/$Q$4","v":0},{"$f":"IF(P7=0,0,(P7*((LOG(P7))/LOG(2))))","v":0},null,null,{"$f":"N7","v":111},{"$f":"COUNTIF(L7:L28,T7)","v":0},{"$f":"U7/(W4-U11)","v":0},{"$f":"IF(V7=0,0,(V7*((LOG(V7))/LOG(2))))","v":0},null,{"$f":"N7","v":111},{"$f":"COUNTIF(L29:L50,Y7)","v":0},{"$f":"Z7/(AB4-Z11)","v":0},{"$f":"IF(AA7=0,0,(AA7*((LOG(AA7))/LOG(2))))","v":0},null,{"$f":"N7","v":111},{"$f":"COUNTIF(L51:L72,AD7)","v":0},{"$f":"AE7/(AG4-AE11)","v":0},{"$f":"IF(AF7=0,0,(AF7*((LOG(AF7))/LOG(2))))","v":0},null,{"$f":"N7","v":111},{"$f":"COUNTIF(L73:L94,AI7)","v":0},{"$f":"AJ7/(AL4-AJ11)","v":0},{"$f":"IF(AK7=0,0,(AK7*((LOG(AK7))/LOG(2))))","v":0},null,{"$f":"N7","v":111},{"$f":"COUNTIF(L95:L116,AN7)","v":0},{"$f":"AO7/(AQ4-AO11)","v":0},{"$f":"IF(AP7=0,0,(AP7*((LOG(AP7))/LOG(2))))","v":0},null,{"$f":"N7","v":111},{"$f":"COUNTIF(L117:L138,AS7)","v":0},{"$f":"AT7/(AV4-AT11)","v":0},{"$f":"IF(AU7=0,0,(AU7*((LOG(AU7))/LOG(2))))","v":0}]
[21,336,22,343,24,350,null,null,null,null,0,222,null,112,{"$f":"COUNTIF($L$7:$L$500,N8)","v":2},{"$f":"O8/$Q$4","v":1.5151515151515152E-2},{"$f":"IF(P8=0,0,(P8*((LOG(P8))/LOG(2))))","v":-9.1581729081188695E-2},null,null,{"$f":"N8","v":112},{"$f":"COUNTIF(L7:L28,T8)","v":1},{"$f":"U8/(W4-U11)","v":4.5454545454545456E-2},{"$f":"IF(V8=0,0,(V8*((LOG(V8))/LOG(2))))","v":-0.20270143721078623},null,{"$f":"N8","v":112},{"$f":"COUNTIF(L29:L50,Y8)","v":0},{"$f":"Z8/(AB4-Z11)","v":0},{"$f":"IF(AA8=0,0,(AA8*((LOG(AA8))/LOG(2))))","v":0},null,{"$f":"N8","v":112},{"$f":"COUNTIF(L51:L72,AD8)","v":0},{"$f":"AE8/(AG4-AE11)","v":0},{"$f":"IF(AF8=0,0,(AF8*((LOG(AF8))/LOG(2))))","v":0},null,{"$f":"N8","v":112},{"$f":"COUNTIF(L73:L94,AI8)","v":0},{"$f":"AJ8/(AL4-AJ11)","v":0},{"$f":"IF(AK8=0,0,(AK8*((LOG(AK8))/LOG(2))))","v":0},null,{"$f":"N8","v":112},{"$f":"COUNTIF(L95:L116,AN8)","v":0},{"$f":"AO8/(AQ4-AO11)","v":0},{"$f":"IF(AP8=0,0,(AP8*((LOG(AP8))/LOG(2))))","v":0},null,{"$f":"N8","v":112},{"$f":"COUNTIF(L117:L138,AS8)","v":1},{"$f":"AT8/(AV4-AT11)","v":4.5454545454545456E-2},{"$f":"IF(AU8=0,0,(AU8*((LOG(AU8))/LOG(2))))","v":-0.20270143721078623}]
[21,822,22,832,24,843,null,null,null,null,0,222,null,121,{"$f":"COUNTIF($L$7:$L$500,N9)","v":0},{"$f":"O9/$Q$4","v":0},{"$f":"IF(P9=0,0,(P9*((LOG(P9))/LOG(2))))","v":0},null,null,{"$f":"N9","v":121},{"$f":"COUNTIF(L7:L28,T9)","v":0},{"$f":"U9/(W4-U11)","v":0},{"$f":"IF(V9=0,0,(V9*((LOG(V9))/LOG(2))))","v":0},null,{"$f":"N9","v":121},{"$f":"COUNTIF(L29:L50,Y9)","v":0},{"$f":"Z9/(AB4-Z11)","v":0},{"$f":"IF(AA9=0,0,(AA9*((LOG(AA9))/LOG(2))))","v":0},null,{"$f":"N9","v":121},{"$f":"COUNTIF(L51:L72,AD9)","v":0},{"$f":"AE9/(AG4-AE11)","v":0},{"$f":"IF(AF9=0,0,(AF9*((LOG(AF9))/LOG(2))))","v":0},null,{"$f":"N9","v":121},{"$f":"COUNTIF(L73:L94,AI9)","v":0},{"$f":"AJ9/(AL4-AJ11)","v":0},{"$f":"IF(AK9=0,0,(AK9*((LOG(AK9))/LOG(2))))","v":0},null,{"$f":"N9","v":121},{"$f":"COUNTIF(L95:L116,AN9)","v":0},{"$f":"AO9/(AQ4-AO11)","v":0},{"$f":"IF(AP9=0,0,(AP9*((LOG(AP9))/LOG(2))))","v":0},null,{"$f":"N9","v":121},{"$f":"COUNTIF(L117:L138,AS9)","v":0},{"$f":"AT9/(AV4-AT11)","v":0},{"$f":"IF(AU9=0,0,(AU9*((LOG(AU9))/LOG(2))))","v":0}]
[21,937,22,941,24,949,null,null,null,null,0,222,null,122,{"$f":"COUNTIF($L$7:$L$500,N10)","v":77},{"$f":"O10/$Q$4","v":0.58333333333333337},{"$f":"IF(P10=0,0,(P10*((LOG(P10))/LOG(2))))","v":-0.45360442088707198},null,null,{"$f":"N10","v":122},{"$f":"COUNTIF(L7:L28,T10)","v":10},{"$f":"U10/(W4-U11)","v":0.45454545454545453},{"$f":"IF(V10=0,0,(V10*((LOG(V10))/LOG(2))))","v":-0.51704705624997038},null,{"$f":"N10","v":122},{"$f":"COUNTIF(L29:L50,Y10)","v":12},{"$f":"Z10/(AB4-Z11)","v":0.54545454545454541},{"$f":"IF(AA10=0,0,(AA10*((LOG(AA10))/LOG(2))))","v":-0.47698315522698609},null,{"$f":"N10","v":122},{"$f":"COUNTIF(L51:L72,AD10)","v":14},{"$f":"AE10/(AG4-AE11)","v":0.63636363636363635},{"$f":"IF(AF10=0,0,(AF10*((LOG(AF10))/LOG(2))))","v":-0.41495789782344106},null,{"$f":"N10","v":122},{"$f":"COUNTIF(L73:L94,AI10)","v":12},{"$f":"AJ10/(AL4-AJ11)","v":0.54545454545454541},{"$f":"IF(AK10=0,0,(AK10*((LOG(AK10))/LOG(2))))","v":-0.47698315522698609},null,{"$f":"N10","v":122},{"$f":"COUNTIF(L95:L116,AN10)","v":15},{"$f":"AO10/(AQ4-AO11)","v":0.68181818181818177},{"$f":"IF(AP10=0,0,(AP10*((LOG(AP10))/LOG(2))))","v":-0.37673251570144006},null,{"$f":"N10","v":122},{"$f":"COUNTIF(L117:L138,AS10)","v":14},{"$f":"AT10/(AV4-AT11)","v":0.63636363636363635},{"$f":"IF(AU10=0,0,(AU10*((LOG(AU10))/LOG(2))))","v":-0.41495789782344106}]
[12,1042,24,1058,24,1065,null,null,null,null,0,122,null,211,{"$f":"COUNTIF($L$7:$L$500,N11)","v":0},{"$f":"O11/$Q$4","v":0},{"$f":"IF(P11=0,0,(P11*((LOG(P11))/LOG(2))))","v":0},null,null,{"$f":"N11","v":211},{"$f":"COUNTIF(L7:L28,T11)","v":0},null,null,null,{"$f":"N11","v":211},{"$f":"COUNTIF(L29:L50,Y11)","v":0},null,null,null,{"$f":"N11","v":211},{"$f":"COUNTIF(L51:L72,AD11)","v":0},null,null,null,{"$f":"N11","v":211},{"$f":"COUNTIF(L73:L94,AI11)","v":0},null,null,null,{"$f":"N11","v":211},{"$f":"COUNTIF(L95:L116,AN11)","v":0},null,null,null,{"$f":"N11","v":211},{"$f":"COUNTIF(L117:L138,AS11)","v":0}]
[12,1158,24,1168,24,1174,null,null,null,null,0,122,null,212,{"$f":"COUNTIF($L$7:$L$500,N12)","v":1},{"$f":"O12/$Q$4","v":7.575757575757576E-3},{"$f":"IF(P12=0,0,(P12*((LOG(P12))/LOG(2))))","v":-5.3366622116351931E-2},null,null,{"$f":"N12","v":212},{"$f":"COUNTIF(L7:L28,T12)","v":0},{"$f":"U12/(W4-U11)","v":0},{"$f":"IF(V12=0,0,(V12*((LOG(V12))/LOG(2))))","v":0},null,{"$f":"N12","v":212},{"$f":"COUNTIF(L29:L50,Y12)","v":0},{"$f":"Z12/(AB4-Z11)","v":0},{"$f":"IF(AA12=0,0,(AA12*((LOG(AA12))/LOG(2))))","v":0},null,{"$f":"N12","v":212},{"$f":"COUNTIF(L51:L72,AD12)","v":0},{"$f":"AE12/(AG4-AE11)","v":0},{"$f":"IF(AF12=0,0,(AF12*((LOG(AF12))/LOG(2))))","v":0},null,{"$f":"N12","v":212},{"$f":"COUNTIF(L73:L94,AI12)","v":0},{"$f":"AJ12/(AL4-AJ11)","v":0},{"$f":"IF(AK12=0,0,(AK12*((LOG(AK12))/LOG(2))))","v":0},null,{"$f":"N12","v":212},{"$f":"COUNTIF(L95:L116,AN12)","v":1},{"$f":"AO12/(AQ4-AO11)","v":4.5454545454545456E-2},{"$f":"IF(AP12=0,0,(AP12*((LOG(AP12))/LOG(2))))","v":-0.20270143721078623},null,{"$f":"N12","v":212},{"$f":"COUNTIF(L117:L138,AS12)","v":0},{"$f":"AT12/(AV4-AT11)","v":0},{"$f":"IF(AU12=0,0,(AU12*((LOG(AU12))/LOG(2))))","v":0}]
[21,1278,22,1284,24,1292,null,null,null,null,0,222,null,221,{"$f":"COUNTIF($L$7:$L$500,N13)","v":0},{"$f":"O13/$Q$4","v":0},{"$f":"IF(P13=0,0,(P13*((LOG(P13))/LOG(2))))","v":0},null,null,{"$f":"N13","v":221},{"$f":"COUNTIF(L7:L28,T13)","v":0},{"$f":"U13/(W4-U11)","v":0},{"$f":"IF(V13=0,0,(V13*((LOG(V13))/LOG(2))))","v":0},null,{"$f":"N13","v":221},{"$f":"COUNTIF(L29:L50,Y13)","v":0},{"$f":"Z13/(AB4-Z11)","v":0},{"$f":"IF(AA13=0,0,(AA13*((LOG(AA13))/LOG(2))))","v":0},null,{"$f":"N13","v":221},{"$f":"COUNTIF(L51:L72,AD13)","v":0},{"$f":"AE13/(AG4-AE11)","v":0},{"$f":"IF(AF13=0,0,(AF13*((LOG(AF13))/LOG(2))))","v":0},null,{"$f":"N13","v":221},{"$f":"COUNTIF(L73:L94,AI13)","v":0},{"$f":"AJ13/(AL4-AJ11)","v":0},{"$f":"IF(AK13=0,0,(AK13*((LOG(AK13))/LOG(2))))","v":0},null,{"$f":"N13","v":221},{"$f":"COUNTIF(L95:L116,AN13)","v":0},{"$f":"AO13/(AQ4-AO11)","v":0},{"$f":"IF(AP13=0,0,(AP13*((LOG(AP13))/LOG(2))))","v":0},null,{"$f":"N13","v":221},{"$f":"COUNTIF(L117:L138,AS13)","v":0},{"$f":"AT13/(AV4-AT11)","v":0},{"$f":"IF(AU13=0,0,(AU13*((LOG(AU13))/LOG(2))))","v":0}]
[21,1869,22,1877,24,1885,null,null,null,null,0,222,null,222,{"$f":"COUNTIF($L$7:$L$500,N14)","v":52},{"$f":"O14/$Q$4","v":0.39393939393939392},{"$f":"IF(P14=0,0,(P14*((LOG(P14))/LOG(2))))","v":-0.52943658229774837},null,null,{"$f":"N14","v":222},{"$f":"COUNTIF(L7:L28,T14)","v":11},{"$f":"U14/(W4-U11)","v":0.5},{"$f":"IF(V14=0,0,(V14*((LOG(V14))/LOG(2))))","v":-0.5},null,{"$f":"N14","v":222},{"$f":"COUNTIF(L29:L50,Y14)","v":10},{"$f":"Z14/(AB4-Z11)","v":0.45454545454545453},{"$f":"IF(AA14=0,0,(AA14*((LOG(AA14))/LOG(2))))","v":-0.51704705624997038},null,{"$f":"N14","v":222},{"$f":"COUNTIF(L51:L72,AD14)","v":8},{"$f":"AE14/(AG4-AE11)","v":0.36363636363636365},{"$f":"IF(AF14=0,0,(AF14*((LOG(AF14))/LOG(2))))","v":-0.53070240677719893},null,{"$f":"N14","v":222},{"$f":"COUNTIF(L73:L94,AI14)","v":10},{"$f":"AJ14/(AL4-AJ11)","v":0.45454545454545453},{"$f":"IF(AK14=0,0,(AK14*((LOG(AK14))/LOG(2))))","v":-0.51704705624997038},null,{"$f":"N14","v":222},{"$f":"COUNTIF(L95:L116,AN14)","v":6},{"$f":"AO14/(AQ4-AO11)","v":0.27272727272727271},{"$f":"IF(AP14=0,0,(AP14*((LOG(AP14))/LOG(2))))","v":-0.51121885034076575},null,{"$f":"N14","v":222},{"$f":"COUNTIF(L117:L138,AS14)","v":7},{"$f":"AT14/(AV4-AT11)","v":0.31818181818181818},{"$f":"IF(AU14=0,0,(AU14*((LOG(AU14))/LOG(2))))","v":-0.52566076709353871}]
[21,1987,22,1992,24,1999,null,null,null,null,0,222,null,null,null,{"$f":"SUM(P7:P14)","v":1},{"$f":"-SUM(Q7:Q14)","v":1.1279893543823609},null,null,null,null,{"$f":"SUM(V7:V14)","v":1},{"$f":"-SUM(W7:W14)","v":1.2197484934607568},null,null,null,{"$f":"SUM(AA7:AA14)","v":1},{"$f":"-SUM(AB7:AB14)","v":0.99403021147695647},null,null,null,{"$f":"SUM(AF7:AF14)","v":1},{"$f":"-SUM(AG7:AG14)","v":0.94566030460063999},null,null,null,{"$f":"SUM(AK7:AK14)","v":1},{"$f":"-SUM(AL7:AL14)","v":0.99403021147695647},null,null,null,{"$f":"SUM(AP7:AP14)","v":0.99999999999999989},{"$f":"-SUM(AQ7:AQ14)","v":1.0906528032529921},null,null,null,{"$f":"SUM(AU7:AU14)","v":1},{"$f":"-SUM(AV7:AV14)","v":1.1433201021277659}]
[12,2094,24,2107,24,2116,null,null,null,null,0,122,null,null,null,"U=",{"$f":"Q15/(LOG(Q4)/LOG(2))","v":0.16012581568691234},null,null,null,null,"U1=",{"$f":"W15/(LOG(W4)/LOG(2))","v":0.2735210667572664},null,null,null,"U2=",{"$f":"AB15/(LOG(AB4)/LOG(2))","v":0.22290513600939796},null,null,null,"U3=",{"$f":"AG15/(LOG(AG4)/LOG(2))","v":0.21205848311440476},null,null,null,"U4=",{"$f":"AL15/(LOG(AL4)/LOG(2))","v":0.22290513600939796},null,null,null,"U5=",{"$f":"AQ15/(LOG(AQ4)/LOG(2))","v":0.24457215549506983},null,null,null,"U6=",{"$f":"AV15/(LOG(AV4)/LOG(2))","v":0.25638247200595915}]
[12,2210,24,2222,24,2230,null,null,null,null,0,122]
[12,2328,24,2334,24,2340,null,null,null,null,0,122]
[12,2438,24,2449,24,2457,null,null,null,null,0,122,null,"Total Target Seq"]
[12,2548,13,2555,24,2567,null,null,null,null,0,112,null,{"$f":"COUNTIF(L7:L138,G3)","v":0},null,22,22,22,22,22,22]
[21,2668,22,2676,24,2682,null,null,null,null,0,222,null,null,null,"% of reinforcement given in 6 equal intervals based on number of trials "]
[12,2781,24,2790,24,2798,null,null,null,null,0,122,null,null,null,"%_1","%_2","%_3","%_4","%_5","%_6"]
[21,3074,22,3088,24,3101,null,null,null,null,0,222,null,null,"target sequence",{"$f":"$G$3","v":211},{"$f":"$G$3","v":211},{"$f":"$G$3","v":211},{"$f":"$G$3","v":211},{"$f":"$G$3","v":211},{"$f":"$G$3","v":211}]
[21,3208,22,3232,24,3240,null,null,null,null,0,222,null,null,"total reinforcement",{"$f":"U11","v":0},{"$f":"Z11","v":0},{"$f":"AE11","v":0},{"$f":"AJ11","v":0},{"$f":"AO11","v":0},{"$f":"AT11","v":0}]
[12,3341,24,3349,24,3356,null,null,null,null,0,122,null,null,"% target"]
[12,3451,24,3458,24,3466,null,null,null,null,0,122,null,null,"CCRF"]
[21,4081,22,4087,24,4093,null,null,null,null,0,222,null,null,"% CCRf"]
[12,4188,24,4195,24,4206,null,null,null,null,0,122,null,null,"average response rate",{"$f":"F28/P20","v":191.18181818181819},{"$f":"(F50-F28)/Q20","v":223.18181818181819},{"$f":"(F72-F50)/R20","v":217.90909090909091},{"$f":"(F94-F72)/S20","v":177.18181818181819},{"$f":"(F116-F94)/T20","v":135.31818181818181},{"$f":"(F138-F116)/U20","v":142.81818181818181}]
[21,4774,22,4783,24,4799,null,null,null,null,0,222]
[21,5311,22,5318,24,5325,null,null,null,null,0,222]
[21,5443,22,5452,24,5459,null,null,null,null,0,222]
[12,5554,24,5561,24,5565,null,null,null,null,0,122]
[12,5665,24,5675,24,5682,null,null,null,null,0,122]
[12,5780,24,5785,24,5793,null,null,null,null,0,122]
[12,5889,24,5896,24,5902,null,null,null,null,0,122]
[12,5998,24,6004,24,6011,null,null,null,null,0,122]
[21,6493,22,6497,24,6502,null,null,null,null,0,222]
[21,6608,22,6612,24,6618,null,null,null,null,0,222]
[12,6716,24,6723,24,6730,null,null,null,null,0,122]
[12,6826,24,6830,24,6837,null,null,null,null,0,122]
[21,6938,22,6943,24,6950,null,null,null,null,0,222]
[21,7613,22,7619,24,7638,null,null,null,null,0,222]
[12,7734,24,7740,24,7748,null,null,null,null,0,122]
[12,7847,24,7853,24,7865,null,null,null,null,0,122]
[12,7965,24,7972,24,7982,null,null,null,null,0,122]
[12,8475,24,8491,24,8496,null,null,null,null,0,122]
[21,8754,22,8761,24,8779,null,null,null,null,0,222]
[12,8875,24,8884,24,8889,null,null,null,null,0,122]
[21,8994,22,8999,24,9002,null,null,null,null,0,222]
[21,9109,22,9111,24,9116,null,null,null,null,0,222]
[21,9219,22,9231,24,9237,null,null,null,null,0,222]
[21,9337,22,9344,24,9350,null,null,null,null,0,222]
[21,9455,22,9465,24,9480,null,null,null,null,0,222]
[12,9576,24,9582,24,9586,null,null,null,null,0,122]
[12,9870,24,9889,24,9898,null,null,null,null,0,122]
[21,10431,22,10440,24,10456,null,null,null,null,0,222]
[12,11014,24,11023,24,11032,null,null,null,null,0,122]
[12,11129,24,11134,24,11138,null,null,null,null,0,122]
[12,11240,24,11242,24,11248,null,null,null,null,0,122]
[12,11734,24,11756,24,11771,null,null,null,null,0,122]
[12,11863,24,11879,24,11884,null,null,null,null,0,122]
[21,11990,22,12006,24,12012,null,null,null,null,0,222]
[12,12109,24,12114,24,12131,null,null,null,null,0,122]
[12,12231,24,12242,24,12248,null,null,null,null,0,122]
[12,12343,24,12354,24,12359,null,null,null,null,0,122]
[21,12463,22,12479,24,12489,null,null,null,null,0,222]
[12,12583,24,12593,24,12602,null,null,null,null,0,122]
[12,12702,24,12709,24,12717,null,null,null,null,0,122]
[21,13353,22,13359,24,13365,null,null,null,null,0,222]
[12,13484,24,13495,24,13502,null,null,null,null,0,122]
[21,13777,22,13780,24,13794,null,null,null,null,0,222]
[12,13898,24,13905,24,13910,null,null,null,null,0,122]
[12,14009,24,14018,24,14024,null,null,null,null,0,122]
[12,14118,24,14127,24,14131,null,null,null,null,0,122]
[21,14325,22,14333,24,14339,null,null,null,null,0,222]
[21,14443,22,14449,24,14455,null,null,null,null,0,222]
[12,14554,24,14558,24,14567,null,null,null,null,0,122]
[12,14747,24,14759,24,14765,null,null,null,null,0,122]
[21,14944,22,14957,24,14968,null,null,null,null,0,222]
[21,15069,22,15084,24,15091,null,null,null,null,0,222]
[21,15227,22,15242,24,15250,null,null,null,null,0,222]
[21,15462,22,15469,24,15475,null,null,null,null,0,222]
[12,15577,24,15579,24,15588,null,null,null,null,0,122]
[12,15682,24,15692,24,15696,null,null,null,null,0,122]
[12,15788,24,15803,24,15813,null,null,null,null,0,122]
[12,15908,24,15914,24,15919,null,null,null,null,0,122]
[12,16418,24,16436,24,16443,null,null,null,null,0,122]
[12,16545,24,16552,24,16557,null,null,null,null,0,122]
[12,16649,24,16658,24,16668,null,null,null,null,0,122]
[21,17085,22,17094,24,17101,null,null,null,null,0,222]
[21,17330,22,17344,24,17351,null,null,null,null,0,222]
[12,17541,24,17566,24,17572,null,null,null,null,0,122]
[21,17675,22,17687,24,17692,null,null,null,null,0,222]
[21,17793,22,17802,24,17808,null,null,null,null,0,222]
[12,17901,24,17905,24,17911,null,null,null,null,0,122]
[12,18006,24,18016,24,18020,null,null,null,null,0,122]
[21,18119,22,18124,24,18130,null,null,null,null,0,222]
[21,18315,22,18321,24,18338,null,null,null,null,0,222]
[12,18437,24,18446,24,18454,null,null,null,null,0,122]
[12,18551,24,18556,24,18565,null,null,null,null,0,122]
[12,18656,24,18665,24,18676,null,null,null,null,0,122]
[12,18773,24,18781,24,18788,null,null,null,null,0,122]
[12,18886,24,18894,24,18898,null,null,null,null,0,122]
[12,18990,24,18994,24,18999,null,null,null,null,0,122]
[12,19090,24,19104,24,19110,null,null,null,null,0,122]
[21,19334,22,19341,24,19351,null,null,null,null,0,222]
[12,19446,24,19453,24,19460,null,null,null,null,0,122]
[12,19559,24,19567,24,19585,null,null,null,null,0,122]
[12,19678,24,19687,24,19698,null,null,null,null,0,122]
[21,19810,22,19816,24,19835,null,null,null,null,0,222]
[12,19930,24,19938,24,19944,null,null,null,null,0,122]
[12,20042,24,20044,24,20049,null,null,null,null,0,122]
[12,20311,24,20345,24,20355,null,null,null,null,0,122]
[21,20504,22,20511,24,20522,null,null,null,null,0,222]
[21,20615,11,20627,22,20635,null,null,null,null,0,212]
[21,20740,22,20779,24,20785,null,null,null,null,0,222]
[12,20940,24,20963,24,20969,null,null,null,null,0,122]
[21,21075,22,21089,24,21095,null,null,null,null,0,222]
[12,21195,24,21199,24,21208,null,null,null,null,0,122]
[21,21314,22,21320,24,21331,null,null,null,null,0,222]
[21,21436,22,21439,24,21447,null,null,null,null,0,222]
[12,21548,24,21560,24,21568,null,null,null,null,0,122]
[12,21663,24,21671,24,21674,null,null,null,null,0,122]
[12,21767,24,21772,24,21787,null,null,null,null,0,122]
[12,22044,13,22052,24,22075,null,null,null,null,0,112]
[21,22358,22,22367,24,22373,null,null,null,null,0,222]
[12,22466,24,22477,24,22483,null,null,null,null,0,122]
[12,22580,24,22585,24,22600,null,null,null,null,0,122]
[21,22699,22,22705,24,22725,null,null,null,null,0,222]
[12,22818,24,22830,24,22840,null,null,null,null,0,122]
[21,22942,22,22948,24,22955,null,null,null,null,0,222]
[12,23050,24,23059,24,23067,null,null,null,null,0,122]
[12,23163,24,23181,24,23191,null,null,null,null,0,122]
[12,23431,24,23458,24,23467,null,null,null,null,0,122]
[12,23566,24,23571,24,23577,null,null,null,null,0,122]
[21,23685,22,23690,24,23696,null,null,null,null,0,222]
[12,23792,24,23799,24,23808,null,null,null,null,0,122]
[12,23912,24,23921,24,23927,null,null,null,null,null,122]

{"sheet":"!M119B40.Gus","index":5,"n_rows":143,"n_cols":48,"rows_kept":143,"cut":false,"hidden":false,"merged":[[4,39,4,42],[5,39,5,40],[4,44,4,47],[5,44,5,45],[4,24,4,27],[5,24,5,25],[4,29,4,32],[5,29,5,30],[4,34,4,37],[5,34,5,35],[1,1,1,2],[5,13,5,14],[18,13,18,14],[19,13,19,14],[4,19,4,22],[5,19,5,20]]}
["Report for:!M119B40.Gus"]
["Date:","<date>"]
["Hen:","<hen>",null,null,null,"Correct Sequence",{"$f":"Start!J2","v":211},null,null,null,null,null,null,null,null,"Total Sequences in Data",{"$f":"4994-COUNTBLANK(L7:L5000)","v":137},null,null,null,null,"Total Sequences in Block Data",{"$f":"COUNTA(L7:L29)","v":23},null,null,null,"Total Sequences in Block Data",{"$f":"COUNTA(L30:L52)","v":23},null,null,null,"Total Sequences in Block Data",{"$f":"COUNTA(L53:L74)","v":22},null,null,null,"Total Sequences in Block Data",{"$f":"COUNTA(L75:L97)","v":23},null,null,null,"Total Sequences in Block Data",{"$f":"COUNTA(L98:L120)","v":23},null,null,null,"Total Sequences in Block Data",{"$f":"COUNTA(L121:L143)","v":23}]
[null,null,null,null,null,null,null,null,null,null,null,null,null,null,null,"Total Sequences in Summary",{"$f":"SUM(O7:O14)","v":137},null,null,null,null,"Total Sequences in Block Summary",{"$f":"SUM(U7:U14)","v":23},null,null,null,"Total Sequences in Block Summary",{"$f":"SUM(Z7:Z14)","v":23},null,null,null,"Total Sequences in Block Summary",{"$f":"SUM(AE7:AE14)","v":22},null,null,null,"Total Sequences in Block Summary",{"$f":"SUM(AJ7:AJ14)","v":23},null,null,null,"Total Sequences in Block Summary",{"$f":"SUM(AO7:AO14)","v":23},null,null,null,"Total Sequences in Block Summary",{"$f":"SUM(AT7:AT14)","v":23}]
[null,null,null,null,null,null,null,null,null,null,null,null,null,null,null,null,null,null,null,"Block 1",null,null,null,null,"Block 2",null,null,null,null,"Block 3",null,null,null,null,"Block 4",null,null,null,null,"Block 5",null,null,null,null,"Block 6"]
["Sequence\nComponent\n1","Time\n1","Sequence\nComponent\n2","Time\n2","Sequence\nComponent\n3","Time\n3","Sequence\nComponent\n4","Time\n4","Sequence\nComponent\n5","Time\n5","Correct?\n0=No 1=Yes","Sequence",null,"Frequency",null,"Relative Frequency","Variability",null,null,"Frequency",null,"Relative Frequency","Variability",null,"Frequency",null,"Relative Frequency","Variability",null,"Frequency",null,"Relative Frequency","Variability",null,"Frequency",null,"Relative Frequency","Variability",null,"Frequency",null,"Relative Frequency","Variability",null,"Frequency",null,"Relative Frequency","Variability"]
[21,15,22,21,24,28,null,null,null,null,0,222,null,111,{"$f":"COUNTIF($L$7:$L$500,N7)","v":0},{"$f":"O7/$Q$4","v":0},{"$f":"IF(P7=0,0,(P7*((LOG(P7))/LOG(2))))","v":0},null,null,{"$f":"N7","v":111},{"$f":"COUNTIF(L7:L29,T7)","v":0},{"$f":"U7/(W4-U11)","v":0},{"$f":"IF(V7=0,0,(V7*((LOG(V7))/LOG(2))))","v":0},null,{"$f":"N7","v":111},{"$f":"COUNTIF(L30:L52,Y7)","v":0},{"$f":"Z7/(AB4-Z11)","v":0},{"$f":"IF(AA7=0,0,(AA7*((LOG(AA7))/LOG(2))))","v":0},null,{"$f":"N7","v":111},{"$f":"COUNTIF(L53:L74,AD7)","v":0},{"$f":"AE7/(AG4-AE11)","v":0},{"$f":"IF(AF7=0,0,(AF7*((LOG(AF7))/LOG(2))))","v":0},null,{"$f":"N7","v":111},{"$f":"COUNTIF(L75:L97,AI7)","v":0},{"$f":"AJ7/(AL4-AJ11)","v":0},{"$f":"IF(AK7=0,0,(AK7*((LOG(AK7))/LOG(2))))","v":0},null,{"$f":"N7","v":111},{"$f":"COUNTIF(L98:L120,AN7)","v":0},{"$f":"AO7/(AQ4-AO11)","v":0},{"$f":"IF(AP7=0,0,(AP7*((LOG(AP7))/LOG(2))))","v":0},null,{"$f":"N7","v":111},{"$f":"COUNTIF(L121:L143,AS7)","v":0},{"$f":"AT7/(AV4-AT11)","v":0},{"$f":"IF(AU7=0,0,(AU7*((LOG(AU7))/LOG(2))))","v":0}]
[21,133,22,141,24,149,null,null,null,null,0,222,null,112,{"$f":"COUNTIF($L$7:$L$500,N8)","v":6},{"$f":"O8/$Q$4","v":4.3795620437956206E-2},{"$f":"IF(P8=0,0,(P8*((LOG(P8))/LOG(2))))","v":-0.19765268243384104},null,null,{"$f":"N8","v":112},{"$f":"COUNTIF(L7:L29,T8)","v":1},{"$f":"U8/(W4-U11)","v":4.3478260869565216E-2},{"$f":"IF(V8=0,0,(V8*((LOG(V8))/LOG(2))))","v":-0.19667660678508753},null,{"$f":"N8","v":112},{"$f":"COUNTIF(L30:L52,Y8)","v":2},{"$f":"Z8/(AB4-Z11)","v":8.6956521739130432E-2},{"$f":"IF(AA8=0,0,(AA8*((LOG(AA8))/LOG(2))))","v":-0.30639669183104457},null,{"$f":"N8","v":112},{"$f":"COUNTIF(L53:L74,AD8)","v":2},{"$f":"AE8/(AG4-AE11)","v":9.0909090909090912E-2},{"$f":"IF(AF8=0,0,(AF8*((LOG(AF8))/LOG(2))))","v":-0.31449378351248153},null,{"$f":"N8","v":112},{"$f":"COUNTIF(L75:L97,AI8)","v":0},{"$f":"AJ8/(AL4-AJ11)","v":0},{"$f":"IF(AK8=0,0,(AK8*((LOG(AK8))/LOG(2))))","v":0},null,{"$f":"N8","v":112},{"$f":"COUNTIF(L98:L120,AN8)","v":1},{"$f":"AO8/(AQ4-AO11)","v":4.3478260869565216E-2},{"$f":"IF(AP8=0,0,(AP8*((LOG(AP8))/LOG(2))))","v":-0.19667660678508753},null,{"$f":"N8","v":112},{"$f":"COUNTIF(L121:L143,AS8)","v":0},{"$f":"AT8/(AV4-AT11)","v":0},{"$f":"IF(AU8=0,0,(AU8*((LOG(AU8))/LOG(2))))","v":0}]
[21,523,22,528,24,534,null,null,null,null,0,222,null,121,{"$f":"COUNTIF($L$7:$L$500,N9)","v":1},{"$f":"O9/$Q$4","v":7.2992700729927005E-3},{"$f":"IF(P9=0,0,(P9*((LOG(P9))/LOG(2))))","v":-5.1810453160295811E-2},null,null,{"$f":"N9","v":121},{"$f":"COUNTIF(L7:L29,T9)","v":1},{"$f":"U9/(W4-U11)","v":4.3478260869565216E-2},{"$f":"IF(V9=0,0,(V9*((LOG(V9))/LOG(2))))","v":-0.19667660678508753},null,{"$f":"N9","v":121},{"$f":"COUNTIF(L30:L52,Y9)","v":0},{"$f":"Z9/(AB4-Z11)","v":0},{"$f":"IF(AA9=0,0,(AA9*((LOG(AA9))/LOG(2))))","v":0},null,{"$f":"N9","v":121},{"$f":"COUNTIF(L53:L74,AD9)","v":0},{"$f":"AE9/(AG4-AE11)","v":0},{"$f":"IF(AF9=0,0,(AF9*((LOG(AF9))/LOG(2))))","v":0},null,{"$f":"N9","v":121},{"$f":"COUNTIF(L75:L97,AI9)","v":0},{"$f":"AJ9/(AL4-AJ11)","v":0},{"$f":"IF(AK9=0,0,(AK9*((LOG(AK9))/LOG(2))))","v":0},null,{"$f":"N9","v":121},{"$f":"COUNTIF(L98:L120,AN9)","v":0},{"$f":"AO9/(AQ4-AO11)","v":0},{"$f":"IF(AP9=0,0,(AP9*((LOG(AP9))/LOG(2))))","v":0},null,{"$f":"N9","v":121},{"$f":"COUNTIF(L121:L143,AS9)","v":0},{"$f":"AT9/(AV4-AT11)","v":0},{"$f":"IF(AU9=0,0,(AU9*((LOG(AU9))/LOG(2))))","v":0}]
[21,638,22,642,24,648,null,null,null,null,0,222,null,122,{"$f":"COUNTIF($L$7:$L$500,N10)","v":69},{"$f":"O10/$Q$4","v":0.5036496350364964},{"$f":"IF(P10=0,0,(P10*((LOG(P10))/LOG(2))))","v":-0.49836515479257432},null,null,{"$f":"N10","v":122},{"$f":"COUNTIF(L7:L29,T10)","v":10},{"$f":"U10/(W4-U11)","v":0.43478260869565216},{"$f":"IF(V10=0,0,(V10*((LOG(V10))/LOG(2))))","v":-0.52244950485636987},null,{"$f":"N10","v":122},{"$f":"COUNTIF(L30:L52,Y10)","v":10},{"$f":"Z10/(AB4-Z11)","v":0.43478260869565216},{"$f":"IF(AA10=0,0,(AA10*((LOG(AA10))/LOG(2))))","v":-0.52244950485636987},null,{"$f":"N10","v":122},{"$f":"COUNTIF(L53:L74,AD10)","v":14},{"$f":"AE10/(AG4-AE11)","v":0.63636363636363635},{"$f":"IF(AF10=0,0,(AF10*((LOG(AF10))/LOG(2))))","v":-0.41495789782344106},null,{"$f":"N10","v":122},{"$f":"COUNTIF(L75:L97,AI10)","v":15},{"$f":"AJ10/(AL4-AJ11)","v":0.65217391304347827},{"$f":"IF(AK10=0,0,(AK10*((LOG(AK10))/LOG(2))))","v":-0.40217697420553983},null,{"$f":"N10","v":122},{"$f":"COUNTIF(L98:L120,AN10)","v":10},{"$f":"AO10/(AQ4-AO11)","v":0.43478260869565216},{"$f":"IF(AP10=0,0,(AP10*((LOG(AP10))/LOG(2))))","v":-0.52244950485636987},null,{"$f":"N10","v":122},{"$f":"COUNTIF(L121:L143,AS10)","v":10},{"$f":"AT10/(AV4-AT11)","v":0.43478260869565216},{"$f":"IF(AU10=0,0,(AU10*((LOG(AU10))/LOG(2))))","v":-0.52244950485636987}]
[21,748,22,754,24,758,null,null,null,null,0,222,null,211,{"$f":"COUNTIF($L$7:$L$500,N11)","v":0},{"$f":"O11/$Q$4","v":0},{"$f":"IF(P11=0,0,(P11*((LOG(P11))/LOG(2))))","v":0},null,null,{"$f":"N11","v":211},{"$f":"COUNTIF(L7:L29,T11)","v":0},null,null,null,{"$f":"N11","v":211},{"$f":"COUNTIF(L30:L52,Y11)","v":0},null,null,null,{"$f":"N11","v":211},{"$f":"COUNTIF(L53:L74,AD11)","v":0},null,null,null,{"$f":"N11","v":211},{"$f":"COUNTIF(L75:L97,AI11)","v":0},null,null,null,{"$f":"N11","v":211},{"$f":"COUNTIF(L98:L120,AN11)","v":0},null,null,null,{"$f":"N11","v":211},{"$f":"COUNTIF(L121:L143,AS11)","v":0}]
[12,857,24,865,24,872,null,null,null,null,0,122,null,212,{"$f":"COUNTIF($L$7:$L$500,N12)","v":1},{"$f":"O12/$Q$4","v":7.2992700729927005E-3},{"$f":"IF(P12=0,0,(P12*((LOG(P12))/LOG(2))))","v":-5.1810453160295811E-2},null,null,{"$f":"N12","v":212},{"$f":"COUNTIF(L7:L29,T12)","v":0},{"$f":"U12/(W4-U11)","v":0},{"$f":"IF(V12=0,0,(V12*((LOG(V12))/LOG(2))))","v":0},null,{"$f":"N12","v":212},{"$f":"COUNTIF(L30:L52,Y12)","v":0},{"$f":"Z12/(AB4-Z11)","v":0},{"$f":"IF(AA12=0,0,(AA12*((LOG(AA12))/LOG(2))))","v":0},null,{"$f":"N12","v":212},{"$f":"COUNTIF(L53:L74,AD12)","v":0},{"$f":"AE12/(AG4-AE11)","v":0},{"$f":"IF(AF12=0,0,(AF12*((LOG(AF12))/LOG(2))))","v":0},null,{"$f":"N12","v":212},{"$f":"COUNTIF(L75:L97,AI12)","v":0},{"$f":"AJ12/(AL4-AJ11)","v":0},{"$f":"IF(AK12=0,0,(AK12*((LOG(AK12))/LOG(2))))","v":0},null,{"$f":"N12","v":212},{"$f":"COUNTIF(L98:L120,AN12)","v":0},{"$f":"AO12/(AQ4-AO11)","v":0},{"$f":"IF(AP12=0,0,(AP12*((LOG(AP12))/LOG(2))))","v":0},null,{"$f":"N12","v":212},{"$f":"COUNTIF(L121:L143,AS12)","v":1},{"$f":"AT12/(AV4-AT11)","v":4.3478260869565216E-2},{"$f":"IF(AU12=0,0,(AU12*((LOG(AU12))/LOG(2))))","v":-0.19667660678508753}]
[21,1381,22,1389,24,1399,null,null,null,null,0,222,null,221,{"$f":"COUNTIF($L$7:$L$500,N13)","v":0},{"$f":"O13/$Q$4","v":0},{"$f":"IF(P13=0,0,(P13*((LOG(P13))/LOG(2))))","v":0},null,null,{"$f":"N13","v":221},{"$f":"COUNTIF(L7:L29,T13)","v":0},{"$f":"U13/(W4-U11)","v":0},{"$f":"IF(V13=0,0,(V13*((LOG(V13))/LOG(2))))","v":0},null,{"$f":"N13","v":221},{"$f":"COUNTIF(L30:L52,Y13)","v":0},{"$f":"Z13/(AB4-Z11)","v":0},{"$f":"IF(AA13=0,0,(AA13*((LOG(AA13))/LOG(2))))","v":0},null,{"$f":"N13","v":221},{"$f":"COUNTIF(L53:L74,AD13)","v":0},{"$f":"AE13/(AG4-AE11)","v":0},{"$f":"IF(AF13=0,0,(AF13*((LOG(AF13))/LOG(2))))","v":0},null,{"$f":"N13","v":221},{"$f":"COUNTIF(L75:L97,AI13)","v":0},{"$f":"AJ13/(AL4-AJ11)","v":0},{"$f":"IF(AK13=0,0,(AK13*((LOG(AK13))/LOG(2))))","v":0},null,{"$f":"N13","v":221},{"$f":"COUNTIF(L98:L120,AN13)","v":0},{"$f":"AO13/(AQ4-AO11)","v":0},{"$f":"IF(AP13=0,0,(AP13*((LOG(AP13))/LOG(2))))","v":0},null,{"$f":"N13","v":221},{"$f":"COUNTIF(L121:L143,AS13)","v":0},{"$f":"AT13/(AV4-AT11)","v":0},{"$f":"IF(AU13=0,0,(AU13*((LOG(AU13))/LOG(2))))","v":0}]
[21,1501,22,1506,24,1511,null,null,null,null,0,222,null,222,{"$f":"COUNTIF($L$7:$L$500,N14)","v":60},{"$f":"O14/$Q$4","v":0.43795620437956206},{"$f":"IF(P14=0,0,(P14*((LOG(P14))/LOG(2))))","v":-0.52166780467971163},null,null,{"$f":"N14","v":222},{"$f":"COUNTIF(L7:L29,T14)","v":11},{"$f":"U14/(W4-U11)","v":0.47826086956521741},{"$f":"IF(V14=0,0,(V14*((LOG(V14))/LOG(2))))","v":-0.5089319005050813},null,{"$f":"N14","v":222},{"$f":"COUNTIF(L30:L52,Y14)","v":11},{"$f":"Z14/(AB4-Z11)","v":0.47826086956521741},{"$f":"IF(AA14=0,0,(AA14*((LOG(AA14))/LOG(2))))","v":-0.5089319005050813},null,{"$f":"N14","v":222},{"$f":"COUNTIF(L53:L74,AD14)","v":6},{"$f":"AE14/(AG4-AE11)","v":0.27272727272727271},{"$f":"IF(AF14=0,0,(AF14*((LOG(AF14))/LOG(2))))","v":-0.51121885034076575},null,{"$f":"N14","v":222},{"$f":"COUNTIF(L75:L97,AI14)","v":8},{"$f":"AJ14/(AL4-AJ11)","v":0.34782608695652173},{"$f":"IF(AK14=0,0,(AK14*((LOG(AK14))/LOG(2))))","v":-0.52993459341113491},null,{"$f":"N14","v":222},{"$f":"COUNTIF(L98:L120,AN14)","v":12},{"$f":"AO14/(AQ4-AO11)","v":0.52173913043478259},{"$f":"IF(AP14=0,0,(AP14*((LOG(AP14))/LOG(2))))","v":-0.48970406365349045},null,{"$f":"N14","v":222},{"$f":"COUNTIF(L121:L143,AS14)","v":12},{"$f":"AT14/(AV4-AT11)","v":0.52173913043478259},{"$f":"IF(AU14=0,0,(AU14*((LOG(AU14))/LOG(2))))","v":-0.48970406365349045}]
[12,1605,24,1611,13,1617,null,null,null,null,0,121,null,null,null,{"$f":"SUM(P7:P14)","v":1},{"$f":"-SUM(Q7:Q14)","v":1.3213065482267186},null,null,null,null,{"$f":"SUM(V7:V14)","v":1},{"$f":"-SUM(W7:W14)","v":1.4247346189316263},null,null,null,{"$f":"SUM(AA7:AA14)","v":1},{"$f":"-SUM(AB7:AB14)","v":1.3377780971924957},null,null,null,{"$f":"SUM(AF7:AF14)","v":1},{"$f":"-SUM(AG7:AG14)","v":1.2406705316766884},null,null,null,{"$f":"SUM(AK7:AK14)","v":1},{"$f":"-SUM(AL7:AL14)","v":0.93211156761667469},null,null,null,{"$f":"SUM(AP7:AP14)","v":1},{"$f":"-SUM(AQ7:AQ14)","v":1.2088301752949477},null,null,null,{"$f":"SUM(AU7:AU14)","v":1},{"$f":"-SUM(AV7:AV14)","v":1.2088301752949477}]
[12,1711,13,1717,24,1722,null,null,null,null,0,112,null,null,null,"U=",{"$f":"Q15/(LOG(Q4)/LOG(2))","v":0.1861511096010168},null,null,null,null,"U1=",{"$f":"W15/(LOG(W4)/LOG(2))","v":0.31495857308285968},null,null,null,"U2=",{"$f":"AB15/(LOG(AB4)/LOG(2))","v":0.29573555313003319},null,null,null,"U3=",{"$f":"AG15/(LOG(AG4)/LOG(2))","v":0.27821270461723319},null,null,null,"U4=",{"$f":"AL15/(LOG(AL4)/LOG(2))","v":0.20605699151938989},null,null,null,"U5=",{"$f":"AQ15/(LOG(AQ4)/LOG(2))","v":0.26722971566164444},null,null,null,"U6=",{"$f":"AV15/(LOG(AV4)/LOG(2))","v":0.26722971566164444}]
[12,1816,24,1829,24,1834,null,null,null,null,0,122]
[12,2451,24,2464,24,2469,null,null,null,null,0,122]
[21,2571,22,2586,24,2592,null,null,null,null,0,222,null,"Total Target Seq"]
[21,2696,22,2710,24,2716,null,null,null,null,0,222,null,{"$f":"COUNTIF(L7:L143,G3)","v":0},null,23,23,22,23,23,23]
[12,2813,24,2821,24,2825,null,null,null,null,0,122,null,null,null,"% of reinforcement given in 6 equal intervals based on number of trials "]
[21,2924,22,2933,24,2937,null,null,null,null,0,222,null,null,null,"%_1","%_2","%_3","%_4","%_5","%_6"]
[12,3116,24,3137,24,3144,null,null,null,null,0,122,null,null,"target sequence",{"$f":"$G$3","v":211},{"$f":"$G$3","v":211},{"$f":"$G$3","v":211},{"$f":"$G$3","v":211},{"$f":"$G$3","v":211},{"$f":"$G$3","v":211}]
[21,3250,22,3256,24,3262,null,null,null,null,0,222,null,null,"total reinforcement",{"$f":"U11","v":0},{"$f":"Z11","v":0},{"$f":"AE11","v":0},{"$f":"AJ11","v":0},{"$f":"AO11","v":0},{"$f":"AT11","v":0}]
[12,3356,24,3367,24,3372,null,null,null,null,0,122,null,null,"% target"]
[12,3471,24,3476,24,3482,null,null,null,null,0,122,null,null,"CCRF"]
[12,3579,24,3584,24,3592,null,null,null,null,0,122,null,null,"% CCRf"]
[12,3691,24,3698,24,3704,null,null,null,null,0,122,null,null,"average response rate",{"$f":"F29/P20","v":165.91304347826087},{"$f":"(F52-F29)/Q20","v":204.69565217391303},{"$f":"(F74-F52)/R20","v":206.59090909090909},{"$f":"(F97-F74)/S20","v":193.04347826086956},{"$f":"(F120-F97)/T20","v":134.7391304347826},{"$f":"(F143-F120)/U20","v":144.95652173913044}]
[12,3798,24,3809,24,3816,null,null,null,null,0,122]
[12,3909,13,3914,24,3921,null,null,null,null,0,112]
[12,4014,24,4023,24,4041,null,null,null,null,0,122]
[12,4133,24,4138,24,4142,null,null,null,null,0,122]
[12,4237,24,4242,24,4252,null,null,null,null,0,122]
[21,4356,22,4360,24,4366,null,null,null,null,0,222]
[12,4820,24,4834,24,4841,null,null,null,null,0,122]
[21,4949,22,4960,24,4966,null,null,null,null,0,222]
[21,5069,22,5076,24,5083,null,null,null,null,0,222]
[12,5185,24,5193,24,5201,null,null,null,null,0,122]
[12,5295,24,5305,24,5313,null,null,null,null,0,122]
[21,5408,22,5419,24,5430,null,null,null,null,0,222]
[21,5528,22,5540,24,5547,null,null,null,null,0,222]
[21,5660,22,5667,24,5673,null,null,null,null,0,222]
[12,5765,13,5774,24,5777,null,null,null,null,0,112]
[12,5869,24,5877,24,5881,null,null,null,null,0,122]
[21,6635,22,6642,24,6647,null,null,null,null,0,222]
[12,6962,24,6990,24,6995,null,null,null,null,0,122]
[21,7098,22,7117,24,7123,null,null,null,null,0,222]
[21,7225,22,7232,24,7239,null,null,null,null,0,222]
[21,7762,22,7769,24,7775,null,null,null,null,0,222]
[21,7871,22,7877,24,7880,null,null,null,null,0,222]
[12,7975,24,7983,24,7986,null,null,null,null,0,122]
[12,8502,24,8517,24,8524,null,null,null,null,0,122]
[21,9092,22,9114,24,9122,null,null,null,null,0,222]
[12,9331,24,9350,24,9357,null,null,null,null,0,122]
[12,9613,13,9623,24,9633,null,null,null,null,0,112]
[12,9982,24,9995,24,10001,null,null,null,null,0,122]
[12,10289,24,10309,24,10316,null,null,null,null,0,122]
[21,10419,22,10437,24,10443,null,null,null,null,0,222]
[12,10535,24,10543,24,10559,null,null,null,null,0,122]
[12,10658,24,10665,24,10683,null,null,null,null,0,122]
[12,10779,24,10787,24,10795,null,null,null,null,0,122]
[12,11156,24,11242,24,11250,null,null,null,null,0,122]
[21,11351,22,11367,24,11373,null,null,null,null,0,222]
[12,11467,13,11473,24,11477,null,null,null,null,0,112]
[12,11576,24,11582,24,11591,null,null,null,null,0,122]
[21,11689,22,11701,24,11708,null,null,null,null,0,222]
[12,11810,24,11819,24,11831,null,null,null,null,0,122]
[12,12015,24,12043,24,12056,null,null,null,null,0,122]
[12,12152,24,12159,24,12162,null,null,null,null,0,122]
[21,12266,22,12278,24,12285,null,null,null,null,0,222]
[12,12384,24,12391,24,12396,null,null,null,null,0,122]
[21,12822,22,12834,24,12851,null,null,null,null,0,222]
[12,12943,24,12953,24,12957,null,null,null,null,0,122]
[12,13048,24,13055,24,13069,null,null,null,null,0,122]
[12,13169,24,13176,24,13181,null,null,null,null,0,122]
[12,13278,24,13284,24,13290,null,null,null,null,0,122]
[12,13657,24,13671,24,13678,null,null,null,null,0,122]
[12,13906,24,13924,24,13931,null,null,null,null,0,122]
[12,14026,24,14036,24,14042,null,null,null,null,0,122]
[12,14143,24,14159,24,14165,null,null,null,null,0,122]
[12,14268,24,14273,24,14279,null,null,null,null,0,122]
[12,14583,24,14594,24,14613,null,null,null,null,0,122]
[12,14949,24,14958,24,14964,null,null,null,null,0,122]
[21,15058,22,15069,24,15073,null,null,null,null,0,222]
[21,15175,22,15181,24,15186,null,null,null,null,0,222]
[12,15281,24,15293,24,15299,null,null,null,null,0,122]
[12,15397,24,15404,24,15412,null,null,null,null,0,122]
[21,15516,22,15522,24,15527,null,null,null,null,0,222]
[12,15627,24,15635,24,15642,null,null,null,null,0,122]
[21,15748,22,15758,24,15764,null,null,null,null,0,222]
[12,15862,24,15867,24,15872,null,null,null,null,0,122]
[21,15974,22,15984,24,16000,null,null,null,null,0,222]
[21,16095,22,16101,24,16110,null,null,null,null,0,222]
[12,16334,24,16360,24,16366,null,null,null,null,0,122]
[12,16798,24,16812,24,16818,null,null,null,null,0,122]
[21,17223,22,17230,24,17237,null,null,null,null,0,222]
[21,17493,22,17499,24,17509,null,null,null,null,0,222]
[21,17794,22,17800,24,17813,null,null,null,null,0,222]
[21,17924,22,17934,24,17938,null,null,null,null,0,222]
[12,18032,24,18041,24,18047,null,null,null,null,0,122]
[12,18139,13,18148,24,18154,null,null,null,null,0,112]
[21,18259,22,18270,24,18278,null,null,null,null,0,222]
[21,18383,22,18388,24,18394,null,null,null,null,0,222]
[21,18725,22,18731,24,18752,null,null,null,null,0,222]
[21,18849,22,18854,24,18866,null,null,null,null,0,222]
[12,18961,24,18969,24,18981,null,null,null,null,0,122]
[21,19079,22,19083,24,19089,null,null,null,null,0,222]
[12,19182,24,19195,24,19197,null,null,null,null,0,122]
[12,19300,24,19321,24,19328,null,null,null,null,0,122]
[12,19424,24,19431,24,19437,null,null,null,null,0,122]
[21,19541,22,19550,24,19556,null,null,null,null,0,222]
[12,19686,24,19702,24,19721,null,null,null,null,0,122]
[21,19817,22,19822,24,19827,null,null,null,null,0,222]
[12,19924,24,19929,24,19937,null,null,null,null,0,122]
[12,20036,24,20046,24,20048,null,null,null,null,0,122]
[12,20142,24,20151,24,20155,null,null,null,null,0,122]
[21,20251,22,20258,24,20264,null,null,null,null,0,222]
[12,20358,24,20370,24,20374,null,null,null,null,0,122]
[21,20473,22,20487,24,20494,null,null,null,null,0,222]
[21,20595,22,20602,24,20608,null,null,null,null,0,222]
[21,20716,22,20723,24,20738,null,null,null,null,0,222]
[12,20838,24,20845,24,20855,null,null,null,null,0,122]
[21,20958,22,20964,24,20969,null,null,null,null,0,222]
[12,21068,24,21082,24,21087,null,null,null,null,0,122]
[21,21185,22,21190,24,21197,null,null,null,null,0,222]
[12,21293,24,21313,24,21317,null,null,null,null,0,122]
[12,21562,24,21573,24,21578,null,null,null,null,0,122]
[12,21675,24,21686,24,21697,null,null,null,null,0,122]
[21,21801,22,21809,24,21815,null,null,null,null,0,222]
[12,21915,24,21920,24,21926,null,null,null,null,0,122]
[21,22024,22,22036,24,22042,null,null,null,null,0,222]
[12,22302,24,22317,24,22336,null,null,null,null,0,122]
[12,22427,24,22436,24,22446,null,null,null,null,0,122]
[21,22551,22,22556,24,22564,null,null,null,null,0,222]
[21,22781,22,22788,24,22798,null,null,null,null,0,222]
[21,22894,22,22901,24,22905,null,null,null,null,0,222]
[21,23011,22,23016,24,23024,null,null,null,null,0,222]
[21,23157,22,23160,24,23167,null,null,null,null,0,222]
[21,23504,22,23510,24,23531,null,null,null,null,0,222]
[12,23624,24,23640,24,23642,null,null,null,null,0,122]
[21,23738,11,23742,22,23749,null,null,null,null,0,212]
[12,23756,24,23786,24,23802,null,null,null,null,0,122]
[21,23927,22,23933,24,23942,null,null,null,null,null,222]

{"sheet":"!M120A30.Gus","index":6,"n_rows":150,"n_cols":48,"rows_kept":150,"cut":false,"hidden":false,"merged":[[4,39,4,42],[5,39,5,40],[4,44,4,47],[5,44,5,45],[4,24,4,27],[5,24,5,25],[4,29,4,32],[5,29,5,30],[4,34,4,37],[5,34,5,35],[1,1,1,2],[5,13,5,14],[18,13,18,14],[19,13,19,14],[4,19,4,22],[5,19,5,20]]}
["Report for:!M120A30.Gus"]
["Date:","<date>"]
["Hen:","<hen>",null,null,null,"Correct Sequence",{"$f":"Start!J2","v":211},null,null,null,null,null,null,null,null,"Total Sequences in Data",{"$f":"4994-COUNTBLANK(L7:L5000)","v":144},null,null,null,null,"Total Sequences in Block Data",{"$f":"COUNTA(L7:L30)","v":24},null,null,null,"Total Sequences in Block Data",{"$f":"COUNTA(L31:L54)","v":24},null,null,null,"Total Sequences in Block Data",{"$f":"COUNTA(L55:L78)","v":24},null,null,null,"Total Sequences in Block Data",{"$f":"COUNTA(L79:L102)","v":24},null,null,null,"Total Sequences in Block Data",{"$f":"COUNTA(L103:L126)","v":24},null,null,null,"Total Sequences in Block Data",{"$f":"COUNTA(L127:L150)","v":24}]
[null,null,null,null,null,null,null,null,null,null,null,null,null,null,null,"Total Sequences in Summary",{"$f":"SUM(O7:O14)","v":144},null,null,null,null,"Total Sequences in Block Summary",{"$f":"SUM(U7:U14)","v":24},null,null,null,"Total Sequences in Block Summary",{"$f":"SUM(Z7:Z14)","v":24},null,null,null,"Total Sequences in Block Summary",{"$f":"SUM(AE7:AE14)","v":24},null,null,null,"Total Sequences in Block Summary",{"$f":"SUM(AJ7:AJ14)","v":24},null,null,null,"Total Sequences in Block Summary",{"$f":"SUM(AO7:AO14)","v":24},null,null,null,"Total Sequences in Block Summary",{"$f":"SUM(AT7:AT14)","v":24}]
[null,null,null,null,null,null,null,null,null,null,null,null,null,null,null,null,null,null,null,"Block 1",null,null,null,null,"Block 2",null,null,null,null,"Block 3",null,null,null,null,"Block 4",null,null,null,null,"Block 5",null,null,null,null,"Block 6"]
["Sequence\nComponent\n1","Time\n1","Sequence\nComponent\n2","Time\n2","Sequence\nComponent\n3","Time\n3","Sequence\nComponent\n4","Time\n4","Sequence\nComponent\n5","Time\n5","Correct?\n0=No 1=Yes","Sequence",null,"Frequency",null,"Relative Frequency","Variability",null,null,"Frequency",null,"Relative Frequency","Variability",null,"Frequency",null,"Relative Frequency","Variability",null,"Frequency",null,"Relative Frequency","Variability",null,"Frequency",null,"Relative Frequency","Variability",null,"Frequency",null,"Relative Frequency","Variability",null,"Frequency",null,"Relative Frequency","Variability"]
[21,0,22,0,24,0,null,null,null,null,0,222,null,111,{"$f":"COUNTIF($L$7:$L$500,N7)","v":3},{"$f":"O7/$Q$4","v":2.0833333333333332E-2},{"$f":"IF(P7=0,0,(P7*((LOG(P7))/LOG(2))))","v":-0.11635338543169074},null,null,{"$f":"N7","v":111},{"$f":"COUNTIF(L7:L30,T7)","v":0},{"$f":"U7/(W4-U11)","v":0},{"$f":"IF(V7=0,0,(V7*((LOG(V7))/LOG(2))))","v":0},null,{"$f":"N7","v":111},{"$f":"COUNTIF(L31:L54,Y7)","v":1},{"$f":"Z7/(AB4-Z11)","v":4.1666666666666664E-2},{"$f":"IF(AA7=0,0,(AA7*((LOG(AA7))/LOG(2))))","v":-0.19104010419671485},null,{"$f":"N7","v":111},{"$f":"COUNTIF(L55:L78,AD7)","v":1},{"$f":"AE7/(AG4-AE11)","v":4.1666666666666664E-2},{"$f":"IF(AF7=0,0,(AF7*((LOG(AF7))/LOG(2))))","v":-0.19104010419671485},null,{"$f":"N7","v":111},{"$f":"COUNTIF(L79:L102,AI7)","v":0},{"$f":"AJ7/(AL4-AJ11)","v":0},{"$f":"IF(AK7=0,0,(AK7*((LOG(AK7))/LOG(2))))","v":0},null,{"$f":"N7","v":111},{"$f":"COUNTIF(L103:L126,AN7)","v":0},{"$f":"AO7/(AQ4-AO11)","v":0},{"$f":"IF(AP7=0,0,(AP7*((LOG(AP7))/LOG(2))))","v":0},null,{"$f":"N7","v":111},{"$f":"COUNTIF(L127:L150,AS7)","v":1},{"$f":"AT7/(AV4-AT11)","v":4.1666666666666664E-2},{"$f":"IF(AU7=0,0,(AU7*((LOG(AU7))/LOG(2))))","v":-0.19104010419671485}]
[21,0,22,0,24,0,null,null,null,null,0,222,null,112,{"$f":"COUNTIF($L$7:$L$500,N8)","v":6},{"$f":"O8/$Q$4","v":4.1666666666666664E-2},{"$f":"IF(P8=0,0,(P8*((LOG(P8))/LOG(2))))","v":-0.19104010419671485},null,null,{"$f":"N8","v":112},{"$f":"COUNTIF(L7:L30,T8)","v":0},{"$f":"U8/(W4-U11)","v":0},{"$f":"IF(V8=0,0,(V8*((LOG(V8))/LOG(2))))","v":0},null,{"$f":"N8","v":112},{"$f":"COUNTIF(L31:L54,Y8)","v":0},{"$f":"Z8/(AB4-Z11)","v":0},{"$f":"IF(AA8=0,0,(AA8*((LOG(AA8))/LOG(2))))","v":0},null,{"$f":"N8","v":112},{"$f":"COUNTIF(L55:L78,AD8)","v":4},{"$f":"AE8/(AG4-AE11)","v":0.16666666666666666},{"$f":"IF(AF8=0,0,(AF8*((LOG(AF8))/LOG(2))))","v":-0.43082708345352599},null,{"$f":"N8","v":112},{"$f":"COUNTIF(L79:L102,AI8)","v":1},{"$f":"AJ8/(AL4-AJ11)","v":4.1666666666666664E-2},{"$f":"IF(AK8=0,0,(AK8*((LOG(AK8))/LOG(2))))","v":-0.19104010419671485},null,{"$f":"N8","v":112},{"$f":"COUNTIF(L103:L126,AN8)","v":0},{"$f":"AO8/(AQ4-AO11)","v":0},{"$f":"IF(AP8=0,0,(AP8*((LOG(AP8))/LOG(2))))","v":0},null,{"$f":"N8","v":112},{"$f":"COUNTIF(L127:L150,AS8)","v":1},{"$f":"AT8/(AV4-AT11)","v":4.1666666666666664E-2},{"$f":"IF(AU8=0,0,(AU8*((LOG(AU8))/LOG(2))))","v":-0.19104010419671485}]
[12,0,24,0,24,0,null,null,null,null,0,122,null,121,{"$f":"COUNTIF($L$7:$L$500,N9)","v":1},{"$f":"O9/$Q$4","v":6.9444444444444441E-3},{"$f":"IF(P9=0,0,(P9*((LOG(P9))/LOG(2))))","v":-4.9791145843349392E-2},null,null,{"$f":"N9","v":121},{"$f":"COUNTIF(L7:L30,T9)","v":0},{"$f":"U9/(W4-U11)","v":0},{"$f":"IF(V9=0,0,(V9*((LOG(V9))/LOG(2))))","v":0},null,{"$f":"N9","v":121},{"$f":"COUNTIF(L31:L54,Y9)","v":0},{"$f":"Z9/(AB4-Z11)","v":0},{"$f":"IF(AA9=0,0,(AA9*((LOG(AA9))/LOG(2))))","v":0},null,{"$f":"N9","v":121},{"$f":"COUNTIF(L55:L78,AD9)","v":0},{"$f":"AE9/(AG4-AE11)","v":0},{"$f":"IF(AF9=0,0,(AF9*((LOG(AF9))/LOG(2))))","v":0},null,{"$f":"N9","v":121},{"$f":"COUNTIF(L79:L102,AI9)","v":0},{"$f":"AJ9/(AL4-AJ11)","v":0},{"$f":"IF(AK9=0,0,(AK9*((LOG(AK9))/LOG(2))))","v":0},null,{"$f":"N9","v":121},{"$f":"COUNTIF(L103:L126,AN9)","v":0},{"$f":"AO9/(AQ4-AO11)","v":0},{"$f":"IF(AP9=0,0,(AP9*((LOG(AP9))/LOG(2))))","v":0},null,{"$f":"N9","v":121},{"$f":"COUNTIF(L127:L150,AS9)","v":1},{"$f":"AT9/(AV4-AT11)","v":4.1666666666666664E-2},{"$f":"IF(AU9=0,0,(AU9*((LOG(AU9))/LOG(2))))","v":-0.19104010419671485}]
[12,0,24,0,24,0,null,null,null,null,0,122,null,122,{"$f":"COUNTIF($L$7:$L$500,N10)","v":58},{"$f":"O10/$Q$4","v":0.40277777777777779},{"$f":"IF(P10=0,0,(P10*((LOG(P10))/LOG(2))))","v":-0.52842189143232599},null,null,{"$f":"N10","v":122},{"$f":"COUNTIF(L7:L30,T10)","v":17},{"$f":"U10/(W4-U11)","v":0.70833333333333337},{"$f":"IF(V10=0,0,(V10*((LOG(V10))/LOG(2))))","v":-0.35239559212516181},null,{"$f":"N10","v":122},{"$f":"COUNTIF(L31:L54,Y10)","v":11},{"$f":"Z10/(AB4-Z11)","v":0.45833333333333331},{"$f":"IF(AA10=0,0,(AA10*((LOG(AA10))/LOG(2))))","v":-0.51586832095510204},null,{"$f":"N10","v":122},{"$f":"COUNTIF(L55:L78,AD10)","v":9},{"$f":"AE10/(AG4-AE11)","v":0.375},{"$f":"IF(AF10=0,0,(AF10*((LOG(AF10))/LOG(2))))","v":-0.53063906222956647},null,{"$f":"N10","v":122},{"$f":"COUNTIF(L79:L102,AI10)","v":12},{"$f":"AJ10/(AL4-AJ11)","v":0.5},{"$f":"IF(AK10=0,0,(AK10*((LOG(AK10))/LOG(2))))","v":-0.5},null,{"$f":"N10","v":122},{"$f":"COUNTIF(L103:L126,AN10)","v":3},{"$f":"AO10/(AQ4-AO11)","v":0.125},{"$f":"IF(AP10=0,0,(AP10*((LOG(AP10))/LOG(2))))","v":-0.375},null,{"$f":"N10","v":122},{"$f":"COUNTIF(L127:L150,AS10)","v":6},{"$f":"AT10/(AV4-AT11)","v":0.25},{"$f":"IF(AU10=0,0,(AU10*((LOG(AU10))/LOG(2))))","v":-0.5}]
[12,0,24,0,24,0,null,null,null,null,0,122,null,211,{"$f":"COUNTIF($L$7:$L$500,N11)","v":0},{"$f":"O11/$Q$4","v":0},{"$f":"IF(P11=0,0,(P11*((LOG(P11))/LOG(2))))","v":0},null,null,{"$f":"N11","v":211},{"$f":"COUNTIF(L7:L30,T11)","v":0},null,null,null,{"$f":"N11","v":211},{"$f":"COUNTIF(L31:L54,Y11)","v":0},null,null,null,{"$f":"N11","v":211},{"$f":"COUNTIF(L55:L78,AD11)","v":0},null,null,null,{"$f":"N11","v":211},{"$f":"COUNTIF(L79:L102,AI11)","v":0},null,null,null,{"$f":"N11","v":211},{"$f":"COUNTIF(L103:L126,AN11)","v":0},null,null,null,{"$f":"N11","v":211},{"$f":"COUNTIF(L127:L150,AS11)","v":0}]
[12,0,24,0,24,0,null,null,null,null,0,122,null,212,{"$f":"COUNTIF($L$7:$L$500,N12)","v":0},{"$f":"O12/$Q$4","v":0},{"$f":"IF(P12=0,0,(P12*((LOG(P12))/LOG(2))))","v":0},null,null,{"$f":"N12","v":212},{"$f":"COUNTIF(L7:L30,T12)","v":0},{"$f":"U12/(W4-U11)","v":0},{"$f":"IF(V12=0,0,(V12*((LOG(V12))/LOG(2))))","v":0},null,{"$f":"N12","v":212},{"$f":"COUNTIF(L31:L54,Y12)","v":0},{"$f":"Z12/(AB4-Z11)","v":0},{"$f":"IF(AA12=0,0,(AA12*((LOG(AA12))/LOG(2))))","v":0},null,{"$f":"N12","v":212},{"$f":"COUNTIF(L55:L78,AD12)","v":0},{"$f":"AE12/(AG4-AE11)","v":0},{"$f":"IF(AF12=0,0,(AF12*((LOG(AF12))/LOG(2))))","v":0},null,{"$f":"N12","v":212},{"$f":"COUNTIF(L79:L102,AI12)","v":0},{"$f":"AJ12/(AL4-AJ11)","v":0},{"$f":"IF(AK12=0,0,(AK12*((LOG(AK12))/LOG(2))))","v":0},null,{"$f":"N12","v":212},{"$f":"COUNTIF(L103:L126,AN12)","v":0},{"$f":"AO12/(AQ4-AO11)","v":0},{"$f":"IF(AP12=0,0,(AP12*((LOG(AP12))/LOG(2))))","v":0},null,{"$f":"N12","v":212},{"$f":"COUNTIF(L127:L150,AS12)","v":0},{"$f":"AT12/(AV4-AT11)","v":0},{"$f":"IF(AU12=0,0,(AU12*((LOG(AU12))/LOG(2))))","v":0}]
[12,0,24,0,24,0,null,null,null,null,0,122,null,221,{"$f":"COUNTIF($L$7:$L$500,N13)","v":0},{"$f":"O13/$Q$4","v":0},{"$f":"IF(P13=0,0,(P13*((LOG(P13))/LOG(2))))","v":0},null,null,{"$f":"N13","v":221},{"$f":"COUNTIF(L7:L30,T13)","v":0},{"$f":"U13/(W4-U11)","v":0},{"$f":"IF(V13=0,0,(V13*((LOG(V13))/LOG(2))))","v":0},null,{"$f":"N13","v":221},{"$f":"COUNTIF(L31:L54,Y13)","v":0},{"$f":"Z13/(AB4-Z11)","v":0},{"$f":"IF(AA13=0,0,(AA13*((LOG(AA13))/LOG(2))))","v":0},null,{"$f":"N13","v":221},{"$f":"COUNTIF(L55:L78,AD13)","v":0},{"$f":"AE13/(AG4-AE11)","v":0},{"$f":"IF(AF13=0,0,(AF13*((LOG(AF13))/LOG(2))))","v":0},null,{"$f":"N13","v":221},{"$f":"COUNTIF(L79:L102,AI13)","v":0},{"$f":"AJ13/(AL4-AJ11)","v":0},{"$f":"IF(AK13=0,0,(AK13*((LOG(AK13))/LOG(2))))","v":0},null,{"$f":"N13","v":221},{"$f":"COUNTIF(L103:L126,AN13)","v":0},{"$f":"AO13/(AQ4-AO11)","v":0},{"$f":"IF(AP13=0,0,(AP13*((LOG(AP13))/LOG(2))))","v":0},null,{"$f":"N13","v":221},{"$f":"COUNTIF(L127:L150,AS13)","v":0},{"$f":"AT13/(AV4-AT11)","v":0},{"$f":"IF(AU13=0,0,(AU13*((LOG(AU13))/LOG(2))))","v":0}]
[21,0,22,0,24,0,null,null,null,null,0,222,null,222,{"$f":"COUNTIF($L$7:$L$500,N14)","v":76},{"$f":"O14/$Q$4","v":0.52777777777777779},{"$f":"IF(P14=0,0,(P14*((LOG(P14))/LOG(2))))","v":-0.48660978533266142},null,null,{"$f":"N14","v":222},{"$f":"COUNTIF(L7:L30,T14)","v":7},{"$f":"U14/(W4-U11)","v":0.29166666666666669},{"$f":"IF(V14=0,0,(V14*((LOG(V14))/LOG(2))))","v":-0.51846887711020273},null,{"$f":"N14","v":222},{"$f":"COUNTIF(L31:L54,Y14)","v":12},{"$f":"Z14/(AB4-Z11)","v":0.5},{"$f":"IF(AA14=0,0,(AA14*((LOG(AA14))/LOG(2))))","v":-0.5},null,{"$f":"N14","v":222},{"$f":"COUNTIF(L55:L78,AD14)","v":10},{"$f":"AE14/(AG4-AE11)","v":0.41666666666666669},{"$f":"IF(AF14=0,0,(AF14*((LOG(AF14))/LOG(2))))","v":-0.52626433576408083},null,{"$f":"N14","v":222},{"$f":"COUNTIF(L79:L102,AI14)","v":11},{"$f":"AJ14/(AL4-AJ11)","v":0.45833333333333331},{"$f":"IF(AK14=0,0,(AK14*((LOG(AK14))/LOG(2))))","v":-0.51586832095510204},null,{"$f":"N14","v":222},{"$f":"COUNTIF(L103:L126,AN14)","v":21},{"$f":"AO14/(AQ4-AO11)","v":0.875},{"$f":"IF(AP14=0,0,(AP14*((LOG(AP14))/LOG(2))))","v":-0.1685644431995964},null,{"$f":"N14","v":222},{"$f":"COUNTIF(L127:L150,AS14)","v":15},{"$f":"AT14/(AV4-AT11)","v":0.625},{"$f":"IF(AU14=0,0,(AU14*((LOG(AU14))/LOG(2))))","v":-0.42379494069539858}]
[12,0,24,0,24,0,null,null,null,null,0,122,null,null,null,{"$f":"SUM(P7:P14)","v":1},{"$f":"-SUM(Q7:Q14)","v":1.3722163122367423},null,null,null,null,{"$f":"SUM(V7:V14)","v":1},{"$f":"-SUM(W7:W14)","v":0.87086446923536454},null,null,null,{"$f":"SUM(AA7:AA14)","v":1},{"$f":"-SUM(AB7:AB14)","v":1.206908425151817},null,null,null,{"$f":"SUM(AF7:AF14)","v":1},{"$f":"-SUM(AG7:AG14)","v":1.6787705856438881},null,null,null,{"$f":"SUM(AK7:AK14)","v":1},{"$f":"-SUM(AL7:AL14)","v":1.206908425151817},null,null,null,{"$f":"SUM(AP7:AP14)","v":1},{"$f":"-SUM(AQ7:AQ14)","v":0.5435644431995964},null,null,null,{"$f":"SUM(AU7:AU14)","v":1},{"$f":"-SUM(AV7:AV14)","v":1.4969152532855432}]
[12,0,24,0,24,0,null,null,null,null,0,122,null,null,null,"U=",{"$f":"Q15/(LOG(Q4)/LOG(2))","v":0.19138503010292371},null,null,null,null,"U1=",{"$f":"W15/(LOG(W4)/LOG(2))","v":0.1899392784779349},null,null,null,"U2=",{"$f":"AB15/(LOG(AB4)/LOG(2))","v":0.26323190755910997},null,null,null,"U3=",{"$f":"AG15/(LOG(AG4)/LOG(2))","v":0.3661470699879964},null,null,null,"U4=",{"$f":"AL15/(LOG(AL4)/LOG(2))","v":0.26323190755910997},null,null,null,"U5=",{"$f":"AQ15/(LOG(AQ4)/LOG(2))","v":0.11855373803255766},null,null,null,"U6=",{"$f":"AV15/(LOG(AV4)/LOG(2))","v":0.32648364148018605}]
[12,0,24,0,24,0,null,null,null,null,0,122]
[12,0,24,0,24,0,null,null,null,null,0,122]
[12,0,24,0,24,0,null,null,null,null,0,122,null,"Total Target Seq"]
[21,0,22,0,24,0,null,null,null,null,0,222,null,{"$f":"COUNTIF(L7:L150,G3)","v":0},null,24,24,24,24,24,24]
[12,0,24,0,24,0,null,null,null,null,0,122,null,null,null,"% of reinforcement given in 6 equal intervals based on number of trials "]
[12,0,24,0,24,0,null,null,null,null,0,122,null,null,null,"%_1","%_2","%_3","%_4","%_5","%_6"]
[12,0,24,0,24,0,null,null,null,null,0,122,null,null,"target sequence",{"$f":"$G$3","v":211},{"$f":"$G$3","v":211},{"$f":"$G$3","v":211},{"$f":"$G$3","v":211},{"$f":"$G$3","v":211},{"$f":"$G$3","v":211}]
[21,0,22,0,24,0,null,null,null,null,0,222,null,null,"total reinforcement",{"$f":"U11","v":0},{"$f":"Z11","v":0},{"$f":"AE11","v":0},{"$f":"AJ11","v":0},{"$f":"AO11","v":0},{"$f":"AT11","v":0}]
[21,0,22,0,24,0,null,null,null,null,0,222,null,null,"% target"]
[12,0,24,0,24,0,null,null,null,null,0,122,null,null,"CCRF"]
[12,0,24,0,24,0,null,null,null,null,0,122,null,null,"% CCRf"]
[12,0,24,0,24,0,null,null,null,null,0,122,null,null,"average response rate",{"$f":"F30/P20","v":0},{"$f":"(F54-F30)/Q20","v":0},{"$f":"(F78-F54)/R20","v":0},{"$f":"(F102-F78)/S20","v":0},{"$f":"(F126-F102)/T20","v":0},{"$f":"(F150-F126)/U20","v":0}]
[12,0,24,0,24,0,null,null,null,null,0,122]
[21,0,22,0,24,0,null,null,null,null,0,222]
[12,0,24,0,24,0,null,null,null,null,0,122]
[12,0,24,0,24,0,null,null,null,null,0,122]
[21,0,22,0,24,0,null,null,null,null,0,222]
[21,0,22,0,24,0,null,null,null,null,0,222]
[21,0,22,0,24,0,null,null,null,null,0,222]
[12,0,24,0,24,0,null,null,null,null,0,122]
[12,0,24,0,24,0,null,null,null,null,0,122]
[12,0,24,0,24,0,null,null,null,null,0,122]
[12,0,24,0,24,0,null,null,null,null,0,122]
[21,0,22,0,24,0,null,null,null,null,0,222]
[21,0,22,0,24,0,null,null,null,null,0,222]
[12,0,24,0,24,0,null,null,null,null,0,122]
[21,0,22,0,24,0,null,null,null,null,0,222]
[21,0,22,0,24,0,null,null,null,null,0,222]
[12,0,24,0,24,0,null,null,null,null,0,122]
[12,0,24,0,24,0,null,null,null,null,0,122]
[21,0,22,0,24,0,null,null,null,null,0,222]
[21,0,22,0,24,0,null,null,null,null,0,222]
[12,0,24,0,24,0,null,null,null,null,0,122]
[21,0,22,0,24,0,null,null,null,null,0,222]
[12,0,24,0,24,0,null,null,null,null,0,122]
[21,0,22,0,24,0,null,null,null,null,0,222]
[21,0,22,0,24,0,null,null,null,null,0,222]
[12,0,13,0,13,0,null,null,null,null,0,111]
[21,0,22,0,24,0,null,null,null,null,0,222]
[21,0,22,0,24,0,null,null,null,null,0,222]
[12,0,24,0,24,0,null,null,null,null,0,122]
[12,0,24,0,24,0,null,null,null,null,0,122]
[12,0,13,0,24,0,null,null,null,null,0,112]
[12,0,24,0,24,0,null,null,null,null,0,122]
[12,0,13,0,24,0,null,null,null,null,0,112]
[12,0,24,0,24,0,null,null,null,null,0,122]
[21,0,22,0,24,0,null,null,null,null,0,222]
[12,0,24,0,24,0,null,null,null,null,0,122]
[12,0,24,0,24,0,null,null,null,null,0,122]
[12,0,13,0,13,0,null,null,null,null,0,111]
[12,0,13,0,24,0,null,null,null,null,0,112]
[21,0,22,0,24,0,null,null,null,null,0,222]
[21,0,22,0,24,0,null,null,null,null,0,222]
[21,0,22,0,24,0,null,null,null,null,0,222]
[12,0,24,0,24,0,null,null,null,null,0,122]
[12,0,13,0,24,0,null,null,null,null,0,112]
[21,0,22,0,24,0,null,null,null,null,0,222]
[12,0,24,0,24,0,null,null,null,null,0,122]
[21,0,22,0,24,0,null,null,null,null,0,222]
[12,0,24,0,24,0,null,null,null,null,0,122]
[21,0,22,0,24,0,null,null,null,null,0,222]
[21,0,22,0,24,0,null,null,null,null,0,222]
[21,0,22,0,24,0,null,null,null,null,0,222]
[12,0,24,0,24,0,null,null,null,null,0,122]
[21,0,22,0,24,0,null,null,null,null,0,222]
[21,0,22,0,24,0,null,null,null,null,0,222]
[21,0,22,0,24,0,null,null,null,null,0,222]
[12,0,24,0,24,0,null,null,null,null,0,122]
[21,0,22,0,24,0,null,null,null,null,0,222]
[21,0,22,0,24,0,null,null,null,null,0,222]
[12,0,24,0,24,0,null,null,null,null,0,122]
[12,0,24,0,24,0,null,null,null,null,0,122]
[12,0,24,0,24,0,null,null,null,null,0,122]
[21,0,22,0,24,0,null,null,null,null,0,222]
[12,0,24,0,24,0,null,null,null,null,0,122]
[21,0,22,0,24,0,null,null,null,null,0,222]
[12,0,24,0,24,0,null,null,null,null,0,122]
[21,0,22,0,24,0,null,null,null,null,0,222]
[12,0,24,0,24,0,null,null,null,null,0,122]
[12,0,24,0,24,0,null,null,null,null,0,122]
[12,0,24,0,24,0,null,null,null,null,0,122]
[21,0,22,0,24,0,null,null,null,null,0,222]
[12,0,24,0,24,0,null,null,null,null,0,122]
[12,0,13,0,24,0,null,null,null,null,0,112]
[21,0,22,0,24,0,null,null,null,null,0,222]
[12,0,24,0,24,0,null,null,null,null,0,122]
[21,0,22,0,24,0,null,null,null,null,0,222]
[12,0,24,0,24,0,null,null,null,null,0,122]
[21,0,22,0,24,0,null,null,null,null,0,222]
[21,0,22,0,24,0,null,null,null,null,0,222]
[21,0,22,0,24,0,null,null,null,null,0,222]
[21,0,22,0,24,0,null,null,null,null,0,222]
[21,0,22,0,24,0,null,null,null,null,0,222]
[21,0,22,0,24,0,null,null,null,null,0,222]
[12,0,24,0,24,0,null,null,null,null,0,122]
[21,0,22,0,24,0,null,null,null,null,0,222]
[21,0,22,0,24,0,null,null,null,null,0,222]
[21,0,22,0,24,0,null,null,null,null,0,222]
[21,0,22,0,24,0,null,null,null,null,0,222]
[21,0,22,0,24,0,null,null,null,null,0,222]
[12,0,24,0,24,0,null,null,null,null,0,122]
[21,0,22,0,24,0,null,null,null,null,0,222]
[21,0,22,0,24,0,null,null,null,null,0,222]
[21,0,22,0,24,0,null,null,null,null,0,222]
[21,0,22,0,24,0,null,null,null,null,0,222]
[21,0,22,0,24,0,null,null,null,null,0,222]
[21,0,22,0,24,0,null,null,null,null,0,222]
[21,0,22,0,24,0,null,null,null,null,0,222]
[21,0,22,0,24,0,null,null,null,null,0,222]
[21,0,22,0,24,0,null,null,null,null,0,222]
[21,0,22,0,24,0,null,null,null,null,0,222]
[21,0,22,0,24,0,null,null,null,null,0,222]
[21,0,22,0,24,0,null,null,null,null,0,222]
[21,0,22,0,24,0,null,null,null,null,0,222]
[12,0,24,0,24,0,null,null,null,null,0,122]
[21,0,22,0,24,0,null,null,null,null,0,222]
[21,0,22,0,24,0,null,null,null,null,0,222]
[21,0,22,0,24,0,null,null,null,null,0,222]
[21,0,22,0,24,0,null,null,null,null,0,222]
[12,0,24,0,24,0,null,null,null,null,0,122]
[12,0,24,0,24,0,null,null,null,null,0,122]
[21,0,22,0,24,0,null,null,null,null,0,222]
[21,0,22,0,24,0,null,null,null,null,0,222]
[21,0,22,0,24,0,null,null,null,null,0,222]
[21,0,22,0,24,0,null,null,null,null,0,222]
[21,0,22,0,24,0,null,null,null,null,0,222]
[12,0,24,0,24,0,null,null,null,null,0,122]
[21,0,22,0,24,0,null,null,null,null,0,222]
[12,0,24,0,24,0,null,null,null,null,0,122]
[21,0,22,0,24,0,null,null,null,null,0,222]
[12,0,13,0,24,0,null,null,null,null,0,112]
[12,0,24,0,13,0,null,null,null,null,0,121]
[12,0,24,0,24,0,null,null,null,null,0,122]
[12,0,13,0,13,0,null,null,null,null,0,111]

{"sheet":"!M121A00.Gus","index":7,"n_rows":133,"n_cols":48,"rows_kept":133,"cut":false,"hidden":false,"merged":[[4,39,4,42],[5,39,5,40],[4,44,4,47],[5,44,5,45],[4,24,4,27],[5,24,5,25],[4,29,4,32],[5,29,5,30],[4,34,4,37],[5,34,5,35],[1,1,1,2],[5,13,5,14],[18,13,18,14],[19,13,19,14],[4,19,4,22],[5,19,5,20]]}
["Report for:!M121A00.Gus"]
["Date:","<date>"]
["Hen:","<hen>",null,null,null,"Correct Sequence",{"$f":"Start!J2","v":211},null,null,null,null,null,null,null,null,"Total Sequences in Data",{"$f":"4994-COUNTBLANK(L7:L5000)","v":127},null,null,null,null,"Total Sequences in Block Data",{"$f":"COUNTA(L7:L27)","v":21},null,null,null,"Total Sequences in Block Data",{"$f":"COUNTA(L28:L48)","v":21},null,null,null,"Total Sequences in Block Data",{"$f":"COUNTA(L49:L70)","v":22},null,null,null,"Total Sequences in Block Data",{"$f":"COUNTA(L71:L91)","v":21},null,null,null,"Total Sequences in Block Data",{"$f":"COUNTA(L92:L112)","v":21},null,null,null,"Total Sequences in Block Data",{"$f":"COUNTA(L113:L133)","v":21}]
[null,null,null,null,null,null,null,null,null,null,null,null,null,null,null,"Total Sequences in Summary",{"$f":"SUM(O7:O14)","v":127},null,null,null,null,"Total Sequences in Block Summary",{"$f":"SUM(U7:U14)","v":21},null,null,null,"Total Sequences in Block Summary",{"$f":"SUM(Z7:Z14)","v":21},null,null,null,"Total Sequences in Block Summary",{"$f":"SUM(AE7:AE14)","v":22},null,null,null,"Total Sequences in Block Summary",{"$f":"SUM(AJ7:AJ14)","v":21},null,null,null,"Total Sequences in Block Summary",{"$f":"SUM(AO7:AO14)","v":21},null,null,null,"Total Sequences in Block Summary",{"$f":"SUM(AT7:AT14)","v":21}]
[null,null,null,null,null,null,null,null,null,null,null,null,null,null,null,null,null,null,null,"Block 1",null,null,null,null,"Block 2",null,null,null,null,"Block 3",null,null,null,null,"Block 4",null,null,null,null,"Block 5",null,null,null,null,"Block 6"]
["Sequence\nComponent\n1","Time\n1","Sequence\nComponent\n2","Time\n2","Sequence\nComponent\n3","Time\n3","Sequence\nComponent\n4","Time\n4","Sequence\nComponent\n5","Time\n5","Correct?\n0=No 1=Yes","Sequence",null,"Frequency",null,"Relative Frequency","Variability",null,null,"Frequency",null,"Relative Frequency","Variability",null,"Frequency",null,"Relative Frequency","Variability",null,"Frequency",null,"Relative Frequency","Variability",null,"Frequency",null,"Relative Frequency","Variability",null,"Frequency",null,"Relative Frequency","Variability",null,"Frequency",null,"Relative Frequency","Variability"]
[21,17,22,25,24,32,null,null,null,null,0,222,null,111,{"$f":"COUNTIF($L$7:$L$500,N7)","v":0},{"$f":"O7/$Q$4","v":0},{"$f":"IF(P7=0,0,(P7*((LOG(P7))/LOG(2))))","v":0},null,null,{"$f":"N7","v":111},{"$f":"COUNTIF(L7:L27,T7)","v":0},{"$f":"U7/(W4-U11)","v":0},{"$f":"IF(V7=0,0,(V7*((LOG(V7))/LOG(2))))","v":0},null,{"$f":"N7","v":111},{"$f":"COUNTIF(L28:L48,Y7)","v":0},{"$f":"Z7/(AB4-Z11)","v":0},{"$f":"IF(AA7=0,0,(AA7*((LOG(AA7))/LOG(2))))","v":0},null,{"$f":"N7","v":111},{"$f":"COUNTIF(L49:L70,AD7)","v":0},{"$f":"AE7/(AG4-AE11)","v":0},{"$f":"IF(AF7=0,0,(AF7*((LOG(AF7))/LOG(2))))","v":0},null,{"$f":"N7","v":111},{"$f":"COUNTIF(L71:L91,AI7)","v":0},{"$f":"AJ7/(AL4-AJ11)","v":0},{"$f":"IF(AK7=0,0,(AK7*((LOG(AK7))/LOG(2))))","v":0},null,{"$f":"N7","v":111},{"$f":"COUNTIF(L92:L112,AN7)","v":0},{"$f":"AO7/(AQ4-AO11)","v":0},{"$f":"IF(AP7=0,0,(AP7*((LOG(AP7))/LOG(2))))","v":0},null,{"$f":"N7","v":111},{"$f":"COUNTIF(L113:L133,AS7)","v":0},{"$f":"AT7/(AV4-AT11)","v":0},{"$f":"IF(AU7=0,0,(AU7*((LOG(AU7))/LOG(2))))","v":0}]
[12,132,24,140,24,145,null,null,null,null,0,122,null,112,{"$f":"COUNTIF($L$7:$L$500,N8)","v":5},{"$f":"O8/$Q$4","v":3.937007874015748E-2},{"$f":"IF(P8=0,0,(P8*((LOG(P8))/LOG(2))))","v":-0.18373057448365368},null,null,{"$f":"N8","v":112},{"$f":"COUNTIF(L7:L27,T8)","v":2},{"$f":"U8/(W4-U11)","v":9.5238095238095233E-2},{"$f":"IF(V8=0,0,(V8*((LOG(V8))/LOG(2))))","v":-0.32307784978845333},null,{"$f":"N8","v":112},{"$f":"COUNTIF(L28:L48,Y8)","v":2},{"$f":"Z8/(AB4-Z11)","v":9.5238095238095233E-2},{"$f":"IF(AA8=0,0,(AA8*((LOG(AA8))/LOG(2))))","v":-0.32307784978845333},null,{"$f":"N8","v":112},{"$f":"COUNTIF(L49:L70,AD8)","v":1},{"$f":"AE8/(AG4-AE11)","v":4.5454545454545456E-2},{"$f":"IF(AF8=0,0,(AF8*((LOG(AF8))/LOG(2))))","v":-0.20270143721078623},null,{"$f":"N8","v":112},{"$f":"COUNTIF(L71:L91,AI8)","v":0},{"$f":"AJ8/(AL4-AJ11)","v":0},{"$f":"IF(AK8=0,0,(AK8*((LOG(AK8))/LOG(2))))","v":0},null,{"$f":"N8","v":112},{"$f":"COUNTIF(L92:L112,AN8)","v":0},{"$f":"AO8/(AQ4-AO11)","v":0},{"$f":"IF(AP8=0,0,(AP8*((LOG(AP8))/LOG(2))))","v":0},null,{"$f":"N8","v":112},{"$f":"COUNTIF(L113:L133,AS8)","v":0},{"$f":"AT8/(AV4-AT11)","v":0},{"$f":"IF(AU8=0,0,(AU8*((LOG(AU8))/LOG(2))))","v":0}]
[12,244,24,258,24,263,null,null,null,null,0,122,null,121,{"$f":"COUNTIF($L$7:$L$500,N9)","v":0},{"$f":"O9/$Q$4","v":0},{"$f":"IF(P9=0,0,(P9*((LOG(P9))/LOG(2))))","v":0},null,null,{"$f":"N9","v":121},{"$f":"COUNTIF(L7:L27,T9)","v":0},{"$f":"U9/(W4-U11)","v":0},{"$f":"IF(V9=0,0,(V9*((LOG(V9))/LOG(2))))","v":0},null,{"$f":"N9","v":121},{"$f":"COUNTIF(L28:L48,Y9)","v":0},{"$f":"Z9/(AB4-Z11)","v":0},{"$f":"IF(AA9=0,0,(AA9*((LOG(AA9))/LOG(2))))","v":0},null,{"$f":"N9","v":121},{"$f":"COUNTIF(L49:L70,AD9)","v":0},{"$f":"AE9/(AG4-AE11)","v":0},{"$f":"IF(AF9=0,0,(AF9*((LOG(AF9))/LOG(2))))","v":0},null,{"$f":"N9","v":121},{"$f":"COUNTIF(L71:L91,AI9)","v":0},{"$f":"AJ9/(AL4-AJ11)","v":0},{"$f":"IF(AK9=0,0,(AK9*((LOG(AK9))/LOG(2))))","v":0},null,{"$f":"N9","v":121},{"$f":"COUNTIF(L92:L112,AN9)","v":0},{"$f":"AO9/(AQ4-AO11)","v":0},{"$f":"IF(AP9=0,0,(AP9*((LOG(AP9))/LOG(2))))","v":0},null,{"$f":"N9","v":121},{"$f":"COUNTIF(L113:L133,AS9)","v":0},{"$f":"AT9/(AV4-AT11)","v":0},{"$f":"IF(AU9=0,0,(AU9*((LOG(AU9))/LOG(2))))","v":0}]
[21,372,22,394,24,400,null,null,null,null,0,222,null,122,{"$f":"COUNTIF($L$7:$L$500,N10)","v":61},{"$f":"O10/$Q$4","v":0.48031496062992124},{"$f":"IF(P10=0,0,(P10*((LOG(P10))/LOG(2))))","v":-0.50814793938398461},null,null,{"$f":"N10","v":122},{"$f":"COUNTIF(L7:L27,T10)","v":14},{"$f":"U10/(W4-U11)","v":0.66666666666666663},{"$f":"IF(V10=0,0,(V10*((LOG(V10))/LOG(2))))","v":-0.38997500048077083},null,{"$f":"N10","v":122},{"$f":"COUNTIF(L28:L48,Y10)","v":10},{"$f":"Z10/(AB4-Z11)","v":0.47619047619047616},{"$f":"IF(AA10=0,0,(AA10*((LOG(AA10))/LOG(2))))","v":-0.50970920375780859},null,{"$f":"N10","v":122},{"$f":"COUNTIF(L49:L70,AD10)","v":12},{"$f":"AE10/(AG4-AE11)","v":0.54545454545454541},{"$f":"IF(AF10=0,0,(AF10*((LOG(AF10))/LOG(2))))","v":-0.47698315522698609},null,{"$f":"N10","v":122},{"$f":"COUNTIF(L71:L91,AI10)","v":10},{"$f":"AJ10/(AL4-AJ11)","v":0.47619047619047616},{"$f":"IF(AK10=0,0,(AK10*((LOG(AK10))/LOG(2))))","v":-0.50970920375780859},null,{"$f":"N10","v":122},{"$f":"COUNTIF(L92:L112,AN10)","v":9},{"$f":"AO10/(AQ4-AO11)","v":0.42857142857142855},{"$f":"IF(AP10=0,0,(AP10*((LOG(AP10))/LOG(2))))","v":-0.52388246628704915},null,{"$f":"N10","v":122},{"$f":"COUNTIF(L113:L133,AS10)","v":6},{"$f":"AT10/(AV4-AT11)","v":0.2857142857142857},{"$f":"IF(AU10=0,0,(AU10*((LOG(AU10))/LOG(2))))","v":-0.51638712058788683}]
[12,500,24,515,24,522,null,null,null,null,0,122,null,211,{"$f":"COUNTIF($L$7:$L$500,N11)","v":0},{"$f":"O11/$Q$4","v":0},{"$f":"IF(P11=0,0,(P11*((LOG(P11))/LOG(2))))","v":0},null,null,{"$f":"N11","v":211},{"$f":"COUNTIF(L7:L27,T11)","v":0},null,null,null,{"$f":"N11","v":211},{"$f":"COUNTIF(L28:L48,Y11)","v":0},null,null,null,{"$f":"N11","v":211},{"$f":"COUNTIF(L49:L70,AD11)","v":0},null,null,null,{"$f":"N11","v":211},{"$f":"COUNTIF(L71:L91,AI11)","v":0},null,null,null,{"$f":"N11","v":211},{"$f":"COUNTIF(L92:L112,AN11)","v":0},null,null,null,{"$f":"N11","v":211},{"$f":"COUNTIF(L113:L133,AS11)","v":0}]
[12,620,24,643,24,648,null,null,null,null,0,122,null,212,{"$f":"COUNTIF($L$7:$L$500,N12)","v":0},{"$f":"O12/$Q$4","v":0},{"$f":"IF(P12=0,0,(P12*((LOG(P12))/LOG(2))))","v":0},null,null,{"$f":"N12","v":212},{"$f":"COUNTIF(L7:L27,T12)","v":0},{"$f":"U12/(W4-U11)","v":0},{"$f":"IF(V12=0,0,(V12*((LOG(V12))/LOG(2))))","v":0},null,{"$f":"N12","v":212},{"$f":"COUNTIF(L28:L48,Y12)","v":0},{"$f":"Z12/(AB4-Z11)","v":0},{"$f":"IF(AA12=0,0,(AA12*((LOG(AA12))/LOG(2))))","v":0},null,{"$f":"N12","v":212},{"$f":"COUNTIF(L49:L70,AD12)","v":0},{"$f":"AE12/(AG4-AE11)","v":0},{"$f":"IF(AF12=0,0,(AF12*((LOG(AF12))/LOG(2))))","v":0},null,{"$f":"N12","v":212},{"$f":"COUNTIF(L71:L91,AI12)","v":0},{"$f":"AJ12/(AL4-AJ11)","v":0},{"$f":"IF(AK12=0,0,(AK12*((LOG(AK12))/LOG(2))))","v":0},null,{"$f":"N12","v":212},{"$f":"COUNTIF(L92:L112,AN12)","v":0},{"$f":"AO12/(AQ4-AO11)","v":0},{"$f":"IF(AP12=0,0,(AP12*((LOG(AP12))/LOG(2))))","v":0},null,{"$f":"N12","v":212},{"$f":"COUNTIF(L113:L133,AS12)","v":0},{"$f":"AT12/(AV4-AT11)","v":0},{"$f":"IF(AU12=0,0,(AU12*((LOG(AU12))/LOG(2))))","v":0}]
[12,766,24,775,24,782,null,null,null,null,0,122,null,221,{"$f":"COUNTIF($L$7:$L$500,N13)","v":0},{"$f":"O13/$Q$4","v":0},{"$f":"IF(P13=0,0,(P13*((LOG(P13))/LOG(2))))","v":0},null,null,{"$f":"N13","v":221},{"$f":"COUNTIF(L7:L27,T13)","v":0},{"$f":"U13/(W4-U11)","v":0},{"$f":"IF(V13=0,0,(V13*((LOG(V13))/LOG(2))))","v":0},null,{"$f":"N13","v":221},{"$f":"COUNTIF(L28:L48,Y13)","v":0},{"$f":"Z13/(AB4-Z11)","v":0},{"$f":"IF(AA13=0,0,(AA13*((LOG(AA13))/LOG(2))))","v":0},null,{"$f":"N13","v":221},{"$f":"COUNTIF(L49:L70,AD13)","v":0},{"$f":"AE13/(AG4-AE11)","v":0},{"$f":"IF(AF13=0,0,(AF13*((LOG(AF13))/LOG(2))))","v":0},null,{"$f":"N13","v":221},{"$f":"COUNTIF(L71:L91,AI13)","v":0},{"$f":"AJ13/(AL4-AJ11)","v":0},{"$f":"IF(AK13=0,0,(AK13*((LOG(AK13))/LOG(2))))","v":0},null,{"$f":"N13","v":221},{"$f":"COUNTIF(L92:L112,AN13)","v":0},{"$f":"AO13/(AQ4-AO11)","v":0},{"$f":"IF(AP13=0,0,(AP13*((LOG(AP13))/LOG(2))))","v":0},null,{"$f":"N13","v":221},{"$f":"COUNTIF(L113:L133,AS13)","v":0},{"$f":"AT13/(AV4-AT11)","v":0},{"$f":"IF(AU13=0,0,(AU13*((LOG(AU13))/LOG(2))))","v":0}]
[12,1113,24,1125,24,1131,null,null,null,null,0,122,null,222,{"$f":"COUNTIF($L$7:$L$500,N14)","v":61},{"$f":"O14/$Q$4","v":0.48031496062992124},{"$f":"IF(P14=0,0,(P14*((LOG(P14))/LOG(2))))","v":-0.50814793938398461},null,null,{"$f":"N14","v":222},{"$f":"COUNTIF(L7:L27,T14)","v":5},{"$f":"U14/(W4-U11)","v":0.23809523809523808},{"$f":"IF(V14=0,0,(V14*((LOG(V14))/LOG(2))))","v":-0.49294983997414238},null,{"$f":"N14","v":222},{"$f":"COUNTIF(L28:L48,Y14)","v":9},{"$f":"Z14/(AB4-Z11)","v":0.42857142857142855},{"$f":"IF(AA14=0,0,(AA14*((LOG(AA14))/LOG(2))))","v":-0.52388246628704915},null,{"$f":"N14","v":222},{"$f":"COUNTIF(L49:L70,AD14)","v":9},{"$f":"AE14/(AG4-AE11)","v":0.40909090909090912},{"$f":"IF(AF14=0,0,(AF14*((LOG(AF14))/LOG(2))))","v":-0.52752543430703935},null,{"$f":"N14","v":222},{"$f":"COUNTIF(L71:L91,AI14)","v":11},{"$f":"AJ14/(AL4-AJ11)","v":0.52380952380952384},{"$f":"IF(AK14=0,0,(AK14*((LOG(AK14))/LOG(2))))","v":-0.4886544688360045},null,{"$f":"N14","v":222},{"$f":"COUNTIF(L92:L112,AN14)","v":12},{"$f":"AO14/(AQ4-AO11)","v":0.5714285714285714},{"$f":"IF(AP14=0,0,(AP14*((LOG(AP14))/LOG(2))))","v":-0.46134566974720237},null,{"$f":"N14","v":222},{"$f":"COUNTIF(L113:L133,AS14)","v":15},{"$f":"AT14/(AV4-AT11)","v":0.7142857142857143},{"$f":"IF(AU14=0,0,(AU14*((LOG(AU14))/LOG(2))))","v":-0.34673344797874411}]
[21,1244,22,1251,24,1257,null,null,null,null,0,222,null,null,null,{"$f":"SUM(P7:P14)","v":1},{"$f":"-SUM(Q7:Q14)","v":1.2000264532516229},null,null,null,null,{"$f":"SUM(V7:V14)","v":1},{"$f":"-SUM(W7:W14)","v":1.2060026902433665},null,null,null,{"$f":"SUM(AA7:AA14)","v":1},{"$f":"-SUM(AB7:AB14)","v":1.3566695198333112},null,null,null,{"$f":"SUM(AF7:AF14)","v":1},{"$f":"-SUM(AG7:AG14)","v":1.2072100267448116},null,null,null,{"$f":"SUM(AK7:AK14)","v":1},{"$f":"-SUM(AL7:AL14)","v":0.99836367259381309},null,null,null,{"$f":"SUM(AP7:AP14)","v":1},{"$f":"-SUM(AQ7:AQ14)","v":0.98522813603425152},null,null,null,{"$f":"SUM(AU7:AU14)","v":1},{"$f":"-SUM(AV7:AV14)","v":0.863120568566631}]
[21,1363,22,1368,24,1373,null,null,null,null,0,222,null,null,null,"U=",{"$f":"Q15/(LOG(Q4)/LOG(2))","v":0.17170991496053231},null,null,null,null,"U1=",{"$f":"W15/(LOG(W4)/LOG(2))","v":0.27457093241690161},null,null,null,"U2=",{"$f":"AB15/(LOG(AB4)/LOG(2))","v":0.30887328698002575},null,null,null,"U3=",{"$f":"AG15/(LOG(AG4)/LOG(2))","v":0.27070939303105807},null,null,null,"U4=",{"$f":"AL15/(LOG(AL4)/LOG(2))","v":0.22729770562943677},null,null,null,"U5=",{"$f":"AQ15/(LOG(AQ4)/LOG(2))","v":0.22430713475415345},null,null,null,"U6=",{"$f":"AV15/(LOG(AV4)/LOG(2))","v":0.19650687450102033}]
[12,1474,24,1483,24,1485,null,null,null,null,0,122]
[12,1577,13,1586,24,1594,null,null,null,null,0,112]
[12,1692,24,1707,24,1710,null,null,null,null,0,122,null,"Total Target Seq"]
[12,1886,24,1919,24,1926,null,null,null,null,0,122,null,{"$f":"COUNTIF(L7:L133,G3)","v":0},null,21,21,22,21,21,21]
[12,2020,24,2027,24,2031,null,null,null,null,0,122,null,null,null,"% of reinforcement given in 6 equal intervals based on number of trials "]
[12,2125,24,2144,24,2150,null,null,null,null,0,122,null,null,null,"%_1","%_2","%_3","%_4","%_5","%_6"]
[12,2251,24,2261,24,2266,null,null,null,null,0,122,null,null,"target sequence",{"$f":"$G$3","v":211},{"$f":"$G$3","v":211},{"$f":"$G$3","v":211},{"$f":"$G$3","v":211},{"$f":"$G$3","v":211},{"$f":"$G$3","v":211}]
[12,2365,24,2375,24,2379,null,null,null,null,0,122,null,null,"total reinforcement",{"$f":"U11","v":0},{"$f":"Z11","v":0},{"$f":"AE11","v":0},{"$f":"AJ11","v":0},{"$f":"AO11","v":0},{"$f":"AT11","v":0}]
[21,2487,22,2493,24,2498,null,null,null,null,0,222,null,null,"% target"]
[12,2598,24,2609,24,2614,null,null,null,null,0,122,null,null,"CCRF"]
[12,2706,13,2712,24,2720,null,null,null,null,0,112,null,null,"% CCRf"]
[12,2813,24,2827,24,2840,null,null,null,null,0,122,null,null,"average response rate",{"$f":"F27/P20","v":129.52380952380952},{"$f":"(F48-F27)/Q20","v":164.1904761904762},{"$f":"(F70-F48)/R20","v":178.90909090909091},{"$f":"(F91-F70)/S20","v":294.33333333333331},{"$f":"(F112-F91)/T20","v":149.23809523809524},{"$f":"(F133-F112)/U20","v":218.0952380952381}]
[12,2959,24,2966,24,2972,null,null,null,null,0,122]
[21,3077,22,3079,24,3085,null,null,null,null,0,222]
[12,3192,24,3200,24,3207,null,null,null,null,0,122]
[21,3481,22,3487,24,3494,null,null,null,null,0,222]
[12,3590,24,3599,24,3602,null,null,null,null,0,122]
[12,3695,13,3710,24,3725,null,null,null,null,0,112]
[21,3830,22,3836,24,3841,null,null,null,null,0,222]
[12,4223,24,4237,24,4241,null,null,null,null,0,122]
[21,4513,22,4520,24,4528,null,null,null,null,0,222]
[12,4622,24,4635,24,4642,null,null,null,null,0,122]
[21,4745,22,4751,24,4757,null,null,null,null,0,222]
[12,4854,24,4861,24,4868,null,null,null,null,0,122]
[12,4959,13,4969,24,4980,null,null,null,null,0,112]
[21,5332,22,5366,24,5373,null,null,null,null,0,222]
[12,5468,24,5475,24,5479,null,null,null,null,0,122]
[21,5582,22,5586,24,5591,null,null,null,null,0,222]
[12,5690,24,5696,24,5704,null,null,null,null,0,122]
[21,5908,22,5914,24,5935,null,null,null,null,0,222]
[21,6038,22,6043,24,6056,null,null,null,null,0,222]
[12,6150,24,6162,24,6168,null,null,null,null,0,122]
[21,6273,22,6279,24,6286,null,null,null,null,0,222]
[21,6390,22,6396,24,6402,null,null,null,null,0,222]
[21,6645,22,6650,24,6666,null,null,null,null,0,222]
[12,6887,24,6903,24,6917,null,null,null,null,0,122]
[21,7027,22,7032,24,7041,null,null,null,null,0,222]
[12,7136,24,7144,24,7150,null,null,null,null,0,122]
[21,7256,22,7261,24,7267,null,null,null,null,0,222]
[12,7365,24,7371,24,7380,null,null,null,null,0,122]
[12,7824,24,7842,24,7848,null,null,null,null,0,122]
[21,7959,22,7977,24,7985,null,null,null,null,0,222]
[12,8113,13,8116,24,8121,null,null,null,null,0,112]
[21,8219,22,8225,24,8232,null,null,null,null,0,222]
[12,8324,24,8338,24,8344,null,null,null,null,0,122]
[12,8438,24,8449,24,8464,null,null,null,null,0,122]
[12,8837,24,8851,24,8857,null,null,null,null,0,122]
[12,9230,24,9244,24,9251,null,null,null,null,0,122]
[12,9350,24,9356,24,9364,null,null,null,null,0,122]
[12,9457,24,9475,24,9485,null,null,null,null,0,122]
[21,9595,22,9603,24,9607,null,null,null,null,0,222]
[12,9713,24,9730,24,9736,null,null,null,null,0,122]
[21,9840,22,9842,24,9851,null,null,null,null,0,222]
[12,10064,24,10098,24,10104,null,null,null,null,0,122]
[21,10209,22,10212,24,10216,null,null,null,null,0,222]
[12,10701,24,10722,24,10728,null,null,null,null,0,122]
[12,10827,24,10831,24,10840,null,null,null,null,0,122]
[12,10934,24,10949,24,10954,null,null,null,null,0,122]
[21,11057,22,11062,24,11075,null,null,null,null,0,222]
[21,11182,22,11196,24,11209,null,null,null,null,0,222]
[12,11642,24,11654,24,11661,null,null,null,null,0,122]
[12,12068,24,12083,24,12089,null,null,null,null,0,122]
[12,12587,24,12610,24,12616,null,null,null,null,0,122]
[12,12979,24,12996,24,13001,null,null,null,null,0,122]
[21,13505,22,13532,24,13539,null,null,null,null,0,222]
[21,13816,22,13822,24,13837,null,null,null,null,0,222]
[21,13939,22,13950,24,13957,null,null,null,null,0,222]
[21,14076,22,14083,24,14099,null,null,null,null,0,222]
[21,14452,22,14460,24,14485,null,null,null,null,0,222]
[12,14579,24,14585,24,14599,null,null,null,null,0,122]
[12,14702,24,14707,24,14714,null,null,null,null,0,122]
[21,15142,22,15148,24,15158,null,null,null,null,0,222]
[21,15264,22,15268,24,15274,null,null,null,null,0,222]
[12,15815,24,15826,24,15835,null,null,null,null,0,122]
[21,16273,22,16279,24,16285,null,null,null,null,0,222]
[12,16385,24,16392,24,16398,null,null,null,null,0,122]
[21,16501,22,16509,24,16515,null,null,null,null,0,222]
[21,16618,22,16630,24,16638,null,null,null,null,0,222]
[21,16741,22,16745,24,16755,null,null,null,null,0,222]
[21,17313,22,17327,24,17348,null,null,null,null,0,222]
[21,17451,22,17459,24,17463,null,null,null,null,0,222]
[12,17558,24,17565,24,17574,null,null,null,null,0,122]
[21,17675,22,17682,24,17689,null,null,null,null,0,222]
[21,17796,22,17802,24,17807,null,null,null,null,0,222]
[12,17899,24,17909,24,17947,null,null,null,null,0,122]
[12,18045,24,18053,24,18076,null,null,null,null,0,122]
[12,18170,24,18179,24,18186,null,null,null,null,0,122]
[21,18463,22,18472,24,18477,null,null,null,null,0,222]
[21,18580,22,18592,24,18598,null,null,null,null,0,222]
[12,18693,24,18715,24,18721,null,null,null,null,0,122]
[12,18813,24,18823,24,18830,null,null,null,null,0,122]
[21,18935,22,18945,24,18952,null,null,null,null,0,222]
[21,19053,22,19059,24,19072,null,null,null,null,0,222]
[21,19175,22,19192,24,19198,null,null,null,null,0,222]
[12,19292,24,19300,24,19311,null,null,null,null,0,122]
[12,19404,24,19414,24,19419,null,null,null,null,0,122]
[12,19516,24,19521,24,19527,null,null,null,null,0,122]
[21,19628,22,19639,24,19650,null,null,null,null,0,222]
[21,19972,22,19980,24,19986,null,null,null,null,0,222]
[21,20462,22,20471,24,20485,null,null,null,null,0,222]
[21,20804,22,20811,24,20817,null,null,null,null,0,222]
[21,20925,22,20935,24,20941,null,null,null,null,0,222]
[12,21033,24,21041,24,21045,null,null,null,null,0,122]
[12,21145,24,21151,24,21163,null,null,null,null,0,122]
[21,21389,22,21409,24,21426,null,null,null,null,0,222]
[21,21987,22,21993,24,21999,null,null,null,null,0,222]
[21,22610,22,22618,24,22626,null,null,null,null,0,222]
[21,22844,22,22855,24,22865,null,null,null,null,0,222]
[21,22966,22,22980,24,23003,null,null,null,null,0,222]
[21,23106,22,23122,24,23129,null,null,null,null,0,222]
[21,23232,22,23238,24,23241,null,null,null,null,0,222]
[12,23334,24,23342,24,23348,null,null,null,null,0,122]
[21,23516,22,23524,24,23531,null,null,null,null,0,222]
[12,23629,24,23634,24,23642,null,null,null,null,0,122]
[21,23745,22,23748,24,23768,null,null,null,null,0,222]
[21,23871,22,23880,24,23886,null,null,null,null,0,222]
[12,23978,24,23993,24,23999,null,null,null,null,null,122]

{"sheet":"!M122950.Gus","index":8,"n_rows":148,"n_cols":48,"rows_kept":148,"cut":false,"hidden":false,"merged":[[4,39,4,42],[5,39,5,40],[4,44,4,47],[5,44,5,45],[4,24,4,27],[5,24,5,25],[4,29,4,32],[5,29,5,30],[4,34,4,37],[5,34,5,35],[1,1,1,2],[5,13,5,14],[18,13,18,14],[19,13,19,14],[4,19,4,22],[5,19,5,20]]}
["Report for:!M122950.Gus"]
["Date:","<date>"]
["Hen:","<hen>",null,null,null,"Correct Sequence",{"$f":"Start!J2","v":211},null,null,null,null,null,null,null,null,"Total Sequences in Data",{"$f":"4994-COUNTBLANK(L7:L5000)","v":142},null,null,null,null,"Total Sequences in Block Data",{"$f":"COUNTA(L7:L30)","v":24},null,null,null,"Total Sequences in Block Data",{"$f":"COUNTA(L31:L53)","v":23},null,null,null,"Total Sequences in Block Data",{"$f":"COUNTA(L54:L77)","v":24},null,null,null,"Total Sequences in Block Data",{"$f":"COUNTA(L78:L101)","v":24},null,null,null,"Total Sequences in Block Data",{"$f":"COUNTA(L102:L124)","v":23},null,null,null,"Total Sequences in Block Data",{"$f":"COUNTA(L125:L148)","v":24}]
[null,null,null,null,null,null,null,null,null,null,null,null,null,null,null,"Total Sequences in Summary",{"$f":"SUM(O7:O14)","v":142},null,null,null,null,"Total Sequences in Block Summary",{"$f":"SUM(U7:U14)","v":24},null,null,null,"Total Sequences in Block Summary",{"$f":"SUM(Z7:Z14)","v":23},null,null,null,"Total Sequences in Block Summary",{"$f":"SUM(AE7:AE14)","v":24},null,null,null,"Total Sequences in Block Summary",{"$f":"SUM(AJ7:AJ14)","v":24},null,null,null,"Total Sequences in Block Summary",{"$f":"SUM(AO7:AO14)","v":23},null,null,null,"Total Sequences in Block Summary",{"$f":"SUM(AT7:AT14)","v":24}]
[null,null,null,null,null,null,null,null,null,null,null,null,null,null,null,null,null,null,null,"Block 1",null,null,null,null,"Block 2",null,null,null,null,"Block 3",null,null,null,null,"Block 4",null,null,null,null,"Block 5",null,null,null,null,"Block 6"]
["Sequence\nComponent\n1","Time\n1","Sequence\nComponent\n2","Time\n2","Sequence\nComponent\n3","Time\n3","Sequence\nComponent\n4","Time\n4","Sequence\nComponent\n5","Time\n5","Correct?\n0=No 1=Yes","Sequence",null,"Frequency",null,"Relative Frequency","Variability",null,null,"Frequency",null,"Relative Frequency","Variability",null,"Frequency",null,"Relative Frequency","Variability",null,"Frequency",null,"Relative Frequency","Variability",null,"Frequency",null,"Relative Frequency","Variability",null,"Frequency",null,"Relative Frequency","Variability",null,"Frequency",null,"Relative Frequency","Variability"]
[21,10,22,12,24,20,null,null,null,null,0,222,null,111,{"$f":"COUNTIF($L$7:$L$500,N7)","v":0},{"$f":"O7/$Q$4","v":0},{"$f":"IF(P7=0,0,(P7*((LOG(P7))/LOG(2))))","v":0},null,null,{"$f":"N7","v":111},{"$f":"COUNTIF(L7:L30,T7)","v":0},{"$f":"U7/(W4-U11)","v":0},{"$f":"IF(V7=0,0,(V7*((LOG(V7))/LOG(2))))","v":0},null,{"$f":"N7","v":111},{"$f":"COUNTIF(L31:L53,Y7)","v":0},{"$f":"Z7/(AB4-Z11)","v":0},{"$f":"IF(AA7=0,0,(AA7*((LOG(AA7))/LOG(2))))","v":0},null,{"$f":"N7","v":111},{"$f":"COUNTIF(L54:L77,AD7)","v":0},{"$f":"AE7/(AG4-AE11)","v":0},{"$f":"IF(AF7=0,0,(AF7*((LOG(AF7))/LOG(2))))","v":0},null,{"$f":"N7","v":111},{"$f":"COUNTIF(L78:L101,AI7)","v":0},{"$f":"AJ7/(AL4-AJ11)","v":0},{"$f":"IF(AK7=0,0,(AK7*((LOG(AK7))/LOG(2))))","v":0},null,{"$f":"N7","v":111},{"$f":"COUNTIF(L102:L124,AN7)","v":0},{"$f":"AO7/(AQ4-AO11)","v":0},{"$f":"IF(AP7=0,0,(AP7*((LOG(AP7))/LOG(2))))","v":0},null,{"$f":"N7","v":111},{"$f":"COUNTIF(L125:L148,AS7)","v":0},{"$f":"AT7/(AV4-AT11)","v":0},{"$f":"IF(AU7=0,0,(AU7*((LOG(AU7))/LOG(2))))","v":0}]
[21,119,22,122,24,128,null,null,null,null,0,222,null,112,{"$f":"COUNTIF($L$7:$L$500,N8)","v":2},{"$f":"O8/$Q$4","v":1.4084507042253521E-2},{"$f":"IF(P8=0,0,(P8*((LOG(P8))/LOG(2))))","v":-8.661615661274201E-2},null,null,{"$f":"N8","v":112},{"$f":"COUNTIF(L7:L30,T8)","v":0},{"$f":"U8/(W4-U11)","v":0},{"$f":"IF(V8=0,0,(V8*((LOG(V8))/LOG(2))))","v":0},null,{"$f":"N8","v":112},{"$f":"COUNTIF(L31:L53,Y8)","v":0},{"$f":"Z8/(AB4-Z11)","v":0},{"$f":"IF(AA8=0,0,(AA8*((LOG(AA8))/LOG(2))))","v":0},null,{"$f":"N8","v":112},{"$f":"COUNTIF(L54:L77,AD8)","v":2},{"$f":"AE8/(AG4-AE11)","v":8.3333333333333329E-2},{"$f":"IF(AF8=0,0,(AF8*((LOG(AF8))/LOG(2))))","v":-0.29874687506009634},null,{"$f":"N8","v":112},{"$f":"COUNTIF(L78:L101,AI8)","v":0},{"$f":"AJ8/(AL4-AJ11)","v":0},{"$f":"IF(AK8=0,0,(AK8*((LOG(AK8))/LOG(2))))","v":0},null,{"$f":"N8","v":112},{"$f":"COUNTIF(L102:L124,AN8)","v":0},{"$f":"AO8/(AQ4-AO11)","v":0},{"$f":"IF(AP8=0,0,(AP8*((LOG(AP8))/LOG(2))))","v":0},null,{"$f":"N8","v":112},{"$f":"COUNTIF(L125:L148,AS8)","v":0},{"$f":"AT8/(AV4-AT11)","v":0},{"$f":"IF(AU8=0,0,(AU8*((LOG(AU8))/LOG(2))))","v":0}]
[21,227,22,231,24,236,null,null,null,null,0,222,null,121,{"$f":"COUNTIF($L$7:$L$500,N9)","v":0},{"$f":"O9/$Q$4","v":0},{"$f":"IF(P9=0,0,(P9*((LOG(P9))/LOG(2))))","v":0},null,null,{"$f":"N9","v":121},{"$f":"COUNTIF(L7:L30,T9)","v":0},{"$f":"U9/(W4-U11)","v":0},{"$f":"IF(V9=0,0,(V9*((LOG(V9))/LOG(2))))","v":0},null,{"$f":"N9","v":121},{"$f":"COUNTIF(L31:L53,Y9)","v":0},{"$f":"Z9/(AB4-Z11)","v":0},{"$f":"IF(AA9=0,0,(AA9*((LOG(AA9))/LOG(2))))","v":0},null,{"$f":"N9","v":121},{"$f":"COUNTIF(L54:L77,AD9)","v":0},{"$f":"AE9/(AG4-AE11)","v":0},{"$f":"IF(AF9=0,0,(AF9*((LOG(AF9))/LOG(2))))","v":0},null,{"$f":"N9","v":121},{"$f":"COUNTIF(L78:L101,AI9)","v":0},{"$f":"AJ9/(AL4-AJ11)","v":0},{"$f":"IF(AK9=0,0,(AK9*((LOG(AK9))/LOG(2))))","v":0},null,{"$f":"N9","v":121},{"$f":"COUNTIF(L102:L124,AN9)","v":0},{"$f":"AO9/(AQ4-AO11)","v":0},{"$f":"IF(AP9=0,0,(AP9*((LOG(AP9))/LOG(2))))","v":0},null,{"$f":"N9","v":121},{"$f":"COUNTIF(L125:L148,AS9)","v":0},{"$f":"AT9/(AV4-AT11)","v":0},{"$f":"IF(AU9=0,0,(AU9*((LOG(AU9))/LOG(2))))","v":0}]
[12,331,24,336,24,348,null,null,null,null,0,122,null,122,{"$f":"COUNTIF($L$7:$L$500,N10)","v":61},{"$f":"O10/$Q$4","v":0.42957746478873238},{"$f":"IF(P10=0,0,(P10*((LOG(P10))/LOG(2))))","v":-0.52365913167922207},null,null,{"$f":"N10","v":122},{"$f":"COUNTIF(L7:L30,T10)","v":4},{"$f":"U10/(W4-U11)","v":0.16666666666666666},{"$f":"IF(V10=0,0,(V10*((LOG(V10))/LOG(2))))","v":-0.43082708345352599},null,{"$f":"N10","v":122},{"$f":"COUNTIF(L31:L53,Y10)","v":12},{"$f":"Z10/(AB4-Z11)","v":0.52173913043478259},{"$f":"IF(AA10=0,0,(AA10*((LOG(AA10))/LOG(2))))","v":-0.48970406365349045},null,{"$f":"N10","v":122},{"$f":"COUNTIF(L54:L77,AD10)","v":12},{"$f":"AE10/(AG4-AE11)","v":0.5},{"$f":"IF(AF10=0,0,(AF10*((LOG(AF10))/LOG(2))))","v":-0.5},null,{"$f":"N10","v":122},{"$f":"COUNTIF(L78:L101,AI10)","v":9},{"$f":"AJ10/(AL4-AJ11)","v":0.375},{"$f":"IF(AK10=0,0,(AK10*((LOG(AK10))/LOG(2))))","v":-0.53063906222956647},null,{"$f":"N10","v":122},{"$f":"COUNTIF(L102:L124,AN10)","v":8},{"$f":"AO10/(AQ4-AO11)","v":0.34782608695652173},{"$f":"IF(AP10=0,0,(AP10*((LOG(AP10))/LOG(2))))","v":-0.52993459341113491},null,{"$f":"N10","v":122},{"$f":"COUNTIF(L125:L148,AS10)","v":16},{"$f":"AT10/(AV4-AT11)","v":0.66666666666666663},{"$f":"IF(AU10=0,0,(AU10*((LOG(AU10))/LOG(2))))","v":-0.38997500048077083}]
[21,444,22,457,24,482,null,null,null,null,0,222,null,211,{"$f":"COUNTIF($L$7:$L$500,N11)","v":0},{"$f":"O11/$Q$4","v":0},{"$f":"IF(P11=0,0,(P11*((LOG(P11))/LOG(2))))","v":0},null,null,{"$f":"N11","v":211},{"$f":"COUNTIF(L7:L30,T11)","v":0},null,null,null,{"$f":"N11","v":211},{"$f":"COUNTIF(L31:L53,Y11)","v":0},null,null,null,{"$f":"N11","v":211},{"$f":"COUNTIF(L54:L77,AD11)","v":0},null,null,null,{"$f":"N11","v":211},{"$f":"COUNTIF(L78:L101,AI11)","v":0},null,null,null,{"$f":"N11","v":211},{"$f":"COUNTIF(L102:L124,AN11)","v":0},null,null,null,{"$f":"N11","v":211},{"$f":"COUNTIF(L125:L148,AS11)","v":0}]
[21,593,22,598,24,605,null,null,null,null,0,222,null,212,{"$f":"COUNTIF($L$7:$L$500,N12)","v":0},{"$f":"O12/$Q$4","v":0},{"$f":"IF(P12=0,0,(P12*((LOG(P12))/LOG(2))))","v":0},null,null,{"$f":"N12","v":212},{"$f":"COUNTIF(L7:L30,T12)","v":0},{"$f":"U12/(W4-U11)","v":0},{"$f":"IF(V12=0,0,(V12*((LOG(V12))/LOG(2))))","v":0},null,{"$f":"N12","v":212},{"$f":"COUNTIF(L31:L53,Y12)","v":0},{"$f":"Z12/(AB4-Z11)","v":0},{"$f":"IF(AA12=0,0,(AA12*((LOG(AA12))/LOG(2))))","v":0},null,{"$f":"N12","v":212},{"$f":"COUNTIF(L54:L77,AD12)","v":0},{"$f":"AE12/(AG4-AE11)","v":0},{"$f":"IF(AF12=0,0,(AF12*((LOG(AF12))/LOG(2))))","v":0},null,{"$f":"N12","v":212},{"$f":"COUNTIF(L78:L101,AI12)","v":0},{"$f":"AJ12/(AL4-AJ11)","v":0},{"$f":"IF(AK12=0,0,(AK12*((LOG(AK12))/LOG(2))))","v":0},null,{"$f":"N12","v":212},{"$f":"COUNTIF(L102:L124,AN12)","v":0},{"$f":"AO12/(AQ4-AO11)","v":0},{"$f":"IF(AP12=0,0,(AP12*((LOG(AP12))/LOG(2))))","v":0},null,{"$f":"N12","v":212},{"$f":"COUNTIF(L125:L148,AS12)","v":0},{"$f":"AT12/(AV4-AT11)","v":0},{"$f":"IF(AU12=0,0,(AU12*((LOG(AU12))/LOG(2))))","v":0}]
[12,698,24,717,24,722,null,null,null,null,0,122,null,221,{"$f":"COUNTIF($L$7:$L$500,N13)","v":0},{"$f":"O13/$Q$4","v":0},{"$f":"IF(P13=0,0,(P13*((LOG(P13))/LOG(2))))","v":0},null,null,{"$f":"N13","v":221},{"$f":"COUNTIF(L7:L30,T13)","v":0},{"$f":"U13/(W4-U11)","v":0},{"$f":"IF(V13=0,0,(V13*((LOG(V13))/LOG(2))))","v":0},null,{"$f":"N13","v":221},{"$f":"COUNTIF(L31:L53,Y13)","v":0},{"$f":"Z13/(AB4-Z11)","v":0},{"$f":"IF(AA13=0,0,(AA13*((LOG(AA13))/LOG(2))))","v":0},null,{"$f":"N13","v":221},{"$f":"COUNTIF(L54:L77,AD13)","v":0},{"$f":"AE13/(AG4-AE11)","v":0},{"$f":"IF(AF13=0,0,(AF13*((LOG(AF13))/LOG(2))))","v":0},null,{"$f":"N13","v":221},{"$f":"COUNTIF(L78:L101,AI13)","v":0},{"$f":"AJ13/(AL4-AJ11)","v":0},{"$f":"IF(AK13=0,0,(AK13*((LOG(AK13))/LOG(2))))","v":0},null,{"$f":"N13","v":221},{"$f":"COUNTIF(L102:L124,AN13)","v":0},{"$f":"AO13/(AQ4-AO11)","v":0},{"$f":"IF(AP13=0,0,(AP13*((LOG(AP13))/LOG(2))))","v":0},null,{"$f":"N13","v":221},{"$f":"COUNTIF(L125:L148,AS13)","v":0},{"$f":"AT13/(AV4-AT11)","v":0},{"$f":"IF(AU13=0,0,(AU13*((LOG(AU13))/LOG(2))))","v":0}]
[21,836,22,840,24,843,null,null,null,null,0,222,null,222,{"$f":"COUNTIF($L$7:$L$500,N14)","v":79},{"$f":"O14/$Q$4","v":0.55633802816901412},{"$f":"IF(P14=0,0,(P14*((LOG(P14))/LOG(2))))","v":-0.47064326292168129},null,null,{"$f":"N14","v":222},{"$f":"COUNTIF(L7:L30,T14)","v":20},{"$f":"U14/(W4-U11)","v":0.83333333333333337},{"$f":"IF(V14=0,0,(V14*((LOG(V14))/LOG(2))))","v":-0.21919533819482812},null,{"$f":"N14","v":222},{"$f":"COUNTIF(L31:L53,Y14)","v":11},{"$f":"Z14/(AB4-Z11)","v":0.47826086956521741},{"$f":"IF(AA14=0,0,(AA14*((LOG(AA14))/LOG(2))))","v":-0.5089319005050813},null,{"$f":"N14","v":222},{"$f":"COUNTIF(L54:L77,AD14)","v":10},{"$f":"AE14/(AG4-AE11)","v":0.41666666666666669},{"$f":"IF(AF14=0,0,(AF14*((LOG(AF14))/LOG(2))))","v":-0.52626433576408083},null,{"$f":"N14","v":222},{"$f":"COUNTIF(L78:L101,AI14)","v":15},{"$f":"AJ14/(AL4-AJ11)","v":0.625},{"$f":"IF(AK14=0,0,(AK14*((LOG(AK14))/LOG(2))))","v":-0.42379494069539858},null,{"$f":"N14","v":222},{"$f":"COUNTIF(L102:L124,AN14)","v":15},{"$f":"AO14/(AQ4-AO11)","v":0.65217391304347827},{"$f":"IF(AP14=0,0,(AP14*((LOG(AP14))/LOG(2))))","v":-0.40217697420553983},null,{"$f":"N14","v":222},{"$f":"COUNTIF(L125:L148,AS14)","v":8},{"$f":"AT14/(AV4-AT11)","v":0.33333333333333331},{"$f":"IF(AU14=0,0,(AU14*((LOG(AU14))/LOG(2))))","v":-0.52832083357371862}]
[12,943,24,954,24,962,null,null,null,null,0,122,null,null,null,{"$f":"SUM(P7:P14)","v":1},{"$f":"-SUM(Q7:Q14)","v":1.0809185512136454},null,null,null,null,{"$f":"SUM(V7:V14)","v":1},{"$f":"-SUM(W7:W14)","v":0.65002242164835411},null,null,null,{"$f":"SUM(AA7:AA14)","v":1},{"$f":"-SUM(AB7:AB14)","v":0.99863596415857181},null,null,null,{"$f":"SUM(AF7:AF14)","v":1},{"$f":"-SUM(AG7:AG14)","v":1.3250112108241772},null,null,null,{"$f":"SUM(AK7:AK14)","v":1},{"$f":"-SUM(AL7:AL14)","v":0.95443400292496505},null,null,null,{"$f":"SUM(AP7:AP14)","v":1},{"$f":"-SUM(AQ7:AQ14)","v":0.93211156761667469},null,null,null,{"$f":"SUM(AU7:AU14)","v":1},{"$f":"-SUM(AV7:AV14)","v":0.91829583405448945}]
[21,1423,22,1427,24,1435,null,null,null,null,0,222,null,null,null,"U=",{"$f":"Q15/(LOG(Q4)/LOG(2))","v":0.15118276676735515},null,null,null,null,"U1=",{"$f":"W15/(LOG(W4)/LOG(2))","v":0.14177268004833493},null,null,null,"U2=",{"$f":"AB15/(LOG(AB4)/LOG(2))","v":0.22076318924324809},null,null,null,"U3=",{"$f":"AG15/(LOG(AG4)/LOG(2))","v":0.28899063200969904},null,null,null,"U4=",{"$f":"AL15/(LOG(AL4)/LOG(2))","v":0.20816615245486628},null,null,null,"U5=",{"$f":"AQ15/(LOG(AQ4)/LOG(2))","v":0.20605699151938989},null,null,null,"U6=",{"$f":"AV15/(LOG(AV4)/LOG(2))","v":0.20028426271971761}]
[21,1812,22,1818,24,1824,null,null,null,null,0,222]
[21,1930,22,1935,24,1945,null,null,null,null,0,222]
[21,2189,22,2193,24,2199,null,null,null,null,0,222,null,"Total Target Seq"]
[21,2301,22,2305,24,2310,null,null,null,null,0,222,null,{"$f":"COUNTIF(L7:L148,G3)","v":0},null,24,23,24,24,23,24]
[21,2410,22,2415,24,2422,null,null,null,null,0,222,null,null,null,"% of reinforcement given in 6 equal intervals based on number of trials "]
[12,2516,24,2523,24,2529,null,null,null,null,0,122,null,null,null,"%_1","%_2","%_3","%_4","%_5","%_6"]
[21,3121,22,3142,24,3149,null,null,null,null,0,222,null,null,"target sequence",{"$f":"$G$3","v":211},{"$f":"$G$3","v":211},{"$f":"$G$3","v":211},{"$f":"$G$3","v":211},{"$f":"$G$3","v":211},{"$f":"$G$3","v":211}]
[21,3817,22,3833,24,3840,null,null,null,null,0,222,null,null,"total reinforcement",{"$f":"U11","v":0},{"$f":"Z11","v":0},{"$f":"AE11","v":0},{"$f":"AJ11","v":0},{"$f":"AO11","v":0},{"$f":"AT11","v":0}]
[21,4258,22,4266,24,4273,null,null,null,null,0,222,null,null,"% target"]
[21,4376,22,4382,24,4387,null,null,null,null,0,222,null,null,"CCRF"]
[21,4493,22,4497,24,4503,null,null,null,null,0,222,null,null,"% CCRf"]
[21,4606,22,4612,24,4617,null,null,null,null,0,222,null,null,"average response rate",{"$f":"F30/P20","v":208.58333333333334},{"$f":"(F53-F30)/Q20","v":186.47826086956522},{"$f":"(F77-F53)/R20","v":132.75},{"$f":"(F101-F77)/S20","v":194.83333333333334},{"$f":"(F124-F101)/T20","v":138},{"$f":"(F148-F124)/U20","v":148.625}]
[21,4851,22,4865,24,4878,null,null,null,null,0,222]
[21,4981,22,4998,24,5006,null,null,null,null,0,222]
[12,5103,24,5106,24,5111,null,null,null,null,0,122]
[12,5206,24,5214,24,5229,null,null,null,null,0,122]
[21,5332,22,5334,24,5337,null,null,null,null,0,222]
[12,5436,24,5444,24,5451,null,null,null,null,0,122]
[12,5545,24,5558,24,5563,null,null,null,null,0,122]
[21,5733,22,5754,24,5773,null,null,null,null,0,222]
[21,6378,22,6397,24,6406,null,null,null,null,0,222]
[21,6840,22,6846,24,6861,null,null,null,null,0,222]
[21,7080,22,7085,24,7098,null,null,null,null,0,222]
[12,7194,24,7206,24,7222,null,null,null,null,0,122]
[12,7317,24,7324,24,7329,null,null,null,null,0,122]
[21,7435,22,7441,24,7444,null,null,null,null,0,222]
[12,7540,24,7545,24,7550,null,null,null,null,0,122]
[21,7657,22,7666,24,7671,null,null,null,null,0,222]
[12,7767,24,7785,24,7792,null,null,null,null,0,122]
[21,7897,22,7904,24,7911,null,null,null,null,0,222]
[21,8540,22,8551,24,8567,null,null,null,null,0,222]
[12,8662,24,8674,24,8677,null,null,null,null,0,122]
[21,8781,22,8784,24,8790,null,null,null,null,0,222]
[12,8890,24,8894,24,8900,null,null,null,null,0,122]
[12,9001,24,9007,24,9010,null,null,null,null,0,122]
[12,9144,24,9158,24,9163,null,null,null,null,0,122]
[21,9278,22,9282,24,9295,null,null,null,null,0,222]
[12,9390,24,9416,24,9442,null,null,null,null,0,122]
[12,9534,24,9545,24,9549,null,null,null,null,0,122]
[12,9646,13,9650,24,9657,null,null,null,null,0,112]
[21,9764,22,9771,24,9778,null,null,null,null,0,222]
[12,9873,24,9884,24,9897,null,null,null,null,0,122]
[21,9992,22,10000,24,10007,null,null,null,null,0,222]
[21,10111,22,10115,24,10122,null,null,null,null,0,222]
[12,10215,24,10224,24,10232,null,null,null,null,0,122]
[12,10324,13,10329,24,10342,null,null,null,null,0,112]
[12,10444,24,10450,24,10460,null,null,null,null,0,122]
[12,10746,24,10758,24,10771,null,null,null,null,0,122]
[12,10863,24,10880,24,10892,null,null,null,null,0,122]
[12,10990,24,10995,24,11001,null,null,null,null,0,122]
[21,11105,22,11111,24,11119,null,null,null,null,0,222]
[21,11222,22,11227,24,11234,null,null,null,null,0,222]
[12,11334,24,11336,24,11340,null,null,null,null,0,122]
[21,11443,22,11453,24,11460,null,null,null,null,0,222]
[21,11559,22,11564,24,11571,null,null,null,null,0,222]
[21,11679,22,11688,24,11695,null,null,null,null,0,222]
[12,11788,24,11798,24,11818,null,null,null,null,0,122]
[12,11920,24,11923,24,11929,null,null,null,null,0,122]
[21,12207,22,12232,24,12238,null,null,null,null,0,222]
[12,12361,24,12365,24,12369,null,null,null,null,0,122]
[21,12465,22,12470,24,12481,null,null,null,null,0,222]
[12,12610,24,12621,24,12628,null,null,null,null,0,122]
[12,12731,24,12741,24,12747,null,null,null,null,0,122]
[12,12861,24,12868,24,12871,null,null,null,null,0,122]
[21,12972,22,12980,24,12985,null,null,null,null,0,222]
[21,13090,22,13094,24,13101,null,null,null,null,0,222]
[21,13206,22,13241,24,13249,null,null,null,null,0,222]
[21,13471,22,13476,24,13484,null,null,null,null,0,222]
[21,13740,22,13746,24,13753,null,null,null,null,0,222]
[21,13851,22,13860,24,13874,null,null,null,null,0,222]
[21,14447,22,14454,24,14466,null,null,null,null,0,222]
[21,14565,22,14578,24,14584,null,null,null,null,0,222]
[21,14723,22,14735,24,14761,null,null,null,null,0,222]
[21,15163,22,15178,24,15185,null,null,null,null,0,222]
[12,15281,24,15285,24,15298,null,null,null,null,0,122]
[21,15958,22,15967,24,15972,null,null,null,null,0,222]
[21,16073,22,16092,24,16100,null,null,null,null,0,222]
[12,16193,24,16203,24,16211,null,null,null,null,0,122]
[12,16307,24,16310,24,16319,null,null,null,null,0,122]
[12,16411,24,16425,24,16431,null,null,null,null,0,122]
[21,16652,22,16659,24,16666,null,null,null,null,0,222]
[12,16761,24,16769,24,16775,null,null,null,null,0,122]
[21,16879,22,16886,24,16896,null,null,null,null,0,222]
[21,16994,22,16999,24,17005,null,null,null,null,0,222]
[12,17129,24,17149,24,17157,null,null,null,null,0,122]
[12,17272,24,17278,24,17283,null,null,null,null,0,122]
[21,17387,22,17395,24,17402,null,null,null,null,0,222]
[21,17735,22,17741,24,17760,null,null,null,null,0,222]
[12,17852,24,17858,24,17862,null,null,null,null,0,122]
[21,17966,22,17970,24,17974,null,null,null,null,0,222]
[21,18079,22,18086,24,18091,null,null,null,null,0,222]
[21,18197,22,18208,24,18218,null,null,null,null,0,222]
[21,18319,22,18325,24,18337,null,null,null,null,0,222]
[12,18430,24,18440,24,18447,null,null,null,null,0,122]
[12,18579,24,18589,24,18595,null,null,null,null,0,122]
[21,18704,22,18713,24,18719,null,null,null,null,0,222]
[21,18818,22,18832,24,18838,null,null,null,null,0,222]
[21,18946,22,18952,24,18962,null,null,null,null,0,222]
[12,19055,24,19066,24,19073,null,null,null,null,0,122]
[21,19379,22,19388,24,19393,null,null,null,null,0,222]
[21,19496,22,19501,24,19521,null,null,null,null,0,222]
[21,19624,22,19636,24,19645,null,null,null,null,0,222]
[12,19738,24,19746,24,19756,null,null,null,null,0,122]
[12,19852,24,19857,24,19862,null,null,null,null,0,122]
[12,19964,24,19968,24,19983,null,null,null,null,0,122]
[21,20089,22,20095,24,20101,null,null,null,null,0,222]
[21,20198,22,20203,24,20213,null,null,null,null,0,222]
[21,20319,22,20326,24,20331,null,null,null,null,0,222]
[21,20433,22,20439,24,20447,null,null,null,null,0,222]
[12,20614,24,20624,24,20629,null,null,null,null,0,122]
[12,20729,24,20733,24,20742,null,null,null,null,0,122]
[12,20842,24,20848,24,20851,null,null,null,null,0,122]
[21,20957,22,20963,24,20969,null,null,null,null,0,222]
[12,21065,24,21070,24,21079,null,null,null,null,0,122]
[12,21175,24,21182,24,21187,null,null,null,null,0,122]
[12,21283,24,21292,24,21305,null,null,null,null,0,122]
[12,21398,24,21405,24,21410,null,null,null,null,0,122]
[12,21511,24,21517,24,21528,null,null,null,null,0,122]
[12,21621,24,21635,24,21644,null,null,null,null,0,122]
[12,21737,24,21752,24,21754,null,null,null,null,0,122]
[21,21864,22,21869,24,21878,null,null,null,null,0,222]
[12,22219,24,22224,24,22229,null,null,null,null,0,122]
[21,22430,22,22436,24,22449,null,null,null,null,0,222]
[21,22549,22,22559,24,22571,null,null,null,null,0,222]
[21,22825,22,22831,24,22837,null,null,null,null,0,222]
[21,22934,22,22942,24,22953,null,null,null,null,0,222]
[12,23045,24,23052,24,23056,null,null,null,null,0,122]
[21,23164,22,23174,24,23182,null,null,null,null,0,222]
[12,23277,24,23281,24,23288,null,null,null,null,0,122]
[12,23568,24,23578,24,23583,null,null,null,null,0,122]
[12,23781,24,23784,24,23789,null,null,null,null,0,122]
[12,23887,24,23891,24,23898,null,null,null,null,0,122]

{"sheet":"!M123B00.Gus","index":9,"n_rows":176,"n_cols":48,"rows_kept":176,"cut":false,"hidden":false,"merged":[[4,39,4,42],[5,39,5,40],[4,44,4,47],[5,44,5,45],[4,24,4,27],[5,24,5,25],[4,29,4,32],[5,29,5,30],[4,34,4,37],[5,34,5,35],[1,1,1,2],[5,13,5,14],[18,13,18,14],[19,13,19,14],[4,19,4,22],[5,19,5,20]]}
["Report for:!M123B00.Gus"]
["Date:","<date>"]
["Hen:","<hen>",null,null,null,"Correct Sequence",{"$f":"Start!J2","v":211},null,null,null,null,null,null,null,null,"Total Sequences in Data",{"$f":"4994-COUNTBLANK(L7:L5000)","v":170},null,null,null,null,"Total Sequences in Block Data",{"$f":"COUNTA(L7:L34)","v":28},null,null,null,"Total Sequences in Block Data",{"$f":"COUNTA(L35:L63)","v":29},null,null,null,"Total Sequences in Block Data",{"$f":"COUNTA(L64:L91)","v":28},null,null,null,"Total Sequences in Block Data",{"$f":"COUNTA(L92:L119)","v":28},null,null,null,"Total Sequences in Block Data",{"$f":"COUNTA(L120:L148)","v":29},null,null,null,"Total Sequences in Block Data",{"$f":"COUNTA(L149:L176)","v":28}]
[null,null,null,null,null,null,null,null,null,null,null,null,null,null,null,"Total Sequences in Summary",{"$f":"SUM(O7:O14)","v":170},null,null,null,null,"Total Sequences in Block Summary",{"$f":"SUM(U7:U14)","v":28},null,null,null,"Total Sequences in Block Summary",{"$f":"SUM(Z7:Z14)","v":29},null,null,null,"Total Sequences in Block Summary",{"$f":"SUM(AE7:AE14)","v":28},null,null,null,"Total Sequences in Block Summary",{"$f":"SUM(AJ7:AJ14)","v":28},null,null,null,"Total Sequences in Block Summary",{"$f":"SUM(AO7:AO14)","v":29},null,null,null,"Total Sequences in Block Summary",{"$f":"SUM(AT7:AT14)","v":28}]
[null,null,null,null,null,null,null,null,null,null,null,null,null,null,null,null,null,null,null,"Block 1",null,null,null,null,"Block 2",null,null,null,null,"Block 3",null,null,null,null,"Block 4",null,null,null,null,"Block 5",null,null,null,null,"Block 6"]
["Sequence\nComponent\n1","Time\n1","Sequence\nComponent\n2","Time\n2","Sequence\nComponent\n3","Time\n3","Sequence\nComponent\n4","Time\n4","Sequence\nComponent\n5","Time\n5","Correct?\n0=No 1=Yes","Sequence",null,"Frequency",null,"Relative Frequency","Variability",null,null,"Frequency",null,"Relative Frequency","Variability",null,"Frequency",null,"Relative Frequency","Variability",null,"Frequency",null,"Relative Frequency","Variability",null,"Frequency",null,"Relative Frequency","Variability",null,"Frequency",null,"Relative Frequency","Variability",null,"Frequency",null,"Relative Frequency","Variability"]
[21,9,22,15,24,20,null,null,null,null,0,222,null,111,{"$f":"COUNTIF($L$7:$L$500,N7)","v":1},{"$f":"O7/$Q$4","v":5.8823529411764705E-3},{"$f":"IF(P7=0,0,(P7*((LOG(P7))/LOG(2))))","v":-4.35846525655159E-2},null,null,{"$f":"N7","v":111},{"$f":"COUNTIF(L7:L34,T7)","v":0},{"$f":"U7/(W4-U11)","v":0},{"$f":"IF(V7=0,0,(V7*((LOG(V7))/LOG(2))))","v":0},null,{"$f":"N7","v":111},{"$f":"COUNTIF(L35:L63,Y7)","v":1},{"$f":"Z7/(AB4-Z11)","v":3.4482758620689655E-2},{"$f":"IF(AA7=0,0,(AA7*((LOG(AA7))/LOG(2))))","v":-0.16751658603888178},null,{"$f":"N7","v":111},{"$f":"COUNTIF(L64:L91,AD7)","v":0},{"$f":"AE7/(AG4-AE11)","v":0},{"$f":"IF(AF7=0,0,(AF7*((LOG(AF7))/LOG(2))))","v":0},null,{"$f":"N7","v":111},{"$f":"COUNTIF(L92:L119,AI7)","v":0},{"$f":"AJ7/(AL4-AJ11)","v":0},{"$f":"IF(AK7=0,0,(AK7*((LOG(AK7))/LOG(2))))","v":0},null,{"$f":"N7","v":111},{"$f":"COUNTIF(L120:L148,AN7)","v":0},{"$f":"AO7/(AQ4-AO11)","v":0},{"$f":"IF(AP7=0,0,(AP7*((LOG(AP7))/LOG(2))))","v":0},null,{"$f":"N7","v":111},{"$f":"COUNTIF(L149:L176,AS7)","v":0},{"$f":"AT7/(AV4-AT11)","v":0},{"$f":"IF(AU7=0,0,(AU7*((LOG(AU7))/LOG(2))))","v":0}]
[21,119,22,125,24,127,null,null,null,null,0,222,null,112,{"$f":"COUNTIF($L$7:$L$500,N8)","v":6},{"$f":"O8/$Q$4","v":3.5294117647058823E-2},{"$f":"IF(P8=0,0,(P8*((LOG(P8))/LOG(2))))","v":-0.17027394477940749},null,null,{"$f":"N8","v":112},{"$f":"COUNTIF(L7:L34,T8)","v":0},{"$f":"U8/(W4-U11)","v":0},{"$f":"IF(V8=0,0,(V8*((LOG(V8))/LOG(2))))","v":0},null,{"$f":"N8","v":112},{"$f":"COUNTIF(L35:L63,Y8)","v":2},{"$f":"Z8/(AB4-Z11)","v":6.8965517241379309E-2},{"$f":"IF(AA8=0,0,(AA8*((LOG(AA8))/LOG(2))))","v":-0.26606765483638428},null,{"$f":"N8","v":112},{"$f":"COUNTIF(L64:L91,AD8)","v":0},{"$f":"AE8/(AG4-AE11)","v":0},{"$f":"IF(AF8=0,0,(AF8*((LOG(AF8))/LOG(2))))","v":0},null,{"$f":"N8","v":112},{"$f":"COUNTIF(L92:L119,AI8)","v":3},{"$f":"AJ8/(AL4-AJ11)","v":0.10714285714285714},{"$f":"IF(AK8=0,0,(AK8*((LOG(AK8))/LOG(2))))","v":-0.34525633085747659},null,{"$f":"N8","v":112},{"$f":"COUNTIF(L120:L148,AN8)","v":0},{"$f":"AO8/(AQ4-AO11)","v":0},{"$f":"IF(AP8=0,0,(AP8*((LOG(AP8))/LOG(2))))","v":0},null,{"$f":"N8","v":112},{"$f":"COUNTIF(L149:L176,AS8)","v":1},{"$f":"AT8/(AV4-AT11)","v":3.5714285714285712E-2},{"$f":"IF(AU8=0,0,(AU8*((LOG(AU8))/LOG(2))))","v":-0.17169124721634299}]
[21,222,22,227,24,230,null,null,null,null,0,222,null,121,{"$f":"COUNTIF($L$7:$L$500,N9)","v":0},{"$f":"O9/$Q$4","v":0},{"$f":"IF(P9=0,0,(P9*((LOG(P9))/LOG(2))))","v":0},null,null,{"$f":"N9","v":121},{"$f":"COUNTIF(L7:L34,T9)","v":0},{"$f":"U9/(W4-U11)","v":0},{"$f":"IF(V9=0,0,(V9*((LOG(V9))/LOG(2))))","v":0},null,{"$f":"N9","v":121},{"$f":"COUNTIF(L35:L63,Y9)","v":0},{"$f":"Z9/(AB4-Z11)","v":0},{"$f":"IF(AA9=0,0,(AA9*((LOG(AA9))/LOG(2))))","v":0},null,{"$f":"N9","v":121},{"$f":"COUNTIF(L64:L91,AD9)","v":0},{"$f":"AE9/(AG4-AE11)","v":0},{"$f":"IF(AF9=0,0,(AF9*((LOG(AF9))/LOG(2))))","v":0},null,{"$f":"N9","v":121},{"$f":"COUNTIF(L92:L119,AI9)","v":0},{"$f":"AJ9/(AL4-AJ11)","v":0},{"$f":"IF(AK9=0,0,(AK9*((LOG(AK9))/LOG(2))))","v":0},null,{"$f":"N9","v":121},{"$f":"COUNTIF(L120:L148,AN9)","v":0},{"$f":"AO9/(AQ4-AO11)","v":0},{"$f":"IF(AP9=0,0,(AP9*((LOG(AP9))/LOG(2))))","v":0},null,{"$f":"N9","v":121},{"$f":"COUNTIF(L149:L176,AS9)","v":0},{"$f":"AT9/(AV4-AT11)","v":0},{"$f":"IF(AU9=0,0,(AU9*((LOG(AU9))/LOG(2))))","v":0}]
[21,442,22,450,24,461,null,null,null,null,0,222,null,122,{"$f":"COUNTIF($L$7:$L$500,N10)","v":73},{"$f":"O10/$Q$4","v":0.42941176470588233},{"$f":"IF(P10=0,0,(P10*((LOG(P10))/LOG(2))))","v":-0.52369615023418215},null,null,{"$f":"N10","v":122},{"$f":"COUNTIF(L7:L34,T10)","v":14},{"$f":"U10/(W4-U11)","v":0.5},{"$f":"IF(V10=0,0,(V10*((LOG(V10))/LOG(2))))","v":-0.5},null,{"$f":"N10","v":122},{"$f":"COUNTIF(L35:L63,Y10)","v":15},{"$f":"Z10/(AB4-Z11)","v":0.51724137931034486},{"$f":"IF(AA10=0,0,(AA10*((LOG(AA10))/LOG(2))))","v":-0.49194331009606224},null,{"$f":"N10","v":122},{"$f":"COUNTIF(L64:L91,AD10)","v":10},{"$f":"AE10/(AG4-AE11)","v":0.35714285714285715},{"$f":"IF(AF10=0,0,(AF10*((LOG(AF10))/LOG(2))))","v":-0.53050958113222924},null,{"$f":"N10","v":122},{"$f":"COUNTIF(L92:L119,AI10)","v":12},{"$f":"AJ10/(AL4-AJ11)","v":0.42857142857142855},{"$f":"IF(AK10=0,0,(AK10*((LOG(AK10))/LOG(2))))","v":-0.52388246628704915},null,{"$f":"N10","v":122},{"$f":"COUNTIF(L120:L148,AN10)","v":13},{"$f":"AO10/(AQ4-AO11)","v":0.44827586206896552},{"$f":"IF(AP10=0,0,(AP10*((LOG(AP10))/LOG(2))))","v":-0.51889781382152544},null,{"$f":"N10","v":122},{"$f":"COUNTIF(L149:L176,AS10)","v":9},{"$f":"AT10/(AV4-AT11)","v":0.32142857142857145},{"$f":"IF(AU10=0,0,(AU10*((LOG(AU10))/LOG(2))))","v":-0.5263167601977724}]
[12,556,24,559,24,565,null,null,null,null,0,122,null,211,{"$f":"COUNTIF($L$7:$L$500,N11)","v":0},{"$f":"O11/$Q$4","v":0},{"$f":"IF(P11=0,0,(P11*((LOG(P11))/LOG(2))))","v":0},null,null,{"$f":"N11","v":211},{"$f":"COUNTIF(L7:L34,T11)","v":0},null,null,null,{"$f":"N11","v":211},{"$f":"COUNTIF(L35:L63,Y11)","v":0},null,null,null,{"$f":"N11","v":211},{"$f":"COUNTIF(L64:L91,AD11)","v":0},null,null,null,{"$f":"N11","v":211},{"$f":"COUNTIF(L92:L119,AI11)","v":0},null,null,null,{"$f":"N11","v":211},{"$f":"COUNTIF(L120:L148,AN11)","v":0},null,null,null,{"$f":"N11","v":211},{"$f":"COUNTIF(L149:L176,AS11)","v":0}]
[12,661,24,667,24,668,null,null,null,null,0,122,null,212,{"$f":"COUNTIF($L$7:$L$500,N12)","v":0},{"$f":"O12/$Q$4","v":0},{"$f":"IF(P12=0,0,(P12*((LOG(P12))/LOG(2))))","v":0},null,null,{"$f":"N12","v":212},{"$f":"COUNTIF(L7:L34,T12)","v":0},{"$f":"U12/(W4-U11)","v":0},{"$f":"IF(V12=0,0,(V12*((LOG(V12))/LOG(2))))","v":0},null,{"$f":"N12","v":212},{"$f":"COUNTIF(L35:L63,Y12)","v":0},{"$f":"Z12/(AB4-Z11)","v":0},{"$f":"IF(AA12=0,0,(AA12*((LOG(AA12))/LOG(2))))","v":0},null,{"$f":"N12","v":212},{"$f":"COUNTIF(L64:L91,AD12)","v":0},{"$f":"AE12/(AG4-AE11)","v":0},{"$f":"IF(AF12=0,0,(AF12*((LOG(AF12))/LOG(2))))","v":0},null,{"$f":"N12","v":212},{"$f":"COUNTIF(L92:L119,AI12)","v":0},{"$f":"AJ12/(AL4-AJ11)","v":0},{"$f":"IF(AK12=0,0,(AK12*((LOG(AK12))/LOG(2))))","v":0},null,{"$f":"N12","v":212},{"$f":"COUNTIF(L120:L148,AN12)","v":0},{"$f":"AO12/(AQ4-AO11)","v":0},{"$f":"IF(AP12=0,0,(AP12*((LOG(AP12))/LOG(2))))","v":0},null,{"$f":"N12","v":212},{"$f":"COUNTIF(L149:L176,AS12)","v":0},{"$f":"AT12/(AV4-AT11)","v":0},{"$f":"IF(AU12=0,0,(AU12*((LOG(AU12))/LOG(2))))","v":0}]
[12,764,24,772,24,776,null,null,null,null,0,122,null,221,{"$f":"COUNTIF($L$7:$L$500,N13)","v":0},{"$f":"O13/$Q$4","v":0},{"$f":"IF(P13=0,0,(P13*((LOG(P13))/LOG(2))))","v":0},null,null,{"$f":"N13","v":221},{"$f":"COUNTIF(L7:L34,T13)","v":0},{"$f":"U13/(W4-U11)","v":0},{"$f":"IF(V13=0,0,(V13*((LOG(V13))/LOG(2))))","v":0},null,{"$f":"N13","v":221},{"$f":"COUNTIF(L35:L63,Y13)","v":0},{"$f":"Z13/(AB4-Z11)","v":0},{"$f":"IF(AA13=0,0,(AA13*((LOG(AA13))/LOG(2))))","v":0},null,{"$f":"N13","v":221},{"$f":"COUNTIF(L64:L91,AD13)","v":0},{"$f":"AE13/(AG4-AE11)","v":0},{"$f":"IF(AF13=0,0,(AF13*((LOG(AF13))/LOG(2))))","v":0},null,{"$f":"N13","v":221},{"$f":"COUNTIF(L92:L119,AI13)","v":0},{"$f":"AJ13/(AL4-AJ11)","v":0},{"$f":"IF(AK13=0,0,(AK13*((LOG(AK13))/LOG(2))))","v":0},null,{"$f":"N13","v":221},{"$f":"COUNTIF(L120:L148,AN13)","v":0},{"$f":"AO13/(AQ4-AO11)","v":0},{"$f":"IF(AP13=0,0,(AP13*((LOG(AP13))/LOG(2))))","v":0},null,{"$f":"N13","v":221},{"$f":"COUNTIF(L149:L176,AS13)","v":0},{"$f":"AT13/(AV4-AT11)","v":0},{"$f":"IF(AU13=0,0,(AU13*((LOG(AU13))/LOG(2))))","v":0}]
[21,884,22,891,24,898,null,null,null,null,0,222,null,222,{"$f":"COUNTIF($L$7:$L$500,N14)","v":90},{"$f":"O14/$Q$4","v":0.52941176470588236},{"$f":"IF(P14=0,0,(P14*((LOG(P14))/LOG(2))))","v":-0.48575532695719081},null,null,{"$f":"N14","v":222},{"$f":"COUNTIF(L7:L34,T14)","v":14},{"$f":"U14/(W4-U11)","v":0.5},{"$f":"IF(V14=0,0,(V14*((LOG(V14))/LOG(2))))","v":-0.5},null,{"$f":"N14","v":222},{"$f":"COUNTIF(L35:L63,Y14)","v":11},{"$f":"Z14/(AB4-Z11)","v":0.37931034482758619},{"$f":"IF(AA14=0,0,(AA14*((LOG(AA14))/LOG(2))))","v":-0.53048424625493174},null,{"$f":"N14","v":222},{"$f":"COUNTIF(L64:L91,AD14)","v":18},{"$f":"AE14/(AG4-AE11)","v":0.6428571428571429},{"$f":"IF(AF14=0,0,(AF14*((LOG(AF14))/LOG(2))))","v":-0.40977637753840174},null,{"$f":"N14","v":222},{"$f":"COUNTIF(L92:L119,AI14)","v":13},{"$f":"AJ14/(AL4-AJ11)","v":0.4642857142857143},{"$f":"IF(AK14=0,0,(AK14*((LOG(AK14))/LOG(2))))","v":-0.51392491610409474},null,{"$f":"N14","v":222},{"$f":"COUNTIF(L120:L148,AN14)","v":16},{"$f":"AO14/(AQ4-AO11)","v":0.55172413793103448},{"$f":"IF(AP14=0,0,(AP14*((LOG(AP14))/LOG(2))))","v":-0.47336882489797077},null,{"$f":"N14","v":222},{"$f":"COUNTIF(L149:L176,AS14)","v":18},{"$f":"AT14/(AV4-AT11)","v":0.6428571428571429},{"$f":"IF(AU14=0,0,(AU14*((LOG(AU14))/LOG(2))))","v":-0.40977637753840174}]
[12,993,24,1004,24,1010,null,null,null,null,0,122,null,null,null,{"$f":"SUM(P7:P14)","v":1},{"$f":"-SUM(Q7:Q14)","v":1.2233100745362964},null,null,null,null,{"$f":"SUM(V7:V14)","v":1},{"$f":"-SUM(W7:W14)","v":1},null,null,null,{"$f":"SUM(AA7:AA14)","v":1},{"$f":"-SUM(AB7:AB14)","v":1.4560117972262601},null,null,null,{"$f":"SUM(AF7:AF14)","v":1},{"$f":"-SUM(AG7:AG14)","v":0.94028595867063092},null,null,null,{"$f":"SUM(AK7:AK14)","v":1},{"$f":"-SUM(AL7:AL14)","v":1.3830637132486205},null,null,null,{"$f":"SUM(AP7:AP14)","v":1},{"$f":"-SUM(AQ7:AQ14)","v":0.99226663871949627},null,null,null,{"$f":"SUM(AU7:AU14)","v":1},{"$f":"-SUM(AV7:AV14)","v":1.1077843849525171}]
[21,1117,22,1124,24,1130,null,null,null,null,0,222,null,null,null,"U=",{"$f":"Q15/(LOG(Q4)/LOG(2))","v":0.16510264947282857},null,null,null,null,"U1=",{"$f":"W15/(LOG(W4)/LOG(2))","v":0.20801459767650948},null,null,null,"U2=",{"$f":"AB15/(LOG(AB4)/LOG(2))","v":0.29971541648405003},null,null,null,"U3=",{"$f":"AG15/(LOG(AG4)/LOG(2))","v":0.19559320539374231},null,null,null,"U4=",{"$f":"AL15/(LOG(AL4)/LOG(2))","v":0.28769744187239105},null,null,null,"U5=",{"$f":"AQ15/(LOG(AQ4)/LOG(2))","v":0.20425494453657062},null,null,null,"U6=",{"$f":"AV15/(LOG(AV4)/LOG(2))","v":0.23043532314821732}]
[12,1292,24,1306,24,1309,null,null,null,null,0,122]
[12,1403,24,1414,24,1436,null,null,null,null,0,122]
[21,1538,22,1545,24,1553,null,null,null,null,0,222,null,"Total Target Seq"]
[21,1660,22,1666,24,1673,null,null,null,null,0,222,null,{"$f":"COUNTIF(L7:L176,G3)","v":0},null,28,29,28,28,29,28]
[12,1768,24,1783,24,1793,null,null,null,null,0,122,null,null,null,"% of reinforcement given in 6 equal intervals based on number of trials "]
[21,1902,22,1907,24,1917,null,null,null,null,0,222,null,null,null,"%_1","%_2","%_3","%_4","%_5","%_6"]
[12,2026,24,2033,24,2037,null,null,null,null,0,122,null,null,"target sequence",{"$f":"$G$3","v":211},{"$f":"$G$3","v":211},{"$f":"$G$3","v":211},{"$f":"$G$3","v":211},{"$f":"$G$3","v":211},{"$f":"$G$3","v":211}]
[12,2131,24,2140,24,2145,null,null,null,null,0,122,null,null,"total reinforcement",{"$f":"U11","v":0},{"$f":"Z11","v":0},{"$f":"AE11","v":0},{"$f":"AJ11","v":0},{"$f":"AO11","v":0},{"$f":"AT11","v":0}]
[12,2280,24,2293,24,2301,null,null,null,null,0,122,null,null,"% target"]
[21,2410,22,2420,24,2427,null,null,null,null,0,222,null,null,"CCRF"]
[21,2531,22,2541,24,2547,null,null,null,null,0,222,null,null,"% CCRf"]
[21,2656,22,2660,24,2665,null,null,null,null,0,222,null,null,"average response rate",{"$f":"F34/P20","v":122.75},{"$f":"(F63-F34)/Q20","v":127.24137931034483},{"$f":"(F91-F63)/R20","v":160.5},{"$f":"(F119-F91)/S20","v":130.35714285714286},{"$f":"(F148-F119)/T20","v":149.93103448275863},{"$f":"(F176-F148)/U20","v":155.14285714285714}]
[21,2762,22,2766,24,2769,null,null,null,null,0,222]
[21,2869,22,2880,24,2885,null,null,null,null,0,222]
[12,2977,24,2994,24,2998,null,null,null,null,0,122]
[12,3092,24,3100,24,3107,null,null,null,null,0,122]
[12,3200,24,3213,24,3218,null,null,null,null,0,122]
[12,3421,24,3431,24,3437,null,null,null,null,0,122]
[12,3534,24,3544,24,3548,null,null,null,null,0,122]
[21,3651,22,3655,24,3663,null,null,null,null,0,222]
[21,3764,22,3768,24,3774,null,null,null,null,0,222]
[12,3888,24,3906,24,3919,null,null,null,null,0,122]
[12,4012,24,4022,24,4032,null,null,null,null,0,122]
[12,4125,24,4134,24,4139,null,null,null,null,0,122]
[12,4231,24,4243,24,4249,null,null,null,null,0,122]
[12,4342,24,4354,24,4360,null,null,null,null,0,122]
[21,4466,22,4469,24,4481,null,null,null,null,0,222]
[12,4579,24,4584,24,4590,null,null,null,null,0,122]
[12,4688,24,4694,24,4705,null,null,null,null,0,122]
[12,4801,24,4807,24,4815,null,null,null,null,0,122]
[12,4915,24,4921,24,4926,null,null,null,null,0,122]
[12,5108,13,5112,24,5125,null,null,null,null,0,112]
[21,5357,22,5362,24,5382,null,null,null,null,0,222]
[21,5483,22,5488,24,5492,null,null,null,null,0,222]
[12,5587,24,5595,24,5600,null,null,null,null,0,122]
[21,5704,22,5711,24,5716,null,null,null,null,0,222]
[12,5808,13,5812,13,5823,null,null,null,null,0,111]
[12,5926,24,5932,24,5937,null,null,null,null,0,122]
[21,6034,22,6038,24,6048,null,null,null,null,0,222]
[21,6150,22,6156,24,6169,null,null,null,null,0,222]
[21,6271,22,6275,24,6280,null,null,null,null,0,222]
[12,6378,24,6382,24,6388,null,null,null,null,0,122]
[12,6480,13,6488,24,6493,null,null,null,null,0,112]
[21,6774,22,6779,24,6786,null,null,null,null,0,222]
[21,6889,22,6899,24,6910,null,null,null,null,0,222]
[12,7004,24,7015,24,7022,null,null,null,null,0,122]
[12,7117,24,7122,24,7127,null,null,null,null,0,122]
[21,7228,22,7235,24,7241,null,null,null,null,0,222]
[21,7344,22,7350,24,7356,null,null,null,null,0,222]
[21,7451,22,7456,24,7460,null,null,null,null,0,222]
[12,7552,24,7564,24,7570,null,null,null,null,0,122]
[12,7664,24,7673,24,7689,null,null,null,null,0,122]
[21,7789,22,7797,24,7802,null,null,null,null,0,222]
[21,7905,22,7914,24,7928,null,null,null,null,0,222]
[21,8276,22,8299,24,8317,null,null,null,null,0,222]
[21,8747,22,8763,24,8776,null,null,null,null,0,222]
[12,8992,24,9003,24,9034,null,null,null,null,0,122]
[21,9136,22,9153,24,9160,null,null,null,null,0,222]
[21,9262,22,9268,24,9272,null,null,null,null,0,222]
[21,9376,22,9380,24,9383,null,null,null,null,0,222]
[21,9484,22,9492,24,9497,null,null,null,null,0,222]
[21,9630,22,9636,24,9641,null,null,null,null,0,222]
[21,9740,22,9746,24,9758,null,null,null,null,0,222]
[12,9851,24,9859,24,9865,null,null,null,null,0,122]
[12,9962,24,9966,24,9974,null,null,null,null,0,122]
[12,10069,24,10078,24,10081,null,null,null,null,0,122]
[12,10174,24,10186,24,10190,null,null,null,null,0,122]
[12,10383,24,10396,24,10410,null,null,null,null,0,122]
[21,10513,22,10518,24,10528,null,null,null,null,0,222]
[21,10746,22,10755,24,10763,null,null,null,null,0,222]
[12,10859,24,10863,24,10878,null,null,null,null,0,122]
[21,10984,22,10995,24,11002,null,null,null,null,0,222]
[21,11105,22,11109,24,11117,null,null,null,null,0,222]
[12,11424,24,11439,24,11462,null,null,null,null,0,122]
[21,11599,22,11605,24,11621,null,null,null,null,0,222]
[21,11723,22,11740,24,11752,null,null,null,null,0,222]
[21,11848,22,11854,24,11859,null,null,null,null,0,222]
[12,11955,24,11958,24,11969,null,null,null,null,0,122]
[21,12073,22,12075,24,12078,null,null,null,null,0,222]
[12,12251,24,12270,24,12277,null,null,null,null,0,122]
[12,12370,24,12382,24,12396,null,null,null,null,0,122]
[21,12502,22,12506,24,12512,null,null,null,null,0,222]
[21,12617,22,12625,24,12630,null,null,null,null,0,222]
[21,12735,22,12741,24,12747,null,null,null,null,0,222]
[12,12840,24,12851,24,12860,null,null,null,null,0,122]
[12,12989,24,13007,24,13024,null,null,null,null,0,122]
[12,13118,24,13125,24,13144,null,null,null,null,0,122]
[21,13244,22,13249,24,13254,null,null,null,null,0,222]
[12,13349,13,13353,24,13363,null,null,null,null,0,112]
[12,13458,24,13470,24,13475,null,null,null,null,0,122]
[21,13571,22,13575,24,13588,null,null,null,null,0,222]
[21,14028,22,14031,24,14037,null,null,null,null,0,222]
[12,14128,24,14140,24,14144,null,null,null,null,0,122]
[12,14238,24,14245,24,14252,null,null,null,null,0,122]
[21,14353,22,14359,24,14368,null,null,null,null,0,222]
[12,14460,24,14469,24,14475,null,null,null,null,0,122]
[12,14570,13,14575,24,14576,null,null,null,null,0,112]
[12,14670,24,14678,24,14688,null,null,null,null,0,122]
[12,14785,13,14787,24,14798,null,null,null,null,0,112]
[12,14894,24,14900,24,14906,null,null,null,null,0,122]
[21,15007,22,15017,24,15024,null,null,null,null,0,222]
[21,15125,22,15132,24,15143,null,null,null,null,0,222]
[21,15247,22,15254,24,15271,null,null,null,null,0,222]
[21,15372,22,15381,24,15387,null,null,null,null,0,222]
[12,15481,24,15491,24,15495,null,null,null,null,0,122]
[12,15728,24,15739,24,15744,null,null,null,null,0,122]
[12,15847,24,15857,24,15864,null,null,null,null,0,122]
[21,15963,22,15971,24,15981,null,null,null,null,0,222]
[21,16086,22,16092,24,16098,null,null,null,null,0,222]
[12,16194,24,16201,24,16205,null,null,null,null,0,122]
[12,16482,24,16496,24,16498,null,null,null,null,0,122]
[21,16671,22,16677,24,16687,null,null,null,null,0,222]
[21,16785,22,16791,24,16795,null,null,null,null,0,222]
[21,16982,22,16985,24,16988,null,null,null,null,0,222]
[12,17079,24,17086,24,17090,null,null,null,null,0,122]
[12,17189,24,17196,24,17206,null,null,null,null,0,122]
[21,17306,22,17312,24,17326,null,null,null,null,0,222]
[21,17464,22,17472,24,17478,null,null,null,null,0,222]
[21,17584,22,17587,24,17593,null,null,null,null,0,222]
[21,17695,22,17702,24,17706,null,null,null,null,0,222]
[21,17811,22,17815,24,17820,null,null,null,null,0,222]
[21,17917,22,17923,24,17926,null,null,null,null,0,222]
[12,18019,24,18030,24,18049,null,null,null,null,0,122]
[12,18236,24,18247,24,18251,null,null,null,null,0,122]
[12,18344,24,18357,24,18362,null,null,null,null,0,122]
[12,18461,24,18464,24,18473,null,null,null,null,0,122]
[21,18580,22,18587,24,18593,null,null,null,null,0,222]
[21,18696,22,18700,24,18711,null,null,null,null,0,222]
[21,18815,22,18823,24,18836,null,null,null,null,0,222]
[12,19134,24,19146,24,19153,null,null,null,null,0,122]
[12,19252,24,19260,24,19266,null,null,null,null,0,122]
[21,19601,22,19608,24,19619,null,null,null,null,0,222]
[12,19715,24,19718,24,19723,null,null,null,null,0,122]
[12,19825,24,19829,24,19836,null,null,null,null,0,122]
[12,19929,24,19940,24,19944,null,null,null,null,0,122]
[21,20043,22,20049,24,20066,null,null,null,null,0,222]
[12,20340,24,20366,24,20372,null,null,null,null,0,122]
[21,20718,22,20728,24,20749,null,null,null,null,0,222]
[21,20843,22,20848,24,20852,null,null,null,null,0,222]
[12,20946,24,20951,24,20961,null,null,null,null,0,122]
[21,21065,22,21070,24,21076,null,null,null,null,0,222]
[21,21181,22,21186,24,21192,null,null,null,null,0,222]
[12,21291,24,21300,24,21305,null,null,null,null,0,122]
[21,21410,22,21416,24,21422,null,null,null,null,0,222]
[12,21566,24,21576,24,21587,null,null,null,null,0,122]
[21,21690,22,21696,24,21702,null,null,null,null,0,222]
[21,21811,22,21816,24,21821,null,null,null,null,0,222]
[21,21928,22,21948,24,21954,null,null,null,null,0,222]
[21,22059,22,22065,24,22073,null,null,null,null,0,222]
[21,22175,22,22181,24,22187,null,null,null,null,0,222]
[21,22290,22,22299,24,22304,null,null,null,null,0,222]
[12,22396,24,22410,24,22416,null,null,null,null,0,122]
[21,22524,22,22534,24,22540,null,null,null,null,0,222]
[21,22891,22,22900,24,22924,null,null,null,null,0,222]
[12,23018,13,23023,24,23027,null,null,null,null,0,112]
[21,23131,22,23137,24,23144,null,null,null,null,0,222]
[21,23367,22,23372,24,23381,null,null,null,null,0,222]
[21,23739,22,23745,24,23751,null,null,null,null,0,222]
[12,23844,24,23855,24,23858,null,null,null,null,0,122]
[21,23954,22,23960,24,23963,null,null,null,null,1,222]

{"sheet":"!M124B10.Gus","index":10,"n_rows":181,"n_cols":48,"rows_kept":181,"cut":false,"hidden":false,"merged":[[4,39,4,42],[5,39,5,40],[4,44,4,47],[5,44,5,45],[4,24,4,27],[5,24,5,25],[4,29,4,32],[5,29,5,30],[4,34,4,37],[5,34,5,35],[1,1,1,2],[5,13,5,14],[18,13,18,14],[19,13,19,14],[4,19,4,22],[5,19,5,20]]}
["Report for:!M124B10.Gus"]
["Date:","<date>"]
["Hen:","<hen>",null,null,null,"Correct Sequence",{"$f":"Start!J2","v":211},null,null,null,null,null,null,null,null,"Total Sequences in Data",{"$f":"4994-COUNTBLANK(L7:L5000)","v":175},null,null,null,null,"Total Sequences in Block Data",{"$f":"COUNTA(L7:L35)","v":29},null,null,null,"Total Sequences in Block Data",{"$f":"COUNTA(L36:L64)","v":29},null,null,null,"Total Sequences in Block Data",{"$f":"COUNTA(L65:L94)","v":30},null,null,null,"Total Sequences in Block Data",{"$f":"COUNTA(L95:L123)","v":29},null,null,null,"Total Sequences in Block Data",{"$f":"COUNTA(L124:L152)","v":29},null,null,null,"Total Sequences in Block Data",{"$f":"COUNTA(L153:L181)","v":29}]
[null,null,null,null,null,null,null,null,null,null,null,null,null,null,null,"Total Sequences in Summary",{"$f":"SUM(O7:O14)","v":175},null,null,null,null,"Total Sequences in Block Summary",{"$f":"SUM(U7:U14)","v":29},null,null,null,"Total Sequences in Block Summary",{"$f":"SUM(Z7:Z14)","v":29},null,null,null,"Total Sequences in Block Summary",{"$f":"SUM(AE7:AE14)","v":30},null,null,null,"Total Sequences in Block Summary",{"$f":"SUM(AJ7:AJ14)","v":29},null,null,null,"Total Sequences in Block Summary",{"$f":"SUM(AO7:AO14)","v":29},null,null,null,"Total Sequences in Block Summary",{"$f":"SUM(AT7:AT14)","v":29}]
[null,null,null,null,null,null,null,null,null,null,null,null,null,null,null,null,null,null,null,"Block 1",null,null,null,null,"Block 2",null,null,null,null,"Block 3",null,null,null,null,"Block 4",null,null,null,null,"Block 5",null,null,null,null,"Block 6"]
["Sequence\nComponent\n1","Time\n1","Sequence\nComponent\n2","Time\n2","Sequence\nComponent\n3","Time\n3","Sequence\nComponent\n4","Time\n4","Sequence\nComponent\n5","Time\n5","Correct?\n0=No 1=Yes","Sequence",null,"Frequency",null,"Relative Frequency","Variability",null,null,"Frequency",null,"Relative Frequency","Variability",null,"Frequency",null,"Relative Frequency","Variability",null,"Frequency",null,"Relative Frequency","Variability",null,"Frequency",null,"Relative Frequency","Variability",null,"Frequency",null,"Relative Frequency","Variability",null,"Frequency",null,"Relative Frequency","Variability"]
[21,45,22,49,24,60,null,null,null,null,0,222,null,111,{"$f":"COUNTIF($L$7:$L$500,N7)","v":0},{"$f":"O7/$Q$4","v":0},{"$f":"IF(P7=0,0,(P7*((LOG(P7))/LOG(2))))","v":0},null,null,{"$f":"N7","v":111},{"$f":"COUNTIF(L7:L35,T7)","v":0},{"$f":"U7/(W4-U11)","v":0},{"$f":"IF(V7=0,0,(V7*((LOG(V7))/LOG(2))))","v":0},null,{"$f":"N7","v":111},{"$f":"COUNTIF(L36:L64,Y7)","v":0},{"$f":"Z7/(AB4-Z11)","v":0},{"$f":"IF(AA7=0,0,(AA7*((LOG(AA7))/LOG(2))))","v":0},null,{"$f":"N7","v":111},{"$f":"COUNTIF(L65:L94,AD7)","v":0},{"$f":"AE7/(AG4-AE11)","v":0},{"$f":"IF(AF7=0,0,(AF7*((LOG(AF7))/LOG(2))))","v":0},null,{"$f":"N7","v":111},{"$f":"COUNTIF(L95:L123,AI7)","v":0},{"$f":"AJ7/(AL4-AJ11)","v":0},{"$f":"IF(AK7=0,0,(AK7*((LOG(AK7))/LOG(2))))","v":0},null,{"$f":"N7","v":111},{"$f":"COUNTIF(L124:L152,AN7)","v":0},{"$f":"AO7/(AQ4-AO11)","v":0},{"$f":"IF(AP7=0,0,(AP7*((LOG(AP7))/LOG(2))))","v":0},null,{"$f":"N7","v":111},{"$f":"COUNTIF(L153:L181,AS7)","v":0},{"$f":"AT7/(AV4-AT11)","v":0},{"$f":"IF(AU7=0,0,(AU7*((LOG(AU7))/LOG(2))))","v":0}]
[21,172,22,175,24,179,null,null,null,null,0,222,null,112,{"$f":"COUNTIF($L$7:$L$500,N8)","v":1},{"$f":"O8/$Q$4","v":5.7142857142857143E-3},{"$f":"IF(P8=0,0,(P8*((LOG(P8))/LOG(2))))","v":-4.2578349210470448E-2},null,null,{"$f":"N8","v":112},{"$f":"COUNTIF(L7:L35,T8)","v":0},{"$f":"U8/(W4-U11)","v":0},{"$f":"IF(V8=0,0,(V8*((LOG(V8))/LOG(2))))","v":0},null,{"$f":"N8","v":112},{"$f":"COUNTIF(L36:L64,Y8)","v":1},{"$f":"Z8/(AB4-Z11)","v":3.4482758620689655E-2},{"$f":"IF(AA8=0,0,(AA8*((LOG(AA8))/LOG(2))))","v":-0.16751658603888178},null,{"$f":"N8","v":112},{"$f":"COUNTIF(L65:L94,AD8)","v":0},{"$f":"AE8/(AG4-AE11)","v":0},{"$f":"IF(AF8=0,0,(AF8*((LOG(AF8))/LOG(2))))","v":0},null,{"$f":"N8","v":112},{"$f":"COUNTIF(L95:L123,AI8)","v":0},{"$f":"AJ8/(AL4-AJ11)","v":0},{"$f":"IF(AK8=0,0,(AK8*((LOG(AK8))/LOG(2))))","v":0},null,{"$f":"N8","v":112},{"$f":"COUNTIF(L124:L152,AN8)","v":0},{"$f":"AO8/(AQ4-AO11)","v":0},{"$f":"IF(AP8=0,0,(AP8*((LOG(AP8))/LOG(2))))","v":0},null,{"$f":"N8","v":112},{"$f":"COUNTIF(L153:L181,AS8)","v":0},{"$f":"AT8/(AV4-AT11)","v":0},{"$f":"IF(AU8=0,0,(AU8*((LOG(AU8))/LOG(2))))","v":0}]
[12,276,24,282,24,286,null,null,null,null,0,122,null,121,{"$f":"COUNTIF($L$7:$L$500,N9)","v":2},{"$f":"O9/$Q$4","v":1.1428571428571429E-2},{"$f":"IF(P9=0,0,(P9*((LOG(P9))/LOG(2))))","v":-7.3728126992369469E-2},null,null,{"$f":"N9","v":121},{"$f":"COUNTIF(L7:L35,T9)","v":0},{"$f":"U9/(W4-U11)","v":0},{"$f":"IF(V9=0,0,(V9*((LOG(V9))/LOG(2))))","v":0},null,{"$f":"N9","v":121},{"$f":"COUNTIF(L36:L64,Y9)","v":1},{"$f":"Z9/(AB4-Z11)","v":3.4482758620689655E-2},{"$f":"IF(AA9=0,0,(AA9*((LOG(AA9))/LOG(2))))","v":-0.16751658603888178},null,{"$f":"N9","v":121},{"$f":"COUNTIF(L65:L94,AD9)","v":0},{"$f":"AE9/(AG4-AE11)","v":0},{"$f":"IF(AF9=0,0,(AF9*((LOG(AF9))/LOG(2))))","v":0},null,{"$f":"N9","v":121},{"$f":"COUNTIF(L95:L123,AI9)","v":1},{"$f":"AJ9/(AL4-AJ11)","v":3.4482758620689655E-2},{"$f":"IF(AK9=0,0,(AK9*((LOG(AK9))/LOG(2))))","v":-0.16751658603888178},null,{"$f":"N9","v":121},{"$f":"COUNTIF(L124:L152,AN9)","v":0},{"$f":"AO9/(AQ4-AO11)","v":0},{"$f":"IF(AP9=0,0,(AP9*((LOG(AP9))/LOG(2))))","v":0},null,{"$f":"N9","v":121},{"$f":"COUNTIF(L153:L181,AS9)","v":0},{"$f":"AT9/(AV4-AT11)","v":0},{"$f":"IF(AU9=0,0,(AU9*((LOG(AU9))/LOG(2))))","v":0}]
[21,517,22,527,24,535,null,null,null,null,0,222,null,122,{"$f":"COUNTIF($L$7:$L$500,N10)","v":57},{"$f":"O10/$Q$4","v":0.32571428571428573},{"$f":"IF(P10=0,0,(P10*((LOG(P10))/LOG(2))))","v":-0.52711030038315698},null,null,{"$f":"N10","v":122},{"$f":"COUNTIF(L7:L35,T10)","v":7},{"$f":"U10/(W4-U11)","v":0.2413793103448276},{"$f":"IF(V10=0,0,(V10*((LOG(V10))/LOG(2))))","v":-0.49497870729275095},null,{"$f":"N10","v":122},{"$f":"COUNTIF(L36:L64,Y10)","v":9},{"$f":"Z10/(AB4-Z11)","v":0.31034482758620691},{"$f":"IF(AA10=0,0,(AA10*((LOG(AA10))/LOG(2))))","v":-0.52387944631611505},null,{"$f":"N10","v":122},{"$f":"COUNTIF(L65:L94,AD10)","v":11},{"$f":"AE10/(AG4-AE11)","v":0.36666666666666664},{"$f":"IF(AF10=0,0,(AF10*((LOG(AF10))/LOG(2))))","v":-0.53073495822278116},null,{"$f":"N10","v":122},{"$f":"COUNTIF(L95:L123,AI10)","v":16},{"$f":"AJ10/(AL4-AJ11)","v":0.55172413793103448},{"$f":"IF(AK10=0,0,(AK10*((LOG(AK10))/LOG(2))))","v":-0.47336882489797077},null,{"$f":"N10","v":122},{"$f":"COUNTIF(L124:L152,AN10)","v":8},{"$f":"AO10/(AQ4-AO11)","v":0.27586206896551724},{"$f":"IF(AP10=0,0,(AP10*((LOG(AP10))/LOG(2))))","v":-0.51254648141450265},null,{"$f":"N10","v":122},{"$f":"COUNTIF(L153:L181,AS10)","v":6},{"$f":"AT10/(AV4-AT11)","v":0.20689655172413793},{"$f":"IF(AU10=0,0,(AU10*((LOG(AU10))/LOG(2))))","v":-0.4702796884978791}]
[21,640,22,645,24,649,null,null,null,null,0,222,null,211,{"$f":"COUNTIF($L$7:$L$500,N11)","v":0},{"$f":"O11/$Q$4","v":0},{"$f":"IF(P11=0,0,(P11*((LOG(P11))/LOG(2))))","v":0},null,null,{"$f":"N11","v":211},{"$f":"COUNTIF(L7:L35,T11)","v":0},null,null,null,{"$f":"N11","v":211},{"$f":"COUNTIF(L36:L64,Y11)","v":0},null,null,null,{"$f":"N11","v":211},{"$f":"COUNTIF(L65:L94,AD11)","v":0},null,null,null,{"$f":"N11","v":211},{"$f":"COUNTIF(L95:L123,AI11)","v":0},null,null,null,{"$f":"N11","v":211},{"$f":"COUNTIF(L124:L152,AN11)","v":0},null,null,null,{"$f":"N11","v":211},{"$f":"COUNTIF(L153:L181,AS11)","v":0}]
[21,754,22,762,24,766,null,null,null,null,0,222,null,212,{"$f":"COUNTIF($L$7:$L$500,N12)","v":1},{"$f":"O12/$Q$4","v":5.7142857142857143E-3},{"$f":"IF(P12=0,0,(P12*((LOG(P12))/LOG(2))))","v":-4.2578349210470448E-2},null,null,{"$f":"N12","v":212},{"$f":"COUNTIF(L7:L35,T12)","v":0},{"$f":"U12/(W4-U11)","v":0},{"$f":"IF(V12=0,0,(V12*((LOG(V12))/LOG(2))))","v":0},null,{"$f":"N12","v":212},{"$f":"COUNTIF(L36:L64,Y12)","v":0},{"$f":"Z12/(AB4-Z11)","v":0},{"$f":"IF(AA12=0,0,(AA12*((LOG(AA12))/LOG(2))))","v":0},null,{"$f":"N12","v":212},{"$f":"COUNTIF(L65:L94,AD12)","v":0},{"$f":"AE12/(AG4-AE11)","v":0},{"$f":"IF(AF12=0,0,(AF12*((LOG(AF12))/LOG(2))))","v":0},null,{"$f":"N12","v":212},{"$f":"COUNTIF(L95:L123,AI12)","v":0},{"$f":"AJ12/(AL4-AJ11)","v":0},{"$f":"IF(AK12=0,0,(AK12*((LOG(AK12))/LOG(2))))","v":0},null,{"$f":"N12","v":212},{"$f":"COUNTIF(L124:L152,AN12)","v":1},{"$f":"AO12/(AQ4-AO11)","v":3.4482758620689655E-2},{"$f":"IF(AP12=0,0,(AP12*((LOG(AP12))/LOG(2))))","v":-0.16751658603888178},null,{"$f":"N12","v":212},{"$f":"COUNTIF(L153:L181,AS12)","v":0},{"$f":"AT12/(AV4-AT11)","v":0},{"$f":"IF(AU12=0,0,(AU12*((LOG(AU12))/LOG(2))))","v":0}]
[21,868,22,873,24,881,null,null,null,null,0,222,null,221,{"$f":"COUNTIF($L$7:$L$500,N13)","v":0},{"$f":"O13/$Q$4","v":0},{"$f":"IF(P13=0,0,(P13*((LOG(P13))/LOG(2))))","v":0},null,null,{"$f":"N13","v":221},{"$f":"COUNTIF(L7:L35,T13)","v":0},{"$f":"U13/(W4-U11)","v":0},{"$f":"IF(V13=0,0,(V13*((LOG(V13))/LOG(2))))","v":0},null,{"$f":"N13","v":221},{"$f":"COUNTIF(L36:L64,Y13)","v":0},{"$f":"Z13/(AB4-Z11)","v":0},{"$f":"IF(AA13=0,0,(AA13*((LOG(AA13))/LOG(2))))","v":0},null,{"$f":"N13","v":221},{"$f":"COUNTIF(L65:L94,AD13)","v":0},{"$f":"AE13/(AG4-AE11)","v":0},{"$f":"IF(AF13=0,0,(AF13*((LOG(AF13))/LOG(2))))","v":0},null,{"$f":"N13","v":221},{"$f":"COUNTIF(L95:L123,AI13)","v":0},{"$f":"AJ13/(AL4-AJ11)","v":0},{"$f":"IF(AK13=0,0,(AK13*((LOG(AK13))/LOG(2))))","v":0},null,{"$f":"N13","v":221},{"$f":"COUNTIF(L124:L152,AN13)","v":0},{"$f":"AO13/(AQ4-AO11)","v":0},{"$f":"IF(AP13=0,0,(AP13*((LOG(AP13))/LOG(2))))","v":0},null,{"$f":"N13","v":221},{"$f":"COUNTIF(L153:L181,AS13)","v":0},{"$f":"AT13/(AV4-AT11)","v":0},{"$f":"IF(AU13=0,0,(AU13*((LOG(AU13))/LOG(2))))","v":0}]
[21,993,22,999,24,1004,null,null,null,null,0,222,null,222,{"$f":"COUNTIF($L$7:$L$500,N14)","v":114},{"$f":"O14/$Q$4","v":0.65142857142857147},{"$f":"IF(P14=0,0,(P14*((LOG(P14))/LOG(2))))","v":-0.40279202933774244},null,null,{"$f":"N14","v":222},{"$f":"COUNTIF(L7:L35,T14)","v":22},{"$f":"U14/(W4-U11)","v":0.75862068965517238},{"$f":"IF(V14=0,0,(V14*((LOG(V14))/LOG(2))))","v":-0.30234780285469132},null,{"$f":"N14","v":222},{"$f":"COUNTIF(L36:L64,Y14)","v":18},{"$f":"Z14/(AB4-Z11)","v":0.62068965517241381},{"$f":"IF(AA14=0,0,(AA14*((LOG(AA14))/LOG(2))))","v":-0.4270692374598164},null,{"$f":"N14","v":222},{"$f":"COUNTIF(L65:L94,AD14)","v":19},{"$f":"AE14/(AG4-AE11)","v":0.6333333333333333},{"$f":"IF(AF14=0,0,(AF14*((LOG(AF14))/LOG(2))))","v":-0.41734328537112425},null,{"$f":"N14","v":222},{"$f":"COUNTIF(L95:L123,AI14)","v":12},{"$f":"AJ14/(AL4-AJ11)","v":0.41379310344827586},{"$f":"IF(AK14=0,0,(AK14*((LOG(AK14))/LOG(2))))","v":-0.5267662735474824},null,{"$f":"N14","v":222},{"$f":"COUNTIF(L124:L152,AN14)","v":20},{"$f":"AO14/(AQ4-AO11)","v":0.68965517241379315},{"$f":"IF(AP14=0,0,(AP14*((LOG(AP14))/LOG(2))))","v":-0.36969165533807569},null,{"$f":"N14","v":222},{"$f":"COUNTIF(L153:L181,AS14)","v":23},{"$f":"AT14/(AV4-AT11)","v":0.7931034482758621},{"$f":"IF(AU14=0,0,(AU14*((LOG(AU14))/LOG(2))))","v":-0.2652288930559607}]
[21,1107,22,1113,24,1117,null,null,null,null,0,222,null,null,null,{"$f":"SUM(P7:P14)","v":1},{"$f":"-SUM(Q7:Q14)","v":1.0887871551342099},null,null,null,null,{"$f":"SUM(V7:V14)","v":1},{"$f":"-SUM(W7:W14)","v":0.79732651014744227},null,null,null,{"$f":"SUM(AA7:AA14)","v":1},{"$f":"-SUM(AB7:AB14)","v":1.2859818558536951},null,null,null,{"$f":"SUM(AF7:AF14)","v":1},{"$f":"-SUM(AG7:AG14)","v":0.94807824359390547},null,null,null,{"$f":"SUM(AK7:AK14)","v":1},{"$f":"-SUM(AL7:AL14)","v":1.167651684484335},null,null,null,{"$f":"SUM(AP7:AP14)","v":1},{"$f":"-SUM(AQ7:AQ14)","v":1.0497547227914601},null,null,null,{"$f":"SUM(AU7:AU14)","v":1},{"$f":"-SUM(AV7:AV14)","v":0.7355085815538398}]
[21,1224,22,1228,24,1234,null,null,null,null,0,222,null,null,null,"U=",{"$f":"Q15/(LOG(Q4)/LOG(2))","v":0.14612217246203699},null,null,null,null,"U1=",{"$f":"W15/(LOG(W4)/LOG(2))","v":0.16412713655058345},null,null,null,"U2=",{"$f":"AB15/(LOG(AB4)/LOG(2))","v":0.26471529162907415},null,null,null,"U3=",{"$f":"AG15/(LOG(AG4)/LOG(2))","v":0.19321365029870435},null,null,null,"U4=",{"$f":"AL15/(LOG(AL4)/LOG(2))","v":0.240357400668191},null,null,null,"U5=",{"$f":"AQ15/(LOG(AQ4)/LOG(2))","v":0.2160886845470035},null,null,null,"U6=",{"$f":"AV15/(LOG(AV4)/LOG(2))","v":0.15140211176032506}]
[21,1336,22,1341,24,1344,null,null,null,null,0,222]
[21,1528,22,1536,24,1542,null,null,null,null,0,222]
[21,1647,22,1660,24,1667,null,null,null,null,0,222,null,"Total Target Seq"]
[21,1769,22,1782,24,1786,null,null,null,null,0,222,null,{"$f":"COUNTIF(L7:L181,G3)","v":0},null,29,29,30,29,29,29]
[21,1895,22,1902,24,1908,null,null,null,null,0,222,null,null,null,"% of reinforcement given in 6 equal intervals based on number of trials "]
[12,2002,24,2010,24,2015,null,null,null,null,0,122,null,null,null,"%_1","%_2","%_3","%_4","%_5","%_6"]
[12,2108,24,2123,24,2127,null,null,null,null,0,122,null,null,"target sequence",{"$f":"$G$3","v":211},{"$f":"$G$3","v":211},{"$f":"$G$3","v":211},{"$f":"$G$3","v":211},{"$f":"$G$3","v":211},{"$f":"$G$3","v":211}]
[21,2224,22,2229,24,2237,null,null,null,null,0,222,null,null,"total reinforcement",{"$f":"U11","v":0},{"$f":"Z11","v":0},{"$f":"AE11","v":0},{"$f":"AJ11","v":0},{"$f":"AO11","v":0},{"$f":"AT11","v":0}]
[21,2340,22,2346,24,2352,null,null,null,null,0,222,null,null,"% target"]
[12,2446,24,2454,24,2462,null,null,null,null,0,122,null,null,"CCRF"]
[21,2694,22,2702,24,2709,null,null,null,null,0,222,null,null,"% CCRf"]
[12,2802,24,2823,24,2828,null,null,null,null,0,122,null,null,"average response rate",{"$f":"F35/P20","v":129.9655172413793},{"$f":"(F64-F35)/Q20","v":146.31034482758622},{"$f":"(F94-F64)/R20","v":136.36666666666667},{"$f":"(F123-F94)/S20","v":137.41379310344828},{"$f":"(F152-F123)/T20","v":130.06896551724137},{"$f":"(F181-F152)/U20","v":139.9655172413793}]
[12,2922,24,2930,24,2935,null,null,null,null,0,122]
[12,3029,24,3034,24,3038,null,null,null,null,0,122]
[21,3217,22,3220,24,3225,null,null,null,null,0,222]
[21,3392,22,3405,24,3415,null,null,null,null,0,222]
[21,3516,22,3524,24,3531,null,null,null,null,0,222]
[21,3632,22,3638,24,3644,null,null,null,null,0,222]
[21,3748,22,3760,24,3769,null,null,null,null,0,222]
[12,4035,24,4050,24,4057,null,null,null,null,0,122]
[21,4178,22,4184,24,4198,null,null,null,null,0,222]
[21,4299,22,4306,24,4312,null,null,null,null,0,222]
[21,4413,22,4419,24,4425,null,null,null,null,0,222]
[12,4573,24,4589,24,4610,null,null,null,null,0,122]
[21,4721,22,4727,24,4734,null,null,null,null,0,222]
[12,4826,24,4840,24,4845,null,null,null,null,0,122]
[12,4939,24,4958,24,4963,null,null,null,null,0,122]
[21,5073,22,5082,24,5089,null,null,null,null,0,222]
[12,5182,13,5185,24,5192,null,null,null,null,0,112]
[21,5390,22,5396,24,5402,null,null,null,null,0,222]
[12,5498,24,5501,24,5505,null,null,null,null,0,122]
[21,5611,22,5616,24,5622,null,null,null,null,0,222]
[21,5723,22,5729,24,5736,null,null,null,null,0,222]
[12,5834,24,5846,13,5851,null,null,null,null,0,121]
[21,5951,22,5958,24,5969,null,null,null,null,0,222]
[21,6225,22,6236,24,6247,null,null,null,null,0,222]
[21,6346,22,6354,24,6360,null,null,null,null,0,222]
[21,6466,22,6470,24,6475,null,null,null,null,0,222]
[21,6575,22,6581,24,6586,null,null,null,null,0,222]
[12,6681,24,6686,24,6693,null,null,null,null,0,122]
[12,6794,24,6801,24,6807,null,null,null,null,0,122]
[21,6911,22,6918,24,6925,null,null,null,null,0,222]
[21,7027,22,7034,24,7040,null,null,null,null,0,222]
[21,7141,22,7147,24,7153,null,null,null,null,0,222]
[12,7246,24,7254,24,7266,null,null,null,null,0,122]
[21,7369,22,7373,24,7379,null,null,null,null,0,222]
[12,7625,24,7639,24,7646,null,null,null,null,0,122]
[21,8000,22,8006,24,8012,null,null,null,null,0,222]
[21,8104,22,8114,24,8118,null,null,null,null,0,222]
[21,8227,22,8233,24,8239,null,null,null,null,0,222]
[21,8430,22,8449,24,8458,null,null,null,null,0,222]
[12,8674,24,8685,24,8695,null,null,null,null,0,122]
[21,8796,22,8805,24,8811,null,null,null,null,0,222]
[21,8931,22,8937,24,8943,null,null,null,null,0,222]
[21,9073,22,9079,24,9094,null,null,null,null,0,222]
[21,9196,22,9201,24,9208,null,null,null,null,0,222]
[21,9309,22,9317,24,9323,null,null,null,null,0,222]
[12,9416,24,9429,24,9433,null,null,null,null,0,122]
[21,9535,22,9542,24,9550,null,null,null,null,0,222]
[21,9645,22,9651,24,9653,null,null,null,null,0,222]
[12,9750,24,9755,24,9762,null,null,null,null,0,122]
[12,9858,24,9861,24,9867,null,null,null,null,0,122]
[21,9971,22,9977,24,9983,null,null,null,null,0,222]
[21,10122,22,10128,24,10133,null,null,null,null,0,222]
[21,10243,22,10249,24,10254,null,null,null,null,0,222]
[21,10357,22,10362,24,10368,null,null,null,null,0,222]
[12,10712,24,10721,24,10731,null,null,null,null,0,122]
[12,10825,24,10837,24,10843,null,null,null,null,0,122]
[21,10943,22,10951,24,10958,null,null,null,null,0,222]
[12,11051,24,11060,24,11064,null,null,null,null,0,122]
[21,11169,22,11175,24,11180,null,null,null,null,0,222]
[12,11282,24,11284,24,11299,null,null,null,null,0,122]
[12,11390,24,11403,24,11408,null,null,null,null,0,122]
[12,11501,24,11511,24,11513,null,null,null,null,0,122]
[21,11615,22,11621,24,11629,null,null,null,null,0,222]
[21,11733,22,11737,24,11740,null,null,null,null,0,222]
[12,11831,24,11843,24,11855,null,null,null,null,0,122]
[21,12074,22,12095,24,12103,null,null,null,null,0,222]
[12,12198,24,12201,24,12207,null,null,null,null,0,122]
[12,12302,24,12308,24,12310,null,null,null,null,0,122]
[12,12405,24,12421,24,12433,null,null,null,null,0,122]
[12,12529,24,12532,24,12538,null,null,null,null,0,122]
[21,12637,22,12642,24,12648,null,null,null,null,0,222]
[21,12753,22,12770,24,12777,null,null,null,null,0,222]
[12,12933,24,12944,24,12950,null,null,null,null,0,122]
[12,13042,24,13045,24,13050,null,null,null,null,0,122]
[12,13143,24,13150,24,13156,null,null,null,null,0,122]
[21,13335,22,13346,24,13358,null,null,null,null,0,222]
[12,13460,24,13464,24,13468,null,null,null,null,0,122]
[21,13571,22,13582,24,13589,null,null,null,null,0,222]
[12,13687,24,13692,24,13696,null,null,null,null,0,122]
[12,13789,24,13798,24,13808,null,null,null,null,0,122]
[12,13901,24,13910,24,13915,null,null,null,null,0,122]
[21,14141,22,14147,24,14153,null,null,null,null,0,222]
[21,14248,22,14252,24,14264,null,null,null,null,0,222]
[12,14365,24,14366,24,14371,null,null,null,null,0,122]
[12,14464,24,14471,24,14476,null,null,null,null,0,122]
[12,14570,24,14576,24,14581,null,null,null,null,0,122]
[12,14673,24,14687,24,14690,null,null,null,null,0,122]
[21,14979,22,14994,24,15000,null,null,null,null,0,222]
[12,15092,24,15105,13,15112,null,null,null,null,0,121]
[21,15216,22,15220,24,15225,null,null,null,null,0,222]
[21,15385,22,15389,24,15396,null,null,null,null,0,222]
[21,15649,22,15668,24,15681,null,null,null,null,0,222]
[12,15832,24,15842,24,15847,null,null,null,null,0,122]
[21,15955,22,15960,24,15976,null,null,null,null,0,222]
[21,16078,22,16082,24,16088,null,null,null,null,0,222]
[21,16191,22,16195,24,16201,null,null,null,null,0,222]
[12,16296,24,16304,24,16309,null,null,null,null,0,122]
[21,16410,22,16413,24,16419,null,null,null,null,0,222]
[21,16581,22,16587,24,16592,null,null,null,null,0,222]
[21,16704,22,16710,24,16715,null,null,null,null,0,222]
[21,16818,22,16821,24,16827,null,null,null,null,0,222]
[21,16984,22,16993,24,17003,null,null,null,null,0,222]
[12,17135,24,17138,24,17146,null,null,null,null,0,122]
[21,17247,22,17253,24,17261,null,null,null,null,0,222]
[21,17364,22,17373,24,17388,null,null,null,null,0,222]
[21,17549,22,17555,24,17579,null,null,null,null,0,222]
[21,17864,22,17868,24,17880,null,null,null,null,0,222]
[21,17982,22,17991,24,17997,null,null,null,null,0,222]
[21,18099,22,18104,24,18109,null,null,null,null,0,222]
[21,18299,22,18303,24,18309,null,null,null,null,0,222]
[12,18402,24,18409,24,18417,null,null,null,null,0,122]
[21,18516,22,18520,24,18525,null,null,null,null,0,222]
[21,18628,22,18633,24,18639,null,null,null,null,0,222]
[21,18732,11,18736,22,18744,null,null,null,null,0,212]
[21,18765,22,18772,24,18795,null,null,null,null,0,222]
[12,18888,24,18901,24,18904,null,null,null,null,0,122]
[12,19015,24,19025,24,19030,null,null,null,null,0,122]
[21,19144,22,19158,24,19166,null,null,null,null,0,222]
[21,19269,22,19276,24,19283,null,null,null,null,0,222]
[21,19394,22,19403,24,19408,null,null,null,null,0,222]
[12,19496,24,19507,24,19513,null,null,null,null,0,122]
[21,19608,22,19614,24,19623,null,null,null,null,0,222]
[12,19717,24,19727,24,19739,null,null,null,null,0,122]
[12,19840,24,19847,24,19860,null,null,null,null,0,122]
[21,19965,22,19973,24,19980,null,null,null,null,0,222]
[21,20087,22,20091,24,20098,null,null,null,null,0,222]
[21,20203,22,20207,24,20212,null,null,null,null,0,222]
[21,20307,22,20320,24,20327,null,null,null,null,0,222]
[21,20432,22,20441,24,20450,null,null,null,null,0,222]
[21,20574,22,20585,24,20593,null,null,null,null,0,222]
[12,20697,24,20702,24,20709,null,null,null,null,0,122]
[21,20815,22,20825,24,20830,null,null,null,null,0,222]
[21,21141,22,21146,24,21160,null,null,null,null,0,222]
[21,21261,22,21267,24,21280,null,null,null,null,0,222]
[21,21382,22,21389,24,21396,null,null,null,null,0,222]
[12,21489,24,21501,24,21505,null,null,null,null,0,122]
[12,21596,24,21604,24,21610,null,null,null,null,0,122]
[21,21710,22,21718,24,21723,null,null,null,null,0,222]
[21,21944,22,21951,24,21980,null,null,null,null,0,222]
[21,22103,22,22113,24,22142,null,null,null,null,0,222]
[12,22234,24,22248,24,22254,null,null,null,null,0,122]
[21,22348,22,22352,24,22363,null,null,null,null,0,222]
[21,22463,22,22468,24,22473,null,null,null,null,0,222]
[21,22577,22,22586,24,22592,null,null,null,null,0,222]
[21,22691,22,22695,24,22699,null,null,null,null,0,222]
[21,22882,22,22884,24,22887,null,null,null,null,0,222]
[12,23241,24,23250,24,23254,null,null,null,null,0,122]
[12,23347,24,23354,24,23360,null,null,null,null,0,122]
[21,23464,22,23466,24,23470,null,null,null,null,0,222]
[21,23572,22,23576,24,23582,null,null,null,null,0,222]
[21,23682,22,23686,24,23694,null,null,null,null,0,222]
[21,23795,22,23798,24,23805,null,null,null,null,0,222]
[21,23907,22,23912,24,23919,null,null,null,null,null,222]

{"sheet":"!M125B00.Gus","index":11,"n_rows":169,"n_cols":48,"rows_kept":169,"cut":false,"hidden":false,"merged":[[4,39,4,42],[5,39,5,40],[4,44,4,47],[5,44,5,45],[4,24,4,27],[5,24,5,25],[4,29,4,32],[5,29,5,30],[4,34,4,37],[5,34,5,35],[1,1,1,2],[5,13,5,14],[18,13,18,14],[19,13,19,14],[4,19,4,22],[5,19,5,20]]}
["Report for:!M125B00.Gus"]
["Date:","<date>"]
["Hen:","<hen>",null,null,null,"Correct Sequence",{"$f":"Start!J2","v":211},null,null,null,null,null,null,null,null,"Total Sequences in Data",{"$f":"4994-COUNTBLANK(L7:L5000)","v":163},null,null,null,null,"Total Sequences in Block Data",{"$f":"COUNTA(L7:L33)","v":27},null,null,null,"Total Sequences in Block Data",{"$f":"COUNTA(L34:L60)","v":27},null,null,null,"Total Sequences in Block Data",{"$f":"COUNTA(L61:L88)","v":28},null,null,null,"Total Sequences in Block Data",{"$f":"COUNTA(L89:L115)","v":27},null,null,null,"Total Sequences in Block Data",{"$f":"COUNTA(L116:L142)","v":27},null,null,null,"Total Sequences in Block Data",{"$f":"COUNTA(L143:L169)","v":27}]
[null,null,null,null,null,null,null,null,null,null,null,null,null,null,null,"Total Sequences in Summary",{"$f":"SUM(O7:O14)","v":163},null,null,null,null,"Total Sequences in Block Summary",{"$f":"SUM(U7:U14)","v":27},null,null,null,"Total Sequences in Block Summary",{"$f":"SUM(Z7:Z14)","v":27},null,null,null,"Total Sequences in Block Summary",{"$f":"SUM(AE7:AE14)","v":28},null,null,null,"Total Sequences in Block Summary",{"$f":"SUM(AJ7:AJ14)","v":27},null,null,null,"Total Sequences in Block Summary",{"$f":"SUM(AO7:AO14)","v":27},null,null,null,"Total Sequences in Block Summary",{"$f":"SUM(AT7:AT14)","v":27}]
[null,null,null,null,null,null,null,null,null,null,null,null,null,null,null,null,null,null,null,"Block 1",null,null,null,null,"Block 2",null,null,null,null,"Block 3",null,null,null,null,"Block 4",null,null,null,null,"Block 5",null,null,null,null,"Block 6"]
["Sequence\nComponent\n1","Time\n1","Sequence\nComponent\n2","Time\n2","Sequence\nComponent\n3","Time\n3","Sequence\nComponent\n4","Time\n4","Sequence\nComponent\n5","Time\n5","Correct?\n0=No 1=Yes","Sequence",null,"Frequency",null,"Relative Frequency","Variability",null,null,"Frequency",null,"Relative Frequency","Variability",null,"Frequency",null,"Relative Frequency","Variability",null,"Frequency",null,"Relative Frequency","Variability",null,"Frequency",null,"Relative Frequency","Variability",null,"Frequency",null,"Relative Frequency","Variability",null,"Frequency",null,"Relative Frequency","Variability"]
[21,18,22,23,24,30,null,null,null,null,0,222,null,111,{"$f":"COUNTIF($L$7:$L$500,N7)","v":0},{"$f":"O7/$Q$4","v":0},{"$f":"IF(P7=0,0,(P7*((LOG(P7))/LOG(2))))","v":0},null,null,{"$f":"N7","v":111},{"$f":"COUNTIF(L7:L33,T7)","v":0},{"$f":"U7/(W4-U11)","v":0},{"$f":"IF(V7=0,0,(V7*((LOG(V7))/LOG(2))))","v":0},null,{"$f":"N7","v":111},{"$f":"COUNTIF(L34:L60,Y7)","v":0},{"$f":"Z7/(AB4-Z11)","v":0},{"$f":"IF(AA7=0,0,(AA7*((LOG(AA7))/LOG(2))))","v":0},null,{"$f":"N7","v":111},{"$f":"COUNTIF(L61:L88,AD7)","v":0},{"$f":"AE7/(AG4-AE11)","v":0},{"$f":"IF(AF7=0,0,(AF7*((LOG(AF7))/LOG(2))))","v":0},null,{"$f":"N7","v":111},{"$f":"COUNTIF(L89:L115,AI7)","v":0},{"$f":"AJ7/(AL4-AJ11)","v":0},{"$f":"IF(AK7=0,0,(AK7*((LOG(AK7))/LOG(2))))","v":0},null,{"$f":"N7","v":111},{"$f":"COUNTIF(L116:L142,AN7)","v":0},{"$f":"AO7/(AQ4-AO11)","v":0},{"$f":"IF(AP7=0,0,(AP7*((LOG(AP7))/LOG(2))))","v":0},null,{"$f":"N7","v":111},{"$f":"COUNTIF(L143:L169,AS7)","v":0},{"$f":"AT7/(AV4-AT11)","v":0},{"$f":"IF(AU7=0,0,(AU7*((LOG(AU7))/LOG(2))))","v":0}]
[21,129,22,136,24,140,null,null,null,null,0,222,null,112,{"$f":"COUNTIF($L$7:$L$500,N8)","v":4},{"$f":"O8/$Q$4","v":2.4539877300613498E-2},{"$f":"IF(P8=0,0,(P8*((LOG(P8))/LOG(2))))","v":-0.13125713261916755},null,null,{"$f":"N8","v":112},{"$f":"COUNTIF(L7:L33,T8)","v":1},{"$f":"U8/(W4-U11)","v":3.7037037037037035E-2},{"$f":"IF(V8=0,0,(V8*((LOG(V8))/LOG(2))))","v":-0.1761069445245729},null,{"$f":"N8","v":112},{"$f":"COUNTIF(L34:L60,Y8)","v":1},{"$f":"Z8/(AB4-Z11)","v":3.7037037037037035E-2},{"$f":"IF(AA8=0,0,(AA8*((LOG(AA8))/LOG(2))))","v":-0.1761069445245729},null,{"$f":"N8","v":112},{"$f":"COUNTIF(L61:L88,AD8)","v":0},{"$f":"AE8/(AG4-AE11)","v":0},{"$f":"IF(AF8=0,0,(AF8*((LOG(AF8))/LOG(2))))","v":0},null,{"$f":"N8","v":112},{"$f":"COUNTIF(L89:L115,AI8)","v":0},{"$f":"AJ8/(AL4-AJ11)","v":0},{"$f":"IF(AK8=0,0,(AK8*((LOG(AK8))/LOG(2))))","v":0},null,{"$f":"N8","v":112},{"$f":"COUNTIF(L116:L142,AN8)","v":2},{"$f":"AO8/(AQ4-AO11)","v":7.407407407407407E-2},{"$f":"IF(AP8=0,0,(AP8*((LOG(AP8))/LOG(2))))","v":-0.27813981497507173},null,{"$f":"N8","v":112},{"$f":"COUNTIF(L143:L169,AS8)","v":0},{"$f":"AT8/(AV4-AT11)","v":0},{"$f":"IF(AU8=0,0,(AU8*((LOG(AU8))/LOG(2))))","v":0}]
[21,234,22,238,24,243,null,null,null,null,0,222,null,121,{"$f":"COUNTIF($L$7:$L$500,N9)","v":0},{"$f":"O9/$Q$4","v":0},{"$f":"IF(P9=0,0,(P9*((LOG(P9))/LOG(2))))","v":0},null,null,{"$f":"N9","v":121},{"$f":"COUNTIF(L7:L33,T9)","v":0},{"$f":"U9/(W4-U11)","v":0},{"$f":"IF(V9=0,0,(V9*((LOG(V9))/LOG(2))))","v":0},null,{"$f":"N9","v":121},{"$f":"COUNTIF(L34:L60,Y9)","v":0},{"$f":"Z9/(AB4-Z11)","v":0},{"$f":"IF(AA9=0,0,(AA9*((LOG(AA9))/LOG(2))))","v":0},null,{"$f":"N9","v":121},{"$f":"COUNTIF(L61:L88,AD9)","v":0},{"$f":"AE9/(AG4-AE11)","v":0},{"$f":"IF(AF9=0,0,(AF9*((LOG(AF9))/LOG(2))))","v":0},null,{"$f":"N9","v":121},{"$f":"COUNTIF(L89:L115,AI9)","v":0},{"$f":"AJ9/(AL4-AJ11)","v":0},{"$f":"IF(AK9=0,0,(AK9*((LOG(AK9))/LOG(2))))","v":0},null,{"$f":"N9","v":121},{"$f":"COUNTIF(L116:L142,AN9)","v":0},{"$f":"AO9/(AQ4-AO11)","v":0},{"$f":"IF(AP9=0,0,(AP9*((LOG(AP9))/LOG(2))))","v":0},null,{"$f":"N9","v":121},{"$f":"COUNTIF(L143:L169,AS9)","v":0},{"$f":"AT9/(AV4-AT11)","v":0},{"$f":"IF(AU9=0,0,(AU9*((LOG(AU9))/LOG(2))))","v":0}]
[21,742,22,750,24,753,null,null,null,null,0,222,null,122,{"$f":"COUNTIF($L$7:$L$500,N10)","v":61},{"$f":"O10/$Q$4","v":0.37423312883435583},{"$f":"IF(P10=0,0,(P10*((LOG(P10))/LOG(2))))","v":-0.5306591399801206},null,null,{"$f":"N10","v":122},{"$f":"COUNTIF(L7:L33,T10)","v":4},{"$f":"U10/(W4-U11)","v":0.14814814814814814},{"$f":"IF(V10=0,0,(V10*((LOG(V10))/LOG(2))))","v":-0.40813148180199532},null,{"$f":"N10","v":122},{"$f":"COUNTIF(L34:L60,Y10)","v":9},{"$f":"Z10/(AB4-Z11)","v":0.33333333333333331},{"$f":"IF(AA10=0,0,(AA10*((LOG(AA10))/LOG(2))))","v":-0.52832083357371862},null,{"$f":"N10","v":122},{"$f":"COUNTIF(L61:L88,AD10)","v":12},{"$f":"AE10/(AG4-AE11)","v":0.42857142857142855},{"$f":"IF(AF10=0,0,(AF10*((LOG(AF10))/LOG(2))))","v":-0.52388246628704915},null,{"$f":"N10","v":122},{"$f":"COUNTIF(L89:L115,AI10)","v":9},{"$f":"AJ10/(AL4-AJ11)","v":0.33333333333333331},{"$f":"IF(AK10=0,0,(AK10*((LOG(AK10))/LOG(2))))","v":-0.52832083357371862},null,{"$f":"N10","v":122},{"$f":"COUNTIF(L116:L142,AN10)","v":15},{"$f":"AO10/(AQ4-AO11)","v":0.55555555555555558},{"$f":"IF(AP10=0,0,(AP10*((LOG(AP10))/LOG(2))))","v":-0.4711093925305278},null,{"$f":"N10","v":122},{"$f":"COUNTIF(L143:L169,AS10)","v":12},{"$f":"AT10/(AV4-AT11)","v":0.44444444444444442},{"$f":"IF(AU10=0,0,(AU10*((LOG(AU10))/LOG(2))))","v":-0.51996666730769447}]
[21,941,22,947,24,954,null,null,null,null,0,222,null,211,{"$f":"COUNTIF($L$7:$L$500,N11)","v":0},{"$f":"O11/$Q$4","v":0},{"$f":"IF(P11=0,0,(P11*((LOG(P11))/LOG(2))))","v":0},null,null,{"$f":"N11","v":211},{"$f":"COUNTIF(L7:L33,T11)","v":0},null,null,null,{"$f":"N11","v":211},{"$f":"COUNTIF(L34:L60,Y11)","v":0},null,null,null,{"$f":"N11","v":211},{"$f":"COUNTIF(L61:L88,AD11)","v":0},null,null,null,{"$f":"N11","v":211},{"$f":"COUNTIF(L89:L115,AI11)","v":0},null,null,null,{"$f":"N11","v":211},{"$f":"COUNTIF(L116:L142,AN11)","v":0},null,null,null,{"$f":"N11","v":211},{"$f":"COUNTIF(L143:L169,AS11)","v":0}]
[21,1059,22,1074,24,1080,null,null,null,null,0,222,null,212,{"$f":"COUNTIF($L$7:$L$500,N12)","v":1},{"$f":"O12/$Q$4","v":6.1349693251533744E-3},{"$f":"IF(P12=0,0,(P12*((LOG(P12))/LOG(2))))","v":-4.5084221805098634E-2},null,null,{"$f":"N12","v":212},{"$f":"COUNTIF(L7:L33,T12)","v":0},{"$f":"U12/(W4-U11)","v":0},{"$f":"IF(V12=0,0,(V12*((LOG(V12))/LOG(2))))","v":0},null,{"$f":"N12","v":212},{"$f":"COUNTIF(L34:L60,Y12)","v":0},{"$f":"Z12/(AB4-Z11)","v":0},{"$f":"IF(AA12=0,0,(AA12*((LOG(AA12))/LOG(2))))","v":0},null,{"$f":"N12","v":212},{"$f":"COUNTIF(L61:L88,AD12)","v":0},{"$f":"AE12/(AG4-AE11)","v":0},{"$f":"IF(AF12=0,0,(AF12*((LOG(AF12))/LOG(2))))","v":0},null,{"$f":"N12","v":212},{"$f":"COUNTIF(L89:L115,AI12)","v":0},{"$f":"AJ12/(AL4-AJ11)","v":0},{"$f":"IF(AK12=0,0,(AK12*((LOG(AK12))/LOG(2))))","v":0},null,{"$f":"N12","v":212},{"$f":"COUNTIF(L116:L142,AN12)","v":0},{"$f":"AO12/(AQ4-AO11)","v":0},{"$f":"IF(AP12=0,0,(AP12*((LOG(AP12))/LOG(2))))","v":0},null,{"$f":"N12","v":212},{"$f":"COUNTIF(L143:L169,AS12)","v":1},{"$f":"AT12/(AV4-AT11)","v":3.7037037037037035E-2},{"$f":"IF(AU12=0,0,(AU12*((LOG(AU12))/LOG(2))))","v":-0.1761069445245729}]
[21,1186,22,1193,24,1199,null,null,null,null,0,222,null,221,{"$f":"COUNTIF($L$7:$L$500,N13)","v":0},{"$f":"O13/$Q$4","v":0},{"$f":"IF(P13=0,0,(P13*((LOG(P13))/LOG(2))))","v":0},null,null,{"$f":"N13","v":221},{"$f":"COUNTIF(L7:L33,T13)","v":0},{"$f":"U13/(W4-U11)","v":0},{"$f":"IF(V13=0,0,(V13*((LOG(V13))/LOG(2))))","v":0},null,{"$f":"N13","v":221},{"$f":"COUNTIF(L34:L60,Y13)","v":0},{"$f":"Z13/(AB4-Z11)","v":0},{"$f":"IF(AA13=0,0,(AA13*((LOG(AA13))/LOG(2))))","v":0},null,{"$f":"N13","v":221},{"$f":"COUNTIF(L61:L88,AD13)","v":0},{"$f":"AE13/(AG4-AE11)","v":0},{"$f":"IF(AF13=0,0,(AF13*((LOG(AF13))/LOG(2))))","v":0},null,{"$f":"N13","v":221},{"$f":"COUNTIF(L89:L115,AI13)","v":0},{"$f":"AJ13/(AL4-AJ11)","v":0},{"$f":"IF(AK13=0,0,(AK13*((LOG(AK13))/LOG(2))))","v":0},null,{"$f":"N13","v":221},{"$f":"COUNTIF(L116:L142,AN13)","v":0},{"$f":"AO13/(AQ4-AO11)","v":0},{"$f":"IF(AP13=0,0,(AP13*((LOG(AP13))/LOG(2))))","v":0},null,{"$f":"N13","v":221},{"$f":"COUNTIF(L143:L169,AS13)","v":0},{"$f":"AT13/(AV4-AT11)","v":0},{"$f":"IF(AU13=0,0,(AU13*((LOG(AU13))/LOG(2))))","v":0}]
[21,1301,22,1308,24,1316,null,null,null,null,0,222,null,222,{"$f":"COUNTIF($L$7:$L$500,N14)","v":97},{"$f":"O14/$Q$4","v":0.59509202453987731},{"$f":"IF(P14=0,0,(P14*((LOG(P14))/LOG(2))))","v":-0.44561402005069406},null,null,{"$f":"N14","v":222},{"$f":"COUNTIF(L7:L33,T14)","v":22},{"$f":"U14/(W4-U11)","v":0.81481481481481477},{"$f":"IF(V14=0,0,(V14*((LOG(V14))/LOG(2))))","v":-0.24074183102132479},null,{"$f":"N14","v":222},{"$f":"COUNTIF(L34:L60,Y14)","v":17},{"$f":"Z14/(AB4-Z11)","v":0.62962962962962965},{"$f":"IF(AA14=0,0,(AA14*((LOG(AA14))/LOG(2))))","v":-0.42023034205641457},null,{"$f":"N14","v":222},{"$f":"COUNTIF(L61:L88,AD14)","v":16},{"$f":"AE14/(AG4-AE11)","v":0.5714285714285714},{"$f":"IF(AF14=0,0,(AF14*((LOG(AF14))/LOG(2))))","v":-0.46134566974720237},null,{"$f":"N14","v":222},{"$f":"COUNTIF(L89:L115,AI14)","v":18},{"$f":"AJ14/(AL4-AJ11)","v":0.66666666666666663},{"$f":"IF(AK14=0,0,(AK14*((LOG(AK14))/LOG(2))))","v":-0.38997500048077083},null,{"$f":"N14","v":222},{"$f":"COUNTIF(L116:L142,AN14)","v":10},{"$f":"AO14/(AQ4-AO11)","v":0.37037037037037035},{"$f":"IF(AP14=0,0,(AP14*((LOG(AP14))/LOG(2))))","v":-0.53072570639855787},null,{"$f":"N14","v":222},{"$f":"COUNTIF(L143:L169,AS14)","v":14},{"$f":"AT14/(AV4-AT11)","v":0.51851851851851849},{"$f":"IF(AU14=0,0,(AU14*((LOG(AU14))/LOG(2))))","v":-0.49131318968452231}]
[12,1409,24,1416,24,1422,null,null,null,null,0,122,null,null,null,{"$f":"SUM(P7:P14)","v":1},{"$f":"-SUM(Q7:Q14)","v":1.152614514455081},null,null,null,null,{"$f":"SUM(V7:V14)","v":1},{"$f":"-SUM(W7:W14)","v":0.82498025734789304},null,null,null,{"$f":"SUM(AA7:AA14)","v":1},{"$f":"-SUM(AB7:AB14)","v":1.1246581201547061},null,null,null,{"$f":"SUM(AF7:AF14)","v":1},{"$f":"-SUM(AG7:AG14)","v":0.98522813603425152},null,null,null,{"$f":"SUM(AK7:AK14)","v":1},{"$f":"-SUM(AL7:AL14)","v":0.91829583405448945},null,null,null,{"$f":"SUM(AP7:AP14)","v":1},{"$f":"-SUM(AQ7:AQ14)","v":1.2799749139041574},null,null,null,{"$f":"SUM(AU7:AU14)","v":1},{"$f":"-SUM(AV7:AV14)","v":1.1873868015167897}]
[21,1680,22,1687,24,1719,null,null,null,null,0,222,null,null,null,"U=",{"$f":"Q15/(LOG(Q4)/LOG(2))","v":0.15684544185941288},null,null,null,null,"U1=",{"$f":"W15/(LOG(W4)/LOG(2))","v":0.17350153015660791},null,null,null,"U2=",{"$f":"AB15/(LOG(AB4)/LOG(2))","v":0.23652675686711577},null,null,null,"U3=",{"$f":"AG15/(LOG(AG4)/LOG(2))","v":0.20494183433674218},null,null,null,"U4=",{"$f":"AL15/(LOG(AL4)/LOG(2))","v":0.19312672142856502},null,null,null,"U5=",{"$f":"AQ15/(LOG(AQ4)/LOG(2))","v":0.26919141900239918},null,null,null,"U6=",{"$f":"AV15/(LOG(AV4)/LOG(2))","v":0.24971922069166305}]
[12,1813,24,1826,24,1829,null,null,null,null,0,122]
[12,1923,24,1930,24,1940,null,null,null,null,0,122]
[21,2224,22,2232,24,2260,null,null,null,null,0,222,null,"Total Target Seq"]
[21,2363,22,2368,24,2374,null,null,null,null,0,222,null,{"$f":"COUNTIF(L7:L169,G3)","v":0},null,27,27,28,27,27,27]
[21,2489,22,2494,24,2501,null,null,null,null,0,222,null,null,null,"% of reinforcement given in 6 equal intervals based on number of trials "]
[21,2742,22,2748,24,2771,null,null,null,null,0,222,null,null,null,"%_1","%_2","%_3","%_4","%_5","%_6"]
[21,2871,22,2875,24,2880,null,null,null,null,0,222,null,null,"target sequence",{"$f":"$G$3","v":211},{"$f":"$G$3","v":211},{"$f":"$G$3","v":211},{"$f":"$G$3","v":211},{"$f":"$G$3","v":211},{"$f":"$G$3","v":211}]
[21,2982,22,2989,24,2994,null,null,null,null,0,222,null,null,"total reinforcement",{"$f":"U11","v":0},{"$f":"Z11","v":0},{"$f":"AE11","v":0},{"$f":"AJ11","v":0},{"$f":"AO11","v":0},{"$f":"AT11","v":0}]
[21,3102,22,3104,24,3108,null,null,null,null,0,222,null,null,"% target"]
[21,3215,22,3222,24,3229,null,null,null,null,0,222,null,null,"CCRF"]
[21,3451,22,3460,24,3466,null,null,null,null,0,222,null,null,"% CCRf"]
[21,3568,22,3576,24,3588,null,null,null,null,0,222,null,null,"average response rate",{"$f":"F33/P20","v":153.7037037037037},{"$f":"(F60-F33)/Q20","v":161.55555555555554},{"$f":"(F88-F60)/R20","v":122.53571428571429},{"$f":"(F115-F88)/S20","v":162.74074074074073},{"$f":"(F142-F115)/T20","v":143.37037037037038},{"$f":"(F169-F142)/U20","v":137.59259259259258}]
[21,3693,22,3696,24,3700,null,null,null,null,0,222]
[21,3800,22,3805,24,3811,null,null,null,null,0,222]
[21,3920,22,3923,24,3927,null,null,null,null,0,222]
[12,4019,13,4027,24,4034,null,null,null,null,0,112]
[12,4127,24,4139,24,4150,null,null,null,null,0,122]
[21,4721,22,4729,24,4736,null,null,null,null,0,222]
[21,4996,22,5007,24,5025,null,null,null,null,0,222]
[21,5128,22,5132,24,5136,null,null,null,null,0,222]
[21,5237,22,5243,24,5249,null,null,null,null,0,222]
[12,5343,13,5345,24,5349,null,null,null,null,0,112]
[21,5448,22,5458,24,5464,null,null,null,null,0,222]
[12,5557,24,5564,24,5578,null,null,null,null,0,122]
[21,5683,22,5689,24,5694,null,null,null,null,0,222]
[21,5958,22,6006,24,6013,null,null,null,null,0,222]
[12,6111,24,6120,24,6128,null,null,null,null,0,122]
[12,6223,24,6228,24,6232,null,null,null,null,0,122]
[12,6326,24,6335,24,6338,null,null,null,null,0,122]
[21,6441,22,6445,24,6449,null,null,null,null,0,222]
[12,6547,24,6549,24,6555,null,null,null,null,0,122]
[21,6658,22,6663,24,6668,null,null,null,null,0,222]
[21,6770,22,6776,24,6784,null,null,null,null,0,222]
[21,7130,22,7139,24,7145,null,null,null,null,0,222]
[12,7240,24,7243,24,7253,null,null,null,null,0,122]
[12,7348,24,7354,24,7364,null,null,null,null,0,122]
[21,7463,22,7472,24,7479,null,null,null,null,0,222]
[21,7581,22,7586,24,7592,null,null,null,null,0,222]
[12,7733,24,7746,24,7753,null,null,null,null,0,122]
[21,7856,22,7860,24,7868,null,null,null,null,0,222]
[21,8107,22,8118,24,8124,null,null,null,null,0,222]
[12,8216,24,8225,24,8233,null,null,null,null,0,122]
[21,8387,22,8392,24,8402,null,null,null,null,0,222]
[21,8504,22,8507,24,8512,null,null,null,null,0,222]
[21,8615,22,8618,24,8623,null,null,null,null,0,222]
[12,8717,24,8725,24,8736,null,null,null,null,0,122]
[21,8842,22,8853,24,8859,null,null,null,null,0,222]
[21,8964,22,8968,24,8977,null,null,null,null,0,222]
[21,9080,22,9084,24,9092,null,null,null,null,0,222]
[21,9192,22,9199,24,9203,null,null,null,null,0,222]
[21,9297,22,9304,24,9311,null,null,null,null,0,222]
[12,9403,24,9416,24,9426,null,null,null,null,0,122]
[12,9520,24,9530,24,9534,null,null,null,null,0,122]
[21,9637,22,9648,24,9655,null,null,null,null,0,222]
[21,9760,22,9765,24,9773,null,null,null,null,0,222]
[12,9875,24,9883,24,9887,null,null,null,null,0,122]
[21,9990,22,9994,24,9999,null,null,null,null,0,222]
[12,10097,24,10100,24,10104,null,null,null,null,0,122]
[12,10200,24,10208,24,10210,null,null,null,null,0,122]
[12,10304,24,10313,24,10318,null,null,null,null,0,122]
[21,10426,22,10432,24,10439,null,null,null,null,0,222]
[12,10596,24,10622,24,10627,null,null,null,null,0,122]
[21,10912,22,10920,24,10926,null,null,null,null,0,222]
[21,11027,22,11033,24,11039,null,null,null,null,0,222]
[21,11143,22,11149,24,11157,null,null,null,null,0,222]
[21,11260,22,11268,24,11272,null,null,null,null,0,222]
[12,11364,24,11379,24,11387,null,null,null,null,0,122]
[21,11484,22,11486,24,11490,null,null,null,null,0,222]
[12,11583,24,11591,24,11608,null,null,null,null,0,122]
[12,11702,24,11712,24,11717,null,null,null,null,0,122]
[12,11817,24,11821,24,11826,null,null,null,null,0,122]
[21,11931,22,11935,24,11943,null,null,null,null,0,222]
[21,12041,22,12045,24,12052,null,null,null,null,0,222]
[12,12149,24,12155,24,12157,null,null,null,null,0,122]
[21,12526,22,12532,24,12538,null,null,null,null,0,222]
[21,12668,22,12674,24,12689,null,null,null,null,0,222]
[21,12790,22,12798,24,12804,null,null,null,null,0,222]
[12,12905,24,12909,24,12922,null,null,null,null,0,122]
[21,13024,22,13030,24,13036,null,null,null,null,0,222]
[12,13128,24,13136,24,13148,null,null,null,null,0,122]
[21,13249,22,13254,24,13259,null,null,null,null,0,222]
[21,13620,22,13627,24,13634,null,null,null,null,0,222]
[12,13726,24,13731,24,13740,null,null,null,null,0,122]
[21,13845,22,13849,24,13853,null,null,null,null,0,222]
[21,13956,22,13961,24,13967,null,null,null,null,0,222]
[21,14338,22,14344,24,14355,null,null,null,null,0,222]
[21,14471,22,14479,24,14488,null,null,null,null,0,222]
[21,14592,22,14596,24,14599,null,null,null,null,0,222]
[21,14702,22,14713,24,14728,null,null,null,null,0,222]
[21,14827,22,14837,24,14843,null,null,null,null,0,222]
[21,14946,22,14950,24,14959,null,null,null,null,0,222]
[21,15062,22,15068,24,15074,null,null,null,null,0,222]
[21,15326,22,15332,24,15342,null,null,null,null,0,222]
[12,15437,24,15452,24,15463,null,null,null,null,0,122]
[12,15636,24,15654,24,15659,null,null,null,null,0,122]
[21,15761,22,15776,24,15782,null,null,null,null,0,222]
[12,15879,24,15884,24,15888,null,null,null,null,0,122]
[12,15984,24,15998,24,16003,null,null,null,null,0,122]
[12,16313,24,16323,24,16337,null,null,null,null,0,122]
[21,16434,22,16440,24,16447,null,null,null,null,0,222]
[21,16553,22,16559,24,16565,null,null,null,null,0,222]
[21,16668,22,16674,24,16679,null,null,null,null,0,222]
[21,16892,22,16894,24,16900,null,null,null,null,0,222]
[12,16994,24,17002,24,17006,null,null,null,null,0,122]
[21,17108,22,17113,24,17119,null,null,null,null,0,222]
[12,17211,24,17224,24,17235,null,null,null,null,0,122]
[12,17329,24,17343,24,17351,null,null,null,null,0,122]
[12,17445,24,17461,24,17489,null,null,null,null,0,122]
[12,17581,13,17584,24,17591,null,null,null,null,0,112]
[12,17686,24,17694,24,17701,null,null,null,null,0,122]
[21,18074,22,18077,24,18081,null,null,null,null,0,222]
[12,18174,24,18181,24,18197,null,null,null,null,0,122]
[12,18290,24,18298,24,18311,null,null,null,null,0,122]
[12,18411,24,18419,24,18423,null,null,null,null,0,122]
[12,18517,24,18522,24,18527,null,null,null,null,0,122]
[12,18623,24,18630,24,18638,null,null,null,null,0,122]
[21,18740,22,18748,24,18754,null,null,null,null,0,222]
[12,18846,13,18857,24,18860,null,null,null,null,0,112]
[21,19112,22,19120,24,19126,null,null,null,null,0,222]
[12,19423,24,19433,24,19435,null,null,null,null,0,122]
[21,19532,22,19536,24,19555,null,null,null,null,0,222]
[12,19653,24,19662,24,19668,null,null,null,null,0,122]
[12,19761,24,19770,24,19773,null,null,null,null,0,122]
[21,19976,22,19985,24,19990,null,null,null,null,0,222]
[12,20083,24,20093,24,20098,null,null,null,null,0,122]
[12,20192,24,20202,24,20208,null,null,null,null,0,122]
[21,20313,22,20319,24,20326,null,null,null,null,0,222]
[12,20427,24,20432,24,20441,null,null,null,null,0,122]
[12,20543,24,20548,24,20554,null,null,null,null,0,122]
[21,20646,11,20649,22,20661,null,null,null,null,0,212]
[21,20682,22,20688,24,20696,null,null,null,null,0,222]
[12,20791,24,20798,24,20804,null,null,null,null,0,122]
[21,20901,22,20927,24,20935,null,null,null,null,0,222]
[21,21042,22,21050,24,21057,null,null,null,null,0,222]
[21,21162,22,21167,24,21170,null,null,null,null,0,222]
[21,21347,22,21353,24,21359,null,null,null,null,0,222]
[21,21461,22,21464,24,21470,null,null,null,null,0,222]
[21,21568,22,21578,24,21582,null,null,null,null,0,222]
[12,21678,24,21692,24,21710,null,null,null,null,0,122]
[12,21811,24,21822,24,21824,null,null,null,null,0,122]
[12,21922,24,21935,24,21941,null,null,null,null,0,122]
[21,22311,22,22316,24,22323,null,null,null,null,0,222]
[12,22616,24,22627,24,22631,null,null,null,null,0,122]
[21,22728,22,22735,24,22740,null,null,null,null,0,222]
[12,22833,24,22845,24,22851,null,null,null,null,0,122]
[12,22973,24,22987,24,22992,null,null,null,null,0,122]
[12,23101,24,23113,24,23120,null,null,null,null,0,122]
[12,23213,24,23221,24,23228,null,null,null,null,0,122]
[12,23325,24,23330,24,23339,null,null,null,null,0,122]
[21,23442,22,23444,24,23448,null,null,null,null,0,222]
[21,23553,22,23555,24,23560,null,null,null,null,0,222]
[21,23776,22,23782,24,23795,null,null,null,null,0,222]
[21,23900,22,23909,24,23923,null,null,null,null,null,222]

{"sheet":"!M126A30.Gus","index":12,"n_rows":122,"n_cols":48,"rows_kept":122,"cut":false,"hidden":false,"merged":[[4,39,4,42],[5,39,5,40],[4,44,4,47],[5,44,5,45],[4,24,4,27],[5,24,5,25],[4,29,4,32],[5,29,5,30],[4,34,4,37],[5,34,5,35],[1,1,1,2],[5,13,5,14],[18,13,18,14],[19,13,19,14],[4,19,4,22],[5,19,5,20]]}
["Report for:!M126A30.Gus"]
["Date:","<date>"]
["Hen:","<hen>",null,null,null,"Correct Sequence",{"$f":"Start!J2","v":211},null,null,null,null,null,null,null,null,"Total Sequences in Data",{"$f":"4994-COUNTBLANK(L7:L5000)","v":116},null,null,null,null,"Total Sequences in Block Data",{"$f":"COUNTA(L7:L25)","v":19},null,null,null,"Total Sequences in Block Data",{"$f":"COUNTA(L26:L45)","v":20},null,null,null,"Total Sequences in Block Data",{"$f":"COUNTA(L46:L64)","v":19},null,null,null,"Total Sequences in Block Data",{"$f":"COUNTA(L65:L83)","v":19},null,null,null,"Total Sequences in Block Data",{"$f":"COUNTA(L84:L103)","v":20},null,null,null,"Total Sequences in Block Data",{"$f":"COUNTA(L104:L122)","v":19}]
[null,null,null,null,null,null,null,null,null,null,null,null,null,null,null,"Total Sequences in Summary",{"$f":"SUM(O7:O14)","v":116},null,null,null,null,"Total Sequences in Block Summary",{"$f":"SUM(U7:U14)","v":19},null,null,null,"Total Sequences in Block Summary",{"$f":"SUM(Z7:Z14)","v":20},null,null,null,"Total Sequences in Block Summary",{"$f":"SUM(AE7:AE14)","v":19},null,null,null,"Total Sequences in Block Summary",{"$f":"SUM(AJ7:AJ14)","v":19},null,null,null,"Total Sequences in Block Summary",{"$f":"SUM(AO7:AO14)","v":20},null,null,null,"Total Sequences in Block Summary",{"$f":"SUM(AT7:AT14)","v":19}]
[null,null,null,null,null,null,null,null,null,null,null,null,null,null,null,null,null,null,null,"Block 1",null,null,null,null,"Block 2",null,null,null,null,"Block 3",null,null,null,null,"Block 4",null,null,null,null,"Block 5",null,null,null,null,"Block 6"]
["Sequence\nComponent\n1","Time\n1","Sequence\nComponent\n2","Time\n2","Sequence\nComponent\n3","Time\n3","Sequence\nComponent\n4","Time\n4","Sequence\nComponent\n5","Time\n5","Correct?\n0=No 1=Yes","Sequence",null,"Frequency",null,"Relative Frequency","Variability",null,null,"Frequency",null,"Relative Frequency","Variability",null,"Frequency",null,"Relative Frequency","Variability",null,"Frequency",null,"Relative Frequency","Variability",null,"Frequency",null,"Relative Frequency","Variability",null,"Frequency",null,"Relative Frequency","Variability",null,"Frequency",null,"Relative Frequency","Variability"]
[21,76,22,81,24,107,null,null,null,null,0,222,null,111,{"$f":"COUNTIF($L$7:$L$500,N7)","v":0},{"$f":"O7/$Q$4","v":0},{"$f":"IF(P7=0,0,(P7*((LOG(P7))/LOG(2))))","v":0},null,null,{"$f":"N7","v":111},{"$f":"COUNTIF(L7:L25,T7)","v":0},{"$f":"U7/(W4-U11)","v":0},{"$f":"IF(V7=0,0,(V7*((LOG(V7))/LOG(2))))","v":0},null,{"$f":"N7","v":111},{"$f":"COUNTIF(L26:L45,Y7)","v":0},{"$f":"Z7/(AB4-Z11)","v":0},{"$f":"IF(AA7=0,0,(AA7*((LOG(AA7))/LOG(2))))","v":0},null,{"$f":"N7","v":111},{"$f":"COUNTIF(L46:L64,AD7)","v":0},{"$f":"AE7/(AG4-AE11)","v":0},{"$f":"IF(AF7=0,0,(AF7*((LOG(AF7))/LOG(2))))","v":0},null,{"$f":"N7","v":111},{"$f":"COUNTIF(L65:L83,AI7)","v":0},{"$f":"AJ7/(AL4-AJ11)","v":0},{"$f":"IF(AK7=0,0,(AK7*((LOG(AK7))/LOG(2))))","v":0},null,{"$f":"N7","v":111},{"$f":"COUNTIF(L84:L103,AN7)","v":0},{"$f":"AO7/(AQ4-AO11)","v":0},{"$f":"IF(AP7=0,0,(AP7*((LOG(AP7))/LOG(2))))","v":0},null,{"$f":"N7","v":111},{"$f":"COUNTIF(L104:L122,AS7)","v":0},{"$f":"AT7/(AV4-AT11)","v":0},{"$f":"IF(AU7=0,0,(AU7*((LOG(AU7))/LOG(2))))","v":0}]
[21,232,22,250,24,257,null,null,null,null,0,222,null,112,{"$f":"COUNTIF($L$7:$L$500,N8)","v":4},{"$f":"O8/$Q$4","v":3.4482758620689655E-2},{"$f":"IF(P8=0,0,(P8*((LOG(P8))/LOG(2))))","v":-0.16751658603888178},null,null,{"$f":"N8","v":112},{"$f":"COUNTIF(L7:L25,T8)","v":0},{"$f":"U8/(W4-U11)","v":0},{"$f":"IF(V8=0,0,(V8*((LOG(V8))/LOG(2))))","v":0},null,{"$f":"N8","v":112},{"$f":"COUNTIF(L26:L45,Y8)","v":0},{"$f":"Z8/(AB4-Z11)","v":0},{"$f":"IF(AA8=0,0,(AA8*((LOG(AA8))/LOG(2))))","v":0},null,{"$f":"N8","v":112},{"$f":"COUNTIF(L46:L64,AD8)","v":1},{"$f":"AE8/(AG4-AE11)","v":5.2631578947368418E-2},{"$f":"IF(AF8=0,0,(AF8*((LOG(AF8))/LOG(2))))","v":-0.22357513228650452},null,{"$f":"N8","v":112},{"$f":"COUNTIF(L65:L83,AI8)","v":0},{"$f":"AJ8/(AL4-AJ11)","v":0},{"$f":"IF(AK8=0,0,(AK8*((LOG(AK8))/LOG(2))))","v":0},null,{"$f":"N8","v":112},{"$f":"COUNTIF(L84:L103,AN8)","v":2},{"$f":"AO8/(AQ4-AO11)","v":0.1},{"$f":"IF(AP8=0,0,(AP8*((LOG(AP8))/LOG(2))))","v":-0.33219280948873625},null,{"$f":"N8","v":112},{"$f":"COUNTIF(L104:L122,AS8)","v":1},{"$f":"AT8/(AV4-AT11)","v":5.2631578947368418E-2},{"$f":"IF(AU8=0,0,(AU8*((LOG(AU8))/LOG(2))))","v":-0.22357513228650452}]
[21,364,22,368,24,390,null,null,null,null,0,222,null,121,{"$f":"COUNTIF($L$7:$L$500,N9)","v":0},{"$f":"O9/$Q$4","v":0},{"$f":"IF(P9=0,0,(P9*((LOG(P9))/LOG(2))))","v":0},null,null,{"$f":"N9","v":121},{"$f":"COUNTIF(L7:L25,T9)","v":0},{"$f":"U9/(W4-U11)","v":0},{"$f":"IF(V9=0,0,(V9*((LOG(V9))/LOG(2))))","v":0},null,{"$f":"N9","v":121},{"$f":"COUNTIF(L26:L45,Y9)","v":0},{"$f":"Z9/(AB4-Z11)","v":0},{"$f":"IF(AA9=0,0,(AA9*((LOG(AA9))/LOG(2))))","v":0},null,{"$f":"N9","v":121},{"$f":"COUNTIF(L46:L64,AD9)","v":0},{"$f":"AE9/(AG4-AE11)","v":0},{"$f":"IF(AF9=0,0,(AF9*((LOG(AF9))/LOG(2))))","v":0},null,{"$f":"N9","v":121},{"$f":"COUNTIF(L65:L83,AI9)","v":0},{"$f":"AJ9/(AL4-AJ11)","v":0},{"$f":"IF(AK9=0,0,(AK9*((LOG(AK9))/LOG(2))))","v":0},null,{"$f":"N9","v":121},{"$f":"COUNTIF(L84:L103,AN9)","v":0},{"$f":"AO9/(AQ4-AO11)","v":0},{"$f":"IF(AP9=0,0,(AP9*((LOG(AP9))/LOG(2))))","v":0},null,{"$f":"N9","v":121},{"$f":"COUNTIF(L104:L122,AS9)","v":0},{"$f":"AT9/(AV4-AT11)","v":0},{"$f":"IF(AU9=0,0,(AU9*((LOG(AU9))/LOG(2))))","v":0}]
[12,484,24,501,24,510,null,null,null,null,0,122,null,122,{"$f":"COUNTIF($L$7:$L$500,N10)","v":46},{"$f":"O10/$Q$4","v":0.39655172413793105},{"$f":"IF(P10=0,0,(P10*((LOG(P10))/LOG(2))))","v":-0.52916617066591143},null,null,{"$f":"N10","v":122},{"$f":"COUNTIF(L7:L25,T10)","v":8},{"$f":"U10/(W4-U11)","v":0.42105263157894735},{"$f":"IF(V10=0,0,(V10*((LOG(V10))/LOG(2))))","v":-0.52544316355519383},null,{"$f":"N10","v":122},{"$f":"COUNTIF(L26:L45,Y10)","v":8},{"$f":"Z10/(AB4-Z11)","v":0.4},{"$f":"IF(AA10=0,0,(AA10*((LOG(AA10))/LOG(2))))","v":-0.52877123795494496},null,{"$f":"N10","v":122},{"$f":"COUNTIF(L46:L64,AD10)","v":10},{"$f":"AE10/(AG4-AE11)","v":0.52631578947368418},{"$f":"IF(AF10=0,0,(AF10*((LOG(AF10))/LOG(2))))","v":-0.4873681150295911},null,{"$f":"N10","v":122},{"$f":"COUNTIF(L65:L83,AI10)","v":7},{"$f":"AJ10/(AL4-AJ11)","v":0.36842105263157893},{"$f":"IF(AK10=0,0,(AK10*((LOG(AK10))/LOG(2))))","v":-0.53073727051062469},null,{"$f":"N10","v":122},{"$f":"COUNTIF(L84:L103,AN10)","v":6},{"$f":"AO10/(AQ4-AO11)","v":0.3},{"$f":"IF(AP10=0,0,(AP10*((LOG(AP10))/LOG(2))))","v":-0.52108967824986185},null,{"$f":"N10","v":122},{"$f":"COUNTIF(L104:L122,AS10)","v":7},{"$f":"AT10/(AV4-AT11)","v":0.36842105263157893},{"$f":"IF(AU10=0,0,(AU10*((LOG(AU10))/LOG(2))))","v":-0.53073727051062469}]
[12,680,24,693,24,705,null,null,null,null,0,122,null,211,{"$f":"COUNTIF($L$7:$L$500,N11)","v":0},{"$f":"O11/$Q$4","v":0},{"$f":"IF(P11=0,0,(P11*((LOG(P11))/LOG(2))))","v":0},null,null,{"$f":"N11","v":211},{"$f":"COUNTIF(L7:L25,T11)","v":0},null,null,null,{"$f":"N11","v":211},{"$f":"COUNTIF(L26:L45,Y11)","v":0},null,null,null,{"$f":"N11","v":211},{"$f":"COUNTIF(L46:L64,AD11)","v":0},null,null,null,{"$f":"N11","v":211},{"$f":"COUNTIF(L65:L83,AI11)","v":0},null,null,null,{"$f":"N11","v":211},{"$f":"COUNTIF(L84:L103,AN11)","v":0},null,null,null,{"$f":"N11","v":211},{"$f":"COUNTIF(L104:L122,AS11)","v":0}]
[21,1130,22,1139,24,1148,null,null,null,null,0,222,null,212,{"$f":"COUNTIF($L$7:$L$500,N12)","v":0},{"$f":"O12/$Q$4","v":0},{"$f":"IF(P12=0,0,(P12*((LOG(P12))/LOG(2))))","v":0},null,null,{"$f":"N12","v":212},{"$f":"COUNTIF(L7:L25,T12)","v":0},{"$f":"U12/(W4-U11)","v":0},{"$f":"IF(V12=0,0,(V12*((LOG(V12))/LOG(2))))","v":0},null,{"$f":"N12","v":212},{"$f":"COUNTIF(L26:L45,Y12)","v":0},{"$f":"Z12/(AB4-Z11)","v":0},{"$f":"IF(AA12=0,0,(AA12*((LOG(AA12))/LOG(2))))","v":0},null,{"$f":"N12","v":212},{"$f":"COUNTIF(L46:L64,AD12)","v":0},{"$f":"AE12/(AG4-AE11)","v":0},{"$f":"IF(AF12=0,0,(AF12*((LOG(AF12))/LOG(2))))","v":0},null,{"$f":"N12","v":212},{"$f":"COUNTIF(L65:L83,AI12)","v":0},{"$f":"AJ12/(AL4-AJ11)","v":0},{"$f":"IF(AK12=0,0,(AK12*((LOG(AK12))/LOG(2))))","v":0},null,{"$f":"N12","v":212},{"$f":"COUNTIF(L84:L103,AN12)","v":0},{"$f":"AO12/(AQ4-AO11)","v":0},{"$f":"IF(AP12=0,0,(AP12*((LOG(AP12))/LOG(2))))","v":0},null,{"$f":"N12","v":212},{"$f":"COUNTIF(L104:L122,AS12)","v":0},{"$f":"AT12/(AV4-AT11)","v":0},{"$f":"IF(AU12=0,0,(AU12*((LOG(AU12))/LOG(2))))","v":0}]
[12,1591,24,1604,24,1618,null,null,null,null,0,122,null,221,{"$f":"COUNTIF($L$7:$L$500,N13)","v":0},{"$f":"O13/$Q$4","v":0},{"$f":"IF(P13=0,0,(P13*((LOG(P13))/LOG(2))))","v":0},null,null,{"$f":"N13","v":221},{"$f":"COUNTIF(L7:L25,T13)","v":0},{"$f":"U13/(W4-U11)","v":0},{"$f":"IF(V13=0,0,(V13*((LOG(V13))/LOG(2))))","v":0},null,{"$f":"N13","v":221},{"$f":"COUNTIF(L26:L45,Y13)","v":0},{"$f":"Z13/(AB4-Z11)","v":0},{"$f":"IF(AA13=0,0,(AA13*((LOG(AA13))/LOG(2))))","v":0},null,{"$f":"N13","v":221},{"$f":"COUNTIF(L46:L64,AD13)","v":0},{"$f":"AE13/(AG4-AE11)","v":0},{"$f":"IF(AF13=0,0,(AF13*((LOG(AF13))/LOG(2))))","v":0},null,{"$f":"N13","v":221},{"$f":"COUNTIF(L65:L83,AI13)","v":0},{"$f":"AJ13/(AL4-AJ11)","v":0},{"$f":"IF(AK13=0,0,(AK13*((LOG(AK13))/LOG(2))))","v":0},null,{"$f":"N13","v":221},{"$f":"COUNTIF(L84:L103,AN13)","v":0},{"$f":"AO13/(AQ4-AO11)","v":0},{"$f":"IF(AP13=0,0,(AP13*((LOG(AP13))/LOG(2))))","v":0},null,{"$f":"N13","v":221},{"$f":"COUNTIF(L104:L122,AS13)","v":0},{"$f":"AT13/(AV4-AT11)","v":0},{"$f":"IF(AU13=0,0,(AU13*((LOG(AU13))/LOG(2))))","v":0}]
[21,1778,22,1784,24,1793,null,null,null,null,0,222,null,222,{"$f":"COUNTIF($L$7:$L$500,N14)","v":66},{"$f":"O14/$Q$4","v":0.56896551724137934},{"$f":"IF(P14=0,0,(P14*((LOG(P14))/LOG(2))))","v":-0.46290287759277438},null,null,{"$f":"N14","v":222},{"$f":"COUNTIF(L7:L25,T14)","v":11},{"$f":"U14/(W4-U11)","v":0.57894736842105265},{"$f":"IF(V14=0,0,(V14*((LOG(V14))/LOG(2))))","v":-0.45649762330890375},null,{"$f":"N14","v":222},{"$f":"COUNTIF(L26:L45,Y14)","v":12},{"$f":"Z14/(AB4-Z11)","v":0.6},{"$f":"IF(AA14=0,0,(AA14*((LOG(AA14))/LOG(2))))","v":-0.44217935649972373},null,{"$f":"N14","v":222},{"$f":"COUNTIF(L46:L64,AD14)","v":8},{"$f":"AE14/(AG4-AE11)","v":0.42105263157894735},{"$f":"IF(AF14=0,0,(AF14*((LOG(AF14))/LOG(2))))","v":-0.52544316355519383},null,{"$f":"N14","v":222},{"$f":"COUNTIF(L65:L83,AI14)","v":12},{"$f":"AJ14/(AL4-AJ11)","v":0.63157894736842102},{"$f":"IF(AK14=0,0,(AK14*((LOG(AK14))/LOG(2))))","v":-0.41871474487732385},null,{"$f":"N14","v":222},{"$f":"COUNTIF(L84:L103,AN14)","v":12},{"$f":"AO14/(AQ4-AO11)","v":0.6},{"$f":"IF(AP14=0,0,(AP14*((LOG(AP14))/LOG(2))))","v":-0.44217935649972373},null,{"$f":"N14","v":222},{"$f":"COUNTIF(L104:L122,AS14)","v":11},{"$f":"AT14/(AV4-AT11)","v":0.57894736842105265},{"$f":"IF(AU14=0,0,(AU14*((LOG(AU14))/LOG(2))))","v":-0.45649762330890375}]
[12,1944,24,1986,24,1991,null,null,null,null,0,122,null,null,null,{"$f":"SUM(P7:P14)","v":1},{"$f":"-SUM(Q7:Q14)","v":1.1595856342975677},null,null,null,null,{"$f":"SUM(V7:V14)","v":1},{"$f":"-SUM(W7:W14)","v":0.98194078686409758},null,null,null,{"$f":"SUM(AA7:AA14)","v":1},{"$f":"-SUM(AB7:AB14)","v":0.97095059445466869},null,null,null,{"$f":"SUM(AF7:AF14)","v":1},{"$f":"-SUM(AG7:AG14)","v":1.2363864108712894},null,null,null,{"$f":"SUM(AK7:AK14)","v":1},{"$f":"-SUM(AL7:AL14)","v":0.94945201538794854},null,null,null,{"$f":"SUM(AP7:AP14)","v":1},{"$f":"-SUM(AQ7:AQ14)","v":1.2954618442383219},null,null,null,{"$f":"SUM(AU7:AU14)","v":1},{"$f":"-SUM(AV7:AV14)","v":1.2108100261060328}]
[21,2097,22,2112,24,2119,null,null,null,null,0,222,null,null,null,"U=",{"$f":"Q15/(LOG(Q4)/LOG(2))","v":0.16908557126673648},null,null,null,null,"U1=",{"$f":"W15/(LOG(W4)/LOG(2))","v":0.23115761362605894},null,null,null,"U2=",{"$f":"AB15/(LOG(AB4)/LOG(2))","v":0.22465681361132719},null,null,null,"U3=",{"$f":"AG15/(LOG(AG4)/LOG(2))","v":0.2910563814844882},null,null,null,"U4=",{"$f":"AL15/(LOG(AL4)/LOG(2))","v":0.22350946723624165},null,null,null,"U5=",{"$f":"AQ15/(LOG(AQ4)/LOG(2))","v":0.29974164673650916},null,null,null,"U6=",{"$f":"AV15/(LOG(AV4)/LOG(2))","v":0.28503547253905209}]
[21,2225,22,2229,24,2236,null,null,null,null,0,222]
[12,2334,24,2336,24,2339,null,null,null,null,0,122]
[12,2437,24,2442,24,2448,null,null,null,null,0,122,null,"Total Target Seq"]
[21,2549,22,2555,24,2560,null,null,null,null,0,222,null,{"$f":"COUNTIF(L7:L122,G3)","v":0},null,19,20,19,19,20,19]
[21,2664,22,2668,24,2675,null,null,null,null,0,222,null,null,null,"% of reinforcement given in 6 equal intervals based on number of trials "]
[12,2854,24,2865,24,2870,null,null,null,null,0,122,null,null,null,"%_1","%_2","%_3","%_4","%_5","%_6"]
[21,3027,22,3032,24,3039,null,null,null,null,0,222,null,null,"target sequence",{"$f":"$G$3","v":211},{"$f":"$G$3","v":211},{"$f":"$G$3","v":211},{"$f":"$G$3","v":211},{"$f":"$G$3","v":211},{"$f":"$G$3","v":211}]
[12,3130,24,3151,24,3157,null,null,null,null,0,122,null,null,"total reinforcement",{"$f":"U11","v":0},{"$f":"Z11","v":0},{"$f":"AE11","v":0},{"$f":"AJ11","v":0},{"$f":"AO11","v":0},{"$f":"AT11","v":0}]
[21,3260,22,3266,24,3273,null,null,null,null,0,222,null,null,"% target"]
[21,3377,22,3383,24,3389,null,null,null,null,0,222,null,null,"CCRF"]
[12,3482,24,3487,24,3495,null,null,null,null,0,122,null,null,"% CCRf"]
[21,3641,22,3644,24,3650,null,null,null,null,0,222,null,null,"average response rate",{"$f":"F25/P20","v":172.26315789473685},{"$f":"(F45-F25)/Q20","v":134.6},{"$f":"(F64-F45)/R20","v":131.94736842105263},{"$f":"(F83-F64)/S20","v":154.52631578947367},{"$f":"(F103-F83)/T20","v":139.5},{"$f":"(F122-F103)/U20","v":121.36842105263158}]
[21,3759,22,3767,24,3773,null,null,null,null,0,222]
[21,3879,22,3881,24,3888,null,null,null,null,0,222]
[21,3993,22,4005,24,4011,null,null,null,null,0,222]
[12,4112,24,4117,24,4121,null,null,null,null,0,122]
[21,4349,22,4355,24,4362,null,null,null,null,0,222]
[12,4561,24,4596,24,4603,null,null,null,null,0,122]
[21,4702,22,4713,24,4726,null,null,null,null,0,222]
[21,4828,22,4832,24,4839,null,null,null,null,0,222]
[21,4942,22,4949,24,4954,null,null,null,null,0,222]
[12,5046,24,5062,24,5070,null,null,null,null,0,122]
[21,5172,22,5178,24,5201,null,null,null,null,0,222]
[12,5297,24,5302,24,5314,null,null,null,null,0,122]
[21,5411,22,5417,24,5423,null,null,null,null,0,222]
[12,5515,24,5530,24,5536,null,null,null,null,0,122]
[21,5719,22,5728,24,5739,null,null,null,null,0,222]
[12,5831,24,5849,24,5854,null,null,null,null,0,122]
[12,5948,24,5958,24,5965,null,null,null,null,0,122]
[12,6062,24,6068,24,6077,null,null,null,null,0,122]
[21,6343,22,6368,24,6390,null,null,null,null,0,222]
[12,6486,24,6494,24,6497,null,null,null,null,0,122]
[12,6592,24,6607,24,6613,null,null,null,null,0,122]
[12,6705,24,6720,24,6729,null,null,null,null,0,122]
[12,6824,24,6839,24,6845,null,null,null,null,0,122]
[21,6995,22,7020,24,7027,null,null,null,null,0,222]
[12,7125,24,7130,24,7137,null,null,null,null,0,122]
[12,7233,24,7237,24,7245,null,null,null,null,0,122]
[21,7346,22,7360,24,7377,null,null,null,null,0,222]
[21,7473,22,7476,24,7485,null,null,null,null,0,222]
[21,7602,22,7606,24,7625,null,null,null,null,0,222]
[12,7742,24,7773,24,7779,null,null,null,null,0,122]
[12,7873,13,7878,24,7883,null,null,null,null,0,112]
[21,7981,22,7993,24,8000,null,null,null,null,0,222]
[12,8094,24,8103,24,8110,null,null,null,null,0,122]
[21,8212,22,8217,24,8224,null,null,null,null,0,222]
[21,8319,22,8331,24,8340,null,null,null,null,0,222]
[12,8434,24,8447,24,8472,null,null,null,null,0,122]
[12,8685,24,8707,24,8713,null,null,null,null,0,122]
[21,8806,22,8812,24,8819,null,null,null,null,0,222]
[21,8917,22,8923,24,8930,null,null,null,null,0,222]
[21,9037,22,9058,24,9065,null,null,null,null,0,222]
[21,9244,22,9269,24,9277,null,null,null,null,0,222]
[21,9377,22,9383,24,9392,null,null,null,null,0,222]
[21,9493,22,9500,24,9506,null,null,null,null,0,222]
[12,9673,24,9689,24,9695,null,null,null,null,0,122]
[21,9916,22,9928,24,9934,null,null,null,null,0,222]
[12,10028,24,10034,24,10047,null,null,null,null,0,122]
[21,10152,22,10157,24,10162,null,null,null,null,0,222]
[12,10257,24,10265,24,10270,null,null,null,null,0,122]
[12,10365,24,10373,24,10396,null,null,null,null,0,122]
[12,10490,24,10499,24,10506,null,null,null,null,0,122]
[21,10606,22,10621,24,10628,null,null,null,null,0,222]
[21,10737,22,10742,24,10761,null,null,null,null,0,222]
[12,10856,24,10868,24,10874,null,null,null,null,0,122]
[21,11253,22,11258,24,11269,null,null,null,null,0,222]
[21,11381,22,11387,24,11408,null,null,null,null,0,222]
[21,11513,22,11526,24,11532,null,null,null,null,0,222]
[21,11640,22,11646,24,11653,null,null,null,null,0,222]
[21,11758,22,11762,24,11768,null,null,null,null,0,222]
[21,11868,22,11875,24,11907,null,null,null,null,0,222]
[12,11999,13,12002,24,12008,null,null,null,null,0,112]
[12,12100,13,12113,24,12115,null,null,null,null,0,112]
[21,12225,22,12233,24,12240,null,null,null,null,0,222]
[21,12338,22,12344,24,12349,null,null,null,null,0,222]
[12,12626,24,12640,24,12646,null,null,null,null,0,122]
[21,12833,22,12840,24,12845,null,null,null,null,0,222]
[21,12981,22,12992,24,12998,null,null,null,null,0,222]
[12,13092,24,13096,24,13101,null,null,null,null,0,122]
[12,13226,24,13238,24,13243,null,null,null,null,0,122]
[12,13442,24,13447,24,13454,null,null,null,null,0,122]
[21,13552,22,13558,24,13560,null,null,null,null,0,222]
[21,13660,22,13668,24,13676,null,null,null,null,0,222]
[21,13778,22,13783,24,13789,null,null,null,null,0,222]
[21,13887,22,13895,24,13901,null,null,null,null,0,222]
[12,13993,24,13999,24,14010,null,null,null,null,0,122]
[12,14151,24,14192,24,14198,null,null,null,null,0,122]
[21,14301,22,14316,24,14327,null,null,null,null,0,222]
[21,14449,22,14454,24,14469,null,null,null,null,0,222]
[21,14580,22,14585,24,14590,null,null,null,null,0,222]
[12,14688,24,14694,24,14702,null,null,null,null,0,122]
[21,14800,22,14805,24,14810,null,null,null,null,0,222]
[21,14915,22,14920,24,14923,null,null,null,null,0,222]
[21,15028,22,15030,24,15042,null,null,null,null,0,222]
[12,15138,13,15142,24,15151,null,null,null,null,0,112]
[12,15250,24,15254,24,15260,null,null,null,null,0,122]
[12,15356,24,15361,24,15371,null,null,null,null,0,122]
[21,15474,22,15481,24,15487,null,null,null,null,0,222]
[12,15583,24,15587,24,15592,null,null,null,null,0,122]
[12,15698,24,15703,24,15710,null,null,null,null,0,122]
[21,15899,22,15906,24,15912,null,null,null,null,0,222]
[21,16016,22,16028,24,16035,null,null,null,null,0,222]
[12,16135,24,16138,24,16143,null,null,null,null,0,122]
[12,16238,24,16242,24,16260,null,null,null,null,0,122]
[21,16364,22,16368,24,16381,null,null,null,null,0,222]
[21,16485,22,16490,24,16504,null,null,null,null,0,222]

{"sheet":"!M127950.Gus","index":13,"n_rows":147,"n_cols":48,"rows_kept":147,"cut":false,"hidden":false,"merged":[[4,39,4,42],[5,39,5,40],[4,44,4,47],[5,44,5,45],[4,24,4,27],[5,24,5,25],[4,29,4,32],[5,29,5,30],[4,34,4,37],[5,34,5,35],[1,1,1,2],[5,13,5,14],[18,13,18,14],[19,13,19,14],[4,19,4,22],[5,19,5,20]]}
["Report for:!M127950.Gus"]
["Date:","<date>"]
["Hen:","<hen>",null,null,null,"Correct Sequence",{"$f":"Start!J2","v":211},null,null,null,null,null,null,null,null,"Total Sequences in Data",{"$f":"4994-COUNTBLANK(L7:L5000)","v":141},null,null,null,null,"Total Sequences in Block Data",{"$f":"COUNTA(L7:L30)","v":24},null,null,null,"Total Sequences in Block Data",{"$f":"COUNTA(L31:L53)","v":23},null,null,null,"Total Sequences in Block Data",{"$f":"COUNTA(L54:L77)","v":24},null,null,null,"Total Sequences in Block Data",{"$f":"COUNTA(L78:L100)","v":23},null,null,null,"Total Sequences in Block Data",{"$f":"COUNTA(L101:L124)","v":24},null,null,null,"Total Sequences in Block Data",{"$f":"COUNTA(L125:L147)","v":23}]
[null,null,null,null,null,null,null,null,null,null,null,null,null,null,null,"Total Sequences in Summary",{"$f":"SUM(O7:O14)","v":141},null,null,null,null,"Total Sequences in Block Summary",{"$f":"SUM(U7:U14)","v":24},null,null,null,"Total Sequences in Block Summary",{"$f":"SUM(Z7:Z14)","v":23},null,null,null,"Total Sequences in Block Summary",{"$f":"SUM(AE7:AE14)","v":24},null,null,null,"Total Sequences in Block Summary",{"$f":"SUM(AJ7:AJ14)","v":23},null,null,null,"Total Sequences in Block Summary",{"$f":"SUM(AO7:AO14)","v":24},null,null,null,"Total Sequences in Block Summary",{"$f":"SUM(AT7:AT14)","v":23}]
[null,null,null,null,null,null,null,null,null,null,null,null,null,null,null,null,null,null,null,"Block 1",null,null,null,null,"Block 2",null,null,null,null,"Block 3",null,null,null,null,"Block 4",null,null,null,null,"Block 5",null,null,null,null,"Block 6"]
["Sequence\nComponent\n1","Time\n1","Sequence\nComponent\n2","Time\n2","Sequence\nComponent\n3","Time\n3","Sequence\nComponent\n4","Time\n4","Sequence\nComponent\n5","Time\n5","Correct?\n0=No 1=Yes","Sequence",null,"Frequency",null,"Relative Frequency","Variability",null,null,"Frequency",null,"Relative Frequency","Variability",null,"Frequency",null,"Relative Frequency","Variability",null,"Frequency",null,"Relative Frequency","Variability",null,"Frequency",null,"Relative Frequency","Variability",null,"Frequency",null,"Relative Frequency","Variability",null,"Frequency",null,"Relative Frequency","Variability"]
[21,242,22,249,24,256,null,null,null,null,0,222,null,111,{"$f":"COUNTIF($L$7:$L$500,N7)","v":0},{"$f":"O7/$Q$4","v":0},{"$f":"IF(P7=0,0,(P7*((LOG(P7))/LOG(2))))","v":0},null,null,{"$f":"N7","v":111},{"$f":"COUNTIF(L7:L30,T7)","v":0},{"$f":"U7/(W4-U11)","v":0},{"$f":"IF(V7=0,0,(V7*((LOG(V7))/LOG(2))))","v":0},null,{"$f":"N7","v":111},{"$f":"COUNTIF(L31:L53,Y7)","v":0},{"$f":"Z7/(AB4-Z11)","v":0},{"$f":"IF(AA7=0,0,(AA7*((LOG(AA7))/LOG(2))))","v":0},null,{"$f":"N7","v":111},{"$f":"COUNTIF(L54:L77,AD7)","v":0},{"$f":"AE7/(AG4-AE11)","v":0},{"$f":"IF(AF7=0,0,(AF7*((LOG(AF7))/LOG(2))))","v":0},null,{"$f":"N7","v":111},{"$f":"COUNTIF(L78:L100,AI7)","v":0},{"$f":"AJ7/(AL4-AJ11)","v":0},{"$f":"IF(AK7=0,0,(AK7*((LOG(AK7))/LOG(2))))","v":0},null,{"$f":"N7","v":111},{"$f":"COUNTIF(L101:L124,AN7)","v":0},{"$f":"AO7/(AQ4-AO11)","v":0},{"$f":"IF(AP7=0,0,(AP7*((LOG(AP7))/LOG(2))))","v":0},null,{"$f":"N7","v":111},{"$f":"COUNTIF(L125:L147,AS7)","v":0},{"$f":"AT7/(AV4-AT11)","v":0},{"$f":"IF(AU7=0,0,(AU7*((LOG(AU7))/LOG(2))))","v":0}]
[21,496,22,499,24,506,null,null,null,null,0,222,null,112,{"$f":"COUNTIF($L$7:$L$500,N8)","v":4},{"$f":"O8/$Q$4","v":2.8368794326241134E-2},{"$f":"IF(P8=0,0,(P8*((LOG(P8))/LOG(2))))","v":-0.14580287524535585},null,null,{"$f":"N8","v":112},{"$f":"COUNTIF(L7:L30,T8)","v":1},{"$f":"U8/(W4-U11)","v":4.1666666666666664E-2},{"$f":"IF(V8=0,0,(V8*((LOG(V8))/LOG(2))))","v":-0.19104010419671485},null,{"$f":"N8","v":112},{"$f":"COUNTIF(L31:L53,Y8)","v":3},{"$f":"Z8/(AB4-Z11)","v":0.13043478260869565},{"$f":"IF(AA8=0,0,(AA8*((LOG(AA8))/LOG(2))))","v":-0.3832955811307639},null,{"$f":"N8","v":112},{"$f":"COUNTIF(L54:L77,AD8)","v":0},{"$f":"AE8/(AG4-AE11)","v":0},{"$f":"IF(AF8=0,0,(AF8*((LOG(AF8))/LOG(2))))","v":0},null,{"$f":"N8","v":112},{"$f":"COUNTIF(L78:L100,AI8)","v":0},{"$f":"AJ8/(AL4-AJ11)","v":0},{"$f":"IF(AK8=0,0,(AK8*((LOG(AK8))/LOG(2))))","v":0},null,{"$f":"N8","v":112},{"$f":"COUNTIF(L101:L124,AN8)","v":0},{"$f":"AO8/(AQ4-AO11)","v":0},{"$f":"IF(AP8=0,0,(AP8*((LOG(AP8))/LOG(2))))","v":0},null,{"$f":"N8","v":112},{"$f":"COUNTIF(L125:L147,AS8)","v":0},{"$f":"AT8/(AV4-AT11)","v":0},{"$f":"IF(AU8=0,0,(AU8*((LOG(AU8))/LOG(2))))","v":0}]
[21,636,22,647,24,655,null,null,null,null,0,222,null,121,{"$f":"COUNTIF($L$7:$L$500,N9)","v":2},{"$f":"O9/$Q$4","v":1.4184397163120567E-2},{"$f":"IF(P9=0,0,(P9*((LOG(P9))/LOG(2))))","v":-8.7085834785798497E-2},null,null,{"$f":"N9","v":121},{"$f":"COUNTIF(L7:L30,T9)","v":1},{"$f":"U9/(W4-U11)","v":4.1666666666666664E-2},{"$f":"IF(V9=0,0,(V9*((LOG(V9))/LOG(2))))","v":-0.19104010419671485},null,{"$f":"N9","v":121},{"$f":"COUNTIF(L31:L53,Y9)","v":1},{"$f":"Z9/(AB4-Z11)","v":4.3478260869565216E-2},{"$f":"IF(AA9=0,0,(AA9*((LOG(AA9))/LOG(2))))","v":-0.19667660678508753},null,{"$f":"N9","v":121},{"$f":"COUNTIF(L54:L77,AD9)","v":0},{"$f":"AE9/(AG4-AE11)","v":0},{"$f":"IF(AF9=0,0,(AF9*((LOG(AF9))/LOG(2))))","v":0},null,{"$f":"N9","v":121},{"$f":"COUNTIF(L78:L100,AI9)","v":0},{"$f":"AJ9/(AL4-AJ11)","v":0},{"$f":"IF(AK9=0,0,(AK9*((LOG(AK9))/LOG(2))))","v":0},null,{"$f":"N9","v":121},{"$f":"COUNTIF(L101:L124,AN9)","v":0},{"$f":"AO9/(AQ4-AO11)","v":0},{"$f":"IF(AP9=0,0,(AP9*((LOG(AP9))/LOG(2))))","v":0},null,{"$f":"N9","v":121},{"$f":"COUNTIF(L125:L147,AS9)","v":0},{"$f":"AT9/(AV4-AT11)","v":0},{"$f":"IF(AU9=0,0,(AU9*((LOG(AU9))/LOG(2))))","v":0}]
[21,764,22,778,24,786,null,null,null,null,0,222,null,122,{"$f":"COUNTIF($L$7:$L$500,N10)","v":53},{"$f":"O10/$Q$4","v":0.37588652482269502},{"$f":"IF(P10=0,0,(P10*((LOG(P10))/LOG(2))))","v":-0.53061303251976244},null,null,{"$f":"N10","v":122},{"$f":"COUNTIF(L7:L30,T10)","v":8},{"$f":"U10/(W4-U11)","v":0.33333333333333331},{"$f":"IF(V10=0,0,(V10*((LOG(V10))/LOG(2))))","v":-0.52832083357371862},null,{"$f":"N10","v":122},{"$f":"COUNTIF(L31:L53,Y10)","v":9},{"$f":"Z10/(AB4-Z11)","v":0.39130434782608697},{"$f":"IF(AA10=0,0,(AA10*((LOG(AA10))/LOG(2))))","v":-0.5296840257187958},null,{"$f":"N10","v":122},{"$f":"COUNTIF(L54:L77,AD10)","v":12},{"$f":"AE10/(AG4-AE11)","v":0.5},{"$f":"IF(AF10=0,0,(AF10*((LOG(AF10))/LOG(2))))","v":-0.5},null,{"$f":"N10","v":122},{"$f":"COUNTIF(L78:L100,AI10)","v":7},{"$f":"AJ10/(AL4-AJ11)","v":0.30434782608695654},{"$f":"IF(AK10=0,0,(AK10*((LOG(AK10))/LOG(2))))","v":-0.52232387991286355},null,{"$f":"N10","v":122},{"$f":"COUNTIF(L101:L124,AN10)","v":9},{"$f":"AO10/(AQ4-AO11)","v":0.375},{"$f":"IF(AP10=0,0,(AP10*((LOG(AP10))/LOG(2))))","v":-0.53063906222956647},null,{"$f":"N10","v":122},{"$f":"COUNTIF(L125:L147,AS10)","v":8},{"$f":"AT10/(AV4-AT11)","v":0.34782608695652173},{"$f":"IF(AU10=0,0,(AU10*((LOG(AU10))/LOG(2))))","v":-0.52993459341113491}]
[12,881,24,889,24,903,null,null,null,null,0,122,null,211,{"$f":"COUNTIF($L$7:$L$500,N11)","v":0},{"$f":"O11/$Q$4","v":0},{"$f":"IF(P11=0,0,(P11*((LOG(P11))/LOG(2))))","v":0},null,null,{"$f":"N11","v":211},{"$f":"COUNTIF(L7:L30,T11)","v":0},null,null,null,{"$f":"N11","v":211},{"$f":"COUNTIF(L31:L53,Y11)","v":0},null,null,null,{"$f":"N11","v":211},{"$f":"COUNTIF(L54:L77,AD11)","v":0},null,null,null,{"$f":"N11","v":211},{"$f":"COUNTIF(L78:L100,AI11)","v":0},null,null,null,{"$f":"N11","v":211},{"$f":"COUNTIF(L101:L124,AN11)","v":0},null,null,null,{"$f":"N11","v":211},{"$f":"COUNTIF(L125:L147,AS11)","v":0}]
[21,1007,22,1019,24,1026,null,null,null,null,0,222,null,212,{"$f":"COUNTIF($L$7:$L$500,N12)","v":0},{"$f":"O12/$Q$4","v":0},{"$f":"IF(P12=0,0,(P12*((LOG(P12))/LOG(2))))","v":0},null,null,{"$f":"N12","v":212},{"$f":"COUNTIF(L7:L30,T12)","v":0},{"$f":"U12/(W4-U11)","v":0},{"$f":"IF(V12=0,0,(V12*((LOG(V12))/LOG(2))))","v":0},null,{"$f":"N12","v":212},{"$f":"COUNTIF(L31:L53,Y12)","v":0},{"$f":"Z12/(AB4-Z11)","v":0},{"$f":"IF(AA12=0,0,(AA12*((LOG(AA12))/LOG(2))))","v":0},null,{"$f":"N12","v":212},{"$f":"COUNTIF(L54:L77,AD12)","v":0},{"$f":"AE12/(AG4-AE11)","v":0},{"$f":"IF(AF12=0,0,(AF12*((LOG(AF12))/LOG(2))))","v":0},null,{"$f":"N12","v":212},{"$f":"COUNTIF(L78:L100,AI12)","v":0},{"$f":"AJ12/(AL4-AJ11)","v":0},{"$f":"IF(AK12=0,0,(AK12*((LOG(AK12))/LOG(2))))","v":0},null,{"$f":"N12","v":212},{"$f":"COUNTIF(L101:L124,AN12)","v":0},{"$f":"AO12/(AQ4-AO11)","v":0},{"$f":"IF(AP12=0,0,(AP12*((LOG(AP12))/LOG(2))))","v":0},null,{"$f":"N12","v":212},{"$f":"COUNTIF(L125:L147,AS12)","v":0},{"$f":"AT12/(AV4-AT11)","v":0},{"$f":"IF(AU12=0,0,(AU12*((LOG(AU12))/LOG(2))))","v":0}]
[21,1141,22,1146,24,1152,null,null,null,null,0,222,null,221,{"$f":"COUNTIF($L$7:$L$500,N13)","v":0},{"$f":"O13/$Q$4","v":0},{"$f":"IF(P13=0,0,(P13*((LOG(P13))/LOG(2))))","v":0},null,null,{"$f":"N13","v":221},{"$f":"COUNTIF(L7:L30,T13)","v":0},{"$f":"U13/(W4-U11)","v":0},{"$f":"IF(V13=0,0,(V13*((LOG(V13))/LOG(2))))","v":0},null,{"$f":"N13","v":221},{"$f":"COUNTIF(L31:L53,Y13)","v":0},{"$f":"Z13/(AB4-Z11)","v":0},{"$f":"IF(AA13=0,0,(AA13*((LOG(AA13))/LOG(2))))","v":0},null,{"$f":"N13","v":221},{"$f":"COUNTIF(L54:L77,AD13)","v":0},{"$f":"AE13/(AG4-AE11)","v":0},{"$f":"IF(AF13=0,0,(AF13*((LOG(AF13))/LOG(2))))","v":0},null,{"$f":"N13","v":221},{"$f":"COUNTIF(L78:L100,AI13)","v":0},{"$f":"AJ13/(AL4-AJ11)","v":0},{"$f":"IF(AK13=0,0,(AK13*((LOG(AK13))/LOG(2))))","v":0},null,{"$f":"N13","v":221},{"$f":"COUNTIF(L101:L124,AN13)","v":0},{"$f":"AO13/(AQ4-AO11)","v":0},{"$f":"IF(AP13=0,0,(AP13*((LOG(AP13))/LOG(2))))","v":0},null,{"$f":"N13","v":221},{"$f":"COUNTIF(L125:L147,AS13)","v":0},{"$f":"AT13/(AV4-AT11)","v":0},{"$f":"IF(AU13=0,0,(AU13*((LOG(AU13))/LOG(2))))","v":0}]
[21,1257,22,1268,24,1275,null,null,null,null,0,222,null,222,{"$f":"COUNTIF($L$7:$L$500,N14)","v":82},{"$f":"O14/$Q$4","v":0.58156028368794321},{"$f":"IF(P14=0,0,(P14*((LOG(P14))/LOG(2))))","v":-0.45477976253913627},null,null,{"$f":"N14","v":222},{"$f":"COUNTIF(L7:L30,T14)","v":14},{"$f":"U14/(W4-U11)","v":0.58333333333333337},{"$f":"IF(V14=0,0,(V14*((LOG(V14))/LOG(2))))","v":-0.45360442088707198},null,{"$f":"N14","v":222},{"$f":"COUNTIF(L31:L53,Y14)","v":10},{"$f":"Z14/(AB4-Z11)","v":0.43478260869565216},{"$f":"IF(AA14=0,0,(AA14*((LOG(AA14))/LOG(2))))","v":-0.52244950485636987},null,{"$f":"N14","v":222},{"$f":"COUNTIF(L54:L77,AD14)","v":12},{"$f":"AE14/(AG4-AE11)","v":0.5},{"$f":"IF(AF14=0,0,(AF14*((LOG(AF14))/LOG(2))))","v":-0.5},null,{"$f":"N14","v":222},{"$f":"COUNTIF(L78:L100,AI14)","v":16},{"$f":"AJ14/(AL4-AJ11)","v":0.69565217391304346},{"$f":"IF(AK14=0,0,(AK14*((LOG(AK14))/LOG(2))))","v":-0.36421701290922631},null,{"$f":"N14","v":222},{"$f":"COUNTIF(L101:L124,AN14)","v":15},{"$f":"AO14/(AQ4-AO11)","v":0.625},{"$f":"IF(AP14=0,0,(AP14*((LOG(AP14))/LOG(2))))","v":-0.42379494069539858},null,{"$f":"N14","v":222},{"$f":"COUNTIF(L125:L147,AS14)","v":15},{"$f":"AT14/(AV4-AT11)","v":0.65217391304347827},{"$f":"IF(AU14=0,0,(AU14*((LOG(AU14))/LOG(2))))","v":-0.40217697420553983}]
[12,1395,24,1410,24,1424,null,null,null,null,0,122,null,null,null,{"$f":"SUM(P7:P14)","v":1},{"$f":"-SUM(Q7:Q14)","v":1.2182815050900531},null,null,null,null,{"$f":"SUM(V7:V14)","v":1},{"$f":"-SUM(W7:W14)","v":1.3640054628542204},null,null,null,{"$f":"SUM(AA7:AA14)","v":1},{"$f":"-SUM(AB7:AB14)","v":1.632105718491017},null,null,null,{"$f":"SUM(AF7:AF14)","v":1},{"$f":"-SUM(AG7:AG14)","v":1},null,null,null,{"$f":"SUM(AK7:AK14)","v":1},{"$f":"-SUM(AL7:AL14)","v":0.88654089282208992},null,null,null,{"$f":"SUM(AP7:AP14)","v":1},{"$f":"-SUM(AQ7:AQ14)","v":0.95443400292496505},null,null,null,{"$f":"SUM(AU7:AU14)","v":1},{"$f":"-SUM(AV7:AV14)","v":0.93211156761667469}]
[12,1520,24,1532,24,1538,null,null,null,null,0,122,null,null,null,"U=",{"$f":"Q15/(LOG(Q4)/LOG(2))","v":0.17063838397642828},null,null,null,null,"U1=",{"$f":"W15/(LOG(W4)/LOG(2))","v":0.29749544574021702},null,null,null,"U2=",{"$f":"AB15/(LOG(AB4)/LOG(2))","v":0.36080100910426144},null,null,null,"U3=",{"$f":"AG15/(LOG(AG4)/LOG(2))","v":0.21810429198553155},null,null,null,"U4=",{"$f":"AL15/(LOG(AL4)/LOG(2))","v":0.19598292262472913},null,null,null,"U5=",{"$f":"AQ15/(LOG(AQ4)/LOG(2))","v":0.20816615245486628},null,null,null,"U6=",{"$f":"AV15/(LOG(AV4)/LOG(2))","v":0.20605699151938989}]
[21,1640,22,1643,24,1649,null,null,null,null,0,222]
[12,1755,24,1760,24,1765,null,null,null,null,0,122]
[21,1868,22,1881,24,1887,null,null,null,null,0,222,null,"Total Target Seq"]
[21,1991,22,1997,24,2001,null,null,null,null,0,222,null,{"$f":"COUNTIF(L7:L147,G3)","v":0},null,24,23,24,23,24,23]
[12,2158,24,2172,24,2177,null,null,null,null,0,122,null,null,null,"% of reinforcement given in 6 equal intervals based on number of trials "]
[12,2298,24,2308,24,2315,null,null,null,null,0,122,null,null,null,"%_1","%_2","%_3","%_4","%_5","%_6"]
[21,2418,22,2426,24,2433,null,null,null,null,0,222,null,null,"target sequence",{"$f":"$G$3","v":211},{"$f":"$G$3","v":211},{"$f":"$G$3","v":211},{"$f":"$G$3","v":211},{"$f":"$G$3","v":211},{"$f":"$G$3","v":211}]
[21,2537,22,2545,24,2552,null,null,null,null,0,222,null,null,"total reinforcement",{"$f":"U11","v":0},{"$f":"Z11","v":0},{"$f":"AE11","v":0},{"$f":"AJ11","v":0},{"$f":"AO11","v":0},{"$f":"AT11","v":0}]
[12,2646,24,2655,24,2660,null,null,null,null,0,122,null,null,"% target"]
[21,2767,22,2772,24,2779,null,null,null,null,0,222,null,null,"CCRF"]
[12,2872,24,2882,13,2891,null,null,null,null,0,121,null,null,"% CCRf"]
[12,3059,13,3080,24,3094,null,null,null,null,0,112,null,null,"average response rate",{"$f":"F30/P20","v":139.16666666666666},{"$f":"(F53-F30)/Q20","v":137.30434782608697},{"$f":"(F77-F53)/R20","v":170.125},{"$f":"(F100-F77)/S20","v":212.17391304347825},{"$f":"(F124-F100)/T20","v":184.29166666666666},{"$f":"(F147-F124)/U20","v":178.47826086956522}]
[12,3197,24,3212,24,3219,null,null,null,null,0,122]
[21,3323,22,3327,24,3340,null,null,null,null,0,222]
[12,3435,24,3440,13,3445,null,null,null,null,0,121]
[12,3542,13,3548,24,3559,null,null,null,null,0,112]
[21,3668,22,3673,24,3680,null,null,null,null,0,222]
[21,3785,22,3789,24,3794,null,null,null,null,0,222]
[21,3896,22,3900,24,3907,null,null,null,null,0,222]
[12,4087,24,4097,24,4102,null,null,null,null,0,122]
[12,4196,13,4199,24,4203,null,null,null,null,0,112]
[12,4299,24,4306,24,4313,null,null,null,null,0,122]
[12,4408,13,4416,24,4426,null,null,null,null,0,112]
[21,4527,22,4533,24,4538,null,null,null,null,0,222]
[12,4638,24,4643,24,4651,null,null,null,null,0,122]
[21,5031,22,5039,24,5051,null,null,null,null,0,222]
[21,5157,22,5162,24,5168,null,null,null,null,0,222]
[21,5278,22,5284,24,5290,null,null,null,null,0,222]
[21,5391,22,5399,24,5403,null,null,null,null,0,222]
[12,5499,24,5505,24,5511,null,null,null,null,0,122]
[12,5607,24,5620,24,5628,null,null,null,null,0,122]
[12,5727,24,5734,24,5737,null,null,null,null,0,122]
[21,6021,22,6035,24,6044,null,null,null,null,0,222]
[12,6150,24,6160,24,6171,null,null,null,null,0,122]
[12,6265,24,6275,24,6278,null,null,null,null,0,122]
[12,6371,24,6379,24,6385,null,null,null,null,0,122]
[21,6488,22,6492,24,6498,null,null,null,null,0,222]
[21,6603,22,6610,24,6622,null,null,null,null,0,222]
[12,6715,24,6729,24,6736,null,null,null,null,0,122]
[12,6828,24,6840,24,6849,null,null,null,null,0,122]
[12,6947,24,6951,24,6958,null,null,null,null,0,122]
[21,7066,22,7076,24,7082,null,null,null,null,0,222]
[12,7178,24,7187,24,7192,null,null,null,null,0,122]
[21,7573,22,7592,24,7620,null,null,null,null,0,222]
[12,7714,24,7723,24,7726,null,null,null,null,0,122]
[21,7824,22,7829,24,7835,null,null,null,null,0,222]
[12,7931,24,7941,24,7951,null,null,null,null,0,122]
[12,8050,24,8055,24,8064,null,null,null,null,0,122]
[21,8168,22,8184,24,8190,null,null,null,null,0,222]
[12,8286,24,8294,24,8301,null,null,null,null,0,122]
[12,8393,24,8406,24,8425,null,null,null,null,0,122]
[21,8524,22,8528,24,8535,null,null,null,null,0,222]
[12,8630,24,8635,24,8646,null,null,null,null,0,122]
[21,9179,22,9183,24,9194,null,null,null,null,0,222]
[21,9623,22,9627,24,9633,null,null,null,null,0,222]
[21,9740,22,9743,24,9748,null,null,null,null,0,222]
[21,9853,22,9864,24,9867,null,null,null,null,0,222]
[21,9967,22,9973,24,9977,null,null,null,null,0,222]
[12,10071,24,10080,24,10090,null,null,null,null,0,122]
[12,10186,24,10191,24,10195,null,null,null,null,0,122]
[21,10570,22,10575,24,10581,null,null,null,null,0,222]
[21,11227,22,11249,24,11256,null,null,null,null,0,222]
[12,11388,24,11401,24,11406,null,null,null,null,0,122]
[21,11511,22,11525,24,11532,null,null,null,null,0,222]
[21,11639,22,11644,24,11649,null,null,null,null,0,222]
[21,11770,22,11773,24,11778,null,null,null,null,0,222]
[21,11885,22,11896,24,11903,null,null,null,null,0,222]
[12,12202,24,12213,24,12219,null,null,null,null,0,122]
[21,12328,22,12340,24,12346,null,null,null,null,0,222]
[21,12448,22,12462,24,12468,null,null,null,null,0,222]
[21,12817,22,12821,24,12831,null,null,null,null,0,222]
[12,12926,24,12933,24,12943,null,null,null,null,0,122]
[21,13274,22,13277,24,13285,null,null,null,null,0,222]
[21,13386,22,13400,24,13406,null,null,null,null,0,222]
[12,13500,24,13506,24,13515,null,null,null,null,0,122]
[21,13817,22,13822,24,13827,null,null,null,null,0,222]
[21,13928,22,13936,24,13941,null,null,null,null,0,222]
[21,14047,22,14052,24,14057,null,null,null,null,0,222]
[12,14157,24,14163,24,14169,null,null,null,null,0,122]
[21,14926,22,14930,24,14937,null,null,null,null,0,222]
[12,15083,24,15094,24,15096,null,null,null,null,0,122]
[12,15196,24,15206,24,15212,null,null,null,null,0,122]
[21,15316,22,15323,24,15329,null,null,null,null,0,222]
[21,15433,22,15450,24,15461,null,null,null,null,0,222]
[21,15562,22,15571,24,15575,null,null,null,null,0,222]
[12,15667,24,15680,24,15690,null,null,null,null,0,122]
[12,16165,24,16178,24,16186,null,null,null,null,0,122]
[12,16282,24,16293,24,16304,null,null,null,null,0,122]
[21,16409,22,16421,24,16430,null,null,null,null,0,222]
[21,16854,22,16860,24,16875,null,null,null,null,0,222]
[21,17124,22,17129,24,17135,null,null,null,null,0,222]
[12,17373,24,17388,24,17399,null,null,null,null,0,122]
[21,17682,22,17695,24,17707,null,null,null,null,0,222]
[21,17813,22,17831,24,17838,null,null,null,null,0,222]
[12,17932,24,17939,24,17946,null,null,null,null,0,122]
[21,18049,22,18056,24,18058,null,null,null,null,0,222]
[21,18159,22,18163,24,18169,null,null,null,null,0,222]
[12,18502,24,18526,24,18533,null,null,null,null,0,122]
[21,18637,22,18645,24,18652,null,null,null,null,0,222]
[12,18744,24,18757,24,18771,null,null,null,null,0,122]
[12,18865,24,18872,24,18877,null,null,null,null,0,122]
[21,18978,22,18984,24,18990,null,null,null,null,0,222]
[21,19102,22,19109,24,19120,null,null,null,null,0,222]
[12,19369,24,19385,24,19394,null,null,null,null,0,122]
[21,19497,22,19512,24,19518,null,null,null,null,0,222]
[21,19624,22,19644,24,19650,null,null,null,null,0,222]
[21,19752,22,19764,24,19770,null,null,null,null,0,222]
[21,19870,22,19877,24,19884,null,null,null,null,0,222]
[12,19979,24,19988,24,19995,null,null,null,null,0,122]
[21,20092,22,20097,24,20106,null,null,null,null,0,222]
[21,20206,22,20212,24,20215,null,null,null,null,0,222]
[12,20308,24,20315,24,20324,null,null,null,null,0,122]
[21,20427,22,20436,24,20444,null,null,null,null,0,222]
[21,20549,22,20554,24,20564,null,null,null,null,0,222]
[21,21375,22,21386,24,21392,null,null,null,null,0,222]
[12,21541,24,21570,24,21576,null,null,null,null,0,122]
[21,21744,22,21757,24,21763,null,null,null,null,0,222]
[12,21855,24,21868,24,21875,null,null,null,null,0,122]
[12,21969,24,21977,24,21986,null,null,null,null,0,122]
[21,22088,22,22092,24,22098,null,null,null,null,0,222]
[12,22193,24,22202,24,22212,null,null,null,null,0,122]
[21,22317,22,22327,24,22334,null,null,null,null,0,222]
[12,22427,24,22438,24,22446,null,null,null,null,0,122]
[21,22551,22,22555,24,22561,null,null,null,null,0,222]
[21,23082,22,23084,24,23108,null,null,null,null,0,222]
[21,23211,22,23215,24,23222,null,null,null,null,0,222]
[21,23326,22,23333,24,23338,null,null,null,null,0,222]
[21,23440,22,23452,24,23459,null,null,null,null,0,222]
[12,23552,24,23561,24,23576,null,null,null,null,0,122]
[21,23682,22,23694,24,23705,null,null,null,null,0,222]
[21,23972,22,23981,24,23989,null,null,null,null,null,222]

{"sheet":"!M128B20.Gus","index":14,"n_rows":188,"n_cols":48,"rows_kept":188,"cut":false,"hidden":false,"merged":[[4,39,4,42],[5,39,5,40],[4,44,4,47],[5,44,5,45],[4,24,4,27],[5,24,5,25],[4,29,4,32],[5,29,5,30],[4,34,4,37],[5,34,5,35],[1,1,1,2],[5,13,5,14],[18,13,18,14],[19,13,19,14],[4,19,4,22],[5,19,5,20]]}
["Report for:!M128B20.Gus"]
["Date:","<date>"]
["Hen:","<hen>",null,null,null,"Correct Sequence",{"$f":"Start!J2","v":211},null,null,null,null,null,null,null,null,"Total Sequences in Data",{"$f":"4994-COUNTBLANK(L7:L5000)","v":182},null,null,null,null,"Total Sequences in Block Data",{"$f":"COUNTA(L7:L36)","v":30},null,null,null,"Total Sequences in Block Data",{"$f":"COUNTA(L37:L67)","v":31},null,null,null,"Total Sequences in Block Data",{"$f":"COUNTA(L68:L97)","v":30},null,null,null,"Total Sequences in Block Data",{"$f":"COUNTA(L98:L127)","v":30},null,null,null,"Total Sequences in Block Data",{"$f":"COUNTA(L128:L158)","v":31},null,null,null,"Total Sequences in Block Data",{"$f":"COUNTA(L159:L188)","v":30}]
[null,null,null,null,null,null,null,null,null,null,null,null,null,null,null,"Total Sequences in Summary",{"$f":"SUM(O7:O14)","v":181},null,null,null,null,"Total Sequences in Block Summary",{"$f":"SUM(U7:U14)","v":30},null,null,null,"Total Sequences in Block Summary",{"$f":"SUM(Z7:Z14)","v":31},null,null,null,"Total Sequences in Block Summary",{"$f":"SUM(AE7:AE14)","v":30},null,null,null,"Total Sequences in Block Summary",{"$f":"SUM(AJ7:AJ14)","v":30},null,null,null,"Total Sequences in Block Summary",{"$f":"SUM(AO7:AO14)","v":31},null,null,null,"Total Sequences in Block Summary",{"$f":"SUM(AT7:AT14)","v":29}]
[null,null,null,null,null,null,null,null,null,null,null,null,null,null,null,null,null,null,null,"Block 1",null,null,null,null,"Block 2",null,null,null,null,"Block 3",null,null,null,null,"Block 4",null,null,null,null,"Block 5",null,null,null,null,"Block 6"]
["Sequence\nComponent\n1","Time\n1","Sequence\nComponent\n2","Time\n2","Sequence\nComponent\n3","Time\n3","Sequence\nComponent\n4","Time\n4","Sequence\nComponent\n5","Time\n5","Correct?\n0=No 1=Yes","Sequence",null,"Frequency",null,"Relative Frequency","Variability",null,null,"Frequency",null,"Relative Frequency","Variability",null,"Frequency",null,"Relative Frequency","Variability",null,"Frequency",null,"Relative Frequency","Variability",null,"Frequency",null,"Relative Frequency","Variability",null,"Frequency",null,"Relative Frequency","Variability",null,"Frequency",null,"Relative Frequency","Variability"]
[21,22,22,26,24,31,null,null,null,null,0,222,null,111,{"$f":"COUNTIF($L$7:$L$500,N7)","v":1},{"$f":"O7/$Q$4","v":5.5248618784530384E-3},{"$f":"IF(P7=0,0,(P7*((LOG(P7))/LOG(2))))","v":-4.1435612635818811E-2},null,null,{"$f":"N7","v":111},{"$f":"COUNTIF(L7:L36,T7)","v":0},{"$f":"U7/(W4-U11)","v":0},{"$f":"IF(V7=0,0,(V7*((LOG(V7))/LOG(2))))","v":0},null,{"$f":"N7","v":111},{"$f":"COUNTIF(L37:L67,Y7)","v":0},{"$f":"Z7/(AB4-Z11)","v":0},{"$f":"IF(AA7=0,0,(AA7*((LOG(AA7))/LOG(2))))","v":0},null,{"$f":"N7","v":111},{"$f":"COUNTIF(L68:L97,AD7)","v":0},{"$f":"AE7/(AG4-AE11)","v":0},{"$f":"IF(AF7=0,0,(AF7*((LOG(AF7))/LOG(2))))","v":0},null,{"$f":"N7","v":111},{"$f":"COUNTIF(L98:L127,AI7)","v":0},{"$f":"AJ7/(AL4-AJ11)","v":0},{"$f":"IF(AK7=0,0,(AK7*((LOG(AK7))/LOG(2))))","v":0},null,{"$f":"N7","v":111},{"$f":"COUNTIF(L128:L158,AN7)","v":0},{"$f":"AO7/(AQ4-AO11)","v":0},{"$f":"IF(AP7=0,0,(AP7*((LOG(AP7))/LOG(2))))","v":0},null,{"$f":"N7","v":111},{"$f":"COUNTIF(L159:L188,AS7)","v":1},{"$f":"AT7/(AV4-AT11)","v":3.4482758620689655E-2},{"$f":"IF(AU7=0,0,(AU7*((LOG(AU7))/LOG(2))))","v":-0.16751658603888178}]
[12,148,24,154,24,160,null,null,null,null,0,122,null,112,{"$f":"COUNTIF($L$7:$L$500,N8)","v":11},{"$f":"O8/$Q$4","v":6.0773480662983423E-2},{"$f":"IF(P8=0,0,(P8*((LOG(P8))/LOG(2))))","v":-0.24555003841383968},null,null,{"$f":"N8","v":112},{"$f":"COUNTIF(L7:L36,T8)","v":3},{"$f":"U8/(W4-U11)","v":0.1},{"$f":"IF(V8=0,0,(V8*((LOG(V8))/LOG(2))))","v":-0.33219280948873625},null,{"$f":"N8","v":112},{"$f":"COUNTIF(L37:L67,Y8)","v":2},{"$f":"Z8/(AB4-Z11)","v":6.4516129032258063E-2},{"$f":"IF(AA8=0,0,(AA8*((LOG(AA8))/LOG(2))))","v":-0.25510943937979835},null,{"$f":"N8","v":112},{"$f":"COUNTIF(L68:L97,AD8)","v":2},{"$f":"AE8/(AG4-AE11)","v":6.6666666666666666E-2},{"$f":"IF(AF8=0,0,(AF8*((LOG(AF8))/LOG(2))))","v":-0.26045937304056793},null,{"$f":"N8","v":112},{"$f":"COUNTIF(L98:L127,AI8)","v":1},{"$f":"AJ8/(AL4-AJ11)","v":3.3333333333333333E-2},{"$f":"IF(AK8=0,0,(AK8*((LOG(AK8))/LOG(2))))","v":-0.16356301985361729},null,{"$f":"N8","v":112},{"$f":"COUNTIF(L128:L158,AN8)","v":0},{"$f":"AO8/(AQ4-AO11)","v":0},{"$f":"IF(AP8=0,0,(AP8*((LOG(AP8))/LOG(2))))","v":0},null,{"$f":"N8","v":112},{"$f":"COUNTIF(L159:L188,AS8)","v":3},{"$f":"AT8/(AV4-AT11)","v":0.10344827586206896},{"$f":"IF(AU8=0,0,(AU8*((LOG(AU8))/LOG(2))))","v":-0.33858812011100858}]
[21,262,22,267,24,273,null,null,null,null,0,222,null,121,{"$f":"COUNTIF($L$7:$L$500,N9)","v":0},{"$f":"O9/$Q$4","v":0},{"$f":"IF(P9=0,0,(P9*((LOG(P9))/LOG(2))))","v":0},null,null,{"$f":"N9","v":121},{"$f":"COUNTIF(L7:L36,T9)","v":0},{"$f":"U9/(W4-U11)","v":0},{"$f":"IF(V9=0,0,(V9*((LOG(V9))/LOG(2))))","v":0},null,{"$f":"N9","v":121},{"$f":"COUNTIF(L37:L67,Y9)","v":0},{"$f":"Z9/(AB4-Z11)","v":0},{"$f":"IF(AA9=0,0,(AA9*((LOG(AA9))/LOG(2))))","v":0},null,{"$f":"N9","v":121},{"$f":"COUNTIF(L68:L97,AD9)","v":0},{"$f":"AE9/(AG4-AE11)","v":0},{"$f":"IF(AF9=0,0,(AF9*((LOG(AF9))/LOG(2))))","v":0},null,{"$f":"N9","v":121},{"$f":"COUNTIF(L98:L127,AI9)","v":0},{"$f":"AJ9/(AL4-AJ11)","v":0},{"$f":"IF(AK9=0,0,(AK9*((LOG(AK9))/LOG(2))))","v":0},null,{"$f":"N9","v":121},{"$f":"COUNTIF(L128:L158,AN9)","v":0},{"$f":"AO9/(AQ4-AO11)","v":0},{"$f":"IF(AP9=0,0,(AP9*((LOG(AP9))/LOG(2))))","v":0},null,{"$f":"N9","v":121},{"$f":"COUNTIF(L159:L188,AS9)","v":0},{"$f":"AT9/(AV4-AT11)","v":0},{"$f":"IF(AU9=0,0,(AU9*((LOG(AU9))/LOG(2))))","v":0}]
[21,375,22,381,24,388,null,null,null,null,0,222,null,122,{"$f":"COUNTIF($L$7:$L$500,N10)","v":67},{"$f":"O10/$Q$4","v":0.37016574585635359},{"$f":"IF(P10=0,0,(P10*((LOG(P10))/LOG(2))))","v":-0.53072761698289506},null,null,{"$f":"N10","v":122},{"$f":"COUNTIF(L7:L36,T10)","v":11},{"$f":"U10/(W4-U11)","v":0.36666666666666664},{"$f":"IF(V10=0,0,(V10*((LOG(V10))/LOG(2))))","v":-0.53073495822278116},null,{"$f":"N10","v":122},{"$f":"COUNTIF(L37:L67,Y10)","v":12},{"$f":"Z10/(AB4-Z11)","v":0.38709677419354838},{"$f":"IF(AA10=0,0,(AA10*((LOG(AA10))/LOG(2))))","v":-0.5300259908383429},null,{"$f":"N10","v":122},{"$f":"COUNTIF(L68:L97,AD10)","v":6},{"$f":"AE10/(AG4-AE11)","v":0.2},{"$f":"IF(AF10=0,0,(AF10*((LOG(AF10))/LOG(2))))","v":-0.46438561897747244},null,{"$f":"N10","v":122},{"$f":"COUNTIF(L98:L127,AI10)","v":15},{"$f":"AJ10/(AL4-AJ11)","v":0.5},{"$f":"IF(AK10=0,0,(AK10*((LOG(AK10))/LOG(2))))","v":-0.5},null,{"$f":"N10","v":122},{"$f":"COUNTIF(L128:L158,AN10)","v":13},{"$f":"AO10/(AQ4-AO11)","v":0.41935483870967744},{"$f":"IF(AP10=0,0,(AP10*((LOG(AP10))/LOG(2))))","v":-0.52576889352242517},null,{"$f":"N10","v":122},{"$f":"COUNTIF(L159:L188,AS10)","v":10},{"$f":"AT10/(AV4-AT11)","v":0.34482758620689657},{"$f":"IF(AU10=0,0,(AU10*((LOG(AU10))/LOG(2))))","v":-0.52967341387593436}]
[12,519,13,524,24,537,null,null,null,null,0,112,null,211,{"$f":"COUNTIF($L$7:$L$500,N11)","v":0},{"$f":"O11/$Q$4","v":0},{"$f":"IF(P11=0,0,(P11*((LOG(P11))/LOG(2))))","v":0},null,null,{"$f":"N11","v":211},{"$f":"COUNTIF(L7:L36,T11)","v":0},null,null,null,{"$f":"N11","v":211},{"$f":"COUNTIF(L37:L67,Y11)","v":0},null,null,null,{"$f":"N11","v":211},{"$f":"COUNTIF(L68:L97,AD11)","v":0},null,null,null,{"$f":"N11","v":211},{"$f":"COUNTIF(L98:L127,AI11)","v":0},null,null,null,{"$f":"N11","v":211},{"$f":"COUNTIF(L128:L158,AN11)","v":0},null,null,null,{"$f":"N11","v":211},{"$f":"COUNTIF(L159:L188,AS11)","v":0}]
[12,638,24,644,24,650,null,null,null,null,0,122,null,212,{"$f":"COUNTIF($L$7:$L$500,N12)","v":0},{"$f":"O12/$Q$4","v":0},{"$f":"IF(P12=0,0,(P12*((LOG(P12))/LOG(2))))","v":0},null,null,{"$f":"N12","v":212},{"$f":"COUNTIF(L7:L36,T12)","v":0},{"$f":"U12/(W4-U11)","v":0},{"$f":"IF(V12=0,0,(V12*((LOG(V12))/LOG(2))))","v":0},null,{"$f":"N12","v":212},{"$f":"COUNTIF(L37:L67,Y12)","v":0},{"$f":"Z12/(AB4-Z11)","v":0},{"$f":"IF(AA12=0,0,(AA12*((LOG(AA12))/LOG(2))))","v":0},null,{"$f":"N12","v":212},{"$f":"COUNTIF(L68:L97,AD12)","v":0},{"$f":"AE12/(AG4-AE11)","v":0},{"$f":"IF(AF12=0,0,(AF12*((LOG(AF12))/LOG(2))))","v":0},null,{"$f":"N12","v":212},{"$f":"COUNTIF(L98:L127,AI12)","v":0},{"$f":"AJ12/(AL4-AJ11)","v":0},{"$f":"IF(AK12=0,0,(AK12*((LOG(AK12))/LOG(2))))","v":0},null,{"$f":"N12","v":212},{"$f":"COUNTIF(L128:L158,AN12)","v":0},{"$f":"AO12/(AQ4-AO11)","v":0},{"$f":"IF(AP12=0,0,(AP12*((LOG(AP12))/LOG(2))))","v":0},null,{"$f":"N12","v":212},{"$f":"COUNTIF(L159:L188,AS12)","v":0},{"$f":"AT12/(AV4-AT11)","v":0},{"$f":"IF(AU12=0,0,(AU12*((LOG(AU12))/LOG(2))))","v":0}]
[21,752,22,758,24,770,null,null,null,null,0,222,null,221,{"$f":"COUNTIF($L$7:$L$500,N13)","v":0},{"$f":"O13/$Q$4","v":0},{"$f":"IF(P13=0,0,(P13*((LOG(P13))/LOG(2))))","v":0},null,null,{"$f":"N13","v":221},{"$f":"COUNTIF(L7:L36,T13)","v":0},{"$f":"U13/(W4-U11)","v":0},{"$f":"IF(V13=0,0,(V13*((LOG(V13))/LOG(2))))","v":0},null,{"$f":"N13","v":221},{"$f":"COUNTIF(L37:L67,Y13)","v":0},{"$f":"Z13/(AB4-Z11)","v":0},{"$f":"IF(AA13=0,0,(AA13*((LOG(AA13))/LOG(2))))","v":0},null,{"$f":"N13","v":221},{"$f":"COUNTIF(L68:L97,AD13)","v":0},{"$f":"AE13/(AG4-AE11)","v":0},{"$f":"IF(AF13=0,0,(AF13*((LOG(AF13))/LOG(2))))","v":0},null,{"$f":"N13","v":221},{"$f":"COUNTIF(L98:L127,AI13)","v":0},{"$f":"AJ13/(AL4-AJ11)","v":0},{"$f":"IF(AK13=0,0,(AK13*((LOG(AK13))/LOG(2))))","v":0},null,{"$f":"N13","v":221},{"$f":"COUNTIF(L128:L158,AN13)","v":0},{"$f":"AO13/(AQ4-AO11)","v":0},{"$f":"IF(AP13=0,0,(AP13*((LOG(AP13))/LOG(2))))","v":0},null,{"$f":"N13","v":221},{"$f":"COUNTIF(L159:L188,AS13)","v":0},{"$f":"AT13/(AV4-AT11)","v":0},{"$f":"IF(AU13=0,0,(AU13*((LOG(AU13))/LOG(2))))","v":0}]
[21,975,22,984,24,1013,null,null,null,null,0,222,null,222,{"$f":"COUNTIF($L$7:$L$500,N14)","v":102},{"$f":"O14/$Q$4","v":0.56353591160220995},{"$f":"IF(P14=0,0,(P14*((LOG(P14))/LOG(2))))","v":-0.46628119116792488},null,null,{"$f":"N14","v":222},{"$f":"COUNTIF(L7:L36,T14)","v":16},{"$f":"U14/(W4-U11)","v":0.53333333333333333},{"$f":"IF(V14=0,0,(V14*((LOG(V14))/LOG(2))))","v":-0.4836749843245432},null,{"$f":"N14","v":222},{"$f":"COUNTIF(L37:L67,Y14)","v":17},{"$f":"Z14/(AB4-Z11)","v":0.54838709677419351},{"$f":"IF(AA14=0,0,(AA14*((LOG(AA14))/LOG(2))))","v":-0.47530545081681003},null,{"$f":"N14","v":222},{"$f":"COUNTIF(L68:L97,AD14)","v":22},{"$f":"AE14/(AG4-AE11)","v":0.73333333333333328},{"$f":"IF(AF14=0,0,(AF14*((LOG(AF14))/LOG(2))))","v":-0.32813658311222899},null,{"$f":"N14","v":222},{"$f":"COUNTIF(L98:L127,AI14)","v":14},{"$f":"AJ14/(AL4-AJ11)","v":0.46666666666666667},{"$f":"IF(AK14=0,0,(AK14*((LOG(AK14))/LOG(2))))","v":-0.51311664765709342},null,{"$f":"N14","v":222},{"$f":"COUNTIF(L128:L158,AN14)","v":18},{"$f":"AO14/(AQ4-AO11)","v":0.58064516129032262},{"$f":"IF(AP14=0,0,(AP14*((LOG(AP14))/LOG(2))))","v":-0.45538334067748809},null,{"$f":"N14","v":222},{"$f":"COUNTIF(L159:L188,AS14)","v":15},{"$f":"AT14/(AV4-AT11)","v":0.51724137931034486},{"$f":"IF(AU14=0,0,(AU14*((LOG(AU14))/LOG(2))))","v":-0.49194331009606224}]
[21,1132,22,1138,24,1143,null,null,null,null,0,222,null,null,null,{"$f":"SUM(P7:P14)","v":1},{"$f":"-SUM(Q7:Q14)","v":1.2839944592004784},null,null,null,null,{"$f":"SUM(V7:V14)","v":1},{"$f":"-SUM(W7:W14)","v":1.3466027520360606},null,null,null,{"$f":"SUM(AA7:AA14)","v":1},{"$f":"-SUM(AB7:AB14)","v":1.2604408810349512},null,null,null,{"$f":"SUM(AF7:AF14)","v":1},{"$f":"-SUM(AG7:AG14)","v":1.0529815751302694},null,null,null,{"$f":"SUM(AK7:AK14)","v":1},{"$f":"-SUM(AL7:AL14)","v":1.1766796675107107},null,null,null,{"$f":"SUM(AP7:AP14)","v":1},{"$f":"-SUM(AQ7:AQ14)","v":0.98115223419991326},null,null,null,{"$f":"SUM(AU7:AU14)","v":1},{"$f":"-SUM(AV7:AV14)","v":1.5277214301218869}]
[21,1251,22,1260,24,1279,null,null,null,null,0,222,null,null,null,"U=",{"$f":"Q15/(LOG(Q4)/LOG(2))","v":0.17120277916801857},null,null,null,null,"U1=",{"$f":"W15/(LOG(W4)/LOG(2))","v":0.27443097126339422},null,null,null,"U2=",{"$f":"AB15/(LOG(AB4)/LOG(2))","v":0.25441884052764208},null,null,null,"U3=",{"$f":"AG15/(LOG(AG4)/LOG(2))","v":0.2145924296891086},null,null,null,"U4=",{"$f":"AL15/(LOG(AL4)/LOG(2))","v":0.23980148825078645},null,null,null,"U5=",{"$f":"AQ15/(LOG(AQ4)/LOG(2))","v":0.198044682271239},null,null,null,"U6=",{"$f":"AV15/(LOG(AV4)/LOG(2))","v":0.31447661727251541}]
[12,1371,24,1384,24,1392,null,null,null,null,0,122]
[12,1508,24,1521,24,1534,null,null,null,null,0,122]
[21,1634,22,1643,24,1649,null,null,null,null,0,222,null,"Total Target Seq"]
[21,1751,22,1759,24,1765,null,null,null,null,0,222,null,{"$f":"COUNTIF(L7:L188,G3)","v":0},null,30,31,30,30,31,30]
[21,1863,22,1868,24,1874,null,null,null,null,0,222,null,null,null,"% of reinforcement given in 6 equal intervals based on number of trials "]
[12,1968,24,1971,24,1975,null,null,null,null,0,122,null,null,null,"%_1","%_2","%_3","%_4","%_5","%_6"]
[21,2103,22,2128,24,2136,null,null,null,null,0,222,null,null,"target sequence",{"$f":"$G$3","v":211},{"$f":"$G$3","v":211},{"$f":"$G$3","v":211},{"$f":"$G$3","v":211},{"$f":"$G$3","v":211},{"$f":"$G$3","v":211}]
[21,2238,22,2243,24,2251,null,null,null,null,0,222,null,null,"total reinforcement",{"$f":"U11","v":0},{"$f":"Z11","v":0},{"$f":"AE11","v":0},{"$f":"AJ11","v":0},{"$f":"AO11","v":0},{"$f":"AT11","v":0}]
[12,2419,24,2430,24,2437,null,null,null,null,0,122,null,null,"% target"]
[21,2540,22,2548,24,2554,null,null,null,null,0,222,null,null,"CCRF"]
[21,2656,22,2659,24,2668,null,null,null,null,0,222,null,null,"% CCRf"]
[12,2760,24,2771,24,2775,null,null,null,null,0,122,null,null,"average response rate",{"$f":"F36/P20","v":133.96666666666667},{"$f":"(F67-F36)/Q20","v":122.03225806451613},{"$f":"(F97-F67)/R20","v":126.86666666666666},{"$f":"(F127-F97)/S20","v":131.19999999999999},{"$f":"(F158-F127)/T20","v":130.61290322580646},{"$f":"(F188-F158)/U20","v":-653.1}]
[12,2868,24,2879,24,2887,null,null,null,null,0,122]
[12,2981,24,2986,24,2989,null,null,null,null,0,122]
[12,3083,24,3095,24,3104,null,null,null,null,0,122]
[21,3205,22,3213,24,3218,null,null,null,null,0,222]
[12,3313,24,3323,24,3328,null,null,null,null,0,122]
[21,3512,22,3522,24,3537,null,null,null,null,0,222]
[12,3773,13,3787,24,3809,null,null,null,null,0,112]
[12,3996,13,4004,24,4019,null,null,null,null,0,112]
[12,4114,24,4124,24,4128,null,null,null,null,0,122]
[12,4221,24,4229,24,4231,null,null,null,null,0,122]
[21,4332,22,4341,24,4347,null,null,null,null,0,222]
[21,4448,22,4451,24,4456,null,null,null,null,0,222]
[12,4567,24,4595,24,4606,null,null,null,null,0,122]
[21,4711,22,4714,24,4717,null,null,null,null,0,222]
[12,4814,24,4817,24,4823,null,null,null,null,0,122]
[12,4916,24,4927,24,4932,null,null,null,null,0,122]
[12,5055,24,5068,24,5075,null,null,null,null,0,122]
[21,5176,22,5185,24,5191,null,null,null,null,0,222]
[21,5293,22,5296,24,5304,null,null,null,null,0,222]
[21,5403,22,5408,24,5412,null,null,null,null,0,222]
[12,5504,13,5513,24,5518,null,null,null,null,0,112]
[12,5629,24,5641,24,5649,null,null,null,null,0,122]
[21,5750,22,5764,24,5770,null,null,null,null,0,222]
[21,5874,22,5880,24,5887,null,null,null,null,0,222]
[21,5993,22,5997,24,6004,null,null,null,null,0,222]
[12,6098,24,6107,24,6112,null,null,null,null,0,122]
[21,6217,22,6222,24,6228,null,null,null,null,0,222]
[21,6332,22,6338,24,6344,null,null,null,null,0,222]
[21,6449,22,6454,24,6460,null,null,null,null,0,222]
[12,6675,24,6694,24,6702,null,null,null,null,0,122]
[21,6802,22,6808,24,6815,null,null,null,null,0,222]
[12,6906,24,6920,24,6925,null,null,null,null,0,122]
[21,7025,22,7029,24,7035,null,null,null,null,0,222]
[21,7142,22,7145,24,7151,null,null,null,null,0,222]
[12,7310,24,7325,24,7340,null,null,null,null,0,122]
[12,7435,13,7438,24,7446,null,null,null,null,0,112]
[21,7555,22,7561,24,7566,null,null,null,null,0,222]
[21,7672,22,7688,24,7695,null,null,null,null,0,222]
[12,7790,24,7795,24,7802,null,null,null,null,0,122]
[12,7896,24,7909,24,7914,null,null,null,null,0,122]
[12,8055,13,8057,24,8069,null,null,null,null,0,112]
[21,8174,22,8185,24,8191,null,null,null,null,0,222]
[21,8391,22,8397,24,8404,null,null,null,null,0,222]
[21,8507,22,8512,24,8518,null,null,null,null,0,222]
[21,8619,22,8623,24,8626,null,null,null,null,0,222]
[21,8733,22,8736,24,8742,null,null,null,null,0,222]
[12,8868,24,8891,24,8898,null,null,null,null,0,122]
[21,9007,22,9014,24,9019,null,null,null,null,0,222]
[21,9121,22,9128,24,9134,null,null,null,null,0,222]
[21,9234,22,9239,24,9250,null,null,null,null,0,222]
[12,9344,24,9352,24,9357,null,null,null,null,0,122]
[21,9460,22,9472,24,9479,null,null,null,null,0,222]
[12,9677,24,9691,24,9702,null,null,null,null,0,122]
[21,9803,22,9817,24,9822,null,null,null,null,0,222]
[21,9926,22,9936,24,9952,null,null,null,null,0,222]
[21,10055,22,10063,24,10069,null,null,null,null,0,222]
[21,10172,22,10174,24,10180,null,null,null,null,0,222]
[21,10285,22,10291,24,10297,null,null,null,null,0,222]
[21,10395,22,10406,24,10412,null,null,null,null,0,222]
[12,10511,24,10518,24,10523,null,null,null,null,0,122]
[12,10662,24,10677,24,10683,null,null,null,null,0,122]
[12,10777,13,10785,24,10788,null,null,null,null,0,112]
[21,10896,22,10901,24,10916,null,null,null,null,0,222]
[21,11020,22,11023,24,11029,null,null,null,null,0,222]
[21,11127,22,11136,24,11142,null,null,null,null,0,222]
[21,11244,22,11249,24,11255,null,null,null,null,0,222]
[21,11356,22,11361,24,11372,null,null,null,null,0,222]
[21,11476,22,11484,24,11489,null,null,null,null,0,222]
[21,11597,22,11601,24,11608,null,null,null,null,0,222]
[21,11708,22,11714,24,11720,null,null,null,null,0,222]
[12,11816,24,11827,24,11832,null,null,null,null,0,122]
[21,11936,22,11941,24,11946,null,null,null,null,0,222]
[12,12181,24,12199,24,12205,null,null,null,null,0,122]
[12,12299,24,12317,24,12325,null,null,null,null,0,122]
[21,12434,22,12439,24,12445,null,null,null,null,0,222]
[12,12537,24,12551,24,12558,null,null,null,null,0,122]
[12,12649,24,12664,24,12670,null,null,null,null,0,122]
[12,12766,24,12770,24,12776,null,null,null,null,0,122]
[21,12868,22,12873,24,12875,null,null,null,null,0,222]
[21,12986,22,13001,24,13007,null,null,null,null,0,222]
[21,13106,22,13113,24,13119,null,null,null,null,0,222]
[21,13245,22,13253,24,13266,null,null,null,null,0,222]
[12,13358,24,13364,24,13370,null,null,null,null,0,122]
[12,13461,24,13476,24,13480,null,null,null,null,0,122]
[12,13715,24,13728,24,13733,null,null,null,null,0,122]
[12,13826,24,13836,24,13843,null,null,null,null,0,122]
[12,13992,24,14010,24,14015,null,null,null,null,0,122]
[21,14117,22,14122,24,14127,null,null,null,null,0,222]
[21,14228,22,14238,24,14244,null,null,null,null,0,222]
[12,14341,24,14345,24,14348,null,null,null,null,0,122]
[21,14488,22,14494,24,14504,null,null,null,null,0,222]
[12,14597,24,14603,24,14609,null,null,null,null,0,122]
[12,14705,24,14720,24,14732,null,null,null,null,0,122]
[12,14899,24,14916,24,14922,null,null,null,null,0,122]
[21,15026,22,15031,24,15038,null,null,null,null,0,222]
[12,15159,13,15163,24,15183,null,null,null,null,0,112]
[21,15286,22,15303,24,15310,null,null,null,null,0,222]
[21,15416,22,15427,24,15433,null,null,null,null,0,222]
[21,15536,22,15538,24,15544,null,null,null,null,0,222]
[12,15636,24,15648,24,15656,null,null,null,null,0,122]
[21,15760,22,15770,24,15776,null,null,null,null,0,222]
[12,16053,24,16068,24,16083,null,null,null,null,0,122]
[21,16186,22,16189,24,16194,null,null,null,null,0,222]
[12,16287,24,16294,24,16308,null,null,null,null,0,122]
[21,16412,22,16418,24,16422,null,null,null,null,0,222]
[21,16527,22,16533,24,16538,null,null,null,null,0,222]
[12,16694,24,16723,24,16729,null,null,null,null,0,122]
[12,16827,24,16838,24,16841,null,null,null,null,0,122]
[21,16945,22,16950,24,16962,null,null,null,null,0,222]
[21,17053,22,17062,24,17068,null,null,null,null,0,222]
[21,17174,22,17182,24,17189,null,null,null,null,0,222]
[12,17426,24,17436,24,17440,null,null,null,null,0,122]
[21,17544,22,17549,24,17560,null,null,null,null,0,222]
[21,17661,22,17667,24,17673,null,null,null,null,0,222]
[21,17779,22,17786,24,17793,null,null,null,null,0,222]
[21,17896,22,17906,24,17914,null,null,null,null,0,222]
[21,18088,22,18093,24,18099,null,null,null,null,0,222]
[21,18217,22,18224,24,18240,null,null,null,null,0,222]
[21,18343,22,18346,24,18350,null,null,null,null,0,222]
[12,18442,24,18451,24,18462,null,null,null,null,0,122]
[21,18565,22,18571,24,18583,null,null,null,null,0,222]
[12,18676,24,18688,24,18696,null,null,null,null,0,122]
[21,18800,22,18806,24,18811,null,null,null,null,0,222]
[12,18904,24,18918,24,18924,null,null,null,null,0,122]
[12,19016,24,19022,24,19028,null,null,null,null,0,122]
[21,19135,22,19141,24,19147,null,null,null,null,0,222]
[12,19241,24,19249,24,19253,null,null,null,null,0,122]
[21,19357,22,19361,24,19366,null,null,null,null,0,222]
[12,19472,24,19482,24,19487,null,null,null,null,0,122]
[12,19581,24,19588,24,19593,null,null,null,null,0,122]
[12,19690,13,19697,13,19702,null,null,null,null,0,111]
[12,19795,13,19798,24,19806,null,null,null,null,0,112]
[21,19912,22,19924,24,19929,null,null,null,null,0,222]
[12,20025,24,20032,24,20036,null,null,null,null,0,122]
[21,20151,22,20164,24,20183,null,null,null,null,0,222]
[12,20330,24,20341,24,20347,null,null,null,null,0,122]
[12,20490,13,20496,24,20518,null,null,null,null,0,112]
[21,20623,22,20628,24,20634,null,null,null,null,0,222]
[12,20725,24,20736,24,20743,null,null,null,null,0,122]
[21,20845,22,20852,24,20858,null,null,null,null,0,222]
[21,20962,22,20964,24,20970,null,null,null,null,0,222]
[12,21069,24,21077,24,21083,null,null,null,null,0,122]
[21,21187,22,21198,24,21205,null,null,null,null,0,222]
[21,21312,22,21319,24,21324,null,null,null,null,0,222]
[12,21421,24,21435,24,21439,null,null,null,null,0,122]
[12,21745,24,21763,24,21769,null,null,null,null,0,122]
[12,21863,24,21871,24,21877,null,null,null,null,0,122]
[12,21971,24,21980,24,21985,null,null,null,null,0,122]
[12,22274,24,22285,24,22291,null,null,null,null,0,122]
[21,22458,22,22464,24,22470,null,null,null,null,0,222]
[12,22564,24,22571,24,22577,null,null,null,null,0,122]
[21,22685,22,22688,24,22696,null,null,null,null,0,222]
[21,22992,22,22996,24,23001,null,null,null,null,0,222]
[21,23107,22,23110,24,23116,null,null,null,null,0,222]
[21,23217,22,23222,24,23237,null,null,null,null,0,222]
[21,23330,22,23338,24,23343,null,null,null,null,0,222]
[21,23442,22,23451,24,23459,null,null,null,null,0,222]
[12,23553,13,23557,24,23561,null,null,null,null,0,112]
[21,23668,22,23674,24,23680,null,null,null,null,0,222]
[12,23995,null,null,null,null,null,null,null,null,null,1]

{"sheet":"!M129B10.Gus","index":15,"n_rows":179,"n_cols":48,"rows_kept":179,"cut":false,"hidden":false,"merged":[[4,39,4,42],[5,39,5,40],[4,44,4,47],[5,44,5,45],[4,24,4,27],[5,24,5,25],[4,29,4,32],[5,29,5,30],[4,34,4,37],[5,34,5,35],[1,1,1,2],[5,13,5,14],[18,13,18,14],[19,13,19,14],[4,19,4,22],[5,19,5,20]]}
["Report for:!M129B10.Gus"]
["Date:","<date>"]
["Hen:","<hen>",null,null,null,"Correct Sequence",{"$f":"Start!J2","v":211},null,null,null,null,null,null,null,null,"Total Sequences in Data",{"$f":"4994-COUNTBLANK(L7:L5000)","v":173},null,null,null,null,"Total Sequences in Block Data",{"$f":"COUNTA(L7:L35)","v":29},null,null,null,"Total Sequences in Block Data",{"$f":"COUNTA(L36:L64)","v":29},null,null,null,"Total Sequences in Block Data",{"$f":"COUNTA(L65:L92)","v":28},null,null,null,"Total Sequences in Block Data",{"$f":"COUNTA(L93:L121)","v":29},null,null,null,"Total Sequences in Block Data",{"$f":"COUNTA(L122:L150)","v":29},null,null,null,"Total Sequences in Block Data",{"$f":"COUNTA(L151:L179)","v":29}]
[null,null,null,null,null,null,null,null,null,null,null,null,null,null,null,"Total Sequences in Summary",{"$f":"SUM(O7:O14)","v":173},null,null,null,null,"Total Sequences in Block Summary",{"$f":"SUM(U7:U14)","v":29},null,null,null,"Total Sequences in Block Summary",{"$f":"SUM(Z7:Z14)","v":29},null,null,null,"Total Sequences in Block Summary",{"$f":"SUM(AE7:AE14)","v":28},null,null,null,"Total Sequences in Block Summary",{"$f":"SUM(AJ7:AJ14)","v":29},null,null,null,"Total Sequences in Block Summary",{"$f":"SUM(AO7:AO14)","v":29},null,null,null,"Total Sequences in Block Summary",{"$f":"SUM(AT7:AT14)","v":29}]
[null,null,null,null,null,null,null,null,null,null,null,null,null,null,null,null,null,null,null,"Block 1",null,null,null,null,"Block 2",null,null,null,null,"Block 3",null,null,null,null,"Block 4",null,null,null,null,"Block 5",null,null,null,null,"Block 6"]
["Sequence\nComponent\n1","Time\n1","Sequence\nComponent\n2","Time\n2","Sequence\nComponent\n3","Time\n3","Sequence\nComponent\n4","Time\n4","Sequence\nComponent\n5","Time\n5","Correct?\n0=No 1=Yes","Sequence",null,"Frequency",null,"Relative Frequency","Variability",null,null,"Frequency",null,"Relative Frequency","Variability",null,"Frequency",null,"Relative Frequency","Variability",null,"Frequency",null,"Relative Frequency","Variability",null,"Frequency",null,"Relative Frequency","Variability",null,"Frequency",null,"Relative Frequency","Variability",null,"Frequency",null,"Relative Frequency","Variability"]
[21,9,22,15,24,21,null,null,null,null,0,222,null,111,{"$f":"COUNTIF($L$7:$L$500,N7)","v":1},{"$f":"O7/$Q$4","v":5.7803468208092483E-3},{"$f":"IF(P7=0,0,(P7*((LOG(P7))/LOG(2))))","v":-4.2974729639518636E-2},null,null,{"$f":"N7","v":111},{"$f":"COUNTIF(L7:L35,T7)","v":1},{"$f":"U7/(W4-U11)","v":3.4482758620689655E-2},{"$f":"IF(V7=0,0,(V7*((LOG(V7))/LOG(2))))","v":-0.16751658603888178},null,{"$f":"N7","v":111},{"$f":"COUNTIF(L36:L64,Y7)","v":0},{"$f":"Z7/(AB4-Z11)","v":0},{"$f":"IF(AA7=0,0,(AA7*((LOG(AA7))/LOG(2))))","v":0},null,{"$f":"N7","v":111},{"$f":"COUNTIF(L65:L92,AD7)","v":0},{"$f":"AE7/(AG4-AE11)","v":0},{"$f":"IF(AF7=0,0,(AF7*((LOG(AF7))/LOG(2))))","v":0},null,{"$f":"N7","v":111},{"$f":"COUNTIF(L93:L121,AI7)","v":0},{"$f":"AJ7/(AL4-AJ11)","v":0},{"$f":"IF(AK7=0,0,(AK7*((LOG(AK7))/LOG(2))))","v":0},null,{"$f":"N7","v":111},{"$f":"COUNTIF(L122:L150,AN7)","v":0},{"$f":"AO7/(AQ4-AO11)","v":0},{"$f":"IF(AP7=0,0,(AP7*((LOG(AP7))/LOG(2))))","v":0},null,{"$f":"N7","v":111},{"$f":"COUNTIF(L151:L179,AS7)","v":0},{"$f":"AT7/(AV4-AT11)","v":0},{"$f":"IF(AU7=0,0,(AU7*((LOG(AU7))/LOG(2))))","v":0}]
[21,116,22,121,24,126,null,null,null,null,0,222,null,112,{"$f":"COUNTIF($L$7:$L$500,N8)","v":9},{"$f":"O8/$Q$4","v":5.2023121387283239E-2},{"$f":"IF(P8=0,0,(P8*((LOG(P8))/LOG(2))))","v":-0.22186317361705035},null,null,{"$f":"N8","v":112},{"$f":"COUNTIF(L7:L35,T8)","v":0},{"$f":"U8/(W4-U11)","v":0},{"$f":"IF(V8=0,0,(V8*((LOG(V8))/LOG(2))))","v":0},null,{"$f":"N8","v":112},{"$f":"COUNTIF(L36:L64,Y8)","v":3},{"$f":"Z8/(AB4-Z11)","v":0.10344827586206896},{"$f":"IF(AA8=0,0,(AA8*((LOG(AA8))/LOG(2))))","v":-0.33858812011100858},null,{"$f":"N8","v":112},{"$f":"COUNTIF(L65:L92,AD8)","v":1},{"$f":"AE8/(AG4-AE11)","v":3.5714285714285712E-2},{"$f":"IF(AF8=0,0,(AF8*((LOG(AF8))/LOG(2))))","v":-0.17169124721634299},null,{"$f":"N8","v":112},{"$f":"COUNTIF(L93:L121,AI8)","v":2},{"$f":"AJ8/(AL4-AJ11)","v":6.8965517241379309E-2},{"$f":"IF(AK8=0,0,(AK8*((LOG(AK8))/LOG(2))))","v":-0.26606765483638428},null,{"$f":"N8","v":112},{"$f":"COUNTIF(L122:L150,AN8)","v":1},{"$f":"AO8/(AQ4-AO11)","v":3.4482758620689655E-2},{"$f":"IF(AP8=0,0,(AP8*((LOG(AP8))/LOG(2))))","v":-0.16751658603888178},null,{"$f":"N8","v":112},{"$f":"COUNTIF(L151:L179,AS8)","v":2},{"$f":"AT8/(AV4-AT11)","v":6.8965517241379309E-2},{"$f":"IF(AU8=0,0,(AU8*((LOG(AU8))/LOG(2))))","v":-0.26606765483638428}]
[21,256,22,261,24,266,null,null,null,null,0,222,null,121,{"$f":"COUNTIF($L$7:$L$500,N9)","v":0},{"$f":"O9/$Q$4","v":0},{"$f":"IF(P9=0,0,(P9*((LOG(P9))/LOG(2))))","v":0},null,null,{"$f":"N9","v":121},{"$f":"COUNTIF(L7:L35,T9)","v":0},{"$f":"U9/(W4-U11)","v":0},{"$f":"IF(V9=0,0,(V9*((LOG(V9))/LOG(2))))","v":0},null,{"$f":"N9","v":121},{"$f":"COUNTIF(L36:L64,Y9)","v":0},{"$f":"Z9/(AB4-Z11)","v":0},{"$f":"IF(AA9=0,0,(AA9*((LOG(AA9))/LOG(2))))","v":0},null,{"$f":"N9","v":121},{"$f":"COUNTIF(L65:L92,AD9)","v":0},{"$f":"AE9/(AG4-AE11)","v":0},{"$f":"IF(AF9=0,0,(AF9*((LOG(AF9))/LOG(2))))","v":0},null,{"$f":"N9","v":121},{"$f":"COUNTIF(L93:L121,AI9)","v":0},{"$f":"AJ9/(AL4-AJ11)","v":0},{"$f":"IF(AK9=0,0,(AK9*((LOG(AK9))/LOG(2))))","v":0},null,{"$f":"N9","v":121},{"$f":"COUNTIF(L122:L150,AN9)","v":0},{"$f":"AO9/(AQ4-AO11)","v":0},{"$f":"IF(AP9=0,0,(AP9*((LOG(AP9))/LOG(2))))","v":0},null,{"$f":"N9","v":121},{"$f":"COUNTIF(L151:L179,AS9)","v":0},{"$f":"AT9/(AV4-AT11)","v":0},{"$f":"IF(AU9=0,0,(AU9*((LOG(AU9))/LOG(2))))","v":0}]
[21,376,22,379,24,383,null,null,null,null,0,222,null,122,{"$f":"COUNTIF($L$7:$L$500,N10)","v":77},{"$f":"O10/$Q$4","v":0.44508670520231214},{"$f":"IF(P10=0,0,(P10*((LOG(P10))/LOG(2))))","v":-0.51979080863884608},null,null,{"$f":"N10","v":122},{"$f":"COUNTIF(L7:L35,T10)","v":8},{"$f":"U10/(W4-U11)","v":0.27586206896551724},{"$f":"IF(V10=0,0,(V10*((LOG(V10))/LOG(2))))","v":-0.51254648141450265},null,{"$f":"N10","v":122},{"$f":"COUNTIF(L36:L64,Y10)","v":10},{"$f":"Z10/(AB4-Z11)","v":0.34482758620689657},{"$f":"IF(AA10=0,0,(AA10*((LOG(AA10))/LOG(2))))","v":-0.52967341387593436},null,{"$f":"N10","v":122},{"$f":"COUNTIF(L65:L92,AD10)","v":16},{"$f":"AE10/(AG4-AE11)","v":0.5714285714285714},{"$f":"IF(AF10=0,0,(AF10*((LOG(AF10))/LOG(2))))","v":-0.46134566974720237},null,{"$f":"N10","v":122},{"$f":"COUNTIF(L93:L121,AI10)","v":12},{"$f":"AJ10/(AL4-AJ11)","v":0.41379310344827586},{"$f":"IF(AK10=0,0,(AK10*((LOG(AK10))/LOG(2))))","v":-0.5267662735474824},null,{"$f":"N10","v":122},{"$f":"COUNTIF(L122:L150,AN10)","v":15},{"$f":"AO10/(AQ4-AO11)","v":0.51724137931034486},{"$f":"IF(AP10=0,0,(AP10*((LOG(AP10))/LOG(2))))","v":-0.49194331009606224},null,{"$f":"N10","v":122},{"$f":"COUNTIF(L151:L179,AS10)","v":16},{"$f":"AT10/(AV4-AT11)","v":0.55172413793103448},{"$f":"IF(AU10=0,0,(AU10*((LOG(AU10))/LOG(2))))","v":-0.47336882489797077}]
[12,476,24,488,24,495,null,null,null,null,0,122,null,211,{"$f":"COUNTIF($L$7:$L$500,N11)","v":0},{"$f":"O11/$Q$4","v":0},{"$f":"IF(P11=0,0,(P11*((LOG(P11))/LOG(2))))","v":0},null,null,{"$f":"N11","v":211},{"$f":"COUNTIF(L7:L35,T11)","v":0},null,null,null,{"$f":"N11","v":211},{"$f":"COUNTIF(L36:L64,Y11)","v":0},null,null,null,{"$f":"N11","v":211},{"$f":"COUNTIF(L65:L92,AD11)","v":0},null,null,null,{"$f":"N11","v":211},{"$f":"COUNTIF(L93:L121,AI11)","v":0},null,null,null,{"$f":"N11","v":211},{"$f":"COUNTIF(L122:L150,AN11)","v":0},null,null,null,{"$f":"N11","v":211},{"$f":"COUNTIF(L151:L179,AS11)","v":0}]
[21,603,22,607,24,612,null,null,null,null,0,222,null,212,{"$f":"COUNTIF($L$7:$L$500,N12)","v":1},{"$f":"O12/$Q$4","v":5.7803468208092483E-3},{"$f":"IF(P12=0,0,(P12*((LOG(P12))/LOG(2))))","v":-4.2974729639518636E-2},null,null,{"$f":"N12","v":212},{"$f":"COUNTIF(L7:L35,T12)","v":0},{"$f":"U12/(W4-U11)","v":0},{"$f":"IF(V12=0,0,(V12*((LOG(V12))/LOG(2))))","v":0},null,{"$f":"N12","v":212},{"$f":"COUNTIF(L36:L64,Y12)","v":0},{"$f":"Z12/(AB4-Z11)","v":0},{"$f":"IF(AA12=0,0,(AA12*((LOG(AA12))/LOG(2))))","v":0},null,{"$f":"N12","v":212},{"$f":"COUNTIF(L65:L92,AD12)","v":0},{"$f":"AE12/(AG4-AE11)","v":0},{"$f":"IF(AF12=0,0,(AF12*((LOG(AF12))/LOG(2))))","v":0},null,{"$f":"N12","v":212},{"$f":"COUNTIF(L93:L121,AI12)","v":1},{"$f":"AJ12/(AL4-AJ11)","v":3.4482758620689655E-2},{"$f":"IF(AK12=0,0,(AK12*((LOG(AK12))/LOG(2))))","v":-0.16751658603888178},null,{"$f":"N12","v":212},{"$f":"COUNTIF(L122:L150,AN12)","v":0},{"$f":"AO12/(AQ4-AO11)","v":0},{"$f":"IF(AP12=0,0,(AP12*((LOG(AP12))/LOG(2))))","v":0},null,{"$f":"N12","v":212},{"$f":"COUNTIF(L151:L179,AS12)","v":0},{"$f":"AT12/(AV4-AT11)","v":0},{"$f":"IF(AU12=0,0,(AU12*((LOG(AU12))/LOG(2))))","v":0}]
[12,708,24,714,24,719,null,null,null,null,0,122,null,221,{"$f":"COUNTIF($L$7:$L$500,N13)","v":0},{"$f":"O13/$Q$4","v":0},{"$f":"IF(P13=0,0,(P13*((LOG(P13))/LOG(2))))","v":0},null,null,{"$f":"N13","v":221},{"$f":"COUNTIF(L7:L35,T13)","v":0},{"$f":"U13/(W4-U11)","v":0},{"$f":"IF(V13=0,0,(V13*((LOG(V13))/LOG(2))))","v":0},null,{"$f":"N13","v":221},{"$f":"COUNTIF(L36:L64,Y13)","v":0},{"$f":"Z13/(AB4-Z11)","v":0},{"$f":"IF(AA13=0,0,(AA13*((LOG(AA13))/LOG(2))))","v":0},null,{"$f":"N13","v":221},{"$f":"COUNTIF(L65:L92,AD13)","v":0},{"$f":"AE13/(AG4-AE11)","v":0},{"$f":"IF(AF13=0,0,(AF13*((LOG(AF13))/LOG(2))))","v":0},null,{"$f":"N13","v":221},{"$f":"COUNTIF(L93:L121,AI13)","v":0},{"$f":"AJ13/(AL4-AJ11)","v":0},{"$f":"IF(AK13=0,0,(AK13*((LOG(AK13))/LOG(2))))","v":0},null,{"$f":"N13","v":221},{"$f":"COUNTIF(L122:L150,AN13)","v":0},{"$f":"AO13/(AQ4-AO11)","v":0},{"$f":"IF(AP13=0,0,(AP13*((LOG(AP13))/LOG(2))))","v":0},null,{"$f":"N13","v":221},{"$f":"COUNTIF(L151:L179,AS13)","v":0},{"$f":"AT13/(AV4-AT11)","v":0},{"$f":"IF(AU13=0,0,(AU13*((LOG(AU13))/LOG(2))))","v":0}]
[12,815,24,818,24,823,null,null,null,null,0,122,null,222,{"$f":"COUNTIF($L$7:$L$500,N14)","v":85},{"$f":"O14/$Q$4","v":0.4913294797687861},{"$f":"IF(P14=0,0,(P14*((LOG(P14))/LOG(2))))","v":-0.50372930507177427},null,null,{"$f":"N14","v":222},{"$f":"COUNTIF(L7:L35,T14)","v":20},{"$f":"U14/(W4-U11)","v":0.68965517241379315},{"$f":"IF(V14=0,0,(V14*((LOG(V14))/LOG(2))))","v":-0.36969165533807569},null,{"$f":"N14","v":222},{"$f":"COUNTIF(L36:L64,Y14)","v":16},{"$f":"Z14/(AB4-Z11)","v":0.55172413793103448},{"$f":"IF(AA14=0,0,(AA14*((LOG(AA14))/LOG(2))))","v":-0.47336882489797077},null,{"$f":"N14","v":222},{"$f":"COUNTIF(L65:L92,AD14)","v":11},{"$f":"AE14/(AG4-AE11)","v":0.39285714285714285},{"$f":"IF(AF14=0,0,(AF14*((LOG(AF14))/LOG(2))))","v":-0.52954129777226344},null,{"$f":"N14","v":222},{"$f":"COUNTIF(L93:L121,AI14)","v":14},{"$f":"AJ14/(AL4-AJ11)","v":0.48275862068965519},{"$f":"IF(AK14=0,0,(AK14*((LOG(AK14))/LOG(2))))","v":-0.50719879389584666},null,{"$f":"N14","v":222},{"$f":"COUNTIF(L122:L150,AN14)","v":13},{"$f":"AO14/(AQ4-AO11)","v":0.44827586206896552},{"$f":"IF(AP14=0,0,(AP14*((LOG(AP14))/LOG(2))))","v":-0.51889781382152544},null,{"$f":"N14","v":222},{"$f":"COUNTIF(L151:L179,AS14)","v":11},{"$f":"AT14/(AV4-AT11)","v":0.37931034482758619},{"$f":"IF(AU14=0,0,(AU14*((LOG(AU14))/LOG(2))))","v":-0.53048424625493174}]
[21,928,22,940,24,946,null,null,null,null,0,222,null,null,null,{"$f":"SUM(P7:P14)","v":1},{"$f":"-SUM(Q7:Q14)","v":1.331332746606708},null,null,null,null,{"$f":"SUM(V7:V14)","v":1},{"$f":"-SUM(W7:W14)","v":1.0497547227914601},null,null,null,{"$f":"SUM(AA7:AA14)","v":1},{"$f":"-SUM(AB7:AB14)","v":1.3416303588849137},null,null,null,{"$f":"SUM(AF7:AF14)","v":1},{"$f":"-SUM(AG7:AG14)","v":1.1625782147358088},null,null,null,{"$f":"SUM(AK7:AK14)","v":1},{"$f":"-SUM(AL7:AL14)","v":1.4675493083185951},null,null,null,{"$f":"SUM(AP7:AP14)","v":1},{"$f":"-SUM(AQ7:AQ14)","v":1.1783577099564695},null,null,null,{"$f":"SUM(AU7:AU14)","v":1},{"$f":"-SUM(AV7:AV14)","v":1.2699207259892868}]
[21,1049,22,1058,24,1063,null,null,null,null,0,222,null,null,null,"U=",{"$f":"Q15/(LOG(Q4)/LOG(2))","v":0.17907186557866447},null,null,null,null,"U1=",{"$f":"W15/(LOG(W4)/LOG(2))","v":0.2160886845470035},null,null,null,"U2=",{"$f":"AB15/(LOG(AB4)/LOG(2))","v":0.27617035970921539},null,null,null,"U3=",{"$f":"AG15/(LOG(AG4)/LOG(2))","v":0.2418332396057439},null,null,null,"U4=",{"$f":"AL15/(LOG(AL4)/LOG(2))","v":0.30209037659688431},null,null,null,"U5=",{"$f":"AQ15/(LOG(AQ4)/LOG(2))","v":0.24256120209987062},null,null,null,"U6=",{"$f":"AV15/(LOG(AV4)/LOG(2))","v":0.26140915892075006}]
[21,1166,22,1173,24,1179,null,null,null,null,0,222]
[12,1271,24,1283,24,1290,null,null,null,null,0,122]
[21,1474,22,1480,24,1488,null,null,null,null,0,222,null,"Total Target Seq"]
[21,1592,22,1596,24,1602,null,null,null,null,0,222,null,{"$f":"COUNTIF(L7:L179,G3)","v":0},null,29,29,28,29,29,29]
[21,1702,22,1706,24,1711,null,null,null,null,0,222,null,null,null,"% of reinforcement given in 6 equal intervals based on number of trials "]
[21,1816,22,1820,24,1826,null,null,null,null,0,222,null,null,null,"%_1","%_2","%_3","%_4","%_5","%_6"]
[12,1920,24,1932,24,1937,null,null,null,null,0,122,null,null,"target sequence",{"$f":"$G$3","v":211},{"$f":"$G$3","v":211},{"$f":"$G$3","v":211},{"$f":"$G$3","v":211},{"$f":"$G$3","v":211},{"$f":"$G$3","v":211}]
[12,2115,13,2122,13,2129,null,null,null,null,0,111,null,null,"total reinforcement",{"$f":"U11","v":0},{"$f":"Z11","v":0},{"$f":"AE11","v":0},{"$f":"AJ11","v":0},{"$f":"AO11","v":0},{"$f":"AT11","v":0}]
[12,2229,24,2240,24,2245,null,null,null,null,0,122,null,null,"% target"]
[21,2355,22,2361,24,2374,null,null,null,null,0,222,null,null,"CCRF"]
[21,2480,22,2491,24,2504,null,null,null,null,0,222,null,null,"% CCRf"]
[21,2606,22,2612,24,2617,null,null,null,null,0,222,null,null,"average response rate",{"$f":"F35/P20","v":126.79310344827586},{"$f":"(F64-F35)/Q20","v":132.89655172413794},{"$f":"(F92-F64)/R20","v":145.64285714285714},{"$f":"(F121-F92)/S20","v":134.86206896551724},{"$f":"(F150-F121)/T20","v":144.75862068965517},{"$f":"(F179-F150)/U20","v":145.24137931034483}]
[21,2718,22,2724,24,2731,null,null,null,null,0,222]
[12,2824,24,2831,24,2836,null,null,null,null,0,122]
[12,2929,24,2938,24,2943,null,null,null,null,0,122]
[21,3039,22,3045,24,3056,null,null,null,null,0,222]
[21,3168,22,3173,24,3184,null,null,null,null,0,222]
[21,3287,22,3293,24,3304,null,null,null,null,0,222]
[21,3659,22,3665,24,3677,null,null,null,null,0,222]
[21,3784,22,3787,24,3795,null,null,null,null,0,222]
[21,3899,22,3904,24,3919,null,null,null,null,0,222]
[12,4012,24,4024,24,4031,null,null,null,null,0,122]
[21,4140,22,4151,24,4159,null,null,null,null,0,222]
[21,4259,22,4264,24,4271,null,null,null,null,0,222]
[12,4364,24,4378,24,4384,null,null,null,null,0,122]
[12,4523,13,4528,24,4539,null,null,null,null,0,112]
[12,4632,24,4639,24,4644,null,null,null,null,0,122]
[21,4747,22,4755,24,4761,null,null,null,null,0,222]
[21,4865,22,4874,24,4880,null,null,null,null,0,222]
[21,4985,22,4990,24,4996,null,null,null,null,0,222]
[21,5090,22,5096,24,5101,null,null,null,null,0,222]
[12,5324,24,5336,24,5340,null,null,null,null,0,122]
[12,5456,13,5462,24,5475,null,null,null,null,0,112]
[12,5571,24,5576,24,5586,null,null,null,null,0,122]
[21,5685,22,5692,24,5698,null,null,null,null,0,222]
[21,5801,22,5807,24,5813,null,null,null,null,0,222]
[21,5919,22,5924,24,5929,null,null,null,null,0,222]
[12,6028,24,6030,24,6038,null,null,null,null,0,122]
[12,6133,24,6141,24,6151,null,null,null,null,0,122]
[12,6247,24,6257,24,6261,null,null,null,null,0,122]
[21,6368,22,6373,24,6379,null,null,null,null,0,222]
[12,6476,24,6483,24,6490,null,null,null,null,0,122]
[21,6591,22,6597,24,6603,null,null,null,null,0,222]
[12,6929,13,6934,24,6949,null,null,null,null,0,112]
[21,7048,22,7058,24,7064,null,null,null,null,0,222]
[21,7168,22,7172,24,7181,null,null,null,null,0,222]
[12,7282,24,7284,24,7290,null,null,null,null,0,122]
[21,7488,22,7502,24,7531,null,null,null,null,0,222]
[21,7761,22,7767,24,7772,null,null,null,null,0,222]
[12,7927,13,7932,24,7945,null,null,null,null,0,112]
[12,8237,24,8245,24,8255,null,null,null,null,0,122]
[12,8348,24,8358,24,8365,null,null,null,null,0,122]
[12,8460,24,8465,24,8473,null,null,null,null,0,122]
[21,8626,22,8638,24,8647,null,null,null,null,0,222]
[12,8742,24,8747,24,8752,null,null,null,null,0,122]
[21,8854,22,8859,24,8865,null,null,null,null,0,222]
[12,8960,24,8965,24,8968,null,null,null,null,0,122]
[12,9064,24,9076,24,9080,null,null,null,null,0,122]
[12,9211,24,9217,24,9221,null,null,null,null,0,122]
[21,9322,22,9325,24,9331,null,null,null,null,0,222]
[12,9561,24,9571,24,9577,null,null,null,null,0,122]
[12,9671,24,9680,24,9685,null,null,null,null,0,122]
[12,9780,24,9787,24,9797,null,null,null,null,0,122]
[21,9894,22,9907,24,9913,null,null,null,null,0,222]
[12,10005,24,10014,24,10028,null,null,null,null,0,122]
[12,10121,24,10132,24,10142,null,null,null,null,0,122]
[21,10246,22,10250,24,10257,null,null,null,null,0,222]
[21,10533,22,10557,24,10575,null,null,null,null,0,222]
[21,10805,22,10811,24,10820,null,null,null,null,0,222]
[12,10913,24,10922,24,10927,null,null,null,null,0,122]
[12,11021,24,11030,24,11033,null,null,null,null,0,122]
[12,11129,24,11132,24,11143,null,null,null,null,0,122]
[21,11247,22,11258,24,11269,null,null,null,null,0,222]
[12,11364,24,11371,24,11374,null,null,null,null,0,122]
[21,11478,22,11484,24,11490,null,null,null,null,0,222]
[21,11594,22,11602,24,11609,null,null,null,null,0,222]
[12,11848,24,11859,24,11873,null,null,null,null,0,122]
[21,11972,22,11987,24,11995,null,null,null,null,0,222]
[12,12087,24,12103,24,12114,null,null,null,null,0,122]
[21,12215,22,12221,24,12226,null,null,null,null,0,222]
[21,12334,22,12339,24,12349,null,null,null,null,0,222]
[12,12495,24,12511,24,12521,null,null,null,null,0,122]
[21,12625,22,12632,24,12639,null,null,null,null,0,222]
[21,12743,22,12752,24,12758,null,null,null,null,0,222]
[12,12972,24,12976,24,12982,null,null,null,null,0,122]
[12,13100,24,13112,24,13117,null,null,null,null,0,122]
[12,13220,13,13225,24,13246,null,null,null,null,0,112]
[12,13342,24,13351,24,13359,null,null,null,null,0,122]
[21,13465,22,13471,24,13478,null,null,null,null,0,222]
[21,13582,22,13587,24,13593,null,null,null,null,0,222]
[21,13695,22,13699,24,13710,null,null,null,null,0,222]
[12,13832,13,13836,24,13866,null,null,null,null,0,112]
[21,13959,11,13963,22,13971,null,null,null,null,0,212]
[21,14069,22,14071,24,14079,null,null,null,null,0,222]
[12,14172,24,14182,24,14186,null,null,null,null,0,122]
[12,14281,24,14288,24,14294,null,null,null,null,0,122]
[21,14400,22,14409,24,14417,null,null,null,null,0,222]
[21,14519,22,14520,24,14525,null,null,null,null,0,222]
[21,14630,22,14634,24,14640,null,null,null,null,0,222]
[12,14735,24,14745,24,14751,null,null,null,null,0,122]
[21,14857,22,14863,24,14870,null,null,null,null,0,222]
[12,15145,24,15163,24,15169,null,null,null,null,0,122]
[12,15265,24,15268,24,15285,null,null,null,null,0,122]
[21,15390,22,15396,24,15412,null,null,null,null,0,222]
[12,15508,24,15512,24,15520,null,null,null,null,0,122]
[21,15624,22,15629,24,15635,null,null,null,null,0,222]
[12,15855,24,15867,24,15880,null,null,null,null,0,122]
[12,15978,24,15982,24,15987,null,null,null,null,0,122]
[21,16088,22,16093,24,16098,null,null,null,null,0,222]
[12,16338,24,16348,24,16352,null,null,null,null,0,122]
[12,16444,24,16457,24,16462,null,null,null,null,0,122]
[21,16565,22,16576,24,16583,null,null,null,null,0,222]
[12,16811,24,16824,24,16830,null,null,null,null,0,122]
[21,16931,22,16938,24,16944,null,null,null,null,0,222]
[21,17039,22,17047,24,17053,null,null,null,null,0,222]
[21,17157,22,17168,24,17176,null,null,null,null,0,222]
[21,17284,22,17289,24,17297,null,null,null,null,0,222]
[12,17439,24,17456,24,17462,null,null,null,null,0,122]
[12,17724,24,17735,24,17740,null,null,null,null,0,122]
[12,17836,24,17842,24,17851,null,null,null,null,0,122]
[12,17944,24,17957,24,17966,null,null,null,null,0,122]
[12,18059,24,18066,24,18073,null,null,null,null,0,122]
[12,18167,24,18173,24,18186,null,null,null,null,0,122]
[12,18353,13,18360,24,18389,null,null,null,null,0,112]
[21,18493,22,18497,24,18509,null,null,null,null,0,222]
[21,18612,22,18617,24,18623,null,null,null,null,0,222]
[21,18725,22,18730,24,18737,null,null,null,null,0,222]
[12,18831,24,18840,24,18850,null,null,null,null,0,122]
[12,18946,24,18952,24,18956,null,null,null,null,0,122]
[21,19237,22,19257,24,19268,null,null,null,null,0,222]
[12,19364,24,19367,24,19375,null,null,null,null,0,122]
[21,19480,22,19490,24,19496,null,null,null,null,0,222]
[12,19595,24,19600,24,19606,null,null,null,null,0,122]
[21,19702,22,19712,24,19718,null,null,null,null,0,222]
[12,19817,24,19821,24,19827,null,null,null,null,0,122]
[21,19951,22,19959,24,19965,null,null,null,null,0,222]
[12,20131,24,20147,24,20158,null,null,null,null,0,122]
[21,20263,22,20266,24,20271,null,null,null,null,0,222]
[12,20364,24,20374,24,20379,null,null,null,null,0,122]
[12,20478,24,20491,24,20497,null,null,null,null,0,122]
[21,20603,22,20622,24,20631,null,null,null,null,0,222]
[12,20724,24,20728,24,20732,null,null,null,null,0,122]
[21,20835,22,20840,24,20846,null,null,null,null,0,222]
[12,20945,24,20950,24,20955,null,null,null,null,0,122]
[12,21116,13,21121,24,21133,null,null,null,null,0,112]
[12,21254,24,21278,24,21289,null,null,null,null,0,122]
[12,21485,24,21496,24,21506,null,null,null,null,0,122]
[12,21604,24,21609,24,21613,null,null,null,null,0,122]
[12,21772,24,21786,24,21791,null,null,null,null,0,122]
[12,21890,24,21895,24,21900,null,null,null,null,0,122]
[12,21993,24,22001,24,22005,null,null,null,null,0,122]
[12,22103,24,22108,24,22114,null,null,null,null,0,122]
[21,22218,22,22224,24,22231,null,null,null,null,0,222]
[12,22397,24,22413,24,22424,null,null,null,null,0,122]
[12,22522,24,22535,24,22546,null,null,null,null,0,122]
[21,22648,22,22657,24,22664,null,null,null,null,0,222]
[12,22794,13,22799,24,22818,null,null,null,null,0,112]
[21,22919,22,22926,24,22933,null,null,null,null,0,222]
[21,23034,22,23039,24,23043,null,null,null,null,0,222]
[21,23148,22,23153,24,23158,null,null,null,null,0,222]
[12,23251,24,23264,24,23269,null,null,null,null,0,122]
[21,23805,22,23809,24,23815,null,null,null,null,0,222]
[21,23918,22,23924,24,23930,null,null,null,null,null,222]

{"sheet":"!M130B00.Gus","index":16,"n_rows":184,"n_cols":48,"rows_kept":184,"cut":false,"hidden":false,"merged":[[4,39,4,42],[5,39,5,40],[4,44,4,47],[5,44,5,45],[4,24,4,27],[5,24,5,25],[4,29,4,32],[5,29,5,30],[4,34,4,37],[5,34,5,35],[1,1,1,2],[5,13,5,14],[18,13,18,14],[19,13,19,14],[4,19,4,22],[5,19,5,20]]}
["Report for:!M130B00.Gus"]
["Date:","<date>"]
["Hen:","<hen>",null,null,null,"Correct Sequence",{"$f":"Start!J2","v":211},null,null,null,null,null,null,null,null,"Total Sequences in Data",{"$f":"4994-COUNTBLANK(L7:L5000)","v":178},null,null,null,null,"Total Sequences in Block Data",{"$f":"COUNTA(L7:L36)","v":30},null,null,null,"Total Sequences in Block Data",{"$f":"COUNTA(L37:L65)","v":29},null,null,null,"Total Sequences in Block Data",{"$f":"COUNTA(L66:L95)","v":30},null,null,null,"Total Sequences in Block Data",{"$f":"COUNTA(L96:L125)","v":30},null,null,null,"Total Sequences in Block Data",{"$f":"COUNTA(L126:L154)","v":29},null,null,null,"Total Sequences in Block Data",{"$f":"COUNTA(L155:L184)","v":30}]
[null,null,null,null,null,null,null,null,null,null,null,null,null,null,null,"Total Sequences in Summary",{"$f":"SUM(O7:O14)","v":178},null,null,null,null,"Total Sequences in Block Summary",{"$f":"SUM(U7:U14)","v":30},null,null,null,"Total Sequences in Block Summary",{"$f":"SUM(Z7:Z14)","v":29},null,null,null,"Total Sequences in Block Summary",{"$f":"SUM(AE7:AE14)","v":30},null,null,null,"Total Sequences in Block Summary",{"$f":"SUM(AJ7:AJ14)","v":30},null,null,null,"Total Sequences in Block Summary",{"$f":"SUM(AO7:AO14)","v":29},null,null,null,"Total Sequences in Block Summary",{"$f":"SUM(AT7:AT14)","v":30}]
[null,null,null,null,null,null,null,null,null,null,null,null,null,null,null,null,null,null,null,"Block 1",null,null,null,null,"Block 2",null,null,null,null,"Block 3",null,null,null,null,"Block 4",null,null,null,null,"Block 5",null,null,null,null,"Block 6"]
["Sequence\nComponent\n1","Time\n1","Sequence\nComponent\n2","Time\n2","Sequence\nComponent\n3","Time\n3","Sequence\nComponent\n4","Time\n4","Sequence\nComponent\n5","Time\n5","Correct?\n0=No 1=Yes","Sequence",null,"Frequency",null,"Relative Frequency","Variability",null,null,"Frequency",null,"Relative Frequency","Variability",null,"Frequency",null,"Relative Frequency","Variability",null,"Frequency",null,"Relative Frequency","Variability",null,"Frequency",null,"Relative Frequency","Variability",null,"Frequency",null,"Relative Frequency","Variability",null,"Frequency",null,"Relative Frequency","Variability"]
[21,9,22,19,24,25,null,null,null,null,0,222,null,111,{"$f":"COUNTIF($L$7:$L$500,N7)","v":0},{"$f":"O7/$Q$4","v":0},{"$f":"IF(P7=0,0,(P7*((LOG(P7))/LOG(2))))","v":0},null,null,{"$f":"N7","v":111},{"$f":"COUNTIF(L7:L36,T7)","v":0},{"$f":"U7/(W4-U11)","v":0},{"$f":"IF(V7=0,0,(V7*((LOG(V7))/LOG(2))))","v":0},null,{"$f":"N7","v":111},{"$f":"COUNTIF(L37:L65,Y7)","v":0},{"$f":"Z7/(AB4-Z11)","v":0},{"$f":"IF(AA7=0,0,(AA7*((LOG(AA7))/LOG(2))))","v":0},null,{"$f":"N7","v":111},{"$f":"COUNTIF(L66:L95,AD7)","v":0},{"$f":"AE7/(AG4-AE11)","v":0},{"$f":"IF(AF7=0,0,(AF7*((LOG(AF7))/LOG(2))))","v":0},null,{"$f":"N7","v":111},{"$f":"COUNTIF(L96:L125,AI7)","v":0},{"$f":"AJ7/(AL4-AJ11)","v":0},{"$f":"IF(AK7=0,0,(AK7*((LOG(AK7))/LOG(2))))","v":0},null,{"$f":"N7","v":111},{"$f":"COUNTIF(L126:L154,AN7)","v":0},{"$f":"AO7/(AQ4-AO11)","v":0},{"$f":"IF(AP7=0,0,(AP7*((LOG(AP7))/LOG(2))))","v":0},null,{"$f":"N7","v":111},{"$f":"COUNTIF(L155:L184,AS7)","v":0},{"$f":"AT7/(AV4-AT11)","v":0},{"$f":"IF(AU7=0,0,(AU7*((LOG(AU7))/LOG(2))))","v":0}]
[21,120,22,124,24,130,null,null,null,null,0,222,null,112,{"$f":"COUNTIF($L$7:$L$500,N8)","v":6},{"$f":"O8/$Q$4","v":3.3707865168539325E-2},{"$f":"IF(P8=0,0,(P8*((LOG(P8))/LOG(2))))","v":-0.16485744708691824},null,null,{"$f":"N8","v":112},{"$f":"COUNTIF(L7:L36,T8)","v":2},{"$f":"U8/(W4-U11)","v":6.6666666666666666E-2},{"$f":"IF(V8=0,0,(V8*((LOG(V8))/LOG(2))))","v":-0.26045937304056793},null,{"$f":"N8","v":112},{"$f":"COUNTIF(L37:L65,Y8)","v":0},{"$f":"Z8/(AB4-Z11)","v":0},{"$f":"IF(AA8=0,0,(AA8*((LOG(AA8))/LOG(2))))","v":0},null,{"$f":"N8","v":112},{"$f":"COUNTIF(L66:L95,AD8)","v":0},{"$f":"AE8/(AG4-AE11)","v":0},{"$f":"IF(AF8=0,0,(AF8*((LOG(AF8))/LOG(2))))","v":0},null,{"$f":"N8","v":112},{"$f":"COUNTIF(L96:L125,AI8)","v":1},{"$f":"AJ8/(AL4-AJ11)","v":3.3333333333333333E-2},{"$f":"IF(AK8=0,0,(AK8*((LOG(AK8))/LOG(2))))","v":-0.16356301985361729},null,{"$f":"N8","v":112},{"$f":"COUNTIF(L126:L154,AN8)","v":2},{"$f":"AO8/(AQ4-AO11)","v":6.8965517241379309E-2},{"$f":"IF(AP8=0,0,(AP8*((LOG(AP8))/LOG(2))))","v":-0.26606765483638428},null,{"$f":"N8","v":112},{"$f":"COUNTIF(L155:L184,AS8)","v":1},{"$f":"AT8/(AV4-AT11)","v":3.3333333333333333E-2},{"$f":"IF(AU8=0,0,(AU8*((LOG(AU8))/LOG(2))))","v":-0.16356301985361729}]
[21,237,22,243,24,248,null,null,null,null,0,222,null,121,{"$f":"COUNTIF($L$7:$L$500,N9)","v":1},{"$f":"O9/$Q$4","v":5.6179775280898875E-3},{"$f":"IF(P9=0,0,(P9*((LOG(P9))/LOG(2))))","v":-4.1998502421159538E-2},null,null,{"$f":"N9","v":121},{"$f":"COUNTIF(L7:L36,T9)","v":1},{"$f":"U9/(W4-U11)","v":3.3333333333333333E-2},{"$f":"IF(V9=0,0,(V9*((LOG(V9))/LOG(2))))","v":-0.16356301985361729},null,{"$f":"N9","v":121},{"$f":"COUNTIF(L37:L65,Y9)","v":0},{"$f":"Z9/(AB4-Z11)","v":0},{"$f":"IF(AA9=0,0,(AA9*((LOG(AA9))/LOG(2))))","v":0},null,{"$f":"N9","v":121},{"$f":"COUNTIF(L66:L95,AD9)","v":0},{"$f":"AE9/(AG4-AE11)","v":0},{"$f":"IF(AF9=0,0,(AF9*((LOG(AF9))/LOG(2))))","v":0},null,{"$f":"N9","v":121},{"$f":"COUNTIF(L96:L125,AI9)","v":0},{"$f":"AJ9/(AL4-AJ11)","v":0},{"$f":"IF(AK9=0,0,(AK9*((LOG(AK9))/LOG(2))))","v":0},null,{"$f":"N9","v":121},{"$f":"COUNTIF(L126:L154,AN9)","v":0},{"$f":"AO9/(AQ4-AO11)","v":0},{"$f":"IF(AP9=0,0,(AP9*((LOG(AP9))/LOG(2))))","v":0},null,{"$f":"N9","v":121},{"$f":"COUNTIF(L155:L184,AS9)","v":0},{"$f":"AT9/(AV4-AT11)","v":0},{"$f":"IF(AU9=0,0,(AU9*((LOG(AU9))/LOG(2))))","v":0}]
[21,351,22,358,24,365,null,null,null,null,0,222,null,122,{"$f":"COUNTIF($L$7:$L$500,N10)","v":72},{"$f":"O10/$Q$4","v":0.4044943820224719},{"$f":"IF(P10=0,0,(P10*((LOG(P10))/LOG(2))))","v":-0.52819217374007954},null,null,{"$f":"N10","v":122},{"$f":"COUNTIF(L7:L36,T10)","v":6},{"$f":"U10/(W4-U11)","v":0.2},{"$f":"IF(V10=0,0,(V10*((LOG(V10))/LOG(2))))","v":-0.46438561897747244},null,{"$f":"N10","v":122},{"$f":"COUNTIF(L37:L65,Y10)","v":11},{"$f":"Z10/(AB4-Z11)","v":0.37931034482758619},{"$f":"IF(AA10=0,0,(AA10*((LOG(AA10))/LOG(2))))","v":-0.53048424625493174},null,{"$f":"N10","v":122},{"$f":"COUNTIF(L66:L95,AD10)","v":15},{"$f":"AE10/(AG4-AE11)","v":0.5},{"$f":"IF(AF10=0,0,(AF10*((LOG(AF10))/LOG(2))))","v":-0.5},null,{"$f":"N10","v":122},{"$f":"COUNTIF(L96:L125,AI10)","v":13},{"$f":"AJ10/(AL4-AJ11)","v":0.43333333333333335},{"$f":"IF(AK10=0,0,(AK10*((LOG(AK10))/LOG(2))))","v":-0.52279538023588479},null,{"$f":"N10","v":122},{"$f":"COUNTIF(L126:L154,AN10)","v":14},{"$f":"AO10/(AQ4-AO11)","v":0.48275862068965519},{"$f":"IF(AP10=0,0,(AP10*((LOG(AP10))/LOG(2))))","v":-0.50719879389584666},null,{"$f":"N10","v":122},{"$f":"COUNTIF(L155:L184,AS10)","v":13},{"$f":"AT10/(AV4-AT11)","v":0.43333333333333335},{"$f":"IF(AU10=0,0,(AU10*((LOG(AU10))/LOG(2))))","v":-0.52279538023588479}]
[12,457,24,468,24,481,null,null,null,null,0,122,null,211,{"$f":"COUNTIF($L$7:$L$500,N11)","v":0},{"$f":"O11/$Q$4","v":0},{"$f":"IF(P11=0,0,(P11*((LOG(P11))/LOG(2))))","v":0},null,null,{"$f":"N11","v":211},{"$f":"COUNTIF(L7:L36,T11)","v":0},null,null,null,{"$f":"N11","v":211},{"$f":"COUNTIF(L37:L65,Y11)","v":0},null,null,null,{"$f":"N11","v":211},{"$f":"COUNTIF(L66:L95,AD11)","v":0},null,null,null,{"$f":"N11","v":211},{"$f":"COUNTIF(L96:L125,AI11)","v":0},null,null,null,{"$f":"N11","v":211},{"$f":"COUNTIF(L126:L154,AN11)","v":0},null,null,null,{"$f":"N11","v":211},{"$f":"COUNTIF(L155:L184,AS11)","v":0}]
[12,581,24,589,24,593,null,null,null,null,0,122,null,212,{"$f":"COUNTIF($L$7:$L$500,N12)","v":1},{"$f":"O12/$Q$4","v":5.6179775280898875E-3},{"$f":"IF(P12=0,0,(P12*((LOG(P12))/LOG(2))))","v":-4.1998502421159538E-2},null,null,{"$f":"N12","v":212},{"$f":"COUNTIF(L7:L36,T12)","v":0},{"$f":"U12/(W4-U11)","v":0},{"$f":"IF(V12=0,0,(V12*((LOG(V12))/LOG(2))))","v":0},null,{"$f":"N12","v":212},{"$f":"COUNTIF(L37:L65,Y12)","v":1},{"$f":"Z12/(AB4-Z11)","v":3.4482758620689655E-2},{"$f":"IF(AA12=0,0,(AA12*((LOG(AA12))/LOG(2))))","v":-0.16751658603888178},null,{"$f":"N12","v":212},{"$f":"COUNTIF(L66:L95,AD12)","v":0},{"$f":"AE12/(AG4-AE11)","v":0},{"$f":"IF(AF12=0,0,(AF12*((LOG(AF12))/LOG(2))))","v":0},null,{"$f":"N12","v":212},{"$f":"COUNTIF(L96:L125,AI12)","v":0},{"$f":"AJ12/(AL4-AJ11)","v":0},{"$f":"IF(AK12=0,0,(AK12*((LOG(AK12))/LOG(2))))","v":0},null,{"$f":"N12","v":212},{"$f":"COUNTIF(L126:L154,AN12)","v":0},{"$f":"AO12/(AQ4-AO11)","v":0},{"$f":"IF(AP12=0,0,(AP12*((LOG(AP12))/LOG(2))))","v":0},null,{"$f":"N12","v":212},{"$f":"COUNTIF(L155:L184,AS12)","v":0},{"$f":"AT12/(AV4-AT11)","v":0},{"$f":"IF(AU12=0,0,(AU12*((LOG(AU12))/LOG(2))))","v":0}]
[21,697,22,704,24,710,null,null,null,null,0,222,null,221,{"$f":"COUNTIF($L$7:$L$500,N13)","v":0},{"$f":"O13/$Q$4","v":0},{"$f":"IF(P13=0,0,(P13*((LOG(P13))/LOG(2))))","v":0},null,null,{"$f":"N13","v":221},{"$f":"COUNTIF(L7:L36,T13)","v":0},{"$f":"U13/(W4-U11)","v":0},{"$f":"IF(V13=0,0,(V13*((LOG(V13))/LOG(2))))","v":0},null,{"$f":"N13","v":221},{"$f":"COUNTIF(L37:L65,Y13)","v":0},{"$f":"Z13/(AB4-Z11)","v":0},{"$f":"IF(AA13=0,0,(AA13*((LOG(AA13))/LOG(2))))","v":0},null,{"$f":"N13","v":221},{"$f":"COUNTIF(L66:L95,AD13)","v":0},{"$f":"AE13/(AG4-AE11)","v":0},{"$f":"IF(AF13=0,0,(AF13*((LOG(AF13))/LOG(2))))","v":0},null,{"$f":"N13","v":221},{"$f":"COUNTIF(L96:L125,AI13)","v":0},{"$f":"AJ13/(AL4-AJ11)","v":0},{"$f":"IF(AK13=0,0,(AK13*((LOG(AK13))/LOG(2))))","v":0},null,{"$f":"N13","v":221},{"$f":"COUNTIF(L126:L154,AN13)","v":0},{"$f":"AO13/(AQ4-AO11)","v":0},{"$f":"IF(AP13=0,0,(AP13*((LOG(AP13))/LOG(2))))","v":0},null,{"$f":"N13","v":221},{"$f":"COUNTIF(L155:L184,AS13)","v":0},{"$f":"AT13/(AV4-AT11)","v":0},{"$f":"IF(AU13=0,0,(AU13*((LOG(AU13))/LOG(2))))","v":0}]
[21,822,22,832,24,840,null,null,null,null,0,222,null,222,{"$f":"COUNTIF($L$7:$L$500,N14)","v":98},{"$f":"O14/$Q$4","v":0.550561797752809},{"$f":"IF(P14=0,0,(P14*((LOG(P14))/LOG(2))))","v":-0.47404669388436277},null,null,{"$f":"N14","v":222},{"$f":"COUNTIF(L7:L36,T14)","v":21},{"$f":"U14/(W4-U11)","v":0.7},{"$f":"IF(V14=0,0,(V14*((LOG(V14))/LOG(2))))","v":-0.36020122098083079},null,{"$f":"N14","v":222},{"$f":"COUNTIF(L37:L65,Y14)","v":17},{"$f":"Z14/(AB4-Z11)","v":0.58620689655172409},{"$f":"IF(AA14=0,0,(AA14*((LOG(AA14))/LOG(2))))","v":-0.45168305572113648},null,{"$f":"N14","v":222},{"$f":"COUNTIF(L66:L95,AD14)","v":15},{"$f":"AE14/(AG4-AE11)","v":0.5},{"$f":"IF(AF14=0,0,(AF14*((LOG(AF14))/LOG(2))))","v":-0.5},null,{"$f":"N14","v":222},{"$f":"COUNTIF(L96:L125,AI14)","v":16},{"$f":"AJ14/(AL4-AJ11)","v":0.53333333333333333},{"$f":"IF(AK14=0,0,(AK14*((LOG(AK14))/LOG(2))))","v":-0.4836749843245432},null,{"$f":"N14","v":222},{"$f":"COUNTIF(L126:L154,AN14)","v":13},{"$f":"AO14/(AQ4-AO11)","v":0.44827586206896552},{"$f":"IF(AP14=0,0,(AP14*((LOG(AP14))/LOG(2))))","v":-0.51889781382152544},null,{"$f":"N14","v":222},{"$f":"COUNTIF(L155:L184,AS14)","v":16},{"$f":"AT14/(AV4-AT11)","v":0.53333333333333333},{"$f":"IF(AU14=0,0,(AU14*((LOG(AU14))/LOG(2))))","v":-0.4836749843245432}]
[21,943,22,948,24,953,null,null,null,null,0,222,null,null,null,{"$f":"SUM(P7:P14)","v":1},{"$f":"-SUM(Q7:Q14)","v":1.2510933195536798},null,null,null,null,{"$f":"SUM(V7:V14)","v":1},{"$f":"-SUM(W7:W14)","v":1.2486092328524885},null,null,null,{"$f":"SUM(AA7:AA14)","v":1},{"$f":"-SUM(AB7:AB14)","v":1.14968388801495},null,null,null,{"$f":"SUM(AF7:AF14)","v":1},{"$f":"-SUM(AG7:AG14)","v":1},null,null,null,{"$f":"SUM(AK7:AK14)","v":1},{"$f":"-SUM(AL7:AL14)","v":1.1700333844140454},null,null,null,{"$f":"SUM(AP7:AP14)","v":1},{"$f":"-SUM(AQ7:AQ14)","v":1.2921642625537564},null,null,null,{"$f":"SUM(AU7:AU14)","v":1},{"$f":"-SUM(AV7:AV14)","v":1.1700333844140454}]
[12,1046,24,1054,24,1065,null,null,null,null,0,122,null,null,null,"U=",{"$f":"Q15/(LOG(Q4)/LOG(2))","v":0.16735392334501009},null,null,null,null,"U1=",{"$f":"W15/(LOG(W4)/LOG(2))","v":0.25446037740681371},null,null,null,"U2=",{"$f":"AB15/(LOG(AB4)/LOG(2))","v":0.23665878667867432},null,null,null,"U3=",{"$f":"AG15/(LOG(AG4)/LOG(2))","v":0.20379504709050619},null,null,null,"U4=",{"$f":"AL15/(LOG(AL4)/LOG(2))","v":0.23844700867412469},null,null,null,"U5=",{"$f":"AQ15/(LOG(AQ4)/LOG(2))","v":0.26598792046526393},null,null,null,"U6=",{"$f":"AV15/(LOG(AV4)/LOG(2))","v":0.23844700867412469}]
[21,1169,22,1176,24,1183,null,null,null,null,0,222]
[12,1282,24,1293,24,1299,null,null,null,null,0,122]
[21,1405,22,1414,24,1421,null,null,null,null,0,222,null,"Total Target Seq"]
[21,1679,22,1692,24,1704,null,null,null,null,0,222,null,{"$f":"COUNTIF(L7:L184,G3)","v":0},null,30,29,30,30,29,30]
[21,1807,22,1816,24,1822,null,null,null,null,0,222,null,null,null,"% of reinforcement given in 6 equal intervals based on number of trials "]
[21,1927,22,1933,24,1938,null,null,null,null,0,222,null,null,null,"%_1","%_2","%_3","%_4","%_5","%_6"]
[21,2038,22,2045,24,2050,null,null,null,null,0,222,null,null,"target sequence",{"$f":"$G$3","v":211},{"$f":"$G$3","v":211},{"$f":"$G$3","v":211},{"$f":"$G$3","v":211},{"$f":"$G$3","v":211},{"$f":"$G$3","v":211}]
[21,2160,22,2166,24,2172,null,null,null,null,0,222,null,null,"total reinforcement",{"$f":"U11","v":0},{"$f":"Z11","v":0},{"$f":"AE11","v":0},{"$f":"AJ11","v":0},{"$f":"AO11","v":0},{"$f":"AT11","v":0}]
[21,2276,22,2281,24,2287,null,null,null,null,0,222,null,null,"% target"]
[12,2380,24,2388,13,2392,null,null,null,null,0,121,null,null,"CCRF"]
[21,2487,22,2490,24,2493,null,null,null,null,0,222,null,null,"% CCRf"]
[12,2593,24,2601,24,2607,null,null,null,null,0,122,null,null,"average response rate",{"$f":"F36/P20","v":123.3},{"$f":"(F65-F36)/Q20","v":135.79310344827587},{"$f":"(F95-F65)/R20","v":133.73333333333332},{"$f":"(F125-F95)/S20","v":116.26666666666667},{"$f":"(F154-F125)/T20","v":137.17241379310346},{"$f":"(F184-F154)/U20","v":161.63333333333333}]
[21,2710,22,2719,24,2726,null,null,null,null,0,222]
[21,2832,22,2842,24,2849,null,null,null,null,0,222]
[12,3021,13,3026,24,3034,null,null,null,null,0,112]
[21,3154,22,3160,24,3166,null,null,null,null,0,222]
[12,3298,13,3306,24,3317,null,null,null,null,0,112]
[12,3419,24,3449,24,3457,null,null,null,null,0,122]
[21,3560,22,3567,24,3579,null,null,null,null,0,222]
[21,3687,22,3693,24,3699,null,null,null,null,0,222]
[21,3989,22,3996,24,4014,null,null,null,null,0,222]
[12,4109,24,4115,24,4121,null,null,null,null,0,122]
[21,4224,22,4230,24,4236,null,null,null,null,0,222]
[21,4340,22,4344,24,4349,null,null,null,null,0,222]
[12,4475,24,4488,24,4502,null,null,null,null,0,122]
[21,4616,22,4626,24,4634,null,null,null,null,0,222]
[21,4736,22,4745,24,4760,null,null,null,null,0,222]
[21,4861,22,4866,24,4872,null,null,null,null,0,222]
[12,4965,24,4972,24,4977,null,null,null,null,0,122]
[21,5078,22,5082,24,5095,null,null,null,null,0,222]
[12,5218,24,5228,24,5249,null,null,null,null,0,122]
[21,5352,22,5355,24,5360,null,null,null,null,0,222]
[12,5521,24,5540,24,5546,null,null,null,null,0,122]
[21,5647,22,5653,24,5660,null,null,null,null,0,222]
[21,5762,22,5772,24,5784,null,null,null,null,0,222]
[21,5883,22,5889,24,5900,null,null,null,null,0,222]
[21,6005,22,6009,24,6016,null,null,null,null,0,222]
[21,6214,22,6217,24,6223,null,null,null,null,0,222]
[12,6352,24,6362,24,6379,null,null,null,null,0,122]
[21,6482,22,6488,24,6494,null,null,null,null,0,222]
[12,6589,24,6596,24,6600,null,null,null,null,0,122]
[21,6693,11,6697,22,6708,null,null,null,null,0,212]
[12,6800,24,6805,24,6817,null,null,null,null,0,122]
[12,6954,24,6978,24,6988,null,null,null,null,0,122]
[12,7083,24,7088,24,7093,null,null,null,null,0,122]
[21,7199,22,7205,24,7211,null,null,null,null,0,222]
[21,7319,22,7342,24,7350,null,null,null,null,0,222]
[12,7490,24,7508,24,7520,null,null,null,null,0,122]
[21,7619,22,7623,24,7637,null,null,null,null,0,222]
[12,7732,24,7748,24,7758,null,null,null,null,0,122]
[21,7856,22,7862,24,7868,null,null,null,null,0,222]
[12,7963,24,7969,24,7978,null,null,null,null,0,122]
[21,8085,22,8091,24,8104,null,null,null,null,0,222]
[12,8241,24,8269,24,8275,null,null,null,null,0,122]
[21,8381,22,8385,24,8389,null,null,null,null,0,222]
[21,8496,22,8501,24,8506,null,null,null,null,0,222]
[12,8645,24,8660,24,8668,null,null,null,null,0,122]
[12,8765,24,8768,24,8770,null,null,null,null,0,122]
[21,8880,22,8886,24,8892,null,null,null,null,0,222]
[12,8985,24,9004,24,9011,null,null,null,null,0,122]
[12,9107,24,9113,24,9115,null,null,null,null,0,122]
[12,9222,24,9227,24,9236,null,null,null,null,0,122]
[12,9448,24,9462,24,9468,null,null,null,null,0,122]
[21,9640,22,9647,24,9653,null,null,null,null,0,222]
[21,9761,22,9769,24,9781,null,null,null,null,0,222]
[21,9890,22,9902,24,9908,null,null,null,null,0,222]
[21,10015,22,10022,24,10026,null,null,null,null,0,222]
[21,10130,22,10136,24,10143,null,null,null,null,0,222]
[21,10249,22,10262,24,10268,null,null,null,null,0,222]
[12,10364,24,10370,24,10373,null,null,null,null,0,122]
[12,10475,24,10491,24,10502,null,null,null,null,0,122]
[12,10737,24,10748,24,10754,null,null,null,null,0,122]
[21,10864,22,10874,24,10884,null,null,null,null,0,222]
[21,10985,22,10994,24,11001,null,null,null,null,0,222]
[21,11110,22,11116,24,11122,null,null,null,null,0,222]
[12,11216,24,11225,24,11231,null,null,null,null,0,122]
[12,11323,24,11337,24,11347,null,null,null,null,0,122]
[21,11456,22,11461,24,11473,null,null,null,null,0,222]
[12,11610,24,11637,24,11649,null,null,null,null,0,122]
[12,11744,24,11755,24,11761,null,null,null,null,0,122]
[21,11866,22,11871,24,11877,null,null,null,null,0,222]
[21,11976,22,11987,24,11994,null,null,null,null,0,222]
[12,12090,24,12094,24,12096,null,null,null,null,0,122]
[21,12190,22,12198,24,12203,null,null,null,null,0,222]
[12,12295,24,12301,24,12303,null,null,null,null,0,122]
[12,12405,24,12419,24,12424,null,null,null,null,0,122]
[21,12528,22,12534,24,12540,null,null,null,null,0,222]
[12,12676,24,12690,24,12695,null,null,null,null,0,122]
[12,12794,24,12800,24,12806,null,null,null,null,0,122]
[21,12906,22,12915,24,12920,null,null,null,null,0,222]
[12,13015,24,13022,24,13028,null,null,null,null,0,122]
[12,13123,24,13132,24,13137,null,null,null,null,0,122]
[21,13237,22,13243,24,13265,null,null,null,null,0,222]
[21,13365,22,13372,24,13377,null,null,null,null,0,222]
[21,13479,22,13490,24,13498,null,null,null,null,0,222]
[21,13598,22,13603,24,13609,null,null,null,null,0,222]
[12,13703,24,13709,24,13713,null,null,null,null,0,122]
[12,13830,13,13834,24,13850,null,null,null,null,0,112]
[21,13953,22,13960,24,13966,null,null,null,null,0,222]
[21,14071,22,14077,24,14083,null,null,null,null,0,222]
[21,14185,22,14192,24,14204,null,null,null,null,0,222]
[21,14309,22,14314,24,14319,null,null,null,null,0,222]
[12,14412,24,14428,24,14438,null,null,null,null,0,122]
[12,14530,24,14549,24,14554,null,null,null,null,0,122]
[21,14656,22,14662,24,14676,null,null,null,null,0,222]
[12,14768,24,14783,24,14789,null,null,null,null,0,122]
[21,14894,22,14900,24,14905,null,null,null,null,0,222]
[21,15007,22,15016,24,15027,null,null,null,null,0,222]
[12,15121,24,15128,24,15137,null,null,null,null,0,122]
[21,15244,22,15252,24,15263,null,null,null,null,0,222]
[21,15365,22,15372,24,15376,null,null,null,null,0,222]
[12,15474,24,15477,24,15482,null,null,null,null,0,122]
[12,15606,13,15611,24,15625,null,null,null,null,0,112]
[12,15729,24,15749,24,15755,null,null,null,null,0,122]
[21,15860,22,15867,24,15873,null,null,null,null,0,222]
[21,15973,22,15982,24,15987,null,null,null,null,0,222]
[12,16083,24,16088,24,16095,null,null,null,null,0,122]
[12,16192,24,16202,24,16208,null,null,null,null,0,122]
[12,16305,24,16311,24,16318,null,null,null,null,0,122]
[21,16422,22,16425,24,16429,null,null,null,null,0,222]
[21,16526,22,16531,24,16537,null,null,null,null,0,222]
[12,16632,24,16645,24,16652,null,null,null,null,0,122]
[12,17107,24,17125,24,17138,null,null,null,null,0,122]
[12,17233,24,17246,24,17254,null,null,null,null,0,122]
[12,17388,13,17402,24,17413,null,null,null,null,0,112]
[12,17508,24,17517,24,17523,null,null,null,null,0,122]
[12,17615,24,17629,24,17633,null,null,null,null,0,122]
[21,17734,22,17750,24,17762,null,null,null,null,0,222]
[21,17864,22,17871,24,17878,null,null,null,null,0,222]
[12,17970,24,17993,24,17998,null,null,null,null,0,122]
[21,18101,22,18115,24,18122,null,null,null,null,0,222]
[21,18231,22,18236,24,18242,null,null,null,null,0,222]
[12,18339,24,18343,24,18351,null,null,null,null,0,122]
[21,18460,22,18488,24,18496,null,null,null,null,0,222]
[21,18601,22,18607,24,18614,null,null,null,null,0,222]
[21,18717,22,18724,24,18729,null,null,null,null,0,222]
[12,18979,24,18995,24,19009,null,null,null,null,0,122]
[12,19104,24,19109,24,19115,null,null,null,null,0,122]
[12,19209,24,19216,24,19223,null,null,null,null,0,122]
[21,19333,22,19339,24,19344,null,null,null,null,0,222]
[21,19447,22,19459,24,19465,null,null,null,null,0,222]
[12,19557,24,19568,24,19573,null,null,null,null,0,122]
[21,19683,22,19693,24,19699,null,null,null,null,0,222]
[12,19794,24,19796,24,19808,null,null,null,null,0,122]
[21,19910,22,19916,24,19933,null,null,null,null,0,222]
[21,20034,22,20039,24,20058,null,null,null,null,0,222]
[12,20152,24,20159,24,20163,null,null,null,null,0,122]
[12,20460,24,20470,24,20477,null,null,null,null,0,122]
[21,20912,22,20915,24,20921,null,null,null,null,0,222]
[12,21086,24,21105,24,21109,null,null,null,null,0,122]
[12,21353,24,21369,24,21375,null,null,null,null,0,122]
[21,21470,22,21479,24,21483,null,null,null,null,0,222]
[21,21582,22,21587,24,21594,null,null,null,null,0,222]
[12,21731,24,21748,24,21755,null,null,null,null,0,122]
[21,21868,22,21870,24,21873,null,null,null,null,0,222]
[12,21969,24,21981,24,21987,null,null,null,null,0,122]
[21,22097,22,22102,24,22113,null,null,null,null,0,222]
[21,22219,22,22223,24,22230,null,null,null,null,0,222]
[12,22524,24,22552,24,22555,null,null,null,null,0,122]
[21,22651,22,22661,24,22667,null,null,null,null,0,222]
[21,22771,22,22777,24,22785,null,null,null,null,0,222]
[12,22879,24,22885,24,22896,null,null,null,null,0,122]
[21,23001,22,23007,24,23012,null,null,null,null,0,222]
[21,23115,22,23120,24,23131,null,null,null,null,0,222]
[12,23338,24,23351,24,23363,null,null,null,null,0,122]
[12,23587,13,23590,24,23605,null,null,null,null,0,112]
[21,23711,22,23717,24,23731,null,null,null,null,0,222]
[12,23936,24,23953,24,23964,null,null,null,null,null,122]

{"sheet":"!M131A40.Gus","index":17,"n_rows":172,"n_cols":48,"rows_kept":172,"cut":false,"hidden":false,"merged":[[4,39,4,42],[5,39,5,40],[4,44,4,47],[5,44,5,45],[4,24,4,27],[5,24,5,25],[4,29,4,32],[5,29,5,30],[4,34,4,37],[5,34,5,35],[1,1,1,2],[5,13,5,14],[18,13,18,14],[19,13,19,14],[4,19,4,22],[5,19,5,20]]}
["Report for:!M131A40.Gus"]
["Date:","<date>"]
["Hen:","<hen>",null,null,null,"Correct Sequence",{"$f":"Start!J2","v":211},null,null,null,null,null,null,null,null,"Total Sequences in Data",{"$f":"4994-COUNTBLANK(L7:L5000)","v":166},null,null,null,null,"Total Sequences in Block Data",{"$f":"COUNTA(L7:L34)","v":28},null,null,null,"Total Sequences in Block Data",{"$f":"COUNTA(L35:L61)","v":27},null,null,null,"Total Sequences in Block Data",{"$f":"COUNTA(L62:L89)","v":28},null,null,null,"Total Sequences in Block Data",{"$f":"COUNTA(L90:L117)","v":28},null,null,null,"Total Sequences in Block Data",{"$f":"COUNTA(L118:L144)","v":27},null,null,null,"Total Sequences in Block Data",{"$f":"COUNTA(L145:L172)","v":28}]
[null,null,null,null,null,null,null,null,null,null,null,null,null,null,null,"Total Sequences in Summary",{"$f":"SUM(O7:O14)","v":166},null,null,null,null,"Total Sequences in Block Summary",{"$f":"SUM(U7:U14)","v":28},null,null,null,"Total Sequences in Block Summary",{"$f":"SUM(Z7:Z14)","v":27},null,null,null,"Total Sequences in Block Summary",{"$f":"SUM(AE7:AE14)","v":28},null,null,null,"Total Sequences in Block Summary",{"$f":"SUM(AJ7:AJ14)","v":28},null,null,null,"Total Sequences in Block Summary",{"$f":"SUM(AO7:AO14)","v":27},null,null,null,"Total Sequences in Block Summary",{"$f":"SUM(AT7:AT14)","v":28}]
[null,null,null,null,null,null,null,null,null,null,null,null,null,null,null,null,null,null,null,"Block 1",null,null,null,null,"Block 2",null,null,null,null,"Block 3",null,null,null,null,"Block 4",null,null,null,null,"Block 5",null,null,null,null,"Block 6"]
["Sequence\nComponent\n1","Time\n1","Sequence\nComponent\n2","Time\n2","Sequence\nComponent\n3","Time\n3","Sequence\nComponent\n4","Time\n4","Sequence\nComponent\n5","Time\n5","Correct?\n0=No 1=Yes","Sequence",null,"Frequency",null,"Relative Frequency","Variability",null,null,"Frequency",null,"Relative Frequency","Variability",null,"Frequency",null,"Relative Frequency","Variability",null,"Frequency",null,"Relative Frequency","Variability",null,"Frequency",null,"Relative Frequency","Variability",null,"Frequency",null,"Relative Frequency","Variability",null,"Frequency",null,"Relative Frequency","Variability"]
[21,140,22,146,24,153,null,null,null,null,0,222,null,111,{"$f":"COUNTIF($L$7:$L$500,N7)","v":0},{"$f":"O7/$Q$4","v":0},{"$f":"IF(P7=0,0,(P7*((LOG(P7))/LOG(2))))","v":0},null,null,{"$f":"N7","v":111},{"$f":"COUNTIF(L7:L34,T7)","v":0},{"$f":"U7/(W4-U11)","v":0},{"$f":"IF(V7=0,0,(V7*((LOG(V7))/LOG(2))))","v":0},null,{"$f":"N7","v":111},{"$f":"COUNTIF(L35:L61,Y7)","v":0},{"$f":"Z7/(AB4-Z11)","v":0},{"$f":"IF(AA7=0,0,(AA7*((LOG(AA7))/LOG(2))))","v":0},null,{"$f":"N7","v":111},{"$f":"COUNTIF(L62:L89,AD7)","v":0},{"$f":"AE7/(AG4-AE11)","v":0},{"$f":"IF(AF7=0,0,(AF7*((LOG(AF7))/LOG(2))))","v":0},null,{"$f":"N7","v":111},{"$f":"COUNTIF(L90:L117,AI7)","v":0},{"$f":"AJ7/(AL4-AJ11)","v":0},{"$f":"IF(AK7=0,0,(AK7*((LOG(AK7))/LOG(2))))","v":0},null,{"$f":"N7","v":111},{"$f":"COUNTIF(L118:L144,AN7)","v":0},{"$f":"AO7/(AQ4-AO11)","v":0},{"$f":"IF(AP7=0,0,(AP7*((LOG(AP7))/LOG(2))))","v":0},null,{"$f":"N7","v":111},{"$f":"COUNTIF(L145:L172,AS7)","v":0},{"$f":"AT7/(AV4-AT11)","v":0},{"$f":"IF(AU7=0,0,(AU7*((LOG(AU7))/LOG(2))))","v":0}]
[21,246,22,252,24,267,null,null,null,null,0,222,null,112,{"$f":"COUNTIF($L$7:$L$500,N8)","v":7},{"$f":"O8/$Q$4","v":4.2168674698795178E-2},{"$f":"IF(P8=0,0,(P8*((LOG(P8))/LOG(2))))","v":-0.19261320219894726},null,null,{"$f":"N8","v":112},{"$f":"COUNTIF(L7:L34,T8)","v":0},{"$f":"U8/(W4-U11)","v":0},{"$f":"IF(V8=0,0,(V8*((LOG(V8))/LOG(2))))","v":0},null,{"$f":"N8","v":112},{"$f":"COUNTIF(L35:L61,Y8)","v":0},{"$f":"Z8/(AB4-Z11)","v":0},{"$f":"IF(AA8=0,0,(AA8*((LOG(AA8))/LOG(2))))","v":0},null,{"$f":"N8","v":112},{"$f":"COUNTIF(L62:L89,AD8)","v":1},{"$f":"AE8/(AG4-AE11)","v":3.5714285714285712E-2},{"$f":"IF(AF8=0,0,(AF8*((LOG(AF8))/LOG(2))))","v":-0.17169124721634299},null,{"$f":"N8","v":112},{"$f":"COUNTIF(L90:L117,AI8)","v":1},{"$f":"AJ8/(AL4-AJ11)","v":3.5714285714285712E-2},{"$f":"IF(AK8=0,0,(AK8*((LOG(AK8))/LOG(2))))","v":-0.17169124721634299},null,{"$f":"N8","v":112},{"$f":"COUNTIF(L118:L144,AN8)","v":5},{"$f":"AO8/(AQ4-AO11)","v":0.18518518518518517},{"$f":"IF(AP8=0,0,(AP8*((LOG(AP8))/LOG(2))))","v":-0.45054803838446406},null,{"$f":"N8","v":112},{"$f":"COUNTIF(L145:L172,AS8)","v":0},{"$f":"AT8/(AV4-AT11)","v":0},{"$f":"IF(AU8=0,0,(AU8*((LOG(AU8))/LOG(2))))","v":0}]
[21,372,22,378,24,384,null,null,null,null,0,222,null,121,{"$f":"COUNTIF($L$7:$L$500,N9)","v":1},{"$f":"O9/$Q$4","v":6.024096385542169E-3},{"$f":"IF(P9=0,0,(P9*((LOG(P9))/LOG(2))))","v":-4.4427948381607983E-2},null,null,{"$f":"N9","v":121},{"$f":"COUNTIF(L7:L34,T9)","v":0},{"$f":"U9/(W4-U11)","v":0},{"$f":"IF(V9=0,0,(V9*((LOG(V9))/LOG(2))))","v":0},null,{"$f":"N9","v":121},{"$f":"COUNTIF(L35:L61,Y9)","v":1},{"$f":"Z9/(AB4-Z11)","v":3.7037037037037035E-2},{"$f":"IF(AA9=0,0,(AA9*((LOG(AA9))/LOG(2))))","v":-0.1761069445245729},null,{"$f":"N9","v":121},{"$f":"COUNTIF(L62:L89,AD9)","v":0},{"$f":"AE9/(AG4-AE11)","v":0},{"$f":"IF(AF9=0,0,(AF9*((LOG(AF9))/LOG(2))))","v":0},null,{"$f":"N9","v":121},{"$f":"COUNTIF(L90:L117,AI9)","v":0},{"$f":"AJ9/(AL4-AJ11)","v":0},{"$f":"IF(AK9=0,0,(AK9*((LOG(AK9))/LOG(2))))","v":0},null,{"$f":"N9","v":121},{"$f":"COUNTIF(L118:L144,AN9)","v":0},{"$f":"AO9/(AQ4-AO11)","v":0},{"$f":"IF(AP9=0,0,(AP9*((LOG(AP9))/LOG(2))))","v":0},null,{"$f":"N9","v":121},{"$f":"COUNTIF(L145:L172,AS9)","v":0},{"$f":"AT9/(AV4-AT11)","v":0},{"$f":"IF(AU9=0,0,(AU9*((LOG(AU9))/LOG(2))))","v":0}]
[12,478,24,504,24,512,null,null,null,null,0,122,null,122,{"$f":"COUNTIF($L$7:$L$500,N10)","v":60},{"$f":"O10/$Q$4","v":0.36144578313253012},{"$f":"IF(P10=0,0,(P10*((LOG(P10))/LOG(2))))","v":-0.53065620568858063},null,null,{"$f":"N10","v":122},{"$f":"COUNTIF(L7:L34,T10)","v":6},{"$f":"U10/(W4-U11)","v":0.21428571428571427},{"$f":"IF(V10=0,0,(V10*((LOG(V10))/LOG(2))))","v":-0.47622694742923877},null,{"$f":"N10","v":122},{"$f":"COUNTIF(L35:L61,Y10)","v":10},{"$f":"Z10/(AB4-Z11)","v":0.37037037037037035},{"$f":"IF(AA10=0,0,(AA10*((LOG(AA10))/LOG(2))))","v":-0.53072570639855787},null,{"$f":"N10","v":122},{"$f":"COUNTIF(L62:L89,AD10)","v":9},{"$f":"AE10/(AG4-AE11)","v":0.32142857142857145},{"$f":"IF(AF10=0,0,(AF10*((LOG(AF10))/LOG(2))))","v":-0.5263167601977724},null,{"$f":"N10","v":122},{"$f":"COUNTIF(L90:L117,AI10)","v":17},{"$f":"AJ10/(AL4-AJ11)","v":0.6071428571428571},{"$f":"IF(AK10=0,0,(AK10*((LOG(AK10))/LOG(2))))","v":-0.43707733477583927},null,{"$f":"N10","v":122},{"$f":"COUNTIF(L118:L144,AN10)","v":9},{"$f":"AO10/(AQ4-AO11)","v":0.33333333333333331},{"$f":"IF(AP10=0,0,(AP10*((LOG(AP10))/LOG(2))))","v":-0.52832083357371862},null,{"$f":"N10","v":122},{"$f":"COUNTIF(L145:L172,AS10)","v":9},{"$f":"AT10/(AV4-AT11)","v":0.32142857142857145},{"$f":"IF(AU10=0,0,(AU10*((LOG(AU10))/LOG(2))))","v":-0.5263167601977724}]
[21,617,22,626,24,639,null,null,null,null,0,222,null,211,{"$f":"COUNTIF($L$7:$L$500,N11)","v":0},{"$f":"O11/$Q$4","v":0},{"$f":"IF(P11=0,0,(P11*((LOG(P11))/LOG(2))))","v":0},null,null,{"$f":"N11","v":211},{"$f":"COUNTIF(L7:L34,T11)","v":0},null,null,null,{"$f":"N11","v":211},{"$f":"COUNTIF(L35:L61,Y11)","v":0},null,null,null,{"$f":"N11","v":211},{"$f":"COUNTIF(L62:L89,AD11)","v":0},null,null,null,{"$f":"N11","v":211},{"$f":"COUNTIF(L90:L117,AI11)","v":0},null,null,null,{"$f":"N11","v":211},{"$f":"COUNTIF(L118:L144,AN11)","v":0},null,null,null,{"$f":"N11","v":211},{"$f":"COUNTIF(L145:L172,AS11)","v":0}]
[21,757,22,762,24,770,null,null,null,null,0,222,null,212,{"$f":"COUNTIF($L$7:$L$500,N12)","v":0},{"$f":"O12/$Q$4","v":0},{"$f":"IF(P12=0,0,(P12*((LOG(P12))/LOG(2))))","v":0},null,null,{"$f":"N12","v":212},{"$f":"COUNTIF(L7:L34,T12)","v":0},{"$f":"U12/(W4-U11)","v":0},{"$f":"IF(V12=0,0,(V12*((LOG(V12))/LOG(2))))","v":0},null,{"$f":"N12","v":212},{"$f":"COUNTIF(L35:L61,Y12)","v":0},{"$f":"Z12/(AB4-Z11)","v":0},{"$f":"IF(AA12=0,0,(AA12*((LOG(AA12))/LOG(2))))","v":0},null,{"$f":"N12","v":212},{"$f":"COUNTIF(L62:L89,AD12)","v":0},{"$f":"AE12/(AG4-AE11)","v":0},{"$f":"IF(AF12=0,0,(AF12*((LOG(AF12))/LOG(2))))","v":0},null,{"$f":"N12","v":212},{"$f":"COUNTIF(L90:L117,AI12)","v":0},{"$f":"AJ12/(AL4-AJ11)","v":0},{"$f":"IF(AK12=0,0,(AK12*((LOG(AK12))/LOG(2))))","v":0},null,{"$f":"N12","v":212},{"$f":"COUNTIF(L118:L144,AN12)","v":0},{"$f":"AO12/(AQ4-AO11)","v":0},{"$f":"IF(AP12=0,0,(AP12*((LOG(AP12))/LOG(2))))","v":0},null,{"$f":"N12","v":212},{"$f":"COUNTIF(L145:L172,AS12)","v":0},{"$f":"AT12/(AV4-AT11)","v":0},{"$f":"IF(AU12=0,0,(AU12*((LOG(AU12))/LOG(2))))","v":0}]
[21,883,22,889,24,896,null,null,null,null,0,222,null,221,{"$f":"COUNTIF($L$7:$L$500,N13)","v":0},{"$f":"O13/$Q$4","v":0},{"$f":"IF(P13=0,0,(P13*((LOG(P13))/LOG(2))))","v":0},null,null,{"$f":"N13","v":221},{"$f":"COUNTIF(L7:L34,T13)","v":0},{"$f":"U13/(W4-U11)","v":0},{"$f":"IF(V13=0,0,(V13*((LOG(V13))/LOG(2))))","v":0},null,{"$f":"N13","v":221},{"$f":"COUNTIF(L35:L61,Y13)","v":0},{"$f":"Z13/(AB4-Z11)","v":0},{"$f":"IF(AA13=0,0,(AA13*((LOG(AA13))/LOG(2))))","v":0},null,{"$f":"N13","v":221},{"$f":"COUNTIF(L62:L89,AD13)","v":0},{"$f":"AE13/(AG4-AE11)","v":0},{"$f":"IF(AF13=0,0,(AF13*((LOG(AF13))/LOG(2))))","v":0},null,{"$f":"N13","v":221},{"$f":"COUNTIF(L90:L117,AI13)","v":0},{"$f":"AJ13/(AL4-AJ11)","v":0},{"$f":"IF(AK13=0,0,(AK13*((LOG(AK13))/LOG(2))))","v":0},null,{"$f":"N13","v":221},{"$f":"COUNTIF(L118:L144,AN13)","v":0},{"$f":"AO13/(AQ4-AO11)","v":0},{"$f":"IF(AP13=0,0,(AP13*((LOG(AP13))/LOG(2))))","v":0},null,{"$f":"N13","v":221},{"$f":"COUNTIF(L145:L172,AS13)","v":0},{"$f":"AT13/(AV4-AT11)","v":0},{"$f":"IF(AU13=0,0,(AU13*((LOG(AU13))/LOG(2))))","v":0}]
[21,999,22,1010,24,1022,null,null,null,null,0,222,null,222,{"$f":"COUNTIF($L$7:$L$500,N14)","v":98},{"$f":"O14/$Q$4","v":0.59036144578313254},{"$f":"IF(P14=0,0,(P14*((LOG(P14))/LOG(2))))","v":-0.44886927438980856},null,null,{"$f":"N14","v":222},{"$f":"COUNTIF(L7:L34,T14)","v":22},{"$f":"U14/(W4-U11)","v":0.7857142857142857},{"$f":"IF(V14=0,0,(V14*((LOG(V14))/LOG(2))))","v":-0.27336830983024107},null,{"$f":"N14","v":222},{"$f":"COUNTIF(L35:L61,Y14)","v":16},{"$f":"Z14/(AB4-Z11)","v":0.59259259259259256},{"$f":"IF(AA14=0,0,(AA14*((LOG(AA14))/LOG(2))))","v":-0.44734074202279617},null,{"$f":"N14","v":222},{"$f":"COUNTIF(L62:L89,AD14)","v":18},{"$f":"AE14/(AG4-AE11)","v":0.6428571428571429},{"$f":"IF(AF14=0,0,(AF14*((LOG(AF14))/LOG(2))))","v":-0.40977637753840174},null,{"$f":"N14","v":222},{"$f":"COUNTIF(L90:L117,AI14)","v":10},{"$f":"AJ14/(AL4-AJ11)","v":0.35714285714285715},{"$f":"IF(AK14=0,0,(AK14*((LOG(AK14))/LOG(2))))","v":-0.53050958113222924},null,{"$f":"N14","v":222},{"$f":"COUNTIF(L118:L144,AN14)","v":13},{"$f":"AO14/(AQ4-AO11)","v":0.48148148148148145},{"$f":"IF(AP14=0,0,(AP14*((LOG(AP14))/LOG(2))))","v":-0.50769708119595902},null,{"$f":"N14","v":222},{"$f":"COUNTIF(L145:L172,AS14)","v":19},{"$f":"AT14/(AV4-AT11)","v":0.6785714285714286},{"$f":"IF(AU14=0,0,(AU14*((LOG(AU14))/LOG(2))))","v":-0.37961145584522688}]
[21,1126,22,1128,24,1134,null,null,null,null,0,222,null,null,null,{"$f":"SUM(P7:P14)","v":1},{"$f":"-SUM(Q7:Q14)","v":1.2165666306589444},null,null,null,null,{"$f":"SUM(V7:V14)","v":1},{"$f":"-SUM(W7:W14)","v":0.74959525725947984},null,null,null,{"$f":"SUM(AA7:AA14)","v":1},{"$f":"-SUM(AB7:AB14)","v":1.154173392945927},null,null,null,{"$f":"SUM(AF7:AF14)","v":1},{"$f":"-SUM(AG7:AG14)","v":1.1077843849525171},null,null,null,{"$f":"SUM(AK7:AK14)","v":1},{"$f":"-SUM(AL7:AL14)","v":1.1392781631244113},null,null,null,{"$f":"SUM(AP7:AP14)","v":1},{"$f":"-SUM(AQ7:AQ14)","v":1.4865659531541415},null,null,null,{"$f":"SUM(AU7:AU14)","v":1},{"$f":"-SUM(AV7:AV14)","v":0.90592821604299933}]
[21,1235,22,1253,24,1259,null,null,null,null,0,222,null,null,null,"U=",{"$f":"Q15/(LOG(Q4)/LOG(2))","v":0.16495730524341881},null,null,null,null,"U1=",{"$f":"W15/(LOG(W4)/LOG(2))","v":0.1559267558590503},null,null,null,"U2=",{"$f":"AB15/(LOG(AB4)/LOG(2))","v":0.2427341114633689},null,null,null,"U3=",{"$f":"AG15/(LOG(AG4)/LOG(2))","v":0.23043532314821732},null,null,null,"U4=",{"$f":"AL15/(LOG(AL4)/LOG(2))","v":0.23698648874395714},null,null,null,"U5=",{"$f":"AQ15/(LOG(AQ4)/LOG(2))","v":0.3126395634970871},null,null,null,"U6=",{"$f":"AV15/(LOG(AV4)/LOG(2))","v":0.18844629338398247}]
[21,1374,22,1397,24,1404,null,null,null,null,0,222]
[12,1586,24,1598,24,1602,null,null,null,null,0,122]
[21,1706,22,1713,24,1728,null,null,null,null,0,222,null,"Total Target Seq"]
[21,1829,22,1834,24,1842,null,null,null,null,0,222,null,{"$f":"COUNTIF(L7:L172,G3)","v":0},null,28,27,28,28,27,28]
[21,1949,22,1953,24,1959,null,null,null,null,0,222,null,null,null,"% of reinforcement given in 6 equal intervals based on number of trials "]
[12,2091,24,2102,24,2108,null,null,null,null,0,122,null,null,null,"%_1","%_2","%_3","%_4","%_5","%_6"]
[12,2285,24,2335,24,2350,null,null,null,null,0,122,null,null,"target sequence",{"$f":"$G$3","v":211},{"$f":"$G$3","v":211},{"$f":"$G$3","v":211},{"$f":"$G$3","v":211},{"$f":"$G$3","v":211},{"$f":"$G$3","v":211}]
[21,2467,22,2470,24,2474,null,null,null,null,0,222,null,null,"total reinforcement",{"$f":"U11","v":0},{"$f":"Z11","v":0},{"$f":"AE11","v":0},{"$f":"AJ11","v":0},{"$f":"AO11","v":0},{"$f":"AT11","v":0}]
[12,2566,24,2573,24,2580,null,null,null,null,0,122,null,null,"% target"]
[21,2693,22,2696,24,2702,null,null,null,null,0,222,null,null,"CCRF"]
[21,2807,22,2815,24,2819,null,null,null,null,0,222,null,null,"% CCRf"]
[21,2946,22,2953,24,2963,null,null,null,null,0,222,null,null,"average response rate",{"$f":"F34/P20","v":132.17857142857142},{"$f":"(F61-F34)/Q20","v":158.2962962962963},{"$f":"(F89-F61)/R20","v":144.5},{"$f":"(F117-F89)/S20","v":137.57142857142858},{"$f":"(F144-F117)/T20","v":132.96296296296296},{"$f":"(F172-F144)/U20","v":157.32142857142858}]
[21,3071,22,3078,24,3089,null,null,null,null,0,222]
[21,3190,22,3193,24,3196,null,null,null,null,0,222]
[21,3300,22,3306,24,3317,null,null,null,null,0,222]
[21,3419,22,3425,24,3430,null,null,null,null,0,222]
[21,3543,22,3554,24,3560,null,null,null,null,0,222]
[12,3659,24,3676,24,3701,null,null,null,null,0,122]
[21,3807,22,3811,24,3827,null,null,null,null,0,222]
[12,4037,24,4053,24,4071,null,null,null,null,0,122]
[12,4167,24,4174,24,4177,null,null,null,null,0,122]
[12,4305,24,4319,24,4329,null,null,null,null,0,122]
[21,4433,22,4441,24,4446,null,null,null,null,0,222]
[12,4542,24,4557,24,4561,null,null,null,null,0,122]
[12,4688,24,4711,24,4718,null,null,null,null,0,122]
[21,4826,22,4832,24,4838,null,null,null,null,0,222]
[12,4933,24,4938,13,4942,null,null,null,null,0,121]
[21,5043,22,5052,24,5056,null,null,null,null,0,222]
[21,5256,22,5280,24,5294,null,null,null,null,0,222]
[21,5398,22,5402,24,5416,null,null,null,null,0,222]
[21,5517,22,5521,24,5526,null,null,null,null,0,222]
[21,5627,22,5630,24,5636,null,null,null,null,0,222]
[12,5732,24,5740,24,5744,null,null,null,null,0,122]
[21,5842,22,5850,24,5856,null,null,null,null,0,222]
[12,5950,24,5959,24,5962,null,null,null,null,0,122]
[12,6054,24,6064,24,6068,null,null,null,null,0,122]
[12,6371,24,6385,24,6401,null,null,null,null,0,122]
[21,6497,22,6501,24,6505,null,null,null,null,0,222]
[12,6597,24,6612,24,6618,null,null,null,null,0,122]
[21,6722,22,6728,24,6739,null,null,null,null,0,222]
[21,7425,22,7431,24,7437,null,null,null,null,0,222]
[21,7613,22,7618,24,7625,null,null,null,null,0,222]
[21,7730,22,7734,24,7739,null,null,null,null,0,222]
[21,7843,22,7848,24,7854,null,null,null,null,0,222]
[21,7954,22,7965,24,7975,null,null,null,null,0,222]
[21,8079,22,8086,24,8093,null,null,null,null,0,222]
[21,8198,22,8202,24,8209,null,null,null,null,0,222]
[21,8309,22,8313,24,8318,null,null,null,null,0,222]
[12,8411,24,8423,24,8430,null,null,null,null,0,122]
[21,8667,22,8673,24,8685,null,null,null,null,0,222]
[21,8794,22,8800,24,8814,null,null,null,null,0,222]
[12,8908,13,8914,24,8923,null,null,null,null,0,112]
[21,9037,22,9043,24,9049,null,null,null,null,0,222]
[21,9156,22,9163,24,9168,null,null,null,null,0,222]
[21,9272,22,9278,24,9290,null,null,null,null,0,222]
[21,9391,22,9397,24,9404,null,null,null,null,0,222]
[21,9506,22,9509,24,9514,null,null,null,null,0,222]
[12,9609,24,9618,24,9623,null,null,null,null,0,122]
[12,9715,24,9727,24,9733,null,null,null,null,0,122]
[21,9834,22,9838,24,9848,null,null,null,null,0,222]
[12,10241,24,10257,24,10279,null,null,null,null,0,122]
[21,10378,22,10384,24,10390,null,null,null,null,0,222]
[21,10493,22,10503,24,10509,null,null,null,null,0,222]
[21,10783,22,10795,24,10802,null,null,null,null,0,222]
[12,10921,24,10949,24,10954,null,null,null,null,0,122]
[21,11062,22,11064,24,11084,null,null,null,null,0,222]
[12,11292,24,11312,24,11318,null,null,null,null,0,122]
[12,11414,24,11419,24,11424,null,null,null,null,0,122]
[12,11517,24,11531,24,11534,null,null,null,null,0,122]
[21,11636,22,11666,24,11686,null,null,null,null,0,222]
[21,11784,22,11787,24,11790,null,null,null,null,0,222]
[12,11884,24,11895,24,11905,null,null,null,null,0,122]
[21,12010,22,12016,24,12021,null,null,null,null,0,222]
[21,12497,22,12502,24,12509,null,null,null,null,0,222]
[12,12654,24,12675,24,12688,null,null,null,null,0,122]
[21,12791,22,12796,24,12803,null,null,null,null,0,222]
[12,12896,24,12910,24,12920,null,null,null,null,0,122]
[12,13013,13,13015,24,13026,null,null,null,null,0,112]
[12,13118,24,13136,24,13144,null,null,null,null,0,122]
[12,13237,24,13247,24,13252,null,null,null,null,0,122]
[12,13378,24,13383,24,13395,null,null,null,null,0,122]
[21,13496,22,13500,24,13503,null,null,null,null,0,222]
[21,13613,22,13619,24,13625,null,null,null,null,0,222]
[12,13719,24,13740,24,13752,null,null,null,null,0,122]
[12,13845,24,13857,24,13861,null,null,null,null,0,122]
[21,13965,22,13969,24,13976,null,null,null,null,0,222]
[12,14079,24,14084,24,14090,null,null,null,null,0,122]
[21,14204,22,14221,24,14229,null,null,null,null,0,222]
[12,14329,24,14339,24,14345,null,null,null,null,0,122]
[21,14526,22,14530,24,14536,null,null,null,null,0,222]
[12,14635,24,14644,24,14659,null,null,null,null,0,122]
[21,14764,22,14768,24,14772,null,null,null,null,0,222]
[12,14864,24,14873,24,14878,null,null,null,null,0,122]
[12,14970,24,14988,24,14994,null,null,null,null,0,122]
[12,15087,24,15094,24,15100,null,null,null,null,0,122]
[21,15201,22,15207,24,15214,null,null,null,null,0,222]
[12,15310,24,15317,24,15323,null,null,null,null,0,122]
[12,15501,24,15531,24,15547,null,null,null,null,0,122]
[12,15640,24,15644,24,15651,null,null,null,null,0,122]
[21,15758,22,15762,24,15769,null,null,null,null,0,222]
[12,15861,24,15868,24,15873,null,null,null,null,0,122]
[21,15980,22,15992,24,15999,null,null,null,null,0,222]
[21,16099,22,16109,24,16115,null,null,null,null,0,222]
[12,16262,24,16281,24,16296,null,null,null,null,0,122]
[21,16399,22,16405,24,16411,null,null,null,null,0,222]
[12,16503,24,16510,24,16515,null,null,null,null,0,122]
[21,16617,22,16627,24,16643,null,null,null,null,0,222]
[12,16736,24,16743,24,16748,null,null,null,null,0,122]
[21,16855,22,16859,24,16866,null,null,null,null,0,222]
[12,16960,24,16966,24,16972,null,null,null,null,0,122]
[12,17065,13,17073,24,17077,null,null,null,null,0,112]
[12,17170,24,17182,24,17198,null,null,null,null,0,122]
[12,17373,24,17386,24,17393,null,null,null,null,0,122]
[12,17496,13,17499,24,17511,null,null,null,null,0,112]
[21,17612,22,17617,24,17622,null,null,null,null,0,222]
[21,17734,22,17744,24,17751,null,null,null,null,0,222]
[12,17978,13,17983,24,17998,null,null,null,null,0,112]
[12,18094,24,18102,24,18112,null,null,null,null,0,122]
[21,18211,22,18225,24,18234,null,null,null,null,0,222]
[21,18339,22,18360,24,18370,null,null,null,null,0,222]
[21,18483,22,18490,24,18495,null,null,null,null,0,222]
[21,18604,22,18611,24,18616,null,null,null,null,0,222]
[21,18719,22,18728,24,18738,null,null,null,null,0,222]
[21,18840,22,18847,24,18852,null,null,null,null,0,222]
[12,19050,24,19070,24,19081,null,null,null,null,0,122]
[12,19232,13,19237,24,19247,null,null,null,null,0,112]
[12,19343,24,19348,24,19355,null,null,null,null,0,122]
[12,19448,13,19452,24,19463,null,null,null,null,0,112]
[21,19564,22,19576,24,19588,null,null,null,null,0,222]
[21,19711,22,19718,24,19724,null,null,null,null,0,222]
[21,19831,22,19836,24,19842,null,null,null,null,0,222]
[12,19936,24,19944,24,19947,null,null,null,null,0,122]
[21,20052,22,20056,24,20066,null,null,null,null,0,222]
[21,20174,22,20182,24,20188,null,null,null,null,0,222]
[12,20292,24,20301,24,20312,null,null,null,null,0,122]
[12,20679,24,20694,24,20712,null,null,null,null,0,122]
[21,20811,22,20817,24,20822,null,null,null,null,0,222]
[21,20925,22,20937,24,20943,null,null,null,null,0,222]
[21,21164,22,21170,24,21176,null,null,null,null,0,222]
[21,21291,22,21306,24,21312,null,null,null,null,0,222]
[12,21474,24,21485,24,21498,null,null,null,null,0,122]
[12,21593,24,21601,24,21609,null,null,null,null,0,122]
[21,21713,22,21723,24,21730,null,null,null,null,0,222]
[21,21834,22,21839,24,21846,null,null,null,null,0,222]
[21,21953,22,21959,24,21966,null,null,null,null,0,222]
[21,22067,22,22072,24,22084,null,null,null,null,0,222]
[12,22177,24,22185,24,22196,null,null,null,null,0,122]
[12,22288,24,22296,24,22300,null,null,null,null,0,122]
[21,22401,22,22405,24,22412,null,null,null,null,0,222]
[21,22515,22,22520,24,22526,null,null,null,null,0,222]
[21,22627,22,22633,24,22638,null,null,null,null,0,222]
[12,22730,24,22747,24,22753,null,null,null,null,0,122]
[21,23331,22,23341,24,23349,null,null,null,null,0,222]
[21,23581,22,23587,24,23594,null,null,null,null,0,222]
[12,23736,24,23748,24,23756,null,null,null,null,0,122]
[21,23858,22,23862,24,23868,null,null,null,null,0,222]

{"sheet":"!M201A40.Gus","index":18,"n_rows":155,"n_cols":48,"rows_kept":155,"cut":false,"hidden":false,"merged":[[4,39,4,42],[5,39,5,40],[4,44,4,47],[5,44,5,45],[4,24,4,27],[5,24,5,25],[4,29,4,32],[5,29,5,30],[4,34,4,37],[5,34,5,35],[1,1,1,2],[5,13,5,14],[18,13,18,14],[19,13,19,14],[4,19,4,22],[5,19,5,20]]}
["Report for:!M201A40.Gus"]
["Date:","<date>"]
["Hen:","<hen>",null,null,null,"Correct Sequence",{"$f":"Start!J2","v":211},null,null,null,null,null,null,null,null,"Total Sequences in Data",{"$f":"4994-COUNTBLANK(L7:L5000)","v":149},null,null,null,null,"Total Sequences in Block Data",{"$f":"COUNTA(L7:L31)","v":25},null,null,null,"Total Sequences in Block Data",{"$f":"COUNTA(L32:L56)","v":25},null,null,null,"Total Sequences in Block Data",{"$f":"COUNTA(L57:L80)","v":24},null,null,null,"Total Sequences in Block Data",{"$f":"COUNTA(L81:L105)","v":25},null,null,null,"Total Sequences in Block Data",{"$f":"COUNTA(L106:L130)","v":25},null,null,null,"Total Sequences in Block Data",{"$f":"COUNTA(L131:L155)","v":25}]
[null,null,null,null,null,null,null,null,null,null,null,null,null,null,null,"Total Sequences in Summary",{"$f":"SUM(O7:O14)","v":149},null,null,null,null,"Total Sequences in Block Summary",{"$f":"SUM(U7:U14)","v":25},null,null,null,"Total Sequences in Block Summary",{"$f":"SUM(Z7:Z14)","v":25},null,null,null,"Total Sequences in Block Summary",{"$f":"SUM(AE7:AE14)","v":24},null,null,null,"Total Sequences in Block Summary",{"$f":"SUM(AJ7:AJ14)","v":25},null,null,null,"Total Sequences in Block Summary",{"$f":"SUM(AO7:AO14)","v":25},null,null,null,"Total Sequences in Block Summary",{"$f":"SUM(AT7:AT14)","v":25}]
[null,null,null,null,null,null,null,null,null,null,null,null,null,null,null,null,null,null,null,"Block 1",null,null,null,null,"Block 2",null,null,null,null,"Block 3",null,null,null,null,"Block 4",null,null,null,null,"Block 5",null,null,null,null,"Block 6"]
["Sequence\nComponent\n1","Time\n1","Sequence\nComponent\n2","Time\n2","Sequence\nComponent\n3","Time\n3","Sequence\nComponent\n4","Time\n4","Sequence\nComponent\n5","Time\n5","Correct?\n0=No 1=Yes","Sequence",null,"Frequency",null,"Relative Frequency","Variability",null,null,"Frequency",null,"Relative Frequency","Variability",null,"Frequency",null,"Relative Frequency","Variability",null,"Frequency",null,"Relative Frequency","Variability",null,"Frequency",null,"Relative Frequency","Variability",null,"Frequency",null,"Relative Frequency","Variability",null,"Frequency",null,"Relative Frequency","Variability"]
[21,25,22,32,24,41,null,null,null,null,0,222,null,111,{"$f":"COUNTIF($L$7:$L$500,N7)","v":0},{"$f":"O7/$Q$4","v":0},{"$f":"IF(P7=0,0,(P7*((LOG(P7))/LOG(2))))","v":0},null,null,{"$f":"N7","v":111},{"$f":"COUNTIF(L7:L31,T7)","v":0},{"$f":"U7/(W4-U11)","v":0},{"$f":"IF(V7=0,0,(V7*((LOG(V7))/LOG(2))))","v":0},null,{"$f":"N7","v":111},{"$f":"COUNTIF(L32:L56,Y7)","v":0},{"$f":"Z7/(AB4-Z11)","v":0},{"$f":"IF(AA7=0,0,(AA7*((LOG(AA7))/LOG(2))))","v":0},null,{"$f":"N7","v":111},{"$f":"COUNTIF(L57:L80,AD7)","v":0},{"$f":"AE7/(AG4-AE11)","v":0},{"$f":"IF(AF7=0,0,(AF7*((LOG(AF7))/LOG(2))))","v":0},null,{"$f":"N7","v":111},{"$f":"COUNTIF(L81:L105,AI7)","v":0},{"$f":"AJ7/(AL4-AJ11)","v":0},{"$f":"IF(AK7=0,0,(AK7*((LOG(AK7))/LOG(2))))","v":0},null,{"$f":"N7","v":111},{"$f":"COUNTIF(L106:L130,AN7)","v":0},{"$f":"AO7/(AQ4-AO11)","v":0},{"$f":"IF(AP7=0,0,(AP7*((LOG(AP7))/LOG(2))))","v":0},null,{"$f":"N7","v":111},{"$f":"COUNTIF(L131:L155,AS7)","v":0},{"$f":"AT7/(AV4-AT11)","v":0},{"$f":"IF(AU7=0,0,(AU7*((LOG(AU7))/LOG(2))))","v":0}]
[21,149,22,157,24,164,null,null,null,null,0,222,null,112,{"$f":"COUNTIF($L$7:$L$500,N8)","v":4},{"$f":"O8/$Q$4","v":2.6845637583892617E-2},{"$f":"IF(P8=0,0,(P8*((LOG(P8))/LOG(2))))","v":-0.14011190658958825},null,null,{"$f":"N8","v":112},{"$f":"COUNTIF(L7:L31,T8)","v":0},{"$f":"U8/(W4-U11)","v":0},{"$f":"IF(V8=0,0,(V8*((LOG(V8))/LOG(2))))","v":0},null,{"$f":"N8","v":112},{"$f":"COUNTIF(L32:L56,Y8)","v":1},{"$f":"Z8/(AB4-Z11)","v":0.04},{"$f":"IF(AA8=0,0,(AA8*((LOG(AA8))/LOG(2))))","v":-0.18575424759098899},null,{"$f":"N8","v":112},{"$f":"COUNTIF(L57:L80,AD8)","v":0},{"$f":"AE8/(AG4-AE11)","v":0},{"$f":"IF(AF8=0,0,(AF8*((LOG(AF8))/LOG(2))))","v":0},null,{"$f":"N8","v":112},{"$f":"COUNTIF(L81:L105,AI8)","v":1},{"$f":"AJ8/(AL4-AJ11)","v":0.04},{"$f":"IF(AK8=0,0,(AK8*((LOG(AK8))/LOG(2))))","v":-0.18575424759098899},null,{"$f":"N8","v":112},{"$f":"COUNTIF(L106:L130,AN8)","v":2},{"$f":"AO8/(AQ4-AO11)","v":8.3333333333333329E-2},{"$f":"IF(AP8=0,0,(AP8*((LOG(AP8))/LOG(2))))","v":-0.29874687506009634},null,{"$f":"N8","v":112},{"$f":"COUNTIF(L131:L155,AS8)","v":0},{"$f":"AT8/(AV4-AT11)","v":0},{"$f":"IF(AU8=0,0,(AU8*((LOG(AU8))/LOG(2))))","v":0}]
[12,259,24,262,24,271,null,null,null,null,0,122,null,121,{"$f":"COUNTIF($L$7:$L$500,N9)","v":0},{"$f":"O9/$Q$4","v":0},{"$f":"IF(P9=0,0,(P9*((LOG(P9))/LOG(2))))","v":0},null,null,{"$f":"N9","v":121},{"$f":"COUNTIF(L7:L31,T9)","v":0},{"$f":"U9/(W4-U11)","v":0},{"$f":"IF(V9=0,0,(V9*((LOG(V9))/LOG(2))))","v":0},null,{"$f":"N9","v":121},{"$f":"COUNTIF(L32:L56,Y9)","v":0},{"$f":"Z9/(AB4-Z11)","v":0},{"$f":"IF(AA9=0,0,(AA9*((LOG(AA9))/LOG(2))))","v":0},null,{"$f":"N9","v":121},{"$f":"COUNTIF(L57:L80,AD9)","v":0},{"$f":"AE9/(AG4-AE11)","v":0},{"$f":"IF(AF9=0,0,(AF9*((LOG(AF9))/LOG(2))))","v":0},null,{"$f":"N9","v":121},{"$f":"COUNTIF(L81:L105,AI9)","v":0},{"$f":"AJ9/(AL4-AJ11)","v":0},{"$f":"IF(AK9=0,0,(AK9*((LOG(AK9))/LOG(2))))","v":0},null,{"$f":"N9","v":121},{"$f":"COUNTIF(L106:L130,AN9)","v":0},{"$f":"AO9/(AQ4-AO11)","v":0},{"$f":"IF(AP9=0,0,(AP9*((LOG(AP9))/LOG(2))))","v":0},null,{"$f":"N9","v":121},{"$f":"COUNTIF(L131:L155,AS9)","v":0},{"$f":"AT9/(AV4-AT11)","v":0},{"$f":"IF(AU9=0,0,(AU9*((LOG(AU9))/LOG(2))))","v":0}]
[12,371,24,382,24,390,null,null,null,null,0,122,null,122,{"$f":"COUNTIF($L$7:$L$500,N10)","v":38},{"$f":"O10/$Q$4","v":0.25503355704697989},{"$f":"IF(P10=0,0,(P10*((LOG(P10))/LOG(2))))","v":-0.502732605816818},null,null,{"$f":"N10","v":122},{"$f":"COUNTIF(L7:L31,T10)","v":6},{"$f":"U10/(W4-U11)","v":0.24},{"$f":"IF(V10=0,0,(V10*((LOG(V10))/LOG(2))))","v":-0.49413448537285637},null,{"$f":"N10","v":122},{"$f":"COUNTIF(L32:L56,Y10)","v":8},{"$f":"Z10/(AB4-Z11)","v":0.32},{"$f":"IF(AA10=0,0,(AA10*((LOG(AA10))/LOG(2))))","v":-0.52603398072791185},null,{"$f":"N10","v":122},{"$f":"COUNTIF(L57:L80,AD10)","v":4},{"$f":"AE10/(AG4-AE11)","v":0.16666666666666666},{"$f":"IF(AF10=0,0,(AF10*((LOG(AF10))/LOG(2))))","v":-0.43082708345352599},null,{"$f":"N10","v":122},{"$f":"COUNTIF(L81:L105,AI10)","v":7},{"$f":"AJ10/(AL4-AJ11)","v":0.28000000000000003},{"$f":"IF(AK10=0,0,(AK10*((LOG(AK10))/LOG(2))))","v":-0.51422035496079388},null,{"$f":"N10","v":122},{"$f":"COUNTIF(L106:L130,AN10)","v":3},{"$f":"AO10/(AQ4-AO11)","v":0.125},{"$f":"IF(AP10=0,0,(AP10*((LOG(AP10))/LOG(2))))","v":-0.375},null,{"$f":"N10","v":122},{"$f":"COUNTIF(L131:L155,AS10)","v":10},{"$f":"AT10/(AV4-AT11)","v":0.4},{"$f":"IF(AU10=0,0,(AU10*((LOG(AU10))/LOG(2))))","v":-0.52877123795494496}]
[21,492,22,496,24,501,null,null,null,null,0,222,null,211,{"$f":"COUNTIF($L$7:$L$500,N11)","v":1},{"$f":"O11/$Q$4","v":6.7114093959731542E-3},{"$f":"IF(P11=0,0,(P11*((LOG(P11))/LOG(2))))","v":-4.8450795439343365E-2},null,null,{"$f":"N11","v":211},{"$f":"COUNTIF(L7:L31,T11)","v":0},null,null,null,{"$f":"N11","v":211},{"$f":"COUNTIF(L32:L56,Y11)","v":0},null,null,null,{"$f":"N11","v":211},{"$f":"COUNTIF(L57:L80,AD11)","v":0},null,null,null,{"$f":"N11","v":211},{"$f":"COUNTIF(L81:L105,AI11)","v":0},null,null,null,{"$f":"N11","v":211},{"$f":"COUNTIF(L106:L130,AN11)","v":1},null,null,null,{"$f":"N11","v":211},{"$f":"COUNTIF(L131:L155,AS11)","v":0}]
[12,595,24,601,24,612,null,null,null,null,0,122,null,212,{"$f":"COUNTIF($L$7:$L$500,N12)","v":0},{"$f":"O12/$Q$4","v":0},{"$f":"IF(P12=0,0,(P12*((LOG(P12))/LOG(2))))","v":0},null,null,{"$f":"N12","v":212},{"$f":"COUNTIF(L7:L31,T12)","v":0},{"$f":"U12/(W4-U11)","v":0},{"$f":"IF(V12=0,0,(V12*((LOG(V12))/LOG(2))))","v":0},null,{"$f":"N12","v":212},{"$f":"COUNTIF(L32:L56,Y12)","v":0},{"$f":"Z12/(AB4-Z11)","v":0},{"$f":"IF(AA12=0,0,(AA12*((LOG(AA12))/LOG(2))))","v":0},null,{"$f":"N12","v":212},{"$f":"COUNTIF(L57:L80,AD12)","v":0},{"$f":"AE12/(AG4-AE11)","v":0},{"$f":"IF(AF12=0,0,(AF12*((LOG(AF12))/LOG(2))))","v":0},null,{"$f":"N12","v":212},{"$f":"COUNTIF(L81:L105,AI12)","v":0},{"$f":"AJ12/(AL4-AJ11)","v":0},{"$f":"IF(AK12=0,0,(AK12*((LOG(AK12))/LOG(2))))","v":0},null,{"$f":"N12","v":212},{"$f":"COUNTIF(L106:L130,AN12)","v":0},{"$f":"AO12/(AQ4-AO11)","v":0},{"$f":"IF(AP12=0,0,(AP12*((LOG(AP12))/LOG(2))))","v":0},null,{"$f":"N12","v":212},{"$f":"COUNTIF(L131:L155,AS12)","v":0},{"$f":"AT12/(AV4-AT11)","v":0},{"$f":"IF(AU12=0,0,(AU12*((LOG(AU12))/LOG(2))))","v":0}]
[12,707,24,716,24,726,null,null,null,null,0,122,null,221,{"$f":"COUNTIF($L$7:$L$500,N13)","v":0},{"$f":"O13/$Q$4","v":0},{"$f":"IF(P13=0,0,(P13*((LOG(P13))/LOG(2))))","v":0},null,null,{"$f":"N13","v":221},{"$f":"COUNTIF(L7:L31,T13)","v":0},{"$f":"U13/(W4-U11)","v":0},{"$f":"IF(V13=0,0,(V13*((LOG(V13))/LOG(2))))","v":0},null,{"$f":"N13","v":221},{"$f":"COUNTIF(L32:L56,Y13)","v":0},{"$f":"Z13/(AB4-Z11)","v":0},{"$f":"IF(AA13=0,0,(AA13*((LOG(AA13))/LOG(2))))","v":0},null,{"$f":"N13","v":221},{"$f":"COUNTIF(L57:L80,AD13)","v":0},{"$f":"AE13/(AG4-AE11)","v":0},{"$f":"IF(AF13=0,0,(AF13*((LOG(AF13))/LOG(2))))","v":0},null,{"$f":"N13","v":221},{"$f":"COUNTIF(L81:L105,AI13)","v":0},{"$f":"AJ13/(AL4-AJ11)","v":0},{"$f":"IF(AK13=0,0,(AK13*((LOG(AK13))/LOG(2))))","v":0},null,{"$f":"N13","v":221},{"$f":"COUNTIF(L106:L130,AN13)","v":0},{"$f":"AO13/(AQ4-AO11)","v":0},{"$f":"IF(AP13=0,0,(AP13*((LOG(AP13))/LOG(2))))","v":0},null,{"$f":"N13","v":221},{"$f":"COUNTIF(L131:L155,AS13)","v":0},{"$f":"AT13/(AV4-AT11)","v":0},{"$f":"IF(AU13=0,0,(AU13*((LOG(AU13))/LOG(2))))","v":0}]
[21,835,22,841,24,847,null,null,null,null,0,222,null,222,{"$f":"COUNTIF($L$7:$L$500,N14)","v":106},{"$f":"O14/$Q$4","v":0.71140939597315433},{"$f":"IF(P14=0,0,(P14*((LOG(P14))/LOG(2))))","v":-0.34947848983416119},null,null,{"$f":"N14","v":222},{"$f":"COUNTIF(L7:L31,T14)","v":19},{"$f":"U14/(W4-U11)","v":0.76},{"$f":"IF(V14=0,0,(V14*((LOG(V14))/LOG(2))))","v":-0.30090579401166578},null,{"$f":"N14","v":222},{"$f":"COUNTIF(L32:L56,Y14)","v":16},{"$f":"Z14/(AB4-Z11)","v":0.64},{"$f":"IF(AA14=0,0,(AA14*((LOG(AA14))/LOG(2))))","v":-0.41206796145582375},null,{"$f":"N14","v":222},{"$f":"COUNTIF(L57:L80,AD14)","v":20},{"$f":"AE14/(AG4-AE11)","v":0.83333333333333337},{"$f":"IF(AF14=0,0,(AF14*((LOG(AF14))/LOG(2))))","v":-0.21919533819482812},null,{"$f":"N14","v":222},{"$f":"COUNTIF(L81:L105,AI14)","v":17},{"$f":"AJ14/(AL4-AJ11)","v":0.68},{"$f":"IF(AK14=0,0,(AK14*((LOG(AK14))/LOG(2))))","v":-0.378347476996582},null,{"$f":"N14","v":222},{"$f":"COUNTIF(L106:L130,AN14)","v":19},{"$f":"AO14/(AQ4-AO11)","v":0.79166666666666663},{"$f":"IF(AP14=0,0,(AP14*((LOG(AP14))/LOG(2))))","v":-0.26681936492807684},null,{"$f":"N14","v":222},{"$f":"COUNTIF(L131:L155,AS14)","v":15},{"$f":"AT14/(AV4-AT11)","v":0.6},{"$f":"IF(AU14=0,0,(AU14*((LOG(AU14))/LOG(2))))","v":-0.44217935649972373}]
[21,950,22,956,24,960,null,null,null,null,0,222,null,null,null,{"$f":"SUM(P7:P14)","v":1},{"$f":"-SUM(Q7:Q14)","v":1.0407737976799107},null,null,null,null,{"$f":"SUM(V7:V14)","v":1},{"$f":"-SUM(W7:W14)","v":0.79504027938452215},null,null,null,{"$f":"SUM(AA7:AA14)","v":1},{"$f":"-SUM(AB7:AB14)","v":1.1238561897747246},null,null,null,{"$f":"SUM(AF7:AF14)","v":1},{"$f":"-SUM(AG7:AG14)","v":0.65002242164835411},null,null,null,{"$f":"SUM(AK7:AK14)","v":1},{"$f":"-SUM(AL7:AL14)","v":1.0783220795483648},null,null,null,{"$f":"SUM(AP7:AP14)","v":1},{"$f":"-SUM(AQ7:AQ14)","v":0.94056623998817313},null,null,null,{"$f":"SUM(AU7:AU14)","v":1},{"$f":"-SUM(AV7:AV14)","v":0.97095059445466869}]
[12,1108,24,1142,24,1148,null,null,null,null,0,122,null,null,null,"U=",{"$f":"Q15/(LOG(Q4)/LOG(2))","v":0.14416809840772105},null,null,null,null,"U1=",{"$f":"W15/(LOG(W4)/LOG(2))","v":0.17120260552751737},null,null,null,"U2=",{"$f":"AB15/(LOG(AB4)/LOG(2))","v":0.24200925779082819},null,null,null,"U3=",{"$f":"AG15/(LOG(AG4)/LOG(2))","v":0.14177268004833493},null,null,null,"U4=",{"$f":"AL15/(LOG(AL4)/LOG(2))","v":0.23220402085721661},null,null,null,"U5=",{"$f":"AQ15/(LOG(AQ4)/LOG(2))","v":0.20253991543906966},null,null,null,"U6=",{"$f":"AV15/(LOG(AV4)/LOG(2))","v":0.2090828300395258}]
[21,1248,22,1252,24,1258,null,null,null,null,0,222]
[21,1365,22,1373,24,1381,null,null,null,null,0,222]
[21,1485,22,1494,24,1506,null,null,null,null,0,222,null,"Total Target Seq"]
[21,1608,22,1615,24,1621,null,null,null,null,0,222,null,{"$f":"COUNTIF(L7:L155,G3)","v":1},null,25,25,24,25,25,25]
[21,1723,22,1726,24,1735,null,null,null,null,0,222,null,null,null,"% of reinforcement given in 6 equal intervals based on number of trials "]
[21,1836,22,1840,24,1844,null,null,null,null,0,222,null,null,null,"%_1","%_2","%_3","%_4","%_5","%_6"]
[21,1949,22,1953,24,1956,null,null,null,null,0,222,null,null,"target sequence",{"$f":"$G$3","v":211},{"$f":"$G$3","v":211},{"$f":"$G$3","v":211},{"$f":"$G$3","v":211},{"$f":"$G$3","v":211},{"$f":"$G$3","v":211}]
[21,2060,22,2064,24,2069,null,null,null,null,0,222,null,null,"total reinforcement",{"$f":"U11","v":0},{"$f":"Z11","v":0},{"$f":"AE11","v":0},{"$f":"AJ11","v":0},{"$f":"AO11","v":1},{"$f":"AT11","v":0}]
[21,2171,22,2179,24,2185,null,null,null,null,0,222,null,null,"% target"]
[21,2290,22,2295,24,2300,null,null,null,null,0,222,null,null,"CCRF"]
[21,2402,22,2407,24,2413,null,null,null,null,0,222,null,null,"% CCRf"]
[12,2577,24,2587,24,2600,null,null,null,null,0,122,null,null,"average response rate",{"$f":"F31/P20","v":118.36},{"$f":"(F56-F31)/Q20","v":238.04},{"$f":"(F80-F56)/R20","v":173.79166666666666},{"$f":"(F105-F80)/S20","v":149.80000000000001},{"$f":"(F130-F105)/T20","v":138.32},{"$f":"(F155-F130)/U20","v":146}]
[21,2707,22,2716,24,2722,null,null,null,null,0,222]
[21,2826,22,2831,24,2837,null,null,null,null,0,222]
[21,2943,22,2953,24,2959,null,null,null,null,0,222]
[21,3064,22,3068,24,3078,null,null,null,null,0,222]
[21,3181,22,3184,24,3191,null,null,null,null,0,222]
[21,3298,22,3302,24,3307,null,null,null,null,0,222]
[12,3403,24,3406,24,3417,null,null,null,null,0,122]
[12,3512,24,3515,24,3524,null,null,null,null,0,122]
[12,3619,24,3625,24,3629,null,null,null,null,0,122]
[21,3736,22,3742,24,3756,null,null,null,null,0,222]
[12,3850,24,3860,24,3863,null,null,null,null,0,122]
[21,4055,22,4060,24,4069,null,null,null,null,0,222]
[12,4167,24,4175,24,4180,null,null,null,null,0,122]
[21,4444,22,4448,24,4472,null,null,null,null,0,222]
[21,4571,22,4576,24,4584,null,null,null,null,0,222]
[21,4685,22,4689,24,4695,null,null,null,null,0,222]
[12,4789,24,4794,24,4799,null,null,null,null,0,122]
[12,5110,24,5120,24,5125,null,null,null,null,0,122]
[12,5321,24,5334,24,5340,null,null,null,null,0,122]
[12,5455,13,5459,24,5486,null,null,null,null,0,112]
[21,5591,22,5596,24,5602,null,null,null,null,0,222]
[21,5705,22,5711,24,5717,null,null,null,null,0,222]
[21,6439,22,6445,24,6456,null,null,null,null,0,222]
[21,7152,22,7159,24,7171,null,null,null,null,0,222]
[21,7707,22,7714,24,7727,null,null,null,null,0,222]
[21,8064,22,8070,24,8076,null,null,null,null,0,222]
[21,8442,22,8446,24,8453,null,null,null,null,0,222]
[21,8899,22,8904,24,8910,null,null,null,null,0,222]
[21,9015,22,9038,24,9045,null,null,null,null,0,222]
[12,9137,24,9153,24,9160,null,null,null,null,0,122]
[21,9511,22,9514,24,9517,null,null,null,null,0,222]
[21,9760,22,9763,24,9769,null,null,null,null,0,222]
[21,9875,22,9879,24,9887,null,null,null,null,0,222]
[21,9992,22,10000,24,10005,null,null,null,null,0,222]
[21,10347,22,10353,24,10359,null,null,null,null,0,222]
[21,10464,22,10469,24,10473,null,null,null,null,0,222]
[21,10577,22,10587,24,10592,null,null,null,null,0,222]
[21,10855,22,10865,24,10873,null,null,null,null,0,222]
[21,10976,22,10980,24,10985,null,null,null,null,0,222]
[21,11085,22,11095,24,11103,null,null,null,null,0,222]
[12,11195,24,11203,24,11211,null,null,null,null,0,122]
[21,11307,22,11322,24,11335,null,null,null,null,0,222]
[12,11472,24,11490,24,11497,null,null,null,null,0,122]
[21,11602,22,11606,24,11611,null,null,null,null,0,222]
[21,11715,22,11727,24,11732,null,null,null,null,0,222]
[12,11826,24,11834,24,11847,null,null,null,null,0,122]
[21,11950,22,11953,24,11959,null,null,null,null,0,222]
[21,12058,22,12063,24,12069,null,null,null,null,0,222]
[21,12169,22,12174,24,12181,null,null,null,null,0,222]
[21,12280,22,12284,24,12290,null,null,null,null,0,222]
[21,12961,22,12966,24,12971,null,null,null,null,0,222]
[21,13071,22,13076,24,13081,null,null,null,null,0,222]
[21,13182,22,13195,24,13205,null,null,null,null,0,222]
[21,13307,22,13310,24,13315,null,null,null,null,0,222]
[21,13458,22,13465,24,13470,null,null,null,null,0,222]
[21,13571,22,13579,24,13585,null,null,null,null,0,222]
[12,13677,24,13693,24,13702,null,null,null,null,0,122]
[21,13807,22,13814,24,13821,null,null,null,null,0,222]
[12,13913,24,13932,24,13941,null,null,null,null,0,122]
[21,14040,22,14044,24,14051,null,null,null,null,0,222]
[21,14156,22,14161,24,14173,null,null,null,null,0,222]
[21,14278,22,14296,24,14302,null,null,null,null,0,222]
[21,14402,22,14406,24,14412,null,null,null,null,0,222]
[12,14561,24,14574,24,14588,null,null,null,null,0,122]
[12,14682,24,14696,24,14710,null,null,null,null,0,122]
[21,14808,22,14815,24,14826,null,null,null,null,0,222]
[21,14924,22,14930,24,14937,null,null,null,null,0,222]
[21,15037,22,15042,24,15047,null,null,null,null,0,222]
[21,15150,22,15159,24,15166,null,null,null,null,0,222]
[12,15261,24,15269,24,15273,null,null,null,null,0,122]
[12,15367,13,15374,24,15389,null,null,null,null,0,112]
[12,15488,24,15498,24,15504,null,null,null,null,0,122]
[21,15665,22,15675,24,15683,null,null,null,null,0,222]
[21,16035,22,16040,24,16046,null,null,null,null,0,222]
[21,16458,22,16467,24,16472,null,null,null,null,0,222]
[12,16678,24,16690,24,16698,null,null,null,null,0,122]
[21,16810,22,16821,24,16826,null,null,null,null,0,222]
[21,16925,22,16933,24,16939,null,null,null,null,0,222]
[21,17048,22,17051,24,17052,null,null,null,null,0,222]
[21,17153,22,17157,24,17164,null,null,null,null,0,222]
[21,17262,11,17268,11,17276,null,null,null,null,0,211]
[21,17554,22,17600,24,17607,null,null,null,null,0,222]
[12,17721,13,17725,24,17735,null,null,null,null,0,112]
[21,17835,22,17841,24,17847,null,null,null,null,0,222]
[21,18046,22,18070,24,18086,null,null,null,null,0,222]
[21,18183,22,18186,24,18189,null,null,null,null,0,222]
[12,18283,24,18292,24,18298,null,null,null,null,0,122]
[21,18404,22,18406,24,18409,null,null,null,null,0,222]
[21,18509,22,18522,24,18534,null,null,null,null,0,222]
[21,18765,22,18770,24,18775,null,null,null,null,0,222]
[21,18879,22,18885,24,18897,null,null,null,null,0,222]
[12,19057,24,19069,24,19077,null,null,null,null,0,122]
[21,19179,22,19188,24,19194,null,null,null,null,0,222]
[21,19291,22,19300,24,19305,null,null,null,null,0,222]
[21,19407,22,19417,24,19421,null,null,null,null,0,222]
[21,19523,22,19531,24,19537,null,null,null,null,0,222]
[12,19632,24,19641,24,19646,null,null,null,null,0,122]
[21,19749,22,19754,24,19760,null,null,null,null,0,222]
[12,19854,13,19863,24,19879,null,null,null,null,0,112]
[21,20031,22,20038,24,20057,null,null,null,null,0,222]
[21,20156,22,20165,24,20170,null,null,null,null,0,222]
[21,20267,22,20277,24,20284,null,null,null,null,0,222]
[12,20376,24,20391,24,20402,null,null,null,null,0,122]
[21,20601,22,20605,24,20621,null,null,null,null,0,222]
[21,20727,22,20731,24,20739,null,null,null,null,0,222]
[12,20833,24,20849,24,20854,null,null,null,null,0,122]
[12,20949,24,20961,24,20970,null,null,null,null,0,122]
[12,21063,24,21070,24,21073,null,null,null,null,0,122]
[21,21180,22,21185,24,21191,null,null,null,null,0,222]
[21,21381,22,21387,24,21406,null,null,null,null,0,222]
[12,21503,24,21505,24,21514,null,null,null,null,0,122]
[21,21620,22,21622,24,21634,null,null,null,null,0,222]
[21,21736,22,21743,24,21752,null,null,null,null,0,222]
[21,21982,22,21988,24,21994,null,null,null,null,0,222]
[21,22104,22,22109,24,22115,null,null,null,null,0,222]
[21,22360,22,22371,24,22378,null,null,null,null,0,222]
[21,22484,22,22489,24,22500,null,null,null,null,0,222]
[12,22594,24,22599,24,22604,null,null,null,null,0,122]
[12,22743,24,22755,24,22760,null,null,null,null,0,122]
[12,22856,24,22859,24,22865,null,null,null,null,0,122]
[12,22957,24,22967,24,22970,null,null,null,null,0,122]
[21,23077,22,23082,24,23087,null,null,null,null,0,222]
[21,23194,22,23197,24,23202,null,null,null,null,0,222]
[12,23298,24,23306,24,23311,null,null,null,null,0,122]
[21,23589,22,23592,24,23598,null,null,null,null,0,222]
[21,23809,22,23813,24,23822,null,null,null,null,0,222]
[21,23923,22,23928,24,23934,null,null,null,null,null,222]

{"sheet":"!M202B40.Gus","index":19,"n_rows":154,"n_cols":48,"rows_kept":154,"cut":false,"hidden":false,"merged":[[4,39,4,42],[5,39,5,40],[4,44,4,47],[5,44,5,45],[4,24,4,27],[5,24,5,25],[4,29,4,32],[5,29,5,30],[4,34,4,37],[5,34,5,35],[1,1,1,2],[5,13,5,14],[18,13,18,14],[19,13,19,14],[4,19,4,22],[5,19,5,20]]}
["Report for:!M202B40.Gus"]
["Date:","<date>"]
["Hen:","<hen>",null,null,null,"Correct Sequence",{"$f":"Start!J2","v":211},null,null,null,null,null,null,null,null,"Total Sequences in Data",{"$f":"4994-COUNTBLANK(L7:L5000)","v":148},null,null,null,null,"Total Sequences in Block Data",{"$f":"COUNTA(L7:L31)","v":25},null,null,null,"Total Sequences in Block Data",{"$f":"COUNTA(L32:L55)","v":24},null,null,null,"Total Sequences in Block Data",{"$f":"COUNTA(L56:L80)","v":25},null,null,null,"Total Sequences in Block Data",{"$f":"COUNTA(L81:L105)","v":25},null,null,null,"Total Sequences in Block Data",{"$f":"COUNTA(L106:L129)","v":24},null,null,null,"Total Sequences in Block Data",{"$f":"COUNTA(L130:L154)","v":25}]
[null,null,null,null,null,null,null,null,null,null,null,null,null,null,null,"Total Sequences in Summary",{"$f":"SUM(O7:O14)","v":148},null,null,null,null,"Total Sequences in Block Summary",{"$f":"SUM(U7:U14)","v":25},null,null,null,"Total Sequences in Block Summary",{"$f":"SUM(Z7:Z14)","v":24},null,null,null,"Total Sequences in Block Summary",{"$f":"SUM(AE7:AE14)","v":25},null,null,null,"Total Sequences in Block Summary",{"$f":"SUM(AJ7:AJ14)","v":25},null,null,null,"Total Sequences in Block Summary",{"$f":"SUM(AO7:AO14)","v":24},null,null,null,"Total Sequences in Block Summary",{"$f":"SUM(AT7:AT14)","v":25}]
[null,null,null,null,null,null,null,null,null,null,null,null,null,null,null,null,null,null,null,"Block 1",null,null,null,null,"Block 2",null,null,null,null,"Block 3",null,null,null,null,"Block 4",null,null,null,null,"Block 5",null,null,null,null,"Block 6"]
["Sequence\nComponent\n1","Time\n1","Sequence\nComponent\n2","Time\n2","Sequence\nComponent\n3","Time\n3","Sequence\nComponent\n4","Time\n4","Sequence\nComponent\n5","Time\n5","Correct?\n0=No 1=Yes","Sequence",null,"Frequency",null,"Relative Frequency","Variability",null,null,"Frequency",null,"Relative Frequency","Variability",null,"Frequency",null,"Relative Frequency","Variability",null,"Frequency",null,"Relative Frequency","Variability",null,"Frequency",null,"Relative Frequency","Variability",null,"Frequency",null,"Relative Frequency","Variability",null,"Frequency",null,"Relative Frequency","Variability"]
[21,100,22,105,24,110,null,null,null,null,0,222,null,111,{"$f":"COUNTIF($L$7:$L$500,N7)","v":0},{"$f":"O7/$Q$4","v":0},{"$f":"IF(P7=0,0,(P7*((LOG(P7))/LOG(2))))","v":0},null,null,{"$f":"N7","v":111},{"$f":"COUNTIF(L7:L31,T7)","v":0},{"$f":"U7/(W4-U11)","v":0},{"$f":"IF(V7=0,0,(V7*((LOG(V7))/LOG(2))))","v":0},null,{"$f":"N7","v":111},{"$f":"COUNTIF(L32:L55,Y7)","v":0},{"$f":"Z7/(AB4-Z11)","v":0},{"$f":"IF(AA7=0,0,(AA7*((LOG(AA7))/LOG(2))))","v":0},null,{"$f":"N7","v":111},{"$f":"COUNTIF(L56:L80,AD7)","v":0},{"$f":"AE7/(AG4-AE11)","v":0},{"$f":"IF(AF7=0,0,(AF7*((LOG(AF7))/LOG(2))))","v":0},null,{"$f":"N7","v":111},{"$f":"COUNTIF(L81:L105,AI7)","v":0},{"$f":"AJ7/(AL4-AJ11)","v":0},{"$f":"IF(AK7=0,0,(AK7*((LOG(AK7))/LOG(2))))","v":0},null,{"$f":"N7","v":111},{"$f":"COUNTIF(L106:L129,AN7)","v":0},{"$f":"AO7/(AQ4-AO11)","v":0},{"$f":"IF(AP7=0,0,(AP7*((LOG(AP7))/LOG(2))))","v":0},null,{"$f":"N7","v":111},{"$f":"COUNTIF(L130:L154,AS7)","v":0},{"$f":"AT7/(AV4-AT11)","v":0},{"$f":"IF(AU7=0,0,(AU7*((LOG(AU7))/LOG(2))))","v":0}]
[21,210,22,218,24,224,null,null,null,null,0,222,null,112,{"$f":"COUNTIF($L$7:$L$500,N8)","v":1},{"$f":"O8/$Q$4","v":6.7567567567567571E-3},{"$f":"IF(P8=0,0,(P8*((LOG(P8))/LOG(2))))","v":-4.8712522740736154E-2},null,null,{"$f":"N8","v":112},{"$f":"COUNTIF(L7:L31,T8)","v":0},{"$f":"U8/(W4-U11)","v":0},{"$f":"IF(V8=0,0,(V8*((LOG(V8))/LOG(2))))","v":0},null,{"$f":"N8","v":112},{"$f":"COUNTIF(L32:L55,Y8)","v":0},{"$f":"Z8/(AB4-Z11)","v":0},{"$f":"IF(AA8=0,0,(AA8*((LOG(AA8))/LOG(2))))","v":0},null,{"$f":"N8","v":112},{"$f":"COUNTIF(L56:L80,AD8)","v":0},{"$f":"AE8/(AG4-AE11)","v":0},{"$f":"IF(AF8=0,0,(AF8*((LOG(AF8))/LOG(2))))","v":0},null,{"$f":"N8","v":112},{"$f":"COUNTIF(L81:L105,AI8)","v":0},{"$f":"AJ8/(AL4-AJ11)","v":0},{"$f":"IF(AK8=0,0,(AK8*((LOG(AK8))/LOG(2))))","v":0},null,{"$f":"N8","v":112},{"$f":"COUNTIF(L106:L129,AN8)","v":0},{"$f":"AO8/(AQ4-AO11)","v":0},{"$f":"IF(AP8=0,0,(AP8*((LOG(AP8))/LOG(2))))","v":0},null,{"$f":"N8","v":112},{"$f":"COUNTIF(L130:L154,AS8)","v":1},{"$f":"AT8/(AV4-AT11)","v":0.04},{"$f":"IF(AU8=0,0,(AU8*((LOG(AU8))/LOG(2))))","v":-0.18575424759098899}]
[21,380,22,385,24,391,null,null,null,null,0,222,null,121,{"$f":"COUNTIF($L$7:$L$500,N9)","v":1},{"$f":"O9/$Q$4","v":6.7567567567567571E-3},{"$f":"IF(P9=0,0,(P9*((LOG(P9))/LOG(2))))","v":-4.8712522740736154E-2},null,null,{"$f":"N9","v":121},{"$f":"COUNTIF(L7:L31,T9)","v":0},{"$f":"U9/(W4-U11)","v":0},{"$f":"IF(V9=0,0,(V9*((LOG(V9))/LOG(2))))","v":0},null,{"$f":"N9","v":121},{"$f":"COUNTIF(L32:L55,Y9)","v":0},{"$f":"Z9/(AB4-Z11)","v":0},{"$f":"IF(AA9=0,0,(AA9*((LOG(AA9))/LOG(2))))","v":0},null,{"$f":"N9","v":121},{"$f":"COUNTIF(L56:L80,AD9)","v":0},{"$f":"AE9/(AG4-AE11)","v":0},{"$f":"IF(AF9=0,0,(AF9*((LOG(AF9))/LOG(2))))","v":0},null,{"$f":"N9","v":121},{"$f":"COUNTIF(L81:L105,AI9)","v":0},{"$f":"AJ9/(AL4-AJ11)","v":0},{"$f":"IF(AK9=0,0,(AK9*((LOG(AK9))/LOG(2))))","v":0},null,{"$f":"N9","v":121},{"$f":"COUNTIF(L106:L129,AN9)","v":0},{"$f":"AO9/(AQ4-AO11)","v":0},{"$f":"IF(AP9=0,0,(AP9*((LOG(AP9))/LOG(2))))","v":0},null,{"$f":"N9","v":121},{"$f":"COUNTIF(L130:L154,AS9)","v":1},{"$f":"AT9/(AV4-AT11)","v":0.04},{"$f":"IF(AU9=0,0,(AU9*((LOG(AU9))/LOG(2))))","v":-0.18575424759098899}]
[12,498,24,512,24,530,null,null,null,null,0,122,null,122,{"$f":"COUNTIF($L$7:$L$500,N10)","v":36},{"$f":"O10/$Q$4","v":0.24324324324324326},{"$f":"IF(P10=0,0,(P10*((LOG(P10))/LOG(2))))","v":-0.49610149399134429},null,null,{"$f":"N10","v":122},{"$f":"COUNTIF(L7:L31,T10)","v":8},{"$f":"U10/(W4-U11)","v":0.32},{"$f":"IF(V10=0,0,(V10*((LOG(V10))/LOG(2))))","v":-0.52603398072791185},null,{"$f":"N10","v":122},{"$f":"COUNTIF(L32:L55,Y10)","v":4},{"$f":"Z10/(AB4-Z11)","v":0.16666666666666666},{"$f":"IF(AA10=0,0,(AA10*((LOG(AA10))/LOG(2))))","v":-0.43082708345352599},null,{"$f":"N10","v":122},{"$f":"COUNTIF(L56:L80,AD10)","v":6},{"$f":"AE10/(AG4-AE11)","v":0.24},{"$f":"IF(AF10=0,0,(AF10*((LOG(AF10))/LOG(2))))","v":-0.49413448537285637},null,{"$f":"N10","v":122},{"$f":"COUNTIF(L81:L105,AI10)","v":5},{"$f":"AJ10/(AL4-AJ11)","v":0.2},{"$f":"IF(AK10=0,0,(AK10*((LOG(AK10))/LOG(2))))","v":-0.46438561897747244},null,{"$f":"N10","v":122},{"$f":"COUNTIF(L106:L129,AN10)","v":6},{"$f":"AO10/(AQ4-AO11)","v":0.25},{"$f":"IF(AP10=0,0,(AP10*((LOG(AP10))/LOG(2))))","v":-0.5},null,{"$f":"N10","v":122},{"$f":"COUNTIF(L130:L154,AS10)","v":7},{"$f":"AT10/(AV4-AT11)","v":0.28000000000000003},{"$f":"IF(AU10=0,0,(AU10*((LOG(AU10))/LOG(2))))","v":-0.51422035496079388}]
[12,622,24,639,24,648,null,null,null,null,0,122,null,211,{"$f":"COUNTIF($L$7:$L$500,N11)","v":0},{"$f":"O11/$Q$4","v":0},{"$f":"IF(P11=0,0,(P11*((LOG(P11))/LOG(2))))","v":0},null,null,{"$f":"N11","v":211},{"$f":"COUNTIF(L7:L31,T11)","v":0},null,null,null,{"$f":"N11","v":211},{"$f":"COUNTIF(L32:L55,Y11)","v":0},null,null,null,{"$f":"N11","v":211},{"$f":"COUNTIF(L56:L80,AD11)","v":0},null,null,null,{"$f":"N11","v":211},{"$f":"COUNTIF(L81:L105,AI11)","v":0},null,null,null,{"$f":"N11","v":211},{"$f":"COUNTIF(L106:L129,AN11)","v":0},null,null,null,{"$f":"N11","v":211},{"$f":"COUNTIF(L130:L154,AS11)","v":0}]
[21,801,22,803,24,809,null,null,null,null,0,222,null,212,{"$f":"COUNTIF($L$7:$L$500,N12)","v":2},{"$f":"O12/$Q$4","v":1.3513513513513514E-2},{"$f":"IF(P12=0,0,(P12*((LOG(P12))/LOG(2))))","v":-8.3911531967958794E-2},null,null,{"$f":"N12","v":212},{"$f":"COUNTIF(L7:L31,T12)","v":0},{"$f":"U12/(W4-U11)","v":0},{"$f":"IF(V12=0,0,(V12*((LOG(V12))/LOG(2))))","v":0},null,{"$f":"N12","v":212},{"$f":"COUNTIF(L32:L55,Y12)","v":0},{"$f":"Z12/(AB4-Z11)","v":0},{"$f":"IF(AA12=0,0,(AA12*((LOG(AA12))/LOG(2))))","v":0},null,{"$f":"N12","v":212},{"$f":"COUNTIF(L56:L80,AD12)","v":1},{"$f":"AE12/(AG4-AE11)","v":0.04},{"$f":"IF(AF12=0,0,(AF12*((LOG(AF12))/LOG(2))))","v":-0.18575424759098899},null,{"$f":"N12","v":212},{"$f":"COUNTIF(L81:L105,AI12)","v":0},{"$f":"AJ12/(AL4-AJ11)","v":0},{"$f":"IF(AK12=0,0,(AK12*((LOG(AK12))/LOG(2))))","v":0},null,{"$f":"N12","v":212},{"$f":"COUNTIF(L106:L129,AN12)","v":1},{"$f":"AO12/(AQ4-AO11)","v":4.1666666666666664E-2},{"$f":"IF(AP12=0,0,(AP12*((LOG(AP12))/LOG(2))))","v":-0.19104010419671485},null,{"$f":"N12","v":212},{"$f":"COUNTIF(L130:L154,AS12)","v":0},{"$f":"AT12/(AV4-AT11)","v":0},{"$f":"IF(AU12=0,0,(AU12*((LOG(AU12))/LOG(2))))","v":0}]
[21,911,22,932,24,946,null,null,null,null,0,222,null,221,{"$f":"COUNTIF($L$7:$L$500,N13)","v":0},{"$f":"O13/$Q$4","v":0},{"$f":"IF(P13=0,0,(P13*((LOG(P13))/LOG(2))))","v":0},null,null,{"$f":"N13","v":221},{"$f":"COUNTIF(L7:L31,T13)","v":0},{"$f":"U13/(W4-U11)","v":0},{"$f":"IF(V13=0,0,(V13*((LOG(V13))/LOG(2))))","v":0},null,{"$f":"N13","v":221},{"$f":"COUNTIF(L32:L55,Y13)","v":0},{"$f":"Z13/(AB4-Z11)","v":0},{"$f":"IF(AA13=0,0,(AA13*((LOG(AA13))/LOG(2))))","v":0},null,{"$f":"N13","v":221},{"$f":"COUNTIF(L56:L80,AD13)","v":0},{"$f":"AE13/(AG4-AE11)","v":0},{"$f":"IF(AF13=0,0,(AF13*((LOG(AF13))/LOG(2))))","v":0},null,{"$f":"N13","v":221},{"$f":"COUNTIF(L81:L105,AI13)","v":0},{"$f":"AJ13/(AL4-AJ11)","v":0},{"$f":"IF(AK13=0,0,(AK13*((LOG(AK13))/LOG(2))))","v":0},null,{"$f":"N13","v":221},{"$f":"COUNTIF(L106:L129,AN13)","v":0},{"$f":"AO13/(AQ4-AO11)","v":0},{"$f":"IF(AP13=0,0,(AP13*((LOG(AP13))/LOG(2))))","v":0},null,{"$f":"N13","v":221},{"$f":"COUNTIF(L130:L154,AS13)","v":0},{"$f":"AT13/(AV4-AT11)","v":0},{"$f":"IF(AU13=0,0,(AU13*((LOG(AU13))/LOG(2))))","v":0}]
[21,1053,22,1057,24,1063,null,null,null,null,0,222,null,222,{"$f":"COUNTIF($L$7:$L$500,N14)","v":108},{"$f":"O14/$Q$4","v":0.72972972972972971},{"$f":"IF(P14=0,0,(P14*((LOG(P14))/LOG(2))))","v":-0.33171022469102684},null,null,{"$f":"N14","v":222},{"$f":"COUNTIF(L7:L31,T14)","v":17},{"$f":"U14/(W4-U11)","v":0.68},{"$f":"IF(V14=0,0,(V14*((LOG(V14))/LOG(2))))","v":-0.378347476996582},null,{"$f":"N14","v":222},{"$f":"COUNTIF(L32:L55,Y14)","v":20},{"$f":"Z14/(AB4-Z11)","v":0.83333333333333337},{"$f":"IF(AA14=0,0,(AA14*((LOG(AA14))/LOG(2))))","v":-0.21919533819482812},null,{"$f":"N14","v":222},{"$f":"COUNTIF(L56:L80,AD14)","v":18},{"$f":"AE14/(AG4-AE11)","v":0.72},{"$f":"IF(AF14=0,0,(AF14*((LOG(AF14))/LOG(2))))","v":-0.3412304555993369},null,{"$f":"N14","v":222},{"$f":"COUNTIF(L81:L105,AI14)","v":20},{"$f":"AJ14/(AL4-AJ11)","v":0.8},{"$f":"IF(AK14=0,0,(AK14*((LOG(AK14))/LOG(2))))","v":-0.25754247590988982},null,{"$f":"N14","v":222},{"$f":"COUNTIF(L106:L129,AN14)","v":17},{"$f":"AO14/(AQ4-AO11)","v":0.70833333333333337},{"$f":"IF(AP14=0,0,(AP14*((LOG(AP14))/LOG(2))))","v":-0.35239559212516181},null,{"$f":"N14","v":222},{"$f":"COUNTIF(L130:L154,AS14)","v":16},{"$f":"AT14/(AV4-AT11)","v":0.64},{"$f":"IF(AU14=0,0,(AU14*((LOG(AU14))/LOG(2))))","v":-0.41206796145582375}]
[12,1163,24,1166,24,1172,null,null,null,null,0,122,null,null,null,{"$f":"SUM(P7:P14)","v":1},{"$f":"-SUM(Q7:Q14)","v":1.0091482961318023},null,null,null,null,{"$f":"SUM(V7:V14)","v":1},{"$f":"-SUM(W7:W14)","v":0.90438145772449385},null,null,null,{"$f":"SUM(AA7:AA14)","v":1},{"$f":"-SUM(AB7:AB14)","v":0.65002242164835411},null,null,null,{"$f":"SUM(AF7:AF14)","v":1},{"$f":"-SUM(AG7:AG14)","v":1.0211191885631823},null,null,null,{"$f":"SUM(AK7:AK14)","v":1},{"$f":"-SUM(AL7:AL14)","v":0.72192809488736231},null,null,null,{"$f":"SUM(AP7:AP14)","v":1},{"$f":"-SUM(AQ7:AQ14)","v":1.0434356963218767},null,null,null,{"$f":"SUM(AU7:AU14)","v":1},{"$f":"-SUM(AV7:AV14)","v":1.2977968115985956}]
[12,1268,24,1275,24,1278,null,null,null,null,0,122,null,null,null,"U=",{"$f":"Q15/(LOG(Q4)/LOG(2))","v":0.13997570203351536},null,null,null,null,"U1=",{"$f":"W15/(LOG(W4)/LOG(2))","v":0.1947479466990914},null,null,null,"U2=",{"$f":"AB15/(LOG(AB4)/LOG(2))","v":0.14177268004833493},null,null,null,"U3=",{"$f":"AG15/(LOG(AG4)/LOG(2))","v":0.21988604875654366},null,null,null,"U4=",{"$f":"AL15/(LOG(AL4)/LOG(2))","v":0.15545875354128552},null,null,null,"U5=",{"$f":"AQ15/(LOG(AQ4)/LOG(2))","v":0.22757780377871303},null,null,null,"U6=",{"$f":"AV15/(LOG(AV4)/LOG(2))","v":0.2794653319489534}]
[21,1384,22,1392,24,1397,null,null,null,null,0,222]
[12,1492,24,1499,24,1501,null,null,null,null,0,122]
[21,1708,22,1713,24,1719,null,null,null,null,0,222,null,"Total Target Seq"]
[12,1812,24,1827,24,1846,null,null,null,null,0,122,null,{"$f":"COUNTIF(L7:L154,G3)","v":0},null,25,24,25,25,24,25]
[21,1948,22,1960,24,1967,null,null,null,null,0,222,null,null,null,"% of reinforcement given in 6 equal intervals based on number of trials "]
[21,2069,22,2075,24,2081,null,null,null,null,0,222,null,null,null,"%_1","%_2","%_3","%_4","%_5","%_6"]
[21,2185,22,2188,24,2195,null,null,null,null,0,222,null,null,"target sequence",{"$f":"$G$3","v":211},{"$f":"$G$3","v":211},{"$f":"$G$3","v":211},{"$f":"$G$3","v":211},{"$f":"$G$3","v":211},{"$f":"$G$3","v":211}]
[21,2299,22,2304,24,2316,null,null,null,null,0,222,null,null,"total reinforcement",{"$f":"U11","v":0},{"$f":"Z11","v":0},{"$f":"AE11","v":0},{"$f":"AJ11","v":0},{"$f":"AO11","v":0},{"$f":"AT11","v":0}]
[21,2419,22,2422,24,2428,null,null,null,null,0,222,null,null,"% target"]
[21,2982,22,2987,24,2991,null,null,null,null,0,222,null,null,"CCRF"]
[12,3088,24,3092,24,3095,null,null,null,null,0,122,null,null,"% CCRf"]
[21,3194,22,3203,24,3210,null,null,null,null,0,222,null,null,"average response rate",{"$f":"F31/P20","v":142.12},{"$f":"(F55-F31)/Q20","v":154.70833333333334},{"$f":"(F80-F55)/R20","v":206.12},{"$f":"(F105-F80)/S20","v":181.32},{"$f":"(F129-F105)/T20","v":134.625},{"$f":"(F154-F129)/U20","v":149.80000000000001}]
[21,3309,22,3316,24,3320,null,null,null,null,0,222]
[12,3414,24,3423,24,3426,null,null,null,null,0,122]
[21,3539,22,3545,24,3553,null,null,null,null,0,222]
[21,3652,22,3656,24,3663,null,null,null,null,0,222]
[21,3763,22,3772,24,3780,null,null,null,null,0,222]
[21,3882,22,3888,24,3893,null,null,null,null,0,222]
[21,4162,22,4169,24,4177,null,null,null,null,0,222]
[21,4280,22,4284,24,4286,null,null,null,null,0,222]
[12,4379,24,4395,24,4399,null,null,null,null,0,122]
[21,4502,22,4507,24,4513,null,null,null,null,0,222]
[21,4617,22,4621,24,4624,null,null,null,null,0,222]
[21,4728,22,4733,24,4739,null,null,null,null,0,222]
[12,4832,24,4843,24,4857,null,null,null,null,0,122]
[21,5120,22,5130,24,5137,null,null,null,null,0,222]
[12,5233,24,5238,24,5245,null,null,null,null,0,122]
[21,5349,22,5353,24,5359,null,null,null,null,0,222]
[21,5459,22,5463,24,5469,null,null,null,null,0,222]
[21,5575,22,5579,24,5589,null,null,null,null,0,222]
[21,5696,22,5700,24,5710,null,null,null,null,0,222]
[21,5814,22,5818,24,5823,null,null,null,null,0,222]
[21,5923,22,5930,24,5937,null,null,null,null,0,222]
[21,6040,22,6043,24,6048,null,null,null,null,0,222]
[21,6152,22,6160,24,6167,null,null,null,null,0,222]
[21,6269,22,6273,24,6279,null,null,null,null,0,222]
[12,6375,24,6387,24,6392,null,null,null,null,0,122]
[21,6816,22,6820,24,6830,null,null,null,null,0,222]
[21,7247,22,7256,24,7266,null,null,null,null,0,222]
[21,7369,22,7386,24,7393,null,null,null,null,0,222]
[21,7986,22,7998,24,8008,null,null,null,null,0,222]
[21,8415,22,8419,24,8431,null,null,null,null,0,222]
[21,8542,22,8548,24,8552,null,null,null,null,0,222]
[21,8785,22,8792,24,8806,null,null,null,null,0,222]
[21,8909,22,8923,24,8930,null,null,null,null,0,222]
[12,9022,24,9036,24,9041,null,null,null,null,0,122]
[21,9139,11,9143,22,9153,null,null,null,null,0,212]
[21,9265,22,9267,24,9271,null,null,null,null,0,222]
[21,9624,22,9627,24,9629,null,null,null,null,0,222]
[21,9738,22,9749,24,9756,null,null,null,null,0,222]
[12,9852,24,9854,24,9872,null,null,null,null,0,122]
[21,9976,22,9981,24,9991,null,null,null,null,0,222]
[12,10258,24,10269,24,10273,null,null,null,null,0,122]
[12,10366,24,10377,24,10382,null,null,null,null,0,122]
[12,10475,24,10482,24,10485,null,null,null,null,0,122]
[21,10589,22,10595,24,10606,null,null,null,null,0,222]
[12,10699,24,10739,24,10745,null,null,null,null,0,122]
[21,11097,22,11103,24,11109,null,null,null,null,0,222]
[21,11209,22,11224,24,11232,null,null,null,null,0,222]
[21,11329,22,11335,24,11341,null,null,null,null,0,222]
[21,11697,22,11700,24,11711,null,null,null,null,0,222]
[21,12144,22,12150,24,12162,null,null,null,null,0,222]
[21,12270,22,12282,24,12289,null,null,null,null,0,222]
[21,12407,22,12412,24,12419,null,null,null,null,0,222]
[21,12766,22,12771,24,12781,null,null,null,null,0,222]
[21,13178,22,13187,24,13193,null,null,null,null,0,222]
[21,13295,22,13302,24,13309,null,null,null,null,0,222]
[21,13411,22,13422,24,13427,null,null,null,null,0,222]
[21,13532,22,13542,24,13546,null,null,null,null,0,222]
[12,13638,24,13649,24,13651,null,null,null,null,0,122]
[21,13749,22,13754,24,13761,null,null,null,null,0,222]
[21,14189,22,14193,24,14200,null,null,null,null,0,222]
[21,14518,22,14522,24,14527,null,null,null,null,0,222]
[21,14851,22,14860,24,14877,null,null,null,null,0,222]
[21,14983,22,14985,24,14991,null,null,null,null,0,222]
[12,15087,24,15097,24,15101,null,null,null,null,0,122]
[21,15293,22,15306,24,15315,null,null,null,null,0,222]
[21,15424,22,15429,24,15435,null,null,null,null,0,222]
[21,15547,22,15551,24,15554,null,null,null,null,0,222]
[21,15655,22,15663,24,15668,null,null,null,null,0,222]
[12,15769,24,15771,24,15782,null,null,null,null,0,122]
[21,15892,22,15902,24,15907,null,null,null,null,0,222]
[21,16180,22,16184,24,16212,null,null,null,null,0,222]
[21,16322,22,16330,24,16338,null,null,null,null,0,222]
[21,16435,22,16448,24,16454,null,null,null,null,0,222]
[12,16545,24,16552,24,16555,null,null,null,null,0,122]
[21,16654,22,16658,24,16664,null,null,null,null,0,222]
[21,16840,22,16844,24,16850,null,null,null,null,0,222]
[12,16947,24,16950,24,16952,null,null,null,null,0,122]
[21,17054,22,17059,24,17065,null,null,null,null,0,222]
[21,17168,22,17175,24,17179,null,null,null,null,0,222]
[21,17279,22,17287,24,17291,null,null,null,null,0,222]
[12,17383,24,17396,24,17405,null,null,null,null,0,122]
[21,17508,22,17513,24,17519,null,null,null,null,0,222]
[21,17620,22,17625,24,17629,null,null,null,null,0,222]
[12,17722,24,17735,24,17745,null,null,null,null,0,122]
[21,18021,22,18026,24,18058,null,null,null,null,0,222]
[21,18168,22,18174,24,18180,null,null,null,null,0,222]
[21,18467,22,18478,24,18482,null,null,null,null,0,222]
[21,18584,22,18591,24,18606,null,null,null,null,0,222]
[21,18698,11,18705,22,18707,null,null,null,null,0,212]
[12,18801,24,18812,24,18824,null,null,null,null,0,122]
[21,19014,22,19021,24,19028,null,null,null,null,0,222]
[21,19131,22,19137,24,19140,null,null,null,null,0,222]
[21,19238,22,19240,24,19246,null,null,null,null,0,222]
[12,19339,24,19348,24,19364,null,null,null,null,0,122]
[21,19467,22,19472,24,19478,null,null,null,null,0,222]
[21,19582,22,19588,24,19594,null,null,null,null,0,222]
[12,19693,24,19695,24,19706,null,null,null,null,0,122]
[12,19813,24,19818,24,19824,null,null,null,null,0,122]
[21,19927,22,19932,24,19938,null,null,null,null,0,222]
[21,20044,22,20053,24,20063,null,null,null,null,0,222]
[21,20169,22,20177,24,20183,null,null,null,null,0,222]
[12,20276,24,20286,24,20290,null,null,null,null,0,122]
[21,20494,22,20500,24,20513,null,null,null,null,0,222]
[21,20765,22,20776,24,20791,null,null,null,null,0,222]
[12,21087,24,21099,24,21104,null,null,null,null,0,122]
[12,21262,24,21276,24,21288,null,null,null,null,0,122]
[12,21529,24,21541,24,21567,null,null,null,null,0,122]
[21,21674,22,21686,24,21697,null,null,null,null,0,222]
[21,21965,22,21969,24,21975,null,null,null,null,0,222]
[21,22079,22,22089,24,22096,null,null,null,null,0,222]
[12,22196,24,22200,24,22208,null,null,null,null,0,122]
[21,22309,22,22318,24,22323,null,null,null,null,0,222]
[21,22420,22,22425,24,22431,null,null,null,null,0,222]
[12,22527,24,22532,24,22538,null,null,null,null,0,122]
[21,22638,22,22646,24,22653,null,null,null,null,0,222]
[21,22785,22,22791,24,22800,null,null,null,null,0,222]
[12,22894,24,22909,24,22921,null,null,null,null,0,122]
[21,23028,22,23031,24,23038,null,null,null,null,0,222]
[21,23142,22,23151,24,23159,null,null,null,null,0,222]
[21,23259,22,23265,24,23271,null,null,null,null,0,222]
[21,23370,22,23375,24,23385,null,null,null,null,0,222]
[21,23489,22,23496,24,23501,null,null,null,null,0,222]
[12,23596,24,23602,13,23610,null,null,null,null,0,121]
[21,23710,22,23713,24,23717,null,null,null,null,0,222]
[12,23809,13,23816,24,23817,null,null,null,null,0,112]
[21,23917,22,23922,24,23928,null,null,null,null,null,222]

{"sheet":"!M204B40.Gus","index":20,"n_rows":168,"n_cols":48,"rows_kept":168,"cut":false,"hidden":false,"merged":[[4,39,4,42],[5,39,5,40],[4,44,4,47],[5,44,5,45],[4,24,4,27],[5,24,5,25],[4,29,4,32],[5,29,5,30],[4,34,4,37],[5,34,5,35],[1,1,1,2],[5,13,5,14],[18,13,18,14],[19,13,19,14],[4,19,4,22],[5,19,5,20]]}
["Report for:!M204B40.Gus"]
["Date:","<date>"]
["Hen:","<hen>",null,null,null,"Correct Sequence",{"$f":"Start!J2","v":211},null,null,null,null,null,null,null,null,"Total Sequences in Data",{"$f":"4994-COUNTBLANK(L7:L5000)","v":162},null,null,null,null,"Total Sequences in Block Data",{"$f":"COUNTA(L7:L33)","v":27},null,null,null,"Total Sequences in Block Data",{"$f":"COUNTA(L34:L60)","v":27},null,null,null,"Total Sequences in Block Data",{"$f":"COUNTA(L61:L87)","v":27},null,null,null,"Total Sequences in Block Data",{"$f":"COUNTA(L88:L114)","v":27},null,null,null,"Total Sequences in Block Data",{"$f":"COUNTA(L115:L141)","v":27},null,null,null,"Total Sequences in Block Data",{"$f":"COUNTA(L142:L168)","v":27}]
[null,null,null,null,null,null,null,null,null,null,null,null,null,null,null,"Total Sequences in Summary",{"$f":"SUM(O7:O14)","v":162},null,null,null,null,"Total Sequences in Block Summary",{"$f":"SUM(U7:U14)","v":27},null,null,null,"Total Sequences in Block Summary",{"$f":"SUM(Z7:Z14)","v":27},null,null,null,"Total Sequences in Block Summary",{"$f":"SUM(AE7:AE14)","v":27},null,null,null,"Total Sequences in Block Summary",{"$f":"SUM(AJ7:AJ14)","v":27},null,null,null,"Total Sequences in Block Summary",{"$f":"SUM(AO7:AO14)","v":27},null,null,null,"Total Sequences in Block Summary",{"$f":"SUM(AT7:AT14)","v":27}]
[null,null,null,null,null,null,null,null,null,null,null,null,null,null,null,null,null,null,null,"Block 1",null,null,null,null,"Block 2",null,null,null,null,"Block 3",null,null,null,null,"Block 4",null,null,null,null,"Block 5",null,null,null,null,"Block 6"]
["Sequence\nComponent\n1","Time\n1","Sequence\nComponent\n2","Time\n2","Sequence\nComponent\n3","Time\n3","Sequence\nComponent\n4","Time\n4","Sequence\nComponent\n5","Time\n5","Correct?\n0=No 1=Yes","Sequence",null,"Frequency",null,"Relative Frequency","Variability",null,null,"Frequency",null,"Relative Frequency","Variability",null,"Frequency",null,"Relative Frequency","Variability",null,"Frequency",null,"Relative Frequency","Variability",null,"Frequency",null,"Relative Frequency","Variability",null,"Frequency",null,"Relative Frequency","Variability",null,"Frequency",null,"Relative Frequency","Variability"]
[21,57,22,61,24,67,null,null,null,null,0,222,null,111,{"$f":"COUNTIF($L$7:$L$500,N7)","v":0},{"$f":"O7/$Q$4","v":0},{"$f":"IF(P7=0,0,(P7*((LOG(P7))/LOG(2))))","v":0},null,null,{"$f":"N7","v":111},{"$f":"COUNTIF(L7:L33,T7)","v":0},{"$f":"U7/(W4-U11)","v":0},{"$f":"IF(V7=0,0,(V7*((LOG(V7))/LOG(2))))","v":0},null,{"$f":"N7","v":111},{"$f":"COUNTIF(L34:L60,Y7)","v":0},{"$f":"Z7/(AB4-Z11)","v":0},{"$f":"IF(AA7=0,0,(AA7*((LOG(AA7))/LOG(2))))","v":0},null,{"$f":"N7","v":111},{"$f":"COUNTIF(L61:L87,AD7)","v":0},{"$f":"AE7/(AG4-AE11)","v":0},{"$f":"IF(AF7=0,0,(AF7*((LOG(AF7))/LOG(2))))","v":0},null,{"$f":"N7","v":111},{"$f":"COUNTIF(L88:L114,AI7)","v":0},{"$f":"AJ7/(AL4-AJ11)","v":0},{"$f":"IF(AK7=0,0,(AK7*((LOG(AK7))/LOG(2))))","v":0},null,{"$f":"N7","v":111},{"$f":"COUNTIF(L115:L141,AN7)","v":0},{"$f":"AO7/(AQ4-AO11)","v":0},{"$f":"IF(AP7=0,0,(AP7*((LOG(AP7))/LOG(2))))","v":0},null,{"$f":"N7","v":111},{"$f":"COUNTIF(L142:L168,AS7)","v":0},{"$f":"AT7/(AV4-AT11)","v":0},{"$f":"IF(AU7=0,0,(AU7*((LOG(AU7))/LOG(2))))","v":0}]
[21,170,22,180,24,186,null,null,null,null,0,222,null,112,{"$f":"COUNTIF($L$7:$L$500,N8)","v":4},{"$f":"O8/$Q$4","v":2.4691358024691357E-2},{"$f":"IF(P8=0,0,(P8*((LOG(P8))/LOG(2))))","v":-0.13184814821937343},null,null,{"$f":"N8","v":112},{"$f":"COUNTIF(L7:L33,T8)","v":0},{"$f":"U8/(W4-U11)","v":0},{"$f":"IF(V8=0,0,(V8*((LOG(V8))/LOG(2))))","v":0},null,{"$f":"N8","v":112},{"$f":"COUNTIF(L34:L60,Y8)","v":0},{"$f":"Z8/(AB4-Z11)","v":0},{"$f":"IF(AA8=0,0,(AA8*((LOG(AA8))/LOG(2))))","v":0},null,{"$f":"N8","v":112},{"$f":"COUNTIF(L61:L87,AD8)","v":1},{"$f":"AE8/(AG4-AE11)","v":3.7037037037037035E-2},{"$f":"IF(AF8=0,0,(AF8*((LOG(AF8))/LOG(2))))","v":-0.1761069445245729},null,{"$f":"N8","v":112},{"$f":"COUNTIF(L88:L114,AI8)","v":0},{"$f":"AJ8/(AL4-AJ11)","v":0},{"$f":"IF(AK8=0,0,(AK8*((LOG(AK8))/LOG(2))))","v":0},null,{"$f":"N8","v":112},{"$f":"COUNTIF(L115:L141,AN8)","v":1},{"$f":"AO8/(AQ4-AO11)","v":3.7037037037037035E-2},{"$f":"IF(AP8=0,0,(AP8*((LOG(AP8))/LOG(2))))","v":-0.1761069445245729},null,{"$f":"N8","v":112},{"$f":"COUNTIF(L142:L168,AS8)","v":2},{"$f":"AT8/(AV4-AT11)","v":7.407407407407407E-2},{"$f":"IF(AU8=0,0,(AU8*((LOG(AU8))/LOG(2))))","v":-0.27813981497507173}]
[21,279,11,281,22,296,null,null,null,null,0,212,null,121,{"$f":"COUNTIF($L$7:$L$500,N9)","v":0},{"$f":"O9/$Q$4","v":0},{"$f":"IF(P9=0,0,(P9*((LOG(P9))/LOG(2))))","v":0},null,null,{"$f":"N9","v":121},{"$f":"COUNTIF(L7:L33,T9)","v":0},{"$f":"U9/(W4-U11)","v":0},{"$f":"IF(V9=0,0,(V9*((LOG(V9))/LOG(2))))","v":0},null,{"$f":"N9","v":121},{"$f":"COUNTIF(L34:L60,Y9)","v":0},{"$f":"Z9/(AB4-Z11)","v":0},{"$f":"IF(AA9=0,0,(AA9*((LOG(AA9))/LOG(2))))","v":0},null,{"$f":"N9","v":121},{"$f":"COUNTIF(L61:L87,AD9)","v":0},{"$f":"AE9/(AG4-AE11)","v":0},{"$f":"IF(AF9=0,0,(AF9*((LOG(AF9))/LOG(2))))","v":0},null,{"$f":"N9","v":121},{"$f":"COUNTIF(L88:L114,AI9)","v":0},{"$f":"AJ9/(AL4-AJ11)","v":0},{"$f":"IF(AK9=0,0,(AK9*((LOG(AK9))/LOG(2))))","v":0},null,{"$f":"N9","v":121},{"$f":"COUNTIF(L115:L141,AN9)","v":0},{"$f":"AO9/(AQ4-AO11)","v":0},{"$f":"IF(AP9=0,0,(AP9*((LOG(AP9))/LOG(2))))","v":0},null,{"$f":"N9","v":121},{"$f":"COUNTIF(L142:L168,AS9)","v":0},{"$f":"AT9/(AV4-AT11)","v":0},{"$f":"IF(AU9=0,0,(AU9*((LOG(AU9))/LOG(2))))","v":0}]
[21,409,22,415,24,423,null,null,null,null,0,222,null,122,{"$f":"COUNTIF($L$7:$L$500,N10)","v":52},{"$f":"O10/$Q$4","v":0.32098765432098764},{"$f":"IF(P10=0,0,(P10*((LOG(P10))/LOG(2))))","v":-0.52623046176952903},null,null,{"$f":"N10","v":122},{"$f":"COUNTIF(L7:L33,T10)","v":10},{"$f":"U10/(W4-U11)","v":0.37037037037037035},{"$f":"IF(V10=0,0,(V10*((LOG(V10))/LOG(2))))","v":-0.53072570639855787},null,{"$f":"N10","v":122},{"$f":"COUNTIF(L34:L60,Y10)","v":2},{"$f":"Z10/(AB4-Z11)","v":7.407407407407407E-2},{"$f":"IF(AA10=0,0,(AA10*((LOG(AA10))/LOG(2))))","v":-0.27813981497507173},null,{"$f":"N10","v":122},{"$f":"COUNTIF(L61:L87,AD10)","v":11},{"$f":"AE10/(AG4-AE11)","v":0.40740740740740738},{"$f":"IF(AF10=0,0,(AF10*((LOG(AF10))/LOG(2))))","v":-0.52777832291806981},null,{"$f":"N10","v":122},{"$f":"COUNTIF(L88:L114,AI10)","v":12},{"$f":"AJ10/(AL4-AJ11)","v":0.44444444444444442},{"$f":"IF(AK10=0,0,(AK10*((LOG(AK10))/LOG(2))))","v":-0.51996666730769447},null,{"$f":"N10","v":122},{"$f":"COUNTIF(L115:L141,AN10)","v":6},{"$f":"AO10/(AQ4-AO11)","v":0.22222222222222221},{"$f":"IF(AP10=0,0,(AP10*((LOG(AP10))/LOG(2))))","v":-0.48220555587606945},null,{"$f":"N10","v":122},{"$f":"COUNTIF(L142:L168,AS10)","v":11},{"$f":"AT10/(AV4-AT11)","v":0.40740740740740738},{"$f":"IF(AU10=0,0,(AU10*((LOG(AU10))/LOG(2))))","v":-0.52777832291806981}]
[12,516,24,534,24,539,null,null,null,null,0,122,null,211,{"$f":"COUNTIF($L$7:$L$500,N11)","v":0},{"$f":"O11/$Q$4","v":0},{"$f":"IF(P11=0,0,(P11*((LOG(P11))/LOG(2))))","v":0},null,null,{"$f":"N11","v":211},{"$f":"COUNTIF(L7:L33,T11)","v":0},null,null,null,{"$f":"N11","v":211},{"$f":"COUNTIF(L34:L60,Y11)","v":0},null,null,null,{"$f":"N11","v":211},{"$f":"COUNTIF(L61:L87,AD11)","v":0},null,null,null,{"$f":"N11","v":211},{"$f":"COUNTIF(L88:L114,AI11)","v":0},null,null,null,{"$f":"N11","v":211},{"$f":"COUNTIF(L115:L141,AN11)","v":0},null,null,null,{"$f":"N11","v":211},{"$f":"COUNTIF(L142:L168,AS11)","v":0}]
[21,652,22,664,24,670,null,null,null,null,0,222,null,212,{"$f":"COUNTIF($L$7:$L$500,N12)","v":2},{"$f":"O12/$Q$4","v":1.2345679012345678E-2},{"$f":"IF(P12=0,0,(P12*((LOG(P12))/LOG(2))))","v":-7.8269753122032396E-2},null,null,{"$f":"N12","v":212},{"$f":"COUNTIF(L7:L33,T12)","v":1},{"$f":"U12/(W4-U11)","v":3.7037037037037035E-2},{"$f":"IF(V12=0,0,(V12*((LOG(V12))/LOG(2))))","v":-0.1761069445245729},null,{"$f":"N12","v":212},{"$f":"COUNTIF(L34:L60,Y12)","v":0},{"$f":"Z12/(AB4-Z11)","v":0},{"$f":"IF(AA12=0,0,(AA12*((LOG(AA12))/LOG(2))))","v":0},null,{"$f":"N12","v":212},{"$f":"COUNTIF(L61:L87,AD12)","v":1},{"$f":"AE12/(AG4-AE11)","v":3.7037037037037035E-2},{"$f":"IF(AF12=0,0,(AF12*((LOG(AF12))/LOG(2))))","v":-0.1761069445245729},null,{"$f":"N12","v":212},{"$f":"COUNTIF(L88:L114,AI12)","v":0},{"$f":"AJ12/(AL4-AJ11)","v":0},{"$f":"IF(AK12=0,0,(AK12*((LOG(AK12))/LOG(2))))","v":0},null,{"$f":"N12","v":212},{"$f":"COUNTIF(L115:L141,AN12)","v":0},{"$f":"AO12/(AQ4-AO11)","v":0},{"$f":"IF(AP12=0,0,(AP12*((LOG(AP12))/LOG(2))))","v":0},null,{"$f":"N12","v":212},{"$f":"COUNTIF(L142:L168,AS12)","v":0},{"$f":"AT12/(AV4-AT11)","v":0},{"$f":"IF(AU12=0,0,(AU12*((LOG(AU12))/LOG(2))))","v":0}]
[12,764,24,775,24,778,null,null,null,null,0,122,null,221,{"$f":"COUNTIF($L$7:$L$500,N13)","v":1},{"$f":"O13/$Q$4","v":6.1728395061728392E-3},{"$f":"IF(P13=0,0,(P13*((LOG(P13))/LOG(2))))","v":-4.5307716067189037E-2},null,null,{"$f":"N13","v":221},{"$f":"COUNTIF(L7:L33,T13)","v":0},{"$f":"U13/(W4-U11)","v":0},{"$f":"IF(V13=0,0,(V13*((LOG(V13))/LOG(2))))","v":0},null,{"$f":"N13","v":221},{"$f":"COUNTIF(L34:L60,Y13)","v":1},{"$f":"Z13/(AB4-Z11)","v":3.7037037037037035E-2},{"$f":"IF(AA13=0,0,(AA13*((LOG(AA13))/LOG(2))))","v":-0.1761069445245729},null,{"$f":"N13","v":221},{"$f":"COUNTIF(L61:L87,AD13)","v":0},{"$f":"AE13/(AG4-AE11)","v":0},{"$f":"IF(AF13=0,0,(AF13*((LOG(AF13))/LOG(2))))","v":0},null,{"$f":"N13","v":221},{"$f":"COUNTIF(L88:L114,AI13)","v":0},{"$f":"AJ13/(AL4-AJ11)","v":0},{"$f":"IF(AK13=0,0,(AK13*((LOG(AK13))/LOG(2))))","v":0},null,{"$f":"N13","v":221},{"$f":"COUNTIF(L115:L141,AN13)","v":0},{"$f":"AO13/(AQ4-AO11)","v":0},{"$f":"IF(AP13=0,0,(AP13*((LOG(AP13))/LOG(2))))","v":0},null,{"$f":"N13","v":221},{"$f":"COUNTIF(L142:L168,AS13)","v":0},{"$f":"AT13/(AV4-AT11)","v":0},{"$f":"IF(AU13=0,0,(AU13*((LOG(AU13))/LOG(2))))","v":0}]
[12,874,24,879,24,882,null,null,null,null,0,122,null,222,{"$f":"COUNTIF($L$7:$L$500,N14)","v":103},{"$f":"O14/$Q$4","v":0.63580246913580252},{"$f":"IF(P14=0,0,(P14*((LOG(P14))/LOG(2))))","v":-0.4154012098595361},null,null,{"$f":"N14","v":222},{"$f":"COUNTIF(L7:L33,T14)","v":16},{"$f":"U14/(W4-U11)","v":0.59259259259259256},{"$f":"IF(V14=0,0,(V14*((LOG(V14))/LOG(2))))","v":-0.44734074202279617},null,{"$f":"N14","v":222},{"$f":"COUNTIF(L34:L60,Y14)","v":24},{"$f":"Z14/(AB4-Z11)","v":0.88888888888888884},{"$f":"IF(AA14=0,0,(AA14*((LOG(AA14))/LOG(2))))","v":-0.15104444572649992},null,{"$f":"N14","v":222},{"$f":"COUNTIF(L61:L87,AD14)","v":14},{"$f":"AE14/(AG4-AE11)","v":0.51851851851851849},{"$f":"IF(AF14=0,0,(AF14*((LOG(AF14))/LOG(2))))","v":-0.49131318968452231},null,{"$f":"N14","v":222},{"$f":"COUNTIF(L88:L114,AI14)","v":15},{"$f":"AJ14/(AL4-AJ11)","v":0.55555555555555558},{"$f":"IF(AK14=0,0,(AK14*((LOG(AK14))/LOG(2))))","v":-0.4711093925305278},null,{"$f":"N14","v":222},{"$f":"COUNTIF(L115:L141,AN14)","v":20},{"$f":"AO14/(AQ4-AO11)","v":0.7407407407407407},{"$f":"IF(AP14=0,0,(AP14*((LOG(AP14))/LOG(2))))","v":-0.32071067205637499},null,{"$f":"N14","v":222},{"$f":"COUNTIF(L142:L168,AS14)","v":14},{"$f":"AT14/(AV4-AT11)","v":0.51851851851851849},{"$f":"IF(AU14=0,0,(AU14*((LOG(AU14))/LOG(2))))","v":-0.49131318968452231}]
[21,1210,22,1216,24,1223,null,null,null,null,0,222,null,null,null,{"$f":"SUM(P7:P14)","v":1},{"$f":"-SUM(Q7:Q14)","v":1.1970572890376601},null,null,null,null,{"$f":"SUM(V7:V14)","v":1},{"$f":"-SUM(W7:W14)","v":1.154173392945927},null,null,null,{"$f":"SUM(AA7:AA14)","v":1},{"$f":"-SUM(AB7:AB14)","v":0.60529120522614455},null,null,null,{"$f":"SUM(AF7:AF14)","v":1},{"$f":"-SUM(AG7:AG14)","v":1.3713054016517379},null,null,null,{"$f":"SUM(AK7:AK14)","v":1},{"$f":"-SUM(AL7:AL14)","v":0.99107605983822222},null,null,null,{"$f":"SUM(AP7:AP14)","v":1},{"$f":"-SUM(AQ7:AQ14)","v":0.97902317245701731},null,null,null,{"$f":"SUM(AU7:AU14)","v":1},{"$f":"-SUM(AV7:AV14)","v":1.2972313275776637}]
[21,1325,22,1337,24,1344,null,null,null,null,0,222,null,null,null,"U=",{"$f":"Q15/(LOG(Q4)/LOG(2))","v":0.16309015696059267},null,null,null,null,"U1=",{"$f":"W15/(LOG(W4)/LOG(2))","v":0.2427341114633689},null,null,null,"U2=",{"$f":"AB15/(LOG(AB4)/LOG(2))","v":0.12729874365076729},null,null,null,"U3=",{"$f":"AG15/(LOG(AG4)/LOG(2))","v":0.2883991263784465},null,null,null,"U4=",{"$f":"AL15/(LOG(AL4)/LOG(2))","v":0.20843312473476686},null,null,null,"U5=",{"$f":"AQ15/(LOG(AQ4)/LOG(2))","v":0.20589828297968416},null,null,null,"U6=",{"$f":"AV15/(LOG(AV4)/LOG(2))","v":0.27282061394458335}]
[21,1443,22,1447,24,1460,null,null,null,null,0,222]
[12,1557,24,1562,24,1564,null,null,null,null,0,122]
[12,1659,24,1664,24,1675,null,null,null,null,0,122,null,"Total Target Seq"]
[12,1768,24,1776,24,1781,null,null,null,null,0,122,null,{"$f":"COUNTIF(L7:L168,G3)","v":0},null,27,27,27,27,27,27]
[12,1878,24,1881,24,1886,null,null,null,null,0,122,null,null,null,"% of reinforcement given in 6 equal intervals based on number of trials "]
[21,2028,22,2042,24,2049,null,null,null,null,0,222,null,null,null,"%_1","%_2","%_3","%_4","%_5","%_6"]
[21,2159,22,2164,24,2174,null,null,null,null,0,222,null,null,"target sequence",{"$f":"$G$3","v":211},{"$f":"$G$3","v":211},{"$f":"$G$3","v":211},{"$f":"$G$3","v":211},{"$f":"$G$3","v":211},{"$f":"$G$3","v":211}]
[21,2274,22,2276,24,2282,null,null,null,null,0,222,null,null,"total reinforcement",{"$f":"U11","v":0},{"$f":"Z11","v":0},{"$f":"AE11","v":0},{"$f":"AJ11","v":0},{"$f":"AO11","v":0},{"$f":"AT11","v":0}]
[21,2421,22,2423,24,2427,null,null,null,null,0,222,null,null,"% target"]
[21,2531,22,2539,24,2547,null,null,null,null,0,222,null,null,"CCRF"]
[21,2650,22,2658,24,2666,null,null,null,null,0,222,null,null,"% CCRf"]
[12,2758,24,2778,24,2783,null,null,null,null,0,122,null,null,"average response rate",{"$f":"F33/P20","v":142.37037037037038},{"$f":"(F60-F33)/Q20","v":159.55555555555554},{"$f":"(F87-F60)/R20","v":135.4814814814815},{"$f":"(F114-F87)/S20","v":144},{"$f":"(F141-F114)/T20","v":166.59259259259258},{"$f":"(F168-F141)/U20","v":140.44444444444446}]
[21,3013,22,3019,24,3048,null,null,null,null,0,222]
[21,3221,22,3234,24,3255,null,null,null,null,0,222]
[12,3465,24,3474,24,3479,null,null,null,null,0,122]
[12,3599,24,3610,24,3615,null,null,null,null,0,122]
[21,3823,22,3829,24,3844,null,null,null,null,0,222]
[21,3953,22,3964,24,3970,null,null,null,null,0,222]
[21,4072,22,4076,24,4082,null,null,null,null,0,222]
[21,4185,22,4191,24,4196,null,null,null,null,0,222]
[21,4955,22,4961,24,4966,null,null,null,null,0,222]
[21,5114,22,5121,24,5127,null,null,null,null,0,222]
[21,5229,22,5234,24,5240,null,null,null,null,0,222]
[21,5344,22,5349,24,5355,null,null,null,null,0,222]
[21,5455,22,5460,13,5463,null,null,null,null,0,221]
[21,5568,22,5573,24,5579,null,null,null,null,0,222]
[21,5685,22,5693,24,5703,null,null,null,null,0,222]
[21,5916,22,5935,24,5941,null,null,null,null,0,222]
[21,6045,22,6053,24,6058,null,null,null,null,0,222]
[12,6150,24,6166,24,6175,null,null,null,null,0,122]
[21,6281,22,6285,24,6291,null,null,null,null,0,222]
[21,6390,22,6396,24,6409,null,null,null,null,0,222]
[21,6513,22,6516,24,6523,null,null,null,null,0,222]
[21,6628,22,6633,24,6639,null,null,null,null,0,222]
[21,6748,22,6756,24,6762,null,null,null,null,0,222]
[21,6957,22,6960,24,6967,null,null,null,null,0,222]
[21,7164,22,7167,24,7175,null,null,null,null,0,222]
[21,7278,22,7285,24,7291,null,null,null,null,0,222]
[21,7396,22,7400,24,7412,null,null,null,null,0,222]
[12,7504,24,7514,24,7519,null,null,null,null,0,122]
[21,7776,22,7787,24,7799,null,null,null,null,0,222]
[21,7901,22,7907,24,7917,null,null,null,null,0,222]
[21,8022,22,8033,24,8038,null,null,null,null,0,222]
[21,8141,22,8146,24,8152,null,null,null,null,0,222]
[12,8247,13,8252,24,8255,null,null,null,null,0,112]
[21,8357,22,8360,24,8366,null,null,null,null,0,222]
[21,8474,22,8490,24,8498,null,null,null,null,0,222]
[12,8593,24,8596,24,8600,null,null,null,null,0,122]
[12,8789,24,8804,24,8810,null,null,null,null,0,122]
[12,8934,24,8951,24,8955,null,null,null,null,0,122]
[21,9071,22,9081,24,9087,null,null,null,null,0,222]
[21,9189,22,9206,24,9213,null,null,null,null,0,222]
[12,9307,24,9314,24,9319,null,null,null,null,0,122]
[21,9423,22,9431,24,9438,null,null,null,null,0,222]
[21,9543,22,9551,24,9558,null,null,null,null,0,222]
[21,9662,22,9672,24,9683,null,null,null,null,0,222]
[21,9785,22,9791,24,9798,null,null,null,null,0,222]
[12,9893,24,9902,24,9906,null,null,null,null,0,122]
[12,10004,24,10017,24,10023,null,null,null,null,0,122]
[12,10352,24,10362,24,10366,null,null,null,null,0,122]
[21,10470,22,10477,24,10490,null,null,null,null,0,222]
[21,10594,22,10601,24,10614,null,null,null,null,0,222]
[21,10720,22,10730,24,10736,null,null,null,null,0,222]
[21,10843,22,10848,24,10861,null,null,null,null,0,222]
[21,10976,22,10981,24,10987,null,null,null,null,0,222]
[21,11091,11,11095,22,11102,null,null,null,null,0,212]
[21,11207,22,11212,24,11218,null,null,null,null,0,222]
[12,11317,24,11338,24,11350,null,null,null,null,0,122]
[12,11445,24,11452,24,11458,null,null,null,null,0,122]
[12,11659,24,11668,24,11695,null,null,null,null,0,122]
[12,11787,24,11799,24,11810,null,null,null,null,0,122]
[21,11917,22,11925,24,11928,null,null,null,null,0,222]
[21,12035,22,12043,24,12050,null,null,null,null,0,222]
[21,12151,22,12155,24,12161,null,null,null,null,0,222]
[12,12356,24,12371,24,12379,null,null,null,null,0,122]
[12,12479,24,12488,24,12495,null,null,null,null,0,122]
[21,12595,22,12600,24,12607,null,null,null,null,0,222]
[12,12701,24,12714,24,12718,null,null,null,null,0,122]
[21,12824,22,12830,24,12835,null,null,null,null,0,222]
[12,12928,24,12939,24,12944,null,null,null,null,0,122]
[12,13136,24,13141,24,13148,null,null,null,null,0,122]
[12,13249,24,13253,24,13263,null,null,null,null,0,122]
[21,13367,22,13392,24,13398,null,null,null,null,0,222]
[21,13501,22,13508,24,13513,null,null,null,null,0,222]
[21,13616,22,13621,24,13627,null,null,null,null,0,222]
[21,13729,22,13734,24,13740,null,null,null,null,0,222]
[12,13989,24,14005,24,14015,null,null,null,null,0,122]
[12,14113,24,14118,24,14125,null,null,null,null,0,122]
[21,14228,22,14233,24,14239,null,null,null,null,0,222]
[21,14517,22,14524,24,14531,null,null,null,null,0,222]
[12,14627,24,14631,24,14639,null,null,null,null,0,122]
[12,14733,24,14741,24,14748,null,null,null,null,0,122]
[21,14849,22,14854,24,14861,null,null,null,null,0,222]
[21,14967,22,14971,24,14977,null,null,null,null,0,222]
[12,15218,24,15235,24,15241,null,null,null,null,0,122]
[21,15418,22,15423,24,15429,null,null,null,null,0,222]
[21,15562,22,15571,24,15586,null,null,null,null,0,222]
[12,15681,24,15688,24,15698,null,null,null,null,0,122]
[21,15802,22,15815,24,15822,null,null,null,null,0,222]
[12,15916,24,15923,24,15928,null,null,null,null,0,122]
[21,16031,22,16039,24,16047,null,null,null,null,0,222]
[21,16153,22,16158,24,16169,null,null,null,null,0,222]
[12,16379,24,16393,24,16396,null,null,null,null,0,122]
[12,16729,13,16732,24,16741,null,null,null,null,0,112]
[21,16845,22,16851,24,16857,null,null,null,null,0,222]
[21,16962,22,16967,24,16973,null,null,null,null,0,222]
[21,17148,22,17154,24,17166,null,null,null,null,0,222]
[21,17278,22,17285,24,17291,null,null,null,null,0,222]
[21,17389,22,17398,24,17404,null,null,null,null,0,222]
[21,17506,22,17511,24,17516,null,null,null,null,0,222]
[21,17623,22,17628,24,17640,null,null,null,null,0,222]
[21,17744,22,17752,24,17757,null,null,null,null,0,222]
[21,17859,22,17864,24,17873,null,null,null,null,0,222]
[21,17978,22,17984,24,17995,null,null,null,null,0,222]
[21,18400,22,18408,24,18419,null,null,null,null,0,222]
[12,18517,24,18527,24,18532,null,null,null,null,0,122]
[12,18629,24,18633,24,18641,null,null,null,null,0,122]
[21,18741,22,18744,24,18753,null,null,null,null,0,222]
[21,18862,22,18867,24,18875,null,null,null,null,0,222]
[12,18971,24,18981,24,18997,null,null,null,null,0,122]
[12,19096,24,19099,24,19104,null,null,null,null,0,122]
[21,19403,22,19410,24,19416,null,null,null,null,0,222]
[21,19628,22,19638,24,19651,null,null,null,null,0,222]
[21,19750,22,19760,24,19772,null,null,null,null,0,222]
[21,20188,22,20193,24,20196,null,null,null,null,0,222]
[21,20353,22,20362,24,20369,null,null,null,null,0,222]
[12,20512,13,20518,24,20530,null,null,null,null,0,112]
[12,20756,24,20772,24,20778,null,null,null,null,0,122]
[21,20882,22,20891,24,20895,null,null,null,null,0,222]
[12,20987,24,21002,24,21014,null,null,null,null,0,122]
[21,21138,22,21141,24,21148,null,null,null,null,0,222]
[21,21248,22,21256,24,21262,null,null,null,null,0,222]
[12,21493,24,21507,24,21522,null,null,null,null,0,122]
[12,21627,24,21631,24,21636,null,null,null,null,0,122]
[21,21737,22,21741,24,21747,null,null,null,null,0,222]
[21,21851,22,21858,24,21864,null,null,null,null,0,222]
[21,21968,22,21974,24,21979,null,null,null,null,0,222]
[21,22085,22,22099,24,22111,null,null,null,null,0,222]
[21,22215,22,22223,24,22228,null,null,null,null,0,222]
[21,22335,22,22342,24,22349,null,null,null,null,0,222]
[21,22557,22,22562,24,22569,null,null,null,null,0,222]
[12,22670,13,22673,24,22684,null,null,null,null,0,112]
[12,22790,24,22792,24,22801,null,null,null,null,0,122]
[21,22906,22,22914,24,22921,null,null,null,null,0,222]
[12,23050,24,23070,24,23076,null,null,null,null,0,122]
[12,23175,24,23183,24,23188,null,null,null,null,0,122]
[21,23290,22,23298,24,23304,null,null,null,null,0,222]
[12,23398,24,23421,24,23428,null,null,null,null,0,122]
[12,23520,24,23531,24,23537,null,null,null,null,0,122]
[12,23639,24,23647,24,23651,null,null,null,null,0,122]
[21,23773,22,23786,24,23793,null,null,null,null,0,222]
[12,23950,24,23972,24,23988,null,null,null,null,null,122]

{"sheet":"!M205B30.Gus","index":21,"n_rows":80,"n_cols":48,"rows_kept":80,"cut":false,"hidden":false,"merged":[[4,39,4,42],[5,39,5,40],[4,44,4,47],[5,44,5,45],[4,24,4,27],[5,24,5,25],[4,29,4,32],[5,29,5,30],[4,34,4,37],[5,34,5,35],[1,1,1,2],[5,13,5,14],[18,13,18,14],[19,13,19,14],[4,19,4,22],[5,19,5,20]]}
["Report for:!M205B30.Gus"]
["Date:","<date>"]
["Hen:","<hen>",null,null,null,"Correct Sequence",{"$f":"Start!J2","v":211},null,null,null,null,null,null,null,null,"Total Sequences in Data",{"$f":"4994-COUNTBLANK(L7:L5000)","v":74},null,null,null,null,"Total Sequences in Block Data",{"$f":"COUNTA(L7:L18)","v":12},null,null,null,"Total Sequences in Block Data",{"$f":"COUNTA(L19:L31)","v":13},null,null,null,"Total Sequences in Block Data",{"$f":"COUNTA(L32:L43)","v":12},null,null,null,"Total Sequences in Block Data",{"$f":"COUNTA(L44:L55)","v":12},null,null,null,"Total Sequences in Block Data",{"$f":"COUNTA(L56:L68)","v":13},null,null,null,"Total Sequences in Block Data",{"$f":"COUNTA(L69:L80)","v":12}]
[null,null,null,null,null,null,null,null,null,null,null,null,null,null,null,"Total Sequences in Summary",{"$f":"SUM(O7:O14)","v":74},null,null,null,null,"Total Sequences in Block Summary",{"$f":"SUM(U7:U14)","v":12},null,null,null,"Total Sequences in Block Summary",{"$f":"SUM(Z7:Z14)","v":13},null,null,null,"Total Sequences in Block Summary",{"$f":"SUM(AE7:AE14)","v":12},null,null,null,"Total Sequences in Block Summary",{"$f":"SUM(AJ7:AJ14)","v":12},null,null,null,"Total Sequences in Block Summary",{"$f":"SUM(AO7:AO14)","v":13},null,null,null,"Total Sequences in Block Summary",{"$f":"SUM(AT7:AT14)","v":12}]
[null,null,null,null,null,null,null,null,null,null,null,null,null,null,null,null,null,null,null,"Block 1",null,null,null,null,"Block 2",null,null,null,null,"Block 3",null,null,null,null,"Block 4",null,null,null,null,"Block 5",null,null,null,null,"Block 6"]
["Sequence\nComponent\n1","Time\n1","Sequence\nComponent\n2","Time\n2","Sequence\nComponent\n3","Time\n3","Sequence\nComponent\n4","Time\n4","Sequence\nComponent\n5","Time\n5","Correct?\n0=No 1=Yes","Sequence",null,"Frequency",null,"Relative Frequency","Variability",null,null,"Frequency",null,"Relative Frequency","Variability",null,"Frequency",null,"Relative Frequency","Variability",null,"Frequency",null,"Relative Frequency","Variability",null,"Frequency",null,"Relative Frequency","Variability",null,"Frequency",null,"Relative Frequency","Variability",null,"Frequency",null,"Relative Frequency","Variability"]
[21,0,22,0,24,0,null,null,null,null,0,222,null,111,{"$f":"COUNTIF($L$7:$L$500,N7)","v":1},{"$f":"O7/$Q$4","v":1.3513513513513514E-2},{"$f":"IF(P7=0,0,(P7*((LOG(P7))/LOG(2))))","v":-8.3911531967958794E-2},null,null,{"$f":"N7","v":111},{"$f":"COUNTIF(L7:L18,T7)","v":0},{"$f":"U7/(W4-U11)","v":0},{"$f":"IF(V7=0,0,(V7*((LOG(V7))/LOG(2))))","v":0},null,{"$f":"N7","v":111},{"$f":"COUNTIF(L19:L31,Y7)","v":0},{"$f":"Z7/(AB4-Z11)","v":0},{"$f":"IF(AA7=0,0,(AA7*((LOG(AA7))/LOG(2))))","v":0},null,{"$f":"N7","v":111},{"$f":"COUNTIF(L32:L43,AD7)","v":0},{"$f":"AE7/(AG4-AE11)","v":0},{"$f":"IF(AF7=0,0,(AF7*((LOG(AF7))/LOG(2))))","v":0},null,{"$f":"N7","v":111},{"$f":"COUNTIF(L44:L55,AI7)","v":0},{"$f":"AJ7/(AL4-AJ11)","v":0},{"$f":"IF(AK7=0,0,(AK7*((LOG(AK7))/LOG(2))))","v":0},null,{"$f":"N7","v":111},{"$f":"COUNTIF(L56:L68,AN7)","v":1},{"$f":"AO7/(AQ4-AO11)","v":7.6923076923076927E-2},{"$f":"IF(AP7=0,0,(AP7*((LOG(AP7))/LOG(2))))","v":-0.28464920908777636},null,{"$f":"N7","v":111},{"$f":"COUNTIF(L69:L80,AS7)","v":0},{"$f":"AT7/(AV4-AT11)","v":0},{"$f":"IF(AU7=0,0,(AU7*((LOG(AU7))/LOG(2))))","v":0}]
[12,0,24,0,13,0,null,null,null,null,0,121,null,112,{"$f":"COUNTIF($L$7:$L$500,N8)","v":5},{"$f":"O8/$Q$4","v":6.7567567567567571E-2},{"$f":"IF(P8=0,0,(P8*((LOG(P8))/LOG(2))))","v":-0.26267062640145861},null,null,{"$f":"N8","v":112},{"$f":"COUNTIF(L7:L18,T8)","v":0},{"$f":"U8/(W4-U11)","v":0},{"$f":"IF(V8=0,0,(V8*((LOG(V8))/LOG(2))))","v":0},null,{"$f":"N8","v":112},{"$f":"COUNTIF(L19:L31,Y8)","v":1},{"$f":"Z8/(AB4-Z11)","v":7.6923076923076927E-2},{"$f":"IF(AA8=0,0,(AA8*((LOG(AA8))/LOG(2))))","v":-0.28464920908777636},null,{"$f":"N8","v":112},{"$f":"COUNTIF(L32:L43,AD8)","v":1},{"$f":"AE8/(AG4-AE11)","v":8.3333333333333329E-2},{"$f":"IF(AF8=0,0,(AF8*((LOG(AF8))/LOG(2))))","v":-0.29874687506009634},null,{"$f":"N8","v":112},{"$f":"COUNTIF(L44:L55,AI8)","v":0},{"$f":"AJ8/(AL4-AJ11)","v":0},{"$f":"IF(AK8=0,0,(AK8*((LOG(AK8))/LOG(2))))","v":0},null,{"$f":"N8","v":112},{"$f":"COUNTIF(L56:L68,AN8)","v":1},{"$f":"AO8/(AQ4-AO11)","v":7.6923076923076927E-2},{"$f":"IF(AP8=0,0,(AP8*((LOG(AP8))/LOG(2))))","v":-0.28464920908777636},null,{"$f":"N8","v":112},{"$f":"COUNTIF(L69:L80,AS8)","v":2},{"$f":"AT8/(AV4-AT11)","v":0.16666666666666666},{"$f":"IF(AU8=0,0,(AU8*((LOG(AU8))/LOG(2))))","v":-0.43082708345352599}]
[12,0,24,0,24,0,null,null,null,null,0,122,null,121,{"$f":"COUNTIF($L$7:$L$500,N9)","v":2},{"$f":"O9/$Q$4","v":2.7027027027027029E-2},{"$f":"IF(P9=0,0,(P9*((LOG(P9))/LOG(2))))","v":-0.14079603690889056},null,null,{"$f":"N9","v":121},{"$f":"COUNTIF(L7:L18,T9)","v":1},{"$f":"U9/(W4-U11)","v":8.3333333333333329E-2},{"$f":"IF(V9=0,0,(V9*((LOG(V9))/LOG(2))))","v":-0.29874687506009634},null,{"$f":"N9","v":121},{"$f":"COUNTIF(L19:L31,Y9)","v":1},{"$f":"Z9/(AB4-Z11)","v":7.6923076923076927E-2},{"$f":"IF(AA9=0,0,(AA9*((LOG(AA9))/LOG(2))))","v":-0.28464920908777636},null,{"$f":"N9","v":121},{"$f":"COUNTIF(L32:L43,AD9)","v":0},{"$f":"AE9/(AG4-AE11)","v":0},{"$f":"IF(AF9=0,0,(AF9*((LOG(AF9))/LOG(2))))","v":0},null,{"$f":"N9","v":121},{"$f":"COUNTIF(L44:L55,AI9)","v":0},{"$f":"AJ9/(AL4-AJ11)","v":0},{"$f":"IF(AK9=0,0,(AK9*((LOG(AK9))/LOG(2))))","v":0},null,{"$f":"N9","v":121},{"$f":"COUNTIF(L56:L68,AN9)","v":0},{"$f":"AO9/(AQ4-AO11)","v":0},{"$f":"IF(AP9=0,0,(AP9*((LOG(AP9))/LOG(2))))","v":0},null,{"$f":"N9","v":121},{"$f":"COUNTIF(L69:L80,AS9)","v":0},{"$f":"AT9/(AV4-AT11)","v":0},{"$f":"IF(AU9=0,0,(AU9*((LOG(AU9))/LOG(2))))","v":0}]
[21,0,22,0,24,0,null,null,null,null,0,222,null,122,{"$f":"COUNTIF($L$7:$L$500,N10)","v":36},{"$f":"O10/$Q$4","v":0.48648648648648651},{"$f":"IF(P10=0,0,(P10*((LOG(P10))/LOG(2))))","v":-0.50571650149620195},null,null,{"$f":"N10","v":122},{"$f":"COUNTIF(L7:L18,T10)","v":6},{"$f":"U10/(W4-U11)","v":0.5},{"$f":"IF(V10=0,0,(V10*((LOG(V10))/LOG(2))))","v":-0.5},null,{"$f":"N10","v":122},{"$f":"COUNTIF(L19:L31,Y10)","v":6},{"$f":"Z10/(AB4-Z11)","v":0.46153846153846156},{"$f":"IF(AA10=0,0,(AA10*((LOG(AA10))/LOG(2))))","v":-0.51483563880920125},null,{"$f":"N10","v":122},{"$f":"COUNTIF(L32:L43,AD10)","v":5},{"$f":"AE10/(AG4-AE11)","v":0.41666666666666669},{"$f":"IF(AF10=0,0,(AF10*((LOG(AF10))/LOG(2))))","v":-0.52626433576408083},null,{"$f":"N10","v":122},{"$f":"COUNTIF(L44:L55,AI10)","v":6},{"$f":"AJ10/(AL4-AJ11)","v":0.5},{"$f":"IF(AK10=0,0,(AK10*((LOG(AK10))/LOG(2))))","v":-0.5},null,{"$f":"N10","v":122},{"$f":"COUNTIF(L56:L68,AN10)","v":7},{"$f":"AO10/(AQ4-AO11)","v":0.53846153846153844},{"$f":"IF(AP10=0,0,(AP10*((LOG(AP10))/LOG(2))))","v":-0.48089181327572433},null,{"$f":"N10","v":122},{"$f":"COUNTIF(L69:L80,AS10)","v":6},{"$f":"AT10/(AV4-AT11)","v":0.5},{"$f":"IF(AU10=0,0,(AU10*((LOG(AU10))/LOG(2))))","v":-0.5}]
[12,0,24,0,24,0,null,null,null,null,0,122,null,211,{"$f":"COUNTIF($L$7:$L$500,N11)","v":0},{"$f":"O11/$Q$4","v":0},{"$f":"IF(P11=0,0,(P11*((LOG(P11))/LOG(2))))","v":0},null,null,{"$f":"N11","v":211},{"$f":"COUNTIF(L7:L18,T11)","v":0},null,null,null,{"$f":"N11","v":211},{"$f":"COUNTIF(L19:L31,Y11)","v":0},null,null,null,{"$f":"N11","v":211},{"$f":"COUNTIF(L32:L43,AD11)","v":0},null,null,null,{"$f":"N11","v":211},{"$f":"COUNTIF(L44:L55,AI11)","v":0},null,null,null,{"$f":"N11","v":211},{"$f":"COUNTIF(L56:L68,AN11)","v":0},null,null,null,{"$f":"N11","v":211},{"$f":"COUNTIF(L69:L80,AS11)","v":0}]
[12,0,24,0,24,0,null,null,null,null,0,122,null,212,{"$f":"COUNTIF($L$7:$L$500,N12)","v":1},{"$f":"O12/$Q$4","v":1.3513513513513514E-2},{"$f":"IF(P12=0,0,(P12*((LOG(P12))/LOG(2))))","v":-8.3911531967958794E-2},null,null,{"$f":"N12","v":212},{"$f":"COUNTIF(L7:L18,T12)","v":0},{"$f":"U12/(W4-U11)","v":0},{"$f":"IF(V12=0,0,(V12*((LOG(V12))/LOG(2))))","v":0},null,{"$f":"N12","v":212},{"$f":"COUNTIF(L19:L31,Y12)","v":0},{"$f":"Z12/(AB4-Z11)","v":0},{"$f":"IF(AA12=0,0,(AA12*((LOG(AA12))/LOG(2))))","v":0},null,{"$f":"N12","v":212},{"$f":"COUNTIF(L32:L43,AD12)","v":0},{"$f":"AE12/(AG4-AE11)","v":0},{"$f":"IF(AF12=0,0,(AF12*((LOG(AF12))/LOG(2))))","v":0},null,{"$f":"N12","v":212},{"$f":"COUNTIF(L44:L55,AI12)","v":0},{"$f":"AJ12/(AL4-AJ11)","v":0},{"$f":"IF(AK12=0,0,(AK12*((LOG(AK12))/LOG(2))))","v":0},null,{"$f":"N12","v":212},{"$f":"COUNTIF(L56:L68,AN12)","v":0},{"$f":"AO12/(AQ4-AO11)","v":0},{"$f":"IF(AP12=0,0,(AP12*((LOG(AP12))/LOG(2))))","v":0},null,{"$f":"N12","v":212},{"$f":"COUNTIF(L69:L80,AS12)","v":1},{"$f":"AT12/(AV4-AT11)","v":8.3333333333333329E-2},{"$f":"IF(AU12=0,0,(AU12*((LOG(AU12))/LOG(2))))","v":-0.29874687506009634}]
[21,0,22,0,24,0,null,null,null,null,0,222,null,221,{"$f":"COUNTIF($L$7:$L$500,N13)","v":1},{"$f":"O13/$Q$4","v":1.3513513513513514E-2},{"$f":"IF(P13=0,0,(P13*((LOG(P13))/LOG(2))))","v":-8.3911531967958794E-2},null,null,{"$f":"N13","v":221},{"$f":"COUNTIF(L7:L18,T13)","v":0},{"$f":"U13/(W4-U11)","v":0},{"$f":"IF(V13=0,0,(V13*((LOG(V13))/LOG(2))))","v":0},null,{"$f":"N13","v":221},{"$f":"COUNTIF(L19:L31,Y13)","v":0},{"$f":"Z13/(AB4-Z11)","v":0},{"$f":"IF(AA13=0,0,(AA13*((LOG(AA13))/LOG(2))))","v":0},null,{"$f":"N13","v":221},{"$f":"COUNTIF(L32:L43,AD13)","v":0},{"$f":"AE13/(AG4-AE11)","v":0},{"$f":"IF(AF13=0,0,(AF13*((LOG(AF13))/LOG(2))))","v":0},null,{"$f":"N13","v":221},{"$f":"COUNTIF(L44:L55,AI13)","v":0},{"$f":"AJ13/(AL4-AJ11)","v":0},{"$f":"IF(AK13=0,0,(AK13*((LOG(AK13))/LOG(2))))","v":0},null,{"$f":"N13","v":221},{"$f":"COUNTIF(L56:L68,AN13)","v":0},{"$f":"AO13/(AQ4-AO11)","v":0},{"$f":"IF(AP13=0,0,(AP13*((LOG(AP13))/LOG(2))))","v":0},null,{"$f":"N13","v":221},{"$f":"COUNTIF(L69:L80,AS13)","v":1},{"$f":"AT13/(AV4-AT11)","v":8.3333333333333329E-2},{"$f":"IF(AU13=0,0,(AU13*((LOG(AU13))/LOG(2))))","v":-0.29874687506009634}]
[12,0,24,0,24,0,null,null,null,null,0,122,null,222,{"$f":"COUNTIF($L$7:$L$500,N14)","v":28},{"$f":"O14/$Q$4","v":0.3783783783783784},{"$f":"IF(P14=0,0,(P14*((LOG(P14))/LOG(2))))","v":-0.53052373540537412},null,null,{"$f":"N14","v":222},{"$f":"COUNTIF(L7:L18,T14)","v":5},{"$f":"U14/(W4-U11)","v":0.41666666666666669},{"$f":"IF(V14=0,0,(V14*((LOG(V14))/LOG(2))))","v":-0.52626433576408083},null,{"$f":"N14","v":222},{"$f":"COUNTIF(L19:L31,Y14)","v":5},{"$f":"Z14/(AB4-Z11)","v":0.38461538461538464},{"$f":"IF(AA14=0,0,(AA14*((LOG(AA14))/LOG(2))))","v":-0.53019677817451139},null,{"$f":"N14","v":222},{"$f":"COUNTIF(L32:L43,AD14)","v":6},{"$f":"AE14/(AG4-AE11)","v":0.5},{"$f":"IF(AF14=0,0,(AF14*((LOG(AF14))/LOG(2))))","v":-0.5},null,{"$f":"N14","v":222},{"$f":"COUNTIF(L44:L55,AI14)","v":6},{"$f":"AJ14/(AL4-AJ11)","v":0.5},{"$f":"IF(AK14=0,0,(AK14*((LOG(AK14))/LOG(2))))","v":-0.5},null,{"$f":"N14","v":222},{"$f":"COUNTIF(L56:L68,AN14)","v":4},{"$f":"AO14/(AQ4-AO11)","v":0.30769230769230771},{"$f":"IF(AP14=0,0,(AP14*((LOG(AP14))/LOG(2))))","v":-0.52321222096648989},null,{"$f":"N14","v":222},{"$f":"COUNTIF(L69:L80,AS14)","v":2},{"$f":"AT14/(AV4-AT11)","v":0.16666666666666666},{"$f":"IF(AU14=0,0,(AU14*((LOG(AU14))/LOG(2))))","v":-0.43082708345352599}]
[21,0,22,0,24,0,null,null,null,null,0,222,null,null,null,{"$f":"SUM(P7:P14)","v":1},{"$f":"-SUM(Q7:Q14)","v":1.6914414961158015},null,null,null,null,{"$f":"SUM(V7:V14)","v":1},{"$f":"-SUM(W7:W14)","v":1.3250112108241772},null,null,null,{"$f":"SUM(AA7:AA14)","v":1},{"$f":"-SUM(AB7:AB14)","v":1.6143308351592653},null,null,null,{"$f":"SUM(AF7:AF14)","v":1},{"$f":"-SUM(AG7:AG14)","v":1.3250112108241772},null,null,null,{"$f":"SUM(AK7:AK14)","v":1},{"$f":"-SUM(AL7:AL14)","v":1},null,null,null,{"$f":"SUM(AP7:AP14)","v":1},{"$f":"-SUM(AQ7:AQ14)","v":1.573402452417767},null,null,null,{"$f":"SUM(AU7:AU14)","v":1},{"$f":"-SUM(AV7:AV14)","v":1.9591479170272446}]
[12,0,24,0,24,0,null,null,null,null,0,122,null,null,null,"U=",{"$f":"Q15/(LOG(Q4)/LOG(2))","v":0.27239780968134814},null,null,null,null,"U1=",{"$f":"W15/(LOG(W4)/LOG(2))","v":0.36960253016806616},null,null,null,"U2=",{"$f":"AB15/(LOG(AB4)/LOG(2))","v":0.43625378552855359},null,null,null,"U3=",{"$f":"AG15/(LOG(AG4)/LOG(2))","v":0.36960253016806616},null,null,null,"U4=",{"$f":"AL15/(LOG(AL4)/LOG(2))","v":0.27894294565112981},null,null,null,"U5=",{"$f":"AQ15/(LOG(AQ4)/LOG(2))","v":0.42519337491279613},null,null,null,"U6=",{"$f":"AV15/(LOG(AV4)/LOG(2))","v":0.54649049094185487}]
[12,0,24,0,24,0,null,null,null,null,0,122]
[21,0,22,0,24,0,null,null,null,null,0,222]
[12,0,24,0,24,0,null,null,null,null,0,122,null,"Total Target Seq"]
[21,0,22,0,24,0,null,null,null,null,0,222,null,{"$f":"COUNTIF(L7:L80,G3)","v":0},null,12,13,12,12,13,12]
[12,0,24,0,13,0,null,null,null,null,0,121,null,null,null,"% of reinforcement given in 6 equal intervals based on number of trials "]
[12,0,24,0,24,0,null,null,null,null,0,122,null,null,null,"%_1","%_2","%_3","%_4","%_5","%_6"]
[21,0,22,0,24,0,null,null,null,null,0,222,null,null,"target sequence",{"$f":"$G$3","v":211},{"$f":"$G$3","v":211},{"$f":"$G$3","v":211},{"$f":"$G$3","v":211},{"$f":"$G$3","v":211},{"$f":"$G$3","v":211}]
[12,0,24,0,24,0,null,null,null,null,0,122,null,null,"total reinforcement",{"$f":"U11","v":0},{"$f":"Z11","v":0},{"$f":"AE11","v":0},{"$f":"AJ11","v":0},{"$f":"AO11","v":0},{"$f":"AT11","v":0}]
[12,0,24,0,24,0,null,null,null,null,0,122,null,null,"% target"]
[21,0,22,0,24,0,null,null,null,null,0,222,null,null,"CCRF"]
[21,0,22,0,24,0,null,null,null,null,0,222,null,null,"% CCRf"]
[12,0,24,0,24,0,null,null,null,null,0,122,null,null,"average response rate",{"$f":"F18/P20","v":0},{"$f":"(F31-F18)/Q20","v":0},{"$f":"(F43-F31)/R20","v":0},{"$f":"(F55-F43)/S20","v":0},{"$f":"(F68-F55)/T20","v":0},{"$f":"(F80-F68)/U20","v":0}]
[12,0,24,0,24,0,null,null,null,null,0,122]
[21,0,22,0,24,0,null,null,null,null,0,222]
[12,0,13,0,24,0,null,null,null,null,0,112]
[12,0,13,0,24,0,null,null,null,null,0,112]
[21,0,22,0,24,0,null,null,null,null,0,222]
[21,0,22,0,24,0,null,null,null,null,0,222]
[12,0,24,0,24,0,null,null,null,null,0,122]
[21,0,22,0,24,0,null,null,null,null,0,222]
[21,0,22,0,24,0,null,null,null,null,0,222]
[12,0,24,0,24,0,null,null,null,null,0,122]
[12,0,24,0,24,0,null,null,null,null,0,122]
[12,0,24,0,24,0,null,null,null,null,0,122]
[21,0,22,0,24,0,null,null,null,null,0,222]
[12,0,24,0,24,0,null,null,null,null,0,122]
[21,0,22,0,24,0,null,null,null,null,0,222]
[12,0,24,0,24,0,null,null,null,null,0,122]
[12,0,24,0,24,0,null,null,null,null,0,122]
[12,0,24,0,24,0,null,null,null,null,0,122]
[21,0,22,0,24,0,null,null,null,null,0,222]
[12,0,24,0,24,0,null,null,null,null,0,122]
[21,0,22,0,24,0,null,null,null,null,0,222]
[12,0,24,0,24,0,null,null,null,null,0,122]
[21,0,22,0,24,0,null,null,null,null,0,222]
[21,0,22,0,24,0,null,null,null,null,0,222]
[12,0,24,0,24,0,null,null,null,null,0,122]
[21,0,22,0,24,0,null,null,null,null,0,222]
[21,0,22,0,24,0,null,null,null,null,0,222]
[21,0,22,0,24,0,null,null,null,null,0,222]
[12,0,13,0,24,0,null,null,null,null,0,112]
[21,0,22,0,24,0,null,null,null,null,0,222]
[12,0,24,0,24,0,null,null,null,null,0,122]
[12,0,24,0,24,0,null,null,null,null,0,122]
[12,0,24,0,24,0,null,null,null,null,0,122]
[12,0,24,0,24,0,null,null,null,null,0,122]
[12,0,24,0,24,0,null,null,null,null,0,122]
[21,0,22,0,24,0,null,null,null,null,0,222]
[12,0,24,0,24,0,null,null,null,null,0,122]
[12,0,24,0,24,0,null,null,null,null,0,122]
[12,0,13,0,13,0,null,null,null,null,0,111]
[21,0,22,0,24,0,null,null,null,null,0,222]
[21,0,22,0,24,0,null,null,null,null,0,222]
[12,0,24,0,24,0,null,null,null,null,0,122]
[12,0,24,0,24,0,null,null,null,null,0,122]
[21,0,22,0,24,0,null,null,null,null,0,222]
[12,0,24,0,24,0,null,null,null,null,0,122]
[12,0,24,0,24,0,null,null,null,null,0,122]
[12,0,13,0,24,0,null,null,null,null,0,112]
[12,0,13,0,24,0,null,null,null,null,0,112]
[12,0,24,0,24,0,null,null,null,null,0,122]
[12,0,24,0,24,0,null,null,null,null,0,122]
[21,0,22,0,13,0,null,null,null,null,0,221]
[21,0,11,0,22,0,null,null,null,null,0,212]

{"sheet":"!M206B50.Gus","index":22,"n_rows":173,"n_cols":48,"rows_kept":173,"cut":false,"hidden":false,"merged":[[4,39,4,42],[5,39,5,40],[4,44,4,47],[5,44,5,45],[4,24,4,27],[5,24,5,25],[4,29,4,32],[5,29,5,30],[4,34,4,37],[5,34,5,35],[1,1,1,2],[5,13,5,14],[18,13,18,14],[19,13,19,14],[4,19,4,22],[5,19,5,20]]}
["Report for:!M206B50.Gus"]
["Date:","<date>"]
["Hen:","<hen>",null,null,null,"Correct Sequence",{"$f":"Start!J2","v":211},null,null,null,null,null,null,null,null,"Total Sequences in Data",{"$f":"4994-COUNTBLANK(L7:L5000)","v":167},null,null,null,null,"Total Sequences in Block Data",{"$f":"COUNTA(L7:L34)","v":28},null,null,null,"Total Sequences in Block Data",{"$f":"COUNTA(L35:L62)","v":28},null,null,null,"Total Sequences in Block Data",{"$f":"COUNTA(L63:L89)","v":27},null,null,null,"Total Sequences in Block Data",{"$f":"COUNTA(L90:L117)","v":28},null,null,null,"Total Sequences in Block Data",{"$f":"COUNTA(L118:L145)","v":28},null,null,null,"Total Sequences in Block Data",{"$f":"COUNTA(L146:L173)","v":28}]
[null,null,null,null,null,null,null,null,null,null,null,null,null,null,null,"Total Sequences in Summary",{"$f":"SUM(O7:O14)","v":167},null,null,null,null,"Total Sequences in Block Summary",{"$f":"SUM(U7:U14)","v":28},null,null,null,"Total Sequences in Block Summary",{"$f":"SUM(Z7:Z14)","v":28},null,null,null,"Total Sequences in Block Summary",{"$f":"SUM(AE7:AE14)","v":27},null,null,null,"Total Sequences in Block Summary",{"$f":"SUM(AJ7:AJ14)","v":28},null,null,null,"Total Sequences in Block Summary",{"$f":"SUM(AO7:AO14)","v":28},null,null,null,"Total Sequences in Block Summary",{"$f":"SUM(AT7:AT14)","v":28}]
[null,null,null,null,null,null,null,null,null,null,null,null,null,null,null,null,null,null,null,"Block 1",null,null,null,null,"Block 2",null,null,null,null,"Block 3",null,null,null,null,"Block 4",null,null,null,null,"Block 5",null,null,null,null,"Block 6"]
["Sequence\nComponent\n1","Time\n1","Sequence\nComponent\n2","Time\n2","Sequence\nComponent\n3","Time\n3","Sequence\nComponent\n4","Time\n4","Sequence\nComponent\n5","Time\n5","Correct?\n0=No 1=Yes","Sequence",null,"Frequency",null,"Relative Frequency","Variability",null,null,"Frequency",null,"Relative Frequency","Variability",null,"Frequency",null,"Relative Frequency","Variability",null,"Frequency",null,"Relative Frequency","Variability",null,"Frequency",null,"Relative Frequency","Variability",null,"Frequency",null,"Relative Frequency","Variability",null,"Frequency",null,"Relative Frequency","Variability"]
[21,54,22,64,24,71,null,null,null,null,0,222,null,111,{"$f":"COUNTIF($L$7:$L$500,N7)","v":0},{"$f":"O7/$Q$4","v":0},{"$f":"IF(P7=0,0,(P7*((LOG(P7))/LOG(2))))","v":0},null,null,{"$f":"N7","v":111},{"$f":"COUNTIF(L7:L34,T7)","v":0},{"$f":"U7/(W4-U11)","v":0},{"$f":"IF(V7=0,0,(V7*((LOG(V7))/LOG(2))))","v":0},null,{"$f":"N7","v":111},{"$f":"COUNTIF(L35:L62,Y7)","v":0},{"$f":"Z7/(AB4-Z11)","v":0},{"$f":"IF(AA7=0,0,(AA7*((LOG(AA7))/LOG(2))))","v":0},null,{"$f":"N7","v":111},{"$f":"COUNTIF(L63:L89,AD7)","v":0},{"$f":"AE7/(AG4-AE11)","v":0},{"$f":"IF(AF7=0,0,(AF7*((LOG(AF7))/LOG(2))))","v":0},null,{"$f":"N7","v":111},{"$f":"COUNTIF(L90:L117,AI7)","v":0},{"$f":"AJ7/(AL4-AJ11)","v":0},{"$f":"IF(AK7=0,0,(AK7*((LOG(AK7))/LOG(2))))","v":0},null,{"$f":"N7","v":111},{"$f":"COUNTIF(L118:L145,AN7)","v":0},{"$f":"AO7/(AQ4-AO11)","v":0},{"$f":"IF(AP7=0,0,(AP7*((LOG(AP7))/LOG(2))))","v":0},null,{"$f":"N7","v":111},{"$f":"COUNTIF(L146:L173,AS7)","v":0},{"$f":"AT7/(AV4-AT11)","v":0},{"$f":"IF(AU7=0,0,(AU7*((LOG(AU7))/LOG(2))))","v":0}]
[21,177,22,180,24,190,null,null,null,null,0,222,null,112,{"$f":"COUNTIF($L$7:$L$500,N8)","v":1},{"$f":"O8/$Q$4","v":5.9880239520958087E-3},{"$f":"IF(P8=0,0,(P8*((LOG(P8))/LOG(2))))","v":-4.4213798158527259E-2},null,null,{"$f":"N8","v":112},{"$f":"COUNTIF(L7:L34,T8)","v":1},{"$f":"U8/(W4-U11)","v":3.5714285714285712E-2},{"$f":"IF(V8=0,0,(V8*((LOG(V8))/LOG(2))))","v":-0.17169124721634299},null,{"$f":"N8","v":112},{"$f":"COUNTIF(L35:L62,Y8)","v":0},{"$f":"Z8/(AB4-Z11)","v":0},{"$f":"IF(AA8=0,0,(AA8*((LOG(AA8))/LOG(2))))","v":0},null,{"$f":"N8","v":112},{"$f":"COUNTIF(L63:L89,AD8)","v":0},{"$f":"AE8/(AG4-AE11)","v":0},{"$f":"IF(AF8=0,0,(AF8*((LOG(AF8))/LOG(2))))","v":0},null,{"$f":"N8","v":112},{"$f":"COUNTIF(L90:L117,AI8)","v":0},{"$f":"AJ8/(AL4-AJ11)","v":0},{"$f":"IF(AK8=0,0,(AK8*((LOG(AK8))/LOG(2))))","v":0},null,{"$f":"N8","v":112},{"$f":"COUNTIF(L118:L145,AN8)","v":0},{"$f":"AO8/(AQ4-AO11)","v":0},{"$f":"IF(AP8=0,0,(AP8*((LOG(AP8))/LOG(2))))","v":0},null,{"$f":"N8","v":112},{"$f":"COUNTIF(L146:L173,AS8)","v":0},{"$f":"AT8/(AV4-AT11)","v":0},{"$f":"IF(AU8=0,0,(AU8*((LOG(AU8))/LOG(2))))","v":0}]
[12,286,24,290,24,308,null,null,null,null,0,122,null,121,{"$f":"COUNTIF($L$7:$L$500,N9)","v":2},{"$f":"O9/$Q$4","v":1.1976047904191617E-2},{"$f":"IF(P9=0,0,(P9*((LOG(P9))/LOG(2))))","v":-7.6451548412862905E-2},null,null,{"$f":"N9","v":121},{"$f":"COUNTIF(L7:L34,T9)","v":1},{"$f":"U9/(W4-U11)","v":3.5714285714285712E-2},{"$f":"IF(V9=0,0,(V9*((LOG(V9))/LOG(2))))","v":-0.17169124721634299},null,{"$f":"N9","v":121},{"$f":"COUNTIF(L35:L62,Y9)","v":0},{"$f":"Z9/(AB4-Z11)","v":0},{"$f":"IF(AA9=0,0,(AA9*((LOG(AA9))/LOG(2))))","v":0},null,{"$f":"N9","v":121},{"$f":"COUNTIF(L63:L89,AD9)","v":0},{"$f":"AE9/(AG4-AE11)","v":0},{"$f":"IF(AF9=0,0,(AF9*((LOG(AF9))/LOG(2))))","v":0},null,{"$f":"N9","v":121},{"$f":"COUNTIF(L90:L117,AI9)","v":0},{"$f":"AJ9/(AL4-AJ11)","v":0},{"$f":"IF(AK9=0,0,(AK9*((LOG(AK9))/LOG(2))))","v":0},null,{"$f":"N9","v":121},{"$f":"COUNTIF(L118:L145,AN9)","v":1},{"$f":"AO9/(AQ4-AO11)","v":3.5714285714285712E-2},{"$f":"IF(AP9=0,0,(AP9*((LOG(AP9))/LOG(2))))","v":-0.17169124721634299},null,{"$f":"N9","v":121},{"$f":"COUNTIF(L146:L173,AS9)","v":0},{"$f":"AT9/(AV4-AT11)","v":0},{"$f":"IF(AU9=0,0,(AU9*((LOG(AU9))/LOG(2))))","v":0}]
[21,417,22,424,24,430,null,null,null,null,0,222,null,122,{"$f":"COUNTIF($L$7:$L$500,N10)","v":63},{"$f":"O10/$Q$4","v":0.3772455089820359},{"$f":"IF(P10=0,0,(P10*((LOG(P10))/LOG(2))))","v":-0.53056727691838657},null,null,{"$f":"N10","v":122},{"$f":"COUNTIF(L7:L34,T10)","v":11},{"$f":"U10/(W4-U11)","v":0.39285714285714285},{"$f":"IF(V10=0,0,(V10*((LOG(V10))/LOG(2))))","v":-0.52954129777226344},null,{"$f":"N10","v":122},{"$f":"COUNTIF(L35:L62,Y10)","v":13},{"$f":"Z10/(AB4-Z11)","v":0.4642857142857143},{"$f":"IF(AA10=0,0,(AA10*((LOG(AA10))/LOG(2))))","v":-0.51392491610409474},null,{"$f":"N10","v":122},{"$f":"COUNTIF(L63:L89,AD10)","v":7},{"$f":"AE10/(AG4-AE11)","v":0.25925925925925924},{"$f":"IF(AF10=0,0,(AF10*((LOG(AF10))/LOG(2))))","v":-0.5049158541015204},null,{"$f":"N10","v":122},{"$f":"COUNTIF(L90:L117,AI10)","v":16},{"$f":"AJ10/(AL4-AJ11)","v":0.5714285714285714},{"$f":"IF(AK10=0,0,(AK10*((LOG(AK10))/LOG(2))))","v":-0.46134566974720237},null,{"$f":"N10","v":122},{"$f":"COUNTIF(L118:L145,AN10)","v":8},{"$f":"AO10/(AQ4-AO11)","v":0.2857142857142857},{"$f":"IF(AP10=0,0,(AP10*((LOG(AP10))/LOG(2))))","v":-0.51638712058788683},null,{"$f":"N10","v":122},{"$f":"COUNTIF(L146:L173,AS10)","v":8},{"$f":"AT10/(AV4-AT11)","v":0.2857142857142857},{"$f":"IF(AU10=0,0,(AU10*((LOG(AU10))/LOG(2))))","v":-0.51638712058788683}]
[21,543,22,550,24,556,null,null,null,null,0,222,null,211,{"$f":"COUNTIF($L$7:$L$500,N11)","v":0},{"$f":"O11/$Q$4","v":0},{"$f":"IF(P11=0,0,(P11*((LOG(P11))/LOG(2))))","v":0},null,null,{"$f":"N11","v":211},{"$f":"COUNTIF(L7:L34,T11)","v":0},null,null,null,{"$f":"N11","v":211},{"$f":"COUNTIF(L35:L62,Y11)","v":0},null,null,null,{"$f":"N11","v":211},{"$f":"COUNTIF(L63:L89,AD11)","v":0},null,null,null,{"$f":"N11","v":211},{"$f":"COUNTIF(L90:L117,AI11)","v":0},null,null,null,{"$f":"N11","v":211},{"$f":"COUNTIF(L118:L145,AN11)","v":0},null,null,null,{"$f":"N11","v":211},{"$f":"COUNTIF(L146:L173,AS11)","v":0}]
[12,651,24,656,24,662,null,null,null,null,0,122,null,212,{"$f":"COUNTIF($L$7:$L$500,N12)","v":1},{"$f":"O12/$Q$4","v":5.9880239520958087E-3},{"$f":"IF(P12=0,0,(P12*((LOG(P12))/LOG(2))))","v":-4.4213798158527259E-2},null,null,{"$f":"N12","v":212},{"$f":"COUNTIF(L7:L34,T12)","v":0},{"$f":"U12/(W4-U11)","v":0},{"$f":"IF(V12=0,0,(V12*((LOG(V12))/LOG(2))))","v":0},null,{"$f":"N12","v":212},{"$f":"COUNTIF(L35:L62,Y12)","v":0},{"$f":"Z12/(AB4-Z11)","v":0},{"$f":"IF(AA12=0,0,(AA12*((LOG(AA12))/LOG(2))))","v":0},null,{"$f":"N12","v":212},{"$f":"COUNTIF(L63:L89,AD12)","v":0},{"$f":"AE12/(AG4-AE11)","v":0},{"$f":"IF(AF12=0,0,(AF12*((LOG(AF12))/LOG(2))))","v":0},null,{"$f":"N12","v":212},{"$f":"COUNTIF(L90:L117,AI12)","v":0},{"$f":"AJ12/(AL4-AJ11)","v":0},{"$f":"IF(AK12=0,0,(AK12*((LOG(AK12))/LOG(2))))","v":0},null,{"$f":"N12","v":212},{"$f":"COUNTIF(L118:L145,AN12)","v":1},{"$f":"AO12/(AQ4-AO11)","v":3.5714285714285712E-2},{"$f":"IF(AP12=0,0,(AP12*((LOG(AP12))/LOG(2))))","v":-0.17169124721634299},null,{"$f":"N12","v":212},{"$f":"COUNTIF(L146:L173,AS12)","v":0},{"$f":"AT12/(AV4-AT11)","v":0},{"$f":"IF(AU12=0,0,(AU12*((LOG(AU12))/LOG(2))))","v":0}]
[21,760,22,772,24,784,null,null,null,null,0,222,null,221,{"$f":"COUNTIF($L$7:$L$500,N13)","v":1},{"$f":"O13/$Q$4","v":5.9880239520958087E-3},{"$f":"IF(P13=0,0,(P13*((LOG(P13))/LOG(2))))","v":-4.4213798158527259E-2},null,null,{"$f":"N13","v":221},{"$f":"COUNTIF(L7:L34,T13)","v":0},{"$f":"U13/(W4-U11)","v":0},{"$f":"IF(V13=0,0,(V13*((LOG(V13))/LOG(2))))","v":0},null,{"$f":"N13","v":221},{"$f":"COUNTIF(L35:L62,Y13)","v":0},{"$f":"Z13/(AB4-Z11)","v":0},{"$f":"IF(AA13=0,0,(AA13*((LOG(AA13))/LOG(2))))","v":0},null,{"$f":"N13","v":221},{"$f":"COUNTIF(L63:L89,AD13)","v":0},{"$f":"AE13/(AG4-AE11)","v":0},{"$f":"IF(AF13=0,0,(AF13*((LOG(AF13))/LOG(2))))","v":0},null,{"$f":"N13","v":221},{"$f":"COUNTIF(L90:L117,AI13)","v":0},{"$f":"AJ13/(AL4-AJ11)","v":0},{"$f":"IF(AK13=0,0,(AK13*((LOG(AK13))/LOG(2))))","v":0},null,{"$f":"N13","v":221},{"$f":"COUNTIF(L118:L145,AN13)","v":0},{"$f":"AO13/(AQ4-AO11)","v":0},{"$f":"IF(AP13=0,0,(AP13*((LOG(AP13))/LOG(2))))","v":0},null,{"$f":"N13","v":221},{"$f":"COUNTIF(L146:L173,AS13)","v":1},{"$f":"AT13/(AV4-AT11)","v":3.5714285714285712E-2},{"$f":"IF(AU13=0,0,(AU13*((LOG(AU13))/LOG(2))))","v":-0.17169124721634299}]
[12,876,24,894,24,900,null,null,null,null,0,122,null,222,{"$f":"COUNTIF($L$7:$L$500,N14)","v":99},{"$f":"O14/$Q$4","v":0.59281437125748504},{"$f":"IF(P14=0,0,(P14*((LOG(P14))/LOG(2))))","v":-0.44718814112005878},null,null,{"$f":"N14","v":222},{"$f":"COUNTIF(L7:L34,T14)","v":15},{"$f":"U14/(W4-U11)","v":0.5357142857142857},{"$f":"IF(V14=0,0,(V14*((LOG(V14))/LOG(2))))","v":-0.48239160345486726},null,{"$f":"N14","v":222},{"$f":"COUNTIF(L35:L62,Y14)","v":15},{"$f":"Z14/(AB4-Z11)","v":0.5357142857142857},{"$f":"IF(AA14=0,0,(AA14*((LOG(AA14))/LOG(2))))","v":-0.48239160345486726},null,{"$f":"N14","v":222},{"$f":"COUNTIF(L63:L89,AD14)","v":20},{"$f":"AE14/(AG4-AE11)","v":0.7407407407407407},{"$f":"IF(AF14=0,0,(AF14*((LOG(AF14))/LOG(2))))","v":-0.32071067205637499},null,{"$f":"N14","v":222},{"$f":"COUNTIF(L90:L117,AI14)","v":12},{"$f":"AJ14/(AL4-AJ11)","v":0.42857142857142855},{"$f":"IF(AK14=0,0,(AK14*((LOG(AK14))/LOG(2))))","v":-0.52388246628704915},null,{"$f":"N14","v":222},{"$f":"COUNTIF(L118:L145,AN14)","v":18},{"$f":"AO14/(AQ4-AO11)","v":0.6428571428571429},{"$f":"IF(AP14=0,0,(AP14*((LOG(AP14))/LOG(2))))","v":-0.40977637753840174},null,{"$f":"N14","v":222},{"$f":"COUNTIF(L146:L173,AS14)","v":19},{"$f":"AT14/(AV4-AT11)","v":0.6785714285714286},{"$f":"IF(AU14=0,0,(AU14*((LOG(AU14))/LOG(2))))","v":-0.37961145584522688}]
[21,1254,22,1260,24,1270,null,null,null,null,0,222,null,null,null,{"$f":"SUM(P7:P14)","v":1},{"$f":"-SUM(Q7:Q14)","v":1.1868483609268901},null,null,null,null,{"$f":"SUM(V7:V14)","v":1},{"$f":"-SUM(W7:W14)","v":1.3553153956598167},null,null,null,{"$f":"SUM(AA7:AA14)","v":1},{"$f":"-SUM(AB7:AB14)","v":0.99631651955896205},null,null,null,{"$f":"SUM(AF7:AF14)","v":1},{"$f":"-SUM(AG7:AG14)","v":0.82562652615789545},null,null,null,{"$f":"SUM(AK7:AK14)","v":1},{"$f":"-SUM(AL7:AL14)","v":0.98522813603425152},null,null,null,{"$f":"SUM(AP7:AP14)","v":1},{"$f":"-SUM(AQ7:AQ14)","v":1.2695459925589745},null,null,null,{"$f":"SUM(AU7:AU14)","v":1},{"$f":"-SUM(AV7:AV14)","v":1.0676898236494567}]
[12,1479,24,1493,24,1498,null,null,null,null,0,122,null,null,null,"U=",{"$f":"Q15/(LOG(Q4)/LOG(2))","v":0.1607388803661331},null,null,null,null,"U1=",{"$f":"W15/(LOG(W4)/LOG(2))","v":0.28192538675295603},null,null,null,"U2=",{"$f":"AB15/(LOG(AB4)/LOG(2))","v":0.20724837997451767},null,null,null,"U3=",{"$f":"AG15/(LOG(AG4)/LOG(2))","v":0.17363744689695315},null,null,null,"U4=",{"$f":"AL15/(LOG(AL4)/LOG(2))","v":0.20494183433674218},null,null,null,"U5=",{"$f":"AQ15/(LOG(AQ4)/LOG(2))","v":0.26408409887397999},null,null,null,"U6=",{"$f":"AV15/(LOG(AV4)/LOG(2))","v":0.22209506910974511}]
[21,1600,22,1605,24,1618,null,null,null,null,0,222]
[21,1724,22,1729,24,1734,null,null,null,null,0,222]
[21,1839,22,1846,24,1857,null,null,null,null,0,222,null,"Total Target Seq"]
[21,1966,22,1974,24,1981,null,null,null,null,0,222,null,{"$f":"COUNTIF(L7:L173,G3)","v":0},null,28,28,27,28,28,28]
[12,2173,24,2182,24,2188,null,null,null,null,0,122,null,null,null,"% of reinforcement given in 6 equal intervals based on number of trials "]
[12,2290,13,2313,24,2324,null,null,null,null,0,112,null,null,null,"%_1","%_2","%_3","%_4","%_5","%_6"]
[12,2418,24,2437,24,2444,null,null,null,null,0,122,null,null,"target sequence",{"$f":"$G$3","v":211},{"$f":"$G$3","v":211},{"$f":"$G$3","v":211},{"$f":"$G$3","v":211},{"$f":"$G$3","v":211},{"$f":"$G$3","v":211}]
[12,2536,24,2543,24,2547,null,null,null,null,0,122,null,null,"total reinforcement",{"$f":"U11","v":0},{"$f":"Z11","v":0},{"$f":"AE11","v":0},{"$f":"AJ11","v":0},{"$f":"AO11","v":0},{"$f":"AT11","v":0}]
[21,2660,22,2667,24,2673,null,null,null,null,0,222,null,null,"% target"]
[12,2772,24,2775,13,2779,null,null,null,null,0,121,null,null,"CCRF"]
[12,2870,24,2878,24,2884,null,null,null,null,0,122,null,null,"% CCRf"]
[21,2994,22,3007,24,3032,null,null,null,null,0,222,null,null,"average response rate",{"$f":"F34/P20","v":142.14285714285714},{"$f":"(F62-F34)/Q20","v":139.42857142857142},{"$f":"(F89-F62)/R20","v":138.03703703703704},{"$f":"(F117-F89)/S20","v":143.53571428571428},{"$f":"(F145-F117)/T20","v":144.53571428571428},{"$f":"(F173-F145)/U20","v":152.85714285714286}]
[21,3316,22,3322,24,3332,null,null,null,null,0,222]
[12,3460,24,3474,24,3500,null,null,null,null,0,122]
[21,3608,22,3611,24,3616,null,null,null,null,0,222]
[21,3724,22,3728,24,3734,null,null,null,null,0,222]
[12,3829,24,3833,24,3837,null,null,null,null,0,122]
[12,3956,24,3973,24,3980,null,null,null,null,0,122]
[12,4193,24,4206,24,4212,null,null,null,null,0,122]
[12,4326,24,4337,24,4356,null,null,null,null,0,122]
[21,4462,22,4470,24,4476,null,null,null,null,0,222]
[21,4576,22,4586,24,4592,null,null,null,null,0,222]
[21,4751,22,4762,24,4768,null,null,null,null,0,222]
[12,4872,24,4877,24,4883,null,null,null,null,0,122]
[12,4977,24,4995,24,5000,null,null,null,null,0,122]
[12,5094,24,5109,24,5114,null,null,null,null,0,122]
[21,5214,22,5220,24,5231,null,null,null,null,0,222]
[21,5500,22,5510,24,5521,null,null,null,null,0,222]
[21,5645,22,5647,24,5654,null,null,null,null,0,222]
[21,5756,22,5763,24,5768,null,null,null,null,0,222]
[12,5861,24,5878,24,5886,null,null,null,null,0,122]
[21,5991,22,5995,24,6005,null,null,null,null,0,222]
[12,6181,24,6208,24,6214,null,null,null,null,0,122]
[12,6311,24,6324,24,6335,null,null,null,null,0,122]
[12,6437,24,6456,24,6464,null,null,null,null,0,122]
[12,6559,24,6565,24,6573,null,null,null,null,0,122]
[12,6669,24,6673,24,6682,null,null,null,null,0,122]
[12,6776,24,6781,24,6786,null,null,null,null,0,122]
[21,6893,22,6897,24,6903,null,null,null,null,0,222]
[21,7168,22,7174,24,7181,null,null,null,null,0,222]
[21,7283,22,7297,24,7302,null,null,null,null,0,222]
[21,7407,22,7413,24,7417,null,null,null,null,0,222]
[21,7522,22,7532,24,7539,null,null,null,null,0,222]
[12,7631,24,7641,24,7647,null,null,null,null,0,122]
[21,7752,22,7760,24,7765,null,null,null,null,0,222]
[21,7868,22,7873,24,7884,null,null,null,null,0,222]
[21,8032,22,8042,24,8051,null,null,null,null,0,222]
[21,8151,22,8154,24,8158,null,null,null,null,0,222]
[21,8257,22,8262,24,8267,null,null,null,null,0,222]
[12,8361,24,8368,24,8371,null,null,null,null,0,122]
[21,8477,22,8486,24,8492,null,null,null,null,0,222]
[21,8593,22,8604,24,8610,null,null,null,null,0,222]
[21,8716,22,8726,24,8738,null,null,null,null,0,222]
[21,8844,22,8858,24,8863,null,null,null,null,0,222]
[21,8966,22,8973,24,8979,null,null,null,null,0,222]
[21,9285,22,9295,24,9309,null,null,null,null,0,222]
[21,9410,22,9422,24,9429,null,null,null,null,0,222]
[21,9529,22,9535,24,9539,null,null,null,null,0,222]
[21,9641,22,9647,24,9650,null,null,null,null,0,222]
[12,9744,24,9760,24,9766,null,null,null,null,0,122]
[21,9867,22,9871,24,9876,null,null,null,null,0,222]
[21,9981,22,9990,24,9997,null,null,null,null,0,222]
[12,10099,24,10103,24,10108,null,null,null,null,0,122]
[21,10215,22,10221,24,10227,null,null,null,null,0,222]
[12,10326,24,10333,24,10338,null,null,null,null,0,122]
[12,10429,24,10448,24,10454,null,null,null,null,0,122]
[12,10682,24,10694,24,10700,null,null,null,null,0,122]
[21,10853,22,10867,24,10873,null,null,null,null,0,222]
[12,10981,24,10992,24,10998,null,null,null,null,0,122]
[21,11105,22,11110,24,11123,null,null,null,null,0,222]
[21,11309,22,11315,24,11328,null,null,null,null,0,222]
[21,11461,22,11477,24,11483,null,null,null,null,0,222]
[21,11589,22,11605,24,11611,null,null,null,null,0,222]
[12,11840,24,11851,24,11863,null,null,null,null,0,122]
[12,11964,24,11981,24,11987,null,null,null,null,0,122]
[21,12093,22,12097,24,12103,null,null,null,null,0,222]
[21,12206,22,12215,24,12221,null,null,null,null,0,222]
[12,12325,24,12327,24,12333,null,null,null,null,0,122]
[12,12518,24,12530,24,12540,null,null,null,null,0,122]
[21,12648,22,12653,24,12659,null,null,null,null,0,222]
[12,12755,24,12762,24,12767,null,null,null,null,0,122]
[12,12863,24,12871,24,12876,null,null,null,null,0,122]
[21,12979,22,12985,24,12990,null,null,null,null,0,222]
[12,13087,24,13090,24,13095,null,null,null,null,0,122]
[12,13187,24,13194,24,13201,null,null,null,null,0,122]
[12,13295,24,13301,24,13307,null,null,null,null,0,122]
[12,13412,24,13414,24,13420,null,null,null,null,0,122]
[12,13521,24,13534,24,13547,null,null,null,null,0,122]
[12,13641,24,13647,24,13652,null,null,null,null,0,122]
[12,13748,24,13755,24,13760,null,null,null,null,0,122]
[21,14041,22,14061,24,14073,null,null,null,null,0,222]
[21,14179,22,14183,24,14187,null,null,null,null,0,222]
[12,14459,24,14484,24,14494,null,null,null,null,0,122]
[12,14586,24,14600,24,14603,null,null,null,null,0,122]
[12,14702,24,14706,24,14710,null,null,null,null,0,122]
[21,14810,22,14822,24,14827,null,null,null,null,0,222]
[21,14929,22,14935,24,14939,null,null,null,null,0,222]
[21,15260,22,15269,24,15276,null,null,null,null,0,222]
[21,15381,22,15390,24,15395,null,null,null,null,0,222]
[21,15495,22,15505,24,15511,null,null,null,null,0,222]
[21,15612,22,15619,24,15630,null,null,null,null,0,222]
[21,15734,22,15743,24,15747,null,null,null,null,0,222]
[21,15850,22,15856,24,15861,null,null,null,null,0,222]
[21,15965,22,15969,24,15976,null,null,null,null,0,222]
[21,16080,22,16084,24,16088,null,null,null,null,0,222]
[21,16189,22,16194,24,16200,null,null,null,null,0,222]
[12,16294,24,16302,24,16307,null,null,null,null,0,122]
[21,16543,22,16547,24,16561,null,null,null,null,0,222]
[12,16658,24,16663,13,16668,null,null,null,null,0,121]
[21,16766,22,16774,24,16780,null,null,null,null,0,222]
[21,16887,22,16892,24,16897,null,null,null,null,0,222]
[12,16990,24,17000,24,17009,null,null,null,null,0,122]
[12,17103,24,17108,24,17113,null,null,null,null,0,122]
[21,17215,22,17220,24,17227,null,null,null,null,0,222]
[21,17329,22,17333,24,17339,null,null,null,null,0,222]
[21,17444,22,17456,24,17462,null,null,null,null,0,222]
[21,17562,22,17575,24,17582,null,null,null,null,0,222]
[21,17685,22,17696,24,17706,null,null,null,null,0,222]
[21,17805,22,17807,24,17819,null,null,null,null,0,222]
[21,18166,22,18180,24,18190,null,null,null,null,0,222]
[12,18319,24,18326,24,18332,null,null,null,null,0,122]
[21,18440,11,18447,22,18455,null,null,null,null,0,212]
[12,18550,24,18555,24,18561,null,null,null,null,0,122]
[12,18798,24,18809,24,18823,null,null,null,null,0,122]
[21,19050,22,19054,24,19060,null,null,null,null,0,222]
[12,19155,24,19159,24,19166,null,null,null,null,0,122]
[12,19258,24,19274,24,19282,null,null,null,null,0,122]
[21,19384,22,19393,24,19397,null,null,null,null,0,222]
[21,19660,22,19671,24,19677,null,null,null,null,0,222]
[12,19837,24,19842,24,19849,null,null,null,null,0,122]
[21,19953,22,19967,24,19974,null,null,null,null,0,222]
[12,20068,24,20079,24,20089,null,null,null,null,0,122]
[21,20379,22,20393,24,20398,null,null,null,null,0,222]
[21,20550,22,20553,24,20560,null,null,null,null,0,222]
[12,20671,24,20677,24,20690,null,null,null,null,0,122]
[21,20787,22,20802,24,20809,null,null,null,null,0,222]
[12,20904,24,20911,24,20921,null,null,null,null,0,122]
[21,21020,22,21029,24,21035,null,null,null,null,0,222]
[21,21222,22,21234,24,21242,null,null,null,null,0,222]
[21,21377,22,21384,24,21421,null,null,null,null,0,222]
[21,21552,22,21560,24,21565,null,null,null,null,0,222]
[21,21671,22,21676,24,21681,null,null,null,null,0,222]
[21,21785,22,21807,24,21816,null,null,null,null,0,222]
[21,21957,22,21965,24,21971,null,null,null,null,0,222]
[12,22067,24,22075,24,22085,null,null,null,null,0,122]
[21,22188,22,22196,24,22201,null,null,null,null,0,222]
[21,22306,22,22323,24,22329,null,null,null,null,0,222]
[12,22423,24,22430,24,22434,null,null,null,null,0,122]
[12,22529,24,22542,24,22553,null,null,null,null,0,122]
[21,22774,22,22780,24,22791,null,null,null,null,0,222]
[12,22890,24,22893,24,22900,null,null,null,null,0,122]
[21,23215,22,23218,24,23234,null,null,null,null,0,222]
[21,23335,22,23343,24,23348,null,null,null,null,0,222]
[21,23448,22,23456,24,23465,null,null,null,null,0,222]
[21,23721,22,23725,24,23735,null,null,null,null,0,222]
[21,23832,22,23840,24,23845,null,null,null,null,0,222]
[21,23950,22,23954,13,23957,null,null,null,null,null,221]

{"sheet":"!M207A10.Gus","index":23,"n_rows":164,"n_cols":48,"rows_kept":164,"cut":false,"hidden":false,"merged":[[4,39,4,42],[5,39,5,40],[4,44,4,47],[5,44,5,45],[4,24,4,27],[5,24,5,25],[4,29,4,32],[5,29,5,30],[4,34,4,37],[5,34,5,35],[1,1,1,2],[5,13,5,14],[18,13,18,14],[19,13,19,14],[4,19,4,22],[5,19,5,20]]}
["Report for:!M207A10.Gus"]
["Date:","<date>"]
["Hen:","<hen>",null,null,null,"Correct Sequence",{"$f":"Start!J2","v":211},null,null,null,null,null,null,null,null,"Total Sequences in Data",{"$f":"4994-COUNTBLANK(L7:L5000)","v":158},null,null,null,null,"Total Sequences in Block Data",{"$f":"COUNTA(L7:L32)","v":26},null,null,null,"Total Sequences in Block Data",{"$f":"COUNTA(L33:L59)","v":27},null,null,null,"Total Sequences in Block Data",{"$f":"COUNTA(L60:L85)","v":26},null,null,null,"Total Sequences in Block Data",{"$f":"COUNTA(L86:L111)","v":26},null,null,null,"Total Sequences in Block Data",{"$f":"COUNTA(L112:L138)","v":27},null,null,null,"Total Sequences in Block Data",{"$f":"COUNTA(L139:L164)","v":26}]
[null,null,null,null,null,null,null,null,null,null,null,null,null,null,null,"Total Sequences in Summary",{"$f":"SUM(O7:O14)","v":158},null,null,null,null,"Total Sequences in Block Summary",{"$f":"SUM(U7:U14)","v":26},null,null,null,"Total Sequences in Block Summary",{"$f":"SUM(Z7:Z14)","v":27},null,null,null,"Total Sequences in Block Summary",{"$f":"SUM(AE7:AE14)","v":26},null,null,null,"Total Sequences in Block Summary",{"$f":"SUM(AJ7:AJ14)","v":26},null,null,null,"Total Sequences in Block Summary",{"$f":"SUM(AO7:AO14)","v":27},null,null,null,"Total Sequences in Block Summary",{"$f":"SUM(AT7:AT14)","v":26}]
[null,null,null,null,null,null,null,null,null,null,null,null,null,null,null,null,null,null,null,"Block 1",null,null,null,null,"Block 2",null,null,null,null,"Block 3",null,null,null,null,"Block 4",null,null,null,null,"Block 5",null,null,null,null,"Block 6"]
["Sequence\nComponent\n1","Time\n1","Sequence\nComponent\n2","Time\n2","Sequence\nComponent\n3","Time\n3","Sequence\nComponent\n4","Time\n4","Sequence\nComponent\n5","Time\n5","Correct?\n0=No 1=Yes","Sequence",null,"Frequency",null,"Relative Frequency","Variability",null,null,"Frequency",null,"Relative Frequency","Variability",null,"Frequency",null,"Relative Frequency","Variability",null,"Frequency",null,"Relative Frequency","Variability",null,"Frequency",null,"Relative Frequency","Variability",null,"Frequency",null,"Relative Frequency","Variability",null,"Frequency",null,"Relative Frequency","Variability"]
[21,158,22,166,24,178,null,null,null,null,0,222,null,111,{"$f":"COUNTIF($L$7:$L$500,N7)","v":1},{"$f":"O7/$Q$4","v":6.3291139240506328E-3},{"$f":"IF(P7=0,0,(P7*((LOG(P7))/LOG(2))))","v":-4.6226460431500652E-2},null,null,{"$f":"N7","v":111},{"$f":"COUNTIF(L7:L32,T7)","v":0},{"$f":"U7/(W4-U11)","v":0},{"$f":"IF(V7=0,0,(V7*((LOG(V7))/LOG(2))))","v":0},null,{"$f":"N7","v":111},{"$f":"COUNTIF(L33:L59,Y7)","v":0},{"$f":"Z7/(AB4-Z11)","v":0},{"$f":"IF(AA7=0,0,(AA7*((LOG(AA7))/LOG(2))))","v":0},null,{"$f":"N7","v":111},{"$f":"COUNTIF(L60:L85,AD7)","v":1},{"$f":"AE7/(AG4-AE11)","v":3.8461538461538464E-2},{"$f":"IF(AF7=0,0,(AF7*((LOG(AF7))/LOG(2))))","v":-0.18078614300542661},null,{"$f":"N7","v":111},{"$f":"COUNTIF(L86:L111,AI7)","v":0},{"$f":"AJ7/(AL4-AJ11)","v":0},{"$f":"IF(AK7=0,0,(AK7*((LOG(AK7))/LOG(2))))","v":0},null,{"$f":"N7","v":111},{"$f":"COUNTIF(L112:L138,AN7)","v":0},{"$f":"AO7/(AQ4-AO11)","v":0},{"$f":"IF(AP7=0,0,(AP7*((LOG(AP7))/LOG(2))))","v":0},null,{"$f":"N7","v":111},{"$f":"COUNTIF(L139:L164,AS7)","v":0},{"$f":"AT7/(AV4-AT11)","v":0},{"$f":"IF(AU7=0,0,(AU7*((LOG(AU7))/LOG(2))))","v":0}]
[21,291,22,298,24,302,null,null,null,null,0,222,null,112,{"$f":"COUNTIF($L$7:$L$500,N8)","v":6},{"$f":"O8/$Q$4","v":3.7974683544303799E-2},{"$f":"IF(P8=0,0,(P8*((LOG(P8))/LOG(2))))","v":-0.17919562965022584},null,null,{"$f":"N8","v":112},{"$f":"COUNTIF(L7:L32,T8)","v":4},{"$f":"U8/(W4-U11)","v":0.15384615384615385},{"$f":"IF(V8=0,0,(V8*((LOG(V8))/LOG(2))))","v":-0.4154522643293988},null,{"$f":"N8","v":112},{"$f":"COUNTIF(L33:L59,Y8)","v":0},{"$f":"Z8/(AB4-Z11)","v":0},{"$f":"IF(AA8=0,0,(AA8*((LOG(AA8))/LOG(2))))","v":0},null,{"$f":"N8","v":112},{"$f":"COUNTIF(L60:L85,AD8)","v":0},{"$f":"AE8/(AG4-AE11)","v":0},{"$f":"IF(AF8=0,0,(AF8*((LOG(AF8))/LOG(2))))","v":0},null,{"$f":"N8","v":112},{"$f":"COUNTIF(L86:L111,AI8)","v":1},{"$f":"AJ8/(AL4-AJ11)","v":3.8461538461538464E-2},{"$f":"IF(AK8=0,0,(AK8*((LOG(AK8))/LOG(2))))","v":-0.18078614300542661},null,{"$f":"N8","v":112},{"$f":"COUNTIF(L112:L138,AN8)","v":1},{"$f":"AO8/(AQ4-AO11)","v":3.7037037037037035E-2},{"$f":"IF(AP8=0,0,(AP8*((LOG(AP8))/LOG(2))))","v":-0.1761069445245729},null,{"$f":"N8","v":112},{"$f":"COUNTIF(L139:L164,AS8)","v":0},{"$f":"AT8/(AV4-AT11)","v":0},{"$f":"IF(AU8=0,0,(AU8*((LOG(AU8))/LOG(2))))","v":0}]
[21,417,22,424,24,434,null,null,null,null,0,222,null,121,{"$f":"COUNTIF($L$7:$L$500,N9)","v":0},{"$f":"O9/$Q$4","v":0},{"$f":"IF(P9=0,0,(P9*((LOG(P9))/LOG(2))))","v":0},null,null,{"$f":"N9","v":121},{"$f":"COUNTIF(L7:L32,T9)","v":0},{"$f":"U9/(W4-U11)","v":0},{"$f":"IF(V9=0,0,(V9*((LOG(V9))/LOG(2))))","v":0},null,{"$f":"N9","v":121},{"$f":"COUNTIF(L33:L59,Y9)","v":0},{"$f":"Z9/(AB4-Z11)","v":0},{"$f":"IF(AA9=0,0,(AA9*((LOG(AA9))/LOG(2))))","v":0},null,{"$f":"N9","v":121},{"$f":"COUNTIF(L60:L85,AD9)","v":0},{"$f":"AE9/(AG4-AE11)","v":0},{"$f":"IF(AF9=0,0,(AF9*((LOG(AF9))/LOG(2))))","v":0},null,{"$f":"N9","v":121},{"$f":"COUNTIF(L86:L111,AI9)","v":0},{"$f":"AJ9/(AL4-AJ11)","v":0},{"$f":"IF(AK9=0,0,(AK9*((LOG(AK9))/LOG(2))))","v":0},null,{"$f":"N9","v":121},{"$f":"COUNTIF(L112:L138,AN9)","v":0},{"$f":"AO9/(AQ4-AO11)","v":0},{"$f":"IF(AP9=0,0,(AP9*((LOG(AP9))/LOG(2))))","v":0},null,{"$f":"N9","v":121},{"$f":"COUNTIF(L139:L164,AS9)","v":0},{"$f":"AT9/(AV4-AT11)","v":0},{"$f":"IF(AU9=0,0,(AU9*((LOG(AU9))/LOG(2))))","v":0}]
[12,527,13,530,24,547,null,null,null,null,0,112,null,122,{"$f":"COUNTIF($L$7:$L$500,N10)","v":49},{"$f":"O10/$Q$4","v":0.310126582278481},{"$f":"IF(P10=0,0,(P10*((LOG(P10))/LOG(2))))","v":-0.52382578670273949},null,null,{"$f":"N10","v":122},{"$f":"COUNTIF(L7:L32,T10)","v":7},{"$f":"U10/(W4-U11)","v":0.26923076923076922},{"$f":"IF(V10=0,0,(V10*((LOG(V10))/LOG(2))))","v":-0.50967667586863141},null,{"$f":"N10","v":122},{"$f":"COUNTIF(L33:L59,Y10)","v":7},{"$f":"Z10/(AB4-Z11)","v":0.25925925925925924},{"$f":"IF(AA10=0,0,(AA10*((LOG(AA10))/LOG(2))))","v":-0.5049158541015204},null,{"$f":"N10","v":122},{"$f":"COUNTIF(L60:L85,AD10)","v":11},{"$f":"AE10/(AG4-AE11)","v":0.42307692307692307},{"$f":"IF(AF10=0,0,(AF10*((LOG(AF10))/LOG(2))))","v":-0.52504188825160547},null,{"$f":"N10","v":122},{"$f":"COUNTIF(L86:L111,AI10)","v":7},{"$f":"AJ10/(AL4-AJ11)","v":0.26923076923076922},{"$f":"IF(AK10=0,0,(AK10*((LOG(AK10))/LOG(2))))","v":-0.50967667586863141},null,{"$f":"N10","v":122},{"$f":"COUNTIF(L112:L138,AN10)","v":9},{"$f":"AO10/(AQ4-AO11)","v":0.33333333333333331},{"$f":"IF(AP10=0,0,(AP10*((LOG(AP10))/LOG(2))))","v":-0.52832083357371862},null,{"$f":"N10","v":122},{"$f":"COUNTIF(L139:L164,AS10)","v":8},{"$f":"AT10/(AV4-AT11)","v":0.30769230769230771},{"$f":"IF(AU10=0,0,(AU10*((LOG(AU10))/LOG(2))))","v":-0.52321222096648989}]
[12,642,13,648,24,666,null,null,null,null,0,112,null,211,{"$f":"COUNTIF($L$7:$L$500,N11)","v":0},{"$f":"O11/$Q$4","v":0},{"$f":"IF(P11=0,0,(P11*((LOG(P11))/LOG(2))))","v":0},null,null,{"$f":"N11","v":211},{"$f":"COUNTIF(L7:L32,T11)","v":0},null,null,null,{"$f":"N11","v":211},{"$f":"COUNTIF(L33:L59,Y11)","v":0},null,null,null,{"$f":"N11","v":211},{"$f":"COUNTIF(L60:L85,AD11)","v":0},null,null,null,{"$f":"N11","v":211},{"$f":"COUNTIF(L86:L111,AI11)","v":0},null,null,null,{"$f":"N11","v":211},{"$f":"COUNTIF(L112:L138,AN11)","v":0},null,null,null,{"$f":"N11","v":211},{"$f":"COUNTIF(L139:L164,AS11)","v":0}]
[12,834,13,836,24,853,null,null,null,null,0,112,null,212,{"$f":"COUNTIF($L$7:$L$500,N12)","v":0},{"$f":"O12/$Q$4","v":0},{"$f":"IF(P12=0,0,(P12*((LOG(P12))/LOG(2))))","v":0},null,null,{"$f":"N12","v":212},{"$f":"COUNTIF(L7:L32,T12)","v":0},{"$f":"U12/(W4-U11)","v":0},{"$f":"IF(V12=0,0,(V12*((LOG(V12))/LOG(2))))","v":0},null,{"$f":"N12","v":212},{"$f":"COUNTIF(L33:L59,Y12)","v":0},{"$f":"Z12/(AB4-Z11)","v":0},{"$f":"IF(AA12=0,0,(AA12*((LOG(AA12))/LOG(2))))","v":0},null,{"$f":"N12","v":212},{"$f":"COUNTIF(L60:L85,AD12)","v":0},{"$f":"AE12/(AG4-AE11)","v":0},{"$f":"IF(AF12=0,0,(AF12*((LOG(AF12))/LOG(2))))","v":0},null,{"$f":"N12","v":212},{"$f":"COUNTIF(L86:L111,AI12)","v":0},{"$f":"AJ12/(AL4-AJ11)","v":0},{"$f":"IF(AK12=0,0,(AK12*((LOG(AK12))/LOG(2))))","v":0},null,{"$f":"N12","v":212},{"$f":"COUNTIF(L112:L138,AN12)","v":0},{"$f":"AO12/(AQ4-AO11)","v":0},{"$f":"IF(AP12=0,0,(AP12*((LOG(AP12))/LOG(2))))","v":0},null,{"$f":"N12","v":212},{"$f":"COUNTIF(L139:L164,AS12)","v":0},{"$f":"AT12/(AV4-AT11)","v":0},{"$f":"IF(AU12=0,0,(AU12*((LOG(AU12))/LOG(2))))","v":0}]
[12,1008,13,1013,24,1022,null,null,null,null,0,112,null,221,{"$f":"COUNTIF($L$7:$L$500,N13)","v":0},{"$f":"O13/$Q$4","v":0},{"$f":"IF(P13=0,0,(P13*((LOG(P13))/LOG(2))))","v":0},null,null,{"$f":"N13","v":221},{"$f":"COUNTIF(L7:L32,T13)","v":0},{"$f":"U13/(W4-U11)","v":0},{"$f":"IF(V13=0,0,(V13*((LOG(V13))/LOG(2))))","v":0},null,{"$f":"N13","v":221},{"$f":"COUNTIF(L33:L59,Y13)","v":0},{"$f":"Z13/(AB4-Z11)","v":0},{"$f":"IF(AA13=0,0,(AA13*((LOG(AA13))/LOG(2))))","v":0},null,{"$f":"N13","v":221},{"$f":"COUNTIF(L60:L85,AD13)","v":0},{"$f":"AE13/(AG4-AE11)","v":0},{"$f":"IF(AF13=0,0,(AF13*((LOG(AF13))/LOG(2))))","v":0},null,{"$f":"N13","v":221},{"$f":"COUNTIF(L86:L111,AI13)","v":0},{"$f":"AJ13/(AL4-AJ11)","v":0},{"$f":"IF(AK13=0,0,(AK13*((LOG(AK13))/LOG(2))))","v":0},null,{"$f":"N13","v":221},{"$f":"COUNTIF(L112:L138,AN13)","v":0},{"$f":"AO13/(AQ4-AO11)","v":0},{"$f":"IF(AP13=0,0,(AP13*((LOG(AP13))/LOG(2))))","v":0},null,{"$f":"N13","v":221},{"$f":"COUNTIF(L139:L164,AS13)","v":0},{"$f":"AT13/(AV4-AT11)","v":0},{"$f":"IF(AU13=0,0,(AU13*((LOG(AU13))/LOG(2))))","v":0}]
[12,1123,24,1139,24,1151,null,null,null,null,0,122,null,222,{"$f":"COUNTIF($L$7:$L$500,N14)","v":102},{"$f":"O14/$Q$4","v":0.64556962025316456},{"$f":"IF(P14=0,0,(P14*((LOG(P14))/LOG(2))))","v":-0.40758386982893641},null,null,{"$f":"N14","v":222},{"$f":"COUNTIF(L7:L32,T14)","v":15},{"$f":"U14/(W4-U11)","v":0.57692307692307687},{"$f":"IF(V14=0,0,(V14*((LOG(V14))/LOG(2))))","v":-0.45781680146110021},null,{"$f":"N14","v":222},{"$f":"COUNTIF(L33:L59,Y14)","v":20},{"$f":"Z14/(AB4-Z11)","v":0.7407407407407407},{"$f":"IF(AA14=0,0,(AA14*((LOG(AA14))/LOG(2))))","v":-0.32071067205637499},null,{"$f":"N14","v":222},{"$f":"COUNTIF(L60:L85,AD14)","v":14},{"$f":"AE14/(AG4-AE11)","v":0.53846153846153844},{"$f":"IF(AF14=0,0,(AF14*((LOG(AF14))/LOG(2))))","v":-0.48089181327572433},null,{"$f":"N14","v":222},{"$f":"COUNTIF(L86:L111,AI14)","v":18},{"$f":"AJ14/(AL4-AJ11)","v":0.69230769230769229},{"$f":"IF(AK14=0,0,(AK14*((LOG(AK14))/LOG(2))))","v":-0.36727941925300139},null,{"$f":"N14","v":222},{"$f":"COUNTIF(L112:L138,AN14)","v":17},{"$f":"AO14/(AQ4-AO11)","v":0.62962962962962965},{"$f":"IF(AP14=0,0,(AP14*((LOG(AP14))/LOG(2))))","v":-0.42023034205641457},null,{"$f":"N14","v":222},{"$f":"COUNTIF(L139:L164,AS14)","v":18},{"$f":"AT14/(AV4-AT11)","v":0.69230769230769229},{"$f":"IF(AU14=0,0,(AU14*((LOG(AU14))/LOG(2))))","v":-0.36727941925300139}]
[21,1257,22,1267,24,1274,null,null,null,null,0,222,null,null,null,{"$f":"SUM(P7:P14)","v":1},{"$f":"-SUM(Q7:Q14)","v":1.1568317466134024},null,null,null,null,{"$f":"SUM(V7:V14)","v":1},{"$f":"-SUM(W7:W14)","v":1.3829457416591304},null,null,null,{"$f":"SUM(AA7:AA14)","v":1},{"$f":"-SUM(AB7:AB14)","v":0.82562652615789545},null,null,null,{"$f":"SUM(AF7:AF14)","v":1},{"$f":"-SUM(AG7:AG14)","v":1.1867198445327565},null,null,null,{"$f":"SUM(AK7:AK14)","v":1},{"$f":"-SUM(AL7:AL14)","v":1.0577422381270594},null,null,null,{"$f":"SUM(AP7:AP14)","v":1},{"$f":"-SUM(AQ7:AQ14)","v":1.1246581201547061},null,null,null,{"$f":"SUM(AU7:AU14)","v":1},{"$f":"-SUM(AV7:AV14)","v":0.89049164021949134}]
[21,1384,22,1389,24,1394,null,null,null,null,0,222,null,null,null,"U=",{"$f":"Q15/(LOG(Q4)/LOG(2))","v":0.15838807139742353},null,null,null,null,"U1=",{"$f":"W15/(LOG(W4)/LOG(2))","v":0.2942162488164089},null,null,null,"U2=",{"$f":"AB15/(LOG(AB4)/LOG(2))","v":0.17363744689695315},null,null,null,"U3=",{"$f":"AG15/(LOG(AG4)/LOG(2))","v":0.2524699635978046},null,null,null,"U4=",{"$f":"AL15/(LOG(AL4)/LOG(2))","v":0.2250304868382336},null,null,null,"U5=",{"$f":"AQ15/(LOG(AQ4)/LOG(2))","v":0.23652675686711577},null,null,null,"U6=",{"$f":"AV15/(LOG(AV4)/LOG(2))","v":0.1894485821789581}]
[21,1501,22,1511,24,1518,null,null,null,null,0,222]
[21,1626,22,1632,24,1637,null,null,null,null,0,222]
[12,1729,24,1740,24,1747,null,null,null,null,0,122,null,"Total Target Seq"]
[12,1842,24,1860,24,1867,null,null,null,null,0,122,null,{"$f":"COUNTIF(L7:L164,G3)","v":0},null,26,27,26,26,27,26]
[12,2082,24,2091,24,2103,null,null,null,null,0,122,null,null,null,"% of reinforcement given in 6 equal intervals based on number of trials "]
[21,2333,22,2340,24,2347,null,null,null,null,0,222,null,null,null,"%_1","%_2","%_3","%_4","%_5","%_6"]
[12,2448,24,2455,24,2457,null,null,null,null,0,122,null,null,"target sequence",{"$f":"$G$3","v":211},{"$f":"$G$3","v":211},{"$f":"$G$3","v":211},{"$f":"$G$3","v":211},{"$f":"$G$3","v":211},{"$f":"$G$3","v":211}]
[21,2617,22,2623,24,2633,null,null,null,null,0,222,null,null,"total reinforcement",{"$f":"U11","v":0},{"$f":"Z11","v":0},{"$f":"AE11","v":0},{"$f":"AJ11","v":0},{"$f":"AO11","v":0},{"$f":"AT11","v":0}]
[21,2751,22,2764,24,2780,null,null,null,null,0,222,null,null,"% target"]
[21,2889,22,2894,24,2900,null,null,null,null,0,222,null,null,"CCRF"]
[21,3005,22,3008,24,3013,null,null,null,null,0,222,null,null,"% CCRf"]
[12,3136,24,3147,24,3158,null,null,null,null,0,122,null,null,"average response rate",{"$f":"F32/P20","v":141.73076923076923},{"$f":"(F59-F32)/Q20","v":142.07407407407408},{"$f":"(F85-F59)/R20","v":146.69230769230768},{"$f":"(F111-F85)/S20","v":139.19230769230768},{"$f":"(F138-F111)/T20","v":134.85185185185185},{"$f":"(F164-F138)/U20","v":200.73076923076923}]
[21,3321,22,3332,24,3340,null,null,null,null,0,222]
[21,3443,22,3447,24,3455,null,null,null,null,0,222]
[21,3567,22,3575,24,3581,null,null,null,null,0,222]
[12,3677,24,3681,24,3685,null,null,null,null,0,122]
[21,3791,22,3794,24,3799,null,null,null,null,0,222]
[21,3998,22,4004,24,4041,null,null,null,null,0,222]
[21,4202,22,4206,24,4213,null,null,null,null,0,222]
[12,4306,24,4323,24,4330,null,null,null,null,0,122]
[21,4433,22,4435,24,4441,null,null,null,null,0,222]
[21,4541,22,4548,24,4554,null,null,null,null,0,222]
[21,4663,22,4665,24,4671,null,null,null,null,0,222]
[21,4771,22,4779,24,4784,null,null,null,null,0,222]
[12,4940,24,4949,24,4956,null,null,null,null,0,122]
[12,5077,24,5089,24,5095,null,null,null,null,0,122]
[21,5187,22,5201,24,5206,null,null,null,null,0,222]
[21,5309,22,5326,24,5334,null,null,null,null,0,222]
[21,5441,22,5446,24,5451,null,null,null,null,0,222]
[12,5546,24,5550,24,5554,null,null,null,null,0,122]
[21,5658,22,5663,24,5669,null,null,null,null,0,222]
[12,5761,24,5776,24,5784,null,null,null,null,0,122]
[12,5883,24,5890,24,5894,null,null,null,null,0,122]
[21,6123,22,6133,24,6141,null,null,null,null,0,222]
[21,6529,22,6539,24,6546,null,null,null,null,0,222]
[21,6644,22,6651,24,6658,null,null,null,null,0,222]
[12,6758,24,6767,24,6773,null,null,null,null,0,122]
[21,6875,22,6881,24,6890,null,null,null,null,0,222]
[21,6989,22,7000,24,7007,null,null,null,null,0,222]
[21,7111,22,7117,24,7123,null,null,null,null,0,222]
[21,7229,22,7233,24,7240,null,null,null,null,0,222]
[21,7340,22,7344,24,7362,null,null,null,null,0,222]
[21,7491,22,7505,24,7521,null,null,null,null,0,222]
[12,7618,24,7621,24,7626,null,null,null,null,0,122]
[12,7718,13,7723,13,7730,null,null,null,null,0,111]
[12,7833,24,7843,24,7846,null,null,null,null,0,122]
[21,7954,22,7967,24,7973,null,null,null,null,0,222]
[21,8279,22,8283,24,8287,null,null,null,null,0,222]
[12,8461,24,8473,24,8485,null,null,null,null,0,122]
[21,8713,22,8732,24,8747,null,null,null,null,0,222]
[21,8845,22,8850,24,8856,null,null,null,null,0,222]
[12,8950,24,8965,24,8975,null,null,null,null,0,122]
[21,9141,22,9148,24,9174,null,null,null,null,0,222]
[21,9364,22,9367,24,9378,null,null,null,null,0,222]
[21,9513,22,9518,24,9527,null,null,null,null,0,222]
[12,9664,24,9675,24,9680,null,null,null,null,0,122]
[21,9785,22,9800,24,9808,null,null,null,null,0,222]
[12,9902,24,9908,24,9915,null,null,null,null,0,122]
[12,10061,24,10072,24,10081,null,null,null,null,0,122]
[12,10207,24,10218,24,10221,null,null,null,null,0,122]
[21,10329,22,10351,24,10358,null,null,null,null,0,222]
[21,10465,22,10475,24,10480,null,null,null,null,0,222]
[21,10583,22,10587,24,10593,null,null,null,null,0,222]
[12,10692,24,10697,24,10703,null,null,null,null,0,122]
[21,10843,22,10848,24,10864,null,null,null,null,0,222]
[12,10973,24,10979,24,10984,null,null,null,null,0,122]
[12,11080,24,11084,24,11090,null,null,null,null,0,122]
[21,11198,22,11209,24,11222,null,null,null,null,0,222]
[21,11323,22,11331,24,11335,null,null,null,null,0,222]
[12,11429,13,11435,24,11438,null,null,null,null,0,112]
[21,11780,22,11786,24,11803,null,null,null,null,0,222]
[21,11950,22,11963,24,11979,null,null,null,null,0,222]
[12,12073,24,12094,24,12100,null,null,null,null,0,122]
[21,12204,22,12208,24,12212,null,null,null,null,0,222]
[21,12313,22,12320,24,12325,null,null,null,null,0,222]
[21,12426,22,12434,24,12439,null,null,null,null,0,222]
[21,12541,22,12550,24,12559,null,null,null,null,0,222]
[21,12689,22,12692,24,12704,null,null,null,null,0,222]
[21,12821,22,12825,24,12835,null,null,null,null,0,222]
[21,12940,22,12953,24,12959,null,null,null,null,0,222]
[12,13054,24,13066,24,13072,null,null,null,null,0,122]
[12,13169,24,13173,24,13177,null,null,null,null,0,122]
[21,13276,22,13283,24,13293,null,null,null,null,0,222]
[21,13394,22,13400,24,13407,null,null,null,null,0,222]
[21,13512,22,13517,24,13525,null,null,null,null,0,222]
[21,13632,22,13638,24,13644,null,null,null,null,0,222]
[21,13757,22,13763,24,13770,null,null,null,null,0,222]
[12,13863,24,13877,24,13892,null,null,null,null,0,122]
[21,13995,22,14002,24,14008,null,null,null,null,0,222]
[21,14377,22,14388,24,14394,null,null,null,null,0,222]
[12,14486,24,14502,24,14507,null,null,null,null,0,122]
[21,14608,22,14614,24,14620,null,null,null,null,0,222]
[21,14719,22,14723,24,14731,null,null,null,null,0,222]
[12,14826,24,14830,24,14834,null,null,null,null,0,122]
[12,14934,24,14949,24,14954,null,null,null,null,0,122]
[21,15245,22,15253,24,15266,null,null,null,null,0,222]
[12,15363,13,15366,24,15371,null,null,null,null,0,112]
[21,15472,22,15480,24,15485,null,null,null,null,0,222]
[12,15579,24,15594,24,15598,null,null,null,null,0,122]
[12,15693,24,15713,24,15730,null,null,null,null,0,122]
[21,15828,22,15833,24,15844,null,null,null,null,0,222]
[21,15951,22,15956,24,15962,null,null,null,null,0,222]
[12,16121,24,16142,24,16158,null,null,null,null,0,122]
[21,16257,22,16272,24,16280,null,null,null,null,0,222]
[21,16383,22,16404,24,16417,null,null,null,null,0,222]
[12,16512,24,16517,24,16523,null,null,null,null,0,122]
[21,16628,22,16637,24,16643,null,null,null,null,0,222]
[21,16847,22,16853,24,16860,null,null,null,null,0,222]
[21,16969,22,16987,24,16994,null,null,null,null,0,222]
[21,17092,22,17098,24,17101,null,null,null,null,0,222]
[12,17195,24,17199,24,17208,null,null,null,null,0,122]
[12,17300,24,17317,24,17321,null,null,null,null,0,122]
[21,17428,22,17438,24,17444,null,null,null,null,0,222]
[21,17543,22,17549,24,17555,null,null,null,null,0,222]
[12,17650,24,17653,24,17662,null,null,null,null,0,122]
[21,17816,22,17826,24,17832,null,null,null,null,0,222]
[12,17987,24,18009,24,18026,null,null,null,null,0,122]
[21,18138,22,18142,24,18147,null,null,null,null,0,222]
[21,18245,22,18257,24,18264,null,null,null,null,0,222]
[12,18359,24,18368,24,18374,null,null,null,null,0,122]
[21,18479,22,18485,24,18492,null,null,null,null,0,222]
[21,18586,22,18590,24,18595,null,null,null,null,0,222]
[12,18687,24,18692,24,18696,null,null,null,null,0,122]
[21,18801,22,18810,24,18815,null,null,null,null,0,222]
[21,19239,22,19246,24,19252,null,null,null,null,0,222]
[21,19402,22,19420,24,19426,null,null,null,null,0,222]
[21,19528,22,19542,24,19548,null,null,null,null,0,222]
[12,19644,24,19647,24,19652,null,null,null,null,0,122]
[21,20845,22,20852,24,20859,null,null,null,null,0,222]
[21,21145,22,21152,24,21163,null,null,null,null,0,222]
[21,21268,22,21284,24,21291,null,null,null,null,0,222]
[21,21401,22,21410,24,21422,null,null,null,null,0,222]
[21,21723,22,21735,24,21741,null,null,null,null,0,222]
[12,21839,24,21857,24,21863,null,null,null,null,0,122]
[12,21961,24,21979,24,21990,null,null,null,null,0,122]
[21,22098,22,22106,24,22112,null,null,null,null,0,222]
[12,22204,24,22218,24,22235,null,null,null,null,0,122]
[12,22328,24,22345,24,22351,null,null,null,null,0,122]
[21,22450,22,22453,24,22460,null,null,null,null,0,222]
[21,22615,22,22620,24,22626,null,null,null,null,0,222]
[21,22735,22,22741,24,22753,null,null,null,null,0,222]
[12,22853,24,22860,24,22866,null,null,null,null,0,122]
[21,22969,22,22974,24,22978,null,null,null,null,0,222]
[12,23070,24,23078,24,23085,null,null,null,null,0,122]
[21,23214,22,23219,24,23225,null,null,null,null,0,222]
[21,23328,22,23335,24,23345,null,null,null,null,0,222]
[21,23534,22,23544,24,23550,null,null,null,null,0,222]
[21,23785,22,23798,24,23814,null,null,null,null,0,222]

{"sheet":"!M208B30.Gus","index":24,"n_rows":184,"n_cols":48,"rows_kept":184,"cut":false,"hidden":false,"merged":[[4,39,4,42],[5,39,5,40],[4,44,4,47],[5,44,5,45],[4,24,4,27],[5,24,5,25],[4,29,4,32],[5,29,5,30],[4,34,4,37],[5,34,5,35],[1,1,1,2],[5,13,5,14],[18,13,18,14],[19,13,19,14],[4,19,4,22],[5,19,5,20]]}
["Report for:!M208B30.Gus"]
["Date:","<date>"]
["Hen:","<hen>",null,null,null,"Correct Sequence",{"$f":"Start!J2","v":211},null,null,null,null,null,null,null,null,"Total Sequences in Data",{"$f":"4994-COUNTBLANK(L7:L5000)","v":178},null,null,null,null,"Total Sequences in Block Data",{"$f":"COUNTA(L7:L36)","v":30},null,null,null,"Total Sequences in Block Data",{"$f":"COUNTA(L37:L65)","v":29},null,null,null,"Total Sequences in Block Data",{"$f":"COUNTA(L66:L95)","v":30},null,null,null,"Total Sequences in Block Data",{"$f":"COUNTA(L96:L125)","v":30},null,null,null,"Total Sequences in Block Data",{"$f":"COUNTA(L126:L154)","v":29},null,null,null,"Total Sequences in Block Data",{"$f":"COUNTA(L155:L184)","v":30}]
[null,null,null,null,null,null,null,null,null,null,null,null,null,null,null,"Total Sequences in Summary",{"$f":"SUM(O7:O14)","v":178},null,null,null,null,"Total Sequences in Block Summary",{"$f":"SUM(U7:U14)","v":30},null,null,null,"Total Sequences in Block Summary",{"$f":"SUM(Z7:Z14)","v":29},null,null,null,"Total Sequences in Block Summary",{"$f":"SUM(AE7:AE14)","v":30},null,null,null,"Total Sequences in Block Summary",{"$f":"SUM(AJ7:AJ14)","v":30},null,null,null,"Total Sequences in Block Summary",{"$f":"SUM(AO7:AO14)","v":29},null,null,null,"Total Sequences in Block Summary",{"$f":"SUM(AT7:AT14)","v":30}]
[null,null,null,null,null,null,null,null,null,null,null,null,null,null,null,null,null,null,null,"Block 1",null,null,null,null,"Block 2",null,null,null,null,"Block 3",null,null,null,null,"Block 4",null,null,null,null,"Block 5",null,null,null,null,"Block 6"]
["Sequence\nComponent\n1","Time\n1","Sequence\nComponent\n2","Time\n2","Sequence\nComponent\n3","Time\n3","Sequence\nComponent\n4","Time\n4","Sequence\nComponent\n5","Time\n5","Correct?\n0=No 1=Yes","Sequence",null,"Frequency",null,"Relative Frequency","Variability",null,null,"Frequency",null,"Relative Frequency","Variability",null,"Frequency",null,"Relative Frequency","Variability",null,"Frequency",null,"Relative Frequency","Variability",null,"Frequency",null,"Relative Frequency","Variability",null,"Frequency",null,"Relative Frequency","Variability",null,"Frequency",null,"Relative Frequency","Variability"]
[21,22,22,27,24,33,null,null,null,null,0,222,null,111,{"$f":"COUNTIF($L$7:$L$500,N7)","v":0},{"$f":"O7/$Q$4","v":0},{"$f":"IF(P7=0,0,(P7*((LOG(P7))/LOG(2))))","v":0},null,null,{"$f":"N7","v":111},{"$f":"COUNTIF(L7:L36,T7)","v":0},{"$f":"U7/(W4-U11)","v":0},{"$f":"IF(V7=0,0,(V7*((LOG(V7))/LOG(2))))","v":0},null,{"$f":"N7","v":111},{"$f":"COUNTIF(L37:L65,Y7)","v":0},{"$f":"Z7/(AB4-Z11)","v":0},{"$f":"IF(AA7=0,0,(AA7*((LOG(AA7))/LOG(2))))","v":0},null,{"$f":"N7","v":111},{"$f":"COUNTIF(L66:L95,AD7)","v":0},{"$f":"AE7/(AG4-AE11)","v":0},{"$f":"IF(AF7=0,0,(AF7*((LOG(AF7))/LOG(2))))","v":0},null,{"$f":"N7","v":111},{"$f":"COUNTIF(L96:L125,AI7)","v":0},{"$f":"AJ7/(AL4-AJ11)","v":0},{"$f":"IF(AK7=0,0,(AK7*((LOG(AK7))/LOG(2))))","v":0},null,{"$f":"N7","v":111},{"$f":"COUNTIF(L126:L154,AN7)","v":0},{"$f":"AO7/(AQ4-AO11)","v":0},{"$f":"IF(AP7=0,0,(AP7*((LOG(AP7))/LOG(2))))","v":0},null,{"$f":"N7","v":111},{"$f":"COUNTIF(L155:L184,AS7)","v":0},{"$f":"AT7/(AV4-AT11)","v":0},{"$f":"IF(AU7=0,0,(AU7*((LOG(AU7))/LOG(2))))","v":0}]
[21,137,22,142,24,147,null,null,null,null,0,222,null,112,{"$f":"COUNTIF($L$7:$L$500,N8)","v":1},{"$f":"O8/$Q$4","v":5.6179775280898875E-3},{"$f":"IF(P8=0,0,(P8*((LOG(P8))/LOG(2))))","v":-4.1998502421159538E-2},null,null,{"$f":"N8","v":112},{"$f":"COUNTIF(L7:L36,T8)","v":0},{"$f":"U8/(W4-U11)","v":0},{"$f":"IF(V8=0,0,(V8*((LOG(V8))/LOG(2))))","v":0},null,{"$f":"N8","v":112},{"$f":"COUNTIF(L37:L65,Y8)","v":1},{"$f":"Z8/(AB4-Z11)","v":3.4482758620689655E-2},{"$f":"IF(AA8=0,0,(AA8*((LOG(AA8))/LOG(2))))","v":-0.16751658603888178},null,{"$f":"N8","v":112},{"$f":"COUNTIF(L66:L95,AD8)","v":0},{"$f":"AE8/(AG4-AE11)","v":0},{"$f":"IF(AF8=0,0,(AF8*((LOG(AF8))/LOG(2))))","v":0},null,{"$f":"N8","v":112},{"$f":"COUNTIF(L96:L125,AI8)","v":0},{"$f":"AJ8/(AL4-AJ11)","v":0},{"$f":"IF(AK8=0,0,(AK8*((LOG(AK8))/LOG(2))))","v":0},null,{"$f":"N8","v":112},{"$f":"COUNTIF(L126:L154,AN8)","v":0},{"$f":"AO8/(AQ4-AO11)","v":0},{"$f":"IF(AP8=0,0,(AP8*((LOG(AP8))/LOG(2))))","v":0},null,{"$f":"N8","v":112},{"$f":"COUNTIF(L155:L184,AS8)","v":0},{"$f":"AT8/(AV4-AT11)","v":0},{"$f":"IF(AU8=0,0,(AU8*((LOG(AU8))/LOG(2))))","v":0}]
[12,243,24,248,24,261,null,null,null,null,0,122,null,121,{"$f":"COUNTIF($L$7:$L$500,N9)","v":1},{"$f":"O9/$Q$4","v":5.6179775280898875E-3},{"$f":"IF(P9=0,0,(P9*((LOG(P9))/LOG(2))))","v":-4.1998502421159538E-2},null,null,{"$f":"N9","v":121},{"$f":"COUNTIF(L7:L36,T9)","v":0},{"$f":"U9/(W4-U11)","v":0},{"$f":"IF(V9=0,0,(V9*((LOG(V9))/LOG(2))))","v":0},null,{"$f":"N9","v":121},{"$f":"COUNTIF(L37:L65,Y9)","v":0},{"$f":"Z9/(AB4-Z11)","v":0},{"$f":"IF(AA9=0,0,(AA9*((LOG(AA9))/LOG(2))))","v":0},null,{"$f":"N9","v":121},{"$f":"COUNTIF(L66:L95,AD9)","v":0},{"$f":"AE9/(AG4-AE11)","v":0},{"$f":"IF(AF9=0,0,(AF9*((LOG(AF9))/LOG(2))))","v":0},null,{"$f":"N9","v":121},{"$f":"COUNTIF(L96:L125,AI9)","v":1},{"$f":"AJ9/(AL4-AJ11)","v":3.3333333333333333E-2},{"$f":"IF(AK9=0,0,(AK9*((LOG(AK9))/LOG(2))))","v":-0.16356301985361729},null,{"$f":"N9","v":121},{"$f":"COUNTIF(L126:L154,AN9)","v":0},{"$f":"AO9/(AQ4-AO11)","v":0},{"$f":"IF(AP9=0,0,(AP9*((LOG(AP9))/LOG(2))))","v":0},null,{"$f":"N9","v":121},{"$f":"COUNTIF(L155:L184,AS9)","v":0},{"$f":"AT9/(AV4-AT11)","v":0},{"$f":"IF(AU9=0,0,(AU9*((LOG(AU9))/LOG(2))))","v":0}]
[21,357,22,400,24,408,null,null,null,null,0,222,null,122,{"$f":"COUNTIF($L$7:$L$500,N10)","v":51},{"$f":"O10/$Q$4","v":0.28651685393258425},{"$f":"IF(P10=0,0,(P10*((LOG(P10))/LOG(2))))","v":-0.51667816033000002},null,null,{"$f":"N10","v":122},{"$f":"COUNTIF(L7:L36,T10)","v":10},{"$f":"U10/(W4-U11)","v":0.33333333333333331},{"$f":"IF(V10=0,0,(V10*((LOG(V10))/LOG(2))))","v":-0.52832083357371862},null,{"$f":"N10","v":122},{"$f":"COUNTIF(L37:L65,Y10)","v":6},{"$f":"Z10/(AB4-Z11)","v":0.20689655172413793},{"$f":"IF(AA10=0,0,(AA10*((LOG(AA10))/LOG(2))))","v":-0.4702796884978791},null,{"$f":"N10","v":122},{"$f":"COUNTIF(L66:L95,AD10)","v":6},{"$f":"AE10/(AG4-AE11)","v":0.2},{"$f":"IF(AF10=0,0,(AF10*((LOG(AF10))/LOG(2))))","v":-0.46438561897747244},null,{"$f":"N10","v":122},{"$f":"COUNTIF(L96:L125,AI10)","v":12},{"$f":"AJ10/(AL4-AJ11)","v":0.4},{"$f":"IF(AK10=0,0,(AK10*((LOG(AK10))/LOG(2))))","v":-0.52877123795494496},null,{"$f":"N10","v":122},{"$f":"COUNTIF(L126:L154,AN10)","v":10},{"$f":"AO10/(AQ4-AO11)","v":0.34482758620689657},{"$f":"IF(AP10=0,0,(AP10*((LOG(AP10))/LOG(2))))","v":-0.52967341387593436},null,{"$f":"N10","v":122},{"$f":"COUNTIF(L155:L184,AS10)","v":7},{"$f":"AT10/(AV4-AT11)","v":0.23333333333333334},{"$f":"IF(AU10=0,0,(AU10*((LOG(AU10))/LOG(2))))","v":-0.48989165716187993}]
[21,516,22,521,24,526,null,null,null,null,0,222,null,211,{"$f":"COUNTIF($L$7:$L$500,N11)","v":0},{"$f":"O11/$Q$4","v":0},{"$f":"IF(P11=0,0,(P11*((LOG(P11))/LOG(2))))","v":0},null,null,{"$f":"N11","v":211},{"$f":"COUNTIF(L7:L36,T11)","v":0},null,null,null,{"$f":"N11","v":211},{"$f":"COUNTIF(L37:L65,Y11)","v":0},null,null,null,{"$f":"N11","v":211},{"$f":"COUNTIF(L66:L95,AD11)","v":0},null,null,null,{"$f":"N11","v":211},{"$f":"COUNTIF(L96:L125,AI11)","v":0},null,null,null,{"$f":"N11","v":211},{"$f":"COUNTIF(L126:L154,AN11)","v":0},null,null,null,{"$f":"N11","v":211},{"$f":"COUNTIF(L155:L184,AS11)","v":0}]
[21,630,22,643,24,660,null,null,null,null,0,222,null,212,{"$f":"COUNTIF($L$7:$L$500,N12)","v":1},{"$f":"O12/$Q$4","v":5.6179775280898875E-3},{"$f":"IF(P12=0,0,(P12*((LOG(P12))/LOG(2))))","v":-4.1998502421159538E-2},null,null,{"$f":"N12","v":212},{"$f":"COUNTIF(L7:L36,T12)","v":0},{"$f":"U12/(W4-U11)","v":0},{"$f":"IF(V12=0,0,(V12*((LOG(V12))/LOG(2))))","v":0},null,{"$f":"N12","v":212},{"$f":"COUNTIF(L37:L65,Y12)","v":0},{"$f":"Z12/(AB4-Z11)","v":0},{"$f":"IF(AA12=0,0,(AA12*((LOG(AA12))/LOG(2))))","v":0},null,{"$f":"N12","v":212},{"$f":"COUNTIF(L66:L95,AD12)","v":0},{"$f":"AE12/(AG4-AE11)","v":0},{"$f":"IF(AF12=0,0,(AF12*((LOG(AF12))/LOG(2))))","v":0},null,{"$f":"N12","v":212},{"$f":"COUNTIF(L96:L125,AI12)","v":0},{"$f":"AJ12/(AL4-AJ11)","v":0},{"$f":"IF(AK12=0,0,(AK12*((LOG(AK12))/LOG(2))))","v":0},null,{"$f":"N12","v":212},{"$f":"COUNTIF(L126:L154,AN12)","v":0},{"$f":"AO12/(AQ4-AO11)","v":0},{"$f":"IF(AP12=0,0,(AP12*((LOG(AP12))/LOG(2))))","v":0},null,{"$f":"N12","v":212},{"$f":"COUNTIF(L155:L184,AS12)","v":1},{"$f":"AT12/(AV4-AT11)","v":3.3333333333333333E-2},{"$f":"IF(AU12=0,0,(AU12*((LOG(AU12))/LOG(2))))","v":-0.16356301985361729}]
[21,765,22,775,24,781,null,null,null,null,0,222,null,221,{"$f":"COUNTIF($L$7:$L$500,N13)","v":0},{"$f":"O13/$Q$4","v":0},{"$f":"IF(P13=0,0,(P13*((LOG(P13))/LOG(2))))","v":0},null,null,{"$f":"N13","v":221},{"$f":"COUNTIF(L7:L36,T13)","v":0},{"$f":"U13/(W4-U11)","v":0},{"$f":"IF(V13=0,0,(V13*((LOG(V13))/LOG(2))))","v":0},null,{"$f":"N13","v":221},{"$f":"COUNTIF(L37:L65,Y13)","v":0},{"$f":"Z13/(AB4-Z11)","v":0},{"$f":"IF(AA13=0,0,(AA13*((LOG(AA13))/LOG(2))))","v":0},null,{"$f":"N13","v":221},{"$f":"COUNTIF(L66:L95,AD13)","v":0},{"$f":"AE13/(AG4-AE11)","v":0},{"$f":"IF(AF13=0,0,(AF13*((LOG(AF13))/LOG(2))))","v":0},null,{"$f":"N13","v":221},{"$f":"COUNTIF(L96:L125,AI13)","v":0},{"$f":"AJ13/(AL4-AJ11)","v":0},{"$f":"IF(AK13=0,0,(AK13*((LOG(AK13))/LOG(2))))","v":0},null,{"$f":"N13","v":221},{"$f":"COUNTIF(L126:L154,AN13)","v":0},{"$f":"AO13/(AQ4-AO11)","v":0},{"$f":"IF(AP13=0,0,(AP13*((LOG(AP13))/LOG(2))))","v":0},null,{"$f":"N13","v":221},{"$f":"COUNTIF(L155:L184,AS13)","v":0},{"$f":"AT13/(AV4-AT11)","v":0},{"$f":"IF(AU13=0,0,(AU13*((LOG(AU13))/LOG(2))))","v":0}]
[21,886,22,894,24,898,null,null,null,null,0,222,null,222,{"$f":"COUNTIF($L$7:$L$500,N14)","v":124},{"$f":"O14/$Q$4","v":0.6966292134831461},{"$f":"IF(P14=0,0,(P14*((LOG(P14))/LOG(2))))","v":-0.36331799411157739},null,null,{"$f":"N14","v":222},{"$f":"COUNTIF(L7:L36,T14)","v":20},{"$f":"U14/(W4-U11)","v":0.66666666666666663},{"$f":"IF(V14=0,0,(V14*((LOG(V14))/LOG(2))))","v":-0.38997500048077083},null,{"$f":"N14","v":222},{"$f":"COUNTIF(L37:L65,Y14)","v":22},{"$f":"Z14/(AB4-Z11)","v":0.75862068965517238},{"$f":"IF(AA14=0,0,(AA14*((LOG(AA14))/LOG(2))))","v":-0.30234780285469132},null,{"$f":"N14","v":222},{"$f":"COUNTIF(L66:L95,AD14)","v":24},{"$f":"AE14/(AG4-AE11)","v":0.8},{"$f":"IF(AF14=0,0,(AF14*((LOG(AF14))/LOG(2))))","v":-0.25754247590988982},null,{"$f":"N14","v":222},{"$f":"COUNTIF(L96:L125,AI14)","v":17},{"$f":"AJ14/(AL4-AJ11)","v":0.56666666666666665},{"$f":"IF(AK14=0,0,(AK14*((LOG(AK14))/LOG(2))))","v":-0.46434239413630152},null,{"$f":"N14","v":222},{"$f":"COUNTIF(L126:L154,AN14)","v":19},{"$f":"AO14/(AQ4-AO11)","v":0.65517241379310343},{"$f":"IF(AP14=0,0,(AP14*((LOG(AP14))/LOG(2))))","v":-0.39969021213778433},null,{"$f":"N14","v":222},{"$f":"COUNTIF(L155:L184,AS14)","v":22},{"$f":"AT14/(AV4-AT11)","v":0.73333333333333328},{"$f":"IF(AU14=0,0,(AU14*((LOG(AU14))/LOG(2))))","v":-0.32813658311222899}]
[21,1004,22,1006,24,1011,null,null,null,null,0,222,null,null,null,{"$f":"SUM(P7:P14)","v":1},{"$f":"-SUM(Q7:Q14)","v":1.0059916617050559},null,null,null,null,{"$f":"SUM(V7:V14)","v":1},{"$f":"-SUM(W7:W14)","v":0.91829583405448945},null,null,null,{"$f":"SUM(AA7:AA14)","v":1},{"$f":"-SUM(AB7:AB14)","v":0.94014407739145223},null,null,null,{"$f":"SUM(AF7:AF14)","v":1},{"$f":"-SUM(AG7:AG14)","v":0.72192809488736231},null,null,null,{"$f":"SUM(AK7:AK14)","v":1},{"$f":"-SUM(AL7:AL14)","v":1.1566766519448639},null,null,null,{"$f":"SUM(AP7:AP14)","v":1},{"$f":"-SUM(AQ7:AQ14)","v":0.92936362601371869},null,null,null,{"$f":"SUM(AU7:AU14)","v":1},{"$f":"-SUM(AV7:AV14)","v":0.98159126012772613}]
[12,1111,24,1114,24,1123,null,null,null,null,0,122,null,null,null,"U=",{"$f":"Q15/(LOG(Q4)/LOG(2))","v":0.13456762082205626},null,null,null,null,"U1=",{"$f":"W15/(LOG(W4)/LOG(2))","v":0.18714414274415034},null,null,null,"U2=",{"$f":"AB15/(LOG(AB4)/LOG(2))","v":0.19352568038746801},null,null,null,"U3=",{"$f":"AG15/(LOG(AG4)/LOG(2))","v":0.14712537009352941},null,null,null,"U4=",{"$f":"AL15/(LOG(AL4)/LOG(2))","v":0.23572497275159257},null,null,null,"U5=",{"$f":"AQ15/(LOG(AQ4)/LOG(2))","v":0.19130655861886783},null,null,null,"U6=",{"$f":"AV15/(LOG(AV4)/LOG(2))","v":0.20004343708135924}]
[21,1352,22,1358,24,1370,null,null,null,null,0,222]
[12,1465,24,1472,24,1476,null,null,null,null,0,122]
[21,1578,22,1586,24,1592,null,null,null,null,0,222,null,"Total Target Seq"]
[12,1688,24,1698,24,1703,null,null,null,null,0,122,null,{"$f":"COUNTIF(L7:L184,G3)","v":0},null,30,29,30,30,29,30]
[21,1855,22,1873,24,1895,null,null,null,null,0,222,null,null,null,"% of reinforcement given in 6 equal intervals based on number of trials "]
[12,1996,24,1999,24,2007,null,null,null,null,0,122,null,null,null,"%_1","%_2","%_3","%_4","%_5","%_6"]
[21,2106,22,2112,24,2119,null,null,null,null,0,222,null,null,"target sequence",{"$f":"$G$3","v":211},{"$f":"$G$3","v":211},{"$f":"$G$3","v":211},{"$f":"$G$3","v":211},{"$f":"$G$3","v":211},{"$f":"$G$3","v":211}]
[21,2225,22,2229,24,2234,null,null,null,null,0,222,null,null,"total reinforcement",{"$f":"U11","v":0},{"$f":"Z11","v":0},{"$f":"AE11","v":0},{"$f":"AJ11","v":0},{"$f":"AO11","v":0},{"$f":"AT11","v":0}]
[21,2339,22,2348,24,2355,null,null,null,null,0,222,null,null,"% target"]
[12,2448,24,2465,24,2469,null,null,null,null,0,122,null,null,"CCRF"]
[12,2572,24,2573,24,2579,null,null,null,null,0,122,null,null,"% CCRf"]
[21,2680,22,2682,24,2687,null,null,null,null,0,222,null,null,"average response rate",{"$f":"F36/P20","v":124.86666666666666},{"$f":"(F65-F36)/Q20","v":138.93103448275863},{"$f":"(F95-F65)/R20","v":131.73333333333332},{"$f":"(F125-F95)/S20","v":136.83333333333334},{"$f":"(F154-F125)/T20","v":140.51724137931035},{"$f":"(F184-F154)/U20","v":134.56666666666666}]
[21,2790,22,2798,24,2811,null,null,null,null,0,222]
[21,2914,22,2919,24,2926,null,null,null,null,0,222]
[21,3027,22,3033,24,3039,null,null,null,null,0,222]
[12,3135,24,3142,24,3146,null,null,null,null,0,122]
[21,3386,22,3391,24,3400,null,null,null,null,0,222]
[12,3492,24,3505,24,3517,null,null,null,null,0,122]
[21,3628,22,3630,24,3640,null,null,null,null,0,222]
[12,3737,24,3741,24,3746,null,null,null,null,0,122]
[12,3839,24,3852,24,3858,null,null,null,null,0,122]
[21,3963,22,3971,24,3978,null,null,null,null,0,222]
[12,4070,24,4089,24,4095,null,null,null,null,0,122]
[21,4197,22,4203,24,4218,null,null,null,null,0,222]
[21,4323,22,4329,24,4334,null,null,null,null,0,222]
[21,4438,22,4444,24,4449,null,null,null,null,0,222]
[21,4554,22,4558,24,4564,null,null,null,null,0,222]
[21,4663,22,4669,24,4674,null,null,null,null,0,222]
[21,4820,22,4826,24,4832,null,null,null,null,0,222]
[21,4998,22,5004,24,5011,null,null,null,null,0,222]
[12,5112,24,5120,24,5125,null,null,null,null,0,122]
[12,5221,24,5235,24,5241,null,null,null,null,0,122]
[21,5342,22,5346,24,5351,null,null,null,null,0,222]
[21,5694,22,5704,24,5710,null,null,null,null,0,222]
[21,5812,22,5819,24,5824,null,null,null,null,0,222]
[12,5917,24,5926,24,5931,null,null,null,null,0,122]
[21,6036,22,6041,24,6048,null,null,null,null,0,222]
[21,6226,22,6229,24,6243,null,null,null,null,0,222]
[21,6340,22,6344,24,6351,null,null,null,null,0,222]
[21,6456,22,6460,24,6465,null,null,null,null,0,222]
[21,6576,22,6583,24,6589,null,null,null,null,0,222]
[12,6682,13,6691,24,6701,null,null,null,null,0,112]
[21,6803,22,6807,24,6814,null,null,null,null,0,222]
[21,6950,22,6956,24,6969,null,null,null,null,0,222]
[21,7162,22,7172,24,7179,null,null,null,null,0,222]
[21,7279,22,7283,24,7288,null,null,null,null,0,222]
[21,7505,22,7509,24,7514,null,null,null,null,0,222]
[12,7627,24,7631,24,7658,null,null,null,null,0,122]
[21,7764,22,7769,24,7775,null,null,null,null,0,222]
[12,7869,24,7881,24,7885,null,null,null,null,0,122]
[21,8228,22,8234,24,8239,null,null,null,null,0,222]
[21,8359,22,8368,24,8373,null,null,null,null,0,222]
[12,8467,24,8472,24,8477,null,null,null,null,0,122]
[21,8582,22,8586,24,8591,null,null,null,null,0,222]
[21,8708,22,8713,24,8718,null,null,null,null,0,222]
[21,8824,22,8832,24,8839,null,null,null,null,0,222]
[21,8941,22,8945,24,8956,null,null,null,null,0,222]
[21,9106,22,9109,24,9114,null,null,null,null,0,222]
[21,9210,22,9216,24,9221,null,null,null,null,0,222]
[21,9327,22,9334,24,9339,null,null,null,null,0,222]
[21,9435,22,9439,24,9443,null,null,null,null,0,222]
[21,9543,22,9548,24,9554,null,null,null,null,0,222]
[21,9652,22,9656,24,9666,null,null,null,null,0,222]
[12,9824,24,9836,24,9844,null,null,null,null,0,122]
[21,10015,22,10026,24,10032,null,null,null,null,0,222]
[21,10137,22,10141,24,10147,null,null,null,null,0,222]
[12,10241,24,10252,24,10260,null,null,null,null,0,122]
[21,10364,22,10372,24,10379,null,null,null,null,0,222]
[12,10471,24,10475,24,10486,null,null,null,null,0,122]
[12,10585,24,10590,24,10593,null,null,null,null,0,122]
[21,10702,22,10706,24,10714,null,null,null,null,0,222]
[21,10815,22,10821,24,10829,null,null,null,null,0,222]
[21,10935,22,10939,24,10945,null,null,null,null,0,222]
[21,11060,22,11066,24,11072,null,null,null,null,0,222]
[21,11171,22,11177,24,11182,null,null,null,null,0,222]
[21,11286,22,11289,24,11295,null,null,null,null,0,222]
[21,11398,22,11408,24,11413,null,null,null,null,0,222]
[21,11515,22,11520,24,11526,null,null,null,null,0,222]
[21,11717,22,11721,24,11727,null,null,null,null,0,222]
[21,11826,22,11833,24,11838,null,null,null,null,0,222]
[21,11930,22,11940,24,11946,null,null,null,null,0,222]
[12,12041,24,12049,24,12054,null,null,null,null,0,122]
[21,12163,22,12168,24,12174,null,null,null,null,0,222]
[21,12275,22,12279,24,12284,null,null,null,null,0,222]
[21,12392,22,12396,24,12402,null,null,null,null,0,222]
[12,12504,24,12507,13,12510,null,null,null,null,0,121]
[21,12653,22,12665,24,12677,null,null,null,null,0,222]
[12,12772,24,12781,24,12798,null,null,null,null,0,122]
[21,12895,22,12900,24,12905,null,null,null,null,0,222]
[21,13003,22,13013,24,13019,null,null,null,null,0,222]
[12,13114,24,13117,24,13119,null,null,null,null,0,122]
[21,13319,22,13322,24,13328,null,null,null,null,0,222]
[21,13700,22,13724,24,13739,null,null,null,null,0,222]
[21,13862,22,13868,24,13875,null,null,null,null,0,222]
[21,13979,22,13984,24,13993,null,null,null,null,0,222]
[12,14088,24,14091,24,14103,null,null,null,null,0,122]
[21,14230,22,14242,24,14250,null,null,null,null,0,222]
[12,14345,24,14351,24,14358,null,null,null,null,0,122]
[12,14454,24,14457,24,14467,null,null,null,null,0,122]
[12,14561,24,14576,24,14580,null,null,null,null,0,122]
[12,14673,24,14685,24,14691,null,null,null,null,0,122]
[21,14887,22,14892,24,14898,null,null,null,null,0,222]
[12,15001,24,15010,24,15014,null,null,null,null,0,122]
[12,15113,24,15117,24,15123,null,null,null,null,0,122]
[21,15225,22,15229,24,15235,null,null,null,null,0,222]
[21,15342,22,15349,24,15356,null,null,null,null,0,222]
[12,15448,24,15461,24,15465,null,null,null,null,0,122]
[21,15713,22,15719,24,15725,null,null,null,null,0,222]
[12,15819,24,15826,24,15832,null,null,null,null,0,122]
[12,15925,24,15938,24,15943,null,null,null,null,0,122]
[12,16037,24,16044,24,16059,null,null,null,null,0,122]
[21,16165,22,16172,24,16178,null,null,null,null,0,222]
[21,16373,22,16379,24,16385,null,null,null,null,0,222]
[21,16487,22,16497,24,16508,null,null,null,null,0,222]
[21,16609,22,16614,24,16621,null,null,null,null,0,222]
[21,16721,22,16726,24,16731,null,null,null,null,0,222]
[12,16824,24,16834,24,16838,null,null,null,null,0,122]
[21,16942,22,16952,24,16980,null,null,null,null,0,222]
[21,17088,22,17090,24,17096,null,null,null,null,0,222]
[21,17204,22,17210,24,17221,null,null,null,null,0,222]
[21,17448,22,17453,24,17463,null,null,null,null,0,222]
[21,17694,22,17698,24,17713,null,null,null,null,0,222]
[12,17806,24,17822,24,17825,null,null,null,null,0,122]
[21,17927,22,17932,24,17937,null,null,null,null,0,222]
[12,18120,24,18132,24,18142,null,null,null,null,0,122]
[21,18245,22,18253,24,18261,null,null,null,null,0,222]
[21,18499,22,18502,24,18507,null,null,null,null,0,222]
[12,18600,24,18613,24,18619,null,null,null,null,0,122]
[21,18722,22,18725,24,18729,null,null,null,null,0,222]
[12,18822,24,18829,24,18833,null,null,null,null,0,122]
[21,18937,22,18941,24,18947,null,null,null,null,0,222]
[12,19084,24,19103,24,19111,null,null,null,null,0,122]
[21,19293,22,19299,24,19317,null,null,null,null,0,222]
[21,19415,22,19423,24,19429,null,null,null,null,0,222]
[21,19528,22,19540,24,19547,null,null,null,null,0,222]
[12,19644,24,19648,24,19650,null,null,null,null,0,122]
[21,19776,22,19784,24,19796,null,null,null,null,0,222]
[12,19889,24,19902,24,19907,null,null,null,null,0,122]
[12,20001,24,20012,24,20014,null,null,null,null,0,122]
[21,20192,22,20200,24,20217,null,null,null,null,0,222]
[21,20338,22,20345,24,20350,null,null,null,null,0,222]
[21,20451,22,20461,24,20466,null,null,null,null,0,222]
[21,20572,22,20581,24,20587,null,null,null,null,0,222]
[21,20689,22,20692,24,20698,null,null,null,null,0,222]
[21,20805,22,20811,24,20817,null,null,null,null,0,222]
[21,20923,22,20931,24,20937,null,null,null,null,0,222]
[12,21032,24,21037,24,21042,null,null,null,null,0,122]
[21,21144,22,21153,24,21160,null,null,null,null,0,222]
[21,21397,22,21402,24,21408,null,null,null,null,0,222]
[21,21526,22,21531,24,21539,null,null,null,null,0,222]
[21,21642,22,21647,24,21652,null,null,null,null,0,222]
[21,21756,22,21762,24,21766,null,null,null,null,0,222]
[12,21858,24,21868,24,21873,null,null,null,null,0,122]
[21,21971,22,21979,24,21986,null,null,null,null,0,222]
[12,22082,24,22088,24,22098,null,null,null,null,0,122]
[12,22192,24,22200,24,22204,null,null,null,null,0,122]
[21,22307,22,22311,24,22316,null,null,null,null,0,222]
[21,22426,22,22433,24,22444,null,null,null,null,0,222]
[21,22550,22,22555,24,22563,null,null,null,null,0,222]
[21,22990,22,23016,24,23024,null,null,null,null,0,222]
[21,23134,22,23141,24,23151,null,null,null,null,0,222]
[21,23243,11,23251,22,23254,null,null,null,null,0,212]
[12,23349,24,23364,24,23367,null,null,null,null,0,122]
[21,23469,22,23485,24,23493,null,null,null,null,0,222]
[21,23594,22,23598,24,23603,null,null,null,null,0,222]
[21,23703,22,23708,24,23714,null,null,null,null,0,222]
[12,23810,24,23823,24,23826,null,null,null,null,0,122]
[21,23930,22,23937,24,23944,null,null,null,null,null,222]

{"sheet":"!M209A40.Gus","index":25,"n_rows":166,"n_cols":48,"rows_kept":166,"cut":false,"hidden":false,"merged":[[4,39,4,42],[5,39,5,40],[4,44,4,47],[5,44,5,45],[4,24,4,27],[5,24,5,25],[4,29,4,32],[5,29,5,30],[4,34,4,37],[5,34,5,35],[1,1,1,2],[5,13,5,14],[18,13,18,14],[19,13,19,14],[4,19,4,22],[5,19,5,20]]}
["Report for:!M209A40.Gus"]
["Date:","<date>"]
["Hen:","<hen>",null,null,null,"Correct Sequence",{"$f":"Start!J2","v":211},null,null,null,null,null,null,null,null,"Total Sequences in Data",{"$f":"4994-COUNTBLANK(L7:L5000)","v":160},null,null,null,null,"Total Sequences in Block Data",{"$f":"COUNTA(L7:L33)","v":27},null,null,null,"Total Sequences in Block Data",{"$f":"COUNTA(L34:L59)","v":26},null,null,null,"Total Sequences in Block Data",{"$f":"COUNTA(L60:L86)","v":27},null,null,null,"Total Sequences in Block Data",{"$f":"COUNTA(L87:L113)","v":27},null,null,null,"Total Sequences in Block Data",{"$f":"COUNTA(L114:L139)","v":26},null,null,null,"Total Sequences in Block Data",{"$f":"COUNTA(L140:L166)","v":27}]
[null,null,null,null,null,null,null,null,null,null,null,null,null,null,null,"Total Sequences in Summary",{"$f":"SUM(O7:O14)","v":160},null,null,null,null,"Total Sequences in Block Summary",{"$f":"SUM(U7:U14)","v":27},null,null,null,"Total Sequences in Block Summary",{"$f":"SUM(Z7:Z14)","v":26},null,null,null,"Total Sequences in Block Summary",{"$f":"SUM(AE7:AE14)","v":27},null,null,null,"Total Sequences in Block Summary",{"$f":"SUM(AJ7:AJ14)","v":27},null,null,null,"Total Sequences in Block Summary",{"$f":"SUM(AO7:AO14)","v":26},null,null,null,"Total Sequences in Block Summary",{"$f":"SUM(AT7:AT14)","v":27}]
[null,null,null,null,null,null,null,null,null,null,null,null,null,null,null,null,null,null,null,"Block 1",null,null,null,null,"Block 2",null,null,null,null,"Block 3",null,null,null,null,"Block 4",null,null,null,null,"Block 5",null,null,null,null,"Block 6"]
["Sequence\nComponent\n1","Time\n1","Sequence\nComponent\n2","Time\n2","Sequence\nComponent\n3","Time\n3","Sequence\nComponent\n4","Time\n4","Sequence\nComponent\n5","Time\n5","Correct?\n0=No 1=Yes","Sequence",null,"Frequency",null,"Relative Frequency","Variability",null,null,"Frequency",null,"Relative Frequency","Variability",null,"Frequency",null,"Relative Frequency","Variability",null,"Frequency",null,"Relative Frequency","Variability",null,"Frequency",null,"Relative Frequency","Variability",null,"Frequency",null,"Relative Frequency","Variability",null,"Frequency",null,"Relative Frequency","Variability"]
[21,170,22,175,24,181,null,null,null,null,0,222,null,111,{"$f":"COUNTIF($L$7:$L$500,N7)","v":0},{"$f":"O7/$Q$4","v":0},{"$f":"IF(P7=0,0,(P7*((LOG(P7))/LOG(2))))","v":0},null,null,{"$f":"N7","v":111},{"$f":"COUNTIF(L7:L33,T7)","v":0},{"$f":"U7/(W4-U11)","v":0},{"$f":"IF(V7=0,0,(V7*((LOG(V7))/LOG(2))))","v":0},null,{"$f":"N7","v":111},{"$f":"COUNTIF(L34:L59,Y7)","v":0},{"$f":"Z7/(AB4-Z11)","v":0},{"$f":"IF(AA7=0,0,(AA7*((LOG(AA7))/LOG(2))))","v":0},null,{"$f":"N7","v":111},{"$f":"COUNTIF(L60:L86,AD7)","v":0},{"$f":"AE7/(AG4-AE11)","v":0},{"$f":"IF(AF7=0,0,(AF7*((LOG(AF7))/LOG(2))))","v":0},null,{"$f":"N7","v":111},{"$f":"COUNTIF(L87:L113,AI7)","v":0},{"$f":"AJ7/(AL4-AJ11)","v":0},{"$f":"IF(AK7=0,0,(AK7*((LOG(AK7))/LOG(2))))","v":0},null,{"$f":"N7","v":111},{"$f":"COUNTIF(L114:L139,AN7)","v":0},{"$f":"AO7/(AQ4-AO11)","v":0},{"$f":"IF(AP7=0,0,(AP7*((LOG(AP7))/LOG(2))))","v":0},null,{"$f":"N7","v":111},{"$f":"COUNTIF(L140:L166,AS7)","v":0},{"$f":"AT7/(AV4-AT11)","v":0},{"$f":"IF(AU7=0,0,(AU7*((LOG(AU7))/LOG(2))))","v":0}]
[12,279,24,288,24,303,null,null,null,null,0,122,null,112,{"$f":"COUNTIF($L$7:$L$500,N8)","v":6},{"$f":"O8/$Q$4","v":3.7499999999999999E-2},{"$f":"IF(P8=0,0,(P8*((LOG(P8))/LOG(2))))","v":-0.17763620978123273},null,null,{"$f":"N8","v":112},{"$f":"COUNTIF(L7:L33,T8)","v":1},{"$f":"U8/(W4-U11)","v":3.7037037037037035E-2},{"$f":"IF(V8=0,0,(V8*((LOG(V8))/LOG(2))))","v":-0.1761069445245729},null,{"$f":"N8","v":112},{"$f":"COUNTIF(L34:L59,Y8)","v":2},{"$f":"Z8/(AB4-Z11)","v":7.6923076923076927E-2},{"$f":"IF(AA8=0,0,(AA8*((LOG(AA8))/LOG(2))))","v":-0.28464920908777636},null,{"$f":"N8","v":112},{"$f":"COUNTIF(L60:L86,AD8)","v":2},{"$f":"AE8/(AG4-AE11)","v":7.407407407407407E-2},{"$f":"IF(AF8=0,0,(AF8*((LOG(AF8))/LOG(2))))","v":-0.27813981497507173},null,{"$f":"N8","v":112},{"$f":"COUNTIF(L87:L113,AI8)","v":0},{"$f":"AJ8/(AL4-AJ11)","v":0},{"$f":"IF(AK8=0,0,(AK8*((LOG(AK8))/LOG(2))))","v":0},null,{"$f":"N8","v":112},{"$f":"COUNTIF(L114:L139,AN8)","v":0},{"$f":"AO8/(AQ4-AO11)","v":0},{"$f":"IF(AP8=0,0,(AP8*((LOG(AP8))/LOG(2))))","v":0},null,{"$f":"N8","v":112},{"$f":"COUNTIF(L140:L166,AS8)","v":1},{"$f":"AT8/(AV4-AT11)","v":3.7037037037037035E-2},{"$f":"IF(AU8=0,0,(AU8*((LOG(AU8))/LOG(2))))","v":-0.1761069445245729}]
[21,404,22,408,24,411,null,null,null,null,0,222,null,121,{"$f":"COUNTIF($L$7:$L$500,N9)","v":1},{"$f":"O9/$Q$4","v":6.2500000000000003E-3},{"$f":"IF(P9=0,0,(P9*((LOG(P9))/LOG(2))))","v":-4.5762050593046014E-2},null,null,{"$f":"N9","v":121},{"$f":"COUNTIF(L7:L33,T9)","v":1},{"$f":"U9/(W4-U11)","v":3.7037037037037035E-2},{"$f":"IF(V9=0,0,(V9*((LOG(V9))/LOG(2))))","v":-0.1761069445245729},null,{"$f":"N9","v":121},{"$f":"COUNTIF(L34:L59,Y9)","v":0},{"$f":"Z9/(AB4-Z11)","v":0},{"$f":"IF(AA9=0,0,(AA9*((LOG(AA9))/LOG(2))))","v":0},null,{"$f":"N9","v":121},{"$f":"COUNTIF(L60:L86,AD9)","v":0},{"$f":"AE9/(AG4-AE11)","v":0},{"$f":"IF(AF9=0,0,(AF9*((LOG(AF9))/LOG(2))))","v":0},null,{"$f":"N9","v":121},{"$f":"COUNTIF(L87:L113,AI9)","v":0},{"$f":"AJ9/(AL4-AJ11)","v":0},{"$f":"IF(AK9=0,0,(AK9*((LOG(AK9))/LOG(2))))","v":0},null,{"$f":"N9","v":121},{"$f":"COUNTIF(L114:L139,AN9)","v":0},{"$f":"AO9/(AQ4-AO11)","v":0},{"$f":"IF(AP9=0,0,(AP9*((LOG(AP9))/LOG(2))))","v":0},null,{"$f":"N9","v":121},{"$f":"COUNTIF(L140:L166,AS9)","v":0},{"$f":"AT9/(AV4-AT11)","v":0},{"$f":"IF(AU9=0,0,(AU9*((LOG(AU9))/LOG(2))))","v":0}]
[21,517,22,522,24,529,null,null,null,null,0,222,null,122,{"$f":"COUNTIF($L$7:$L$500,N10)","v":42},{"$f":"O10/$Q$4","v":0.26250000000000001},{"$f":"IF(P10=0,0,(P10*((LOG(P10))/LOG(2))))","v":-0.50652280142850814},null,null,{"$f":"N10","v":122},{"$f":"COUNTIF(L7:L33,T10)","v":10},{"$f":"U10/(W4-U11)","v":0.37037037037037035},{"$f":"IF(V10=0,0,(V10*((LOG(V10))/LOG(2))))","v":-0.53072570639855787},null,{"$f":"N10","v":122},{"$f":"COUNTIF(L34:L59,Y10)","v":10},{"$f":"Z10/(AB4-Z11)","v":0.38461538461538464},{"$f":"IF(AA10=0,0,(AA10*((LOG(AA10))/LOG(2))))","v":-0.53019677817451139},null,{"$f":"N10","v":122},{"$f":"COUNTIF(L60:L86,AD10)","v":7},{"$f":"AE10/(AG4-AE11)","v":0.25925925925925924},{"$f":"IF(AF10=0,0,(AF10*((LOG(AF10))/LOG(2))))","v":-0.5049158541015204},null,{"$f":"N10","v":122},{"$f":"COUNTIF(L87:L113,AI10)","v":4},{"$f":"AJ10/(AL4-AJ11)","v":0.14814814814814814},{"$f":"IF(AK10=0,0,(AK10*((LOG(AK10))/LOG(2))))","v":-0.40813148180199532},null,{"$f":"N10","v":122},{"$f":"COUNTIF(L114:L139,AN10)","v":5},{"$f":"AO10/(AQ4-AO11)","v":0.19230769230769232},{"$f":"IF(AP10=0,0,(AP10*((LOG(AP10))/LOG(2))))","v":-0.45740608139494804},null,{"$f":"N10","v":122},{"$f":"COUNTIF(L140:L166,AS10)","v":6},{"$f":"AT10/(AV4-AT11)","v":0.22222222222222221},{"$f":"IF(AU10=0,0,(AU10*((LOG(AU10))/LOG(2))))","v":-0.48220555587606945}]
[12,628,24,636,13,641,null,null,null,null,0,121,null,211,{"$f":"COUNTIF($L$7:$L$500,N11)","v":0},{"$f":"O11/$Q$4","v":0},{"$f":"IF(P11=0,0,(P11*((LOG(P11))/LOG(2))))","v":0},null,null,{"$f":"N11","v":211},{"$f":"COUNTIF(L7:L33,T11)","v":0},null,null,null,{"$f":"N11","v":211},{"$f":"COUNTIF(L34:L59,Y11)","v":0},null,null,null,{"$f":"N11","v":211},{"$f":"COUNTIF(L60:L86,AD11)","v":0},null,null,null,{"$f":"N11","v":211},{"$f":"COUNTIF(L87:L113,AI11)","v":0},null,null,null,{"$f":"N11","v":211},{"$f":"COUNTIF(L114:L139,AN11)","v":0},null,null,null,{"$f":"N11","v":211},{"$f":"COUNTIF(L140:L166,AS11)","v":0}]
[12,735,24,752,24,756,null,null,null,null,0,122,null,212,{"$f":"COUNTIF($L$7:$L$500,N12)","v":2},{"$f":"O12/$Q$4","v":1.2500000000000001E-2},{"$f":"IF(P12=0,0,(P12*((LOG(P12))/LOG(2))))","v":-7.902410118609203E-2},null,null,{"$f":"N12","v":212},{"$f":"COUNTIF(L7:L33,T12)","v":0},{"$f":"U12/(W4-U11)","v":0},{"$f":"IF(V12=0,0,(V12*((LOG(V12))/LOG(2))))","v":0},null,{"$f":"N12","v":212},{"$f":"COUNTIF(L34:L59,Y12)","v":1},{"$f":"Z12/(AB4-Z11)","v":3.8461538461538464E-2},{"$f":"IF(AA12=0,0,(AA12*((LOG(AA12))/LOG(2))))","v":-0.18078614300542661},null,{"$f":"N12","v":212},{"$f":"COUNTIF(L60:L86,AD12)","v":0},{"$f":"AE12/(AG4-AE11)","v":0},{"$f":"IF(AF12=0,0,(AF12*((LOG(AF12))/LOG(2))))","v":0},null,{"$f":"N12","v":212},{"$f":"COUNTIF(L87:L113,AI12)","v":0},{"$f":"AJ12/(AL4-AJ11)","v":0},{"$f":"IF(AK12=0,0,(AK12*((LOG(AK12))/LOG(2))))","v":0},null,{"$f":"N12","v":212},{"$f":"COUNTIF(L114:L139,AN12)","v":1},{"$f":"AO12/(AQ4-AO11)","v":3.8461538461538464E-2},{"$f":"IF(AP12=0,0,(AP12*((LOG(AP12))/LOG(2))))","v":-0.18078614300542661},null,{"$f":"N12","v":212},{"$f":"COUNTIF(L140:L166,AS12)","v":0},{"$f":"AT12/(AV4-AT11)","v":0},{"$f":"IF(AU12=0,0,(AU12*((LOG(AU12))/LOG(2))))","v":0}]
[12,860,24,889,24,907,null,null,null,null,0,122,null,221,{"$f":"COUNTIF($L$7:$L$500,N13)","v":0},{"$f":"O13/$Q$4","v":0},{"$f":"IF(P13=0,0,(P13*((LOG(P13))/LOG(2))))","v":0},null,null,{"$f":"N13","v":221},{"$f":"COUNTIF(L7:L33,T13)","v":0},{"$f":"U13/(W4-U11)","v":0},{"$f":"IF(V13=0,0,(V13*((LOG(V13))/LOG(2))))","v":0},null,{"$f":"N13","v":221},{"$f":"COUNTIF(L34:L59,Y13)","v":0},{"$f":"Z13/(AB4-Z11)","v":0},{"$f":"IF(AA13=0,0,(AA13*((LOG(AA13))/LOG(2))))","v":0},null,{"$f":"N13","v":221},{"$f":"COUNTIF(L60:L86,AD13)","v":0},{"$f":"AE13/(AG4-AE11)","v":0},{"$f":"IF(AF13=0,0,(AF13*((LOG(AF13))/LOG(2))))","v":0},null,{"$f":"N13","v":221},{"$f":"COUNTIF(L87:L113,AI13)","v":0},{"$f":"AJ13/(AL4-AJ11)","v":0},{"$f":"IF(AK13=0,0,(AK13*((LOG(AK13))/LOG(2))))","v":0},null,{"$f":"N13","v":221},{"$f":"COUNTIF(L114:L139,AN13)","v":0},{"$f":"AO13/(AQ4-AO11)","v":0},{"$f":"IF(AP13=0,0,(AP13*((LOG(AP13))/LOG(2))))","v":0},null,{"$f":"N13","v":221},{"$f":"COUNTIF(L140:L166,AS13)","v":0},{"$f":"AT13/(AV4-AT11)","v":0},{"$f":"IF(AU13=0,0,(AU13*((LOG(AU13))/LOG(2))))","v":0}]
[21,1094,22,1099,24,1106,null,null,null,null,0,222,null,222,{"$f":"COUNTIF($L$7:$L$500,N14)","v":109},{"$f":"O14/$Q$4","v":0.68125000000000002},{"$f":"IF(P14=0,0,(P14*((LOG(P14))/LOG(2))))","v":-0.37723794338773453},null,null,{"$f":"N14","v":222},{"$f":"COUNTIF(L7:L33,T14)","v":15},{"$f":"U14/(W4-U11)","v":0.55555555555555558},{"$f":"IF(V14=0,0,(V14*((LOG(V14))/LOG(2))))","v":-0.4711093925305278},null,{"$f":"N14","v":222},{"$f":"COUNTIF(L34:L59,Y14)","v":13},{"$f":"Z14/(AB4-Z11)","v":0.5},{"$f":"IF(AA14=0,0,(AA14*((LOG(AA14))/LOG(2))))","v":-0.5},null,{"$f":"N14","v":222},{"$f":"COUNTIF(L60:L86,AD14)","v":18},{"$f":"AE14/(AG4-AE11)","v":0.66666666666666663},{"$f":"IF(AF14=0,0,(AF14*((LOG(AF14))/LOG(2))))","v":-0.38997500048077083},null,{"$f":"N14","v":222},{"$f":"COUNTIF(L87:L113,AI14)","v":23},{"$f":"AJ14/(AL4-AJ11)","v":0.85185185185185186},{"$f":"IF(AK14=0,0,(AK14*((LOG(AK14))/LOG(2))))","v":-0.19705509483142519},null,{"$f":"N14","v":222},{"$f":"COUNTIF(L114:L139,AN14)","v":20},{"$f":"AO14/(AQ4-AO11)","v":0.76923076923076927},{"$f":"IF(AP14=0,0,(AP14*((LOG(AP14))/LOG(2))))","v":-0.29116278711825366},null,{"$f":"N14","v":222},{"$f":"COUNTIF(L140:L166,AS14)","v":20},{"$f":"AT14/(AV4-AT11)","v":0.7407407407407407},{"$f":"IF(AU14=0,0,(AU14*((LOG(AU14))/LOG(2))))","v":-0.32071067205637499}]
[12,1231,13,1246,24,1250,null,null,null,null,0,112,null,null,null,{"$f":"SUM(P7:P14)","v":1},{"$f":"-SUM(Q7:Q14)","v":1.1861831063766135},null,null,null,null,{"$f":"SUM(V7:V14)","v":1},{"$f":"-SUM(W7:W14)","v":1.3540489879782316},null,null,null,{"$f":"SUM(AA7:AA14)","v":1},{"$f":"-SUM(AB7:AB14)","v":1.4956321302677145},null,null,null,{"$f":"SUM(AF7:AF14)","v":1},{"$f":"-SUM(AG7:AG14)","v":1.1730306695573631},null,null,null,{"$f":"SUM(AK7:AK14)","v":1},{"$f":"-SUM(AL7:AL14)","v":0.60518657663342057},null,null,null,{"$f":"SUM(AP7:AP14)","v":1},{"$f":"-SUM(AQ7:AQ14)","v":0.9293550115186282},null,null,null,{"$f":"SUM(AU7:AU14)","v":1},{"$f":"-SUM(AV7:AV14)","v":0.97902317245701731}]
[12,1345,24,1365,24,1371,null,null,null,null,0,122,null,null,null,"U=",{"$f":"Q15/(LOG(Q4)/LOG(2))","v":0.16200420039700777},null,null,null,null,"U1=",{"$f":"W15/(LOG(W4)/LOG(2))","v":0.28476993143626234},null,null,null,"U2=",{"$f":"AB15/(LOG(AB4)/LOG(2))","v":0.31818983328206585},null,null,null,"U3=",{"$f":"AG15/(LOG(AG4)/LOG(2))","v":0.24669998375852964},null,null,null,"U4=",{"$f":"AL15/(LOG(AL4)/LOG(2))","v":0.127276739220026},null,null,null,"U5=",{"$f":"AQ15/(LOG(AQ4)/LOG(2))","v":0.19771661105062852},null,null,null,"U6=",{"$f":"AV15/(LOG(AV4)/LOG(2))","v":0.20589828297968416}]
[12,1463,24,1481,24,1488,null,null,null,null,0,122]
[21,1588,22,1596,24,1610,null,null,null,null,0,222]
[12,1703,24,1719,24,1724,null,null,null,null,0,122,null,"Total Target Seq"]
[12,1831,24,1840,24,1860,null,null,null,null,0,122,null,{"$f":"COUNTIF(L7:L166,G3)","v":0},null,27,26,27,27,26,27]
[21,1964,22,1970,24,1976,null,null,null,null,0,222,null,null,null,"% of reinforcement given in 6 equal intervals based on number of trials "]
[12,2117,24,2131,24,2135,null,null,null,null,0,122,null,null,null,"%_1","%_2","%_3","%_4","%_5","%_6"]
[21,2245,22,2259,24,2273,null,null,null,null,0,222,null,null,"target sequence",{"$f":"$G$3","v":211},{"$f":"$G$3","v":211},{"$f":"$G$3","v":211},{"$f":"$G$3","v":211},{"$f":"$G$3","v":211},{"$f":"$G$3","v":211}]
[12,2431,24,2447,24,2453,null,null,null,null,0,122,null,null,"total reinforcement",{"$f":"U11","v":0},{"$f":"Z11","v":0},{"$f":"AE11","v":0},{"$f":"AJ11","v":0},{"$f":"AO11","v":0},{"$f":"AT11","v":0}]
[21,2562,22,2576,24,2582,null,null,null,null,0,222,null,null,"% target"]
[12,2676,24,2692,24,2699,null,null,null,null,0,122,null,null,"CCRF"]
[21,2805,22,2810,24,2815,null,null,null,null,0,222,null,null,"% CCRf"]
[21,2916,22,2925,24,2932,null,null,null,null,0,222,null,null,"average response rate",{"$f":"F33/P20","v":134.22222222222223},{"$f":"(F59-F33)/Q20","v":124.96153846153847},{"$f":"(F86-F59)/R20","v":161.44444444444446},{"$f":"(F113-F86)/S20","v":166.4814814814815},{"$f":"(F139-F113)/T20","v":153.80769230769232},{"$f":"(F166-F139)/U20","v":158.33333333333334}]
[21,3034,22,3043,24,3049,null,null,null,null,0,222]
[21,3233,22,3239,24,3251,null,null,null,null,0,222]
[21,3360,22,3364,24,3378,null,null,null,null,0,222]
[21,3482,22,3489,24,3495,null,null,null,null,0,222]
[21,3604,22,3618,24,3624,null,null,null,null,0,222]
[21,3728,22,3732,24,3736,null,null,null,null,0,222]
[12,3828,24,3845,24,3853,null,null,null,null,0,122]
[12,3947,24,3951,24,3957,null,null,null,null,0,122]
[12,4056,24,4069,24,4071,null,null,null,null,0,122]
[21,4195,22,4199,24,4205,null,null,null,null,0,222]
[12,4360,13,4367,24,4377,null,null,null,null,0,112]
[21,4484,22,4488,24,4492,null,null,null,null,0,222]
[21,4601,22,4606,24,4612,null,null,null,null,0,222]
[21,4716,22,4723,24,4728,null,null,null,null,0,222]
[21,4827,22,4832,24,4842,null,null,null,null,0,222]
[21,4946,22,4951,24,4955,null,null,null,null,0,222]
[12,5048,13,5056,24,5066,null,null,null,null,0,112]
[21,5168,22,5178,24,5185,null,null,null,null,0,222]
[21,5293,22,5303,24,5308,null,null,null,null,0,222]
[12,5402,24,5411,24,5416,null,null,null,null,0,122]
[12,5511,24,5519,24,5537,null,null,null,null,0,122]
[21,5645,22,5647,24,5653,null,null,null,null,0,222]
[21,5960,22,5964,24,5979,null,null,null,null,0,222]
[12,6072,24,6078,24,6090,null,null,null,null,0,122]
[12,6185,24,6202,24,6210,null,null,null,null,0,122]
[21,6312,22,6320,24,6328,null,null,null,null,0,222]
[12,6421,24,6428,24,6434,null,null,null,null,0,122]
[12,6529,24,6534,24,6543,null,null,null,null,0,122]
[21,6649,22,6653,24,6657,null,null,null,null,0,222]
[12,6749,24,6767,24,6771,null,null,null,null,0,122]
[21,6863,11,6864,22,6873,null,null,null,null,0,212]
[21,6966,22,6975,24,6981,null,null,null,null,0,222]
[12,7074,24,7079,24,7085,null,null,null,null,0,122]
[21,7302,22,7308,24,7315,null,null,null,null,0,222]
[21,7455,22,7467,24,7473,null,null,null,null,0,222]
[21,7576,22,7579,24,7588,null,null,null,null,0,222]
[12,7832,24,7844,24,7851,null,null,null,null,0,122]
[21,8017,22,8021,24,8031,null,null,null,null,0,222]
[12,8183,24,8201,24,8207,null,null,null,null,0,122]
[12,8332,24,8340,24,8346,null,null,null,null,0,122]
[21,8452,22,8465,24,8471,null,null,null,null,0,222]
[21,8576,22,8586,24,8592,null,null,null,null,0,222]
[21,8697,22,8707,24,8713,null,null,null,null,0,222]
[21,8815,22,8821,24,8827,null,null,null,null,0,222]
[21,9055,22,9060,24,9072,null,null,null,null,0,222]
[21,9466,22,9482,24,9513,null,null,null,null,0,222]
[12,9604,13,9614,24,9630,null,null,null,null,0,112]
[21,9749,22,9757,24,9765,null,null,null,null,0,222]
[21,9869,22,9879,24,9884,null,null,null,null,0,222]
[12,9977,13,9984,24,9994,null,null,null,null,0,112]
[12,10316,24,10327,24,10332,null,null,null,null,0,122]
[21,10428,22,10448,24,10458,null,null,null,null,0,222]
[12,10551,24,10568,24,10573,null,null,null,null,0,122]
[21,10745,22,10755,24,10760,null,null,null,null,0,222]
[12,10856,24,10860,24,10866,null,null,null,null,0,122]
[21,10975,22,10989,24,10996,null,null,null,null,0,222]
[21,11102,22,11112,24,11120,null,null,null,null,0,222]
[21,11220,22,11226,24,11232,null,null,null,null,0,222]
[21,11439,22,11454,24,11464,null,null,null,null,0,222]
[21,11692,22,11703,24,11708,null,null,null,null,0,222]
[21,11907,22,11916,24,11921,null,null,null,null,0,222]
[21,12070,22,12073,24,12097,null,null,null,null,0,222]
[21,12410,22,12417,24,12423,null,null,null,null,0,222]
[21,12683,22,12685,24,12697,null,null,null,null,0,222]
[21,12930,22,12936,24,12944,null,null,null,null,0,222]
[21,13106,22,13119,24,13126,null,null,null,null,0,222]
[21,13224,22,13230,24,13236,null,null,null,null,0,222]
[21,13336,22,13342,24,13349,null,null,null,null,0,222]
[21,13447,22,13451,24,13458,null,null,null,null,0,222]
[21,13722,22,13725,24,13743,null,null,null,null,0,222]
[21,13839,22,13847,24,13853,null,null,null,null,0,222]
[21,13951,22,13959,24,13963,null,null,null,null,0,222]
[21,14069,22,14082,24,14092,null,null,null,null,0,222]
[21,14194,22,14205,24,14212,null,null,null,null,0,222]
[12,14308,24,14310,24,14314,null,null,null,null,0,122]
[21,14411,22,14417,24,14423,null,null,null,null,0,222]
[21,14759,22,14763,24,14769,null,null,null,null,0,222]
[21,14877,22,14887,24,14894,null,null,null,null,0,222]
[12,14988,24,14994,24,14999,null,null,null,null,0,122]
[21,15098,22,15105,24,15112,null,null,null,null,0,222]
[21,15213,22,15222,24,15227,null,null,null,null,0,222]
[21,15331,22,15335,24,15340,null,null,null,null,0,222]
[21,15447,22,15453,24,15459,null,null,null,null,0,222]
[12,15559,24,15562,24,15568,null,null,null,null,0,122]
[12,15704,24,15720,24,15727,null,null,null,null,0,122]
[21,15832,22,15837,24,15845,null,null,null,null,0,222]
[21,15944,22,15955,24,15960,null,null,null,null,0,222]
[21,16061,11,16062,22,16069,null,null,null,null,0,212]
[21,16172,22,16179,24,16185,null,null,null,null,0,222]
[21,16290,22,16301,24,16306,null,null,null,null,0,222]
[21,16405,22,16416,24,16422,null,null,null,null,0,222]
[21,16518,22,16526,24,16532,null,null,null,null,0,222]
[21,16637,22,16649,24,16656,null,null,null,null,0,222]
[21,16756,22,16764,24,16770,null,null,null,null,0,222]
[21,16868,22,16875,24,16881,null,null,null,null,0,222]
[21,16983,22,16992,24,16997,null,null,null,null,0,222]
[21,17288,22,17296,24,17302,null,null,null,null,0,222]
[21,17404,22,17414,24,17422,null,null,null,null,0,222]
[21,17522,22,17530,24,17535,null,null,null,null,0,222]
[21,17635,22,17645,24,17651,null,null,null,null,0,222]
[12,17746,24,17757,24,17764,null,null,null,null,0,122]
[21,18426,22,18431,24,18436,null,null,null,null,0,222]
[21,18535,22,18544,24,18550,null,null,null,null,0,222]
[21,18654,22,18658,24,18661,null,null,null,null,0,222]
[12,18754,24,18766,24,18771,null,null,null,null,0,122]
[21,18877,22,18884,24,18890,null,null,null,null,0,222]
[12,18986,24,18990,24,18995,null,null,null,null,0,122]
[12,19091,24,19094,24,19102,null,null,null,null,0,122]
[12,19198,24,19202,24,19208,null,null,null,null,0,122]
[21,19371,22,19387,24,19402,null,null,null,null,0,222]
[21,19717,22,19721,24,19726,null,null,null,null,0,222]
[21,20038,22,20044,24,20050,null,null,null,null,0,222]
[21,20154,22,20160,24,20166,null,null,null,null,0,222]
[21,20279,22,20294,24,20300,null,null,null,null,0,222]
[21,20404,22,20408,24,20413,null,null,null,null,0,222]
[21,20658,22,20664,24,20671,null,null,null,null,0,222]
[21,20868,22,20873,24,20879,null,null,null,null,0,222]
[12,20982,24,20991,24,20996,null,null,null,null,0,122]
[21,21208,22,21220,24,21231,null,null,null,null,0,222]
[12,21324,13,21327,24,21339,null,null,null,null,0,112]
[21,21522,22,21533,24,21539,null,null,null,null,0,222]
[21,21792,22,21798,24,21804,null,null,null,null,0,222]
[21,21906,22,21910,24,21916,null,null,null,null,0,222]
[21,22019,22,22023,24,22028,null,null,null,null,0,222]
[21,22285,22,22299,24,22306,null,null,null,null,0,222]
[21,22414,22,22426,24,22431,null,null,null,null,0,222]
[12,22527,24,22541,24,22553,null,null,null,null,0,122]
[21,22647,22,22652,24,22655,null,null,null,null,0,222]
[12,22751,24,22761,24,22768,null,null,null,null,0,122]
[21,22882,22,22888,24,22894,null,null,null,null,0,222]
[21,22998,22,23006,24,23012,null,null,null,null,0,222]
[21,23186,22,23189,24,23195,null,null,null,null,0,222]
[21,23298,22,23300,24,23310,null,null,null,null,0,222]
[21,23412,22,23420,24,23425,null,null,null,null,0,222]
[12,23533,24,23541,24,23548,null,null,null,null,0,122]
[12,23643,24,23647,24,23657,null,null,null,null,0,122]
[12,23845,24,23864,24,23874,null,null,null,null,0,122]
[21,23982,22,23994,24,24001,null,null,null,null,null,222]

{"sheet":"!M210B40.Gus","index":26,"n_rows":168,"n_cols":48,"rows_kept":168,"cut":false,"hidden":false,"merged":[[4,39,4,42],[5,39,5,40],[4,44,4,47],[5,44,5,45],[4,24,4,27],[5,24,5,25],[4,29,4,32],[5,29,5,30],[4,34,4,37],[5,34,5,35],[1,1,1,2],[5,13,5,14],[18,13,18,14],[19,13,19,14],[4,19,4,22],[5,19,5,20]]}
["Report for:!M210B40.Gus"]
["Date:","<date>"]
["Hen:","<hen>",null,null,null,"Correct Sequence",{"$f":"Start!J2","v":211},null,null,null,null,null,null,null,null,"Total Sequences in Data",{"$f":"4994-COUNTBLANK(L7:L5000)","v":162},null,null,null,null,"Total Sequences in Block Data",{"$f":"COUNTA(L7:L33)","v":27},null,null,null,"Total Sequences in Block Data",{"$f":"COUNTA(L34:L60)","v":27},null,null,null,"Total Sequences in Block Data",{"$f":"COUNTA(L61:L87)","v":27},null,null,null,"Total Sequences in Block Data",{"$f":"COUNTA(L88:L114)","v":27},null,null,null,"Total Sequences in Block Data",{"$f":"COUNTA(L115:L141)","v":27},null,null,null,"Total Sequences in Block Data",{"$f":"COUNTA(L142:L168)","v":27}]
[null,null,null,null,null,null,null,null,null,null,null,null,null,null,null,"Total Sequences in Summary",{"$f":"SUM(O7:O14)","v":162},null,null,null,null,"Total Sequences in Block Summary",{"$f":"SUM(U7:U14)","v":27},null,null,null,"Total Sequences in Block Summary",{"$f":"SUM(Z7:Z14)","v":27},null,null,null,"Total Sequences in Block Summary",{"$f":"SUM(AE7:AE14)","v":27},null,null,null,"Total Sequences in Block Summary",{"$f":"SUM(AJ7:AJ14)","v":27},null,null,null,"Total Sequences in Block Summary",{"$f":"SUM(AO7:AO14)","v":27},null,null,null,"Total Sequences in Block Summary",{"$f":"SUM(AT7:AT14)","v":27}]
[null,null,null,null,null,null,null,null,null,null,null,null,null,null,null,null,null,null,null,"Block 1",null,null,null,null,"Block 2",null,null,null,null,"Block 3",null,null,null,null,"Block 4",null,null,null,null,"Block 5",null,null,null,null,"Block 6"]
["Sequence\nComponent\n1","Time\n1","Sequence\nComponent\n2","Time\n2","Sequence\nComponent\n3","Time\n3","Sequence\nComponent\n4","Time\n4","Sequence\nComponent\n5","Time\n5","Correct?\n0=No 1=Yes","Sequence",null,"Frequency",null,"Relative Frequency","Variability",null,null,"Frequency",null,"Relative Frequency","Variability",null,"Frequency",null,"Relative Frequency","Variability",null,"Frequency",null,"Relative Frequency","Variability",null,"Frequency",null,"Relative Frequency","Variability",null,"Frequency",null,"Relative Frequency","Variability",null,"Frequency",null,"Relative Frequency","Variability"]
[21,117,22,121,24,125,null,null,null,null,0,222,null,111,{"$f":"COUNTIF($L$7:$L$500,N7)","v":1},{"$f":"O7/$Q$4","v":6.1728395061728392E-3},{"$f":"IF(P7=0,0,(P7*((LOG(P7))/LOG(2))))","v":-4.5307716067189037E-2},null,null,{"$f":"N7","v":111},{"$f":"COUNTIF(L7:L33,T7)","v":0},{"$f":"U7/(W4-U11)","v":0},{"$f":"IF(V7=0,0,(V7*((LOG(V7))/LOG(2))))","v":0},null,{"$f":"N7","v":111},{"$f":"COUNTIF(L34:L60,Y7)","v":0},{"$f":"Z7/(AB4-Z11)","v":0},{"$f":"IF(AA7=0,0,(AA7*((LOG(AA7))/LOG(2))))","v":0},null,{"$f":"N7","v":111},{"$f":"COUNTIF(L61:L87,AD7)","v":0},{"$f":"AE7/(AG4-AE11)","v":0},{"$f":"IF(AF7=0,0,(AF7*((LOG(AF7))/LOG(2))))","v":0},null,{"$f":"N7","v":111},{"$f":"COUNTIF(L88:L114,AI7)","v":0},{"$f":"AJ7/(AL4-AJ11)","v":0},{"$f":"IF(AK7=0,0,(AK7*((LOG(AK7))/LOG(2))))","v":0},null,{"$f":"N7","v":111},{"$f":"COUNTIF(L115:L141,AN7)","v":1},{"$f":"AO7/(AQ4-AO11)","v":3.7037037037037035E-2},{"$f":"IF(AP7=0,0,(AP7*((LOG(AP7))/LOG(2))))","v":-0.1761069445245729},null,{"$f":"N7","v":111},{"$f":"COUNTIF(L142:L168,AS7)","v":0},{"$f":"AT7/(AV4-AT11)","v":0},{"$f":"IF(AU7=0,0,(AU7*((LOG(AU7))/LOG(2))))","v":0}]
[21,224,22,234,24,242,null,null,null,null,0,222,null,112,{"$f":"COUNTIF($L$7:$L$500,N8)","v":5},{"$f":"O8/$Q$4","v":3.0864197530864196E-2},{"$f":"IF(P8=0,0,(P8*((LOG(P8))/LOG(2))))","v":-0.15487413296287847},null,null,{"$f":"N8","v":112},{"$f":"COUNTIF(L7:L33,T8)","v":0},{"$f":"U8/(W4-U11)","v":0},{"$f":"IF(V8=0,0,(V8*((LOG(V8))/LOG(2))))","v":0},null,{"$f":"N8","v":112},{"$f":"COUNTIF(L34:L60,Y8)","v":0},{"$f":"Z8/(AB4-Z11)","v":0},{"$f":"IF(AA8=0,0,(AA8*((LOG(AA8))/LOG(2))))","v":0},null,{"$f":"N8","v":112},{"$f":"COUNTIF(L61:L87,AD8)","v":2},{"$f":"AE8/(AG4-AE11)","v":7.407407407407407E-2},{"$f":"IF(AF8=0,0,(AF8*((LOG(AF8))/LOG(2))))","v":-0.27813981497507173},null,{"$f":"N8","v":112},{"$f":"COUNTIF(L88:L114,AI8)","v":3},{"$f":"AJ8/(AL4-AJ11)","v":0.1111111111111111},{"$f":"IF(AK8=0,0,(AK8*((LOG(AK8))/LOG(2))))","v":-0.3522138890491458},null,{"$f":"N8","v":112},{"$f":"COUNTIF(L115:L141,AN8)","v":0},{"$f":"AO8/(AQ4-AO11)","v":0},{"$f":"IF(AP8=0,0,(AP8*((LOG(AP8))/LOG(2))))","v":0},null,{"$f":"N8","v":112},{"$f":"COUNTIF(L142:L168,AS8)","v":0},{"$f":"AT8/(AV4-AT11)","v":0},{"$f":"IF(AU8=0,0,(AU8*((LOG(AU8))/LOG(2))))","v":0}]
[21,349,22,356,24,361,null,null,null,null,0,222,null,121,{"$f":"COUNTIF($L$7:$L$500,N9)","v":0},{"$f":"O9/$Q$4","v":0},{"$f":"IF(P9=0,0,(P9*((LOG(P9))/LOG(2))))","v":0},null,null,{"$f":"N9","v":121},{"$f":"COUNTIF(L7:L33,T9)","v":0},{"$f":"U9/(W4-U11)","v":0},{"$f":"IF(V9=0,0,(V9*((LOG(V9))/LOG(2))))","v":0},null,{"$f":"N9","v":121},{"$f":"COUNTIF(L34:L60,Y9)","v":0},{"$f":"Z9/(AB4-Z11)","v":0},{"$f":"IF(AA9=0,0,(AA9*((LOG(AA9))/LOG(2))))","v":0},null,{"$f":"N9","v":121},{"$f":"COUNTIF(L61:L87,AD9)","v":0},{"$f":"AE9/(AG4-AE11)","v":0},{"$f":"IF(AF9=0,0,(AF9*((LOG(AF9))/LOG(2))))","v":0},null,{"$f":"N9","v":121},{"$f":"COUNTIF(L88:L114,AI9)","v":0},{"$f":"AJ9/(AL4-AJ11)","v":0},{"$f":"IF(AK9=0,0,(AK9*((LOG(AK9))/LOG(2))))","v":0},null,{"$f":"N9","v":121},{"$f":"COUNTIF(L115:L141,AN9)","v":0},{"$f":"AO9/(AQ4-AO11)","v":0},{"$f":"IF(AP9=0,0,(AP9*((LOG(AP9))/LOG(2))))","v":0},null,{"$f":"N9","v":121},{"$f":"COUNTIF(L142:L168,AS9)","v":0},{"$f":"AT9/(AV4-AT11)","v":0},{"$f":"IF(AU9=0,0,(AU9*((LOG(AU9))/LOG(2))))","v":0}]
[21,458,22,464,24,483,null,null,null,null,0,222,null,122,{"$f":"COUNTIF($L$7:$L$500,N10)","v":37},{"$f":"O10/$Q$4","v":0.22839506172839505},{"$f":"IF(P10=0,0,(P10*((LOG(P10))/LOG(2))))","v":-0.48657207147197512},null,null,{"$f":"N10","v":122},{"$f":"COUNTIF(L7:L33,T10)","v":5},{"$f":"U10/(W4-U11)","v":0.18518518518518517},{"$f":"IF(V10=0,0,(V10*((LOG(V10))/LOG(2))))","v":-0.45054803838446406},null,{"$f":"N10","v":122},{"$f":"COUNTIF(L34:L60,Y10)","v":7},{"$f":"Z10/(AB4-Z11)","v":0.25925925925925924},{"$f":"IF(AA10=0,0,(AA10*((LOG(AA10))/LOG(2))))","v":-0.5049158541015204},null,{"$f":"N10","v":122},{"$f":"COUNTIF(L61:L87,AD10)","v":6},{"$f":"AE10/(AG4-AE11)","v":0.22222222222222221},{"$f":"IF(AF10=0,0,(AF10*((LOG(AF10))/LOG(2))))","v":-0.48220555587606945},null,{"$f":"N10","v":122},{"$f":"COUNTIF(L88:L114,AI10)","v":9},{"$f":"AJ10/(AL4-AJ11)","v":0.33333333333333331},{"$f":"IF(AK10=0,0,(AK10*((LOG(AK10))/LOG(2))))","v":-0.52832083357371862},null,{"$f":"N10","v":122},{"$f":"COUNTIF(L115:L141,AN10)","v":6},{"$f":"AO10/(AQ4-AO11)","v":0.22222222222222221},{"$f":"IF(AP10=0,0,(AP10*((LOG(AP10))/LOG(2))))","v":-0.48220555587606945},null,{"$f":"N10","v":122},{"$f":"COUNTIF(L142:L168,AS10)","v":4},{"$f":"AT10/(AV4-AT11)","v":0.14814814814814814},{"$f":"IF(AU10=0,0,(AU10*((LOG(AU10))/LOG(2))))","v":-0.40813148180199532}]
[21,585,22,590,24,596,null,null,null,null,0,222,null,211,{"$f":"COUNTIF($L$7:$L$500,N11)","v":0},{"$f":"O11/$Q$4","v":0},{"$f":"IF(P11=0,0,(P11*((LOG(P11))/LOG(2))))","v":0},null,null,{"$f":"N11","v":211},{"$f":"COUNTIF(L7:L33,T11)","v":0},null,null,null,{"$f":"N11","v":211},{"$f":"COUNTIF(L34:L60,Y11)","v":0},null,null,null,{"$f":"N11","v":211},{"$f":"COUNTIF(L61:L87,AD11)","v":0},null,null,null,{"$f":"N11","v":211},{"$f":"COUNTIF(L88:L114,AI11)","v":0},null,null,null,{"$f":"N11","v":211},{"$f":"COUNTIF(L115:L141,AN11)","v":0},null,null,null,{"$f":"N11","v":211},{"$f":"COUNTIF(L142:L168,AS11)","v":0}]
[12,688,24,723,24,729,null,null,null,null,0,122,null,212,{"$f":"COUNTIF($L$7:$L$500,N12)","v":0},{"$f":"O12/$Q$4","v":0},{"$f":"IF(P12=0,0,(P12*((LOG(P12))/LOG(2))))","v":0},null,null,{"$f":"N12","v":212},{"$f":"COUNTIF(L7:L33,T12)","v":0},{"$f":"U12/(W4-U11)","v":0},{"$f":"IF(V12=0,0,(V12*((LOG(V12))/LOG(2))))","v":0},null,{"$f":"N12","v":212},{"$f":"COUNTIF(L34:L60,Y12)","v":0},{"$f":"Z12/(AB4-Z11)","v":0},{"$f":"IF(AA12=0,0,(AA12*((LOG(AA12))/LOG(2))))","v":0},null,{"$f":"N12","v":212},{"$f":"COUNTIF(L61:L87,AD12)","v":0},{"$f":"AE12/(AG4-AE11)","v":0},{"$f":"IF(AF12=0,0,(AF12*((LOG(AF12))/LOG(2))))","v":0},null,{"$f":"N12","v":212},{"$f":"COUNTIF(L88:L114,AI12)","v":0},{"$f":"AJ12/(AL4-AJ11)","v":0},{"$f":"IF(AK12=0,0,(AK12*((LOG(AK12))/LOG(2))))","v":0},null,{"$f":"N12","v":212},{"$f":"COUNTIF(L115:L141,AN12)","v":0},{"$f":"AO12/(AQ4-AO11)","v":0},{"$f":"IF(AP12=0,0,(AP12*((LOG(AP12))/LOG(2))))","v":0},null,{"$f":"N12","v":212},{"$f":"COUNTIF(L142:L168,AS12)","v":0},{"$f":"AT12/(AV4-AT11)","v":0},{"$f":"IF(AU12=0,0,(AU12*((LOG(AU12))/LOG(2))))","v":0}]
[12,841,24,861,24,873,null,null,null,null,0,122,null,221,{"$f":"COUNTIF($L$7:$L$500,N13)","v":0},{"$f":"O13/$Q$4","v":0},{"$f":"IF(P13=0,0,(P13*((LOG(P13))/LOG(2))))","v":0},null,null,{"$f":"N13","v":221},{"$f":"COUNTIF(L7:L33,T13)","v":0},{"$f":"U13/(W4-U11)","v":0},{"$f":"IF(V13=0,0,(V13*((LOG(V13))/LOG(2))))","v":0},null,{"$f":"N13","v":221},{"$f":"COUNTIF(L34:L60,Y13)","v":0},{"$f":"Z13/(AB4-Z11)","v":0},{"$f":"IF(AA13=0,0,(AA13*((LOG(AA13))/LOG(2))))","v":0},null,{"$f":"N13","v":221},{"$f":"COUNTIF(L61:L87,AD13)","v":0},{"$f":"AE13/(AG4-AE11)","v":0},{"$f":"IF(AF13=0,0,(AF13*((LOG(AF13))/LOG(2))))","v":0},null,{"$f":"N13","v":221},{"$f":"COUNTIF(L88:L114,AI13)","v":0},{"$f":"AJ13/(AL4-AJ11)","v":0},{"$f":"IF(AK13=0,0,(AK13*((LOG(AK13))/LOG(2))))","v":0},null,{"$f":"N13","v":221},{"$f":"COUNTIF(L115:L141,AN13)","v":0},{"$f":"AO13/(AQ4-AO11)","v":0},{"$f":"IF(AP13=0,0,(AP13*((LOG(AP13))/LOG(2))))","v":0},null,{"$f":"N13","v":221},{"$f":"COUNTIF(L142:L168,AS13)","v":0},{"$f":"AT13/(AV4-AT11)","v":0},{"$f":"IF(AU13=0,0,(AU13*((LOG(AU13))/LOG(2))))","v":0}]
[21,1233,22,1240,24,1246,null,null,null,null,0,222,null,222,{"$f":"COUNTIF($L$7:$L$500,N14)","v":119},{"$f":"O14/$Q$4","v":0.73456790123456794},{"$f":"IF(P14=0,0,(P14*((LOG(P14))/LOG(2))))","v":-0.32690639820756212},null,null,{"$f":"N14","v":222},{"$f":"COUNTIF(L7:L33,T14)","v":22},{"$f":"U14/(W4-U11)","v":0.81481481481481477},{"$f":"IF(V14=0,0,(V14*((LOG(V14))/LOG(2))))","v":-0.24074183102132479},null,{"$f":"N14","v":222},{"$f":"COUNTIF(L34:L60,Y14)","v":20},{"$f":"Z14/(AB4-Z11)","v":0.7407407407407407},{"$f":"IF(AA14=0,0,(AA14*((LOG(AA14))/LOG(2))))","v":-0.32071067205637499},null,{"$f":"N14","v":222},{"$f":"COUNTIF(L61:L87,AD14)","v":19},{"$f":"AE14/(AG4-AE11)","v":0.70370370370370372},{"$f":"IF(AF14=0,0,(AF14*((LOG(AF14))/LOG(2))))","v":-0.35674962169176955},null,{"$f":"N14","v":222},{"$f":"COUNTIF(L88:L114,AI14)","v":15},{"$f":"AJ14/(AL4-AJ11)","v":0.55555555555555558},{"$f":"IF(AK14=0,0,(AK14*((LOG(AK14))/LOG(2))))","v":-0.4711093925305278},null,{"$f":"N14","v":222},{"$f":"COUNTIF(L115:L141,AN14)","v":20},{"$f":"AO14/(AQ4-AO11)","v":0.7407407407407407},{"$f":"IF(AP14=0,0,(AP14*((LOG(AP14))/LOG(2))))","v":-0.32071067205637499},null,{"$f":"N14","v":222},{"$f":"COUNTIF(L142:L168,AS14)","v":23},{"$f":"AT14/(AV4-AT11)","v":0.85185185185185186},{"$f":"IF(AU14=0,0,(AU14*((LOG(AU14))/LOG(2))))","v":-0.19705509483142519}]
[21,1371,22,1378,24,1385,null,null,null,null,0,222,null,null,null,{"$f":"SUM(P7:P14)","v":1},{"$f":"-SUM(Q7:Q14)","v":1.0136603187096047},null,null,null,null,{"$f":"SUM(V7:V14)","v":1},{"$f":"-SUM(W7:W14)","v":0.69128986940578885},null,null,null,{"$f":"SUM(AA7:AA14)","v":1},{"$f":"-SUM(AB7:AB14)","v":0.82562652615789545},null,null,null,{"$f":"SUM(AF7:AF14)","v":1},{"$f":"-SUM(AG7:AG14)","v":1.1170949925429108},null,null,null,{"$f":"SUM(AK7:AK14)","v":1},{"$f":"-SUM(AL7:AL14)","v":1.3516441151533922},null,null,null,{"$f":"SUM(AP7:AP14)","v":1},{"$f":"-SUM(AQ7:AQ14)","v":0.97902317245701731},null,null,null,{"$f":"SUM(AU7:AU14)","v":1},{"$f":"-SUM(AV7:AV14)","v":0.60518657663342057}]
[21,1535,22,1540,24,1544,null,null,null,null,0,222,null,null,null,"U=",{"$f":"Q15/(LOG(Q4)/LOG(2))","v":0.13810368308769627},null,null,null,null,"U1=",{"$f":"W15/(LOG(W4)/LOG(2))","v":0.14538511565021311},null,null,null,"U2=",{"$f":"AB15/(LOG(AB4)/LOG(2))","v":0.17363744689695315},null,null,null,"U3=",{"$f":"AG15/(LOG(AG4)/LOG(2))","v":0.23493615612033594},null,null,null,"U4=",{"$f":"AL15/(LOG(AL4)/LOG(2))","v":0.28426416283001349},null,null,null,"U5=",{"$f":"AQ15/(LOG(AQ4)/LOG(2))","v":0.20589828297968416},null,null,null,"U6=",{"$f":"AV15/(LOG(AV4)/LOG(2))","v":0.127276739220026}]
[21,1714,22,1721,24,1732,null,null,null,null,0,222]
[12,1826,24,1834,24,1845,null,null,null,null,0,122]
[21,1953,22,1963,24,1971,null,null,null,null,0,222,null,"Total Target Seq"]
[12,2066,24,2069,24,2080,null,null,null,null,0,122,null,{"$f":"COUNTIF(L7:L168,G3)","v":0},null,27,27,27,27,27,27]
[21,2179,22,2186,24,2192,null,null,null,null,0,222,null,null,null,"% of reinforcement given in 6 equal intervals based on number of trials "]
[21,2297,22,2301,24,2309,null,null,null,null,0,222,null,null,null,"%_1","%_2","%_3","%_4","%_5","%_6"]
[21,2411,22,2415,24,2421,null,null,null,null,0,222,null,null,"target sequence",{"$f":"$G$3","v":211},{"$f":"$G$3","v":211},{"$f":"$G$3","v":211},{"$f":"$G$3","v":211},{"$f":"$G$3","v":211},{"$f":"$G$3","v":211}]
[21,2530,22,2536,24,2544,null,null,null,null,0,222,null,null,"total reinforcement",{"$f":"U11","v":0},{"$f":"Z11","v":0},{"$f":"AE11","v":0},{"$f":"AJ11","v":0},{"$f":"AO11","v":0},{"$f":"AT11","v":0}]
[21,2731,22,2738,24,2762,null,null,null,null,0,222,null,null,"% target"]
[21,2866,22,2874,24,2879,null,null,null,null,0,222,null,null,"CCRF"]
[21,2982,22,2986,24,2992,null,null,null,null,0,222,null,null,"% CCRf"]
[12,3086,24,3090,24,3099,null,null,null,null,0,122,null,null,"average response rate",{"$f":"F33/P20","v":145.18518518518519},{"$f":"(F60-F33)/Q20","v":153.96296296296296},{"$f":"(F87-F60)/R20","v":149.59259259259258},{"$f":"(F114-F87)/S20","v":128.85185185185185},{"$f":"(F141-F114)/T20","v":133.14814814814815},{"$f":"(F168-F141)/U20","v":165.11111111111111}]
[21,3198,22,3200,24,3208,null,null,null,null,0,222]
[21,3310,22,3314,24,3318,null,null,null,null,0,222]
[21,3420,22,3423,24,3427,null,null,null,null,0,222]
[21,3532,22,3538,24,3543,null,null,null,null,0,222]
[21,3904,22,3908,24,3920,null,null,null,null,0,222]
[21,4020,22,4023,24,4033,null,null,null,null,0,222]
[21,4132,22,4137,24,4141,null,null,null,null,0,222]
[21,4239,22,4243,24,4249,null,null,null,null,0,222]
[21,4498,22,4509,24,4521,null,null,null,null,0,222]
[12,4619,24,4629,24,4636,null,null,null,null,0,122]
[12,4728,24,4742,24,4751,null,null,null,null,0,122]
[21,4855,22,4858,24,4864,null,null,null,null,0,222]
[21,5037,22,5048,24,5055,null,null,null,null,0,222]
[21,5152,22,5160,24,5165,null,null,null,null,0,222]
[21,5268,22,5272,24,5278,null,null,null,null,0,222]
[21,5379,22,5385,24,5391,null,null,null,null,0,222]
[21,5619,22,5622,24,5628,null,null,null,null,0,222]
[12,5721,24,5735,24,5739,null,null,null,null,0,122]
[21,5843,22,5849,24,5863,null,null,null,null,0,222]
[21,5961,22,5966,24,5982,null,null,null,null,0,222]
[21,6082,22,6088,24,6094,null,null,null,null,0,222]
[12,6186,24,6194,24,6202,null,null,null,null,0,122]
[21,6309,22,6320,24,6333,null,null,null,null,0,222]
[12,6425,24,6444,24,6449,null,null,null,null,0,122]
[21,6547,22,6551,24,6556,null,null,null,null,0,222]
[12,6760,24,6771,24,6781,null,null,null,null,0,122]
[21,6888,22,6895,24,6900,null,null,null,null,0,222]
[21,7020,22,7028,24,7039,null,null,null,null,0,222]
[21,7141,22,7149,24,7154,null,null,null,null,0,222]
[21,7511,22,7516,24,7530,null,null,null,null,0,222]
[12,7690,24,7698,24,7703,null,null,null,null,0,122]
[21,8065,22,8069,24,8077,null,null,null,null,0,222]
[21,8178,22,8182,24,8187,null,null,null,null,0,222]
[21,8284,22,8288,24,8295,null,null,null,null,0,222]
[21,8401,22,8409,24,8417,null,null,null,null,0,222]
[12,8510,24,8520,24,8524,null,null,null,null,0,122]
[21,8738,22,8749,24,8755,null,null,null,null,0,222]
[21,9052,22,9057,24,9065,null,null,null,null,0,222]
[12,9156,24,9180,24,9190,null,null,null,null,0,122]
[21,9289,22,9293,24,9298,null,null,null,null,0,222]
[21,9403,22,9411,24,9417,null,null,null,null,0,222]
[12,9522,13,9524,24,9528,null,null,null,null,0,112]
[21,9629,22,9634,24,9640,null,null,null,null,0,222]
[12,9736,24,9740,24,9748,null,null,null,null,0,122]
[12,9841,13,9845,24,9856,null,null,null,null,0,112]
[12,9947,24,9961,24,9965,null,null,null,null,0,122]
[21,10063,22,10072,24,10078,null,null,null,null,0,222]
[21,10182,22,10186,24,10194,null,null,null,null,0,222]
[21,10524,22,10537,24,10545,null,null,null,null,0,222]
[21,10724,22,10729,24,10745,null,null,null,null,0,222]
[21,10853,22,10860,24,10867,null,null,null,null,0,222]
[12,10962,24,10965,24,10970,null,null,null,null,0,122]
[21,11073,22,11079,24,11084,null,null,null,null,0,222]
[21,11188,22,11191,24,11195,null,null,null,null,0,222]
[21,11294,22,11298,24,11302,null,null,null,null,0,222]
[21,11546,22,11548,24,11574,null,null,null,null,0,222]
[21,11825,22,11830,24,11836,null,null,null,null,0,222]
[12,11930,24,11944,24,11947,null,null,null,null,0,122]
[21,12105,22,12108,24,12116,null,null,null,null,0,222]
[12,12209,24,12222,24,12228,null,null,null,null,0,122]
[12,12320,24,12334,24,12342,null,null,null,null,0,122]
[12,12434,24,12449,24,12456,null,null,null,null,0,122]
[21,12589,22,12596,24,12603,null,null,null,null,0,222]
[12,12699,24,12708,24,12718,null,null,null,null,0,122]
[12,12810,24,12823,24,12827,null,null,null,null,0,122]
[12,12919,13,12925,24,12935,null,null,null,null,0,112]
[12,13029,24,13035,24,13041,null,null,null,null,0,122]
[21,13140,22,13151,24,13156,null,null,null,null,0,222]
[21,13361,22,13367,24,13374,null,null,null,null,0,222]
[21,13473,22,13479,24,13484,null,null,null,null,0,222]
[21,13583,22,13591,24,13597,null,null,null,null,0,222]
[21,13705,22,13712,24,13718,null,null,null,null,0,222]
[12,13813,24,13817,24,13822,null,null,null,null,0,122]
[21,13923,22,13928,24,13938,null,null,null,null,0,222]
[21,14143,22,14148,24,14152,null,null,null,null,0,222]
[12,14251,13,14256,24,14289,null,null,null,null,0,112]
[12,14383,24,14399,24,14403,null,null,null,null,0,122]
[12,14498,24,14500,24,14504,null,null,null,null,0,122]
[12,14596,13,14599,24,14602,null,null,null,null,0,112]
[21,14708,22,14714,24,14721,null,null,null,null,0,222]
[21,14823,22,14834,24,14841,null,null,null,null,0,222]
[21,14937,22,14940,24,14945,null,null,null,null,0,222]
[21,15058,22,15081,24,15090,null,null,null,null,0,222]
[21,15188,22,15192,24,15196,null,null,null,null,0,222]
[21,15301,22,15307,24,15313,null,null,null,null,0,222]
[21,15580,22,15589,24,15595,null,null,null,null,0,222]
[21,15695,22,15703,24,15708,null,null,null,null,0,222]
[21,15866,22,15878,24,15887,null,null,null,null,0,222]
[21,15994,22,16004,24,16010,null,null,null,null,0,222]
[21,16165,22,16169,24,16175,null,null,null,null,0,222]
[12,16269,24,16284,24,16291,null,null,null,null,0,122]
[12,16386,24,16392,24,16396,null,null,null,null,0,122]
[21,16600,22,16603,24,16616,null,null,null,null,0,222]
[21,16719,22,16732,24,16749,null,null,null,null,0,222]
[21,16852,22,16859,24,16865,null,null,null,null,0,222]
[12,16959,24,16972,24,16976,null,null,null,null,0,122]
[21,17074,22,17083,24,17097,null,null,null,null,0,222]
[12,17230,24,17247,24,17253,null,null,null,null,0,122]
[12,17351,24,17360,24,17369,null,null,null,null,0,122]
[21,17471,22,17474,24,17479,null,null,null,null,0,222]
[21,17598,22,17601,24,17614,null,null,null,null,0,222]
[21,17713,22,17721,24,17727,null,null,null,null,0,222]
[21,17834,22,17845,24,17851,null,null,null,null,0,222]
[21,18064,22,18069,24,18075,null,null,null,null,0,222]
[21,18179,22,18190,24,18197,null,null,null,null,0,222]
[21,18302,22,18310,24,18317,null,null,null,null,0,222]
[12,18414,13,18416,13,18420,null,null,null,null,0,111]
[21,18601,22,18609,24,18621,null,null,null,null,0,222]
[21,18722,22,18726,24,18736,null,null,null,null,0,222]
[21,18828,22,18835,24,18840,null,null,null,null,0,222]
[12,18934,24,18940,24,18958,null,null,null,null,0,122]
[21,19058,22,19063,24,19069,null,null,null,null,0,222]
[21,19171,22,19184,24,19190,null,null,null,null,0,222]
[21,19290,22,19299,24,19304,null,null,null,null,0,222]
[21,19405,22,19411,24,19415,null,null,null,null,0,222]
[21,19782,22,19794,24,19806,null,null,null,null,0,222]
[12,19898,24,19911,24,19916,null,null,null,null,0,122]
[21,20124,22,20129,24,20134,null,null,null,null,0,222]
[21,20412,22,20424,24,20430,null,null,null,null,0,222]
[21,20682,22,20691,24,20697,null,null,null,null,0,222]
[21,20800,22,20812,24,20817,null,null,null,null,0,222]
[21,20921,22,20925,24,20930,null,null,null,null,0,222]
[21,21034,22,21043,24,21049,null,null,null,null,0,222]
[12,21147,24,21157,24,21169,null,null,null,null,0,122]
[21,21271,22,21281,24,21285,null,null,null,null,0,222]
[21,21385,22,21393,24,21400,null,null,null,null,0,222]
[21,21679,22,21687,24,21697,null,null,null,null,0,222]
[12,21794,24,21797,24,21805,null,null,null,null,0,122]
[21,21910,22,21916,24,21922,null,null,null,null,0,222]
[21,22025,22,22035,24,22043,null,null,null,null,0,222]
[21,22147,22,22153,24,22160,null,null,null,null,0,222]
[21,22407,22,22418,24,22425,null,null,null,null,0,222]
[12,22517,24,22528,24,22539,null,null,null,null,0,122]
[21,22648,22,22652,24,22656,null,null,null,null,0,222]
[21,22755,22,22761,24,22779,null,null,null,null,0,222]
[21,22884,22,22894,24,22905,null,null,null,null,0,222]
[21,23009,22,23013,24,23019,null,null,null,null,0,222]
[21,23131,22,23138,24,23145,null,null,null,null,0,222]
[21,23342,22,23346,24,23367,null,null,null,null,0,222]
[21,23635,22,23641,24,23648,null,null,null,null,0,222]

{"sheet":"!M211A20.Gus","index":27,"n_rows":160,"n_cols":48,"rows_kept":160,"cut":false,"hidden":false,"merged":[[4,39,4,42],[5,39,5,40],[4,44,4,47],[5,44,5,45],[4,24,4,27],[5,24,5,25],[4,29,4,32],[5,29,5,30],[4,34,4,37],[5,34,5,35],[1,1,1,2],[5,13,5,14],[18,13,18,14],[19,13,19,14],[4,19,4,22],[5,19,5,20]]}
["Report for:!M211A20.Gus"]
["Date:","<date>"]
["Hen:","<hen>",null,null,null,"Correct Sequence",{"$f":"Start!J2","v":211},null,null,null,null,null,null,null,null,"Total Sequences in Data",{"$f":"4994-COUNTBLANK(L7:L5000)","v":154},null,null,null,null,"Total Sequences in Block Data",{"$f":"COUNTA(L7:L32)","v":26},null,null,null,"Total Sequences in Block Data",{"$f":"COUNTA(L33:L57)","v":25},null,null,null,"Total Sequences in Block Data",{"$f":"COUNTA(L58:L83)","v":26},null,null,null,"Total Sequences in Block Data",{"$f":"COUNTA(L84:L109)","v":26},null,null,null,"Total Sequences in Block Data",{"$f":"COUNTA(L110:L134)","v":25},null,null,null,"Total Sequences in Block Data",{"$f":"COUNTA(L135:L160)","v":26}]
[null,null,null,null,null,null,null,null,null,null,null,null,null,null,null,"Total Sequences in Summary",{"$f":"SUM(O7:O14)","v":154},null,null,null,null,"Total Sequences in Block Summary",{"$f":"SUM(U7:U14)","v":26},null,null,null,"Total Sequences in Block Summary",{"$f":"SUM(Z7:Z14)","v":25},null,null,null,"Total Sequences in Block Summary",{"$f":"SUM(AE7:AE14)","v":26},null,null,null,"Total Sequences in Block Summary",{"$f":"SUM(AJ7:AJ14)","v":26},null,null,null,"Total Sequences in Block Summary",{"$f":"SUM(AO7:AO14)","v":25},null,null,null,"Total Sequences in Block Summary",{"$f":"SUM(AT7:AT14)","v":26}]
[null,null,null,null,null,null,null,null,null,null,null,null,null,null,null,null,null,null,null,"Block 1",null,null,null,null,"Block 2",null,null,null,null,"Block 3",null,null,null,null,"Block 4",null,null,null,null,"Block 5",null,null,null,null,"Block 6"]
["Sequence\nComponent\n1","Time\n1","Sequence\nComponent\n2","Time\n2","Sequence\nComponent\n3","Time\n3","Sequence\nComponent\n4","Time\n4","Sequence\nComponent\n5","Time\n5","Correct?\n0=No 1=Yes","Sequence",null,"Frequency",null,"Relative Frequency","Variability",null,null,"Frequency",null,"Relative Frequency","Variability",null,"Frequency",null,"Relative Frequency","Variability",null,"Frequency",null,"Relative Frequency","Variability",null,"Frequency",null,"Relative Frequency","Variability",null,"Frequency",null,"Relative Frequency","Variability",null,"Frequency",null,"Relative Frequency","Variability"]
[21,165,22,169,24,173,null,null,null,null,0,222,null,111,{"$f":"COUNTIF($L$7:$L$500,N7)","v":0},{"$f":"O7/$Q$4","v":0},{"$f":"IF(P7=0,0,(P7*((LOG(P7))/LOG(2))))","v":0},null,null,{"$f":"N7","v":111},{"$f":"COUNTIF(L7:L32,T7)","v":0},{"$f":"U7/(W4-U11)","v":0},{"$f":"IF(V7=0,0,(V7*((LOG(V7))/LOG(2))))","v":0},null,{"$f":"N7","v":111},{"$f":"COUNTIF(L33:L57,Y7)","v":0},{"$f":"Z7/(AB4-Z11)","v":0},{"$f":"IF(AA7=0,0,(AA7*((LOG(AA7))/LOG(2))))","v":0},null,{"$f":"N7","v":111},{"$f":"COUNTIF(L58:L83,AD7)","v":0},{"$f":"AE7/(AG4-AE11)","v":0},{"$f":"IF(AF7=0,0,(AF7*((LOG(AF7))/LOG(2))))","v":0},null,{"$f":"N7","v":111},{"$f":"COUNTIF(L84:L109,AI7)","v":0},{"$f":"AJ7/(AL4-AJ11)","v":0},{"$f":"IF(AK7=0,0,(AK7*((LOG(AK7))/LOG(2))))","v":0},null,{"$f":"N7","v":111},{"$f":"COUNTIF(L110:L134,AN7)","v":0},{"$f":"AO7/(AQ4-AO11)","v":0},{"$f":"IF(AP7=0,0,(AP7*((LOG(AP7))/LOG(2))))","v":0},null,{"$f":"N7","v":111},{"$f":"COUNTIF(L135:L160,AS7)","v":0},{"$f":"AT7/(AV4-AT11)","v":0},{"$f":"IF(AU7=0,0,(AU7*((LOG(AU7))/LOG(2))))","v":0}]
[12,268,24,282,24,288,null,null,null,null,0,122,null,112,{"$f":"COUNTIF($L$7:$L$500,N8)","v":0},{"$f":"O8/$Q$4","v":0},{"$f":"IF(P8=0,0,(P8*((LOG(P8))/LOG(2))))","v":0},null,null,{"$f":"N8","v":112},{"$f":"COUNTIF(L7:L32,T8)","v":0},{"$f":"U8/(W4-U11)","v":0},{"$f":"IF(V8=0,0,(V8*((LOG(V8))/LOG(2))))","v":0},null,{"$f":"N8","v":112},{"$f":"COUNTIF(L33:L57,Y8)","v":0},{"$f":"Z8/(AB4-Z11)","v":0},{"$f":"IF(AA8=0,0,(AA8*((LOG(AA8))/LOG(2))))","v":0},null,{"$f":"N8","v":112},{"$f":"COUNTIF(L58:L83,AD8)","v":0},{"$f":"AE8/(AG4-AE11)","v":0},{"$f":"IF(AF8=0,0,(AF8*((LOG(AF8))/LOG(2))))","v":0},null,{"$f":"N8","v":112},{"$f":"COUNTIF(L84:L109,AI8)","v":0},{"$f":"AJ8/(AL4-AJ11)","v":0},{"$f":"IF(AK8=0,0,(AK8*((LOG(AK8))/LOG(2))))","v":0},null,{"$f":"N8","v":112},{"$f":"COUNTIF(L110:L134,AN8)","v":0},{"$f":"AO8/(AQ4-AO11)","v":0},{"$f":"IF(AP8=0,0,(AP8*((LOG(AP8))/LOG(2))))","v":0},null,{"$f":"N8","v":112},{"$f":"COUNTIF(L135:L160,AS8)","v":0},{"$f":"AT8/(AV4-AT11)","v":0},{"$f":"IF(AU8=0,0,(AU8*((LOG(AU8))/LOG(2))))","v":0}]
[21,500,22,512,24,519,null,null,null,null,0,222,null,121,{"$f":"COUNTIF($L$7:$L$500,N9)","v":2},{"$f":"O9/$Q$4","v":1.2987012987012988E-2},{"$f":"IF(P9=0,0,(P9*((LOG(P9))/LOG(2))))","v":-8.1386838190842872E-2},null,null,{"$f":"N9","v":121},{"$f":"COUNTIF(L7:L32,T9)","v":0},{"$f":"U9/(W4-U11)","v":0},{"$f":"IF(V9=0,0,(V9*((LOG(V9))/LOG(2))))","v":0},null,{"$f":"N9","v":121},{"$f":"COUNTIF(L33:L57,Y9)","v":0},{"$f":"Z9/(AB4-Z11)","v":0},{"$f":"IF(AA9=0,0,(AA9*((LOG(AA9))/LOG(2))))","v":0},null,{"$f":"N9","v":121},{"$f":"COUNTIF(L58:L83,AD9)","v":1},{"$f":"AE9/(AG4-AE11)","v":3.8461538461538464E-2},{"$f":"IF(AF9=0,0,(AF9*((LOG(AF9))/LOG(2))))","v":-0.18078614300542661},null,{"$f":"N9","v":121},{"$f":"COUNTIF(L84:L109,AI9)","v":0},{"$f":"AJ9/(AL4-AJ11)","v":0},{"$f":"IF(AK9=0,0,(AK9*((LOG(AK9))/LOG(2))))","v":0},null,{"$f":"N9","v":121},{"$f":"COUNTIF(L110:L134,AN9)","v":0},{"$f":"AO9/(AQ4-AO11)","v":0},{"$f":"IF(AP9=0,0,(AP9*((LOG(AP9))/LOG(2))))","v":0},null,{"$f":"N9","v":121},{"$f":"COUNTIF(L135:L160,AS9)","v":1},{"$f":"AT9/(AV4-AT11)","v":3.8461538461538464E-2},{"$f":"IF(AU9=0,0,(AU9*((LOG(AU9))/LOG(2))))","v":-0.18078614300542661}]
[21,753,22,762,24,778,null,null,null,null,0,222,null,122,{"$f":"COUNTIF($L$7:$L$500,N10)","v":38},{"$f":"O10/$Q$4","v":0.24675324675324675},{"$f":"IF(P10=0,0,(P10*((LOG(P10))/LOG(2))))","v":-0.49816001971136364},null,null,{"$f":"N10","v":122},{"$f":"COUNTIF(L7:L32,T10)","v":6},{"$f":"U10/(W4-U11)","v":0.23076923076923078},{"$f":"IF(V10=0,0,(V10*((LOG(V10))/LOG(2))))","v":-0.48818705017383146},null,{"$f":"N10","v":122},{"$f":"COUNTIF(L33:L57,Y10)","v":9},{"$f":"Z10/(AB4-Z11)","v":0.36},{"$f":"IF(AA10=0,0,(AA10*((LOG(AA10))/LOG(2))))","v":-0.53061522779966841},null,{"$f":"N10","v":122},{"$f":"COUNTIF(L58:L83,AD10)","v":8},{"$f":"AE10/(AG4-AE11)","v":0.30769230769230771},{"$f":"IF(AF10=0,0,(AF10*((LOG(AF10))/LOG(2))))","v":-0.52321222096648989},null,{"$f":"N10","v":122},{"$f":"COUNTIF(L84:L109,AI10)","v":6},{"$f":"AJ10/(AL4-AJ11)","v":0.23076923076923078},{"$f":"IF(AK10=0,0,(AK10*((LOG(AK10))/LOG(2))))","v":-0.48818705017383146},null,{"$f":"N10","v":122},{"$f":"COUNTIF(L110:L134,AN10)","v":4},{"$f":"AO10/(AQ4-AO11)","v":0.16},{"$f":"IF(AP10=0,0,(AP10*((LOG(AP10))/LOG(2))))","v":-0.42301699036395596},null,{"$f":"N10","v":122},{"$f":"COUNTIF(L135:L160,AS10)","v":5},{"$f":"AT10/(AV4-AT11)","v":0.19230769230769232},{"$f":"IF(AU10=0,0,(AU10*((LOG(AU10))/LOG(2))))","v":-0.45740608139494804}]
[21,884,22,888,24,895,null,null,null,null,0,222,null,211,{"$f":"COUNTIF($L$7:$L$500,N11)","v":0},{"$f":"O11/$Q$4","v":0},{"$f":"IF(P11=0,0,(P11*((LOG(P11))/LOG(2))))","v":0},null,null,{"$f":"N11","v":211},{"$f":"COUNTIF(L7:L32,T11)","v":0},null,null,null,{"$f":"N11","v":211},{"$f":"COUNTIF(L33:L57,Y11)","v":0},null,null,null,{"$f":"N11","v":211},{"$f":"COUNTIF(L58:L83,AD11)","v":0},null,null,null,{"$f":"N11","v":211},{"$f":"COUNTIF(L84:L109,AI11)","v":0},null,null,null,{"$f":"N11","v":211},{"$f":"COUNTIF(L110:L134,AN11)","v":0},null,null,null,{"$f":"N11","v":211},{"$f":"COUNTIF(L135:L160,AS11)","v":0}]
[12,991,24,996,24,999,null,null,null,null,0,122,null,212,{"$f":"COUNTIF($L$7:$L$500,N12)","v":1},{"$f":"O12/$Q$4","v":6.4935064935064939E-3},{"$f":"IF(P12=0,0,(P12*((LOG(P12))/LOG(2))))","v":-4.7186925588927932E-2},null,null,{"$f":"N12","v":212},{"$f":"COUNTIF(L7:L32,T12)","v":0},{"$f":"U12/(W4-U11)","v":0},{"$f":"IF(V12=0,0,(V12*((LOG(V12))/LOG(2))))","v":0},null,{"$f":"N12","v":212},{"$f":"COUNTIF(L33:L57,Y12)","v":0},{"$f":"Z12/(AB4-Z11)","v":0},{"$f":"IF(AA12=0,0,(AA12*((LOG(AA12))/LOG(2))))","v":0},null,{"$f":"N12","v":212},{"$f":"COUNTIF(L58:L83,AD12)","v":0},{"$f":"AE12/(AG4-AE11)","v":0},{"$f":"IF(AF12=0,0,(AF12*((LOG(AF12))/LOG(2))))","v":0},null,{"$f":"N12","v":212},{"$f":"COUNTIF(L84:L109,AI12)","v":0},{"$f":"AJ12/(AL4-AJ11)","v":0},{"$f":"IF(AK12=0,0,(AK12*((LOG(AK12))/LOG(2))))","v":0},null,{"$f":"N12","v":212},{"$f":"COUNTIF(L110:L134,AN12)","v":1},{"$f":"AO12/(AQ4-AO11)","v":0.04},{"$f":"IF(AP12=0,0,(AP12*((LOG(AP12))/LOG(2))))","v":-0.18575424759098899},null,{"$f":"N12","v":212},{"$f":"COUNTIF(L135:L160,AS12)","v":0},{"$f":"AT12/(AV4-AT11)","v":0},{"$f":"IF(AU12=0,0,(AU12*((LOG(AU12))/LOG(2))))","v":0}]
[21,1101,22,1106,24,1111,null,null,null,null,0,222,null,221,{"$f":"COUNTIF($L$7:$L$500,N13)","v":0},{"$f":"O13/$Q$4","v":0},{"$f":"IF(P13=0,0,(P13*((LOG(P13))/LOG(2))))","v":0},null,null,{"$f":"N13","v":221},{"$f":"COUNTIF(L7:L32,T13)","v":0},{"$f":"U13/(W4-U11)","v":0},{"$f":"IF(V13=0,0,(V13*((LOG(V13))/LOG(2))))","v":0},null,{"$f":"N13","v":221},{"$f":"COUNTIF(L33:L57,Y13)","v":0},{"$f":"Z13/(AB4-Z11)","v":0},{"$f":"IF(AA13=0,0,(AA13*((LOG(AA13))/LOG(2))))","v":0},null,{"$f":"N13","v":221},{"$f":"COUNTIF(L58:L83,AD13)","v":0},{"$f":"AE13/(AG4-AE11)","v":0},{"$f":"IF(AF13=0,0,(AF13*((LOG(AF13))/LOG(2))))","v":0},null,{"$f":"N13","v":221},{"$f":"COUNTIF(L84:L109,AI13)","v":0},{"$f":"AJ13/(AL4-AJ11)","v":0},{"$f":"IF(AK13=0,0,(AK13*((LOG(AK13))/LOG(2))))","v":0},null,{"$f":"N13","v":221},{"$f":"COUNTIF(L110:L134,AN13)","v":0},{"$f":"AO13/(AQ4-AO11)","v":0},{"$f":"IF(AP13=0,0,(AP13*((LOG(AP13))/LOG(2))))","v":0},null,{"$f":"N13","v":221},{"$f":"COUNTIF(L135:L160,AS13)","v":0},{"$f":"AT13/(AV4-AT11)","v":0},{"$f":"IF(AU13=0,0,(AU13*((LOG(AU13))/LOG(2))))","v":0}]
[21,1278,22,1280,24,1287,null,null,null,null,0,222,null,222,{"$f":"COUNTIF($L$7:$L$500,N14)","v":113},{"$f":"O14/$Q$4","v":0.73376623376623373},{"$f":"IF(P14=0,0,(P14*((LOG(P14))/LOG(2))))","v":-0.32770556068576395},null,null,{"$f":"N14","v":222},{"$f":"COUNTIF(L7:L32,T14)","v":20},{"$f":"U14/(W4-U11)","v":0.76923076923076927},{"$f":"IF(V14=0,0,(V14*((LOG(V14))/LOG(2))))","v":-0.29116278711825366},null,{"$f":"N14","v":222},{"$f":"COUNTIF(L33:L57,Y14)","v":16},{"$f":"Z14/(AB4-Z11)","v":0.64},{"$f":"IF(AA14=0,0,(AA14*((LOG(AA14))/LOG(2))))","v":-0.41206796145582375},null,{"$f":"N14","v":222},{"$f":"COUNTIF(L58:L83,AD14)","v":17},{"$f":"AE14/(AG4-AE11)","v":0.65384615384615385},{"$f":"IF(AF14=0,0,(AF14*((LOG(AF14))/LOG(2))))","v":-0.40079257335164603},null,{"$f":"N14","v":222},{"$f":"COUNTIF(L84:L109,AI14)","v":20},{"$f":"AJ14/(AL4-AJ11)","v":0.76923076923076927},{"$f":"IF(AK14=0,0,(AK14*((LOG(AK14))/LOG(2))))","v":-0.29116278711825366},null,{"$f":"N14","v":222},{"$f":"COUNTIF(L110:L134,AN14)","v":20},{"$f":"AO14/(AQ4-AO11)","v":0.8},{"$f":"IF(AP14=0,0,(AP14*((LOG(AP14))/LOG(2))))","v":-0.25754247590988982},null,{"$f":"N14","v":222},{"$f":"COUNTIF(L135:L160,AS14)","v":20},{"$f":"AT14/(AV4-AT11)","v":0.76923076923076927},{"$f":"IF(AU14=0,0,(AU14*((LOG(AU14))/LOG(2))))","v":-0.29116278711825366}]
[21,1407,22,1411,24,1420,null,null,null,null,0,222,null,null,null,{"$f":"SUM(P7:P14)","v":1},{"$f":"-SUM(Q7:Q14)","v":0.95443934417689835},null,null,null,null,{"$f":"SUM(V7:V14)","v":1},{"$f":"-SUM(W7:W14)","v":0.77934983729208507},null,null,null,{"$f":"SUM(AA7:AA14)","v":1},{"$f":"-SUM(AB7:AB14)","v":0.9426831892554921},null,null,null,{"$f":"SUM(AF7:AF14)","v":1},{"$f":"-SUM(AG7:AG14)","v":1.1047909373235625},null,null,null,{"$f":"SUM(AK7:AK14)","v":1},{"$f":"-SUM(AL7:AL14)","v":0.77934983729208507},null,null,null,{"$f":"SUM(AP7:AP14)","v":1},{"$f":"-SUM(AQ7:AQ14)","v":0.86631371386483469},null,null,null,{"$f":"SUM(AU7:AU14)","v":1},{"$f":"-SUM(AV7:AV14)","v":0.9293550115186282}]
[12,1513,24,1528,24,1535,null,null,null,null,0,122,null,null,null,"U=",{"$f":"Q15/(LOG(Q4)/LOG(2))","v":0.13134269719248257},null,null,null,null,"U1=",{"$f":"W15/(LOG(W4)/LOG(2))","v":0.1658036022213468},null,null,null,"U2=",{"$f":"AB15/(LOG(AB4)/LOG(2))","v":0.20299577565110213},null,null,null,"U3=",{"$f":"AG15/(LOG(AG4)/LOG(2))","v":0.23503991191710891},null,null,null,"U4=",{"$f":"AL15/(LOG(AL4)/LOG(2))","v":0.1658036022213468},null,null,null,"U5=",{"$f":"AQ15/(LOG(AQ4)/LOG(2))","v":0.18655050424954261},null,null,null,"U6=",{"$f":"AV15/(LOG(AV4)/LOG(2))","v":0.19771661105062852}]
[12,1630,24,1642,24,1648,null,null,null,null,0,122]
[21,1747,22,1755,24,1760,null,null,null,null,0,222]
[21,1863,22,1875,24,1883,null,null,null,null,0,222,null,"Total Target Seq"]
[21,2189,22,2192,24,2207,null,null,null,null,0,222,null,{"$f":"COUNTIF(L7:L160,G3)","v":0},null,26,25,26,26,25,26]
[21,2488,22,2494,24,2497,null,null,null,null,0,222,null,null,null,"% of reinforcement given in 6 equal intervals based on number of trials "]
[21,2609,22,2618,24,2623,null,null,null,null,0,222,null,null,null,"%_1","%_2","%_3","%_4","%_5","%_6"]
[21,2722,22,2726,24,2731,null,null,null,null,0,222,null,null,"target sequence",{"$f":"$G$3","v":211},{"$f":"$G$3","v":211},{"$f":"$G$3","v":211},{"$f":"$G$3","v":211},{"$f":"$G$3","v":211},{"$f":"$G$3","v":211}]
[12,2825,24,2839,24,2845,null,null,null,null,0,122,null,null,"total reinforcement",{"$f":"U11","v":0},{"$f":"Z11","v":0},{"$f":"AE11","v":0},{"$f":"AJ11","v":0},{"$f":"AO11","v":0},{"$f":"AT11","v":0}]
[21,2951,22,2964,24,2971,null,null,null,null,0,222,null,null,"% target"]
[21,3080,22,3086,24,3091,null,null,null,null,0,222,null,null,"CCRF"]
[21,3356,22,3361,24,3367,null,null,null,null,0,222,null,null,"% CCRf"]
[21,3593,22,3604,24,3611,null,null,null,null,0,222,null,null,"average response rate",{"$f":"F32/P20","v":157.07692307692307},{"$f":"(F57-F32)/Q20","v":158.72},{"$f":"(F83-F57)/R20","v":119.73076923076923},{"$f":"(F109-F83)/S20","v":160.61538461538461},{"$f":"(F134-F109)/T20","v":153.6},{"$f":"(F160-F134)/U20","v":185.34615384615384}]
[21,3716,22,3724,24,3728,null,null,null,null,0,222]
[21,3833,22,3843,24,3849,null,null,null,null,0,222]
[21,3948,22,3959,24,3965,null,null,null,null,0,222]
[12,4062,24,4074,24,4084,null,null,null,null,0,122]
[12,4226,24,4236,24,4240,null,null,null,null,0,122]
[21,4633,22,4639,24,4646,null,null,null,null,0,222]
[21,4751,22,4755,24,4761,null,null,null,null,0,222]
[21,4878,22,4883,24,4890,null,null,null,null,0,222]
[12,4982,24,4991,24,5007,null,null,null,null,0,122]
[21,5107,22,5110,24,5116,null,null,null,null,0,222]
[21,5212,22,5220,24,5226,null,null,null,null,0,222]
[12,5326,24,5333,24,5350,null,null,null,null,0,122]
[12,5476,24,5485,24,5493,null,null,null,null,0,122]
[21,5597,22,5606,24,5613,null,null,null,null,0,222]
[21,5711,22,5717,24,5725,null,null,null,null,0,222]
[21,5829,22,5833,24,5839,null,null,null,null,0,222]
[12,5930,24,5946,24,5954,null,null,null,null,0,122]
[21,6245,22,6249,24,6259,null,null,null,null,0,222]
[12,6352,24,6366,24,6369,null,null,null,null,0,122]
[12,6466,24,6472,24,6478,null,null,null,null,0,122]
[12,6574,24,6578,24,6582,null,null,null,null,0,122]
[21,6684,22,6687,24,6694,null,null,null,null,0,222]
[21,7245,22,7251,24,7258,null,null,null,null,0,222]
[21,7382,22,7393,24,7399,null,null,null,null,0,222]
[21,7573,22,7578,24,7584,null,null,null,null,0,222]
[12,7678,24,7686,24,7690,null,null,null,null,0,122]
[21,7796,22,7802,24,7813,null,null,null,null,0,222]
[21,7912,22,7920,24,7923,null,null,null,null,0,222]
[21,8030,22,8046,24,8052,null,null,null,null,0,222]
[12,8149,24,8154,24,8158,null,null,null,null,0,122]
[12,8253,24,8258,24,8268,null,null,null,null,0,122]
[12,8360,24,8370,24,8379,null,null,null,null,0,122]
[12,8498,24,8512,24,8520,null,null,null,null,0,122]
[12,8613,24,8661,24,8665,null,null,null,null,0,122]
[21,8766,22,8778,24,8784,null,null,null,null,0,222]
[21,8889,22,8898,24,8911,null,null,null,null,0,222]
[21,9016,22,9029,24,9035,null,null,null,null,0,222]
[21,9140,22,9152,24,9166,null,null,null,null,0,222]
[21,9264,22,9271,24,9295,null,null,null,null,0,222]
[12,9387,24,9392,24,9398,null,null,null,null,0,122]
[21,9493,22,9500,24,9512,null,null,null,null,0,222]
[21,9674,22,9684,24,9697,null,null,null,null,0,222]
[12,9791,24,9793,13,9795,null,null,null,null,0,121]
[21,9901,22,9903,24,9908,null,null,null,null,0,222]
[21,10016,22,10023,24,10029,null,null,null,null,0,222]
[21,10129,22,10136,24,10147,null,null,null,null,0,222]
[21,10254,22,10262,24,10268,null,null,null,null,0,222]
[21,10370,22,10373,24,10379,null,null,null,null,0,222]
[21,10478,22,10488,24,10497,null,null,null,null,0,222]
[21,10595,22,10601,24,10608,null,null,null,null,0,222]
[12,10703,24,10716,24,10729,null,null,null,null,0,122]
[12,10825,24,10831,24,10838,null,null,null,null,0,122]
[21,10936,22,10938,24,10943,null,null,null,null,0,222]
[21,11033,22,11038,24,11044,null,null,null,null,0,222]
[21,11144,22,11151,24,11165,null,null,null,null,0,222]
[12,11257,24,11266,24,11268,null,null,null,null,0,122]
[21,11566,22,11572,24,11586,null,null,null,null,0,222]
[21,11689,22,11699,24,11706,null,null,null,null,0,222]
[21,11813,22,11820,24,11826,null,null,null,null,0,222]
[21,11964,22,11970,24,11975,null,null,null,null,0,222]
[12,12069,24,12072,24,12081,null,null,null,null,0,122]
[21,12188,22,12196,24,12201,null,null,null,null,0,222]
[21,12302,22,12310,24,12317,null,null,null,null,0,222]
[21,12422,22,12429,24,12435,null,null,null,null,0,222]
[21,12541,22,12554,24,12562,null,null,null,null,0,222]
[21,12663,22,12674,24,12679,null,null,null,null,0,222]
[21,12779,22,12784,24,12789,null,null,null,null,0,222]
[21,13106,22,13116,24,13127,null,null,null,null,0,222]
[21,13262,22,13269,24,13288,null,null,null,null,0,222]
[21,13460,22,13467,24,13472,null,null,null,null,0,222]
[21,13574,22,13582,24,13588,null,null,null,null,0,222]
[21,13758,22,13762,24,13773,null,null,null,null,0,222]
[12,13888,24,13898,24,13908,null,null,null,null,0,122]
[12,14003,24,14008,24,14015,null,null,null,null,0,122]
[21,14214,22,14227,24,14232,null,null,null,null,0,222]
[21,14588,22,14594,24,14604,null,null,null,null,0,222]
[12,14706,24,14717,24,14720,null,null,null,null,0,122]
[21,14824,22,14828,24,14834,null,null,null,null,0,222]
[21,14931,22,14945,24,14952,null,null,null,null,0,222]
[21,15160,22,15163,24,15169,null,null,null,null,0,222]
[12,15322,24,15333,24,15341,null,null,null,null,0,122]
[21,15446,22,15458,24,15464,null,null,null,null,0,222]
[21,15566,22,15580,24,15586,null,null,null,null,0,222]
[21,15688,22,15699,24,15705,null,null,null,null,0,222]
[21,15801,22,15811,24,15816,null,null,null,null,0,222]
[21,15918,22,15927,24,15932,null,null,null,null,0,222]
[12,16028,24,16036,24,16041,null,null,null,null,0,122]
[21,16421,22,16437,24,16443,null,null,null,null,0,222]
[21,16823,22,16825,24,16832,null,null,null,null,0,222]
[12,16928,24,16942,24,16958,null,null,null,null,0,122]
[21,17137,22,17145,24,17152,null,null,null,null,0,222]
[21,17256,22,17263,24,17266,null,null,null,null,0,222]
[21,17458,22,17463,24,17470,null,null,null,null,0,222]
[21,17567,22,17582,24,17592,null,null,null,null,0,222]
[21,17692,22,17710,24,17715,null,null,null,null,0,222]
[21,17948,22,17962,24,17968,null,null,null,null,0,222]
[21,18091,22,18096,24,18102,null,null,null,null,0,222]
[21,18207,22,18227,24,18234,null,null,null,null,0,222]
[21,18335,22,18352,24,18358,null,null,null,null,0,222]
[21,18457,22,18464,24,18481,null,null,null,null,0,222]
[21,18578,11,18585,22,18587,null,null,null,null,0,212]
[21,18688,22,18694,24,18709,null,null,null,null,0,222]
[21,18813,22,18815,24,18821,null,null,null,null,0,222]
[12,18915,24,18936,24,18952,null,null,null,null,0,122]
[21,19055,22,19067,24,19073,null,null,null,null,0,222]
[12,19165,24,19174,24,19181,null,null,null,null,0,122]
[21,19447,22,19452,24,19461,null,null,null,null,0,222]
[21,19793,22,19798,24,19801,null,null,null,null,0,222]
[12,19894,24,19906,24,19914,null,null,null,null,0,122]
[21,20011,22,20031,24,20036,null,null,null,null,0,222]
[21,20412,22,20418,24,20423,null,null,null,null,0,222]
[12,20517,24,20526,24,20545,null,null,null,null,0,122]
[21,20655,22,20663,24,20669,null,null,null,null,0,222]
[21,20772,22,20786,24,20791,null,null,null,null,0,222]
[21,20895,22,20900,24,20904,null,null,null,null,0,222]
[12,20996,24,21009,24,21013,null,null,null,null,0,122]
[21,21225,22,21252,24,21259,null,null,null,null,0,222]
[12,21354,24,21359,13,21360,null,null,null,null,0,121]
[21,21457,22,21468,24,21473,null,null,null,null,0,222]
[21,21572,22,21590,24,21595,null,null,null,null,0,222]
[21,21698,22,21707,24,21712,null,null,null,null,0,222]
[21,21808,22,21816,24,21821,null,null,null,null,0,222]
[21,21918,22,21923,24,21928,null,null,null,null,0,222]
[21,22031,22,22045,24,22051,null,null,null,null,0,222]
[21,22786,22,22802,24,22819,null,null,null,null,0,222]
[21,22923,22,22946,24,22953,null,null,null,null,0,222]
[21,23054,22,23076,24,23084,null,null,null,null,0,222]
[12,23177,24,23196,24,23201,null,null,null,null,0,122]
[12,23293,24,23307,24,23321,null,null,null,null,0,122]
[21,23419,22,23448,24,23454,null,null,null,null,0,222]
[21,23551,22,23561,24,23567,null,null,null,null,0,222]
[21,23990,22,23995,24,24000,null,null,null,null,null,222]

{"sheet":"!M212A10.Gus","index":28,"n_rows":172,"n_cols":48,"rows_kept":172,"cut":false,"hidden":false,"merged":[[4,39,4,42],[5,39,5,40],[4,44,4,47],[5,44,5,45],[4,24,4,27],[5,24,5,25],[4,29,4,32],[5,29,5,30],[4,34,4,37],[5,34,5,35],[1,1,1,2],[5,13,5,14],[18,13,18,14],[19,13,19,14],[4,19,4,22],[5,19,5,20]]}
["Report for:!M212A10.Gus"]
["Date:","<date>"]
["Hen:","<hen>",null,null,null,"Correct Sequence",{"$f":"Start!J2","v":211},null,null,null,null,null,null,null,null,"Total Sequences in Data",{"$f":"4994-COUNTBLANK(L7:L5000)","v":166},null,null,null,null,"Total Sequences in Block Data",{"$f":"COUNTA(L7:L34)","v":28},null,null,null,"Total Sequences in Block Data",{"$f":"COUNTA(L35:L61)","v":27},null,null,null,"Total Sequences in Block Data",{"$f":"COUNTA(L62:L89)","v":28},null,null,null,"Total Sequences in Block Data",{"$f":"COUNTA(L90:L117)","v":28},null,null,null,"Total Sequences in Block Data",{"$f":"COUNTA(L118:L144)","v":27},null,null,null,"Total Sequences in Block Data",{"$f":"COUNTA(L145:L172)","v":28}]
[null,null,null,null,null,null,null,null,null,null,null,null,null,null,null,"Total Sequences in Summary",{"$f":"SUM(O7:O14)","v":166},null,null,null,null,"Total Sequences in Block Summary",{"$f":"SUM(U7:U14)","v":28},null,null,null,"Total Sequences in Block Summary",{"$f":"SUM(Z7:Z14)","v":27},null,null,null,"Total Sequences in Block Summary",{"$f":"SUM(AE7:AE14)","v":28},null,null,null,"Total Sequences in Block Summary",{"$f":"SUM(AJ7:AJ14)","v":28},null,null,null,"Total Sequences in Block Summary",{"$f":"SUM(AO7:AO14)","v":27},null,null,null,"Total Sequences in Block Summary",{"$f":"SUM(AT7:AT14)","v":28}]
[null,null,null,null,null,null,null,null,null,null,null,null,null,null,null,null,null,null,null,"Block 1",null,null,null,null,"Block 2",null,null,null,null,"Block 3",null,null,null,null,"Block 4",null,null,null,null,"Block 5",null,null,null,null,"Block 6"]
["Sequence\nComponent\n1","Time\n1","Sequence\nComponent\n2","Time\n2","Sequence\nComponent\n3","Time\n3","Sequence\nComponent\n4","Time\n4","Sequence\nComponent\n5","Time\n5","Correct?\n0=No 1=Yes","Sequence",null,"Frequency",null,"Relative Frequency","Variability",null,null,"Frequency",null,"Relative Frequency","Variability",null,"Frequency",null,"Relative Frequency","Variability",null,"Frequency",null,"Relative Frequency","Variability",null,"Frequency",null,"Relative Frequency","Variability",null,"Frequency",null,"Relative Frequency","Variability",null,"Frequency",null,"Relative Frequency","Variability"]
[21,241,22,247,24,253,null,null,null,null,0,222,null,111,{"$f":"COUNTIF($L$7:$L$500,N7)","v":0},{"$f":"O7/$Q$4","v":0},{"$f":"IF(P7=0,0,(P7*((LOG(P7))/LOG(2))))","v":0},null,null,{"$f":"N7","v":111},{"$f":"COUNTIF(L7:L34,T7)","v":0},{"$f":"U7/(W4-U11)","v":0},{"$f":"IF(V7=0,0,(V7*((LOG(V7))/LOG(2))))","v":0},null,{"$f":"N7","v":111},{"$f":"COUNTIF(L35:L61,Y7)","v":0},{"$f":"Z7/(AB4-Z11)","v":0},{"$f":"IF(AA7=0,0,(AA7*((LOG(AA7))/LOG(2))))","v":0},null,{"$f":"N7","v":111},{"$f":"COUNTIF(L62:L89,AD7)","v":0},{"$f":"AE7/(AG4-AE11)","v":0},{"$f":"IF(AF7=0,0,(AF7*((LOG(AF7))/LOG(2))))","v":0},null,{"$f":"N7","v":111},{"$f":"COUNTIF(L90:L117,AI7)","v":0},{"$f":"AJ7/(AL4-AJ11)","v":0},{"$f":"IF(AK7=0,0,(AK7*((LOG(AK7))/LOG(2))))","v":0},null,{"$f":"N7","v":111},{"$f":"COUNTIF(L118:L144,AN7)","v":0},{"$f":"AO7/(AQ4-AO11)","v":0},{"$f":"IF(AP7=0,0,(AP7*((LOG(AP7))/LOG(2))))","v":0},null,{"$f":"N7","v":111},{"$f":"COUNTIF(L145:L172,AS7)","v":0},{"$f":"AT7/(AV4-AT11)","v":0},{"$f":"IF(AU7=0,0,(AU7*((LOG(AU7))/LOG(2))))","v":0}]
[21,358,22,369,24,375,null,null,null,null,0,222,null,112,{"$f":"COUNTIF($L$7:$L$500,N8)","v":0},{"$f":"O8/$Q$4","v":0},{"$f":"IF(P8=0,0,(P8*((LOG(P8))/LOG(2))))","v":0},null,null,{"$f":"N8","v":112},{"$f":"COUNTIF(L7:L34,T8)","v":0},{"$f":"U8/(W4-U11)","v":0},{"$f":"IF(V8=0,0,(V8*((LOG(V8))/LOG(2))))","v":0},null,{"$f":"N8","v":112},{"$f":"COUNTIF(L35:L61,Y8)","v":0},{"$f":"Z8/(AB4-Z11)","v":0},{"$f":"IF(AA8=0,0,(AA8*((LOG(AA8))/LOG(2))))","v":0},null,{"$f":"N8","v":112},{"$f":"COUNTIF(L62:L89,AD8)","v":0},{"$f":"AE8/(AG4-AE11)","v":0},{"$f":"IF(AF8=0,0,(AF8*((LOG(AF8))/LOG(2))))","v":0},null,{"$f":"N8","v":112},{"$f":"COUNTIF(L90:L117,AI8)","v":0},{"$f":"AJ8/(AL4-AJ11)","v":0},{"$f":"IF(AK8=0,0,(AK8*((LOG(AK8))/LOG(2))))","v":0},null,{"$f":"N8","v":112},{"$f":"COUNTIF(L118:L144,AN8)","v":0},{"$f":"AO8/(AQ4-AO11)","v":0},{"$f":"IF(AP8=0,0,(AP8*((LOG(AP8))/LOG(2))))","v":0},null,{"$f":"N8","v":112},{"$f":"COUNTIF(L145:L172,AS8)","v":0},{"$f":"AT8/(AV4-AT11)","v":0},{"$f":"IF(AU8=0,0,(AU8*((LOG(AU8))/LOG(2))))","v":0}]
[12,471,24,490,24,493,null,null,null,null,0,122,null,121,{"$f":"COUNTIF($L$7:$L$500,N9)","v":0},{"$f":"O9/$Q$4","v":0},{"$f":"IF(P9=0,0,(P9*((LOG(P9))/LOG(2))))","v":0},null,null,{"$f":"N9","v":121},{"$f":"COUNTIF(L7:L34,T9)","v":0},{"$f":"U9/(W4-U11)","v":0},{"$f":"IF(V9=0,0,(V9*((LOG(V9))/LOG(2))))","v":0},null,{"$f":"N9","v":121},{"$f":"COUNTIF(L35:L61,Y9)","v":0},{"$f":"Z9/(AB4-Z11)","v":0},{"$f":"IF(AA9=0,0,(AA9*((LOG(AA9))/LOG(2))))","v":0},null,{"$f":"N9","v":121},{"$f":"COUNTIF(L62:L89,AD9)","v":0},{"$f":"AE9/(AG4-AE11)","v":0},{"$f":"IF(AF9=0,0,(AF9*((LOG(AF9))/LOG(2))))","v":0},null,{"$f":"N9","v":121},{"$f":"COUNTIF(L90:L117,AI9)","v":0},{"$f":"AJ9/(AL4-AJ11)","v":0},{"$f":"IF(AK9=0,0,(AK9*((LOG(AK9))/LOG(2))))","v":0},null,{"$f":"N9","v":121},{"$f":"COUNTIF(L118:L144,AN9)","v":0},{"$f":"AO9/(AQ4-AO11)","v":0},{"$f":"IF(AP9=0,0,(AP9*((LOG(AP9))/LOG(2))))","v":0},null,{"$f":"N9","v":121},{"$f":"COUNTIF(L145:L172,AS9)","v":0},{"$f":"AT9/(AV4-AT11)","v":0},{"$f":"IF(AU9=0,0,(AU9*((LOG(AU9))/LOG(2))))","v":0}]
[21,600,22,607,24,614,null,null,null,null,0,222,null,122,{"$f":"COUNTIF($L$7:$L$500,N10)","v":42},{"$f":"O10/$Q$4","v":0.25301204819277107},{"$f":"IF(P10=0,0,(P10*((LOG(P10))/LOG(2))))","v":-0.50165255638471629},null,null,{"$f":"N10","v":122},{"$f":"COUNTIF(L7:L34,T10)","v":7},{"$f":"U10/(W4-U11)","v":0.25},{"$f":"IF(V10=0,0,(V10*((LOG(V10))/LOG(2))))","v":-0.5},null,{"$f":"N10","v":122},{"$f":"COUNTIF(L35:L61,Y10)","v":5},{"$f":"Z10/(AB4-Z11)","v":0.18518518518518517},{"$f":"IF(AA10=0,0,(AA10*((LOG(AA10))/LOG(2))))","v":-0.45054803838446406},null,{"$f":"N10","v":122},{"$f":"COUNTIF(L62:L89,AD10)","v":9},{"$f":"AE10/(AG4-AE11)","v":0.32142857142857145},{"$f":"IF(AF10=0,0,(AF10*((LOG(AF10))/LOG(2))))","v":-0.5263167601977724},null,{"$f":"N10","v":122},{"$f":"COUNTIF(L90:L117,AI10)","v":8},{"$f":"AJ10/(AL4-AJ11)","v":0.2857142857142857},{"$f":"IF(AK10=0,0,(AK10*((LOG(AK10))/LOG(2))))","v":-0.51638712058788683},null,{"$f":"N10","v":122},{"$f":"COUNTIF(L118:L144,AN10)","v":8},{"$f":"AO10/(AQ4-AO11)","v":0.29629629629629628},{"$f":"IF(AP10=0,0,(AP10*((LOG(AP10))/LOG(2))))","v":-0.51996666730769436},null,{"$f":"N10","v":122},{"$f":"COUNTIF(L145:L172,AS10)","v":5},{"$f":"AT10/(AV4-AT11)","v":0.17857142857142858},{"$f":"IF(AU10=0,0,(AU10*((LOG(AU10))/LOG(2))))","v":-0.44382621913754317}]
[12,710,24,713,24,719,null,null,null,null,0,122,null,211,{"$f":"COUNTIF($L$7:$L$500,N11)","v":0},{"$f":"O11/$Q$4","v":0},{"$f":"IF(P11=0,0,(P11*((LOG(P11))/LOG(2))))","v":0},null,null,{"$f":"N11","v":211},{"$f":"COUNTIF(L7:L34,T11)","v":0},null,null,null,{"$f":"N11","v":211},{"$f":"COUNTIF(L35:L61,Y11)","v":0},null,null,null,{"$f":"N11","v":211},{"$f":"COUNTIF(L62:L89,AD11)","v":0},null,null,null,{"$f":"N11","v":211},{"$f":"COUNTIF(L90:L117,AI11)","v":0},null,null,null,{"$f":"N11","v":211},{"$f":"COUNTIF(L118:L144,AN11)","v":0},null,null,null,{"$f":"N11","v":211},{"$f":"COUNTIF(L145:L172,AS11)","v":0}]
[21,826,22,833,24,838,null,null,null,null,0,222,null,212,{"$f":"COUNTIF($L$7:$L$500,N12)","v":1},{"$f":"O12/$Q$4","v":6.024096385542169E-3},{"$f":"IF(P12=0,0,(P12*((LOG(P12))/LOG(2))))","v":-4.4427948381607983E-2},null,null,{"$f":"N12","v":212},{"$f":"COUNTIF(L7:L34,T12)","v":0},{"$f":"U12/(W4-U11)","v":0},{"$f":"IF(V12=0,0,(V12*((LOG(V12))/LOG(2))))","v":0},null,{"$f":"N12","v":212},{"$f":"COUNTIF(L35:L61,Y12)","v":0},{"$f":"Z12/(AB4-Z11)","v":0},{"$f":"IF(AA12=0,0,(AA12*((LOG(AA12))/LOG(2))))","v":0},null,{"$f":"N12","v":212},{"$f":"COUNTIF(L62:L89,AD12)","v":0},{"$f":"AE12/(AG4-AE11)","v":0},{"$f":"IF(AF12=0,0,(AF12*((LOG(AF12))/LOG(2))))","v":0},null,{"$f":"N12","v":212},{"$f":"COUNTIF(L90:L117,AI12)","v":0},{"$f":"AJ12/(AL4-AJ11)","v":0},{"$f":"IF(AK12=0,0,(AK12*((LOG(AK12))/LOG(2))))","v":0},null,{"$f":"N12","v":212},{"$f":"COUNTIF(L118:L144,AN12)","v":1},{"$f":"AO12/(AQ4-AO11)","v":3.7037037037037035E-2},{"$f":"IF(AP12=0,0,(AP12*((LOG(AP12))/LOG(2))))","v":-0.1761069445245729},null,{"$f":"N12","v":212},{"$f":"COUNTIF(L145:L172,AS12)","v":0},{"$f":"AT12/(AV4-AT11)","v":0},{"$f":"IF(AU12=0,0,(AU12*((LOG(AU12))/LOG(2))))","v":0}]
[21,940,22,950,24,956,null,null,null,null,0,222,null,221,{"$f":"COUNTIF($L$7:$L$500,N13)","v":1},{"$f":"O13/$Q$4","v":6.024096385542169E-3},{"$f":"IF(P13=0,0,(P13*((LOG(P13))/LOG(2))))","v":-4.4427948381607983E-2},null,null,{"$f":"N13","v":221},{"$f":"COUNTIF(L7:L34,T13)","v":0},{"$f":"U13/(W4-U11)","v":0},{"$f":"IF(V13=0,0,(V13*((LOG(V13))/LOG(2))))","v":0},null,{"$f":"N13","v":221},{"$f":"COUNTIF(L35:L61,Y13)","v":0},{"$f":"Z13/(AB4-Z11)","v":0},{"$f":"IF(AA13=0,0,(AA13*((LOG(AA13))/LOG(2))))","v":0},null,{"$f":"N13","v":221},{"$f":"COUNTIF(L62:L89,AD13)","v":1},{"$f":"AE13/(AG4-AE11)","v":3.5714285714285712E-2},{"$f":"IF(AF13=0,0,(AF13*((LOG(AF13))/LOG(2))))","v":-0.17169124721634299},null,{"$f":"N13","v":221},{"$f":"COUNTIF(L90:L117,AI13)","v":0},{"$f":"AJ13/(AL4-AJ11)","v":0},{"$f":"IF(AK13=0,0,(AK13*((LOG(AK13))/LOG(2))))","v":0},null,{"$f":"N13","v":221},{"$f":"COUNTIF(L118:L144,AN13)","v":0},{"$f":"AO13/(AQ4-AO11)","v":0},{"$f":"IF(AP13=0,0,(AP13*((LOG(AP13))/LOG(2))))","v":0},null,{"$f":"N13","v":221},{"$f":"COUNTIF(L145:L172,AS13)","v":0},{"$f":"AT13/(AV4-AT11)","v":0},{"$f":"IF(AU13=0,0,(AU13*((LOG(AU13))/LOG(2))))","v":0}]
[21,1349,22,1352,24,1357,null,null,null,null,0,222,null,222,{"$f":"COUNTIF($L$7:$L$500,N14)","v":122},{"$f":"O14/$Q$4","v":0.73493975903614461},{"$f":"IF(P14=0,0,(P14*((LOG(P14))/LOG(2))))","v":-0.32653527374489572},null,null,{"$f":"N14","v":222},{"$f":"COUNTIF(L7:L34,T14)","v":21},{"$f":"U14/(W4-U11)","v":0.75},{"$f":"IF(V14=0,0,(V14*((LOG(V14))/LOG(2))))","v":-0.31127812445913283},null,{"$f":"N14","v":222},{"$f":"COUNTIF(L35:L61,Y14)","v":22},{"$f":"Z14/(AB4-Z11)","v":0.81481481481481477},{"$f":"IF(AA14=0,0,(AA14*((LOG(AA14))/LOG(2))))","v":-0.24074183102132479},null,{"$f":"N14","v":222},{"$f":"COUNTIF(L62:L89,AD14)","v":18},{"$f":"AE14/(AG4-AE11)","v":0.6428571428571429},{"$f":"IF(AF14=0,0,(AF14*((LOG(AF14))/LOG(2))))","v":-0.40977637753840174},null,{"$f":"N14","v":222},{"$f":"COUNTIF(L90:L117,AI14)","v":20},{"$f":"AJ14/(AL4-AJ11)","v":0.7142857142857143},{"$f":"IF(AK14=0,0,(AK14*((LOG(AK14))/LOG(2))))","v":-0.34673344797874411},null,{"$f":"N14","v":222},{"$f":"COUNTIF(L118:L144,AN14)","v":18},{"$f":"AO14/(AQ4-AO11)","v":0.66666666666666663},{"$f":"IF(AP14=0,0,(AP14*((LOG(AP14))/LOG(2))))","v":-0.38997500048077083},null,{"$f":"N14","v":222},{"$f":"COUNTIF(L145:L172,AS14)","v":23},{"$f":"AT14/(AV4-AT11)","v":0.8214285714285714},{"$f":"IF(AU14=0,0,(AU14*((LOG(AU14))/LOG(2))))","v":-0.23311565064334283}]
[12,1454,24,1462,24,1467,null,null,null,null,0,122,null,null,null,{"$f":"SUM(P7:P14)","v":1},{"$f":"-SUM(Q7:Q14)","v":0.91704372689282798},null,null,null,null,{"$f":"SUM(V7:V14)","v":1},{"$f":"-SUM(W7:W14)","v":0.81127812445913283},null,null,null,{"$f":"SUM(AA7:AA14)","v":1},{"$f":"-SUM(AB7:AB14)","v":0.69128986940578885},null,null,null,{"$f":"SUM(AF7:AF14)","v":1},{"$f":"-SUM(AG7:AG14)","v":1.1077843849525171},null,null,null,{"$f":"SUM(AK7:AK14)","v":1},{"$f":"-SUM(AL7:AL14)","v":0.863120568566631},null,null,null,{"$f":"SUM(AP7:AP14)","v":1},{"$f":"-SUM(AQ7:AQ14)","v":1.086048612313038},null,null,null,{"$f":"SUM(AU7:AU14)","v":1},{"$f":"-SUM(AV7:AV14)","v":0.676941869780886}]
[21,1603,22,1615,24,1623,null,null,null,null,0,222,null,null,null,"U=",{"$f":"Q15/(LOG(Q4)/LOG(2))","v":0.12434424729921012},null,null,null,null,"U1=",{"$f":"W15/(LOG(W4)/LOG(2))","v":0.16875769266311968},null,null,null,"U2=",{"$f":"AB15/(LOG(AB4)/LOG(2))","v":0.14538511565021311},null,null,null,"U3=",{"$f":"AG15/(LOG(AG4)/LOG(2))","v":0.23043532314821732},null,null,null,"U4=",{"$f":"AL15/(LOG(AL4)/LOG(2))","v":0.17954167781670785},null,null,null,"U5=",{"$f":"AQ15/(LOG(AQ4)/LOG(2))","v":0.22840679444442946},null,null,null,"U6=",{"$f":"AV15/(LOG(AV4)/LOG(2))","v":0.14081379069285507}]
[21,1725,22,1728,24,1733,null,null,null,null,0,222]
[21,1838,22,1846,24,1850,null,null,null,null,0,222]
[21,1952,22,1956,24,1965,null,null,null,null,0,222,null,"Total Target Seq"]
[21,2287,22,2296,24,2300,null,null,null,null,0,222,null,{"$f":"COUNTIF(L7:L172,G3)","v":0},null,28,27,28,28,27,28]
[21,2419,22,2425,24,2431,null,null,null,null,0,222,null,null,null,"% of reinforcement given in 6 equal intervals based on number of trials "]
[21,2530,22,2534,24,2539,null,null,null,null,0,222,null,null,null,"%_1","%_2","%_3","%_4","%_5","%_6"]
[21,2960,22,2966,24,2972,null,null,null,null,0,222,null,null,"target sequence",{"$f":"$G$3","v":211},{"$f":"$G$3","v":211},{"$f":"$G$3","v":211},{"$f":"$G$3","v":211},{"$f":"$G$3","v":211},{"$f":"$G$3","v":211}]
[21,3070,22,3075,24,3078,null,null,null,null,0,222,null,null,"total reinforcement",{"$f":"U11","v":0},{"$f":"Z11","v":0},{"$f":"AE11","v":0},{"$f":"AJ11","v":0},{"$f":"AO11","v":0},{"$f":"AT11","v":0}]
[12,3171,24,3176,24,3180,null,null,null,null,0,122,null,null,"% target"]
[12,3272,24,3288,24,3300,null,null,null,null,0,122,null,null,"CCRF"]
[12,3396,24,3400,24,3405,null,null,null,null,0,122,null,null,"% CCRf"]
[21,3508,22,3513,24,3519,null,null,null,null,0,222,null,null,"average response rate",{"$f":"F34/P20","v":160.57142857142858},{"$f":"(F61-F34)/Q20","v":147.44444444444446},{"$f":"(F89-F61)/R20","v":131.96428571428572},{"$f":"(F117-F89)/S20","v":139.42857142857142},{"$f":"(F144-F117)/T20","v":140.5185185185185},{"$f":"(F172-F144)/U20","v":140.28571428571428}]
[12,3612,24,3624,24,3629,null,null,null,null,0,122]
[21,3809,22,3820,24,3843,null,null,null,null,0,222]
[21,3959,22,3964,24,3973,null,null,null,null,0,222]
[21,4226,22,4230,24,4235,null,null,null,null,0,222]
[21,4363,22,4368,24,4372,null,null,null,null,0,222]
[21,4477,22,4487,24,4496,null,null,null,null,0,222]
[12,4591,24,4597,24,4602,null,null,null,null,0,122]
[21,4694,22,4699,24,4705,null,null,null,null,0,222]
[21,4809,22,4816,24,4822,null,null,null,null,0,222]
[21,4920,22,4923,24,4929,null,null,null,null,0,222]
[21,5031,22,5038,24,5044,null,null,null,null,0,222]
[21,5140,22,5146,24,5152,null,null,null,null,0,222]
[21,5246,22,5249,24,5252,null,null,null,null,0,222]
[21,5362,22,5366,24,5371,null,null,null,null,0,222]
[12,5466,24,5473,24,5477,null,null,null,null,0,122]
[21,5746,22,5760,24,5772,null,null,null,null,0,222]
[21,5995,22,6001,24,6007,null,null,null,null,0,222]
[21,6120,22,6125,24,6129,null,null,null,null,0,222]
[21,6230,22,6234,24,6240,null,null,null,null,0,222]
[21,6343,22,6347,24,6352,null,null,null,null,0,222]
[12,6450,24,6463,24,6475,null,null,null,null,0,122]
[21,6776,22,6781,24,6787,null,null,null,null,0,222]
[21,7064,22,7077,24,7083,null,null,null,null,0,222]
[21,7188,22,7199,24,7204,null,null,null,null,0,222]
[21,7297,22,7311,24,7322,null,null,null,null,0,222]
[21,7420,22,7430,24,7436,null,null,null,null,0,222]
[21,7535,22,7539,24,7545,null,null,null,null,0,222]
[21,7742,22,7746,24,7756,null,null,null,null,0,222]
[21,7997,22,8014,24,8023,null,null,null,null,0,222]
[21,8127,22,8138,24,8145,null,null,null,null,0,222]
[12,8238,24,8252,24,8255,null,null,null,null,0,122]
[12,8348,24,8359,24,8364,null,null,null,null,0,122]
[21,8466,22,8472,24,8477,null,null,null,null,0,222]
[21,8579,22,8585,24,8595,null,null,null,null,0,222]
[21,8691,22,8695,24,8701,null,null,null,null,0,222]
[21,8802,22,8808,24,8811,null,null,null,null,0,222]
[21,8915,22,8921,24,8926,null,null,null,null,0,222]
[21,9027,22,9036,24,9042,null,null,null,null,0,222]
[12,9139,24,9149,24,9155,null,null,null,null,0,122]
[21,9364,22,9369,24,9375,null,null,null,null,0,222]
[12,9467,24,9478,24,9482,null,null,null,null,0,122]
[12,9580,24,9585,24,9591,null,null,null,null,0,122]
[21,9694,22,9698,24,9702,null,null,null,null,0,222]
[21,9915,22,9918,24,9928,null,null,null,null,0,222]
[21,10027,22,10033,13,10042,null,null,null,null,0,221]
[21,10144,22,10148,24,10154,null,null,null,null,0,222]
[12,10249,24,10259,24,10269,null,null,null,null,0,122]
[21,10511,22,10515,24,10518,null,null,null,null,0,222]
[21,10615,22,10626,24,10631,null,null,null,null,0,222]
[12,10726,24,10734,24,10740,null,null,null,null,0,122]
[12,10833,24,10840,24,10844,null,null,null,null,0,122]
[21,11090,22,11095,24,11100,null,null,null,null,0,222]
[12,11195,24,11208,24,11218,null,null,null,null,0,122]
[12,11318,24,11322,24,11328,null,null,null,null,0,122]
[21,11426,22,11430,24,11435,null,null,null,null,0,222]
[21,11532,22,11535,24,11543,null,null,null,null,0,222]
[21,11693,22,11700,24,11711,null,null,null,null,0,222]
[21,11829,22,11834,24,11844,null,null,null,null,0,222]
[21,11947,22,11955,24,11961,null,null,null,null,0,222]
[21,12063,22,12066,24,12069,null,null,null,null,0,222]
[12,12161,24,12166,24,12172,null,null,null,null,0,122]
[12,12264,24,12275,24,12285,null,null,null,null,0,122]
[21,12381,22,12391,24,12397,null,null,null,null,0,222]
[21,12498,22,12512,24,12517,null,null,null,null,0,222]
[21,12742,22,12754,24,12765,null,null,null,null,0,222]
[21,13050,22,13060,24,13066,null,null,null,null,0,222]
[12,13159,24,13168,24,13187,null,null,null,null,0,122]
[21,13345,22,13354,24,13360,null,null,null,null,0,222]
[12,13455,24,13463,24,13468,null,null,null,null,0,122]
[21,13565,22,13570,24,13586,null,null,null,null,0,222]
[21,13694,22,13697,24,13701,null,null,null,null,0,222]
[12,13794,24,13803,24,13809,null,null,null,null,0,122]
[21,13903,22,13907,24,13915,null,null,null,null,0,222]
[21,14161,22,14169,24,14182,null,null,null,null,0,222]
[21,14284,22,14289,24,14294,null,null,null,null,0,222]
[21,14391,22,14396,24,14403,null,null,null,null,0,222]
[21,14506,22,14509,24,14513,null,null,null,null,0,222]
[21,14616,22,14624,24,14629,null,null,null,null,0,222]
[21,14890,22,14902,24,14916,null,null,null,null,0,222]
[12,15012,24,15017,24,15025,null,null,null,null,0,122]
[21,15120,22,15125,24,15131,null,null,null,null,0,222]
[21,15230,22,15238,24,15244,null,null,null,null,0,222]
[21,15348,22,15350,24,15352,null,null,null,null,0,222]
[12,15457,24,15470,24,15474,null,null,null,null,0,122]
[21,15578,22,15593,24,15597,null,null,null,null,0,222]
[21,15701,22,15716,24,15721,null,null,null,null,0,222]
[12,15842,24,15851,24,15855,null,null,null,null,0,122]
[12,15947,24,15958,24,15964,null,null,null,null,0,122]
[21,16062,22,16069,24,16076,null,null,null,null,0,222]
[21,16179,22,16184,24,16189,null,null,null,null,0,222]
[21,16286,22,16294,24,16299,null,null,null,null,0,222]
[21,16457,22,16461,24,16468,null,null,null,null,0,222]
[21,16564,22,16569,24,16575,null,null,null,null,0,222]
[21,16678,22,16687,24,16692,null,null,null,null,0,222]
[21,16794,22,16799,24,16805,null,null,null,null,0,222]
[21,16909,22,16913,24,16925,null,null,null,null,0,222]
[21,17017,22,17021,24,17030,null,null,null,null,0,222]
[12,17125,24,17128,24,17138,null,null,null,null,0,122]
[21,17392,22,17397,24,17403,null,null,null,null,0,222]
[21,17504,11,17517,22,17519,null,null,null,null,0,212]
[12,17614,24,17620,24,17627,null,null,null,null,0,122]
[12,17719,24,17737,24,17744,null,null,null,null,0,122]
[12,17968,24,17984,24,17989,null,null,null,null,0,122]
[12,18097,24,18102,24,18110,null,null,null,null,0,122]
[21,18303,22,18306,24,18309,null,null,null,null,0,222]
[12,18402,24,18407,24,18414,null,null,null,null,0,122]
[21,18717,22,18722,24,18727,null,null,null,null,0,222]
[12,18823,24,18828,24,18836,null,null,null,null,0,122]
[21,18943,22,18949,24,18959,null,null,null,null,0,222]
[21,19182,22,19186,24,19193,null,null,null,null,0,222]
[21,19302,22,19305,24,19313,null,null,null,null,0,222]
[12,19408,24,19413,24,19418,null,null,null,null,0,122]
[21,19521,22,19523,24,19527,null,null,null,null,0,222]
[21,19623,22,19636,24,19644,null,null,null,null,0,222]
[21,19741,22,19749,24,19756,null,null,null,null,0,222]
[21,19860,22,19865,24,19870,null,null,null,null,0,222]
[21,19968,22,19975,24,19987,null,null,null,null,0,222]
[21,20086,22,20089,24,20094,null,null,null,null,0,222]
[12,20191,24,20193,24,20200,null,null,null,null,0,122]
[21,20301,22,20305,24,20311,null,null,null,null,0,222]
[21,20409,22,20416,24,20427,null,null,null,null,0,222]
[21,20870,22,20880,24,20891,null,null,null,null,0,222]
[21,21067,22,21072,24,21078,null,null,null,null,0,222]
[21,21342,22,21356,24,21363,null,null,null,null,0,222]
[21,21462,22,21470,24,21481,null,null,null,null,0,222]
[21,21590,22,21593,24,21595,null,null,null,null,0,222]
[21,21689,22,21700,24,21707,null,null,null,null,0,222]
[21,21810,22,21818,24,21822,null,null,null,null,0,222]
[21,21981,22,21985,24,21988,null,null,null,null,0,222]
[12,22087,24,22095,24,22102,null,null,null,null,0,122]
[12,22194,24,22207,24,22213,null,null,null,null,0,122]
[21,22311,22,22318,24,22323,null,null,null,null,0,222]
[21,22445,22,22448,24,22452,null,null,null,null,0,222]
[21,22561,22,22567,24,22572,null,null,null,null,0,222]
[21,22669,22,22674,24,22679,null,null,null,null,0,222]
[21,22782,22,22788,24,22793,null,null,null,null,0,222]
[21,22968,22,22975,24,22988,null,null,null,null,0,222]
[12,23081,24,23093,24,23098,null,null,null,null,0,122]
[21,23203,22,23211,24,23216,null,null,null,null,0,222]
[21,23320,22,23325,24,23331,null,null,null,null,0,222]
[21,23428,22,23436,24,23442,null,null,null,null,0,222]
[21,23542,22,23547,24,23554,null,null,null,null,0,222]
[12,23646,24,23662,24,23668,null,null,null,null,0,122]
[21,23773,22,23780,24,23798,null,null,null,null,0,222]

{"sheet":"!M213B30.Gus","index":29,"n_rows":157,"n_cols":48,"rows_kept":157,"cut":false,"hidden":false,"merged":[[4,39,4,42],[5,39,5,40],[4,44,4,47],[5,44,5,45],[4,24,4,27],[5,24,5,25],[4,29,4,32],[5,29,5,30],[4,34,4,37],[5,34,5,35],[1,1,1,2],[5,13,5,14],[18,13,18,14],[19,13,19,14],[4,19,4,22],[5,19,5,20]]}
["Report for:!M213B30.Gus"]
["Date:","<date>"]
["Hen:","<hen>",null,null,null,"Correct Sequence",{"$f":"Start!J2","v":211},null,null,null,null,null,null,null,null,"Total Sequences in Data",{"$f":"4994-COUNTBLANK(L7:L5000)","v":151},null,null,null,null,"Total Sequences in Block Data",{"$f":"COUNTA(L7:L31)","v":25},null,null,null,"Total Sequences in Block Data",{"$f":"COUNTA(L32:L56)","v":25},null,null,null,"Total Sequences in Block Data",{"$f":"COUNTA(L57:L82)","v":26},null,null,null,"Total Sequences in Block Data",{"$f":"COUNTA(L83:L107)","v":25},null,null,null,"Total Sequences in Block Data",{"$f":"COUNTA(L108:L132)","v":25},null,null,null,"Total Sequences in Block Data",{"$f":"COUNTA(L133:L157)","v":25}]
[null,null,null,null,null,null,null,null,null,null,null,null,null,null,null,"Total Sequences in Summary",{"$f":"SUM(O7:O14)","v":151},null,null,null,null,"Total Sequences in Block Summary",{"$f":"SUM(U7:U14)","v":25},null,null,null,"Total Sequences in Block Summary",{"$f":"SUM(Z7:Z14)","v":25},null,null,null,"Total Sequences in Block Summary",{"$f":"SUM(AE7:AE14)","v":26},null,null,null,"Total Sequences in Block Summary",{"$f":"SUM(AJ7:AJ14)","v":25},null,null,null,"Total Sequences in Block Summary",{"$f":"SUM(AO7:AO14)","v":25},null,null,null,"Total Sequences in Block Summary",{"$f":"SUM(AT7:AT14)","v":25}]
[null,null,null,null,null,null,null,null,null,null,null,null,null,null,null,null,null,null,null,"Block 1",null,null,null,null,"Block 2",null,null,null,null,"Block 3",null,null,null,null,"Block 4",null,null,null,null,"Block 5",null,null,null,null,"Block 6"]
["Sequence\nComponent\n1","Time\n1","Sequence\nComponent\n2","Time\n2","Sequence\nComponent\n3","Time\n3","Sequence\nComponent\n4","Time\n4","Sequence\nComponent\n5","Time\n5","Correct?\n0=No 1=Yes","Sequence",null,"Frequency",null,"Relative Frequency","Variability",null,null,"Frequency",null,"Relative Frequency","Variability",null,"Frequency",null,"Relative Frequency","Variability",null,"Frequency",null,"Relative Frequency","Variability",null,"Frequency",null,"Relative Frequency","Variability",null,"Frequency",null,"Relative Frequency","Variability",null,"Frequency",null,"Relative Frequency","Variability"]
[21,25,22,28,24,34,null,null,null,null,0,222,null,111,{"$f":"COUNTIF($L$7:$L$500,N7)","v":0},{"$f":"O7/$Q$4","v":0},{"$f":"IF(P7=0,0,(P7*((LOG(P7))/LOG(2))))","v":0},null,null,{"$f":"N7","v":111},{"$f":"COUNTIF(L7:L31,T7)","v":0},{"$f":"U7/(W4-U11)","v":0},{"$f":"IF(V7=0,0,(V7*((LOG(V7))/LOG(2))))","v":0},null,{"$f":"N7","v":111},{"$f":"COUNTIF(L32:L56,Y7)","v":0},{"$f":"Z7/(AB4-Z11)","v":0},{"$f":"IF(AA7=0,0,(AA7*((LOG(AA7))/LOG(2))))","v":0},null,{"$f":"N7","v":111},{"$f":"COUNTIF(L57:L82,AD7)","v":0},{"$f":"AE7/(AG4-AE11)","v":0},{"$f":"IF(AF7=0,0,(AF7*((LOG(AF7))/LOG(2))))","v":0},null,{"$f":"N7","v":111},{"$f":"COUNTIF(L83:L107,AI7)","v":0},{"$f":"AJ7/(AL4-AJ11)","v":0},{"$f":"IF(AK7=0,0,(AK7*((LOG(AK7))/LOG(2))))","v":0},null,{"$f":"N7","v":111},{"$f":"COUNTIF(L108:L132,AN7)","v":0},{"$f":"AO7/(AQ4-AO11)","v":0},{"$f":"IF(AP7=0,0,(AP7*((LOG(AP7))/LOG(2))))","v":0},null,{"$f":"N7","v":111},{"$f":"COUNTIF(L133:L157,AS7)","v":0},{"$f":"AT7/(AV4-AT11)","v":0},{"$f":"IF(AU7=0,0,(AU7*((LOG(AU7))/LOG(2))))","v":0}]
[21,136,22,148,24,155,null,null,null,null,0,222,null,112,{"$f":"COUNTIF($L$7:$L$500,N8)","v":0},{"$f":"O8/$Q$4","v":0},{"$f":"IF(P8=0,0,(P8*((LOG(P8))/LOG(2))))","v":0},null,null,{"$f":"N8","v":112},{"$f":"COUNTIF(L7:L31,T8)","v":0},{"$f":"U8/(W4-U11)","v":0},{"$f":"IF(V8=0,0,(V8*((LOG(V8))/LOG(2))))","v":0},null,{"$f":"N8","v":112},{"$f":"COUNTIF(L32:L56,Y8)","v":0},{"$f":"Z8/(AB4-Z11)","v":0},{"$f":"IF(AA8=0,0,(AA8*((LOG(AA8))/LOG(2))))","v":0},null,{"$f":"N8","v":112},{"$f":"COUNTIF(L57:L82,AD8)","v":0},{"$f":"AE8/(AG4-AE11)","v":0},{"$f":"IF(AF8=0,0,(AF8*((LOG(AF8))/LOG(2))))","v":0},null,{"$f":"N8","v":112},{"$f":"COUNTIF(L83:L107,AI8)","v":0},{"$f":"AJ8/(AL4-AJ11)","v":0},{"$f":"IF(AK8=0,0,(AK8*((LOG(AK8))/LOG(2))))","v":0},null,{"$f":"N8","v":112},{"$f":"COUNTIF(L108:L132,AN8)","v":0},{"$f":"AO8/(AQ4-AO11)","v":0},{"$f":"IF(AP8=0,0,(AP8*((LOG(AP8))/LOG(2))))","v":0},null,{"$f":"N8","v":112},{"$f":"COUNTIF(L133:L157,AS8)","v":0},{"$f":"AT8/(AV4-AT11)","v":0},{"$f":"IF(AU8=0,0,(AU8*((LOG(AU8))/LOG(2))))","v":0}]
[21,252,22,263,24,269,null,null,null,null,0,222,null,121,{"$f":"COUNTIF($L$7:$L$500,N9)","v":0},{"$f":"O9/$Q$4","v":0},{"$f":"IF(P9=0,0,(P9*((LOG(P9))/LOG(2))))","v":0},null,null,{"$f":"N9","v":121},{"$f":"COUNTIF(L7:L31,T9)","v":0},{"$f":"U9/(W4-U11)","v":0},{"$f":"IF(V9=0,0,(V9*((LOG(V9))/LOG(2))))","v":0},null,{"$f":"N9","v":121},{"$f":"COUNTIF(L32:L56,Y9)","v":0},{"$f":"Z9/(AB4-Z11)","v":0},{"$f":"IF(AA9=0,0,(AA9*((LOG(AA9))/LOG(2))))","v":0},null,{"$f":"N9","v":121},{"$f":"COUNTIF(L57:L82,AD9)","v":0},{"$f":"AE9/(AG4-AE11)","v":0},{"$f":"IF(AF9=0,0,(AF9*((LOG(AF9))/LOG(2))))","v":0},null,{"$f":"N9","v":121},{"$f":"COUNTIF(L83:L107,AI9)","v":0},{"$f":"AJ9/(AL4-AJ11)","v":0},{"$f":"IF(AK9=0,0,(AK9*((LOG(AK9))/LOG(2))))","v":0},null,{"$f":"N9","v":121},{"$f":"COUNTIF(L108:L132,AN9)","v":0},{"$f":"AO9/(AQ4-AO11)","v":0},{"$f":"IF(AP9=0,0,(AP9*((LOG(AP9))/LOG(2))))","v":0},null,{"$f":"N9","v":121},{"$f":"COUNTIF(L133:L157,AS9)","v":0},{"$f":"AT9/(AV4-AT11)","v":0},{"$f":"IF(AU9=0,0,(AU9*((LOG(AU9))/LOG(2))))","v":0}]
[12,365,24,376,24,381,null,null,null,null,0,122,null,122,{"$f":"COUNTIF($L$7:$L$500,N10)","v":33},{"$f":"O10/$Q$4","v":0.2185430463576159},{"$f":"IF(P10=0,0,(P10*((LOG(P10))/LOG(2))))","v":-0.47948576462846787},null,null,{"$f":"N10","v":122},{"$f":"COUNTIF(L7:L31,T10)","v":6},{"$f":"U10/(W4-U11)","v":0.24},{"$f":"IF(V10=0,0,(V10*((LOG(V10))/LOG(2))))","v":-0.49413448537285637},null,{"$f":"N10","v":122},{"$f":"COUNTIF(L32:L56,Y10)","v":5},{"$f":"Z10/(AB4-Z11)","v":0.2},{"$f":"IF(AA10=0,0,(AA10*((LOG(AA10))/LOG(2))))","v":-0.46438561897747244},null,{"$f":"N10","v":122},{"$f":"COUNTIF(L57:L82,AD10)","v":5},{"$f":"AE10/(AG4-AE11)","v":0.19230769230769232},{"$f":"IF(AF10=0,0,(AF10*((LOG(AF10))/LOG(2))))","v":-0.45740608139494804},null,{"$f":"N10","v":122},{"$f":"COUNTIF(L83:L107,AI10)","v":6},{"$f":"AJ10/(AL4-AJ11)","v":0.24},{"$f":"IF(AK10=0,0,(AK10*((LOG(AK10))/LOG(2))))","v":-0.49413448537285637},null,{"$f":"N10","v":122},{"$f":"COUNTIF(L108:L132,AN10)","v":4},{"$f":"AO10/(AQ4-AO11)","v":0.16},{"$f":"IF(AP10=0,0,(AP10*((LOG(AP10))/LOG(2))))","v":-0.42301699036395596},null,{"$f":"N10","v":122},{"$f":"COUNTIF(L133:L157,AS10)","v":7},{"$f":"AT10/(AV4-AT11)","v":0.28000000000000003},{"$f":"IF(AU10=0,0,(AU10*((LOG(AU10))/LOG(2))))","v":-0.51422035496079388}]
[21,482,22,487,24,497,null,null,null,null,0,222,null,211,{"$f":"COUNTIF($L$7:$L$500,N11)","v":0},{"$f":"O11/$Q$4","v":0},{"$f":"IF(P11=0,0,(P11*((LOG(P11))/LOG(2))))","v":0},null,null,{"$f":"N11","v":211},{"$f":"COUNTIF(L7:L31,T11)","v":0},null,null,null,{"$f":"N11","v":211},{"$f":"COUNTIF(L32:L56,Y11)","v":0},null,null,null,{"$f":"N11","v":211},{"$f":"COUNTIF(L57:L82,AD11)","v":0},null,null,null,{"$f":"N11","v":211},{"$f":"COUNTIF(L83:L107,AI11)","v":0},null,null,null,{"$f":"N11","v":211},{"$f":"COUNTIF(L108:L132,AN11)","v":0},null,null,null,{"$f":"N11","v":211},{"$f":"COUNTIF(L133:L157,AS11)","v":0}]
[12,591,24,603,24,611,null,null,null,null,0,122,null,212,{"$f":"COUNTIF($L$7:$L$500,N12)","v":1},{"$f":"O12/$Q$4","v":6.6225165562913907E-3},{"$f":"IF(P12=0,0,(P12*((LOG(P12))/LOG(2))))","v":-4.7936455227318403E-2},null,null,{"$f":"N12","v":212},{"$f":"COUNTIF(L7:L31,T12)","v":0},{"$f":"U12/(W4-U11)","v":0},{"$f":"IF(V12=0,0,(V12*((LOG(V12))/LOG(2))))","v":0},null,{"$f":"N12","v":212},{"$f":"COUNTIF(L32:L56,Y12)","v":0},{"$f":"Z12/(AB4-Z11)","v":0},{"$f":"IF(AA12=0,0,(AA12*((LOG(AA12))/LOG(2))))","v":0},null,{"$f":"N12","v":212},{"$f":"COUNTIF(L57:L82,AD12)","v":0},{"$f":"AE12/(AG4-AE11)","v":0},{"$f":"IF(AF12=0,0,(AF12*((LOG(AF12))/LOG(2))))","v":0},null,{"$f":"N12","v":212},{"$f":"COUNTIF(L83:L107,AI12)","v":1},{"$f":"AJ12/(AL4-AJ11)","v":0.04},{"$f":"IF(AK12=0,0,(AK12*((LOG(AK12))/LOG(2))))","v":-0.18575424759098899},null,{"$f":"N12","v":212},{"$f":"COUNTIF(L108:L132,AN12)","v":0},{"$f":"AO12/(AQ4-AO11)","v":0},{"$f":"IF(AP12=0,0,(AP12*((LOG(AP12))/LOG(2))))","v":0},null,{"$f":"N12","v":212},{"$f":"COUNTIF(L133:L157,AS12)","v":0},{"$f":"AT12/(AV4-AT11)","v":0},{"$f":"IF(AU12=0,0,(AU12*((LOG(AU12))/LOG(2))))","v":0}]
[12,703,24,718,24,725,null,null,null,null,0,122,null,221,{"$f":"COUNTIF($L$7:$L$500,N13)","v":2},{"$f":"O13/$Q$4","v":1.3245033112582781E-2},{"$f":"IF(P13=0,0,(P13*((LOG(P13))/LOG(2))))","v":-8.2627877342054026E-2},null,null,{"$f":"N13","v":221},{"$f":"COUNTIF(L7:L31,T13)","v":0},{"$f":"U13/(W4-U11)","v":0},{"$f":"IF(V13=0,0,(V13*((LOG(V13))/LOG(2))))","v":0},null,{"$f":"N13","v":221},{"$f":"COUNTIF(L32:L56,Y13)","v":0},{"$f":"Z13/(AB4-Z11)","v":0},{"$f":"IF(AA13=0,0,(AA13*((LOG(AA13))/LOG(2))))","v":0},null,{"$f":"N13","v":221},{"$f":"COUNTIF(L57:L82,AD13)","v":0},{"$f":"AE13/(AG4-AE11)","v":0},{"$f":"IF(AF13=0,0,(AF13*((LOG(AF13))/LOG(2))))","v":0},null,{"$f":"N13","v":221},{"$f":"COUNTIF(L83:L107,AI13)","v":1},{"$f":"AJ13/(AL4-AJ11)","v":0.04},{"$f":"IF(AK13=0,0,(AK13*((LOG(AK13))/LOG(2))))","v":-0.18575424759098899},null,{"$f":"N13","v":221},{"$f":"COUNTIF(L108:L132,AN13)","v":0},{"$f":"AO13/(AQ4-AO11)","v":0},{"$f":"IF(AP13=0,0,(AP13*((LOG(AP13))/LOG(2))))","v":0},null,{"$f":"N13","v":221},{"$f":"COUNTIF(L133:L157,AS13)","v":1},{"$f":"AT13/(AV4-AT11)","v":0.04},{"$f":"IF(AU13=0,0,(AU13*((LOG(AU13))/LOG(2))))","v":-0.18575424759098899}]
[21,829,22,832,24,838,null,null,null,null,0,222,null,222,{"$f":"COUNTIF($L$7:$L$500,N14)","v":115},{"$f":"O14/$Q$4","v":0.76158940397350994},{"$f":"IF(P14=0,0,(P14*((LOG(P14))/LOG(2))))","v":-0.29923966333629748},null,null,{"$f":"N14","v":222},{"$f":"COUNTIF(L7:L31,T14)","v":19},{"$f":"U14/(W4-U11)","v":0.76},{"$f":"IF(V14=0,0,(V14*((LOG(V14))/LOG(2))))","v":-0.30090579401166578},null,{"$f":"N14","v":222},{"$f":"COUNTIF(L32:L56,Y14)","v":20},{"$f":"Z14/(AB4-Z11)","v":0.8},{"$f":"IF(AA14=0,0,(AA14*((LOG(AA14))/LOG(2))))","v":-0.25754247590988982},null,{"$f":"N14","v":222},{"$f":"COUNTIF(L57:L82,AD14)","v":21},{"$f":"AE14/(AG4-AE11)","v":0.80769230769230771},{"$f":"IF(AF14=0,0,(AF14*((LOG(AF14))/LOG(2))))","v":-0.24886800779265264},null,{"$f":"N14","v":222},{"$f":"COUNTIF(L83:L107,AI14)","v":17},{"$f":"AJ14/(AL4-AJ11)","v":0.68},{"$f":"IF(AK14=0,0,(AK14*((LOG(AK14))/LOG(2))))","v":-0.378347476996582},null,{"$f":"N14","v":222},{"$f":"COUNTIF(L108:L132,AN14)","v":21},{"$f":"AO14/(AQ4-AO11)","v":0.84},{"$f":"IF(AP14=0,0,(AP14*((LOG(AP14))/LOG(2))))","v":-0.21129256427661014},null,{"$f":"N14","v":222},{"$f":"COUNTIF(L133:L157,AS14)","v":17},{"$f":"AT14/(AV4-AT11)","v":0.68},{"$f":"IF(AU14=0,0,(AU14*((LOG(AU14))/LOG(2))))","v":-0.378347476996582}]
[12,930,24,936,24,939,null,null,null,null,0,122,null,null,null,{"$f":"SUM(P7:P14)","v":1},{"$f":"-SUM(Q7:Q14)","v":0.90928976053413779},null,null,null,null,{"$f":"SUM(V7:V14)","v":1},{"$f":"-SUM(W7:W14)","v":0.79504027938452215},null,null,null,{"$f":"SUM(AA7:AA14)","v":1},{"$f":"-SUM(AB7:AB14)","v":0.72192809488736231},null,null,null,{"$f":"SUM(AF7:AF14)","v":1},{"$f":"-SUM(AG7:AG14)","v":0.70627408918760071},null,null,null,{"$f":"SUM(AK7:AK14)","v":1},{"$f":"-SUM(AL7:AL14)","v":1.2439904575514165},null,null,null,{"$f":"SUM(AP7:AP14)","v":1},{"$f":"-SUM(AQ7:AQ14)","v":0.63430955464056615},null,null,null,{"$f":"SUM(AU7:AU14)","v":1},{"$f":"-SUM(AV7:AV14)","v":1.0783220795483648}]
[21,1038,22,1045,24,1050,null,null,null,null,0,222,null,null,null,"U=",{"$f":"Q15/(LOG(Q4)/LOG(2))","v":0.12562018749713097},null,null,null,null,"U1=",{"$f":"W15/(LOG(W4)/LOG(2))","v":0.17120260552751737},null,null,null,"U2=",{"$f":"AB15/(LOG(AB4)/LOG(2))","v":0.15545875354128552},null,null,null,"U3=",{"$f":"AG15/(LOG(AG4)/LOG(2))","v":0.1502570252016581},null,null,null,"U4=",{"$f":"AL15/(LOG(AL4)/LOG(2))","v":0.26787876426719465},null,null,null,"U5=",{"$f":"AQ15/(LOG(AQ4)/LOG(2))","v":0.13659112787283292},null,null,null,"U6=",{"$f":"AV15/(LOG(AV4)/LOG(2))","v":0.23220402085721661}]
[21,1156,22,1167,24,1173,null,null,null,null,0,222]
[21,1272,22,1284,24,1296,null,null,null,null,0,222]
[21,1431,22,1435,24,1441,null,null,null,null,0,222,null,"Total Target Seq"]
[21,1649,22,1656,24,1663,null,null,null,null,0,222,null,{"$f":"COUNTIF(L7:L157,G3)","v":0},null,25,25,26,25,25,25]
[12,1759,24,1768,24,1774,null,null,null,null,0,122,null,null,null,"% of reinforcement given in 6 equal intervals based on number of trials "]
[21,1881,22,1885,24,1895,null,null,null,null,0,222,null,null,null,"%_1","%_2","%_3","%_4","%_5","%_6"]
[21,1994,22,2004,24,2012,null,null,null,null,0,222,null,null,"target sequence",{"$f":"$G$3","v":211},{"$f":"$G$3","v":211},{"$f":"$G$3","v":211},{"$f":"$G$3","v":211},{"$f":"$G$3","v":211},{"$f":"$G$3","v":211}]
[21,2112,22,2119,24,2125,null,null,null,null,0,222,null,null,"total reinforcement",{"$f":"U11","v":0},{"$f":"Z11","v":0},{"$f":"AE11","v":0},{"$f":"AJ11","v":0},{"$f":"AO11","v":0},{"$f":"AT11","v":0}]
[21,2224,22,2236,24,2246,null,null,null,null,0,222,null,null,"% target"]
[21,2345,22,2348,24,2354,null,null,null,null,0,222,null,null,"CCRF"]
[21,2477,22,2492,24,2500,null,null,null,null,0,222,null,null,"% CCRf"]
[21,2600,22,2604,24,2611,null,null,null,null,0,222,null,null,"average response rate",{"$f":"F31/P20","v":118},{"$f":"(F56-F31)/Q20","v":191.56},{"$f":"(F82-F56)/R20","v":189.69230769230768},{"$f":"(F107-F82)/S20","v":169.76},{"$f":"(F132-F107)/T20","v":152.12},{"$f":"(F157-F132)/U20","v":129.12}]
[12,2707,24,2713,24,2719,null,null,null,null,0,122]
[21,2823,22,2829,24,2834,null,null,null,null,0,222]
[21,2940,22,2945,24,2950,null,null,null,null,0,222]
[21,3404,22,3413,24,3436,null,null,null,null,0,222]
[21,3542,22,3545,24,3551,null,null,null,null,0,222]
[21,3880,22,3883,24,3890,null,null,null,null,0,222]
[21,3995,22,4000,24,4006,null,null,null,null,0,222]
[21,4103,22,4109,24,4115,null,null,null,null,0,222]
[21,4359,22,4364,24,4370,null,null,null,null,0,222]
[21,4711,22,4717,24,4724,null,null,null,null,0,222]
[21,4825,22,4831,24,4843,null,null,null,null,0,222]
[21,4941,22,4948,24,4953,null,null,null,null,0,222]
[21,5386,22,5397,24,5404,null,null,null,null,0,222]
[21,5501,22,5505,24,5510,null,null,null,null,0,222]
[12,5602,24,5614,24,5617,null,null,null,null,0,122]
[21,5988,22,5994,24,6002,null,null,null,null,0,222]
[21,6104,22,6126,24,6135,null,null,null,null,0,222]
[12,6230,24,6233,24,6242,null,null,null,null,0,122]
[21,6343,22,6352,24,6357,null,null,null,null,0,222]
[12,6450,24,6465,24,6472,null,null,null,null,0,122]
[21,6574,22,6581,24,6587,null,null,null,null,0,222]
[12,6680,24,6693,24,6698,null,null,null,null,0,122]
[21,7121,22,7127,24,7134,null,null,null,null,0,222]
[21,7268,22,7279,24,7284,null,null,null,null,0,222]
[12,7377,24,7386,24,7394,null,null,null,null,0,122]
[21,7502,22,7508,24,7513,null,null,null,null,0,222]
[21,7617,22,7627,24,7633,null,null,null,null,0,222]
[21,7727,22,7732,24,7739,null,null,null,null,0,222]
[12,7831,24,7843,24,7850,null,null,null,null,0,122]
[21,8086,22,8089,24,8095,null,null,null,null,0,222]
[21,8198,22,8201,24,8207,null,null,null,null,0,222]
[21,8428,22,8433,24,8451,null,null,null,null,0,222]
[21,8712,22,8718,24,8730,null,null,null,null,0,222]
[21,9136,22,9161,24,9167,null,null,null,null,0,222]
[21,9536,22,9540,24,9547,null,null,null,null,0,222]
[21,9653,22,9657,24,9661,null,null,null,null,0,222]
[21,9966,22,9971,24,9978,null,null,null,null,0,222]
[12,10070,24,10094,24,10102,null,null,null,null,0,122]
[21,10198,22,10202,24,10212,null,null,null,null,0,222]
[21,10307,22,10311,24,10317,null,null,null,null,0,222]
[21,10423,22,10426,24,10434,null,null,null,null,0,222]
[21,10645,22,10657,24,10669,null,null,null,null,0,222]
[12,10763,24,10773,24,10778,null,null,null,null,0,122]
[21,10882,22,10894,24,10906,null,null,null,null,0,222]
[21,11007,22,11017,24,11025,null,null,null,null,0,222]
[12,11120,24,11125,24,11135,null,null,null,null,0,122]
[21,11512,22,11515,24,11521,null,null,null,null,0,222]
[21,11629,22,11634,24,11638,null,null,null,null,0,222]
[21,11736,22,11739,24,11746,null,null,null,null,0,222]
[21,11842,22,11849,24,11853,null,null,null,null,0,222]
[21,12310,22,12315,24,12336,null,null,null,null,0,222]
[21,12438,22,12443,24,12449,null,null,null,null,0,222]
[21,12548,22,12555,24,12561,null,null,null,null,0,222]
[12,12657,24,12664,24,12671,null,null,null,null,0,122]
[12,12766,24,12768,24,12772,null,null,null,null,0,122]
[21,13013,22,13019,24,13027,null,null,null,null,0,222]
[21,13475,22,13484,24,13489,null,null,null,null,0,222]
[21,13595,22,13612,24,13619,null,null,null,null,0,222]
[21,13714,22,13720,24,13725,null,null,null,null,0,222]
[21,13830,22,13843,24,13849,null,null,null,null,0,222]
[21,13951,22,13960,24,13966,null,null,null,null,0,222]
[21,14212,22,14218,24,14223,null,null,null,null,0,222]
[12,14316,24,14329,24,14334,null,null,null,null,0,122]
[21,14429,22,14445,24,14457,null,null,null,null,0,222]
[21,14556,22,14562,13,14565,null,null,null,null,0,221]
[21,14665,22,14669,24,14679,null,null,null,null,0,222]
[21,14779,22,14784,24,14789,null,null,null,null,0,222]
[21,14891,22,14894,24,14899,null,null,null,null,0,222]
[12,14994,24,14999,24,15004,null,null,null,null,0,122]
[21,15238,22,15241,24,15245,null,null,null,null,0,222]
[21,15344,22,15359,24,15365,null,null,null,null,0,222]
[21,15470,22,15475,24,15482,null,null,null,null,0,222]
[12,15576,24,15580,24,15587,null,null,null,null,0,122]
[21,15679,11,15684,22,15688,null,null,null,null,0,212]
[12,15701,24,15723,24,15730,null,null,null,null,0,122]
[21,15924,22,15930,24,15941,null,null,null,null,0,222]
[21,16038,22,16041,24,16048,null,null,null,null,0,222]
[12,16143,24,16147,24,16154,null,null,null,null,0,122]
[21,16906,22,16910,24,16915,null,null,null,null,0,222]
[21,17044,22,17049,24,17064,null,null,null,null,0,222]
[21,17168,22,17181,24,17188,null,null,null,null,0,222]
[21,17287,22,17291,24,17296,null,null,null,null,0,222]
[21,17400,22,17407,24,17412,null,null,null,null,0,222]
[21,17522,22,17533,24,17539,null,null,null,null,0,222]
[21,17863,22,17868,24,17876,null,null,null,null,0,222]
[21,17980,22,17989,24,17995,null,null,null,null,0,222]
[12,18087,24,18097,24,18102,null,null,null,null,0,122]
[21,18198,22,18214,24,18220,null,null,null,null,0,222]
[21,18324,22,18331,24,18337,null,null,null,null,0,222]
[21,18439,22,18446,24,18453,null,null,null,null,0,222]
[21,18651,22,18656,24,18666,null,null,null,null,0,222]
[12,18762,24,18768,24,18781,null,null,null,null,0,122]
[21,18882,22,18885,24,18893,null,null,null,null,0,222]
[21,19000,22,19006,24,19012,null,null,null,null,0,222]
[12,19105,24,19111,24,19115,null,null,null,null,0,122]
[21,19212,22,19217,24,19222,null,null,null,null,0,222]
[12,19318,24,19326,24,19336,null,null,null,null,0,122]
[21,19435,22,19440,24,19446,null,null,null,null,0,222]
[21,19773,22,19779,24,19791,null,null,null,null,0,222]
[21,20115,22,20119,24,20126,null,null,null,null,0,222]
[21,20228,22,20234,24,20242,null,null,null,null,0,222]
[21,20480,22,20486,24,20492,null,null,null,null,0,222]
[21,20594,22,20597,24,20603,null,null,null,null,0,222]
[21,20705,22,20714,24,20718,null,null,null,null,0,222]
[21,20890,22,20895,24,20901,null,null,null,null,0,222]
[21,21068,22,21082,24,21088,null,null,null,null,0,222]
[21,21185,22,21192,13,21195,null,null,null,null,0,221]
[12,21287,24,21296,24,21301,null,null,null,null,0,122]
[21,21490,22,21496,24,21504,null,null,null,null,0,222]
[21,21607,22,21612,24,21617,null,null,null,null,0,222]
[21,21714,22,21725,24,21731,null,null,null,null,0,222]
[21,21838,22,21845,24,21875,null,null,null,null,0,222]
[12,21970,24,21976,24,21981,null,null,null,null,0,122]
[12,22077,24,22079,24,22083,null,null,null,null,0,122]
[21,22226,22,22231,24,22236,null,null,null,null,0,222]
[21,22333,22,22346,24,22353,null,null,null,null,0,222]
[21,22449,22,22454,24,22460,null,null,null,null,0,222]
[12,22553,24,22560,24,22570,null,null,null,null,0,122]
[21,22671,22,22687,24,22698,null,null,null,null,0,222]
[12,22796,24,22804,24,22809,null,null,null,null,0,122]
[21,22911,22,22917,24,22923,null,null,null,null,0,222]
[21,23027,22,23031,24,23035,null,null,null,null,0,222]
[21,23141,22,23146,24,23152,null,null,null,null,0,222]
[12,23247,24,23249,24,23258,null,null,null,null,0,122]
[21,23355,22,23363,24,23368,null,null,null,null,0,222]
[12,23462,24,23466,24,23471,null,null,null,null,0,122]
[21,23702,22,23706,24,23715,null,null,null,null,0,222]
[21,23815,22,23824,24,23829,null,null,null,null,0,222]
[21,23934,22,23938,24,23946,null,null,null,null,null,222]

{"sheet":"!M214A30.Gus","index":30,"n_rows":160,"n_cols":48,"rows_kept":160,"cut":false,"hidden":false,"merged":[[4,39,4,42],[5,39,5,40],[4,44,4,47],[5,44,5,45],[4,24,4,27],[5,24,5,25],[4,29,4,32],[5,29,5,30],[4,34,4,37],[5,34,5,35],[1,1,1,2],[5,13,5,14],[18,13,18,14],[19,13,19,14],[4,19,4,22],[5,19,5,20]]}
["Report for:!M214A30.Gus"]
["Date:","<date>"]
["Hen:","<hen>",null,null,null,"Correct Sequence",{"$f":"Start!J2","v":211},null,null,null,null,null,null,null,null,"Total Sequences in Data",{"$f":"4994-COUNTBLANK(L7:L5000)","v":154},null,null,null,null,"Total Sequences in Block Data",{"$f":"COUNTA(L7:L32)","v":26},null,null,null,"Total Sequences in Block Data",{"$f":"COUNTA(L33:L57)","v":25},null,null,null,"Total Sequences in Block Data",{"$f":"COUNTA(L58:L83)","v":26},null,null,null,"Total Sequences in Block Data",{"$f":"COUNTA(L84:L109)","v":26},null,null,null,"Total Sequences in Block Data",{"$f":"COUNTA(L110:L134)","v":25},null,null,null,"Total Sequences in Block Data",{"$f":"COUNTA(L135:L160)","v":26}]
[null,null,null,null,null,null,null,null,null,null,null,null,null,null,null,"Total Sequences in Summary",{"$f":"SUM(O7:O14)","v":154},null,null,null,null,"Total Sequences in Block Summary",{"$f":"SUM(U7:U14)","v":26},null,null,null,"Total Sequences in Block Summary",{"$f":"SUM(Z7:Z14)","v":25},null,null,null,"Total Sequences in Block Summary",{"$f":"SUM(AE7:AE14)","v":26},null,null,null,"Total Sequences in Block Summary",{"$f":"SUM(AJ7:AJ14)","v":26},null,null,null,"Total Sequences in Block Summary",{"$f":"SUM(AO7:AO14)","v":25},null,null,null,"Total Sequences in Block Summary",{"$f":"SUM(AT7:AT14)","v":26}]
[null,null,null,null,null,null,null,null,null,null,null,null,null,null,null,null,null,null,null,"Block 1",null,null,null,null,"Block 2",null,null,null,null,"Block 3",null,null,null,null,"Block 4",null,null,null,null,"Block 5",null,null,null,null,"Block 6"]
["Sequence\nComponent\n1","Time\n1","Sequence\nComponent\n2","Time\n2","Sequence\nComponent\n3","Time\n3","Sequence\nComponent\n4","Time\n4","Sequence\nComponent\n5","Time\n5","Correct?\n0=No 1=Yes","Sequence",null,"Frequency",null,"Relative Frequency","Variability",null,null,"Frequency",null,"Relative Frequency","Variability",null,"Frequency",null,"Relative Frequency","Variability",null,"Frequency",null,"Relative Frequency","Variability",null,"Frequency",null,"Relative Frequency","Variability",null,"Frequency",null,"Relative Frequency","Variability",null,"Frequency",null,"Relative Frequency","Variability"]
[21,170,22,175,24,181,null,null,null,null,0,222,null,111,{"$f":"COUNTIF($L$7:$L$500,N7)","v":0},{"$f":"O7/$Q$4","v":0},{"$f":"IF(P7=0,0,(P7*((LOG(P7))/LOG(2))))","v":0},null,null,{"$f":"N7","v":111},{"$f":"COUNTIF(L7:L32,T7)","v":0},{"$f":"U7/(W4-U11)","v":0},{"$f":"IF(V7=0,0,(V7*((LOG(V7))/LOG(2))))","v":0},null,{"$f":"N7","v":111},{"$f":"COUNTIF(L33:L57,Y7)","v":0},{"$f":"Z7/(AB4-Z11)","v":0},{"$f":"IF(AA7=0,0,(AA7*((LOG(AA7))/LOG(2))))","v":0},null,{"$f":"N7","v":111},{"$f":"COUNTIF(L58:L83,AD7)","v":0},{"$f":"AE7/(AG4-AE11)","v":0},{"$f":"IF(AF7=0,0,(AF7*((LOG(AF7))/LOG(2))))","v":0},null,{"$f":"N7","v":111},{"$f":"COUNTIF(L84:L109,AI7)","v":0},{"$f":"AJ7/(AL4-AJ11)","v":0},{"$f":"IF(AK7=0,0,(AK7*((LOG(AK7))/LOG(2))))","v":0},null,{"$f":"N7","v":111},{"$f":"COUNTIF(L110:L134,AN7)","v":0},{"$f":"AO7/(AQ4-AO11)","v":0},{"$f":"IF(AP7=0,0,(AP7*((LOG(AP7))/LOG(2))))","v":0},null,{"$f":"N7","v":111},{"$f":"COUNTIF(L135:L160,AS7)","v":0},{"$f":"AT7/(AV4-AT11)","v":0},{"$f":"IF(AU7=0,0,(AU7*((LOG(AU7))/LOG(2))))","v":0}]
[21,284,22,289,24,295,null,null,null,null,0,222,null,112,{"$f":"COUNTIF($L$7:$L$500,N8)","v":2},{"$f":"O8/$Q$4","v":1.2987012987012988E-2},{"$f":"IF(P8=0,0,(P8*((LOG(P8))/LOG(2))))","v":-8.1386838190842872E-2},null,null,{"$f":"N8","v":112},{"$f":"COUNTIF(L7:L32,T8)","v":0},{"$f":"U8/(W4-U11)","v":0},{"$f":"IF(V8=0,0,(V8*((LOG(V8))/LOG(2))))","v":0},null,{"$f":"N8","v":112},{"$f":"COUNTIF(L33:L57,Y8)","v":1},{"$f":"Z8/(AB4-Z11)","v":0.04},{"$f":"IF(AA8=0,0,(AA8*((LOG(AA8))/LOG(2))))","v":-0.18575424759098899},null,{"$f":"N8","v":112},{"$f":"COUNTIF(L58:L83,AD8)","v":1},{"$f":"AE8/(AG4-AE11)","v":3.8461538461538464E-2},{"$f":"IF(AF8=0,0,(AF8*((LOG(AF8))/LOG(2))))","v":-0.18078614300542661},null,{"$f":"N8","v":112},{"$f":"COUNTIF(L84:L109,AI8)","v":0},{"$f":"AJ8/(AL4-AJ11)","v":0},{"$f":"IF(AK8=0,0,(AK8*((LOG(AK8))/LOG(2))))","v":0},null,{"$f":"N8","v":112},{"$f":"COUNTIF(L110:L134,AN8)","v":0},{"$f":"AO8/(AQ4-AO11)","v":0},{"$f":"IF(AP8=0,0,(AP8*((LOG(AP8))/LOG(2))))","v":0},null,{"$f":"N8","v":112},{"$f":"COUNTIF(L135:L160,AS8)","v":0},{"$f":"AT8/(AV4-AT11)","v":0},{"$f":"IF(AU8=0,0,(AU8*((LOG(AU8))/LOG(2))))","v":0}]
[21,397,22,405,24,410,null,null,null,null,0,222,null,121,{"$f":"COUNTIF($L$7:$L$500,N9)","v":0},{"$f":"O9/$Q$4","v":0},{"$f":"IF(P9=0,0,(P9*((LOG(P9))/LOG(2))))","v":0},null,null,{"$f":"N9","v":121},{"$f":"COUNTIF(L7:L32,T9)","v":0},{"$f":"U9/(W4-U11)","v":0},{"$f":"IF(V9=0,0,(V9*((LOG(V9))/LOG(2))))","v":0},null,{"$f":"N9","v":121},{"$f":"COUNTIF(L33:L57,Y9)","v":0},{"$f":"Z9/(AB4-Z11)","v":0},{"$f":"IF(AA9=0,0,(AA9*((LOG(AA9))/LOG(2))))","v":0},null,{"$f":"N9","v":121},{"$f":"COUNTIF(L58:L83,AD9)","v":0},{"$f":"AE9/(AG4-AE11)","v":0},{"$f":"IF(AF9=0,0,(AF9*((LOG(AF9))/LOG(2))))","v":0},null,{"$f":"N9","v":121},{"$f":"COUNTIF(L84:L109,AI9)","v":0},{"$f":"AJ9/(AL4-AJ11)","v":0},{"$f":"IF(AK9=0,0,(AK9*((LOG(AK9))/LOG(2))))","v":0},null,{"$f":"N9","v":121},{"$f":"COUNTIF(L110:L134,AN9)","v":0},{"$f":"AO9/(AQ4-AO11)","v":0},{"$f":"IF(AP9=0,0,(AP9*((LOG(AP9))/LOG(2))))","v":0},null,{"$f":"N9","v":121},{"$f":"COUNTIF(L135:L160,AS9)","v":0},{"$f":"AT9/(AV4-AT11)","v":0},{"$f":"IF(AU9=0,0,(AU9*((LOG(AU9))/LOG(2))))","v":0}]
[12,515,24,524,24,529,null,null,null,null,0,122,null,122,{"$f":"COUNTIF($L$7:$L$500,N10)","v":34},{"$f":"O10/$Q$4","v":0.22077922077922077},{"$f":"IF(P10=0,0,(P10*((LOG(P10))/LOG(2))))","v":-0.48114938818905911},null,null,{"$f":"N10","v":122},{"$f":"COUNTIF(L7:L32,T10)","v":6},{"$f":"U10/(W4-U11)","v":0.23076923076923078},{"$f":"IF(V10=0,0,(V10*((LOG(V10))/LOG(2))))","v":-0.48818705017383146},null,{"$f":"N10","v":122},{"$f":"COUNTIF(L33:L57,Y10)","v":5},{"$f":"Z10/(AB4-Z11)","v":0.2},{"$f":"IF(AA10=0,0,(AA10*((LOG(AA10))/LOG(2))))","v":-0.46438561897747244},null,{"$f":"N10","v":122},{"$f":"COUNTIF(L58:L83,AD10)","v":7},{"$f":"AE10/(AG4-AE11)","v":0.26923076923076922},{"$f":"IF(AF10=0,0,(AF10*((LOG(AF10))/LOG(2))))","v":-0.50967667586863141},null,{"$f":"N10","v":122},{"$f":"COUNTIF(L84:L109,AI10)","v":4},{"$f":"AJ10/(AL4-AJ11)","v":0.15384615384615385},{"$f":"IF(AK10=0,0,(AK10*((LOG(AK10))/LOG(2))))","v":-0.4154522643293988},null,{"$f":"N10","v":122},{"$f":"COUNTIF(L110:L134,AN10)","v":4},{"$f":"AO10/(AQ4-AO11)","v":0.16},{"$f":"IF(AP10=0,0,(AP10*((LOG(AP10))/LOG(2))))","v":-0.42301699036395596},null,{"$f":"N10","v":122},{"$f":"COUNTIF(L135:L160,AS10)","v":8},{"$f":"AT10/(AV4-AT11)","v":0.30769230769230771},{"$f":"IF(AU10=0,0,(AU10*((LOG(AU10))/LOG(2))))","v":-0.52321222096648989}]
[21,629,22,637,24,642,null,null,null,null,0,222,null,211,{"$f":"COUNTIF($L$7:$L$500,N11)","v":0},{"$f":"O11/$Q$4","v":0},{"$f":"IF(P11=0,0,(P11*((LOG(P11))/LOG(2))))","v":0},null,null,{"$f":"N11","v":211},{"$f":"COUNTIF(L7:L32,T11)","v":0},null,null,null,{"$f":"N11","v":211},{"$f":"COUNTIF(L33:L57,Y11)","v":0},null,null,null,{"$f":"N11","v":211},{"$f":"COUNTIF(L58:L83,AD11)","v":0},null,null,null,{"$f":"N11","v":211},{"$f":"COUNTIF(L84:L109,AI11)","v":0},null,null,null,{"$f":"N11","v":211},{"$f":"COUNTIF(L110:L134,AN11)","v":0},null,null,null,{"$f":"N11","v":211},{"$f":"COUNTIF(L135:L160,AS11)","v":0}]
[21,746,22,749,24,753,null,null,null,null,0,222,null,212,{"$f":"COUNTIF($L$7:$L$500,N12)","v":0},{"$f":"O12/$Q$4","v":0},{"$f":"IF(P12=0,0,(P12*((LOG(P12))/LOG(2))))","v":0},null,null,{"$f":"N12","v":212},{"$f":"COUNTIF(L7:L32,T12)","v":0},{"$f":"U12/(W4-U11)","v":0},{"$f":"IF(V12=0,0,(V12*((LOG(V12))/LOG(2))))","v":0},null,{"$f":"N12","v":212},{"$f":"COUNTIF(L33:L57,Y12)","v":0},{"$f":"Z12/(AB4-Z11)","v":0},{"$f":"IF(AA12=0,0,(AA12*((LOG(AA12))/LOG(2))))","v":0},null,{"$f":"N12","v":212},{"$f":"COUNTIF(L58:L83,AD12)","v":0},{"$f":"AE12/(AG4-AE11)","v":0},{"$f":"IF(AF12=0,0,(AF12*((LOG(AF12))/LOG(2))))","v":0},null,{"$f":"N12","v":212},{"$f":"COUNTIF(L84:L109,AI12)","v":0},{"$f":"AJ12/(AL4-AJ11)","v":0},{"$f":"IF(AK12=0,0,(AK12*((LOG(AK12))/LOG(2))))","v":0},null,{"$f":"N12","v":212},{"$f":"COUNTIF(L110:L134,AN12)","v":0},{"$f":"AO12/(AQ4-AO11)","v":0},{"$f":"IF(AP12=0,0,(AP12*((LOG(AP12))/LOG(2))))","v":0},null,{"$f":"N12","v":212},{"$f":"COUNTIF(L135:L160,AS12)","v":0},{"$f":"AT12/(AV4-AT11)","v":0},{"$f":"IF(AU12=0,0,(AU12*((LOG(AU12))/LOG(2))))","v":0}]
[21,854,22,865,24,870,null,null,null,null,0,222,null,221,{"$f":"COUNTIF($L$7:$L$500,N13)","v":0},{"$f":"O13/$Q$4","v":0},{"$f":"IF(P13=0,0,(P13*((LOG(P13))/LOG(2))))","v":0},null,null,{"$f":"N13","v":221},{"$f":"COUNTIF(L7:L32,T13)","v":0},{"$f":"U13/(W4-U11)","v":0},{"$f":"IF(V13=0,0,(V13*((LOG(V13))/LOG(2))))","v":0},null,{"$f":"N13","v":221},{"$f":"COUNTIF(L33:L57,Y13)","v":0},{"$f":"Z13/(AB4-Z11)","v":0},{"$f":"IF(AA13=0,0,(AA13*((LOG(AA13))/LOG(2))))","v":0},null,{"$f":"N13","v":221},{"$f":"COUNTIF(L58:L83,AD13)","v":0},{"$f":"AE13/(AG4-AE11)","v":0},{"$f":"IF(AF13=0,0,(AF13*((LOG(AF13))/LOG(2))))","v":0},null,{"$f":"N13","v":221},{"$f":"COUNTIF(L84:L109,AI13)","v":0},{"$f":"AJ13/(AL4-AJ11)","v":0},{"$f":"IF(AK13=0,0,(AK13*((LOG(AK13))/LOG(2))))","v":0},null,{"$f":"N13","v":221},{"$f":"COUNTIF(L110:L134,AN13)","v":0},{"$f":"AO13/(AQ4-AO11)","v":0},{"$f":"IF(AP13=0,0,(AP13*((LOG(AP13))/LOG(2))))","v":0},null,{"$f":"N13","v":221},{"$f":"COUNTIF(L135:L160,AS13)","v":0},{"$f":"AT13/(AV4-AT11)","v":0},{"$f":"IF(AU13=0,0,(AU13*((LOG(AU13))/LOG(2))))","v":0}]
[12,963,24,981,24,984,null,null,null,null,0,122,null,222,{"$f":"COUNTIF($L$7:$L$500,N14)","v":118},{"$f":"O14/$Q$4","v":0.76623376623376627},{"$f":"IF(P14=0,0,(P14*((LOG(P14))/LOG(2))))","v":-0.29434371413831872},null,null,{"$f":"N14","v":222},{"$f":"COUNTIF(L7:L32,T14)","v":20},{"$f":"U14/(W4-U11)","v":0.76923076923076927},{"$f":"IF(V14=0,0,(V14*((LOG(V14))/LOG(2))))","v":-0.29116278711825366},null,{"$f":"N14","v":222},{"$f":"COUNTIF(L33:L57,Y14)","v":19},{"$f":"Z14/(AB4-Z11)","v":0.76},{"$f":"IF(AA14=0,0,(AA14*((LOG(AA14))/LOG(2))))","v":-0.30090579401166578},null,{"$f":"N14","v":222},{"$f":"COUNTIF(L58:L83,AD14)","v":18},{"$f":"AE14/(AG4-AE11)","v":0.69230769230769229},{"$f":"IF(AF14=0,0,(AF14*((LOG(AF14))/LOG(2))))","v":-0.36727941925300139},null,{"$f":"N14","v":222},{"$f":"COUNTIF(L84:L109,AI14)","v":22},{"$f":"AJ14/(AL4-AJ11)","v":0.84615384615384615},{"$f":"IF(AK14=0,0,(AK14*((LOG(AK14))/LOG(2))))","v":-0.20392993034936494},null,{"$f":"N14","v":222},{"$f":"COUNTIF(L110:L134,AN14)","v":21},{"$f":"AO14/(AQ4-AO11)","v":0.84},{"$f":"IF(AP14=0,0,(AP14*((LOG(AP14))/LOG(2))))","v":-0.21129256427661014},null,{"$f":"N14","v":222},{"$f":"COUNTIF(L135:L160,AS14)","v":18},{"$f":"AT14/(AV4-AT11)","v":0.69230769230769229},{"$f":"IF(AU14=0,0,(AU14*((LOG(AU14))/LOG(2))))","v":-0.36727941925300139}]
[21,1084,22,1088,24,1094,null,null,null,null,0,222,null,null,null,{"$f":"SUM(P7:P14)","v":1},{"$f":"-SUM(Q7:Q14)","v":0.8568799405182207},null,null,null,null,{"$f":"SUM(V7:V14)","v":1},{"$f":"-SUM(W7:W14)","v":0.77934983729208507},null,null,null,{"$f":"SUM(AA7:AA14)","v":1},{"$f":"-SUM(AB7:AB14)","v":0.95104566058012718},null,null,null,{"$f":"SUM(AF7:AF14)","v":1},{"$f":"-SUM(AG7:AG14)","v":1.0577422381270594},null,null,null,{"$f":"SUM(AK7:AK14)","v":1},{"$f":"-SUM(AL7:AL14)","v":0.61938219467876376},null,null,null,{"$f":"SUM(AP7:AP14)","v":1},{"$f":"-SUM(AQ7:AQ14)","v":0.63430955464056615},null,null,null,{"$f":"SUM(AU7:AU14)","v":1},{"$f":"-SUM(AV7:AV14)","v":0.89049164021949134}]
[21,1194,22,1202,24,1206,null,null,null,null,0,222,null,null,null,"U=",{"$f":"Q15/(LOG(Q4)/LOG(2))","v":0.11791731265526892},null,null,null,null,"U1=",{"$f":"W15/(LOG(W4)/LOG(2))","v":0.1658036022213468},null,null,null,"U2=",{"$f":"AB15/(LOG(AB4)/LOG(2))","v":0.20479653583464277},null,null,null,"U3=",{"$f":"AG15/(LOG(AG4)/LOG(2))","v":0.2250304868382336},null,null,null,"U4=",{"$f":"AL15/(LOG(AL4)/LOG(2))","v":0.1317711175591279},null,null,null,"U5=",{"$f":"AQ15/(LOG(AQ4)/LOG(2))","v":0.13659112787283292},null,null,null,"U6=",{"$f":"AV15/(LOG(AV4)/LOG(2))","v":0.1894485821789581}]
[12,1302,24,1309,24,1319,null,null,null,null,0,122]
[21,1421,22,1427,24,1433,null,null,null,null,0,222]
[21,1752,22,1760,24,1772,null,null,null,null,0,222,null,"Total Target Seq"]
[21,1881,22,1886,24,1890,null,null,null,null,0,222,null,{"$f":"COUNTIF(L7:L160,G3)","v":0},null,26,25,26,26,25,26]
[21,1993,22,2001,24,2009,null,null,null,null,0,222,null,null,null,"% of reinforcement given in 6 equal intervals based on number of trials "]
[21,2110,22,2121,24,2127,null,null,null,null,0,222,null,null,null,"%_1","%_2","%_3","%_4","%_5","%_6"]
[12,2222,24,2227,24,2233,null,null,null,null,0,122,null,null,"target sequence",{"$f":"$G$3","v":211},{"$f":"$G$3","v":211},{"$f":"$G$3","v":211},{"$f":"$G$3","v":211},{"$f":"$G$3","v":211},{"$f":"$G$3","v":211}]
[12,2325,24,2334,24,2339,null,null,null,null,0,122,null,null,"total reinforcement",{"$f":"U11","v":0},{"$f":"Z11","v":0},{"$f":"AE11","v":0},{"$f":"AJ11","v":0},{"$f":"AO11","v":0},{"$f":"AT11","v":0}]
[21,2440,22,2442,24,2445,null,null,null,null,0,222,null,null,"% target"]
[21,2542,22,2556,24,2562,null,null,null,null,0,222,null,null,"CCRF"]
[21,2661,22,2667,24,2673,null,null,null,null,0,222,null,null,"% CCRf"]
[21,2770,22,2778,24,2801,null,null,null,null,0,222,null,null,"average response rate",{"$f":"F32/P20","v":131.46153846153845},{"$f":"(F57-F32)/Q20","v":164.32},{"$f":"(F83-F57)/R20","v":149.80769230769232},{"$f":"(F109-F83)/S20","v":151.03846153846155},{"$f":"(F134-F109)/T20","v":176.88},{"$f":"(F160-F134)/U20","v":160.53846153846155}]
[12,2896,24,2902,24,2915,null,null,null,null,0,122]
[21,3163,22,3169,24,3189,null,null,null,null,0,222]
[21,3288,22,3292,24,3300,null,null,null,null,0,222]
[21,3408,22,3413,24,3418,null,null,null,null,0,222]
[21,3522,22,3530,24,3534,null,null,null,null,0,222]
[21,3631,22,3637,24,3642,null,null,null,null,0,222]
[12,3740,24,3744,24,3753,null,null,null,null,0,122]
[21,3863,22,3875,24,3888,null,null,null,null,0,222]
[21,3981,22,3986,24,3988,null,null,null,null,0,222]
[12,4089,24,4095,24,4109,null,null,null,null,0,122]
[21,4479,22,4484,24,4498,null,null,null,null,0,222]
[21,4678,22,4691,24,4698,null,null,null,null,0,222]
[21,5043,22,5047,24,5055,null,null,null,null,0,222]
[21,5187,22,5194,24,5208,null,null,null,null,0,222]
[21,5356,22,5363,24,5368,null,null,null,null,0,222]
[12,5461,24,5477,24,5491,null,null,null,null,0,122]
[21,5596,22,5606,24,5612,null,null,null,null,0,222]
[21,5718,22,5725,24,5731,null,null,null,null,0,222]
[12,5825,13,5830,24,5839,null,null,null,null,0,112]
[21,6255,22,6260,24,6266,null,null,null,null,0,222]
[21,6366,22,6371,24,6377,null,null,null,null,0,222]
[21,6517,22,6521,24,6536,null,null,null,null,0,222]
[21,6631,22,6635,24,6648,null,null,null,null,0,222]
[21,6745,22,6751,24,6760,null,null,null,null,0,222]
[21,6899,22,6904,24,6913,null,null,null,null,0,222]
[21,7154,22,7177,24,7187,null,null,null,null,0,222]
[21,7300,22,7304,24,7309,null,null,null,null,0,222]
[12,7402,24,7417,24,7422,null,null,null,null,0,122]
[12,7517,24,7519,24,7526,null,null,null,null,0,122]
[12,7620,24,7623,24,7627,null,null,null,null,0,122]
[21,7860,22,7864,24,7870,null,null,null,null,0,222]
[21,8179,22,8199,24,8206,null,null,null,null,0,222]
[12,8306,24,8312,24,8318,null,null,null,null,0,122]
[12,8410,24,8416,24,8421,null,null,null,null,0,122]
[21,8521,22,8525,24,8533,null,null,null,null,0,222]
[21,8637,22,8649,24,8655,null,null,null,null,0,222]
[12,8747,24,8764,24,8775,null,null,null,null,0,122]
[12,8937,24,8948,24,8955,null,null,null,null,0,122]
[12,9052,13,9063,24,9078,null,null,null,null,0,112]
[21,9182,22,9186,24,9191,null,null,null,null,0,222]
[21,9293,22,9301,24,9313,null,null,null,null,0,222]
[21,9415,22,9429,24,9436,null,null,null,null,0,222]
[12,9533,24,9541,24,9558,null,null,null,null,0,122]
[21,9657,22,9667,24,9673,null,null,null,null,0,222]
[21,9776,22,9781,24,9786,null,null,null,null,0,222]
[21,9985,22,9990,24,9997,null,null,null,null,0,222]
[21,10099,22,10106,24,10111,null,null,null,null,0,222]
[21,10301,22,10303,24,10316,null,null,null,null,0,222]
[21,10417,22,10424,24,10430,null,null,null,null,0,222]
[12,10526,24,10538,24,10541,null,null,null,null,0,122]
[21,10644,22,10652,24,10661,null,null,null,null,0,222]
[21,10933,22,10939,24,10951,null,null,null,null,0,222]
[21,11174,22,11180,24,11184,null,null,null,null,0,222]
[21,11283,22,11295,24,11301,null,null,null,null,0,222]
[21,11402,22,11412,24,11421,null,null,null,null,0,222]
[21,11543,22,11559,24,11571,null,null,null,null,0,222]
[21,11674,22,11684,24,11690,null,null,null,null,0,222]
[21,11787,22,11788,24,11793,null,null,null,null,0,222]
[21,11900,22,11904,24,11910,null,null,null,null,0,222]
[21,12010,22,12015,24,12020,null,null,null,null,0,222]
[21,12123,22,12130,24,12136,null,null,null,null,0,222]
[21,12546,22,12551,24,12557,null,null,null,null,0,222]
[21,12661,22,12675,24,12681,null,null,null,null,0,222]
[21,12778,22,12786,24,12799,null,null,null,null,0,222]
[12,12892,24,12904,24,12912,null,null,null,null,0,122]
[21,13016,22,13026,24,13031,null,null,null,null,0,222]
[12,13128,24,13132,24,13136,null,null,null,null,0,122]
[21,13312,22,13319,24,13326,null,null,null,null,0,222]
[21,13430,22,13439,24,13450,null,null,null,null,0,222]
[12,13573,24,13582,24,13584,null,null,null,null,0,122]
[21,13692,22,13702,24,13708,null,null,null,null,0,222]
[12,13802,24,13817,24,13824,null,null,null,null,0,122]
[21,13924,22,13932,24,13937,null,null,null,null,0,222]
[21,14156,22,14168,24,14174,null,null,null,null,0,222]
[21,14384,22,14407,24,14413,null,null,null,null,0,222]
[21,14549,22,14561,24,14569,null,null,null,null,0,222]
[21,14680,22,14690,24,14695,null,null,null,null,0,222]
[21,14794,22,14798,24,14809,null,null,null,null,0,222]
[21,15092,22,15097,24,15113,null,null,null,null,0,222]
[21,15215,22,15233,24,15237,null,null,null,null,0,222]
[21,15334,22,15341,24,15348,null,null,null,null,0,222]
[21,15452,22,15456,24,15465,null,null,null,null,0,222]
[21,15854,22,15860,24,15871,null,null,null,null,0,222]
[21,15975,22,15983,24,15988,null,null,null,null,0,222]
[21,16087,22,16093,24,16098,null,null,null,null,0,222]
[21,16197,22,16201,24,16206,null,null,null,null,0,222]
[21,16310,22,16316,24,16322,null,null,null,null,0,222]
[21,16422,22,16427,24,16431,null,null,null,null,0,222]
[21,16523,22,16529,24,16533,null,null,null,null,0,222]
[12,17017,24,17030,24,17034,null,null,null,null,0,122]
[21,17159,22,17173,24,17179,null,null,null,null,0,222]
[12,17356,24,17367,24,17378,null,null,null,null,0,122]
[21,17563,22,17568,24,17575,null,null,null,null,0,222]
[21,17678,22,17689,24,17699,null,null,null,null,0,222]
[21,17797,22,17803,24,17810,null,null,null,null,0,222]
[21,17927,22,17930,24,17935,null,null,null,null,0,222]
[21,18034,22,18048,24,18068,null,null,null,null,0,222]
[21,18182,22,18187,24,18193,null,null,null,null,0,222]
[21,18466,22,18480,24,18490,null,null,null,null,0,222]
[21,18811,22,18825,24,18834,null,null,null,null,0,222]
[21,18954,22,18960,24,18967,null,null,null,null,0,222]
[21,19195,22,19207,24,19213,null,null,null,null,0,222]
[21,19315,22,19323,24,19328,null,null,null,null,0,222]
[12,19424,24,19427,24,19443,null,null,null,null,0,122]
[21,19646,22,19653,24,19662,null,null,null,null,0,222]
[12,19755,24,19765,24,19770,null,null,null,null,0,122]
[21,19874,22,19882,24,19886,null,null,null,null,0,222]
[21,19988,22,19999,24,20006,null,null,null,null,0,222]
[21,20109,22,20119,24,20124,null,null,null,null,0,222]
[21,20499,22,20510,24,20528,null,null,null,null,0,222]
[21,20757,22,20770,24,20782,null,null,null,null,0,222]
[12,21095,24,21112,24,21118,null,null,null,null,0,122]
[21,21225,22,21237,24,21244,null,null,null,null,0,222]
[12,21336,24,21352,24,21366,null,null,null,null,0,122]
[21,21470,22,21474,24,21479,null,null,null,null,0,222]
[21,21671,22,21675,24,21688,null,null,null,null,0,222]
[12,21782,24,21790,24,21794,null,null,null,null,0,122]
[21,21887,22,21891,24,21896,null,null,null,null,0,222]
[21,22068,22,22085,24,22110,null,null,null,null,0,222]
[12,22249,24,22257,24,22262,null,null,null,null,0,122]
[21,22363,22,22370,24,22376,null,null,null,null,0,222]
[12,22470,24,22476,24,22483,null,null,null,null,0,122]
[12,22579,24,22589,24,22593,null,null,null,null,0,122]
[21,22779,22,22798,24,22814,null,null,null,null,0,222]
[21,22914,22,22923,24,22934,null,null,null,null,0,222]
[12,23036,24,23041,24,23046,null,null,null,null,0,122]
[21,23146,22,23158,24,23162,null,null,null,null,0,222]
[21,23258,22,23262,24,23270,null,null,null,null,0,222]
[21,23377,22,23389,24,23394,null,null,null,null,0,222]
[21,23685,22,23690,24,23698,null,null,null,null,0,222]
[12,23805,24,23819,24,23826,null,null,null,null,0,122]
[21,23930,22,23937,24,23944,null,null,null,null,null,222]

{"sheet":"!M215A30.Gus","index":31,"n_rows":143,"n_cols":48,"rows_kept":143,"cut":false,"hidden":false,"merged":[[4,39,4,42],[5,39,5,40],[4,44,4,47],[5,44,5,45],[4,24,4,27],[5,24,5,25],[4,29,4,32],[5,29,5,30],[4,34,4,37],[5,34,5,35],[1,1,1,2],[5,13,5,14],[18,13,18,14],[19,13,19,14],[4,19,4,22],[5,19,5,20]]}
["Report for:!M215A30.Gus"]
["Date:","<date>"]
["Hen:","<hen>",null,null,null,"Correct Sequence",{"$f":"Start!J2","v":211},null,null,null,null,null,null,null,null,"Total Sequences in Data",{"$f":"4994-COUNTBLANK(L7:L5000)","v":137},null,null,null,null,"Total Sequences in Block Data",{"$f":"COUNTA(L7:L29)","v":23},null,null,null,"Total Sequences in Block Data",{"$f":"COUNTA(L30:L52)","v":23},null,null,null,"Total Sequences in Block Data",{"$f":"COUNTA(L53:L74)","v":22},null,null,null,"Total Sequences in Block Data",{"$f":"COUNTA(L75:L97)","v":23},null,null,null,"Total Sequences in Block Data",{"$f":"COUNTA(L98:L120)","v":23},null,null,null,"Total Sequences in Block Data",{"$f":"COUNTA(L121:L143)","v":23}]
[null,null,null,null,null,null,null,null,null,null,null,null,null,null,null,"Total Sequences in Summary",{"$f":"SUM(O7:O14)","v":137},null,null,null,null,"Total Sequences in Block Summary",{"$f":"SUM(U7:U14)","v":23},null,null,null,"Total Sequences in Block Summary",{"$f":"SUM(Z7:Z14)","v":23},null,null,null,"Total Sequences in Block Summary",{"$f":"SUM(AE7:AE14)","v":22},null,null,null,"Total Sequences in Block Summary",{"$f":"SUM(AJ7:AJ14)","v":23},null,null,null,"Total Sequences in Block Summary",{"$f":"SUM(AO7:AO14)","v":23},null,null,null,"Total Sequences in Block Summary",{"$f":"SUM(AT7:AT14)","v":23}]
[null,null,null,null,null,null,null,null,null,null,null,null,null,null,null,null,null,null,null,"Block 1",null,null,null,null,"Block 2",null,null,null,null,"Block 3",null,null,null,null,"Block 4",null,null,null,null,"Block 5",null,null,null,null,"Block 6"]
["Sequence\nComponent\n1","Time\n1","Sequence\nComponent\n2","Time\n2","Sequence\nComponent\n3","Time\n3","Sequence\nComponent\n4","Time\n4","Sequence\nComponent\n5","Time\n5","Correct?\n0=No 1=Yes","Sequence",null,"Frequency",null,"Relative Frequency","Variability",null,null,"Frequency",null,"Relative Frequency","Variability",null,"Frequency",null,"Relative Frequency","Variability",null,"Frequency",null,"Relative Frequency","Variability",null,"Frequency",null,"Relative Frequency","Variability",null,"Frequency",null,"Relative Frequency","Variability",null,"Frequency",null,"Relative Frequency","Variability"]
[21,49,22,55,24,62,null,null,null,null,0,222,null,111,{"$f":"COUNTIF($L$7:$L$500,N7)","v":0},{"$f":"O7/$Q$4","v":0},{"$f":"IF(P7=0,0,(P7*((LOG(P7))/LOG(2))))","v":0},null,null,{"$f":"N7","v":111},{"$f":"COUNTIF(L7:L29,T7)","v":0},{"$f":"U7/(W4-U11)","v":0},{"$f":"IF(V7=0,0,(V7*((LOG(V7))/LOG(2))))","v":0},null,{"$f":"N7","v":111},{"$f":"COUNTIF(L30:L52,Y7)","v":0},{"$f":"Z7/(AB4-Z11)","v":0},{"$f":"IF(AA7=0,0,(AA7*((LOG(AA7))/LOG(2))))","v":0},null,{"$f":"N7","v":111},{"$f":"COUNTIF(L53:L74,AD7)","v":0},{"$f":"AE7/(AG4-AE11)","v":0},{"$f":"IF(AF7=0,0,(AF7*((LOG(AF7))/LOG(2))))","v":0},null,{"$f":"N7","v":111},{"$f":"COUNTIF(L75:L97,AI7)","v":0},{"$f":"AJ7/(AL4-AJ11)","v":0},{"$f":"IF(AK7=0,0,(AK7*((LOG(AK7))/LOG(2))))","v":0},null,{"$f":"N7","v":111},{"$f":"COUNTIF(L98:L120,AN7)","v":0},{"$f":"AO7/(AQ4-AO11)","v":0},{"$f":"IF(AP7=0,0,(AP7*((LOG(AP7))/LOG(2))))","v":0},null,{"$f":"N7","v":111},{"$f":"COUNTIF(L121:L143,AS7)","v":0},{"$f":"AT7/(AV4-AT11)","v":0},{"$f":"IF(AU7=0,0,(AU7*((LOG(AU7))/LOG(2))))","v":0}]
[12,157,24,167,24,172,null,null,null,null,0,122,null,112,{"$f":"COUNTIF($L$7:$L$500,N8)","v":1},{"$f":"O8/$Q$4","v":7.2992700729927005E-3},{"$f":"IF(P8=0,0,(P8*((LOG(P8))/LOG(2))))","v":-5.1810453160295811E-2},null,null,{"$f":"N8","v":112},{"$f":"COUNTIF(L7:L29,T8)","v":0},{"$f":"U8/(W4-U11)","v":0},{"$f":"IF(V8=0,0,(V8*((LOG(V8))/LOG(2))))","v":0},null,{"$f":"N8","v":112},{"$f":"COUNTIF(L30:L52,Y8)","v":0},{"$f":"Z8/(AB4-Z11)","v":0},{"$f":"IF(AA8=0,0,(AA8*((LOG(AA8))/LOG(2))))","v":0},null,{"$f":"N8","v":112},{"$f":"COUNTIF(L53:L74,AD8)","v":1},{"$f":"AE8/(AG4-AE11)","v":4.5454545454545456E-2},{"$f":"IF(AF8=0,0,(AF8*((LOG(AF8))/LOG(2))))","v":-0.20270143721078623},null,{"$f":"N8","v":112},{"$f":"COUNTIF(L75:L97,AI8)","v":0},{"$f":"AJ8/(AL4-AJ11)","v":0},{"$f":"IF(AK8=0,0,(AK8*((LOG(AK8))/LOG(2))))","v":0},null,{"$f":"N8","v":112},{"$f":"COUNTIF(L98:L120,AN8)","v":0},{"$f":"AO8/(AQ4-AO11)","v":0},{"$f":"IF(AP8=0,0,(AP8*((LOG(AP8))/LOG(2))))","v":0},null,{"$f":"N8","v":112},{"$f":"COUNTIF(L121:L143,AS8)","v":0},{"$f":"AT8/(AV4-AT11)","v":0},{"$f":"IF(AU8=0,0,(AU8*((LOG(AU8))/LOG(2))))","v":0}]
[21,279,22,284,24,297,null,null,null,null,0,222,null,121,{"$f":"COUNTIF($L$7:$L$500,N9)","v":1},{"$f":"O9/$Q$4","v":7.2992700729927005E-3},{"$f":"IF(P9=0,0,(P9*((LOG(P9))/LOG(2))))","v":-5.1810453160295811E-2},null,null,{"$f":"N9","v":121},{"$f":"COUNTIF(L7:L29,T9)","v":0},{"$f":"U9/(W4-U11)","v":0},{"$f":"IF(V9=0,0,(V9*((LOG(V9))/LOG(2))))","v":0},null,{"$f":"N9","v":121},{"$f":"COUNTIF(L30:L52,Y9)","v":0},{"$f":"Z9/(AB4-Z11)","v":0},{"$f":"IF(AA9=0,0,(AA9*((LOG(AA9))/LOG(2))))","v":0},null,{"$f":"N9","v":121},{"$f":"COUNTIF(L53:L74,AD9)","v":1},{"$f":"AE9/(AG4-AE11)","v":4.5454545454545456E-2},{"$f":"IF(AF9=0,0,(AF9*((LOG(AF9))/LOG(2))))","v":-0.20270143721078623},null,{"$f":"N9","v":121},{"$f":"COUNTIF(L75:L97,AI9)","v":0},{"$f":"AJ9/(AL4-AJ11)","v":0},{"$f":"IF(AK9=0,0,(AK9*((LOG(AK9))/LOG(2))))","v":0},null,{"$f":"N9","v":121},{"$f":"COUNTIF(L98:L120,AN9)","v":0},{"$f":"AO9/(AQ4-AO11)","v":0},{"$f":"IF(AP9=0,0,(AP9*((LOG(AP9))/LOG(2))))","v":0},null,{"$f":"N9","v":121},{"$f":"COUNTIF(L121:L143,AS9)","v":0},{"$f":"AT9/(AV4-AT11)","v":0},{"$f":"IF(AU9=0,0,(AU9*((LOG(AU9))/LOG(2))))","v":0}]
[21,407,22,412,24,418,null,null,null,null,0,222,null,122,{"$f":"COUNTIF($L$7:$L$500,N10)","v":27},{"$f":"O10/$Q$4","v":0.19708029197080293},{"$f":"IF(P10=0,0,(P10*((LOG(P10))/LOG(2))))","v":-0.46178761811328883},null,null,{"$f":"N10","v":122},{"$f":"COUNTIF(L7:L29,T10)","v":5},{"$f":"U10/(W4-U11)","v":0.21739130434782608},{"$f":"IF(V10=0,0,(V10*((LOG(V10))/LOG(2))))","v":-0.47861605677601093},null,{"$f":"N10","v":122},{"$f":"COUNTIF(L30:L52,Y10)","v":4},{"$f":"Z10/(AB4-Z11)","v":0.17391304347826086},{"$f":"IF(AA10=0,0,(AA10*((LOG(AA10))/LOG(2))))","v":-0.43888034018382832},null,{"$f":"N10","v":122},{"$f":"COUNTIF(L53:L74,AD10)","v":4},{"$f":"AE10/(AG4-AE11)","v":0.18181818181818182},{"$f":"IF(AF10=0,0,(AF10*((LOG(AF10))/LOG(2))))","v":-0.44716938520678134},null,{"$f":"N10","v":122},{"$f":"COUNTIF(L75:L97,AI10)","v":4},{"$f":"AJ10/(AL4-AJ11)","v":0.17391304347826086},{"$f":"IF(AK10=0,0,(AK10*((LOG(AK10))/LOG(2))))","v":-0.43888034018382832},null,{"$f":"N10","v":122},{"$f":"COUNTIF(L98:L120,AN10)","v":4},{"$f":"AO10/(AQ4-AO11)","v":0.17391304347826086},{"$f":"IF(AP10=0,0,(AP10*((LOG(AP10))/LOG(2))))","v":-0.43888034018382832},null,{"$f":"N10","v":122},{"$f":"COUNTIF(L121:L143,AS10)","v":6},{"$f":"AT10/(AV4-AT11)","v":0.2608695652173913},{"$f":"IF(AU10=0,0,(AU10*((LOG(AU10))/LOG(2))))","v":-0.50572159704413644}]
[12,511,24,527,24,538,null,null,null,null,0,122,null,211,{"$f":"COUNTIF($L$7:$L$500,N11)","v":0},{"$f":"O11/$Q$4","v":0},{"$f":"IF(P11=0,0,(P11*((LOG(P11))/LOG(2))))","v":0},null,null,{"$f":"N11","v":211},{"$f":"COUNTIF(L7:L29,T11)","v":0},null,null,null,{"$f":"N11","v":211},{"$f":"COUNTIF(L30:L52,Y11)","v":0},null,null,null,{"$f":"N11","v":211},{"$f":"COUNTIF(L53:L74,AD11)","v":0},null,null,null,{"$f":"N11","v":211},{"$f":"COUNTIF(L75:L97,AI11)","v":0},null,null,null,{"$f":"N11","v":211},{"$f":"COUNTIF(L98:L120,AN11)","v":0},null,null,null,{"$f":"N11","v":211},{"$f":"COUNTIF(L121:L143,AS11)","v":0}]
[12,635,24,655,24,661,null,null,null,null,0,122,null,212,{"$f":"COUNTIF($L$7:$L$500,N12)","v":1},{"$f":"O12/$Q$4","v":7.2992700729927005E-3},{"$f":"IF(P12=0,0,(P12*((LOG(P12))/LOG(2))))","v":-5.1810453160295811E-2},null,null,{"$f":"N12","v":212},{"$f":"COUNTIF(L7:L29,T12)","v":0},{"$f":"U12/(W4-U11)","v":0},{"$f":"IF(V12=0,0,(V12*((LOG(V12))/LOG(2))))","v":0},null,{"$f":"N12","v":212},{"$f":"COUNTIF(L30:L52,Y12)","v":1},{"$f":"Z12/(AB4-Z11)","v":4.3478260869565216E-2},{"$f":"IF(AA12=0,0,(AA12*((LOG(AA12))/LOG(2))))","v":-0.19667660678508753},null,{"$f":"N12","v":212},{"$f":"COUNTIF(L53:L74,AD12)","v":0},{"$f":"AE12/(AG4-AE11)","v":0},{"$f":"IF(AF12=0,0,(AF12*((LOG(AF12))/LOG(2))))","v":0},null,{"$f":"N12","v":212},{"$f":"COUNTIF(L75:L97,AI12)","v":0},{"$f":"AJ12/(AL4-AJ11)","v":0},{"$f":"IF(AK12=0,0,(AK12*((LOG(AK12))/LOG(2))))","v":0},null,{"$f":"N12","v":212},{"$f":"COUNTIF(L98:L120,AN12)","v":0},{"$f":"AO12/(AQ4-AO11)","v":0},{"$f":"IF(AP12=0,0,(AP12*((LOG(AP12))/LOG(2))))","v":0},null,{"$f":"N12","v":212},{"$f":"COUNTIF(L121:L143,AS12)","v":0},{"$f":"AT12/(AV4-AT11)","v":0},{"$f":"IF(AU12=0,0,(AU12*((LOG(AU12))/LOG(2))))","v":0}]
[21,1267,22,1281,24,1293,null,null,null,null,0,222,null,221,{"$f":"COUNTIF($L$7:$L$500,N13)","v":1},{"$f":"O13/$Q$4","v":7.2992700729927005E-3},{"$f":"IF(P13=0,0,(P13*((LOG(P13))/LOG(2))))","v":-5.1810453160295811E-2},null,null,{"$f":"N13","v":221},{"$f":"COUNTIF(L7:L29,T13)","v":0},{"$f":"U13/(W4-U11)","v":0},{"$f":"IF(V13=0,0,(V13*((LOG(V13))/LOG(2))))","v":0},null,{"$f":"N13","v":221},{"$f":"COUNTIF(L30:L52,Y13)","v":0},{"$f":"Z13/(AB4-Z11)","v":0},{"$f":"IF(AA13=0,0,(AA13*((LOG(AA13))/LOG(2))))","v":0},null,{"$f":"N13","v":221},{"$f":"COUNTIF(L53:L74,AD13)","v":0},{"$f":"AE13/(AG4-AE11)","v":0},{"$f":"IF(AF13=0,0,(AF13*((LOG(AF13))/LOG(2))))","v":0},null,{"$f":"N13","v":221},{"$f":"COUNTIF(L75:L97,AI13)","v":1},{"$f":"AJ13/(AL4-AJ11)","v":4.3478260869565216E-2},{"$f":"IF(AK13=0,0,(AK13*((LOG(AK13))/LOG(2))))","v":-0.19667660678508753},null,{"$f":"N13","v":221},{"$f":"COUNTIF(L98:L120,AN13)","v":0},{"$f":"AO13/(AQ4-AO11)","v":0},{"$f":"IF(AP13=0,0,(AP13*((LOG(AP13))/LOG(2))))","v":0},null,{"$f":"N13","v":221},{"$f":"COUNTIF(L121:L143,AS13)","v":0},{"$f":"AT13/(AV4-AT11)","v":0},{"$f":"IF(AU13=0,0,(AU13*((LOG(AU13))/LOG(2))))","v":0}]
[21,1396,22,1399,24,1405,null,null,null,null,0,222,null,222,{"$f":"COUNTIF($L$7:$L$500,N14)","v":106},{"$f":"O14/$Q$4","v":0.77372262773722633},{"$f":"IF(P14=0,0,(P14*((LOG(P14))/LOG(2))))","v":-0.28636374167968404},null,null,{"$f":"N14","v":222},{"$f":"COUNTIF(L7:L29,T14)","v":18},{"$f":"U14/(W4-U11)","v":0.78260869565217395},{"$f":"IF(V14=0,0,(V14*((LOG(V14))/LOG(2))))","v":-0.27675935578541772},null,{"$f":"N14","v":222},{"$f":"COUNTIF(L30:L52,Y14)","v":18},{"$f":"Z14/(AB4-Z11)","v":0.78260869565217395},{"$f":"IF(AA14=0,0,(AA14*((LOG(AA14))/LOG(2))))","v":-0.27675935578541772},null,{"$f":"N14","v":222},{"$f":"COUNTIF(L53:L74,AD14)","v":16},{"$f":"AE14/(AG4-AE11)","v":0.72727272727272729},{"$f":"IF(AF14=0,0,(AF14*((LOG(AF14))/LOG(2))))","v":-0.33413208628167068},null,{"$f":"N14","v":222},{"$f":"COUNTIF(L75:L97,AI14)","v":18},{"$f":"AJ14/(AL4-AJ11)","v":0.78260869565217395},{"$f":"IF(AK14=0,0,(AK14*((LOG(AK14))/LOG(2))))","v":-0.27675935578541772},null,{"$f":"N14","v":222},{"$f":"COUNTIF(L98:L120,AN14)","v":19},{"$f":"AO14/(AQ4-AO11)","v":0.82608695652173914},{"$f":"IF(AP14=0,0,(AP14*((LOG(AP14))/LOG(2))))","v":-0.22769801781109217},null,{"$f":"N14","v":222},{"$f":"COUNTIF(L121:L143,AS14)","v":17},{"$f":"AT14/(AV4-AT11)","v":0.73913043478260865},{"$f":"IF(AU14=0,0,(AU14*((LOG(AU14))/LOG(2))))","v":-0.3223341283353674}]
[21,1543,22,1548,24,1555,null,null,null,null,0,222,null,null,null,{"$f":"SUM(P7:P14)","v":1},{"$f":"-SUM(Q7:Q14)","v":0.95539317243415622},null,null,null,null,{"$f":"SUM(V7:V14)","v":1},{"$f":"-SUM(W7:W14)","v":0.75537541256142871},null,null,null,{"$f":"SUM(AA7:AA14)","v":1},{"$f":"-SUM(AB7:AB14)","v":0.91231630275433351},null,null,null,{"$f":"SUM(AF7:AF14)","v":1},{"$f":"-SUM(AG7:AG14)","v":1.1867043459100244},null,null,null,{"$f":"SUM(AK7:AK14)","v":1},{"$f":"-SUM(AL7:AL14)","v":0.91231630275433351},null,null,null,{"$f":"SUM(AP7:AP14)","v":1},{"$f":"-SUM(AQ7:AQ14)","v":0.66657835799492049},null,null,null,{"$f":"SUM(AU7:AU14)","v":1},{"$f":"-SUM(AV7:AV14)","v":0.82805572537950378}]
[21,1659,22,1665,24,1672,null,null,null,null,0,222,null,null,null,"U=",{"$f":"Q15/(LOG(Q4)/LOG(2))","v":0.13459972584903704},null,null,null,null,"U1=",{"$f":"W15/(LOG(W4)/LOG(2))","v":0.1669868612167425},null,null,null,"U2=",{"$f":"AB15/(LOG(AB4)/LOG(2))","v":0.2016809566480568},null,null,null,"U3=",{"$f":"AG15/(LOG(AG4)/LOG(2))","v":0.26611112074248033},null,null,null,"U4=",{"$f":"AL15/(LOG(AL4)/LOG(2))","v":0.2016809566480568},null,null,null,"U5=",{"$f":"AQ15/(LOG(AQ4)/LOG(2))","v":0.14735696437237417},null,null,null,"U6=",{"$f":"AV15/(LOG(AV4)/LOG(2))","v":0.18305391490675701}]
[21,1835,22,1840,24,1851,null,null,null,null,0,222]
[21,1972,22,1980,24,1982,null,null,null,null,0,222]
[21,2114,22,2118,24,2123,null,null,null,null,0,222,null,"Total Target Seq"]
[21,2319,22,2326,24,2332,null,null,null,null,0,222,null,{"$f":"COUNTIF(L7:L143,G3)","v":0},null,23,23,22,23,23,23]
[21,2486,22,2489,24,2495,null,null,null,null,0,222,null,null,null,"% of reinforcement given in 6 equal intervals based on number of trials "]
[12,2591,24,2598,24,2603,null,null,null,null,0,122,null,null,null,"%_1","%_2","%_3","%_4","%_5","%_6"]
[12,2697,24,2703,24,2711,null,null,null,null,0,122,null,null,"target sequence",{"$f":"$G$3","v":211},{"$f":"$G$3","v":211},{"$f":"$G$3","v":211},{"$f":"$G$3","v":211},{"$f":"$G$3","v":211},{"$f":"$G$3","v":211}]
[21,2891,22,2894,24,2901,null,null,null,null,0,222,null,null,"total reinforcement",{"$f":"U11","v":0},{"$f":"Z11","v":0},{"$f":"AE11","v":0},{"$f":"AJ11","v":0},{"$f":"AO11","v":0},{"$f":"AT11","v":0}]
[21,3038,22,3043,24,3049,null,null,null,null,0,222,null,null,"% target"]
[21,3460,22,3476,24,3482,null,null,null,null,0,222,null,null,"CCRF"]
[21,3584,22,3589,24,3596,null,null,null,null,0,222,null,null,"% CCRf"]
[21,3748,22,3753,24,3757,null,null,null,null,0,222,null,null,"average response rate",{"$f":"F29/P20","v":184.34782608695653},{"$f":"(F52-F29)/Q20","v":143.60869565217391},{"$f":"(F74-F52)/R20","v":174.36363636363637},{"$f":"(F97-F74)/S20","v":156.7391304347826},{"$f":"(F120-F97)/T20","v":198.17391304347825},{"$f":"(F143-F120)/U20","v":187.17391304347825}]
[21,4231,22,4234,24,4240,null,null,null,null,0,222]
[21,4340,22,4348,24,4361,null,null,null,null,0,222]
[21,4458,22,4464,24,4471,null,null,null,null,0,222]
[21,4812,22,4825,24,4831,null,null,null,null,0,222]
[21,4932,22,4935,24,4941,null,null,null,null,0,222]
[21,5036,22,5041,24,5048,null,null,null,null,0,222]
[21,5153,22,5168,24,5175,null,null,null,null,0,222]
[21,5277,22,5288,24,5293,null,null,null,null,0,222]
[21,5395,22,5402,24,5408,null,null,null,null,0,222]
[21,5507,22,5513,24,5521,null,null,null,null,0,222]
[21,5788,22,5791,24,5814,null,null,null,null,0,222]
[21,5940,22,5944,24,5950,null,null,null,null,0,222]
[12,6138,24,6148,24,6154,null,null,null,null,0,122]
[21,6253,11,6265,22,6270,null,null,null,null,0,212]
[21,6370,22,6372,24,6383,null,null,null,null,0,222]
[12,6476,24,6480,24,6488,null,null,null,null,0,122]
[21,6592,22,6601,24,6613,null,null,null,null,0,222]
[21,6732,22,6750,24,6767,null,null,null,null,0,222]
[21,6928,22,6932,24,6956,null,null,null,null,0,222]
[21,7060,22,7071,24,7078,null,null,null,null,0,222]
[12,7176,24,7184,24,7194,null,null,null,null,0,122]
[21,7296,22,7300,24,7305,null,null,null,null,0,222]
[21,7414,22,7420,24,7430,null,null,null,null,0,222]
[12,7525,24,7540,24,7543,null,null,null,null,0,122]
[12,7670,24,7678,24,7687,null,null,null,null,0,122]
[12,7784,13,7787,24,7799,null,null,null,null,0,112]
[21,7902,22,7906,24,7923,null,null,null,null,0,222]
[21,8033,22,8043,24,8050,null,null,null,null,0,222]
[21,8348,22,8351,24,8359,null,null,null,null,0,222]
[21,8559,22,8566,24,8573,null,null,null,null,0,222]
[21,8669,22,8676,24,8682,null,null,null,null,0,222]
[12,8774,24,8788,24,8792,null,null,null,null,0,122]
[21,8891,22,8894,24,8897,null,null,null,null,0,222]
[12,8994,24,9000,13,9010,null,null,null,null,0,121]
[12,9104,24,9117,24,9123,null,null,null,null,0,122]
[21,9224,22,9230,24,9239,null,null,null,null,0,222]
[21,9338,22,9347,24,9355,null,null,null,null,0,222]
[21,9455,22,9462,24,9468,null,null,null,null,0,222]
[12,9563,24,9572,24,9575,null,null,null,null,0,122]
[21,9825,22,9828,24,9856,null,null,null,null,0,222]
[21,10176,22,10181,24,10186,null,null,null,null,0,222]
[21,10562,22,10567,24,10573,null,null,null,null,0,222]
[21,10835,22,10845,24,10858,null,null,null,null,0,222]
[21,11010,22,11015,24,11029,null,null,null,null,0,222]
[21,11190,22,11203,24,11214,null,null,null,null,0,222]
[21,11371,22,11374,24,11379,null,null,null,null,0,222]
[21,11507,22,11513,24,11531,null,null,null,null,0,222]
[12,11645,24,11660,24,11666,null,null,null,null,0,122]
[21,11767,22,11784,24,11791,null,null,null,null,0,222]
[21,11887,22,11892,24,11897,null,null,null,null,0,222]
[21,11992,22,12006,13,12010,null,null,null,null,0,221]
[21,12118,22,12131,24,12138,null,null,null,null,0,222]
[21,12236,22,12241,24,12246,null,null,null,null,0,222]
[21,12494,22,12497,24,12503,null,null,null,null,0,222]
[21,12603,22,12606,24,12610,null,null,null,null,0,222]
[21,12738,22,12742,24,12747,null,null,null,null,0,222]
[21,12848,22,12854,24,12859,null,null,null,null,0,222]
[12,12952,24,12955,24,12960,null,null,null,null,0,122]
[12,13055,24,13060,24,13064,null,null,null,null,0,122]
[12,13160,24,13164,24,13167,null,null,null,null,0,122]
[21,13420,22,13434,24,13441,null,null,null,null,0,222]
[21,13623,22,13634,24,13640,null,null,null,null,0,222]
[21,13788,22,13798,24,13809,null,null,null,null,0,222]
[21,14052,22,14058,24,14067,null,null,null,null,0,222]
[21,14528,22,14537,24,14543,null,null,null,null,0,222]
[21,14646,22,14657,24,14662,null,null,null,null,0,222]
[21,14760,22,14765,24,14768,null,null,null,null,0,222]
[21,14873,22,14877,24,14881,null,null,null,null,0,222]
[21,14974,22,14979,24,14984,null,null,null,null,0,222]
[21,15198,22,15214,24,15229,null,null,null,null,0,222]
[21,15332,22,15335,24,15338,null,null,null,null,0,222]
[21,15788,22,15792,24,15807,null,null,null,null,0,222]
[21,15902,22,15906,24,15914,null,null,null,null,0,222]
[21,16025,22,16028,24,16032,null,null,null,null,0,222]
[12,16128,24,16137,24,16145,null,null,null,null,0,122]
[21,16241,22,16246,24,16252,null,null,null,null,0,222]
[21,16370,22,16378,24,16383,null,null,null,null,0,222]
[21,16794,22,16796,24,16801,null,null,null,null,0,222]
[21,16900,22,16905,24,16911,null,null,null,null,0,222]
[21,17008,22,17011,24,17021,null,null,null,null,0,222]
[12,17116,24,17126,24,17135,null,null,null,null,0,122]
[21,17235,22,17245,24,17250,null,null,null,null,0,222]
[21,17357,22,17373,24,17379,null,null,null,null,0,222]
[21,17857,22,17870,24,17876,null,null,null,null,0,222]
[21,18453,22,18462,24,18467,null,null,null,null,0,222]
[21,18868,22,18879,24,18890,null,null,null,null,0,222]
[12,18987,24,18995,24,19005,null,null,null,null,0,122]
[21,19102,22,19107,24,19114,null,null,null,null,0,222]
[21,19217,22,19222,24,19227,null,null,null,null,0,222]
[21,19323,22,19327,24,19332,null,null,null,null,0,222]
[12,19427,24,19432,24,19434,null,null,null,null,0,122]
[21,19530,22,19536,24,19542,null,null,null,null,0,222]
[12,19634,24,19639,24,19649,null,null,null,null,0,122]
[21,19747,22,19751,24,19757,null,null,null,null,0,222]
[12,19851,24,19856,24,19861,null,null,null,null,0,122]
[21,20246,22,20249,24,20257,null,null,null,null,0,222]
[21,20357,22,20361,24,20368,null,null,null,null,0,222]
[21,20877,22,20882,24,20892,null,null,null,null,0,222]
[21,20988,22,21000,24,21009,null,null,null,null,0,222]
[12,21104,24,21118,24,21123,null,null,null,null,0,122]
[12,21217,24,21222,24,21227,null,null,null,null,0,122]
[21,21330,22,21340,24,21346,null,null,null,null,0,222]
[21,21448,22,21451,24,21456,null,null,null,null,0,222]
[21,21924,22,21939,24,21951,null,null,null,null,0,222]
[21,22057,22,22065,24,22071,null,null,null,null,0,222]
[21,22168,22,22174,24,22180,null,null,null,null,0,222]
[21,22278,22,22285,24,22291,null,null,null,null,0,222]
[21,22390,22,22394,24,22398,null,null,null,null,0,222]
[21,22502,22,22513,24,22518,null,null,null,null,0,222]
[21,22617,22,22620,24,22624,null,null,null,null,0,222]
[12,22724,24,22731,24,22739,null,null,null,null,0,122]
[12,22831,24,22844,24,22851,null,null,null,null,0,122]
[21,22952,22,22955,24,22960,null,null,null,null,0,222]
[21,23420,22,23429,24,23435,null,null,null,null,0,222]
[21,23839,22,23844,24,23847,null,null,null,null,0,222]

{"sheet":"!M216A00.Gus","index":32,"n_rows":157,"n_cols":48,"rows_kept":157,"cut":false,"hidden":false,"merged":[[4,39,4,42],[5,39,5,40],[4,44,4,47],[5,44,5,45],[4,24,4,27],[5,24,5,25],[4,29,4,32],[5,29,5,30],[4,34,4,37],[5,34,5,35],[1,1,1,2],[5,13,5,14],[18,13,18,14],[19,13,19,14],[4,19,4,22],[5,19,5,20]]}
["Report for:!M216A00.Gus"]
["Date:","<date>"]
["Hen:","<hen>",null,null,null,"Correct Sequence",{"$f":"Start!J2","v":211},null,null,null,null,null,null,null,null,"Total Sequences in Data",{"$f":"4994-COUNTBLANK(L7:L5000)","v":151},null,null,null,null,"Total Sequences in Block Data",{"$f":"COUNTA(L7:L31)","v":25},null,null,null,"Total Sequences in Block Data",{"$f":"COUNTA(L32:L56)","v":25},null,null,null,"Total Sequences in Block Data",{"$f":"COUNTA(L57:L82)","v":26},null,null,null,"Total Sequences in Block Data",{"$f":"COUNTA(L83:L107)","v":25},null,null,null,"Total Sequences in Block Data",{"$f":"COUNTA(L108:L132)","v":25},null,null,null,"Total Sequences in Block Data",{"$f":"COUNTA(L133:L157)","v":25}]
[null,null,null,null,null,null,null,null,null,null,null,null,null,null,null,"Total Sequences in Summary",{"$f":"SUM(O7:O14)","v":151},null,null,null,null,"Total Sequences in Block Summary",{"$f":"SUM(U7:U14)","v":25},null,null,null,"Total Sequences in Block Summary",{"$f":"SUM(Z7:Z14)","v":25},null,null,null,"Total Sequences in Block Summary",{"$f":"SUM(AE7:AE14)","v":26},null,null,null,"Total Sequences in Block Summary",{"$f":"SUM(AJ7:AJ14)","v":25},null,null,null,"Total Sequences in Block Summary",{"$f":"SUM(AO7:AO14)","v":25},null,null,null,"Total Sequences in Block Summary",{"$f":"SUM(AT7:AT14)","v":25}]
[null,null,null,null,null,null,null,null,null,null,null,null,null,null,null,null,null,null,null,"Block 1",null,null,null,null,"Block 2",null,null,null,null,"Block 3",null,null,null,null,"Block 4",null,null,null,null,"Block 5",null,null,null,null,"Block 6"]
["Sequence\nComponent\n1","Time\n1","Sequence\nComponent\n2","Time\n2","Sequence\nComponent\n3","Time\n3","Sequence\nComponent\n4","Time\n4","Sequence\nComponent\n5","Time\n5","Correct?\n0=No 1=Yes","Sequence",null,"Frequency",null,"Relative Frequency","Variability",null,null,"Frequency",null,"Relative Frequency","Variability",null,"Frequency",null,"Relative Frequency","Variability",null,"Frequency",null,"Relative Frequency","Variability",null,"Frequency",null,"Relative Frequency","Variability",null,"Frequency",null,"Relative Frequency","Variability",null,"Frequency",null,"Relative Frequency","Variability"]
[21,89,22,94,24,100,null,null,null,null,0,222,null,111,{"$f":"COUNTIF($L$7:$L$500,N7)","v":0},{"$f":"O7/$Q$4","v":0},{"$f":"IF(P7=0,0,(P7*((LOG(P7))/LOG(2))))","v":0},null,null,{"$f":"N7","v":111},{"$f":"COUNTIF(L7:L31,T7)","v":0},{"$f":"U7/(W4-U11)","v":0},{"$f":"IF(V7=0,0,(V7*((LOG(V7))/LOG(2))))","v":0},null,{"$f":"N7","v":111},{"$f":"COUNTIF(L32:L56,Y7)","v":0},{"$f":"Z7/(AB4-Z11)","v":0},{"$f":"IF(AA7=0,0,(AA7*((LOG(AA7))/LOG(2))))","v":0},null,{"$f":"N7","v":111},{"$f":"COUNTIF(L57:L82,AD7)","v":0},{"$f":"AE7/(AG4-AE11)","v":0},{"$f":"IF(AF7=0,0,(AF7*((LOG(AF7))/LOG(2))))","v":0},null,{"$f":"N7","v":111},{"$f":"COUNTIF(L83:L107,AI7)","v":0},{"$f":"AJ7/(AL4-AJ11)","v":0},{"$f":"IF(AK7=0,0,(AK7*((LOG(AK7))/LOG(2))))","v":0},null,{"$f":"N7","v":111},{"$f":"COUNTIF(L108:L132,AN7)","v":0},{"$f":"AO7/(AQ4-AO11)","v":0},{"$f":"IF(AP7=0,0,(AP7*((LOG(AP7))/LOG(2))))","v":0},null,{"$f":"N7","v":111},{"$f":"COUNTIF(L133:L157,AS7)","v":0},{"$f":"AT7/(AV4-AT11)","v":0},{"$f":"IF(AU7=0,0,(AU7*((LOG(AU7))/LOG(2))))","v":0}]
[12,196,24,201,24,205,null,null,null,null,0,122,null,112,{"$f":"COUNTIF($L$7:$L$500,N8)","v":1},{"$f":"O8/$Q$4","v":6.6225165562913907E-3},{"$f":"IF(P8=0,0,(P8*((LOG(P8))/LOG(2))))","v":-4.7936455227318403E-2},null,null,{"$f":"N8","v":112},{"$f":"COUNTIF(L7:L31,T8)","v":0},{"$f":"U8/(W4-U11)","v":0},{"$f":"IF(V8=0,0,(V8*((LOG(V8))/LOG(2))))","v":0},null,{"$f":"N8","v":112},{"$f":"COUNTIF(L32:L56,Y8)","v":0},{"$f":"Z8/(AB4-Z11)","v":0},{"$f":"IF(AA8=0,0,(AA8*((LOG(AA8))/LOG(2))))","v":0},null,{"$f":"N8","v":112},{"$f":"COUNTIF(L57:L82,AD8)","v":0},{"$f":"AE8/(AG4-AE11)","v":0},{"$f":"IF(AF8=0,0,(AF8*((LOG(AF8))/LOG(2))))","v":0},null,{"$f":"N8","v":112},{"$f":"COUNTIF(L83:L107,AI8)","v":0},{"$f":"AJ8/(AL4-AJ11)","v":0},{"$f":"IF(AK8=0,0,(AK8*((LOG(AK8))/LOG(2))))","v":0},null,{"$f":"N8","v":112},{"$f":"COUNTIF(L108:L132,AN8)","v":0},{"$f":"AO8/(AQ4-AO11)","v":0},{"$f":"IF(AP8=0,0,(AP8*((LOG(AP8))/LOG(2))))","v":0},null,{"$f":"N8","v":112},{"$f":"COUNTIF(L133:L157,AS8)","v":1},{"$f":"AT8/(AV4-AT11)","v":0.04},{"$f":"IF(AU8=0,0,(AU8*((LOG(AU8))/LOG(2))))","v":-0.18575424759098899}]
[21,316,22,327,24,334,null,null,null,null,0,222,null,121,{"$f":"COUNTIF($L$7:$L$500,N9)","v":3},{"$f":"O9/$Q$4","v":1.9867549668874173E-2},{"$f":"IF(P9=0,0,(P9*((LOG(P9))/LOG(2))))","v":-0.11232004447557463},null,null,{"$f":"N9","v":121},{"$f":"COUNTIF(L7:L31,T9)","v":1},{"$f":"U9/(W4-U11)","v":0.04},{"$f":"IF(V9=0,0,(V9*((LOG(V9))/LOG(2))))","v":-0.18575424759098899},null,{"$f":"N9","v":121},{"$f":"COUNTIF(L32:L56,Y9)","v":1},{"$f":"Z9/(AB4-Z11)","v":4.1666666666666664E-2},{"$f":"IF(AA9=0,0,(AA9*((LOG(AA9))/LOG(2))))","v":-0.19104010419671485},null,{"$f":"N9","v":121},{"$f":"COUNTIF(L57:L82,AD9)","v":0},{"$f":"AE9/(AG4-AE11)","v":0},{"$f":"IF(AF9=0,0,(AF9*((LOG(AF9))/LOG(2))))","v":0},null,{"$f":"N9","v":121},{"$f":"COUNTIF(L83:L107,AI9)","v":0},{"$f":"AJ9/(AL4-AJ11)","v":0},{"$f":"IF(AK9=0,0,(AK9*((LOG(AK9))/LOG(2))))","v":0},null,{"$f":"N9","v":121},{"$f":"COUNTIF(L108:L132,AN9)","v":0},{"$f":"AO9/(AQ4-AO11)","v":0},{"$f":"IF(AP9=0,0,(AP9*((LOG(AP9))/LOG(2))))","v":0},null,{"$f":"N9","v":121},{"$f":"COUNTIF(L133:L157,AS9)","v":1},{"$f":"AT9/(AV4-AT11)","v":0.04},{"$f":"IF(AU9=0,0,(AU9*((LOG(AU9))/LOG(2))))","v":-0.18575424759098899}]
[12,428,24,437,24,440,null,null,null,null,0,122,null,122,{"$f":"COUNTIF($L$7:$L$500,N10)","v":24},{"$f":"O10/$Q$4","v":0.15894039735099338},{"$f":"IF(P10=0,0,(P10*((LOG(P10))/LOG(2))))","v":-0.42173916375161685},null,null,{"$f":"N10","v":122},{"$f":"COUNTIF(L7:L31,T10)","v":6},{"$f":"U10/(W4-U11)","v":0.24},{"$f":"IF(V10=0,0,(V10*((LOG(V10))/LOG(2))))","v":-0.49413448537285637},null,{"$f":"N10","v":122},{"$f":"COUNTIF(L32:L56,Y10)","v":4},{"$f":"Z10/(AB4-Z11)","v":0.16666666666666666},{"$f":"IF(AA10=0,0,(AA10*((LOG(AA10))/LOG(2))))","v":-0.43082708345352599},null,{"$f":"N10","v":122},{"$f":"COUNTIF(L57:L82,AD10)","v":4},{"$f":"AE10/(AG4-AE11)","v":0.15384615384615385},{"$f":"IF(AF10=0,0,(AF10*((LOG(AF10))/LOG(2))))","v":-0.4154522643293988},null,{"$f":"N10","v":122},{"$f":"COUNTIF(L83:L107,AI10)","v":5},{"$f":"AJ10/(AL4-AJ11)","v":0.2},{"$f":"IF(AK10=0,0,(AK10*((LOG(AK10))/LOG(2))))","v":-0.46438561897747244},null,{"$f":"N10","v":122},{"$f":"COUNTIF(L108:L132,AN10)","v":2},{"$f":"AO10/(AQ4-AO11)","v":0.08},{"$f":"IF(AP10=0,0,(AP10*((LOG(AP10))/LOG(2))))","v":-0.29150849518197797},null,{"$f":"N10","v":122},{"$f":"COUNTIF(L133:L157,AS10)","v":3},{"$f":"AT10/(AV4-AT11)","v":0.12},{"$f":"IF(AU10=0,0,(AU10*((LOG(AU10))/LOG(2))))","v":-0.36706724268642821}]
[21,543,22,545,24,547,null,null,null,null,0,222,null,211,{"$f":"COUNTIF($L$7:$L$500,N11)","v":1},{"$f":"O11/$Q$4","v":6.6225165562913907E-3},{"$f":"IF(P11=0,0,(P11*((LOG(P11))/LOG(2))))","v":-4.7936455227318403E-2},null,null,{"$f":"N11","v":211},{"$f":"COUNTIF(L7:L31,T11)","v":0},null,null,null,{"$f":"N11","v":211},{"$f":"COUNTIF(L32:L56,Y11)","v":1},null,null,null,{"$f":"N11","v":211},{"$f":"COUNTIF(L57:L82,AD11)","v":0},null,null,null,{"$f":"N11","v":211},{"$f":"COUNTIF(L83:L107,AI11)","v":0},null,null,null,{"$f":"N11","v":211},{"$f":"COUNTIF(L108:L132,AN11)","v":0},null,null,null,{"$f":"N11","v":211},{"$f":"COUNTIF(L133:L157,AS11)","v":0}]
[12,640,24,645,24,647,null,null,null,null,0,122,null,212,{"$f":"COUNTIF($L$7:$L$500,N12)","v":1},{"$f":"O12/$Q$4","v":6.6225165562913907E-3},{"$f":"IF(P12=0,0,(P12*((LOG(P12))/LOG(2))))","v":-4.7936455227318403E-2},null,null,{"$f":"N12","v":212},{"$f":"COUNTIF(L7:L31,T12)","v":0},{"$f":"U12/(W4-U11)","v":0},{"$f":"IF(V12=0,0,(V12*((LOG(V12))/LOG(2))))","v":0},null,{"$f":"N12","v":212},{"$f":"COUNTIF(L32:L56,Y12)","v":0},{"$f":"Z12/(AB4-Z11)","v":0},{"$f":"IF(AA12=0,0,(AA12*((LOG(AA12))/LOG(2))))","v":0},null,{"$f":"N12","v":212},{"$f":"COUNTIF(L57:L82,AD12)","v":0},{"$f":"AE12/(AG4-AE11)","v":0},{"$f":"IF(AF12=0,0,(AF12*((LOG(AF12))/LOG(2))))","v":0},null,{"$f":"N12","v":212},{"$f":"COUNTIF(L83:L107,AI12)","v":0},{"$f":"AJ12/(AL4-AJ11)","v":0},{"$f":"IF(AK12=0,0,(AK12*((LOG(AK12))/LOG(2))))","v":0},null,{"$f":"N12","v":212},{"$f":"COUNTIF(L108:L132,AN12)","v":1},{"$f":"AO12/(AQ4-AO11)","v":0.04},{"$f":"IF(AP12=0,0,(AP12*((LOG(AP12))/LOG(2))))","v":-0.18575424759098899},null,{"$f":"N12","v":212},{"$f":"COUNTIF(L133:L157,AS12)","v":0},{"$f":"AT12/(AV4-AT11)","v":0},{"$f":"IF(AU12=0,0,(AU12*((LOG(AU12))/LOG(2))))","v":0}]
[12,742,24,747,24,752,null,null,null,null,0,122,null,221,{"$f":"COUNTIF($L$7:$L$500,N13)","v":2},{"$f":"O13/$Q$4","v":1.3245033112582781E-2},{"$f":"IF(P13=0,0,(P13*((LOG(P13))/LOG(2))))","v":-8.2627877342054026E-2},null,null,{"$f":"N13","v":221},{"$f":"COUNTIF(L7:L31,T13)","v":0},{"$f":"U13/(W4-U11)","v":0},{"$f":"IF(V13=0,0,(V13*((LOG(V13))/LOG(2))))","v":0},null,{"$f":"N13","v":221},{"$f":"COUNTIF(L32:L56,Y13)","v":2},{"$f":"Z13/(AB4-Z11)","v":8.3333333333333329E-2},{"$f":"IF(AA13=0,0,(AA13*((LOG(AA13))/LOG(2))))","v":-0.29874687506009634},null,{"$f":"N13","v":221},{"$f":"COUNTIF(L57:L82,AD13)","v":0},{"$f":"AE13/(AG4-AE11)","v":0},{"$f":"IF(AF13=0,0,(AF13*((LOG(AF13))/LOG(2))))","v":0},null,{"$f":"N13","v":221},{"$f":"COUNTIF(L83:L107,AI13)","v":0},{"$f":"AJ13/(AL4-AJ11)","v":0},{"$f":"IF(AK13=0,0,(AK13*((LOG(AK13))/LOG(2))))","v":0},null,{"$f":"N13","v":221},{"$f":"COUNTIF(L108:L132,AN13)","v":0},{"$f":"AO13/(AQ4-AO11)","v":0},{"$f":"IF(AP13=0,0,(AP13*((LOG(AP13))/LOG(2))))","v":0},null,{"$f":"N13","v":221},{"$f":"COUNTIF(L133:L157,AS13)","v":0},{"$f":"AT13/(AV4-AT11)","v":0},{"$f":"IF(AU13=0,0,(AU13*((LOG(AU13))/LOG(2))))","v":0}]
[21,1357,22,1361,24,1366,null,null,null,null,0,222,null,222,{"$f":"COUNTIF($L$7:$L$500,N14)","v":119},{"$f":"O14/$Q$4","v":0.78807947019867552},{"$f":"IF(P14=0,0,(P14*((LOG(P14))/LOG(2))))","v":-0.27077384202674903},null,null,{"$f":"N14","v":222},{"$f":"COUNTIF(L7:L31,T14)","v":18},{"$f":"U14/(W4-U11)","v":0.72},{"$f":"IF(V14=0,0,(V14*((LOG(V14))/LOG(2))))","v":-0.3412304555993369},null,{"$f":"N14","v":222},{"$f":"COUNTIF(L32:L56,Y14)","v":17},{"$f":"Z14/(AB4-Z11)","v":0.70833333333333337},{"$f":"IF(AA14=0,0,(AA14*((LOG(AA14))/LOG(2))))","v":-0.35239559212516181},null,{"$f":"N14","v":222},{"$f":"COUNTIF(L57:L82,AD14)","v":22},{"$f":"AE14/(AG4-AE11)","v":0.84615384615384615},{"$f":"IF(AF14=0,0,(AF14*((LOG(AF14))/LOG(2))))","v":-0.20392993034936494},null,{"$f":"N14","v":222},{"$f":"COUNTIF(L83:L107,AI14)","v":20},{"$f":"AJ14/(AL4-AJ11)","v":0.8},{"$f":"IF(AK14=0,0,(AK14*((LOG(AK14))/LOG(2))))","v":-0.25754247590988982},null,{"$f":"N14","v":222},{"$f":"COUNTIF(L108:L132,AN14)","v":22},{"$f":"AO14/(AQ4-AO11)","v":0.88},{"$f":"IF(AP14=0,0,(AP14*((LOG(AP14))/LOG(2))))","v":-0.16229362260093616},null,{"$f":"N14","v":222},{"$f":"COUNTIF(L133:L157,AS14)","v":20},{"$f":"AT14/(AV4-AT11)","v":0.8},{"$f":"IF(AU14=0,0,(AU14*((LOG(AU14))/LOG(2))))","v":-0.25754247590988982}]
[21,1471,22,1480,24,1487,null,null,null,null,0,222,null,null,null,{"$f":"SUM(P7:P14)","v":1},{"$f":"-SUM(Q7:Q14)","v":1.0312702932779496},null,null,null,null,{"$f":"SUM(V7:V14)","v":1},{"$f":"-SUM(W7:W14)","v":1.0211191885631823},null,null,null,{"$f":"SUM(AA7:AA14)","v":1},{"$f":"-SUM(AB7:AB14)","v":1.273009654835499},null,null,null,{"$f":"SUM(AF7:AF14)","v":1},{"$f":"-SUM(AG7:AG14)","v":0.61938219467876376},null,null,null,{"$f":"SUM(AK7:AK14)","v":1},{"$f":"-SUM(AL7:AL14)","v":0.72192809488736231},null,null,null,{"$f":"SUM(AP7:AP14)","v":1},{"$f":"-SUM(AQ7:AQ14)","v":0.63955636537390315},null,null,null,{"$f":"SUM(AU7:AU14)","v":1},{"$f":"-SUM(AV7:AV14)","v":0.99611821377829601}]
[21,1583,22,1591,24,1597,null,null,null,null,0,222,null,null,null,"U=",{"$f":"Q15/(LOG(Q4)/LOG(2))","v":0.14247204051401346},null,null,null,null,"U1=",{"$f":"W15/(LOG(W4)/LOG(2))","v":0.21988604875654366},null,null,null,"U2=",{"$f":"AB15/(LOG(AB4)/LOG(2))","v":0.27412770826937538},null,null,null,"U3=",{"$f":"AG15/(LOG(AG4)/LOG(2))","v":0.1317711175591279},null,null,null,"U4=",{"$f":"AL15/(LOG(AL4)/LOG(2))","v":0.15545875354128552},null,null,null,"U5=",{"$f":"AQ15/(LOG(AQ4)/LOG(2))","v":0.13772096706658096},null,null,null,"U6=",{"$f":"AV15/(LOG(AV4)/LOG(2))","v":0.21450238187212639}]
[12,1692,24,1701,13,1704,null,null,null,null,0,121]
[21,1818,22,1828,24,1834,null,null,null,null,0,222]
[21,1936,22,1940,24,1946,null,null,null,null,0,222,null,"Total Target Seq"]
[21,2049,22,2053,24,2060,null,null,null,null,0,222,null,{"$f":"COUNTIF(L7:L157,G3)","v":1},null,25,25,26,25,25,25]
[21,2169,22,2174,24,2179,null,null,null,null,0,222,null,null,null,"% of reinforcement given in 6 equal intervals based on number of trials "]
[21,2459,22,2465,24,2471,null,null,null,null,0,222,null,null,null,"%_1","%_2","%_3","%_4","%_5","%_6"]
[12,2569,24,2581,24,2586,null,null,null,null,0,122,null,null,"target sequence",{"$f":"$G$3","v":211},{"$f":"$G$3","v":211},{"$f":"$G$3","v":211},{"$f":"$G$3","v":211},{"$f":"$G$3","v":211},{"$f":"$G$3","v":211}]
[21,2688,22,2695,24,2701,null,null,null,null,0,222,null,null,"total reinforcement",{"$f":"U11","v":0},{"$f":"Z11","v":1},{"$f":"AE11","v":0},{"$f":"AJ11","v":0},{"$f":"AO11","v":0},{"$f":"AT11","v":0}]
[21,2808,22,2812,24,2820,null,null,null,null,0,222,null,null,"% target"]
[21,2919,22,2926,24,2933,null,null,null,null,0,222,null,null,"CCRF"]
[21,3034,22,3039,24,3045,null,null,null,null,0,222,null,null,"% CCRf"]
[21,3149,22,3152,24,3159,null,null,null,null,0,222,null,null,"average response rate",{"$f":"F31/P20","v":139.4},{"$f":"(F56-F31)/Q20","v":247.6},{"$f":"(F82-F56)/R20","v":153.80769230769232},{"$f":"(F107-F82)/S20","v":141.04},{"$f":"(F132-F107)/T20","v":139.52000000000001},{"$f":"(F157-F132)/U20","v":132.08000000000001}]
[21,3264,22,3272,24,3279,null,null,null,null,0,222]
[12,3373,24,3377,24,3379,null,null,null,null,0,122]
[21,3477,22,3480,24,3485,null,null,null,null,0,222]
[12,3577,24,3595,24,3599,null,null,null,null,0,122]
[12,3695,24,3700,13,3703,null,null,null,null,0,121]
[21,4349,22,4356,24,4363,null,null,null,null,0,222]
[12,4457,24,4467,24,4469,null,null,null,null,0,122]
[21,4570,22,4582,24,4590,null,null,null,null,0,222]
[21,5185,22,5189,24,5194,null,null,null,null,0,222]
[21,5540,22,5544,24,5555,null,null,null,null,0,222]
[21,5958,22,5963,24,6002,null,null,null,null,0,222]
[21,6502,22,6507,24,6513,null,null,null,null,0,222]
[21,6897,22,6903,24,6909,null,null,null,null,0,222]
[12,7002,24,7014,24,7017,null,null,null,null,0,122]
[21,7327,22,7331,24,7337,null,null,null,null,0,222]
[21,7810,22,7815,24,7827,null,null,null,null,0,222]
[21,7932,22,7940,24,7950,null,null,null,null,0,222]
[21,8162,22,8164,24,8193,null,null,null,null,0,222]
[12,8287,24,8295,24,8302,null,null,null,null,0,122]
[21,8400,11,8404,11,8407,null,null,null,null,0,211]
[21,8746,22,8748,24,8763,null,null,null,null,0,222]
[21,8864,22,8868,13,8872,null,null,null,null,0,221]
[21,8969,22,8974,24,8980,null,null,null,null,0,222]
[21,9079,22,9086,24,9091,null,null,null,null,0,222]
[21,9191,22,9195,24,9200,null,null,null,null,0,222]
[21,9302,22,9307,13,9311,null,null,null,null,0,221]
[21,9412,22,9420,24,9426,null,null,null,null,0,222]
[21,9639,22,9669,24,9675,null,null,null,null,0,222]
[12,9770,24,9780,24,9786,null,null,null,null,0,122]
[21,9883,22,9891,24,9896,null,null,null,null,0,222]
[12,9992,24,9998,24,10002,null,null,null,null,0,122]
[21,10105,22,10111,24,10118,null,null,null,null,0,222]
[21,10354,22,10364,24,10371,null,null,null,null,0,222]
[12,10465,24,10471,24,10497,null,null,null,null,0,122]
[21,10601,22,10608,24,10612,null,null,null,null,0,222]
[21,11018,22,11021,24,11036,null,null,null,null,0,222]
[21,11135,22,11141,24,11148,null,null,null,null,0,222]
[21,11251,22,11257,24,11263,null,null,null,null,0,222]
[21,11366,22,11371,24,11380,null,null,null,null,0,222]
[21,11481,22,11487,24,11494,null,null,null,null,0,222]
[21,11602,22,11605,24,11612,null,null,null,null,0,222]
[21,11868,22,11880,24,11888,null,null,null,null,0,222]
[21,11988,22,11994,24,12017,null,null,null,null,0,222]
[21,12164,22,12170,24,12174,null,null,null,null,0,222]
[21,12274,22,12278,24,12284,null,null,null,null,0,222]
[21,12389,22,12395,24,12401,null,null,null,null,0,222]
[21,12670,22,12676,24,12686,null,null,null,null,0,222]
[21,12961,22,12965,24,12972,null,null,null,null,0,222]
[21,13102,22,13108,24,13116,null,null,null,null,0,222]
[12,13212,24,13213,24,13220,null,null,null,null,0,122]
[21,13317,22,13321,24,13327,null,null,null,null,0,222]
[21,13433,22,13443,24,13454,null,null,null,null,0,222]
[21,13552,22,13556,24,13560,null,null,null,null,0,222]
[21,13658,22,13668,24,13674,null,null,null,null,0,222]
[21,13776,22,13780,24,13786,null,null,null,null,0,222]
[21,14043,22,14048,24,14054,null,null,null,null,0,222]
[21,14152,22,14157,24,14163,null,null,null,null,0,222]
[21,14267,22,14274,24,14286,null,null,null,null,0,222]
[21,14383,22,14387,24,14392,null,null,null,null,0,222]
[21,14761,22,14764,24,14767,null,null,null,null,0,222]
[21,14866,22,14875,24,14880,null,null,null,null,0,222]
[21,14983,22,14985,24,14992,null,null,null,null,0,222]
[12,15088,24,15093,24,15096,null,null,null,null,0,122]
[21,15200,22,15206,24,15218,null,null,null,null,0,222]
[21,15314,22,15319,24,15332,null,null,null,null,0,222]
[21,15433,22,15437,24,15442,null,null,null,null,0,222]
[21,15547,22,15555,24,15567,null,null,null,null,0,222]
[21,15672,22,15678,24,15684,null,null,null,null,0,222]
[21,15788,22,15791,24,15796,null,null,null,null,0,222]
[21,16072,22,16076,24,16090,null,null,null,null,0,222]
[21,16190,22,16196,24,16213,null,null,null,null,0,222]
[12,16308,24,16313,24,16319,null,null,null,null,0,122]
[21,16419,22,16427,24,16431,null,null,null,null,0,222]
[12,16525,24,16535,24,16540,null,null,null,null,0,122]
[21,16639,22,16644,24,16651,null,null,null,null,0,222]
[12,16747,24,16754,24,16761,null,null,null,null,0,122]
[21,16941,22,16948,24,16957,null,null,null,null,0,222]
[12,17054,24,17062,24,17093,null,null,null,null,0,122]
[21,17190,22,17193,24,17200,null,null,null,null,0,222]
[21,17302,22,17314,24,17341,null,null,null,null,0,222]
[21,17501,22,17505,24,17521,null,null,null,null,0,222]
[21,17620,22,17628,24,17633,null,null,null,null,0,222]
[12,17727,24,17739,24,17742,null,null,null,null,0,122]
[21,17844,22,17856,24,17863,null,null,null,null,0,222]
[21,17966,22,17968,24,17975,null,null,null,null,0,222]
[21,18078,22,18080,24,18084,null,null,null,null,0,222]
[21,18180,22,18185,24,18191,null,null,null,null,0,222]
[12,18286,24,18290,24,18296,null,null,null,null,0,122]
[21,18396,22,18399,24,18404,null,null,null,null,0,222]
[21,18618,22,18623,24,18633,null,null,null,null,0,222]
[21,18807,22,18812,24,18829,null,null,null,null,0,222]
[21,18949,22,18953,24,18964,null,null,null,null,0,222]
[21,19061,22,19067,24,19071,null,null,null,null,0,222]
[21,19168,22,19176,24,19186,null,null,null,null,0,222]
[21,19487,22,19492,24,19509,null,null,null,null,0,222]
[21,19614,22,19617,24,19623,null,null,null,null,0,222]
[21,19727,22,19733,24,19741,null,null,null,null,0,222]
[21,19862,22,19871,24,19884,null,null,null,null,0,222]
[21,19992,22,19995,24,20004,null,null,null,null,0,222]
[21,20109,11,20116,22,20118,null,null,null,null,0,212]
[21,20220,22,20231,24,20237,null,null,null,null,0,222]
[21,20331,22,20337,24,20343,null,null,null,null,0,222]
[21,20445,22,20451,24,20459,null,null,null,null,0,222]
[21,20679,22,20684,24,20688,null,null,null,null,0,222]
[21,20848,22,20866,24,20879,null,null,null,null,0,222]
[21,21040,22,21043,24,21051,null,null,null,null,0,222]
[21,21156,22,21168,24,21174,null,null,null,null,0,222]
[21,21273,22,21279,24,21284,null,null,null,null,0,222]
[21,21386,22,21390,24,21396,null,null,null,null,0,222]
[12,21498,24,21501,13,21507,null,null,null,null,0,121]
[21,21613,22,21618,24,21634,null,null,null,null,0,222]
[21,21811,22,21814,24,21823,null,null,null,null,0,222]
[21,21923,22,21933,24,21940,null,null,null,null,0,222]
[21,22042,22,22047,24,22054,null,null,null,null,0,222]
[21,22179,22,22184,24,22188,null,null,null,null,0,222]
[21,22286,22,22292,24,22298,null,null,null,null,0,222]
[21,22397,22,22404,24,22409,null,null,null,null,0,222]
[12,22503,24,22507,24,22512,null,null,null,null,0,122]
[21,22609,22,22617,24,22625,null,null,null,null,0,222]
[21,22726,22,22731,24,22733,null,null,null,null,0,222]
[21,22836,22,22851,24,22858,null,null,null,null,0,222]
[21,23016,22,23020,24,23046,null,null,null,null,0,222]
[21,23296,22,23305,24,23313,null,null,null,null,0,222]
[12,23408,24,23418,24,23424,null,null,null,null,0,122]
[21,23549,22,23554,24,23557,null,null,null,null,0,222]
[12,23650,13,23652,24,23661,null,null,null,null,0,112]
[12,23755,24,23759,24,23762,null,null,null,null,0,122]
[21,23859,22,23866,24,23878,null,null,null,null,0,222]
[21,23980,22,23984,24,23990,null,null,null,null,null,222]

{"sheet":"!M217B10.Gus","index":33,"n_rows":180,"n_cols":48,"rows_kept":180,"cut":false,"hidden":false,"merged":[[4,39,4,42],[5,39,5,40],[4,44,4,47],[5,44,5,45],[4,24,4,27],[5,24,5,25],[4,29,4,32],[5,29,5,30],[4,34,4,37],[5,34,5,35],[1,1,1,2],[5,13,5,14],[18,13,18,14],[19,13,19,14],[4,19,4,22],[5,19,5,20]]}
["Report for:!M217B10.Gus"]
["Date:","<date>"]
["Hen:","<hen>",null,null,null,"Correct Sequence",{"$f":"Start!J2","v":211},null,null,null,null,null,null,null,null,"Total Sequences in Data",{"$f":"4994-COUNTBLANK(L7:L5000)","v":174},null,null,null,null,"Total Sequences in Block Data",{"$f":"COUNTA(L7:L35)","v":29},null,null,null,"Total Sequences in Block Data",{"$f":"COUNTA(L36:L64)","v":29},null,null,null,"Total Sequences in Block Data",{"$f":"COUNTA(L65:L93)","v":29},null,null,null,"Total Sequences in Block Data",{"$f":"COUNTA(L94:L122)","v":29},null,null,null,"Total Sequences in Block Data",{"$f":"COUNTA(L123:L151)","v":29},null,null,null,"Total Sequences in Block Data",{"$f":"COUNTA(L152:L180)","v":29}]
[null,null,null,null,null,null,null,null,null,null,null,null,null,null,null,"Total Sequences in Summary",{"$f":"SUM(O7:O14)","v":174},null,null,null,null,"Total Sequences in Block Summary",{"$f":"SUM(U7:U14)","v":29},null,null,null,"Total Sequences in Block Summary",{"$f":"SUM(Z7:Z14)","v":29},null,null,null,"Total Sequences in Block Summary",{"$f":"SUM(AE7:AE14)","v":29},null,null,null,"Total Sequences in Block Summary",{"$f":"SUM(AJ7:AJ14)","v":29},null,null,null,"Total Sequences in Block Summary",{"$f":"SUM(AO7:AO14)","v":29},null,null,null,"Total Sequences in Block Summary",{"$f":"SUM(AT7:AT14)","v":29}]
[null,null,null,null,null,null,null,null,null,null,null,null,null,null,null,null,null,null,null,"Block 1",null,null,null,null,"Block 2",null,null,null,null,"Block 3",null,null,null,null,"Block 4",null,null,null,null,"Block 5",null,null,null,null,"Block 6"]
["Sequence\nComponent\n1","Time\n1","Sequence\nComponent\n2","Time\n2","Sequence\nComponent\n3","Time\n3","Sequence\nComponent\n4","Time\n4","Sequence\nComponent\n5","Time\n5","Correct?\n0=No 1=Yes","Sequence",null,"Frequency",null,"Relative Frequency","Variability",null,null,"Frequency",null,"Relative Frequency","Variability",null,"Frequency",null,"Relative Frequency","Variability",null,"Frequency",null,"Relative Frequency","Variability",null,"Frequency",null,"Relative Frequency","Variability",null,"Frequency",null,"Relative Frequency","Variability",null,"Frequency",null,"Relative Frequency","Variability"]
[21,94,22,101,24,107,null,null,null,null,0,222,null,111,{"$f":"COUNTIF($L$7:$L$500,N7)","v":0},{"$f":"O7/$Q$4","v":0},{"$f":"IF(P7=0,0,(P7*((LOG(P7))/LOG(2))))","v":0},null,null,{"$f":"N7","v":111},{"$f":"COUNTIF(L7:L35,T7)","v":0},{"$f":"U7/(W4-U11)","v":0},{"$f":"IF(V7=0,0,(V7*((LOG(V7))/LOG(2))))","v":0},null,{"$f":"N7","v":111},{"$f":"COUNTIF(L36:L64,Y7)","v":0},{"$f":"Z7/(AB4-Z11)","v":0},{"$f":"IF(AA7=0,0,(AA7*((LOG(AA7))/LOG(2))))","v":0},null,{"$f":"N7","v":111},{"$f":"COUNTIF(L65:L93,AD7)","v":0},{"$f":"AE7/(AG4-AE11)","v":0},{"$f":"IF(AF7=0,0,(AF7*((LOG(AF7))/LOG(2))))","v":0},null,{"$f":"N7","v":111},{"$f":"COUNTIF(L94:L122,AI7)","v":0},{"$f":"AJ7/(AL4-AJ11)","v":0},{"$f":"IF(AK7=0,0,(AK7*((LOG(AK7))/LOG(2))))","v":0},null,{"$f":"N7","v":111},{"$f":"COUNTIF(L123:L151,AN7)","v":0},{"$f":"AO7/(AQ4-AO11)","v":0},{"$f":"IF(AP7=0,0,(AP7*((LOG(AP7))/LOG(2))))","v":0},null,{"$f":"N7","v":111},{"$f":"COUNTIF(L152:L180,AS7)","v":0},{"$f":"AT7/(AV4-AT11)","v":0},{"$f":"IF(AU7=0,0,(AU7*((LOG(AU7))/LOG(2))))","v":0}]
[21,346,22,351,24,364,null,null,null,null,0,222,null,112,{"$f":"COUNTIF($L$7:$L$500,N8)","v":3},{"$f":"O8/$Q$4","v":1.7241379310344827E-2},{"$f":"IF(P8=0,0,(P8*((LOG(P8))/LOG(2))))","v":-0.10099967232978573},null,null,{"$f":"N8","v":112},{"$f":"COUNTIF(L7:L35,T8)","v":1},{"$f":"U8/(W4-U11)","v":3.4482758620689655E-2},{"$f":"IF(V8=0,0,(V8*((LOG(V8))/LOG(2))))","v":-0.16751658603888178},null,{"$f":"N8","v":112},{"$f":"COUNTIF(L36:L64,Y8)","v":0},{"$f":"Z8/(AB4-Z11)","v":0},{"$f":"IF(AA8=0,0,(AA8*((LOG(AA8))/LOG(2))))","v":0},null,{"$f":"N8","v":112},{"$f":"COUNTIF(L65:L93,AD8)","v":0},{"$f":"AE8/(AG4-AE11)","v":0},{"$f":"IF(AF8=0,0,(AF8*((LOG(AF8))/LOG(2))))","v":0},null,{"$f":"N8","v":112},{"$f":"COUNTIF(L94:L122,AI8)","v":1},{"$f":"AJ8/(AL4-AJ11)","v":3.4482758620689655E-2},{"$f":"IF(AK8=0,0,(AK8*((LOG(AK8))/LOG(2))))","v":-0.16751658603888178},null,{"$f":"N8","v":112},{"$f":"COUNTIF(L123:L151,AN8)","v":0},{"$f":"AO8/(AQ4-AO11)","v":0},{"$f":"IF(AP8=0,0,(AP8*((LOG(AP8))/LOG(2))))","v":0},null,{"$f":"N8","v":112},{"$f":"COUNTIF(L152:L180,AS8)","v":1},{"$f":"AT8/(AV4-AT11)","v":3.4482758620689655E-2},{"$f":"IF(AU8=0,0,(AU8*((LOG(AU8))/LOG(2))))","v":-0.16751658603888178}]
[12,494,24,500,24,511,null,null,null,null,0,122,null,121,{"$f":"COUNTIF($L$7:$L$500,N9)","v":1},{"$f":"O9/$Q$4","v":5.7471264367816091E-3},{"$f":"IF(P9=0,0,(P9*((LOG(P9))/LOG(2))))","v":-4.2775537332463962E-2},null,null,{"$f":"N9","v":121},{"$f":"COUNTIF(L7:L35,T9)","v":0},{"$f":"U9/(W4-U11)","v":0},{"$f":"IF(V9=0,0,(V9*((LOG(V9))/LOG(2))))","v":0},null,{"$f":"N9","v":121},{"$f":"COUNTIF(L36:L64,Y9)","v":0},{"$f":"Z9/(AB4-Z11)","v":0},{"$f":"IF(AA9=0,0,(AA9*((LOG(AA9))/LOG(2))))","v":0},null,{"$f":"N9","v":121},{"$f":"COUNTIF(L65:L93,AD9)","v":0},{"$f":"AE9/(AG4-AE11)","v":0},{"$f":"IF(AF9=0,0,(AF9*((LOG(AF9))/LOG(2))))","v":0},null,{"$f":"N9","v":121},{"$f":"COUNTIF(L94:L122,AI9)","v":0},{"$f":"AJ9/(AL4-AJ11)","v":0},{"$f":"IF(AK9=0,0,(AK9*((LOG(AK9))/LOG(2))))","v":0},null,{"$f":"N9","v":121},{"$f":"COUNTIF(L123:L151,AN9)","v":1},{"$f":"AO9/(AQ4-AO11)","v":3.4482758620689655E-2},{"$f":"IF(AP9=0,0,(AP9*((LOG(AP9))/LOG(2))))","v":-0.16751658603888178},null,{"$f":"N9","v":121},{"$f":"COUNTIF(L152:L180,AS9)","v":0},{"$f":"AT9/(AV4-AT11)","v":0},{"$f":"IF(AU9=0,0,(AU9*((LOG(AU9))/LOG(2))))","v":0}]
[21,623,22,633,24,645,null,null,null,null,0,222,null,122,{"$f":"COUNTIF($L$7:$L$500,N10)","v":47},{"$f":"O10/$Q$4","v":0.27011494252873564},{"$f":"IF(P10=0,0,(P10*((LOG(P10))/LOG(2))))","v":-0.5100728061841453},null,null,{"$f":"N10","v":122},{"$f":"COUNTIF(L7:L35,T10)","v":6},{"$f":"U10/(W4-U11)","v":0.20689655172413793},{"$f":"IF(V10=0,0,(V10*((LOG(V10))/LOG(2))))","v":-0.4702796884978791},null,{"$f":"N10","v":122},{"$f":"COUNTIF(L36:L64,Y10)","v":4},{"$f":"Z10/(AB4-Z11)","v":0.13793103448275862},{"$f":"IF(AA10=0,0,(AA10*((LOG(AA10))/LOG(2))))","v":-0.39420427519000989},null,{"$f":"N10","v":122},{"$f":"COUNTIF(L65:L93,AD10)","v":9},{"$f":"AE10/(AG4-AE11)","v":0.31034482758620691},{"$f":"IF(AF10=0,0,(AF10*((LOG(AF10))/LOG(2))))","v":-0.52387944631611505},null,{"$f":"N10","v":122},{"$f":"COUNTIF(L94:L122,AI10)","v":9},{"$f":"AJ10/(AL4-AJ11)","v":0.31034482758620691},{"$f":"IF(AK10=0,0,(AK10*((LOG(AK10))/LOG(2))))","v":-0.52387944631611505},null,{"$f":"N10","v":122},{"$f":"COUNTIF(L123:L151,AN10)","v":9},{"$f":"AO10/(AQ4-AO11)","v":0.31034482758620691},{"$f":"IF(AP10=0,0,(AP10*((LOG(AP10))/LOG(2))))","v":-0.52387944631611505},null,{"$f":"N10","v":122},{"$f":"COUNTIF(L152:L180,AS10)","v":10},{"$f":"AT10/(AV4-AT11)","v":0.34482758620689657},{"$f":"IF(AU10=0,0,(AU10*((LOG(AU10))/LOG(2))))","v":-0.52967341387593436}]
[21,827,22,833,24,839,null,null,null,null,0,222,null,211,{"$f":"COUNTIF($L$7:$L$500,N11)","v":0},{"$f":"O11/$Q$4","v":0},{"$f":"IF(P11=0,0,(P11*((LOG(P11))/LOG(2))))","v":0},null,null,{"$f":"N11","v":211},{"$f":"COUNTIF(L7:L35,T11)","v":0},null,null,null,{"$f":"N11","v":211},{"$f":"COUNTIF(L36:L64,Y11)","v":0},null,null,null,{"$f":"N11","v":211},{"$f":"COUNTIF(L65:L93,AD11)","v":0},null,null,null,{"$f":"N11","v":211},{"$f":"COUNTIF(L94:L122,AI11)","v":0},null,null,null,{"$f":"N11","v":211},{"$f":"COUNTIF(L123:L151,AN11)","v":0},null,null,null,{"$f":"N11","v":211},{"$f":"COUNTIF(L152:L180,AS11)","v":0}]
[21,946,22,951,24,956,null,null,null,null,0,222,null,212,{"$f":"COUNTIF($L$7:$L$500,N12)","v":0},{"$f":"O12/$Q$4","v":0},{"$f":"IF(P12=0,0,(P12*((LOG(P12))/LOG(2))))","v":0},null,null,{"$f":"N12","v":212},{"$f":"COUNTIF(L7:L35,T12)","v":0},{"$f":"U12/(W4-U11)","v":0},{"$f":"IF(V12=0,0,(V12*((LOG(V12))/LOG(2))))","v":0},null,{"$f":"N12","v":212},{"$f":"COUNTIF(L36:L64,Y12)","v":0},{"$f":"Z12/(AB4-Z11)","v":0},{"$f":"IF(AA12=0,0,(AA12*((LOG(AA12))/LOG(2))))","v":0},null,{"$f":"N12","v":212},{"$f":"COUNTIF(L65:L93,AD12)","v":0},{"$f":"AE12/(AG4-AE11)","v":0},{"$f":"IF(AF12=0,0,(AF12*((LOG(AF12))/LOG(2))))","v":0},null,{"$f":"N12","v":212},{"$f":"COUNTIF(L94:L122,AI12)","v":0},{"$f":"AJ12/(AL4-AJ11)","v":0},{"$f":"IF(AK12=0,0,(AK12*((LOG(AK12))/LOG(2))))","v":0},null,{"$f":"N12","v":212},{"$f":"COUNTIF(L123:L151,AN12)","v":0},{"$f":"AO12/(AQ4-AO11)","v":0},{"$f":"IF(AP12=0,0,(AP12*((LOG(AP12))/LOG(2))))","v":0},null,{"$f":"N12","v":212},{"$f":"COUNTIF(L152:L180,AS12)","v":0},{"$f":"AT12/(AV4-AT11)","v":0},{"$f":"IF(AU12=0,0,(AU12*((LOG(AU12))/LOG(2))))","v":0}]
[21,1055,22,1059,24,1064,null,null,null,null,0,222,null,221,{"$f":"COUNTIF($L$7:$L$500,N13)","v":0},{"$f":"O13/$Q$4","v":0},{"$f":"IF(P13=0,0,(P13*((LOG(P13))/LOG(2))))","v":0},null,null,{"$f":"N13","v":221},{"$f":"COUNTIF(L7:L35,T13)","v":0},{"$f":"U13/(W4-U11)","v":0},{"$f":"IF(V13=0,0,(V13*((LOG(V13))/LOG(2))))","v":0},null,{"$f":"N13","v":221},{"$f":"COUNTIF(L36:L64,Y13)","v":0},{"$f":"Z13/(AB4-Z11)","v":0},{"$f":"IF(AA13=0,0,(AA13*((LOG(AA13))/LOG(2))))","v":0},null,{"$f":"N13","v":221},{"$f":"COUNTIF(L65:L93,AD13)","v":0},{"$f":"AE13/(AG4-AE11)","v":0},{"$f":"IF(AF13=0,0,(AF13*((LOG(AF13))/LOG(2))))","v":0},null,{"$f":"N13","v":221},{"$f":"COUNTIF(L94:L122,AI13)","v":0},{"$f":"AJ13/(AL4-AJ11)","v":0},{"$f":"IF(AK13=0,0,(AK13*((LOG(AK13))/LOG(2))))","v":0},null,{"$f":"N13","v":221},{"$f":"COUNTIF(L123:L151,AN13)","v":0},{"$f":"AO13/(AQ4-AO11)","v":0},{"$f":"IF(AP13=0,0,(AP13*((LOG(AP13))/LOG(2))))","v":0},null,{"$f":"N13","v":221},{"$f":"COUNTIF(L152:L180,AS13)","v":0},{"$f":"AT13/(AV4-AT11)","v":0},{"$f":"IF(AU13=0,0,(AU13*((LOG(AU13))/LOG(2))))","v":0}]
[21,1167,22,1180,24,1185,null,null,null,null,0,222,null,222,{"$f":"COUNTIF($L$7:$L$500,N14)","v":123},{"$f":"O14/$Q$4","v":0.7068965517241379},{"$f":"IF(P14=0,0,(P14*((LOG(P14))/LOG(2))))","v":-0.35375152777394869},null,null,{"$f":"N14","v":222},{"$f":"COUNTIF(L7:L35,T14)","v":22},{"$f":"U14/(W4-U11)","v":0.75862068965517238},{"$f":"IF(V14=0,0,(V14*((LOG(V14))/LOG(2))))","v":-0.30234780285469132},null,{"$f":"N14","v":222},{"$f":"COUNTIF(L36:L64,Y14)","v":25},{"$f":"Z14/(AB4-Z11)","v":0.86206896551724133},{"$f":"IF(AA14=0,0,(AA14*((LOG(AA14))/LOG(2))))","v":-0.18459034944210989},null,{"$f":"N14","v":222},{"$f":"COUNTIF(L65:L93,AD14)","v":20},{"$f":"AE14/(AG4-AE11)","v":0.68965517241379315},{"$f":"IF(AF14=0,0,(AF14*((LOG(AF14))/LOG(2))))","v":-0.36969165533807569},null,{"$f":"N14","v":222},{"$f":"COUNTIF(L94:L122,AI14)","v":19},{"$f":"AJ14/(AL4-AJ11)","v":0.65517241379310343},{"$f":"IF(AK14=0,0,(AK14*((LOG(AK14))/LOG(2))))","v":-0.39969021213778433},null,{"$f":"N14","v":222},{"$f":"COUNTIF(L123:L151,AN14)","v":19},{"$f":"AO14/(AQ4-AO11)","v":0.65517241379310343},{"$f":"IF(AP14=0,0,(AP14*((LOG(AP14))/LOG(2))))","v":-0.39969021213778433},null,{"$f":"N14","v":222},{"$f":"COUNTIF(L152:L180,AS14)","v":18},{"$f":"AT14/(AV4-AT11)","v":0.62068965517241381},{"$f":"IF(AU14=0,0,(AU14*((LOG(AU14))/LOG(2))))","v":-0.4270692374598164}]
[12,1278,13,1282,24,1295,null,null,null,null,0,112,null,null,null,{"$f":"SUM(P7:P14)","v":1},{"$f":"-SUM(Q7:Q14)","v":1.0075995436203438},null,null,null,null,{"$f":"SUM(V7:V14)","v":1},{"$f":"-SUM(W7:W14)","v":0.94014407739145223},null,null,null,{"$f":"SUM(AA7:AA14)","v":1},{"$f":"-SUM(AB7:AB14)","v":0.57879462463211984},null,null,null,{"$f":"SUM(AF7:AF14)","v":1},{"$f":"-SUM(AG7:AG14)","v":0.89357110165419074},null,null,null,{"$f":"SUM(AK7:AK14)","v":1},{"$f":"-SUM(AL7:AL14)","v":1.0910862444927811},null,null,null,{"$f":"SUM(AP7:AP14)","v":1},{"$f":"-SUM(AQ7:AQ14)","v":1.0910862444927811},null,null,null,{"$f":"SUM(AU7:AU14)","v":1},{"$f":"-SUM(AV7:AV14)","v":1.1242592373746325}]
[21,1499,22,1513,24,1529,null,null,null,null,0,222,null,null,null,"U=",{"$f":"Q15/(LOG(Q4)/LOG(2))","v":0.13537648702859673},null,null,null,null,"U1=",{"$f":"W15/(LOG(W4)/LOG(2))","v":0.19352568038746801},null,null,null,"U2=",{"$f":"AB15/(LOG(AB4)/LOG(2))","v":0.11914304012564803},null,null,null,"U3=",{"$f":"AG15/(LOG(AG4)/LOG(2))","v":0.18393878085369605},null,null,null,"U4=",{"$f":"AL15/(LOG(AL4)/LOG(2))","v":0.22459664736999016},null,null,null,"U5=",{"$f":"AQ15/(LOG(AQ4)/LOG(2))","v":0.22459664736999016},null,null,null,"U6=",{"$f":"AV15/(LOG(AV4)/LOG(2))","v":0.23142520287795179}]
[21,1670,22,1676,24,1682,null,null,null,null,0,222]
[21,1785,22,1795,24,1801,null,null,null,null,0,222]
[21,1905,22,1910,24,1916,null,null,null,null,0,222,null,"Total Target Seq"]
[12,2012,24,2018,24,2022,null,null,null,null,0,122,null,{"$f":"COUNTIF(L7:L180,G3)","v":0},null,29,29,29,29,29,29]
[21,2122,22,2130,24,2136,null,null,null,null,0,222,null,null,null,"% of reinforcement given in 6 equal intervals based on number of trials "]
[21,2240,22,2248,24,2254,null,null,null,null,0,222,null,null,null,"%_1","%_2","%_3","%_4","%_5","%_6"]
[21,2354,22,2359,24,2365,null,null,null,null,0,222,null,null,"target sequence",{"$f":"$G$3","v":211},{"$f":"$G$3","v":211},{"$f":"$G$3","v":211},{"$f":"$G$3","v":211},{"$f":"$G$3","v":211},{"$f":"$G$3","v":211}]
[21,2467,22,2474,24,2479,null,null,null,null,0,222,null,null,"total reinforcement",{"$f":"U11","v":0},{"$f":"Z11","v":0},{"$f":"AE11","v":0},{"$f":"AJ11","v":0},{"$f":"AO11","v":0},{"$f":"AT11","v":0}]
[21,2677,22,2682,24,2689,null,null,null,null,0,222,null,null,"% target"]
[12,2793,24,2802,24,2809,null,null,null,null,0,122,null,null,"CCRF"]
[21,2911,22,2918,24,2923,null,null,null,null,0,222,null,null,"% CCRf"]
[21,3030,22,3035,24,3041,null,null,null,null,0,222,null,null,"average response rate",{"$f":"F35/P20","v":131.89655172413794},{"$f":"(F64-F35)/Q20","v":144.27586206896552},{"$f":"(F93-F64)/R20","v":146.75862068965517},{"$f":"(F122-F93)/S20","v":128.24137931034483},{"$f":"(F151-F122)/T20","v":134.48275862068965},{"$f":"(F180-F151)/U20","v":140.10344827586206}]
[21,3137,22,3147,24,3154,null,null,null,null,0,222]
[21,3254,22,3257,24,3262,null,null,null,null,0,222]
[21,3368,22,3382,24,3389,null,null,null,null,0,222]
[12,3482,24,3493,24,3499,null,null,null,null,0,122]
[12,3593,24,3606,24,3610,null,null,null,null,0,122]
[12,3703,24,3709,24,3715,null,null,null,null,0,122]
[21,3815,22,3819,24,3825,null,null,null,null,0,222]
[21,3928,22,3934,24,3940,null,null,null,null,0,222]
[21,4113,22,4118,24,4135,null,null,null,null,0,222]
[21,4294,22,4299,24,4305,null,null,null,null,0,222]
[21,4404,22,4421,24,4428,null,null,null,null,0,222]
[21,4527,22,4531,24,4539,null,null,null,null,0,222]
[21,4641,22,4647,24,4651,null,null,null,null,0,222]
[21,4751,22,4756,24,4760,null,null,null,null,0,222]
[12,4855,24,4861,24,4867,null,null,null,null,0,122]
[21,4965,22,4969,24,4973,null,null,null,null,0,222]
[21,5076,22,5080,24,5082,null,null,null,null,0,222]
[12,5177,24,5180,24,5185,null,null,null,null,0,122]
[12,5277,24,5284,24,5288,null,null,null,null,0,122]
[21,5388,22,5394,24,5400,null,null,null,null,0,222]
[21,5557,22,5561,24,5579,null,null,null,null,0,222]
[21,5679,22,5694,24,5700,null,null,null,null,0,222]
[21,5800,22,5804,24,5812,null,null,null,null,0,222]
[21,5910,22,5919,24,5924,null,null,null,null,0,222]
[21,6036,22,6039,24,6046,null,null,null,null,0,222]
[21,6144,22,6148,24,6152,null,null,null,null,0,222]
[21,6324,22,6327,24,6331,null,null,null,null,0,222]
[12,6430,24,6435,24,6440,null,null,null,null,0,122]
[21,6540,22,6545,24,6549,null,null,null,null,0,222]
[21,6830,22,6835,24,6844,null,null,null,null,0,222]
[21,7008,22,7015,24,7022,null,null,null,null,0,222]
[21,7126,22,7132,24,7146,null,null,null,null,0,222]
[21,7249,22,7253,24,7259,null,null,null,null,0,222]
[21,7445,22,7448,24,7454,null,null,null,null,0,222]
[21,7751,22,7756,24,7768,null,null,null,null,0,222]
[21,7988,22,8004,24,8009,null,null,null,null,0,222]
[12,8102,24,8116,24,8121,null,null,null,null,0,122]
[21,8501,22,8510,24,8517,null,null,null,null,0,222]
[12,8613,24,8625,24,8632,null,null,null,null,0,122]
[21,8745,22,8750,24,8756,null,null,null,null,0,222]
[12,8853,24,8862,24,8867,null,null,null,null,0,122]
[21,8976,22,8984,24,8996,null,null,null,null,0,222]
[21,9183,22,9187,24,9197,null,null,null,null,0,222]
[21,9426,22,9432,24,9438,null,null,null,null,0,222]
[21,9541,22,9547,24,9558,null,null,null,null,0,222]
[21,9737,22,9744,24,9750,null,null,null,null,0,222]
[12,9842,24,9852,24,9858,null,null,null,null,0,122]
[21,9954,22,9959,24,9971,null,null,null,null,0,222]
[21,10073,22,10075,24,10088,null,null,null,null,0,222]
[12,10182,24,10186,24,10189,null,null,null,null,0,122]
[12,10282,24,10295,24,10299,null,null,null,null,0,122]
[21,10439,22,10445,24,10455,null,null,null,null,0,222]
[12,10550,24,10562,24,10565,null,null,null,null,0,122]
[12,10658,24,10669,24,10675,null,null,null,null,0,122]
[21,10783,22,10789,24,10799,null,null,null,null,0,222]
[21,10901,22,10907,24,10919,null,null,null,null,0,222]
[21,11019,22,11023,24,11028,null,null,null,null,0,222]
[21,11422,22,11427,24,11434,null,null,null,null,0,222]
[21,11533,22,11538,24,11561,null,null,null,null,0,222]
[21,11661,22,11666,24,11671,null,null,null,null,0,222]
[12,11763,24,11776,24,11781,null,null,null,null,0,122]
[21,11877,22,11883,24,11888,null,null,null,null,0,222]
[21,11997,22,12001,24,12006,null,null,null,null,0,222]
[21,12136,22,12146,24,12151,null,null,null,null,0,222]
[21,12257,22,12261,24,12265,null,null,null,null,0,222]
[21,12363,22,12369,24,12374,null,null,null,null,0,222]
[21,12474,22,12480,24,12485,null,null,null,null,0,222]
[21,12593,22,12597,24,12607,null,null,null,null,0,222]
[12,12702,24,12706,24,12710,null,null,null,null,0,122]
[12,12805,24,12808,24,12814,null,null,null,null,0,122]
[21,12916,22,12921,24,12926,null,null,null,null,0,222]
[12,13023,13,13028,24,13039,null,null,null,null,0,112]
[21,13253,22,13265,24,13275,null,null,null,null,0,222]
[12,13367,24,13374,24,13380,null,null,null,null,0,122]
[12,13472,24,13483,24,13492,null,null,null,null,0,122]
[12,13588,24,13591,24,13595,null,null,null,null,0,122]
[21,13694,22,13698,24,13703,null,null,null,null,0,222]
[21,13802,22,13807,24,13822,null,null,null,null,0,222]
[21,13924,22,13928,24,13933,null,null,null,null,0,222]
[21,14036,22,14045,24,14052,null,null,null,null,0,222]
[21,14263,22,14269,24,14278,null,null,null,null,0,222]
[21,14391,22,14402,24,14410,null,null,null,null,0,222]
[21,14517,22,14523,24,14528,null,null,null,null,0,222]
[21,14630,22,14639,24,14644,null,null,null,null,0,222]
[12,14866,24,14876,24,14883,null,null,null,null,0,122]
[12,14978,24,14982,24,14987,null,null,null,null,0,122]
[21,15086,22,15091,24,15096,null,null,null,null,0,222]
[21,15202,22,15206,24,15212,null,null,null,null,0,222]
[21,15313,22,15317,24,15322,null,null,null,null,0,222]
[21,15425,22,15429,24,15435,null,null,null,null,0,222]
[21,15642,22,15645,24,15650,null,null,null,null,0,222]
[21,15749,22,15754,24,15760,null,null,null,null,0,222]
[12,15853,24,15863,24,15867,null,null,null,null,0,122]
[12,15961,24,15976,24,15984,null,null,null,null,0,122]
[21,16086,22,16090,24,16095,null,null,null,null,0,222]
[21,16193,22,16199,24,16209,null,null,null,null,0,222]
[12,16303,24,16306,24,16312,null,null,null,null,0,122]
[21,16456,22,16475,24,16483,null,null,null,null,0,222]
[12,16576,24,16587,24,16591,null,null,null,null,0,122]
[21,16696,22,16702,24,16718,null,null,null,null,0,222]
[12,16816,24,16819,24,16824,null,null,null,null,0,122]
[21,16923,22,16932,24,16936,null,null,null,null,0,222]
[12,17031,24,17032,24,17040,null,null,null,null,0,122]
[21,17281,22,17285,24,17290,null,null,null,null,0,222]
[21,17428,22,17433,24,17439,null,null,null,null,0,222]
[21,17539,22,17541,24,17550,null,null,null,null,0,222]
[21,17651,22,17657,24,17663,null,null,null,null,0,222]
[12,17757,24,17760,24,17768,null,null,null,null,0,122]
[12,17925,24,17939,24,17943,null,null,null,null,0,122]
[21,18043,22,18049,24,18058,null,null,null,null,0,222]
[12,18154,24,18157,24,18162,null,null,null,null,0,122]
[21,18268,22,18273,24,18278,null,null,null,null,0,222]
[21,18377,22,18382,24,18386,null,null,null,null,0,222]
[21,18478,22,18485,24,18489,null,null,null,null,0,222]
[21,18585,22,18588,24,18593,null,null,null,null,0,222]
[21,18695,22,18700,24,18707,null,null,null,null,0,222]
[12,19187,24,19199,24,19206,null,null,null,null,0,122]
[21,19302,22,19307,24,19313,null,null,null,null,0,222]
[21,19426,22,19428,24,19438,null,null,null,null,0,222]
[12,19533,24,19537,13,19541,null,null,null,null,0,121]
[21,19641,22,19655,24,19668,null,null,null,null,0,222]
[21,19765,22,19770,24,19776,null,null,null,null,0,222]
[12,19870,24,19877,24,19884,null,null,null,null,0,122]
[21,19980,22,19985,24,19991,null,null,null,null,0,222]
[12,20086,24,20089,24,20096,null,null,null,null,0,122]
[21,20360,22,20367,24,20403,null,null,null,null,0,222]
[12,20512,24,20523,24,20526,null,null,null,null,0,122]
[12,20677,24,20681,24,20686,null,null,null,null,0,122]
[21,20789,22,20793,24,20799,null,null,null,null,0,222]
[12,20894,24,20897,24,20901,null,null,null,null,0,122]
[21,21015,22,21021,24,21042,null,null,null,null,0,222]
[21,21147,22,21151,24,21155,null,null,null,null,0,222]
[21,21284,22,21288,24,21294,null,null,null,null,0,222]
[12,21403,24,21417,24,21437,null,null,null,null,0,122]
[12,21530,13,21534,24,21547,null,null,null,null,0,112]
[21,21647,22,21652,24,21655,null,null,null,null,0,222]
[12,21747,24,21759,24,21766,null,null,null,null,0,122]
[21,21868,22,21882,24,21892,null,null,null,null,0,222]
[12,21984,24,21994,24,22001,null,null,null,null,0,122]
[21,22101,22,22105,24,22111,null,null,null,null,0,222]
[21,22210,22,22216,24,22226,null,null,null,null,0,222]
[12,22322,24,22326,24,22332,null,null,null,null,0,122]
[21,22427,22,22432,24,22438,null,null,null,null,0,222]
[21,22543,22,22558,24,22563,null,null,null,null,0,222]
[21,22658,22,22662,24,22665,null,null,null,null,0,222]
[12,22812,24,22821,24,22824,null,null,null,null,0,122]
[21,23045,22,23049,24,23055,null,null,null,null,0,222]
[21,23157,22,23159,24,23165,null,null,null,null,0,222]
[12,23261,24,23266,24,23276,null,null,null,null,0,122]
[21,23700,22,23703,24,23708,null,null,null,null,0,222]
[21,23813,22,23824,24,23835,null,null,null,null,0,222]
[21,23936,22,23941,24,23947,null,null,null,null,1,222]