{"text_format":"1","workbook":"xlsx","n_sheets":30,"sheets":["Sample Report","Summary","Start","!M621A5D.ust","!M623A0D.ust","!M624B3D.ust","!M625A5D.ust","!M626A2D.ust","!M627A3D.ust","!M629A2D.ust","!M630C3D.ust","!M701B3D.ust","!M702A2D.ust","!M703B0D.ust","!M704A5D.ust","!M705A5D.ust","!M706B2D.ust","!M707A3D.ust","!M708A0D.ust","!M709A2D.ust","!M710A4D.ust","!M711A1D.ust","!M712A4D.ust","!M713B1D.ust","!M71592D.ust","!M716A1D.ust","!M718A5D.ust","!M719A5D.ust","!M720A3D.ust","!M721B5D.ust"],"not_rendered":{"charts":0,"images":0,"macros":1,"external_links":0,"defined_names":0,"comments":0,"pivot_tables":0},"unopened":[],"bounds":{"document_bytes":16777216,"sheet_cells":100000,"rows_first":2000,"rows_last":500,"rows_between":2000,"halvings":0,"cell_chars":16384,"cell_head_chars":4096},"cells_cut":0,"cells_raw":0,"read":"whole","date_system":"1900"}

{"sheet":"Sample Report","index":0,"n_rows":12,"n_cols":11,"rows_kept":12,"cut":false,"hidden":true,"merged":[[7,0,7,6]]}
[]
["Date"]
["Hen"]
["Program"]
["Start at 999999"]
["Sequence component 1","Time 1","Seqeunce Component 2","Time 2","Seqeunce Component 3","Time 3","Correct   0 = No 1=Yes",null,null,"Seqeunce","Time"]
[12,7,12,42,13,18,"if 77 new line,                                  if 31 or 41 = yes new line on 77, ",null,null,"=string of Seqeunce compponent 1, 2 & 3","=time 3"]
["This continues until ther is a 1 on its own to indicate start of summary data"]
[null,null,null,null,null,null,null,null,null,"10-19 =1"]
["Summary Data ",null,null,null,null,null,null,null,null,"20-29 =2"]
["Correct","Incorrect","Rft","total","Av Correct","Av Incorrect","Percent correct","Time",null,"in this example the seqeunce would be 111"]
[40,33,40,73,23.95,15,54,806]

{"sheet":"Summary","index":1,"n_rows":32,"n_cols":24,"rows_kept":32,"cut":false,"hidden":false,"merged":[]}
[]
["Day","Date","Average Response Rate","Target %","RF for non correct sequence","U Value",null,null,null,null,"Block 1","Block 2","Block 3","Block 4","Block 5","Block 6"]
[1,{"$f":"'!M621A5D.ust'!B2:C2","v":"<date>"},{"$f":"('!M621A5D.ust'!F46/60)/'!M621A5D.ust'!Q3","v":2.8141666666666665},{"$f":"'!M621A5D.ust'!N20/'!M621A5D.ust'!Q3","v":1},{"$f":"SUM('!M621A5D.ust'!L20:Q20)/'!M621A5D.ust'!Q3","v":4.0999999999999996},{"$f":"'!M621A5D.ust'!Q16","v":0},null,null,null,"Average Response Rate",{"$f":"AVERAGE(C3:C7)","v":3.2980915777988953},{"$f":"AVERAGE(C8:C12)","v":3.2907539682539686},{"$f":"AVERAGE(C13:C17)","v":3.0987345141308551},{"$f":"AVERAGE(C18:C22)","v":2.6842829457364346},{"$f":"AVERAGE(C23:C27)","v":2.56725},{"$f":"AVERAGE(C28:C32)","v":2.3325000000000005}]
[2,{"$f":"'!M623A0D.ust'!B2:C2","v":"<date>"},{"$f":"('!M623A0D.ust'!F48/60)/'!M623A0D.ust'!Q3","v":3.3103174603174601},{"$f":"'!M623A0D.ust'!N20/'!M623A0D.ust'!Q3","v":0.95238095238095233},{"$f":"SUM('!M623A0D.ust'!L20:Q20)/'!M623A0D.ust'!Q3","v":3.9285714285714284},{"$f":"'!M623A0D.ust'!Q16","v":6.0051078206022804E-2},null,null,null,"Target %",{"$f":"AVERAGE(D3:D7)","v":0.9625382747333967},{"$f":"AVERAGE(D8:D12)","v":0.97142857142857131},{"$f":"AVERAGE(D13:D17)","v":0.9711962833914054},{"$f":"AVERAGE(D18:D22)","v":0.98604651162790691},{"$f":"AVERAGE(D23:D27)","v":0.98095238095238102},{"$f":"AVERAGE(D28:D32)","v":1}]
[3,{"$f":"'!M624B3D.ust'!B2:C2","v":"<date>"},{"$f":"('!M624B3D.ust'!F47/60)/'!M624B3D.ust'!Q3","v":3.9451219512195124},{"$f":"'!M624B3D.ust'!N20/'!M624B3D.ust'!Q3","v":0.97560975609756095},{"$f":"SUM('!M624B3D.ust'!L20:Q20)/'!M624B3D.ust'!Q3","v":4.024390243902439},{"$f":"'!M624B3D.ust'!Q16","v":3.0877354779509855E-2},null,null,null,"CCRF",{"$f":"AVERAGE(E3:E7)","v":3.9700158378207155},{"$f":"AVERAGE(E8:E12)","v":3.9971428571428569},{"$f":"AVERAGE(E13:E17)","v":4.0011846689895467},{"$f":"AVERAGE(E18:E22)","v":4.0474418604651161},{"$f":"AVERAGE(E23:E27)","v":4.5599999999999996},{"$f":"AVERAGE(E28:E32)","v":4.0999999999999996}]
[4,{"$f":"'!M625A5D.ust'!B2:C2","v":"<date>"},{"$f":"('!M625A5D.ust'!F47/60)/'!M625A5D.ust'!Q3","v":3.0947154471544716},{"$f":"'!M625A5D.ust'!N20/'!M625A5D.ust'!Q3","v":0.97560975609756095},{"$f":"SUM('!M625A5D.ust'!L20:Q20)/'!M625A5D.ust'!Q3","v":4.024390243902439},{"$f":"'!M625A5D.ust'!Q16","v":3.0877354779509855E-2},null,null,null,"U Value",{"$f":"AVERAGE(F3:F7)","v":4.545714935256831E-2},{"$f":"AVERAGE(F8:F12)","v":3.6030646923613685E-2},{"$f":"AVERAGE(F13:F17)","v":3.4605192018828598E-2},{"$f":"AVERAGE(F18:F22)","v":1.5816491094782479E-2},{"$f":"AVERAGE(F23:F27)","v":2.2254250107024656E-2},{"$f":"AVERAGE(F28:F32)","v":0}]
[5,{"$f":"'!M626A2D.ust'!B2:C2","v":"<date>"},{"$f":"('!M626A2D.ust'!F50/60)/'!M626A2D.ust'!Q3","v":3.3261363636363637},{"$f":"'!M626A2D.ust'!N20/'!M626A2D.ust'!Q3","v":0.90909090909090906},{"$f":"SUM('!M626A2D.ust'!L20:Q20)/'!M626A2D.ust'!Q3","v":3.7727272727272729},{"$f":"'!M626A2D.ust'!Q16","v":0.10547995899779904}]
[6,{"$f":"'!M627A3D.ust'!B2:C2","v":"<date>"},{"$f":"('!M627A3D.ust'!F48/60)/'!M627A3D.ust'!Q3","v":3.3214285714285716},{"$f":"'!M627A3D.ust'!N20/'!M627A3D.ust'!Q3","v":0.95238095238095233},{"$f":"SUM('!M627A3D.ust'!L20:Q20)/'!M627A3D.ust'!Q3","v":3.9285714285714284},{"$f":"'!M627A3D.ust'!Q16","v":6.0051078206022804E-2}]
[7,{"$f":"'!M629A2D.ust'!B2:C2","v":"<date>"},{"$f":"('!M629A2D.ust'!F46/60)/'!M629A2D.ust'!Q3","v":3.3745833333333328},{"$f":"'!M629A2D.ust'!N20/'!M629A2D.ust'!Q3","v":1},{"$f":"SUM('!M629A2D.ust'!L20:Q20)/'!M629A2D.ust'!Q3","v":4.0999999999999996},{"$f":"'!M629A2D.ust'!Q16","v":0},{"$f":"K3","v":3.2980915777988953},{"$f":"L3","v":3.2907539682539686},3.0987345141308551,2.6842829457364346,2.56725,2.3325000000000005,{"$f":"K4","v":0.9625382747333967},{"$f":"L4","v":0.97142857142857131},0.9711962833914054,0.98604651162790691,0.98095238095238102,1,{"$f":"K6","v":4.545714935256831E-2},{"$f":"L6","v":3.6030646923613685E-2},3.4605192018828598E-2,1.5816491094782479E-2,2.2254250107024656E-2,0]
[8,{"$f":"'!M630C3D.ust'!B2:C2","v":"<date>"},{"$f":"('!M630C3D.ust'!F48/60)/'!M630C3D.ust'!Q3","v":3.3297619047619045},{"$f":"'!M630C3D.ust'!N20/'!M630C3D.ust'!Q3","v":0.95238095238095233},{"$f":"SUM('!M630C3D.ust'!L20:Q20)/'!M630C3D.ust'!Q3","v":3.9285714285714284},{"$f":"'!M630C3D.ust'!Q16","v":6.0051078206022804E-2}]
[9,{"$f":"'!M701B3D.ust'!B2:C2","v":"<date>"},{"$f":"('!M701B3D.ust'!F46/60)/'!M701B3D.ust'!Q3","v":3.4129166666666668},{"$f":"'!M701B3D.ust'!N20/'!M701B3D.ust'!Q3","v":1},{"$f":"SUM('!M701B3D.ust'!L20:Q20)/'!M701B3D.ust'!Q3","v":4.0999999999999996},{"$f":"'!M701B3D.ust'!Q16","v":0}]
[10,{"$f":"'!M702A2D.ust'!B2:C2","v":"<date>"},{"$f":"('!M702A2D.ust'!F48/60)/'!M702A2D.ust'!Q3","v":3.015079365079365},{"$f":"'!M702A2D.ust'!N20/'!M702A2D.ust'!Q3","v":0.95238095238095233},{"$f":"SUM('!M702A2D.ust'!L20:Q20)/'!M702A2D.ust'!Q3","v":3.9285714285714284},{"$f":"'!M702A2D.ust'!Q16","v":6.0051078206022804E-2}]
[11,{"$f":"'!M703B0D.ust'!B2:C2","v":"<date>"},{"$f":"('!M703B0D.ust'!F47/60)/'!M703B0D.ust'!Q3","v":3.4784552845528456},{"$f":"'!M703B0D.ust'!N20/'!M703B0D.ust'!Q3","v":0.97560975609756095},{"$f":"SUM('!M703B0D.ust'!L20:Q20)/'!M703B0D.ust'!Q3","v":4.024390243902439},{"$f":"'!M703B0D.ust'!Q16","v":3.0877354779509855E-2}]
[12,{"$f":"'!M704A5D.ust'!B2:C2","v":"<date>"},{"$f":"('!M704A5D.ust'!F48/60)/'!M704A5D.ust'!Q3","v":3.4166666666666665},{"$f":"'!M704A5D.ust'!N20/'!M704A5D.ust'!Q3","v":0.95238095238095233},{"$f":"SUM('!M704A5D.ust'!L20:Q20)/'!M704A5D.ust'!Q3","v":3.9285714285714284},{"$f":"'!M704A5D.ust'!Q16","v":6.0051078206022804E-2}]
[13,{"$f":"'!M705A5D.ust'!B2:C2","v":"<date>"},{"$f":"('!M705A5D.ust'!F46/60)/'!M705A5D.ust'!Q3","v":3.1604166666666669},{"$f":"'!M705A5D.ust'!N20/'!M705A5D.ust'!Q3","v":1},{"$f":"SUM('!M705A5D.ust'!L20:Q20)/'!M705A5D.ust'!Q3","v":4.0999999999999996},{"$f":"'!M705A5D.ust'!Q16","v":0}]
[14,{"$f":"'!M706B2D.ust'!B2:C2","v":"<date>"},{"$f":"('!M706B2D.ust'!F47/60)/'!M706B2D.ust'!Q3","v":2.6349593495934958},{"$f":"'!M706B2D.ust'!N20/'!M706B2D.ust'!Q3","v":0.97560975609756095},{"$f":"SUM('!M706B2D.ust'!L20:Q20)/'!M706B2D.ust'!Q3","v":4.024390243902439},{"$f":"'!M706B2D.ust'!Q16","v":3.0877354779509855E-2}]
[15,{"$f":"'!M707A3D.ust'!B2:C2","v":"<date>"},{"$f":"('!M707A3D.ust'!F48/60)/'!M707A3D.ust'!Q3","v":2.803174603174603},{"$f":"'!M707A3D.ust'!N20/'!M707A3D.ust'!Q3","v":0.95238095238095233},{"$f":"SUM('!M707A3D.ust'!L20:Q20)/'!M707A3D.ust'!Q3","v":3.9285714285714284},{"$f":"'!M707A3D.ust'!Q16","v":5.1220172329100477E-2}]
[16,{"$f":"'!M708A0D.ust'!B2:C2","v":"<date>"},{"$f":"('!M708A0D.ust'!F46/60)/'!M708A0D.ust'!Q3","v":3.3850000000000002},{"$f":"'!M708A0D.ust'!N20/'!M708A0D.ust'!Q3","v":1},{"$f":"SUM('!M708A0D.ust'!L20:Q20)/'!M708A0D.ust'!Q3","v":4.0999999999999996},{"$f":"'!M708A0D.ust'!Q16","v":0}]
[17,{"$f":"'!M709A2D.ust'!B2:C2","v":"<date>"},{"$f":"('!M709A2D.ust'!F49/60)/'!M709A2D.ust'!Q3","v":2.4922480620155039},{"$f":"'!M709A2D.ust'!N20/'!M709A2D.ust'!Q3","v":0.93023255813953487},{"$f":"SUM('!M709A2D.ust'!L20:Q20)/'!M709A2D.ust'!Q3","v":3.8372093023255816},{"$f":"'!M709A2D.ust'!Q16","v":7.9082455473912391E-2}]
[18,{"$f":"'!M710A4D.ust'!B2:C2","v":"<date>"},{"$f":"('!M710A4D.ust'!F46/60)/'!M710A4D.ust'!Q3","v":2.5220833333333337},{"$f":"'!M710A4D.ust'!N20/'!M710A4D.ust'!Q3","v":1},{"$f":"SUM('!M710A4D.ust'!L20:Q20)/'!M710A4D.ust'!Q3","v":4.0999999999999996},{"$f":"'!M710A4D.ust'!Q16","v":0}]
[19,{"$f":"'!M711A1D.ust'!B2:C2","v":"<date>"},{"$f":"('!M711A1D.ust'!F46/60)/'!M711A1D.ust'!Q3","v":2.46},{"$f":"'!M711A1D.ust'!N20/'!M711A1D.ust'!Q3","v":1},{"$f":"SUM('!M711A1D.ust'!L20:Q20)/'!M711A1D.ust'!Q3","v":4.0999999999999996},{"$f":"'!M711A1D.ust'!Q16","v":0}]
[20,{"$f":"'!M712A4D.ust'!B2:C2","v":"<date>"},{"$f":"('!M712A4D.ust'!F46/60)/'!M712A4D.ust'!Q3","v":2.5620833333333333},{"$f":"'!M712A4D.ust'!N20/'!M712A4D.ust'!Q3","v":1},{"$f":"SUM('!M712A4D.ust'!L20:Q20)/'!M712A4D.ust'!Q3","v":4.0999999999999996},{"$f":"'!M712A4D.ust'!Q16","v":0}]
[21,{"$f":"'!M713B1D.ust'!B2:C2","v":"<date>"},{"$f":"('!M713B1D.ust'!F46/60)/'!M713B1D.ust'!Q3","v":2.5629166666666667},{"$f":"'!M713B1D.ust'!N20/'!M713B1D.ust'!Q3","v":1},{"$f":"SUM('!M713B1D.ust'!L20:Q20)/'!M713B1D.ust'!Q3","v":4.0999999999999996},{"$f":"'!M713B1D.ust'!Q16","v":0}]
[22,{"$f":"'!M71592D.ust'!B2:C2","v":"<date>"},{"$f":"('!M71592D.ust'!F48/60)/'!M71592D.ust'!Q3","v":2.43015873015873},{"$f":"'!M71592D.ust'!N20/'!M71592D.ust'!Q3","v":0.95238095238095233},{"$f":"SUM('!M71592D.ust'!L20:Q20)/'!M71592D.ust'!Q3","v":3.9285714285714284},{"$f":"'!M71592D.ust'!Q16","v":5.1220172329100477E-2}]
[23,{"$f":"'!M716A1D.ust'!B2:C2","v":"<date>"},{"$f":"('!M716A1D.ust'!F46/60)/'!M716A1D.ust'!Q3","v":2.7637499999999999},{"$f":"'!M716A1D.ust'!N20/'!M716A1D.ust'!Q3","v":1},{"$f":"SUM('!M716A1D.ust'!L20:Q20)/'!M716A1D.ust'!Q3","v":4.0999999999999996},{"$f":"'!M716A1D.ust'!Q16","v":0}]
[24,{"$f":"'!M718A5D.ust'!B2:C2","v":"<date>"},{"$f":"('!M718A5D.ust'!F46/60)/'!M718A5D.ust'!Q3","v":2.67625},{"$f":"'!M718A5D.ust'!N20/'!M718A5D.ust'!Q3","v":1},{"$f":"SUM('!M718A5D.ust'!L20:Q20)/'!M718A5D.ust'!Q3","v":4.0999999999999996},{"$f":"'!M718A5D.ust'!Q16","v":0}]
[25,{"$f":"'!M719A5D.ust'!B2:C2","v":"<date>"},{"$f":"('!M719A5D.ust'!F48/60)/'!M719A5D.ust'!Q3","v":2.4031746031746031},{"$f":"'!M719A5D.ust'!N20/'!M719A5D.ust'!Q3","v":0.95238095238095233},{"$f":"SUM('!M719A5D.ust'!L20:Q20)/'!M719A5D.ust'!Q3","v":6.5714285714285712},{"$f":"'!M719A5D.ust'!Q16","v":6.0051078206022804E-2}]
[26,{"$f":"'!M720A3D.ust'!B2:C2","v":"<date>"},{"$f":"('!M720A3D.ust'!F46/60)/'!M720A3D.ust'!Q3","v":2.0554166666666669},{"$f":"'!M720A3D.ust'!N20/'!M720A3D.ust'!Q3","v":1},{"$f":"SUM('!M720A3D.ust'!L20:Q20)/'!M720A3D.ust'!Q3","v":4.0999999999999996},{"$f":"'!M720A3D.ust'!Q16","v":0}]
[27,{"$f":"'!M721B5D.ust'!B2:C2","v":"<date>"},{"$f":"('!M721B5D.ust'!F46/60)/'!M721B5D.ust'!Q3","v":2.6095833333333336},{"$f":"'!M721B5D.ust'!N20/'!M721B5D.ust'!Q3","v":1},{"$f":"SUM('!M721B5D.ust'!L20:Q20)/'!M721B5D.ust'!Q3","v":4.0999999999999996},{"$f":"'!M721B5D.ust'!Q16","v":0}]
[28]
[29]
[30]

{"sheet":"Start","index":2,"n_rows":33,"n_cols":10,"rows_kept":33,"cut":false,"hidden":false,"merged":[]}
[null,null,null,null,null,"Use Folder 51",null,"Auto Clean Up",null,"Correct sequence"]
[null,null,null,null,null,false,null,true,null,111]
[]
["Working with Folder",null,null,null,null,null,"Process All/Or Pick A number: ALL or an integer"]
["F:\\Possum Chapter\\Raw Data\\Dusti\\New Phase LLL Con\\",null,null,null,null,null,"ALL"]
["Filenames:"]
["!M711A1D.ust",null,null,null,null,null,"Paint Cells"]
["!M712A4D.ust",null,null,null,null,null,false]
["!M713B1D.ust"]
["!M716A1D.ust"]
["!M718A5D.ust"]
["!M719A5D.ust"]
["!M720A3D.ust"]
["!M721B5D.ust"]
["!M621A5D.ust"]
["!M623A0D.ust"]
["!M624B3D.ust"]
["!M625A5D.ust"]
["!M626A2D.ust"]
["!M627A3D.ust"]
["!M629A2D.ust"]
["!M630C3D.ust"]
["!M701B3D.ust"]
["!M702A2D.ust"]
["!M703B0D.ust"]
["!M704A5D.ust"]
["!M705A5D.ust"]
["!M706B2D.ust"]
["!M707A3D.ust"]
["!M708A0D.ust"]
["!M709A2D.ust"]
["!M710A4D.ust"]
["!M71592D.ust"]

{"sheet":"!M621A5D.ust","index":3,"n_rows":46,"n_cols":48,"rows_kept":46,"cut":false,"hidden":false,"merged":[[4,39,4,42],[5,39,5,40],[4,44,4,47],[5,44,5,45],[4,24,4,27],[5,24,5,25],[4,29,4,32],[5,29,5,30],[4,34,4,37],[5,34,5,35],[1,1,1,2],[5,13,5,14],[18,13,18,14],[19,13,19,14],[4,19,4,22],[5,19,5,20]]}
["Report for:!M621A5D.ust"]
["Date:","<date>"]
["Hen:","<hen>",null,null,null,"Correct Sequence",{"$f":"Start!J2","v":111},null,null,null,null,null,null,null,null,"Total Sequences in Data",{"$f":"4994-COUNTBLANK(L7:L5000)","v":40},null,null,null,null,"Total Sequences in Block Data",{"$f":"COUNTA(L7:L13)","v":7},null,null,null,"Total Sequences in Block Data",{"$f":"COUNTA(L14:L19)","v":6},null,null,null,"Total Sequences in Block Data",{"$f":"COUNTA(L20:L26)","v":7},null,null,null,"Total Sequences in Block Data",{"$f":"COUNTA(L27:L33)","v":7},null,null,null,"Total Sequences in Block Data",{"$f":"COUNTA(L34:L39)","v":6},null,null,null,"Total Sequences in Block Data",{"$f":"COUNTA(L40:L46)","v":7}]
[null,null,null,null,null,null,null,null,null,null,null,null,null,null,null,"Total Sequences in Summary",{"$f":"SUM(O7:O14)","v":40},null,null,null,null,"Total Sequences in Block Summary",{"$f":"SUM(U7:U14)","v":7},null,null,null,"Total Sequences in Block Summary",{"$f":"SUM(Z7:Z14)","v":6},null,null,null,"Total Sequences in Block Summary",{"$f":"SUM(AE7:AE14)","v":7},null,null,null,"Total Sequences in Block Summary",{"$f":"SUM(AJ7:AJ14)","v":7},null,null,null,"Total Sequences in Block Summary",{"$f":"SUM(AO7:AO14)","v":6},null,null,null,"Total Sequences in Block Summary",{"$f":"SUM(AT7:AT14)","v":7}]
[null,null,null,null,null,null,null,null,null,null,null,null,null,null,null,null,null,null,null,"Block 1",null,null,null,null,"Block 2",null,null,null,null,"Block 3",null,null,null,null,"Block 4",null,null,null,null,"Block 5",null,null,null,null,"Block 6"]
["Sequence\nComponent\n1","Time\n1","Sequence\nComponent\n2","Time\n2","Sequence\nComponent\n3","Time\n3","Sequence\nComponent\n4","Time\n4","Sequence\nComponent\n5","Time\n5","Correct?\n0=No 1=Yes","Sequence",null,"Frequency",null,"Relative Frequency","Variability",null,null,"Frequency",null,"Relative Frequency","Variability",null,"Frequency",null,"Relative Frequency","Variability",null,"Frequency",null,"Relative Frequency","Variability",null,"Frequency",null,"Relative Frequency","Variability",null,"Frequency",null,"Relative Frequency","Variability",null,"Frequency",null,"Relative Frequency","Variability"]
[11,8,11,14,11,20,null,null,null,null,0,111,null,111,{"$f":"COUNTIF($L$7:$L$500,N7)","v":40},{"$f":"O7/$Q$4","v":1},{"$f":"IF(P7=0,0,(P7*((LOG(P7))/LOG(2))))","v":0},null,null,{"$f":"N7","v":111},{"$f":"COUNTIF(L7:L13,T7)","v":7},null,null,null,{"$f":"N7","v":111},{"$f":"COUNTIF(L14:L19,Y7)","v":6},null,null,null,{"$f":"N7","v":111},{"$f":"COUNTIF(L20:L26,AD7)","v":7},null,null,null,{"$f":"N7","v":111},{"$f":"COUNTIF(L27:L33,AI7)","v":7},null,null,null,{"$f":"N7","v":111},{"$f":"COUNTIF(L34:L39,AN7)","v":6},null,null,null,{"$f":"N7","v":111},{"$f":"COUNTIF(L40:L46,AS7)","v":7}]
[11,145,11,150,11,156,null,null,null,null,0,111,null,112,{"$f":"COUNTIF($L$7:$L$500,N8)","v":0},{"$f":"O8/$Q$4","v":0},{"$f":"IF(P8=0,0,(P8*((LOG(P8))/LOG(2))))","v":0},null,null,{"$f":"N8","v":112},{"$f":"COUNTIF(L7:L13,T8)","v":0},{"$f":"U8/(W4-U7)","v":{"$error":"#DIV/0!"}},{"$f":"IF(V8=0,0,(V8*((LOG(V8))/LOG(2))))","v":{"$error":"#DIV/0!"}},null,{"$f":"N8","v":112},{"$f":"COUNTIF(L14:L19,Y8)","v":0},{"$f":"Z8/(AB4-Z7)","v":{"$error":"#DIV/0!"}},{"$f":"IF(AA8=0,0,(AA8*((LOG(AA8))/LOG(2))))","v":{"$error":"#DIV/0!"}},null,{"$f":"N8","v":112},{"$f":"COUNTIF(L20:L26,AD8)","v":0},{"$f":"AE8/(AG4-AE7)","v":{"$error":"#DIV/0!"}},{"$f":"IF(AF8=0,0,(AF8*((LOG(AF8))/LOG(2))))","v":{"$error":"#DIV/0!"}},null,{"$f":"N8","v":112},{"$f":"COUNTIF(L27:L33,AI8)","v":0},{"$f":"AJ8/(AL4-AJ7)","v":{"$error":"#DIV/0!"}},{"$f":"IF(AK8=0,0,(AK8*((LOG(AK8))/LOG(2))))","v":{"$error":"#DIV/0!"}},null,{"$f":"N8","v":112},{"$f":"COUNTIF(L34:L39,AN8)","v":0},{"$f":"AO8/(AQ4-AO7)","v":{"$error":"#DIV/0!"}},{"$f":"IF(AP8=0,0,(AP8*((LOG(AP8))/LOG(2))))","v":{"$error":"#DIV/0!"}},null,{"$f":"N8","v":112},{"$f":"COUNTIF(L40:L46,AS8)","v":0},{"$f":"AT8/(AV4-AT7)","v":{"$error":"#DIV/0!"}},{"$f":"IF(AU8=0,0,(AU8*((LOG(AU8))/LOG(2))))","v":{"$error":"#DIV/0!"}}]
[11,306,11,312,11,319,null,null,null,null,0,111,null,121,{"$f":"COUNTIF($L$7:$L$500,N9)","v":0},{"$f":"O9/$Q$4","v":0},{"$f":"IF(P9=0,0,(P9*((LOG(P9))/LOG(2))))","v":0},null,null,{"$f":"N9","v":121},{"$f":"COUNTIF(L7:L13,T9)","v":0},{"$f":"U9/(W4-U7)","v":{"$error":"#DIV/0!"}},{"$f":"IF(V9=0,0,(V9*((LOG(V9))/LOG(2))))","v":{"$error":"#DIV/0!"}},null,{"$f":"N9","v":121},{"$f":"COUNTIF(L14:L19,Y9)","v":0},{"$f":"Z9/(AB4-Z7)","v":{"$error":"#DIV/0!"}},{"$f":"IF(AA9=0,0,(AA9*((LOG(AA9))/LOG(2))))","v":{"$error":"#DIV/0!"}},null,{"$f":"N9","v":121},{"$f":"COUNTIF(L20:L26,AD9)","v":0},{"$f":"AE9/(AG4-AE7)","v":{"$error":"#DIV/0!"}},{"$f":"IF(AF9=0,0,(AF9*((LOG(AF9))/LOG(2))))","v":{"$error":"#DIV/0!"}},null,{"$f":"N9","v":121},{"$f":"COUNTIF(L27:L33,AI9)","v":0},{"$f":"AJ9/(AL4-AJ7)","v":{"$error":"#DIV/0!"}},{"$f":"IF(AK9=0,0,(AK9*((LOG(AK9))/LOG(2))))","v":{"$error":"#DIV/0!"}},null,{"$f":"N9","v":121},{"$f":"COUNTIF(L34:L39,AN9)","v":0},{"$f":"AO9/(AQ4-AO7)","v":{"$error":"#DIV/0!"}},{"$f":"IF(AP9=0,0,(AP9*((LOG(AP9))/LOG(2))))","v":{"$error":"#DIV/0!"}},null,{"$f":"N9","v":121},{"$f":"COUNTIF(L40:L46,AS9)","v":0},{"$f":"AT9/(AV4-AT7)","v":{"$error":"#DIV/0!"}},{"$f":"IF(AU9=0,0,(AU9*((LOG(AU9))/LOG(2))))","v":{"$error":"#DIV/0!"}}]
[11,462,11,468,11,475,null,null,null,null,0,111,null,122,{"$f":"COUNTIF($L$7:$L$500,N10)","v":0},{"$f":"O10/$Q$4","v":0},{"$f":"IF(P10=0,0,(P10*((LOG(P10))/LOG(2))))","v":0},null,null,{"$f":"N10","v":122},{"$f":"COUNTIF(L7:L13,T10)","v":0},{"$f":"U10/(W4-U7)","v":{"$error":"#DIV/0!"}},{"$f":"IF(V10=0,0,(V10*((LOG(V10))/LOG(2))))","v":{"$error":"#DIV/0!"}},null,{"$f":"N10","v":122},{"$f":"COUNTIF(L14:L19,Y10)","v":0},{"$f":"Z10/(AB4-Z7)","v":{"$error":"#DIV/0!"}},{"$f":"IF(AA10=0,0,(AA10*((LOG(AA10))/LOG(2))))","v":{"$error":"#DIV/0!"}},null,{"$f":"N10","v":122},{"$f":"COUNTIF(L20:L26,AD10)","v":0},{"$f":"AE10/(AG4-AE7)","v":{"$error":"#DIV/0!"}},{"$f":"IF(AF10=0,0,(AF10*((LOG(AF10))/LOG(2))))","v":{"$error":"#DIV/0!"}},null,{"$f":"N10","v":122},{"$f":"COUNTIF(L27:L33,AI10)","v":0},{"$f":"AJ10/(AL4-AJ7)","v":{"$error":"#DIV/0!"}},{"$f":"IF(AK10=0,0,(AK10*((LOG(AK10))/LOG(2))))","v":{"$error":"#DIV/0!"}},null,{"$f":"N10","v":122},{"$f":"COUNTIF(L34:L39,AN10)","v":0},{"$f":"AO10/(AQ4-AO7)","v":{"$error":"#DIV/0!"}},{"$f":"IF(AP10=0,0,(AP10*((LOG(AP10))/LOG(2))))","v":{"$error":"#DIV/0!"}},null,{"$f":"N10","v":122},{"$f":"COUNTIF(L40:L46,AS10)","v":0},{"$f":"AT10/(AV4-AT7)","v":{"$error":"#DIV/0!"}},{"$f":"IF(AU10=0,0,(AU10*((LOG(AU10))/LOG(2))))","v":{"$error":"#DIV/0!"}}]
[11,583,11,588,11,593,null,null,null,null,0,111,null,211,{"$f":"COUNTIF($L$7:$L$500,N11)","v":0},{"$f":"O11/$Q$4","v":0},{"$f":"IF(P11=0,0,(P11*((LOG(P11))/LOG(2))))","v":0},null,null,{"$f":"N11","v":211},{"$f":"COUNTIF(L7:L13,T11)","v":0},{"$f":"U11/(W4-U7)","v":{"$error":"#DIV/0!"}},{"$f":"IF(V11=0,0,(V11*((LOG(V11))/LOG(2))))","v":{"$error":"#DIV/0!"}},null,{"$f":"N11","v":211},{"$f":"COUNTIF(L14:L19,Y11)","v":0},{"$f":"Z11/(AB4-Z7)","v":{"$error":"#DIV/0!"}},{"$f":"IF(AA11=0,0,(AA11*((LOG(AA11))/LOG(2))))","v":{"$error":"#DIV/0!"}},null,{"$f":"N11","v":211},{"$f":"COUNTIF(L20:L26,AD11)","v":0},{"$f":"AE11/(AG4-AE7)","v":{"$error":"#DIV/0!"}},{"$f":"IF(AF11=0,0,(AF11*((LOG(AF11))/LOG(2))))","v":{"$error":"#DIV/0!"}},null,{"$f":"N11","v":211},{"$f":"COUNTIF(L27:L33,AI11)","v":0},{"$f":"AJ11/(AL4-AJ7)","v":{"$error":"#DIV/0!"}},{"$f":"IF(AK11=0,0,(AK11*((LOG(AK11))/LOG(2))))","v":{"$error":"#DIV/0!"}},null,{"$f":"N11","v":211},{"$f":"COUNTIF(L34:L39,AN11)","v":0},{"$f":"AO11/(AQ4-AO7)","v":{"$error":"#DIV/0!"}},{"$f":"IF(AP11=0,0,(AP11*((LOG(AP11))/LOG(2))))","v":{"$error":"#DIV/0!"}},null,{"$f":"N11","v":211},{"$f":"COUNTIF(L40:L46,AS11)","v":0},{"$f":"AT11/(AV4-AT7)","v":{"$error":"#DIV/0!"}},{"$f":"IF(AU11=0,0,(AU11*((LOG(AU11))/LOG(2))))","v":{"$error":"#DIV/0!"}}]
[11,703,11,708,11,714,null,null,null,null,0,111,null,212,{"$f":"COUNTIF($L$7:$L$500,N12)","v":0},{"$f":"O12/$Q$4","v":0},{"$f":"IF(P12=0,0,(P12*((LOG(P12))/LOG(2))))","v":0},null,null,{"$f":"N12","v":212},{"$f":"COUNTIF(L7:L13,T12)","v":0},{"$f":"U12/(W4-U7)","v":{"$error":"#DIV/0!"}},{"$f":"IF(V12=0,0,(V12*((LOG(V12))/LOG(2))))","v":{"$error":"#DIV/0!"}},null,{"$f":"N12","v":212},{"$f":"COUNTIF(L14:L19,Y12)","v":0},{"$f":"Z12/(AB4-Z7)","v":{"$error":"#DIV/0!"}},{"$f":"IF(AA12=0,0,(AA12*((LOG(AA12))/LOG(2))))","v":{"$error":"#DIV/0!"}},null,{"$f":"N12","v":212},{"$f":"COUNTIF(L20:L26,AD12)","v":0},{"$f":"AE12/(AG4-AE7)","v":{"$error":"#DIV/0!"}},{"$f":"IF(AF12=0,0,(AF12*((LOG(AF12))/LOG(2))))","v":{"$error":"#DIV/0!"}},null,{"$f":"N12","v":212},{"$f":"COUNTIF(L27:L33,AI12)","v":0},{"$f":"AJ12/(AL4-AJ7)","v":{"$error":"#DIV/0!"}},{"$f":"IF(AK12=0,0,(AK12*((LOG(AK12))/LOG(2))))","v":{"$error":"#DIV/0!"}},null,{"$f":"N12","v":212},{"$f":"COUNTIF(L34:L39,AN12)","v":0},{"$f":"AO12/(AQ4-AO7)","v":{"$error":"#DIV/0!"}},{"$f":"IF(AP12=0,0,(AP12*((LOG(AP12))/LOG(2))))","v":{"$error":"#DIV/0!"}},null,{"$f":"N12","v":212},{"$f":"COUNTIF(L40:L46,AS12)","v":0},{"$f":"AT12/(AV4-AT7)","v":{"$error":"#DIV/0!"}},{"$f":"IF(AU12=0,0,(AU12*((LOG(AU12))/LOG(2))))","v":{"$error":"#DIV/0!"}}]
[11,883,11,889,11,895,null,null,null,null,0,111,null,221,{"$f":"COUNTIF($L$7:$L$500,N13)","v":0},{"$f":"O13/$Q$4","v":0},{"$f":"IF(P13=0,0,(P13*((LOG(P13))/LOG(2))))","v":0},null,null,{"$f":"N13","v":221},{"$f":"COUNTIF(L7:L13,T13)","v":0},{"$f":"U13/(W4-U7)","v":{"$error":"#DIV/0!"}},{"$f":"IF(V13=0,0,(V13*((LOG(V13))/LOG(2))))","v":{"$error":"#DIV/0!"}},null,{"$f":"N13","v":221},{"$f":"COUNTIF(L14:L19,Y13)","v":0},{"$f":"Z13/(AB4-Z7)","v":{"$error":"#DIV/0!"}},{"$f":"IF(AA13=0,0,(AA13*((LOG(AA13))/LOG(2))))","v":{"$error":"#DIV/0!"}},null,{"$f":"N13","v":221},{"$f":"COUNTIF(L20:L26,AD13)","v":0},{"$f":"AE13/(AG4-AE7)","v":{"$error":"#DIV/0!"}},{"$f":"IF(AF13=0,0,(AF13*((LOG(AF13))/LOG(2))))","v":{"$error":"#DIV/0!"}},null,{"$f":"N13","v":221},{"$f":"COUNTIF(L27:L33,AI13)","v":0},{"$f":"AJ13/(AL4-AJ7)","v":{"$error":"#DIV/0!"}},{"$f":"IF(AK13=0,0,(AK13*((LOG(AK13))/LOG(2))))","v":{"$error":"#DIV/0!"}},null,{"$f":"N13","v":221},{"$f":"COUNTIF(L34:L39,AN13)","v":0},{"$f":"AO13/(AQ4-AO7)","v":{"$error":"#DIV/0!"}},{"$f":"IF(AP13=0,0,(AP13*((LOG(AP13))/LOG(2))))","v":{"$error":"#DIV/0!"}},null,{"$f":"N13","v":221},{"$f":"COUNTIF(L40:L46,AS13)","v":0},{"$f":"AT13/(AV4-AT7)","v":{"$error":"#DIV/0!"}},{"$f":"IF(AU13=0,0,(AU13*((LOG(AU13))/LOG(2))))","v":{"$error":"#DIV/0!"}}]
[11,1030,11,1038,11,1043,null,null,null,null,0,111,null,222,{"$f":"COUNTIF($L$7:$L$500,N14)","v":0},{"$f":"O14/$Q$4","v":0},{"$f":"IF(P14=0,0,(P14*((LOG(P14))/LOG(2))))","v":0},null,null,{"$f":"N14","v":222},{"$f":"COUNTIF(L7:L13,T14)","v":0},{"$f":"U14/(W4-U7)","v":{"$error":"#DIV/0!"}},{"$f":"IF(V14=0,0,(V14*((LOG(V14))/LOG(2))))","v":{"$error":"#DIV/0!"}},null,{"$f":"N14","v":222},{"$f":"COUNTIF(L14:L19,Y14)","v":0},{"$f":"Z14/(AB4-Z7)","v":{"$error":"#DIV/0!"}},{"$f":"IF(AA14=0,0,(AA14*((LOG(AA14))/LOG(2))))","v":{"$error":"#DIV/0!"}},null,{"$f":"N14","v":222},{"$f":"COUNTIF(L20:L26,AD14)","v":0},{"$f":"AE14/(AG4-AE7)","v":{"$error":"#DIV/0!"}},{"$f":"IF(AF14=0,0,(AF14*((LOG(AF14))/LOG(2))))","v":{"$error":"#DIV/0!"}},null,{"$f":"N14","v":222},{"$f":"COUNTIF(L27:L33,AI14)","v":0},{"$f":"AJ14/(AL4-AJ7)","v":{"$error":"#DIV/0!"}},{"$f":"IF(AK14=0,0,(AK14*((LOG(AK14))/LOG(2))))","v":{"$error":"#DIV/0!"}},null,{"$f":"N14","v":222},{"$f":"COUNTIF(L34:L39,AN14)","v":0},{"$f":"AO14/(AQ4-AO7)","v":{"$error":"#DIV/0!"}},{"$f":"IF(AP14=0,0,(AP14*((LOG(AP14))/LOG(2))))","v":{"$error":"#DIV/0!"}},null,{"$f":"N14","v":222},{"$f":"COUNTIF(L40:L46,AS14)","v":0},{"$f":"AT14/(AV4-AT7)","v":{"$error":"#DIV/0!"}},{"$f":"IF(AU14=0,0,(AU14*((LOG(AU14))/LOG(2))))","v":{"$error":"#DIV/0!"}}]
[11,1222,11,1227,11,1244,null,null,null,null,0,111,null,null,null,{"$f":"SUM(P7:P14)","v":1},{"$f":"-SUM(Q7:Q14)","v":0},null,null,null,null,{"$f":"SUM(V7:V14)","v":{"$error":"#DIV/0!"}},{"$f":"-SUM(W7:W14)","v":{"$error":"#DIV/0!"}},null,null,null,{"$f":"SUM(AA7:AA14)","v":{"$error":"#DIV/0!"}},{"$f":"-SUM(AB7:AB14)","v":{"$error":"#DIV/0!"}},null,null,null,{"$f":"SUM(AF7:AF14)","v":{"$error":"#DIV/0!"}},{"$f":"-SUM(AG7:AG14)","v":{"$error":"#DIV/0!"}},null,null,null,{"$f":"SUM(AK7:AK14)","v":{"$error":"#DIV/0!"}},{"$f":"-SUM(AL7:AL14)","v":{"$error":"#DIV/0!"}},null,null,null,{"$f":"SUM(AP7:AP14)","v":{"$error":"#DIV/0!"}},{"$f":"-SUM(AQ7:AQ14)","v":{"$error":"#DIV/0!"}},null,null,null,{"$f":"SUM(AU7:AU14)","v":{"$error":"#DIV/0!"}},{"$f":"-SUM(AV7:AV14)","v":{"$error":"#DIV/0!"}}]
[11,1371,11,1376,11,1381,null,null,null,null,0,111,null,null,null,"U=",{"$f":"Q15/(LOG(Q4)/LOG(2))","v":0},null,null,null,null,"U1=",{"$f":"W15/(LOG(W4)/LOG(2))","v":{"$error":"#DIV/0!"}},null,null,null,"U2=",{"$f":"AB15/(LOG(AB4)/LOG(2))","v":{"$error":"#DIV/0!"}},null,null,null,"U3=",{"$f":"AG15/(LOG(AG4)/LOG(2))","v":{"$error":"#DIV/0!"}},null,null,null,"U4=",{"$f":"AL15/(LOG(AL4)/LOG(2))","v":{"$error":"#DIV/0!"}},null,null,null,"U5=",{"$f":"AQ15/(LOG(AQ4)/LOG(2))","v":{"$error":"#DIV/0!"}},null,null,null,"U6=",{"$f":"AV15/(LOG(AV4)/LOG(2))","v":{"$error":"#DIV/0!"}}]
[11,1539,11,1546,11,1555,null,null,null,null,0,111]
[11,1819,11,1825,11,1835,null,null,null,null,0,111]
[11,2011,11,2017,11,2021,null,null,null,null,0,111,null,"Total Target Seq"]
[11,2202,11,2211,11,2246,null,null,null,null,0,111,null,{"$f":"COUNTIF(L7:L46,G3)","v":40},null,7,6,7,7,6,7]
[11,2358,11,2363,11,2370,null,null,null,null,0,111,null,null,null,"% of reinforcement given in 6 equal intervals based on number of trials "]
[11,2601,11,2606,11,2612,null,null,null,null,0,111,null,null,null,"%_1","%_2","%_3","%_4","%_5","%_6"]
[11,2789,11,2795,11,2801,null,null,null,null,0,111,null,null,"target sequence",{"$f":"$G$3","v":111},{"$f":"$G$3","v":111},{"$f":"$G$3","v":111},{"$f":"$G$3","v":111},{"$f":"$G$3","v":111},{"$f":"$G$3","v":111}]
[11,2922,11,2927,11,2932,null,null,null,null,0,111,null,null,"total reinforcement",{"$f":"U7","v":7},{"$f":"Z7","v":6},{"$f":"AE7","v":7},{"$f":"AJ7","v":7},{"$f":"AO7","v":6},{"$f":"AT7","v":7}]
[11,3095,11,3102,11,3116,null,null,null,null,0,111,null,null,"% target"]
[11,3280,11,3289,11,3294,null,null,null,null,0,111,null,null,"CCRF"]
[11,3491,11,3496,11,3503,null,null,null,null,0,111,null,null,"% CCRf"]
[11,3639,11,3645,11,3651,null,null,null,null,0,111,null,null,"average response rate",{"$f":"F13/P20","v":127.85714285714286},{"$f":"(F19-F13)/Q20","v":187.66666666666666},{"$f":"(F26-F19)/R20","v":181.85714285714286},{"$f":"(F33-F26)/S20","v":163.14285714285714},{"$f":"(F39-F33)/T20","v":156.5},{"$f":"(F46-F39)/U20","v":197}]
[11,3790,11,3800,11,3807,null,null,null,null,0,111]
[11,3957,11,3963,11,3969,null,null,null,null,0,111]
[11,4121,11,4127,11,4137,null,null,null,null,0,111]
[11,4269,11,4273,11,4283,null,null,null,null,0,111]
[11,4425,11,4430,11,4436,null,null,null,null,0,111]
[11,4564,11,4568,11,4577,null,null,null,null,0,111]
[11,4715,11,4719,11,4725,null,null,null,null,0,111]
[11,4854,11,4858,11,4865,null,null,null,null,0,111]
[11,4987,11,5003,11,5009,null,null,null,null,0,111]
[11,5247,11,5252,11,5258,null,null,null,null,0,111]
[11,5365,11,5369,11,5375,null,null,null,null,0,111]
[11,5510,11,5515,11,5521,null,null,null,null,0,111]
[11,5754,11,5760,11,5765,null,null,null,null,0,111]
[11,5981,11,5987,11,5994,null,null,null,null,0,111]
[11,6172,11,6176,11,6181,null,null,null,null,0,111]
[11,6309,11,6317,11,6326,null,null,null,null,0,111]
[11,6467,11,6472,11,6478,null,null,null,null,0,111]
[11,6742,11,6747,11,6754,null,null,null,null,1,111]

{"sheet":"!M623A0D.ust","index":4,"n_rows":48,"n_cols":48,"rows_kept":48,"cut":false,"hidden":false,"merged":[[4,39,4,42],[5,39,5,40],[4,44,4,47],[5,44,5,45],[4,24,4,27],[5,24,5,25],[4,29,4,32],[5,29,5,30],[4,34,4,37],[5,34,5,35],[1,1,1,2],[5,13,5,14],[18,13,18,14],[19,13,19,14],[4,19,4,22],[5,19,5,20]]}
["Report for:!M623A0D.ust"]
["Date:","<date>"]
["Hen:","<hen>",null,null,null,"Correct Sequence",{"$f":"Start!J2","v":111},null,null,null,null,null,null,null,null,"Total Sequences in Data",{"$f":"4994-COUNTBLANK(L7:L5000)","v":42},null,null,null,null,"Total Sequences in Block Data",{"$f":"COUNTA(L7:L13)","v":7},null,null,null,"Total Sequences in Block Data",{"$f":"COUNTA(L14:L20)","v":7},null,null,null,"Total Sequences in Block Data",{"$f":"COUNTA(L21:L27)","v":7},null,null,null,"Total Sequences in Block Data",{"$f":"COUNTA(L28:L34)","v":7},null,null,null,"Total Sequences in Block Data",{"$f":"COUNTA(L35:L41)","v":7},null,null,null,"Total Sequences in Block Data",{"$f":"COUNTA(L42:L48)","v":7}]
[null,null,null,null,null,null,null,null,null,null,null,null,null,null,null,"Total Sequences in Summary",{"$f":"SUM(O7:O14)","v":42},null,null,null,null,"Total Sequences in Block Summary",{"$f":"SUM(U7:U14)","v":7},null,null,null,"Total Sequences in Block Summary",{"$f":"SUM(Z7:Z14)","v":7},null,null,null,"Total Sequences in Block Summary",{"$f":"SUM(AE7:AE14)","v":7},null,null,null,"Total Sequences in Block Summary",{"$f":"SUM(AJ7:AJ14)","v":7},null,null,null,"Total Sequences in Block Summary",{"$f":"SUM(AO7:AO14)","v":7},null,null,null,"Total Sequences in Block Summary",{"$f":"SUM(AT7:AT14)","v":7}]
[null,null,null,null,null,null,null,null,null,null,null,null,null,null,null,null,null,null,null,"Block 1",null,null,null,null,"Block 2",null,null,null,null,"Block 3",null,null,null,null,"Block 4",null,null,null,null,"Block 5",null,null,null,null,"Block 6"]
["Sequence\nComponent\n1","Time\n1","Sequence\nComponent\n2","Time\n2","Sequence\nComponent\n3","Time\n3","Sequence\nComponent\n4","Time\n4","Sequence\nComponent\n5","Time\n5","Correct?\n0=No 1=Yes","Sequence",null,"Frequency",null,"Relative Frequency","Variability",null,null,"Frequency",null,"Relative Frequency","Variability",null,"Frequency",null,"Relative Frequency","Variability",null,"Frequency",null,"Relative Frequency","Variability",null,"Frequency",null,"Relative Frequency","Variability",null,"Frequency",null,"Relative Frequency","Variability",null,"Frequency",null,"Relative Frequency","Variability"]
[11,7,22,14,24,21,null,null,null,null,0,122,null,111,{"$f":"COUNTIF($L$7:$L$500,N7)","v":40},{"$f":"O7/$Q$4","v":0.95238095238095233},{"$f":"IF(P7=0,0,(P7*((LOG(P7))/LOG(2))))","v":-6.7037455134664775E-2},null,null,{"$f":"N7","v":111},{"$f":"COUNTIF(L7:L13,T7)","v":6},null,null,null,{"$f":"N7","v":111},{"$f":"COUNTIF(L14:L20,Y7)","v":7},null,null,null,{"$f":"N7","v":111},{"$f":"COUNTIF(L21:L27,AD7)","v":7},null,null,null,{"$f":"N7","v":111},{"$f":"COUNTIF(L28:L34,AI7)","v":7},null,null,null,{"$f":"N7","v":111},{"$f":"COUNTIF(L35:L41,AN7)","v":7},null,null,null,{"$f":"N7","v":111},{"$f":"COUNTIF(L42:L48,AS7)","v":6}]
[11,123,11,128,11,136,null,null,null,null,0,111,null,112,{"$f":"COUNTIF($L$7:$L$500,N8)","v":0},{"$f":"O8/$Q$4","v":0},{"$f":"IF(P8=0,0,(P8*((LOG(P8))/LOG(2))))","v":0},null,null,{"$f":"N8","v":112},{"$f":"COUNTIF(L7:L13,T8)","v":0},{"$f":"U8/(W4-U7)","v":0},{"$f":"IF(V8=0,0,(V8*((LOG(V8))/LOG(2))))","v":0},null,{"$f":"N8","v":112},{"$f":"COUNTIF(L14:L20,Y8)","v":0},{"$f":"Z8/(AB4-Z7)","v":{"$error":"#DIV/0!"}},{"$f":"IF(AA8=0,0,(AA8*((LOG(AA8))/LOG(2))))","v":{"$error":"#DIV/0!"}},null,{"$f":"N8","v":112},{"$f":"COUNTIF(L21:L27,AD8)","v":0},{"$f":"AE8/(AG4-AE7)","v":{"$error":"#DIV/0!"}},{"$f":"IF(AF8=0,0,(AF8*((LOG(AF8))/LOG(2))))","v":{"$error":"#DIV/0!"}},null,{"$f":"N8","v":112},{"$f":"COUNTIF(L28:L34,AI8)","v":0},{"$f":"AJ8/(AL4-AJ7)","v":{"$error":"#DIV/0!"}},{"$f":"IF(AK8=0,0,(AK8*((LOG(AK8))/LOG(2))))","v":{"$error":"#DIV/0!"}},null,{"$f":"N8","v":112},{"$f":"COUNTIF(L35:L41,AN8)","v":0},{"$f":"AO8/(AQ4-AO7)","v":{"$error":"#DIV/0!"}},{"$f":"IF(AP8=0,0,(AP8*((LOG(AP8))/LOG(2))))","v":{"$error":"#DIV/0!"}},null,{"$f":"N8","v":112},{"$f":"COUNTIF(L42:L48,AS8)","v":0},{"$f":"AT8/(AV4-AT7)","v":0},{"$f":"IF(AU8=0,0,(AU8*((LOG(AU8))/LOG(2))))","v":0}]
[11,293,11,300,11,306,null,null,null,null,0,111,null,121,{"$f":"COUNTIF($L$7:$L$500,N9)","v":0},{"$f":"O9/$Q$4","v":0},{"$f":"IF(P9=0,0,(P9*((LOG(P9))/LOG(2))))","v":0},null,null,{"$f":"N9","v":121},{"$f":"COUNTIF(L7:L13,T9)","v":0},{"$f":"U9/(W4-U7)","v":0},{"$f":"IF(V9=0,0,(V9*((LOG(V9))/LOG(2))))","v":0},null,{"$f":"N9","v":121},{"$f":"COUNTIF(L14:L20,Y9)","v":0},{"$f":"Z9/(AB4-Z7)","v":{"$error":"#DIV/0!"}},{"$f":"IF(AA9=0,0,(AA9*((LOG(AA9))/LOG(2))))","v":{"$error":"#DIV/0!"}},null,{"$f":"N9","v":121},{"$f":"COUNTIF(L21:L27,AD9)","v":0},{"$f":"AE9/(AG4-AE7)","v":{"$error":"#DIV/0!"}},{"$f":"IF(AF9=0,0,(AF9*((LOG(AF9))/LOG(2))))","v":{"$error":"#DIV/0!"}},null,{"$f":"N9","v":121},{"$f":"COUNTIF(L28:L34,AI9)","v":0},{"$f":"AJ9/(AL4-AJ7)","v":{"$error":"#DIV/0!"}},{"$f":"IF(AK9=0,0,(AK9*((LOG(AK9))/LOG(2))))","v":{"$error":"#DIV/0!"}},null,{"$f":"N9","v":121},{"$f":"COUNTIF(L35:L41,AN9)","v":0},{"$f":"AO9/(AQ4-AO7)","v":{"$error":"#DIV/0!"}},{"$f":"IF(AP9=0,0,(AP9*((LOG(AP9))/LOG(2))))","v":{"$error":"#DIV/0!"}},null,{"$f":"N9","v":121},{"$f":"COUNTIF(L42:L48,AS9)","v":0},{"$f":"AT9/(AV4-AT7)","v":0},{"$f":"IF(AU9=0,0,(AU9*((LOG(AU9))/LOG(2))))","v":0}]
[11,458,11,464,11,470,null,null,null,null,0,111,null,122,{"$f":"COUNTIF($L$7:$L$500,N10)","v":1},{"$f":"O10/$Q$4","v":2.3809523809523808E-2},{"$f":"IF(P10=0,0,(P10*((LOG(P10))/LOG(2))))","v":-0.12838851006616095},null,null,{"$f":"N10","v":122},{"$f":"COUNTIF(L7:L13,T10)","v":1},{"$f":"U10/(W4-U7)","v":1},{"$f":"IF(V10=0,0,(V10*((LOG(V10))/LOG(2))))","v":0},null,{"$f":"N10","v":122},{"$f":"COUNTIF(L14:L20,Y10)","v":0},{"$f":"Z10/(AB4-Z7)","v":{"$error":"#DIV/0!"}},{"$f":"IF(AA10=0,0,(AA10*((LOG(AA10))/LOG(2))))","v":{"$error":"#DIV/0!"}},null,{"$f":"N10","v":122},{"$f":"COUNTIF(L21:L27,AD10)","v":0},{"$f":"AE10/(AG4-AE7)","v":{"$error":"#DIV/0!"}},{"$f":"IF(AF10=0,0,(AF10*((LOG(AF10))/LOG(2))))","v":{"$error":"#DIV/0!"}},null,{"$f":"N10","v":122},{"$f":"COUNTIF(L28:L34,AI10)","v":0},{"$f":"AJ10/(AL4-AJ7)","v":{"$error":"#DIV/0!"}},{"$f":"IF(AK10=0,0,(AK10*((LOG(AK10))/LOG(2))))","v":{"$error":"#DIV/0!"}},null,{"$f":"N10","v":122},{"$f":"COUNTIF(L35:L41,AN10)","v":0},{"$f":"AO10/(AQ4-AO7)","v":{"$error":"#DIV/0!"}},{"$f":"IF(AP10=0,0,(AP10*((LOG(AP10))/LOG(2))))","v":{"$error":"#DIV/0!"}},null,{"$f":"N10","v":122},{"$f":"COUNTIF(L42:L48,AS10)","v":0},{"$f":"AT10/(AV4-AT7)","v":0},{"$f":"IF(AU10=0,0,(AU10*((LOG(AU10))/LOG(2))))","v":0}]
[11,594,11,601,11,611,null,null,null,null,0,111,null,211,{"$f":"COUNTIF($L$7:$L$500,N11)","v":0},{"$f":"O11/$Q$4","v":0},{"$f":"IF(P11=0,0,(P11*((LOG(P11))/LOG(2))))","v":0},null,null,{"$f":"N11","v":211},{"$f":"COUNTIF(L7:L13,T11)","v":0},{"$f":"U11/(W4-U7)","v":0},{"$f":"IF(V11=0,0,(V11*((LOG(V11))/LOG(2))))","v":0},null,{"$f":"N11","v":211},{"$f":"COUNTIF(L14:L20,Y11)","v":0},{"$f":"Z11/(AB4-Z7)","v":{"$error":"#DIV/0!"}},{"$f":"IF(AA11=0,0,(AA11*((LOG(AA11))/LOG(2))))","v":{"$error":"#DIV/0!"}},null,{"$f":"N11","v":211},{"$f":"COUNTIF(L21:L27,AD11)","v":0},{"$f":"AE11/(AG4-AE7)","v":{"$error":"#DIV/0!"}},{"$f":"IF(AF11=0,0,(AF11*((LOG(AF11))/LOG(2))))","v":{"$error":"#DIV/0!"}},null,{"$f":"N11","v":211},{"$f":"COUNTIF(L28:L34,AI11)","v":0},{"$f":"AJ11/(AL4-AJ7)","v":{"$error":"#DIV/0!"}},{"$f":"IF(AK11=0,0,(AK11*((LOG(AK11))/LOG(2))))","v":{"$error":"#DIV/0!"}},null,{"$f":"N11","v":211},{"$f":"COUNTIF(L35:L41,AN11)","v":0},{"$f":"AO11/(AQ4-AO7)","v":{"$error":"#DIV/0!"}},{"$f":"IF(AP11=0,0,(AP11*((LOG(AP11))/LOG(2))))","v":{"$error":"#DIV/0!"}},null,{"$f":"N11","v":211},{"$f":"COUNTIF(L42:L48,AS11)","v":0},{"$f":"AT11/(AV4-AT7)","v":0},{"$f":"IF(AU11=0,0,(AU11*((LOG(AU11))/LOG(2))))","v":0}]
[11,779,11,785,11,791,null,null,null,null,0,111,null,212,{"$f":"COUNTIF($L$7:$L$500,N12)","v":0},{"$f":"O12/$Q$4","v":0},{"$f":"IF(P12=0,0,(P12*((LOG(P12))/LOG(2))))","v":0},null,null,{"$f":"N12","v":212},{"$f":"COUNTIF(L7:L13,T12)","v":0},{"$f":"U12/(W4-U7)","v":0},{"$f":"IF(V12=0,0,(V12*((LOG(V12))/LOG(2))))","v":0},null,{"$f":"N12","v":212},{"$f":"COUNTIF(L14:L20,Y12)","v":0},{"$f":"Z12/(AB4-Z7)","v":{"$error":"#DIV/0!"}},{"$f":"IF(AA12=0,0,(AA12*((LOG(AA12))/LOG(2))))","v":{"$error":"#DIV/0!"}},null,{"$f":"N12","v":212},{"$f":"COUNTIF(L21:L27,AD12)","v":0},{"$f":"AE12/(AG4-AE7)","v":{"$error":"#DIV/0!"}},{"$f":"IF(AF12=0,0,(AF12*((LOG(AF12))/LOG(2))))","v":{"$error":"#DIV/0!"}},null,{"$f":"N12","v":212},{"$f":"COUNTIF(L28:L34,AI12)","v":0},{"$f":"AJ12/(AL4-AJ7)","v":{"$error":"#DIV/0!"}},{"$f":"IF(AK12=0,0,(AK12*((LOG(AK12))/LOG(2))))","v":{"$error":"#DIV/0!"}},null,{"$f":"N12","v":212},{"$f":"COUNTIF(L35:L41,AN12)","v":0},{"$f":"AO12/(AQ4-AO7)","v":{"$error":"#DIV/0!"}},{"$f":"IF(AP12=0,0,(AP12*((LOG(AP12))/LOG(2))))","v":{"$error":"#DIV/0!"}},null,{"$f":"N12","v":212},{"$f":"COUNTIF(L42:L48,AS12)","v":0},{"$f":"AT12/(AV4-AT7)","v":0},{"$f":"IF(AU12=0,0,(AU12*((LOG(AU12))/LOG(2))))","v":0}]
[11,936,11,942,11,948,null,null,null,null,0,111,null,221,{"$f":"COUNTIF($L$7:$L$500,N13)","v":0},{"$f":"O13/$Q$4","v":0},{"$f":"IF(P13=0,0,(P13*((LOG(P13))/LOG(2))))","v":0},null,null,{"$f":"N13","v":221},{"$f":"COUNTIF(L7:L13,T13)","v":0},{"$f":"U13/(W4-U7)","v":0},{"$f":"IF(V13=0,0,(V13*((LOG(V13))/LOG(2))))","v":0},null,{"$f":"N13","v":221},{"$f":"COUNTIF(L14:L20,Y13)","v":0},{"$f":"Z13/(AB4-Z7)","v":{"$error":"#DIV/0!"}},{"$f":"IF(AA13=0,0,(AA13*((LOG(AA13))/LOG(2))))","v":{"$error":"#DIV/0!"}},null,{"$f":"N13","v":221},{"$f":"COUNTIF(L21:L27,AD13)","v":0},{"$f":"AE13/(AG4-AE7)","v":{"$error":"#DIV/0!"}},{"$f":"IF(AF13=0,0,(AF13*((LOG(AF13))/LOG(2))))","v":{"$error":"#DIV/0!"}},null,{"$f":"N13","v":221},{"$f":"COUNTIF(L28:L34,AI13)","v":0},{"$f":"AJ13/(AL4-AJ7)","v":{"$error":"#DIV/0!"}},{"$f":"IF(AK13=0,0,(AK13*((LOG(AK13))/LOG(2))))","v":{"$error":"#DIV/0!"}},null,{"$f":"N13","v":221},{"$f":"COUNTIF(L35:L41,AN13)","v":0},{"$f":"AO13/(AQ4-AO7)","v":{"$error":"#DIV/0!"}},{"$f":"IF(AP13=0,0,(AP13*((LOG(AP13))/LOG(2))))","v":{"$error":"#DIV/0!"}},null,{"$f":"N13","v":221},{"$f":"COUNTIF(L42:L48,AS13)","v":0},{"$f":"AT13/(AV4-AT7)","v":0},{"$f":"IF(AU13=0,0,(AU13*((LOG(AU13))/LOG(2))))","v":0}]
[11,1150,11,1156,11,1162,null,null,null,null,0,111,null,222,{"$f":"COUNTIF($L$7:$L$500,N14)","v":1},{"$f":"O14/$Q$4","v":2.3809523809523808E-2},{"$f":"IF(P14=0,0,(P14*((LOG(P14))/LOG(2))))","v":-0.12838851006616095},null,null,{"$f":"N14","v":222},{"$f":"COUNTIF(L7:L13,T14)","v":0},{"$f":"U14/(W4-U7)","v":0},{"$f":"IF(V14=0,0,(V14*((LOG(V14))/LOG(2))))","v":0},null,{"$f":"N14","v":222},{"$f":"COUNTIF(L14:L20,Y14)","v":0},{"$f":"Z14/(AB4-Z7)","v":{"$error":"#DIV/0!"}},{"$f":"IF(AA14=0,0,(AA14*((LOG(AA14))/LOG(2))))","v":{"$error":"#DIV/0!"}},null,{"$f":"N14","v":222},{"$f":"COUNTIF(L21:L27,AD14)","v":0},{"$f":"AE14/(AG4-AE7)","v":{"$error":"#DIV/0!"}},{"$f":"IF(AF14=0,0,(AF14*((LOG(AF14))/LOG(2))))","v":{"$error":"#DIV/0!"}},null,{"$f":"N14","v":222},{"$f":"COUNTIF(L28:L34,AI14)","v":0},{"$f":"AJ14/(AL4-AJ7)","v":{"$error":"#DIV/0!"}},{"$f":"IF(AK14=0,0,(AK14*((LOG(AK14))/LOG(2))))","v":{"$error":"#DIV/0!"}},null,{"$f":"N14","v":222},{"$f":"COUNTIF(L35:L41,AN14)","v":0},{"$f":"AO14/(AQ4-AO7)","v":{"$error":"#DIV/0!"}},{"$f":"IF(AP14=0,0,(AP14*((LOG(AP14))/LOG(2))))","v":{"$error":"#DIV/0!"}},null,{"$f":"N14","v":222},{"$f":"COUNTIF(L42:L48,AS14)","v":1},{"$f":"AT14/(AV4-AT7)","v":1},{"$f":"IF(AU14=0,0,(AU14*((LOG(AU14))/LOG(2))))","v":0}]
[11,1288,11,1292,11,1299,null,null,null,null,0,111,null,null,null,{"$f":"SUM(P7:P14)","v":1},{"$f":"-SUM(Q7:Q14)","v":0.3238144752669867},null,null,null,null,{"$f":"SUM(V7:V14)","v":1},{"$f":"-SUM(W7:W14)","v":0},null,null,null,{"$f":"SUM(AA7:AA14)","v":{"$error":"#DIV/0!"}},{"$f":"-SUM(AB7:AB14)","v":{"$error":"#DIV/0!"}},null,null,null,{"$f":"SUM(AF7:AF14)","v":{"$error":"#DIV/0!"}},{"$f":"-SUM(AG7:AG14)","v":{"$error":"#DIV/0!"}},null,null,null,{"$f":"SUM(AK7:AK14)","v":{"$error":"#DIV/0!"}},{"$f":"-SUM(AL7:AL14)","v":{"$error":"#DIV/0!"}},null,null,null,{"$f":"SUM(AP7:AP14)","v":{"$error":"#DIV/0!"}},{"$f":"-SUM(AQ7:AQ14)","v":{"$error":"#DIV/0!"}},null,null,null,{"$f":"SUM(AU7:AU14)","v":1},{"$f":"-SUM(AV7:AV14)","v":0}]
[11,1427,11,1437,11,1444,null,null,null,null,0,111,null,null,null,"U=",{"$f":"Q15/(LOG(Q4)/LOG(2))","v":6.0051078206022804E-2},null,null,null,null,"U1=",{"$f":"W15/(LOG(W4)/LOG(2))","v":0},null,null,null,"U2=",{"$f":"AB15/(LOG(AB4)/LOG(2))","v":{"$error":"#DIV/0!"}},null,null,null,"U3=",{"$f":"AG15/(LOG(AG4)/LOG(2))","v":{"$error":"#DIV/0!"}},null,null,null,"U4=",{"$f":"AL15/(LOG(AL4)/LOG(2))","v":{"$error":"#DIV/0!"}},null,null,null,"U5=",{"$f":"AQ15/(LOG(AQ4)/LOG(2))","v":{"$error":"#DIV/0!"}},null,null,null,"U6=",{"$f":"AV15/(LOG(AV4)/LOG(2))","v":0}]
[11,1638,11,1643,11,1650,null,null,null,null,0,111]
[11,1864,11,1868,11,1875,null,null,null,null,0,111]
[11,2064,11,2075,11,2100,null,null,null,null,0,111,null,"Total Target Seq"]
[11,2244,11,2249,11,2255,null,null,null,null,0,111,null,{"$f":"COUNTIF(L7:L48,G3)","v":40},null,7,7,7,7,7,7]
[11,2431,11,2437,11,2443,null,null,null,null,0,111,null,null,null,"% of reinforcement given in 6 equal intervals based on number of trials "]
[11,2703,11,2708,11,2714,null,null,null,null,0,111,null,null,null,"%_1","%_2","%_3","%_4","%_5","%_6"]
[11,2873,11,2877,11,2884,null,null,null,null,0,111,null,null,"target sequence",{"$f":"$G$3","v":111},{"$f":"$G$3","v":111},{"$f":"$G$3","v":111},{"$f":"$G$3","v":111},{"$f":"$G$3","v":111},{"$f":"$G$3","v":111}]
[11,3005,11,3011,11,3018,null,null,null,null,0,111,null,null,"total reinforcement",{"$f":"U7","v":6},{"$f":"Z7","v":7},{"$f":"AE7","v":7},{"$f":"AJ7","v":7},{"$f":"AO7","v":7},{"$f":"AT7","v":6}]
[11,3184,11,3191,11,3198,null,null,null,null,0,111,null,null,"% target"]
[11,3363,11,3369,11,3375,null,null,null,null,0,111,null,null,"CCRF"]
[11,3559,11,3565,11,3576,null,null,null,null,0,111,null,null,"% CCRf"]
[11,3799,11,3811,11,3817,null,null,null,null,0,111,null,null,"average response rate",{"$f":"F13/P20","v":135.42857142857142},{"$f":"(F20-F13)/Q20","v":186.71428571428572},{"$f":"(F27-F20)/R20","v":188.71428571428572},{"$f":"(F34-F27)/S20","v":215.28571428571428},{"$f":"(F41-F34)/T20","v":209.71428571428572},{"$f":"(F48-F41)/U20","v":255.85714285714286}]
[11,4081,11,4086,11,4092,null,null,null,null,0,111]
[11,4208,11,4214,11,4220,null,null,null,null,0,111]
[11,4421,11,4427,11,4433,null,null,null,null,0,111]
[11,4614,11,4620,11,4627,null,null,null,null,0,111]
[11,4880,11,4886,11,4892,null,null,null,null,0,111]
[11,5059,11,5066,11,5083,null,null,null,null,0,111]
[11,5281,11,5288,11,5295,null,null,null,null,0,111]
[11,5485,11,5489,11,5496,null,null,null,null,0,111]
[11,5630,11,5637,11,5644,null,null,null,null,0,111]
[11,5841,11,5844,11,5850,null,null,null,null,0,111]
[11,6086,11,6092,11,6098,null,null,null,null,0,111]
[11,6273,11,6279,11,6292,null,null,null,null,0,111]
[11,6544,11,6548,11,6551,null,null,null,null,0,111]
[11,6858,11,6862,11,6868,null,null,null,null,0,111]
[11,7092,11,7097,11,7105,null,null,null,null,0,111]
[11,7276,11,7279,11,7287,null,null,null,null,0,111]
[11,7450,11,7454,11,7461,null,null,null,null,0,111]
[22,8029,24,8032,24,8039,null,null,null,null,0,222]
[11,8133,11,8140,11,8147,null,null,null,null,0,111]
[11,8325,11,8330,11,8342,null,null,null,null,1,111]

{"sheet":"!M624B3D.ust","index":5,"n_rows":47,"n_cols":48,"rows_kept":47,"cut":false,"hidden":false,"merged":[[4,39,4,42],[5,39,5,40],[4,44,4,47],[5,44,5,45],[4,24,4,27],[5,24,5,25],[4,29,4,32],[5,29,5,30],[4,34,4,37],[5,34,5,35],[1,1,1,2],[5,13,5,14],[18,13,18,14],[19,13,19,14],[4,19,4,22],[5,19,5,20]]}
["Report for:!M624B3D.ust"]
["Date:","<date>"]
["Hen:","<hen>",null,null,null,"Correct Sequence",{"$f":"Start!J2","v":111},null,null,null,null,null,null,null,null,"Total Sequences in Data",{"$f":"4994-COUNTBLANK(L7:L5000)","v":41},null,null,null,null,"Total Sequences in Block Data",{"$f":"COUNTA(L7:L13)","v":7},null,null,null,"Total Sequences in Block Data",{"$f":"COUNTA(L14:L20)","v":7},null,null,null,"Total Sequences in Block Data",{"$f":"COUNTA(L21:L26)","v":6},null,null,null,"Total Sequences in Block Data",{"$f":"COUNTA(L27:L33)","v":7},null,null,null,"Total Sequences in Block Data",{"$f":"COUNTA(L34:L40)","v":7},null,null,null,"Total Sequences in Block Data",{"$f":"COUNTA(L41:L47)","v":7}]
[null,null,null,null,null,null,null,null,null,null,null,null,null,null,null,"Total Sequences in Summary",{"$f":"SUM(O7:O14)","v":41},null,null,null,null,"Total Sequences in Block Summary",{"$f":"SUM(U7:U14)","v":7},null,null,null,"Total Sequences in Block Summary",{"$f":"SUM(Z7:Z14)","v":7},null,null,null,"Total Sequences in Block Summary",{"$f":"SUM(AE7:AE14)","v":6},null,null,null,"Total Sequences in Block Summary",{"$f":"SUM(AJ7:AJ14)","v":7},null,null,null,"Total Sequences in Block Summary",{"$f":"SUM(AO7:AO14)","v":7},null,null,null,"Total Sequences in Block Summary",{"$f":"SUM(AT7:AT14)","v":7}]
[null,null,null,null,null,null,null,null,null,null,null,null,null,null,null,null,null,null,null,"Block 1",null,null,null,null,"Block 2",null,null,null,null,"Block 3",null,null,null,null,"Block 4",null,null,null,null,"Block 5",null,null,null,null,"Block 6"]
["Sequence\nComponent\n1","Time\n1","Sequence\nComponent\n2","Time\n2","Sequence\nComponent\n3","Time\n3","Sequence\nComponent\n4","Time\n4","Sequence\nComponent\n5","Time\n5","Correct?\n0=No 1=Yes","Sequence",null,"Frequency",null,"Relative Frequency","Variability",null,null,"Frequency",null,"Relative Frequency","Variability",null,"Frequency",null,"Relative Frequency","Variability",null,"Frequency",null,"Relative Frequency","Variability",null,"Frequency",null,"Relative Frequency","Variability",null,"Frequency",null,"Relative Frequency","Variability",null,"Frequency",null,"Relative Frequency","Variability"]
[22,8,24,13,24,18,null,null,null,null,0,222,null,111,{"$f":"COUNTIF($L$7:$L$500,N7)","v":40},{"$f":"O7/$Q$4","v":0.97560975609756095},{"$f":"IF(P7=0,0,(P7*((LOG(P7))/LOG(2))))","v":-3.4755033883630611E-2},null,null,{"$f":"N7","v":111},{"$f":"COUNTIF(L7:L13,T7)","v":6},null,null,null,{"$f":"N7","v":111},{"$f":"COUNTIF(L14:L20,Y7)","v":7},null,null,null,{"$f":"N7","v":111},{"$f":"COUNTIF(L21:L26,AD7)","v":6},null,null,null,{"$f":"N7","v":111},{"$f":"COUNTIF(L27:L33,AI7)","v":7},null,null,null,{"$f":"N7","v":111},{"$f":"COUNTIF(L34:L40,AN7)","v":7},null,null,null,{"$f":"N7","v":111},{"$f":"COUNTIF(L41:L47,AS7)","v":7}]
[11,120,11,127,11,137,null,null,null,null,0,111,null,112,{"$f":"COUNTIF($L$7:$L$500,N8)","v":0},{"$f":"O8/$Q$4","v":0},{"$f":"IF(P8=0,0,(P8*((LOG(P8))/LOG(2))))","v":0},null,null,{"$f":"N8","v":112},{"$f":"COUNTIF(L7:L13,T8)","v":0},{"$f":"U8/(W4-U7)","v":0},{"$f":"IF(V8=0,0,(V8*((LOG(V8))/LOG(2))))","v":0},null,{"$f":"N8","v":112},{"$f":"COUNTIF(L14:L20,Y8)","v":0},{"$f":"Z8/(AB4-Z7)","v":{"$error":"#DIV/0!"}},{"$f":"IF(AA8=0,0,(AA8*((LOG(AA8))/LOG(2))))","v":{"$error":"#DIV/0!"}},null,{"$f":"N8","v":112},{"$f":"COUNTIF(L21:L26,AD8)","v":0},{"$f":"AE8/(AG4-AE7)","v":{"$error":"#DIV/0!"}},{"$f":"IF(AF8=0,0,(AF8*((LOG(AF8))/LOG(2))))","v":{"$error":"#DIV/0!"}},null,{"$f":"N8","v":112},{"$f":"COUNTIF(L27:L33,AI8)","v":0},{"$f":"AJ8/(AL4-AJ7)","v":{"$error":"#DIV/0!"}},{"$f":"IF(AK8=0,0,(AK8*((LOG(AK8))/LOG(2))))","v":{"$error":"#DIV/0!"}},null,{"$f":"N8","v":112},{"$f":"COUNTIF(L34:L40,AN8)","v":0},{"$f":"AO8/(AQ4-AO7)","v":{"$error":"#DIV/0!"}},{"$f":"IF(AP8=0,0,(AP8*((LOG(AP8))/LOG(2))))","v":{"$error":"#DIV/0!"}},null,{"$f":"N8","v":112},{"$f":"COUNTIF(L41:L47,AS8)","v":0},{"$f":"AT8/(AV4-AT7)","v":{"$error":"#DIV/0!"}},{"$f":"IF(AU8=0,0,(AU8*((LOG(AU8))/LOG(2))))","v":{"$error":"#DIV/0!"}}]
[11,300,11,309,11,314,null,null,null,null,0,111,null,121,{"$f":"COUNTIF($L$7:$L$500,N9)","v":0},{"$f":"O9/$Q$4","v":0},{"$f":"IF(P9=0,0,(P9*((LOG(P9))/LOG(2))))","v":0},null,null,{"$f":"N9","v":121},{"$f":"COUNTIF(L7:L13,T9)","v":0},{"$f":"U9/(W4-U7)","v":0},{"$f":"IF(V9=0,0,(V9*((LOG(V9))/LOG(2))))","v":0},null,{"$f":"N9","v":121},{"$f":"COUNTIF(L14:L20,Y9)","v":0},{"$f":"Z9/(AB4-Z7)","v":{"$error":"#DIV/0!"}},{"$f":"IF(AA9=0,0,(AA9*((LOG(AA9))/LOG(2))))","v":{"$error":"#DIV/0!"}},null,{"$f":"N9","v":121},{"$f":"COUNTIF(L21:L26,AD9)","v":0},{"$f":"AE9/(AG4-AE7)","v":{"$error":"#DIV/0!"}},{"$f":"IF(AF9=0,0,(AF9*((LOG(AF9))/LOG(2))))","v":{"$error":"#DIV/0!"}},null,{"$f":"N9","v":121},{"$f":"COUNTIF(L27:L33,AI9)","v":0},{"$f":"AJ9/(AL4-AJ7)","v":{"$error":"#DIV/0!"}},{"$f":"IF(AK9=0,0,(AK9*((LOG(AK9))/LOG(2))))","v":{"$error":"#DIV/0!"}},null,{"$f":"N9","v":121},{"$f":"COUNTIF(L34:L40,AN9)","v":0},{"$f":"AO9/(AQ4-AO7)","v":{"$error":"#DIV/0!"}},{"$f":"IF(AP9=0,0,(AP9*((LOG(AP9))/LOG(2))))","v":{"$error":"#DIV/0!"}},null,{"$f":"N9","v":121},{"$f":"COUNTIF(L41:L47,AS9)","v":0},{"$f":"AT9/(AV4-AT7)","v":{"$error":"#DIV/0!"}},{"$f":"IF(AU9=0,0,(AU9*((LOG(AU9))/LOG(2))))","v":{"$error":"#DIV/0!"}}]
[11,507,11,513,11,527,null,null,null,null,0,111,null,122,{"$f":"COUNTIF($L$7:$L$500,N10)","v":0},{"$f":"O10/$Q$4","v":0},{"$f":"IF(P10=0,0,(P10*((LOG(P10))/LOG(2))))","v":0},null,null,{"$f":"N10","v":122},{"$f":"COUNTIF(L7:L13,T10)","v":0},{"$f":"U10/(W4-U7)","v":0},{"$f":"IF(V10=0,0,(V10*((LOG(V10))/LOG(2))))","v":0},null,{"$f":"N10","v":122},{"$f":"COUNTIF(L14:L20,Y10)","v":0},{"$f":"Z10/(AB4-Z7)","v":{"$error":"#DIV/0!"}},{"$f":"IF(AA10=0,0,(AA10*((LOG(AA10))/LOG(2))))","v":{"$error":"#DIV/0!"}},null,{"$f":"N10","v":122},{"$f":"COUNTIF(L21:L26,AD10)","v":0},{"$f":"AE10/(AG4-AE7)","v":{"$error":"#DIV/0!"}},{"$f":"IF(AF10=0,0,(AF10*((LOG(AF10))/LOG(2))))","v":{"$error":"#DIV/0!"}},null,{"$f":"N10","v":122},{"$f":"COUNTIF(L27:L33,AI10)","v":0},{"$f":"AJ10/(AL4-AJ7)","v":{"$error":"#DIV/0!"}},{"$f":"IF(AK10=0,0,(AK10*((LOG(AK10))/LOG(2))))","v":{"$error":"#DIV/0!"}},null,{"$f":"N10","v":122},{"$f":"COUNTIF(L34:L40,AN10)","v":0},{"$f":"AO10/(AQ4-AO7)","v":{"$error":"#DIV/0!"}},{"$f":"IF(AP10=0,0,(AP10*((LOG(AP10))/LOG(2))))","v":{"$error":"#DIV/0!"}},null,{"$f":"N10","v":122},{"$f":"COUNTIF(L41:L47,AS10)","v":0},{"$f":"AT10/(AV4-AT7)","v":{"$error":"#DIV/0!"}},{"$f":"IF(AU10=0,0,(AU10*((LOG(AU10))/LOG(2))))","v":{"$error":"#DIV/0!"}}]
[11,826,11,834,11,865,null,null,null,null,0,111,null,211,{"$f":"COUNTIF($L$7:$L$500,N11)","v":0},{"$f":"O11/$Q$4","v":0},{"$f":"IF(P11=0,0,(P11*((LOG(P11))/LOG(2))))","v":0},null,null,{"$f":"N11","v":211},{"$f":"COUNTIF(L7:L13,T11)","v":0},{"$f":"U11/(W4-U7)","v":0},{"$f":"IF(V11=0,0,(V11*((LOG(V11))/LOG(2))))","v":0},null,{"$f":"N11","v":211},{"$f":"COUNTIF(L14:L20,Y11)","v":0},{"$f":"Z11/(AB4-Z7)","v":{"$error":"#DIV/0!"}},{"$f":"IF(AA11=0,0,(AA11*((LOG(AA11))/LOG(2))))","v":{"$error":"#DIV/0!"}},null,{"$f":"N11","v":211},{"$f":"COUNTIF(L21:L26,AD11)","v":0},{"$f":"AE11/(AG4-AE7)","v":{"$error":"#DIV/0!"}},{"$f":"IF(AF11=0,0,(AF11*((LOG(AF11))/LOG(2))))","v":{"$error":"#DIV/0!"}},null,{"$f":"N11","v":211},{"$f":"COUNTIF(L27:L33,AI11)","v":0},{"$f":"AJ11/(AL4-AJ7)","v":{"$error":"#DIV/0!"}},{"$f":"IF(AK11=0,0,(AK11*((LOG(AK11))/LOG(2))))","v":{"$error":"#DIV/0!"}},null,{"$f":"N11","v":211},{"$f":"COUNTIF(L34:L40,AN11)","v":0},{"$f":"AO11/(AQ4-AO7)","v":{"$error":"#DIV/0!"}},{"$f":"IF(AP11=0,0,(AP11*((LOG(AP11))/LOG(2))))","v":{"$error":"#DIV/0!"}},null,{"$f":"N11","v":211},{"$f":"COUNTIF(L41:L47,AS11)","v":0},{"$f":"AT11/(AV4-AT7)","v":{"$error":"#DIV/0!"}},{"$f":"IF(AU11=0,0,(AU11*((LOG(AU11))/LOG(2))))","v":{"$error":"#DIV/0!"}}]
[11,1022,11,1029,11,1036,null,null,null,null,0,111,null,212,{"$f":"COUNTIF($L$7:$L$500,N12)","v":0},{"$f":"O12/$Q$4","v":0},{"$f":"IF(P12=0,0,(P12*((LOG(P12))/LOG(2))))","v":0},null,null,{"$f":"N12","v":212},{"$f":"COUNTIF(L7:L13,T12)","v":0},{"$f":"U12/(W4-U7)","v":0},{"$f":"IF(V12=0,0,(V12*((LOG(V12))/LOG(2))))","v":0},null,{"$f":"N12","v":212},{"$f":"COUNTIF(L14:L20,Y12)","v":0},{"$f":"Z12/(AB4-Z7)","v":{"$error":"#DIV/0!"}},{"$f":"IF(AA12=0,0,(AA12*((LOG(AA12))/LOG(2))))","v":{"$error":"#DIV/0!"}},null,{"$f":"N12","v":212},{"$f":"COUNTIF(L21:L26,AD12)","v":0},{"$f":"AE12/(AG4-AE7)","v":{"$error":"#DIV/0!"}},{"$f":"IF(AF12=0,0,(AF12*((LOG(AF12))/LOG(2))))","v":{"$error":"#DIV/0!"}},null,{"$f":"N12","v":212},{"$f":"COUNTIF(L27:L33,AI12)","v":0},{"$f":"AJ12/(AL4-AJ7)","v":{"$error":"#DIV/0!"}},{"$f":"IF(AK12=0,0,(AK12*((LOG(AK12))/LOG(2))))","v":{"$error":"#DIV/0!"}},null,{"$f":"N12","v":212},{"$f":"COUNTIF(L34:L40,AN12)","v":0},{"$f":"AO12/(AQ4-AO7)","v":{"$error":"#DIV/0!"}},{"$f":"IF(AP12=0,0,(AP12*((LOG(AP12))/LOG(2))))","v":{"$error":"#DIV/0!"}},null,{"$f":"N12","v":212},{"$f":"COUNTIF(L41:L47,AS12)","v":0},{"$f":"AT12/(AV4-AT7)","v":{"$error":"#DIV/0!"}},{"$f":"IF(AU12=0,0,(AU12*((LOG(AU12))/LOG(2))))","v":{"$error":"#DIV/0!"}}]
[11,1217,11,1222,11,1228,null,null,null,null,0,111,null,221,{"$f":"COUNTIF($L$7:$L$500,N13)","v":0},{"$f":"O13/$Q$4","v":0},{"$f":"IF(P13=0,0,(P13*((LOG(P13))/LOG(2))))","v":0},null,null,{"$f":"N13","v":221},{"$f":"COUNTIF(L7:L13,T13)","v":0},{"$f":"U13/(W4-U7)","v":0},{"$f":"IF(V13=0,0,(V13*((LOG(V13))/LOG(2))))","v":0},null,{"$f":"N13","v":221},{"$f":"COUNTIF(L14:L20,Y13)","v":0},{"$f":"Z13/(AB4-Z7)","v":{"$error":"#DIV/0!"}},{"$f":"IF(AA13=0,0,(AA13*((LOG(AA13))/LOG(2))))","v":{"$error":"#DIV/0!"}},null,{"$f":"N13","v":221},{"$f":"COUNTIF(L21:L26,AD13)","v":0},{"$f":"AE13/(AG4-AE7)","v":{"$error":"#DIV/0!"}},{"$f":"IF(AF13=0,0,(AF13*((LOG(AF13))/LOG(2))))","v":{"$error":"#DIV/0!"}},null,{"$f":"N13","v":221},{"$f":"COUNTIF(L27:L33,AI13)","v":0},{"$f":"AJ13/(AL4-AJ7)","v":{"$error":"#DIV/0!"}},{"$f":"IF(AK13=0,0,(AK13*((LOG(AK13))/LOG(2))))","v":{"$error":"#DIV/0!"}},null,{"$f":"N13","v":221},{"$f":"COUNTIF(L34:L40,AN13)","v":0},{"$f":"AO13/(AQ4-AO7)","v":{"$error":"#DIV/0!"}},{"$f":"IF(AP13=0,0,(AP13*((LOG(AP13))/LOG(2))))","v":{"$error":"#DIV/0!"}},null,{"$f":"N13","v":221},{"$f":"COUNTIF(L41:L47,AS13)","v":0},{"$f":"AT13/(AV4-AT7)","v":{"$error":"#DIV/0!"}},{"$f":"IF(AU13=0,0,(AU13*((LOG(AU13))/LOG(2))))","v":{"$error":"#DIV/0!"}}]
[11,1428,11,1436,11,1442,null,null,null,null,0,111,null,222,{"$f":"COUNTIF($L$7:$L$500,N14)","v":1},{"$f":"O14/$Q$4","v":2.4390243902439025E-2},{"$f":"IF(P14=0,0,(P14*((LOG(P14))/LOG(2))))","v":-0.13067200011263619},null,null,{"$f":"N14","v":222},{"$f":"COUNTIF(L7:L13,T14)","v":1},{"$f":"U14/(W4-U7)","v":1},{"$f":"IF(V14=0,0,(V14*((LOG(V14))/LOG(2))))","v":0},null,{"$f":"N14","v":222},{"$f":"COUNTIF(L14:L20,Y14)","v":0},{"$f":"Z14/(AB4-Z7)","v":{"$error":"#DIV/0!"}},{"$f":"IF(AA14=0,0,(AA14*((LOG(AA14))/LOG(2))))","v":{"$error":"#DIV/0!"}},null,{"$f":"N14","v":222},{"$f":"COUNTIF(L21:L26,AD14)","v":0},{"$f":"AE14/(AG4-AE7)","v":{"$error":"#DIV/0!"}},{"$f":"IF(AF14=0,0,(AF14*((LOG(AF14))/LOG(2))))","v":{"$error":"#DIV/0!"}},null,{"$f":"N14","v":222},{"$f":"COUNTIF(L27:L33,AI14)","v":0},{"$f":"AJ14/(AL4-AJ7)","v":{"$error":"#DIV/0!"}},{"$f":"IF(AK14=0,0,(AK14*((LOG(AK14))/LOG(2))))","v":{"$error":"#DIV/0!"}},null,{"$f":"N14","v":222},{"$f":"COUNTIF(L34:L40,AN14)","v":0},{"$f":"AO14/(AQ4-AO7)","v":{"$error":"#DIV/0!"}},{"$f":"IF(AP14=0,0,(AP14*((LOG(AP14))/LOG(2))))","v":{"$error":"#DIV/0!"}},null,{"$f":"N14","v":222},{"$f":"COUNTIF(L41:L47,AS14)","v":0},{"$f":"AT14/(AV4-AT7)","v":{"$error":"#DIV/0!"}},{"$f":"IF(AU14=0,0,(AU14*((LOG(AU14))/LOG(2))))","v":{"$error":"#DIV/0!"}}]
[11,1668,11,1673,11,1679,null,null,null,null,0,111,null,null,null,{"$f":"SUM(P7:P14)","v":1},{"$f":"-SUM(Q7:Q14)","v":0.16542703399626679},null,null,null,null,{"$f":"SUM(V7:V14)","v":1},{"$f":"-SUM(W7:W14)","v":0},null,null,null,{"$f":"SUM(AA7:AA14)","v":{"$error":"#DIV/0!"}},{"$f":"-SUM(AB7:AB14)","v":{"$error":"#DIV/0!"}},null,null,null,{"$f":"SUM(AF7:AF14)","v":{"$error":"#DIV/0!"}},{"$f":"-SUM(AG7:AG14)","v":{"$error":"#DIV/0!"}},null,null,null,{"$f":"SUM(AK7:AK14)","v":{"$error":"#DIV/0!"}},{"$f":"-SUM(AL7:AL14)","v":{"$error":"#DIV/0!"}},null,null,null,{"$f":"SUM(AP7:AP14)","v":{"$error":"#DIV/0!"}},{"$f":"-SUM(AQ7:AQ14)","v":{"$error":"#DIV/0!"}},null,null,null,{"$f":"SUM(AU7:AU14)","v":{"$error":"#DIV/0!"}},{"$f":"-SUM(AV7:AV14)","v":{"$error":"#DIV/0!"}}]
[11,1963,11,1968,11,1988,null,null,null,null,0,111,null,null,null,"U=",{"$f":"Q15/(LOG(Q4)/LOG(2))","v":3.0877354779509855E-2},null,null,null,null,"U1=",{"$f":"W15/(LOG(W4)/LOG(2))","v":0},null,null,null,"U2=",{"$f":"AB15/(LOG(AB4)/LOG(2))","v":{"$error":"#DIV/0!"}},null,null,null,"U3=",{"$f":"AG15/(LOG(AG4)/LOG(2))","v":{"$error":"#DIV/0!"}},null,null,null,"U4=",{"$f":"AL15/(LOG(AL4)/LOG(2))","v":{"$error":"#DIV/0!"}},null,null,null,"U5=",{"$f":"AQ15/(LOG(AQ4)/LOG(2))","v":{"$error":"#DIV/0!"}},null,null,null,"U6=",{"$f":"AV15/(LOG(AV4)/LOG(2))","v":{"$error":"#DIV/0!"}}]
[11,2109,11,2114,11,2120,null,null,null,null,0,111]
[11,2280,11,2286,11,2293,null,null,null,null,0,111]
[11,2450,11,2460,11,2468,null,null,null,null,0,111,null,"Total Target Seq"]
[11,2683,11,2689,11,2695,null,null,null,null,0,111,null,{"$f":"COUNTIF(L7:L47,G3)","v":40},null,7,7,6,7,7,7]
[11,2865,11,2872,11,2892,null,null,null,null,0,111,null,null,null,"% of reinforcement given in 6 equal intervals based on number of trials "]
[11,3132,11,3137,11,3143,null,null,null,null,0,111,null,null,null,"%_1","%_2","%_3","%_4","%_5","%_6"]
[11,3344,11,3349,11,3350,null,null,null,null,0,111,null,null,"target sequence",{"$f":"$G$3","v":111},{"$f":"$G$3","v":111},{"$f":"$G$3","v":111},{"$f":"$G$3","v":111},{"$f":"$G$3","v":111},{"$f":"$G$3","v":111}]
[11,3534,11,3549,11,3582,null,null,null,null,0,111,null,null,"total reinforcement",{"$f":"U7","v":6},{"$f":"Z7","v":7},{"$f":"AE7","v":6},{"$f":"AJ7","v":7},{"$f":"AO7","v":7},{"$f":"AT7","v":7}]
[11,3853,11,3859,11,3865,null,null,null,null,0,111,null,null,"% target"]
[11,4105,11,4109,11,4115,null,null,null,null,0,111,null,null,"CCRF"]
[11,4348,11,4358,11,4365,null,null,null,null,0,111,null,null,"% CCRf"]
[11,4563,11,4568,11,4575,null,null,null,null,0,111,null,null,"average response rate",{"$f":"F13/P20","v":175.42857142857142},{"$f":"(F20-F13)/Q20","v":209.57142857142858},{"$f":"(F26-F20)/R20","v":236.66666666666666},{"$f":"(F33-F26)/S20","v":286},{"$f":"(F40-F33)/T20","v":263.42857142857144},{"$f":"(F47-F40)/U20","v":249.14285714285714}]
[11,4737,11,4741,11,4748,null,null,null,null,0,111]
[11,5084,11,5086,11,5092,null,null,null,null,0,111]
[11,5238,11,5244,11,5250,null,null,null,null,0,111]
[11,5472,11,5478,11,5486,null,null,null,null,0,111]
[11,6081,11,6104,11,6117,null,null,null,null,0,111]
[11,6327,11,6333,11,6339,null,null,null,null,0,111]
[11,6533,11,6534,11,6542,null,null,null,null,0,111]
[11,6819,11,6825,11,6832,null,null,null,null,0,111]
[11,7105,11,7110,11,7122,null,null,null,null,0,111]
[11,7371,11,7375,11,7380,null,null,null,null,0,111]
[11,7607,11,7613,11,7644,null,null,null,null,0,111]
[11,7950,11,7955,11,7961,null,null,null,null,0,111]
[11,8121,11,8125,11,8133,null,null,null,null,0,111]
[11,8444,11,8449,11,8455,null,null,null,null,0,111]
[11,8605,11,8614,11,8626,null,null,null,null,0,111]
[11,9006,11,9012,11,9019,null,null,null,null,0,111]
[11,9176,11,9182,11,9204,null,null,null,null,0,111]
[11,9390,11,9395,11,9402,null,null,null,null,0,111]
[11,9690,11,9698,11,9705,null,null,null,null,1,111]

{"sheet":"!M625A5D.ust","index":6,"n_rows":47,"n_cols":48,"rows_kept":47,"cut":false,"hidden":false,"merged":[[4,39,4,42],[5,39,5,40],[4,44,4,47],[5,44,5,45],[4,24,4,27],[5,24,5,25],[4,29,4,32],[5,29,5,30],[4,34,4,37],[5,34,5,35],[1,1,1,2],[5,13,5,14],[18,13,18,14],[19,13,19,14],[4,19,4,22],[5,19,5,20]]}
["Report for:!M625A5D.ust"]
["Date:","<date>"]
["Hen:","<hen>",null,null,null,"Correct Sequence",{"$f":"Start!J2","v":111},null,null,null,null,null,null,null,null,"Total Sequences in Data",{"$f":"4994-COUNTBLANK(L7:L5000)","v":41},null,null,null,null,"Total Sequences in Block Data",{"$f":"COUNTA(L7:L13)","v":7},null,null,null,"Total Sequences in Block Data",{"$f":"COUNTA(L14:L20)","v":7},null,null,null,"Total Sequences in Block Data",{"$f":"COUNTA(L21:L26)","v":6},null,null,null,"Total Sequences in Block Data",{"$f":"COUNTA(L27:L33)","v":7},null,null,null,"Total Sequences in Block Data",{"$f":"COUNTA(L34:L40)","v":7},null,null,null,"Total Sequences in Block Data",{"$f":"COUNTA(L41:L47)","v":7}]
[null,null,null,null,null,null,null,null,null,null,null,null,null,null,null,"Total Sequences in Summary",{"$f":"SUM(O7:O14)","v":41},null,null,null,null,"Total Sequences in Block Summary",{"$f":"SUM(U7:U14)","v":7},null,null,null,"Total Sequences in Block Summary",{"$f":"SUM(Z7:Z14)","v":7},null,null,null,"Total Sequences in Block Summary",{"$f":"SUM(AE7:AE14)","v":6},null,null,null,"Total Sequences in Block Summary",{"$f":"SUM(AJ7:AJ14)","v":7},null,null,null,"Total Sequences in Block Summary",{"$f":"SUM(AO7:AO14)","v":7},null,null,null,"Total Sequences in Block Summary",{"$f":"SUM(AT7:AT14)","v":7}]
[null,null,null,null,null,null,null,null,null,null,null,null,null,null,null,null,null,null,null,"Block 1",null,null,null,null,"Block 2",null,null,null,null,"Block 3",null,null,null,null,"Block 4",null,null,null,null,"Block 5",null,null,null,null,"Block 6"]
["Sequence\nComponent\n1","Time\n1","Sequence\nComponent\n2","Time\n2","Sequence\nComponent\n3","Time\n3","Sequence\nComponent\n4","Time\n4","Sequence\nComponent\n5","Time\n5","Correct?\n0=No 1=Yes","Sequence",null,"Frequency",null,"Relative Frequency","Variability",null,null,"Frequency",null,"Relative Frequency","Variability",null,"Frequency",null,"Relative Frequency","Variability",null,"Frequency",null,"Relative Frequency","Variability",null,"Frequency",null,"Relative Frequency","Variability",null,"Frequency",null,"Relative Frequency","Variability",null,"Frequency",null,"Relative Frequency","Variability"]
[11,6,22,17,24,22,null,null,null,null,0,122,null,111,{"$f":"COUNTIF($L$7:$L$500,N7)","v":40},{"$f":"O7/$Q$4","v":0.97560975609756095},{"$f":"IF(P7=0,0,(P7*((LOG(P7))/LOG(2))))","v":-3.4755033883630611E-2},null,null,{"$f":"N7","v":111},{"$f":"COUNTIF(L7:L13,T7)","v":6},null,null,null,{"$f":"N7","v":111},{"$f":"COUNTIF(L14:L20,Y7)","v":7},null,null,null,{"$f":"N7","v":111},{"$f":"COUNTIF(L21:L26,AD7)","v":6},null,null,null,{"$f":"N7","v":111},{"$f":"COUNTIF(L27:L33,AI7)","v":7},null,null,null,{"$f":"N7","v":111},{"$f":"COUNTIF(L34:L40,AN7)","v":7},null,null,null,{"$f":"N7","v":111},{"$f":"COUNTIF(L41:L47,AS7)","v":7}]
[11,120,11,124,11,130,null,null,null,null,0,111,null,112,{"$f":"COUNTIF($L$7:$L$500,N8)","v":0},{"$f":"O8/$Q$4","v":0},{"$f":"IF(P8=0,0,(P8*((LOG(P8))/LOG(2))))","v":0},null,null,{"$f":"N8","v":112},{"$f":"COUNTIF(L7:L13,T8)","v":0},{"$f":"U8/(W4-U7)","v":0},{"$f":"IF(V8=0,0,(V8*((LOG(V8))/LOG(2))))","v":0},null,{"$f":"N8","v":112},{"$f":"COUNTIF(L14:L20,Y8)","v":0},{"$f":"Z8/(AB4-Z7)","v":{"$error":"#DIV/0!"}},{"$f":"IF(AA8=0,0,(AA8*((LOG(AA8))/LOG(2))))","v":{"$error":"#DIV/0!"}},null,{"$f":"N8","v":112},{"$f":"COUNTIF(L21:L26,AD8)","v":0},{"$f":"AE8/(AG4-AE7)","v":{"$error":"#DIV/0!"}},{"$f":"IF(AF8=0,0,(AF8*((LOG(AF8))/LOG(2))))","v":{"$error":"#DIV/0!"}},null,{"$f":"N8","v":112},{"$f":"COUNTIF(L27:L33,AI8)","v":0},{"$f":"AJ8/(AL4-AJ7)","v":{"$error":"#DIV/0!"}},{"$f":"IF(AK8=0,0,(AK8*((LOG(AK8))/LOG(2))))","v":{"$error":"#DIV/0!"}},null,{"$f":"N8","v":112},{"$f":"COUNTIF(L34:L40,AN8)","v":0},{"$f":"AO8/(AQ4-AO7)","v":{"$error":"#DIV/0!"}},{"$f":"IF(AP8=0,0,(AP8*((LOG(AP8))/LOG(2))))","v":{"$error":"#DIV/0!"}},null,{"$f":"N8","v":112},{"$f":"COUNTIF(L41:L47,AS8)","v":0},{"$f":"AT8/(AV4-AT7)","v":{"$error":"#DIV/0!"}},{"$f":"IF(AU8=0,0,(AU8*((LOG(AU8))/LOG(2))))","v":{"$error":"#DIV/0!"}}]
[11,274,11,279,11,286,null,null,null,null,0,111,null,121,{"$f":"COUNTIF($L$7:$L$500,N9)","v":0},{"$f":"O9/$Q$4","v":0},{"$f":"IF(P9=0,0,(P9*((LOG(P9))/LOG(2))))","v":0},null,null,{"$f":"N9","v":121},{"$f":"COUNTIF(L7:L13,T9)","v":0},{"$f":"U9/(W4-U7)","v":0},{"$f":"IF(V9=0,0,(V9*((LOG(V9))/LOG(2))))","v":0},null,{"$f":"N9","v":121},{"$f":"COUNTIF(L14:L20,Y9)","v":0},{"$f":"Z9/(AB4-Z7)","v":{"$error":"#DIV/0!"}},{"$f":"IF(AA9=0,0,(AA9*((LOG(AA9))/LOG(2))))","v":{"$error":"#DIV/0!"}},null,{"$f":"N9","v":121},{"$f":"COUNTIF(L21:L26,AD9)","v":0},{"$f":"AE9/(AG4-AE7)","v":{"$error":"#DIV/0!"}},{"$f":"IF(AF9=0,0,(AF9*((LOG(AF9))/LOG(2))))","v":{"$error":"#DIV/0!"}},null,{"$f":"N9","v":121},{"$f":"COUNTIF(L27:L33,AI9)","v":0},{"$f":"AJ9/(AL4-AJ7)","v":{"$error":"#DIV/0!"}},{"$f":"IF(AK9=0,0,(AK9*((LOG(AK9))/LOG(2))))","v":{"$error":"#DIV/0!"}},null,{"$f":"N9","v":121},{"$f":"COUNTIF(L34:L40,AN9)","v":0},{"$f":"AO9/(AQ4-AO7)","v":{"$error":"#DIV/0!"}},{"$f":"IF(AP9=0,0,(AP9*((LOG(AP9))/LOG(2))))","v":{"$error":"#DIV/0!"}},null,{"$f":"N9","v":121},{"$f":"COUNTIF(L41:L47,AS9)","v":0},{"$f":"AT9/(AV4-AT7)","v":{"$error":"#DIV/0!"}},{"$f":"IF(AU9=0,0,(AU9*((LOG(AU9))/LOG(2))))","v":{"$error":"#DIV/0!"}}]
[11,484,11,490,11,505,null,null,null,null,0,111,null,122,{"$f":"COUNTIF($L$7:$L$500,N10)","v":1},{"$f":"O10/$Q$4","v":2.4390243902439025E-2},{"$f":"IF(P10=0,0,(P10*((LOG(P10))/LOG(2))))","v":-0.13067200011263619},null,null,{"$f":"N10","v":122},{"$f":"COUNTIF(L7:L13,T10)","v":1},{"$f":"U10/(W4-U7)","v":1},{"$f":"IF(V10=0,0,(V10*((LOG(V10))/LOG(2))))","v":0},null,{"$f":"N10","v":122},{"$f":"COUNTIF(L14:L20,Y10)","v":0},{"$f":"Z10/(AB4-Z7)","v":{"$error":"#DIV/0!"}},{"$f":"IF(AA10=0,0,(AA10*((LOG(AA10))/LOG(2))))","v":{"$error":"#DIV/0!"}},null,{"$f":"N10","v":122},{"$f":"COUNTIF(L21:L26,AD10)","v":0},{"$f":"AE10/(AG4-AE7)","v":{"$error":"#DIV/0!"}},{"$f":"IF(AF10=0,0,(AF10*((LOG(AF10))/LOG(2))))","v":{"$error":"#DIV/0!"}},null,{"$f":"N10","v":122},{"$f":"COUNTIF(L27:L33,AI10)","v":0},{"$f":"AJ10/(AL4-AJ7)","v":{"$error":"#DIV/0!"}},{"$f":"IF(AK10=0,0,(AK10*((LOG(AK10))/LOG(2))))","v":{"$error":"#DIV/0!"}},null,{"$f":"N10","v":122},{"$f":"COUNTIF(L34:L40,AN10)","v":0},{"$f":"AO10/(AQ4-AO7)","v":{"$error":"#DIV/0!"}},{"$f":"IF(AP10=0,0,(AP10*((LOG(AP10))/LOG(2))))","v":{"$error":"#DIV/0!"}},null,{"$f":"N10","v":122},{"$f":"COUNTIF(L41:L47,AS10)","v":0},{"$f":"AT10/(AV4-AT7)","v":{"$error":"#DIV/0!"}},{"$f":"IF(AU10=0,0,(AU10*((LOG(AU10))/LOG(2))))","v":{"$error":"#DIV/0!"}}]
[11,644,11,651,11,657,null,null,null,null,0,111,null,211,{"$f":"COUNTIF($L$7:$L$500,N11)","v":0},{"$f":"O11/$Q$4","v":0},{"$f":"IF(P11=0,0,(P11*((LOG(P11))/LOG(2))))","v":0},null,null,{"$f":"N11","v":211},{"$f":"COUNTIF(L7:L13,T11)","v":0},{"$f":"U11/(W4-U7)","v":0},{"$f":"IF(V11=0,0,(V11*((LOG(V11))/LOG(2))))","v":0},null,{"$f":"N11","v":211},{"$f":"COUNTIF(L14:L20,Y11)","v":0},{"$f":"Z11/(AB4-Z7)","v":{"$error":"#DIV/0!"}},{"$f":"IF(AA11=0,0,(AA11*((LOG(AA11))/LOG(2))))","v":{"$error":"#DIV/0!"}},null,{"$f":"N11","v":211},{"$f":"COUNTIF(L21:L26,AD11)","v":0},{"$f":"AE11/(AG4-AE7)","v":{"$error":"#DIV/0!"}},{"$f":"IF(AF11=0,0,(AF11*((LOG(AF11))/LOG(2))))","v":{"$error":"#DIV/0!"}},null,{"$f":"N11","v":211},{"$f":"COUNTIF(L27:L33,AI11)","v":0},{"$f":"AJ11/(AL4-AJ7)","v":{"$error":"#DIV/0!"}},{"$f":"IF(AK11=0,0,(AK11*((LOG(AK11))/LOG(2))))","v":{"$error":"#DIV/0!"}},null,{"$f":"N11","v":211},{"$f":"COUNTIF(L34:L40,AN11)","v":0},{"$f":"AO11/(AQ4-AO7)","v":{"$error":"#DIV/0!"}},{"$f":"IF(AP11=0,0,(AP11*((LOG(AP11))/LOG(2))))","v":{"$error":"#DIV/0!"}},null,{"$f":"N11","v":211},{"$f":"COUNTIF(L41:L47,AS11)","v":0},{"$f":"AT11/(AV4-AT7)","v":{"$error":"#DIV/0!"}},{"$f":"IF(AU11=0,0,(AU11*((LOG(AU11))/LOG(2))))","v":{"$error":"#DIV/0!"}}]
[11,804,11,810,11,817,null,null,null,null,0,111,null,212,{"$f":"COUNTIF($L$7:$L$500,N12)","v":0},{"$f":"O12/$Q$4","v":0},{"$f":"IF(P12=0,0,(P12*((LOG(P12))/LOG(2))))","v":0},null,null,{"$f":"N12","v":212},{"$f":"COUNTIF(L7:L13,T12)","v":0},{"$f":"U12/(W4-U7)","v":0},{"$f":"IF(V12=0,0,(V12*((LOG(V12))/LOG(2))))","v":0},null,{"$f":"N12","v":212},{"$f":"COUNTIF(L14:L20,Y12)","v":0},{"$f":"Z12/(AB4-Z7)","v":{"$error":"#DIV/0!"}},{"$f":"IF(AA12=0,0,(AA12*((LOG(AA12))/LOG(2))))","v":{"$error":"#DIV/0!"}},null,{"$f":"N12","v":212},{"$f":"COUNTIF(L21:L26,AD12)","v":0},{"$f":"AE12/(AG4-AE7)","v":{"$error":"#DIV/0!"}},{"$f":"IF(AF12=0,0,(AF12*((LOG(AF12))/LOG(2))))","v":{"$error":"#DIV/0!"}},null,{"$f":"N12","v":212},{"$f":"COUNTIF(L27:L33,AI12)","v":0},{"$f":"AJ12/(AL4-AJ7)","v":{"$error":"#DIV/0!"}},{"$f":"IF(AK12=0,0,(AK12*((LOG(AK12))/LOG(2))))","v":{"$error":"#DIV/0!"}},null,{"$f":"N12","v":212},{"$f":"COUNTIF(L34:L40,AN12)","v":0},{"$f":"AO12/(AQ4-AO7)","v":{"$error":"#DIV/0!"}},{"$f":"IF(AP12=0,0,(AP12*((LOG(AP12))/LOG(2))))","v":{"$error":"#DIV/0!"}},null,{"$f":"N12","v":212},{"$f":"COUNTIF(L41:L47,AS12)","v":0},{"$f":"AT12/(AV4-AT7)","v":{"$error":"#DIV/0!"}},{"$f":"IF(AU12=0,0,(AU12*((LOG(AU12))/LOG(2))))","v":{"$error":"#DIV/0!"}}]
[11,944,11,951,11,957,null,null,null,null,0,111,null,221,{"$f":"COUNTIF($L$7:$L$500,N13)","v":0},{"$f":"O13/$Q$4","v":0},{"$f":"IF(P13=0,0,(P13*((LOG(P13))/LOG(2))))","v":0},null,null,{"$f":"N13","v":221},{"$f":"COUNTIF(L7:L13,T13)","v":0},{"$f":"U13/(W4-U7)","v":0},{"$f":"IF(V13=0,0,(V13*((LOG(V13))/LOG(2))))","v":0},null,{"$f":"N13","v":221},{"$f":"COUNTIF(L14:L20,Y13)","v":0},{"$f":"Z13/(AB4-Z7)","v":{"$error":"#DIV/0!"}},{"$f":"IF(AA13=0,0,(AA13*((LOG(AA13))/LOG(2))))","v":{"$error":"#DIV/0!"}},null,{"$f":"N13","v":221},{"$f":"COUNTIF(L21:L26,AD13)","v":0},{"$f":"AE13/(AG4-AE7)","v":{"$error":"#DIV/0!"}},{"$f":"IF(AF13=0,0,(AF13*((LOG(AF13))/LOG(2))))","v":{"$error":"#DIV/0!"}},null,{"$f":"N13","v":221},{"$f":"COUNTIF(L27:L33,AI13)","v":0},{"$f":"AJ13/(AL4-AJ7)","v":{"$error":"#DIV/0!"}},{"$f":"IF(AK13=0,0,(AK13*((LOG(AK13))/LOG(2))))","v":{"$error":"#DIV/0!"}},null,{"$f":"N13","v":221},{"$f":"COUNTIF(L34:L40,AN13)","v":0},{"$f":"AO13/(AQ4-AO7)","v":{"$error":"#DIV/0!"}},{"$f":"IF(AP13=0,0,(AP13*((LOG(AP13))/LOG(2))))","v":{"$error":"#DIV/0!"}},null,{"$f":"N13","v":221},{"$f":"COUNTIF(L41:L47,AS13)","v":0},{"$f":"AT13/(AV4-AT7)","v":{"$error":"#DIV/0!"}},{"$f":"IF(AU13=0,0,(AU13*((LOG(AU13))/LOG(2))))","v":{"$error":"#DIV/0!"}}]
[11,1097,11,1102,11,1109,null,null,null,null,0,111,null,222,{"$f":"COUNTIF($L$7:$L$500,N14)","v":0},{"$f":"O14/$Q$4","v":0},{"$f":"IF(P14=0,0,(P14*((LOG(P14))/LOG(2))))","v":0},null,null,{"$f":"N14","v":222},{"$f":"COUNTIF(L7:L13,T14)","v":0},{"$f":"U14/(W4-U7)","v":0},{"$f":"IF(V14=0,0,(V14*((LOG(V14))/LOG(2))))","v":0},null,{"$f":"N14","v":222},{"$f":"COUNTIF(L14:L20,Y14)","v":0},{"$f":"Z14/(AB4-Z7)","v":{"$error":"#DIV/0!"}},{"$f":"IF(AA14=0,0,(AA14*((LOG(AA14))/LOG(2))))","v":{"$error":"#DIV/0!"}},null,{"$f":"N14","v":222},{"$f":"COUNTIF(L21:L26,AD14)","v":0},{"$f":"AE14/(AG4-AE7)","v":{"$error":"#DIV/0!"}},{"$f":"IF(AF14=0,0,(AF14*((LOG(AF14))/LOG(2))))","v":{"$error":"#DIV/0!"}},null,{"$f":"N14","v":222},{"$f":"COUNTIF(L27:L33,AI14)","v":0},{"$f":"AJ14/(AL4-AJ7)","v":{"$error":"#DIV/0!"}},{"$f":"IF(AK14=0,0,(AK14*((LOG(AK14))/LOG(2))))","v":{"$error":"#DIV/0!"}},null,{"$f":"N14","v":222},{"$f":"COUNTIF(L34:L40,AN14)","v":0},{"$f":"AO14/(AQ4-AO7)","v":{"$error":"#DIV/0!"}},{"$f":"IF(AP14=0,0,(AP14*((LOG(AP14))/LOG(2))))","v":{"$error":"#DIV/0!"}},null,{"$f":"N14","v":222},{"$f":"COUNTIF(L41:L47,AS14)","v":0},{"$f":"AT14/(AV4-AT7)","v":{"$error":"#DIV/0!"}},{"$f":"IF(AU14=0,0,(AU14*((LOG(AU14))/LOG(2))))","v":{"$error":"#DIV/0!"}}]
[11,1318,11,1324,11,1330,null,null,null,null,0,111,null,null,null,{"$f":"SUM(P7:P14)","v":1},{"$f":"-SUM(Q7:Q14)","v":0.16542703399626679},null,null,null,null,{"$f":"SUM(V7:V14)","v":1},{"$f":"-SUM(W7:W14)","v":0},null,null,null,{"$f":"SUM(AA7:AA14)","v":{"$error":"#DIV/0!"}},{"$f":"-SUM(AB7:AB14)","v":{"$error":"#DIV/0!"}},null,null,null,{"$f":"SUM(AF7:AF14)","v":{"$error":"#DIV/0!"}},{"$f":"-SUM(AG7:AG14)","v":{"$error":"#DIV/0!"}},null,null,null,{"$f":"SUM(AK7:AK14)","v":{"$error":"#DIV/0!"}},{"$f":"-SUM(AL7:AL14)","v":{"$error":"#DIV/0!"}},null,null,null,{"$f":"SUM(AP7:AP14)","v":{"$error":"#DIV/0!"}},{"$f":"-SUM(AQ7:AQ14)","v":{"$error":"#DIV/0!"}},null,null,null,{"$f":"SUM(AU7:AU14)","v":{"$error":"#DIV/0!"}},{"$f":"-SUM(AV7:AV14)","v":{"$error":"#DIV/0!"}}]
[11,1530,11,1537,11,1542,null,null,null,null,0,111,null,null,null,"U=",{"$f":"Q15/(LOG(Q4)/LOG(2))","v":3.0877354779509855E-2},null,null,null,null,"U1=",{"$f":"W15/(LOG(W4)/LOG(2))","v":0},null,null,null,"U2=",{"$f":"AB15/(LOG(AB4)/LOG(2))","v":{"$error":"#DIV/0!"}},null,null,null,"U3=",{"$f":"AG15/(LOG(AG4)/LOG(2))","v":{"$error":"#DIV/0!"}},null,null,null,"U4=",{"$f":"AL15/(LOG(AL4)/LOG(2))","v":{"$error":"#DIV/0!"}},null,null,null,"U5=",{"$f":"AQ15/(LOG(AQ4)/LOG(2))","v":{"$error":"#DIV/0!"}},null,null,null,"U6=",{"$f":"AV15/(LOG(AV4)/LOG(2))","v":{"$error":"#DIV/0!"}}]
[11,1682,11,1686,11,1691,null,null,null,null,0,111]
[11,1831,11,1841,11,1847,null,null,null,null,0,111]
[11,1950,11,1956,11,1962,null,null,null,null,0,111,null,"Total Target Seq"]
[11,2124,11,2131,11,2138,null,null,null,null,0,111,null,{"$f":"COUNTIF(L7:L47,G3)","v":40},null,7,7,6,7,7,7]
[11,2344,11,2350,11,2357,null,null,null,null,0,111,null,null,null,"% of reinforcement given in 6 equal intervals based on number of trials "]
[11,2586,11,2591,11,2598,null,null,null,null,0,111,null,null,null,"%_1","%_2","%_3","%_4","%_5","%_6"]
[11,2707,11,2713,11,2719,null,null,null,null,0,111,null,null,"target sequence",{"$f":"$G$3","v":111},{"$f":"$G$3","v":111},{"$f":"$G$3","v":111},{"$f":"$G$3","v":111},{"$f":"$G$3","v":111},{"$f":"$G$3","v":111}]
[11,2889,11,2896,11,2902,null,null,null,null,0,111,null,null,"total reinforcement",{"$f":"U7","v":6},{"$f":"Z7","v":7},{"$f":"AE7","v":6},{"$f":"AJ7","v":7},{"$f":"AO7","v":7},{"$f":"AT7","v":7}]
[11,3016,11,3023,11,3030,null,null,null,null,0,111,null,null,"% target"]
[11,3239,11,3245,11,3250,null,null,null,null,0,111,null,null,"CCRF"]
[11,3423,11,3427,11,3433,null,null,null,null,0,111,null,null,"% CCRf"]
[11,3610,11,3616,11,3621,null,null,null,null,0,111,null,null,"average response rate",{"$f":"F13/P20","v":136.71428571428572},{"$f":"(F20-F13)/Q20","v":168.71428571428572},{"$f":"(F26-F20)/R20","v":185.33333333333334},{"$f":"(F33-F26)/S20","v":187.28571428571428},{"$f":"(F40-F33)/T20","v":215.57142857142858},{"$f":"(F47-F40)/U20","v":220.42857142857142}]
[11,3762,11,3769,11,3778,null,null,null,null,0,111]
[11,3951,11,3958,11,3964,null,null,null,null,0,111]
[11,4114,11,4125,11,4128,null,null,null,null,0,111]
[11,4268,11,4275,11,4281,null,null,null,null,0,111]
[11,4550,11,4556,11,4561,null,null,null,null,0,111]
[11,4769,11,4775,11,4785,null,null,null,null,0,111]
[11,5016,11,5021,11,5031,null,null,null,null,0,111]
[11,5208,11,5214,11,5220,null,null,null,null,0,111]
[11,5364,11,5367,11,5373,null,null,null,null,0,111]
[11,5600,11,5606,11,5612,null,null,null,null,0,111]
[11,5832,11,5840,11,5846,null,null,null,null,0,111]
[11,6059,11,6065,11,6070,null,null,null,null,0,111]
[11,6255,11,6258,11,6264,null,null,null,null,0,111]
[11,6432,11,6438,11,6444,null,null,null,null,0,111]
[11,6693,11,6699,11,6705,null,null,null,null,0,111]
[11,6930,11,6936,11,6944,null,null,null,null,0,111]
[11,7168,11,7174,11,7181,null,null,null,null,0,111]
[11,7344,11,7349,11,7356,null,null,null,null,0,111]
[11,7606,11,7609,11,7613,null,null,null,null,1,111]

{"sheet":"!M626A2D.ust","index":7,"n_rows":50,"n_cols":48,"rows_kept":50,"cut":false,"hidden":false,"merged":[[4,39,4,42],[5,39,5,40],[4,44,4,47],[5,44,5,45],[4,24,4,27],[5,24,5,25],[4,29,4,32],[5,29,5,30],[4,34,4,37],[5,34,5,35],[1,1,1,2],[5,13,5,14],[18,13,18,14],[19,13,19,14],[4,19,4,22],[5,19,5,20]]}
["Report for:!M626A2D.ust"]
["Date:","<date>"]
["Hen:","<hen>",null,null,null,"Correct Sequence",{"$f":"Start!J2","v":111},null,null,null,null,null,null,null,null,"Total Sequences in Data",{"$f":"4994-COUNTBLANK(L7:L5000)","v":44},null,null,null,null,"Total Sequences in Block Data",{"$f":"COUNTA(L7:L13)","v":7},null,null,null,"Total Sequences in Block Data",{"$f":"COUNTA(L14:L21)","v":8},null,null,null,"Total Sequences in Block Data",{"$f":"COUNTA(L22:L28)","v":7},null,null,null,"Total Sequences in Block Data",{"$f":"COUNTA(L29:L35)","v":7},null,null,null,"Total Sequences in Block Data",{"$f":"COUNTA(L36:L43)","v":8},null,null,null,"Total Sequences in Block Data",{"$f":"COUNTA(L44:L50)","v":7}]
[null,null,null,null,null,null,null,null,null,null,null,null,null,null,null,"Total Sequences in Summary",{"$f":"SUM(O7:O14)","v":44},null,null,null,null,"Total Sequences in Block Summary",{"$f":"SUM(U7:U14)","v":7},null,null,null,"Total Sequences in Block Summary",{"$f":"SUM(Z7:Z14)","v":8},null,null,null,"Total Sequences in Block Summary",{"$f":"SUM(AE7:AE14)","v":7},null,null,null,"Total Sequences in Block Summary",{"$f":"SUM(AJ7:AJ14)","v":7},null,null,null,"Total Sequences in Block Summary",{"$f":"SUM(AO7:AO14)","v":8},null,null,null,"Total Sequences in Block Summary",{"$f":"SUM(AT7:AT14)","v":7}]
[null,null,null,null,null,null,null,null,null,null,null,null,null,null,null,null,null,null,null,"Block 1",null,null,null,null,"Block 2",null,null,null,null,"Block 3",null,null,null,null,"Block 4",null,null,null,null,"Block 5",null,null,null,null,"Block 6"]
["Sequence\nComponent\n1","Time\n1","Sequence\nComponent\n2","Time\n2","Sequence\nComponent\n3","Time\n3","Sequence\nComponent\n4","Time\n4","Sequence\nComponent\n5","Time\n5","Correct?\n0=No 1=Yes","Sequence",null,"Frequency",null,"Relative Frequency","Variability",null,null,"Frequency",null,"Relative Frequency","Variability",null,"Frequency",null,"Relative Frequency","Variability",null,"Frequency",null,"Relative Frequency","Variability",null,"Frequency",null,"Relative Frequency","Variability",null,"Frequency",null,"Relative Frequency","Variability",null,"Frequency",null,"Relative Frequency","Variability"]
[22,7,24,12,24,18,null,null,null,null,0,222,null,111,{"$f":"COUNTIF($L$7:$L$500,N7)","v":40},{"$f":"O7/$Q$4","v":0.90909090909090906},{"$f":"IF(P7=0,0,(P7*((LOG(P7))/LOG(2))))","v":-0.12500320340903179},null,null,{"$f":"N7","v":111},{"$f":"COUNTIF(L7:L13,T7)","v":5},null,null,null,{"$f":"N7","v":111},{"$f":"COUNTIF(L14:L21,Y7)","v":6},null,null,null,{"$f":"N7","v":111},{"$f":"COUNTIF(L22:L28,AD7)","v":7},null,null,null,{"$f":"N7","v":111},{"$f":"COUNTIF(L29:L35,AI7)","v":7},null,null,null,{"$f":"N7","v":111},{"$f":"COUNTIF(L36:L43,AN7)","v":8},null,null,null,{"$f":"N7","v":111},{"$f":"COUNTIF(L44:L50,AS7)","v":7}]
[22,115,24,120,24,126,null,null,null,null,0,222,null,112,{"$f":"COUNTIF($L$7:$L$500,N8)","v":1},{"$f":"O8/$Q$4","v":2.2727272727272728E-2},{"$f":"IF(P8=0,0,(P8*((LOG(P8))/LOG(2))))","v":-0.12407799133266585},null,null,{"$f":"N8","v":112},{"$f":"COUNTIF(L7:L13,T8)","v":0},{"$f":"U8/(W4-U7)","v":0},{"$f":"IF(V8=0,0,(V8*((LOG(V8))/LOG(2))))","v":0},null,{"$f":"N8","v":112},{"$f":"COUNTIF(L14:L21,Y8)","v":1},{"$f":"Z8/(AB4-Z7)","v":0.5},{"$f":"IF(AA8=0,0,(AA8*((LOG(AA8))/LOG(2))))","v":-0.5},null,{"$f":"N8","v":112},{"$f":"COUNTIF(L22:L28,AD8)","v":0},{"$f":"AE8/(AG4-AE7)","v":{"$error":"#DIV/0!"}},{"$f":"IF(AF8=0,0,(AF8*((LOG(AF8))/LOG(2))))","v":{"$error":"#DIV/0!"}},null,{"$f":"N8","v":112},{"$f":"COUNTIF(L29:L35,AI8)","v":0},{"$f":"AJ8/(AL4-AJ7)","v":{"$error":"#DIV/0!"}},{"$f":"IF(AK8=0,0,(AK8*((LOG(AK8))/LOG(2))))","v":{"$error":"#DIV/0!"}},null,{"$f":"N8","v":112},{"$f":"COUNTIF(L36:L43,AN8)","v":0},{"$f":"AO8/(AQ4-AO7)","v":{"$error":"#DIV/0!"}},{"$f":"IF(AP8=0,0,(AP8*((LOG(AP8))/LOG(2))))","v":{"$error":"#DIV/0!"}},null,{"$f":"N8","v":112},{"$f":"COUNTIF(L44:L50,AS8)","v":0},{"$f":"AT8/(AV4-AT7)","v":{"$error":"#DIV/0!"}},{"$f":"IF(AU8=0,0,(AU8*((LOG(AU8))/LOG(2))))","v":{"$error":"#DIV/0!"}}]
[11,224,11,231,11,239,null,null,null,null,0,111,null,121,{"$f":"COUNTIF($L$7:$L$500,N9)","v":0},{"$f":"O9/$Q$4","v":0},{"$f":"IF(P9=0,0,(P9*((LOG(P9))/LOG(2))))","v":0},null,null,{"$f":"N9","v":121},{"$f":"COUNTIF(L7:L13,T9)","v":0},{"$f":"U9/(W4-U7)","v":0},{"$f":"IF(V9=0,0,(V9*((LOG(V9))/LOG(2))))","v":0},null,{"$f":"N9","v":121},{"$f":"COUNTIF(L14:L21,Y9)","v":0},{"$f":"Z9/(AB4-Z7)","v":0},{"$f":"IF(AA9=0,0,(AA9*((LOG(AA9))/LOG(2))))","v":0},null,{"$f":"N9","v":121},{"$f":"COUNTIF(L22:L28,AD9)","v":0},{"$f":"AE9/(AG4-AE7)","v":{"$error":"#DIV/0!"}},{"$f":"IF(AF9=0,0,(AF9*((LOG(AF9))/LOG(2))))","v":{"$error":"#DIV/0!"}},null,{"$f":"N9","v":121},{"$f":"COUNTIF(L29:L35,AI9)","v":0},{"$f":"AJ9/(AL4-AJ7)","v":{"$error":"#DIV/0!"}},{"$f":"IF(AK9=0,0,(AK9*((LOG(AK9))/LOG(2))))","v":{"$error":"#DIV/0!"}},null,{"$f":"N9","v":121},{"$f":"COUNTIF(L36:L43,AN9)","v":0},{"$f":"AO9/(AQ4-AO7)","v":{"$error":"#DIV/0!"}},{"$f":"IF(AP9=0,0,(AP9*((LOG(AP9))/LOG(2))))","v":{"$error":"#DIV/0!"}},null,{"$f":"N9","v":121},{"$f":"COUNTIF(L44:L50,AS9)","v":0},{"$f":"AT9/(AV4-AT7)","v":{"$error":"#DIV/0!"}},{"$f":"IF(AU9=0,0,(AU9*((LOG(AU9))/LOG(2))))","v":{"$error":"#DIV/0!"}}]
[11,395,11,398,11,406,null,null,null,null,0,111,null,122,{"$f":"COUNTIF($L$7:$L$500,N10)","v":0},{"$f":"O10/$Q$4","v":0},{"$f":"IF(P10=0,0,(P10*((LOG(P10))/LOG(2))))","v":0},null,null,{"$f":"N10","v":122},{"$f":"COUNTIF(L7:L13,T10)","v":0},{"$f":"U10/(W4-U7)","v":0},{"$f":"IF(V10=0,0,(V10*((LOG(V10))/LOG(2))))","v":0},null,{"$f":"N10","v":122},{"$f":"COUNTIF(L14:L21,Y10)","v":0},{"$f":"Z10/(AB4-Z7)","v":0},{"$f":"IF(AA10=0,0,(AA10*((LOG(AA10))/LOG(2))))","v":0},null,{"$f":"N10","v":122},{"$f":"COUNTIF(L22:L28,AD10)","v":0},{"$f":"AE10/(AG4-AE7)","v":{"$error":"#DIV/0!"}},{"$f":"IF(AF10=0,0,(AF10*((LOG(AF10))/LOG(2))))","v":{"$error":"#DIV/0!"}},null,{"$f":"N10","v":122},{"$f":"COUNTIF(L29:L35,AI10)","v":0},{"$f":"AJ10/(AL4-AJ7)","v":{"$error":"#DIV/0!"}},{"$f":"IF(AK10=0,0,(AK10*((LOG(AK10))/LOG(2))))","v":{"$error":"#DIV/0!"}},null,{"$f":"N10","v":122},{"$f":"COUNTIF(L36:L43,AN10)","v":0},{"$f":"AO10/(AQ4-AO7)","v":{"$error":"#DIV/0!"}},{"$f":"IF(AP10=0,0,(AP10*((LOG(AP10))/LOG(2))))","v":{"$error":"#DIV/0!"}},null,{"$f":"N10","v":122},{"$f":"COUNTIF(L44:L50,AS10)","v":0},{"$f":"AT10/(AV4-AT7)","v":{"$error":"#DIV/0!"}},{"$f":"IF(AU10=0,0,(AU10*((LOG(AU10))/LOG(2))))","v":{"$error":"#DIV/0!"}}]
[11,596,11,602,11,609,null,null,null,null,0,111,null,211,{"$f":"COUNTIF($L$7:$L$500,N11)","v":0},{"$f":"O11/$Q$4","v":0},{"$f":"IF(P11=0,0,(P11*((LOG(P11))/LOG(2))))","v":0},null,null,{"$f":"N11","v":211},{"$f":"COUNTIF(L7:L13,T11)","v":0},{"$f":"U11/(W4-U7)","v":0},{"$f":"IF(V11=0,0,(V11*((LOG(V11))/LOG(2))))","v":0},null,{"$f":"N11","v":211},{"$f":"COUNTIF(L14:L21,Y11)","v":0},{"$f":"Z11/(AB4-Z7)","v":0},{"$f":"IF(AA11=0,0,(AA11*((LOG(AA11))/LOG(2))))","v":0},null,{"$f":"N11","v":211},{"$f":"COUNTIF(L22:L28,AD11)","v":0},{"$f":"AE11/(AG4-AE7)","v":{"$error":"#DIV/0!"}},{"$f":"IF(AF11=0,0,(AF11*((LOG(AF11))/LOG(2))))","v":{"$error":"#DIV/0!"}},null,{"$f":"N11","v":211},{"$f":"COUNTIF(L29:L35,AI11)","v":0},{"$f":"AJ11/(AL4-AJ7)","v":{"$error":"#DIV/0!"}},{"$f":"IF(AK11=0,0,(AK11*((LOG(AK11))/LOG(2))))","v":{"$error":"#DIV/0!"}},null,{"$f":"N11","v":211},{"$f":"COUNTIF(L36:L43,AN11)","v":0},{"$f":"AO11/(AQ4-AO7)","v":{"$error":"#DIV/0!"}},{"$f":"IF(AP11=0,0,(AP11*((LOG(AP11))/LOG(2))))","v":{"$error":"#DIV/0!"}},null,{"$f":"N11","v":211},{"$f":"COUNTIF(L44:L50,AS11)","v":0},{"$f":"AT11/(AV4-AT7)","v":{"$error":"#DIV/0!"}},{"$f":"IF(AU11=0,0,(AU11*((LOG(AU11))/LOG(2))))","v":{"$error":"#DIV/0!"}}]
[11,764,11,769,11,776,null,null,null,null,0,111,null,212,{"$f":"COUNTIF($L$7:$L$500,N12)","v":0},{"$f":"O12/$Q$4","v":0},{"$f":"IF(P12=0,0,(P12*((LOG(P12))/LOG(2))))","v":0},null,null,{"$f":"N12","v":212},{"$f":"COUNTIF(L7:L13,T12)","v":0},{"$f":"U12/(W4-U7)","v":0},{"$f":"IF(V12=0,0,(V12*((LOG(V12))/LOG(2))))","v":0},null,{"$f":"N12","v":212},{"$f":"COUNTIF(L14:L21,Y12)","v":0},{"$f":"Z12/(AB4-Z7)","v":0},{"$f":"IF(AA12=0,0,(AA12*((LOG(AA12))/LOG(2))))","v":0},null,{"$f":"N12","v":212},{"$f":"COUNTIF(L22:L28,AD12)","v":0},{"$f":"AE12/(AG4-AE7)","v":{"$error":"#DIV/0!"}},{"$f":"IF(AF12=0,0,(AF12*((LOG(AF12))/LOG(2))))","v":{"$error":"#DIV/0!"}},null,{"$f":"N12","v":212},{"$f":"COUNTIF(L29:L35,AI12)","v":0},{"$f":"AJ12/(AL4-AJ7)","v":{"$error":"#DIV/0!"}},{"$f":"IF(AK12=0,0,(AK12*((LOG(AK12))/LOG(2))))","v":{"$error":"#DIV/0!"}},null,{"$f":"N12","v":212},{"$f":"COUNTIF(L36:L43,AN12)","v":0},{"$f":"AO12/(AQ4-AO7)","v":{"$error":"#DIV/0!"}},{"$f":"IF(AP12=0,0,(AP12*((LOG(AP12))/LOG(2))))","v":{"$error":"#DIV/0!"}},null,{"$f":"N12","v":212},{"$f":"COUNTIF(L44:L50,AS12)","v":0},{"$f":"AT12/(AV4-AT7)","v":{"$error":"#DIV/0!"}},{"$f":"IF(AU12=0,0,(AU12*((LOG(AU12))/LOG(2))))","v":{"$error":"#DIV/0!"}}]
[11,974,11,979,11,993,null,null,null,null,0,111,null,221,{"$f":"COUNTIF($L$7:$L$500,N13)","v":1},{"$f":"O13/$Q$4","v":2.2727272727272728E-2},{"$f":"IF(P13=0,0,(P13*((LOG(P13))/LOG(2))))","v":-0.12407799133266585},null,null,{"$f":"N13","v":221},{"$f":"COUNTIF(L7:L13,T13)","v":0},{"$f":"U13/(W4-U7)","v":0},{"$f":"IF(V13=0,0,(V13*((LOG(V13))/LOG(2))))","v":0},null,{"$f":"N13","v":221},{"$f":"COUNTIF(L14:L21,Y13)","v":1},{"$f":"Z13/(AB4-Z7)","v":0.5},{"$f":"IF(AA13=0,0,(AA13*((LOG(AA13))/LOG(2))))","v":-0.5},null,{"$f":"N13","v":221},{"$f":"COUNTIF(L22:L28,AD13)","v":0},{"$f":"AE13/(AG4-AE7)","v":{"$error":"#DIV/0!"}},{"$f":"IF(AF13=0,0,(AF13*((LOG(AF13))/LOG(2))))","v":{"$error":"#DIV/0!"}},null,{"$f":"N13","v":221},{"$f":"COUNTIF(L29:L35,AI13)","v":0},{"$f":"AJ13/(AL4-AJ7)","v":{"$error":"#DIV/0!"}},{"$f":"IF(AK13=0,0,(AK13*((LOG(AK13))/LOG(2))))","v":{"$error":"#DIV/0!"}},null,{"$f":"N13","v":221},{"$f":"COUNTIF(L36:L43,AN13)","v":0},{"$f":"AO13/(AQ4-AO7)","v":{"$error":"#DIV/0!"}},{"$f":"IF(AP13=0,0,(AP13*((LOG(AP13))/LOG(2))))","v":{"$error":"#DIV/0!"}},null,{"$f":"N13","v":221},{"$f":"COUNTIF(L44:L50,AS13)","v":0},{"$f":"AT13/(AV4-AT7)","v":{"$error":"#DIV/0!"}},{"$f":"IF(AU13=0,0,(AU13*((LOG(AU13))/LOG(2))))","v":{"$error":"#DIV/0!"}}]
[11,1183,11,1187,11,1193,null,null,null,null,0,111,null,222,{"$f":"COUNTIF($L$7:$L$500,N14)","v":2},{"$f":"O14/$Q$4","v":4.5454545454545456E-2},{"$f":"IF(P14=0,0,(P14*((LOG(P14))/LOG(2))))","v":-0.20270143721078623},null,null,{"$f":"N14","v":222},{"$f":"COUNTIF(L7:L13,T14)","v":2},{"$f":"U14/(W4-U7)","v":1},{"$f":"IF(V14=0,0,(V14*((LOG(V14))/LOG(2))))","v":0},null,{"$f":"N14","v":222},{"$f":"COUNTIF(L14:L21,Y14)","v":0},{"$f":"Z14/(AB4-Z7)","v":0},{"$f":"IF(AA14=0,0,(AA14*((LOG(AA14))/LOG(2))))","v":0},null,{"$f":"N14","v":222},{"$f":"COUNTIF(L22:L28,AD14)","v":0},{"$f":"AE14/(AG4-AE7)","v":{"$error":"#DIV/0!"}},{"$f":"IF(AF14=0,0,(AF14*((LOG(AF14))/LOG(2))))","v":{"$error":"#DIV/0!"}},null,{"$f":"N14","v":222},{"$f":"COUNTIF(L29:L35,AI14)","v":0},{"$f":"AJ14/(AL4-AJ7)","v":{"$error":"#DIV/0!"}},{"$f":"IF(AK14=0,0,(AK14*((LOG(AK14))/LOG(2))))","v":{"$error":"#DIV/0!"}},null,{"$f":"N14","v":222},{"$f":"COUNTIF(L36:L43,AN14)","v":0},{"$f":"AO14/(AQ4-AO7)","v":{"$error":"#DIV/0!"}},{"$f":"IF(AP14=0,0,(AP14*((LOG(AP14))/LOG(2))))","v":{"$error":"#DIV/0!"}},null,{"$f":"N14","v":222},{"$f":"COUNTIF(L44:L50,AS14)","v":0},{"$f":"AT14/(AV4-AT7)","v":{"$error":"#DIV/0!"}},{"$f":"IF(AU14=0,0,(AU14*((LOG(AU14))/LOG(2))))","v":{"$error":"#DIV/0!"}}]
[11,1356,11,1362,22,1378,null,null,null,null,0,112,null,null,null,{"$f":"SUM(P7:P14)","v":0.99999999999999989},{"$f":"-SUM(Q7:Q14)","v":0.57586062328514975},null,null,null,null,{"$f":"SUM(V7:V14)","v":1},{"$f":"-SUM(W7:W14)","v":0},null,null,null,{"$f":"SUM(AA7:AA14)","v":1},{"$f":"-SUM(AB7:AB14)","v":1},null,null,null,{"$f":"SUM(AF7:AF14)","v":{"$error":"#DIV/0!"}},{"$f":"-SUM(AG7:AG14)","v":{"$error":"#DIV/0!"}},null,null,null,{"$f":"SUM(AK7:AK14)","v":{"$error":"#DIV/0!"}},{"$f":"-SUM(AL7:AL14)","v":{"$error":"#DIV/0!"}},null,null,null,{"$f":"SUM(AP7:AP14)","v":{"$error":"#DIV/0!"}},{"$f":"-SUM(AQ7:AQ14)","v":{"$error":"#DIV/0!"}},null,null,null,{"$f":"SUM(AU7:AU14)","v":{"$error":"#DIV/0!"}},{"$f":"-SUM(AV7:AV14)","v":{"$error":"#DIV/0!"}}]
[22,1483,24,1489,13,1508,null,null,null,null,0,221,null,null,null,"U=",{"$f":"Q15/(LOG(Q4)/LOG(2))","v":0.10547995899779904},null,null,null,null,"U1=",{"$f":"W15/(LOG(W4)/LOG(2))","v":0},null,null,null,"U2=",{"$f":"AB15/(LOG(AB4)/LOG(2))","v":0.33333333333333331},null,null,null,"U3=",{"$f":"AG15/(LOG(AG4)/LOG(2))","v":{"$error":"#DIV/0!"}},null,null,null,"U4=",{"$f":"AL15/(LOG(AL4)/LOG(2))","v":{"$error":"#DIV/0!"}},null,null,null,"U5=",{"$f":"AQ15/(LOG(AQ4)/LOG(2))","v":{"$error":"#DIV/0!"}},null,null,null,"U6=",{"$f":"AV15/(LOG(AV4)/LOG(2))","v":{"$error":"#DIV/0!"}}]
[11,1605,11,1611,11,1617,null,null,null,null,0,111]
[11,1793,11,1799,11,1806,null,null,null,null,0,111]
[11,2007,11,2013,11,2019,null,null,null,null,0,111,null,"Total Target Seq"]
[11,2183,11,2188,11,2195,null,null,null,null,0,111,null,{"$f":"COUNTIF(L7:L50,G3)","v":40},null,7,8,7,7,8,7]
[11,2421,11,2427,11,2434,null,null,null,null,0,111,null,null,null,"% of reinforcement given in 6 equal intervals based on number of trials "]
[11,2594,11,2600,11,2606,null,null,null,null,0,111,null,null,null,"%_1","%_2","%_3","%_4","%_5","%_6"]
[11,2769,11,2775,11,2782,null,null,null,null,0,111,null,null,"target sequence",{"$f":"$G$3","v":111},{"$f":"$G$3","v":111},{"$f":"$G$3","v":111},{"$f":"$G$3","v":111},{"$f":"$G$3","v":111},{"$f":"$G$3","v":111}]
[11,3020,11,3027,11,3038,null,null,null,null,0,111,null,null,"total reinforcement",{"$f":"U7","v":5},{"$f":"Z7","v":6},{"$f":"AE7","v":7},{"$f":"AJ7","v":7},{"$f":"AO7","v":8},{"$f":"AT7","v":7}]
[11,3212,11,3218,11,3225,null,null,null,null,0,111,null,null,"% target"]
[11,3375,11,3382,11,3391,null,null,null,null,0,111,null,null,"CCRF"]
[11,3567,11,3577,11,3583,null,null,null,null,0,111,null,null,"% CCRf"]
[11,3712,11,3721,11,3728,null,null,null,null,0,111,null,null,"average response rate",{"$f":"F13/P20","v":141.85714285714286},{"$f":"(F21-F13)/Q20","v":180.125},{"$f":"(F28-F21)/R20","v":184.85714285714286},{"$f":"(F35-F28)/S20","v":218.14285714285714},{"$f":"(F43-F35)/T20","v":238.25},{"$f":"(F50-F43)/U20","v":231.42857142857142}]
[11,3963,11,3970,11,3983,null,null,null,null,0,111]
[11,4257,11,4263,11,4272,null,null,null,null,0,111]
[11,4387,11,4394,11,4401,null,null,null,null,0,111]
[11,4577,11,4582,11,4587,null,null,null,null,0,111]
[11,4742,11,4748,11,4764,null,null,null,null,0,111]
[11,5070,11,5076,11,5082,null,null,null,null,0,111]
[11,5242,11,5248,11,5255,null,null,null,null,0,111]
[11,5419,11,5423,11,5429,null,null,null,null,0,111]
[11,5573,11,5581,11,5588,null,null,null,null,0,111]
[11,5749,11,5755,11,5762,null,null,null,null,0,111]
[11,6083,11,6090,11,6095,null,null,null,null,0,111]
[11,6250,11,6255,11,6262,null,null,null,null,0,111]
[11,6579,11,6583,11,6589,null,null,null,null,0,111]
[11,6803,11,6808,11,6815,null,null,null,null,0,111]
[11,7150,11,7155,11,7161,null,null,null,null,0,111]
[11,7374,11,7381,11,7387,null,null,null,null,0,111]
[11,7600,11,7605,11,7611,null,null,null,null,0,111]
[11,7791,11,7800,11,7807,null,null,null,null,0,111]
[11,8109,11,8113,11,8119,null,null,null,null,0,111]
[11,8361,11,8366,11,8369,null,null,null,null,0,111]
[11,8553,11,8559,11,8565,null,null,null,null,0,111]
[11,8768,11,8774,11,8781,null,null,null,null,1,111]

{"sheet":"!M627A3D.ust","index":8,"n_rows":48,"n_cols":48,"rows_kept":48,"cut":false,"hidden":false,"merged":[[4,39,4,42],[5,39,5,40],[4,44,4,47],[5,44,5,45],[4,24,4,27],[5,24,5,25],[4,29,4,32],[5,29,5,30],[4,34,4,37],[5,34,5,35],[1,1,1,2],[5,13,5,14],[18,13,18,14],[19,13,19,14],[4,19,4,22],[5,19,5,20]]}
["Report for:!M627A3D.ust"]
["Date:","<date>"]
["Hen:","<hen>",null,null,null,"Correct Sequence",{"$f":"Start!J2","v":111},null,null,null,null,null,null,null,null,"Total Sequences in Data",{"$f":"4994-COUNTBLANK(L7:L5000)","v":42},null,null,null,null,"Total Sequences in Block Data",{"$f":"COUNTA(L7:L13)","v":7},null,null,null,"Total Sequences in Block Data",{"$f":"COUNTA(L14:L20)","v":7},null,null,null,"Total Sequences in Block Data",{"$f":"COUNTA(L21:L27)","v":7},null,null,null,"Total Sequences in Block Data",{"$f":"COUNTA(L28:L34)","v":7},null,null,null,"Total Sequences in Block Data",{"$f":"COUNTA(L35:L41)","v":7},null,null,null,"Total Sequences in Block Data",{"$f":"COUNTA(L42:L48)","v":7}]
[null,null,null,null,null,null,null,null,null,null,null,null,null,null,null,"Total Sequences in Summary",{"$f":"SUM(O7:O14)","v":42},null,null,null,null,"Total Sequences in Block Summary",{"$f":"SUM(U7:U14)","v":7},null,null,null,"Total Sequences in Block Summary",{"$f":"SUM(Z7:Z14)","v":7},null,null,null,"Total Sequences in Block Summary",{"$f":"SUM(AE7:AE14)","v":7},null,null,null,"Total Sequences in Block Summary",{"$f":"SUM(AJ7:AJ14)","v":7},null,null,null,"Total Sequences in Block Summary",{"$f":"SUM(AO7:AO14)","v":7},null,null,null,"Total Sequences in Block Summary",{"$f":"SUM(AT7:AT14)","v":7}]
[null,null,null,null,null,null,null,null,null,null,null,null,null,null,null,null,null,null,null,"Block 1",null,null,null,null,"Block 2",null,null,null,null,"Block 3",null,null,null,null,"Block 4",null,null,null,null,"Block 5",null,null,null,null,"Block 6"]
["Sequence\nComponent\n1","Time\n1","Sequence\nComponent\n2","Time\n2","Sequence\nComponent\n3","Time\n3","Sequence\nComponent\n4","Time\n4","Sequence\nComponent\n5","Time\n5","Correct?\n0=No 1=Yes","Sequence",null,"Frequency",null,"Relative Frequency","Variability",null,null,"Frequency",null,"Relative Frequency","Variability",null,"Frequency",null,"Relative Frequency","Variability",null,"Frequency",null,"Relative Frequency","Variability",null,"Frequency",null,"Relative Frequency","Variability",null,"Frequency",null,"Relative Frequency","Variability",null,"Frequency",null,"Relative Frequency","Variability"]
[11,7,11,11,11,18,null,null,null,null,0,111,null,111,{"$f":"COUNTIF($L$7:$L$500,N7)","v":40},{"$f":"O7/$Q$4","v":0.95238095238095233},{"$f":"IF(P7=0,0,(P7*((LOG(P7))/LOG(2))))","v":-6.7037455134664775E-2},null,null,{"$f":"N7","v":111},{"$f":"COUNTIF(L7:L13,T7)","v":7},null,null,null,{"$f":"N7","v":111},{"$f":"COUNTIF(L14:L20,Y7)","v":7},null,null,null,{"$f":"N7","v":111},{"$f":"COUNTIF(L21:L27,AD7)","v":7},null,null,null,{"$f":"N7","v":111},{"$f":"COUNTIF(L28:L34,AI7)","v":6},null,null,null,{"$f":"N7","v":111},{"$f":"COUNTIF(L35:L41,AN7)","v":6},null,null,null,{"$f":"N7","v":111},{"$f":"COUNTIF(L42:L48,AS7)","v":7}]
[11,119,11,125,11,140,null,null,null,null,0,111,null,112,{"$f":"COUNTIF($L$7:$L$500,N8)","v":0},{"$f":"O8/$Q$4","v":0},{"$f":"IF(P8=0,0,(P8*((LOG(P8))/LOG(2))))","v":0},null,null,{"$f":"N8","v":112},{"$f":"COUNTIF(L7:L13,T8)","v":0},{"$f":"U8/(W4-U7)","v":{"$error":"#DIV/0!"}},{"$f":"IF(V8=0,0,(V8*((LOG(V8))/LOG(2))))","v":{"$error":"#DIV/0!"}},null,{"$f":"N8","v":112},{"$f":"COUNTIF(L14:L20,Y8)","v":0},{"$f":"Z8/(AB4-Z7)","v":{"$error":"#DIV/0!"}},{"$f":"IF(AA8=0,0,(AA8*((LOG(AA8))/LOG(2))))","v":{"$error":"#DIV/0!"}},null,{"$f":"N8","v":112},{"$f":"COUNTIF(L21:L27,AD8)","v":0},{"$f":"AE8/(AG4-AE7)","v":{"$error":"#DIV/0!"}},{"$f":"IF(AF8=0,0,(AF8*((LOG(AF8))/LOG(2))))","v":{"$error":"#DIV/0!"}},null,{"$f":"N8","v":112},{"$f":"COUNTIF(L28:L34,AI8)","v":0},{"$f":"AJ8/(AL4-AJ7)","v":0},{"$f":"IF(AK8=0,0,(AK8*((LOG(AK8))/LOG(2))))","v":0},null,{"$f":"N8","v":112},{"$f":"COUNTIF(L35:L41,AN8)","v":0},{"$f":"AO8/(AQ4-AO7)","v":0},{"$f":"IF(AP8=0,0,(AP8*((LOG(AP8))/LOG(2))))","v":0},null,{"$f":"N8","v":112},{"$f":"COUNTIF(L42:L48,AS8)","v":0},{"$f":"AT8/(AV4-AT7)","v":{"$error":"#DIV/0!"}},{"$f":"IF(AU8=0,0,(AU8*((LOG(AU8))/LOG(2))))","v":{"$error":"#DIV/0!"}}]
[11,317,11,322,11,330,null,null,null,null,0,111,null,121,{"$f":"COUNTIF($L$7:$L$500,N9)","v":0},{"$f":"O9/$Q$4","v":0},{"$f":"IF(P9=0,0,(P9*((LOG(P9))/LOG(2))))","v":0},null,null,{"$f":"N9","v":121},{"$f":"COUNTIF(L7:L13,T9)","v":0},{"$f":"U9/(W4-U7)","v":{"$error":"#DIV/0!"}},{"$f":"IF(V9=0,0,(V9*((LOG(V9))/LOG(2))))","v":{"$error":"#DIV/0!"}},null,{"$f":"N9","v":121},{"$f":"COUNTIF(L14:L20,Y9)","v":0},{"$f":"Z9/(AB4-Z7)","v":{"$error":"#DIV/0!"}},{"$f":"IF(AA9=0,0,(AA9*((LOG(AA9))/LOG(2))))","v":{"$error":"#DIV/0!"}},null,{"$f":"N9","v":121},{"$f":"COUNTIF(L21:L27,AD9)","v":0},{"$f":"AE9/(AG4-AE7)","v":{"$error":"#DIV/0!"}},{"$f":"IF(AF9=0,0,(AF9*((LOG(AF9))/LOG(2))))","v":{"$error":"#DIV/0!"}},null,{"$f":"N9","v":121},{"$f":"COUNTIF(L28:L34,AI9)","v":0},{"$f":"AJ9/(AL4-AJ7)","v":0},{"$f":"IF(AK9=0,0,(AK9*((LOG(AK9))/LOG(2))))","v":0},null,{"$f":"N9","v":121},{"$f":"COUNTIF(L35:L41,AN9)","v":0},{"$f":"AO9/(AQ4-AO7)","v":0},{"$f":"IF(AP9=0,0,(AP9*((LOG(AP9))/LOG(2))))","v":0},null,{"$f":"N9","v":121},{"$f":"COUNTIF(L42:L48,AS9)","v":0},{"$f":"AT9/(AV4-AT7)","v":{"$error":"#DIV/0!"}},{"$f":"IF(AU9=0,0,(AU9*((LOG(AU9))/LOG(2))))","v":{"$error":"#DIV/0!"}}]
[11,471,11,475,11,481,null,null,null,null,0,111,null,122,{"$f":"COUNTIF($L$7:$L$500,N10)","v":1},{"$f":"O10/$Q$4","v":2.3809523809523808E-2},{"$f":"IF(P10=0,0,(P10*((LOG(P10))/LOG(2))))","v":-0.12838851006616095},null,null,{"$f":"N10","v":122},{"$f":"COUNTIF(L7:L13,T10)","v":0},{"$f":"U10/(W4-U7)","v":{"$error":"#DIV/0!"}},{"$f":"IF(V10=0,0,(V10*((LOG(V10))/LOG(2))))","v":{"$error":"#DIV/0!"}},null,{"$f":"N10","v":122},{"$f":"COUNTIF(L14:L20,Y10)","v":0},{"$f":"Z10/(AB4-Z7)","v":{"$error":"#DIV/0!"}},{"$f":"IF(AA10=0,0,(AA10*((LOG(AA10))/LOG(2))))","v":{"$error":"#DIV/0!"}},null,{"$f":"N10","v":122},{"$f":"COUNTIF(L21:L27,AD10)","v":0},{"$f":"AE10/(AG4-AE7)","v":{"$error":"#DIV/0!"}},{"$f":"IF(AF10=0,0,(AF10*((LOG(AF10))/LOG(2))))","v":{"$error":"#DIV/0!"}},null,{"$f":"N10","v":122},{"$f":"COUNTIF(L28:L34,AI10)","v":0},{"$f":"AJ10/(AL4-AJ7)","v":0},{"$f":"IF(AK10=0,0,(AK10*((LOG(AK10))/LOG(2))))","v":0},null,{"$f":"N10","v":122},{"$f":"COUNTIF(L35:L41,AN10)","v":1},{"$f":"AO10/(AQ4-AO7)","v":1},{"$f":"IF(AP10=0,0,(AP10*((LOG(AP10))/LOG(2))))","v":0},null,{"$f":"N10","v":122},{"$f":"COUNTIF(L42:L48,AS10)","v":0},{"$f":"AT10/(AV4-AT7)","v":{"$error":"#DIV/0!"}},{"$f":"IF(AU10=0,0,(AU10*((LOG(AU10))/LOG(2))))","v":{"$error":"#DIV/0!"}}]
[11,637,11,644,11,650,null,null,null,null,0,111,null,211,{"$f":"COUNTIF($L$7:$L$500,N11)","v":0},{"$f":"O11/$Q$4","v":0},{"$f":"IF(P11=0,0,(P11*((LOG(P11))/LOG(2))))","v":0},null,null,{"$f":"N11","v":211},{"$f":"COUNTIF(L7:L13,T11)","v":0},{"$f":"U11/(W4-U7)","v":{"$error":"#DIV/0!"}},{"$f":"IF(V11=0,0,(V11*((LOG(V11))/LOG(2))))","v":{"$error":"#DIV/0!"}},null,{"$f":"N11","v":211},{"$f":"COUNTIF(L14:L20,Y11)","v":0},{"$f":"Z11/(AB4-Z7)","v":{"$error":"#DIV/0!"}},{"$f":"IF(AA11=0,0,(AA11*((LOG(AA11))/LOG(2))))","v":{"$error":"#DIV/0!"}},null,{"$f":"N11","v":211},{"$f":"COUNTIF(L21:L27,AD11)","v":0},{"$f":"AE11/(AG4-AE7)","v":{"$error":"#DIV/0!"}},{"$f":"IF(AF11=0,0,(AF11*((LOG(AF11))/LOG(2))))","v":{"$error":"#DIV/0!"}},null,{"$f":"N11","v":211},{"$f":"COUNTIF(L28:L34,AI11)","v":0},{"$f":"AJ11/(AL4-AJ7)","v":0},{"$f":"IF(AK11=0,0,(AK11*((LOG(AK11))/LOG(2))))","v":0},null,{"$f":"N11","v":211},{"$f":"COUNTIF(L35:L41,AN11)","v":0},{"$f":"AO11/(AQ4-AO7)","v":0},{"$f":"IF(AP11=0,0,(AP11*((LOG(AP11))/LOG(2))))","v":0},null,{"$f":"N11","v":211},{"$f":"COUNTIF(L42:L48,AS11)","v":0},{"$f":"AT11/(AV4-AT7)","v":{"$error":"#DIV/0!"}},{"$f":"IF(AU11=0,0,(AU11*((LOG(AU11))/LOG(2))))","v":{"$error":"#DIV/0!"}}]
[11,825,11,831,11,838,null,null,null,null,0,111,null,212,{"$f":"COUNTIF($L$7:$L$500,N12)","v":0},{"$f":"O12/$Q$4","v":0},{"$f":"IF(P12=0,0,(P12*((LOG(P12))/LOG(2))))","v":0},null,null,{"$f":"N12","v":212},{"$f":"COUNTIF(L7:L13,T12)","v":0},{"$f":"U12/(W4-U7)","v":{"$error":"#DIV/0!"}},{"$f":"IF(V12=0,0,(V12*((LOG(V12))/LOG(2))))","v":{"$error":"#DIV/0!"}},null,{"$f":"N12","v":212},{"$f":"COUNTIF(L14:L20,Y12)","v":0},{"$f":"Z12/(AB4-Z7)","v":{"$error":"#DIV/0!"}},{"$f":"IF(AA12=0,0,(AA12*((LOG(AA12))/LOG(2))))","v":{"$error":"#DIV/0!"}},null,{"$f":"N12","v":212},{"$f":"COUNTIF(L21:L27,AD12)","v":0},{"$f":"AE12/(AG4-AE7)","v":{"$error":"#DIV/0!"}},{"$f":"IF(AF12=0,0,(AF12*((LOG(AF12))/LOG(2))))","v":{"$error":"#DIV/0!"}},null,{"$f":"N12","v":212},{"$f":"COUNTIF(L28:L34,AI12)","v":0},{"$f":"AJ12/(AL4-AJ7)","v":0},{"$f":"IF(AK12=0,0,(AK12*((LOG(AK12))/LOG(2))))","v":0},null,{"$f":"N12","v":212},{"$f":"COUNTIF(L35:L41,AN12)","v":0},{"$f":"AO12/(AQ4-AO7)","v":0},{"$f":"IF(AP12=0,0,(AP12*((LOG(AP12))/LOG(2))))","v":0},null,{"$f":"N12","v":212},{"$f":"COUNTIF(L42:L48,AS12)","v":0},{"$f":"AT12/(AV4-AT7)","v":{"$error":"#DIV/0!"}},{"$f":"IF(AU12=0,0,(AU12*((LOG(AU12))/LOG(2))))","v":{"$error":"#DIV/0!"}}]
[11,998,11,1005,11,1012,null,null,null,null,0,111,null,221,{"$f":"COUNTIF($L$7:$L$500,N13)","v":0},{"$f":"O13/$Q$4","v":0},{"$f":"IF(P13=0,0,(P13*((LOG(P13))/LOG(2))))","v":0},null,null,{"$f":"N13","v":221},{"$f":"COUNTIF(L7:L13,T13)","v":0},{"$f":"U13/(W4-U7)","v":{"$error":"#DIV/0!"}},{"$f":"IF(V13=0,0,(V13*((LOG(V13))/LOG(2))))","v":{"$error":"#DIV/0!"}},null,{"$f":"N13","v":221},{"$f":"COUNTIF(L14:L20,Y13)","v":0},{"$f":"Z13/(AB4-Z7)","v":{"$error":"#DIV/0!"}},{"$f":"IF(AA13=0,0,(AA13*((LOG(AA13))/LOG(2))))","v":{"$error":"#DIV/0!"}},null,{"$f":"N13","v":221},{"$f":"COUNTIF(L21:L27,AD13)","v":0},{"$f":"AE13/(AG4-AE7)","v":{"$error":"#DIV/0!"}},{"$f":"IF(AF13=0,0,(AF13*((LOG(AF13))/LOG(2))))","v":{"$error":"#DIV/0!"}},null,{"$f":"N13","v":221},{"$f":"COUNTIF(L28:L34,AI13)","v":0},{"$f":"AJ13/(AL4-AJ7)","v":0},{"$f":"IF(AK13=0,0,(AK13*((LOG(AK13))/LOG(2))))","v":0},null,{"$f":"N13","v":221},{"$f":"COUNTIF(L35:L41,AN13)","v":0},{"$f":"AO13/(AQ4-AO7)","v":0},{"$f":"IF(AP13=0,0,(AP13*((LOG(AP13))/LOG(2))))","v":0},null,{"$f":"N13","v":221},{"$f":"COUNTIF(L42:L48,AS13)","v":0},{"$f":"AT13/(AV4-AT7)","v":{"$error":"#DIV/0!"}},{"$f":"IF(AU13=0,0,(AU13*((LOG(AU13))/LOG(2))))","v":{"$error":"#DIV/0!"}}]
[11,1124,11,1130,11,1138,null,null,null,null,0,111,null,222,{"$f":"COUNTIF($L$7:$L$500,N14)","v":1},{"$f":"O14/$Q$4","v":2.3809523809523808E-2},{"$f":"IF(P14=0,0,(P14*((LOG(P14))/LOG(2))))","v":-0.12838851006616095},null,null,{"$f":"N14","v":222},{"$f":"COUNTIF(L7:L13,T14)","v":0},{"$f":"U14/(W4-U7)","v":{"$error":"#DIV/0!"}},{"$f":"IF(V14=0,0,(V14*((LOG(V14))/LOG(2))))","v":{"$error":"#DIV/0!"}},null,{"$f":"N14","v":222},{"$f":"COUNTIF(L14:L20,Y14)","v":0},{"$f":"Z14/(AB4-Z7)","v":{"$error":"#DIV/0!"}},{"$f":"IF(AA14=0,0,(AA14*((LOG(AA14))/LOG(2))))","v":{"$error":"#DIV/0!"}},null,{"$f":"N14","v":222},{"$f":"COUNTIF(L21:L27,AD14)","v":0},{"$f":"AE14/(AG4-AE7)","v":{"$error":"#DIV/0!"}},{"$f":"IF(AF14=0,0,(AF14*((LOG(AF14))/LOG(2))))","v":{"$error":"#DIV/0!"}},null,{"$f":"N14","v":222},{"$f":"COUNTIF(L28:L34,AI14)","v":1},{"$f":"AJ14/(AL4-AJ7)","v":1},{"$f":"IF(AK14=0,0,(AK14*((LOG(AK14))/LOG(2))))","v":0},null,{"$f":"N14","v":222},{"$f":"COUNTIF(L35:L41,AN14)","v":0},{"$f":"AO14/(AQ4-AO7)","v":0},{"$f":"IF(AP14=0,0,(AP14*((LOG(AP14))/LOG(2))))","v":0},null,{"$f":"N14","v":222},{"$f":"COUNTIF(L42:L48,AS14)","v":0},{"$f":"AT14/(AV4-AT7)","v":{"$error":"#DIV/0!"}},{"$f":"IF(AU14=0,0,(AU14*((LOG(AU14))/LOG(2))))","v":{"$error":"#DIV/0!"}}]
[11,1268,11,1276,11,1289,null,null,null,null,0,111,null,null,null,{"$f":"SUM(P7:P14)","v":1},{"$f":"-SUM(Q7:Q14)","v":0.3238144752669867},null,null,null,null,{"$f":"SUM(V7:V14)","v":{"$error":"#DIV/0!"}},{"$f":"-SUM(W7:W14)","v":{"$error":"#DIV/0!"}},null,null,null,{"$f":"SUM(AA7:AA14)","v":{"$error":"#DIV/0!"}},{"$f":"-SUM(AB7:AB14)","v":{"$error":"#DIV/0!"}},null,null,null,{"$f":"SUM(AF7:AF14)","v":{"$error":"#DIV/0!"}},{"$f":"-SUM(AG7:AG14)","v":{"$error":"#DIV/0!"}},null,null,null,{"$f":"SUM(AK7:AK14)","v":1},{"$f":"-SUM(AL7:AL14)","v":0},null,null,null,{"$f":"SUM(AP7:AP14)","v":1},{"$f":"-SUM(AQ7:AQ14)","v":0},null,null,null,{"$f":"SUM(AU7:AU14)","v":{"$error":"#DIV/0!"}},{"$f":"-SUM(AV7:AV14)","v":{"$error":"#DIV/0!"}}]
[11,1394,11,1402,11,1409,null,null,null,null,0,111,null,null,null,"U=",{"$f":"Q15/(LOG(Q4)/LOG(2))","v":6.0051078206022804E-2},null,null,null,null,"U1=",{"$f":"W15/(LOG(W4)/LOG(2))","v":{"$error":"#DIV/0!"}},null,null,null,"U2=",{"$f":"AB15/(LOG(AB4)/LOG(2))","v":{"$error":"#DIV/0!"}},null,null,null,"U3=",{"$f":"AG15/(LOG(AG4)/LOG(2))","v":{"$error":"#DIV/0!"}},null,null,null,"U4=",{"$f":"AL15/(LOG(AL4)/LOG(2))","v":0},null,null,null,"U5=",{"$f":"AQ15/(LOG(AQ4)/LOG(2))","v":0},null,null,null,"U6=",{"$f":"AV15/(LOG(AV4)/LOG(2))","v":{"$error":"#DIV/0!"}}]
[11,1596,11,1602,11,1609,null,null,null,null,0,111]
[11,1735,11,1742,11,1749,null,null,null,null,0,111]
[11,1914,11,1920,11,1926,null,null,null,null,0,111,null,"Total Target Seq"]
[11,2153,11,2158,11,2169,null,null,null,null,0,111,null,{"$f":"COUNTIF(L7:L48,G3)","v":40},null,7,7,7,7,7,7]
[11,2378,11,2383,11,2389,null,null,null,null,0,111,null,null,null,"% of reinforcement given in 6 equal intervals based on number of trials "]
[11,2557,11,2562,11,2569,null,null,null,null,0,111,null,null,null,"%_1","%_2","%_3","%_4","%_5","%_6"]
[11,2757,11,2763,11,2769,null,null,null,null,0,111,null,null,"target sequence",{"$f":"$G$3","v":111},{"$f":"$G$3","v":111},{"$f":"$G$3","v":111},{"$f":"$G$3","v":111},{"$f":"$G$3","v":111},{"$f":"$G$3","v":111}]
[11,2925,11,2934,11,2942,null,null,null,null,0,111,null,null,"total reinforcement",{"$f":"U7","v":7},{"$f":"Z7","v":7},{"$f":"AE7","v":7},{"$f":"AJ7","v":6},{"$f":"AO7","v":6},{"$f":"AT7","v":7}]
[11,3082,11,3086,11,3092,null,null,null,null,0,111,null,null,"% target"]
[11,3289,11,3294,11,3316,null,null,null,null,0,111,null,null,"CCRF"]
[11,3432,11,3438,11,3444,null,null,null,null,0,111,null,null,"% CCRf"]
[11,3624,11,3630,11,3637,null,null,null,null,0,111,null,null,"average response rate",{"$f":"F13/P20","v":144.57142857142858},{"$f":"(F20-F13)/Q20","v":165.28571428571428},{"$f":"(F27-F20)/R20","v":182.14285714285714},{"$f":"(F34-F27)/S20","v":192.28571428571428},{"$f":"(F41-F34)/T20","v":258.71428571428572},{"$f":"(F48-F41)/U20","v":252.71428571428572}]
[22,3843,24,3848,24,3855,null,null,null,null,0,222]
[11,4014,11,4019,11,4026,null,null,null,null,0,111]
[11,4191,11,4196,11,4201,null,null,null,null,0,111]
[11,4380,11,4384,11,4390,null,null,null,null,0,111]
[11,4557,11,4563,11,4577,null,null,null,null,0,111]
[11,4773,11,4778,11,4790,null,null,null,null,0,111]
[11,4983,11,4988,11,4995,null,null,null,null,0,111]
[11,5209,11,5212,11,5220,null,null,null,null,0,111]
[11,5391,11,5397,11,5405,null,null,null,null,0,111]
[11,5608,11,5614,11,5620,null,null,null,null,0,111]
[11,5866,11,5870,11,5876,null,null,null,null,0,111]
[11,6130,11,6135,11,6159,null,null,null,null,0,111]
[11,6588,22,6596,24,6601,null,null,null,null,0,122]
[11,6699,11,6707,11,6714,null,null,null,null,0,111]
[11,6958,11,6963,11,6979,null,null,null,null,0,111]
[11,7206,11,7212,11,7218,null,null,null,null,0,111]
[11,7488,11,7493,11,7498,null,null,null,null,0,111]
[11,7830,11,7835,11,7849,null,null,null,null,0,111]
[11,8155,11,8158,11,8180,null,null,null,null,0,111]
[11,8363,11,8366,11,8370,null,null,null,null,1,111]

{"sheet":"!M629A2D.ust","index":9,"n_rows":46,"n_cols":48,"rows_kept":46,"cut":false,"hidden":false,"merged":[[4,39,4,42],[5,39,5,40],[4,44,4,47],[5,44,5,45],[4,24,4,27],[5,24,5,25],[4,29,4,32],[5,29,5,30],[4,34,4,37],[5,34,5,35],[1,1,1,2],[5,13,5,14],[18,13,18,14],[19,13,19,14],[4,19,4,22],[5,19,5,20]]}
["Report for:!M629A2D.ust"]
["Date:","<date>"]
["Hen:","<hen>",null,null,null,"Correct Sequence",{"$f":"Start!J2","v":111},null,null,null,null,null,null,null,null,"Total Sequences in Data",{"$f":"4994-COUNTBLANK(L7:L5000)","v":40},null,null,null,null,"Total Sequences in Block Data",{"$f":"COUNTA(L7:L13)","v":7},null,null,null,"Total Sequences in Block Data",{"$f":"COUNTA(L14:L19)","v":6},null,null,null,"Total Sequences in Block Data",{"$f":"COUNTA(L20:L26)","v":7},null,null,null,"Total Sequences in Block Data",{"$f":"COUNTA(L27:L33)","v":7},null,null,null,"Total Sequences in Block Data",{"$f":"COUNTA(L34:L39)","v":6},null,null,null,"Total Sequences in Block Data",{"$f":"COUNTA(L40:L46)","v":7}]
[null,null,null,null,null,null,null,null,null,null,null,null,null,null,null,"Total Sequences in Summary",{"$f":"SUM(O7:O14)","v":40},null,null,null,null,"Total Sequences in Block Summary",{"$f":"SUM(U7:U14)","v":7},null,null,null,"Total Sequences in Block Summary",{"$f":"SUM(Z7:Z14)","v":6},null,null,null,"Total Sequences in Block Summary",{"$f":"SUM(AE7:AE14)","v":7},null,null,null,"Total Sequences in Block Summary",{"$f":"SUM(AJ7:AJ14)","v":7},null,null,null,"Total Sequences in Block Summary",{"$f":"SUM(AO7:AO14)","v":6},null,null,null,"Total Sequences in Block Summary",{"$f":"SUM(AT7:AT14)","v":7}]
[null,null,null,null,null,null,null,null,null,null,null,null,null,null,null,null,null,null,null,"Block 1",null,null,null,null,"Block 2",null,null,null,null,"Block 3",null,null,null,null,"Block 4",null,null,null,null,"Block 5",null,null,null,null,"Block 6"]
["Sequence\nComponent\n1","Time\n1","Sequence\nComponent\n2","Time\n2","Sequence\nComponent\n3","Time\n3","Sequence\nComponent\n4","Time\n4","Sequence\nComponent\n5","Time\n5","Correct?\n0=No 1=Yes","Sequence",null,"Frequency",null,"Relative Frequency","Variability",null,null,"Frequency",null,"Relative Frequency","Variability",null,"Frequency",null,"Relative Frequency","Variability",null,"Frequency",null,"Relative Frequency","Variability",null,"Frequency",null,"Relative Frequency","Variability",null,"Frequency",null,"Relative Frequency","Variability",null,"Frequency",null,"Relative Frequency","Variability"]
[11,3,11,9,11,18,null,null,null,null,0,111,null,111,{"$f":"COUNTIF($L$7:$L$500,N7)","v":40},{"$f":"O7/$Q$4","v":1},{"$f":"IF(P7=0,0,(P7*((LOG(P7))/LOG(2))))","v":0},null,null,{"$f":"N7","v":111},{"$f":"COUNTIF(L7:L13,T7)","v":7},null,null,null,{"$f":"N7","v":111},{"$f":"COUNTIF(L14:L19,Y7)","v":6},null,null,null,{"$f":"N7","v":111},{"$f":"COUNTIF(L20:L26,AD7)","v":7},null,null,null,{"$f":"N7","v":111},{"$f":"COUNTIF(L27:L33,AI7)","v":7},null,null,null,{"$f":"N7","v":111},{"$f":"COUNTIF(L34:L39,AN7)","v":6},null,null,null,{"$f":"N7","v":111},{"$f":"COUNTIF(L40:L46,AS7)","v":7}]
[11,186,11,193,11,211,null,null,null,null,0,111,null,112,{"$f":"COUNTIF($L$7:$L$500,N8)","v":0},{"$f":"O8/$Q$4","v":0},{"$f":"IF(P8=0,0,(P8*((LOG(P8))/LOG(2))))","v":0},null,null,{"$f":"N8","v":112},{"$f":"COUNTIF(L7:L13,T8)","v":0},{"$f":"U8/(W4-U7)","v":{"$error":"#DIV/0!"}},{"$f":"IF(V8=0,0,(V8*((LOG(V8))/LOG(2))))","v":{"$error":"#DIV/0!"}},null,{"$f":"N8","v":112},{"$f":"COUNTIF(L14:L19,Y8)","v":0},{"$f":"Z8/(AB4-Z7)","v":{"$error":"#DIV/0!"}},{"$f":"IF(AA8=0,0,(AA8*((LOG(AA8))/LOG(2))))","v":{"$error":"#DIV/0!"}},null,{"$f":"N8","v":112},{"$f":"COUNTIF(L20:L26,AD8)","v":0},{"$f":"AE8/(AG4-AE7)","v":{"$error":"#DIV/0!"}},{"$f":"IF(AF8=0,0,(AF8*((LOG(AF8))/LOG(2))))","v":{"$error":"#DIV/0!"}},null,{"$f":"N8","v":112},{"$f":"COUNTIF(L27:L33,AI8)","v":0},{"$f":"AJ8/(AL4-AJ7)","v":{"$error":"#DIV/0!"}},{"$f":"IF(AK8=0,0,(AK8*((LOG(AK8))/LOG(2))))","v":{"$error":"#DIV/0!"}},null,{"$f":"N8","v":112},{"$f":"COUNTIF(L34:L39,AN8)","v":0},{"$f":"AO8/(AQ4-AO7)","v":{"$error":"#DIV/0!"}},{"$f":"IF(AP8=0,0,(AP8*((LOG(AP8))/LOG(2))))","v":{"$error":"#DIV/0!"}},null,{"$f":"N8","v":112},{"$f":"COUNTIF(L40:L46,AS8)","v":0},{"$f":"AT8/(AV4-AT7)","v":{"$error":"#DIV/0!"}},{"$f":"IF(AU8=0,0,(AU8*((LOG(AU8))/LOG(2))))","v":{"$error":"#DIV/0!"}}]
[11,358,11,362,11,368,null,null,null,null,0,111,null,121,{"$f":"COUNTIF($L$7:$L$500,N9)","v":0},{"$f":"O9/$Q$4","v":0},{"$f":"IF(P9=0,0,(P9*((LOG(P9))/LOG(2))))","v":0},null,null,{"$f":"N9","v":121},{"$f":"COUNTIF(L7:L13,T9)","v":0},{"$f":"U9/(W4-U7)","v":{"$error":"#DIV/0!"}},{"$f":"IF(V9=0,0,(V9*((LOG(V9))/LOG(2))))","v":{"$error":"#DIV/0!"}},null,{"$f":"N9","v":121},{"$f":"COUNTIF(L14:L19,Y9)","v":0},{"$f":"Z9/(AB4-Z7)","v":{"$error":"#DIV/0!"}},{"$f":"IF(AA9=0,0,(AA9*((LOG(AA9))/LOG(2))))","v":{"$error":"#DIV/0!"}},null,{"$f":"N9","v":121},{"$f":"COUNTIF(L20:L26,AD9)","v":0},{"$f":"AE9/(AG4-AE7)","v":{"$error":"#DIV/0!"}},{"$f":"IF(AF9=0,0,(AF9*((LOG(AF9))/LOG(2))))","v":{"$error":"#DIV/0!"}},null,{"$f":"N9","v":121},{"$f":"COUNTIF(L27:L33,AI9)","v":0},{"$f":"AJ9/(AL4-AJ7)","v":{"$error":"#DIV/0!"}},{"$f":"IF(AK9=0,0,(AK9*((LOG(AK9))/LOG(2))))","v":{"$error":"#DIV/0!"}},null,{"$f":"N9","v":121},{"$f":"COUNTIF(L34:L39,AN9)","v":0},{"$f":"AO9/(AQ4-AO7)","v":{"$error":"#DIV/0!"}},{"$f":"IF(AP9=0,0,(AP9*((LOG(AP9))/LOG(2))))","v":{"$error":"#DIV/0!"}},null,{"$f":"N9","v":121},{"$f":"COUNTIF(L40:L46,AS9)","v":0},{"$f":"AT9/(AV4-AT7)","v":{"$error":"#DIV/0!"}},{"$f":"IF(AU9=0,0,(AU9*((LOG(AU9))/LOG(2))))","v":{"$error":"#DIV/0!"}}]
[11,528,11,533,11,540,null,null,null,null,0,111,null,122,{"$f":"COUNTIF($L$7:$L$500,N10)","v":0},{"$f":"O10/$Q$4","v":0},{"$f":"IF(P10=0,0,(P10*((LOG(P10))/LOG(2))))","v":0},null,null,{"$f":"N10","v":122},{"$f":"COUNTIF(L7:L13,T10)","v":0},{"$f":"U10/(W4-U7)","v":{"$error":"#DIV/0!"}},{"$f":"IF(V10=0,0,(V10*((LOG(V10))/LOG(2))))","v":{"$error":"#DIV/0!"}},null,{"$f":"N10","v":122},{"$f":"COUNTIF(L14:L19,Y10)","v":0},{"$f":"Z10/(AB4-Z7)","v":{"$error":"#DIV/0!"}},{"$f":"IF(AA10=0,0,(AA10*((LOG(AA10))/LOG(2))))","v":{"$error":"#DIV/0!"}},null,{"$f":"N10","v":122},{"$f":"COUNTIF(L20:L26,AD10)","v":0},{"$f":"AE10/(AG4-AE7)","v":{"$error":"#DIV/0!"}},{"$f":"IF(AF10=0,0,(AF10*((LOG(AF10))/LOG(2))))","v":{"$error":"#DIV/0!"}},null,{"$f":"N10","v":122},{"$f":"COUNTIF(L27:L33,AI10)","v":0},{"$f":"AJ10/(AL4-AJ7)","v":{"$error":"#DIV/0!"}},{"$f":"IF(AK10=0,0,(AK10*((LOG(AK10))/LOG(2))))","v":{"$error":"#DIV/0!"}},null,{"$f":"N10","v":122},{"$f":"COUNTIF(L34:L39,AN10)","v":0},{"$f":"AO10/(AQ4-AO7)","v":{"$error":"#DIV/0!"}},{"$f":"IF(AP10=0,0,(AP10*((LOG(AP10))/LOG(2))))","v":{"$error":"#DIV/0!"}},null,{"$f":"N10","v":122},{"$f":"COUNTIF(L40:L46,AS10)","v":0},{"$f":"AT10/(AV4-AT7)","v":{"$error":"#DIV/0!"}},{"$f":"IF(AU10=0,0,(AU10*((LOG(AU10))/LOG(2))))","v":{"$error":"#DIV/0!"}}]
[11,679,11,684,11,693,null,null,null,null,0,111,null,211,{"$f":"COUNTIF($L$7:$L$500,N11)","v":0},{"$f":"O11/$Q$4","v":0},{"$f":"IF(P11=0,0,(P11*((LOG(P11))/LOG(2))))","v":0},null,null,{"$f":"N11","v":211},{"$f":"COUNTIF(L7:L13,T11)","v":0},{"$f":"U11/(W4-U7)","v":{"$error":"#DIV/0!"}},{"$f":"IF(V11=0,0,(V11*((LOG(V11))/LOG(2))))","v":{"$error":"#DIV/0!"}},null,{"$f":"N11","v":211},{"$f":"COUNTIF(L14:L19,Y11)","v":0},{"$f":"Z11/(AB4-Z7)","v":{"$error":"#DIV/0!"}},{"$f":"IF(AA11=0,0,(AA11*((LOG(AA11))/LOG(2))))","v":{"$error":"#DIV/0!"}},null,{"$f":"N11","v":211},{"$f":"COUNTIF(L20:L26,AD11)","v":0},{"$f":"AE11/(AG4-AE7)","v":{"$error":"#DIV/0!"}},{"$f":"IF(AF11=0,0,(AF11*((LOG(AF11))/LOG(2))))","v":{"$error":"#DIV/0!"}},null,{"$f":"N11","v":211},{"$f":"COUNTIF(L27:L33,AI11)","v":0},{"$f":"AJ11/(AL4-AJ7)","v":{"$error":"#DIV/0!"}},{"$f":"IF(AK11=0,0,(AK11*((LOG(AK11))/LOG(2))))","v":{"$error":"#DIV/0!"}},null,{"$f":"N11","v":211},{"$f":"COUNTIF(L34:L39,AN11)","v":0},{"$f":"AO11/(AQ4-AO7)","v":{"$error":"#DIV/0!"}},{"$f":"IF(AP11=0,0,(AP11*((LOG(AP11))/LOG(2))))","v":{"$error":"#DIV/0!"}},null,{"$f":"N11","v":211},{"$f":"COUNTIF(L40:L46,AS11)","v":0},{"$f":"AT11/(AV4-AT7)","v":{"$error":"#DIV/0!"}},{"$f":"IF(AU11=0,0,(AU11*((LOG(AU11))/LOG(2))))","v":{"$error":"#DIV/0!"}}]
[11,863,11,869,11,874,null,null,null,null,0,111,null,212,{"$f":"COUNTIF($L$7:$L$500,N12)","v":0},{"$f":"O12/$Q$4","v":0},{"$f":"IF(P12=0,0,(P12*((LOG(P12))/LOG(2))))","v":0},null,null,{"$f":"N12","v":212},{"$f":"COUNTIF(L7:L13,T12)","v":0},{"$f":"U12/(W4-U7)","v":{"$error":"#DIV/0!"}},{"$f":"IF(V12=0,0,(V12*((LOG(V12))/LOG(2))))","v":{"$error":"#DIV/0!"}},null,{"$f":"N12","v":212},{"$f":"COUNTIF(L14:L19,Y12)","v":0},{"$f":"Z12/(AB4-Z7)","v":{"$error":"#DIV/0!"}},{"$f":"IF(AA12=0,0,(AA12*((LOG(AA12))/LOG(2))))","v":{"$error":"#DIV/0!"}},null,{"$f":"N12","v":212},{"$f":"COUNTIF(L20:L26,AD12)","v":0},{"$f":"AE12/(AG4-AE7)","v":{"$error":"#DIV/0!"}},{"$f":"IF(AF12=0,0,(AF12*((LOG(AF12))/LOG(2))))","v":{"$error":"#DIV/0!"}},null,{"$f":"N12","v":212},{"$f":"COUNTIF(L27:L33,AI12)","v":0},{"$f":"AJ12/(AL4-AJ7)","v":{"$error":"#DIV/0!"}},{"$f":"IF(AK12=0,0,(AK12*((LOG(AK12))/LOG(2))))","v":{"$error":"#DIV/0!"}},null,{"$f":"N12","v":212},{"$f":"COUNTIF(L34:L39,AN12)","v":0},{"$f":"AO12/(AQ4-AO7)","v":{"$error":"#DIV/0!"}},{"$f":"IF(AP12=0,0,(AP12*((LOG(AP12))/LOG(2))))","v":{"$error":"#DIV/0!"}},null,{"$f":"N12","v":212},{"$f":"COUNTIF(L40:L46,AS12)","v":0},{"$f":"AT12/(AV4-AT7)","v":{"$error":"#DIV/0!"}},{"$f":"IF(AU12=0,0,(AU12*((LOG(AU12))/LOG(2))))","v":{"$error":"#DIV/0!"}}]
[11,1032,11,1036,11,1044,null,null,null,null,0,111,null,221,{"$f":"COUNTIF($L$7:$L$500,N13)","v":0},{"$f":"O13/$Q$4","v":0},{"$f":"IF(P13=0,0,(P13*((LOG(P13))/LOG(2))))","v":0},null,null,{"$f":"N13","v":221},{"$f":"COUNTIF(L7:L13,T13)","v":0},{"$f":"U13/(W4-U7)","v":{"$error":"#DIV/0!"}},{"$f":"IF(V13=0,0,(V13*((LOG(V13))/LOG(2))))","v":{"$error":"#DIV/0!"}},null,{"$f":"N13","v":221},{"$f":"COUNTIF(L14:L19,Y13)","v":0},{"$f":"Z13/(AB4-Z7)","v":{"$error":"#DIV/0!"}},{"$f":"IF(AA13=0,0,(AA13*((LOG(AA13))/LOG(2))))","v":{"$error":"#DIV/0!"}},null,{"$f":"N13","v":221},{"$f":"COUNTIF(L20:L26,AD13)","v":0},{"$f":"AE13/(AG4-AE7)","v":{"$error":"#DIV/0!"}},{"$f":"IF(AF13=0,0,(AF13*((LOG(AF13))/LOG(2))))","v":{"$error":"#DIV/0!"}},null,{"$f":"N13","v":221},{"$f":"COUNTIF(L27:L33,AI13)","v":0},{"$f":"AJ13/(AL4-AJ7)","v":{"$error":"#DIV/0!"}},{"$f":"IF(AK13=0,0,(AK13*((LOG(AK13))/LOG(2))))","v":{"$error":"#DIV/0!"}},null,{"$f":"N13","v":221},{"$f":"COUNTIF(L34:L39,AN13)","v":0},{"$f":"AO13/(AQ4-AO7)","v":{"$error":"#DIV/0!"}},{"$f":"IF(AP13=0,0,(AP13*((LOG(AP13))/LOG(2))))","v":{"$error":"#DIV/0!"}},null,{"$f":"N13","v":221},{"$f":"COUNTIF(L40:L46,AS13)","v":0},{"$f":"AT13/(AV4-AT7)","v":{"$error":"#DIV/0!"}},{"$f":"IF(AU13=0,0,(AU13*((LOG(AU13))/LOG(2))))","v":{"$error":"#DIV/0!"}}]
[11,1142,11,1151,11,1156,null,null,null,null,0,111,null,222,{"$f":"COUNTIF($L$7:$L$500,N14)","v":0},{"$f":"O14/$Q$4","v":0},{"$f":"IF(P14=0,0,(P14*((LOG(P14))/LOG(2))))","v":0},null,null,{"$f":"N14","v":222},{"$f":"COUNTIF(L7:L13,T14)","v":0},{"$f":"U14/(W4-U7)","v":{"$error":"#DIV/0!"}},{"$f":"IF(V14=0,0,(V14*((LOG(V14))/LOG(2))))","v":{"$error":"#DIV/0!"}},null,{"$f":"N14","v":222},{"$f":"COUNTIF(L14:L19,Y14)","v":0},{"$f":"Z14/(AB4-Z7)","v":{"$error":"#DIV/0!"}},{"$f":"IF(AA14=0,0,(AA14*((LOG(AA14))/LOG(2))))","v":{"$error":"#DIV/0!"}},null,{"$f":"N14","v":222},{"$f":"COUNTIF(L20:L26,AD14)","v":0},{"$f":"AE14/(AG4-AE7)","v":{"$error":"#DIV/0!"}},{"$f":"IF(AF14=0,0,(AF14*((LOG(AF14))/LOG(2))))","v":{"$error":"#DIV/0!"}},null,{"$f":"N14","v":222},{"$f":"COUNTIF(L27:L33,AI14)","v":0},{"$f":"AJ14/(AL4-AJ7)","v":{"$error":"#DIV/0!"}},{"$f":"IF(AK14=0,0,(AK14*((LOG(AK14))/LOG(2))))","v":{"$error":"#DIV/0!"}},null,{"$f":"N14","v":222},{"$f":"COUNTIF(L34:L39,AN14)","v":0},{"$f":"AO14/(AQ4-AO7)","v":{"$error":"#DIV/0!"}},{"$f":"IF(AP14=0,0,(AP14*((LOG(AP14))/LOG(2))))","v":{"$error":"#DIV/0!"}},null,{"$f":"N14","v":222},{"$f":"COUNTIF(L40:L46,AS14)","v":0},{"$f":"AT14/(AV4-AT7)","v":{"$error":"#DIV/0!"}},{"$f":"IF(AU14=0,0,(AU14*((LOG(AU14))/LOG(2))))","v":{"$error":"#DIV/0!"}}]
[11,1355,11,1359,11,1365,null,null,null,null,0,111,null,null,null,{"$f":"SUM(P7:P14)","v":1},{"$f":"-SUM(Q7:Q14)","v":0},null,null,null,null,{"$f":"SUM(V7:V14)","v":{"$error":"#DIV/0!"}},{"$f":"-SUM(W7:W14)","v":{"$error":"#DIV/0!"}},null,null,null,{"$f":"SUM(AA7:AA14)","v":{"$error":"#DIV/0!"}},{"$f":"-SUM(AB7:AB14)","v":{"$error":"#DIV/0!"}},null,null,null,{"$f":"SUM(AF7:AF14)","v":{"$error":"#DIV/0!"}},{"$f":"-SUM(AG7:AG14)","v":{"$error":"#DIV/0!"}},null,null,null,{"$f":"SUM(AK7:AK14)","v":{"$error":"#DIV/0!"}},{"$f":"-SUM(AL7:AL14)","v":{"$error":"#DIV/0!"}},null,null,null,{"$f":"SUM(AP7:AP14)","v":{"$error":"#DIV/0!"}},{"$f":"-SUM(AQ7:AQ14)","v":{"$error":"#DIV/0!"}},null,null,null,{"$f":"SUM(AU7:AU14)","v":{"$error":"#DIV/0!"}},{"$f":"-SUM(AV7:AV14)","v":{"$error":"#DIV/0!"}}]
[11,1548,11,1553,11,1564,null,null,null,null,0,111,null,null,null,"U=",{"$f":"Q15/(LOG(Q4)/LOG(2))","v":0},null,null,null,null,"U1=",{"$f":"W15/(LOG(W4)/LOG(2))","v":{"$error":"#DIV/0!"}},null,null,null,"U2=",{"$f":"AB15/(LOG(AB4)/LOG(2))","v":{"$error":"#DIV/0!"}},null,null,null,"U3=",{"$f":"AG15/(LOG(AG4)/LOG(2))","v":{"$error":"#DIV/0!"}},null,null,null,"U4=",{"$f":"AL15/(LOG(AL4)/LOG(2))","v":{"$error":"#DIV/0!"}},null,null,null,"U5=",{"$f":"AQ15/(LOG(AQ4)/LOG(2))","v":{"$error":"#DIV/0!"}},null,null,null,"U6=",{"$f":"AV15/(LOG(AV4)/LOG(2))","v":{"$error":"#DIV/0!"}}]
[11,1718,11,1722,11,1728,null,null,null,null,0,111]
[11,1898,11,1904,11,1911,null,null,null,null,0,111]
[11,2040,11,2044,11,2050,null,null,null,null,0,111,null,"Total Target Seq"]
[11,2223,11,2228,11,2236,null,null,null,null,0,111,null,{"$f":"COUNTIF(L7:L46,G3)","v":40},null,7,6,7,7,6,7]
[11,2441,11,2444,11,2451,null,null,null,null,0,111,null,null,null,"% of reinforcement given in 6 equal intervals based on number of trials "]
[11,2606,11,2611,11,2616,null,null,null,null,0,111,null,null,null,"%_1","%_2","%_3","%_4","%_5","%_6"]
[11,2782,11,2789,11,2805,null,null,null,null,0,111,null,null,"target sequence",{"$f":"$G$3","v":111},{"$f":"$G$3","v":111},{"$f":"$G$3","v":111},{"$f":"$G$3","v":111},{"$f":"$G$3","v":111},{"$f":"$G$3","v":111}]
[11,2952,11,2958,11,2969,null,null,null,null,0,111,null,null,"total reinforcement",{"$f":"U7","v":7},{"$f":"Z7","v":6},{"$f":"AE7","v":7},{"$f":"AJ7","v":7},{"$f":"AO7","v":6},{"$f":"AT7","v":7}]
[11,3126,11,3132,11,3138,null,null,null,null,0,111,null,null,"% target"]
[11,3325,11,3330,11,3336,null,null,null,null,0,111,null,null,"CCRF"]
[11,3570,11,3574,11,3580,null,null,null,null,0,111,null,null,"% CCRf"]
[11,3744,11,3749,11,3755,null,null,null,null,0,111,null,null,"average response rate",{"$f":"F13/P20","v":149.14285714285714},{"$f":"(F19-F13)/Q20","v":167.66666666666666},{"$f":"(F26-F19)/R20","v":183.71428571428572},{"$f":"(F33-F26)/S20","v":199.42857142857142},{"$f":"(F39-F33)/T20","v":230.5},{"$f":"(F46-F39)/U20","v":283.42857142857144}]
[11,3914,11,3919,11,3926,null,null,null,null,0,111]
[11,4126,11,4131,11,4137,null,null,null,null,0,111]
[11,4339,11,4344,11,4358,null,null,null,null,0,111]
[11,4556,11,4561,11,4564,null,null,null,null,0,111]
[11,4716,11,4722,11,4732,null,null,null,null,0,111]
[11,4890,11,4894,11,4900,null,null,null,null,0,111]
[11,5060,11,5062,11,5082,null,null,null,null,0,111]
[11,5298,11,5304,11,5313,null,null,null,null,0,111]
[11,5533,11,5544,11,5555,null,null,null,null,0,111]
[11,5779,11,5783,11,5790,null,null,null,null,0,111]
[11,6104,11,6109,11,6115,null,null,null,null,0,111]
[11,6575,11,6581,11,6589,null,null,null,null,0,111]
[11,6769,11,6772,11,6775,null,null,null,null,0,111]
[11,7038,11,7044,11,7056,null,null,null,null,0,111]
[11,7310,11,7316,11,7334,null,null,null,null,0,111]
[11,7611,11,7617,11,7623,null,null,null,null,0,111]
[11,7814,11,7818,11,7824,null,null,null,null,0,111]
[11,8088,11,8093,11,8099,null,null,null,null,1,111]

{"sheet":"!M630C3D.ust","index":10,"n_rows":48,"n_cols":48,"rows_kept":48,"cut":false,"hidden":false,"merged":[[4,39,4,42],[5,39,5,40],[4,44,4,47],[5,44,5,45],[4,24,4,27],[5,24,5,25],[4,29,4,32],[5,29,5,30],[4,34,4,37],[5,34,5,35],[1,1,1,2],[5,13,5,14],[18,13,18,14],[19,13,19,14],[4,19,4,22],[5,19,5,20]]}
["Report for:!M630C3D.ust"]
["Date:","<date>"]
["Hen:","<hen>",null,null,null,"Correct Sequence",{"$f":"Start!J2","v":111},null,null,null,null,null,null,null,null,"Total Sequences in Data",{"$f":"4994-COUNTBLANK(L7:L5000)","v":42},null,null,null,null,"Total Sequences in Block Data",{"$f":"COUNTA(L7:L13)","v":7},null,null,null,"Total Sequences in Block Data",{"$f":"COUNTA(L14:L20)","v":7},null,null,null,"Total Sequences in Block Data",{"$f":"COUNTA(L21:L27)","v":7},null,null,null,"Total Sequences in Block Data",{"$f":"COUNTA(L28:L34)","v":7},null,null,null,"Total Sequences in Block Data",{"$f":"COUNTA(L35:L41)","v":7},null,null,null,"Total Sequences in Block Data",{"$f":"COUNTA(L42:L48)","v":7}]
[null,null,null,null,null,null,null,null,null,null,null,null,null,null,null,"Total Sequences in Summary",{"$f":"SUM(O7:O14)","v":42},null,null,null,null,"Total Sequences in Block Summary",{"$f":"SUM(U7:U14)","v":7},null,null,null,"Total Sequences in Block Summary",{"$f":"SUM(Z7:Z14)","v":7},null,null,null,"Total Sequences in Block Summary",{"$f":"SUM(AE7:AE14)","v":7},null,null,null,"Total Sequences in Block Summary",{"$f":"SUM(AJ7:AJ14)","v":7},null,null,null,"Total Sequences in Block Summary",{"$f":"SUM(AO7:AO14)","v":7},null,null,null,"Total Sequences in Block Summary",{"$f":"SUM(AT7:AT14)","v":7}]
[null,null,null,null,null,null,null,null,null,null,null,null,null,null,null,null,null,null,null,"Block 1",null,null,null,null,"Block 2",null,null,null,null,"Block 3",null,null,null,null,"Block 4",null,null,null,null,"Block 5",null,null,null,null,"Block 6"]
["Sequence\nComponent\n1","Time\n1","Sequence\nComponent\n2","Time\n2","Sequence\nComponent\n3","Time\n3","Sequence\nComponent\n4","Time\n4","Sequence\nComponent\n5","Time\n5","Correct?\n0=No 1=Yes","Sequence",null,"Frequency",null,"Relative Frequency","Variability",null,null,"Frequency",null,"Relative Frequency","Variability",null,"Frequency",null,"Relative Frequency","Variability",null,"Frequency",null,"Relative Frequency","Variability",null,"Frequency",null,"Relative Frequency","Variability",null,"Frequency",null,"Relative Frequency","Variability",null,"Frequency",null,"Relative Frequency","Variability"]
[22,5,13,16,13,20,null,null,null,null,0,211,null,111,{"$f":"COUNTIF($L$7:$L$500,N7)","v":40},{"$f":"O7/$Q$4","v":0.95238095238095233},{"$f":"IF(P7=0,0,(P7*((LOG(P7))/LOG(2))))","v":-6.7037455134664775E-2},null,null,{"$f":"N7","v":111},{"$f":"COUNTIF(L7:L13,T7)","v":5},null,null,null,{"$f":"N7","v":111},{"$f":"COUNTIF(L14:L20,Y7)","v":7},null,null,null,{"$f":"N7","v":111},{"$f":"COUNTIF(L21:L27,AD7)","v":7},null,null,null,{"$f":"N7","v":111},{"$f":"COUNTIF(L28:L34,AI7)","v":7},null,null,null,{"$f":"N7","v":111},{"$f":"COUNTIF(L35:L41,AN7)","v":7},null,null,null,{"$f":"N7","v":111},{"$f":"COUNTIF(L42:L48,AS7)","v":7}]
[11,129,11,134,22,149,null,null,null,null,0,112,null,112,{"$f":"COUNTIF($L$7:$L$500,N8)","v":1},{"$f":"O8/$Q$4","v":2.3809523809523808E-2},{"$f":"IF(P8=0,0,(P8*((LOG(P8))/LOG(2))))","v":-0.12838851006616095},null,null,{"$f":"N8","v":112},{"$f":"COUNTIF(L7:L13,T8)","v":1},{"$f":"U8/(W4-U7)","v":0.5},{"$f":"IF(V8=0,0,(V8*((LOG(V8))/LOG(2))))","v":-0.5},null,{"$f":"N8","v":112},{"$f":"COUNTIF(L14:L20,Y8)","v":0},{"$f":"Z8/(AB4-Z7)","v":{"$error":"#DIV/0!"}},{"$f":"IF(AA8=0,0,(AA8*((LOG(AA8))/LOG(2))))","v":{"$error":"#DIV/0!"}},null,{"$f":"N8","v":112},{"$f":"COUNTIF(L21:L27,AD8)","v":0},{"$f":"AE8/(AG4-AE7)","v":{"$error":"#DIV/0!"}},{"$f":"IF(AF8=0,0,(AF8*((LOG(AF8))/LOG(2))))","v":{"$error":"#DIV/0!"}},null,{"$f":"N8","v":112},{"$f":"COUNTIF(L28:L34,AI8)","v":0},{"$f":"AJ8/(AL4-AJ7)","v":{"$error":"#DIV/0!"}},{"$f":"IF(AK8=0,0,(AK8*((LOG(AK8))/LOG(2))))","v":{"$error":"#DIV/0!"}},null,{"$f":"N8","v":112},{"$f":"COUNTIF(L35:L41,AN8)","v":0},{"$f":"AO8/(AQ4-AO7)","v":{"$error":"#DIV/0!"}},{"$f":"IF(AP8=0,0,(AP8*((LOG(AP8))/LOG(2))))","v":{"$error":"#DIV/0!"}},null,{"$f":"N8","v":112},{"$f":"COUNTIF(L42:L48,AS8)","v":0},{"$f":"AT8/(AV4-AT7)","v":{"$error":"#DIV/0!"}},{"$f":"IF(AU8=0,0,(AU8*((LOG(AU8))/LOG(2))))","v":{"$error":"#DIV/0!"}}]
[11,245,11,250,11,258,null,null,null,null,0,111,null,121,{"$f":"COUNTIF($L$7:$L$500,N9)","v":0},{"$f":"O9/$Q$4","v":0},{"$f":"IF(P9=0,0,(P9*((LOG(P9))/LOG(2))))","v":0},null,null,{"$f":"N9","v":121},{"$f":"COUNTIF(L7:L13,T9)","v":0},{"$f":"U9/(W4-U7)","v":0},{"$f":"IF(V9=0,0,(V9*((LOG(V9))/LOG(2))))","v":0},null,{"$f":"N9","v":121},{"$f":"COUNTIF(L14:L20,Y9)","v":0},{"$f":"Z9/(AB4-Z7)","v":{"$error":"#DIV/0!"}},{"$f":"IF(AA9=0,0,(AA9*((LOG(AA9))/LOG(2))))","v":{"$error":"#DIV/0!"}},null,{"$f":"N9","v":121},{"$f":"COUNTIF(L21:L27,AD9)","v":0},{"$f":"AE9/(AG4-AE7)","v":{"$error":"#DIV/0!"}},{"$f":"IF(AF9=0,0,(AF9*((LOG(AF9))/LOG(2))))","v":{"$error":"#DIV/0!"}},null,{"$f":"N9","v":121},{"$f":"COUNTIF(L28:L34,AI9)","v":0},{"$f":"AJ9/(AL4-AJ7)","v":{"$error":"#DIV/0!"}},{"$f":"IF(AK9=0,0,(AK9*((LOG(AK9))/LOG(2))))","v":{"$error":"#DIV/0!"}},null,{"$f":"N9","v":121},{"$f":"COUNTIF(L35:L41,AN9)","v":0},{"$f":"AO9/(AQ4-AO7)","v":{"$error":"#DIV/0!"}},{"$f":"IF(AP9=0,0,(AP9*((LOG(AP9))/LOG(2))))","v":{"$error":"#DIV/0!"}},null,{"$f":"N9","v":121},{"$f":"COUNTIF(L42:L48,AS9)","v":0},{"$f":"AT9/(AV4-AT7)","v":{"$error":"#DIV/0!"}},{"$f":"IF(AU9=0,0,(AU9*((LOG(AU9))/LOG(2))))","v":{"$error":"#DIV/0!"}}]
[11,478,11,484,11,500,null,null,null,null,0,111,null,122,{"$f":"COUNTIF($L$7:$L$500,N10)","v":0},{"$f":"O10/$Q$4","v":0},{"$f":"IF(P10=0,0,(P10*((LOG(P10))/LOG(2))))","v":0},null,null,{"$f":"N10","v":122},{"$f":"COUNTIF(L7:L13,T10)","v":0},{"$f":"U10/(W4-U7)","v":0},{"$f":"IF(V10=0,0,(V10*((LOG(V10))/LOG(2))))","v":0},null,{"$f":"N10","v":122},{"$f":"COUNTIF(L14:L20,Y10)","v":0},{"$f":"Z10/(AB4-Z7)","v":{"$error":"#DIV/0!"}},{"$f":"IF(AA10=0,0,(AA10*((LOG(AA10))/LOG(2))))","v":{"$error":"#DIV/0!"}},null,{"$f":"N10","v":122},{"$f":"COUNTIF(L21:L27,AD10)","v":0},{"$f":"AE10/(AG4-AE7)","v":{"$error":"#DIV/0!"}},{"$f":"IF(AF10=0,0,(AF10*((LOG(AF10))/LOG(2))))","v":{"$error":"#DIV/0!"}},null,{"$f":"N10","v":122},{"$f":"COUNTIF(L28:L34,AI10)","v":0},{"$f":"AJ10/(AL4-AJ7)","v":{"$error":"#DIV/0!"}},{"$f":"IF(AK10=0,0,(AK10*((LOG(AK10))/LOG(2))))","v":{"$error":"#DIV/0!"}},null,{"$f":"N10","v":122},{"$f":"COUNTIF(L35:L41,AN10)","v":0},{"$f":"AO10/(AQ4-AO7)","v":{"$error":"#DIV/0!"}},{"$f":"IF(AP10=0,0,(AP10*((LOG(AP10))/LOG(2))))","v":{"$error":"#DIV/0!"}},null,{"$f":"N10","v":122},{"$f":"COUNTIF(L42:L48,AS10)","v":0},{"$f":"AT10/(AV4-AT7)","v":{"$error":"#DIV/0!"}},{"$f":"IF(AU10=0,0,(AU10*((LOG(AU10))/LOG(2))))","v":{"$error":"#DIV/0!"}}]
[11,695,11,700,11,705,null,null,null,null,0,111,null,211,{"$f":"COUNTIF($L$7:$L$500,N11)","v":1},{"$f":"O11/$Q$4","v":2.3809523809523808E-2},{"$f":"IF(P11=0,0,(P11*((LOG(P11))/LOG(2))))","v":-0.12838851006616095},null,null,{"$f":"N11","v":211},{"$f":"COUNTIF(L7:L13,T11)","v":1},{"$f":"U11/(W4-U7)","v":0.5},{"$f":"IF(V11=0,0,(V11*((LOG(V11))/LOG(2))))","v":-0.5},null,{"$f":"N11","v":211},{"$f":"COUNTIF(L14:L20,Y11)","v":0},{"$f":"Z11/(AB4-Z7)","v":{"$error":"#DIV/0!"}},{"$f":"IF(AA11=0,0,(AA11*((LOG(AA11))/LOG(2))))","v":{"$error":"#DIV/0!"}},null,{"$f":"N11","v":211},{"$f":"COUNTIF(L21:L27,AD11)","v":0},{"$f":"AE11/(AG4-AE7)","v":{"$error":"#DIV/0!"}},{"$f":"IF(AF11=0,0,(AF11*((LOG(AF11))/LOG(2))))","v":{"$error":"#DIV/0!"}},null,{"$f":"N11","v":211},{"$f":"COUNTIF(L28:L34,AI11)","v":0},{"$f":"AJ11/(AL4-AJ7)","v":{"$error":"#DIV/0!"}},{"$f":"IF(AK11=0,0,(AK11*((LOG(AK11))/LOG(2))))","v":{"$error":"#DIV/0!"}},null,{"$f":"N11","v":211},{"$f":"COUNTIF(L35:L41,AN11)","v":0},{"$f":"AO11/(AQ4-AO7)","v":{"$error":"#DIV/0!"}},{"$f":"IF(AP11=0,0,(AP11*((LOG(AP11))/LOG(2))))","v":{"$error":"#DIV/0!"}},null,{"$f":"N11","v":211},{"$f":"COUNTIF(L42:L48,AS11)","v":0},{"$f":"AT11/(AV4-AT7)","v":{"$error":"#DIV/0!"}},{"$f":"IF(AU11=0,0,(AU11*((LOG(AU11))/LOG(2))))","v":{"$error":"#DIV/0!"}}]
[11,885,11,890,11,895,null,null,null,null,0,111,null,212,{"$f":"COUNTIF($L$7:$L$500,N12)","v":0},{"$f":"O12/$Q$4","v":0},{"$f":"IF(P12=0,0,(P12*((LOG(P12))/LOG(2))))","v":0},null,null,{"$f":"N12","v":212},{"$f":"COUNTIF(L7:L13,T12)","v":0},{"$f":"U12/(W4-U7)","v":0},{"$f":"IF(V12=0,0,(V12*((LOG(V12))/LOG(2))))","v":0},null,{"$f":"N12","v":212},{"$f":"COUNTIF(L14:L20,Y12)","v":0},{"$f":"Z12/(AB4-Z7)","v":{"$error":"#DIV/0!"}},{"$f":"IF(AA12=0,0,(AA12*((LOG(AA12))/LOG(2))))","v":{"$error":"#DIV/0!"}},null,{"$f":"N12","v":212},{"$f":"COUNTIF(L21:L27,AD12)","v":0},{"$f":"AE12/(AG4-AE7)","v":{"$error":"#DIV/0!"}},{"$f":"IF(AF12=0,0,(AF12*((LOG(AF12))/LOG(2))))","v":{"$error":"#DIV/0!"}},null,{"$f":"N12","v":212},{"$f":"COUNTIF(L28:L34,AI12)","v":0},{"$f":"AJ12/(AL4-AJ7)","v":{"$error":"#DIV/0!"}},{"$f":"IF(AK12=0,0,(AK12*((LOG(AK12))/LOG(2))))","v":{"$error":"#DIV/0!"}},null,{"$f":"N12","v":212},{"$f":"COUNTIF(L35:L41,AN12)","v":0},{"$f":"AO12/(AQ4-AO7)","v":{"$error":"#DIV/0!"}},{"$f":"IF(AP12=0,0,(AP12*((LOG(AP12))/LOG(2))))","v":{"$error":"#DIV/0!"}},null,{"$f":"N12","v":212},{"$f":"COUNTIF(L42:L48,AS12)","v":0},{"$f":"AT12/(AV4-AT7)","v":{"$error":"#DIV/0!"}},{"$f":"IF(AU12=0,0,(AU12*((LOG(AU12))/LOG(2))))","v":{"$error":"#DIV/0!"}}]
[11,1104,11,1107,11,1127,null,null,null,null,0,111,null,221,{"$f":"COUNTIF($L$7:$L$500,N13)","v":0},{"$f":"O13/$Q$4","v":0},{"$f":"IF(P13=0,0,(P13*((LOG(P13))/LOG(2))))","v":0},null,null,{"$f":"N13","v":221},{"$f":"COUNTIF(L7:L13,T13)","v":0},{"$f":"U13/(W4-U7)","v":0},{"$f":"IF(V13=0,0,(V13*((LOG(V13))/LOG(2))))","v":0},null,{"$f":"N13","v":221},{"$f":"COUNTIF(L14:L20,Y13)","v":0},{"$f":"Z13/(AB4-Z7)","v":{"$error":"#DIV/0!"}},{"$f":"IF(AA13=0,0,(AA13*((LOG(AA13))/LOG(2))))","v":{"$error":"#DIV/0!"}},null,{"$f":"N13","v":221},{"$f":"COUNTIF(L21:L27,AD13)","v":0},{"$f":"AE13/(AG4-AE7)","v":{"$error":"#DIV/0!"}},{"$f":"IF(AF13=0,0,(AF13*((LOG(AF13))/LOG(2))))","v":{"$error":"#DIV/0!"}},null,{"$f":"N13","v":221},{"$f":"COUNTIF(L28:L34,AI13)","v":0},{"$f":"AJ13/(AL4-AJ7)","v":{"$error":"#DIV/0!"}},{"$f":"IF(AK13=0,0,(AK13*((LOG(AK13))/LOG(2))))","v":{"$error":"#DIV/0!"}},null,{"$f":"N13","v":221},{"$f":"COUNTIF(L35:L41,AN13)","v":0},{"$f":"AO13/(AQ4-AO7)","v":{"$error":"#DIV/0!"}},{"$f":"IF(AP13=0,0,(AP13*((LOG(AP13))/LOG(2))))","v":{"$error":"#DIV/0!"}},null,{"$f":"N13","v":221},{"$f":"COUNTIF(L42:L48,AS13)","v":0},{"$f":"AT13/(AV4-AT7)","v":{"$error":"#DIV/0!"}},{"$f":"IF(AU13=0,0,(AU13*((LOG(AU13))/LOG(2))))","v":{"$error":"#DIV/0!"}}]
[11,1286,11,1290,11,1295,null,null,null,null,0,111,null,222,{"$f":"COUNTIF($L$7:$L$500,N14)","v":0},{"$f":"O14/$Q$4","v":0},{"$f":"IF(P14=0,0,(P14*((LOG(P14))/LOG(2))))","v":0},null,null,{"$f":"N14","v":222},{"$f":"COUNTIF(L7:L13,T14)","v":0},{"$f":"U14/(W4-U7)","v":0},{"$f":"IF(V14=0,0,(V14*((LOG(V14))/LOG(2))))","v":0},null,{"$f":"N14","v":222},{"$f":"COUNTIF(L14:L20,Y14)","v":0},{"$f":"Z14/(AB4-Z7)","v":{"$error":"#DIV/0!"}},{"$f":"IF(AA14=0,0,(AA14*((LOG(AA14))/LOG(2))))","v":{"$error":"#DIV/0!"}},null,{"$f":"N14","v":222},{"$f":"COUNTIF(L21:L27,AD14)","v":0},{"$f":"AE14/(AG4-AE7)","v":{"$error":"#DIV/0!"}},{"$f":"IF(AF14=0,0,(AF14*((LOG(AF14))/LOG(2))))","v":{"$error":"#DIV/0!"}},null,{"$f":"N14","v":222},{"$f":"COUNTIF(L28:L34,AI14)","v":0},{"$f":"AJ14/(AL4-AJ7)","v":{"$error":"#DIV/0!"}},{"$f":"IF(AK14=0,0,(AK14*((LOG(AK14))/LOG(2))))","v":{"$error":"#DIV/0!"}},null,{"$f":"N14","v":222},{"$f":"COUNTIF(L35:L41,AN14)","v":0},{"$f":"AO14/(AQ4-AO7)","v":{"$error":"#DIV/0!"}},{"$f":"IF(AP14=0,0,(AP14*((LOG(AP14))/LOG(2))))","v":{"$error":"#DIV/0!"}},null,{"$f":"N14","v":222},{"$f":"COUNTIF(L42:L48,AS14)","v":0},{"$f":"AT14/(AV4-AT7)","v":{"$error":"#DIV/0!"}},{"$f":"IF(AU14=0,0,(AU14*((LOG(AU14))/LOG(2))))","v":{"$error":"#DIV/0!"}}]
[11,1462,11,1467,11,1473,null,null,null,null,0,111,null,null,null,{"$f":"SUM(P7:P14)","v":1},{"$f":"-SUM(Q7:Q14)","v":0.3238144752669867},null,null,null,null,{"$f":"SUM(V7:V14)","v":1},{"$f":"-SUM(W7:W14)","v":1},null,null,null,{"$f":"SUM(AA7:AA14)","v":{"$error":"#DIV/0!"}},{"$f":"-SUM(AB7:AB14)","v":{"$error":"#DIV/0!"}},null,null,null,{"$f":"SUM(AF7:AF14)","v":{"$error":"#DIV/0!"}},{"$f":"-SUM(AG7:AG14)","v":{"$error":"#DIV/0!"}},null,null,null,{"$f":"SUM(AK7:AK14)","v":{"$error":"#DIV/0!"}},{"$f":"-SUM(AL7:AL14)","v":{"$error":"#DIV/0!"}},null,null,null,{"$f":"SUM(AP7:AP14)","v":{"$error":"#DIV/0!"}},{"$f":"-SUM(AQ7:AQ14)","v":{"$error":"#DIV/0!"}},null,null,null,{"$f":"SUM(AU7:AU14)","v":{"$error":"#DIV/0!"}},{"$f":"-SUM(AV7:AV14)","v":{"$error":"#DIV/0!"}}]
[11,1640,11,1645,11,1649,null,null,null,null,0,111,null,null,null,"U=",{"$f":"Q15/(LOG(Q4)/LOG(2))","v":6.0051078206022804E-2},null,null,null,null,"U1=",{"$f":"W15/(LOG(W4)/LOG(2))","v":0.35620718710802218},null,null,null,"U2=",{"$f":"AB15/(LOG(AB4)/LOG(2))","v":{"$error":"#DIV/0!"}},null,null,null,"U3=",{"$f":"AG15/(LOG(AG4)/LOG(2))","v":{"$error":"#DIV/0!"}},null,null,null,"U4=",{"$f":"AL15/(LOG(AL4)/LOG(2))","v":{"$error":"#DIV/0!"}},null,null,null,"U5=",{"$f":"AQ15/(LOG(AQ4)/LOG(2))","v":{"$error":"#DIV/0!"}},null,null,null,"U6=",{"$f":"AV15/(LOG(AV4)/LOG(2))","v":{"$error":"#DIV/0!"}}]
[11,1787,11,1791,11,1798,null,null,null,null,0,111]
[11,1955,11,1960,11,1965,null,null,null,null,0,111]
[11,2171,11,2176,11,2182,null,null,null,null,0,111,null,"Total Target Seq"]
[11,2333,11,2339,11,2346,null,null,null,null,0,111,null,{"$f":"COUNTIF(L7:L48,G3)","v":40},null,7,7,7,7,7,7]
[11,2530,11,2536,11,2541,null,null,null,null,0,111,null,null,null,"% of reinforcement given in 6 equal intervals based on number of trials "]
[11,2736,11,2742,11,2749,null,null,null,null,0,111,null,null,null,"%_1","%_2","%_3","%_4","%_5","%_6"]
[11,2865,11,2868,11,2876,null,null,null,null,0,111,null,null,"target sequence",{"$f":"$G$3","v":111},{"$f":"$G$3","v":111},{"$f":"$G$3","v":111},{"$f":"$G$3","v":111},{"$f":"$G$3","v":111},{"$f":"$G$3","v":111}]
[11,3036,11,3040,11,3047,null,null,null,null,0,111,null,null,"total reinforcement",{"$f":"U7","v":5},{"$f":"Z7","v":7},{"$f":"AE7","v":7},{"$f":"AJ7","v":7},{"$f":"AO7","v":7},{"$f":"AT7","v":7}]
[11,3185,11,3188,11,3194,null,null,null,null,0,111,null,null,"% target"]
[11,3363,11,3369,11,3376,null,null,null,null,0,111,null,null,"CCRF"]
[11,3604,11,3608,11,3614,null,null,null,null,0,111,null,null,"% CCRf"]
[11,3828,11,3834,11,3851,null,null,null,null,0,111,null,null,"average response rate",{"$f":"F13/P20","v":161},{"$f":"(F20-F13)/Q20","v":174.14285714285714},{"$f":"(F27-F20)/R20","v":181.14285714285714},{"$f":"(F34-F27)/S20","v":202},{"$f":"(F41-F34)/T20","v":200.14285714285714},{"$f":"(F48-F41)/U20","v":280.28571428571428}]
[11,4025,11,4029,11,4035,null,null,null,null,0,111]
[11,4208,11,4215,11,4230,null,null,null,null,0,111]
[11,4440,11,4445,11,4451,null,null,null,null,0,111]
[11,4608,11,4614,11,4621,null,null,null,null,0,111]
[11,4800,11,4804,11,4809,null,null,null,null,0,111]
[11,5004,11,5017,11,5028,null,null,null,null,0,111]
[11,5183,11,5189,11,5193,null,null,null,null,0,111]
[11,5451,11,5456,11,5463,null,null,null,null,0,111]
[11,5711,11,5716,11,5723,null,null,null,null,0,111]
[11,5895,11,5900,11,5906,null,null,null,null,0,111]
[11,6059,11,6066,11,6072,null,null,null,null,0,111]
[11,6244,11,6249,11,6255,null,null,null,null,0,111]
[11,6418,11,6423,11,6429,null,null,null,null,0,111]
[11,6634,11,6639,11,6643,null,null,null,null,0,111]
[11,6901,11,6909,11,6922,null,null,null,null,0,111]
[11,7247,11,7252,11,7256,null,null,null,null,0,111]
[11,7531,11,7535,11,7540,null,null,null,null,0,111]
[11,7728,11,7732,11,7737,null,null,null,null,0,111]
[11,7996,11,8002,11,8015,null,null,null,null,0,111]
[11,8380,11,8385,11,8391,null,null,null,null,1,111]

{"sheet":"!M701B3D.ust","index":11,"n_rows":46,"n_cols":48,"rows_kept":46,"cut":false,"hidden":false,"merged":[[4,39,4,42],[5,39,5,40],[4,44,4,47],[5,44,5,45],[4,24,4,27],[5,24,5,25],[4,29,4,32],[5,29,5,30],[4,34,4,37],[5,34,5,35],[1,1,1,2],[5,13,5,14],[18,13,18,14],[19,13,19,14],[4,19,4,22],[5,19,5,20]]}
["Report for:!M701B3D.ust"]
["Date:","<date>"]
["Hen:","<hen>",null,null,null,"Correct Sequence",{"$f":"Start!J2","v":111},null,null,null,null,null,null,null,null,"Total Sequences in Data",{"$f":"4994-COUNTBLANK(L7:L5000)","v":40},null,null,null,null,"Total Sequences in Block Data",{"$f":"COUNTA(L7:L13)","v":7},null,null,null,"Total Sequences in Block Data",{"$f":"COUNTA(L14:L19)","v":6},null,null,null,"Total Sequences in Block Data",{"$f":"COUNTA(L20:L26)","v":7},null,null,null,"Total Sequences in Block Data",{"$f":"COUNTA(L27:L33)","v":7},null,null,null,"Total Sequences in Block Data",{"$f":"COUNTA(L34:L39)","v":6},null,null,null,"Total Sequences in Block Data",{"$f":"COUNTA(L40:L46)","v":7}]
[null,null,null,null,null,null,null,null,null,null,null,null,null,null,null,"Total Sequences in Summary",{"$f":"SUM(O7:O14)","v":40},null,null,null,null,"Total Sequences in Block Summary",{"$f":"SUM(U7:U14)","v":7},null,null,null,"Total Sequences in Block Summary",{"$f":"SUM(Z7:Z14)","v":6},null,null,null,"Total Sequences in Block Summary",{"$f":"SUM(AE7:AE14)","v":7},null,null,null,"Total Sequences in Block Summary",{"$f":"SUM(AJ7:AJ14)","v":7},null,null,null,"Total Sequences in Block Summary",{"$f":"SUM(AO7:AO14)","v":6},null,null,null,"Total Sequences in Block Summary",{"$f":"SUM(AT7:AT14)","v":7}]
[null,null,null,null,null,null,null,null,null,null,null,null,null,null,null,null,null,null,null,"Block 1",null,null,null,null,"Block 2",null,null,null,null,"Block 3",null,null,null,null,"Block 4",null,null,null,null,"Block 5",null,null,null,null,"Block 6"]
["Sequence\nComponent\n1","Time\n1","Sequence\nComponent\n2","Time\n2","Sequence\nComponent\n3","Time\n3","Sequence\nComponent\n4","Time\n4","Sequence\nComponent\n5","Time\n5","Correct?\n0=No 1=Yes","Sequence",null,"Frequency",null,"Relative Frequency","Variability",null,null,"Frequency",null,"Relative Frequency","Variability",null,"Frequency",null,"Relative Frequency","Variability",null,"Frequency",null,"Relative Frequency","Variability",null,"Frequency",null,"Relative Frequency","Variability",null,"Frequency",null,"Relative Frequency","Variability",null,"Frequency",null,"Relative Frequency","Variability"]
[11,6,11,12,11,19,null,null,null,null,0,111,null,111,{"$f":"COUNTIF($L$7:$L$500,N7)","v":40},{"$f":"O7/$Q$4","v":1},{"$f":"IF(P7=0,0,(P7*((LOG(P7))/LOG(2))))","v":0},null,null,{"$f":"N7","v":111},{"$f":"COUNTIF(L7:L13,T7)","v":7},null,null,null,{"$f":"N7","v":111},{"$f":"COUNTIF(L14:L19,Y7)","v":6},null,null,null,{"$f":"N7","v":111},{"$f":"COUNTIF(L20:L26,AD7)","v":7},null,null,null,{"$f":"N7","v":111},{"$f":"COUNTIF(L27:L33,AI7)","v":7},null,null,null,{"$f":"N7","v":111},{"$f":"COUNTIF(L34:L39,AN7)","v":6},null,null,null,{"$f":"N7","v":111},{"$f":"COUNTIF(L40:L46,AS7)","v":7}]
[11,183,11,188,11,196,null,null,null,null,0,111,null,112,{"$f":"COUNTIF($L$7:$L$500,N8)","v":0},{"$f":"O8/$Q$4","v":0},{"$f":"IF(P8=0,0,(P8*((LOG(P8))/LOG(2))))","v":0},null,null,{"$f":"N8","v":112},{"$f":"COUNTIF(L7:L13,T8)","v":0},{"$f":"U8/(W4-U7)","v":{"$error":"#DIV/0!"}},{"$f":"IF(V8=0,0,(V8*((LOG(V8))/LOG(2))))","v":{"$error":"#DIV/0!"}},null,{"$f":"N8","v":112},{"$f":"COUNTIF(L14:L19,Y8)","v":0},{"$f":"Z8/(AB4-Z7)","v":{"$error":"#DIV/0!"}},{"$f":"IF(AA8=0,0,(AA8*((LOG(AA8))/LOG(2))))","v":{"$error":"#DIV/0!"}},null,{"$f":"N8","v":112},{"$f":"COUNTIF(L20:L26,AD8)","v":0},{"$f":"AE8/(AG4-AE7)","v":{"$error":"#DIV/0!"}},{"$f":"IF(AF8=0,0,(AF8*((LOG(AF8))/LOG(2))))","v":{"$error":"#DIV/0!"}},null,{"$f":"N8","v":112},{"$f":"COUNTIF(L27:L33,AI8)","v":0},{"$f":"AJ8/(AL4-AJ7)","v":{"$error":"#DIV/0!"}},{"$f":"IF(AK8=0,0,(AK8*((LOG(AK8))/LOG(2))))","v":{"$error":"#DIV/0!"}},null,{"$f":"N8","v":112},{"$f":"COUNTIF(L34:L39,AN8)","v":0},{"$f":"AO8/(AQ4-AO7)","v":{"$error":"#DIV/0!"}},{"$f":"IF(AP8=0,0,(AP8*((LOG(AP8))/LOG(2))))","v":{"$error":"#DIV/0!"}},null,{"$f":"N8","v":112},{"$f":"COUNTIF(L40:L46,AS8)","v":0},{"$f":"AT8/(AV4-AT7)","v":{"$error":"#DIV/0!"}},{"$f":"IF(AU8=0,0,(AU8*((LOG(AU8))/LOG(2))))","v":{"$error":"#DIV/0!"}}]
[11,344,11,350,11,355,null,null,null,null,0,111,null,121,{"$f":"COUNTIF($L$7:$L$500,N9)","v":0},{"$f":"O9/$Q$4","v":0},{"$f":"IF(P9=0,0,(P9*((LOG(P9))/LOG(2))))","v":0},null,null,{"$f":"N9","v":121},{"$f":"COUNTIF(L7:L13,T9)","v":0},{"$f":"U9/(W4-U7)","v":{"$error":"#DIV/0!"}},{"$f":"IF(V9=0,0,(V9*((LOG(V9))/LOG(2))))","v":{"$error":"#DIV/0!"}},null,{"$f":"N9","v":121},{"$f":"COUNTIF(L14:L19,Y9)","v":0},{"$f":"Z9/(AB4-Z7)","v":{"$error":"#DIV/0!"}},{"$f":"IF(AA9=0,0,(AA9*((LOG(AA9))/LOG(2))))","v":{"$error":"#DIV/0!"}},null,{"$f":"N9","v":121},{"$f":"COUNTIF(L20:L26,AD9)","v":0},{"$f":"AE9/(AG4-AE7)","v":{"$error":"#DIV/0!"}},{"$f":"IF(AF9=0,0,(AF9*((LOG(AF9))/LOG(2))))","v":{"$error":"#DIV/0!"}},null,{"$f":"N9","v":121},{"$f":"COUNTIF(L27:L33,AI9)","v":0},{"$f":"AJ9/(AL4-AJ7)","v":{"$error":"#DIV/0!"}},{"$f":"IF(AK9=0,0,(AK9*((LOG(AK9))/LOG(2))))","v":{"$error":"#DIV/0!"}},null,{"$f":"N9","v":121},{"$f":"COUNTIF(L34:L39,AN9)","v":0},{"$f":"AO9/(AQ4-AO7)","v":{"$error":"#DIV/0!"}},{"$f":"IF(AP9=0,0,(AP9*((LOG(AP9))/LOG(2))))","v":{"$error":"#DIV/0!"}},null,{"$f":"N9","v":121},{"$f":"COUNTIF(L40:L46,AS9)","v":0},{"$f":"AT9/(AV4-AT7)","v":{"$error":"#DIV/0!"}},{"$f":"IF(AU9=0,0,(AU9*((LOG(AU9))/LOG(2))))","v":{"$error":"#DIV/0!"}}]
[11,524,11,530,11,535,null,null,null,null,0,111,null,122,{"$f":"COUNTIF($L$7:$L$500,N10)","v":0},{"$f":"O10/$Q$4","v":0},{"$f":"IF(P10=0,0,(P10*((LOG(P10))/LOG(2))))","v":0},null,null,{"$f":"N10","v":122},{"$f":"COUNTIF(L7:L13,T10)","v":0},{"$f":"U10/(W4-U7)","v":{"$error":"#DIV/0!"}},{"$f":"IF(V10=0,0,(V10*((LOG(V10))/LOG(2))))","v":{"$error":"#DIV/0!"}},null,{"$f":"N10","v":122},{"$f":"COUNTIF(L14:L19,Y10)","v":0},{"$f":"Z10/(AB4-Z7)","v":{"$error":"#DIV/0!"}},{"$f":"IF(AA10=0,0,(AA10*((LOG(AA10))/LOG(2))))","v":{"$error":"#DIV/0!"}},null,{"$f":"N10","v":122},{"$f":"COUNTIF(L20:L26,AD10)","v":0},{"$f":"AE10/(AG4-AE7)","v":{"$error":"#DIV/0!"}},{"$f":"IF(AF10=0,0,(AF10*((LOG(AF10))/LOG(2))))","v":{"$error":"#DIV/0!"}},null,{"$f":"N10","v":122},{"$f":"COUNTIF(L27:L33,AI10)","v":0},{"$f":"AJ10/(AL4-AJ7)","v":{"$error":"#DIV/0!"}},{"$f":"IF(AK10=0,0,(AK10*((LOG(AK10))/LOG(2))))","v":{"$error":"#DIV/0!"}},null,{"$f":"N10","v":122},{"$f":"COUNTIF(L34:L39,AN10)","v":0},{"$f":"AO10/(AQ4-AO7)","v":{"$error":"#DIV/0!"}},{"$f":"IF(AP10=0,0,(AP10*((LOG(AP10))/LOG(2))))","v":{"$error":"#DIV/0!"}},null,{"$f":"N10","v":122},{"$f":"COUNTIF(L40:L46,AS10)","v":0},{"$f":"AT10/(AV4-AT7)","v":{"$error":"#DIV/0!"}},{"$f":"IF(AU10=0,0,(AU10*((LOG(AU10))/LOG(2))))","v":{"$error":"#DIV/0!"}}]
[11,795,11,800,11,810,null,null,null,null,0,111,null,211,{"$f":"COUNTIF($L$7:$L$500,N11)","v":0},{"$f":"O11/$Q$4","v":0},{"$f":"IF(P11=0,0,(P11*((LOG(P11))/LOG(2))))","v":0},null,null,{"$f":"N11","v":211},{"$f":"COUNTIF(L7:L13,T11)","v":0},{"$f":"U11/(W4-U7)","v":{"$error":"#DIV/0!"}},{"$f":"IF(V11=0,0,(V11*((LOG(V11))/LOG(2))))","v":{"$error":"#DIV/0!"}},null,{"$f":"N11","v":211},{"$f":"COUNTIF(L14:L19,Y11)","v":0},{"$f":"Z11/(AB4-Z7)","v":{"$error":"#DIV/0!"}},{"$f":"IF(AA11=0,0,(AA11*((LOG(AA11))/LOG(2))))","v":{"$error":"#DIV/0!"}},null,{"$f":"N11","v":211},{"$f":"COUNTIF(L20:L26,AD11)","v":0},{"$f":"AE11/(AG4-AE7)","v":{"$error":"#DIV/0!"}},{"$f":"IF(AF11=0,0,(AF11*((LOG(AF11))/LOG(2))))","v":{"$error":"#DIV/0!"}},null,{"$f":"N11","v":211},{"$f":"COUNTIF(L27:L33,AI11)","v":0},{"$f":"AJ11/(AL4-AJ7)","v":{"$error":"#DIV/0!"}},{"$f":"IF(AK11=0,0,(AK11*((LOG(AK11))/LOG(2))))","v":{"$error":"#DIV/0!"}},null,{"$f":"N11","v":211},{"$f":"COUNTIF(L34:L39,AN11)","v":0},{"$f":"AO11/(AQ4-AO7)","v":{"$error":"#DIV/0!"}},{"$f":"IF(AP11=0,0,(AP11*((LOG(AP11))/LOG(2))))","v":{"$error":"#DIV/0!"}},null,{"$f":"N11","v":211},{"$f":"COUNTIF(L40:L46,AS11)","v":0},{"$f":"AT11/(AV4-AT7)","v":{"$error":"#DIV/0!"}},{"$f":"IF(AU11=0,0,(AU11*((LOG(AU11))/LOG(2))))","v":{"$error":"#DIV/0!"}}]
[11,996,11,1002,11,1006,null,null,null,null,0,111,null,212,{"$f":"COUNTIF($L$7:$L$500,N12)","v":0},{"$f":"O12/$Q$4","v":0},{"$f":"IF(P12=0,0,(P12*((LOG(P12))/LOG(2))))","v":0},null,null,{"$f":"N12","v":212},{"$f":"COUNTIF(L7:L13,T12)","v":0},{"$f":"U12/(W4-U7)","v":{"$error":"#DIV/0!"}},{"$f":"IF(V12=0,0,(V12*((LOG(V12))/LOG(2))))","v":{"$error":"#DIV/0!"}},null,{"$f":"N12","v":212},{"$f":"COUNTIF(L14:L19,Y12)","v":0},{"$f":"Z12/(AB4-Z7)","v":{"$error":"#DIV/0!"}},{"$f":"IF(AA12=0,0,(AA12*((LOG(AA12))/LOG(2))))","v":{"$error":"#DIV/0!"}},null,{"$f":"N12","v":212},{"$f":"COUNTIF(L20:L26,AD12)","v":0},{"$f":"AE12/(AG4-AE7)","v":{"$error":"#DIV/0!"}},{"$f":"IF(AF12=0,0,(AF12*((LOG(AF12))/LOG(2))))","v":{"$error":"#DIV/0!"}},null,{"$f":"N12","v":212},{"$f":"COUNTIF(L27:L33,AI12)","v":0},{"$f":"AJ12/(AL4-AJ7)","v":{"$error":"#DIV/0!"}},{"$f":"IF(AK12=0,0,(AK12*((LOG(AK12))/LOG(2))))","v":{"$error":"#DIV/0!"}},null,{"$f":"N12","v":212},{"$f":"COUNTIF(L34:L39,AN12)","v":0},{"$f":"AO12/(AQ4-AO7)","v":{"$error":"#DIV/0!"}},{"$f":"IF(AP12=0,0,(AP12*((LOG(AP12))/LOG(2))))","v":{"$error":"#DIV/0!"}},null,{"$f":"N12","v":212},{"$f":"COUNTIF(L40:L46,AS12)","v":0},{"$f":"AT12/(AV4-AT7)","v":{"$error":"#DIV/0!"}},{"$f":"IF(AU12=0,0,(AU12*((LOG(AU12))/LOG(2))))","v":{"$error":"#DIV/0!"}}]
[11,1177,11,1181,11,1183,null,null,null,null,0,111,null,221,{"$f":"COUNTIF($L$7:$L$500,N13)","v":0},{"$f":"O13/$Q$4","v":0},{"$f":"IF(P13=0,0,(P13*((LOG(P13))/LOG(2))))","v":0},null,null,{"$f":"N13","v":221},{"$f":"COUNTIF(L7:L13,T13)","v":0},{"$f":"U13/(W4-U7)","v":{"$error":"#DIV/0!"}},{"$f":"IF(V13=0,0,(V13*((LOG(V13))/LOG(2))))","v":{"$error":"#DIV/0!"}},null,{"$f":"N13","v":221},{"$f":"COUNTIF(L14:L19,Y13)","v":0},{"$f":"Z13/(AB4-Z7)","v":{"$error":"#DIV/0!"}},{"$f":"IF(AA13=0,0,(AA13*((LOG(AA13))/LOG(2))))","v":{"$error":"#DIV/0!"}},null,{"$f":"N13","v":221},{"$f":"COUNTIF(L20:L26,AD13)","v":0},{"$f":"AE13/(AG4-AE7)","v":{"$error":"#DIV/0!"}},{"$f":"IF(AF13=0,0,(AF13*((LOG(AF13))/LOG(2))))","v":{"$error":"#DIV/0!"}},null,{"$f":"N13","v":221},{"$f":"COUNTIF(L27:L33,AI13)","v":0},{"$f":"AJ13/(AL4-AJ7)","v":{"$error":"#DIV/0!"}},{"$f":"IF(AK13=0,0,(AK13*((LOG(AK13))/LOG(2))))","v":{"$error":"#DIV/0!"}},null,{"$f":"N13","v":221},{"$f":"COUNTIF(L34:L39,AN13)","v":0},{"$f":"AO13/(AQ4-AO7)","v":{"$error":"#DIV/0!"}},{"$f":"IF(AP13=0,0,(AP13*((LOG(AP13))/LOG(2))))","v":{"$error":"#DIV/0!"}},null,{"$f":"N13","v":221},{"$f":"COUNTIF(L40:L46,AS13)","v":0},{"$f":"AT13/(AV4-AT7)","v":{"$error":"#DIV/0!"}},{"$f":"IF(AU13=0,0,(AU13*((LOG(AU13))/LOG(2))))","v":{"$error":"#DIV/0!"}}]
[11,1347,11,1351,11,1357,null,null,null,null,0,111,null,222,{"$f":"COUNTIF($L$7:$L$500,N14)","v":0},{"$f":"O14/$Q$4","v":0},{"$f":"IF(P14=0,0,(P14*((LOG(P14))/LOG(2))))","v":0},null,null,{"$f":"N14","v":222},{"$f":"COUNTIF(L7:L13,T14)","v":0},{"$f":"U14/(W4-U7)","v":{"$error":"#DIV/0!"}},{"$f":"IF(V14=0,0,(V14*((LOG(V14))/LOG(2))))","v":{"$error":"#DIV/0!"}},null,{"$f":"N14","v":222},{"$f":"COUNTIF(L14:L19,Y14)","v":0},{"$f":"Z14/(AB4-Z7)","v":{"$error":"#DIV/0!"}},{"$f":"IF(AA14=0,0,(AA14*((LOG(AA14))/LOG(2))))","v":{"$error":"#DIV/0!"}},null,{"$f":"N14","v":222},{"$f":"COUNTIF(L20:L26,AD14)","v":0},{"$f":"AE14/(AG4-AE7)","v":{"$error":"#DIV/0!"}},{"$f":"IF(AF14=0,0,(AF14*((LOG(AF14))/LOG(2))))","v":{"$error":"#DIV/0!"}},null,{"$f":"N14","v":222},{"$f":"COUNTIF(L27:L33,AI14)","v":0},{"$f":"AJ14/(AL4-AJ7)","v":{"$error":"#DIV/0!"}},{"$f":"IF(AK14=0,0,(AK14*((LOG(AK14))/LOG(2))))","v":{"$error":"#DIV/0!"}},null,{"$f":"N14","v":222},{"$f":"COUNTIF(L34:L39,AN14)","v":0},{"$f":"AO14/(AQ4-AO7)","v":{"$error":"#DIV/0!"}},{"$f":"IF(AP14=0,0,(AP14*((LOG(AP14))/LOG(2))))","v":{"$error":"#DIV/0!"}},null,{"$f":"N14","v":222},{"$f":"COUNTIF(L40:L46,AS14)","v":0},{"$f":"AT14/(AV4-AT7)","v":{"$error":"#DIV/0!"}},{"$f":"IF(AU14=0,0,(AU14*((LOG(AU14))/LOG(2))))","v":{"$error":"#DIV/0!"}}]
[11,1553,11,1556,11,1563,null,null,null,null,0,111,null,null,null,{"$f":"SUM(P7:P14)","v":1},{"$f":"-SUM(Q7:Q14)","v":0},null,null,null,null,{"$f":"SUM(V7:V14)","v":{"$error":"#DIV/0!"}},{"$f":"-SUM(W7:W14)","v":{"$error":"#DIV/0!"}},null,null,null,{"$f":"SUM(AA7:AA14)","v":{"$error":"#DIV/0!"}},{"$f":"-SUM(AB7:AB14)","v":{"$error":"#DIV/0!"}},null,null,null,{"$f":"SUM(AF7:AF14)","v":{"$error":"#DIV/0!"}},{"$f":"-SUM(AG7:AG14)","v":{"$error":"#DIV/0!"}},null,null,null,{"$f":"SUM(AK7:AK14)","v":{"$error":"#DIV/0!"}},{"$f":"-SUM(AL7:AL14)","v":{"$error":"#DIV/0!"}},null,null,null,{"$f":"SUM(AP7:AP14)","v":{"$error":"#DIV/0!"}},{"$f":"-SUM(AQ7:AQ14)","v":{"$error":"#DIV/0!"}},null,null,null,{"$f":"SUM(AU7:AU14)","v":{"$error":"#DIV/0!"}},{"$f":"-SUM(AV7:AV14)","v":{"$error":"#DIV/0!"}}]
[11,1724,11,1730,11,1736,null,null,null,null,0,111,null,null,null,"U=",{"$f":"Q15/(LOG(Q4)/LOG(2))","v":0},null,null,null,null,"U1=",{"$f":"W15/(LOG(W4)/LOG(2))","v":{"$error":"#DIV/0!"}},null,null,null,"U2=",{"$f":"AB15/(LOG(AB4)/LOG(2))","v":{"$error":"#DIV/0!"}},null,null,null,"U3=",{"$f":"AG15/(LOG(AG4)/LOG(2))","v":{"$error":"#DIV/0!"}},null,null,null,"U4=",{"$f":"AL15/(LOG(AL4)/LOG(2))","v":{"$error":"#DIV/0!"}},null,null,null,"U5=",{"$f":"AQ15/(LOG(AQ4)/LOG(2))","v":{"$error":"#DIV/0!"}},null,null,null,"U6=",{"$f":"AV15/(LOG(AV4)/LOG(2))","v":{"$error":"#DIV/0!"}}]
[11,1957,11,1960,11,1963,null,null,null,null,0,111]
[11,2116,11,2122,11,2134,null,null,null,null,0,111]
[11,2299,11,2302,11,2308,null,null,null,null,0,111,null,"Total Target Seq"]
[11,2486,11,2491,11,2498,null,null,null,null,0,111,null,{"$f":"COUNTIF(L7:L46,G3)","v":40},null,7,6,7,7,6,7]
[11,2679,11,2684,11,2694,null,null,null,null,0,111,null,null,null,"% of reinforcement given in 6 equal intervals based on number of trials "]
[11,2872,11,2877,11,2884,null,null,null,null,0,111,null,null,null,"%_1","%_2","%_3","%_4","%_5","%_6"]
[11,3071,11,3082,11,3087,null,null,null,null,0,111,null,null,"target sequence",{"$f":"$G$3","v":111},{"$f":"$G$3","v":111},{"$f":"$G$3","v":111},{"$f":"$G$3","v":111},{"$f":"$G$3","v":111},{"$f":"$G$3","v":111}]
[11,3234,11,3239,11,3246,null,null,null,null,0,111,null,null,"total reinforcement",{"$f":"U7","v":7},{"$f":"Z7","v":6},{"$f":"AE7","v":7},{"$f":"AJ7","v":7},{"$f":"AO7","v":6},{"$f":"AT7","v":7}]
[11,3426,11,3431,11,3436,null,null,null,null,0,111,null,null,"% target"]
[11,3572,11,3577,11,3585,null,null,null,null,0,111,null,null,"CCRF"]
[11,3800,11,3806,11,3819,null,null,null,null,0,111,null,null,"% CCRf"]
[11,4036,11,4039,11,4045,null,null,null,null,0,111,null,null,"average response rate",{"$f":"F13/P20","v":169},{"$f":"(F19-F13)/Q20","v":187.5},{"$f":"(F26-F19)/R20","v":182.42857142857142},{"$f":"(F33-F26)/S20","v":222.71428571428572},{"$f":"(F39-F33)/T20","v":218.5},{"$f":"(F46-F39)/U20","v":248}]
[11,4222,11,4227,11,4233,null,null,null,null,0,111]
[11,4422,11,4427,11,4434,null,null,null,null,0,111]
[11,4657,11,4660,11,4667,null,null,null,null,0,111]
[11,4951,11,4954,11,4960,null,null,null,null,0,111]
[11,5132,11,5137,11,5144,null,null,null,null,0,111]
[11,5414,11,5419,11,5424,null,null,null,null,0,111]
[11,5562,11,5567,11,5572,null,null,null,null,0,111]
[11,5725,11,5730,11,5736,null,null,null,null,0,111]
[11,5911,11,5916,11,5921,null,null,null,null,0,111]
[11,6234,11,6238,11,6244,null,null,null,null,0,111]
[11,6446,11,6450,11,6455,null,null,null,null,0,111]
[11,6688,11,6706,11,6712,null,null,null,null,0,111]
[11,6946,11,6950,11,6956,null,null,null,null,0,111]
[11,7153,11,7157,11,7161,null,null,null,null,0,111]
[11,7303,11,7306,11,7314,null,null,null,null,0,111]
[11,7631,11,7635,11,7641,null,null,null,null,0,111]
[11,7945,11,7947,11,7951,null,null,null,null,0,111]
[11,8181,11,8185,11,8191,null,null,null,null,1,111]

{"sheet":"!M702A2D.ust","index":12,"n_rows":48,"n_cols":48,"rows_kept":48,"cut":false,"hidden":false,"merged":[[4,39,4,42],[5,39,5,40],[4,44,4,47],[5,44,5,45],[4,24,4,27],[5,24,5,25],[4,29,4,32],[5,29,5,30],[4,34,4,37],[5,34,5,35],[1,1,1,2],[5,13,5,14],[18,13,18,14],[19,13,19,14],[4,19,4,22],[5,19,5,20]]}
["Report for:!M702A2D.ust"]
["Date:","<date>"]
["Hen:","<hen>",null,null,null,"Correct Sequence",{"$f":"Start!J2","v":111},null,null,null,null,null,null,null,null,"Total Sequences in Data",{"$f":"4994-COUNTBLANK(L7:L5000)","v":42},null,null,null,null,"Total Sequences in Block Data",{"$f":"COUNTA(L7:L13)","v":7},null,null,null,"Total Sequences in Block Data",{"$f":"COUNTA(L14:L20)","v":7},null,null,null,"Total Sequences in Block Data",{"$f":"COUNTA(L21:L27)","v":7},null,null,null,"Total Sequences in Block Data",{"$f":"COUNTA(L28:L34)","v":7},null,null,null,"Total Sequences in Block Data",{"$f":"COUNTA(L35:L41)","v":7},null,null,null,"Total Sequences in Block Data",{"$f":"COUNTA(L42:L48)","v":7}]
[null,null,null,null,null,null,null,null,null,null,null,null,null,null,null,"Total Sequences in Summary",{"$f":"SUM(O7:O14)","v":42},null,null,null,null,"Total Sequences in Block Summary",{"$f":"SUM(U7:U14)","v":7},null,null,null,"Total Sequences in Block Summary",{"$f":"SUM(Z7:Z14)","v":7},null,null,null,"Total Sequences in Block Summary",{"$f":"SUM(AE7:AE14)","v":7},null,null,null,"Total Sequences in Block Summary",{"$f":"SUM(AJ7:AJ14)","v":7},null,null,null,"Total Sequences in Block Summary",{"$f":"SUM(AO7:AO14)","v":7},null,null,null,"Total Sequences in Block Summary",{"$f":"SUM(AT7:AT14)","v":7}]
[null,null,null,null,null,null,null,null,null,null,null,null,null,null,null,null,null,null,null,"Block 1",null,null,null,null,"Block 2",null,null,null,null,"Block 3",null,null,null,null,"Block 4",null,null,null,null,"Block 5",null,null,null,null,"Block 6"]
["Sequence\nComponent\n1","Time\n1","Sequence\nComponent\n2","Time\n2","Sequence\nComponent\n3","Time\n3","Sequence\nComponent\n4","Time\n4","Sequence\nComponent\n5","Time\n5","Correct?\n0=No 1=Yes","Sequence",null,"Frequency",null,"Relative Frequency","Variability",null,null,"Frequency",null,"Relative Frequency","Variability",null,"Frequency",null,"Relative Frequency","Variability",null,"Frequency",null,"Relative Frequency","Variability",null,"Frequency",null,"Relative Frequency","Variability",null,"Frequency",null,"Relative Frequency","Variability",null,"Frequency",null,"Relative Frequency","Variability"]
[22,9,24,19,13,34,null,null,null,null,0,221,null,111,{"$f":"COUNTIF($L$7:$L$500,N7)","v":40},{"$f":"O7/$Q$4","v":0.95238095238095233},{"$f":"IF(P7=0,0,(P7*((LOG(P7))/LOG(2))))","v":-6.7037455134664775E-2},null,null,{"$f":"N7","v":111},{"$f":"COUNTIF(L7:L13,T7)","v":6},null,null,null,{"$f":"N7","v":111},{"$f":"COUNTIF(L14:L20,Y7)","v":7},null,null,null,{"$f":"N7","v":111},{"$f":"COUNTIF(L21:L27,AD7)","v":7},null,null,null,{"$f":"N7","v":111},{"$f":"COUNTIF(L28:L34,AI7)","v":6},null,null,null,{"$f":"N7","v":111},{"$f":"COUNTIF(L35:L41,AN7)","v":7},null,null,null,{"$f":"N7","v":111},{"$f":"COUNTIF(L42:L48,AS7)","v":7}]
[11,131,11,138,11,143,null,null,null,null,0,111,null,112,{"$f":"COUNTIF($L$7:$L$500,N8)","v":0},{"$f":"O8/$Q$4","v":0},{"$f":"IF(P8=0,0,(P8*((LOG(P8))/LOG(2))))","v":0},null,null,{"$f":"N8","v":112},{"$f":"COUNTIF(L7:L13,T8)","v":0},{"$f":"U8/(W4-U7)","v":0},{"$f":"IF(V8=0,0,(V8*((LOG(V8))/LOG(2))))","v":0},null,{"$f":"N8","v":112},{"$f":"COUNTIF(L14:L20,Y8)","v":0},{"$f":"Z8/(AB4-Z7)","v":{"$error":"#DIV/0!"}},{"$f":"IF(AA8=0,0,(AA8*((LOG(AA8))/LOG(2))))","v":{"$error":"#DIV/0!"}},null,{"$f":"N8","v":112},{"$f":"COUNTIF(L21:L27,AD8)","v":0},{"$f":"AE8/(AG4-AE7)","v":{"$error":"#DIV/0!"}},{"$f":"IF(AF8=0,0,(AF8*((LOG(AF8))/LOG(2))))","v":{"$error":"#DIV/0!"}},null,{"$f":"N8","v":112},{"$f":"COUNTIF(L28:L34,AI8)","v":0},{"$f":"AJ8/(AL4-AJ7)","v":0},{"$f":"IF(AK8=0,0,(AK8*((LOG(AK8))/LOG(2))))","v":0},null,{"$f":"N8","v":112},{"$f":"COUNTIF(L35:L41,AN8)","v":0},{"$f":"AO8/(AQ4-AO7)","v":{"$error":"#DIV/0!"}},{"$f":"IF(AP8=0,0,(AP8*((LOG(AP8))/LOG(2))))","v":{"$error":"#DIV/0!"}},null,{"$f":"N8","v":112},{"$f":"COUNTIF(L42:L48,AS8)","v":0},{"$f":"AT8/(AV4-AT7)","v":{"$error":"#DIV/0!"}},{"$f":"IF(AU8=0,0,(AU8*((LOG(AU8))/LOG(2))))","v":{"$error":"#DIV/0!"}}]
[11,327,11,333,11,339,null,null,null,null,0,111,null,121,{"$f":"COUNTIF($L$7:$L$500,N9)","v":0},{"$f":"O9/$Q$4","v":0},{"$f":"IF(P9=0,0,(P9*((LOG(P9))/LOG(2))))","v":0},null,null,{"$f":"N9","v":121},{"$f":"COUNTIF(L7:L13,T9)","v":0},{"$f":"U9/(W4-U7)","v":0},{"$f":"IF(V9=0,0,(V9*((LOG(V9))/LOG(2))))","v":0},null,{"$f":"N9","v":121},{"$f":"COUNTIF(L14:L20,Y9)","v":0},{"$f":"Z9/(AB4-Z7)","v":{"$error":"#DIV/0!"}},{"$f":"IF(AA9=0,0,(AA9*((LOG(AA9))/LOG(2))))","v":{"$error":"#DIV/0!"}},null,{"$f":"N9","v":121},{"$f":"COUNTIF(L21:L27,AD9)","v":0},{"$f":"AE9/(AG4-AE7)","v":{"$error":"#DIV/0!"}},{"$f":"IF(AF9=0,0,(AF9*((LOG(AF9))/LOG(2))))","v":{"$error":"#DIV/0!"}},null,{"$f":"N9","v":121},{"$f":"COUNTIF(L28:L34,AI9)","v":0},{"$f":"AJ9/(AL4-AJ7)","v":0},{"$f":"IF(AK9=0,0,(AK9*((LOG(AK9))/LOG(2))))","v":0},null,{"$f":"N9","v":121},{"$f":"COUNTIF(L35:L41,AN9)","v":0},{"$f":"AO9/(AQ4-AO7)","v":{"$error":"#DIV/0!"}},{"$f":"IF(AP9=0,0,(AP9*((LOG(AP9))/LOG(2))))","v":{"$error":"#DIV/0!"}},null,{"$f":"N9","v":121},{"$f":"COUNTIF(L42:L48,AS9)","v":0},{"$f":"AT9/(AV4-AT7)","v":{"$error":"#DIV/0!"}},{"$f":"IF(AU9=0,0,(AU9*((LOG(AU9))/LOG(2))))","v":{"$error":"#DIV/0!"}}]
[11,570,11,574,11,580,null,null,null,null,0,111,null,122,{"$f":"COUNTIF($L$7:$L$500,N10)","v":0},{"$f":"O10/$Q$4","v":0},{"$f":"IF(P10=0,0,(P10*((LOG(P10))/LOG(2))))","v":0},null,null,{"$f":"N10","v":122},{"$f":"COUNTIF(L7:L13,T10)","v":0},{"$f":"U10/(W4-U7)","v":0},{"$f":"IF(V10=0,0,(V10*((LOG(V10))/LOG(2))))","v":0},null,{"$f":"N10","v":122},{"$f":"COUNTIF(L14:L20,Y10)","v":0},{"$f":"Z10/(AB4-Z7)","v":{"$error":"#DIV/0!"}},{"$f":"IF(AA10=0,0,(AA10*((LOG(AA10))/LOG(2))))","v":{"$error":"#DIV/0!"}},null,{"$f":"N10","v":122},{"$f":"COUNTIF(L21:L27,AD10)","v":0},{"$f":"AE10/(AG4-AE7)","v":{"$error":"#DIV/0!"}},{"$f":"IF(AF10=0,0,(AF10*((LOG(AF10))/LOG(2))))","v":{"$error":"#DIV/0!"}},null,{"$f":"N10","v":122},{"$f":"COUNTIF(L28:L34,AI10)","v":0},{"$f":"AJ10/(AL4-AJ7)","v":0},{"$f":"IF(AK10=0,0,(AK10*((LOG(AK10))/LOG(2))))","v":0},null,{"$f":"N10","v":122},{"$f":"COUNTIF(L35:L41,AN10)","v":0},{"$f":"AO10/(AQ4-AO7)","v":{"$error":"#DIV/0!"}},{"$f":"IF(AP10=0,0,(AP10*((LOG(AP10))/LOG(2))))","v":{"$error":"#DIV/0!"}},null,{"$f":"N10","v":122},{"$f":"COUNTIF(L42:L48,AS10)","v":0},{"$f":"AT10/(AV4-AT7)","v":{"$error":"#DIV/0!"}},{"$f":"IF(AU10=0,0,(AU10*((LOG(AU10))/LOG(2))))","v":{"$error":"#DIV/0!"}}]
[11,777,11,782,11,789,null,null,null,null,0,111,null,211,{"$f":"COUNTIF($L$7:$L$500,N11)","v":0},{"$f":"O11/$Q$4","v":0},{"$f":"IF(P11=0,0,(P11*((LOG(P11))/LOG(2))))","v":0},null,null,{"$f":"N11","v":211},{"$f":"COUNTIF(L7:L13,T11)","v":0},{"$f":"U11/(W4-U7)","v":0},{"$f":"IF(V11=0,0,(V11*((LOG(V11))/LOG(2))))","v":0},null,{"$f":"N11","v":211},{"$f":"COUNTIF(L14:L20,Y11)","v":0},{"$f":"Z11/(AB4-Z7)","v":{"$error":"#DIV/0!"}},{"$f":"IF(AA11=0,0,(AA11*((LOG(AA11))/LOG(2))))","v":{"$error":"#DIV/0!"}},null,{"$f":"N11","v":211},{"$f":"COUNTIF(L21:L27,AD11)","v":0},{"$f":"AE11/(AG4-AE7)","v":{"$error":"#DIV/0!"}},{"$f":"IF(AF11=0,0,(AF11*((LOG(AF11))/LOG(2))))","v":{"$error":"#DIV/0!"}},null,{"$f":"N11","v":211},{"$f":"COUNTIF(L28:L34,AI11)","v":0},{"$f":"AJ11/(AL4-AJ7)","v":0},{"$f":"IF(AK11=0,0,(AK11*((LOG(AK11))/LOG(2))))","v":0},null,{"$f":"N11","v":211},{"$f":"COUNTIF(L35:L41,AN11)","v":0},{"$f":"AO11/(AQ4-AO7)","v":{"$error":"#DIV/0!"}},{"$f":"IF(AP11=0,0,(AP11*((LOG(AP11))/LOG(2))))","v":{"$error":"#DIV/0!"}},null,{"$f":"N11","v":211},{"$f":"COUNTIF(L42:L48,AS11)","v":0},{"$f":"AT11/(AV4-AT7)","v":{"$error":"#DIV/0!"}},{"$f":"IF(AU11=0,0,(AU11*((LOG(AU11))/LOG(2))))","v":{"$error":"#DIV/0!"}}]
[11,956,11,961,11,967,null,null,null,null,0,111,null,212,{"$f":"COUNTIF($L$7:$L$500,N12)","v":0},{"$f":"O12/$Q$4","v":0},{"$f":"IF(P12=0,0,(P12*((LOG(P12))/LOG(2))))","v":0},null,null,{"$f":"N12","v":212},{"$f":"COUNTIF(L7:L13,T12)","v":0},{"$f":"U12/(W4-U7)","v":0},{"$f":"IF(V12=0,0,(V12*((LOG(V12))/LOG(2))))","v":0},null,{"$f":"N12","v":212},{"$f":"COUNTIF(L14:L20,Y12)","v":0},{"$f":"Z12/(AB4-Z7)","v":{"$error":"#DIV/0!"}},{"$f":"IF(AA12=0,0,(AA12*((LOG(AA12))/LOG(2))))","v":{"$error":"#DIV/0!"}},null,{"$f":"N12","v":212},{"$f":"COUNTIF(L21:L27,AD12)","v":0},{"$f":"AE12/(AG4-AE7)","v":{"$error":"#DIV/0!"}},{"$f":"IF(AF12=0,0,(AF12*((LOG(AF12))/LOG(2))))","v":{"$error":"#DIV/0!"}},null,{"$f":"N12","v":212},{"$f":"COUNTIF(L28:L34,AI12)","v":0},{"$f":"AJ12/(AL4-AJ7)","v":0},{"$f":"IF(AK12=0,0,(AK12*((LOG(AK12))/LOG(2))))","v":0},null,{"$f":"N12","v":212},{"$f":"COUNTIF(L35:L41,AN12)","v":0},{"$f":"AO12/(AQ4-AO7)","v":{"$error":"#DIV/0!"}},{"$f":"IF(AP12=0,0,(AP12*((LOG(AP12))/LOG(2))))","v":{"$error":"#DIV/0!"}},null,{"$f":"N12","v":212},{"$f":"COUNTIF(L42:L48,AS12)","v":0},{"$f":"AT12/(AV4-AT7)","v":{"$error":"#DIV/0!"}},{"$f":"IF(AU12=0,0,(AU12*((LOG(AU12))/LOG(2))))","v":{"$error":"#DIV/0!"}}]
[11,1150,11,1155,11,1161,null,null,null,null,0,111,null,221,{"$f":"COUNTIF($L$7:$L$500,N13)","v":1},{"$f":"O13/$Q$4","v":2.3809523809523808E-2},{"$f":"IF(P13=0,0,(P13*((LOG(P13))/LOG(2))))","v":-0.12838851006616095},null,null,{"$f":"N13","v":221},{"$f":"COUNTIF(L7:L13,T13)","v":1},{"$f":"U13/(W4-U7)","v":1},{"$f":"IF(V13=0,0,(V13*((LOG(V13))/LOG(2))))","v":0},null,{"$f":"N13","v":221},{"$f":"COUNTIF(L14:L20,Y13)","v":0},{"$f":"Z13/(AB4-Z7)","v":{"$error":"#DIV/0!"}},{"$f":"IF(AA13=0,0,(AA13*((LOG(AA13))/LOG(2))))","v":{"$error":"#DIV/0!"}},null,{"$f":"N13","v":221},{"$f":"COUNTIF(L21:L27,AD13)","v":0},{"$f":"AE13/(AG4-AE7)","v":{"$error":"#DIV/0!"}},{"$f":"IF(AF13=0,0,(AF13*((LOG(AF13))/LOG(2))))","v":{"$error":"#DIV/0!"}},null,{"$f":"N13","v":221},{"$f":"COUNTIF(L28:L34,AI13)","v":0},{"$f":"AJ13/(AL4-AJ7)","v":0},{"$f":"IF(AK13=0,0,(AK13*((LOG(AK13))/LOG(2))))","v":0},null,{"$f":"N13","v":221},{"$f":"COUNTIF(L35:L41,AN13)","v":0},{"$f":"AO13/(AQ4-AO7)","v":{"$error":"#DIV/0!"}},{"$f":"IF(AP13=0,0,(AP13*((LOG(AP13))/LOG(2))))","v":{"$error":"#DIV/0!"}},null,{"$f":"N13","v":221},{"$f":"COUNTIF(L42:L48,AS13)","v":0},{"$f":"AT13/(AV4-AT7)","v":{"$error":"#DIV/0!"}},{"$f":"IF(AU13=0,0,(AU13*((LOG(AU13))/LOG(2))))","v":{"$error":"#DIV/0!"}}]
[11,1328,11,1338,11,1345,null,null,null,null,0,111,null,222,{"$f":"COUNTIF($L$7:$L$500,N14)","v":1},{"$f":"O14/$Q$4","v":2.3809523809523808E-2},{"$f":"IF(P14=0,0,(P14*((LOG(P14))/LOG(2))))","v":-0.12838851006616095},null,null,{"$f":"N14","v":222},{"$f":"COUNTIF(L7:L13,T14)","v":0},{"$f":"U14/(W4-U7)","v":0},{"$f":"IF(V14=0,0,(V14*((LOG(V14))/LOG(2))))","v":0},null,{"$f":"N14","v":222},{"$f":"COUNTIF(L14:L20,Y14)","v":0},{"$f":"Z14/(AB4-Z7)","v":{"$error":"#DIV/0!"}},{"$f":"IF(AA14=0,0,(AA14*((LOG(AA14))/LOG(2))))","v":{"$error":"#DIV/0!"}},null,{"$f":"N14","v":222},{"$f":"COUNTIF(L21:L27,AD14)","v":0},{"$f":"AE14/(AG4-AE7)","v":{"$error":"#DIV/0!"}},{"$f":"IF(AF14=0,0,(AF14*((LOG(AF14))/LOG(2))))","v":{"$error":"#DIV/0!"}},null,{"$f":"N14","v":222},{"$f":"COUNTIF(L28:L34,AI14)","v":1},{"$f":"AJ14/(AL4-AJ7)","v":1},{"$f":"IF(AK14=0,0,(AK14*((LOG(AK14))/LOG(2))))","v":0},null,{"$f":"N14","v":222},{"$f":"COUNTIF(L35:L41,AN14)","v":0},{"$f":"AO14/(AQ4-AO7)","v":{"$error":"#DIV/0!"}},{"$f":"IF(AP14=0,0,(AP14*((LOG(AP14))/LOG(2))))","v":{"$error":"#DIV/0!"}},null,{"$f":"N14","v":222},{"$f":"COUNTIF(L42:L48,AS14)","v":0},{"$f":"AT14/(AV4-AT7)","v":{"$error":"#DIV/0!"}},{"$f":"IF(AU14=0,0,(AU14*((LOG(AU14))/LOG(2))))","v":{"$error":"#DIV/0!"}}]
[11,1552,11,1558,11,1565,null,null,null,null,0,111,null,null,null,{"$f":"SUM(P7:P14)","v":1},{"$f":"-SUM(Q7:Q14)","v":0.3238144752669867},null,null,null,null,{"$f":"SUM(V7:V14)","v":1},{"$f":"-SUM(W7:W14)","v":0},null,null,null,{"$f":"SUM(AA7:AA14)","v":{"$error":"#DIV/0!"}},{"$f":"-SUM(AB7:AB14)","v":{"$error":"#DIV/0!"}},null,null,null,{"$f":"SUM(AF7:AF14)","v":{"$error":"#DIV/0!"}},{"$f":"-SUM(AG7:AG14)","v":{"$error":"#DIV/0!"}},null,null,null,{"$f":"SUM(AK7:AK14)","v":1},{"$f":"-SUM(AL7:AL14)","v":0},null,null,null,{"$f":"SUM(AP7:AP14)","v":{"$error":"#DIV/0!"}},{"$f":"-SUM(AQ7:AQ14)","v":{"$error":"#DIV/0!"}},null,null,null,{"$f":"SUM(AU7:AU14)","v":{"$error":"#DIV/0!"}},{"$f":"-SUM(AV7:AV14)","v":{"$error":"#DIV/0!"}}]
[11,1697,11,1704,11,1711,null,null,null,null,0,111,null,null,null,"U=",{"$f":"Q15/(LOG(Q4)/LOG(2))","v":6.0051078206022804E-2},null,null,null,null,"U1=",{"$f":"W15/(LOG(W4)/LOG(2))","v":0},null,null,null,"U2=",{"$f":"AB15/(LOG(AB4)/LOG(2))","v":{"$error":"#DIV/0!"}},null,null,null,"U3=",{"$f":"AG15/(LOG(AG4)/LOG(2))","v":{"$error":"#DIV/0!"}},null,null,null,"U4=",{"$f":"AL15/(LOG(AL4)/LOG(2))","v":0},null,null,null,"U5=",{"$f":"AQ15/(LOG(AQ4)/LOG(2))","v":{"$error":"#DIV/0!"}},null,null,null,"U6=",{"$f":"AV15/(LOG(AV4)/LOG(2))","v":{"$error":"#DIV/0!"}}]
[11,1886,11,1892,11,1899,null,null,null,null,0,111]
[11,2113,11,2119,11,2126,null,null,null,null,0,111]
[11,2278,11,2283,11,2302,null,null,null,null,0,111,null,"Total Target Seq"]
[11,2483,11,2488,11,2495,null,null,null,null,0,111,null,{"$f":"COUNTIF(L7:L48,G3)","v":40},null,7,7,7,7,7,7]
[11,2706,11,2711,11,2717,null,null,null,null,0,111,null,null,null,"% of reinforcement given in 6 equal intervals based on number of trials "]
[11,2860,11,2870,11,2881,null,null,null,null,0,111,null,null,null,"%_1","%_2","%_3","%_4","%_5","%_6"]
[11,3072,11,3078,11,3084,null,null,null,null,0,111,null,null,"target sequence",{"$f":"$G$3","v":111},{"$f":"$G$3","v":111},{"$f":"$G$3","v":111},{"$f":"$G$3","v":111},{"$f":"$G$3","v":111},{"$f":"$G$3","v":111}]
[11,3214,11,3224,11,3230,null,null,null,null,0,111,null,null,"total reinforcement",{"$f":"U7","v":6},{"$f":"Z7","v":7},{"$f":"AE7","v":7},{"$f":"AJ7","v":6},{"$f":"AO7","v":7},{"$f":"AT7","v":7}]
[11,3433,11,3438,11,3443,null,null,null,null,0,111,null,null,"% target"]
[11,3597,11,3603,11,3608,null,null,null,null,0,111,null,null,"CCRF"]
[11,3781,11,3788,11,3795,null,null,null,null,0,111,null,null,"% CCRf"]
[11,4095,11,4100,11,4105,null,null,null,null,0,111,null,null,"average response rate",{"$f":"F13/P20","v":165.85714285714286},{"$f":"(F20-F13)/Q20","v":190.57142857142858},{"$f":"(F27-F20)/R20","v":185.71428571428572},{"$f":"(F34-F27)/S20","v":181.85714285714286},{"$f":"(F41-F34)/T20","v":183.71428571428572},{"$f":"(F48-F41)/U20","v":177.71428571428572}]
[22,4293,24,4295,24,4298,null,null,null,null,0,222]
[11,4395,11,4402,11,4411,null,null,null,null,0,111]
[11,4566,11,4570,11,4577,null,null,null,null,0,111]
[11,4677,11,4683,11,4689,null,null,null,null,0,111]
[11,4806,11,4810,11,4816,null,null,null,null,0,111]
[11,5049,11,5055,11,5068,null,null,null,null,0,111]
[11,5259,11,5265,11,5271,null,null,null,null,0,111]
[11,5424,11,5430,11,5438,null,null,null,null,0,111]
[11,5557,11,5562,11,5568,null,null,null,null,0,111]
[11,5698,11,5704,11,5710,null,null,null,null,0,111]
[11,5924,11,5930,11,5936,null,null,null,null,0,111]
[11,6115,11,6118,11,6123,null,null,null,null,0,111]
[11,6345,11,6348,11,6354,null,null,null,null,0,111]
[11,6586,11,6590,11,6610,null,null,null,null,0,111]
[11,6719,11,6728,11,6733,null,null,null,null,0,111]
[11,6845,11,6852,11,6861,null,null,null,null,0,111]
[11,7049,11,7055,11,7062,null,null,null,null,0,111]
[11,7217,11,7224,11,7233,null,null,null,null,0,111]
[11,7412,11,7418,11,7427,null,null,null,null,0,111]
[11,7572,11,7578,11,7598,null,null,null,null,1,111]

{"sheet":"!M703B0D.ust","index":13,"n_rows":47,"n_cols":48,"rows_kept":47,"cut":false,"hidden":false,"merged":[[4,39,4,42],[5,39,5,40],[4,44,4,47],[5,44,5,45],[4,24,4,27],[5,24,5,25],[4,29,4,32],[5,29,5,30],[4,34,4,37],[5,34,5,35],[1,1,1,2],[5,13,5,14],[18,13,18,14],[19,13,19,14],[4,19,4,22],[5,19,5,20]]}
["Report for:!M703B0D.ust"]
["Date:","<date>"]
["Hen:","<hen>",null,null,null,"Correct Sequence",{"$f":"Start!J2","v":111},null,null,null,null,null,null,null,null,"Total Sequences in Data",{"$f":"4994-COUNTBLANK(L7:L5000)","v":41},null,null,null,null,"Total Sequences in Block Data",{"$f":"COUNTA(L7:L13)","v":7},null,null,null,"Total Sequences in Block Data",{"$f":"COUNTA(L14:L20)","v":7},null,null,null,"Total Sequences in Block Data",{"$f":"COUNTA(L21:L26)","v":6},null,null,null,"Total Sequences in Block Data",{"$f":"COUNTA(L27:L33)","v":7},null,null,null,"Total Sequences in Block Data",{"$f":"COUNTA(L34:L40)","v":7},null,null,null,"Total Sequences in Block Data",{"$f":"COUNTA(L41:L47)","v":7}]
[null,null,null,null,null,null,null,null,null,null,null,null,null,null,null,"Total Sequences in Summary",{"$f":"SUM(O7:O14)","v":41},null,null,null,null,"Total Sequences in Block Summary",{"$f":"SUM(U7:U14)","v":7},null,null,null,"Total Sequences in Block Summary",{"$f":"SUM(Z7:Z14)","v":7},null,null,null,"Total Sequences in Block Summary",{"$f":"SUM(AE7:AE14)","v":6},null,null,null,"Total Sequences in Block Summary",{"$f":"SUM(AJ7:AJ14)","v":7},null,null,null,"Total Sequences in Block Summary",{"$f":"SUM(AO7:AO14)","v":7},null,null,null,"Total Sequences in Block Summary",{"$f":"SUM(AT7:AT14)","v":7}]
[null,null,null,null,null,null,null,null,null,null,null,null,null,null,null,null,null,null,null,"Block 1",null,null,null,null,"Block 2",null,null,null,null,"Block 3",null,null,null,null,"Block 4",null,null,null,null,"Block 5",null,null,null,null,"Block 6"]
["Sequence\nComponent\n1","Time\n1","Sequence\nComponent\n2","Time\n2","Sequence\nComponent\n3","Time\n3","Sequence\nComponent\n4","Time\n4","Sequence\nComponent\n5","Time\n5","Correct?\n0=No 1=Yes","Sequence",null,"Frequency",null,"Relative Frequency","Variability",null,null,"Frequency",null,"Relative Frequency","Variability",null,"Frequency",null,"Relative Frequency","Variability",null,"Frequency",null,"Relative Frequency","Variability",null,"Frequency",null,"Relative Frequency","Variability",null,"Frequency",null,"Relative Frequency","Variability",null,"Frequency",null,"Relative Frequency","Variability"]
[11,9,22,16,24,21,null,null,null,null,0,122,null,111,{"$f":"COUNTIF($L$7:$L$500,N7)","v":40},{"$f":"O7/$Q$4","v":0.97560975609756095},{"$f":"IF(P7=0,0,(P7*((LOG(P7))/LOG(2))))","v":-3.4755033883630611E-2},null,null,{"$f":"N7","v":111},{"$f":"COUNTIF(L7:L13,T7)","v":6},null,null,null,{"$f":"N7","v":111},{"$f":"COUNTIF(L14:L20,Y7)","v":7},null,null,null,{"$f":"N7","v":111},{"$f":"COUNTIF(L21:L26,AD7)","v":6},null,null,null,{"$f":"N7","v":111},{"$f":"COUNTIF(L27:L33,AI7)","v":7},null,null,null,{"$f":"N7","v":111},{"$f":"COUNTIF(L34:L40,AN7)","v":7},null,null,null,{"$f":"N7","v":111},{"$f":"COUNTIF(L41:L47,AS7)","v":7}]
[11,115,11,120,11,126,null,null,null,null,0,111,null,112,{"$f":"COUNTIF($L$7:$L$500,N8)","v":0},{"$f":"O8/$Q$4","v":0},{"$f":"IF(P8=0,0,(P8*((LOG(P8))/LOG(2))))","v":0},null,null,{"$f":"N8","v":112},{"$f":"COUNTIF(L7:L13,T8)","v":0},{"$f":"U8/(W4-U7)","v":0},{"$f":"IF(V8=0,0,(V8*((LOG(V8))/LOG(2))))","v":0},null,{"$f":"N8","v":112},{"$f":"COUNTIF(L14:L20,Y8)","v":0},{"$f":"Z8/(AB4-Z7)","v":{"$error":"#DIV/0!"}},{"$f":"IF(AA8=0,0,(AA8*((LOG(AA8))/LOG(2))))","v":{"$error":"#DIV/0!"}},null,{"$f":"N8","v":112},{"$f":"COUNTIF(L21:L26,AD8)","v":0},{"$f":"AE8/(AG4-AE7)","v":{"$error":"#DIV/0!"}},{"$f":"IF(AF8=0,0,(AF8*((LOG(AF8))/LOG(2))))","v":{"$error":"#DIV/0!"}},null,{"$f":"N8","v":112},{"$f":"COUNTIF(L27:L33,AI8)","v":0},{"$f":"AJ8/(AL4-AJ7)","v":{"$error":"#DIV/0!"}},{"$f":"IF(AK8=0,0,(AK8*((LOG(AK8))/LOG(2))))","v":{"$error":"#DIV/0!"}},null,{"$f":"N8","v":112},{"$f":"COUNTIF(L34:L40,AN8)","v":0},{"$f":"AO8/(AQ4-AO7)","v":{"$error":"#DIV/0!"}},{"$f":"IF(AP8=0,0,(AP8*((LOG(AP8))/LOG(2))))","v":{"$error":"#DIV/0!"}},null,{"$f":"N8","v":112},{"$f":"COUNTIF(L41:L47,AS8)","v":0},{"$f":"AT8/(AV4-AT7)","v":{"$error":"#DIV/0!"}},{"$f":"IF(AU8=0,0,(AU8*((LOG(AU8))/LOG(2))))","v":{"$error":"#DIV/0!"}}]
[11,242,11,248,11,270,null,null,null,null,0,111,null,121,{"$f":"COUNTIF($L$7:$L$500,N9)","v":0},{"$f":"O9/$Q$4","v":0},{"$f":"IF(P9=0,0,(P9*((LOG(P9))/LOG(2))))","v":0},null,null,{"$f":"N9","v":121},{"$f":"COUNTIF(L7:L13,T9)","v":0},{"$f":"U9/(W4-U7)","v":0},{"$f":"IF(V9=0,0,(V9*((LOG(V9))/LOG(2))))","v":0},null,{"$f":"N9","v":121},{"$f":"COUNTIF(L14:L20,Y9)","v":0},{"$f":"Z9/(AB4-Z7)","v":{"$error":"#DIV/0!"}},{"$f":"IF(AA9=0,0,(AA9*((LOG(AA9))/LOG(2))))","v":{"$error":"#DIV/0!"}},null,{"$f":"N9","v":121},{"$f":"COUNTIF(L21:L26,AD9)","v":0},{"$f":"AE9/(AG4-AE7)","v":{"$error":"#DIV/0!"}},{"$f":"IF(AF9=0,0,(AF9*((LOG(AF9))/LOG(2))))","v":{"$error":"#DIV/0!"}},null,{"$f":"N9","v":121},{"$f":"COUNTIF(L27:L33,AI9)","v":0},{"$f":"AJ9/(AL4-AJ7)","v":{"$error":"#DIV/0!"}},{"$f":"IF(AK9=0,0,(AK9*((LOG(AK9))/LOG(2))))","v":{"$error":"#DIV/0!"}},null,{"$f":"N9","v":121},{"$f":"COUNTIF(L34:L40,AN9)","v":0},{"$f":"AO9/(AQ4-AO7)","v":{"$error":"#DIV/0!"}},{"$f":"IF(AP9=0,0,(AP9*((LOG(AP9))/LOG(2))))","v":{"$error":"#DIV/0!"}},null,{"$f":"N9","v":121},{"$f":"COUNTIF(L41:L47,AS9)","v":0},{"$f":"AT9/(AV4-AT7)","v":{"$error":"#DIV/0!"}},{"$f":"IF(AU9=0,0,(AU9*((LOG(AU9))/LOG(2))))","v":{"$error":"#DIV/0!"}}]
[11,452,11,457,11,462,null,null,null,null,0,111,null,122,{"$f":"COUNTIF($L$7:$L$500,N10)","v":1},{"$f":"O10/$Q$4","v":2.4390243902439025E-2},{"$f":"IF(P10=0,0,(P10*((LOG(P10))/LOG(2))))","v":-0.13067200011263619},null,null,{"$f":"N10","v":122},{"$f":"COUNTIF(L7:L13,T10)","v":1},{"$f":"U10/(W4-U7)","v":1},{"$f":"IF(V10=0,0,(V10*((LOG(V10))/LOG(2))))","v":0},null,{"$f":"N10","v":122},{"$f":"COUNTIF(L14:L20,Y10)","v":0},{"$f":"Z10/(AB4-Z7)","v":{"$error":"#DIV/0!"}},{"$f":"IF(AA10=0,0,(AA10*((LOG(AA10))/LOG(2))))","v":{"$error":"#DIV/0!"}},null,{"$f":"N10","v":122},{"$f":"COUNTIF(L21:L26,AD10)","v":0},{"$f":"AE10/(AG4-AE7)","v":{"$error":"#DIV/0!"}},{"$f":"IF(AF10=0,0,(AF10*((LOG(AF10))/LOG(2))))","v":{"$error":"#DIV/0!"}},null,{"$f":"N10","v":122},{"$f":"COUNTIF(L27:L33,AI10)","v":0},{"$f":"AJ10/(AL4-AJ7)","v":{"$error":"#DIV/0!"}},{"$f":"IF(AK10=0,0,(AK10*((LOG(AK10))/LOG(2))))","v":{"$error":"#DIV/0!"}},null,{"$f":"N10","v":122},{"$f":"COUNTIF(L34:L40,AN10)","v":0},{"$f":"AO10/(AQ4-AO7)","v":{"$error":"#DIV/0!"}},{"$f":"IF(AP10=0,0,(AP10*((LOG(AP10))/LOG(2))))","v":{"$error":"#DIV/0!"}},null,{"$f":"N10","v":122},{"$f":"COUNTIF(L41:L47,AS10)","v":0},{"$f":"AT10/(AV4-AT7)","v":{"$error":"#DIV/0!"}},{"$f":"IF(AU10=0,0,(AU10*((LOG(AU10))/LOG(2))))","v":{"$error":"#DIV/0!"}}]
[11,626,11,632,11,638,null,null,null,null,0,111,null,211,{"$f":"COUNTIF($L$7:$L$500,N11)","v":0},{"$f":"O11/$Q$4","v":0},{"$f":"IF(P11=0,0,(P11*((LOG(P11))/LOG(2))))","v":0},null,null,{"$f":"N11","v":211},{"$f":"COUNTIF(L7:L13,T11)","v":0},{"$f":"U11/(W4-U7)","v":0},{"$f":"IF(V11=0,0,(V11*((LOG(V11))/LOG(2))))","v":0},null,{"$f":"N11","v":211},{"$f":"COUNTIF(L14:L20,Y11)","v":0},{"$f":"Z11/(AB4-Z7)","v":{"$error":"#DIV/0!"}},{"$f":"IF(AA11=0,0,(AA11*((LOG(AA11))/LOG(2))))","v":{"$error":"#DIV/0!"}},null,{"$f":"N11","v":211},{"$f":"COUNTIF(L21:L26,AD11)","v":0},{"$f":"AE11/(AG4-AE7)","v":{"$error":"#DIV/0!"}},{"$f":"IF(AF11=0,0,(AF11*((LOG(AF11))/LOG(2))))","v":{"$error":"#DIV/0!"}},null,{"$f":"N11","v":211},{"$f":"COUNTIF(L27:L33,AI11)","v":0},{"$f":"AJ11/(AL4-AJ7)","v":{"$error":"#DIV/0!"}},{"$f":"IF(AK11=0,0,(AK11*((LOG(AK11))/LOG(2))))","v":{"$error":"#DIV/0!"}},null,{"$f":"N11","v":211},{"$f":"COUNTIF(L34:L40,AN11)","v":0},{"$f":"AO11/(AQ4-AO7)","v":{"$error":"#DIV/0!"}},{"$f":"IF(AP11=0,0,(AP11*((LOG(AP11))/LOG(2))))","v":{"$error":"#DIV/0!"}},null,{"$f":"N11","v":211},{"$f":"COUNTIF(L41:L47,AS11)","v":0},{"$f":"AT11/(AV4-AT7)","v":{"$error":"#DIV/0!"}},{"$f":"IF(AU11=0,0,(AU11*((LOG(AU11))/LOG(2))))","v":{"$error":"#DIV/0!"}}]
[11,831,11,835,11,839,null,null,null,null,0,111,null,212,{"$f":"COUNTIF($L$7:$L$500,N12)","v":0},{"$f":"O12/$Q$4","v":0},{"$f":"IF(P12=0,0,(P12*((LOG(P12))/LOG(2))))","v":0},null,null,{"$f":"N12","v":212},{"$f":"COUNTIF(L7:L13,T12)","v":0},{"$f":"U12/(W4-U7)","v":0},{"$f":"IF(V12=0,0,(V12*((LOG(V12))/LOG(2))))","v":0},null,{"$f":"N12","v":212},{"$f":"COUNTIF(L14:L20,Y12)","v":0},{"$f":"Z12/(AB4-Z7)","v":{"$error":"#DIV/0!"}},{"$f":"IF(AA12=0,0,(AA12*((LOG(AA12))/LOG(2))))","v":{"$error":"#DIV/0!"}},null,{"$f":"N12","v":212},{"$f":"COUNTIF(L21:L26,AD12)","v":0},{"$f":"AE12/(AG4-AE7)","v":{"$error":"#DIV/0!"}},{"$f":"IF(AF12=0,0,(AF12*((LOG(AF12))/LOG(2))))","v":{"$error":"#DIV/0!"}},null,{"$f":"N12","v":212},{"$f":"COUNTIF(L27:L33,AI12)","v":0},{"$f":"AJ12/(AL4-AJ7)","v":{"$error":"#DIV/0!"}},{"$f":"IF(AK12=0,0,(AK12*((LOG(AK12))/LOG(2))))","v":{"$error":"#DIV/0!"}},null,{"$f":"N12","v":212},{"$f":"COUNTIF(L34:L40,AN12)","v":0},{"$f":"AO12/(AQ4-AO7)","v":{"$error":"#DIV/0!"}},{"$f":"IF(AP12=0,0,(AP12*((LOG(AP12))/LOG(2))))","v":{"$error":"#DIV/0!"}},null,{"$f":"N12","v":212},{"$f":"COUNTIF(L41:L47,AS12)","v":0},{"$f":"AT12/(AV4-AT7)","v":{"$error":"#DIV/0!"}},{"$f":"IF(AU12=0,0,(AU12*((LOG(AU12))/LOG(2))))","v":{"$error":"#DIV/0!"}}]
[11,1047,11,1053,11,1070,null,null,null,null,0,111,null,221,{"$f":"COUNTIF($L$7:$L$500,N13)","v":0},{"$f":"O13/$Q$4","v":0},{"$f":"IF(P13=0,0,(P13*((LOG(P13))/LOG(2))))","v":0},null,null,{"$f":"N13","v":221},{"$f":"COUNTIF(L7:L13,T13)","v":0},{"$f":"U13/(W4-U7)","v":0},{"$f":"IF(V13=0,0,(V13*((LOG(V13))/LOG(2))))","v":0},null,{"$f":"N13","v":221},{"$f":"COUNTIF(L14:L20,Y13)","v":0},{"$f":"Z13/(AB4-Z7)","v":{"$error":"#DIV/0!"}},{"$f":"IF(AA13=0,0,(AA13*((LOG(AA13))/LOG(2))))","v":{"$error":"#DIV/0!"}},null,{"$f":"N13","v":221},{"$f":"COUNTIF(L21:L26,AD13)","v":0},{"$f":"AE13/(AG4-AE7)","v":{"$error":"#DIV/0!"}},{"$f":"IF(AF13=0,0,(AF13*((LOG(AF13))/LOG(2))))","v":{"$error":"#DIV/0!"}},null,{"$f":"N13","v":221},{"$f":"COUNTIF(L27:L33,AI13)","v":0},{"$f":"AJ13/(AL4-AJ7)","v":{"$error":"#DIV/0!"}},{"$f":"IF(AK13=0,0,(AK13*((LOG(AK13))/LOG(2))))","v":{"$error":"#DIV/0!"}},null,{"$f":"N13","v":221},{"$f":"COUNTIF(L34:L40,AN13)","v":0},{"$f":"AO13/(AQ4-AO7)","v":{"$error":"#DIV/0!"}},{"$f":"IF(AP13=0,0,(AP13*((LOG(AP13))/LOG(2))))","v":{"$error":"#DIV/0!"}},null,{"$f":"N13","v":221},{"$f":"COUNTIF(L41:L47,AS13)","v":0},{"$f":"AT13/(AV4-AT7)","v":{"$error":"#DIV/0!"}},{"$f":"IF(AU13=0,0,(AU13*((LOG(AU13))/LOG(2))))","v":{"$error":"#DIV/0!"}}]
[11,1237,11,1243,11,1266,null,null,null,null,0,111,null,222,{"$f":"COUNTIF($L$7:$L$500,N14)","v":0},{"$f":"O14/$Q$4","v":0},{"$f":"IF(P14=0,0,(P14*((LOG(P14))/LOG(2))))","v":0},null,null,{"$f":"N14","v":222},{"$f":"COUNTIF(L7:L13,T14)","v":0},{"$f":"U14/(W4-U7)","v":0},{"$f":"IF(V14=0,0,(V14*((LOG(V14))/LOG(2))))","v":0},null,{"$f":"N14","v":222},{"$f":"COUNTIF(L14:L20,Y14)","v":0},{"$f":"Z14/(AB4-Z7)","v":{"$error":"#DIV/0!"}},{"$f":"IF(AA14=0,0,(AA14*((LOG(AA14))/LOG(2))))","v":{"$error":"#DIV/0!"}},null,{"$f":"N14","v":222},{"$f":"COUNTIF(L21:L26,AD14)","v":0},{"$f":"AE14/(AG4-AE7)","v":{"$error":"#DIV/0!"}},{"$f":"IF(AF14=0,0,(AF14*((LOG(AF14))/LOG(2))))","v":{"$error":"#DIV/0!"}},null,{"$f":"N14","v":222},{"$f":"COUNTIF(L27:L33,AI14)","v":0},{"$f":"AJ14/(AL4-AJ7)","v":{"$error":"#DIV/0!"}},{"$f":"IF(AK14=0,0,(AK14*((LOG(AK14))/LOG(2))))","v":{"$error":"#DIV/0!"}},null,{"$f":"N14","v":222},{"$f":"COUNTIF(L34:L40,AN14)","v":0},{"$f":"AO14/(AQ4-AO7)","v":{"$error":"#DIV/0!"}},{"$f":"IF(AP14=0,0,(AP14*((LOG(AP14))/LOG(2))))","v":{"$error":"#DIV/0!"}},null,{"$f":"N14","v":222},{"$f":"COUNTIF(L41:L47,AS14)","v":0},{"$f":"AT14/(AV4-AT7)","v":{"$error":"#DIV/0!"}},{"$f":"IF(AU14=0,0,(AU14*((LOG(AU14))/LOG(2))))","v":{"$error":"#DIV/0!"}}]
[11,1494,11,1500,11,1508,null,null,null,null,0,111,null,null,null,{"$f":"SUM(P7:P14)","v":1},{"$f":"-SUM(Q7:Q14)","v":0.16542703399626679},null,null,null,null,{"$f":"SUM(V7:V14)","v":1},{"$f":"-SUM(W7:W14)","v":0},null,null,null,{"$f":"SUM(AA7:AA14)","v":{"$error":"#DIV/0!"}},{"$f":"-SUM(AB7:AB14)","v":{"$error":"#DIV/0!"}},null,null,null,{"$f":"SUM(AF7:AF14)","v":{"$error":"#DIV/0!"}},{"$f":"-SUM(AG7:AG14)","v":{"$error":"#DIV/0!"}},null,null,null,{"$f":"SUM(AK7:AK14)","v":{"$error":"#DIV/0!"}},{"$f":"-SUM(AL7:AL14)","v":{"$error":"#DIV/0!"}},null,null,null,{"$f":"SUM(AP7:AP14)","v":{"$error":"#DIV/0!"}},{"$f":"-SUM(AQ7:AQ14)","v":{"$error":"#DIV/0!"}},null,null,null,{"$f":"SUM(AU7:AU14)","v":{"$error":"#DIV/0!"}},{"$f":"-SUM(AV7:AV14)","v":{"$error":"#DIV/0!"}}]
[11,1639,11,1645,11,1655,null,null,null,null,0,111,null,null,null,"U=",{"$f":"Q15/(LOG(Q4)/LOG(2))","v":3.0877354779509855E-2},null,null,null,null,"U1=",{"$f":"W15/(LOG(W4)/LOG(2))","v":0},null,null,null,"U2=",{"$f":"AB15/(LOG(AB4)/LOG(2))","v":{"$error":"#DIV/0!"}},null,null,null,"U3=",{"$f":"AG15/(LOG(AG4)/LOG(2))","v":{"$error":"#DIV/0!"}},null,null,null,"U4=",{"$f":"AL15/(LOG(AL4)/LOG(2))","v":{"$error":"#DIV/0!"}},null,null,null,"U5=",{"$f":"AQ15/(LOG(AQ4)/LOG(2))","v":{"$error":"#DIV/0!"}},null,null,null,"U6=",{"$f":"AV15/(LOG(AV4)/LOG(2))","v":{"$error":"#DIV/0!"}}]
[11,1849,11,1856,11,1862,null,null,null,null,0,111]
[11,2037,11,2043,11,2049,null,null,null,null,0,111]
[11,2233,11,2242,11,2249,null,null,null,null,0,111,null,"Total Target Seq"]
[11,2536,11,2542,11,2547,null,null,null,null,0,111,null,{"$f":"COUNTIF(L7:L47,G3)","v":40},null,7,7,6,7,7,7]
[11,2718,11,2724,11,2731,null,null,null,null,0,111,null,null,null,"% of reinforcement given in 6 equal intervals based on number of trials "]
[11,2936,11,2941,11,2952,null,null,null,null,0,111,null,null,null,"%_1","%_2","%_3","%_4","%_5","%_6"]
[11,3193,11,3197,11,3202,null,null,null,null,0,111,null,null,"target sequence",{"$f":"$G$3","v":111},{"$f":"$G$3","v":111},{"$f":"$G$3","v":111},{"$f":"$G$3","v":111},{"$f":"$G$3","v":111},{"$f":"$G$3","v":111}]
[11,3436,11,3443,11,3449,null,null,null,null,0,111,null,null,"total reinforcement",{"$f":"U7","v":6},{"$f":"Z7","v":7},{"$f":"AE7","v":6},{"$f":"AJ7","v":7},{"$f":"AO7","v":7},{"$f":"AT7","v":7}]
[11,3599,11,3604,11,3610,null,null,null,null,0,111,null,null,"% target"]
[11,3827,11,3833,11,3839,null,null,null,null,0,111,null,null,"CCRF"]
[11,4054,11,4058,11,4064,null,null,null,null,0,111,null,null,"% CCRf"]
[11,4309,11,4312,11,4317,null,null,null,null,0,111,null,null,"average response rate",{"$f":"F13/P20","v":152.85714285714286},{"$f":"(F20-F13)/Q20","v":211},{"$f":"(F26-F20)/R20","v":215.33333333333334},{"$f":"(F33-F26)/S20","v":225.14285714285714},{"$f":"(F40-F33)/T20","v":246.57142857142858},{"$f":"(F47-F40)/U20","v":202.28571428571428}]
[11,4527,11,4533,11,4543,null,null,null,null,0,111]
[11,4778,11,4782,11,4789,null,null,null,null,0,111]
[11,5007,11,5012,11,5019,null,null,null,null,0,111]
[11,5237,11,5241,11,5248,null,null,null,null,0,111]
[11,5403,11,5408,11,5415,null,null,null,null,0,111]
[11,5632,11,5643,11,5650,null,null,null,null,0,111]
[11,5811,11,5816,11,5836,null,null,null,null,0,111]
[11,6227,11,6231,11,6236,null,null,null,null,0,111]
[11,6471,11,6476,11,6484,null,null,null,null,0,111]
[11,6635,11,6640,11,6654,null,null,null,null,0,111]
[11,6860,11,6864,11,6874,null,null,null,null,0,111]
[11,7129,11,7134,11,7141,null,null,null,null,0,111]
[11,7285,11,7290,11,7298,null,null,null,null,0,111]
[11,7501,11,7509,11,7521,null,null,null,null,0,111]
[11,7745,11,7750,11,7755,null,null,null,null,0,111]
[11,7898,11,7903,11,7909,null,null,null,null,0,111]
[11,8135,11,8141,11,8147,null,null,null,null,0,111]
[11,8257,11,8264,11,8270,null,null,null,null,0,111]
[11,8533,11,8539,11,8557,null,null,null,null,1,111]

{"sheet":"!M704A5D.ust","index":14,"n_rows":48,"n_cols":48,"rows_kept":48,"cut":false,"hidden":false,"merged":[[4,39,4,42],[5,39,5,40],[4,44,4,47],[5,44,5,45],[4,24,4,27],[5,24,5,25],[4,29,4,32],[5,29,5,30],[4,34,4,37],[5,34,5,35],[1,1,1,2],[5,13,5,14],[18,13,18,14],[19,13,19,14],[4,19,4,22],[5,19,5,20]]}
["Report for:!M704A5D.ust"]
["Date:","<date>"]
["Hen:","<hen>",null,null,null,"Correct Sequence",{"$f":"Start!J2","v":111},null,null,null,null,null,null,null,null,"Total Sequences in Data",{"$f":"4994-COUNTBLANK(L7:L5000)","v":42},null,null,null,null,"Total Sequences in Block Data",{"$f":"COUNTA(L7:L13)","v":7},null,null,null,"Total Sequences in Block Data",{"$f":"COUNTA(L14:L20)","v":7},null,null,null,"Total Sequences in Block Data",{"$f":"COUNTA(L21:L27)","v":7},null,null,null,"Total Sequences in Block Data",{"$f":"COUNTA(L28:L34)","v":7},null,null,null,"Total Sequences in Block Data",{"$f":"COUNTA(L35:L41)","v":7},null,null,null,"Total Sequences in Block Data",{"$f":"COUNTA(L42:L48)","v":7}]
[null,null,null,null,null,null,null,null,null,null,null,null,null,null,null,"Total Sequences in Summary",{"$f":"SUM(O7:O14)","v":42},null,null,null,null,"Total Sequences in Block Summary",{"$f":"SUM(U7:U14)","v":7},null,null,null,"Total Sequences in Block Summary",{"$f":"SUM(Z7:Z14)","v":7},null,null,null,"Total Sequences in Block Summary",{"$f":"SUM(AE7:AE14)","v":7},null,null,null,"Total Sequences in Block Summary",{"$f":"SUM(AJ7:AJ14)","v":7},null,null,null,"Total Sequences in Block Summary",{"$f":"SUM(AO7:AO14)","v":7},null,null,null,"Total Sequences in Block Summary",{"$f":"SUM(AT7:AT14)","v":7}]
[null,null,null,null,null,null,null,null,null,null,null,null,null,null,null,null,null,null,null,"Block 1",null,null,null,null,"Block 2",null,null,null,null,"Block 3",null,null,null,null,"Block 4",null,null,null,null,"Block 5",null,null,null,null,"Block 6"]
["Sequence\nComponent\n1","Time\n1","Sequence\nComponent\n2","Time\n2","Sequence\nComponent\n3","Time\n3","Sequence\nComponent\n4","Time\n4","Sequence\nComponent\n5","Time\n5","Correct?\n0=No 1=Yes","Sequence",null,"Frequency",null,"Relative Frequency","Variability",null,null,"Frequency",null,"Relative Frequency","Variability",null,"Frequency",null,"Relative Frequency","Variability",null,"Frequency",null,"Relative Frequency","Variability",null,"Frequency",null,"Relative Frequency","Variability",null,"Frequency",null,"Relative Frequency","Variability",null,"Frequency",null,"Relative Frequency","Variability"]
[11,6,22,14,13,23,null,null,null,null,0,121,null,111,{"$f":"COUNTIF($L$7:$L$500,N7)","v":40},{"$f":"O7/$Q$4","v":0.95238095238095233},{"$f":"IF(P7=0,0,(P7*((LOG(P7))/LOG(2))))","v":-6.7037455134664775E-2},null,null,{"$f":"N7","v":111},{"$f":"COUNTIF(L7:L13,T7)","v":6},null,null,null,{"$f":"N7","v":111},{"$f":"COUNTIF(L14:L20,Y7)","v":6},null,null,null,{"$f":"N7","v":111},{"$f":"COUNTIF(L21:L27,AD7)","v":7},null,null,null,{"$f":"N7","v":111},{"$f":"COUNTIF(L28:L34,AI7)","v":7},null,null,null,{"$f":"N7","v":111},{"$f":"COUNTIF(L35:L41,AN7)","v":7},null,null,null,{"$f":"N7","v":111},{"$f":"COUNTIF(L42:L48,AS7)","v":7}]
[11,117,11,119,11,125,null,null,null,null,0,111,null,112,{"$f":"COUNTIF($L$7:$L$500,N8)","v":1},{"$f":"O8/$Q$4","v":2.3809523809523808E-2},{"$f":"IF(P8=0,0,(P8*((LOG(P8))/LOG(2))))","v":-0.12838851006616095},null,null,{"$f":"N8","v":112},{"$f":"COUNTIF(L7:L13,T8)","v":0},{"$f":"U8/(W4-U7)","v":0},{"$f":"IF(V8=0,0,(V8*((LOG(V8))/LOG(2))))","v":0},null,{"$f":"N8","v":112},{"$f":"COUNTIF(L14:L20,Y8)","v":1},{"$f":"Z8/(AB4-Z7)","v":1},{"$f":"IF(AA8=0,0,(AA8*((LOG(AA8))/LOG(2))))","v":0},null,{"$f":"N8","v":112},{"$f":"COUNTIF(L21:L27,AD8)","v":0},{"$f":"AE8/(AG4-AE7)","v":{"$error":"#DIV/0!"}},{"$f":"IF(AF8=0,0,(AF8*((LOG(AF8))/LOG(2))))","v":{"$error":"#DIV/0!"}},null,{"$f":"N8","v":112},{"$f":"COUNTIF(L28:L34,AI8)","v":0},{"$f":"AJ8/(AL4-AJ7)","v":{"$error":"#DIV/0!"}},{"$f":"IF(AK8=0,0,(AK8*((LOG(AK8))/LOG(2))))","v":{"$error":"#DIV/0!"}},null,{"$f":"N8","v":112},{"$f":"COUNTIF(L35:L41,AN8)","v":0},{"$f":"AO8/(AQ4-AO7)","v":{"$error":"#DIV/0!"}},{"$f":"IF(AP8=0,0,(AP8*((LOG(AP8))/LOG(2))))","v":{"$error":"#DIV/0!"}},null,{"$f":"N8","v":112},{"$f":"COUNTIF(L42:L48,AS8)","v":0},{"$f":"AT8/(AV4-AT7)","v":{"$error":"#DIV/0!"}},{"$f":"IF(AU8=0,0,(AU8*((LOG(AU8))/LOG(2))))","v":{"$error":"#DIV/0!"}}]
[11,250,11,253,11,256,null,null,null,null,0,111,null,121,{"$f":"COUNTIF($L$7:$L$500,N9)","v":1},{"$f":"O9/$Q$4","v":2.3809523809523808E-2},{"$f":"IF(P9=0,0,(P9*((LOG(P9))/LOG(2))))","v":-0.12838851006616095},null,null,{"$f":"N9","v":121},{"$f":"COUNTIF(L7:L13,T9)","v":1},{"$f":"U9/(W4-U7)","v":1},{"$f":"IF(V9=0,0,(V9*((LOG(V9))/LOG(2))))","v":0},null,{"$f":"N9","v":121},{"$f":"COUNTIF(L14:L20,Y9)","v":0},{"$f":"Z9/(AB4-Z7)","v":0},{"$f":"IF(AA9=0,0,(AA9*((LOG(AA9))/LOG(2))))","v":0},null,{"$f":"N9","v":121},{"$f":"COUNTIF(L21:L27,AD9)","v":0},{"$f":"AE9/(AG4-AE7)","v":{"$error":"#DIV/0!"}},{"$f":"IF(AF9=0,0,(AF9*((LOG(AF9))/LOG(2))))","v":{"$error":"#DIV/0!"}},null,{"$f":"N9","v":121},{"$f":"COUNTIF(L28:L34,AI9)","v":0},{"$f":"AJ9/(AL4-AJ7)","v":{"$error":"#DIV/0!"}},{"$f":"IF(AK9=0,0,(AK9*((LOG(AK9))/LOG(2))))","v":{"$error":"#DIV/0!"}},null,{"$f":"N9","v":121},{"$f":"COUNTIF(L35:L41,AN9)","v":0},{"$f":"AO9/(AQ4-AO7)","v":{"$error":"#DIV/0!"}},{"$f":"IF(AP9=0,0,(AP9*((LOG(AP9))/LOG(2))))","v":{"$error":"#DIV/0!"}},null,{"$f":"N9","v":121},{"$f":"COUNTIF(L42:L48,AS9)","v":0},{"$f":"AT9/(AV4-AT7)","v":{"$error":"#DIV/0!"}},{"$f":"IF(AU9=0,0,(AU9*((LOG(AU9))/LOG(2))))","v":{"$error":"#DIV/0!"}}]
[11,409,11,417,11,423,null,null,null,null,0,111,null,122,{"$f":"COUNTIF($L$7:$L$500,N10)","v":0},{"$f":"O10/$Q$4","v":0},{"$f":"IF(P10=0,0,(P10*((LOG(P10))/LOG(2))))","v":0},null,null,{"$f":"N10","v":122},{"$f":"COUNTIF(L7:L13,T10)","v":0},{"$f":"U10/(W4-U7)","v":0},{"$f":"IF(V10=0,0,(V10*((LOG(V10))/LOG(2))))","v":0},null,{"$f":"N10","v":122},{"$f":"COUNTIF(L14:L20,Y10)","v":0},{"$f":"Z10/(AB4-Z7)","v":0},{"$f":"IF(AA10=0,0,(AA10*((LOG(AA10))/LOG(2))))","v":0},null,{"$f":"N10","v":122},{"$f":"COUNTIF(L21:L27,AD10)","v":0},{"$f":"AE10/(AG4-AE7)","v":{"$error":"#DIV/0!"}},{"$f":"IF(AF10=0,0,(AF10*((LOG(AF10))/LOG(2))))","v":{"$error":"#DIV/0!"}},null,{"$f":"N10","v":122},{"$f":"COUNTIF(L28:L34,AI10)","v":0},{"$f":"AJ10/(AL4-AJ7)","v":{"$error":"#DIV/0!"}},{"$f":"IF(AK10=0,0,(AK10*((LOG(AK10))/LOG(2))))","v":{"$error":"#DIV/0!"}},null,{"$f":"N10","v":122},{"$f":"COUNTIF(L35:L41,AN10)","v":0},{"$f":"AO10/(AQ4-AO7)","v":{"$error":"#DIV/0!"}},{"$f":"IF(AP10=0,0,(AP10*((LOG(AP10))/LOG(2))))","v":{"$error":"#DIV/0!"}},null,{"$f":"N10","v":122},{"$f":"COUNTIF(L42:L48,AS10)","v":0},{"$f":"AT10/(AV4-AT7)","v":{"$error":"#DIV/0!"}},{"$f":"IF(AU10=0,0,(AU10*((LOG(AU10))/LOG(2))))","v":{"$error":"#DIV/0!"}}]
[11,623,11,629,11,634,null,null,null,null,0,111,null,211,{"$f":"COUNTIF($L$7:$L$500,N11)","v":0},{"$f":"O11/$Q$4","v":0},{"$f":"IF(P11=0,0,(P11*((LOG(P11))/LOG(2))))","v":0},null,null,{"$f":"N11","v":211},{"$f":"COUNTIF(L7:L13,T11)","v":0},{"$f":"U11/(W4-U7)","v":0},{"$f":"IF(V11=0,0,(V11*((LOG(V11))/LOG(2))))","v":0},null,{"$f":"N11","v":211},{"$f":"COUNTIF(L14:L20,Y11)","v":0},{"$f":"Z11/(AB4-Z7)","v":0},{"$f":"IF(AA11=0,0,(AA11*((LOG(AA11))/LOG(2))))","v":0},null,{"$f":"N11","v":211},{"$f":"COUNTIF(L21:L27,AD11)","v":0},{"$f":"AE11/(AG4-AE7)","v":{"$error":"#DIV/0!"}},{"$f":"IF(AF11=0,0,(AF11*((LOG(AF11))/LOG(2))))","v":{"$error":"#DIV/0!"}},null,{"$f":"N11","v":211},{"$f":"COUNTIF(L28:L34,AI11)","v":0},{"$f":"AJ11/(AL4-AJ7)","v":{"$error":"#DIV/0!"}},{"$f":"IF(AK11=0,0,(AK11*((LOG(AK11))/LOG(2))))","v":{"$error":"#DIV/0!"}},null,{"$f":"N11","v":211},{"$f":"COUNTIF(L35:L41,AN11)","v":0},{"$f":"AO11/(AQ4-AO7)","v":{"$error":"#DIV/0!"}},{"$f":"IF(AP11=0,0,(AP11*((LOG(AP11))/LOG(2))))","v":{"$error":"#DIV/0!"}},null,{"$f":"N11","v":211},{"$f":"COUNTIF(L42:L48,AS11)","v":0},{"$f":"AT11/(AV4-AT7)","v":{"$error":"#DIV/0!"}},{"$f":"IF(AU11=0,0,(AU11*((LOG(AU11))/LOG(2))))","v":{"$error":"#DIV/0!"}}]
[11,875,11,878,11,884,null,null,null,null,0,111,null,212,{"$f":"COUNTIF($L$7:$L$500,N12)","v":0},{"$f":"O12/$Q$4","v":0},{"$f":"IF(P12=0,0,(P12*((LOG(P12))/LOG(2))))","v":0},null,null,{"$f":"N12","v":212},{"$f":"COUNTIF(L7:L13,T12)","v":0},{"$f":"U12/(W4-U7)","v":0},{"$f":"IF(V12=0,0,(V12*((LOG(V12))/LOG(2))))","v":0},null,{"$f":"N12","v":212},{"$f":"COUNTIF(L14:L20,Y12)","v":0},{"$f":"Z12/(AB4-Z7)","v":0},{"$f":"IF(AA12=0,0,(AA12*((LOG(AA12))/LOG(2))))","v":0},null,{"$f":"N12","v":212},{"$f":"COUNTIF(L21:L27,AD12)","v":0},{"$f":"AE12/(AG4-AE7)","v":{"$error":"#DIV/0!"}},{"$f":"IF(AF12=0,0,(AF12*((LOG(AF12))/LOG(2))))","v":{"$error":"#DIV/0!"}},null,{"$f":"N12","v":212},{"$f":"COUNTIF(L28:L34,AI12)","v":0},{"$f":"AJ12/(AL4-AJ7)","v":{"$error":"#DIV/0!"}},{"$f":"IF(AK12=0,0,(AK12*((LOG(AK12))/LOG(2))))","v":{"$error":"#DIV/0!"}},null,{"$f":"N12","v":212},{"$f":"COUNTIF(L35:L41,AN12)","v":0},{"$f":"AO12/(AQ4-AO7)","v":{"$error":"#DIV/0!"}},{"$f":"IF(AP12=0,0,(AP12*((LOG(AP12))/LOG(2))))","v":{"$error":"#DIV/0!"}},null,{"$f":"N12","v":212},{"$f":"COUNTIF(L42:L48,AS12)","v":0},{"$f":"AT12/(AV4-AT7)","v":{"$error":"#DIV/0!"}},{"$f":"IF(AU12=0,0,(AU12*((LOG(AU12))/LOG(2))))","v":{"$error":"#DIV/0!"}}]
[11,1027,11,1031,11,1039,null,null,null,null,0,111,null,221,{"$f":"COUNTIF($L$7:$L$500,N13)","v":0},{"$f":"O13/$Q$4","v":0},{"$f":"IF(P13=0,0,(P13*((LOG(P13))/LOG(2))))","v":0},null,null,{"$f":"N13","v":221},{"$f":"COUNTIF(L7:L13,T13)","v":0},{"$f":"U13/(W4-U7)","v":0},{"$f":"IF(V13=0,0,(V13*((LOG(V13))/LOG(2))))","v":0},null,{"$f":"N13","v":221},{"$f":"COUNTIF(L14:L20,Y13)","v":0},{"$f":"Z13/(AB4-Z7)","v":0},{"$f":"IF(AA13=0,0,(AA13*((LOG(AA13))/LOG(2))))","v":0},null,{"$f":"N13","v":221},{"$f":"COUNTIF(L21:L27,AD13)","v":0},{"$f":"AE13/(AG4-AE7)","v":{"$error":"#DIV/0!"}},{"$f":"IF(AF13=0,0,(AF13*((LOG(AF13))/LOG(2))))","v":{"$error":"#DIV/0!"}},null,{"$f":"N13","v":221},{"$f":"COUNTIF(L28:L34,AI13)","v":0},{"$f":"AJ13/(AL4-AJ7)","v":{"$error":"#DIV/0!"}},{"$f":"IF(AK13=0,0,(AK13*((LOG(AK13))/LOG(2))))","v":{"$error":"#DIV/0!"}},null,{"$f":"N13","v":221},{"$f":"COUNTIF(L35:L41,AN13)","v":0},{"$f":"AO13/(AQ4-AO7)","v":{"$error":"#DIV/0!"}},{"$f":"IF(AP13=0,0,(AP13*((LOG(AP13))/LOG(2))))","v":{"$error":"#DIV/0!"}},null,{"$f":"N13","v":221},{"$f":"COUNTIF(L42:L48,AS13)","v":0},{"$f":"AT13/(AV4-AT7)","v":{"$error":"#DIV/0!"}},{"$f":"IF(AU13=0,0,(AU13*((LOG(AU13))/LOG(2))))","v":{"$error":"#DIV/0!"}}]
[11,1171,11,1175,11,1182,null,null,null,null,0,111,null,222,{"$f":"COUNTIF($L$7:$L$500,N14)","v":0},{"$f":"O14/$Q$4","v":0},{"$f":"IF(P14=0,0,(P14*((LOG(P14))/LOG(2))))","v":0},null,null,{"$f":"N14","v":222},{"$f":"COUNTIF(L7:L13,T14)","v":0},{"$f":"U14/(W4-U7)","v":0},{"$f":"IF(V14=0,0,(V14*((LOG(V14))/LOG(2))))","v":0},null,{"$f":"N14","v":222},{"$f":"COUNTIF(L14:L20,Y14)","v":0},{"$f":"Z14/(AB4-Z7)","v":0},{"$f":"IF(AA14=0,0,(AA14*((LOG(AA14))/LOG(2))))","v":0},null,{"$f":"N14","v":222},{"$f":"COUNTIF(L21:L27,AD14)","v":0},{"$f":"AE14/(AG4-AE7)","v":{"$error":"#DIV/0!"}},{"$f":"IF(AF14=0,0,(AF14*((LOG(AF14))/LOG(2))))","v":{"$error":"#DIV/0!"}},null,{"$f":"N14","v":222},{"$f":"COUNTIF(L28:L34,AI14)","v":0},{"$f":"AJ14/(AL4-AJ7)","v":{"$error":"#DIV/0!"}},{"$f":"IF(AK14=0,0,(AK14*((LOG(AK14))/LOG(2))))","v":{"$error":"#DIV/0!"}},null,{"$f":"N14","v":222},{"$f":"COUNTIF(L35:L41,AN14)","v":0},{"$f":"AO14/(AQ4-AO7)","v":{"$error":"#DIV/0!"}},{"$f":"IF(AP14=0,0,(AP14*((LOG(AP14))/LOG(2))))","v":{"$error":"#DIV/0!"}},null,{"$f":"N14","v":222},{"$f":"COUNTIF(L42:L48,AS14)","v":0},{"$f":"AT14/(AV4-AT7)","v":{"$error":"#DIV/0!"}},{"$f":"IF(AU14=0,0,(AU14*((LOG(AU14))/LOG(2))))","v":{"$error":"#DIV/0!"}}]
[11,1418,11,1422,11,1427,null,null,null,null,0,111,null,null,null,{"$f":"SUM(P7:P14)","v":1},{"$f":"-SUM(Q7:Q14)","v":0.3238144752669867},null,null,null,null,{"$f":"SUM(V7:V14)","v":1},{"$f":"-SUM(W7:W14)","v":0},null,null,null,{"$f":"SUM(AA7:AA14)","v":1},{"$f":"-SUM(AB7:AB14)","v":0},null,null,null,{"$f":"SUM(AF7:AF14)","v":{"$error":"#DIV/0!"}},{"$f":"-SUM(AG7:AG14)","v":{"$error":"#DIV/0!"}},null,null,null,{"$f":"SUM(AK7:AK14)","v":{"$error":"#DIV/0!"}},{"$f":"-SUM(AL7:AL14)","v":{"$error":"#DIV/0!"}},null,null,null,{"$f":"SUM(AP7:AP14)","v":{"$error":"#DIV/0!"}},{"$f":"-SUM(AQ7:AQ14)","v":{"$error":"#DIV/0!"}},null,null,null,{"$f":"SUM(AU7:AU14)","v":{"$error":"#DIV/0!"}},{"$f":"-SUM(AV7:AV14)","v":{"$error":"#DIV/0!"}}]
[11,1611,11,1621,22,1638,null,null,null,null,0,112,null,null,null,"U=",{"$f":"Q15/(LOG(Q4)/LOG(2))","v":6.0051078206022804E-2},null,null,null,null,"U1=",{"$f":"W15/(LOG(W4)/LOG(2))","v":0},null,null,null,"U2=",{"$f":"AB15/(LOG(AB4)/LOG(2))","v":0},null,null,null,"U3=",{"$f":"AG15/(LOG(AG4)/LOG(2))","v":{"$error":"#DIV/0!"}},null,null,null,"U4=",{"$f":"AL15/(LOG(AL4)/LOG(2))","v":{"$error":"#DIV/0!"}},null,null,null,"U5=",{"$f":"AQ15/(LOG(AQ4)/LOG(2))","v":{"$error":"#DIV/0!"}},null,null,null,"U6=",{"$f":"AV15/(LOG(AV4)/LOG(2))","v":{"$error":"#DIV/0!"}}]
[11,1733,11,1740,11,1746,null,null,null,null,0,111]
[11,1893,11,1897,11,1903,null,null,null,null,0,111]
[11,2030,11,2035,11,2041,null,null,null,null,0,111,null,"Total Target Seq"]
[11,2172,11,2177,11,2184,null,null,null,null,0,111,null,{"$f":"COUNTIF(L7:L48,G3)","v":40},null,7,7,7,7,7,7]
[11,2378,11,2384,11,2391,null,null,null,null,0,111,null,null,null,"% of reinforcement given in 6 equal intervals based on number of trials "]
[11,2625,11,2631,11,2641,null,null,null,null,0,111,null,null,null,"%_1","%_2","%_3","%_4","%_5","%_6"]
[11,2875,11,2880,11,2898,null,null,null,null,0,111,null,null,"target sequence",{"$f":"$G$3","v":111},{"$f":"$G$3","v":111},{"$f":"$G$3","v":111},{"$f":"$G$3","v":111},{"$f":"$G$3","v":111},{"$f":"$G$3","v":111}]
[11,2997,11,3002,11,3005,null,null,null,null,0,111,null,null,"total reinforcement",{"$f":"U7","v":6},{"$f":"Z7","v":6},{"$f":"AE7","v":7},{"$f":"AJ7","v":7},{"$f":"AO7","v":7},{"$f":"AT7","v":7}]
[11,3172,11,3179,11,3199,null,null,null,null,0,111,null,null,"% target"]
[11,3355,11,3359,11,3366,null,null,null,null,0,111,null,null,"CCRF"]
[11,3592,11,3597,11,3607,null,null,null,null,0,111,null,null,"% CCRf"]
[11,3825,11,3830,11,3848,null,null,null,null,0,111,null,null,"average response rate",{"$f":"F13/P20","v":148.42857142857142},{"$f":"(F20-F13)/Q20","v":163.57142857142858},{"$f":"(F27-F20)/R20","v":203.28571428571428},{"$f":"(F34-F27)/S20","v":219.57142857142858},{"$f":"(F41-F34)/T20","v":235.42857142857142},{"$f":"(F48-F41)/U20","v":259.71428571428572}]
[11,3999,11,4001,11,4003,null,null,null,null,0,111]
[11,4218,11,4221,11,4225,null,null,null,null,0,111]
[11,4448,11,4454,11,4470,null,null,null,null,0,111]
[11,4660,11,4665,11,4673,null,null,null,null,0,111]
[11,4869,11,4874,11,4886,null,null,null,null,0,111]
[11,5122,11,5129,11,5144,null,null,null,null,0,111]
[11,5305,11,5311,11,5317,null,null,null,null,0,111]
[11,5531,11,5536,11,5543,null,null,null,null,0,111]
[11,5855,11,5860,11,5873,null,null,null,null,0,111]
[11,6042,11,6049,11,6062,null,null,null,null,0,111]
[11,6325,11,6329,11,6368,null,null,null,null,0,111]
[11,6603,11,6608,11,6612,null,null,null,null,0,111]
[11,6779,11,6785,11,6792,null,null,null,null,0,111]
[11,6996,11,7001,11,7007,null,null,null,null,0,111]
[11,7235,11,7238,11,7253,null,null,null,null,0,111]
[11,7587,11,7593,11,7599,null,null,null,null,0,111]
[11,7858,11,7862,11,7867,null,null,null,null,0,111]
[11,8072,11,8076,11,8082,null,null,null,null,0,111]
[11,8316,11,8322,11,8331,null,null,null,null,0,111]
[11,8600,11,8603,11,8610,null,null,null,null,1,111]

{"sheet":"!M705A5D.ust","index":15,"n_rows":46,"n_cols":48,"rows_kept":46,"cut":false,"hidden":false,"merged":[[4,39,4,42],[5,39,5,40],[4,44,4,47],[5,44,5,45],[4,24,4,27],[5,24,5,25],[4,29,4,32],[5,29,5,30],[4,34,4,37],[5,34,5,35],[1,1,1,2],[5,13,5,14],[18,13,18,14],[19,13,19,14],[4,19,4,22],[5,19,5,20]]}
["Report for:!M705A5D.ust"]
["Date:","<date>"]
["Hen:","<hen>",null,null,null,"Correct Sequence",{"$f":"Start!J2","v":111},null,null,null,null,null,null,null,null,"Total Sequences in Data",{"$f":"4994-COUNTBLANK(L7:L5000)","v":40},null,null,null,null,"Total Sequences in Block Data",{"$f":"COUNTA(L7:L13)","v":7},null,null,null,"Total Sequences in Block Data",{"$f":"COUNTA(L14:L19)","v":6},null,null,null,"Total Sequences in Block Data",{"$f":"COUNTA(L20:L26)","v":7},null,null,null,"Total Sequences in Block Data",{"$f":"COUNTA(L27:L33)","v":7},null,null,null,"Total Sequences in Block Data",{"$f":"COUNTA(L34:L39)","v":6},null,null,null,"Total Sequences in Block Data",{"$f":"COUNTA(L40:L46)","v":7}]
[null,null,null,null,null,null,null,null,null,null,null,null,null,null,null,"Total Sequences in Summary",{"$f":"SUM(O7:O14)","v":40},null,null,null,null,"Total Sequences in Block Summary",{"$f":"SUM(U7:U14)","v":7},null,null,null,"Total Sequences in Block Summary",{"$f":"SUM(Z7:Z14)","v":6},null,null,null,"Total Sequences in Block Summary",{"$f":"SUM(AE7:AE14)","v":7},null,null,null,"Total Sequences in Block Summary",{"$f":"SUM(AJ7:AJ14)","v":7},null,null,null,"Total Sequences in Block Summary",{"$f":"SUM(AO7:AO14)","v":6},null,null,null,"Total Sequences in Block Summary",{"$f":"SUM(AT7:AT14)","v":7}]
[null,null,null,null,null,null,null,null,null,null,null,null,null,null,null,null,null,null,null,"Block 1",null,null,null,null,"Block 2",null,null,null,null,"Block 3",null,null,null,null,"Block 4",null,null,null,null,"Block 5",null,null,null,null,"Block 6"]
["Sequence\nComponent\n1","Time\n1","Sequence\nComponent\n2","Time\n2","Sequence\nComponent\n3","Time\n3","Sequence\nComponent\n4","Time\n4","Sequence\nComponent\n5","Time\n5","Correct?\n0=No 1=Yes","Sequence",null,"Frequency",null,"Relative Frequency","Variability",null,null,"Frequency",null,"Relative Frequency","Variability",null,"Frequency",null,"Relative Frequency","Variability",null,"Frequency",null,"Relative Frequency","Variability",null,"Frequency",null,"Relative Frequency","Variability",null,"Frequency",null,"Relative Frequency","Variability",null,"Frequency",null,"Relative Frequency","Variability"]
[11,5,11,9,11,15,null,null,null,null,0,111,null,111,{"$f":"COUNTIF($L$7:$L$500,N7)","v":40},{"$f":"O7/$Q$4","v":1},{"$f":"IF(P7=0,0,(P7*((LOG(P7))/LOG(2))))","v":0},null,null,{"$f":"N7","v":111},{"$f":"COUNTIF(L7:L13,T7)","v":7},null,null,null,{"$f":"N7","v":111},{"$f":"COUNTIF(L14:L19,Y7)","v":6},null,null,null,{"$f":"N7","v":111},{"$f":"COUNTIF(L20:L26,AD7)","v":7},null,null,null,{"$f":"N7","v":111},{"$f":"COUNTIF(L27:L33,AI7)","v":7},null,null,null,{"$f":"N7","v":111},{"$f":"COUNTIF(L34:L39,AN7)","v":6},null,null,null,{"$f":"N7","v":111},{"$f":"COUNTIF(L40:L46,AS7)","v":7}]
[11,172,11,176,11,184,null,null,null,null,0,111,null,112,{"$f":"COUNTIF($L$7:$L$500,N8)","v":0},{"$f":"O8/$Q$4","v":0},{"$f":"IF(P8=0,0,(P8*((LOG(P8))/LOG(2))))","v":0},null,null,{"$f":"N8","v":112},{"$f":"COUNTIF(L7:L13,T8)","v":0},{"$f":"U8/(W4-U7)","v":{"$error":"#DIV/0!"}},{"$f":"IF(V8=0,0,(V8*((LOG(V8))/LOG(2))))","v":{"$error":"#DIV/0!"}},null,{"$f":"N8","v":112},{"$f":"COUNTIF(L14:L19,Y8)","v":0},{"$f":"Z8/(AB4-Z7)","v":{"$error":"#DIV/0!"}},{"$f":"IF(AA8=0,0,(AA8*((LOG(AA8))/LOG(2))))","v":{"$error":"#DIV/0!"}},null,{"$f":"N8","v":112},{"$f":"COUNTIF(L20:L26,AD8)","v":0},{"$f":"AE8/(AG4-AE7)","v":{"$error":"#DIV/0!"}},{"$f":"IF(AF8=0,0,(AF8*((LOG(AF8))/LOG(2))))","v":{"$error":"#DIV/0!"}},null,{"$f":"N8","v":112},{"$f":"COUNTIF(L27:L33,AI8)","v":0},{"$f":"AJ8/(AL4-AJ7)","v":{"$error":"#DIV/0!"}},{"$f":"IF(AK8=0,0,(AK8*((LOG(AK8))/LOG(2))))","v":{"$error":"#DIV/0!"}},null,{"$f":"N8","v":112},{"$f":"COUNTIF(L34:L39,AN8)","v":0},{"$f":"AO8/(AQ4-AO7)","v":{"$error":"#DIV/0!"}},{"$f":"IF(AP8=0,0,(AP8*((LOG(AP8))/LOG(2))))","v":{"$error":"#DIV/0!"}},null,{"$f":"N8","v":112},{"$f":"COUNTIF(L40:L46,AS8)","v":0},{"$f":"AT8/(AV4-AT7)","v":{"$error":"#DIV/0!"}},{"$f":"IF(AU8=0,0,(AU8*((LOG(AU8))/LOG(2))))","v":{"$error":"#DIV/0!"}}]
[11,339,11,344,11,349,null,null,null,null,0,111,null,121,{"$f":"COUNTIF($L$7:$L$500,N9)","v":0},{"$f":"O9/$Q$4","v":0},{"$f":"IF(P9=0,0,(P9*((LOG(P9))/LOG(2))))","v":0},null,null,{"$f":"N9","v":121},{"$f":"COUNTIF(L7:L13,T9)","v":0},{"$f":"U9/(W4-U7)","v":{"$error":"#DIV/0!"}},{"$f":"IF(V9=0,0,(V9*((LOG(V9))/LOG(2))))","v":{"$error":"#DIV/0!"}},null,{"$f":"N9","v":121},{"$f":"COUNTIF(L14:L19,Y9)","v":0},{"$f":"Z9/(AB4-Z7)","v":{"$error":"#DIV/0!"}},{"$f":"IF(AA9=0,0,(AA9*((LOG(AA9))/LOG(2))))","v":{"$error":"#DIV/0!"}},null,{"$f":"N9","v":121},{"$f":"COUNTIF(L20:L26,AD9)","v":0},{"$f":"AE9/(AG4-AE7)","v":{"$error":"#DIV/0!"}},{"$f":"IF(AF9=0,0,(AF9*((LOG(AF9))/LOG(2))))","v":{"$error":"#DIV/0!"}},null,{"$f":"N9","v":121},{"$f":"COUNTIF(L27:L33,AI9)","v":0},{"$f":"AJ9/(AL4-AJ7)","v":{"$error":"#DIV/0!"}},{"$f":"IF(AK9=0,0,(AK9*((LOG(AK9))/LOG(2))))","v":{"$error":"#DIV/0!"}},null,{"$f":"N9","v":121},{"$f":"COUNTIF(L34:L39,AN9)","v":0},{"$f":"AO9/(AQ4-AO7)","v":{"$error":"#DIV/0!"}},{"$f":"IF(AP9=0,0,(AP9*((LOG(AP9))/LOG(2))))","v":{"$error":"#DIV/0!"}},null,{"$f":"N9","v":121},{"$f":"COUNTIF(L40:L46,AS9)","v":0},{"$f":"AT9/(AV4-AT7)","v":{"$error":"#DIV/0!"}},{"$f":"IF(AU9=0,0,(AU9*((LOG(AU9))/LOG(2))))","v":{"$error":"#DIV/0!"}}]
[11,481,11,487,11,493,null,null,null,null,0,111,null,122,{"$f":"COUNTIF($L$7:$L$500,N10)","v":0},{"$f":"O10/$Q$4","v":0},{"$f":"IF(P10=0,0,(P10*((LOG(P10))/LOG(2))))","v":0},null,null,{"$f":"N10","v":122},{"$f":"COUNTIF(L7:L13,T10)","v":0},{"$f":"U10/(W4-U7)","v":{"$error":"#DIV/0!"}},{"$f":"IF(V10=0,0,(V10*((LOG(V10))/LOG(2))))","v":{"$error":"#DIV/0!"}},null,{"$f":"N10","v":122},{"$f":"COUNTIF(L14:L19,Y10)","v":0},{"$f":"Z10/(AB4-Z7)","v":{"$error":"#DIV/0!"}},{"$f":"IF(AA10=0,0,(AA10*((LOG(AA10))/LOG(2))))","v":{"$error":"#DIV/0!"}},null,{"$f":"N10","v":122},{"$f":"COUNTIF(L20:L26,AD10)","v":0},{"$f":"AE10/(AG4-AE7)","v":{"$error":"#DIV/0!"}},{"$f":"IF(AF10=0,0,(AF10*((LOG(AF10))/LOG(2))))","v":{"$error":"#DIV/0!"}},null,{"$f":"N10","v":122},{"$f":"COUNTIF(L27:L33,AI10)","v":0},{"$f":"AJ10/(AL4-AJ7)","v":{"$error":"#DIV/0!"}},{"$f":"IF(AK10=0,0,(AK10*((LOG(AK10))/LOG(2))))","v":{"$error":"#DIV/0!"}},null,{"$f":"N10","v":122},{"$f":"COUNTIF(L34:L39,AN10)","v":0},{"$f":"AO10/(AQ4-AO7)","v":{"$error":"#DIV/0!"}},{"$f":"IF(AP10=0,0,(AP10*((LOG(AP10))/LOG(2))))","v":{"$error":"#DIV/0!"}},null,{"$f":"N10","v":122},{"$f":"COUNTIF(L40:L46,AS10)","v":0},{"$f":"AT10/(AV4-AT7)","v":{"$error":"#DIV/0!"}},{"$f":"IF(AU10=0,0,(AU10*((LOG(AU10))/LOG(2))))","v":{"$error":"#DIV/0!"}}]
[11,630,11,635,11,641,null,null,null,null,0,111,null,211,{"$f":"COUNTIF($L$7:$L$500,N11)","v":0},{"$f":"O11/$Q$4","v":0},{"$f":"IF(P11=0,0,(P11*((LOG(P11))/LOG(2))))","v":0},null,null,{"$f":"N11","v":211},{"$f":"COUNTIF(L7:L13,T11)","v":0},{"$f":"U11/(W4-U7)","v":{"$error":"#DIV/0!"}},{"$f":"IF(V11=0,0,(V11*((LOG(V11))/LOG(2))))","v":{"$error":"#DIV/0!"}},null,{"$f":"N11","v":211},{"$f":"COUNTIF(L14:L19,Y11)","v":0},{"$f":"Z11/(AB4-Z7)","v":{"$error":"#DIV/0!"}},{"$f":"IF(AA11=0,0,(AA11*((LOG(AA11))/LOG(2))))","v":{"$error":"#DIV/0!"}},null,{"$f":"N11","v":211},{"$f":"COUNTIF(L20:L26,AD11)","v":0},{"$f":"AE11/(AG4-AE7)","v":{"$error":"#DIV/0!"}},{"$f":"IF(AF11=0,0,(AF11*((LOG(AF11))/LOG(2))))","v":{"$error":"#DIV/0!"}},null,{"$f":"N11","v":211},{"$f":"COUNTIF(L27:L33,AI11)","v":0},{"$f":"AJ11/(AL4-AJ7)","v":{"$error":"#DIV/0!"}},{"$f":"IF(AK11=0,0,(AK11*((LOG(AK11))/LOG(2))))","v":{"$error":"#DIV/0!"}},null,{"$f":"N11","v":211},{"$f":"COUNTIF(L34:L39,AN11)","v":0},{"$f":"AO11/(AQ4-AO7)","v":{"$error":"#DIV/0!"}},{"$f":"IF(AP11=0,0,(AP11*((LOG(AP11))/LOG(2))))","v":{"$error":"#DIV/0!"}},null,{"$f":"N11","v":211},{"$f":"COUNTIF(L40:L46,AS11)","v":0},{"$f":"AT11/(AV4-AT7)","v":{"$error":"#DIV/0!"}},{"$f":"IF(AU11=0,0,(AU11*((LOG(AU11))/LOG(2))))","v":{"$error":"#DIV/0!"}}]
[11,769,11,776,11,782,null,null,null,null,0,111,null,212,{"$f":"COUNTIF($L$7:$L$500,N12)","v":0},{"$f":"O12/$Q$4","v":0},{"$f":"IF(P12=0,0,(P12*((LOG(P12))/LOG(2))))","v":0},null,null,{"$f":"N12","v":212},{"$f":"COUNTIF(L7:L13,T12)","v":0},{"$f":"U12/(W4-U7)","v":{"$error":"#DIV/0!"}},{"$f":"IF(V12=0,0,(V12*((LOG(V12))/LOG(2))))","v":{"$error":"#DIV/0!"}},null,{"$f":"N12","v":212},{"$f":"COUNTIF(L14:L19,Y12)","v":0},{"$f":"Z12/(AB4-Z7)","v":{"$error":"#DIV/0!"}},{"$f":"IF(AA12=0,0,(AA12*((LOG(AA12))/LOG(2))))","v":{"$error":"#DIV/0!"}},null,{"$f":"N12","v":212},{"$f":"COUNTIF(L20:L26,AD12)","v":0},{"$f":"AE12/(AG4-AE7)","v":{"$error":"#DIV/0!"}},{"$f":"IF(AF12=0,0,(AF12*((LOG(AF12))/LOG(2))))","v":{"$error":"#DIV/0!"}},null,{"$f":"N12","v":212},{"$f":"COUNTIF(L27:L33,AI12)","v":0},{"$f":"AJ12/(AL4-AJ7)","v":{"$error":"#DIV/0!"}},{"$f":"IF(AK12=0,0,(AK12*((LOG(AK12))/LOG(2))))","v":{"$error":"#DIV/0!"}},null,{"$f":"N12","v":212},{"$f":"COUNTIF(L34:L39,AN12)","v":0},{"$f":"AO12/(AQ4-AO7)","v":{"$error":"#DIV/0!"}},{"$f":"IF(AP12=0,0,(AP12*((LOG(AP12))/LOG(2))))","v":{"$error":"#DIV/0!"}},null,{"$f":"N12","v":212},{"$f":"COUNTIF(L40:L46,AS12)","v":0},{"$f":"AT12/(AV4-AT7)","v":{"$error":"#DIV/0!"}},{"$f":"IF(AU12=0,0,(AU12*((LOG(AU12))/LOG(2))))","v":{"$error":"#DIV/0!"}}]
[11,893,11,898,11,904,null,null,null,null,0,111,null,221,{"$f":"COUNTIF($L$7:$L$500,N13)","v":0},{"$f":"O13/$Q$4","v":0},{"$f":"IF(P13=0,0,(P13*((LOG(P13))/LOG(2))))","v":0},null,null,{"$f":"N13","v":221},{"$f":"COUNTIF(L7:L13,T13)","v":0},{"$f":"U13/(W4-U7)","v":{"$error":"#DIV/0!"}},{"$f":"IF(V13=0,0,(V13*((LOG(V13))/LOG(2))))","v":{"$error":"#DIV/0!"}},null,{"$f":"N13","v":221},{"$f":"COUNTIF(L14:L19,Y13)","v":0},{"$f":"Z13/(AB4-Z7)","v":{"$error":"#DIV/0!"}},{"$f":"IF(AA13=0,0,(AA13*((LOG(AA13))/LOG(2))))","v":{"$error":"#DIV/0!"}},null,{"$f":"N13","v":221},{"$f":"COUNTIF(L20:L26,AD13)","v":0},{"$f":"AE13/(AG4-AE7)","v":{"$error":"#DIV/0!"}},{"$f":"IF(AF13=0,0,(AF13*((LOG(AF13))/LOG(2))))","v":{"$error":"#DIV/0!"}},null,{"$f":"N13","v":221},{"$f":"COUNTIF(L27:L33,AI13)","v":0},{"$f":"AJ13/(AL4-AJ7)","v":{"$error":"#DIV/0!"}},{"$f":"IF(AK13=0,0,(AK13*((LOG(AK13))/LOG(2))))","v":{"$error":"#DIV/0!"}},null,{"$f":"N13","v":221},{"$f":"COUNTIF(L34:L39,AN13)","v":0},{"$f":"AO13/(AQ4-AO7)","v":{"$error":"#DIV/0!"}},{"$f":"IF(AP13=0,0,(AP13*((LOG(AP13))/LOG(2))))","v":{"$error":"#DIV/0!"}},null,{"$f":"N13","v":221},{"$f":"COUNTIF(L40:L46,AS13)","v":0},{"$f":"AT13/(AV4-AT7)","v":{"$error":"#DIV/0!"}},{"$f":"IF(AU13=0,0,(AU13*((LOG(AU13))/LOG(2))))","v":{"$error":"#DIV/0!"}}]
[11,1090,11,1094,11,1102,null,null,null,null,0,111,null,222,{"$f":"COUNTIF($L$7:$L$500,N14)","v":0},{"$f":"O14/$Q$4","v":0},{"$f":"IF(P14=0,0,(P14*((LOG(P14))/LOG(2))))","v":0},null,null,{"$f":"N14","v":222},{"$f":"COUNTIF(L7:L13,T14)","v":0},{"$f":"U14/(W4-U7)","v":{"$error":"#DIV/0!"}},{"$f":"IF(V14=0,0,(V14*((LOG(V14))/LOG(2))))","v":{"$error":"#DIV/0!"}},null,{"$f":"N14","v":222},{"$f":"COUNTIF(L14:L19,Y14)","v":0},{"$f":"Z14/(AB4-Z7)","v":{"$error":"#DIV/0!"}},{"$f":"IF(AA14=0,0,(AA14*((LOG(AA14))/LOG(2))))","v":{"$error":"#DIV/0!"}},null,{"$f":"N14","v":222},{"$f":"COUNTIF(L20:L26,AD14)","v":0},{"$f":"AE14/(AG4-AE7)","v":{"$error":"#DIV/0!"}},{"$f":"IF(AF14=0,0,(AF14*((LOG(AF14))/LOG(2))))","v":{"$error":"#DIV/0!"}},null,{"$f":"N14","v":222},{"$f":"COUNTIF(L27:L33,AI14)","v":0},{"$f":"AJ14/(AL4-AJ7)","v":{"$error":"#DIV/0!"}},{"$f":"IF(AK14=0,0,(AK14*((LOG(AK14))/LOG(2))))","v":{"$error":"#DIV/0!"}},null,{"$f":"N14","v":222},{"$f":"COUNTIF(L34:L39,AN14)","v":0},{"$f":"AO14/(AQ4-AO7)","v":{"$error":"#DIV/0!"}},{"$f":"IF(AP14=0,0,(AP14*((LOG(AP14))/LOG(2))))","v":{"$error":"#DIV/0!"}},null,{"$f":"N14","v":222},{"$f":"COUNTIF(L40:L46,AS14)","v":0},{"$f":"AT14/(AV4-AT7)","v":{"$error":"#DIV/0!"}},{"$f":"IF(AU14=0,0,(AU14*((LOG(AU14))/LOG(2))))","v":{"$error":"#DIV/0!"}}]
[11,1266,11,1270,11,1276,null,null,null,null,0,111,null,null,null,{"$f":"SUM(P7:P14)","v":1},{"$f":"-SUM(Q7:Q14)","v":0},null,null,null,null,{"$f":"SUM(V7:V14)","v":{"$error":"#DIV/0!"}},{"$f":"-SUM(W7:W14)","v":{"$error":"#DIV/0!"}},null,null,null,{"$f":"SUM(AA7:AA14)","v":{"$error":"#DIV/0!"}},{"$f":"-SUM(AB7:AB14)","v":{"$error":"#DIV/0!"}},null,null,null,{"$f":"SUM(AF7:AF14)","v":{"$error":"#DIV/0!"}},{"$f":"-SUM(AG7:AG14)","v":{"$error":"#DIV/0!"}},null,null,null,{"$f":"SUM(AK7:AK14)","v":{"$error":"#DIV/0!"}},{"$f":"-SUM(AL7:AL14)","v":{"$error":"#DIV/0!"}},null,null,null,{"$f":"SUM(AP7:AP14)","v":{"$error":"#DIV/0!"}},{"$f":"-SUM(AQ7:AQ14)","v":{"$error":"#DIV/0!"}},null,null,null,{"$f":"SUM(AU7:AU14)","v":{"$error":"#DIV/0!"}},{"$f":"-SUM(AV7:AV14)","v":{"$error":"#DIV/0!"}}]
[11,1493,11,1498,11,1506,null,null,null,null,0,111,null,null,null,"U=",{"$f":"Q15/(LOG(Q4)/LOG(2))","v":0},null,null,null,null,"U1=",{"$f":"W15/(LOG(W4)/LOG(2))","v":{"$error":"#DIV/0!"}},null,null,null,"U2=",{"$f":"AB15/(LOG(AB4)/LOG(2))","v":{"$error":"#DIV/0!"}},null,null,null,"U3=",{"$f":"AG15/(LOG(AG4)/LOG(2))","v":{"$error":"#DIV/0!"}},null,null,null,"U4=",{"$f":"AL15/(LOG(AL4)/LOG(2))","v":{"$error":"#DIV/0!"}},null,null,null,"U5=",{"$f":"AQ15/(LOG(AQ4)/LOG(2))","v":{"$error":"#DIV/0!"}},null,null,null,"U6=",{"$f":"AV15/(LOG(AV4)/LOG(2))","v":{"$error":"#DIV/0!"}}]
[11,1634,11,1638,11,1644,null,null,null,null,0,111]
[11,1810,11,1814,11,1829,null,null,null,null,0,111]
[11,1984,11,1989,11,1994,null,null,null,null,0,111,null,"Total Target Seq"]
[11,2203,11,2209,11,2214,null,null,null,null,0,111,null,{"$f":"COUNTIF(L7:L46,G3)","v":40},null,7,6,7,7,6,7]
[11,2409,11,2414,11,2421,null,null,null,null,0,111,null,null,null,"% of reinforcement given in 6 equal intervals based on number of trials "]
[11,2630,11,2635,11,2640,null,null,null,null,0,111,null,null,null,"%_1","%_2","%_3","%_4","%_5","%_6"]
[11,2838,11,2841,11,2846,null,null,null,null,0,111,null,null,"target sequence",{"$f":"$G$3","v":111},{"$f":"$G$3","v":111},{"$f":"$G$3","v":111},{"$f":"$G$3","v":111},{"$f":"$G$3","v":111},{"$f":"$G$3","v":111}]
[11,3062,11,3069,11,3075,null,null,null,null,0,111,null,null,"total reinforcement",{"$f":"U7","v":7},{"$f":"Z7","v":6},{"$f":"AE7","v":7},{"$f":"AJ7","v":7},{"$f":"AO7","v":6},{"$f":"AT7","v":7}]
[11,3278,11,3282,11,3289,null,null,null,null,0,111,null,null,"% target"]
[11,3416,11,3421,11,3428,null,null,null,null,0,111,null,null,"CCRF"]
[11,3598,11,3603,11,3610,null,null,null,null,0,111,null,null,"% CCRf"]
[11,3807,11,3813,11,3826,null,null,null,null,0,111,null,null,"average response rate",{"$f":"F13/P20","v":129.14285714285714},{"$f":"(F19-F13)/Q20","v":181.66666666666666},{"$f":"(F26-F19)/R20","v":204.85714285714286},{"$f":"(F33-F26)/S20","v":194.85714285714286},{"$f":"(F39-F33)/T20","v":195.33333333333334},{"$f":"(F46-F39)/U20","v":231.57142857142858}]
[11,3932,11,3937,11,3944,null,null,null,null,0,111]
[11,4159,11,4163,11,4168,null,null,null,null,0,111]
[11,4390,11,4398,11,4417,null,null,null,null,0,111]
[11,4622,11,4627,11,4633,null,null,null,null,0,111]
[11,4782,11,4786,11,4792,null,null,null,null,0,111]
[11,5002,11,5006,11,5010,null,null,null,null,0,111]
[11,5190,11,5195,11,5221,null,null,null,null,0,111]
[11,5397,11,5401,11,5407,null,null,null,null,0,111]
[11,5584,11,5586,11,5591,null,null,null,null,0,111]
[11,5771,11,5776,11,5781,null,null,null,null,0,111]
[11,5955,11,5959,11,5964,null,null,null,null,0,111]
[11,6090,11,6098,11,6106,null,null,null,null,0,111]
[11,6355,11,6361,11,6376,null,null,null,null,0,111]
[11,6595,11,6598,11,6604,null,null,null,null,0,111]
[11,6768,11,6772,11,6778,null,null,null,null,0,111]
[11,7103,11,7108,11,7114,null,null,null,null,0,111]
[11,7317,11,7322,11,7326,null,null,null,null,0,111]
[11,7568,11,7574,11,7585,null,null,null,null,1,111]

{"sheet":"!M706B2D.ust","index":16,"n_rows":47,"n_cols":48,"rows_kept":47,"cut":false,"hidden":false,"merged":[[4,39,4,42],[5,39,5,40],[4,44,4,47],[5,44,5,45],[4,24,4,27],[5,24,5,25],[4,29,4,32],[5,29,5,30],[4,34,4,37],[5,34,5,35],[1,1,1,2],[5,13,5,14],[18,13,18,14],[19,13,19,14],[4,19,4,22],[5,19,5,20]]}
["Report for:!M706B2D.ust"]
["Date:","<date>"]
["Hen:","<hen>",null,null,null,"Correct Sequence",{"$f":"Start!J2","v":111},null,null,null,null,null,null,null,null,"Total Sequences in Data",{"$f":"4994-COUNTBLANK(L7:L5000)","v":41},null,null,null,null,"Total Sequences in Block Data",{"$f":"COUNTA(L7:L13)","v":7},null,null,null,"Total Sequences in Block Data",{"$f":"COUNTA(L14:L20)","v":7},null,null,null,"Total Sequences in Block Data",{"$f":"COUNTA(L21:L26)","v":6},null,null,null,"Total Sequences in Block Data",{"$f":"COUNTA(L27:L33)","v":7},null,null,null,"Total Sequences in Block Data",{"$f":"COUNTA(L34:L40)","v":7},null,null,null,"Total Sequences in Block Data",{"$f":"COUNTA(L41:L47)","v":7}]
[null,null,null,null,null,null,null,null,null,null,null,null,null,null,null,"Total Sequences in Summary",{"$f":"SUM(O7:O14)","v":41},null,null,null,null,"Total Sequences in Block Summary",{"$f":"SUM(U7:U14)","v":7},null,null,null,"Total Sequences in Block Summary",{"$f":"SUM(Z7:Z14)","v":7},null,null,null,"Total Sequences in Block Summary",{"$f":"SUM(AE7:AE14)","v":6},null,null,null,"Total Sequences in Block Summary",{"$f":"SUM(AJ7:AJ14)","v":7},null,null,null,"Total Sequences in Block Summary",{"$f":"SUM(AO7:AO14)","v":7},null,null,null,"Total Sequences in Block Summary",{"$f":"SUM(AT7:AT14)","v":7}]
[null,null,null,null,null,null,null,null,null,null,null,null,null,null,null,null,null,null,null,"Block 1",null,null,null,null,"Block 2",null,null,null,null,"Block 3",null,null,null,null,"Block 4",null,null,null,null,"Block 5",null,null,null,null,"Block 6"]
["Sequence\nComponent\n1","Time\n1","Sequence\nComponent\n2","Time\n2","Sequence\nComponent\n3","Time\n3","Sequence\nComponent\n4","Time\n4","Sequence\nComponent\n5","Time\n5","Correct?\n0=No 1=Yes","Sequence",null,"Frequency",null,"Relative Frequency","Variability",null,null,"Frequency",null,"Relative Frequency","Variability",null,"Frequency",null,"Relative Frequency","Variability",null,"Frequency",null,"Relative Frequency","Variability",null,"Frequency",null,"Relative Frequency","Variability",null,"Frequency",null,"Relative Frequency","Variability",null,"Frequency",null,"Relative Frequency","Variability"]
[11,10,11,17,11,20,null,null,null,null,0,111,null,111,{"$f":"COUNTIF($L$7:$L$500,N7)","v":40},{"$f":"O7/$Q$4","v":0.97560975609756095},{"$f":"IF(P7=0,0,(P7*((LOG(P7))/LOG(2))))","v":-3.4755033883630611E-2},null,null,{"$f":"N7","v":111},{"$f":"COUNTIF(L7:L13,T7)","v":6},null,null,null,{"$f":"N7","v":111},{"$f":"COUNTIF(L14:L20,Y7)","v":7},null,null,null,{"$f":"N7","v":111},{"$f":"COUNTIF(L21:L26,AD7)","v":6},null,null,null,{"$f":"N7","v":111},{"$f":"COUNTIF(L27:L33,AI7)","v":7},null,null,null,{"$f":"N7","v":111},{"$f":"COUNTIF(L34:L40,AN7)","v":7},null,null,null,{"$f":"N7","v":111},{"$f":"COUNTIF(L41:L47,AS7)","v":7}]
[11,159,11,164,11,171,null,null,null,null,0,111,null,112,{"$f":"COUNTIF($L$7:$L$500,N8)","v":1},{"$f":"O8/$Q$4","v":2.4390243902439025E-2},{"$f":"IF(P8=0,0,(P8*((LOG(P8))/LOG(2))))","v":-0.13067200011263619},null,null,{"$f":"N8","v":112},{"$f":"COUNTIF(L7:L13,T8)","v":1},{"$f":"U8/(W4-U7)","v":1},{"$f":"IF(V8=0,0,(V8*((LOG(V8))/LOG(2))))","v":0},null,{"$f":"N8","v":112},{"$f":"COUNTIF(L14:L20,Y8)","v":0},{"$f":"Z8/(AB4-Z7)","v":{"$error":"#DIV/0!"}},{"$f":"IF(AA8=0,0,(AA8*((LOG(AA8))/LOG(2))))","v":{"$error":"#DIV/0!"}},null,{"$f":"N8","v":112},{"$f":"COUNTIF(L21:L26,AD8)","v":0},{"$f":"AE8/(AG4-AE7)","v":{"$error":"#DIV/0!"}},{"$f":"IF(AF8=0,0,(AF8*((LOG(AF8))/LOG(2))))","v":{"$error":"#DIV/0!"}},null,{"$f":"N8","v":112},{"$f":"COUNTIF(L27:L33,AI8)","v":0},{"$f":"AJ8/(AL4-AJ7)","v":{"$error":"#DIV/0!"}},{"$f":"IF(AK8=0,0,(AK8*((LOG(AK8))/LOG(2))))","v":{"$error":"#DIV/0!"}},null,{"$f":"N8","v":112},{"$f":"COUNTIF(L34:L40,AN8)","v":0},{"$f":"AO8/(AQ4-AO7)","v":{"$error":"#DIV/0!"}},{"$f":"IF(AP8=0,0,(AP8*((LOG(AP8))/LOG(2))))","v":{"$error":"#DIV/0!"}},null,{"$f":"N8","v":112},{"$f":"COUNTIF(L41:L47,AS8)","v":0},{"$f":"AT8/(AV4-AT7)","v":{"$error":"#DIV/0!"}},{"$f":"IF(AU8=0,0,(AU8*((LOG(AU8))/LOG(2))))","v":{"$error":"#DIV/0!"}}]
[11,297,11,304,22,320,null,null,null,null,0,112,null,121,{"$f":"COUNTIF($L$7:$L$500,N9)","v":0},{"$f":"O9/$Q$4","v":0},{"$f":"IF(P9=0,0,(P9*((LOG(P9))/LOG(2))))","v":0},null,null,{"$f":"N9","v":121},{"$f":"COUNTIF(L7:L13,T9)","v":0},{"$f":"U9/(W4-U7)","v":0},{"$f":"IF(V9=0,0,(V9*((LOG(V9))/LOG(2))))","v":0},null,{"$f":"N9","v":121},{"$f":"COUNTIF(L14:L20,Y9)","v":0},{"$f":"Z9/(AB4-Z7)","v":{"$error":"#DIV/0!"}},{"$f":"IF(AA9=0,0,(AA9*((LOG(AA9))/LOG(2))))","v":{"$error":"#DIV/0!"}},null,{"$f":"N9","v":121},{"$f":"COUNTIF(L21:L26,AD9)","v":0},{"$f":"AE9/(AG4-AE7)","v":{"$error":"#DIV/0!"}},{"$f":"IF(AF9=0,0,(AF9*((LOG(AF9))/LOG(2))))","v":{"$error":"#DIV/0!"}},null,{"$f":"N9","v":121},{"$f":"COUNTIF(L27:L33,AI9)","v":0},{"$f":"AJ9/(AL4-AJ7)","v":{"$error":"#DIV/0!"}},{"$f":"IF(AK9=0,0,(AK9*((LOG(AK9))/LOG(2))))","v":{"$error":"#DIV/0!"}},null,{"$f":"N9","v":121},{"$f":"COUNTIF(L34:L40,AN9)","v":0},{"$f":"AO9/(AQ4-AO7)","v":{"$error":"#DIV/0!"}},{"$f":"IF(AP9=0,0,(AP9*((LOG(AP9))/LOG(2))))","v":{"$error":"#DIV/0!"}},null,{"$f":"N9","v":121},{"$f":"COUNTIF(L41:L47,AS9)","v":0},{"$f":"AT9/(AV4-AT7)","v":{"$error":"#DIV/0!"}},{"$f":"IF(AU9=0,0,(AU9*((LOG(AU9))/LOG(2))))","v":{"$error":"#DIV/0!"}}]
[11,416,11,421,11,428,null,null,null,null,0,111,null,122,{"$f":"COUNTIF($L$7:$L$500,N10)","v":0},{"$f":"O10/$Q$4","v":0},{"$f":"IF(P10=0,0,(P10*((LOG(P10))/LOG(2))))","v":0},null,null,{"$f":"N10","v":122},{"$f":"COUNTIF(L7:L13,T10)","v":0},{"$f":"U10/(W4-U7)","v":0},{"$f":"IF(V10=0,0,(V10*((LOG(V10))/LOG(2))))","v":0},null,{"$f":"N10","v":122},{"$f":"COUNTIF(L14:L20,Y10)","v":0},{"$f":"Z10/(AB4-Z7)","v":{"$error":"#DIV/0!"}},{"$f":"IF(AA10=0,0,(AA10*((LOG(AA10))/LOG(2))))","v":{"$error":"#DIV/0!"}},null,{"$f":"N10","v":122},{"$f":"COUNTIF(L21:L26,AD10)","v":0},{"$f":"AE10/(AG4-AE7)","v":{"$error":"#DIV/0!"}},{"$f":"IF(AF10=0,0,(AF10*((LOG(AF10))/LOG(2))))","v":{"$error":"#DIV/0!"}},null,{"$f":"N10","v":122},{"$f":"COUNTIF(L27:L33,AI10)","v":0},{"$f":"AJ10/(AL4-AJ7)","v":{"$error":"#DIV/0!"}},{"$f":"IF(AK10=0,0,(AK10*((LOG(AK10))/LOG(2))))","v":{"$error":"#DIV/0!"}},null,{"$f":"N10","v":122},{"$f":"COUNTIF(L34:L40,AN10)","v":0},{"$f":"AO10/(AQ4-AO7)","v":{"$error":"#DIV/0!"}},{"$f":"IF(AP10=0,0,(AP10*((LOG(AP10))/LOG(2))))","v":{"$error":"#DIV/0!"}},null,{"$f":"N10","v":122},{"$f":"COUNTIF(L41:L47,AS10)","v":0},{"$f":"AT10/(AV4-AT7)","v":{"$error":"#DIV/0!"}},{"$f":"IF(AU10=0,0,(AU10*((LOG(AU10))/LOG(2))))","v":{"$error":"#DIV/0!"}}]
[11,537,11,543,11,552,null,null,null,null,0,111,null,211,{"$f":"COUNTIF($L$7:$L$500,N11)","v":0},{"$f":"O11/$Q$4","v":0},{"$f":"IF(P11=0,0,(P11*((LOG(P11))/LOG(2))))","v":0},null,null,{"$f":"N11","v":211},{"$f":"COUNTIF(L7:L13,T11)","v":0},{"$f":"U11/(W4-U7)","v":0},{"$f":"IF(V11=0,0,(V11*((LOG(V11))/LOG(2))))","v":0},null,{"$f":"N11","v":211},{"$f":"COUNTIF(L14:L20,Y11)","v":0},{"$f":"Z11/(AB4-Z7)","v":{"$error":"#DIV/0!"}},{"$f":"IF(AA11=0,0,(AA11*((LOG(AA11))/LOG(2))))","v":{"$error":"#DIV/0!"}},null,{"$f":"N11","v":211},{"$f":"COUNTIF(L21:L26,AD11)","v":0},{"$f":"AE11/(AG4-AE7)","v":{"$error":"#DIV/0!"}},{"$f":"IF(AF11=0,0,(AF11*((LOG(AF11))/LOG(2))))","v":{"$error":"#DIV/0!"}},null,{"$f":"N11","v":211},{"$f":"COUNTIF(L27:L33,AI11)","v":0},{"$f":"AJ11/(AL4-AJ7)","v":{"$error":"#DIV/0!"}},{"$f":"IF(AK11=0,0,(AK11*((LOG(AK11))/LOG(2))))","v":{"$error":"#DIV/0!"}},null,{"$f":"N11","v":211},{"$f":"COUNTIF(L34:L40,AN11)","v":0},{"$f":"AO11/(AQ4-AO7)","v":{"$error":"#DIV/0!"}},{"$f":"IF(AP11=0,0,(AP11*((LOG(AP11))/LOG(2))))","v":{"$error":"#DIV/0!"}},null,{"$f":"N11","v":211},{"$f":"COUNTIF(L41:L47,AS11)","v":0},{"$f":"AT11/(AV4-AT7)","v":{"$error":"#DIV/0!"}},{"$f":"IF(AU11=0,0,(AU11*((LOG(AU11))/LOG(2))))","v":{"$error":"#DIV/0!"}}]
[11,664,11,667,11,671,null,null,null,null,0,111,null,212,{"$f":"COUNTIF($L$7:$L$500,N12)","v":0},{"$f":"O12/$Q$4","v":0},{"$f":"IF(P12=0,0,(P12*((LOG(P12))/LOG(2))))","v":0},null,null,{"$f":"N12","v":212},{"$f":"COUNTIF(L7:L13,T12)","v":0},{"$f":"U12/(W4-U7)","v":0},{"$f":"IF(V12=0,0,(V12*((LOG(V12))/LOG(2))))","v":0},null,{"$f":"N12","v":212},{"$f":"COUNTIF(L14:L20,Y12)","v":0},{"$f":"Z12/(AB4-Z7)","v":{"$error":"#DIV/0!"}},{"$f":"IF(AA12=0,0,(AA12*((LOG(AA12))/LOG(2))))","v":{"$error":"#DIV/0!"}},null,{"$f":"N12","v":212},{"$f":"COUNTIF(L21:L26,AD12)","v":0},{"$f":"AE12/(AG4-AE7)","v":{"$error":"#DIV/0!"}},{"$f":"IF(AF12=0,0,(AF12*((LOG(AF12))/LOG(2))))","v":{"$error":"#DIV/0!"}},null,{"$f":"N12","v":212},{"$f":"COUNTIF(L27:L33,AI12)","v":0},{"$f":"AJ12/(AL4-AJ7)","v":{"$error":"#DIV/0!"}},{"$f":"IF(AK12=0,0,(AK12*((LOG(AK12))/LOG(2))))","v":{"$error":"#DIV/0!"}},null,{"$f":"N12","v":212},{"$f":"COUNTIF(L34:L40,AN12)","v":0},{"$f":"AO12/(AQ4-AO7)","v":{"$error":"#DIV/0!"}},{"$f":"IF(AP12=0,0,(AP12*((LOG(AP12))/LOG(2))))","v":{"$error":"#DIV/0!"}},null,{"$f":"N12","v":212},{"$f":"COUNTIF(L41:L47,AS12)","v":0},{"$f":"AT12/(AV4-AT7)","v":{"$error":"#DIV/0!"}},{"$f":"IF(AU12=0,0,(AU12*((LOG(AU12))/LOG(2))))","v":{"$error":"#DIV/0!"}}]
[11,834,11,839,11,842,null,null,null,null,0,111,null,221,{"$f":"COUNTIF($L$7:$L$500,N13)","v":0},{"$f":"O13/$Q$4","v":0},{"$f":"IF(P13=0,0,(P13*((LOG(P13))/LOG(2))))","v":0},null,null,{"$f":"N13","v":221},{"$f":"COUNTIF(L7:L13,T13)","v":0},{"$f":"U13/(W4-U7)","v":0},{"$f":"IF(V13=0,0,(V13*((LOG(V13))/LOG(2))))","v":0},null,{"$f":"N13","v":221},{"$f":"COUNTIF(L14:L20,Y13)","v":0},{"$f":"Z13/(AB4-Z7)","v":{"$error":"#DIV/0!"}},{"$f":"IF(AA13=0,0,(AA13*((LOG(AA13))/LOG(2))))","v":{"$error":"#DIV/0!"}},null,{"$f":"N13","v":221},{"$f":"COUNTIF(L21:L26,AD13)","v":0},{"$f":"AE13/(AG4-AE7)","v":{"$error":"#DIV/0!"}},{"$f":"IF(AF13=0,0,(AF13*((LOG(AF13))/LOG(2))))","v":{"$error":"#DIV/0!"}},null,{"$f":"N13","v":221},{"$f":"COUNTIF(L27:L33,AI13)","v":0},{"$f":"AJ13/(AL4-AJ7)","v":{"$error":"#DIV/0!"}},{"$f":"IF(AK13=0,0,(AK13*((LOG(AK13))/LOG(2))))","v":{"$error":"#DIV/0!"}},null,{"$f":"N13","v":221},{"$f":"COUNTIF(L34:L40,AN13)","v":0},{"$f":"AO13/(AQ4-AO7)","v":{"$error":"#DIV/0!"}},{"$f":"IF(AP13=0,0,(AP13*((LOG(AP13))/LOG(2))))","v":{"$error":"#DIV/0!"}},null,{"$f":"N13","v":221},{"$f":"COUNTIF(L41:L47,AS13)","v":0},{"$f":"AT13/(AV4-AT7)","v":{"$error":"#DIV/0!"}},{"$f":"IF(AU13=0,0,(AU13*((LOG(AU13))/LOG(2))))","v":{"$error":"#DIV/0!"}}]
[11,980,11,984,11,989,null,null,null,null,0,111,null,222,{"$f":"COUNTIF($L$7:$L$500,N14)","v":0},{"$f":"O14/$Q$4","v":0},{"$f":"IF(P14=0,0,(P14*((LOG(P14))/LOG(2))))","v":0},null,null,{"$f":"N14","v":222},{"$f":"COUNTIF(L7:L13,T14)","v":0},{"$f":"U14/(W4-U7)","v":0},{"$f":"IF(V14=0,0,(V14*((LOG(V14))/LOG(2))))","v":0},null,{"$f":"N14","v":222},{"$f":"COUNTIF(L14:L20,Y14)","v":0},{"$f":"Z14/(AB4-Z7)","v":{"$error":"#DIV/0!"}},{"$f":"IF(AA14=0,0,(AA14*((LOG(AA14))/LOG(2))))","v":{"$error":"#DIV/0!"}},null,{"$f":"N14","v":222},{"$f":"COUNTIF(L21:L26,AD14)","v":0},{"$f":"AE14/(AG4-AE7)","v":{"$error":"#DIV/0!"}},{"$f":"IF(AF14=0,0,(AF14*((LOG(AF14))/LOG(2))))","v":{"$error":"#DIV/0!"}},null,{"$f":"N14","v":222},{"$f":"COUNTIF(L27:L33,AI14)","v":0},{"$f":"AJ14/(AL4-AJ7)","v":{"$error":"#DIV/0!"}},{"$f":"IF(AK14=0,0,(AK14*((LOG(AK14))/LOG(2))))","v":{"$error":"#DIV/0!"}},null,{"$f":"N14","v":222},{"$f":"COUNTIF(L34:L40,AN14)","v":0},{"$f":"AO14/(AQ4-AO7)","v":{"$error":"#DIV/0!"}},{"$f":"IF(AP14=0,0,(AP14*((LOG(AP14))/LOG(2))))","v":{"$error":"#DIV/0!"}},null,{"$f":"N14","v":222},{"$f":"COUNTIF(L41:L47,AS14)","v":0},{"$f":"AT14/(AV4-AT7)","v":{"$error":"#DIV/0!"}},{"$f":"IF(AU14=0,0,(AU14*((LOG(AU14))/LOG(2))))","v":{"$error":"#DIV/0!"}}]
[11,1154,11,1158,11,1167,null,null,null,null,0,111,null,null,null,{"$f":"SUM(P7:P14)","v":1},{"$f":"-SUM(Q7:Q14)","v":0.16542703399626679},null,null,null,null,{"$f":"SUM(V7:V14)","v":1},{"$f":"-SUM(W7:W14)","v":0},null,null,null,{"$f":"SUM(AA7:AA14)","v":{"$error":"#DIV/0!"}},{"$f":"-SUM(AB7:AB14)","v":{"$error":"#DIV/0!"}},null,null,null,{"$f":"SUM(AF7:AF14)","v":{"$error":"#DIV/0!"}},{"$f":"-SUM(AG7:AG14)","v":{"$error":"#DIV/0!"}},null,null,null,{"$f":"SUM(AK7:AK14)","v":{"$error":"#DIV/0!"}},{"$f":"-SUM(AL7:AL14)","v":{"$error":"#DIV/0!"}},null,null,null,{"$f":"SUM(AP7:AP14)","v":{"$error":"#DIV/0!"}},{"$f":"-SUM(AQ7:AQ14)","v":{"$error":"#DIV/0!"}},null,null,null,{"$f":"SUM(AU7:AU14)","v":{"$error":"#DIV/0!"}},{"$f":"-SUM(AV7:AV14)","v":{"$error":"#DIV/0!"}}]
[11,1306,11,1312,11,1320,null,null,null,null,0,111,null,null,null,"U=",{"$f":"Q15/(LOG(Q4)/LOG(2))","v":3.0877354779509855E-2},null,null,null,null,"U1=",{"$f":"W15/(LOG(W4)/LOG(2))","v":0},null,null,null,"U2=",{"$f":"AB15/(LOG(AB4)/LOG(2))","v":{"$error":"#DIV/0!"}},null,null,null,"U3=",{"$f":"AG15/(LOG(AG4)/LOG(2))","v":{"$error":"#DIV/0!"}},null,null,null,"U4=",{"$f":"AL15/(LOG(AL4)/LOG(2))","v":{"$error":"#DIV/0!"}},null,null,null,"U5=",{"$f":"AQ15/(LOG(AQ4)/LOG(2))","v":{"$error":"#DIV/0!"}},null,null,null,"U6=",{"$f":"AV15/(LOG(AV4)/LOG(2))","v":{"$error":"#DIV/0!"}}]
[11,1453,11,1457,11,1473,null,null,null,null,0,111]
[11,1621,11,1624,11,1630,null,null,null,null,0,111]
[11,1765,11,1770,11,1777,null,null,null,null,0,111,null,"Total Target Seq"]
[11,1898,11,1903,11,1909,null,null,null,null,0,111,null,{"$f":"COUNTIF(L7:L47,G3)","v":40},null,7,7,6,7,7,7]
[11,2030,11,2035,11,2041,null,null,null,null,0,111,null,null,null,"% of reinforcement given in 6 equal intervals based on number of trials "]
[11,2169,11,2174,11,2183,null,null,null,null,0,111,null,null,null,"%_1","%_2","%_3","%_4","%_5","%_6"]
[11,2305,11,2311,11,2317,null,null,null,null,0,111,null,null,"target sequence",{"$f":"$G$3","v":111},{"$f":"$G$3","v":111},{"$f":"$G$3","v":111},{"$f":"$G$3","v":111},{"$f":"$G$3","v":111},{"$f":"$G$3","v":111}]
[11,2514,11,2517,11,2524,null,null,null,null,0,111,null,null,"total reinforcement",{"$f":"U7","v":6},{"$f":"Z7","v":7},{"$f":"AE7","v":6},{"$f":"AJ7","v":7},{"$f":"AO7","v":7},{"$f":"AT7","v":7}]
[11,2653,11,2658,11,2664,null,null,null,null,0,111,null,null,"% target"]
[11,2817,11,2823,11,2829,null,null,null,null,0,111,null,null,"CCRF"]
[11,2927,11,2931,11,2936,null,null,null,null,0,111,null,null,"% CCRf"]
[11,3077,11,3083,11,3090,null,null,null,null,0,111,null,null,"average response rate",{"$f":"F13/P20","v":120.28571428571429},{"$f":"(F20-F13)/Q20","v":152.42857142857142},{"$f":"(F26-F20)/R20","v":153.33333333333334},{"$f":"(F33-F26)/S20","v":168.71428571428572},{"$f":"(F40-F33)/T20","v":179.42857142857142},{"$f":"(F47-F40)/U20","v":173.71428571428572}]
[11,3246,11,3251,11,3258,null,null,null,null,0,111]
[11,3480,11,3484,11,3491,null,null,null,null,0,111]
[11,3635,11,3642,11,3661,null,null,null,null,0,111]
[11,3863,11,3866,11,3872,null,null,null,null,0,111]
[11,4001,11,4004,11,4010,null,null,null,null,0,111]
[11,4188,11,4194,11,4200,null,null,null,null,0,111]
[11,4375,11,4380,11,4394,null,null,null,null,0,111]
[11,4633,11,4637,11,4642,null,null,null,null,0,111]
[11,4802,11,4805,11,4811,null,null,null,null,0,111]
[11,4980,11,4983,11,4990,null,null,null,null,0,111]
[11,5143,11,5147,11,5152,null,null,null,null,0,111]
[11,5257,11,5263,11,5266,null,null,null,null,0,111]
[11,5426,11,5429,11,5442,null,null,null,null,0,111]
[11,5605,11,5611,11,5615,null,null,null,null,0,111]
[11,5746,11,5752,11,5758,null,null,null,null,0,111]
[11,5915,11,5918,11,5922,null,null,null,null,0,111]
[11,6130,11,6134,11,6137,null,null,null,null,0,111]
[11,6306,11,6311,11,6316,null,null,null,null,0,111]
[11,6467,11,6474,11,6482,null,null,null,null,1,111]

{"sheet":"!M707A3D.ust","index":17,"n_rows":48,"n_cols":48,"rows_kept":48,"cut":false,"hidden":false,"merged":[[4,39,4,42],[5,39,5,40],[4,44,4,47],[5,44,5,45],[4,24,4,27],[5,24,5,25],[4,29,4,32],[5,29,5,30],[4,34,4,37],[5,34,5,35],[1,1,1,2],[5,13,5,14],[18,13,18,14],[19,13,19,14],[4,19,4,22],[5,19,5,20]]}
["Report for:!M707A3D.ust"]
["Date:","<date>"]
["Hen:","<hen>",null,null,null,"Correct Sequence",{"$f":"Start!J2","v":111},null,null,null,null,null,null,null,null,"Total Sequences in Data",{"$f":"4994-COUNTBLANK(L7:L5000)","v":42},null,null,null,null,"Total Sequences in Block Data",{"$f":"COUNTA(L7:L13)","v":7},null,null,null,"Total Sequences in Block Data",{"$f":"COUNTA(L14:L20)","v":7},null,null,null,"Total Sequences in Block Data",{"$f":"COUNTA(L21:L27)","v":7},null,null,null,"Total Sequences in Block Data",{"$f":"COUNTA(L28:L34)","v":7},null,null,null,"Total Sequences in Block Data",{"$f":"COUNTA(L35:L41)","v":7},null,null,null,"Total Sequences in Block Data",{"$f":"COUNTA(L42:L48)","v":7}]
[null,null,null,null,null,null,null,null,null,null,null,null,null,null,null,"Total Sequences in Summary",{"$f":"SUM(O7:O14)","v":42},null,null,null,null,"Total Sequences in Block Summary",{"$f":"SUM(U7:U14)","v":7},null,null,null,"Total Sequences in Block Summary",{"$f":"SUM(Z7:Z14)","v":7},null,null,null,"Total Sequences in Block Summary",{"$f":"SUM(AE7:AE14)","v":7},null,null,null,"Total Sequences in Block Summary",{"$f":"SUM(AJ7:AJ14)","v":7},null,null,null,"Total Sequences in Block Summary",{"$f":"SUM(AO7:AO14)","v":7},null,null,null,"Total Sequences in Block Summary",{"$f":"SUM(AT7:AT14)","v":7}]
[null,null,null,null,null,null,null,null,null,null,null,null,null,null,null,null,null,null,null,"Block 1",null,null,null,null,"Block 2",null,null,null,null,"Block 3",null,null,null,null,"Block 4",null,null,null,null,"Block 5",null,null,null,null,"Block 6"]
["Sequence\nComponent\n1","Time\n1","Sequence\nComponent\n2","Time\n2","Sequence\nComponent\n3","Time\n3","Sequence\nComponent\n4","Time\n4","Sequence\nComponent\n5","Time\n5","Correct?\n0=No 1=Yes","Sequence",null,"Frequency",null,"Relative Frequency","Variability",null,null,"Frequency",null,"Relative Frequency","Variability",null,"Frequency",null,"Relative Frequency","Variability",null,"Frequency",null,"Relative Frequency","Variability",null,"Frequency",null,"Relative Frequency","Variability",null,"Frequency",null,"Relative Frequency","Variability",null,"Frequency",null,"Relative Frequency","Variability"]
[11,11,11,17,11,31,null,null,null,null,0,111,null,111,{"$f":"COUNTIF($L$7:$L$500,N7)","v":40},{"$f":"O7/$Q$4","v":0.95238095238095233},{"$f":"IF(P7=0,0,(P7*((LOG(P7))/LOG(2))))","v":-6.7037455134664775E-2},null,null,{"$f":"N7","v":111},{"$f":"COUNTIF(L7:L13,T7)","v":7},null,null,null,{"$f":"N7","v":111},{"$f":"COUNTIF(L14:L20,Y7)","v":6},null,null,null,{"$f":"N7","v":111},{"$f":"COUNTIF(L21:L27,AD7)","v":7},null,null,null,{"$f":"N7","v":111},{"$f":"COUNTIF(L28:L34,AI7)","v":6},null,null,null,{"$f":"N7","v":111},{"$f":"COUNTIF(L35:L41,AN7)","v":7},null,null,null,{"$f":"N7","v":111},{"$f":"COUNTIF(L42:L48,AS7)","v":7}]
[11,163,11,169,11,180,null,null,null,null,0,111,null,112,{"$f":"COUNTIF($L$7:$L$500,N8)","v":2},{"$f":"O8/$Q$4","v":4.7619047619047616E-2},{"$f":"IF(P8=0,0,(P8*((LOG(P8))/LOG(2))))","v":-0.20915797251327431},null,null,{"$f":"N8","v":112},{"$f":"COUNTIF(L7:L13,T8)","v":0},{"$f":"U8/(W4-U7)","v":{"$error":"#DIV/0!"}},{"$f":"IF(V8=0,0,(V8*((LOG(V8))/LOG(2))))","v":{"$error":"#DIV/0!"}},null,{"$f":"N8","v":112},{"$f":"COUNTIF(L14:L20,Y8)","v":1},{"$f":"Z8/(AB4-Z7)","v":1},{"$f":"IF(AA8=0,0,(AA8*((LOG(AA8))/LOG(2))))","v":0},null,{"$f":"N8","v":112},{"$f":"COUNTIF(L21:L27,AD8)","v":0},{"$f":"AE8/(AG4-AE7)","v":{"$error":"#DIV/0!"}},{"$f":"IF(AF8=0,0,(AF8*((LOG(AF8))/LOG(2))))","v":{"$error":"#DIV/0!"}},null,{"$f":"N8","v":112},{"$f":"COUNTIF(L28:L34,AI8)","v":1},{"$f":"AJ8/(AL4-AJ7)","v":1},{"$f":"IF(AK8=0,0,(AK8*((LOG(AK8))/LOG(2))))","v":0},null,{"$f":"N8","v":112},{"$f":"COUNTIF(L35:L41,AN8)","v":0},{"$f":"AO8/(AQ4-AO7)","v":{"$error":"#DIV/0!"}},{"$f":"IF(AP8=0,0,(AP8*((LOG(AP8))/LOG(2))))","v":{"$error":"#DIV/0!"}},null,{"$f":"N8","v":112},{"$f":"COUNTIF(L42:L48,AS8)","v":0},{"$f":"AT8/(AV4-AT7)","v":{"$error":"#DIV/0!"}},{"$f":"IF(AU8=0,0,(AU8*((LOG(AU8))/LOG(2))))","v":{"$error":"#DIV/0!"}}]
[11,327,11,332,11,340,null,null,null,null,0,111,null,121,{"$f":"COUNTIF($L$7:$L$500,N9)","v":0},{"$f":"O9/$Q$4","v":0},{"$f":"IF(P9=0,0,(P9*((LOG(P9))/LOG(2))))","v":0},null,null,{"$f":"N9","v":121},{"$f":"COUNTIF(L7:L13,T9)","v":0},{"$f":"U9/(W4-U7)","v":{"$error":"#DIV/0!"}},{"$f":"IF(V9=0,0,(V9*((LOG(V9))/LOG(2))))","v":{"$error":"#DIV/0!"}},null,{"$f":"N9","v":121},{"$f":"COUNTIF(L14:L20,Y9)","v":0},{"$f":"Z9/(AB4-Z7)","v":0},{"$f":"IF(AA9=0,0,(AA9*((LOG(AA9))/LOG(2))))","v":0},null,{"$f":"N9","v":121},{"$f":"COUNTIF(L21:L27,AD9)","v":0},{"$f":"AE9/(AG4-AE7)","v":{"$error":"#DIV/0!"}},{"$f":"IF(AF9=0,0,(AF9*((LOG(AF9))/LOG(2))))","v":{"$error":"#DIV/0!"}},null,{"$f":"N9","v":121},{"$f":"COUNTIF(L28:L34,AI9)","v":0},{"$f":"AJ9/(AL4-AJ7)","v":0},{"$f":"IF(AK9=0,0,(AK9*((LOG(AK9))/LOG(2))))","v":0},null,{"$f":"N9","v":121},{"$f":"COUNTIF(L35:L41,AN9)","v":0},{"$f":"AO9/(AQ4-AO7)","v":{"$error":"#DIV/0!"}},{"$f":"IF(AP9=0,0,(AP9*((LOG(AP9))/LOG(2))))","v":{"$error":"#DIV/0!"}},null,{"$f":"N9","v":121},{"$f":"COUNTIF(L42:L48,AS9)","v":0},{"$f":"AT9/(AV4-AT7)","v":{"$error":"#DIV/0!"}},{"$f":"IF(AU9=0,0,(AU9*((LOG(AU9))/LOG(2))))","v":{"$error":"#DIV/0!"}}]
[11,532,11,536,11,544,null,null,null,null,0,111,null,122,{"$f":"COUNTIF($L$7:$L$500,N10)","v":0},{"$f":"O10/$Q$4","v":0},{"$f":"IF(P10=0,0,(P10*((LOG(P10))/LOG(2))))","v":0},null,null,{"$f":"N10","v":122},{"$f":"COUNTIF(L7:L13,T10)","v":0},{"$f":"U10/(W4-U7)","v":{"$error":"#DIV/0!"}},{"$f":"IF(V10=0,0,(V10*((LOG(V10))/LOG(2))))","v":{"$error":"#DIV/0!"}},null,{"$f":"N10","v":122},{"$f":"COUNTIF(L14:L20,Y10)","v":0},{"$f":"Z10/(AB4-Z7)","v":0},{"$f":"IF(AA10=0,0,(AA10*((LOG(AA10))/LOG(2))))","v":0},null,{"$f":"N10","v":122},{"$f":"COUNTIF(L21:L27,AD10)","v":0},{"$f":"AE10/(AG4-AE7)","v":{"$error":"#DIV/0!"}},{"$f":"IF(AF10=0,0,(AF10*((LOG(AF10))/LOG(2))))","v":{"$error":"#DIV/0!"}},null,{"$f":"N10","v":122},{"$f":"COUNTIF(L28:L34,AI10)","v":0},{"$f":"AJ10/(AL4-AJ7)","v":0},{"$f":"IF(AK10=0,0,(AK10*((LOG(AK10))/LOG(2))))","v":0},null,{"$f":"N10","v":122},{"$f":"COUNTIF(L35:L41,AN10)","v":0},{"$f":"AO10/(AQ4-AO7)","v":{"$error":"#DIV/0!"}},{"$f":"IF(AP10=0,0,(AP10*((LOG(AP10))/LOG(2))))","v":{"$error":"#DIV/0!"}},null,{"$f":"N10","v":122},{"$f":"COUNTIF(L42:L48,AS10)","v":0},{"$f":"AT10/(AV4-AT7)","v":{"$error":"#DIV/0!"}},{"$f":"IF(AU10=0,0,(AU10*((LOG(AU10))/LOG(2))))","v":{"$error":"#DIV/0!"}}]
[11,692,11,725,11,748,null,null,null,null,0,111,null,211,{"$f":"COUNTIF($L$7:$L$500,N11)","v":0},{"$f":"O11/$Q$4","v":0},{"$f":"IF(P11=0,0,(P11*((LOG(P11))/LOG(2))))","v":0},null,null,{"$f":"N11","v":211},{"$f":"COUNTIF(L7:L13,T11)","v":0},{"$f":"U11/(W4-U7)","v":{"$error":"#DIV/0!"}},{"$f":"IF(V11=0,0,(V11*((LOG(V11))/LOG(2))))","v":{"$error":"#DIV/0!"}},null,{"$f":"N11","v":211},{"$f":"COUNTIF(L14:L20,Y11)","v":0},{"$f":"Z11/(AB4-Z7)","v":0},{"$f":"IF(AA11=0,0,(AA11*((LOG(AA11))/LOG(2))))","v":0},null,{"$f":"N11","v":211},{"$f":"COUNTIF(L21:L27,AD11)","v":0},{"$f":"AE11/(AG4-AE7)","v":{"$error":"#DIV/0!"}},{"$f":"IF(AF11=0,0,(AF11*((LOG(AF11))/LOG(2))))","v":{"$error":"#DIV/0!"}},null,{"$f":"N11","v":211},{"$f":"COUNTIF(L28:L34,AI11)","v":0},{"$f":"AJ11/(AL4-AJ7)","v":0},{"$f":"IF(AK11=0,0,(AK11*((LOG(AK11))/LOG(2))))","v":0},null,{"$f":"N11","v":211},{"$f":"COUNTIF(L35:L41,AN11)","v":0},{"$f":"AO11/(AQ4-AO7)","v":{"$error":"#DIV/0!"}},{"$f":"IF(AP11=0,0,(AP11*((LOG(AP11))/LOG(2))))","v":{"$error":"#DIV/0!"}},null,{"$f":"N11","v":211},{"$f":"COUNTIF(L42:L48,AS11)","v":0},{"$f":"AT11/(AV4-AT7)","v":{"$error":"#DIV/0!"}},{"$f":"IF(AU11=0,0,(AU11*((LOG(AU11))/LOG(2))))","v":{"$error":"#DIV/0!"}}]
[11,922,11,929,11,937,null,null,null,null,0,111,null,212,{"$f":"COUNTIF($L$7:$L$500,N12)","v":0},{"$f":"O12/$Q$4","v":0},{"$f":"IF(P12=0,0,(P12*((LOG(P12))/LOG(2))))","v":0},null,null,{"$f":"N12","v":212},{"$f":"COUNTIF(L7:L13,T12)","v":0},{"$f":"U12/(W4-U7)","v":{"$error":"#DIV/0!"}},{"$f":"IF(V12=0,0,(V12*((LOG(V12))/LOG(2))))","v":{"$error":"#DIV/0!"}},null,{"$f":"N12","v":212},{"$f":"COUNTIF(L14:L20,Y12)","v":0},{"$f":"Z12/(AB4-Z7)","v":0},{"$f":"IF(AA12=0,0,(AA12*((LOG(AA12))/LOG(2))))","v":0},null,{"$f":"N12","v":212},{"$f":"COUNTIF(L21:L27,AD12)","v":0},{"$f":"AE12/(AG4-AE7)","v":{"$error":"#DIV/0!"}},{"$f":"IF(AF12=0,0,(AF12*((LOG(AF12))/LOG(2))))","v":{"$error":"#DIV/0!"}},null,{"$f":"N12","v":212},{"$f":"COUNTIF(L28:L34,AI12)","v":0},{"$f":"AJ12/(AL4-AJ7)","v":0},{"$f":"IF(AK12=0,0,(AK12*((LOG(AK12))/LOG(2))))","v":0},null,{"$f":"N12","v":212},{"$f":"COUNTIF(L35:L41,AN12)","v":0},{"$f":"AO12/(AQ4-AO7)","v":{"$error":"#DIV/0!"}},{"$f":"IF(AP12=0,0,(AP12*((LOG(AP12))/LOG(2))))","v":{"$error":"#DIV/0!"}},null,{"$f":"N12","v":212},{"$f":"COUNTIF(L42:L48,AS12)","v":0},{"$f":"AT12/(AV4-AT7)","v":{"$error":"#DIV/0!"}},{"$f":"IF(AU12=0,0,(AU12*((LOG(AU12))/LOG(2))))","v":{"$error":"#DIV/0!"}}]
[11,1070,11,1075,11,1078,null,null,null,null,0,111,null,221,{"$f":"COUNTIF($L$7:$L$500,N13)","v":0},{"$f":"O13/$Q$4","v":0},{"$f":"IF(P13=0,0,(P13*((LOG(P13))/LOG(2))))","v":0},null,null,{"$f":"N13","v":221},{"$f":"COUNTIF(L7:L13,T13)","v":0},{"$f":"U13/(W4-U7)","v":{"$error":"#DIV/0!"}},{"$f":"IF(V13=0,0,(V13*((LOG(V13))/LOG(2))))","v":{"$error":"#DIV/0!"}},null,{"$f":"N13","v":221},{"$f":"COUNTIF(L14:L20,Y13)","v":0},{"$f":"Z13/(AB4-Z7)","v":0},{"$f":"IF(AA13=0,0,(AA13*((LOG(AA13))/LOG(2))))","v":0},null,{"$f":"N13","v":221},{"$f":"COUNTIF(L21:L27,AD13)","v":0},{"$f":"AE13/(AG4-AE7)","v":{"$error":"#DIV/0!"}},{"$f":"IF(AF13=0,0,(AF13*((LOG(AF13))/LOG(2))))","v":{"$error":"#DIV/0!"}},null,{"$f":"N13","v":221},{"$f":"COUNTIF(L28:L34,AI13)","v":0},{"$f":"AJ13/(AL4-AJ7)","v":0},{"$f":"IF(AK13=0,0,(AK13*((LOG(AK13))/LOG(2))))","v":0},null,{"$f":"N13","v":221},{"$f":"COUNTIF(L35:L41,AN13)","v":0},{"$f":"AO13/(AQ4-AO7)","v":{"$error":"#DIV/0!"}},{"$f":"IF(AP13=0,0,(AP13*((LOG(AP13))/LOG(2))))","v":{"$error":"#DIV/0!"}},null,{"$f":"N13","v":221},{"$f":"COUNTIF(L42:L48,AS13)","v":0},{"$f":"AT13/(AV4-AT7)","v":{"$error":"#DIV/0!"}},{"$f":"IF(AU13=0,0,(AU13*((LOG(AU13))/LOG(2))))","v":{"$error":"#DIV/0!"}}]
[11,1252,11,1255,11,1263,null,null,null,null,0,111,null,222,{"$f":"COUNTIF($L$7:$L$500,N14)","v":0},{"$f":"O14/$Q$4","v":0},{"$f":"IF(P14=0,0,(P14*((LOG(P14))/LOG(2))))","v":0},null,null,{"$f":"N14","v":222},{"$f":"COUNTIF(L7:L13,T14)","v":0},{"$f":"U14/(W4-U7)","v":{"$error":"#DIV/0!"}},{"$f":"IF(V14=0,0,(V14*((LOG(V14))/LOG(2))))","v":{"$error":"#DIV/0!"}},null,{"$f":"N14","v":222},{"$f":"COUNTIF(L14:L20,Y14)","v":0},{"$f":"Z14/(AB4-Z7)","v":0},{"$f":"IF(AA14=0,0,(AA14*((LOG(AA14))/LOG(2))))","v":0},null,{"$f":"N14","v":222},{"$f":"COUNTIF(L21:L27,AD14)","v":0},{"$f":"AE14/(AG4-AE7)","v":{"$error":"#DIV/0!"}},{"$f":"IF(AF14=0,0,(AF14*((LOG(AF14))/LOG(2))))","v":{"$error":"#DIV/0!"}},null,{"$f":"N14","v":222},{"$f":"COUNTIF(L28:L34,AI14)","v":0},{"$f":"AJ14/(AL4-AJ7)","v":0},{"$f":"IF(AK14=0,0,(AK14*((LOG(AK14))/LOG(2))))","v":0},null,{"$f":"N14","v":222},{"$f":"COUNTIF(L35:L41,AN14)","v":0},{"$f":"AO14/(AQ4-AO7)","v":{"$error":"#DIV/0!"}},{"$f":"IF(AP14=0,0,(AP14*((LOG(AP14))/LOG(2))))","v":{"$error":"#DIV/0!"}},null,{"$f":"N14","v":222},{"$f":"COUNTIF(L42:L48,AS14)","v":0},{"$f":"AT14/(AV4-AT7)","v":{"$error":"#DIV/0!"}},{"$f":"IF(AU14=0,0,(AU14*((LOG(AU14))/LOG(2))))","v":{"$error":"#DIV/0!"}}]
[11,1460,11,1480,22,1503,null,null,null,null,0,112,null,null,null,{"$f":"SUM(P7:P14)","v":1},{"$f":"-SUM(Q7:Q14)","v":0.27619542764793908},null,null,null,null,{"$f":"SUM(V7:V14)","v":{"$error":"#DIV/0!"}},{"$f":"-SUM(W7:W14)","v":{"$error":"#DIV/0!"}},null,null,null,{"$f":"SUM(AA7:AA14)","v":1},{"$f":"-SUM(AB7:AB14)","v":0},null,null,null,{"$f":"SUM(AF7:AF14)","v":{"$error":"#DIV/0!"}},{"$f":"-SUM(AG7:AG14)","v":{"$error":"#DIV/0!"}},null,null,null,{"$f":"SUM(AK7:AK14)","v":1},{"$f":"-SUM(AL7:AL14)","v":0},null,null,null,{"$f":"SUM(AP7:AP14)","v":{"$error":"#DIV/0!"}},{"$f":"-SUM(AQ7:AQ14)","v":{"$error":"#DIV/0!"}},null,null,null,{"$f":"SUM(AU7:AU14)","v":{"$error":"#DIV/0!"}},{"$f":"-SUM(AV7:AV14)","v":{"$error":"#DIV/0!"}}]
[11,1603,11,1609,11,1618,null,null,null,null,0,111,null,null,null,"U=",{"$f":"Q15/(LOG(Q4)/LOG(2))","v":5.1220172329100477E-2},null,null,null,null,"U1=",{"$f":"W15/(LOG(W4)/LOG(2))","v":{"$error":"#DIV/0!"}},null,null,null,"U2=",{"$f":"AB15/(LOG(AB4)/LOG(2))","v":0},null,null,null,"U3=",{"$f":"AG15/(LOG(AG4)/LOG(2))","v":{"$error":"#DIV/0!"}},null,null,null,"U4=",{"$f":"AL15/(LOG(AL4)/LOG(2))","v":0},null,null,null,"U5=",{"$f":"AQ15/(LOG(AQ4)/LOG(2))","v":{"$error":"#DIV/0!"}},null,null,null,"U6=",{"$f":"AV15/(LOG(AV4)/LOG(2))","v":{"$error":"#DIV/0!"}}]
[11,1734,11,1740,11,1747,null,null,null,null,0,111]
[11,1848,11,1854,11,1865,null,null,null,null,0,111]
[11,1967,11,1973,11,1981,null,null,null,null,0,111,null,"Total Target Seq"]
[11,2139,11,2145,11,2183,null,null,null,null,0,111,null,{"$f":"COUNTIF(L7:L48,G3)","v":40},null,7,7,7,7,7,7]
[11,2363,11,2370,11,2378,null,null,null,null,0,111,null,null,null,"% of reinforcement given in 6 equal intervals based on number of trials "]
[11,2511,11,2517,11,2523,null,null,null,null,0,111,null,null,null,"%_1","%_2","%_3","%_4","%_5","%_6"]
[11,2687,11,2692,11,2697,null,null,null,null,0,111,null,null,"target sequence",{"$f":"$G$3","v":111},{"$f":"$G$3","v":111},{"$f":"$G$3","v":111},{"$f":"$G$3","v":111},{"$f":"$G$3","v":111},{"$f":"$G$3","v":111}]
[11,2860,11,2864,11,2870,null,null,null,null,0,111,null,null,"total reinforcement",{"$f":"U7","v":7},{"$f":"Z7","v":6},{"$f":"AE7","v":7},{"$f":"AJ7","v":6},{"$f":"AO7","v":7},{"$f":"AT7","v":7}]
[11,3004,11,3009,11,3016,null,null,null,null,0,111,null,null,"% target"]
[11,3203,11,3211,11,3218,null,null,null,null,0,111,null,null,"CCRF"]
[11,3395,11,3401,11,3409,null,null,null,null,0,111,null,null,"% CCRf"]
[11,3603,11,3607,11,3613,null,null,null,null,0,111,null,null,"average response rate",{"$f":"F13/P20","v":154},{"$f":"(F20-F13)/Q20","v":157.85714285714286},{"$f":"(F27-F20)/R20","v":175.14285714285714},{"$f":"(F34-F27)/S20","v":191.14285714285714},{"$f":"(F41-F34)/T20","v":167.14285714285714},{"$f":"(F48-F41)/U20","v":163.85714285714286}]
[11,3760,11,3765,11,3771,null,null,null,null,0,111]
[11,3965,11,3992,11,4009,null,null,null,null,0,111]
[11,4170,11,4176,11,4190,null,null,null,null,0,111]
[11,4373,11,4380,11,4398,null,null,null,null,0,111]
[11,4533,11,4538,11,4542,null,null,null,null,0,111]
[11,4719,11,4725,22,4747,null,null,null,null,0,112]
[11,4846,11,4852,11,4858,null,null,null,null,0,111]
[11,4970,11,4975,11,4980,null,null,null,null,0,111]
[11,5138,11,5144,11,5162,null,null,null,null,0,111]
[11,5312,11,5317,11,5324,null,null,null,null,0,111]
[11,5500,11,5508,11,5515,null,null,null,null,0,111]
[11,5715,11,5719,11,5725,null,null,null,null,0,111]
[11,5886,11,5896,11,5917,null,null,null,null,0,111]
[11,6120,11,6124,11,6130,null,null,null,null,0,111]
[11,6270,11,6274,11,6287,null,null,null,null,0,111]
[11,6441,11,6443,11,6478,null,null,null,null,0,111]
[11,6583,11,6589,11,6596,null,null,null,null,0,111]
[11,6697,11,6705,11,6715,null,null,null,null,0,111]
[11,6898,11,6906,11,6915,null,null,null,null,0,111]
[11,7051,11,7057,11,7064,null,null,null,null,1,111]

{"sheet":"!M708A0D.ust","index":18,"n_rows":46,"n_cols":48,"rows_kept":46,"cut":false,"hidden":false,"merged":[[4,39,4,42],[5,39,5,40],[4,44,4,47],[5,44,5,45],[4,24,4,27],[5,24,5,25],[4,29,4,32],[5,29,5,30],[4,34,4,37],[5,34,5,35],[1,1,1,2],[5,13,5,14],[18,13,18,14],[19,13,19,14],[4,19,4,22],[5,19,5,20]]}
["Report for:!M708A0D.ust"]
["Date:","<date>"]
["Hen:","<hen>",null,null,null,"Correct Sequence",{"$f":"Start!J2","v":111},null,null,null,null,null,null,null,null,"Total Sequences in Data",{"$f":"4994-COUNTBLANK(L7:L5000)","v":40},null,null,null,null,"Total Sequences in Block Data",{"$f":"COUNTA(L7:L13)","v":7},null,null,null,"Total Sequences in Block Data",{"$f":"COUNTA(L14:L19)","v":6},null,null,null,"Total Sequences in Block Data",{"$f":"COUNTA(L20:L26)","v":7},null,null,null,"Total Sequences in Block Data",{"$f":"COUNTA(L27:L33)","v":7},null,null,null,"Total Sequences in Block Data",{"$f":"COUNTA(L34:L39)","v":6},null,null,null,"Total Sequences in Block Data",{"$f":"COUNTA(L40:L46)","v":7}]
[null,null,null,null,null,null,null,null,null,null,null,null,null,null,null,"Total Sequences in Summary",{"$f":"SUM(O7:O14)","v":40},null,null,null,null,"Total Sequences in Block Summary",{"$f":"SUM(U7:U14)","v":7},null,null,null,"Total Sequences in Block Summary",{"$f":"SUM(Z7:Z14)","v":6},null,null,null,"Total Sequences in Block Summary",{"$f":"SUM(AE7:AE14)","v":7},null,null,null,"Total Sequences in Block Summary",{"$f":"SUM(AJ7:AJ14)","v":7},null,null,null,"Total Sequences in Block Summary",{"$f":"SUM(AO7:AO14)","v":6},null,null,null,"Total Sequences in Block Summary",{"$f":"SUM(AT7:AT14)","v":7}]
[null,null,null,null,null,null,null,null,null,null,null,null,null,null,null,null,null,null,null,"Block 1",null,null,null,null,"Block 2",null,null,null,null,"Block 3",null,null,null,null,"Block 4",null,null,null,null,"Block 5",null,null,null,null,"Block 6"]
["Sequence\nComponent\n1","Time\n1","Sequence\nComponent\n2","Time\n2","Sequence\nComponent\n3","Time\n3","Sequence\nComponent\n4","Time\n4","Sequence\nComponent\n5","Time\n5","Correct?\n0=No 1=Yes","Sequence",null,"Frequency",null,"Relative Frequency","Variability",null,null,"Frequency",null,"Relative Frequency","Variability",null,"Frequency",null,"Relative Frequency","Variability",null,"Frequency",null,"Relative Frequency","Variability",null,"Frequency",null,"Relative Frequency","Variability",null,"Frequency",null,"Relative Frequency","Variability",null,"Frequency",null,"Relative Frequency","Variability"]
[11,4,11,9,11,13,null,null,null,null,0,111,null,111,{"$f":"COUNTIF($L$7:$L$500,N7)","v":40},{"$f":"O7/$Q$4","v":1},{"$f":"IF(P7=0,0,(P7*((LOG(P7))/LOG(2))))","v":0},null,null,{"$f":"N7","v":111},{"$f":"COUNTIF(L7:L13,T7)","v":7},null,null,null,{"$f":"N7","v":111},{"$f":"COUNTIF(L14:L19,Y7)","v":6},null,null,null,{"$f":"N7","v":111},{"$f":"COUNTIF(L20:L26,AD7)","v":7},null,null,null,{"$f":"N7","v":111},{"$f":"COUNTIF(L27:L33,AI7)","v":7},null,null,null,{"$f":"N7","v":111},{"$f":"COUNTIF(L34:L39,AN7)","v":6},null,null,null,{"$f":"N7","v":111},{"$f":"COUNTIF(L40:L46,AS7)","v":7}]
[11,151,11,158,11,167,null,null,null,null,0,111,null,112,{"$f":"COUNTIF($L$7:$L$500,N8)","v":0},{"$f":"O8/$Q$4","v":0},{"$f":"IF(P8=0,0,(P8*((LOG(P8))/LOG(2))))","v":0},null,null,{"$f":"N8","v":112},{"$f":"COUNTIF(L7:L13,T8)","v":0},{"$f":"U8/(W4-U7)","v":{"$error":"#DIV/0!"}},{"$f":"IF(V8=0,0,(V8*((LOG(V8))/LOG(2))))","v":{"$error":"#DIV/0!"}},null,{"$f":"N8","v":112},{"$f":"COUNTIF(L14:L19,Y8)","v":0},{"$f":"Z8/(AB4-Z7)","v":{"$error":"#DIV/0!"}},{"$f":"IF(AA8=0,0,(AA8*((LOG(AA8))/LOG(2))))","v":{"$error":"#DIV/0!"}},null,{"$f":"N8","v":112},{"$f":"COUNTIF(L20:L26,AD8)","v":0},{"$f":"AE8/(AG4-AE7)","v":{"$error":"#DIV/0!"}},{"$f":"IF(AF8=0,0,(AF8*((LOG(AF8))/LOG(2))))","v":{"$error":"#DIV/0!"}},null,{"$f":"N8","v":112},{"$f":"COUNTIF(L27:L33,AI8)","v":0},{"$f":"AJ8/(AL4-AJ7)","v":{"$error":"#DIV/0!"}},{"$f":"IF(AK8=0,0,(AK8*((LOG(AK8))/LOG(2))))","v":{"$error":"#DIV/0!"}},null,{"$f":"N8","v":112},{"$f":"COUNTIF(L34:L39,AN8)","v":0},{"$f":"AO8/(AQ4-AO7)","v":{"$error":"#DIV/0!"}},{"$f":"IF(AP8=0,0,(AP8*((LOG(AP8))/LOG(2))))","v":{"$error":"#DIV/0!"}},null,{"$f":"N8","v":112},{"$f":"COUNTIF(L40:L46,AS8)","v":0},{"$f":"AT8/(AV4-AT7)","v":{"$error":"#DIV/0!"}},{"$f":"IF(AU8=0,0,(AU8*((LOG(AU8))/LOG(2))))","v":{"$error":"#DIV/0!"}}]
[11,284,11,288,11,297,null,null,null,null,0,111,null,121,{"$f":"COUNTIF($L$7:$L$500,N9)","v":0},{"$f":"O9/$Q$4","v":0},{"$f":"IF(P9=0,0,(P9*((LOG(P9))/LOG(2))))","v":0},null,null,{"$f":"N9","v":121},{"$f":"COUNTIF(L7:L13,T9)","v":0},{"$f":"U9/(W4-U7)","v":{"$error":"#DIV/0!"}},{"$f":"IF(V9=0,0,(V9*((LOG(V9))/LOG(2))))","v":{"$error":"#DIV/0!"}},null,{"$f":"N9","v":121},{"$f":"COUNTIF(L14:L19,Y9)","v":0},{"$f":"Z9/(AB4-Z7)","v":{"$error":"#DIV/0!"}},{"$f":"IF(AA9=0,0,(AA9*((LOG(AA9))/LOG(2))))","v":{"$error":"#DIV/0!"}},null,{"$f":"N9","v":121},{"$f":"COUNTIF(L20:L26,AD9)","v":0},{"$f":"AE9/(AG4-AE7)","v":{"$error":"#DIV/0!"}},{"$f":"IF(AF9=0,0,(AF9*((LOG(AF9))/LOG(2))))","v":{"$error":"#DIV/0!"}},null,{"$f":"N9","v":121},{"$f":"COUNTIF(L27:L33,AI9)","v":0},{"$f":"AJ9/(AL4-AJ7)","v":{"$error":"#DIV/0!"}},{"$f":"IF(AK9=0,0,(AK9*((LOG(AK9))/LOG(2))))","v":{"$error":"#DIV/0!"}},null,{"$f":"N9","v":121},{"$f":"COUNTIF(L34:L39,AN9)","v":0},{"$f":"AO9/(AQ4-AO7)","v":{"$error":"#DIV/0!"}},{"$f":"IF(AP9=0,0,(AP9*((LOG(AP9))/LOG(2))))","v":{"$error":"#DIV/0!"}},null,{"$f":"N9","v":121},{"$f":"COUNTIF(L40:L46,AS9)","v":0},{"$f":"AT9/(AV4-AT7)","v":{"$error":"#DIV/0!"}},{"$f":"IF(AU9=0,0,(AU9*((LOG(AU9))/LOG(2))))","v":{"$error":"#DIV/0!"}}]
[11,460,11,466,11,474,null,null,null,null,0,111,null,122,{"$f":"COUNTIF($L$7:$L$500,N10)","v":0},{"$f":"O10/$Q$4","v":0},{"$f":"IF(P10=0,0,(P10*((LOG(P10))/LOG(2))))","v":0},null,null,{"$f":"N10","v":122},{"$f":"COUNTIF(L7:L13,T10)","v":0},{"$f":"U10/(W4-U7)","v":{"$error":"#DIV/0!"}},{"$f":"IF(V10=0,0,(V10*((LOG(V10))/LOG(2))))","v":{"$error":"#DIV/0!"}},null,{"$f":"N10","v":122},{"$f":"COUNTIF(L14:L19,Y10)","v":0},{"$f":"Z10/(AB4-Z7)","v":{"$error":"#DIV/0!"}},{"$f":"IF(AA10=0,0,(AA10*((LOG(AA10))/LOG(2))))","v":{"$error":"#DIV/0!"}},null,{"$f":"N10","v":122},{"$f":"COUNTIF(L20:L26,AD10)","v":0},{"$f":"AE10/(AG4-AE7)","v":{"$error":"#DIV/0!"}},{"$f":"IF(AF10=0,0,(AF10*((LOG(AF10))/LOG(2))))","v":{"$error":"#DIV/0!"}},null,{"$f":"N10","v":122},{"$f":"COUNTIF(L27:L33,AI10)","v":0},{"$f":"AJ10/(AL4-AJ7)","v":{"$error":"#DIV/0!"}},{"$f":"IF(AK10=0,0,(AK10*((LOG(AK10))/LOG(2))))","v":{"$error":"#DIV/0!"}},null,{"$f":"N10","v":122},{"$f":"COUNTIF(L34:L39,AN10)","v":0},{"$f":"AO10/(AQ4-AO7)","v":{"$error":"#DIV/0!"}},{"$f":"IF(AP10=0,0,(AP10*((LOG(AP10))/LOG(2))))","v":{"$error":"#DIV/0!"}},null,{"$f":"N10","v":122},{"$f":"COUNTIF(L40:L46,AS10)","v":0},{"$f":"AT10/(AV4-AT7)","v":{"$error":"#DIV/0!"}},{"$f":"IF(AU10=0,0,(AU10*((LOG(AU10))/LOG(2))))","v":{"$error":"#DIV/0!"}}]
[11,601,11,607,11,612,null,null,null,null,0,111,null,211,{"$f":"COUNTIF($L$7:$L$500,N11)","v":0},{"$f":"O11/$Q$4","v":0},{"$f":"IF(P11=0,0,(P11*((LOG(P11))/LOG(2))))","v":0},null,null,{"$f":"N11","v":211},{"$f":"COUNTIF(L7:L13,T11)","v":0},{"$f":"U11/(W4-U7)","v":{"$error":"#DIV/0!"}},{"$f":"IF(V11=0,0,(V11*((LOG(V11))/LOG(2))))","v":{"$error":"#DIV/0!"}},null,{"$f":"N11","v":211},{"$f":"COUNTIF(L14:L19,Y11)","v":0},{"$f":"Z11/(AB4-Z7)","v":{"$error":"#DIV/0!"}},{"$f":"IF(AA11=0,0,(AA11*((LOG(AA11))/LOG(2))))","v":{"$error":"#DIV/0!"}},null,{"$f":"N11","v":211},{"$f":"COUNTIF(L20:L26,AD11)","v":0},{"$f":"AE11/(AG4-AE7)","v":{"$error":"#DIV/0!"}},{"$f":"IF(AF11=0,0,(AF11*((LOG(AF11))/LOG(2))))","v":{"$error":"#DIV/0!"}},null,{"$f":"N11","v":211},{"$f":"COUNTIF(L27:L33,AI11)","v":0},{"$f":"AJ11/(AL4-AJ7)","v":{"$error":"#DIV/0!"}},{"$f":"IF(AK11=0,0,(AK11*((LOG(AK11))/LOG(2))))","v":{"$error":"#DIV/0!"}},null,{"$f":"N11","v":211},{"$f":"COUNTIF(L34:L39,AN11)","v":0},{"$f":"AO11/(AQ4-AO7)","v":{"$error":"#DIV/0!"}},{"$f":"IF(AP11=0,0,(AP11*((LOG(AP11))/LOG(2))))","v":{"$error":"#DIV/0!"}},null,{"$f":"N11","v":211},{"$f":"COUNTIF(L40:L46,AS11)","v":0},{"$f":"AT11/(AV4-AT7)","v":{"$error":"#DIV/0!"}},{"$f":"IF(AU11=0,0,(AU11*((LOG(AU11))/LOG(2))))","v":{"$error":"#DIV/0!"}}]
[11,849,11,857,11,880,null,null,null,null,0,111,null,212,{"$f":"COUNTIF($L$7:$L$500,N12)","v":0},{"$f":"O12/$Q$4","v":0},{"$f":"IF(P12=0,0,(P12*((LOG(P12))/LOG(2))))","v":0},null,null,{"$f":"N12","v":212},{"$f":"COUNTIF(L7:L13,T12)","v":0},{"$f":"U12/(W4-U7)","v":{"$error":"#DIV/0!"}},{"$f":"IF(V12=0,0,(V12*((LOG(V12))/LOG(2))))","v":{"$error":"#DIV/0!"}},null,{"$f":"N12","v":212},{"$f":"COUNTIF(L14:L19,Y12)","v":0},{"$f":"Z12/(AB4-Z7)","v":{"$error":"#DIV/0!"}},{"$f":"IF(AA12=0,0,(AA12*((LOG(AA12))/LOG(2))))","v":{"$error":"#DIV/0!"}},null,{"$f":"N12","v":212},{"$f":"COUNTIF(L20:L26,AD12)","v":0},{"$f":"AE12/(AG4-AE7)","v":{"$error":"#DIV/0!"}},{"$f":"IF(AF12=0,0,(AF12*((LOG(AF12))/LOG(2))))","v":{"$error":"#DIV/0!"}},null,{"$f":"N12","v":212},{"$f":"COUNTIF(L27:L33,AI12)","v":0},{"$f":"AJ12/(AL4-AJ7)","v":{"$error":"#DIV/0!"}},{"$f":"IF(AK12=0,0,(AK12*((LOG(AK12))/LOG(2))))","v":{"$error":"#DIV/0!"}},null,{"$f":"N12","v":212},{"$f":"COUNTIF(L34:L39,AN12)","v":0},{"$f":"AO12/(AQ4-AO7)","v":{"$error":"#DIV/0!"}},{"$f":"IF(AP12=0,0,(AP12*((LOG(AP12))/LOG(2))))","v":{"$error":"#DIV/0!"}},null,{"$f":"N12","v":212},{"$f":"COUNTIF(L40:L46,AS12)","v":0},{"$f":"AT12/(AV4-AT7)","v":{"$error":"#DIV/0!"}},{"$f":"IF(AU12=0,0,(AU12*((LOG(AU12))/LOG(2))))","v":{"$error":"#DIV/0!"}}]
[11,1044,11,1050,11,1054,null,null,null,null,0,111,null,221,{"$f":"COUNTIF($L$7:$L$500,N13)","v":0},{"$f":"O13/$Q$4","v":0},{"$f":"IF(P13=0,0,(P13*((LOG(P13))/LOG(2))))","v":0},null,null,{"$f":"N13","v":221},{"$f":"COUNTIF(L7:L13,T13)","v":0},{"$f":"U13/(W4-U7)","v":{"$error":"#DIV/0!"}},{"$f":"IF(V13=0,0,(V13*((LOG(V13))/LOG(2))))","v":{"$error":"#DIV/0!"}},null,{"$f":"N13","v":221},{"$f":"COUNTIF(L14:L19,Y13)","v":0},{"$f":"Z13/(AB4-Z7)","v":{"$error":"#DIV/0!"}},{"$f":"IF(AA13=0,0,(AA13*((LOG(AA13))/LOG(2))))","v":{"$error":"#DIV/0!"}},null,{"$f":"N13","v":221},{"$f":"COUNTIF(L20:L26,AD13)","v":0},{"$f":"AE13/(AG4-AE7)","v":{"$error":"#DIV/0!"}},{"$f":"IF(AF13=0,0,(AF13*((LOG(AF13))/LOG(2))))","v":{"$error":"#DIV/0!"}},null,{"$f":"N13","v":221},{"$f":"COUNTIF(L27:L33,AI13)","v":0},{"$f":"AJ13/(AL4-AJ7)","v":{"$error":"#DIV/0!"}},{"$f":"IF(AK13=0,0,(AK13*((LOG(AK13))/LOG(2))))","v":{"$error":"#DIV/0!"}},null,{"$f":"N13","v":221},{"$f":"COUNTIF(L34:L39,AN13)","v":0},{"$f":"AO13/(AQ4-AO7)","v":{"$error":"#DIV/0!"}},{"$f":"IF(AP13=0,0,(AP13*((LOG(AP13))/LOG(2))))","v":{"$error":"#DIV/0!"}},null,{"$f":"N13","v":221},{"$f":"COUNTIF(L40:L46,AS13)","v":0},{"$f":"AT13/(AV4-AT7)","v":{"$error":"#DIV/0!"}},{"$f":"IF(AU13=0,0,(AU13*((LOG(AU13))/LOG(2))))","v":{"$error":"#DIV/0!"}}]
[11,1320,11,1326,11,1340,null,null,null,null,0,111,null,222,{"$f":"COUNTIF($L$7:$L$500,N14)","v":0},{"$f":"O14/$Q$4","v":0},{"$f":"IF(P14=0,0,(P14*((LOG(P14))/LOG(2))))","v":0},null,null,{"$f":"N14","v":222},{"$f":"COUNTIF(L7:L13,T14)","v":0},{"$f":"U14/(W4-U7)","v":{"$error":"#DIV/0!"}},{"$f":"IF(V14=0,0,(V14*((LOG(V14))/LOG(2))))","v":{"$error":"#DIV/0!"}},null,{"$f":"N14","v":222},{"$f":"COUNTIF(L14:L19,Y14)","v":0},{"$f":"Z14/(AB4-Z7)","v":{"$error":"#DIV/0!"}},{"$f":"IF(AA14=0,0,(AA14*((LOG(AA14))/LOG(2))))","v":{"$error":"#DIV/0!"}},null,{"$f":"N14","v":222},{"$f":"COUNTIF(L20:L26,AD14)","v":0},{"$f":"AE14/(AG4-AE7)","v":{"$error":"#DIV/0!"}},{"$f":"IF(AF14=0,0,(AF14*((LOG(AF14))/LOG(2))))","v":{"$error":"#DIV/0!"}},null,{"$f":"N14","v":222},{"$f":"COUNTIF(L27:L33,AI14)","v":0},{"$f":"AJ14/(AL4-AJ7)","v":{"$error":"#DIV/0!"}},{"$f":"IF(AK14=0,0,(AK14*((LOG(AK14))/LOG(2))))","v":{"$error":"#DIV/0!"}},null,{"$f":"N14","v":222},{"$f":"COUNTIF(L34:L39,AN14)","v":0},{"$f":"AO14/(AQ4-AO7)","v":{"$error":"#DIV/0!"}},{"$f":"IF(AP14=0,0,(AP14*((LOG(AP14))/LOG(2))))","v":{"$error":"#DIV/0!"}},null,{"$f":"N14","v":222},{"$f":"COUNTIF(L40:L46,AS14)","v":0},{"$f":"AT14/(AV4-AT7)","v":{"$error":"#DIV/0!"}},{"$f":"IF(AU14=0,0,(AU14*((LOG(AU14))/LOG(2))))","v":{"$error":"#DIV/0!"}}]
[11,1529,11,1534,11,1544,null,null,null,null,0,111,null,null,null,{"$f":"SUM(P7:P14)","v":1},{"$f":"-SUM(Q7:Q14)","v":0},null,null,null,null,{"$f":"SUM(V7:V14)","v":{"$error":"#DIV/0!"}},{"$f":"-SUM(W7:W14)","v":{"$error":"#DIV/0!"}},null,null,null,{"$f":"SUM(AA7:AA14)","v":{"$error":"#DIV/0!"}},{"$f":"-SUM(AB7:AB14)","v":{"$error":"#DIV/0!"}},null,null,null,{"$f":"SUM(AF7:AF14)","v":{"$error":"#DIV/0!"}},{"$f":"-SUM(AG7:AG14)","v":{"$error":"#DIV/0!"}},null,null,null,{"$f":"SUM(AK7:AK14)","v":{"$error":"#DIV/0!"}},{"$f":"-SUM(AL7:AL14)","v":{"$error":"#DIV/0!"}},null,null,null,{"$f":"SUM(AP7:AP14)","v":{"$error":"#DIV/0!"}},{"$f":"-SUM(AQ7:AQ14)","v":{"$error":"#DIV/0!"}},null,null,null,{"$f":"SUM(AU7:AU14)","v":{"$error":"#DIV/0!"}},{"$f":"-SUM(AV7:AV14)","v":{"$error":"#DIV/0!"}}]
[11,1714,11,1720,11,1727,null,null,null,null,0,111,null,null,null,"U=",{"$f":"Q15/(LOG(Q4)/LOG(2))","v":0},null,null,null,null,"U1=",{"$f":"W15/(LOG(W4)/LOG(2))","v":{"$error":"#DIV/0!"}},null,null,null,"U2=",{"$f":"AB15/(LOG(AB4)/LOG(2))","v":{"$error":"#DIV/0!"}},null,null,null,"U3=",{"$f":"AG15/(LOG(AG4)/LOG(2))","v":{"$error":"#DIV/0!"}},null,null,null,"U4=",{"$f":"AL15/(LOG(AL4)/LOG(2))","v":{"$error":"#DIV/0!"}},null,null,null,"U5=",{"$f":"AQ15/(LOG(AQ4)/LOG(2))","v":{"$error":"#DIV/0!"}},null,null,null,"U6=",{"$f":"AV15/(LOG(AV4)/LOG(2))","v":{"$error":"#DIV/0!"}}]
[11,1865,11,1871,11,1877,null,null,null,null,0,111]
[11,2041,11,2047,11,2053,null,null,null,null,0,111]
[11,2238,11,2245,11,2252,null,null,null,null,0,111,null,"Total Target Seq"]
[11,2446,11,2456,11,2468,null,null,null,null,0,111,null,{"$f":"COUNTIF(L7:L46,G3)","v":40},null,7,6,7,7,6,7]
[11,2612,11,2625,11,2640,null,null,null,null,0,111,null,null,null,"% of reinforcement given in 6 equal intervals based on number of trials "]
[11,2883,11,2887,11,2892,null,null,null,null,0,111,null,null,null,"%_1","%_2","%_3","%_4","%_5","%_6"]
[11,3042,11,3046,11,3054,null,null,null,null,0,111,null,null,"target sequence",{"$f":"$G$3","v":111},{"$f":"$G$3","v":111},{"$f":"$G$3","v":111},{"$f":"$G$3","v":111},{"$f":"$G$3","v":111},{"$f":"$G$3","v":111}]
[11,3193,11,3198,11,3205,null,null,null,null,0,111,null,null,"total reinforcement",{"$f":"U7","v":7},{"$f":"Z7","v":6},{"$f":"AE7","v":7},{"$f":"AJ7","v":7},{"$f":"AO7","v":6},{"$f":"AT7","v":7}]
[11,3365,11,3372,11,3377,null,null,null,null,0,111,null,null,"% target"]
[11,3552,11,3557,11,3564,null,null,null,null,0,111,null,null,"CCRF"]
[11,3751,11,3756,11,3763,null,null,null,null,0,111,null,null,"% CCRf"]
[11,3959,11,3965,11,3985,null,null,null,null,0,111,null,null,"average response rate",{"$f":"F13/P20","v":150.57142857142858},{"$f":"(F19-F13)/Q20","v":199.66666666666666},{"$f":"(F26-F19)/R20","v":187.42857142857142},{"$f":"(F33-F26)/S20","v":201.14285714285714},{"$f":"(F39-F33)/T20","v":232.83333333333334},{"$f":"(F46-F39)/U20","v":250.71428571428572}]
[11,4165,11,4170,11,4176,null,null,null,null,0,111]
[11,4359,11,4363,11,4370,null,null,null,null,0,111]
[11,4542,11,4546,11,4552,null,null,null,null,0,111]
[11,4698,11,4704,11,4712,null,null,null,null,0,111]
[11,4942,11,4947,11,4972,null,null,null,null,0,111]
[11,5137,11,5141,11,5146,null,null,null,null,0,111]
[11,5426,11,5432,11,5439,null,null,null,null,0,111]
[11,5648,11,5653,11,5662,null,null,null,null,0,111]
[11,5856,11,5862,11,5868,null,null,null,null,0,111]
[11,6145,11,6151,11,6156,null,null,null,null,0,111]
[11,6357,11,6360,11,6369,null,null,null,null,0,111]
[11,6637,11,6642,11,6648,null,null,null,null,0,111]
[11,6927,11,6931,11,6938,null,null,null,null,0,111]
[11,7153,11,7157,11,7163,null,null,null,null,0,111]
[11,7430,11,7435,11,7442,null,null,null,null,0,111]
[11,7717,11,7722,11,7727,null,null,null,null,0,111]
[11,7867,11,7871,11,7874,null,null,null,null,0,111]
[11,8115,11,8119,11,8124,null,null,null,null,1,111]

{"sheet":"!M709A2D.ust","index":19,"n_rows":49,"n_cols":48,"rows_kept":49,"cut":false,"hidden":false,"merged":[[4,39,4,42],[5,39,5,40],[4,44,4,47],[5,44,5,45],[4,24,4,27],[5,24,5,25],[4,29,4,32],[5,29,5,30],[4,34,4,37],[5,34,5,35],[1,1,1,2],[5,13,5,14],[18,13,18,14],[19,13,19,14],[4,19,4,22],[5,19,5,20]]}
["Report for:!M709A2D.ust"]
["Date:","<date>"]
["Hen:","<hen>",null,null,null,"Correct Sequence",{"$f":"Start!J2","v":111},null,null,null,null,null,null,null,null,"Total Sequences in Data",{"$f":"4994-COUNTBLANK(L7:L5000)","v":43},null,null,null,null,"Total Sequences in Block Data",{"$f":"COUNTA(L7:L13)","v":7},null,null,null,"Total Sequences in Block Data",{"$f":"COUNTA(L14:L20)","v":7},null,null,null,"Total Sequences in Block Data",{"$f":"COUNTA(L21:L28)","v":8},null,null,null,"Total Sequences in Block Data",{"$f":"COUNTA(L29:L35)","v":7},null,null,null,"Total Sequences in Block Data",{"$f":"COUNTA(L36:L42)","v":7},null,null,null,"Total Sequences in Block Data",{"$f":"COUNTA(L43:L49)","v":7}]
[null,null,null,null,null,null,null,null,null,null,null,null,null,null,null,"Total Sequences in Summary",{"$f":"SUM(O7:O14)","v":43},null,null,null,null,"Total Sequences in Block Summary",{"$f":"SUM(U7:U14)","v":7},null,null,null,"Total Sequences in Block Summary",{"$f":"SUM(Z7:Z14)","v":7},null,null,null,"Total Sequences in Block Summary",{"$f":"SUM(AE7:AE14)","v":8},null,null,null,"Total Sequences in Block Summary",{"$f":"SUM(AJ7:AJ14)","v":7},null,null,null,"Total Sequences in Block Summary",{"$f":"SUM(AO7:AO14)","v":7},null,null,null,"Total Sequences in Block Summary",{"$f":"SUM(AT7:AT14)","v":7}]
[null,null,null,null,null,null,null,null,null,null,null,null,null,null,null,null,null,null,null,"Block 1",null,null,null,null,"Block 2",null,null,null,null,"Block 3",null,null,null,null,"Block 4",null,null,null,null,"Block 5",null,null,null,null,"Block 6"]
["Sequence\nComponent\n1","Time\n1","Sequence\nComponent\n2","Time\n2","Sequence\nComponent\n3","Time\n3","Sequence\nComponent\n4","Time\n4","Sequence\nComponent\n5","Time\n5","Correct?\n0=No 1=Yes","Sequence",null,"Frequency",null,"Relative Frequency","Variability",null,null,"Frequency",null,"Relative Frequency","Variability",null,"Frequency",null,"Relative Frequency","Variability",null,"Frequency",null,"Relative Frequency","Variability",null,"Frequency",null,"Relative Frequency","Variability",null,"Frequency",null,"Relative Frequency","Variability",null,"Frequency",null,"Relative Frequency","Variability"]
[11,5,11,8,11,14,null,null,null,null,0,111,null,111,{"$f":"COUNTIF($L$7:$L$500,N7)","v":40},{"$f":"O7/$Q$4","v":0.93023255813953487},{"$f":"IF(P7=0,0,(P7*((LOG(P7))/LOG(2))))","v":-9.7057357967195917E-2},null,null,{"$f":"N7","v":111},{"$f":"COUNTIF(L7:L13,T7)","v":7},null,null,null,{"$f":"N7","v":111},{"$f":"COUNTIF(L14:L20,Y7)","v":7},null,null,null,{"$f":"N7","v":111},{"$f":"COUNTIF(L21:L28,AD7)","v":8},null,null,null,{"$f":"N7","v":111},{"$f":"COUNTIF(L29:L35,AI7)","v":5},null,null,null,{"$f":"N7","v":111},{"$f":"COUNTIF(L36:L42,AN7)","v":6},null,null,null,{"$f":"N7","v":111},{"$f":"COUNTIF(L43:L49,AS7)","v":7}]
[11,128,11,133,11,139,null,null,null,null,0,111,null,112,{"$f":"COUNTIF($L$7:$L$500,N8)","v":0},{"$f":"O8/$Q$4","v":0},{"$f":"IF(P8=0,0,(P8*((LOG(P8))/LOG(2))))","v":0},null,null,{"$f":"N8","v":112},{"$f":"COUNTIF(L7:L13,T8)","v":0},{"$f":"U8/(W4-U7)","v":{"$error":"#DIV/0!"}},{"$f":"IF(V8=0,0,(V8*((LOG(V8))/LOG(2))))","v":{"$error":"#DIV/0!"}},null,{"$f":"N8","v":112},{"$f":"COUNTIF(L14:L20,Y8)","v":0},{"$f":"Z8/(AB4-Z7)","v":{"$error":"#DIV/0!"}},{"$f":"IF(AA8=0,0,(AA8*((LOG(AA8))/LOG(2))))","v":{"$error":"#DIV/0!"}},null,{"$f":"N8","v":112},{"$f":"COUNTIF(L21:L28,AD8)","v":0},{"$f":"AE8/(AG4-AE7)","v":{"$error":"#DIV/0!"}},{"$f":"IF(AF8=0,0,(AF8*((LOG(AF8))/LOG(2))))","v":{"$error":"#DIV/0!"}},null,{"$f":"N8","v":112},{"$f":"COUNTIF(L29:L35,AI8)","v":0},{"$f":"AJ8/(AL4-AJ7)","v":0},{"$f":"IF(AK8=0,0,(AK8*((LOG(AK8))/LOG(2))))","v":0},null,{"$f":"N8","v":112},{"$f":"COUNTIF(L36:L42,AN8)","v":0},{"$f":"AO8/(AQ4-AO7)","v":0},{"$f":"IF(AP8=0,0,(AP8*((LOG(AP8))/LOG(2))))","v":0},null,{"$f":"N8","v":112},{"$f":"COUNTIF(L43:L49,AS8)","v":0},{"$f":"AT8/(AV4-AT7)","v":{"$error":"#DIV/0!"}},{"$f":"IF(AU8=0,0,(AU8*((LOG(AU8))/LOG(2))))","v":{"$error":"#DIV/0!"}}]
[11,270,11,275,11,281,null,null,null,null,0,111,null,121,{"$f":"COUNTIF($L$7:$L$500,N9)","v":0},{"$f":"O9/$Q$4","v":0},{"$f":"IF(P9=0,0,(P9*((LOG(P9))/LOG(2))))","v":0},null,null,{"$f":"N9","v":121},{"$f":"COUNTIF(L7:L13,T9)","v":0},{"$f":"U9/(W4-U7)","v":{"$error":"#DIV/0!"}},{"$f":"IF(V9=0,0,(V9*((LOG(V9))/LOG(2))))","v":{"$error":"#DIV/0!"}},null,{"$f":"N9","v":121},{"$f":"COUNTIF(L14:L20,Y9)","v":0},{"$f":"Z9/(AB4-Z7)","v":{"$error":"#DIV/0!"}},{"$f":"IF(AA9=0,0,(AA9*((LOG(AA9))/LOG(2))))","v":{"$error":"#DIV/0!"}},null,{"$f":"N9","v":121},{"$f":"COUNTIF(L21:L28,AD9)","v":0},{"$f":"AE9/(AG4-AE7)","v":{"$error":"#DIV/0!"}},{"$f":"IF(AF9=0,0,(AF9*((LOG(AF9))/LOG(2))))","v":{"$error":"#DIV/0!"}},null,{"$f":"N9","v":121},{"$f":"COUNTIF(L29:L35,AI9)","v":0},{"$f":"AJ9/(AL4-AJ7)","v":0},{"$f":"IF(AK9=0,0,(AK9*((LOG(AK9))/LOG(2))))","v":0},null,{"$f":"N9","v":121},{"$f":"COUNTIF(L36:L42,AN9)","v":0},{"$f":"AO9/(AQ4-AO7)","v":0},{"$f":"IF(AP9=0,0,(AP9*((LOG(AP9))/LOG(2))))","v":0},null,{"$f":"N9","v":121},{"$f":"COUNTIF(L43:L49,AS9)","v":0},{"$f":"AT9/(AV4-AT7)","v":{"$error":"#DIV/0!"}},{"$f":"IF(AU9=0,0,(AU9*((LOG(AU9))/LOG(2))))","v":{"$error":"#DIV/0!"}}]
[11,455,11,461,11,470,null,null,null,null,0,111,null,122,{"$f":"COUNTIF($L$7:$L$500,N10)","v":1},{"$f":"O10/$Q$4","v":2.3255813953488372E-2},{"$f":"IF(P10=0,0,(P10*((LOG(P10))/LOG(2))))","v":-0.12619220359772321},null,null,{"$f":"N10","v":122},{"$f":"COUNTIF(L7:L13,T10)","v":0},{"$f":"U10/(W4-U7)","v":{"$error":"#DIV/0!"}},{"$f":"IF(V10=0,0,(V10*((LOG(V10))/LOG(2))))","v":{"$error":"#DIV/0!"}},null,{"$f":"N10","v":122},{"$f":"COUNTIF(L14:L20,Y10)","v":0},{"$f":"Z10/(AB4-Z7)","v":{"$error":"#DIV/0!"}},{"$f":"IF(AA10=0,0,(AA10*((LOG(AA10))/LOG(2))))","v":{"$error":"#DIV/0!"}},null,{"$f":"N10","v":122},{"$f":"COUNTIF(L21:L28,AD10)","v":0},{"$f":"AE10/(AG4-AE7)","v":{"$error":"#DIV/0!"}},{"$f":"IF(AF10=0,0,(AF10*((LOG(AF10))/LOG(2))))","v":{"$error":"#DIV/0!"}},null,{"$f":"N10","v":122},{"$f":"COUNTIF(L29:L35,AI10)","v":1},{"$f":"AJ10/(AL4-AJ7)","v":0.5},{"$f":"IF(AK10=0,0,(AK10*((LOG(AK10))/LOG(2))))","v":-0.5},null,{"$f":"N10","v":122},{"$f":"COUNTIF(L36:L42,AN10)","v":0},{"$f":"AO10/(AQ4-AO7)","v":0},{"$f":"IF(AP10=0,0,(AP10*((LOG(AP10))/LOG(2))))","v":0},null,{"$f":"N10","v":122},{"$f":"COUNTIF(L43:L49,AS10)","v":0},{"$f":"AT10/(AV4-AT7)","v":{"$error":"#DIV/0!"}},{"$f":"IF(AU10=0,0,(AU10*((LOG(AU10))/LOG(2))))","v":{"$error":"#DIV/0!"}}]
[11,675,11,679,11,686,null,null,null,null,0,111,null,211,{"$f":"COUNTIF($L$7:$L$500,N11)","v":0},{"$f":"O11/$Q$4","v":0},{"$f":"IF(P11=0,0,(P11*((LOG(P11))/LOG(2))))","v":0},null,null,{"$f":"N11","v":211},{"$f":"COUNTIF(L7:L13,T11)","v":0},{"$f":"U11/(W4-U7)","v":{"$error":"#DIV/0!"}},{"$f":"IF(V11=0,0,(V11*((LOG(V11))/LOG(2))))","v":{"$error":"#DIV/0!"}},null,{"$f":"N11","v":211},{"$f":"COUNTIF(L14:L20,Y11)","v":0},{"$f":"Z11/(AB4-Z7)","v":{"$error":"#DIV/0!"}},{"$f":"IF(AA11=0,0,(AA11*((LOG(AA11))/LOG(2))))","v":{"$error":"#DIV/0!"}},null,{"$f":"N11","v":211},{"$f":"COUNTIF(L21:L28,AD11)","v":0},{"$f":"AE11/(AG4-AE7)","v":{"$error":"#DIV/0!"}},{"$f":"IF(AF11=0,0,(AF11*((LOG(AF11))/LOG(2))))","v":{"$error":"#DIV/0!"}},null,{"$f":"N11","v":211},{"$f":"COUNTIF(L29:L35,AI11)","v":0},{"$f":"AJ11/(AL4-AJ7)","v":0},{"$f":"IF(AK11=0,0,(AK11*((LOG(AK11))/LOG(2))))","v":0},null,{"$f":"N11","v":211},{"$f":"COUNTIF(L36:L42,AN11)","v":0},{"$f":"AO11/(AQ4-AO7)","v":0},{"$f":"IF(AP11=0,0,(AP11*((LOG(AP11))/LOG(2))))","v":0},null,{"$f":"N11","v":211},{"$f":"COUNTIF(L43:L49,AS11)","v":0},{"$f":"AT11/(AV4-AT7)","v":{"$error":"#DIV/0!"}},{"$f":"IF(AU11=0,0,(AU11*((LOG(AU11))/LOG(2))))","v":{"$error":"#DIV/0!"}}]
[11,812,11,818,11,824,null,null,null,null,0,111,null,212,{"$f":"COUNTIF($L$7:$L$500,N12)","v":0},{"$f":"O12/$Q$4","v":0},{"$f":"IF(P12=0,0,(P12*((LOG(P12))/LOG(2))))","v":0},null,null,{"$f":"N12","v":212},{"$f":"COUNTIF(L7:L13,T12)","v":0},{"$f":"U12/(W4-U7)","v":{"$error":"#DIV/0!"}},{"$f":"IF(V12=0,0,(V12*((LOG(V12))/LOG(2))))","v":{"$error":"#DIV/0!"}},null,{"$f":"N12","v":212},{"$f":"COUNTIF(L14:L20,Y12)","v":0},{"$f":"Z12/(AB4-Z7)","v":{"$error":"#DIV/0!"}},{"$f":"IF(AA12=0,0,(AA12*((LOG(AA12))/LOG(2))))","v":{"$error":"#DIV/0!"}},null,{"$f":"N12","v":212},{"$f":"COUNTIF(L21:L28,AD12)","v":0},{"$f":"AE12/(AG4-AE7)","v":{"$error":"#DIV/0!"}},{"$f":"IF(AF12=0,0,(AF12*((LOG(AF12))/LOG(2))))","v":{"$error":"#DIV/0!"}},null,{"$f":"N12","v":212},{"$f":"COUNTIF(L29:L35,AI12)","v":0},{"$f":"AJ12/(AL4-AJ7)","v":0},{"$f":"IF(AK12=0,0,(AK12*((LOG(AK12))/LOG(2))))","v":0},null,{"$f":"N12","v":212},{"$f":"COUNTIF(L36:L42,AN12)","v":0},{"$f":"AO12/(AQ4-AO7)","v":0},{"$f":"IF(AP12=0,0,(AP12*((LOG(AP12))/LOG(2))))","v":0},null,{"$f":"N12","v":212},{"$f":"COUNTIF(L43:L49,AS12)","v":0},{"$f":"AT12/(AV4-AT7)","v":{"$error":"#DIV/0!"}},{"$f":"IF(AU12=0,0,(AU12*((LOG(AU12))/LOG(2))))","v":{"$error":"#DIV/0!"}}]
[11,959,11,960,11,966,null,null,null,null,0,111,null,221,{"$f":"COUNTIF($L$7:$L$500,N13)","v":2},{"$f":"O13/$Q$4","v":4.6511627906976744E-2},{"$f":"IF(P13=0,0,(P13*((LOG(P13))/LOG(2))))","v":-0.20587277928846967},null,null,{"$f":"N13","v":221},{"$f":"COUNTIF(L7:L13,T13)","v":0},{"$f":"U13/(W4-U7)","v":{"$error":"#DIV/0!"}},{"$f":"IF(V13=0,0,(V13*((LOG(V13))/LOG(2))))","v":{"$error":"#DIV/0!"}},null,{"$f":"N13","v":221},{"$f":"COUNTIF(L14:L20,Y13)","v":0},{"$f":"Z13/(AB4-Z7)","v":{"$error":"#DIV/0!"}},{"$f":"IF(AA13=0,0,(AA13*((LOG(AA13))/LOG(2))))","v":{"$error":"#DIV/0!"}},null,{"$f":"N13","v":221},{"$f":"COUNTIF(L21:L28,AD13)","v":0},{"$f":"AE13/(AG4-AE7)","v":{"$error":"#DIV/0!"}},{"$f":"IF(AF13=0,0,(AF13*((LOG(AF13))/LOG(2))))","v":{"$error":"#DIV/0!"}},null,{"$f":"N13","v":221},{"$f":"COUNTIF(L29:L35,AI13)","v":1},{"$f":"AJ13/(AL4-AJ7)","v":0.5},{"$f":"IF(AK13=0,0,(AK13*((LOG(AK13))/LOG(2))))","v":-0.5},null,{"$f":"N13","v":221},{"$f":"COUNTIF(L36:L42,AN13)","v":1},{"$f":"AO13/(AQ4-AO7)","v":1},{"$f":"IF(AP13=0,0,(AP13*((LOG(AP13))/LOG(2))))","v":0},null,{"$f":"N13","v":221},{"$f":"COUNTIF(L43:L49,AS13)","v":0},{"$f":"AT13/(AV4-AT7)","v":{"$error":"#DIV/0!"}},{"$f":"IF(AU13=0,0,(AU13*((LOG(AU13))/LOG(2))))","v":{"$error":"#DIV/0!"}}]
[11,1199,11,1203,11,1218,null,null,null,null,0,111,null,222,{"$f":"COUNTIF($L$7:$L$500,N14)","v":0},{"$f":"O14/$Q$4","v":0},{"$f":"IF(P14=0,0,(P14*((LOG(P14))/LOG(2))))","v":0},null,null,{"$f":"N14","v":222},{"$f":"COUNTIF(L7:L13,T14)","v":0},{"$f":"U14/(W4-U7)","v":{"$error":"#DIV/0!"}},{"$f":"IF(V14=0,0,(V14*((LOG(V14))/LOG(2))))","v":{"$error":"#DIV/0!"}},null,{"$f":"N14","v":222},{"$f":"COUNTIF(L14:L20,Y14)","v":0},{"$f":"Z14/(AB4-Z7)","v":{"$error":"#DIV/0!"}},{"$f":"IF(AA14=0,0,(AA14*((LOG(AA14))/LOG(2))))","v":{"$error":"#DIV/0!"}},null,{"$f":"N14","v":222},{"$f":"COUNTIF(L21:L28,AD14)","v":0},{"$f":"AE14/(AG4-AE7)","v":{"$error":"#DIV/0!"}},{"$f":"IF(AF14=0,0,(AF14*((LOG(AF14))/LOG(2))))","v":{"$error":"#DIV/0!"}},null,{"$f":"N14","v":222},{"$f":"COUNTIF(L29:L35,AI14)","v":0},{"$f":"AJ14/(AL4-AJ7)","v":0},{"$f":"IF(AK14=0,0,(AK14*((LOG(AK14))/LOG(2))))","v":0},null,{"$f":"N14","v":222},{"$f":"COUNTIF(L36:L42,AN14)","v":0},{"$f":"AO14/(AQ4-AO7)","v":0},{"$f":"IF(AP14=0,0,(AP14*((LOG(AP14))/LOG(2))))","v":0},null,{"$f":"N14","v":222},{"$f":"COUNTIF(L43:L49,AS14)","v":0},{"$f":"AT14/(AV4-AT7)","v":{"$error":"#DIV/0!"}},{"$f":"IF(AU14=0,0,(AU14*((LOG(AU14))/LOG(2))))","v":{"$error":"#DIV/0!"}}]
[11,1398,11,1403,11,1409,null,null,null,null,0,111,null,null,null,{"$f":"SUM(P7:P14)","v":1},{"$f":"-SUM(Q7:Q14)","v":0.4291223408533888},null,null,null,null,{"$f":"SUM(V7:V14)","v":{"$error":"#DIV/0!"}},{"$f":"-SUM(W7:W14)","v":{"$error":"#DIV/0!"}},null,null,null,{"$f":"SUM(AA7:AA14)","v":{"$error":"#DIV/0!"}},{"$f":"-SUM(AB7:AB14)","v":{"$error":"#DIV/0!"}},null,null,null,{"$f":"SUM(AF7:AF14)","v":{"$error":"#DIV/0!"}},{"$f":"-SUM(AG7:AG14)","v":{"$error":"#DIV/0!"}},null,null,null,{"$f":"SUM(AK7:AK14)","v":1},{"$f":"-SUM(AL7:AL14)","v":1},null,null,null,{"$f":"SUM(AP7:AP14)","v":1},{"$f":"-SUM(AQ7:AQ14)","v":0},null,null,null,{"$f":"SUM(AU7:AU14)","v":{"$error":"#DIV/0!"}},{"$f":"-SUM(AV7:AV14)","v":{"$error":"#DIV/0!"}}]
[11,1507,11,1511,11,1517,null,null,null,null,0,111,null,null,null,"U=",{"$f":"Q15/(LOG(Q4)/LOG(2))","v":7.9082455473912391E-2},null,null,null,null,"U1=",{"$f":"W15/(LOG(W4)/LOG(2))","v":{"$error":"#DIV/0!"}},null,null,null,"U2=",{"$f":"AB15/(LOG(AB4)/LOG(2))","v":{"$error":"#DIV/0!"}},null,null,null,"U3=",{"$f":"AG15/(LOG(AG4)/LOG(2))","v":{"$error":"#DIV/0!"}},null,null,null,"U4=",{"$f":"AL15/(LOG(AL4)/LOG(2))","v":0.35620718710802218},null,null,null,"U5=",{"$f":"AQ15/(LOG(AQ4)/LOG(2))","v":0},null,null,null,"U6=",{"$f":"AV15/(LOG(AV4)/LOG(2))","v":{"$error":"#DIV/0!"}}]
[11,1686,11,1692,11,1705,null,null,null,null,0,111]
[11,1857,11,1862,11,1868,null,null,null,null,0,111]
[11,2047,11,2053,11,2072,null,null,null,null,0,111,null,"Total Target Seq"]
[11,2224,11,2230,11,2240,null,null,null,null,0,111,null,{"$f":"COUNTIF(L7:L49,G3)","v":40},null,7,7,8,7,7,7]
[11,2432,11,2436,11,2442,null,null,null,null,0,111,null,null,null,"% of reinforcement given in 6 equal intervals based on number of trials "]
[11,2569,11,2575,11,2581,null,null,null,null,0,111,null,null,null,"%_1","%_2","%_3","%_4","%_5","%_6"]
[11,2717,11,2723,11,2729,null,null,null,null,0,111,null,null,"target sequence",{"$f":"$G$3","v":111},{"$f":"$G$3","v":111},{"$f":"$G$3","v":111},{"$f":"$G$3","v":111},{"$f":"$G$3","v":111},{"$f":"$G$3","v":111}]
[11,2846,11,2851,11,2857,null,null,null,null,0,111,null,null,"total reinforcement",{"$f":"U7","v":7},{"$f":"Z7","v":7},{"$f":"AE7","v":8},{"$f":"AJ7","v":5},{"$f":"AO7","v":6},{"$f":"AT7","v":7}]
[11,2977,11,2981,11,2986,null,null,null,null,0,111,null,null,"% target"]
[11,3096,11,3103,11,3108,null,null,null,null,0,111,null,null,"CCRF"]
[11,3213,11,3219,11,3238,null,null,null,null,0,111,null,null,"% CCRf"]
[11,3365,11,3371,11,3377,null,null,null,null,0,111,null,null,"average response rate",{"$f":"F13/P20","v":138},{"$f":"(F20-F13)/Q20","v":182},{"$f":"(F28-F20)/R20","v":142.125},{"$f":"(F35-F28)/S20","v":132.28571428571428},{"$f":"(F42-F35)/T20","v":132.57142857142858},{"$f":"(F49-F42)/U20","v":171.28571428571428}]
[11,3514,11,3519,11,3525,null,null,null,null,0,111]
[11,3647,11,3652,11,3668,null,null,null,null,0,111]
[11,3806,11,3812,11,3818,null,null,null,null,0,111]
[11,3947,11,3952,11,3964,null,null,null,null,0,111]
[11,4067,22,4080,24,4083,null,null,null,null,0,122]
[22,4180,24,4185,13,4197,null,null,null,null,0,221]
[11,4292,11,4298,11,4303,null,null,null,null,0,111]
[11,4423,11,4428,11,4434,null,null,null,null,0,111]
[22,4530,24,4532,13,4549,null,null,null,null,0,221]
[11,4647,11,4650,11,4656,null,null,null,null,0,111]
[11,4758,11,4764,11,4770,null,null,null,null,0,111]
[11,4898,11,4903,11,4908,null,null,null,null,0,111]
[11,5033,11,5038,11,5043,null,null,null,null,0,111]
[11,5219,11,5224,11,5231,null,null,null,null,0,111]
[11,5369,11,5374,11,5381,null,null,null,null,0,111]
[11,5599,11,5604,11,5609,null,null,null,null,0,111]
[11,5742,11,5749,11,5754,null,null,null,null,0,111]
[11,5893,11,5900,11,5905,null,null,null,null,0,111]
[11,6081,11,6086,11,6089,null,null,null,null,0,111]
[11,6248,11,6252,11,6257,null,null,null,null,0,111]
[11,6420,11,6424,11,6430,null,null,null,null,1,111]

{"sheet":"!M710A4D.ust","index":20,"n_rows":46,"n_cols":48,"rows_kept":46,"cut":false,"hidden":false,"merged":[[4,39,4,42],[5,39,5,40],[4,44,4,47],[5,44,5,45],[4,24,4,27],[5,24,5,25],[4,29,4,32],[5,29,5,30],[4,34,4,37],[5,34,5,35],[1,1,1,2],[5,13,5,14],[18,13,18,14],[19,13,19,14],[4,19,4,22],[5,19,5,20]]}
["Report for:!M710A4D.ust"]
["Date:","<date>"]
["Hen:","<hen>",null,null,null,"Correct Sequence",{"$f":"Start!J2","v":111},null,null,null,null,null,null,null,null,"Total Sequences in Data",{"$f":"4994-COUNTBLANK(L7:L5000)","v":40},null,null,null,null,"Total Sequences in Block Data",{"$f":"COUNTA(L7:L13)","v":7},null,null,null,"Total Sequences in Block Data",{"$f":"COUNTA(L14:L19)","v":6},null,null,null,"Total Sequences in Block Data",{"$f":"COUNTA(L20:L26)","v":7},null,null,null,"Total Sequences in Block Data",{"$f":"COUNTA(L27:L33)","v":7},null,null,null,"Total Sequences in Block Data",{"$f":"COUNTA(L34:L39)","v":6},null,null,null,"Total Sequences in Block Data",{"$f":"COUNTA(L40:L46)","v":7}]
[null,null,null,null,null,null,null,null,null,null,null,null,null,null,null,"Total Sequences in Summary",{"$f":"SUM(O7:O14)","v":40},null,null,null,null,"Total Sequences in Block Summary",{"$f":"SUM(U7:U14)","v":7},null,null,null,"Total Sequences in Block Summary",{"$f":"SUM(Z7:Z14)","v":6},null,null,null,"Total Sequences in Block Summary",{"$f":"SUM(AE7:AE14)","v":7},null,null,null,"Total Sequences in Block Summary",{"$f":"SUM(AJ7:AJ14)","v":7},null,null,null,"Total Sequences in Block Summary",{"$f":"SUM(AO7:AO14)","v":6},null,null,null,"Total Sequences in Block Summary",{"$f":"SUM(AT7:AT14)","v":7}]
[null,null,null,null,null,null,null,null,null,null,null,null,null,null,null,null,null,null,null,"Block 1",null,null,null,null,"Block 2",null,null,null,null,"Block 3",null,null,null,null,"Block 4",null,null,null,null,"Block 5",null,null,null,null,"Block 6"]
["Sequence\nComponent\n1","Time\n1","Sequence\nComponent\n2","Time\n2","Sequence\nComponent\n3","Time\n3","Sequence\nComponent\n4","Time\n4","Sequence\nComponent\n5","Time\n5","Correct?\n0=No 1=Yes","Sequence",null,"Frequency",null,"Relative Frequency","Variability",null,null,"Frequency",null,"Relative Frequency","Variability",null,"Frequency",null,"Relative Frequency","Variability",null,"Frequency",null,"Relative Frequency","Variability",null,"Frequency",null,"Relative Frequency","Variability",null,"Frequency",null,"Relative Frequency","Variability",null,"Frequency",null,"Relative Frequency","Variability"]
[11,2,11,11,11,17,null,null,null,null,0,111,null,111,{"$f":"COUNTIF($L$7:$L$500,N7)","v":40},{"$f":"O7/$Q$4","v":1},{"$f":"IF(P7=0,0,(P7*((LOG(P7))/LOG(2))))","v":0},null,null,{"$f":"N7","v":111},{"$f":"COUNTIF(L7:L13,T7)","v":7},null,null,null,{"$f":"N7","v":111},{"$f":"COUNTIF(L14:L19,Y7)","v":6},null,null,null,{"$f":"N7","v":111},{"$f":"COUNTIF(L20:L26,AD7)","v":7},null,null,null,{"$f":"N7","v":111},{"$f":"COUNTIF(L27:L33,AI7)","v":7},null,null,null,{"$f":"N7","v":111},{"$f":"COUNTIF(L34:L39,AN7)","v":6},null,null,null,{"$f":"N7","v":111},{"$f":"COUNTIF(L40:L46,AS7)","v":7}]
[11,156,11,159,11,166,null,null,null,null,0,111,null,112,{"$f":"COUNTIF($L$7:$L$500,N8)","v":0},{"$f":"O8/$Q$4","v":0},{"$f":"IF(P8=0,0,(P8*((LOG(P8))/LOG(2))))","v":0},null,null,{"$f":"N8","v":112},{"$f":"COUNTIF(L7:L13,T8)","v":0},{"$f":"U8/(W4-U7)","v":{"$error":"#DIV/0!"}},{"$f":"IF(V8=0,0,(V8*((LOG(V8))/LOG(2))))","v":{"$error":"#DIV/0!"}},null,{"$f":"N8","v":112},{"$f":"COUNTIF(L14:L19,Y8)","v":0},{"$f":"Z8/(AB4-Z7)","v":{"$error":"#DIV/0!"}},{"$f":"IF(AA8=0,0,(AA8*((LOG(AA8))/LOG(2))))","v":{"$error":"#DIV/0!"}},null,{"$f":"N8","v":112},{"$f":"COUNTIF(L20:L26,AD8)","v":0},{"$f":"AE8/(AG4-AE7)","v":{"$error":"#DIV/0!"}},{"$f":"IF(AF8=0,0,(AF8*((LOG(AF8))/LOG(2))))","v":{"$error":"#DIV/0!"}},null,{"$f":"N8","v":112},{"$f":"COUNTIF(L27:L33,AI8)","v":0},{"$f":"AJ8/(AL4-AJ7)","v":{"$error":"#DIV/0!"}},{"$f":"IF(AK8=0,0,(AK8*((LOG(AK8))/LOG(2))))","v":{"$error":"#DIV/0!"}},null,{"$f":"N8","v":112},{"$f":"COUNTIF(L34:L39,AN8)","v":0},{"$f":"AO8/(AQ4-AO7)","v":{"$error":"#DIV/0!"}},{"$f":"IF(AP8=0,0,(AP8*((LOG(AP8))/LOG(2))))","v":{"$error":"#DIV/0!"}},null,{"$f":"N8","v":112},{"$f":"COUNTIF(L40:L46,AS8)","v":0},{"$f":"AT8/(AV4-AT7)","v":{"$error":"#DIV/0!"}},{"$f":"IF(AU8=0,0,(AU8*((LOG(AU8))/LOG(2))))","v":{"$error":"#DIV/0!"}}]
[11,300,11,303,11,309,null,null,null,null,0,111,null,121,{"$f":"COUNTIF($L$7:$L$500,N9)","v":0},{"$f":"O9/$Q$4","v":0},{"$f":"IF(P9=0,0,(P9*((LOG(P9))/LOG(2))))","v":0},null,null,{"$f":"N9","v":121},{"$f":"COUNTIF(L7:L13,T9)","v":0},{"$f":"U9/(W4-U7)","v":{"$error":"#DIV/0!"}},{"$f":"IF(V9=0,0,(V9*((LOG(V9))/LOG(2))))","v":{"$error":"#DIV/0!"}},null,{"$f":"N9","v":121},{"$f":"COUNTIF(L14:L19,Y9)","v":0},{"$f":"Z9/(AB4-Z7)","v":{"$error":"#DIV/0!"}},{"$f":"IF(AA9=0,0,(AA9*((LOG(AA9))/LOG(2))))","v":{"$error":"#DIV/0!"}},null,{"$f":"N9","v":121},{"$f":"COUNTIF(L20:L26,AD9)","v":0},{"$f":"AE9/(AG4-AE7)","v":{"$error":"#DIV/0!"}},{"$f":"IF(AF9=0,0,(AF9*((LOG(AF9))/LOG(2))))","v":{"$error":"#DIV/0!"}},null,{"$f":"N9","v":121},{"$f":"COUNTIF(L27:L33,AI9)","v":0},{"$f":"AJ9/(AL4-AJ7)","v":{"$error":"#DIV/0!"}},{"$f":"IF(AK9=0,0,(AK9*((LOG(AK9))/LOG(2))))","v":{"$error":"#DIV/0!"}},null,{"$f":"N9","v":121},{"$f":"COUNTIF(L34:L39,AN9)","v":0},{"$f":"AO9/(AQ4-AO7)","v":{"$error":"#DIV/0!"}},{"$f":"IF(AP9=0,0,(AP9*((LOG(AP9))/LOG(2))))","v":{"$error":"#DIV/0!"}},null,{"$f":"N9","v":121},{"$f":"COUNTIF(L40:L46,AS9)","v":0},{"$f":"AT9/(AV4-AT7)","v":{"$error":"#DIV/0!"}},{"$f":"IF(AU9=0,0,(AU9*((LOG(AU9))/LOG(2))))","v":{"$error":"#DIV/0!"}}]
[11,488,11,494,11,499,null,null,null,null,0,111,null,122,{"$f":"COUNTIF($L$7:$L$500,N10)","v":0},{"$f":"O10/$Q$4","v":0},{"$f":"IF(P10=0,0,(P10*((LOG(P10))/LOG(2))))","v":0},null,null,{"$f":"N10","v":122},{"$f":"COUNTIF(L7:L13,T10)","v":0},{"$f":"U10/(W4-U7)","v":{"$error":"#DIV/0!"}},{"$f":"IF(V10=0,0,(V10*((LOG(V10))/LOG(2))))","v":{"$error":"#DIV/0!"}},null,{"$f":"N10","v":122},{"$f":"COUNTIF(L14:L19,Y10)","v":0},{"$f":"Z10/(AB4-Z7)","v":{"$error":"#DIV/0!"}},{"$f":"IF(AA10=0,0,(AA10*((LOG(AA10))/LOG(2))))","v":{"$error":"#DIV/0!"}},null,{"$f":"N10","v":122},{"$f":"COUNTIF(L20:L26,AD10)","v":0},{"$f":"AE10/(AG4-AE7)","v":{"$error":"#DIV/0!"}},{"$f":"IF(AF10=0,0,(AF10*((LOG(AF10))/LOG(2))))","v":{"$error":"#DIV/0!"}},null,{"$f":"N10","v":122},{"$f":"COUNTIF(L27:L33,AI10)","v":0},{"$f":"AJ10/(AL4-AJ7)","v":{"$error":"#DIV/0!"}},{"$f":"IF(AK10=0,0,(AK10*((LOG(AK10))/LOG(2))))","v":{"$error":"#DIV/0!"}},null,{"$f":"N10","v":122},{"$f":"COUNTIF(L34:L39,AN10)","v":0},{"$f":"AO10/(AQ4-AO7)","v":{"$error":"#DIV/0!"}},{"$f":"IF(AP10=0,0,(AP10*((LOG(AP10))/LOG(2))))","v":{"$error":"#DIV/0!"}},null,{"$f":"N10","v":122},{"$f":"COUNTIF(L40:L46,AS10)","v":0},{"$f":"AT10/(AV4-AT7)","v":{"$error":"#DIV/0!"}},{"$f":"IF(AU10=0,0,(AU10*((LOG(AU10))/LOG(2))))","v":{"$error":"#DIV/0!"}}]
[11,636,11,642,11,658,null,null,null,null,0,111,null,211,{"$f":"COUNTIF($L$7:$L$500,N11)","v":0},{"$f":"O11/$Q$4","v":0},{"$f":"IF(P11=0,0,(P11*((LOG(P11))/LOG(2))))","v":0},null,null,{"$f":"N11","v":211},{"$f":"COUNTIF(L7:L13,T11)","v":0},{"$f":"U11/(W4-U7)","v":{"$error":"#DIV/0!"}},{"$f":"IF(V11=0,0,(V11*((LOG(V11))/LOG(2))))","v":{"$error":"#DIV/0!"}},null,{"$f":"N11","v":211},{"$f":"COUNTIF(L14:L19,Y11)","v":0},{"$f":"Z11/(AB4-Z7)","v":{"$error":"#DIV/0!"}},{"$f":"IF(AA11=0,0,(AA11*((LOG(AA11))/LOG(2))))","v":{"$error":"#DIV/0!"}},null,{"$f":"N11","v":211},{"$f":"COUNTIF(L20:L26,AD11)","v":0},{"$f":"AE11/(AG4-AE7)","v":{"$error":"#DIV/0!"}},{"$f":"IF(AF11=0,0,(AF11*((LOG(AF11))/LOG(2))))","v":{"$error":"#DIV/0!"}},null,{"$f":"N11","v":211},{"$f":"COUNTIF(L27:L33,AI11)","v":0},{"$f":"AJ11/(AL4-AJ7)","v":{"$error":"#DIV/0!"}},{"$f":"IF(AK11=0,0,(AK11*((LOG(AK11))/LOG(2))))","v":{"$error":"#DIV/0!"}},null,{"$f":"N11","v":211},{"$f":"COUNTIF(L34:L39,AN11)","v":0},{"$f":"AO11/(AQ4-AO7)","v":{"$error":"#DIV/0!"}},{"$f":"IF(AP11=0,0,(AP11*((LOG(AP11))/LOG(2))))","v":{"$error":"#DIV/0!"}},null,{"$f":"N11","v":211},{"$f":"COUNTIF(L40:L46,AS11)","v":0},{"$f":"AT11/(AV4-AT7)","v":{"$error":"#DIV/0!"}},{"$f":"IF(AU11=0,0,(AU11*((LOG(AU11))/LOG(2))))","v":{"$error":"#DIV/0!"}}]
[11,787,11,793,11,804,null,null,null,null,0,111,null,212,{"$f":"COUNTIF($L$7:$L$500,N12)","v":0},{"$f":"O12/$Q$4","v":0},{"$f":"IF(P12=0,0,(P12*((LOG(P12))/LOG(2))))","v":0},null,null,{"$f":"N12","v":212},{"$f":"COUNTIF(L7:L13,T12)","v":0},{"$f":"U12/(W4-U7)","v":{"$error":"#DIV/0!"}},{"$f":"IF(V12=0,0,(V12*((LOG(V12))/LOG(2))))","v":{"$error":"#DIV/0!"}},null,{"$f":"N12","v":212},{"$f":"COUNTIF(L14:L19,Y12)","v":0},{"$f":"Z12/(AB4-Z7)","v":{"$error":"#DIV/0!"}},{"$f":"IF(AA12=0,0,(AA12*((LOG(AA12))/LOG(2))))","v":{"$error":"#DIV/0!"}},null,{"$f":"N12","v":212},{"$f":"COUNTIF(L20:L26,AD12)","v":0},{"$f":"AE12/(AG4-AE7)","v":{"$error":"#DIV/0!"}},{"$f":"IF(AF12=0,0,(AF12*((LOG(AF12))/LOG(2))))","v":{"$error":"#DIV/0!"}},null,{"$f":"N12","v":212},{"$f":"COUNTIF(L27:L33,AI12)","v":0},{"$f":"AJ12/(AL4-AJ7)","v":{"$error":"#DIV/0!"}},{"$f":"IF(AK12=0,0,(AK12*((LOG(AK12))/LOG(2))))","v":{"$error":"#DIV/0!"}},null,{"$f":"N12","v":212},{"$f":"COUNTIF(L34:L39,AN12)","v":0},{"$f":"AO12/(AQ4-AO7)","v":{"$error":"#DIV/0!"}},{"$f":"IF(AP12=0,0,(AP12*((LOG(AP12))/LOG(2))))","v":{"$error":"#DIV/0!"}},null,{"$f":"N12","v":212},{"$f":"COUNTIF(L40:L46,AS12)","v":0},{"$f":"AT12/(AV4-AT7)","v":{"$error":"#DIV/0!"}},{"$f":"IF(AU12=0,0,(AU12*((LOG(AU12))/LOG(2))))","v":{"$error":"#DIV/0!"}}]
[11,945,11,952,11,957,null,null,null,null,0,111,null,221,{"$f":"COUNTIF($L$7:$L$500,N13)","v":0},{"$f":"O13/$Q$4","v":0},{"$f":"IF(P13=0,0,(P13*((LOG(P13))/LOG(2))))","v":0},null,null,{"$f":"N13","v":221},{"$f":"COUNTIF(L7:L13,T13)","v":0},{"$f":"U13/(W4-U7)","v":{"$error":"#DIV/0!"}},{"$f":"IF(V13=0,0,(V13*((LOG(V13))/LOG(2))))","v":{"$error":"#DIV/0!"}},null,{"$f":"N13","v":221},{"$f":"COUNTIF(L14:L19,Y13)","v":0},{"$f":"Z13/(AB4-Z7)","v":{"$error":"#DIV/0!"}},{"$f":"IF(AA13=0,0,(AA13*((LOG(AA13))/LOG(2))))","v":{"$error":"#DIV/0!"}},null,{"$f":"N13","v":221},{"$f":"COUNTIF(L20:L26,AD13)","v":0},{"$f":"AE13/(AG4-AE7)","v":{"$error":"#DIV/0!"}},{"$f":"IF(AF13=0,0,(AF13*((LOG(AF13))/LOG(2))))","v":{"$error":"#DIV/0!"}},null,{"$f":"N13","v":221},{"$f":"COUNTIF(L27:L33,AI13)","v":0},{"$f":"AJ13/(AL4-AJ7)","v":{"$error":"#DIV/0!"}},{"$f":"IF(AK13=0,0,(AK13*((LOG(AK13))/LOG(2))))","v":{"$error":"#DIV/0!"}},null,{"$f":"N13","v":221},{"$f":"COUNTIF(L34:L39,AN13)","v":0},{"$f":"AO13/(AQ4-AO7)","v":{"$error":"#DIV/0!"}},{"$f":"IF(AP13=0,0,(AP13*((LOG(AP13))/LOG(2))))","v":{"$error":"#DIV/0!"}},null,{"$f":"N13","v":221},{"$f":"COUNTIF(L40:L46,AS13)","v":0},{"$f":"AT13/(AV4-AT7)","v":{"$error":"#DIV/0!"}},{"$f":"IF(AU13=0,0,(AU13*((LOG(AU13))/LOG(2))))","v":{"$error":"#DIV/0!"}}]
[11,1093,11,1103,11,1113,null,null,null,null,0,111,null,222,{"$f":"COUNTIF($L$7:$L$500,N14)","v":0},{"$f":"O14/$Q$4","v":0},{"$f":"IF(P14=0,0,(P14*((LOG(P14))/LOG(2))))","v":0},null,null,{"$f":"N14","v":222},{"$f":"COUNTIF(L7:L13,T14)","v":0},{"$f":"U14/(W4-U7)","v":{"$error":"#DIV/0!"}},{"$f":"IF(V14=0,0,(V14*((LOG(V14))/LOG(2))))","v":{"$error":"#DIV/0!"}},null,{"$f":"N14","v":222},{"$f":"COUNTIF(L14:L19,Y14)","v":0},{"$f":"Z14/(AB4-Z7)","v":{"$error":"#DIV/0!"}},{"$f":"IF(AA14=0,0,(AA14*((LOG(AA14))/LOG(2))))","v":{"$error":"#DIV/0!"}},null,{"$f":"N14","v":222},{"$f":"COUNTIF(L20:L26,AD14)","v":0},{"$f":"AE14/(AG4-AE7)","v":{"$error":"#DIV/0!"}},{"$f":"IF(AF14=0,0,(AF14*((LOG(AF14))/LOG(2))))","v":{"$error":"#DIV/0!"}},null,{"$f":"N14","v":222},{"$f":"COUNTIF(L27:L33,AI14)","v":0},{"$f":"AJ14/(AL4-AJ7)","v":{"$error":"#DIV/0!"}},{"$f":"IF(AK14=0,0,(AK14*((LOG(AK14))/LOG(2))))","v":{"$error":"#DIV/0!"}},null,{"$f":"N14","v":222},{"$f":"COUNTIF(L34:L39,AN14)","v":0},{"$f":"AO14/(AQ4-AO7)","v":{"$error":"#DIV/0!"}},{"$f":"IF(AP14=0,0,(AP14*((LOG(AP14))/LOG(2))))","v":{"$error":"#DIV/0!"}},null,{"$f":"N14","v":222},{"$f":"COUNTIF(L40:L46,AS14)","v":0},{"$f":"AT14/(AV4-AT7)","v":{"$error":"#DIV/0!"}},{"$f":"IF(AU14=0,0,(AU14*((LOG(AU14))/LOG(2))))","v":{"$error":"#DIV/0!"}}]
[11,1225,11,1231,11,1237,null,null,null,null,0,111,null,null,null,{"$f":"SUM(P7:P14)","v":1},{"$f":"-SUM(Q7:Q14)","v":0},null,null,null,null,{"$f":"SUM(V7:V14)","v":{"$error":"#DIV/0!"}},{"$f":"-SUM(W7:W14)","v":{"$error":"#DIV/0!"}},null,null,null,{"$f":"SUM(AA7:AA14)","v":{"$error":"#DIV/0!"}},{"$f":"-SUM(AB7:AB14)","v":{"$error":"#DIV/0!"}},null,null,null,{"$f":"SUM(AF7:AF14)","v":{"$error":"#DIV/0!"}},{"$f":"-SUM(AG7:AG14)","v":{"$error":"#DIV/0!"}},null,null,null,{"$f":"SUM(AK7:AK14)","v":{"$error":"#DIV/0!"}},{"$f":"-SUM(AL7:AL14)","v":{"$error":"#DIV/0!"}},null,null,null,{"$f":"SUM(AP7:AP14)","v":{"$error":"#DIV/0!"}},{"$f":"-SUM(AQ7:AQ14)","v":{"$error":"#DIV/0!"}},null,null,null,{"$f":"SUM(AU7:AU14)","v":{"$error":"#DIV/0!"}},{"$f":"-SUM(AV7:AV14)","v":{"$error":"#DIV/0!"}}]
[11,1388,11,1395,11,1405,null,null,null,null,0,111,null,null,null,"U=",{"$f":"Q15/(LOG(Q4)/LOG(2))","v":0},null,null,null,null,"U1=",{"$f":"W15/(LOG(W4)/LOG(2))","v":{"$error":"#DIV/0!"}},null,null,null,"U2=",{"$f":"AB15/(LOG(AB4)/LOG(2))","v":{"$error":"#DIV/0!"}},null,null,null,"U3=",{"$f":"AG15/(LOG(AG4)/LOG(2))","v":{"$error":"#DIV/0!"}},null,null,null,"U4=",{"$f":"AL15/(LOG(AL4)/LOG(2))","v":{"$error":"#DIV/0!"}},null,null,null,"U5=",{"$f":"AQ15/(LOG(AQ4)/LOG(2))","v":{"$error":"#DIV/0!"}},null,null,null,"U6=",{"$f":"AV15/(LOG(AV4)/LOG(2))","v":{"$error":"#DIV/0!"}}]
[11,1542,11,1549,11,1555,null,null,null,null,0,111]
[11,1704,11,1708,11,1711,null,null,null,null,0,111]
[11,1830,11,1835,11,1841,null,null,null,null,0,111,null,"Total Target Seq"]
[11,1936,11,1940,11,1946,null,null,null,null,0,111,null,{"$f":"COUNTIF(L7:L46,G3)","v":40},null,7,6,7,7,6,7]
[11,2107,11,2115,11,2128,null,null,null,null,0,111,null,null,null,"% of reinforcement given in 6 equal intervals based on number of trials "]
[11,2251,11,2258,11,2264,null,null,null,null,0,111,null,null,null,"%_1","%_2","%_3","%_4","%_5","%_6"]
[11,2573,11,2576,11,2581,null,null,null,null,0,111,null,null,"target sequence",{"$f":"$G$3","v":111},{"$f":"$G$3","v":111},{"$f":"$G$3","v":111},{"$f":"$G$3","v":111},{"$f":"$G$3","v":111},{"$f":"$G$3","v":111}]
[11,2685,11,2689,11,2695,null,null,null,null,0,111,null,null,"total reinforcement",{"$f":"U7","v":7},{"$f":"Z7","v":6},{"$f":"AE7","v":7},{"$f":"AJ7","v":7},{"$f":"AO7","v":6},{"$f":"AT7","v":7}]
[11,2796,11,2802,11,2807,null,null,null,null,0,111,null,null,"% target"]
[11,2923,11,2928,11,2937,null,null,null,null,0,111,null,null,"CCRF"]
[11,3070,11,3074,11,3080,null,null,null,null,0,111,null,null,"% CCRf"]
[11,3219,11,3225,11,3232,null,null,null,null,0,111,null,null,"average response rate",{"$f":"F13/P20","v":136.71428571428572},{"$f":"(F19-F13)/Q20","v":147.33333333333334},{"$f":"(F26-F19)/R20","v":156.57142857142858},{"$f":"(F33-F26)/S20","v":149.57142857142858},{"$f":"(F39-F33)/T20","v":150.16666666666666},{"$f":"(F46-F39)/U20","v":166.85714285714286}]
[11,3393,11,3398,11,3403,null,null,null,null,0,111]
[11,3517,11,3523,11,3531,null,null,null,null,0,111]
[11,3713,11,3719,11,3734,null,null,null,null,0,111]
[11,3848,11,3861,11,3868,null,null,null,null,0,111]
[11,3973,11,3977,11,3984,null,null,null,null,0,111]
[11,4122,11,4128,11,4135,null,null,null,null,0,111]
[11,4262,11,4267,11,4274,null,null,null,null,0,111]
[11,4375,11,4381,11,4387,null,null,null,null,0,111]
[11,4532,11,4541,11,4547,null,null,null,null,0,111]
[11,4704,11,4713,11,4721,null,null,null,null,0,111]
[11,4876,11,4879,11,4885,null,null,null,null,0,111]
[11,5081,11,5085,11,5091,null,null,null,null,0,111]
[11,5260,11,5263,11,5270,null,null,null,null,0,111]
[11,5449,11,5455,11,5461,null,null,null,null,0,111]
[11,5584,11,5590,11,5598,null,null,null,null,0,111]
[11,5751,11,5755,11,5761,null,null,null,null,0,111]
[11,5892,11,5896,11,5905,null,null,null,null,0,111]
[11,6041,11,6047,11,6053,null,null,null,null,1,111]

{"sheet":"!M711A1D.ust","index":21,"n_rows":46,"n_cols":48,"rows_kept":46,"cut":false,"hidden":false,"merged":[[4,39,4,42],[5,39,5,40],[4,44,4,47],[5,44,5,45],[4,24,4,27],[5,24,5,25],[4,29,4,32],[5,29,5,30],[4,34,4,37],[5,34,5,35],[1,1,1,2],[5,13,5,14],[18,13,18,14],[19,13,19,14],[4,19,4,22],[5,19,5,20]]}
["Report for:!M711A1D.ust"]
["Date:","<date>"]
["Hen:","<hen>",null,null,null,"Correct Sequence",{"$f":"Start!J2","v":111},null,null,null,null,null,null,null,null,"Total Sequences in Data",{"$f":"4994-COUNTBLANK(L7:L5000)","v":40},null,null,null,null,"Total Sequences in Block Data",{"$f":"COUNTA(L7:L13)","v":7},null,null,null,"Total Sequences in Block Data",{"$f":"COUNTA(L14:L19)","v":6},null,null,null,"Total Sequences in Block Data",{"$f":"COUNTA(L20:L26)","v":7},null,null,null,"Total Sequences in Block Data",{"$f":"COUNTA(L27:L33)","v":7},null,null,null,"Total Sequences in Block Data",{"$f":"COUNTA(L34:L39)","v":6},null,null,null,"Total Sequences in Block Data",{"$f":"COUNTA(L40:L46)","v":7}]
[null,null,null,null,null,null,null,null,null,null,null,null,null,null,null,"Total Sequences in Summary",{"$f":"SUM(O7:O14)","v":40},null,null,null,null,"Total Sequences in Block Summary",{"$f":"SUM(U7:U14)","v":7},null,null,null,"Total Sequences in Block Summary",{"$f":"SUM(Z7:Z14)","v":6},null,null,null,"Total Sequences in Block Summary",{"$f":"SUM(AE7:AE14)","v":7},null,null,null,"Total Sequences in Block Summary",{"$f":"SUM(AJ7:AJ14)","v":7},null,null,null,"Total Sequences in Block Summary",{"$f":"SUM(AO7:AO14)","v":6},null,null,null,"Total Sequences in Block Summary",{"$f":"SUM(AT7:AT14)","v":7}]
[null,null,null,null,null,null,null,null,null,null,null,null,null,null,null,null,null,null,null,"Block 1",null,null,null,null,"Block 2",null,null,null,null,"Block 3",null,null,null,null,"Block 4",null,null,null,null,"Block 5",null,null,null,null,"Block 6"]
["Sequence\nComponent\n1","Time\n1","Sequence\nComponent\n2","Time\n2","Sequence\nComponent\n3","Time\n3","Sequence\nComponent\n4","Time\n4","Sequence\nComponent\n5","Time\n5","Correct?\n0=No 1=Yes","Sequence",null,"Frequency",null,"Relative Frequency","Variability",null,null,"Frequency",null,"Relative Frequency","Variability",null,"Frequency",null,"Relative Frequency","Variability",null,"Frequency",null,"Relative Frequency","Variability",null,"Frequency",null,"Relative Frequency","Variability",null,"Frequency",null,"Relative Frequency","Variability",null,"Frequency",null,"Relative Frequency","Variability"]
[11,10,11,15,11,22,null,null,null,null,0,111,null,111,{"$f":"COUNTIF($L$7:$L$500,N7)","v":40},{"$f":"O7/$Q$4","v":1},{"$f":"IF(P7=0,0,(P7*((LOG(P7))/LOG(2))))","v":0},null,null,{"$f":"N7","v":111},{"$f":"COUNTIF(L7:L13,T7)","v":7},null,null,null,{"$f":"N7","v":111},{"$f":"COUNTIF(L14:L19,Y7)","v":6},null,null,null,{"$f":"N7","v":111},{"$f":"COUNTIF(L20:L26,AD7)","v":7},null,null,null,{"$f":"N7","v":111},{"$f":"COUNTIF(L27:L33,AI7)","v":7},null,null,null,{"$f":"N7","v":111},{"$f":"COUNTIF(L34:L39,AN7)","v":6},null,null,null,{"$f":"N7","v":111},{"$f":"COUNTIF(L40:L46,AS7)","v":7}]
[11,137,11,140,11,144,null,null,null,null,0,111,null,112,{"$f":"COUNTIF($L$7:$L$500,N8)","v":0},{"$f":"O8/$Q$4","v":0},{"$f":"IF(P8=0,0,(P8*((LOG(P8))/LOG(2))))","v":0},null,null,{"$f":"N8","v":112},{"$f":"COUNTIF(L7:L13,T8)","v":0},{"$f":"U8/(W4-U7)","v":{"$error":"#DIV/0!"}},{"$f":"IF(V8=0,0,(V8*((LOG(V8))/LOG(2))))","v":{"$error":"#DIV/0!"}},null,{"$f":"N8","v":112},{"$f":"COUNTIF(L14:L19,Y8)","v":0},{"$f":"Z8/(AB4-Z7)","v":{"$error":"#DIV/0!"}},{"$f":"IF(AA8=0,0,(AA8*((LOG(AA8))/LOG(2))))","v":{"$error":"#DIV/0!"}},null,{"$f":"N8","v":112},{"$f":"COUNTIF(L20:L26,AD8)","v":0},{"$f":"AE8/(AG4-AE7)","v":{"$error":"#DIV/0!"}},{"$f":"IF(AF8=0,0,(AF8*((LOG(AF8))/LOG(2))))","v":{"$error":"#DIV/0!"}},null,{"$f":"N8","v":112},{"$f":"COUNTIF(L27:L33,AI8)","v":0},{"$f":"AJ8/(AL4-AJ7)","v":{"$error":"#DIV/0!"}},{"$f":"IF(AK8=0,0,(AK8*((LOG(AK8))/LOG(2))))","v":{"$error":"#DIV/0!"}},null,{"$f":"N8","v":112},{"$f":"COUNTIF(L34:L39,AN8)","v":0},{"$f":"AO8/(AQ4-AO7)","v":{"$error":"#DIV/0!"}},{"$f":"IF(AP8=0,0,(AP8*((LOG(AP8))/LOG(2))))","v":{"$error":"#DIV/0!"}},null,{"$f":"N8","v":112},{"$f":"COUNTIF(L40:L46,AS8)","v":0},{"$f":"AT8/(AV4-AT7)","v":{"$error":"#DIV/0!"}},{"$f":"IF(AU8=0,0,(AU8*((LOG(AU8))/LOG(2))))","v":{"$error":"#DIV/0!"}}]
[11,254,11,258,11,265,null,null,null,null,0,111,null,121,{"$f":"COUNTIF($L$7:$L$500,N9)","v":0},{"$f":"O9/$Q$4","v":0},{"$f":"IF(P9=0,0,(P9*((LOG(P9))/LOG(2))))","v":0},null,null,{"$f":"N9","v":121},{"$f":"COUNTIF(L7:L13,T9)","v":0},{"$f":"U9/(W4-U7)","v":{"$error":"#DIV/0!"}},{"$f":"IF(V9=0,0,(V9*((LOG(V9))/LOG(2))))","v":{"$error":"#DIV/0!"}},null,{"$f":"N9","v":121},{"$f":"COUNTIF(L14:L19,Y9)","v":0},{"$f":"Z9/(AB4-Z7)","v":{"$error":"#DIV/0!"}},{"$f":"IF(AA9=0,0,(AA9*((LOG(AA9))/LOG(2))))","v":{"$error":"#DIV/0!"}},null,{"$f":"N9","v":121},{"$f":"COUNTIF(L20:L26,AD9)","v":0},{"$f":"AE9/(AG4-AE7)","v":{"$error":"#DIV/0!"}},{"$f":"IF(AF9=0,0,(AF9*((LOG(AF9))/LOG(2))))","v":{"$error":"#DIV/0!"}},null,{"$f":"N9","v":121},{"$f":"COUNTIF(L27:L33,AI9)","v":0},{"$f":"AJ9/(AL4-AJ7)","v":{"$error":"#DIV/0!"}},{"$f":"IF(AK9=0,0,(AK9*((LOG(AK9))/LOG(2))))","v":{"$error":"#DIV/0!"}},null,{"$f":"N9","v":121},{"$f":"COUNTIF(L34:L39,AN9)","v":0},{"$f":"AO9/(AQ4-AO7)","v":{"$error":"#DIV/0!"}},{"$f":"IF(AP9=0,0,(AP9*((LOG(AP9))/LOG(2))))","v":{"$error":"#DIV/0!"}},null,{"$f":"N9","v":121},{"$f":"COUNTIF(L40:L46,AS9)","v":0},{"$f":"AT9/(AV4-AT7)","v":{"$error":"#DIV/0!"}},{"$f":"IF(AU9=0,0,(AU9*((LOG(AU9))/LOG(2))))","v":{"$error":"#DIV/0!"}}]
[11,373,11,379,11,385,null,null,null,null,0,111,null,122,{"$f":"COUNTIF($L$7:$L$500,N10)","v":0},{"$f":"O10/$Q$4","v":0},{"$f":"IF(P10=0,0,(P10*((LOG(P10))/LOG(2))))","v":0},null,null,{"$f":"N10","v":122},{"$f":"COUNTIF(L7:L13,T10)","v":0},{"$f":"U10/(W4-U7)","v":{"$error":"#DIV/0!"}},{"$f":"IF(V10=0,0,(V10*((LOG(V10))/LOG(2))))","v":{"$error":"#DIV/0!"}},null,{"$f":"N10","v":122},{"$f":"COUNTIF(L14:L19,Y10)","v":0},{"$f":"Z10/(AB4-Z7)","v":{"$error":"#DIV/0!"}},{"$f":"IF(AA10=0,0,(AA10*((LOG(AA10))/LOG(2))))","v":{"$error":"#DIV/0!"}},null,{"$f":"N10","v":122},{"$f":"COUNTIF(L20:L26,AD10)","v":0},{"$f":"AE10/(AG4-AE7)","v":{"$error":"#DIV/0!"}},{"$f":"IF(AF10=0,0,(AF10*((LOG(AF10))/LOG(2))))","v":{"$error":"#DIV/0!"}},null,{"$f":"N10","v":122},{"$f":"COUNTIF(L27:L33,AI10)","v":0},{"$f":"AJ10/(AL4-AJ7)","v":{"$error":"#DIV/0!"}},{"$f":"IF(AK10=0,0,(AK10*((LOG(AK10))/LOG(2))))","v":{"$error":"#DIV/0!"}},null,{"$f":"N10","v":122},{"$f":"COUNTIF(L34:L39,AN10)","v":0},{"$f":"AO10/(AQ4-AO7)","v":{"$error":"#DIV/0!"}},{"$f":"IF(AP10=0,0,(AP10*((LOG(AP10))/LOG(2))))","v":{"$error":"#DIV/0!"}},null,{"$f":"N10","v":122},{"$f":"COUNTIF(L40:L46,AS10)","v":0},{"$f":"AT10/(AV4-AT7)","v":{"$error":"#DIV/0!"}},{"$f":"IF(AU10=0,0,(AU10*((LOG(AU10))/LOG(2))))","v":{"$error":"#DIV/0!"}}]
[11,494,11,500,11,517,null,null,null,null,0,111,null,211,{"$f":"COUNTIF($L$7:$L$500,N11)","v":0},{"$f":"O11/$Q$4","v":0},{"$f":"IF(P11=0,0,(P11*((LOG(P11))/LOG(2))))","v":0},null,null,{"$f":"N11","v":211},{"$f":"COUNTIF(L7:L13,T11)","v":0},{"$f":"U11/(W4-U7)","v":{"$error":"#DIV/0!"}},{"$f":"IF(V11=0,0,(V11*((LOG(V11))/LOG(2))))","v":{"$error":"#DIV/0!"}},null,{"$f":"N11","v":211},{"$f":"COUNTIF(L14:L19,Y11)","v":0},{"$f":"Z11/(AB4-Z7)","v":{"$error":"#DIV/0!"}},{"$f":"IF(AA11=0,0,(AA11*((LOG(AA11))/LOG(2))))","v":{"$error":"#DIV/0!"}},null,{"$f":"N11","v":211},{"$f":"COUNTIF(L20:L26,AD11)","v":0},{"$f":"AE11/(AG4-AE7)","v":{"$error":"#DIV/0!"}},{"$f":"IF(AF11=0,0,(AF11*((LOG(AF11))/LOG(2))))","v":{"$error":"#DIV/0!"}},null,{"$f":"N11","v":211},{"$f":"COUNTIF(L27:L33,AI11)","v":0},{"$f":"AJ11/(AL4-AJ7)","v":{"$error":"#DIV/0!"}},{"$f":"IF(AK11=0,0,(AK11*((LOG(AK11))/LOG(2))))","v":{"$error":"#DIV/0!"}},null,{"$f":"N11","v":211},{"$f":"COUNTIF(L34:L39,AN11)","v":0},{"$f":"AO11/(AQ4-AO7)","v":{"$error":"#DIV/0!"}},{"$f":"IF(AP11=0,0,(AP11*((LOG(AP11))/LOG(2))))","v":{"$error":"#DIV/0!"}},null,{"$f":"N11","v":211},{"$f":"COUNTIF(L40:L46,AS11)","v":0},{"$f":"AT11/(AV4-AT7)","v":{"$error":"#DIV/0!"}},{"$f":"IF(AU11=0,0,(AU11*((LOG(AU11))/LOG(2))))","v":{"$error":"#DIV/0!"}}]
[11,639,11,644,11,650,null,null,null,null,0,111,null,212,{"$f":"COUNTIF($L$7:$L$500,N12)","v":0},{"$f":"O12/$Q$4","v":0},{"$f":"IF(P12=0,0,(P12*((LOG(P12))/LOG(2))))","v":0},null,null,{"$f":"N12","v":212},{"$f":"COUNTIF(L7:L13,T12)","v":0},{"$f":"U12/(W4-U7)","v":{"$error":"#DIV/0!"}},{"$f":"IF(V12=0,0,(V12*((LOG(V12))/LOG(2))))","v":{"$error":"#DIV/0!"}},null,{"$f":"N12","v":212},{"$f":"COUNTIF(L14:L19,Y12)","v":0},{"$f":"Z12/(AB4-Z7)","v":{"$error":"#DIV/0!"}},{"$f":"IF(AA12=0,0,(AA12*((LOG(AA12))/LOG(2))))","v":{"$error":"#DIV/0!"}},null,{"$f":"N12","v":212},{"$f":"COUNTIF(L20:L26,AD12)","v":0},{"$f":"AE12/(AG4-AE7)","v":{"$error":"#DIV/0!"}},{"$f":"IF(AF12=0,0,(AF12*((LOG(AF12))/LOG(2))))","v":{"$error":"#DIV/0!"}},null,{"$f":"N12","v":212},{"$f":"COUNTIF(L27:L33,AI12)","v":0},{"$f":"AJ12/(AL4-AJ7)","v":{"$error":"#DIV/0!"}},{"$f":"IF(AK12=0,0,(AK12*((LOG(AK12))/LOG(2))))","v":{"$error":"#DIV/0!"}},null,{"$f":"N12","v":212},{"$f":"COUNTIF(L34:L39,AN12)","v":0},{"$f":"AO12/(AQ4-AO7)","v":{"$error":"#DIV/0!"}},{"$f":"IF(AP12=0,0,(AP12*((LOG(AP12))/LOG(2))))","v":{"$error":"#DIV/0!"}},null,{"$f":"N12","v":212},{"$f":"COUNTIF(L40:L46,AS12)","v":0},{"$f":"AT12/(AV4-AT7)","v":{"$error":"#DIV/0!"}},{"$f":"IF(AU12=0,0,(AU12*((LOG(AU12))/LOG(2))))","v":{"$error":"#DIV/0!"}}]
[11,761,11,764,11,771,null,null,null,null,0,111,null,221,{"$f":"COUNTIF($L$7:$L$500,N13)","v":0},{"$f":"O13/$Q$4","v":0},{"$f":"IF(P13=0,0,(P13*((LOG(P13))/LOG(2))))","v":0},null,null,{"$f":"N13","v":221},{"$f":"COUNTIF(L7:L13,T13)","v":0},{"$f":"U13/(W4-U7)","v":{"$error":"#DIV/0!"}},{"$f":"IF(V13=0,0,(V13*((LOG(V13))/LOG(2))))","v":{"$error":"#DIV/0!"}},null,{"$f":"N13","v":221},{"$f":"COUNTIF(L14:L19,Y13)","v":0},{"$f":"Z13/(AB4-Z7)","v":{"$error":"#DIV/0!"}},{"$f":"IF(AA13=0,0,(AA13*((LOG(AA13))/LOG(2))))","v":{"$error":"#DIV/0!"}},null,{"$f":"N13","v":221},{"$f":"COUNTIF(L20:L26,AD13)","v":0},{"$f":"AE13/(AG4-AE7)","v":{"$error":"#DIV/0!"}},{"$f":"IF(AF13=0,0,(AF13*((LOG(AF13))/LOG(2))))","v":{"$error":"#DIV/0!"}},null,{"$f":"N13","v":221},{"$f":"COUNTIF(L27:L33,AI13)","v":0},{"$f":"AJ13/(AL4-AJ7)","v":{"$error":"#DIV/0!"}},{"$f":"IF(AK13=0,0,(AK13*((LOG(AK13))/LOG(2))))","v":{"$error":"#DIV/0!"}},null,{"$f":"N13","v":221},{"$f":"COUNTIF(L34:L39,AN13)","v":0},{"$f":"AO13/(AQ4-AO7)","v":{"$error":"#DIV/0!"}},{"$f":"IF(AP13=0,0,(AP13*((LOG(AP13))/LOG(2))))","v":{"$error":"#DIV/0!"}},null,{"$f":"N13","v":221},{"$f":"COUNTIF(L40:L46,AS13)","v":0},{"$f":"AT13/(AV4-AT7)","v":{"$error":"#DIV/0!"}},{"$f":"IF(AU13=0,0,(AU13*((LOG(AU13))/LOG(2))))","v":{"$error":"#DIV/0!"}}]
[11,871,11,877,11,885,null,null,null,null,0,111,null,222,{"$f":"COUNTIF($L$7:$L$500,N14)","v":0},{"$f":"O14/$Q$4","v":0},{"$f":"IF(P14=0,0,(P14*((LOG(P14))/LOG(2))))","v":0},null,null,{"$f":"N14","v":222},{"$f":"COUNTIF(L7:L13,T14)","v":0},{"$f":"U14/(W4-U7)","v":{"$error":"#DIV/0!"}},{"$f":"IF(V14=0,0,(V14*((LOG(V14))/LOG(2))))","v":{"$error":"#DIV/0!"}},null,{"$f":"N14","v":222},{"$f":"COUNTIF(L14:L19,Y14)","v":0},{"$f":"Z14/(AB4-Z7)","v":{"$error":"#DIV/0!"}},{"$f":"IF(AA14=0,0,(AA14*((LOG(AA14))/LOG(2))))","v":{"$error":"#DIV/0!"}},null,{"$f":"N14","v":222},{"$f":"COUNTIF(L20:L26,AD14)","v":0},{"$f":"AE14/(AG4-AE7)","v":{"$error":"#DIV/0!"}},{"$f":"IF(AF14=0,0,(AF14*((LOG(AF14))/LOG(2))))","v":{"$error":"#DIV/0!"}},null,{"$f":"N14","v":222},{"$f":"COUNTIF(L27:L33,AI14)","v":0},{"$f":"AJ14/(AL4-AJ7)","v":{"$error":"#DIV/0!"}},{"$f":"IF(AK14=0,0,(AK14*((LOG(AK14))/LOG(2))))","v":{"$error":"#DIV/0!"}},null,{"$f":"N14","v":222},{"$f":"COUNTIF(L34:L39,AN14)","v":0},{"$f":"AO14/(AQ4-AO7)","v":{"$error":"#DIV/0!"}},{"$f":"IF(AP14=0,0,(AP14*((LOG(AP14))/LOG(2))))","v":{"$error":"#DIV/0!"}},null,{"$f":"N14","v":222},{"$f":"COUNTIF(L40:L46,AS14)","v":0},{"$f":"AT14/(AV4-AT7)","v":{"$error":"#DIV/0!"}},{"$f":"IF(AU14=0,0,(AU14*((LOG(AU14))/LOG(2))))","v":{"$error":"#DIV/0!"}}]
[11,985,11,989,11,995,null,null,null,null,0,111,null,null,null,{"$f":"SUM(P7:P14)","v":1},{"$f":"-SUM(Q7:Q14)","v":0},null,null,null,null,{"$f":"SUM(V7:V14)","v":{"$error":"#DIV/0!"}},{"$f":"-SUM(W7:W14)","v":{"$error":"#DIV/0!"}},null,null,null,{"$f":"SUM(AA7:AA14)","v":{"$error":"#DIV/0!"}},{"$f":"-SUM(AB7:AB14)","v":{"$error":"#DIV/0!"}},null,null,null,{"$f":"SUM(AF7:AF14)","v":{"$error":"#DIV/0!"}},{"$f":"-SUM(AG7:AG14)","v":{"$error":"#DIV/0!"}},null,null,null,{"$f":"SUM(AK7:AK14)","v":{"$error":"#DIV/0!"}},{"$f":"-SUM(AL7:AL14)","v":{"$error":"#DIV/0!"}},null,null,null,{"$f":"SUM(AP7:AP14)","v":{"$error":"#DIV/0!"}},{"$f":"-SUM(AQ7:AQ14)","v":{"$error":"#DIV/0!"}},null,null,null,{"$f":"SUM(AU7:AU14)","v":{"$error":"#DIV/0!"}},{"$f":"-SUM(AV7:AV14)","v":{"$error":"#DIV/0!"}}]
[11,1136,11,1140,11,1145,null,null,null,null,0,111,null,null,null,"U=",{"$f":"Q15/(LOG(Q4)/LOG(2))","v":0},null,null,null,null,"U1=",{"$f":"W15/(LOG(W4)/LOG(2))","v":{"$error":"#DIV/0!"}},null,null,null,"U2=",{"$f":"AB15/(LOG(AB4)/LOG(2))","v":{"$error":"#DIV/0!"}},null,null,null,"U3=",{"$f":"AG15/(LOG(AG4)/LOG(2))","v":{"$error":"#DIV/0!"}},null,null,null,"U4=",{"$f":"AL15/(LOG(AL4)/LOG(2))","v":{"$error":"#DIV/0!"}},null,null,null,"U5=",{"$f":"AQ15/(LOG(AQ4)/LOG(2))","v":{"$error":"#DIV/0!"}},null,null,null,"U6=",{"$f":"AV15/(LOG(AV4)/LOG(2))","v":{"$error":"#DIV/0!"}}]
[11,1282,11,1284,11,1286,null,null,null,null,0,111]
[11,1433,11,1436,11,1442,null,null,null,null,0,111]
[11,1576,11,1580,11,1587,null,null,null,null,0,111,null,"Total Target Seq"]
[11,1718,11,1720,11,1725,null,null,null,null,0,111,null,{"$f":"COUNTIF(L7:L46,G3)","v":40},null,7,6,7,7,6,7]
[11,1859,11,1863,11,1869,null,null,null,null,0,111,null,null,null,"% of reinforcement given in 6 equal intervals based on number of trials "]
[11,2004,11,2008,11,2016,null,null,null,null,0,111,null,null,null,"%_1","%_2","%_3","%_4","%_5","%_6"]
[11,2178,11,2181,11,2186,null,null,null,null,0,111,null,null,"target sequence",{"$f":"$G$3","v":111},{"$f":"$G$3","v":111},{"$f":"$G$3","v":111},{"$f":"$G$3","v":111},{"$f":"$G$3","v":111},{"$f":"$G$3","v":111}]
[11,2307,11,2310,11,2317,null,null,null,null,0,111,null,null,"total reinforcement",{"$f":"U7","v":7},{"$f":"Z7","v":6},{"$f":"AE7","v":7},{"$f":"AJ7","v":7},{"$f":"AO7","v":6},{"$f":"AT7","v":7}]
[11,2486,11,2490,11,2496,null,null,null,null,0,111,null,null,"% target"]
[11,2630,11,2633,11,2637,null,null,null,null,0,111,null,null,"CCRF"]
[11,2785,11,2788,11,2790,null,null,null,null,0,111,null,null,"% CCRf"]
[11,2956,11,2960,11,2967,null,null,null,null,0,111,null,null,"average response rate",{"$f":"F13/P20","v":110.14285714285714},{"$f":"(F19-F13)/Q20","v":136},{"$f":"(F26-F19)/R20","v":150},{"$f":"(F33-F26)/S20","v":148.28571428571428},{"$f":"(F39-F33)/T20","v":165.83333333333334},{"$f":"(F46-F39)/U20","v":176.28571428571428}]
[11,3075,11,3081,11,3096,null,null,null,null,0,111]
[11,3230,11,3234,11,3242,null,null,null,null,0,111]
[11,3366,11,3370,11,3376,null,null,null,null,0,111]
[11,3538,11,3541,11,3547,null,null,null,null,0,111]
[11,3667,11,3669,11,3675,null,null,null,null,0,111]
[11,3804,11,3808,11,3814,null,null,null,null,0,111]
[11,3930,11,3947,11,3959,null,null,null,null,0,111]
[11,4073,11,4078,11,4084,null,null,null,null,0,111]
[11,4195,11,4200,11,4207,null,null,null,null,0,111]
[11,4321,11,4333,11,4347,null,null,null,null,0,111]
[11,4660,11,4662,11,4670,null,null,null,null,0,111]
[11,4823,11,4828,11,4834,null,null,null,null,0,111]
[11,4969,11,4971,11,4975,null,null,null,null,0,111]
[11,5107,11,5113,11,5130,null,null,null,null,0,111]
[11,5326,11,5331,11,5339,null,null,null,null,0,111]
[11,5493,11,5498,11,5503,null,null,null,null,0,111]
[11,5700,11,5707,11,5728,null,null,null,null,0,111]
[11,5893,11,5898,11,5904,null,null,null,null,1,111]

{"sheet":"!M712A4D.ust","index":22,"n_rows":46,"n_cols":48,"rows_kept":46,"cut":false,"hidden":false,"merged":[[4,39,4,42],[5,39,5,40],[4,44,4,47],[5,44,5,45],[4,24,4,27],[5,24,5,25],[4,29,4,32],[5,29,5,30],[4,34,4,37],[5,34,5,35],[1,1,1,2],[5,13,5,14],[18,13,18,14],[19,13,19,14],[4,19,4,22],[5,19,5,20]]}
["Report for:!M712A4D.ust"]
["Date:","<date>"]
["Hen:","<hen>",null,null,null,"Correct Sequence",{"$f":"Start!J2","v":111},null,null,null,null,null,null,null,null,"Total Sequences in Data",{"$f":"4994-COUNTBLANK(L7:L5000)","v":40},null,null,null,null,"Total Sequences in Block Data",{"$f":"COUNTA(L7:L13)","v":7},null,null,null,"Total Sequences in Block Data",{"$f":"COUNTA(L14:L19)","v":6},null,null,null,"Total Sequences in Block Data",{"$f":"COUNTA(L20:L26)","v":7},null,null,null,"Total Sequences in Block Data",{"$f":"COUNTA(L27:L33)","v":7},null,null,null,"Total Sequences in Block Data",{"$f":"COUNTA(L34:L39)","v":6},null,null,null,"Total Sequences in Block Data",{"$f":"COUNTA(L40:L46)","v":7}]
[null,null,null,null,null,null,null,null,null,null,null,null,null,null,null,"Total Sequences in Summary",{"$f":"SUM(O7:O14)","v":40},null,null,null,null,"Total Sequences in Block Summary",{"$f":"SUM(U7:U14)","v":7},null,null,null,"Total Sequences in Block Summary",{"$f":"SUM(Z7:Z14)","v":6},null,null,null,"Total Sequences in Block Summary",{"$f":"SUM(AE7:AE14)","v":7},null,null,null,"Total Sequences in Block Summary",{"$f":"SUM(AJ7:AJ14)","v":7},null,null,null,"Total Sequences in Block Summary",{"$f":"SUM(AO7:AO14)","v":6},null,null,null,"Total Sequences in Block Summary",{"$f":"SUM(AT7:AT14)","v":7}]
[null,null,null,null,null,null,null,null,null,null,null,null,null,null,null,null,null,null,null,"Block 1",null,null,null,null,"Block 2",null,null,null,null,"Block 3",null,null,null,null,"Block 4",null,null,null,null,"Block 5",null,null,null,null,"Block 6"]
["Sequence\nComponent\n1","Time\n1","Sequence\nComponent\n2","Time\n2","Sequence\nComponent\n3","Time\n3","Sequence\nComponent\n4","Time\n4","Sequence\nComponent\n5","Time\n5","Correct?\n0=No 1=Yes","Sequence",null,"Frequency",null,"Relative Frequency","Variability",null,null,"Frequency",null,"Relative Frequency","Variability",null,"Frequency",null,"Relative Frequency","Variability",null,"Frequency",null,"Relative Frequency","Variability",null,"Frequency",null,"Relative Frequency","Variability",null,"Frequency",null,"Relative Frequency","Variability",null,"Frequency",null,"Relative Frequency","Variability"]
[11,3,11,8,11,16,null,null,null,null,0,111,null,111,{"$f":"COUNTIF($L$7:$L$500,N7)","v":40},{"$f":"O7/$Q$4","v":1},{"$f":"IF(P7=0,0,(P7*((LOG(P7))/LOG(2))))","v":0},null,null,{"$f":"N7","v":111},{"$f":"COUNTIF(L7:L13,T7)","v":7},null,null,null,{"$f":"N7","v":111},{"$f":"COUNTIF(L14:L19,Y7)","v":6},null,null,null,{"$f":"N7","v":111},{"$f":"COUNTIF(L20:L26,AD7)","v":7},null,null,null,{"$f":"N7","v":111},{"$f":"COUNTIF(L27:L33,AI7)","v":7},null,null,null,{"$f":"N7","v":111},{"$f":"COUNTIF(L34:L39,AN7)","v":6},null,null,null,{"$f":"N7","v":111},{"$f":"COUNTIF(L40:L46,AS7)","v":7}]
[11,166,11,174,11,185,null,null,null,null,0,111,null,112,{"$f":"COUNTIF($L$7:$L$500,N8)","v":0},{"$f":"O8/$Q$4","v":0},{"$f":"IF(P8=0,0,(P8*((LOG(P8))/LOG(2))))","v":0},null,null,{"$f":"N8","v":112},{"$f":"COUNTIF(L7:L13,T8)","v":0},{"$f":"U8/(W4-U7)","v":{"$error":"#DIV/0!"}},{"$f":"IF(V8=0,0,(V8*((LOG(V8))/LOG(2))))","v":{"$error":"#DIV/0!"}},null,{"$f":"N8","v":112},{"$f":"COUNTIF(L14:L19,Y8)","v":0},{"$f":"Z8/(AB4-Z7)","v":{"$error":"#DIV/0!"}},{"$f":"IF(AA8=0,0,(AA8*((LOG(AA8))/LOG(2))))","v":{"$error":"#DIV/0!"}},null,{"$f":"N8","v":112},{"$f":"COUNTIF(L20:L26,AD8)","v":0},{"$f":"AE8/(AG4-AE7)","v":{"$error":"#DIV/0!"}},{"$f":"IF(AF8=0,0,(AF8*((LOG(AF8))/LOG(2))))","v":{"$error":"#DIV/0!"}},null,{"$f":"N8","v":112},{"$f":"COUNTIF(L27:L33,AI8)","v":0},{"$f":"AJ8/(AL4-AJ7)","v":{"$error":"#DIV/0!"}},{"$f":"IF(AK8=0,0,(AK8*((LOG(AK8))/LOG(2))))","v":{"$error":"#DIV/0!"}},null,{"$f":"N8","v":112},{"$f":"COUNTIF(L34:L39,AN8)","v":0},{"$f":"AO8/(AQ4-AO7)","v":{"$error":"#DIV/0!"}},{"$f":"IF(AP8=0,0,(AP8*((LOG(AP8))/LOG(2))))","v":{"$error":"#DIV/0!"}},null,{"$f":"N8","v":112},{"$f":"COUNTIF(L40:L46,AS8)","v":0},{"$f":"AT8/(AV4-AT7)","v":{"$error":"#DIV/0!"}},{"$f":"IF(AU8=0,0,(AU8*((LOG(AU8))/LOG(2))))","v":{"$error":"#DIV/0!"}}]
[11,345,11,351,11,358,null,null,null,null,0,111,null,121,{"$f":"COUNTIF($L$7:$L$500,N9)","v":0},{"$f":"O9/$Q$4","v":0},{"$f":"IF(P9=0,0,(P9*((LOG(P9))/LOG(2))))","v":0},null,null,{"$f":"N9","v":121},{"$f":"COUNTIF(L7:L13,T9)","v":0},{"$f":"U9/(W4-U7)","v":{"$error":"#DIV/0!"}},{"$f":"IF(V9=0,0,(V9*((LOG(V9))/LOG(2))))","v":{"$error":"#DIV/0!"}},null,{"$f":"N9","v":121},{"$f":"COUNTIF(L14:L19,Y9)","v":0},{"$f":"Z9/(AB4-Z7)","v":{"$error":"#DIV/0!"}},{"$f":"IF(AA9=0,0,(AA9*((LOG(AA9))/LOG(2))))","v":{"$error":"#DIV/0!"}},null,{"$f":"N9","v":121},{"$f":"COUNTIF(L20:L26,AD9)","v":0},{"$f":"AE9/(AG4-AE7)","v":{"$error":"#DIV/0!"}},{"$f":"IF(AF9=0,0,(AF9*((LOG(AF9))/LOG(2))))","v":{"$error":"#DIV/0!"}},null,{"$f":"N9","v":121},{"$f":"COUNTIF(L27:L33,AI9)","v":0},{"$f":"AJ9/(AL4-AJ7)","v":{"$error":"#DIV/0!"}},{"$f":"IF(AK9=0,0,(AK9*((LOG(AK9))/LOG(2))))","v":{"$error":"#DIV/0!"}},null,{"$f":"N9","v":121},{"$f":"COUNTIF(L34:L39,AN9)","v":0},{"$f":"AO9/(AQ4-AO7)","v":{"$error":"#DIV/0!"}},{"$f":"IF(AP9=0,0,(AP9*((LOG(AP9))/LOG(2))))","v":{"$error":"#DIV/0!"}},null,{"$f":"N9","v":121},{"$f":"COUNTIF(L40:L46,AS9)","v":0},{"$f":"AT9/(AV4-AT7)","v":{"$error":"#DIV/0!"}},{"$f":"IF(AU9=0,0,(AU9*((LOG(AU9))/LOG(2))))","v":{"$error":"#DIV/0!"}}]
[11,478,11,485,11,491,null,null,null,null,0,111,null,122,{"$f":"COUNTIF($L$7:$L$500,N10)","v":0},{"$f":"O10/$Q$4","v":0},{"$f":"IF(P10=0,0,(P10*((LOG(P10))/LOG(2))))","v":0},null,null,{"$f":"N10","v":122},{"$f":"COUNTIF(L7:L13,T10)","v":0},{"$f":"U10/(W4-U7)","v":{"$error":"#DIV/0!"}},{"$f":"IF(V10=0,0,(V10*((LOG(V10))/LOG(2))))","v":{"$error":"#DIV/0!"}},null,{"$f":"N10","v":122},{"$f":"COUNTIF(L14:L19,Y10)","v":0},{"$f":"Z10/(AB4-Z7)","v":{"$error":"#DIV/0!"}},{"$f":"IF(AA10=0,0,(AA10*((LOG(AA10))/LOG(2))))","v":{"$error":"#DIV/0!"}},null,{"$f":"N10","v":122},{"$f":"COUNTIF(L20:L26,AD10)","v":0},{"$f":"AE10/(AG4-AE7)","v":{"$error":"#DIV/0!"}},{"$f":"IF(AF10=0,0,(AF10*((LOG(AF10))/LOG(2))))","v":{"$error":"#DIV/0!"}},null,{"$f":"N10","v":122},{"$f":"COUNTIF(L27:L33,AI10)","v":0},{"$f":"AJ10/(AL4-AJ7)","v":{"$error":"#DIV/0!"}},{"$f":"IF(AK10=0,0,(AK10*((LOG(AK10))/LOG(2))))","v":{"$error":"#DIV/0!"}},null,{"$f":"N10","v":122},{"$f":"COUNTIF(L34:L39,AN10)","v":0},{"$f":"AO10/(AQ4-AO7)","v":{"$error":"#DIV/0!"}},{"$f":"IF(AP10=0,0,(AP10*((LOG(AP10))/LOG(2))))","v":{"$error":"#DIV/0!"}},null,{"$f":"N10","v":122},{"$f":"COUNTIF(L40:L46,AS10)","v":0},{"$f":"AT10/(AV4-AT7)","v":{"$error":"#DIV/0!"}},{"$f":"IF(AU10=0,0,(AU10*((LOG(AU10))/LOG(2))))","v":{"$error":"#DIV/0!"}}]
[11,618,11,622,11,628,null,null,null,null,0,111,null,211,{"$f":"COUNTIF($L$7:$L$500,N11)","v":0},{"$f":"O11/$Q$4","v":0},{"$f":"IF(P11=0,0,(P11*((LOG(P11))/LOG(2))))","v":0},null,null,{"$f":"N11","v":211},{"$f":"COUNTIF(L7:L13,T11)","v":0},{"$f":"U11/(W4-U7)","v":{"$error":"#DIV/0!"}},{"$f":"IF(V11=0,0,(V11*((LOG(V11))/LOG(2))))","v":{"$error":"#DIV/0!"}},null,{"$f":"N11","v":211},{"$f":"COUNTIF(L14:L19,Y11)","v":0},{"$f":"Z11/(AB4-Z7)","v":{"$error":"#DIV/0!"}},{"$f":"IF(AA11=0,0,(AA11*((LOG(AA11))/LOG(2))))","v":{"$error":"#DIV/0!"}},null,{"$f":"N11","v":211},{"$f":"COUNTIF(L20:L26,AD11)","v":0},{"$f":"AE11/(AG4-AE7)","v":{"$error":"#DIV/0!"}},{"$f":"IF(AF11=0,0,(AF11*((LOG(AF11))/LOG(2))))","v":{"$error":"#DIV/0!"}},null,{"$f":"N11","v":211},{"$f":"COUNTIF(L27:L33,AI11)","v":0},{"$f":"AJ11/(AL4-AJ7)","v":{"$error":"#DIV/0!"}},{"$f":"IF(AK11=0,0,(AK11*((LOG(AK11))/LOG(2))))","v":{"$error":"#DIV/0!"}},null,{"$f":"N11","v":211},{"$f":"COUNTIF(L34:L39,AN11)","v":0},{"$f":"AO11/(AQ4-AO7)","v":{"$error":"#DIV/0!"}},{"$f":"IF(AP11=0,0,(AP11*((LOG(AP11))/LOG(2))))","v":{"$error":"#DIV/0!"}},null,{"$f":"N11","v":211},{"$f":"COUNTIF(L40:L46,AS11)","v":0},{"$f":"AT11/(AV4-AT7)","v":{"$error":"#DIV/0!"}},{"$f":"IF(AU11=0,0,(AU11*((LOG(AU11))/LOG(2))))","v":{"$error":"#DIV/0!"}}]
[11,752,11,758,11,765,null,null,null,null,0,111,null,212,{"$f":"COUNTIF($L$7:$L$500,N12)","v":0},{"$f":"O12/$Q$4","v":0},{"$f":"IF(P12=0,0,(P12*((LOG(P12))/LOG(2))))","v":0},null,null,{"$f":"N12","v":212},{"$f":"COUNTIF(L7:L13,T12)","v":0},{"$f":"U12/(W4-U7)","v":{"$error":"#DIV/0!"}},{"$f":"IF(V12=0,0,(V12*((LOG(V12))/LOG(2))))","v":{"$error":"#DIV/0!"}},null,{"$f":"N12","v":212},{"$f":"COUNTIF(L14:L19,Y12)","v":0},{"$f":"Z12/(AB4-Z7)","v":{"$error":"#DIV/0!"}},{"$f":"IF(AA12=0,0,(AA12*((LOG(AA12))/LOG(2))))","v":{"$error":"#DIV/0!"}},null,{"$f":"N12","v":212},{"$f":"COUNTIF(L20:L26,AD12)","v":0},{"$f":"AE12/(AG4-AE7)","v":{"$error":"#DIV/0!"}},{"$f":"IF(AF12=0,0,(AF12*((LOG(AF12))/LOG(2))))","v":{"$error":"#DIV/0!"}},null,{"$f":"N12","v":212},{"$f":"COUNTIF(L27:L33,AI12)","v":0},{"$f":"AJ12/(AL4-AJ7)","v":{"$error":"#DIV/0!"}},{"$f":"IF(AK12=0,0,(AK12*((LOG(AK12))/LOG(2))))","v":{"$error":"#DIV/0!"}},null,{"$f":"N12","v":212},{"$f":"COUNTIF(L34:L39,AN12)","v":0},{"$f":"AO12/(AQ4-AO7)","v":{"$error":"#DIV/0!"}},{"$f":"IF(AP12=0,0,(AP12*((LOG(AP12))/LOG(2))))","v":{"$error":"#DIV/0!"}},null,{"$f":"N12","v":212},{"$f":"COUNTIF(L40:L46,AS12)","v":0},{"$f":"AT12/(AV4-AT7)","v":{"$error":"#DIV/0!"}},{"$f":"IF(AU12=0,0,(AU12*((LOG(AU12))/LOG(2))))","v":{"$error":"#DIV/0!"}}]
[11,937,11,939,11,943,null,null,null,null,0,111,null,221,{"$f":"COUNTIF($L$7:$L$500,N13)","v":0},{"$f":"O13/$Q$4","v":0},{"$f":"IF(P13=0,0,(P13*((LOG(P13))/LOG(2))))","v":0},null,null,{"$f":"N13","v":221},{"$f":"COUNTIF(L7:L13,T13)","v":0},{"$f":"U13/(W4-U7)","v":{"$error":"#DIV/0!"}},{"$f":"IF(V13=0,0,(V13*((LOG(V13))/LOG(2))))","v":{"$error":"#DIV/0!"}},null,{"$f":"N13","v":221},{"$f":"COUNTIF(L14:L19,Y13)","v":0},{"$f":"Z13/(AB4-Z7)","v":{"$error":"#DIV/0!"}},{"$f":"IF(AA13=0,0,(AA13*((LOG(AA13))/LOG(2))))","v":{"$error":"#DIV/0!"}},null,{"$f":"N13","v":221},{"$f":"COUNTIF(L20:L26,AD13)","v":0},{"$f":"AE13/(AG4-AE7)","v":{"$error":"#DIV/0!"}},{"$f":"IF(AF13=0,0,(AF13*((LOG(AF13))/LOG(2))))","v":{"$error":"#DIV/0!"}},null,{"$f":"N13","v":221},{"$f":"COUNTIF(L27:L33,AI13)","v":0},{"$f":"AJ13/(AL4-AJ7)","v":{"$error":"#DIV/0!"}},{"$f":"IF(AK13=0,0,(AK13*((LOG(AK13))/LOG(2))))","v":{"$error":"#DIV/0!"}},null,{"$f":"N13","v":221},{"$f":"COUNTIF(L34:L39,AN13)","v":0},{"$f":"AO13/(AQ4-AO7)","v":{"$error":"#DIV/0!"}},{"$f":"IF(AP13=0,0,(AP13*((LOG(AP13))/LOG(2))))","v":{"$error":"#DIV/0!"}},null,{"$f":"N13","v":221},{"$f":"COUNTIF(L40:L46,AS13)","v":0},{"$f":"AT13/(AV4-AT7)","v":{"$error":"#DIV/0!"}},{"$f":"IF(AU13=0,0,(AU13*((LOG(AU13))/LOG(2))))","v":{"$error":"#DIV/0!"}}]
[11,1087,11,1090,11,1113,null,null,null,null,0,111,null,222,{"$f":"COUNTIF($L$7:$L$500,N14)","v":0},{"$f":"O14/$Q$4","v":0},{"$f":"IF(P14=0,0,(P14*((LOG(P14))/LOG(2))))","v":0},null,null,{"$f":"N14","v":222},{"$f":"COUNTIF(L7:L13,T14)","v":0},{"$f":"U14/(W4-U7)","v":{"$error":"#DIV/0!"}},{"$f":"IF(V14=0,0,(V14*((LOG(V14))/LOG(2))))","v":{"$error":"#DIV/0!"}},null,{"$f":"N14","v":222},{"$f":"COUNTIF(L14:L19,Y14)","v":0},{"$f":"Z14/(AB4-Z7)","v":{"$error":"#DIV/0!"}},{"$f":"IF(AA14=0,0,(AA14*((LOG(AA14))/LOG(2))))","v":{"$error":"#DIV/0!"}},null,{"$f":"N14","v":222},{"$f":"COUNTIF(L20:L26,AD14)","v":0},{"$f":"AE14/(AG4-AE7)","v":{"$error":"#DIV/0!"}},{"$f":"IF(AF14=0,0,(AF14*((LOG(AF14))/LOG(2))))","v":{"$error":"#DIV/0!"}},null,{"$f":"N14","v":222},{"$f":"COUNTIF(L27:L33,AI14)","v":0},{"$f":"AJ14/(AL4-AJ7)","v":{"$error":"#DIV/0!"}},{"$f":"IF(AK14=0,0,(AK14*((LOG(AK14))/LOG(2))))","v":{"$error":"#DIV/0!"}},null,{"$f":"N14","v":222},{"$f":"COUNTIF(L34:L39,AN14)","v":0},{"$f":"AO14/(AQ4-AO7)","v":{"$error":"#DIV/0!"}},{"$f":"IF(AP14=0,0,(AP14*((LOG(AP14))/LOG(2))))","v":{"$error":"#DIV/0!"}},null,{"$f":"N14","v":222},{"$f":"COUNTIF(L40:L46,AS14)","v":0},{"$f":"AT14/(AV4-AT7)","v":{"$error":"#DIV/0!"}},{"$f":"IF(AU14=0,0,(AU14*((LOG(AU14))/LOG(2))))","v":{"$error":"#DIV/0!"}}]
[11,1257,11,1263,11,1270,null,null,null,null,0,111,null,null,null,{"$f":"SUM(P7:P14)","v":1},{"$f":"-SUM(Q7:Q14)","v":0},null,null,null,null,{"$f":"SUM(V7:V14)","v":{"$error":"#DIV/0!"}},{"$f":"-SUM(W7:W14)","v":{"$error":"#DIV/0!"}},null,null,null,{"$f":"SUM(AA7:AA14)","v":{"$error":"#DIV/0!"}},{"$f":"-SUM(AB7:AB14)","v":{"$error":"#DIV/0!"}},null,null,null,{"$f":"SUM(AF7:AF14)","v":{"$error":"#DIV/0!"}},{"$f":"-SUM(AG7:AG14)","v":{"$error":"#DIV/0!"}},null,null,null,{"$f":"SUM(AK7:AK14)","v":{"$error":"#DIV/0!"}},{"$f":"-SUM(AL7:AL14)","v":{"$error":"#DIV/0!"}},null,null,null,{"$f":"SUM(AP7:AP14)","v":{"$error":"#DIV/0!"}},{"$f":"-SUM(AQ7:AQ14)","v":{"$error":"#DIV/0!"}},null,null,null,{"$f":"SUM(AU7:AU14)","v":{"$error":"#DIV/0!"}},{"$f":"-SUM(AV7:AV14)","v":{"$error":"#DIV/0!"}}]
[11,1410,11,1413,11,1423,null,null,null,null,0,111,null,null,null,"U=",{"$f":"Q15/(LOG(Q4)/LOG(2))","v":0},null,null,null,null,"U1=",{"$f":"W15/(LOG(W4)/LOG(2))","v":{"$error":"#DIV/0!"}},null,null,null,"U2=",{"$f":"AB15/(LOG(AB4)/LOG(2))","v":{"$error":"#DIV/0!"}},null,null,null,"U3=",{"$f":"AG15/(LOG(AG4)/LOG(2))","v":{"$error":"#DIV/0!"}},null,null,null,"U4=",{"$f":"AL15/(LOG(AL4)/LOG(2))","v":{"$error":"#DIV/0!"}},null,null,null,"U5=",{"$f":"AQ15/(LOG(AQ4)/LOG(2))","v":{"$error":"#DIV/0!"}},null,null,null,"U6=",{"$f":"AV15/(LOG(AV4)/LOG(2))","v":{"$error":"#DIV/0!"}}]
[11,1547,11,1551,11,1557,null,null,null,null,0,111]
[11,1737,11,1741,11,1746,null,null,null,null,0,111]
[11,1894,11,1896,11,1902,null,null,null,null,0,111,null,"Total Target Seq"]
[11,2023,11,2025,11,2028,null,null,null,null,0,111,null,{"$f":"COUNTIF(L7:L46,G3)","v":40},null,7,6,7,7,6,7]
[11,2160,11,2166,11,2173,null,null,null,null,0,111,null,null,null,"% of reinforcement given in 6 equal intervals based on number of trials "]
[11,2312,11,2317,11,2329,null,null,null,null,0,111,null,null,null,"%_1","%_2","%_3","%_4","%_5","%_6"]
[11,2486,11,2489,11,2495,null,null,null,null,0,111,null,null,"target sequence",{"$f":"$G$3","v":111},{"$f":"$G$3","v":111},{"$f":"$G$3","v":111},{"$f":"$G$3","v":111},{"$f":"$G$3","v":111},{"$f":"$G$3","v":111}]
[11,2606,11,2611,11,2614,null,null,null,null,0,111,null,null,"total reinforcement",{"$f":"U7","v":7},{"$f":"Z7","v":6},{"$f":"AE7","v":7},{"$f":"AJ7","v":7},{"$f":"AO7","v":6},{"$f":"AT7","v":7}]
[11,2804,11,2809,11,2821,null,null,null,null,0,111,null,null,"% target"]
[11,2985,11,2996,11,3008,null,null,null,null,0,111,null,null,"CCRF"]
[11,3157,11,3160,11,3163,null,null,null,null,0,111,null,null,"% CCRf"]
[11,3279,11,3281,11,3284,null,null,null,null,0,111,null,null,"average response rate",{"$f":"F13/P20","v":134.71428571428572},{"$f":"(F19-F13)/Q20","v":159.83333333333334},{"$f":"(F26-F19)/R20","v":158},{"$f":"(F33-F26)/S20","v":152.14285714285714},{"$f":"(F39-F33)/T20","v":160.33333333333334},{"$f":"(F46-F39)/U20","v":159.14285714285714}]
[11,3420,11,3433,11,3460,null,null,null,null,0,111]
[11,3596,11,3602,11,3612,null,null,null,null,0,111]
[11,3735,11,3741,11,3755,null,null,null,null,0,111]
[11,3884,11,3889,11,3904,null,null,null,null,0,111]
[11,4063,11,4067,11,4073,null,null,null,null,0,111]
[11,4253,11,4258,11,4265,null,null,null,null,0,111]
[11,4399,11,4405,11,4421,null,null,null,null,0,111]
[11,4570,11,4573,11,4580,null,null,null,null,0,111]
[11,4693,11,4698,11,4703,null,null,null,null,0,111]
[11,4820,11,4826,11,4835,null,null,null,null,0,111]
[11,5023,11,5028,11,5035,null,null,null,null,0,111]
[11,5177,11,5186,11,5200,null,null,null,null,0,111]
[11,5361,11,5364,11,5367,null,null,null,null,0,111]
[11,5506,11,5513,11,5522,null,null,null,null,0,111]
[11,5643,11,5646,11,5648,null,null,null,null,0,111]
[11,5784,11,5789,11,5798,null,null,null,null,0,111]
[11,5993,11,5997,11,6003,null,null,null,null,0,111]
[11,6140,11,6145,11,6149,null,null,null,null,1,111]

{"sheet":"!M713B1D.ust","index":23,"n_rows":46,"n_cols":48,"rows_kept":46,"cut":false,"hidden":false,"merged":[[4,39,4,42],[5,39,5,40],[4,44,4,47],[5,44,5,45],[4,24,4,27],[5,24,5,25],[4,29,4,32],[5,29,5,30],[4,34,4,37],[5,34,5,35],[1,1,1,2],[5,13,5,14],[18,13,18,14],[19,13,19,14],[4,19,4,22],[5,19,5,20]]}
["Report for:!M713B1D.ust"]
["Date:","<date>"]
["Hen:","<hen>",null,null,null,"Correct Sequence",{"$f":"Start!J2","v":111},null,null,null,null,null,null,null,null,"Total Sequences in Data",{"$f":"4994-COUNTBLANK(L7:L5000)","v":40},null,null,null,null,"Total Sequences in Block Data",{"$f":"COUNTA(L7:L13)","v":7},null,null,null,"Total Sequences in Block Data",{"$f":"COUNTA(L14:L19)","v":6},null,null,null,"Total Sequences in Block Data",{"$f":"COUNTA(L20:L26)","v":7},null,null,null,"Total Sequences in Block Data",{"$f":"COUNTA(L27:L33)","v":7},null,null,null,"Total Sequences in Block Data",{"$f":"COUNTA(L34:L39)","v":6},null,null,null,"Total Sequences in Block Data",{"$f":"COUNTA(L40:L46)","v":7}]
[null,null,null,null,null,null,null,null,null,null,null,null,null,null,null,"Total Sequences in Summary",{"$f":"SUM(O7:O14)","v":40},null,null,null,null,"Total Sequences in Block Summary",{"$f":"SUM(U7:U14)","v":7},null,null,null,"Total Sequences in Block Summary",{"$f":"SUM(Z7:Z14)","v":6},null,null,null,"Total Sequences in Block Summary",{"$f":"SUM(AE7:AE14)","v":7},null,null,null,"Total Sequences in Block Summary",{"$f":"SUM(AJ7:AJ14)","v":7},null,null,null,"Total Sequences in Block Summary",{"$f":"SUM(AO7:AO14)","v":6},null,null,null,"Total Sequences in Block Summary",{"$f":"SUM(AT7:AT14)","v":7}]
[null,null,null,null,null,null,null,null,null,null,null,null,null,null,null,null,null,null,null,"Block 1",null,null,null,null,"Block 2",null,null,null,null,"Block 3",null,null,null,null,"Block 4",null,null,null,null,"Block 5",null,null,null,null,"Block 6"]
["Sequence\nComponent\n1","Time\n1","Sequence\nComponent\n2","Time\n2","Sequence\nComponent\n3","Time\n3","Sequence\nComponent\n4","Time\n4","Sequence\nComponent\n5","Time\n5","Correct?\n0=No 1=Yes","Sequence",null,"Frequency",null,"Relative Frequency","Variability",null,null,"Frequency",null,"Relative Frequency","Variability",null,"Frequency",null,"Relative Frequency","Variability",null,"Frequency",null,"Relative Frequency","Variability",null,"Frequency",null,"Relative Frequency","Variability",null,"Frequency",null,"Relative Frequency","Variability",null,"Frequency",null,"Relative Frequency","Variability"]
[11,2,11,7,11,14,null,null,null,null,0,111,null,111,{"$f":"COUNTIF($L$7:$L$500,N7)","v":40},{"$f":"O7/$Q$4","v":1},{"$f":"IF(P7=0,0,(P7*((LOG(P7))/LOG(2))))","v":0},null,null,{"$f":"N7","v":111},{"$f":"COUNTIF(L7:L13,T7)","v":7},null,null,null,{"$f":"N7","v":111},{"$f":"COUNTIF(L14:L19,Y7)","v":6},null,null,null,{"$f":"N7","v":111},{"$f":"COUNTIF(L20:L26,AD7)","v":7},null,null,null,{"$f":"N7","v":111},{"$f":"COUNTIF(L27:L33,AI7)","v":7},null,null,null,{"$f":"N7","v":111},{"$f":"COUNTIF(L34:L39,AN7)","v":6},null,null,null,{"$f":"N7","v":111},{"$f":"COUNTIF(L40:L46,AS7)","v":7}]
[11,165,11,170,11,177,null,null,null,null,0,111,null,112,{"$f":"COUNTIF($L$7:$L$500,N8)","v":0},{"$f":"O8/$Q$4","v":0},{"$f":"IF(P8=0,0,(P8*((LOG(P8))/LOG(2))))","v":0},null,null,{"$f":"N8","v":112},{"$f":"COUNTIF(L7:L13,T8)","v":0},{"$f":"U8/(W4-U7)","v":{"$error":"#DIV/0!"}},{"$f":"IF(V8=0,0,(V8*((LOG(V8))/LOG(2))))","v":{"$error":"#DIV/0!"}},null,{"$f":"N8","v":112},{"$f":"COUNTIF(L14:L19,Y8)","v":0},{"$f":"Z8/(AB4-Z7)","v":{"$error":"#DIV/0!"}},{"$f":"IF(AA8=0,0,(AA8*((LOG(AA8))/LOG(2))))","v":{"$error":"#DIV/0!"}},null,{"$f":"N8","v":112},{"$f":"COUNTIF(L20:L26,AD8)","v":0},{"$f":"AE8/(AG4-AE7)","v":{"$error":"#DIV/0!"}},{"$f":"IF(AF8=0,0,(AF8*((LOG(AF8))/LOG(2))))","v":{"$error":"#DIV/0!"}},null,{"$f":"N8","v":112},{"$f":"COUNTIF(L27:L33,AI8)","v":0},{"$f":"AJ8/(AL4-AJ7)","v":{"$error":"#DIV/0!"}},{"$f":"IF(AK8=0,0,(AK8*((LOG(AK8))/LOG(2))))","v":{"$error":"#DIV/0!"}},null,{"$f":"N8","v":112},{"$f":"COUNTIF(L34:L39,AN8)","v":0},{"$f":"AO8/(AQ4-AO7)","v":{"$error":"#DIV/0!"}},{"$f":"IF(AP8=0,0,(AP8*((LOG(AP8))/LOG(2))))","v":{"$error":"#DIV/0!"}},null,{"$f":"N8","v":112},{"$f":"COUNTIF(L40:L46,AS8)","v":0},{"$f":"AT8/(AV4-AT7)","v":{"$error":"#DIV/0!"}},{"$f":"IF(AU8=0,0,(AU8*((LOG(AU8))/LOG(2))))","v":{"$error":"#DIV/0!"}}]
[11,290,11,298,11,315,null,null,null,null,0,111,null,121,{"$f":"COUNTIF($L$7:$L$500,N9)","v":0},{"$f":"O9/$Q$4","v":0},{"$f":"IF(P9=0,0,(P9*((LOG(P9))/LOG(2))))","v":0},null,null,{"$f":"N9","v":121},{"$f":"COUNTIF(L7:L13,T9)","v":0},{"$f":"U9/(W4-U7)","v":{"$error":"#DIV/0!"}},{"$f":"IF(V9=0,0,(V9*((LOG(V9))/LOG(2))))","v":{"$error":"#DIV/0!"}},null,{"$f":"N9","v":121},{"$f":"COUNTIF(L14:L19,Y9)","v":0},{"$f":"Z9/(AB4-Z7)","v":{"$error":"#DIV/0!"}},{"$f":"IF(AA9=0,0,(AA9*((LOG(AA9))/LOG(2))))","v":{"$error":"#DIV/0!"}},null,{"$f":"N9","v":121},{"$f":"COUNTIF(L20:L26,AD9)","v":0},{"$f":"AE9/(AG4-AE7)","v":{"$error":"#DIV/0!"}},{"$f":"IF(AF9=0,0,(AF9*((LOG(AF9))/LOG(2))))","v":{"$error":"#DIV/0!"}},null,{"$f":"N9","v":121},{"$f":"COUNTIF(L27:L33,AI9)","v":0},{"$f":"AJ9/(AL4-AJ7)","v":{"$error":"#DIV/0!"}},{"$f":"IF(AK9=0,0,(AK9*((LOG(AK9))/LOG(2))))","v":{"$error":"#DIV/0!"}},null,{"$f":"N9","v":121},{"$f":"COUNTIF(L34:L39,AN9)","v":0},{"$f":"AO9/(AQ4-AO7)","v":{"$error":"#DIV/0!"}},{"$f":"IF(AP9=0,0,(AP9*((LOG(AP9))/LOG(2))))","v":{"$error":"#DIV/0!"}},null,{"$f":"N9","v":121},{"$f":"COUNTIF(L40:L46,AS9)","v":0},{"$f":"AT9/(AV4-AT7)","v":{"$error":"#DIV/0!"}},{"$f":"IF(AU9=0,0,(AU9*((LOG(AU9))/LOG(2))))","v":{"$error":"#DIV/0!"}}]
[11,418,11,425,11,435,null,null,null,null,0,111,null,122,{"$f":"COUNTIF($L$7:$L$500,N10)","v":0},{"$f":"O10/$Q$4","v":0},{"$f":"IF(P10=0,0,(P10*((LOG(P10))/LOG(2))))","v":0},null,null,{"$f":"N10","v":122},{"$f":"COUNTIF(L7:L13,T10)","v":0},{"$f":"U10/(W4-U7)","v":{"$error":"#DIV/0!"}},{"$f":"IF(V10=0,0,(V10*((LOG(V10))/LOG(2))))","v":{"$error":"#DIV/0!"}},null,{"$f":"N10","v":122},{"$f":"COUNTIF(L14:L19,Y10)","v":0},{"$f":"Z10/(AB4-Z7)","v":{"$error":"#DIV/0!"}},{"$f":"IF(AA10=0,0,(AA10*((LOG(AA10))/LOG(2))))","v":{"$error":"#DIV/0!"}},null,{"$f":"N10","v":122},{"$f":"COUNTIF(L20:L26,AD10)","v":0},{"$f":"AE10/(AG4-AE7)","v":{"$error":"#DIV/0!"}},{"$f":"IF(AF10=0,0,(AF10*((LOG(AF10))/LOG(2))))","v":{"$error":"#DIV/0!"}},null,{"$f":"N10","v":122},{"$f":"COUNTIF(L27:L33,AI10)","v":0},{"$f":"AJ10/(AL4-AJ7)","v":{"$error":"#DIV/0!"}},{"$f":"IF(AK10=0,0,(AK10*((LOG(AK10))/LOG(2))))","v":{"$error":"#DIV/0!"}},null,{"$f":"N10","v":122},{"$f":"COUNTIF(L34:L39,AN10)","v":0},{"$f":"AO10/(AQ4-AO7)","v":{"$error":"#DIV/0!"}},{"$f":"IF(AP10=0,0,(AP10*((LOG(AP10))/LOG(2))))","v":{"$error":"#DIV/0!"}},null,{"$f":"N10","v":122},{"$f":"COUNTIF(L40:L46,AS10)","v":0},{"$f":"AT10/(AV4-AT7)","v":{"$error":"#DIV/0!"}},{"$f":"IF(AU10=0,0,(AU10*((LOG(AU10))/LOG(2))))","v":{"$error":"#DIV/0!"}}]
[11,540,11,548,11,557,null,null,null,null,0,111,null,211,{"$f":"COUNTIF($L$7:$L$500,N11)","v":0},{"$f":"O11/$Q$4","v":0},{"$f":"IF(P11=0,0,(P11*((LOG(P11))/LOG(2))))","v":0},null,null,{"$f":"N11","v":211},{"$f":"COUNTIF(L7:L13,T11)","v":0},{"$f":"U11/(W4-U7)","v":{"$error":"#DIV/0!"}},{"$f":"IF(V11=0,0,(V11*((LOG(V11))/LOG(2))))","v":{"$error":"#DIV/0!"}},null,{"$f":"N11","v":211},{"$f":"COUNTIF(L14:L19,Y11)","v":0},{"$f":"Z11/(AB4-Z7)","v":{"$error":"#DIV/0!"}},{"$f":"IF(AA11=0,0,(AA11*((LOG(AA11))/LOG(2))))","v":{"$error":"#DIV/0!"}},null,{"$f":"N11","v":211},{"$f":"COUNTIF(L20:L26,AD11)","v":0},{"$f":"AE11/(AG4-AE7)","v":{"$error":"#DIV/0!"}},{"$f":"IF(AF11=0,0,(AF11*((LOG(AF11))/LOG(2))))","v":{"$error":"#DIV/0!"}},null,{"$f":"N11","v":211},{"$f":"COUNTIF(L27:L33,AI11)","v":0},{"$f":"AJ11/(AL4-AJ7)","v":{"$error":"#DIV/0!"}},{"$f":"IF(AK11=0,0,(AK11*((LOG(AK11))/LOG(2))))","v":{"$error":"#DIV/0!"}},null,{"$f":"N11","v":211},{"$f":"COUNTIF(L34:L39,AN11)","v":0},{"$f":"AO11/(AQ4-AO7)","v":{"$error":"#DIV/0!"}},{"$f":"IF(AP11=0,0,(AP11*((LOG(AP11))/LOG(2))))","v":{"$error":"#DIV/0!"}},null,{"$f":"N11","v":211},{"$f":"COUNTIF(L40:L46,AS11)","v":0},{"$f":"AT11/(AV4-AT7)","v":{"$error":"#DIV/0!"}},{"$f":"IF(AU11=0,0,(AU11*((LOG(AU11))/LOG(2))))","v":{"$error":"#DIV/0!"}}]
[11,661,11,667,11,677,null,null,null,null,0,111,null,212,{"$f":"COUNTIF($L$7:$L$500,N12)","v":0},{"$f":"O12/$Q$4","v":0},{"$f":"IF(P12=0,0,(P12*((LOG(P12))/LOG(2))))","v":0},null,null,{"$f":"N12","v":212},{"$f":"COUNTIF(L7:L13,T12)","v":0},{"$f":"U12/(W4-U7)","v":{"$error":"#DIV/0!"}},{"$f":"IF(V12=0,0,(V12*((LOG(V12))/LOG(2))))","v":{"$error":"#DIV/0!"}},null,{"$f":"N12","v":212},{"$f":"COUNTIF(L14:L19,Y12)","v":0},{"$f":"Z12/(AB4-Z7)","v":{"$error":"#DIV/0!"}},{"$f":"IF(AA12=0,0,(AA12*((LOG(AA12))/LOG(2))))","v":{"$error":"#DIV/0!"}},null,{"$f":"N12","v":212},{"$f":"COUNTIF(L20:L26,AD12)","v":0},{"$f":"AE12/(AG4-AE7)","v":{"$error":"#DIV/0!"}},{"$f":"IF(AF12=0,0,(AF12*((LOG(AF12))/LOG(2))))","v":{"$error":"#DIV/0!"}},null,{"$f":"N12","v":212},{"$f":"COUNTIF(L27:L33,AI12)","v":0},{"$f":"AJ12/(AL4-AJ7)","v":{"$error":"#DIV/0!"}},{"$f":"IF(AK12=0,0,(AK12*((LOG(AK12))/LOG(2))))","v":{"$error":"#DIV/0!"}},null,{"$f":"N12","v":212},{"$f":"COUNTIF(L34:L39,AN12)","v":0},{"$f":"AO12/(AQ4-AO7)","v":{"$error":"#DIV/0!"}},{"$f":"IF(AP12=0,0,(AP12*((LOG(AP12))/LOG(2))))","v":{"$error":"#DIV/0!"}},null,{"$f":"N12","v":212},{"$f":"COUNTIF(L40:L46,AS12)","v":0},{"$f":"AT12/(AV4-AT7)","v":{"$error":"#DIV/0!"}},{"$f":"IF(AU12=0,0,(AU12*((LOG(AU12))/LOG(2))))","v":{"$error":"#DIV/0!"}}]
[11,793,11,802,11,808,null,null,null,null,0,111,null,221,{"$f":"COUNTIF($L$7:$L$500,N13)","v":0},{"$f":"O13/$Q$4","v":0},{"$f":"IF(P13=0,0,(P13*((LOG(P13))/LOG(2))))","v":0},null,null,{"$f":"N13","v":221},{"$f":"COUNTIF(L7:L13,T13)","v":0},{"$f":"U13/(W4-U7)","v":{"$error":"#DIV/0!"}},{"$f":"IF(V13=0,0,(V13*((LOG(V13))/LOG(2))))","v":{"$error":"#DIV/0!"}},null,{"$f":"N13","v":221},{"$f":"COUNTIF(L14:L19,Y13)","v":0},{"$f":"Z13/(AB4-Z7)","v":{"$error":"#DIV/0!"}},{"$f":"IF(AA13=0,0,(AA13*((LOG(AA13))/LOG(2))))","v":{"$error":"#DIV/0!"}},null,{"$f":"N13","v":221},{"$f":"COUNTIF(L20:L26,AD13)","v":0},{"$f":"AE13/(AG4-AE7)","v":{"$error":"#DIV/0!"}},{"$f":"IF(AF13=0,0,(AF13*((LOG(AF13))/LOG(2))))","v":{"$error":"#DIV/0!"}},null,{"$f":"N13","v":221},{"$f":"COUNTIF(L27:L33,AI13)","v":0},{"$f":"AJ13/(AL4-AJ7)","v":{"$error":"#DIV/0!"}},{"$f":"IF(AK13=0,0,(AK13*((LOG(AK13))/LOG(2))))","v":{"$error":"#DIV/0!"}},null,{"$f":"N13","v":221},{"$f":"COUNTIF(L34:L39,AN13)","v":0},{"$f":"AO13/(AQ4-AO7)","v":{"$error":"#DIV/0!"}},{"$f":"IF(AP13=0,0,(AP13*((LOG(AP13))/LOG(2))))","v":{"$error":"#DIV/0!"}},null,{"$f":"N13","v":221},{"$f":"COUNTIF(L40:L46,AS13)","v":0},{"$f":"AT13/(AV4-AT7)","v":{"$error":"#DIV/0!"}},{"$f":"IF(AU13=0,0,(AU13*((LOG(AU13))/LOG(2))))","v":{"$error":"#DIV/0!"}}]
[11,935,11,946,11,952,null,null,null,null,0,111,null,222,{"$f":"COUNTIF($L$7:$L$500,N14)","v":0},{"$f":"O14/$Q$4","v":0},{"$f":"IF(P14=0,0,(P14*((LOG(P14))/LOG(2))))","v":0},null,null,{"$f":"N14","v":222},{"$f":"COUNTIF(L7:L13,T14)","v":0},{"$f":"U14/(W4-U7)","v":{"$error":"#DIV/0!"}},{"$f":"IF(V14=0,0,(V14*((LOG(V14))/LOG(2))))","v":{"$error":"#DIV/0!"}},null,{"$f":"N14","v":222},{"$f":"COUNTIF(L14:L19,Y14)","v":0},{"$f":"Z14/(AB4-Z7)","v":{"$error":"#DIV/0!"}},{"$f":"IF(AA14=0,0,(AA14*((LOG(AA14))/LOG(2))))","v":{"$error":"#DIV/0!"}},null,{"$f":"N14","v":222},{"$f":"COUNTIF(L20:L26,AD14)","v":0},{"$f":"AE14/(AG4-AE7)","v":{"$error":"#DIV/0!"}},{"$f":"IF(AF14=0,0,(AF14*((LOG(AF14))/LOG(2))))","v":{"$error":"#DIV/0!"}},null,{"$f":"N14","v":222},{"$f":"COUNTIF(L27:L33,AI14)","v":0},{"$f":"AJ14/(AL4-AJ7)","v":{"$error":"#DIV/0!"}},{"$f":"IF(AK14=0,0,(AK14*((LOG(AK14))/LOG(2))))","v":{"$error":"#DIV/0!"}},null,{"$f":"N14","v":222},{"$f":"COUNTIF(L34:L39,AN14)","v":0},{"$f":"AO14/(AQ4-AO7)","v":{"$error":"#DIV/0!"}},{"$f":"IF(AP14=0,0,(AP14*((LOG(AP14))/LOG(2))))","v":{"$error":"#DIV/0!"}},null,{"$f":"N14","v":222},{"$f":"COUNTIF(L40:L46,AS14)","v":0},{"$f":"AT14/(AV4-AT7)","v":{"$error":"#DIV/0!"}},{"$f":"IF(AU14=0,0,(AU14*((LOG(AU14))/LOG(2))))","v":{"$error":"#DIV/0!"}}]
[11,1127,11,1135,11,1145,null,null,null,null,0,111,null,null,null,{"$f":"SUM(P7:P14)","v":1},{"$f":"-SUM(Q7:Q14)","v":0},null,null,null,null,{"$f":"SUM(V7:V14)","v":{"$error":"#DIV/0!"}},{"$f":"-SUM(W7:W14)","v":{"$error":"#DIV/0!"}},null,null,null,{"$f":"SUM(AA7:AA14)","v":{"$error":"#DIV/0!"}},{"$f":"-SUM(AB7:AB14)","v":{"$error":"#DIV/0!"}},null,null,null,{"$f":"SUM(AF7:AF14)","v":{"$error":"#DIV/0!"}},{"$f":"-SUM(AG7:AG14)","v":{"$error":"#DIV/0!"}},null,null,null,{"$f":"SUM(AK7:AK14)","v":{"$error":"#DIV/0!"}},{"$f":"-SUM(AL7:AL14)","v":{"$error":"#DIV/0!"}},null,null,null,{"$f":"SUM(AP7:AP14)","v":{"$error":"#DIV/0!"}},{"$f":"-SUM(AQ7:AQ14)","v":{"$error":"#DIV/0!"}},null,null,null,{"$f":"SUM(AU7:AU14)","v":{"$error":"#DIV/0!"}},{"$f":"-SUM(AV7:AV14)","v":{"$error":"#DIV/0!"}}]
[11,1382,11,1386,11,1391,null,null,null,null,0,111,null,null,null,"U=",{"$f":"Q15/(LOG(Q4)/LOG(2))","v":0},null,null,null,null,"U1=",{"$f":"W15/(LOG(W4)/LOG(2))","v":{"$error":"#DIV/0!"}},null,null,null,"U2=",{"$f":"AB15/(LOG(AB4)/LOG(2))","v":{"$error":"#DIV/0!"}},null,null,null,"U3=",{"$f":"AG15/(LOG(AG4)/LOG(2))","v":{"$error":"#DIV/0!"}},null,null,null,"U4=",{"$f":"AL15/(LOG(AL4)/LOG(2))","v":{"$error":"#DIV/0!"}},null,null,null,"U5=",{"$f":"AQ15/(LOG(AQ4)/LOG(2))","v":{"$error":"#DIV/0!"}},null,null,null,"U6=",{"$f":"AV15/(LOG(AV4)/LOG(2))","v":{"$error":"#DIV/0!"}}]
[11,1494,11,1503,11,1517,null,null,null,null,0,111]
[11,1622,11,1627,11,1638,null,null,null,null,0,111]
[11,1773,11,1780,11,1791,null,null,null,null,0,111,null,"Total Target Seq"]
[11,1920,11,1927,11,1934,null,null,null,null,0,111,null,{"$f":"COUNTIF(L7:L46,G3)","v":40},null,7,6,7,7,6,7]
[11,2037,11,2044,11,2050,null,null,null,null,0,111,null,null,null,"% of reinforcement given in 6 equal intervals based on number of trials "]
[11,2182,11,2189,11,2198,null,null,null,null,0,111,null,null,null,"%_1","%_2","%_3","%_4","%_5","%_6"]
[11,2299,11,2301,11,2307,null,null,null,null,0,111,null,null,"target sequence",{"$f":"$G$3","v":111},{"$f":"$G$3","v":111},{"$f":"$G$3","v":111},{"$f":"$G$3","v":111},{"$f":"$G$3","v":111},{"$f":"$G$3","v":111}]
[11,2440,11,2446,11,2452,null,null,null,null,0,111,null,null,"total reinforcement",{"$f":"U7","v":7},{"$f":"Z7","v":6},{"$f":"AE7","v":7},{"$f":"AJ7","v":7},{"$f":"AO7","v":6},{"$f":"AT7","v":7}]
[11,2612,11,2618,11,2635,null,null,null,null,0,111,null,null,"% target"]
[11,2769,11,2773,11,2779,null,null,null,null,0,111,null,null,"CCRF"]
[11,2892,11,2898,11,2911,null,null,null,null,0,111,null,null,"% CCRf"]
[11,3105,11,3110,11,3116,null,null,null,null,0,111,null,null,"average response rate",{"$f":"F13/P20","v":115.42857142857143},{"$f":"(F19-F13)/Q20","v":163.83333333333334},{"$f":"(F26-F19)/R20","v":141.14285714285714},{"$f":"(F33-F26)/S20","v":162.14285714285714},{"$f":"(F39-F33)/T20","v":168.83333333333334},{"$f":"(F46-F39)/U20","v":174.85714285714286}]
[11,3252,11,3257,11,3270,null,null,null,null,0,111]
[11,3416,11,3422,11,3429,null,null,null,null,0,111]
[11,3597,11,3607,11,3616,null,null,null,null,0,111]
[11,3770,11,3772,11,3779,null,null,null,null,0,111]
[11,3897,11,3903,11,3914,null,null,null,null,0,111]
[11,4036,11,4041,11,4047,null,null,null,null,0,111]
[11,4187,11,4189,11,4193,null,null,null,null,0,111]
[11,4406,11,4413,11,4422,null,null,null,null,0,111]
[11,4574,11,4579,11,4588,null,null,null,null,0,111]
[11,4772,11,4775,11,4781,null,null,null,null,0,111]
[11,4916,11,4921,11,4927,null,null,null,null,0,111]
[11,5083,11,5088,11,5102,null,null,null,null,0,111]
[11,5251,11,5257,11,5264,null,null,null,null,0,111]
[11,5408,11,5410,11,5415,null,null,null,null,0,111]
[11,5572,11,5577,11,5584,null,null,null,null,0,111]
[11,5728,11,5733,11,5739,null,null,null,null,0,111]
[11,5910,11,5915,11,5921,null,null,null,null,0,111]
[11,6135,11,6140,11,6151,null,null,null,null,1,111]

{"sheet":"!M71592D.ust","index":24,"n_rows":48,"n_cols":48,"rows_kept":48,"cut":false,"hidden":false,"merged":[[4,39,4,42],[5,39,5,40],[4,44,4,47],[5,44,5,45],[4,24,4,27],[5,24,5,25],[4,29,4,32],[5,29,5,30],[4,34,4,37],[5,34,5,35],[1,1,1,2],[5,13,5,14],[18,13,18,14],[19,13,19,14],[4,19,4,22],[5,19,5,20]]}
["Report for:!M71592D.ust"]
["Date:","<date>"]
["Hen:","<hen>",null,null,null,"Correct Sequence",{"$f":"Start!J2","v":111},null,null,null,null,null,null,null,null,"Total Sequences in Data",{"$f":"4994-COUNTBLANK(L7:L5000)","v":42},null,null,null,null,"Total Sequences in Block Data",{"$f":"COUNTA(L7:L13)","v":7},null,null,null,"Total Sequences in Block Data",{"$f":"COUNTA(L14:L20)","v":7},null,null,null,"Total Sequences in Block Data",{"$f":"COUNTA(L21:L27)","v":7},null,null,null,"Total Sequences in Block Data",{"$f":"COUNTA(L28:L34)","v":7},null,null,null,"Total Sequences in Block Data",{"$f":"COUNTA(L35:L41)","v":7},null,null,null,"Total Sequences in Block Data",{"$f":"COUNTA(L42:L48)","v":7}]
[null,null,null,null,null,null,null,null,null,null,null,null,null,null,null,"Total Sequences in Summary",{"$f":"SUM(O7:O14)","v":42},null,null,null,null,"Total Sequences in Block Summary",{"$f":"SUM(U7:U14)","v":7},null,null,null,"Total Sequences in Block Summary",{"$f":"SUM(Z7:Z14)","v":7},null,null,null,"Total Sequences in Block Summary",{"$f":"SUM(AE7:AE14)","v":7},null,null,null,"Total Sequences in Block Summary",{"$f":"SUM(AJ7:AJ14)","v":7},null,null,null,"Total Sequences in Block Summary",{"$f":"SUM(AO7:AO14)","v":7},null,null,null,"Total Sequences in Block Summary",{"$f":"SUM(AT7:AT14)","v":7}]
[null,null,null,null,null,null,null,null,null,null,null,null,null,null,null,null,null,null,null,"Block 1",null,null,null,null,"Block 2",null,null,null,null,"Block 3",null,null,null,null,"Block 4",null,null,null,null,"Block 5",null,null,null,null,"Block 6"]
["Sequence\nComponent\n1","Time\n1","Sequence\nComponent\n2","Time\n2","Sequence\nComponent\n3","Time\n3","Sequence\nComponent\n4","Time\n4","Sequence\nComponent\n5","Time\n5","Correct?\n0=No 1=Yes","Sequence",null,"Frequency",null,"Relative Frequency","Variability",null,null,"Frequency",null,"Relative Frequency","Variability",null,"Frequency",null,"Relative Frequency","Variability",null,"Frequency",null,"Relative Frequency","Variability",null,"Frequency",null,"Relative Frequency","Variability",null,"Frequency",null,"Relative Frequency","Variability",null,"Frequency",null,"Relative Frequency","Variability"]
[22,18,13,29,13,41,null,null,null,null,0,211,null,111,{"$f":"COUNTIF($L$7:$L$500,N7)","v":40},{"$f":"O7/$Q$4","v":0.95238095238095233},{"$f":"IF(P7=0,0,(P7*((LOG(P7))/LOG(2))))","v":-6.7037455134664775E-2},null,null,{"$f":"N7","v":111},{"$f":"COUNTIF(L7:L13,T7)","v":6},null,null,null,{"$f":"N7","v":111},{"$f":"COUNTIF(L14:L20,Y7)","v":7},null,null,null,{"$f":"N7","v":111},{"$f":"COUNTIF(L21:L27,AD7)","v":7},null,null,null,{"$f":"N7","v":111},{"$f":"COUNTIF(L28:L34,AI7)","v":7},null,null,null,{"$f":"N7","v":111},{"$f":"COUNTIF(L35:L41,AN7)","v":7},null,null,null,{"$f":"N7","v":111},{"$f":"COUNTIF(L42:L48,AS7)","v":6}]
[11,142,11,153,11,160,null,null,null,null,0,111,null,112,{"$f":"COUNTIF($L$7:$L$500,N8)","v":0},{"$f":"O8/$Q$4","v":0},{"$f":"IF(P8=0,0,(P8*((LOG(P8))/LOG(2))))","v":0},null,null,{"$f":"N8","v":112},{"$f":"COUNTIF(L7:L13,T8)","v":0},{"$f":"U8/(W4-U7)","v":0},{"$f":"IF(V8=0,0,(V8*((LOG(V8))/LOG(2))))","v":0},null,{"$f":"N8","v":112},{"$f":"COUNTIF(L14:L20,Y8)","v":0},{"$f":"Z8/(AB4-Z7)","v":{"$error":"#DIV/0!"}},{"$f":"IF(AA8=0,0,(AA8*((LOG(AA8))/LOG(2))))","v":{"$error":"#DIV/0!"}},null,{"$f":"N8","v":112},{"$f":"COUNTIF(L21:L27,AD8)","v":0},{"$f":"AE8/(AG4-AE7)","v":{"$error":"#DIV/0!"}},{"$f":"IF(AF8=0,0,(AF8*((LOG(AF8))/LOG(2))))","v":{"$error":"#DIV/0!"}},null,{"$f":"N8","v":112},{"$f":"COUNTIF(L28:L34,AI8)","v":0},{"$f":"AJ8/(AL4-AJ7)","v":{"$error":"#DIV/0!"}},{"$f":"IF(AK8=0,0,(AK8*((LOG(AK8))/LOG(2))))","v":{"$error":"#DIV/0!"}},null,{"$f":"N8","v":112},{"$f":"COUNTIF(L35:L41,AN8)","v":0},{"$f":"AO8/(AQ4-AO7)","v":{"$error":"#DIV/0!"}},{"$f":"IF(AP8=0,0,(AP8*((LOG(AP8))/LOG(2))))","v":{"$error":"#DIV/0!"}},null,{"$f":"N8","v":112},{"$f":"COUNTIF(L42:L48,AS8)","v":0},{"$f":"AT8/(AV4-AT7)","v":0},{"$f":"IF(AU8=0,0,(AU8*((LOG(AU8))/LOG(2))))","v":0}]
[11,280,11,285,11,290,null,null,null,null,0,111,null,121,{"$f":"COUNTIF($L$7:$L$500,N9)","v":0},{"$f":"O9/$Q$4","v":0},{"$f":"IF(P9=0,0,(P9*((LOG(P9))/LOG(2))))","v":0},null,null,{"$f":"N9","v":121},{"$f":"COUNTIF(L7:L13,T9)","v":0},{"$f":"U9/(W4-U7)","v":0},{"$f":"IF(V9=0,0,(V9*((LOG(V9))/LOG(2))))","v":0},null,{"$f":"N9","v":121},{"$f":"COUNTIF(L14:L20,Y9)","v":0},{"$f":"Z9/(AB4-Z7)","v":{"$error":"#DIV/0!"}},{"$f":"IF(AA9=0,0,(AA9*((LOG(AA9))/LOG(2))))","v":{"$error":"#DIV/0!"}},null,{"$f":"N9","v":121},{"$f":"COUNTIF(L21:L27,AD9)","v":0},{"$f":"AE9/(AG4-AE7)","v":{"$error":"#DIV/0!"}},{"$f":"IF(AF9=0,0,(AF9*((LOG(AF9))/LOG(2))))","v":{"$error":"#DIV/0!"}},null,{"$f":"N9","v":121},{"$f":"COUNTIF(L28:L34,AI9)","v":0},{"$f":"AJ9/(AL4-AJ7)","v":{"$error":"#DIV/0!"}},{"$f":"IF(AK9=0,0,(AK9*((LOG(AK9))/LOG(2))))","v":{"$error":"#DIV/0!"}},null,{"$f":"N9","v":121},{"$f":"COUNTIF(L35:L41,AN9)","v":0},{"$f":"AO9/(AQ4-AO7)","v":{"$error":"#DIV/0!"}},{"$f":"IF(AP9=0,0,(AP9*((LOG(AP9))/LOG(2))))","v":{"$error":"#DIV/0!"}},null,{"$f":"N9","v":121},{"$f":"COUNTIF(L42:L48,AS9)","v":0},{"$f":"AT9/(AV4-AT7)","v":0},{"$f":"IF(AU9=0,0,(AU9*((LOG(AU9))/LOG(2))))","v":0}]
[11,404,11,407,11,411,null,null,null,null,0,111,null,122,{"$f":"COUNTIF($L$7:$L$500,N10)","v":0},{"$f":"O10/$Q$4","v":0},{"$f":"IF(P10=0,0,(P10*((LOG(P10))/LOG(2))))","v":0},null,null,{"$f":"N10","v":122},{"$f":"COUNTIF(L7:L13,T10)","v":0},{"$f":"U10/(W4-U7)","v":0},{"$f":"IF(V10=0,0,(V10*((LOG(V10))/LOG(2))))","v":0},null,{"$f":"N10","v":122},{"$f":"COUNTIF(L14:L20,Y10)","v":0},{"$f":"Z10/(AB4-Z7)","v":{"$error":"#DIV/0!"}},{"$f":"IF(AA10=0,0,(AA10*((LOG(AA10))/LOG(2))))","v":{"$error":"#DIV/0!"}},null,{"$f":"N10","v":122},{"$f":"COUNTIF(L21:L27,AD10)","v":0},{"$f":"AE10/(AG4-AE7)","v":{"$error":"#DIV/0!"}},{"$f":"IF(AF10=0,0,(AF10*((LOG(AF10))/LOG(2))))","v":{"$error":"#DIV/0!"}},null,{"$f":"N10","v":122},{"$f":"COUNTIF(L28:L34,AI10)","v":0},{"$f":"AJ10/(AL4-AJ7)","v":{"$error":"#DIV/0!"}},{"$f":"IF(AK10=0,0,(AK10*((LOG(AK10))/LOG(2))))","v":{"$error":"#DIV/0!"}},null,{"$f":"N10","v":122},{"$f":"COUNTIF(L35:L41,AN10)","v":0},{"$f":"AO10/(AQ4-AO7)","v":{"$error":"#DIV/0!"}},{"$f":"IF(AP10=0,0,(AP10*((LOG(AP10))/LOG(2))))","v":{"$error":"#DIV/0!"}},null,{"$f":"N10","v":122},{"$f":"COUNTIF(L42:L48,AS10)","v":0},{"$f":"AT10/(AV4-AT7)","v":0},{"$f":"IF(AU10=0,0,(AU10*((LOG(AU10))/LOG(2))))","v":0}]
[11,510,11,516,11,526,null,null,null,null,0,111,null,211,{"$f":"COUNTIF($L$7:$L$500,N11)","v":2},{"$f":"O11/$Q$4","v":4.7619047619047616E-2},{"$f":"IF(P11=0,0,(P11*((LOG(P11))/LOG(2))))","v":-0.20915797251327431},null,null,{"$f":"N11","v":211},{"$f":"COUNTIF(L7:L13,T11)","v":1},{"$f":"U11/(W4-U7)","v":1},{"$f":"IF(V11=0,0,(V11*((LOG(V11))/LOG(2))))","v":0},null,{"$f":"N11","v":211},{"$f":"COUNTIF(L14:L20,Y11)","v":0},{"$f":"Z11/(AB4-Z7)","v":{"$error":"#DIV/0!"}},{"$f":"IF(AA11=0,0,(AA11*((LOG(AA11))/LOG(2))))","v":{"$error":"#DIV/0!"}},null,{"$f":"N11","v":211},{"$f":"COUNTIF(L21:L27,AD11)","v":0},{"$f":"AE11/(AG4-AE7)","v":{"$error":"#DIV/0!"}},{"$f":"IF(AF11=0,0,(AF11*((LOG(AF11))/LOG(2))))","v":{"$error":"#DIV/0!"}},null,{"$f":"N11","v":211},{"$f":"COUNTIF(L28:L34,AI11)","v":0},{"$f":"AJ11/(AL4-AJ7)","v":{"$error":"#DIV/0!"}},{"$f":"IF(AK11=0,0,(AK11*((LOG(AK11))/LOG(2))))","v":{"$error":"#DIV/0!"}},null,{"$f":"N11","v":211},{"$f":"COUNTIF(L35:L41,AN11)","v":0},{"$f":"AO11/(AQ4-AO7)","v":{"$error":"#DIV/0!"}},{"$f":"IF(AP11=0,0,(AP11*((LOG(AP11))/LOG(2))))","v":{"$error":"#DIV/0!"}},null,{"$f":"N11","v":211},{"$f":"COUNTIF(L42:L48,AS11)","v":1},{"$f":"AT11/(AV4-AT7)","v":1},{"$f":"IF(AU11=0,0,(AU11*((LOG(AU11))/LOG(2))))","v":0}]
[11,660,11,668,11,676,null,null,null,null,0,111,null,212,{"$f":"COUNTIF($L$7:$L$500,N12)","v":0},{"$f":"O12/$Q$4","v":0},{"$f":"IF(P12=0,0,(P12*((LOG(P12))/LOG(2))))","v":0},null,null,{"$f":"N12","v":212},{"$f":"COUNTIF(L7:L13,T12)","v":0},{"$f":"U12/(W4-U7)","v":0},{"$f":"IF(V12=0,0,(V12*((LOG(V12))/LOG(2))))","v":0},null,{"$f":"N12","v":212},{"$f":"COUNTIF(L14:L20,Y12)","v":0},{"$f":"Z12/(AB4-Z7)","v":{"$error":"#DIV/0!"}},{"$f":"IF(AA12=0,0,(AA12*((LOG(AA12))/LOG(2))))","v":{"$error":"#DIV/0!"}},null,{"$f":"N12","v":212},{"$f":"COUNTIF(L21:L27,AD12)","v":0},{"$f":"AE12/(AG4-AE7)","v":{"$error":"#DIV/0!"}},{"$f":"IF(AF12=0,0,(AF12*((LOG(AF12))/LOG(2))))","v":{"$error":"#DIV/0!"}},null,{"$f":"N12","v":212},{"$f":"COUNTIF(L28:L34,AI12)","v":0},{"$f":"AJ12/(AL4-AJ7)","v":{"$error":"#DIV/0!"}},{"$f":"IF(AK12=0,0,(AK12*((LOG(AK12))/LOG(2))))","v":{"$error":"#DIV/0!"}},null,{"$f":"N12","v":212},{"$f":"COUNTIF(L35:L41,AN12)","v":0},{"$f":"AO12/(AQ4-AO7)","v":{"$error":"#DIV/0!"}},{"$f":"IF(AP12=0,0,(AP12*((LOG(AP12))/LOG(2))))","v":{"$error":"#DIV/0!"}},null,{"$f":"N12","v":212},{"$f":"COUNTIF(L42:L48,AS12)","v":0},{"$f":"AT12/(AV4-AT7)","v":0},{"$f":"IF(AU12=0,0,(AU12*((LOG(AU12))/LOG(2))))","v":0}]
[11,799,11,803,11,811,null,null,null,null,0,111,null,221,{"$f":"COUNTIF($L$7:$L$500,N13)","v":0},{"$f":"O13/$Q$4","v":0},{"$f":"IF(P13=0,0,(P13*((LOG(P13))/LOG(2))))","v":0},null,null,{"$f":"N13","v":221},{"$f":"COUNTIF(L7:L13,T13)","v":0},{"$f":"U13/(W4-U7)","v":0},{"$f":"IF(V13=0,0,(V13*((LOG(V13))/LOG(2))))","v":0},null,{"$f":"N13","v":221},{"$f":"COUNTIF(L14:L20,Y13)","v":0},{"$f":"Z13/(AB4-Z7)","v":{"$error":"#DIV/0!"}},{"$f":"IF(AA13=0,0,(AA13*((LOG(AA13))/LOG(2))))","v":{"$error":"#DIV/0!"}},null,{"$f":"N13","v":221},{"$f":"COUNTIF(L21:L27,AD13)","v":0},{"$f":"AE13/(AG4-AE7)","v":{"$error":"#DIV/0!"}},{"$f":"IF(AF13=0,0,(AF13*((LOG(AF13))/LOG(2))))","v":{"$error":"#DIV/0!"}},null,{"$f":"N13","v":221},{"$f":"COUNTIF(L28:L34,AI13)","v":0},{"$f":"AJ13/(AL4-AJ7)","v":{"$error":"#DIV/0!"}},{"$f":"IF(AK13=0,0,(AK13*((LOG(AK13))/LOG(2))))","v":{"$error":"#DIV/0!"}},null,{"$f":"N13","v":221},{"$f":"COUNTIF(L35:L41,AN13)","v":0},{"$f":"AO13/(AQ4-AO7)","v":{"$error":"#DIV/0!"}},{"$f":"IF(AP13=0,0,(AP13*((LOG(AP13))/LOG(2))))","v":{"$error":"#DIV/0!"}},null,{"$f":"N13","v":221},{"$f":"COUNTIF(L42:L48,AS13)","v":0},{"$f":"AT13/(AV4-AT7)","v":0},{"$f":"IF(AU13=0,0,(AU13*((LOG(AU13))/LOG(2))))","v":0}]
[11,957,11,962,11,970,null,null,null,null,0,111,null,222,{"$f":"COUNTIF($L$7:$L$500,N14)","v":0},{"$f":"O14/$Q$4","v":0},{"$f":"IF(P14=0,0,(P14*((LOG(P14))/LOG(2))))","v":0},null,null,{"$f":"N14","v":222},{"$f":"COUNTIF(L7:L13,T14)","v":0},{"$f":"U14/(W4-U7)","v":0},{"$f":"IF(V14=0,0,(V14*((LOG(V14))/LOG(2))))","v":0},null,{"$f":"N14","v":222},{"$f":"COUNTIF(L14:L20,Y14)","v":0},{"$f":"Z14/(AB4-Z7)","v":{"$error":"#DIV/0!"}},{"$f":"IF(AA14=0,0,(AA14*((LOG(AA14))/LOG(2))))","v":{"$error":"#DIV/0!"}},null,{"$f":"N14","v":222},{"$f":"COUNTIF(L21:L27,AD14)","v":0},{"$f":"AE14/(AG4-AE7)","v":{"$error":"#DIV/0!"}},{"$f":"IF(AF14=0,0,(AF14*((LOG(AF14))/LOG(2))))","v":{"$error":"#DIV/0!"}},null,{"$f":"N14","v":222},{"$f":"COUNTIF(L28:L34,AI14)","v":0},{"$f":"AJ14/(AL4-AJ7)","v":{"$error":"#DIV/0!"}},{"$f":"IF(AK14=0,0,(AK14*((LOG(AK14))/LOG(2))))","v":{"$error":"#DIV/0!"}},null,{"$f":"N14","v":222},{"$f":"COUNTIF(L35:L41,AN14)","v":0},{"$f":"AO14/(AQ4-AO7)","v":{"$error":"#DIV/0!"}},{"$f":"IF(AP14=0,0,(AP14*((LOG(AP14))/LOG(2))))","v":{"$error":"#DIV/0!"}},null,{"$f":"N14","v":222},{"$f":"COUNTIF(L42:L48,AS14)","v":0},{"$f":"AT14/(AV4-AT7)","v":0},{"$f":"IF(AU14=0,0,(AU14*((LOG(AU14))/LOG(2))))","v":0}]
[11,1083,11,1090,11,1099,null,null,null,null,0,111,null,null,null,{"$f":"SUM(P7:P14)","v":1},{"$f":"-SUM(Q7:Q14)","v":0.27619542764793908},null,null,null,null,{"$f":"SUM(V7:V14)","v":1},{"$f":"-SUM(W7:W14)","v":0},null,null,null,{"$f":"SUM(AA7:AA14)","v":{"$error":"#DIV/0!"}},{"$f":"-SUM(AB7:AB14)","v":{"$error":"#DIV/0!"}},null,null,null,{"$f":"SUM(AF7:AF14)","v":{"$error":"#DIV/0!"}},{"$f":"-SUM(AG7:AG14)","v":{"$error":"#DIV/0!"}},null,null,null,{"$f":"SUM(AK7:AK14)","v":{"$error":"#DIV/0!"}},{"$f":"-SUM(AL7:AL14)","v":{"$error":"#DIV/0!"}},null,null,null,{"$f":"SUM(AP7:AP14)","v":{"$error":"#DIV/0!"}},{"$f":"-SUM(AQ7:AQ14)","v":{"$error":"#DIV/0!"}},null,null,null,{"$f":"SUM(AU7:AU14)","v":1},{"$f":"-SUM(AV7:AV14)","v":0}]
[11,1284,11,1290,11,1299,null,null,null,null,0,111,null,null,null,"U=",{"$f":"Q15/(LOG(Q4)/LOG(2))","v":5.1220172329100477E-2},null,null,null,null,"U1=",{"$f":"W15/(LOG(W4)/LOG(2))","v":0},null,null,null,"U2=",{"$f":"AB15/(LOG(AB4)/LOG(2))","v":{"$error":"#DIV/0!"}},null,null,null,"U3=",{"$f":"AG15/(LOG(AG4)/LOG(2))","v":{"$error":"#DIV/0!"}},null,null,null,"U4=",{"$f":"AL15/(LOG(AL4)/LOG(2))","v":{"$error":"#DIV/0!"}},null,null,null,"U5=",{"$f":"AQ15/(LOG(AQ4)/LOG(2))","v":{"$error":"#DIV/0!"}},null,null,null,"U6=",{"$f":"AV15/(LOG(AV4)/LOG(2))","v":0}]
[11,1425,11,1428,11,1438,null,null,null,null,0,111]
[11,1575,11,1587,11,1602,null,null,null,null,0,111]
[11,1747,11,1754,11,1778,null,null,null,null,0,111,null,"Total Target Seq"]
[11,1871,11,1884,11,1903,null,null,null,null,0,111,null,{"$f":"COUNTIF(L7:L48,G3)","v":40},null,7,7,7,7,7,7]
[11,2007,11,2014,11,2023,null,null,null,null,0,111,null,null,null,"% of reinforcement given in 6 equal intervals based on number of trials "]
[11,2181,11,2187,11,2195,null,null,null,null,0,111,null,null,null,"%_1","%_2","%_3","%_4","%_5","%_6"]
[11,2295,11,2302,11,2308,null,null,null,null,0,111,null,null,"target sequence",{"$f":"$G$3","v":111},{"$f":"$G$3","v":111},{"$f":"$G$3","v":111},{"$f":"$G$3","v":111},{"$f":"$G$3","v":111},{"$f":"$G$3","v":111}]
[11,2441,11,2463,11,2483,null,null,null,null,0,111,null,null,"total reinforcement",{"$f":"U7","v":6},{"$f":"Z7","v":7},{"$f":"AE7","v":7},{"$f":"AJ7","v":7},{"$f":"AO7","v":7},{"$f":"AT7","v":6}]
[11,2608,11,2614,11,2620,null,null,null,null,0,111,null,null,"% target"]
[11,2721,11,2731,11,2736,null,null,null,null,0,111,null,null,"CCRF"]
[11,2842,11,2848,11,2855,null,null,null,null,0,111,null,null,"% CCRf"]
[11,2950,11,2957,11,2967,null,null,null,null,0,111,null,null,"average response rate",{"$f":"F13/P20","v":115.85714285714286},{"$f":"(F20-F13)/Q20","v":156},{"$f":"(F27-F20)/R20","v":136},{"$f":"(F34-F27)/S20","v":149.57142857142858},{"$f":"(F41-F34)/T20","v":161.28571428571428},{"$f":"(F48-F41)/U20","v":156.14285714285714}]
[11,3133,11,3139,11,3146,null,null,null,null,0,111]
[11,3268,11,3281,11,3297,null,null,null,null,0,111]
[11,3423,11,3427,11,3434,null,null,null,null,0,111]
[11,3616,11,3627,11,3633,null,null,null,null,0,111]
[11,3770,11,3777,11,3784,null,null,null,null,0,111]
[11,3888,11,3895,11,3902,null,null,null,null,0,111]
[11,4005,11,4011,11,4022,null,null,null,null,0,111]
[11,4213,11,4222,11,4231,null,null,null,null,0,111]
[11,4365,11,4374,11,4381,null,null,null,null,0,111]
[11,4535,11,4541,11,4546,null,null,null,null,0,111]
[11,4643,11,4653,11,4667,null,null,null,null,0,111]
[11,4853,11,4859,11,4874,null,null,null,null,0,111]
[11,5010,11,5016,11,5031,null,null,null,null,0,111]
[11,5170,11,5177,11,5185,null,null,null,null,0,111]
[11,5326,11,5330,11,5337,null,null,null,null,0,111]
[11,5460,11,5466,11,5496,null,null,null,null,0,111]
[22,5631,13,5641,13,5648,null,null,null,null,0,211]
[11,5752,11,5765,11,5772,null,null,null,null,0,111]
[11,5965,11,5971,11,5977,null,null,null,null,0,111]
[11,6109,11,6117,11,6124,null,null,null,null,1,111]

{"sheet":"!M716A1D.ust","index":25,"n_rows":46,"n_cols":48,"rows_kept":46,"cut":false,"hidden":false,"merged":[[4,39,4,42],[5,39,5,40],[4,44,4,47],[5,44,5,45],[4,24,4,27],[5,24,5,25],[4,29,4,32],[5,29,5,30],[4,34,4,37],[5,34,5,35],[1,1,1,2],[5,13,5,14],[18,13,18,14],[19,13,19,14],[4,19,4,22],[5,19,5,20]]}
["Report for:!M716A1D.ust"]
["Date:","<date>"]
["Hen:","<hen>",null,null,null,"Correct Sequence",{"$f":"Start!J2","v":111},null,null,null,null,null,null,null,null,"Total Sequences in Data",{"$f":"4994-COUNTBLANK(L7:L5000)","v":40},null,null,null,null,"Total Sequences in Block Data",{"$f":"COUNTA(L7:L13)","v":7},null,null,null,"Total Sequences in Block Data",{"$f":"COUNTA(L14:L19)","v":6},null,null,null,"Total Sequences in Block Data",{"$f":"COUNTA(L20:L26)","v":7},null,null,null,"Total Sequences in Block Data",{"$f":"COUNTA(L27:L33)","v":7},null,null,null,"Total Sequences in Block Data",{"$f":"COUNTA(L34:L39)","v":6},null,null,null,"Total Sequences in Block Data",{"$f":"COUNTA(L40:L46)","v":7}]
[null,null,null,null,null,null,null,null,null,null,null,null,null,null,null,"Total Sequences in Summary",{"$f":"SUM(O7:O14)","v":40},null,null,null,null,"Total Sequences in Block Summary",{"$f":"SUM(U7:U14)","v":7},null,null,null,"Total Sequences in Block Summary",{"$f":"SUM(Z7:Z14)","v":6},null,null,null,"Total Sequences in Block Summary",{"$f":"SUM(AE7:AE14)","v":7},null,null,null,"Total Sequences in Block Summary",{"$f":"SUM(AJ7:AJ14)","v":7},null,null,null,"Total Sequences in Block Summary",{"$f":"SUM(AO7:AO14)","v":6},null,null,null,"Total Sequences in Block Summary",{"$f":"SUM(AT7:AT14)","v":7}]
[null,null,null,null,null,null,null,null,null,null,null,null,null,null,null,null,null,null,null,"Block 1",null,null,null,null,"Block 2",null,null,null,null,"Block 3",null,null,null,null,"Block 4",null,null,null,null,"Block 5",null,null,null,null,"Block 6"]
["Sequence\nComponent\n1","Time\n1","Sequence\nComponent\n2","Time\n2","Sequence\nComponent\n3","Time\n3","Sequence\nComponent\n4","Time\n4","Sequence\nComponent\n5","Time\n5","Correct?\n0=No 1=Yes","Sequence",null,"Frequency",null,"Relative Frequency","Variability",null,null,"Frequency",null,"Relative Frequency","Variability",null,"Frequency",null,"Relative Frequency","Variability",null,"Frequency",null,"Relative Frequency","Variability",null,"Frequency",null,"Relative Frequency","Variability",null,"Frequency",null,"Relative Frequency","Variability",null,"Frequency",null,"Relative Frequency","Variability"]
[11,6,11,12,11,17,null,null,null,null,0,111,null,111,{"$f":"COUNTIF($L$7:$L$500,N7)","v":40},{"$f":"O7/$Q$4","v":1},{"$f":"IF(P7=0,0,(P7*((LOG(P7))/LOG(2))))","v":0},null,null,{"$f":"N7","v":111},{"$f":"COUNTIF(L7:L13,T7)","v":7},null,null,null,{"$f":"N7","v":111},{"$f":"COUNTIF(L14:L19,Y7)","v":6},null,null,null,{"$f":"N7","v":111},{"$f":"COUNTIF(L20:L26,AD7)","v":7},null,null,null,{"$f":"N7","v":111},{"$f":"COUNTIF(L27:L33,AI7)","v":7},null,null,null,{"$f":"N7","v":111},{"$f":"COUNTIF(L34:L39,AN7)","v":6},null,null,null,{"$f":"N7","v":111},{"$f":"COUNTIF(L40:L46,AS7)","v":7}]
[11,122,11,125,11,132,null,null,null,null,0,111,null,112,{"$f":"COUNTIF($L$7:$L$500,N8)","v":0},{"$f":"O8/$Q$4","v":0},{"$f":"IF(P8=0,0,(P8*((LOG(P8))/LOG(2))))","v":0},null,null,{"$f":"N8","v":112},{"$f":"COUNTIF(L7:L13,T8)","v":0},{"$f":"U8/(W4-U7)","v":{"$error":"#DIV/0!"}},{"$f":"IF(V8=0,0,(V8*((LOG(V8))/LOG(2))))","v":{"$error":"#DIV/0!"}},null,{"$f":"N8","v":112},{"$f":"COUNTIF(L14:L19,Y8)","v":0},{"$f":"Z8/(AB4-Z7)","v":{"$error":"#DIV/0!"}},{"$f":"IF(AA8=0,0,(AA8*((LOG(AA8))/LOG(2))))","v":{"$error":"#DIV/0!"}},null,{"$f":"N8","v":112},{"$f":"COUNTIF(L20:L26,AD8)","v":0},{"$f":"AE8/(AG4-AE7)","v":{"$error":"#DIV/0!"}},{"$f":"IF(AF8=0,0,(AF8*((LOG(AF8))/LOG(2))))","v":{"$error":"#DIV/0!"}},null,{"$f":"N8","v":112},{"$f":"COUNTIF(L27:L33,AI8)","v":0},{"$f":"AJ8/(AL4-AJ7)","v":{"$error":"#DIV/0!"}},{"$f":"IF(AK8=0,0,(AK8*((LOG(AK8))/LOG(2))))","v":{"$error":"#DIV/0!"}},null,{"$f":"N8","v":112},{"$f":"COUNTIF(L34:L39,AN8)","v":0},{"$f":"AO8/(AQ4-AO7)","v":{"$error":"#DIV/0!"}},{"$f":"IF(AP8=0,0,(AP8*((LOG(AP8))/LOG(2))))","v":{"$error":"#DIV/0!"}},null,{"$f":"N8","v":112},{"$f":"COUNTIF(L40:L46,AS8)","v":0},{"$f":"AT8/(AV4-AT7)","v":{"$error":"#DIV/0!"}},{"$f":"IF(AU8=0,0,(AU8*((LOG(AU8))/LOG(2))))","v":{"$error":"#DIV/0!"}}]
[11,245,11,252,11,260,null,null,null,null,0,111,null,121,{"$f":"COUNTIF($L$7:$L$500,N9)","v":0},{"$f":"O9/$Q$4","v":0},{"$f":"IF(P9=0,0,(P9*((LOG(P9))/LOG(2))))","v":0},null,null,{"$f":"N9","v":121},{"$f":"COUNTIF(L7:L13,T9)","v":0},{"$f":"U9/(W4-U7)","v":{"$error":"#DIV/0!"}},{"$f":"IF(V9=0,0,(V9*((LOG(V9))/LOG(2))))","v":{"$error":"#DIV/0!"}},null,{"$f":"N9","v":121},{"$f":"COUNTIF(L14:L19,Y9)","v":0},{"$f":"Z9/(AB4-Z7)","v":{"$error":"#DIV/0!"}},{"$f":"IF(AA9=0,0,(AA9*((LOG(AA9))/LOG(2))))","v":{"$error":"#DIV/0!"}},null,{"$f":"N9","v":121},{"$f":"COUNTIF(L20:L26,AD9)","v":0},{"$f":"AE9/(AG4-AE7)","v":{"$error":"#DIV/0!"}},{"$f":"IF(AF9=0,0,(AF9*((LOG(AF9))/LOG(2))))","v":{"$error":"#DIV/0!"}},null,{"$f":"N9","v":121},{"$f":"COUNTIF(L27:L33,AI9)","v":0},{"$f":"AJ9/(AL4-AJ7)","v":{"$error":"#DIV/0!"}},{"$f":"IF(AK9=0,0,(AK9*((LOG(AK9))/LOG(2))))","v":{"$error":"#DIV/0!"}},null,{"$f":"N9","v":121},{"$f":"COUNTIF(L34:L39,AN9)","v":0},{"$f":"AO9/(AQ4-AO7)","v":{"$error":"#DIV/0!"}},{"$f":"IF(AP9=0,0,(AP9*((LOG(AP9))/LOG(2))))","v":{"$error":"#DIV/0!"}},null,{"$f":"N9","v":121},{"$f":"COUNTIF(L40:L46,AS9)","v":0},{"$f":"AT9/(AV4-AT7)","v":{"$error":"#DIV/0!"}},{"$f":"IF(AU9=0,0,(AU9*((LOG(AU9))/LOG(2))))","v":{"$error":"#DIV/0!"}}]
[11,355,11,364,11,369,null,null,null,null,0,111,null,122,{"$f":"COUNTIF($L$7:$L$500,N10)","v":0},{"$f":"O10/$Q$4","v":0},{"$f":"IF(P10=0,0,(P10*((LOG(P10))/LOG(2))))","v":0},null,null,{"$f":"N10","v":122},{"$f":"COUNTIF(L7:L13,T10)","v":0},{"$f":"U10/(W4-U7)","v":{"$error":"#DIV/0!"}},{"$f":"IF(V10=0,0,(V10*((LOG(V10))/LOG(2))))","v":{"$error":"#DIV/0!"}},null,{"$f":"N10","v":122},{"$f":"COUNTIF(L14:L19,Y10)","v":0},{"$f":"Z10/(AB4-Z7)","v":{"$error":"#DIV/0!"}},{"$f":"IF(AA10=0,0,(AA10*((LOG(AA10))/LOG(2))))","v":{"$error":"#DIV/0!"}},null,{"$f":"N10","v":122},{"$f":"COUNTIF(L20:L26,AD10)","v":0},{"$f":"AE10/(AG4-AE7)","v":{"$error":"#DIV/0!"}},{"$f":"IF(AF10=0,0,(AF10*((LOG(AF10))/LOG(2))))","v":{"$error":"#DIV/0!"}},null,{"$f":"N10","v":122},{"$f":"COUNTIF(L27:L33,AI10)","v":0},{"$f":"AJ10/(AL4-AJ7)","v":{"$error":"#DIV/0!"}},{"$f":"IF(AK10=0,0,(AK10*((LOG(AK10))/LOG(2))))","v":{"$error":"#DIV/0!"}},null,{"$f":"N10","v":122},{"$f":"COUNTIF(L34:L39,AN10)","v":0},{"$f":"AO10/(AQ4-AO7)","v":{"$error":"#DIV/0!"}},{"$f":"IF(AP10=0,0,(AP10*((LOG(AP10))/LOG(2))))","v":{"$error":"#DIV/0!"}},null,{"$f":"N10","v":122},{"$f":"COUNTIF(L40:L46,AS10)","v":0},{"$f":"AT10/(AV4-AT7)","v":{"$error":"#DIV/0!"}},{"$f":"IF(AU10=0,0,(AU10*((LOG(AU10))/LOG(2))))","v":{"$error":"#DIV/0!"}}]
[11,541,11,548,11,564,null,null,null,null,0,111,null,211,{"$f":"COUNTIF($L$7:$L$500,N11)","v":0},{"$f":"O11/$Q$4","v":0},{"$f":"IF(P11=0,0,(P11*((LOG(P11))/LOG(2))))","v":0},null,null,{"$f":"N11","v":211},{"$f":"COUNTIF(L7:L13,T11)","v":0},{"$f":"U11/(W4-U7)","v":{"$error":"#DIV/0!"}},{"$f":"IF(V11=0,0,(V11*((LOG(V11))/LOG(2))))","v":{"$error":"#DIV/0!"}},null,{"$f":"N11","v":211},{"$f":"COUNTIF(L14:L19,Y11)","v":0},{"$f":"Z11/(AB4-Z7)","v":{"$error":"#DIV/0!"}},{"$f":"IF(AA11=0,0,(AA11*((LOG(AA11))/LOG(2))))","v":{"$error":"#DIV/0!"}},null,{"$f":"N11","v":211},{"$f":"COUNTIF(L20:L26,AD11)","v":0},{"$f":"AE11/(AG4-AE7)","v":{"$error":"#DIV/0!"}},{"$f":"IF(AF11=0,0,(AF11*((LOG(AF11))/LOG(2))))","v":{"$error":"#DIV/0!"}},null,{"$f":"N11","v":211},{"$f":"COUNTIF(L27:L33,AI11)","v":0},{"$f":"AJ11/(AL4-AJ7)","v":{"$error":"#DIV/0!"}},{"$f":"IF(AK11=0,0,(AK11*((LOG(AK11))/LOG(2))))","v":{"$error":"#DIV/0!"}},null,{"$f":"N11","v":211},{"$f":"COUNTIF(L34:L39,AN11)","v":0},{"$f":"AO11/(AQ4-AO7)","v":{"$error":"#DIV/0!"}},{"$f":"IF(AP11=0,0,(AP11*((LOG(AP11))/LOG(2))))","v":{"$error":"#DIV/0!"}},null,{"$f":"N11","v":211},{"$f":"COUNTIF(L40:L46,AS11)","v":0},{"$f":"AT11/(AV4-AT7)","v":{"$error":"#DIV/0!"}},{"$f":"IF(AU11=0,0,(AU11*((LOG(AU11))/LOG(2))))","v":{"$error":"#DIV/0!"}}]
[11,701,11,705,11,711,null,null,null,null,0,111,null,212,{"$f":"COUNTIF($L$7:$L$500,N12)","v":0},{"$f":"O12/$Q$4","v":0},{"$f":"IF(P12=0,0,(P12*((LOG(P12))/LOG(2))))","v":0},null,null,{"$f":"N12","v":212},{"$f":"COUNTIF(L7:L13,T12)","v":0},{"$f":"U12/(W4-U7)","v":{"$error":"#DIV/0!"}},{"$f":"IF(V12=0,0,(V12*((LOG(V12))/LOG(2))))","v":{"$error":"#DIV/0!"}},null,{"$f":"N12","v":212},{"$f":"COUNTIF(L14:L19,Y12)","v":0},{"$f":"Z12/(AB4-Z7)","v":{"$error":"#DIV/0!"}},{"$f":"IF(AA12=0,0,(AA12*((LOG(AA12))/LOG(2))))","v":{"$error":"#DIV/0!"}},null,{"$f":"N12","v":212},{"$f":"COUNTIF(L20:L26,AD12)","v":0},{"$f":"AE12/(AG4-AE7)","v":{"$error":"#DIV/0!"}},{"$f":"IF(AF12=0,0,(AF12*((LOG(AF12))/LOG(2))))","v":{"$error":"#DIV/0!"}},null,{"$f":"N12","v":212},{"$f":"COUNTIF(L27:L33,AI12)","v":0},{"$f":"AJ12/(AL4-AJ7)","v":{"$error":"#DIV/0!"}},{"$f":"IF(AK12=0,0,(AK12*((LOG(AK12))/LOG(2))))","v":{"$error":"#DIV/0!"}},null,{"$f":"N12","v":212},{"$f":"COUNTIF(L34:L39,AN12)","v":0},{"$f":"AO12/(AQ4-AO7)","v":{"$error":"#DIV/0!"}},{"$f":"IF(AP12=0,0,(AP12*((LOG(AP12))/LOG(2))))","v":{"$error":"#DIV/0!"}},null,{"$f":"N12","v":212},{"$f":"COUNTIF(L40:L46,AS12)","v":0},{"$f":"AT12/(AV4-AT7)","v":{"$error":"#DIV/0!"}},{"$f":"IF(AU12=0,0,(AU12*((LOG(AU12))/LOG(2))))","v":{"$error":"#DIV/0!"}}]
[11,906,11,913,11,924,null,null,null,null,0,111,null,221,{"$f":"COUNTIF($L$7:$L$500,N13)","v":0},{"$f":"O13/$Q$4","v":0},{"$f":"IF(P13=0,0,(P13*((LOG(P13))/LOG(2))))","v":0},null,null,{"$f":"N13","v":221},{"$f":"COUNTIF(L7:L13,T13)","v":0},{"$f":"U13/(W4-U7)","v":{"$error":"#DIV/0!"}},{"$f":"IF(V13=0,0,(V13*((LOG(V13))/LOG(2))))","v":{"$error":"#DIV/0!"}},null,{"$f":"N13","v":221},{"$f":"COUNTIF(L14:L19,Y13)","v":0},{"$f":"Z13/(AB4-Z7)","v":{"$error":"#DIV/0!"}},{"$f":"IF(AA13=0,0,(AA13*((LOG(AA13))/LOG(2))))","v":{"$error":"#DIV/0!"}},null,{"$f":"N13","v":221},{"$f":"COUNTIF(L20:L26,AD13)","v":0},{"$f":"AE13/(AG4-AE7)","v":{"$error":"#DIV/0!"}},{"$f":"IF(AF13=0,0,(AF13*((LOG(AF13))/LOG(2))))","v":{"$error":"#DIV/0!"}},null,{"$f":"N13","v":221},{"$f":"COUNTIF(L27:L33,AI13)","v":0},{"$f":"AJ13/(AL4-AJ7)","v":{"$error":"#DIV/0!"}},{"$f":"IF(AK13=0,0,(AK13*((LOG(AK13))/LOG(2))))","v":{"$error":"#DIV/0!"}},null,{"$f":"N13","v":221},{"$f":"COUNTIF(L34:L39,AN13)","v":0},{"$f":"AO13/(AQ4-AO7)","v":{"$error":"#DIV/0!"}},{"$f":"IF(AP13=0,0,(AP13*((LOG(AP13))/LOG(2))))","v":{"$error":"#DIV/0!"}},null,{"$f":"N13","v":221},{"$f":"COUNTIF(L40:L46,AS13)","v":0},{"$f":"AT13/(AV4-AT7)","v":{"$error":"#DIV/0!"}},{"$f":"IF(AU13=0,0,(AU13*((LOG(AU13))/LOG(2))))","v":{"$error":"#DIV/0!"}}]
[11,1064,11,1071,11,1077,null,null,null,null,0,111,null,222,{"$f":"COUNTIF($L$7:$L$500,N14)","v":0},{"$f":"O14/$Q$4","v":0},{"$f":"IF(P14=0,0,(P14*((LOG(P14))/LOG(2))))","v":0},null,null,{"$f":"N14","v":222},{"$f":"COUNTIF(L7:L13,T14)","v":0},{"$f":"U14/(W4-U7)","v":{"$error":"#DIV/0!"}},{"$f":"IF(V14=0,0,(V14*((LOG(V14))/LOG(2))))","v":{"$error":"#DIV/0!"}},null,{"$f":"N14","v":222},{"$f":"COUNTIF(L14:L19,Y14)","v":0},{"$f":"Z14/(AB4-Z7)","v":{"$error":"#DIV/0!"}},{"$f":"IF(AA14=0,0,(AA14*((LOG(AA14))/LOG(2))))","v":{"$error":"#DIV/0!"}},null,{"$f":"N14","v":222},{"$f":"COUNTIF(L20:L26,AD14)","v":0},{"$f":"AE14/(AG4-AE7)","v":{"$error":"#DIV/0!"}},{"$f":"IF(AF14=0,0,(AF14*((LOG(AF14))/LOG(2))))","v":{"$error":"#DIV/0!"}},null,{"$f":"N14","v":222},{"$f":"COUNTIF(L27:L33,AI14)","v":0},{"$f":"AJ14/(AL4-AJ7)","v":{"$error":"#DIV/0!"}},{"$f":"IF(AK14=0,0,(AK14*((LOG(AK14))/LOG(2))))","v":{"$error":"#DIV/0!"}},null,{"$f":"N14","v":222},{"$f":"COUNTIF(L34:L39,AN14)","v":0},{"$f":"AO14/(AQ4-AO7)","v":{"$error":"#DIV/0!"}},{"$f":"IF(AP14=0,0,(AP14*((LOG(AP14))/LOG(2))))","v":{"$error":"#DIV/0!"}},null,{"$f":"N14","v":222},{"$f":"COUNTIF(L40:L46,AS14)","v":0},{"$f":"AT14/(AV4-AT7)","v":{"$error":"#DIV/0!"}},{"$f":"IF(AU14=0,0,(AU14*((LOG(AU14))/LOG(2))))","v":{"$error":"#DIV/0!"}}]
[11,1196,11,1203,11,1209,null,null,null,null,0,111,null,null,null,{"$f":"SUM(P7:P14)","v":1},{"$f":"-SUM(Q7:Q14)","v":0},null,null,null,null,{"$f":"SUM(V7:V14)","v":{"$error":"#DIV/0!"}},{"$f":"-SUM(W7:W14)","v":{"$error":"#DIV/0!"}},null,null,null,{"$f":"SUM(AA7:AA14)","v":{"$error":"#DIV/0!"}},{"$f":"-SUM(AB7:AB14)","v":{"$error":"#DIV/0!"}},null,null,null,{"$f":"SUM(AF7:AF14)","v":{"$error":"#DIV/0!"}},{"$f":"-SUM(AG7:AG14)","v":{"$error":"#DIV/0!"}},null,null,null,{"$f":"SUM(AK7:AK14)","v":{"$error":"#DIV/0!"}},{"$f":"-SUM(AL7:AL14)","v":{"$error":"#DIV/0!"}},null,null,null,{"$f":"SUM(AP7:AP14)","v":{"$error":"#DIV/0!"}},{"$f":"-SUM(AQ7:AQ14)","v":{"$error":"#DIV/0!"}},null,null,null,{"$f":"SUM(AU7:AU14)","v":{"$error":"#DIV/0!"}},{"$f":"-SUM(AV7:AV14)","v":{"$error":"#DIV/0!"}}]
[11,1340,11,1346,11,1354,null,null,null,null,0,111,null,null,null,"U=",{"$f":"Q15/(LOG(Q4)/LOG(2))","v":0},null,null,null,null,"U1=",{"$f":"W15/(LOG(W4)/LOG(2))","v":{"$error":"#DIV/0!"}},null,null,null,"U2=",{"$f":"AB15/(LOG(AB4)/LOG(2))","v":{"$error":"#DIV/0!"}},null,null,null,"U3=",{"$f":"AG15/(LOG(AG4)/LOG(2))","v":{"$error":"#DIV/0!"}},null,null,null,"U4=",{"$f":"AL15/(LOG(AL4)/LOG(2))","v":{"$error":"#DIV/0!"}},null,null,null,"U5=",{"$f":"AQ15/(LOG(AQ4)/LOG(2))","v":{"$error":"#DIV/0!"}},null,null,null,"U6=",{"$f":"AV15/(LOG(AV4)/LOG(2))","v":{"$error":"#DIV/0!"}}]
[11,1450,11,1453,11,1460,null,null,null,null,0,111]
[11,1566,11,1571,11,1577,null,null,null,null,0,111]
[11,1730,11,1735,11,1741,null,null,null,null,0,111,null,"Total Target Seq"]
[11,1912,11,1918,11,1927,null,null,null,null,0,111,null,{"$f":"COUNTIF(L7:L46,G3)","v":40},null,7,6,7,7,6,7]
[11,2108,11,2112,11,2119,null,null,null,null,0,111,null,null,null,"% of reinforcement given in 6 equal intervals based on number of trials "]
[11,2268,11,2278,11,2294,null,null,null,null,0,111,null,null,null,"%_1","%_2","%_3","%_4","%_5","%_6"]
[11,2407,11,2411,11,2420,null,null,null,null,0,111,null,null,"target sequence",{"$f":"$G$3","v":111},{"$f":"$G$3","v":111},{"$f":"$G$3","v":111},{"$f":"$G$3","v":111},{"$f":"$G$3","v":111},{"$f":"$G$3","v":111}]
[11,2544,11,2546,11,2554,null,null,null,null,0,111,null,null,"total reinforcement",{"$f":"U7","v":7},{"$f":"Z7","v":6},{"$f":"AE7","v":7},{"$f":"AJ7","v":7},{"$f":"AO7","v":6},{"$f":"AT7","v":7}]
[11,2741,11,2749,11,2756,null,null,null,null,0,111,null,null,"% target"]
[11,2941,11,2943,11,2951,null,null,null,null,0,111,null,null,"CCRF"]
[11,3116,11,3121,11,3130,null,null,null,null,0,111,null,null,"% CCRf"]
[11,3258,11,3265,11,3271,null,null,null,null,0,111,null,null,"average response rate",{"$f":"F13/P20","v":132},{"$f":"(F19-F13)/Q20","v":136.16666666666666},{"$f":"(F26-F19)/R20","v":172.85714285714286},{"$f":"(F33-F26)/S20","v":164},{"$f":"(F39-F33)/T20","v":175.5},{"$f":"(F46-F39)/U20","v":211.57142857142858}]
[11,3418,11,3425,11,3431,null,null,null,null,0,111]
[11,3534,11,3536,11,3541,null,null,null,null,0,111]
[11,3768,11,3773,11,3794,null,null,null,null,0,111]
[11,3925,11,3930,11,3937,null,null,null,null,0,111]
[11,4088,11,4094,11,4099,null,null,null,null,0,111]
[11,4226,11,4231,11,4237,null,null,null,null,0,111]
[11,4390,11,4393,11,4400,null,null,null,null,0,111]
[11,4655,11,4662,11,4667,null,null,null,null,0,111]
[11,4812,11,4817,11,4823,null,null,null,null,0,111]
[11,4974,11,4980,11,4986,null,null,null,null,0,111]
[11,5141,11,5144,11,5152,null,null,null,null,0,111]
[11,5306,11,5312,11,5322,null,null,null,null,0,111]
[11,5529,11,5532,11,5540,null,null,null,null,0,111]
[11,5683,11,5686,11,5697,null,null,null,null,0,111]
[11,5843,11,5845,11,5853,null,null,null,null,0,111]
[11,6111,11,6116,11,6123,null,null,null,null,0,111]
[11,6353,11,6360,11,6368,null,null,null,null,0,111]
[11,6618,11,6626,11,6633,null,null,null,null,1,111]

{"sheet":"!M718A5D.ust","index":26,"n_rows":46,"n_cols":48,"rows_kept":46,"cut":false,"hidden":false,"merged":[[4,39,4,42],[5,39,5,40],[4,44,4,47],[5,44,5,45],[4,24,4,27],[5,24,5,25],[4,29,4,32],[5,29,5,30],[4,34,4,37],[5,34,5,35],[1,1,1,2],[5,13,5,14],[18,13,18,14],[19,13,19,14],[4,19,4,22],[5,19,5,20]]}
["Report for:!M718A5D.ust"]
["Date:","<date>"]
["Hen:","<hen>",null,null,null,"Correct Sequence",{"$f":"Start!J2","v":111},null,null,null,null,null,null,null,null,"Total Sequences in Data",{"$f":"4994-COUNTBLANK(L7:L5000)","v":40},null,null,null,null,"Total Sequences in Block Data",{"$f":"COUNTA(L7:L13)","v":7},null,null,null,"Total Sequences in Block Data",{"$f":"COUNTA(L14:L19)","v":6},null,null,null,"Total Sequences in Block Data",{"$f":"COUNTA(L20:L26)","v":7},null,null,null,"Total Sequences in Block Data",{"$f":"COUNTA(L27:L33)","v":7},null,null,null,"Total Sequences in Block Data",{"$f":"COUNTA(L34:L39)","v":6},null,null,null,"Total Sequences in Block Data",{"$f":"COUNTA(L40:L46)","v":7}]
[null,null,null,null,null,null,null,null,null,null,null,null,null,null,null,"Total Sequences in Summary",{"$f":"SUM(O7:O14)","v":40},null,null,null,null,"Total Sequences in Block Summary",{"$f":"SUM(U7:U14)","v":7},null,null,null,"Total Sequences in Block Summary",{"$f":"SUM(Z7:Z14)","v":6},null,null,null,"Total Sequences in Block Summary",{"$f":"SUM(AE7:AE14)","v":7},null,null,null,"Total Sequences in Block Summary",{"$f":"SUM(AJ7:AJ14)","v":7},null,null,null,"Total Sequences in Block Summary",{"$f":"SUM(AO7:AO14)","v":6},null,null,null,"Total Sequences in Block Summary",{"$f":"SUM(AT7:AT14)","v":7}]
[null,null,null,null,null,null,null,null,null,null,null,null,null,null,null,null,null,null,null,"Block 1",null,null,null,null,"Block 2",null,null,null,null,"Block 3",null,null,null,null,"Block 4",null,null,null,null,"Block 5",null,null,null,null,"Block 6"]
["Sequence\nComponent\n1","Time\n1","Sequence\nComponent\n2","Time\n2","Sequence\nComponent\n3","Time\n3","Sequence\nComponent\n4","Time\n4","Sequence\nComponent\n5","Time\n5","Correct?\n0=No 1=Yes","Sequence",null,"Frequency",null,"Relative Frequency","Variability",null,null,"Frequency",null,"Relative Frequency","Variability",null,"Frequency",null,"Relative Frequency","Variability",null,"Frequency",null,"Relative Frequency","Variability",null,"Frequency",null,"Relative Frequency","Variability",null,"Frequency",null,"Relative Frequency","Variability",null,"Frequency",null,"Relative Frequency","Variability"]
[11,11,11,17,11,23,null,null,null,null,0,111,null,111,{"$f":"COUNTIF($L$7:$L$500,N7)","v":40},{"$f":"O7/$Q$4","v":1},{"$f":"IF(P7=0,0,(P7*((LOG(P7))/LOG(2))))","v":0},null,null,{"$f":"N7","v":111},{"$f":"COUNTIF(L7:L13,T7)","v":7},null,null,null,{"$f":"N7","v":111},{"$f":"COUNTIF(L14:L19,Y7)","v":6},null,null,null,{"$f":"N7","v":111},{"$f":"COUNTIF(L20:L26,AD7)","v":7},null,null,null,{"$f":"N7","v":111},{"$f":"COUNTIF(L27:L33,AI7)","v":7},null,null,null,{"$f":"N7","v":111},{"$f":"COUNTIF(L34:L39,AN7)","v":6},null,null,null,{"$f":"N7","v":111},{"$f":"COUNTIF(L40:L46,AS7)","v":7}]
[11,172,11,179,11,205,null,null,null,null,0,111,null,112,{"$f":"COUNTIF($L$7:$L$500,N8)","v":0},{"$f":"O8/$Q$4","v":0},{"$f":"IF(P8=0,0,(P8*((LOG(P8))/LOG(2))))","v":0},null,null,{"$f":"N8","v":112},{"$f":"COUNTIF(L7:L13,T8)","v":0},{"$f":"U8/(W4-U7)","v":{"$error":"#DIV/0!"}},{"$f":"IF(V8=0,0,(V8*((LOG(V8))/LOG(2))))","v":{"$error":"#DIV/0!"}},null,{"$f":"N8","v":112},{"$f":"COUNTIF(L14:L19,Y8)","v":0},{"$f":"Z8/(AB4-Z7)","v":{"$error":"#DIV/0!"}},{"$f":"IF(AA8=0,0,(AA8*((LOG(AA8))/LOG(2))))","v":{"$error":"#DIV/0!"}},null,{"$f":"N8","v":112},{"$f":"COUNTIF(L20:L26,AD8)","v":0},{"$f":"AE8/(AG4-AE7)","v":{"$error":"#DIV/0!"}},{"$f":"IF(AF8=0,0,(AF8*((LOG(AF8))/LOG(2))))","v":{"$error":"#DIV/0!"}},null,{"$f":"N8","v":112},{"$f":"COUNTIF(L27:L33,AI8)","v":0},{"$f":"AJ8/(AL4-AJ7)","v":{"$error":"#DIV/0!"}},{"$f":"IF(AK8=0,0,(AK8*((LOG(AK8))/LOG(2))))","v":{"$error":"#DIV/0!"}},null,{"$f":"N8","v":112},{"$f":"COUNTIF(L34:L39,AN8)","v":0},{"$f":"AO8/(AQ4-AO7)","v":{"$error":"#DIV/0!"}},{"$f":"IF(AP8=0,0,(AP8*((LOG(AP8))/LOG(2))))","v":{"$error":"#DIV/0!"}},null,{"$f":"N8","v":112},{"$f":"COUNTIF(L40:L46,AS8)","v":0},{"$f":"AT8/(AV4-AT7)","v":{"$error":"#DIV/0!"}},{"$f":"IF(AU8=0,0,(AU8*((LOG(AU8))/LOG(2))))","v":{"$error":"#DIV/0!"}}]
[11,385,11,392,11,416,null,null,null,null,0,111,null,121,{"$f":"COUNTIF($L$7:$L$500,N9)","v":0},{"$f":"O9/$Q$4","v":0},{"$f":"IF(P9=0,0,(P9*((LOG(P9))/LOG(2))))","v":0},null,null,{"$f":"N9","v":121},{"$f":"COUNTIF(L7:L13,T9)","v":0},{"$f":"U9/(W4-U7)","v":{"$error":"#DIV/0!"}},{"$f":"IF(V9=0,0,(V9*((LOG(V9))/LOG(2))))","v":{"$error":"#DIV/0!"}},null,{"$f":"N9","v":121},{"$f":"COUNTIF(L14:L19,Y9)","v":0},{"$f":"Z9/(AB4-Z7)","v":{"$error":"#DIV/0!"}},{"$f":"IF(AA9=0,0,(AA9*((LOG(AA9))/LOG(2))))","v":{"$error":"#DIV/0!"}},null,{"$f":"N9","v":121},{"$f":"COUNTIF(L20:L26,AD9)","v":0},{"$f":"AE9/(AG4-AE7)","v":{"$error":"#DIV/0!"}},{"$f":"IF(AF9=0,0,(AF9*((LOG(AF9))/LOG(2))))","v":{"$error":"#DIV/0!"}},null,{"$f":"N9","v":121},{"$f":"COUNTIF(L27:L33,AI9)","v":0},{"$f":"AJ9/(AL4-AJ7)","v":{"$error":"#DIV/0!"}},{"$f":"IF(AK9=0,0,(AK9*((LOG(AK9))/LOG(2))))","v":{"$error":"#DIV/0!"}},null,{"$f":"N9","v":121},{"$f":"COUNTIF(L34:L39,AN9)","v":0},{"$f":"AO9/(AQ4-AO7)","v":{"$error":"#DIV/0!"}},{"$f":"IF(AP9=0,0,(AP9*((LOG(AP9))/LOG(2))))","v":{"$error":"#DIV/0!"}},null,{"$f":"N9","v":121},{"$f":"COUNTIF(L40:L46,AS9)","v":0},{"$f":"AT9/(AV4-AT7)","v":{"$error":"#DIV/0!"}},{"$f":"IF(AU9=0,0,(AU9*((LOG(AU9))/LOG(2))))","v":{"$error":"#DIV/0!"}}]
[11,565,11,571,11,581,null,null,null,null,0,111,null,122,{"$f":"COUNTIF($L$7:$L$500,N10)","v":0},{"$f":"O10/$Q$4","v":0},{"$f":"IF(P10=0,0,(P10*((LOG(P10))/LOG(2))))","v":0},null,null,{"$f":"N10","v":122},{"$f":"COUNTIF(L7:L13,T10)","v":0},{"$f":"U10/(W4-U7)","v":{"$error":"#DIV/0!"}},{"$f":"IF(V10=0,0,(V10*((LOG(V10))/LOG(2))))","v":{"$error":"#DIV/0!"}},null,{"$f":"N10","v":122},{"$f":"COUNTIF(L14:L19,Y10)","v":0},{"$f":"Z10/(AB4-Z7)","v":{"$error":"#DIV/0!"}},{"$f":"IF(AA10=0,0,(AA10*((LOG(AA10))/LOG(2))))","v":{"$error":"#DIV/0!"}},null,{"$f":"N10","v":122},{"$f":"COUNTIF(L20:L26,AD10)","v":0},{"$f":"AE10/(AG4-AE7)","v":{"$error":"#DIV/0!"}},{"$f":"IF(AF10=0,0,(AF10*((LOG(AF10))/LOG(2))))","v":{"$error":"#DIV/0!"}},null,{"$f":"N10","v":122},{"$f":"COUNTIF(L27:L33,AI10)","v":0},{"$f":"AJ10/(AL4-AJ7)","v":{"$error":"#DIV/0!"}},{"$f":"IF(AK10=0,0,(AK10*((LOG(AK10))/LOG(2))))","v":{"$error":"#DIV/0!"}},null,{"$f":"N10","v":122},{"$f":"COUNTIF(L34:L39,AN10)","v":0},{"$f":"AO10/(AQ4-AO7)","v":{"$error":"#DIV/0!"}},{"$f":"IF(AP10=0,0,(AP10*((LOG(AP10))/LOG(2))))","v":{"$error":"#DIV/0!"}},null,{"$f":"N10","v":122},{"$f":"COUNTIF(L40:L46,AS10)","v":0},{"$f":"AT10/(AV4-AT7)","v":{"$error":"#DIV/0!"}},{"$f":"IF(AU10=0,0,(AU10*((LOG(AU10))/LOG(2))))","v":{"$error":"#DIV/0!"}}]
[11,752,11,765,11,771,null,null,null,null,0,111,null,211,{"$f":"COUNTIF($L$7:$L$500,N11)","v":0},{"$f":"O11/$Q$4","v":0},{"$f":"IF(P11=0,0,(P11*((LOG(P11))/LOG(2))))","v":0},null,null,{"$f":"N11","v":211},{"$f":"COUNTIF(L7:L13,T11)","v":0},{"$f":"U11/(W4-U7)","v":{"$error":"#DIV/0!"}},{"$f":"IF(V11=0,0,(V11*((LOG(V11))/LOG(2))))","v":{"$error":"#DIV/0!"}},null,{"$f":"N11","v":211},{"$f":"COUNTIF(L14:L19,Y11)","v":0},{"$f":"Z11/(AB4-Z7)","v":{"$error":"#DIV/0!"}},{"$f":"IF(AA11=0,0,(AA11*((LOG(AA11))/LOG(2))))","v":{"$error":"#DIV/0!"}},null,{"$f":"N11","v":211},{"$f":"COUNTIF(L20:L26,AD11)","v":0},{"$f":"AE11/(AG4-AE7)","v":{"$error":"#DIV/0!"}},{"$f":"IF(AF11=0,0,(AF11*((LOG(AF11))/LOG(2))))","v":{"$error":"#DIV/0!"}},null,{"$f":"N11","v":211},{"$f":"COUNTIF(L27:L33,AI11)","v":0},{"$f":"AJ11/(AL4-AJ7)","v":{"$error":"#DIV/0!"}},{"$f":"IF(AK11=0,0,(AK11*((LOG(AK11))/LOG(2))))","v":{"$error":"#DIV/0!"}},null,{"$f":"N11","v":211},{"$f":"COUNTIF(L34:L39,AN11)","v":0},{"$f":"AO11/(AQ4-AO7)","v":{"$error":"#DIV/0!"}},{"$f":"IF(AP11=0,0,(AP11*((LOG(AP11))/LOG(2))))","v":{"$error":"#DIV/0!"}},null,{"$f":"N11","v":211},{"$f":"COUNTIF(L40:L46,AS11)","v":0},{"$f":"AT11/(AV4-AT7)","v":{"$error":"#DIV/0!"}},{"$f":"IF(AU11=0,0,(AU11*((LOG(AU11))/LOG(2))))","v":{"$error":"#DIV/0!"}}]
[11,915,11,918,11,921,null,null,null,null,0,111,null,212,{"$f":"COUNTIF($L$7:$L$500,N12)","v":0},{"$f":"O12/$Q$4","v":0},{"$f":"IF(P12=0,0,(P12*((LOG(P12))/LOG(2))))","v":0},null,null,{"$f":"N12","v":212},{"$f":"COUNTIF(L7:L13,T12)","v":0},{"$f":"U12/(W4-U7)","v":{"$error":"#DIV/0!"}},{"$f":"IF(V12=0,0,(V12*((LOG(V12))/LOG(2))))","v":{"$error":"#DIV/0!"}},null,{"$f":"N12","v":212},{"$f":"COUNTIF(L14:L19,Y12)","v":0},{"$f":"Z12/(AB4-Z7)","v":{"$error":"#DIV/0!"}},{"$f":"IF(AA12=0,0,(AA12*((LOG(AA12))/LOG(2))))","v":{"$error":"#DIV/0!"}},null,{"$f":"N12","v":212},{"$f":"COUNTIF(L20:L26,AD12)","v":0},{"$f":"AE12/(AG4-AE7)","v":{"$error":"#DIV/0!"}},{"$f":"IF(AF12=0,0,(AF12*((LOG(AF12))/LOG(2))))","v":{"$error":"#DIV/0!"}},null,{"$f":"N12","v":212},{"$f":"COUNTIF(L27:L33,AI12)","v":0},{"$f":"AJ12/(AL4-AJ7)","v":{"$error":"#DIV/0!"}},{"$f":"IF(AK12=0,0,(AK12*((LOG(AK12))/LOG(2))))","v":{"$error":"#DIV/0!"}},null,{"$f":"N12","v":212},{"$f":"COUNTIF(L34:L39,AN12)","v":0},{"$f":"AO12/(AQ4-AO7)","v":{"$error":"#DIV/0!"}},{"$f":"IF(AP12=0,0,(AP12*((LOG(AP12))/LOG(2))))","v":{"$error":"#DIV/0!"}},null,{"$f":"N12","v":212},{"$f":"COUNTIF(L40:L46,AS12)","v":0},{"$f":"AT12/(AV4-AT7)","v":{"$error":"#DIV/0!"}},{"$f":"IF(AU12=0,0,(AU12*((LOG(AU12))/LOG(2))))","v":{"$error":"#DIV/0!"}}]
[11,1068,11,1074,11,1084,null,null,null,null,0,111,null,221,{"$f":"COUNTIF($L$7:$L$500,N13)","v":0},{"$f":"O13/$Q$4","v":0},{"$f":"IF(P13=0,0,(P13*((LOG(P13))/LOG(2))))","v":0},null,null,{"$f":"N13","v":221},{"$f":"COUNTIF(L7:L13,T13)","v":0},{"$f":"U13/(W4-U7)","v":{"$error":"#DIV/0!"}},{"$f":"IF(V13=0,0,(V13*((LOG(V13))/LOG(2))))","v":{"$error":"#DIV/0!"}},null,{"$f":"N13","v":221},{"$f":"COUNTIF(L14:L19,Y13)","v":0},{"$f":"Z13/(AB4-Z7)","v":{"$error":"#DIV/0!"}},{"$f":"IF(AA13=0,0,(AA13*((LOG(AA13))/LOG(2))))","v":{"$error":"#DIV/0!"}},null,{"$f":"N13","v":221},{"$f":"COUNTIF(L20:L26,AD13)","v":0},{"$f":"AE13/(AG4-AE7)","v":{"$error":"#DIV/0!"}},{"$f":"IF(AF13=0,0,(AF13*((LOG(AF13))/LOG(2))))","v":{"$error":"#DIV/0!"}},null,{"$f":"N13","v":221},{"$f":"COUNTIF(L27:L33,AI13)","v":0},{"$f":"AJ13/(AL4-AJ7)","v":{"$error":"#DIV/0!"}},{"$f":"IF(AK13=0,0,(AK13*((LOG(AK13))/LOG(2))))","v":{"$error":"#DIV/0!"}},null,{"$f":"N13","v":221},{"$f":"COUNTIF(L34:L39,AN13)","v":0},{"$f":"AO13/(AQ4-AO7)","v":{"$error":"#DIV/0!"}},{"$f":"IF(AP13=0,0,(AP13*((LOG(AP13))/LOG(2))))","v":{"$error":"#DIV/0!"}},null,{"$f":"N13","v":221},{"$f":"COUNTIF(L40:L46,AS13)","v":0},{"$f":"AT13/(AV4-AT7)","v":{"$error":"#DIV/0!"}},{"$f":"IF(AU13=0,0,(AU13*((LOG(AU13))/LOG(2))))","v":{"$error":"#DIV/0!"}}]
[11,1208,11,1212,11,1218,null,null,null,null,0,111,null,222,{"$f":"COUNTIF($L$7:$L$500,N14)","v":0},{"$f":"O14/$Q$4","v":0},{"$f":"IF(P14=0,0,(P14*((LOG(P14))/LOG(2))))","v":0},null,null,{"$f":"N14","v":222},{"$f":"COUNTIF(L7:L13,T14)","v":0},{"$f":"U14/(W4-U7)","v":{"$error":"#DIV/0!"}},{"$f":"IF(V14=0,0,(V14*((LOG(V14))/LOG(2))))","v":{"$error":"#DIV/0!"}},null,{"$f":"N14","v":222},{"$f":"COUNTIF(L14:L19,Y14)","v":0},{"$f":"Z14/(AB4-Z7)","v":{"$error":"#DIV/0!"}},{"$f":"IF(AA14=0,0,(AA14*((LOG(AA14))/LOG(2))))","v":{"$error":"#DIV/0!"}},null,{"$f":"N14","v":222},{"$f":"COUNTIF(L20:L26,AD14)","v":0},{"$f":"AE14/(AG4-AE7)","v":{"$error":"#DIV/0!"}},{"$f":"IF(AF14=0,0,(AF14*((LOG(AF14))/LOG(2))))","v":{"$error":"#DIV/0!"}},null,{"$f":"N14","v":222},{"$f":"COUNTIF(L27:L33,AI14)","v":0},{"$f":"AJ14/(AL4-AJ7)","v":{"$error":"#DIV/0!"}},{"$f":"IF(AK14=0,0,(AK14*((LOG(AK14))/LOG(2))))","v":{"$error":"#DIV/0!"}},null,{"$f":"N14","v":222},{"$f":"COUNTIF(L34:L39,AN14)","v":0},{"$f":"AO14/(AQ4-AO7)","v":{"$error":"#DIV/0!"}},{"$f":"IF(AP14=0,0,(AP14*((LOG(AP14))/LOG(2))))","v":{"$error":"#DIV/0!"}},null,{"$f":"N14","v":222},{"$f":"COUNTIF(L40:L46,AS14)","v":0},{"$f":"AT14/(AV4-AT7)","v":{"$error":"#DIV/0!"}},{"$f":"IF(AU14=0,0,(AU14*((LOG(AU14))/LOG(2))))","v":{"$error":"#DIV/0!"}}]
[11,1378,11,1383,11,1390,null,null,null,null,0,111,null,null,null,{"$f":"SUM(P7:P14)","v":1},{"$f":"-SUM(Q7:Q14)","v":0},null,null,null,null,{"$f":"SUM(V7:V14)","v":{"$error":"#DIV/0!"}},{"$f":"-SUM(W7:W14)","v":{"$error":"#DIV/0!"}},null,null,null,{"$f":"SUM(AA7:AA14)","v":{"$error":"#DIV/0!"}},{"$f":"-SUM(AB7:AB14)","v":{"$error":"#DIV/0!"}},null,null,null,{"$f":"SUM(AF7:AF14)","v":{"$error":"#DIV/0!"}},{"$f":"-SUM(AG7:AG14)","v":{"$error":"#DIV/0!"}},null,null,null,{"$f":"SUM(AK7:AK14)","v":{"$error":"#DIV/0!"}},{"$f":"-SUM(AL7:AL14)","v":{"$error":"#DIV/0!"}},null,null,null,{"$f":"SUM(AP7:AP14)","v":{"$error":"#DIV/0!"}},{"$f":"-SUM(AQ7:AQ14)","v":{"$error":"#DIV/0!"}},null,null,null,{"$f":"SUM(AU7:AU14)","v":{"$error":"#DIV/0!"}},{"$f":"-SUM(AV7:AV14)","v":{"$error":"#DIV/0!"}}]
[11,1546,11,1554,11,1561,null,null,null,null,0,111,null,null,null,"U=",{"$f":"Q15/(LOG(Q4)/LOG(2))","v":0},null,null,null,null,"U1=",{"$f":"W15/(LOG(W4)/LOG(2))","v":{"$error":"#DIV/0!"}},null,null,null,"U2=",{"$f":"AB15/(LOG(AB4)/LOG(2))","v":{"$error":"#DIV/0!"}},null,null,null,"U3=",{"$f":"AG15/(LOG(AG4)/LOG(2))","v":{"$error":"#DIV/0!"}},null,null,null,"U4=",{"$f":"AL15/(LOG(AL4)/LOG(2))","v":{"$error":"#DIV/0!"}},null,null,null,"U5=",{"$f":"AQ15/(LOG(AQ4)/LOG(2))","v":{"$error":"#DIV/0!"}},null,null,null,"U6=",{"$f":"AV15/(LOG(AV4)/LOG(2))","v":{"$error":"#DIV/0!"}}]
[11,1688,11,1694,11,1701,null,null,null,null,0,111]
[11,1884,11,1891,11,1904,null,null,null,null,0,111]
[11,2058,11,2062,11,2068,null,null,null,null,0,111,null,"Total Target Seq"]
[11,2172,11,2186,11,2195,null,null,null,null,0,111,null,{"$f":"COUNTIF(L7:L46,G3)","v":40},null,7,6,7,7,6,7]
[11,2318,11,2326,11,2340,null,null,null,null,0,111,null,null,null,"% of reinforcement given in 6 equal intervals based on number of trials "]
[11,2505,11,2517,11,2529,null,null,null,null,0,111,null,null,null,"%_1","%_2","%_3","%_4","%_5","%_6"]
[11,2659,11,2663,11,2669,null,null,null,null,0,111,null,null,"target sequence",{"$f":"$G$3","v":111},{"$f":"$G$3","v":111},{"$f":"$G$3","v":111},{"$f":"$G$3","v":111},{"$f":"$G$3","v":111},{"$f":"$G$3","v":111}]
[11,2857,11,2863,11,2873,null,null,null,null,0,111,null,null,"total reinforcement",{"$f":"U7","v":7},{"$f":"Z7","v":6},{"$f":"AE7","v":7},{"$f":"AJ7","v":7},{"$f":"AO7","v":6},{"$f":"AT7","v":7}]
[11,3006,11,3013,11,3018,null,null,null,null,0,111,null,null,"% target"]
[11,3143,11,3145,11,3151,null,null,null,null,0,111,null,null,"CCRF"]
[11,3270,11,3276,11,3282,null,null,null,null,0,111,null,null,"% CCRf"]
[11,3401,11,3404,11,3413,null,null,null,null,0,111,null,null,"average response rate",{"$f":"F13/P20","v":154.85714285714286},{"$f":"(F19-F13)/Q20","v":164},{"$f":"(F26-F19)/R20","v":154.71428571428572},{"$f":"(F33-F26)/S20","v":150.85714285714286},{"$f":"(F39-F33)/T20","v":154.66666666666666},{"$f":"(F46-F39)/U20","v":184}]
[11,3522,11,3529,11,3539,null,null,null,null,0,111]
[11,3762,11,3767,11,3773,null,null,null,null,0,111]
[11,3893,11,3899,11,3907,null,null,null,null,0,111]
[11,4054,11,4059,11,4070,null,null,null,null,0,111]
[11,4182,11,4193,11,4207,null,null,null,null,0,111]
[11,4319,11,4328,11,4336,null,null,null,null,0,111]
[11,4490,11,4497,11,4505,null,null,null,null,0,111]
[11,4648,11,4654,11,4661,null,null,null,null,0,111]
[11,4805,11,4810,11,4819,null,null,null,null,0,111]
[11,4938,11,4943,11,4948,null,null,null,null,0,111]
[11,5122,11,5128,11,5135,null,null,null,null,0,111]
[11,5304,11,5310,11,5328,null,null,null,null,0,111]
[11,5440,11,5443,11,5447,null,null,null,null,0,111]
[11,5608,11,5610,11,5617,null,null,null,null,0,111]
[11,5835,11,5849,11,5861,null,null,null,null,0,111]
[11,6048,11,6055,11,6063,null,null,null,null,0,111]
[11,6188,11,6194,11,6210,null,null,null,null,0,111]
[11,6407,11,6414,11,6423,null,null,null,null,1,111]

{"sheet":"!M719A5D.ust","index":27,"n_rows":48,"n_cols":48,"rows_kept":48,"cut":false,"hidden":false,"merged":[[4,39,4,42],[5,39,5,40],[4,44,4,47],[5,44,5,45],[4,24,4,27],[5,24,5,25],[4,29,4,32],[5,29,5,30],[4,34,4,37],[5,34,5,35],[1,1,1,2],[5,13,5,14],[18,13,18,14],[19,13,19,14],[4,19,4,22],[5,19,5,20]]}
["Report for:!M719A5D.ust"]
["Date:","<date>"]
["Hen:","<hen>",null,null,null,"Correct Sequence",{"$f":"Start!J2","v":111},null,null,null,null,null,null,null,null,"Total Sequences in Data",{"$f":"4994-COUNTBLANK(L7:L5000)","v":42},null,null,null,null,"Total Sequences in Block Data",{"$f":"COUNTA(L7:L13)","v":7},null,null,null,"Total Sequences in Block Data",{"$f":"COUNTA(L14:L20)","v":7},null,null,null,"Total Sequences in Block Data",{"$f":"COUNTA(L21:L27)","v":7},null,null,null,"Total Sequences in Block Data",{"$f":"COUNTA(L28:L34)","v":7},null,null,null,"Total Sequences in Block Data",{"$f":"COUNTA(L35:L41)","v":7},null,null,null,"Total Sequences in Block Data",{"$f":"COUNTA(L42:L48)","v":7}]
[null,null,null,null,null,null,null,null,null,null,null,null,null,null,null,"Total Sequences in Summary",{"$f":"SUM(O7:O14)","v":42},null,null,null,null,"Total Sequences in Block Summary",{"$f":"SUM(U7:U14)","v":7},null,null,null,"Total Sequences in Block Summary",{"$f":"SUM(Z7:Z14)","v":7},null,null,null,"Total Sequences in Block Summary",{"$f":"SUM(AE7:AE14)","v":7},null,null,null,"Total Sequences in Block Summary",{"$f":"SUM(AJ7:AJ14)","v":7},null,null,null,"Total Sequences in Block Summary",{"$f":"SUM(AO7:AO14)","v":7},null,null,null,"Total Sequences in Block Summary",{"$f":"SUM(AT7:AT14)","v":7}]
[null,null,null,null,null,null,null,null,null,null,null,null,null,null,null,null,null,null,null,"Block 1",null,null,null,null,"Block 2",null,null,null,null,"Block 3",null,null,null,null,"Block 4",null,null,null,null,"Block 5",null,null,null,null,"Block 6"]
["Sequence\nComponent\n1","Time\n1","Sequence\nComponent\n2","Time\n2","Sequence\nComponent\n3","Time\n3","Sequence\nComponent\n4","Time\n4","Sequence\nComponent\n5","Time\n5","Correct?\n0=No 1=Yes","Sequence",null,"Frequency",null,"Relative Frequency","Variability",null,null,"Frequency",null,"Relative Frequency","Variability",null,"Frequency",null,"Relative Frequency","Variability",null,"Frequency",null,"Relative Frequency","Variability",null,"Frequency",null,"Relative Frequency","Variability",null,"Frequency",null,"Relative Frequency","Variability",null,"Frequency",null,"Relative Frequency","Variability"]
[11,10,11,23,11,43,null,null,null,null,0,111,null,111,{"$f":"COUNTIF($L$7:$L$500,N7)","v":40},{"$f":"O7/$Q$4","v":0.95238095238095233},{"$f":"IF(P7=0,0,(P7*((LOG(P7))/LOG(2))))","v":-6.7037455134664775E-2},null,null,{"$f":"N7","v":111},{"$f":"COUNTIF(L7:L13,T7)","v":7},null,null,null,{"$f":"N7","v":111},{"$f":"COUNTIF(L14:L20,Y7)","v":5},null,null,null,{"$f":"N7","v":111},{"$f":"COUNTIF(L21:L27,AD7)","v":7},null,null,null,{"$f":"N7","v":111},{"$f":"COUNTIF(L28:L34,AI7)","v":7},null,null,null,{"$f":"N7","v":111},{"$f":"COUNTIF(L35:L41,AN7)","v":7},null,null,null,{"$f":"N7","v":111},{"$f":"COUNTIF(L42:L48,AS7)","v":7}]
[11,144,11,150,11,156,null,null,null,null,0,111,null,112,{"$f":"COUNTIF($L$7:$L$500,N8)","v":0},{"$f":"O8/$Q$4","v":0},{"$f":"IF(P8=0,0,(P8*((LOG(P8))/LOG(2))))","v":0},null,null,{"$f":"N8","v":112},{"$f":"COUNTIF(L7:L13,T8)","v":0},{"$f":"U8/(W4-U7)","v":{"$error":"#DIV/0!"}},{"$f":"IF(V8=0,0,(V8*((LOG(V8))/LOG(2))))","v":{"$error":"#DIV/0!"}},null,{"$f":"N8","v":112},{"$f":"COUNTIF(L14:L20,Y8)","v":0},{"$f":"Z8/(AB4-Z7)","v":0},{"$f":"IF(AA8=0,0,(AA8*((LOG(AA8))/LOG(2))))","v":0},null,{"$f":"N8","v":112},{"$f":"COUNTIF(L21:L27,AD8)","v":0},{"$f":"AE8/(AG4-AE7)","v":{"$error":"#DIV/0!"}},{"$f":"IF(AF8=0,0,(AF8*((LOG(AF8))/LOG(2))))","v":{"$error":"#DIV/0!"}},null,{"$f":"N8","v":112},{"$f":"COUNTIF(L28:L34,AI8)","v":0},{"$f":"AJ8/(AL4-AJ7)","v":{"$error":"#DIV/0!"}},{"$f":"IF(AK8=0,0,(AK8*((LOG(AK8))/LOG(2))))","v":{"$error":"#DIV/0!"}},null,{"$f":"N8","v":112},{"$f":"COUNTIF(L35:L41,AN8)","v":0},{"$f":"AO8/(AQ4-AO7)","v":{"$error":"#DIV/0!"}},{"$f":"IF(AP8=0,0,(AP8*((LOG(AP8))/LOG(2))))","v":{"$error":"#DIV/0!"}},null,{"$f":"N8","v":112},{"$f":"COUNTIF(L42:L48,AS8)","v":0},{"$f":"AT8/(AV4-AT7)","v":{"$error":"#DIV/0!"}},{"$f":"IF(AU8=0,0,(AU8*((LOG(AU8))/LOG(2))))","v":{"$error":"#DIV/0!"}}]
[11,257,11,263,11,275,null,null,null,null,0,111,null,121,{"$f":"COUNTIF($L$7:$L$500,N9)","v":0},{"$f":"O9/$Q$4","v":0},{"$f":"IF(P9=0,0,(P9*((LOG(P9))/LOG(2))))","v":0},null,null,{"$f":"N9","v":121},{"$f":"COUNTIF(L7:L13,T9)","v":0},{"$f":"U9/(W4-U7)","v":{"$error":"#DIV/0!"}},{"$f":"IF(V9=0,0,(V9*((LOG(V9))/LOG(2))))","v":{"$error":"#DIV/0!"}},null,{"$f":"N9","v":121},{"$f":"COUNTIF(L14:L20,Y9)","v":0},{"$f":"Z9/(AB4-Z7)","v":0},{"$f":"IF(AA9=0,0,(AA9*((LOG(AA9))/LOG(2))))","v":0},null,{"$f":"N9","v":121},{"$f":"COUNTIF(L21:L27,AD9)","v":0},{"$f":"AE9/(AG4-AE7)","v":{"$error":"#DIV/0!"}},{"$f":"IF(AF9=0,0,(AF9*((LOG(AF9))/LOG(2))))","v":{"$error":"#DIV/0!"}},null,{"$f":"N9","v":121},{"$f":"COUNTIF(L28:L34,AI9)","v":0},{"$f":"AJ9/(AL4-AJ7)","v":{"$error":"#DIV/0!"}},{"$f":"IF(AK9=0,0,(AK9*((LOG(AK9))/LOG(2))))","v":{"$error":"#DIV/0!"}},null,{"$f":"N9","v":121},{"$f":"COUNTIF(L35:L41,AN9)","v":0},{"$f":"AO9/(AQ4-AO7)","v":{"$error":"#DIV/0!"}},{"$f":"IF(AP9=0,0,(AP9*((LOG(AP9))/LOG(2))))","v":{"$error":"#DIV/0!"}},null,{"$f":"N9","v":121},{"$f":"COUNTIF(L42:L48,AS9)","v":0},{"$f":"AT9/(AV4-AT7)","v":{"$error":"#DIV/0!"}},{"$f":"IF(AU9=0,0,(AU9*((LOG(AU9))/LOG(2))))","v":{"$error":"#DIV/0!"}}]
[11,375,11,380,11,386,null,null,null,null,0,111,null,122,{"$f":"COUNTIF($L$7:$L$500,N10)","v":0},{"$f":"O10/$Q$4","v":0},{"$f":"IF(P10=0,0,(P10*((LOG(P10))/LOG(2))))","v":0},null,null,{"$f":"N10","v":122},{"$f":"COUNTIF(L7:L13,T10)","v":0},{"$f":"U10/(W4-U7)","v":{"$error":"#DIV/0!"}},{"$f":"IF(V10=0,0,(V10*((LOG(V10))/LOG(2))))","v":{"$error":"#DIV/0!"}},null,{"$f":"N10","v":122},{"$f":"COUNTIF(L14:L20,Y10)","v":0},{"$f":"Z10/(AB4-Z7)","v":0},{"$f":"IF(AA10=0,0,(AA10*((LOG(AA10))/LOG(2))))","v":0},null,{"$f":"N10","v":122},{"$f":"COUNTIF(L21:L27,AD10)","v":0},{"$f":"AE10/(AG4-AE7)","v":{"$error":"#DIV/0!"}},{"$f":"IF(AF10=0,0,(AF10*((LOG(AF10))/LOG(2))))","v":{"$error":"#DIV/0!"}},null,{"$f":"N10","v":122},{"$f":"COUNTIF(L28:L34,AI10)","v":0},{"$f":"AJ10/(AL4-AJ7)","v":{"$error":"#DIV/0!"}},{"$f":"IF(AK10=0,0,(AK10*((LOG(AK10))/LOG(2))))","v":{"$error":"#DIV/0!"}},null,{"$f":"N10","v":122},{"$f":"COUNTIF(L35:L41,AN10)","v":0},{"$f":"AO10/(AQ4-AO7)","v":{"$error":"#DIV/0!"}},{"$f":"IF(AP10=0,0,(AP10*((LOG(AP10))/LOG(2))))","v":{"$error":"#DIV/0!"}},null,{"$f":"N10","v":122},{"$f":"COUNTIF(L42:L48,AS10)","v":0},{"$f":"AT10/(AV4-AT7)","v":{"$error":"#DIV/0!"}},{"$f":"IF(AU10=0,0,(AU10*((LOG(AU10))/LOG(2))))","v":{"$error":"#DIV/0!"}}]
[11,529,11,540,11,547,null,null,null,null,0,111,null,211,{"$f":"COUNTIF($L$7:$L$500,N11)","v":1},{"$f":"O11/$Q$4","v":2.3809523809523808E-2},{"$f":"IF(P11=0,0,(P11*((LOG(P11))/LOG(2))))","v":-0.12838851006616095},null,null,{"$f":"N11","v":211},{"$f":"COUNTIF(L7:L13,T11)","v":0},{"$f":"U11/(W4-U7)","v":{"$error":"#DIV/0!"}},{"$f":"IF(V11=0,0,(V11*((LOG(V11))/LOG(2))))","v":{"$error":"#DIV/0!"}},null,{"$f":"N11","v":211},{"$f":"COUNTIF(L14:L20,Y11)","v":1},{"$f":"Z11/(AB4-Z7)","v":0.5},{"$f":"IF(AA11=0,0,(AA11*((LOG(AA11))/LOG(2))))","v":-0.5},null,{"$f":"N11","v":211},{"$f":"COUNTIF(L21:L27,AD11)","v":0},{"$f":"AE11/(AG4-AE7)","v":{"$error":"#DIV/0!"}},{"$f":"IF(AF11=0,0,(AF11*((LOG(AF11))/LOG(2))))","v":{"$error":"#DIV/0!"}},null,{"$f":"N11","v":211},{"$f":"COUNTIF(L28:L34,AI11)","v":0},{"$f":"AJ11/(AL4-AJ7)","v":{"$error":"#DIV/0!"}},{"$f":"IF(AK11=0,0,(AK11*((LOG(AK11))/LOG(2))))","v":{"$error":"#DIV/0!"}},null,{"$f":"N11","v":211},{"$f":"COUNTIF(L35:L41,AN11)","v":0},{"$f":"AO11/(AQ4-AO7)","v":{"$error":"#DIV/0!"}},{"$f":"IF(AP11=0,0,(AP11*((LOG(AP11))/LOG(2))))","v":{"$error":"#DIV/0!"}},null,{"$f":"N11","v":211},{"$f":"COUNTIF(L42:L48,AS11)","v":0},{"$f":"AT11/(AV4-AT7)","v":{"$error":"#DIV/0!"}},{"$f":"IF(AU11=0,0,(AU11*((LOG(AU11))/LOG(2))))","v":{"$error":"#DIV/0!"}}]
[11,682,11,688,11,694,null,null,null,null,0,111,null,212,{"$f":"COUNTIF($L$7:$L$500,N12)","v":0},{"$f":"O12/$Q$4","v":0},{"$f":"IF(P12=0,0,(P12*((LOG(P12))/LOG(2))))","v":0},null,null,{"$f":"N12","v":212},{"$f":"COUNTIF(L7:L13,T12)","v":0},{"$f":"U12/(W4-U7)","v":{"$error":"#DIV/0!"}},{"$f":"IF(V12=0,0,(V12*((LOG(V12))/LOG(2))))","v":{"$error":"#DIV/0!"}},null,{"$f":"N12","v":212},{"$f":"COUNTIF(L14:L20,Y12)","v":0},{"$f":"Z12/(AB4-Z7)","v":0},{"$f":"IF(AA12=0,0,(AA12*((LOG(AA12))/LOG(2))))","v":0},null,{"$f":"N12","v":212},{"$f":"COUNTIF(L21:L27,AD12)","v":0},{"$f":"AE12/(AG4-AE7)","v":{"$error":"#DIV/0!"}},{"$f":"IF(AF12=0,0,(AF12*((LOG(AF12))/LOG(2))))","v":{"$error":"#DIV/0!"}},null,{"$f":"N12","v":212},{"$f":"COUNTIF(L28:L34,AI12)","v":0},{"$f":"AJ12/(AL4-AJ7)","v":{"$error":"#DIV/0!"}},{"$f":"IF(AK12=0,0,(AK12*((LOG(AK12))/LOG(2))))","v":{"$error":"#DIV/0!"}},null,{"$f":"N12","v":212},{"$f":"COUNTIF(L35:L41,AN12)","v":0},{"$f":"AO12/(AQ4-AO7)","v":{"$error":"#DIV/0!"}},{"$f":"IF(AP12=0,0,(AP12*((LOG(AP12))/LOG(2))))","v":{"$error":"#DIV/0!"}},null,{"$f":"N12","v":212},{"$f":"COUNTIF(L42:L48,AS12)","v":0},{"$f":"AT12/(AV4-AT7)","v":{"$error":"#DIV/0!"}},{"$f":"IF(AU12=0,0,(AU12*((LOG(AU12))/LOG(2))))","v":{"$error":"#DIV/0!"}}]
[11,801,11,806,11,819,null,null,null,null,0,111,null,221,{"$f":"COUNTIF($L$7:$L$500,N13)","v":0},{"$f":"O13/$Q$4","v":0},{"$f":"IF(P13=0,0,(P13*((LOG(P13))/LOG(2))))","v":0},null,null,{"$f":"N13","v":221},{"$f":"COUNTIF(L7:L13,T13)","v":0},{"$f":"U13/(W4-U7)","v":{"$error":"#DIV/0!"}},{"$f":"IF(V13=0,0,(V13*((LOG(V13))/LOG(2))))","v":{"$error":"#DIV/0!"}},null,{"$f":"N13","v":221},{"$f":"COUNTIF(L14:L20,Y13)","v":0},{"$f":"Z13/(AB4-Z7)","v":0},{"$f":"IF(AA13=0,0,(AA13*((LOG(AA13))/LOG(2))))","v":0},null,{"$f":"N13","v":221},{"$f":"COUNTIF(L21:L27,AD13)","v":0},{"$f":"AE13/(AG4-AE7)","v":{"$error":"#DIV/0!"}},{"$f":"IF(AF13=0,0,(AF13*((LOG(AF13))/LOG(2))))","v":{"$error":"#DIV/0!"}},null,{"$f":"N13","v":221},{"$f":"COUNTIF(L28:L34,AI13)","v":0},{"$f":"AJ13/(AL4-AJ7)","v":{"$error":"#DIV/0!"}},{"$f":"IF(AK13=0,0,(AK13*((LOG(AK13))/LOG(2))))","v":{"$error":"#DIV/0!"}},null,{"$f":"N13","v":221},{"$f":"COUNTIF(L35:L41,AN13)","v":0},{"$f":"AO13/(AQ4-AO7)","v":{"$error":"#DIV/0!"}},{"$f":"IF(AP13=0,0,(AP13*((LOG(AP13))/LOG(2))))","v":{"$error":"#DIV/0!"}},null,{"$f":"N13","v":221},{"$f":"COUNTIF(L42:L48,AS13)","v":0},{"$f":"AT13/(AV4-AT7)","v":{"$error":"#DIV/0!"}},{"$f":"IF(AU13=0,0,(AU13*((LOG(AU13))/LOG(2))))","v":{"$error":"#DIV/0!"}}]
[11,942,11,949,11,955,null,null,null,null,0,111,null,222,{"$f":"COUNTIF($L$7:$L$500,N14)","v":1},{"$f":"O14/$Q$4","v":2.3809523809523808E-2},{"$f":"IF(P14=0,0,(P14*((LOG(P14))/LOG(2))))","v":-0.12838851006616095},null,null,{"$f":"N14","v":222},{"$f":"COUNTIF(L7:L13,T14)","v":0},{"$f":"U14/(W4-U7)","v":{"$error":"#DIV/0!"}},{"$f":"IF(V14=0,0,(V14*((LOG(V14))/LOG(2))))","v":{"$error":"#DIV/0!"}},null,{"$f":"N14","v":222},{"$f":"COUNTIF(L14:L20,Y14)","v":1},{"$f":"Z14/(AB4-Z7)","v":0.5},{"$f":"IF(AA14=0,0,(AA14*((LOG(AA14))/LOG(2))))","v":-0.5},null,{"$f":"N14","v":222},{"$f":"COUNTIF(L21:L27,AD14)","v":0},{"$f":"AE14/(AG4-AE7)","v":{"$error":"#DIV/0!"}},{"$f":"IF(AF14=0,0,(AF14*((LOG(AF14))/LOG(2))))","v":{"$error":"#DIV/0!"}},null,{"$f":"N14","v":222},{"$f":"COUNTIF(L28:L34,AI14)","v":0},{"$f":"AJ14/(AL4-AJ7)","v":{"$error":"#DIV/0!"}},{"$f":"IF(AK14=0,0,(AK14*((LOG(AK14))/LOG(2))))","v":{"$error":"#DIV/0!"}},null,{"$f":"N14","v":222},{"$f":"COUNTIF(L35:L41,AN14)","v":0},{"$f":"AO14/(AQ4-AO7)","v":{"$error":"#DIV/0!"}},{"$f":"IF(AP14=0,0,(AP14*((LOG(AP14))/LOG(2))))","v":{"$error":"#DIV/0!"}},null,{"$f":"N14","v":222},{"$f":"COUNTIF(L42:L48,AS14)","v":0},{"$f":"AT14/(AV4-AT7)","v":{"$error":"#DIV/0!"}},{"$f":"IF(AU14=0,0,(AU14*((LOG(AU14))/LOG(2))))","v":{"$error":"#DIV/0!"}}]
[11,1055,11,1061,11,1067,null,null,null,null,0,111,null,null,null,{"$f":"SUM(P7:P14)","v":1},{"$f":"-SUM(Q7:Q14)","v":0.3238144752669867},null,null,null,null,{"$f":"SUM(V7:V14)","v":{"$error":"#DIV/0!"}},{"$f":"-SUM(W7:W14)","v":{"$error":"#DIV/0!"}},null,null,null,{"$f":"SUM(AA7:AA14)","v":1},{"$f":"-SUM(AB7:AB14)","v":1},null,null,null,{"$f":"SUM(AF7:AF14)","v":{"$error":"#DIV/0!"}},{"$f":"-SUM(AG7:AG14)","v":{"$error":"#DIV/0!"}},null,null,null,{"$f":"SUM(AK7:AK14)","v":{"$error":"#DIV/0!"}},{"$f":"-SUM(AL7:AL14)","v":{"$error":"#DIV/0!"}},null,null,null,{"$f":"SUM(AP7:AP14)","v":{"$error":"#DIV/0!"}},{"$f":"-SUM(AQ7:AQ14)","v":{"$error":"#DIV/0!"}},null,null,null,{"$f":"SUM(AU7:AU14)","v":{"$error":"#DIV/0!"}},{"$f":"-SUM(AV7:AV14)","v":{"$error":"#DIV/0!"}}]
[11,1193,11,1199,11,1214,null,null,null,null,0,111,null,null,null,"U=",{"$f":"Q15/(LOG(Q4)/LOG(2))","v":6.0051078206022804E-2},null,null,null,null,"U1=",{"$f":"W15/(LOG(W4)/LOG(2))","v":{"$error":"#DIV/0!"}},null,null,null,"U2=",{"$f":"AB15/(LOG(AB4)/LOG(2))","v":0.35620718710802218},null,null,null,"U3=",{"$f":"AG15/(LOG(AG4)/LOG(2))","v":{"$error":"#DIV/0!"}},null,null,null,"U4=",{"$f":"AL15/(LOG(AL4)/LOG(2))","v":{"$error":"#DIV/0!"}},null,null,null,"U5=",{"$f":"AQ15/(LOG(AQ4)/LOG(2))","v":{"$error":"#DIV/0!"}},null,null,null,"U6=",{"$f":"AV15/(LOG(AV4)/LOG(2))","v":{"$error":"#DIV/0!"}}]
[11,1351,11,1359,11,1366,null,null,null,null,0,111]
[22,1468,13,1491,13,1508,null,null,null,null,0,211]
[11,1608,11,1616,11,1623,null,null,null,null,0,111,null,"Total Target Seq"]
[22,1760,24,1767,24,1773,null,null,null,null,0,222,null,{"$f":"COUNTIF(L7:L48,G3)","v":40},null,7,7,7,7,7,7]
[11,1874,11,1878,11,1887,null,null,null,null,0,111,null,null,null,"% of reinforcement given in 6 equal intervals based on number of trials "]
[11,2012,11,2017,11,2021,null,null,null,null,0,111,null,null,null,"%_1","%_2","%_3","%_4","%_5","%_6"]
[11,2116,11,2124,11,2131,null,null,null,null,0,111,null,null,"target sequence",{"$f":"$G$3","v":111},{"$f":"$G$3","v":111},{"$f":"$G$3","v":111},{"$f":"$G$3","v":111},{"$f":"$G$3","v":111},{"$f":"$G$3","v":111}]
[11,2249,11,2259,11,2266,null,null,null,null,0,111,null,null,"total reinforcement",{"$f":"U7","v":7},{"$f":"Z7","v":5},{"$f":"AE7","v":7},{"$f":"AJ7","v":7},{"$f":"AO7","v":7},{"$f":"AT7","v":7}]
[11,2384,11,2390,11,2413,null,null,null,null,0,111,null,null,"% target"]
[11,2543,11,2549,11,2561,null,null,null,null,0,111,null,null,"CCRF"]
[11,2653,11,2660,11,2666,null,null,null,null,0,111,null,null,"% CCRf"]
[11,2796,11,2798,11,2805,null,null,null,null,0,111,null,null,"average response rate",{"$f":"F13/P20","v":117},{"$f":"(F20-F13)/Q20","v":136.28571428571428},{"$f":"(F27-F20)/R20","v":127.57142857142857},{"$f":"(F34-F27)/S20","v":140.42857142857142},{"$f":"(F41-F34)/T20","v":147.85714285714286},{"$f":"(F48-F41)/U20","v":196}]
[11,2936,11,2943,11,2952,null,null,null,null,0,111]
[11,3043,11,3047,11,3053,null,null,null,null,0,111]
[11,3182,11,3189,11,3196,null,null,null,null,0,111]
[11,3319,11,3326,11,3333,null,null,null,null,0,111]
[11,3503,11,3509,11,3516,null,null,null,null,0,111]
[11,3637,11,3643,11,3649,null,null,null,null,0,111]
[11,3786,11,3793,11,3801,null,null,null,null,0,111]
[11,3901,11,3905,11,3911,null,null,null,null,0,111]
[11,4091,11,4097,11,4104,null,null,null,null,0,111]
[11,4290,11,4301,11,4311,null,null,null,null,0,111]
[11,4442,11,4447,11,4456,null,null,null,null,0,111]
[11,4551,11,4553,11,4561,null,null,null,null,0,111]
[11,4668,11,4674,11,4684,null,null,null,null,0,111]
[11,4850,11,4859,11,4869,null,null,null,null,0,111]
[11,5039,11,5046,11,5052,null,null,null,null,0,111]
[11,5156,11,5163,11,5177,null,null,null,null,0,111]
[11,5422,11,5428,11,5435,null,null,null,null,0,111]
[11,5663,11,5696,11,5703,null,null,null,null,0,111]
[11,5878,11,5882,11,5894,null,null,null,null,0,111]
[11,6046,11,6052,11,6056,null,null,null,null,1,111]

{"sheet":"!M720A3D.ust","index":28,"n_rows":46,"n_cols":48,"rows_kept":46,"cut":false,"hidden":false,"merged":[[4,39,4,42],[5,39,5,40],[4,44,4,47],[5,44,5,45],[4,24,4,27],[5,24,5,25],[4,29,4,32],[5,29,5,30],[4,34,4,37],[5,34,5,35],[1,1,1,2],[5,13,5,14],[18,13,18,14],[19,13,19,14],[4,19,4,22],[5,19,5,20]]}
["Report for:!M720A3D.ust"]
["Date:","<date>"]
["Hen:","<hen>",null,null,null,"Correct Sequence",{"$f":"Start!J2","v":111},null,null,null,null,null,null,null,null,"Total Sequences in Data",{"$f":"4994-COUNTBLANK(L7:L5000)","v":40},null,null,null,null,"Total Sequences in Block Data",{"$f":"COUNTA(L7:L13)","v":7},null,null,null,"Total Sequences in Block Data",{"$f":"COUNTA(L14:L19)","v":6},null,null,null,"Total Sequences in Block Data",{"$f":"COUNTA(L20:L26)","v":7},null,null,null,"Total Sequences in Block Data",{"$f":"COUNTA(L27:L33)","v":7},null,null,null,"Total Sequences in Block Data",{"$f":"COUNTA(L34:L39)","v":6},null,null,null,"Total Sequences in Block Data",{"$f":"COUNTA(L40:L46)","v":7}]
[null,null,null,null,null,null,null,null,null,null,null,null,null,null,null,"Total Sequences in Summary",{"$f":"SUM(O7:O14)","v":40},null,null,null,null,"Total Sequences in Block Summary",{"$f":"SUM(U7:U14)","v":7},null,null,null,"Total Sequences in Block Summary",{"$f":"SUM(Z7:Z14)","v":6},null,null,null,"Total Sequences in Block Summary",{"$f":"SUM(AE7:AE14)","v":7},null,null,null,"Total Sequences in Block Summary",{"$f":"SUM(AJ7:AJ14)","v":7},null,null,null,"Total Sequences in Block Summary",{"$f":"SUM(AO7:AO14)","v":6},null,null,null,"Total Sequences in Block Summary",{"$f":"SUM(AT7:AT14)","v":7}]
[null,null,null,null,null,null,null,null,null,null,null,null,null,null,null,null,null,null,null,"Block 1",null,null,null,null,"Block 2",null,null,null,null,"Block 3",null,null,null,null,"Block 4",null,null,null,null,"Block 5",null,null,null,null,"Block 6"]
["Sequence\nComponent\n1","Time\n1","Sequence\nComponent\n2","Time\n2","Sequence\nComponent\n3","Time\n3","Sequence\nComponent\n4","Time\n4","Sequence\nComponent\n5","Time\n5","Correct?\n0=No 1=Yes","Sequence",null,"Frequency",null,"Relative Frequency","Variability",null,null,"Frequency",null,"Relative Frequency","Variability",null,"Frequency",null,"Relative Frequency","Variability",null,"Frequency",null,"Relative Frequency","Variability",null,"Frequency",null,"Relative Frequency","Variability",null,"Frequency",null,"Relative Frequency","Variability",null,"Frequency",null,"Relative Frequency","Variability"]
[11,9,11,13,11,19,null,null,null,null,0,111,null,111,{"$f":"COUNTIF($L$7:$L$500,N7)","v":40},{"$f":"O7/$Q$4","v":1},{"$f":"IF(P7=0,0,(P7*((LOG(P7))/LOG(2))))","v":0},null,null,{"$f":"N7","v":111},{"$f":"COUNTIF(L7:L13,T7)","v":7},null,null,null,{"$f":"N7","v":111},{"$f":"COUNTIF(L14:L19,Y7)","v":6},null,null,null,{"$f":"N7","v":111},{"$f":"COUNTIF(L20:L26,AD7)","v":7},null,null,null,{"$f":"N7","v":111},{"$f":"COUNTIF(L27:L33,AI7)","v":7},null,null,null,{"$f":"N7","v":111},{"$f":"COUNTIF(L34:L39,AN7)","v":6},null,null,null,{"$f":"N7","v":111},{"$f":"COUNTIF(L40:L46,AS7)","v":7}]
[11,121,11,126,11,131,null,null,null,null,0,111,null,112,{"$f":"COUNTIF($L$7:$L$500,N8)","v":0},{"$f":"O8/$Q$4","v":0},{"$f":"IF(P8=0,0,(P8*((LOG(P8))/LOG(2))))","v":0},null,null,{"$f":"N8","v":112},{"$f":"COUNTIF(L7:L13,T8)","v":0},{"$f":"U8/(W4-U7)","v":{"$error":"#DIV/0!"}},{"$f":"IF(V8=0,0,(V8*((LOG(V8))/LOG(2))))","v":{"$error":"#DIV/0!"}},null,{"$f":"N8","v":112},{"$f":"COUNTIF(L14:L19,Y8)","v":0},{"$f":"Z8/(AB4-Z7)","v":{"$error":"#DIV/0!"}},{"$f":"IF(AA8=0,0,(AA8*((LOG(AA8))/LOG(2))))","v":{"$error":"#DIV/0!"}},null,{"$f":"N8","v":112},{"$f":"COUNTIF(L20:L26,AD8)","v":0},{"$f":"AE8/(AG4-AE7)","v":{"$error":"#DIV/0!"}},{"$f":"IF(AF8=0,0,(AF8*((LOG(AF8))/LOG(2))))","v":{"$error":"#DIV/0!"}},null,{"$f":"N8","v":112},{"$f":"COUNTIF(L27:L33,AI8)","v":0},{"$f":"AJ8/(AL4-AJ7)","v":{"$error":"#DIV/0!"}},{"$f":"IF(AK8=0,0,(AK8*((LOG(AK8))/LOG(2))))","v":{"$error":"#DIV/0!"}},null,{"$f":"N8","v":112},{"$f":"COUNTIF(L34:L39,AN8)","v":0},{"$f":"AO8/(AQ4-AO7)","v":{"$error":"#DIV/0!"}},{"$f":"IF(AP8=0,0,(AP8*((LOG(AP8))/LOG(2))))","v":{"$error":"#DIV/0!"}},null,{"$f":"N8","v":112},{"$f":"COUNTIF(L40:L46,AS8)","v":0},{"$f":"AT8/(AV4-AT7)","v":{"$error":"#DIV/0!"}},{"$f":"IF(AU8=0,0,(AU8*((LOG(AU8))/LOG(2))))","v":{"$error":"#DIV/0!"}}]
[11,224,11,228,11,234,null,null,null,null,0,111,null,121,{"$f":"COUNTIF($L$7:$L$500,N9)","v":0},{"$f":"O9/$Q$4","v":0},{"$f":"IF(P9=0,0,(P9*((LOG(P9))/LOG(2))))","v":0},null,null,{"$f":"N9","v":121},{"$f":"COUNTIF(L7:L13,T9)","v":0},{"$f":"U9/(W4-U7)","v":{"$error":"#DIV/0!"}},{"$f":"IF(V9=0,0,(V9*((LOG(V9))/LOG(2))))","v":{"$error":"#DIV/0!"}},null,{"$f":"N9","v":121},{"$f":"COUNTIF(L14:L19,Y9)","v":0},{"$f":"Z9/(AB4-Z7)","v":{"$error":"#DIV/0!"}},{"$f":"IF(AA9=0,0,(AA9*((LOG(AA9))/LOG(2))))","v":{"$error":"#DIV/0!"}},null,{"$f":"N9","v":121},{"$f":"COUNTIF(L20:L26,AD9)","v":0},{"$f":"AE9/(AG4-AE7)","v":{"$error":"#DIV/0!"}},{"$f":"IF(AF9=0,0,(AF9*((LOG(AF9))/LOG(2))))","v":{"$error":"#DIV/0!"}},null,{"$f":"N9","v":121},{"$f":"COUNTIF(L27:L33,AI9)","v":0},{"$f":"AJ9/(AL4-AJ7)","v":{"$error":"#DIV/0!"}},{"$f":"IF(AK9=0,0,(AK9*((LOG(AK9))/LOG(2))))","v":{"$error":"#DIV/0!"}},null,{"$f":"N9","v":121},{"$f":"COUNTIF(L34:L39,AN9)","v":0},{"$f":"AO9/(AQ4-AO7)","v":{"$error":"#DIV/0!"}},{"$f":"IF(AP9=0,0,(AP9*((LOG(AP9))/LOG(2))))","v":{"$error":"#DIV/0!"}},null,{"$f":"N9","v":121},{"$f":"COUNTIF(L40:L46,AS9)","v":0},{"$f":"AT9/(AV4-AT7)","v":{"$error":"#DIV/0!"}},{"$f":"IF(AU9=0,0,(AU9*((LOG(AU9))/LOG(2))))","v":{"$error":"#DIV/0!"}}]
[11,346,11,350,11,355,null,null,null,null,0,111,null,122,{"$f":"COUNTIF($L$7:$L$500,N10)","v":0},{"$f":"O10/$Q$4","v":0},{"$f":"IF(P10=0,0,(P10*((LOG(P10))/LOG(2))))","v":0},null,null,{"$f":"N10","v":122},{"$f":"COUNTIF(L7:L13,T10)","v":0},{"$f":"U10/(W4-U7)","v":{"$error":"#DIV/0!"}},{"$f":"IF(V10=0,0,(V10*((LOG(V10))/LOG(2))))","v":{"$error":"#DIV/0!"}},null,{"$f":"N10","v":122},{"$f":"COUNTIF(L14:L19,Y10)","v":0},{"$f":"Z10/(AB4-Z7)","v":{"$error":"#DIV/0!"}},{"$f":"IF(AA10=0,0,(AA10*((LOG(AA10))/LOG(2))))","v":{"$error":"#DIV/0!"}},null,{"$f":"N10","v":122},{"$f":"COUNTIF(L20:L26,AD10)","v":0},{"$f":"AE10/(AG4-AE7)","v":{"$error":"#DIV/0!"}},{"$f":"IF(AF10=0,0,(AF10*((LOG(AF10))/LOG(2))))","v":{"$error":"#DIV/0!"}},null,{"$f":"N10","v":122},{"$f":"COUNTIF(L27:L33,AI10)","v":0},{"$f":"AJ10/(AL4-AJ7)","v":{"$error":"#DIV/0!"}},{"$f":"IF(AK10=0,0,(AK10*((LOG(AK10))/LOG(2))))","v":{"$error":"#DIV/0!"}},null,{"$f":"N10","v":122},{"$f":"COUNTIF(L34:L39,AN10)","v":0},{"$f":"AO10/(AQ4-AO7)","v":{"$error":"#DIV/0!"}},{"$f":"IF(AP10=0,0,(AP10*((LOG(AP10))/LOG(2))))","v":{"$error":"#DIV/0!"}},null,{"$f":"N10","v":122},{"$f":"COUNTIF(L40:L46,AS10)","v":0},{"$f":"AT10/(AV4-AT7)","v":{"$error":"#DIV/0!"}},{"$f":"IF(AU10=0,0,(AU10*((LOG(AU10))/LOG(2))))","v":{"$error":"#DIV/0!"}}]
[11,477,11,485,11,493,null,null,null,null,0,111,null,211,{"$f":"COUNTIF($L$7:$L$500,N11)","v":0},{"$f":"O11/$Q$4","v":0},{"$f":"IF(P11=0,0,(P11*((LOG(P11))/LOG(2))))","v":0},null,null,{"$f":"N11","v":211},{"$f":"COUNTIF(L7:L13,T11)","v":0},{"$f":"U11/(W4-U7)","v":{"$error":"#DIV/0!"}},{"$f":"IF(V11=0,0,(V11*((LOG(V11))/LOG(2))))","v":{"$error":"#DIV/0!"}},null,{"$f":"N11","v":211},{"$f":"COUNTIF(L14:L19,Y11)","v":0},{"$f":"Z11/(AB4-Z7)","v":{"$error":"#DIV/0!"}},{"$f":"IF(AA11=0,0,(AA11*((LOG(AA11))/LOG(2))))","v":{"$error":"#DIV/0!"}},null,{"$f":"N11","v":211},{"$f":"COUNTIF(L20:L26,AD11)","v":0},{"$f":"AE11/(AG4-AE7)","v":{"$error":"#DIV/0!"}},{"$f":"IF(AF11=0,0,(AF11*((LOG(AF11))/LOG(2))))","v":{"$error":"#DIV/0!"}},null,{"$f":"N11","v":211},{"$f":"COUNTIF(L27:L33,AI11)","v":0},{"$f":"AJ11/(AL4-AJ7)","v":{"$error":"#DIV/0!"}},{"$f":"IF(AK11=0,0,(AK11*((LOG(AK11))/LOG(2))))","v":{"$error":"#DIV/0!"}},null,{"$f":"N11","v":211},{"$f":"COUNTIF(L34:L39,AN11)","v":0},{"$f":"AO11/(AQ4-AO7)","v":{"$error":"#DIV/0!"}},{"$f":"IF(AP11=0,0,(AP11*((LOG(AP11))/LOG(2))))","v":{"$error":"#DIV/0!"}},null,{"$f":"N11","v":211},{"$f":"COUNTIF(L40:L46,AS11)","v":0},{"$f":"AT11/(AV4-AT7)","v":{"$error":"#DIV/0!"}},{"$f":"IF(AU11=0,0,(AU11*((LOG(AU11))/LOG(2))))","v":{"$error":"#DIV/0!"}}]
[11,588,11,591,11,600,null,null,null,null,0,111,null,212,{"$f":"COUNTIF($L$7:$L$500,N12)","v":0},{"$f":"O12/$Q$4","v":0},{"$f":"IF(P12=0,0,(P12*((LOG(P12))/LOG(2))))","v":0},null,null,{"$f":"N12","v":212},{"$f":"COUNTIF(L7:L13,T12)","v":0},{"$f":"U12/(W4-U7)","v":{"$error":"#DIV/0!"}},{"$f":"IF(V12=0,0,(V12*((LOG(V12))/LOG(2))))","v":{"$error":"#DIV/0!"}},null,{"$f":"N12","v":212},{"$f":"COUNTIF(L14:L19,Y12)","v":0},{"$f":"Z12/(AB4-Z7)","v":{"$error":"#DIV/0!"}},{"$f":"IF(AA12=0,0,(AA12*((LOG(AA12))/LOG(2))))","v":{"$error":"#DIV/0!"}},null,{"$f":"N12","v":212},{"$f":"COUNTIF(L20:L26,AD12)","v":0},{"$f":"AE12/(AG4-AE7)","v":{"$error":"#DIV/0!"}},{"$f":"IF(AF12=0,0,(AF12*((LOG(AF12))/LOG(2))))","v":{"$error":"#DIV/0!"}},null,{"$f":"N12","v":212},{"$f":"COUNTIF(L27:L33,AI12)","v":0},{"$f":"AJ12/(AL4-AJ7)","v":{"$error":"#DIV/0!"}},{"$f":"IF(AK12=0,0,(AK12*((LOG(AK12))/LOG(2))))","v":{"$error":"#DIV/0!"}},null,{"$f":"N12","v":212},{"$f":"COUNTIF(L34:L39,AN12)","v":0},{"$f":"AO12/(AQ4-AO7)","v":{"$error":"#DIV/0!"}},{"$f":"IF(AP12=0,0,(AP12*((LOG(AP12))/LOG(2))))","v":{"$error":"#DIV/0!"}},null,{"$f":"N12","v":212},{"$f":"COUNTIF(L40:L46,AS12)","v":0},{"$f":"AT12/(AV4-AT7)","v":{"$error":"#DIV/0!"}},{"$f":"IF(AU12=0,0,(AU12*((LOG(AU12))/LOG(2))))","v":{"$error":"#DIV/0!"}}]
[11,699,11,704,11,711,null,null,null,null,0,111,null,221,{"$f":"COUNTIF($L$7:$L$500,N13)","v":0},{"$f":"O13/$Q$4","v":0},{"$f":"IF(P13=0,0,(P13*((LOG(P13))/LOG(2))))","v":0},null,null,{"$f":"N13","v":221},{"$f":"COUNTIF(L7:L13,T13)","v":0},{"$f":"U13/(W4-U7)","v":{"$error":"#DIV/0!"}},{"$f":"IF(V13=0,0,(V13*((LOG(V13))/LOG(2))))","v":{"$error":"#DIV/0!"}},null,{"$f":"N13","v":221},{"$f":"COUNTIF(L14:L19,Y13)","v":0},{"$f":"Z13/(AB4-Z7)","v":{"$error":"#DIV/0!"}},{"$f":"IF(AA13=0,0,(AA13*((LOG(AA13))/LOG(2))))","v":{"$error":"#DIV/0!"}},null,{"$f":"N13","v":221},{"$f":"COUNTIF(L20:L26,AD13)","v":0},{"$f":"AE13/(AG4-AE7)","v":{"$error":"#DIV/0!"}},{"$f":"IF(AF13=0,0,(AF13*((LOG(AF13))/LOG(2))))","v":{"$error":"#DIV/0!"}},null,{"$f":"N13","v":221},{"$f":"COUNTIF(L27:L33,AI13)","v":0},{"$f":"AJ13/(AL4-AJ7)","v":{"$error":"#DIV/0!"}},{"$f":"IF(AK13=0,0,(AK13*((LOG(AK13))/LOG(2))))","v":{"$error":"#DIV/0!"}},null,{"$f":"N13","v":221},{"$f":"COUNTIF(L34:L39,AN13)","v":0},{"$f":"AO13/(AQ4-AO7)","v":{"$error":"#DIV/0!"}},{"$f":"IF(AP13=0,0,(AP13*((LOG(AP13))/LOG(2))))","v":{"$error":"#DIV/0!"}},null,{"$f":"N13","v":221},{"$f":"COUNTIF(L40:L46,AS13)","v":0},{"$f":"AT13/(AV4-AT7)","v":{"$error":"#DIV/0!"}},{"$f":"IF(AU13=0,0,(AU13*((LOG(AU13))/LOG(2))))","v":{"$error":"#DIV/0!"}}]
[11,803,11,817,11,825,null,null,null,null,0,111,null,222,{"$f":"COUNTIF($L$7:$L$500,N14)","v":0},{"$f":"O14/$Q$4","v":0},{"$f":"IF(P14=0,0,(P14*((LOG(P14))/LOG(2))))","v":0},null,null,{"$f":"N14","v":222},{"$f":"COUNTIF(L7:L13,T14)","v":0},{"$f":"U14/(W4-U7)","v":{"$error":"#DIV/0!"}},{"$f":"IF(V14=0,0,(V14*((LOG(V14))/LOG(2))))","v":{"$error":"#DIV/0!"}},null,{"$f":"N14","v":222},{"$f":"COUNTIF(L14:L19,Y14)","v":0},{"$f":"Z14/(AB4-Z7)","v":{"$error":"#DIV/0!"}},{"$f":"IF(AA14=0,0,(AA14*((LOG(AA14))/LOG(2))))","v":{"$error":"#DIV/0!"}},null,{"$f":"N14","v":222},{"$f":"COUNTIF(L20:L26,AD14)","v":0},{"$f":"AE14/(AG4-AE7)","v":{"$error":"#DIV/0!"}},{"$f":"IF(AF14=0,0,(AF14*((LOG(AF14))/LOG(2))))","v":{"$error":"#DIV/0!"}},null,{"$f":"N14","v":222},{"$f":"COUNTIF(L27:L33,AI14)","v":0},{"$f":"AJ14/(AL4-AJ7)","v":{"$error":"#DIV/0!"}},{"$f":"IF(AK14=0,0,(AK14*((LOG(AK14))/LOG(2))))","v":{"$error":"#DIV/0!"}},null,{"$f":"N14","v":222},{"$f":"COUNTIF(L34:L39,AN14)","v":0},{"$f":"AO14/(AQ4-AO7)","v":{"$error":"#DIV/0!"}},{"$f":"IF(AP14=0,0,(AP14*((LOG(AP14))/LOG(2))))","v":{"$error":"#DIV/0!"}},null,{"$f":"N14","v":222},{"$f":"COUNTIF(L40:L46,AS14)","v":0},{"$f":"AT14/(AV4-AT7)","v":{"$error":"#DIV/0!"}},{"$f":"IF(AU14=0,0,(AU14*((LOG(AU14))/LOG(2))))","v":{"$error":"#DIV/0!"}}]
[11,915,11,924,11,927,null,null,null,null,0,111,null,null,null,{"$f":"SUM(P7:P14)","v":1},{"$f":"-SUM(Q7:Q14)","v":0},null,null,null,null,{"$f":"SUM(V7:V14)","v":{"$error":"#DIV/0!"}},{"$f":"-SUM(W7:W14)","v":{"$error":"#DIV/0!"}},null,null,null,{"$f":"SUM(AA7:AA14)","v":{"$error":"#DIV/0!"}},{"$f":"-SUM(AB7:AB14)","v":{"$error":"#DIV/0!"}},null,null,null,{"$f":"SUM(AF7:AF14)","v":{"$error":"#DIV/0!"}},{"$f":"-SUM(AG7:AG14)","v":{"$error":"#DIV/0!"}},null,null,null,{"$f":"SUM(AK7:AK14)","v":{"$error":"#DIV/0!"}},{"$f":"-SUM(AL7:AL14)","v":{"$error":"#DIV/0!"}},null,null,null,{"$f":"SUM(AP7:AP14)","v":{"$error":"#DIV/0!"}},{"$f":"-SUM(AQ7:AQ14)","v":{"$error":"#DIV/0!"}},null,null,null,{"$f":"SUM(AU7:AU14)","v":{"$error":"#DIV/0!"}},{"$f":"-SUM(AV7:AV14)","v":{"$error":"#DIV/0!"}}]
[11,1027,11,1034,11,1041,null,null,null,null,0,111,null,null,null,"U=",{"$f":"Q15/(LOG(Q4)/LOG(2))","v":0},null,null,null,null,"U1=",{"$f":"W15/(LOG(W4)/LOG(2))","v":{"$error":"#DIV/0!"}},null,null,null,"U2=",{"$f":"AB15/(LOG(AB4)/LOG(2))","v":{"$error":"#DIV/0!"}},null,null,null,"U3=",{"$f":"AG15/(LOG(AG4)/LOG(2))","v":{"$error":"#DIV/0!"}},null,null,null,"U4=",{"$f":"AL15/(LOG(AL4)/LOG(2))","v":{"$error":"#DIV/0!"}},null,null,null,"U5=",{"$f":"AQ15/(LOG(AQ4)/LOG(2))","v":{"$error":"#DIV/0!"}},null,null,null,"U6=",{"$f":"AV15/(LOG(AV4)/LOG(2))","v":{"$error":"#DIV/0!"}}]
[11,1131,11,1135,11,1141,null,null,null,null,0,111]
[11,1240,11,1246,11,1259,null,null,null,null,0,111]
[11,1399,11,1404,11,1409,null,null,null,null,0,111,null,"Total Target Seq"]
[11,1514,11,1520,11,1527,null,null,null,null,0,111,null,{"$f":"COUNTIF(L7:L46,G3)","v":40},null,7,6,7,7,6,7]
[11,1660,11,1664,11,1667,null,null,null,null,0,111,null,null,null,"% of reinforcement given in 6 equal intervals based on number of trials "]
[11,1799,11,1806,11,1818,null,null,null,null,0,111,null,null,null,"%_1","%_2","%_3","%_4","%_5","%_6"]
[11,1920,11,1927,11,1933,null,null,null,null,0,111,null,null,"target sequence",{"$f":"$G$3","v":111},{"$f":"$G$3","v":111},{"$f":"$G$3","v":111},{"$f":"$G$3","v":111},{"$f":"$G$3","v":111},{"$f":"$G$3","v":111}]
[11,2102,11,2108,11,2121,null,null,null,null,0,111,null,null,"total reinforcement",{"$f":"U7","v":7},{"$f":"Z7","v":6},{"$f":"AE7","v":7},{"$f":"AJ7","v":7},{"$f":"AO7","v":6},{"$f":"AT7","v":7}]
[11,2217,11,2223,11,2229,null,null,null,null,0,111,null,null,"% target"]
[11,2332,11,2336,11,2342,null,null,null,null,0,111,null,null,"CCRF"]
[11,2450,11,2456,11,2463,null,null,null,null,0,111,null,null,"% CCRf"]
[11,2597,11,2600,11,2606,null,null,null,null,0,111,null,null,"average response rate",{"$f":"F13/P20","v":101.57142857142857},{"$f":"(F19-F13)/Q20","v":116.33333333333333},{"$f":"(F26-F19)/R20","v":133.28571428571428},{"$f":"(F33-F26)/S20","v":134.57142857142858},{"$f":"(F39-F33)/T20","v":129},{"$f":"(F46-F39)/U20","v":125}]
[11,2706,11,2713,11,2720,null,null,null,null,0,111]
[11,2867,11,2875,11,2890,null,null,null,null,0,111]
[11,2992,11,2995,11,3001,null,null,null,null,0,111]
[11,3155,11,3159,11,3165,null,null,null,null,0,111]
[11,3271,11,3276,11,3284,null,null,null,null,0,111]
[11,3390,11,3397,11,3403,null,null,null,null,0,111]
[11,3507,11,3513,11,3519,null,null,null,null,0,111]
[11,3644,11,3647,11,3653,null,null,null,null,0,111]
[11,3768,11,3775,11,3780,null,null,null,null,0,111]
[11,3910,11,3916,11,3933,null,null,null,null,0,111]
[11,4041,11,4047,11,4058,null,null,null,null,0,111]
[11,4151,11,4153,11,4158,null,null,null,null,0,111]
[11,4266,11,4272,11,4279,null,null,null,null,0,111]
[11,4406,11,4411,11,4421,null,null,null,null,0,111]
[11,4554,11,4561,11,4571,null,null,null,null,0,111]
[11,4689,11,4695,11,4701,null,null,null,null,0,111]
[11,4806,11,4813,11,4820,null,null,null,null,0,111]
[11,4927,11,4929,11,4933,null,null,null,null,1,111]

{"sheet":"!M721B5D.ust","index":29,"n_rows":46,"n_cols":48,"rows_kept":46,"cut":false,"hidden":false,"merged":[[4,39,4,42],[5,39,5,40],[4,44,4,47],[5,44,5,45],[4,24,4,27],[5,24,5,25],[4,29,4,32],[5,29,5,30],[4,34,4,37],[5,34,5,35],[1,1,1,2],[5,13,5,14],[18,13,18,14],[19,13,19,14],[4,19,4,22],[5,19,5,20]]}
["Report for:!M721B5D.ust"]
["Date:","<date>"]
["Hen:","<hen>",null,null,null,"Correct Sequence",{"$f":"Start!J2","v":111},null,null,null,null,null,null,null,null,"Total Sequences in Data",{"$f":"4994-COUNTBLANK(L7:L5000)","v":40},null,null,null,null,"Total Sequences in Block Data",{"$f":"COUNTA(L7:L13)","v":7},null,null,null,"Total Sequences in Block Data",{"$f":"COUNTA(L14:L19)","v":6},null,null,null,"Total Sequences in Block Data",{"$f":"COUNTA(L20:L26)","v":7},null,null,null,"Total Sequences in Block Data",{"$f":"COUNTA(L27:L33)","v":7},null,null,null,"Total Sequences in Block Data",{"$f":"COUNTA(L34:L39)","v":6},null,null,null,"Total Sequences in Block Data",{"$f":"COUNTA(L40:L46)","v":7}]
[null,null,null,null,null,null,null,null,null,null,null,null,null,null,null,"Total Sequences in Summary",{"$f":"SUM(O7:O14)","v":40},null,null,null,null,"Total Sequences in Block Summary",{"$f":"SUM(U7:U14)","v":7},null,null,null,"Total Sequences in Block Summary",{"$f":"SUM(Z7:Z14)","v":6},null,null,null,"Total Sequences in Block Summary",{"$f":"SUM(AE7:AE14)","v":7},null,null,null,"Total Sequences in Block Summary",{"$f":"SUM(AJ7:AJ14)","v":7},null,null,null,"Total Sequences in Block Summary",{"$f":"SUM(AO7:AO14)","v":6},null,null,null,"Total Sequences in Block Summary",{"$f":"SUM(AT7:AT14)","v":7}]
[null,null,null,null,null,null,null,null,null,null,null,null,null,null,null,null,null,null,null,"Block 1",null,null,null,null,"Block 2",null,null,null,null,"Block 3",null,null,null,null,"Block 4",null,null,null,null,"Block 5",null,null,null,null,"Block 6"]
["Sequence\nComponent\n1","Time\n1","Sequence\nComponent\n2","Time\n2","Sequence\nComponent\n3","Time\n3","Sequence\nComponent\n4","Time\n4","Sequence\nComponent\n5","Time\n5","Correct?\n0=No 1=Yes","Sequence",null,"Frequency",null,"Relative Frequency","Variability",null,null,"Frequency",null,"Relative Frequency","Variability",null,"Frequency",null,"Relative Frequency","Variability",null,"Frequency",null,"Relative Frequency","Variability",null,"Frequency",null,"Relative Frequency","Variability",null,"Frequency",null,"Relative Frequency","Variability",null,"Frequency",null,"Relative Frequency","Variability"]
[11,4,11,10,11,17,null,null,null,null,0,111,null,111,{"$f":"COUNTIF($L$7:$L$500,N7)","v":40},{"$f":"O7/$Q$4","v":1},{"$f":"IF(P7=0,0,(P7*((LOG(P7))/LOG(2))))","v":0},null,null,{"$f":"N7","v":111},{"$f":"COUNTIF(L7:L13,T7)","v":7},null,null,null,{"$f":"N7","v":111},{"$f":"COUNTIF(L14:L19,Y7)","v":6},null,null,null,{"$f":"N7","v":111},{"$f":"COUNTIF(L20:L26,AD7)","v":7},null,null,null,{"$f":"N7","v":111},{"$f":"COUNTIF(L27:L33,AI7)","v":7},null,null,null,{"$f":"N7","v":111},{"$f":"COUNTIF(L34:L39,AN7)","v":6},null,null,null,{"$f":"N7","v":111},{"$f":"COUNTIF(L40:L46,AS7)","v":7}]
[11,177,11,181,11,188,null,null,null,null,0,111,null,112,{"$f":"COUNTIF($L$7:$L$500,N8)","v":0},{"$f":"O8/$Q$4","v":0},{"$f":"IF(P8=0,0,(P8*((LOG(P8))/LOG(2))))","v":0},null,null,{"$f":"N8","v":112},{"$f":"COUNTIF(L7:L13,T8)","v":0},{"$f":"U8/(W4-U7)","v":{"$error":"#DIV/0!"}},{"$f":"IF(V8=0,0,(V8*((LOG(V8))/LOG(2))))","v":{"$error":"#DIV/0!"}},null,{"$f":"N8","v":112},{"$f":"COUNTIF(L14:L19,Y8)","v":0},{"$f":"Z8/(AB4-Z7)","v":{"$error":"#DIV/0!"}},{"$f":"IF(AA8=0,0,(AA8*((LOG(AA8))/LOG(2))))","v":{"$error":"#DIV/0!"}},null,{"$f":"N8","v":112},{"$f":"COUNTIF(L20:L26,AD8)","v":0},{"$f":"AE8/(AG4-AE7)","v":{"$error":"#DIV/0!"}},{"$f":"IF(AF8=0,0,(AF8*((LOG(AF8))/LOG(2))))","v":{"$error":"#DIV/0!"}},null,{"$f":"N8","v":112},{"$f":"COUNTIF(L27:L33,AI8)","v":0},{"$f":"AJ8/(AL4-AJ7)","v":{"$error":"#DIV/0!"}},{"$f":"IF(AK8=0,0,(AK8*((LOG(AK8))/LOG(2))))","v":{"$error":"#DIV/0!"}},null,{"$f":"N8","v":112},{"$f":"COUNTIF(L34:L39,AN8)","v":0},{"$f":"AO8/(AQ4-AO7)","v":{"$error":"#DIV/0!"}},{"$f":"IF(AP8=0,0,(AP8*((LOG(AP8))/LOG(2))))","v":{"$error":"#DIV/0!"}},null,{"$f":"N8","v":112},{"$f":"COUNTIF(L40:L46,AS8)","v":0},{"$f":"AT8/(AV4-AT7)","v":{"$error":"#DIV/0!"}},{"$f":"IF(AU8=0,0,(AU8*((LOG(AU8))/LOG(2))))","v":{"$error":"#DIV/0!"}}]
[11,331,11,336,11,342,null,null,null,null,0,111,null,121,{"$f":"COUNTIF($L$7:$L$500,N9)","v":0},{"$f":"O9/$Q$4","v":0},{"$f":"IF(P9=0,0,(P9*((LOG(P9))/LOG(2))))","v":0},null,null,{"$f":"N9","v":121},{"$f":"COUNTIF(L7:L13,T9)","v":0},{"$f":"U9/(W4-U7)","v":{"$error":"#DIV/0!"}},{"$f":"IF(V9=0,0,(V9*((LOG(V9))/LOG(2))))","v":{"$error":"#DIV/0!"}},null,{"$f":"N9","v":121},{"$f":"COUNTIF(L14:L19,Y9)","v":0},{"$f":"Z9/(AB4-Z7)","v":{"$error":"#DIV/0!"}},{"$f":"IF(AA9=0,0,(AA9*((LOG(AA9))/LOG(2))))","v":{"$error":"#DIV/0!"}},null,{"$f":"N9","v":121},{"$f":"COUNTIF(L20:L26,AD9)","v":0},{"$f":"AE9/(AG4-AE7)","v":{"$error":"#DIV/0!"}},{"$f":"IF(AF9=0,0,(AF9*((LOG(AF9))/LOG(2))))","v":{"$error":"#DIV/0!"}},null,{"$f":"N9","v":121},{"$f":"COUNTIF(L27:L33,AI9)","v":0},{"$f":"AJ9/(AL4-AJ7)","v":{"$error":"#DIV/0!"}},{"$f":"IF(AK9=0,0,(AK9*((LOG(AK9))/LOG(2))))","v":{"$error":"#DIV/0!"}},null,{"$f":"N9","v":121},{"$f":"COUNTIF(L34:L39,AN9)","v":0},{"$f":"AO9/(AQ4-AO7)","v":{"$error":"#DIV/0!"}},{"$f":"IF(AP9=0,0,(AP9*((LOG(AP9))/LOG(2))))","v":{"$error":"#DIV/0!"}},null,{"$f":"N9","v":121},{"$f":"COUNTIF(L40:L46,AS9)","v":0},{"$f":"AT9/(AV4-AT7)","v":{"$error":"#DIV/0!"}},{"$f":"IF(AU9=0,0,(AU9*((LOG(AU9))/LOG(2))))","v":{"$error":"#DIV/0!"}}]
[11,467,11,473,11,480,null,null,null,null,0,111,null,122,{"$f":"COUNTIF($L$7:$L$500,N10)","v":0},{"$f":"O10/$Q$4","v":0},{"$f":"IF(P10=0,0,(P10*((LOG(P10))/LOG(2))))","v":0},null,null,{"$f":"N10","v":122},{"$f":"COUNTIF(L7:L13,T10)","v":0},{"$f":"U10/(W4-U7)","v":{"$error":"#DIV/0!"}},{"$f":"IF(V10=0,0,(V10*((LOG(V10))/LOG(2))))","v":{"$error":"#DIV/0!"}},null,{"$f":"N10","v":122},{"$f":"COUNTIF(L14:L19,Y10)","v":0},{"$f":"Z10/(AB4-Z7)","v":{"$error":"#DIV/0!"}},{"$f":"IF(AA10=0,0,(AA10*((LOG(AA10))/LOG(2))))","v":{"$error":"#DIV/0!"}},null,{"$f":"N10","v":122},{"$f":"COUNTIF(L20:L26,AD10)","v":0},{"$f":"AE10/(AG4-AE7)","v":{"$error":"#DIV/0!"}},{"$f":"IF(AF10=0,0,(AF10*((LOG(AF10))/LOG(2))))","v":{"$error":"#DIV/0!"}},null,{"$f":"N10","v":122},{"$f":"COUNTIF(L27:L33,AI10)","v":0},{"$f":"AJ10/(AL4-AJ7)","v":{"$error":"#DIV/0!"}},{"$f":"IF(AK10=0,0,(AK10*((LOG(AK10))/LOG(2))))","v":{"$error":"#DIV/0!"}},null,{"$f":"N10","v":122},{"$f":"COUNTIF(L34:L39,AN10)","v":0},{"$f":"AO10/(AQ4-AO7)","v":{"$error":"#DIV/0!"}},{"$f":"IF(AP10=0,0,(AP10*((LOG(AP10))/LOG(2))))","v":{"$error":"#DIV/0!"}},null,{"$f":"N10","v":122},{"$f":"COUNTIF(L40:L46,AS10)","v":0},{"$f":"AT10/(AV4-AT7)","v":{"$error":"#DIV/0!"}},{"$f":"IF(AU10=0,0,(AU10*((LOG(AU10))/LOG(2))))","v":{"$error":"#DIV/0!"}}]
[11,642,11,646,11,648,null,null,null,null,0,111,null,211,{"$f":"COUNTIF($L$7:$L$500,N11)","v":0},{"$f":"O11/$Q$4","v":0},{"$f":"IF(P11=0,0,(P11*((LOG(P11))/LOG(2))))","v":0},null,null,{"$f":"N11","v":211},{"$f":"COUNTIF(L7:L13,T11)","v":0},{"$f":"U11/(W4-U7)","v":{"$error":"#DIV/0!"}},{"$f":"IF(V11=0,0,(V11*((LOG(V11))/LOG(2))))","v":{"$error":"#DIV/0!"}},null,{"$f":"N11","v":211},{"$f":"COUNTIF(L14:L19,Y11)","v":0},{"$f":"Z11/(AB4-Z7)","v":{"$error":"#DIV/0!"}},{"$f":"IF(AA11=0,0,(AA11*((LOG(AA11))/LOG(2))))","v":{"$error":"#DIV/0!"}},null,{"$f":"N11","v":211},{"$f":"COUNTIF(L20:L26,AD11)","v":0},{"$f":"AE11/(AG4-AE7)","v":{"$error":"#DIV/0!"}},{"$f":"IF(AF11=0,0,(AF11*((LOG(AF11))/LOG(2))))","v":{"$error":"#DIV/0!"}},null,{"$f":"N11","v":211},{"$f":"COUNTIF(L27:L33,AI11)","v":0},{"$f":"AJ11/(AL4-AJ7)","v":{"$error":"#DIV/0!"}},{"$f":"IF(AK11=0,0,(AK11*((LOG(AK11))/LOG(2))))","v":{"$error":"#DIV/0!"}},null,{"$f":"N11","v":211},{"$f":"COUNTIF(L34:L39,AN11)","v":0},{"$f":"AO11/(AQ4-AO7)","v":{"$error":"#DIV/0!"}},{"$f":"IF(AP11=0,0,(AP11*((LOG(AP11))/LOG(2))))","v":{"$error":"#DIV/0!"}},null,{"$f":"N11","v":211},{"$f":"COUNTIF(L40:L46,AS11)","v":0},{"$f":"AT11/(AV4-AT7)","v":{"$error":"#DIV/0!"}},{"$f":"IF(AU11=0,0,(AU11*((LOG(AU11))/LOG(2))))","v":{"$error":"#DIV/0!"}}]
[11,766,11,772,11,777,null,null,null,null,0,111,null,212,{"$f":"COUNTIF($L$7:$L$500,N12)","v":0},{"$f":"O12/$Q$4","v":0},{"$f":"IF(P12=0,0,(P12*((LOG(P12))/LOG(2))))","v":0},null,null,{"$f":"N12","v":212},{"$f":"COUNTIF(L7:L13,T12)","v":0},{"$f":"U12/(W4-U7)","v":{"$error":"#DIV/0!"}},{"$f":"IF(V12=0,0,(V12*((LOG(V12))/LOG(2))))","v":{"$error":"#DIV/0!"}},null,{"$f":"N12","v":212},{"$f":"COUNTIF(L14:L19,Y12)","v":0},{"$f":"Z12/(AB4-Z7)","v":{"$error":"#DIV/0!"}},{"$f":"IF(AA12=0,0,(AA12*((LOG(AA12))/LOG(2))))","v":{"$error":"#DIV/0!"}},null,{"$f":"N12","v":212},{"$f":"COUNTIF(L20:L26,AD12)","v":0},{"$f":"AE12/(AG4-AE7)","v":{"$error":"#DIV/0!"}},{"$f":"IF(AF12=0,0,(AF12*((LOG(AF12))/LOG(2))))","v":{"$error":"#DIV/0!"}},null,{"$f":"N12","v":212},{"$f":"COUNTIF(L27:L33,AI12)","v":0},{"$f":"AJ12/(AL4-AJ7)","v":{"$error":"#DIV/0!"}},{"$f":"IF(AK12=0,0,(AK12*((LOG(AK12))/LOG(2))))","v":{"$error":"#DIV/0!"}},null,{"$f":"N12","v":212},{"$f":"COUNTIF(L34:L39,AN12)","v":0},{"$f":"AO12/(AQ4-AO7)","v":{"$error":"#DIV/0!"}},{"$f":"IF(AP12=0,0,(AP12*((LOG(AP12))/LOG(2))))","v":{"$error":"#DIV/0!"}},null,{"$f":"N12","v":212},{"$f":"COUNTIF(L40:L46,AS12)","v":0},{"$f":"AT12/(AV4-AT7)","v":{"$error":"#DIV/0!"}},{"$f":"IF(AU12=0,0,(AU12*((LOG(AU12))/LOG(2))))","v":{"$error":"#DIV/0!"}}]
[11,874,11,878,11,884,null,null,null,null,0,111,null,221,{"$f":"COUNTIF($L$7:$L$500,N13)","v":0},{"$f":"O13/$Q$4","v":0},{"$f":"IF(P13=0,0,(P13*((LOG(P13))/LOG(2))))","v":0},null,null,{"$f":"N13","v":221},{"$f":"COUNTIF(L7:L13,T13)","v":0},{"$f":"U13/(W4-U7)","v":{"$error":"#DIV/0!"}},{"$f":"IF(V13=0,0,(V13*((LOG(V13))/LOG(2))))","v":{"$error":"#DIV/0!"}},null,{"$f":"N13","v":221},{"$f":"COUNTIF(L14:L19,Y13)","v":0},{"$f":"Z13/(AB4-Z7)","v":{"$error":"#DIV/0!"}},{"$f":"IF(AA13=0,0,(AA13*((LOG(AA13))/LOG(2))))","v":{"$error":"#DIV/0!"}},null,{"$f":"N13","v":221},{"$f":"COUNTIF(L20:L26,AD13)","v":0},{"$f":"AE13/(AG4-AE7)","v":{"$error":"#DIV/0!"}},{"$f":"IF(AF13=0,0,(AF13*((LOG(AF13))/LOG(2))))","v":{"$error":"#DIV/0!"}},null,{"$f":"N13","v":221},{"$f":"COUNTIF(L27:L33,AI13)","v":0},{"$f":"AJ13/(AL4-AJ7)","v":{"$error":"#DIV/0!"}},{"$f":"IF(AK13=0,0,(AK13*((LOG(AK13))/LOG(2))))","v":{"$error":"#DIV/0!"}},null,{"$f":"N13","v":221},{"$f":"COUNTIF(L34:L39,AN13)","v":0},{"$f":"AO13/(AQ4-AO7)","v":{"$error":"#DIV/0!"}},{"$f":"IF(AP13=0,0,(AP13*((LOG(AP13))/LOG(2))))","v":{"$error":"#DIV/0!"}},null,{"$f":"N13","v":221},{"$f":"COUNTIF(L40:L46,AS13)","v":0},{"$f":"AT13/(AV4-AT7)","v":{"$error":"#DIV/0!"}},{"$f":"IF(AU13=0,0,(AU13*((LOG(AU13))/LOG(2))))","v":{"$error":"#DIV/0!"}}]
[11,1018,11,1021,11,1023,null,null,null,null,0,111,null,222,{"$f":"COUNTIF($L$7:$L$500,N14)","v":0},{"$f":"O14/$Q$4","v":0},{"$f":"IF(P14=0,0,(P14*((LOG(P14))/LOG(2))))","v":0},null,null,{"$f":"N14","v":222},{"$f":"COUNTIF(L7:L13,T14)","v":0},{"$f":"U14/(W4-U7)","v":{"$error":"#DIV/0!"}},{"$f":"IF(V14=0,0,(V14*((LOG(V14))/LOG(2))))","v":{"$error":"#DIV/0!"}},null,{"$f":"N14","v":222},{"$f":"COUNTIF(L14:L19,Y14)","v":0},{"$f":"Z14/(AB4-Z7)","v":{"$error":"#DIV/0!"}},{"$f":"IF(AA14=0,0,(AA14*((LOG(AA14))/LOG(2))))","v":{"$error":"#DIV/0!"}},null,{"$f":"N14","v":222},{"$f":"COUNTIF(L20:L26,AD14)","v":0},{"$f":"AE14/(AG4-AE7)","v":{"$error":"#DIV/0!"}},{"$f":"IF(AF14=0,0,(AF14*((LOG(AF14))/LOG(2))))","v":{"$error":"#DIV/0!"}},null,{"$f":"N14","v":222},{"$f":"COUNTIF(L27:L33,AI14)","v":0},{"$f":"AJ14/(AL4-AJ7)","v":{"$error":"#DIV/0!"}},{"$f":"IF(AK14=0,0,(AK14*((LOG(AK14))/LOG(2))))","v":{"$error":"#DIV/0!"}},null,{"$f":"N14","v":222},{"$f":"COUNTIF(L34:L39,AN14)","v":0},{"$f":"AO14/(AQ4-AO7)","v":{"$error":"#DIV/0!"}},{"$f":"IF(AP14=0,0,(AP14*((LOG(AP14))/LOG(2))))","v":{"$error":"#DIV/0!"}},null,{"$f":"N14","v":222},{"$f":"COUNTIF(L40:L46,AS14)","v":0},{"$f":"AT14/(AV4-AT7)","v":{"$error":"#DIV/0!"}},{"$f":"IF(AU14=0,0,(AU14*((LOG(AU14))/LOG(2))))","v":{"$error":"#DIV/0!"}}]
[11,1140,11,1149,11,1156,null,null,null,null,0,111,null,null,null,{"$f":"SUM(P7:P14)","v":1},{"$f":"-SUM(Q7:Q14)","v":0},null,null,null,null,{"$f":"SUM(V7:V14)","v":{"$error":"#DIV/0!"}},{"$f":"-SUM(W7:W14)","v":{"$error":"#DIV/0!"}},null,null,null,{"$f":"SUM(AA7:AA14)","v":{"$error":"#DIV/0!"}},{"$f":"-SUM(AB7:AB14)","v":{"$error":"#DIV/0!"}},null,null,null,{"$f":"SUM(AF7:AF14)","v":{"$error":"#DIV/0!"}},{"$f":"-SUM(AG7:AG14)","v":{"$error":"#DIV/0!"}},null,null,null,{"$f":"SUM(AK7:AK14)","v":{"$error":"#DIV/0!"}},{"$f":"-SUM(AL7:AL14)","v":{"$error":"#DIV/0!"}},null,null,null,{"$f":"SUM(AP7:AP14)","v":{"$error":"#DIV/0!"}},{"$f":"-SUM(AQ7:AQ14)","v":{"$error":"#DIV/0!"}},null,null,null,{"$f":"SUM(AU7:AU14)","v":{"$error":"#DIV/0!"}},{"$f":"-SUM(AV7:AV14)","v":{"$error":"#DIV/0!"}}]
[11,1310,11,1318,11,1325,null,null,null,null,0,111,null,null,null,"U=",{"$f":"Q15/(LOG(Q4)/LOG(2))","v":0},null,null,null,null,"U1=",{"$f":"W15/(LOG(W4)/LOG(2))","v":{"$error":"#DIV/0!"}},null,null,null,"U2=",{"$f":"AB15/(LOG(AB4)/LOG(2))","v":{"$error":"#DIV/0!"}},null,null,null,"U3=",{"$f":"AG15/(LOG(AG4)/LOG(2))","v":{"$error":"#DIV/0!"}},null,null,null,"U4=",{"$f":"AL15/(LOG(AL4)/LOG(2))","v":{"$error":"#DIV/0!"}},null,null,null,"U5=",{"$f":"AQ15/(LOG(AQ4)/LOG(2))","v":{"$error":"#DIV/0!"}},null,null,null,"U6=",{"$f":"AV15/(LOG(AV4)/LOG(2))","v":{"$error":"#DIV/0!"}}]
[11,1520,11,1524,11,1529,null,null,null,null,0,111]
[11,1665,11,1670,11,1677,null,null,null,null,0,111]
[11,1823,11,1827,11,1833,null,null,null,null,0,111,null,"Total Target Seq"]
[11,2001,11,2009,11,2017,null,null,null,null,0,111,null,{"$f":"COUNTIF(L7:L46,G3)","v":40},null,7,6,7,7,6,7]
[11,2138,11,2145,11,2152,null,null,null,null,0,111,null,null,null,"% of reinforcement given in 6 equal intervals based on number of trials "]
[11,2269,11,2274,11,2282,null,null,null,null,0,111,null,null,null,"%_1","%_2","%_3","%_4","%_5","%_6"]
[11,2410,11,2414,11,2420,null,null,null,null,0,111,null,null,"target sequence",{"$f":"$G$3","v":111},{"$f":"$G$3","v":111},{"$f":"$G$3","v":111},{"$f":"$G$3","v":111},{"$f":"$G$3","v":111},{"$f":"$G$3","v":111}]
[11,2564,11,2569,11,2576,null,null,null,null,0,111,null,null,"total reinforcement",{"$f":"U7","v":7},{"$f":"Z7","v":6},{"$f":"AE7","v":7},{"$f":"AJ7","v":7},{"$f":"AO7","v":6},{"$f":"AT7","v":7}]
[11,2674,11,2679,11,2692,null,null,null,null,0,111,null,null,"% target"]
[11,2820,11,2826,11,2833,null,null,null,null,0,111,null,null,"CCRF"]
[11,2955,11,2961,11,2969,null,null,null,null,0,111,null,null,"% CCRf"]
[11,3102,11,3106,11,3114,null,null,null,null,0,111,null,null,"average response rate",{"$f":"F13/P20","v":126.28571428571429},{"$f":"(F19-F13)/Q20","v":158.16666666666666},{"$f":"(F26-F19)/R20","v":142.85714285714286},{"$f":"(F33-F26)/S20","v":153.14285714285714},{"$f":"(F39-F33)/T20","v":166.16666666666666},{"$f":"(F46-F39)/U20","v":194.42857142857142}]
[11,3303,11,3306,11,3312,null,null,null,null,0,111]
[11,3421,11,3426,11,3430,null,null,null,null,0,111]
[11,3563,11,3569,11,3575,null,null,null,null,0,111]
[11,3764,11,3771,11,3778,null,null,null,null,0,111]
[11,3891,11,3899,11,3905,null,null,null,null,0,111]
[11,4048,11,4055,11,4057,null,null,null,null,0,111]
[11,4203,11,4208,11,4210,null,null,null,null,0,111]
[11,4338,11,4344,11,4351,null,null,null,null,0,111]
[11,4479,11,4483,11,4489,null,null,null,null,0,111]
[11,4643,11,4649,11,4656,null,null,null,null,0,111]
[11,4890,11,4896,11,4902,null,null,null,null,0,111]
[11,5125,11,5130,11,5137,null,null,null,null,0,111]
[11,5240,11,5245,11,5251,null,null,null,null,0,111]
[11,5404,11,5409,11,5417,null,null,null,null,0,111]
[11,5600,11,5606,11,5612,null,null,null,null,0,111]
[11,5733,11,5737,11,5739,null,null,null,null,0,111]
[11,6002,11,6006,11,6019,null,null,null,null,0,111]
[11,6254,11,6257,11,6263,null,null,null,null,1,111]