{"text_format":"1","workbook":"xlsx","n_sheets":32,"sheets":["Sample Report","Summary","Start","!MC31A00.105","!N102A20.105","!N103A10.105","!N104B30.105","!N105A10.105","!N106840.105","!N107910.105","!N108A10.105","!N109900.105","!N110A10.105","!N111C00.105","!N112850.105","!N113A30.105","!N114920.105","!N115940.105","!N116920.105","!N117B40.105","!N118B10.105","!N120A40.105","!N121B10.105","!N122930.105","!N123B00.105","!N124950.105","!N125A20.105","!N127A30.105","!N128900.105","!N129A40.105","!N130A40.105","!N131830.105"],"not_rendered":{"charts":0,"images":0,"macros":1,"external_links":0,"defined_names":0,"comments":0,"pivot_tables":0},"unopened":[],"bounds":{"document_bytes":16777216,"sheet_cells":100000,"rows_first":2000,"rows_last":500,"rows_between":2000,"halvings":0,"cell_chars":16384,"cell_head_chars":4096},"cells_cut":0,"cells_raw":0,"read":"whole","date_system":"1900"}

{"sheet":"Sample Report","index":0,"n_rows":12,"n_cols":11,"rows_kept":12,"cut":false,"hidden":true,"merged":[[7,0,7,6]]}
[]
["Date"]
["Hen"]
["Program"]
["Start at 999999"]
["Sequence component 1","Time 1","Seqeunce Component 2","Time 2","Seqeunce Component 3","Time 3","Correct   0 = No 1=Yes",null,null,"Seqeunce","Time"]
[12,7,12,42,13,18,"if 77 new line,                                  if 31 or 41 = yes new line on 77, ",null,null,"=string of Seqeunce compponent 1, 2 & 3","=time 3"]
["This continues until ther is a 1 on its own to indicate start of summary data"]
[null,null,null,null,null,null,null,null,null,"10-19 =1"]
["Summary Data ",null,null,null,null,null,null,null,null,"20-29 =2"]
["Correct","Incorrect","Rft","total","Av Correct","Av Incorrect","Percent correct","Time",null,"in this example the seqeunce would be 111"]
[40,33,40,73,23.95,15,54,806]

{"sheet":"Summary","index":1,"n_rows":32,"n_cols":24,"rows_kept":32,"cut":false,"hidden":false,"merged":[]}
[]
["Day","Date","Average Response Rate","Target %","RF for non correct sequence","U Value",null,null,null,null,"Block 1","Block 2","Block 3","Block 4","Block 5","Block 6"]
[1,{"$f":"'!MC31A00.105'!B2:C2","v":"<date>"},{"$f":"('!MC31A00.105'!J98/60)/'!MC31A00.105'!Q3","v":4.0599637681159422},{"$f":"'!MC31A00.105'!N44/'!MC31A00.105'!Q3","v":0},{"$f":"SUM('!MC31A00.105'!L44:Q44)/'!MC31A00.105'!Q3","v":132.09782608695653},{"$f":"'!MC31A00.105'!Q40","v":0.60717361269554992},null,null,null,"Average Response Rate",{"$f":"AVERAGE(C3:C7)","v":3.3095507119321694},{"$f":"AVERAGE(C8:C12)","v":16.905888629888629},{"$f":"AVERAGE(C13:C17)","v":35.511944444444445},{"$f":"AVERAGE(C18:C22)","v":26.653796387520526},{"$f":"AVERAGE(C23:C27)","v":20.357222222222223},{"$f":"AVERAGE(C28:C32)","v":18.548510304659494}]
[2,{"$f":"'!N102A20.105'!B2:C2","v":"<date>"},{"$f":"('!N102A20.105'!J63/60)/'!N102A20.105'!Q3","v":6.4629310344827591},{"$f":"'!N102A20.105'!N44/'!N102A20.105'!Q3","v":0},{"$f":"SUM('!N102A20.105'!L44:Q44)/'!N102A20.105'!Q3","v":209.31034482758622},{"$f":"'!N102A20.105'!Q40","v":0.64517635827714548},null,null,null,"Target %",{"$f":"AVERAGE(D3:D7)","v":3.3898305084745762E-3},{"$f":"AVERAGE(D8:D12)","v":1.2500000000000001E-2},{"$f":"AVERAGE(D13:D17)","v":0},{"$f":"AVERAGE(D18:D22)","v":6.8965517241379309E-3},{"$f":"AVERAGE(D23:D27)","v":2.222222222222222E-2},{"$f":"AVERAGE(D28:D32)","v":8.0645161290322578E-3}]
[3,{"$f":"'!N103A10.105'!B2:C2","v":"<date>"},{"$f":"('!N103A10.105'!J7/60)/'!N103A10.105'!Q3","v":0},{"$f":"'!N103A10.105'!N44/'!N103A10.105'!Q3","v":0},{"$f":"SUM('!N103A10.105'!L44:Q44)/'!N103A10.105'!Q3","v":0},0,null,null,null,"CCRF",{"$f":"AVERAGE(E3:E7)","v":106.42960028460348},{"$f":"AVERAGE(E8:E12)","v":56.414874708624708},{"$f":"AVERAGE(E13:E17)","v":0.34166666666666662},{"$f":"AVERAGE(E18:E22)","v":0.31967159277504098},{"$f":"AVERAGE(E23:E27)","v":0.36031746031746026},{"$f":"AVERAGE(E28:E32)","v":0.3178763440860215}]
[4,{"$f":"'!N104B30.105'!B2:C2","v":"<date>"},{"$f":"('!N104B30.105'!J64/60)/'!N104B30.105'!Q3","v":6.0248587570621464},{"$f":"'!N104B30.105'!N44/'!N104B30.105'!Q3","v":1.6949152542372881E-2},{"$f":"SUM('!N104B30.105'!L44:Q44)/'!N104B30.105'!Q3","v":190.38983050847457},{"$f":"'!N104B30.105'!Q40","v":0.60173333143131558},null,null,null,"U Value",{"$f":"AVERAGE(F3:F7)","v":0.5460367748632613},{"$f":"AVERAGE(F8:F12)","v":0.74259944361076913},{"$f":"AVERAGE(F13:F17)","v":0.76440202523397194},{"$f":"AVERAGE(F18:F22)","v":0.81549762833481654},{"$f":"AVERAGE(F23:F27)","v":0.77344813689017056},{"$f":"AVERAGE(F28:F32)","v":0.79129600129110578}]
[5,{"$f":"'!N105A10.105'!B2:C2","v":"<date>"},{"$f":"('!N105A10.105'!J26/60)/'!N105A10.105'!Q3","v":0},{"$f":"'!N105A10.105'!N44/'!N105A10.105'!Q3","v":0},{"$f":"SUM('!N105A10.105'!L44:Q44)/'!N105A10.105'!Q3","v":0.35},{"$f":"'!N105A10.105'!Q40","v":0.87610057191229596}]
[6,{"$f":"'!N106840.105'!B2:C2","v":"<date>"},{"$f":"('!N106840.105'!J17/60)/'!N106840.105'!Q3","v":36.295454545454547},{"$f":"'!N106840.105'!N44/'!N106840.105'!Q3","v":0},{"$f":"SUM('!N106840.105'!L44:Q44)/'!N106840.105'!Q3","v":0.36363636363636365},{"$f":"'!N106840.105'!Q40","v":0.89488551770258606}]
[7,{"$f":"'!N107910.105'!B2:C2","v":"<date>"},{"$f":"('!N107910.105'!J38/60)/'!N107910.105'!Q3","v":11.752083333333333},{"$f":"'!N107910.105'!N44/'!N107910.105'!Q3","v":6.25E-2},{"$f":"SUM('!N107910.105'!L44:Q44)/'!N107910.105'!Q3","v":0.40625},{"$f":"'!N107910.105'!Q40","v":0.70550365325772657},{"$f":"K3","v":3.3095507119321694},16.905888629888629,35.511944444444445,26.653796387520526,20.357222222222223,18.548510304659494,{"$f":"K4","v":3.3898305084745762E-3},1.2500000000000001E-2,0,6.8965517241379309E-3,2.222222222222222E-2,8.0645161290322578E-3,{"$f":"K6","v":0.5460367748632613},0.74259944361076913,0.76440202523397194,0.81549762833481654,0.77344813689017056,0.79129600129110578]
[8,{"$f":"'!N108A10.105'!B2:C2","v":"<date>"},{"$f":"('!N108A10.105'!J46/60)/'!N108A10.105'!Q3","v":8.6195833333333347},{"$f":"'!N108A10.105'!N44/'!N108A10.105'!Q3","v":0},{"$f":"SUM('!N108A10.105'!L44:Q44)/'!N108A10.105'!Q3","v":280.625},{"$f":"'!N108A10.105'!Q40","v":0.6804916788694273}]
[9,{"$f":"'!N109900.105'!B2:C2","v":"<date>"},{"$f":"('!N109900.105'!J33/60)/'!N109900.105'!Q3","v":12.662962962962963},{"$f":"'!N109900.105'!N44/'!N109900.105'!Q3","v":0},{"$f":"SUM('!N109900.105'!L44:Q44)/'!N109900.105'!Q3","v":0.33333333333333331},{"$f":"'!N109900.105'!Q40","v":0.74202438708089991}]
[10,{"$f":"'!N110A10.105'!B2:C2","v":"<date>"},{"$f":"('!N110A10.105'!J32/60)/'!N110A10.105'!Q3","v":15.199358974358974},{"$f":"'!N110A10.105'!N44/'!N110A10.105'!Q3","v":0},{"$f":"SUM('!N110A10.105'!L44:Q44)/'!N110A10.105'!Q3","v":0.34615384615384615},{"$f":"'!N110A10.105'!Q40","v":0.69009198114320602}]
[11,{"$f":"'!N111C00.105'!B2:C2","v":"<date>"},{"$f":"('!N111C00.105'!J17/60)/'!N111C00.105'!Q3","v":19.734722222222221},{"$f":"'!N111C00.105'!N44/'!N111C00.105'!Q3","v":0},{"$f":"SUM('!N111C00.105'!L44:Q44)/'!N111C00.105'!Q3","v":0.33333333333333331},{"$f":"'!N111C00.105'!Q40","v":0.73721379425646538}]
[12,{"$f":"'!N112850.105'!B2:C2","v":"<date>"},{"$f":"('!N112850.105'!J12/60)/'!N112850.105'!Q3","v":54.141666666666673},{"$f":"'!N112850.105'!N44/'!N112850.105'!Q3","v":0},{"$f":"SUM('!N112850.105'!L44:Q44)/'!N112850.105'!Q3","v":0.33333333333333331},{"$f":"'!N112850.105'!Q40","v":0.25146299858006066}]
[13,{"$f":"'!N113A30.105'!B2:C2","v":"<date>"},{"$f":"('!N113A30.105'!J14/60)/'!N113A30.105'!Q3","v":38.44166666666667},{"$f":"'!N113A30.105'!N44/'!N113A30.105'!Q3","v":0},{"$f":"SUM('!N113A30.105'!L44:Q44)/'!N113A30.105'!Q3","v":0.375},{"$f":"'!N113A30.105'!Q40","v":0.83333333333333337}]
[14,{"$f":"'!N114920.105'!B2:C2","v":"<date>"},{"$f":"('!N114920.105'!J9/60)/'!N114920.105'!Q3","v":4.5388888888888888},{"$f":"'!N114920.105'!N44/'!N114920.105'!Q3","v":0},{"$f":"SUM('!N114920.105'!L44:Q44)/'!N114920.105'!Q3","v":0.33333333333333331},{"$f":"'!N114920.105'!Q40","v":0.99999999999999989}]
[15,{"$f":"'!N115940.105'!B2:C2","v":"<date>"},{"$f":"('!N115940.105'!J12/60)/'!N115940.105'!Q3","v":60.702777777777776},{"$f":"'!N115940.105'!N44/'!N115940.105'!Q3","v":0},{"$f":"SUM('!N115940.105'!L44:Q44)/'!N115940.105'!Q3","v":0.33333333333333331},{"$f":"'!N115940.105'!Q40","v":1}]
[16,{"$f":"'!N116920.105'!B2:C2","v":"<date>"},{"$f":"('!N116920.105'!J26/60)/'!N116920.105'!Q3","v":16.806666666666665},{"$f":"'!N116920.105'!N44/'!N116920.105'!Q3","v":0},{"$f":"SUM('!N116920.105'!L44:Q44)/'!N116920.105'!Q3","v":0.35},{"$f":"'!N116920.105'!Q40","v":0.80616420340283168}]
[17,{"$f":"'!N117B40.105'!B2:C2","v":"<date>"},{"$f":"('!N117B40.105'!J13/60)/'!N117B40.105'!Q3","v":51.75714285714286},{"$f":"'!N117B40.105'!N44/'!N117B40.105'!Q3","v":0},{"$f":"SUM('!N117B40.105'!L44:Q44)/'!N117B40.105'!Q3","v":0.2857142857142857},{"$f":"'!N117B40.105'!Q40","v":0.89822651796913644}]
[18,{"$f":"'!N118B10.105'!B2:C2","v":"<date>"},{"$f":"('!N118B10.105'!J18/60)/'!N118B10.105'!Q3","v":0},{"$f":"'!N118B10.105'!N44/'!N118B10.105'!Q3","v":0},{"$f":"SUM('!N118B10.105'!L44:Q44)/'!N118B10.105'!Q3","v":0.33333333333333331},{"$f":"'!N118B10.105'!Q40","v":0.84232827655387921}]
[19,{"$f":"'!N120A40.105'!B2:C2","v":"<date>"},{"$f":"('!N120A40.105'!J10/60)/'!N120A40.105'!Q3","v":51.55},{"$f":"'!N120A40.105'!N44/'!N120A40.105'!Q3","v":0},{"$f":"SUM('!N120A40.105'!L44:Q44)/'!N120A40.105'!Q3","v":0.25},{"$f":"'!N120A40.105'!Q40","v":0.75}]
[20,{"$f":"'!N121B10.105'!B2:C2","v":"<date>"},{"$f":"('!N121B10.105'!J34/60)/'!N121B10.105'!Q3","v":13.155172413793103},{"$f":"'!N121B10.105'!N44/'!N121B10.105'!Q3","v":3.4482758620689655E-2},{"$f":"SUM('!N121B10.105'!L44:Q44)/'!N121B10.105'!Q3","v":0.37931034482758619},{"$f":"'!N121B10.105'!Q40","v":0.78076914374823625}]
[21,{"$f":"'!N122930.105'!B2:C2","v":"<date>"},{"$f":"('!N122930.105'!J11/60)/'!N122930.105'!Q3","v":47.43888888888889},{"$f":"'!N122930.105'!N44/'!N122930.105'!Q3","v":0},{"$f":"SUM('!N122930.105'!L44:Q44)/'!N122930.105'!Q3","v":0.33333333333333331},{"$f":"'!N122930.105'!Q40","v":0.5904362833084088}]
[22,{"$f":"'!N123B00.105'!B2:C2","v":"<date>"},{"$f":"('!N123B00.105'!J20/60)/'!N123B00.105'!Q3","v":0},{"$f":"'!N123B00.105'!N44/'!N123B00.105'!Q3","v":0},{"$f":"SUM('!N123B00.105'!L44:Q44)/'!N123B00.105'!Q3","v":0.35714285714285715},{"$f":"'!N123B00.105'!Q40","v":0.63601467064562123}]
[23,{"$f":"'!N124950.105'!B2:C2","v":"<date>"},{"$f":"('!N124950.105'!J12/60)/'!N124950.105'!Q3","v":41.758333333333333},{"$f":"'!N124950.105'!N44/'!N124950.105'!Q3","v":0},{"$f":"SUM('!N124950.105'!L44:Q44)/'!N124950.105'!Q3","v":0.33333333333333331},{"$f":"'!N124950.105'!Q40","v":0.87104906425515272}]
[24,{"$f":"'!N125A20.105'!B2:C2","v":"<date>"},{"$f":"('!N125A20.105'!J24/60)/'!N125A20.105'!Q3","v":0},{"$f":"'!N125A20.105'!N44/'!N125A20.105'!Q3","v":0},{"$f":"SUM('!N125A20.105'!L44:Q44)/'!N125A20.105'!Q3","v":0.33333333333333331},{"$f":"'!N125A20.105'!Q40","v":0.76974066624166981}]
[25,{"$f":"'!N127A30.105'!B2:C2","v":"<date>"},{"$f":"('!N127A30.105'!J15/60)/'!N127A30.105'!Q3","v":12.588888888888889},{"$f":"'!N127A30.105'!N44/'!N127A30.105'!Q3","v":0.1111111111111111},{"$f":"SUM('!N127A30.105'!L44:Q44)/'!N127A30.105'!Q3","v":0.44444444444444442},{"$f":"'!N127A30.105'!Q40","v":1}]
[26,{"$f":"'!N128900.105'!B2:C2","v":"<date>"},{"$f":"('!N128900.105'!J10/60)/'!N128900.105'!Q3","v":2.6291666666666669},{"$f":"'!N128900.105'!N44/'!N128900.105'!Q3","v":0},{"$f":"SUM('!N128900.105'!L44:Q44)/'!N128900.105'!Q3","v":0.25},{"$f":"'!N128900.105'!Q40","v":0.75}]
[27,{"$f":"'!N129A40.105'!B2:C2","v":"<date>"},{"$f":"('!N129A40.105'!J36/60)/'!N129A40.105'!Q3","v":11.087096774193547},{"$f":"'!N129A40.105'!N44/'!N129A40.105'!Q3","v":3.2258064516129031E-2},{"$f":"SUM('!N129A40.105'!L44:Q44)/'!N129A40.105'!Q3","v":0.35483870967741937},{"$f":"'!N129A40.105'!Q40","v":0.69930270066814737}]
[28,{"$f":"'!N130A40.105'!B2:C2","v":"<date>"},{"$f":"('!N130A40.105'!J23/60)/'!N130A40.105'!Q3","v":19.420370370370371},{"$f":"'!N130A40.105'!N44/'!N130A40.105'!Q3","v":0},{"$f":"SUM('!N130A40.105'!L44:Q44)/'!N130A40.105'!Q3","v":0.33333333333333331},{"$f":"'!N130A40.105'!Q40","v":0.85608791640104376}]
[29,{"$f":"'!N131830.105'!B2:C2","v":"<date>"},{"$f":"('!N131830.105'!J15/60)/'!N131830.105'!Q3","v":41.057407407407403},{"$f":"'!N131830.105'!N44/'!N131830.105'!Q3","v":0},{"$f":"SUM('!N131830.105'!L44:Q44)/'!N131830.105'!Q3","v":0.33333333333333331},{"$f":"'!N131830.105'!Q40","v":0.85979338809523176}]
[30]

{"sheet":"Start","index":2,"n_rows":35,"n_cols":10,"rows_kept":35,"cut":false,"hidden":false,"merged":[]}
[null,null,null,null,null,"Use Folder 51",null,"Auto Clean Up",null,"Correct sequence"]
[null,null,null,null,null,false,null,true,null,21121]
[]
["Working with Folder",null,null,null,null,null,"Process All/Or Pick A number: ALL or an integer"]
["E:\\Hen Data\\Raw Data\\105_185\\phase 5\\",null,null,null,null,null,"ALL"]
["Filenames:"]
["!MC31A00.105",null,null,null,null,null,"Paint Cells"]
["!N102A20.105",null,null,null,null,null,false]
["!N103A10.105"]
["!N104B30.105"]
["!N105A10.105"]
["!N106840.105"]
["!N107910.105"]
["!N108A10.105"]
["!N109900.105"]
["!N110A10.105"]
["!N111C00.105"]
["!N112850.105"]
["!N113A30.105"]
["!N114920.105"]
["!N115940.105"]
["!N116920.105"]
["!N117B40.105"]
["!N118B10.105"]
["!N120A40.105"]
["!N121B10.105"]
["!N122930.105"]
["!N123B00.105"]
["!N124950.105"]
["!N125A20.105"]
["!N127A30.105"]
["!N128900.105"]
["!N129A40.105"]
["!N130A40.105"]
["!N131830.105"]

{"sheet":"!MC31A00.105","index":3,"n_rows":98,"n_cols":48,"rows_kept":98,"cut":false,"hidden":false,"merged":[[4,39,4,42],[5,39,5,40],[4,44,4,47],[5,44,5,45],[4,24,4,27],[5,24,5,25],[4,29,4,32],[5,29,5,30],[4,34,4,37],[5,34,5,35],[1,1,1,2],[5,13,5,14],[42,13,42,14],[43,13,43,14],[4,19,4,22],[5,19,5,20]]}
["Report for:!MC31A00.105"]
["Date:","<date>"]
["Hen:","<hen>",null,null,null,"Correct Sequence",{"$f":"Start!J2","v":21121},null,null,null,null,null,null,null,null,"Total Sequences in Data",{"$f":"4994-COUNTBLANK(L7:L5000)","v":92},null,null,null,null,"Total Sequences in Block Data",{"$f":"COUNTA(L7:L21)","v":15},null,null,null,"Total Sequences in Block Data",{"$f":"COUNTA(L22:L37)","v":16},null,null,null,"Total Sequences in Block Data",{"$f":"COUNTA(L38:L52)","v":15},null,null,null,"Total Sequences in Block Data",{"$f":"COUNTA(L53:L67)","v":15},null,null,null,"Total Sequences in Block Data",{"$f":"COUNTA(L68:L83)","v":16},null,null,null,"Total Sequences in Block Data",{"$f":"COUNTA(L84:L98)","v":15}]
[null,null,null,null,null,null,null,null,null,null,null,null,null,null,null,"Total Sequences in Summary",{"$f":"SUM(O7:O38)","v":92},null,null,null,null,"Total Sequences in Block Summary",{"$f":"SUM(U7:U38)","v":15},null,null,null,"Total Sequences in Block Summary",{"$f":"SUM(Z7:Z38)","v":16},null,null,null,"Total Sequences in Block Summary",{"$f":"SUM(AE7:AE38)","v":15},null,null,null,"Total Sequences in Block Summary",{"$f":"SUM(AJ7:AJ38)","v":15},null,null,null,"Total Sequences in Block Summary",{"$f":"SUM(AO7:AO38)","v":16},null,null,null,"Total Sequences in Block Summary",{"$f":"SUM(AT7:AT38)","v":15}]
[null,null,null,null,null,null,null,null,null,null,null,null,null,null,null,null,null,null,null,"Block 1",null,null,null,null,"Block 2",null,null,null,null,"Block 3",null,null,null,null,"Block 4",null,null,null,null,"Block 5",null,null,null,null,"Block 6"]
["Sequence\nComponent\n1","Time\n1","Sequence\nComponent\n2","Time\n2","Sequence\nComponent\n3","Time\n3","Sequence\nComponent\n4","Time\n4","Sequence\nComponent\n5","Time\n5","Correct?\n0=No 1=Yes","Sequence",null,"Frequency",null,"Relative Frequency","Variability",null,null,"Frequency",null,"Relative Frequency","Variability",null,"Frequency",null,"Relative Frequency","Variability",null,"Frequency",null,"Relative Frequency","Variability",null,"Frequency",null,"Relative Frequency","Variability",null,"Frequency",null,"Relative Frequency","Variability",null,"Frequency",null,"Relative Frequency","Variability"]
[12,19,24,29,24,59,23,88,24,131,0,12222,null,11111,{"$f":"COUNTIF($L$7:$L$500,N7)","v":0},{"$f":"O7/$Q$4","v":0},{"$f":"IF(P7=0,0,(P7*((LOG(P7))/LOG(2))))","v":0},null,null,{"$f":"N7","v":11111},{"$f":"COUNTIF(L7:L21,T7)","v":0},{"$f":"U7/(W4-U25)","v":0},{"$f":"IF(V7=0,0,(V7*((LOG(V7))/LOG(2))))","v":0},null,{"$f":"N7","v":11111},{"$f":"COUNTIF(L22:L37,Y7)","v":0},{"$f":"Z7/(AB4-Z25)","v":0},{"$f":"IF(AA7=0,0,(AA7*((LOG(AA7))/LOG(2))))","v":0},null,{"$f":"N7","v":11111},{"$f":"COUNTIF(L38:L52,AD7)","v":0},{"$f":"AE7/(AG4-AE25)","v":0},{"$f":"IF(AF7=0,0,(AF7*((LOG(AF7))/LOG(2))))","v":0},null,{"$f":"N7","v":11111},{"$f":"COUNTIF(L53:L67,AI7)","v":0},{"$f":"AJ7/(AL4-AJ25)","v":0},{"$f":"IF(AK7=0,0,(AK7*((LOG(AK7))/LOG(2))))","v":0},null,{"$f":"N7","v":11111},{"$f":"COUNTIF(L68:L83,AN7)","v":0},{"$f":"AO7/(AQ4-AO25)","v":0},{"$f":"IF(AP7=0,0,(AP7*((LOG(AP7))/LOG(2))))","v":0},null,{"$f":"N7","v":11111},{"$f":"COUNTIF(L84:L98,AS7)","v":0},{"$f":"AT7/(AV4-AT25)","v":0},{"$f":"IF(AU7=0,0,(AU7*((LOG(AU7))/LOG(2))))","v":0}]
[12,240,24,251,13,316,23,329,24,344,0,12122,null,11112,{"$f":"COUNTIF($L$7:$L$500,N8)","v":2},{"$f":"O8/$Q$4","v":2.1739130434782608E-2},{"$f":"IF(P8=0,0,(P8*((LOG(P8))/LOG(2))))","v":-0.12007743382732637},null,null,{"$f":"N8","v":11112},{"$f":"COUNTIF(L7:L21,T8)","v":0},{"$f":"U8/(W4-U25)","v":0},{"$f":"IF(V8=0,0,(V8*((LOG(V8))/LOG(2))))","v":0},null,{"$f":"N8","v":11112},{"$f":"COUNTIF(L22:L37,Y8)","v":0},{"$f":"Z8/(AB4-Z25)","v":0},{"$f":"IF(AA8=0,0,(AA8*((LOG(AA8))/LOG(2))))","v":0},null,{"$f":"N8","v":11112},{"$f":"COUNTIF(L38:L52,AD8)","v":0},{"$f":"AE8/(AG4-AE25)","v":0},{"$f":"IF(AF8=0,0,(AF8*((LOG(AF8))/LOG(2))))","v":0},null,{"$f":"N8","v":11112},{"$f":"COUNTIF(L53:L67,AI8)","v":0},{"$f":"AJ8/(AL4-AJ25)","v":0},{"$f":"IF(AK8=0,0,(AK8*((LOG(AK8))/LOG(2))))","v":0},null,{"$f":"N8","v":11112},{"$f":"COUNTIF(L68:L83,AN8)","v":0},{"$f":"AO8/(AQ4-AO25)","v":0},{"$f":"IF(AP8=0,0,(AP8*((LOG(AP8))/LOG(2))))","v":0},null,{"$f":"N8","v":11112},{"$f":"COUNTIF(L84:L98,AS8)","v":2},{"$f":"AT8/(AV4-AT25)","v":0.13333333333333333},{"$f":"IF(AU8=0,0,(AU8*((LOG(AU8))/LOG(2))))","v":-0.3875854127478025}]
[21,468,22,522,13,547,23,559,24,573,0,22122,null,11121,{"$f":"COUNTIF($L$7:$L$500,N9)","v":3},{"$f":"O9/$Q$4","v":3.2608695652173912E-2},{"$f":"IF(P9=0,0,(P9*((LOG(P9))/LOG(2))))","v":-0.16104128658703878},null,null,{"$f":"N9","v":11121},{"$f":"COUNTIF(L7:L21,T9)","v":0},{"$f":"U9/(W4-U25)","v":0},{"$f":"IF(V9=0,0,(V9*((LOG(V9))/LOG(2))))","v":0},null,{"$f":"N9","v":11121},{"$f":"COUNTIF(L22:L37,Y9)","v":0},{"$f":"Z9/(AB4-Z25)","v":0},{"$f":"IF(AA9=0,0,(AA9*((LOG(AA9))/LOG(2))))","v":0},null,{"$f":"N9","v":11121},{"$f":"COUNTIF(L38:L52,AD9)","v":0},{"$f":"AE9/(AG4-AE25)","v":0},{"$f":"IF(AF9=0,0,(AF9*((LOG(AF9))/LOG(2))))","v":0},null,{"$f":"N9","v":11121},{"$f":"COUNTIF(L53:L67,AI9)","v":1},{"$f":"AJ9/(AL4-AJ25)","v":6.6666666666666666E-2},{"$f":"IF(AK9=0,0,(AK9*((LOG(AK9))/LOG(2))))","v":-0.26045937304056793},null,{"$f":"N9","v":11121},{"$f":"COUNTIF(L68:L83,AN9)","v":1},{"$f":"AO9/(AQ4-AO25)","v":6.25E-2},{"$f":"IF(AP9=0,0,(AP9*((LOG(AP9))/LOG(2))))","v":-0.25},null,{"$f":"N9","v":11121},{"$f":"COUNTIF(L84:L98,AS9)","v":1},{"$f":"AT9/(AV4-AT25)","v":6.6666666666666666E-2},{"$f":"IF(AU9=0,0,(AU9*((LOG(AU9))/LOG(2))))","v":-0.26045937304056793}]
[12,683,24,695,24,722,14,745,24,758,0,12212,null,11122,{"$f":"COUNTIF($L$7:$L$500,N10)","v":3},{"$f":"O10/$Q$4","v":3.2608695652173912E-2},{"$f":"IF(P10=0,0,(P10*((LOG(P10))/LOG(2))))","v":-0.16104128658703878},null,null,{"$f":"N10","v":11122},{"$f":"COUNTIF(L7:L21,T10)","v":0},{"$f":"U10/(W4-U25)","v":0},{"$f":"IF(V10=0,0,(V10*((LOG(V10))/LOG(2))))","v":0},null,{"$f":"N10","v":11122},{"$f":"COUNTIF(L22:L37,Y10)","v":0},{"$f":"Z10/(AB4-Z25)","v":0},{"$f":"IF(AA10=0,0,(AA10*((LOG(AA10))/LOG(2))))","v":0},null,{"$f":"N10","v":11122},{"$f":"COUNTIF(L38:L52,AD10)","v":0},{"$f":"AE10/(AG4-AE25)","v":0},{"$f":"IF(AF10=0,0,(AF10*((LOG(AF10))/LOG(2))))","v":0},null,{"$f":"N10","v":11122},{"$f":"COUNTIF(L53:L67,AI10)","v":0},{"$f":"AJ10/(AL4-AJ25)","v":0},{"$f":"IF(AK10=0,0,(AK10*((LOG(AK10))/LOG(2))))","v":0},null,{"$f":"N10","v":11122},{"$f":"COUNTIF(L68:L83,AN10)","v":3},{"$f":"AO10/(AQ4-AO25)","v":0.1875},{"$f":"IF(AP10=0,0,(AP10*((LOG(AP10))/LOG(2))))","v":-0.45281953111478312},null,{"$f":"N10","v":11122},{"$f":"COUNTIF(L84:L98,AS10)","v":0},{"$f":"AT10/(AV4-AT25)","v":0},{"$f":"IF(AU10=0,0,(AU10*((LOG(AU10))/LOG(2))))","v":0}]
[12,865,24,875,24,901,23,925,13,948,0,12221,null,11211,{"$f":"COUNTIF($L$7:$L$500,N11)","v":0},{"$f":"O11/$Q$4","v":0},{"$f":"IF(P11=0,0,(P11*((LOG(P11))/LOG(2))))","v":0},null,null,{"$f":"N11","v":11211},{"$f":"COUNTIF(L7:L21,T11)","v":0},{"$f":"U11/(W4-U25)","v":0},{"$f":"IF(V11=0,0,(V11*((LOG(V11))/LOG(2))))","v":0},null,{"$f":"N11","v":11211},{"$f":"COUNTIF(L22:L37,Y11)","v":0},{"$f":"Z11/(AB4-Z25)","v":0},{"$f":"IF(AA11=0,0,(AA11*((LOG(AA11))/LOG(2))))","v":0},null,{"$f":"N11","v":11211},{"$f":"COUNTIF(L38:L52,AD11)","v":0},{"$f":"AE11/(AG4-AE25)","v":0},{"$f":"IF(AF11=0,0,(AF11*((LOG(AF11))/LOG(2))))","v":0},null,{"$f":"N11","v":11211},{"$f":"COUNTIF(L53:L67,AI11)","v":0},{"$f":"AJ11/(AL4-AJ25)","v":0},{"$f":"IF(AK11=0,0,(AK11*((LOG(AK11))/LOG(2))))","v":0},null,{"$f":"N11","v":11211},{"$f":"COUNTIF(L68:L83,AN11)","v":0},{"$f":"AO11/(AQ4-AO25)","v":0},{"$f":"IF(AP11=0,0,(AP11*((LOG(AP11))/LOG(2))))","v":0},null,{"$f":"N11","v":11211},{"$f":"COUNTIF(L84:L98,AS11)","v":0},{"$f":"AT11/(AV4-AT25)","v":0},{"$f":"IF(AU11=0,0,(AU11*((LOG(AU11))/LOG(2))))","v":0}]
[12,1056,24,1092,13,1111,23,1121,24,1131,0,12122,null,11212,{"$f":"COUNTIF($L$7:$L$500,N12)","v":7},{"$f":"O12/$Q$4","v":7.6086956521739135E-2},{"$f":"IF(P12=0,0,(P12*((LOG(P12))/LOG(2))))","v":-0.28275488302169416},null,null,{"$f":"N12","v":11212},{"$f":"COUNTIF(L7:L21,T12)","v":1},{"$f":"U12/(W4-U25)","v":6.6666666666666666E-2},{"$f":"IF(V12=0,0,(V12*((LOG(V12))/LOG(2))))","v":-0.26045937304056793},null,{"$f":"N12","v":11212},{"$f":"COUNTIF(L22:L37,Y12)","v":0},{"$f":"Z12/(AB4-Z25)","v":0},{"$f":"IF(AA12=0,0,(AA12*((LOG(AA12))/LOG(2))))","v":0},null,{"$f":"N12","v":11212},{"$f":"COUNTIF(L38:L52,AD12)","v":1},{"$f":"AE12/(AG4-AE25)","v":6.6666666666666666E-2},{"$f":"IF(AF12=0,0,(AF12*((LOG(AF12))/LOG(2))))","v":-0.26045937304056793},null,{"$f":"N12","v":11212},{"$f":"COUNTIF(L53:L67,AI12)","v":2},{"$f":"AJ12/(AL4-AJ25)","v":0.13333333333333333},{"$f":"IF(AK12=0,0,(AK12*((LOG(AK12))/LOG(2))))","v":-0.3875854127478025},null,{"$f":"N12","v":11212},{"$f":"COUNTIF(L68:L83,AN12)","v":2},{"$f":"AO12/(AQ4-AO25)","v":0.125},{"$f":"IF(AP12=0,0,(AP12*((LOG(AP12))/LOG(2))))","v":-0.375},null,{"$f":"N12","v":11212},{"$f":"COUNTIF(L84:L98,AS12)","v":1},{"$f":"AT12/(AV4-AT25)","v":6.6666666666666666E-2},{"$f":"IF(AU12=0,0,(AU12*((LOG(AU12))/LOG(2))))","v":-0.26045937304056793}]
[12,1253,13,1262,24,1272,23,1301,13,1313,0,11221,null,11221,{"$f":"COUNTIF($L$7:$L$500,N13)","v":2},{"$f":"O13/$Q$4","v":2.1739130434782608E-2},{"$f":"IF(P13=0,0,(P13*((LOG(P13))/LOG(2))))","v":-0.12007743382732637},null,null,{"$f":"N13","v":11221},{"$f":"COUNTIF(L7:L21,T13)","v":1},{"$f":"U13/(W4-U25)","v":6.6666666666666666E-2},{"$f":"IF(V13=0,0,(V13*((LOG(V13))/LOG(2))))","v":-0.26045937304056793},null,{"$f":"N13","v":11221},{"$f":"COUNTIF(L22:L37,Y13)","v":0},{"$f":"Z13/(AB4-Z25)","v":0},{"$f":"IF(AA13=0,0,(AA13*((LOG(AA13))/LOG(2))))","v":0},null,{"$f":"N13","v":11221},{"$f":"COUNTIF(L38:L52,AD13)","v":0},{"$f":"AE13/(AG4-AE25)","v":0},{"$f":"IF(AF13=0,0,(AF13*((LOG(AF13))/LOG(2))))","v":0},null,{"$f":"N13","v":11221},{"$f":"COUNTIF(L53:L67,AI13)","v":0},{"$f":"AJ13/(AL4-AJ25)","v":0},{"$f":"IF(AK13=0,0,(AK13*((LOG(AK13))/LOG(2))))","v":0},null,{"$f":"N13","v":11221},{"$f":"COUNTIF(L68:L83,AN13)","v":0},{"$f":"AO13/(AQ4-AO25)","v":0},{"$f":"IF(AP13=0,0,(AP13*((LOG(AP13))/LOG(2))))","v":0},null,{"$f":"N13","v":11221},{"$f":"COUNTIF(L84:L98,AS13)","v":1},{"$f":"AT13/(AV4-AT25)","v":6.6666666666666666E-2},{"$f":"IF(AU13=0,0,(AU13*((LOG(AU13))/LOG(2))))","v":-0.26045937304056793}]
[12,1419,24,1432,24,1460,23,1491,13,1507,0,12221,null,11222,{"$f":"COUNTIF($L$7:$L$500,N14)","v":12},{"$f":"O14/$Q$4","v":0.13043478260869565},{"$f":"IF(P14=0,0,(P14*((LOG(P14))/LOG(2))))","v":-0.3832955811307639},null,null,{"$f":"N14","v":11222},{"$f":"COUNTIF(L7:L21,T14)","v":1},{"$f":"U14/(W4-U25)","v":6.6666666666666666E-2},{"$f":"IF(V14=0,0,(V14*((LOG(V14))/LOG(2))))","v":-0.26045937304056793},null,{"$f":"N14","v":11222},{"$f":"COUNTIF(L22:L37,Y14)","v":0},{"$f":"Z14/(AB4-Z25)","v":0},{"$f":"IF(AA14=0,0,(AA14*((LOG(AA14))/LOG(2))))","v":0},null,{"$f":"N14","v":11222},{"$f":"COUNTIF(L38:L52,AD14)","v":1},{"$f":"AE14/(AG4-AE25)","v":6.6666666666666666E-2},{"$f":"IF(AF14=0,0,(AF14*((LOG(AF14))/LOG(2))))","v":-0.26045937304056793},null,{"$f":"N14","v":11222},{"$f":"COUNTIF(L53:L67,AI14)","v":3},{"$f":"AJ14/(AL4-AJ25)","v":0.2},{"$f":"IF(AK14=0,0,(AK14*((LOG(AK14))/LOG(2))))","v":-0.46438561897747244},null,{"$f":"N14","v":11222},{"$f":"COUNTIF(L68:L83,AN14)","v":6},{"$f":"AO14/(AQ4-AO25)","v":0.375},{"$f":"IF(AP14=0,0,(AP14*((LOG(AP14))/LOG(2))))","v":-0.53063906222956647},null,{"$f":"N14","v":11222},{"$f":"COUNTIF(L84:L98,AS14)","v":1},{"$f":"AT14/(AV4-AT25)","v":6.6666666666666666E-2},{"$f":"IF(AU14=0,0,(AU14*((LOG(AU14))/LOG(2))))","v":-0.26045937304056793}]
[12,1618,24,1630,13,1643,23,1656,13,1675,0,12121,null,12111,{"$f":"COUNTIF($L$7:$L$500,N15)","v":0},{"$f":"O15/$Q$4","v":0},{"$f":"IF(P15=0,0,(P15*((LOG(P15))/LOG(2))))","v":0},null,null,{"$f":"N15","v":12111},{"$f":"COUNTIF(L7:L21,T15)","v":0},{"$f":"U15/(W4-U25)","v":0},{"$f":"IF(V15=0,0,(V15*((LOG(V15))/LOG(2))))","v":0},null,{"$f":"N15","v":12111},{"$f":"COUNTIF(L22:L37,Y15)","v":0},{"$f":"Z15/(AB4-Z25)","v":0},{"$f":"IF(AA15=0,0,(AA15*((LOG(AA15))/LOG(2))))","v":0},null,{"$f":"N15","v":12111},{"$f":"COUNTIF(L38:L52,AD15)","v":0},{"$f":"AE15/(AG4-AE25)","v":0},{"$f":"IF(AF15=0,0,(AF15*((LOG(AF15))/LOG(2))))","v":0},null,{"$f":"N15","v":12111},{"$f":"COUNTIF(L53:L67,AI15)","v":0},{"$f":"AJ15/(AL4-AJ25)","v":0},{"$f":"IF(AK15=0,0,(AK15*((LOG(AK15))/LOG(2))))","v":0},null,{"$f":"N15","v":12111},{"$f":"COUNTIF(L68:L83,AN15)","v":0},{"$f":"AO15/(AQ4-AO25)","v":0},{"$f":"IF(AP15=0,0,(AP15*((LOG(AP15))/LOG(2))))","v":0},null,{"$f":"N15","v":12111},{"$f":"COUNTIF(L84:L98,AS15)","v":0},{"$f":"AT15/(AV4-AT25)","v":0},{"$f":"IF(AU15=0,0,(AU15*((LOG(AU15))/LOG(2))))","v":0}]
[12,1785,24,1795,24,1805,23,1826,24,1852,0,12222,null,12112,{"$f":"COUNTIF($L$7:$L$500,N16)","v":0},{"$f":"O16/$Q$4","v":0},{"$f":"IF(P16=0,0,(P16*((LOG(P16))/LOG(2))))","v":0},null,null,{"$f":"N16","v":12112},{"$f":"COUNTIF(L7:L21,T16)","v":0},{"$f":"U16/(W4-U25)","v":0},{"$f":"IF(V16=0,0,(V16*((LOG(V16))/LOG(2))))","v":0},null,{"$f":"N16","v":12112},{"$f":"COUNTIF(L22:L37,Y16)","v":0},{"$f":"Z16/(AB4-Z25)","v":0},{"$f":"IF(AA16=0,0,(AA16*((LOG(AA16))/LOG(2))))","v":0},null,{"$f":"N16","v":12112},{"$f":"COUNTIF(L38:L52,AD16)","v":0},{"$f":"AE16/(AG4-AE25)","v":0},{"$f":"IF(AF16=0,0,(AF16*((LOG(AF16))/LOG(2))))","v":0},null,{"$f":"N16","v":12112},{"$f":"COUNTIF(L53:L67,AI16)","v":0},{"$f":"AJ16/(AL4-AJ25)","v":0},{"$f":"IF(AK16=0,0,(AK16*((LOG(AK16))/LOG(2))))","v":0},null,{"$f":"N16","v":12112},{"$f":"COUNTIF(L68:L83,AN16)","v":0},{"$f":"AO16/(AQ4-AO25)","v":0},{"$f":"IF(AP16=0,0,(AP16*((LOG(AP16))/LOG(2))))","v":0},null,{"$f":"N16","v":12112},{"$f":"COUNTIF(L84:L98,AS16)","v":0},{"$f":"AT16/(AV4-AT25)","v":0},{"$f":"IF(AU16=0,0,(AU16*((LOG(AU16))/LOG(2))))","v":0}]
[12,1958,13,1968,24,1978,14,1997,24,2013,0,11212,null,12121,{"$f":"COUNTIF($L$7:$L$500,N17)","v":4},{"$f":"O17/$Q$4","v":4.3478260869565216E-2},{"$f":"IF(P17=0,0,(P17*((LOG(P17))/LOG(2))))","v":-0.19667660678508753},null,null,{"$f":"N17","v":12121},{"$f":"COUNTIF(L7:L21,T17)","v":1},{"$f":"U17/(W4-U25)","v":6.6666666666666666E-2},{"$f":"IF(V17=0,0,(V17*((LOG(V17))/LOG(2))))","v":-0.26045937304056793},null,{"$f":"N17","v":12121},{"$f":"COUNTIF(L22:L37,Y17)","v":0},{"$f":"Z17/(AB4-Z25)","v":0},{"$f":"IF(AA17=0,0,(AA17*((LOG(AA17))/LOG(2))))","v":0},null,{"$f":"N17","v":12121},{"$f":"COUNTIF(L38:L52,AD17)","v":1},{"$f":"AE17/(AG4-AE25)","v":6.6666666666666666E-2},{"$f":"IF(AF17=0,0,(AF17*((LOG(AF17))/LOG(2))))","v":-0.26045937304056793},null,{"$f":"N17","v":12121},{"$f":"COUNTIF(L53:L67,AI17)","v":1},{"$f":"AJ17/(AL4-AJ25)","v":6.6666666666666666E-2},{"$f":"IF(AK17=0,0,(AK17*((LOG(AK17))/LOG(2))))","v":-0.26045937304056793},null,{"$f":"N17","v":12121},{"$f":"COUNTIF(L68:L83,AN17)","v":0},{"$f":"AO17/(AQ4-AO25)","v":0},{"$f":"IF(AP17=0,0,(AP17*((LOG(AP17))/LOG(2))))","v":0},null,{"$f":"N17","v":12121},{"$f":"COUNTIF(L84:L98,AS17)","v":1},{"$f":"AT17/(AV4-AT25)","v":6.6666666666666666E-2},{"$f":"IF(AU17=0,0,(AU17*((LOG(AU17))/LOG(2))))","v":-0.26045937304056793}]
[21,2131,11,2144,22,2157,14,2175,24,2184,0,21212,null,12122,{"$f":"COUNTIF($L$7:$L$500,N18)","v":10},{"$f":"O18/$Q$4","v":0.10869565217391304},{"$f":"IF(P18=0,0,(P18*((LOG(P18))/LOG(2))))","v":-0.34800368056191849},null,null,{"$f":"N18","v":12122},{"$f":"COUNTIF(L7:L21,T18)","v":4},{"$f":"U18/(W4-U25)","v":0.26666666666666666},{"$f":"IF(V18=0,0,(V18*((LOG(V18))/LOG(2))))","v":-0.50850415882893829},null,{"$f":"N18","v":12122},{"$f":"COUNTIF(L22:L37,Y18)","v":2},{"$f":"Z18/(AB4-Z25)","v":0.125},{"$f":"IF(AA18=0,0,(AA18*((LOG(AA18))/LOG(2))))","v":-0.375},null,{"$f":"N18","v":12122},{"$f":"COUNTIF(L38:L52,AD18)","v":1},{"$f":"AE18/(AG4-AE25)","v":6.6666666666666666E-2},{"$f":"IF(AF18=0,0,(AF18*((LOG(AF18))/LOG(2))))","v":-0.26045937304056793},null,{"$f":"N18","v":12122},{"$f":"COUNTIF(L53:L67,AI18)","v":1},{"$f":"AJ18/(AL4-AJ25)","v":6.6666666666666666E-2},{"$f":"IF(AK18=0,0,(AK18*((LOG(AK18))/LOG(2))))","v":-0.26045937304056793},null,{"$f":"N18","v":12122},{"$f":"COUNTIF(L68:L83,AN18)","v":1},{"$f":"AO18/(AQ4-AO25)","v":6.25E-2},{"$f":"IF(AP18=0,0,(AP18*((LOG(AP18))/LOG(2))))","v":-0.25},null,{"$f":"N18","v":12122},{"$f":"COUNTIF(L84:L98,AS18)","v":1},{"$f":"AT18/(AV4-AT25)","v":6.6666666666666666E-2},{"$f":"IF(AU18=0,0,(AU18*((LOG(AU18))/LOG(2))))","v":-0.26045937304056793}]
[12,2298,13,2317,24,2330,23,2360,24,2372,0,11222,null,12211,{"$f":"COUNTIF($L$7:$L$500,N19)","v":0},{"$f":"O19/$Q$4","v":0},{"$f":"IF(P19=0,0,(P19*((LOG(P19))/LOG(2))))","v":0},null,null,{"$f":"N19","v":12211},{"$f":"COUNTIF(L7:L21,T19)","v":0},{"$f":"U19/(W4-U25)","v":0},{"$f":"IF(V19=0,0,(V19*((LOG(V19))/LOG(2))))","v":0},null,{"$f":"N19","v":12211},{"$f":"COUNTIF(L22:L37,Y19)","v":0},{"$f":"Z19/(AB4-Z25)","v":0},{"$f":"IF(AA19=0,0,(AA19*((LOG(AA19))/LOG(2))))","v":0},null,{"$f":"N19","v":12211},{"$f":"COUNTIF(L38:L52,AD19)","v":0},{"$f":"AE19/(AG4-AE25)","v":0},{"$f":"IF(AF19=0,0,(AF19*((LOG(AF19))/LOG(2))))","v":0},null,{"$f":"N19","v":12211},{"$f":"COUNTIF(L53:L67,AI19)","v":0},{"$f":"AJ19/(AL4-AJ25)","v":0},{"$f":"IF(AK19=0,0,(AK19*((LOG(AK19))/LOG(2))))","v":0},null,{"$f":"N19","v":12211},{"$f":"COUNTIF(L68:L83,AN19)","v":0},{"$f":"AO19/(AQ4-AO25)","v":0},{"$f":"IF(AP19=0,0,(AP19*((LOG(AP19))/LOG(2))))","v":0},null,{"$f":"N19","v":12211},{"$f":"COUNTIF(L84:L98,AS19)","v":0},{"$f":"AT19/(AV4-AT25)","v":0},{"$f":"IF(AU19=0,0,(AU19*((LOG(AU19))/LOG(2))))","v":0}]
[12,2480,24,2489,13,2499,23,2508,24,2532,0,12122,null,12212,{"$f":"COUNTIF($L$7:$L$500,N20)","v":7},{"$f":"O20/$Q$4","v":7.6086956521739135E-2},{"$f":"IF(P20=0,0,(P20*((LOG(P20))/LOG(2))))","v":-0.28275488302169416},null,null,{"$f":"N20","v":12212},{"$f":"COUNTIF(L7:L21,T20)","v":1},{"$f":"U20/(W4-U25)","v":6.6666666666666666E-2},{"$f":"IF(V20=0,0,(V20*((LOG(V20))/LOG(2))))","v":-0.26045937304056793},null,{"$f":"N20","v":12212},{"$f":"COUNTIF(L22:L37,Y20)","v":3},{"$f":"Z20/(AB4-Z25)","v":0.1875},{"$f":"IF(AA20=0,0,(AA20*((LOG(AA20))/LOG(2))))","v":-0.45281953111478312},null,{"$f":"N20","v":12212},{"$f":"COUNTIF(L38:L52,AD20)","v":0},{"$f":"AE20/(AG4-AE25)","v":0},{"$f":"IF(AF20=0,0,(AF20*((LOG(AF20))/LOG(2))))","v":0},null,{"$f":"N20","v":12212},{"$f":"COUNTIF(L53:L67,AI20)","v":2},{"$f":"AJ20/(AL4-AJ25)","v":0.13333333333333333},{"$f":"IF(AK20=0,0,(AK20*((LOG(AK20))/LOG(2))))","v":-0.3875854127478025},null,{"$f":"N20","v":12212},{"$f":"COUNTIF(L68:L83,AN20)","v":0},{"$f":"AO20/(AQ4-AO25)","v":0},{"$f":"IF(AP20=0,0,(AP20*((LOG(AP20))/LOG(2))))","v":0},null,{"$f":"N20","v":12212},{"$f":"COUNTIF(L84:L98,AS20)","v":1},{"$f":"AT20/(AV4-AT25)","v":6.6666666666666666E-2},{"$f":"IF(AU20=0,0,(AU20*((LOG(AU20))/LOG(2))))","v":-0.26045937304056793}]
[12,2646,24,2658,13,2668,23,2679,24,2705,0,12122,null,12221,{"$f":"COUNTIF($L$7:$L$500,N21)","v":7},{"$f":"O21/$Q$4","v":7.6086956521739135E-2},{"$f":"IF(P21=0,0,(P21*((LOG(P21))/LOG(2))))","v":-0.28275488302169416},null,null,{"$f":"N21","v":12221},{"$f":"COUNTIF(L7:L21,T21)","v":2},{"$f":"U21/(W4-U25)","v":0.13333333333333333},{"$f":"IF(V21=0,0,(V21*((LOG(V21))/LOG(2))))","v":-0.3875854127478025},null,{"$f":"N21","v":12221},{"$f":"COUNTIF(L22:L37,Y21)","v":2},{"$f":"Z21/(AB4-Z25)","v":0.125},{"$f":"IF(AA21=0,0,(AA21*((LOG(AA21))/LOG(2))))","v":-0.375},null,{"$f":"N21","v":12221},{"$f":"COUNTIF(L38:L52,AD21)","v":2},{"$f":"AE21/(AG4-AE25)","v":0.13333333333333333},{"$f":"IF(AF21=0,0,(AF21*((LOG(AF21))/LOG(2))))","v":-0.3875854127478025},null,{"$f":"N21","v":12221},{"$f":"COUNTIF(L53:L67,AI21)","v":0},{"$f":"AJ21/(AL4-AJ25)","v":0},{"$f":"IF(AK21=0,0,(AK21*((LOG(AK21))/LOG(2))))","v":0},null,{"$f":"N21","v":12221},{"$f":"COUNTIF(L68:L83,AN21)","v":0},{"$f":"AO21/(AQ4-AO25)","v":0},{"$f":"IF(AP21=0,0,(AP21*((LOG(AP21))/LOG(2))))","v":0},null,{"$f":"N21","v":12221},{"$f":"COUNTIF(L84:L98,AS21)","v":1},{"$f":"AT21/(AV4-AT25)","v":6.6666666666666666E-2},{"$f":"IF(AU21=0,0,(AU21*((LOG(AU21))/LOG(2))))","v":-0.26045937304056793}]
[12,2815,24,2839,24,2849,23,2858,24,2883,0,12222,null,12222,{"$f":"COUNTIF($L$7:$L$500,N22)","v":9},{"$f":"O22/$Q$4","v":9.7826086956521743E-2},{"$f":"IF(P22=0,0,(P22*((LOG(P22))/LOG(2))))","v":-0.32807318034274247},null,null,{"$f":"N22","v":12222},{"$f":"COUNTIF(L7:L21,T22)","v":2},{"$f":"U22/(W4-U25)","v":0.13333333333333333},{"$f":"IF(V22=0,0,(V22*((LOG(V22))/LOG(2))))","v":-0.3875854127478025},null,{"$f":"N22","v":12222},{"$f":"COUNTIF(L22:L37,Y22)","v":3},{"$f":"Z22/(AB4-Z25)","v":0.1875},{"$f":"IF(AA22=0,0,(AA22*((LOG(AA22))/LOG(2))))","v":-0.45281953111478312},null,{"$f":"N22","v":12222},{"$f":"COUNTIF(L38:L52,AD22)","v":1},{"$f":"AE22/(AG4-AE25)","v":6.6666666666666666E-2},{"$f":"IF(AF22=0,0,(AF22*((LOG(AF22))/LOG(2))))","v":-0.26045937304056793},null,{"$f":"N22","v":12222},{"$f":"COUNTIF(L53:L67,AI22)","v":1},{"$f":"AJ22/(AL4-AJ25)","v":6.6666666666666666E-2},{"$f":"IF(AK22=0,0,(AK22*((LOG(AK22))/LOG(2))))","v":-0.26045937304056793},null,{"$f":"N22","v":12222},{"$f":"COUNTIF(L68:L83,AN22)","v":1},{"$f":"AO22/(AQ4-AO25)","v":6.25E-2},{"$f":"IF(AP22=0,0,(AP22*((LOG(AP22))/LOG(2))))","v":-0.25},null,{"$f":"N22","v":12222},{"$f":"COUNTIF(L84:L98,AS22)","v":1},{"$f":"AT22/(AV4-AT25)","v":6.6666666666666666E-2},{"$f":"IF(AU22=0,0,(AU22*((LOG(AU22))/LOG(2))))","v":-0.26045937304056793}]
[12,2991,24,2999,24,3018,23,3028,13,3042,0,12221,null,21111,{"$f":"COUNTIF($L$7:$L$500,N23)","v":0},{"$f":"O23/$Q$4","v":0},{"$f":"IF(P23=0,0,(P23*((LOG(P23))/LOG(2))))","v":0},null,null,{"$f":"N23","v":21111},{"$f":"COUNTIF(L7:L21,T23)","v":0},{"$f":"U23/(W4-U25)","v":0},{"$f":"IF(V23=0,0,(V23*((LOG(V23))/LOG(2))))","v":0},null,{"$f":"N23","v":21111},{"$f":"COUNTIF(L22:L37,Y23)","v":0},{"$f":"Z23/(AB4-Z25)","v":0},{"$f":"IF(AA23=0,0,(AA23*((LOG(AA23))/LOG(2))))","v":0},null,{"$f":"N23","v":21111},{"$f":"COUNTIF(L38:L52,AD23)","v":0},{"$f":"AE23/(AG4-AE25)","v":0},{"$f":"IF(AF23=0,0,(AF23*((LOG(AF23))/LOG(2))))","v":0},null,{"$f":"N23","v":21111},{"$f":"COUNTIF(L53:L67,AI23)","v":0},{"$f":"AJ23/(AL4-AJ25)","v":0},{"$f":"IF(AK23=0,0,(AK23*((LOG(AK23))/LOG(2))))","v":0},null,{"$f":"N23","v":21111},{"$f":"COUNTIF(L68:L83,AN23)","v":0},{"$f":"AO23/(AQ4-AO25)","v":0},{"$f":"IF(AP23=0,0,(AP23*((LOG(AP23))/LOG(2))))","v":0},null,{"$f":"N23","v":21111},{"$f":"COUNTIF(L84:L98,AS23)","v":0},{"$f":"AT23/(AV4-AT25)","v":0},{"$f":"IF(AU23=0,0,(AU23*((LOG(AU23))/LOG(2))))","v":0}]
[12,3149,24,3161,24,3176,14,3187,24,3201,0,12212,null,21112,{"$f":"COUNTIF($L$7:$L$500,N24)","v":0},{"$f":"O24/$Q$4","v":0},{"$f":"IF(P24=0,0,(P24*((LOG(P24))/LOG(2))))","v":0},null,null,{"$f":"N24","v":21112},{"$f":"COUNTIF(L7:L21,T24)","v":0},{"$f":"U24/(W4-U25)","v":0},{"$f":"IF(V24=0,0,(V24*((LOG(V24))/LOG(2))))","v":0},null,{"$f":"N24","v":21112},{"$f":"COUNTIF(L22:L37,Y24)","v":0},{"$f":"Z24/(AB4-Z25)","v":0},{"$f":"IF(AA24=0,0,(AA24*((LOG(AA24))/LOG(2))))","v":0},null,{"$f":"N24","v":21112},{"$f":"COUNTIF(L38:L52,AD24)","v":0},{"$f":"AE24/(AG4-AE25)","v":0},{"$f":"IF(AF24=0,0,(AF24*((LOG(AF24))/LOG(2))))","v":0},null,{"$f":"N24","v":21112},{"$f":"COUNTIF(L53:L67,AI24)","v":0},{"$f":"AJ24/(AL4-AJ25)","v":0},{"$f":"IF(AK24=0,0,(AK24*((LOG(AK24))/LOG(2))))","v":0},null,{"$f":"N24","v":21112},{"$f":"COUNTIF(L68:L83,AN24)","v":0},{"$f":"AO24/(AQ4-AO25)","v":0},{"$f":"IF(AP24=0,0,(AP24*((LOG(AP24))/LOG(2))))","v":0},null,{"$f":"N24","v":21112},{"$f":"COUNTIF(L84:L98,AS24)","v":0},{"$f":"AT24/(AV4-AT25)","v":0},{"$f":"IF(AU24=0,0,(AU24*((LOG(AU24))/LOG(2))))","v":0}]
[12,3307,24,3335,24,3345,14,3358,24,3372,0,12212,null,21121,{"$f":"COUNTIF($L$7:$L$500,N25)","v":0},{"$f":"O25/$Q$4","v":0},{"$f":"IF(P25=0,0,(P25*((LOG(P25))/LOG(2))))","v":0},null,null,{"$f":"N25","v":21121},{"$f":"COUNTIF(L7:L21,T25)","v":0},null,null,null,{"$f":"N25","v":21121},{"$f":"COUNTIF(L22:L37,Y25)","v":0},null,null,null,{"$f":"N25","v":21121},{"$f":"COUNTIF(L38:L52,AD25)","v":0},null,null,null,{"$f":"N25","v":21121},{"$f":"COUNTIF(L53:L67,AI25)","v":0},null,null,null,{"$f":"N25","v":21121},{"$f":"COUNTIF(L68:L83,AN25)","v":0},null,null,null,{"$f":"N25","v":21121},{"$f":"COUNTIF(L84:L98,AS25)","v":0}]
[12,3477,24,3506,24,3529,23,3540,24,3548,0,12222,null,21122,{"$f":"COUNTIF($L$7:$L$500,N26)","v":0},{"$f":"O26/$Q$4","v":0},{"$f":"IF(P26=0,0,(P26*((LOG(P26))/LOG(2))))","v":0},null,null,{"$f":"N26","v":21122},{"$f":"COUNTIF(L7:L21,T26)","v":0},{"$f":"U26/(W4-U25)","v":0},{"$f":"IF(V26=0,0,(V26*((LOG(V26))/LOG(2))))","v":0},null,{"$f":"N26","v":21122},{"$f":"COUNTIF(L22:L37,Y26)","v":0},{"$f":"Z26/(AB4-Z25)","v":0},{"$f":"IF(AA26=0,0,(AA26*((LOG(AA26))/LOG(2))))","v":0},null,{"$f":"N26","v":21122},{"$f":"COUNTIF(L38:L52,AD26)","v":0},{"$f":"AE26/(AG4-AE25)","v":0},{"$f":"IF(AF26=0,0,(AF26*((LOG(AF26))/LOG(2))))","v":0},null,{"$f":"N26","v":21122},{"$f":"COUNTIF(L53:L67,AI26)","v":0},{"$f":"AJ26/(AL4-AJ25)","v":0},{"$f":"IF(AK26=0,0,(AK26*((LOG(AK26))/LOG(2))))","v":0},null,{"$f":"N26","v":21122},{"$f":"COUNTIF(L68:L83,AN26)","v":0},{"$f":"AO26/(AQ4-AO25)","v":0},{"$f":"IF(AP26=0,0,(AP26*((LOG(AP26))/LOG(2))))","v":0},null,{"$f":"N26","v":21122},{"$f":"COUNTIF(L84:L98,AS26)","v":0},{"$f":"AT26/(AV4-AT25)","v":0},{"$f":"IF(AU26=0,0,(AU26*((LOG(AU26))/LOG(2))))","v":0}]
[12,3655,24,3680,13,3693,23,3714,24,3723,0,12122,null,21211,{"$f":"COUNTIF($L$7:$L$500,N27)","v":0},{"$f":"O27/$Q$4","v":0},{"$f":"IF(P27=0,0,(P27*((LOG(P27))/LOG(2))))","v":0},null,null,{"$f":"N27","v":21211},{"$f":"COUNTIF(L7:L21,T27)","v":0},{"$f":"U27/(W4-U25)","v":0},{"$f":"IF(V27=0,0,(V27*((LOG(V27))/LOG(2))))","v":0},null,{"$f":"N27","v":21211},{"$f":"COUNTIF(L22:L37,Y27)","v":0},{"$f":"Z27/(AB4-Z25)","v":0},{"$f":"IF(AA27=0,0,(AA27*((LOG(AA27))/LOG(2))))","v":0},null,{"$f":"N27","v":21211},{"$f":"COUNTIF(L38:L52,AD27)","v":0},{"$f":"AE27/(AG4-AE25)","v":0},{"$f":"IF(AF27=0,0,(AF27*((LOG(AF27))/LOG(2))))","v":0},null,{"$f":"N27","v":21211},{"$f":"COUNTIF(L53:L67,AI27)","v":0},{"$f":"AJ27/(AL4-AJ25)","v":0},{"$f":"IF(AK27=0,0,(AK27*((LOG(AK27))/LOG(2))))","v":0},null,{"$f":"N27","v":21211},{"$f":"COUNTIF(L68:L83,AN27)","v":0},{"$f":"AO27/(AQ4-AO25)","v":0},{"$f":"IF(AP27=0,0,(AP27*((LOG(AP27))/LOG(2))))","v":0},null,{"$f":"N27","v":21211},{"$f":"COUNTIF(L84:L98,AS27)","v":0},{"$f":"AT27/(AV4-AT25)","v":0},{"$f":"IF(AU27=0,0,(AU27*((LOG(AU27))/LOG(2))))","v":0}]
[12,3830,24,3871,24,3894,23,3917,24,3923,0,12222,null,21212,{"$f":"COUNTIF($L$7:$L$500,N28)","v":2},{"$f":"O28/$Q$4","v":2.1739130434782608E-2},{"$f":"IF(P28=0,0,(P28*((LOG(P28))/LOG(2))))","v":-0.12007743382732637},null,null,{"$f":"N28","v":21212},{"$f":"COUNTIF(L7:L21,T28)","v":1},{"$f":"U28/(W4-U25)","v":6.6666666666666666E-2},{"$f":"IF(V28=0,0,(V28*((LOG(V28))/LOG(2))))","v":-0.26045937304056793},null,{"$f":"N28","v":21212},{"$f":"COUNTIF(L22:L37,Y28)","v":1},{"$f":"Z28/(AB4-Z25)","v":6.25E-2},{"$f":"IF(AA28=0,0,(AA28*((LOG(AA28))/LOG(2))))","v":-0.25},null,{"$f":"N28","v":21212},{"$f":"COUNTIF(L38:L52,AD28)","v":0},{"$f":"AE28/(AG4-AE25)","v":0},{"$f":"IF(AF28=0,0,(AF28*((LOG(AF28))/LOG(2))))","v":0},null,{"$f":"N28","v":21212},{"$f":"COUNTIF(L53:L67,AI28)","v":0},{"$f":"AJ28/(AL4-AJ25)","v":0},{"$f":"IF(AK28=0,0,(AK28*((LOG(AK28))/LOG(2))))","v":0},null,{"$f":"N28","v":21212},{"$f":"COUNTIF(L68:L83,AN28)","v":0},{"$f":"AO28/(AQ4-AO25)","v":0},{"$f":"IF(AP28=0,0,(AP28*((LOG(AP28))/LOG(2))))","v":0},null,{"$f":"N28","v":21212},{"$f":"COUNTIF(L84:L98,AS28)","v":0},{"$f":"AT28/(AV4-AT25)","v":0},{"$f":"IF(AU28=0,0,(AU28*((LOG(AU28))/LOG(2))))","v":0}]
[12,4036,24,4062,24,4084,23,4114,13,4124,0,12221,null,21221,{"$f":"COUNTIF($L$7:$L$500,N29)","v":1},{"$f":"O29/$Q$4","v":1.0869565217391304E-2},{"$f":"IF(P29=0,0,(P29*((LOG(P29))/LOG(2))))","v":-7.090828213105449E-2},null,null,{"$f":"N29","v":21221},{"$f":"COUNTIF(L7:L21,T29)","v":0},{"$f":"U29/(W4-U25)","v":0},{"$f":"IF(V29=0,0,(V29*((LOG(V29))/LOG(2))))","v":0},null,{"$f":"N29","v":21221},{"$f":"COUNTIF(L22:L37,Y29)","v":0},{"$f":"Z29/(AB4-Z25)","v":0},{"$f":"IF(AA29=0,0,(AA29*((LOG(AA29))/LOG(2))))","v":0},null,{"$f":"N29","v":21221},{"$f":"COUNTIF(L38:L52,AD29)","v":1},{"$f":"AE29/(AG4-AE25)","v":6.6666666666666666E-2},{"$f":"IF(AF29=0,0,(AF29*((LOG(AF29))/LOG(2))))","v":-0.26045937304056793},null,{"$f":"N29","v":21221},{"$f":"COUNTIF(L53:L67,AI29)","v":0},{"$f":"AJ29/(AL4-AJ25)","v":0},{"$f":"IF(AK29=0,0,(AK29*((LOG(AK29))/LOG(2))))","v":0},null,{"$f":"N29","v":21221},{"$f":"COUNTIF(L68:L83,AN29)","v":0},{"$f":"AO29/(AQ4-AO25)","v":0},{"$f":"IF(AP29=0,0,(AP29*((LOG(AP29))/LOG(2))))","v":0},null,{"$f":"N29","v":21221},{"$f":"COUNTIF(L84:L98,AS29)","v":0},{"$f":"AT29/(AV4-AT25)","v":0},{"$f":"IF(AU29=0,0,(AU29*((LOG(AU29))/LOG(2))))","v":0}]
[12,4231,24,4283,24,4304,14,4314,24,4327,0,12212,null,21222,{"$f":"COUNTIF($L$7:$L$500,N30)","v":2},{"$f":"O30/$Q$4","v":2.1739130434782608E-2},{"$f":"IF(P30=0,0,(P30*((LOG(P30))/LOG(2))))","v":-0.12007743382732637},null,null,{"$f":"N30","v":21222},{"$f":"COUNTIF(L7:L21,T30)","v":0},{"$f":"U30/(W4-U25)","v":0},{"$f":"IF(V30=0,0,(V30*((LOG(V30))/LOG(2))))","v":0},null,{"$f":"N30","v":21222},{"$f":"COUNTIF(L22:L37,Y30)","v":1},{"$f":"Z30/(AB4-Z25)","v":6.25E-2},{"$f":"IF(AA30=0,0,(AA30*((LOG(AA30))/LOG(2))))","v":-0.25},null,{"$f":"N30","v":21222},{"$f":"COUNTIF(L38:L52,AD30)","v":0},{"$f":"AE30/(AG4-AE25)","v":0},{"$f":"IF(AF30=0,0,(AF30*((LOG(AF30))/LOG(2))))","v":0},null,{"$f":"N30","v":21222},{"$f":"COUNTIF(L53:L67,AI30)","v":0},{"$f":"AJ30/(AL4-AJ25)","v":0},{"$f":"IF(AK30=0,0,(AK30*((LOG(AK30))/LOG(2))))","v":0},null,{"$f":"N30","v":21222},{"$f":"COUNTIF(L68:L83,AN30)","v":0},{"$f":"AO30/(AQ4-AO25)","v":0},{"$f":"IF(AP30=0,0,(AP30*((LOG(AP30))/LOG(2))))","v":0},null,{"$f":"N30","v":21222},{"$f":"COUNTIF(L84:L98,AS30)","v":1},{"$f":"AT30/(AV4-AT25)","v":6.6666666666666666E-2},{"$f":"IF(AU30=0,0,(AU30*((LOG(AU30))/LOG(2))))","v":-0.26045937304056793}]
[21,4499,11,4513,22,4525,23,4539,24,4549,0,21222,null,22111,{"$f":"COUNTIF($L$7:$L$500,N31)","v":0},{"$f":"O31/$Q$4","v":0},{"$f":"IF(P31=0,0,(P31*((LOG(P31))/LOG(2))))","v":0},null,null,{"$f":"N31","v":22111},{"$f":"COUNTIF(L7:L21,T31)","v":0},{"$f":"U31/(W4-U25)","v":0},{"$f":"IF(V31=0,0,(V31*((LOG(V31))/LOG(2))))","v":0},null,{"$f":"N31","v":22111},{"$f":"COUNTIF(L22:L37,Y31)","v":0},{"$f":"Z31/(AB4-Z25)","v":0},{"$f":"IF(AA31=0,0,(AA31*((LOG(AA31))/LOG(2))))","v":0},null,{"$f":"N31","v":22111},{"$f":"COUNTIF(L38:L52,AD31)","v":0},{"$f":"AE31/(AG4-AE25)","v":0},{"$f":"IF(AF31=0,0,(AF31*((LOG(AF31))/LOG(2))))","v":0},null,{"$f":"N31","v":22111},{"$f":"COUNTIF(L53:L67,AI31)","v":0},{"$f":"AJ31/(AL4-AJ25)","v":0},{"$f":"IF(AK31=0,0,(AK31*((LOG(AK31))/LOG(2))))","v":0},null,{"$f":"N31","v":22111},{"$f":"COUNTIF(L68:L83,AN31)","v":0},{"$f":"AO31/(AQ4-AO25)","v":0},{"$f":"IF(AP31=0,0,(AP31*((LOG(AP31))/LOG(2))))","v":0},null,{"$f":"N31","v":22111},{"$f":"COUNTIF(L84:L98,AS31)","v":0},{"$f":"AT31/(AV4-AT25)","v":0},{"$f":"IF(AU31=0,0,(AU31*((LOG(AU31))/LOG(2))))","v":0}]
[21,4663,22,4689,13,4703,23,4713,24,4724,0,22122,null,22112,{"$f":"COUNTIF($L$7:$L$500,N32)","v":0},{"$f":"O32/$Q$4","v":0},{"$f":"IF(P32=0,0,(P32*((LOG(P32))/LOG(2))))","v":0},null,null,{"$f":"N32","v":22112},{"$f":"COUNTIF(L7:L21,T32)","v":0},{"$f":"U32/(W4-U25)","v":0},{"$f":"IF(V32=0,0,(V32*((LOG(V32))/LOG(2))))","v":0},null,{"$f":"N32","v":22112},{"$f":"COUNTIF(L22:L37,Y32)","v":0},{"$f":"Z32/(AB4-Z25)","v":0},{"$f":"IF(AA32=0,0,(AA32*((LOG(AA32))/LOG(2))))","v":0},null,{"$f":"N32","v":22112},{"$f":"COUNTIF(L38:L52,AD32)","v":0},{"$f":"AE32/(AG4-AE25)","v":0},{"$f":"IF(AF32=0,0,(AF32*((LOG(AF32))/LOG(2))))","v":0},null,{"$f":"N32","v":22112},{"$f":"COUNTIF(L53:L67,AI32)","v":0},{"$f":"AJ32/(AL4-AJ25)","v":0},{"$f":"IF(AK32=0,0,(AK32*((LOG(AK32))/LOG(2))))","v":0},null,{"$f":"N32","v":22112},{"$f":"COUNTIF(L68:L83,AN32)","v":0},{"$f":"AO32/(AQ4-AO25)","v":0},{"$f":"IF(AP32=0,0,(AP32*((LOG(AP32))/LOG(2))))","v":0},null,{"$f":"N32","v":22112},{"$f":"COUNTIF(L84:L98,AS32)","v":0},{"$f":"AT32/(AV4-AT25)","v":0},{"$f":"IF(AU32=0,0,(AU32*((LOG(AU32))/LOG(2))))","v":0}]
[21,4865,22,4884,13,4897,23,4907,13,4921,0,22121,null,22121,{"$f":"COUNTIF($L$7:$L$500,N33)","v":1},{"$f":"O33/$Q$4","v":1.0869565217391304E-2},{"$f":"IF(P33=0,0,(P33*((LOG(P33))/LOG(2))))","v":-7.090828213105449E-2},null,null,{"$f":"N33","v":22121},{"$f":"COUNTIF(L7:L21,T33)","v":0},{"$f":"U33/(W4-U25)","v":0},{"$f":"IF(V33=0,0,(V33*((LOG(V33))/LOG(2))))","v":0},null,{"$f":"N33","v":22121},{"$f":"COUNTIF(L22:L37,Y33)","v":1},{"$f":"Z33/(AB4-Z25)","v":6.25E-2},{"$f":"IF(AA33=0,0,(AA33*((LOG(AA33))/LOG(2))))","v":-0.25},null,{"$f":"N33","v":22121},{"$f":"COUNTIF(L38:L52,AD33)","v":0},{"$f":"AE33/(AG4-AE25)","v":0},{"$f":"IF(AF33=0,0,(AF33*((LOG(AF33))/LOG(2))))","v":0},null,{"$f":"N33","v":22121},{"$f":"COUNTIF(L53:L67,AI33)","v":0},{"$f":"AJ33/(AL4-AJ25)","v":0},{"$f":"IF(AK33=0,0,(AK33*((LOG(AK33))/LOG(2))))","v":0},null,{"$f":"N33","v":22121},{"$f":"COUNTIF(L68:L83,AN33)","v":0},{"$f":"AO33/(AQ4-AO25)","v":0},{"$f":"IF(AP33=0,0,(AP33*((LOG(AP33))/LOG(2))))","v":0},null,{"$f":"N33","v":22121},{"$f":"COUNTIF(L84:L98,AS33)","v":0},{"$f":"AT33/(AV4-AT25)","v":0},{"$f":"IF(AU33=0,0,(AU33*((LOG(AU33))/LOG(2))))","v":0}]
[12,5044,24,5075,13,5094,23,5116,24,5133,0,12122,null,22122,{"$f":"COUNTIF($L$7:$L$500,N34)","v":4},{"$f":"O34/$Q$4","v":4.3478260869565216E-2},{"$f":"IF(P34=0,0,(P34*((LOG(P34))/LOG(2))))","v":-0.19667660678508753},null,null,{"$f":"N34","v":22122},{"$f":"COUNTIF(L7:L21,T34)","v":1},{"$f":"U34/(W4-U25)","v":6.6666666666666666E-2},{"$f":"IF(V34=0,0,(V34*((LOG(V34))/LOG(2))))","v":-0.26045937304056793},null,{"$f":"N34","v":22122},{"$f":"COUNTIF(L22:L37,Y34)","v":1},{"$f":"Z34/(AB4-Z25)","v":6.25E-2},{"$f":"IF(AA34=0,0,(AA34*((LOG(AA34))/LOG(2))))","v":-0.25},null,{"$f":"N34","v":22122},{"$f":"COUNTIF(L38:L52,AD34)","v":1},{"$f":"AE34/(AG4-AE25)","v":6.6666666666666666E-2},{"$f":"IF(AF34=0,0,(AF34*((LOG(AF34))/LOG(2))))","v":-0.26045937304056793},null,{"$f":"N34","v":22122},{"$f":"COUNTIF(L53:L67,AI34)","v":1},{"$f":"AJ34/(AL4-AJ25)","v":6.6666666666666666E-2},{"$f":"IF(AK34=0,0,(AK34*((LOG(AK34))/LOG(2))))","v":-0.26045937304056793},null,{"$f":"N34","v":22122},{"$f":"COUNTIF(L68:L83,AN34)","v":0},{"$f":"AO34/(AQ4-AO25)","v":0},{"$f":"IF(AP34=0,0,(AP34*((LOG(AP34))/LOG(2))))","v":0},null,{"$f":"N34","v":22122},{"$f":"COUNTIF(L84:L98,AS34)","v":0},{"$f":"AT34/(AV4-AT25)","v":0},{"$f":"IF(AU34=0,0,(AU34*((LOG(AU34))/LOG(2))))","v":0}]
[21,5283,22,5304,24,5324,23,5341,24,5351,0,22222,null,22211,{"$f":"COUNTIF($L$7:$L$500,N35)","v":2},{"$f":"O35/$Q$4","v":2.1739130434782608E-2},{"$f":"IF(P35=0,0,(P35*((LOG(P35))/LOG(2))))","v":-0.12007743382732637},null,null,{"$f":"N35","v":22211},{"$f":"COUNTIF(L7:L21,T35)","v":0},{"$f":"U35/(W4-U25)","v":0},{"$f":"IF(V35=0,0,(V35*((LOG(V35))/LOG(2))))","v":0},null,{"$f":"N35","v":22211},{"$f":"COUNTIF(L22:L37,Y35)","v":0},{"$f":"Z35/(AB4-Z25)","v":0},{"$f":"IF(AA35=0,0,(AA35*((LOG(AA35))/LOG(2))))","v":0},null,{"$f":"N35","v":22211},{"$f":"COUNTIF(L38:L52,AD35)","v":1},{"$f":"AE35/(AG4-AE25)","v":6.6666666666666666E-2},{"$f":"IF(AF35=0,0,(AF35*((LOG(AF35))/LOG(2))))","v":-0.26045937304056793},null,{"$f":"N35","v":22211},{"$f":"COUNTIF(L53:L67,AI35)","v":0},{"$f":"AJ35/(AL4-AJ25)","v":0},{"$f":"IF(AK35=0,0,(AK35*((LOG(AK35))/LOG(2))))","v":0},null,{"$f":"N35","v":22211},{"$f":"COUNTIF(L68:L83,AN35)","v":0},{"$f":"AO35/(AQ4-AO25)","v":0},{"$f":"IF(AP35=0,0,(AP35*((LOG(AP35))/LOG(2))))","v":0},null,{"$f":"N35","v":22211},{"$f":"COUNTIF(L84:L98,AS35)","v":1},{"$f":"AT35/(AV4-AT25)","v":6.6666666666666666E-2},{"$f":"IF(AU35=0,0,(AU35*((LOG(AU35))/LOG(2))))","v":-0.26045937304056793}]
[21,5502,11,5518,22,5527,14,5537,24,5547,0,21212,null,22212,{"$f":"COUNTIF($L$7:$L$500,N36)","v":4},{"$f":"O36/$Q$4","v":4.3478260869565216E-2},{"$f":"IF(P36=0,0,(P36*((LOG(P36))/LOG(2))))","v":-0.19667660678508753},null,null,{"$f":"N36","v":22212},{"$f":"COUNTIF(L7:L21,T36)","v":0},{"$f":"U36/(W4-U25)","v":0},{"$f":"IF(V36=0,0,(V36*((LOG(V36))/LOG(2))))","v":0},null,{"$f":"N36","v":22212},{"$f":"COUNTIF(L22:L37,Y36)","v":1},{"$f":"Z36/(AB4-Z25)","v":6.25E-2},{"$f":"IF(AA36=0,0,(AA36*((LOG(AA36))/LOG(2))))","v":-0.25},null,{"$f":"N36","v":22212},{"$f":"COUNTIF(L38:L52,AD36)","v":0},{"$f":"AE36/(AG4-AE25)","v":0},{"$f":"IF(AF36=0,0,(AF36*((LOG(AF36))/LOG(2))))","v":0},null,{"$f":"N36","v":22212},{"$f":"COUNTIF(L53:L67,AI36)","v":0},{"$f":"AJ36/(AL4-AJ25)","v":0},{"$f":"IF(AK36=0,0,(AK36*((LOG(AK36))/LOG(2))))","v":0},null,{"$f":"N36","v":22212},{"$f":"COUNTIF(L68:L83,AN36)","v":2},{"$f":"AO36/(AQ4-AO25)","v":0.125},{"$f":"IF(AP36=0,0,(AP36*((LOG(AP36))/LOG(2))))","v":-0.375},null,{"$f":"N36","v":22212},{"$f":"COUNTIF(L84:L98,AS36)","v":1},{"$f":"AT36/(AV4-AT25)","v":6.6666666666666666E-2},{"$f":"IF(AU36=0,0,(AU36*((LOG(AU36))/LOG(2))))","v":-0.26045937304056793}]
[21,5744,22,5784,24,5793,14,5809,24,5827,0,22212,null,22221,{"$f":"COUNTIF($L$7:$L$500,N37)","v":1},{"$f":"O37/$Q$4","v":1.0869565217391304E-2},{"$f":"IF(P37=0,0,(P37*((LOG(P37))/LOG(2))))","v":-7.090828213105449E-2},null,null,{"$f":"N37","v":22221},{"$f":"COUNTIF(L7:L21,T37)","v":0},{"$f":"U37/(W4-U25)","v":0},{"$f":"IF(V37=0,0,(V37*((LOG(V37))/LOG(2))))","v":0},null,{"$f":"N37","v":22221},{"$f":"COUNTIF(L22:L37,Y37)","v":0},{"$f":"Z37/(AB4-Z25)","v":0},{"$f":"IF(AA37=0,0,(AA37*((LOG(AA37))/LOG(2))))","v":0},null,{"$f":"N37","v":22221},{"$f":"COUNTIF(L38:L52,AD37)","v":0},{"$f":"AE37/(AG4-AE25)","v":0},{"$f":"IF(AF37=0,0,(AF37*((LOG(AF37))/LOG(2))))","v":0},null,{"$f":"N37","v":22221},{"$f":"COUNTIF(L53:L67,AI37)","v":1},{"$f":"AJ37/(AL4-AJ25)","v":6.6666666666666666E-2},{"$f":"IF(AK37=0,0,(AK37*((LOG(AK37))/LOG(2))))","v":-0.26045937304056793},null,{"$f":"N37","v":22221},{"$f":"COUNTIF(L68:L83,AN37)","v":0},{"$f":"AO37/(AQ4-AO25)","v":0},{"$f":"IF(AP37=0,0,(AP37*((LOG(AP37))/LOG(2))))","v":0},null,{"$f":"N37","v":22221},{"$f":"COUNTIF(L84:L98,AS37)","v":0},{"$f":"AT37/(AV4-AT25)","v":0},{"$f":"IF(AU37=0,0,(AU37*((LOG(AU37))/LOG(2))))","v":0}]
[21,5989,22,6010,24,6017,23,6024,24,6041,0,22222,null,22222,{"$f":"COUNTIF($L$7:$L$500,N38)","v":9},{"$f":"O38/$Q$4","v":9.7826086956521743E-2},{"$f":"IF(P38=0,0,(P38*((LOG(P38))/LOG(2))))","v":-0.32807318034274247},null,null,{"$f":"N38","v":22222},{"$f":"COUNTIF(L7:L21,T38)","v":0},{"$f":"U38/(W4-U25)","v":0},{"$f":"IF(V38=0,0,(V38*((LOG(V38))/LOG(2))))","v":0},null,{"$f":"N38","v":22222},{"$f":"COUNTIF(L22:L37,Y38)","v":1},{"$f":"Z38/(AB4-Z25)","v":6.25E-2},{"$f":"IF(AA38=0,0,(AA38*((LOG(AA38))/LOG(2))))","v":-0.25},null,{"$f":"N38","v":22222},{"$f":"COUNTIF(L38:L52,AD38)","v":5},{"$f":"AE38/(AG4-AE25)","v":0.33333333333333331},{"$f":"IF(AF38=0,0,(AF38*((LOG(AF38))/LOG(2))))","v":-0.52832083357371862},null,{"$f":"N38","v":22222},{"$f":"COUNTIF(L53:L67,AI38)","v":2},{"$f":"AJ38/(AL4-AJ25)","v":0.13333333333333333},{"$f":"IF(AK38=0,0,(AK38*((LOG(AK38))/LOG(2))))","v":-0.3875854127478025},null,{"$f":"N38","v":22222},{"$f":"COUNTIF(L68:L83,AN38)","v":0},{"$f":"AO38/(AQ4-AO25)","v":0},{"$f":"IF(AP38=0,0,(AP38*((LOG(AP38))/LOG(2))))","v":0},null,{"$f":"N38","v":22222},{"$f":"COUNTIF(L84:L98,AS38)","v":1},{"$f":"AT38/(AV4-AT25)","v":6.6666666666666666E-2},{"$f":"IF(AU38=0,0,(AU38*((LOG(AU38))/LOG(2))))","v":-0.26045937304056793}]
[21,6205,22,6223,24,6263,23,6285,24,6292,0,22222,null,null,null,{"$f":"SUM(P7:P38)","v":1},{"$f":"-SUM(Q7:Q38)","v":3.9609346805023851},null,null,null,null,{"$f":"SUM(V7:V38)","v":0.99999999999999989},{"$f":"-SUM(W7:W38)","v":3.1068905956085189},null,null,null,{"$f":"SUM(AA7:AA38)","v":1},{"$f":"-SUM(AB7:AB38)","v":3.1556390622295662},null,null,null,{"$f":"SUM(AF7:AF38)","v":1},{"$f":"-SUM(AG7:AG38)","v":2.9995812306460641},null,null,null,{"$f":"SUM(AK7:AK38)","v":0.99999999999999989},{"$f":"-SUM(AL7:AL38)","v":3.1898980954642875},null,null,null,{"$f":"SUM(AP7:AP38)","v":1},{"$f":"-SUM(AQ7:AQ38)","v":2.4834585933443494},null,null,null,{"$f":"SUM(AU7:AU38)","v":0.99999999999999989},{"$f":"-SUM(AV7:AV38)","v":3.773557262275185}]
[21,6431,22,6462,13,6488,23,6498,24,6505,0,22122,null,null,null,"U=",{"$f":"Q39/(LOG(Q4)/LOG(2))","v":0.60717361269554992},null,null,null,null,"U1=",{"$f":"W39/(LOG(W4)/LOG(2))","v":0.79523358015214762},null,null,null,"U2=",{"$f":"AB39/(LOG(AB4)/LOG(2))","v":0.78890976555739156},null,null,null,"U3=",{"$f":"AG39/(LOG(AG4)/LOG(2))","v":0.76776688705276208},null,null,null,"U4=",{"$f":"AL39/(LOG(AL4)/LOG(2))","v":0.81648001585963126},null,null,null,"U5=",{"$f":"AQ39/(LOG(AQ4)/LOG(2))","v":0.62086464833608734},null,null,null,"U6=",{"$f":"AV39/(LOG(AV4)/LOG(2))","v":0.96587226335869114}]
[12,6625,24,6634,24,6644,23,6651,13,6665,0,12221]
[12,6770,13,6790,24,6809,14,6819,24,6831,0,11212]
[12,6950,24,6976,13,7000,23,7011,13,7025,0,12121,null,"Total Target Seq"]
[12,7161,24,7176,13,7190,23,7200,24,7221,0,12122,null,{"$f":"COUNTIF(L7:L98,G3)","v":0},null,15,16,15,15,16,15]
[21,7374,11,7384,22,7395,23,7404,13,7421,0,21221,null,null,null,"% of reinforcement given in 6 equal intervals based on number of trials "]
[21,7524,22,7624,24,7647,14,7672,13,7705,0,22211,null,null,null,"%_1","%_2","%_3","%_4","%_5","%_6"]
[21,8119,22,8190,24,8202,23,8214,24,8246,0,22222,null,null,"target sequence",{"$f":"$G$3","v":21121},{"$f":"$G$3","v":21121},{"$f":"$G$3","v":21121},{"$f":"$G$3","v":21121},{"$f":"$G$3","v":21121},{"$f":"$G$3","v":21121}]
[21,8537,22,8565,24,8578,23,8589,24,8620,0,22222,null,null,"total reinforcement",{"$f":"U25","v":0},{"$f":"Z25","v":0},{"$f":"AE25","v":0},{"$f":"AJ25","v":0},{"$f":"AO25","v":0},{"$f":"AT25","v":0}]
[21,8763,22,8782,24,8791,23,8818,24,8834,0,22222,null,null,"% target"]
[12,8959,13,8973,24,8996,23,9011,24,9030,0,11222,null,null,"CCRF"]
[12,9308,24,9321,24,9342,23,9360,24,9373,0,12222,null,null,"% CCRf"]
[12,9498,24,9514,24,9533,23,9561,13,9581,0,12221,null,null,"average response rate",{"$f":"J21/P44","v":180.33333333333334},{"$f":"(J37-J21)/Q44","v":195.125},{"$f":"(J52-J37)/R44","v":250.26666666666668},{"$f":"(J67-J52)/S44","v":217.4},{"$f":"(J83-J67)/T44","v":234.125},{"$f":"(J98-J83)/U44","v":388.2}]
[21,9745,22,9766,24,9777,23,9803,24,9815,0,22222]
[21,9964,22,9974,24,9985,23,10012,13,10028,0,22221]
[12,10145,13,10174,24,10184,14,10198,24,10216,0,11212]
[12,10361,24,10373,24,10397,23,10407,24,10421,0,12222]
[12,10567,24,10581,24,10607,14,10624,24,10634,0,12212]
[12,10747,13,10780,24,10793,23,10813,24,10837,0,11222]
[21,10999,22,11026,24,11048,23,11058,24,11081,0,22222]
[21,11223,22,11256,13,11269,23,11280,24,11291,0,22122]
[12,11426,24,11440,13,11454,23,11464,24,11476,0,12122]
[12,11595,13,11628,24,11640,23,11663,24,11690,0,11222]
[12,11895,24,11983,13,11993,23,12003,13,12018,0,12121]
[12,12154,13,12168,13,12182,23,12192,13,12207,0,11121]
[12,12321,13,12363,24,12373,23,12400,24,12424,0,11222]
[12,12571,24,12583,24,12608,14,12621,24,12639,0,12212]
[12,12779,13,12796,24,12805,14,12832,24,12842,0,11212]
[12,12969,13,12983,13,13000,23,13010,24,13023,0,11122]
[12,13159,13,13175,13,13198,23,13217,24,13227,0,11122]
[12,13345,13,13356,13,13373,23,13382,24,13397,0,11122]
[12,13517,13,13530,13,13556,23,13566,13,13576,0,11121]
[12,13776,13,13816,24,13825,23,13863,24,13887,0,11222]
[12,14064,24,14073,13,14086,23,14095,24,14123,0,12122]
[12,14382,13,14401,24,14414,14,14432,24,14441,0,11212]
[12,14639,13,14657,24,14686,23,14707,24,14730,0,11222]
[12,14856,13,14868,24,14896,14,14907,24,14917,0,11212]
[12,15034,13,15062,24,15090,23,15113,24,15153,0,11222]
[12,15332,13,15358,24,15371,23,15399,24,15419,0,11222]
[12,15583,24,15616,24,15636,23,15656,24,15679,0,12222]
[21,15848,22,15868,24,15890,14,15908,24,15918,0,22212]
[12,16046,13,16091,24,16101,23,16139,24,16177,0,11222]
[21,16293,22,16353,24,16365,14,16380,24,16392,0,22212]
[12,16511,13,16527,24,16558,23,16578,24,16588,0,11222]
[21,16742,22,16781,24,16806,23,16830,24,16861,0,22222]
[12,16998,13,17017,13,17034,14,17047,24,17088,0,11112]
[12,17467,13,17476,13,17601,23,17619,13,17628,0,11121]
[12,17979,24,18011,24,18031,23,18057,13,18070,0,12221]
[12,18359,13,18384,24,18414,23,18434,13,18451,0,11221]
[12,18755,24,18765,24,18785,23,18817,24,18840,0,12222]
[12,19355,24,19366,13,19397,23,19409,13,19423,0,12121]
[21,19549,22,19571,24,19584,14,19594,24,19603,0,22212]
[12,19746,24,19853,24,19920,14,19931,24,19941,0,12212]
[12,20380,13,20404,24,20419,23,20442,24,20466,0,11222]
[12,20601,24,20635,13,20650,23,20660,24,20672,0,12122]
[12,21152,13,21206,24,21217,14,21240,24,21250,0,11212]
[12,21494,13,21520,13,21538,14,21554,24,21567,0,11112]
[21,21812,22,21834,24,21858,14,21879,13,21895,0,22211]
[21,22300,11,22320,22,22330,23,22387,24,22411,0,21222]

{"sheet":"!N102A20.105","index":4,"n_rows":64,"n_cols":48,"rows_kept":64,"cut":false,"hidden":false,"merged":[[4,39,4,42],[5,39,5,40],[4,44,4,47],[5,44,5,45],[4,24,4,27],[5,24,5,25],[4,29,4,32],[5,29,5,30],[4,34,4,37],[5,34,5,35],[1,1,1,2],[5,13,5,14],[42,13,42,14],[43,13,43,14],[4,19,4,22],[5,19,5,20]]}
["Report for:!N102A20.105"]
["Date:","<date>"]
["Hen:","<hen>",null,null,null,"Correct Sequence",{"$f":"Start!J2","v":21121},null,null,null,null,null,null,null,null,"Total Sequences in Data",{"$f":"4994-COUNTBLANK(L7:L5000)","v":58},null,null,null,null,"Total Sequences in Block Data",{"$f":"COUNTA(L7:L16)","v":10},null,null,null,"Total Sequences in Block Data",{"$f":"COUNTA(L17:L25)","v":9},null,null,null,"Total Sequences in Block Data",{"$f":"COUNTA(L26:L35)","v":10},null,null,null,"Total Sequences in Block Data",{"$f":"COUNTA(L36:L45)","v":10},null,null,null,"Total Sequences in Block Data",{"$f":"COUNTA(L46:L54)","v":9},null,null,null,"Total Sequences in Block Data",{"$f":"COUNTA(L55:L64)","v":10}]
[null,null,null,null,null,null,null,null,null,null,null,null,null,null,null,"Total Sequences in Summary",{"$f":"SUM(O7:O38)","v":57},null,null,null,null,"Total Sequences in Block Summary",{"$f":"SUM(U7:U38)","v":10},null,null,null,"Total Sequences in Block Summary",{"$f":"SUM(Z7:Z38)","v":9},null,null,null,"Total Sequences in Block Summary",{"$f":"SUM(AE7:AE38)","v":10},null,null,null,"Total Sequences in Block Summary",{"$f":"SUM(AJ7:AJ38)","v":10},null,null,null,"Total Sequences in Block Summary",{"$f":"SUM(AO7:AO38)","v":9},null,null,null,"Total Sequences in Block Summary",{"$f":"SUM(AT7:AT38)","v":9}]
[null,null,null,null,null,null,null,null,null,null,null,null,null,null,null,null,null,null,null,"Block 1",null,null,null,null,"Block 2",null,null,null,null,"Block 3",null,null,null,null,"Block 4",null,null,null,null,"Block 5",null,null,null,null,"Block 6"]
["Sequence\nComponent\n1","Time\n1","Sequence\nComponent\n2","Time\n2","Sequence\nComponent\n3","Time\n3","Sequence\nComponent\n4","Time\n4","Sequence\nComponent\n5","Time\n5","Correct?\n0=No 1=Yes","Sequence",null,"Frequency",null,"Relative Frequency","Variability",null,null,"Frequency",null,"Relative Frequency","Variability",null,"Frequency",null,"Relative Frequency","Variability",null,"Frequency",null,"Relative Frequency","Variability",null,"Frequency",null,"Relative Frequency","Variability",null,"Frequency",null,"Relative Frequency","Variability",null,"Frequency",null,"Relative Frequency","Variability"]
[12,14,24,31,24,46,23,64,24,72,0,12222,null,11111,{"$f":"COUNTIF($L$7:$L$500,N7)","v":4},{"$f":"O7/$Q$4","v":7.0175438596491224E-2},{"$f":"IF(P7=0,0,(P7*((LOG(P7))/LOG(2))))","v":-0.26897473783612219},null,null,{"$f":"N7","v":11111},{"$f":"COUNTIF(L7:L16,T7)","v":1},{"$f":"U7/(W4-U25)","v":0.1},{"$f":"IF(V7=0,0,(V7*((LOG(V7))/LOG(2))))","v":-0.33219280948873625},null,{"$f":"N7","v":11111},{"$f":"COUNTIF(L17:L25,Y7)","v":0},{"$f":"Z7/(AB4-Z25)","v":0},{"$f":"IF(AA7=0,0,(AA7*((LOG(AA7))/LOG(2))))","v":0},null,{"$f":"N7","v":11111},{"$f":"COUNTIF(L26:L35,AD7)","v":1},{"$f":"AE7/(AG4-AE25)","v":0.1},{"$f":"IF(AF7=0,0,(AF7*((LOG(AF7))/LOG(2))))","v":-0.33219280948873625},null,{"$f":"N7","v":11111},{"$f":"COUNTIF(L36:L45,AI7)","v":0},{"$f":"AJ7/(AL4-AJ25)","v":0},{"$f":"IF(AK7=0,0,(AK7*((LOG(AK7))/LOG(2))))","v":0},null,{"$f":"N7","v":11111},{"$f":"COUNTIF(L46:L54,AN7)","v":0},{"$f":"AO7/(AQ4-AO25)","v":0},{"$f":"IF(AP7=0,0,(AP7*((LOG(AP7))/LOG(2))))","v":0},null,{"$f":"N7","v":11111},{"$f":"COUNTIF(L55:L64,AS7)","v":2},{"$f":"AT7/(AV4-AT25)","v":0.22222222222222221},{"$f":"IF(AU7=0,0,(AU7*((LOG(AU7))/LOG(2))))","v":-0.48220555587606945}]
[21,194,22,207,24,235,23,244,24,268,0,22222,null,11112,{"$f":"COUNTIF($L$7:$L$500,N8)","v":0},{"$f":"O8/$Q$4","v":0},{"$f":"IF(P8=0,0,(P8*((LOG(P8))/LOG(2))))","v":0},null,null,{"$f":"N8","v":11112},{"$f":"COUNTIF(L7:L16,T8)","v":0},{"$f":"U8/(W4-U25)","v":0},{"$f":"IF(V8=0,0,(V8*((LOG(V8))/LOG(2))))","v":0},null,{"$f":"N8","v":11112},{"$f":"COUNTIF(L17:L25,Y8)","v":0},{"$f":"Z8/(AB4-Z25)","v":0},{"$f":"IF(AA8=0,0,(AA8*((LOG(AA8))/LOG(2))))","v":0},null,{"$f":"N8","v":11112},{"$f":"COUNTIF(L26:L35,AD8)","v":0},{"$f":"AE8/(AG4-AE25)","v":0},{"$f":"IF(AF8=0,0,(AF8*((LOG(AF8))/LOG(2))))","v":0},null,{"$f":"N8","v":11112},{"$f":"COUNTIF(L36:L45,AI8)","v":0},{"$f":"AJ8/(AL4-AJ25)","v":0},{"$f":"IF(AK8=0,0,(AK8*((LOG(AK8))/LOG(2))))","v":0},null,{"$f":"N8","v":11112},{"$f":"COUNTIF(L46:L54,AN8)","v":0},{"$f":"AO8/(AQ4-AO25)","v":0},{"$f":"IF(AP8=0,0,(AP8*((LOG(AP8))/LOG(2))))","v":0},null,{"$f":"N8","v":11112},{"$f":"COUNTIF(L55:L64,AS8)","v":0},{"$f":"AT8/(AV4-AT25)","v":0},{"$f":"IF(AU8=0,0,(AU8*((LOG(AU8))/LOG(2))))","v":0}]
[12,377,24,404,13,418,23,427,13,437,0,12121,null,11121,{"$f":"COUNTIF($L$7:$L$500,N9)","v":6},{"$f":"O9/$Q$4","v":0.10526315789473684},{"$f":"IF(P9=0,0,(P9*((LOG(P9))/LOG(2))))","v":-0.34188710667827216},null,null,{"$f":"N9","v":11121},{"$f":"COUNTIF(L7:L16,T9)","v":2},{"$f":"U9/(W4-U25)","v":0.2},{"$f":"IF(V9=0,0,(V9*((LOG(V9))/LOG(2))))","v":-0.46438561897747244},null,{"$f":"N9","v":11121},{"$f":"COUNTIF(L17:L25,Y9)","v":1},{"$f":"Z9/(AB4-Z25)","v":0.1111111111111111},{"$f":"IF(AA9=0,0,(AA9*((LOG(AA9))/LOG(2))))","v":-0.3522138890491458},null,{"$f":"N9","v":11121},{"$f":"COUNTIF(L26:L35,AD9)","v":1},{"$f":"AE9/(AG4-AE25)","v":0.1},{"$f":"IF(AF9=0,0,(AF9*((LOG(AF9))/LOG(2))))","v":-0.33219280948873625},null,{"$f":"N9","v":11121},{"$f":"COUNTIF(L36:L45,AI9)","v":1},{"$f":"AJ9/(AL4-AJ25)","v":0.1},{"$f":"IF(AK9=0,0,(AK9*((LOG(AK9))/LOG(2))))","v":-0.33219280948873625},null,{"$f":"N9","v":11121},{"$f":"COUNTIF(L46:L54,AN9)","v":1},{"$f":"AO9/(AQ4-AO25)","v":0.1111111111111111},{"$f":"IF(AP9=0,0,(AP9*((LOG(AP9))/LOG(2))))","v":-0.3522138890491458},null,{"$f":"N9","v":11121},{"$f":"COUNTIF(L55:L64,AS9)","v":0},{"$f":"AT9/(AV4-AT25)","v":0},{"$f":"IF(AU9=0,0,(AU9*((LOG(AU9))/LOG(2))))","v":0}]
[12,547,13,561,24,568,14,582,24,591,0,11212,null,11122,{"$f":"COUNTIF($L$7:$L$500,N10)","v":0},{"$f":"O10/$Q$4","v":0},{"$f":"IF(P10=0,0,(P10*((LOG(P10))/LOG(2))))","v":0},null,null,{"$f":"N10","v":11122},{"$f":"COUNTIF(L7:L16,T10)","v":0},{"$f":"U10/(W4-U25)","v":0},{"$f":"IF(V10=0,0,(V10*((LOG(V10))/LOG(2))))","v":0},null,{"$f":"N10","v":11122},{"$f":"COUNTIF(L17:L25,Y10)","v":0},{"$f":"Z10/(AB4-Z25)","v":0},{"$f":"IF(AA10=0,0,(AA10*((LOG(AA10))/LOG(2))))","v":0},null,{"$f":"N10","v":11122},{"$f":"COUNTIF(L26:L35,AD10)","v":0},{"$f":"AE10/(AG4-AE25)","v":0},{"$f":"IF(AF10=0,0,(AF10*((LOG(AF10))/LOG(2))))","v":0},null,{"$f":"N10","v":11122},{"$f":"COUNTIF(L36:L45,AI10)","v":0},{"$f":"AJ10/(AL4-AJ25)","v":0},{"$f":"IF(AK10=0,0,(AK10*((LOG(AK10))/LOG(2))))","v":0},null,{"$f":"N10","v":11122},{"$f":"COUNTIF(L46:L54,AN10)","v":0},{"$f":"AO10/(AQ4-AO25)","v":0},{"$f":"IF(AP10=0,0,(AP10*((LOG(AP10))/LOG(2))))","v":0},null,{"$f":"N10","v":11122},{"$f":"COUNTIF(L55:L64,AS10)","v":0},{"$f":"AT10/(AV4-AT25)","v":0},{"$f":"IF(AU10=0,0,(AU10*((LOG(AU10))/LOG(2))))","v":0}]
[12,697,13,708,13,732,23,741,13,756,0,11121,null,11211,{"$f":"COUNTIF($L$7:$L$500,N11)","v":1},{"$f":"O11/$Q$4","v":1.7543859649122806E-2},{"$f":"IF(P11=0,0,(P11*((LOG(P11))/LOG(2))))","v":-0.10233140375727617},null,null,{"$f":"N11","v":11211},{"$f":"COUNTIF(L7:L16,T11)","v":0},{"$f":"U11/(W4-U25)","v":0},{"$f":"IF(V11=0,0,(V11*((LOG(V11))/LOG(2))))","v":0},null,{"$f":"N11","v":11211},{"$f":"COUNTIF(L17:L25,Y11)","v":0},{"$f":"Z11/(AB4-Z25)","v":0},{"$f":"IF(AA11=0,0,(AA11*((LOG(AA11))/LOG(2))))","v":0},null,{"$f":"N11","v":11211},{"$f":"COUNTIF(L26:L35,AD11)","v":1},{"$f":"AE11/(AG4-AE25)","v":0.1},{"$f":"IF(AF11=0,0,(AF11*((LOG(AF11))/LOG(2))))","v":-0.33219280948873625},null,{"$f":"N11","v":11211},{"$f":"COUNTIF(L36:L45,AI11)","v":0},{"$f":"AJ11/(AL4-AJ25)","v":0},{"$f":"IF(AK11=0,0,(AK11*((LOG(AK11))/LOG(2))))","v":0},null,{"$f":"N11","v":11211},{"$f":"COUNTIF(L46:L54,AN11)","v":0},{"$f":"AO11/(AQ4-AO25)","v":0},{"$f":"IF(AP11=0,0,(AP11*((LOG(AP11))/LOG(2))))","v":0},null,{"$f":"N11","v":11211},{"$f":"COUNTIF(L55:L64,AS11)","v":0},{"$f":"AT11/(AV4-AT25)","v":0},{"$f":"IF(AU11=0,0,(AU11*((LOG(AU11))/LOG(2))))","v":0}]
[12,874,13,892,13,903,14,930,13,945,0,11111,null,11212,{"$f":"COUNTIF($L$7:$L$500,N12)","v":8},{"$f":"O12/$Q$4","v":0.14035087719298245},{"$f":"IF(P12=0,0,(P12*((LOG(P12))/LOG(2))))","v":-0.39759859847926199},null,null,{"$f":"N12","v":11212},{"$f":"COUNTIF(L7:L16,T12)","v":1},{"$f":"U12/(W4-U25)","v":0.1},{"$f":"IF(V12=0,0,(V12*((LOG(V12))/LOG(2))))","v":-0.33219280948873625},null,{"$f":"N12","v":11212},{"$f":"COUNTIF(L17:L25,Y12)","v":3},{"$f":"Z12/(AB4-Z25)","v":0.33333333333333331},{"$f":"IF(AA12=0,0,(AA12*((LOG(AA12))/LOG(2))))","v":-0.52832083357371862},null,{"$f":"N12","v":11212},{"$f":"COUNTIF(L26:L35,AD12)","v":0},{"$f":"AE12/(AG4-AE25)","v":0},{"$f":"IF(AF12=0,0,(AF12*((LOG(AF12))/LOG(2))))","v":0},null,{"$f":"N12","v":11212},{"$f":"COUNTIF(L36:L45,AI12)","v":0},{"$f":"AJ12/(AL4-AJ25)","v":0},{"$f":"IF(AK12=0,0,(AK12*((LOG(AK12))/LOG(2))))","v":0},null,{"$f":"N12","v":11212},{"$f":"COUNTIF(L46:L54,AN12)","v":3},{"$f":"AO12/(AQ4-AO25)","v":0.33333333333333331},{"$f":"IF(AP12=0,0,(AP12*((LOG(AP12))/LOG(2))))","v":-0.52832083357371862},null,{"$f":"N12","v":11212},{"$f":"COUNTIF(L55:L64,AS12)","v":1},{"$f":"AT12/(AV4-AT25)","v":0.1111111111111111},{"$f":"IF(AU12=0,0,(AU12*((LOG(AU12))/LOG(2))))","v":-0.3522138890491458}]
[12,1060,13,1074,13,1089,23,1099,13,1110,0,11121,null,11221,{"$f":"COUNTIF($L$7:$L$500,N13)","v":1},{"$f":"O13/$Q$4","v":1.7543859649122806E-2},{"$f":"IF(P13=0,0,(P13*((LOG(P13))/LOG(2))))","v":-0.10233140375727617},null,null,{"$f":"N13","v":11221},{"$f":"COUNTIF(L7:L16,T13)","v":0},{"$f":"U13/(W4-U25)","v":0},{"$f":"IF(V13=0,0,(V13*((LOG(V13))/LOG(2))))","v":0},null,{"$f":"N13","v":11221},{"$f":"COUNTIF(L17:L25,Y13)","v":0},{"$f":"Z13/(AB4-Z25)","v":0},{"$f":"IF(AA13=0,0,(AA13*((LOG(AA13))/LOG(2))))","v":0},null,{"$f":"N13","v":11221},{"$f":"COUNTIF(L26:L35,AD13)","v":1},{"$f":"AE13/(AG4-AE25)","v":0.1},{"$f":"IF(AF13=0,0,(AF13*((LOG(AF13))/LOG(2))))","v":-0.33219280948873625},null,{"$f":"N13","v":11221},{"$f":"COUNTIF(L36:L45,AI13)","v":0},{"$f":"AJ13/(AL4-AJ25)","v":0},{"$f":"IF(AK13=0,0,(AK13*((LOG(AK13))/LOG(2))))","v":0},null,{"$f":"N13","v":11221},{"$f":"COUNTIF(L46:L54,AN13)","v":0},{"$f":"AO13/(AQ4-AO25)","v":0},{"$f":"IF(AP13=0,0,(AP13*((LOG(AP13))/LOG(2))))","v":0},null,{"$f":"N13","v":11221},{"$f":"COUNTIF(L55:L64,AS13)","v":0},{"$f":"AT13/(AV4-AT25)","v":0},{"$f":"IF(AU13=0,0,(AU13*((LOG(AU13))/LOG(2))))","v":0}]
[12,1232,24,1243,13,1259,23,1271,13,1286,0,12121,null,11222,{"$f":"COUNTIF($L$7:$L$500,N14)","v":1},{"$f":"O14/$Q$4","v":1.7543859649122806E-2},{"$f":"IF(P14=0,0,(P14*((LOG(P14))/LOG(2))))","v":-0.10233140375727617},null,null,{"$f":"N14","v":11222},{"$f":"COUNTIF(L7:L16,T14)","v":0},{"$f":"U14/(W4-U25)","v":0},{"$f":"IF(V14=0,0,(V14*((LOG(V14))/LOG(2))))","v":0},null,{"$f":"N14","v":11222},{"$f":"COUNTIF(L17:L25,Y14)","v":1},{"$f":"Z14/(AB4-Z25)","v":0.1111111111111111},{"$f":"IF(AA14=0,0,(AA14*((LOG(AA14))/LOG(2))))","v":-0.3522138890491458},null,{"$f":"N14","v":11222},{"$f":"COUNTIF(L26:L35,AD14)","v":0},{"$f":"AE14/(AG4-AE25)","v":0},{"$f":"IF(AF14=0,0,(AF14*((LOG(AF14))/LOG(2))))","v":0},null,{"$f":"N14","v":11222},{"$f":"COUNTIF(L36:L45,AI14)","v":0},{"$f":"AJ14/(AL4-AJ25)","v":0},{"$f":"IF(AK14=0,0,(AK14*((LOG(AK14))/LOG(2))))","v":0},null,{"$f":"N14","v":11222},{"$f":"COUNTIF(L46:L54,AN14)","v":0},{"$f":"AO14/(AQ4-AO25)","v":0},{"$f":"IF(AP14=0,0,(AP14*((LOG(AP14))/LOG(2))))","v":0},null,{"$f":"N14","v":11222},{"$f":"COUNTIF(L55:L64,AS14)","v":0},{"$f":"AT14/(AV4-AT25)","v":0},{"$f":"IF(AU14=0,0,(AU14*((LOG(AU14))/LOG(2))))","v":0}]
[21,1402,11,1435,22,1446,14,1461,13,1486,0,21211,null,12111,{"$f":"COUNTIF($L$7:$L$500,N15)","v":0},{"$f":"O15/$Q$4","v":0},{"$f":"IF(P15=0,0,(P15*((LOG(P15))/LOG(2))))","v":0},null,null,{"$f":"N15","v":12111},{"$f":"COUNTIF(L7:L16,T15)","v":0},{"$f":"U15/(W4-U25)","v":0},{"$f":"IF(V15=0,0,(V15*((LOG(V15))/LOG(2))))","v":0},null,{"$f":"N15","v":12111},{"$f":"COUNTIF(L17:L25,Y15)","v":0},{"$f":"Z15/(AB4-Z25)","v":0},{"$f":"IF(AA15=0,0,(AA15*((LOG(AA15))/LOG(2))))","v":0},null,{"$f":"N15","v":12111},{"$f":"COUNTIF(L26:L35,AD15)","v":0},{"$f":"AE15/(AG4-AE25)","v":0},{"$f":"IF(AF15=0,0,(AF15*((LOG(AF15))/LOG(2))))","v":0},null,{"$f":"N15","v":12111},{"$f":"COUNTIF(L36:L45,AI15)","v":0},{"$f":"AJ15/(AL4-AJ25)","v":0},{"$f":"IF(AK15=0,0,(AK15*((LOG(AK15))/LOG(2))))","v":0},null,{"$f":"N15","v":12111},{"$f":"COUNTIF(L46:L54,AN15)","v":0},{"$f":"AO15/(AQ4-AO25)","v":0},{"$f":"IF(AP15=0,0,(AP15*((LOG(AP15))/LOG(2))))","v":0},null,{"$f":"N15","v":12111},{"$f":"COUNTIF(L55:L64,AS15)","v":0},{"$f":"AT15/(AV4-AT25)","v":0},{"$f":"IF(AU15=0,0,(AU15*((LOG(AU15))/LOG(2))))","v":0}]
[12,1620,24,1631,24,1653,14,1666,24,1676,0,12212,null,12112,{"$f":"COUNTIF($L$7:$L$500,N16)","v":1},{"$f":"O16/$Q$4","v":1.7543859649122806E-2},{"$f":"IF(P16=0,0,(P16*((LOG(P16))/LOG(2))))","v":-0.10233140375727617},null,null,{"$f":"N16","v":12112},{"$f":"COUNTIF(L7:L16,T16)","v":0},{"$f":"U16/(W4-U25)","v":0},{"$f":"IF(V16=0,0,(V16*((LOG(V16))/LOG(2))))","v":0},null,{"$f":"N16","v":12112},{"$f":"COUNTIF(L17:L25,Y16)","v":0},{"$f":"Z16/(AB4-Z25)","v":0},{"$f":"IF(AA16=0,0,(AA16*((LOG(AA16))/LOG(2))))","v":0},null,{"$f":"N16","v":12112},{"$f":"COUNTIF(L26:L35,AD16)","v":0},{"$f":"AE16/(AG4-AE25)","v":0},{"$f":"IF(AF16=0,0,(AF16*((LOG(AF16))/LOG(2))))","v":0},null,{"$f":"N16","v":12112},{"$f":"COUNTIF(L36:L45,AI16)","v":0},{"$f":"AJ16/(AL4-AJ25)","v":0},{"$f":"IF(AK16=0,0,(AK16*((LOG(AK16))/LOG(2))))","v":0},null,{"$f":"N16","v":12112},{"$f":"COUNTIF(L46:L54,AN16)","v":1},{"$f":"AO16/(AQ4-AO25)","v":0.1111111111111111},{"$f":"IF(AP16=0,0,(AP16*((LOG(AP16))/LOG(2))))","v":-0.3522138890491458},null,{"$f":"N16","v":12112},{"$f":"COUNTIF(L55:L64,AS16)","v":0},{"$f":"AT16/(AV4-AT25)","v":0},{"$f":"IF(AU16=0,0,(AU16*((LOG(AU16))/LOG(2))))","v":0}]
[12,1786,13,1830,24,1840,14,1856,24,1869,0,11212,null,12121,{"$f":"COUNTIF($L$7:$L$500,N17)","v":11},{"$f":"O17/$Q$4","v":0.19298245614035087},{"$f":"IF(P17=0,0,(P17*((LOG(P17))/LOG(2))))","v":-0.45803583071582266},null,null,{"$f":"N17","v":12121},{"$f":"COUNTIF(L7:L16,T17)","v":2},{"$f":"U17/(W4-U25)","v":0.2},{"$f":"IF(V17=0,0,(V17*((LOG(V17))/LOG(2))))","v":-0.46438561897747244},null,{"$f":"N17","v":12121},{"$f":"COUNTIF(L17:L25,Y17)","v":3},{"$f":"Z17/(AB4-Z25)","v":0.33333333333333331},{"$f":"IF(AA17=0,0,(AA17*((LOG(AA17))/LOG(2))))","v":-0.52832083357371862},null,{"$f":"N17","v":12121},{"$f":"COUNTIF(L26:L35,AD17)","v":2},{"$f":"AE17/(AG4-AE25)","v":0.2},{"$f":"IF(AF17=0,0,(AF17*((LOG(AF17))/LOG(2))))","v":-0.46438561897747244},null,{"$f":"N17","v":12121},{"$f":"COUNTIF(L36:L45,AI17)","v":3},{"$f":"AJ17/(AL4-AJ25)","v":0.3},{"$f":"IF(AK17=0,0,(AK17*((LOG(AK17))/LOG(2))))","v":-0.52108967824986185},null,{"$f":"N17","v":12121},{"$f":"COUNTIF(L46:L54,AN17)","v":0},{"$f":"AO17/(AQ4-AO25)","v":0},{"$f":"IF(AP17=0,0,(AP17*((LOG(AP17))/LOG(2))))","v":0},null,{"$f":"N17","v":12121},{"$f":"COUNTIF(L55:L64,AS17)","v":1},{"$f":"AT17/(AV4-AT25)","v":0.1111111111111111},{"$f":"IF(AU17=0,0,(AU17*((LOG(AU17))/LOG(2))))","v":-0.3522138890491458}]
[12,2010,24,2021,13,2036,23,2046,13,2062,0,12121,null,12122,{"$f":"COUNTIF($L$7:$L$500,N18)","v":1},{"$f":"O18/$Q$4","v":1.7543859649122806E-2},{"$f":"IF(P18=0,0,(P18*((LOG(P18))/LOG(2))))","v":-0.10233140375727617},null,null,{"$f":"N18","v":12122},{"$f":"COUNTIF(L7:L16,T18)","v":0},{"$f":"U18/(W4-U25)","v":0},{"$f":"IF(V18=0,0,(V18*((LOG(V18))/LOG(2))))","v":0},null,{"$f":"N18","v":12122},{"$f":"COUNTIF(L17:L25,Y18)","v":0},{"$f":"Z18/(AB4-Z25)","v":0},{"$f":"IF(AA18=0,0,(AA18*((LOG(AA18))/LOG(2))))","v":0},null,{"$f":"N18","v":12122},{"$f":"COUNTIF(L26:L35,AD18)","v":0},{"$f":"AE18/(AG4-AE25)","v":0},{"$f":"IF(AF18=0,0,(AF18*((LOG(AF18))/LOG(2))))","v":0},null,{"$f":"N18","v":12122},{"$f":"COUNTIF(L36:L45,AI18)","v":0},{"$f":"AJ18/(AL4-AJ25)","v":0},{"$f":"IF(AK18=0,0,(AK18*((LOG(AK18))/LOG(2))))","v":0},null,{"$f":"N18","v":12122},{"$f":"COUNTIF(L46:L54,AN18)","v":0},{"$f":"AO18/(AQ4-AO25)","v":0},{"$f":"IF(AP18=0,0,(AP18*((LOG(AP18))/LOG(2))))","v":0},null,{"$f":"N18","v":12122},{"$f":"COUNTIF(L55:L64,AS18)","v":1},{"$f":"AT18/(AV4-AT25)","v":0.1111111111111111},{"$f":"IF(AU18=0,0,(AU18*((LOG(AU18))/LOG(2))))","v":-0.3522138890491458}]
[12,2172,24,2198,13,2213,23,2222,13,2235,0,12121,null,12211,{"$f":"COUNTIF($L$7:$L$500,N19)","v":0},{"$f":"O19/$Q$4","v":0},{"$f":"IF(P19=0,0,(P19*((LOG(P19))/LOG(2))))","v":0},null,null,{"$f":"N19","v":12211},{"$f":"COUNTIF(L7:L16,T19)","v":0},{"$f":"U19/(W4-U25)","v":0},{"$f":"IF(V19=0,0,(V19*((LOG(V19))/LOG(2))))","v":0},null,{"$f":"N19","v":12211},{"$f":"COUNTIF(L17:L25,Y19)","v":0},{"$f":"Z19/(AB4-Z25)","v":0},{"$f":"IF(AA19=0,0,(AA19*((LOG(AA19))/LOG(2))))","v":0},null,{"$f":"N19","v":12211},{"$f":"COUNTIF(L26:L35,AD19)","v":0},{"$f":"AE19/(AG4-AE25)","v":0},{"$f":"IF(AF19=0,0,(AF19*((LOG(AF19))/LOG(2))))","v":0},null,{"$f":"N19","v":12211},{"$f":"COUNTIF(L36:L45,AI19)","v":0},{"$f":"AJ19/(AL4-AJ25)","v":0},{"$f":"IF(AK19=0,0,(AK19*((LOG(AK19))/LOG(2))))","v":0},null,{"$f":"N19","v":12211},{"$f":"COUNTIF(L46:L54,AN19)","v":0},{"$f":"AO19/(AQ4-AO25)","v":0},{"$f":"IF(AP19=0,0,(AP19*((LOG(AP19))/LOG(2))))","v":0},null,{"$f":"N19","v":12211},{"$f":"COUNTIF(L55:L64,AS19)","v":0},{"$f":"AT19/(AV4-AT25)","v":0},{"$f":"IF(AU19=0,0,(AU19*((LOG(AU19))/LOG(2))))","v":0}]
[12,2360,13,2371,24,2380,14,2394,24,2403,0,11212,null,12212,{"$f":"COUNTIF($L$7:$L$500,N20)","v":3},{"$f":"O20/$Q$4","v":5.2631578947368418E-2},{"$f":"IF(P20=0,0,(P20*((LOG(P20))/LOG(2))))","v":-0.22357513228650452},null,null,{"$f":"N20","v":12212},{"$f":"COUNTIF(L7:L16,T20)","v":1},{"$f":"U20/(W4-U25)","v":0.1},{"$f":"IF(V20=0,0,(V20*((LOG(V20))/LOG(2))))","v":-0.33219280948873625},null,{"$f":"N20","v":12212},{"$f":"COUNTIF(L17:L25,Y20)","v":1},{"$f":"Z20/(AB4-Z25)","v":0.1111111111111111},{"$f":"IF(AA20=0,0,(AA20*((LOG(AA20))/LOG(2))))","v":-0.3522138890491458},null,{"$f":"N20","v":12212},{"$f":"COUNTIF(L26:L35,AD20)","v":0},{"$f":"AE20/(AG4-AE25)","v":0},{"$f":"IF(AF20=0,0,(AF20*((LOG(AF20))/LOG(2))))","v":0},null,{"$f":"N20","v":12212},{"$f":"COUNTIF(L36:L45,AI20)","v":0},{"$f":"AJ20/(AL4-AJ25)","v":0},{"$f":"IF(AK20=0,0,(AK20*((LOG(AK20))/LOG(2))))","v":0},null,{"$f":"N20","v":12212},{"$f":"COUNTIF(L46:L54,AN20)","v":1},{"$f":"AO20/(AQ4-AO25)","v":0.1111111111111111},{"$f":"IF(AP20=0,0,(AP20*((LOG(AP20))/LOG(2))))","v":-0.3522138890491458},null,{"$f":"N20","v":12212},{"$f":"COUNTIF(L55:L64,AS20)","v":0},{"$f":"AT20/(AV4-AT25)","v":0},{"$f":"IF(AU20=0,0,(AU20*((LOG(AU20))/LOG(2))))","v":0}]
[12,2542,24,2553,24,2578,14,2596,24,2607,0,12212,null,12221,{"$f":"COUNTIF($L$7:$L$500,N21)","v":1},{"$f":"O21/$Q$4","v":1.7543859649122806E-2},{"$f":"IF(P21=0,0,(P21*((LOG(P21))/LOG(2))))","v":-0.10233140375727617},null,null,{"$f":"N21","v":12221},{"$f":"COUNTIF(L7:L16,T21)","v":0},{"$f":"U21/(W4-U25)","v":0},{"$f":"IF(V21=0,0,(V21*((LOG(V21))/LOG(2))))","v":0},null,{"$f":"N21","v":12221},{"$f":"COUNTIF(L17:L25,Y21)","v":0},{"$f":"Z21/(AB4-Z25)","v":0},{"$f":"IF(AA21=0,0,(AA21*((LOG(AA21))/LOG(2))))","v":0},null,{"$f":"N21","v":12221},{"$f":"COUNTIF(L26:L35,AD21)","v":0},{"$f":"AE21/(AG4-AE25)","v":0},{"$f":"IF(AF21=0,0,(AF21*((LOG(AF21))/LOG(2))))","v":0},null,{"$f":"N21","v":12221},{"$f":"COUNTIF(L36:L45,AI21)","v":1},{"$f":"AJ21/(AL4-AJ25)","v":0.1},{"$f":"IF(AK21=0,0,(AK21*((LOG(AK21))/LOG(2))))","v":-0.33219280948873625},null,{"$f":"N21","v":12221},{"$f":"COUNTIF(L46:L54,AN21)","v":0},{"$f":"AO21/(AQ4-AO25)","v":0},{"$f":"IF(AP21=0,0,(AP21*((LOG(AP21))/LOG(2))))","v":0},null,{"$f":"N21","v":12221},{"$f":"COUNTIF(L55:L64,AS21)","v":0},{"$f":"AT21/(AV4-AT25)","v":0},{"$f":"IF(AU21=0,0,(AU21*((LOG(AU21))/LOG(2))))","v":0}]
[12,2728,13,2742,24,2769,14,2788,24,2801,0,11212,null,12222,{"$f":"COUNTIF($L$7:$L$500,N22)","v":1},{"$f":"O22/$Q$4","v":1.7543859649122806E-2},{"$f":"IF(P22=0,0,(P22*((LOG(P22))/LOG(2))))","v":-0.10233140375727617},null,null,{"$f":"N22","v":12222},{"$f":"COUNTIF(L7:L16,T22)","v":1},{"$f":"U22/(W4-U25)","v":0.1},{"$f":"IF(V22=0,0,(V22*((LOG(V22))/LOG(2))))","v":-0.33219280948873625},null,{"$f":"N22","v":12222},{"$f":"COUNTIF(L17:L25,Y22)","v":0},{"$f":"Z22/(AB4-Z25)","v":0},{"$f":"IF(AA22=0,0,(AA22*((LOG(AA22))/LOG(2))))","v":0},null,{"$f":"N22","v":12222},{"$f":"COUNTIF(L26:L35,AD22)","v":0},{"$f":"AE22/(AG4-AE25)","v":0},{"$f":"IF(AF22=0,0,(AF22*((LOG(AF22))/LOG(2))))","v":0},null,{"$f":"N22","v":12222},{"$f":"COUNTIF(L36:L45,AI22)","v":0},{"$f":"AJ22/(AL4-AJ25)","v":0},{"$f":"IF(AK22=0,0,(AK22*((LOG(AK22))/LOG(2))))","v":0},null,{"$f":"N22","v":12222},{"$f":"COUNTIF(L46:L54,AN22)","v":0},{"$f":"AO22/(AQ4-AO25)","v":0},{"$f":"IF(AP22=0,0,(AP22*((LOG(AP22))/LOG(2))))","v":0},null,{"$f":"N22","v":12222},{"$f":"COUNTIF(L55:L64,AS22)","v":0},{"$f":"AT22/(AV4-AT25)","v":0},{"$f":"IF(AU22=0,0,(AU22*((LOG(AU22))/LOG(2))))","v":0}]
[12,2907,13,2925,13,2936,23,2945,13,2955,0,11121,null,21111,{"$f":"COUNTIF($L$7:$L$500,N23)","v":0},{"$f":"O23/$Q$4","v":0},{"$f":"IF(P23=0,0,(P23*((LOG(P23))/LOG(2))))","v":0},null,null,{"$f":"N23","v":21111},{"$f":"COUNTIF(L7:L16,T23)","v":0},{"$f":"U23/(W4-U25)","v":0},{"$f":"IF(V23=0,0,(V23*((LOG(V23))/LOG(2))))","v":0},null,{"$f":"N23","v":21111},{"$f":"COUNTIF(L17:L25,Y23)","v":0},{"$f":"Z23/(AB4-Z25)","v":0},{"$f":"IF(AA23=0,0,(AA23*((LOG(AA23))/LOG(2))))","v":0},null,{"$f":"N23","v":21111},{"$f":"COUNTIF(L26:L35,AD23)","v":0},{"$f":"AE23/(AG4-AE25)","v":0},{"$f":"IF(AF23=0,0,(AF23*((LOG(AF23))/LOG(2))))","v":0},null,{"$f":"N23","v":21111},{"$f":"COUNTIF(L36:L45,AI23)","v":0},{"$f":"AJ23/(AL4-AJ25)","v":0},{"$f":"IF(AK23=0,0,(AK23*((LOG(AK23))/LOG(2))))","v":0},null,{"$f":"N23","v":21111},{"$f":"COUNTIF(L46:L54,AN23)","v":0},{"$f":"AO23/(AQ4-AO25)","v":0},{"$f":"IF(AP23=0,0,(AP23*((LOG(AP23))/LOG(2))))","v":0},null,{"$f":"N23","v":21111},{"$f":"COUNTIF(L55:L64,AS23)","v":0},{"$f":"AT23/(AV4-AT25)","v":0},{"$f":"IF(AU23=0,0,(AU23*((LOG(AU23))/LOG(2))))","v":0}]
[12,3069,13,3090,24,3097,23,3123,24,3137,0,11222,null,21112,{"$f":"COUNTIF($L$7:$L$500,N24)","v":0},{"$f":"O24/$Q$4","v":0},{"$f":"IF(P24=0,0,(P24*((LOG(P24))/LOG(2))))","v":0},null,null,{"$f":"N24","v":21112},{"$f":"COUNTIF(L7:L16,T24)","v":0},{"$f":"U24/(W4-U25)","v":0},{"$f":"IF(V24=0,0,(V24*((LOG(V24))/LOG(2))))","v":0},null,{"$f":"N24","v":21112},{"$f":"COUNTIF(L17:L25,Y24)","v":0},{"$f":"Z24/(AB4-Z25)","v":0},{"$f":"IF(AA24=0,0,(AA24*((LOG(AA24))/LOG(2))))","v":0},null,{"$f":"N24","v":21112},{"$f":"COUNTIF(L26:L35,AD24)","v":0},{"$f":"AE24/(AG4-AE25)","v":0},{"$f":"IF(AF24=0,0,(AF24*((LOG(AF24))/LOG(2))))","v":0},null,{"$f":"N24","v":21112},{"$f":"COUNTIF(L36:L45,AI24)","v":0},{"$f":"AJ24/(AL4-AJ25)","v":0},{"$f":"IF(AK24=0,0,(AK24*((LOG(AK24))/LOG(2))))","v":0},null,{"$f":"N24","v":21112},{"$f":"COUNTIF(L46:L54,AN24)","v":0},{"$f":"AO24/(AQ4-AO25)","v":0},{"$f":"IF(AP24=0,0,(AP24*((LOG(AP24))/LOG(2))))","v":0},null,{"$f":"N24","v":21112},{"$f":"COUNTIF(L55:L64,AS24)","v":0},{"$f":"AT24/(AV4-AT25)","v":0},{"$f":"IF(AU24=0,0,(AU24*((LOG(AU24))/LOG(2))))","v":0}]
[12,3313,24,3323,13,3336,23,3346,13,3361,0,12121,null,21121,{"$f":"COUNTIF($L$7:$L$500,N25)","v":0},{"$f":"O25/$Q$4","v":0},{"$f":"IF(P25=0,0,(P25*((LOG(P25))/LOG(2))))","v":0},null,null,{"$f":"N25","v":21121},{"$f":"COUNTIF(L7:L16,T25)","v":0},null,null,null,{"$f":"N25","v":21121},{"$f":"COUNTIF(L17:L25,Y25)","v":0},null,null,null,{"$f":"N25","v":21121},{"$f":"COUNTIF(L26:L35,AD25)","v":0},null,null,null,{"$f":"N25","v":21121},{"$f":"COUNTIF(L36:L45,AI25)","v":0},null,null,null,{"$f":"N25","v":21121},{"$f":"COUNTIF(L46:L54,AN25)","v":0},null,null,null,{"$f":"N25","v":21121},{"$f":"COUNTIF(L55:L64,AS25)","v":0}]
[21,3575,11,3590,22,3600,14,3619,24,3633,0,21212,null,21122,{"$f":"COUNTIF($L$7:$L$500,N26)","v":1},{"$f":"O26/$Q$4","v":1.7543859649122806E-2},{"$f":"IF(P26=0,0,(P26*((LOG(P26))/LOG(2))))","v":-0.10233140375727617},null,null,{"$f":"N26","v":21122},{"$f":"COUNTIF(L7:L16,T26)","v":0},{"$f":"U26/(W4-U25)","v":0},{"$f":"IF(V26=0,0,(V26*((LOG(V26))/LOG(2))))","v":0},null,{"$f":"N26","v":21122},{"$f":"COUNTIF(L17:L25,Y26)","v":0},{"$f":"Z26/(AB4-Z25)","v":0},{"$f":"IF(AA26=0,0,(AA26*((LOG(AA26))/LOG(2))))","v":0},null,{"$f":"N26","v":21122},{"$f":"COUNTIF(L26:L35,AD26)","v":0},{"$f":"AE26/(AG4-AE25)","v":0},{"$f":"IF(AF26=0,0,(AF26*((LOG(AF26))/LOG(2))))","v":0},null,{"$f":"N26","v":21122},{"$f":"COUNTIF(L36:L45,AI26)","v":0},{"$f":"AJ26/(AL4-AJ25)","v":0},{"$f":"IF(AK26=0,0,(AK26*((LOG(AK26))/LOG(2))))","v":0},null,{"$f":"N26","v":21122},{"$f":"COUNTIF(L46:L54,AN26)","v":0},{"$f":"AO26/(AQ4-AO25)","v":0},{"$f":"IF(AP26=0,0,(AP26*((LOG(AP26))/LOG(2))))","v":0},null,{"$f":"N26","v":21122},{"$f":"COUNTIF(L55:L64,AS26)","v":1},{"$f":"AT26/(AV4-AT25)","v":0.1111111111111111},{"$f":"IF(AU26=0,0,(AU26*((LOG(AU26))/LOG(2))))","v":-0.3522138890491458}]
[12,3759,13,3779,13,3795,14,3805,13,3815,0,11111,null,21211,{"$f":"COUNTIF($L$7:$L$500,N27)","v":2},{"$f":"O27/$Q$4","v":3.5087719298245612E-2},{"$f":"IF(P27=0,0,(P27*((LOG(P27))/LOG(2))))","v":-0.16957508821630671},null,null,{"$f":"N27","v":21211},{"$f":"COUNTIF(L7:L16,T27)","v":1},{"$f":"U27/(W4-U25)","v":0.1},{"$f":"IF(V27=0,0,(V27*((LOG(V27))/LOG(2))))","v":-0.33219280948873625},null,{"$f":"N27","v":21211},{"$f":"COUNTIF(L17:L25,Y27)","v":0},{"$f":"Z27/(AB4-Z25)","v":0},{"$f":"IF(AA27=0,0,(AA27*((LOG(AA27))/LOG(2))))","v":0},null,{"$f":"N27","v":21211},{"$f":"COUNTIF(L26:L35,AD27)","v":0},{"$f":"AE27/(AG4-AE25)","v":0},{"$f":"IF(AF27=0,0,(AF27*((LOG(AF27))/LOG(2))))","v":0},null,{"$f":"N27","v":21211},{"$f":"COUNTIF(L36:L45,AI27)","v":0},{"$f":"AJ27/(AL4-AJ25)","v":0},{"$f":"IF(AK27=0,0,(AK27*((LOG(AK27))/LOG(2))))","v":0},null,{"$f":"N27","v":21211},{"$f":"COUNTIF(L46:L54,AN27)","v":1},{"$f":"AO27/(AQ4-AO25)","v":0.1111111111111111},{"$f":"IF(AP27=0,0,(AP27*((LOG(AP27))/LOG(2))))","v":-0.3522138890491458},null,{"$f":"N27","v":21211},{"$f":"COUNTIF(L55:L64,AS27)","v":0},{"$f":"AT27/(AV4-AT25)","v":0},{"$f":"IF(AU27=0,0,(AU27*((LOG(AU27))/LOG(2))))","v":0}]
[12,3941,13,3971,24,3991,23,4012,13,4026,0,11221,null,21212,{"$f":"COUNTIF($L$7:$L$500,N28)","v":7},{"$f":"O28/$Q$4","v":0.12280701754385964},{"$f":"IF(P28=0,0,(P28*((LOG(P28))/LOG(2))))","v":-0.37155694113596421},null,null,{"$f":"N28","v":21212},{"$f":"COUNTIF(L7:L16,T28)","v":0},{"$f":"U28/(W4-U25)","v":0},{"$f":"IF(V28=0,0,(V28*((LOG(V28))/LOG(2))))","v":0},null,{"$f":"N28","v":21212},{"$f":"COUNTIF(L17:L25,Y28)","v":0},{"$f":"Z28/(AB4-Z25)","v":0},{"$f":"IF(AA28=0,0,(AA28*((LOG(AA28))/LOG(2))))","v":0},null,{"$f":"N28","v":21212},{"$f":"COUNTIF(L26:L35,AD28)","v":2},{"$f":"AE28/(AG4-AE25)","v":0.2},{"$f":"IF(AF28=0,0,(AF28*((LOG(AF28))/LOG(2))))","v":-0.46438561897747244},null,{"$f":"N28","v":21212},{"$f":"COUNTIF(L36:L45,AI28)","v":0},{"$f":"AJ28/(AL4-AJ25)","v":0},{"$f":"IF(AK28=0,0,(AK28*((LOG(AK28))/LOG(2))))","v":0},null,{"$f":"N28","v":21212},{"$f":"COUNTIF(L46:L54,AN28)","v":2},{"$f":"AO28/(AQ4-AO25)","v":0.22222222222222221},{"$f":"IF(AP28=0,0,(AP28*((LOG(AP28))/LOG(2))))","v":-0.48220555587606945},null,{"$f":"N28","v":21212},{"$f":"COUNTIF(L55:L64,AS28)","v":3},{"$f":"AT28/(AV4-AT25)","v":0.33333333333333331},{"$f":"IF(AU28=0,0,(AU28*((LOG(AU28))/LOG(2))))","v":-0.52832083357371862}]
[12,4159,13,4175,13,4189,23,4200,13,4209,0,11121,null,21221,{"$f":"COUNTIF($L$7:$L$500,N29)","v":1},{"$f":"O29/$Q$4","v":1.7543859649122806E-2},{"$f":"IF(P29=0,0,(P29*((LOG(P29))/LOG(2))))","v":-0.10233140375727617},null,null,{"$f":"N29","v":21221},{"$f":"COUNTIF(L7:L16,T29)","v":0},{"$f":"U29/(W4-U25)","v":0},{"$f":"IF(V29=0,0,(V29*((LOG(V29))/LOG(2))))","v":0},null,{"$f":"N29","v":21221},{"$f":"COUNTIF(L17:L25,Y29)","v":0},{"$f":"Z29/(AB4-Z25)","v":0},{"$f":"IF(AA29=0,0,(AA29*((LOG(AA29))/LOG(2))))","v":0},null,{"$f":"N29","v":21221},{"$f":"COUNTIF(L26:L35,AD29)","v":0},{"$f":"AE29/(AG4-AE25)","v":0},{"$f":"IF(AF29=0,0,(AF29*((LOG(AF29))/LOG(2))))","v":0},null,{"$f":"N29","v":21221},{"$f":"COUNTIF(L36:L45,AI29)","v":1},{"$f":"AJ29/(AL4-AJ25)","v":0.1},{"$f":"IF(AK29=0,0,(AK29*((LOG(AK29))/LOG(2))))","v":-0.33219280948873625},null,{"$f":"N29","v":21221},{"$f":"COUNTIF(L46:L54,AN29)","v":0},{"$f":"AO29/(AQ4-AO25)","v":0},{"$f":"IF(AP29=0,0,(AP29*((LOG(AP29))/LOG(2))))","v":0},null,{"$f":"N29","v":21221},{"$f":"COUNTIF(L55:L64,AS29)","v":0},{"$f":"AT29/(AV4-AT25)","v":0},{"$f":"IF(AU29=0,0,(AU29*((LOG(AU29))/LOG(2))))","v":0}]
[21,4471,11,4483,22,4493,14,4506,24,4533,0,21212,null,21222,{"$f":"COUNTIF($L$7:$L$500,N30)","v":0},{"$f":"O30/$Q$4","v":0},{"$f":"IF(P30=0,0,(P30*((LOG(P30))/LOG(2))))","v":0},null,null,{"$f":"N30","v":21222},{"$f":"COUNTIF(L7:L16,T30)","v":0},{"$f":"U30/(W4-U25)","v":0},{"$f":"IF(V30=0,0,(V30*((LOG(V30))/LOG(2))))","v":0},null,{"$f":"N30","v":21222},{"$f":"COUNTIF(L17:L25,Y30)","v":0},{"$f":"Z30/(AB4-Z25)","v":0},{"$f":"IF(AA30=0,0,(AA30*((LOG(AA30))/LOG(2))))","v":0},null,{"$f":"N30","v":21222},{"$f":"COUNTIF(L26:L35,AD30)","v":0},{"$f":"AE30/(AG4-AE25)","v":0},{"$f":"IF(AF30=0,0,(AF30*((LOG(AF30))/LOG(2))))","v":0},null,{"$f":"N30","v":21222},{"$f":"COUNTIF(L36:L45,AI30)","v":0},{"$f":"AJ30/(AL4-AJ25)","v":0},{"$f":"IF(AK30=0,0,(AK30*((LOG(AK30))/LOG(2))))","v":0},null,{"$f":"N30","v":21222},{"$f":"COUNTIF(L46:L54,AN30)","v":0},{"$f":"AO30/(AQ4-AO25)","v":0},{"$f":"IF(AP30=0,0,(AP30*((LOG(AP30))/LOG(2))))","v":0},null,{"$f":"N30","v":21222},{"$f":"COUNTIF(L55:L64,AS30)","v":0},{"$f":"AT30/(AV4-AT25)","v":0},{"$f":"IF(AU30=0,0,(AU30*((LOG(AU30))/LOG(2))))","v":0}]
[12,4877,24,4887,13,4900,23,4907,13,4921,0,12121,null,22111,{"$f":"COUNTIF($L$7:$L$500,N31)","v":0},{"$f":"O31/$Q$4","v":0},{"$f":"IF(P31=0,0,(P31*((LOG(P31))/LOG(2))))","v":0},null,null,{"$f":"N31","v":22111},{"$f":"COUNTIF(L7:L16,T31)","v":0},{"$f":"U31/(W4-U25)","v":0},{"$f":"IF(V31=0,0,(V31*((LOG(V31))/LOG(2))))","v":0},null,{"$f":"N31","v":22111},{"$f":"COUNTIF(L17:L25,Y31)","v":0},{"$f":"Z31/(AB4-Z25)","v":0},{"$f":"IF(AA31=0,0,(AA31*((LOG(AA31))/LOG(2))))","v":0},null,{"$f":"N31","v":22111},{"$f":"COUNTIF(L26:L35,AD31)","v":0},{"$f":"AE31/(AG4-AE25)","v":0},{"$f":"IF(AF31=0,0,(AF31*((LOG(AF31))/LOG(2))))","v":0},null,{"$f":"N31","v":22111},{"$f":"COUNTIF(L36:L45,AI31)","v":0},{"$f":"AJ31/(AL4-AJ25)","v":0},{"$f":"IF(AK31=0,0,(AK31*((LOG(AK31))/LOG(2))))","v":0},null,{"$f":"N31","v":22111},{"$f":"COUNTIF(L46:L54,AN31)","v":0},{"$f":"AO31/(AQ4-AO25)","v":0},{"$f":"IF(AP31=0,0,(AP31*((LOG(AP31))/LOG(2))))","v":0},null,{"$f":"N31","v":22111},{"$f":"COUNTIF(L55:L64,AS31)","v":0},{"$f":"AT31/(AV4-AT25)","v":0},{"$f":"IF(AU31=0,0,(AU31*((LOG(AU31))/LOG(2))))","v":0}]
[12,5263,24,5274,13,5289,23,5299,13,5314,0,12121,null,22112,{"$f":"COUNTIF($L$7:$L$500,N32)","v":0},{"$f":"O32/$Q$4","v":0},{"$f":"IF(P32=0,0,(P32*((LOG(P32))/LOG(2))))","v":0},null,null,{"$f":"N32","v":22112},{"$f":"COUNTIF(L7:L16,T32)","v":0},{"$f":"U32/(W4-U25)","v":0},{"$f":"IF(V32=0,0,(V32*((LOG(V32))/LOG(2))))","v":0},null,{"$f":"N32","v":22112},{"$f":"COUNTIF(L17:L25,Y32)","v":0},{"$f":"Z32/(AB4-Z25)","v":0},{"$f":"IF(AA32=0,0,(AA32*((LOG(AA32))/LOG(2))))","v":0},null,{"$f":"N32","v":22112},{"$f":"COUNTIF(L26:L35,AD32)","v":0},{"$f":"AE32/(AG4-AE25)","v":0},{"$f":"IF(AF32=0,0,(AF32*((LOG(AF32))/LOG(2))))","v":0},null,{"$f":"N32","v":22112},{"$f":"COUNTIF(L36:L45,AI32)","v":0},{"$f":"AJ32/(AL4-AJ25)","v":0},{"$f":"IF(AK32=0,0,(AK32*((LOG(AK32))/LOG(2))))","v":0},null,{"$f":"N32","v":22112},{"$f":"COUNTIF(L46:L54,AN32)","v":0},{"$f":"AO32/(AQ4-AO25)","v":0},{"$f":"IF(AP32=0,0,(AP32*((LOG(AP32))/LOG(2))))","v":0},null,{"$f":"N32","v":22112},{"$f":"COUNTIF(L55:L64,AS32)","v":0},{"$f":"AT32/(AV4-AT25)","v":0},{"$f":"IF(AU32=0,0,(AU32*((LOG(AU32))/LOG(2))))","v":0}]
[12,5503,13,5532,24,5558,14,5607,13,5626,0,11211,null,22121,{"$f":"COUNTIF($L$7:$L$500,N33)","v":1},{"$f":"O33/$Q$4","v":1.7543859649122806E-2},{"$f":"IF(P33=0,0,(P33*((LOG(P33))/LOG(2))))","v":-0.10233140375727617},null,null,{"$f":"N33","v":22121},{"$f":"COUNTIF(L7:L16,T33)","v":0},{"$f":"U33/(W4-U25)","v":0},{"$f":"IF(V33=0,0,(V33*((LOG(V33))/LOG(2))))","v":0},null,{"$f":"N33","v":22121},{"$f":"COUNTIF(L17:L25,Y33)","v":0},{"$f":"Z33/(AB4-Z25)","v":0},{"$f":"IF(AA33=0,0,(AA33*((LOG(AA33))/LOG(2))))","v":0},null,{"$f":"N33","v":22121},{"$f":"COUNTIF(L26:L35,AD33)","v":0},{"$f":"AE33/(AG4-AE25)","v":0},{"$f":"IF(AF33=0,0,(AF33*((LOG(AF33))/LOG(2))))","v":0},null,{"$f":"N33","v":22121},{"$f":"COUNTIF(L36:L45,AI33)","v":1},{"$f":"AJ33/(AL4-AJ25)","v":0.1},{"$f":"IF(AK33=0,0,(AK33*((LOG(AK33))/LOG(2))))","v":-0.33219280948873625},null,{"$f":"N33","v":22121},{"$f":"COUNTIF(L46:L54,AN33)","v":0},{"$f":"AO33/(AQ4-AO25)","v":0},{"$f":"IF(AP33=0,0,(AP33*((LOG(AP33))/LOG(2))))","v":0},null,{"$f":"N33","v":22121},{"$f":"COUNTIF(L55:L64,AS33)","v":0},{"$f":"AT33/(AV4-AT25)","v":0},{"$f":"IF(AU33=0,0,(AU33*((LOG(AU33))/LOG(2))))","v":0}]
[21,5816,22,5833,24,5868,14,5878,24,5884,0,22212,null,22122,{"$f":"COUNTIF($L$7:$L$500,N34)","v":2},{"$f":"O34/$Q$4","v":3.5087719298245612E-2},{"$f":"IF(P34=0,0,(P34*((LOG(P34))/LOG(2))))","v":-0.16957508821630671},null,null,{"$f":"N34","v":22122},{"$f":"COUNTIF(L7:L16,T34)","v":0},{"$f":"U34/(W4-U25)","v":0},{"$f":"IF(V34=0,0,(V34*((LOG(V34))/LOG(2))))","v":0},null,{"$f":"N34","v":22122},{"$f":"COUNTIF(L17:L25,Y34)","v":0},{"$f":"Z34/(AB4-Z25)","v":0},{"$f":"IF(AA34=0,0,(AA34*((LOG(AA34))/LOG(2))))","v":0},null,{"$f":"N34","v":22122},{"$f":"COUNTIF(L26:L35,AD34)","v":0},{"$f":"AE34/(AG4-AE25)","v":0},{"$f":"IF(AF34=0,0,(AF34*((LOG(AF34))/LOG(2))))","v":0},null,{"$f":"N34","v":22122},{"$f":"COUNTIF(L36:L45,AI34)","v":2},{"$f":"AJ34/(AL4-AJ25)","v":0.2},{"$f":"IF(AK34=0,0,(AK34*((LOG(AK34))/LOG(2))))","v":-0.46438561897747244},null,{"$f":"N34","v":22122},{"$f":"COUNTIF(L46:L54,AN34)","v":0},{"$f":"AO34/(AQ4-AO25)","v":0},{"$f":"IF(AP34=0,0,(AP34*((LOG(AP34))/LOG(2))))","v":0},null,{"$f":"N34","v":22122},{"$f":"COUNTIF(L55:L64,AS34)","v":0},{"$f":"AT34/(AV4-AT25)","v":0},{"$f":"IF(AU34=0,0,(AU34*((LOG(AU34))/LOG(2))))","v":0}]
[21,6097,22,6114,24,6130,23,6149,24,6159,0,22222,null,22211,{"$f":"COUNTIF($L$7:$L$500,N35)","v":0},{"$f":"O35/$Q$4","v":0},{"$f":"IF(P35=0,0,(P35*((LOG(P35))/LOG(2))))","v":0},null,null,{"$f":"N35","v":22211},{"$f":"COUNTIF(L7:L16,T35)","v":0},{"$f":"U35/(W4-U25)","v":0},{"$f":"IF(V35=0,0,(V35*((LOG(V35))/LOG(2))))","v":0},null,{"$f":"N35","v":22211},{"$f":"COUNTIF(L17:L25,Y35)","v":0},{"$f":"Z35/(AB4-Z25)","v":0},{"$f":"IF(AA35=0,0,(AA35*((LOG(AA35))/LOG(2))))","v":0},null,{"$f":"N35","v":22211},{"$f":"COUNTIF(L26:L35,AD35)","v":0},{"$f":"AE35/(AG4-AE25)","v":0},{"$f":"IF(AF35=0,0,(AF35*((LOG(AF35))/LOG(2))))","v":0},null,{"$f":"N35","v":22211},{"$f":"COUNTIF(L36:L45,AI35)","v":0},{"$f":"AJ35/(AL4-AJ25)","v":0},{"$f":"IF(AK35=0,0,(AK35*((LOG(AK35))/LOG(2))))","v":0},null,{"$f":"N35","v":22211},{"$f":"COUNTIF(L46:L54,AN35)","v":0},{"$f":"AO35/(AQ4-AO25)","v":0},{"$f":"IF(AP35=0,0,(AP35*((LOG(AP35))/LOG(2))))","v":0},null,{"$f":"N35","v":22211},{"$f":"COUNTIF(L55:L64,AS35)","v":0},{"$f":"AT35/(AV4-AT25)","v":0},{"$f":"IF(AU35=0,0,(AU35*((LOG(AU35))/LOG(2))))","v":0}]
[21,6321,22,6330,13,6392,23,6402,24,6412,0,22122,null,22212,{"$f":"COUNTIF($L$7:$L$500,N36)","v":2},{"$f":"O36/$Q$4","v":3.5087719298245612E-2},{"$f":"IF(P36=0,0,(P36*((LOG(P36))/LOG(2))))","v":-0.16957508821630671},null,null,{"$f":"N36","v":22212},{"$f":"COUNTIF(L7:L16,T36)","v":0},{"$f":"U36/(W4-U25)","v":0},{"$f":"IF(V36=0,0,(V36*((LOG(V36))/LOG(2))))","v":0},null,{"$f":"N36","v":22212},{"$f":"COUNTIF(L17:L25,Y36)","v":0},{"$f":"Z36/(AB4-Z25)","v":0},{"$f":"IF(AA36=0,0,(AA36*((LOG(AA36))/LOG(2))))","v":0},null,{"$f":"N36","v":22212},{"$f":"COUNTIF(L26:L35,AD36)","v":1},{"$f":"AE36/(AG4-AE25)","v":0.1},{"$f":"IF(AF36=0,0,(AF36*((LOG(AF36))/LOG(2))))","v":-0.33219280948873625},null,{"$f":"N36","v":22212},{"$f":"COUNTIF(L36:L45,AI36)","v":1},{"$f":"AJ36/(AL4-AJ25)","v":0.1},{"$f":"IF(AK36=0,0,(AK36*((LOG(AK36))/LOG(2))))","v":-0.33219280948873625},null,{"$f":"N36","v":22212},{"$f":"COUNTIF(L46:L54,AN36)","v":0},{"$f":"AO36/(AQ4-AO25)","v":0},{"$f":"IF(AP36=0,0,(AP36*((LOG(AP36))/LOG(2))))","v":0},null,{"$f":"N36","v":22212},{"$f":"COUNTIF(L55:L64,AS36)","v":0},{"$f":"AT36/(AV4-AT25)","v":0},{"$f":"IF(AU36=0,0,(AU36*((LOG(AU36))/LOG(2))))","v":0}]
[12,6555,24,6582,24,6604,23,6624,13,6635,0,12221,null,22221,{"$f":"COUNTIF($L$7:$L$500,N37)","v":0},{"$f":"O37/$Q$4","v":0},{"$f":"IF(P37=0,0,(P37*((LOG(P37))/LOG(2))))","v":0},null,null,{"$f":"N37","v":22221},{"$f":"COUNTIF(L7:L16,T37)","v":0},{"$f":"U37/(W4-U25)","v":0},{"$f":"IF(V37=0,0,(V37*((LOG(V37))/LOG(2))))","v":0},null,{"$f":"N37","v":22221},{"$f":"COUNTIF(L17:L25,Y37)","v":0},{"$f":"Z37/(AB4-Z25)","v":0},{"$f":"IF(AA37=0,0,(AA37*((LOG(AA37))/LOG(2))))","v":0},null,{"$f":"N37","v":22221},{"$f":"COUNTIF(L26:L35,AD37)","v":0},{"$f":"AE37/(AG4-AE25)","v":0},{"$f":"IF(AF37=0,0,(AF37*((LOG(AF37))/LOG(2))))","v":0},null,{"$f":"N37","v":22221},{"$f":"COUNTIF(L36:L45,AI37)","v":0},{"$f":"AJ37/(AL4-AJ25)","v":0},{"$f":"IF(AK37=0,0,(AK37*((LOG(AK37))/LOG(2))))","v":0},null,{"$f":"N37","v":22221},{"$f":"COUNTIF(L46:L54,AN37)","v":0},{"$f":"AO37/(AQ4-AO25)","v":0},{"$f":"IF(AP37=0,0,(AP37*((LOG(AP37))/LOG(2))))","v":0},null,{"$f":"N37","v":22221},{"$f":"COUNTIF(L55:L64,AS37)","v":0},{"$f":"AT37/(AV4-AT25)","v":0},{"$f":"IF(AU37=0,0,(AU37*((LOG(AU37))/LOG(2))))","v":0}]
[21,6772,22,6783,24,6802,14,6815,24,6826,0,22212,null,22222,{"$f":"COUNTIF($L$7:$L$500,N38)","v":2},{"$f":"O38/$Q$4","v":3.5087719298245612E-2},{"$f":"IF(P38=0,0,(P38*((LOG(P38))/LOG(2))))","v":-0.16957508821630671},null,null,{"$f":"N38","v":22222},{"$f":"COUNTIF(L7:L16,T38)","v":1},{"$f":"U38/(W4-U25)","v":0.1},{"$f":"IF(V38=0,0,(V38*((LOG(V38))/LOG(2))))","v":-0.33219280948873625},null,{"$f":"N38","v":22222},{"$f":"COUNTIF(L17:L25,Y38)","v":0},{"$f":"Z38/(AB4-Z25)","v":0},{"$f":"IF(AA38=0,0,(AA38*((LOG(AA38))/LOG(2))))","v":0},null,{"$f":"N38","v":22222},{"$f":"COUNTIF(L26:L35,AD38)","v":1},{"$f":"AE38/(AG4-AE25)","v":0.1},{"$f":"IF(AF38=0,0,(AF38*((LOG(AF38))/LOG(2))))","v":-0.33219280948873625},null,{"$f":"N38","v":22222},{"$f":"COUNTIF(L36:L45,AI38)","v":0},{"$f":"AJ38/(AL4-AJ25)","v":0},{"$f":"IF(AK38=0,0,(AK38*((LOG(AK38))/LOG(2))))","v":0},null,{"$f":"N38","v":22222},{"$f":"COUNTIF(L46:L54,AN38)","v":0},{"$f":"AO38/(AQ4-AO25)","v":0},{"$f":"IF(AP38=0,0,(AP38*((LOG(AP38))/LOG(2))))","v":0},null,{"$f":"N38","v":22222},{"$f":"COUNTIF(L55:L64,AS38)","v":0},{"$f":"AT38/(AV4-AT25)","v":0},{"$f":"IF(AU38=0,0,(AU38*((LOG(AU38))/LOG(2))))","v":0}]
[21,6957,11,6972,22,6983,23,6993,13,7004,0,21221,null,null,null,{"$f":"SUM(P7:P38)","v":1.0000000000000004},{"$f":"-SUM(Q7:Q38)","v":3.7632427375699358},null,null,null,null,{"$f":"SUM(V7:V38)","v":1},{"$f":"-SUM(W7:W38)","v":2.9219280948873623},null,null,null,{"$f":"SUM(AA7:AA38)","v":1},{"$f":"-SUM(AB7:AB38)","v":2.1132833342948745},null,null,null,{"$f":"SUM(AF7:AF38)","v":1},{"$f":"-SUM(AG7:AG38)","v":2.9219280948873623},null,null,null,{"$f":"SUM(AK7:AK38)","v":0.99999999999999989},{"$f":"-SUM(AL7:AL38)","v":2.6464393446710157},null,null,null,{"$f":"SUM(AP7:AP38)","v":1},{"$f":"-SUM(AQ7:AQ38)","v":2.419381945646371},null,null,null,{"$f":"SUM(AU7:AU38)","v":1},{"$f":"-SUM(AV7:AV38)","v":2.4193819456463714}]
[12,7164,24,7178,13,7197,23,7206,13,7220,0,12121,null,null,null,"U=",{"$f":"Q39/(LOG(Q4)/LOG(2))","v":0.64517635827714548},null,null,null,null,"U1=",{"$f":"W39/(LOG(W4)/LOG(2))","v":0.87958800173440754},null,null,null,"U2=",{"$f":"AB39/(LOG(AB4)/LOG(2))","v":0.66666666666666652},null,null,null,"U3=",{"$f":"AG39/(LOG(AG4)/LOG(2))","v":0.87958800173440754},null,null,null,"U4=",{"$f":"AL39/(LOG(AL4)/LOG(2))","v":0.79665762445130517},null,null,null,"U5=",{"$f":"AQ39/(LOG(AQ4)/LOG(2))","v":0.76323002738094914},null,null,null,"U6=",{"$f":"AV39/(LOG(AV4)/LOG(2))","v":0.76323002738094925}]
[12,7426,24,7438,13,7451,23,7461,13,7476,0,12121]
[21,7663,22,7721,13,7732,23,7742,24,7751,0,22122]
[12,7940,13,7955,13,7994,23,8004,13,8028,0,11121,null,"Total Target Seq"]
[12,8263,24,8271,13,8286,23,8296,13,8308,0,12121,null,{"$f":"COUNTIF(L7:L64,G3)","v":0},null,10,9,10,10,9,10]
[21,8544,22,8567,13,8577,23,8587,13,8600,0,22121,null,null,null,"% of reinforcement given in 6 equal intervals based on number of trials "]
[21,8806,11,8820,22,8847,14,8862,24,8874,0,21212,null,null,null,"%_1","%_2","%_3","%_4","%_5","%_6"]
[21,10008,11,10042,22,10053,14,10078,13,10090,0,21211,null,null,"target sequence",{"$f":"$G$3","v":21121},{"$f":"$G$3","v":21121},{"$f":"$G$3","v":21121},{"$f":"$G$3","v":21121},{"$f":"$G$3","v":21121},{"$f":"$G$3","v":21121}]
[12,11680,24,11691,24,11702,14,11716,24,11727,0,12212,null,null,"total reinforcement",{"$f":"U25","v":0},{"$f":"Z25","v":0},{"$f":"AE25","v":0},{"$f":"AJ25","v":0},{"$f":"AO25","v":0},{"$f":"AT25","v":0}]
[12,11995,13,12015,24,12028,14,12048,24,12058,0,11212,null,null,"% target"]
[12,12600,24,12610,13,12643,14,12666,24,12678,0,12112,null,null,"CCRF"]
[12,13011,13,13041,24,13051,14,13065,24,13077,0,11212,null,null,"% CCRf"]
[21,13294,11,13321,22,13334,14,13349,24,13362,0,21212,null,null,"average response rate",{"$f":"J16/P44","v":167.6},{"$f":"(J25-J16)/Q44","v":187.22222222222223},{"$f":"(J35-J25)/R44","v":279.8},{"$f":"(J45-J35)/S44","v":244.1},{"$f":"(J54-J45)/T44","v":586.88888888888891},{"$f":"(J64-J54)/U44","v":-1388.2}]
[12,13489,13,13503,13,13533,23,13543,13,13556,0,11121]
[12,13828,13,13843,24,13862,14,13872,24,13882,0,11212]
[12,14098,24,14108,13,17485,23,17521,24,17552,0,12122]
[12,17815,13,17842,13,17879,14,17889,13,17902,0,11111]
[21,19249,11,19290,22,19326,14,19599,24,19624,0,21212]
[12,20147,13,20178,24,20344,14,20365,24,20376,0,11212]
[21,20830,11,20893,22,20905,14,20930,24,20966,0,21212]
[12,21080,24,21093,13,21104,23,21115,13,21129,0,12121]
[21,21318,11,21334,22,21345,14,21392,24,21416,0,21212]
[21,21592,11,21605,11,21615,21,21626,22,21652,0,21122]
[12,22429,13,22447,13,22457,14,22466,13,22491,0,11111]
[21,23820,22,23850,null,null,null,null,null,null,null,22]

{"sheet":"!N103A10.105","index":5,"n_rows":52,"n_cols":48,"rows_kept":52,"cut":false,"hidden":false,"merged":[[4,39,4,42],[5,39,5,40],[4,44,4,47],[5,44,5,45],[4,24,4,27],[5,24,5,25],[4,29,4,32],[5,29,5,30],[4,34,4,37],[5,34,5,35],[1,1,1,2],[5,13,5,14],[42,13,42,14],[43,13,43,14],[4,19,4,22],[5,19,5,20]]}
["Report for:!N103A10.105"]
["Date:","<date>"]
["Hen:","<hen>",null,null,null,"Correct Sequence",{"$f":"Start!J2","v":21121},null,null,null,null,null,null,null,null,"Total Sequences in Data",{"$f":"4994-COUNTBLANK(L7:L5000)","v":1},null,null,null,null,"Total Sequences in Block Data",{"$f":"COUNTA(L6:L7)","v":2},null,null,null,"Total Sequences in Block Data",{"$f":"COUNTA(L6:L7)","v":2},null,null,null,"Total Sequences in Block Data",{"$f":"COUNTA(L7:L7)","v":1},null,null,null,"Total Sequences in Block Data",{"$f":"COUNTA(L7:L8)","v":1},null,null,null,"Total Sequences in Block Data",{"$f":"COUNTA(L7:L8)","v":1},null,null,null,"Total Sequences in Block Data",{"$f":"COUNTA(L7:L8)","v":1}]
[null,null,null,null,null,null,null,null,null,null,null,null,null,null,null,"Total Sequences in Summary",{"$f":"SUM(O7:O38)","v":0},null,null,null,null,"Total Sequences in Block Summary",{"$f":"SUM(U7:U38)","v":0},null,null,null,"Total Sequences in Block Summary",{"$f":"SUM(Z7:Z38)","v":0},null,null,null,"Total Sequences in Block Summary",{"$f":"SUM(AE7:AE38)","v":0},null,null,null,"Total Sequences in Block Summary",{"$f":"SUM(AJ7:AJ38)","v":0},null,null,null,"Total Sequences in Block Summary",{"$f":"SUM(AO7:AO38)","v":0},null,null,null,"Total Sequences in Block Summary",{"$f":"SUM(AT7:AT38)","v":0}]
[null,null,null,null,null,null,null,null,null,null,null,null,null,null,null,null,null,null,null,"Block 1",null,null,null,null,"Block 2",null,null,null,null,"Block 3",null,null,null,null,"Block 4",null,null,null,null,"Block 5",null,null,null,null,"Block 6"]
["Sequence\nComponent\n1","Time\n1","Sequence\nComponent\n2","Time\n2","Sequence\nComponent\n3","Time\n3","Sequence\nComponent\n4","Time\n4","Sequence\nComponent\n5","Time\n5","Correct?\n0=No 1=Yes","Sequence",null,"Frequency",null,"Relative Frequency","Variability",null,null,"Frequency",null,"Relative Frequency","Variability",null,"Frequency",null,"Relative Frequency","Variability",null,"Frequency",null,"Relative Frequency","Variability",null,"Frequency",null,"Relative Frequency","Variability",null,"Frequency",null,"Relative Frequency","Variability",null,"Frequency",null,"Relative Frequency","Variability"]
[12,10,24,24,13,32,null,null,null,null,null,121,null,11111,{"$f":"COUNTIF($L$7:$L$500,N7)","v":0},{"$f":"O7/$Q$4","v":{"$error":"#DIV/0!"}},{"$f":"IF(P7=0,0,(P7*((LOG(P7))/LOG(2))))","v":{"$error":"#DIV/0!"}},null,null,{"$f":"N7","v":11111},{"$f":"COUNTIF(L6:L7,T7)","v":0},{"$f":"U7/(W4-U25)","v":{"$error":"#DIV/0!"}},{"$f":"IF(V7=0,0,(V7*((LOG(V7))/LOG(2))))","v":{"$error":"#DIV/0!"}},null,{"$f":"N7","v":11111},{"$f":"COUNTIF(L6:L7,Y7)","v":0},{"$f":"Z7/(AB4-Z25)","v":{"$error":"#DIV/0!"}},{"$f":"IF(AA7=0,0,(AA7*((LOG(AA7))/LOG(2))))","v":{"$error":"#DIV/0!"}},null,{"$f":"N7","v":11111},{"$f":"COUNTIF(L7:L7,AD7)","v":0},{"$f":"AE7/(AG4-AE25)","v":{"$error":"#DIV/0!"}},{"$f":"IF(AF7=0,0,(AF7*((LOG(AF7))/LOG(2))))","v":{"$error":"#DIV/0!"}},null,{"$f":"N7","v":11111},{"$f":"COUNTIF(L7:L8,AI7)","v":0},{"$f":"AJ7/(AL4-AJ25)","v":{"$error":"#DIV/0!"}},{"$f":"IF(AK7=0,0,(AK7*((LOG(AK7))/LOG(2))))","v":{"$error":"#DIV/0!"}},null,{"$f":"N7","v":11111},{"$f":"COUNTIF(L7:L8,AN7)","v":0},{"$f":"AO7/(AQ4-AO25)","v":{"$error":"#DIV/0!"}},{"$f":"IF(AP7=0,0,(AP7*((LOG(AP7))/LOG(2))))","v":{"$error":"#DIV/0!"}},null,{"$f":"N7","v":11111},{"$f":"COUNTIF(L7:L8,AS7)","v":0},{"$f":"AT7/(AV4-AT25)","v":{"$error":"#DIV/0!"}},{"$f":"IF(AU7=0,0,(AU7*((LOG(AU7))/LOG(2))))","v":{"$error":"#DIV/0!"}}]
[null,null,null,null,null,null,null,null,null,null,null,null,null,11112,{"$f":"COUNTIF($L$7:$L$500,N8)","v":0},{"$f":"O8/$Q$4","v":{"$error":"#DIV/0!"}},{"$f":"IF(P8=0,0,(P8*((LOG(P8))/LOG(2))))","v":{"$error":"#DIV/0!"}},null,null,{"$f":"N8","v":11112},{"$f":"COUNTIF(L6:L7,T8)","v":0},{"$f":"U8/(W4-U25)","v":{"$error":"#DIV/0!"}},{"$f":"IF(V8=0,0,(V8*((LOG(V8))/LOG(2))))","v":{"$error":"#DIV/0!"}},null,{"$f":"N8","v":11112},{"$f":"COUNTIF(L6:L7,Y8)","v":0},{"$f":"Z8/(AB4-Z25)","v":{"$error":"#DIV/0!"}},{"$f":"IF(AA8=0,0,(AA8*((LOG(AA8))/LOG(2))))","v":{"$error":"#DIV/0!"}},null,{"$f":"N8","v":11112},{"$f":"COUNTIF(L7:L7,AD8)","v":0},{"$f":"AE8/(AG4-AE25)","v":{"$error":"#DIV/0!"}},{"$f":"IF(AF8=0,0,(AF8*((LOG(AF8))/LOG(2))))","v":{"$error":"#DIV/0!"}},null,{"$f":"N8","v":11112},{"$f":"COUNTIF(L7:L8,AI8)","v":0},{"$f":"AJ8/(AL4-AJ25)","v":{"$error":"#DIV/0!"}},{"$f":"IF(AK8=0,0,(AK8*((LOG(AK8))/LOG(2))))","v":{"$error":"#DIV/0!"}},null,{"$f":"N8","v":11112},{"$f":"COUNTIF(L7:L8,AN8)","v":0},{"$f":"AO8/(AQ4-AO25)","v":{"$error":"#DIV/0!"}},{"$f":"IF(AP8=0,0,(AP8*((LOG(AP8))/LOG(2))))","v":{"$error":"#DIV/0!"}},null,{"$f":"N8","v":11112},{"$f":"COUNTIF(L7:L8,AS8)","v":0},{"$f":"AT8/(AV4-AT25)","v":{"$error":"#DIV/0!"}},{"$f":"IF(AU8=0,0,(AU8*((LOG(AU8))/LOG(2))))","v":{"$error":"#DIV/0!"}}]
[null,null,null,null,null,null,null,null,null,null,null,null,null,11121,{"$f":"COUNTIF($L$7:$L$500,N9)","v":0},{"$f":"O9/$Q$4","v":{"$error":"#DIV/0!"}},{"$f":"IF(P9=0,0,(P9*((LOG(P9))/LOG(2))))","v":{"$error":"#DIV/0!"}},null,null,{"$f":"N9","v":11121},{"$f":"COUNTIF(L6:L7,T9)","v":0},{"$f":"U9/(W4-U25)","v":{"$error":"#DIV/0!"}},{"$f":"IF(V9=0,0,(V9*((LOG(V9))/LOG(2))))","v":{"$error":"#DIV/0!"}},null,{"$f":"N9","v":11121},{"$f":"COUNTIF(L6:L7,Y9)","v":0},{"$f":"Z9/(AB4-Z25)","v":{"$error":"#DIV/0!"}},{"$f":"IF(AA9=0,0,(AA9*((LOG(AA9))/LOG(2))))","v":{"$error":"#DIV/0!"}},null,{"$f":"N9","v":11121},{"$f":"COUNTIF(L7:L7,AD9)","v":0},{"$f":"AE9/(AG4-AE25)","v":{"$error":"#DIV/0!"}},{"$f":"IF(AF9=0,0,(AF9*((LOG(AF9))/LOG(2))))","v":{"$error":"#DIV/0!"}},null,{"$f":"N9","v":11121},{"$f":"COUNTIF(L7:L8,AI9)","v":0},{"$f":"AJ9/(AL4-AJ25)","v":{"$error":"#DIV/0!"}},{"$f":"IF(AK9=0,0,(AK9*((LOG(AK9))/LOG(2))))","v":{"$error":"#DIV/0!"}},null,{"$f":"N9","v":11121},{"$f":"COUNTIF(L7:L8,AN9)","v":0},{"$f":"AO9/(AQ4-AO25)","v":{"$error":"#DIV/0!"}},{"$f":"IF(AP9=0,0,(AP9*((LOG(AP9))/LOG(2))))","v":{"$error":"#DIV/0!"}},null,{"$f":"N9","v":11121},{"$f":"COUNTIF(L7:L8,AS9)","v":0},{"$f":"AT9/(AV4-AT25)","v":{"$error":"#DIV/0!"}},{"$f":"IF(AU9=0,0,(AU9*((LOG(AU9))/LOG(2))))","v":{"$error":"#DIV/0!"}}]
[null,null,null,null,null,null,null,null,null,null,null,null,null,11122,{"$f":"COUNTIF($L$7:$L$500,N10)","v":0},{"$f":"O10/$Q$4","v":{"$error":"#DIV/0!"}},{"$f":"IF(P10=0,0,(P10*((LOG(P10))/LOG(2))))","v":{"$error":"#DIV/0!"}},null,null,{"$f":"N10","v":11122},{"$f":"COUNTIF(L6:L7,T10)","v":0},{"$f":"U10/(W4-U25)","v":{"$error":"#DIV/0!"}},{"$f":"IF(V10=0,0,(V10*((LOG(V10))/LOG(2))))","v":{"$error":"#DIV/0!"}},null,{"$f":"N10","v":11122},{"$f":"COUNTIF(L6:L7,Y10)","v":0},{"$f":"Z10/(AB4-Z25)","v":{"$error":"#DIV/0!"}},{"$f":"IF(AA10=0,0,(AA10*((LOG(AA10))/LOG(2))))","v":{"$error":"#DIV/0!"}},null,{"$f":"N10","v":11122},{"$f":"COUNTIF(L7:L7,AD10)","v":0},{"$f":"AE10/(AG4-AE25)","v":{"$error":"#DIV/0!"}},{"$f":"IF(AF10=0,0,(AF10*((LOG(AF10))/LOG(2))))","v":{"$error":"#DIV/0!"}},null,{"$f":"N10","v":11122},{"$f":"COUNTIF(L7:L8,AI10)","v":0},{"$f":"AJ10/(AL4-AJ25)","v":{"$error":"#DIV/0!"}},{"$f":"IF(AK10=0,0,(AK10*((LOG(AK10))/LOG(2))))","v":{"$error":"#DIV/0!"}},null,{"$f":"N10","v":11122},{"$f":"COUNTIF(L7:L8,AN10)","v":0},{"$f":"AO10/(AQ4-AO25)","v":{"$error":"#DIV/0!"}},{"$f":"IF(AP10=0,0,(AP10*((LOG(AP10))/LOG(2))))","v":{"$error":"#DIV/0!"}},null,{"$f":"N10","v":11122},{"$f":"COUNTIF(L7:L8,AS10)","v":0},{"$f":"AT10/(AV4-AT25)","v":{"$error":"#DIV/0!"}},{"$f":"IF(AU10=0,0,(AU10*((LOG(AU10))/LOG(2))))","v":{"$error":"#DIV/0!"}}]
[null,null,null,null,null,null,null,null,null,null,null,null,null,11211,{"$f":"COUNTIF($L$7:$L$500,N11)","v":0},{"$f":"O11/$Q$4","v":{"$error":"#DIV/0!"}},{"$f":"IF(P11=0,0,(P11*((LOG(P11))/LOG(2))))","v":{"$error":"#DIV/0!"}},null,null,{"$f":"N11","v":11211},{"$f":"COUNTIF(L6:L7,T11)","v":0},{"$f":"U11/(W4-U25)","v":{"$error":"#DIV/0!"}},{"$f":"IF(V11=0,0,(V11*((LOG(V11))/LOG(2))))","v":{"$error":"#DIV/0!"}},null,{"$f":"N11","v":11211},{"$f":"COUNTIF(L6:L7,Y11)","v":0},{"$f":"Z11/(AB4-Z25)","v":{"$error":"#DIV/0!"}},{"$f":"IF(AA11=0,0,(AA11*((LOG(AA11))/LOG(2))))","v":{"$error":"#DIV/0!"}},null,{"$f":"N11","v":11211},{"$f":"COUNTIF(L7:L7,AD11)","v":0},{"$f":"AE11/(AG4-AE25)","v":{"$error":"#DIV/0!"}},{"$f":"IF(AF11=0,0,(AF11*((LOG(AF11))/LOG(2))))","v":{"$error":"#DIV/0!"}},null,{"$f":"N11","v":11211},{"$f":"COUNTIF(L7:L8,AI11)","v":0},{"$f":"AJ11/(AL4-AJ25)","v":{"$error":"#DIV/0!"}},{"$f":"IF(AK11=0,0,(AK11*((LOG(AK11))/LOG(2))))","v":{"$error":"#DIV/0!"}},null,{"$f":"N11","v":11211},{"$f":"COUNTIF(L7:L8,AN11)","v":0},{"$f":"AO11/(AQ4-AO25)","v":{"$error":"#DIV/0!"}},{"$f":"IF(AP11=0,0,(AP11*((LOG(AP11))/LOG(2))))","v":{"$error":"#DIV/0!"}},null,{"$f":"N11","v":11211},{"$f":"COUNTIF(L7:L8,AS11)","v":0},{"$f":"AT11/(AV4-AT25)","v":{"$error":"#DIV/0!"}},{"$f":"IF(AU11=0,0,(AU11*((LOG(AU11))/LOG(2))))","v":{"$error":"#DIV/0!"}}]
[null,null,null,null,null,null,null,null,null,null,null,null,null,11212,{"$f":"COUNTIF($L$7:$L$500,N12)","v":0},{"$f":"O12/$Q$4","v":{"$error":"#DIV/0!"}},{"$f":"IF(P12=0,0,(P12*((LOG(P12))/LOG(2))))","v":{"$error":"#DIV/0!"}},null,null,{"$f":"N12","v":11212},{"$f":"COUNTIF(L6:L7,T12)","v":0},{"$f":"U12/(W4-U25)","v":{"$error":"#DIV/0!"}},{"$f":"IF(V12=0,0,(V12*((LOG(V12))/LOG(2))))","v":{"$error":"#DIV/0!"}},null,{"$f":"N12","v":11212},{"$f":"COUNTIF(L6:L7,Y12)","v":0},{"$f":"Z12/(AB4-Z25)","v":{"$error":"#DIV/0!"}},{"$f":"IF(AA12=0,0,(AA12*((LOG(AA12))/LOG(2))))","v":{"$error":"#DIV/0!"}},null,{"$f":"N12","v":11212},{"$f":"COUNTIF(L7:L7,AD12)","v":0},{"$f":"AE12/(AG4-AE25)","v":{"$error":"#DIV/0!"}},{"$f":"IF(AF12=0,0,(AF12*((LOG(AF12))/LOG(2))))","v":{"$error":"#DIV/0!"}},null,{"$f":"N12","v":11212},{"$f":"COUNTIF(L7:L8,AI12)","v":0},{"$f":"AJ12/(AL4-AJ25)","v":{"$error":"#DIV/0!"}},{"$f":"IF(AK12=0,0,(AK12*((LOG(AK12))/LOG(2))))","v":{"$error":"#DIV/0!"}},null,{"$f":"N12","v":11212},{"$f":"COUNTIF(L7:L8,AN12)","v":0},{"$f":"AO12/(AQ4-AO25)","v":{"$error":"#DIV/0!"}},{"$f":"IF(AP12=0,0,(AP12*((LOG(AP12))/LOG(2))))","v":{"$error":"#DIV/0!"}},null,{"$f":"N12","v":11212},{"$f":"COUNTIF(L7:L8,AS12)","v":0},{"$f":"AT12/(AV4-AT25)","v":{"$error":"#DIV/0!"}},{"$f":"IF(AU12=0,0,(AU12*((LOG(AU12))/LOG(2))))","v":{"$error":"#DIV/0!"}}]
[null,null,null,null,null,null,null,null,null,null,null,null,null,11221,{"$f":"COUNTIF($L$7:$L$500,N13)","v":0},{"$f":"O13/$Q$4","v":{"$error":"#DIV/0!"}},{"$f":"IF(P13=0,0,(P13*((LOG(P13))/LOG(2))))","v":{"$error":"#DIV/0!"}},null,null,{"$f":"N13","v":11221},{"$f":"COUNTIF(L6:L7,T13)","v":0},{"$f":"U13/(W4-U25)","v":{"$error":"#DIV/0!"}},{"$f":"IF(V13=0,0,(V13*((LOG(V13))/LOG(2))))","v":{"$error":"#DIV/0!"}},null,{"$f":"N13","v":11221},{"$f":"COUNTIF(L6:L7,Y13)","v":0},{"$f":"Z13/(AB4-Z25)","v":{"$error":"#DIV/0!"}},{"$f":"IF(AA13=0,0,(AA13*((LOG(AA13))/LOG(2))))","v":{"$error":"#DIV/0!"}},null,{"$f":"N13","v":11221},{"$f":"COUNTIF(L7:L7,AD13)","v":0},{"$f":"AE13/(AG4-AE25)","v":{"$error":"#DIV/0!"}},{"$f":"IF(AF13=0,0,(AF13*((LOG(AF13))/LOG(2))))","v":{"$error":"#DIV/0!"}},null,{"$f":"N13","v":11221},{"$f":"COUNTIF(L7:L8,AI13)","v":0},{"$f":"AJ13/(AL4-AJ25)","v":{"$error":"#DIV/0!"}},{"$f":"IF(AK13=0,0,(AK13*((LOG(AK13))/LOG(2))))","v":{"$error":"#DIV/0!"}},null,{"$f":"N13","v":11221},{"$f":"COUNTIF(L7:L8,AN13)","v":0},{"$f":"AO13/(AQ4-AO25)","v":{"$error":"#DIV/0!"}},{"$f":"IF(AP13=0,0,(AP13*((LOG(AP13))/LOG(2))))","v":{"$error":"#DIV/0!"}},null,{"$f":"N13","v":11221},{"$f":"COUNTIF(L7:L8,AS13)","v":0},{"$f":"AT13/(AV4-AT25)","v":{"$error":"#DIV/0!"}},{"$f":"IF(AU13=0,0,(AU13*((LOG(AU13))/LOG(2))))","v":{"$error":"#DIV/0!"}}]
[null,null,null,null,null,null,null,null,null,null,null,null,null,11222,{"$f":"COUNTIF($L$7:$L$500,N14)","v":0},{"$f":"O14/$Q$4","v":{"$error":"#DIV/0!"}},{"$f":"IF(P14=0,0,(P14*((LOG(P14))/LOG(2))))","v":{"$error":"#DIV/0!"}},null,null,{"$f":"N14","v":11222},{"$f":"COUNTIF(L6:L7,T14)","v":0},{"$f":"U14/(W4-U25)","v":{"$error":"#DIV/0!"}},{"$f":"IF(V14=0,0,(V14*((LOG(V14))/LOG(2))))","v":{"$error":"#DIV/0!"}},null,{"$f":"N14","v":11222},{"$f":"COUNTIF(L6:L7,Y14)","v":0},{"$f":"Z14/(AB4-Z25)","v":{"$error":"#DIV/0!"}},{"$f":"IF(AA14=0,0,(AA14*((LOG(AA14))/LOG(2))))","v":{"$error":"#DIV/0!"}},null,{"$f":"N14","v":11222},{"$f":"COUNTIF(L7:L7,AD14)","v":0},{"$f":"AE14/(AG4-AE25)","v":{"$error":"#DIV/0!"}},{"$f":"IF(AF14=0,0,(AF14*((LOG(AF14))/LOG(2))))","v":{"$error":"#DIV/0!"}},null,{"$f":"N14","v":11222},{"$f":"COUNTIF(L7:L8,AI14)","v":0},{"$f":"AJ14/(AL4-AJ25)","v":{"$error":"#DIV/0!"}},{"$f":"IF(AK14=0,0,(AK14*((LOG(AK14))/LOG(2))))","v":{"$error":"#DIV/0!"}},null,{"$f":"N14","v":11222},{"$f":"COUNTIF(L7:L8,AN14)","v":0},{"$f":"AO14/(AQ4-AO25)","v":{"$error":"#DIV/0!"}},{"$f":"IF(AP14=0,0,(AP14*((LOG(AP14))/LOG(2))))","v":{"$error":"#DIV/0!"}},null,{"$f":"N14","v":11222},{"$f":"COUNTIF(L7:L8,AS14)","v":0},{"$f":"AT14/(AV4-AT25)","v":{"$error":"#DIV/0!"}},{"$f":"IF(AU14=0,0,(AU14*((LOG(AU14))/LOG(2))))","v":{"$error":"#DIV/0!"}}]
[null,null,null,null,null,null,null,null,null,null,null,null,null,12111,{"$f":"COUNTIF($L$7:$L$500,N15)","v":0},{"$f":"O15/$Q$4","v":{"$error":"#DIV/0!"}},{"$f":"IF(P15=0,0,(P15*((LOG(P15))/LOG(2))))","v":{"$error":"#DIV/0!"}},null,null,{"$f":"N15","v":12111},{"$f":"COUNTIF(L6:L7,T15)","v":0},{"$f":"U15/(W4-U25)","v":{"$error":"#DIV/0!"}},{"$f":"IF(V15=0,0,(V15*((LOG(V15))/LOG(2))))","v":{"$error":"#DIV/0!"}},null,{"$f":"N15","v":12111},{"$f":"COUNTIF(L6:L7,Y15)","v":0},{"$f":"Z15/(AB4-Z25)","v":{"$error":"#DIV/0!"}},{"$f":"IF(AA15=0,0,(AA15*((LOG(AA15))/LOG(2))))","v":{"$error":"#DIV/0!"}},null,{"$f":"N15","v":12111},{"$f":"COUNTIF(L7:L7,AD15)","v":0},{"$f":"AE15/(AG4-AE25)","v":{"$error":"#DIV/0!"}},{"$f":"IF(AF15=0,0,(AF15*((LOG(AF15))/LOG(2))))","v":{"$error":"#DIV/0!"}},null,{"$f":"N15","v":12111},{"$f":"COUNTIF(L7:L8,AI15)","v":0},{"$f":"AJ15/(AL4-AJ25)","v":{"$error":"#DIV/0!"}},{"$f":"IF(AK15=0,0,(AK15*((LOG(AK15))/LOG(2))))","v":{"$error":"#DIV/0!"}},null,{"$f":"N15","v":12111},{"$f":"COUNTIF(L7:L8,AN15)","v":0},{"$f":"AO15/(AQ4-AO25)","v":{"$error":"#DIV/0!"}},{"$f":"IF(AP15=0,0,(AP15*((LOG(AP15))/LOG(2))))","v":{"$error":"#DIV/0!"}},null,{"$f":"N15","v":12111},{"$f":"COUNTIF(L7:L8,AS15)","v":0},{"$f":"AT15/(AV4-AT25)","v":{"$error":"#DIV/0!"}},{"$f":"IF(AU15=0,0,(AU15*((LOG(AU15))/LOG(2))))","v":{"$error":"#DIV/0!"}}]
[null,null,null,null,null,null,null,null,null,null,null,null,null,12112,{"$f":"COUNTIF($L$7:$L$500,N16)","v":0},{"$f":"O16/$Q$4","v":{"$error":"#DIV/0!"}},{"$f":"IF(P16=0,0,(P16*((LOG(P16))/LOG(2))))","v":{"$error":"#DIV/0!"}},null,null,{"$f":"N16","v":12112},{"$f":"COUNTIF(L6:L7,T16)","v":0},{"$f":"U16/(W4-U25)","v":{"$error":"#DIV/0!"}},{"$f":"IF(V16=0,0,(V16*((LOG(V16))/LOG(2))))","v":{"$error":"#DIV/0!"}},null,{"$f":"N16","v":12112},{"$f":"COUNTIF(L6:L7,Y16)","v":0},{"$f":"Z16/(AB4-Z25)","v":{"$error":"#DIV/0!"}},{"$f":"IF(AA16=0,0,(AA16*((LOG(AA16))/LOG(2))))","v":{"$error":"#DIV/0!"}},null,{"$f":"N16","v":12112},{"$f":"COUNTIF(L7:L7,AD16)","v":0},{"$f":"AE16/(AG4-AE25)","v":{"$error":"#DIV/0!"}},{"$f":"IF(AF16=0,0,(AF16*((LOG(AF16))/LOG(2))))","v":{"$error":"#DIV/0!"}},null,{"$f":"N16","v":12112},{"$f":"COUNTIF(L7:L8,AI16)","v":0},{"$f":"AJ16/(AL4-AJ25)","v":{"$error":"#DIV/0!"}},{"$f":"IF(AK16=0,0,(AK16*((LOG(AK16))/LOG(2))))","v":{"$error":"#DIV/0!"}},null,{"$f":"N16","v":12112},{"$f":"COUNTIF(L7:L8,AN16)","v":0},{"$f":"AO16/(AQ4-AO25)","v":{"$error":"#DIV/0!"}},{"$f":"IF(AP16=0,0,(AP16*((LOG(AP16))/LOG(2))))","v":{"$error":"#DIV/0!"}},null,{"$f":"N16","v":12112},{"$f":"COUNTIF(L7:L8,AS16)","v":0},{"$f":"AT16/(AV4-AT25)","v":{"$error":"#DIV/0!"}},{"$f":"IF(AU16=0,0,(AU16*((LOG(AU16))/LOG(2))))","v":{"$error":"#DIV/0!"}}]
[null,null,null,null,null,null,null,null,null,null,null,null,null,12121,{"$f":"COUNTIF($L$7:$L$500,N17)","v":0},{"$f":"O17/$Q$4","v":{"$error":"#DIV/0!"}},{"$f":"IF(P17=0,0,(P17*((LOG(P17))/LOG(2))))","v":{"$error":"#DIV/0!"}},null,null,{"$f":"N17","v":12121},{"$f":"COUNTIF(L6:L7,T17)","v":0},{"$f":"U17/(W4-U25)","v":{"$error":"#DIV/0!"}},{"$f":"IF(V17=0,0,(V17*((LOG(V17))/LOG(2))))","v":{"$error":"#DIV/0!"}},null,{"$f":"N17","v":12121},{"$f":"COUNTIF(L6:L7,Y17)","v":0},{"$f":"Z17/(AB4-Z25)","v":{"$error":"#DIV/0!"}},{"$f":"IF(AA17=0,0,(AA17*((LOG(AA17))/LOG(2))))","v":{"$error":"#DIV/0!"}},null,{"$f":"N17","v":12121},{"$f":"COUNTIF(L7:L7,AD17)","v":0},{"$f":"AE17/(AG4-AE25)","v":{"$error":"#DIV/0!"}},{"$f":"IF(AF17=0,0,(AF17*((LOG(AF17))/LOG(2))))","v":{"$error":"#DIV/0!"}},null,{"$f":"N17","v":12121},{"$f":"COUNTIF(L7:L8,AI17)","v":0},{"$f":"AJ17/(AL4-AJ25)","v":{"$error":"#DIV/0!"}},{"$f":"IF(AK17=0,0,(AK17*((LOG(AK17))/LOG(2))))","v":{"$error":"#DIV/0!"}},null,{"$f":"N17","v":12121},{"$f":"COUNTIF(L7:L8,AN17)","v":0},{"$f":"AO17/(AQ4-AO25)","v":{"$error":"#DIV/0!"}},{"$f":"IF(AP17=0,0,(AP17*((LOG(AP17))/LOG(2))))","v":{"$error":"#DIV/0!"}},null,{"$f":"N17","v":12121},{"$f":"COUNTIF(L7:L8,AS17)","v":0},{"$f":"AT17/(AV4-AT25)","v":{"$error":"#DIV/0!"}},{"$f":"IF(AU17=0,0,(AU17*((LOG(AU17))/LOG(2))))","v":{"$error":"#DIV/0!"}}]
[null,null,null,null,null,null,null,null,null,null,null,null,null,12122,{"$f":"COUNTIF($L$7:$L$500,N18)","v":0},{"$f":"O18/$Q$4","v":{"$error":"#DIV/0!"}},{"$f":"IF(P18=0,0,(P18*((LOG(P18))/LOG(2))))","v":{"$error":"#DIV/0!"}},null,null,{"$f":"N18","v":12122},{"$f":"COUNTIF(L6:L7,T18)","v":0},{"$f":"U18/(W4-U25)","v":{"$error":"#DIV/0!"}},{"$f":"IF(V18=0,0,(V18*((LOG(V18))/LOG(2))))","v":{"$error":"#DIV/0!"}},null,{"$f":"N18","v":12122},{"$f":"COUNTIF(L6:L7,Y18)","v":0},{"$f":"Z18/(AB4-Z25)","v":{"$error":"#DIV/0!"}},{"$f":"IF(AA18=0,0,(AA18*((LOG(AA18))/LOG(2))))","v":{"$error":"#DIV/0!"}},null,{"$f":"N18","v":12122},{"$f":"COUNTIF(L7:L7,AD18)","v":0},{"$f":"AE18/(AG4-AE25)","v":{"$error":"#DIV/0!"}},{"$f":"IF(AF18=0,0,(AF18*((LOG(AF18))/LOG(2))))","v":{"$error":"#DIV/0!"}},null,{"$f":"N18","v":12122},{"$f":"COUNTIF(L7:L8,AI18)","v":0},{"$f":"AJ18/(AL4-AJ25)","v":{"$error":"#DIV/0!"}},{"$f":"IF(AK18=0,0,(AK18*((LOG(AK18))/LOG(2))))","v":{"$error":"#DIV/0!"}},null,{"$f":"N18","v":12122},{"$f":"COUNTIF(L7:L8,AN18)","v":0},{"$f":"AO18/(AQ4-AO25)","v":{"$error":"#DIV/0!"}},{"$f":"IF(AP18=0,0,(AP18*((LOG(AP18))/LOG(2))))","v":{"$error":"#DIV/0!"}},null,{"$f":"N18","v":12122},{"$f":"COUNTIF(L7:L8,AS18)","v":0},{"$f":"AT18/(AV4-AT25)","v":{"$error":"#DIV/0!"}},{"$f":"IF(AU18=0,0,(AU18*((LOG(AU18))/LOG(2))))","v":{"$error":"#DIV/0!"}}]
[null,null,null,null,null,null,null,null,null,null,null,null,null,12211,{"$f":"COUNTIF($L$7:$L$500,N19)","v":0},{"$f":"O19/$Q$4","v":{"$error":"#DIV/0!"}},{"$f":"IF(P19=0,0,(P19*((LOG(P19))/LOG(2))))","v":{"$error":"#DIV/0!"}},null,null,{"$f":"N19","v":12211},{"$f":"COUNTIF(L6:L7,T19)","v":0},{"$f":"U19/(W4-U25)","v":{"$error":"#DIV/0!"}},{"$f":"IF(V19=0,0,(V19*((LOG(V19))/LOG(2))))","v":{"$error":"#DIV/0!"}},null,{"$f":"N19","v":12211},{"$f":"COUNTIF(L6:L7,Y19)","v":0},{"$f":"Z19/(AB4-Z25)","v":{"$error":"#DIV/0!"}},{"$f":"IF(AA19=0,0,(AA19*((LOG(AA19))/LOG(2))))","v":{"$error":"#DIV/0!"}},null,{"$f":"N19","v":12211},{"$f":"COUNTIF(L7:L7,AD19)","v":0},{"$f":"AE19/(AG4-AE25)","v":{"$error":"#DIV/0!"}},{"$f":"IF(AF19=0,0,(AF19*((LOG(AF19))/LOG(2))))","v":{"$error":"#DIV/0!"}},null,{"$f":"N19","v":12211},{"$f":"COUNTIF(L7:L8,AI19)","v":0},{"$f":"AJ19/(AL4-AJ25)","v":{"$error":"#DIV/0!"}},{"$f":"IF(AK19=0,0,(AK19*((LOG(AK19))/LOG(2))))","v":{"$error":"#DIV/0!"}},null,{"$f":"N19","v":12211},{"$f":"COUNTIF(L7:L8,AN19)","v":0},{"$f":"AO19/(AQ4-AO25)","v":{"$error":"#DIV/0!"}},{"$f":"IF(AP19=0,0,(AP19*((LOG(AP19))/LOG(2))))","v":{"$error":"#DIV/0!"}},null,{"$f":"N19","v":12211},{"$f":"COUNTIF(L7:L8,AS19)","v":0},{"$f":"AT19/(AV4-AT25)","v":{"$error":"#DIV/0!"}},{"$f":"IF(AU19=0,0,(AU19*((LOG(AU19))/LOG(2))))","v":{"$error":"#DIV/0!"}}]
[null,null,null,null,null,null,null,null,null,null,null,null,null,12212,{"$f":"COUNTIF($L$7:$L$500,N20)","v":0},{"$f":"O20/$Q$4","v":{"$error":"#DIV/0!"}},{"$f":"IF(P20=0,0,(P20*((LOG(P20))/LOG(2))))","v":{"$error":"#DIV/0!"}},null,null,{"$f":"N20","v":12212},{"$f":"COUNTIF(L6:L7,T20)","v":0},{"$f":"U20/(W4-U25)","v":{"$error":"#DIV/0!"}},{"$f":"IF(V20=0,0,(V20*((LOG(V20))/LOG(2))))","v":{"$error":"#DIV/0!"}},null,{"$f":"N20","v":12212},{"$f":"COUNTIF(L6:L7,Y20)","v":0},{"$f":"Z20/(AB4-Z25)","v":{"$error":"#DIV/0!"}},{"$f":"IF(AA20=0,0,(AA20*((LOG(AA20))/LOG(2))))","v":{"$error":"#DIV/0!"}},null,{"$f":"N20","v":12212},{"$f":"COUNTIF(L7:L7,AD20)","v":0},{"$f":"AE20/(AG4-AE25)","v":{"$error":"#DIV/0!"}},{"$f":"IF(AF20=0,0,(AF20*((LOG(AF20))/LOG(2))))","v":{"$error":"#DIV/0!"}},null,{"$f":"N20","v":12212},{"$f":"COUNTIF(L7:L8,AI20)","v":0},{"$f":"AJ20/(AL4-AJ25)","v":{"$error":"#DIV/0!"}},{"$f":"IF(AK20=0,0,(AK20*((LOG(AK20))/LOG(2))))","v":{"$error":"#DIV/0!"}},null,{"$f":"N20","v":12212},{"$f":"COUNTIF(L7:L8,AN20)","v":0},{"$f":"AO20/(AQ4-AO25)","v":{"$error":"#DIV/0!"}},{"$f":"IF(AP20=0,0,(AP20*((LOG(AP20))/LOG(2))))","v":{"$error":"#DIV/0!"}},null,{"$f":"N20","v":12212},{"$f":"COUNTIF(L7:L8,AS20)","v":0},{"$f":"AT20/(AV4-AT25)","v":{"$error":"#DIV/0!"}},{"$f":"IF(AU20=0,0,(AU20*((LOG(AU20))/LOG(2))))","v":{"$error":"#DIV/0!"}}]
[null,null,null,null,null,null,null,null,null,null,null,null,null,12221,{"$f":"COUNTIF($L$7:$L$500,N21)","v":0},{"$f":"O21/$Q$4","v":{"$error":"#DIV/0!"}},{"$f":"IF(P21=0,0,(P21*((LOG(P21))/LOG(2))))","v":{"$error":"#DIV/0!"}},null,null,{"$f":"N21","v":12221},{"$f":"COUNTIF(L6:L7,T21)","v":0},{"$f":"U21/(W4-U25)","v":{"$error":"#DIV/0!"}},{"$f":"IF(V21=0,0,(V21*((LOG(V21))/LOG(2))))","v":{"$error":"#DIV/0!"}},null,{"$f":"N21","v":12221},{"$f":"COUNTIF(L6:L7,Y21)","v":0},{"$f":"Z21/(AB4-Z25)","v":{"$error":"#DIV/0!"}},{"$f":"IF(AA21=0,0,(AA21*((LOG(AA21))/LOG(2))))","v":{"$error":"#DIV/0!"}},null,{"$f":"N21","v":12221},{"$f":"COUNTIF(L7:L7,AD21)","v":0},{"$f":"AE21/(AG4-AE25)","v":{"$error":"#DIV/0!"}},{"$f":"IF(AF21=0,0,(AF21*((LOG(AF21))/LOG(2))))","v":{"$error":"#DIV/0!"}},null,{"$f":"N21","v":12221},{"$f":"COUNTIF(L7:L8,AI21)","v":0},{"$f":"AJ21/(AL4-AJ25)","v":{"$error":"#DIV/0!"}},{"$f":"IF(AK21=0,0,(AK21*((LOG(AK21))/LOG(2))))","v":{"$error":"#DIV/0!"}},null,{"$f":"N21","v":12221},{"$f":"COUNTIF(L7:L8,AN21)","v":0},{"$f":"AO21/(AQ4-AO25)","v":{"$error":"#DIV/0!"}},{"$f":"IF(AP21=0,0,(AP21*((LOG(AP21))/LOG(2))))","v":{"$error":"#DIV/0!"}},null,{"$f":"N21","v":12221},{"$f":"COUNTIF(L7:L8,AS21)","v":0},{"$f":"AT21/(AV4-AT25)","v":{"$error":"#DIV/0!"}},{"$f":"IF(AU21=0,0,(AU21*((LOG(AU21))/LOG(2))))","v":{"$error":"#DIV/0!"}}]
[null,null,null,null,null,null,null,null,null,null,null,null,null,12222,{"$f":"COUNTIF($L$7:$L$500,N22)","v":0},{"$f":"O22/$Q$4","v":{"$error":"#DIV/0!"}},{"$f":"IF(P22=0,0,(P22*((LOG(P22))/LOG(2))))","v":{"$error":"#DIV/0!"}},null,null,{"$f":"N22","v":12222},{"$f":"COUNTIF(L6:L7,T22)","v":0},{"$f":"U22/(W4-U25)","v":{"$error":"#DIV/0!"}},{"$f":"IF(V22=0,0,(V22*((LOG(V22))/LOG(2))))","v":{"$error":"#DIV/0!"}},null,{"$f":"N22","v":12222},{"$f":"COUNTIF(L6:L7,Y22)","v":0},{"$f":"Z22/(AB4-Z25)","v":{"$error":"#DIV/0!"}},{"$f":"IF(AA22=0,0,(AA22*((LOG(AA22))/LOG(2))))","v":{"$error":"#DIV/0!"}},null,{"$f":"N22","v":12222},{"$f":"COUNTIF(L7:L7,AD22)","v":0},{"$f":"AE22/(AG4-AE25)","v":{"$error":"#DIV/0!"}},{"$f":"IF(AF22=0,0,(AF22*((LOG(AF22))/LOG(2))))","v":{"$error":"#DIV/0!"}},null,{"$f":"N22","v":12222},{"$f":"COUNTIF(L7:L8,AI22)","v":0},{"$f":"AJ22/(AL4-AJ25)","v":{"$error":"#DIV/0!"}},{"$f":"IF(AK22=0,0,(AK22*((LOG(AK22))/LOG(2))))","v":{"$error":"#DIV/0!"}},null,{"$f":"N22","v":12222},{"$f":"COUNTIF(L7:L8,AN22)","v":0},{"$f":"AO22/(AQ4-AO25)","v":{"$error":"#DIV/0!"}},{"$f":"IF(AP22=0,0,(AP22*((LOG(AP22))/LOG(2))))","v":{"$error":"#DIV/0!"}},null,{"$f":"N22","v":12222},{"$f":"COUNTIF(L7:L8,AS22)","v":0},{"$f":"AT22/(AV4-AT25)","v":{"$error":"#DIV/0!"}},{"$f":"IF(AU22=0,0,(AU22*((LOG(AU22))/LOG(2))))","v":{"$error":"#DIV/0!"}}]
[null,null,null,null,null,null,null,null,null,null,null,null,null,21111,{"$f":"COUNTIF($L$7:$L$500,N23)","v":0},{"$f":"O23/$Q$4","v":{"$error":"#DIV/0!"}},{"$f":"IF(P23=0,0,(P23*((LOG(P23))/LOG(2))))","v":{"$error":"#DIV/0!"}},null,null,{"$f":"N23","v":21111},{"$f":"COUNTIF(L6:L7,T23)","v":0},{"$f":"U23/(W4-U25)","v":{"$error":"#DIV/0!"}},{"$f":"IF(V23=0,0,(V23*((LOG(V23))/LOG(2))))","v":{"$error":"#DIV/0!"}},null,{"$f":"N23","v":21111},{"$f":"COUNTIF(L6:L7,Y23)","v":0},{"$f":"Z23/(AB4-Z25)","v":{"$error":"#DIV/0!"}},{"$f":"IF(AA23=0,0,(AA23*((LOG(AA23))/LOG(2))))","v":{"$error":"#DIV/0!"}},null,{"$f":"N23","v":21111},{"$f":"COUNTIF(L7:L7,AD23)","v":0},{"$f":"AE23/(AG4-AE25)","v":{"$error":"#DIV/0!"}},{"$f":"IF(AF23=0,0,(AF23*((LOG(AF23))/LOG(2))))","v":{"$error":"#DIV/0!"}},null,{"$f":"N23","v":21111},{"$f":"COUNTIF(L7:L8,AI23)","v":0},{"$f":"AJ23/(AL4-AJ25)","v":{"$error":"#DIV/0!"}},{"$f":"IF(AK23=0,0,(AK23*((LOG(AK23))/LOG(2))))","v":{"$error":"#DIV/0!"}},null,{"$f":"N23","v":21111},{"$f":"COUNTIF(L7:L8,AN23)","v":0},{"$f":"AO23/(AQ4-AO25)","v":{"$error":"#DIV/0!"}},{"$f":"IF(AP23=0,0,(AP23*((LOG(AP23))/LOG(2))))","v":{"$error":"#DIV/0!"}},null,{"$f":"N23","v":21111},{"$f":"COUNTIF(L7:L8,AS23)","v":0},{"$f":"AT23/(AV4-AT25)","v":{"$error":"#DIV/0!"}},{"$f":"IF(AU23=0,0,(AU23*((LOG(AU23))/LOG(2))))","v":{"$error":"#DIV/0!"}}]
[null,null,null,null,null,null,null,null,null,null,null,null,null,21112,{"$f":"COUNTIF($L$7:$L$500,N24)","v":0},{"$f":"O24/$Q$4","v":{"$error":"#DIV/0!"}},{"$f":"IF(P24=0,0,(P24*((LOG(P24))/LOG(2))))","v":{"$error":"#DIV/0!"}},null,null,{"$f":"N24","v":21112},{"$f":"COUNTIF(L6:L7,T24)","v":0},{"$f":"U24/(W4-U25)","v":{"$error":"#DIV/0!"}},{"$f":"IF(V24=0,0,(V24*((LOG(V24))/LOG(2))))","v":{"$error":"#DIV/0!"}},null,{"$f":"N24","v":21112},{"$f":"COUNTIF(L6:L7,Y24)","v":0},{"$f":"Z24/(AB4-Z25)","v":{"$error":"#DIV/0!"}},{"$f":"IF(AA24=0,0,(AA24*((LOG(AA24))/LOG(2))))","v":{"$error":"#DIV/0!"}},null,{"$f":"N24","v":21112},{"$f":"COUNTIF(L7:L7,AD24)","v":0},{"$f":"AE24/(AG4-AE25)","v":{"$error":"#DIV/0!"}},{"$f":"IF(AF24=0,0,(AF24*((LOG(AF24))/LOG(2))))","v":{"$error":"#DIV/0!"}},null,{"$f":"N24","v":21112},{"$f":"COUNTIF(L7:L8,AI24)","v":0},{"$f":"AJ24/(AL4-AJ25)","v":{"$error":"#DIV/0!"}},{"$f":"IF(AK24=0,0,(AK24*((LOG(AK24))/LOG(2))))","v":{"$error":"#DIV/0!"}},null,{"$f":"N24","v":21112},{"$f":"COUNTIF(L7:L8,AN24)","v":0},{"$f":"AO24/(AQ4-AO25)","v":{"$error":"#DIV/0!"}},{"$f":"IF(AP24=0,0,(AP24*((LOG(AP24))/LOG(2))))","v":{"$error":"#DIV/0!"}},null,{"$f":"N24","v":21112},{"$f":"COUNTIF(L7:L8,AS24)","v":0},{"$f":"AT24/(AV4-AT25)","v":{"$error":"#DIV/0!"}},{"$f":"IF(AU24=0,0,(AU24*((LOG(AU24))/LOG(2))))","v":{"$error":"#DIV/0!"}}]
[null,null,null,null,null,null,null,null,null,null,null,null,null,21121,{"$f":"COUNTIF($L$7:$L$500,N25)","v":0},{"$f":"O25/$Q$4","v":{"$error":"#DIV/0!"}},{"$f":"IF(P25=0,0,(P25*((LOG(P25))/LOG(2))))","v":{"$error":"#DIV/0!"}},null,null,{"$f":"N25","v":21121},{"$f":"COUNTIF(L6:L7,T25)","v":0},null,null,null,{"$f":"N25","v":21121},{"$f":"COUNTIF(L6:L7,Y25)","v":0},null,null,null,{"$f":"N25","v":21121},{"$f":"COUNTIF(L7:L7,AD25)","v":0},null,null,null,{"$f":"N25","v":21121},{"$f":"COUNTIF(L7:L8,AI25)","v":0},null,null,null,{"$f":"N25","v":21121},{"$f":"COUNTIF(L7:L8,AN25)","v":0},null,null,null,{"$f":"N25","v":21121},{"$f":"COUNTIF(L7:L8,AS25)","v":0}]
[null,null,null,null,null,null,null,null,null,null,null,null,null,21122,{"$f":"COUNTIF($L$7:$L$500,N26)","v":0},{"$f":"O26/$Q$4","v":{"$error":"#DIV/0!"}},{"$f":"IF(P26=0,0,(P26*((LOG(P26))/LOG(2))))","v":{"$error":"#DIV/0!"}},null,null,{"$f":"N26","v":21122},{"$f":"COUNTIF(L6:L7,T26)","v":0},{"$f":"U26/(W4-U25)","v":{"$error":"#DIV/0!"}},{"$f":"IF(V26=0,0,(V26*((LOG(V26))/LOG(2))))","v":{"$error":"#DIV/0!"}},null,{"$f":"N26","v":21122},{"$f":"COUNTIF(L6:L7,Y26)","v":0},{"$f":"Z26/(AB4-Z25)","v":{"$error":"#DIV/0!"}},{"$f":"IF(AA26=0,0,(AA26*((LOG(AA26))/LOG(2))))","v":{"$error":"#DIV/0!"}},null,{"$f":"N26","v":21122},{"$f":"COUNTIF(L7:L7,AD26)","v":0},{"$f":"AE26/(AG4-AE25)","v":{"$error":"#DIV/0!"}},{"$f":"IF(AF26=0,0,(AF26*((LOG(AF26))/LOG(2))))","v":{"$error":"#DIV/0!"}},null,{"$f":"N26","v":21122},{"$f":"COUNTIF(L7:L8,AI26)","v":0},{"$f":"AJ26/(AL4-AJ25)","v":{"$error":"#DIV/0!"}},{"$f":"IF(AK26=0,0,(AK26*((LOG(AK26))/LOG(2))))","v":{"$error":"#DIV/0!"}},null,{"$f":"N26","v":21122},{"$f":"COUNTIF(L7:L8,AN26)","v":0},{"$f":"AO26/(AQ4-AO25)","v":{"$error":"#DIV/0!"}},{"$f":"IF(AP26=0,0,(AP26*((LOG(AP26))/LOG(2))))","v":{"$error":"#DIV/0!"}},null,{"$f":"N26","v":21122},{"$f":"COUNTIF(L7:L8,AS26)","v":0},{"$f":"AT26/(AV4-AT25)","v":{"$error":"#DIV/0!"}},{"$f":"IF(AU26=0,0,(AU26*((LOG(AU26))/LOG(2))))","v":{"$error":"#DIV/0!"}}]
[null,null,null,null,null,null,null,null,null,null,null,null,null,21211,{"$f":"COUNTIF($L$7:$L$500,N27)","v":0},{"$f":"O27/$Q$4","v":{"$error":"#DIV/0!"}},{"$f":"IF(P27=0,0,(P27*((LOG(P27))/LOG(2))))","v":{"$error":"#DIV/0!"}},null,null,{"$f":"N27","v":21211},{"$f":"COUNTIF(L6:L7,T27)","v":0},{"$f":"U27/(W4-U25)","v":{"$error":"#DIV/0!"}},{"$f":"IF(V27=0,0,(V27*((LOG(V27))/LOG(2))))","v":{"$error":"#DIV/0!"}},null,{"$f":"N27","v":21211},{"$f":"COUNTIF(L6:L7,Y27)","v":0},{"$f":"Z27/(AB4-Z25)","v":{"$error":"#DIV/0!"}},{"$f":"IF(AA27=0,0,(AA27*((LOG(AA27))/LOG(2))))","v":{"$error":"#DIV/0!"}},null,{"$f":"N27","v":21211},{"$f":"COUNTIF(L7:L7,AD27)","v":0},{"$f":"AE27/(AG4-AE25)","v":{"$error":"#DIV/0!"}},{"$f":"IF(AF27=0,0,(AF27*((LOG(AF27))/LOG(2))))","v":{"$error":"#DIV/0!"}},null,{"$f":"N27","v":21211},{"$f":"COUNTIF(L7:L8,AI27)","v":0},{"$f":"AJ27/(AL4-AJ25)","v":{"$error":"#DIV/0!"}},{"$f":"IF(AK27=0,0,(AK27*((LOG(AK27))/LOG(2))))","v":{"$error":"#DIV/0!"}},null,{"$f":"N27","v":21211},{"$f":"COUNTIF(L7:L8,AN27)","v":0},{"$f":"AO27/(AQ4-AO25)","v":{"$error":"#DIV/0!"}},{"$f":"IF(AP27=0,0,(AP27*((LOG(AP27))/LOG(2))))","v":{"$error":"#DIV/0!"}},null,{"$f":"N27","v":21211},{"$f":"COUNTIF(L7:L8,AS27)","v":0},{"$f":"AT27/(AV4-AT25)","v":{"$error":"#DIV/0!"}},{"$f":"IF(AU27=0,0,(AU27*((LOG(AU27))/LOG(2))))","v":{"$error":"#DIV/0!"}}]
[null,null,null,null,null,null,null,null,null,null,null,null,null,21212,{"$f":"COUNTIF($L$7:$L$500,N28)","v":0},{"$f":"O28/$Q$4","v":{"$error":"#DIV/0!"}},{"$f":"IF(P28=0,0,(P28*((LOG(P28))/LOG(2))))","v":{"$error":"#DIV/0!"}},null,null,{"$f":"N28","v":21212},{"$f":"COUNTIF(L6:L7,T28)","v":0},{"$f":"U28/(W4-U25)","v":{"$error":"#DIV/0!"}},{"$f":"IF(V28=0,0,(V28*((LOG(V28))/LOG(2))))","v":{"$error":"#DIV/0!"}},null,{"$f":"N28","v":21212},{"$f":"COUNTIF(L6:L7,Y28)","v":0},{"$f":"Z28/(AB4-Z25)","v":{"$error":"#DIV/0!"}},{"$f":"IF(AA28=0,0,(AA28*((LOG(AA28))/LOG(2))))","v":{"$error":"#DIV/0!"}},null,{"$f":"N28","v":21212},{"$f":"COUNTIF(L7:L7,AD28)","v":0},{"$f":"AE28/(AG4-AE25)","v":{"$error":"#DIV/0!"}},{"$f":"IF(AF28=0,0,(AF28*((LOG(AF28))/LOG(2))))","v":{"$error":"#DIV/0!"}},null,{"$f":"N28","v":21212},{"$f":"COUNTIF(L7:L8,AI28)","v":0},{"$f":"AJ28/(AL4-AJ25)","v":{"$error":"#DIV/0!"}},{"$f":"IF(AK28=0,0,(AK28*((LOG(AK28))/LOG(2))))","v":{"$error":"#DIV/0!"}},null,{"$f":"N28","v":21212},{"$f":"COUNTIF(L7:L8,AN28)","v":0},{"$f":"AO28/(AQ4-AO25)","v":{"$error":"#DIV/0!"}},{"$f":"IF(AP28=0,0,(AP28*((LOG(AP28))/LOG(2))))","v":{"$error":"#DIV/0!"}},null,{"$f":"N28","v":21212},{"$f":"COUNTIF(L7:L8,AS28)","v":0},{"$f":"AT28/(AV4-AT25)","v":{"$error":"#DIV/0!"}},{"$f":"IF(AU28=0,0,(AU28*((LOG(AU28))/LOG(2))))","v":{"$error":"#DIV/0!"}}]
[null,null,null,null,null,null,null,null,null,null,null,null,null,21221,{"$f":"COUNTIF($L$7:$L$500,N29)","v":0},{"$f":"O29/$Q$4","v":{"$error":"#DIV/0!"}},{"$f":"IF(P29=0,0,(P29*((LOG(P29))/LOG(2))))","v":{"$error":"#DIV/0!"}},null,null,{"$f":"N29","v":21221},{"$f":"COUNTIF(L6:L7,T29)","v":0},{"$f":"U29/(W4-U25)","v":{"$error":"#DIV/0!"}},{"$f":"IF(V29=0,0,(V29*((LOG(V29))/LOG(2))))","v":{"$error":"#DIV/0!"}},null,{"$f":"N29","v":21221},{"$f":"COUNTIF(L6:L7,Y29)","v":0},{"$f":"Z29/(AB4-Z25)","v":{"$error":"#DIV/0!"}},{"$f":"IF(AA29=0,0,(AA29*((LOG(AA29))/LOG(2))))","v":{"$error":"#DIV/0!"}},null,{"$f":"N29","v":21221},{"$f":"COUNTIF(L7:L7,AD29)","v":0},{"$f":"AE29/(AG4-AE25)","v":{"$error":"#DIV/0!"}},{"$f":"IF(AF29=0,0,(AF29*((LOG(AF29))/LOG(2))))","v":{"$error":"#DIV/0!"}},null,{"$f":"N29","v":21221},{"$f":"COUNTIF(L7:L8,AI29)","v":0},{"$f":"AJ29/(AL4-AJ25)","v":{"$error":"#DIV/0!"}},{"$f":"IF(AK29=0,0,(AK29*((LOG(AK29))/LOG(2))))","v":{"$error":"#DIV/0!"}},null,{"$f":"N29","v":21221},{"$f":"COUNTIF(L7:L8,AN29)","v":0},{"$f":"AO29/(AQ4-AO25)","v":{"$error":"#DIV/0!"}},{"$f":"IF(AP29=0,0,(AP29*((LOG(AP29))/LOG(2))))","v":{"$error":"#DIV/0!"}},null,{"$f":"N29","v":21221},{"$f":"COUNTIF(L7:L8,AS29)","v":0},{"$f":"AT29/(AV4-AT25)","v":{"$error":"#DIV/0!"}},{"$f":"IF(AU29=0,0,(AU29*((LOG(AU29))/LOG(2))))","v":{"$error":"#DIV/0!"}}]
[null,null,null,null,null,null,null,null,null,null,null,null,null,21222,{"$f":"COUNTIF($L$7:$L$500,N30)","v":0},{"$f":"O30/$Q$4","v":{"$error":"#DIV/0!"}},{"$f":"IF(P30=0,0,(P30*((LOG(P30))/LOG(2))))","v":{"$error":"#DIV/0!"}},null,null,{"$f":"N30","v":21222},{"$f":"COUNTIF(L6:L7,T30)","v":0},{"$f":"U30/(W4-U25)","v":{"$error":"#DIV/0!"}},{"$f":"IF(V30=0,0,(V30*((LOG(V30))/LOG(2))))","v":{"$error":"#DIV/0!"}},null,{"$f":"N30","v":21222},{"$f":"COUNTIF(L6:L7,Y30)","v":0},{"$f":"Z30/(AB4-Z25)","v":{"$error":"#DIV/0!"}},{"$f":"IF(AA30=0,0,(AA30*((LOG(AA30))/LOG(2))))","v":{"$error":"#DIV/0!"}},null,{"$f":"N30","v":21222},{"$f":"COUNTIF(L7:L7,AD30)","v":0},{"$f":"AE30/(AG4-AE25)","v":{"$error":"#DIV/0!"}},{"$f":"IF(AF30=0,0,(AF30*((LOG(AF30))/LOG(2))))","v":{"$error":"#DIV/0!"}},null,{"$f":"N30","v":21222},{"$f":"COUNTIF(L7:L8,AI30)","v":0},{"$f":"AJ30/(AL4-AJ25)","v":{"$error":"#DIV/0!"}},{"$f":"IF(AK30=0,0,(AK30*((LOG(AK30))/LOG(2))))","v":{"$error":"#DIV/0!"}},null,{"$f":"N30","v":21222},{"$f":"COUNTIF(L7:L8,AN30)","v":0},{"$f":"AO30/(AQ4-AO25)","v":{"$error":"#DIV/0!"}},{"$f":"IF(AP30=0,0,(AP30*((LOG(AP30))/LOG(2))))","v":{"$error":"#DIV/0!"}},null,{"$f":"N30","v":21222},{"$f":"COUNTIF(L7:L8,AS30)","v":0},{"$f":"AT30/(AV4-AT25)","v":{"$error":"#DIV/0!"}},{"$f":"IF(AU30=0,0,(AU30*((LOG(AU30))/LOG(2))))","v":{"$error":"#DIV/0!"}}]
[null,null,null,null,null,null,null,null,null,null,null,null,null,22111,{"$f":"COUNTIF($L$7:$L$500,N31)","v":0},{"$f":"O31/$Q$4","v":{"$error":"#DIV/0!"}},{"$f":"IF(P31=0,0,(P31*((LOG(P31))/LOG(2))))","v":{"$error":"#DIV/0!"}},null,null,{"$f":"N31","v":22111},{"$f":"COUNTIF(L6:L7,T31)","v":0},{"$f":"U31/(W4-U25)","v":{"$error":"#DIV/0!"}},{"$f":"IF(V31=0,0,(V31*((LOG(V31))/LOG(2))))","v":{"$error":"#DIV/0!"}},null,{"$f":"N31","v":22111},{"$f":"COUNTIF(L6:L7,Y31)","v":0},{"$f":"Z31/(AB4-Z25)","v":{"$error":"#DIV/0!"}},{"$f":"IF(AA31=0,0,(AA31*((LOG(AA31))/LOG(2))))","v":{"$error":"#DIV/0!"}},null,{"$f":"N31","v":22111},{"$f":"COUNTIF(L7:L7,AD31)","v":0},{"$f":"AE31/(AG4-AE25)","v":{"$error":"#DIV/0!"}},{"$f":"IF(AF31=0,0,(AF31*((LOG(AF31))/LOG(2))))","v":{"$error":"#DIV/0!"}},null,{"$f":"N31","v":22111},{"$f":"COUNTIF(L7:L8,AI31)","v":0},{"$f":"AJ31/(AL4-AJ25)","v":{"$error":"#DIV/0!"}},{"$f":"IF(AK31=0,0,(AK31*((LOG(AK31))/LOG(2))))","v":{"$error":"#DIV/0!"}},null,{"$f":"N31","v":22111},{"$f":"COUNTIF(L7:L8,AN31)","v":0},{"$f":"AO31/(AQ4-AO25)","v":{"$error":"#DIV/0!"}},{"$f":"IF(AP31=0,0,(AP31*((LOG(AP31))/LOG(2))))","v":{"$error":"#DIV/0!"}},null,{"$f":"N31","v":22111},{"$f":"COUNTIF(L7:L8,AS31)","v":0},{"$f":"AT31/(AV4-AT25)","v":{"$error":"#DIV/0!"}},{"$f":"IF(AU31=0,0,(AU31*((LOG(AU31))/LOG(2))))","v":{"$error":"#DIV/0!"}}]
[null,null,null,null,null,null,null,null,null,null,null,null,null,22112,{"$f":"COUNTIF($L$7:$L$500,N32)","v":0},{"$f":"O32/$Q$4","v":{"$error":"#DIV/0!"}},{"$f":"IF(P32=0,0,(P32*((LOG(P32))/LOG(2))))","v":{"$error":"#DIV/0!"}},null,null,{"$f":"N32","v":22112},{"$f":"COUNTIF(L6:L7,T32)","v":0},{"$f":"U32/(W4-U25)","v":{"$error":"#DIV/0!"}},{"$f":"IF(V32=0,0,(V32*((LOG(V32))/LOG(2))))","v":{"$error":"#DIV/0!"}},null,{"$f":"N32","v":22112},{"$f":"COUNTIF(L6:L7,Y32)","v":0},{"$f":"Z32/(AB4-Z25)","v":{"$error":"#DIV/0!"}},{"$f":"IF(AA32=0,0,(AA32*((LOG(AA32))/LOG(2))))","v":{"$error":"#DIV/0!"}},null,{"$f":"N32","v":22112},{"$f":"COUNTIF(L7:L7,AD32)","v":0},{"$f":"AE32/(AG4-AE25)","v":{"$error":"#DIV/0!"}},{"$f":"IF(AF32=0,0,(AF32*((LOG(AF32))/LOG(2))))","v":{"$error":"#DIV/0!"}},null,{"$f":"N32","v":22112},{"$f":"COUNTIF(L7:L8,AI32)","v":0},{"$f":"AJ32/(AL4-AJ25)","v":{"$error":"#DIV/0!"}},{"$f":"IF(AK32=0,0,(AK32*((LOG(AK32))/LOG(2))))","v":{"$error":"#DIV/0!"}},null,{"$f":"N32","v":22112},{"$f":"COUNTIF(L7:L8,AN32)","v":0},{"$f":"AO32/(AQ4-AO25)","v":{"$error":"#DIV/0!"}},{"$f":"IF(AP32=0,0,(AP32*((LOG(AP32))/LOG(2))))","v":{"$error":"#DIV/0!"}},null,{"$f":"N32","v":22112},{"$f":"COUNTIF(L7:L8,AS32)","v":0},{"$f":"AT32/(AV4-AT25)","v":{"$error":"#DIV/0!"}},{"$f":"IF(AU32=0,0,(AU32*((LOG(AU32))/LOG(2))))","v":{"$error":"#DIV/0!"}}]
[null,null,null,null,null,null,null,null,null,null,null,null,null,22121,{"$f":"COUNTIF($L$7:$L$500,N33)","v":0},{"$f":"O33/$Q$4","v":{"$error":"#DIV/0!"}},{"$f":"IF(P33=0,0,(P33*((LOG(P33))/LOG(2))))","v":{"$error":"#DIV/0!"}},null,null,{"$f":"N33","v":22121},{"$f":"COUNTIF(L6:L7,T33)","v":0},{"$f":"U33/(W4-U25)","v":{"$error":"#DIV/0!"}},{"$f":"IF(V33=0,0,(V33*((LOG(V33))/LOG(2))))","v":{"$error":"#DIV/0!"}},null,{"$f":"N33","v":22121},{"$f":"COUNTIF(L6:L7,Y33)","v":0},{"$f":"Z33/(AB4-Z25)","v":{"$error":"#DIV/0!"}},{"$f":"IF(AA33=0,0,(AA33*((LOG(AA33))/LOG(2))))","v":{"$error":"#DIV/0!"}},null,{"$f":"N33","v":22121},{"$f":"COUNTIF(L7:L7,AD33)","v":0},{"$f":"AE33/(AG4-AE25)","v":{"$error":"#DIV/0!"}},{"$f":"IF(AF33=0,0,(AF33*((LOG(AF33))/LOG(2))))","v":{"$error":"#DIV/0!"}},null,{"$f":"N33","v":22121},{"$f":"COUNTIF(L7:L8,AI33)","v":0},{"$f":"AJ33/(AL4-AJ25)","v":{"$error":"#DIV/0!"}},{"$f":"IF(AK33=0,0,(AK33*((LOG(AK33))/LOG(2))))","v":{"$error":"#DIV/0!"}},null,{"$f":"N33","v":22121},{"$f":"COUNTIF(L7:L8,AN33)","v":0},{"$f":"AO33/(AQ4-AO25)","v":{"$error":"#DIV/0!"}},{"$f":"IF(AP33=0,0,(AP33*((LOG(AP33))/LOG(2))))","v":{"$error":"#DIV/0!"}},null,{"$f":"N33","v":22121},{"$f":"COUNTIF(L7:L8,AS33)","v":0},{"$f":"AT33/(AV4-AT25)","v":{"$error":"#DIV/0!"}},{"$f":"IF(AU33=0,0,(AU33*((LOG(AU33))/LOG(2))))","v":{"$error":"#DIV/0!"}}]
[null,null,null,null,null,null,null,null,null,null,null,null,null,22122,{"$f":"COUNTIF($L$7:$L$500,N34)","v":0},{"$f":"O34/$Q$4","v":{"$error":"#DIV/0!"}},{"$f":"IF(P34=0,0,(P34*((LOG(P34))/LOG(2))))","v":{"$error":"#DIV/0!"}},null,null,{"$f":"N34","v":22122},{"$f":"COUNTIF(L6:L7,T34)","v":0},{"$f":"U34/(W4-U25)","v":{"$error":"#DIV/0!"}},{"$f":"IF(V34=0,0,(V34*((LOG(V34))/LOG(2))))","v":{"$error":"#DIV/0!"}},null,{"$f":"N34","v":22122},{"$f":"COUNTIF(L6:L7,Y34)","v":0},{"$f":"Z34/(AB4-Z25)","v":{"$error":"#DIV/0!"}},{"$f":"IF(AA34=0,0,(AA34*((LOG(AA34))/LOG(2))))","v":{"$error":"#DIV/0!"}},null,{"$f":"N34","v":22122},{"$f":"COUNTIF(L7:L7,AD34)","v":0},{"$f":"AE34/(AG4-AE25)","v":{"$error":"#DIV/0!"}},{"$f":"IF(AF34=0,0,(AF34*((LOG(AF34))/LOG(2))))","v":{"$error":"#DIV/0!"}},null,{"$f":"N34","v":22122},{"$f":"COUNTIF(L7:L8,AI34)","v":0},{"$f":"AJ34/(AL4-AJ25)","v":{"$error":"#DIV/0!"}},{"$f":"IF(AK34=0,0,(AK34*((LOG(AK34))/LOG(2))))","v":{"$error":"#DIV/0!"}},null,{"$f":"N34","v":22122},{"$f":"COUNTIF(L7:L8,AN34)","v":0},{"$f":"AO34/(AQ4-AO25)","v":{"$error":"#DIV/0!"}},{"$f":"IF(AP34=0,0,(AP34*((LOG(AP34))/LOG(2))))","v":{"$error":"#DIV/0!"}},null,{"$f":"N34","v":22122},{"$f":"COUNTIF(L7:L8,AS34)","v":0},{"$f":"AT34/(AV4-AT25)","v":{"$error":"#DIV/0!"}},{"$f":"IF(AU34=0,0,(AU34*((LOG(AU34))/LOG(2))))","v":{"$error":"#DIV/0!"}}]
[null,null,null,null,null,null,null,null,null,null,null,null,null,22211,{"$f":"COUNTIF($L$7:$L$500,N35)","v":0},{"$f":"O35/$Q$4","v":{"$error":"#DIV/0!"}},{"$f":"IF(P35=0,0,(P35*((LOG(P35))/LOG(2))))","v":{"$error":"#DIV/0!"}},null,null,{"$f":"N35","v":22211},{"$f":"COUNTIF(L6:L7,T35)","v":0},{"$f":"U35/(W4-U25)","v":{"$error":"#DIV/0!"}},{"$f":"IF(V35=0,0,(V35*((LOG(V35))/LOG(2))))","v":{"$error":"#DIV/0!"}},null,{"$f":"N35","v":22211},{"$f":"COUNTIF(L6:L7,Y35)","v":0},{"$f":"Z35/(AB4-Z25)","v":{"$error":"#DIV/0!"}},{"$f":"IF(AA35=0,0,(AA35*((LOG(AA35))/LOG(2))))","v":{"$error":"#DIV/0!"}},null,{"$f":"N35","v":22211},{"$f":"COUNTIF(L7:L7,AD35)","v":0},{"$f":"AE35/(AG4-AE25)","v":{"$error":"#DIV/0!"}},{"$f":"IF(AF35=0,0,(AF35*((LOG(AF35))/LOG(2))))","v":{"$error":"#DIV/0!"}},null,{"$f":"N35","v":22211},{"$f":"COUNTIF(L7:L8,AI35)","v":0},{"$f":"AJ35/(AL4-AJ25)","v":{"$error":"#DIV/0!"}},{"$f":"IF(AK35=0,0,(AK35*((LOG(AK35))/LOG(2))))","v":{"$error":"#DIV/0!"}},null,{"$f":"N35","v":22211},{"$f":"COUNTIF(L7:L8,AN35)","v":0},{"$f":"AO35/(AQ4-AO25)","v":{"$error":"#DIV/0!"}},{"$f":"IF(AP35=0,0,(AP35*((LOG(AP35))/LOG(2))))","v":{"$error":"#DIV/0!"}},null,{"$f":"N35","v":22211},{"$f":"COUNTIF(L7:L8,AS35)","v":0},{"$f":"AT35/(AV4-AT25)","v":{"$error":"#DIV/0!"}},{"$f":"IF(AU35=0,0,(AU35*((LOG(AU35))/LOG(2))))","v":{"$error":"#DIV/0!"}}]
[null,null,null,null,null,null,null,null,null,null,null,null,null,22212,{"$f":"COUNTIF($L$7:$L$500,N36)","v":0},{"$f":"O36/$Q$4","v":{"$error":"#DIV/0!"}},{"$f":"IF(P36=0,0,(P36*((LOG(P36))/LOG(2))))","v":{"$error":"#DIV/0!"}},null,null,{"$f":"N36","v":22212},{"$f":"COUNTIF(L6:L7,T36)","v":0},{"$f":"U36/(W4-U25)","v":{"$error":"#DIV/0!"}},{"$f":"IF(V36=0,0,(V36*((LOG(V36))/LOG(2))))","v":{"$error":"#DIV/0!"}},null,{"$f":"N36","v":22212},{"$f":"COUNTIF(L6:L7,Y36)","v":0},{"$f":"Z36/(AB4-Z25)","v":{"$error":"#DIV/0!"}},{"$f":"IF(AA36=0,0,(AA36*((LOG(AA36))/LOG(2))))","v":{"$error":"#DIV/0!"}},null,{"$f":"N36","v":22212},{"$f":"COUNTIF(L7:L7,AD36)","v":0},{"$f":"AE36/(AG4-AE25)","v":{"$error":"#DIV/0!"}},{"$f":"IF(AF36=0,0,(AF36*((LOG(AF36))/LOG(2))))","v":{"$error":"#DIV/0!"}},null,{"$f":"N36","v":22212},{"$f":"COUNTIF(L7:L8,AI36)","v":0},{"$f":"AJ36/(AL4-AJ25)","v":{"$error":"#DIV/0!"}},{"$f":"IF(AK36=0,0,(AK36*((LOG(AK36))/LOG(2))))","v":{"$error":"#DIV/0!"}},null,{"$f":"N36","v":22212},{"$f":"COUNTIF(L7:L8,AN36)","v":0},{"$f":"AO36/(AQ4-AO25)","v":{"$error":"#DIV/0!"}},{"$f":"IF(AP36=0,0,(AP36*((LOG(AP36))/LOG(2))))","v":{"$error":"#DIV/0!"}},null,{"$f":"N36","v":22212},{"$f":"COUNTIF(L7:L8,AS36)","v":0},{"$f":"AT36/(AV4-AT25)","v":{"$error":"#DIV/0!"}},{"$f":"IF(AU36=0,0,(AU36*((LOG(AU36))/LOG(2))))","v":{"$error":"#DIV/0!"}}]
[null,null,null,null,null,null,null,null,null,null,null,null,null,22221,{"$f":"COUNTIF($L$7:$L$500,N37)","v":0},{"$f":"O37/$Q$4","v":{"$error":"#DIV/0!"}},{"$f":"IF(P37=0,0,(P37*((LOG(P37))/LOG(2))))","v":{"$error":"#DIV/0!"}},null,null,{"$f":"N37","v":22221},{"$f":"COUNTIF(L6:L7,T37)","v":0},{"$f":"U37/(W4-U25)","v":{"$error":"#DIV/0!"}},{"$f":"IF(V37=0,0,(V37*((LOG(V37))/LOG(2))))","v":{"$error":"#DIV/0!"}},null,{"$f":"N37","v":22221},{"$f":"COUNTIF(L6:L7,Y37)","v":0},{"$f":"Z37/(AB4-Z25)","v":{"$error":"#DIV/0!"}},{"$f":"IF(AA37=0,0,(AA37*((LOG(AA37))/LOG(2))))","v":{"$error":"#DIV/0!"}},null,{"$f":"N37","v":22221},{"$f":"COUNTIF(L7:L7,AD37)","v":0},{"$f":"AE37/(AG4-AE25)","v":{"$error":"#DIV/0!"}},{"$f":"IF(AF37=0,0,(AF37*((LOG(AF37))/LOG(2))))","v":{"$error":"#DIV/0!"}},null,{"$f":"N37","v":22221},{"$f":"COUNTIF(L7:L8,AI37)","v":0},{"$f":"AJ37/(AL4-AJ25)","v":{"$error":"#DIV/0!"}},{"$f":"IF(AK37=0,0,(AK37*((LOG(AK37))/LOG(2))))","v":{"$error":"#DIV/0!"}},null,{"$f":"N37","v":22221},{"$f":"COUNTIF(L7:L8,AN37)","v":0},{"$f":"AO37/(AQ4-AO25)","v":{"$error":"#DIV/0!"}},{"$f":"IF(AP37=0,0,(AP37*((LOG(AP37))/LOG(2))))","v":{"$error":"#DIV/0!"}},null,{"$f":"N37","v":22221},{"$f":"COUNTIF(L7:L8,AS37)","v":0},{"$f":"AT37/(AV4-AT25)","v":{"$error":"#DIV/0!"}},{"$f":"IF(AU37=0,0,(AU37*((LOG(AU37))/LOG(2))))","v":{"$error":"#DIV/0!"}}]
[null,null,null,null,null,null,null,null,null,null,null,null,null,22222,{"$f":"COUNTIF($L$7:$L$500,N38)","v":0},{"$f":"O38/$Q$4","v":{"$error":"#DIV/0!"}},{"$f":"IF(P38=0,0,(P38*((LOG(P38))/LOG(2))))","v":{"$error":"#DIV/0!"}},null,null,{"$f":"N38","v":22222},{"$f":"COUNTIF(L6:L7,T38)","v":0},{"$f":"U38/(W4-U25)","v":{"$error":"#DIV/0!"}},{"$f":"IF(V38=0,0,(V38*((LOG(V38))/LOG(2))))","v":{"$error":"#DIV/0!"}},null,{"$f":"N38","v":22222},{"$f":"COUNTIF(L6:L7,Y38)","v":0},{"$f":"Z38/(AB4-Z25)","v":{"$error":"#DIV/0!"}},{"$f":"IF(AA38=0,0,(AA38*((LOG(AA38))/LOG(2))))","v":{"$error":"#DIV/0!"}},null,{"$f":"N38","v":22222},{"$f":"COUNTIF(L7:L7,AD38)","v":0},{"$f":"AE38/(AG4-AE25)","v":{"$error":"#DIV/0!"}},{"$f":"IF(AF38=0,0,(AF38*((LOG(AF38))/LOG(2))))","v":{"$error":"#DIV/0!"}},null,{"$f":"N38","v":22222},{"$f":"COUNTIF(L7:L8,AI38)","v":0},{"$f":"AJ38/(AL4-AJ25)","v":{"$error":"#DIV/0!"}},{"$f":"IF(AK38=0,0,(AK38*((LOG(AK38))/LOG(2))))","v":{"$error":"#DIV/0!"}},null,{"$f":"N38","v":22222},{"$f":"COUNTIF(L7:L8,AN38)","v":0},{"$f":"AO38/(AQ4-AO25)","v":{"$error":"#DIV/0!"}},{"$f":"IF(AP38=0,0,(AP38*((LOG(AP38))/LOG(2))))","v":{"$error":"#DIV/0!"}},null,{"$f":"N38","v":22222},{"$f":"COUNTIF(L7:L8,AS38)","v":0},{"$f":"AT38/(AV4-AT25)","v":{"$error":"#DIV/0!"}},{"$f":"IF(AU38=0,0,(AU38*((LOG(AU38))/LOG(2))))","v":{"$error":"#DIV/0!"}}]
[null,null,null,null,null,null,null,null,null,null,null,null,null,null,null,{"$f":"SUM(P7:P38)","v":{"$error":"#DIV/0!"}},{"$f":"-SUM(Q7:Q38)","v":{"$error":"#DIV/0!"}},null,null,null,null,{"$f":"SUM(V7:V38)","v":{"$error":"#DIV/0!"}},{"$f":"-SUM(W7:W38)","v":{"$error":"#DIV/0!"}},null,null,null,{"$f":"SUM(AA7:AA38)","v":{"$error":"#DIV/0!"}},{"$f":"-SUM(AB7:AB38)","v":{"$error":"#DIV/0!"}},null,null,null,{"$f":"SUM(AF7:AF38)","v":{"$error":"#DIV/0!"}},{"$f":"-SUM(AG7:AG38)","v":{"$error":"#DIV/0!"}},null,null,null,{"$f":"SUM(AK7:AK38)","v":{"$error":"#DIV/0!"}},{"$f":"-SUM(AL7:AL38)","v":{"$error":"#DIV/0!"}},null,null,null,{"$f":"SUM(AP7:AP38)","v":{"$error":"#DIV/0!"}},{"$f":"-SUM(AQ7:AQ38)","v":{"$error":"#DIV/0!"}},null,null,null,{"$f":"SUM(AU7:AU38)","v":{"$error":"#DIV/0!"}},{"$f":"-SUM(AV7:AV38)","v":{"$error":"#DIV/0!"}}]
[null,null,null,null,null,null,null,null,null,null,null,null,null,null,null,"U=",{"$f":"Q39/(LOG(Q4)/LOG(2))","v":{"$error":"#DIV/0!"}},null,null,null,null,"U1=",{"$f":"W39/(LOG(W4)/LOG(2))","v":{"$error":"#DIV/0!"}},null,null,null,"U2=",{"$f":"AB39/(LOG(AB4)/LOG(2))","v":{"$error":"#DIV/0!"}},null,null,null,"U3=",{"$f":"AG39/(LOG(AG4)/LOG(2))","v":{"$error":"#DIV/0!"}},null,null,null,"U4=",{"$f":"AL39/(LOG(AL4)/LOG(2))","v":{"$error":"#DIV/0!"}},null,null,null,"U5=",{"$f":"AQ39/(LOG(AQ4)/LOG(2))","v":{"$error":"#DIV/0!"}},null,null,null,"U6=",{"$f":"AV39/(LOG(AV4)/LOG(2))","v":{"$error":"#DIV/0!"}}]
[]
[]
[null,null,null,null,null,null,null,null,null,null,null,null,null,"Total Target Seq"]
[null,null,null,null,null,null,null,null,null,null,null,null,null,{"$f":"COUNTIF(L7:L7,G3)","v":0},null,0,0,1,0,0,0]
[null,null,null,null,null,null,null,null,null,null,null,null,null,null,null,"% of reinforcement given in 6 equal intervals based on number of trials "]
[null,null,null,null,null,null,null,null,null,null,null,null,null,null,null,"%_1","%_2","%_3","%_4","%_5","%_6"]
[null,null,null,null,null,null,null,null,null,null,null,null,null,null,"target sequence",{"$f":"$G$3","v":21121},{"$f":"$G$3","v":21121},{"$f":"$G$3","v":21121},{"$f":"$G$3","v":21121},{"$f":"$G$3","v":21121},{"$f":"$G$3","v":21121}]
[null,null,null,null,null,null,null,null,null,null,null,null,null,null,"total reinforcement",{"$f":"U25","v":0},{"$f":"Z25","v":0},{"$f":"AE25","v":0},{"$f":"AJ25","v":0},{"$f":"AO25","v":0},{"$f":"AT25","v":0}]
[null,null,null,null,null,null,null,null,null,null,null,null,null,null,"% target"]
[null,null,null,null,null,null,null,null,null,null,null,null,null,null,"CCRF"]
[null,null,null,null,null,null,null,null,null,null,null,null,null,null,"% CCRf"]
[null,null,null,null,null,null,null,null,null,null,null,null,null,null,"average response rate",{"$f":"J6/P44","v":{"$error":"#VALUE!"}},{"$f":"(J6-J6)/Q44","v":{"$error":"#VALUE!"}},{"$f":"(J7-J6)/R44","v":{"$error":"#VALUE!"}},{"$f":"(J7-J7)/S44","v":{"$error":"#DIV/0!"}},{"$f":"(J7-J7)/T44","v":{"$error":"#DIV/0!"}},{"$f":"(J7-J7)/U44","v":{"$error":"#DIV/0!"}}]

{"sheet":"!N104B30.105","index":6,"n_rows":65,"n_cols":48,"rows_kept":65,"cut":false,"hidden":false,"merged":[[4,39,4,42],[5,39,5,40],[4,44,4,47],[5,44,5,45],[4,24,4,27],[5,24,5,25],[4,29,4,32],[5,29,5,30],[4,34,4,37],[5,34,5,35],[1,1,1,2],[5,13,5,14],[42,13,42,14],[43,13,43,14],[4,19,4,22],[5,19,5,20]]}
["Report for:!N104B30.105"]
["Date:","<date>"]
["Hen:","<hen>",null,null,null,"Correct Sequence",{"$f":"Start!J2","v":21121},null,null,null,null,null,null,null,null,"Total Sequences in Data",{"$f":"4994-COUNTBLANK(L7:L5000)","v":59},null,null,null,null,"Total Sequences in Block Data",{"$f":"COUNTA(L7:L16)","v":10},null,null,null,"Total Sequences in Block Data",{"$f":"COUNTA(L17:L26)","v":10},null,null,null,"Total Sequences in Block Data",{"$f":"COUNTA(L27:L35)","v":9},null,null,null,"Total Sequences in Block Data",{"$f":"COUNTA(L36:L45)","v":10},null,null,null,"Total Sequences in Block Data",{"$f":"COUNTA(L46:L55)","v":10},null,null,null,"Total Sequences in Block Data",{"$f":"COUNTA(L56:L65)","v":10}]
[null,null,null,null,null,null,null,null,null,null,null,null,null,null,null,"Total Sequences in Summary",{"$f":"SUM(O7:O38)","v":58},null,null,null,null,"Total Sequences in Block Summary",{"$f":"SUM(U7:U38)","v":10},null,null,null,"Total Sequences in Block Summary",{"$f":"SUM(Z7:Z38)","v":10},null,null,null,"Total Sequences in Block Summary",{"$f":"SUM(AE7:AE38)","v":9},null,null,null,"Total Sequences in Block Summary",{"$f":"SUM(AJ7:AJ38)","v":10},null,null,null,"Total Sequences in Block Summary",{"$f":"SUM(AO7:AO38)","v":10},null,null,null,"Total Sequences in Block Summary",{"$f":"SUM(AT7:AT38)","v":9}]
[null,null,null,null,null,null,null,null,null,null,null,null,null,null,null,null,null,null,null,"Block 1",null,null,null,null,"Block 2",null,null,null,null,"Block 3",null,null,null,null,"Block 4",null,null,null,null,"Block 5",null,null,null,null,"Block 6"]
["Sequence\nComponent\n1","Time\n1","Sequence\nComponent\n2","Time\n2","Sequence\nComponent\n3","Time\n3","Sequence\nComponent\n4","Time\n4","Sequence\nComponent\n5","Time\n5","Correct?\n0=No 1=Yes","Sequence",null,"Frequency",null,"Relative Frequency","Variability",null,null,"Frequency",null,"Relative Frequency","Variability",null,"Frequency",null,"Relative Frequency","Variability",null,"Frequency",null,"Relative Frequency","Variability",null,"Frequency",null,"Relative Frequency","Variability",null,"Frequency",null,"Relative Frequency","Variability",null,"Frequency",null,"Relative Frequency","Variability"]
[21,24,11,38,22,47,14,63,24,72,0,21212,null,11111,{"$f":"COUNTIF($L$7:$L$500,N7)","v":2},{"$f":"O7/$Q$4","v":3.4482758620689655E-2},{"$f":"IF(P7=0,0,(P7*((LOG(P7))/LOG(2))))","v":-0.16751658603888178},null,null,{"$f":"N7","v":11111},{"$f":"COUNTIF(L7:L16,T7)","v":0},{"$f":"U7/(W4-U25)","v":0},{"$f":"IF(V7=0,0,(V7*((LOG(V7))/LOG(2))))","v":0},null,{"$f":"N7","v":11111},{"$f":"COUNTIF(L17:L26,Y7)","v":0},{"$f":"Z7/(AB4-Z25)","v":0},{"$f":"IF(AA7=0,0,(AA7*((LOG(AA7))/LOG(2))))","v":0},null,{"$f":"N7","v":11111},{"$f":"COUNTIF(L27:L35,AD7)","v":0},{"$f":"AE7/(AG4-AE25)","v":0},{"$f":"IF(AF7=0,0,(AF7*((LOG(AF7))/LOG(2))))","v":0},null,{"$f":"N7","v":11111},{"$f":"COUNTIF(L36:L45,AI7)","v":1},{"$f":"AJ7/(AL4-AJ25)","v":0.1},{"$f":"IF(AK7=0,0,(AK7*((LOG(AK7))/LOG(2))))","v":-0.33219280948873625},null,{"$f":"N7","v":11111},{"$f":"COUNTIF(L46:L55,AN7)","v":0},{"$f":"AO7/(AQ4-AO25)","v":0},{"$f":"IF(AP7=0,0,(AP7*((LOG(AP7))/LOG(2))))","v":0},null,{"$f":"N7","v":11111},{"$f":"COUNTIF(L56:L65,AS7)","v":1},{"$f":"AT7/(AV4-AT25)","v":0.1111111111111111},{"$f":"IF(AU7=0,0,(AU7*((LOG(AU7))/LOG(2))))","v":-0.3522138890491458}]
[12,183,24,193,13,207,23,216,13,251,0,12121,null,11112,{"$f":"COUNTIF($L$7:$L$500,N8)","v":1},{"$f":"O8/$Q$4","v":1.7241379310344827E-2},{"$f":"IF(P8=0,0,(P8*((LOG(P8))/LOG(2))))","v":-0.10099967232978573},null,null,{"$f":"N8","v":11112},{"$f":"COUNTIF(L7:L16,T8)","v":0},{"$f":"U8/(W4-U25)","v":0},{"$f":"IF(V8=0,0,(V8*((LOG(V8))/LOG(2))))","v":0},null,{"$f":"N8","v":11112},{"$f":"COUNTIF(L17:L26,Y8)","v":0},{"$f":"Z8/(AB4-Z25)","v":0},{"$f":"IF(AA8=0,0,(AA8*((LOG(AA8))/LOG(2))))","v":0},null,{"$f":"N8","v":11112},{"$f":"COUNTIF(L27:L35,AD8)","v":0},{"$f":"AE8/(AG4-AE25)","v":0},{"$f":"IF(AF8=0,0,(AF8*((LOG(AF8))/LOG(2))))","v":0},null,{"$f":"N8","v":11112},{"$f":"COUNTIF(L36:L45,AI8)","v":1},{"$f":"AJ8/(AL4-AJ25)","v":0.1},{"$f":"IF(AK8=0,0,(AK8*((LOG(AK8))/LOG(2))))","v":-0.33219280948873625},null,{"$f":"N8","v":11112},{"$f":"COUNTIF(L46:L55,AN8)","v":0},{"$f":"AO8/(AQ4-AO25)","v":0},{"$f":"IF(AP8=0,0,(AP8*((LOG(AP8))/LOG(2))))","v":0},null,{"$f":"N8","v":11112},{"$f":"COUNTIF(L56:L65,AS8)","v":0},{"$f":"AT8/(AV4-AT25)","v":0},{"$f":"IF(AU8=0,0,(AU8*((LOG(AU8))/LOG(2))))","v":0}]
[12,363,13,378,24,388,14,398,24,426,0,11212,null,11121,{"$f":"COUNTIF($L$7:$L$500,N9)","v":6},{"$f":"O9/$Q$4","v":0.10344827586206896},{"$f":"IF(P9=0,0,(P9*((LOG(P9))/LOG(2))))","v":-0.33858812011100858},null,null,{"$f":"N9","v":11121},{"$f":"COUNTIF(L7:L16,T9)","v":0},{"$f":"U9/(W4-U25)","v":0},{"$f":"IF(V9=0,0,(V9*((LOG(V9))/LOG(2))))","v":0},null,{"$f":"N9","v":11121},{"$f":"COUNTIF(L17:L26,Y9)","v":3},{"$f":"Z9/(AB4-Z25)","v":0.3},{"$f":"IF(AA9=0,0,(AA9*((LOG(AA9))/LOG(2))))","v":-0.52108967824986185},null,{"$f":"N9","v":11121},{"$f":"COUNTIF(L27:L35,AD9)","v":1},{"$f":"AE9/(AG4-AE25)","v":0.1111111111111111},{"$f":"IF(AF9=0,0,(AF9*((LOG(AF9))/LOG(2))))","v":-0.3522138890491458},null,{"$f":"N9","v":11121},{"$f":"COUNTIF(L36:L45,AI9)","v":0},{"$f":"AJ9/(AL4-AJ25)","v":0},{"$f":"IF(AK9=0,0,(AK9*((LOG(AK9))/LOG(2))))","v":0},null,{"$f":"N9","v":11121},{"$f":"COUNTIF(L46:L55,AN9)","v":2},{"$f":"AO9/(AQ4-AO25)","v":0.2},{"$f":"IF(AP9=0,0,(AP9*((LOG(AP9))/LOG(2))))","v":-0.46438561897747244},null,{"$f":"N9","v":11121},{"$f":"COUNTIF(L56:L65,AS9)","v":0},{"$f":"AT9/(AV4-AT25)","v":0},{"$f":"IF(AU9=0,0,(AU9*((LOG(AU9))/LOG(2))))","v":0}]
[12,547,24,580,13,590,23,599,13,610,0,12121,null,11122,{"$f":"COUNTIF($L$7:$L$500,N10)","v":1},{"$f":"O10/$Q$4","v":1.7241379310344827E-2},{"$f":"IF(P10=0,0,(P10*((LOG(P10))/LOG(2))))","v":-0.10099967232978573},null,null,{"$f":"N10","v":11122},{"$f":"COUNTIF(L7:L16,T10)","v":0},{"$f":"U10/(W4-U25)","v":0},{"$f":"IF(V10=0,0,(V10*((LOG(V10))/LOG(2))))","v":0},null,{"$f":"N10","v":11122},{"$f":"COUNTIF(L17:L26,Y10)","v":1},{"$f":"Z10/(AB4-Z25)","v":0.1},{"$f":"IF(AA10=0,0,(AA10*((LOG(AA10))/LOG(2))))","v":-0.33219280948873625},null,{"$f":"N10","v":11122},{"$f":"COUNTIF(L27:L35,AD10)","v":0},{"$f":"AE10/(AG4-AE25)","v":0},{"$f":"IF(AF10=0,0,(AF10*((LOG(AF10))/LOG(2))))","v":0},null,{"$f":"N10","v":11122},{"$f":"COUNTIF(L36:L45,AI10)","v":0},{"$f":"AJ10/(AL4-AJ25)","v":0},{"$f":"IF(AK10=0,0,(AK10*((LOG(AK10))/LOG(2))))","v":0},null,{"$f":"N10","v":11122},{"$f":"COUNTIF(L46:L55,AN10)","v":0},{"$f":"AO10/(AQ4-AO25)","v":0},{"$f":"IF(AP10=0,0,(AP10*((LOG(AP10))/LOG(2))))","v":0},null,{"$f":"N10","v":11122},{"$f":"COUNTIF(L56:L65,AS10)","v":0},{"$f":"AT10/(AV4-AT25)","v":0},{"$f":"IF(AU10=0,0,(AU10*((LOG(AU10))/LOG(2))))","v":0}]
[12,740,13,750,24,759,14,769,24,778,0,11212,null,11211,{"$f":"COUNTIF($L$7:$L$500,N11)","v":1},{"$f":"O11/$Q$4","v":1.7241379310344827E-2},{"$f":"IF(P11=0,0,(P11*((LOG(P11))/LOG(2))))","v":-0.10099967232978573},null,null,{"$f":"N11","v":11211},{"$f":"COUNTIF(L7:L16,T11)","v":0},{"$f":"U11/(W4-U25)","v":0},{"$f":"IF(V11=0,0,(V11*((LOG(V11))/LOG(2))))","v":0},null,{"$f":"N11","v":11211},{"$f":"COUNTIF(L17:L26,Y11)","v":0},{"$f":"Z11/(AB4-Z25)","v":0},{"$f":"IF(AA11=0,0,(AA11*((LOG(AA11))/LOG(2))))","v":0},null,{"$f":"N11","v":11211},{"$f":"COUNTIF(L27:L35,AD11)","v":1},{"$f":"AE11/(AG4-AE25)","v":0.1111111111111111},{"$f":"IF(AF11=0,0,(AF11*((LOG(AF11))/LOG(2))))","v":-0.3522138890491458},null,{"$f":"N11","v":11211},{"$f":"COUNTIF(L36:L45,AI11)","v":0},{"$f":"AJ11/(AL4-AJ25)","v":0},{"$f":"IF(AK11=0,0,(AK11*((LOG(AK11))/LOG(2))))","v":0},null,{"$f":"N11","v":11211},{"$f":"COUNTIF(L46:L55,AN11)","v":0},{"$f":"AO11/(AQ4-AO25)","v":0},{"$f":"IF(AP11=0,0,(AP11*((LOG(AP11))/LOG(2))))","v":0},null,{"$f":"N11","v":11211},{"$f":"COUNTIF(L56:L65,AS11)","v":0},{"$f":"AT11/(AV4-AT25)","v":0},{"$f":"IF(AU11=0,0,(AU11*((LOG(AU11))/LOG(2))))","v":0}]
[21,909,22,925,13,938,23,947,13,956,0,22121,null,11212,{"$f":"COUNTIF($L$7:$L$500,N12)","v":10},{"$f":"O12/$Q$4","v":0.17241379310344829},{"$f":"IF(P12=0,0,(P12*((LOG(P12))/LOG(2))))","v":-0.43725050004141547},null,null,{"$f":"N12","v":11212},{"$f":"COUNTIF(L7:L16,T12)","v":3},{"$f":"U12/(W4-U25)","v":0.33333333333333331},{"$f":"IF(V12=0,0,(V12*((LOG(V12))/LOG(2))))","v":-0.52832083357371862},null,{"$f":"N12","v":11212},{"$f":"COUNTIF(L17:L26,Y12)","v":2},{"$f":"Z12/(AB4-Z25)","v":0.2},{"$f":"IF(AA12=0,0,(AA12*((LOG(AA12))/LOG(2))))","v":-0.46438561897747244},null,{"$f":"N12","v":11212},{"$f":"COUNTIF(L27:L35,AD12)","v":0},{"$f":"AE12/(AG4-AE25)","v":0},{"$f":"IF(AF12=0,0,(AF12*((LOG(AF12))/LOG(2))))","v":0},null,{"$f":"N12","v":11212},{"$f":"COUNTIF(L36:L45,AI12)","v":3},{"$f":"AJ12/(AL4-AJ25)","v":0.3},{"$f":"IF(AK12=0,0,(AK12*((LOG(AK12))/LOG(2))))","v":-0.52108967824986185},null,{"$f":"N12","v":11212},{"$f":"COUNTIF(L46:L55,AN12)","v":1},{"$f":"AO12/(AQ4-AO25)","v":0.1},{"$f":"IF(AP12=0,0,(AP12*((LOG(AP12))/LOG(2))))","v":-0.33219280948873625},null,{"$f":"N12","v":11212},{"$f":"COUNTIF(L56:L65,AS12)","v":1},{"$f":"AT12/(AV4-AT25)","v":0.1111111111111111},{"$f":"IF(AU12=0,0,(AU12*((LOG(AU12))/LOG(2))))","v":-0.3522138890491458}]
[12,1077,13,1097,24,1107,14,1117,24,1126,0,11212,null,11221,{"$f":"COUNTIF($L$7:$L$500,N13)","v":2},{"$f":"O13/$Q$4","v":3.4482758620689655E-2},{"$f":"IF(P13=0,0,(P13*((LOG(P13))/LOG(2))))","v":-0.16751658603888178},null,null,{"$f":"N13","v":11221},{"$f":"COUNTIF(L7:L16,T13)","v":0},{"$f":"U13/(W4-U25)","v":0},{"$f":"IF(V13=0,0,(V13*((LOG(V13))/LOG(2))))","v":0},null,{"$f":"N13","v":11221},{"$f":"COUNTIF(L17:L26,Y13)","v":1},{"$f":"Z13/(AB4-Z25)","v":0.1},{"$f":"IF(AA13=0,0,(AA13*((LOG(AA13))/LOG(2))))","v":-0.33219280948873625},null,{"$f":"N13","v":11221},{"$f":"COUNTIF(L27:L35,AD13)","v":0},{"$f":"AE13/(AG4-AE25)","v":0},{"$f":"IF(AF13=0,0,(AF13*((LOG(AF13))/LOG(2))))","v":0},null,{"$f":"N13","v":11221},{"$f":"COUNTIF(L36:L45,AI13)","v":0},{"$f":"AJ13/(AL4-AJ25)","v":0},{"$f":"IF(AK13=0,0,(AK13*((LOG(AK13))/LOG(2))))","v":0},null,{"$f":"N13","v":11221},{"$f":"COUNTIF(L46:L55,AN13)","v":1},{"$f":"AO13/(AQ4-AO25)","v":0.1},{"$f":"IF(AP13=0,0,(AP13*((LOG(AP13))/LOG(2))))","v":-0.33219280948873625},null,{"$f":"N13","v":11221},{"$f":"COUNTIF(L56:L65,AS13)","v":0},{"$f":"AT13/(AV4-AT25)","v":0},{"$f":"IF(AU13=0,0,(AU13*((LOG(AU13))/LOG(2))))","v":0}]
[21,1239,11,1246,11,1265,21,1275,11,1285,1,21121,null,11222,{"$f":"COUNTIF($L$7:$L$500,N14)","v":0},{"$f":"O14/$Q$4","v":0},{"$f":"IF(P14=0,0,(P14*((LOG(P14))/LOG(2))))","v":0},null,null,{"$f":"N14","v":11222},{"$f":"COUNTIF(L7:L16,T14)","v":0},{"$f":"U14/(W4-U25)","v":0},{"$f":"IF(V14=0,0,(V14*((LOG(V14))/LOG(2))))","v":0},null,{"$f":"N14","v":11222},{"$f":"COUNTIF(L17:L26,Y14)","v":0},{"$f":"Z14/(AB4-Z25)","v":0},{"$f":"IF(AA14=0,0,(AA14*((LOG(AA14))/LOG(2))))","v":0},null,{"$f":"N14","v":11222},{"$f":"COUNTIF(L27:L35,AD14)","v":0},{"$f":"AE14/(AG4-AE25)","v":0},{"$f":"IF(AF14=0,0,(AF14*((LOG(AF14))/LOG(2))))","v":0},null,{"$f":"N14","v":11222},{"$f":"COUNTIF(L36:L45,AI14)","v":0},{"$f":"AJ14/(AL4-AJ25)","v":0},{"$f":"IF(AK14=0,0,(AK14*((LOG(AK14))/LOG(2))))","v":0},null,{"$f":"N14","v":11222},{"$f":"COUNTIF(L46:L55,AN14)","v":0},{"$f":"AO14/(AQ4-AO25)","v":0},{"$f":"IF(AP14=0,0,(AP14*((LOG(AP14))/LOG(2))))","v":0},null,{"$f":"N14","v":11222},{"$f":"COUNTIF(L56:L65,AS14)","v":0},{"$f":"AT14/(AV4-AT25)","v":0},{"$f":"IF(AU14=0,0,(AU14*((LOG(AU14))/LOG(2))))","v":0}]
[12,1409,24,1423,24,1447,14,1462,24,1472,0,12212,null,12111,{"$f":"COUNTIF($L$7:$L$500,N15)","v":0},{"$f":"O15/$Q$4","v":0},{"$f":"IF(P15=0,0,(P15*((LOG(P15))/LOG(2))))","v":0},null,null,{"$f":"N15","v":12111},{"$f":"COUNTIF(L7:L16,T15)","v":0},{"$f":"U15/(W4-U25)","v":0},{"$f":"IF(V15=0,0,(V15*((LOG(V15))/LOG(2))))","v":0},null,{"$f":"N15","v":12111},{"$f":"COUNTIF(L17:L26,Y15)","v":0},{"$f":"Z15/(AB4-Z25)","v":0},{"$f":"IF(AA15=0,0,(AA15*((LOG(AA15))/LOG(2))))","v":0},null,{"$f":"N15","v":12111},{"$f":"COUNTIF(L27:L35,AD15)","v":0},{"$f":"AE15/(AG4-AE25)","v":0},{"$f":"IF(AF15=0,0,(AF15*((LOG(AF15))/LOG(2))))","v":0},null,{"$f":"N15","v":12111},{"$f":"COUNTIF(L36:L45,AI15)","v":0},{"$f":"AJ15/(AL4-AJ25)","v":0},{"$f":"IF(AK15=0,0,(AK15*((LOG(AK15))/LOG(2))))","v":0},null,{"$f":"N15","v":12111},{"$f":"COUNTIF(L46:L55,AN15)","v":0},{"$f":"AO15/(AQ4-AO25)","v":0},{"$f":"IF(AP15=0,0,(AP15*((LOG(AP15))/LOG(2))))","v":0},null,{"$f":"N15","v":12111},{"$f":"COUNTIF(L56:L65,AS15)","v":0},{"$f":"AT15/(AV4-AT25)","v":0},{"$f":"IF(AU15=0,0,(AU15*((LOG(AU15))/LOG(2))))","v":0}]
[12,1578,24,1591,24,1615,14,1629,24,1640,0,12212,null,12112,{"$f":"COUNTIF($L$7:$L$500,N16)","v":0},{"$f":"O16/$Q$4","v":0},{"$f":"IF(P16=0,0,(P16*((LOG(P16))/LOG(2))))","v":0},null,null,{"$f":"N16","v":12112},{"$f":"COUNTIF(L7:L16,T16)","v":0},{"$f":"U16/(W4-U25)","v":0},{"$f":"IF(V16=0,0,(V16*((LOG(V16))/LOG(2))))","v":0},null,{"$f":"N16","v":12112},{"$f":"COUNTIF(L17:L26,Y16)","v":0},{"$f":"Z16/(AB4-Z25)","v":0},{"$f":"IF(AA16=0,0,(AA16*((LOG(AA16))/LOG(2))))","v":0},null,{"$f":"N16","v":12112},{"$f":"COUNTIF(L27:L35,AD16)","v":0},{"$f":"AE16/(AG4-AE25)","v":0},{"$f":"IF(AF16=0,0,(AF16*((LOG(AF16))/LOG(2))))","v":0},null,{"$f":"N16","v":12112},{"$f":"COUNTIF(L36:L45,AI16)","v":0},{"$f":"AJ16/(AL4-AJ25)","v":0},{"$f":"IF(AK16=0,0,(AK16*((LOG(AK16))/LOG(2))))","v":0},null,{"$f":"N16","v":12112},{"$f":"COUNTIF(L46:L55,AN16)","v":0},{"$f":"AO16/(AQ4-AO25)","v":0},{"$f":"IF(AP16=0,0,(AP16*((LOG(AP16))/LOG(2))))","v":0},null,{"$f":"N16","v":12112},{"$f":"COUNTIF(L56:L65,AS16)","v":0},{"$f":"AT16/(AV4-AT25)","v":0},{"$f":"IF(AU16=0,0,(AU16*((LOG(AU16))/LOG(2))))","v":0}]
[12,1746,13,1759,13,1778,23,1786,24,1811,0,11122,null,12121,{"$f":"COUNTIF($L$7:$L$500,N17)","v":7},{"$f":"O17/$Q$4","v":0.1206896551724138},{"$f":"IF(P17=0,0,(P17*((LOG(P17))/LOG(2))))","v":-0.36817900881878923},null,null,{"$f":"N17","v":12121},{"$f":"COUNTIF(L7:L16,T17)","v":2},{"$f":"U17/(W4-U25)","v":0.22222222222222221},{"$f":"IF(V17=0,0,(V17*((LOG(V17))/LOG(2))))","v":-0.48220555587606945},null,{"$f":"N17","v":12121},{"$f":"COUNTIF(L17:L26,Y17)","v":1},{"$f":"Z17/(AB4-Z25)","v":0.1},{"$f":"IF(AA17=0,0,(AA17*((LOG(AA17))/LOG(2))))","v":-0.33219280948873625},null,{"$f":"N17","v":12121},{"$f":"COUNTIF(L27:L35,AD17)","v":3},{"$f":"AE17/(AG4-AE25)","v":0.33333333333333331},{"$f":"IF(AF17=0,0,(AF17*((LOG(AF17))/LOG(2))))","v":-0.52832083357371862},null,{"$f":"N17","v":12121},{"$f":"COUNTIF(L36:L45,AI17)","v":1},{"$f":"AJ17/(AL4-AJ25)","v":0.1},{"$f":"IF(AK17=0,0,(AK17*((LOG(AK17))/LOG(2))))","v":-0.33219280948873625},null,{"$f":"N17","v":12121},{"$f":"COUNTIF(L46:L55,AN17)","v":0},{"$f":"AO17/(AQ4-AO25)","v":0},{"$f":"IF(AP17=0,0,(AP17*((LOG(AP17))/LOG(2))))","v":0},null,{"$f":"N17","v":12121},{"$f":"COUNTIF(L56:L65,AS17)","v":0},{"$f":"AT17/(AV4-AT25)","v":0},{"$f":"IF(AU17=0,0,(AU17*((LOG(AU17))/LOG(2))))","v":0}]
[12,1919,24,1926,24,1943,23,1965,13,1978,0,12221,null,12122,{"$f":"COUNTIF($L$7:$L$500,N18)","v":4},{"$f":"O18/$Q$4","v":6.8965517241379309E-2},{"$f":"IF(P18=0,0,(P18*((LOG(P18))/LOG(2))))","v":-0.26606765483638428},null,null,{"$f":"N18","v":12122},{"$f":"COUNTIF(L7:L16,T18)","v":0},{"$f":"U18/(W4-U25)","v":0},{"$f":"IF(V18=0,0,(V18*((LOG(V18))/LOG(2))))","v":0},null,{"$f":"N18","v":12122},{"$f":"COUNTIF(L17:L26,Y18)","v":0},{"$f":"Z18/(AB4-Z25)","v":0},{"$f":"IF(AA18=0,0,(AA18*((LOG(AA18))/LOG(2))))","v":0},null,{"$f":"N18","v":12122},{"$f":"COUNTIF(L27:L35,AD18)","v":1},{"$f":"AE18/(AG4-AE25)","v":0.1111111111111111},{"$f":"IF(AF18=0,0,(AF18*((LOG(AF18))/LOG(2))))","v":-0.3522138890491458},null,{"$f":"N18","v":12122},{"$f":"COUNTIF(L36:L45,AI18)","v":0},{"$f":"AJ18/(AL4-AJ25)","v":0},{"$f":"IF(AK18=0,0,(AK18*((LOG(AK18))/LOG(2))))","v":0},null,{"$f":"N18","v":12122},{"$f":"COUNTIF(L46:L55,AN18)","v":2},{"$f":"AO18/(AQ4-AO25)","v":0.2},{"$f":"IF(AP18=0,0,(AP18*((LOG(AP18))/LOG(2))))","v":-0.46438561897747244},null,{"$f":"N18","v":12122},{"$f":"COUNTIF(L56:L65,AS18)","v":1},{"$f":"AT18/(AV4-AT25)","v":0.1111111111111111},{"$f":"IF(AU18=0,0,(AU18*((LOG(AU18))/LOG(2))))","v":-0.3522138890491458}]
[12,2081,13,2090,24,2097,23,2116,13,2131,0,11221,null,12211,{"$f":"COUNTIF($L$7:$L$500,N19)","v":0},{"$f":"O19/$Q$4","v":0},{"$f":"IF(P19=0,0,(P19*((LOG(P19))/LOG(2))))","v":0},null,null,{"$f":"N19","v":12211},{"$f":"COUNTIF(L7:L16,T19)","v":0},{"$f":"U19/(W4-U25)","v":0},{"$f":"IF(V19=0,0,(V19*((LOG(V19))/LOG(2))))","v":0},null,{"$f":"N19","v":12211},{"$f":"COUNTIF(L17:L26,Y19)","v":0},{"$f":"Z19/(AB4-Z25)","v":0},{"$f":"IF(AA19=0,0,(AA19*((LOG(AA19))/LOG(2))))","v":0},null,{"$f":"N19","v":12211},{"$f":"COUNTIF(L27:L35,AD19)","v":0},{"$f":"AE19/(AG4-AE25)","v":0},{"$f":"IF(AF19=0,0,(AF19*((LOG(AF19))/LOG(2))))","v":0},null,{"$f":"N19","v":12211},{"$f":"COUNTIF(L36:L45,AI19)","v":0},{"$f":"AJ19/(AL4-AJ25)","v":0},{"$f":"IF(AK19=0,0,(AK19*((LOG(AK19))/LOG(2))))","v":0},null,{"$f":"N19","v":12211},{"$f":"COUNTIF(L46:L55,AN19)","v":0},{"$f":"AO19/(AQ4-AO25)","v":0},{"$f":"IF(AP19=0,0,(AP19*((LOG(AP19))/LOG(2))))","v":0},null,{"$f":"N19","v":12211},{"$f":"COUNTIF(L56:L65,AS19)","v":0},{"$f":"AT19/(AV4-AT25)","v":0},{"$f":"IF(AU19=0,0,(AU19*((LOG(AU19))/LOG(2))))","v":0}]
[12,2233,13,2242,13,2256,23,2265,13,2275,0,11121,null,12212,{"$f":"COUNTIF($L$7:$L$500,N20)","v":7},{"$f":"O20/$Q$4","v":0.1206896551724138},{"$f":"IF(P20=0,0,(P20*((LOG(P20))/LOG(2))))","v":-0.36817900881878923},null,null,{"$f":"N20","v":12212},{"$f":"COUNTIF(L7:L16,T20)","v":2},{"$f":"U20/(W4-U25)","v":0.22222222222222221},{"$f":"IF(V20=0,0,(V20*((LOG(V20))/LOG(2))))","v":-0.48220555587606945},null,{"$f":"N20","v":12212},{"$f":"COUNTIF(L17:L26,Y20)","v":0},{"$f":"Z20/(AB4-Z25)","v":0},{"$f":"IF(AA20=0,0,(AA20*((LOG(AA20))/LOG(2))))","v":0},null,{"$f":"N20","v":12212},{"$f":"COUNTIF(L27:L35,AD20)","v":1},{"$f":"AE20/(AG4-AE25)","v":0.1111111111111111},{"$f":"IF(AF20=0,0,(AF20*((LOG(AF20))/LOG(2))))","v":-0.3522138890491458},null,{"$f":"N20","v":12212},{"$f":"COUNTIF(L36:L45,AI20)","v":1},{"$f":"AJ20/(AL4-AJ25)","v":0.1},{"$f":"IF(AK20=0,0,(AK20*((LOG(AK20))/LOG(2))))","v":-0.33219280948873625},null,{"$f":"N20","v":12212},{"$f":"COUNTIF(L46:L55,AN20)","v":2},{"$f":"AO20/(AQ4-AO25)","v":0.2},{"$f":"IF(AP20=0,0,(AP20*((LOG(AP20))/LOG(2))))","v":-0.46438561897747244},null,{"$f":"N20","v":12212},{"$f":"COUNTIF(L56:L65,AS20)","v":1},{"$f":"AT20/(AV4-AT25)","v":0.1111111111111111},{"$f":"IF(AU20=0,0,(AU20*((LOG(AU20))/LOG(2))))","v":-0.3522138890491458}]
[12,2379,13,2398,24,2406,14,2418,24,2430,0,11212,null,12221,{"$f":"COUNTIF($L$7:$L$500,N21)","v":3},{"$f":"O21/$Q$4","v":5.1724137931034482E-2},{"$f":"IF(P21=0,0,(P21*((LOG(P21))/LOG(2))))","v":-0.22101819798653879},null,null,{"$f":"N21","v":12221},{"$f":"COUNTIF(L7:L16,T21)","v":0},{"$f":"U21/(W4-U25)","v":0},{"$f":"IF(V21=0,0,(V21*((LOG(V21))/LOG(2))))","v":0},null,{"$f":"N21","v":12221},{"$f":"COUNTIF(L17:L26,Y21)","v":1},{"$f":"Z21/(AB4-Z25)","v":0.1},{"$f":"IF(AA21=0,0,(AA21*((LOG(AA21))/LOG(2))))","v":-0.33219280948873625},null,{"$f":"N21","v":12221},{"$f":"COUNTIF(L27:L35,AD21)","v":0},{"$f":"AE21/(AG4-AE25)","v":0},{"$f":"IF(AF21=0,0,(AF21*((LOG(AF21))/LOG(2))))","v":0},null,{"$f":"N21","v":12221},{"$f":"COUNTIF(L36:L45,AI21)","v":0},{"$f":"AJ21/(AL4-AJ25)","v":0},{"$f":"IF(AK21=0,0,(AK21*((LOG(AK21))/LOG(2))))","v":0},null,{"$f":"N21","v":12221},{"$f":"COUNTIF(L46:L55,AN21)","v":0},{"$f":"AO21/(AQ4-AO25)","v":0},{"$f":"IF(AP21=0,0,(AP21*((LOG(AP21))/LOG(2))))","v":0},null,{"$f":"N21","v":12221},{"$f":"COUNTIF(L56:L65,AS21)","v":2},{"$f":"AT21/(AV4-AT25)","v":0.22222222222222221},{"$f":"IF(AU21=0,0,(AU21*((LOG(AU21))/LOG(2))))","v":-0.48220555587606945}]
[12,2532,13,2542,13,2558,23,2568,13,2582,0,11121,null,12222,{"$f":"COUNTIF($L$7:$L$500,N22)","v":0},{"$f":"O22/$Q$4","v":0},{"$f":"IF(P22=0,0,(P22*((LOG(P22))/LOG(2))))","v":0},null,null,{"$f":"N22","v":12222},{"$f":"COUNTIF(L7:L16,T22)","v":0},{"$f":"U22/(W4-U25)","v":0},{"$f":"IF(V22=0,0,(V22*((LOG(V22))/LOG(2))))","v":0},null,{"$f":"N22","v":12222},{"$f":"COUNTIF(L17:L26,Y22)","v":0},{"$f":"Z22/(AB4-Z25)","v":0},{"$f":"IF(AA22=0,0,(AA22*((LOG(AA22))/LOG(2))))","v":0},null,{"$f":"N22","v":12222},{"$f":"COUNTIF(L27:L35,AD22)","v":0},{"$f":"AE22/(AG4-AE25)","v":0},{"$f":"IF(AF22=0,0,(AF22*((LOG(AF22))/LOG(2))))","v":0},null,{"$f":"N22","v":12222},{"$f":"COUNTIF(L36:L45,AI22)","v":0},{"$f":"AJ22/(AL4-AJ25)","v":0},{"$f":"IF(AK22=0,0,(AK22*((LOG(AK22))/LOG(2))))","v":0},null,{"$f":"N22","v":12222},{"$f":"COUNTIF(L46:L55,AN22)","v":0},{"$f":"AO22/(AQ4-AO25)","v":0},{"$f":"IF(AP22=0,0,(AP22*((LOG(AP22))/LOG(2))))","v":0},null,{"$f":"N22","v":12222},{"$f":"COUNTIF(L56:L65,AS22)","v":0},{"$f":"AT22/(AV4-AT25)","v":0},{"$f":"IF(AU22=0,0,(AU22*((LOG(AU22))/LOG(2))))","v":0}]
[12,2695,13,2715,13,2723,23,2733,13,2748,0,11121,null,21111,{"$f":"COUNTIF($L$7:$L$500,N23)","v":0},{"$f":"O23/$Q$4","v":0},{"$f":"IF(P23=0,0,(P23*((LOG(P23))/LOG(2))))","v":0},null,null,{"$f":"N23","v":21111},{"$f":"COUNTIF(L7:L16,T23)","v":0},{"$f":"U23/(W4-U25)","v":0},{"$f":"IF(V23=0,0,(V23*((LOG(V23))/LOG(2))))","v":0},null,{"$f":"N23","v":21111},{"$f":"COUNTIF(L17:L26,Y23)","v":0},{"$f":"Z23/(AB4-Z25)","v":0},{"$f":"IF(AA23=0,0,(AA23*((LOG(AA23))/LOG(2))))","v":0},null,{"$f":"N23","v":21111},{"$f":"COUNTIF(L27:L35,AD23)","v":0},{"$f":"AE23/(AG4-AE25)","v":0},{"$f":"IF(AF23=0,0,(AF23*((LOG(AF23))/LOG(2))))","v":0},null,{"$f":"N23","v":21111},{"$f":"COUNTIF(L36:L45,AI23)","v":0},{"$f":"AJ23/(AL4-AJ25)","v":0},{"$f":"IF(AK23=0,0,(AK23*((LOG(AK23))/LOG(2))))","v":0},null,{"$f":"N23","v":21111},{"$f":"COUNTIF(L46:L55,AN23)","v":0},{"$f":"AO23/(AQ4-AO25)","v":0},{"$f":"IF(AP23=0,0,(AP23*((LOG(AP23))/LOG(2))))","v":0},null,{"$f":"N23","v":21111},{"$f":"COUNTIF(L56:L65,AS23)","v":0},{"$f":"AT23/(AV4-AT25)","v":0},{"$f":"IF(AU23=0,0,(AU23*((LOG(AU23))/LOG(2))))","v":0}]
[12,2886,24,2902,13,2911,23,2921,13,2932,0,12121,null,21112,{"$f":"COUNTIF($L$7:$L$500,N24)","v":0},{"$f":"O24/$Q$4","v":0},{"$f":"IF(P24=0,0,(P24*((LOG(P24))/LOG(2))))","v":0},null,null,{"$f":"N24","v":21112},{"$f":"COUNTIF(L7:L16,T24)","v":0},{"$f":"U24/(W4-U25)","v":0},{"$f":"IF(V24=0,0,(V24*((LOG(V24))/LOG(2))))","v":0},null,{"$f":"N24","v":21112},{"$f":"COUNTIF(L17:L26,Y24)","v":0},{"$f":"Z24/(AB4-Z25)","v":0},{"$f":"IF(AA24=0,0,(AA24*((LOG(AA24))/LOG(2))))","v":0},null,{"$f":"N24","v":21112},{"$f":"COUNTIF(L27:L35,AD24)","v":0},{"$f":"AE24/(AG4-AE25)","v":0},{"$f":"IF(AF24=0,0,(AF24*((LOG(AF24))/LOG(2))))","v":0},null,{"$f":"N24","v":21112},{"$f":"COUNTIF(L36:L45,AI24)","v":0},{"$f":"AJ24/(AL4-AJ25)","v":0},{"$f":"IF(AK24=0,0,(AK24*((LOG(AK24))/LOG(2))))","v":0},null,{"$f":"N24","v":21112},{"$f":"COUNTIF(L46:L55,AN24)","v":0},{"$f":"AO24/(AQ4-AO25)","v":0},{"$f":"IF(AP24=0,0,(AP24*((LOG(AP24))/LOG(2))))","v":0},null,{"$f":"N24","v":21112},{"$f":"COUNTIF(L56:L65,AS24)","v":0},{"$f":"AT24/(AV4-AT25)","v":0},{"$f":"IF(AU24=0,0,(AU24*((LOG(AU24))/LOG(2))))","v":0}]
[21,3058,22,3078,13,3088,23,3099,24,3119,0,22122,null,21121,{"$f":"COUNTIF($L$7:$L$500,N25)","v":1},{"$f":"O25/$Q$4","v":1.7241379310344827E-2},{"$f":"IF(P25=0,0,(P25*((LOG(P25))/LOG(2))))","v":-0.10099967232978573},null,null,{"$f":"N25","v":21121},{"$f":"COUNTIF(L7:L16,T25)","v":1},null,null,null,{"$f":"N25","v":21121},{"$f":"COUNTIF(L17:L26,Y25)","v":0},null,null,null,{"$f":"N25","v":21121},{"$f":"COUNTIF(L27:L35,AD25)","v":0},null,null,null,{"$f":"N25","v":21121},{"$f":"COUNTIF(L36:L45,AI25)","v":0},null,null,null,{"$f":"N25","v":21121},{"$f":"COUNTIF(L46:L55,AN25)","v":0},null,null,null,{"$f":"N25","v":21121},{"$f":"COUNTIF(L56:L65,AS25)","v":0}]
[12,3229,13,3247,24,3254,14,3263,24,3272,0,11212,null,21122,{"$f":"COUNTIF($L$7:$L$500,N26)","v":0},{"$f":"O26/$Q$4","v":0},{"$f":"IF(P26=0,0,(P26*((LOG(P26))/LOG(2))))","v":0},null,null,{"$f":"N26","v":21122},{"$f":"COUNTIF(L7:L16,T26)","v":0},{"$f":"U26/(W4-U25)","v":0},{"$f":"IF(V26=0,0,(V26*((LOG(V26))/LOG(2))))","v":0},null,{"$f":"N26","v":21122},{"$f":"COUNTIF(L17:L26,Y26)","v":0},{"$f":"Z26/(AB4-Z25)","v":0},{"$f":"IF(AA26=0,0,(AA26*((LOG(AA26))/LOG(2))))","v":0},null,{"$f":"N26","v":21122},{"$f":"COUNTIF(L27:L35,AD26)","v":0},{"$f":"AE26/(AG4-AE25)","v":0},{"$f":"IF(AF26=0,0,(AF26*((LOG(AF26))/LOG(2))))","v":0},null,{"$f":"N26","v":21122},{"$f":"COUNTIF(L36:L45,AI26)","v":0},{"$f":"AJ26/(AL4-AJ25)","v":0},{"$f":"IF(AK26=0,0,(AK26*((LOG(AK26))/LOG(2))))","v":0},null,{"$f":"N26","v":21122},{"$f":"COUNTIF(L46:L55,AN26)","v":0},{"$f":"AO26/(AQ4-AO25)","v":0},{"$f":"IF(AP26=0,0,(AP26*((LOG(AP26))/LOG(2))))","v":0},null,{"$f":"N26","v":21122},{"$f":"COUNTIF(L56:L65,AS26)","v":0},{"$f":"AT26/(AV4-AT25)","v":0},{"$f":"IF(AU26=0,0,(AU26*((LOG(AU26))/LOG(2))))","v":0}]
[12,3385,13,3393,24,3402,14,3413,13,3452,0,11211,null,21211,{"$f":"COUNTIF($L$7:$L$500,N27)","v":0},{"$f":"O27/$Q$4","v":0},{"$f":"IF(P27=0,0,(P27*((LOG(P27))/LOG(2))))","v":0},null,null,{"$f":"N27","v":21211},{"$f":"COUNTIF(L7:L16,T27)","v":0},{"$f":"U27/(W4-U25)","v":0},{"$f":"IF(V27=0,0,(V27*((LOG(V27))/LOG(2))))","v":0},null,{"$f":"N27","v":21211},{"$f":"COUNTIF(L17:L26,Y27)","v":0},{"$f":"Z27/(AB4-Z25)","v":0},{"$f":"IF(AA27=0,0,(AA27*((LOG(AA27))/LOG(2))))","v":0},null,{"$f":"N27","v":21211},{"$f":"COUNTIF(L27:L35,AD27)","v":0},{"$f":"AE27/(AG4-AE25)","v":0},{"$f":"IF(AF27=0,0,(AF27*((LOG(AF27))/LOG(2))))","v":0},null,{"$f":"N27","v":21211},{"$f":"COUNTIF(L36:L45,AI27)","v":0},{"$f":"AJ27/(AL4-AJ25)","v":0},{"$f":"IF(AK27=0,0,(AK27*((LOG(AK27))/LOG(2))))","v":0},null,{"$f":"N27","v":21211},{"$f":"COUNTIF(L46:L55,AN27)","v":0},{"$f":"AO27/(AQ4-AO25)","v":0},{"$f":"IF(AP27=0,0,(AP27*((LOG(AP27))/LOG(2))))","v":0},null,{"$f":"N27","v":21211},{"$f":"COUNTIF(L56:L65,AS27)","v":0},{"$f":"AT27/(AV4-AT25)","v":0},{"$f":"IF(AU27=0,0,(AU27*((LOG(AU27))/LOG(2))))","v":0}]
[21,3841,11,3850,22,3859,14,3868,24,3878,0,21212,null,21212,{"$f":"COUNTIF($L$7:$L$500,N28)","v":9},{"$f":"O28/$Q$4","v":0.15517241379310345},{"$f":"IF(P28=0,0,(P28*((LOG(P28))/LOG(2))))","v":-0.41711213695116101},null,null,{"$f":"N28","v":21212},{"$f":"COUNTIF(L7:L16,T28)","v":1},{"$f":"U28/(W4-U25)","v":0.1111111111111111},{"$f":"IF(V28=0,0,(V28*((LOG(V28))/LOG(2))))","v":-0.3522138890491458},null,{"$f":"N28","v":21212},{"$f":"COUNTIF(L17:L26,Y28)","v":0},{"$f":"Z28/(AB4-Z25)","v":0},{"$f":"IF(AA28=0,0,(AA28*((LOG(AA28))/LOG(2))))","v":0},null,{"$f":"N28","v":21212},{"$f":"COUNTIF(L27:L35,AD28)","v":2},{"$f":"AE28/(AG4-AE25)","v":0.22222222222222221},{"$f":"IF(AF28=0,0,(AF28*((LOG(AF28))/LOG(2))))","v":-0.48220555587606945},null,{"$f":"N28","v":21212},{"$f":"COUNTIF(L36:L45,AI28)","v":3},{"$f":"AJ28/(AL4-AJ25)","v":0.3},{"$f":"IF(AK28=0,0,(AK28*((LOG(AK28))/LOG(2))))","v":-0.52108967824986185},null,{"$f":"N28","v":21212},{"$f":"COUNTIF(L46:L55,AN28)","v":1},{"$f":"AO28/(AQ4-AO25)","v":0.1},{"$f":"IF(AP28=0,0,(AP28*((LOG(AP28))/LOG(2))))","v":-0.33219280948873625},null,{"$f":"N28","v":21212},{"$f":"COUNTIF(L56:L65,AS28)","v":2},{"$f":"AT28/(AV4-AT25)","v":0.22222222222222221},{"$f":"IF(AU28=0,0,(AU28*((LOG(AU28))/LOG(2))))","v":-0.48220555587606945}]
[12,4006,24,4012,24,4029,14,4039,24,4049,0,12212,null,21221,{"$f":"COUNTIF($L$7:$L$500,N29)","v":0},{"$f":"O29/$Q$4","v":0},{"$f":"IF(P29=0,0,(P29*((LOG(P29))/LOG(2))))","v":0},null,null,{"$f":"N29","v":21221},{"$f":"COUNTIF(L7:L16,T29)","v":0},{"$f":"U29/(W4-U25)","v":0},{"$f":"IF(V29=0,0,(V29*((LOG(V29))/LOG(2))))","v":0},null,{"$f":"N29","v":21221},{"$f":"COUNTIF(L17:L26,Y29)","v":0},{"$f":"Z29/(AB4-Z25)","v":0},{"$f":"IF(AA29=0,0,(AA29*((LOG(AA29))/LOG(2))))","v":0},null,{"$f":"N29","v":21221},{"$f":"COUNTIF(L27:L35,AD29)","v":0},{"$f":"AE29/(AG4-AE25)","v":0},{"$f":"IF(AF29=0,0,(AF29*((LOG(AF29))/LOG(2))))","v":0},null,{"$f":"N29","v":21221},{"$f":"COUNTIF(L36:L45,AI29)","v":0},{"$f":"AJ29/(AL4-AJ25)","v":0},{"$f":"IF(AK29=0,0,(AK29*((LOG(AK29))/LOG(2))))","v":0},null,{"$f":"N29","v":21221},{"$f":"COUNTIF(L46:L55,AN29)","v":0},{"$f":"AO29/(AQ4-AO25)","v":0},{"$f":"IF(AP29=0,0,(AP29*((LOG(AP29))/LOG(2))))","v":0},null,{"$f":"N29","v":21221},{"$f":"COUNTIF(L56:L65,AS29)","v":0},{"$f":"AT29/(AV4-AT25)","v":0},{"$f":"IF(AU29=0,0,(AU29*((LOG(AU29))/LOG(2))))","v":0}]
[12,4171,13,4180,13,4194,23,4205,13,4215,0,11121,null,21222,{"$f":"COUNTIF($L$7:$L$500,N30)","v":0},{"$f":"O30/$Q$4","v":0},{"$f":"IF(P30=0,0,(P30*((LOG(P30))/LOG(2))))","v":0},null,null,{"$f":"N30","v":21222},{"$f":"COUNTIF(L7:L16,T30)","v":0},{"$f":"U30/(W4-U25)","v":0},{"$f":"IF(V30=0,0,(V30*((LOG(V30))/LOG(2))))","v":0},null,{"$f":"N30","v":21222},{"$f":"COUNTIF(L17:L26,Y30)","v":0},{"$f":"Z30/(AB4-Z25)","v":0},{"$f":"IF(AA30=0,0,(AA30*((LOG(AA30))/LOG(2))))","v":0},null,{"$f":"N30","v":21222},{"$f":"COUNTIF(L27:L35,AD30)","v":0},{"$f":"AE30/(AG4-AE25)","v":0},{"$f":"IF(AF30=0,0,(AF30*((LOG(AF30))/LOG(2))))","v":0},null,{"$f":"N30","v":21222},{"$f":"COUNTIF(L36:L45,AI30)","v":0},{"$f":"AJ30/(AL4-AJ25)","v":0},{"$f":"IF(AK30=0,0,(AK30*((LOG(AK30))/LOG(2))))","v":0},null,{"$f":"N30","v":21222},{"$f":"COUNTIF(L46:L55,AN30)","v":0},{"$f":"AO30/(AQ4-AO25)","v":0},{"$f":"IF(AP30=0,0,(AP30*((LOG(AP30))/LOG(2))))","v":0},null,{"$f":"N30","v":21222},{"$f":"COUNTIF(L56:L65,AS30)","v":0},{"$f":"AT30/(AV4-AT25)","v":0},{"$f":"IF(AU30=0,0,(AU30*((LOG(AU30))/LOG(2))))","v":0}]
[12,4327,24,4340,13,4349,23,4358,13,4371,0,12121,null,22111,{"$f":"COUNTIF($L$7:$L$500,N31)","v":0},{"$f":"O31/$Q$4","v":0},{"$f":"IF(P31=0,0,(P31*((LOG(P31))/LOG(2))))","v":0},null,null,{"$f":"N31","v":22111},{"$f":"COUNTIF(L7:L16,T31)","v":0},{"$f":"U31/(W4-U25)","v":0},{"$f":"IF(V31=0,0,(V31*((LOG(V31))/LOG(2))))","v":0},null,{"$f":"N31","v":22111},{"$f":"COUNTIF(L17:L26,Y31)","v":0},{"$f":"Z31/(AB4-Z25)","v":0},{"$f":"IF(AA31=0,0,(AA31*((LOG(AA31))/LOG(2))))","v":0},null,{"$f":"N31","v":22111},{"$f":"COUNTIF(L27:L35,AD31)","v":0},{"$f":"AE31/(AG4-AE25)","v":0},{"$f":"IF(AF31=0,0,(AF31*((LOG(AF31))/LOG(2))))","v":0},null,{"$f":"N31","v":22111},{"$f":"COUNTIF(L36:L45,AI31)","v":0},{"$f":"AJ31/(AL4-AJ25)","v":0},{"$f":"IF(AK31=0,0,(AK31*((LOG(AK31))/LOG(2))))","v":0},null,{"$f":"N31","v":22111},{"$f":"COUNTIF(L46:L55,AN31)","v":0},{"$f":"AO31/(AQ4-AO25)","v":0},{"$f":"IF(AP31=0,0,(AP31*((LOG(AP31))/LOG(2))))","v":0},null,{"$f":"N31","v":22111},{"$f":"COUNTIF(L56:L65,AS31)","v":0},{"$f":"AT31/(AV4-AT25)","v":0},{"$f":"IF(AU31=0,0,(AU31*((LOG(AU31))/LOG(2))))","v":0}]
[12,4501,24,4509,13,4518,23,4528,24,4547,0,12122,null,22112,{"$f":"COUNTIF($L$7:$L$500,N32)","v":0},{"$f":"O32/$Q$4","v":0},{"$f":"IF(P32=0,0,(P32*((LOG(P32))/LOG(2))))","v":0},null,null,{"$f":"N32","v":22112},{"$f":"COUNTIF(L7:L16,T32)","v":0},{"$f":"U32/(W4-U25)","v":0},{"$f":"IF(V32=0,0,(V32*((LOG(V32))/LOG(2))))","v":0},null,{"$f":"N32","v":22112},{"$f":"COUNTIF(L17:L26,Y32)","v":0},{"$f":"Z32/(AB4-Z25)","v":0},{"$f":"IF(AA32=0,0,(AA32*((LOG(AA32))/LOG(2))))","v":0},null,{"$f":"N32","v":22112},{"$f":"COUNTIF(L27:L35,AD32)","v":0},{"$f":"AE32/(AG4-AE25)","v":0},{"$f":"IF(AF32=0,0,(AF32*((LOG(AF32))/LOG(2))))","v":0},null,{"$f":"N32","v":22112},{"$f":"COUNTIF(L36:L45,AI32)","v":0},{"$f":"AJ32/(AL4-AJ25)","v":0},{"$f":"IF(AK32=0,0,(AK32*((LOG(AK32))/LOG(2))))","v":0},null,{"$f":"N32","v":22112},{"$f":"COUNTIF(L46:L55,AN32)","v":0},{"$f":"AO32/(AQ4-AO25)","v":0},{"$f":"IF(AP32=0,0,(AP32*((LOG(AP32))/LOG(2))))","v":0},null,{"$f":"N32","v":22112},{"$f":"COUNTIF(L56:L65,AS32)","v":0},{"$f":"AT32/(AV4-AT25)","v":0},{"$f":"IF(AU32=0,0,(AU32*((LOG(AU32))/LOG(2))))","v":0}]
[12,4705,24,4714,13,4723,23,4732,13,4742,0,12121,null,22121,{"$f":"COUNTIF($L$7:$L$500,N33)","v":1},{"$f":"O33/$Q$4","v":1.7241379310344827E-2},{"$f":"IF(P33=0,0,(P33*((LOG(P33))/LOG(2))))","v":-0.10099967232978573},null,null,{"$f":"N33","v":22121},{"$f":"COUNTIF(L7:L16,T33)","v":1},{"$f":"U33/(W4-U25)","v":0.1111111111111111},{"$f":"IF(V33=0,0,(V33*((LOG(V33))/LOG(2))))","v":-0.3522138890491458},null,{"$f":"N33","v":22121},{"$f":"COUNTIF(L17:L26,Y33)","v":0},{"$f":"Z33/(AB4-Z25)","v":0},{"$f":"IF(AA33=0,0,(AA33*((LOG(AA33))/LOG(2))))","v":0},null,{"$f":"N33","v":22121},{"$f":"COUNTIF(L27:L35,AD33)","v":0},{"$f":"AE33/(AG4-AE25)","v":0},{"$f":"IF(AF33=0,0,(AF33*((LOG(AF33))/LOG(2))))","v":0},null,{"$f":"N33","v":22121},{"$f":"COUNTIF(L36:L45,AI33)","v":0},{"$f":"AJ33/(AL4-AJ25)","v":0},{"$f":"IF(AK33=0,0,(AK33*((LOG(AK33))/LOG(2))))","v":0},null,{"$f":"N33","v":22121},{"$f":"COUNTIF(L46:L55,AN33)","v":0},{"$f":"AO33/(AQ4-AO25)","v":0},{"$f":"IF(AP33=0,0,(AP33*((LOG(AP33))/LOG(2))))","v":0},null,{"$f":"N33","v":22121},{"$f":"COUNTIF(L56:L65,AS33)","v":0},{"$f":"AT33/(AV4-AT25)","v":0},{"$f":"IF(AU33=0,0,(AU33*((LOG(AU33))/LOG(2))))","v":0}]
[21,5036,11,5046,22,5055,14,5069,24,5082,0,21212,null,22122,{"$f":"COUNTIF($L$7:$L$500,N34)","v":1},{"$f":"O34/$Q$4","v":1.7241379310344827E-2},{"$f":"IF(P34=0,0,(P34*((LOG(P34))/LOG(2))))","v":-0.10099967232978573},null,null,{"$f":"N34","v":22122},{"$f":"COUNTIF(L7:L16,T34)","v":0},{"$f":"U34/(W4-U25)","v":0},{"$f":"IF(V34=0,0,(V34*((LOG(V34))/LOG(2))))","v":0},null,{"$f":"N34","v":22122},{"$f":"COUNTIF(L17:L26,Y34)","v":1},{"$f":"Z34/(AB4-Z25)","v":0.1},{"$f":"IF(AA34=0,0,(AA34*((LOG(AA34))/LOG(2))))","v":-0.33219280948873625},null,{"$f":"N34","v":22122},{"$f":"COUNTIF(L27:L35,AD34)","v":0},{"$f":"AE34/(AG4-AE25)","v":0},{"$f":"IF(AF34=0,0,(AF34*((LOG(AF34))/LOG(2))))","v":0},null,{"$f":"N34","v":22122},{"$f":"COUNTIF(L36:L45,AI34)","v":0},{"$f":"AJ34/(AL4-AJ25)","v":0},{"$f":"IF(AK34=0,0,(AK34*((LOG(AK34))/LOG(2))))","v":0},null,{"$f":"N34","v":22122},{"$f":"COUNTIF(L46:L55,AN34)","v":0},{"$f":"AO34/(AQ4-AO25)","v":0},{"$f":"IF(AP34=0,0,(AP34*((LOG(AP34))/LOG(2))))","v":0},null,{"$f":"N34","v":22122},{"$f":"COUNTIF(L56:L65,AS34)","v":0},{"$f":"AT34/(AV4-AT25)","v":0},{"$f":"IF(AU34=0,0,(AU34*((LOG(AU34))/LOG(2))))","v":0}]
[12,5214,24,5223,13,5233,23,5244,13,5259,0,12121,null,22211,{"$f":"COUNTIF($L$7:$L$500,N35)","v":0},{"$f":"O35/$Q$4","v":0},{"$f":"IF(P35=0,0,(P35*((LOG(P35))/LOG(2))))","v":0},null,null,{"$f":"N35","v":22211},{"$f":"COUNTIF(L7:L16,T35)","v":0},{"$f":"U35/(W4-U25)","v":0},{"$f":"IF(V35=0,0,(V35*((LOG(V35))/LOG(2))))","v":0},null,{"$f":"N35","v":22211},{"$f":"COUNTIF(L17:L26,Y35)","v":0},{"$f":"Z35/(AB4-Z25)","v":0},{"$f":"IF(AA35=0,0,(AA35*((LOG(AA35))/LOG(2))))","v":0},null,{"$f":"N35","v":22211},{"$f":"COUNTIF(L27:L35,AD35)","v":0},{"$f":"AE35/(AG4-AE25)","v":0},{"$f":"IF(AF35=0,0,(AF35*((LOG(AF35))/LOG(2))))","v":0},null,{"$f":"N35","v":22211},{"$f":"COUNTIF(L36:L45,AI35)","v":0},{"$f":"AJ35/(AL4-AJ25)","v":0},{"$f":"IF(AK35=0,0,(AK35*((LOG(AK35))/LOG(2))))","v":0},null,{"$f":"N35","v":22211},{"$f":"COUNTIF(L46:L55,AN35)","v":0},{"$f":"AO35/(AQ4-AO25)","v":0},{"$f":"IF(AP35=0,0,(AP35*((LOG(AP35))/LOG(2))))","v":0},null,{"$f":"N35","v":22211},{"$f":"COUNTIF(L56:L65,AS35)","v":0},{"$f":"AT35/(AV4-AT25)","v":0},{"$f":"IF(AU35=0,0,(AU35*((LOG(AU35))/LOG(2))))","v":0}]
[12,5363,24,5375,13,5383,23,5390,13,5401,0,12121,null,22212,{"$f":"COUNTIF($L$7:$L$500,N36)","v":2},{"$f":"O36/$Q$4","v":3.4482758620689655E-2},{"$f":"IF(P36=0,0,(P36*((LOG(P36))/LOG(2))))","v":-0.16751658603888178},null,null,{"$f":"N36","v":22212},{"$f":"COUNTIF(L7:L16,T36)","v":0},{"$f":"U36/(W4-U25)","v":0},{"$f":"IF(V36=0,0,(V36*((LOG(V36))/LOG(2))))","v":0},null,{"$f":"N36","v":22212},{"$f":"COUNTIF(L17:L26,Y36)","v":0},{"$f":"Z36/(AB4-Z25)","v":0},{"$f":"IF(AA36=0,0,(AA36*((LOG(AA36))/LOG(2))))","v":0},null,{"$f":"N36","v":22212},{"$f":"COUNTIF(L27:L35,AD36)","v":0},{"$f":"AE36/(AG4-AE25)","v":0},{"$f":"IF(AF36=0,0,(AF36*((LOG(AF36))/LOG(2))))","v":0},null,{"$f":"N36","v":22212},{"$f":"COUNTIF(L36:L45,AI36)","v":0},{"$f":"AJ36/(AL4-AJ25)","v":0},{"$f":"IF(AK36=0,0,(AK36*((LOG(AK36))/LOG(2))))","v":0},null,{"$f":"N36","v":22212},{"$f":"COUNTIF(L46:L55,AN36)","v":1},{"$f":"AO36/(AQ4-AO25)","v":0.1},{"$f":"IF(AP36=0,0,(AP36*((LOG(AP36))/LOG(2))))","v":-0.33219280948873625},null,{"$f":"N36","v":22212},{"$f":"COUNTIF(L56:L65,AS36)","v":1},{"$f":"AT36/(AV4-AT25)","v":0.1111111111111111},{"$f":"IF(AU36=0,0,(AU36*((LOG(AU36))/LOG(2))))","v":-0.3522138890491458}]
[21,5573,11,5582,22,5592,14,5607,24,5617,0,21212,null,22221,{"$f":"COUNTIF($L$7:$L$500,N37)","v":0},{"$f":"O37/$Q$4","v":0},{"$f":"IF(P37=0,0,(P37*((LOG(P37))/LOG(2))))","v":0},null,null,{"$f":"N37","v":22221},{"$f":"COUNTIF(L7:L16,T37)","v":0},{"$f":"U37/(W4-U25)","v":0},{"$f":"IF(V37=0,0,(V37*((LOG(V37))/LOG(2))))","v":0},null,{"$f":"N37","v":22221},{"$f":"COUNTIF(L17:L26,Y37)","v":0},{"$f":"Z37/(AB4-Z25)","v":0},{"$f":"IF(AA37=0,0,(AA37*((LOG(AA37))/LOG(2))))","v":0},null,{"$f":"N37","v":22221},{"$f":"COUNTIF(L27:L35,AD37)","v":0},{"$f":"AE37/(AG4-AE25)","v":0},{"$f":"IF(AF37=0,0,(AF37*((LOG(AF37))/LOG(2))))","v":0},null,{"$f":"N37","v":22221},{"$f":"COUNTIF(L36:L45,AI37)","v":0},{"$f":"AJ37/(AL4-AJ25)","v":0},{"$f":"IF(AK37=0,0,(AK37*((LOG(AK37))/LOG(2))))","v":0},null,{"$f":"N37","v":22221},{"$f":"COUNTIF(L46:L55,AN37)","v":0},{"$f":"AO37/(AQ4-AO25)","v":0},{"$f":"IF(AP37=0,0,(AP37*((LOG(AP37))/LOG(2))))","v":0},null,{"$f":"N37","v":22221},{"$f":"COUNTIF(L56:L65,AS37)","v":0},{"$f":"AT37/(AV4-AT25)","v":0},{"$f":"IF(AU37=0,0,(AU37*((LOG(AU37))/LOG(2))))","v":0}]
[12,5729,13,5751,24,5761,14,5773,24,5783,0,11212,null,22222,{"$f":"COUNTIF($L$7:$L$500,N38)","v":0},{"$f":"O38/$Q$4","v":0},{"$f":"IF(P38=0,0,(P38*((LOG(P38))/LOG(2))))","v":0},null,null,{"$f":"N38","v":22222},{"$f":"COUNTIF(L7:L16,T38)","v":0},{"$f":"U38/(W4-U25)","v":0},{"$f":"IF(V38=0,0,(V38*((LOG(V38))/LOG(2))))","v":0},null,{"$f":"N38","v":22222},{"$f":"COUNTIF(L17:L26,Y38)","v":0},{"$f":"Z38/(AB4-Z25)","v":0},{"$f":"IF(AA38=0,0,(AA38*((LOG(AA38))/LOG(2))))","v":0},null,{"$f":"N38","v":22222},{"$f":"COUNTIF(L27:L35,AD38)","v":0},{"$f":"AE38/(AG4-AE25)","v":0},{"$f":"IF(AF38=0,0,(AF38*((LOG(AF38))/LOG(2))))","v":0},null,{"$f":"N38","v":22222},{"$f":"COUNTIF(L36:L45,AI38)","v":0},{"$f":"AJ38/(AL4-AJ25)","v":0},{"$f":"IF(AK38=0,0,(AK38*((LOG(AK38))/LOG(2))))","v":0},null,{"$f":"N38","v":22222},{"$f":"COUNTIF(L46:L55,AN38)","v":0},{"$f":"AO38/(AQ4-AO25)","v":0},{"$f":"IF(AP38=0,0,(AP38*((LOG(AP38))/LOG(2))))","v":0},null,{"$f":"N38","v":22222},{"$f":"COUNTIF(L56:L65,AS38)","v":0},{"$f":"AT38/(AV4-AT25)","v":0},{"$f":"IF(AU38=0,0,(AU38*((LOG(AU38))/LOG(2))))","v":0}]
[21,5930,11,5941,22,5950,14,5959,24,5969,0,21212,null,null,null,{"$f":"SUM(P7:P38)","v":1.0000000000000002},{"$f":"-SUM(Q7:Q38)","v":3.524942419659447},null,null,null,null,{"$f":"SUM(V7:V38)","v":1},{"$f":"-SUM(W7:W38)","v":2.1971597234241491},null,null,null,{"$f":"SUM(AA7:AA38)","v":1},{"$f":"-SUM(AB7:AB38)","v":2.6464393446710153},null,null,null,{"$f":"SUM(AF7:AF38)","v":1},{"$f":"-SUM(AG7:AG38)","v":2.4193819456463714},null,null,null,{"$f":"SUM(AK7:AK38)","v":1},{"$f":"-SUM(AL7:AL38)","v":2.3709505944546687},null,null,null,{"$f":"SUM(AP7:AP38)","v":1},{"$f":"-SUM(AQ7:AQ38)","v":2.7219280948873621},null,null,null,{"$f":"SUM(AU7:AU38)","v":1},{"$f":"-SUM(AV7:AV38)","v":2.725480556997868}]
[12,6292,13,6303,24,6313,14,6328,24,6339,0,11212,null,null,null,"U=",{"$f":"Q39/(LOG(Q4)/LOG(2))","v":0.60173333143131558},null,null,null,null,"U1=",{"$f":"W39/(LOG(W4)/LOG(2))","v":0.66141098201544579},null,null,null,"U2=",{"$f":"AB39/(LOG(AB4)/LOG(2))","v":0.79665762445130506},null,null,null,"U3=",{"$f":"AG39/(LOG(AG4)/LOG(2))","v":0.76323002738094925},null,null,null,"U4=",{"$f":"AL39/(LOG(AL4)/LOG(2))","v":0.71372724716820257},null,null,null,"U5=",{"$f":"AQ39/(LOG(AQ4)/LOG(2))","v":0.8193820026016112},null,null,null,"U6=",{"$f":"AV39/(LOG(AV4)/LOG(2))","v":0.85979338809523176}]
[12,6452,13,6461,13,6475,14,6490,24,6499,0,11112]
[21,6682,11,6695,22,6708,14,6719,24,6730,0,21212]
[12,6857,24,6869,24,6887,14,6900,24,6919,0,12212,null,"Total Target Seq"]
[12,7087,13,7107,24,7116,14,7131,24,7144,0,11212,null,{"$f":"COUNTIF(L7:L65,G3)","v":1},null,10,10,9,10,10,10]
[12,7296,13,7305,13,7317,14,7328,13,7344,0,11111,null,null,null,"% of reinforcement given in 6 equal intervals based on number of trials "]
[21,7491,11,7500,22,7509,14,7523,24,7534,0,21212,null,null,null,"%_1","%_2","%_3","%_4","%_5","%_6"]
[12,7845,24,7851,24,7868,14,7879,24,7889,0,12212,null,null,"target sequence",{"$f":"$G$3","v":21121},{"$f":"$G$3","v":21121},{"$f":"$G$3","v":21121},{"$f":"$G$3","v":21121},{"$f":"$G$3","v":21121},{"$f":"$G$3","v":21121}]
[12,8037,24,8060,13,8071,23,8081,24,8100,0,12122,null,null,"total reinforcement",{"$f":"U25","v":1},{"$f":"Z25","v":0},{"$f":"AE25","v":0},{"$f":"AJ25","v":0},{"$f":"AO25","v":0},{"$f":"AT25","v":0}]
[12,8326,13,8336,13,8348,23,8358,13,8368,0,11121,null,null,"% target"]
[12,8554,24,8563,13,8633,23,8643,24,8666,0,12122,null,null,"CCRF"]
[12,8809,13,8827,13,8847,23,8857,13,8870,0,11121,null,null,"% CCRf"]
[12,9052,13,9071,24,9108,14,9122,24,9131,0,11212,null,null,"average response rate",{"$f":"J16/P44","v":164},{"$f":"(J26-J16)/Q44","v":163.19999999999999},{"$f":"(J35-J26)/R44","v":220.77777777777777},{"$f":"(J45-J35)/S44","v":208.5},{"$f":"(J55-J45)/T44","v":395.9},{"$f":"(J65-J55)/U44","v":-1130.3}]
[21,9463,22,9485,24,9516,14,9532,24,9542,0,22212]
[12,10638,13,10647,24,10662,23,10704,13,10716,0,11221]
[12,10981,24,11225,24,11254,14,11292,24,11303,0,12212]
[21,11440,11,11685,22,11695,14,11724,24,11734,0,21212]
[12,11924,24,11950,24,11966,23,11976,13,11987,0,12221]
[12,12186,24,12197,24,12247,14,12263,24,12273,0,12212]
[12,12545,13,12553,24,12564,14,12580,24,12589,0,11212]
[21,13791,22,13805,24,13818,14,13871,24,13882,0,22212]
[12,16481,13,19468,13,19477,14,19498,13,19508,0,11111]
[12,20046,24,20059,13,20072,23,20085,24,20114,0,12122]
[21,20245,11,20271,22,20305,14,20321,24,20331,0,21212]
[12,21253,24,21266,24,21282,23,21307,13,21328,0,12221]
[12,21810,13,21821,null,null,null,null,null,null,null,11]

{"sheet":"!N105A10.105","index":7,"n_rows":52,"n_cols":48,"rows_kept":52,"cut":false,"hidden":false,"merged":[[4,39,4,42],[5,39,5,40],[4,44,4,47],[5,44,5,45],[4,24,4,27],[5,24,5,25],[4,29,4,32],[5,29,5,30],[4,34,4,37],[5,34,5,35],[1,1,1,2],[5,13,5,14],[42,13,42,14],[43,13,43,14],[4,19,4,22],[5,19,5,20]]}
["Report for:!N105A10.105"]
["Date:","<date>"]
["Hen:","<hen>",null,null,null,"Correct Sequence",{"$f":"Start!J2","v":21121},null,null,null,null,null,null,null,null,"Total Sequences in Data",{"$f":"4994-COUNTBLANK(L7:L5000)","v":20},null,null,null,null,"Total Sequences in Block Data",{"$f":"COUNTA(L7:L9)","v":3},null,null,null,"Total Sequences in Block Data",{"$f":"COUNTA(L10:L13)","v":4},null,null,null,"Total Sequences in Block Data",{"$f":"COUNTA(L14:L16)","v":3},null,null,null,"Total Sequences in Block Data",{"$f":"COUNTA(L17:L19)","v":3},null,null,null,"Total Sequences in Block Data",{"$f":"COUNTA(L20:L23)","v":4},null,null,null,"Total Sequences in Block Data",{"$f":"COUNTA(L24:L26)","v":3}]
[null,null,null,null,null,null,null,null,null,null,null,null,null,null,null,"Total Sequences in Summary",{"$f":"SUM(O7:O38)","v":19},null,null,null,null,"Total Sequences in Block Summary",{"$f":"SUM(U7:U38)","v":3},null,null,null,"Total Sequences in Block Summary",{"$f":"SUM(Z7:Z38)","v":4},null,null,null,"Total Sequences in Block Summary",{"$f":"SUM(AE7:AE38)","v":3},null,null,null,"Total Sequences in Block Summary",{"$f":"SUM(AJ7:AJ38)","v":3},null,null,null,"Total Sequences in Block Summary",{"$f":"SUM(AO7:AO38)","v":4},null,null,null,"Total Sequences in Block Summary",{"$f":"SUM(AT7:AT38)","v":2}]
[null,null,null,null,null,null,null,null,null,null,null,null,null,null,null,null,null,null,null,"Block 1",null,null,null,null,"Block 2",null,null,null,null,"Block 3",null,null,null,null,"Block 4",null,null,null,null,"Block 5",null,null,null,null,"Block 6"]
["Sequence\nComponent\n1","Time\n1","Sequence\nComponent\n2","Time\n2","Sequence\nComponent\n3","Time\n3","Sequence\nComponent\n4","Time\n4","Sequence\nComponent\n5","Time\n5","Correct?\n0=No 1=Yes","Sequence",null,"Frequency",null,"Relative Frequency","Variability",null,null,"Frequency",null,"Relative Frequency","Variability",null,"Frequency",null,"Relative Frequency","Variability",null,"Frequency",null,"Relative Frequency","Variability",null,"Frequency",null,"Relative Frequency","Variability",null,"Frequency",null,"Relative Frequency","Variability",null,"Frequency",null,"Relative Frequency","Variability"]
[21,31,22,52,24,76,23,84,24,114,0,22222,null,11111,{"$f":"COUNTIF($L$7:$L$500,N7)","v":1},{"$f":"O7/$Q$4","v":5.2631578947368418E-2},{"$f":"IF(P7=0,0,(P7*((LOG(P7))/LOG(2))))","v":-0.22357513228650452},null,null,{"$f":"N7","v":11111},{"$f":"COUNTIF(L7:L9,T7)","v":0},{"$f":"U7/(W4-U25)","v":0},{"$f":"IF(V7=0,0,(V7*((LOG(V7))/LOG(2))))","v":0},null,{"$f":"N7","v":11111},{"$f":"COUNTIF(L10:L13,Y7)","v":1},{"$f":"Z7/(AB4-Z25)","v":0.25},{"$f":"IF(AA7=0,0,(AA7*((LOG(AA7))/LOG(2))))","v":-0.5},null,{"$f":"N7","v":11111},{"$f":"COUNTIF(L14:L16,AD7)","v":0},{"$f":"AE7/(AG4-AE25)","v":0},{"$f":"IF(AF7=0,0,(AF7*((LOG(AF7))/LOG(2))))","v":0},null,{"$f":"N7","v":11111},{"$f":"COUNTIF(L17:L19,AI7)","v":0},{"$f":"AJ7/(AL4-AJ25)","v":0},{"$f":"IF(AK7=0,0,(AK7*((LOG(AK7))/LOG(2))))","v":0},null,{"$f":"N7","v":11111},{"$f":"COUNTIF(L20:L23,AN7)","v":0},{"$f":"AO7/(AQ4-AO25)","v":0},{"$f":"IF(AP7=0,0,(AP7*((LOG(AP7))/LOG(2))))","v":0},null,{"$f":"N7","v":11111},{"$f":"COUNTIF(L24:L26,AS7)","v":0},{"$f":"AT7/(AV4-AT25)","v":0},{"$f":"IF(AU7=0,0,(AU7*((LOG(AU7))/LOG(2))))","v":0}]
[12,231,24,240,24,258,14,280,24,290,0,12212,null,11112,{"$f":"COUNTIF($L$7:$L$500,N8)","v":0},{"$f":"O8/$Q$4","v":0},{"$f":"IF(P8=0,0,(P8*((LOG(P8))/LOG(2))))","v":0},null,null,{"$f":"N8","v":11112},{"$f":"COUNTIF(L7:L9,T8)","v":0},{"$f":"U8/(W4-U25)","v":0},{"$f":"IF(V8=0,0,(V8*((LOG(V8))/LOG(2))))","v":0},null,{"$f":"N8","v":11112},{"$f":"COUNTIF(L10:L13,Y8)","v":0},{"$f":"Z8/(AB4-Z25)","v":0},{"$f":"IF(AA8=0,0,(AA8*((LOG(AA8))/LOG(2))))","v":0},null,{"$f":"N8","v":11112},{"$f":"COUNTIF(L14:L16,AD8)","v":0},{"$f":"AE8/(AG4-AE25)","v":0},{"$f":"IF(AF8=0,0,(AF8*((LOG(AF8))/LOG(2))))","v":0},null,{"$f":"N8","v":11112},{"$f":"COUNTIF(L17:L19,AI8)","v":0},{"$f":"AJ8/(AL4-AJ25)","v":0},{"$f":"IF(AK8=0,0,(AK8*((LOG(AK8))/LOG(2))))","v":0},null,{"$f":"N8","v":11112},{"$f":"COUNTIF(L20:L23,AN8)","v":0},{"$f":"AO8/(AQ4-AO25)","v":0},{"$f":"IF(AP8=0,0,(AP8*((LOG(AP8))/LOG(2))))","v":0},null,{"$f":"N8","v":11112},{"$f":"COUNTIF(L24:L26,AS8)","v":0},{"$f":"AT8/(AV4-AT25)","v":0},{"$f":"IF(AU8=0,0,(AU8*((LOG(AU8))/LOG(2))))","v":0}]
[12,393,24,455,13,470,14,480,13,543,0,12111,null,11121,{"$f":"COUNTIF($L$7:$L$500,N9)","v":0},{"$f":"O9/$Q$4","v":0},{"$f":"IF(P9=0,0,(P9*((LOG(P9))/LOG(2))))","v":0},null,null,{"$f":"N9","v":11121},{"$f":"COUNTIF(L7:L9,T9)","v":0},{"$f":"U9/(W4-U25)","v":0},{"$f":"IF(V9=0,0,(V9*((LOG(V9))/LOG(2))))","v":0},null,{"$f":"N9","v":11121},{"$f":"COUNTIF(L10:L13,Y9)","v":0},{"$f":"Z9/(AB4-Z25)","v":0},{"$f":"IF(AA9=0,0,(AA9*((LOG(AA9))/LOG(2))))","v":0},null,{"$f":"N9","v":11121},{"$f":"COUNTIF(L14:L16,AD9)","v":0},{"$f":"AE9/(AG4-AE25)","v":0},{"$f":"IF(AF9=0,0,(AF9*((LOG(AF9))/LOG(2))))","v":0},null,{"$f":"N9","v":11121},{"$f":"COUNTIF(L17:L19,AI9)","v":0},{"$f":"AJ9/(AL4-AJ25)","v":0},{"$f":"IF(AK9=0,0,(AK9*((LOG(AK9))/LOG(2))))","v":0},null,{"$f":"N9","v":11121},{"$f":"COUNTIF(L20:L23,AN9)","v":0},{"$f":"AO9/(AQ4-AO25)","v":0},{"$f":"IF(AP9=0,0,(AP9*((LOG(AP9))/LOG(2))))","v":0},null,{"$f":"N9","v":11121},{"$f":"COUNTIF(L24:L26,AS9)","v":0},{"$f":"AT9/(AV4-AT25)","v":0},{"$f":"IF(AU9=0,0,(AU9*((LOG(AU9))/LOG(2))))","v":0}]
[12,651,13,666,13,677,14,726,13,757,0,11111,null,11122,{"$f":"COUNTIF($L$7:$L$500,N10)","v":1},{"$f":"O10/$Q$4","v":5.2631578947368418E-2},{"$f":"IF(P10=0,0,(P10*((LOG(P10))/LOG(2))))","v":-0.22357513228650452},null,null,{"$f":"N10","v":11122},{"$f":"COUNTIF(L7:L9,T10)","v":0},{"$f":"U10/(W4-U25)","v":0},{"$f":"IF(V10=0,0,(V10*((LOG(V10))/LOG(2))))","v":0},null,{"$f":"N10","v":11122},{"$f":"COUNTIF(L10:L13,Y10)","v":0},{"$f":"Z10/(AB4-Z25)","v":0},{"$f":"IF(AA10=0,0,(AA10*((LOG(AA10))/LOG(2))))","v":0},null,{"$f":"N10","v":11122},{"$f":"COUNTIF(L14:L16,AD10)","v":0},{"$f":"AE10/(AG4-AE25)","v":0},{"$f":"IF(AF10=0,0,(AF10*((LOG(AF10))/LOG(2))))","v":0},null,{"$f":"N10","v":11122},{"$f":"COUNTIF(L17:L19,AI10)","v":0},{"$f":"AJ10/(AL4-AJ25)","v":0},{"$f":"IF(AK10=0,0,(AK10*((LOG(AK10))/LOG(2))))","v":0},null,{"$f":"N10","v":11122},{"$f":"COUNTIF(L20:L23,AN10)","v":1},{"$f":"AO10/(AQ4-AO25)","v":0.25},{"$f":"IF(AP10=0,0,(AP10*((LOG(AP10))/LOG(2))))","v":-0.5},null,{"$f":"N10","v":11122},{"$f":"COUNTIF(L24:L26,AS10)","v":0},{"$f":"AT10/(AV4-AT25)","v":0},{"$f":"IF(AU10=0,0,(AU10*((LOG(AU10))/LOG(2))))","v":0}]
[21,962,11,973,22,982,23,995,24,1014,0,21222,null,11211,{"$f":"COUNTIF($L$7:$L$500,N11)","v":0},{"$f":"O11/$Q$4","v":0},{"$f":"IF(P11=0,0,(P11*((LOG(P11))/LOG(2))))","v":0},null,null,{"$f":"N11","v":11211},{"$f":"COUNTIF(L7:L9,T11)","v":0},{"$f":"U11/(W4-U25)","v":0},{"$f":"IF(V11=0,0,(V11*((LOG(V11))/LOG(2))))","v":0},null,{"$f":"N11","v":11211},{"$f":"COUNTIF(L10:L13,Y11)","v":0},{"$f":"Z11/(AB4-Z25)","v":0},{"$f":"IF(AA11=0,0,(AA11*((LOG(AA11))/LOG(2))))","v":0},null,{"$f":"N11","v":11211},{"$f":"COUNTIF(L14:L16,AD11)","v":0},{"$f":"AE11/(AG4-AE25)","v":0},{"$f":"IF(AF11=0,0,(AF11*((LOG(AF11))/LOG(2))))","v":0},null,{"$f":"N11","v":11211},{"$f":"COUNTIF(L17:L19,AI11)","v":0},{"$f":"AJ11/(AL4-AJ25)","v":0},{"$f":"IF(AK11=0,0,(AK11*((LOG(AK11))/LOG(2))))","v":0},null,{"$f":"N11","v":11211},{"$f":"COUNTIF(L20:L23,AN11)","v":0},{"$f":"AO11/(AQ4-AO25)","v":0},{"$f":"IF(AP11=0,0,(AP11*((LOG(AP11))/LOG(2))))","v":0},null,{"$f":"N11","v":11211},{"$f":"COUNTIF(L24:L26,AS11)","v":0},{"$f":"AT11/(AV4-AT25)","v":0},{"$f":"IF(AU11=0,0,(AU11*((LOG(AU11))/LOG(2))))","v":0}]
[21,1160,11,1170,22,1176,23,1196,24,1206,0,21222,null,11212,{"$f":"COUNTIF($L$7:$L$500,N12)","v":0},{"$f":"O12/$Q$4","v":0},{"$f":"IF(P12=0,0,(P12*((LOG(P12))/LOG(2))))","v":0},null,null,{"$f":"N12","v":11212},{"$f":"COUNTIF(L7:L9,T12)","v":0},{"$f":"U12/(W4-U25)","v":0},{"$f":"IF(V12=0,0,(V12*((LOG(V12))/LOG(2))))","v":0},null,{"$f":"N12","v":11212},{"$f":"COUNTIF(L10:L13,Y12)","v":0},{"$f":"Z12/(AB4-Z25)","v":0},{"$f":"IF(AA12=0,0,(AA12*((LOG(AA12))/LOG(2))))","v":0},null,{"$f":"N12","v":11212},{"$f":"COUNTIF(L14:L16,AD12)","v":0},{"$f":"AE12/(AG4-AE25)","v":0},{"$f":"IF(AF12=0,0,(AF12*((LOG(AF12))/LOG(2))))","v":0},null,{"$f":"N12","v":11212},{"$f":"COUNTIF(L17:L19,AI12)","v":0},{"$f":"AJ12/(AL4-AJ25)","v":0},{"$f":"IF(AK12=0,0,(AK12*((LOG(AK12))/LOG(2))))","v":0},null,{"$f":"N12","v":11212},{"$f":"COUNTIF(L20:L23,AN12)","v":0},{"$f":"AO12/(AQ4-AO25)","v":0},{"$f":"IF(AP12=0,0,(AP12*((LOG(AP12))/LOG(2))))","v":0},null,{"$f":"N12","v":11212},{"$f":"COUNTIF(L24:L26,AS12)","v":0},{"$f":"AT12/(AV4-AT25)","v":0},{"$f":"IF(AU12=0,0,(AU12*((LOG(AU12))/LOG(2))))","v":0}]
[21,1359,22,1407,13,1426,23,1437,24,1448,0,22122,null,11221,{"$f":"COUNTIF($L$7:$L$500,N13)","v":0},{"$f":"O13/$Q$4","v":0},{"$f":"IF(P13=0,0,(P13*((LOG(P13))/LOG(2))))","v":0},null,null,{"$f":"N13","v":11221},{"$f":"COUNTIF(L7:L9,T13)","v":0},{"$f":"U13/(W4-U25)","v":0},{"$f":"IF(V13=0,0,(V13*((LOG(V13))/LOG(2))))","v":0},null,{"$f":"N13","v":11221},{"$f":"COUNTIF(L10:L13,Y13)","v":0},{"$f":"Z13/(AB4-Z25)","v":0},{"$f":"IF(AA13=0,0,(AA13*((LOG(AA13))/LOG(2))))","v":0},null,{"$f":"N13","v":11221},{"$f":"COUNTIF(L14:L16,AD13)","v":0},{"$f":"AE13/(AG4-AE25)","v":0},{"$f":"IF(AF13=0,0,(AF13*((LOG(AF13))/LOG(2))))","v":0},null,{"$f":"N13","v":11221},{"$f":"COUNTIF(L17:L19,AI13)","v":0},{"$f":"AJ13/(AL4-AJ25)","v":0},{"$f":"IF(AK13=0,0,(AK13*((LOG(AK13))/LOG(2))))","v":0},null,{"$f":"N13","v":11221},{"$f":"COUNTIF(L20:L23,AN13)","v":0},{"$f":"AO13/(AQ4-AO25)","v":0},{"$f":"IF(AP13=0,0,(AP13*((LOG(AP13))/LOG(2))))","v":0},null,{"$f":"N13","v":11221},{"$f":"COUNTIF(L24:L26,AS13)","v":0},{"$f":"AT13/(AV4-AT25)","v":0},{"$f":"IF(AU13=0,0,(AU13*((LOG(AU13))/LOG(2))))","v":0}]
[12,1579,24,1585,13,1595,23,1605,13,1619,0,12121,null,11222,{"$f":"COUNTIF($L$7:$L$500,N14)","v":0},{"$f":"O14/$Q$4","v":0},{"$f":"IF(P14=0,0,(P14*((LOG(P14))/LOG(2))))","v":0},null,null,{"$f":"N14","v":11222},{"$f":"COUNTIF(L7:L9,T14)","v":0},{"$f":"U14/(W4-U25)","v":0},{"$f":"IF(V14=0,0,(V14*((LOG(V14))/LOG(2))))","v":0},null,{"$f":"N14","v":11222},{"$f":"COUNTIF(L10:L13,Y14)","v":0},{"$f":"Z14/(AB4-Z25)","v":0},{"$f":"IF(AA14=0,0,(AA14*((LOG(AA14))/LOG(2))))","v":0},null,{"$f":"N14","v":11222},{"$f":"COUNTIF(L14:L16,AD14)","v":0},{"$f":"AE14/(AG4-AE25)","v":0},{"$f":"IF(AF14=0,0,(AF14*((LOG(AF14))/LOG(2))))","v":0},null,{"$f":"N14","v":11222},{"$f":"COUNTIF(L17:L19,AI14)","v":0},{"$f":"AJ14/(AL4-AJ25)","v":0},{"$f":"IF(AK14=0,0,(AK14*((LOG(AK14))/LOG(2))))","v":0},null,{"$f":"N14","v":11222},{"$f":"COUNTIF(L20:L23,AN14)","v":0},{"$f":"AO14/(AQ4-AO25)","v":0},{"$f":"IF(AP14=0,0,(AP14*((LOG(AP14))/LOG(2))))","v":0},null,{"$f":"N14","v":11222},{"$f":"COUNTIF(L24:L26,AS14)","v":0},{"$f":"AT14/(AV4-AT25)","v":0},{"$f":"IF(AU14=0,0,(AU14*((LOG(AU14))/LOG(2))))","v":0}]
[12,1756,24,1778,13,1793,23,1803,24,1817,0,12122,null,12111,{"$f":"COUNTIF($L$7:$L$500,N15)","v":2},{"$f":"O15/$Q$4","v":0.10526315789473684},{"$f":"IF(P15=0,0,(P15*((LOG(P15))/LOG(2))))","v":-0.34188710667827216},null,null,{"$f":"N15","v":12111},{"$f":"COUNTIF(L7:L9,T15)","v":1},{"$f":"U15/(W4-U25)","v":0.33333333333333331},{"$f":"IF(V15=0,0,(V15*((LOG(V15))/LOG(2))))","v":-0.52832083357371862},null,{"$f":"N15","v":12111},{"$f":"COUNTIF(L10:L13,Y15)","v":0},{"$f":"Z15/(AB4-Z25)","v":0},{"$f":"IF(AA15=0,0,(AA15*((LOG(AA15))/LOG(2))))","v":0},null,{"$f":"N15","v":12111},{"$f":"COUNTIF(L14:L16,AD15)","v":0},{"$f":"AE15/(AG4-AE25)","v":0},{"$f":"IF(AF15=0,0,(AF15*((LOG(AF15))/LOG(2))))","v":0},null,{"$f":"N15","v":12111},{"$f":"COUNTIF(L17:L19,AI15)","v":0},{"$f":"AJ15/(AL4-AJ25)","v":0},{"$f":"IF(AK15=0,0,(AK15*((LOG(AK15))/LOG(2))))","v":0},null,{"$f":"N15","v":12111},{"$f":"COUNTIF(L20:L23,AN15)","v":0},{"$f":"AO15/(AQ4-AO25)","v":0},{"$f":"IF(AP15=0,0,(AP15*((LOG(AP15))/LOG(2))))","v":0},null,{"$f":"N15","v":12111},{"$f":"COUNTIF(L24:L26,AS15)","v":1},{"$f":"AT15/(AV4-AT25)","v":0.5},{"$f":"IF(AU15=0,0,(AU15*((LOG(AU15))/LOG(2))))","v":-0.5}]
[21,1928,22,1960,13,1981,23,1990,13,2003,0,22121,null,12112,{"$f":"COUNTIF($L$7:$L$500,N16)","v":1},{"$f":"O16/$Q$4","v":5.2631578947368418E-2},{"$f":"IF(P16=0,0,(P16*((LOG(P16))/LOG(2))))","v":-0.22357513228650452},null,null,{"$f":"N16","v":12112},{"$f":"COUNTIF(L7:L9,T16)","v":0},{"$f":"U16/(W4-U25)","v":0},{"$f":"IF(V16=0,0,(V16*((LOG(V16))/LOG(2))))","v":0},null,{"$f":"N16","v":12112},{"$f":"COUNTIF(L10:L13,Y16)","v":0},{"$f":"Z16/(AB4-Z25)","v":0},{"$f":"IF(AA16=0,0,(AA16*((LOG(AA16))/LOG(2))))","v":0},null,{"$f":"N16","v":12112},{"$f":"COUNTIF(L14:L16,AD16)","v":0},{"$f":"AE16/(AG4-AE25)","v":0},{"$f":"IF(AF16=0,0,(AF16*((LOG(AF16))/LOG(2))))","v":0},null,{"$f":"N16","v":12112},{"$f":"COUNTIF(L17:L19,AI16)","v":1},{"$f":"AJ16/(AL4-AJ25)","v":0.33333333333333331},{"$f":"IF(AK16=0,0,(AK16*((LOG(AK16))/LOG(2))))","v":-0.52832083357371862},null,{"$f":"N16","v":12112},{"$f":"COUNTIF(L20:L23,AN16)","v":0},{"$f":"AO16/(AQ4-AO25)","v":0},{"$f":"IF(AP16=0,0,(AP16*((LOG(AP16))/LOG(2))))","v":0},null,{"$f":"N16","v":12112},{"$f":"COUNTIF(L24:L26,AS16)","v":0},{"$f":"AT16/(AV4-AT25)","v":0},{"$f":"IF(AU16=0,0,(AU16*((LOG(AU16))/LOG(2))))","v":0}]
[12,2172,24,2199,13,2215,14,2240,24,2272,0,12112,null,12121,{"$f":"COUNTIF($L$7:$L$500,N17)","v":2},{"$f":"O17/$Q$4","v":0.10526315789473684},{"$f":"IF(P17=0,0,(P17*((LOG(P17))/LOG(2))))","v":-0.34188710667827216},null,null,{"$f":"N17","v":12121},{"$f":"COUNTIF(L7:L9,T17)","v":0},{"$f":"U17/(W4-U25)","v":0},{"$f":"IF(V17=0,0,(V17*((LOG(V17))/LOG(2))))","v":0},null,{"$f":"N17","v":12121},{"$f":"COUNTIF(L10:L13,Y17)","v":0},{"$f":"Z17/(AB4-Z25)","v":0},{"$f":"IF(AA17=0,0,(AA17*((LOG(AA17))/LOG(2))))","v":0},null,{"$f":"N17","v":12121},{"$f":"COUNTIF(L14:L16,AD17)","v":1},{"$f":"AE17/(AG4-AE25)","v":0.33333333333333331},{"$f":"IF(AF17=0,0,(AF17*((LOG(AF17))/LOG(2))))","v":-0.52832083357371862},null,{"$f":"N17","v":12121},{"$f":"COUNTIF(L17:L19,AI17)","v":0},{"$f":"AJ17/(AL4-AJ25)","v":0},{"$f":"IF(AK17=0,0,(AK17*((LOG(AK17))/LOG(2))))","v":0},null,{"$f":"N17","v":12121},{"$f":"COUNTIF(L20:L23,AN17)","v":1},{"$f":"AO17/(AQ4-AO25)","v":0.25},{"$f":"IF(AP17=0,0,(AP17*((LOG(AP17))/LOG(2))))","v":-0.5},null,{"$f":"N17","v":12121},{"$f":"COUNTIF(L24:L26,AS17)","v":0},{"$f":"AT17/(AV4-AT25)","v":0},{"$f":"IF(AU17=0,0,(AU17*((LOG(AU17))/LOG(2))))","v":0}]
[12,2396,24,2406,24,2427,23,2448,24,2460,0,12222,null,12122,{"$f":"COUNTIF($L$7:$L$500,N18)","v":1},{"$f":"O18/$Q$4","v":5.2631578947368418E-2},{"$f":"IF(P18=0,0,(P18*((LOG(P18))/LOG(2))))","v":-0.22357513228650452},null,null,{"$f":"N18","v":12122},{"$f":"COUNTIF(L7:L9,T18)","v":0},{"$f":"U18/(W4-U25)","v":0},{"$f":"IF(V18=0,0,(V18*((LOG(V18))/LOG(2))))","v":0},null,{"$f":"N18","v":12122},{"$f":"COUNTIF(L10:L13,Y18)","v":0},{"$f":"Z18/(AB4-Z25)","v":0},{"$f":"IF(AA18=0,0,(AA18*((LOG(AA18))/LOG(2))))","v":0},null,{"$f":"N18","v":12122},{"$f":"COUNTIF(L14:L16,AD18)","v":1},{"$f":"AE18/(AG4-AE25)","v":0.33333333333333331},{"$f":"IF(AF18=0,0,(AF18*((LOG(AF18))/LOG(2))))","v":-0.52832083357371862},null,{"$f":"N18","v":12122},{"$f":"COUNTIF(L17:L19,AI18)","v":0},{"$f":"AJ18/(AL4-AJ25)","v":0},{"$f":"IF(AK18=0,0,(AK18*((LOG(AK18))/LOG(2))))","v":0},null,{"$f":"N18","v":12122},{"$f":"COUNTIF(L20:L23,AN18)","v":0},{"$f":"AO18/(AQ4-AO25)","v":0},{"$f":"IF(AP18=0,0,(AP18*((LOG(AP18))/LOG(2))))","v":0},null,{"$f":"N18","v":12122},{"$f":"COUNTIF(L24:L26,AS18)","v":0},{"$f":"AT18/(AV4-AT25)","v":0},{"$f":"IF(AU18=0,0,(AU18*((LOG(AU18))/LOG(2))))","v":0}]
[12,2614,24,2625,24,2637,23,2897,24,4136,0,12222,null,12211,{"$f":"COUNTIF($L$7:$L$500,N19)","v":0},{"$f":"O19/$Q$4","v":0},{"$f":"IF(P19=0,0,(P19*((LOG(P19))/LOG(2))))","v":0},null,null,{"$f":"N19","v":12211},{"$f":"COUNTIF(L7:L9,T19)","v":0},{"$f":"U19/(W4-U25)","v":0},{"$f":"IF(V19=0,0,(V19*((LOG(V19))/LOG(2))))","v":0},null,{"$f":"N19","v":12211},{"$f":"COUNTIF(L10:L13,Y19)","v":0},{"$f":"Z19/(AB4-Z25)","v":0},{"$f":"IF(AA19=0,0,(AA19*((LOG(AA19))/LOG(2))))","v":0},null,{"$f":"N19","v":12211},{"$f":"COUNTIF(L14:L16,AD19)","v":0},{"$f":"AE19/(AG4-AE25)","v":0},{"$f":"IF(AF19=0,0,(AF19*((LOG(AF19))/LOG(2))))","v":0},null,{"$f":"N19","v":12211},{"$f":"COUNTIF(L17:L19,AI19)","v":0},{"$f":"AJ19/(AL4-AJ25)","v":0},{"$f":"IF(AK19=0,0,(AK19*((LOG(AK19))/LOG(2))))","v":0},null,{"$f":"N19","v":12211},{"$f":"COUNTIF(L20:L23,AN19)","v":0},{"$f":"AO19/(AQ4-AO25)","v":0},{"$f":"IF(AP19=0,0,(AP19*((LOG(AP19))/LOG(2))))","v":0},null,{"$f":"N19","v":12211},{"$f":"COUNTIF(L24:L26,AS19)","v":0},{"$f":"AT19/(AV4-AT25)","v":0},{"$f":"IF(AU19=0,0,(AU19*((LOG(AU19))/LOG(2))))","v":0}]
[21,4289,22,4531,13,4556,23,4635,13,4690,0,22121,null,12212,{"$f":"COUNTIF($L$7:$L$500,N20)","v":1},{"$f":"O20/$Q$4","v":5.2631578947368418E-2},{"$f":"IF(P20=0,0,(P20*((LOG(P20))/LOG(2))))","v":-0.22357513228650452},null,null,{"$f":"N20","v":12212},{"$f":"COUNTIF(L7:L9,T20)","v":1},{"$f":"U20/(W4-U25)","v":0.33333333333333331},{"$f":"IF(V20=0,0,(V20*((LOG(V20))/LOG(2))))","v":-0.52832083357371862},null,{"$f":"N20","v":12212},{"$f":"COUNTIF(L10:L13,Y20)","v":0},{"$f":"Z20/(AB4-Z25)","v":0},{"$f":"IF(AA20=0,0,(AA20*((LOG(AA20))/LOG(2))))","v":0},null,{"$f":"N20","v":12212},{"$f":"COUNTIF(L14:L16,AD20)","v":0},{"$f":"AE20/(AG4-AE25)","v":0},{"$f":"IF(AF20=0,0,(AF20*((LOG(AF20))/LOG(2))))","v":0},null,{"$f":"N20","v":12212},{"$f":"COUNTIF(L17:L19,AI20)","v":0},{"$f":"AJ20/(AL4-AJ25)","v":0},{"$f":"IF(AK20=0,0,(AK20*((LOG(AK20))/LOG(2))))","v":0},null,{"$f":"N20","v":12212},{"$f":"COUNTIF(L20:L23,AN20)","v":0},{"$f":"AO20/(AQ4-AO25)","v":0},{"$f":"IF(AP20=0,0,(AP20*((LOG(AP20))/LOG(2))))","v":0},null,{"$f":"N20","v":12212},{"$f":"COUNTIF(L24:L26,AS20)","v":0},{"$f":"AT20/(AV4-AT25)","v":0},{"$f":"IF(AU20=0,0,(AU20*((LOG(AU20))/LOG(2))))","v":0}]
[12,4887,24,4918,13,4932,23,4971,13,5456,0,12121,null,12221,{"$f":"COUNTIF($L$7:$L$500,N21)","v":1},{"$f":"O21/$Q$4","v":5.2631578947368418E-2},{"$f":"IF(P21=0,0,(P21*((LOG(P21))/LOG(2))))","v":-0.22357513228650452},null,null,{"$f":"N21","v":12221},{"$f":"COUNTIF(L7:L9,T21)","v":0},{"$f":"U21/(W4-U25)","v":0},{"$f":"IF(V21=0,0,(V21*((LOG(V21))/LOG(2))))","v":0},null,{"$f":"N21","v":12221},{"$f":"COUNTIF(L10:L13,Y21)","v":0},{"$f":"Z21/(AB4-Z25)","v":0},{"$f":"IF(AA21=0,0,(AA21*((LOG(AA21))/LOG(2))))","v":0},null,{"$f":"N21","v":12221},{"$f":"COUNTIF(L14:L16,AD21)","v":0},{"$f":"AE21/(AG4-AE25)","v":0},{"$f":"IF(AF21=0,0,(AF21*((LOG(AF21))/LOG(2))))","v":0},null,{"$f":"N21","v":12221},{"$f":"COUNTIF(L17:L19,AI21)","v":0},{"$f":"AJ21/(AL4-AJ25)","v":0},{"$f":"IF(AK21=0,0,(AK21*((LOG(AK21))/LOG(2))))","v":0},null,{"$f":"N21","v":12221},{"$f":"COUNTIF(L20:L23,AN21)","v":1},{"$f":"AO21/(AQ4-AO25)","v":0.25},{"$f":"IF(AP21=0,0,(AP21*((LOG(AP21))/LOG(2))))","v":-0.5},null,{"$f":"N21","v":12221},{"$f":"COUNTIF(L24:L26,AS21)","v":0},{"$f":"AT21/(AV4-AT25)","v":0},{"$f":"IF(AU21=0,0,(AU21*((LOG(AU21))/LOG(2))))","v":0}]
[12,5690,24,5700,24,12858,23,12869,13,12885,0,12221,null,12222,{"$f":"COUNTIF($L$7:$L$500,N22)","v":2},{"$f":"O22/$Q$4","v":0.10526315789473684},{"$f":"IF(P22=0,0,(P22*((LOG(P22))/LOG(2))))","v":-0.34188710667827216},null,null,{"$f":"N22","v":12222},{"$f":"COUNTIF(L7:L9,T22)","v":0},{"$f":"U22/(W4-U25)","v":0},{"$f":"IF(V22=0,0,(V22*((LOG(V22))/LOG(2))))","v":0},null,{"$f":"N22","v":12222},{"$f":"COUNTIF(L10:L13,Y22)","v":0},{"$f":"Z22/(AB4-Z25)","v":0},{"$f":"IF(AA22=0,0,(AA22*((LOG(AA22))/LOG(2))))","v":0},null,{"$f":"N22","v":12222},{"$f":"COUNTIF(L14:L16,AD22)","v":0},{"$f":"AE22/(AG4-AE25)","v":0},{"$f":"IF(AF22=0,0,(AF22*((LOG(AF22))/LOG(2))))","v":0},null,{"$f":"N22","v":12222},{"$f":"COUNTIF(L17:L19,AI22)","v":2},{"$f":"AJ22/(AL4-AJ25)","v":0.66666666666666663},{"$f":"IF(AK22=0,0,(AK22*((LOG(AK22))/LOG(2))))","v":-0.38997500048077083},null,{"$f":"N22","v":12222},{"$f":"COUNTIF(L20:L23,AN22)","v":0},{"$f":"AO22/(AQ4-AO25)","v":0},{"$f":"IF(AP22=0,0,(AP22*((LOG(AP22))/LOG(2))))","v":0},null,{"$f":"N22","v":12222},{"$f":"COUNTIF(L24:L26,AS22)","v":0},{"$f":"AT22/(AV4-AT25)","v":0},{"$f":"IF(AU22=0,0,(AU22*((LOG(AU22))/LOG(2))))","v":0}]
[12,14427,13,14449,13,14486,23,14495,24,14520,0,11122,null,21111,{"$f":"COUNTIF($L$7:$L$500,N23)","v":0},{"$f":"O23/$Q$4","v":0},{"$f":"IF(P23=0,0,(P23*((LOG(P23))/LOG(2))))","v":0},null,null,{"$f":"N23","v":21111},{"$f":"COUNTIF(L7:L9,T23)","v":0},{"$f":"U23/(W4-U25)","v":0},{"$f":"IF(V23=0,0,(V23*((LOG(V23))/LOG(2))))","v":0},null,{"$f":"N23","v":21111},{"$f":"COUNTIF(L10:L13,Y23)","v":0},{"$f":"Z23/(AB4-Z25)","v":0},{"$f":"IF(AA23=0,0,(AA23*((LOG(AA23))/LOG(2))))","v":0},null,{"$f":"N23","v":21111},{"$f":"COUNTIF(L14:L16,AD23)","v":0},{"$f":"AE23/(AG4-AE25)","v":0},{"$f":"IF(AF23=0,0,(AF23*((LOG(AF23))/LOG(2))))","v":0},null,{"$f":"N23","v":21111},{"$f":"COUNTIF(L17:L19,AI23)","v":0},{"$f":"AJ23/(AL4-AJ25)","v":0},{"$f":"IF(AK23=0,0,(AK23*((LOG(AK23))/LOG(2))))","v":0},null,{"$f":"N23","v":21111},{"$f":"COUNTIF(L20:L23,AN23)","v":0},{"$f":"AO23/(AQ4-AO25)","v":0},{"$f":"IF(AP23=0,0,(AP23*((LOG(AP23))/LOG(2))))","v":0},null,{"$f":"N23","v":21111},{"$f":"COUNTIF(L24:L26,AS23)","v":0},{"$f":"AT23/(AV4-AT25)","v":0},{"$f":"IF(AU23=0,0,(AU23*((LOG(AU23))/LOG(2))))","v":0}]
[21,14737,11,14752,22,14762,23,14805,13,17373,0,21221,null,21112,{"$f":"COUNTIF($L$7:$L$500,N24)","v":0},{"$f":"O24/$Q$4","v":0},{"$f":"IF(P24=0,0,(P24*((LOG(P24))/LOG(2))))","v":0},null,null,{"$f":"N24","v":21112},{"$f":"COUNTIF(L7:L9,T24)","v":0},{"$f":"U24/(W4-U25)","v":0},{"$f":"IF(V24=0,0,(V24*((LOG(V24))/LOG(2))))","v":0},null,{"$f":"N24","v":21112},{"$f":"COUNTIF(L10:L13,Y24)","v":0},{"$f":"Z24/(AB4-Z25)","v":0},{"$f":"IF(AA24=0,0,(AA24*((LOG(AA24))/LOG(2))))","v":0},null,{"$f":"N24","v":21112},{"$f":"COUNTIF(L14:L16,AD24)","v":0},{"$f":"AE24/(AG4-AE25)","v":0},{"$f":"IF(AF24=0,0,(AF24*((LOG(AF24))/LOG(2))))","v":0},null,{"$f":"N24","v":21112},{"$f":"COUNTIF(L17:L19,AI24)","v":0},{"$f":"AJ24/(AL4-AJ25)","v":0},{"$f":"IF(AK24=0,0,(AK24*((LOG(AK24))/LOG(2))))","v":0},null,{"$f":"N24","v":21112},{"$f":"COUNTIF(L20:L23,AN24)","v":0},{"$f":"AO24/(AQ4-AO25)","v":0},{"$f":"IF(AP24=0,0,(AP24*((LOG(AP24))/LOG(2))))","v":0},null,{"$f":"N24","v":21112},{"$f":"COUNTIF(L24:L26,AS24)","v":0},{"$f":"AT24/(AV4-AT25)","v":0},{"$f":"IF(AU24=0,0,(AU24*((LOG(AU24))/LOG(2))))","v":0}]
[12,17787,24,17797,13,17813,14,21082,13,21111,0,12111,null,21121,{"$f":"COUNTIF($L$7:$L$500,N25)","v":0},{"$f":"O25/$Q$4","v":0},{"$f":"IF(P25=0,0,(P25*((LOG(P25))/LOG(2))))","v":0},null,null,{"$f":"N25","v":21121},{"$f":"COUNTIF(L7:L9,T25)","v":0},null,null,null,{"$f":"N25","v":21121},{"$f":"COUNTIF(L10:L13,Y25)","v":0},null,null,null,{"$f":"N25","v":21121},{"$f":"COUNTIF(L14:L16,AD25)","v":0},null,null,null,{"$f":"N25","v":21121},{"$f":"COUNTIF(L17:L19,AI25)","v":0},null,null,null,{"$f":"N25","v":21121},{"$f":"COUNTIF(L20:L23,AN25)","v":0},null,null,null,{"$f":"N25","v":21121},{"$f":"COUNTIF(L24:L26,AS25)","v":0}]
[21,21831,22,22961,24,22972,null,null,null,null,null,222,null,21122,{"$f":"COUNTIF($L$7:$L$500,N26)","v":0},{"$f":"O26/$Q$4","v":0},{"$f":"IF(P26=0,0,(P26*((LOG(P26))/LOG(2))))","v":0},null,null,{"$f":"N26","v":21122},{"$f":"COUNTIF(L7:L9,T26)","v":0},{"$f":"U26/(W4-U25)","v":0},{"$f":"IF(V26=0,0,(V26*((LOG(V26))/LOG(2))))","v":0},null,{"$f":"N26","v":21122},{"$f":"COUNTIF(L10:L13,Y26)","v":0},{"$f":"Z26/(AB4-Z25)","v":0},{"$f":"IF(AA26=0,0,(AA26*((LOG(AA26))/LOG(2))))","v":0},null,{"$f":"N26","v":21122},{"$f":"COUNTIF(L14:L16,AD26)","v":0},{"$f":"AE26/(AG4-AE25)","v":0},{"$f":"IF(AF26=0,0,(AF26*((LOG(AF26))/LOG(2))))","v":0},null,{"$f":"N26","v":21122},{"$f":"COUNTIF(L17:L19,AI26)","v":0},{"$f":"AJ26/(AL4-AJ25)","v":0},{"$f":"IF(AK26=0,0,(AK26*((LOG(AK26))/LOG(2))))","v":0},null,{"$f":"N26","v":21122},{"$f":"COUNTIF(L20:L23,AN26)","v":0},{"$f":"AO26/(AQ4-AO25)","v":0},{"$f":"IF(AP26=0,0,(AP26*((LOG(AP26))/LOG(2))))","v":0},null,{"$f":"N26","v":21122},{"$f":"COUNTIF(L24:L26,AS26)","v":0},{"$f":"AT26/(AV4-AT25)","v":0},{"$f":"IF(AU26=0,0,(AU26*((LOG(AU26))/LOG(2))))","v":0}]
[null,null,null,null,null,null,null,null,null,null,null,null,null,21211,{"$f":"COUNTIF($L$7:$L$500,N27)","v":0},{"$f":"O27/$Q$4","v":0},{"$f":"IF(P27=0,0,(P27*((LOG(P27))/LOG(2))))","v":0},null,null,{"$f":"N27","v":21211},{"$f":"COUNTIF(L7:L9,T27)","v":0},{"$f":"U27/(W4-U25)","v":0},{"$f":"IF(V27=0,0,(V27*((LOG(V27))/LOG(2))))","v":0},null,{"$f":"N27","v":21211},{"$f":"COUNTIF(L10:L13,Y27)","v":0},{"$f":"Z27/(AB4-Z25)","v":0},{"$f":"IF(AA27=0,0,(AA27*((LOG(AA27))/LOG(2))))","v":0},null,{"$f":"N27","v":21211},{"$f":"COUNTIF(L14:L16,AD27)","v":0},{"$f":"AE27/(AG4-AE25)","v":0},{"$f":"IF(AF27=0,0,(AF27*((LOG(AF27))/LOG(2))))","v":0},null,{"$f":"N27","v":21211},{"$f":"COUNTIF(L17:L19,AI27)","v":0},{"$f":"AJ27/(AL4-AJ25)","v":0},{"$f":"IF(AK27=0,0,(AK27*((LOG(AK27))/LOG(2))))","v":0},null,{"$f":"N27","v":21211},{"$f":"COUNTIF(L20:L23,AN27)","v":0},{"$f":"AO27/(AQ4-AO25)","v":0},{"$f":"IF(AP27=0,0,(AP27*((LOG(AP27))/LOG(2))))","v":0},null,{"$f":"N27","v":21211},{"$f":"COUNTIF(L24:L26,AS27)","v":0},{"$f":"AT27/(AV4-AT25)","v":0},{"$f":"IF(AU27=0,0,(AU27*((LOG(AU27))/LOG(2))))","v":0}]
[null,null,null,null,null,null,null,null,null,null,null,null,null,21212,{"$f":"COUNTIF($L$7:$L$500,N28)","v":0},{"$f":"O28/$Q$4","v":0},{"$f":"IF(P28=0,0,(P28*((LOG(P28))/LOG(2))))","v":0},null,null,{"$f":"N28","v":21212},{"$f":"COUNTIF(L7:L9,T28)","v":0},{"$f":"U28/(W4-U25)","v":0},{"$f":"IF(V28=0,0,(V28*((LOG(V28))/LOG(2))))","v":0},null,{"$f":"N28","v":21212},{"$f":"COUNTIF(L10:L13,Y28)","v":0},{"$f":"Z28/(AB4-Z25)","v":0},{"$f":"IF(AA28=0,0,(AA28*((LOG(AA28))/LOG(2))))","v":0},null,{"$f":"N28","v":21212},{"$f":"COUNTIF(L14:L16,AD28)","v":0},{"$f":"AE28/(AG4-AE25)","v":0},{"$f":"IF(AF28=0,0,(AF28*((LOG(AF28))/LOG(2))))","v":0},null,{"$f":"N28","v":21212},{"$f":"COUNTIF(L17:L19,AI28)","v":0},{"$f":"AJ28/(AL4-AJ25)","v":0},{"$f":"IF(AK28=0,0,(AK28*((LOG(AK28))/LOG(2))))","v":0},null,{"$f":"N28","v":21212},{"$f":"COUNTIF(L20:L23,AN28)","v":0},{"$f":"AO28/(AQ4-AO25)","v":0},{"$f":"IF(AP28=0,0,(AP28*((LOG(AP28))/LOG(2))))","v":0},null,{"$f":"N28","v":21212},{"$f":"COUNTIF(L24:L26,AS28)","v":0},{"$f":"AT28/(AV4-AT25)","v":0},{"$f":"IF(AU28=0,0,(AU28*((LOG(AU28))/LOG(2))))","v":0}]
[null,null,null,null,null,null,null,null,null,null,null,null,null,21221,{"$f":"COUNTIF($L$7:$L$500,N29)","v":1},{"$f":"O29/$Q$4","v":5.2631578947368418E-2},{"$f":"IF(P29=0,0,(P29*((LOG(P29))/LOG(2))))","v":-0.22357513228650452},null,null,{"$f":"N29","v":21221},{"$f":"COUNTIF(L7:L9,T29)","v":0},{"$f":"U29/(W4-U25)","v":0},{"$f":"IF(V29=0,0,(V29*((LOG(V29))/LOG(2))))","v":0},null,{"$f":"N29","v":21221},{"$f":"COUNTIF(L10:L13,Y29)","v":0},{"$f":"Z29/(AB4-Z25)","v":0},{"$f":"IF(AA29=0,0,(AA29*((LOG(AA29))/LOG(2))))","v":0},null,{"$f":"N29","v":21221},{"$f":"COUNTIF(L14:L16,AD29)","v":0},{"$f":"AE29/(AG4-AE25)","v":0},{"$f":"IF(AF29=0,0,(AF29*((LOG(AF29))/LOG(2))))","v":0},null,{"$f":"N29","v":21221},{"$f":"COUNTIF(L17:L19,AI29)","v":0},{"$f":"AJ29/(AL4-AJ25)","v":0},{"$f":"IF(AK29=0,0,(AK29*((LOG(AK29))/LOG(2))))","v":0},null,{"$f":"N29","v":21221},{"$f":"COUNTIF(L20:L23,AN29)","v":0},{"$f":"AO29/(AQ4-AO25)","v":0},{"$f":"IF(AP29=0,0,(AP29*((LOG(AP29))/LOG(2))))","v":0},null,{"$f":"N29","v":21221},{"$f":"COUNTIF(L24:L26,AS29)","v":1},{"$f":"AT29/(AV4-AT25)","v":0.5},{"$f":"IF(AU29=0,0,(AU29*((LOG(AU29))/LOG(2))))","v":-0.5}]
[null,null,null,null,null,null,null,null,null,null,null,null,null,21222,{"$f":"COUNTIF($L$7:$L$500,N30)","v":2},{"$f":"O30/$Q$4","v":0.10526315789473684},{"$f":"IF(P30=0,0,(P30*((LOG(P30))/LOG(2))))","v":-0.34188710667827216},null,null,{"$f":"N30","v":21222},{"$f":"COUNTIF(L7:L9,T30)","v":0},{"$f":"U30/(W4-U25)","v":0},{"$f":"IF(V30=0,0,(V30*((LOG(V30))/LOG(2))))","v":0},null,{"$f":"N30","v":21222},{"$f":"COUNTIF(L10:L13,Y30)","v":2},{"$f":"Z30/(AB4-Z25)","v":0.5},{"$f":"IF(AA30=0,0,(AA30*((LOG(AA30))/LOG(2))))","v":-0.5},null,{"$f":"N30","v":21222},{"$f":"COUNTIF(L14:L16,AD30)","v":0},{"$f":"AE30/(AG4-AE25)","v":0},{"$f":"IF(AF30=0,0,(AF30*((LOG(AF30))/LOG(2))))","v":0},null,{"$f":"N30","v":21222},{"$f":"COUNTIF(L17:L19,AI30)","v":0},{"$f":"AJ30/(AL4-AJ25)","v":0},{"$f":"IF(AK30=0,0,(AK30*((LOG(AK30))/LOG(2))))","v":0},null,{"$f":"N30","v":21222},{"$f":"COUNTIF(L20:L23,AN30)","v":0},{"$f":"AO30/(AQ4-AO25)","v":0},{"$f":"IF(AP30=0,0,(AP30*((LOG(AP30))/LOG(2))))","v":0},null,{"$f":"N30","v":21222},{"$f":"COUNTIF(L24:L26,AS30)","v":0},{"$f":"AT30/(AV4-AT25)","v":0},{"$f":"IF(AU30=0,0,(AU30*((LOG(AU30))/LOG(2))))","v":0}]
[null,null,null,null,null,null,null,null,null,null,null,null,null,22111,{"$f":"COUNTIF($L$7:$L$500,N31)","v":0},{"$f":"O31/$Q$4","v":0},{"$f":"IF(P31=0,0,(P31*((LOG(P31))/LOG(2))))","v":0},null,null,{"$f":"N31","v":22111},{"$f":"COUNTIF(L7:L9,T31)","v":0},{"$f":"U31/(W4-U25)","v":0},{"$f":"IF(V31=0,0,(V31*((LOG(V31))/LOG(2))))","v":0},null,{"$f":"N31","v":22111},{"$f":"COUNTIF(L10:L13,Y31)","v":0},{"$f":"Z31/(AB4-Z25)","v":0},{"$f":"IF(AA31=0,0,(AA31*((LOG(AA31))/LOG(2))))","v":0},null,{"$f":"N31","v":22111},{"$f":"COUNTIF(L14:L16,AD31)","v":0},{"$f":"AE31/(AG4-AE25)","v":0},{"$f":"IF(AF31=0,0,(AF31*((LOG(AF31))/LOG(2))))","v":0},null,{"$f":"N31","v":22111},{"$f":"COUNTIF(L17:L19,AI31)","v":0},{"$f":"AJ31/(AL4-AJ25)","v":0},{"$f":"IF(AK31=0,0,(AK31*((LOG(AK31))/LOG(2))))","v":0},null,{"$f":"N31","v":22111},{"$f":"COUNTIF(L20:L23,AN31)","v":0},{"$f":"AO31/(AQ4-AO25)","v":0},{"$f":"IF(AP31=0,0,(AP31*((LOG(AP31))/LOG(2))))","v":0},null,{"$f":"N31","v":22111},{"$f":"COUNTIF(L24:L26,AS31)","v":0},{"$f":"AT31/(AV4-AT25)","v":0},{"$f":"IF(AU31=0,0,(AU31*((LOG(AU31))/LOG(2))))","v":0}]
[null,null,null,null,null,null,null,null,null,null,null,null,null,22112,{"$f":"COUNTIF($L$7:$L$500,N32)","v":0},{"$f":"O32/$Q$4","v":0},{"$f":"IF(P32=0,0,(P32*((LOG(P32))/LOG(2))))","v":0},null,null,{"$f":"N32","v":22112},{"$f":"COUNTIF(L7:L9,T32)","v":0},{"$f":"U32/(W4-U25)","v":0},{"$f":"IF(V32=0,0,(V32*((LOG(V32))/LOG(2))))","v":0},null,{"$f":"N32","v":22112},{"$f":"COUNTIF(L10:L13,Y32)","v":0},{"$f":"Z32/(AB4-Z25)","v":0},{"$f":"IF(AA32=0,0,(AA32*((LOG(AA32))/LOG(2))))","v":0},null,{"$f":"N32","v":22112},{"$f":"COUNTIF(L14:L16,AD32)","v":0},{"$f":"AE32/(AG4-AE25)","v":0},{"$f":"IF(AF32=0,0,(AF32*((LOG(AF32))/LOG(2))))","v":0},null,{"$f":"N32","v":22112},{"$f":"COUNTIF(L17:L19,AI32)","v":0},{"$f":"AJ32/(AL4-AJ25)","v":0},{"$f":"IF(AK32=0,0,(AK32*((LOG(AK32))/LOG(2))))","v":0},null,{"$f":"N32","v":22112},{"$f":"COUNTIF(L20:L23,AN32)","v":0},{"$f":"AO32/(AQ4-AO25)","v":0},{"$f":"IF(AP32=0,0,(AP32*((LOG(AP32))/LOG(2))))","v":0},null,{"$f":"N32","v":22112},{"$f":"COUNTIF(L24:L26,AS32)","v":0},{"$f":"AT32/(AV4-AT25)","v":0},{"$f":"IF(AU32=0,0,(AU32*((LOG(AU32))/LOG(2))))","v":0}]
[null,null,null,null,null,null,null,null,null,null,null,null,null,22121,{"$f":"COUNTIF($L$7:$L$500,N33)","v":2},{"$f":"O33/$Q$4","v":0.10526315789473684},{"$f":"IF(P33=0,0,(P33*((LOG(P33))/LOG(2))))","v":-0.34188710667827216},null,null,{"$f":"N33","v":22121},{"$f":"COUNTIF(L7:L9,T33)","v":0},{"$f":"U33/(W4-U25)","v":0},{"$f":"IF(V33=0,0,(V33*((LOG(V33))/LOG(2))))","v":0},null,{"$f":"N33","v":22121},{"$f":"COUNTIF(L10:L13,Y33)","v":0},{"$f":"Z33/(AB4-Z25)","v":0},{"$f":"IF(AA33=0,0,(AA33*((LOG(AA33))/LOG(2))))","v":0},null,{"$f":"N33","v":22121},{"$f":"COUNTIF(L14:L16,AD33)","v":1},{"$f":"AE33/(AG4-AE25)","v":0.33333333333333331},{"$f":"IF(AF33=0,0,(AF33*((LOG(AF33))/LOG(2))))","v":-0.52832083357371862},null,{"$f":"N33","v":22121},{"$f":"COUNTIF(L17:L19,AI33)","v":0},{"$f":"AJ33/(AL4-AJ25)","v":0},{"$f":"IF(AK33=0,0,(AK33*((LOG(AK33))/LOG(2))))","v":0},null,{"$f":"N33","v":22121},{"$f":"COUNTIF(L20:L23,AN33)","v":1},{"$f":"AO33/(AQ4-AO25)","v":0.25},{"$f":"IF(AP33=0,0,(AP33*((LOG(AP33))/LOG(2))))","v":-0.5},null,{"$f":"N33","v":22121},{"$f":"COUNTIF(L24:L26,AS33)","v":0},{"$f":"AT33/(AV4-AT25)","v":0},{"$f":"IF(AU33=0,0,(AU33*((LOG(AU33))/LOG(2))))","v":0}]
[null,null,null,null,null,null,null,null,null,null,null,null,null,22122,{"$f":"COUNTIF($L$7:$L$500,N34)","v":1},{"$f":"O34/$Q$4","v":5.2631578947368418E-2},{"$f":"IF(P34=0,0,(P34*((LOG(P34))/LOG(2))))","v":-0.22357513228650452},null,null,{"$f":"N34","v":22122},{"$f":"COUNTIF(L7:L9,T34)","v":0},{"$f":"U34/(W4-U25)","v":0},{"$f":"IF(V34=0,0,(V34*((LOG(V34))/LOG(2))))","v":0},null,{"$f":"N34","v":22122},{"$f":"COUNTIF(L10:L13,Y34)","v":1},{"$f":"Z34/(AB4-Z25)","v":0.25},{"$f":"IF(AA34=0,0,(AA34*((LOG(AA34))/LOG(2))))","v":-0.5},null,{"$f":"N34","v":22122},{"$f":"COUNTIF(L14:L16,AD34)","v":0},{"$f":"AE34/(AG4-AE25)","v":0},{"$f":"IF(AF34=0,0,(AF34*((LOG(AF34))/LOG(2))))","v":0},null,{"$f":"N34","v":22122},{"$f":"COUNTIF(L17:L19,AI34)","v":0},{"$f":"AJ34/(AL4-AJ25)","v":0},{"$f":"IF(AK34=0,0,(AK34*((LOG(AK34))/LOG(2))))","v":0},null,{"$f":"N34","v":22122},{"$f":"COUNTIF(L20:L23,AN34)","v":0},{"$f":"AO34/(AQ4-AO25)","v":0},{"$f":"IF(AP34=0,0,(AP34*((LOG(AP34))/LOG(2))))","v":0},null,{"$f":"N34","v":22122},{"$f":"COUNTIF(L24:L26,AS34)","v":0},{"$f":"AT34/(AV4-AT25)","v":0},{"$f":"IF(AU34=0,0,(AU34*((LOG(AU34))/LOG(2))))","v":0}]
[null,null,null,null,null,null,null,null,null,null,null,null,null,22211,{"$f":"COUNTIF($L$7:$L$500,N35)","v":0},{"$f":"O35/$Q$4","v":0},{"$f":"IF(P35=0,0,(P35*((LOG(P35))/LOG(2))))","v":0},null,null,{"$f":"N35","v":22211},{"$f":"COUNTIF(L7:L9,T35)","v":0},{"$f":"U35/(W4-U25)","v":0},{"$f":"IF(V35=0,0,(V35*((LOG(V35))/LOG(2))))","v":0},null,{"$f":"N35","v":22211},{"$f":"COUNTIF(L10:L13,Y35)","v":0},{"$f":"Z35/(AB4-Z25)","v":0},{"$f":"IF(AA35=0,0,(AA35*((LOG(AA35))/LOG(2))))","v":0},null,{"$f":"N35","v":22211},{"$f":"COUNTIF(L14:L16,AD35)","v":0},{"$f":"AE35/(AG4-AE25)","v":0},{"$f":"IF(AF35=0,0,(AF35*((LOG(AF35))/LOG(2))))","v":0},null,{"$f":"N35","v":22211},{"$f":"COUNTIF(L17:L19,AI35)","v":0},{"$f":"AJ35/(AL4-AJ25)","v":0},{"$f":"IF(AK35=0,0,(AK35*((LOG(AK35))/LOG(2))))","v":0},null,{"$f":"N35","v":22211},{"$f":"COUNTIF(L20:L23,AN35)","v":0},{"$f":"AO35/(AQ4-AO25)","v":0},{"$f":"IF(AP35=0,0,(AP35*((LOG(AP35))/LOG(2))))","v":0},null,{"$f":"N35","v":22211},{"$f":"COUNTIF(L24:L26,AS35)","v":0},{"$f":"AT35/(AV4-AT25)","v":0},{"$f":"IF(AU35=0,0,(AU35*((LOG(AU35))/LOG(2))))","v":0}]
[null,null,null,null,null,null,null,null,null,null,null,null,null,22212,{"$f":"COUNTIF($L$7:$L$500,N36)","v":0},{"$f":"O36/$Q$4","v":0},{"$f":"IF(P36=0,0,(P36*((LOG(P36))/LOG(2))))","v":0},null,null,{"$f":"N36","v":22212},{"$f":"COUNTIF(L7:L9,T36)","v":0},{"$f":"U36/(W4-U25)","v":0},{"$f":"IF(V36=0,0,(V36*((LOG(V36))/LOG(2))))","v":0},null,{"$f":"N36","v":22212},{"$f":"COUNTIF(L10:L13,Y36)","v":0},{"$f":"Z36/(AB4-Z25)","v":0},{"$f":"IF(AA36=0,0,(AA36*((LOG(AA36))/LOG(2))))","v":0},null,{"$f":"N36","v":22212},{"$f":"COUNTIF(L14:L16,AD36)","v":0},{"$f":"AE36/(AG4-AE25)","v":0},{"$f":"IF(AF36=0,0,(AF36*((LOG(AF36))/LOG(2))))","v":0},null,{"$f":"N36","v":22212},{"$f":"COUNTIF(L17:L19,AI36)","v":0},{"$f":"AJ36/(AL4-AJ25)","v":0},{"$f":"IF(AK36=0,0,(AK36*((LOG(AK36))/LOG(2))))","v":0},null,{"$f":"N36","v":22212},{"$f":"COUNTIF(L20:L23,AN36)","v":0},{"$f":"AO36/(AQ4-AO25)","v":0},{"$f":"IF(AP36=0,0,(AP36*((LOG(AP36))/LOG(2))))","v":0},null,{"$f":"N36","v":22212},{"$f":"COUNTIF(L24:L26,AS36)","v":0},{"$f":"AT36/(AV4-AT25)","v":0},{"$f":"IF(AU36=0,0,(AU36*((LOG(AU36))/LOG(2))))","v":0}]
[null,null,null,null,null,null,null,null,null,null,null,null,null,22221,{"$f":"COUNTIF($L$7:$L$500,N37)","v":0},{"$f":"O37/$Q$4","v":0},{"$f":"IF(P37=0,0,(P37*((LOG(P37))/LOG(2))))","v":0},null,null,{"$f":"N37","v":22221},{"$f":"COUNTIF(L7:L9,T37)","v":0},{"$f":"U37/(W4-U25)","v":0},{"$f":"IF(V37=0,0,(V37*((LOG(V37))/LOG(2))))","v":0},null,{"$f":"N37","v":22221},{"$f":"COUNTIF(L10:L13,Y37)","v":0},{"$f":"Z37/(AB4-Z25)","v":0},{"$f":"IF(AA37=0,0,(AA37*((LOG(AA37))/LOG(2))))","v":0},null,{"$f":"N37","v":22221},{"$f":"COUNTIF(L14:L16,AD37)","v":0},{"$f":"AE37/(AG4-AE25)","v":0},{"$f":"IF(AF37=0,0,(AF37*((LOG(AF37))/LOG(2))))","v":0},null,{"$f":"N37","v":22221},{"$f":"COUNTIF(L17:L19,AI37)","v":0},{"$f":"AJ37/(AL4-AJ25)","v":0},{"$f":"IF(AK37=0,0,(AK37*((LOG(AK37))/LOG(2))))","v":0},null,{"$f":"N37","v":22221},{"$f":"COUNTIF(L20:L23,AN37)","v":0},{"$f":"AO37/(AQ4-AO25)","v":0},{"$f":"IF(AP37=0,0,(AP37*((LOG(AP37))/LOG(2))))","v":0},null,{"$f":"N37","v":22221},{"$f":"COUNTIF(L24:L26,AS37)","v":0},{"$f":"AT37/(AV4-AT25)","v":0},{"$f":"IF(AU37=0,0,(AU37*((LOG(AU37))/LOG(2))))","v":0}]
[null,null,null,null,null,null,null,null,null,null,null,null,null,22222,{"$f":"COUNTIF($L$7:$L$500,N38)","v":1},{"$f":"O38/$Q$4","v":5.2631578947368418E-2},{"$f":"IF(P38=0,0,(P38*((LOG(P38))/LOG(2))))","v":-0.22357513228650452},null,null,{"$f":"N38","v":22222},{"$f":"COUNTIF(L7:L9,T38)","v":1},{"$f":"U38/(W4-U25)","v":0.33333333333333331},{"$f":"IF(V38=0,0,(V38*((LOG(V38))/LOG(2))))","v":-0.52832083357371862},null,{"$f":"N38","v":22222},{"$f":"COUNTIF(L10:L13,Y38)","v":0},{"$f":"Z38/(AB4-Z25)","v":0},{"$f":"IF(AA38=0,0,(AA38*((LOG(AA38))/LOG(2))))","v":0},null,{"$f":"N38","v":22222},{"$f":"COUNTIF(L14:L16,AD38)","v":0},{"$f":"AE38/(AG4-AE25)","v":0},{"$f":"IF(AF38=0,0,(AF38*((LOG(AF38))/LOG(2))))","v":0},null,{"$f":"N38","v":22222},{"$f":"COUNTIF(L17:L19,AI38)","v":0},{"$f":"AJ38/(AL4-AJ25)","v":0},{"$f":"IF(AK38=0,0,(AK38*((LOG(AK38))/LOG(2))))","v":0},null,{"$f":"N38","v":22222},{"$f":"COUNTIF(L20:L23,AN38)","v":0},{"$f":"AO38/(AQ4-AO25)","v":0},{"$f":"IF(AP38=0,0,(AP38*((LOG(AP38))/LOG(2))))","v":0},null,{"$f":"N38","v":22222},{"$f":"COUNTIF(L24:L26,AS38)","v":0},{"$f":"AT38/(AV4-AT25)","v":0},{"$f":"IF(AU38=0,0,(AU38*((LOG(AU38))/LOG(2))))","v":0}]
[null,null,null,null,null,null,null,null,null,null,null,null,null,null,null,{"$f":"SUM(P7:P38)","v":0.99999999999999978},{"$f":"-SUM(Q7:Q38)","v":3.7216117239699025},null,null,null,null,{"$f":"SUM(V7:V38)","v":1},{"$f":"-SUM(W7:W38)","v":1.5849625007211559},null,null,null,{"$f":"SUM(AA7:AA38)","v":1},{"$f":"-SUM(AB7:AB38)","v":1.5},null,null,null,{"$f":"SUM(AF7:AF38)","v":1},{"$f":"-SUM(AG7:AG38)","v":1.5849625007211559},null,null,null,{"$f":"SUM(AK7:AK38)","v":1},{"$f":"-SUM(AL7:AL38)","v":0.91829583405448945},null,null,null,{"$f":"SUM(AP7:AP38)","v":1},{"$f":"-SUM(AQ7:AQ38)","v":2},null,null,null,{"$f":"SUM(AU7:AU38)","v":1},{"$f":"-SUM(AV7:AV38)","v":1}]
[null,null,null,null,null,null,null,null,null,null,null,null,null,null,null,"U=",{"$f":"Q39/(LOG(Q4)/LOG(2))","v":0.87610057191229596},null,null,null,null,"U1=",{"$f":"W39/(LOG(W4)/LOG(2))","v":0.99999999999999989},null,null,null,"U2=",{"$f":"AB39/(LOG(AB4)/LOG(2))","v":0.75},null,null,null,"U3=",{"$f":"AG39/(LOG(AG4)/LOG(2))","v":0.99999999999999989},null,null,null,"U4=",{"$f":"AL39/(LOG(AL4)/LOG(2))","v":0.57938016428569505},null,null,null,"U5=",{"$f":"AQ39/(LOG(AQ4)/LOG(2))","v":1},null,null,null,"U6=",{"$f":"AV39/(LOG(AV4)/LOG(2))","v":1}]
[]
[]
[null,null,null,null,null,null,null,null,null,null,null,null,null,"Total Target Seq"]
[null,null,null,null,null,null,null,null,null,null,null,null,null,{"$f":"COUNTIF(L7:L26,G3)","v":0},null,3,4,3,3,4,3]
[null,null,null,null,null,null,null,null,null,null,null,null,null,null,null,"% of reinforcement given in 6 equal intervals based on number of trials "]
[null,null,null,null,null,null,null,null,null,null,null,null,null,null,null,"%_1","%_2","%_3","%_4","%_5","%_6"]
[null,null,null,null,null,null,null,null,null,null,null,null,null,null,"target sequence",{"$f":"$G$3","v":21121},{"$f":"$G$3","v":21121},{"$f":"$G$3","v":21121},{"$f":"$G$3","v":21121},{"$f":"$G$3","v":21121},{"$f":"$G$3","v":21121}]
[null,null,null,null,null,null,null,null,null,null,null,null,null,null,"total reinforcement",{"$f":"U25","v":0},{"$f":"Z25","v":0},{"$f":"AE25","v":0},{"$f":"AJ25","v":0},{"$f":"AO25","v":0},{"$f":"AT25","v":0}]
[null,null,null,null,null,null,null,null,null,null,null,null,null,null,"% target"]
[null,null,null,null,null,null,null,null,null,null,null,null,null,null,"CCRF"]
[null,null,null,null,null,null,null,null,null,null,null,null,null,null,"% CCRf"]
[null,null,null,null,null,null,null,null,null,null,null,null,null,null,"average response rate",{"$f":"J9/P44","v":181},{"$f":"(J13-J9)/Q44","v":226.25},{"$f":"(J16-J13)/R44","v":185},{"$f":"(J19-J16)/S44","v":711},{"$f":"(J23-J19)/T44","v":2596},{"$f":"(J26-J23)/U44","v":-4840}]

{"sheet":"!N106840.105","index":8,"n_rows":52,"n_cols":48,"rows_kept":52,"cut":false,"hidden":false,"merged":[[4,39,4,42],[5,39,5,40],[4,44,4,47],[5,44,5,45],[4,24,4,27],[5,24,5,25],[4,29,4,32],[5,29,5,30],[4,34,4,37],[5,34,5,35],[1,1,1,2],[5,13,5,14],[42,13,42,14],[43,13,43,14],[4,19,4,22],[5,19,5,20]]}
["Report for:!N106840.105"]
["Date:","<date>"]
["Hen:","<hen>",null,null,null,"Correct Sequence",{"$f":"Start!J2","v":21121},null,null,null,null,null,null,null,null,"Total Sequences in Data",{"$f":"4994-COUNTBLANK(L7:L5000)","v":11},null,null,null,null,"Total Sequences in Block Data",{"$f":"COUNTA(L7:L8)","v":2},null,null,null,"Total Sequences in Block Data",{"$f":"COUNTA(L9:L10)","v":2},null,null,null,"Total Sequences in Block Data",{"$f":"COUNTA(L11:L11)","v":1},null,null,null,"Total Sequences in Block Data",{"$f":"COUNTA(L12:L13)","v":2},null,null,null,"Total Sequences in Block Data",{"$f":"COUNTA(L14:L15)","v":2},null,null,null,"Total Sequences in Block Data",{"$f":"COUNTA(L16:L17)","v":2}]
[null,null,null,null,null,null,null,null,null,null,null,null,null,null,null,"Total Sequences in Summary",{"$f":"SUM(O7:O38)","v":11},null,null,null,null,"Total Sequences in Block Summary",{"$f":"SUM(U7:U38)","v":2},null,null,null,"Total Sequences in Block Summary",{"$f":"SUM(Z7:Z38)","v":2},null,null,null,"Total Sequences in Block Summary",{"$f":"SUM(AE7:AE38)","v":1},null,null,null,"Total Sequences in Block Summary",{"$f":"SUM(AJ7:AJ38)","v":2},null,null,null,"Total Sequences in Block Summary",{"$f":"SUM(AO7:AO38)","v":2},null,null,null,"Total Sequences in Block Summary",{"$f":"SUM(AT7:AT38)","v":2}]
[null,null,null,null,null,null,null,null,null,null,null,null,null,null,null,null,null,null,null,"Block 1",null,null,null,null,"Block 2",null,null,null,null,"Block 3",null,null,null,null,"Block 4",null,null,null,null,"Block 5",null,null,null,null,"Block 6"]
["Sequence\nComponent\n1","Time\n1","Sequence\nComponent\n2","Time\n2","Sequence\nComponent\n3","Time\n3","Sequence\nComponent\n4","Time\n4","Sequence\nComponent\n5","Time\n5","Correct?\n0=No 1=Yes","Sequence",null,"Frequency",null,"Relative Frequency","Variability",null,null,"Frequency",null,"Relative Frequency","Variability",null,"Frequency",null,"Relative Frequency","Variability",null,"Frequency",null,"Relative Frequency","Variability",null,"Frequency",null,"Relative Frequency","Variability",null,"Frequency",null,"Relative Frequency","Variability",null,"Frequency",null,"Relative Frequency","Variability"]
[21,32,22,44,24,71,14,100,24,110,0,22212,null,11111,{"$f":"COUNTIF($L$7:$L$500,N7)","v":0},{"$f":"O7/$Q$4","v":0},{"$f":"IF(P7=0,0,(P7*((LOG(P7))/LOG(2))))","v":0},null,null,{"$f":"N7","v":11111},{"$f":"COUNTIF(L7:L8,T7)","v":0},{"$f":"U7/(W4-U25)","v":0},{"$f":"IF(V7=0,0,(V7*((LOG(V7))/LOG(2))))","v":0},null,{"$f":"N7","v":11111},{"$f":"COUNTIF(L9:L10,Y7)","v":0},{"$f":"Z7/(AB4-Z25)","v":0},{"$f":"IF(AA7=0,0,(AA7*((LOG(AA7))/LOG(2))))","v":0},null,{"$f":"N7","v":11111},{"$f":"COUNTIF(L11:L11,AD7)","v":0},{"$f":"AE7/(AG4-AE25)","v":0},{"$f":"IF(AF7=0,0,(AF7*((LOG(AF7))/LOG(2))))","v":0},null,{"$f":"N7","v":11111},{"$f":"COUNTIF(L12:L13,AI7)","v":0},{"$f":"AJ7/(AL4-AJ25)","v":0},{"$f":"IF(AK7=0,0,(AK7*((LOG(AK7))/LOG(2))))","v":0},null,{"$f":"N7","v":11111},{"$f":"COUNTIF(L14:L15,AN7)","v":0},{"$f":"AO7/(AQ4-AO25)","v":0},{"$f":"IF(AP7=0,0,(AP7*((LOG(AP7))/LOG(2))))","v":0},null,{"$f":"N7","v":11111},{"$f":"COUNTIF(L16:L17,AS7)","v":0},{"$f":"AT7/(AV4-AT25)","v":0},{"$f":"IF(AU7=0,0,(AU7*((LOG(AU7))/LOG(2))))","v":0}]
[12,273,13,440,24,449,23,459,13,505,0,11221,null,11112,{"$f":"COUNTIF($L$7:$L$500,N8)","v":0},{"$f":"O8/$Q$4","v":0},{"$f":"IF(P8=0,0,(P8*((LOG(P8))/LOG(2))))","v":0},null,null,{"$f":"N8","v":11112},{"$f":"COUNTIF(L7:L8,T8)","v":0},{"$f":"U8/(W4-U25)","v":0},{"$f":"IF(V8=0,0,(V8*((LOG(V8))/LOG(2))))","v":0},null,{"$f":"N8","v":11112},{"$f":"COUNTIF(L9:L10,Y8)","v":0},{"$f":"Z8/(AB4-Z25)","v":0},{"$f":"IF(AA8=0,0,(AA8*((LOG(AA8))/LOG(2))))","v":0},null,{"$f":"N8","v":11112},{"$f":"COUNTIF(L11:L11,AD8)","v":0},{"$f":"AE8/(AG4-AE25)","v":0},{"$f":"IF(AF8=0,0,(AF8*((LOG(AF8))/LOG(2))))","v":0},null,{"$f":"N8","v":11112},{"$f":"COUNTIF(L12:L13,AI8)","v":0},{"$f":"AJ8/(AL4-AJ25)","v":0},{"$f":"IF(AK8=0,0,(AK8*((LOG(AK8))/LOG(2))))","v":0},null,{"$f":"N8","v":11112},{"$f":"COUNTIF(L14:L15,AN8)","v":0},{"$f":"AO8/(AQ4-AO25)","v":0},{"$f":"IF(AP8=0,0,(AP8*((LOG(AP8))/LOG(2))))","v":0},null,{"$f":"N8","v":11112},{"$f":"COUNTIF(L16:L17,AS8)","v":0},{"$f":"AT8/(AV4-AT25)","v":0},{"$f":"IF(AU8=0,0,(AU8*((LOG(AU8))/LOG(2))))","v":0}]
[12,687,24,699,24,710,14,796,24,1443,0,12212,null,11121,{"$f":"COUNTIF($L$7:$L$500,N9)","v":0},{"$f":"O9/$Q$4","v":0},{"$f":"IF(P9=0,0,(P9*((LOG(P9))/LOG(2))))","v":0},null,null,{"$f":"N9","v":11121},{"$f":"COUNTIF(L7:L8,T9)","v":0},{"$f":"U9/(W4-U25)","v":0},{"$f":"IF(V9=0,0,(V9*((LOG(V9))/LOG(2))))","v":0},null,{"$f":"N9","v":11121},{"$f":"COUNTIF(L9:L10,Y9)","v":0},{"$f":"Z9/(AB4-Z25)","v":0},{"$f":"IF(AA9=0,0,(AA9*((LOG(AA9))/LOG(2))))","v":0},null,{"$f":"N9","v":11121},{"$f":"COUNTIF(L11:L11,AD9)","v":0},{"$f":"AE9/(AG4-AE25)","v":0},{"$f":"IF(AF9=0,0,(AF9*((LOG(AF9))/LOG(2))))","v":0},null,{"$f":"N9","v":11121},{"$f":"COUNTIF(L12:L13,AI9)","v":0},{"$f":"AJ9/(AL4-AJ25)","v":0},{"$f":"IF(AK9=0,0,(AK9*((LOG(AK9))/LOG(2))))","v":0},null,{"$f":"N9","v":11121},{"$f":"COUNTIF(L14:L15,AN9)","v":0},{"$f":"AO9/(AQ4-AO25)","v":0},{"$f":"IF(AP9=0,0,(AP9*((LOG(AP9))/LOG(2))))","v":0},null,{"$f":"N9","v":11121},{"$f":"COUNTIF(L16:L17,AS9)","v":0},{"$f":"AT9/(AV4-AT25)","v":0},{"$f":"IF(AU9=0,0,(AU9*((LOG(AU9))/LOG(2))))","v":0}]
[12,1621,24,1633,13,1648,23,1658,13,1672,0,12121,null,11122,{"$f":"COUNTIF($L$7:$L$500,N10)","v":0},{"$f":"O10/$Q$4","v":0},{"$f":"IF(P10=0,0,(P10*((LOG(P10))/LOG(2))))","v":0},null,null,{"$f":"N10","v":11122},{"$f":"COUNTIF(L7:L8,T10)","v":0},{"$f":"U10/(W4-U25)","v":0},{"$f":"IF(V10=0,0,(V10*((LOG(V10))/LOG(2))))","v":0},null,{"$f":"N10","v":11122},{"$f":"COUNTIF(L9:L10,Y10)","v":0},{"$f":"Z10/(AB4-Z25)","v":0},{"$f":"IF(AA10=0,0,(AA10*((LOG(AA10))/LOG(2))))","v":0},null,{"$f":"N10","v":11122},{"$f":"COUNTIF(L11:L11,AD10)","v":0},{"$f":"AE10/(AG4-AE25)","v":0},{"$f":"IF(AF10=0,0,(AF10*((LOG(AF10))/LOG(2))))","v":0},null,{"$f":"N10","v":11122},{"$f":"COUNTIF(L12:L13,AI10)","v":0},{"$f":"AJ10/(AL4-AJ25)","v":0},{"$f":"IF(AK10=0,0,(AK10*((LOG(AK10))/LOG(2))))","v":0},null,{"$f":"N10","v":11122},{"$f":"COUNTIF(L14:L15,AN10)","v":0},{"$f":"AO10/(AQ4-AO25)","v":0},{"$f":"IF(AP10=0,0,(AP10*((LOG(AP10))/LOG(2))))","v":0},null,{"$f":"N10","v":11122},{"$f":"COUNTIF(L16:L17,AS10)","v":0},{"$f":"AT10/(AV4-AT25)","v":0},{"$f":"IF(AU10=0,0,(AU10*((LOG(AU10))/LOG(2))))","v":0}]
[12,1801,24,1810,13,1824,23,1834,24,1867,0,12122,null,11211,{"$f":"COUNTIF($L$7:$L$500,N11)","v":0},{"$f":"O11/$Q$4","v":0},{"$f":"IF(P11=0,0,(P11*((LOG(P11))/LOG(2))))","v":0},null,null,{"$f":"N11","v":11211},{"$f":"COUNTIF(L7:L8,T11)","v":0},{"$f":"U11/(W4-U25)","v":0},{"$f":"IF(V11=0,0,(V11*((LOG(V11))/LOG(2))))","v":0},null,{"$f":"N11","v":11211},{"$f":"COUNTIF(L9:L10,Y11)","v":0},{"$f":"Z11/(AB4-Z25)","v":0},{"$f":"IF(AA11=0,0,(AA11*((LOG(AA11))/LOG(2))))","v":0},null,{"$f":"N11","v":11211},{"$f":"COUNTIF(L11:L11,AD11)","v":0},{"$f":"AE11/(AG4-AE25)","v":0},{"$f":"IF(AF11=0,0,(AF11*((LOG(AF11))/LOG(2))))","v":0},null,{"$f":"N11","v":11211},{"$f":"COUNTIF(L12:L13,AI11)","v":0},{"$f":"AJ11/(AL4-AJ25)","v":0},{"$f":"IF(AK11=0,0,(AK11*((LOG(AK11))/LOG(2))))","v":0},null,{"$f":"N11","v":11211},{"$f":"COUNTIF(L14:L15,AN11)","v":0},{"$f":"AO11/(AQ4-AO25)","v":0},{"$f":"IF(AP11=0,0,(AP11*((LOG(AP11))/LOG(2))))","v":0},null,{"$f":"N11","v":11211},{"$f":"COUNTIF(L16:L17,AS11)","v":0},{"$f":"AT11/(AV4-AT25)","v":0},{"$f":"IF(AU11=0,0,(AU11*((LOG(AU11))/LOG(2))))","v":0}]
[21,2512,22,2533,13,2561,23,2572,13,2587,0,22121,null,11212,{"$f":"COUNTIF($L$7:$L$500,N12)","v":1},{"$f":"O12/$Q$4","v":9.0909090909090912E-2},{"$f":"IF(P12=0,0,(P12*((LOG(P12))/LOG(2))))","v":-0.31449378351248153},null,null,{"$f":"N12","v":11212},{"$f":"COUNTIF(L7:L8,T12)","v":0},{"$f":"U12/(W4-U25)","v":0},{"$f":"IF(V12=0,0,(V12*((LOG(V12))/LOG(2))))","v":0},null,{"$f":"N12","v":11212},{"$f":"COUNTIF(L9:L10,Y12)","v":0},{"$f":"Z12/(AB4-Z25)","v":0},{"$f":"IF(AA12=0,0,(AA12*((LOG(AA12))/LOG(2))))","v":0},null,{"$f":"N12","v":11212},{"$f":"COUNTIF(L11:L11,AD12)","v":0},{"$f":"AE12/(AG4-AE25)","v":0},{"$f":"IF(AF12=0,0,(AF12*((LOG(AF12))/LOG(2))))","v":0},null,{"$f":"N12","v":11212},{"$f":"COUNTIF(L12:L13,AI12)","v":0},{"$f":"AJ12/(AL4-AJ25)","v":0},{"$f":"IF(AK12=0,0,(AK12*((LOG(AK12))/LOG(2))))","v":0},null,{"$f":"N12","v":11212},{"$f":"COUNTIF(L14:L15,AN12)","v":0},{"$f":"AO12/(AQ4-AO25)","v":0},{"$f":"IF(AP12=0,0,(AP12*((LOG(AP12))/LOG(2))))","v":0},null,{"$f":"N12","v":11212},{"$f":"COUNTIF(L16:L17,AS12)","v":1},{"$f":"AT12/(AV4-AT25)","v":0.5},{"$f":"IF(AU12=0,0,(AU12*((LOG(AU12))/LOG(2))))","v":-0.5}]
[12,3564,24,3575,24,3590,14,3605,24,3615,0,12212,null,11221,{"$f":"COUNTIF($L$7:$L$500,N13)","v":1},{"$f":"O13/$Q$4","v":9.0909090909090912E-2},{"$f":"IF(P13=0,0,(P13*((LOG(P13))/LOG(2))))","v":-0.31449378351248153},null,null,{"$f":"N13","v":11221},{"$f":"COUNTIF(L7:L8,T13)","v":1},{"$f":"U13/(W4-U25)","v":0.5},{"$f":"IF(V13=0,0,(V13*((LOG(V13))/LOG(2))))","v":-0.5},null,{"$f":"N13","v":11221},{"$f":"COUNTIF(L9:L10,Y13)","v":0},{"$f":"Z13/(AB4-Z25)","v":0},{"$f":"IF(AA13=0,0,(AA13*((LOG(AA13))/LOG(2))))","v":0},null,{"$f":"N13","v":11221},{"$f":"COUNTIF(L11:L11,AD13)","v":0},{"$f":"AE13/(AG4-AE25)","v":0},{"$f":"IF(AF13=0,0,(AF13*((LOG(AF13))/LOG(2))))","v":0},null,{"$f":"N13","v":11221},{"$f":"COUNTIF(L12:L13,AI13)","v":0},{"$f":"AJ13/(AL4-AJ25)","v":0},{"$f":"IF(AK13=0,0,(AK13*((LOG(AK13))/LOG(2))))","v":0},null,{"$f":"N13","v":11221},{"$f":"COUNTIF(L14:L15,AN13)","v":0},{"$f":"AO13/(AQ4-AO25)","v":0},{"$f":"IF(AP13=0,0,(AP13*((LOG(AP13))/LOG(2))))","v":0},null,{"$f":"N13","v":11221},{"$f":"COUNTIF(L16:L17,AS13)","v":0},{"$f":"AT13/(AV4-AT25)","v":0},{"$f":"IF(AU13=0,0,(AU13*((LOG(AU13))/LOG(2))))","v":0}]
[21,4269,22,4284,13,4316,23,4328,13,4343,0,22121,null,11222,{"$f":"COUNTIF($L$7:$L$500,N14)","v":0},{"$f":"O14/$Q$4","v":0},{"$f":"IF(P14=0,0,(P14*((LOG(P14))/LOG(2))))","v":0},null,null,{"$f":"N14","v":11222},{"$f":"COUNTIF(L7:L8,T14)","v":0},{"$f":"U14/(W4-U25)","v":0},{"$f":"IF(V14=0,0,(V14*((LOG(V14))/LOG(2))))","v":0},null,{"$f":"N14","v":11222},{"$f":"COUNTIF(L9:L10,Y14)","v":0},{"$f":"Z14/(AB4-Z25)","v":0},{"$f":"IF(AA14=0,0,(AA14*((LOG(AA14))/LOG(2))))","v":0},null,{"$f":"N14","v":11222},{"$f":"COUNTIF(L11:L11,AD14)","v":0},{"$f":"AE14/(AG4-AE25)","v":0},{"$f":"IF(AF14=0,0,(AF14*((LOG(AF14))/LOG(2))))","v":0},null,{"$f":"N14","v":11222},{"$f":"COUNTIF(L12:L13,AI14)","v":0},{"$f":"AJ14/(AL4-AJ25)","v":0},{"$f":"IF(AK14=0,0,(AK14*((LOG(AK14))/LOG(2))))","v":0},null,{"$f":"N14","v":11222},{"$f":"COUNTIF(L14:L15,AN14)","v":0},{"$f":"AO14/(AQ4-AO25)","v":0},{"$f":"IF(AP14=0,0,(AP14*((LOG(AP14))/LOG(2))))","v":0},null,{"$f":"N14","v":11222},{"$f":"COUNTIF(L16:L17,AS14)","v":0},{"$f":"AT14/(AV4-AT25)","v":0},{"$f":"IF(AU14=0,0,(AU14*((LOG(AU14))/LOG(2))))","v":0}]
[21,4526,11,4590,22,4601,14,4638,24,4649,0,21212,null,12111,{"$f":"COUNTIF($L$7:$L$500,N15)","v":0},{"$f":"O15/$Q$4","v":0},{"$f":"IF(P15=0,0,(P15*((LOG(P15))/LOG(2))))","v":0},null,null,{"$f":"N15","v":12111},{"$f":"COUNTIF(L7:L8,T15)","v":0},{"$f":"U15/(W4-U25)","v":0},{"$f":"IF(V15=0,0,(V15*((LOG(V15))/LOG(2))))","v":0},null,{"$f":"N15","v":12111},{"$f":"COUNTIF(L9:L10,Y15)","v":0},{"$f":"Z15/(AB4-Z25)","v":0},{"$f":"IF(AA15=0,0,(AA15*((LOG(AA15))/LOG(2))))","v":0},null,{"$f":"N15","v":12111},{"$f":"COUNTIF(L11:L11,AD15)","v":0},{"$f":"AE15/(AG4-AE25)","v":0},{"$f":"IF(AF15=0,0,(AF15*((LOG(AF15))/LOG(2))))","v":0},null,{"$f":"N15","v":12111},{"$f":"COUNTIF(L12:L13,AI15)","v":0},{"$f":"AJ15/(AL4-AJ25)","v":0},{"$f":"IF(AK15=0,0,(AK15*((LOG(AK15))/LOG(2))))","v":0},null,{"$f":"N15","v":12111},{"$f":"COUNTIF(L14:L15,AN15)","v":0},{"$f":"AO15/(AQ4-AO25)","v":0},{"$f":"IF(AP15=0,0,(AP15*((LOG(AP15))/LOG(2))))","v":0},null,{"$f":"N15","v":12111},{"$f":"COUNTIF(L16:L17,AS15)","v":0},{"$f":"AT15/(AV4-AT25)","v":0},{"$f":"IF(AU15=0,0,(AU15*((LOG(AU15))/LOG(2))))","v":0}]
[12,10703,13,10727,24,20527,14,20641,24,20656,0,11212,null,12112,{"$f":"COUNTIF($L$7:$L$500,N16)","v":0},{"$f":"O16/$Q$4","v":0},{"$f":"IF(P16=0,0,(P16*((LOG(P16))/LOG(2))))","v":0},null,null,{"$f":"N16","v":12112},{"$f":"COUNTIF(L7:L8,T16)","v":0},{"$f":"U16/(W4-U25)","v":0},{"$f":"IF(V16=0,0,(V16*((LOG(V16))/LOG(2))))","v":0},null,{"$f":"N16","v":12112},{"$f":"COUNTIF(L9:L10,Y16)","v":0},{"$f":"Z16/(AB4-Z25)","v":0},{"$f":"IF(AA16=0,0,(AA16*((LOG(AA16))/LOG(2))))","v":0},null,{"$f":"N16","v":12112},{"$f":"COUNTIF(L11:L11,AD16)","v":0},{"$f":"AE16/(AG4-AE25)","v":0},{"$f":"IF(AF16=0,0,(AF16*((LOG(AF16))/LOG(2))))","v":0},null,{"$f":"N16","v":12112},{"$f":"COUNTIF(L12:L13,AI16)","v":0},{"$f":"AJ16/(AL4-AJ25)","v":0},{"$f":"IF(AK16=0,0,(AK16*((LOG(AK16))/LOG(2))))","v":0},null,{"$f":"N16","v":12112},{"$f":"COUNTIF(L14:L15,AN16)","v":0},{"$f":"AO16/(AQ4-AO25)","v":0},{"$f":"IF(AP16=0,0,(AP16*((LOG(AP16))/LOG(2))))","v":0},null,{"$f":"N16","v":12112},{"$f":"COUNTIF(L16:L17,AS16)","v":0},{"$f":"AT16/(AV4-AT25)","v":0},{"$f":"IF(AU16=0,0,(AU16*((LOG(AU16))/LOG(2))))","v":0}]
[12,21077,24,21089,24,21128,14,23930,13,23955,null,12211,null,12121,{"$f":"COUNTIF($L$7:$L$500,N17)","v":1},{"$f":"O17/$Q$4","v":9.0909090909090912E-2},{"$f":"IF(P17=0,0,(P17*((LOG(P17))/LOG(2))))","v":-0.31449378351248153},null,null,{"$f":"N17","v":12121},{"$f":"COUNTIF(L7:L8,T17)","v":0},{"$f":"U17/(W4-U25)","v":0},{"$f":"IF(V17=0,0,(V17*((LOG(V17))/LOG(2))))","v":0},null,{"$f":"N17","v":12121},{"$f":"COUNTIF(L9:L10,Y17)","v":1},{"$f":"Z17/(AB4-Z25)","v":0.5},{"$f":"IF(AA17=0,0,(AA17*((LOG(AA17))/LOG(2))))","v":-0.5},null,{"$f":"N17","v":12121},{"$f":"COUNTIF(L11:L11,AD17)","v":0},{"$f":"AE17/(AG4-AE25)","v":0},{"$f":"IF(AF17=0,0,(AF17*((LOG(AF17))/LOG(2))))","v":0},null,{"$f":"N17","v":12121},{"$f":"COUNTIF(L12:L13,AI17)","v":0},{"$f":"AJ17/(AL4-AJ25)","v":0},{"$f":"IF(AK17=0,0,(AK17*((LOG(AK17))/LOG(2))))","v":0},null,{"$f":"N17","v":12121},{"$f":"COUNTIF(L14:L15,AN17)","v":0},{"$f":"AO17/(AQ4-AO25)","v":0},{"$f":"IF(AP17=0,0,(AP17*((LOG(AP17))/LOG(2))))","v":0},null,{"$f":"N17","v":12121},{"$f":"COUNTIF(L16:L17,AS17)","v":0},{"$f":"AT17/(AV4-AT25)","v":0},{"$f":"IF(AU17=0,0,(AU17*((LOG(AU17))/LOG(2))))","v":0}]
[null,null,null,null,null,null,null,null,null,null,null,null,null,12122,{"$f":"COUNTIF($L$7:$L$500,N18)","v":1},{"$f":"O18/$Q$4","v":9.0909090909090912E-2},{"$f":"IF(P18=0,0,(P18*((LOG(P18))/LOG(2))))","v":-0.31449378351248153},null,null,{"$f":"N18","v":12122},{"$f":"COUNTIF(L7:L8,T18)","v":0},{"$f":"U18/(W4-U25)","v":0},{"$f":"IF(V18=0,0,(V18*((LOG(V18))/LOG(2))))","v":0},null,{"$f":"N18","v":12122},{"$f":"COUNTIF(L9:L10,Y18)","v":0},{"$f":"Z18/(AB4-Z25)","v":0},{"$f":"IF(AA18=0,0,(AA18*((LOG(AA18))/LOG(2))))","v":0},null,{"$f":"N18","v":12122},{"$f":"COUNTIF(L11:L11,AD18)","v":1},{"$f":"AE18/(AG4-AE25)","v":1},{"$f":"IF(AF18=0,0,(AF18*((LOG(AF18))/LOG(2))))","v":0},null,{"$f":"N18","v":12122},{"$f":"COUNTIF(L12:L13,AI18)","v":0},{"$f":"AJ18/(AL4-AJ25)","v":0},{"$f":"IF(AK18=0,0,(AK18*((LOG(AK18))/LOG(2))))","v":0},null,{"$f":"N18","v":12122},{"$f":"COUNTIF(L14:L15,AN18)","v":0},{"$f":"AO18/(AQ4-AO25)","v":0},{"$f":"IF(AP18=0,0,(AP18*((LOG(AP18))/LOG(2))))","v":0},null,{"$f":"N18","v":12122},{"$f":"COUNTIF(L16:L17,AS18)","v":0},{"$f":"AT18/(AV4-AT25)","v":0},{"$f":"IF(AU18=0,0,(AU18*((LOG(AU18))/LOG(2))))","v":0}]
[null,null,null,null,null,null,null,null,null,null,null,null,null,12211,{"$f":"COUNTIF($L$7:$L$500,N19)","v":1},{"$f":"O19/$Q$4","v":9.0909090909090912E-2},{"$f":"IF(P19=0,0,(P19*((LOG(P19))/LOG(2))))","v":-0.31449378351248153},null,null,{"$f":"N19","v":12211},{"$f":"COUNTIF(L7:L8,T19)","v":0},{"$f":"U19/(W4-U25)","v":0},{"$f":"IF(V19=0,0,(V19*((LOG(V19))/LOG(2))))","v":0},null,{"$f":"N19","v":12211},{"$f":"COUNTIF(L9:L10,Y19)","v":0},{"$f":"Z19/(AB4-Z25)","v":0},{"$f":"IF(AA19=0,0,(AA19*((LOG(AA19))/LOG(2))))","v":0},null,{"$f":"N19","v":12211},{"$f":"COUNTIF(L11:L11,AD19)","v":0},{"$f":"AE19/(AG4-AE25)","v":0},{"$f":"IF(AF19=0,0,(AF19*((LOG(AF19))/LOG(2))))","v":0},null,{"$f":"N19","v":12211},{"$f":"COUNTIF(L12:L13,AI19)","v":0},{"$f":"AJ19/(AL4-AJ25)","v":0},{"$f":"IF(AK19=0,0,(AK19*((LOG(AK19))/LOG(2))))","v":0},null,{"$f":"N19","v":12211},{"$f":"COUNTIF(L14:L15,AN19)","v":0},{"$f":"AO19/(AQ4-AO25)","v":0},{"$f":"IF(AP19=0,0,(AP19*((LOG(AP19))/LOG(2))))","v":0},null,{"$f":"N19","v":12211},{"$f":"COUNTIF(L16:L17,AS19)","v":1},{"$f":"AT19/(AV4-AT25)","v":0.5},{"$f":"IF(AU19=0,0,(AU19*((LOG(AU19))/LOG(2))))","v":-0.5}]
[null,null,null,null,null,null,null,null,null,null,null,null,null,12212,{"$f":"COUNTIF($L$7:$L$500,N20)","v":2},{"$f":"O20/$Q$4","v":0.18181818181818182},{"$f":"IF(P20=0,0,(P20*((LOG(P20))/LOG(2))))","v":-0.44716938520678134},null,null,{"$f":"N20","v":12212},{"$f":"COUNTIF(L7:L8,T20)","v":0},{"$f":"U20/(W4-U25)","v":0},{"$f":"IF(V20=0,0,(V20*((LOG(V20))/LOG(2))))","v":0},null,{"$f":"N20","v":12212},{"$f":"COUNTIF(L9:L10,Y20)","v":1},{"$f":"Z20/(AB4-Z25)","v":0.5},{"$f":"IF(AA20=0,0,(AA20*((LOG(AA20))/LOG(2))))","v":-0.5},null,{"$f":"N20","v":12212},{"$f":"COUNTIF(L11:L11,AD20)","v":0},{"$f":"AE20/(AG4-AE25)","v":0},{"$f":"IF(AF20=0,0,(AF20*((LOG(AF20))/LOG(2))))","v":0},null,{"$f":"N20","v":12212},{"$f":"COUNTIF(L12:L13,AI20)","v":1},{"$f":"AJ20/(AL4-AJ25)","v":0.5},{"$f":"IF(AK20=0,0,(AK20*((LOG(AK20))/LOG(2))))","v":-0.5},null,{"$f":"N20","v":12212},{"$f":"COUNTIF(L14:L15,AN20)","v":0},{"$f":"AO20/(AQ4-AO25)","v":0},{"$f":"IF(AP20=0,0,(AP20*((LOG(AP20))/LOG(2))))","v":0},null,{"$f":"N20","v":12212},{"$f":"COUNTIF(L16:L17,AS20)","v":0},{"$f":"AT20/(AV4-AT25)","v":0},{"$f":"IF(AU20=0,0,(AU20*((LOG(AU20))/LOG(2))))","v":0}]
[null,null,null,null,null,null,null,null,null,null,null,null,null,12221,{"$f":"COUNTIF($L$7:$L$500,N21)","v":0},{"$f":"O21/$Q$4","v":0},{"$f":"IF(P21=0,0,(P21*((LOG(P21))/LOG(2))))","v":0},null,null,{"$f":"N21","v":12221},{"$f":"COUNTIF(L7:L8,T21)","v":0},{"$f":"U21/(W4-U25)","v":0},{"$f":"IF(V21=0,0,(V21*((LOG(V21))/LOG(2))))","v":0},null,{"$f":"N21","v":12221},{"$f":"COUNTIF(L9:L10,Y21)","v":0},{"$f":"Z21/(AB4-Z25)","v":0},{"$f":"IF(AA21=0,0,(AA21*((LOG(AA21))/LOG(2))))","v":0},null,{"$f":"N21","v":12221},{"$f":"COUNTIF(L11:L11,AD21)","v":0},{"$f":"AE21/(AG4-AE25)","v":0},{"$f":"IF(AF21=0,0,(AF21*((LOG(AF21))/LOG(2))))","v":0},null,{"$f":"N21","v":12221},{"$f":"COUNTIF(L12:L13,AI21)","v":0},{"$f":"AJ21/(AL4-AJ25)","v":0},{"$f":"IF(AK21=0,0,(AK21*((LOG(AK21))/LOG(2))))","v":0},null,{"$f":"N21","v":12221},{"$f":"COUNTIF(L14:L15,AN21)","v":0},{"$f":"AO21/(AQ4-AO25)","v":0},{"$f":"IF(AP21=0,0,(AP21*((LOG(AP21))/LOG(2))))","v":0},null,{"$f":"N21","v":12221},{"$f":"COUNTIF(L16:L17,AS21)","v":0},{"$f":"AT21/(AV4-AT25)","v":0},{"$f":"IF(AU21=0,0,(AU21*((LOG(AU21))/LOG(2))))","v":0}]
[null,null,null,null,null,null,null,null,null,null,null,null,null,12222,{"$f":"COUNTIF($L$7:$L$500,N22)","v":0},{"$f":"O22/$Q$4","v":0},{"$f":"IF(P22=0,0,(P22*((LOG(P22))/LOG(2))))","v":0},null,null,{"$f":"N22","v":12222},{"$f":"COUNTIF(L7:L8,T22)","v":0},{"$f":"U22/(W4-U25)","v":0},{"$f":"IF(V22=0,0,(V22*((LOG(V22))/LOG(2))))","v":0},null,{"$f":"N22","v":12222},{"$f":"COUNTIF(L9:L10,Y22)","v":0},{"$f":"Z22/(AB4-Z25)","v":0},{"$f":"IF(AA22=0,0,(AA22*((LOG(AA22))/LOG(2))))","v":0},null,{"$f":"N22","v":12222},{"$f":"COUNTIF(L11:L11,AD22)","v":0},{"$f":"AE22/(AG4-AE25)","v":0},{"$f":"IF(AF22=0,0,(AF22*((LOG(AF22))/LOG(2))))","v":0},null,{"$f":"N22","v":12222},{"$f":"COUNTIF(L12:L13,AI22)","v":0},{"$f":"AJ22/(AL4-AJ25)","v":0},{"$f":"IF(AK22=0,0,(AK22*((LOG(AK22))/LOG(2))))","v":0},null,{"$f":"N22","v":12222},{"$f":"COUNTIF(L14:L15,AN22)","v":0},{"$f":"AO22/(AQ4-AO25)","v":0},{"$f":"IF(AP22=0,0,(AP22*((LOG(AP22))/LOG(2))))","v":0},null,{"$f":"N22","v":12222},{"$f":"COUNTIF(L16:L17,AS22)","v":0},{"$f":"AT22/(AV4-AT25)","v":0},{"$f":"IF(AU22=0,0,(AU22*((LOG(AU22))/LOG(2))))","v":0}]
[null,null,null,null,null,null,null,null,null,null,null,null,null,21111,{"$f":"COUNTIF($L$7:$L$500,N23)","v":0},{"$f":"O23/$Q$4","v":0},{"$f":"IF(P23=0,0,(P23*((LOG(P23))/LOG(2))))","v":0},null,null,{"$f":"N23","v":21111},{"$f":"COUNTIF(L7:L8,T23)","v":0},{"$f":"U23/(W4-U25)","v":0},{"$f":"IF(V23=0,0,(V23*((LOG(V23))/LOG(2))))","v":0},null,{"$f":"N23","v":21111},{"$f":"COUNTIF(L9:L10,Y23)","v":0},{"$f":"Z23/(AB4-Z25)","v":0},{"$f":"IF(AA23=0,0,(AA23*((LOG(AA23))/LOG(2))))","v":0},null,{"$f":"N23","v":21111},{"$f":"COUNTIF(L11:L11,AD23)","v":0},{"$f":"AE23/(AG4-AE25)","v":0},{"$f":"IF(AF23=0,0,(AF23*((LOG(AF23))/LOG(2))))","v":0},null,{"$f":"N23","v":21111},{"$f":"COUNTIF(L12:L13,AI23)","v":0},{"$f":"AJ23/(AL4-AJ25)","v":0},{"$f":"IF(AK23=0,0,(AK23*((LOG(AK23))/LOG(2))))","v":0},null,{"$f":"N23","v":21111},{"$f":"COUNTIF(L14:L15,AN23)","v":0},{"$f":"AO23/(AQ4-AO25)","v":0},{"$f":"IF(AP23=0,0,(AP23*((LOG(AP23))/LOG(2))))","v":0},null,{"$f":"N23","v":21111},{"$f":"COUNTIF(L16:L17,AS23)","v":0},{"$f":"AT23/(AV4-AT25)","v":0},{"$f":"IF(AU23=0,0,(AU23*((LOG(AU23))/LOG(2))))","v":0}]
[null,null,null,null,null,null,null,null,null,null,null,null,null,21112,{"$f":"COUNTIF($L$7:$L$500,N24)","v":0},{"$f":"O24/$Q$4","v":0},{"$f":"IF(P24=0,0,(P24*((LOG(P24))/LOG(2))))","v":0},null,null,{"$f":"N24","v":21112},{"$f":"COUNTIF(L7:L8,T24)","v":0},{"$f":"U24/(W4-U25)","v":0},{"$f":"IF(V24=0,0,(V24*((LOG(V24))/LOG(2))))","v":0},null,{"$f":"N24","v":21112},{"$f":"COUNTIF(L9:L10,Y24)","v":0},{"$f":"Z24/(AB4-Z25)","v":0},{"$f":"IF(AA24=0,0,(AA24*((LOG(AA24))/LOG(2))))","v":0},null,{"$f":"N24","v":21112},{"$f":"COUNTIF(L11:L11,AD24)","v":0},{"$f":"AE24/(AG4-AE25)","v":0},{"$f":"IF(AF24=0,0,(AF24*((LOG(AF24))/LOG(2))))","v":0},null,{"$f":"N24","v":21112},{"$f":"COUNTIF(L12:L13,AI24)","v":0},{"$f":"AJ24/(AL4-AJ25)","v":0},{"$f":"IF(AK24=0,0,(AK24*((LOG(AK24))/LOG(2))))","v":0},null,{"$f":"N24","v":21112},{"$f":"COUNTIF(L14:L15,AN24)","v":0},{"$f":"AO24/(AQ4-AO25)","v":0},{"$f":"IF(AP24=0,0,(AP24*((LOG(AP24))/LOG(2))))","v":0},null,{"$f":"N24","v":21112},{"$f":"COUNTIF(L16:L17,AS24)","v":0},{"$f":"AT24/(AV4-AT25)","v":0},{"$f":"IF(AU24=0,0,(AU24*((LOG(AU24))/LOG(2))))","v":0}]
[null,null,null,null,null,null,null,null,null,null,null,null,null,21121,{"$f":"COUNTIF($L$7:$L$500,N25)","v":0},{"$f":"O25/$Q$4","v":0},{"$f":"IF(P25=0,0,(P25*((LOG(P25))/LOG(2))))","v":0},null,null,{"$f":"N25","v":21121},{"$f":"COUNTIF(L7:L8,T25)","v":0},null,null,null,{"$f":"N25","v":21121},{"$f":"COUNTIF(L9:L10,Y25)","v":0},null,null,null,{"$f":"N25","v":21121},{"$f":"COUNTIF(L11:L11,AD25)","v":0},null,null,null,{"$f":"N25","v":21121},{"$f":"COUNTIF(L12:L13,AI25)","v":0},null,null,null,{"$f":"N25","v":21121},{"$f":"COUNTIF(L14:L15,AN25)","v":0},null,null,null,{"$f":"N25","v":21121},{"$f":"COUNTIF(L16:L17,AS25)","v":0}]
[null,null,null,null,null,null,null,null,null,null,null,null,null,21122,{"$f":"COUNTIF($L$7:$L$500,N26)","v":0},{"$f":"O26/$Q$4","v":0},{"$f":"IF(P26=0,0,(P26*((LOG(P26))/LOG(2))))","v":0},null,null,{"$f":"N26","v":21122},{"$f":"COUNTIF(L7:L8,T26)","v":0},{"$f":"U26/(W4-U25)","v":0},{"$f":"IF(V26=0,0,(V26*((LOG(V26))/LOG(2))))","v":0},null,{"$f":"N26","v":21122},{"$f":"COUNTIF(L9:L10,Y26)","v":0},{"$f":"Z26/(AB4-Z25)","v":0},{"$f":"IF(AA26=0,0,(AA26*((LOG(AA26))/LOG(2))))","v":0},null,{"$f":"N26","v":21122},{"$f":"COUNTIF(L11:L11,AD26)","v":0},{"$f":"AE26/(AG4-AE25)","v":0},{"$f":"IF(AF26=0,0,(AF26*((LOG(AF26))/LOG(2))))","v":0},null,{"$f":"N26","v":21122},{"$f":"COUNTIF(L12:L13,AI26)","v":0},{"$f":"AJ26/(AL4-AJ25)","v":0},{"$f":"IF(AK26=0,0,(AK26*((LOG(AK26))/LOG(2))))","v":0},null,{"$f":"N26","v":21122},{"$f":"COUNTIF(L14:L15,AN26)","v":0},{"$f":"AO26/(AQ4-AO25)","v":0},{"$f":"IF(AP26=0,0,(AP26*((LOG(AP26))/LOG(2))))","v":0},null,{"$f":"N26","v":21122},{"$f":"COUNTIF(L16:L17,AS26)","v":0},{"$f":"AT26/(AV4-AT25)","v":0},{"$f":"IF(AU26=0,0,(AU26*((LOG(AU26))/LOG(2))))","v":0}]
[null,null,null,null,null,null,null,null,null,null,null,null,null,21211,{"$f":"COUNTIF($L$7:$L$500,N27)","v":0},{"$f":"O27/$Q$4","v":0},{"$f":"IF(P27=0,0,(P27*((LOG(P27))/LOG(2))))","v":0},null,null,{"$f":"N27","v":21211},{"$f":"COUNTIF(L7:L8,T27)","v":0},{"$f":"U27/(W4-U25)","v":0},{"$f":"IF(V27=0,0,(V27*((LOG(V27))/LOG(2))))","v":0},null,{"$f":"N27","v":21211},{"$f":"COUNTIF(L9:L10,Y27)","v":0},{"$f":"Z27/(AB4-Z25)","v":0},{"$f":"IF(AA27=0,0,(AA27*((LOG(AA27))/LOG(2))))","v":0},null,{"$f":"N27","v":21211},{"$f":"COUNTIF(L11:L11,AD27)","v":0},{"$f":"AE27/(AG4-AE25)","v":0},{"$f":"IF(AF27=0,0,(AF27*((LOG(AF27))/LOG(2))))","v":0},null,{"$f":"N27","v":21211},{"$f":"COUNTIF(L12:L13,AI27)","v":0},{"$f":"AJ27/(AL4-AJ25)","v":0},{"$f":"IF(AK27=0,0,(AK27*((LOG(AK27))/LOG(2))))","v":0},null,{"$f":"N27","v":21211},{"$f":"COUNTIF(L14:L15,AN27)","v":0},{"$f":"AO27/(AQ4-AO25)","v":0},{"$f":"IF(AP27=0,0,(AP27*((LOG(AP27))/LOG(2))))","v":0},null,{"$f":"N27","v":21211},{"$f":"COUNTIF(L16:L17,AS27)","v":0},{"$f":"AT27/(AV4-AT25)","v":0},{"$f":"IF(AU27=0,0,(AU27*((LOG(AU27))/LOG(2))))","v":0}]
[null,null,null,null,null,null,null,null,null,null,null,null,null,21212,{"$f":"COUNTIF($L$7:$L$500,N28)","v":1},{"$f":"O28/$Q$4","v":9.0909090909090912E-2},{"$f":"IF(P28=0,0,(P28*((LOG(P28))/LOG(2))))","v":-0.31449378351248153},null,null,{"$f":"N28","v":21212},{"$f":"COUNTIF(L7:L8,T28)","v":0},{"$f":"U28/(W4-U25)","v":0},{"$f":"IF(V28=0,0,(V28*((LOG(V28))/LOG(2))))","v":0},null,{"$f":"N28","v":21212},{"$f":"COUNTIF(L9:L10,Y28)","v":0},{"$f":"Z28/(AB4-Z25)","v":0},{"$f":"IF(AA28=0,0,(AA28*((LOG(AA28))/LOG(2))))","v":0},null,{"$f":"N28","v":21212},{"$f":"COUNTIF(L11:L11,AD28)","v":0},{"$f":"AE28/(AG4-AE25)","v":0},{"$f":"IF(AF28=0,0,(AF28*((LOG(AF28))/LOG(2))))","v":0},null,{"$f":"N28","v":21212},{"$f":"COUNTIF(L12:L13,AI28)","v":0},{"$f":"AJ28/(AL4-AJ25)","v":0},{"$f":"IF(AK28=0,0,(AK28*((LOG(AK28))/LOG(2))))","v":0},null,{"$f":"N28","v":21212},{"$f":"COUNTIF(L14:L15,AN28)","v":1},{"$f":"AO28/(AQ4-AO25)","v":0.5},{"$f":"IF(AP28=0,0,(AP28*((LOG(AP28))/LOG(2))))","v":-0.5},null,{"$f":"N28","v":21212},{"$f":"COUNTIF(L16:L17,AS28)","v":0},{"$f":"AT28/(AV4-AT25)","v":0},{"$f":"IF(AU28=0,0,(AU28*((LOG(AU28))/LOG(2))))","v":0}]
[null,null,null,null,null,null,null,null,null,null,null,null,null,21221,{"$f":"COUNTIF($L$7:$L$500,N29)","v":0},{"$f":"O29/$Q$4","v":0},{"$f":"IF(P29=0,0,(P29*((LOG(P29))/LOG(2))))","v":0},null,null,{"$f":"N29","v":21221},{"$f":"COUNTIF(L7:L8,T29)","v":0},{"$f":"U29/(W4-U25)","v":0},{"$f":"IF(V29=0,0,(V29*((LOG(V29))/LOG(2))))","v":0},null,{"$f":"N29","v":21221},{"$f":"COUNTIF(L9:L10,Y29)","v":0},{"$f":"Z29/(AB4-Z25)","v":0},{"$f":"IF(AA29=0,0,(AA29*((LOG(AA29))/LOG(2))))","v":0},null,{"$f":"N29","v":21221},{"$f":"COUNTIF(L11:L11,AD29)","v":0},{"$f":"AE29/(AG4-AE25)","v":0},{"$f":"IF(AF29=0,0,(AF29*((LOG(AF29))/LOG(2))))","v":0},null,{"$f":"N29","v":21221},{"$f":"COUNTIF(L12:L13,AI29)","v":0},{"$f":"AJ29/(AL4-AJ25)","v":0},{"$f":"IF(AK29=0,0,(AK29*((LOG(AK29))/LOG(2))))","v":0},null,{"$f":"N29","v":21221},{"$f":"COUNTIF(L14:L15,AN29)","v":0},{"$f":"AO29/(AQ4-AO25)","v":0},{"$f":"IF(AP29=0,0,(AP29*((LOG(AP29))/LOG(2))))","v":0},null,{"$f":"N29","v":21221},{"$f":"COUNTIF(L16:L17,AS29)","v":0},{"$f":"AT29/(AV4-AT25)","v":0},{"$f":"IF(AU29=0,0,(AU29*((LOG(AU29))/LOG(2))))","v":0}]
[null,null,null,null,null,null,null,null,null,null,null,null,null,21222,{"$f":"COUNTIF($L$7:$L$500,N30)","v":0},{"$f":"O30/$Q$4","v":0},{"$f":"IF(P30=0,0,(P30*((LOG(P30))/LOG(2))))","v":0},null,null,{"$f":"N30","v":21222},{"$f":"COUNTIF(L7:L8,T30)","v":0},{"$f":"U30/(W4-U25)","v":0},{"$f":"IF(V30=0,0,(V30*((LOG(V30))/LOG(2))))","v":0},null,{"$f":"N30","v":21222},{"$f":"COUNTIF(L9:L10,Y30)","v":0},{"$f":"Z30/(AB4-Z25)","v":0},{"$f":"IF(AA30=0,0,(AA30*((LOG(AA30))/LOG(2))))","v":0},null,{"$f":"N30","v":21222},{"$f":"COUNTIF(L11:L11,AD30)","v":0},{"$f":"AE30/(AG4-AE25)","v":0},{"$f":"IF(AF30=0,0,(AF30*((LOG(AF30))/LOG(2))))","v":0},null,{"$f":"N30","v":21222},{"$f":"COUNTIF(L12:L13,AI30)","v":0},{"$f":"AJ30/(AL4-AJ25)","v":0},{"$f":"IF(AK30=0,0,(AK30*((LOG(AK30))/LOG(2))))","v":0},null,{"$f":"N30","v":21222},{"$f":"COUNTIF(L14:L15,AN30)","v":0},{"$f":"AO30/(AQ4-AO25)","v":0},{"$f":"IF(AP30=0,0,(AP30*((LOG(AP30))/LOG(2))))","v":0},null,{"$f":"N30","v":21222},{"$f":"COUNTIF(L16:L17,AS30)","v":0},{"$f":"AT30/(AV4-AT25)","v":0},{"$f":"IF(AU30=0,0,(AU30*((LOG(AU30))/LOG(2))))","v":0}]
[null,null,null,null,null,null,null,null,null,null,null,null,null,22111,{"$f":"COUNTIF($L$7:$L$500,N31)","v":0},{"$f":"O31/$Q$4","v":0},{"$f":"IF(P31=0,0,(P31*((LOG(P31))/LOG(2))))","v":0},null,null,{"$f":"N31","v":22111},{"$f":"COUNTIF(L7:L8,T31)","v":0},{"$f":"U31/(W4-U25)","v":0},{"$f":"IF(V31=0,0,(V31*((LOG(V31))/LOG(2))))","v":0},null,{"$f":"N31","v":22111},{"$f":"COUNTIF(L9:L10,Y31)","v":0},{"$f":"Z31/(AB4-Z25)","v":0},{"$f":"IF(AA31=0,0,(AA31*((LOG(AA31))/LOG(2))))","v":0},null,{"$f":"N31","v":22111},{"$f":"COUNTIF(L11:L11,AD31)","v":0},{"$f":"AE31/(AG4-AE25)","v":0},{"$f":"IF(AF31=0,0,(AF31*((LOG(AF31))/LOG(2))))","v":0},null,{"$f":"N31","v":22111},{"$f":"COUNTIF(L12:L13,AI31)","v":0},{"$f":"AJ31/(AL4-AJ25)","v":0},{"$f":"IF(AK31=0,0,(AK31*((LOG(AK31))/LOG(2))))","v":0},null,{"$f":"N31","v":22111},{"$f":"COUNTIF(L14:L15,AN31)","v":0},{"$f":"AO31/(AQ4-AO25)","v":0},{"$f":"IF(AP31=0,0,(AP31*((LOG(AP31))/LOG(2))))","v":0},null,{"$f":"N31","v":22111},{"$f":"COUNTIF(L16:L17,AS31)","v":0},{"$f":"AT31/(AV4-AT25)","v":0},{"$f":"IF(AU31=0,0,(AU31*((LOG(AU31))/LOG(2))))","v":0}]
[null,null,null,null,null,null,null,null,null,null,null,null,null,22112,{"$f":"COUNTIF($L$7:$L$500,N32)","v":0},{"$f":"O32/$Q$4","v":0},{"$f":"IF(P32=0,0,(P32*((LOG(P32))/LOG(2))))","v":0},null,null,{"$f":"N32","v":22112},{"$f":"COUNTIF(L7:L8,T32)","v":0},{"$f":"U32/(W4-U25)","v":0},{"$f":"IF(V32=0,0,(V32*((LOG(V32))/LOG(2))))","v":0},null,{"$f":"N32","v":22112},{"$f":"COUNTIF(L9:L10,Y32)","v":0},{"$f":"Z32/(AB4-Z25)","v":0},{"$f":"IF(AA32=0,0,(AA32*((LOG(AA32))/LOG(2))))","v":0},null,{"$f":"N32","v":22112},{"$f":"COUNTIF(L11:L11,AD32)","v":0},{"$f":"AE32/(AG4-AE25)","v":0},{"$f":"IF(AF32=0,0,(AF32*((LOG(AF32))/LOG(2))))","v":0},null,{"$f":"N32","v":22112},{"$f":"COUNTIF(L12:L13,AI32)","v":0},{"$f":"AJ32/(AL4-AJ25)","v":0},{"$f":"IF(AK32=0,0,(AK32*((LOG(AK32))/LOG(2))))","v":0},null,{"$f":"N32","v":22112},{"$f":"COUNTIF(L14:L15,AN32)","v":0},{"$f":"AO32/(AQ4-AO25)","v":0},{"$f":"IF(AP32=0,0,(AP32*((LOG(AP32))/LOG(2))))","v":0},null,{"$f":"N32","v":22112},{"$f":"COUNTIF(L16:L17,AS32)","v":0},{"$f":"AT32/(AV4-AT25)","v":0},{"$f":"IF(AU32=0,0,(AU32*((LOG(AU32))/LOG(2))))","v":0}]
[null,null,null,null,null,null,null,null,null,null,null,null,null,22121,{"$f":"COUNTIF($L$7:$L$500,N33)","v":2},{"$f":"O33/$Q$4","v":0.18181818181818182},{"$f":"IF(P33=0,0,(P33*((LOG(P33))/LOG(2))))","v":-0.44716938520678134},null,null,{"$f":"N33","v":22121},{"$f":"COUNTIF(L7:L8,T33)","v":0},{"$f":"U33/(W4-U25)","v":0},{"$f":"IF(V33=0,0,(V33*((LOG(V33))/LOG(2))))","v":0},null,{"$f":"N33","v":22121},{"$f":"COUNTIF(L9:L10,Y33)","v":0},{"$f":"Z33/(AB4-Z25)","v":0},{"$f":"IF(AA33=0,0,(AA33*((LOG(AA33))/LOG(2))))","v":0},null,{"$f":"N33","v":22121},{"$f":"COUNTIF(L11:L11,AD33)","v":0},{"$f":"AE33/(AG4-AE25)","v":0},{"$f":"IF(AF33=0,0,(AF33*((LOG(AF33))/LOG(2))))","v":0},null,{"$f":"N33","v":22121},{"$f":"COUNTIF(L12:L13,AI33)","v":1},{"$f":"AJ33/(AL4-AJ25)","v":0.5},{"$f":"IF(AK33=0,0,(AK33*((LOG(AK33))/LOG(2))))","v":-0.5},null,{"$f":"N33","v":22121},{"$f":"COUNTIF(L14:L15,AN33)","v":1},{"$f":"AO33/(AQ4-AO25)","v":0.5},{"$f":"IF(AP33=0,0,(AP33*((LOG(AP33))/LOG(2))))","v":-0.5},null,{"$f":"N33","v":22121},{"$f":"COUNTIF(L16:L17,AS33)","v":0},{"$f":"AT33/(AV4-AT25)","v":0},{"$f":"IF(AU33=0,0,(AU33*((LOG(AU33))/LOG(2))))","v":0}]
[null,null,null,null,null,null,null,null,null,null,null,null,null,22122,{"$f":"COUNTIF($L$7:$L$500,N34)","v":0},{"$f":"O34/$Q$4","v":0},{"$f":"IF(P34=0,0,(P34*((LOG(P34))/LOG(2))))","v":0},null,null,{"$f":"N34","v":22122},{"$f":"COUNTIF(L7:L8,T34)","v":0},{"$f":"U34/(W4-U25)","v":0},{"$f":"IF(V34=0,0,(V34*((LOG(V34))/LOG(2))))","v":0},null,{"$f":"N34","v":22122},{"$f":"COUNTIF(L9:L10,Y34)","v":0},{"$f":"Z34/(AB4-Z25)","v":0},{"$f":"IF(AA34=0,0,(AA34*((LOG(AA34))/LOG(2))))","v":0},null,{"$f":"N34","v":22122},{"$f":"COUNTIF(L11:L11,AD34)","v":0},{"$f":"AE34/(AG4-AE25)","v":0},{"$f":"IF(AF34=0,0,(AF34*((LOG(AF34))/LOG(2))))","v":0},null,{"$f":"N34","v":22122},{"$f":"COUNTIF(L12:L13,AI34)","v":0},{"$f":"AJ34/(AL4-AJ25)","v":0},{"$f":"IF(AK34=0,0,(AK34*((LOG(AK34))/LOG(2))))","v":0},null,{"$f":"N34","v":22122},{"$f":"COUNTIF(L14:L15,AN34)","v":0},{"$f":"AO34/(AQ4-AO25)","v":0},{"$f":"IF(AP34=0,0,(AP34*((LOG(AP34))/LOG(2))))","v":0},null,{"$f":"N34","v":22122},{"$f":"COUNTIF(L16:L17,AS34)","v":0},{"$f":"AT34/(AV4-AT25)","v":0},{"$f":"IF(AU34=0,0,(AU34*((LOG(AU34))/LOG(2))))","v":0}]
[null,null,null,null,null,null,null,null,null,null,null,null,null,22211,{"$f":"COUNTIF($L$7:$L$500,N35)","v":0},{"$f":"O35/$Q$4","v":0},{"$f":"IF(P35=0,0,(P35*((LOG(P35))/LOG(2))))","v":0},null,null,{"$f":"N35","v":22211},{"$f":"COUNTIF(L7:L8,T35)","v":0},{"$f":"U35/(W4-U25)","v":0},{"$f":"IF(V35=0,0,(V35*((LOG(V35))/LOG(2))))","v":0},null,{"$f":"N35","v":22211},{"$f":"COUNTIF(L9:L10,Y35)","v":0},{"$f":"Z35/(AB4-Z25)","v":0},{"$f":"IF(AA35=0,0,(AA35*((LOG(AA35))/LOG(2))))","v":0},null,{"$f":"N35","v":22211},{"$f":"COUNTIF(L11:L11,AD35)","v":0},{"$f":"AE35/(AG4-AE25)","v":0},{"$f":"IF(AF35=0,0,(AF35*((LOG(AF35))/LOG(2))))","v":0},null,{"$f":"N35","v":22211},{"$f":"COUNTIF(L12:L13,AI35)","v":0},{"$f":"AJ35/(AL4-AJ25)","v":0},{"$f":"IF(AK35=0,0,(AK35*((LOG(AK35))/LOG(2))))","v":0},null,{"$f":"N35","v":22211},{"$f":"COUNTIF(L14:L15,AN35)","v":0},{"$f":"AO35/(AQ4-AO25)","v":0},{"$f":"IF(AP35=0,0,(AP35*((LOG(AP35))/LOG(2))))","v":0},null,{"$f":"N35","v":22211},{"$f":"COUNTIF(L16:L17,AS35)","v":0},{"$f":"AT35/(AV4-AT25)","v":0},{"$f":"IF(AU35=0,0,(AU35*((LOG(AU35))/LOG(2))))","v":0}]
[null,null,null,null,null,null,null,null,null,null,null,null,null,22212,{"$f":"COUNTIF($L$7:$L$500,N36)","v":1},{"$f":"O36/$Q$4","v":9.0909090909090912E-2},{"$f":"IF(P36=0,0,(P36*((LOG(P36))/LOG(2))))","v":-0.31449378351248153},null,null,{"$f":"N36","v":22212},{"$f":"COUNTIF(L7:L8,T36)","v":1},{"$f":"U36/(W4-U25)","v":0.5},{"$f":"IF(V36=0,0,(V36*((LOG(V36))/LOG(2))))","v":-0.5},null,{"$f":"N36","v":22212},{"$f":"COUNTIF(L9:L10,Y36)","v":0},{"$f":"Z36/(AB4-Z25)","v":0},{"$f":"IF(AA36=0,0,(AA36*((LOG(AA36))/LOG(2))))","v":0},null,{"$f":"N36","v":22212},{"$f":"COUNTIF(L11:L11,AD36)","v":0},{"$f":"AE36/(AG4-AE25)","v":0},{"$f":"IF(AF36=0,0,(AF36*((LOG(AF36))/LOG(2))))","v":0},null,{"$f":"N36","v":22212},{"$f":"COUNTIF(L12:L13,AI36)","v":0},{"$f":"AJ36/(AL4-AJ25)","v":0},{"$f":"IF(AK36=0,0,(AK36*((LOG(AK36))/LOG(2))))","v":0},null,{"$f":"N36","v":22212},{"$f":"COUNTIF(L14:L15,AN36)","v":0},{"$f":"AO36/(AQ4-AO25)","v":0},{"$f":"IF(AP36=0,0,(AP36*((LOG(AP36))/LOG(2))))","v":0},null,{"$f":"N36","v":22212},{"$f":"COUNTIF(L16:L17,AS36)","v":0},{"$f":"AT36/(AV4-AT25)","v":0},{"$f":"IF(AU36=0,0,(AU36*((LOG(AU36))/LOG(2))))","v":0}]
[null,null,null,null,null,null,null,null,null,null,null,null,null,22221,{"$f":"COUNTIF($L$7:$L$500,N37)","v":0},{"$f":"O37/$Q$4","v":0},{"$f":"IF(P37=0,0,(P37*((LOG(P37))/LOG(2))))","v":0},null,null,{"$f":"N37","v":22221},{"$f":"COUNTIF(L7:L8,T37)","v":0},{"$f":"U37/(W4-U25)","v":0},{"$f":"IF(V37=0,0,(V37*((LOG(V37))/LOG(2))))","v":0},null,{"$f":"N37","v":22221},{"$f":"COUNTIF(L9:L10,Y37)","v":0},{"$f":"Z37/(AB4-Z25)","v":0},{"$f":"IF(AA37=0,0,(AA37*((LOG(AA37))/LOG(2))))","v":0},null,{"$f":"N37","v":22221},{"$f":"COUNTIF(L11:L11,AD37)","v":0},{"$f":"AE37/(AG4-AE25)","v":0},{"$f":"IF(AF37=0,0,(AF37*((LOG(AF37))/LOG(2))))","v":0},null,{"$f":"N37","v":22221},{"$f":"COUNTIF(L12:L13,AI37)","v":0},{"$f":"AJ37/(AL4-AJ25)","v":0},{"$f":"IF(AK37=0,0,(AK37*((LOG(AK37))/LOG(2))))","v":0},null,{"$f":"N37","v":22221},{"$f":"COUNTIF(L14:L15,AN37)","v":0},{"$f":"AO37/(AQ4-AO25)","v":0},{"$f":"IF(AP37=0,0,(AP37*((LOG(AP37))/LOG(2))))","v":0},null,{"$f":"N37","v":22221},{"$f":"COUNTIF(L16:L17,AS37)","v":0},{"$f":"AT37/(AV4-AT25)","v":0},{"$f":"IF(AU37=0,0,(AU37*((LOG(AU37))/LOG(2))))","v":0}]
[null,null,null,null,null,null,null,null,null,null,null,null,null,22222,{"$f":"COUNTIF($L$7:$L$500,N38)","v":0},{"$f":"O38/$Q$4","v":0},{"$f":"IF(P38=0,0,(P38*((LOG(P38))/LOG(2))))","v":0},null,null,{"$f":"N38","v":22222},{"$f":"COUNTIF(L7:L8,T38)","v":0},{"$f":"U38/(W4-U25)","v":0},{"$f":"IF(V38=0,0,(V38*((LOG(V38))/LOG(2))))","v":0},null,{"$f":"N38","v":22222},{"$f":"COUNTIF(L9:L10,Y38)","v":0},{"$f":"Z38/(AB4-Z25)","v":0},{"$f":"IF(AA38=0,0,(AA38*((LOG(AA38))/LOG(2))))","v":0},null,{"$f":"N38","v":22222},{"$f":"COUNTIF(L11:L11,AD38)","v":0},{"$f":"AE38/(AG4-AE25)","v":0},{"$f":"IF(AF38=0,0,(AF38*((LOG(AF38))/LOG(2))))","v":0},null,{"$f":"N38","v":22222},{"$f":"COUNTIF(L12:L13,AI38)","v":0},{"$f":"AJ38/(AL4-AJ25)","v":0},{"$f":"IF(AK38=0,0,(AK38*((LOG(AK38))/LOG(2))))","v":0},null,{"$f":"N38","v":22222},{"$f":"COUNTIF(L14:L15,AN38)","v":0},{"$f":"AO38/(AQ4-AO25)","v":0},{"$f":"IF(AP38=0,0,(AP38*((LOG(AP38))/LOG(2))))","v":0},null,{"$f":"N38","v":22222},{"$f":"COUNTIF(L16:L17,AS38)","v":0},{"$f":"AT38/(AV4-AT25)","v":0},{"$f":"IF(AU38=0,0,(AU38*((LOG(AU38))/LOG(2))))","v":0}]
[null,null,null,null,null,null,null,null,null,null,null,null,null,null,null,{"$f":"SUM(P7:P38)","v":1},{"$f":"-SUM(Q7:Q38)","v":3.0957952550009336},null,null,null,null,{"$f":"SUM(V7:V38)","v":1},{"$f":"-SUM(W7:W38)","v":1},null,null,null,{"$f":"SUM(AA7:AA38)","v":1},{"$f":"-SUM(AB7:AB38)","v":1},null,null,null,{"$f":"SUM(AF7:AF38)","v":1},{"$f":"-SUM(AG7:AG38)","v":0},null,null,null,{"$f":"SUM(AK7:AK38)","v":1},{"$f":"-SUM(AL7:AL38)","v":1},null,null,null,{"$f":"SUM(AP7:AP38)","v":1},{"$f":"-SUM(AQ7:AQ38)","v":1},null,null,null,{"$f":"SUM(AU7:AU38)","v":1},{"$f":"-SUM(AV7:AV38)","v":1}]
[null,null,null,null,null,null,null,null,null,null,null,null,null,null,null,"U=",{"$f":"Q39/(LOG(Q4)/LOG(2))","v":0.89488551770258606},null,null,null,null,"U1=",{"$f":"W39/(LOG(W4)/LOG(2))","v":1},null,null,null,"U2=",{"$f":"AB39/(LOG(AB4)/LOG(2))","v":1},null,null,null,"U3=",{"$f":"AG39/(LOG(AG4)/LOG(2))","v":{"$error":"#DIV/0!"}},null,null,null,"U4=",{"$f":"AL39/(LOG(AL4)/LOG(2))","v":1},null,null,null,"U5=",{"$f":"AQ39/(LOG(AQ4)/LOG(2))","v":1},null,null,null,"U6=",{"$f":"AV39/(LOG(AV4)/LOG(2))","v":1}]
[]
[]
[null,null,null,null,null,null,null,null,null,null,null,null,null,"Total Target Seq"]
[null,null,null,null,null,null,null,null,null,null,null,null,null,{"$f":"COUNTIF(L7:L17,G3)","v":0},null,2,2,1,2,2,2]
[null,null,null,null,null,null,null,null,null,null,null,null,null,null,null,"% of reinforcement given in 6 equal intervals based on number of trials "]
[null,null,null,null,null,null,null,null,null,null,null,null,null,null,null,"%_1","%_2","%_3","%_4","%_5","%_6"]
[null,null,null,null,null,null,null,null,null,null,null,null,null,null,"target sequence",{"$f":"$G$3","v":21121},{"$f":"$G$3","v":21121},{"$f":"$G$3","v":21121},{"$f":"$G$3","v":21121},{"$f":"$G$3","v":21121},{"$f":"$G$3","v":21121}]
[null,null,null,null,null,null,null,null,null,null,null,null,null,null,"total reinforcement",{"$f":"U25","v":0},{"$f":"Z25","v":0},{"$f":"AE25","v":0},{"$f":"AJ25","v":0},{"$f":"AO25","v":0},{"$f":"AT25","v":0}]
[null,null,null,null,null,null,null,null,null,null,null,null,null,null,"% target"]
[null,null,null,null,null,null,null,null,null,null,null,null,null,null,"CCRF"]
[null,null,null,null,null,null,null,null,null,null,null,null,null,null,"% CCRf"]
[null,null,null,null,null,null,null,null,null,null,null,null,null,null,"average response rate",{"$f":"J8/P44","v":252.5},{"$f":"(J10-J8)/Q44","v":583.5},{"$f":"(J11-J10)/R44","v":195},{"$f":"(J13-J11)/S44","v":874},{"$f":"(J15-J13)/T44","v":517},{"$f":"(J17-J15)/U44","v":9653}]

{"sheet":"!N107910.105","index":9,"n_rows":52,"n_cols":48,"rows_kept":52,"cut":false,"hidden":false,"merged":[[4,39,4,42],[5,39,5,40],[4,44,4,47],[5,44,5,45],[4,24,4,27],[5,24,5,25],[4,29,4,32],[5,29,5,30],[4,34,4,37],[5,34,5,35],[1,1,1,2],[5,13,5,14],[42,13,42,14],[43,13,43,14],[4,19,4,22],[5,19,5,20]]}
["Report for:!N107910.105"]
["Date:","<date>"]
["Hen:","<hen>",null,null,null,"Correct Sequence",{"$f":"Start!J2","v":21121},null,null,null,null,null,null,null,null,"Total Sequences in Data",{"$f":"4994-COUNTBLANK(L7:L5000)","v":32},null,null,null,null,"Total Sequences in Block Data",{"$f":"COUNTA(L7:L11)","v":5},null,null,null,"Total Sequences in Block Data",{"$f":"COUNTA(L12:L17)","v":6},null,null,null,"Total Sequences in Block Data",{"$f":"COUNTA(L18:L22)","v":5},null,null,null,"Total Sequences in Block Data",{"$f":"COUNTA(L23:L27)","v":5},null,null,null,"Total Sequences in Block Data",{"$f":"COUNTA(L28:L33)","v":6},null,null,null,"Total Sequences in Block Data",{"$f":"COUNTA(L34:L38)","v":5}]
[null,null,null,null,null,null,null,null,null,null,null,null,null,null,null,"Total Sequences in Summary",{"$f":"SUM(O7:O38)","v":32},null,null,null,null,"Total Sequences in Block Summary",{"$f":"SUM(U7:U38)","v":5},null,null,null,"Total Sequences in Block Summary",{"$f":"SUM(Z7:Z38)","v":6},null,null,null,"Total Sequences in Block Summary",{"$f":"SUM(AE7:AE38)","v":5},null,null,null,"Total Sequences in Block Summary",{"$f":"SUM(AJ7:AJ38)","v":5},null,null,null,"Total Sequences in Block Summary",{"$f":"SUM(AO7:AO38)","v":6},null,null,null,"Total Sequences in Block Summary",{"$f":"SUM(AT7:AT38)","v":5}]
[null,null,null,null,null,null,null,null,null,null,null,null,null,null,null,null,null,null,null,"Block 1",null,null,null,null,"Block 2",null,null,null,null,"Block 3",null,null,null,null,"Block 4",null,null,null,null,"Block 5",null,null,null,null,"Block 6"]
["Sequence\nComponent\n1","Time\n1","Sequence\nComponent\n2","Time\n2","Sequence\nComponent\n3","Time\n3","Sequence\nComponent\n4","Time\n4","Sequence\nComponent\n5","Time\n5","Correct?\n0=No 1=Yes","Sequence",null,"Frequency",null,"Relative Frequency","Variability",null,null,"Frequency",null,"Relative Frequency","Variability",null,"Frequency",null,"Relative Frequency","Variability",null,"Frequency",null,"Relative Frequency","Variability",null,"Frequency",null,"Relative Frequency","Variability",null,"Frequency",null,"Relative Frequency","Variability",null,"Frequency",null,"Relative Frequency","Variability"]
[12,17,13,38,24,51,23,62,24,84,0,11222,null,11111,{"$f":"COUNTIF($L$7:$L$500,N7)","v":0},{"$f":"O7/$Q$4","v":0},{"$f":"IF(P7=0,0,(P7*((LOG(P7))/LOG(2))))","v":0},null,null,{"$f":"N7","v":11111},{"$f":"COUNTIF(L7:L11,T7)","v":0},{"$f":"U7/(W4-U25)","v":0},{"$f":"IF(V7=0,0,(V7*((LOG(V7))/LOG(2))))","v":0},null,{"$f":"N7","v":11111},{"$f":"COUNTIF(L12:L17,Y7)","v":0},{"$f":"Z7/(AB4-Z25)","v":0},{"$f":"IF(AA7=0,0,(AA7*((LOG(AA7))/LOG(2))))","v":0},null,{"$f":"N7","v":11111},{"$f":"COUNTIF(L18:L22,AD7)","v":0},{"$f":"AE7/(AG4-AE25)","v":0},{"$f":"IF(AF7=0,0,(AF7*((LOG(AF7))/LOG(2))))","v":0},null,{"$f":"N7","v":11111},{"$f":"COUNTIF(L23:L27,AI7)","v":0},{"$f":"AJ7/(AL4-AJ25)","v":0},{"$f":"IF(AK7=0,0,(AK7*((LOG(AK7))/LOG(2))))","v":0},null,{"$f":"N7","v":11111},{"$f":"COUNTIF(L28:L33,AN7)","v":0},{"$f":"AO7/(AQ4-AO25)","v":0},{"$f":"IF(AP7=0,0,(AP7*((LOG(AP7))/LOG(2))))","v":0},null,{"$f":"N7","v":11111},{"$f":"COUNTIF(L34:L38,AS7)","v":0},{"$f":"AT7/(AV4-AT25)","v":0},{"$f":"IF(AU7=0,0,(AU7*((LOG(AU7))/LOG(2))))","v":0}]
[21,189,11,199,22,206,14,220,24,226,0,21212,null,11112,{"$f":"COUNTIF($L$7:$L$500,N8)","v":0},{"$f":"O8/$Q$4","v":0},{"$f":"IF(P8=0,0,(P8*((LOG(P8))/LOG(2))))","v":0},null,null,{"$f":"N8","v":11112},{"$f":"COUNTIF(L7:L11,T8)","v":0},{"$f":"U8/(W4-U25)","v":0},{"$f":"IF(V8=0,0,(V8*((LOG(V8))/LOG(2))))","v":0},null,{"$f":"N8","v":11112},{"$f":"COUNTIF(L12:L17,Y8)","v":0},{"$f":"Z8/(AB4-Z25)","v":0},{"$f":"IF(AA8=0,0,(AA8*((LOG(AA8))/LOG(2))))","v":0},null,{"$f":"N8","v":11112},{"$f":"COUNTIF(L18:L22,AD8)","v":0},{"$f":"AE8/(AG4-AE25)","v":0},{"$f":"IF(AF8=0,0,(AF8*((LOG(AF8))/LOG(2))))","v":0},null,{"$f":"N8","v":11112},{"$f":"COUNTIF(L23:L27,AI8)","v":0},{"$f":"AJ8/(AL4-AJ25)","v":0},{"$f":"IF(AK8=0,0,(AK8*((LOG(AK8))/LOG(2))))","v":0},null,{"$f":"N8","v":11112},{"$f":"COUNTIF(L28:L33,AN8)","v":0},{"$f":"AO8/(AQ4-AO25)","v":0},{"$f":"IF(AP8=0,0,(AP8*((LOG(AP8))/LOG(2))))","v":0},null,{"$f":"N8","v":11112},{"$f":"COUNTIF(L34:L38,AS8)","v":0},{"$f":"AT8/(AV4-AT25)","v":0},{"$f":"IF(AU8=0,0,(AU8*((LOG(AU8))/LOG(2))))","v":0}]
[12,326,24,334,13,344,23,351,13,364,0,12121,null,11121,{"$f":"COUNTIF($L$7:$L$500,N9)","v":0},{"$f":"O9/$Q$4","v":0},{"$f":"IF(P9=0,0,(P9*((LOG(P9))/LOG(2))))","v":0},null,null,{"$f":"N9","v":11121},{"$f":"COUNTIF(L7:L11,T9)","v":0},{"$f":"U9/(W4-U25)","v":0},{"$f":"IF(V9=0,0,(V9*((LOG(V9))/LOG(2))))","v":0},null,{"$f":"N9","v":11121},{"$f":"COUNTIF(L12:L17,Y9)","v":0},{"$f":"Z9/(AB4-Z25)","v":0},{"$f":"IF(AA9=0,0,(AA9*((LOG(AA9))/LOG(2))))","v":0},null,{"$f":"N9","v":11121},{"$f":"COUNTIF(L18:L22,AD9)","v":0},{"$f":"AE9/(AG4-AE25)","v":0},{"$f":"IF(AF9=0,0,(AF9*((LOG(AF9))/LOG(2))))","v":0},null,{"$f":"N9","v":11121},{"$f":"COUNTIF(L23:L27,AI9)","v":0},{"$f":"AJ9/(AL4-AJ25)","v":0},{"$f":"IF(AK9=0,0,(AK9*((LOG(AK9))/LOG(2))))","v":0},null,{"$f":"N9","v":11121},{"$f":"COUNTIF(L28:L33,AN9)","v":0},{"$f":"AO9/(AQ4-AO25)","v":0},{"$f":"IF(AP9=0,0,(AP9*((LOG(AP9))/LOG(2))))","v":0},null,{"$f":"N9","v":11121},{"$f":"COUNTIF(L34:L38,AS9)","v":0},{"$f":"AT9/(AV4-AT25)","v":0},{"$f":"IF(AU9=0,0,(AU9*((LOG(AU9))/LOG(2))))","v":0}]
[12,501,24,537,13,634,23,644,13,659,0,12121,null,11122,{"$f":"COUNTIF($L$7:$L$500,N10)","v":2},{"$f":"O10/$Q$4","v":6.25E-2},{"$f":"IF(P10=0,0,(P10*((LOG(P10))/LOG(2))))","v":-0.25},null,null,{"$f":"N10","v":11122},{"$f":"COUNTIF(L7:L11,T10)","v":0},{"$f":"U10/(W4-U25)","v":0},{"$f":"IF(V10=0,0,(V10*((LOG(V10))/LOG(2))))","v":0},null,{"$f":"N10","v":11122},{"$f":"COUNTIF(L12:L17,Y10)","v":0},{"$f":"Z10/(AB4-Z25)","v":0},{"$f":"IF(AA10=0,0,(AA10*((LOG(AA10))/LOG(2))))","v":0},null,{"$f":"N10","v":11122},{"$f":"COUNTIF(L18:L22,AD10)","v":1},{"$f":"AE10/(AG4-AE25)","v":0.2},{"$f":"IF(AF10=0,0,(AF10*((LOG(AF10))/LOG(2))))","v":-0.46438561897747244},null,{"$f":"N10","v":11122},{"$f":"COUNTIF(L23:L27,AI10)","v":0},{"$f":"AJ10/(AL4-AJ25)","v":0},{"$f":"IF(AK10=0,0,(AK10*((LOG(AK10))/LOG(2))))","v":0},null,{"$f":"N10","v":11122},{"$f":"COUNTIF(L28:L33,AN10)","v":1},{"$f":"AO10/(AQ4-AO25)","v":0.2},{"$f":"IF(AP10=0,0,(AP10*((LOG(AP10))/LOG(2))))","v":-0.46438561897747244},null,{"$f":"N10","v":11122},{"$f":"COUNTIF(L34:L38,AS10)","v":0},{"$f":"AT10/(AV4-AT25)","v":0},{"$f":"IF(AU10=0,0,(AU10*((LOG(AU10))/LOG(2))))","v":0}]
[21,769,11,779,22,788,14,803,24,813,0,21212,null,11211,{"$f":"COUNTIF($L$7:$L$500,N11)","v":2},{"$f":"O11/$Q$4","v":6.25E-2},{"$f":"IF(P11=0,0,(P11*((LOG(P11))/LOG(2))))","v":-0.25},null,null,{"$f":"N11","v":11211},{"$f":"COUNTIF(L7:L11,T11)","v":0},{"$f":"U11/(W4-U25)","v":0},{"$f":"IF(V11=0,0,(V11*((LOG(V11))/LOG(2))))","v":0},null,{"$f":"N11","v":11211},{"$f":"COUNTIF(L12:L17,Y11)","v":0},{"$f":"Z11/(AB4-Z25)","v":0},{"$f":"IF(AA11=0,0,(AA11*((LOG(AA11))/LOG(2))))","v":0},null,{"$f":"N11","v":11211},{"$f":"COUNTIF(L18:L22,AD11)","v":0},{"$f":"AE11/(AG4-AE25)","v":0},{"$f":"IF(AF11=0,0,(AF11*((LOG(AF11))/LOG(2))))","v":0},null,{"$f":"N11","v":11211},{"$f":"COUNTIF(L23:L27,AI11)","v":0},{"$f":"AJ11/(AL4-AJ25)","v":0},{"$f":"IF(AK11=0,0,(AK11*((LOG(AK11))/LOG(2))))","v":0},null,{"$f":"N11","v":11211},{"$f":"COUNTIF(L28:L33,AN11)","v":1},{"$f":"AO11/(AQ4-AO25)","v":0.2},{"$f":"IF(AP11=0,0,(AP11*((LOG(AP11))/LOG(2))))","v":-0.46438561897747244},null,{"$f":"N11","v":11211},{"$f":"COUNTIF(L34:L38,AS11)","v":1},{"$f":"AT11/(AV4-AT25)","v":0.2},{"$f":"IF(AU11=0,0,(AU11*((LOG(AU11))/LOG(2))))","v":-0.46438561897747244}]
[21,965,11,977,11,1006,21,1016,11,1031,1,21121,null,11212,{"$f":"COUNTIF($L$7:$L$500,N12)","v":2},{"$f":"O12/$Q$4","v":6.25E-2},{"$f":"IF(P12=0,0,(P12*((LOG(P12))/LOG(2))))","v":-0.25},null,null,{"$f":"N12","v":11212},{"$f":"COUNTIF(L7:L11,T12)","v":0},{"$f":"U12/(W4-U25)","v":0},{"$f":"IF(V12=0,0,(V12*((LOG(V12))/LOG(2))))","v":0},null,{"$f":"N12","v":11212},{"$f":"COUNTIF(L12:L17,Y12)","v":0},{"$f":"Z12/(AB4-Z25)","v":0},{"$f":"IF(AA12=0,0,(AA12*((LOG(AA12))/LOG(2))))","v":0},null,{"$f":"N12","v":11212},{"$f":"COUNTIF(L18:L22,AD12)","v":0},{"$f":"AE12/(AG4-AE25)","v":0},{"$f":"IF(AF12=0,0,(AF12*((LOG(AF12))/LOG(2))))","v":0},null,{"$f":"N12","v":11212},{"$f":"COUNTIF(L23:L27,AI12)","v":0},{"$f":"AJ12/(AL4-AJ25)","v":0},{"$f":"IF(AK12=0,0,(AK12*((LOG(AK12))/LOG(2))))","v":0},null,{"$f":"N12","v":11212},{"$f":"COUNTIF(L28:L33,AN12)","v":1},{"$f":"AO12/(AQ4-AO25)","v":0.2},{"$f":"IF(AP12=0,0,(AP12*((LOG(AP12))/LOG(2))))","v":-0.46438561897747244},null,{"$f":"N12","v":11212},{"$f":"COUNTIF(L34:L38,AS12)","v":1},{"$f":"AT12/(AV4-AT25)","v":0.2},{"$f":"IF(AU12=0,0,(AU12*((LOG(AU12))/LOG(2))))","v":-0.46438561897747244}]
[12,1139,24,1147,13,1162,23,1171,13,1185,0,12121,null,11221,{"$f":"COUNTIF($L$7:$L$500,N13)","v":0},{"$f":"O13/$Q$4","v":0},{"$f":"IF(P13=0,0,(P13*((LOG(P13))/LOG(2))))","v":0},null,null,{"$f":"N13","v":11221},{"$f":"COUNTIF(L7:L11,T13)","v":0},{"$f":"U13/(W4-U25)","v":0},{"$f":"IF(V13=0,0,(V13*((LOG(V13))/LOG(2))))","v":0},null,{"$f":"N13","v":11221},{"$f":"COUNTIF(L12:L17,Y13)","v":0},{"$f":"Z13/(AB4-Z25)","v":0},{"$f":"IF(AA13=0,0,(AA13*((LOG(AA13))/LOG(2))))","v":0},null,{"$f":"N13","v":11221},{"$f":"COUNTIF(L18:L22,AD13)","v":0},{"$f":"AE13/(AG4-AE25)","v":0},{"$f":"IF(AF13=0,0,(AF13*((LOG(AF13))/LOG(2))))","v":0},null,{"$f":"N13","v":11221},{"$f":"COUNTIF(L23:L27,AI13)","v":0},{"$f":"AJ13/(AL4-AJ25)","v":0},{"$f":"IF(AK13=0,0,(AK13*((LOG(AK13))/LOG(2))))","v":0},null,{"$f":"N13","v":11221},{"$f":"COUNTIF(L28:L33,AN13)","v":0},{"$f":"AO13/(AQ4-AO25)","v":0},{"$f":"IF(AP13=0,0,(AP13*((LOG(AP13))/LOG(2))))","v":0},null,{"$f":"N13","v":11221},{"$f":"COUNTIF(L34:L38,AS13)","v":0},{"$f":"AT13/(AV4-AT25)","v":0},{"$f":"IF(AU13=0,0,(AU13*((LOG(AU13))/LOG(2))))","v":0}]
[12,1296,24,1307,13,1316,23,1324,13,1339,0,12121,null,11222,{"$f":"COUNTIF($L$7:$L$500,N14)","v":4},{"$f":"O14/$Q$4","v":0.125},{"$f":"IF(P14=0,0,(P14*((LOG(P14))/LOG(2))))","v":-0.375},null,null,{"$f":"N14","v":11222},{"$f":"COUNTIF(L7:L11,T14)","v":1},{"$f":"U14/(W4-U25)","v":0.2},{"$f":"IF(V14=0,0,(V14*((LOG(V14))/LOG(2))))","v":-0.46438561897747244},null,{"$f":"N14","v":11222},{"$f":"COUNTIF(L12:L17,Y14)","v":0},{"$f":"Z14/(AB4-Z25)","v":0},{"$f":"IF(AA14=0,0,(AA14*((LOG(AA14))/LOG(2))))","v":0},null,{"$f":"N14","v":11222},{"$f":"COUNTIF(L18:L22,AD14)","v":1},{"$f":"AE14/(AG4-AE25)","v":0.2},{"$f":"IF(AF14=0,0,(AF14*((LOG(AF14))/LOG(2))))","v":-0.46438561897747244},null,{"$f":"N14","v":11222},{"$f":"COUNTIF(L23:L27,AI14)","v":1},{"$f":"AJ14/(AL4-AJ25)","v":0.2},{"$f":"IF(AK14=0,0,(AK14*((LOG(AK14))/LOG(2))))","v":-0.46438561897747244},null,{"$f":"N14","v":11222},{"$f":"COUNTIF(L28:L33,AN14)","v":0},{"$f":"AO14/(AQ4-AO25)","v":0},{"$f":"IF(AP14=0,0,(AP14*((LOG(AP14))/LOG(2))))","v":0},null,{"$f":"N14","v":11222},{"$f":"COUNTIF(L34:L38,AS14)","v":1},{"$f":"AT14/(AV4-AT25)","v":0.2},{"$f":"IF(AU14=0,0,(AU14*((LOG(AU14))/LOG(2))))","v":-0.46438561897747244}]
[12,1454,24,1464,13,1478,23,1487,13,1502,0,12121,null,12111,{"$f":"COUNTIF($L$7:$L$500,N15)","v":1},{"$f":"O15/$Q$4","v":3.125E-2},{"$f":"IF(P15=0,0,(P15*((LOG(P15))/LOG(2))))","v":-0.15625},null,null,{"$f":"N15","v":12111},{"$f":"COUNTIF(L7:L11,T15)","v":0},{"$f":"U15/(W4-U25)","v":0},{"$f":"IF(V15=0,0,(V15*((LOG(V15))/LOG(2))))","v":0},null,{"$f":"N15","v":12111},{"$f":"COUNTIF(L12:L17,Y15)","v":0},{"$f":"Z15/(AB4-Z25)","v":0},{"$f":"IF(AA15=0,0,(AA15*((LOG(AA15))/LOG(2))))","v":0},null,{"$f":"N15","v":12111},{"$f":"COUNTIF(L18:L22,AD15)","v":0},{"$f":"AE15/(AG4-AE25)","v":0},{"$f":"IF(AF15=0,0,(AF15*((LOG(AF15))/LOG(2))))","v":0},null,{"$f":"N15","v":12111},{"$f":"COUNTIF(L23:L27,AI15)","v":0},{"$f":"AJ15/(AL4-AJ25)","v":0},{"$f":"IF(AK15=0,0,(AK15*((LOG(AK15))/LOG(2))))","v":0},null,{"$f":"N15","v":12111},{"$f":"COUNTIF(L28:L33,AN15)","v":1},{"$f":"AO15/(AQ4-AO25)","v":0.2},{"$f":"IF(AP15=0,0,(AP15*((LOG(AP15))/LOG(2))))","v":-0.46438561897747244},null,{"$f":"N15","v":12111},{"$f":"COUNTIF(L34:L38,AS15)","v":0},{"$f":"AT15/(AV4-AT25)","v":0},{"$f":"IF(AU15=0,0,(AU15*((LOG(AU15))/LOG(2))))","v":0}]
[12,1641,24,1652,24,1674,14,1684,24,1694,0,12212,null,12112,{"$f":"COUNTIF($L$7:$L$500,N16)","v":0},{"$f":"O16/$Q$4","v":0},{"$f":"IF(P16=0,0,(P16*((LOG(P16))/LOG(2))))","v":0},null,null,{"$f":"N16","v":12112},{"$f":"COUNTIF(L7:L11,T16)","v":0},{"$f":"U16/(W4-U25)","v":0},{"$f":"IF(V16=0,0,(V16*((LOG(V16))/LOG(2))))","v":0},null,{"$f":"N16","v":12112},{"$f":"COUNTIF(L12:L17,Y16)","v":0},{"$f":"Z16/(AB4-Z25)","v":0},{"$f":"IF(AA16=0,0,(AA16*((LOG(AA16))/LOG(2))))","v":0},null,{"$f":"N16","v":12112},{"$f":"COUNTIF(L18:L22,AD16)","v":0},{"$f":"AE16/(AG4-AE25)","v":0},{"$f":"IF(AF16=0,0,(AF16*((LOG(AF16))/LOG(2))))","v":0},null,{"$f":"N16","v":12112},{"$f":"COUNTIF(L23:L27,AI16)","v":0},{"$f":"AJ16/(AL4-AJ25)","v":0},{"$f":"IF(AK16=0,0,(AK16*((LOG(AK16))/LOG(2))))","v":0},null,{"$f":"N16","v":12112},{"$f":"COUNTIF(L28:L33,AN16)","v":0},{"$f":"AO16/(AQ4-AO25)","v":0},{"$f":"IF(AP16=0,0,(AP16*((LOG(AP16))/LOG(2))))","v":0},null,{"$f":"N16","v":12112},{"$f":"COUNTIF(L34:L38,AS16)","v":0},{"$f":"AT16/(AV4-AT25)","v":0},{"$f":"IF(AU16=0,0,(AU16*((LOG(AU16))/LOG(2))))","v":0}]
[21,1810,11,1819,22,1828,14,1842,24,1853,0,21212,null,12121,{"$f":"COUNTIF($L$7:$L$500,N17)","v":6},{"$f":"O17/$Q$4","v":0.1875},{"$f":"IF(P17=0,0,(P17*((LOG(P17))/LOG(2))))","v":-0.45281953111478312},null,null,{"$f":"N17","v":12121},{"$f":"COUNTIF(L7:L11,T17)","v":2},{"$f":"U17/(W4-U25)","v":0.4},{"$f":"IF(V17=0,0,(V17*((LOG(V17))/LOG(2))))","v":-0.52877123795494496},null,{"$f":"N17","v":12121},{"$f":"COUNTIF(L12:L17,Y17)","v":3},{"$f":"Z17/(AB4-Z25)","v":0.6},{"$f":"IF(AA17=0,0,(AA17*((LOG(AA17))/LOG(2))))","v":-0.44217935649972373},null,{"$f":"N17","v":12121},{"$f":"COUNTIF(L18:L22,AD17)","v":1},{"$f":"AE17/(AG4-AE25)","v":0.2},{"$f":"IF(AF17=0,0,(AF17*((LOG(AF17))/LOG(2))))","v":-0.46438561897747244},null,{"$f":"N17","v":12121},{"$f":"COUNTIF(L23:L27,AI17)","v":0},{"$f":"AJ17/(AL4-AJ25)","v":0},{"$f":"IF(AK17=0,0,(AK17*((LOG(AK17))/LOG(2))))","v":0},null,{"$f":"N17","v":12121},{"$f":"COUNTIF(L28:L33,AN17)","v":0},{"$f":"AO17/(AQ4-AO25)","v":0},{"$f":"IF(AP17=0,0,(AP17*((LOG(AP17))/LOG(2))))","v":0},null,{"$f":"N17","v":12121},{"$f":"COUNTIF(L34:L38,AS17)","v":0},{"$f":"AT17/(AV4-AT25)","v":0},{"$f":"IF(AU17=0,0,(AU17*((LOG(AU17))/LOG(2))))","v":0}]
[21,1993,22,2104,13,2123,23,2134,13,2144,0,22121,null,12122,{"$f":"COUNTIF($L$7:$L$500,N18)","v":1},{"$f":"O18/$Q$4","v":3.125E-2},{"$f":"IF(P18=0,0,(P18*((LOG(P18))/LOG(2))))","v":-0.15625},null,null,{"$f":"N18","v":12122},{"$f":"COUNTIF(L7:L11,T18)","v":0},{"$f":"U18/(W4-U25)","v":0},{"$f":"IF(V18=0,0,(V18*((LOG(V18))/LOG(2))))","v":0},null,{"$f":"N18","v":12122},{"$f":"COUNTIF(L12:L17,Y18)","v":0},{"$f":"Z18/(AB4-Z25)","v":0},{"$f":"IF(AA18=0,0,(AA18*((LOG(AA18))/LOG(2))))","v":0},null,{"$f":"N18","v":12122},{"$f":"COUNTIF(L18:L22,AD18)","v":0},{"$f":"AE18/(AG4-AE25)","v":0},{"$f":"IF(AF18=0,0,(AF18*((LOG(AF18))/LOG(2))))","v":0},null,{"$f":"N18","v":12122},{"$f":"COUNTIF(L23:L27,AI18)","v":1},{"$f":"AJ18/(AL4-AJ25)","v":0.2},{"$f":"IF(AK18=0,0,(AK18*((LOG(AK18))/LOG(2))))","v":-0.46438561897747244},null,{"$f":"N18","v":12122},{"$f":"COUNTIF(L28:L33,AN18)","v":0},{"$f":"AO18/(AQ4-AO25)","v":0},{"$f":"IF(AP18=0,0,(AP18*((LOG(AP18))/LOG(2))))","v":0},null,{"$f":"N18","v":12122},{"$f":"COUNTIF(L34:L38,AS18)","v":0},{"$f":"AT18/(AV4-AT25)","v":0},{"$f":"IF(AU18=0,0,(AU18*((LOG(AU18))/LOG(2))))","v":0}]
[12,2311,24,2318,13,2331,23,2341,13,2370,0,12121,null,12211,{"$f":"COUNTIF($L$7:$L$500,N19)","v":0},{"$f":"O19/$Q$4","v":0},{"$f":"IF(P19=0,0,(P19*((LOG(P19))/LOG(2))))","v":0},null,null,{"$f":"N19","v":12211},{"$f":"COUNTIF(L7:L11,T19)","v":0},{"$f":"U19/(W4-U25)","v":0},{"$f":"IF(V19=0,0,(V19*((LOG(V19))/LOG(2))))","v":0},null,{"$f":"N19","v":12211},{"$f":"COUNTIF(L12:L17,Y19)","v":0},{"$f":"Z19/(AB4-Z25)","v":0},{"$f":"IF(AA19=0,0,(AA19*((LOG(AA19))/LOG(2))))","v":0},null,{"$f":"N19","v":12211},{"$f":"COUNTIF(L18:L22,AD19)","v":0},{"$f":"AE19/(AG4-AE25)","v":0},{"$f":"IF(AF19=0,0,(AF19*((LOG(AF19))/LOG(2))))","v":0},null,{"$f":"N19","v":12211},{"$f":"COUNTIF(L23:L27,AI19)","v":0},{"$f":"AJ19/(AL4-AJ25)","v":0},{"$f":"IF(AK19=0,0,(AK19*((LOG(AK19))/LOG(2))))","v":0},null,{"$f":"N19","v":12211},{"$f":"COUNTIF(L28:L33,AN19)","v":0},{"$f":"AO19/(AQ4-AO25)","v":0},{"$f":"IF(AP19=0,0,(AP19*((LOG(AP19))/LOG(2))))","v":0},null,{"$f":"N19","v":12211},{"$f":"COUNTIF(L34:L38,AS19)","v":0},{"$f":"AT19/(AV4-AT25)","v":0},{"$f":"IF(AU19=0,0,(AU19*((LOG(AU19))/LOG(2))))","v":0}]
[12,2527,13,2550,24,2560,23,2569,24,2609,0,11222,null,12212,{"$f":"COUNTIF($L$7:$L$500,N20)","v":2},{"$f":"O20/$Q$4","v":6.25E-2},{"$f":"IF(P20=0,0,(P20*((LOG(P20))/LOG(2))))","v":-0.25},null,null,{"$f":"N20","v":12212},{"$f":"COUNTIF(L7:L11,T20)","v":0},{"$f":"U20/(W4-U25)","v":0},{"$f":"IF(V20=0,0,(V20*((LOG(V20))/LOG(2))))","v":0},null,{"$f":"N20","v":12212},{"$f":"COUNTIF(L12:L17,Y20)","v":1},{"$f":"Z20/(AB4-Z25)","v":0.2},{"$f":"IF(AA20=0,0,(AA20*((LOG(AA20))/LOG(2))))","v":-0.46438561897747244},null,{"$f":"N20","v":12212},{"$f":"COUNTIF(L18:L22,AD20)","v":1},{"$f":"AE20/(AG4-AE25)","v":0.2},{"$f":"IF(AF20=0,0,(AF20*((LOG(AF20))/LOG(2))))","v":-0.46438561897747244},null,{"$f":"N20","v":12212},{"$f":"COUNTIF(L23:L27,AI20)","v":0},{"$f":"AJ20/(AL4-AJ25)","v":0},{"$f":"IF(AK20=0,0,(AK20*((LOG(AK20))/LOG(2))))","v":0},null,{"$f":"N20","v":12212},{"$f":"COUNTIF(L28:L33,AN20)","v":0},{"$f":"AO20/(AQ4-AO25)","v":0},{"$f":"IF(AP20=0,0,(AP20*((LOG(AP20))/LOG(2))))","v":0},null,{"$f":"N20","v":12212},{"$f":"COUNTIF(L34:L38,AS20)","v":0},{"$f":"AT20/(AV4-AT25)","v":0},{"$f":"IF(AU20=0,0,(AU20*((LOG(AU20))/LOG(2))))","v":0}]
[12,2754,24,2764,24,2777,14,2790,24,2802,0,12212,null,12221,{"$f":"COUNTIF($L$7:$L$500,N21)","v":0},{"$f":"O21/$Q$4","v":0},{"$f":"IF(P21=0,0,(P21*((LOG(P21))/LOG(2))))","v":0},null,null,{"$f":"N21","v":12221},{"$f":"COUNTIF(L7:L11,T21)","v":0},{"$f":"U21/(W4-U25)","v":0},{"$f":"IF(V21=0,0,(V21*((LOG(V21))/LOG(2))))","v":0},null,{"$f":"N21","v":12221},{"$f":"COUNTIF(L12:L17,Y21)","v":0},{"$f":"Z21/(AB4-Z25)","v":0},{"$f":"IF(AA21=0,0,(AA21*((LOG(AA21))/LOG(2))))","v":0},null,{"$f":"N21","v":12221},{"$f":"COUNTIF(L18:L22,AD21)","v":0},{"$f":"AE21/(AG4-AE25)","v":0},{"$f":"IF(AF21=0,0,(AF21*((LOG(AF21))/LOG(2))))","v":0},null,{"$f":"N21","v":12221},{"$f":"COUNTIF(L23:L27,AI21)","v":0},{"$f":"AJ21/(AL4-AJ25)","v":0},{"$f":"IF(AK21=0,0,(AK21*((LOG(AK21))/LOG(2))))","v":0},null,{"$f":"N21","v":12221},{"$f":"COUNTIF(L28:L33,AN21)","v":0},{"$f":"AO21/(AQ4-AO25)","v":0},{"$f":"IF(AP21=0,0,(AP21*((LOG(AP21))/LOG(2))))","v":0},null,{"$f":"N21","v":12221},{"$f":"COUNTIF(L34:L38,AS21)","v":0},{"$f":"AT21/(AV4-AT25)","v":0},{"$f":"IF(AU21=0,0,(AU21*((LOG(AU21))/LOG(2))))","v":0}]
[12,2929,13,2976,13,3433,23,3442,24,3463,0,11122,null,12222,{"$f":"COUNTIF($L$7:$L$500,N22)","v":0},{"$f":"O22/$Q$4","v":0},{"$f":"IF(P22=0,0,(P22*((LOG(P22))/LOG(2))))","v":0},null,null,{"$f":"N22","v":12222},{"$f":"COUNTIF(L7:L11,T22)","v":0},{"$f":"U22/(W4-U25)","v":0},{"$f":"IF(V22=0,0,(V22*((LOG(V22))/LOG(2))))","v":0},null,{"$f":"N22","v":12222},{"$f":"COUNTIF(L12:L17,Y22)","v":0},{"$f":"Z22/(AB4-Z25)","v":0},{"$f":"IF(AA22=0,0,(AA22*((LOG(AA22))/LOG(2))))","v":0},null,{"$f":"N22","v":12222},{"$f":"COUNTIF(L18:L22,AD22)","v":0},{"$f":"AE22/(AG4-AE25)","v":0},{"$f":"IF(AF22=0,0,(AF22*((LOG(AF22))/LOG(2))))","v":0},null,{"$f":"N22","v":12222},{"$f":"COUNTIF(L23:L27,AI22)","v":0},{"$f":"AJ22/(AL4-AJ25)","v":0},{"$f":"IF(AK22=0,0,(AK22*((LOG(AK22))/LOG(2))))","v":0},null,{"$f":"N22","v":12222},{"$f":"COUNTIF(L28:L33,AN22)","v":0},{"$f":"AO22/(AQ4-AO25)","v":0},{"$f":"IF(AP22=0,0,(AP22*((LOG(AP22))/LOG(2))))","v":0},null,{"$f":"N22","v":12222},{"$f":"COUNTIF(L34:L38,AS22)","v":0},{"$f":"AT22/(AV4-AT25)","v":0},{"$f":"IF(AU22=0,0,(AU22*((LOG(AU22))/LOG(2))))","v":0}]
[12,3643,24,3652,13,3666,23,3676,24,3719,0,12122,null,21111,{"$f":"COUNTIF($L$7:$L$500,N23)","v":0},{"$f":"O23/$Q$4","v":0},{"$f":"IF(P23=0,0,(P23*((LOG(P23))/LOG(2))))","v":0},null,null,{"$f":"N23","v":21111},{"$f":"COUNTIF(L7:L11,T23)","v":0},{"$f":"U23/(W4-U25)","v":0},{"$f":"IF(V23=0,0,(V23*((LOG(V23))/LOG(2))))","v":0},null,{"$f":"N23","v":21111},{"$f":"COUNTIF(L12:L17,Y23)","v":0},{"$f":"Z23/(AB4-Z25)","v":0},{"$f":"IF(AA23=0,0,(AA23*((LOG(AA23))/LOG(2))))","v":0},null,{"$f":"N23","v":21111},{"$f":"COUNTIF(L18:L22,AD23)","v":0},{"$f":"AE23/(AG4-AE25)","v":0},{"$f":"IF(AF23=0,0,(AF23*((LOG(AF23))/LOG(2))))","v":0},null,{"$f":"N23","v":21111},{"$f":"COUNTIF(L23:L27,AI23)","v":0},{"$f":"AJ23/(AL4-AJ25)","v":0},{"$f":"IF(AK23=0,0,(AK23*((LOG(AK23))/LOG(2))))","v":0},null,{"$f":"N23","v":21111},{"$f":"COUNTIF(L28:L33,AN23)","v":0},{"$f":"AO23/(AQ4-AO25)","v":0},{"$f":"IF(AP23=0,0,(AP23*((LOG(AP23))/LOG(2))))","v":0},null,{"$f":"N23","v":21111},{"$f":"COUNTIF(L34:L38,AS23)","v":0},{"$f":"AT23/(AV4-AT25)","v":0},{"$f":"IF(AU23=0,0,(AU23*((LOG(AU23))/LOG(2))))","v":0}]
[12,4443,13,4453,24,4463,23,4479,24,4502,0,11222,null,21112,{"$f":"COUNTIF($L$7:$L$500,N24)","v":1},{"$f":"O24/$Q$4","v":3.125E-2},{"$f":"IF(P24=0,0,(P24*((LOG(P24))/LOG(2))))","v":-0.15625},null,null,{"$f":"N24","v":21112},{"$f":"COUNTIF(L7:L11,T24)","v":0},{"$f":"U24/(W4-U25)","v":0},{"$f":"IF(V24=0,0,(V24*((LOG(V24))/LOG(2))))","v":0},null,{"$f":"N24","v":21112},{"$f":"COUNTIF(L12:L17,Y24)","v":0},{"$f":"Z24/(AB4-Z25)","v":0},{"$f":"IF(AA24=0,0,(AA24*((LOG(AA24))/LOG(2))))","v":0},null,{"$f":"N24","v":21112},{"$f":"COUNTIF(L18:L22,AD24)","v":0},{"$f":"AE24/(AG4-AE25)","v":0},{"$f":"IF(AF24=0,0,(AF24*((LOG(AF24))/LOG(2))))","v":0},null,{"$f":"N24","v":21112},{"$f":"COUNTIF(L23:L27,AI24)","v":0},{"$f":"AJ24/(AL4-AJ25)","v":0},{"$f":"IF(AK24=0,0,(AK24*((LOG(AK24))/LOG(2))))","v":0},null,{"$f":"N24","v":21112},{"$f":"COUNTIF(L28:L33,AN24)","v":0},{"$f":"AO24/(AQ4-AO25)","v":0},{"$f":"IF(AP24=0,0,(AP24*((LOG(AP24))/LOG(2))))","v":0},null,{"$f":"N24","v":21112},{"$f":"COUNTIF(L34:L38,AS24)","v":1},{"$f":"AT24/(AV4-AT25)","v":0.2},{"$f":"IF(AU24=0,0,(AU24*((LOG(AU24))/LOG(2))))","v":-0.46438561897747244}]
[21,5593,11,5614,22,5621,23,5644,13,5655,0,21221,null,21121,{"$f":"COUNTIF($L$7:$L$500,N25)","v":2},{"$f":"O25/$Q$4","v":6.25E-2},{"$f":"IF(P25=0,0,(P25*((LOG(P25))/LOG(2))))","v":-0.25},null,null,{"$f":"N25","v":21121},{"$f":"COUNTIF(L7:L11,T25)","v":0},null,null,null,{"$f":"N25","v":21121},{"$f":"COUNTIF(L12:L17,Y25)","v":1},null,null,null,{"$f":"N25","v":21121},{"$f":"COUNTIF(L18:L22,AD25)","v":0},null,null,null,{"$f":"N25","v":21121},{"$f":"COUNTIF(L23:L27,AI25)","v":0},null,null,null,{"$f":"N25","v":21121},{"$f":"COUNTIF(L28:L33,AN25)","v":1},null,null,null,{"$f":"N25","v":21121},{"$f":"COUNTIF(L34:L38,AS25)","v":0}]
[21,6154,11,6165,22,6175,14,6190,24,6200,0,21212,null,21122,{"$f":"COUNTIF($L$7:$L$500,N26)","v":0},{"$f":"O26/$Q$4","v":0},{"$f":"IF(P26=0,0,(P26*((LOG(P26))/LOG(2))))","v":0},null,null,{"$f":"N26","v":21122},{"$f":"COUNTIF(L7:L11,T26)","v":0},{"$f":"U26/(W4-U25)","v":0},{"$f":"IF(V26=0,0,(V26*((LOG(V26))/LOG(2))))","v":0},null,{"$f":"N26","v":21122},{"$f":"COUNTIF(L12:L17,Y26)","v":0},{"$f":"Z26/(AB4-Z25)","v":0},{"$f":"IF(AA26=0,0,(AA26*((LOG(AA26))/LOG(2))))","v":0},null,{"$f":"N26","v":21122},{"$f":"COUNTIF(L18:L22,AD26)","v":0},{"$f":"AE26/(AG4-AE25)","v":0},{"$f":"IF(AF26=0,0,(AF26*((LOG(AF26))/LOG(2))))","v":0},null,{"$f":"N26","v":21122},{"$f":"COUNTIF(L23:L27,AI26)","v":0},{"$f":"AJ26/(AL4-AJ25)","v":0},{"$f":"IF(AK26=0,0,(AK26*((LOG(AK26))/LOG(2))))","v":0},null,{"$f":"N26","v":21122},{"$f":"COUNTIF(L28:L33,AN26)","v":0},{"$f":"AO26/(AQ4-AO25)","v":0},{"$f":"IF(AP26=0,0,(AP26*((LOG(AP26))/LOG(2))))","v":0},null,{"$f":"N26","v":21122},{"$f":"COUNTIF(L34:L38,AS26)","v":0},{"$f":"AT26/(AV4-AT25)","v":0},{"$f":"IF(AU26=0,0,(AU26*((LOG(AU26))/LOG(2))))","v":0}]
[21,7065,22,7075,24,7101,14,7136,24,7148,0,22212,null,21211,{"$f":"COUNTIF($L$7:$L$500,N27)","v":0},{"$f":"O27/$Q$4","v":0},{"$f":"IF(P27=0,0,(P27*((LOG(P27))/LOG(2))))","v":0},null,null,{"$f":"N27","v":21211},{"$f":"COUNTIF(L7:L11,T27)","v":0},{"$f":"U27/(W4-U25)","v":0},{"$f":"IF(V27=0,0,(V27*((LOG(V27))/LOG(2))))","v":0},null,{"$f":"N27","v":21211},{"$f":"COUNTIF(L12:L17,Y27)","v":0},{"$f":"Z27/(AB4-Z25)","v":0},{"$f":"IF(AA27=0,0,(AA27*((LOG(AA27))/LOG(2))))","v":0},null,{"$f":"N27","v":21211},{"$f":"COUNTIF(L18:L22,AD27)","v":0},{"$f":"AE27/(AG4-AE25)","v":0},{"$f":"IF(AF27=0,0,(AF27*((LOG(AF27))/LOG(2))))","v":0},null,{"$f":"N27","v":21211},{"$f":"COUNTIF(L23:L27,AI27)","v":0},{"$f":"AJ27/(AL4-AJ25)","v":0},{"$f":"IF(AK27=0,0,(AK27*((LOG(AK27))/LOG(2))))","v":0},null,{"$f":"N27","v":21211},{"$f":"COUNTIF(L28:L33,AN27)","v":0},{"$f":"AO27/(AQ4-AO25)","v":0},{"$f":"IF(AP27=0,0,(AP27*((LOG(AP27))/LOG(2))))","v":0},null,{"$f":"N27","v":21211},{"$f":"COUNTIF(L34:L38,AS27)","v":0},{"$f":"AT27/(AV4-AT25)","v":0},{"$f":"IF(AU27=0,0,(AU27*((LOG(AU27))/LOG(2))))","v":0}]
[12,7537,13,7558,24,7657,14,7666,13,7685,0,11211,null,21212,{"$f":"COUNTIF($L$7:$L$500,N28)","v":5},{"$f":"O28/$Q$4","v":0.15625},{"$f":"IF(P28=0,0,(P28*((LOG(P28))/LOG(2))))","v":-0.41844873517384967},null,null,{"$f":"N28","v":21212},{"$f":"COUNTIF(L7:L11,T28)","v":2},{"$f":"U28/(W4-U25)","v":0.4},{"$f":"IF(V28=0,0,(V28*((LOG(V28))/LOG(2))))","v":-0.52877123795494496},null,{"$f":"N28","v":21212},{"$f":"COUNTIF(L12:L17,Y28)","v":1},{"$f":"Z28/(AB4-Z25)","v":0.2},{"$f":"IF(AA28=0,0,(AA28*((LOG(AA28))/LOG(2))))","v":-0.46438561897747244},null,{"$f":"N28","v":21212},{"$f":"COUNTIF(L18:L22,AD28)","v":0},{"$f":"AE28/(AG4-AE25)","v":0},{"$f":"IF(AF28=0,0,(AF28*((LOG(AF28))/LOG(2))))","v":0},null,{"$f":"N28","v":21212},{"$f":"COUNTIF(L23:L27,AI28)","v":1},{"$f":"AJ28/(AL4-AJ25)","v":0.2},{"$f":"IF(AK28=0,0,(AK28*((LOG(AK28))/LOG(2))))","v":-0.46438561897747244},null,{"$f":"N28","v":21212},{"$f":"COUNTIF(L28:L33,AN28)","v":0},{"$f":"AO28/(AQ4-AO25)","v":0},{"$f":"IF(AP28=0,0,(AP28*((LOG(AP28))/LOG(2))))","v":0},null,{"$f":"N28","v":21212},{"$f":"COUNTIF(L34:L38,AS28)","v":1},{"$f":"AT28/(AV4-AT25)","v":0.2},{"$f":"IF(AU28=0,0,(AU28*((LOG(AU28))/LOG(2))))","v":-0.46438561897747244}]
[12,7998,13,8008,24,8020,14,8034,24,8043,0,11212,null,21221,{"$f":"COUNTIF($L$7:$L$500,N29)","v":1},{"$f":"O29/$Q$4","v":3.125E-2},{"$f":"IF(P29=0,0,(P29*((LOG(P29))/LOG(2))))","v":-0.15625},null,null,{"$f":"N29","v":21221},{"$f":"COUNTIF(L7:L11,T29)","v":0},{"$f":"U29/(W4-U25)","v":0},{"$f":"IF(V29=0,0,(V29*((LOG(V29))/LOG(2))))","v":0},null,{"$f":"N29","v":21221},{"$f":"COUNTIF(L12:L17,Y29)","v":0},{"$f":"Z29/(AB4-Z25)","v":0},{"$f":"IF(AA29=0,0,(AA29*((LOG(AA29))/LOG(2))))","v":0},null,{"$f":"N29","v":21221},{"$f":"COUNTIF(L18:L22,AD29)","v":0},{"$f":"AE29/(AG4-AE25)","v":0},{"$f":"IF(AF29=0,0,(AF29*((LOG(AF29))/LOG(2))))","v":0},null,{"$f":"N29","v":21221},{"$f":"COUNTIF(L23:L27,AI29)","v":1},{"$f":"AJ29/(AL4-AJ25)","v":0.2},{"$f":"IF(AK29=0,0,(AK29*((LOG(AK29))/LOG(2))))","v":-0.46438561897747244},null,{"$f":"N29","v":21221},{"$f":"COUNTIF(L28:L33,AN29)","v":0},{"$f":"AO29/(AQ4-AO25)","v":0},{"$f":"IF(AP29=0,0,(AP29*((LOG(AP29))/LOG(2))))","v":0},null,{"$f":"N29","v":21221},{"$f":"COUNTIF(L34:L38,AS29)","v":0},{"$f":"AT29/(AV4-AT25)","v":0},{"$f":"IF(AU29=0,0,(AU29*((LOG(AU29))/LOG(2))))","v":0}]
[21,8499,22,8512,13,8522,23,8532,13,8558,0,22121,null,21222,{"$f":"COUNTIF($L$7:$L$500,N30)","v":0},{"$f":"O30/$Q$4","v":0},{"$f":"IF(P30=0,0,(P30*((LOG(P30))/LOG(2))))","v":0},null,null,{"$f":"N30","v":21222},{"$f":"COUNTIF(L7:L11,T30)","v":0},{"$f":"U30/(W4-U25)","v":0},{"$f":"IF(V30=0,0,(V30*((LOG(V30))/LOG(2))))","v":0},null,{"$f":"N30","v":21222},{"$f":"COUNTIF(L12:L17,Y30)","v":0},{"$f":"Z30/(AB4-Z25)","v":0},{"$f":"IF(AA30=0,0,(AA30*((LOG(AA30))/LOG(2))))","v":0},null,{"$f":"N30","v":21222},{"$f":"COUNTIF(L18:L22,AD30)","v":0},{"$f":"AE30/(AG4-AE25)","v":0},{"$f":"IF(AF30=0,0,(AF30*((LOG(AF30))/LOG(2))))","v":0},null,{"$f":"N30","v":21222},{"$f":"COUNTIF(L23:L27,AI30)","v":0},{"$f":"AJ30/(AL4-AJ25)","v":0},{"$f":"IF(AK30=0,0,(AK30*((LOG(AK30))/LOG(2))))","v":0},null,{"$f":"N30","v":21222},{"$f":"COUNTIF(L28:L33,AN30)","v":0},{"$f":"AO30/(AQ4-AO25)","v":0},{"$f":"IF(AP30=0,0,(AP30*((LOG(AP30))/LOG(2))))","v":0},null,{"$f":"N30","v":21222},{"$f":"COUNTIF(L34:L38,AS30)","v":0},{"$f":"AT30/(AV4-AT25)","v":0},{"$f":"IF(AU30=0,0,(AU30*((LOG(AU30))/LOG(2))))","v":0}]
[12,8974,13,8985,13,9821,23,9831,24,9850,0,11122,null,22111,{"$f":"COUNTIF($L$7:$L$500,N31)","v":0},{"$f":"O31/$Q$4","v":0},{"$f":"IF(P31=0,0,(P31*((LOG(P31))/LOG(2))))","v":0},null,null,{"$f":"N31","v":22111},{"$f":"COUNTIF(L7:L11,T31)","v":0},{"$f":"U31/(W4-U25)","v":0},{"$f":"IF(V31=0,0,(V31*((LOG(V31))/LOG(2))))","v":0},null,{"$f":"N31","v":22111},{"$f":"COUNTIF(L12:L17,Y31)","v":0},{"$f":"Z31/(AB4-Z25)","v":0},{"$f":"IF(AA31=0,0,(AA31*((LOG(AA31))/LOG(2))))","v":0},null,{"$f":"N31","v":22111},{"$f":"COUNTIF(L18:L22,AD31)","v":0},{"$f":"AE31/(AG4-AE25)","v":0},{"$f":"IF(AF31=0,0,(AF31*((LOG(AF31))/LOG(2))))","v":0},null,{"$f":"N31","v":22111},{"$f":"COUNTIF(L23:L27,AI31)","v":0},{"$f":"AJ31/(AL4-AJ25)","v":0},{"$f":"IF(AK31=0,0,(AK31*((LOG(AK31))/LOG(2))))","v":0},null,{"$f":"N31","v":22111},{"$f":"COUNTIF(L28:L33,AN31)","v":0},{"$f":"AO31/(AQ4-AO25)","v":0},{"$f":"IF(AP31=0,0,(AP31*((LOG(AP31))/LOG(2))))","v":0},null,{"$f":"N31","v":22111},{"$f":"COUNTIF(L34:L38,AS31)","v":0},{"$f":"AT31/(AV4-AT25)","v":0},{"$f":"IF(AU31=0,0,(AU31*((LOG(AU31))/LOG(2))))","v":0}]
[12,12291,24,12310,13,12328,14,12338,13,12403,0,12111,null,22112,{"$f":"COUNTIF($L$7:$L$500,N32)","v":0},{"$f":"O32/$Q$4","v":0},{"$f":"IF(P32=0,0,(P32*((LOG(P32))/LOG(2))))","v":0},null,null,{"$f":"N32","v":22112},{"$f":"COUNTIF(L7:L11,T32)","v":0},{"$f":"U32/(W4-U25)","v":0},{"$f":"IF(V32=0,0,(V32*((LOG(V32))/LOG(2))))","v":0},null,{"$f":"N32","v":22112},{"$f":"COUNTIF(L12:L17,Y32)","v":0},{"$f":"Z32/(AB4-Z25)","v":0},{"$f":"IF(AA32=0,0,(AA32*((LOG(AA32))/LOG(2))))","v":0},null,{"$f":"N32","v":22112},{"$f":"COUNTIF(L18:L22,AD32)","v":0},{"$f":"AE32/(AG4-AE25)","v":0},{"$f":"IF(AF32=0,0,(AF32*((LOG(AF32))/LOG(2))))","v":0},null,{"$f":"N32","v":22112},{"$f":"COUNTIF(L23:L27,AI32)","v":0},{"$f":"AJ32/(AL4-AJ25)","v":0},{"$f":"IF(AK32=0,0,(AK32*((LOG(AK32))/LOG(2))))","v":0},null,{"$f":"N32","v":22112},{"$f":"COUNTIF(L28:L33,AN32)","v":0},{"$f":"AO32/(AQ4-AO25)","v":0},{"$f":"IF(AP32=0,0,(AP32*((LOG(AP32))/LOG(2))))","v":0},null,{"$f":"N32","v":22112},{"$f":"COUNTIF(L34:L38,AS32)","v":0},{"$f":"AT32/(AV4-AT25)","v":0},{"$f":"IF(AU32=0,0,(AU32*((LOG(AU32))/LOG(2))))","v":0}]
[21,16738,11,21138,11,21153,21,21164,11,21182,1,21121,null,22121,{"$f":"COUNTIF($L$7:$L$500,N33)","v":2},{"$f":"O33/$Q$4","v":6.25E-2},{"$f":"IF(P33=0,0,(P33*((LOG(P33))/LOG(2))))","v":-0.25},null,null,{"$f":"N33","v":22121},{"$f":"COUNTIF(L7:L11,T33)","v":0},{"$f":"U33/(W4-U25)","v":0},{"$f":"IF(V33=0,0,(V33*((LOG(V33))/LOG(2))))","v":0},null,{"$f":"N33","v":22121},{"$f":"COUNTIF(L12:L17,Y33)","v":0},{"$f":"Z33/(AB4-Z25)","v":0},{"$f":"IF(AA33=0,0,(AA33*((LOG(AA33))/LOG(2))))","v":0},null,{"$f":"N33","v":22121},{"$f":"COUNTIF(L18:L22,AD33)","v":1},{"$f":"AE33/(AG4-AE25)","v":0.2},{"$f":"IF(AF33=0,0,(AF33*((LOG(AF33))/LOG(2))))","v":-0.46438561897747244},null,{"$f":"N33","v":22121},{"$f":"COUNTIF(L23:L27,AI33)","v":0},{"$f":"AJ33/(AL4-AJ25)","v":0},{"$f":"IF(AK33=0,0,(AK33*((LOG(AK33))/LOG(2))))","v":0},null,{"$f":"N33","v":22121},{"$f":"COUNTIF(L28:L33,AN33)","v":1},{"$f":"AO33/(AQ4-AO25)","v":0.2},{"$f":"IF(AP33=0,0,(AP33*((LOG(AP33))/LOG(2))))","v":-0.46438561897747244},null,{"$f":"N33","v":22121},{"$f":"COUNTIF(L34:L38,AS33)","v":0},{"$f":"AT33/(AV4-AT25)","v":0},{"$f":"IF(AU33=0,0,(AU33*((LOG(AU33))/LOG(2))))","v":0}]
[12,21381,13,21395,24,21407,23,21424,24,21440,0,11222,null,22122,{"$f":"COUNTIF($L$7:$L$500,N34)","v":0},{"$f":"O34/$Q$4","v":0},{"$f":"IF(P34=0,0,(P34*((LOG(P34))/LOG(2))))","v":0},null,null,{"$f":"N34","v":22122},{"$f":"COUNTIF(L7:L11,T34)","v":0},{"$f":"U34/(W4-U25)","v":0},{"$f":"IF(V34=0,0,(V34*((LOG(V34))/LOG(2))))","v":0},null,{"$f":"N34","v":22122},{"$f":"COUNTIF(L12:L17,Y34)","v":0},{"$f":"Z34/(AB4-Z25)","v":0},{"$f":"IF(AA34=0,0,(AA34*((LOG(AA34))/LOG(2))))","v":0},null,{"$f":"N34","v":22122},{"$f":"COUNTIF(L18:L22,AD34)","v":0},{"$f":"AE34/(AG4-AE25)","v":0},{"$f":"IF(AF34=0,0,(AF34*((LOG(AF34))/LOG(2))))","v":0},null,{"$f":"N34","v":22122},{"$f":"COUNTIF(L23:L27,AI34)","v":0},{"$f":"AJ34/(AL4-AJ25)","v":0},{"$f":"IF(AK34=0,0,(AK34*((LOG(AK34))/LOG(2))))","v":0},null,{"$f":"N34","v":22122},{"$f":"COUNTIF(L28:L33,AN34)","v":0},{"$f":"AO34/(AQ4-AO25)","v":0},{"$f":"IF(AP34=0,0,(AP34*((LOG(AP34))/LOG(2))))","v":0},null,{"$f":"N34","v":22122},{"$f":"COUNTIF(L34:L38,AS34)","v":0},{"$f":"AT34/(AV4-AT25)","v":0},{"$f":"IF(AU34=0,0,(AU34*((LOG(AU34))/LOG(2))))","v":0}]
[12,21557,13,21569,24,21579,14,21588,13,21602,0,11211,null,22211,{"$f":"COUNTIF($L$7:$L$500,N35)","v":0},{"$f":"O35/$Q$4","v":0},{"$f":"IF(P35=0,0,(P35*((LOG(P35))/LOG(2))))","v":0},null,null,{"$f":"N35","v":22211},{"$f":"COUNTIF(L7:L11,T35)","v":0},{"$f":"U35/(W4-U25)","v":0},{"$f":"IF(V35=0,0,(V35*((LOG(V35))/LOG(2))))","v":0},null,{"$f":"N35","v":22211},{"$f":"COUNTIF(L12:L17,Y35)","v":0},{"$f":"Z35/(AB4-Z25)","v":0},{"$f":"IF(AA35=0,0,(AA35*((LOG(AA35))/LOG(2))))","v":0},null,{"$f":"N35","v":22211},{"$f":"COUNTIF(L18:L22,AD35)","v":0},{"$f":"AE35/(AG4-AE25)","v":0},{"$f":"IF(AF35=0,0,(AF35*((LOG(AF35))/LOG(2))))","v":0},null,{"$f":"N35","v":22211},{"$f":"COUNTIF(L23:L27,AI35)","v":0},{"$f":"AJ35/(AL4-AJ25)","v":0},{"$f":"IF(AK35=0,0,(AK35*((LOG(AK35))/LOG(2))))","v":0},null,{"$f":"N35","v":22211},{"$f":"COUNTIF(L28:L33,AN35)","v":0},{"$f":"AO35/(AQ4-AO25)","v":0},{"$f":"IF(AP35=0,0,(AP35*((LOG(AP35))/LOG(2))))","v":0},null,{"$f":"N35","v":22211},{"$f":"COUNTIF(L34:L38,AS35)","v":0},{"$f":"AT35/(AV4-AT25)","v":0},{"$f":"IF(AU35=0,0,(AU35*((LOG(AU35))/LOG(2))))","v":0}]
[21,21742,11,21752,11,21766,12,21778,24,21789,0,21112,null,22212,{"$f":"COUNTIF($L$7:$L$500,N36)","v":1},{"$f":"O36/$Q$4","v":3.125E-2},{"$f":"IF(P36=0,0,(P36*((LOG(P36))/LOG(2))))","v":-0.15625},null,null,{"$f":"N36","v":22212},{"$f":"COUNTIF(L7:L11,T36)","v":0},{"$f":"U36/(W4-U25)","v":0},{"$f":"IF(V36=0,0,(V36*((LOG(V36))/LOG(2))))","v":0},null,{"$f":"N36","v":22212},{"$f":"COUNTIF(L12:L17,Y36)","v":0},{"$f":"Z36/(AB4-Z25)","v":0},{"$f":"IF(AA36=0,0,(AA36*((LOG(AA36))/LOG(2))))","v":0},null,{"$f":"N36","v":22212},{"$f":"COUNTIF(L18:L22,AD36)","v":0},{"$f":"AE36/(AG4-AE25)","v":0},{"$f":"IF(AF36=0,0,(AF36*((LOG(AF36))/LOG(2))))","v":0},null,{"$f":"N36","v":22212},{"$f":"COUNTIF(L23:L27,AI36)","v":1},{"$f":"AJ36/(AL4-AJ25)","v":0.2},{"$f":"IF(AK36=0,0,(AK36*((LOG(AK36))/LOG(2))))","v":-0.46438561897747244},null,{"$f":"N36","v":22212},{"$f":"COUNTIF(L28:L33,AN36)","v":0},{"$f":"AO36/(AQ4-AO25)","v":0},{"$f":"IF(AP36=0,0,(AP36*((LOG(AP36))/LOG(2))))","v":0},null,{"$f":"N36","v":22212},{"$f":"COUNTIF(L34:L38,AS36)","v":0},{"$f":"AT36/(AV4-AT25)","v":0},{"$f":"IF(AU36=0,0,(AU36*((LOG(AU36))/LOG(2))))","v":0}]
[12,21936,13,21957,24,21967,14,21986,24,21998,0,11212,null,22221,{"$f":"COUNTIF($L$7:$L$500,N37)","v":0},{"$f":"O37/$Q$4","v":0},{"$f":"IF(P37=0,0,(P37*((LOG(P37))/LOG(2))))","v":0},null,null,{"$f":"N37","v":22221},{"$f":"COUNTIF(L7:L11,T37)","v":0},{"$f":"U37/(W4-U25)","v":0},{"$f":"IF(V37=0,0,(V37*((LOG(V37))/LOG(2))))","v":0},null,{"$f":"N37","v":22221},{"$f":"COUNTIF(L12:L17,Y37)","v":0},{"$f":"Z37/(AB4-Z25)","v":0},{"$f":"IF(AA37=0,0,(AA37*((LOG(AA37))/LOG(2))))","v":0},null,{"$f":"N37","v":22221},{"$f":"COUNTIF(L18:L22,AD37)","v":0},{"$f":"AE37/(AG4-AE25)","v":0},{"$f":"IF(AF37=0,0,(AF37*((LOG(AF37))/LOG(2))))","v":0},null,{"$f":"N37","v":22221},{"$f":"COUNTIF(L23:L27,AI37)","v":0},{"$f":"AJ37/(AL4-AJ25)","v":0},{"$f":"IF(AK37=0,0,(AK37*((LOG(AK37))/LOG(2))))","v":0},null,{"$f":"N37","v":22221},{"$f":"COUNTIF(L28:L33,AN37)","v":0},{"$f":"AO37/(AQ4-AO25)","v":0},{"$f":"IF(AP37=0,0,(AP37*((LOG(AP37))/LOG(2))))","v":0},null,{"$f":"N37","v":22221},{"$f":"COUNTIF(L34:L38,AS37)","v":0},{"$f":"AT37/(AV4-AT25)","v":0},{"$f":"IF(AU37=0,0,(AU37*((LOG(AU37))/LOG(2))))","v":0}]
[21,22499,11,22526,22,22537,14,22553,24,22564,0,21212,null,22222,{"$f":"COUNTIF($L$7:$L$500,N38)","v":0},{"$f":"O38/$Q$4","v":0},{"$f":"IF(P38=0,0,(P38*((LOG(P38))/LOG(2))))","v":0},null,null,{"$f":"N38","v":22222},{"$f":"COUNTIF(L7:L11,T38)","v":0},{"$f":"U38/(W4-U25)","v":0},{"$f":"IF(V38=0,0,(V38*((LOG(V38))/LOG(2))))","v":0},null,{"$f":"N38","v":22222},{"$f":"COUNTIF(L12:L17,Y38)","v":0},{"$f":"Z38/(AB4-Z25)","v":0},{"$f":"IF(AA38=0,0,(AA38*((LOG(AA38))/LOG(2))))","v":0},null,{"$f":"N38","v":22222},{"$f":"COUNTIF(L18:L22,AD38)","v":0},{"$f":"AE38/(AG4-AE25)","v":0},{"$f":"IF(AF38=0,0,(AF38*((LOG(AF38))/LOG(2))))","v":0},null,{"$f":"N38","v":22222},{"$f":"COUNTIF(L23:L27,AI38)","v":0},{"$f":"AJ38/(AL4-AJ25)","v":0},{"$f":"IF(AK38=0,0,(AK38*((LOG(AK38))/LOG(2))))","v":0},null,{"$f":"N38","v":22222},{"$f":"COUNTIF(L28:L33,AN38)","v":0},{"$f":"AO38/(AQ4-AO25)","v":0},{"$f":"IF(AP38=0,0,(AP38*((LOG(AP38))/LOG(2))))","v":0},null,{"$f":"N38","v":22222},{"$f":"COUNTIF(L34:L38,AS38)","v":0},{"$f":"AT38/(AV4-AT25)","v":0},{"$f":"IF(AU38=0,0,(AU38*((LOG(AU38))/LOG(2))))","v":0}]
[null,null,null,null,null,null,null,null,null,null,null,null,null,null,null,{"$f":"SUM(P7:P38)","v":1},{"$f":"-SUM(Q7:Q38)","v":3.5275182662886326},null,null,null,null,{"$f":"SUM(V7:V38)","v":1},{"$f":"-SUM(W7:W38)","v":1.5219280948873624},null,null,null,{"$f":"SUM(AA7:AA38)","v":1},{"$f":"-SUM(AB7:AB38)","v":1.3709505944546687},null,null,null,{"$f":"SUM(AF7:AF38)","v":1},{"$f":"-SUM(AG7:AG38)","v":2.3219280948873622},null,null,null,{"$f":"SUM(AK7:AK38)","v":1},{"$f":"-SUM(AL7:AL38)","v":2.3219280948873622},null,null,null,{"$f":"SUM(AP7:AP38)","v":1},{"$f":"-SUM(AQ7:AQ38)","v":2.3219280948873622},null,null,null,{"$f":"SUM(AU7:AU38)","v":1},{"$f":"-SUM(AV7:AV38)","v":2.3219280948873622}]
[null,null,null,null,null,null,null,null,null,null,null,null,null,null,null,"U=",{"$f":"Q39/(LOG(Q4)/LOG(2))","v":0.70550365325772657},null,null,null,null,"U1=",{"$f":"W39/(LOG(W4)/LOG(2))","v":0.65545875354128547},null,null,null,"U2=",{"$f":"AB39/(LOG(AB4)/LOG(2))","v":0.53035608604465223},null,null,null,"U3=",{"$f":"AG39/(LOG(AG4)/LOG(2))","v":0.99999999999999978},null,null,null,"U4=",{"$f":"AL39/(LOG(AL4)/LOG(2))","v":0.99999999999999978},null,null,null,"U5=",{"$f":"AQ39/(LOG(AQ4)/LOG(2))","v":0.89824440170392716},null,null,null,"U6=",{"$f":"AV39/(LOG(AV4)/LOG(2))","v":0.99999999999999978}]
[]
[]
[null,null,null,null,null,null,null,null,null,null,null,null,null,"Total Target Seq"]
[null,null,null,null,null,null,null,null,null,null,null,null,null,{"$f":"COUNTIF(L7:L38,G3)","v":2},null,5,6,5,5,6,5]
[null,null,null,null,null,null,null,null,null,null,null,null,null,null,null,"% of reinforcement given in 6 equal intervals based on number of trials "]
[null,null,null,null,null,null,null,null,null,null,null,null,null,null,null,"%_1","%_2","%_3","%_4","%_5","%_6"]
[null,null,null,null,null,null,null,null,null,null,null,null,null,null,"target sequence",{"$f":"$G$3","v":21121},{"$f":"$G$3","v":21121},{"$f":"$G$3","v":21121},{"$f":"$G$3","v":21121},{"$f":"$G$3","v":21121},{"$f":"$G$3","v":21121}]
[null,null,null,null,null,null,null,null,null,null,null,null,null,null,"total reinforcement",{"$f":"U25","v":0},{"$f":"Z25","v":1},{"$f":"AE25","v":0},{"$f":"AJ25","v":0},{"$f":"AO25","v":1},{"$f":"AT25","v":0}]
[null,null,null,null,null,null,null,null,null,null,null,null,null,null,"% target"]
[null,null,null,null,null,null,null,null,null,null,null,null,null,null,"CCRF"]
[null,null,null,null,null,null,null,null,null,null,null,null,null,null,"% CCRf"]
[null,null,null,null,null,null,null,null,null,null,null,null,null,null,"average response rate",{"$f":"J11/P44","v":162.6},{"$f":"(J17-J11)/Q44","v":173.33333333333334},{"$f":"(J22-J17)/R44","v":322},{"$f":"(J27-J22)/S44","v":737},{"$f":"(J33-J27)/T44","v":2339},{"$f":"(J38-J33)/U44","v":276.39999999999998}]

{"sheet":"!N108A10.105","index":10,"n_rows":52,"n_cols":48,"rows_kept":52,"cut":false,"hidden":false,"merged":[[4,39,4,42],[5,39,5,40],[4,44,4,47],[5,44,5,45],[4,24,4,27],[5,24,5,25],[4,29,4,32],[5,29,5,30],[4,34,4,37],[5,34,5,35],[1,1,1,2],[5,13,5,14],[42,13,42,14],[43,13,43,14],[4,19,4,22],[5,19,5,20]]}
["Report for:!N108A10.105"]
["Date:","<date>"]
["Hen:","<hen>",null,null,null,"Correct Sequence",{"$f":"Start!J2","v":21121},null,null,null,null,null,null,null,null,"Total Sequences in Data",{"$f":"4994-COUNTBLANK(L7:L5000)","v":40},null,null,null,null,"Total Sequences in Block Data",{"$f":"COUNTA(L7:L13)","v":7},null,null,null,"Total Sequences in Block Data",{"$f":"COUNTA(L14:L19)","v":6},null,null,null,"Total Sequences in Block Data",{"$f":"COUNTA(L20:L26)","v":7},null,null,null,"Total Sequences in Block Data",{"$f":"COUNTA(L27:L33)","v":7},null,null,null,"Total Sequences in Block Data",{"$f":"COUNTA(L34:L39)","v":6},null,null,null,"Total Sequences in Block Data",{"$f":"COUNTA(L40:L46)","v":7}]
[null,null,null,null,null,null,null,null,null,null,null,null,null,null,null,"Total Sequences in Summary",{"$f":"SUM(O7:O38)","v":40},null,null,null,null,"Total Sequences in Block Summary",{"$f":"SUM(U7:U38)","v":7},null,null,null,"Total Sequences in Block Summary",{"$f":"SUM(Z7:Z38)","v":6},null,null,null,"Total Sequences in Block Summary",{"$f":"SUM(AE7:AE38)","v":7},null,null,null,"Total Sequences in Block Summary",{"$f":"SUM(AJ7:AJ38)","v":7},null,null,null,"Total Sequences in Block Summary",{"$f":"SUM(AO7:AO38)","v":6},null,null,null,"Total Sequences in Block Summary",{"$f":"SUM(AT7:AT38)","v":7}]
[null,null,null,null,null,null,null,null,null,null,null,null,null,null,null,null,null,null,null,"Block 1",null,null,null,null,"Block 2",null,null,null,null,"Block 3",null,null,null,null,"Block 4",null,null,null,null,"Block 5",null,null,null,null,"Block 6"]
["Sequence\nComponent\n1","Time\n1","Sequence\nComponent\n2","Time\n2","Sequence\nComponent\n3","Time\n3","Sequence\nComponent\n4","Time\n4","Sequence\nComponent\n5","Time\n5","Correct?\n0=No 1=Yes","Sequence",null,"Frequency",null,"Relative Frequency","Variability",null,null,"Frequency",null,"Relative Frequency","Variability",null,"Frequency",null,"Relative Frequency","Variability",null,"Frequency",null,"Relative Frequency","Variability",null,"Frequency",null,"Relative Frequency","Variability",null,"Frequency",null,"Relative Frequency","Variability",null,"Frequency",null,"Relative Frequency","Variability"]
[21,46,11,59,22,66,14,78,24,89,0,21212,null,11111,{"$f":"COUNTIF($L$7:$L$500,N7)","v":1},{"$f":"O7/$Q$4","v":2.5000000000000001E-2},{"$f":"IF(P7=0,0,(P7*((LOG(P7))/LOG(2))))","v":-0.13304820237218404},null,null,{"$f":"N7","v":11111},{"$f":"COUNTIF(L7:L13,T7)","v":0},{"$f":"U7/(W4-U25)","v":0},{"$f":"IF(V7=0,0,(V7*((LOG(V7))/LOG(2))))","v":0},null,{"$f":"N7","v":11111},{"$f":"COUNTIF(L14:L19,Y7)","v":0},{"$f":"Z7/(AB4-Z25)","v":0},{"$f":"IF(AA7=0,0,(AA7*((LOG(AA7))/LOG(2))))","v":0},null,{"$f":"N7","v":11111},{"$f":"COUNTIF(L20:L26,AD7)","v":0},{"$f":"AE7/(AG4-AE25)","v":0},{"$f":"IF(AF7=0,0,(AF7*((LOG(AF7))/LOG(2))))","v":0},null,{"$f":"N7","v":11111},{"$f":"COUNTIF(L27:L33,AI7)","v":0},{"$f":"AJ7/(AL4-AJ25)","v":0},{"$f":"IF(AK7=0,0,(AK7*((LOG(AK7))/LOG(2))))","v":0},null,{"$f":"N7","v":11111},{"$f":"COUNTIF(L34:L39,AN7)","v":1},{"$f":"AO7/(AQ4-AO25)","v":0.16666666666666666},{"$f":"IF(AP7=0,0,(AP7*((LOG(AP7))/LOG(2))))","v":-0.43082708345352599},null,{"$f":"N7","v":11111},{"$f":"COUNTIF(L40:L46,AS7)","v":0},{"$f":"AT7/(AV4-AT25)","v":0},{"$f":"IF(AU7=0,0,(AU7*((LOG(AU7))/LOG(2))))","v":0}]
[12,209,24,221,24,239,23,260,13,283,0,12221,null,11112,{"$f":"COUNTIF($L$7:$L$500,N8)","v":0},{"$f":"O8/$Q$4","v":0},{"$f":"IF(P8=0,0,(P8*((LOG(P8))/LOG(2))))","v":0},null,null,{"$f":"N8","v":11112},{"$f":"COUNTIF(L7:L13,T8)","v":0},{"$f":"U8/(W4-U25)","v":0},{"$f":"IF(V8=0,0,(V8*((LOG(V8))/LOG(2))))","v":0},null,{"$f":"N8","v":11112},{"$f":"COUNTIF(L14:L19,Y8)","v":0},{"$f":"Z8/(AB4-Z25)","v":0},{"$f":"IF(AA8=0,0,(AA8*((LOG(AA8))/LOG(2))))","v":0},null,{"$f":"N8","v":11112},{"$f":"COUNTIF(L20:L26,AD8)","v":0},{"$f":"AE8/(AG4-AE25)","v":0},{"$f":"IF(AF8=0,0,(AF8*((LOG(AF8))/LOG(2))))","v":0},null,{"$f":"N8","v":11112},{"$f":"COUNTIF(L27:L33,AI8)","v":0},{"$f":"AJ8/(AL4-AJ25)","v":0},{"$f":"IF(AK8=0,0,(AK8*((LOG(AK8))/LOG(2))))","v":0},null,{"$f":"N8","v":11112},{"$f":"COUNTIF(L34:L39,AN8)","v":0},{"$f":"AO8/(AQ4-AO25)","v":0},{"$f":"IF(AP8=0,0,(AP8*((LOG(AP8))/LOG(2))))","v":0},null,{"$f":"N8","v":11112},{"$f":"COUNTIF(L40:L46,AS8)","v":0},{"$f":"AT8/(AV4-AT25)","v":0},{"$f":"IF(AU8=0,0,(AU8*((LOG(AU8))/LOG(2))))","v":0}]
[12,402,13,412,13,446,23,455,24,483,0,11122,null,11121,{"$f":"COUNTIF($L$7:$L$500,N9)","v":1},{"$f":"O9/$Q$4","v":2.5000000000000001E-2},{"$f":"IF(P9=0,0,(P9*((LOG(P9))/LOG(2))))","v":-0.13304820237218404},null,null,{"$f":"N9","v":11121},{"$f":"COUNTIF(L7:L13,T9)","v":0},{"$f":"U9/(W4-U25)","v":0},{"$f":"IF(V9=0,0,(V9*((LOG(V9))/LOG(2))))","v":0},null,{"$f":"N9","v":11121},{"$f":"COUNTIF(L14:L19,Y9)","v":0},{"$f":"Z9/(AB4-Z25)","v":0},{"$f":"IF(AA9=0,0,(AA9*((LOG(AA9))/LOG(2))))","v":0},null,{"$f":"N9","v":11121},{"$f":"COUNTIF(L20:L26,AD9)","v":0},{"$f":"AE9/(AG4-AE25)","v":0},{"$f":"IF(AF9=0,0,(AF9*((LOG(AF9))/LOG(2))))","v":0},null,{"$f":"N9","v":11121},{"$f":"COUNTIF(L27:L33,AI9)","v":0},{"$f":"AJ9/(AL4-AJ25)","v":0},{"$f":"IF(AK9=0,0,(AK9*((LOG(AK9))/LOG(2))))","v":0},null,{"$f":"N9","v":11121},{"$f":"COUNTIF(L34:L39,AN9)","v":1},{"$f":"AO9/(AQ4-AO25)","v":0.16666666666666666},{"$f":"IF(AP9=0,0,(AP9*((LOG(AP9))/LOG(2))))","v":-0.43082708345352599},null,{"$f":"N9","v":11121},{"$f":"COUNTIF(L40:L46,AS9)","v":0},{"$f":"AT9/(AV4-AT25)","v":0},{"$f":"IF(AU9=0,0,(AU9*((LOG(AU9))/LOG(2))))","v":0}]
[21,638,22,653,13,664,23,671,13,687,0,22121,null,11122,{"$f":"COUNTIF($L$7:$L$500,N10)","v":1},{"$f":"O10/$Q$4","v":2.5000000000000001E-2},{"$f":"IF(P10=0,0,(P10*((LOG(P10))/LOG(2))))","v":-0.13304820237218404},null,null,{"$f":"N10","v":11122},{"$f":"COUNTIF(L7:L13,T10)","v":1},{"$f":"U10/(W4-U25)","v":0.14285714285714285},{"$f":"IF(V10=0,0,(V10*((LOG(V10))/LOG(2))))","v":-0.40105070315108626},null,{"$f":"N10","v":11122},{"$f":"COUNTIF(L14:L19,Y10)","v":0},{"$f":"Z10/(AB4-Z25)","v":0},{"$f":"IF(AA10=0,0,(AA10*((LOG(AA10))/LOG(2))))","v":0},null,{"$f":"N10","v":11122},{"$f":"COUNTIF(L20:L26,AD10)","v":0},{"$f":"AE10/(AG4-AE25)","v":0},{"$f":"IF(AF10=0,0,(AF10*((LOG(AF10))/LOG(2))))","v":0},null,{"$f":"N10","v":11122},{"$f":"COUNTIF(L27:L33,AI10)","v":0},{"$f":"AJ10/(AL4-AJ25)","v":0},{"$f":"IF(AK10=0,0,(AK10*((LOG(AK10))/LOG(2))))","v":0},null,{"$f":"N10","v":11122},{"$f":"COUNTIF(L34:L39,AN10)","v":0},{"$f":"AO10/(AQ4-AO25)","v":0},{"$f":"IF(AP10=0,0,(AP10*((LOG(AP10))/LOG(2))))","v":0},null,{"$f":"N10","v":11122},{"$f":"COUNTIF(L40:L46,AS10)","v":0},{"$f":"AT10/(AV4-AT25)","v":0},{"$f":"IF(AU10=0,0,(AU10*((LOG(AU10))/LOG(2))))","v":0}]
[21,810,22,824,13,835,23,845,24,866,0,22122,null,11211,{"$f":"COUNTIF($L$7:$L$500,N11)","v":0},{"$f":"O11/$Q$4","v":0},{"$f":"IF(P11=0,0,(P11*((LOG(P11))/LOG(2))))","v":0},null,null,{"$f":"N11","v":11211},{"$f":"COUNTIF(L7:L13,T11)","v":0},{"$f":"U11/(W4-U25)","v":0},{"$f":"IF(V11=0,0,(V11*((LOG(V11))/LOG(2))))","v":0},null,{"$f":"N11","v":11211},{"$f":"COUNTIF(L14:L19,Y11)","v":0},{"$f":"Z11/(AB4-Z25)","v":0},{"$f":"IF(AA11=0,0,(AA11*((LOG(AA11))/LOG(2))))","v":0},null,{"$f":"N11","v":11211},{"$f":"COUNTIF(L20:L26,AD11)","v":0},{"$f":"AE11/(AG4-AE25)","v":0},{"$f":"IF(AF11=0,0,(AF11*((LOG(AF11))/LOG(2))))","v":0},null,{"$f":"N11","v":11211},{"$f":"COUNTIF(L27:L33,AI11)","v":0},{"$f":"AJ11/(AL4-AJ25)","v":0},{"$f":"IF(AK11=0,0,(AK11*((LOG(AK11))/LOG(2))))","v":0},null,{"$f":"N11","v":11211},{"$f":"COUNTIF(L34:L39,AN11)","v":0},{"$f":"AO11/(AQ4-AO25)","v":0},{"$f":"IF(AP11=0,0,(AP11*((LOG(AP11))/LOG(2))))","v":0},null,{"$f":"N11","v":11211},{"$f":"COUNTIF(L40:L46,AS11)","v":0},{"$f":"AT11/(AV4-AT25)","v":0},{"$f":"IF(AU11=0,0,(AU11*((LOG(AU11))/LOG(2))))","v":0}]
[21,1040,11,1052,22,1060,23,1082,13,1096,0,21221,null,11212,{"$f":"COUNTIF($L$7:$L$500,N12)","v":1},{"$f":"O12/$Q$4","v":2.5000000000000001E-2},{"$f":"IF(P12=0,0,(P12*((LOG(P12))/LOG(2))))","v":-0.13304820237218404},null,null,{"$f":"N12","v":11212},{"$f":"COUNTIF(L7:L13,T12)","v":0},{"$f":"U12/(W4-U25)","v":0},{"$f":"IF(V12=0,0,(V12*((LOG(V12))/LOG(2))))","v":0},null,{"$f":"N12","v":11212},{"$f":"COUNTIF(L14:L19,Y12)","v":0},{"$f":"Z12/(AB4-Z25)","v":0},{"$f":"IF(AA12=0,0,(AA12*((LOG(AA12))/LOG(2))))","v":0},null,{"$f":"N12","v":11212},{"$f":"COUNTIF(L20:L26,AD12)","v":0},{"$f":"AE12/(AG4-AE25)","v":0},{"$f":"IF(AF12=0,0,(AF12*((LOG(AF12))/LOG(2))))","v":0},null,{"$f":"N12","v":11212},{"$f":"COUNTIF(L27:L33,AI12)","v":0},{"$f":"AJ12/(AL4-AJ25)","v":0},{"$f":"IF(AK12=0,0,(AK12*((LOG(AK12))/LOG(2))))","v":0},null,{"$f":"N12","v":11212},{"$f":"COUNTIF(L34:L39,AN12)","v":0},{"$f":"AO12/(AQ4-AO25)","v":0},{"$f":"IF(AP12=0,0,(AP12*((LOG(AP12))/LOG(2))))","v":0},null,{"$f":"N12","v":11212},{"$f":"COUNTIF(L40:L46,AS12)","v":1},{"$f":"AT12/(AV4-AT25)","v":0.14285714285714285},{"$f":"IF(AU12=0,0,(AU12*((LOG(AU12))/LOG(2))))","v":-0.40105070315108626}]
[21,1317,22,1343,24,1373,14,1389,24,1402,0,22212,null,11221,{"$f":"COUNTIF($L$7:$L$500,N13)","v":0},{"$f":"O13/$Q$4","v":0},{"$f":"IF(P13=0,0,(P13*((LOG(P13))/LOG(2))))","v":0},null,null,{"$f":"N13","v":11221},{"$f":"COUNTIF(L7:L13,T13)","v":0},{"$f":"U13/(W4-U25)","v":0},{"$f":"IF(V13=0,0,(V13*((LOG(V13))/LOG(2))))","v":0},null,{"$f":"N13","v":11221},{"$f":"COUNTIF(L14:L19,Y13)","v":0},{"$f":"Z13/(AB4-Z25)","v":0},{"$f":"IF(AA13=0,0,(AA13*((LOG(AA13))/LOG(2))))","v":0},null,{"$f":"N13","v":11221},{"$f":"COUNTIF(L20:L26,AD13)","v":0},{"$f":"AE13/(AG4-AE25)","v":0},{"$f":"IF(AF13=0,0,(AF13*((LOG(AF13))/LOG(2))))","v":0},null,{"$f":"N13","v":11221},{"$f":"COUNTIF(L27:L33,AI13)","v":0},{"$f":"AJ13/(AL4-AJ25)","v":0},{"$f":"IF(AK13=0,0,(AK13*((LOG(AK13))/LOG(2))))","v":0},null,{"$f":"N13","v":11221},{"$f":"COUNTIF(L34:L39,AN13)","v":0},{"$f":"AO13/(AQ4-AO25)","v":0},{"$f":"IF(AP13=0,0,(AP13*((LOG(AP13))/LOG(2))))","v":0},null,{"$f":"N13","v":11221},{"$f":"COUNTIF(L40:L46,AS13)","v":0},{"$f":"AT13/(AV4-AT25)","v":0},{"$f":"IF(AU13=0,0,(AU13*((LOG(AU13))/LOG(2))))","v":0}]
[21,1551,22,1579,24,1605,23,1657,13,1671,0,22221,null,11222,{"$f":"COUNTIF($L$7:$L$500,N14)","v":0},{"$f":"O14/$Q$4","v":0},{"$f":"IF(P14=0,0,(P14*((LOG(P14))/LOG(2))))","v":0},null,null,{"$f":"N14","v":11222},{"$f":"COUNTIF(L7:L13,T14)","v":0},{"$f":"U14/(W4-U25)","v":0},{"$f":"IF(V14=0,0,(V14*((LOG(V14))/LOG(2))))","v":0},null,{"$f":"N14","v":11222},{"$f":"COUNTIF(L14:L19,Y14)","v":0},{"$f":"Z14/(AB4-Z25)","v":0},{"$f":"IF(AA14=0,0,(AA14*((LOG(AA14))/LOG(2))))","v":0},null,{"$f":"N14","v":11222},{"$f":"COUNTIF(L20:L26,AD14)","v":0},{"$f":"AE14/(AG4-AE25)","v":0},{"$f":"IF(AF14=0,0,(AF14*((LOG(AF14))/LOG(2))))","v":0},null,{"$f":"N14","v":11222},{"$f":"COUNTIF(L27:L33,AI14)","v":0},{"$f":"AJ14/(AL4-AJ25)","v":0},{"$f":"IF(AK14=0,0,(AK14*((LOG(AK14))/LOG(2))))","v":0},null,{"$f":"N14","v":11222},{"$f":"COUNTIF(L34:L39,AN14)","v":0},{"$f":"AO14/(AQ4-AO25)","v":0},{"$f":"IF(AP14=0,0,(AP14*((LOG(AP14))/LOG(2))))","v":0},null,{"$f":"N14","v":11222},{"$f":"COUNTIF(L40:L46,AS14)","v":0},{"$f":"AT14/(AV4-AT25)","v":0},{"$f":"IF(AU14=0,0,(AU14*((LOG(AU14))/LOG(2))))","v":0}]
[21,1789,22,1802,24,1818,14,1828,24,1839,0,22212,null,12111,{"$f":"COUNTIF($L$7:$L$500,N15)","v":0},{"$f":"O15/$Q$4","v":0},{"$f":"IF(P15=0,0,(P15*((LOG(P15))/LOG(2))))","v":0},null,null,{"$f":"N15","v":12111},{"$f":"COUNTIF(L7:L13,T15)","v":0},{"$f":"U15/(W4-U25)","v":0},{"$f":"IF(V15=0,0,(V15*((LOG(V15))/LOG(2))))","v":0},null,{"$f":"N15","v":12111},{"$f":"COUNTIF(L14:L19,Y15)","v":0},{"$f":"Z15/(AB4-Z25)","v":0},{"$f":"IF(AA15=0,0,(AA15*((LOG(AA15))/LOG(2))))","v":0},null,{"$f":"N15","v":12111},{"$f":"COUNTIF(L20:L26,AD15)","v":0},{"$f":"AE15/(AG4-AE25)","v":0},{"$f":"IF(AF15=0,0,(AF15*((LOG(AF15))/LOG(2))))","v":0},null,{"$f":"N15","v":12111},{"$f":"COUNTIF(L27:L33,AI15)","v":0},{"$f":"AJ15/(AL4-AJ25)","v":0},{"$f":"IF(AK15=0,0,(AK15*((LOG(AK15))/LOG(2))))","v":0},null,{"$f":"N15","v":12111},{"$f":"COUNTIF(L34:L39,AN15)","v":0},{"$f":"AO15/(AQ4-AO25)","v":0},{"$f":"IF(AP15=0,0,(AP15*((LOG(AP15))/LOG(2))))","v":0},null,{"$f":"N15","v":12111},{"$f":"COUNTIF(L40:L46,AS15)","v":0},{"$f":"AT15/(AV4-AT25)","v":0},{"$f":"IF(AU15=0,0,(AU15*((LOG(AU15))/LOG(2))))","v":0}]
[12,1973,24,1985,24,2010,14,2021,24,2032,0,12212,null,12112,{"$f":"COUNTIF($L$7:$L$500,N16)","v":0},{"$f":"O16/$Q$4","v":0},{"$f":"IF(P16=0,0,(P16*((LOG(P16))/LOG(2))))","v":0},null,null,{"$f":"N16","v":12112},{"$f":"COUNTIF(L7:L13,T16)","v":0},{"$f":"U16/(W4-U25)","v":0},{"$f":"IF(V16=0,0,(V16*((LOG(V16))/LOG(2))))","v":0},null,{"$f":"N16","v":12112},{"$f":"COUNTIF(L14:L19,Y16)","v":0},{"$f":"Z16/(AB4-Z25)","v":0},{"$f":"IF(AA16=0,0,(AA16*((LOG(AA16))/LOG(2))))","v":0},null,{"$f":"N16","v":12112},{"$f":"COUNTIF(L20:L26,AD16)","v":0},{"$f":"AE16/(AG4-AE25)","v":0},{"$f":"IF(AF16=0,0,(AF16*((LOG(AF16))/LOG(2))))","v":0},null,{"$f":"N16","v":12112},{"$f":"COUNTIF(L27:L33,AI16)","v":0},{"$f":"AJ16/(AL4-AJ25)","v":0},{"$f":"IF(AK16=0,0,(AK16*((LOG(AK16))/LOG(2))))","v":0},null,{"$f":"N16","v":12112},{"$f":"COUNTIF(L34:L39,AN16)","v":0},{"$f":"AO16/(AQ4-AO25)","v":0},{"$f":"IF(AP16=0,0,(AP16*((LOG(AP16))/LOG(2))))","v":0},null,{"$f":"N16","v":12112},{"$f":"COUNTIF(L40:L46,AS16)","v":0},{"$f":"AT16/(AV4-AT25)","v":0},{"$f":"IF(AU16=0,0,(AU16*((LOG(AU16))/LOG(2))))","v":0}]
[21,2294,11,2306,22,2317,14,2354,24,2378,0,21212,null,12121,{"$f":"COUNTIF($L$7:$L$500,N17)","v":7},{"$f":"O17/$Q$4","v":0.17499999999999999},{"$f":"IF(P17=0,0,(P17*((LOG(P17))/LOG(2))))","v":-0.44005030524520772},null,null,{"$f":"N17","v":12121},{"$f":"COUNTIF(L7:L13,T17)","v":0},{"$f":"U17/(W4-U25)","v":0},{"$f":"IF(V17=0,0,(V17*((LOG(V17))/LOG(2))))","v":0},null,{"$f":"N17","v":12121},{"$f":"COUNTIF(L14:L19,Y17)","v":0},{"$f":"Z17/(AB4-Z25)","v":0},{"$f":"IF(AA17=0,0,(AA17*((LOG(AA17))/LOG(2))))","v":0},null,{"$f":"N17","v":12121},{"$f":"COUNTIF(L20:L26,AD17)","v":2},{"$f":"AE17/(AG4-AE25)","v":0.2857142857142857},{"$f":"IF(AF17=0,0,(AF17*((LOG(AF17))/LOG(2))))","v":-0.51638712058788683},null,{"$f":"N17","v":12121},{"$f":"COUNTIF(L27:L33,AI17)","v":2},{"$f":"AJ17/(AL4-AJ25)","v":0.2857142857142857},{"$f":"IF(AK17=0,0,(AK17*((LOG(AK17))/LOG(2))))","v":-0.51638712058788683},null,{"$f":"N17","v":12121},{"$f":"COUNTIF(L34:L39,AN17)","v":1},{"$f":"AO17/(AQ4-AO25)","v":0.16666666666666666},{"$f":"IF(AP17=0,0,(AP17*((LOG(AP17))/LOG(2))))","v":-0.43082708345352599},null,{"$f":"N17","v":12121},{"$f":"COUNTIF(L40:L46,AS17)","v":2},{"$f":"AT17/(AV4-AT25)","v":0.2857142857142857},{"$f":"IF(AU17=0,0,(AU17*((LOG(AU17))/LOG(2))))","v":-0.51638712058788683}]
[21,3374,22,3389,13,3402,14,3416,24,3429,0,22112,null,12122,{"$f":"COUNTIF($L$7:$L$500,N18)","v":1},{"$f":"O18/$Q$4","v":2.5000000000000001E-2},{"$f":"IF(P18=0,0,(P18*((LOG(P18))/LOG(2))))","v":-0.13304820237218404},null,null,{"$f":"N18","v":12122},{"$f":"COUNTIF(L7:L13,T18)","v":0},{"$f":"U18/(W4-U25)","v":0},{"$f":"IF(V18=0,0,(V18*((LOG(V18))/LOG(2))))","v":0},null,{"$f":"N18","v":12122},{"$f":"COUNTIF(L14:L19,Y18)","v":0},{"$f":"Z18/(AB4-Z25)","v":0},{"$f":"IF(AA18=0,0,(AA18*((LOG(AA18))/LOG(2))))","v":0},null,{"$f":"N18","v":12122},{"$f":"COUNTIF(L20:L26,AD18)","v":0},{"$f":"AE18/(AG4-AE25)","v":0},{"$f":"IF(AF18=0,0,(AF18*((LOG(AF18))/LOG(2))))","v":0},null,{"$f":"N18","v":12122},{"$f":"COUNTIF(L27:L33,AI18)","v":1},{"$f":"AJ18/(AL4-AJ25)","v":0.14285714285714285},{"$f":"IF(AK18=0,0,(AK18*((LOG(AK18))/LOG(2))))","v":-0.40105070315108626},null,{"$f":"N18","v":12122},{"$f":"COUNTIF(L34:L39,AN18)","v":0},{"$f":"AO18/(AQ4-AO25)","v":0},{"$f":"IF(AP18=0,0,(AP18*((LOG(AP18))/LOG(2))))","v":0},null,{"$f":"N18","v":12122},{"$f":"COUNTIF(L40:L46,AS18)","v":0},{"$f":"AT18/(AV4-AT25)","v":0},{"$f":"IF(AU18=0,0,(AU18*((LOG(AU18))/LOG(2))))","v":0}]
[21,3575,11,3586,22,3596,14,3613,24,3641,0,21212,null,12211,{"$f":"COUNTIF($L$7:$L$500,N19)","v":0},{"$f":"O19/$Q$4","v":0},{"$f":"IF(P19=0,0,(P19*((LOG(P19))/LOG(2))))","v":0},null,null,{"$f":"N19","v":12211},{"$f":"COUNTIF(L7:L13,T19)","v":0},{"$f":"U19/(W4-U25)","v":0},{"$f":"IF(V19=0,0,(V19*((LOG(V19))/LOG(2))))","v":0},null,{"$f":"N19","v":12211},{"$f":"COUNTIF(L14:L19,Y19)","v":0},{"$f":"Z19/(AB4-Z25)","v":0},{"$f":"IF(AA19=0,0,(AA19*((LOG(AA19))/LOG(2))))","v":0},null,{"$f":"N19","v":12211},{"$f":"COUNTIF(L20:L26,AD19)","v":0},{"$f":"AE19/(AG4-AE25)","v":0},{"$f":"IF(AF19=0,0,(AF19*((LOG(AF19))/LOG(2))))","v":0},null,{"$f":"N19","v":12211},{"$f":"COUNTIF(L27:L33,AI19)","v":0},{"$f":"AJ19/(AL4-AJ25)","v":0},{"$f":"IF(AK19=0,0,(AK19*((LOG(AK19))/LOG(2))))","v":0},null,{"$f":"N19","v":12211},{"$f":"COUNTIF(L34:L39,AN19)","v":0},{"$f":"AO19/(AQ4-AO25)","v":0},{"$f":"IF(AP19=0,0,(AP19*((LOG(AP19))/LOG(2))))","v":0},null,{"$f":"N19","v":12211},{"$f":"COUNTIF(L40:L46,AS19)","v":0},{"$f":"AT19/(AV4-AT25)","v":0},{"$f":"IF(AU19=0,0,(AU19*((LOG(AU19))/LOG(2))))","v":0}]
[21,3820,11,3830,22,3839,14,3857,24,3866,0,21212,null,12212,{"$f":"COUNTIF($L$7:$L$500,N20)","v":5},{"$f":"O20/$Q$4","v":0.125},{"$f":"IF(P20=0,0,(P20*((LOG(P20))/LOG(2))))","v":-0.375},null,null,{"$f":"N20","v":12212},{"$f":"COUNTIF(L7:L13,T20)","v":0},{"$f":"U20/(W4-U25)","v":0},{"$f":"IF(V20=0,0,(V20*((LOG(V20))/LOG(2))))","v":0},null,{"$f":"N20","v":12212},{"$f":"COUNTIF(L14:L19,Y20)","v":1},{"$f":"Z20/(AB4-Z25)","v":0.16666666666666666},{"$f":"IF(AA20=0,0,(AA20*((LOG(AA20))/LOG(2))))","v":-0.43082708345352599},null,{"$f":"N20","v":12212},{"$f":"COUNTIF(L20:L26,AD20)","v":1},{"$f":"AE20/(AG4-AE25)","v":0.14285714285714285},{"$f":"IF(AF20=0,0,(AF20*((LOG(AF20))/LOG(2))))","v":-0.40105070315108626},null,{"$f":"N20","v":12212},{"$f":"COUNTIF(L27:L33,AI20)","v":1},{"$f":"AJ20/(AL4-AJ25)","v":0.14285714285714285},{"$f":"IF(AK20=0,0,(AK20*((LOG(AK20))/LOG(2))))","v":-0.40105070315108626},null,{"$f":"N20","v":12212},{"$f":"COUNTIF(L34:L39,AN20)","v":1},{"$f":"AO20/(AQ4-AO25)","v":0.16666666666666666},{"$f":"IF(AP20=0,0,(AP20*((LOG(AP20))/LOG(2))))","v":-0.43082708345352599},null,{"$f":"N20","v":12212},{"$f":"COUNTIF(L40:L46,AS20)","v":1},{"$f":"AT20/(AV4-AT25)","v":0.14285714285714285},{"$f":"IF(AU20=0,0,(AU20*((LOG(AU20))/LOG(2))))","v":-0.40105070315108626}]
[12,4276,24,4299,13,4310,23,4319,13,4331,0,12121,null,12221,{"$f":"COUNTIF($L$7:$L$500,N21)","v":1},{"$f":"O21/$Q$4","v":2.5000000000000001E-2},{"$f":"IF(P21=0,0,(P21*((LOG(P21))/LOG(2))))","v":-0.13304820237218404},null,null,{"$f":"N21","v":12221},{"$f":"COUNTIF(L7:L13,T21)","v":1},{"$f":"U21/(W4-U25)","v":0.14285714285714285},{"$f":"IF(V21=0,0,(V21*((LOG(V21))/LOG(2))))","v":-0.40105070315108626},null,{"$f":"N21","v":12221},{"$f":"COUNTIF(L14:L19,Y21)","v":0},{"$f":"Z21/(AB4-Z25)","v":0},{"$f":"IF(AA21=0,0,(AA21*((LOG(AA21))/LOG(2))))","v":0},null,{"$f":"N21","v":12221},{"$f":"COUNTIF(L20:L26,AD21)","v":0},{"$f":"AE21/(AG4-AE25)","v":0},{"$f":"IF(AF21=0,0,(AF21*((LOG(AF21))/LOG(2))))","v":0},null,{"$f":"N21","v":12221},{"$f":"COUNTIF(L27:L33,AI21)","v":0},{"$f":"AJ21/(AL4-AJ25)","v":0},{"$f":"IF(AK21=0,0,(AK21*((LOG(AK21))/LOG(2))))","v":0},null,{"$f":"N21","v":12221},{"$f":"COUNTIF(L34:L39,AN21)","v":0},{"$f":"AO21/(AQ4-AO25)","v":0},{"$f":"IF(AP21=0,0,(AP21*((LOG(AP21))/LOG(2))))","v":0},null,{"$f":"N21","v":12221},{"$f":"COUNTIF(L40:L46,AS21)","v":0},{"$f":"AT21/(AV4-AT25)","v":0},{"$f":"IF(AU21=0,0,(AU21*((LOG(AU21))/LOG(2))))","v":0}]
[21,4736,11,4751,22,4762,14,4777,24,4787,0,21212,null,12222,{"$f":"COUNTIF($L$7:$L$500,N22)","v":1},{"$f":"O22/$Q$4","v":2.5000000000000001E-2},{"$f":"IF(P22=0,0,(P22*((LOG(P22))/LOG(2))))","v":-0.13304820237218404},null,null,{"$f":"N22","v":12222},{"$f":"COUNTIF(L7:L13,T22)","v":0},{"$f":"U22/(W4-U25)","v":0},{"$f":"IF(V22=0,0,(V22*((LOG(V22))/LOG(2))))","v":0},null,{"$f":"N22","v":12222},{"$f":"COUNTIF(L14:L19,Y22)","v":0},{"$f":"Z22/(AB4-Z25)","v":0},{"$f":"IF(AA22=0,0,(AA22*((LOG(AA22))/LOG(2))))","v":0},null,{"$f":"N22","v":12222},{"$f":"COUNTIF(L20:L26,AD22)","v":0},{"$f":"AE22/(AG4-AE25)","v":0},{"$f":"IF(AF22=0,0,(AF22*((LOG(AF22))/LOG(2))))","v":0},null,{"$f":"N22","v":12222},{"$f":"COUNTIF(L27:L33,AI22)","v":0},{"$f":"AJ22/(AL4-AJ25)","v":0},{"$f":"IF(AK22=0,0,(AK22*((LOG(AK22))/LOG(2))))","v":0},null,{"$f":"N22","v":12222},{"$f":"COUNTIF(L34:L39,AN22)","v":1},{"$f":"AO22/(AQ4-AO25)","v":0.16666666666666666},{"$f":"IF(AP22=0,0,(AP22*((LOG(AP22))/LOG(2))))","v":-0.43082708345352599},null,{"$f":"N22","v":12222},{"$f":"COUNTIF(L40:L46,AS22)","v":0},{"$f":"AT22/(AV4-AT25)","v":0},{"$f":"IF(AU22=0,0,(AU22*((LOG(AU22))/LOG(2))))","v":0}]
[12,4894,24,4905,13,4916,23,4956,13,4970,0,12121,null,21111,{"$f":"COUNTIF($L$7:$L$500,N23)","v":1},{"$f":"O23/$Q$4","v":2.5000000000000001E-2},{"$f":"IF(P23=0,0,(P23*((LOG(P23))/LOG(2))))","v":-0.13304820237218404},null,null,{"$f":"N23","v":21111},{"$f":"COUNTIF(L7:L13,T23)","v":0},{"$f":"U23/(W4-U25)","v":0},{"$f":"IF(V23=0,0,(V23*((LOG(V23))/LOG(2))))","v":0},null,{"$f":"N23","v":21111},{"$f":"COUNTIF(L14:L19,Y23)","v":0},{"$f":"Z23/(AB4-Z25)","v":0},{"$f":"IF(AA23=0,0,(AA23*((LOG(AA23))/LOG(2))))","v":0},null,{"$f":"N23","v":21111},{"$f":"COUNTIF(L20:L26,AD23)","v":0},{"$f":"AE23/(AG4-AE25)","v":0},{"$f":"IF(AF23=0,0,(AF23*((LOG(AF23))/LOG(2))))","v":0},null,{"$f":"N23","v":21111},{"$f":"COUNTIF(L27:L33,AI23)","v":0},{"$f":"AJ23/(AL4-AJ25)","v":0},{"$f":"IF(AK23=0,0,(AK23*((LOG(AK23))/LOG(2))))","v":0},null,{"$f":"N23","v":21111},{"$f":"COUNTIF(L34:L39,AN23)","v":0},{"$f":"AO23/(AQ4-AO25)","v":0},{"$f":"IF(AP23=0,0,(AP23*((LOG(AP23))/LOG(2))))","v":0},null,{"$f":"N23","v":21111},{"$f":"COUNTIF(L40:L46,AS23)","v":1},{"$f":"AT23/(AV4-AT25)","v":0.14285714285714285},{"$f":"IF(AU23=0,0,(AU23*((LOG(AU23))/LOG(2))))","v":-0.40105070315108626}]
[12,5116,24,5125,24,5142,14,5158,24,5167,0,12212,null,21112,{"$f":"COUNTIF($L$7:$L$500,N24)","v":0},{"$f":"O24/$Q$4","v":0},{"$f":"IF(P24=0,0,(P24*((LOG(P24))/LOG(2))))","v":0},null,null,{"$f":"N24","v":21112},{"$f":"COUNTIF(L7:L13,T24)","v":0},{"$f":"U24/(W4-U25)","v":0},{"$f":"IF(V24=0,0,(V24*((LOG(V24))/LOG(2))))","v":0},null,{"$f":"N24","v":21112},{"$f":"COUNTIF(L14:L19,Y24)","v":0},{"$f":"Z24/(AB4-Z25)","v":0},{"$f":"IF(AA24=0,0,(AA24*((LOG(AA24))/LOG(2))))","v":0},null,{"$f":"N24","v":21112},{"$f":"COUNTIF(L20:L26,AD24)","v":0},{"$f":"AE24/(AG4-AE25)","v":0},{"$f":"IF(AF24=0,0,(AF24*((LOG(AF24))/LOG(2))))","v":0},null,{"$f":"N24","v":21112},{"$f":"COUNTIF(L27:L33,AI24)","v":0},{"$f":"AJ24/(AL4-AJ25)","v":0},{"$f":"IF(AK24=0,0,(AK24*((LOG(AK24))/LOG(2))))","v":0},null,{"$f":"N24","v":21112},{"$f":"COUNTIF(L34:L39,AN24)","v":0},{"$f":"AO24/(AQ4-AO25)","v":0},{"$f":"IF(AP24=0,0,(AP24*((LOG(AP24))/LOG(2))))","v":0},null,{"$f":"N24","v":21112},{"$f":"COUNTIF(L40:L46,AS24)","v":0},{"$f":"AT24/(AV4-AT25)","v":0},{"$f":"IF(AU24=0,0,(AU24*((LOG(AU24))/LOG(2))))","v":0}]
[21,5333,22,5347,13,5363,23,5373,13,5384,0,22121,null,21121,{"$f":"COUNTIF($L$7:$L$500,N25)","v":0},{"$f":"O25/$Q$4","v":0},{"$f":"IF(P25=0,0,(P25*((LOG(P25))/LOG(2))))","v":0},null,null,{"$f":"N25","v":21121},{"$f":"COUNTIF(L7:L13,T25)","v":0},null,null,null,{"$f":"N25","v":21121},{"$f":"COUNTIF(L14:L19,Y25)","v":0},null,null,null,{"$f":"N25","v":21121},{"$f":"COUNTIF(L20:L26,AD25)","v":0},null,null,null,{"$f":"N25","v":21121},{"$f":"COUNTIF(L27:L33,AI25)","v":0},null,null,null,{"$f":"N25","v":21121},{"$f":"COUNTIF(L34:L39,AN25)","v":0},null,null,null,{"$f":"N25","v":21121},{"$f":"COUNTIF(L40:L46,AS25)","v":0}]
[21,5707,22,5722,13,5732,23,5742,13,5763,0,22121,null,21122,{"$f":"COUNTIF($L$7:$L$500,N26)","v":0},{"$f":"O26/$Q$4","v":0},{"$f":"IF(P26=0,0,(P26*((LOG(P26))/LOG(2))))","v":0},null,null,{"$f":"N26","v":21122},{"$f":"COUNTIF(L7:L13,T26)","v":0},{"$f":"U26/(W4-U25)","v":0},{"$f":"IF(V26=0,0,(V26*((LOG(V26))/LOG(2))))","v":0},null,{"$f":"N26","v":21122},{"$f":"COUNTIF(L14:L19,Y26)","v":0},{"$f":"Z26/(AB4-Z25)","v":0},{"$f":"IF(AA26=0,0,(AA26*((LOG(AA26))/LOG(2))))","v":0},null,{"$f":"N26","v":21122},{"$f":"COUNTIF(L20:L26,AD26)","v":0},{"$f":"AE26/(AG4-AE25)","v":0},{"$f":"IF(AF26=0,0,(AF26*((LOG(AF26))/LOG(2))))","v":0},null,{"$f":"N26","v":21122},{"$f":"COUNTIF(L27:L33,AI26)","v":0},{"$f":"AJ26/(AL4-AJ25)","v":0},{"$f":"IF(AK26=0,0,(AK26*((LOG(AK26))/LOG(2))))","v":0},null,{"$f":"N26","v":21122},{"$f":"COUNTIF(L34:L39,AN26)","v":0},{"$f":"AO26/(AQ4-AO25)","v":0},{"$f":"IF(AP26=0,0,(AP26*((LOG(AP26))/LOG(2))))","v":0},null,{"$f":"N26","v":21122},{"$f":"COUNTIF(L40:L46,AS26)","v":0},{"$f":"AT26/(AV4-AT25)","v":0},{"$f":"IF(AU26=0,0,(AU26*((LOG(AU26))/LOG(2))))","v":0}]
[21,5989,11,6000,22,6009,23,6021,24,6037,0,21222,null,21211,{"$f":"COUNTIF($L$7:$L$500,N27)","v":0},{"$f":"O27/$Q$4","v":0},{"$f":"IF(P27=0,0,(P27*((LOG(P27))/LOG(2))))","v":0},null,null,{"$f":"N27","v":21211},{"$f":"COUNTIF(L7:L13,T27)","v":0},{"$f":"U27/(W4-U25)","v":0},{"$f":"IF(V27=0,0,(V27*((LOG(V27))/LOG(2))))","v":0},null,{"$f":"N27","v":21211},{"$f":"COUNTIF(L14:L19,Y27)","v":0},{"$f":"Z27/(AB4-Z25)","v":0},{"$f":"IF(AA27=0,0,(AA27*((LOG(AA27))/LOG(2))))","v":0},null,{"$f":"N27","v":21211},{"$f":"COUNTIF(L20:L26,AD27)","v":0},{"$f":"AE27/(AG4-AE25)","v":0},{"$f":"IF(AF27=0,0,(AF27*((LOG(AF27))/LOG(2))))","v":0},null,{"$f":"N27","v":21211},{"$f":"COUNTIF(L27:L33,AI27)","v":0},{"$f":"AJ27/(AL4-AJ25)","v":0},{"$f":"IF(AK27=0,0,(AK27*((LOG(AK27))/LOG(2))))","v":0},null,{"$f":"N27","v":21211},{"$f":"COUNTIF(L34:L39,AN27)","v":0},{"$f":"AO27/(AQ4-AO25)","v":0},{"$f":"IF(AP27=0,0,(AP27*((LOG(AP27))/LOG(2))))","v":0},null,{"$f":"N27","v":21211},{"$f":"COUNTIF(L40:L46,AS27)","v":0},{"$f":"AT27/(AV4-AT25)","v":0},{"$f":"IF(AU27=0,0,(AU27*((LOG(AU27))/LOG(2))))","v":0}]
[12,6284,24,6308,13,6318,23,6329,24,6358,0,12122,null,21212,{"$f":"COUNTIF($L$7:$L$500,N28)","v":8},{"$f":"O28/$Q$4","v":0.2},{"$f":"IF(P28=0,0,(P28*((LOG(P28))/LOG(2))))","v":-0.46438561897747244},null,null,{"$f":"N28","v":21212},{"$f":"COUNTIF(L7:L13,T28)","v":1},{"$f":"U28/(W4-U25)","v":0.14285714285714285},{"$f":"IF(V28=0,0,(V28*((LOG(V28))/LOG(2))))","v":-0.40105070315108626},null,{"$f":"N28","v":21212},{"$f":"COUNTIF(L14:L19,Y28)","v":2},{"$f":"Z28/(AB4-Z25)","v":0.33333333333333331},{"$f":"IF(AA28=0,0,(AA28*((LOG(AA28))/LOG(2))))","v":-0.52832083357371862},null,{"$f":"N28","v":21212},{"$f":"COUNTIF(L20:L26,AD28)","v":2},{"$f":"AE28/(AG4-AE25)","v":0.2857142857142857},{"$f":"IF(AF28=0,0,(AF28*((LOG(AF28))/LOG(2))))","v":-0.51638712058788683},null,{"$f":"N28","v":21212},{"$f":"COUNTIF(L27:L33,AI28)","v":1},{"$f":"AJ28/(AL4-AJ25)","v":0.14285714285714285},{"$f":"IF(AK28=0,0,(AK28*((LOG(AK28))/LOG(2))))","v":-0.40105070315108626},null,{"$f":"N28","v":21212},{"$f":"COUNTIF(L34:L39,AN28)","v":0},{"$f":"AO28/(AQ4-AO25)","v":0},{"$f":"IF(AP28=0,0,(AP28*((LOG(AP28))/LOG(2))))","v":0},null,{"$f":"N28","v":21212},{"$f":"COUNTIF(L40:L46,AS28)","v":2},{"$f":"AT28/(AV4-AT25)","v":0.2857142857142857},{"$f":"IF(AU28=0,0,(AU28*((LOG(AU28))/LOG(2))))","v":-0.51638712058788683}]
[12,7263,24,7277,24,7303,14,7314,24,7324,0,12212,null,21221,{"$f":"COUNTIF($L$7:$L$500,N29)","v":1},{"$f":"O29/$Q$4","v":2.5000000000000001E-2},{"$f":"IF(P29=0,0,(P29*((LOG(P29))/LOG(2))))","v":-0.13304820237218404},null,null,{"$f":"N29","v":21221},{"$f":"COUNTIF(L7:L13,T29)","v":1},{"$f":"U29/(W4-U25)","v":0.14285714285714285},{"$f":"IF(V29=0,0,(V29*((LOG(V29))/LOG(2))))","v":-0.40105070315108626},null,{"$f":"N29","v":21221},{"$f":"COUNTIF(L14:L19,Y29)","v":0},{"$f":"Z29/(AB4-Z25)","v":0},{"$f":"IF(AA29=0,0,(AA29*((LOG(AA29))/LOG(2))))","v":0},null,{"$f":"N29","v":21221},{"$f":"COUNTIF(L20:L26,AD29)","v":0},{"$f":"AE29/(AG4-AE25)","v":0},{"$f":"IF(AF29=0,0,(AF29*((LOG(AF29))/LOG(2))))","v":0},null,{"$f":"N29","v":21221},{"$f":"COUNTIF(L27:L33,AI29)","v":0},{"$f":"AJ29/(AL4-AJ25)","v":0},{"$f":"IF(AK29=0,0,(AK29*((LOG(AK29))/LOG(2))))","v":0},null,{"$f":"N29","v":21221},{"$f":"COUNTIF(L34:L39,AN29)","v":0},{"$f":"AO29/(AQ4-AO25)","v":0},{"$f":"IF(AP29=0,0,(AP29*((LOG(AP29))/LOG(2))))","v":0},null,{"$f":"N29","v":21221},{"$f":"COUNTIF(L40:L46,AS29)","v":0},{"$f":"AT29/(AV4-AT25)","v":0},{"$f":"IF(AU29=0,0,(AU29*((LOG(AU29))/LOG(2))))","v":0}]
[21,7642,11,7656,22,7666,14,7677,24,7705,0,21212,null,21222,{"$f":"COUNTIF($L$7:$L$500,N30)","v":1},{"$f":"O30/$Q$4","v":2.5000000000000001E-2},{"$f":"IF(P30=0,0,(P30*((LOG(P30))/LOG(2))))","v":-0.13304820237218404},null,null,{"$f":"N30","v":21222},{"$f":"COUNTIF(L7:L13,T30)","v":0},{"$f":"U30/(W4-U25)","v":0},{"$f":"IF(V30=0,0,(V30*((LOG(V30))/LOG(2))))","v":0},null,{"$f":"N30","v":21222},{"$f":"COUNTIF(L14:L19,Y30)","v":0},{"$f":"Z30/(AB4-Z25)","v":0},{"$f":"IF(AA30=0,0,(AA30*((LOG(AA30))/LOG(2))))","v":0},null,{"$f":"N30","v":21222},{"$f":"COUNTIF(L20:L26,AD30)","v":0},{"$f":"AE30/(AG4-AE25)","v":0},{"$f":"IF(AF30=0,0,(AF30*((LOG(AF30))/LOG(2))))","v":0},null,{"$f":"N30","v":21222},{"$f":"COUNTIF(L27:L33,AI30)","v":1},{"$f":"AJ30/(AL4-AJ25)","v":0.14285714285714285},{"$f":"IF(AK30=0,0,(AK30*((LOG(AK30))/LOG(2))))","v":-0.40105070315108626},null,{"$f":"N30","v":21222},{"$f":"COUNTIF(L34:L39,AN30)","v":0},{"$f":"AO30/(AQ4-AO25)","v":0},{"$f":"IF(AP30=0,0,(AP30*((LOG(AP30))/LOG(2))))","v":0},null,{"$f":"N30","v":21222},{"$f":"COUNTIF(L40:L46,AS30)","v":0},{"$f":"AT30/(AV4-AT25)","v":0},{"$f":"IF(AU30=0,0,(AU30*((LOG(AU30))/LOG(2))))","v":0}]
[12,7818,24,7829,13,7842,23,7851,13,7866,0,12121,null,22111,{"$f":"COUNTIF($L$7:$L$500,N31)","v":0},{"$f":"O31/$Q$4","v":0},{"$f":"IF(P31=0,0,(P31*((LOG(P31))/LOG(2))))","v":0},null,null,{"$f":"N31","v":22111},{"$f":"COUNTIF(L7:L13,T31)","v":0},{"$f":"U31/(W4-U25)","v":0},{"$f":"IF(V31=0,0,(V31*((LOG(V31))/LOG(2))))","v":0},null,{"$f":"N31","v":22111},{"$f":"COUNTIF(L14:L19,Y31)","v":0},{"$f":"Z31/(AB4-Z25)","v":0},{"$f":"IF(AA31=0,0,(AA31*((LOG(AA31))/LOG(2))))","v":0},null,{"$f":"N31","v":22111},{"$f":"COUNTIF(L20:L26,AD31)","v":0},{"$f":"AE31/(AG4-AE25)","v":0},{"$f":"IF(AF31=0,0,(AF31*((LOG(AF31))/LOG(2))))","v":0},null,{"$f":"N31","v":22111},{"$f":"COUNTIF(L27:L33,AI31)","v":0},{"$f":"AJ31/(AL4-AJ25)","v":0},{"$f":"IF(AK31=0,0,(AK31*((LOG(AK31))/LOG(2))))","v":0},null,{"$f":"N31","v":22111},{"$f":"COUNTIF(L34:L39,AN31)","v":0},{"$f":"AO31/(AQ4-AO25)","v":0},{"$f":"IF(AP31=0,0,(AP31*((LOG(AP31))/LOG(2))))","v":0},null,{"$f":"N31","v":22111},{"$f":"COUNTIF(L40:L46,AS31)","v":0},{"$f":"AT31/(AV4-AT25)","v":0},{"$f":"IF(AU31=0,0,(AU31*((LOG(AU31))/LOG(2))))","v":0}]
[21,9436,22,9449,24,9460,14,9475,24,9484,0,22212,null,22112,{"$f":"COUNTIF($L$7:$L$500,N32)","v":1},{"$f":"O32/$Q$4","v":2.5000000000000001E-2},{"$f":"IF(P32=0,0,(P32*((LOG(P32))/LOG(2))))","v":-0.13304820237218404},null,null,{"$f":"N32","v":22112},{"$f":"COUNTIF(L7:L13,T32)","v":0},{"$f":"U32/(W4-U25)","v":0},{"$f":"IF(V32=0,0,(V32*((LOG(V32))/LOG(2))))","v":0},null,{"$f":"N32","v":22112},{"$f":"COUNTIF(L14:L19,Y32)","v":1},{"$f":"Z32/(AB4-Z25)","v":0.16666666666666666},{"$f":"IF(AA32=0,0,(AA32*((LOG(AA32))/LOG(2))))","v":-0.43082708345352599},null,{"$f":"N32","v":22112},{"$f":"COUNTIF(L20:L26,AD32)","v":0},{"$f":"AE32/(AG4-AE25)","v":0},{"$f":"IF(AF32=0,0,(AF32*((LOG(AF32))/LOG(2))))","v":0},null,{"$f":"N32","v":22112},{"$f":"COUNTIF(L27:L33,AI32)","v":0},{"$f":"AJ32/(AL4-AJ25)","v":0},{"$f":"IF(AK32=0,0,(AK32*((LOG(AK32))/LOG(2))))","v":0},null,{"$f":"N32","v":22112},{"$f":"COUNTIF(L34:L39,AN32)","v":0},{"$f":"AO32/(AQ4-AO25)","v":0},{"$f":"IF(AP32=0,0,(AP32*((LOG(AP32))/LOG(2))))","v":0},null,{"$f":"N32","v":22112},{"$f":"COUNTIF(L40:L46,AS32)","v":0},{"$f":"AT32/(AV4-AT25)","v":0},{"$f":"IF(AU32=0,0,(AU32*((LOG(AU32))/LOG(2))))","v":0}]
[12,9644,24,10273,13,10291,23,10304,13,10320,0,12121,null,22121,{"$f":"COUNTIF($L$7:$L$500,N33)","v":3},{"$f":"O33/$Q$4","v":7.4999999999999997E-2},{"$f":"IF(P33=0,0,(P33*((LOG(P33))/LOG(2))))","v":-0.28027241956246546},null,null,{"$f":"N33","v":22121},{"$f":"COUNTIF(L7:L13,T33)","v":1},{"$f":"U33/(W4-U25)","v":0.14285714285714285},{"$f":"IF(V33=0,0,(V33*((LOG(V33))/LOG(2))))","v":-0.40105070315108626},null,{"$f":"N33","v":22121},{"$f":"COUNTIF(L14:L19,Y33)","v":0},{"$f":"Z33/(AB4-Z25)","v":0},{"$f":"IF(AA33=0,0,(AA33*((LOG(AA33))/LOG(2))))","v":0},null,{"$f":"N33","v":22121},{"$f":"COUNTIF(L20:L26,AD33)","v":2},{"$f":"AE33/(AG4-AE25)","v":0.2857142857142857},{"$f":"IF(AF33=0,0,(AF33*((LOG(AF33))/LOG(2))))","v":-0.51638712058788683},null,{"$f":"N33","v":22121},{"$f":"COUNTIF(L27:L33,AI33)","v":0},{"$f":"AJ33/(AL4-AJ25)","v":0},{"$f":"IF(AK33=0,0,(AK33*((LOG(AK33))/LOG(2))))","v":0},null,{"$f":"N33","v":22121},{"$f":"COUNTIF(L34:L39,AN33)","v":0},{"$f":"AO33/(AQ4-AO25)","v":0},{"$f":"IF(AP33=0,0,(AP33*((LOG(AP33))/LOG(2))))","v":0},null,{"$f":"N33","v":22121},{"$f":"COUNTIF(L40:L46,AS33)","v":0},{"$f":"AT33/(AV4-AT25)","v":0},{"$f":"IF(AU33=0,0,(AU33*((LOG(AU33))/LOG(2))))","v":0}]
[12,10433,24,10459,13,10470,23,10480,13,10499,0,12121,null,22122,{"$f":"COUNTIF($L$7:$L$500,N34)","v":1},{"$f":"O34/$Q$4","v":2.5000000000000001E-2},{"$f":"IF(P34=0,0,(P34*((LOG(P34))/LOG(2))))","v":-0.13304820237218404},null,null,{"$f":"N34","v":22122},{"$f":"COUNTIF(L7:L13,T34)","v":1},{"$f":"U34/(W4-U25)","v":0.14285714285714285},{"$f":"IF(V34=0,0,(V34*((LOG(V34))/LOG(2))))","v":-0.40105070315108626},null,{"$f":"N34","v":22122},{"$f":"COUNTIF(L14:L19,Y34)","v":0},{"$f":"Z34/(AB4-Z25)","v":0},{"$f":"IF(AA34=0,0,(AA34*((LOG(AA34))/LOG(2))))","v":0},null,{"$f":"N34","v":22122},{"$f":"COUNTIF(L20:L26,AD34)","v":0},{"$f":"AE34/(AG4-AE25)","v":0},{"$f":"IF(AF34=0,0,(AF34*((LOG(AF34))/LOG(2))))","v":0},null,{"$f":"N34","v":22122},{"$f":"COUNTIF(L27:L33,AI34)","v":0},{"$f":"AJ34/(AL4-AJ25)","v":0},{"$f":"IF(AK34=0,0,(AK34*((LOG(AK34))/LOG(2))))","v":0},null,{"$f":"N34","v":22122},{"$f":"COUNTIF(L34:L39,AN34)","v":0},{"$f":"AO34/(AQ4-AO25)","v":0},{"$f":"IF(AP34=0,0,(AP34*((LOG(AP34))/LOG(2))))","v":0},null,{"$f":"N34","v":22122},{"$f":"COUNTIF(L40:L46,AS34)","v":0},{"$f":"AT34/(AV4-AT25)","v":0},{"$f":"IF(AU34=0,0,(AU34*((LOG(AU34))/LOG(2))))","v":0}]
[12,11920,13,11932,13,11943,14,11954,13,11965,0,11111,null,22211,{"$f":"COUNTIF($L$7:$L$500,N35)","v":0},{"$f":"O35/$Q$4","v":0},{"$f":"IF(P35=0,0,(P35*((LOG(P35))/LOG(2))))","v":0},null,null,{"$f":"N35","v":22211},{"$f":"COUNTIF(L7:L13,T35)","v":0},{"$f":"U35/(W4-U25)","v":0},{"$f":"IF(V35=0,0,(V35*((LOG(V35))/LOG(2))))","v":0},null,{"$f":"N35","v":22211},{"$f":"COUNTIF(L14:L19,Y35)","v":0},{"$f":"Z35/(AB4-Z25)","v":0},{"$f":"IF(AA35=0,0,(AA35*((LOG(AA35))/LOG(2))))","v":0},null,{"$f":"N35","v":22211},{"$f":"COUNTIF(L20:L26,AD35)","v":0},{"$f":"AE35/(AG4-AE25)","v":0},{"$f":"IF(AF35=0,0,(AF35*((LOG(AF35))/LOG(2))))","v":0},null,{"$f":"N35","v":22211},{"$f":"COUNTIF(L27:L33,AI35)","v":0},{"$f":"AJ35/(AL4-AJ25)","v":0},{"$f":"IF(AK35=0,0,(AK35*((LOG(AK35))/LOG(2))))","v":0},null,{"$f":"N35","v":22211},{"$f":"COUNTIF(L34:L39,AN35)","v":0},{"$f":"AO35/(AQ4-AO25)","v":0},{"$f":"IF(AP35=0,0,(AP35*((LOG(AP35))/LOG(2))))","v":0},null,{"$f":"N35","v":22211},{"$f":"COUNTIF(L40:L46,AS35)","v":0},{"$f":"AT35/(AV4-AT25)","v":0},{"$f":"IF(AU35=0,0,(AU35*((LOG(AU35))/LOG(2))))","v":0}]
[21,12657,22,12684,24,12706,14,12719,24,12735,0,22212,null,22212,{"$f":"COUNTIF($L$7:$L$500,N36)","v":4},{"$f":"O36/$Q$4","v":0.1},{"$f":"IF(P36=0,0,(P36*((LOG(P36))/LOG(2))))","v":-0.33219280948873625},null,null,{"$f":"N36","v":22212},{"$f":"COUNTIF(L7:L13,T36)","v":1},{"$f":"U36/(W4-U25)","v":0.14285714285714285},{"$f":"IF(V36=0,0,(V36*((LOG(V36))/LOG(2))))","v":-0.40105070315108626},null,{"$f":"N36","v":22212},{"$f":"COUNTIF(L14:L19,Y36)","v":1},{"$f":"Z36/(AB4-Z25)","v":0.16666666666666666},{"$f":"IF(AA36=0,0,(AA36*((LOG(AA36))/LOG(2))))","v":-0.43082708345352599},null,{"$f":"N36","v":22212},{"$f":"COUNTIF(L20:L26,AD36)","v":0},{"$f":"AE36/(AG4-AE25)","v":0},{"$f":"IF(AF36=0,0,(AF36*((LOG(AF36))/LOG(2))))","v":0},null,{"$f":"N36","v":22212},{"$f":"COUNTIF(L27:L33,AI36)","v":1},{"$f":"AJ36/(AL4-AJ25)","v":0.14285714285714285},{"$f":"IF(AK36=0,0,(AK36*((LOG(AK36))/LOG(2))))","v":-0.40105070315108626},null,{"$f":"N36","v":22212},{"$f":"COUNTIF(L34:L39,AN36)","v":1},{"$f":"AO36/(AQ4-AO25)","v":0.16666666666666666},{"$f":"IF(AP36=0,0,(AP36*((LOG(AP36))/LOG(2))))","v":-0.43082708345352599},null,{"$f":"N36","v":22212},{"$f":"COUNTIF(L40:L46,AS36)","v":0},{"$f":"AT36/(AV4-AT25)","v":0},{"$f":"IF(AU36=0,0,(AU36*((LOG(AU36))/LOG(2))))","v":0}]
[12,12890,13,12907,13,12916,23,12926,13,12939,0,11121,null,22221,{"$f":"COUNTIF($L$7:$L$500,N37)","v":1},{"$f":"O37/$Q$4","v":2.5000000000000001E-2},{"$f":"IF(P37=0,0,(P37*((LOG(P37))/LOG(2))))","v":-0.13304820237218404},null,null,{"$f":"N37","v":22221},{"$f":"COUNTIF(L7:L13,T37)","v":0},{"$f":"U37/(W4-U25)","v":0},{"$f":"IF(V37=0,0,(V37*((LOG(V37))/LOG(2))))","v":0},null,{"$f":"N37","v":22221},{"$f":"COUNTIF(L14:L19,Y37)","v":1},{"$f":"Z37/(AB4-Z25)","v":0.16666666666666666},{"$f":"IF(AA37=0,0,(AA37*((LOG(AA37))/LOG(2))))","v":-0.43082708345352599},null,{"$f":"N37","v":22221},{"$f":"COUNTIF(L20:L26,AD37)","v":0},{"$f":"AE37/(AG4-AE25)","v":0},{"$f":"IF(AF37=0,0,(AF37*((LOG(AF37))/LOG(2))))","v":0},null,{"$f":"N37","v":22221},{"$f":"COUNTIF(L27:L33,AI37)","v":0},{"$f":"AJ37/(AL4-AJ25)","v":0},{"$f":"IF(AK37=0,0,(AK37*((LOG(AK37))/LOG(2))))","v":0},null,{"$f":"N37","v":22221},{"$f":"COUNTIF(L34:L39,AN37)","v":0},{"$f":"AO37/(AQ4-AO25)","v":0},{"$f":"IF(AP37=0,0,(AP37*((LOG(AP37))/LOG(2))))","v":0},null,{"$f":"N37","v":22221},{"$f":"COUNTIF(L40:L46,AS37)","v":0},{"$f":"AT37/(AV4-AT25)","v":0},{"$f":"IF(AU37=0,0,(AU37*((LOG(AU37))/LOG(2))))","v":0}]
[12,13298,24,13314,24,13338,23,13357,24,13378,0,12222,null,22222,{"$f":"COUNTIF($L$7:$L$500,N38)","v":0},{"$f":"O38/$Q$4","v":0},{"$f":"IF(P38=0,0,(P38*((LOG(P38))/LOG(2))))","v":0},null,null,{"$f":"N38","v":22222},{"$f":"COUNTIF(L7:L13,T38)","v":0},{"$f":"U38/(W4-U25)","v":0},{"$f":"IF(V38=0,0,(V38*((LOG(V38))/LOG(2))))","v":0},null,{"$f":"N38","v":22222},{"$f":"COUNTIF(L14:L19,Y38)","v":0},{"$f":"Z38/(AB4-Z25)","v":0},{"$f":"IF(AA38=0,0,(AA38*((LOG(AA38))/LOG(2))))","v":0},null,{"$f":"N38","v":22222},{"$f":"COUNTIF(L20:L26,AD38)","v":0},{"$f":"AE38/(AG4-AE25)","v":0},{"$f":"IF(AF38=0,0,(AF38*((LOG(AF38))/LOG(2))))","v":0},null,{"$f":"N38","v":22222},{"$f":"COUNTIF(L27:L33,AI38)","v":0},{"$f":"AJ38/(AL4-AJ25)","v":0},{"$f":"IF(AK38=0,0,(AK38*((LOG(AK38))/LOG(2))))","v":0},null,{"$f":"N38","v":22222},{"$f":"COUNTIF(L34:L39,AN38)","v":0},{"$f":"AO38/(AQ4-AO25)","v":0},{"$f":"IF(AP38=0,0,(AP38*((LOG(AP38))/LOG(2))))","v":0},null,{"$f":"N38","v":22222},{"$f":"COUNTIF(L40:L46,AS38)","v":0},{"$f":"AT38/(AV4-AT25)","v":0},{"$f":"IF(AU38=0,0,(AU38*((LOG(AU38))/LOG(2))))","v":0}]
[12,14316,24,14328,24,14353,14,14369,24,14379,0,12212,null,null,null,{"$f":"SUM(P7:P38)","v":1.0000000000000002},{"$f":"-SUM(Q7:Q38)","v":3.6215277841122733},null,null,null,null,{"$f":"SUM(V7:V38)","v":0.99999999999999978},{"$f":"-SUM(W7:W38)","v":2.8073549220576042},null,null,null,{"$f":"SUM(AA7:AA38)","v":0.99999999999999989},{"$f":"-SUM(AB7:AB38)","v":2.2516291673878226},null,null,null,{"$f":"SUM(AF7:AF38)","v":0.99999999999999989},{"$f":"-SUM(AG7:AG38)","v":1.9502120649147465},null,null,null,{"$f":"SUM(AK7:AK38)","v":0.99999999999999978},{"$f":"-SUM(AL7:AL38)","v":2.5216406363433186},null,null,null,{"$f":"SUM(AP7:AP38)","v":0.99999999999999989},{"$f":"-SUM(AQ7:AQ38)","v":2.5849625007211561},null,null,null,{"$f":"SUM(AU7:AU38)","v":0.99999999999999989},{"$f":"-SUM(AV7:AV38)","v":2.2359263506290326}]
[12,14557,24,14567,13,14578,23,14587,13,14601,0,12121,null,null,null,"U=",{"$f":"Q39/(LOG(Q4)/LOG(2))","v":0.6804916788694273},null,null,null,null,"U1=",{"$f":"W39/(LOG(W4)/LOG(2))","v":1},null,null,null,"U2=",{"$f":"AB39/(LOG(AB4)/LOG(2))","v":0.87104906425515272},null,null,null,"U3=",{"$f":"AG39/(LOG(AG4)/LOG(2))","v":0.69467955390740943},null,null,null,"U4=",{"$f":"AL39/(LOG(AL4)/LOG(2))","v":0.89822651796913655},null,null,null,"U5=",{"$f":"AQ39/(LOG(AQ4)/LOG(2))","v":1},null,null,null,"U6=",{"$f":"AV39/(LOG(AV4)/LOG(2))","v":0.79645303593827299}]
[12,15924,24,15934,24,15948,14,15958,24,15968,0,12212]
[21,16255,11,16267,22,16282,14,16293,24,16304,0,21212]
[12,17101,24,17112,13,17130,23,17139,13,17154,0,12121,null,"Total Target Seq"]
[12,18527,13,18546,24,18575,14,18597,24,18607,0,11212,null,{"$f":"COUNTIF(L7:L46,G3)","v":0},null,7,6,7,7,6,7]
[21,18963,11,18993,22,19004,14,19019,24,19030,0,21212,null,null,null,"% of reinforcement given in 6 equal intervals based on number of trials "]
[21,20226,11,20330,11,20649,12,20664,13,20687,0,21111,null,null,null,"%_1","%_2","%_3","%_4","%_5","%_6"]
[null,null,null,null,null,null,null,null,null,null,null,null,null,null,"target sequence",{"$f":"$G$3","v":21121},{"$f":"$G$3","v":21121},{"$f":"$G$3","v":21121},{"$f":"$G$3","v":21121},{"$f":"$G$3","v":21121},{"$f":"$G$3","v":21121}]
[null,null,null,null,null,null,null,null,null,null,null,null,null,null,"total reinforcement",{"$f":"U25","v":0},{"$f":"Z25","v":0},{"$f":"AE25","v":0},{"$f":"AJ25","v":0},{"$f":"AO25","v":0},{"$f":"AT25","v":0}]
[null,null,null,null,null,null,null,null,null,null,null,null,null,null,"% target"]
[null,null,null,null,null,null,null,null,null,null,null,null,null,null,"CCRF"]
[null,null,null,null,null,null,null,null,null,null,null,null,null,null,"% CCRf"]
[null,null,null,null,null,null,null,null,null,null,null,null,null,null,"average response rate",{"$f":"J13/P44","v":200.28571428571428},{"$f":"(J19-J13)/Q44","v":373.16666666666669},{"$f":"(J26-J19)/R44","v":303.14285714285717},{"$f":"(J33-J26)/S44","v":651},{"$f":"(J39-J33)/T44","v":676.5},{"$f":"(J46-J39)/U44","v":901.14285714285711}]

{"sheet":"!N109900.105","index":11,"n_rows":52,"n_cols":48,"rows_kept":52,"cut":false,"hidden":false,"merged":[[4,39,4,42],[5,39,5,40],[4,44,4,47],[5,44,5,45],[4,24,4,27],[5,24,5,25],[4,29,4,32],[5,29,5,30],[4,34,4,37],[5,34,5,35],[1,1,1,2],[5,13,5,14],[42,13,42,14],[43,13,43,14],[4,19,4,22],[5,19,5,20]]}
["Report for:!N109900.105"]
["Date:","<date>"]
["Hen:","<hen>",null,null,null,"Correct Sequence",{"$f":"Start!J2","v":21121},null,null,null,null,null,null,null,null,"Total Sequences in Data",{"$f":"4994-COUNTBLANK(L7:L5000)","v":27},null,null,null,null,"Total Sequences in Block Data",{"$f":"COUNTA(L7:L11)","v":5},null,null,null,"Total Sequences in Block Data",{"$f":"COUNTA(L12:L15)","v":4},null,null,null,"Total Sequences in Block Data",{"$f":"COUNTA(L16:L20)","v":5},null,null,null,"Total Sequences in Block Data",{"$f":"COUNTA(L21:L24)","v":4},null,null,null,"Total Sequences in Block Data",{"$f":"COUNTA(L25:L29)","v":5},null,null,null,"Total Sequences in Block Data",{"$f":"COUNTA(L30:L33)","v":4}]
[null,null,null,null,null,null,null,null,null,null,null,null,null,null,null,"Total Sequences in Summary",{"$f":"SUM(O7:O38)","v":27},null,null,null,null,"Total Sequences in Block Summary",{"$f":"SUM(U7:U38)","v":5},null,null,null,"Total Sequences in Block Summary",{"$f":"SUM(Z7:Z38)","v":4},null,null,null,"Total Sequences in Block Summary",{"$f":"SUM(AE7:AE38)","v":5},null,null,null,"Total Sequences in Block Summary",{"$f":"SUM(AJ7:AJ38)","v":4},null,null,null,"Total Sequences in Block Summary",{"$f":"SUM(AO7:AO38)","v":5},null,null,null,"Total Sequences in Block Summary",{"$f":"SUM(AT7:AT38)","v":4}]
[null,null,null,null,null,null,null,null,null,null,null,null,null,null,null,null,null,null,null,"Block 1",null,null,null,null,"Block 2",null,null,null,null,"Block 3",null,null,null,null,"Block 4",null,null,null,null,"Block 5",null,null,null,null,"Block 6"]
["Sequence\nComponent\n1","Time\n1","Sequence\nComponent\n2","Time\n2","Sequence\nComponent\n3","Time\n3","Sequence\nComponent\n4","Time\n4","Sequence\nComponent\n5","Time\n5","Correct?\n0=No 1=Yes","Sequence",null,"Frequency",null,"Relative Frequency","Variability",null,null,"Frequency",null,"Relative Frequency","Variability",null,"Frequency",null,"Relative Frequency","Variability",null,"Frequency",null,"Relative Frequency","Variability",null,"Frequency",null,"Relative Frequency","Variability",null,"Frequency",null,"Relative Frequency","Variability",null,"Frequency",null,"Relative Frequency","Variability"]
[21,54,22,84,24,91,14,103,24,115,1,22212,null,11111,{"$f":"COUNTIF($L$7:$L$500,N7)","v":0},{"$f":"O7/$Q$4","v":0},{"$f":"IF(P7=0,0,(P7*((LOG(P7))/LOG(2))))","v":0},null,null,{"$f":"N7","v":11111},{"$f":"COUNTIF(L7:L11,T7)","v":0},{"$f":"U7/(W4-U25)","v":0},{"$f":"IF(V7=0,0,(V7*((LOG(V7))/LOG(2))))","v":0},null,{"$f":"N7","v":11111},{"$f":"COUNTIF(L12:L15,Y7)","v":0},{"$f":"Z7/(AB4-Z25)","v":0},{"$f":"IF(AA7=0,0,(AA7*((LOG(AA7))/LOG(2))))","v":0},null,{"$f":"N7","v":11111},{"$f":"COUNTIF(L16:L20,AD7)","v":0},{"$f":"AE7/(AG4-AE25)","v":0},{"$f":"IF(AF7=0,0,(AF7*((LOG(AF7))/LOG(2))))","v":0},null,{"$f":"N7","v":11111},{"$f":"COUNTIF(L21:L24,AI7)","v":0},{"$f":"AJ7/(AL4-AJ25)","v":0},{"$f":"IF(AK7=0,0,(AK7*((LOG(AK7))/LOG(2))))","v":0},null,{"$f":"N7","v":11111},{"$f":"COUNTIF(L25:L29,AN7)","v":0},{"$f":"AO7/(AQ4-AO25)","v":0},{"$f":"IF(AP7=0,0,(AP7*((LOG(AP7))/LOG(2))))","v":0},null,{"$f":"N7","v":11111},{"$f":"COUNTIF(L30:L33,AS7)","v":0},{"$f":"AT7/(AV4-AT25)","v":0},{"$f":"IF(AU7=0,0,(AU7*((LOG(AU7))/LOG(2))))","v":0}]
[21,231,22,255,24,270,14,282,24,292,0,22212,null,11112,{"$f":"COUNTIF($L$7:$L$500,N8)","v":0},{"$f":"O8/$Q$4","v":0},{"$f":"IF(P8=0,0,(P8*((LOG(P8))/LOG(2))))","v":0},null,null,{"$f":"N8","v":11112},{"$f":"COUNTIF(L7:L11,T8)","v":0},{"$f":"U8/(W4-U25)","v":0},{"$f":"IF(V8=0,0,(V8*((LOG(V8))/LOG(2))))","v":0},null,{"$f":"N8","v":11112},{"$f":"COUNTIF(L12:L15,Y8)","v":0},{"$f":"Z8/(AB4-Z25)","v":0},{"$f":"IF(AA8=0,0,(AA8*((LOG(AA8))/LOG(2))))","v":0},null,{"$f":"N8","v":11112},{"$f":"COUNTIF(L16:L20,AD8)","v":0},{"$f":"AE8/(AG4-AE25)","v":0},{"$f":"IF(AF8=0,0,(AF8*((LOG(AF8))/LOG(2))))","v":0},null,{"$f":"N8","v":11112},{"$f":"COUNTIF(L21:L24,AI8)","v":0},{"$f":"AJ8/(AL4-AJ25)","v":0},{"$f":"IF(AK8=0,0,(AK8*((LOG(AK8))/LOG(2))))","v":0},null,{"$f":"N8","v":11112},{"$f":"COUNTIF(L25:L29,AN8)","v":0},{"$f":"AO8/(AQ4-AO25)","v":0},{"$f":"IF(AP8=0,0,(AP8*((LOG(AP8))/LOG(2))))","v":0},null,{"$f":"N8","v":11112},{"$f":"COUNTIF(L30:L33,AS8)","v":0},{"$f":"AT8/(AV4-AT25)","v":0},{"$f":"IF(AU8=0,0,(AU8*((LOG(AU8))/LOG(2))))","v":0}]
[21,413,22,427,24,444,23,452,13,465,0,22221,null,11121,{"$f":"COUNTIF($L$7:$L$500,N9)","v":0},{"$f":"O9/$Q$4","v":0},{"$f":"IF(P9=0,0,(P9*((LOG(P9))/LOG(2))))","v":0},null,null,{"$f":"N9","v":11121},{"$f":"COUNTIF(L7:L11,T9)","v":0},{"$f":"U9/(W4-U25)","v":0},{"$f":"IF(V9=0,0,(V9*((LOG(V9))/LOG(2))))","v":0},null,{"$f":"N9","v":11121},{"$f":"COUNTIF(L12:L15,Y9)","v":0},{"$f":"Z9/(AB4-Z25)","v":0},{"$f":"IF(AA9=0,0,(AA9*((LOG(AA9))/LOG(2))))","v":0},null,{"$f":"N9","v":11121},{"$f":"COUNTIF(L16:L20,AD9)","v":0},{"$f":"AE9/(AG4-AE25)","v":0},{"$f":"IF(AF9=0,0,(AF9*((LOG(AF9))/LOG(2))))","v":0},null,{"$f":"N9","v":11121},{"$f":"COUNTIF(L21:L24,AI9)","v":0},{"$f":"AJ9/(AL4-AJ25)","v":0},{"$f":"IF(AK9=0,0,(AK9*((LOG(AK9))/LOG(2))))","v":0},null,{"$f":"N9","v":11121},{"$f":"COUNTIF(L25:L29,AN9)","v":0},{"$f":"AO9/(AQ4-AO25)","v":0},{"$f":"IF(AP9=0,0,(AP9*((LOG(AP9))/LOG(2))))","v":0},null,{"$f":"N9","v":11121},{"$f":"COUNTIF(L30:L33,AS9)","v":0},{"$f":"AT9/(AV4-AT25)","v":0},{"$f":"IF(AU9=0,0,(AU9*((LOG(AU9))/LOG(2))))","v":0}]
[21,604,11,614,22,624,14,638,24,648,0,21212,null,11122,{"$f":"COUNTIF($L$7:$L$500,N10)","v":0},{"$f":"O10/$Q$4","v":0},{"$f":"IF(P10=0,0,(P10*((LOG(P10))/LOG(2))))","v":0},null,null,{"$f":"N10","v":11122},{"$f":"COUNTIF(L7:L11,T10)","v":0},{"$f":"U10/(W4-U25)","v":0},{"$f":"IF(V10=0,0,(V10*((LOG(V10))/LOG(2))))","v":0},null,{"$f":"N10","v":11122},{"$f":"COUNTIF(L12:L15,Y10)","v":0},{"$f":"Z10/(AB4-Z25)","v":0},{"$f":"IF(AA10=0,0,(AA10*((LOG(AA10))/LOG(2))))","v":0},null,{"$f":"N10","v":11122},{"$f":"COUNTIF(L16:L20,AD10)","v":0},{"$f":"AE10/(AG4-AE25)","v":0},{"$f":"IF(AF10=0,0,(AF10*((LOG(AF10))/LOG(2))))","v":0},null,{"$f":"N10","v":11122},{"$f":"COUNTIF(L21:L24,AI10)","v":0},{"$f":"AJ10/(AL4-AJ25)","v":0},{"$f":"IF(AK10=0,0,(AK10*((LOG(AK10))/LOG(2))))","v":0},null,{"$f":"N10","v":11122},{"$f":"COUNTIF(L25:L29,AN10)","v":0},{"$f":"AO10/(AQ4-AO25)","v":0},{"$f":"IF(AP10=0,0,(AP10*((LOG(AP10))/LOG(2))))","v":0},null,{"$f":"N10","v":11122},{"$f":"COUNTIF(L30:L33,AS10)","v":0},{"$f":"AT10/(AV4-AT25)","v":0},{"$f":"IF(AU10=0,0,(AU10*((LOG(AU10))/LOG(2))))","v":0}]
[21,771,11,782,22,792,23,825,13,835,0,21221,null,11211,{"$f":"COUNTIF($L$7:$L$500,N11)","v":0},{"$f":"O11/$Q$4","v":0},{"$f":"IF(P11=0,0,(P11*((LOG(P11))/LOG(2))))","v":0},null,null,{"$f":"N11","v":11211},{"$f":"COUNTIF(L7:L11,T11)","v":0},{"$f":"U11/(W4-U25)","v":0},{"$f":"IF(V11=0,0,(V11*((LOG(V11))/LOG(2))))","v":0},null,{"$f":"N11","v":11211},{"$f":"COUNTIF(L12:L15,Y11)","v":0},{"$f":"Z11/(AB4-Z25)","v":0},{"$f":"IF(AA11=0,0,(AA11*((LOG(AA11))/LOG(2))))","v":0},null,{"$f":"N11","v":11211},{"$f":"COUNTIF(L16:L20,AD11)","v":0},{"$f":"AE11/(AG4-AE25)","v":0},{"$f":"IF(AF11=0,0,(AF11*((LOG(AF11))/LOG(2))))","v":0},null,{"$f":"N11","v":11211},{"$f":"COUNTIF(L21:L24,AI11)","v":0},{"$f":"AJ11/(AL4-AJ25)","v":0},{"$f":"IF(AK11=0,0,(AK11*((LOG(AK11))/LOG(2))))","v":0},null,{"$f":"N11","v":11211},{"$f":"COUNTIF(L25:L29,AN11)","v":0},{"$f":"AO11/(AQ4-AO25)","v":0},{"$f":"IF(AP11=0,0,(AP11*((LOG(AP11))/LOG(2))))","v":0},null,{"$f":"N11","v":11211},{"$f":"COUNTIF(L30:L33,AS11)","v":0},{"$f":"AT11/(AV4-AT25)","v":0},{"$f":"IF(AU11=0,0,(AU11*((LOG(AU11))/LOG(2))))","v":0}]
[12,962,24,973,24,1001,14,1018,24,1029,0,12212,null,11212,{"$f":"COUNTIF($L$7:$L$500,N12)","v":0},{"$f":"O12/$Q$4","v":0},{"$f":"IF(P12=0,0,(P12*((LOG(P12))/LOG(2))))","v":0},null,null,{"$f":"N12","v":11212},{"$f":"COUNTIF(L7:L11,T12)","v":0},{"$f":"U12/(W4-U25)","v":0},{"$f":"IF(V12=0,0,(V12*((LOG(V12))/LOG(2))))","v":0},null,{"$f":"N12","v":11212},{"$f":"COUNTIF(L12:L15,Y12)","v":0},{"$f":"Z12/(AB4-Z25)","v":0},{"$f":"IF(AA12=0,0,(AA12*((LOG(AA12))/LOG(2))))","v":0},null,{"$f":"N12","v":11212},{"$f":"COUNTIF(L16:L20,AD12)","v":0},{"$f":"AE12/(AG4-AE25)","v":0},{"$f":"IF(AF12=0,0,(AF12*((LOG(AF12))/LOG(2))))","v":0},null,{"$f":"N12","v":11212},{"$f":"COUNTIF(L21:L24,AI12)","v":0},{"$f":"AJ12/(AL4-AJ25)","v":0},{"$f":"IF(AK12=0,0,(AK12*((LOG(AK12))/LOG(2))))","v":0},null,{"$f":"N12","v":11212},{"$f":"COUNTIF(L25:L29,AN12)","v":0},{"$f":"AO12/(AQ4-AO25)","v":0},{"$f":"IF(AP12=0,0,(AP12*((LOG(AP12))/LOG(2))))","v":0},null,{"$f":"N12","v":11212},{"$f":"COUNTIF(L30:L33,AS12)","v":0},{"$f":"AT12/(AV4-AT25)","v":0},{"$f":"IF(AU12=0,0,(AU12*((LOG(AU12))/LOG(2))))","v":0}]
[12,1148,24,1160,13,1172,23,1182,24,1190,0,12122,null,11221,{"$f":"COUNTIF($L$7:$L$500,N13)","v":0},{"$f":"O13/$Q$4","v":0},{"$f":"IF(P13=0,0,(P13*((LOG(P13))/LOG(2))))","v":0},null,null,{"$f":"N13","v":11221},{"$f":"COUNTIF(L7:L11,T13)","v":0},{"$f":"U13/(W4-U25)","v":0},{"$f":"IF(V13=0,0,(V13*((LOG(V13))/LOG(2))))","v":0},null,{"$f":"N13","v":11221},{"$f":"COUNTIF(L12:L15,Y13)","v":0},{"$f":"Z13/(AB4-Z25)","v":0},{"$f":"IF(AA13=0,0,(AA13*((LOG(AA13))/LOG(2))))","v":0},null,{"$f":"N13","v":11221},{"$f":"COUNTIF(L16:L20,AD13)","v":0},{"$f":"AE13/(AG4-AE25)","v":0},{"$f":"IF(AF13=0,0,(AF13*((LOG(AF13))/LOG(2))))","v":0},null,{"$f":"N13","v":11221},{"$f":"COUNTIF(L21:L24,AI13)","v":0},{"$f":"AJ13/(AL4-AJ25)","v":0},{"$f":"IF(AK13=0,0,(AK13*((LOG(AK13))/LOG(2))))","v":0},null,{"$f":"N13","v":11221},{"$f":"COUNTIF(L25:L29,AN13)","v":0},{"$f":"AO13/(AQ4-AO25)","v":0},{"$f":"IF(AP13=0,0,(AP13*((LOG(AP13))/LOG(2))))","v":0},null,{"$f":"N13","v":11221},{"$f":"COUNTIF(L30:L33,AS13)","v":0},{"$f":"AT13/(AV4-AT25)","v":0},{"$f":"IF(AU13=0,0,(AU13*((LOG(AU13))/LOG(2))))","v":0}]
[21,1313,11,1322,22,1333,14,1344,24,1355,0,21212,null,11222,{"$f":"COUNTIF($L$7:$L$500,N14)","v":0},{"$f":"O14/$Q$4","v":0},{"$f":"IF(P14=0,0,(P14*((LOG(P14))/LOG(2))))","v":0},null,null,{"$f":"N14","v":11222},{"$f":"COUNTIF(L7:L11,T14)","v":0},{"$f":"U14/(W4-U25)","v":0},{"$f":"IF(V14=0,0,(V14*((LOG(V14))/LOG(2))))","v":0},null,{"$f":"N14","v":11222},{"$f":"COUNTIF(L12:L15,Y14)","v":0},{"$f":"Z14/(AB4-Z25)","v":0},{"$f":"IF(AA14=0,0,(AA14*((LOG(AA14))/LOG(2))))","v":0},null,{"$f":"N14","v":11222},{"$f":"COUNTIF(L16:L20,AD14)","v":0},{"$f":"AE14/(AG4-AE25)","v":0},{"$f":"IF(AF14=0,0,(AF14*((LOG(AF14))/LOG(2))))","v":0},null,{"$f":"N14","v":11222},{"$f":"COUNTIF(L21:L24,AI14)","v":0},{"$f":"AJ14/(AL4-AJ25)","v":0},{"$f":"IF(AK14=0,0,(AK14*((LOG(AK14))/LOG(2))))","v":0},null,{"$f":"N14","v":11222},{"$f":"COUNTIF(L25:L29,AN14)","v":0},{"$f":"AO14/(AQ4-AO25)","v":0},{"$f":"IF(AP14=0,0,(AP14*((LOG(AP14))/LOG(2))))","v":0},null,{"$f":"N14","v":11222},{"$f":"COUNTIF(L30:L33,AS14)","v":0},{"$f":"AT14/(AV4-AT25)","v":0},{"$f":"IF(AU14=0,0,(AU14*((LOG(AU14))/LOG(2))))","v":0}]
[21,1483,11,1493,22,1503,14,1516,24,1526,0,21212,null,12111,{"$f":"COUNTIF($L$7:$L$500,N15)","v":0},{"$f":"O15/$Q$4","v":0},{"$f":"IF(P15=0,0,(P15*((LOG(P15))/LOG(2))))","v":0},null,null,{"$f":"N15","v":12111},{"$f":"COUNTIF(L7:L11,T15)","v":0},{"$f":"U15/(W4-U25)","v":0},{"$f":"IF(V15=0,0,(V15*((LOG(V15))/LOG(2))))","v":0},null,{"$f":"N15","v":12111},{"$f":"COUNTIF(L12:L15,Y15)","v":0},{"$f":"Z15/(AB4-Z25)","v":0},{"$f":"IF(AA15=0,0,(AA15*((LOG(AA15))/LOG(2))))","v":0},null,{"$f":"N15","v":12111},{"$f":"COUNTIF(L16:L20,AD15)","v":0},{"$f":"AE15/(AG4-AE25)","v":0},{"$f":"IF(AF15=0,0,(AF15*((LOG(AF15))/LOG(2))))","v":0},null,{"$f":"N15","v":12111},{"$f":"COUNTIF(L21:L24,AI15)","v":0},{"$f":"AJ15/(AL4-AJ25)","v":0},{"$f":"IF(AK15=0,0,(AK15*((LOG(AK15))/LOG(2))))","v":0},null,{"$f":"N15","v":12111},{"$f":"COUNTIF(L25:L29,AN15)","v":0},{"$f":"AO15/(AQ4-AO25)","v":0},{"$f":"IF(AP15=0,0,(AP15*((LOG(AP15))/LOG(2))))","v":0},null,{"$f":"N15","v":12111},{"$f":"COUNTIF(L30:L33,AS15)","v":0},{"$f":"AT15/(AV4-AT25)","v":0},{"$f":"IF(AU15=0,0,(AU15*((LOG(AU15))/LOG(2))))","v":0}]
[12,1627,24,1637,13,1646,23,1656,13,1666,0,12121,null,12112,{"$f":"COUNTIF($L$7:$L$500,N16)","v":1},{"$f":"O16/$Q$4","v":3.7037037037037035E-2},{"$f":"IF(P16=0,0,(P16*((LOG(P16))/LOG(2))))","v":-0.1761069445245729},null,null,{"$f":"N16","v":12112},{"$f":"COUNTIF(L7:L11,T16)","v":0},{"$f":"U16/(W4-U25)","v":0},{"$f":"IF(V16=0,0,(V16*((LOG(V16))/LOG(2))))","v":0},null,{"$f":"N16","v":12112},{"$f":"COUNTIF(L12:L15,Y16)","v":0},{"$f":"Z16/(AB4-Z25)","v":0},{"$f":"IF(AA16=0,0,(AA16*((LOG(AA16))/LOG(2))))","v":0},null,{"$f":"N16","v":12112},{"$f":"COUNTIF(L16:L20,AD16)","v":0},{"$f":"AE16/(AG4-AE25)","v":0},{"$f":"IF(AF16=0,0,(AF16*((LOG(AF16))/LOG(2))))","v":0},null,{"$f":"N16","v":12112},{"$f":"COUNTIF(L21:L24,AI16)","v":0},{"$f":"AJ16/(AL4-AJ25)","v":0},{"$f":"IF(AK16=0,0,(AK16*((LOG(AK16))/LOG(2))))","v":0},null,{"$f":"N16","v":12112},{"$f":"COUNTIF(L25:L29,AN16)","v":1},{"$f":"AO16/(AQ4-AO25)","v":0.2},{"$f":"IF(AP16=0,0,(AP16*((LOG(AP16))/LOG(2))))","v":-0.46438561897747244},null,{"$f":"N16","v":12112},{"$f":"COUNTIF(L30:L33,AS16)","v":0},{"$f":"AT16/(AV4-AT25)","v":0},{"$f":"IF(AU16=0,0,(AU16*((LOG(AU16))/LOG(2))))","v":0}]
[12,1786,24,1797,13,1807,23,1818,13,1835,0,12121,null,12121,{"$f":"COUNTIF($L$7:$L$500,N17)","v":4},{"$f":"O17/$Q$4","v":0.14814814814814814},{"$f":"IF(P17=0,0,(P17*((LOG(P17))/LOG(2))))","v":-0.40813148180199532},null,null,{"$f":"N17","v":12121},{"$f":"COUNTIF(L7:L11,T17)","v":0},{"$f":"U17/(W4-U25)","v":0},{"$f":"IF(V17=0,0,(V17*((LOG(V17))/LOG(2))))","v":0},null,{"$f":"N17","v":12121},{"$f":"COUNTIF(L12:L15,Y17)","v":0},{"$f":"Z17/(AB4-Z25)","v":0},{"$f":"IF(AA17=0,0,(AA17*((LOG(AA17))/LOG(2))))","v":0},null,{"$f":"N17","v":12121},{"$f":"COUNTIF(L16:L20,AD17)","v":4},{"$f":"AE17/(AG4-AE25)","v":0.8},{"$f":"IF(AF17=0,0,(AF17*((LOG(AF17))/LOG(2))))","v":-0.25754247590988982},null,{"$f":"N17","v":12121},{"$f":"COUNTIF(L21:L24,AI17)","v":0},{"$f":"AJ17/(AL4-AJ25)","v":0},{"$f":"IF(AK17=0,0,(AK17*((LOG(AK17))/LOG(2))))","v":0},null,{"$f":"N17","v":12121},{"$f":"COUNTIF(L25:L29,AN17)","v":0},{"$f":"AO17/(AQ4-AO25)","v":0},{"$f":"IF(AP17=0,0,(AP17*((LOG(AP17))/LOG(2))))","v":0},null,{"$f":"N17","v":12121},{"$f":"COUNTIF(L30:L33,AS17)","v":0},{"$f":"AT17/(AV4-AT25)","v":0},{"$f":"IF(AU17=0,0,(AU17*((LOG(AU17))/LOG(2))))","v":0}]
[12,1942,24,1951,13,1958,23,1968,13,1978,0,12121,null,12122,{"$f":"COUNTIF($L$7:$L$500,N18)","v":1},{"$f":"O18/$Q$4","v":3.7037037037037035E-2},{"$f":"IF(P18=0,0,(P18*((LOG(P18))/LOG(2))))","v":-0.1761069445245729},null,null,{"$f":"N18","v":12122},{"$f":"COUNTIF(L7:L11,T18)","v":0},{"$f":"U18/(W4-U25)","v":0},{"$f":"IF(V18=0,0,(V18*((LOG(V18))/LOG(2))))","v":0},null,{"$f":"N18","v":12122},{"$f":"COUNTIF(L12:L15,Y18)","v":1},{"$f":"Z18/(AB4-Z25)","v":0.25},{"$f":"IF(AA18=0,0,(AA18*((LOG(AA18))/LOG(2))))","v":-0.5},null,{"$f":"N18","v":12122},{"$f":"COUNTIF(L16:L20,AD18)","v":0},{"$f":"AE18/(AG4-AE25)","v":0},{"$f":"IF(AF18=0,0,(AF18*((LOG(AF18))/LOG(2))))","v":0},null,{"$f":"N18","v":12122},{"$f":"COUNTIF(L21:L24,AI18)","v":0},{"$f":"AJ18/(AL4-AJ25)","v":0},{"$f":"IF(AK18=0,0,(AK18*((LOG(AK18))/LOG(2))))","v":0},null,{"$f":"N18","v":12122},{"$f":"COUNTIF(L25:L29,AN18)","v":0},{"$f":"AO18/(AQ4-AO25)","v":0},{"$f":"IF(AP18=0,0,(AP18*((LOG(AP18))/LOG(2))))","v":0},null,{"$f":"N18","v":12122},{"$f":"COUNTIF(L30:L33,AS18)","v":0},{"$f":"AT18/(AV4-AT25)","v":0},{"$f":"IF(AU18=0,0,(AU18*((LOG(AU18))/LOG(2))))","v":0}]
[12,2104,24,2116,24,2135,14,2147,24,2160,0,12212,null,12211,{"$f":"COUNTIF($L$7:$L$500,N19)","v":1},{"$f":"O19/$Q$4","v":3.7037037037037035E-2},{"$f":"IF(P19=0,0,(P19*((LOG(P19))/LOG(2))))","v":-0.1761069445245729},null,null,{"$f":"N19","v":12211},{"$f":"COUNTIF(L7:L11,T19)","v":0},{"$f":"U19/(W4-U25)","v":0},{"$f":"IF(V19=0,0,(V19*((LOG(V19))/LOG(2))))","v":0},null,{"$f":"N19","v":12211},{"$f":"COUNTIF(L12:L15,Y19)","v":0},{"$f":"Z19/(AB4-Z25)","v":0},{"$f":"IF(AA19=0,0,(AA19*((LOG(AA19))/LOG(2))))","v":0},null,{"$f":"N19","v":12211},{"$f":"COUNTIF(L16:L20,AD19)","v":0},{"$f":"AE19/(AG4-AE25)","v":0},{"$f":"IF(AF19=0,0,(AF19*((LOG(AF19))/LOG(2))))","v":0},null,{"$f":"N19","v":12211},{"$f":"COUNTIF(L21:L24,AI19)","v":0},{"$f":"AJ19/(AL4-AJ25)","v":0},{"$f":"IF(AK19=0,0,(AK19*((LOG(AK19))/LOG(2))))","v":0},null,{"$f":"N19","v":12211},{"$f":"COUNTIF(L25:L29,AN19)","v":1},{"$f":"AO19/(AQ4-AO25)","v":0.2},{"$f":"IF(AP19=0,0,(AP19*((LOG(AP19))/LOG(2))))","v":-0.46438561897747244},null,{"$f":"N19","v":12211},{"$f":"COUNTIF(L30:L33,AS19)","v":0},{"$f":"AT19/(AV4-AT25)","v":0},{"$f":"IF(AU19=0,0,(AU19*((LOG(AU19))/LOG(2))))","v":0}]
[12,2292,24,2304,13,2313,23,2325,13,2334,0,12121,null,12212,{"$f":"COUNTIF($L$7:$L$500,N20)","v":3},{"$f":"O20/$Q$4","v":0.1111111111111111},{"$f":"IF(P20=0,0,(P20*((LOG(P20))/LOG(2))))","v":-0.3522138890491458},null,null,{"$f":"N20","v":12212},{"$f":"COUNTIF(L7:L11,T20)","v":0},{"$f":"U20/(W4-U25)","v":0},{"$f":"IF(V20=0,0,(V20*((LOG(V20))/LOG(2))))","v":0},null,{"$f":"N20","v":12212},{"$f":"COUNTIF(L12:L15,Y20)","v":1},{"$f":"Z20/(AB4-Z25)","v":0.25},{"$f":"IF(AA20=0,0,(AA20*((LOG(AA20))/LOG(2))))","v":-0.5},null,{"$f":"N20","v":12212},{"$f":"COUNTIF(L16:L20,AD20)","v":1},{"$f":"AE20/(AG4-AE25)","v":0.2},{"$f":"IF(AF20=0,0,(AF20*((LOG(AF20))/LOG(2))))","v":-0.46438561897747244},null,{"$f":"N20","v":12212},{"$f":"COUNTIF(L21:L24,AI20)","v":0},{"$f":"AJ20/(AL4-AJ25)","v":0},{"$f":"IF(AK20=0,0,(AK20*((LOG(AK20))/LOG(2))))","v":0},null,{"$f":"N20","v":12212},{"$f":"COUNTIF(L25:L29,AN20)","v":1},{"$f":"AO20/(AQ4-AO25)","v":0.2},{"$f":"IF(AP20=0,0,(AP20*((LOG(AP20))/LOG(2))))","v":-0.46438561897747244},null,{"$f":"N20","v":12212},{"$f":"COUNTIF(L30:L33,AS20)","v":0},{"$f":"AT20/(AV4-AT25)","v":0},{"$f":"IF(AU20=0,0,(AU20*((LOG(AU20))/LOG(2))))","v":0}]
[21,2584,11,2601,22,2624,23,2636,24,2649,0,21222,null,12221,{"$f":"COUNTIF($L$7:$L$500,N21)","v":0},{"$f":"O21/$Q$4","v":0},{"$f":"IF(P21=0,0,(P21*((LOG(P21))/LOG(2))))","v":0},null,null,{"$f":"N21","v":12221},{"$f":"COUNTIF(L7:L11,T21)","v":0},{"$f":"U21/(W4-U25)","v":0},{"$f":"IF(V21=0,0,(V21*((LOG(V21))/LOG(2))))","v":0},null,{"$f":"N21","v":12221},{"$f":"COUNTIF(L12:L15,Y21)","v":0},{"$f":"Z21/(AB4-Z25)","v":0},{"$f":"IF(AA21=0,0,(AA21*((LOG(AA21))/LOG(2))))","v":0},null,{"$f":"N21","v":12221},{"$f":"COUNTIF(L16:L20,AD21)","v":0},{"$f":"AE21/(AG4-AE25)","v":0},{"$f":"IF(AF21=0,0,(AF21*((LOG(AF21))/LOG(2))))","v":0},null,{"$f":"N21","v":12221},{"$f":"COUNTIF(L21:L24,AI21)","v":0},{"$f":"AJ21/(AL4-AJ25)","v":0},{"$f":"IF(AK21=0,0,(AK21*((LOG(AK21))/LOG(2))))","v":0},null,{"$f":"N21","v":12221},{"$f":"COUNTIF(L25:L29,AN21)","v":0},{"$f":"AO21/(AQ4-AO25)","v":0},{"$f":"IF(AP21=0,0,(AP21*((LOG(AP21))/LOG(2))))","v":0},null,{"$f":"N21","v":12221},{"$f":"COUNTIF(L30:L33,AS21)","v":0},{"$f":"AT21/(AV4-AT25)","v":0},{"$f":"IF(AU21=0,0,(AU21*((LOG(AU21))/LOG(2))))","v":0}]
[21,2876,11,2886,22,2899,23,2935,24,2954,0,21222,null,12222,{"$f":"COUNTIF($L$7:$L$500,N22)","v":2},{"$f":"O22/$Q$4","v":7.407407407407407E-2},{"$f":"IF(P22=0,0,(P22*((LOG(P22))/LOG(2))))","v":-0.27813981497507173},null,null,{"$f":"N22","v":12222},{"$f":"COUNTIF(L7:L11,T22)","v":0},{"$f":"U22/(W4-U25)","v":0},{"$f":"IF(V22=0,0,(V22*((LOG(V22))/LOG(2))))","v":0},null,{"$f":"N22","v":12222},{"$f":"COUNTIF(L12:L15,Y22)","v":0},{"$f":"Z22/(AB4-Z25)","v":0},{"$f":"IF(AA22=0,0,(AA22*((LOG(AA22))/LOG(2))))","v":0},null,{"$f":"N22","v":12222},{"$f":"COUNTIF(L16:L20,AD22)","v":0},{"$f":"AE22/(AG4-AE25)","v":0},{"$f":"IF(AF22=0,0,(AF22*((LOG(AF22))/LOG(2))))","v":0},null,{"$f":"N22","v":12222},{"$f":"COUNTIF(L21:L24,AI22)","v":1},{"$f":"AJ22/(AL4-AJ25)","v":0.25},{"$f":"IF(AK22=0,0,(AK22*((LOG(AK22))/LOG(2))))","v":-0.5},null,{"$f":"N22","v":12222},{"$f":"COUNTIF(L25:L29,AN22)","v":1},{"$f":"AO22/(AQ4-AO25)","v":0.2},{"$f":"IF(AP22=0,0,(AP22*((LOG(AP22))/LOG(2))))","v":-0.46438561897747244},null,{"$f":"N22","v":12222},{"$f":"COUNTIF(L30:L33,AS22)","v":0},{"$f":"AT22/(AV4-AT25)","v":0},{"$f":"IF(AU22=0,0,(AU22*((LOG(AU22))/LOG(2))))","v":0}]
[12,3071,24,3082,24,3103,23,4274,24,4294,0,12222,null,21111,{"$f":"COUNTIF($L$7:$L$500,N23)","v":0},{"$f":"O23/$Q$4","v":0},{"$f":"IF(P23=0,0,(P23*((LOG(P23))/LOG(2))))","v":0},null,null,{"$f":"N23","v":21111},{"$f":"COUNTIF(L7:L11,T23)","v":0},{"$f":"U23/(W4-U25)","v":0},{"$f":"IF(V23=0,0,(V23*((LOG(V23))/LOG(2))))","v":0},null,{"$f":"N23","v":21111},{"$f":"COUNTIF(L12:L15,Y23)","v":0},{"$f":"Z23/(AB4-Z25)","v":0},{"$f":"IF(AA23=0,0,(AA23*((LOG(AA23))/LOG(2))))","v":0},null,{"$f":"N23","v":21111},{"$f":"COUNTIF(L16:L20,AD23)","v":0},{"$f":"AE23/(AG4-AE25)","v":0},{"$f":"IF(AF23=0,0,(AF23*((LOG(AF23))/LOG(2))))","v":0},null,{"$f":"N23","v":21111},{"$f":"COUNTIF(L21:L24,AI23)","v":0},{"$f":"AJ23/(AL4-AJ25)","v":0},{"$f":"IF(AK23=0,0,(AK23*((LOG(AK23))/LOG(2))))","v":0},null,{"$f":"N23","v":21111},{"$f":"COUNTIF(L25:L29,AN23)","v":0},{"$f":"AO23/(AQ4-AO25)","v":0},{"$f":"IF(AP23=0,0,(AP23*((LOG(AP23))/LOG(2))))","v":0},null,{"$f":"N23","v":21111},{"$f":"COUNTIF(L30:L33,AS23)","v":0},{"$f":"AT23/(AV4-AT25)","v":0},{"$f":"IF(AU23=0,0,(AU23*((LOG(AU23))/LOG(2))))","v":0}]
[21,5010,22,5027,24,5160,14,5178,24,5195,0,22212,null,21112,{"$f":"COUNTIF($L$7:$L$500,N24)","v":0},{"$f":"O24/$Q$4","v":0},{"$f":"IF(P24=0,0,(P24*((LOG(P24))/LOG(2))))","v":0},null,null,{"$f":"N24","v":21112},{"$f":"COUNTIF(L7:L11,T24)","v":0},{"$f":"U24/(W4-U25)","v":0},{"$f":"IF(V24=0,0,(V24*((LOG(V24))/LOG(2))))","v":0},null,{"$f":"N24","v":21112},{"$f":"COUNTIF(L12:L15,Y24)","v":0},{"$f":"Z24/(AB4-Z25)","v":0},{"$f":"IF(AA24=0,0,(AA24*((LOG(AA24))/LOG(2))))","v":0},null,{"$f":"N24","v":21112},{"$f":"COUNTIF(L16:L20,AD24)","v":0},{"$f":"AE24/(AG4-AE25)","v":0},{"$f":"IF(AF24=0,0,(AF24*((LOG(AF24))/LOG(2))))","v":0},null,{"$f":"N24","v":21112},{"$f":"COUNTIF(L21:L24,AI24)","v":0},{"$f":"AJ24/(AL4-AJ25)","v":0},{"$f":"IF(AK24=0,0,(AK24*((LOG(AK24))/LOG(2))))","v":0},null,{"$f":"N24","v":21112},{"$f":"COUNTIF(L25:L29,AN24)","v":0},{"$f":"AO24/(AQ4-AO25)","v":0},{"$f":"IF(AP24=0,0,(AP24*((LOG(AP24))/LOG(2))))","v":0},null,{"$f":"N24","v":21112},{"$f":"COUNTIF(L30:L33,AS24)","v":0},{"$f":"AT24/(AV4-AT25)","v":0},{"$f":"IF(AU24=0,0,(AU24*((LOG(AU24))/LOG(2))))","v":0}]
[12,6366,24,6417,24,6433,23,6487,24,6564,0,12222,null,21121,{"$f":"COUNTIF($L$7:$L$500,N25)","v":0},{"$f":"O25/$Q$4","v":0},{"$f":"IF(P25=0,0,(P25*((LOG(P25))/LOG(2))))","v":0},null,null,{"$f":"N25","v":21121},{"$f":"COUNTIF(L7:L11,T25)","v":0},null,null,null,{"$f":"N25","v":21121},{"$f":"COUNTIF(L12:L15,Y25)","v":0},null,null,null,{"$f":"N25","v":21121},{"$f":"COUNTIF(L16:L20,AD25)","v":0},null,null,null,{"$f":"N25","v":21121},{"$f":"COUNTIF(L21:L24,AI25)","v":0},null,null,null,{"$f":"N25","v":21121},{"$f":"COUNTIF(L25:L29,AN25)","v":0},null,null,null,{"$f":"N25","v":21121},{"$f":"COUNTIF(L30:L33,AS25)","v":0}]
[12,7655,24,7681,24,7712,14,7724,24,7804,0,12212,null,21122,{"$f":"COUNTIF($L$7:$L$500,N26)","v":1},{"$f":"O26/$Q$4","v":3.7037037037037035E-2},{"$f":"IF(P26=0,0,(P26*((LOG(P26))/LOG(2))))","v":-0.1761069445245729},null,null,{"$f":"N26","v":21122},{"$f":"COUNTIF(L7:L11,T26)","v":0},{"$f":"U26/(W4-U25)","v":0},{"$f":"IF(V26=0,0,(V26*((LOG(V26))/LOG(2))))","v":0},null,{"$f":"N26","v":21122},{"$f":"COUNTIF(L12:L15,Y26)","v":0},{"$f":"Z26/(AB4-Z25)","v":0},{"$f":"IF(AA26=0,0,(AA26*((LOG(AA26))/LOG(2))))","v":0},null,{"$f":"N26","v":21122},{"$f":"COUNTIF(L16:L20,AD26)","v":0},{"$f":"AE26/(AG4-AE25)","v":0},{"$f":"IF(AF26=0,0,(AF26*((LOG(AF26))/LOG(2))))","v":0},null,{"$f":"N26","v":21122},{"$f":"COUNTIF(L21:L24,AI26)","v":0},{"$f":"AJ26/(AL4-AJ25)","v":0},{"$f":"IF(AK26=0,0,(AK26*((LOG(AK26))/LOG(2))))","v":0},null,{"$f":"N26","v":21122},{"$f":"COUNTIF(L25:L29,AN26)","v":0},{"$f":"AO26/(AQ4-AO25)","v":0},{"$f":"IF(AP26=0,0,(AP26*((LOG(AP26))/LOG(2))))","v":0},null,{"$f":"N26","v":21122},{"$f":"COUNTIF(L30:L33,AS26)","v":1},{"$f":"AT26/(AV4-AT25)","v":0.25},{"$f":"IF(AU26=0,0,(AU26*((LOG(AU26))/LOG(2))))","v":-0.5}]
[21,7974,22,7986,13,8001,23,8026,13,8072,0,22121,null,21211,{"$f":"COUNTIF($L$7:$L$500,N27)","v":0},{"$f":"O27/$Q$4","v":0},{"$f":"IF(P27=0,0,(P27*((LOG(P27))/LOG(2))))","v":0},null,null,{"$f":"N27","v":21211},{"$f":"COUNTIF(L7:L11,T27)","v":0},{"$f":"U27/(W4-U25)","v":0},{"$f":"IF(V27=0,0,(V27*((LOG(V27))/LOG(2))))","v":0},null,{"$f":"N27","v":21211},{"$f":"COUNTIF(L12:L15,Y27)","v":0},{"$f":"Z27/(AB4-Z25)","v":0},{"$f":"IF(AA27=0,0,(AA27*((LOG(AA27))/LOG(2))))","v":0},null,{"$f":"N27","v":21211},{"$f":"COUNTIF(L16:L20,AD27)","v":0},{"$f":"AE27/(AG4-AE25)","v":0},{"$f":"IF(AF27=0,0,(AF27*((LOG(AF27))/LOG(2))))","v":0},null,{"$f":"N27","v":21211},{"$f":"COUNTIF(L21:L24,AI27)","v":0},{"$f":"AJ27/(AL4-AJ25)","v":0},{"$f":"IF(AK27=0,0,(AK27*((LOG(AK27))/LOG(2))))","v":0},null,{"$f":"N27","v":21211},{"$f":"COUNTIF(L25:L29,AN27)","v":0},{"$f":"AO27/(AQ4-AO25)","v":0},{"$f":"IF(AP27=0,0,(AP27*((LOG(AP27))/LOG(2))))","v":0},null,{"$f":"N27","v":21211},{"$f":"COUNTIF(L30:L33,AS27)","v":0},{"$f":"AT27/(AV4-AT25)","v":0},{"$f":"IF(AU27=0,0,(AU27*((LOG(AU27))/LOG(2))))","v":0}]
[12,8186,24,8197,24,8209,14,8220,13,8243,0,12211,null,21212,{"$f":"COUNTIF($L$7:$L$500,N28)","v":5},{"$f":"O28/$Q$4","v":0.18518518518518517},{"$f":"IF(P28=0,0,(P28*((LOG(P28))/LOG(2))))","v":-0.45054803838446406},null,null,{"$f":"N28","v":21212},{"$f":"COUNTIF(L7:L11,T28)","v":1},{"$f":"U28/(W4-U25)","v":0.2},{"$f":"IF(V28=0,0,(V28*((LOG(V28))/LOG(2))))","v":-0.46438561897747244},null,{"$f":"N28","v":21212},{"$f":"COUNTIF(L12:L15,Y28)","v":2},{"$f":"Z28/(AB4-Z25)","v":0.5},{"$f":"IF(AA28=0,0,(AA28*((LOG(AA28))/LOG(2))))","v":-0.5},null,{"$f":"N28","v":21212},{"$f":"COUNTIF(L16:L20,AD28)","v":0},{"$f":"AE28/(AG4-AE25)","v":0},{"$f":"IF(AF28=0,0,(AF28*((LOG(AF28))/LOG(2))))","v":0},null,{"$f":"N28","v":21212},{"$f":"COUNTIF(L21:L24,AI28)","v":0},{"$f":"AJ28/(AL4-AJ25)","v":0},{"$f":"IF(AK28=0,0,(AK28*((LOG(AK28))/LOG(2))))","v":0},null,{"$f":"N28","v":21212},{"$f":"COUNTIF(L25:L29,AN28)","v":0},{"$f":"AO28/(AQ4-AO25)","v":0},{"$f":"IF(AP28=0,0,(AP28*((LOG(AP28))/LOG(2))))","v":0},null,{"$f":"N28","v":21212},{"$f":"COUNTIF(L30:L33,AS28)","v":2},{"$f":"AT28/(AV4-AT25)","v":0.5},{"$f":"IF(AU28=0,0,(AU28*((LOG(AU28))/LOG(2))))","v":-0.5}]
[12,8380,24,8392,13,8406,14,8431,24,8443,0,12112,null,21221,{"$f":"COUNTIF($L$7:$L$500,N29)","v":1},{"$f":"O29/$Q$4","v":3.7037037037037035E-2},{"$f":"IF(P29=0,0,(P29*((LOG(P29))/LOG(2))))","v":-0.1761069445245729},null,null,{"$f":"N29","v":21221},{"$f":"COUNTIF(L7:L11,T29)","v":1},{"$f":"U29/(W4-U25)","v":0.2},{"$f":"IF(V29=0,0,(V29*((LOG(V29))/LOG(2))))","v":-0.46438561897747244},null,{"$f":"N29","v":21221},{"$f":"COUNTIF(L12:L15,Y29)","v":0},{"$f":"Z29/(AB4-Z25)","v":0},{"$f":"IF(AA29=0,0,(AA29*((LOG(AA29))/LOG(2))))","v":0},null,{"$f":"N29","v":21221},{"$f":"COUNTIF(L16:L20,AD29)","v":0},{"$f":"AE29/(AG4-AE25)","v":0},{"$f":"IF(AF29=0,0,(AF29*((LOG(AF29))/LOG(2))))","v":0},null,{"$f":"N29","v":21221},{"$f":"COUNTIF(L21:L24,AI29)","v":0},{"$f":"AJ29/(AL4-AJ25)","v":0},{"$f":"IF(AK29=0,0,(AK29*((LOG(AK29))/LOG(2))))","v":0},null,{"$f":"N29","v":21221},{"$f":"COUNTIF(L25:L29,AN29)","v":0},{"$f":"AO29/(AQ4-AO25)","v":0},{"$f":"IF(AP29=0,0,(AP29*((LOG(AP29))/LOG(2))))","v":0},null,{"$f":"N29","v":21221},{"$f":"COUNTIF(L30:L33,AS29)","v":0},{"$f":"AT29/(AV4-AT25)","v":0},{"$f":"IF(AU29=0,0,(AU29*((LOG(AU29))/LOG(2))))","v":0}]
[21,8612,11,8632,22,8643,14,8657,24,8671,0,21212,null,21222,{"$f":"COUNTIF($L$7:$L$500,N30)","v":2},{"$f":"O30/$Q$4","v":7.407407407407407E-2},{"$f":"IF(P30=0,0,(P30*((LOG(P30))/LOG(2))))","v":-0.27813981497507173},null,null,{"$f":"N30","v":21222},{"$f":"COUNTIF(L7:L11,T30)","v":0},{"$f":"U30/(W4-U25)","v":0},{"$f":"IF(V30=0,0,(V30*((LOG(V30))/LOG(2))))","v":0},null,{"$f":"N30","v":21222},{"$f":"COUNTIF(L12:L15,Y30)","v":0},{"$f":"Z30/(AB4-Z25)","v":0},{"$f":"IF(AA30=0,0,(AA30*((LOG(AA30))/LOG(2))))","v":0},null,{"$f":"N30","v":21222},{"$f":"COUNTIF(L16:L20,AD30)","v":0},{"$f":"AE30/(AG4-AE25)","v":0},{"$f":"IF(AF30=0,0,(AF30*((LOG(AF30))/LOG(2))))","v":0},null,{"$f":"N30","v":21222},{"$f":"COUNTIF(L21:L24,AI30)","v":2},{"$f":"AJ30/(AL4-AJ25)","v":0.5},{"$f":"IF(AK30=0,0,(AK30*((LOG(AK30))/LOG(2))))","v":-0.5},null,{"$f":"N30","v":21222},{"$f":"COUNTIF(L25:L29,AN30)","v":0},{"$f":"AO30/(AQ4-AO25)","v":0},{"$f":"IF(AP30=0,0,(AP30*((LOG(AP30))/LOG(2))))","v":0},null,{"$f":"N30","v":21222},{"$f":"COUNTIF(L30:L33,AS30)","v":0},{"$f":"AT30/(AV4-AT25)","v":0},{"$f":"IF(AU30=0,0,(AU30*((LOG(AU30))/LOG(2))))","v":0}]
[21,8797,11,8830,11,8853,21,8864,22,8885,0,21122,null,22111,{"$f":"COUNTIF($L$7:$L$500,N31)","v":0},{"$f":"O31/$Q$4","v":0},{"$f":"IF(P31=0,0,(P31*((LOG(P31))/LOG(2))))","v":0},null,null,{"$f":"N31","v":22111},{"$f":"COUNTIF(L7:L11,T31)","v":0},{"$f":"U31/(W4-U25)","v":0},{"$f":"IF(V31=0,0,(V31*((LOG(V31))/LOG(2))))","v":0},null,{"$f":"N31","v":22111},{"$f":"COUNTIF(L12:L15,Y31)","v":0},{"$f":"Z31/(AB4-Z25)","v":0},{"$f":"IF(AA31=0,0,(AA31*((LOG(AA31))/LOG(2))))","v":0},null,{"$f":"N31","v":22111},{"$f":"COUNTIF(L16:L20,AD31)","v":0},{"$f":"AE31/(AG4-AE25)","v":0},{"$f":"IF(AF31=0,0,(AF31*((LOG(AF31))/LOG(2))))","v":0},null,{"$f":"N31","v":22111},{"$f":"COUNTIF(L21:L24,AI31)","v":0},{"$f":"AJ31/(AL4-AJ25)","v":0},{"$f":"IF(AK31=0,0,(AK31*((LOG(AK31))/LOG(2))))","v":0},null,{"$f":"N31","v":22111},{"$f":"COUNTIF(L25:L29,AN31)","v":0},{"$f":"AO31/(AQ4-AO25)","v":0},{"$f":"IF(AP31=0,0,(AP31*((LOG(AP31))/LOG(2))))","v":0},null,{"$f":"N31","v":22111},{"$f":"COUNTIF(L30:L33,AS31)","v":0},{"$f":"AT31/(AV4-AT25)","v":0},{"$f":"IF(AU31=0,0,(AU31*((LOG(AU31))/LOG(2))))","v":0}]
[21,9024,11,9035,22,9046,14,9145,24,9156,0,21212,null,22112,{"$f":"COUNTIF($L$7:$L$500,N32)","v":0},{"$f":"O32/$Q$4","v":0},{"$f":"IF(P32=0,0,(P32*((LOG(P32))/LOG(2))))","v":0},null,null,{"$f":"N32","v":22112},{"$f":"COUNTIF(L7:L11,T32)","v":0},{"$f":"U32/(W4-U25)","v":0},{"$f":"IF(V32=0,0,(V32*((LOG(V32))/LOG(2))))","v":0},null,{"$f":"N32","v":22112},{"$f":"COUNTIF(L12:L15,Y32)","v":0},{"$f":"Z32/(AB4-Z25)","v":0},{"$f":"IF(AA32=0,0,(AA32*((LOG(AA32))/LOG(2))))","v":0},null,{"$f":"N32","v":22112},{"$f":"COUNTIF(L16:L20,AD32)","v":0},{"$f":"AE32/(AG4-AE25)","v":0},{"$f":"IF(AF32=0,0,(AF32*((LOG(AF32))/LOG(2))))","v":0},null,{"$f":"N32","v":22112},{"$f":"COUNTIF(L21:L24,AI32)","v":0},{"$f":"AJ32/(AL4-AJ25)","v":0},{"$f":"IF(AK32=0,0,(AK32*((LOG(AK32))/LOG(2))))","v":0},null,{"$f":"N32","v":22112},{"$f":"COUNTIF(L25:L29,AN32)","v":0},{"$f":"AO32/(AQ4-AO25)","v":0},{"$f":"IF(AP32=0,0,(AP32*((LOG(AP32))/LOG(2))))","v":0},null,{"$f":"N32","v":22112},{"$f":"COUNTIF(L30:L33,AS32)","v":0},{"$f":"AT32/(AV4-AT25)","v":0},{"$f":"IF(AU32=0,0,(AU32*((LOG(AU32))/LOG(2))))","v":0}]
[21,20429,22,20443,24,20473,23,20486,24,20514,0,22222,null,22121,{"$f":"COUNTIF($L$7:$L$500,N33)","v":1},{"$f":"O33/$Q$4","v":3.7037037037037035E-2},{"$f":"IF(P33=0,0,(P33*((LOG(P33))/LOG(2))))","v":-0.1761069445245729},null,null,{"$f":"N33","v":22121},{"$f":"COUNTIF(L7:L11,T33)","v":0},{"$f":"U33/(W4-U25)","v":0},{"$f":"IF(V33=0,0,(V33*((LOG(V33))/LOG(2))))","v":0},null,{"$f":"N33","v":22121},{"$f":"COUNTIF(L12:L15,Y33)","v":0},{"$f":"Z33/(AB4-Z25)","v":0},{"$f":"IF(AA33=0,0,(AA33*((LOG(AA33))/LOG(2))))","v":0},null,{"$f":"N33","v":22121},{"$f":"COUNTIF(L16:L20,AD33)","v":0},{"$f":"AE33/(AG4-AE25)","v":0},{"$f":"IF(AF33=0,0,(AF33*((LOG(AF33))/LOG(2))))","v":0},null,{"$f":"N33","v":22121},{"$f":"COUNTIF(L21:L24,AI33)","v":0},{"$f":"AJ33/(AL4-AJ25)","v":0},{"$f":"IF(AK33=0,0,(AK33*((LOG(AK33))/LOG(2))))","v":0},null,{"$f":"N33","v":22121},{"$f":"COUNTIF(L25:L29,AN33)","v":1},{"$f":"AO33/(AQ4-AO25)","v":0.2},{"$f":"IF(AP33=0,0,(AP33*((LOG(AP33))/LOG(2))))","v":-0.46438561897747244},null,{"$f":"N33","v":22121},{"$f":"COUNTIF(L30:L33,AS33)","v":0},{"$f":"AT33/(AV4-AT25)","v":0},{"$f":"IF(AU33=0,0,(AU33*((LOG(AU33))/LOG(2))))","v":0}]
[null,null,null,null,null,null,null,null,null,null,null,null,null,22122,{"$f":"COUNTIF($L$7:$L$500,N34)","v":0},{"$f":"O34/$Q$4","v":0},{"$f":"IF(P34=0,0,(P34*((LOG(P34))/LOG(2))))","v":0},null,null,{"$f":"N34","v":22122},{"$f":"COUNTIF(L7:L11,T34)","v":0},{"$f":"U34/(W4-U25)","v":0},{"$f":"IF(V34=0,0,(V34*((LOG(V34))/LOG(2))))","v":0},null,{"$f":"N34","v":22122},{"$f":"COUNTIF(L12:L15,Y34)","v":0},{"$f":"Z34/(AB4-Z25)","v":0},{"$f":"IF(AA34=0,0,(AA34*((LOG(AA34))/LOG(2))))","v":0},null,{"$f":"N34","v":22122},{"$f":"COUNTIF(L16:L20,AD34)","v":0},{"$f":"AE34/(AG4-AE25)","v":0},{"$f":"IF(AF34=0,0,(AF34*((LOG(AF34))/LOG(2))))","v":0},null,{"$f":"N34","v":22122},{"$f":"COUNTIF(L21:L24,AI34)","v":0},{"$f":"AJ34/(AL4-AJ25)","v":0},{"$f":"IF(AK34=0,0,(AK34*((LOG(AK34))/LOG(2))))","v":0},null,{"$f":"N34","v":22122},{"$f":"COUNTIF(L25:L29,AN34)","v":0},{"$f":"AO34/(AQ4-AO25)","v":0},{"$f":"IF(AP34=0,0,(AP34*((LOG(AP34))/LOG(2))))","v":0},null,{"$f":"N34","v":22122},{"$f":"COUNTIF(L30:L33,AS34)","v":0},{"$f":"AT34/(AV4-AT25)","v":0},{"$f":"IF(AU34=0,0,(AU34*((LOG(AU34))/LOG(2))))","v":0}]
[null,null,null,null,null,null,null,null,null,null,null,null,null,22211,{"$f":"COUNTIF($L$7:$L$500,N35)","v":0},{"$f":"O35/$Q$4","v":0},{"$f":"IF(P35=0,0,(P35*((LOG(P35))/LOG(2))))","v":0},null,null,{"$f":"N35","v":22211},{"$f":"COUNTIF(L7:L11,T35)","v":0},{"$f":"U35/(W4-U25)","v":0},{"$f":"IF(V35=0,0,(V35*((LOG(V35))/LOG(2))))","v":0},null,{"$f":"N35","v":22211},{"$f":"COUNTIF(L12:L15,Y35)","v":0},{"$f":"Z35/(AB4-Z25)","v":0},{"$f":"IF(AA35=0,0,(AA35*((LOG(AA35))/LOG(2))))","v":0},null,{"$f":"N35","v":22211},{"$f":"COUNTIF(L16:L20,AD35)","v":0},{"$f":"AE35/(AG4-AE25)","v":0},{"$f":"IF(AF35=0,0,(AF35*((LOG(AF35))/LOG(2))))","v":0},null,{"$f":"N35","v":22211},{"$f":"COUNTIF(L21:L24,AI35)","v":0},{"$f":"AJ35/(AL4-AJ25)","v":0},{"$f":"IF(AK35=0,0,(AK35*((LOG(AK35))/LOG(2))))","v":0},null,{"$f":"N35","v":22211},{"$f":"COUNTIF(L25:L29,AN35)","v":0},{"$f":"AO35/(AQ4-AO25)","v":0},{"$f":"IF(AP35=0,0,(AP35*((LOG(AP35))/LOG(2))))","v":0},null,{"$f":"N35","v":22211},{"$f":"COUNTIF(L30:L33,AS35)","v":0},{"$f":"AT35/(AV4-AT25)","v":0},{"$f":"IF(AU35=0,0,(AU35*((LOG(AU35))/LOG(2))))","v":0}]
[null,null,null,null,null,null,null,null,null,null,null,null,null,22212,{"$f":"COUNTIF($L$7:$L$500,N36)","v":3},{"$f":"O36/$Q$4","v":0.1111111111111111},{"$f":"IF(P36=0,0,(P36*((LOG(P36))/LOG(2))))","v":-0.3522138890491458},null,null,{"$f":"N36","v":22212},{"$f":"COUNTIF(L7:L11,T36)","v":2},{"$f":"U36/(W4-U25)","v":0.4},{"$f":"IF(V36=0,0,(V36*((LOG(V36))/LOG(2))))","v":-0.52877123795494496},null,{"$f":"N36","v":22212},{"$f":"COUNTIF(L12:L15,Y36)","v":0},{"$f":"Z36/(AB4-Z25)","v":0},{"$f":"IF(AA36=0,0,(AA36*((LOG(AA36))/LOG(2))))","v":0},null,{"$f":"N36","v":22212},{"$f":"COUNTIF(L16:L20,AD36)","v":0},{"$f":"AE36/(AG4-AE25)","v":0},{"$f":"IF(AF36=0,0,(AF36*((LOG(AF36))/LOG(2))))","v":0},null,{"$f":"N36","v":22212},{"$f":"COUNTIF(L21:L24,AI36)","v":1},{"$f":"AJ36/(AL4-AJ25)","v":0.25},{"$f":"IF(AK36=0,0,(AK36*((LOG(AK36))/LOG(2))))","v":-0.5},null,{"$f":"N36","v":22212},{"$f":"COUNTIF(L25:L29,AN36)","v":0},{"$f":"AO36/(AQ4-AO25)","v":0},{"$f":"IF(AP36=0,0,(AP36*((LOG(AP36))/LOG(2))))","v":0},null,{"$f":"N36","v":22212},{"$f":"COUNTIF(L30:L33,AS36)","v":0},{"$f":"AT36/(AV4-AT25)","v":0},{"$f":"IF(AU36=0,0,(AU36*((LOG(AU36))/LOG(2))))","v":0}]
[null,null,null,null,null,null,null,null,null,null,null,null,null,22221,{"$f":"COUNTIF($L$7:$L$500,N37)","v":1},{"$f":"O37/$Q$4","v":3.7037037037037035E-2},{"$f":"IF(P37=0,0,(P37*((LOG(P37))/LOG(2))))","v":-0.1761069445245729},null,null,{"$f":"N37","v":22221},{"$f":"COUNTIF(L7:L11,T37)","v":1},{"$f":"U37/(W4-U25)","v":0.2},{"$f":"IF(V37=0,0,(V37*((LOG(V37))/LOG(2))))","v":-0.46438561897747244},null,{"$f":"N37","v":22221},{"$f":"COUNTIF(L12:L15,Y37)","v":0},{"$f":"Z37/(AB4-Z25)","v":0},{"$f":"IF(AA37=0,0,(AA37*((LOG(AA37))/LOG(2))))","v":0},null,{"$f":"N37","v":22221},{"$f":"COUNTIF(L16:L20,AD37)","v":0},{"$f":"AE37/(AG4-AE25)","v":0},{"$f":"IF(AF37=0,0,(AF37*((LOG(AF37))/LOG(2))))","v":0},null,{"$f":"N37","v":22221},{"$f":"COUNTIF(L21:L24,AI37)","v":0},{"$f":"AJ37/(AL4-AJ25)","v":0},{"$f":"IF(AK37=0,0,(AK37*((LOG(AK37))/LOG(2))))","v":0},null,{"$f":"N37","v":22221},{"$f":"COUNTIF(L25:L29,AN37)","v":0},{"$f":"AO37/(AQ4-AO25)","v":0},{"$f":"IF(AP37=0,0,(AP37*((LOG(AP37))/LOG(2))))","v":0},null,{"$f":"N37","v":22221},{"$f":"COUNTIF(L30:L33,AS37)","v":0},{"$f":"AT37/(AV4-AT25)","v":0},{"$f":"IF(AU37=0,0,(AU37*((LOG(AU37))/LOG(2))))","v":0}]
[null,null,null,null,null,null,null,null,null,null,null,null,null,22222,{"$f":"COUNTIF($L$7:$L$500,N38)","v":1},{"$f":"O38/$Q$4","v":3.7037037037037035E-2},{"$f":"IF(P38=0,0,(P38*((LOG(P38))/LOG(2))))","v":-0.1761069445245729},null,null,{"$f":"N38","v":22222},{"$f":"COUNTIF(L7:L11,T38)","v":0},{"$f":"U38/(W4-U25)","v":0},{"$f":"IF(V38=0,0,(V38*((LOG(V38))/LOG(2))))","v":0},null,{"$f":"N38","v":22222},{"$f":"COUNTIF(L12:L15,Y38)","v":0},{"$f":"Z38/(AB4-Z25)","v":0},{"$f":"IF(AA38=0,0,(AA38*((LOG(AA38))/LOG(2))))","v":0},null,{"$f":"N38","v":22222},{"$f":"COUNTIF(L16:L20,AD38)","v":0},{"$f":"AE38/(AG4-AE25)","v":0},{"$f":"IF(AF38=0,0,(AF38*((LOG(AF38))/LOG(2))))","v":0},null,{"$f":"N38","v":22222},{"$f":"COUNTIF(L21:L24,AI38)","v":0},{"$f":"AJ38/(AL4-AJ25)","v":0},{"$f":"IF(AK38=0,0,(AK38*((LOG(AK38))/LOG(2))))","v":0},null,{"$f":"N38","v":22222},{"$f":"COUNTIF(L25:L29,AN38)","v":0},{"$f":"AO38/(AQ4-AO25)","v":0},{"$f":"IF(AP38=0,0,(AP38*((LOG(AP38))/LOG(2))))","v":0},null,{"$f":"N38","v":22222},{"$f":"COUNTIF(L30:L33,AS38)","v":1},{"$f":"AT38/(AV4-AT25)","v":0.25},{"$f":"IF(AU38=0,0,(AU38*((LOG(AU38))/LOG(2))))","v":-0.5}]
[null,null,null,null,null,null,null,null,null,null,null,null,null,null,null,{"$f":"SUM(P7:P38)","v":1},{"$f":"-SUM(Q7:Q38)","v":3.5282424844314786},null,null,null,null,{"$f":"SUM(V7:V38)","v":1},{"$f":"-SUM(W7:W38)","v":1.9219280948873623},null,null,null,{"$f":"SUM(AA7:AA38)","v":1},{"$f":"-SUM(AB7:AB38)","v":1.5},null,null,null,{"$f":"SUM(AF7:AF38)","v":1},{"$f":"-SUM(AG7:AG38)","v":0.72192809488736231},null,null,null,{"$f":"SUM(AK7:AK38)","v":1},{"$f":"-SUM(AL7:AL38)","v":1.5},null,null,null,{"$f":"SUM(AP7:AP38)","v":1},{"$f":"-SUM(AQ7:AQ38)","v":2.3219280948873622},null,null,null,{"$f":"SUM(AU7:AU38)","v":1},{"$f":"-SUM(AV7:AV38)","v":1.5}]
[null,null,null,null,null,null,null,null,null,null,null,null,null,null,null,"U=",{"$f":"Q39/(LOG(Q4)/LOG(2))","v":0.74202438708089991},null,null,null,null,"U1=",{"$f":"W39/(LOG(W4)/LOG(2))","v":0.82772937677064262},null,null,null,"U2=",{"$f":"AB39/(LOG(AB4)/LOG(2))","v":0.75},null,null,null,"U3=",{"$f":"AG39/(LOG(AG4)/LOG(2))","v":0.31091750708257104},null,null,null,"U4=",{"$f":"AL39/(LOG(AL4)/LOG(2))","v":0.75},null,null,null,"U5=",{"$f":"AQ39/(LOG(AQ4)/LOG(2))","v":0.99999999999999978},null,null,null,"U6=",{"$f":"AV39/(LOG(AV4)/LOG(2))","v":0.75}]
[]
[]
[null,null,null,null,null,null,null,null,null,null,null,null,null,"Total Target Seq"]
[null,null,null,null,null,null,null,null,null,null,null,null,null,{"$f":"COUNTIF(L7:L33,G3)","v":0},null,5,4,5,4,5,4]
[null,null,null,null,null,null,null,null,null,null,null,null,null,null,null,"% of reinforcement given in 6 equal intervals based on number of trials "]
[null,null,null,null,null,null,null,null,null,null,null,null,null,null,null,"%_1","%_2","%_3","%_4","%_5","%_6"]
[null,null,null,null,null,null,null,null,null,null,null,null,null,null,"target sequence",{"$f":"$G$3","v":21121},{"$f":"$G$3","v":21121},{"$f":"$G$3","v":21121},{"$f":"$G$3","v":21121},{"$f":"$G$3","v":21121},{"$f":"$G$3","v":21121}]
[null,null,null,null,null,null,null,null,null,null,null,null,null,null,"total reinforcement",{"$f":"U25","v":0},{"$f":"Z25","v":0},{"$f":"AE25","v":0},{"$f":"AJ25","v":0},{"$f":"AO25","v":0},{"$f":"AT25","v":0}]
[null,null,null,null,null,null,null,null,null,null,null,null,null,null,"% target"]
[null,null,null,null,null,null,null,null,null,null,null,null,null,null,"CCRF"]
[null,null,null,null,null,null,null,null,null,null,null,null,null,null,"% CCRf"]
[null,null,null,null,null,null,null,null,null,null,null,null,null,null,"average response rate",{"$f":"J11/P44","v":167},{"$f":"(J15-J11)/Q44","v":172.75},{"$f":"(J20-J15)/R44","v":161.6},{"$f":"(J24-J20)/S44","v":715.25},{"$f":"(J29-J24)/T44","v":649.6},{"$f":"(J33-J29)/U44","v":3017.75}]

{"sheet":"!N110A10.105","index":12,"n_rows":52,"n_cols":48,"rows_kept":52,"cut":false,"hidden":false,"merged":[[4,39,4,42],[5,39,5,40],[4,44,4,47],[5,44,5,45],[4,24,4,27],[5,24,5,25],[4,29,4,32],[5,29,5,30],[4,34,4,37],[5,34,5,35],[1,1,1,2],[5,13,5,14],[42,13,42,14],[43,13,43,14],[4,19,4,22],[5,19,5,20]]}
["Report for:!N110A10.105"]
["Date:","<date>"]
["Hen:","<hen>",null,null,null,"Correct Sequence",{"$f":"Start!J2","v":21121},null,null,null,null,null,null,null,null,"Total Sequences in Data",{"$f":"4994-COUNTBLANK(L7:L5000)","v":26},null,null,null,null,"Total Sequences in Block Data",{"$f":"COUNTA(L7:L10)","v":4},null,null,null,"Total Sequences in Block Data",{"$f":"COUNTA(L11:L15)","v":5},null,null,null,"Total Sequences in Block Data",{"$f":"COUNTA(L16:L19)","v":4},null,null,null,"Total Sequences in Block Data",{"$f":"COUNTA(L20:L23)","v":4},null,null,null,"Total Sequences in Block Data",{"$f":"COUNTA(L24:L28)","v":5},null,null,null,"Total Sequences in Block Data",{"$f":"COUNTA(L29:L32)","v":4}]
[null,null,null,null,null,null,null,null,null,null,null,null,null,null,null,"Total Sequences in Summary",{"$f":"SUM(O7:O38)","v":26},null,null,null,null,"Total Sequences in Block Summary",{"$f":"SUM(U7:U38)","v":4},null,null,null,"Total Sequences in Block Summary",{"$f":"SUM(Z7:Z38)","v":5},null,null,null,"Total Sequences in Block Summary",{"$f":"SUM(AE7:AE38)","v":4},null,null,null,"Total Sequences in Block Summary",{"$f":"SUM(AJ7:AJ38)","v":4},null,null,null,"Total Sequences in Block Summary",{"$f":"SUM(AO7:AO38)","v":5},null,null,null,"Total Sequences in Block Summary",{"$f":"SUM(AT7:AT38)","v":4}]
[null,null,null,null,null,null,null,null,null,null,null,null,null,null,null,null,null,null,null,"Block 1",null,null,null,null,"Block 2",null,null,null,null,"Block 3",null,null,null,null,"Block 4",null,null,null,null,"Block 5",null,null,null,null,"Block 6"]
["Sequence\nComponent\n1","Time\n1","Sequence\nComponent\n2","Time\n2","Sequence\nComponent\n3","Time\n3","Sequence\nComponent\n4","Time\n4","Sequence\nComponent\n5","Time\n5","Correct?\n0=No 1=Yes","Sequence",null,"Frequency",null,"Relative Frequency","Variability",null,null,"Frequency",null,"Relative Frequency","Variability",null,"Frequency",null,"Relative Frequency","Variability",null,"Frequency",null,"Relative Frequency","Variability",null,"Frequency",null,"Relative Frequency","Variability",null,"Frequency",null,"Relative Frequency","Variability",null,"Frequency",null,"Relative Frequency","Variability"]
[12,18,13,35,24,44,14,61,24,71,0,11212,null,11111,{"$f":"COUNTIF($L$7:$L$500,N7)","v":0},{"$f":"O7/$Q$4","v":0},{"$f":"IF(P7=0,0,(P7*((LOG(P7))/LOG(2))))","v":0},null,null,{"$f":"N7","v":11111},{"$f":"COUNTIF(L7:L10,T7)","v":0},{"$f":"U7/(W4-U25)","v":0},{"$f":"IF(V7=0,0,(V7*((LOG(V7))/LOG(2))))","v":0},null,{"$f":"N7","v":11111},{"$f":"COUNTIF(L11:L15,Y7)","v":0},{"$f":"Z7/(AB4-Z25)","v":0},{"$f":"IF(AA7=0,0,(AA7*((LOG(AA7))/LOG(2))))","v":0},null,{"$f":"N7","v":11111},{"$f":"COUNTIF(L16:L19,AD7)","v":0},{"$f":"AE7/(AG4-AE25)","v":0},{"$f":"IF(AF7=0,0,(AF7*((LOG(AF7))/LOG(2))))","v":0},null,{"$f":"N7","v":11111},{"$f":"COUNTIF(L20:L23,AI7)","v":0},{"$f":"AJ7/(AL4-AJ25)","v":0},{"$f":"IF(AK7=0,0,(AK7*((LOG(AK7))/LOG(2))))","v":0},null,{"$f":"N7","v":11111},{"$f":"COUNTIF(L24:L28,AN7)","v":0},{"$f":"AO7/(AQ4-AO25)","v":0},{"$f":"IF(AP7=0,0,(AP7*((LOG(AP7))/LOG(2))))","v":0},null,{"$f":"N7","v":11111},{"$f":"COUNTIF(L29:L32,AS7)","v":0},{"$f":"AT7/(AV4-AT25)","v":0},{"$f":"IF(AU7=0,0,(AU7*((LOG(AU7))/LOG(2))))","v":0}]
[12,191,24,201,13,212,23,219,13,236,0,12121,null,11112,{"$f":"COUNTIF($L$7:$L$500,N8)","v":0},{"$f":"O8/$Q$4","v":0},{"$f":"IF(P8=0,0,(P8*((LOG(P8))/LOG(2))))","v":0},null,null,{"$f":"N8","v":11112},{"$f":"COUNTIF(L7:L10,T8)","v":0},{"$f":"U8/(W4-U25)","v":0},{"$f":"IF(V8=0,0,(V8*((LOG(V8))/LOG(2))))","v":0},null,{"$f":"N8","v":11112},{"$f":"COUNTIF(L11:L15,Y8)","v":0},{"$f":"Z8/(AB4-Z25)","v":0},{"$f":"IF(AA8=0,0,(AA8*((LOG(AA8))/LOG(2))))","v":0},null,{"$f":"N8","v":11112},{"$f":"COUNTIF(L16:L19,AD8)","v":0},{"$f":"AE8/(AG4-AE25)","v":0},{"$f":"IF(AF8=0,0,(AF8*((LOG(AF8))/LOG(2))))","v":0},null,{"$f":"N8","v":11112},{"$f":"COUNTIF(L20:L23,AI8)","v":0},{"$f":"AJ8/(AL4-AJ25)","v":0},{"$f":"IF(AK8=0,0,(AK8*((LOG(AK8))/LOG(2))))","v":0},null,{"$f":"N8","v":11112},{"$f":"COUNTIF(L24:L28,AN8)","v":0},{"$f":"AO8/(AQ4-AO25)","v":0},{"$f":"IF(AP8=0,0,(AP8*((LOG(AP8))/LOG(2))))","v":0},null,{"$f":"N8","v":11112},{"$f":"COUNTIF(L29:L32,AS8)","v":0},{"$f":"AT8/(AV4-AT25)","v":0},{"$f":"IF(AU8=0,0,(AU8*((LOG(AU8))/LOG(2))))","v":0}]
[21,356,11,379,22,386,14,401,24,410,0,21212,null,11121,{"$f":"COUNTIF($L$7:$L$500,N9)","v":0},{"$f":"O9/$Q$4","v":0},{"$f":"IF(P9=0,0,(P9*((LOG(P9))/LOG(2))))","v":0},null,null,{"$f":"N9","v":11121},{"$f":"COUNTIF(L7:L10,T9)","v":0},{"$f":"U9/(W4-U25)","v":0},{"$f":"IF(V9=0,0,(V9*((LOG(V9))/LOG(2))))","v":0},null,{"$f":"N9","v":11121},{"$f":"COUNTIF(L11:L15,Y9)","v":0},{"$f":"Z9/(AB4-Z25)","v":0},{"$f":"IF(AA9=0,0,(AA9*((LOG(AA9))/LOG(2))))","v":0},null,{"$f":"N9","v":11121},{"$f":"COUNTIF(L16:L19,AD9)","v":0},{"$f":"AE9/(AG4-AE25)","v":0},{"$f":"IF(AF9=0,0,(AF9*((LOG(AF9))/LOG(2))))","v":0},null,{"$f":"N9","v":11121},{"$f":"COUNTIF(L20:L23,AI9)","v":0},{"$f":"AJ9/(AL4-AJ25)","v":0},{"$f":"IF(AK9=0,0,(AK9*((LOG(AK9))/LOG(2))))","v":0},null,{"$f":"N9","v":11121},{"$f":"COUNTIF(L24:L28,AN9)","v":0},{"$f":"AO9/(AQ4-AO25)","v":0},{"$f":"IF(AP9=0,0,(AP9*((LOG(AP9))/LOG(2))))","v":0},null,{"$f":"N9","v":11121},{"$f":"COUNTIF(L29:L32,AS9)","v":0},{"$f":"AT9/(AV4-AT25)","v":0},{"$f":"IF(AU9=0,0,(AU9*((LOG(AU9))/LOG(2))))","v":0}]
[12,537,24,548,13,559,23,568,13,581,0,12121,null,11122,{"$f":"COUNTIF($L$7:$L$500,N10)","v":0},{"$f":"O10/$Q$4","v":0},{"$f":"IF(P10=0,0,(P10*((LOG(P10))/LOG(2))))","v":0},null,null,{"$f":"N10","v":11122},{"$f":"COUNTIF(L7:L10,T10)","v":0},{"$f":"U10/(W4-U25)","v":0},{"$f":"IF(V10=0,0,(V10*((LOG(V10))/LOG(2))))","v":0},null,{"$f":"N10","v":11122},{"$f":"COUNTIF(L11:L15,Y10)","v":0},{"$f":"Z10/(AB4-Z25)","v":0},{"$f":"IF(AA10=0,0,(AA10*((LOG(AA10))/LOG(2))))","v":0},null,{"$f":"N10","v":11122},{"$f":"COUNTIF(L16:L19,AD10)","v":0},{"$f":"AE10/(AG4-AE25)","v":0},{"$f":"IF(AF10=0,0,(AF10*((LOG(AF10))/LOG(2))))","v":0},null,{"$f":"N10","v":11122},{"$f":"COUNTIF(L20:L23,AI10)","v":0},{"$f":"AJ10/(AL4-AJ25)","v":0},{"$f":"IF(AK10=0,0,(AK10*((LOG(AK10))/LOG(2))))","v":0},null,{"$f":"N10","v":11122},{"$f":"COUNTIF(L24:L28,AN10)","v":0},{"$f":"AO10/(AQ4-AO25)","v":0},{"$f":"IF(AP10=0,0,(AP10*((LOG(AP10))/LOG(2))))","v":0},null,{"$f":"N10","v":11122},{"$f":"COUNTIF(L29:L32,AS10)","v":0},{"$f":"AT10/(AV4-AT25)","v":0},{"$f":"IF(AU10=0,0,(AU10*((LOG(AU10))/LOG(2))))","v":0}]
[12,689,24,696,13,707,23,713,13,725,0,12121,null,11211,{"$f":"COUNTIF($L$7:$L$500,N11)","v":0},{"$f":"O11/$Q$4","v":0},{"$f":"IF(P11=0,0,(P11*((LOG(P11))/LOG(2))))","v":0},null,null,{"$f":"N11","v":11211},{"$f":"COUNTIF(L7:L10,T11)","v":0},{"$f":"U11/(W4-U25)","v":0},{"$f":"IF(V11=0,0,(V11*((LOG(V11))/LOG(2))))","v":0},null,{"$f":"N11","v":11211},{"$f":"COUNTIF(L11:L15,Y11)","v":0},{"$f":"Z11/(AB4-Z25)","v":0},{"$f":"IF(AA11=0,0,(AA11*((LOG(AA11))/LOG(2))))","v":0},null,{"$f":"N11","v":11211},{"$f":"COUNTIF(L16:L19,AD11)","v":0},{"$f":"AE11/(AG4-AE25)","v":0},{"$f":"IF(AF11=0,0,(AF11*((LOG(AF11))/LOG(2))))","v":0},null,{"$f":"N11","v":11211},{"$f":"COUNTIF(L20:L23,AI11)","v":0},{"$f":"AJ11/(AL4-AJ25)","v":0},{"$f":"IF(AK11=0,0,(AK11*((LOG(AK11))/LOG(2))))","v":0},null,{"$f":"N11","v":11211},{"$f":"COUNTIF(L24:L28,AN11)","v":0},{"$f":"AO11/(AQ4-AO25)","v":0},{"$f":"IF(AP11=0,0,(AP11*((LOG(AP11))/LOG(2))))","v":0},null,{"$f":"N11","v":11211},{"$f":"COUNTIF(L29:L32,AS11)","v":0},{"$f":"AT11/(AV4-AT25)","v":0},{"$f":"IF(AU11=0,0,(AU11*((LOG(AU11))/LOG(2))))","v":0}]
[21,848,22,861,24,873,14,884,24,893,0,22212,null,11212,{"$f":"COUNTIF($L$7:$L$500,N12)","v":3},{"$f":"O12/$Q$4","v":0.11538461538461539},{"$f":"IF(P12=0,0,(P12*((LOG(P12))/LOG(2))))","v":-0.35947814047153104},null,null,{"$f":"N12","v":11212},{"$f":"COUNTIF(L7:L10,T12)","v":1},{"$f":"U12/(W4-U25)","v":0.25},{"$f":"IF(V12=0,0,(V12*((LOG(V12))/LOG(2))))","v":-0.5},null,{"$f":"N12","v":11212},{"$f":"COUNTIF(L11:L15,Y12)","v":0},{"$f":"Z12/(AB4-Z25)","v":0},{"$f":"IF(AA12=0,0,(AA12*((LOG(AA12))/LOG(2))))","v":0},null,{"$f":"N12","v":11212},{"$f":"COUNTIF(L16:L19,AD12)","v":1},{"$f":"AE12/(AG4-AE25)","v":0.25},{"$f":"IF(AF12=0,0,(AF12*((LOG(AF12))/LOG(2))))","v":-0.5},null,{"$f":"N12","v":11212},{"$f":"COUNTIF(L20:L23,AI12)","v":0},{"$f":"AJ12/(AL4-AJ25)","v":0},{"$f":"IF(AK12=0,0,(AK12*((LOG(AK12))/LOG(2))))","v":0},null,{"$f":"N12","v":11212},{"$f":"COUNTIF(L24:L28,AN12)","v":1},{"$f":"AO12/(AQ4-AO25)","v":0.2},{"$f":"IF(AP12=0,0,(AP12*((LOG(AP12))/LOG(2))))","v":-0.46438561897747244},null,{"$f":"N12","v":11212},{"$f":"COUNTIF(L29:L32,AS12)","v":0},{"$f":"AT12/(AV4-AT25)","v":0},{"$f":"IF(AU12=0,0,(AU12*((LOG(AU12))/LOG(2))))","v":0}]
[12,1019,24,1031,13,1042,23,1049,24,1068,0,12122,null,11221,{"$f":"COUNTIF($L$7:$L$500,N13)","v":3},{"$f":"O13/$Q$4","v":0.11538461538461539},{"$f":"IF(P13=0,0,(P13*((LOG(P13))/LOG(2))))","v":-0.35947814047153104},null,null,{"$f":"N13","v":11221},{"$f":"COUNTIF(L7:L10,T13)","v":0},{"$f":"U13/(W4-U25)","v":0},{"$f":"IF(V13=0,0,(V13*((LOG(V13))/LOG(2))))","v":0},null,{"$f":"N13","v":11221},{"$f":"COUNTIF(L11:L15,Y13)","v":1},{"$f":"Z13/(AB4-Z25)","v":0.2},{"$f":"IF(AA13=0,0,(AA13*((LOG(AA13))/LOG(2))))","v":-0.46438561897747244},null,{"$f":"N13","v":11221},{"$f":"COUNTIF(L16:L19,AD13)","v":0},{"$f":"AE13/(AG4-AE25)","v":0},{"$f":"IF(AF13=0,0,(AF13*((LOG(AF13))/LOG(2))))","v":0},null,{"$f":"N13","v":11221},{"$f":"COUNTIF(L20:L23,AI13)","v":0},{"$f":"AJ13/(AL4-AJ25)","v":0},{"$f":"IF(AK13=0,0,(AK13*((LOG(AK13))/LOG(2))))","v":0},null,{"$f":"N13","v":11221},{"$f":"COUNTIF(L24:L28,AN13)","v":0},{"$f":"AO13/(AQ4-AO25)","v":0},{"$f":"IF(AP13=0,0,(AP13*((LOG(AP13))/LOG(2))))","v":0},null,{"$f":"N13","v":11221},{"$f":"COUNTIF(L29:L32,AS13)","v":2},{"$f":"AT13/(AV4-AT25)","v":0.5},{"$f":"IF(AU13=0,0,(AU13*((LOG(AU13))/LOG(2))))","v":-0.5}]
[12,1175,13,1187,24,1199,23,1211,13,1221,0,11221,null,11222,{"$f":"COUNTIF($L$7:$L$500,N14)","v":0},{"$f":"O14/$Q$4","v":0},{"$f":"IF(P14=0,0,(P14*((LOG(P14))/LOG(2))))","v":0},null,null,{"$f":"N14","v":11222},{"$f":"COUNTIF(L7:L10,T14)","v":0},{"$f":"U14/(W4-U25)","v":0},{"$f":"IF(V14=0,0,(V14*((LOG(V14))/LOG(2))))","v":0},null,{"$f":"N14","v":11222},{"$f":"COUNTIF(L11:L15,Y14)","v":0},{"$f":"Z14/(AB4-Z25)","v":0},{"$f":"IF(AA14=0,0,(AA14*((LOG(AA14))/LOG(2))))","v":0},null,{"$f":"N14","v":11222},{"$f":"COUNTIF(L16:L19,AD14)","v":0},{"$f":"AE14/(AG4-AE25)","v":0},{"$f":"IF(AF14=0,0,(AF14*((LOG(AF14))/LOG(2))))","v":0},null,{"$f":"N14","v":11222},{"$f":"COUNTIF(L20:L23,AI14)","v":0},{"$f":"AJ14/(AL4-AJ25)","v":0},{"$f":"IF(AK14=0,0,(AK14*((LOG(AK14))/LOG(2))))","v":0},null,{"$f":"N14","v":11222},{"$f":"COUNTIF(L24:L28,AN14)","v":0},{"$f":"AO14/(AQ4-AO25)","v":0},{"$f":"IF(AP14=0,0,(AP14*((LOG(AP14))/LOG(2))))","v":0},null,{"$f":"N14","v":11222},{"$f":"COUNTIF(L29:L32,AS14)","v":0},{"$f":"AT14/(AV4-AT25)","v":0},{"$f":"IF(AU14=0,0,(AU14*((LOG(AU14))/LOG(2))))","v":0}]
[12,1389,24,1398,24,1409,14,1422,24,1432,0,12212,null,12111,{"$f":"COUNTIF($L$7:$L$500,N15)","v":0},{"$f":"O15/$Q$4","v":0},{"$f":"IF(P15=0,0,(P15*((LOG(P15))/LOG(2))))","v":0},null,null,{"$f":"N15","v":12111},{"$f":"COUNTIF(L7:L10,T15)","v":0},{"$f":"U15/(W4-U25)","v":0},{"$f":"IF(V15=0,0,(V15*((LOG(V15))/LOG(2))))","v":0},null,{"$f":"N15","v":12111},{"$f":"COUNTIF(L11:L15,Y15)","v":0},{"$f":"Z15/(AB4-Z25)","v":0},{"$f":"IF(AA15=0,0,(AA15*((LOG(AA15))/LOG(2))))","v":0},null,{"$f":"N15","v":12111},{"$f":"COUNTIF(L16:L19,AD15)","v":0},{"$f":"AE15/(AG4-AE25)","v":0},{"$f":"IF(AF15=0,0,(AF15*((LOG(AF15))/LOG(2))))","v":0},null,{"$f":"N15","v":12111},{"$f":"COUNTIF(L20:L23,AI15)","v":0},{"$f":"AJ15/(AL4-AJ25)","v":0},{"$f":"IF(AK15=0,0,(AK15*((LOG(AK15))/LOG(2))))","v":0},null,{"$f":"N15","v":12111},{"$f":"COUNTIF(L24:L28,AN15)","v":0},{"$f":"AO15/(AQ4-AO25)","v":0},{"$f":"IF(AP15=0,0,(AP15*((LOG(AP15))/LOG(2))))","v":0},null,{"$f":"N15","v":12111},{"$f":"COUNTIF(L29:L32,AS15)","v":0},{"$f":"AT15/(AV4-AT25)","v":0},{"$f":"IF(AU15=0,0,(AU15*((LOG(AU15))/LOG(2))))","v":0}]
[12,1637,24,1647,24,1657,14,1668,24,1677,0,12212,null,12112,{"$f":"COUNTIF($L$7:$L$500,N16)","v":0},{"$f":"O16/$Q$4","v":0},{"$f":"IF(P16=0,0,(P16*((LOG(P16))/LOG(2))))","v":0},null,null,{"$f":"N16","v":12112},{"$f":"COUNTIF(L7:L10,T16)","v":0},{"$f":"U16/(W4-U25)","v":0},{"$f":"IF(V16=0,0,(V16*((LOG(V16))/LOG(2))))","v":0},null,{"$f":"N16","v":12112},{"$f":"COUNTIF(L11:L15,Y16)","v":0},{"$f":"Z16/(AB4-Z25)","v":0},{"$f":"IF(AA16=0,0,(AA16*((LOG(AA16))/LOG(2))))","v":0},null,{"$f":"N16","v":12112},{"$f":"COUNTIF(L16:L19,AD16)","v":0},{"$f":"AE16/(AG4-AE25)","v":0},{"$f":"IF(AF16=0,0,(AF16*((LOG(AF16))/LOG(2))))","v":0},null,{"$f":"N16","v":12112},{"$f":"COUNTIF(L20:L23,AI16)","v":0},{"$f":"AJ16/(AL4-AJ25)","v":0},{"$f":"IF(AK16=0,0,(AK16*((LOG(AK16))/LOG(2))))","v":0},null,{"$f":"N16","v":12112},{"$f":"COUNTIF(L24:L28,AN16)","v":0},{"$f":"AO16/(AQ4-AO25)","v":0},{"$f":"IF(AP16=0,0,(AP16*((LOG(AP16))/LOG(2))))","v":0},null,{"$f":"N16","v":12112},{"$f":"COUNTIF(L29:L32,AS16)","v":0},{"$f":"AT16/(AV4-AT25)","v":0},{"$f":"IF(AU16=0,0,(AU16*((LOG(AU16))/LOG(2))))","v":0}]
[12,1796,13,1822,24,1829,14,1839,24,1849,0,11212,null,12121,{"$f":"COUNTIF($L$7:$L$500,N17)","v":3},{"$f":"O17/$Q$4","v":0.11538461538461539},{"$f":"IF(P17=0,0,(P17*((LOG(P17))/LOG(2))))","v":-0.35947814047153104},null,null,{"$f":"N17","v":12121},{"$f":"COUNTIF(L7:L10,T17)","v":2},{"$f":"U17/(W4-U25)","v":0.5},{"$f":"IF(V17=0,0,(V17*((LOG(V17))/LOG(2))))","v":-0.5},null,{"$f":"N17","v":12121},{"$f":"COUNTIF(L11:L15,Y17)","v":1},{"$f":"Z17/(AB4-Z25)","v":0.2},{"$f":"IF(AA17=0,0,(AA17*((LOG(AA17))/LOG(2))))","v":-0.46438561897747244},null,{"$f":"N17","v":12121},{"$f":"COUNTIF(L16:L19,AD17)","v":0},{"$f":"AE17/(AG4-AE25)","v":0},{"$f":"IF(AF17=0,0,(AF17*((LOG(AF17))/LOG(2))))","v":0},null,{"$f":"N17","v":12121},{"$f":"COUNTIF(L20:L23,AI17)","v":0},{"$f":"AJ17/(AL4-AJ25)","v":0},{"$f":"IF(AK17=0,0,(AK17*((LOG(AK17))/LOG(2))))","v":0},null,{"$f":"N17","v":12121},{"$f":"COUNTIF(L24:L28,AN17)","v":0},{"$f":"AO17/(AQ4-AO25)","v":0},{"$f":"IF(AP17=0,0,(AP17*((LOG(AP17))/LOG(2))))","v":0},null,{"$f":"N17","v":12121},{"$f":"COUNTIF(L29:L32,AS17)","v":0},{"$f":"AT17/(AV4-AT25)","v":0},{"$f":"IF(AU17=0,0,(AU17*((LOG(AU17))/LOG(2))))","v":0}]
[21,2112,22,2124,24,2144,14,2164,24,2173,0,22212,null,12122,{"$f":"COUNTIF($L$7:$L$500,N18)","v":4},{"$f":"O18/$Q$4","v":0.15384615384615385},{"$f":"IF(P18=0,0,(P18*((LOG(P18))/LOG(2))))","v":-0.4154522643293988},null,null,{"$f":"N18","v":12122},{"$f":"COUNTIF(L7:L10,T18)","v":0},{"$f":"U18/(W4-U25)","v":0},{"$f":"IF(V18=0,0,(V18*((LOG(V18))/LOG(2))))","v":0},null,{"$f":"N18","v":12122},{"$f":"COUNTIF(L11:L15,Y18)","v":1},{"$f":"Z18/(AB4-Z25)","v":0.2},{"$f":"IF(AA18=0,0,(AA18*((LOG(AA18))/LOG(2))))","v":-0.46438561897747244},null,{"$f":"N18","v":12122},{"$f":"COUNTIF(L16:L19,AD18)","v":0},{"$f":"AE18/(AG4-AE25)","v":0},{"$f":"IF(AF18=0,0,(AF18*((LOG(AF18))/LOG(2))))","v":0},null,{"$f":"N18","v":12122},{"$f":"COUNTIF(L20:L23,AI18)","v":0},{"$f":"AJ18/(AL4-AJ25)","v":0},{"$f":"IF(AK18=0,0,(AK18*((LOG(AK18))/LOG(2))))","v":0},null,{"$f":"N18","v":12122},{"$f":"COUNTIF(L24:L28,AN18)","v":2},{"$f":"AO18/(AQ4-AO25)","v":0.4},{"$f":"IF(AP18=0,0,(AP18*((LOG(AP18))/LOG(2))))","v":-0.52877123795494496},null,{"$f":"N18","v":12122},{"$f":"COUNTIF(L29:L32,AS18)","v":1},{"$f":"AT18/(AV4-AT25)","v":0.25},{"$f":"IF(AU18=0,0,(AU18*((LOG(AU18))/LOG(2))))","v":-0.5}]
[21,2321,22,2333,13,2343,23,2351,13,2362,0,22121,null,12211,{"$f":"COUNTIF($L$7:$L$500,N19)","v":0},{"$f":"O19/$Q$4","v":0},{"$f":"IF(P19=0,0,(P19*((LOG(P19))/LOG(2))))","v":0},null,null,{"$f":"N19","v":12211},{"$f":"COUNTIF(L7:L10,T19)","v":0},{"$f":"U19/(W4-U25)","v":0},{"$f":"IF(V19=0,0,(V19*((LOG(V19))/LOG(2))))","v":0},null,{"$f":"N19","v":12211},{"$f":"COUNTIF(L11:L15,Y19)","v":0},{"$f":"Z19/(AB4-Z25)","v":0},{"$f":"IF(AA19=0,0,(AA19*((LOG(AA19))/LOG(2))))","v":0},null,{"$f":"N19","v":12211},{"$f":"COUNTIF(L16:L19,AD19)","v":0},{"$f":"AE19/(AG4-AE25)","v":0},{"$f":"IF(AF19=0,0,(AF19*((LOG(AF19))/LOG(2))))","v":0},null,{"$f":"N19","v":12211},{"$f":"COUNTIF(L20:L23,AI19)","v":0},{"$f":"AJ19/(AL4-AJ25)","v":0},{"$f":"IF(AK19=0,0,(AK19*((LOG(AK19))/LOG(2))))","v":0},null,{"$f":"N19","v":12211},{"$f":"COUNTIF(L24:L28,AN19)","v":0},{"$f":"AO19/(AQ4-AO25)","v":0},{"$f":"IF(AP19=0,0,(AP19*((LOG(AP19))/LOG(2))))","v":0},null,{"$f":"N19","v":12211},{"$f":"COUNTIF(L29:L32,AS19)","v":0},{"$f":"AT19/(AV4-AT25)","v":0},{"$f":"IF(AU19=0,0,(AU19*((LOG(AU19))/LOG(2))))","v":0}]
[12,2479,24,2489,24,2519,14,2529,24,2538,0,12212,null,12212,{"$f":"COUNTIF($L$7:$L$500,N20)","v":5},{"$f":"O20/$Q$4","v":0.19230769230769232},{"$f":"IF(P20=0,0,(P20*((LOG(P20))/LOG(2))))","v":-0.45740608139494804},null,null,{"$f":"N20","v":12212},{"$f":"COUNTIF(L7:L10,T20)","v":0},{"$f":"U20/(W4-U25)","v":0},{"$f":"IF(V20=0,0,(V20*((LOG(V20))/LOG(2))))","v":0},null,{"$f":"N20","v":12212},{"$f":"COUNTIF(L11:L15,Y20)","v":1},{"$f":"Z20/(AB4-Z25)","v":0.2},{"$f":"IF(AA20=0,0,(AA20*((LOG(AA20))/LOG(2))))","v":-0.46438561897747244},null,{"$f":"N20","v":12212},{"$f":"COUNTIF(L16:L19,AD20)","v":1},{"$f":"AE20/(AG4-AE25)","v":0.25},{"$f":"IF(AF20=0,0,(AF20*((LOG(AF20))/LOG(2))))","v":-0.5},null,{"$f":"N20","v":12212},{"$f":"COUNTIF(L20:L23,AI20)","v":2},{"$f":"AJ20/(AL4-AJ25)","v":0.5},{"$f":"IF(AK20=0,0,(AK20*((LOG(AK20))/LOG(2))))","v":-0.5},null,{"$f":"N20","v":12212},{"$f":"COUNTIF(L24:L28,AN20)","v":1},{"$f":"AO20/(AQ4-AO25)","v":0.2},{"$f":"IF(AP20=0,0,(AP20*((LOG(AP20))/LOG(2))))","v":-0.46438561897747244},null,{"$f":"N20","v":12212},{"$f":"COUNTIF(L29:L32,AS20)","v":0},{"$f":"AT20/(AV4-AT25)","v":0},{"$f":"IF(AU20=0,0,(AU20*((LOG(AU20))/LOG(2))))","v":0}]
[12,7307,24,7322,24,7332,14,7347,24,7356,0,12212,null,12221,{"$f":"COUNTIF($L$7:$L$500,N21)","v":0},{"$f":"O21/$Q$4","v":0},{"$f":"IF(P21=0,0,(P21*((LOG(P21))/LOG(2))))","v":0},null,null,{"$f":"N21","v":12221},{"$f":"COUNTIF(L7:L10,T21)","v":0},{"$f":"U21/(W4-U25)","v":0},{"$f":"IF(V21=0,0,(V21*((LOG(V21))/LOG(2))))","v":0},null,{"$f":"N21","v":12221},{"$f":"COUNTIF(L11:L15,Y21)","v":0},{"$f":"Z21/(AB4-Z25)","v":0},{"$f":"IF(AA21=0,0,(AA21*((LOG(AA21))/LOG(2))))","v":0},null,{"$f":"N21","v":12221},{"$f":"COUNTIF(L16:L19,AD21)","v":0},{"$f":"AE21/(AG4-AE25)","v":0},{"$f":"IF(AF21=0,0,(AF21*((LOG(AF21))/LOG(2))))","v":0},null,{"$f":"N21","v":12221},{"$f":"COUNTIF(L20:L23,AI21)","v":0},{"$f":"AJ21/(AL4-AJ25)","v":0},{"$f":"IF(AK21=0,0,(AK21*((LOG(AK21))/LOG(2))))","v":0},null,{"$f":"N21","v":12221},{"$f":"COUNTIF(L24:L28,AN21)","v":0},{"$f":"AO21/(AQ4-AO25)","v":0},{"$f":"IF(AP21=0,0,(AP21*((LOG(AP21))/LOG(2))))","v":0},null,{"$f":"N21","v":12221},{"$f":"COUNTIF(L29:L32,AS21)","v":0},{"$f":"AT21/(AV4-AT25)","v":0},{"$f":"IF(AU21=0,0,(AU21*((LOG(AU21))/LOG(2))))","v":0}]
[21,7531,22,7573,24,7595,23,7608,13,7619,0,22221,null,12222,{"$f":"COUNTIF($L$7:$L$500,N22)","v":1},{"$f":"O22/$Q$4","v":3.8461538461538464E-2},{"$f":"IF(P22=0,0,(P22*((LOG(P22))/LOG(2))))","v":-0.18078614300542661},null,null,{"$f":"N22","v":12222},{"$f":"COUNTIF(L7:L10,T22)","v":0},{"$f":"U22/(W4-U25)","v":0},{"$f":"IF(V22=0,0,(V22*((LOG(V22))/LOG(2))))","v":0},null,{"$f":"N22","v":12222},{"$f":"COUNTIF(L11:L15,Y22)","v":0},{"$f":"Z22/(AB4-Z25)","v":0},{"$f":"IF(AA22=0,0,(AA22*((LOG(AA22))/LOG(2))))","v":0},null,{"$f":"N22","v":12222},{"$f":"COUNTIF(L16:L19,AD22)","v":0},{"$f":"AE22/(AG4-AE25)","v":0},{"$f":"IF(AF22=0,0,(AF22*((LOG(AF22))/LOG(2))))","v":0},null,{"$f":"N22","v":12222},{"$f":"COUNTIF(L20:L23,AI22)","v":0},{"$f":"AJ22/(AL4-AJ25)","v":0},{"$f":"IF(AK22=0,0,(AK22*((LOG(AK22))/LOG(2))))","v":0},null,{"$f":"N22","v":12222},{"$f":"COUNTIF(L24:L28,AN22)","v":0},{"$f":"AO22/(AQ4-AO25)","v":0},{"$f":"IF(AP22=0,0,(AP22*((LOG(AP22))/LOG(2))))","v":0},null,{"$f":"N22","v":12222},{"$f":"COUNTIF(L29:L32,AS22)","v":1},{"$f":"AT22/(AV4-AT25)","v":0.25},{"$f":"IF(AU22=0,0,(AU22*((LOG(AU22))/LOG(2))))","v":-0.5}]
[21,7756,11,7766,22,7775,14,7788,24,7798,0,21212,null,21111,{"$f":"COUNTIF($L$7:$L$500,N23)","v":0},{"$f":"O23/$Q$4","v":0},{"$f":"IF(P23=0,0,(P23*((LOG(P23))/LOG(2))))","v":0},null,null,{"$f":"N23","v":21111},{"$f":"COUNTIF(L7:L10,T23)","v":0},{"$f":"U23/(W4-U25)","v":0},{"$f":"IF(V23=0,0,(V23*((LOG(V23))/LOG(2))))","v":0},null,{"$f":"N23","v":21111},{"$f":"COUNTIF(L11:L15,Y23)","v":0},{"$f":"Z23/(AB4-Z25)","v":0},{"$f":"IF(AA23=0,0,(AA23*((LOG(AA23))/LOG(2))))","v":0},null,{"$f":"N23","v":21111},{"$f":"COUNTIF(L16:L19,AD23)","v":0},{"$f":"AE23/(AG4-AE25)","v":0},{"$f":"IF(AF23=0,0,(AF23*((LOG(AF23))/LOG(2))))","v":0},null,{"$f":"N23","v":21111},{"$f":"COUNTIF(L20:L23,AI23)","v":0},{"$f":"AJ23/(AL4-AJ25)","v":0},{"$f":"IF(AK23=0,0,(AK23*((LOG(AK23))/LOG(2))))","v":0},null,{"$f":"N23","v":21111},{"$f":"COUNTIF(L24:L28,AN23)","v":0},{"$f":"AO23/(AQ4-AO25)","v":0},{"$f":"IF(AP23=0,0,(AP23*((LOG(AP23))/LOG(2))))","v":0},null,{"$f":"N23","v":21111},{"$f":"COUNTIF(L29:L32,AS23)","v":0},{"$f":"AT23/(AV4-AT25)","v":0},{"$f":"IF(AU23=0,0,(AU23*((LOG(AU23))/LOG(2))))","v":0}]
[21,7929,11,7940,22,7951,23,7973,24,7983,0,21222,null,21112,{"$f":"COUNTIF($L$7:$L$500,N24)","v":0},{"$f":"O24/$Q$4","v":0},{"$f":"IF(P24=0,0,(P24*((LOG(P24))/LOG(2))))","v":0},null,null,{"$f":"N24","v":21112},{"$f":"COUNTIF(L7:L10,T24)","v":0},{"$f":"U24/(W4-U25)","v":0},{"$f":"IF(V24=0,0,(V24*((LOG(V24))/LOG(2))))","v":0},null,{"$f":"N24","v":21112},{"$f":"COUNTIF(L11:L15,Y24)","v":0},{"$f":"Z24/(AB4-Z25)","v":0},{"$f":"IF(AA24=0,0,(AA24*((LOG(AA24))/LOG(2))))","v":0},null,{"$f":"N24","v":21112},{"$f":"COUNTIF(L16:L19,AD24)","v":0},{"$f":"AE24/(AG4-AE25)","v":0},{"$f":"IF(AF24=0,0,(AF24*((LOG(AF24))/LOG(2))))","v":0},null,{"$f":"N24","v":21112},{"$f":"COUNTIF(L20:L23,AI24)","v":0},{"$f":"AJ24/(AL4-AJ25)","v":0},{"$f":"IF(AK24=0,0,(AK24*((LOG(AK24))/LOG(2))))","v":0},null,{"$f":"N24","v":21112},{"$f":"COUNTIF(L24:L28,AN24)","v":0},{"$f":"AO24/(AQ4-AO25)","v":0},{"$f":"IF(AP24=0,0,(AP24*((LOG(AP24))/LOG(2))))","v":0},null,{"$f":"N24","v":21112},{"$f":"COUNTIF(L29:L32,AS24)","v":0},{"$f":"AT24/(AV4-AT25)","v":0},{"$f":"IF(AU24=0,0,(AU24*((LOG(AU24))/LOG(2))))","v":0}]
[12,8136,24,8159,24,8171,14,8185,24,8195,0,12212,null,21121,{"$f":"COUNTIF($L$7:$L$500,N25)","v":0},{"$f":"O25/$Q$4","v":0},{"$f":"IF(P25=0,0,(P25*((LOG(P25))/LOG(2))))","v":0},null,null,{"$f":"N25","v":21121},{"$f":"COUNTIF(L7:L10,T25)","v":0},null,null,null,{"$f":"N25","v":21121},{"$f":"COUNTIF(L11:L15,Y25)","v":0},null,null,null,{"$f":"N25","v":21121},{"$f":"COUNTIF(L16:L19,AD25)","v":0},null,null,null,{"$f":"N25","v":21121},{"$f":"COUNTIF(L20:L23,AI25)","v":0},null,null,null,{"$f":"N25","v":21121},{"$f":"COUNTIF(L24:L28,AN25)","v":0},null,null,null,{"$f":"N25","v":21121},{"$f":"COUNTIF(L29:L32,AS25)","v":0}]
[12,8334,24,8342,13,8356,23,8366,24,8382,0,12122,null,21122,{"$f":"COUNTIF($L$7:$L$500,N26)","v":0},{"$f":"O26/$Q$4","v":0},{"$f":"IF(P26=0,0,(P26*((LOG(P26))/LOG(2))))","v":0},null,null,{"$f":"N26","v":21122},{"$f":"COUNTIF(L7:L10,T26)","v":0},{"$f":"U26/(W4-U25)","v":0},{"$f":"IF(V26=0,0,(V26*((LOG(V26))/LOG(2))))","v":0},null,{"$f":"N26","v":21122},{"$f":"COUNTIF(L11:L15,Y26)","v":0},{"$f":"Z26/(AB4-Z25)","v":0},{"$f":"IF(AA26=0,0,(AA26*((LOG(AA26))/LOG(2))))","v":0},null,{"$f":"N26","v":21122},{"$f":"COUNTIF(L16:L19,AD26)","v":0},{"$f":"AE26/(AG4-AE25)","v":0},{"$f":"IF(AF26=0,0,(AF26*((LOG(AF26))/LOG(2))))","v":0},null,{"$f":"N26","v":21122},{"$f":"COUNTIF(L20:L23,AI26)","v":0},{"$f":"AJ26/(AL4-AJ25)","v":0},{"$f":"IF(AK26=0,0,(AK26*((LOG(AK26))/LOG(2))))","v":0},null,{"$f":"N26","v":21122},{"$f":"COUNTIF(L24:L28,AN26)","v":0},{"$f":"AO26/(AQ4-AO25)","v":0},{"$f":"IF(AP26=0,0,(AP26*((LOG(AP26))/LOG(2))))","v":0},null,{"$f":"N26","v":21122},{"$f":"COUNTIF(L29:L32,AS26)","v":0},{"$f":"AT26/(AV4-AT25)","v":0},{"$f":"IF(AU26=0,0,(AU26*((LOG(AU26))/LOG(2))))","v":0}]
[12,9716,24,9727,13,9744,23,9787,24,9813,0,12122,null,21211,{"$f":"COUNTIF($L$7:$L$500,N27)","v":0},{"$f":"O27/$Q$4","v":0},{"$f":"IF(P27=0,0,(P27*((LOG(P27))/LOG(2))))","v":0},null,null,{"$f":"N27","v":21211},{"$f":"COUNTIF(L7:L10,T27)","v":0},{"$f":"U27/(W4-U25)","v":0},{"$f":"IF(V27=0,0,(V27*((LOG(V27))/LOG(2))))","v":0},null,{"$f":"N27","v":21211},{"$f":"COUNTIF(L11:L15,Y27)","v":0},{"$f":"Z27/(AB4-Z25)","v":0},{"$f":"IF(AA27=0,0,(AA27*((LOG(AA27))/LOG(2))))","v":0},null,{"$f":"N27","v":21211},{"$f":"COUNTIF(L16:L19,AD27)","v":0},{"$f":"AE27/(AG4-AE25)","v":0},{"$f":"IF(AF27=0,0,(AF27*((LOG(AF27))/LOG(2))))","v":0},null,{"$f":"N27","v":21211},{"$f":"COUNTIF(L20:L23,AI27)","v":0},{"$f":"AJ27/(AL4-AJ25)","v":0},{"$f":"IF(AK27=0,0,(AK27*((LOG(AK27))/LOG(2))))","v":0},null,{"$f":"N27","v":21211},{"$f":"COUNTIF(L24:L28,AN27)","v":0},{"$f":"AO27/(AQ4-AO25)","v":0},{"$f":"IF(AP27=0,0,(AP27*((LOG(AP27))/LOG(2))))","v":0},null,{"$f":"N27","v":21211},{"$f":"COUNTIF(L29:L32,AS27)","v":0},{"$f":"AT27/(AV4-AT25)","v":0},{"$f":"IF(AU27=0,0,(AU27*((LOG(AU27))/LOG(2))))","v":0}]
[12,14938,13,15011,24,15019,14,15029,24,15042,0,11212,null,21212,{"$f":"COUNTIF($L$7:$L$500,N28)","v":2},{"$f":"O28/$Q$4","v":7.6923076923076927E-2},{"$f":"IF(P28=0,0,(P28*((LOG(P28))/LOG(2))))","v":-0.28464920908777636},null,null,{"$f":"N28","v":21212},{"$f":"COUNTIF(L7:L10,T28)","v":1},{"$f":"U28/(W4-U25)","v":0.25},{"$f":"IF(V28=0,0,(V28*((LOG(V28))/LOG(2))))","v":-0.5},null,{"$f":"N28","v":21212},{"$f":"COUNTIF(L11:L15,Y28)","v":0},{"$f":"Z28/(AB4-Z25)","v":0},{"$f":"IF(AA28=0,0,(AA28*((LOG(AA28))/LOG(2))))","v":0},null,{"$f":"N28","v":21212},{"$f":"COUNTIF(L16:L19,AD28)","v":0},{"$f":"AE28/(AG4-AE25)","v":0},{"$f":"IF(AF28=0,0,(AF28*((LOG(AF28))/LOG(2))))","v":0},null,{"$f":"N28","v":21212},{"$f":"COUNTIF(L20:L23,AI28)","v":1},{"$f":"AJ28/(AL4-AJ25)","v":0.25},{"$f":"IF(AK28=0,0,(AK28*((LOG(AK28))/LOG(2))))","v":-0.5},null,{"$f":"N28","v":21212},{"$f":"COUNTIF(L24:L28,AN28)","v":0},{"$f":"AO28/(AQ4-AO25)","v":0},{"$f":"IF(AP28=0,0,(AP28*((LOG(AP28))/LOG(2))))","v":0},null,{"$f":"N28","v":21212},{"$f":"COUNTIF(L29:L32,AS28)","v":0},{"$f":"AT28/(AV4-AT25)","v":0},{"$f":"IF(AU28=0,0,(AU28*((LOG(AU28))/LOG(2))))","v":0}]
[12,17050,24,17061,24,17071,23,17094,24,17118,0,12222,null,21221,{"$f":"COUNTIF($L$7:$L$500,N29)","v":0},{"$f":"O29/$Q$4","v":0},{"$f":"IF(P29=0,0,(P29*((LOG(P29))/LOG(2))))","v":0},null,null,{"$f":"N29","v":21221},{"$f":"COUNTIF(L7:L10,T29)","v":0},{"$f":"U29/(W4-U25)","v":0},{"$f":"IF(V29=0,0,(V29*((LOG(V29))/LOG(2))))","v":0},null,{"$f":"N29","v":21221},{"$f":"COUNTIF(L11:L15,Y29)","v":0},{"$f":"Z29/(AB4-Z25)","v":0},{"$f":"IF(AA29=0,0,(AA29*((LOG(AA29))/LOG(2))))","v":0},null,{"$f":"N29","v":21221},{"$f":"COUNTIF(L16:L19,AD29)","v":0},{"$f":"AE29/(AG4-AE25)","v":0},{"$f":"IF(AF29=0,0,(AF29*((LOG(AF29))/LOG(2))))","v":0},null,{"$f":"N29","v":21221},{"$f":"COUNTIF(L20:L23,AI29)","v":0},{"$f":"AJ29/(AL4-AJ25)","v":0},{"$f":"IF(AK29=0,0,(AK29*((LOG(AK29))/LOG(2))))","v":0},null,{"$f":"N29","v":21221},{"$f":"COUNTIF(L24:L28,AN29)","v":0},{"$f":"AO29/(AQ4-AO25)","v":0},{"$f":"IF(AP29=0,0,(AP29*((LOG(AP29))/LOG(2))))","v":0},null,{"$f":"N29","v":21221},{"$f":"COUNTIF(L29:L32,AS29)","v":0},{"$f":"AT29/(AV4-AT25)","v":0},{"$f":"IF(AU29=0,0,(AU29*((LOG(AU29))/LOG(2))))","v":0}]
[12,19832,13,21543,24,21566,23,21591,13,21606,0,11221,null,21222,{"$f":"COUNTIF($L$7:$L$500,N30)","v":1},{"$f":"O30/$Q$4","v":3.8461538461538464E-2},{"$f":"IF(P30=0,0,(P30*((LOG(P30))/LOG(2))))","v":-0.18078614300542661},null,null,{"$f":"N30","v":21222},{"$f":"COUNTIF(L7:L10,T30)","v":0},{"$f":"U30/(W4-U25)","v":0},{"$f":"IF(V30=0,0,(V30*((LOG(V30))/LOG(2))))","v":0},null,{"$f":"N30","v":21222},{"$f":"COUNTIF(L11:L15,Y30)","v":0},{"$f":"Z30/(AB4-Z25)","v":0},{"$f":"IF(AA30=0,0,(AA30*((LOG(AA30))/LOG(2))))","v":0},null,{"$f":"N30","v":21222},{"$f":"COUNTIF(L16:L19,AD30)","v":0},{"$f":"AE30/(AG4-AE25)","v":0},{"$f":"IF(AF30=0,0,(AF30*((LOG(AF30))/LOG(2))))","v":0},null,{"$f":"N30","v":21222},{"$f":"COUNTIF(L20:L23,AI30)","v":0},{"$f":"AJ30/(AL4-AJ25)","v":0},{"$f":"IF(AK30=0,0,(AK30*((LOG(AK30))/LOG(2))))","v":0},null,{"$f":"N30","v":21222},{"$f":"COUNTIF(L24:L28,AN30)","v":1},{"$f":"AO30/(AQ4-AO25)","v":0.2},{"$f":"IF(AP30=0,0,(AP30*((LOG(AP30))/LOG(2))))","v":-0.46438561897747244},null,{"$f":"N30","v":21222},{"$f":"COUNTIF(L29:L32,AS30)","v":0},{"$f":"AT30/(AV4-AT25)","v":0},{"$f":"IF(AU30=0,0,(AU30*((LOG(AU30))/LOG(2))))","v":0}]
[12,23345,24,23355,13,23383,23,23392,24,23419,0,12122,null,22111,{"$f":"COUNTIF($L$7:$L$500,N31)","v":0},{"$f":"O31/$Q$4","v":0},{"$f":"IF(P31=0,0,(P31*((LOG(P31))/LOG(2))))","v":0},null,null,{"$f":"N31","v":22111},{"$f":"COUNTIF(L7:L10,T31)","v":0},{"$f":"U31/(W4-U25)","v":0},{"$f":"IF(V31=0,0,(V31*((LOG(V31))/LOG(2))))","v":0},null,{"$f":"N31","v":22111},{"$f":"COUNTIF(L11:L15,Y31)","v":0},{"$f":"Z31/(AB4-Z25)","v":0},{"$f":"IF(AA31=0,0,(AA31*((LOG(AA31))/LOG(2))))","v":0},null,{"$f":"N31","v":22111},{"$f":"COUNTIF(L16:L19,AD31)","v":0},{"$f":"AE31/(AG4-AE25)","v":0},{"$f":"IF(AF31=0,0,(AF31*((LOG(AF31))/LOG(2))))","v":0},null,{"$f":"N31","v":22111},{"$f":"COUNTIF(L20:L23,AI31)","v":0},{"$f":"AJ31/(AL4-AJ25)","v":0},{"$f":"IF(AK31=0,0,(AK31*((LOG(AK31))/LOG(2))))","v":0},null,{"$f":"N31","v":22111},{"$f":"COUNTIF(L24:L28,AN31)","v":0},{"$f":"AO31/(AQ4-AO25)","v":0},{"$f":"IF(AP31=0,0,(AP31*((LOG(AP31))/LOG(2))))","v":0},null,{"$f":"N31","v":22111},{"$f":"COUNTIF(L29:L32,AS31)","v":0},{"$f":"AT31/(AV4-AT25)","v":0},{"$f":"IF(AU31=0,0,(AU31*((LOG(AU31))/LOG(2))))","v":0}]
[12,23656,13,23667,24,23677,23,23691,13,23711,0,11221,null,22112,{"$f":"COUNTIF($L$7:$L$500,N32)","v":0},{"$f":"O32/$Q$4","v":0},{"$f":"IF(P32=0,0,(P32*((LOG(P32))/LOG(2))))","v":0},null,null,{"$f":"N32","v":22112},{"$f":"COUNTIF(L7:L10,T32)","v":0},{"$f":"U32/(W4-U25)","v":0},{"$f":"IF(V32=0,0,(V32*((LOG(V32))/LOG(2))))","v":0},null,{"$f":"N32","v":22112},{"$f":"COUNTIF(L11:L15,Y32)","v":0},{"$f":"Z32/(AB4-Z25)","v":0},{"$f":"IF(AA32=0,0,(AA32*((LOG(AA32))/LOG(2))))","v":0},null,{"$f":"N32","v":22112},{"$f":"COUNTIF(L16:L19,AD32)","v":0},{"$f":"AE32/(AG4-AE25)","v":0},{"$f":"IF(AF32=0,0,(AF32*((LOG(AF32))/LOG(2))))","v":0},null,{"$f":"N32","v":22112},{"$f":"COUNTIF(L20:L23,AI32)","v":0},{"$f":"AJ32/(AL4-AJ25)","v":0},{"$f":"IF(AK32=0,0,(AK32*((LOG(AK32))/LOG(2))))","v":0},null,{"$f":"N32","v":22112},{"$f":"COUNTIF(L24:L28,AN32)","v":0},{"$f":"AO32/(AQ4-AO25)","v":0},{"$f":"IF(AP32=0,0,(AP32*((LOG(AP32))/LOG(2))))","v":0},null,{"$f":"N32","v":22112},{"$f":"COUNTIF(L29:L32,AS32)","v":0},{"$f":"AT32/(AV4-AT25)","v":0},{"$f":"IF(AU32=0,0,(AU32*((LOG(AU32))/LOG(2))))","v":0}]
[null,null,null,null,null,null,null,null,null,null,null,null,null,22121,{"$f":"COUNTIF($L$7:$L$500,N33)","v":1},{"$f":"O33/$Q$4","v":3.8461538461538464E-2},{"$f":"IF(P33=0,0,(P33*((LOG(P33))/LOG(2))))","v":-0.18078614300542661},null,null,{"$f":"N33","v":22121},{"$f":"COUNTIF(L7:L10,T33)","v":0},{"$f":"U33/(W4-U25)","v":0},{"$f":"IF(V33=0,0,(V33*((LOG(V33))/LOG(2))))","v":0},null,{"$f":"N33","v":22121},{"$f":"COUNTIF(L11:L15,Y33)","v":0},{"$f":"Z33/(AB4-Z25)","v":0},{"$f":"IF(AA33=0,0,(AA33*((LOG(AA33))/LOG(2))))","v":0},null,{"$f":"N33","v":22121},{"$f":"COUNTIF(L16:L19,AD33)","v":1},{"$f":"AE33/(AG4-AE25)","v":0.25},{"$f":"IF(AF33=0,0,(AF33*((LOG(AF33))/LOG(2))))","v":-0.5},null,{"$f":"N33","v":22121},{"$f":"COUNTIF(L20:L23,AI33)","v":0},{"$f":"AJ33/(AL4-AJ25)","v":0},{"$f":"IF(AK33=0,0,(AK33*((LOG(AK33))/LOG(2))))","v":0},null,{"$f":"N33","v":22121},{"$f":"COUNTIF(L24:L28,AN33)","v":0},{"$f":"AO33/(AQ4-AO25)","v":0},{"$f":"IF(AP33=0,0,(AP33*((LOG(AP33))/LOG(2))))","v":0},null,{"$f":"N33","v":22121},{"$f":"COUNTIF(L29:L32,AS33)","v":0},{"$f":"AT33/(AV4-AT25)","v":0},{"$f":"IF(AU33=0,0,(AU33*((LOG(AU33))/LOG(2))))","v":0}]
[null,null,null,null,null,null,null,null,null,null,null,null,null,22122,{"$f":"COUNTIF($L$7:$L$500,N34)","v":0},{"$f":"O34/$Q$4","v":0},{"$f":"IF(P34=0,0,(P34*((LOG(P34))/LOG(2))))","v":0},null,null,{"$f":"N34","v":22122},{"$f":"COUNTIF(L7:L10,T34)","v":0},{"$f":"U34/(W4-U25)","v":0},{"$f":"IF(V34=0,0,(V34*((LOG(V34))/LOG(2))))","v":0},null,{"$f":"N34","v":22122},{"$f":"COUNTIF(L11:L15,Y34)","v":0},{"$f":"Z34/(AB4-Z25)","v":0},{"$f":"IF(AA34=0,0,(AA34*((LOG(AA34))/LOG(2))))","v":0},null,{"$f":"N34","v":22122},{"$f":"COUNTIF(L16:L19,AD34)","v":0},{"$f":"AE34/(AG4-AE25)","v":0},{"$f":"IF(AF34=0,0,(AF34*((LOG(AF34))/LOG(2))))","v":0},null,{"$f":"N34","v":22122},{"$f":"COUNTIF(L20:L23,AI34)","v":0},{"$f":"AJ34/(AL4-AJ25)","v":0},{"$f":"IF(AK34=0,0,(AK34*((LOG(AK34))/LOG(2))))","v":0},null,{"$f":"N34","v":22122},{"$f":"COUNTIF(L24:L28,AN34)","v":0},{"$f":"AO34/(AQ4-AO25)","v":0},{"$f":"IF(AP34=0,0,(AP34*((LOG(AP34))/LOG(2))))","v":0},null,{"$f":"N34","v":22122},{"$f":"COUNTIF(L29:L32,AS34)","v":0},{"$f":"AT34/(AV4-AT25)","v":0},{"$f":"IF(AU34=0,0,(AU34*((LOG(AU34))/LOG(2))))","v":0}]
[null,null,null,null,null,null,null,null,null,null,null,null,null,22211,{"$f":"COUNTIF($L$7:$L$500,N35)","v":0},{"$f":"O35/$Q$4","v":0},{"$f":"IF(P35=0,0,(P35*((LOG(P35))/LOG(2))))","v":0},null,null,{"$f":"N35","v":22211},{"$f":"COUNTIF(L7:L10,T35)","v":0},{"$f":"U35/(W4-U25)","v":0},{"$f":"IF(V35=0,0,(V35*((LOG(V35))/LOG(2))))","v":0},null,{"$f":"N35","v":22211},{"$f":"COUNTIF(L11:L15,Y35)","v":0},{"$f":"Z35/(AB4-Z25)","v":0},{"$f":"IF(AA35=0,0,(AA35*((LOG(AA35))/LOG(2))))","v":0},null,{"$f":"N35","v":22211},{"$f":"COUNTIF(L16:L19,AD35)","v":0},{"$f":"AE35/(AG4-AE25)","v":0},{"$f":"IF(AF35=0,0,(AF35*((LOG(AF35))/LOG(2))))","v":0},null,{"$f":"N35","v":22211},{"$f":"COUNTIF(L20:L23,AI35)","v":0},{"$f":"AJ35/(AL4-AJ25)","v":0},{"$f":"IF(AK35=0,0,(AK35*((LOG(AK35))/LOG(2))))","v":0},null,{"$f":"N35","v":22211},{"$f":"COUNTIF(L24:L28,AN35)","v":0},{"$f":"AO35/(AQ4-AO25)","v":0},{"$f":"IF(AP35=0,0,(AP35*((LOG(AP35))/LOG(2))))","v":0},null,{"$f":"N35","v":22211},{"$f":"COUNTIF(L29:L32,AS35)","v":0},{"$f":"AT35/(AV4-AT25)","v":0},{"$f":"IF(AU35=0,0,(AU35*((LOG(AU35))/LOG(2))))","v":0}]
[null,null,null,null,null,null,null,null,null,null,null,null,null,22212,{"$f":"COUNTIF($L$7:$L$500,N36)","v":2},{"$f":"O36/$Q$4","v":7.6923076923076927E-2},{"$f":"IF(P36=0,0,(P36*((LOG(P36))/LOG(2))))","v":-0.28464920908777636},null,null,{"$f":"N36","v":22212},{"$f":"COUNTIF(L7:L10,T36)","v":0},{"$f":"U36/(W4-U25)","v":0},{"$f":"IF(V36=0,0,(V36*((LOG(V36))/LOG(2))))","v":0},null,{"$f":"N36","v":22212},{"$f":"COUNTIF(L11:L15,Y36)","v":1},{"$f":"Z36/(AB4-Z25)","v":0.2},{"$f":"IF(AA36=0,0,(AA36*((LOG(AA36))/LOG(2))))","v":-0.46438561897747244},null,{"$f":"N36","v":22212},{"$f":"COUNTIF(L16:L19,AD36)","v":1},{"$f":"AE36/(AG4-AE25)","v":0.25},{"$f":"IF(AF36=0,0,(AF36*((LOG(AF36))/LOG(2))))","v":-0.5},null,{"$f":"N36","v":22212},{"$f":"COUNTIF(L20:L23,AI36)","v":0},{"$f":"AJ36/(AL4-AJ25)","v":0},{"$f":"IF(AK36=0,0,(AK36*((LOG(AK36))/LOG(2))))","v":0},null,{"$f":"N36","v":22212},{"$f":"COUNTIF(L24:L28,AN36)","v":0},{"$f":"AO36/(AQ4-AO25)","v":0},{"$f":"IF(AP36=0,0,(AP36*((LOG(AP36))/LOG(2))))","v":0},null,{"$f":"N36","v":22212},{"$f":"COUNTIF(L29:L32,AS36)","v":0},{"$f":"AT36/(AV4-AT25)","v":0},{"$f":"IF(AU36=0,0,(AU36*((LOG(AU36))/LOG(2))))","v":0}]
[null,null,null,null,null,null,null,null,null,null,null,null,null,22221,{"$f":"COUNTIF($L$7:$L$500,N37)","v":1},{"$f":"O37/$Q$4","v":3.8461538461538464E-2},{"$f":"IF(P37=0,0,(P37*((LOG(P37))/LOG(2))))","v":-0.18078614300542661},null,null,{"$f":"N37","v":22221},{"$f":"COUNTIF(L7:L10,T37)","v":0},{"$f":"U37/(W4-U25)","v":0},{"$f":"IF(V37=0,0,(V37*((LOG(V37))/LOG(2))))","v":0},null,{"$f":"N37","v":22221},{"$f":"COUNTIF(L11:L15,Y37)","v":0},{"$f":"Z37/(AB4-Z25)","v":0},{"$f":"IF(AA37=0,0,(AA37*((LOG(AA37))/LOG(2))))","v":0},null,{"$f":"N37","v":22221},{"$f":"COUNTIF(L16:L19,AD37)","v":0},{"$f":"AE37/(AG4-AE25)","v":0},{"$f":"IF(AF37=0,0,(AF37*((LOG(AF37))/LOG(2))))","v":0},null,{"$f":"N37","v":22221},{"$f":"COUNTIF(L20:L23,AI37)","v":1},{"$f":"AJ37/(AL4-AJ25)","v":0.25},{"$f":"IF(AK37=0,0,(AK37*((LOG(AK37))/LOG(2))))","v":-0.5},null,{"$f":"N37","v":22221},{"$f":"COUNTIF(L24:L28,AN37)","v":0},{"$f":"AO37/(AQ4-AO25)","v":0},{"$f":"IF(AP37=0,0,(AP37*((LOG(AP37))/LOG(2))))","v":0},null,{"$f":"N37","v":22221},{"$f":"COUNTIF(L29:L32,AS37)","v":0},{"$f":"AT37/(AV4-AT25)","v":0},{"$f":"IF(AU37=0,0,(AU37*((LOG(AU37))/LOG(2))))","v":0}]
[null,null,null,null,null,null,null,null,null,null,null,null,null,22222,{"$f":"COUNTIF($L$7:$L$500,N38)","v":0},{"$f":"O38/$Q$4","v":0},{"$f":"IF(P38=0,0,(P38*((LOG(P38))/LOG(2))))","v":0},null,null,{"$f":"N38","v":22222},{"$f":"COUNTIF(L7:L10,T38)","v":0},{"$f":"U38/(W4-U25)","v":0},{"$f":"IF(V38=0,0,(V38*((LOG(V38))/LOG(2))))","v":0},null,{"$f":"N38","v":22222},{"$f":"COUNTIF(L11:L15,Y38)","v":0},{"$f":"Z38/(AB4-Z25)","v":0},{"$f":"IF(AA38=0,0,(AA38*((LOG(AA38))/LOG(2))))","v":0},null,{"$f":"N38","v":22222},{"$f":"COUNTIF(L16:L19,AD38)","v":0},{"$f":"AE38/(AG4-AE25)","v":0},{"$f":"IF(AF38=0,0,(AF38*((LOG(AF38))/LOG(2))))","v":0},null,{"$f":"N38","v":22222},{"$f":"COUNTIF(L20:L23,AI38)","v":0},{"$f":"AJ38/(AL4-AJ25)","v":0},{"$f":"IF(AK38=0,0,(AK38*((LOG(AK38))/LOG(2))))","v":0},null,{"$f":"N38","v":22222},{"$f":"COUNTIF(L24:L28,AN38)","v":0},{"$f":"AO38/(AQ4-AO25)","v":0},{"$f":"IF(AP38=0,0,(AP38*((LOG(AP38))/LOG(2))))","v":0},null,{"$f":"N38","v":22222},{"$f":"COUNTIF(L29:L32,AS38)","v":0},{"$f":"AT38/(AV4-AT25)","v":0},{"$f":"IF(AU38=0,0,(AU38*((LOG(AU38))/LOG(2))))","v":0}]
[null,null,null,null,null,null,null,null,null,null,null,null,null,null,null,{"$f":"SUM(P7:P38)","v":0.99999999999999989},{"$f":"-SUM(Q7:Q38)","v":3.2437357573361987},null,null,null,null,{"$f":"SUM(V7:V38)","v":1},{"$f":"-SUM(W7:W38)","v":1.5},null,null,null,{"$f":"SUM(AA7:AA38)","v":1},{"$f":"-SUM(AB7:AB38)","v":2.3219280948873622},null,null,null,{"$f":"SUM(AF7:AF38)","v":1},{"$f":"-SUM(AG7:AG38)","v":2},null,null,null,{"$f":"SUM(AK7:AK38)","v":1},{"$f":"-SUM(AL7:AL38)","v":1.5},null,null,null,{"$f":"SUM(AP7:AP38)","v":1},{"$f":"-SUM(AQ7:AQ38)","v":1.9219280948873623},null,null,null,{"$f":"SUM(AU7:AU38)","v":1},{"$f":"-SUM(AV7:AV38)","v":1.5}]
[null,null,null,null,null,null,null,null,null,null,null,null,null,null,null,"U=",{"$f":"Q39/(LOG(Q4)/LOG(2))","v":0.69009198114320602},null,null,null,null,"U1=",{"$f":"W39/(LOG(W4)/LOG(2))","v":0.75},null,null,null,"U2=",{"$f":"AB39/(LOG(AB4)/LOG(2))","v":0.99999999999999978},null,null,null,"U3=",{"$f":"AG39/(LOG(AG4)/LOG(2))","v":1},null,null,null,"U4=",{"$f":"AL39/(LOG(AL4)/LOG(2))","v":0.75},null,null,null,"U5=",{"$f":"AQ39/(LOG(AQ4)/LOG(2))","v":0.82772937677064262},null,null,null,"U6=",{"$f":"AV39/(LOG(AV4)/LOG(2))","v":0.75}]
[]
[]
[null,null,null,null,null,null,null,null,null,null,null,null,null,"Total Target Seq"]
[null,null,null,null,null,null,null,null,null,null,null,null,null,{"$f":"COUNTIF(L7:L32,G3)","v":0},null,4,5,4,4,5,4]
[null,null,null,null,null,null,null,null,null,null,null,null,null,null,null,"% of reinforcement given in 6 equal intervals based on number of trials "]
[null,null,null,null,null,null,null,null,null,null,null,null,null,null,null,"%_1","%_2","%_3","%_4","%_5","%_6"]
[null,null,null,null,null,null,null,null,null,null,null,null,null,null,"target sequence",{"$f":"$G$3","v":21121},{"$f":"$G$3","v":21121},{"$f":"$G$3","v":21121},{"$f":"$G$3","v":21121},{"$f":"$G$3","v":21121},{"$f":"$G$3","v":21121}]
[null,null,null,null,null,null,null,null,null,null,null,null,null,null,"total reinforcement",{"$f":"U25","v":0},{"$f":"Z25","v":0},{"$f":"AE25","v":0},{"$f":"AJ25","v":0},{"$f":"AO25","v":0},{"$f":"AT25","v":0}]
[null,null,null,null,null,null,null,null,null,null,null,null,null,null,"% target"]
[null,null,null,null,null,null,null,null,null,null,null,null,null,null,"CCRF"]
[null,null,null,null,null,null,null,null,null,null,null,null,null,null,"% CCRf"]
[null,null,null,null,null,null,null,null,null,null,null,null,null,null,"average response rate",{"$f":"J10/P44","v":145.25},{"$f":"(J15-J10)/Q44","v":170.2},{"$f":"(J19-J15)/R44","v":232.5},{"$f":"(J23-J19)/S44","v":1359},{"$f":"(J28-J23)/T44","v":1448.8},{"$f":"(J32-J28)/U44","v":2167.25}]

{"sheet":"!N111C00.105","index":13,"n_rows":52,"n_cols":48,"rows_kept":52,"cut":false,"hidden":false,"merged":[[4,39,4,42],[5,39,5,40],[4,44,4,47],[5,44,5,45],[4,24,4,27],[5,24,5,25],[4,29,4,32],[5,29,5,30],[4,34,4,37],[5,34,5,35],[1,1,1,2],[5,13,5,14],[42,13,42,14],[43,13,43,14],[4,19,4,22],[5,19,5,20]]}
["Report for:!N111C00.105"]
["Date:","<date>"]
["Hen:","<hen>",null,null,null,"Correct Sequence",{"$f":"Start!J2","v":21121},null,null,null,null,null,null,null,null,"Total Sequences in Data",{"$f":"4994-COUNTBLANK(L7:L5000)","v":12},null,null,null,null,"Total Sequences in Block Data",{"$f":"COUNTA(L7:L8)","v":2},null,null,null,"Total Sequences in Block Data",{"$f":"COUNTA(L9:L10)","v":2},null,null,null,"Total Sequences in Block Data",{"$f":"COUNTA(L11:L12)","v":2},null,null,null,"Total Sequences in Block Data",{"$f":"COUNTA(L13:L14)","v":2},null,null,null,"Total Sequences in Block Data",{"$f":"COUNTA(L15:L16)","v":2},null,null,null,"Total Sequences in Block Data",{"$f":"COUNTA(L17:L18)","v":2}]
[null,null,null,null,null,null,null,null,null,null,null,null,null,null,null,"Total Sequences in Summary",{"$f":"SUM(O7:O38)","v":11},null,null,null,null,"Total Sequences in Block Summary",{"$f":"SUM(U7:U38)","v":2},null,null,null,"Total Sequences in Block Summary",{"$f":"SUM(Z7:Z38)","v":2},null,null,null,"Total Sequences in Block Summary",{"$f":"SUM(AE7:AE38)","v":2},null,null,null,"Total Sequences in Block Summary",{"$f":"SUM(AJ7:AJ38)","v":2},null,null,null,"Total Sequences in Block Summary",{"$f":"SUM(AO7:AO38)","v":2},null,null,null,"Total Sequences in Block Summary",{"$f":"SUM(AT7:AT38)","v":1}]
[null,null,null,null,null,null,null,null,null,null,null,null,null,null,null,null,null,null,null,"Block 1",null,null,null,null,"Block 2",null,null,null,null,"Block 3",null,null,null,null,"Block 4",null,null,null,null,"Block 5",null,null,null,null,"Block 6"]
["Sequence\nComponent\n1","Time\n1","Sequence\nComponent\n2","Time\n2","Sequence\nComponent\n3","Time\n3","Sequence\nComponent\n4","Time\n4","Sequence\nComponent\n5","Time\n5","Correct?\n0=No 1=Yes","Sequence",null,"Frequency",null,"Relative Frequency","Variability",null,null,"Frequency",null,"Relative Frequency","Variability",null,"Frequency",null,"Relative Frequency","Variability",null,"Frequency",null,"Relative Frequency","Variability",null,"Frequency",null,"Relative Frequency","Variability",null,"Frequency",null,"Relative Frequency","Variability",null,"Frequency",null,"Relative Frequency","Variability"]
[21,23,22,40,24,50,23,68,24,90,0,22222,null,11111,{"$f":"COUNTIF($L$7:$L$500,N7)","v":0},{"$f":"O7/$Q$4","v":0},{"$f":"IF(P7=0,0,(P7*((LOG(P7))/LOG(2))))","v":0},null,null,{"$f":"N7","v":11111},{"$f":"COUNTIF(L7:L8,T7)","v":0},{"$f":"U7/(W4-U25)","v":0},{"$f":"IF(V7=0,0,(V7*((LOG(V7))/LOG(2))))","v":0},null,{"$f":"N7","v":11111},{"$f":"COUNTIF(L9:L10,Y7)","v":0},{"$f":"Z7/(AB4-Z25)","v":0},{"$f":"IF(AA7=0,0,(AA7*((LOG(AA7))/LOG(2))))","v":0},null,{"$f":"N7","v":11111},{"$f":"COUNTIF(L11:L12,AD7)","v":0},{"$f":"AE7/(AG4-AE25)","v":0},{"$f":"IF(AF7=0,0,(AF7*((LOG(AF7))/LOG(2))))","v":0},null,{"$f":"N7","v":11111},{"$f":"COUNTIF(L13:L14,AI7)","v":0},{"$f":"AJ7/(AL4-AJ25)","v":0},{"$f":"IF(AK7=0,0,(AK7*((LOG(AK7))/LOG(2))))","v":0},null,{"$f":"N7","v":11111},{"$f":"COUNTIF(L15:L16,AN7)","v":0},{"$f":"AO7/(AQ4-AO25)","v":0},{"$f":"IF(AP7=0,0,(AP7*((LOG(AP7))/LOG(2))))","v":0},null,{"$f":"N7","v":11111},{"$f":"COUNTIF(L17:L18,AS7)","v":0},{"$f":"AT7/(AV4-AT25)","v":0},{"$f":"IF(AU7=0,0,(AU7*((LOG(AU7))/LOG(2))))","v":0}]
[12,208,24,215,24,263,23,272,24,289,0,12222,null,11112,{"$f":"COUNTIF($L$7:$L$500,N8)","v":0},{"$f":"O8/$Q$4","v":0},{"$f":"IF(P8=0,0,(P8*((LOG(P8))/LOG(2))))","v":0},null,null,{"$f":"N8","v":11112},{"$f":"COUNTIF(L7:L8,T8)","v":0},{"$f":"U8/(W4-U25)","v":0},{"$f":"IF(V8=0,0,(V8*((LOG(V8))/LOG(2))))","v":0},null,{"$f":"N8","v":11112},{"$f":"COUNTIF(L9:L10,Y8)","v":0},{"$f":"Z8/(AB4-Z25)","v":0},{"$f":"IF(AA8=0,0,(AA8*((LOG(AA8))/LOG(2))))","v":0},null,{"$f":"N8","v":11112},{"$f":"COUNTIF(L11:L12,AD8)","v":0},{"$f":"AE8/(AG4-AE25)","v":0},{"$f":"IF(AF8=0,0,(AF8*((LOG(AF8))/LOG(2))))","v":0},null,{"$f":"N8","v":11112},{"$f":"COUNTIF(L13:L14,AI8)","v":0},{"$f":"AJ8/(AL4-AJ25)","v":0},{"$f":"IF(AK8=0,0,(AK8*((LOG(AK8))/LOG(2))))","v":0},null,{"$f":"N8","v":11112},{"$f":"COUNTIF(L15:L16,AN8)","v":0},{"$f":"AO8/(AQ4-AO25)","v":0},{"$f":"IF(AP8=0,0,(AP8*((LOG(AP8))/LOG(2))))","v":0},null,{"$f":"N8","v":11112},{"$f":"COUNTIF(L17:L18,AS8)","v":0},{"$f":"AT8/(AV4-AT25)","v":0},{"$f":"IF(AU8=0,0,(AU8*((LOG(AU8))/LOG(2))))","v":0}]
[21,426,22,439,24,528,23,545,13,552,0,22221,null,11121,{"$f":"COUNTIF($L$7:$L$500,N9)","v":0},{"$f":"O9/$Q$4","v":0},{"$f":"IF(P9=0,0,(P9*((LOG(P9))/LOG(2))))","v":0},null,null,{"$f":"N9","v":11121},{"$f":"COUNTIF(L7:L8,T9)","v":0},{"$f":"U9/(W4-U25)","v":0},{"$f":"IF(V9=0,0,(V9*((LOG(V9))/LOG(2))))","v":0},null,{"$f":"N9","v":11121},{"$f":"COUNTIF(L9:L10,Y9)","v":0},{"$f":"Z9/(AB4-Z25)","v":0},{"$f":"IF(AA9=0,0,(AA9*((LOG(AA9))/LOG(2))))","v":0},null,{"$f":"N9","v":11121},{"$f":"COUNTIF(L11:L12,AD9)","v":0},{"$f":"AE9/(AG4-AE25)","v":0},{"$f":"IF(AF9=0,0,(AF9*((LOG(AF9))/LOG(2))))","v":0},null,{"$f":"N9","v":11121},{"$f":"COUNTIF(L13:L14,AI9)","v":0},{"$f":"AJ9/(AL4-AJ25)","v":0},{"$f":"IF(AK9=0,0,(AK9*((LOG(AK9))/LOG(2))))","v":0},null,{"$f":"N9","v":11121},{"$f":"COUNTIF(L15:L16,AN9)","v":0},{"$f":"AO9/(AQ4-AO25)","v":0},{"$f":"IF(AP9=0,0,(AP9*((LOG(AP9))/LOG(2))))","v":0},null,{"$f":"N9","v":11121},{"$f":"COUNTIF(L17:L18,AS9)","v":0},{"$f":"AT9/(AV4-AT25)","v":0},{"$f":"IF(AU9=0,0,(AU9*((LOG(AU9))/LOG(2))))","v":0}]
[21,663,22,697,24,739,23,770,24,816,0,22222,null,11122,{"$f":"COUNTIF($L$7:$L$500,N10)","v":0},{"$f":"O10/$Q$4","v":0},{"$f":"IF(P10=0,0,(P10*((LOG(P10))/LOG(2))))","v":0},null,null,{"$f":"N10","v":11122},{"$f":"COUNTIF(L7:L8,T10)","v":0},{"$f":"U10/(W4-U25)","v":0},{"$f":"IF(V10=0,0,(V10*((LOG(V10))/LOG(2))))","v":0},null,{"$f":"N10","v":11122},{"$f":"COUNTIF(L9:L10,Y10)","v":0},{"$f":"Z10/(AB4-Z25)","v":0},{"$f":"IF(AA10=0,0,(AA10*((LOG(AA10))/LOG(2))))","v":0},null,{"$f":"N10","v":11122},{"$f":"COUNTIF(L11:L12,AD10)","v":0},{"$f":"AE10/(AG4-AE25)","v":0},{"$f":"IF(AF10=0,0,(AF10*((LOG(AF10))/LOG(2))))","v":0},null,{"$f":"N10","v":11122},{"$f":"COUNTIF(L13:L14,AI10)","v":0},{"$f":"AJ10/(AL4-AJ25)","v":0},{"$f":"IF(AK10=0,0,(AK10*((LOG(AK10))/LOG(2))))","v":0},null,{"$f":"N10","v":11122},{"$f":"COUNTIF(L15:L16,AN10)","v":0},{"$f":"AO10/(AQ4-AO25)","v":0},{"$f":"IF(AP10=0,0,(AP10*((LOG(AP10))/LOG(2))))","v":0},null,{"$f":"N10","v":11122},{"$f":"COUNTIF(L17:L18,AS10)","v":0},{"$f":"AT10/(AV4-AT25)","v":0},{"$f":"IF(AU10=0,0,(AU10*((LOG(AU10))/LOG(2))))","v":0}]
[12,1033,24,1042,24,1212,23,1229,24,1252,0,12222,null,11211,{"$f":"COUNTIF($L$7:$L$500,N11)","v":0},{"$f":"O11/$Q$4","v":0},{"$f":"IF(P11=0,0,(P11*((LOG(P11))/LOG(2))))","v":0},null,null,{"$f":"N11","v":11211},{"$f":"COUNTIF(L7:L8,T11)","v":0},{"$f":"U11/(W4-U25)","v":0},{"$f":"IF(V11=0,0,(V11*((LOG(V11))/LOG(2))))","v":0},null,{"$f":"N11","v":11211},{"$f":"COUNTIF(L9:L10,Y11)","v":0},{"$f":"Z11/(AB4-Z25)","v":0},{"$f":"IF(AA11=0,0,(AA11*((LOG(AA11))/LOG(2))))","v":0},null,{"$f":"N11","v":11211},{"$f":"COUNTIF(L11:L12,AD11)","v":0},{"$f":"AE11/(AG4-AE25)","v":0},{"$f":"IF(AF11=0,0,(AF11*((LOG(AF11))/LOG(2))))","v":0},null,{"$f":"N11","v":11211},{"$f":"COUNTIF(L13:L14,AI11)","v":0},{"$f":"AJ11/(AL4-AJ25)","v":0},{"$f":"IF(AK11=0,0,(AK11*((LOG(AK11))/LOG(2))))","v":0},null,{"$f":"N11","v":11211},{"$f":"COUNTIF(L15:L16,AN11)","v":0},{"$f":"AO11/(AQ4-AO25)","v":0},{"$f":"IF(AP11=0,0,(AP11*((LOG(AP11))/LOG(2))))","v":0},null,{"$f":"N11","v":11211},{"$f":"COUNTIF(L17:L18,AS11)","v":0},{"$f":"AT11/(AV4-AT25)","v":0},{"$f":"IF(AU11=0,0,(AU11*((LOG(AU11))/LOG(2))))","v":0}]
[21,2383,22,2420,24,2435,23,2445,24,2465,0,22222,null,11212,{"$f":"COUNTIF($L$7:$L$500,N12)","v":0},{"$f":"O12/$Q$4","v":0},{"$f":"IF(P12=0,0,(P12*((LOG(P12))/LOG(2))))","v":0},null,null,{"$f":"N12","v":11212},{"$f":"COUNTIF(L7:L8,T12)","v":0},{"$f":"U12/(W4-U25)","v":0},{"$f":"IF(V12=0,0,(V12*((LOG(V12))/LOG(2))))","v":0},null,{"$f":"N12","v":11212},{"$f":"COUNTIF(L9:L10,Y12)","v":0},{"$f":"Z12/(AB4-Z25)","v":0},{"$f":"IF(AA12=0,0,(AA12*((LOG(AA12))/LOG(2))))","v":0},null,{"$f":"N12","v":11212},{"$f":"COUNTIF(L11:L12,AD12)","v":0},{"$f":"AE12/(AG4-AE25)","v":0},{"$f":"IF(AF12=0,0,(AF12*((LOG(AF12))/LOG(2))))","v":0},null,{"$f":"N12","v":11212},{"$f":"COUNTIF(L13:L14,AI12)","v":0},{"$f":"AJ12/(AL4-AJ25)","v":0},{"$f":"IF(AK12=0,0,(AK12*((LOG(AK12))/LOG(2))))","v":0},null,{"$f":"N12","v":11212},{"$f":"COUNTIF(L15:L16,AN12)","v":0},{"$f":"AO12/(AQ4-AO25)","v":0},{"$f":"IF(AP12=0,0,(AP12*((LOG(AP12))/LOG(2))))","v":0},null,{"$f":"N12","v":11212},{"$f":"COUNTIF(L17:L18,AS12)","v":0},{"$f":"AT12/(AV4-AT25)","v":0},{"$f":"IF(AU12=0,0,(AU12*((LOG(AU12))/LOG(2))))","v":0}]
[12,3743,24,3755,13,4547,23,5087,13,5097,0,12121,null,11221,{"$f":"COUNTIF($L$7:$L$500,N13)","v":0},{"$f":"O13/$Q$4","v":0},{"$f":"IF(P13=0,0,(P13*((LOG(P13))/LOG(2))))","v":0},null,null,{"$f":"N13","v":11221},{"$f":"COUNTIF(L7:L8,T13)","v":0},{"$f":"U13/(W4-U25)","v":0},{"$f":"IF(V13=0,0,(V13*((LOG(V13))/LOG(2))))","v":0},null,{"$f":"N13","v":11221},{"$f":"COUNTIF(L9:L10,Y13)","v":0},{"$f":"Z13/(AB4-Z25)","v":0},{"$f":"IF(AA13=0,0,(AA13*((LOG(AA13))/LOG(2))))","v":0},null,{"$f":"N13","v":11221},{"$f":"COUNTIF(L11:L12,AD13)","v":0},{"$f":"AE13/(AG4-AE25)","v":0},{"$f":"IF(AF13=0,0,(AF13*((LOG(AF13))/LOG(2))))","v":0},null,{"$f":"N13","v":11221},{"$f":"COUNTIF(L13:L14,AI13)","v":0},{"$f":"AJ13/(AL4-AJ25)","v":0},{"$f":"IF(AK13=0,0,(AK13*((LOG(AK13))/LOG(2))))","v":0},null,{"$f":"N13","v":11221},{"$f":"COUNTIF(L15:L16,AN13)","v":0},{"$f":"AO13/(AQ4-AO25)","v":0},{"$f":"IF(AP13=0,0,(AP13*((LOG(AP13))/LOG(2))))","v":0},null,{"$f":"N13","v":11221},{"$f":"COUNTIF(L17:L18,AS13)","v":0},{"$f":"AT13/(AV4-AT25)","v":0},{"$f":"IF(AU13=0,0,(AU13*((LOG(AU13))/LOG(2))))","v":0}]
[21,5773,22,5786,24,5805,14,5829,24,5838,0,22212,null,11222,{"$f":"COUNTIF($L$7:$L$500,N14)","v":0},{"$f":"O14/$Q$4","v":0},{"$f":"IF(P14=0,0,(P14*((LOG(P14))/LOG(2))))","v":0},null,null,{"$f":"N14","v":11222},{"$f":"COUNTIF(L7:L8,T14)","v":0},{"$f":"U14/(W4-U25)","v":0},{"$f":"IF(V14=0,0,(V14*((LOG(V14))/LOG(2))))","v":0},null,{"$f":"N14","v":11222},{"$f":"COUNTIF(L9:L10,Y14)","v":0},{"$f":"Z14/(AB4-Z25)","v":0},{"$f":"IF(AA14=0,0,(AA14*((LOG(AA14))/LOG(2))))","v":0},null,{"$f":"N14","v":11222},{"$f":"COUNTIF(L11:L12,AD14)","v":0},{"$f":"AE14/(AG4-AE25)","v":0},{"$f":"IF(AF14=0,0,(AF14*((LOG(AF14))/LOG(2))))","v":0},null,{"$f":"N14","v":11222},{"$f":"COUNTIF(L13:L14,AI14)","v":0},{"$f":"AJ14/(AL4-AJ25)","v":0},{"$f":"IF(AK14=0,0,(AK14*((LOG(AK14))/LOG(2))))","v":0},null,{"$f":"N14","v":11222},{"$f":"COUNTIF(L15:L16,AN14)","v":0},{"$f":"AO14/(AQ4-AO25)","v":0},{"$f":"IF(AP14=0,0,(AP14*((LOG(AP14))/LOG(2))))","v":0},null,{"$f":"N14","v":11222},{"$f":"COUNTIF(L17:L18,AS14)","v":0},{"$f":"AT14/(AV4-AT25)","v":0},{"$f":"IF(AU14=0,0,(AU14*((LOG(AU14))/LOG(2))))","v":0}]
[21,6063,22,6083,24,6301,23,6315,24,6327,0,22222,null,12111,{"$f":"COUNTIF($L$7:$L$500,N15)","v":0},{"$f":"O15/$Q$4","v":0},{"$f":"IF(P15=0,0,(P15*((LOG(P15))/LOG(2))))","v":0},null,null,{"$f":"N15","v":12111},{"$f":"COUNTIF(L7:L8,T15)","v":0},{"$f":"U15/(W4-U25)","v":0},{"$f":"IF(V15=0,0,(V15*((LOG(V15))/LOG(2))))","v":0},null,{"$f":"N15","v":12111},{"$f":"COUNTIF(L9:L10,Y15)","v":0},{"$f":"Z15/(AB4-Z25)","v":0},{"$f":"IF(AA15=0,0,(AA15*((LOG(AA15))/LOG(2))))","v":0},null,{"$f":"N15","v":12111},{"$f":"COUNTIF(L11:L12,AD15)","v":0},{"$f":"AE15/(AG4-AE25)","v":0},{"$f":"IF(AF15=0,0,(AF15*((LOG(AF15))/LOG(2))))","v":0},null,{"$f":"N15","v":12111},{"$f":"COUNTIF(L13:L14,AI15)","v":0},{"$f":"AJ15/(AL4-AJ25)","v":0},{"$f":"IF(AK15=0,0,(AK15*((LOG(AK15))/LOG(2))))","v":0},null,{"$f":"N15","v":12111},{"$f":"COUNTIF(L15:L16,AN15)","v":0},{"$f":"AO15/(AQ4-AO25)","v":0},{"$f":"IF(AP15=0,0,(AP15*((LOG(AP15))/LOG(2))))","v":0},null,{"$f":"N15","v":12111},{"$f":"COUNTIF(L17:L18,AS15)","v":0},{"$f":"AT15/(AV4-AT25)","v":0},{"$f":"IF(AU15=0,0,(AU15*((LOG(AU15))/LOG(2))))","v":0}]
[21,7796,11,9202,22,9239,23,9252,13,9262,0,21221,null,12112,{"$f":"COUNTIF($L$7:$L$500,N16)","v":0},{"$f":"O16/$Q$4","v":0},{"$f":"IF(P16=0,0,(P16*((LOG(P16))/LOG(2))))","v":0},null,null,{"$f":"N16","v":12112},{"$f":"COUNTIF(L7:L8,T16)","v":0},{"$f":"U16/(W4-U25)","v":0},{"$f":"IF(V16=0,0,(V16*((LOG(V16))/LOG(2))))","v":0},null,{"$f":"N16","v":12112},{"$f":"COUNTIF(L9:L10,Y16)","v":0},{"$f":"Z16/(AB4-Z25)","v":0},{"$f":"IF(AA16=0,0,(AA16*((LOG(AA16))/LOG(2))))","v":0},null,{"$f":"N16","v":12112},{"$f":"COUNTIF(L11:L12,AD16)","v":0},{"$f":"AE16/(AG4-AE25)","v":0},{"$f":"IF(AF16=0,0,(AF16*((LOG(AF16))/LOG(2))))","v":0},null,{"$f":"N16","v":12112},{"$f":"COUNTIF(L13:L14,AI16)","v":0},{"$f":"AJ16/(AL4-AJ25)","v":0},{"$f":"IF(AK16=0,0,(AK16*((LOG(AK16))/LOG(2))))","v":0},null,{"$f":"N16","v":12112},{"$f":"COUNTIF(L15:L16,AN16)","v":0},{"$f":"AO16/(AQ4-AO25)","v":0},{"$f":"IF(AP16=0,0,(AP16*((LOG(AP16))/LOG(2))))","v":0},null,{"$f":"N16","v":12112},{"$f":"COUNTIF(L17:L18,AS16)","v":0},{"$f":"AT16/(AV4-AT25)","v":0},{"$f":"IF(AU16=0,0,(AU16*((LOG(AU16))/LOG(2))))","v":0}]
[21,10345,22,10387,13,13212,14,13227,24,14209,0,22112,null,12121,{"$f":"COUNTIF($L$7:$L$500,N17)","v":1},{"$f":"O17/$Q$4","v":9.0909090909090912E-2},{"$f":"IF(P17=0,0,(P17*((LOG(P17))/LOG(2))))","v":-0.31449378351248153},null,null,{"$f":"N17","v":12121},{"$f":"COUNTIF(L7:L8,T17)","v":0},{"$f":"U17/(W4-U25)","v":0},{"$f":"IF(V17=0,0,(V17*((LOG(V17))/LOG(2))))","v":0},null,{"$f":"N17","v":12121},{"$f":"COUNTIF(L9:L10,Y17)","v":0},{"$f":"Z17/(AB4-Z25)","v":0},{"$f":"IF(AA17=0,0,(AA17*((LOG(AA17))/LOG(2))))","v":0},null,{"$f":"N17","v":12121},{"$f":"COUNTIF(L11:L12,AD17)","v":0},{"$f":"AE17/(AG4-AE25)","v":0},{"$f":"IF(AF17=0,0,(AF17*((LOG(AF17))/LOG(2))))","v":0},null,{"$f":"N17","v":12121},{"$f":"COUNTIF(L13:L14,AI17)","v":1},{"$f":"AJ17/(AL4-AJ25)","v":0.5},{"$f":"IF(AK17=0,0,(AK17*((LOG(AK17))/LOG(2))))","v":-0.5},null,{"$f":"N17","v":12121},{"$f":"COUNTIF(L15:L16,AN17)","v":0},{"$f":"AO17/(AQ4-AO25)","v":0},{"$f":"IF(AP17=0,0,(AP17*((LOG(AP17))/LOG(2))))","v":0},null,{"$f":"N17","v":12121},{"$f":"COUNTIF(L17:L18,AS17)","v":0},{"$f":"AT17/(AV4-AT25)","v":0},{"$f":"IF(AU17=0,0,(AU17*((LOG(AU17))/LOG(2))))","v":0}]
[12,19079,13,20682,null,null,null,null,null,null,null,11,null,12122,{"$f":"COUNTIF($L$7:$L$500,N18)","v":0},{"$f":"O18/$Q$4","v":0},{"$f":"IF(P18=0,0,(P18*((LOG(P18))/LOG(2))))","v":0},null,null,{"$f":"N18","v":12122},{"$f":"COUNTIF(L7:L8,T18)","v":0},{"$f":"U18/(W4-U25)","v":0},{"$f":"IF(V18=0,0,(V18*((LOG(V18))/LOG(2))))","v":0},null,{"$f":"N18","v":12122},{"$f":"COUNTIF(L9:L10,Y18)","v":0},{"$f":"Z18/(AB4-Z25)","v":0},{"$f":"IF(AA18=0,0,(AA18*((LOG(AA18))/LOG(2))))","v":0},null,{"$f":"N18","v":12122},{"$f":"COUNTIF(L11:L12,AD18)","v":0},{"$f":"AE18/(AG4-AE25)","v":0},{"$f":"IF(AF18=0,0,(AF18*((LOG(AF18))/LOG(2))))","v":0},null,{"$f":"N18","v":12122},{"$f":"COUNTIF(L13:L14,AI18)","v":0},{"$f":"AJ18/(AL4-AJ25)","v":0},{"$f":"IF(AK18=0,0,(AK18*((LOG(AK18))/LOG(2))))","v":0},null,{"$f":"N18","v":12122},{"$f":"COUNTIF(L15:L16,AN18)","v":0},{"$f":"AO18/(AQ4-AO25)","v":0},{"$f":"IF(AP18=0,0,(AP18*((LOG(AP18))/LOG(2))))","v":0},null,{"$f":"N18","v":12122},{"$f":"COUNTIF(L17:L18,AS18)","v":0},{"$f":"AT18/(AV4-AT25)","v":0},{"$f":"IF(AU18=0,0,(AU18*((LOG(AU18))/LOG(2))))","v":0}]
[null,null,null,null,null,null,null,null,null,null,null,null,null,12211,{"$f":"COUNTIF($L$7:$L$500,N19)","v":0},{"$f":"O19/$Q$4","v":0},{"$f":"IF(P19=0,0,(P19*((LOG(P19))/LOG(2))))","v":0},null,null,{"$f":"N19","v":12211},{"$f":"COUNTIF(L7:L8,T19)","v":0},{"$f":"U19/(W4-U25)","v":0},{"$f":"IF(V19=0,0,(V19*((LOG(V19))/LOG(2))))","v":0},null,{"$f":"N19","v":12211},{"$f":"COUNTIF(L9:L10,Y19)","v":0},{"$f":"Z19/(AB4-Z25)","v":0},{"$f":"IF(AA19=0,0,(AA19*((LOG(AA19))/LOG(2))))","v":0},null,{"$f":"N19","v":12211},{"$f":"COUNTIF(L11:L12,AD19)","v":0},{"$f":"AE19/(AG4-AE25)","v":0},{"$f":"IF(AF19=0,0,(AF19*((LOG(AF19))/LOG(2))))","v":0},null,{"$f":"N19","v":12211},{"$f":"COUNTIF(L13:L14,AI19)","v":0},{"$f":"AJ19/(AL4-AJ25)","v":0},{"$f":"IF(AK19=0,0,(AK19*((LOG(AK19))/LOG(2))))","v":0},null,{"$f":"N19","v":12211},{"$f":"COUNTIF(L15:L16,AN19)","v":0},{"$f":"AO19/(AQ4-AO25)","v":0},{"$f":"IF(AP19=0,0,(AP19*((LOG(AP19))/LOG(2))))","v":0},null,{"$f":"N19","v":12211},{"$f":"COUNTIF(L17:L18,AS19)","v":0},{"$f":"AT19/(AV4-AT25)","v":0},{"$f":"IF(AU19=0,0,(AU19*((LOG(AU19))/LOG(2))))","v":0}]
[null,null,null,null,null,null,null,null,null,null,null,null,null,12212,{"$f":"COUNTIF($L$7:$L$500,N20)","v":0},{"$f":"O20/$Q$4","v":0},{"$f":"IF(P20=0,0,(P20*((LOG(P20))/LOG(2))))","v":0},null,null,{"$f":"N20","v":12212},{"$f":"COUNTIF(L7:L8,T20)","v":0},{"$f":"U20/(W4-U25)","v":0},{"$f":"IF(V20=0,0,(V20*((LOG(V20))/LOG(2))))","v":0},null,{"$f":"N20","v":12212},{"$f":"COUNTIF(L9:L10,Y20)","v":0},{"$f":"Z20/(AB4-Z25)","v":0},{"$f":"IF(AA20=0,0,(AA20*((LOG(AA20))/LOG(2))))","v":0},null,{"$f":"N20","v":12212},{"$f":"COUNTIF(L11:L12,AD20)","v":0},{"$f":"AE20/(AG4-AE25)","v":0},{"$f":"IF(AF20=0,0,(AF20*((LOG(AF20))/LOG(2))))","v":0},null,{"$f":"N20","v":12212},{"$f":"COUNTIF(L13:L14,AI20)","v":0},{"$f":"AJ20/(AL4-AJ25)","v":0},{"$f":"IF(AK20=0,0,(AK20*((LOG(AK20))/LOG(2))))","v":0},null,{"$f":"N20","v":12212},{"$f":"COUNTIF(L15:L16,AN20)","v":0},{"$f":"AO20/(AQ4-AO25)","v":0},{"$f":"IF(AP20=0,0,(AP20*((LOG(AP20))/LOG(2))))","v":0},null,{"$f":"N20","v":12212},{"$f":"COUNTIF(L17:L18,AS20)","v":0},{"$f":"AT20/(AV4-AT25)","v":0},{"$f":"IF(AU20=0,0,(AU20*((LOG(AU20))/LOG(2))))","v":0}]
[null,null,null,null,null,null,null,null,null,null,null,null,null,12221,{"$f":"COUNTIF($L$7:$L$500,N21)","v":0},{"$f":"O21/$Q$4","v":0},{"$f":"IF(P21=0,0,(P21*((LOG(P21))/LOG(2))))","v":0},null,null,{"$f":"N21","v":12221},{"$f":"COUNTIF(L7:L8,T21)","v":0},{"$f":"U21/(W4-U25)","v":0},{"$f":"IF(V21=0,0,(V21*((LOG(V21))/LOG(2))))","v":0},null,{"$f":"N21","v":12221},{"$f":"COUNTIF(L9:L10,Y21)","v":0},{"$f":"Z21/(AB4-Z25)","v":0},{"$f":"IF(AA21=0,0,(AA21*((LOG(AA21))/LOG(2))))","v":0},null,{"$f":"N21","v":12221},{"$f":"COUNTIF(L11:L12,AD21)","v":0},{"$f":"AE21/(AG4-AE25)","v":0},{"$f":"IF(AF21=0,0,(AF21*((LOG(AF21))/LOG(2))))","v":0},null,{"$f":"N21","v":12221},{"$f":"COUNTIF(L13:L14,AI21)","v":0},{"$f":"AJ21/(AL4-AJ25)","v":0},{"$f":"IF(AK21=0,0,(AK21*((LOG(AK21))/LOG(2))))","v":0},null,{"$f":"N21","v":12221},{"$f":"COUNTIF(L15:L16,AN21)","v":0},{"$f":"AO21/(AQ4-AO25)","v":0},{"$f":"IF(AP21=0,0,(AP21*((LOG(AP21))/LOG(2))))","v":0},null,{"$f":"N21","v":12221},{"$f":"COUNTIF(L17:L18,AS21)","v":0},{"$f":"AT21/(AV4-AT25)","v":0},{"$f":"IF(AU21=0,0,(AU21*((LOG(AU21))/LOG(2))))","v":0}]
[null,null,null,null,null,null,null,null,null,null,null,null,null,12222,{"$f":"COUNTIF($L$7:$L$500,N22)","v":2},{"$f":"O22/$Q$4","v":0.18181818181818182},{"$f":"IF(P22=0,0,(P22*((LOG(P22))/LOG(2))))","v":-0.44716938520678134},null,null,{"$f":"N22","v":12222},{"$f":"COUNTIF(L7:L8,T22)","v":1},{"$f":"U22/(W4-U25)","v":0.5},{"$f":"IF(V22=0,0,(V22*((LOG(V22))/LOG(2))))","v":-0.5},null,{"$f":"N22","v":12222},{"$f":"COUNTIF(L9:L10,Y22)","v":0},{"$f":"Z22/(AB4-Z25)","v":0},{"$f":"IF(AA22=0,0,(AA22*((LOG(AA22))/LOG(2))))","v":0},null,{"$f":"N22","v":12222},{"$f":"COUNTIF(L11:L12,AD22)","v":1},{"$f":"AE22/(AG4-AE25)","v":0.5},{"$f":"IF(AF22=0,0,(AF22*((LOG(AF22))/LOG(2))))","v":-0.5},null,{"$f":"N22","v":12222},{"$f":"COUNTIF(L13:L14,AI22)","v":0},{"$f":"AJ22/(AL4-AJ25)","v":0},{"$f":"IF(AK22=0,0,(AK22*((LOG(AK22))/LOG(2))))","v":0},null,{"$f":"N22","v":12222},{"$f":"COUNTIF(L15:L16,AN22)","v":0},{"$f":"AO22/(AQ4-AO25)","v":0},{"$f":"IF(AP22=0,0,(AP22*((LOG(AP22))/LOG(2))))","v":0},null,{"$f":"N22","v":12222},{"$f":"COUNTIF(L17:L18,AS22)","v":0},{"$f":"AT22/(AV4-AT25)","v":0},{"$f":"IF(AU22=0,0,(AU22*((LOG(AU22))/LOG(2))))","v":0}]
[null,null,null,null,null,null,null,null,null,null,null,null,null,21111,{"$f":"COUNTIF($L$7:$L$500,N23)","v":0},{"$f":"O23/$Q$4","v":0},{"$f":"IF(P23=0,0,(P23*((LOG(P23))/LOG(2))))","v":0},null,null,{"$f":"N23","v":21111},{"$f":"COUNTIF(L7:L8,T23)","v":0},{"$f":"U23/(W4-U25)","v":0},{"$f":"IF(V23=0,0,(V23*((LOG(V23))/LOG(2))))","v":0},null,{"$f":"N23","v":21111},{"$f":"COUNTIF(L9:L10,Y23)","v":0},{"$f":"Z23/(AB4-Z25)","v":0},{"$f":"IF(AA23=0,0,(AA23*((LOG(AA23))/LOG(2))))","v":0},null,{"$f":"N23","v":21111},{"$f":"COUNTIF(L11:L12,AD23)","v":0},{"$f":"AE23/(AG4-AE25)","v":0},{"$f":"IF(AF23=0,0,(AF23*((LOG(AF23))/LOG(2))))","v":0},null,{"$f":"N23","v":21111},{"$f":"COUNTIF(L13:L14,AI23)","v":0},{"$f":"AJ23/(AL4-AJ25)","v":0},{"$f":"IF(AK23=0,0,(AK23*((LOG(AK23))/LOG(2))))","v":0},null,{"$f":"N23","v":21111},{"$f":"COUNTIF(L15:L16,AN23)","v":0},{"$f":"AO23/(AQ4-AO25)","v":0},{"$f":"IF(AP23=0,0,(AP23*((LOG(AP23))/LOG(2))))","v":0},null,{"$f":"N23","v":21111},{"$f":"COUNTIF(L17:L18,AS23)","v":0},{"$f":"AT23/(AV4-AT25)","v":0},{"$f":"IF(AU23=0,0,(AU23*((LOG(AU23))/LOG(2))))","v":0}]
[null,null,null,null,null,null,null,null,null,null,null,null,null,21112,{"$f":"COUNTIF($L$7:$L$500,N24)","v":0},{"$f":"O24/$Q$4","v":0},{"$f":"IF(P24=0,0,(P24*((LOG(P24))/LOG(2))))","v":0},null,null,{"$f":"N24","v":21112},{"$f":"COUNTIF(L7:L8,T24)","v":0},{"$f":"U24/(W4-U25)","v":0},{"$f":"IF(V24=0,0,(V24*((LOG(V24))/LOG(2))))","v":0},null,{"$f":"N24","v":21112},{"$f":"COUNTIF(L9:L10,Y24)","v":0},{"$f":"Z24/(AB4-Z25)","v":0},{"$f":"IF(AA24=0,0,(AA24*((LOG(AA24))/LOG(2))))","v":0},null,{"$f":"N24","v":21112},{"$f":"COUNTIF(L11:L12,AD24)","v":0},{"$f":"AE24/(AG4-AE25)","v":0},{"$f":"IF(AF24=0,0,(AF24*((LOG(AF24))/LOG(2))))","v":0},null,{"$f":"N24","v":21112},{"$f":"COUNTIF(L13:L14,AI24)","v":0},{"$f":"AJ24/(AL4-AJ25)","v":0},{"$f":"IF(AK24=0,0,(AK24*((LOG(AK24))/LOG(2))))","v":0},null,{"$f":"N24","v":21112},{"$f":"COUNTIF(L15:L16,AN24)","v":0},{"$f":"AO24/(AQ4-AO25)","v":0},{"$f":"IF(AP24=0,0,(AP24*((LOG(AP24))/LOG(2))))","v":0},null,{"$f":"N24","v":21112},{"$f":"COUNTIF(L17:L18,AS24)","v":0},{"$f":"AT24/(AV4-AT25)","v":0},{"$f":"IF(AU24=0,0,(AU24*((LOG(AU24))/LOG(2))))","v":0}]
[null,null,null,null,null,null,null,null,null,null,null,null,null,21121,{"$f":"COUNTIF($L$7:$L$500,N25)","v":0},{"$f":"O25/$Q$4","v":0},{"$f":"IF(P25=0,0,(P25*((LOG(P25))/LOG(2))))","v":0},null,null,{"$f":"N25","v":21121},{"$f":"COUNTIF(L7:L8,T25)","v":0},null,null,null,{"$f":"N25","v":21121},{"$f":"COUNTIF(L9:L10,Y25)","v":0},null,null,null,{"$f":"N25","v":21121},{"$f":"COUNTIF(L11:L12,AD25)","v":0},null,null,null,{"$f":"N25","v":21121},{"$f":"COUNTIF(L13:L14,AI25)","v":0},null,null,null,{"$f":"N25","v":21121},{"$f":"COUNTIF(L15:L16,AN25)","v":0},null,null,null,{"$f":"N25","v":21121},{"$f":"COUNTIF(L17:L18,AS25)","v":0}]
[null,null,null,null,null,null,null,null,null,null,null,null,null,21122,{"$f":"COUNTIF($L$7:$L$500,N26)","v":0},{"$f":"O26/$Q$4","v":0},{"$f":"IF(P26=0,0,(P26*((LOG(P26))/LOG(2))))","v":0},null,null,{"$f":"N26","v":21122},{"$f":"COUNTIF(L7:L8,T26)","v":0},{"$f":"U26/(W4-U25)","v":0},{"$f":"IF(V26=0,0,(V26*((LOG(V26))/LOG(2))))","v":0},null,{"$f":"N26","v":21122},{"$f":"COUNTIF(L9:L10,Y26)","v":0},{"$f":"Z26/(AB4-Z25)","v":0},{"$f":"IF(AA26=0,0,(AA26*((LOG(AA26))/LOG(2))))","v":0},null,{"$f":"N26","v":21122},{"$f":"COUNTIF(L11:L12,AD26)","v":0},{"$f":"AE26/(AG4-AE25)","v":0},{"$f":"IF(AF26=0,0,(AF26*((LOG(AF26))/LOG(2))))","v":0},null,{"$f":"N26","v":21122},{"$f":"COUNTIF(L13:L14,AI26)","v":0},{"$f":"AJ26/(AL4-AJ25)","v":0},{"$f":"IF(AK26=0,0,(AK26*((LOG(AK26))/LOG(2))))","v":0},null,{"$f":"N26","v":21122},{"$f":"COUNTIF(L15:L16,AN26)","v":0},{"$f":"AO26/(AQ4-AO25)","v":0},{"$f":"IF(AP26=0,0,(AP26*((LOG(AP26))/LOG(2))))","v":0},null,{"$f":"N26","v":21122},{"$f":"COUNTIF(L17:L18,AS26)","v":0},{"$f":"AT26/(AV4-AT25)","v":0},{"$f":"IF(AU26=0,0,(AU26*((LOG(AU26))/LOG(2))))","v":0}]
[null,null,null,null,null,null,null,null,null,null,null,null,null,21211,{"$f":"COUNTIF($L$7:$L$500,N27)","v":0},{"$f":"O27/$Q$4","v":0},{"$f":"IF(P27=0,0,(P27*((LOG(P27))/LOG(2))))","v":0},null,null,{"$f":"N27","v":21211},{"$f":"COUNTIF(L7:L8,T27)","v":0},{"$f":"U27/(W4-U25)","v":0},{"$f":"IF(V27=0,0,(V27*((LOG(V27))/LOG(2))))","v":0},null,{"$f":"N27","v":21211},{"$f":"COUNTIF(L9:L10,Y27)","v":0},{"$f":"Z27/(AB4-Z25)","v":0},{"$f":"IF(AA27=0,0,(AA27*((LOG(AA27))/LOG(2))))","v":0},null,{"$f":"N27","v":21211},{"$f":"COUNTIF(L11:L12,AD27)","v":0},{"$f":"AE27/(AG4-AE25)","v":0},{"$f":"IF(AF27=0,0,(AF27*((LOG(AF27))/LOG(2))))","v":0},null,{"$f":"N27","v":21211},{"$f":"COUNTIF(L13:L14,AI27)","v":0},{"$f":"AJ27/(AL4-AJ25)","v":0},{"$f":"IF(AK27=0,0,(AK27*((LOG(AK27))/LOG(2))))","v":0},null,{"$f":"N27","v":21211},{"$f":"COUNTIF(L15:L16,AN27)","v":0},{"$f":"AO27/(AQ4-AO25)","v":0},{"$f":"IF(AP27=0,0,(AP27*((LOG(AP27))/LOG(2))))","v":0},null,{"$f":"N27","v":21211},{"$f":"COUNTIF(L17:L18,AS27)","v":0},{"$f":"AT27/(AV4-AT25)","v":0},{"$f":"IF(AU27=0,0,(AU27*((LOG(AU27))/LOG(2))))","v":0}]
[null,null,null,null,null,null,null,null,null,null,null,null,null,21212,{"$f":"COUNTIF($L$7:$L$500,N28)","v":0},{"$f":"O28/$Q$4","v":0},{"$f":"IF(P28=0,0,(P28*((LOG(P28))/LOG(2))))","v":0},null,null,{"$f":"N28","v":21212},{"$f":"COUNTIF(L7:L8,T28)","v":0},{"$f":"U28/(W4-U25)","v":0},{"$f":"IF(V28=0,0,(V28*((LOG(V28))/LOG(2))))","v":0},null,{"$f":"N28","v":21212},{"$f":"COUNTIF(L9:L10,Y28)","v":0},{"$f":"Z28/(AB4-Z25)","v":0},{"$f":"IF(AA28=0,0,(AA28*((LOG(AA28))/LOG(2))))","v":0},null,{"$f":"N28","v":21212},{"$f":"COUNTIF(L11:L12,AD28)","v":0},{"$f":"AE28/(AG4-AE25)","v":0},{"$f":"IF(AF28=0,0,(AF28*((LOG(AF28))/LOG(2))))","v":0},null,{"$f":"N28","v":21212},{"$f":"COUNTIF(L13:L14,AI28)","v":0},{"$f":"AJ28/(AL4-AJ25)","v":0},{"$f":"IF(AK28=0,0,(AK28*((LOG(AK28))/LOG(2))))","v":0},null,{"$f":"N28","v":21212},{"$f":"COUNTIF(L15:L16,AN28)","v":0},{"$f":"AO28/(AQ4-AO25)","v":0},{"$f":"IF(AP28=0,0,(AP28*((LOG(AP28))/LOG(2))))","v":0},null,{"$f":"N28","v":21212},{"$f":"COUNTIF(L17:L18,AS28)","v":0},{"$f":"AT28/(AV4-AT25)","v":0},{"$f":"IF(AU28=0,0,(AU28*((LOG(AU28))/LOG(2))))","v":0}]
[null,null,null,null,null,null,null,null,null,null,null,null,null,21221,{"$f":"COUNTIF($L$7:$L$500,N29)","v":1},{"$f":"O29/$Q$4","v":9.0909090909090912E-2},{"$f":"IF(P29=0,0,(P29*((LOG(P29))/LOG(2))))","v":-0.31449378351248153},null,null,{"$f":"N29","v":21221},{"$f":"COUNTIF(L7:L8,T29)","v":0},{"$f":"U29/(W4-U25)","v":0},{"$f":"IF(V29=0,0,(V29*((LOG(V29))/LOG(2))))","v":0},null,{"$f":"N29","v":21221},{"$f":"COUNTIF(L9:L10,Y29)","v":0},{"$f":"Z29/(AB4-Z25)","v":0},{"$f":"IF(AA29=0,0,(AA29*((LOG(AA29))/LOG(2))))","v":0},null,{"$f":"N29","v":21221},{"$f":"COUNTIF(L11:L12,AD29)","v":0},{"$f":"AE29/(AG4-AE25)","v":0},{"$f":"IF(AF29=0,0,(AF29*((LOG(AF29))/LOG(2))))","v":0},null,{"$f":"N29","v":21221},{"$f":"COUNTIF(L13:L14,AI29)","v":0},{"$f":"AJ29/(AL4-AJ25)","v":0},{"$f":"IF(AK29=0,0,(AK29*((LOG(AK29))/LOG(2))))","v":0},null,{"$f":"N29","v":21221},{"$f":"COUNTIF(L15:L16,AN29)","v":1},{"$f":"AO29/(AQ4-AO25)","v":0.5},{"$f":"IF(AP29=0,0,(AP29*((LOG(AP29))/LOG(2))))","v":-0.5},null,{"$f":"N29","v":21221},{"$f":"COUNTIF(L17:L18,AS29)","v":0},{"$f":"AT29/(AV4-AT25)","v":0},{"$f":"IF(AU29=0,0,(AU29*((LOG(AU29))/LOG(2))))","v":0}]
[null,null,null,null,null,null,null,null,null,null,null,null,null,21222,{"$f":"COUNTIF($L$7:$L$500,N30)","v":0},{"$f":"O30/$Q$4","v":0},{"$f":"IF(P30=0,0,(P30*((LOG(P30))/LOG(2))))","v":0},null,null,{"$f":"N30","v":21222},{"$f":"COUNTIF(L7:L8,T30)","v":0},{"$f":"U30/(W4-U25)","v":0},{"$f":"IF(V30=0,0,(V30*((LOG(V30))/LOG(2))))","v":0},null,{"$f":"N30","v":21222},{"$f":"COUNTIF(L9:L10,Y30)","v":0},{"$f":"Z30/(AB4-Z25)","v":0},{"$f":"IF(AA30=0,0,(AA30*((LOG(AA30))/LOG(2))))","v":0},null,{"$f":"N30","v":21222},{"$f":"COUNTIF(L11:L12,AD30)","v":0},{"$f":"AE30/(AG4-AE25)","v":0},{"$f":"IF(AF30=0,0,(AF30*((LOG(AF30))/LOG(2))))","v":0},null,{"$f":"N30","v":21222},{"$f":"COUNTIF(L13:L14,AI30)","v":0},{"$f":"AJ30/(AL4-AJ25)","v":0},{"$f":"IF(AK30=0,0,(AK30*((LOG(AK30))/LOG(2))))","v":0},null,{"$f":"N30","v":21222},{"$f":"COUNTIF(L15:L16,AN30)","v":0},{"$f":"AO30/(AQ4-AO25)","v":0},{"$f":"IF(AP30=0,0,(AP30*((LOG(AP30))/LOG(2))))","v":0},null,{"$f":"N30","v":21222},{"$f":"COUNTIF(L17:L18,AS30)","v":0},{"$f":"AT30/(AV4-AT25)","v":0},{"$f":"IF(AU30=0,0,(AU30*((LOG(AU30))/LOG(2))))","v":0}]
[null,null,null,null,null,null,null,null,null,null,null,null,null,22111,{"$f":"COUNTIF($L$7:$L$500,N31)","v":0},{"$f":"O31/$Q$4","v":0},{"$f":"IF(P31=0,0,(P31*((LOG(P31))/LOG(2))))","v":0},null,null,{"$f":"N31","v":22111},{"$f":"COUNTIF(L7:L8,T31)","v":0},{"$f":"U31/(W4-U25)","v":0},{"$f":"IF(V31=0,0,(V31*((LOG(V31))/LOG(2))))","v":0},null,{"$f":"N31","v":22111},{"$f":"COUNTIF(L9:L10,Y31)","v":0},{"$f":"Z31/(AB4-Z25)","v":0},{"$f":"IF(AA31=0,0,(AA31*((LOG(AA31))/LOG(2))))","v":0},null,{"$f":"N31","v":22111},{"$f":"COUNTIF(L11:L12,AD31)","v":0},{"$f":"AE31/(AG4-AE25)","v":0},{"$f":"IF(AF31=0,0,(AF31*((LOG(AF31))/LOG(2))))","v":0},null,{"$f":"N31","v":22111},{"$f":"COUNTIF(L13:L14,AI31)","v":0},{"$f":"AJ31/(AL4-AJ25)","v":0},{"$f":"IF(AK31=0,0,(AK31*((LOG(AK31))/LOG(2))))","v":0},null,{"$f":"N31","v":22111},{"$f":"COUNTIF(L15:L16,AN31)","v":0},{"$f":"AO31/(AQ4-AO25)","v":0},{"$f":"IF(AP31=0,0,(AP31*((LOG(AP31))/LOG(2))))","v":0},null,{"$f":"N31","v":22111},{"$f":"COUNTIF(L17:L18,AS31)","v":0},{"$f":"AT31/(AV4-AT25)","v":0},{"$f":"IF(AU31=0,0,(AU31*((LOG(AU31))/LOG(2))))","v":0}]
[null,null,null,null,null,null,null,null,null,null,null,null,null,22112,{"$f":"COUNTIF($L$7:$L$500,N32)","v":1},{"$f":"O32/$Q$4","v":9.0909090909090912E-2},{"$f":"IF(P32=0,0,(P32*((LOG(P32))/LOG(2))))","v":-0.31449378351248153},null,null,{"$f":"N32","v":22112},{"$f":"COUNTIF(L7:L8,T32)","v":0},{"$f":"U32/(W4-U25)","v":0},{"$f":"IF(V32=0,0,(V32*((LOG(V32))/LOG(2))))","v":0},null,{"$f":"N32","v":22112},{"$f":"COUNTIF(L9:L10,Y32)","v":0},{"$f":"Z32/(AB4-Z25)","v":0},{"$f":"IF(AA32=0,0,(AA32*((LOG(AA32))/LOG(2))))","v":0},null,{"$f":"N32","v":22112},{"$f":"COUNTIF(L11:L12,AD32)","v":0},{"$f":"AE32/(AG4-AE25)","v":0},{"$f":"IF(AF32=0,0,(AF32*((LOG(AF32))/LOG(2))))","v":0},null,{"$f":"N32","v":22112},{"$f":"COUNTIF(L13:L14,AI32)","v":0},{"$f":"AJ32/(AL4-AJ25)","v":0},{"$f":"IF(AK32=0,0,(AK32*((LOG(AK32))/LOG(2))))","v":0},null,{"$f":"N32","v":22112},{"$f":"COUNTIF(L15:L16,AN32)","v":0},{"$f":"AO32/(AQ4-AO25)","v":0},{"$f":"IF(AP32=0,0,(AP32*((LOG(AP32))/LOG(2))))","v":0},null,{"$f":"N32","v":22112},{"$f":"COUNTIF(L17:L18,AS32)","v":1},{"$f":"AT32/(AV4-AT25)","v":1},{"$f":"IF(AU32=0,0,(AU32*((LOG(AU32))/LOG(2))))","v":0}]
[null,null,null,null,null,null,null,null,null,null,null,null,null,22121,{"$f":"COUNTIF($L$7:$L$500,N33)","v":0},{"$f":"O33/$Q$4","v":0},{"$f":"IF(P33=0,0,(P33*((LOG(P33))/LOG(2))))","v":0},null,null,{"$f":"N33","v":22121},{"$f":"COUNTIF(L7:L8,T33)","v":0},{"$f":"U33/(W4-U25)","v":0},{"$f":"IF(V33=0,0,(V33*((LOG(V33))/LOG(2))))","v":0},null,{"$f":"N33","v":22121},{"$f":"COUNTIF(L9:L10,Y33)","v":0},{"$f":"Z33/(AB4-Z25)","v":0},{"$f":"IF(AA33=0,0,(AA33*((LOG(AA33))/LOG(2))))","v":0},null,{"$f":"N33","v":22121},{"$f":"COUNTIF(L11:L12,AD33)","v":0},{"$f":"AE33/(AG4-AE25)","v":0},{"$f":"IF(AF33=0,0,(AF33*((LOG(AF33))/LOG(2))))","v":0},null,{"$f":"N33","v":22121},{"$f":"COUNTIF(L13:L14,AI33)","v":0},{"$f":"AJ33/(AL4-AJ25)","v":0},{"$f":"IF(AK33=0,0,(AK33*((LOG(AK33))/LOG(2))))","v":0},null,{"$f":"N33","v":22121},{"$f":"COUNTIF(L15:L16,AN33)","v":0},{"$f":"AO33/(AQ4-AO25)","v":0},{"$f":"IF(AP33=0,0,(AP33*((LOG(AP33))/LOG(2))))","v":0},null,{"$f":"N33","v":22121},{"$f":"COUNTIF(L17:L18,AS33)","v":0},{"$f":"AT33/(AV4-AT25)","v":0},{"$f":"IF(AU33=0,0,(AU33*((LOG(AU33))/LOG(2))))","v":0}]
[null,null,null,null,null,null,null,null,null,null,null,null,null,22122,{"$f":"COUNTIF($L$7:$L$500,N34)","v":0},{"$f":"O34/$Q$4","v":0},{"$f":"IF(P34=0,0,(P34*((LOG(P34))/LOG(2))))","v":0},null,null,{"$f":"N34","v":22122},{"$f":"COUNTIF(L7:L8,T34)","v":0},{"$f":"U34/(W4-U25)","v":0},{"$f":"IF(V34=0,0,(V34*((LOG(V34))/LOG(2))))","v":0},null,{"$f":"N34","v":22122},{"$f":"COUNTIF(L9:L10,Y34)","v":0},{"$f":"Z34/(AB4-Z25)","v":0},{"$f":"IF(AA34=0,0,(AA34*((LOG(AA34))/LOG(2))))","v":0},null,{"$f":"N34","v":22122},{"$f":"COUNTIF(L11:L12,AD34)","v":0},{"$f":"AE34/(AG4-AE25)","v":0},{"$f":"IF(AF34=0,0,(AF34*((LOG(AF34))/LOG(2))))","v":0},null,{"$f":"N34","v":22122},{"$f":"COUNTIF(L13:L14,AI34)","v":0},{"$f":"AJ34/(AL4-AJ25)","v":0},{"$f":"IF(AK34=0,0,(AK34*((LOG(AK34))/LOG(2))))","v":0},null,{"$f":"N34","v":22122},{"$f":"COUNTIF(L15:L16,AN34)","v":0},{"$f":"AO34/(AQ4-AO25)","v":0},{"$f":"IF(AP34=0,0,(AP34*((LOG(AP34))/LOG(2))))","v":0},null,{"$f":"N34","v":22122},{"$f":"COUNTIF(L17:L18,AS34)","v":0},{"$f":"AT34/(AV4-AT25)","v":0},{"$f":"IF(AU34=0,0,(AU34*((LOG(AU34))/LOG(2))))","v":0}]
[null,null,null,null,null,null,null,null,null,null,null,null,null,22211,{"$f":"COUNTIF($L$7:$L$500,N35)","v":0},{"$f":"O35/$Q$4","v":0},{"$f":"IF(P35=0,0,(P35*((LOG(P35))/LOG(2))))","v":0},null,null,{"$f":"N35","v":22211},{"$f":"COUNTIF(L7:L8,T35)","v":0},{"$f":"U35/(W4-U25)","v":0},{"$f":"IF(V35=0,0,(V35*((LOG(V35))/LOG(2))))","v":0},null,{"$f":"N35","v":22211},{"$f":"COUNTIF(L9:L10,Y35)","v":0},{"$f":"Z35/(AB4-Z25)","v":0},{"$f":"IF(AA35=0,0,(AA35*((LOG(AA35))/LOG(2))))","v":0},null,{"$f":"N35","v":22211},{"$f":"COUNTIF(L11:L12,AD35)","v":0},{"$f":"AE35/(AG4-AE25)","v":0},{"$f":"IF(AF35=0,0,(AF35*((LOG(AF35))/LOG(2))))","v":0},null,{"$f":"N35","v":22211},{"$f":"COUNTIF(L13:L14,AI35)","v":0},{"$f":"AJ35/(AL4-AJ25)","v":0},{"$f":"IF(AK35=0,0,(AK35*((LOG(AK35))/LOG(2))))","v":0},null,{"$f":"N35","v":22211},{"$f":"COUNTIF(L15:L16,AN35)","v":0},{"$f":"AO35/(AQ4-AO25)","v":0},{"$f":"IF(AP35=0,0,(AP35*((LOG(AP35))/LOG(2))))","v":0},null,{"$f":"N35","v":22211},{"$f":"COUNTIF(L17:L18,AS35)","v":0},{"$f":"AT35/(AV4-AT25)","v":0},{"$f":"IF(AU35=0,0,(AU35*((LOG(AU35))/LOG(2))))","v":0}]
[null,null,null,null,null,null,null,null,null,null,null,null,null,22212,{"$f":"COUNTIF($L$7:$L$500,N36)","v":1},{"$f":"O36/$Q$4","v":9.0909090909090912E-2},{"$f":"IF(P36=0,0,(P36*((LOG(P36))/LOG(2))))","v":-0.31449378351248153},null,null,{"$f":"N36","v":22212},{"$f":"COUNTIF(L7:L8,T36)","v":0},{"$f":"U36/(W4-U25)","v":0},{"$f":"IF(V36=0,0,(V36*((LOG(V36))/LOG(2))))","v":0},null,{"$f":"N36","v":22212},{"$f":"COUNTIF(L9:L10,Y36)","v":0},{"$f":"Z36/(AB4-Z25)","v":0},{"$f":"IF(AA36=0,0,(AA36*((LOG(AA36))/LOG(2))))","v":0},null,{"$f":"N36","v":22212},{"$f":"COUNTIF(L11:L12,AD36)","v":0},{"$f":"AE36/(AG4-AE25)","v":0},{"$f":"IF(AF36=0,0,(AF36*((LOG(AF36))/LOG(2))))","v":0},null,{"$f":"N36","v":22212},{"$f":"COUNTIF(L13:L14,AI36)","v":1},{"$f":"AJ36/(AL4-AJ25)","v":0.5},{"$f":"IF(AK36=0,0,(AK36*((LOG(AK36))/LOG(2))))","v":-0.5},null,{"$f":"N36","v":22212},{"$f":"COUNTIF(L15:L16,AN36)","v":0},{"$f":"AO36/(AQ4-AO25)","v":0},{"$f":"IF(AP36=0,0,(AP36*((LOG(AP36))/LOG(2))))","v":0},null,{"$f":"N36","v":22212},{"$f":"COUNTIF(L17:L18,AS36)","v":0},{"$f":"AT36/(AV4-AT25)","v":0},{"$f":"IF(AU36=0,0,(AU36*((LOG(AU36))/LOG(2))))","v":0}]
[null,null,null,null,null,null,null,null,null,null,null,null,null,22221,{"$f":"COUNTIF($L$7:$L$500,N37)","v":1},{"$f":"O37/$Q$4","v":9.0909090909090912E-2},{"$f":"IF(P37=0,0,(P37*((LOG(P37))/LOG(2))))","v":-0.31449378351248153},null,null,{"$f":"N37","v":22221},{"$f":"COUNTIF(L7:L8,T37)","v":0},{"$f":"U37/(W4-U25)","v":0},{"$f":"IF(V37=0,0,(V37*((LOG(V37))/LOG(2))))","v":0},null,{"$f":"N37","v":22221},{"$f":"COUNTIF(L9:L10,Y37)","v":1},{"$f":"Z37/(AB4-Z25)","v":0.5},{"$f":"IF(AA37=0,0,(AA37*((LOG(AA37))/LOG(2))))","v":-0.5},null,{"$f":"N37","v":22221},{"$f":"COUNTIF(L11:L12,AD37)","v":0},{"$f":"AE37/(AG4-AE25)","v":0},{"$f":"IF(AF37=0,0,(AF37*((LOG(AF37))/LOG(2))))","v":0},null,{"$f":"N37","v":22221},{"$f":"COUNTIF(L13:L14,AI37)","v":0},{"$f":"AJ37/(AL4-AJ25)","v":0},{"$f":"IF(AK37=0,0,(AK37*((LOG(AK37))/LOG(2))))","v":0},null,{"$f":"N37","v":22221},{"$f":"COUNTIF(L15:L16,AN37)","v":0},{"$f":"AO37/(AQ4-AO25)","v":0},{"$f":"IF(AP37=0,0,(AP37*((LOG(AP37))/LOG(2))))","v":0},null,{"$f":"N37","v":22221},{"$f":"COUNTIF(L17:L18,AS37)","v":0},{"$f":"AT37/(AV4-AT25)","v":0},{"$f":"IF(AU37=0,0,(AU37*((LOG(AU37))/LOG(2))))","v":0}]
[null,null,null,null,null,null,null,null,null,null,null,null,null,22222,{"$f":"COUNTIF($L$7:$L$500,N38)","v":4},{"$f":"O38/$Q$4","v":0.36363636363636365},{"$f":"IF(P38=0,0,(P38*((LOG(P38))/LOG(2))))","v":-0.53070240677719893},null,null,{"$f":"N38","v":22222},{"$f":"COUNTIF(L7:L8,T38)","v":1},{"$f":"U38/(W4-U25)","v":0.5},{"$f":"IF(V38=0,0,(V38*((LOG(V38))/LOG(2))))","v":-0.5},null,{"$f":"N38","v":22222},{"$f":"COUNTIF(L9:L10,Y38)","v":1},{"$f":"Z38/(AB4-Z25)","v":0.5},{"$f":"IF(AA38=0,0,(AA38*((LOG(AA38))/LOG(2))))","v":-0.5},null,{"$f":"N38","v":22222},{"$f":"COUNTIF(L11:L12,AD38)","v":1},{"$f":"AE38/(AG4-AE25)","v":0.5},{"$f":"IF(AF38=0,0,(AF38*((LOG(AF38))/LOG(2))))","v":-0.5},null,{"$f":"N38","v":22222},{"$f":"COUNTIF(L13:L14,AI38)","v":0},{"$f":"AJ38/(AL4-AJ25)","v":0},{"$f":"IF(AK38=0,0,(AK38*((LOG(AK38))/LOG(2))))","v":0},null,{"$f":"N38","v":22222},{"$f":"COUNTIF(L15:L16,AN38)","v":1},{"$f":"AO38/(AQ4-AO25)","v":0.5},{"$f":"IF(AP38=0,0,(AP38*((LOG(AP38))/LOG(2))))","v":-0.5},null,{"$f":"N38","v":22222},{"$f":"COUNTIF(L17:L18,AS38)","v":0},{"$f":"AT38/(AV4-AT25)","v":0},{"$f":"IF(AU38=0,0,(AU38*((LOG(AU38))/LOG(2))))","v":0}]
[null,null,null,null,null,null,null,null,null,null,null,null,null,null,null,{"$f":"SUM(P7:P38)","v":1},{"$f":"-SUM(Q7:Q38)","v":2.5503407095463877},null,null,null,null,{"$f":"SUM(V7:V38)","v":1},{"$f":"-SUM(W7:W38)","v":1},null,null,null,{"$f":"SUM(AA7:AA38)","v":1},{"$f":"-SUM(AB7:AB38)","v":1},null,null,null,{"$f":"SUM(AF7:AF38)","v":1},{"$f":"-SUM(AG7:AG38)","v":1},null,null,null,{"$f":"SUM(AK7:AK38)","v":1},{"$f":"-SUM(AL7:AL38)","v":1},null,null,null,{"$f":"SUM(AP7:AP38)","v":1},{"$f":"-SUM(AQ7:AQ38)","v":1},null,null,null,{"$f":"SUM(AU7:AU38)","v":1},{"$f":"-SUM(AV7:AV38)","v":0}]
[null,null,null,null,null,null,null,null,null,null,null,null,null,null,null,"U=",{"$f":"Q39/(LOG(Q4)/LOG(2))","v":0.73721379425646538},null,null,null,null,"U1=",{"$f":"W39/(LOG(W4)/LOG(2))","v":1},null,null,null,"U2=",{"$f":"AB39/(LOG(AB4)/LOG(2))","v":1},null,null,null,"U3=",{"$f":"AG39/(LOG(AG4)/LOG(2))","v":1},null,null,null,"U4=",{"$f":"AL39/(LOG(AL4)/LOG(2))","v":1},null,null,null,"U5=",{"$f":"AQ39/(LOG(AQ4)/LOG(2))","v":1},null,null,null,"U6=",{"$f":"AV39/(LOG(AV4)/LOG(2))","v":{"$error":"#DIV/0!"}}]
[]
[]
[null,null,null,null,null,null,null,null,null,null,null,null,null,"Total Target Seq"]
[null,null,null,null,null,null,null,null,null,null,null,null,null,{"$f":"COUNTIF(L7:L18,G3)","v":0},null,2,2,2,2,2,2]
[null,null,null,null,null,null,null,null,null,null,null,null,null,null,null,"% of reinforcement given in 6 equal intervals based on number of trials "]
[null,null,null,null,null,null,null,null,null,null,null,null,null,null,null,"%_1","%_2","%_3","%_4","%_5","%_6"]
[null,null,null,null,null,null,null,null,null,null,null,null,null,null,"target sequence",{"$f":"$G$3","v":21121},{"$f":"$G$3","v":21121},{"$f":"$G$3","v":21121},{"$f":"$G$3","v":21121},{"$f":"$G$3","v":21121},{"$f":"$G$3","v":21121}]
[null,null,null,null,null,null,null,null,null,null,null,null,null,null,"total reinforcement",{"$f":"U25","v":0},{"$f":"Z25","v":0},{"$f":"AE25","v":0},{"$f":"AJ25","v":0},{"$f":"AO25","v":0},{"$f":"AT25","v":0}]
[null,null,null,null,null,null,null,null,null,null,null,null,null,null,"% target"]
[null,null,null,null,null,null,null,null,null,null,null,null,null,null,"CCRF"]
[null,null,null,null,null,null,null,null,null,null,null,null,null,null,"% CCRf"]
[null,null,null,null,null,null,null,null,null,null,null,null,null,null,"average response rate",{"$f":"J8/P44","v":144.5},{"$f":"(J10-J8)/Q44","v":263.5},{"$f":"(J12-J10)/R44","v":824.5},{"$f":"(J14-J12)/S44","v":1686.5},{"$f":"(J16-J14)/T44","v":1712},{"$f":"(J18-J16)/U44","v":-4631}]

{"sheet":"!N112850.105","index":14,"n_rows":52,"n_cols":48,"rows_kept":52,"cut":false,"hidden":false,"merged":[[4,39,4,42],[5,39,5,40],[4,44,4,47],[5,44,5,45],[4,24,4,27],[5,24,5,25],[4,29,4,32],[5,29,5,30],[4,34,4,37],[5,34,5,35],[1,1,1,2],[5,13,5,14],[42,13,42,14],[43,13,43,14],[4,19,4,22],[5,19,5,20]]}
["Report for:!N112850.105"]
["Date:","<date>"]
["Hen:","<hen>",null,null,null,"Correct Sequence",{"$f":"Start!J2","v":21121},null,null,null,null,null,null,null,null,"Total Sequences in Data",{"$f":"4994-COUNTBLANK(L7:L5000)","v":6},null,null,null,null,"Total Sequences in Block Data",{"$f":"COUNTA(L7:L7)","v":1},null,null,null,"Total Sequences in Block Data",{"$f":"COUNTA(L8:L8)","v":1},null,null,null,"Total Sequences in Block Data",{"$f":"COUNTA(L9:L9)","v":1},null,null,null,"Total Sequences in Block Data",{"$f":"COUNTA(L10:L10)","v":1},null,null,null,"Total Sequences in Block Data",{"$f":"COUNTA(L11:L11)","v":1},null,null,null,"Total Sequences in Block Data",{"$f":"COUNTA(L12:L12)","v":1}]
[null,null,null,null,null,null,null,null,null,null,null,null,null,null,null,"Total Sequences in Summary",{"$f":"SUM(O7:O38)","v":6},null,null,null,null,"Total Sequences in Block Summary",{"$f":"SUM(U7:U38)","v":1},null,null,null,"Total Sequences in Block Summary",{"$f":"SUM(Z7:Z38)","v":1},null,null,null,"Total Sequences in Block Summary",{"$f":"SUM(AE7:AE38)","v":1},null,null,null,"Total Sequences in Block Summary",{"$f":"SUM(AJ7:AJ38)","v":1},null,null,null,"Total Sequences in Block Summary",{"$f":"SUM(AO7:AO38)","v":1},null,null,null,"Total Sequences in Block Summary",{"$f":"SUM(AT7:AT38)","v":1}]
[null,null,null,null,null,null,null,null,null,null,null,null,null,null,null,null,null,null,null,"Block 1",null,null,null,null,"Block 2",null,null,null,null,"Block 3",null,null,null,null,"Block 4",null,null,null,null,"Block 5",null,null,null,null,"Block 6"]
["Sequence\nComponent\n1","Time\n1","Sequence\nComponent\n2","Time\n2","Sequence\nComponent\n3","Time\n3","Sequence\nComponent\n4","Time\n4","Sequence\nComponent\n5","Time\n5","Correct?\n0=No 1=Yes","Sequence",null,"Frequency",null,"Relative Frequency","Variability",null,null,"Frequency",null,"Relative Frequency","Variability",null,"Frequency",null,"Relative Frequency","Variability",null,"Frequency",null,"Relative Frequency","Variability",null,"Frequency",null,"Relative Frequency","Variability",null,"Frequency",null,"Relative Frequency","Variability",null,"Frequency",null,"Relative Frequency","Variability"]
[21,43,22,49,24,63,23,68,24,77,0,22222,null,11111,{"$f":"COUNTIF($L$7:$L$500,N7)","v":0},{"$f":"O7/$Q$4","v":0},{"$f":"IF(P7=0,0,(P7*((LOG(P7))/LOG(2))))","v":0},null,null,{"$f":"N7","v":11111},{"$f":"COUNTIF(L7:L7,T7)","v":0},{"$f":"U7/(W4-U25)","v":0},{"$f":"IF(V7=0,0,(V7*((LOG(V7))/LOG(2))))","v":0},null,{"$f":"N7","v":11111},{"$f":"COUNTIF(L8:L8,Y7)","v":0},{"$f":"Z7/(AB4-Z25)","v":0},{"$f":"IF(AA7=0,0,(AA7*((LOG(AA7))/LOG(2))))","v":0},null,{"$f":"N7","v":11111},{"$f":"COUNTIF(L9:L9,AD7)","v":0},{"$f":"AE7/(AG4-AE25)","v":0},{"$f":"IF(AF7=0,0,(AF7*((LOG(AF7))/LOG(2))))","v":0},null,{"$f":"N7","v":11111},{"$f":"COUNTIF(L10:L10,AI7)","v":0},{"$f":"AJ7/(AL4-AJ25)","v":0},{"$f":"IF(AK7=0,0,(AK7*((LOG(AK7))/LOG(2))))","v":0},null,{"$f":"N7","v":11111},{"$f":"COUNTIF(L11:L11,AN7)","v":0},{"$f":"AO7/(AQ4-AO25)","v":0},{"$f":"IF(AP7=0,0,(AP7*((LOG(AP7))/LOG(2))))","v":0},null,{"$f":"N7","v":11111},{"$f":"COUNTIF(L12:L12,AS7)","v":0},{"$f":"AT7/(AV4-AT25)","v":0},{"$f":"IF(AU7=0,0,(AU7*((LOG(AU7))/LOG(2))))","v":0}]
[21,183,22,232,24,273,23,283,24,301,0,22222,null,11112,{"$f":"COUNTIF($L$7:$L$500,N8)","v":0},{"$f":"O8/$Q$4","v":0},{"$f":"IF(P8=0,0,(P8*((LOG(P8))/LOG(2))))","v":0},null,null,{"$f":"N8","v":11112},{"$f":"COUNTIF(L7:L7,T8)","v":0},{"$f":"U8/(W4-U25)","v":0},{"$f":"IF(V8=0,0,(V8*((LOG(V8))/LOG(2))))","v":0},null,{"$f":"N8","v":11112},{"$f":"COUNTIF(L8:L8,Y8)","v":0},{"$f":"Z8/(AB4-Z25)","v":0},{"$f":"IF(AA8=0,0,(AA8*((LOG(AA8))/LOG(2))))","v":0},null,{"$f":"N8","v":11112},{"$f":"COUNTIF(L9:L9,AD8)","v":0},{"$f":"AE8/(AG4-AE25)","v":0},{"$f":"IF(AF8=0,0,(AF8*((LOG(AF8))/LOG(2))))","v":0},null,{"$f":"N8","v":11112},{"$f":"COUNTIF(L10:L10,AI8)","v":0},{"$f":"AJ8/(AL4-AJ25)","v":0},{"$f":"IF(AK8=0,0,(AK8*((LOG(AK8))/LOG(2))))","v":0},null,{"$f":"N8","v":11112},{"$f":"COUNTIF(L11:L11,AN8)","v":0},{"$f":"AO8/(AQ4-AO25)","v":0},{"$f":"IF(AP8=0,0,(AP8*((LOG(AP8))/LOG(2))))","v":0},null,{"$f":"N8","v":11112},{"$f":"COUNTIF(L12:L12,AS8)","v":0},{"$f":"AT8/(AV4-AT25)","v":0},{"$f":"IF(AU8=0,0,(AU8*((LOG(AU8))/LOG(2))))","v":0}]
[21,469,22,488,24,502,23,513,24,533,0,22222,null,11121,{"$f":"COUNTIF($L$7:$L$500,N9)","v":0},{"$f":"O9/$Q$4","v":0},{"$f":"IF(P9=0,0,(P9*((LOG(P9))/LOG(2))))","v":0},null,null,{"$f":"N9","v":11121},{"$f":"COUNTIF(L7:L7,T9)","v":0},{"$f":"U9/(W4-U25)","v":0},{"$f":"IF(V9=0,0,(V9*((LOG(V9))/LOG(2))))","v":0},null,{"$f":"N9","v":11121},{"$f":"COUNTIF(L8:L8,Y9)","v":0},{"$f":"Z9/(AB4-Z25)","v":0},{"$f":"IF(AA9=0,0,(AA9*((LOG(AA9))/LOG(2))))","v":0},null,{"$f":"N9","v":11121},{"$f":"COUNTIF(L9:L9,AD9)","v":0},{"$f":"AE9/(AG4-AE25)","v":0},{"$f":"IF(AF9=0,0,(AF9*((LOG(AF9))/LOG(2))))","v":0},null,{"$f":"N9","v":11121},{"$f":"COUNTIF(L10:L10,AI9)","v":0},{"$f":"AJ9/(AL4-AJ25)","v":0},{"$f":"IF(AK9=0,0,(AK9*((LOG(AK9))/LOG(2))))","v":0},null,{"$f":"N9","v":11121},{"$f":"COUNTIF(L11:L11,AN9)","v":0},{"$f":"AO9/(AQ4-AO25)","v":0},{"$f":"IF(AP9=0,0,(AP9*((LOG(AP9))/LOG(2))))","v":0},null,{"$f":"N9","v":11121},{"$f":"COUNTIF(L12:L12,AS9)","v":0},{"$f":"AT9/(AV4-AT25)","v":0},{"$f":"IF(AU9=0,0,(AU9*((LOG(AU9))/LOG(2))))","v":0}]
[21,943,22,961,24,992,14,1005,24,1014,0,22212,null,11122,{"$f":"COUNTIF($L$7:$L$500,N10)","v":0},{"$f":"O10/$Q$4","v":0},{"$f":"IF(P10=0,0,(P10*((LOG(P10))/LOG(2))))","v":0},null,null,{"$f":"N10","v":11122},{"$f":"COUNTIF(L7:L7,T10)","v":0},{"$f":"U10/(W4-U25)","v":0},{"$f":"IF(V10=0,0,(V10*((LOG(V10))/LOG(2))))","v":0},null,{"$f":"N10","v":11122},{"$f":"COUNTIF(L8:L8,Y10)","v":0},{"$f":"Z10/(AB4-Z25)","v":0},{"$f":"IF(AA10=0,0,(AA10*((LOG(AA10))/LOG(2))))","v":0},null,{"$f":"N10","v":11122},{"$f":"COUNTIF(L9:L9,AD10)","v":0},{"$f":"AE10/(AG4-AE25)","v":0},{"$f":"IF(AF10=0,0,(AF10*((LOG(AF10))/LOG(2))))","v":0},null,{"$f":"N10","v":11122},{"$f":"COUNTIF(L10:L10,AI10)","v":0},{"$f":"AJ10/(AL4-AJ25)","v":0},{"$f":"IF(AK10=0,0,(AK10*((LOG(AK10))/LOG(2))))","v":0},null,{"$f":"N10","v":11122},{"$f":"COUNTIF(L11:L11,AN10)","v":0},{"$f":"AO10/(AQ4-AO25)","v":0},{"$f":"IF(AP10=0,0,(AP10*((LOG(AP10))/LOG(2))))","v":0},null,{"$f":"N10","v":11122},{"$f":"COUNTIF(L12:L12,AS10)","v":0},{"$f":"AT10/(AV4-AT25)","v":0},{"$f":"IF(AU10=0,0,(AU10*((LOG(AU10))/LOG(2))))","v":0}]
[21,12314,22,12345,24,12410,23,13060,24,13082,0,22222,null,11211,{"$f":"COUNTIF($L$7:$L$500,N11)","v":0},{"$f":"O11/$Q$4","v":0},{"$f":"IF(P11=0,0,(P11*((LOG(P11))/LOG(2))))","v":0},null,null,{"$f":"N11","v":11211},{"$f":"COUNTIF(L7:L7,T11)","v":0},{"$f":"U11/(W4-U25)","v":0},{"$f":"IF(V11=0,0,(V11*((LOG(V11))/LOG(2))))","v":0},null,{"$f":"N11","v":11211},{"$f":"COUNTIF(L8:L8,Y11)","v":0},{"$f":"Z11/(AB4-Z25)","v":0},{"$f":"IF(AA11=0,0,(AA11*((LOG(AA11))/LOG(2))))","v":0},null,{"$f":"N11","v":11211},{"$f":"COUNTIF(L9:L9,AD11)","v":0},{"$f":"AE11/(AG4-AE25)","v":0},{"$f":"IF(AF11=0,0,(AF11*((LOG(AF11))/LOG(2))))","v":0},null,{"$f":"N11","v":11211},{"$f":"COUNTIF(L10:L10,AI11)","v":0},{"$f":"AJ11/(AL4-AJ25)","v":0},{"$f":"IF(AK11=0,0,(AK11*((LOG(AK11))/LOG(2))))","v":0},null,{"$f":"N11","v":11211},{"$f":"COUNTIF(L11:L11,AN11)","v":0},{"$f":"AO11/(AQ4-AO25)","v":0},{"$f":"IF(AP11=0,0,(AP11*((LOG(AP11))/LOG(2))))","v":0},null,{"$f":"N11","v":11211},{"$f":"COUNTIF(L12:L12,AS11)","v":0},{"$f":"AT11/(AV4-AT25)","v":0},{"$f":"IF(AU11=0,0,(AU11*((LOG(AU11))/LOG(2))))","v":0}]
[21,13757,22,13771,24,13783,23,19454,24,19491,0,22222,null,11212,{"$f":"COUNTIF($L$7:$L$500,N12)","v":0},{"$f":"O12/$Q$4","v":0},{"$f":"IF(P12=0,0,(P12*((LOG(P12))/LOG(2))))","v":0},null,null,{"$f":"N12","v":11212},{"$f":"COUNTIF(L7:L7,T12)","v":0},{"$f":"U12/(W4-U25)","v":0},{"$f":"IF(V12=0,0,(V12*((LOG(V12))/LOG(2))))","v":0},null,{"$f":"N12","v":11212},{"$f":"COUNTIF(L8:L8,Y12)","v":0},{"$f":"Z12/(AB4-Z25)","v":0},{"$f":"IF(AA12=0,0,(AA12*((LOG(AA12))/LOG(2))))","v":0},null,{"$f":"N12","v":11212},{"$f":"COUNTIF(L9:L9,AD12)","v":0},{"$f":"AE12/(AG4-AE25)","v":0},{"$f":"IF(AF12=0,0,(AF12*((LOG(AF12))/LOG(2))))","v":0},null,{"$f":"N12","v":11212},{"$f":"COUNTIF(L10:L10,AI12)","v":0},{"$f":"AJ12/(AL4-AJ25)","v":0},{"$f":"IF(AK12=0,0,(AK12*((LOG(AK12))/LOG(2))))","v":0},null,{"$f":"N12","v":11212},{"$f":"COUNTIF(L11:L11,AN12)","v":0},{"$f":"AO12/(AQ4-AO25)","v":0},{"$f":"IF(AP12=0,0,(AP12*((LOG(AP12))/LOG(2))))","v":0},null,{"$f":"N12","v":11212},{"$f":"COUNTIF(L12:L12,AS12)","v":0},{"$f":"AT12/(AV4-AT25)","v":0},{"$f":"IF(AU12=0,0,(AU12*((LOG(AU12))/LOG(2))))","v":0}]
[null,null,null,null,null,null,null,null,null,null,null,null,null,11221,{"$f":"COUNTIF($L$7:$L$500,N13)","v":0},{"$f":"O13/$Q$4","v":0},{"$f":"IF(P13=0,0,(P13*((LOG(P13))/LOG(2))))","v":0},null,null,{"$f":"N13","v":11221},{"$f":"COUNTIF(L7:L7,T13)","v":0},{"$f":"U13/(W4-U25)","v":0},{"$f":"IF(V13=0,0,(V13*((LOG(V13))/LOG(2))))","v":0},null,{"$f":"N13","v":11221},{"$f":"COUNTIF(L8:L8,Y13)","v":0},{"$f":"Z13/(AB4-Z25)","v":0},{"$f":"IF(AA13=0,0,(AA13*((LOG(AA13))/LOG(2))))","v":0},null,{"$f":"N13","v":11221},{"$f":"COUNTIF(L9:L9,AD13)","v":0},{"$f":"AE13/(AG4-AE25)","v":0},{"$f":"IF(AF13=0,0,(AF13*((LOG(AF13))/LOG(2))))","v":0},null,{"$f":"N13","v":11221},{"$f":"COUNTIF(L10:L10,AI13)","v":0},{"$f":"AJ13/(AL4-AJ25)","v":0},{"$f":"IF(AK13=0,0,(AK13*((LOG(AK13))/LOG(2))))","v":0},null,{"$f":"N13","v":11221},{"$f":"COUNTIF(L11:L11,AN13)","v":0},{"$f":"AO13/(AQ4-AO25)","v":0},{"$f":"IF(AP13=0,0,(AP13*((LOG(AP13))/LOG(2))))","v":0},null,{"$f":"N13","v":11221},{"$f":"COUNTIF(L12:L12,AS13)","v":0},{"$f":"AT13/(AV4-AT25)","v":0},{"$f":"IF(AU13=0,0,(AU13*((LOG(AU13))/LOG(2))))","v":0}]
[null,null,null,null,null,null,null,null,null,null,null,null,null,11222,{"$f":"COUNTIF($L$7:$L$500,N14)","v":0},{"$f":"O14/$Q$4","v":0},{"$f":"IF(P14=0,0,(P14*((LOG(P14))/LOG(2))))","v":0},null,null,{"$f":"N14","v":11222},{"$f":"COUNTIF(L7:L7,T14)","v":0},{"$f":"U14/(W4-U25)","v":0},{"$f":"IF(V14=0,0,(V14*((LOG(V14))/LOG(2))))","v":0},null,{"$f":"N14","v":11222},{"$f":"COUNTIF(L8:L8,Y14)","v":0},{"$f":"Z14/(AB4-Z25)","v":0},{"$f":"IF(AA14=0,0,(AA14*((LOG(AA14))/LOG(2))))","v":0},null,{"$f":"N14","v":11222},{"$f":"COUNTIF(L9:L9,AD14)","v":0},{"$f":"AE14/(AG4-AE25)","v":0},{"$f":"IF(AF14=0,0,(AF14*((LOG(AF14))/LOG(2))))","v":0},null,{"$f":"N14","v":11222},{"$f":"COUNTIF(L10:L10,AI14)","v":0},{"$f":"AJ14/(AL4-AJ25)","v":0},{"$f":"IF(AK14=0,0,(AK14*((LOG(AK14))/LOG(2))))","v":0},null,{"$f":"N14","v":11222},{"$f":"COUNTIF(L11:L11,AN14)","v":0},{"$f":"AO14/(AQ4-AO25)","v":0},{"$f":"IF(AP14=0,0,(AP14*((LOG(AP14))/LOG(2))))","v":0},null,{"$f":"N14","v":11222},{"$f":"COUNTIF(L12:L12,AS14)","v":0},{"$f":"AT14/(AV4-AT25)","v":0},{"$f":"IF(AU14=0,0,(AU14*((LOG(AU14))/LOG(2))))","v":0}]
[null,null,null,null,null,null,null,null,null,null,null,null,null,12111,{"$f":"COUNTIF($L$7:$L$500,N15)","v":0},{"$f":"O15/$Q$4","v":0},{"$f":"IF(P15=0,0,(P15*((LOG(P15))/LOG(2))))","v":0},null,null,{"$f":"N15","v":12111},{"$f":"COUNTIF(L7:L7,T15)","v":0},{"$f":"U15/(W4-U25)","v":0},{"$f":"IF(V15=0,0,(V15*((LOG(V15))/LOG(2))))","v":0},null,{"$f":"N15","v":12111},{"$f":"COUNTIF(L8:L8,Y15)","v":0},{"$f":"Z15/(AB4-Z25)","v":0},{"$f":"IF(AA15=0,0,(AA15*((LOG(AA15))/LOG(2))))","v":0},null,{"$f":"N15","v":12111},{"$f":"COUNTIF(L9:L9,AD15)","v":0},{"$f":"AE15/(AG4-AE25)","v":0},{"$f":"IF(AF15=0,0,(AF15*((LOG(AF15))/LOG(2))))","v":0},null,{"$f":"N15","v":12111},{"$f":"COUNTIF(L10:L10,AI15)","v":0},{"$f":"AJ15/(AL4-AJ25)","v":0},{"$f":"IF(AK15=0,0,(AK15*((LOG(AK15))/LOG(2))))","v":0},null,{"$f":"N15","v":12111},{"$f":"COUNTIF(L11:L11,AN15)","v":0},{"$f":"AO15/(AQ4-AO25)","v":0},{"$f":"IF(AP15=0,0,(AP15*((LOG(AP15))/LOG(2))))","v":0},null,{"$f":"N15","v":12111},{"$f":"COUNTIF(L12:L12,AS15)","v":0},{"$f":"AT15/(AV4-AT25)","v":0},{"$f":"IF(AU15=0,0,(AU15*((LOG(AU15))/LOG(2))))","v":0}]
[null,null,null,null,null,null,null,null,null,null,null,null,null,12112,{"$f":"COUNTIF($L$7:$L$500,N16)","v":0},{"$f":"O16/$Q$4","v":0},{"$f":"IF(P16=0,0,(P16*((LOG(P16))/LOG(2))))","v":0},null,null,{"$f":"N16","v":12112},{"$f":"COUNTIF(L7:L7,T16)","v":0},{"$f":"U16/(W4-U25)","v":0},{"$f":"IF(V16=0,0,(V16*((LOG(V16))/LOG(2))))","v":0},null,{"$f":"N16","v":12112},{"$f":"COUNTIF(L8:L8,Y16)","v":0},{"$f":"Z16/(AB4-Z25)","v":0},{"$f":"IF(AA16=0,0,(AA16*((LOG(AA16))/LOG(2))))","v":0},null,{"$f":"N16","v":12112},{"$f":"COUNTIF(L9:L9,AD16)","v":0},{"$f":"AE16/(AG4-AE25)","v":0},{"$f":"IF(AF16=0,0,(AF16*((LOG(AF16))/LOG(2))))","v":0},null,{"$f":"N16","v":12112},{"$f":"COUNTIF(L10:L10,AI16)","v":0},{"$f":"AJ16/(AL4-AJ25)","v":0},{"$f":"IF(AK16=0,0,(AK16*((LOG(AK16))/LOG(2))))","v":0},null,{"$f":"N16","v":12112},{"$f":"COUNTIF(L11:L11,AN16)","v":0},{"$f":"AO16/(AQ4-AO25)","v":0},{"$f":"IF(AP16=0,0,(AP16*((LOG(AP16))/LOG(2))))","v":0},null,{"$f":"N16","v":12112},{"$f":"COUNTIF(L12:L12,AS16)","v":0},{"$f":"AT16/(AV4-AT25)","v":0},{"$f":"IF(AU16=0,0,(AU16*((LOG(AU16))/LOG(2))))","v":0}]
[null,null,null,null,null,null,null,null,null,null,null,null,null,12121,{"$f":"COUNTIF($L$7:$L$500,N17)","v":0},{"$f":"O17/$Q$4","v":0},{"$f":"IF(P17=0,0,(P17*((LOG(P17))/LOG(2))))","v":0},null,null,{"$f":"N17","v":12121},{"$f":"COUNTIF(L7:L7,T17)","v":0},{"$f":"U17/(W4-U25)","v":0},{"$f":"IF(V17=0,0,(V17*((LOG(V17))/LOG(2))))","v":0},null,{"$f":"N17","v":12121},{"$f":"COUNTIF(L8:L8,Y17)","v":0},{"$f":"Z17/(AB4-Z25)","v":0},{"$f":"IF(AA17=0,0,(AA17*((LOG(AA17))/LOG(2))))","v":0},null,{"$f":"N17","v":12121},{"$f":"COUNTIF(L9:L9,AD17)","v":0},{"$f":"AE17/(AG4-AE25)","v":0},{"$f":"IF(AF17=0,0,(AF17*((LOG(AF17))/LOG(2))))","v":0},null,{"$f":"N17","v":12121},{"$f":"COUNTIF(L10:L10,AI17)","v":0},{"$f":"AJ17/(AL4-AJ25)","v":0},{"$f":"IF(AK17=0,0,(AK17*((LOG(AK17))/LOG(2))))","v":0},null,{"$f":"N17","v":12121},{"$f":"COUNTIF(L11:L11,AN17)","v":0},{"$f":"AO17/(AQ4-AO25)","v":0},{"$f":"IF(AP17=0,0,(AP17*((LOG(AP17))/LOG(2))))","v":0},null,{"$f":"N17","v":12121},{"$f":"COUNTIF(L12:L12,AS17)","v":0},{"$f":"AT17/(AV4-AT25)","v":0},{"$f":"IF(AU17=0,0,(AU17*((LOG(AU17))/LOG(2))))","v":0}]
[null,null,null,null,null,null,null,null,null,null,null,null,null,12122,{"$f":"COUNTIF($L$7:$L$500,N18)","v":0},{"$f":"O18/$Q$4","v":0},{"$f":"IF(P18=0,0,(P18*((LOG(P18))/LOG(2))))","v":0},null,null,{"$f":"N18","v":12122},{"$f":"COUNTIF(L7:L7,T18)","v":0},{"$f":"U18/(W4-U25)","v":0},{"$f":"IF(V18=0,0,(V18*((LOG(V18))/LOG(2))))","v":0},null,{"$f":"N18","v":12122},{"$f":"COUNTIF(L8:L8,Y18)","v":0},{"$f":"Z18/(AB4-Z25)","v":0},{"$f":"IF(AA18=0,0,(AA18*((LOG(AA18))/LOG(2))))","v":0},null,{"$f":"N18","v":12122},{"$f":"COUNTIF(L9:L9,AD18)","v":0},{"$f":"AE18/(AG4-AE25)","v":0},{"$f":"IF(AF18=0,0,(AF18*((LOG(AF18))/LOG(2))))","v":0},null,{"$f":"N18","v":12122},{"$f":"COUNTIF(L10:L10,AI18)","v":0},{"$f":"AJ18/(AL4-AJ25)","v":0},{"$f":"IF(AK18=0,0,(AK18*((LOG(AK18))/LOG(2))))","v":0},null,{"$f":"N18","v":12122},{"$f":"COUNTIF(L11:L11,AN18)","v":0},{"$f":"AO18/(AQ4-AO25)","v":0},{"$f":"IF(AP18=0,0,(AP18*((LOG(AP18))/LOG(2))))","v":0},null,{"$f":"N18","v":12122},{"$f":"COUNTIF(L12:L12,AS18)","v":0},{"$f":"AT18/(AV4-AT25)","v":0},{"$f":"IF(AU18=0,0,(AU18*((LOG(AU18))/LOG(2))))","v":0}]
[null,null,null,null,null,null,null,null,null,null,null,null,null,12211,{"$f":"COUNTIF($L$7:$L$500,N19)","v":0},{"$f":"O19/$Q$4","v":0},{"$f":"IF(P19=0,0,(P19*((LOG(P19))/LOG(2))))","v":0},null,null,{"$f":"N19","v":12211},{"$f":"COUNTIF(L7:L7,T19)","v":0},{"$f":"U19/(W4-U25)","v":0},{"$f":"IF(V19=0,0,(V19*((LOG(V19))/LOG(2))))","v":0},null,{"$f":"N19","v":12211},{"$f":"COUNTIF(L8:L8,Y19)","v":0},{"$f":"Z19/(AB4-Z25)","v":0},{"$f":"IF(AA19=0,0,(AA19*((LOG(AA19))/LOG(2))))","v":0},null,{"$f":"N19","v":12211},{"$f":"COUNTIF(L9:L9,AD19)","v":0},{"$f":"AE19/(AG4-AE25)","v":0},{"$f":"IF(AF19=0,0,(AF19*((LOG(AF19))/LOG(2))))","v":0},null,{"$f":"N19","v":12211},{"$f":"COUNTIF(L10:L10,AI19)","v":0},{"$f":"AJ19/(AL4-AJ25)","v":0},{"$f":"IF(AK19=0,0,(AK19*((LOG(AK19))/LOG(2))))","v":0},null,{"$f":"N19","v":12211},{"$f":"COUNTIF(L11:L11,AN19)","v":0},{"$f":"AO19/(AQ4-AO25)","v":0},{"$f":"IF(AP19=0,0,(AP19*((LOG(AP19))/LOG(2))))","v":0},null,{"$f":"N19","v":12211},{"$f":"COUNTIF(L12:L12,AS19)","v":0},{"$f":"AT19/(AV4-AT25)","v":0},{"$f":"IF(AU19=0,0,(AU19*((LOG(AU19))/LOG(2))))","v":0}]
[null,null,null,null,null,null,null,null,null,null,null,null,null,12212,{"$f":"COUNTIF($L$7:$L$500,N20)","v":0},{"$f":"O20/$Q$4","v":0},{"$f":"IF(P20=0,0,(P20*((LOG(P20))/LOG(2))))","v":0},null,null,{"$f":"N20","v":12212},{"$f":"COUNTIF(L7:L7,T20)","v":0},{"$f":"U20/(W4-U25)","v":0},{"$f":"IF(V20=0,0,(V20*((LOG(V20))/LOG(2))))","v":0},null,{"$f":"N20","v":12212},{"$f":"COUNTIF(L8:L8,Y20)","v":0},{"$f":"Z20/(AB4-Z25)","v":0},{"$f":"IF(AA20=0,0,(AA20*((LOG(AA20))/LOG(2))))","v":0},null,{"$f":"N20","v":12212},{"$f":"COUNTIF(L9:L9,AD20)","v":0},{"$f":"AE20/(AG4-AE25)","v":0},{"$f":"IF(AF20=0,0,(AF20*((LOG(AF20))/LOG(2))))","v":0},null,{"$f":"N20","v":12212},{"$f":"COUNTIF(L10:L10,AI20)","v":0},{"$f":"AJ20/(AL4-AJ25)","v":0},{"$f":"IF(AK20=0,0,(AK20*((LOG(AK20))/LOG(2))))","v":0},null,{"$f":"N20","v":12212},{"$f":"COUNTIF(L11:L11,AN20)","v":0},{"$f":"AO20/(AQ4-AO25)","v":0},{"$f":"IF(AP20=0,0,(AP20*((LOG(AP20))/LOG(2))))","v":0},null,{"$f":"N20","v":12212},{"$f":"COUNTIF(L12:L12,AS20)","v":0},{"$f":"AT20/(AV4-AT25)","v":0},{"$f":"IF(AU20=0,0,(AU20*((LOG(AU20))/LOG(2))))","v":0}]
[null,null,null,null,null,null,null,null,null,null,null,null,null,12221,{"$f":"COUNTIF($L$7:$L$500,N21)","v":0},{"$f":"O21/$Q$4","v":0},{"$f":"IF(P21=0,0,(P21*((LOG(P21))/LOG(2))))","v":0},null,null,{"$f":"N21","v":12221},{"$f":"COUNTIF(L7:L7,T21)","v":0},{"$f":"U21/(W4-U25)","v":0},{"$f":"IF(V21=0,0,(V21*((LOG(V21))/LOG(2))))","v":0},null,{"$f":"N21","v":12221},{"$f":"COUNTIF(L8:L8,Y21)","v":0},{"$f":"Z21/(AB4-Z25)","v":0},{"$f":"IF(AA21=0,0,(AA21*((LOG(AA21))/LOG(2))))","v":0},null,{"$f":"N21","v":12221},{"$f":"COUNTIF(L9:L9,AD21)","v":0},{"$f":"AE21/(AG4-AE25)","v":0},{"$f":"IF(AF21=0,0,(AF21*((LOG(AF21))/LOG(2))))","v":0},null,{"$f":"N21","v":12221},{"$f":"COUNTIF(L10:L10,AI21)","v":0},{"$f":"AJ21/(AL4-AJ25)","v":0},{"$f":"IF(AK21=0,0,(AK21*((LOG(AK21))/LOG(2))))","v":0},null,{"$f":"N21","v":12221},{"$f":"COUNTIF(L11:L11,AN21)","v":0},{"$f":"AO21/(AQ4-AO25)","v":0},{"$f":"IF(AP21=0,0,(AP21*((LOG(AP21))/LOG(2))))","v":0},null,{"$f":"N21","v":12221},{"$f":"COUNTIF(L12:L12,AS21)","v":0},{"$f":"AT21/(AV4-AT25)","v":0},{"$f":"IF(AU21=0,0,(AU21*((LOG(AU21))/LOG(2))))","v":0}]
[null,null,null,null,null,null,null,null,null,null,null,null,null,12222,{"$f":"COUNTIF($L$7:$L$500,N22)","v":0},{"$f":"O22/$Q$4","v":0},{"$f":"IF(P22=0,0,(P22*((LOG(P22))/LOG(2))))","v":0},null,null,{"$f":"N22","v":12222},{"$f":"COUNTIF(L7:L7,T22)","v":0},{"$f":"U22/(W4-U25)","v":0},{"$f":"IF(V22=0,0,(V22*((LOG(V22))/LOG(2))))","v":0},null,{"$f":"N22","v":12222},{"$f":"COUNTIF(L8:L8,Y22)","v":0},{"$f":"Z22/(AB4-Z25)","v":0},{"$f":"IF(AA22=0,0,(AA22*((LOG(AA22))/LOG(2))))","v":0},null,{"$f":"N22","v":12222},{"$f":"COUNTIF(L9:L9,AD22)","v":0},{"$f":"AE22/(AG4-AE25)","v":0},{"$f":"IF(AF22=0,0,(AF22*((LOG(AF22))/LOG(2))))","v":0},null,{"$f":"N22","v":12222},{"$f":"COUNTIF(L10:L10,AI22)","v":0},{"$f":"AJ22/(AL4-AJ25)","v":0},{"$f":"IF(AK22=0,0,(AK22*((LOG(AK22))/LOG(2))))","v":0},null,{"$f":"N22","v":12222},{"$f":"COUNTIF(L11:L11,AN22)","v":0},{"$f":"AO22/(AQ4-AO25)","v":0},{"$f":"IF(AP22=0,0,(AP22*((LOG(AP22))/LOG(2))))","v":0},null,{"$f":"N22","v":12222},{"$f":"COUNTIF(L12:L12,AS22)","v":0},{"$f":"AT22/(AV4-AT25)","v":0},{"$f":"IF(AU22=0,0,(AU22*((LOG(AU22))/LOG(2))))","v":0}]
[null,null,null,null,null,null,null,null,null,null,null,null,null,21111,{"$f":"COUNTIF($L$7:$L$500,N23)","v":0},{"$f":"O23/$Q$4","v":0},{"$f":"IF(P23=0,0,(P23*((LOG(P23))/LOG(2))))","v":0},null,null,{"$f":"N23","v":21111},{"$f":"COUNTIF(L7:L7,T23)","v":0},{"$f":"U23/(W4-U25)","v":0},{"$f":"IF(V23=0,0,(V23*((LOG(V23))/LOG(2))))","v":0},null,{"$f":"N23","v":21111},{"$f":"COUNTIF(L8:L8,Y23)","v":0},{"$f":"Z23/(AB4-Z25)","v":0},{"$f":"IF(AA23=0,0,(AA23*((LOG(AA23))/LOG(2))))","v":0},null,{"$f":"N23","v":21111},{"$f":"COUNTIF(L9:L9,AD23)","v":0},{"$f":"AE23/(AG4-AE25)","v":0},{"$f":"IF(AF23=0,0,(AF23*((LOG(AF23))/LOG(2))))","v":0},null,{"$f":"N23","v":21111},{"$f":"COUNTIF(L10:L10,AI23)","v":0},{"$f":"AJ23/(AL4-AJ25)","v":0},{"$f":"IF(AK23=0,0,(AK23*((LOG(AK23))/LOG(2))))","v":0},null,{"$f":"N23","v":21111},{"$f":"COUNTIF(L11:L11,AN23)","v":0},{"$f":"AO23/(AQ4-AO25)","v":0},{"$f":"IF(AP23=0,0,(AP23*((LOG(AP23))/LOG(2))))","v":0},null,{"$f":"N23","v":21111},{"$f":"COUNTIF(L12:L12,AS23)","v":0},{"$f":"AT23/(AV4-AT25)","v":0},{"$f":"IF(AU23=0,0,(AU23*((LOG(AU23))/LOG(2))))","v":0}]
[null,null,null,null,null,null,null,null,null,null,null,null,null,21112,{"$f":"COUNTIF($L$7:$L$500,N24)","v":0},{"$f":"O24/$Q$4","v":0},{"$f":"IF(P24=0,0,(P24*((LOG(P24))/LOG(2))))","v":0},null,null,{"$f":"N24","v":21112},{"$f":"COUNTIF(L7:L7,T24)","v":0},{"$f":"U24/(W4-U25)","v":0},{"$f":"IF(V24=0,0,(V24*((LOG(V24))/LOG(2))))","v":0},null,{"$f":"N24","v":21112},{"$f":"COUNTIF(L8:L8,Y24)","v":0},{"$f":"Z24/(AB4-Z25)","v":0},{"$f":"IF(AA24=0,0,(AA24*((LOG(AA24))/LOG(2))))","v":0},null,{"$f":"N24","v":21112},{"$f":"COUNTIF(L9:L9,AD24)","v":0},{"$f":"AE24/(AG4-AE25)","v":0},{"$f":"IF(AF24=0,0,(AF24*((LOG(AF24))/LOG(2))))","v":0},null,{"$f":"N24","v":21112},{"$f":"COUNTIF(L10:L10,AI24)","v":0},{"$f":"AJ24/(AL4-AJ25)","v":0},{"$f":"IF(AK24=0,0,(AK24*((LOG(AK24))/LOG(2))))","v":0},null,{"$f":"N24","v":21112},{"$f":"COUNTIF(L11:L11,AN24)","v":0},{"$f":"AO24/(AQ4-AO25)","v":0},{"$f":"IF(AP24=0,0,(AP24*((LOG(AP24))/LOG(2))))","v":0},null,{"$f":"N24","v":21112},{"$f":"COUNTIF(L12:L12,AS24)","v":0},{"$f":"AT24/(AV4-AT25)","v":0},{"$f":"IF(AU24=0,0,(AU24*((LOG(AU24))/LOG(2))))","v":0}]
[null,null,null,null,null,null,null,null,null,null,null,null,null,21121,{"$f":"COUNTIF($L$7:$L$500,N25)","v":0},{"$f":"O25/$Q$4","v":0},{"$f":"IF(P25=0,0,(P25*((LOG(P25))/LOG(2))))","v":0},null,null,{"$f":"N25","v":21121},{"$f":"COUNTIF(L7:L7,T25)","v":0},null,null,null,{"$f":"N25","v":21121},{"$f":"COUNTIF(L8:L8,Y25)","v":0},null,null,null,{"$f":"N25","v":21121},{"$f":"COUNTIF(L9:L9,AD25)","v":0},null,null,null,{"$f":"N25","v":21121},{"$f":"COUNTIF(L10:L10,AI25)","v":0},null,null,null,{"$f":"N25","v":21121},{"$f":"COUNTIF(L11:L11,AN25)","v":0},null,null,null,{"$f":"N25","v":21121},{"$f":"COUNTIF(L12:L12,AS25)","v":0}]
[null,null,null,null,null,null,null,null,null,null,null,null,null,21122,{"$f":"COUNTIF($L$7:$L$500,N26)","v":0},{"$f":"O26/$Q$4","v":0},{"$f":"IF(P26=0,0,(P26*((LOG(P26))/LOG(2))))","v":0},null,null,{"$f":"N26","v":21122},{"$f":"COUNTIF(L7:L7,T26)","v":0},{"$f":"U26/(W4-U25)","v":0},{"$f":"IF(V26=0,0,(V26*((LOG(V26))/LOG(2))))","v":0},null,{"$f":"N26","v":21122},{"$f":"COUNTIF(L8:L8,Y26)","v":0},{"$f":"Z26/(AB4-Z25)","v":0},{"$f":"IF(AA26=0,0,(AA26*((LOG(AA26))/LOG(2))))","v":0},null,{"$f":"N26","v":21122},{"$f":"COUNTIF(L9:L9,AD26)","v":0},{"$f":"AE26/(AG4-AE25)","v":0},{"$f":"IF(AF26=0,0,(AF26*((LOG(AF26))/LOG(2))))","v":0},null,{"$f":"N26","v":21122},{"$f":"COUNTIF(L10:L10,AI26)","v":0},{"$f":"AJ26/(AL4-AJ25)","v":0},{"$f":"IF(AK26=0,0,(AK26*((LOG(AK26))/LOG(2))))","v":0},null,{"$f":"N26","v":21122},{"$f":"COUNTIF(L11:L11,AN26)","v":0},{"$f":"AO26/(AQ4-AO25)","v":0},{"$f":"IF(AP26=0,0,(AP26*((LOG(AP26))/LOG(2))))","v":0},null,{"$f":"N26","v":21122},{"$f":"COUNTIF(L12:L12,AS26)","v":0},{"$f":"AT26/(AV4-AT25)","v":0},{"$f":"IF(AU26=0,0,(AU26*((LOG(AU26))/LOG(2))))","v":0}]
[null,null,null,null,null,null,null,null,null,null,null,null,null,21211,{"$f":"COUNTIF($L$7:$L$500,N27)","v":0},{"$f":"O27/$Q$4","v":0},{"$f":"IF(P27=0,0,(P27*((LOG(P27))/LOG(2))))","v":0},null,null,{"$f":"N27","v":21211},{"$f":"COUNTIF(L7:L7,T27)","v":0},{"$f":"U27/(W4-U25)","v":0},{"$f":"IF(V27=0,0,(V27*((LOG(V27))/LOG(2))))","v":0},null,{"$f":"N27","v":21211},{"$f":"COUNTIF(L8:L8,Y27)","v":0},{"$f":"Z27/(AB4-Z25)","v":0},{"$f":"IF(AA27=0,0,(AA27*((LOG(AA27))/LOG(2))))","v":0},null,{"$f":"N27","v":21211},{"$f":"COUNTIF(L9:L9,AD27)","v":0},{"$f":"AE27/(AG4-AE25)","v":0},{"$f":"IF(AF27=0,0,(AF27*((LOG(AF27))/LOG(2))))","v":0},null,{"$f":"N27","v":21211},{"$f":"COUNTIF(L10:L10,AI27)","v":0},{"$f":"AJ27/(AL4-AJ25)","v":0},{"$f":"IF(AK27=0,0,(AK27*((LOG(AK27))/LOG(2))))","v":0},null,{"$f":"N27","v":21211},{"$f":"COUNTIF(L11:L11,AN27)","v":0},{"$f":"AO27/(AQ4-AO25)","v":0},{"$f":"IF(AP27=0,0,(AP27*((LOG(AP27))/LOG(2))))","v":0},null,{"$f":"N27","v":21211},{"$f":"COUNTIF(L12:L12,AS27)","v":0},{"$f":"AT27/(AV4-AT25)","v":0},{"$f":"IF(AU27=0,0,(AU27*((LOG(AU27))/LOG(2))))","v":0}]
[null,null,null,null,null,null,null,null,null,null,null,null,null,21212,{"$f":"COUNTIF($L$7:$L$500,N28)","v":0},{"$f":"O28/$Q$4","v":0},{"$f":"IF(P28=0,0,(P28*((LOG(P28))/LOG(2))))","v":0},null,null,{"$f":"N28","v":21212},{"$f":"COUNTIF(L7:L7,T28)","v":0},{"$f":"U28/(W4-U25)","v":0},{"$f":"IF(V28=0,0,(V28*((LOG(V28))/LOG(2))))","v":0},null,{"$f":"N28","v":21212},{"$f":"COUNTIF(L8:L8,Y28)","v":0},{"$f":"Z28/(AB4-Z25)","v":0},{"$f":"IF(AA28=0,0,(AA28*((LOG(AA28))/LOG(2))))","v":0},null,{"$f":"N28","v":21212},{"$f":"COUNTIF(L9:L9,AD28)","v":0},{"$f":"AE28/(AG4-AE25)","v":0},{"$f":"IF(AF28=0,0,(AF28*((LOG(AF28))/LOG(2))))","v":0},null,{"$f":"N28","v":21212},{"$f":"COUNTIF(L10:L10,AI28)","v":0},{"$f":"AJ28/(AL4-AJ25)","v":0},{"$f":"IF(AK28=0,0,(AK28*((LOG(AK28))/LOG(2))))","v":0},null,{"$f":"N28","v":21212},{"$f":"COUNTIF(L11:L11,AN28)","v":0},{"$f":"AO28/(AQ4-AO25)","v":0},{"$f":"IF(AP28=0,0,(AP28*((LOG(AP28))/LOG(2))))","v":0},null,{"$f":"N28","v":21212},{"$f":"COUNTIF(L12:L12,AS28)","v":0},{"$f":"AT28/(AV4-AT25)","v":0},{"$f":"IF(AU28=0,0,(AU28*((LOG(AU28))/LOG(2))))","v":0}]
[null,null,null,null,null,null,null,null,null,null,null,null,null,21221,{"$f":"COUNTIF($L$7:$L$500,N29)","v":0},{"$f":"O29/$Q$4","v":0},{"$f":"IF(P29=0,0,(P29*((LOG(P29))/LOG(2))))","v":0},null,null,{"$f":"N29","v":21221},{"$f":"COUNTIF(L7:L7,T29)","v":0},{"$f":"U29/(W4-U25)","v":0},{"$f":"IF(V29=0,0,(V29*((LOG(V29))/LOG(2))))","v":0},null,{"$f":"N29","v":21221},{"$f":"COUNTIF(L8:L8,Y29)","v":0},{"$f":"Z29/(AB4-Z25)","v":0},{"$f":"IF(AA29=0,0,(AA29*((LOG(AA29))/LOG(2))))","v":0},null,{"$f":"N29","v":21221},{"$f":"COUNTIF(L9:L9,AD29)","v":0},{"$f":"AE29/(AG4-AE25)","v":0},{"$f":"IF(AF29=0,0,(AF29*((LOG(AF29))/LOG(2))))","v":0},null,{"$f":"N29","v":21221},{"$f":"COUNTIF(L10:L10,AI29)","v":0},{"$f":"AJ29/(AL4-AJ25)","v":0},{"$f":"IF(AK29=0,0,(AK29*((LOG(AK29))/LOG(2))))","v":0},null,{"$f":"N29","v":21221},{"$f":"COUNTIF(L11:L11,AN29)","v":0},{"$f":"AO29/(AQ4-AO25)","v":0},{"$f":"IF(AP29=0,0,(AP29*((LOG(AP29))/LOG(2))))","v":0},null,{"$f":"N29","v":21221},{"$f":"COUNTIF(L12:L12,AS29)","v":0},{"$f":"AT29/(AV4-AT25)","v":0},{"$f":"IF(AU29=0,0,(AU29*((LOG(AU29))/LOG(2))))","v":0}]
[null,null,null,null,null,null,null,null,null,null,null,null,null,21222,{"$f":"COUNTIF($L$7:$L$500,N30)","v":0},{"$f":"O30/$Q$4","v":0},{"$f":"IF(P30=0,0,(P30*((LOG(P30))/LOG(2))))","v":0},null,null,{"$f":"N30","v":21222},{"$f":"COUNTIF(L7:L7,T30)","v":0},{"$f":"U30/(W4-U25)","v":0},{"$f":"IF(V30=0,0,(V30*((LOG(V30))/LOG(2))))","v":0},null,{"$f":"N30","v":21222},{"$f":"COUNTIF(L8:L8,Y30)","v":0},{"$f":"Z30/(AB4-Z25)","v":0},{"$f":"IF(AA30=0,0,(AA30*((LOG(AA30))/LOG(2))))","v":0},null,{"$f":"N30","v":21222},{"$f":"COUNTIF(L9:L9,AD30)","v":0},{"$f":"AE30/(AG4-AE25)","v":0},{"$f":"IF(AF30=0,0,(AF30*((LOG(AF30))/LOG(2))))","v":0},null,{"$f":"N30","v":21222},{"$f":"COUNTIF(L10:L10,AI30)","v":0},{"$f":"AJ30/(AL4-AJ25)","v":0},{"$f":"IF(AK30=0,0,(AK30*((LOG(AK30))/LOG(2))))","v":0},null,{"$f":"N30","v":21222},{"$f":"COUNTIF(L11:L11,AN30)","v":0},{"$f":"AO30/(AQ4-AO25)","v":0},{"$f":"IF(AP30=0,0,(AP30*((LOG(AP30))/LOG(2))))","v":0},null,{"$f":"N30","v":21222},{"$f":"COUNTIF(L12:L12,AS30)","v":0},{"$f":"AT30/(AV4-AT25)","v":0},{"$f":"IF(AU30=0,0,(AU30*((LOG(AU30))/LOG(2))))","v":0}]
[null,null,null,null,null,null,null,null,null,null,null,null,null,22111,{"$f":"COUNTIF($L$7:$L$500,N31)","v":0},{"$f":"O31/$Q$4","v":0},{"$f":"IF(P31=0,0,(P31*((LOG(P31))/LOG(2))))","v":0},null,null,{"$f":"N31","v":22111},{"$f":"COUNTIF(L7:L7,T31)","v":0},{"$f":"U31/(W4-U25)","v":0},{"$f":"IF(V31=0,0,(V31*((LOG(V31))/LOG(2))))","v":0},null,{"$f":"N31","v":22111},{"$f":"COUNTIF(L8:L8,Y31)","v":0},{"$f":"Z31/(AB4-Z25)","v":0},{"$f":"IF(AA31=0,0,(AA31*((LOG(AA31))/LOG(2))))","v":0},null,{"$f":"N31","v":22111},{"$f":"COUNTIF(L9:L9,AD31)","v":0},{"$f":"AE31/(AG4-AE25)","v":0},{"$f":"IF(AF31=0,0,(AF31*((LOG(AF31))/LOG(2))))","v":0},null,{"$f":"N31","v":22111},{"$f":"COUNTIF(L10:L10,AI31)","v":0},{"$f":"AJ31/(AL4-AJ25)","v":0},{"$f":"IF(AK31=0,0,(AK31*((LOG(AK31))/LOG(2))))","v":0},null,{"$f":"N31","v":22111},{"$f":"COUNTIF(L11:L11,AN31)","v":0},{"$f":"AO31/(AQ4-AO25)","v":0},{"$f":"IF(AP31=0,0,(AP31*((LOG(AP31))/LOG(2))))","v":0},null,{"$f":"N31","v":22111},{"$f":"COUNTIF(L12:L12,AS31)","v":0},{"$f":"AT31/(AV4-AT25)","v":0},{"$f":"IF(AU31=0,0,(AU31*((LOG(AU31))/LOG(2))))","v":0}]
[null,null,null,null,null,null,null,null,null,null,null,null,null,22112,{"$f":"COUNTIF($L$7:$L$500,N32)","v":0},{"$f":"O32/$Q$4","v":0},{"$f":"IF(P32=0,0,(P32*((LOG(P32))/LOG(2))))","v":0},null,null,{"$f":"N32","v":22112},{"$f":"COUNTIF(L7:L7,T32)","v":0},{"$f":"U32/(W4-U25)","v":0},{"$f":"IF(V32=0,0,(V32*((LOG(V32))/LOG(2))))","v":0},null,{"$f":"N32","v":22112},{"$f":"COUNTIF(L8:L8,Y32)","v":0},{"$f":"Z32/(AB4-Z25)","v":0},{"$f":"IF(AA32=0,0,(AA32*((LOG(AA32))/LOG(2))))","v":0},null,{"$f":"N32","v":22112},{"$f":"COUNTIF(L9:L9,AD32)","v":0},{"$f":"AE32/(AG4-AE25)","v":0},{"$f":"IF(AF32=0,0,(AF32*((LOG(AF32))/LOG(2))))","v":0},null,{"$f":"N32","v":22112},{"$f":"COUNTIF(L10:L10,AI32)","v":0},{"$f":"AJ32/(AL4-AJ25)","v":0},{"$f":"IF(AK32=0,0,(AK32*((LOG(AK32))/LOG(2))))","v":0},null,{"$f":"N32","v":22112},{"$f":"COUNTIF(L11:L11,AN32)","v":0},{"$f":"AO32/(AQ4-AO25)","v":0},{"$f":"IF(AP32=0,0,(AP32*((LOG(AP32))/LOG(2))))","v":0},null,{"$f":"N32","v":22112},{"$f":"COUNTIF(L12:L12,AS32)","v":0},{"$f":"AT32/(AV4-AT25)","v":0},{"$f":"IF(AU32=0,0,(AU32*((LOG(AU32))/LOG(2))))","v":0}]
[null,null,null,null,null,null,null,null,null,null,null,null,null,22121,{"$f":"COUNTIF($L$7:$L$500,N33)","v":0},{"$f":"O33/$Q$4","v":0},{"$f":"IF(P33=0,0,(P33*((LOG(P33))/LOG(2))))","v":0},null,null,{"$f":"N33","v":22121},{"$f":"COUNTIF(L7:L7,T33)","v":0},{"$f":"U33/(W4-U25)","v":0},{"$f":"IF(V33=0,0,(V33*((LOG(V33))/LOG(2))))","v":0},null,{"$f":"N33","v":22121},{"$f":"COUNTIF(L8:L8,Y33)","v":0},{"$f":"Z33/(AB4-Z25)","v":0},{"$f":"IF(AA33=0,0,(AA33*((LOG(AA33))/LOG(2))))","v":0},null,{"$f":"N33","v":22121},{"$f":"COUNTIF(L9:L9,AD33)","v":0},{"$f":"AE33/(AG4-AE25)","v":0},{"$f":"IF(AF33=0,0,(AF33*((LOG(AF33))/LOG(2))))","v":0},null,{"$f":"N33","v":22121},{"$f":"COUNTIF(L10:L10,AI33)","v":0},{"$f":"AJ33/(AL4-AJ25)","v":0},{"$f":"IF(AK33=0,0,(AK33*((LOG(AK33))/LOG(2))))","v":0},null,{"$f":"N33","v":22121},{"$f":"COUNTIF(L11:L11,AN33)","v":0},{"$f":"AO33/(AQ4-AO25)","v":0},{"$f":"IF(AP33=0,0,(AP33*((LOG(AP33))/LOG(2))))","v":0},null,{"$f":"N33","v":22121},{"$f":"COUNTIF(L12:L12,AS33)","v":0},{"$f":"AT33/(AV4-AT25)","v":0},{"$f":"IF(AU33=0,0,(AU33*((LOG(AU33))/LOG(2))))","v":0}]
[null,null,null,null,null,null,null,null,null,null,null,null,null,22122,{"$f":"COUNTIF($L$7:$L$500,N34)","v":0},{"$f":"O34/$Q$4","v":0},{"$f":"IF(P34=0,0,(P34*((LOG(P34))/LOG(2))))","v":0},null,null,{"$f":"N34","v":22122},{"$f":"COUNTIF(L7:L7,T34)","v":0},{"$f":"U34/(W4-U25)","v":0},{"$f":"IF(V34=0,0,(V34*((LOG(V34))/LOG(2))))","v":0},null,{"$f":"N34","v":22122},{"$f":"COUNTIF(L8:L8,Y34)","v":0},{"$f":"Z34/(AB4-Z25)","v":0},{"$f":"IF(AA34=0,0,(AA34*((LOG(AA34))/LOG(2))))","v":0},null,{"$f":"N34","v":22122},{"$f":"COUNTIF(L9:L9,AD34)","v":0},{"$f":"AE34/(AG4-AE25)","v":0},{"$f":"IF(AF34=0,0,(AF34*((LOG(AF34))/LOG(2))))","v":0},null,{"$f":"N34","v":22122},{"$f":"COUNTIF(L10:L10,AI34)","v":0},{"$f":"AJ34/(AL4-AJ25)","v":0},{"$f":"IF(AK34=0,0,(AK34*((LOG(AK34))/LOG(2))))","v":0},null,{"$f":"N34","v":22122},{"$f":"COUNTIF(L11:L11,AN34)","v":0},{"$f":"AO34/(AQ4-AO25)","v":0},{"$f":"IF(AP34=0,0,(AP34*((LOG(AP34))/LOG(2))))","v":0},null,{"$f":"N34","v":22122},{"$f":"COUNTIF(L12:L12,AS34)","v":0},{"$f":"AT34/(AV4-AT25)","v":0},{"$f":"IF(AU34=0,0,(AU34*((LOG(AU34))/LOG(2))))","v":0}]
[null,null,null,null,null,null,null,null,null,null,null,null,null,22211,{"$f":"COUNTIF($L$7:$L$500,N35)","v":0},{"$f":"O35/$Q$4","v":0},{"$f":"IF(P35=0,0,(P35*((LOG(P35))/LOG(2))))","v":0},null,null,{"$f":"N35","v":22211},{"$f":"COUNTIF(L7:L7,T35)","v":0},{"$f":"U35/(W4-U25)","v":0},{"$f":"IF(V35=0,0,(V35*((LOG(V35))/LOG(2))))","v":0},null,{"$f":"N35","v":22211},{"$f":"COUNTIF(L8:L8,Y35)","v":0},{"$f":"Z35/(AB4-Z25)","v":0},{"$f":"IF(AA35=0,0,(AA35*((LOG(AA35))/LOG(2))))","v":0},null,{"$f":"N35","v":22211},{"$f":"COUNTIF(L9:L9,AD35)","v":0},{"$f":"AE35/(AG4-AE25)","v":0},{"$f":"IF(AF35=0,0,(AF35*((LOG(AF35))/LOG(2))))","v":0},null,{"$f":"N35","v":22211},{"$f":"COUNTIF(L10:L10,AI35)","v":0},{"$f":"AJ35/(AL4-AJ25)","v":0},{"$f":"IF(AK35=0,0,(AK35*((LOG(AK35))/LOG(2))))","v":0},null,{"$f":"N35","v":22211},{"$f":"COUNTIF(L11:L11,AN35)","v":0},{"$f":"AO35/(AQ4-AO25)","v":0},{"$f":"IF(AP35=0,0,(AP35*((LOG(AP35))/LOG(2))))","v":0},null,{"$f":"N35","v":22211},{"$f":"COUNTIF(L12:L12,AS35)","v":0},{"$f":"AT35/(AV4-AT25)","v":0},{"$f":"IF(AU35=0,0,(AU35*((LOG(AU35))/LOG(2))))","v":0}]
[null,null,null,null,null,null,null,null,null,null,null,null,null,22212,{"$f":"COUNTIF($L$7:$L$500,N36)","v":1},{"$f":"O36/$Q$4","v":0.16666666666666666},{"$f":"IF(P36=0,0,(P36*((LOG(P36))/LOG(2))))","v":-0.43082708345352599},null,null,{"$f":"N36","v":22212},{"$f":"COUNTIF(L7:L7,T36)","v":0},{"$f":"U36/(W4-U25)","v":0},{"$f":"IF(V36=0,0,(V36*((LOG(V36))/LOG(2))))","v":0},null,{"$f":"N36","v":22212},{"$f":"COUNTIF(L8:L8,Y36)","v":0},{"$f":"Z36/(AB4-Z25)","v":0},{"$f":"IF(AA36=0,0,(AA36*((LOG(AA36))/LOG(2))))","v":0},null,{"$f":"N36","v":22212},{"$f":"COUNTIF(L9:L9,AD36)","v":0},{"$f":"AE36/(AG4-AE25)","v":0},{"$f":"IF(AF36=0,0,(AF36*((LOG(AF36))/LOG(2))))","v":0},null,{"$f":"N36","v":22212},{"$f":"COUNTIF(L10:L10,AI36)","v":1},{"$f":"AJ36/(AL4-AJ25)","v":1},{"$f":"IF(AK36=0,0,(AK36*((LOG(AK36))/LOG(2))))","v":0},null,{"$f":"N36","v":22212},{"$f":"COUNTIF(L11:L11,AN36)","v":0},{"$f":"AO36/(AQ4-AO25)","v":0},{"$f":"IF(AP36=0,0,(AP36*((LOG(AP36))/LOG(2))))","v":0},null,{"$f":"N36","v":22212},{"$f":"COUNTIF(L12:L12,AS36)","v":0},{"$f":"AT36/(AV4-AT25)","v":0},{"$f":"IF(AU36=0,0,(AU36*((LOG(AU36))/LOG(2))))","v":0}]
[null,null,null,null,null,null,null,null,null,null,null,null,null,22221,{"$f":"COUNTIF($L$7:$L$500,N37)","v":0},{"$f":"O37/$Q$4","v":0},{"$f":"IF(P37=0,0,(P37*((LOG(P37))/LOG(2))))","v":0},null,null,{"$f":"N37","v":22221},{"$f":"COUNTIF(L7:L7,T37)","v":0},{"$f":"U37/(W4-U25)","v":0},{"$f":"IF(V37=0,0,(V37*((LOG(V37))/LOG(2))))","v":0},null,{"$f":"N37","v":22221},{"$f":"COUNTIF(L8:L8,Y37)","v":0},{"$f":"Z37/(AB4-Z25)","v":0},{"$f":"IF(AA37=0,0,(AA37*((LOG(AA37))/LOG(2))))","v":0},null,{"$f":"N37","v":22221},{"$f":"COUNTIF(L9:L9,AD37)","v":0},{"$f":"AE37/(AG4-AE25)","v":0},{"$f":"IF(AF37=0,0,(AF37*((LOG(AF37))/LOG(2))))","v":0},null,{"$f":"N37","v":22221},{"$f":"COUNTIF(L10:L10,AI37)","v":0},{"$f":"AJ37/(AL4-AJ25)","v":0},{"$f":"IF(AK37=0,0,(AK37*((LOG(AK37))/LOG(2))))","v":0},null,{"$f":"N37","v":22221},{"$f":"COUNTIF(L11:L11,AN37)","v":0},{"$f":"AO37/(AQ4-AO25)","v":0},{"$f":"IF(AP37=0,0,(AP37*((LOG(AP37))/LOG(2))))","v":0},null,{"$f":"N37","v":22221},{"$f":"COUNTIF(L12:L12,AS37)","v":0},{"$f":"AT37/(AV4-AT25)","v":0},{"$f":"IF(AU37=0,0,(AU37*((LOG(AU37))/LOG(2))))","v":0}]
[null,null,null,null,null,null,null,null,null,null,null,null,null,22222,{"$f":"COUNTIF($L$7:$L$500,N38)","v":5},{"$f":"O38/$Q$4","v":0.83333333333333337},{"$f":"IF(P38=0,0,(P38*((LOG(P38))/LOG(2))))","v":-0.21919533819482812},null,null,{"$f":"N38","v":22222},{"$f":"COUNTIF(L7:L7,T38)","v":1},{"$f":"U38/(W4-U25)","v":1},{"$f":"IF(V38=0,0,(V38*((LOG(V38))/LOG(2))))","v":0},null,{"$f":"N38","v":22222},{"$f":"COUNTIF(L8:L8,Y38)","v":1},{"$f":"Z38/(AB4-Z25)","v":1},{"$f":"IF(AA38=0,0,(AA38*((LOG(AA38))/LOG(2))))","v":0},null,{"$f":"N38","v":22222},{"$f":"COUNTIF(L9:L9,AD38)","v":1},{"$f":"AE38/(AG4-AE25)","v":1},{"$f":"IF(AF38=0,0,(AF38*((LOG(AF38))/LOG(2))))","v":0},null,{"$f":"N38","v":22222},{"$f":"COUNTIF(L10:L10,AI38)","v":0},{"$f":"AJ38/(AL4-AJ25)","v":0},{"$f":"IF(AK38=0,0,(AK38*((LOG(AK38))/LOG(2))))","v":0},null,{"$f":"N38","v":22222},{"$f":"COUNTIF(L11:L11,AN38)","v":1},{"$f":"AO38/(AQ4-AO25)","v":1},{"$f":"IF(AP38=0,0,(AP38*((LOG(AP38))/LOG(2))))","v":0},null,{"$f":"N38","v":22222},{"$f":"COUNTIF(L12:L12,AS38)","v":1},{"$f":"AT38/(AV4-AT25)","v":1},{"$f":"IF(AU38=0,0,(AU38*((LOG(AU38))/LOG(2))))","v":0}]
[null,null,null,null,null,null,null,null,null,null,null,null,null,null,null,{"$f":"SUM(P7:P38)","v":1},{"$f":"-SUM(Q7:Q38)","v":0.65002242164835411},null,null,null,null,{"$f":"SUM(V7:V38)","v":1},{"$f":"-SUM(W7:W38)","v":0},null,null,null,{"$f":"SUM(AA7:AA38)","v":1},{"$f":"-SUM(AB7:AB38)","v":0},null,null,null,{"$f":"SUM(AF7:AF38)","v":1},{"$f":"-SUM(AG7:AG38)","v":0},null,null,null,{"$f":"SUM(AK7:AK38)","v":1},{"$f":"-SUM(AL7:AL38)","v":0},null,null,null,{"$f":"SUM(AP7:AP38)","v":1},{"$f":"-SUM(AQ7:AQ38)","v":0},null,null,null,{"$f":"SUM(AU7:AU38)","v":1},{"$f":"-SUM(AV7:AV38)","v":0}]
[null,null,null,null,null,null,null,null,null,null,null,null,null,null,null,"U=",{"$f":"Q39/(LOG(Q4)/LOG(2))","v":0.25146299858006066},null,null,null,null,"U1=",{"$f":"W39/(LOG(W4)/LOG(2))","v":{"$error":"#DIV/0!"}},null,null,null,"U2=",{"$f":"AB39/(LOG(AB4)/LOG(2))","v":{"$error":"#DIV/0!"}},null,null,null,"U3=",{"$f":"AG39/(LOG(AG4)/LOG(2))","v":{"$error":"#DIV/0!"}},null,null,null,"U4=",{"$f":"AL39/(LOG(AL4)/LOG(2))","v":{"$error":"#DIV/0!"}},null,null,null,"U5=",{"$f":"AQ39/(LOG(AQ4)/LOG(2))","v":{"$error":"#DIV/0!"}},null,null,null,"U6=",{"$f":"AV39/(LOG(AV4)/LOG(2))","v":{"$error":"#DIV/0!"}}]
[]
[]
[null,null,null,null,null,null,null,null,null,null,null,null,null,"Total Target Seq"]
[null,null,null,null,null,null,null,null,null,null,null,null,null,{"$f":"COUNTIF(L7:L12,G3)","v":0},null,1,1,1,1,1,1]
[null,null,null,null,null,null,null,null,null,null,null,null,null,null,null,"% of reinforcement given in 6 equal intervals based on number of trials "]
[null,null,null,null,null,null,null,null,null,null,null,null,null,null,null,"%_1","%_2","%_3","%_4","%_5","%_6"]
[null,null,null,null,null,null,null,null,null,null,null,null,null,null,"target sequence",{"$f":"$G$3","v":21121},{"$f":"$G$3","v":21121},{"$f":"$G$3","v":21121},{"$f":"$G$3","v":21121},{"$f":"$G$3","v":21121},{"$f":"$G$3","v":21121}]
[null,null,null,null,null,null,null,null,null,null,null,null,null,null,"total reinforcement",{"$f":"U25","v":0},{"$f":"Z25","v":0},{"$f":"AE25","v":0},{"$f":"AJ25","v":0},{"$f":"AO25","v":0},{"$f":"AT25","v":0}]
[null,null,null,null,null,null,null,null,null,null,null,null,null,null,"% target"]
[null,null,null,null,null,null,null,null,null,null,null,null,null,null,"CCRF"]
[null,null,null,null,null,null,null,null,null,null,null,null,null,null,"% CCRf"]
[null,null,null,null,null,null,null,null,null,null,null,null,null,null,"average response rate",{"$f":"J7/P44","v":77},{"$f":"(J8-J7)/Q44","v":224},{"$f":"(J9-J8)/R44","v":232},{"$f":"(J10-J9)/S44","v":481},{"$f":"(J11-J10)/T44","v":12068},{"$f":"(J12-J11)/U44","v":6409}]

{"sheet":"!N113A30.105","index":15,"n_rows":52,"n_cols":48,"rows_kept":52,"cut":false,"hidden":false,"merged":[[4,39,4,42],[5,39,5,40],[4,44,4,47],[5,44,5,45],[4,24,4,27],[5,24,5,25],[4,29,4,32],[5,29,5,30],[4,34,4,37],[5,34,5,35],[1,1,1,2],[5,13,5,14],[42,13,42,14],[43,13,43,14],[4,19,4,22],[5,19,5,20]]}
["Report for:!N113A30.105"]
["Date:","<date>"]
["Hen:","<hen>",null,null,null,"Correct Sequence",{"$f":"Start!J2","v":21121},null,null,null,null,null,null,null,null,"Total Sequences in Data",{"$f":"4994-COUNTBLANK(L7:L5000)","v":8},null,null,null,null,"Total Sequences in Block Data",{"$f":"COUNTA(L7:L7)","v":1},null,null,null,"Total Sequences in Block Data",{"$f":"COUNTA(L8:L9)","v":2},null,null,null,"Total Sequences in Block Data",{"$f":"COUNTA(L10:L10)","v":1},null,null,null,"Total Sequences in Block Data",{"$f":"COUNTA(L11:L11)","v":1},null,null,null,"Total Sequences in Block Data",{"$f":"COUNTA(L12:L13)","v":2},null,null,null,"Total Sequences in Block Data",{"$f":"COUNTA(L14:L14)","v":1}]
[null,null,null,null,null,null,null,null,null,null,null,null,null,null,null,"Total Sequences in Summary",{"$f":"SUM(O7:O38)","v":8},null,null,null,null,"Total Sequences in Block Summary",{"$f":"SUM(U7:U38)","v":1},null,null,null,"Total Sequences in Block Summary",{"$f":"SUM(Z7:Z38)","v":2},null,null,null,"Total Sequences in Block Summary",{"$f":"SUM(AE7:AE38)","v":1},null,null,null,"Total Sequences in Block Summary",{"$f":"SUM(AJ7:AJ38)","v":1},null,null,null,"Total Sequences in Block Summary",{"$f":"SUM(AO7:AO38)","v":2},null,null,null,"Total Sequences in Block Summary",{"$f":"SUM(AT7:AT38)","v":1}]
[null,null,null,null,null,null,null,null,null,null,null,null,null,null,null,null,null,null,null,"Block 1",null,null,null,null,"Block 2",null,null,null,null,"Block 3",null,null,null,null,"Block 4",null,null,null,null,"Block 5",null,null,null,null,"Block 6"]
["Sequence\nComponent\n1","Time\n1","Sequence\nComponent\n2","Time\n2","Sequence\nComponent\n3","Time\n3","Sequence\nComponent\n4","Time\n4","Sequence\nComponent\n5","Time\n5","Correct?\n0=No 1=Yes","Sequence",null,"Frequency",null,"Relative Frequency","Variability",null,null,"Frequency",null,"Relative Frequency","Variability",null,"Frequency",null,"Relative Frequency","Variability",null,"Frequency",null,"Relative Frequency","Variability",null,"Frequency",null,"Relative Frequency","Variability",null,"Frequency",null,"Relative Frequency","Variability",null,"Frequency",null,"Relative Frequency","Variability"]
[21,30,22,48,24,58,23,68,24,77,0,22222,null,11111,{"$f":"COUNTIF($L$7:$L$500,N7)","v":0},{"$f":"O7/$Q$4","v":0},{"$f":"IF(P7=0,0,(P7*((LOG(P7))/LOG(2))))","v":0},null,null,{"$f":"N7","v":11111},{"$f":"COUNTIF(L7:L7,T7)","v":0},{"$f":"U7/(W4-U25)","v":0},{"$f":"IF(V7=0,0,(V7*((LOG(V7))/LOG(2))))","v":0},null,{"$f":"N7","v":11111},{"$f":"COUNTIF(L8:L9,Y7)","v":0},{"$f":"Z7/(AB4-Z25)","v":0},{"$f":"IF(AA7=0,0,(AA7*((LOG(AA7))/LOG(2))))","v":0},null,{"$f":"N7","v":11111},{"$f":"COUNTIF(L10:L10,AD7)","v":0},{"$f":"AE7/(AG4-AE25)","v":0},{"$f":"IF(AF7=0,0,(AF7*((LOG(AF7))/LOG(2))))","v":0},null,{"$f":"N7","v":11111},{"$f":"COUNTIF(L11:L11,AI7)","v":0},{"$f":"AJ7/(AL4-AJ25)","v":0},{"$f":"IF(AK7=0,0,(AK7*((LOG(AK7))/LOG(2))))","v":0},null,{"$f":"N7","v":11111},{"$f":"COUNTIF(L12:L13,AN7)","v":0},{"$f":"AO7/(AQ4-AO25)","v":0},{"$f":"IF(AP7=0,0,(AP7*((LOG(AP7))/LOG(2))))","v":0},null,{"$f":"N7","v":11111},{"$f":"COUNTIF(L14:L14,AS7)","v":0},{"$f":"AT7/(AV4-AT25)","v":0},{"$f":"IF(AU7=0,0,(AU7*((LOG(AU7))/LOG(2))))","v":0}]
[12,209,24,225,13,389,23,395,24,413,0,12122,null,11112,{"$f":"COUNTIF($L$7:$L$500,N8)","v":0},{"$f":"O8/$Q$4","v":0},{"$f":"IF(P8=0,0,(P8*((LOG(P8))/LOG(2))))","v":0},null,null,{"$f":"N8","v":11112},{"$f":"COUNTIF(L7:L7,T8)","v":0},{"$f":"U8/(W4-U25)","v":0},{"$f":"IF(V8=0,0,(V8*((LOG(V8))/LOG(2))))","v":0},null,{"$f":"N8","v":11112},{"$f":"COUNTIF(L8:L9,Y8)","v":0},{"$f":"Z8/(AB4-Z25)","v":0},{"$f":"IF(AA8=0,0,(AA8*((LOG(AA8))/LOG(2))))","v":0},null,{"$f":"N8","v":11112},{"$f":"COUNTIF(L10:L10,AD8)","v":0},{"$f":"AE8/(AG4-AE25)","v":0},{"$f":"IF(AF8=0,0,(AF8*((LOG(AF8))/LOG(2))))","v":0},null,{"$f":"N8","v":11112},{"$f":"COUNTIF(L11:L11,AI8)","v":0},{"$f":"AJ8/(AL4-AJ25)","v":0},{"$f":"IF(AK8=0,0,(AK8*((LOG(AK8))/LOG(2))))","v":0},null,{"$f":"N8","v":11112},{"$f":"COUNTIF(L12:L13,AN8)","v":0},{"$f":"AO8/(AQ4-AO25)","v":0},{"$f":"IF(AP8=0,0,(AP8*((LOG(AP8))/LOG(2))))","v":0},null,{"$f":"N8","v":11112},{"$f":"COUNTIF(L14:L14,AS8)","v":0},{"$f":"AT8/(AV4-AT25)","v":0},{"$f":"IF(AU8=0,0,(AU8*((LOG(AU8))/LOG(2))))","v":0}]
[21,554,22,586,24,612,23,888,24,906,0,22222,null,11121,{"$f":"COUNTIF($L$7:$L$500,N9)","v":0},{"$f":"O9/$Q$4","v":0},{"$f":"IF(P9=0,0,(P9*((LOG(P9))/LOG(2))))","v":0},null,null,{"$f":"N9","v":11121},{"$f":"COUNTIF(L7:L7,T9)","v":0},{"$f":"U9/(W4-U25)","v":0},{"$f":"IF(V9=0,0,(V9*((LOG(V9))/LOG(2))))","v":0},null,{"$f":"N9","v":11121},{"$f":"COUNTIF(L8:L9,Y9)","v":0},{"$f":"Z9/(AB4-Z25)","v":0},{"$f":"IF(AA9=0,0,(AA9*((LOG(AA9))/LOG(2))))","v":0},null,{"$f":"N9","v":11121},{"$f":"COUNTIF(L10:L10,AD9)","v":0},{"$f":"AE9/(AG4-AE25)","v":0},{"$f":"IF(AF9=0,0,(AF9*((LOG(AF9))/LOG(2))))","v":0},null,{"$f":"N9","v":11121},{"$f":"COUNTIF(L11:L11,AI9)","v":0},{"$f":"AJ9/(AL4-AJ25)","v":0},{"$f":"IF(AK9=0,0,(AK9*((LOG(AK9))/LOG(2))))","v":0},null,{"$f":"N9","v":11121},{"$f":"COUNTIF(L12:L13,AN9)","v":0},{"$f":"AO9/(AQ4-AO25)","v":0},{"$f":"IF(AP9=0,0,(AP9*((LOG(AP9))/LOG(2))))","v":0},null,{"$f":"N9","v":11121},{"$f":"COUNTIF(L14:L14,AS9)","v":0},{"$f":"AT9/(AV4-AT25)","v":0},{"$f":"IF(AU9=0,0,(AU9*((LOG(AU9))/LOG(2))))","v":0}]
[12,2332,24,2361,24,2371,23,2389,13,2400,0,12221,null,11122,{"$f":"COUNTIF($L$7:$L$500,N10)","v":0},{"$f":"O10/$Q$4","v":0},{"$f":"IF(P10=0,0,(P10*((LOG(P10))/LOG(2))))","v":0},null,null,{"$f":"N10","v":11122},{"$f":"COUNTIF(L7:L7,T10)","v":0},{"$f":"U10/(W4-U25)","v":0},{"$f":"IF(V10=0,0,(V10*((LOG(V10))/LOG(2))))","v":0},null,{"$f":"N10","v":11122},{"$f":"COUNTIF(L8:L9,Y10)","v":0},{"$f":"Z10/(AB4-Z25)","v":0},{"$f":"IF(AA10=0,0,(AA10*((LOG(AA10))/LOG(2))))","v":0},null,{"$f":"N10","v":11122},{"$f":"COUNTIF(L10:L10,AD10)","v":0},{"$f":"AE10/(AG4-AE25)","v":0},{"$f":"IF(AF10=0,0,(AF10*((LOG(AF10))/LOG(2))))","v":0},null,{"$f":"N10","v":11122},{"$f":"COUNTIF(L11:L11,AI10)","v":0},{"$f":"AJ10/(AL4-AJ25)","v":0},{"$f":"IF(AK10=0,0,(AK10*((LOG(AK10))/LOG(2))))","v":0},null,{"$f":"N10","v":11122},{"$f":"COUNTIF(L12:L13,AN10)","v":0},{"$f":"AO10/(AQ4-AO25)","v":0},{"$f":"IF(AP10=0,0,(AP10*((LOG(AP10))/LOG(2))))","v":0},null,{"$f":"N10","v":11122},{"$f":"COUNTIF(L14:L14,AS10)","v":0},{"$f":"AT10/(AV4-AT25)","v":0},{"$f":"IF(AU10=0,0,(AU10*((LOG(AU10))/LOG(2))))","v":0}]
[12,2640,13,2652,24,2661,23,2676,13,2688,0,11221,null,11211,{"$f":"COUNTIF($L$7:$L$500,N11)","v":0},{"$f":"O11/$Q$4","v":0},{"$f":"IF(P11=0,0,(P11*((LOG(P11))/LOG(2))))","v":0},null,null,{"$f":"N11","v":11211},{"$f":"COUNTIF(L7:L7,T11)","v":0},{"$f":"U11/(W4-U25)","v":0},{"$f":"IF(V11=0,0,(V11*((LOG(V11))/LOG(2))))","v":0},null,{"$f":"N11","v":11211},{"$f":"COUNTIF(L8:L9,Y11)","v":0},{"$f":"Z11/(AB4-Z25)","v":0},{"$f":"IF(AA11=0,0,(AA11*((LOG(AA11))/LOG(2))))","v":0},null,{"$f":"N11","v":11211},{"$f":"COUNTIF(L10:L10,AD11)","v":0},{"$f":"AE11/(AG4-AE25)","v":0},{"$f":"IF(AF11=0,0,(AF11*((LOG(AF11))/LOG(2))))","v":0},null,{"$f":"N11","v":11211},{"$f":"COUNTIF(L11:L11,AI11)","v":0},{"$f":"AJ11/(AL4-AJ25)","v":0},{"$f":"IF(AK11=0,0,(AK11*((LOG(AK11))/LOG(2))))","v":0},null,{"$f":"N11","v":11211},{"$f":"COUNTIF(L12:L13,AN11)","v":0},{"$f":"AO11/(AQ4-AO25)","v":0},{"$f":"IF(AP11=0,0,(AP11*((LOG(AP11))/LOG(2))))","v":0},null,{"$f":"N11","v":11211},{"$f":"COUNTIF(L14:L14,AS11)","v":0},{"$f":"AT11/(AV4-AT25)","v":0},{"$f":"IF(AU11=0,0,(AU11*((LOG(AU11))/LOG(2))))","v":0}]
[12,6043,24,7295,24,7307,23,7325,13,8791,0,12221,null,11212,{"$f":"COUNTIF($L$7:$L$500,N12)","v":0},{"$f":"O12/$Q$4","v":0},{"$f":"IF(P12=0,0,(P12*((LOG(P12))/LOG(2))))","v":0},null,null,{"$f":"N12","v":11212},{"$f":"COUNTIF(L7:L7,T12)","v":0},{"$f":"U12/(W4-U25)","v":0},{"$f":"IF(V12=0,0,(V12*((LOG(V12))/LOG(2))))","v":0},null,{"$f":"N12","v":11212},{"$f":"COUNTIF(L8:L9,Y12)","v":0},{"$f":"Z12/(AB4-Z25)","v":0},{"$f":"IF(AA12=0,0,(AA12*((LOG(AA12))/LOG(2))))","v":0},null,{"$f":"N12","v":11212},{"$f":"COUNTIF(L10:L10,AD12)","v":0},{"$f":"AE12/(AG4-AE25)","v":0},{"$f":"IF(AF12=0,0,(AF12*((LOG(AF12))/LOG(2))))","v":0},null,{"$f":"N12","v":11212},{"$f":"COUNTIF(L11:L11,AI12)","v":0},{"$f":"AJ12/(AL4-AJ25)","v":0},{"$f":"IF(AK12=0,0,(AK12*((LOG(AK12))/LOG(2))))","v":0},null,{"$f":"N12","v":11212},{"$f":"COUNTIF(L12:L13,AN12)","v":0},{"$f":"AO12/(AQ4-AO25)","v":0},{"$f":"IF(AP12=0,0,(AP12*((LOG(AP12))/LOG(2))))","v":0},null,{"$f":"N12","v":11212},{"$f":"COUNTIF(L14:L14,AS12)","v":0},{"$f":"AT12/(AV4-AT25)","v":0},{"$f":"IF(AU12=0,0,(AU12*((LOG(AU12))/LOG(2))))","v":0}]
[21,10196,22,15889,24,15898,23,15921,13,15932,0,22221,null,11221,{"$f":"COUNTIF($L$7:$L$500,N13)","v":1},{"$f":"O13/$Q$4","v":0.125},{"$f":"IF(P13=0,0,(P13*((LOG(P13))/LOG(2))))","v":-0.375},null,null,{"$f":"N13","v":11221},{"$f":"COUNTIF(L7:L7,T13)","v":0},{"$f":"U13/(W4-U25)","v":0},{"$f":"IF(V13=0,0,(V13*((LOG(V13))/LOG(2))))","v":0},null,{"$f":"N13","v":11221},{"$f":"COUNTIF(L8:L9,Y13)","v":0},{"$f":"Z13/(AB4-Z25)","v":0},{"$f":"IF(AA13=0,0,(AA13*((LOG(AA13))/LOG(2))))","v":0},null,{"$f":"N13","v":11221},{"$f":"COUNTIF(L10:L10,AD13)","v":0},{"$f":"AE13/(AG4-AE25)","v":0},{"$f":"IF(AF13=0,0,(AF13*((LOG(AF13))/LOG(2))))","v":0},null,{"$f":"N13","v":11221},{"$f":"COUNTIF(L11:L11,AI13)","v":1},{"$f":"AJ13/(AL4-AJ25)","v":1},{"$f":"IF(AK13=0,0,(AK13*((LOG(AK13))/LOG(2))))","v":0},null,{"$f":"N13","v":11221},{"$f":"COUNTIF(L12:L13,AN13)","v":0},{"$f":"AO13/(AQ4-AO25)","v":0},{"$f":"IF(AP13=0,0,(AP13*((LOG(AP13))/LOG(2))))","v":0},null,{"$f":"N13","v":11221},{"$f":"COUNTIF(L14:L14,AS13)","v":0},{"$f":"AT13/(AV4-AT25)","v":0},{"$f":"IF(AU13=0,0,(AU13*((LOG(AU13))/LOG(2))))","v":0}]
[12,18413,24,18421,13,18433,23,18441,13,18452,0,12121,null,11222,{"$f":"COUNTIF($L$7:$L$500,N14)","v":0},{"$f":"O14/$Q$4","v":0},{"$f":"IF(P14=0,0,(P14*((LOG(P14))/LOG(2))))","v":0},null,null,{"$f":"N14","v":11222},{"$f":"COUNTIF(L7:L7,T14)","v":0},{"$f":"U14/(W4-U25)","v":0},{"$f":"IF(V14=0,0,(V14*((LOG(V14))/LOG(2))))","v":0},null,{"$f":"N14","v":11222},{"$f":"COUNTIF(L8:L9,Y14)","v":0},{"$f":"Z14/(AB4-Z25)","v":0},{"$f":"IF(AA14=0,0,(AA14*((LOG(AA14))/LOG(2))))","v":0},null,{"$f":"N14","v":11222},{"$f":"COUNTIF(L10:L10,AD14)","v":0},{"$f":"AE14/(AG4-AE25)","v":0},{"$f":"IF(AF14=0,0,(AF14*((LOG(AF14))/LOG(2))))","v":0},null,{"$f":"N14","v":11222},{"$f":"COUNTIF(L11:L11,AI14)","v":0},{"$f":"AJ14/(AL4-AJ25)","v":0},{"$f":"IF(AK14=0,0,(AK14*((LOG(AK14))/LOG(2))))","v":0},null,{"$f":"N14","v":11222},{"$f":"COUNTIF(L12:L13,AN14)","v":0},{"$f":"AO14/(AQ4-AO25)","v":0},{"$f":"IF(AP14=0,0,(AP14*((LOG(AP14))/LOG(2))))","v":0},null,{"$f":"N14","v":11222},{"$f":"COUNTIF(L14:L14,AS14)","v":0},{"$f":"AT14/(AV4-AT25)","v":0},{"$f":"IF(AU14=0,0,(AU14*((LOG(AU14))/LOG(2))))","v":0}]
[null,null,null,null,null,null,null,null,null,null,null,null,null,12111,{"$f":"COUNTIF($L$7:$L$500,N15)","v":0},{"$f":"O15/$Q$4","v":0},{"$f":"IF(P15=0,0,(P15*((LOG(P15))/LOG(2))))","v":0},null,null,{"$f":"N15","v":12111},{"$f":"COUNTIF(L7:L7,T15)","v":0},{"$f":"U15/(W4-U25)","v":0},{"$f":"IF(V15=0,0,(V15*((LOG(V15))/LOG(2))))","v":0},null,{"$f":"N15","v":12111},{"$f":"COUNTIF(L8:L9,Y15)","v":0},{"$f":"Z15/(AB4-Z25)","v":0},{"$f":"IF(AA15=0,0,(AA15*((LOG(AA15))/LOG(2))))","v":0},null,{"$f":"N15","v":12111},{"$f":"COUNTIF(L10:L10,AD15)","v":0},{"$f":"AE15/(AG4-AE25)","v":0},{"$f":"IF(AF15=0,0,(AF15*((LOG(AF15))/LOG(2))))","v":0},null,{"$f":"N15","v":12111},{"$f":"COUNTIF(L11:L11,AI15)","v":0},{"$f":"AJ15/(AL4-AJ25)","v":0},{"$f":"IF(AK15=0,0,(AK15*((LOG(AK15))/LOG(2))))","v":0},null,{"$f":"N15","v":12111},{"$f":"COUNTIF(L12:L13,AN15)","v":0},{"$f":"AO15/(AQ4-AO25)","v":0},{"$f":"IF(AP15=0,0,(AP15*((LOG(AP15))/LOG(2))))","v":0},null,{"$f":"N15","v":12111},{"$f":"COUNTIF(L14:L14,AS15)","v":0},{"$f":"AT15/(AV4-AT25)","v":0},{"$f":"IF(AU15=0,0,(AU15*((LOG(AU15))/LOG(2))))","v":0}]
[null,null,null,null,null,null,null,null,null,null,null,null,null,12112,{"$f":"COUNTIF($L$7:$L$500,N16)","v":0},{"$f":"O16/$Q$4","v":0},{"$f":"IF(P16=0,0,(P16*((LOG(P16))/LOG(2))))","v":0},null,null,{"$f":"N16","v":12112},{"$f":"COUNTIF(L7:L7,T16)","v":0},{"$f":"U16/(W4-U25)","v":0},{"$f":"IF(V16=0,0,(V16*((LOG(V16))/LOG(2))))","v":0},null,{"$f":"N16","v":12112},{"$f":"COUNTIF(L8:L9,Y16)","v":0},{"$f":"Z16/(AB4-Z25)","v":0},{"$f":"IF(AA16=0,0,(AA16*((LOG(AA16))/LOG(2))))","v":0},null,{"$f":"N16","v":12112},{"$f":"COUNTIF(L10:L10,AD16)","v":0},{"$f":"AE16/(AG4-AE25)","v":0},{"$f":"IF(AF16=0,0,(AF16*((LOG(AF16))/LOG(2))))","v":0},null,{"$f":"N16","v":12112},{"$f":"COUNTIF(L11:L11,AI16)","v":0},{"$f":"AJ16/(AL4-AJ25)","v":0},{"$f":"IF(AK16=0,0,(AK16*((LOG(AK16))/LOG(2))))","v":0},null,{"$f":"N16","v":12112},{"$f":"COUNTIF(L12:L13,AN16)","v":0},{"$f":"AO16/(AQ4-AO25)","v":0},{"$f":"IF(AP16=0,0,(AP16*((LOG(AP16))/LOG(2))))","v":0},null,{"$f":"N16","v":12112},{"$f":"COUNTIF(L14:L14,AS16)","v":0},{"$f":"AT16/(AV4-AT25)","v":0},{"$f":"IF(AU16=0,0,(AU16*((LOG(AU16))/LOG(2))))","v":0}]
[null,null,null,null,null,null,null,null,null,null,null,null,null,12121,{"$f":"COUNTIF($L$7:$L$500,N17)","v":1},{"$f":"O17/$Q$4","v":0.125},{"$f":"IF(P17=0,0,(P17*((LOG(P17))/LOG(2))))","v":-0.375},null,null,{"$f":"N17","v":12121},{"$f":"COUNTIF(L7:L7,T17)","v":0},{"$f":"U17/(W4-U25)","v":0},{"$f":"IF(V17=0,0,(V17*((LOG(V17))/LOG(2))))","v":0},null,{"$f":"N17","v":12121},{"$f":"COUNTIF(L8:L9,Y17)","v":0},{"$f":"Z17/(AB4-Z25)","v":0},{"$f":"IF(AA17=0,0,(AA17*((LOG(AA17))/LOG(2))))","v":0},null,{"$f":"N17","v":12121},{"$f":"COUNTIF(L10:L10,AD17)","v":0},{"$f":"AE17/(AG4-AE25)","v":0},{"$f":"IF(AF17=0,0,(AF17*((LOG(AF17))/LOG(2))))","v":0},null,{"$f":"N17","v":12121},{"$f":"COUNTIF(L11:L11,AI17)","v":0},{"$f":"AJ17/(AL4-AJ25)","v":0},{"$f":"IF(AK17=0,0,(AK17*((LOG(AK17))/LOG(2))))","v":0},null,{"$f":"N17","v":12121},{"$f":"COUNTIF(L12:L13,AN17)","v":0},{"$f":"AO17/(AQ4-AO25)","v":0},{"$f":"IF(AP17=0,0,(AP17*((LOG(AP17))/LOG(2))))","v":0},null,{"$f":"N17","v":12121},{"$f":"COUNTIF(L14:L14,AS17)","v":1},{"$f":"AT17/(AV4-AT25)","v":1},{"$f":"IF(AU17=0,0,(AU17*((LOG(AU17))/LOG(2))))","v":0}]
[null,null,null,null,null,null,null,null,null,null,null,null,null,12122,{"$f":"COUNTIF($L$7:$L$500,N18)","v":1},{"$f":"O18/$Q$4","v":0.125},{"$f":"IF(P18=0,0,(P18*((LOG(P18))/LOG(2))))","v":-0.375},null,null,{"$f":"N18","v":12122},{"$f":"COUNTIF(L7:L7,T18)","v":0},{"$f":"U18/(W4-U25)","v":0},{"$f":"IF(V18=0,0,(V18*((LOG(V18))/LOG(2))))","v":0},null,{"$f":"N18","v":12122},{"$f":"COUNTIF(L8:L9,Y18)","v":1},{"$f":"Z18/(AB4-Z25)","v":0.5},{"$f":"IF(AA18=0,0,(AA18*((LOG(AA18))/LOG(2))))","v":-0.5},null,{"$f":"N18","v":12122},{"$f":"COUNTIF(L10:L10,AD18)","v":0},{"$f":"AE18/(AG4-AE25)","v":0},{"$f":"IF(AF18=0,0,(AF18*((LOG(AF18))/LOG(2))))","v":0},null,{"$f":"N18","v":12122},{"$f":"COUNTIF(L11:L11,AI18)","v":0},{"$f":"AJ18/(AL4-AJ25)","v":0},{"$f":"IF(AK18=0,0,(AK18*((LOG(AK18))/LOG(2))))","v":0},null,{"$f":"N18","v":12122},{"$f":"COUNTIF(L12:L13,AN18)","v":0},{"$f":"AO18/(AQ4-AO25)","v":0},{"$f":"IF(AP18=0,0,(AP18*((LOG(AP18))/LOG(2))))","v":0},null,{"$f":"N18","v":12122},{"$f":"COUNTIF(L14:L14,AS18)","v":0},{"$f":"AT18/(AV4-AT25)","v":0},{"$f":"IF(AU18=0,0,(AU18*((LOG(AU18))/LOG(2))))","v":0}]
[null,null,null,null,null,null,null,null,null,null,null,null,null,12211,{"$f":"COUNTIF($L$7:$L$500,N19)","v":0},{"$f":"O19/$Q$4","v":0},{"$f":"IF(P19=0,0,(P19*((LOG(P19))/LOG(2))))","v":0},null,null,{"$f":"N19","v":12211},{"$f":"COUNTIF(L7:L7,T19)","v":0},{"$f":"U19/(W4-U25)","v":0},{"$f":"IF(V19=0,0,(V19*((LOG(V19))/LOG(2))))","v":0},null,{"$f":"N19","v":12211},{"$f":"COUNTIF(L8:L9,Y19)","v":0},{"$f":"Z19/(AB4-Z25)","v":0},{"$f":"IF(AA19=0,0,(AA19*((LOG(AA19))/LOG(2))))","v":0},null,{"$f":"N19","v":12211},{"$f":"COUNTIF(L10:L10,AD19)","v":0},{"$f":"AE19/(AG4-AE25)","v":0},{"$f":"IF(AF19=0,0,(AF19*((LOG(AF19))/LOG(2))))","v":0},null,{"$f":"N19","v":12211},{"$f":"COUNTIF(L11:L11,AI19)","v":0},{"$f":"AJ19/(AL4-AJ25)","v":0},{"$f":"IF(AK19=0,0,(AK19*((LOG(AK19))/LOG(2))))","v":0},null,{"$f":"N19","v":12211},{"$f":"COUNTIF(L12:L13,AN19)","v":0},{"$f":"AO19/(AQ4-AO25)","v":0},{"$f":"IF(AP19=0,0,(AP19*((LOG(AP19))/LOG(2))))","v":0},null,{"$f":"N19","v":12211},{"$f":"COUNTIF(L14:L14,AS19)","v":0},{"$f":"AT19/(AV4-AT25)","v":0},{"$f":"IF(AU19=0,0,(AU19*((LOG(AU19))/LOG(2))))","v":0}]
[null,null,null,null,null,null,null,null,null,null,null,null,null,12212,{"$f":"COUNTIF($L$7:$L$500,N20)","v":0},{"$f":"O20/$Q$4","v":0},{"$f":"IF(P20=0,0,(P20*((LOG(P20))/LOG(2))))","v":0},null,null,{"$f":"N20","v":12212},{"$f":"COUNTIF(L7:L7,T20)","v":0},{"$f":"U20/(W4-U25)","v":0},{"$f":"IF(V20=0,0,(V20*((LOG(V20))/LOG(2))))","v":0},null,{"$f":"N20","v":12212},{"$f":"COUNTIF(L8:L9,Y20)","v":0},{"$f":"Z20/(AB4-Z25)","v":0},{"$f":"IF(AA20=0,0,(AA20*((LOG(AA20))/LOG(2))))","v":0},null,{"$f":"N20","v":12212},{"$f":"COUNTIF(L10:L10,AD20)","v":0},{"$f":"AE20/(AG4-AE25)","v":0},{"$f":"IF(AF20=0,0,(AF20*((LOG(AF20))/LOG(2))))","v":0},null,{"$f":"N20","v":12212},{"$f":"COUNTIF(L11:L11,AI20)","v":0},{"$f":"AJ20/(AL4-AJ25)","v":0},{"$f":"IF(AK20=0,0,(AK20*((LOG(AK20))/LOG(2))))","v":0},null,{"$f":"N20","v":12212},{"$f":"COUNTIF(L12:L13,AN20)","v":0},{"$f":"AO20/(AQ4-AO25)","v":0},{"$f":"IF(AP20=0,0,(AP20*((LOG(AP20))/LOG(2))))","v":0},null,{"$f":"N20","v":12212},{"$f":"COUNTIF(L14:L14,AS20)","v":0},{"$f":"AT20/(AV4-AT25)","v":0},{"$f":"IF(AU20=0,0,(AU20*((LOG(AU20))/LOG(2))))","v":0}]
[null,null,null,null,null,null,null,null,null,null,null,null,null,12221,{"$f":"COUNTIF($L$7:$L$500,N21)","v":2},{"$f":"O21/$Q$4","v":0.25},{"$f":"IF(P21=0,0,(P21*((LOG(P21))/LOG(2))))","v":-0.5},null,null,{"$f":"N21","v":12221},{"$f":"COUNTIF(L7:L7,T21)","v":0},{"$f":"U21/(W4-U25)","v":0},{"$f":"IF(V21=0,0,(V21*((LOG(V21))/LOG(2))))","v":0},null,{"$f":"N21","v":12221},{"$f":"COUNTIF(L8:L9,Y21)","v":0},{"$f":"Z21/(AB4-Z25)","v":0},{"$f":"IF(AA21=0,0,(AA21*((LOG(AA21))/LOG(2))))","v":0},null,{"$f":"N21","v":12221},{"$f":"COUNTIF(L10:L10,AD21)","v":1},{"$f":"AE21/(AG4-AE25)","v":1},{"$f":"IF(AF21=0,0,(AF21*((LOG(AF21))/LOG(2))))","v":0},null,{"$f":"N21","v":12221},{"$f":"COUNTIF(L11:L11,AI21)","v":0},{"$f":"AJ21/(AL4-AJ25)","v":0},{"$f":"IF(AK21=0,0,(AK21*((LOG(AK21))/LOG(2))))","v":0},null,{"$f":"N21","v":12221},{"$f":"COUNTIF(L12:L13,AN21)","v":1},{"$f":"AO21/(AQ4-AO25)","v":0.5},{"$f":"IF(AP21=0,0,(AP21*((LOG(AP21))/LOG(2))))","v":-0.5},null,{"$f":"N21","v":12221},{"$f":"COUNTIF(L14:L14,AS21)","v":0},{"$f":"AT21/(AV4-AT25)","v":0},{"$f":"IF(AU21=0,0,(AU21*((LOG(AU21))/LOG(2))))","v":0}]
[null,null,null,null,null,null,null,null,null,null,null,null,null,12222,{"$f":"COUNTIF($L$7:$L$500,N22)","v":0},{"$f":"O22/$Q$4","v":0},{"$f":"IF(P22=0,0,(P22*((LOG(P22))/LOG(2))))","v":0},null,null,{"$f":"N22","v":12222},{"$f":"COUNTIF(L7:L7,T22)","v":0},{"$f":"U22/(W4-U25)","v":0},{"$f":"IF(V22=0,0,(V22*((LOG(V22))/LOG(2))))","v":0},null,{"$f":"N22","v":12222},{"$f":"COUNTIF(L8:L9,Y22)","v":0},{"$f":"Z22/(AB4-Z25)","v":0},{"$f":"IF(AA22=0,0,(AA22*((LOG(AA22))/LOG(2))))","v":0},null,{"$f":"N22","v":12222},{"$f":"COUNTIF(L10:L10,AD22)","v":0},{"$f":"AE22/(AG4-AE25)","v":0},{"$f":"IF(AF22=0,0,(AF22*((LOG(AF22))/LOG(2))))","v":0},null,{"$f":"N22","v":12222},{"$f":"COUNTIF(L11:L11,AI22)","v":0},{"$f":"AJ22/(AL4-AJ25)","v":0},{"$f":"IF(AK22=0,0,(AK22*((LOG(AK22))/LOG(2))))","v":0},null,{"$f":"N22","v":12222},{"$f":"COUNTIF(L12:L13,AN22)","v":0},{"$f":"AO22/(AQ4-AO25)","v":0},{"$f":"IF(AP22=0,0,(AP22*((LOG(AP22))/LOG(2))))","v":0},null,{"$f":"N22","v":12222},{"$f":"COUNTIF(L14:L14,AS22)","v":0},{"$f":"AT22/(AV4-AT25)","v":0},{"$f":"IF(AU22=0,0,(AU22*((LOG(AU22))/LOG(2))))","v":0}]
[null,null,null,null,null,null,null,null,null,null,null,null,null,21111,{"$f":"COUNTIF($L$7:$L$500,N23)","v":0},{"$f":"O23/$Q$4","v":0},{"$f":"IF(P23=0,0,(P23*((LOG(P23))/LOG(2))))","v":0},null,null,{"$f":"N23","v":21111},{"$f":"COUNTIF(L7:L7,T23)","v":0},{"$f":"U23/(W4-U25)","v":0},{"$f":"IF(V23=0,0,(V23*((LOG(V23))/LOG(2))))","v":0},null,{"$f":"N23","v":21111},{"$f":"COUNTIF(L8:L9,Y23)","v":0},{"$f":"Z23/(AB4-Z25)","v":0},{"$f":"IF(AA23=0,0,(AA23*((LOG(AA23))/LOG(2))))","v":0},null,{"$f":"N23","v":21111},{"$f":"COUNTIF(L10:L10,AD23)","v":0},{"$f":"AE23/(AG4-AE25)","v":0},{"$f":"IF(AF23=0,0,(AF23*((LOG(AF23))/LOG(2))))","v":0},null,{"$f":"N23","v":21111},{"$f":"COUNTIF(L11:L11,AI23)","v":0},{"$f":"AJ23/(AL4-AJ25)","v":0},{"$f":"IF(AK23=0,0,(AK23*((LOG(AK23))/LOG(2))))","v":0},null,{"$f":"N23","v":21111},{"$f":"COUNTIF(L12:L13,AN23)","v":0},{"$f":"AO23/(AQ4-AO25)","v":0},{"$f":"IF(AP23=0,0,(AP23*((LOG(AP23))/LOG(2))))","v":0},null,{"$f":"N23","v":21111},{"$f":"COUNTIF(L14:L14,AS23)","v":0},{"$f":"AT23/(AV4-AT25)","v":0},{"$f":"IF(AU23=0,0,(AU23*((LOG(AU23))/LOG(2))))","v":0}]
[null,null,null,null,null,null,null,null,null,null,null,null,null,21112,{"$f":"COUNTIF($L$7:$L$500,N24)","v":0},{"$f":"O24/$Q$4","v":0},{"$f":"IF(P24=0,0,(P24*((LOG(P24))/LOG(2))))","v":0},null,null,{"$f":"N24","v":21112},{"$f":"COUNTIF(L7:L7,T24)","v":0},{"$f":"U24/(W4-U25)","v":0},{"$f":"IF(V24=0,0,(V24*((LOG(V24))/LOG(2))))","v":0},null,{"$f":"N24","v":21112},{"$f":"COUNTIF(L8:L9,Y24)","v":0},{"$f":"Z24/(AB4-Z25)","v":0},{"$f":"IF(AA24=0,0,(AA24*((LOG(AA24))/LOG(2))))","v":0},null,{"$f":"N24","v":21112},{"$f":"COUNTIF(L10:L10,AD24)","v":0},{"$f":"AE24/(AG4-AE25)","v":0},{"$f":"IF(AF24=0,0,(AF24*((LOG(AF24))/LOG(2))))","v":0},null,{"$f":"N24","v":21112},{"$f":"COUNTIF(L11:L11,AI24)","v":0},{"$f":"AJ24/(AL4-AJ25)","v":0},{"$f":"IF(AK24=0,0,(AK24*((LOG(AK24))/LOG(2))))","v":0},null,{"$f":"N24","v":21112},{"$f":"COUNTIF(L12:L13,AN24)","v":0},{"$f":"AO24/(AQ4-AO25)","v":0},{"$f":"IF(AP24=0,0,(AP24*((LOG(AP24))/LOG(2))))","v":0},null,{"$f":"N24","v":21112},{"$f":"COUNTIF(L14:L14,AS24)","v":0},{"$f":"AT24/(AV4-AT25)","v":0},{"$f":"IF(AU24=0,0,(AU24*((LOG(AU24))/LOG(2))))","v":0}]
[null,null,null,null,null,null,null,null,null,null,null,null,null,21121,{"$f":"COUNTIF($L$7:$L$500,N25)","v":0},{"$f":"O25/$Q$4","v":0},{"$f":"IF(P25=0,0,(P25*((LOG(P25))/LOG(2))))","v":0},null,null,{"$f":"N25","v":21121},{"$f":"COUNTIF(L7:L7,T25)","v":0},null,null,null,{"$f":"N25","v":21121},{"$f":"COUNTIF(L8:L9,Y25)","v":0},null,null,null,{"$f":"N25","v":21121},{"$f":"COUNTIF(L10:L10,AD25)","v":0},null,null,null,{"$f":"N25","v":21121},{"$f":"COUNTIF(L11:L11,AI25)","v":0},null,null,null,{"$f":"N25","v":21121},{"$f":"COUNTIF(L12:L13,AN25)","v":0},null,null,null,{"$f":"N25","v":21121},{"$f":"COUNTIF(L14:L14,AS25)","v":0}]
[null,null,null,null,null,null,null,null,null,null,null,null,null,21122,{"$f":"COUNTIF($L$7:$L$500,N26)","v":0},{"$f":"O26/$Q$4","v":0},{"$f":"IF(P26=0,0,(P26*((LOG(P26))/LOG(2))))","v":0},null,null,{"$f":"N26","v":21122},{"$f":"COUNTIF(L7:L7,T26)","v":0},{"$f":"U26/(W4-U25)","v":0},{"$f":"IF(V26=0,0,(V26*((LOG(V26))/LOG(2))))","v":0},null,{"$f":"N26","v":21122},{"$f":"COUNTIF(L8:L9,Y26)","v":0},{"$f":"Z26/(AB4-Z25)","v":0},{"$f":"IF(AA26=0,0,(AA26*((LOG(AA26))/LOG(2))))","v":0},null,{"$f":"N26","v":21122},{"$f":"COUNTIF(L10:L10,AD26)","v":0},{"$f":"AE26/(AG4-AE25)","v":0},{"$f":"IF(AF26=0,0,(AF26*((LOG(AF26))/LOG(2))))","v":0},null,{"$f":"N26","v":21122},{"$f":"COUNTIF(L11:L11,AI26)","v":0},{"$f":"AJ26/(AL4-AJ25)","v":0},{"$f":"IF(AK26=0,0,(AK26*((LOG(AK26))/LOG(2))))","v":0},null,{"$f":"N26","v":21122},{"$f":"COUNTIF(L12:L13,AN26)","v":0},{"$f":"AO26/(AQ4-AO25)","v":0},{"$f":"IF(AP26=0,0,(AP26*((LOG(AP26))/LOG(2))))","v":0},null,{"$f":"N26","v":21122},{"$f":"COUNTIF(L14:L14,AS26)","v":0},{"$f":"AT26/(AV4-AT25)","v":0},{"$f":"IF(AU26=0,0,(AU26*((LOG(AU26))/LOG(2))))","v":0}]
[null,null,null,null,null,null,null,null,null,null,null,null,null,21211,{"$f":"COUNTIF($L$7:$L$500,N27)","v":0},{"$f":"O27/$Q$4","v":0},{"$f":"IF(P27=0,0,(P27*((LOG(P27))/LOG(2))))","v":0},null,null,{"$f":"N27","v":21211},{"$f":"COUNTIF(L7:L7,T27)","v":0},{"$f":"U27/(W4-U25)","v":0},{"$f":"IF(V27=0,0,(V27*((LOG(V27))/LOG(2))))","v":0},null,{"$f":"N27","v":21211},{"$f":"COUNTIF(L8:L9,Y27)","v":0},{"$f":"Z27/(AB4-Z25)","v":0},{"$f":"IF(AA27=0,0,(AA27*((LOG(AA27))/LOG(2))))","v":0},null,{"$f":"N27","v":21211},{"$f":"COUNTIF(L10:L10,AD27)","v":0},{"$f":"AE27/(AG4-AE25)","v":0},{"$f":"IF(AF27=0,0,(AF27*((LOG(AF27))/LOG(2))))","v":0},null,{"$f":"N27","v":21211},{"$f":"COUNTIF(L11:L11,AI27)","v":0},{"$f":"AJ27/(AL4-AJ25)","v":0},{"$f":"IF(AK27=0,0,(AK27*((LOG(AK27))/LOG(2))))","v":0},null,{"$f":"N27","v":21211},{"$f":"COUNTIF(L12:L13,AN27)","v":0},{"$f":"AO27/(AQ4-AO25)","v":0},{"$f":"IF(AP27=0,0,(AP27*((LOG(AP27))/LOG(2))))","v":0},null,{"$f":"N27","v":21211},{"$f":"COUNTIF(L14:L14,AS27)","v":0},{"$f":"AT27/(AV4-AT25)","v":0},{"$f":"IF(AU27=0,0,(AU27*((LOG(AU27))/LOG(2))))","v":0}]
[null,null,null,null,null,null,null,null,null,null,null,null,null,21212,{"$f":"COUNTIF($L$7:$L$500,N28)","v":0},{"$f":"O28/$Q$4","v":0},{"$f":"IF(P28=0,0,(P28*((LOG(P28))/LOG(2))))","v":0},null,null,{"$f":"N28","v":21212},{"$f":"COUNTIF(L7:L7,T28)","v":0},{"$f":"U28/(W4-U25)","v":0},{"$f":"IF(V28=0,0,(V28*((LOG(V28))/LOG(2))))","v":0},null,{"$f":"N28","v":21212},{"$f":"COUNTIF(L8:L9,Y28)","v":0},{"$f":"Z28/(AB4-Z25)","v":0},{"$f":"IF(AA28=0,0,(AA28*((LOG(AA28))/LOG(2))))","v":0},null,{"$f":"N28","v":21212},{"$f":"COUNTIF(L10:L10,AD28)","v":0},{"$f":"AE28/(AG4-AE25)","v":0},{"$f":"IF(AF28=0,0,(AF28*((LOG(AF28))/LOG(2))))","v":0},null,{"$f":"N28","v":21212},{"$f":"COUNTIF(L11:L11,AI28)","v":0},{"$f":"AJ28/(AL4-AJ25)","v":0},{"$f":"IF(AK28=0,0,(AK28*((LOG(AK28))/LOG(2))))","v":0},null,{"$f":"N28","v":21212},{"$f":"COUNTIF(L12:L13,AN28)","v":0},{"$f":"AO28/(AQ4-AO25)","v":0},{"$f":"IF(AP28=0,0,(AP28*((LOG(AP28))/LOG(2))))","v":0},null,{"$f":"N28","v":21212},{"$f":"COUNTIF(L14:L14,AS28)","v":0},{"$f":"AT28/(AV4-AT25)","v":0},{"$f":"IF(AU28=0,0,(AU28*((LOG(AU28))/LOG(2))))","v":0}]
[null,null,null,null,null,null,null,null,null,null,null,null,null,21221,{"$f":"COUNTIF($L$7:$L$500,N29)","v":0},{"$f":"O29/$Q$4","v":0},{"$f":"IF(P29=0,0,(P29*((LOG(P29))/LOG(2))))","v":0},null,null,{"$f":"N29","v":21221},{"$f":"COUNTIF(L7:L7,T29)","v":0},{"$f":"U29/(W4-U25)","v":0},{"$f":"IF(V29=0,0,(V29*((LOG(V29))/LOG(2))))","v":0},null,{"$f":"N29","v":21221},{"$f":"COUNTIF(L8:L9,Y29)","v":0},{"$f":"Z29/(AB4-Z25)","v":0},{"$f":"IF(AA29=0,0,(AA29*((LOG(AA29))/LOG(2))))","v":0},null,{"$f":"N29","v":21221},{"$f":"COUNTIF(L10:L10,AD29)","v":0},{"$f":"AE29/(AG4-AE25)","v":0},{"$f":"IF(AF29=0,0,(AF29*((LOG(AF29))/LOG(2))))","v":0},null,{"$f":"N29","v":21221},{"$f":"COUNTIF(L11:L11,AI29)","v":0},{"$f":"AJ29/(AL4-AJ25)","v":0},{"$f":"IF(AK29=0,0,(AK29*((LOG(AK29))/LOG(2))))","v":0},null,{"$f":"N29","v":21221},{"$f":"COUNTIF(L12:L13,AN29)","v":0},{"$f":"AO29/(AQ4-AO25)","v":0},{"$f":"IF(AP29=0,0,(AP29*((LOG(AP29))/LOG(2))))","v":0},null,{"$f":"N29","v":21221},{"$f":"COUNTIF(L14:L14,AS29)","v":0},{"$f":"AT29/(AV4-AT25)","v":0},{"$f":"IF(AU29=0,0,(AU29*((LOG(AU29))/LOG(2))))","v":0}]
[null,null,null,null,null,null,null,null,null,null,null,null,null,21222,{"$f":"COUNTIF($L$7:$L$500,N30)","v":0},{"$f":"O30/$Q$4","v":0},{"$f":"IF(P30=0,0,(P30*((LOG(P30))/LOG(2))))","v":0},null,null,{"$f":"N30","v":21222},{"$f":"COUNTIF(L7:L7,T30)","v":0},{"$f":"U30/(W4-U25)","v":0},{"$f":"IF(V30=0,0,(V30*((LOG(V30))/LOG(2))))","v":0},null,{"$f":"N30","v":21222},{"$f":"COUNTIF(L8:L9,Y30)","v":0},{"$f":"Z30/(AB4-Z25)","v":0},{"$f":"IF(AA30=0,0,(AA30*((LOG(AA30))/LOG(2))))","v":0},null,{"$f":"N30","v":21222},{"$f":"COUNTIF(L10:L10,AD30)","v":0},{"$f":"AE30/(AG4-AE25)","v":0},{"$f":"IF(AF30=0,0,(AF30*((LOG(AF30))/LOG(2))))","v":0},null,{"$f":"N30","v":21222},{"$f":"COUNTIF(L11:L11,AI30)","v":0},{"$f":"AJ30/(AL4-AJ25)","v":0},{"$f":"IF(AK30=0,0,(AK30*((LOG(AK30))/LOG(2))))","v":0},null,{"$f":"N30","v":21222},{"$f":"COUNTIF(L12:L13,AN30)","v":0},{"$f":"AO30/(AQ4-AO25)","v":0},{"$f":"IF(AP30=0,0,(AP30*((LOG(AP30))/LOG(2))))","v":0},null,{"$f":"N30","v":21222},{"$f":"COUNTIF(L14:L14,AS30)","v":0},{"$f":"AT30/(AV4-AT25)","v":0},{"$f":"IF(AU30=0,0,(AU30*((LOG(AU30))/LOG(2))))","v":0}]
[null,null,null,null,null,null,null,null,null,null,null,null,null,22111,{"$f":"COUNTIF($L$7:$L$500,N31)","v":0},{"$f":"O31/$Q$4","v":0},{"$f":"IF(P31=0,0,(P31*((LOG(P31))/LOG(2))))","v":0},null,null,{"$f":"N31","v":22111},{"$f":"COUNTIF(L7:L7,T31)","v":0},{"$f":"U31/(W4-U25)","v":0},{"$f":"IF(V31=0,0,(V31*((LOG(V31))/LOG(2))))","v":0},null,{"$f":"N31","v":22111},{"$f":"COUNTIF(L8:L9,Y31)","v":0},{"$f":"Z31/(AB4-Z25)","v":0},{"$f":"IF(AA31=0,0,(AA31*((LOG(AA31))/LOG(2))))","v":0},null,{"$f":"N31","v":22111},{"$f":"COUNTIF(L10:L10,AD31)","v":0},{"$f":"AE31/(AG4-AE25)","v":0},{"$f":"IF(AF31=0,0,(AF31*((LOG(AF31))/LOG(2))))","v":0},null,{"$f":"N31","v":22111},{"$f":"COUNTIF(L11:L11,AI31)","v":0},{"$f":"AJ31/(AL4-AJ25)","v":0},{"$f":"IF(AK31=0,0,(AK31*((LOG(AK31))/LOG(2))))","v":0},null,{"$f":"N31","v":22111},{"$f":"COUNTIF(L12:L13,AN31)","v":0},{"$f":"AO31/(AQ4-AO25)","v":0},{"$f":"IF(AP31=0,0,(AP31*((LOG(AP31))/LOG(2))))","v":0},null,{"$f":"N31","v":22111},{"$f":"COUNTIF(L14:L14,AS31)","v":0},{"$f":"AT31/(AV4-AT25)","v":0},{"$f":"IF(AU31=0,0,(AU31*((LOG(AU31))/LOG(2))))","v":0}]
[null,null,null,null,null,null,null,null,null,null,null,null,null,22112,{"$f":"COUNTIF($L$7:$L$500,N32)","v":0},{"$f":"O32/$Q$4","v":0},{"$f":"IF(P32=0,0,(P32*((LOG(P32))/LOG(2))))","v":0},null,null,{"$f":"N32","v":22112},{"$f":"COUNTIF(L7:L7,T32)","v":0},{"$f":"U32/(W4-U25)","v":0},{"$f":"IF(V32=0,0,(V32*((LOG(V32))/LOG(2))))","v":0},null,{"$f":"N32","v":22112},{"$f":"COUNTIF(L8:L9,Y32)","v":0},{"$f":"Z32/(AB4-Z25)","v":0},{"$f":"IF(AA32=0,0,(AA32*((LOG(AA32))/LOG(2))))","v":0},null,{"$f":"N32","v":22112},{"$f":"COUNTIF(L10:L10,AD32)","v":0},{"$f":"AE32/(AG4-AE25)","v":0},{"$f":"IF(AF32=0,0,(AF32*((LOG(AF32))/LOG(2))))","v":0},null,{"$f":"N32","v":22112},{"$f":"COUNTIF(L11:L11,AI32)","v":0},{"$f":"AJ32/(AL4-AJ25)","v":0},{"$f":"IF(AK32=0,0,(AK32*((LOG(AK32))/LOG(2))))","v":0},null,{"$f":"N32","v":22112},{"$f":"COUNTIF(L12:L13,AN32)","v":0},{"$f":"AO32/(AQ4-AO25)","v":0},{"$f":"IF(AP32=0,0,(AP32*((LOG(AP32))/LOG(2))))","v":0},null,{"$f":"N32","v":22112},{"$f":"COUNTIF(L14:L14,AS32)","v":0},{"$f":"AT32/(AV4-AT25)","v":0},{"$f":"IF(AU32=0,0,(AU32*((LOG(AU32))/LOG(2))))","v":0}]
[null,null,null,null,null,null,null,null,null,null,null,null,null,22121,{"$f":"COUNTIF($L$7:$L$500,N33)","v":0},{"$f":"O33/$Q$4","v":0},{"$f":"IF(P33=0,0,(P33*((LOG(P33))/LOG(2))))","v":0},null,null,{"$f":"N33","v":22121},{"$f":"COUNTIF(L7:L7,T33)","v":0},{"$f":"U33/(W4-U25)","v":0},{"$f":"IF(V33=0,0,(V33*((LOG(V33))/LOG(2))))","v":0},null,{"$f":"N33","v":22121},{"$f":"COUNTIF(L8:L9,Y33)","v":0},{"$f":"Z33/(AB4-Z25)","v":0},{"$f":"IF(AA33=0,0,(AA33*((LOG(AA33))/LOG(2))))","v":0},null,{"$f":"N33","v":22121},{"$f":"COUNTIF(L10:L10,AD33)","v":0},{"$f":"AE33/(AG4-AE25)","v":0},{"$f":"IF(AF33=0,0,(AF33*((LOG(AF33))/LOG(2))))","v":0},null,{"$f":"N33","v":22121},{"$f":"COUNTIF(L11:L11,AI33)","v":0},{"$f":"AJ33/(AL4-AJ25)","v":0},{"$f":"IF(AK33=0,0,(AK33*((LOG(AK33))/LOG(2))))","v":0},null,{"$f":"N33","v":22121},{"$f":"COUNTIF(L12:L13,AN33)","v":0},{"$f":"AO33/(AQ4-AO25)","v":0},{"$f":"IF(AP33=0,0,(AP33*((LOG(AP33))/LOG(2))))","v":0},null,{"$f":"N33","v":22121},{"$f":"COUNTIF(L14:L14,AS33)","v":0},{"$f":"AT33/(AV4-AT25)","v":0},{"$f":"IF(AU33=0,0,(AU33*((LOG(AU33))/LOG(2))))","v":0}]
[null,null,null,null,null,null,null,null,null,null,null,null,null,22122,{"$f":"COUNTIF($L$7:$L$500,N34)","v":0},{"$f":"O34/$Q$4","v":0},{"$f":"IF(P34=0,0,(P34*((LOG(P34))/LOG(2))))","v":0},null,null,{"$f":"N34","v":22122},{"$f":"COUNTIF(L7:L7,T34)","v":0},{"$f":"U34/(W4-U25)","v":0},{"$f":"IF(V34=0,0,(V34*((LOG(V34))/LOG(2))))","v":0},null,{"$f":"N34","v":22122},{"$f":"COUNTIF(L8:L9,Y34)","v":0},{"$f":"Z34/(AB4-Z25)","v":0},{"$f":"IF(AA34=0,0,(AA34*((LOG(AA34))/LOG(2))))","v":0},null,{"$f":"N34","v":22122},{"$f":"COUNTIF(L10:L10,AD34)","v":0},{"$f":"AE34/(AG4-AE25)","v":0},{"$f":"IF(AF34=0,0,(AF34*((LOG(AF34))/LOG(2))))","v":0},null,{"$f":"N34","v":22122},{"$f":"COUNTIF(L11:L11,AI34)","v":0},{"$f":"AJ34/(AL4-AJ25)","v":0},{"$f":"IF(AK34=0,0,(AK34*((LOG(AK34))/LOG(2))))","v":0},null,{"$f":"N34","v":22122},{"$f":"COUNTIF(L12:L13,AN34)","v":0},{"$f":"AO34/(AQ4-AO25)","v":0},{"$f":"IF(AP34=0,0,(AP34*((LOG(AP34))/LOG(2))))","v":0},null,{"$f":"N34","v":22122},{"$f":"COUNTIF(L14:L14,AS34)","v":0},{"$f":"AT34/(AV4-AT25)","v":0},{"$f":"IF(AU34=0,0,(AU34*((LOG(AU34))/LOG(2))))","v":0}]
[null,null,null,null,null,null,null,null,null,null,null,null,null,22211,{"$f":"COUNTIF($L$7:$L$500,N35)","v":0},{"$f":"O35/$Q$4","v":0},{"$f":"IF(P35=0,0,(P35*((LOG(P35))/LOG(2))))","v":0},null,null,{"$f":"N35","v":22211},{"$f":"COUNTIF(L7:L7,T35)","v":0},{"$f":"U35/(W4-U25)","v":0},{"$f":"IF(V35=0,0,(V35*((LOG(V35))/LOG(2))))","v":0},null,{"$f":"N35","v":22211},{"$f":"COUNTIF(L8:L9,Y35)","v":0},{"$f":"Z35/(AB4-Z25)","v":0},{"$f":"IF(AA35=0,0,(AA35*((LOG(AA35))/LOG(2))))","v":0},null,{"$f":"N35","v":22211},{"$f":"COUNTIF(L10:L10,AD35)","v":0},{"$f":"AE35/(AG4-AE25)","v":0},{"$f":"IF(AF35=0,0,(AF35*((LOG(AF35))/LOG(2))))","v":0},null,{"$f":"N35","v":22211},{"$f":"COUNTIF(L11:L11,AI35)","v":0},{"$f":"AJ35/(AL4-AJ25)","v":0},{"$f":"IF(AK35=0,0,(AK35*((LOG(AK35))/LOG(2))))","v":0},null,{"$f":"N35","v":22211},{"$f":"COUNTIF(L12:L13,AN35)","v":0},{"$f":"AO35/(AQ4-AO25)","v":0},{"$f":"IF(AP35=0,0,(AP35*((LOG(AP35))/LOG(2))))","v":0},null,{"$f":"N35","v":22211},{"$f":"COUNTIF(L14:L14,AS35)","v":0},{"$f":"AT35/(AV4-AT25)","v":0},{"$f":"IF(AU35=0,0,(AU35*((LOG(AU35))/LOG(2))))","v":0}]
[null,null,null,null,null,null,null,null,null,null,null,null,null,22212,{"$f":"COUNTIF($L$7:$L$500,N36)","v":0},{"$f":"O36/$Q$4","v":0},{"$f":"IF(P36=0,0,(P36*((LOG(P36))/LOG(2))))","v":0},null,null,{"$f":"N36","v":22212},{"$f":"COUNTIF(L7:L7,T36)","v":0},{"$f":"U36/(W4-U25)","v":0},{"$f":"IF(V36=0,0,(V36*((LOG(V36))/LOG(2))))","v":0},null,{"$f":"N36","v":22212},{"$f":"COUNTIF(L8:L9,Y36)","v":0},{"$f":"Z36/(AB4-Z25)","v":0},{"$f":"IF(AA36=0,0,(AA36*((LOG(AA36))/LOG(2))))","v":0},null,{"$f":"N36","v":22212},{"$f":"COUNTIF(L10:L10,AD36)","v":0},{"$f":"AE36/(AG4-AE25)","v":0},{"$f":"IF(AF36=0,0,(AF36*((LOG(AF36))/LOG(2))))","v":0},null,{"$f":"N36","v":22212},{"$f":"COUNTIF(L11:L11,AI36)","v":0},{"$f":"AJ36/(AL4-AJ25)","v":0},{"$f":"IF(AK36=0,0,(AK36*((LOG(AK36))/LOG(2))))","v":0},null,{"$f":"N36","v":22212},{"$f":"COUNTIF(L12:L13,AN36)","v":0},{"$f":"AO36/(AQ4-AO25)","v":0},{"$f":"IF(AP36=0,0,(AP36*((LOG(AP36))/LOG(2))))","v":0},null,{"$f":"N36","v":22212},{"$f":"COUNTIF(L14:L14,AS36)","v":0},{"$f":"AT36/(AV4-AT25)","v":0},{"$f":"IF(AU36=0,0,(AU36*((LOG(AU36))/LOG(2))))","v":0}]
[null,null,null,null,null,null,null,null,null,null,null,null,null,22221,{"$f":"COUNTIF($L$7:$L$500,N37)","v":1},{"$f":"O37/$Q$4","v":0.125},{"$f":"IF(P37=0,0,(P37*((LOG(P37))/LOG(2))))","v":-0.375},null,null,{"$f":"N37","v":22221},{"$f":"COUNTIF(L7:L7,T37)","v":0},{"$f":"U37/(W4-U25)","v":0},{"$f":"IF(V37=0,0,(V37*((LOG(V37))/LOG(2))))","v":0},null,{"$f":"N37","v":22221},{"$f":"COUNTIF(L8:L9,Y37)","v":0},{"$f":"Z37/(AB4-Z25)","v":0},{"$f":"IF(AA37=0,0,(AA37*((LOG(AA37))/LOG(2))))","v":0},null,{"$f":"N37","v":22221},{"$f":"COUNTIF(L10:L10,AD37)","v":0},{"$f":"AE37/(AG4-AE25)","v":0},{"$f":"IF(AF37=0,0,(AF37*((LOG(AF37))/LOG(2))))","v":0},null,{"$f":"N37","v":22221},{"$f":"COUNTIF(L11:L11,AI37)","v":0},{"$f":"AJ37/(AL4-AJ25)","v":0},{"$f":"IF(AK37=0,0,(AK37*((LOG(AK37))/LOG(2))))","v":0},null,{"$f":"N37","v":22221},{"$f":"COUNTIF(L12:L13,AN37)","v":1},{"$f":"AO37/(AQ4-AO25)","v":0.5},{"$f":"IF(AP37=0,0,(AP37*((LOG(AP37))/LOG(2))))","v":-0.5},null,{"$f":"N37","v":22221},{"$f":"COUNTIF(L14:L14,AS37)","v":0},{"$f":"AT37/(AV4-AT25)","v":0},{"$f":"IF(AU37=0,0,(AU37*((LOG(AU37))/LOG(2))))","v":0}]
[null,null,null,null,null,null,null,null,null,null,null,null,null,22222,{"$f":"COUNTIF($L$7:$L$500,N38)","v":2},{"$f":"O38/$Q$4","v":0.25},{"$f":"IF(P38=0,0,(P38*((LOG(P38))/LOG(2))))","v":-0.5},null,null,{"$f":"N38","v":22222},{"$f":"COUNTIF(L7:L7,T38)","v":1},{"$f":"U38/(W4-U25)","v":1},{"$f":"IF(V38=0,0,(V38*((LOG(V38))/LOG(2))))","v":0},null,{"$f":"N38","v":22222},{"$f":"COUNTIF(L8:L9,Y38)","v":1},{"$f":"Z38/(AB4-Z25)","v":0.5},{"$f":"IF(AA38=0,0,(AA38*((LOG(AA38))/LOG(2))))","v":-0.5},null,{"$f":"N38","v":22222},{"$f":"COUNTIF(L10:L10,AD38)","v":0},{"$f":"AE38/(AG4-AE25)","v":0},{"$f":"IF(AF38=0,0,(AF38*((LOG(AF38))/LOG(2))))","v":0},null,{"$f":"N38","v":22222},{"$f":"COUNTIF(L11:L11,AI38)","v":0},{"$f":"AJ38/(AL4-AJ25)","v":0},{"$f":"IF(AK38=0,0,(AK38*((LOG(AK38))/LOG(2))))","v":0},null,{"$f":"N38","v":22222},{"$f":"COUNTIF(L12:L13,AN38)","v":0},{"$f":"AO38/(AQ4-AO25)","v":0},{"$f":"IF(AP38=0,0,(AP38*((LOG(AP38))/LOG(2))))","v":0},null,{"$f":"N38","v":22222},{"$f":"COUNTIF(L14:L14,AS38)","v":0},{"$f":"AT38/(AV4-AT25)","v":0},{"$f":"IF(AU38=0,0,(AU38*((LOG(AU38))/LOG(2))))","v":0}]
[null,null,null,null,null,null,null,null,null,null,null,null,null,null,null,{"$f":"SUM(P7:P38)","v":1},{"$f":"-SUM(Q7:Q38)","v":2.5},null,null,null,null,{"$f":"SUM(V7:V38)","v":1},{"$f":"-SUM(W7:W38)","v":0},null,null,null,{"$f":"SUM(AA7:AA38)","v":1},{"$f":"-SUM(AB7:AB38)","v":1},null,null,null,{"$f":"SUM(AF7:AF38)","v":1},{"$f":"-SUM(AG7:AG38)","v":0},null,null,null,{"$f":"SUM(AK7:AK38)","v":1},{"$f":"-SUM(AL7:AL38)","v":0},null,null,null,{"$f":"SUM(AP7:AP38)","v":1},{"$f":"-SUM(AQ7:AQ38)","v":1},null,null,null,{"$f":"SUM(AU7:AU38)","v":1},{"$f":"-SUM(AV7:AV38)","v":0}]
[null,null,null,null,null,null,null,null,null,null,null,null,null,null,null,"U=",{"$f":"Q39/(LOG(Q4)/LOG(2))","v":0.83333333333333337},null,null,null,null,"U1=",{"$f":"W39/(LOG(W4)/LOG(2))","v":{"$error":"#DIV/0!"}},null,null,null,"U2=",{"$f":"AB39/(LOG(AB4)/LOG(2))","v":1},null,null,null,"U3=",{"$f":"AG39/(LOG(AG4)/LOG(2))","v":{"$error":"#DIV/0!"}},null,null,null,"U4=",{"$f":"AL39/(LOG(AL4)/LOG(2))","v":{"$error":"#DIV/0!"}},null,null,null,"U5=",{"$f":"AQ39/(LOG(AQ4)/LOG(2))","v":1},null,null,null,"U6=",{"$f":"AV39/(LOG(AV4)/LOG(2))","v":{"$error":"#DIV/0!"}}]
[]
[]
[null,null,null,null,null,null,null,null,null,null,null,null,null,"Total Target Seq"]
[null,null,null,null,null,null,null,null,null,null,null,null,null,{"$f":"COUNTIF(L7:L14,G3)","v":0},null,1,2,1,1,2,1]
[null,null,null,null,null,null,null,null,null,null,null,null,null,null,null,"% of reinforcement given in 6 equal intervals based on number of trials "]
[null,null,null,null,null,null,null,null,null,null,null,null,null,null,null,"%_1","%_2","%_3","%_4","%_5","%_6"]
[null,null,null,null,null,null,null,null,null,null,null,null,null,null,"target sequence",{"$f":"$G$3","v":21121},{"$f":"$G$3","v":21121},{"$f":"$G$3","v":21121},{"$f":"$G$3","v":21121},{"$f":"$G$3","v":21121},{"$f":"$G$3","v":21121}]
[null,null,null,null,null,null,null,null,null,null,null,null,null,null,"total reinforcement",{"$f":"U25","v":0},{"$f":"Z25","v":0},{"$f":"AE25","v":0},{"$f":"AJ25","v":0},{"$f":"AO25","v":0},{"$f":"AT25","v":0}]
[null,null,null,null,null,null,null,null,null,null,null,null,null,null,"% target"]
[null,null,null,null,null,null,null,null,null,null,null,null,null,null,"CCRF"]
[null,null,null,null,null,null,null,null,null,null,null,null,null,null,"% CCRf"]
[null,null,null,null,null,null,null,null,null,null,null,null,null,null,"average response rate",{"$f":"J7/P44","v":77},{"$f":"(J9-J7)/Q44","v":414.5},{"$f":"(J10-J9)/R44","v":1494},{"$f":"(J11-J10)/S44","v":288},{"$f":"(J13-J11)/T44","v":6622},{"$f":"(J14-J13)/U44","v":2520}]

{"sheet":"!N114920.105","index":16,"n_rows":52,"n_cols":48,"rows_kept":52,"cut":false,"hidden":false,"merged":[[4,39,4,42],[5,39,5,40],[4,44,4,47],[5,44,5,45],[4,24,4,27],[5,24,5,25],[4,29,4,32],[5,29,5,30],[4,34,4,37],[5,34,5,35],[1,1,1,2],[5,13,5,14],[42,13,42,14],[43,13,43,14],[4,19,4,22],[5,19,5,20]]}
["Report for:!N114920.105"]
["Date:","<date>"]
["Hen:","<hen>",null,null,null,"Correct Sequence",{"$f":"Start!J2","v":21121},null,null,null,null,null,null,null,null,"Total Sequences in Data",{"$f":"4994-COUNTBLANK(L7:L5000)","v":3},null,null,null,null,"Total Sequences in Block Data",{"$f":"COUNTA(L7:L7)","v":1},null,null,null,"Total Sequences in Block Data",{"$f":"COUNTA(L7:L8)","v":2},null,null,null,"Total Sequences in Block Data",{"$f":"COUNTA(L8:L8)","v":1},null,null,null,"Total Sequences in Block Data",{"$f":"COUNTA(L8:L9)","v":2},null,null,null,"Total Sequences in Block Data",{"$f":"COUNTA(L9:L9)","v":1},null,null,null,"Total Sequences in Block Data",{"$f":"COUNTA(L9:L10)","v":1}]
[null,null,null,null,null,null,null,null,null,null,null,null,null,null,null,"Total Sequences in Summary",{"$f":"SUM(O7:O38)","v":3},null,null,null,null,"Total Sequences in Block Summary",{"$f":"SUM(U7:U38)","v":1},null,null,null,"Total Sequences in Block Summary",{"$f":"SUM(Z7:Z38)","v":2},null,null,null,"Total Sequences in Block Summary",{"$f":"SUM(AE7:AE38)","v":1},null,null,null,"Total Sequences in Block Summary",{"$f":"SUM(AJ7:AJ38)","v":2},null,null,null,"Total Sequences in Block Summary",{"$f":"SUM(AO7:AO38)","v":1},null,null,null,"Total Sequences in Block Summary",{"$f":"SUM(AT7:AT38)","v":1}]
[null,null,null,null,null,null,null,null,null,null,null,null,null,null,null,null,null,null,null,"Block 1",null,null,null,null,"Block 2",null,null,null,null,"Block 3",null,null,null,null,"Block 4",null,null,null,null,"Block 5",null,null,null,null,"Block 6"]
["Sequence\nComponent\n1","Time\n1","Sequence\nComponent\n2","Time\n2","Sequence\nComponent\n3","Time\n3","Sequence\nComponent\n4","Time\n4","Sequence\nComponent\n5","Time\n5","Correct?\n0=No 1=Yes","Sequence",null,"Frequency",null,"Relative Frequency","Variability",null,null,"Frequency",null,"Relative Frequency","Variability",null,"Frequency",null,"Relative Frequency","Variability",null,"Frequency",null,"Relative Frequency","Variability",null,"Frequency",null,"Relative Frequency","Variability",null,"Frequency",null,"Relative Frequency","Variability",null,"Frequency",null,"Relative Frequency","Variability"]
[21,110,22,122,24,132,23,172,24,185,0,22222,null,11111,{"$f":"COUNTIF($L$7:$L$500,N7)","v":0},{"$f":"O7/$Q$4","v":0},{"$f":"IF(P7=0,0,(P7*((LOG(P7))/LOG(2))))","v":0},null,null,{"$f":"N7","v":11111},{"$f":"COUNTIF(L7:L7,T7)","v":0},{"$f":"U7/(W4-U25)","v":0},{"$f":"IF(V7=0,0,(V7*((LOG(V7))/LOG(2))))","v":0},null,{"$f":"N7","v":11111},{"$f":"COUNTIF(L7:L8,Y7)","v":0},{"$f":"Z7/(AB4-Z25)","v":0},{"$f":"IF(AA7=0,0,(AA7*((LOG(AA7))/LOG(2))))","v":0},null,{"$f":"N7","v":11111},{"$f":"COUNTIF(L8:L8,AD7)","v":0},{"$f":"AE7/(AG4-AE25)","v":0},{"$f":"IF(AF7=0,0,(AF7*((LOG(AF7))/LOG(2))))","v":0},null,{"$f":"N7","v":11111},{"$f":"COUNTIF(L8:L9,AI7)","v":0},{"$f":"AJ7/(AL4-AJ25)","v":0},{"$f":"IF(AK7=0,0,(AK7*((LOG(AK7))/LOG(2))))","v":0},null,{"$f":"N7","v":11111},{"$f":"COUNTIF(L9:L9,AN7)","v":0},{"$f":"AO7/(AQ4-AO25)","v":0},{"$f":"IF(AP7=0,0,(AP7*((LOG(AP7))/LOG(2))))","v":0},null,{"$f":"N7","v":11111},{"$f":"COUNTIF(L9:L10,AS7)","v":0},{"$f":"AT7/(AV4-AT25)","v":0},{"$f":"IF(AU7=0,0,(AU7*((LOG(AU7))/LOG(2))))","v":0}]
[21,333,22,589,13,623,23,633,24,642,0,22122,null,11112,{"$f":"COUNTIF($L$7:$L$500,N8)","v":0},{"$f":"O8/$Q$4","v":0},{"$f":"IF(P8=0,0,(P8*((LOG(P8))/LOG(2))))","v":0},null,null,{"$f":"N8","v":11112},{"$f":"COUNTIF(L7:L7,T8)","v":0},{"$f":"U8/(W4-U25)","v":0},{"$f":"IF(V8=0,0,(V8*((LOG(V8))/LOG(2))))","v":0},null,{"$f":"N8","v":11112},{"$f":"COUNTIF(L7:L8,Y8)","v":0},{"$f":"Z8/(AB4-Z25)","v":0},{"$f":"IF(AA8=0,0,(AA8*((LOG(AA8))/LOG(2))))","v":0},null,{"$f":"N8","v":11112},{"$f":"COUNTIF(L8:L8,AD8)","v":0},{"$f":"AE8/(AG4-AE25)","v":0},{"$f":"IF(AF8=0,0,(AF8*((LOG(AF8))/LOG(2))))","v":0},null,{"$f":"N8","v":11112},{"$f":"COUNTIF(L8:L9,AI8)","v":0},{"$f":"AJ8/(AL4-AJ25)","v":0},{"$f":"IF(AK8=0,0,(AK8*((LOG(AK8))/LOG(2))))","v":0},null,{"$f":"N8","v":11112},{"$f":"COUNTIF(L9:L9,AN8)","v":0},{"$f":"AO8/(AQ4-AO25)","v":0},{"$f":"IF(AP8=0,0,(AP8*((LOG(AP8))/LOG(2))))","v":0},null,{"$f":"N8","v":11112},{"$f":"COUNTIF(L9:L10,AS8)","v":0},{"$f":"AT8/(AV4-AT25)","v":0},{"$f":"IF(AU8=0,0,(AU8*((LOG(AU8))/LOG(2))))","v":0}]
[21,761,22,785,24,798,14,807,24,817,0,22212,null,11121,{"$f":"COUNTIF($L$7:$L$500,N9)","v":0},{"$f":"O9/$Q$4","v":0},{"$f":"IF(P9=0,0,(P9*((LOG(P9))/LOG(2))))","v":0},null,null,{"$f":"N9","v":11121},{"$f":"COUNTIF(L7:L7,T9)","v":0},{"$f":"U9/(W4-U25)","v":0},{"$f":"IF(V9=0,0,(V9*((LOG(V9))/LOG(2))))","v":0},null,{"$f":"N9","v":11121},{"$f":"COUNTIF(L7:L8,Y9)","v":0},{"$f":"Z9/(AB4-Z25)","v":0},{"$f":"IF(AA9=0,0,(AA9*((LOG(AA9))/LOG(2))))","v":0},null,{"$f":"N9","v":11121},{"$f":"COUNTIF(L8:L8,AD9)","v":0},{"$f":"AE9/(AG4-AE25)","v":0},{"$f":"IF(AF9=0,0,(AF9*((LOG(AF9))/LOG(2))))","v":0},null,{"$f":"N9","v":11121},{"$f":"COUNTIF(L8:L9,AI9)","v":0},{"$f":"AJ9/(AL4-AJ25)","v":0},{"$f":"IF(AK9=0,0,(AK9*((LOG(AK9))/LOG(2))))","v":0},null,{"$f":"N9","v":11121},{"$f":"COUNTIF(L9:L9,AN9)","v":0},{"$f":"AO9/(AQ4-AO25)","v":0},{"$f":"IF(AP9=0,0,(AP9*((LOG(AP9))/LOG(2))))","v":0},null,{"$f":"N9","v":11121},{"$f":"COUNTIF(L9:L10,AS9)","v":0},{"$f":"AT9/(AV4-AT25)","v":0},{"$f":"IF(AU9=0,0,(AU9*((LOG(AU9))/LOG(2))))","v":0}]
[null,null,null,null,null,null,null,null,null,null,null,null,null,11122,{"$f":"COUNTIF($L$7:$L$500,N10)","v":0},{"$f":"O10/$Q$4","v":0},{"$f":"IF(P10=0,0,(P10*((LOG(P10))/LOG(2))))","v":0},null,null,{"$f":"N10","v":11122},{"$f":"COUNTIF(L7:L7,T10)","v":0},{"$f":"U10/(W4-U25)","v":0},{"$f":"IF(V10=0,0,(V10*((LOG(V10))/LOG(2))))","v":0},null,{"$f":"N10","v":11122},{"$f":"COUNTIF(L7:L8,Y10)","v":0},{"$f":"Z10/(AB4-Z25)","v":0},{"$f":"IF(AA10=0,0,(AA10*((LOG(AA10))/LOG(2))))","v":0},null,{"$f":"N10","v":11122},{"$f":"COUNTIF(L8:L8,AD10)","v":0},{"$f":"AE10/(AG4-AE25)","v":0},{"$f":"IF(AF10=0,0,(AF10*((LOG(AF10))/LOG(2))))","v":0},null,{"$f":"N10","v":11122},{"$f":"COUNTIF(L8:L9,AI10)","v":0},{"$f":"AJ10/(AL4-AJ25)","v":0},{"$f":"IF(AK10=0,0,(AK10*((LOG(AK10))/LOG(2))))","v":0},null,{"$f":"N10","v":11122},{"$f":"COUNTIF(L9:L9,AN10)","v":0},{"$f":"AO10/(AQ4-AO25)","v":0},{"$f":"IF(AP10=0,0,(AP10*((LOG(AP10))/LOG(2))))","v":0},null,{"$f":"N10","v":11122},{"$f":"COUNTIF(L9:L10,AS10)","v":0},{"$f":"AT10/(AV4-AT25)","v":0},{"$f":"IF(AU10=0,0,(AU10*((LOG(AU10))/LOG(2))))","v":0}]
[null,null,null,null,null,null,null,null,null,null,null,null,null,11211,{"$f":"COUNTIF($L$7:$L$500,N11)","v":0},{"$f":"O11/$Q$4","v":0},{"$f":"IF(P11=0,0,(P11*((LOG(P11))/LOG(2))))","v":0},null,null,{"$f":"N11","v":11211},{"$f":"COUNTIF(L7:L7,T11)","v":0},{"$f":"U11/(W4-U25)","v":0},{"$f":"IF(V11=0,0,(V11*((LOG(V11))/LOG(2))))","v":0},null,{"$f":"N11","v":11211},{"$f":"COUNTIF(L7:L8,Y11)","v":0},{"$f":"Z11/(AB4-Z25)","v":0},{"$f":"IF(AA11=0,0,(AA11*((LOG(AA11))/LOG(2))))","v":0},null,{"$f":"N11","v":11211},{"$f":"COUNTIF(L8:L8,AD11)","v":0},{"$f":"AE11/(AG4-AE25)","v":0},{"$f":"IF(AF11=0,0,(AF11*((LOG(AF11))/LOG(2))))","v":0},null,{"$f":"N11","v":11211},{"$f":"COUNTIF(L8:L9,AI11)","v":0},{"$f":"AJ11/(AL4-AJ25)","v":0},{"$f":"IF(AK11=0,0,(AK11*((LOG(AK11))/LOG(2))))","v":0},null,{"$f":"N11","v":11211},{"$f":"COUNTIF(L9:L9,AN11)","v":0},{"$f":"AO11/(AQ4-AO25)","v":0},{"$f":"IF(AP11=0,0,(AP11*((LOG(AP11))/LOG(2))))","v":0},null,{"$f":"N11","v":11211},{"$f":"COUNTIF(L9:L10,AS11)","v":0},{"$f":"AT11/(AV4-AT25)","v":0},{"$f":"IF(AU11=0,0,(AU11*((LOG(AU11))/LOG(2))))","v":0}]
[null,null,null,null,null,null,null,null,null,null,null,null,null,11212,{"$f":"COUNTIF($L$7:$L$500,N12)","v":0},{"$f":"O12/$Q$4","v":0},{"$f":"IF(P12=0,0,(P12*((LOG(P12))/LOG(2))))","v":0},null,null,{"$f":"N12","v":11212},{"$f":"COUNTIF(L7:L7,T12)","v":0},{"$f":"U12/(W4-U25)","v":0},{"$f":"IF(V12=0,0,(V12*((LOG(V12))/LOG(2))))","v":0},null,{"$f":"N12","v":11212},{"$f":"COUNTIF(L7:L8,Y12)","v":0},{"$f":"Z12/(AB4-Z25)","v":0},{"$f":"IF(AA12=0,0,(AA12*((LOG(AA12))/LOG(2))))","v":0},null,{"$f":"N12","v":11212},{"$f":"COUNTIF(L8:L8,AD12)","v":0},{"$f":"AE12/(AG4-AE25)","v":0},{"$f":"IF(AF12=0,0,(AF12*((LOG(AF12))/LOG(2))))","v":0},null,{"$f":"N12","v":11212},{"$f":"COUNTIF(L8:L9,AI12)","v":0},{"$f":"AJ12/(AL4-AJ25)","v":0},{"$f":"IF(AK12=0,0,(AK12*((LOG(AK12))/LOG(2))))","v":0},null,{"$f":"N12","v":11212},{"$f":"COUNTIF(L9:L9,AN12)","v":0},{"$f":"AO12/(AQ4-AO25)","v":0},{"$f":"IF(AP12=0,0,(AP12*((LOG(AP12))/LOG(2))))","v":0},null,{"$f":"N12","v":11212},{"$f":"COUNTIF(L9:L10,AS12)","v":0},{"$f":"AT12/(AV4-AT25)","v":0},{"$f":"IF(AU12=0,0,(AU12*((LOG(AU12))/LOG(2))))","v":0}]
[null,null,null,null,null,null,null,null,null,null,null,null,null,11221,{"$f":"COUNTIF($L$7:$L$500,N13)","v":0},{"$f":"O13/$Q$4","v":0},{"$f":"IF(P13=0,0,(P13*((LOG(P13))/LOG(2))))","v":0},null,null,{"$f":"N13","v":11221},{"$f":"COUNTIF(L7:L7,T13)","v":0},{"$f":"U13/(W4-U25)","v":0},{"$f":"IF(V13=0,0,(V13*((LOG(V13))/LOG(2))))","v":0},null,{"$f":"N13","v":11221},{"$f":"COUNTIF(L7:L8,Y13)","v":0},{"$f":"Z13/(AB4-Z25)","v":0},{"$f":"IF(AA13=0,0,(AA13*((LOG(AA13))/LOG(2))))","v":0},null,{"$f":"N13","v":11221},{"$f":"COUNTIF(L8:L8,AD13)","v":0},{"$f":"AE13/(AG4-AE25)","v":0},{"$f":"IF(AF13=0,0,(AF13*((LOG(AF13))/LOG(2))))","v":0},null,{"$f":"N13","v":11221},{"$f":"COUNTIF(L8:L9,AI13)","v":0},{"$f":"AJ13/(AL4-AJ25)","v":0},{"$f":"IF(AK13=0,0,(AK13*((LOG(AK13))/LOG(2))))","v":0},null,{"$f":"N13","v":11221},{"$f":"COUNTIF(L9:L9,AN13)","v":0},{"$f":"AO13/(AQ4-AO25)","v":0},{"$f":"IF(AP13=0,0,(AP13*((LOG(AP13))/LOG(2))))","v":0},null,{"$f":"N13","v":11221},{"$f":"COUNTIF(L9:L10,AS13)","v":0},{"$f":"AT13/(AV4-AT25)","v":0},{"$f":"IF(AU13=0,0,(AU13*((LOG(AU13))/LOG(2))))","v":0}]
[null,null,null,null,null,null,null,null,null,null,null,null,null,11222,{"$f":"COUNTIF($L$7:$L$500,N14)","v":0},{"$f":"O14/$Q$4","v":0},{"$f":"IF(P14=0,0,(P14*((LOG(P14))/LOG(2))))","v":0},null,null,{"$f":"N14","v":11222},{"$f":"COUNTIF(L7:L7,T14)","v":0},{"$f":"U14/(W4-U25)","v":0},{"$f":"IF(V14=0,0,(V14*((LOG(V14))/LOG(2))))","v":0},null,{"$f":"N14","v":11222},{"$f":"COUNTIF(L7:L8,Y14)","v":0},{"$f":"Z14/(AB4-Z25)","v":0},{"$f":"IF(AA14=0,0,(AA14*((LOG(AA14))/LOG(2))))","v":0},null,{"$f":"N14","v":11222},{"$f":"COUNTIF(L8:L8,AD14)","v":0},{"$f":"AE14/(AG4-AE25)","v":0},{"$f":"IF(AF14=0,0,(AF14*((LOG(AF14))/LOG(2))))","v":0},null,{"$f":"N14","v":11222},{"$f":"COUNTIF(L8:L9,AI14)","v":0},{"$f":"AJ14/(AL4-AJ25)","v":0},{"$f":"IF(AK14=0,0,(AK14*((LOG(AK14))/LOG(2))))","v":0},null,{"$f":"N14","v":11222},{"$f":"COUNTIF(L9:L9,AN14)","v":0},{"$f":"AO14/(AQ4-AO25)","v":0},{"$f":"IF(AP14=0,0,(AP14*((LOG(AP14))/LOG(2))))","v":0},null,{"$f":"N14","v":11222},{"$f":"COUNTIF(L9:L10,AS14)","v":0},{"$f":"AT14/(AV4-AT25)","v":0},{"$f":"IF(AU14=0,0,(AU14*((LOG(AU14))/LOG(2))))","v":0}]
[null,null,null,null,null,null,null,null,null,null,null,null,null,12111,{"$f":"COUNTIF($L$7:$L$500,N15)","v":0},{"$f":"O15/$Q$4","v":0},{"$f":"IF(P15=0,0,(P15*((LOG(P15))/LOG(2))))","v":0},null,null,{"$f":"N15","v":12111},{"$f":"COUNTIF(L7:L7,T15)","v":0},{"$f":"U15/(W4-U25)","v":0},{"$f":"IF(V15=0,0,(V15*((LOG(V15))/LOG(2))))","v":0},null,{"$f":"N15","v":12111},{"$f":"COUNTIF(L7:L8,Y15)","v":0},{"$f":"Z15/(AB4-Z25)","v":0},{"$f":"IF(AA15=0,0,(AA15*((LOG(AA15))/LOG(2))))","v":0},null,{"$f":"N15","v":12111},{"$f":"COUNTIF(L8:L8,AD15)","v":0},{"$f":"AE15/(AG4-AE25)","v":0},{"$f":"IF(AF15=0,0,(AF15*((LOG(AF15))/LOG(2))))","v":0},null,{"$f":"N15","v":12111},{"$f":"COUNTIF(L8:L9,AI15)","v":0},{"$f":"AJ15/(AL4-AJ25)","v":0},{"$f":"IF(AK15=0,0,(AK15*((LOG(AK15))/LOG(2))))","v":0},null,{"$f":"N15","v":12111},{"$f":"COUNTIF(L9:L9,AN15)","v":0},{"$f":"AO15/(AQ4-AO25)","v":0},{"$f":"IF(AP15=0,0,(AP15*((LOG(AP15))/LOG(2))))","v":0},null,{"$f":"N15","v":12111},{"$f":"COUNTIF(L9:L10,AS15)","v":0},{"$f":"AT15/(AV4-AT25)","v":0},{"$f":"IF(AU15=0,0,(AU15*((LOG(AU15))/LOG(2))))","v":0}]
[null,null,null,null,null,null,null,null,null,null,null,null,null,12112,{"$f":"COUNTIF($L$7:$L$500,N16)","v":0},{"$f":"O16/$Q$4","v":0},{"$f":"IF(P16=0,0,(P16*((LOG(P16))/LOG(2))))","v":0},null,null,{"$f":"N16","v":12112},{"$f":"COUNTIF(L7:L7,T16)","v":0},{"$f":"U16/(W4-U25)","v":0},{"$f":"IF(V16=0,0,(V16*((LOG(V16))/LOG(2))))","v":0},null,{"$f":"N16","v":12112},{"$f":"COUNTIF(L7:L8,Y16)","v":0},{"$f":"Z16/(AB4-Z25)","v":0},{"$f":"IF(AA16=0,0,(AA16*((LOG(AA16))/LOG(2))))","v":0},null,{"$f":"N16","v":12112},{"$f":"COUNTIF(L8:L8,AD16)","v":0},{"$f":"AE16/(AG4-AE25)","v":0},{"$f":"IF(AF16=0,0,(AF16*((LOG(AF16))/LOG(2))))","v":0},null,{"$f":"N16","v":12112},{"$f":"COUNTIF(L8:L9,AI16)","v":0},{"$f":"AJ16/(AL4-AJ25)","v":0},{"$f":"IF(AK16=0,0,(AK16*((LOG(AK16))/LOG(2))))","v":0},null,{"$f":"N16","v":12112},{"$f":"COUNTIF(L9:L9,AN16)","v":0},{"$f":"AO16/(AQ4-AO25)","v":0},{"$f":"IF(AP16=0,0,(AP16*((LOG(AP16))/LOG(2))))","v":0},null,{"$f":"N16","v":12112},{"$f":"COUNTIF(L9:L10,AS16)","v":0},{"$f":"AT16/(AV4-AT25)","v":0},{"$f":"IF(AU16=0,0,(AU16*((LOG(AU16))/LOG(2))))","v":0}]
[null,null,null,null,null,null,null,null,null,null,null,null,null,12121,{"$f":"COUNTIF($L$7:$L$500,N17)","v":0},{"$f":"O17/$Q$4","v":0},{"$f":"IF(P17=0,0,(P17*((LOG(P17))/LOG(2))))","v":0},null,null,{"$f":"N17","v":12121},{"$f":"COUNTIF(L7:L7,T17)","v":0},{"$f":"U17/(W4-U25)","v":0},{"$f":"IF(V17=0,0,(V17*((LOG(V17))/LOG(2))))","v":0},null,{"$f":"N17","v":12121},{"$f":"COUNTIF(L7:L8,Y17)","v":0},{"$f":"Z17/(AB4-Z25)","v":0},{"$f":"IF(AA17=0,0,(AA17*((LOG(AA17))/LOG(2))))","v":0},null,{"$f":"N17","v":12121},{"$f":"COUNTIF(L8:L8,AD17)","v":0},{"$f":"AE17/(AG4-AE25)","v":0},{"$f":"IF(AF17=0,0,(AF17*((LOG(AF17))/LOG(2))))","v":0},null,{"$f":"N17","v":12121},{"$f":"COUNTIF(L8:L9,AI17)","v":0},{"$f":"AJ17/(AL4-AJ25)","v":0},{"$f":"IF(AK17=0,0,(AK17*((LOG(AK17))/LOG(2))))","v":0},null,{"$f":"N17","v":12121},{"$f":"COUNTIF(L9:L9,AN17)","v":0},{"$f":"AO17/(AQ4-AO25)","v":0},{"$f":"IF(AP17=0,0,(AP17*((LOG(AP17))/LOG(2))))","v":0},null,{"$f":"N17","v":12121},{"$f":"COUNTIF(L9:L10,AS17)","v":0},{"$f":"AT17/(AV4-AT25)","v":0},{"$f":"IF(AU17=0,0,(AU17*((LOG(AU17))/LOG(2))))","v":0}]
[null,null,null,null,null,null,null,null,null,null,null,null,null,12122,{"$f":"COUNTIF($L$7:$L$500,N18)","v":0},{"$f":"O18/$Q$4","v":0},{"$f":"IF(P18=0,0,(P18*((LOG(P18))/LOG(2))))","v":0},null,null,{"$f":"N18","v":12122},{"$f":"COUNTIF(L7:L7,T18)","v":0},{"$f":"U18/(W4-U25)","v":0},{"$f":"IF(V18=0,0,(V18*((LOG(V18))/LOG(2))))","v":0},null,{"$f":"N18","v":12122},{"$f":"COUNTIF(L7:L8,Y18)","v":0},{"$f":"Z18/(AB4-Z25)","v":0},{"$f":"IF(AA18=0,0,(AA18*((LOG(AA18))/LOG(2))))","v":0},null,{"$f":"N18","v":12122},{"$f":"COUNTIF(L8:L8,AD18)","v":0},{"$f":"AE18/(AG4-AE25)","v":0},{"$f":"IF(AF18=0,0,(AF18*((LOG(AF18))/LOG(2))))","v":0},null,{"$f":"N18","v":12122},{"$f":"COUNTIF(L8:L9,AI18)","v":0},{"$f":"AJ18/(AL4-AJ25)","v":0},{"$f":"IF(AK18=0,0,(AK18*((LOG(AK18))/LOG(2))))","v":0},null,{"$f":"N18","v":12122},{"$f":"COUNTIF(L9:L9,AN18)","v":0},{"$f":"AO18/(AQ4-AO25)","v":0},{"$f":"IF(AP18=0,0,(AP18*((LOG(AP18))/LOG(2))))","v":0},null,{"$f":"N18","v":12122},{"$f":"COUNTIF(L9:L10,AS18)","v":0},{"$f":"AT18/(AV4-AT25)","v":0},{"$f":"IF(AU18=0,0,(AU18*((LOG(AU18))/LOG(2))))","v":0}]
[null,null,null,null,null,null,null,null,null,null,null,null,null,12211,{"$f":"COUNTIF($L$7:$L$500,N19)","v":0},{"$f":"O19/$Q$4","v":0},{"$f":"IF(P19=0,0,(P19*((LOG(P19))/LOG(2))))","v":0},null,null,{"$f":"N19","v":12211},{"$f":"COUNTIF(L7:L7,T19)","v":0},{"$f":"U19/(W4-U25)","v":0},{"$f":"IF(V19=0,0,(V19*((LOG(V19))/LOG(2))))","v":0},null,{"$f":"N19","v":12211},{"$f":"COUNTIF(L7:L8,Y19)","v":0},{"$f":"Z19/(AB4-Z25)","v":0},{"$f":"IF(AA19=0,0,(AA19*((LOG(AA19))/LOG(2))))","v":0},null,{"$f":"N19","v":12211},{"$f":"COUNTIF(L8:L8,AD19)","v":0},{"$f":"AE19/(AG4-AE25)","v":0},{"$f":"IF(AF19=0,0,(AF19*((LOG(AF19))/LOG(2))))","v":0},null,{"$f":"N19","v":12211},{"$f":"COUNTIF(L8:L9,AI19)","v":0},{"$f":"AJ19/(AL4-AJ25)","v":0},{"$f":"IF(AK19=0,0,(AK19*((LOG(AK19))/LOG(2))))","v":0},null,{"$f":"N19","v":12211},{"$f":"COUNTIF(L9:L9,AN19)","v":0},{"$f":"AO19/(AQ4-AO25)","v":0},{"$f":"IF(AP19=0,0,(AP19*((LOG(AP19))/LOG(2))))","v":0},null,{"$f":"N19","v":12211},{"$f":"COUNTIF(L9:L10,AS19)","v":0},{"$f":"AT19/(AV4-AT25)","v":0},{"$f":"IF(AU19=0,0,(AU19*((LOG(AU19))/LOG(2))))","v":0}]
[null,null,null,null,null,null,null,null,null,null,null,null,null,12212,{"$f":"COUNTIF($L$7:$L$500,N20)","v":0},{"$f":"O20/$Q$4","v":0},{"$f":"IF(P20=0,0,(P20*((LOG(P20))/LOG(2))))","v":0},null,null,{"$f":"N20","v":12212},{"$f":"COUNTIF(L7:L7,T20)","v":0},{"$f":"U20/(W4-U25)","v":0},{"$f":"IF(V20=0,0,(V20*((LOG(V20))/LOG(2))))","v":0},null,{"$f":"N20","v":12212},{"$f":"COUNTIF(L7:L8,Y20)","v":0},{"$f":"Z20/(AB4-Z25)","v":0},{"$f":"IF(AA20=0,0,(AA20*((LOG(AA20))/LOG(2))))","v":0},null,{"$f":"N20","v":12212},{"$f":"COUNTIF(L8:L8,AD20)","v":0},{"$f":"AE20/(AG4-AE25)","v":0},{"$f":"IF(AF20=0,0,(AF20*((LOG(AF20))/LOG(2))))","v":0},null,{"$f":"N20","v":12212},{"$f":"COUNTIF(L8:L9,AI20)","v":0},{"$f":"AJ20/(AL4-AJ25)","v":0},{"$f":"IF(AK20=0,0,(AK20*((LOG(AK20))/LOG(2))))","v":0},null,{"$f":"N20","v":12212},{"$f":"COUNTIF(L9:L9,AN20)","v":0},{"$f":"AO20/(AQ4-AO25)","v":0},{"$f":"IF(AP20=0,0,(AP20*((LOG(AP20))/LOG(2))))","v":0},null,{"$f":"N20","v":12212},{"$f":"COUNTIF(L9:L10,AS20)","v":0},{"$f":"AT20/(AV4-AT25)","v":0},{"$f":"IF(AU20=0,0,(AU20*((LOG(AU20))/LOG(2))))","v":0}]
[null,null,null,null,null,null,null,null,null,null,null,null,null,12221,{"$f":"COUNTIF($L$7:$L$500,N21)","v":0},{"$f":"O21/$Q$4","v":0},{"$f":"IF(P21=0,0,(P21*((LOG(P21))/LOG(2))))","v":0},null,null,{"$f":"N21","v":12221},{"$f":"COUNTIF(L7:L7,T21)","v":0},{"$f":"U21/(W4-U25)","v":0},{"$f":"IF(V21=0,0,(V21*((LOG(V21))/LOG(2))))","v":0},null,{"$f":"N21","v":12221},{"$f":"COUNTIF(L7:L8,Y21)","v":0},{"$f":"Z21/(AB4-Z25)","v":0},{"$f":"IF(AA21=0,0,(AA21*((LOG(AA21))/LOG(2))))","v":0},null,{"$f":"N21","v":12221},{"$f":"COUNTIF(L8:L8,AD21)","v":0},{"$f":"AE21/(AG4-AE25)","v":0},{"$f":"IF(AF21=0,0,(AF21*((LOG(AF21))/LOG(2))))","v":0},null,{"$f":"N21","v":12221},{"$f":"COUNTIF(L8:L9,AI21)","v":0},{"$f":"AJ21/(AL4-AJ25)","v":0},{"$f":"IF(AK21=0,0,(AK21*((LOG(AK21))/LOG(2))))","v":0},null,{"$f":"N21","v":12221},{"$f":"COUNTIF(L9:L9,AN21)","v":0},{"$f":"AO21/(AQ4-AO25)","v":0},{"$f":"IF(AP21=0,0,(AP21*((LOG(AP21))/LOG(2))))","v":0},null,{"$f":"N21","v":12221},{"$f":"COUNTIF(L9:L10,AS21)","v":0},{"$f":"AT21/(AV4-AT25)","v":0},{"$f":"IF(AU21=0,0,(AU21*((LOG(AU21))/LOG(2))))","v":0}]
[null,null,null,null,null,null,null,null,null,null,null,null,null,12222,{"$f":"COUNTIF($L$7:$L$500,N22)","v":0},{"$f":"O22/$Q$4","v":0},{"$f":"IF(P22=0,0,(P22*((LOG(P22))/LOG(2))))","v":0},null,null,{"$f":"N22","v":12222},{"$f":"COUNTIF(L7:L7,T22)","v":0},{"$f":"U22/(W4-U25)","v":0},{"$f":"IF(V22=0,0,(V22*((LOG(V22))/LOG(2))))","v":0},null,{"$f":"N22","v":12222},{"$f":"COUNTIF(L7:L8,Y22)","v":0},{"$f":"Z22/(AB4-Z25)","v":0},{"$f":"IF(AA22=0,0,(AA22*((LOG(AA22))/LOG(2))))","v":0},null,{"$f":"N22","v":12222},{"$f":"COUNTIF(L8:L8,AD22)","v":0},{"$f":"AE22/(AG4-AE25)","v":0},{"$f":"IF(AF22=0,0,(AF22*((LOG(AF22))/LOG(2))))","v":0},null,{"$f":"N22","v":12222},{"$f":"COUNTIF(L8:L9,AI22)","v":0},{"$f":"AJ22/(AL4-AJ25)","v":0},{"$f":"IF(AK22=0,0,(AK22*((LOG(AK22))/LOG(2))))","v":0},null,{"$f":"N22","v":12222},{"$f":"COUNTIF(L9:L9,AN22)","v":0},{"$f":"AO22/(AQ4-AO25)","v":0},{"$f":"IF(AP22=0,0,(AP22*((LOG(AP22))/LOG(2))))","v":0},null,{"$f":"N22","v":12222},{"$f":"COUNTIF(L9:L10,AS22)","v":0},{"$f":"AT22/(AV4-AT25)","v":0},{"$f":"IF(AU22=0,0,(AU22*((LOG(AU22))/LOG(2))))","v":0}]
[null,null,null,null,null,null,null,null,null,null,null,null,null,21111,{"$f":"COUNTIF($L$7:$L$500,N23)","v":0},{"$f":"O23/$Q$4","v":0},{"$f":"IF(P23=0,0,(P23*((LOG(P23))/LOG(2))))","v":0},null,null,{"$f":"N23","v":21111},{"$f":"COUNTIF(L7:L7,T23)","v":0},{"$f":"U23/(W4-U25)","v":0},{"$f":"IF(V23=0,0,(V23*((LOG(V23))/LOG(2))))","v":0},null,{"$f":"N23","v":21111},{"$f":"COUNTIF(L7:L8,Y23)","v":0},{"$f":"Z23/(AB4-Z25)","v":0},{"$f":"IF(AA23=0,0,(AA23*((LOG(AA23))/LOG(2))))","v":0},null,{"$f":"N23","v":21111},{"$f":"COUNTIF(L8:L8,AD23)","v":0},{"$f":"AE23/(AG4-AE25)","v":0},{"$f":"IF(AF23=0,0,(AF23*((LOG(AF23))/LOG(2))))","v":0},null,{"$f":"N23","v":21111},{"$f":"COUNTIF(L8:L9,AI23)","v":0},{"$f":"AJ23/(AL4-AJ25)","v":0},{"$f":"IF(AK23=0,0,(AK23*((LOG(AK23))/LOG(2))))","v":0},null,{"$f":"N23","v":21111},{"$f":"COUNTIF(L9:L9,AN23)","v":0},{"$f":"AO23/(AQ4-AO25)","v":0},{"$f":"IF(AP23=0,0,(AP23*((LOG(AP23))/LOG(2))))","v":0},null,{"$f":"N23","v":21111},{"$f":"COUNTIF(L9:L10,AS23)","v":0},{"$f":"AT23/(AV4-AT25)","v":0},{"$f":"IF(AU23=0,0,(AU23*((LOG(AU23))/LOG(2))))","v":0}]
[null,null,null,null,null,null,null,null,null,null,null,null,null,21112,{"$f":"COUNTIF($L$7:$L$500,N24)","v":0},{"$f":"O24/$Q$4","v":0},{"$f":"IF(P24=0,0,(P24*((LOG(P24))/LOG(2))))","v":0},null,null,{"$f":"N24","v":21112},{"$f":"COUNTIF(L7:L7,T24)","v":0},{"$f":"U24/(W4-U25)","v":0},{"$f":"IF(V24=0,0,(V24*((LOG(V24))/LOG(2))))","v":0},null,{"$f":"N24","v":21112},{"$f":"COUNTIF(L7:L8,Y24)","v":0},{"$f":"Z24/(AB4-Z25)","v":0},{"$f":"IF(AA24=0,0,(AA24*((LOG(AA24))/LOG(2))))","v":0},null,{"$f":"N24","v":21112},{"$f":"COUNTIF(L8:L8,AD24)","v":0},{"$f":"AE24/(AG4-AE25)","v":0},{"$f":"IF(AF24=0,0,(AF24*((LOG(AF24))/LOG(2))))","v":0},null,{"$f":"N24","v":21112},{"$f":"COUNTIF(L8:L9,AI24)","v":0},{"$f":"AJ24/(AL4-AJ25)","v":0},{"$f":"IF(AK24=0,0,(AK24*((LOG(AK24))/LOG(2))))","v":0},null,{"$f":"N24","v":21112},{"$f":"COUNTIF(L9:L9,AN24)","v":0},{"$f":"AO24/(AQ4-AO25)","v":0},{"$f":"IF(AP24=0,0,(AP24*((LOG(AP24))/LOG(2))))","v":0},null,{"$f":"N24","v":21112},{"$f":"COUNTIF(L9:L10,AS24)","v":0},{"$f":"AT24/(AV4-AT25)","v":0},{"$f":"IF(AU24=0,0,(AU24*((LOG(AU24))/LOG(2))))","v":0}]
[null,null,null,null,null,null,null,null,null,null,null,null,null,21121,{"$f":"COUNTIF($L$7:$L$500,N25)","v":0},{"$f":"O25/$Q$4","v":0},{"$f":"IF(P25=0,0,(P25*((LOG(P25))/LOG(2))))","v":0},null,null,{"$f":"N25","v":21121},{"$f":"COUNTIF(L7:L7,T25)","v":0},null,null,null,{"$f":"N25","v":21121},{"$f":"COUNTIF(L7:L8,Y25)","v":0},null,null,null,{"$f":"N25","v":21121},{"$f":"COUNTIF(L8:L8,AD25)","v":0},null,null,null,{"$f":"N25","v":21121},{"$f":"COUNTIF(L8:L9,AI25)","v":0},null,null,null,{"$f":"N25","v":21121},{"$f":"COUNTIF(L9:L9,AN25)","v":0},null,null,null,{"$f":"N25","v":21121},{"$f":"COUNTIF(L9:L10,AS25)","v":0}]
[null,null,null,null,null,null,null,null,null,null,null,null,null,21122,{"$f":"COUNTIF($L$7:$L$500,N26)","v":0},{"$f":"O26/$Q$4","v":0},{"$f":"IF(P26=0,0,(P26*((LOG(P26))/LOG(2))))","v":0},null,null,{"$f":"N26","v":21122},{"$f":"COUNTIF(L7:L7,T26)","v":0},{"$f":"U26/(W4-U25)","v":0},{"$f":"IF(V26=0,0,(V26*((LOG(V26))/LOG(2))))","v":0},null,{"$f":"N26","v":21122},{"$f":"COUNTIF(L7:L8,Y26)","v":0},{"$f":"Z26/(AB4-Z25)","v":0},{"$f":"IF(AA26=0,0,(AA26*((LOG(AA26))/LOG(2))))","v":0},null,{"$f":"N26","v":21122},{"$f":"COUNTIF(L8:L8,AD26)","v":0},{"$f":"AE26/(AG4-AE25)","v":0},{"$f":"IF(AF26=0,0,(AF26*((LOG(AF26))/LOG(2))))","v":0},null,{"$f":"N26","v":21122},{"$f":"COUNTIF(L8:L9,AI26)","v":0},{"$f":"AJ26/(AL4-AJ25)","v":0},{"$f":"IF(AK26=0,0,(AK26*((LOG(AK26))/LOG(2))))","v":0},null,{"$f":"N26","v":21122},{"$f":"COUNTIF(L9:L9,AN26)","v":0},{"$f":"AO26/(AQ4-AO25)","v":0},{"$f":"IF(AP26=0,0,(AP26*((LOG(AP26))/LOG(2))))","v":0},null,{"$f":"N26","v":21122},{"$f":"COUNTIF(L9:L10,AS26)","v":0},{"$f":"AT26/(AV4-AT25)","v":0},{"$f":"IF(AU26=0,0,(AU26*((LOG(AU26))/LOG(2))))","v":0}]
[null,null,null,null,null,null,null,null,null,null,null,null,null,21211,{"$f":"COUNTIF($L$7:$L$500,N27)","v":0},{"$f":"O27/$Q$4","v":0},{"$f":"IF(P27=0,0,(P27*((LOG(P27))/LOG(2))))","v":0},null,null,{"$f":"N27","v":21211},{"$f":"COUNTIF(L7:L7,T27)","v":0},{"$f":"U27/(W4-U25)","v":0},{"$f":"IF(V27=0,0,(V27*((LOG(V27))/LOG(2))))","v":0},null,{"$f":"N27","v":21211},{"$f":"COUNTIF(L7:L8,Y27)","v":0},{"$f":"Z27/(AB4-Z25)","v":0},{"$f":"IF(AA27=0,0,(AA27*((LOG(AA27))/LOG(2))))","v":0},null,{"$f":"N27","v":21211},{"$f":"COUNTIF(L8:L8,AD27)","v":0},{"$f":"AE27/(AG4-AE25)","v":0},{"$f":"IF(AF27=0,0,(AF27*((LOG(AF27))/LOG(2))))","v":0},null,{"$f":"N27","v":21211},{"$f":"COUNTIF(L8:L9,AI27)","v":0},{"$f":"AJ27/(AL4-AJ25)","v":0},{"$f":"IF(AK27=0,0,(AK27*((LOG(AK27))/LOG(2))))","v":0},null,{"$f":"N27","v":21211},{"$f":"COUNTIF(L9:L9,AN27)","v":0},{"$f":"AO27/(AQ4-AO25)","v":0},{"$f":"IF(AP27=0,0,(AP27*((LOG(AP27))/LOG(2))))","v":0},null,{"$f":"N27","v":21211},{"$f":"COUNTIF(L9:L10,AS27)","v":0},{"$f":"AT27/(AV4-AT25)","v":0},{"$f":"IF(AU27=0,0,(AU27*((LOG(AU27))/LOG(2))))","v":0}]
[null,null,null,null,null,null,null,null,null,null,null,null,null,21212,{"$f":"COUNTIF($L$7:$L$500,N28)","v":0},{"$f":"O28/$Q$4","v":0},{"$f":"IF(P28=0,0,(P28*((LOG(P28))/LOG(2))))","v":0},null,null,{"$f":"N28","v":21212},{"$f":"COUNTIF(L7:L7,T28)","v":0},{"$f":"U28/(W4-U25)","v":0},{"$f":"IF(V28=0,0,(V28*((LOG(V28))/LOG(2))))","v":0},null,{"$f":"N28","v":21212},{"$f":"COUNTIF(L7:L8,Y28)","v":0},{"$f":"Z28/(AB4-Z25)","v":0},{"$f":"IF(AA28=0,0,(AA28*((LOG(AA28))/LOG(2))))","v":0},null,{"$f":"N28","v":21212},{"$f":"COUNTIF(L8:L8,AD28)","v":0},{"$f":"AE28/(AG4-AE25)","v":0},{"$f":"IF(AF28=0,0,(AF28*((LOG(AF28))/LOG(2))))","v":0},null,{"$f":"N28","v":21212},{"$f":"COUNTIF(L8:L9,AI28)","v":0},{"$f":"AJ28/(AL4-AJ25)","v":0},{"$f":"IF(AK28=0,0,(AK28*((LOG(AK28))/LOG(2))))","v":0},null,{"$f":"N28","v":21212},{"$f":"COUNTIF(L9:L9,AN28)","v":0},{"$f":"AO28/(AQ4-AO25)","v":0},{"$f":"IF(AP28=0,0,(AP28*((LOG(AP28))/LOG(2))))","v":0},null,{"$f":"N28","v":21212},{"$f":"COUNTIF(L9:L10,AS28)","v":0},{"$f":"AT28/(AV4-AT25)","v":0},{"$f":"IF(AU28=0,0,(AU28*((LOG(AU28))/LOG(2))))","v":0}]
[null,null,null,null,null,null,null,null,null,null,null,null,null,21221,{"$f":"COUNTIF($L$7:$L$500,N29)","v":0},{"$f":"O29/$Q$4","v":0},{"$f":"IF(P29=0,0,(P29*((LOG(P29))/LOG(2))))","v":0},null,null,{"$f":"N29","v":21221},{"$f":"COUNTIF(L7:L7,T29)","v":0},{"$f":"U29/(W4-U25)","v":0},{"$f":"IF(V29=0,0,(V29*((LOG(V29))/LOG(2))))","v":0},null,{"$f":"N29","v":21221},{"$f":"COUNTIF(L7:L8,Y29)","v":0},{"$f":"Z29/(AB4-Z25)","v":0},{"$f":"IF(AA29=0,0,(AA29*((LOG(AA29))/LOG(2))))","v":0},null,{"$f":"N29","v":21221},{"$f":"COUNTIF(L8:L8,AD29)","v":0},{"$f":"AE29/(AG4-AE25)","v":0},{"$f":"IF(AF29=0,0,(AF29*((LOG(AF29))/LOG(2))))","v":0},null,{"$f":"N29","v":21221},{"$f":"COUNTIF(L8:L9,AI29)","v":0},{"$f":"AJ29/(AL4-AJ25)","v":0},{"$f":"IF(AK29=0,0,(AK29*((LOG(AK29))/LOG(2))))","v":0},null,{"$f":"N29","v":21221},{"$f":"COUNTIF(L9:L9,AN29)","v":0},{"$f":"AO29/(AQ4-AO25)","v":0},{"$f":"IF(AP29=0,0,(AP29*((LOG(AP29))/LOG(2))))","v":0},null,{"$f":"N29","v":21221},{"$f":"COUNTIF(L9:L10,AS29)","v":0},{"$f":"AT29/(AV4-AT25)","v":0},{"$f":"IF(AU29=0,0,(AU29*((LOG(AU29))/LOG(2))))","v":0}]
[null,null,null,null,null,null,null,null,null,null,null,null,null,21222,{"$f":"COUNTIF($L$7:$L$500,N30)","v":0},{"$f":"O30/$Q$4","v":0},{"$f":"IF(P30=0,0,(P30*((LOG(P30))/LOG(2))))","v":0},null,null,{"$f":"N30","v":21222},{"$f":"COUNTIF(L7:L7,T30)","v":0},{"$f":"U30/(W4-U25)","v":0},{"$f":"IF(V30=0,0,(V30*((LOG(V30))/LOG(2))))","v":0},null,{"$f":"N30","v":21222},{"$f":"COUNTIF(L7:L8,Y30)","v":0},{"$f":"Z30/(AB4-Z25)","v":0},{"$f":"IF(AA30=0,0,(AA30*((LOG(AA30))/LOG(2))))","v":0},null,{"$f":"N30","v":21222},{"$f":"COUNTIF(L8:L8,AD30)","v":0},{"$f":"AE30/(AG4-AE25)","v":0},{"$f":"IF(AF30=0,0,(AF30*((LOG(AF30))/LOG(2))))","v":0},null,{"$f":"N30","v":21222},{"$f":"COUNTIF(L8:L9,AI30)","v":0},{"$f":"AJ30/(AL4-AJ25)","v":0},{"$f":"IF(AK30=0,0,(AK30*((LOG(AK30))/LOG(2))))","v":0},null,{"$f":"N30","v":21222},{"$f":"COUNTIF(L9:L9,AN30)","v":0},{"$f":"AO30/(AQ4-AO25)","v":0},{"$f":"IF(AP30=0,0,(AP30*((LOG(AP30))/LOG(2))))","v":0},null,{"$f":"N30","v":21222},{"$f":"COUNTIF(L9:L10,AS30)","v":0},{"$f":"AT30/(AV4-AT25)","v":0},{"$f":"IF(AU30=0,0,(AU30*((LOG(AU30))/LOG(2))))","v":0}]
[null,null,null,null,null,null,null,null,null,null,null,null,null,22111,{"$f":"COUNTIF($L$7:$L$500,N31)","v":0},{"$f":"O31/$Q$4","v":0},{"$f":"IF(P31=0,0,(P31*((LOG(P31))/LOG(2))))","v":0},null,null,{"$f":"N31","v":22111},{"$f":"COUNTIF(L7:L7,T31)","v":0},{"$f":"U31/(W4-U25)","v":0},{"$f":"IF(V31=0,0,(V31*((LOG(V31))/LOG(2))))","v":0},null,{"$f":"N31","v":22111},{"$f":"COUNTIF(L7:L8,Y31)","v":0},{"$f":"Z31/(AB4-Z25)","v":0},{"$f":"IF(AA31=0,0,(AA31*((LOG(AA31))/LOG(2))))","v":0},null,{"$f":"N31","v":22111},{"$f":"COUNTIF(L8:L8,AD31)","v":0},{"$f":"AE31/(AG4-AE25)","v":0},{"$f":"IF(AF31=0,0,(AF31*((LOG(AF31))/LOG(2))))","v":0},null,{"$f":"N31","v":22111},{"$f":"COUNTIF(L8:L9,AI31)","v":0},{"$f":"AJ31/(AL4-AJ25)","v":0},{"$f":"IF(AK31=0,0,(AK31*((LOG(AK31))/LOG(2))))","v":0},null,{"$f":"N31","v":22111},{"$f":"COUNTIF(L9:L9,AN31)","v":0},{"$f":"AO31/(AQ4-AO25)","v":0},{"$f":"IF(AP31=0,0,(AP31*((LOG(AP31))/LOG(2))))","v":0},null,{"$f":"N31","v":22111},{"$f":"COUNTIF(L9:L10,AS31)","v":0},{"$f":"AT31/(AV4-AT25)","v":0},{"$f":"IF(AU31=0,0,(AU31*((LOG(AU31))/LOG(2))))","v":0}]
[null,null,null,null,null,null,null,null,null,null,null,null,null,22112,{"$f":"COUNTIF($L$7:$L$500,N32)","v":0},{"$f":"O32/$Q$4","v":0},{"$f":"IF(P32=0,0,(P32*((LOG(P32))/LOG(2))))","v":0},null,null,{"$f":"N32","v":22112},{"$f":"COUNTIF(L7:L7,T32)","v":0},{"$f":"U32/(W4-U25)","v":0},{"$f":"IF(V32=0,0,(V32*((LOG(V32))/LOG(2))))","v":0},null,{"$f":"N32","v":22112},{"$f":"COUNTIF(L7:L8,Y32)","v":0},{"$f":"Z32/(AB4-Z25)","v":0},{"$f":"IF(AA32=0,0,(AA32*((LOG(AA32))/LOG(2))))","v":0},null,{"$f":"N32","v":22112},{"$f":"COUNTIF(L8:L8,AD32)","v":0},{"$f":"AE32/(AG4-AE25)","v":0},{"$f":"IF(AF32=0,0,(AF32*((LOG(AF32))/LOG(2))))","v":0},null,{"$f":"N32","v":22112},{"$f":"COUNTIF(L8:L9,AI32)","v":0},{"$f":"AJ32/(AL4-AJ25)","v":0},{"$f":"IF(AK32=0,0,(AK32*((LOG(AK32))/LOG(2))))","v":0},null,{"$f":"N32","v":22112},{"$f":"COUNTIF(L9:L9,AN32)","v":0},{"$f":"AO32/(AQ4-AO25)","v":0},{"$f":"IF(AP32=0,0,(AP32*((LOG(AP32))/LOG(2))))","v":0},null,{"$f":"N32","v":22112},{"$f":"COUNTIF(L9:L10,AS32)","v":0},{"$f":"AT32/(AV4-AT25)","v":0},{"$f":"IF(AU32=0,0,(AU32*((LOG(AU32))/LOG(2))))","v":0}]
[null,null,null,null,null,null,null,null,null,null,null,null,null,22121,{"$f":"COUNTIF($L$7:$L$500,N33)","v":0},{"$f":"O33/$Q$4","v":0},{"$f":"IF(P33=0,0,(P33*((LOG(P33))/LOG(2))))","v":0},null,null,{"$f":"N33","v":22121},{"$f":"COUNTIF(L7:L7,T33)","v":0},{"$f":"U33/(W4-U25)","v":0},{"$f":"IF(V33=0,0,(V33*((LOG(V33))/LOG(2))))","v":0},null,{"$f":"N33","v":22121},{"$f":"COUNTIF(L7:L8,Y33)","v":0},{"$f":"Z33/(AB4-Z25)","v":0},{"$f":"IF(AA33=0,0,(AA33*((LOG(AA33))/LOG(2))))","v":0},null,{"$f":"N33","v":22121},{"$f":"COUNTIF(L8:L8,AD33)","v":0},{"$f":"AE33/(AG4-AE25)","v":0},{"$f":"IF(AF33=0,0,(AF33*((LOG(AF33))/LOG(2))))","v":0},null,{"$f":"N33","v":22121},{"$f":"COUNTIF(L8:L9,AI33)","v":0},{"$f":"AJ33/(AL4-AJ25)","v":0},{"$f":"IF(AK33=0,0,(AK33*((LOG(AK33))/LOG(2))))","v":0},null,{"$f":"N33","v":22121},{"$f":"COUNTIF(L9:L9,AN33)","v":0},{"$f":"AO33/(AQ4-AO25)","v":0},{"$f":"IF(AP33=0,0,(AP33*((LOG(AP33))/LOG(2))))","v":0},null,{"$f":"N33","v":22121},{"$f":"COUNTIF(L9:L10,AS33)","v":0},{"$f":"AT33/(AV4-AT25)","v":0},{"$f":"IF(AU33=0,0,(AU33*((LOG(AU33))/LOG(2))))","v":0}]
[null,null,null,null,null,null,null,null,null,null,null,null,null,22122,{"$f":"COUNTIF($L$7:$L$500,N34)","v":1},{"$f":"O34/$Q$4","v":0.33333333333333331},{"$f":"IF(P34=0,0,(P34*((LOG(P34))/LOG(2))))","v":-0.52832083357371862},null,null,{"$f":"N34","v":22122},{"$f":"COUNTIF(L7:L7,T34)","v":0},{"$f":"U34/(W4-U25)","v":0},{"$f":"IF(V34=0,0,(V34*((LOG(V34))/LOG(2))))","v":0},null,{"$f":"N34","v":22122},{"$f":"COUNTIF(L7:L8,Y34)","v":1},{"$f":"Z34/(AB4-Z25)","v":0.5},{"$f":"IF(AA34=0,0,(AA34*((LOG(AA34))/LOG(2))))","v":-0.5},null,{"$f":"N34","v":22122},{"$f":"COUNTIF(L8:L8,AD34)","v":1},{"$f":"AE34/(AG4-AE25)","v":1},{"$f":"IF(AF34=0,0,(AF34*((LOG(AF34))/LOG(2))))","v":0},null,{"$f":"N34","v":22122},{"$f":"COUNTIF(L8:L9,AI34)","v":1},{"$f":"AJ34/(AL4-AJ25)","v":0.5},{"$f":"IF(AK34=0,0,(AK34*((LOG(AK34))/LOG(2))))","v":-0.5},null,{"$f":"N34","v":22122},{"$f":"COUNTIF(L9:L9,AN34)","v":0},{"$f":"AO34/(AQ4-AO25)","v":0},{"$f":"IF(AP34=0,0,(AP34*((LOG(AP34))/LOG(2))))","v":0},null,{"$f":"N34","v":22122},{"$f":"COUNTIF(L9:L10,AS34)","v":0},{"$f":"AT34/(AV4-AT25)","v":0},{"$f":"IF(AU34=0,0,(AU34*((LOG(AU34))/LOG(2))))","v":0}]
[null,null,null,null,null,null,null,null,null,null,null,null,null,22211,{"$f":"COUNTIF($L$7:$L$500,N35)","v":0},{"$f":"O35/$Q$4","v":0},{"$f":"IF(P35=0,0,(P35*((LOG(P35))/LOG(2))))","v":0},null,null,{"$f":"N35","v":22211},{"$f":"COUNTIF(L7:L7,T35)","v":0},{"$f":"U35/(W4-U25)","v":0},{"$f":"IF(V35=0,0,(V35*((LOG(V35))/LOG(2))))","v":0},null,{"$f":"N35","v":22211},{"$f":"COUNTIF(L7:L8,Y35)","v":0},{"$f":"Z35/(AB4-Z25)","v":0},{"$f":"IF(AA35=0,0,(AA35*((LOG(AA35))/LOG(2))))","v":0},null,{"$f":"N35","v":22211},{"$f":"COUNTIF(L8:L8,AD35)","v":0},{"$f":"AE35/(AG4-AE25)","v":0},{"$f":"IF(AF35=0,0,(AF35*((LOG(AF35))/LOG(2))))","v":0},null,{"$f":"N35","v":22211},{"$f":"COUNTIF(L8:L9,AI35)","v":0},{"$f":"AJ35/(AL4-AJ25)","v":0},{"$f":"IF(AK35=0,0,(AK35*((LOG(AK35))/LOG(2))))","v":0},null,{"$f":"N35","v":22211},{"$f":"COUNTIF(L9:L9,AN35)","v":0},{"$f":"AO35/(AQ4-AO25)","v":0},{"$f":"IF(AP35=0,0,(AP35*((LOG(AP35))/LOG(2))))","v":0},null,{"$f":"N35","v":22211},{"$f":"COUNTIF(L9:L10,AS35)","v":0},{"$f":"AT35/(AV4-AT25)","v":0},{"$f":"IF(AU35=0,0,(AU35*((LOG(AU35))/LOG(2))))","v":0}]
[null,null,null,null,null,null,null,null,null,null,null,null,null,22212,{"$f":"COUNTIF($L$7:$L$500,N36)","v":1},{"$f":"O36/$Q$4","v":0.33333333333333331},{"$f":"IF(P36=0,0,(P36*((LOG(P36))/LOG(2))))","v":-0.52832083357371862},null,null,{"$f":"N36","v":22212},{"$f":"COUNTIF(L7:L7,T36)","v":0},{"$f":"U36/(W4-U25)","v":0},{"$f":"IF(V36=0,0,(V36*((LOG(V36))/LOG(2))))","v":0},null,{"$f":"N36","v":22212},{"$f":"COUNTIF(L7:L8,Y36)","v":0},{"$f":"Z36/(AB4-Z25)","v":0},{"$f":"IF(AA36=0,0,(AA36*((LOG(AA36))/LOG(2))))","v":0},null,{"$f":"N36","v":22212},{"$f":"COUNTIF(L8:L8,AD36)","v":0},{"$f":"AE36/(AG4-AE25)","v":0},{"$f":"IF(AF36=0,0,(AF36*((LOG(AF36))/LOG(2))))","v":0},null,{"$f":"N36","v":22212},{"$f":"COUNTIF(L8:L9,AI36)","v":1},{"$f":"AJ36/(AL4-AJ25)","v":0.5},{"$f":"IF(AK36=0,0,(AK36*((LOG(AK36))/LOG(2))))","v":-0.5},null,{"$f":"N36","v":22212},{"$f":"COUNTIF(L9:L9,AN36)","v":1},{"$f":"AO36/(AQ4-AO25)","v":1},{"$f":"IF(AP36=0,0,(AP36*((LOG(AP36))/LOG(2))))","v":0},null,{"$f":"N36","v":22212},{"$f":"COUNTIF(L9:L10,AS36)","v":1},{"$f":"AT36/(AV4-AT25)","v":1},{"$f":"IF(AU36=0,0,(AU36*((LOG(AU36))/LOG(2))))","v":0}]
[null,null,null,null,null,null,null,null,null,null,null,null,null,22221,{"$f":"COUNTIF($L$7:$L$500,N37)","v":0},{"$f":"O37/$Q$4","v":0},{"$f":"IF(P37=0,0,(P37*((LOG(P37))/LOG(2))))","v":0},null,null,{"$f":"N37","v":22221},{"$f":"COUNTIF(L7:L7,T37)","v":0},{"$f":"U37/(W4-U25)","v":0},{"$f":"IF(V37=0,0,(V37*((LOG(V37))/LOG(2))))","v":0},null,{"$f":"N37","v":22221},{"$f":"COUNTIF(L7:L8,Y37)","v":0},{"$f":"Z37/(AB4-Z25)","v":0},{"$f":"IF(AA37=0,0,(AA37*((LOG(AA37))/LOG(2))))","v":0},null,{"$f":"N37","v":22221},{"$f":"COUNTIF(L8:L8,AD37)","v":0},{"$f":"AE37/(AG4-AE25)","v":0},{"$f":"IF(AF37=0,0,(AF37*((LOG(AF37))/LOG(2))))","v":0},null,{"$f":"N37","v":22221},{"$f":"COUNTIF(L8:L9,AI37)","v":0},{"$f":"AJ37/(AL4-AJ25)","v":0},{"$f":"IF(AK37=0,0,(AK37*((LOG(AK37))/LOG(2))))","v":0},null,{"$f":"N37","v":22221},{"$f":"COUNTIF(L9:L9,AN37)","v":0},{"$f":"AO37/(AQ4-AO25)","v":0},{"$f":"IF(AP37=0,0,(AP37*((LOG(AP37))/LOG(2))))","v":0},null,{"$f":"N37","v":22221},{"$f":"COUNTIF(L9:L10,AS37)","v":0},{"$f":"AT37/(AV4-AT25)","v":0},{"$f":"IF(AU37=0,0,(AU37*((LOG(AU37))/LOG(2))))","v":0}]
[null,null,null,null,null,null,null,null,null,null,null,null,null,22222,{"$f":"COUNTIF($L$7:$L$500,N38)","v":1},{"$f":"O38/$Q$4","v":0.33333333333333331},{"$f":"IF(P38=0,0,(P38*((LOG(P38))/LOG(2))))","v":-0.52832083357371862},null,null,{"$f":"N38","v":22222},{"$f":"COUNTIF(L7:L7,T38)","v":1},{"$f":"U38/(W4-U25)","v":1},{"$f":"IF(V38=0,0,(V38*((LOG(V38))/LOG(2))))","v":0},null,{"$f":"N38","v":22222},{"$f":"COUNTIF(L7:L8,Y38)","v":1},{"$f":"Z38/(AB4-Z25)","v":0.5},{"$f":"IF(AA38=0,0,(AA38*((LOG(AA38))/LOG(2))))","v":-0.5},null,{"$f":"N38","v":22222},{"$f":"COUNTIF(L8:L8,AD38)","v":0},{"$f":"AE38/(AG4-AE25)","v":0},{"$f":"IF(AF38=0,0,(AF38*((LOG(AF38))/LOG(2))))","v":0},null,{"$f":"N38","v":22222},{"$f":"COUNTIF(L8:L9,AI38)","v":0},{"$f":"AJ38/(AL4-AJ25)","v":0},{"$f":"IF(AK38=0,0,(AK38*((LOG(AK38))/LOG(2))))","v":0},null,{"$f":"N38","v":22222},{"$f":"COUNTIF(L9:L9,AN38)","v":0},{"$f":"AO38/(AQ4-AO25)","v":0},{"$f":"IF(AP38=0,0,(AP38*((LOG(AP38))/LOG(2))))","v":0},null,{"$f":"N38","v":22222},{"$f":"COUNTIF(L9:L10,AS38)","v":0},{"$f":"AT38/(AV4-AT25)","v":0},{"$f":"IF(AU38=0,0,(AU38*((LOG(AU38))/LOG(2))))","v":0}]
[null,null,null,null,null,null,null,null,null,null,null,null,null,null,null,{"$f":"SUM(P7:P38)","v":1},{"$f":"-SUM(Q7:Q38)","v":1.5849625007211559},null,null,null,null,{"$f":"SUM(V7:V38)","v":1},{"$f":"-SUM(W7:W38)","v":0},null,null,null,{"$f":"SUM(AA7:AA38)","v":1},{"$f":"-SUM(AB7:AB38)","v":1},null,null,null,{"$f":"SUM(AF7:AF38)","v":1},{"$f":"-SUM(AG7:AG38)","v":0},null,null,null,{"$f":"SUM(AK7:AK38)","v":1},{"$f":"-SUM(AL7:AL38)","v":1},null,null,null,{"$f":"SUM(AP7:AP38)","v":1},{"$f":"-SUM(AQ7:AQ38)","v":0},null,null,null,{"$f":"SUM(AU7:AU38)","v":1},{"$f":"-SUM(AV7:AV38)","v":0}]
[null,null,null,null,null,null,null,null,null,null,null,null,null,null,null,"U=",{"$f":"Q39/(LOG(Q4)/LOG(2))","v":0.99999999999999989},null,null,null,null,"U1=",{"$f":"W39/(LOG(W4)/LOG(2))","v":{"$error":"#DIV/0!"}},null,null,null,"U2=",{"$f":"AB39/(LOG(AB4)/LOG(2))","v":1},null,null,null,"U3=",{"$f":"AG39/(LOG(AG4)/LOG(2))","v":{"$error":"#DIV/0!"}},null,null,null,"U4=",{"$f":"AL39/(LOG(AL4)/LOG(2))","v":1},null,null,null,"U5=",{"$f":"AQ39/(LOG(AQ4)/LOG(2))","v":{"$error":"#DIV/0!"}},null,null,null,"U6=",{"$f":"AV39/(LOG(AV4)/LOG(2))","v":{"$error":"#DIV/0!"}}]
[]
[]
[null,null,null,null,null,null,null,null,null,null,null,null,null,"Total Target Seq"]
[null,null,null,null,null,null,null,null,null,null,null,null,null,{"$f":"COUNTIF(L7:L9,G3)","v":0},null,1,0,1,0,1,0]
[null,null,null,null,null,null,null,null,null,null,null,null,null,null,null,"% of reinforcement given in 6 equal intervals based on number of trials "]
[null,null,null,null,null,null,null,null,null,null,null,null,null,null,null,"%_1","%_2","%_3","%_4","%_5","%_6"]
[null,null,null,null,null,null,null,null,null,null,null,null,null,null,"target sequence",{"$f":"$G$3","v":21121},{"$f":"$G$3","v":21121},{"$f":"$G$3","v":21121},{"$f":"$G$3","v":21121},{"$f":"$G$3","v":21121},{"$f":"$G$3","v":21121}]
[null,null,null,null,null,null,null,null,null,null,null,null,null,null,"total reinforcement",{"$f":"U25","v":0},{"$f":"Z25","v":0},{"$f":"AE25","v":0},{"$f":"AJ25","v":0},{"$f":"AO25","v":0},{"$f":"AT25","v":0}]
[null,null,null,null,null,null,null,null,null,null,null,null,null,null,"% target"]
[null,null,null,null,null,null,null,null,null,null,null,null,null,null,"CCRF"]
[null,null,null,null,null,null,null,null,null,null,null,null,null,null,"% CCRf"]
[null,null,null,null,null,null,null,null,null,null,null,null,null,null,"average response rate",{"$f":"J7/P44","v":185},{"$f":"(J7-J7)/Q44","v":{"$error":"#DIV/0!"}},{"$f":"(J8-J7)/R44","v":457},{"$f":"(J8-J8)/S44","v":{"$error":"#DIV/0!"}},{"$f":"(J9-J8)/T44","v":175},{"$f":"(J9-J9)/U44","v":{"$error":"#DIV/0!"}}]

{"sheet":"!N115940.105","index":17,"n_rows":52,"n_cols":48,"rows_kept":52,"cut":false,"hidden":false,"merged":[[4,39,4,42],[5,39,5,40],[4,44,4,47],[5,44,5,45],[4,24,4,27],[5,24,5,25],[4,29,4,32],[5,29,5,30],[4,34,4,37],[5,34,5,35],[1,1,1,2],[5,13,5,14],[42,13,42,14],[43,13,43,14],[4,19,4,22],[5,19,5,20]]}
["Report for:!N115940.105"]
["Date:","<date>"]
["Hen:","<hen>",null,null,null,"Correct Sequence",{"$f":"Start!J2","v":21121},null,null,null,null,null,null,null,null,"Total Sequences in Data",{"$f":"4994-COUNTBLANK(L7:L5000)","v":6},null,null,null,null,"Total Sequences in Block Data",{"$f":"COUNTA(L7:L7)","v":1},null,null,null,"Total Sequences in Block Data",{"$f":"COUNTA(L8:L8)","v":1},null,null,null,"Total Sequences in Block Data",{"$f":"COUNTA(L9:L9)","v":1},null,null,null,"Total Sequences in Block Data",{"$f":"COUNTA(L10:L10)","v":1},null,null,null,"Total Sequences in Block Data",{"$f":"COUNTA(L11:L11)","v":1},null,null,null,"Total Sequences in Block Data",{"$f":"COUNTA(L12:L12)","v":1}]
[null,null,null,null,null,null,null,null,null,null,null,null,null,null,null,"Total Sequences in Summary",{"$f":"SUM(O7:O38)","v":6},null,null,null,null,"Total Sequences in Block Summary",{"$f":"SUM(U7:U38)","v":1},null,null,null,"Total Sequences in Block Summary",{"$f":"SUM(Z7:Z38)","v":1},null,null,null,"Total Sequences in Block Summary",{"$f":"SUM(AE7:AE38)","v":1},null,null,null,"Total Sequences in Block Summary",{"$f":"SUM(AJ7:AJ38)","v":1},null,null,null,"Total Sequences in Block Summary",{"$f":"SUM(AO7:AO38)","v":1},null,null,null,"Total Sequences in Block Summary",{"$f":"SUM(AT7:AT38)","v":1}]
[null,null,null,null,null,null,null,null,null,null,null,null,null,null,null,null,null,null,null,"Block 1",null,null,null,null,"Block 2",null,null,null,null,"Block 3",null,null,null,null,"Block 4",null,null,null,null,"Block 5",null,null,null,null,"Block 6"]
["Sequence\nComponent\n1","Time\n1","Sequence\nComponent\n2","Time\n2","Sequence\nComponent\n3","Time\n3","Sequence\nComponent\n4","Time\n4","Sequence\nComponent\n5","Time\n5","Correct?\n0=No 1=Yes","Sequence",null,"Frequency",null,"Relative Frequency","Variability",null,null,"Frequency",null,"Relative Frequency","Variability",null,"Frequency",null,"Relative Frequency","Variability",null,"Frequency",null,"Relative Frequency","Variability",null,"Frequency",null,"Relative Frequency","Variability",null,"Frequency",null,"Relative Frequency","Variability",null,"Frequency",null,"Relative Frequency","Variability"]
[21,28,22,61,24,76,23,85,24,107,0,22222,null,11111,{"$f":"COUNTIF($L$7:$L$500,N7)","v":0},{"$f":"O7/$Q$4","v":0},{"$f":"IF(P7=0,0,(P7*((LOG(P7))/LOG(2))))","v":0},null,null,{"$f":"N7","v":11111},{"$f":"COUNTIF(L7:L7,T7)","v":0},{"$f":"U7/(W4-U25)","v":0},{"$f":"IF(V7=0,0,(V7*((LOG(V7))/LOG(2))))","v":0},null,{"$f":"N7","v":11111},{"$f":"COUNTIF(L8:L8,Y7)","v":0},{"$f":"Z7/(AB4-Z25)","v":0},{"$f":"IF(AA7=0,0,(AA7*((LOG(AA7))/LOG(2))))","v":0},null,{"$f":"N7","v":11111},{"$f":"COUNTIF(L9:L9,AD7)","v":0},{"$f":"AE7/(AG4-AE25)","v":0},{"$f":"IF(AF7=0,0,(AF7*((LOG(AF7))/LOG(2))))","v":0},null,{"$f":"N7","v":11111},{"$f":"COUNTIF(L10:L10,AI7)","v":0},{"$f":"AJ7/(AL4-AJ25)","v":0},{"$f":"IF(AK7=0,0,(AK7*((LOG(AK7))/LOG(2))))","v":0},null,{"$f":"N7","v":11111},{"$f":"COUNTIF(L11:L11,AN7)","v":0},{"$f":"AO7/(AQ4-AO25)","v":0},{"$f":"IF(AP7=0,0,(AP7*((LOG(AP7))/LOG(2))))","v":0},null,{"$f":"N7","v":11111},{"$f":"COUNTIF(L12:L12,AS7)","v":0},{"$f":"AT7/(AV4-AT25)","v":0},{"$f":"IF(AU7=0,0,(AU7*((LOG(AU7))/LOG(2))))","v":0}]
[12,228,13,246,24,253,23,274,13,286,0,11221,null,11112,{"$f":"COUNTIF($L$7:$L$500,N8)","v":0},{"$f":"O8/$Q$4","v":0},{"$f":"IF(P8=0,0,(P8*((LOG(P8))/LOG(2))))","v":0},null,null,{"$f":"N8","v":11112},{"$f":"COUNTIF(L7:L7,T8)","v":0},{"$f":"U8/(W4-U25)","v":0},{"$f":"IF(V8=0,0,(V8*((LOG(V8))/LOG(2))))","v":0},null,{"$f":"N8","v":11112},{"$f":"COUNTIF(L8:L8,Y8)","v":0},{"$f":"Z8/(AB4-Z25)","v":0},{"$f":"IF(AA8=0,0,(AA8*((LOG(AA8))/LOG(2))))","v":0},null,{"$f":"N8","v":11112},{"$f":"COUNTIF(L9:L9,AD8)","v":0},{"$f":"AE8/(AG4-AE25)","v":0},{"$f":"IF(AF8=0,0,(AF8*((LOG(AF8))/LOG(2))))","v":0},null,{"$f":"N8","v":11112},{"$f":"COUNTIF(L10:L10,AI8)","v":0},{"$f":"AJ8/(AL4-AJ25)","v":0},{"$f":"IF(AK8=0,0,(AK8*((LOG(AK8))/LOG(2))))","v":0},null,{"$f":"N8","v":11112},{"$f":"COUNTIF(L11:L11,AN8)","v":0},{"$f":"AO8/(AQ4-AO25)","v":0},{"$f":"IF(AP8=0,0,(AP8*((LOG(AP8))/LOG(2))))","v":0},null,{"$f":"N8","v":11112},{"$f":"COUNTIF(L12:L12,AS8)","v":0},{"$f":"AT8/(AV4-AT25)","v":0},{"$f":"IF(AU8=0,0,(AU8*((LOG(AU8))/LOG(2))))","v":0}]
[12,1817,24,1835,24,1848,23,1860,24,1895,0,12222,null,11121,{"$f":"COUNTIF($L$7:$L$500,N9)","v":0},{"$f":"O9/$Q$4","v":0},{"$f":"IF(P9=0,0,(P9*((LOG(P9))/LOG(2))))","v":0},null,null,{"$f":"N9","v":11121},{"$f":"COUNTIF(L7:L7,T9)","v":0},{"$f":"U9/(W4-U25)","v":0},{"$f":"IF(V9=0,0,(V9*((LOG(V9))/LOG(2))))","v":0},null,{"$f":"N9","v":11121},{"$f":"COUNTIF(L8:L8,Y9)","v":0},{"$f":"Z9/(AB4-Z25)","v":0},{"$f":"IF(AA9=0,0,(AA9*((LOG(AA9))/LOG(2))))","v":0},null,{"$f":"N9","v":11121},{"$f":"COUNTIF(L9:L9,AD9)","v":0},{"$f":"AE9/(AG4-AE25)","v":0},{"$f":"IF(AF9=0,0,(AF9*((LOG(AF9))/LOG(2))))","v":0},null,{"$f":"N9","v":11121},{"$f":"COUNTIF(L10:L10,AI9)","v":0},{"$f":"AJ9/(AL4-AJ25)","v":0},{"$f":"IF(AK9=0,0,(AK9*((LOG(AK9))/LOG(2))))","v":0},null,{"$f":"N9","v":11121},{"$f":"COUNTIF(L11:L11,AN9)","v":0},{"$f":"AO9/(AQ4-AO25)","v":0},{"$f":"IF(AP9=0,0,(AP9*((LOG(AP9))/LOG(2))))","v":0},null,{"$f":"N9","v":11121},{"$f":"COUNTIF(L12:L12,AS9)","v":0},{"$f":"AT9/(AV4-AT25)","v":0},{"$f":"IF(AU9=0,0,(AU9*((LOG(AU9))/LOG(2))))","v":0}]
[21,2050,11,2061,22,2069,14,2100,24,2110,0,21212,null,11122,{"$f":"COUNTIF($L$7:$L$500,N10)","v":0},{"$f":"O10/$Q$4","v":0},{"$f":"IF(P10=0,0,(P10*((LOG(P10))/LOG(2))))","v":0},null,null,{"$f":"N10","v":11122},{"$f":"COUNTIF(L7:L7,T10)","v":0},{"$f":"U10/(W4-U25)","v":0},{"$f":"IF(V10=0,0,(V10*((LOG(V10))/LOG(2))))","v":0},null,{"$f":"N10","v":11122},{"$f":"COUNTIF(L8:L8,Y10)","v":0},{"$f":"Z10/(AB4-Z25)","v":0},{"$f":"IF(AA10=0,0,(AA10*((LOG(AA10))/LOG(2))))","v":0},null,{"$f":"N10","v":11122},{"$f":"COUNTIF(L9:L9,AD10)","v":0},{"$f":"AE10/(AG4-AE25)","v":0},{"$f":"IF(AF10=0,0,(AF10*((LOG(AF10))/LOG(2))))","v":0},null,{"$f":"N10","v":11122},{"$f":"COUNTIF(L10:L10,AI10)","v":0},{"$f":"AJ10/(AL4-AJ25)","v":0},{"$f":"IF(AK10=0,0,(AK10*((LOG(AK10))/LOG(2))))","v":0},null,{"$f":"N10","v":11122},{"$f":"COUNTIF(L11:L11,AN10)","v":0},{"$f":"AO10/(AQ4-AO25)","v":0},{"$f":"IF(AP10=0,0,(AP10*((LOG(AP10))/LOG(2))))","v":0},null,{"$f":"N10","v":11122},{"$f":"COUNTIF(L12:L12,AS10)","v":0},{"$f":"AT10/(AV4-AT25)","v":0},{"$f":"IF(AU10=0,0,(AU10*((LOG(AU10))/LOG(2))))","v":0}]
[21,12895,11,12915,22,12924,23,12950,24,12961,0,21222,null,11211,{"$f":"COUNTIF($L$7:$L$500,N11)","v":0},{"$f":"O11/$Q$4","v":0},{"$f":"IF(P11=0,0,(P11*((LOG(P11))/LOG(2))))","v":0},null,null,{"$f":"N11","v":11211},{"$f":"COUNTIF(L7:L7,T11)","v":0},{"$f":"U11/(W4-U25)","v":0},{"$f":"IF(V11=0,0,(V11*((LOG(V11))/LOG(2))))","v":0},null,{"$f":"N11","v":11211},{"$f":"COUNTIF(L8:L8,Y11)","v":0},{"$f":"Z11/(AB4-Z25)","v":0},{"$f":"IF(AA11=0,0,(AA11*((LOG(AA11))/LOG(2))))","v":0},null,{"$f":"N11","v":11211},{"$f":"COUNTIF(L9:L9,AD11)","v":0},{"$f":"AE11/(AG4-AE25)","v":0},{"$f":"IF(AF11=0,0,(AF11*((LOG(AF11))/LOG(2))))","v":0},null,{"$f":"N11","v":11211},{"$f":"COUNTIF(L10:L10,AI11)","v":0},{"$f":"AJ11/(AL4-AJ25)","v":0},{"$f":"IF(AK11=0,0,(AK11*((LOG(AK11))/LOG(2))))","v":0},null,{"$f":"N11","v":11211},{"$f":"COUNTIF(L11:L11,AN11)","v":0},{"$f":"AO11/(AQ4-AO25)","v":0},{"$f":"IF(AP11=0,0,(AP11*((LOG(AP11))/LOG(2))))","v":0},null,{"$f":"N11","v":11211},{"$f":"COUNTIF(L12:L12,AS11)","v":0},{"$f":"AT11/(AV4-AT25)","v":0},{"$f":"IF(AU11=0,0,(AU11*((LOG(AU11))/LOG(2))))","v":0}]
[12,21798,24,21814,13,21828,23,21838,13,21853,0,12121,null,11212,{"$f":"COUNTIF($L$7:$L$500,N12)","v":0},{"$f":"O12/$Q$4","v":0},{"$f":"IF(P12=0,0,(P12*((LOG(P12))/LOG(2))))","v":0},null,null,{"$f":"N12","v":11212},{"$f":"COUNTIF(L7:L7,T12)","v":0},{"$f":"U12/(W4-U25)","v":0},{"$f":"IF(V12=0,0,(V12*((LOG(V12))/LOG(2))))","v":0},null,{"$f":"N12","v":11212},{"$f":"COUNTIF(L8:L8,Y12)","v":0},{"$f":"Z12/(AB4-Z25)","v":0},{"$f":"IF(AA12=0,0,(AA12*((LOG(AA12))/LOG(2))))","v":0},null,{"$f":"N12","v":11212},{"$f":"COUNTIF(L9:L9,AD12)","v":0},{"$f":"AE12/(AG4-AE25)","v":0},{"$f":"IF(AF12=0,0,(AF12*((LOG(AF12))/LOG(2))))","v":0},null,{"$f":"N12","v":11212},{"$f":"COUNTIF(L10:L10,AI12)","v":0},{"$f":"AJ12/(AL4-AJ25)","v":0},{"$f":"IF(AK12=0,0,(AK12*((LOG(AK12))/LOG(2))))","v":0},null,{"$f":"N12","v":11212},{"$f":"COUNTIF(L11:L11,AN12)","v":0},{"$f":"AO12/(AQ4-AO25)","v":0},{"$f":"IF(AP12=0,0,(AP12*((LOG(AP12))/LOG(2))))","v":0},null,{"$f":"N12","v":11212},{"$f":"COUNTIF(L12:L12,AS12)","v":0},{"$f":"AT12/(AV4-AT25)","v":0},{"$f":"IF(AU12=0,0,(AU12*((LOG(AU12))/LOG(2))))","v":0}]
[null,null,null,null,null,null,null,null,null,null,null,null,null,11221,{"$f":"COUNTIF($L$7:$L$500,N13)","v":1},{"$f":"O13/$Q$4","v":0.16666666666666666},{"$f":"IF(P13=0,0,(P13*((LOG(P13))/LOG(2))))","v":-0.43082708345352599},null,null,{"$f":"N13","v":11221},{"$f":"COUNTIF(L7:L7,T13)","v":0},{"$f":"U13/(W4-U25)","v":0},{"$f":"IF(V13=0,0,(V13*((LOG(V13))/LOG(2))))","v":0},null,{"$f":"N13","v":11221},{"$f":"COUNTIF(L8:L8,Y13)","v":1},{"$f":"Z13/(AB4-Z25)","v":1},{"$f":"IF(AA13=0,0,(AA13*((LOG(AA13))/LOG(2))))","v":0},null,{"$f":"N13","v":11221},{"$f":"COUNTIF(L9:L9,AD13)","v":0},{"$f":"AE13/(AG4-AE25)","v":0},{"$f":"IF(AF13=0,0,(AF13*((LOG(AF13))/LOG(2))))","v":0},null,{"$f":"N13","v":11221},{"$f":"COUNTIF(L10:L10,AI13)","v":0},{"$f":"AJ13/(AL4-AJ25)","v":0},{"$f":"IF(AK13=0,0,(AK13*((LOG(AK13))/LOG(2))))","v":0},null,{"$f":"N13","v":11221},{"$f":"COUNTIF(L11:L11,AN13)","v":0},{"$f":"AO13/(AQ4-AO25)","v":0},{"$f":"IF(AP13=0,0,(AP13*((LOG(AP13))/LOG(2))))","v":0},null,{"$f":"N13","v":11221},{"$f":"COUNTIF(L12:L12,AS13)","v":0},{"$f":"AT13/(AV4-AT25)","v":0},{"$f":"IF(AU13=0,0,(AU13*((LOG(AU13))/LOG(2))))","v":0}]
[null,null,null,null,null,null,null,null,null,null,null,null,null,11222,{"$f":"COUNTIF($L$7:$L$500,N14)","v":0},{"$f":"O14/$Q$4","v":0},{"$f":"IF(P14=0,0,(P14*((LOG(P14))/LOG(2))))","v":0},null,null,{"$f":"N14","v":11222},{"$f":"COUNTIF(L7:L7,T14)","v":0},{"$f":"U14/(W4-U25)","v":0},{"$f":"IF(V14=0,0,(V14*((LOG(V14))/LOG(2))))","v":0},null,{"$f":"N14","v":11222},{"$f":"COUNTIF(L8:L8,Y14)","v":0},{"$f":"Z14/(AB4-Z25)","v":0},{"$f":"IF(AA14=0,0,(AA14*((LOG(AA14))/LOG(2))))","v":0},null,{"$f":"N14","v":11222},{"$f":"COUNTIF(L9:L9,AD14)","v":0},{"$f":"AE14/(AG4-AE25)","v":0},{"$f":"IF(AF14=0,0,(AF14*((LOG(AF14))/LOG(2))))","v":0},null,{"$f":"N14","v":11222},{"$f":"COUNTIF(L10:L10,AI14)","v":0},{"$f":"AJ14/(AL4-AJ25)","v":0},{"$f":"IF(AK14=0,0,(AK14*((LOG(AK14))/LOG(2))))","v":0},null,{"$f":"N14","v":11222},{"$f":"COUNTIF(L11:L11,AN14)","v":0},{"$f":"AO14/(AQ4-AO25)","v":0},{"$f":"IF(AP14=0,0,(AP14*((LOG(AP14))/LOG(2))))","v":0},null,{"$f":"N14","v":11222},{"$f":"COUNTIF(L12:L12,AS14)","v":0},{"$f":"AT14/(AV4-AT25)","v":0},{"$f":"IF(AU14=0,0,(AU14*((LOG(AU14))/LOG(2))))","v":0}]
[null,null,null,null,null,null,null,null,null,null,null,null,null,12111,{"$f":"COUNTIF($L$7:$L$500,N15)","v":0},{"$f":"O15/$Q$4","v":0},{"$f":"IF(P15=0,0,(P15*((LOG(P15))/LOG(2))))","v":0},null,null,{"$f":"N15","v":12111},{"$f":"COUNTIF(L7:L7,T15)","v":0},{"$f":"U15/(W4-U25)","v":0},{"$f":"IF(V15=0,0,(V15*((LOG(V15))/LOG(2))))","v":0},null,{"$f":"N15","v":12111},{"$f":"COUNTIF(L8:L8,Y15)","v":0},{"$f":"Z15/(AB4-Z25)","v":0},{"$f":"IF(AA15=0,0,(AA15*((LOG(AA15))/LOG(2))))","v":0},null,{"$f":"N15","v":12111},{"$f":"COUNTIF(L9:L9,AD15)","v":0},{"$f":"AE15/(AG4-AE25)","v":0},{"$f":"IF(AF15=0,0,(AF15*((LOG(AF15))/LOG(2))))","v":0},null,{"$f":"N15","v":12111},{"$f":"COUNTIF(L10:L10,AI15)","v":0},{"$f":"AJ15/(AL4-AJ25)","v":0},{"$f":"IF(AK15=0,0,(AK15*((LOG(AK15))/LOG(2))))","v":0},null,{"$f":"N15","v":12111},{"$f":"COUNTIF(L11:L11,AN15)","v":0},{"$f":"AO15/(AQ4-AO25)","v":0},{"$f":"IF(AP15=0,0,(AP15*((LOG(AP15))/LOG(2))))","v":0},null,{"$f":"N15","v":12111},{"$f":"COUNTIF(L12:L12,AS15)","v":0},{"$f":"AT15/(AV4-AT25)","v":0},{"$f":"IF(AU15=0,0,(AU15*((LOG(AU15))/LOG(2))))","v":0}]
[null,null,null,null,null,null,null,null,null,null,null,null,null,12112,{"$f":"COUNTIF($L$7:$L$500,N16)","v":0},{"$f":"O16/$Q$4","v":0},{"$f":"IF(P16=0,0,(P16*((LOG(P16))/LOG(2))))","v":0},null,null,{"$f":"N16","v":12112},{"$f":"COUNTIF(L7:L7,T16)","v":0},{"$f":"U16/(W4-U25)","v":0},{"$f":"IF(V16=0,0,(V16*((LOG(V16))/LOG(2))))","v":0},null,{"$f":"N16","v":12112},{"$f":"COUNTIF(L8:L8,Y16)","v":0},{"$f":"Z16/(AB4-Z25)","v":0},{"$f":"IF(AA16=0,0,(AA16*((LOG(AA16))/LOG(2))))","v":0},null,{"$f":"N16","v":12112},{"$f":"COUNTIF(L9:L9,AD16)","v":0},{"$f":"AE16/(AG4-AE25)","v":0},{"$f":"IF(AF16=0,0,(AF16*((LOG(AF16))/LOG(2))))","v":0},null,{"$f":"N16","v":12112},{"$f":"COUNTIF(L10:L10,AI16)","v":0},{"$f":"AJ16/(AL4-AJ25)","v":0},{"$f":"IF(AK16=0,0,(AK16*((LOG(AK16))/LOG(2))))","v":0},null,{"$f":"N16","v":12112},{"$f":"COUNTIF(L11:L11,AN16)","v":0},{"$f":"AO16/(AQ4-AO25)","v":0},{"$f":"IF(AP16=0,0,(AP16*((LOG(AP16))/LOG(2))))","v":0},null,{"$f":"N16","v":12112},{"$f":"COUNTIF(L12:L12,AS16)","v":0},{"$f":"AT16/(AV4-AT25)","v":0},{"$f":"IF(AU16=0,0,(AU16*((LOG(AU16))/LOG(2))))","v":0}]
[null,null,null,null,null,null,null,null,null,null,null,null,null,12121,{"$f":"COUNTIF($L$7:$L$500,N17)","v":1},{"$f":"O17/$Q$4","v":0.16666666666666666},{"$f":"IF(P17=0,0,(P17*((LOG(P17))/LOG(2))))","v":-0.43082708345352599},null,null,{"$f":"N17","v":12121},{"$f":"COUNTIF(L7:L7,T17)","v":0},{"$f":"U17/(W4-U25)","v":0},{"$f":"IF(V17=0,0,(V17*((LOG(V17))/LOG(2))))","v":0},null,{"$f":"N17","v":12121},{"$f":"COUNTIF(L8:L8,Y17)","v":0},{"$f":"Z17/(AB4-Z25)","v":0},{"$f":"IF(AA17=0,0,(AA17*((LOG(AA17))/LOG(2))))","v":0},null,{"$f":"N17","v":12121},{"$f":"COUNTIF(L9:L9,AD17)","v":0},{"$f":"AE17/(AG4-AE25)","v":0},{"$f":"IF(AF17=0,0,(AF17*((LOG(AF17))/LOG(2))))","v":0},null,{"$f":"N17","v":12121},{"$f":"COUNTIF(L10:L10,AI17)","v":0},{"$f":"AJ17/(AL4-AJ25)","v":0},{"$f":"IF(AK17=0,0,(AK17*((LOG(AK17))/LOG(2))))","v":0},null,{"$f":"N17","v":12121},{"$f":"COUNTIF(L11:L11,AN17)","v":0},{"$f":"AO17/(AQ4-AO25)","v":0},{"$f":"IF(AP17=0,0,(AP17*((LOG(AP17))/LOG(2))))","v":0},null,{"$f":"N17","v":12121},{"$f":"COUNTIF(L12:L12,AS17)","v":1},{"$f":"AT17/(AV4-AT25)","v":1},{"$f":"IF(AU17=0,0,(AU17*((LOG(AU17))/LOG(2))))","v":0}]
[null,null,null,null,null,null,null,null,null,null,null,null,null,12122,{"$f":"COUNTIF($L$7:$L$500,N18)","v":0},{"$f":"O18/$Q$4","v":0},{"$f":"IF(P18=0,0,(P18*((LOG(P18))/LOG(2))))","v":0},null,null,{"$f":"N18","v":12122},{"$f":"COUNTIF(L7:L7,T18)","v":0},{"$f":"U18/(W4-U25)","v":0},{"$f":"IF(V18=0,0,(V18*((LOG(V18))/LOG(2))))","v":0},null,{"$f":"N18","v":12122},{"$f":"COUNTIF(L8:L8,Y18)","v":0},{"$f":"Z18/(AB4-Z25)","v":0},{"$f":"IF(AA18=0,0,(AA18*((LOG(AA18))/LOG(2))))","v":0},null,{"$f":"N18","v":12122},{"$f":"COUNTIF(L9:L9,AD18)","v":0},{"$f":"AE18/(AG4-AE25)","v":0},{"$f":"IF(AF18=0,0,(AF18*((LOG(AF18))/LOG(2))))","v":0},null,{"$f":"N18","v":12122},{"$f":"COUNTIF(L10:L10,AI18)","v":0},{"$f":"AJ18/(AL4-AJ25)","v":0},{"$f":"IF(AK18=0,0,(AK18*((LOG(AK18))/LOG(2))))","v":0},null,{"$f":"N18","v":12122},{"$f":"COUNTIF(L11:L11,AN18)","v":0},{"$f":"AO18/(AQ4-AO25)","v":0},{"$f":"IF(AP18=0,0,(AP18*((LOG(AP18))/LOG(2))))","v":0},null,{"$f":"N18","v":12122},{"$f":"COUNTIF(L12:L12,AS18)","v":0},{"$f":"AT18/(AV4-AT25)","v":0},{"$f":"IF(AU18=0,0,(AU18*((LOG(AU18))/LOG(2))))","v":0}]
[null,null,null,null,null,null,null,null,null,null,null,null,null,12211,{"$f":"COUNTIF($L$7:$L$500,N19)","v":0},{"$f":"O19/$Q$4","v":0},{"$f":"IF(P19=0,0,(P19*((LOG(P19))/LOG(2))))","v":0},null,null,{"$f":"N19","v":12211},{"$f":"COUNTIF(L7:L7,T19)","v":0},{"$f":"U19/(W4-U25)","v":0},{"$f":"IF(V19=0,0,(V19*((LOG(V19))/LOG(2))))","v":0},null,{"$f":"N19","v":12211},{"$f":"COUNTIF(L8:L8,Y19)","v":0},{"$f":"Z19/(AB4-Z25)","v":0},{"$f":"IF(AA19=0,0,(AA19*((LOG(AA19))/LOG(2))))","v":0},null,{"$f":"N19","v":12211},{"$f":"COUNTIF(L9:L9,AD19)","v":0},{"$f":"AE19/(AG4-AE25)","v":0},{"$f":"IF(AF19=0,0,(AF19*((LOG(AF19))/LOG(2))))","v":0},null,{"$f":"N19","v":12211},{"$f":"COUNTIF(L10:L10,AI19)","v":0},{"$f":"AJ19/(AL4-AJ25)","v":0},{"$f":"IF(AK19=0,0,(AK19*((LOG(AK19))/LOG(2))))","v":0},null,{"$f":"N19","v":12211},{"$f":"COUNTIF(L11:L11,AN19)","v":0},{"$f":"AO19/(AQ4-AO25)","v":0},{"$f":"IF(AP19=0,0,(AP19*((LOG(AP19))/LOG(2))))","v":0},null,{"$f":"N19","v":12211},{"$f":"COUNTIF(L12:L12,AS19)","v":0},{"$f":"AT19/(AV4-AT25)","v":0},{"$f":"IF(AU19=0,0,(AU19*((LOG(AU19))/LOG(2))))","v":0}]
[null,null,null,null,null,null,null,null,null,null,null,null,null,12212,{"$f":"COUNTIF($L$7:$L$500,N20)","v":0},{"$f":"O20/$Q$4","v":0},{"$f":"IF(P20=0,0,(P20*((LOG(P20))/LOG(2))))","v":0},null,null,{"$f":"N20","v":12212},{"$f":"COUNTIF(L7:L7,T20)","v":0},{"$f":"U20/(W4-U25)","v":0},{"$f":"IF(V20=0,0,(V20*((LOG(V20))/LOG(2))))","v":0},null,{"$f":"N20","v":12212},{"$f":"COUNTIF(L8:L8,Y20)","v":0},{"$f":"Z20/(AB4-Z25)","v":0},{"$f":"IF(AA20=0,0,(AA20*((LOG(AA20))/LOG(2))))","v":0},null,{"$f":"N20","v":12212},{"$f":"COUNTIF(L9:L9,AD20)","v":0},{"$f":"AE20/(AG4-AE25)","v":0},{"$f":"IF(AF20=0,0,(AF20*((LOG(AF20))/LOG(2))))","v":0},null,{"$f":"N20","v":12212},{"$f":"COUNTIF(L10:L10,AI20)","v":0},{"$f":"AJ20/(AL4-AJ25)","v":0},{"$f":"IF(AK20=0,0,(AK20*((LOG(AK20))/LOG(2))))","v":0},null,{"$f":"N20","v":12212},{"$f":"COUNTIF(L11:L11,AN20)","v":0},{"$f":"AO20/(AQ4-AO25)","v":0},{"$f":"IF(AP20=0,0,(AP20*((LOG(AP20))/LOG(2))))","v":0},null,{"$f":"N20","v":12212},{"$f":"COUNTIF(L12:L12,AS20)","v":0},{"$f":"AT20/(AV4-AT25)","v":0},{"$f":"IF(AU20=0,0,(AU20*((LOG(AU20))/LOG(2))))","v":0}]
[null,null,null,null,null,null,null,null,null,null,null,null,null,12221,{"$f":"COUNTIF($L$7:$L$500,N21)","v":0},{"$f":"O21/$Q$4","v":0},{"$f":"IF(P21=0,0,(P21*((LOG(P21))/LOG(2))))","v":0},null,null,{"$f":"N21","v":12221},{"$f":"COUNTIF(L7:L7,T21)","v":0},{"$f":"U21/(W4-U25)","v":0},{"$f":"IF(V21=0,0,(V21*((LOG(V21))/LOG(2))))","v":0},null,{"$f":"N21","v":12221},{"$f":"COUNTIF(L8:L8,Y21)","v":0},{"$f":"Z21/(AB4-Z25)","v":0},{"$f":"IF(AA21=0,0,(AA21*((LOG(AA21))/LOG(2))))","v":0},null,{"$f":"N21","v":12221},{"$f":"COUNTIF(L9:L9,AD21)","v":0},{"$f":"AE21/(AG4-AE25)","v":0},{"$f":"IF(AF21=0,0,(AF21*((LOG(AF21))/LOG(2))))","v":0},null,{"$f":"N21","v":12221},{"$f":"COUNTIF(L10:L10,AI21)","v":0},{"$f":"AJ21/(AL4-AJ25)","v":0},{"$f":"IF(AK21=0,0,(AK21*((LOG(AK21))/LOG(2))))","v":0},null,{"$f":"N21","v":12221},{"$f":"COUNTIF(L11:L11,AN21)","v":0},{"$f":"AO21/(AQ4-AO25)","v":0},{"$f":"IF(AP21=0,0,(AP21*((LOG(AP21))/LOG(2))))","v":0},null,{"$f":"N21","v":12221},{"$f":"COUNTIF(L12:L12,AS21)","v":0},{"$f":"AT21/(AV4-AT25)","v":0},{"$f":"IF(AU21=0,0,(AU21*((LOG(AU21))/LOG(2))))","v":0}]
[null,null,null,null,null,null,null,null,null,null,null,null,null,12222,{"$f":"COUNTIF($L$7:$L$500,N22)","v":1},{"$f":"O22/$Q$4","v":0.16666666666666666},{"$f":"IF(P22=0,0,(P22*((LOG(P22))/LOG(2))))","v":-0.43082708345352599},null,null,{"$f":"N22","v":12222},{"$f":"COUNTIF(L7:L7,T22)","v":0},{"$f":"U22/(W4-U25)","v":0},{"$f":"IF(V22=0,0,(V22*((LOG(V22))/LOG(2))))","v":0},null,{"$f":"N22","v":12222},{"$f":"COUNTIF(L8:L8,Y22)","v":0},{"$f":"Z22/(AB4-Z25)","v":0},{"$f":"IF(AA22=0,0,(AA22*((LOG(AA22))/LOG(2))))","v":0},null,{"$f":"N22","v":12222},{"$f":"COUNTIF(L9:L9,AD22)","v":1},{"$f":"AE22/(AG4-AE25)","v":1},{"$f":"IF(AF22=0,0,(AF22*((LOG(AF22))/LOG(2))))","v":0},null,{"$f":"N22","v":12222},{"$f":"COUNTIF(L10:L10,AI22)","v":0},{"$f":"AJ22/(AL4-AJ25)","v":0},{"$f":"IF(AK22=0,0,(AK22*((LOG(AK22))/LOG(2))))","v":0},null,{"$f":"N22","v":12222},{"$f":"COUNTIF(L11:L11,AN22)","v":0},{"$f":"AO22/(AQ4-AO25)","v":0},{"$f":"IF(AP22=0,0,(AP22*((LOG(AP22))/LOG(2))))","v":0},null,{"$f":"N22","v":12222},{"$f":"COUNTIF(L12:L12,AS22)","v":0},{"$f":"AT22/(AV4-AT25)","v":0},{"$f":"IF(AU22=0,0,(AU22*((LOG(AU22))/LOG(2))))","v":0}]
[null,null,null,null,null,null,null,null,null,null,null,null,null,21111,{"$f":"COUNTIF($L$7:$L$500,N23)","v":0},{"$f":"O23/$Q$4","v":0},{"$f":"IF(P23=0,0,(P23*((LOG(P23))/LOG(2))))","v":0},null,null,{"$f":"N23","v":21111},{"$f":"COUNTIF(L7:L7,T23)","v":0},{"$f":"U23/(W4-U25)","v":0},{"$f":"IF(V23=0,0,(V23*((LOG(V23))/LOG(2))))","v":0},null,{"$f":"N23","v":21111},{"$f":"COUNTIF(L8:L8,Y23)","v":0},{"$f":"Z23/(AB4-Z25)","v":0},{"$f":"IF(AA23=0,0,(AA23*((LOG(AA23))/LOG(2))))","v":0},null,{"$f":"N23","v":21111},{"$f":"COUNTIF(L9:L9,AD23)","v":0},{"$f":"AE23/(AG4-AE25)","v":0},{"$f":"IF(AF23=0,0,(AF23*((LOG(AF23))/LOG(2))))","v":0},null,{"$f":"N23","v":21111},{"$f":"COUNTIF(L10:L10,AI23)","v":0},{"$f":"AJ23/(AL4-AJ25)","v":0},{"$f":"IF(AK23=0,0,(AK23*((LOG(AK23))/LOG(2))))","v":0},null,{"$f":"N23","v":21111},{"$f":"COUNTIF(L11:L11,AN23)","v":0},{"$f":"AO23/(AQ4-AO25)","v":0},{"$f":"IF(AP23=0,0,(AP23*((LOG(AP23))/LOG(2))))","v":0},null,{"$f":"N23","v":21111},{"$f":"COUNTIF(L12:L12,AS23)","v":0},{"$f":"AT23/(AV4-AT25)","v":0},{"$f":"IF(AU23=0,0,(AU23*((LOG(AU23))/LOG(2))))","v":0}]
[null,null,null,null,null,null,null,null,null,null,null,null,null,21112,{"$f":"COUNTIF($L$7:$L$500,N24)","v":0},{"$f":"O24/$Q$4","v":0},{"$f":"IF(P24=0,0,(P24*((LOG(P24))/LOG(2))))","v":0},null,null,{"$f":"N24","v":21112},{"$f":"COUNTIF(L7:L7,T24)","v":0},{"$f":"U24/(W4-U25)","v":0},{"$f":"IF(V24=0,0,(V24*((LOG(V24))/LOG(2))))","v":0},null,{"$f":"N24","v":21112},{"$f":"COUNTIF(L8:L8,Y24)","v":0},{"$f":"Z24/(AB4-Z25)","v":0},{"$f":"IF(AA24=0,0,(AA24*((LOG(AA24))/LOG(2))))","v":0},null,{"$f":"N24","v":21112},{"$f":"COUNTIF(L9:L9,AD24)","v":0},{"$f":"AE24/(AG4-AE25)","v":0},{"$f":"IF(AF24=0,0,(AF24*((LOG(AF24))/LOG(2))))","v":0},null,{"$f":"N24","v":21112},{"$f":"COUNTIF(L10:L10,AI24)","v":0},{"$f":"AJ24/(AL4-AJ25)","v":0},{"$f":"IF(AK24=0,0,(AK24*((LOG(AK24))/LOG(2))))","v":0},null,{"$f":"N24","v":21112},{"$f":"COUNTIF(L11:L11,AN24)","v":0},{"$f":"AO24/(AQ4-AO25)","v":0},{"$f":"IF(AP24=0,0,(AP24*((LOG(AP24))/LOG(2))))","v":0},null,{"$f":"N24","v":21112},{"$f":"COUNTIF(L12:L12,AS24)","v":0},{"$f":"AT24/(AV4-AT25)","v":0},{"$f":"IF(AU24=0,0,(AU24*((LOG(AU24))/LOG(2))))","v":0}]
[null,null,null,null,null,null,null,null,null,null,null,null,null,21121,{"$f":"COUNTIF($L$7:$L$500,N25)","v":0},{"$f":"O25/$Q$4","v":0},{"$f":"IF(P25=0,0,(P25*((LOG(P25))/LOG(2))))","v":0},null,null,{"$f":"N25","v":21121},{"$f":"COUNTIF(L7:L7,T25)","v":0},null,null,null,{"$f":"N25","v":21121},{"$f":"COUNTIF(L8:L8,Y25)","v":0},null,null,null,{"$f":"N25","v":21121},{"$f":"COUNTIF(L9:L9,AD25)","v":0},null,null,null,{"$f":"N25","v":21121},{"$f":"COUNTIF(L10:L10,AI25)","v":0},null,null,null,{"$f":"N25","v":21121},{"$f":"COUNTIF(L11:L11,AN25)","v":0},null,null,null,{"$f":"N25","v":21121},{"$f":"COUNTIF(L12:L12,AS25)","v":0}]
[null,null,null,null,null,null,null,null,null,null,null,null,null,21122,{"$f":"COUNTIF($L$7:$L$500,N26)","v":0},{"$f":"O26/$Q$4","v":0},{"$f":"IF(P26=0,0,(P26*((LOG(P26))/LOG(2))))","v":0},null,null,{"$f":"N26","v":21122},{"$f":"COUNTIF(L7:L7,T26)","v":0},{"$f":"U26/(W4-U25)","v":0},{"$f":"IF(V26=0,0,(V26*((LOG(V26))/LOG(2))))","v":0},null,{"$f":"N26","v":21122},{"$f":"COUNTIF(L8:L8,Y26)","v":0},{"$f":"Z26/(AB4-Z25)","v":0},{"$f":"IF(AA26=0,0,(AA26*((LOG(AA26))/LOG(2))))","v":0},null,{"$f":"N26","v":21122},{"$f":"COUNTIF(L9:L9,AD26)","v":0},{"$f":"AE26/(AG4-AE25)","v":0},{"$f":"IF(AF26=0,0,(AF26*((LOG(AF26))/LOG(2))))","v":0},null,{"$f":"N26","v":21122},{"$f":"COUNTIF(L10:L10,AI26)","v":0},{"$f":"AJ26/(AL4-AJ25)","v":0},{"$f":"IF(AK26=0,0,(AK26*((LOG(AK26))/LOG(2))))","v":0},null,{"$f":"N26","v":21122},{"$f":"COUNTIF(L11:L11,AN26)","v":0},{"$f":"AO26/(AQ4-AO25)","v":0},{"$f":"IF(AP26=0,0,(AP26*((LOG(AP26))/LOG(2))))","v":0},null,{"$f":"N26","v":21122},{"$f":"COUNTIF(L12:L12,AS26)","v":0},{"$f":"AT26/(AV4-AT25)","v":0},{"$f":"IF(AU26=0,0,(AU26*((LOG(AU26))/LOG(2))))","v":0}]
[null,null,null,null,null,null,null,null,null,null,null,null,null,21211,{"$f":"COUNTIF($L$7:$L$500,N27)","v":0},{"$f":"O27/$Q$4","v":0},{"$f":"IF(P27=0,0,(P27*((LOG(P27))/LOG(2))))","v":0},null,null,{"$f":"N27","v":21211},{"$f":"COUNTIF(L7:L7,T27)","v":0},{"$f":"U27/(W4-U25)","v":0},{"$f":"IF(V27=0,0,(V27*((LOG(V27))/LOG(2))))","v":0},null,{"$f":"N27","v":21211},{"$f":"COUNTIF(L8:L8,Y27)","v":0},{"$f":"Z27/(AB4-Z25)","v":0},{"$f":"IF(AA27=0,0,(AA27*((LOG(AA27))/LOG(2))))","v":0},null,{"$f":"N27","v":21211},{"$f":"COUNTIF(L9:L9,AD27)","v":0},{"$f":"AE27/(AG4-AE25)","v":0},{"$f":"IF(AF27=0,0,(AF27*((LOG(AF27))/LOG(2))))","v":0},null,{"$f":"N27","v":21211},{"$f":"COUNTIF(L10:L10,AI27)","v":0},{"$f":"AJ27/(AL4-AJ25)","v":0},{"$f":"IF(AK27=0,0,(AK27*((LOG(AK27))/LOG(2))))","v":0},null,{"$f":"N27","v":21211},{"$f":"COUNTIF(L11:L11,AN27)","v":0},{"$f":"AO27/(AQ4-AO25)","v":0},{"$f":"IF(AP27=0,0,(AP27*((LOG(AP27))/LOG(2))))","v":0},null,{"$f":"N27","v":21211},{"$f":"COUNTIF(L12:L12,AS27)","v":0},{"$f":"AT27/(AV4-AT25)","v":0},{"$f":"IF(AU27=0,0,(AU27*((LOG(AU27))/LOG(2))))","v":0}]
[null,null,null,null,null,null,null,null,null,null,null,null,null,21212,{"$f":"COUNTIF($L$7:$L$500,N28)","v":1},{"$f":"O28/$Q$4","v":0.16666666666666666},{"$f":"IF(P28=0,0,(P28*((LOG(P28))/LOG(2))))","v":-0.43082708345352599},null,null,{"$f":"N28","v":21212},{"$f":"COUNTIF(L7:L7,T28)","v":0},{"$f":"U28/(W4-U25)","v":0},{"$f":"IF(V28=0,0,(V28*((LOG(V28))/LOG(2))))","v":0},null,{"$f":"N28","v":21212},{"$f":"COUNTIF(L8:L8,Y28)","v":0},{"$f":"Z28/(AB4-Z25)","v":0},{"$f":"IF(AA28=0,0,(AA28*((LOG(AA28))/LOG(2))))","v":0},null,{"$f":"N28","v":21212},{"$f":"COUNTIF(L9:L9,AD28)","v":0},{"$f":"AE28/(AG4-AE25)","v":0},{"$f":"IF(AF28=0,0,(AF28*((LOG(AF28))/LOG(2))))","v":0},null,{"$f":"N28","v":21212},{"$f":"COUNTIF(L10:L10,AI28)","v":1},{"$f":"AJ28/(AL4-AJ25)","v":1},{"$f":"IF(AK28=0,0,(AK28*((LOG(AK28))/LOG(2))))","v":0},null,{"$f":"N28","v":21212},{"$f":"COUNTIF(L11:L11,AN28)","v":0},{"$f":"AO28/(AQ4-AO25)","v":0},{"$f":"IF(AP28=0,0,(AP28*((LOG(AP28))/LOG(2))))","v":0},null,{"$f":"N28","v":21212},{"$f":"COUNTIF(L12:L12,AS28)","v":0},{"$f":"AT28/(AV4-AT25)","v":0},{"$f":"IF(AU28=0,0,(AU28*((LOG(AU28))/LOG(2))))","v":0}]
[null,null,null,null,null,null,null,null,null,null,null,null,null,21221,{"$f":"COUNTIF($L$7:$L$500,N29)","v":0},{"$f":"O29/$Q$4","v":0},{"$f":"IF(P29=0,0,(P29*((LOG(P29))/LOG(2))))","v":0},null,null,{"$f":"N29","v":21221},{"$f":"COUNTIF(L7:L7,T29)","v":0},{"$f":"U29/(W4-U25)","v":0},{"$f":"IF(V29=0,0,(V29*((LOG(V29))/LOG(2))))","v":0},null,{"$f":"N29","v":21221},{"$f":"COUNTIF(L8:L8,Y29)","v":0},{"$f":"Z29/(AB4-Z25)","v":0},{"$f":"IF(AA29=0,0,(AA29*((LOG(AA29))/LOG(2))))","v":0},null,{"$f":"N29","v":21221},{"$f":"COUNTIF(L9:L9,AD29)","v":0},{"$f":"AE29/(AG4-AE25)","v":0},{"$f":"IF(AF29=0,0,(AF29*((LOG(AF29))/LOG(2))))","v":0},null,{"$f":"N29","v":21221},{"$f":"COUNTIF(L10:L10,AI29)","v":0},{"$f":"AJ29/(AL4-AJ25)","v":0},{"$f":"IF(AK29=0,0,(AK29*((LOG(AK29))/LOG(2))))","v":0},null,{"$f":"N29","v":21221},{"$f":"COUNTIF(L11:L11,AN29)","v":0},{"$f":"AO29/(AQ4-AO25)","v":0},{"$f":"IF(AP29=0,0,(AP29*((LOG(AP29))/LOG(2))))","v":0},null,{"$f":"N29","v":21221},{"$f":"COUNTIF(L12:L12,AS29)","v":0},{"$f":"AT29/(AV4-AT25)","v":0},{"$f":"IF(AU29=0,0,(AU29*((LOG(AU29))/LOG(2))))","v":0}]
[null,null,null,null,null,null,null,null,null,null,null,null,null,21222,{"$f":"COUNTIF($L$7:$L$500,N30)","v":1},{"$f":"O30/$Q$4","v":0.16666666666666666},{"$f":"IF(P30=0,0,(P30*((LOG(P30))/LOG(2))))","v":-0.43082708345352599},null,null,{"$f":"N30","v":21222},{"$f":"COUNTIF(L7:L7,T30)","v":0},{"$f":"U30/(W4-U25)","v":0},{"$f":"IF(V30=0,0,(V30*((LOG(V30))/LOG(2))))","v":0},null,{"$f":"N30","v":21222},{"$f":"COUNTIF(L8:L8,Y30)","v":0},{"$f":"Z30/(AB4-Z25)","v":0},{"$f":"IF(AA30=0,0,(AA30*((LOG(AA30))/LOG(2))))","v":0},null,{"$f":"N30","v":21222},{"$f":"COUNTIF(L9:L9,AD30)","v":0},{"$f":"AE30/(AG4-AE25)","v":0},{"$f":"IF(AF30=0,0,(AF30*((LOG(AF30))/LOG(2))))","v":0},null,{"$f":"N30","v":21222},{"$f":"COUNTIF(L10:L10,AI30)","v":0},{"$f":"AJ30/(AL4-AJ25)","v":0},{"$f":"IF(AK30=0,0,(AK30*((LOG(AK30))/LOG(2))))","v":0},null,{"$f":"N30","v":21222},{"$f":"COUNTIF(L11:L11,AN30)","v":1},{"$f":"AO30/(AQ4-AO25)","v":1},{"$f":"IF(AP30=0,0,(AP30*((LOG(AP30))/LOG(2))))","v":0},null,{"$f":"N30","v":21222},{"$f":"COUNTIF(L12:L12,AS30)","v":0},{"$f":"AT30/(AV4-AT25)","v":0},{"$f":"IF(AU30=0,0,(AU30*((LOG(AU30))/LOG(2))))","v":0}]
[null,null,null,null,null,null,null,null,null,null,null,null,null,22111,{"$f":"COUNTIF($L$7:$L$500,N31)","v":0},{"$f":"O31/$Q$4","v":0},{"$f":"IF(P31=0,0,(P31*((LOG(P31))/LOG(2))))","v":0},null,null,{"$f":"N31","v":22111},{"$f":"COUNTIF(L7:L7,T31)","v":0},{"$f":"U31/(W4-U25)","v":0},{"$f":"IF(V31=0,0,(V31*((LOG(V31))/LOG(2))))","v":0},null,{"$f":"N31","v":22111},{"$f":"COUNTIF(L8:L8,Y31)","v":0},{"$f":"Z31/(AB4-Z25)","v":0},{"$f":"IF(AA31=0,0,(AA31*((LOG(AA31))/LOG(2))))","v":0},null,{"$f":"N31","v":22111},{"$f":"COUNTIF(L9:L9,AD31)","v":0},{"$f":"AE31/(AG4-AE25)","v":0},{"$f":"IF(AF31=0,0,(AF31*((LOG(AF31))/LOG(2))))","v":0},null,{"$f":"N31","v":22111},{"$f":"COUNTIF(L10:L10,AI31)","v":0},{"$f":"AJ31/(AL4-AJ25)","v":0},{"$f":"IF(AK31=0,0,(AK31*((LOG(AK31))/LOG(2))))","v":0},null,{"$f":"N31","v":22111},{"$f":"COUNTIF(L11:L11,AN31)","v":0},{"$f":"AO31/(AQ4-AO25)","v":0},{"$f":"IF(AP31=0,0,(AP31*((LOG(AP31))/LOG(2))))","v":0},null,{"$f":"N31","v":22111},{"$f":"COUNTIF(L12:L12,AS31)","v":0},{"$f":"AT31/(AV4-AT25)","v":0},{"$f":"IF(AU31=0,0,(AU31*((LOG(AU31))/LOG(2))))","v":0}]
[null,null,null,null,null,null,null,null,null,null,null,null,null,22112,{"$f":"COUNTIF($L$7:$L$500,N32)","v":0},{"$f":"O32/$Q$4","v":0},{"$f":"IF(P32=0,0,(P32*((LOG(P32))/LOG(2))))","v":0},null,null,{"$f":"N32","v":22112},{"$f":"COUNTIF(L7:L7,T32)","v":0},{"$f":"U32/(W4-U25)","v":0},{"$f":"IF(V32=0,0,(V32*((LOG(V32))/LOG(2))))","v":0},null,{"$f":"N32","v":22112},{"$f":"COUNTIF(L8:L8,Y32)","v":0},{"$f":"Z32/(AB4-Z25)","v":0},{"$f":"IF(AA32=0,0,(AA32*((LOG(AA32))/LOG(2))))","v":0},null,{"$f":"N32","v":22112},{"$f":"COUNTIF(L9:L9,AD32)","v":0},{"$f":"AE32/(AG4-AE25)","v":0},{"$f":"IF(AF32=0,0,(AF32*((LOG(AF32))/LOG(2))))","v":0},null,{"$f":"N32","v":22112},{"$f":"COUNTIF(L10:L10,AI32)","v":0},{"$f":"AJ32/(AL4-AJ25)","v":0},{"$f":"IF(AK32=0,0,(AK32*((LOG(AK32))/LOG(2))))","v":0},null,{"$f":"N32","v":22112},{"$f":"COUNTIF(L11:L11,AN32)","v":0},{"$f":"AO32/(AQ4-AO25)","v":0},{"$f":"IF(AP32=0,0,(AP32*((LOG(AP32))/LOG(2))))","v":0},null,{"$f":"N32","v":22112},{"$f":"COUNTIF(L12:L12,AS32)","v":0},{"$f":"AT32/(AV4-AT25)","v":0},{"$f":"IF(AU32=0,0,(AU32*((LOG(AU32))/LOG(2))))","v":0}]
[null,null,null,null,null,null,null,null,null,null,null,null,null,22121,{"$f":"COUNTIF($L$7:$L$500,N33)","v":0},{"$f":"O33/$Q$4","v":0},{"$f":"IF(P33=0,0,(P33*((LOG(P33))/LOG(2))))","v":0},null,null,{"$f":"N33","v":22121},{"$f":"COUNTIF(L7:L7,T33)","v":0},{"$f":"U33/(W4-U25)","v":0},{"$f":"IF(V33=0,0,(V33*((LOG(V33))/LOG(2))))","v":0},null,{"$f":"N33","v":22121},{"$f":"COUNTIF(L8:L8,Y33)","v":0},{"$f":"Z33/(AB4-Z25)","v":0},{"$f":"IF(AA33=0,0,(AA33*((LOG(AA33))/LOG(2))))","v":0},null,{"$f":"N33","v":22121},{"$f":"COUNTIF(L9:L9,AD33)","v":0},{"$f":"AE33/(AG4-AE25)","v":0},{"$f":"IF(AF33=0,0,(AF33*((LOG(AF33))/LOG(2))))","v":0},null,{"$f":"N33","v":22121},{"$f":"COUNTIF(L10:L10,AI33)","v":0},{"$f":"AJ33/(AL4-AJ25)","v":0},{"$f":"IF(AK33=0,0,(AK33*((LOG(AK33))/LOG(2))))","v":0},null,{"$f":"N33","v":22121},{"$f":"COUNTIF(L11:L11,AN33)","v":0},{"$f":"AO33/(AQ4-AO25)","v":0},{"$f":"IF(AP33=0,0,(AP33*((LOG(AP33))/LOG(2))))","v":0},null,{"$f":"N33","v":22121},{"$f":"COUNTIF(L12:L12,AS33)","v":0},{"$f":"AT33/(AV4-AT25)","v":0},{"$f":"IF(AU33=0,0,(AU33*((LOG(AU33))/LOG(2))))","v":0}]
[null,null,null,null,null,null,null,null,null,null,null,null,null,22122,{"$f":"COUNTIF($L$7:$L$500,N34)","v":0},{"$f":"O34/$Q$4","v":0},{"$f":"IF(P34=0,0,(P34*((LOG(P34))/LOG(2))))","v":0},null,null,{"$f":"N34","v":22122},{"$f":"COUNTIF(L7:L7,T34)","v":0},{"$f":"U34/(W4-U25)","v":0},{"$f":"IF(V34=0,0,(V34*((LOG(V34))/LOG(2))))","v":0},null,{"$f":"N34","v":22122},{"$f":"COUNTIF(L8:L8,Y34)","v":0},{"$f":"Z34/(AB4-Z25)","v":0},{"$f":"IF(AA34=0,0,(AA34*((LOG(AA34))/LOG(2))))","v":0},null,{"$f":"N34","v":22122},{"$f":"COUNTIF(L9:L9,AD34)","v":0},{"$f":"AE34/(AG4-AE25)","v":0},{"$f":"IF(AF34=0,0,(AF34*((LOG(AF34))/LOG(2))))","v":0},null,{"$f":"N34","v":22122},{"$f":"COUNTIF(L10:L10,AI34)","v":0},{"$f":"AJ34/(AL4-AJ25)","v":0},{"$f":"IF(AK34=0,0,(AK34*((LOG(AK34))/LOG(2))))","v":0},null,{"$f":"N34","v":22122},{"$f":"COUNTIF(L11:L11,AN34)","v":0},{"$f":"AO34/(AQ4-AO25)","v":0},{"$f":"IF(AP34=0,0,(AP34*((LOG(AP34))/LOG(2))))","v":0},null,{"$f":"N34","v":22122},{"$f":"COUNTIF(L12:L12,AS34)","v":0},{"$f":"AT34/(AV4-AT25)","v":0},{"$f":"IF(AU34=0,0,(AU34*((LOG(AU34))/LOG(2))))","v":0}]
[null,null,null,null,null,null,null,null,null,null,null,null,null,22211,{"$f":"COUNTIF($L$7:$L$500,N35)","v":0},{"$f":"O35/$Q$4","v":0},{"$f":"IF(P35=0,0,(P35*((LOG(P35))/LOG(2))))","v":0},null,null,{"$f":"N35","v":22211},{"$f":"COUNTIF(L7:L7,T35)","v":0},{"$f":"U35/(W4-U25)","v":0},{"$f":"IF(V35=0,0,(V35*((LOG(V35))/LOG(2))))","v":0},null,{"$f":"N35","v":22211},{"$f":"COUNTIF(L8:L8,Y35)","v":0},{"$f":"Z35/(AB4-Z25)","v":0},{"$f":"IF(AA35=0,0,(AA35*((LOG(AA35))/LOG(2))))","v":0},null,{"$f":"N35","v":22211},{"$f":"COUNTIF(L9:L9,AD35)","v":0},{"$f":"AE35/(AG4-AE25)","v":0},{"$f":"IF(AF35=0,0,(AF35*((LOG(AF35))/LOG(2))))","v":0},null,{"$f":"N35","v":22211},{"$f":"COUNTIF(L10:L10,AI35)","v":0},{"$f":"AJ35/(AL4-AJ25)","v":0},{"$f":"IF(AK35=0,0,(AK35*((LOG(AK35))/LOG(2))))","v":0},null,{"$f":"N35","v":22211},{"$f":"COUNTIF(L11:L11,AN35)","v":0},{"$f":"AO35/(AQ4-AO25)","v":0},{"$f":"IF(AP35=0,0,(AP35*((LOG(AP35))/LOG(2))))","v":0},null,{"$f":"N35","v":22211},{"$f":"COUNTIF(L12:L12,AS35)","v":0},{"$f":"AT35/(AV4-AT25)","v":0},{"$f":"IF(AU35=0,0,(AU35*((LOG(AU35))/LOG(2))))","v":0}]
[null,null,null,null,null,null,null,null,null,null,null,null,null,22212,{"$f":"COUNTIF($L$7:$L$500,N36)","v":0},{"$f":"O36/$Q$4","v":0},{"$f":"IF(P36=0,0,(P36*((LOG(P36))/LOG(2))))","v":0},null,null,{"$f":"N36","v":22212},{"$f":"COUNTIF(L7:L7,T36)","v":0},{"$f":"U36/(W4-U25)","v":0},{"$f":"IF(V36=0,0,(V36*((LOG(V36))/LOG(2))))","v":0},null,{"$f":"N36","v":22212},{"$f":"COUNTIF(L8:L8,Y36)","v":0},{"$f":"Z36/(AB4-Z25)","v":0},{"$f":"IF(AA36=0,0,(AA36*((LOG(AA36))/LOG(2))))","v":0},null,{"$f":"N36","v":22212},{"$f":"COUNTIF(L9:L9,AD36)","v":0},{"$f":"AE36/(AG4-AE25)","v":0},{"$f":"IF(AF36=0,0,(AF36*((LOG(AF36))/LOG(2))))","v":0},null,{"$f":"N36","v":22212},{"$f":"COUNTIF(L10:L10,AI36)","v":0},{"$f":"AJ36/(AL4-AJ25)","v":0},{"$f":"IF(AK36=0,0,(AK36*((LOG(AK36))/LOG(2))))","v":0},null,{"$f":"N36","v":22212},{"$f":"COUNTIF(L11:L11,AN36)","v":0},{"$f":"AO36/(AQ4-AO25)","v":0},{"$f":"IF(AP36=0,0,(AP36*((LOG(AP36))/LOG(2))))","v":0},null,{"$f":"N36","v":22212},{"$f":"COUNTIF(L12:L12,AS36)","v":0},{"$f":"AT36/(AV4-AT25)","v":0},{"$f":"IF(AU36=0,0,(AU36*((LOG(AU36))/LOG(2))))","v":0}]
[null,null,null,null,null,null,null,null,null,null,null,null,null,22221,{"$f":"COUNTIF($L$7:$L$500,N37)","v":0},{"$f":"O37/$Q$4","v":0},{"$f":"IF(P37=0,0,(P37*((LOG(P37))/LOG(2))))","v":0},null,null,{"$f":"N37","v":22221},{"$f":"COUNTIF(L7:L7,T37)","v":0},{"$f":"U37/(W4-U25)","v":0},{"$f":"IF(V37=0,0,(V37*((LOG(V37))/LOG(2))))","v":0},null,{"$f":"N37","v":22221},{"$f":"COUNTIF(L8:L8,Y37)","v":0},{"$f":"Z37/(AB4-Z25)","v":0},{"$f":"IF(AA37=0,0,(AA37*((LOG(AA37))/LOG(2))))","v":0},null,{"$f":"N37","v":22221},{"$f":"COUNTIF(L9:L9,AD37)","v":0},{"$f":"AE37/(AG4-AE25)","v":0},{"$f":"IF(AF37=0,0,(AF37*((LOG(AF37))/LOG(2))))","v":0},null,{"$f":"N37","v":22221},{"$f":"COUNTIF(L10:L10,AI37)","v":0},{"$f":"AJ37/(AL4-AJ25)","v":0},{"$f":"IF(AK37=0,0,(AK37*((LOG(AK37))/LOG(2))))","v":0},null,{"$f":"N37","v":22221},{"$f":"COUNTIF(L11:L11,AN37)","v":0},{"$f":"AO37/(AQ4-AO25)","v":0},{"$f":"IF(AP37=0,0,(AP37*((LOG(AP37))/LOG(2))))","v":0},null,{"$f":"N37","v":22221},{"$f":"COUNTIF(L12:L12,AS37)","v":0},{"$f":"AT37/(AV4-AT25)","v":0},{"$f":"IF(AU37=0,0,(AU37*((LOG(AU37))/LOG(2))))","v":0}]
[null,null,null,null,null,null,null,null,null,null,null,null,null,22222,{"$f":"COUNTIF($L$7:$L$500,N38)","v":1},{"$f":"O38/$Q$4","v":0.16666666666666666},{"$f":"IF(P38=0,0,(P38*((LOG(P38))/LOG(2))))","v":-0.43082708345352599},null,null,{"$f":"N38","v":22222},{"$f":"COUNTIF(L7:L7,T38)","v":1},{"$f":"U38/(W4-U25)","v":1},{"$f":"IF(V38=0,0,(V38*((LOG(V38))/LOG(2))))","v":0},null,{"$f":"N38","v":22222},{"$f":"COUNTIF(L8:L8,Y38)","v":0},{"$f":"Z38/(AB4-Z25)","v":0},{"$f":"IF(AA38=0,0,(AA38*((LOG(AA38))/LOG(2))))","v":0},null,{"$f":"N38","v":22222},{"$f":"COUNTIF(L9:L9,AD38)","v":0},{"$f":"AE38/(AG4-AE25)","v":0},{"$f":"IF(AF38=0,0,(AF38*((LOG(AF38))/LOG(2))))","v":0},null,{"$f":"N38","v":22222},{"$f":"COUNTIF(L10:L10,AI38)","v":0},{"$f":"AJ38/(AL4-AJ25)","v":0},{"$f":"IF(AK38=0,0,(AK38*((LOG(AK38))/LOG(2))))","v":0},null,{"$f":"N38","v":22222},{"$f":"COUNTIF(L11:L11,AN38)","v":0},{"$f":"AO38/(AQ4-AO25)","v":0},{"$f":"IF(AP38=0,0,(AP38*((LOG(AP38))/LOG(2))))","v":0},null,{"$f":"N38","v":22222},{"$f":"COUNTIF(L12:L12,AS38)","v":0},{"$f":"AT38/(AV4-AT25)","v":0},{"$f":"IF(AU38=0,0,(AU38*((LOG(AU38))/LOG(2))))","v":0}]
[null,null,null,null,null,null,null,null,null,null,null,null,null,null,null,{"$f":"SUM(P7:P38)","v":0.99999999999999989},{"$f":"-SUM(Q7:Q38)","v":2.5849625007211561},null,null,null,null,{"$f":"SUM(V7:V38)","v":1},{"$f":"-SUM(W7:W38)","v":0},null,null,null,{"$f":"SUM(AA7:AA38)","v":1},{"$f":"-SUM(AB7:AB38)","v":0},null,null,null,{"$f":"SUM(AF7:AF38)","v":1},{"$f":"-SUM(AG7:AG38)","v":0},null,null,null,{"$f":"SUM(AK7:AK38)","v":1},{"$f":"-SUM(AL7:AL38)","v":0},null,null,null,{"$f":"SUM(AP7:AP38)","v":1},{"$f":"-SUM(AQ7:AQ38)","v":0},null,null,null,{"$f":"SUM(AU7:AU38)","v":1},{"$f":"-SUM(AV7:AV38)","v":0}]
[null,null,null,null,null,null,null,null,null,null,null,null,null,null,null,"U=",{"$f":"Q39/(LOG(Q4)/LOG(2))","v":1},null,null,null,null,"U1=",{"$f":"W39/(LOG(W4)/LOG(2))","v":{"$error":"#DIV/0!"}},null,null,null,"U2=",{"$f":"AB39/(LOG(AB4)/LOG(2))","v":{"$error":"#DIV/0!"}},null,null,null,"U3=",{"$f":"AG39/(LOG(AG4)/LOG(2))","v":{"$error":"#DIV/0!"}},null,null,null,"U4=",{"$f":"AL39/(LOG(AL4)/LOG(2))","v":{"$error":"#DIV/0!"}},null,null,null,"U5=",{"$f":"AQ39/(LOG(AQ4)/LOG(2))","v":{"$error":"#DIV/0!"}},null,null,null,"U6=",{"$f":"AV39/(LOG(AV4)/LOG(2))","v":{"$error":"#DIV/0!"}}]
[]
[]
[null,null,null,null,null,null,null,null,null,null,null,null,null,"Total Target Seq"]
[null,null,null,null,null,null,null,null,null,null,null,null,null,{"$f":"COUNTIF(L7:L12,G3)","v":0},null,1,1,1,1,1,1]
[null,null,null,null,null,null,null,null,null,null,null,null,null,null,null,"% of reinforcement given in 6 equal intervals based on number of trials "]
[null,null,null,null,null,null,null,null,null,null,null,null,null,null,null,"%_1","%_2","%_3","%_4","%_5","%_6"]
[null,null,null,null,null,null,null,null,null,null,null,null,null,null,"target sequence",{"$f":"$G$3","v":21121},{"$f":"$G$3","v":21121},{"$f":"$G$3","v":21121},{"$f":"$G$3","v":21121},{"$f":"$G$3","v":21121},{"$f":"$G$3","v":21121}]
[null,null,null,null,null,null,null,null,null,null,null,null,null,null,"total reinforcement",{"$f":"U25","v":0},{"$f":"Z25","v":0},{"$f":"AE25","v":0},{"$f":"AJ25","v":0},{"$f":"AO25","v":0},{"$f":"AT25","v":0}]
[null,null,null,null,null,null,null,null,null,null,null,null,null,null,"% target"]
[null,null,null,null,null,null,null,null,null,null,null,null,null,null,"CCRF"]
[null,null,null,null,null,null,null,null,null,null,null,null,null,null,"% CCRf"]
[null,null,null,null,null,null,null,null,null,null,null,null,null,null,"average response rate",{"$f":"J7/P44","v":107},{"$f":"(J8-J7)/Q44","v":179},{"$f":"(J9-J8)/R44","v":1609},{"$f":"(J10-J9)/S44","v":215},{"$f":"(J11-J10)/T44","v":10851},{"$f":"(J12-J11)/U44","v":8892}]

{"sheet":"!N116920.105","index":18,"n_rows":52,"n_cols":48,"rows_kept":52,"cut":false,"hidden":false,"merged":[[4,39,4,42],[5,39,5,40],[4,44,4,47],[5,44,5,45],[4,24,4,27],[5,24,5,25],[4,29,4,32],[5,29,5,30],[4,34,4,37],[5,34,5,35],[1,1,1,2],[5,13,5,14],[42,13,42,14],[43,13,43,14],[4,19,4,22],[5,19,5,20]]}
["Report for:!N116920.105"]
["Date:","<date>"]
["Hen:","<hen>",null,null,null,"Correct Sequence",{"$f":"Start!J2","v":21121},null,null,null,null,null,null,null,null,"Total Sequences in Data",{"$f":"4994-COUNTBLANK(L7:L5000)","v":20},null,null,null,null,"Total Sequences in Block Data",{"$f":"COUNTA(L7:L9)","v":3},null,null,null,"Total Sequences in Block Data",{"$f":"COUNTA(L10:L13)","v":4},null,null,null,"Total Sequences in Block Data",{"$f":"COUNTA(L14:L16)","v":3},null,null,null,"Total Sequences in Block Data",{"$f":"COUNTA(L17:L19)","v":3},null,null,null,"Total Sequences in Block Data",{"$f":"COUNTA(L20:L23)","v":4},null,null,null,"Total Sequences in Block Data",{"$f":"COUNTA(L24:L26)","v":3}]
[null,null,null,null,null,null,null,null,null,null,null,null,null,null,null,"Total Sequences in Summary",{"$f":"SUM(O7:O38)","v":20},null,null,null,null,"Total Sequences in Block Summary",{"$f":"SUM(U7:U38)","v":3},null,null,null,"Total Sequences in Block Summary",{"$f":"SUM(Z7:Z38)","v":4},null,null,null,"Total Sequences in Block Summary",{"$f":"SUM(AE7:AE38)","v":3},null,null,null,"Total Sequences in Block Summary",{"$f":"SUM(AJ7:AJ38)","v":3},null,null,null,"Total Sequences in Block Summary",{"$f":"SUM(AO7:AO38)","v":4},null,null,null,"Total Sequences in Block Summary",{"$f":"SUM(AT7:AT38)","v":3}]
[null,null,null,null,null,null,null,null,null,null,null,null,null,null,null,null,null,null,null,"Block 1",null,null,null,null,"Block 2",null,null,null,null,"Block 3",null,null,null,null,"Block 4",null,null,null,null,"Block 5",null,null,null,null,"Block 6"]
["Sequence\nComponent\n1","Time\n1","Sequence\nComponent\n2","Time\n2","Sequence\nComponent\n3","Time\n3","Sequence\nComponent\n4","Time\n4","Sequence\nComponent\n5","Time\n5","Correct?\n0=No 1=Yes","Sequence",null,"Frequency",null,"Relative Frequency","Variability",null,null,"Frequency",null,"Relative Frequency","Variability",null,"Frequency",null,"Relative Frequency","Variability",null,"Frequency",null,"Relative Frequency","Variability",null,"Frequency",null,"Relative Frequency","Variability",null,"Frequency",null,"Relative Frequency","Variability",null,"Frequency",null,"Relative Frequency","Variability"]
[12,10,24,24,13,85,23,95,13,115,1,12121,null,11111,{"$f":"COUNTIF($L$7:$L$500,N7)","v":1},{"$f":"O7/$Q$4","v":0.05},{"$f":"IF(P7=0,0,(P7*((LOG(P7))/LOG(2))))","v":-0.21609640474436814},null,null,{"$f":"N7","v":11111},{"$f":"COUNTIF(L7:L9,T7)","v":0},{"$f":"U7/(W4-U25)","v":0},{"$f":"IF(V7=0,0,(V7*((LOG(V7))/LOG(2))))","v":0},null,{"$f":"N7","v":11111},{"$f":"COUNTIF(L10:L13,Y7)","v":0},{"$f":"Z7/(AB4-Z25)","v":0},{"$f":"IF(AA7=0,0,(AA7*((LOG(AA7))/LOG(2))))","v":0},null,{"$f":"N7","v":11111},{"$f":"COUNTIF(L14:L16,AD7)","v":0},{"$f":"AE7/(AG4-AE25)","v":0},{"$f":"IF(AF7=0,0,(AF7*((LOG(AF7))/LOG(2))))","v":0},null,{"$f":"N7","v":11111},{"$f":"COUNTIF(L17:L19,AI7)","v":0},{"$f":"AJ7/(AL4-AJ25)","v":0},{"$f":"IF(AK7=0,0,(AK7*((LOG(AK7))/LOG(2))))","v":0},null,{"$f":"N7","v":11111},{"$f":"COUNTIF(L20:L23,AN7)","v":1},{"$f":"AO7/(AQ4-AO25)","v":0.25},{"$f":"IF(AP7=0,0,(AP7*((LOG(AP7))/LOG(2))))","v":-0.5},null,{"$f":"N7","v":11111},{"$f":"COUNTIF(L24:L26,AS7)","v":0},{"$f":"AT7/(AV4-AT25)","v":0},{"$f":"IF(AU7=0,0,(AU7*((LOG(AU7))/LOG(2))))","v":0}]
[21,218,22,233,13,244,23,250,24,272,0,22122,null,11112,{"$f":"COUNTIF($L$7:$L$500,N8)","v":0},{"$f":"O8/$Q$4","v":0},{"$f":"IF(P8=0,0,(P8*((LOG(P8))/LOG(2))))","v":0},null,null,{"$f":"N8","v":11112},{"$f":"COUNTIF(L7:L9,T8)","v":0},{"$f":"U8/(W4-U25)","v":0},{"$f":"IF(V8=0,0,(V8*((LOG(V8))/LOG(2))))","v":0},null,{"$f":"N8","v":11112},{"$f":"COUNTIF(L10:L13,Y8)","v":0},{"$f":"Z8/(AB4-Z25)","v":0},{"$f":"IF(AA8=0,0,(AA8*((LOG(AA8))/LOG(2))))","v":0},null,{"$f":"N8","v":11112},{"$f":"COUNTIF(L14:L16,AD8)","v":0},{"$f":"AE8/(AG4-AE25)","v":0},{"$f":"IF(AF8=0,0,(AF8*((LOG(AF8))/LOG(2))))","v":0},null,{"$f":"N8","v":11112},{"$f":"COUNTIF(L17:L19,AI8)","v":0},{"$f":"AJ8/(AL4-AJ25)","v":0},{"$f":"IF(AK8=0,0,(AK8*((LOG(AK8))/LOG(2))))","v":0},null,{"$f":"N8","v":11112},{"$f":"COUNTIF(L20:L23,AN8)","v":0},{"$f":"AO8/(AQ4-AO25)","v":0},{"$f":"IF(AP8=0,0,(AP8*((LOG(AP8))/LOG(2))))","v":0},null,{"$f":"N8","v":11112},{"$f":"COUNTIF(L24:L26,AS8)","v":0},{"$f":"AT8/(AV4-AT25)","v":0},{"$f":"IF(AU8=0,0,(AU8*((LOG(AU8))/LOG(2))))","v":0}]
[21,398,22,413,13,424,23,433,13,444,0,22121,null,11121,{"$f":"COUNTIF($L$7:$L$500,N9)","v":1},{"$f":"O9/$Q$4","v":0.05},{"$f":"IF(P9=0,0,(P9*((LOG(P9))/LOG(2))))","v":-0.21609640474436814},null,null,{"$f":"N9","v":11121},{"$f":"COUNTIF(L7:L9,T9)","v":0},{"$f":"U9/(W4-U25)","v":0},{"$f":"IF(V9=0,0,(V9*((LOG(V9))/LOG(2))))","v":0},null,{"$f":"N9","v":11121},{"$f":"COUNTIF(L10:L13,Y9)","v":0},{"$f":"Z9/(AB4-Z25)","v":0},{"$f":"IF(AA9=0,0,(AA9*((LOG(AA9))/LOG(2))))","v":0},null,{"$f":"N9","v":11121},{"$f":"COUNTIF(L14:L16,AD9)","v":0},{"$f":"AE9/(AG4-AE25)","v":0},{"$f":"IF(AF9=0,0,(AF9*((LOG(AF9))/LOG(2))))","v":0},null,{"$f":"N9","v":11121},{"$f":"COUNTIF(L17:L19,AI9)","v":0},{"$f":"AJ9/(AL4-AJ25)","v":0},{"$f":"IF(AK9=0,0,(AK9*((LOG(AK9))/LOG(2))))","v":0},null,{"$f":"N9","v":11121},{"$f":"COUNTIF(L20:L23,AN9)","v":1},{"$f":"AO9/(AQ4-AO25)","v":0.25},{"$f":"IF(AP9=0,0,(AP9*((LOG(AP9))/LOG(2))))","v":-0.5},null,{"$f":"N9","v":11121},{"$f":"COUNTIF(L24:L26,AS9)","v":0},{"$f":"AT9/(AV4-AT25)","v":0},{"$f":"IF(AU9=0,0,(AU9*((LOG(AU9))/LOG(2))))","v":0}]
[12,608,24,618,13,639,23,647,13,661,0,12121,null,11122,{"$f":"COUNTIF($L$7:$L$500,N10)","v":1},{"$f":"O10/$Q$4","v":0.05},{"$f":"IF(P10=0,0,(P10*((LOG(P10))/LOG(2))))","v":-0.21609640474436814},null,null,{"$f":"N10","v":11122},{"$f":"COUNTIF(L7:L9,T10)","v":0},{"$f":"U10/(W4-U25)","v":0},{"$f":"IF(V10=0,0,(V10*((LOG(V10))/LOG(2))))","v":0},null,{"$f":"N10","v":11122},{"$f":"COUNTIF(L10:L13,Y10)","v":0},{"$f":"Z10/(AB4-Z25)","v":0},{"$f":"IF(AA10=0,0,(AA10*((LOG(AA10))/LOG(2))))","v":0},null,{"$f":"N10","v":11122},{"$f":"COUNTIF(L14:L16,AD10)","v":0},{"$f":"AE10/(AG4-AE25)","v":0},{"$f":"IF(AF10=0,0,(AF10*((LOG(AF10))/LOG(2))))","v":0},null,{"$f":"N10","v":11122},{"$f":"COUNTIF(L17:L19,AI10)","v":0},{"$f":"AJ10/(AL4-AJ25)","v":0},{"$f":"IF(AK10=0,0,(AK10*((LOG(AK10))/LOG(2))))","v":0},null,{"$f":"N10","v":11122},{"$f":"COUNTIF(L20:L23,AN10)","v":1},{"$f":"AO10/(AQ4-AO25)","v":0.25},{"$f":"IF(AP10=0,0,(AP10*((LOG(AP10))/LOG(2))))","v":-0.5},null,{"$f":"N10","v":11122},{"$f":"COUNTIF(L24:L26,AS10)","v":0},{"$f":"AT10/(AV4-AT25)","v":0},{"$f":"IF(AU10=0,0,(AU10*((LOG(AU10))/LOG(2))))","v":0}]
[12,862,24,874,13,884,23,893,13,904,0,12121,null,11211,{"$f":"COUNTIF($L$7:$L$500,N11)","v":1},{"$f":"O11/$Q$4","v":0.05},{"$f":"IF(P11=0,0,(P11*((LOG(P11))/LOG(2))))","v":-0.21609640474436814},null,null,{"$f":"N11","v":11211},{"$f":"COUNTIF(L7:L9,T11)","v":0},{"$f":"U11/(W4-U25)","v":0},{"$f":"IF(V11=0,0,(V11*((LOG(V11))/LOG(2))))","v":0},null,{"$f":"N11","v":11211},{"$f":"COUNTIF(L10:L13,Y11)","v":0},{"$f":"Z11/(AB4-Z25)","v":0},{"$f":"IF(AA11=0,0,(AA11*((LOG(AA11))/LOG(2))))","v":0},null,{"$f":"N11","v":11211},{"$f":"COUNTIF(L14:L16,AD11)","v":0},{"$f":"AE11/(AG4-AE25)","v":0},{"$f":"IF(AF11=0,0,(AF11*((LOG(AF11))/LOG(2))))","v":0},null,{"$f":"N11","v":11211},{"$f":"COUNTIF(L17:L19,AI11)","v":0},{"$f":"AJ11/(AL4-AJ25)","v":0},{"$f":"IF(AK11=0,0,(AK11*((LOG(AK11))/LOG(2))))","v":0},null,{"$f":"N11","v":11211},{"$f":"COUNTIF(L20:L23,AN11)","v":1},{"$f":"AO11/(AQ4-AO25)","v":0.25},{"$f":"IF(AP11=0,0,(AP11*((LOG(AP11))/LOG(2))))","v":-0.5},null,{"$f":"N11","v":11211},{"$f":"COUNTIF(L24:L26,AS11)","v":0},{"$f":"AT11/(AV4-AT25)","v":0},{"$f":"IF(AU11=0,0,(AU11*((LOG(AU11))/LOG(2))))","v":0}]
[21,1071,22,1084,24,1094,14,1105,24,1114,0,22212,null,11212,{"$f":"COUNTIF($L$7:$L$500,N12)","v":3},{"$f":"O12/$Q$4","v":0.15},{"$f":"IF(P12=0,0,(P12*((LOG(P12))/LOG(2))))","v":-0.41054483912493089},null,null,{"$f":"N12","v":11212},{"$f":"COUNTIF(L7:L9,T12)","v":0},{"$f":"U12/(W4-U25)","v":0},{"$f":"IF(V12=0,0,(V12*((LOG(V12))/LOG(2))))","v":0},null,{"$f":"N12","v":11212},{"$f":"COUNTIF(L10:L13,Y12)","v":0},{"$f":"Z12/(AB4-Z25)","v":0},{"$f":"IF(AA12=0,0,(AA12*((LOG(AA12))/LOG(2))))","v":0},null,{"$f":"N12","v":11212},{"$f":"COUNTIF(L14:L16,AD12)","v":0},{"$f":"AE12/(AG4-AE25)","v":0},{"$f":"IF(AF12=0,0,(AF12*((LOG(AF12))/LOG(2))))","v":0},null,{"$f":"N12","v":11212},{"$f":"COUNTIF(L17:L19,AI12)","v":2},{"$f":"AJ12/(AL4-AJ25)","v":0.66666666666666663},{"$f":"IF(AK12=0,0,(AK12*((LOG(AK12))/LOG(2))))","v":-0.38997500048077083},null,{"$f":"N12","v":11212},{"$f":"COUNTIF(L20:L23,AN12)","v":0},{"$f":"AO12/(AQ4-AO25)","v":0},{"$f":"IF(AP12=0,0,(AP12*((LOG(AP12))/LOG(2))))","v":0},null,{"$f":"N12","v":11212},{"$f":"COUNTIF(L24:L26,AS12)","v":1},{"$f":"AT12/(AV4-AT25)","v":0.33333333333333331},{"$f":"IF(AU12=0,0,(AU12*((LOG(AU12))/LOG(2))))","v":-0.52832083357371862}]
[12,1331,13,1345,24,1786,23,1816,24,1833,0,11222,null,11221,{"$f":"COUNTIF($L$7:$L$500,N13)","v":0},{"$f":"O13/$Q$4","v":0},{"$f":"IF(P13=0,0,(P13*((LOG(P13))/LOG(2))))","v":0},null,null,{"$f":"N13","v":11221},{"$f":"COUNTIF(L7:L9,T13)","v":0},{"$f":"U13/(W4-U25)","v":0},{"$f":"IF(V13=0,0,(V13*((LOG(V13))/LOG(2))))","v":0},null,{"$f":"N13","v":11221},{"$f":"COUNTIF(L10:L13,Y13)","v":0},{"$f":"Z13/(AB4-Z25)","v":0},{"$f":"IF(AA13=0,0,(AA13*((LOG(AA13))/LOG(2))))","v":0},null,{"$f":"N13","v":11221},{"$f":"COUNTIF(L14:L16,AD13)","v":0},{"$f":"AE13/(AG4-AE25)","v":0},{"$f":"IF(AF13=0,0,(AF13*((LOG(AF13))/LOG(2))))","v":0},null,{"$f":"N13","v":11221},{"$f":"COUNTIF(L17:L19,AI13)","v":0},{"$f":"AJ13/(AL4-AJ25)","v":0},{"$f":"IF(AK13=0,0,(AK13*((LOG(AK13))/LOG(2))))","v":0},null,{"$f":"N13","v":11221},{"$f":"COUNTIF(L20:L23,AN13)","v":0},{"$f":"AO13/(AQ4-AO25)","v":0},{"$f":"IF(AP13=0,0,(AP13*((LOG(AP13))/LOG(2))))","v":0},null,{"$f":"N13","v":11221},{"$f":"COUNTIF(L24:L26,AS13)","v":0},{"$f":"AT13/(AV4-AT25)","v":0},{"$f":"IF(AU13=0,0,(AU13*((LOG(AU13))/LOG(2))))","v":0}]
[21,1961,22,1982,13,2039,23,2048,24,2470,0,22122,null,11222,{"$f":"COUNTIF($L$7:$L$500,N14)","v":1},{"$f":"O14/$Q$4","v":0.05},{"$f":"IF(P14=0,0,(P14*((LOG(P14))/LOG(2))))","v":-0.21609640474436814},null,null,{"$f":"N14","v":11222},{"$f":"COUNTIF(L7:L9,T14)","v":0},{"$f":"U14/(W4-U25)","v":0},{"$f":"IF(V14=0,0,(V14*((LOG(V14))/LOG(2))))","v":0},null,{"$f":"N14","v":11222},{"$f":"COUNTIF(L10:L13,Y14)","v":1},{"$f":"Z14/(AB4-Z25)","v":0.25},{"$f":"IF(AA14=0,0,(AA14*((LOG(AA14))/LOG(2))))","v":-0.5},null,{"$f":"N14","v":11222},{"$f":"COUNTIF(L14:L16,AD14)","v":0},{"$f":"AE14/(AG4-AE25)","v":0},{"$f":"IF(AF14=0,0,(AF14*((LOG(AF14))/LOG(2))))","v":0},null,{"$f":"N14","v":11222},{"$f":"COUNTIF(L17:L19,AI14)","v":0},{"$f":"AJ14/(AL4-AJ25)","v":0},{"$f":"IF(AK14=0,0,(AK14*((LOG(AK14))/LOG(2))))","v":0},null,{"$f":"N14","v":11222},{"$f":"COUNTIF(L20:L23,AN14)","v":0},{"$f":"AO14/(AQ4-AO25)","v":0},{"$f":"IF(AP14=0,0,(AP14*((LOG(AP14))/LOG(2))))","v":0},null,{"$f":"N14","v":11222},{"$f":"COUNTIF(L24:L26,AS14)","v":0},{"$f":"AT14/(AV4-AT25)","v":0},{"$f":"IF(AU14=0,0,(AU14*((LOG(AU14))/LOG(2))))","v":0}]
[21,2965,11,2977,22,2987,23,3007,24,3032,0,21222,null,12111,{"$f":"COUNTIF($L$7:$L$500,N15)","v":0},{"$f":"O15/$Q$4","v":0},{"$f":"IF(P15=0,0,(P15*((LOG(P15))/LOG(2))))","v":0},null,null,{"$f":"N15","v":12111},{"$f":"COUNTIF(L7:L9,T15)","v":0},{"$f":"U15/(W4-U25)","v":0},{"$f":"IF(V15=0,0,(V15*((LOG(V15))/LOG(2))))","v":0},null,{"$f":"N15","v":12111},{"$f":"COUNTIF(L10:L13,Y15)","v":0},{"$f":"Z15/(AB4-Z25)","v":0},{"$f":"IF(AA15=0,0,(AA15*((LOG(AA15))/LOG(2))))","v":0},null,{"$f":"N15","v":12111},{"$f":"COUNTIF(L14:L16,AD15)","v":0},{"$f":"AE15/(AG4-AE25)","v":0},{"$f":"IF(AF15=0,0,(AF15*((LOG(AF15))/LOG(2))))","v":0},null,{"$f":"N15","v":12111},{"$f":"COUNTIF(L17:L19,AI15)","v":0},{"$f":"AJ15/(AL4-AJ25)","v":0},{"$f":"IF(AK15=0,0,(AK15*((LOG(AK15))/LOG(2))))","v":0},null,{"$f":"N15","v":12111},{"$f":"COUNTIF(L20:L23,AN15)","v":0},{"$f":"AO15/(AQ4-AO25)","v":0},{"$f":"IF(AP15=0,0,(AP15*((LOG(AP15))/LOG(2))))","v":0},null,{"$f":"N15","v":12111},{"$f":"COUNTIF(L24:L26,AS15)","v":0},{"$f":"AT15/(AV4-AT25)","v":0},{"$f":"IF(AU15=0,0,(AU15*((LOG(AU15))/LOG(2))))","v":0}]
[21,3611,11,3625,22,3635,14,3649,24,3659,0,21212,null,12112,{"$f":"COUNTIF($L$7:$L$500,N16)","v":0},{"$f":"O16/$Q$4","v":0},{"$f":"IF(P16=0,0,(P16*((LOG(P16))/LOG(2))))","v":0},null,null,{"$f":"N16","v":12112},{"$f":"COUNTIF(L7:L9,T16)","v":0},{"$f":"U16/(W4-U25)","v":0},{"$f":"IF(V16=0,0,(V16*((LOG(V16))/LOG(2))))","v":0},null,{"$f":"N16","v":12112},{"$f":"COUNTIF(L10:L13,Y16)","v":0},{"$f":"Z16/(AB4-Z25)","v":0},{"$f":"IF(AA16=0,0,(AA16*((LOG(AA16))/LOG(2))))","v":0},null,{"$f":"N16","v":12112},{"$f":"COUNTIF(L14:L16,AD16)","v":0},{"$f":"AE16/(AG4-AE25)","v":0},{"$f":"IF(AF16=0,0,(AF16*((LOG(AF16))/LOG(2))))","v":0},null,{"$f":"N16","v":12112},{"$f":"COUNTIF(L17:L19,AI16)","v":0},{"$f":"AJ16/(AL4-AJ25)","v":0},{"$f":"IF(AK16=0,0,(AK16*((LOG(AK16))/LOG(2))))","v":0},null,{"$f":"N16","v":12112},{"$f":"COUNTIF(L20:L23,AN16)","v":0},{"$f":"AO16/(AQ4-AO25)","v":0},{"$f":"IF(AP16=0,0,(AP16*((LOG(AP16))/LOG(2))))","v":0},null,{"$f":"N16","v":12112},{"$f":"COUNTIF(L24:L26,AS16)","v":0},{"$f":"AT16/(AV4-AT25)","v":0},{"$f":"IF(AU16=0,0,(AU16*((LOG(AU16))/LOG(2))))","v":0}]
[12,4327,24,4337,13,4364,23,4374,13,4386,0,12121,null,12121,{"$f":"COUNTIF($L$7:$L$500,N17)","v":4},{"$f":"O17/$Q$4","v":0.2},{"$f":"IF(P17=0,0,(P17*((LOG(P17))/LOG(2))))","v":-0.46438561897747244},null,null,{"$f":"N17","v":12121},{"$f":"COUNTIF(L7:L9,T17)","v":1},{"$f":"U17/(W4-U25)","v":0.33333333333333331},{"$f":"IF(V17=0,0,(V17*((LOG(V17))/LOG(2))))","v":-0.52832083357371862},null,{"$f":"N17","v":12121},{"$f":"COUNTIF(L10:L13,Y17)","v":2},{"$f":"Z17/(AB4-Z25)","v":0.5},{"$f":"IF(AA17=0,0,(AA17*((LOG(AA17))/LOG(2))))","v":-0.5},null,{"$f":"N17","v":12121},{"$f":"COUNTIF(L14:L16,AD17)","v":0},{"$f":"AE17/(AG4-AE25)","v":0},{"$f":"IF(AF17=0,0,(AF17*((LOG(AF17))/LOG(2))))","v":0},null,{"$f":"N17","v":12121},{"$f":"COUNTIF(L17:L19,AI17)","v":1},{"$f":"AJ17/(AL4-AJ25)","v":0.33333333333333331},{"$f":"IF(AK17=0,0,(AK17*((LOG(AK17))/LOG(2))))","v":-0.52832083357371862},null,{"$f":"N17","v":12121},{"$f":"COUNTIF(L20:L23,AN17)","v":0},{"$f":"AO17/(AQ4-AO25)","v":0},{"$f":"IF(AP17=0,0,(AP17*((LOG(AP17))/LOG(2))))","v":0},null,{"$f":"N17","v":12121},{"$f":"COUNTIF(L24:L26,AS17)","v":0},{"$f":"AT17/(AV4-AT25)","v":0},{"$f":"IF(AU17=0,0,(AU17*((LOG(AU17))/LOG(2))))","v":0}]
[12,9004,13,11765,24,11775,14,11789,24,11799,0,11212,null,12122,{"$f":"COUNTIF($L$7:$L$500,N18)","v":0},{"$f":"O18/$Q$4","v":0},{"$f":"IF(P18=0,0,(P18*((LOG(P18))/LOG(2))))","v":0},null,null,{"$f":"N18","v":12122},{"$f":"COUNTIF(L7:L9,T18)","v":0},{"$f":"U18/(W4-U25)","v":0},{"$f":"IF(V18=0,0,(V18*((LOG(V18))/LOG(2))))","v":0},null,{"$f":"N18","v":12122},{"$f":"COUNTIF(L10:L13,Y18)","v":0},{"$f":"Z18/(AB4-Z25)","v":0},{"$f":"IF(AA18=0,0,(AA18*((LOG(AA18))/LOG(2))))","v":0},null,{"$f":"N18","v":12122},{"$f":"COUNTIF(L14:L16,AD18)","v":0},{"$f":"AE18/(AG4-AE25)","v":0},{"$f":"IF(AF18=0,0,(AF18*((LOG(AF18))/LOG(2))))","v":0},null,{"$f":"N18","v":12122},{"$f":"COUNTIF(L17:L19,AI18)","v":0},{"$f":"AJ18/(AL4-AJ25)","v":0},{"$f":"IF(AK18=0,0,(AK18*((LOG(AK18))/LOG(2))))","v":0},null,{"$f":"N18","v":12122},{"$f":"COUNTIF(L20:L23,AN18)","v":0},{"$f":"AO18/(AQ4-AO25)","v":0},{"$f":"IF(AP18=0,0,(AP18*((LOG(AP18))/LOG(2))))","v":0},null,{"$f":"N18","v":12122},{"$f":"COUNTIF(L24:L26,AS18)","v":0},{"$f":"AT18/(AV4-AT25)","v":0},{"$f":"IF(AU18=0,0,(AU18*((LOG(AU18))/LOG(2))))","v":0}]
[12,11929,13,11940,24,12018,14,12032,24,12041,0,11212,null,12211,{"$f":"COUNTIF($L$7:$L$500,N19)","v":0},{"$f":"O19/$Q$4","v":0},{"$f":"IF(P19=0,0,(P19*((LOG(P19))/LOG(2))))","v":0},null,null,{"$f":"N19","v":12211},{"$f":"COUNTIF(L7:L9,T19)","v":0},{"$f":"U19/(W4-U25)","v":0},{"$f":"IF(V19=0,0,(V19*((LOG(V19))/LOG(2))))","v":0},null,{"$f":"N19","v":12211},{"$f":"COUNTIF(L10:L13,Y19)","v":0},{"$f":"Z19/(AB4-Z25)","v":0},{"$f":"IF(AA19=0,0,(AA19*((LOG(AA19))/LOG(2))))","v":0},null,{"$f":"N19","v":12211},{"$f":"COUNTIF(L14:L16,AD19)","v":0},{"$f":"AE19/(AG4-AE25)","v":0},{"$f":"IF(AF19=0,0,(AF19*((LOG(AF19))/LOG(2))))","v":0},null,{"$f":"N19","v":12211},{"$f":"COUNTIF(L17:L19,AI19)","v":0},{"$f":"AJ19/(AL4-AJ25)","v":0},{"$f":"IF(AK19=0,0,(AK19*((LOG(AK19))/LOG(2))))","v":0},null,{"$f":"N19","v":12211},{"$f":"COUNTIF(L20:L23,AN19)","v":0},{"$f":"AO19/(AQ4-AO25)","v":0},{"$f":"IF(AP19=0,0,(AP19*((LOG(AP19))/LOG(2))))","v":0},null,{"$f":"N19","v":12211},{"$f":"COUNTIF(L24:L26,AS19)","v":0},{"$f":"AT19/(AV4-AT25)","v":0},{"$f":"IF(AU19=0,0,(AU19*((LOG(AU19))/LOG(2))))","v":0}]
[12,12488,13,12509,24,12528,14,12538,13,12560,0,11211,null,12212,{"$f":"COUNTIF($L$7:$L$500,N20)","v":0},{"$f":"O20/$Q$4","v":0},{"$f":"IF(P20=0,0,(P20*((LOG(P20))/LOG(2))))","v":0},null,null,{"$f":"N20","v":12212},{"$f":"COUNTIF(L7:L9,T20)","v":0},{"$f":"U20/(W4-U25)","v":0},{"$f":"IF(V20=0,0,(V20*((LOG(V20))/LOG(2))))","v":0},null,{"$f":"N20","v":12212},{"$f":"COUNTIF(L10:L13,Y20)","v":0},{"$f":"Z20/(AB4-Z25)","v":0},{"$f":"IF(AA20=0,0,(AA20*((LOG(AA20))/LOG(2))))","v":0},null,{"$f":"N20","v":12212},{"$f":"COUNTIF(L14:L16,AD20)","v":0},{"$f":"AE20/(AG4-AE25)","v":0},{"$f":"IF(AF20=0,0,(AF20*((LOG(AF20))/LOG(2))))","v":0},null,{"$f":"N20","v":12212},{"$f":"COUNTIF(L17:L19,AI20)","v":0},{"$f":"AJ20/(AL4-AJ25)","v":0},{"$f":"IF(AK20=0,0,(AK20*((LOG(AK20))/LOG(2))))","v":0},null,{"$f":"N20","v":12212},{"$f":"COUNTIF(L20:L23,AN20)","v":0},{"$f":"AO20/(AQ4-AO25)","v":0},{"$f":"IF(AP20=0,0,(AP20*((LOG(AP20))/LOG(2))))","v":0},null,{"$f":"N20","v":12212},{"$f":"COUNTIF(L24:L26,AS20)","v":0},{"$f":"AT20/(AV4-AT25)","v":0},{"$f":"IF(AU20=0,0,(AU20*((LOG(AU20))/LOG(2))))","v":0}]
[12,12788,13,12824,13,12836,23,12845,13,12860,0,11121,null,12221,{"$f":"COUNTIF($L$7:$L$500,N21)","v":0},{"$f":"O21/$Q$4","v":0},{"$f":"IF(P21=0,0,(P21*((LOG(P21))/LOG(2))))","v":0},null,null,{"$f":"N21","v":12221},{"$f":"COUNTIF(L7:L9,T21)","v":0},{"$f":"U21/(W4-U25)","v":0},{"$f":"IF(V21=0,0,(V21*((LOG(V21))/LOG(2))))","v":0},null,{"$f":"N21","v":12221},{"$f":"COUNTIF(L10:L13,Y21)","v":0},{"$f":"Z21/(AB4-Z25)","v":0},{"$f":"IF(AA21=0,0,(AA21*((LOG(AA21))/LOG(2))))","v":0},null,{"$f":"N21","v":12221},{"$f":"COUNTIF(L14:L16,AD21)","v":0},{"$f":"AE21/(AG4-AE25)","v":0},{"$f":"IF(AF21=0,0,(AF21*((LOG(AF21))/LOG(2))))","v":0},null,{"$f":"N21","v":12221},{"$f":"COUNTIF(L17:L19,AI21)","v":0},{"$f":"AJ21/(AL4-AJ25)","v":0},{"$f":"IF(AK21=0,0,(AK21*((LOG(AK21))/LOG(2))))","v":0},null,{"$f":"N21","v":12221},{"$f":"COUNTIF(L20:L23,AN21)","v":0},{"$f":"AO21/(AQ4-AO25)","v":0},{"$f":"IF(AP21=0,0,(AP21*((LOG(AP21))/LOG(2))))","v":0},null,{"$f":"N21","v":12221},{"$f":"COUNTIF(L24:L26,AS21)","v":0},{"$f":"AT21/(AV4-AT25)","v":0},{"$f":"IF(AU21=0,0,(AU21*((LOG(AU21))/LOG(2))))","v":0}]
[12,13434,13,13457,13,13471,14,13481,13,13497,0,11111,null,12222,{"$f":"COUNTIF($L$7:$L$500,N22)","v":0},{"$f":"O22/$Q$4","v":0},{"$f":"IF(P22=0,0,(P22*((LOG(P22))/LOG(2))))","v":0},null,null,{"$f":"N22","v":12222},{"$f":"COUNTIF(L7:L9,T22)","v":0},{"$f":"U22/(W4-U25)","v":0},{"$f":"IF(V22=0,0,(V22*((LOG(V22))/LOG(2))))","v":0},null,{"$f":"N22","v":12222},{"$f":"COUNTIF(L10:L13,Y22)","v":0},{"$f":"Z22/(AB4-Z25)","v":0},{"$f":"IF(AA22=0,0,(AA22*((LOG(AA22))/LOG(2))))","v":0},null,{"$f":"N22","v":12222},{"$f":"COUNTIF(L14:L16,AD22)","v":0},{"$f":"AE22/(AG4-AE25)","v":0},{"$f":"IF(AF22=0,0,(AF22*((LOG(AF22))/LOG(2))))","v":0},null,{"$f":"N22","v":12222},{"$f":"COUNTIF(L17:L19,AI22)","v":0},{"$f":"AJ22/(AL4-AJ25)","v":0},{"$f":"IF(AK22=0,0,(AK22*((LOG(AK22))/LOG(2))))","v":0},null,{"$f":"N22","v":12222},{"$f":"COUNTIF(L20:L23,AN22)","v":0},{"$f":"AO22/(AQ4-AO25)","v":0},{"$f":"IF(AP22=0,0,(AP22*((LOG(AP22))/LOG(2))))","v":0},null,{"$f":"N22","v":12222},{"$f":"COUNTIF(L24:L26,AS22)","v":0},{"$f":"AT22/(AV4-AT25)","v":0},{"$f":"IF(AU22=0,0,(AU22*((LOG(AU22))/LOG(2))))","v":0}]
[12,14428,13,14438,13,15236,23,15279,24,15331,0,11122,null,21111,{"$f":"COUNTIF($L$7:$L$500,N23)","v":0},{"$f":"O23/$Q$4","v":0},{"$f":"IF(P23=0,0,(P23*((LOG(P23))/LOG(2))))","v":0},null,null,{"$f":"N23","v":21111},{"$f":"COUNTIF(L7:L9,T23)","v":0},{"$f":"U23/(W4-U25)","v":0},{"$f":"IF(V23=0,0,(V23*((LOG(V23))/LOG(2))))","v":0},null,{"$f":"N23","v":21111},{"$f":"COUNTIF(L10:L13,Y23)","v":0},{"$f":"Z23/(AB4-Z25)","v":0},{"$f":"IF(AA23=0,0,(AA23*((LOG(AA23))/LOG(2))))","v":0},null,{"$f":"N23","v":21111},{"$f":"COUNTIF(L14:L16,AD23)","v":0},{"$f":"AE23/(AG4-AE25)","v":0},{"$f":"IF(AF23=0,0,(AF23*((LOG(AF23))/LOG(2))))","v":0},null,{"$f":"N23","v":21111},{"$f":"COUNTIF(L17:L19,AI23)","v":0},{"$f":"AJ23/(AL4-AJ25)","v":0},{"$f":"IF(AK23=0,0,(AK23*((LOG(AK23))/LOG(2))))","v":0},null,{"$f":"N23","v":21111},{"$f":"COUNTIF(L20:L23,AN23)","v":0},{"$f":"AO23/(AQ4-AO25)","v":0},{"$f":"IF(AP23=0,0,(AP23*((LOG(AP23))/LOG(2))))","v":0},null,{"$f":"N23","v":21111},{"$f":"COUNTIF(L24:L26,AS23)","v":0},{"$f":"AT23/(AV4-AT25)","v":0},{"$f":"IF(AU23=0,0,(AU23*((LOG(AU23))/LOG(2))))","v":0}]
[21,17699,22,17718,24,17731,23,17756,13,19182,0,22221,null,21112,{"$f":"COUNTIF($L$7:$L$500,N24)","v":0},{"$f":"O24/$Q$4","v":0},{"$f":"IF(P24=0,0,(P24*((LOG(P24))/LOG(2))))","v":0},null,null,{"$f":"N24","v":21112},{"$f":"COUNTIF(L7:L9,T24)","v":0},{"$f":"U24/(W4-U25)","v":0},{"$f":"IF(V24=0,0,(V24*((LOG(V24))/LOG(2))))","v":0},null,{"$f":"N24","v":21112},{"$f":"COUNTIF(L10:L13,Y24)","v":0},{"$f":"Z24/(AB4-Z25)","v":0},{"$f":"IF(AA24=0,0,(AA24*((LOG(AA24))/LOG(2))))","v":0},null,{"$f":"N24","v":21112},{"$f":"COUNTIF(L14:L16,AD24)","v":0},{"$f":"AE24/(AG4-AE25)","v":0},{"$f":"IF(AF24=0,0,(AF24*((LOG(AF24))/LOG(2))))","v":0},null,{"$f":"N24","v":21112},{"$f":"COUNTIF(L17:L19,AI24)","v":0},{"$f":"AJ24/(AL4-AJ25)","v":0},{"$f":"IF(AK24=0,0,(AK24*((LOG(AK24))/LOG(2))))","v":0},null,{"$f":"N24","v":21112},{"$f":"COUNTIF(L20:L23,AN24)","v":0},{"$f":"AO24/(AQ4-AO25)","v":0},{"$f":"IF(AP24=0,0,(AP24*((LOG(AP24))/LOG(2))))","v":0},null,{"$f":"N24","v":21112},{"$f":"COUNTIF(L24:L26,AS24)","v":0},{"$f":"AT24/(AV4-AT25)","v":0},{"$f":"IF(AU24=0,0,(AU24*((LOG(AU24))/LOG(2))))","v":0}]
[21,19423,22,19434,13,19444,23,19454,13,19468,0,22121,null,21121,{"$f":"COUNTIF($L$7:$L$500,N25)","v":0},{"$f":"O25/$Q$4","v":0},{"$f":"IF(P25=0,0,(P25*((LOG(P25))/LOG(2))))","v":0},null,null,{"$f":"N25","v":21121},{"$f":"COUNTIF(L7:L9,T25)","v":0},null,null,null,{"$f":"N25","v":21121},{"$f":"COUNTIF(L10:L13,Y25)","v":0},null,null,null,{"$f":"N25","v":21121},{"$f":"COUNTIF(L14:L16,AD25)","v":0},null,null,null,{"$f":"N25","v":21121},{"$f":"COUNTIF(L17:L19,AI25)","v":0},null,null,null,{"$f":"N25","v":21121},{"$f":"COUNTIF(L20:L23,AN25)","v":0},null,null,null,{"$f":"N25","v":21121},{"$f":"COUNTIF(L24:L26,AS25)","v":0}]
[12,20115,13,20126,24,20147,14,20159,24,20168,0,11212,null,21122,{"$f":"COUNTIF($L$7:$L$500,N26)","v":0},{"$f":"O26/$Q$4","v":0},{"$f":"IF(P26=0,0,(P26*((LOG(P26))/LOG(2))))","v":0},null,null,{"$f":"N26","v":21122},{"$f":"COUNTIF(L7:L9,T26)","v":0},{"$f":"U26/(W4-U25)","v":0},{"$f":"IF(V26=0,0,(V26*((LOG(V26))/LOG(2))))","v":0},null,{"$f":"N26","v":21122},{"$f":"COUNTIF(L10:L13,Y26)","v":0},{"$f":"Z26/(AB4-Z25)","v":0},{"$f":"IF(AA26=0,0,(AA26*((LOG(AA26))/LOG(2))))","v":0},null,{"$f":"N26","v":21122},{"$f":"COUNTIF(L14:L16,AD26)","v":0},{"$f":"AE26/(AG4-AE25)","v":0},{"$f":"IF(AF26=0,0,(AF26*((LOG(AF26))/LOG(2))))","v":0},null,{"$f":"N26","v":21122},{"$f":"COUNTIF(L17:L19,AI26)","v":0},{"$f":"AJ26/(AL4-AJ25)","v":0},{"$f":"IF(AK26=0,0,(AK26*((LOG(AK26))/LOG(2))))","v":0},null,{"$f":"N26","v":21122},{"$f":"COUNTIF(L20:L23,AN26)","v":0},{"$f":"AO26/(AQ4-AO25)","v":0},{"$f":"IF(AP26=0,0,(AP26*((LOG(AP26))/LOG(2))))","v":0},null,{"$f":"N26","v":21122},{"$f":"COUNTIF(L24:L26,AS26)","v":0},{"$f":"AT26/(AV4-AT25)","v":0},{"$f":"IF(AU26=0,0,(AU26*((LOG(AU26))/LOG(2))))","v":0}]
[null,null,null,null,null,null,null,null,null,null,null,null,null,21211,{"$f":"COUNTIF($L$7:$L$500,N27)","v":0},{"$f":"O27/$Q$4","v":0},{"$f":"IF(P27=0,0,(P27*((LOG(P27))/LOG(2))))","v":0},null,null,{"$f":"N27","v":21211},{"$f":"COUNTIF(L7:L9,T27)","v":0},{"$f":"U27/(W4-U25)","v":0},{"$f":"IF(V27=0,0,(V27*((LOG(V27))/LOG(2))))","v":0},null,{"$f":"N27","v":21211},{"$f":"COUNTIF(L10:L13,Y27)","v":0},{"$f":"Z27/(AB4-Z25)","v":0},{"$f":"IF(AA27=0,0,(AA27*((LOG(AA27))/LOG(2))))","v":0},null,{"$f":"N27","v":21211},{"$f":"COUNTIF(L14:L16,AD27)","v":0},{"$f":"AE27/(AG4-AE25)","v":0},{"$f":"IF(AF27=0,0,(AF27*((LOG(AF27))/LOG(2))))","v":0},null,{"$f":"N27","v":21211},{"$f":"COUNTIF(L17:L19,AI27)","v":0},{"$f":"AJ27/(AL4-AJ25)","v":0},{"$f":"IF(AK27=0,0,(AK27*((LOG(AK27))/LOG(2))))","v":0},null,{"$f":"N27","v":21211},{"$f":"COUNTIF(L20:L23,AN27)","v":0},{"$f":"AO27/(AQ4-AO25)","v":0},{"$f":"IF(AP27=0,0,(AP27*((LOG(AP27))/LOG(2))))","v":0},null,{"$f":"N27","v":21211},{"$f":"COUNTIF(L24:L26,AS27)","v":0},{"$f":"AT27/(AV4-AT25)","v":0},{"$f":"IF(AU27=0,0,(AU27*((LOG(AU27))/LOG(2))))","v":0}]
[null,null,null,null,null,null,null,null,null,null,null,null,null,21212,{"$f":"COUNTIF($L$7:$L$500,N28)","v":1},{"$f":"O28/$Q$4","v":0.05},{"$f":"IF(P28=0,0,(P28*((LOG(P28))/LOG(2))))","v":-0.21609640474436814},null,null,{"$f":"N28","v":21212},{"$f":"COUNTIF(L7:L9,T28)","v":0},{"$f":"U28/(W4-U25)","v":0},{"$f":"IF(V28=0,0,(V28*((LOG(V28))/LOG(2))))","v":0},null,{"$f":"N28","v":21212},{"$f":"COUNTIF(L10:L13,Y28)","v":0},{"$f":"Z28/(AB4-Z25)","v":0},{"$f":"IF(AA28=0,0,(AA28*((LOG(AA28))/LOG(2))))","v":0},null,{"$f":"N28","v":21212},{"$f":"COUNTIF(L14:L16,AD28)","v":1},{"$f":"AE28/(AG4-AE25)","v":0.33333333333333331},{"$f":"IF(AF28=0,0,(AF28*((LOG(AF28))/LOG(2))))","v":-0.52832083357371862},null,{"$f":"N28","v":21212},{"$f":"COUNTIF(L17:L19,AI28)","v":0},{"$f":"AJ28/(AL4-AJ25)","v":0},{"$f":"IF(AK28=0,0,(AK28*((LOG(AK28))/LOG(2))))","v":0},null,{"$f":"N28","v":21212},{"$f":"COUNTIF(L20:L23,AN28)","v":0},{"$f":"AO28/(AQ4-AO25)","v":0},{"$f":"IF(AP28=0,0,(AP28*((LOG(AP28))/LOG(2))))","v":0},null,{"$f":"N28","v":21212},{"$f":"COUNTIF(L24:L26,AS28)","v":0},{"$f":"AT28/(AV4-AT25)","v":0},{"$f":"IF(AU28=0,0,(AU28*((LOG(AU28))/LOG(2))))","v":0}]
[null,null,null,null,null,null,null,null,null,null,null,null,null,21221,{"$f":"COUNTIF($L$7:$L$500,N29)","v":0},{"$f":"O29/$Q$4","v":0},{"$f":"IF(P29=0,0,(P29*((LOG(P29))/LOG(2))))","v":0},null,null,{"$f":"N29","v":21221},{"$f":"COUNTIF(L7:L9,T29)","v":0},{"$f":"U29/(W4-U25)","v":0},{"$f":"IF(V29=0,0,(V29*((LOG(V29))/LOG(2))))","v":0},null,{"$f":"N29","v":21221},{"$f":"COUNTIF(L10:L13,Y29)","v":0},{"$f":"Z29/(AB4-Z25)","v":0},{"$f":"IF(AA29=0,0,(AA29*((LOG(AA29))/LOG(2))))","v":0},null,{"$f":"N29","v":21221},{"$f":"COUNTIF(L14:L16,AD29)","v":0},{"$f":"AE29/(AG4-AE25)","v":0},{"$f":"IF(AF29=0,0,(AF29*((LOG(AF29))/LOG(2))))","v":0},null,{"$f":"N29","v":21221},{"$f":"COUNTIF(L17:L19,AI29)","v":0},{"$f":"AJ29/(AL4-AJ25)","v":0},{"$f":"IF(AK29=0,0,(AK29*((LOG(AK29))/LOG(2))))","v":0},null,{"$f":"N29","v":21221},{"$f":"COUNTIF(L20:L23,AN29)","v":0},{"$f":"AO29/(AQ4-AO25)","v":0},{"$f":"IF(AP29=0,0,(AP29*((LOG(AP29))/LOG(2))))","v":0},null,{"$f":"N29","v":21221},{"$f":"COUNTIF(L24:L26,AS29)","v":0},{"$f":"AT29/(AV4-AT25)","v":0},{"$f":"IF(AU29=0,0,(AU29*((LOG(AU29))/LOG(2))))","v":0}]
[null,null,null,null,null,null,null,null,null,null,null,null,null,21222,{"$f":"COUNTIF($L$7:$L$500,N30)","v":1},{"$f":"O30/$Q$4","v":0.05},{"$f":"IF(P30=0,0,(P30*((LOG(P30))/LOG(2))))","v":-0.21609640474436814},null,null,{"$f":"N30","v":21222},{"$f":"COUNTIF(L7:L9,T30)","v":0},{"$f":"U30/(W4-U25)","v":0},{"$f":"IF(V30=0,0,(V30*((LOG(V30))/LOG(2))))","v":0},null,{"$f":"N30","v":21222},{"$f":"COUNTIF(L10:L13,Y30)","v":0},{"$f":"Z30/(AB4-Z25)","v":0},{"$f":"IF(AA30=0,0,(AA30*((LOG(AA30))/LOG(2))))","v":0},null,{"$f":"N30","v":21222},{"$f":"COUNTIF(L14:L16,AD30)","v":1},{"$f":"AE30/(AG4-AE25)","v":0.33333333333333331},{"$f":"IF(AF30=0,0,(AF30*((LOG(AF30))/LOG(2))))","v":-0.52832083357371862},null,{"$f":"N30","v":21222},{"$f":"COUNTIF(L17:L19,AI30)","v":0},{"$f":"AJ30/(AL4-AJ25)","v":0},{"$f":"IF(AK30=0,0,(AK30*((LOG(AK30))/LOG(2))))","v":0},null,{"$f":"N30","v":21222},{"$f":"COUNTIF(L20:L23,AN30)","v":0},{"$f":"AO30/(AQ4-AO25)","v":0},{"$f":"IF(AP30=0,0,(AP30*((LOG(AP30))/LOG(2))))","v":0},null,{"$f":"N30","v":21222},{"$f":"COUNTIF(L24:L26,AS30)","v":0},{"$f":"AT30/(AV4-AT25)","v":0},{"$f":"IF(AU30=0,0,(AU30*((LOG(AU30))/LOG(2))))","v":0}]
[null,null,null,null,null,null,null,null,null,null,null,null,null,22111,{"$f":"COUNTIF($L$7:$L$500,N31)","v":0},{"$f":"O31/$Q$4","v":0},{"$f":"IF(P31=0,0,(P31*((LOG(P31))/LOG(2))))","v":0},null,null,{"$f":"N31","v":22111},{"$f":"COUNTIF(L7:L9,T31)","v":0},{"$f":"U31/(W4-U25)","v":0},{"$f":"IF(V31=0,0,(V31*((LOG(V31))/LOG(2))))","v":0},null,{"$f":"N31","v":22111},{"$f":"COUNTIF(L10:L13,Y31)","v":0},{"$f":"Z31/(AB4-Z25)","v":0},{"$f":"IF(AA31=0,0,(AA31*((LOG(AA31))/LOG(2))))","v":0},null,{"$f":"N31","v":22111},{"$f":"COUNTIF(L14:L16,AD31)","v":0},{"$f":"AE31/(AG4-AE25)","v":0},{"$f":"IF(AF31=0,0,(AF31*((LOG(AF31))/LOG(2))))","v":0},null,{"$f":"N31","v":22111},{"$f":"COUNTIF(L17:L19,AI31)","v":0},{"$f":"AJ31/(AL4-AJ25)","v":0},{"$f":"IF(AK31=0,0,(AK31*((LOG(AK31))/LOG(2))))","v":0},null,{"$f":"N31","v":22111},{"$f":"COUNTIF(L20:L23,AN31)","v":0},{"$f":"AO31/(AQ4-AO25)","v":0},{"$f":"IF(AP31=0,0,(AP31*((LOG(AP31))/LOG(2))))","v":0},null,{"$f":"N31","v":22111},{"$f":"COUNTIF(L24:L26,AS31)","v":0},{"$f":"AT31/(AV4-AT25)","v":0},{"$f":"IF(AU31=0,0,(AU31*((LOG(AU31))/LOG(2))))","v":0}]
[null,null,null,null,null,null,null,null,null,null,null,null,null,22112,{"$f":"COUNTIF($L$7:$L$500,N32)","v":0},{"$f":"O32/$Q$4","v":0},{"$f":"IF(P32=0,0,(P32*((LOG(P32))/LOG(2))))","v":0},null,null,{"$f":"N32","v":22112},{"$f":"COUNTIF(L7:L9,T32)","v":0},{"$f":"U32/(W4-U25)","v":0},{"$f":"IF(V32=0,0,(V32*((LOG(V32))/LOG(2))))","v":0},null,{"$f":"N32","v":22112},{"$f":"COUNTIF(L10:L13,Y32)","v":0},{"$f":"Z32/(AB4-Z25)","v":0},{"$f":"IF(AA32=0,0,(AA32*((LOG(AA32))/LOG(2))))","v":0},null,{"$f":"N32","v":22112},{"$f":"COUNTIF(L14:L16,AD32)","v":0},{"$f":"AE32/(AG4-AE25)","v":0},{"$f":"IF(AF32=0,0,(AF32*((LOG(AF32))/LOG(2))))","v":0},null,{"$f":"N32","v":22112},{"$f":"COUNTIF(L17:L19,AI32)","v":0},{"$f":"AJ32/(AL4-AJ25)","v":0},{"$f":"IF(AK32=0,0,(AK32*((LOG(AK32))/LOG(2))))","v":0},null,{"$f":"N32","v":22112},{"$f":"COUNTIF(L20:L23,AN32)","v":0},{"$f":"AO32/(AQ4-AO25)","v":0},{"$f":"IF(AP32=0,0,(AP32*((LOG(AP32))/LOG(2))))","v":0},null,{"$f":"N32","v":22112},{"$f":"COUNTIF(L24:L26,AS32)","v":0},{"$f":"AT32/(AV4-AT25)","v":0},{"$f":"IF(AU32=0,0,(AU32*((LOG(AU32))/LOG(2))))","v":0}]
[null,null,null,null,null,null,null,null,null,null,null,null,null,22121,{"$f":"COUNTIF($L$7:$L$500,N33)","v":2},{"$f":"O33/$Q$4","v":0.1},{"$f":"IF(P33=0,0,(P33*((LOG(P33))/LOG(2))))","v":-0.33219280948873625},null,null,{"$f":"N33","v":22121},{"$f":"COUNTIF(L7:L9,T33)","v":1},{"$f":"U33/(W4-U25)","v":0.33333333333333331},{"$f":"IF(V33=0,0,(V33*((LOG(V33))/LOG(2))))","v":-0.52832083357371862},null,{"$f":"N33","v":22121},{"$f":"COUNTIF(L10:L13,Y33)","v":0},{"$f":"Z33/(AB4-Z25)","v":0},{"$f":"IF(AA33=0,0,(AA33*((LOG(AA33))/LOG(2))))","v":0},null,{"$f":"N33","v":22121},{"$f":"COUNTIF(L14:L16,AD33)","v":0},{"$f":"AE33/(AG4-AE25)","v":0},{"$f":"IF(AF33=0,0,(AF33*((LOG(AF33))/LOG(2))))","v":0},null,{"$f":"N33","v":22121},{"$f":"COUNTIF(L17:L19,AI33)","v":0},{"$f":"AJ33/(AL4-AJ25)","v":0},{"$f":"IF(AK33=0,0,(AK33*((LOG(AK33))/LOG(2))))","v":0},null,{"$f":"N33","v":22121},{"$f":"COUNTIF(L20:L23,AN33)","v":0},{"$f":"AO33/(AQ4-AO25)","v":0},{"$f":"IF(AP33=0,0,(AP33*((LOG(AP33))/LOG(2))))","v":0},null,{"$f":"N33","v":22121},{"$f":"COUNTIF(L24:L26,AS33)","v":1},{"$f":"AT33/(AV4-AT25)","v":0.33333333333333331},{"$f":"IF(AU33=0,0,(AU33*((LOG(AU33))/LOG(2))))","v":-0.52832083357371862}]
[null,null,null,null,null,null,null,null,null,null,null,null,null,22122,{"$f":"COUNTIF($L$7:$L$500,N34)","v":2},{"$f":"O34/$Q$4","v":0.1},{"$f":"IF(P34=0,0,(P34*((LOG(P34))/LOG(2))))","v":-0.33219280948873625},null,null,{"$f":"N34","v":22122},{"$f":"COUNTIF(L7:L9,T34)","v":1},{"$f":"U34/(W4-U25)","v":0.33333333333333331},{"$f":"IF(V34=0,0,(V34*((LOG(V34))/LOG(2))))","v":-0.52832083357371862},null,{"$f":"N34","v":22122},{"$f":"COUNTIF(L10:L13,Y34)","v":0},{"$f":"Z34/(AB4-Z25)","v":0},{"$f":"IF(AA34=0,0,(AA34*((LOG(AA34))/LOG(2))))","v":0},null,{"$f":"N34","v":22122},{"$f":"COUNTIF(L14:L16,AD34)","v":1},{"$f":"AE34/(AG4-AE25)","v":0.33333333333333331},{"$f":"IF(AF34=0,0,(AF34*((LOG(AF34))/LOG(2))))","v":-0.52832083357371862},null,{"$f":"N34","v":22122},{"$f":"COUNTIF(L17:L19,AI34)","v":0},{"$f":"AJ34/(AL4-AJ25)","v":0},{"$f":"IF(AK34=0,0,(AK34*((LOG(AK34))/LOG(2))))","v":0},null,{"$f":"N34","v":22122},{"$f":"COUNTIF(L20:L23,AN34)","v":0},{"$f":"AO34/(AQ4-AO25)","v":0},{"$f":"IF(AP34=0,0,(AP34*((LOG(AP34))/LOG(2))))","v":0},null,{"$f":"N34","v":22122},{"$f":"COUNTIF(L24:L26,AS34)","v":0},{"$f":"AT34/(AV4-AT25)","v":0},{"$f":"IF(AU34=0,0,(AU34*((LOG(AU34))/LOG(2))))","v":0}]
[null,null,null,null,null,null,null,null,null,null,null,null,null,22211,{"$f":"COUNTIF($L$7:$L$500,N35)","v":0},{"$f":"O35/$Q$4","v":0},{"$f":"IF(P35=0,0,(P35*((LOG(P35))/LOG(2))))","v":0},null,null,{"$f":"N35","v":22211},{"$f":"COUNTIF(L7:L9,T35)","v":0},{"$f":"U35/(W4-U25)","v":0},{"$f":"IF(V35=0,0,(V35*((LOG(V35))/LOG(2))))","v":0},null,{"$f":"N35","v":22211},{"$f":"COUNTIF(L10:L13,Y35)","v":0},{"$f":"Z35/(AB4-Z25)","v":0},{"$f":"IF(AA35=0,0,(AA35*((LOG(AA35))/LOG(2))))","v":0},null,{"$f":"N35","v":22211},{"$f":"COUNTIF(L14:L16,AD35)","v":0},{"$f":"AE35/(AG4-AE25)","v":0},{"$f":"IF(AF35=0,0,(AF35*((LOG(AF35))/LOG(2))))","v":0},null,{"$f":"N35","v":22211},{"$f":"COUNTIF(L17:L19,AI35)","v":0},{"$f":"AJ35/(AL4-AJ25)","v":0},{"$f":"IF(AK35=0,0,(AK35*((LOG(AK35))/LOG(2))))","v":0},null,{"$f":"N35","v":22211},{"$f":"COUNTIF(L20:L23,AN35)","v":0},{"$f":"AO35/(AQ4-AO25)","v":0},{"$f":"IF(AP35=0,0,(AP35*((LOG(AP35))/LOG(2))))","v":0},null,{"$f":"N35","v":22211},{"$f":"COUNTIF(L24:L26,AS35)","v":0},{"$f":"AT35/(AV4-AT25)","v":0},{"$f":"IF(AU35=0,0,(AU35*((LOG(AU35))/LOG(2))))","v":0}]
[null,null,null,null,null,null,null,null,null,null,null,null,null,22212,{"$f":"COUNTIF($L$7:$L$500,N36)","v":1},{"$f":"O36/$Q$4","v":0.05},{"$f":"IF(P36=0,0,(P36*((LOG(P36))/LOG(2))))","v":-0.21609640474436814},null,null,{"$f":"N36","v":22212},{"$f":"COUNTIF(L7:L9,T36)","v":0},{"$f":"U36/(W4-U25)","v":0},{"$f":"IF(V36=0,0,(V36*((LOG(V36))/LOG(2))))","v":0},null,{"$f":"N36","v":22212},{"$f":"COUNTIF(L10:L13,Y36)","v":1},{"$f":"Z36/(AB4-Z25)","v":0.25},{"$f":"IF(AA36=0,0,(AA36*((LOG(AA36))/LOG(2))))","v":-0.5},null,{"$f":"N36","v":22212},{"$f":"COUNTIF(L14:L16,AD36)","v":0},{"$f":"AE36/(AG4-AE25)","v":0},{"$f":"IF(AF36=0,0,(AF36*((LOG(AF36))/LOG(2))))","v":0},null,{"$f":"N36","v":22212},{"$f":"COUNTIF(L17:L19,AI36)","v":0},{"$f":"AJ36/(AL4-AJ25)","v":0},{"$f":"IF(AK36=0,0,(AK36*((LOG(AK36))/LOG(2))))","v":0},null,{"$f":"N36","v":22212},{"$f":"COUNTIF(L20:L23,AN36)","v":0},{"$f":"AO36/(AQ4-AO25)","v":0},{"$f":"IF(AP36=0,0,(AP36*((LOG(AP36))/LOG(2))))","v":0},null,{"$f":"N36","v":22212},{"$f":"COUNTIF(L24:L26,AS36)","v":0},{"$f":"AT36/(AV4-AT25)","v":0},{"$f":"IF(AU36=0,0,(AU36*((LOG(AU36))/LOG(2))))","v":0}]
[null,null,null,null,null,null,null,null,null,null,null,null,null,22221,{"$f":"COUNTIF($L$7:$L$500,N37)","v":1},{"$f":"O37/$Q$4","v":0.05},{"$f":"IF(P37=0,0,(P37*((LOG(P37))/LOG(2))))","v":-0.21609640474436814},null,null,{"$f":"N37","v":22221},{"$f":"COUNTIF(L7:L9,T37)","v":0},{"$f":"U37/(W4-U25)","v":0},{"$f":"IF(V37=0,0,(V37*((LOG(V37))/LOG(2))))","v":0},null,{"$f":"N37","v":22221},{"$f":"COUNTIF(L10:L13,Y37)","v":0},{"$f":"Z37/(AB4-Z25)","v":0},{"$f":"IF(AA37=0,0,(AA37*((LOG(AA37))/LOG(2))))","v":0},null,{"$f":"N37","v":22221},{"$f":"COUNTIF(L14:L16,AD37)","v":0},{"$f":"AE37/(AG4-AE25)","v":0},{"$f":"IF(AF37=0,0,(AF37*((LOG(AF37))/LOG(2))))","v":0},null,{"$f":"N37","v":22221},{"$f":"COUNTIF(L17:L19,AI37)","v":0},{"$f":"AJ37/(AL4-AJ25)","v":0},{"$f":"IF(AK37=0,0,(AK37*((LOG(AK37))/LOG(2))))","v":0},null,{"$f":"N37","v":22221},{"$f":"COUNTIF(L20:L23,AN37)","v":0},{"$f":"AO37/(AQ4-AO25)","v":0},{"$f":"IF(AP37=0,0,(AP37*((LOG(AP37))/LOG(2))))","v":0},null,{"$f":"N37","v":22221},{"$f":"COUNTIF(L24:L26,AS37)","v":1},{"$f":"AT37/(AV4-AT25)","v":0.33333333333333331},{"$f":"IF(AU37=0,0,(AU37*((LOG(AU37))/LOG(2))))","v":-0.52832083357371862}]
[null,null,null,null,null,null,null,null,null,null,null,null,null,22222,{"$f":"COUNTIF($L$7:$L$500,N38)","v":0},{"$f":"O38/$Q$4","v":0},{"$f":"IF(P38=0,0,(P38*((LOG(P38))/LOG(2))))","v":0},null,null,{"$f":"N38","v":22222},{"$f":"COUNTIF(L7:L9,T38)","v":0},{"$f":"U38/(W4-U25)","v":0},{"$f":"IF(V38=0,0,(V38*((LOG(V38))/LOG(2))))","v":0},null,{"$f":"N38","v":22222},{"$f":"COUNTIF(L10:L13,Y38)","v":0},{"$f":"Z38/(AB4-Z25)","v":0},{"$f":"IF(AA38=0,0,(AA38*((LOG(AA38))/LOG(2))))","v":0},null,{"$f":"N38","v":22222},{"$f":"COUNTIF(L14:L16,AD38)","v":0},{"$f":"AE38/(AG4-AE25)","v":0},{"$f":"IF(AF38=0,0,(AF38*((LOG(AF38))/LOG(2))))","v":0},null,{"$f":"N38","v":22222},{"$f":"COUNTIF(L17:L19,AI38)","v":0},{"$f":"AJ38/(AL4-AJ25)","v":0},{"$f":"IF(AK38=0,0,(AK38*((LOG(AK38))/LOG(2))))","v":0},null,{"$f":"N38","v":22222},{"$f":"COUNTIF(L20:L23,AN38)","v":0},{"$f":"AO38/(AQ4-AO25)","v":0},{"$f":"IF(AP38=0,0,(AP38*((LOG(AP38))/LOG(2))))","v":0},null,{"$f":"N38","v":22222},{"$f":"COUNTIF(L24:L26,AS38)","v":0},{"$f":"AT38/(AV4-AT25)","v":0},{"$f":"IF(AU38=0,0,(AU38*((LOG(AU38))/LOG(2))))","v":0}]
[null,null,null,null,null,null,null,null,null,null,null,null,null,null,null,{"$f":"SUM(P7:P38)","v":1},{"$f":"-SUM(Q7:Q38)","v":3.4841837197791885},null,null,null,null,{"$f":"SUM(V7:V38)","v":1},{"$f":"-SUM(W7:W38)","v":1.5849625007211559},null,null,null,{"$f":"SUM(AA7:AA38)","v":1},{"$f":"-SUM(AB7:AB38)","v":1.5},null,null,null,{"$f":"SUM(AF7:AF38)","v":1},{"$f":"-SUM(AG7:AG38)","v":1.5849625007211559},null,null,null,{"$f":"SUM(AK7:AK38)","v":1},{"$f":"-SUM(AL7:AL38)","v":0.91829583405448945},null,null,null,{"$f":"SUM(AP7:AP38)","v":1},{"$f":"-SUM(AQ7:AQ38)","v":2},null,null,null,{"$f":"SUM(AU7:AU38)","v":1},{"$f":"-SUM(AV7:AV38)","v":1.5849625007211559}]
[null,null,null,null,null,null,null,null,null,null,null,null,null,null,null,"U=",{"$f":"Q39/(LOG(Q4)/LOG(2))","v":0.80616420340283168},null,null,null,null,"U1=",{"$f":"W39/(LOG(W4)/LOG(2))","v":0.99999999999999989},null,null,null,"U2=",{"$f":"AB39/(LOG(AB4)/LOG(2))","v":0.75},null,null,null,"U3=",{"$f":"AG39/(LOG(AG4)/LOG(2))","v":0.99999999999999989},null,null,null,"U4=",{"$f":"AL39/(LOG(AL4)/LOG(2))","v":0.57938016428569505},null,null,null,"U5=",{"$f":"AQ39/(LOG(AQ4)/LOG(2))","v":1},null,null,null,"U6=",{"$f":"AV39/(LOG(AV4)/LOG(2))","v":0.99999999999999989}]
[]
[]
[null,null,null,null,null,null,null,null,null,null,null,null,null,"Total Target Seq"]
[null,null,null,null,null,null,null,null,null,null,null,null,null,{"$f":"COUNTIF(L7:L26,G3)","v":0},null,3,4,3,3,4,3]
[null,null,null,null,null,null,null,null,null,null,null,null,null,null,null,"% of reinforcement given in 6 equal intervals based on number of trials "]
[null,null,null,null,null,null,null,null,null,null,null,null,null,null,null,"%_1","%_2","%_3","%_4","%_5","%_6"]
[null,null,null,null,null,null,null,null,null,null,null,null,null,null,"target sequence",{"$f":"$G$3","v":21121},{"$f":"$G$3","v":21121},{"$f":"$G$3","v":21121},{"$f":"$G$3","v":21121},{"$f":"$G$3","v":21121},{"$f":"$G$3","v":21121}]
[null,null,null,null,null,null,null,null,null,null,null,null,null,null,"total reinforcement",{"$f":"U25","v":0},{"$f":"Z25","v":0},{"$f":"AE25","v":0},{"$f":"AJ25","v":0},{"$f":"AO25","v":0},{"$f":"AT25","v":0}]
[null,null,null,null,null,null,null,null,null,null,null,null,null,null,"% target"]
[null,null,null,null,null,null,null,null,null,null,null,null,null,null,"CCRF"]
[null,null,null,null,null,null,null,null,null,null,null,null,null,null,"% CCRf"]
[null,null,null,null,null,null,null,null,null,null,null,null,null,null,"average response rate",{"$f":"J9/P44","v":148},{"$f":"(J13-J9)/Q44","v":347.25},{"$f":"(J16-J13)/R44","v":608.66666666666663},{"$f":"(J19-J16)/S44","v":2794},{"$f":"(J23-J19)/T44","v":822.5},{"$f":"(J26-J23)/U44","v":1612.3333333333333}]

{"sheet":"!N117B40.105","index":19,"n_rows":52,"n_cols":48,"rows_kept":52,"cut":false,"hidden":false,"merged":[[4,39,4,42],[5,39,5,40],[4,44,4,47],[5,44,5,45],[4,24,4,27],[5,24,5,25],[4,29,4,32],[5,29,5,30],[4,34,4,37],[5,34,5,35],[1,1,1,2],[5,13,5,14],[42,13,42,14],[43,13,43,14],[4,19,4,22],[5,19,5,20]]}
["Report for:!N117B40.105"]
["Date:","<date>"]
["Hen:","<hen>",null,null,null,"Correct Sequence",{"$f":"Start!J2","v":21121},null,null,null,null,null,null,null,null,"Total Sequences in Data",{"$f":"4994-COUNTBLANK(L7:L5000)","v":7},null,null,null,null,"Total Sequences in Block Data",{"$f":"COUNTA(L7:L7)","v":1},null,null,null,"Total Sequences in Block Data",{"$f":"COUNTA(L8:L8)","v":1},null,null,null,"Total Sequences in Block Data",{"$f":"COUNTA(L9:L10)","v":2},null,null,null,"Total Sequences in Block Data",{"$f":"COUNTA(L11:L11)","v":1},null,null,null,"Total Sequences in Block Data",{"$f":"COUNTA(L12:L12)","v":1},null,null,null,"Total Sequences in Block Data",{"$f":"COUNTA(L13:L13)","v":1}]
[null,null,null,null,null,null,null,null,null,null,null,null,null,null,null,"Total Sequences in Summary",{"$f":"SUM(O7:O38)","v":7},null,null,null,null,"Total Sequences in Block Summary",{"$f":"SUM(U7:U38)","v":1},null,null,null,"Total Sequences in Block Summary",{"$f":"SUM(Z7:Z38)","v":1},null,null,null,"Total Sequences in Block Summary",{"$f":"SUM(AE7:AE38)","v":2},null,null,null,"Total Sequences in Block Summary",{"$f":"SUM(AJ7:AJ38)","v":1},null,null,null,"Total Sequences in Block Summary",{"$f":"SUM(AO7:AO38)","v":1},null,null,null,"Total Sequences in Block Summary",{"$f":"SUM(AT7:AT38)","v":1}]
[null,null,null,null,null,null,null,null,null,null,null,null,null,null,null,null,null,null,null,"Block 1",null,null,null,null,"Block 2",null,null,null,null,"Block 3",null,null,null,null,"Block 4",null,null,null,null,"Block 5",null,null,null,null,"Block 6"]
["Sequence\nComponent\n1","Time\n1","Sequence\nComponent\n2","Time\n2","Sequence\nComponent\n3","Time\n3","Sequence\nComponent\n4","Time\n4","Sequence\nComponent\n5","Time\n5","Correct?\n0=No 1=Yes","Sequence",null,"Frequency",null,"Relative Frequency","Variability",null,null,"Frequency",null,"Relative Frequency","Variability",null,"Frequency",null,"Relative Frequency","Variability",null,"Frequency",null,"Relative Frequency","Variability",null,"Frequency",null,"Relative Frequency","Variability",null,"Frequency",null,"Relative Frequency","Variability",null,"Frequency",null,"Relative Frequency","Variability"]
[12,14,24,25,24,35,23,45,24,64,0,12222,null,11111,{"$f":"COUNTIF($L$7:$L$500,N7)","v":0},{"$f":"O7/$Q$4","v":0},{"$f":"IF(P7=0,0,(P7*((LOG(P7))/LOG(2))))","v":0},null,null,{"$f":"N7","v":11111},{"$f":"COUNTIF(L7:L7,T7)","v":0},{"$f":"U7/(W4-U25)","v":0},{"$f":"IF(V7=0,0,(V7*((LOG(V7))/LOG(2))))","v":0},null,{"$f":"N7","v":11111},{"$f":"COUNTIF(L8:L8,Y7)","v":0},{"$f":"Z7/(AB4-Z25)","v":0},{"$f":"IF(AA7=0,0,(AA7*((LOG(AA7))/LOG(2))))","v":0},null,{"$f":"N7","v":11111},{"$f":"COUNTIF(L9:L10,AD7)","v":0},{"$f":"AE7/(AG4-AE25)","v":0},{"$f":"IF(AF7=0,0,(AF7*((LOG(AF7))/LOG(2))))","v":0},null,{"$f":"N7","v":11111},{"$f":"COUNTIF(L11:L11,AI7)","v":0},{"$f":"AJ7/(AL4-AJ25)","v":0},{"$f":"IF(AK7=0,0,(AK7*((LOG(AK7))/LOG(2))))","v":0},null,{"$f":"N7","v":11111},{"$f":"COUNTIF(L12:L12,AN7)","v":0},{"$f":"AO7/(AQ4-AO25)","v":0},{"$f":"IF(AP7=0,0,(AP7*((LOG(AP7))/LOG(2))))","v":0},null,{"$f":"N7","v":11111},{"$f":"COUNTIF(L13:L13,AS7)","v":0},{"$f":"AT7/(AV4-AT25)","v":0},{"$f":"IF(AU7=0,0,(AU7*((LOG(AU7))/LOG(2))))","v":0}]
[21,186,22,234,24,244,23,265,24,290,0,22222,null,11112,{"$f":"COUNTIF($L$7:$L$500,N8)","v":1},{"$f":"O8/$Q$4","v":0.14285714285714285},{"$f":"IF(P8=0,0,(P8*((LOG(P8))/LOG(2))))","v":-0.40105070315108626},null,null,{"$f":"N8","v":11112},{"$f":"COUNTIF(L7:L7,T8)","v":0},{"$f":"U8/(W4-U25)","v":0},{"$f":"IF(V8=0,0,(V8*((LOG(V8))/LOG(2))))","v":0},null,{"$f":"N8","v":11112},{"$f":"COUNTIF(L8:L8,Y8)","v":0},{"$f":"Z8/(AB4-Z25)","v":0},{"$f":"IF(AA8=0,0,(AA8*((LOG(AA8))/LOG(2))))","v":0},null,{"$f":"N8","v":11112},{"$f":"COUNTIF(L9:L10,AD8)","v":0},{"$f":"AE8/(AG4-AE25)","v":0},{"$f":"IF(AF8=0,0,(AF8*((LOG(AF8))/LOG(2))))","v":0},null,{"$f":"N8","v":11112},{"$f":"COUNTIF(L11:L11,AI8)","v":0},{"$f":"AJ8/(AL4-AJ25)","v":0},{"$f":"IF(AK8=0,0,(AK8*((LOG(AK8))/LOG(2))))","v":0},null,{"$f":"N8","v":11112},{"$f":"COUNTIF(L12:L12,AN8)","v":1},{"$f":"AO8/(AQ4-AO25)","v":1},{"$f":"IF(AP8=0,0,(AP8*((LOG(AP8))/LOG(2))))","v":0},null,{"$f":"N8","v":11112},{"$f":"COUNTIF(L13:L13,AS8)","v":0},{"$f":"AT8/(AV4-AT25)","v":0},{"$f":"IF(AU8=0,0,(AU8*((LOG(AU8))/LOG(2))))","v":0}]
[21,490,22,511,13,526,23,536,13,551,0,22121,null,11121,{"$f":"COUNTIF($L$7:$L$500,N9)","v":1},{"$f":"O9/$Q$4","v":0.14285714285714285},{"$f":"IF(P9=0,0,(P9*((LOG(P9))/LOG(2))))","v":-0.40105070315108626},null,null,{"$f":"N9","v":11121},{"$f":"COUNTIF(L7:L7,T9)","v":0},{"$f":"U9/(W4-U25)","v":0},{"$f":"IF(V9=0,0,(V9*((LOG(V9))/LOG(2))))","v":0},null,{"$f":"N9","v":11121},{"$f":"COUNTIF(L8:L8,Y9)","v":0},{"$f":"Z9/(AB4-Z25)","v":0},{"$f":"IF(AA9=0,0,(AA9*((LOG(AA9))/LOG(2))))","v":0},null,{"$f":"N9","v":11121},{"$f":"COUNTIF(L9:L10,AD9)","v":0},{"$f":"AE9/(AG4-AE25)","v":0},{"$f":"IF(AF9=0,0,(AF9*((LOG(AF9))/LOG(2))))","v":0},null,{"$f":"N9","v":11121},{"$f":"COUNTIF(L11:L11,AI9)","v":0},{"$f":"AJ9/(AL4-AJ25)","v":0},{"$f":"IF(AK9=0,0,(AK9*((LOG(AK9))/LOG(2))))","v":0},null,{"$f":"N9","v":11121},{"$f":"COUNTIF(L12:L12,AN9)","v":0},{"$f":"AO9/(AQ4-AO25)","v":0},{"$f":"IF(AP9=0,0,(AP9*((LOG(AP9))/LOG(2))))","v":0},null,{"$f":"N9","v":11121},{"$f":"COUNTIF(L13:L13,AS9)","v":1},{"$f":"AT9/(AV4-AT25)","v":1},{"$f":"IF(AU9=0,0,(AU9*((LOG(AU9))/LOG(2))))","v":0}]
[21,848,22,858,13,1494,23,1505,13,1517,0,22121,null,11122,{"$f":"COUNTIF($L$7:$L$500,N10)","v":0},{"$f":"O10/$Q$4","v":0},{"$f":"IF(P10=0,0,(P10*((LOG(P10))/LOG(2))))","v":0},null,null,{"$f":"N10","v":11122},{"$f":"COUNTIF(L7:L7,T10)","v":0},{"$f":"U10/(W4-U25)","v":0},{"$f":"IF(V10=0,0,(V10*((LOG(V10))/LOG(2))))","v":0},null,{"$f":"N10","v":11122},{"$f":"COUNTIF(L8:L8,Y10)","v":0},{"$f":"Z10/(AB4-Z25)","v":0},{"$f":"IF(AA10=0,0,(AA10*((LOG(AA10))/LOG(2))))","v":0},null,{"$f":"N10","v":11122},{"$f":"COUNTIF(L9:L10,AD10)","v":0},{"$f":"AE10/(AG4-AE25)","v":0},{"$f":"IF(AF10=0,0,(AF10*((LOG(AF10))/LOG(2))))","v":0},null,{"$f":"N10","v":11122},{"$f":"COUNTIF(L11:L11,AI10)","v":0},{"$f":"AJ10/(AL4-AJ25)","v":0},{"$f":"IF(AK10=0,0,(AK10*((LOG(AK10))/LOG(2))))","v":0},null,{"$f":"N10","v":11122},{"$f":"COUNTIF(L12:L12,AN10)","v":0},{"$f":"AO10/(AQ4-AO25)","v":0},{"$f":"IF(AP10=0,0,(AP10*((LOG(AP10))/LOG(2))))","v":0},null,{"$f":"N10","v":11122},{"$f":"COUNTIF(L13:L13,AS10)","v":0},{"$f":"AT10/(AV4-AT25)","v":0},{"$f":"IF(AU10=0,0,(AU10*((LOG(AU10))/LOG(2))))","v":0}]
[12,1689,24,1700,13,1710,23,1721,13,1731,0,12121,null,11211,{"$f":"COUNTIF($L$7:$L$500,N11)","v":0},{"$f":"O11/$Q$4","v":0},{"$f":"IF(P11=0,0,(P11*((LOG(P11))/LOG(2))))","v":0},null,null,{"$f":"N11","v":11211},{"$f":"COUNTIF(L7:L7,T11)","v":0},{"$f":"U11/(W4-U25)","v":0},{"$f":"IF(V11=0,0,(V11*((LOG(V11))/LOG(2))))","v":0},null,{"$f":"N11","v":11211},{"$f":"COUNTIF(L8:L8,Y11)","v":0},{"$f":"Z11/(AB4-Z25)","v":0},{"$f":"IF(AA11=0,0,(AA11*((LOG(AA11))/LOG(2))))","v":0},null,{"$f":"N11","v":11211},{"$f":"COUNTIF(L9:L10,AD11)","v":0},{"$f":"AE11/(AG4-AE25)","v":0},{"$f":"IF(AF11=0,0,(AF11*((LOG(AF11))/LOG(2))))","v":0},null,{"$f":"N11","v":11211},{"$f":"COUNTIF(L11:L11,AI11)","v":0},{"$f":"AJ11/(AL4-AJ25)","v":0},{"$f":"IF(AK11=0,0,(AK11*((LOG(AK11))/LOG(2))))","v":0},null,{"$f":"N11","v":11211},{"$f":"COUNTIF(L12:L12,AN11)","v":0},{"$f":"AO11/(AQ4-AO25)","v":0},{"$f":"IF(AP11=0,0,(AP11*((LOG(AP11))/LOG(2))))","v":0},null,{"$f":"N11","v":11211},{"$f":"COUNTIF(L13:L13,AS11)","v":0},{"$f":"AT11/(AV4-AT25)","v":0},{"$f":"IF(AU11=0,0,(AU11*((LOG(AU11))/LOG(2))))","v":0}]
[12,3174,13,3186,13,3199,14,3210,24,4573,0,11112,null,11212,{"$f":"COUNTIF($L$7:$L$500,N12)","v":0},{"$f":"O12/$Q$4","v":0},{"$f":"IF(P12=0,0,(P12*((LOG(P12))/LOG(2))))","v":0},null,null,{"$f":"N12","v":11212},{"$f":"COUNTIF(L7:L7,T12)","v":0},{"$f":"U12/(W4-U25)","v":0},{"$f":"IF(V12=0,0,(V12*((LOG(V12))/LOG(2))))","v":0},null,{"$f":"N12","v":11212},{"$f":"COUNTIF(L8:L8,Y12)","v":0},{"$f":"Z12/(AB4-Z25)","v":0},{"$f":"IF(AA12=0,0,(AA12*((LOG(AA12))/LOG(2))))","v":0},null,{"$f":"N12","v":11212},{"$f":"COUNTIF(L9:L10,AD12)","v":0},{"$f":"AE12/(AG4-AE25)","v":0},{"$f":"IF(AF12=0,0,(AF12*((LOG(AF12))/LOG(2))))","v":0},null,{"$f":"N12","v":11212},{"$f":"COUNTIF(L11:L11,AI12)","v":0},{"$f":"AJ12/(AL4-AJ25)","v":0},{"$f":"IF(AK12=0,0,(AK12*((LOG(AK12))/LOG(2))))","v":0},null,{"$f":"N12","v":11212},{"$f":"COUNTIF(L12:L12,AN12)","v":0},{"$f":"AO12/(AQ4-AO25)","v":0},{"$f":"IF(AP12=0,0,(AP12*((LOG(AP12))/LOG(2))))","v":0},null,{"$f":"N12","v":11212},{"$f":"COUNTIF(L13:L13,AS12)","v":0},{"$f":"AT12/(AV4-AT25)","v":0},{"$f":"IF(AU12=0,0,(AU12*((LOG(AU12))/LOG(2))))","v":0}]
[12,6100,13,21680,13,21704,23,21715,13,21738,0,11121,null,11221,{"$f":"COUNTIF($L$7:$L$500,N13)","v":0},{"$f":"O13/$Q$4","v":0},{"$f":"IF(P13=0,0,(P13*((LOG(P13))/LOG(2))))","v":0},null,null,{"$f":"N13","v":11221},{"$f":"COUNTIF(L7:L7,T13)","v":0},{"$f":"U13/(W4-U25)","v":0},{"$f":"IF(V13=0,0,(V13*((LOG(V13))/LOG(2))))","v":0},null,{"$f":"N13","v":11221},{"$f":"COUNTIF(L8:L8,Y13)","v":0},{"$f":"Z13/(AB4-Z25)","v":0},{"$f":"IF(AA13=0,0,(AA13*((LOG(AA13))/LOG(2))))","v":0},null,{"$f":"N13","v":11221},{"$f":"COUNTIF(L9:L10,AD13)","v":0},{"$f":"AE13/(AG4-AE25)","v":0},{"$f":"IF(AF13=0,0,(AF13*((LOG(AF13))/LOG(2))))","v":0},null,{"$f":"N13","v":11221},{"$f":"COUNTIF(L11:L11,AI13)","v":0},{"$f":"AJ13/(AL4-AJ25)","v":0},{"$f":"IF(AK13=0,0,(AK13*((LOG(AK13))/LOG(2))))","v":0},null,{"$f":"N13","v":11221},{"$f":"COUNTIF(L12:L12,AN13)","v":0},{"$f":"AO13/(AQ4-AO25)","v":0},{"$f":"IF(AP13=0,0,(AP13*((LOG(AP13))/LOG(2))))","v":0},null,{"$f":"N13","v":11221},{"$f":"COUNTIF(L13:L13,AS13)","v":0},{"$f":"AT13/(AV4-AT25)","v":0},{"$f":"IF(AU13=0,0,(AU13*((LOG(AU13))/LOG(2))))","v":0}]
[null,null,null,null,null,null,null,null,null,null,null,null,null,11222,{"$f":"COUNTIF($L$7:$L$500,N14)","v":0},{"$f":"O14/$Q$4","v":0},{"$f":"IF(P14=0,0,(P14*((LOG(P14))/LOG(2))))","v":0},null,null,{"$f":"N14","v":11222},{"$f":"COUNTIF(L7:L7,T14)","v":0},{"$f":"U14/(W4-U25)","v":0},{"$f":"IF(V14=0,0,(V14*((LOG(V14))/LOG(2))))","v":0},null,{"$f":"N14","v":11222},{"$f":"COUNTIF(L8:L8,Y14)","v":0},{"$f":"Z14/(AB4-Z25)","v":0},{"$f":"IF(AA14=0,0,(AA14*((LOG(AA14))/LOG(2))))","v":0},null,{"$f":"N14","v":11222},{"$f":"COUNTIF(L9:L10,AD14)","v":0},{"$f":"AE14/(AG4-AE25)","v":0},{"$f":"IF(AF14=0,0,(AF14*((LOG(AF14))/LOG(2))))","v":0},null,{"$f":"N14","v":11222},{"$f":"COUNTIF(L11:L11,AI14)","v":0},{"$f":"AJ14/(AL4-AJ25)","v":0},{"$f":"IF(AK14=0,0,(AK14*((LOG(AK14))/LOG(2))))","v":0},null,{"$f":"N14","v":11222},{"$f":"COUNTIF(L12:L12,AN14)","v":0},{"$f":"AO14/(AQ4-AO25)","v":0},{"$f":"IF(AP14=0,0,(AP14*((LOG(AP14))/LOG(2))))","v":0},null,{"$f":"N14","v":11222},{"$f":"COUNTIF(L13:L13,AS14)","v":0},{"$f":"AT14/(AV4-AT25)","v":0},{"$f":"IF(AU14=0,0,(AU14*((LOG(AU14))/LOG(2))))","v":0}]
[null,null,null,null,null,null,null,null,null,null,null,null,null,12111,{"$f":"COUNTIF($L$7:$L$500,N15)","v":0},{"$f":"O15/$Q$4","v":0},{"$f":"IF(P15=0,0,(P15*((LOG(P15))/LOG(2))))","v":0},null,null,{"$f":"N15","v":12111},{"$f":"COUNTIF(L7:L7,T15)","v":0},{"$f":"U15/(W4-U25)","v":0},{"$f":"IF(V15=0,0,(V15*((LOG(V15))/LOG(2))))","v":0},null,{"$f":"N15","v":12111},{"$f":"COUNTIF(L8:L8,Y15)","v":0},{"$f":"Z15/(AB4-Z25)","v":0},{"$f":"IF(AA15=0,0,(AA15*((LOG(AA15))/LOG(2))))","v":0},null,{"$f":"N15","v":12111},{"$f":"COUNTIF(L9:L10,AD15)","v":0},{"$f":"AE15/(AG4-AE25)","v":0},{"$f":"IF(AF15=0,0,(AF15*((LOG(AF15))/LOG(2))))","v":0},null,{"$f":"N15","v":12111},{"$f":"COUNTIF(L11:L11,AI15)","v":0},{"$f":"AJ15/(AL4-AJ25)","v":0},{"$f":"IF(AK15=0,0,(AK15*((LOG(AK15))/LOG(2))))","v":0},null,{"$f":"N15","v":12111},{"$f":"COUNTIF(L12:L12,AN15)","v":0},{"$f":"AO15/(AQ4-AO25)","v":0},{"$f":"IF(AP15=0,0,(AP15*((LOG(AP15))/LOG(2))))","v":0},null,{"$f":"N15","v":12111},{"$f":"COUNTIF(L13:L13,AS15)","v":0},{"$f":"AT15/(AV4-AT25)","v":0},{"$f":"IF(AU15=0,0,(AU15*((LOG(AU15))/LOG(2))))","v":0}]
[null,null,null,null,null,null,null,null,null,null,null,null,null,12112,{"$f":"COUNTIF($L$7:$L$500,N16)","v":0},{"$f":"O16/$Q$4","v":0},{"$f":"IF(P16=0,0,(P16*((LOG(P16))/LOG(2))))","v":0},null,null,{"$f":"N16","v":12112},{"$f":"COUNTIF(L7:L7,T16)","v":0},{"$f":"U16/(W4-U25)","v":0},{"$f":"IF(V16=0,0,(V16*((LOG(V16))/LOG(2))))","v":0},null,{"$f":"N16","v":12112},{"$f":"COUNTIF(L8:L8,Y16)","v":0},{"$f":"Z16/(AB4-Z25)","v":0},{"$f":"IF(AA16=0,0,(AA16*((LOG(AA16))/LOG(2))))","v":0},null,{"$f":"N16","v":12112},{"$f":"COUNTIF(L9:L10,AD16)","v":0},{"$f":"AE16/(AG4-AE25)","v":0},{"$f":"IF(AF16=0,0,(AF16*((LOG(AF16))/LOG(2))))","v":0},null,{"$f":"N16","v":12112},{"$f":"COUNTIF(L11:L11,AI16)","v":0},{"$f":"AJ16/(AL4-AJ25)","v":0},{"$f":"IF(AK16=0,0,(AK16*((LOG(AK16))/LOG(2))))","v":0},null,{"$f":"N16","v":12112},{"$f":"COUNTIF(L12:L12,AN16)","v":0},{"$f":"AO16/(AQ4-AO25)","v":0},{"$f":"IF(AP16=0,0,(AP16*((LOG(AP16))/LOG(2))))","v":0},null,{"$f":"N16","v":12112},{"$f":"COUNTIF(L13:L13,AS16)","v":0},{"$f":"AT16/(AV4-AT25)","v":0},{"$f":"IF(AU16=0,0,(AU16*((LOG(AU16))/LOG(2))))","v":0}]
[null,null,null,null,null,null,null,null,null,null,null,null,null,12121,{"$f":"COUNTIF($L$7:$L$500,N17)","v":1},{"$f":"O17/$Q$4","v":0.14285714285714285},{"$f":"IF(P17=0,0,(P17*((LOG(P17))/LOG(2))))","v":-0.40105070315108626},null,null,{"$f":"N17","v":12121},{"$f":"COUNTIF(L7:L7,T17)","v":0},{"$f":"U17/(W4-U25)","v":0},{"$f":"IF(V17=0,0,(V17*((LOG(V17))/LOG(2))))","v":0},null,{"$f":"N17","v":12121},{"$f":"COUNTIF(L8:L8,Y17)","v":0},{"$f":"Z17/(AB4-Z25)","v":0},{"$f":"IF(AA17=0,0,(AA17*((LOG(AA17))/LOG(2))))","v":0},null,{"$f":"N17","v":12121},{"$f":"COUNTIF(L9:L10,AD17)","v":0},{"$f":"AE17/(AG4-AE25)","v":0},{"$f":"IF(AF17=0,0,(AF17*((LOG(AF17))/LOG(2))))","v":0},null,{"$f":"N17","v":12121},{"$f":"COUNTIF(L11:L11,AI17)","v":1},{"$f":"AJ17/(AL4-AJ25)","v":1},{"$f":"IF(AK17=0,0,(AK17*((LOG(AK17))/LOG(2))))","v":0},null,{"$f":"N17","v":12121},{"$f":"COUNTIF(L12:L12,AN17)","v":0},{"$f":"AO17/(AQ4-AO25)","v":0},{"$f":"IF(AP17=0,0,(AP17*((LOG(AP17))/LOG(2))))","v":0},null,{"$f":"N17","v":12121},{"$f":"COUNTIF(L13:L13,AS17)","v":0},{"$f":"AT17/(AV4-AT25)","v":0},{"$f":"IF(AU17=0,0,(AU17*((LOG(AU17))/LOG(2))))","v":0}]
[null,null,null,null,null,null,null,null,null,null,null,null,null,12122,{"$f":"COUNTIF($L$7:$L$500,N18)","v":0},{"$f":"O18/$Q$4","v":0},{"$f":"IF(P18=0,0,(P18*((LOG(P18))/LOG(2))))","v":0},null,null,{"$f":"N18","v":12122},{"$f":"COUNTIF(L7:L7,T18)","v":0},{"$f":"U18/(W4-U25)","v":0},{"$f":"IF(V18=0,0,(V18*((LOG(V18))/LOG(2))))","v":0},null,{"$f":"N18","v":12122},{"$f":"COUNTIF(L8:L8,Y18)","v":0},{"$f":"Z18/(AB4-Z25)","v":0},{"$f":"IF(AA18=0,0,(AA18*((LOG(AA18))/LOG(2))))","v":0},null,{"$f":"N18","v":12122},{"$f":"COUNTIF(L9:L10,AD18)","v":0},{"$f":"AE18/(AG4-AE25)","v":0},{"$f":"IF(AF18=0,0,(AF18*((LOG(AF18))/LOG(2))))","v":0},null,{"$f":"N18","v":12122},{"$f":"COUNTIF(L11:L11,AI18)","v":0},{"$f":"AJ18/(AL4-AJ25)","v":0},{"$f":"IF(AK18=0,0,(AK18*((LOG(AK18))/LOG(2))))","v":0},null,{"$f":"N18","v":12122},{"$f":"COUNTIF(L12:L12,AN18)","v":0},{"$f":"AO18/(AQ4-AO25)","v":0},{"$f":"IF(AP18=0,0,(AP18*((LOG(AP18))/LOG(2))))","v":0},null,{"$f":"N18","v":12122},{"$f":"COUNTIF(L13:L13,AS18)","v":0},{"$f":"AT18/(AV4-AT25)","v":0},{"$f":"IF(AU18=0,0,(AU18*((LOG(AU18))/LOG(2))))","v":0}]
[null,null,null,null,null,null,null,null,null,null,null,null,null,12211,{"$f":"COUNTIF($L$7:$L$500,N19)","v":0},{"$f":"O19/$Q$4","v":0},{"$f":"IF(P19=0,0,(P19*((LOG(P19))/LOG(2))))","v":0},null,null,{"$f":"N19","v":12211},{"$f":"COUNTIF(L7:L7,T19)","v":0},{"$f":"U19/(W4-U25)","v":0},{"$f":"IF(V19=0,0,(V19*((LOG(V19))/LOG(2))))","v":0},null,{"$f":"N19","v":12211},{"$f":"COUNTIF(L8:L8,Y19)","v":0},{"$f":"Z19/(AB4-Z25)","v":0},{"$f":"IF(AA19=0,0,(AA19*((LOG(AA19))/LOG(2))))","v":0},null,{"$f":"N19","v":12211},{"$f":"COUNTIF(L9:L10,AD19)","v":0},{"$f":"AE19/(AG4-AE25)","v":0},{"$f":"IF(AF19=0,0,(AF19*((LOG(AF19))/LOG(2))))","v":0},null,{"$f":"N19","v":12211},{"$f":"COUNTIF(L11:L11,AI19)","v":0},{"$f":"AJ19/(AL4-AJ25)","v":0},{"$f":"IF(AK19=0,0,(AK19*((LOG(AK19))/LOG(2))))","v":0},null,{"$f":"N19","v":12211},{"$f":"COUNTIF(L12:L12,AN19)","v":0},{"$f":"AO19/(AQ4-AO25)","v":0},{"$f":"IF(AP19=0,0,(AP19*((LOG(AP19))/LOG(2))))","v":0},null,{"$f":"N19","v":12211},{"$f":"COUNTIF(L13:L13,AS19)","v":0},{"$f":"AT19/(AV4-AT25)","v":0},{"$f":"IF(AU19=0,0,(AU19*((LOG(AU19))/LOG(2))))","v":0}]
[null,null,null,null,null,null,null,null,null,null,null,null,null,12212,{"$f":"COUNTIF($L$7:$L$500,N20)","v":0},{"$f":"O20/$Q$4","v":0},{"$f":"IF(P20=0,0,(P20*((LOG(P20))/LOG(2))))","v":0},null,null,{"$f":"N20","v":12212},{"$f":"COUNTIF(L7:L7,T20)","v":0},{"$f":"U20/(W4-U25)","v":0},{"$f":"IF(V20=0,0,(V20*((LOG(V20))/LOG(2))))","v":0},null,{"$f":"N20","v":12212},{"$f":"COUNTIF(L8:L8,Y20)","v":0},{"$f":"Z20/(AB4-Z25)","v":0},{"$f":"IF(AA20=0,0,(AA20*((LOG(AA20))/LOG(2))))","v":0},null,{"$f":"N20","v":12212},{"$f":"COUNTIF(L9:L10,AD20)","v":0},{"$f":"AE20/(AG4-AE25)","v":0},{"$f":"IF(AF20=0,0,(AF20*((LOG(AF20))/LOG(2))))","v":0},null,{"$f":"N20","v":12212},{"$f":"COUNTIF(L11:L11,AI20)","v":0},{"$f":"AJ20/(AL4-AJ25)","v":0},{"$f":"IF(AK20=0,0,(AK20*((LOG(AK20))/LOG(2))))","v":0},null,{"$f":"N20","v":12212},{"$f":"COUNTIF(L12:L12,AN20)","v":0},{"$f":"AO20/(AQ4-AO25)","v":0},{"$f":"IF(AP20=0,0,(AP20*((LOG(AP20))/LOG(2))))","v":0},null,{"$f":"N20","v":12212},{"$f":"COUNTIF(L13:L13,AS20)","v":0},{"$f":"AT20/(AV4-AT25)","v":0},{"$f":"IF(AU20=0,0,(AU20*((LOG(AU20))/LOG(2))))","v":0}]
[null,null,null,null,null,null,null,null,null,null,null,null,null,12221,{"$f":"COUNTIF($L$7:$L$500,N21)","v":0},{"$f":"O21/$Q$4","v":0},{"$f":"IF(P21=0,0,(P21*((LOG(P21))/LOG(2))))","v":0},null,null,{"$f":"N21","v":12221},{"$f":"COUNTIF(L7:L7,T21)","v":0},{"$f":"U21/(W4-U25)","v":0},{"$f":"IF(V21=0,0,(V21*((LOG(V21))/LOG(2))))","v":0},null,{"$f":"N21","v":12221},{"$f":"COUNTIF(L8:L8,Y21)","v":0},{"$f":"Z21/(AB4-Z25)","v":0},{"$f":"IF(AA21=0,0,(AA21*((LOG(AA21))/LOG(2))))","v":0},null,{"$f":"N21","v":12221},{"$f":"COUNTIF(L9:L10,AD21)","v":0},{"$f":"AE21/(AG4-AE25)","v":0},{"$f":"IF(AF21=0,0,(AF21*((LOG(AF21))/LOG(2))))","v":0},null,{"$f":"N21","v":12221},{"$f":"COUNTIF(L11:L11,AI21)","v":0},{"$f":"AJ21/(AL4-AJ25)","v":0},{"$f":"IF(AK21=0,0,(AK21*((LOG(AK21))/LOG(2))))","v":0},null,{"$f":"N21","v":12221},{"$f":"COUNTIF(L12:L12,AN21)","v":0},{"$f":"AO21/(AQ4-AO25)","v":0},{"$f":"IF(AP21=0,0,(AP21*((LOG(AP21))/LOG(2))))","v":0},null,{"$f":"N21","v":12221},{"$f":"COUNTIF(L13:L13,AS21)","v":0},{"$f":"AT21/(AV4-AT25)","v":0},{"$f":"IF(AU21=0,0,(AU21*((LOG(AU21))/LOG(2))))","v":0}]
[null,null,null,null,null,null,null,null,null,null,null,null,null,12222,{"$f":"COUNTIF($L$7:$L$500,N22)","v":1},{"$f":"O22/$Q$4","v":0.14285714285714285},{"$f":"IF(P22=0,0,(P22*((LOG(P22))/LOG(2))))","v":-0.40105070315108626},null,null,{"$f":"N22","v":12222},{"$f":"COUNTIF(L7:L7,T22)","v":1},{"$f":"U22/(W4-U25)","v":1},{"$f":"IF(V22=0,0,(V22*((LOG(V22))/LOG(2))))","v":0},null,{"$f":"N22","v":12222},{"$f":"COUNTIF(L8:L8,Y22)","v":0},{"$f":"Z22/(AB4-Z25)","v":0},{"$f":"IF(AA22=0,0,(AA22*((LOG(AA22))/LOG(2))))","v":0},null,{"$f":"N22","v":12222},{"$f":"COUNTIF(L9:L10,AD22)","v":0},{"$f":"AE22/(AG4-AE25)","v":0},{"$f":"IF(AF22=0,0,(AF22*((LOG(AF22))/LOG(2))))","v":0},null,{"$f":"N22","v":12222},{"$f":"COUNTIF(L11:L11,AI22)","v":0},{"$f":"AJ22/(AL4-AJ25)","v":0},{"$f":"IF(AK22=0,0,(AK22*((LOG(AK22))/LOG(2))))","v":0},null,{"$f":"N22","v":12222},{"$f":"COUNTIF(L12:L12,AN22)","v":0},{"$f":"AO22/(AQ4-AO25)","v":0},{"$f":"IF(AP22=0,0,(AP22*((LOG(AP22))/LOG(2))))","v":0},null,{"$f":"N22","v":12222},{"$f":"COUNTIF(L13:L13,AS22)","v":0},{"$f":"AT22/(AV4-AT25)","v":0},{"$f":"IF(AU22=0,0,(AU22*((LOG(AU22))/LOG(2))))","v":0}]
[null,null,null,null,null,null,null,null,null,null,null,null,null,21111,{"$f":"COUNTIF($L$7:$L$500,N23)","v":0},{"$f":"O23/$Q$4","v":0},{"$f":"IF(P23=0,0,(P23*((LOG(P23))/LOG(2))))","v":0},null,null,{"$f":"N23","v":21111},{"$f":"COUNTIF(L7:L7,T23)","v":0},{"$f":"U23/(W4-U25)","v":0},{"$f":"IF(V23=0,0,(V23*((LOG(V23))/LOG(2))))","v":0},null,{"$f":"N23","v":21111},{"$f":"COUNTIF(L8:L8,Y23)","v":0},{"$f":"Z23/(AB4-Z25)","v":0},{"$f":"IF(AA23=0,0,(AA23*((LOG(AA23))/LOG(2))))","v":0},null,{"$f":"N23","v":21111},{"$f":"COUNTIF(L9:L10,AD23)","v":0},{"$f":"AE23/(AG4-AE25)","v":0},{"$f":"IF(AF23=0,0,(AF23*((LOG(AF23))/LOG(2))))","v":0},null,{"$f":"N23","v":21111},{"$f":"COUNTIF(L11:L11,AI23)","v":0},{"$f":"AJ23/(AL4-AJ25)","v":0},{"$f":"IF(AK23=0,0,(AK23*((LOG(AK23))/LOG(2))))","v":0},null,{"$f":"N23","v":21111},{"$f":"COUNTIF(L12:L12,AN23)","v":0},{"$f":"AO23/(AQ4-AO25)","v":0},{"$f":"IF(AP23=0,0,(AP23*((LOG(AP23))/LOG(2))))","v":0},null,{"$f":"N23","v":21111},{"$f":"COUNTIF(L13:L13,AS23)","v":0},{"$f":"AT23/(AV4-AT25)","v":0},{"$f":"IF(AU23=0,0,(AU23*((LOG(AU23))/LOG(2))))","v":0}]
[null,null,null,null,null,null,null,null,null,null,null,null,null,21112,{"$f":"COUNTIF($L$7:$L$500,N24)","v":0},{"$f":"O24/$Q$4","v":0},{"$f":"IF(P24=0,0,(P24*((LOG(P24))/LOG(2))))","v":0},null,null,{"$f":"N24","v":21112},{"$f":"COUNTIF(L7:L7,T24)","v":0},{"$f":"U24/(W4-U25)","v":0},{"$f":"IF(V24=0,0,(V24*((LOG(V24))/LOG(2))))","v":0},null,{"$f":"N24","v":21112},{"$f":"COUNTIF(L8:L8,Y24)","v":0},{"$f":"Z24/(AB4-Z25)","v":0},{"$f":"IF(AA24=0,0,(AA24*((LOG(AA24))/LOG(2))))","v":0},null,{"$f":"N24","v":21112},{"$f":"COUNTIF(L9:L10,AD24)","v":0},{"$f":"AE24/(AG4-AE25)","v":0},{"$f":"IF(AF24=0,0,(AF24*((LOG(AF24))/LOG(2))))","v":0},null,{"$f":"N24","v":21112},{"$f":"COUNTIF(L11:L11,AI24)","v":0},{"$f":"AJ24/(AL4-AJ25)","v":0},{"$f":"IF(AK24=0,0,(AK24*((LOG(AK24))/LOG(2))))","v":0},null,{"$f":"N24","v":21112},{"$f":"COUNTIF(L12:L12,AN24)","v":0},{"$f":"AO24/(AQ4-AO25)","v":0},{"$f":"IF(AP24=0,0,(AP24*((LOG(AP24))/LOG(2))))","v":0},null,{"$f":"N24","v":21112},{"$f":"COUNTIF(L13:L13,AS24)","v":0},{"$f":"AT24/(AV4-AT25)","v":0},{"$f":"IF(AU24=0,0,(AU24*((LOG(AU24))/LOG(2))))","v":0}]
[null,null,null,null,null,null,null,null,null,null,null,null,null,21121,{"$f":"COUNTIF($L$7:$L$500,N25)","v":0},{"$f":"O25/$Q$4","v":0},{"$f":"IF(P25=0,0,(P25*((LOG(P25))/LOG(2))))","v":0},null,null,{"$f":"N25","v":21121},{"$f":"COUNTIF(L7:L7,T25)","v":0},null,null,null,{"$f":"N25","v":21121},{"$f":"COUNTIF(L8:L8,Y25)","v":0},null,null,null,{"$f":"N25","v":21121},{"$f":"COUNTIF(L9:L10,AD25)","v":0},null,null,null,{"$f":"N25","v":21121},{"$f":"COUNTIF(L11:L11,AI25)","v":0},null,null,null,{"$f":"N25","v":21121},{"$f":"COUNTIF(L12:L12,AN25)","v":0},null,null,null,{"$f":"N25","v":21121},{"$f":"COUNTIF(L13:L13,AS25)","v":0}]
[null,null,null,null,null,null,null,null,null,null,null,null,null,21122,{"$f":"COUNTIF($L$7:$L$500,N26)","v":0},{"$f":"O26/$Q$4","v":0},{"$f":"IF(P26=0,0,(P26*((LOG(P26))/LOG(2))))","v":0},null,null,{"$f":"N26","v":21122},{"$f":"COUNTIF(L7:L7,T26)","v":0},{"$f":"U26/(W4-U25)","v":0},{"$f":"IF(V26=0,0,(V26*((LOG(V26))/LOG(2))))","v":0},null,{"$f":"N26","v":21122},{"$f":"COUNTIF(L8:L8,Y26)","v":0},{"$f":"Z26/(AB4-Z25)","v":0},{"$f":"IF(AA26=0,0,(AA26*((LOG(AA26))/LOG(2))))","v":0},null,{"$f":"N26","v":21122},{"$f":"COUNTIF(L9:L10,AD26)","v":0},{"$f":"AE26/(AG4-AE25)","v":0},{"$f":"IF(AF26=0,0,(AF26*((LOG(AF26))/LOG(2))))","v":0},null,{"$f":"N26","v":21122},{"$f":"COUNTIF(L11:L11,AI26)","v":0},{"$f":"AJ26/(AL4-AJ25)","v":0},{"$f":"IF(AK26=0,0,(AK26*((LOG(AK26))/LOG(2))))","v":0},null,{"$f":"N26","v":21122},{"$f":"COUNTIF(L12:L12,AN26)","v":0},{"$f":"AO26/(AQ4-AO25)","v":0},{"$f":"IF(AP26=0,0,(AP26*((LOG(AP26))/LOG(2))))","v":0},null,{"$f":"N26","v":21122},{"$f":"COUNTIF(L13:L13,AS26)","v":0},{"$f":"AT26/(AV4-AT25)","v":0},{"$f":"IF(AU26=0,0,(AU26*((LOG(AU26))/LOG(2))))","v":0}]
[null,null,null,null,null,null,null,null,null,null,null,null,null,21211,{"$f":"COUNTIF($L$7:$L$500,N27)","v":0},{"$f":"O27/$Q$4","v":0},{"$f":"IF(P27=0,0,(P27*((LOG(P27))/LOG(2))))","v":0},null,null,{"$f":"N27","v":21211},{"$f":"COUNTIF(L7:L7,T27)","v":0},{"$f":"U27/(W4-U25)","v":0},{"$f":"IF(V27=0,0,(V27*((LOG(V27))/LOG(2))))","v":0},null,{"$f":"N27","v":21211},{"$f":"COUNTIF(L8:L8,Y27)","v":0},{"$f":"Z27/(AB4-Z25)","v":0},{"$f":"IF(AA27=0,0,(AA27*((LOG(AA27))/LOG(2))))","v":0},null,{"$f":"N27","v":21211},{"$f":"COUNTIF(L9:L10,AD27)","v":0},{"$f":"AE27/(AG4-AE25)","v":0},{"$f":"IF(AF27=0,0,(AF27*((LOG(AF27))/LOG(2))))","v":0},null,{"$f":"N27","v":21211},{"$f":"COUNTIF(L11:L11,AI27)","v":0},{"$f":"AJ27/(AL4-AJ25)","v":0},{"$f":"IF(AK27=0,0,(AK27*((LOG(AK27))/LOG(2))))","v":0},null,{"$f":"N27","v":21211},{"$f":"COUNTIF(L12:L12,AN27)","v":0},{"$f":"AO27/(AQ4-AO25)","v":0},{"$f":"IF(AP27=0,0,(AP27*((LOG(AP27))/LOG(2))))","v":0},null,{"$f":"N27","v":21211},{"$f":"COUNTIF(L13:L13,AS27)","v":0},{"$f":"AT27/(AV4-AT25)","v":0},{"$f":"IF(AU27=0,0,(AU27*((LOG(AU27))/LOG(2))))","v":0}]
[null,null,null,null,null,null,null,null,null,null,null,null,null,21212,{"$f":"COUNTIF($L$7:$L$500,N28)","v":0},{"$f":"O28/$Q$4","v":0},{"$f":"IF(P28=0,0,(P28*((LOG(P28))/LOG(2))))","v":0},null,null,{"$f":"N28","v":21212},{"$f":"COUNTIF(L7:L7,T28)","v":0},{"$f":"U28/(W4-U25)","v":0},{"$f":"IF(V28=0,0,(V28*((LOG(V28))/LOG(2))))","v":0},null,{"$f":"N28","v":21212},{"$f":"COUNTIF(L8:L8,Y28)","v":0},{"$f":"Z28/(AB4-Z25)","v":0},{"$f":"IF(AA28=0,0,(AA28*((LOG(AA28))/LOG(2))))","v":0},null,{"$f":"N28","v":21212},{"$f":"COUNTIF(L9:L10,AD28)","v":0},{"$f":"AE28/(AG4-AE25)","v":0},{"$f":"IF(AF28=0,0,(AF28*((LOG(AF28))/LOG(2))))","v":0},null,{"$f":"N28","v":21212},{"$f":"COUNTIF(L11:L11,AI28)","v":0},{"$f":"AJ28/(AL4-AJ25)","v":0},{"$f":"IF(AK28=0,0,(AK28*((LOG(AK28))/LOG(2))))","v":0},null,{"$f":"N28","v":21212},{"$f":"COUNTIF(L12:L12,AN28)","v":0},{"$f":"AO28/(AQ4-AO25)","v":0},{"$f":"IF(AP28=0,0,(AP28*((LOG(AP28))/LOG(2))))","v":0},null,{"$f":"N28","v":21212},{"$f":"COUNTIF(L13:L13,AS28)","v":0},{"$f":"AT28/(AV4-AT25)","v":0},{"$f":"IF(AU28=0,0,(AU28*((LOG(AU28))/LOG(2))))","v":0}]
[null,null,null,null,null,null,null,null,null,null,null,null,null,21221,{"$f":"COUNTIF($L$7:$L$500,N29)","v":0},{"$f":"O29/$Q$4","v":0},{"$f":"IF(P29=0,0,(P29*((LOG(P29))/LOG(2))))","v":0},null,null,{"$f":"N29","v":21221},{"$f":"COUNTIF(L7:L7,T29)","v":0},{"$f":"U29/(W4-U25)","v":0},{"$f":"IF(V29=0,0,(V29*((LOG(V29))/LOG(2))))","v":0},null,{"$f":"N29","v":21221},{"$f":"COUNTIF(L8:L8,Y29)","v":0},{"$f":"Z29/(AB4-Z25)","v":0},{"$f":"IF(AA29=0,0,(AA29*((LOG(AA29))/LOG(2))))","v":0},null,{"$f":"N29","v":21221},{"$f":"COUNTIF(L9:L10,AD29)","v":0},{"$f":"AE29/(AG4-AE25)","v":0},{"$f":"IF(AF29=0,0,(AF29*((LOG(AF29))/LOG(2))))","v":0},null,{"$f":"N29","v":21221},{"$f":"COUNTIF(L11:L11,AI29)","v":0},{"$f":"AJ29/(AL4-AJ25)","v":0},{"$f":"IF(AK29=0,0,(AK29*((LOG(AK29))/LOG(2))))","v":0},null,{"$f":"N29","v":21221},{"$f":"COUNTIF(L12:L12,AN29)","v":0},{"$f":"AO29/(AQ4-AO25)","v":0},{"$f":"IF(AP29=0,0,(AP29*((LOG(AP29))/LOG(2))))","v":0},null,{"$f":"N29","v":21221},{"$f":"COUNTIF(L13:L13,AS29)","v":0},{"$f":"AT29/(AV4-AT25)","v":0},{"$f":"IF(AU29=0,0,(AU29*((LOG(AU29))/LOG(2))))","v":0}]
[null,null,null,null,null,null,null,null,null,null,null,null,null,21222,{"$f":"COUNTIF($L$7:$L$500,N30)","v":0},{"$f":"O30/$Q$4","v":0},{"$f":"IF(P30=0,0,(P30*((LOG(P30))/LOG(2))))","v":0},null,null,{"$f":"N30","v":21222},{"$f":"COUNTIF(L7:L7,T30)","v":0},{"$f":"U30/(W4-U25)","v":0},{"$f":"IF(V30=0,0,(V30*((LOG(V30))/LOG(2))))","v":0},null,{"$f":"N30","v":21222},{"$f":"COUNTIF(L8:L8,Y30)","v":0},{"$f":"Z30/(AB4-Z25)","v":0},{"$f":"IF(AA30=0,0,(AA30*((LOG(AA30))/LOG(2))))","v":0},null,{"$f":"N30","v":21222},{"$f":"COUNTIF(L9:L10,AD30)","v":0},{"$f":"AE30/(AG4-AE25)","v":0},{"$f":"IF(AF30=0,0,(AF30*((LOG(AF30))/LOG(2))))","v":0},null,{"$f":"N30","v":21222},{"$f":"COUNTIF(L11:L11,AI30)","v":0},{"$f":"AJ30/(AL4-AJ25)","v":0},{"$f":"IF(AK30=0,0,(AK30*((LOG(AK30))/LOG(2))))","v":0},null,{"$f":"N30","v":21222},{"$f":"COUNTIF(L12:L12,AN30)","v":0},{"$f":"AO30/(AQ4-AO25)","v":0},{"$f":"IF(AP30=0,0,(AP30*((LOG(AP30))/LOG(2))))","v":0},null,{"$f":"N30","v":21222},{"$f":"COUNTIF(L13:L13,AS30)","v":0},{"$f":"AT30/(AV4-AT25)","v":0},{"$f":"IF(AU30=0,0,(AU30*((LOG(AU30))/LOG(2))))","v":0}]
[null,null,null,null,null,null,null,null,null,null,null,null,null,22111,{"$f":"COUNTIF($L$7:$L$500,N31)","v":0},{"$f":"O31/$Q$4","v":0},{"$f":"IF(P31=0,0,(P31*((LOG(P31))/LOG(2))))","v":0},null,null,{"$f":"N31","v":22111},{"$f":"COUNTIF(L7:L7,T31)","v":0},{"$f":"U31/(W4-U25)","v":0},{"$f":"IF(V31=0,0,(V31*((LOG(V31))/LOG(2))))","v":0},null,{"$f":"N31","v":22111},{"$f":"COUNTIF(L8:L8,Y31)","v":0},{"$f":"Z31/(AB4-Z25)","v":0},{"$f":"IF(AA31=0,0,(AA31*((LOG(AA31))/LOG(2))))","v":0},null,{"$f":"N31","v":22111},{"$f":"COUNTIF(L9:L10,AD31)","v":0},{"$f":"AE31/(AG4-AE25)","v":0},{"$f":"IF(AF31=0,0,(AF31*((LOG(AF31))/LOG(2))))","v":0},null,{"$f":"N31","v":22111},{"$f":"COUNTIF(L11:L11,AI31)","v":0},{"$f":"AJ31/(AL4-AJ25)","v":0},{"$f":"IF(AK31=0,0,(AK31*((LOG(AK31))/LOG(2))))","v":0},null,{"$f":"N31","v":22111},{"$f":"COUNTIF(L12:L12,AN31)","v":0},{"$f":"AO31/(AQ4-AO25)","v":0},{"$f":"IF(AP31=0,0,(AP31*((LOG(AP31))/LOG(2))))","v":0},null,{"$f":"N31","v":22111},{"$f":"COUNTIF(L13:L13,AS31)","v":0},{"$f":"AT31/(AV4-AT25)","v":0},{"$f":"IF(AU31=0,0,(AU31*((LOG(AU31))/LOG(2))))","v":0}]
[null,null,null,null,null,null,null,null,null,null,null,null,null,22112,{"$f":"COUNTIF($L$7:$L$500,N32)","v":0},{"$f":"O32/$Q$4","v":0},{"$f":"IF(P32=0,0,(P32*((LOG(P32))/LOG(2))))","v":0},null,null,{"$f":"N32","v":22112},{"$f":"COUNTIF(L7:L7,T32)","v":0},{"$f":"U32/(W4-U25)","v":0},{"$f":"IF(V32=0,0,(V32*((LOG(V32))/LOG(2))))","v":0},null,{"$f":"N32","v":22112},{"$f":"COUNTIF(L8:L8,Y32)","v":0},{"$f":"Z32/(AB4-Z25)","v":0},{"$f":"IF(AA32=0,0,(AA32*((LOG(AA32))/LOG(2))))","v":0},null,{"$f":"N32","v":22112},{"$f":"COUNTIF(L9:L10,AD32)","v":0},{"$f":"AE32/(AG4-AE25)","v":0},{"$f":"IF(AF32=0,0,(AF32*((LOG(AF32))/LOG(2))))","v":0},null,{"$f":"N32","v":22112},{"$f":"COUNTIF(L11:L11,AI32)","v":0},{"$f":"AJ32/(AL4-AJ25)","v":0},{"$f":"IF(AK32=0,0,(AK32*((LOG(AK32))/LOG(2))))","v":0},null,{"$f":"N32","v":22112},{"$f":"COUNTIF(L12:L12,AN32)","v":0},{"$f":"AO32/(AQ4-AO25)","v":0},{"$f":"IF(AP32=0,0,(AP32*((LOG(AP32))/LOG(2))))","v":0},null,{"$f":"N32","v":22112},{"$f":"COUNTIF(L13:L13,AS32)","v":0},{"$f":"AT32/(AV4-AT25)","v":0},{"$f":"IF(AU32=0,0,(AU32*((LOG(AU32))/LOG(2))))","v":0}]
[null,null,null,null,null,null,null,null,null,null,null,null,null,22121,{"$f":"COUNTIF($L$7:$L$500,N33)","v":2},{"$f":"O33/$Q$4","v":0.2857142857142857},{"$f":"IF(P33=0,0,(P33*((LOG(P33))/LOG(2))))","v":-0.51638712058788683},null,null,{"$f":"N33","v":22121},{"$f":"COUNTIF(L7:L7,T33)","v":0},{"$f":"U33/(W4-U25)","v":0},{"$f":"IF(V33=0,0,(V33*((LOG(V33))/LOG(2))))","v":0},null,{"$f":"N33","v":22121},{"$f":"COUNTIF(L8:L8,Y33)","v":0},{"$f":"Z33/(AB4-Z25)","v":0},{"$f":"IF(AA33=0,0,(AA33*((LOG(AA33))/LOG(2))))","v":0},null,{"$f":"N33","v":22121},{"$f":"COUNTIF(L9:L10,AD33)","v":2},{"$f":"AE33/(AG4-AE25)","v":1},{"$f":"IF(AF33=0,0,(AF33*((LOG(AF33))/LOG(2))))","v":0},null,{"$f":"N33","v":22121},{"$f":"COUNTIF(L11:L11,AI33)","v":0},{"$f":"AJ33/(AL4-AJ25)","v":0},{"$f":"IF(AK33=0,0,(AK33*((LOG(AK33))/LOG(2))))","v":0},null,{"$f":"N33","v":22121},{"$f":"COUNTIF(L12:L12,AN33)","v":0},{"$f":"AO33/(AQ4-AO25)","v":0},{"$f":"IF(AP33=0,0,(AP33*((LOG(AP33))/LOG(2))))","v":0},null,{"$f":"N33","v":22121},{"$f":"COUNTIF(L13:L13,AS33)","v":0},{"$f":"AT33/(AV4-AT25)","v":0},{"$f":"IF(AU33=0,0,(AU33*((LOG(AU33))/LOG(2))))","v":0}]
[null,null,null,null,null,null,null,null,null,null,null,null,null,22122,{"$f":"COUNTIF($L$7:$L$500,N34)","v":0},{"$f":"O34/$Q$4","v":0},{"$f":"IF(P34=0,0,(P34*((LOG(P34))/LOG(2))))","v":0},null,null,{"$f":"N34","v":22122},{"$f":"COUNTIF(L7:L7,T34)","v":0},{"$f":"U34/(W4-U25)","v":0},{"$f":"IF(V34=0,0,(V34*((LOG(V34))/LOG(2))))","v":0},null,{"$f":"N34","v":22122},{"$f":"COUNTIF(L8:L8,Y34)","v":0},{"$f":"Z34/(AB4-Z25)","v":0},{"$f":"IF(AA34=0,0,(AA34*((LOG(AA34))/LOG(2))))","v":0},null,{"$f":"N34","v":22122},{"$f":"COUNTIF(L9:L10,AD34)","v":0},{"$f":"AE34/(AG4-AE25)","v":0},{"$f":"IF(AF34=0,0,(AF34*((LOG(AF34))/LOG(2))))","v":0},null,{"$f":"N34","v":22122},{"$f":"COUNTIF(L11:L11,AI34)","v":0},{"$f":"AJ34/(AL4-AJ25)","v":0},{"$f":"IF(AK34=0,0,(AK34*((LOG(AK34))/LOG(2))))","v":0},null,{"$f":"N34","v":22122},{"$f":"COUNTIF(L12:L12,AN34)","v":0},{"$f":"AO34/(AQ4-AO25)","v":0},{"$f":"IF(AP34=0,0,(AP34*((LOG(AP34))/LOG(2))))","v":0},null,{"$f":"N34","v":22122},{"$f":"COUNTIF(L13:L13,AS34)","v":0},{"$f":"AT34/(AV4-AT25)","v":0},{"$f":"IF(AU34=0,0,(AU34*((LOG(AU34))/LOG(2))))","v":0}]
[null,null,null,null,null,null,null,null,null,null,null,null,null,22211,{"$f":"COUNTIF($L$7:$L$500,N35)","v":0},{"$f":"O35/$Q$4","v":0},{"$f":"IF(P35=0,0,(P35*((LOG(P35))/LOG(2))))","v":0},null,null,{"$f":"N35","v":22211},{"$f":"COUNTIF(L7:L7,T35)","v":0},{"$f":"U35/(W4-U25)","v":0},{"$f":"IF(V35=0,0,(V35*((LOG(V35))/LOG(2))))","v":0},null,{"$f":"N35","v":22211},{"$f":"COUNTIF(L8:L8,Y35)","v":0},{"$f":"Z35/(AB4-Z25)","v":0},{"$f":"IF(AA35=0,0,(AA35*((LOG(AA35))/LOG(2))))","v":0},null,{"$f":"N35","v":22211},{"$f":"COUNTIF(L9:L10,AD35)","v":0},{"$f":"AE35/(AG4-AE25)","v":0},{"$f":"IF(AF35=0,0,(AF35*((LOG(AF35))/LOG(2))))","v":0},null,{"$f":"N35","v":22211},{"$f":"COUNTIF(L11:L11,AI35)","v":0},{"$f":"AJ35/(AL4-AJ25)","v":0},{"$f":"IF(AK35=0,0,(AK35*((LOG(AK35))/LOG(2))))","v":0},null,{"$f":"N35","v":22211},{"$f":"COUNTIF(L12:L12,AN35)","v":0},{"$f":"AO35/(AQ4-AO25)","v":0},{"$f":"IF(AP35=0,0,(AP35*((LOG(AP35))/LOG(2))))","v":0},null,{"$f":"N35","v":22211},{"$f":"COUNTIF(L13:L13,AS35)","v":0},{"$f":"AT35/(AV4-AT25)","v":0},{"$f":"IF(AU35=0,0,(AU35*((LOG(AU35))/LOG(2))))","v":0}]
[null,null,null,null,null,null,null,null,null,null,null,null,null,22212,{"$f":"COUNTIF($L$7:$L$500,N36)","v":0},{"$f":"O36/$Q$4","v":0},{"$f":"IF(P36=0,0,(P36*((LOG(P36))/LOG(2))))","v":0},null,null,{"$f":"N36","v":22212},{"$f":"COUNTIF(L7:L7,T36)","v":0},{"$f":"U36/(W4-U25)","v":0},{"$f":"IF(V36=0,0,(V36*((LOG(V36))/LOG(2))))","v":0},null,{"$f":"N36","v":22212},{"$f":"COUNTIF(L8:L8,Y36)","v":0},{"$f":"Z36/(AB4-Z25)","v":0},{"$f":"IF(AA36=0,0,(AA36*((LOG(AA36))/LOG(2))))","v":0},null,{"$f":"N36","v":22212},{"$f":"COUNTIF(L9:L10,AD36)","v":0},{"$f":"AE36/(AG4-AE25)","v":0},{"$f":"IF(AF36=0,0,(AF36*((LOG(AF36))/LOG(2))))","v":0},null,{"$f":"N36","v":22212},{"$f":"COUNTIF(L11:L11,AI36)","v":0},{"$f":"AJ36/(AL4-AJ25)","v":0},{"$f":"IF(AK36=0,0,(AK36*((LOG(AK36))/LOG(2))))","v":0},null,{"$f":"N36","v":22212},{"$f":"COUNTIF(L12:L12,AN36)","v":0},{"$f":"AO36/(AQ4-AO25)","v":0},{"$f":"IF(AP36=0,0,(AP36*((LOG(AP36))/LOG(2))))","v":0},null,{"$f":"N36","v":22212},{"$f":"COUNTIF(L13:L13,AS36)","v":0},{"$f":"AT36/(AV4-AT25)","v":0},{"$f":"IF(AU36=0,0,(AU36*((LOG(AU36))/LOG(2))))","v":0}]
[null,null,null,null,null,null,null,null,null,null,null,null,null,22221,{"$f":"COUNTIF($L$7:$L$500,N37)","v":0},{"$f":"O37/$Q$4","v":0},{"$f":"IF(P37=0,0,(P37*((LOG(P37))/LOG(2))))","v":0},null,null,{"$f":"N37","v":22221},{"$f":"COUNTIF(L7:L7,T37)","v":0},{"$f":"U37/(W4-U25)","v":0},{"$f":"IF(V37=0,0,(V37*((LOG(V37))/LOG(2))))","v":0},null,{"$f":"N37","v":22221},{"$f":"COUNTIF(L8:L8,Y37)","v":0},{"$f":"Z37/(AB4-Z25)","v":0},{"$f":"IF(AA37=0,0,(AA37*((LOG(AA37))/LOG(2))))","v":0},null,{"$f":"N37","v":22221},{"$f":"COUNTIF(L9:L10,AD37)","v":0},{"$f":"AE37/(AG4-AE25)","v":0},{"$f":"IF(AF37=0,0,(AF37*((LOG(AF37))/LOG(2))))","v":0},null,{"$f":"N37","v":22221},{"$f":"COUNTIF(L11:L11,AI37)","v":0},{"$f":"AJ37/(AL4-AJ25)","v":0},{"$f":"IF(AK37=0,0,(AK37*((LOG(AK37))/LOG(2))))","v":0},null,{"$f":"N37","v":22221},{"$f":"COUNTIF(L12:L12,AN37)","v":0},{"$f":"AO37/(AQ4-AO25)","v":0},{"$f":"IF(AP37=0,0,(AP37*((LOG(AP37))/LOG(2))))","v":0},null,{"$f":"N37","v":22221},{"$f":"COUNTIF(L13:L13,AS37)","v":0},{"$f":"AT37/(AV4-AT25)","v":0},{"$f":"IF(AU37=0,0,(AU37*((LOG(AU37))/LOG(2))))","v":0}]
[null,null,null,null,null,null,null,null,null,null,null,null,null,22222,{"$f":"COUNTIF($L$7:$L$500,N38)","v":1},{"$f":"O38/$Q$4","v":0.14285714285714285},{"$f":"IF(P38=0,0,(P38*((LOG(P38))/LOG(2))))","v":-0.40105070315108626},null,null,{"$f":"N38","v":22222},{"$f":"COUNTIF(L7:L7,T38)","v":0},{"$f":"U38/(W4-U25)","v":0},{"$f":"IF(V38=0,0,(V38*((LOG(V38))/LOG(2))))","v":0},null,{"$f":"N38","v":22222},{"$f":"COUNTIF(L8:L8,Y38)","v":1},{"$f":"Z38/(AB4-Z25)","v":1},{"$f":"IF(AA38=0,0,(AA38*((LOG(AA38))/LOG(2))))","v":0},null,{"$f":"N38","v":22222},{"$f":"COUNTIF(L9:L10,AD38)","v":0},{"$f":"AE38/(AG4-AE25)","v":0},{"$f":"IF(AF38=0,0,(AF38*((LOG(AF38))/LOG(2))))","v":0},null,{"$f":"N38","v":22222},{"$f":"COUNTIF(L11:L11,AI38)","v":0},{"$f":"AJ38/(AL4-AJ25)","v":0},{"$f":"IF(AK38=0,0,(AK38*((LOG(AK38))/LOG(2))))","v":0},null,{"$f":"N38","v":22222},{"$f":"COUNTIF(L12:L12,AN38)","v":0},{"$f":"AO38/(AQ4-AO25)","v":0},{"$f":"IF(AP38=0,0,(AP38*((LOG(AP38))/LOG(2))))","v":0},null,{"$f":"N38","v":22222},{"$f":"COUNTIF(L13:L13,AS38)","v":0},{"$f":"AT38/(AV4-AT25)","v":0},{"$f":"IF(AU38=0,0,(AU38*((LOG(AU38))/LOG(2))))","v":0}]
[null,null,null,null,null,null,null,null,null,null,null,null,null,null,null,{"$f":"SUM(P7:P38)","v":1},{"$f":"-SUM(Q7:Q38)","v":2.5216406363433181},null,null,null,null,{"$f":"SUM(V7:V38)","v":1},{"$f":"-SUM(W7:W38)","v":0},null,null,null,{"$f":"SUM(AA7:AA38)","v":1},{"$f":"-SUM(AB7:AB38)","v":0},null,null,null,{"$f":"SUM(AF7:AF38)","v":1},{"$f":"-SUM(AG7:AG38)","v":0},null,null,null,{"$f":"SUM(AK7:AK38)","v":1},{"$f":"-SUM(AL7:AL38)","v":0},null,null,null,{"$f":"SUM(AP7:AP38)","v":1},{"$f":"-SUM(AQ7:AQ38)","v":0},null,null,null,{"$f":"SUM(AU7:AU38)","v":1},{"$f":"-SUM(AV7:AV38)","v":0}]
[null,null,null,null,null,null,null,null,null,null,null,null,null,null,null,"U=",{"$f":"Q39/(LOG(Q4)/LOG(2))","v":0.89822651796913644},null,null,null,null,"U1=",{"$f":"W39/(LOG(W4)/LOG(2))","v":{"$error":"#DIV/0!"}},null,null,null,"U2=",{"$f":"AB39/(LOG(AB4)/LOG(2))","v":{"$error":"#DIV/0!"}},null,null,null,"U3=",{"$f":"AG39/(LOG(AG4)/LOG(2))","v":0},null,null,null,"U4=",{"$f":"AL39/(LOG(AL4)/LOG(2))","v":{"$error":"#DIV/0!"}},null,null,null,"U5=",{"$f":"AQ39/(LOG(AQ4)/LOG(2))","v":{"$error":"#DIV/0!"}},null,null,null,"U6=",{"$f":"AV39/(LOG(AV4)/LOG(2))","v":{"$error":"#DIV/0!"}}]
[]
[]
[null,null,null,null,null,null,null,null,null,null,null,null,null,"Total Target Seq"]
[null,null,null,null,null,null,null,null,null,null,null,null,null,{"$f":"COUNTIF(L7:L13,G3)","v":0},null,1,1,2,1,1,1]
[null,null,null,null,null,null,null,null,null,null,null,null,null,null,null,"% of reinforcement given in 6 equal intervals based on number of trials "]
[null,null,null,null,null,null,null,null,null,null,null,null,null,null,null,"%_1","%_2","%_3","%_4","%_5","%_6"]
[null,null,null,null,null,null,null,null,null,null,null,null,null,null,"target sequence",{"$f":"$G$3","v":21121},{"$f":"$G$3","v":21121},{"$f":"$G$3","v":21121},{"$f":"$G$3","v":21121},{"$f":"$G$3","v":21121},{"$f":"$G$3","v":21121}]
[null,null,null,null,null,null,null,null,null,null,null,null,null,null,"total reinforcement",{"$f":"U25","v":0},{"$f":"Z25","v":0},{"$f":"AE25","v":0},{"$f":"AJ25","v":0},{"$f":"AO25","v":0},{"$f":"AT25","v":0}]
[null,null,null,null,null,null,null,null,null,null,null,null,null,null,"% target"]
[null,null,null,null,null,null,null,null,null,null,null,null,null,null,"CCRF"]
[null,null,null,null,null,null,null,null,null,null,null,null,null,null,"% CCRf"]
[null,null,null,null,null,null,null,null,null,null,null,null,null,null,"average response rate",{"$f":"J7/P44","v":64},{"$f":"(J8-J7)/Q44","v":226},{"$f":"(J10-J8)/R44","v":613.5},{"$f":"(J11-J10)/S44","v":214},{"$f":"(J12-J11)/T44","v":2842},{"$f":"(J13-J12)/U44","v":17165}]

{"sheet":"!N118B10.105","index":20,"n_rows":52,"n_cols":48,"rows_kept":52,"cut":false,"hidden":false,"merged":[[4,39,4,42],[5,39,5,40],[4,44,4,47],[5,44,5,45],[4,24,4,27],[5,24,5,25],[4,29,4,32],[5,29,5,30],[4,34,4,37],[5,34,5,35],[1,1,1,2],[5,13,5,14],[42,13,42,14],[43,13,43,14],[4,19,4,22],[5,19,5,20]]}
["Report for:!N118B10.105"]
["Date:","<date>"]
["Hen:","<hen>",null,null,null,"Correct Sequence",{"$f":"Start!J2","v":21121},null,null,null,null,null,null,null,null,"Total Sequences in Data",{"$f":"4994-COUNTBLANK(L7:L5000)","v":12},null,null,null,null,"Total Sequences in Block Data",{"$f":"COUNTA(L7:L8)","v":2},null,null,null,"Total Sequences in Block Data",{"$f":"COUNTA(L9:L10)","v":2},null,null,null,"Total Sequences in Block Data",{"$f":"COUNTA(L11:L12)","v":2},null,null,null,"Total Sequences in Block Data",{"$f":"COUNTA(L13:L14)","v":2},null,null,null,"Total Sequences in Block Data",{"$f":"COUNTA(L15:L16)","v":2},null,null,null,"Total Sequences in Block Data",{"$f":"COUNTA(L17:L18)","v":2}]
[null,null,null,null,null,null,null,null,null,null,null,null,null,null,null,"Total Sequences in Summary",{"$f":"SUM(O7:O38)","v":11},null,null,null,null,"Total Sequences in Block Summary",{"$f":"SUM(U7:U38)","v":2},null,null,null,"Total Sequences in Block Summary",{"$f":"SUM(Z7:Z38)","v":2},null,null,null,"Total Sequences in Block Summary",{"$f":"SUM(AE7:AE38)","v":2},null,null,null,"Total Sequences in Block Summary",{"$f":"SUM(AJ7:AJ38)","v":2},null,null,null,"Total Sequences in Block Summary",{"$f":"SUM(AO7:AO38)","v":2},null,null,null,"Total Sequences in Block Summary",{"$f":"SUM(AT7:AT38)","v":1}]
[null,null,null,null,null,null,null,null,null,null,null,null,null,null,null,null,null,null,null,"Block 1",null,null,null,null,"Block 2",null,null,null,null,"Block 3",null,null,null,null,"Block 4",null,null,null,null,"Block 5",null,null,null,null,"Block 6"]
["Sequence\nComponent\n1","Time\n1","Sequence\nComponent\n2","Time\n2","Sequence\nComponent\n3","Time\n3","Sequence\nComponent\n4","Time\n4","Sequence\nComponent\n5","Time\n5","Correct?\n0=No 1=Yes","Sequence",null,"Frequency",null,"Relative Frequency","Variability",null,null,"Frequency",null,"Relative Frequency","Variability",null,"Frequency",null,"Relative Frequency","Variability",null,"Frequency",null,"Relative Frequency","Variability",null,"Frequency",null,"Relative Frequency","Variability",null,"Frequency",null,"Relative Frequency","Variability",null,"Frequency",null,"Relative Frequency","Variability"]
[21,762,22,773,24,787,23,814,13,835,1,22221,null,11111,{"$f":"COUNTIF($L$7:$L$500,N7)","v":2},{"$f":"O7/$Q$4","v":0.18181818181818182},{"$f":"IF(P7=0,0,(P7*((LOG(P7))/LOG(2))))","v":-0.44716938520678134},null,null,{"$f":"N7","v":11111},{"$f":"COUNTIF(L7:L8,T7)","v":0},{"$f":"U7/(W4-U25)","v":0},{"$f":"IF(V7=0,0,(V7*((LOG(V7))/LOG(2))))","v":0},null,{"$f":"N7","v":11111},{"$f":"COUNTIF(L9:L10,Y7)","v":0},{"$f":"Z7/(AB4-Z25)","v":0},{"$f":"IF(AA7=0,0,(AA7*((LOG(AA7))/LOG(2))))","v":0},null,{"$f":"N7","v":11111},{"$f":"COUNTIF(L11:L12,AD7)","v":0},{"$f":"AE7/(AG4-AE25)","v":0},{"$f":"IF(AF7=0,0,(AF7*((LOG(AF7))/LOG(2))))","v":0},null,{"$f":"N7","v":11111},{"$f":"COUNTIF(L13:L14,AI7)","v":1},{"$f":"AJ7/(AL4-AJ25)","v":0.5},{"$f":"IF(AK7=0,0,(AK7*((LOG(AK7))/LOG(2))))","v":-0.5},null,{"$f":"N7","v":11111},{"$f":"COUNTIF(L15:L16,AN7)","v":1},{"$f":"AO7/(AQ4-AO25)","v":0.5},{"$f":"IF(AP7=0,0,(AP7*((LOG(AP7))/LOG(2))))","v":-0.5},null,{"$f":"N7","v":11111},{"$f":"COUNTIF(L17:L18,AS7)","v":0},{"$f":"AT7/(AV4-AT25)","v":0},{"$f":"IF(AU7=0,0,(AU7*((LOG(AU7))/LOG(2))))","v":0}]
[21,961,11,981,22,993,23,1014,24,1039,0,21222,null,11112,{"$f":"COUNTIF($L$7:$L$500,N8)","v":0},{"$f":"O8/$Q$4","v":0},{"$f":"IF(P8=0,0,(P8*((LOG(P8))/LOG(2))))","v":0},null,null,{"$f":"N8","v":11112},{"$f":"COUNTIF(L7:L8,T8)","v":0},{"$f":"U8/(W4-U25)","v":0},{"$f":"IF(V8=0,0,(V8*((LOG(V8))/LOG(2))))","v":0},null,{"$f":"N8","v":11112},{"$f":"COUNTIF(L9:L10,Y8)","v":0},{"$f":"Z8/(AB4-Z25)","v":0},{"$f":"IF(AA8=0,0,(AA8*((LOG(AA8))/LOG(2))))","v":0},null,{"$f":"N8","v":11112},{"$f":"COUNTIF(L11:L12,AD8)","v":0},{"$f":"AE8/(AG4-AE25)","v":0},{"$f":"IF(AF8=0,0,(AF8*((LOG(AF8))/LOG(2))))","v":0},null,{"$f":"N8","v":11112},{"$f":"COUNTIF(L13:L14,AI8)","v":0},{"$f":"AJ8/(AL4-AJ25)","v":0},{"$f":"IF(AK8=0,0,(AK8*((LOG(AK8))/LOG(2))))","v":0},null,{"$f":"N8","v":11112},{"$f":"COUNTIF(L15:L16,AN8)","v":0},{"$f":"AO8/(AQ4-AO25)","v":0},{"$f":"IF(AP8=0,0,(AP8*((LOG(AP8))/LOG(2))))","v":0},null,{"$f":"N8","v":11112},{"$f":"COUNTIF(L17:L18,AS8)","v":0},{"$f":"AT8/(AV4-AT25)","v":0},{"$f":"IF(AU8=0,0,(AU8*((LOG(AU8))/LOG(2))))","v":0}]
[21,1165,22,1222,13,1241,23,1250,24,1267,0,22122,null,11121,{"$f":"COUNTIF($L$7:$L$500,N9)","v":0},{"$f":"O9/$Q$4","v":0},{"$f":"IF(P9=0,0,(P9*((LOG(P9))/LOG(2))))","v":0},null,null,{"$f":"N9","v":11121},{"$f":"COUNTIF(L7:L8,T9)","v":0},{"$f":"U9/(W4-U25)","v":0},{"$f":"IF(V9=0,0,(V9*((LOG(V9))/LOG(2))))","v":0},null,{"$f":"N9","v":11121},{"$f":"COUNTIF(L9:L10,Y9)","v":0},{"$f":"Z9/(AB4-Z25)","v":0},{"$f":"IF(AA9=0,0,(AA9*((LOG(AA9))/LOG(2))))","v":0},null,{"$f":"N9","v":11121},{"$f":"COUNTIF(L11:L12,AD9)","v":0},{"$f":"AE9/(AG4-AE25)","v":0},{"$f":"IF(AF9=0,0,(AF9*((LOG(AF9))/LOG(2))))","v":0},null,{"$f":"N9","v":11121},{"$f":"COUNTIF(L13:L14,AI9)","v":0},{"$f":"AJ9/(AL4-AJ25)","v":0},{"$f":"IF(AK9=0,0,(AK9*((LOG(AK9))/LOG(2))))","v":0},null,{"$f":"N9","v":11121},{"$f":"COUNTIF(L15:L16,AN9)","v":0},{"$f":"AO9/(AQ4-AO25)","v":0},{"$f":"IF(AP9=0,0,(AP9*((LOG(AP9))/LOG(2))))","v":0},null,{"$f":"N9","v":11121},{"$f":"COUNTIF(L17:L18,AS9)","v":0},{"$f":"AT9/(AV4-AT25)","v":0},{"$f":"IF(AU9=0,0,(AU9*((LOG(AU9))/LOG(2))))","v":0}]
[12,1487,24,1497,13,1527,23,1537,24,1563,0,12122,null,11122,{"$f":"COUNTIF($L$7:$L$500,N10)","v":0},{"$f":"O10/$Q$4","v":0},{"$f":"IF(P10=0,0,(P10*((LOG(P10))/LOG(2))))","v":0},null,null,{"$f":"N10","v":11122},{"$f":"COUNTIF(L7:L8,T10)","v":0},{"$f":"U10/(W4-U25)","v":0},{"$f":"IF(V10=0,0,(V10*((LOG(V10))/LOG(2))))","v":0},null,{"$f":"N10","v":11122},{"$f":"COUNTIF(L9:L10,Y10)","v":0},{"$f":"Z10/(AB4-Z25)","v":0},{"$f":"IF(AA10=0,0,(AA10*((LOG(AA10))/LOG(2))))","v":0},null,{"$f":"N10","v":11122},{"$f":"COUNTIF(L11:L12,AD10)","v":0},{"$f":"AE10/(AG4-AE25)","v":0},{"$f":"IF(AF10=0,0,(AF10*((LOG(AF10))/LOG(2))))","v":0},null,{"$f":"N10","v":11122},{"$f":"COUNTIF(L13:L14,AI10)","v":0},{"$f":"AJ10/(AL4-AJ25)","v":0},{"$f":"IF(AK10=0,0,(AK10*((LOG(AK10))/LOG(2))))","v":0},null,{"$f":"N10","v":11122},{"$f":"COUNTIF(L15:L16,AN10)","v":0},{"$f":"AO10/(AQ4-AO25)","v":0},{"$f":"IF(AP10=0,0,(AP10*((LOG(AP10))/LOG(2))))","v":0},null,{"$f":"N10","v":11122},{"$f":"COUNTIF(L17:L18,AS10)","v":0},{"$f":"AT10/(AV4-AT25)","v":0},{"$f":"IF(AU10=0,0,(AU10*((LOG(AU10))/LOG(2))))","v":0}]
[21,1693,22,1704,13,1717,14,1779,13,1821,0,22111,null,11211,{"$f":"COUNTIF($L$7:$L$500,N11)","v":1},{"$f":"O11/$Q$4","v":9.0909090909090912E-2},{"$f":"IF(P11=0,0,(P11*((LOG(P11))/LOG(2))))","v":-0.31449378351248153},null,null,{"$f":"N11","v":11211},{"$f":"COUNTIF(L7:L8,T11)","v":0},{"$f":"U11/(W4-U25)","v":0},{"$f":"IF(V11=0,0,(V11*((LOG(V11))/LOG(2))))","v":0},null,{"$f":"N11","v":11211},{"$f":"COUNTIF(L9:L10,Y11)","v":0},{"$f":"Z11/(AB4-Z25)","v":0},{"$f":"IF(AA11=0,0,(AA11*((LOG(AA11))/LOG(2))))","v":0},null,{"$f":"N11","v":11211},{"$f":"COUNTIF(L11:L12,AD11)","v":0},{"$f":"AE11/(AG4-AE25)","v":0},{"$f":"IF(AF11=0,0,(AF11*((LOG(AF11))/LOG(2))))","v":0},null,{"$f":"N11","v":11211},{"$f":"COUNTIF(L13:L14,AI11)","v":0},{"$f":"AJ11/(AL4-AJ25)","v":0},{"$f":"IF(AK11=0,0,(AK11*((LOG(AK11))/LOG(2))))","v":0},null,{"$f":"N11","v":11211},{"$f":"COUNTIF(L15:L16,AN11)","v":0},{"$f":"AO11/(AQ4-AO25)","v":0},{"$f":"IF(AP11=0,0,(AP11*((LOG(AP11))/LOG(2))))","v":0},null,{"$f":"N11","v":11211},{"$f":"COUNTIF(L17:L18,AS11)","v":1},{"$f":"AT11/(AV4-AT25)","v":1},{"$f":"IF(AU11=0,0,(AU11*((LOG(AU11))/LOG(2))))","v":0}]
[12,1997,24,2009,13,2020,23,2030,24,2057,0,12122,null,11212,{"$f":"COUNTIF($L$7:$L$500,N12)","v":0},{"$f":"O12/$Q$4","v":0},{"$f":"IF(P12=0,0,(P12*((LOG(P12))/LOG(2))))","v":0},null,null,{"$f":"N12","v":11212},{"$f":"COUNTIF(L7:L8,T12)","v":0},{"$f":"U12/(W4-U25)","v":0},{"$f":"IF(V12=0,0,(V12*((LOG(V12))/LOG(2))))","v":0},null,{"$f":"N12","v":11212},{"$f":"COUNTIF(L9:L10,Y12)","v":0},{"$f":"Z12/(AB4-Z25)","v":0},{"$f":"IF(AA12=0,0,(AA12*((LOG(AA12))/LOG(2))))","v":0},null,{"$f":"N12","v":11212},{"$f":"COUNTIF(L11:L12,AD12)","v":0},{"$f":"AE12/(AG4-AE25)","v":0},{"$f":"IF(AF12=0,0,(AF12*((LOG(AF12))/LOG(2))))","v":0},null,{"$f":"N12","v":11212},{"$f":"COUNTIF(L13:L14,AI12)","v":0},{"$f":"AJ12/(AL4-AJ25)","v":0},{"$f":"IF(AK12=0,0,(AK12*((LOG(AK12))/LOG(2))))","v":0},null,{"$f":"N12","v":11212},{"$f":"COUNTIF(L15:L16,AN12)","v":0},{"$f":"AO12/(AQ4-AO25)","v":0},{"$f":"IF(AP12=0,0,(AP12*((LOG(AP12))/LOG(2))))","v":0},null,{"$f":"N12","v":11212},{"$f":"COUNTIF(L17:L18,AS12)","v":0},{"$f":"AT12/(AV4-AT25)","v":0},{"$f":"IF(AU12=0,0,(AU12*((LOG(AU12))/LOG(2))))","v":0}]
[21,3557,22,3574,24,3599,23,3610,13,3637,0,22221,null,11221,{"$f":"COUNTIF($L$7:$L$500,N13)","v":1},{"$f":"O13/$Q$4","v":9.0909090909090912E-2},{"$f":"IF(P13=0,0,(P13*((LOG(P13))/LOG(2))))","v":-0.31449378351248153},null,null,{"$f":"N13","v":11221},{"$f":"COUNTIF(L7:L8,T13)","v":0},{"$f":"U13/(W4-U25)","v":0},{"$f":"IF(V13=0,0,(V13*((LOG(V13))/LOG(2))))","v":0},null,{"$f":"N13","v":11221},{"$f":"COUNTIF(L9:L10,Y13)","v":0},{"$f":"Z13/(AB4-Z25)","v":0},{"$f":"IF(AA13=0,0,(AA13*((LOG(AA13))/LOG(2))))","v":0},null,{"$f":"N13","v":11221},{"$f":"COUNTIF(L11:L12,AD13)","v":0},{"$f":"AE13/(AG4-AE25)","v":0},{"$f":"IF(AF13=0,0,(AF13*((LOG(AF13))/LOG(2))))","v":0},null,{"$f":"N13","v":11221},{"$f":"COUNTIF(L13:L14,AI13)","v":0},{"$f":"AJ13/(AL4-AJ25)","v":0},{"$f":"IF(AK13=0,0,(AK13*((LOG(AK13))/LOG(2))))","v":0},null,{"$f":"N13","v":11221},{"$f":"COUNTIF(L15:L16,AN13)","v":1},{"$f":"AO13/(AQ4-AO25)","v":0.5},{"$f":"IF(AP13=0,0,(AP13*((LOG(AP13))/LOG(2))))","v":-0.5},null,{"$f":"N13","v":11221},{"$f":"COUNTIF(L17:L18,AS13)","v":0},{"$f":"AT13/(AV4-AT25)","v":0},{"$f":"IF(AU13=0,0,(AU13*((LOG(AU13))/LOG(2))))","v":0}]
[12,6329,13,6365,13,10521,14,10550,13,10561,0,11111,null,11222,{"$f":"COUNTIF($L$7:$L$500,N14)","v":0},{"$f":"O14/$Q$4","v":0},{"$f":"IF(P14=0,0,(P14*((LOG(P14))/LOG(2))))","v":0},null,null,{"$f":"N14","v":11222},{"$f":"COUNTIF(L7:L8,T14)","v":0},{"$f":"U14/(W4-U25)","v":0},{"$f":"IF(V14=0,0,(V14*((LOG(V14))/LOG(2))))","v":0},null,{"$f":"N14","v":11222},{"$f":"COUNTIF(L9:L10,Y14)","v":0},{"$f":"Z14/(AB4-Z25)","v":0},{"$f":"IF(AA14=0,0,(AA14*((LOG(AA14))/LOG(2))))","v":0},null,{"$f":"N14","v":11222},{"$f":"COUNTIF(L11:L12,AD14)","v":0},{"$f":"AE14/(AG4-AE25)","v":0},{"$f":"IF(AF14=0,0,(AF14*((LOG(AF14))/LOG(2))))","v":0},null,{"$f":"N14","v":11222},{"$f":"COUNTIF(L13:L14,AI14)","v":0},{"$f":"AJ14/(AL4-AJ25)","v":0},{"$f":"IF(AK14=0,0,(AK14*((LOG(AK14))/LOG(2))))","v":0},null,{"$f":"N14","v":11222},{"$f":"COUNTIF(L15:L16,AN14)","v":0},{"$f":"AO14/(AQ4-AO25)","v":0},{"$f":"IF(AP14=0,0,(AP14*((LOG(AP14))/LOG(2))))","v":0},null,{"$f":"N14","v":11222},{"$f":"COUNTIF(L17:L18,AS14)","v":0},{"$f":"AT14/(AV4-AT25)","v":0},{"$f":"IF(AU14=0,0,(AU14*((LOG(AU14))/LOG(2))))","v":0}]
[12,12262,13,12279,13,12291,14,12303,13,12316,0,11111,null,12111,{"$f":"COUNTIF($L$7:$L$500,N15)","v":0},{"$f":"O15/$Q$4","v":0},{"$f":"IF(P15=0,0,(P15*((LOG(P15))/LOG(2))))","v":0},null,null,{"$f":"N15","v":12111},{"$f":"COUNTIF(L7:L8,T15)","v":0},{"$f":"U15/(W4-U25)","v":0},{"$f":"IF(V15=0,0,(V15*((LOG(V15))/LOG(2))))","v":0},null,{"$f":"N15","v":12111},{"$f":"COUNTIF(L9:L10,Y15)","v":0},{"$f":"Z15/(AB4-Z25)","v":0},{"$f":"IF(AA15=0,0,(AA15*((LOG(AA15))/LOG(2))))","v":0},null,{"$f":"N15","v":12111},{"$f":"COUNTIF(L11:L12,AD15)","v":0},{"$f":"AE15/(AG4-AE25)","v":0},{"$f":"IF(AF15=0,0,(AF15*((LOG(AF15))/LOG(2))))","v":0},null,{"$f":"N15","v":12111},{"$f":"COUNTIF(L13:L14,AI15)","v":0},{"$f":"AJ15/(AL4-AJ25)","v":0},{"$f":"IF(AK15=0,0,(AK15*((LOG(AK15))/LOG(2))))","v":0},null,{"$f":"N15","v":12111},{"$f":"COUNTIF(L15:L16,AN15)","v":0},{"$f":"AO15/(AQ4-AO25)","v":0},{"$f":"IF(AP15=0,0,(AP15*((LOG(AP15))/LOG(2))))","v":0},null,{"$f":"N15","v":12111},{"$f":"COUNTIF(L17:L18,AS15)","v":0},{"$f":"AT15/(AV4-AT25)","v":0},{"$f":"IF(AU15=0,0,(AU15*((LOG(AU15))/LOG(2))))","v":0}]
[12,13441,13,13465,24,13476,23,13512,13,13527,0,11221,null,12112,{"$f":"COUNTIF($L$7:$L$500,N16)","v":0},{"$f":"O16/$Q$4","v":0},{"$f":"IF(P16=0,0,(P16*((LOG(P16))/LOG(2))))","v":0},null,null,{"$f":"N16","v":12112},{"$f":"COUNTIF(L7:L8,T16)","v":0},{"$f":"U16/(W4-U25)","v":0},{"$f":"IF(V16=0,0,(V16*((LOG(V16))/LOG(2))))","v":0},null,{"$f":"N16","v":12112},{"$f":"COUNTIF(L9:L10,Y16)","v":0},{"$f":"Z16/(AB4-Z25)","v":0},{"$f":"IF(AA16=0,0,(AA16*((LOG(AA16))/LOG(2))))","v":0},null,{"$f":"N16","v":12112},{"$f":"COUNTIF(L11:L12,AD16)","v":0},{"$f":"AE16/(AG4-AE25)","v":0},{"$f":"IF(AF16=0,0,(AF16*((LOG(AF16))/LOG(2))))","v":0},null,{"$f":"N16","v":12112},{"$f":"COUNTIF(L13:L14,AI16)","v":0},{"$f":"AJ16/(AL4-AJ25)","v":0},{"$f":"IF(AK16=0,0,(AK16*((LOG(AK16))/LOG(2))))","v":0},null,{"$f":"N16","v":12112},{"$f":"COUNTIF(L15:L16,AN16)","v":0},{"$f":"AO16/(AQ4-AO25)","v":0},{"$f":"IF(AP16=0,0,(AP16*((LOG(AP16))/LOG(2))))","v":0},null,{"$f":"N16","v":12112},{"$f":"COUNTIF(L17:L18,AS16)","v":0},{"$f":"AT16/(AV4-AT25)","v":0},{"$f":"IF(AU16=0,0,(AU16*((LOG(AU16))/LOG(2))))","v":0}]
[12,13906,13,15801,24,15818,14,15853,13,15868,0,11211,null,12121,{"$f":"COUNTIF($L$7:$L$500,N17)","v":0},{"$f":"O17/$Q$4","v":0},{"$f":"IF(P17=0,0,(P17*((LOG(P17))/LOG(2))))","v":0},null,null,{"$f":"N17","v":12121},{"$f":"COUNTIF(L7:L8,T17)","v":0},{"$f":"U17/(W4-U25)","v":0},{"$f":"IF(V17=0,0,(V17*((LOG(V17))/LOG(2))))","v":0},null,{"$f":"N17","v":12121},{"$f":"COUNTIF(L9:L10,Y17)","v":0},{"$f":"Z17/(AB4-Z25)","v":0},{"$f":"IF(AA17=0,0,(AA17*((LOG(AA17))/LOG(2))))","v":0},null,{"$f":"N17","v":12121},{"$f":"COUNTIF(L11:L12,AD17)","v":0},{"$f":"AE17/(AG4-AE25)","v":0},{"$f":"IF(AF17=0,0,(AF17*((LOG(AF17))/LOG(2))))","v":0},null,{"$f":"N17","v":12121},{"$f":"COUNTIF(L13:L14,AI17)","v":0},{"$f":"AJ17/(AL4-AJ25)","v":0},{"$f":"IF(AK17=0,0,(AK17*((LOG(AK17))/LOG(2))))","v":0},null,{"$f":"N17","v":12121},{"$f":"COUNTIF(L15:L16,AN17)","v":0},{"$f":"AO17/(AQ4-AO25)","v":0},{"$f":"IF(AP17=0,0,(AP17*((LOG(AP17))/LOG(2))))","v":0},null,{"$f":"N17","v":12121},{"$f":"COUNTIF(L17:L18,AS17)","v":0},{"$f":"AT17/(AV4-AT25)","v":0},{"$f":"IF(AU17=0,0,(AU17*((LOG(AU17))/LOG(2))))","v":0}]
[12,16235,13,16247,13,16267,23,16288,null,null,null,1112,null,12122,{"$f":"COUNTIF($L$7:$L$500,N18)","v":2},{"$f":"O18/$Q$4","v":0.18181818181818182},{"$f":"IF(P18=0,0,(P18*((LOG(P18))/LOG(2))))","v":-0.44716938520678134},null,null,{"$f":"N18","v":12122},{"$f":"COUNTIF(L7:L8,T18)","v":0},{"$f":"U18/(W4-U25)","v":0},{"$f":"IF(V18=0,0,(V18*((LOG(V18))/LOG(2))))","v":0},null,{"$f":"N18","v":12122},{"$f":"COUNTIF(L9:L10,Y18)","v":1},{"$f":"Z18/(AB4-Z25)","v":0.5},{"$f":"IF(AA18=0,0,(AA18*((LOG(AA18))/LOG(2))))","v":-0.5},null,{"$f":"N18","v":12122},{"$f":"COUNTIF(L11:L12,AD18)","v":1},{"$f":"AE18/(AG4-AE25)","v":0.5},{"$f":"IF(AF18=0,0,(AF18*((LOG(AF18))/LOG(2))))","v":-0.5},null,{"$f":"N18","v":12122},{"$f":"COUNTIF(L13:L14,AI18)","v":0},{"$f":"AJ18/(AL4-AJ25)","v":0},{"$f":"IF(AK18=0,0,(AK18*((LOG(AK18))/LOG(2))))","v":0},null,{"$f":"N18","v":12122},{"$f":"COUNTIF(L15:L16,AN18)","v":0},{"$f":"AO18/(AQ4-AO25)","v":0},{"$f":"IF(AP18=0,0,(AP18*((LOG(AP18))/LOG(2))))","v":0},null,{"$f":"N18","v":12122},{"$f":"COUNTIF(L17:L18,AS18)","v":0},{"$f":"AT18/(AV4-AT25)","v":0},{"$f":"IF(AU18=0,0,(AU18*((LOG(AU18))/LOG(2))))","v":0}]
[null,null,null,null,null,null,null,null,null,null,null,null,null,12211,{"$f":"COUNTIF($L$7:$L$500,N19)","v":0},{"$f":"O19/$Q$4","v":0},{"$f":"IF(P19=0,0,(P19*((LOG(P19))/LOG(2))))","v":0},null,null,{"$f":"N19","v":12211},{"$f":"COUNTIF(L7:L8,T19)","v":0},{"$f":"U19/(W4-U25)","v":0},{"$f":"IF(V19=0,0,(V19*((LOG(V19))/LOG(2))))","v":0},null,{"$f":"N19","v":12211},{"$f":"COUNTIF(L9:L10,Y19)","v":0},{"$f":"Z19/(AB4-Z25)","v":0},{"$f":"IF(AA19=0,0,(AA19*((LOG(AA19))/LOG(2))))","v":0},null,{"$f":"N19","v":12211},{"$f":"COUNTIF(L11:L12,AD19)","v":0},{"$f":"AE19/(AG4-AE25)","v":0},{"$f":"IF(AF19=0,0,(AF19*((LOG(AF19))/LOG(2))))","v":0},null,{"$f":"N19","v":12211},{"$f":"COUNTIF(L13:L14,AI19)","v":0},{"$f":"AJ19/(AL4-AJ25)","v":0},{"$f":"IF(AK19=0,0,(AK19*((LOG(AK19))/LOG(2))))","v":0},null,{"$f":"N19","v":12211},{"$f":"COUNTIF(L15:L16,AN19)","v":0},{"$f":"AO19/(AQ4-AO25)","v":0},{"$f":"IF(AP19=0,0,(AP19*((LOG(AP19))/LOG(2))))","v":0},null,{"$f":"N19","v":12211},{"$f":"COUNTIF(L17:L18,AS19)","v":0},{"$f":"AT19/(AV4-AT25)","v":0},{"$f":"IF(AU19=0,0,(AU19*((LOG(AU19))/LOG(2))))","v":0}]
[null,null,null,null,null,null,null,null,null,null,null,null,null,12212,{"$f":"COUNTIF($L$7:$L$500,N20)","v":0},{"$f":"O20/$Q$4","v":0},{"$f":"IF(P20=0,0,(P20*((LOG(P20))/LOG(2))))","v":0},null,null,{"$f":"N20","v":12212},{"$f":"COUNTIF(L7:L8,T20)","v":0},{"$f":"U20/(W4-U25)","v":0},{"$f":"IF(V20=0,0,(V20*((LOG(V20))/LOG(2))))","v":0},null,{"$f":"N20","v":12212},{"$f":"COUNTIF(L9:L10,Y20)","v":0},{"$f":"Z20/(AB4-Z25)","v":0},{"$f":"IF(AA20=0,0,(AA20*((LOG(AA20))/LOG(2))))","v":0},null,{"$f":"N20","v":12212},{"$f":"COUNTIF(L11:L12,AD20)","v":0},{"$f":"AE20/(AG4-AE25)","v":0},{"$f":"IF(AF20=0,0,(AF20*((LOG(AF20))/LOG(2))))","v":0},null,{"$f":"N20","v":12212},{"$f":"COUNTIF(L13:L14,AI20)","v":0},{"$f":"AJ20/(AL4-AJ25)","v":0},{"$f":"IF(AK20=0,0,(AK20*((LOG(AK20))/LOG(2))))","v":0},null,{"$f":"N20","v":12212},{"$f":"COUNTIF(L15:L16,AN20)","v":0},{"$f":"AO20/(AQ4-AO25)","v":0},{"$f":"IF(AP20=0,0,(AP20*((LOG(AP20))/LOG(2))))","v":0},null,{"$f":"N20","v":12212},{"$f":"COUNTIF(L17:L18,AS20)","v":0},{"$f":"AT20/(AV4-AT25)","v":0},{"$f":"IF(AU20=0,0,(AU20*((LOG(AU20))/LOG(2))))","v":0}]
[null,null,null,null,null,null,null,null,null,null,null,null,null,12221,{"$f":"COUNTIF($L$7:$L$500,N21)","v":0},{"$f":"O21/$Q$4","v":0},{"$f":"IF(P21=0,0,(P21*((LOG(P21))/LOG(2))))","v":0},null,null,{"$f":"N21","v":12221},{"$f":"COUNTIF(L7:L8,T21)","v":0},{"$f":"U21/(W4-U25)","v":0},{"$f":"IF(V21=0,0,(V21*((LOG(V21))/LOG(2))))","v":0},null,{"$f":"N21","v":12221},{"$f":"COUNTIF(L9:L10,Y21)","v":0},{"$f":"Z21/(AB4-Z25)","v":0},{"$f":"IF(AA21=0,0,(AA21*((LOG(AA21))/LOG(2))))","v":0},null,{"$f":"N21","v":12221},{"$f":"COUNTIF(L11:L12,AD21)","v":0},{"$f":"AE21/(AG4-AE25)","v":0},{"$f":"IF(AF21=0,0,(AF21*((LOG(AF21))/LOG(2))))","v":0},null,{"$f":"N21","v":12221},{"$f":"COUNTIF(L13:L14,AI21)","v":0},{"$f":"AJ21/(AL4-AJ25)","v":0},{"$f":"IF(AK21=0,0,(AK21*((LOG(AK21))/LOG(2))))","v":0},null,{"$f":"N21","v":12221},{"$f":"COUNTIF(L15:L16,AN21)","v":0},{"$f":"AO21/(AQ4-AO25)","v":0},{"$f":"IF(AP21=0,0,(AP21*((LOG(AP21))/LOG(2))))","v":0},null,{"$f":"N21","v":12221},{"$f":"COUNTIF(L17:L18,AS21)","v":0},{"$f":"AT21/(AV4-AT25)","v":0},{"$f":"IF(AU21=0,0,(AU21*((LOG(AU21))/LOG(2))))","v":0}]
[null,null,null,null,null,null,null,null,null,null,null,null,null,12222,{"$f":"COUNTIF($L$7:$L$500,N22)","v":0},{"$f":"O22/$Q$4","v":0},{"$f":"IF(P22=0,0,(P22*((LOG(P22))/LOG(2))))","v":0},null,null,{"$f":"N22","v":12222},{"$f":"COUNTIF(L7:L8,T22)","v":0},{"$f":"U22/(W4-U25)","v":0},{"$f":"IF(V22=0,0,(V22*((LOG(V22))/LOG(2))))","v":0},null,{"$f":"N22","v":12222},{"$f":"COUNTIF(L9:L10,Y22)","v":0},{"$f":"Z22/(AB4-Z25)","v":0},{"$f":"IF(AA22=0,0,(AA22*((LOG(AA22))/LOG(2))))","v":0},null,{"$f":"N22","v":12222},{"$f":"COUNTIF(L11:L12,AD22)","v":0},{"$f":"AE22/(AG4-AE25)","v":0},{"$f":"IF(AF22=0,0,(AF22*((LOG(AF22))/LOG(2))))","v":0},null,{"$f":"N22","v":12222},{"$f":"COUNTIF(L13:L14,AI22)","v":0},{"$f":"AJ22/(AL4-AJ25)","v":0},{"$f":"IF(AK22=0,0,(AK22*((LOG(AK22))/LOG(2))))","v":0},null,{"$f":"N22","v":12222},{"$f":"COUNTIF(L15:L16,AN22)","v":0},{"$f":"AO22/(AQ4-AO25)","v":0},{"$f":"IF(AP22=0,0,(AP22*((LOG(AP22))/LOG(2))))","v":0},null,{"$f":"N22","v":12222},{"$f":"COUNTIF(L17:L18,AS22)","v":0},{"$f":"AT22/(AV4-AT25)","v":0},{"$f":"IF(AU22=0,0,(AU22*((LOG(AU22))/LOG(2))))","v":0}]
[null,null,null,null,null,null,null,null,null,null,null,null,null,21111,{"$f":"COUNTIF($L$7:$L$500,N23)","v":0},{"$f":"O23/$Q$4","v":0},{"$f":"IF(P23=0,0,(P23*((LOG(P23))/LOG(2))))","v":0},null,null,{"$f":"N23","v":21111},{"$f":"COUNTIF(L7:L8,T23)","v":0},{"$f":"U23/(W4-U25)","v":0},{"$f":"IF(V23=0,0,(V23*((LOG(V23))/LOG(2))))","v":0},null,{"$f":"N23","v":21111},{"$f":"COUNTIF(L9:L10,Y23)","v":0},{"$f":"Z23/(AB4-Z25)","v":0},{"$f":"IF(AA23=0,0,(AA23*((LOG(AA23))/LOG(2))))","v":0},null,{"$f":"N23","v":21111},{"$f":"COUNTIF(L11:L12,AD23)","v":0},{"$f":"AE23/(AG4-AE25)","v":0},{"$f":"IF(AF23=0,0,(AF23*((LOG(AF23))/LOG(2))))","v":0},null,{"$f":"N23","v":21111},{"$f":"COUNTIF(L13:L14,AI23)","v":0},{"$f":"AJ23/(AL4-AJ25)","v":0},{"$f":"IF(AK23=0,0,(AK23*((LOG(AK23))/LOG(2))))","v":0},null,{"$f":"N23","v":21111},{"$f":"COUNTIF(L15:L16,AN23)","v":0},{"$f":"AO23/(AQ4-AO25)","v":0},{"$f":"IF(AP23=0,0,(AP23*((LOG(AP23))/LOG(2))))","v":0},null,{"$f":"N23","v":21111},{"$f":"COUNTIF(L17:L18,AS23)","v":0},{"$f":"AT23/(AV4-AT25)","v":0},{"$f":"IF(AU23=0,0,(AU23*((LOG(AU23))/LOG(2))))","v":0}]
[null,null,null,null,null,null,null,null,null,null,null,null,null,21112,{"$f":"COUNTIF($L$7:$L$500,N24)","v":0},{"$f":"O24/$Q$4","v":0},{"$f":"IF(P24=0,0,(P24*((LOG(P24))/LOG(2))))","v":0},null,null,{"$f":"N24","v":21112},{"$f":"COUNTIF(L7:L8,T24)","v":0},{"$f":"U24/(W4-U25)","v":0},{"$f":"IF(V24=0,0,(V24*((LOG(V24))/LOG(2))))","v":0},null,{"$f":"N24","v":21112},{"$f":"COUNTIF(L9:L10,Y24)","v":0},{"$f":"Z24/(AB4-Z25)","v":0},{"$f":"IF(AA24=0,0,(AA24*((LOG(AA24))/LOG(2))))","v":0},null,{"$f":"N24","v":21112},{"$f":"COUNTIF(L11:L12,AD24)","v":0},{"$f":"AE24/(AG4-AE25)","v":0},{"$f":"IF(AF24=0,0,(AF24*((LOG(AF24))/LOG(2))))","v":0},null,{"$f":"N24","v":21112},{"$f":"COUNTIF(L13:L14,AI24)","v":0},{"$f":"AJ24/(AL4-AJ25)","v":0},{"$f":"IF(AK24=0,0,(AK24*((LOG(AK24))/LOG(2))))","v":0},null,{"$f":"N24","v":21112},{"$f":"COUNTIF(L15:L16,AN24)","v":0},{"$f":"AO24/(AQ4-AO25)","v":0},{"$f":"IF(AP24=0,0,(AP24*((LOG(AP24))/LOG(2))))","v":0},null,{"$f":"N24","v":21112},{"$f":"COUNTIF(L17:L18,AS24)","v":0},{"$f":"AT24/(AV4-AT25)","v":0},{"$f":"IF(AU24=0,0,(AU24*((LOG(AU24))/LOG(2))))","v":0}]
[null,null,null,null,null,null,null,null,null,null,null,null,null,21121,{"$f":"COUNTIF($L$7:$L$500,N25)","v":0},{"$f":"O25/$Q$4","v":0},{"$f":"IF(P25=0,0,(P25*((LOG(P25))/LOG(2))))","v":0},null,null,{"$f":"N25","v":21121},{"$f":"COUNTIF(L7:L8,T25)","v":0},null,null,null,{"$f":"N25","v":21121},{"$f":"COUNTIF(L9:L10,Y25)","v":0},null,null,null,{"$f":"N25","v":21121},{"$f":"COUNTIF(L11:L12,AD25)","v":0},null,null,null,{"$f":"N25","v":21121},{"$f":"COUNTIF(L13:L14,AI25)","v":0},null,null,null,{"$f":"N25","v":21121},{"$f":"COUNTIF(L15:L16,AN25)","v":0},null,null,null,{"$f":"N25","v":21121},{"$f":"COUNTIF(L17:L18,AS25)","v":0}]
[null,null,null,null,null,null,null,null,null,null,null,null,null,21122,{"$f":"COUNTIF($L$7:$L$500,N26)","v":0},{"$f":"O26/$Q$4","v":0},{"$f":"IF(P26=0,0,(P26*((LOG(P26))/LOG(2))))","v":0},null,null,{"$f":"N26","v":21122},{"$f":"COUNTIF(L7:L8,T26)","v":0},{"$f":"U26/(W4-U25)","v":0},{"$f":"IF(V26=0,0,(V26*((LOG(V26))/LOG(2))))","v":0},null,{"$f":"N26","v":21122},{"$f":"COUNTIF(L9:L10,Y26)","v":0},{"$f":"Z26/(AB4-Z25)","v":0},{"$f":"IF(AA26=0,0,(AA26*((LOG(AA26))/LOG(2))))","v":0},null,{"$f":"N26","v":21122},{"$f":"COUNTIF(L11:L12,AD26)","v":0},{"$f":"AE26/(AG4-AE25)","v":0},{"$f":"IF(AF26=0,0,(AF26*((LOG(AF26))/LOG(2))))","v":0},null,{"$f":"N26","v":21122},{"$f":"COUNTIF(L13:L14,AI26)","v":0},{"$f":"AJ26/(AL4-AJ25)","v":0},{"$f":"IF(AK26=0,0,(AK26*((LOG(AK26))/LOG(2))))","v":0},null,{"$f":"N26","v":21122},{"$f":"COUNTIF(L15:L16,AN26)","v":0},{"$f":"AO26/(AQ4-AO25)","v":0},{"$f":"IF(AP26=0,0,(AP26*((LOG(AP26))/LOG(2))))","v":0},null,{"$f":"N26","v":21122},{"$f":"COUNTIF(L17:L18,AS26)","v":0},{"$f":"AT26/(AV4-AT25)","v":0},{"$f":"IF(AU26=0,0,(AU26*((LOG(AU26))/LOG(2))))","v":0}]
[null,null,null,null,null,null,null,null,null,null,null,null,null,21211,{"$f":"COUNTIF($L$7:$L$500,N27)","v":0},{"$f":"O27/$Q$4","v":0},{"$f":"IF(P27=0,0,(P27*((LOG(P27))/LOG(2))))","v":0},null,null,{"$f":"N27","v":21211},{"$f":"COUNTIF(L7:L8,T27)","v":0},{"$f":"U27/(W4-U25)","v":0},{"$f":"IF(V27=0,0,(V27*((LOG(V27))/LOG(2))))","v":0},null,{"$f":"N27","v":21211},{"$f":"COUNTIF(L9:L10,Y27)","v":0},{"$f":"Z27/(AB4-Z25)","v":0},{"$f":"IF(AA27=0,0,(AA27*((LOG(AA27))/LOG(2))))","v":0},null,{"$f":"N27","v":21211},{"$f":"COUNTIF(L11:L12,AD27)","v":0},{"$f":"AE27/(AG4-AE25)","v":0},{"$f":"IF(AF27=0,0,(AF27*((LOG(AF27))/LOG(2))))","v":0},null,{"$f":"N27","v":21211},{"$f":"COUNTIF(L13:L14,AI27)","v":0},{"$f":"AJ27/(AL4-AJ25)","v":0},{"$f":"IF(AK27=0,0,(AK27*((LOG(AK27))/LOG(2))))","v":0},null,{"$f":"N27","v":21211},{"$f":"COUNTIF(L15:L16,AN27)","v":0},{"$f":"AO27/(AQ4-AO25)","v":0},{"$f":"IF(AP27=0,0,(AP27*((LOG(AP27))/LOG(2))))","v":0},null,{"$f":"N27","v":21211},{"$f":"COUNTIF(L17:L18,AS27)","v":0},{"$f":"AT27/(AV4-AT25)","v":0},{"$f":"IF(AU27=0,0,(AU27*((LOG(AU27))/LOG(2))))","v":0}]
[null,null,null,null,null,null,null,null,null,null,null,null,null,21212,{"$f":"COUNTIF($L$7:$L$500,N28)","v":0},{"$f":"O28/$Q$4","v":0},{"$f":"IF(P28=0,0,(P28*((LOG(P28))/LOG(2))))","v":0},null,null,{"$f":"N28","v":21212},{"$f":"COUNTIF(L7:L8,T28)","v":0},{"$f":"U28/(W4-U25)","v":0},{"$f":"IF(V28=0,0,(V28*((LOG(V28))/LOG(2))))","v":0},null,{"$f":"N28","v":21212},{"$f":"COUNTIF(L9:L10,Y28)","v":0},{"$f":"Z28/(AB4-Z25)","v":0},{"$f":"IF(AA28=0,0,(AA28*((LOG(AA28))/LOG(2))))","v":0},null,{"$f":"N28","v":21212},{"$f":"COUNTIF(L11:L12,AD28)","v":0},{"$f":"AE28/(AG4-AE25)","v":0},{"$f":"IF(AF28=0,0,(AF28*((LOG(AF28))/LOG(2))))","v":0},null,{"$f":"N28","v":21212},{"$f":"COUNTIF(L13:L14,AI28)","v":0},{"$f":"AJ28/(AL4-AJ25)","v":0},{"$f":"IF(AK28=0,0,(AK28*((LOG(AK28))/LOG(2))))","v":0},null,{"$f":"N28","v":21212},{"$f":"COUNTIF(L15:L16,AN28)","v":0},{"$f":"AO28/(AQ4-AO25)","v":0},{"$f":"IF(AP28=0,0,(AP28*((LOG(AP28))/LOG(2))))","v":0},null,{"$f":"N28","v":21212},{"$f":"COUNTIF(L17:L18,AS28)","v":0},{"$f":"AT28/(AV4-AT25)","v":0},{"$f":"IF(AU28=0,0,(AU28*((LOG(AU28))/LOG(2))))","v":0}]
[null,null,null,null,null,null,null,null,null,null,null,null,null,21221,{"$f":"COUNTIF($L$7:$L$500,N29)","v":0},{"$f":"O29/$Q$4","v":0},{"$f":"IF(P29=0,0,(P29*((LOG(P29))/LOG(2))))","v":0},null,null,{"$f":"N29","v":21221},{"$f":"COUNTIF(L7:L8,T29)","v":0},{"$f":"U29/(W4-U25)","v":0},{"$f":"IF(V29=0,0,(V29*((LOG(V29))/LOG(2))))","v":0},null,{"$f":"N29","v":21221},{"$f":"COUNTIF(L9:L10,Y29)","v":0},{"$f":"Z29/(AB4-Z25)","v":0},{"$f":"IF(AA29=0,0,(AA29*((LOG(AA29))/LOG(2))))","v":0},null,{"$f":"N29","v":21221},{"$f":"COUNTIF(L11:L12,AD29)","v":0},{"$f":"AE29/(AG4-AE25)","v":0},{"$f":"IF(AF29=0,0,(AF29*((LOG(AF29))/LOG(2))))","v":0},null,{"$f":"N29","v":21221},{"$f":"COUNTIF(L13:L14,AI29)","v":0},{"$f":"AJ29/(AL4-AJ25)","v":0},{"$f":"IF(AK29=0,0,(AK29*((LOG(AK29))/LOG(2))))","v":0},null,{"$f":"N29","v":21221},{"$f":"COUNTIF(L15:L16,AN29)","v":0},{"$f":"AO29/(AQ4-AO25)","v":0},{"$f":"IF(AP29=0,0,(AP29*((LOG(AP29))/LOG(2))))","v":0},null,{"$f":"N29","v":21221},{"$f":"COUNTIF(L17:L18,AS29)","v":0},{"$f":"AT29/(AV4-AT25)","v":0},{"$f":"IF(AU29=0,0,(AU29*((LOG(AU29))/LOG(2))))","v":0}]
[null,null,null,null,null,null,null,null,null,null,null,null,null,21222,{"$f":"COUNTIF($L$7:$L$500,N30)","v":1},{"$f":"O30/$Q$4","v":9.0909090909090912E-2},{"$f":"IF(P30=0,0,(P30*((LOG(P30))/LOG(2))))","v":-0.31449378351248153},null,null,{"$f":"N30","v":21222},{"$f":"COUNTIF(L7:L8,T30)","v":1},{"$f":"U30/(W4-U25)","v":0.5},{"$f":"IF(V30=0,0,(V30*((LOG(V30))/LOG(2))))","v":-0.5},null,{"$f":"N30","v":21222},{"$f":"COUNTIF(L9:L10,Y30)","v":0},{"$f":"Z30/(AB4-Z25)","v":0},{"$f":"IF(AA30=0,0,(AA30*((LOG(AA30))/LOG(2))))","v":0},null,{"$f":"N30","v":21222},{"$f":"COUNTIF(L11:L12,AD30)","v":0},{"$f":"AE30/(AG4-AE25)","v":0},{"$f":"IF(AF30=0,0,(AF30*((LOG(AF30))/LOG(2))))","v":0},null,{"$f":"N30","v":21222},{"$f":"COUNTIF(L13:L14,AI30)","v":0},{"$f":"AJ30/(AL4-AJ25)","v":0},{"$f":"IF(AK30=0,0,(AK30*((LOG(AK30))/LOG(2))))","v":0},null,{"$f":"N30","v":21222},{"$f":"COUNTIF(L15:L16,AN30)","v":0},{"$f":"AO30/(AQ4-AO25)","v":0},{"$f":"IF(AP30=0,0,(AP30*((LOG(AP30))/LOG(2))))","v":0},null,{"$f":"N30","v":21222},{"$f":"COUNTIF(L17:L18,AS30)","v":0},{"$f":"AT30/(AV4-AT25)","v":0},{"$f":"IF(AU30=0,0,(AU30*((LOG(AU30))/LOG(2))))","v":0}]
[null,null,null,null,null,null,null,null,null,null,null,null,null,22111,{"$f":"COUNTIF($L$7:$L$500,N31)","v":1},{"$f":"O31/$Q$4","v":9.0909090909090912E-2},{"$f":"IF(P31=0,0,(P31*((LOG(P31))/LOG(2))))","v":-0.31449378351248153},null,null,{"$f":"N31","v":22111},{"$f":"COUNTIF(L7:L8,T31)","v":0},{"$f":"U31/(W4-U25)","v":0},{"$f":"IF(V31=0,0,(V31*((LOG(V31))/LOG(2))))","v":0},null,{"$f":"N31","v":22111},{"$f":"COUNTIF(L9:L10,Y31)","v":0},{"$f":"Z31/(AB4-Z25)","v":0},{"$f":"IF(AA31=0,0,(AA31*((LOG(AA31))/LOG(2))))","v":0},null,{"$f":"N31","v":22111},{"$f":"COUNTIF(L11:L12,AD31)","v":1},{"$f":"AE31/(AG4-AE25)","v":0.5},{"$f":"IF(AF31=0,0,(AF31*((LOG(AF31))/LOG(2))))","v":-0.5},null,{"$f":"N31","v":22111},{"$f":"COUNTIF(L13:L14,AI31)","v":0},{"$f":"AJ31/(AL4-AJ25)","v":0},{"$f":"IF(AK31=0,0,(AK31*((LOG(AK31))/LOG(2))))","v":0},null,{"$f":"N31","v":22111},{"$f":"COUNTIF(L15:L16,AN31)","v":0},{"$f":"AO31/(AQ4-AO25)","v":0},{"$f":"IF(AP31=0,0,(AP31*((LOG(AP31))/LOG(2))))","v":0},null,{"$f":"N31","v":22111},{"$f":"COUNTIF(L17:L18,AS31)","v":0},{"$f":"AT31/(AV4-AT25)","v":0},{"$f":"IF(AU31=0,0,(AU31*((LOG(AU31))/LOG(2))))","v":0}]
[null,null,null,null,null,null,null,null,null,null,null,null,null,22112,{"$f":"COUNTIF($L$7:$L$500,N32)","v":0},{"$f":"O32/$Q$4","v":0},{"$f":"IF(P32=0,0,(P32*((LOG(P32))/LOG(2))))","v":0},null,null,{"$f":"N32","v":22112},{"$f":"COUNTIF(L7:L8,T32)","v":0},{"$f":"U32/(W4-U25)","v":0},{"$f":"IF(V32=0,0,(V32*((LOG(V32))/LOG(2))))","v":0},null,{"$f":"N32","v":22112},{"$f":"COUNTIF(L9:L10,Y32)","v":0},{"$f":"Z32/(AB4-Z25)","v":0},{"$f":"IF(AA32=0,0,(AA32*((LOG(AA32))/LOG(2))))","v":0},null,{"$f":"N32","v":22112},{"$f":"COUNTIF(L11:L12,AD32)","v":0},{"$f":"AE32/(AG4-AE25)","v":0},{"$f":"IF(AF32=0,0,(AF32*((LOG(AF32))/LOG(2))))","v":0},null,{"$f":"N32","v":22112},{"$f":"COUNTIF(L13:L14,AI32)","v":0},{"$f":"AJ32/(AL4-AJ25)","v":0},{"$f":"IF(AK32=0,0,(AK32*((LOG(AK32))/LOG(2))))","v":0},null,{"$f":"N32","v":22112},{"$f":"COUNTIF(L15:L16,AN32)","v":0},{"$f":"AO32/(AQ4-AO25)","v":0},{"$f":"IF(AP32=0,0,(AP32*((LOG(AP32))/LOG(2))))","v":0},null,{"$f":"N32","v":22112},{"$f":"COUNTIF(L17:L18,AS32)","v":0},{"$f":"AT32/(AV4-AT25)","v":0},{"$f":"IF(AU32=0,0,(AU32*((LOG(AU32))/LOG(2))))","v":0}]
[null,null,null,null,null,null,null,null,null,null,null,null,null,22121,{"$f":"COUNTIF($L$7:$L$500,N33)","v":0},{"$f":"O33/$Q$4","v":0},{"$f":"IF(P33=0,0,(P33*((LOG(P33))/LOG(2))))","v":0},null,null,{"$f":"N33","v":22121},{"$f":"COUNTIF(L7:L8,T33)","v":0},{"$f":"U33/(W4-U25)","v":0},{"$f":"IF(V33=0,0,(V33*((LOG(V33))/LOG(2))))","v":0},null,{"$f":"N33","v":22121},{"$f":"COUNTIF(L9:L10,Y33)","v":0},{"$f":"Z33/(AB4-Z25)","v":0},{"$f":"IF(AA33=0,0,(AA33*((LOG(AA33))/LOG(2))))","v":0},null,{"$f":"N33","v":22121},{"$f":"COUNTIF(L11:L12,AD33)","v":0},{"$f":"AE33/(AG4-AE25)","v":0},{"$f":"IF(AF33=0,0,(AF33*((LOG(AF33))/LOG(2))))","v":0},null,{"$f":"N33","v":22121},{"$f":"COUNTIF(L13:L14,AI33)","v":0},{"$f":"AJ33/(AL4-AJ25)","v":0},{"$f":"IF(AK33=0,0,(AK33*((LOG(AK33))/LOG(2))))","v":0},null,{"$f":"N33","v":22121},{"$f":"COUNTIF(L15:L16,AN33)","v":0},{"$f":"AO33/(AQ4-AO25)","v":0},{"$f":"IF(AP33=0,0,(AP33*((LOG(AP33))/LOG(2))))","v":0},null,{"$f":"N33","v":22121},{"$f":"COUNTIF(L17:L18,AS33)","v":0},{"$f":"AT33/(AV4-AT25)","v":0},{"$f":"IF(AU33=0,0,(AU33*((LOG(AU33))/LOG(2))))","v":0}]
[null,null,null,null,null,null,null,null,null,null,null,null,null,22122,{"$f":"COUNTIF($L$7:$L$500,N34)","v":1},{"$f":"O34/$Q$4","v":9.0909090909090912E-2},{"$f":"IF(P34=0,0,(P34*((LOG(P34))/LOG(2))))","v":-0.31449378351248153},null,null,{"$f":"N34","v":22122},{"$f":"COUNTIF(L7:L8,T34)","v":0},{"$f":"U34/(W4-U25)","v":0},{"$f":"IF(V34=0,0,(V34*((LOG(V34))/LOG(2))))","v":0},null,{"$f":"N34","v":22122},{"$f":"COUNTIF(L9:L10,Y34)","v":1},{"$f":"Z34/(AB4-Z25)","v":0.5},{"$f":"IF(AA34=0,0,(AA34*((LOG(AA34))/LOG(2))))","v":-0.5},null,{"$f":"N34","v":22122},{"$f":"COUNTIF(L11:L12,AD34)","v":0},{"$f":"AE34/(AG4-AE25)","v":0},{"$f":"IF(AF34=0,0,(AF34*((LOG(AF34))/LOG(2))))","v":0},null,{"$f":"N34","v":22122},{"$f":"COUNTIF(L13:L14,AI34)","v":0},{"$f":"AJ34/(AL4-AJ25)","v":0},{"$f":"IF(AK34=0,0,(AK34*((LOG(AK34))/LOG(2))))","v":0},null,{"$f":"N34","v":22122},{"$f":"COUNTIF(L15:L16,AN34)","v":0},{"$f":"AO34/(AQ4-AO25)","v":0},{"$f":"IF(AP34=0,0,(AP34*((LOG(AP34))/LOG(2))))","v":0},null,{"$f":"N34","v":22122},{"$f":"COUNTIF(L17:L18,AS34)","v":0},{"$f":"AT34/(AV4-AT25)","v":0},{"$f":"IF(AU34=0,0,(AU34*((LOG(AU34))/LOG(2))))","v":0}]
[null,null,null,null,null,null,null,null,null,null,null,null,null,22211,{"$f":"COUNTIF($L$7:$L$500,N35)","v":0},{"$f":"O35/$Q$4","v":0},{"$f":"IF(P35=0,0,(P35*((LOG(P35))/LOG(2))))","v":0},null,null,{"$f":"N35","v":22211},{"$f":"COUNTIF(L7:L8,T35)","v":0},{"$f":"U35/(W4-U25)","v":0},{"$f":"IF(V35=0,0,(V35*((LOG(V35))/LOG(2))))","v":0},null,{"$f":"N35","v":22211},{"$f":"COUNTIF(L9:L10,Y35)","v":0},{"$f":"Z35/(AB4-Z25)","v":0},{"$f":"IF(AA35=0,0,(AA35*((LOG(AA35))/LOG(2))))","v":0},null,{"$f":"N35","v":22211},{"$f":"COUNTIF(L11:L12,AD35)","v":0},{"$f":"AE35/(AG4-AE25)","v":0},{"$f":"IF(AF35=0,0,(AF35*((LOG(AF35))/LOG(2))))","v":0},null,{"$f":"N35","v":22211},{"$f":"COUNTIF(L13:L14,AI35)","v":0},{"$f":"AJ35/(AL4-AJ25)","v":0},{"$f":"IF(AK35=0,0,(AK35*((LOG(AK35))/LOG(2))))","v":0},null,{"$f":"N35","v":22211},{"$f":"COUNTIF(L15:L16,AN35)","v":0},{"$f":"AO35/(AQ4-AO25)","v":0},{"$f":"IF(AP35=0,0,(AP35*((LOG(AP35))/LOG(2))))","v":0},null,{"$f":"N35","v":22211},{"$f":"COUNTIF(L17:L18,AS35)","v":0},{"$f":"AT35/(AV4-AT25)","v":0},{"$f":"IF(AU35=0,0,(AU35*((LOG(AU35))/LOG(2))))","v":0}]
[null,null,null,null,null,null,null,null,null,null,null,null,null,22212,{"$f":"COUNTIF($L$7:$L$500,N36)","v":0},{"$f":"O36/$Q$4","v":0},{"$f":"IF(P36=0,0,(P36*((LOG(P36))/LOG(2))))","v":0},null,null,{"$f":"N36","v":22212},{"$f":"COUNTIF(L7:L8,T36)","v":0},{"$f":"U36/(W4-U25)","v":0},{"$f":"IF(V36=0,0,(V36*((LOG(V36))/LOG(2))))","v":0},null,{"$f":"N36","v":22212},{"$f":"COUNTIF(L9:L10,Y36)","v":0},{"$f":"Z36/(AB4-Z25)","v":0},{"$f":"IF(AA36=0,0,(AA36*((LOG(AA36))/LOG(2))))","v":0},null,{"$f":"N36","v":22212},{"$f":"COUNTIF(L11:L12,AD36)","v":0},{"$f":"AE36/(AG4-AE25)","v":0},{"$f":"IF(AF36=0,0,(AF36*((LOG(AF36))/LOG(2))))","v":0},null,{"$f":"N36","v":22212},{"$f":"COUNTIF(L13:L14,AI36)","v":0},{"$f":"AJ36/(AL4-AJ25)","v":0},{"$f":"IF(AK36=0,0,(AK36*((LOG(AK36))/LOG(2))))","v":0},null,{"$f":"N36","v":22212},{"$f":"COUNTIF(L15:L16,AN36)","v":0},{"$f":"AO36/(AQ4-AO25)","v":0},{"$f":"IF(AP36=0,0,(AP36*((LOG(AP36))/LOG(2))))","v":0},null,{"$f":"N36","v":22212},{"$f":"COUNTIF(L17:L18,AS36)","v":0},{"$f":"AT36/(AV4-AT25)","v":0},{"$f":"IF(AU36=0,0,(AU36*((LOG(AU36))/LOG(2))))","v":0}]
[null,null,null,null,null,null,null,null,null,null,null,null,null,22221,{"$f":"COUNTIF($L$7:$L$500,N37)","v":2},{"$f":"O37/$Q$4","v":0.18181818181818182},{"$f":"IF(P37=0,0,(P37*((LOG(P37))/LOG(2))))","v":-0.44716938520678134},null,null,{"$f":"N37","v":22221},{"$f":"COUNTIF(L7:L8,T37)","v":1},{"$f":"U37/(W4-U25)","v":0.5},{"$f":"IF(V37=0,0,(V37*((LOG(V37))/LOG(2))))","v":-0.5},null,{"$f":"N37","v":22221},{"$f":"COUNTIF(L9:L10,Y37)","v":0},{"$f":"Z37/(AB4-Z25)","v":0},{"$f":"IF(AA37=0,0,(AA37*((LOG(AA37))/LOG(2))))","v":0},null,{"$f":"N37","v":22221},{"$f":"COUNTIF(L11:L12,AD37)","v":0},{"$f":"AE37/(AG4-AE25)","v":0},{"$f":"IF(AF37=0,0,(AF37*((LOG(AF37))/LOG(2))))","v":0},null,{"$f":"N37","v":22221},{"$f":"COUNTIF(L13:L14,AI37)","v":1},{"$f":"AJ37/(AL4-AJ25)","v":0.5},{"$f":"IF(AK37=0,0,(AK37*((LOG(AK37))/LOG(2))))","v":-0.5},null,{"$f":"N37","v":22221},{"$f":"COUNTIF(L15:L16,AN37)","v":0},{"$f":"AO37/(AQ4-AO25)","v":0},{"$f":"IF(AP37=0,0,(AP37*((LOG(AP37))/LOG(2))))","v":0},null,{"$f":"N37","v":22221},{"$f":"COUNTIF(L17:L18,AS37)","v":0},{"$f":"AT37/(AV4-AT25)","v":0},{"$f":"IF(AU37=0,0,(AU37*((LOG(AU37))/LOG(2))))","v":0}]
[null,null,null,null,null,null,null,null,null,null,null,null,null,22222,{"$f":"COUNTIF($L$7:$L$500,N38)","v":0},{"$f":"O38/$Q$4","v":0},{"$f":"IF(P38=0,0,(P38*((LOG(P38))/LOG(2))))","v":0},null,null,{"$f":"N38","v":22222},{"$f":"COUNTIF(L7:L8,T38)","v":0},{"$f":"U38/(W4-U25)","v":0},{"$f":"IF(V38=0,0,(V38*((LOG(V38))/LOG(2))))","v":0},null,{"$f":"N38","v":22222},{"$f":"COUNTIF(L9:L10,Y38)","v":0},{"$f":"Z38/(AB4-Z25)","v":0},{"$f":"IF(AA38=0,0,(AA38*((LOG(AA38))/LOG(2))))","v":0},null,{"$f":"N38","v":22222},{"$f":"COUNTIF(L11:L12,AD38)","v":0},{"$f":"AE38/(AG4-AE25)","v":0},{"$f":"IF(AF38=0,0,(AF38*((LOG(AF38))/LOG(2))))","v":0},null,{"$f":"N38","v":22222},{"$f":"COUNTIF(L13:L14,AI38)","v":0},{"$f":"AJ38/(AL4-AJ25)","v":0},{"$f":"IF(AK38=0,0,(AK38*((LOG(AK38))/LOG(2))))","v":0},null,{"$f":"N38","v":22222},{"$f":"COUNTIF(L15:L16,AN38)","v":0},{"$f":"AO38/(AQ4-AO25)","v":0},{"$f":"IF(AP38=0,0,(AP38*((LOG(AP38))/LOG(2))))","v":0},null,{"$f":"N38","v":22222},{"$f":"COUNTIF(L17:L18,AS38)","v":0},{"$f":"AT38/(AV4-AT25)","v":0},{"$f":"IF(AU38=0,0,(AU38*((LOG(AU38))/LOG(2))))","v":0}]
[null,null,null,null,null,null,null,null,null,null,null,null,null,null,null,{"$f":"SUM(P7:P38)","v":1},{"$f":"-SUM(Q7:Q38)","v":2.9139770731827519},null,null,null,null,{"$f":"SUM(V7:V38)","v":1},{"$f":"-SUM(W7:W38)","v":1},null,null,null,{"$f":"SUM(AA7:AA38)","v":1},{"$f":"-SUM(AB7:AB38)","v":1},null,null,null,{"$f":"SUM(AF7:AF38)","v":1},{"$f":"-SUM(AG7:AG38)","v":1},null,null,null,{"$f":"SUM(AK7:AK38)","v":1},{"$f":"-SUM(AL7:AL38)","v":1},null,null,null,{"$f":"SUM(AP7:AP38)","v":1},{"$f":"-SUM(AQ7:AQ38)","v":1},null,null,null,{"$f":"SUM(AU7:AU38)","v":1},{"$f":"-SUM(AV7:AV38)","v":0}]
[null,null,null,null,null,null,null,null,null,null,null,null,null,null,null,"U=",{"$f":"Q39/(LOG(Q4)/LOG(2))","v":0.84232827655387921},null,null,null,null,"U1=",{"$f":"W39/(LOG(W4)/LOG(2))","v":1},null,null,null,"U2=",{"$f":"AB39/(LOG(AB4)/LOG(2))","v":1},null,null,null,"U3=",{"$f":"AG39/(LOG(AG4)/LOG(2))","v":1},null,null,null,"U4=",{"$f":"AL39/(LOG(AL4)/LOG(2))","v":1},null,null,null,"U5=",{"$f":"AQ39/(LOG(AQ4)/LOG(2))","v":1},null,null,null,"U6=",{"$f":"AV39/(LOG(AV4)/LOG(2))","v":{"$error":"#DIV/0!"}}]
[]
[]
[null,null,null,null,null,null,null,null,null,null,null,null,null,"Total Target Seq"]
[null,null,null,null,null,null,null,null,null,null,null,null,null,{"$f":"COUNTIF(L7:L18,G3)","v":0},null,2,2,2,2,2,2]
[null,null,null,null,null,null,null,null,null,null,null,null,null,null,null,"% of reinforcement given in 6 equal intervals based on number of trials "]
[null,null,null,null,null,null,null,null,null,null,null,null,null,null,null,"%_1","%_2","%_3","%_4","%_5","%_6"]
[null,null,null,null,null,null,null,null,null,null,null,null,null,null,"target sequence",{"$f":"$G$3","v":21121},{"$f":"$G$3","v":21121},{"$f":"$G$3","v":21121},{"$f":"$G$3","v":21121},{"$f":"$G$3","v":21121},{"$f":"$G$3","v":21121}]
[null,null,null,null,null,null,null,null,null,null,null,null,null,null,"total reinforcement",{"$f":"U25","v":0},{"$f":"Z25","v":0},{"$f":"AE25","v":0},{"$f":"AJ25","v":0},{"$f":"AO25","v":0},{"$f":"AT25","v":0}]
[null,null,null,null,null,null,null,null,null,null,null,null,null,null,"% target"]
[null,null,null,null,null,null,null,null,null,null,null,null,null,null,"CCRF"]
[null,null,null,null,null,null,null,null,null,null,null,null,null,null,"% CCRf"]
[null,null,null,null,null,null,null,null,null,null,null,null,null,null,"average response rate",{"$f":"J8/P44","v":519.5},{"$f":"(J10-J8)/Q44","v":262},{"$f":"(J12-J10)/R44","v":247},{"$f":"(J14-J12)/S44","v":4252},{"$f":"(J16-J14)/T44","v":1483},{"$f":"(J18-J16)/U44","v":-6763.5}]

{"sheet":"!N120A40.105","index":21,"n_rows":52,"n_cols":48,"rows_kept":52,"cut":false,"hidden":false,"merged":[[4,39,4,42],[5,39,5,40],[4,44,4,47],[5,44,5,45],[4,24,4,27],[5,24,5,25],[4,29,4,32],[5,29,5,30],[4,34,4,37],[5,34,5,35],[1,1,1,2],[5,13,5,14],[42,13,42,14],[43,13,43,14],[4,19,4,22],[5,19,5,20]]}
["Report for:!N120A40.105"]
["Date:","<date>"]
["Hen:","<hen>",null,null,null,"Correct Sequence",{"$f":"Start!J2","v":21121},null,null,null,null,null,null,null,null,"Total Sequences in Data",{"$f":"4994-COUNTBLANK(L7:L5000)","v":4},null,null,null,null,"Total Sequences in Block Data",{"$f":"COUNTA(L7:L7)","v":1},null,null,null,"Total Sequences in Block Data",{"$f":"COUNTA(L7:L8)","v":2},null,null,null,"Total Sequences in Block Data",{"$f":"COUNTA(L8:L8)","v":1},null,null,null,"Total Sequences in Block Data",{"$f":"COUNTA(L9:L9)","v":1},null,null,null,"Total Sequences in Block Data",{"$f":"COUNTA(L9:L10)","v":2},null,null,null,"Total Sequences in Block Data",{"$f":"COUNTA(L10:L10)","v":1}]
[null,null,null,null,null,null,null,null,null,null,null,null,null,null,null,"Total Sequences in Summary",{"$f":"SUM(O7:O38)","v":4},null,null,null,null,"Total Sequences in Block Summary",{"$f":"SUM(U7:U38)","v":1},null,null,null,"Total Sequences in Block Summary",{"$f":"SUM(Z7:Z38)","v":2},null,null,null,"Total Sequences in Block Summary",{"$f":"SUM(AE7:AE38)","v":1},null,null,null,"Total Sequences in Block Summary",{"$f":"SUM(AJ7:AJ38)","v":1},null,null,null,"Total Sequences in Block Summary",{"$f":"SUM(AO7:AO38)","v":2},null,null,null,"Total Sequences in Block Summary",{"$f":"SUM(AT7:AT38)","v":1}]
[null,null,null,null,null,null,null,null,null,null,null,null,null,null,null,null,null,null,null,"Block 1",null,null,null,null,"Block 2",null,null,null,null,"Block 3",null,null,null,null,"Block 4",null,null,null,null,"Block 5",null,null,null,null,"Block 6"]
["Sequence\nComponent\n1","Time\n1","Sequence\nComponent\n2","Time\n2","Sequence\nComponent\n3","Time\n3","Sequence\nComponent\n4","Time\n4","Sequence\nComponent\n5","Time\n5","Correct?\n0=No 1=Yes","Sequence",null,"Frequency",null,"Relative Frequency","Variability",null,null,"Frequency",null,"Relative Frequency","Variability",null,"Frequency",null,"Relative Frequency","Variability",null,"Frequency",null,"Relative Frequency","Variability",null,"Frequency",null,"Relative Frequency","Variability",null,"Frequency",null,"Relative Frequency","Variability",null,"Frequency",null,"Relative Frequency","Variability"]
[21,25,11,42,22,52,14,68,24,77,0,21212,null,11111,{"$f":"COUNTIF($L$7:$L$500,N7)","v":1},{"$f":"O7/$Q$4","v":0.25},{"$f":"IF(P7=0,0,(P7*((LOG(P7))/LOG(2))))","v":-0.5},null,null,{"$f":"N7","v":11111},{"$f":"COUNTIF(L7:L7,T7)","v":0},{"$f":"U7/(W4-U25)","v":0},{"$f":"IF(V7=0,0,(V7*((LOG(V7))/LOG(2))))","v":0},null,{"$f":"N7","v":11111},{"$f":"COUNTIF(L7:L8,Y7)","v":0},{"$f":"Z7/(AB4-Z25)","v":0},{"$f":"IF(AA7=0,0,(AA7*((LOG(AA7))/LOG(2))))","v":0},null,{"$f":"N7","v":11111},{"$f":"COUNTIF(L8:L8,AD7)","v":0},{"$f":"AE7/(AG4-AE25)","v":0},{"$f":"IF(AF7=0,0,(AF7*((LOG(AF7))/LOG(2))))","v":0},null,{"$f":"N7","v":11111},{"$f":"COUNTIF(L9:L9,AI7)","v":0},{"$f":"AJ7/(AL4-AJ25)","v":0},{"$f":"IF(AK7=0,0,(AK7*((LOG(AK7))/LOG(2))))","v":0},null,{"$f":"N7","v":11111},{"$f":"COUNTIF(L9:L10,AN7)","v":1},{"$f":"AO7/(AQ4-AO25)","v":0.5},{"$f":"IF(AP7=0,0,(AP7*((LOG(AP7))/LOG(2))))","v":-0.5},null,{"$f":"N7","v":11111},{"$f":"COUNTIF(L10:L10,AS7)","v":1},{"$f":"AT7/(AV4-AT25)","v":1},{"$f":"IF(AU7=0,0,(AU7*((LOG(AU7))/LOG(2))))","v":0}]
[21,196,11,207,22,218,14,229,24,236,0,21212,null,11112,{"$f":"COUNTIF($L$7:$L$500,N8)","v":0},{"$f":"O8/$Q$4","v":0},{"$f":"IF(P8=0,0,(P8*((LOG(P8))/LOG(2))))","v":0},null,null,{"$f":"N8","v":11112},{"$f":"COUNTIF(L7:L7,T8)","v":0},{"$f":"U8/(W4-U25)","v":0},{"$f":"IF(V8=0,0,(V8*((LOG(V8))/LOG(2))))","v":0},null,{"$f":"N8","v":11112},{"$f":"COUNTIF(L7:L8,Y8)","v":0},{"$f":"Z8/(AB4-Z25)","v":0},{"$f":"IF(AA8=0,0,(AA8*((LOG(AA8))/LOG(2))))","v":0},null,{"$f":"N8","v":11112},{"$f":"COUNTIF(L8:L8,AD8)","v":0},{"$f":"AE8/(AG4-AE25)","v":0},{"$f":"IF(AF8=0,0,(AF8*((LOG(AF8))/LOG(2))))","v":0},null,{"$f":"N8","v":11112},{"$f":"COUNTIF(L9:L9,AI8)","v":0},{"$f":"AJ8/(AL4-AJ25)","v":0},{"$f":"IF(AK8=0,0,(AK8*((LOG(AK8))/LOG(2))))","v":0},null,{"$f":"N8","v":11112},{"$f":"COUNTIF(L9:L10,AN8)","v":0},{"$f":"AO8/(AQ4-AO25)","v":0},{"$f":"IF(AP8=0,0,(AP8*((LOG(AP8))/LOG(2))))","v":0},null,{"$f":"N8","v":11112},{"$f":"COUNTIF(L10:L10,AS8)","v":0},{"$f":"AT8/(AV4-AT25)","v":0},{"$f":"IF(AU8=0,0,(AU8*((LOG(AU8))/LOG(2))))","v":0}]
[12,361,24,1271,24,1284,23,1296,24,1352,0,12222,null,11121,{"$f":"COUNTIF($L$7:$L$500,N9)","v":0},{"$f":"O9/$Q$4","v":0},{"$f":"IF(P9=0,0,(P9*((LOG(P9))/LOG(2))))","v":0},null,null,{"$f":"N9","v":11121},{"$f":"COUNTIF(L7:L7,T9)","v":0},{"$f":"U9/(W4-U25)","v":0},{"$f":"IF(V9=0,0,(V9*((LOG(V9))/LOG(2))))","v":0},null,{"$f":"N9","v":11121},{"$f":"COUNTIF(L7:L8,Y9)","v":0},{"$f":"Z9/(AB4-Z25)","v":0},{"$f":"IF(AA9=0,0,(AA9*((LOG(AA9))/LOG(2))))","v":0},null,{"$f":"N9","v":11121},{"$f":"COUNTIF(L8:L8,AD9)","v":0},{"$f":"AE9/(AG4-AE25)","v":0},{"$f":"IF(AF9=0,0,(AF9*((LOG(AF9))/LOG(2))))","v":0},null,{"$f":"N9","v":11121},{"$f":"COUNTIF(L9:L9,AI9)","v":0},{"$f":"AJ9/(AL4-AJ25)","v":0},{"$f":"IF(AK9=0,0,(AK9*((LOG(AK9))/LOG(2))))","v":0},null,{"$f":"N9","v":11121},{"$f":"COUNTIF(L9:L10,AN9)","v":0},{"$f":"AO9/(AQ4-AO25)","v":0},{"$f":"IF(AP9=0,0,(AP9*((LOG(AP9))/LOG(2))))","v":0},null,{"$f":"N9","v":11121},{"$f":"COUNTIF(L10:L10,AS9)","v":0},{"$f":"AT9/(AV4-AT25)","v":0},{"$f":"IF(AU9=0,0,(AU9*((LOG(AU9))/LOG(2))))","v":0}]
[12,4472,13,4484,13,4495,14,4508,13,12372,0,11111,null,11122,{"$f":"COUNTIF($L$7:$L$500,N10)","v":0},{"$f":"O10/$Q$4","v":0},{"$f":"IF(P10=0,0,(P10*((LOG(P10))/LOG(2))))","v":0},null,null,{"$f":"N10","v":11122},{"$f":"COUNTIF(L7:L7,T10)","v":0},{"$f":"U10/(W4-U25)","v":0},{"$f":"IF(V10=0,0,(V10*((LOG(V10))/LOG(2))))","v":0},null,{"$f":"N10","v":11122},{"$f":"COUNTIF(L7:L8,Y10)","v":0},{"$f":"Z10/(AB4-Z25)","v":0},{"$f":"IF(AA10=0,0,(AA10*((LOG(AA10))/LOG(2))))","v":0},null,{"$f":"N10","v":11122},{"$f":"COUNTIF(L8:L8,AD10)","v":0},{"$f":"AE10/(AG4-AE25)","v":0},{"$f":"IF(AF10=0,0,(AF10*((LOG(AF10))/LOG(2))))","v":0},null,{"$f":"N10","v":11122},{"$f":"COUNTIF(L9:L9,AI10)","v":0},{"$f":"AJ10/(AL4-AJ25)","v":0},{"$f":"IF(AK10=0,0,(AK10*((LOG(AK10))/LOG(2))))","v":0},null,{"$f":"N10","v":11122},{"$f":"COUNTIF(L9:L10,AN10)","v":0},{"$f":"AO10/(AQ4-AO25)","v":0},{"$f":"IF(AP10=0,0,(AP10*((LOG(AP10))/LOG(2))))","v":0},null,{"$f":"N10","v":11122},{"$f":"COUNTIF(L10:L10,AS10)","v":0},{"$f":"AT10/(AV4-AT25)","v":0},{"$f":"IF(AU10=0,0,(AU10*((LOG(AU10))/LOG(2))))","v":0}]
[null,null,null,null,null,null,null,null,null,null,null,null,null,11211,{"$f":"COUNTIF($L$7:$L$500,N11)","v":0},{"$f":"O11/$Q$4","v":0},{"$f":"IF(P11=0,0,(P11*((LOG(P11))/LOG(2))))","v":0},null,null,{"$f":"N11","v":11211},{"$f":"COUNTIF(L7:L7,T11)","v":0},{"$f":"U11/(W4-U25)","v":0},{"$f":"IF(V11=0,0,(V11*((LOG(V11))/LOG(2))))","v":0},null,{"$f":"N11","v":11211},{"$f":"COUNTIF(L7:L8,Y11)","v":0},{"$f":"Z11/(AB4-Z25)","v":0},{"$f":"IF(AA11=0,0,(AA11*((LOG(AA11))/LOG(2))))","v":0},null,{"$f":"N11","v":11211},{"$f":"COUNTIF(L8:L8,AD11)","v":0},{"$f":"AE11/(AG4-AE25)","v":0},{"$f":"IF(AF11=0,0,(AF11*((LOG(AF11))/LOG(2))))","v":0},null,{"$f":"N11","v":11211},{"$f":"COUNTIF(L9:L9,AI11)","v":0},{"$f":"AJ11/(AL4-AJ25)","v":0},{"$f":"IF(AK11=0,0,(AK11*((LOG(AK11))/LOG(2))))","v":0},null,{"$f":"N11","v":11211},{"$f":"COUNTIF(L9:L10,AN11)","v":0},{"$f":"AO11/(AQ4-AO25)","v":0},{"$f":"IF(AP11=0,0,(AP11*((LOG(AP11))/LOG(2))))","v":0},null,{"$f":"N11","v":11211},{"$f":"COUNTIF(L10:L10,AS11)","v":0},{"$f":"AT11/(AV4-AT25)","v":0},{"$f":"IF(AU11=0,0,(AU11*((LOG(AU11))/LOG(2))))","v":0}]
[null,null,null,null,null,null,null,null,null,null,null,null,null,11212,{"$f":"COUNTIF($L$7:$L$500,N12)","v":0},{"$f":"O12/$Q$4","v":0},{"$f":"IF(P12=0,0,(P12*((LOG(P12))/LOG(2))))","v":0},null,null,{"$f":"N12","v":11212},{"$f":"COUNTIF(L7:L7,T12)","v":0},{"$f":"U12/(W4-U25)","v":0},{"$f":"IF(V12=0,0,(V12*((LOG(V12))/LOG(2))))","v":0},null,{"$f":"N12","v":11212},{"$f":"COUNTIF(L7:L8,Y12)","v":0},{"$f":"Z12/(AB4-Z25)","v":0},{"$f":"IF(AA12=0,0,(AA12*((LOG(AA12))/LOG(2))))","v":0},null,{"$f":"N12","v":11212},{"$f":"COUNTIF(L8:L8,AD12)","v":0},{"$f":"AE12/(AG4-AE25)","v":0},{"$f":"IF(AF12=0,0,(AF12*((LOG(AF12))/LOG(2))))","v":0},null,{"$f":"N12","v":11212},{"$f":"COUNTIF(L9:L9,AI12)","v":0},{"$f":"AJ12/(AL4-AJ25)","v":0},{"$f":"IF(AK12=0,0,(AK12*((LOG(AK12))/LOG(2))))","v":0},null,{"$f":"N12","v":11212},{"$f":"COUNTIF(L9:L10,AN12)","v":0},{"$f":"AO12/(AQ4-AO25)","v":0},{"$f":"IF(AP12=0,0,(AP12*((LOG(AP12))/LOG(2))))","v":0},null,{"$f":"N12","v":11212},{"$f":"COUNTIF(L10:L10,AS12)","v":0},{"$f":"AT12/(AV4-AT25)","v":0},{"$f":"IF(AU12=0,0,(AU12*((LOG(AU12))/LOG(2))))","v":0}]
[null,null,null,null,null,null,null,null,null,null,null,null,null,11221,{"$f":"COUNTIF($L$7:$L$500,N13)","v":0},{"$f":"O13/$Q$4","v":0},{"$f":"IF(P13=0,0,(P13*((LOG(P13))/LOG(2))))","v":0},null,null,{"$f":"N13","v":11221},{"$f":"COUNTIF(L7:L7,T13)","v":0},{"$f":"U13/(W4-U25)","v":0},{"$f":"IF(V13=0,0,(V13*((LOG(V13))/LOG(2))))","v":0},null,{"$f":"N13","v":11221},{"$f":"COUNTIF(L7:L8,Y13)","v":0},{"$f":"Z13/(AB4-Z25)","v":0},{"$f":"IF(AA13=0,0,(AA13*((LOG(AA13))/LOG(2))))","v":0},null,{"$f":"N13","v":11221},{"$f":"COUNTIF(L8:L8,AD13)","v":0},{"$f":"AE13/(AG4-AE25)","v":0},{"$f":"IF(AF13=0,0,(AF13*((LOG(AF13))/LOG(2))))","v":0},null,{"$f":"N13","v":11221},{"$f":"COUNTIF(L9:L9,AI13)","v":0},{"$f":"AJ13/(AL4-AJ25)","v":0},{"$f":"IF(AK13=0,0,(AK13*((LOG(AK13))/LOG(2))))","v":0},null,{"$f":"N13","v":11221},{"$f":"COUNTIF(L9:L10,AN13)","v":0},{"$f":"AO13/(AQ4-AO25)","v":0},{"$f":"IF(AP13=0,0,(AP13*((LOG(AP13))/LOG(2))))","v":0},null,{"$f":"N13","v":11221},{"$f":"COUNTIF(L10:L10,AS13)","v":0},{"$f":"AT13/(AV4-AT25)","v":0},{"$f":"IF(AU13=0,0,(AU13*((LOG(AU13))/LOG(2))))","v":0}]
[null,null,null,null,null,null,null,null,null,null,null,null,null,11222,{"$f":"COUNTIF($L$7:$L$500,N14)","v":0},{"$f":"O14/$Q$4","v":0},{"$f":"IF(P14=0,0,(P14*((LOG(P14))/LOG(2))))","v":0},null,null,{"$f":"N14","v":11222},{"$f":"COUNTIF(L7:L7,T14)","v":0},{"$f":"U14/(W4-U25)","v":0},{"$f":"IF(V14=0,0,(V14*((LOG(V14))/LOG(2))))","v":0},null,{"$f":"N14","v":11222},{"$f":"COUNTIF(L7:L8,Y14)","v":0},{"$f":"Z14/(AB4-Z25)","v":0},{"$f":"IF(AA14=0,0,(AA14*((LOG(AA14))/LOG(2))))","v":0},null,{"$f":"N14","v":11222},{"$f":"COUNTIF(L8:L8,AD14)","v":0},{"$f":"AE14/(AG4-AE25)","v":0},{"$f":"IF(AF14=0,0,(AF14*((LOG(AF14))/LOG(2))))","v":0},null,{"$f":"N14","v":11222},{"$f":"COUNTIF(L9:L9,AI14)","v":0},{"$f":"AJ14/(AL4-AJ25)","v":0},{"$f":"IF(AK14=0,0,(AK14*((LOG(AK14))/LOG(2))))","v":0},null,{"$f":"N14","v":11222},{"$f":"COUNTIF(L9:L10,AN14)","v":0},{"$f":"AO14/(AQ4-AO25)","v":0},{"$f":"IF(AP14=0,0,(AP14*((LOG(AP14))/LOG(2))))","v":0},null,{"$f":"N14","v":11222},{"$f":"COUNTIF(L10:L10,AS14)","v":0},{"$f":"AT14/(AV4-AT25)","v":0},{"$f":"IF(AU14=0,0,(AU14*((LOG(AU14))/LOG(2))))","v":0}]
[null,null,null,null,null,null,null,null,null,null,null,null,null,12111,{"$f":"COUNTIF($L$7:$L$500,N15)","v":0},{"$f":"O15/$Q$4","v":0},{"$f":"IF(P15=0,0,(P15*((LOG(P15))/LOG(2))))","v":0},null,null,{"$f":"N15","v":12111},{"$f":"COUNTIF(L7:L7,T15)","v":0},{"$f":"U15/(W4-U25)","v":0},{"$f":"IF(V15=0,0,(V15*((LOG(V15))/LOG(2))))","v":0},null,{"$f":"N15","v":12111},{"$f":"COUNTIF(L7:L8,Y15)","v":0},{"$f":"Z15/(AB4-Z25)","v":0},{"$f":"IF(AA15=0,0,(AA15*((LOG(AA15))/LOG(2))))","v":0},null,{"$f":"N15","v":12111},{"$f":"COUNTIF(L8:L8,AD15)","v":0},{"$f":"AE15/(AG4-AE25)","v":0},{"$f":"IF(AF15=0,0,(AF15*((LOG(AF15))/LOG(2))))","v":0},null,{"$f":"N15","v":12111},{"$f":"COUNTIF(L9:L9,AI15)","v":0},{"$f":"AJ15/(AL4-AJ25)","v":0},{"$f":"IF(AK15=0,0,(AK15*((LOG(AK15))/LOG(2))))","v":0},null,{"$f":"N15","v":12111},{"$f":"COUNTIF(L9:L10,AN15)","v":0},{"$f":"AO15/(AQ4-AO25)","v":0},{"$f":"IF(AP15=0,0,(AP15*((LOG(AP15))/LOG(2))))","v":0},null,{"$f":"N15","v":12111},{"$f":"COUNTIF(L10:L10,AS15)","v":0},{"$f":"AT15/(AV4-AT25)","v":0},{"$f":"IF(AU15=0,0,(AU15*((LOG(AU15))/LOG(2))))","v":0}]
[null,null,null,null,null,null,null,null,null,null,null,null,null,12112,{"$f":"COUNTIF($L$7:$L$500,N16)","v":0},{"$f":"O16/$Q$4","v":0},{"$f":"IF(P16=0,0,(P16*((LOG(P16))/LOG(2))))","v":0},null,null,{"$f":"N16","v":12112},{"$f":"COUNTIF(L7:L7,T16)","v":0},{"$f":"U16/(W4-U25)","v":0},{"$f":"IF(V16=0,0,(V16*((LOG(V16))/LOG(2))))","v":0},null,{"$f":"N16","v":12112},{"$f":"COUNTIF(L7:L8,Y16)","v":0},{"$f":"Z16/(AB4-Z25)","v":0},{"$f":"IF(AA16=0,0,(AA16*((LOG(AA16))/LOG(2))))","v":0},null,{"$f":"N16","v":12112},{"$f":"COUNTIF(L8:L8,AD16)","v":0},{"$f":"AE16/(AG4-AE25)","v":0},{"$f":"IF(AF16=0,0,(AF16*((LOG(AF16))/LOG(2))))","v":0},null,{"$f":"N16","v":12112},{"$f":"COUNTIF(L9:L9,AI16)","v":0},{"$f":"AJ16/(AL4-AJ25)","v":0},{"$f":"IF(AK16=0,0,(AK16*((LOG(AK16))/LOG(2))))","v":0},null,{"$f":"N16","v":12112},{"$f":"COUNTIF(L9:L10,AN16)","v":0},{"$f":"AO16/(AQ4-AO25)","v":0},{"$f":"IF(AP16=0,0,(AP16*((LOG(AP16))/LOG(2))))","v":0},null,{"$f":"N16","v":12112},{"$f":"COUNTIF(L10:L10,AS16)","v":0},{"$f":"AT16/(AV4-AT25)","v":0},{"$f":"IF(AU16=0,0,(AU16*((LOG(AU16))/LOG(2))))","v":0}]
[null,null,null,null,null,null,null,null,null,null,null,null,null,12121,{"$f":"COUNTIF($L$7:$L$500,N17)","v":0},{"$f":"O17/$Q$4","v":0},{"$f":"IF(P17=0,0,(P17*((LOG(P17))/LOG(2))))","v":0},null,null,{"$f":"N17","v":12121},{"$f":"COUNTIF(L7:L7,T17)","v":0},{"$f":"U17/(W4-U25)","v":0},{"$f":"IF(V17=0,0,(V17*((LOG(V17))/LOG(2))))","v":0},null,{"$f":"N17","v":12121},{"$f":"COUNTIF(L7:L8,Y17)","v":0},{"$f":"Z17/(AB4-Z25)","v":0},{"$f":"IF(AA17=0,0,(AA17*((LOG(AA17))/LOG(2))))","v":0},null,{"$f":"N17","v":12121},{"$f":"COUNTIF(L8:L8,AD17)","v":0},{"$f":"AE17/(AG4-AE25)","v":0},{"$f":"IF(AF17=0,0,(AF17*((LOG(AF17))/LOG(2))))","v":0},null,{"$f":"N17","v":12121},{"$f":"COUNTIF(L9:L9,AI17)","v":0},{"$f":"AJ17/(AL4-AJ25)","v":0},{"$f":"IF(AK17=0,0,(AK17*((LOG(AK17))/LOG(2))))","v":0},null,{"$f":"N17","v":12121},{"$f":"COUNTIF(L9:L10,AN17)","v":0},{"$f":"AO17/(AQ4-AO25)","v":0},{"$f":"IF(AP17=0,0,(AP17*((LOG(AP17))/LOG(2))))","v":0},null,{"$f":"N17","v":12121},{"$f":"COUNTIF(L10:L10,AS17)","v":0},{"$f":"AT17/(AV4-AT25)","v":0},{"$f":"IF(AU17=0,0,(AU17*((LOG(AU17))/LOG(2))))","v":0}]
[null,null,null,null,null,null,null,null,null,null,null,null,null,12122,{"$f":"COUNTIF($L$7:$L$500,N18)","v":0},{"$f":"O18/$Q$4","v":0},{"$f":"IF(P18=0,0,(P18*((LOG(P18))/LOG(2))))","v":0},null,null,{"$f":"N18","v":12122},{"$f":"COUNTIF(L7:L7,T18)","v":0},{"$f":"U18/(W4-U25)","v":0},{"$f":"IF(V18=0,0,(V18*((LOG(V18))/LOG(2))))","v":0},null,{"$f":"N18","v":12122},{"$f":"COUNTIF(L7:L8,Y18)","v":0},{"$f":"Z18/(AB4-Z25)","v":0},{"$f":"IF(AA18=0,0,(AA18*((LOG(AA18))/LOG(2))))","v":0},null,{"$f":"N18","v":12122},{"$f":"COUNTIF(L8:L8,AD18)","v":0},{"$f":"AE18/(AG4-AE25)","v":0},{"$f":"IF(AF18=0,0,(AF18*((LOG(AF18))/LOG(2))))","v":0},null,{"$f":"N18","v":12122},{"$f":"COUNTIF(L9:L9,AI18)","v":0},{"$f":"AJ18/(AL4-AJ25)","v":0},{"$f":"IF(AK18=0,0,(AK18*((LOG(AK18))/LOG(2))))","v":0},null,{"$f":"N18","v":12122},{"$f":"COUNTIF(L9:L10,AN18)","v":0},{"$f":"AO18/(AQ4-AO25)","v":0},{"$f":"IF(AP18=0,0,(AP18*((LOG(AP18))/LOG(2))))","v":0},null,{"$f":"N18","v":12122},{"$f":"COUNTIF(L10:L10,AS18)","v":0},{"$f":"AT18/(AV4-AT25)","v":0},{"$f":"IF(AU18=0,0,(AU18*((LOG(AU18))/LOG(2))))","v":0}]
[null,null,null,null,null,null,null,null,null,null,null,null,null,12211,{"$f":"COUNTIF($L$7:$L$500,N19)","v":0},{"$f":"O19/$Q$4","v":0},{"$f":"IF(P19=0,0,(P19*((LOG(P19))/LOG(2))))","v":0},null,null,{"$f":"N19","v":12211},{"$f":"COUNTIF(L7:L7,T19)","v":0},{"$f":"U19/(W4-U25)","v":0},{"$f":"IF(V19=0,0,(V19*((LOG(V19))/LOG(2))))","v":0},null,{"$f":"N19","v":12211},{"$f":"COUNTIF(L7:L8,Y19)","v":0},{"$f":"Z19/(AB4-Z25)","v":0},{"$f":"IF(AA19=0,0,(AA19*((LOG(AA19))/LOG(2))))","v":0},null,{"$f":"N19","v":12211},{"$f":"COUNTIF(L8:L8,AD19)","v":0},{"$f":"AE19/(AG4-AE25)","v":0},{"$f":"IF(AF19=0,0,(AF19*((LOG(AF19))/LOG(2))))","v":0},null,{"$f":"N19","v":12211},{"$f":"COUNTIF(L9:L9,AI19)","v":0},{"$f":"AJ19/(AL4-AJ25)","v":0},{"$f":"IF(AK19=0,0,(AK19*((LOG(AK19))/LOG(2))))","v":0},null,{"$f":"N19","v":12211},{"$f":"COUNTIF(L9:L10,AN19)","v":0},{"$f":"AO19/(AQ4-AO25)","v":0},{"$f":"IF(AP19=0,0,(AP19*((LOG(AP19))/LOG(2))))","v":0},null,{"$f":"N19","v":12211},{"$f":"COUNTIF(L10:L10,AS19)","v":0},{"$f":"AT19/(AV4-AT25)","v":0},{"$f":"IF(AU19=0,0,(AU19*((LOG(AU19))/LOG(2))))","v":0}]
[null,null,null,null,null,null,null,null,null,null,null,null,null,12212,{"$f":"COUNTIF($L$7:$L$500,N20)","v":0},{"$f":"O20/$Q$4","v":0},{"$f":"IF(P20=0,0,(P20*((LOG(P20))/LOG(2))))","v":0},null,null,{"$f":"N20","v":12212},{"$f":"COUNTIF(L7:L7,T20)","v":0},{"$f":"U20/(W4-U25)","v":0},{"$f":"IF(V20=0,0,(V20*((LOG(V20))/LOG(2))))","v":0},null,{"$f":"N20","v":12212},{"$f":"COUNTIF(L7:L8,Y20)","v":0},{"$f":"Z20/(AB4-Z25)","v":0},{"$f":"IF(AA20=0,0,(AA20*((LOG(AA20))/LOG(2))))","v":0},null,{"$f":"N20","v":12212},{"$f":"COUNTIF(L8:L8,AD20)","v":0},{"$f":"AE20/(AG4-AE25)","v":0},{"$f":"IF(AF20=0,0,(AF20*((LOG(AF20))/LOG(2))))","v":0},null,{"$f":"N20","v":12212},{"$f":"COUNTIF(L9:L9,AI20)","v":0},{"$f":"AJ20/(AL4-AJ25)","v":0},{"$f":"IF(AK20=0,0,(AK20*((LOG(AK20))/LOG(2))))","v":0},null,{"$f":"N20","v":12212},{"$f":"COUNTIF(L9:L10,AN20)","v":0},{"$f":"AO20/(AQ4-AO25)","v":0},{"$f":"IF(AP20=0,0,(AP20*((LOG(AP20))/LOG(2))))","v":0},null,{"$f":"N20","v":12212},{"$f":"COUNTIF(L10:L10,AS20)","v":0},{"$f":"AT20/(AV4-AT25)","v":0},{"$f":"IF(AU20=0,0,(AU20*((LOG(AU20))/LOG(2))))","v":0}]
[null,null,null,null,null,null,null,null,null,null,null,null,null,12221,{"$f":"COUNTIF($L$7:$L$500,N21)","v":0},{"$f":"O21/$Q$4","v":0},{"$f":"IF(P21=0,0,(P21*((LOG(P21))/LOG(2))))","v":0},null,null,{"$f":"N21","v":12221},{"$f":"COUNTIF(L7:L7,T21)","v":0},{"$f":"U21/(W4-U25)","v":0},{"$f":"IF(V21=0,0,(V21*((LOG(V21))/LOG(2))))","v":0},null,{"$f":"N21","v":12221},{"$f":"COUNTIF(L7:L8,Y21)","v":0},{"$f":"Z21/(AB4-Z25)","v":0},{"$f":"IF(AA21=0,0,(AA21*((LOG(AA21))/LOG(2))))","v":0},null,{"$f":"N21","v":12221},{"$f":"COUNTIF(L8:L8,AD21)","v":0},{"$f":"AE21/(AG4-AE25)","v":0},{"$f":"IF(AF21=0,0,(AF21*((LOG(AF21))/LOG(2))))","v":0},null,{"$f":"N21","v":12221},{"$f":"COUNTIF(L9:L9,AI21)","v":0},{"$f":"AJ21/(AL4-AJ25)","v":0},{"$f":"IF(AK21=0,0,(AK21*((LOG(AK21))/LOG(2))))","v":0},null,{"$f":"N21","v":12221},{"$f":"COUNTIF(L9:L10,AN21)","v":0},{"$f":"AO21/(AQ4-AO25)","v":0},{"$f":"IF(AP21=0,0,(AP21*((LOG(AP21))/LOG(2))))","v":0},null,{"$f":"N21","v":12221},{"$f":"COUNTIF(L10:L10,AS21)","v":0},{"$f":"AT21/(AV4-AT25)","v":0},{"$f":"IF(AU21=0,0,(AU21*((LOG(AU21))/LOG(2))))","v":0}]
[null,null,null,null,null,null,null,null,null,null,null,null,null,12222,{"$f":"COUNTIF($L$7:$L$500,N22)","v":1},{"$f":"O22/$Q$4","v":0.25},{"$f":"IF(P22=0,0,(P22*((LOG(P22))/LOG(2))))","v":-0.5},null,null,{"$f":"N22","v":12222},{"$f":"COUNTIF(L7:L7,T22)","v":0},{"$f":"U22/(W4-U25)","v":0},{"$f":"IF(V22=0,0,(V22*((LOG(V22))/LOG(2))))","v":0},null,{"$f":"N22","v":12222},{"$f":"COUNTIF(L7:L8,Y22)","v":0},{"$f":"Z22/(AB4-Z25)","v":0},{"$f":"IF(AA22=0,0,(AA22*((LOG(AA22))/LOG(2))))","v":0},null,{"$f":"N22","v":12222},{"$f":"COUNTIF(L8:L8,AD22)","v":0},{"$f":"AE22/(AG4-AE25)","v":0},{"$f":"IF(AF22=0,0,(AF22*((LOG(AF22))/LOG(2))))","v":0},null,{"$f":"N22","v":12222},{"$f":"COUNTIF(L9:L9,AI22)","v":1},{"$f":"AJ22/(AL4-AJ25)","v":1},{"$f":"IF(AK22=0,0,(AK22*((LOG(AK22))/LOG(2))))","v":0},null,{"$f":"N22","v":12222},{"$f":"COUNTIF(L9:L10,AN22)","v":1},{"$f":"AO22/(AQ4-AO25)","v":0.5},{"$f":"IF(AP22=0,0,(AP22*((LOG(AP22))/LOG(2))))","v":-0.5},null,{"$f":"N22","v":12222},{"$f":"COUNTIF(L10:L10,AS22)","v":0},{"$f":"AT22/(AV4-AT25)","v":0},{"$f":"IF(AU22=0,0,(AU22*((LOG(AU22))/LOG(2))))","v":0}]
[null,null,null,null,null,null,null,null,null,null,null,null,null,21111,{"$f":"COUNTIF($L$7:$L$500,N23)","v":0},{"$f":"O23/$Q$4","v":0},{"$f":"IF(P23=0,0,(P23*((LOG(P23))/LOG(2))))","v":0},null,null,{"$f":"N23","v":21111},{"$f":"COUNTIF(L7:L7,T23)","v":0},{"$f":"U23/(W4-U25)","v":0},{"$f":"IF(V23=0,0,(V23*((LOG(V23))/LOG(2))))","v":0},null,{"$f":"N23","v":21111},{"$f":"COUNTIF(L7:L8,Y23)","v":0},{"$f":"Z23/(AB4-Z25)","v":0},{"$f":"IF(AA23=0,0,(AA23*((LOG(AA23))/LOG(2))))","v":0},null,{"$f":"N23","v":21111},{"$f":"COUNTIF(L8:L8,AD23)","v":0},{"$f":"AE23/(AG4-AE25)","v":0},{"$f":"IF(AF23=0,0,(AF23*((LOG(AF23))/LOG(2))))","v":0},null,{"$f":"N23","v":21111},{"$f":"COUNTIF(L9:L9,AI23)","v":0},{"$f":"AJ23/(AL4-AJ25)","v":0},{"$f":"IF(AK23=0,0,(AK23*((LOG(AK23))/LOG(2))))","v":0},null,{"$f":"N23","v":21111},{"$f":"COUNTIF(L9:L10,AN23)","v":0},{"$f":"AO23/(AQ4-AO25)","v":0},{"$f":"IF(AP23=0,0,(AP23*((LOG(AP23))/LOG(2))))","v":0},null,{"$f":"N23","v":21111},{"$f":"COUNTIF(L10:L10,AS23)","v":0},{"$f":"AT23/(AV4-AT25)","v":0},{"$f":"IF(AU23=0,0,(AU23*((LOG(AU23))/LOG(2))))","v":0}]
[null,null,null,null,null,null,null,null,null,null,null,null,null,21112,{"$f":"COUNTIF($L$7:$L$500,N24)","v":0},{"$f":"O24/$Q$4","v":0},{"$f":"IF(P24=0,0,(P24*((LOG(P24))/LOG(2))))","v":0},null,null,{"$f":"N24","v":21112},{"$f":"COUNTIF(L7:L7,T24)","v":0},{"$f":"U24/(W4-U25)","v":0},{"$f":"IF(V24=0,0,(V24*((LOG(V24))/LOG(2))))","v":0},null,{"$f":"N24","v":21112},{"$f":"COUNTIF(L7:L8,Y24)","v":0},{"$f":"Z24/(AB4-Z25)","v":0},{"$f":"IF(AA24=0,0,(AA24*((LOG(AA24))/LOG(2))))","v":0},null,{"$f":"N24","v":21112},{"$f":"COUNTIF(L8:L8,AD24)","v":0},{"$f":"AE24/(AG4-AE25)","v":0},{"$f":"IF(AF24=0,0,(AF24*((LOG(AF24))/LOG(2))))","v":0},null,{"$f":"N24","v":21112},{"$f":"COUNTIF(L9:L9,AI24)","v":0},{"$f":"AJ24/(AL4-AJ25)","v":0},{"$f":"IF(AK24=0,0,(AK24*((LOG(AK24))/LOG(2))))","v":0},null,{"$f":"N24","v":21112},{"$f":"COUNTIF(L9:L10,AN24)","v":0},{"$f":"AO24/(AQ4-AO25)","v":0},{"$f":"IF(AP24=0,0,(AP24*((LOG(AP24))/LOG(2))))","v":0},null,{"$f":"N24","v":21112},{"$f":"COUNTIF(L10:L10,AS24)","v":0},{"$f":"AT24/(AV4-AT25)","v":0},{"$f":"IF(AU24=0,0,(AU24*((LOG(AU24))/LOG(2))))","v":0}]
[null,null,null,null,null,null,null,null,null,null,null,null,null,21121,{"$f":"COUNTIF($L$7:$L$500,N25)","v":0},{"$f":"O25/$Q$4","v":0},{"$f":"IF(P25=0,0,(P25*((LOG(P25))/LOG(2))))","v":0},null,null,{"$f":"N25","v":21121},{"$f":"COUNTIF(L7:L7,T25)","v":0},null,null,null,{"$f":"N25","v":21121},{"$f":"COUNTIF(L7:L8,Y25)","v":0},null,null,null,{"$f":"N25","v":21121},{"$f":"COUNTIF(L8:L8,AD25)","v":0},null,null,null,{"$f":"N25","v":21121},{"$f":"COUNTIF(L9:L9,AI25)","v":0},null,null,null,{"$f":"N25","v":21121},{"$f":"COUNTIF(L9:L10,AN25)","v":0},null,null,null,{"$f":"N25","v":21121},{"$f":"COUNTIF(L10:L10,AS25)","v":0}]
[null,null,null,null,null,null,null,null,null,null,null,null,null,21122,{"$f":"COUNTIF($L$7:$L$500,N26)","v":0},{"$f":"O26/$Q$4","v":0},{"$f":"IF(P26=0,0,(P26*((LOG(P26))/LOG(2))))","v":0},null,null,{"$f":"N26","v":21122},{"$f":"COUNTIF(L7:L7,T26)","v":0},{"$f":"U26/(W4-U25)","v":0},{"$f":"IF(V26=0,0,(V26*((LOG(V26))/LOG(2))))","v":0},null,{"$f":"N26","v":21122},{"$f":"COUNTIF(L7:L8,Y26)","v":0},{"$f":"Z26/(AB4-Z25)","v":0},{"$f":"IF(AA26=0,0,(AA26*((LOG(AA26))/LOG(2))))","v":0},null,{"$f":"N26","v":21122},{"$f":"COUNTIF(L8:L8,AD26)","v":0},{"$f":"AE26/(AG4-AE25)","v":0},{"$f":"IF(AF26=0,0,(AF26*((LOG(AF26))/LOG(2))))","v":0},null,{"$f":"N26","v":21122},{"$f":"COUNTIF(L9:L9,AI26)","v":0},{"$f":"AJ26/(AL4-AJ25)","v":0},{"$f":"IF(AK26=0,0,(AK26*((LOG(AK26))/LOG(2))))","v":0},null,{"$f":"N26","v":21122},{"$f":"COUNTIF(L9:L10,AN26)","v":0},{"$f":"AO26/(AQ4-AO25)","v":0},{"$f":"IF(AP26=0,0,(AP26*((LOG(AP26))/LOG(2))))","v":0},null,{"$f":"N26","v":21122},{"$f":"COUNTIF(L10:L10,AS26)","v":0},{"$f":"AT26/(AV4-AT25)","v":0},{"$f":"IF(AU26=0,0,(AU26*((LOG(AU26))/LOG(2))))","v":0}]
[null,null,null,null,null,null,null,null,null,null,null,null,null,21211,{"$f":"COUNTIF($L$7:$L$500,N27)","v":0},{"$f":"O27/$Q$4","v":0},{"$f":"IF(P27=0,0,(P27*((LOG(P27))/LOG(2))))","v":0},null,null,{"$f":"N27","v":21211},{"$f":"COUNTIF(L7:L7,T27)","v":0},{"$f":"U27/(W4-U25)","v":0},{"$f":"IF(V27=0,0,(V27*((LOG(V27))/LOG(2))))","v":0},null,{"$f":"N27","v":21211},{"$f":"COUNTIF(L7:L8,Y27)","v":0},{"$f":"Z27/(AB4-Z25)","v":0},{"$f":"IF(AA27=0,0,(AA27*((LOG(AA27))/LOG(2))))","v":0},null,{"$f":"N27","v":21211},{"$f":"COUNTIF(L8:L8,AD27)","v":0},{"$f":"AE27/(AG4-AE25)","v":0},{"$f":"IF(AF27=0,0,(AF27*((LOG(AF27))/LOG(2))))","v":0},null,{"$f":"N27","v":21211},{"$f":"COUNTIF(L9:L9,AI27)","v":0},{"$f":"AJ27/(AL4-AJ25)","v":0},{"$f":"IF(AK27=0,0,(AK27*((LOG(AK27))/LOG(2))))","v":0},null,{"$f":"N27","v":21211},{"$f":"COUNTIF(L9:L10,AN27)","v":0},{"$f":"AO27/(AQ4-AO25)","v":0},{"$f":"IF(AP27=0,0,(AP27*((LOG(AP27))/LOG(2))))","v":0},null,{"$f":"N27","v":21211},{"$f":"COUNTIF(L10:L10,AS27)","v":0},{"$f":"AT27/(AV4-AT25)","v":0},{"$f":"IF(AU27=0,0,(AU27*((LOG(AU27))/LOG(2))))","v":0}]
[null,null,null,null,null,null,null,null,null,null,null,null,null,21212,{"$f":"COUNTIF($L$7:$L$500,N28)","v":2},{"$f":"O28/$Q$4","v":0.5},{"$f":"IF(P28=0,0,(P28*((LOG(P28))/LOG(2))))","v":-0.5},null,null,{"$f":"N28","v":21212},{"$f":"COUNTIF(L7:L7,T28)","v":1},{"$f":"U28/(W4-U25)","v":1},{"$f":"IF(V28=0,0,(V28*((LOG(V28))/LOG(2))))","v":0},null,{"$f":"N28","v":21212},{"$f":"COUNTIF(L7:L8,Y28)","v":2},{"$f":"Z28/(AB4-Z25)","v":1},{"$f":"IF(AA28=0,0,(AA28*((LOG(AA28))/LOG(2))))","v":0},null,{"$f":"N28","v":21212},{"$f":"COUNTIF(L8:L8,AD28)","v":1},{"$f":"AE28/(AG4-AE25)","v":1},{"$f":"IF(AF28=0,0,(AF28*((LOG(AF28))/LOG(2))))","v":0},null,{"$f":"N28","v":21212},{"$f":"COUNTIF(L9:L9,AI28)","v":0},{"$f":"AJ28/(AL4-AJ25)","v":0},{"$f":"IF(AK28=0,0,(AK28*((LOG(AK28))/LOG(2))))","v":0},null,{"$f":"N28","v":21212},{"$f":"COUNTIF(L9:L10,AN28)","v":0},{"$f":"AO28/(AQ4-AO25)","v":0},{"$f":"IF(AP28=0,0,(AP28*((LOG(AP28))/LOG(2))))","v":0},null,{"$f":"N28","v":21212},{"$f":"COUNTIF(L10:L10,AS28)","v":0},{"$f":"AT28/(AV4-AT25)","v":0},{"$f":"IF(AU28=0,0,(AU28*((LOG(AU28))/LOG(2))))","v":0}]
[null,null,null,null,null,null,null,null,null,null,null,null,null,21221,{"$f":"COUNTIF($L$7:$L$500,N29)","v":0},{"$f":"O29/$Q$4","v":0},{"$f":"IF(P29=0,0,(P29*((LOG(P29))/LOG(2))))","v":0},null,null,{"$f":"N29","v":21221},{"$f":"COUNTIF(L7:L7,T29)","v":0},{"$f":"U29/(W4-U25)","v":0},{"$f":"IF(V29=0,0,(V29*((LOG(V29))/LOG(2))))","v":0},null,{"$f":"N29","v":21221},{"$f":"COUNTIF(L7:L8,Y29)","v":0},{"$f":"Z29/(AB4-Z25)","v":0},{"$f":"IF(AA29=0,0,(AA29*((LOG(AA29))/LOG(2))))","v":0},null,{"$f":"N29","v":21221},{"$f":"COUNTIF(L8:L8,AD29)","v":0},{"$f":"AE29/(AG4-AE25)","v":0},{"$f":"IF(AF29=0,0,(AF29*((LOG(AF29))/LOG(2))))","v":0},null,{"$f":"N29","v":21221},{"$f":"COUNTIF(L9:L9,AI29)","v":0},{"$f":"AJ29/(AL4-AJ25)","v":0},{"$f":"IF(AK29=0,0,(AK29*((LOG(AK29))/LOG(2))))","v":0},null,{"$f":"N29","v":21221},{"$f":"COUNTIF(L9:L10,AN29)","v":0},{"$f":"AO29/(AQ4-AO25)","v":0},{"$f":"IF(AP29=0,0,(AP29*((LOG(AP29))/LOG(2))))","v":0},null,{"$f":"N29","v":21221},{"$f":"COUNTIF(L10:L10,AS29)","v":0},{"$f":"AT29/(AV4-AT25)","v":0},{"$f":"IF(AU29=0,0,(AU29*((LOG(AU29))/LOG(2))))","v":0}]
[null,null,null,null,null,null,null,null,null,null,null,null,null,21222,{"$f":"COUNTIF($L$7:$L$500,N30)","v":0},{"$f":"O30/$Q$4","v":0},{"$f":"IF(P30=0,0,(P30*((LOG(P30))/LOG(2))))","v":0},null,null,{"$f":"N30","v":21222},{"$f":"COUNTIF(L7:L7,T30)","v":0},{"$f":"U30/(W4-U25)","v":0},{"$f":"IF(V30=0,0,(V30*((LOG(V30))/LOG(2))))","v":0},null,{"$f":"N30","v":21222},{"$f":"COUNTIF(L7:L8,Y30)","v":0},{"$f":"Z30/(AB4-Z25)","v":0},{"$f":"IF(AA30=0,0,(AA30*((LOG(AA30))/LOG(2))))","v":0},null,{"$f":"N30","v":21222},{"$f":"COUNTIF(L8:L8,AD30)","v":0},{"$f":"AE30/(AG4-AE25)","v":0},{"$f":"IF(AF30=0,0,(AF30*((LOG(AF30))/LOG(2))))","v":0},null,{"$f":"N30","v":21222},{"$f":"COUNTIF(L9:L9,AI30)","v":0},{"$f":"AJ30/(AL4-AJ25)","v":0},{"$f":"IF(AK30=0,0,(AK30*((LOG(AK30))/LOG(2))))","v":0},null,{"$f":"N30","v":21222},{"$f":"COUNTIF(L9:L10,AN30)","v":0},{"$f":"AO30/(AQ4-AO25)","v":0},{"$f":"IF(AP30=0,0,(AP30*((LOG(AP30))/LOG(2))))","v":0},null,{"$f":"N30","v":21222},{"$f":"COUNTIF(L10:L10,AS30)","v":0},{"$f":"AT30/(AV4-AT25)","v":0},{"$f":"IF(AU30=0,0,(AU30*((LOG(AU30))/LOG(2))))","v":0}]
[null,null,null,null,null,null,null,null,null,null,null,null,null,22111,{"$f":"COUNTIF($L$7:$L$500,N31)","v":0},{"$f":"O31/$Q$4","v":0},{"$f":"IF(P31=0,0,(P31*((LOG(P31))/LOG(2))))","v":0},null,null,{"$f":"N31","v":22111},{"$f":"COUNTIF(L7:L7,T31)","v":0},{"$f":"U31/(W4-U25)","v":0},{"$f":"IF(V31=0,0,(V31*((LOG(V31))/LOG(2))))","v":0},null,{"$f":"N31","v":22111},{"$f":"COUNTIF(L7:L8,Y31)","v":0},{"$f":"Z31/(AB4-Z25)","v":0},{"$f":"IF(AA31=0,0,(AA31*((LOG(AA31))/LOG(2))))","v":0},null,{"$f":"N31","v":22111},{"$f":"COUNTIF(L8:L8,AD31)","v":0},{"$f":"AE31/(AG4-AE25)","v":0},{"$f":"IF(AF31=0,0,(AF31*((LOG(AF31))/LOG(2))))","v":0},null,{"$f":"N31","v":22111},{"$f":"COUNTIF(L9:L9,AI31)","v":0},{"$f":"AJ31/(AL4-AJ25)","v":0},{"$f":"IF(AK31=0,0,(AK31*((LOG(AK31))/LOG(2))))","v":0},null,{"$f":"N31","v":22111},{"$f":"COUNTIF(L9:L10,AN31)","v":0},{"$f":"AO31/(AQ4-AO25)","v":0},{"$f":"IF(AP31=0,0,(AP31*((LOG(AP31))/LOG(2))))","v":0},null,{"$f":"N31","v":22111},{"$f":"COUNTIF(L10:L10,AS31)","v":0},{"$f":"AT31/(AV4-AT25)","v":0},{"$f":"IF(AU31=0,0,(AU31*((LOG(AU31))/LOG(2))))","v":0}]
[null,null,null,null,null,null,null,null,null,null,null,null,null,22112,{"$f":"COUNTIF($L$7:$L$500,N32)","v":0},{"$f":"O32/$Q$4","v":0},{"$f":"IF(P32=0,0,(P32*((LOG(P32))/LOG(2))))","v":0},null,null,{"$f":"N32","v":22112},{"$f":"COUNTIF(L7:L7,T32)","v":0},{"$f":"U32/(W4-U25)","v":0},{"$f":"IF(V32=0,0,(V32*((LOG(V32))/LOG(2))))","v":0},null,{"$f":"N32","v":22112},{"$f":"COUNTIF(L7:L8,Y32)","v":0},{"$f":"Z32/(AB4-Z25)","v":0},{"$f":"IF(AA32=0,0,(AA32*((LOG(AA32))/LOG(2))))","v":0},null,{"$f":"N32","v":22112},{"$f":"COUNTIF(L8:L8,AD32)","v":0},{"$f":"AE32/(AG4-AE25)","v":0},{"$f":"IF(AF32=0,0,(AF32*((LOG(AF32))/LOG(2))))","v":0},null,{"$f":"N32","v":22112},{"$f":"COUNTIF(L9:L9,AI32)","v":0},{"$f":"AJ32/(AL4-AJ25)","v":0},{"$f":"IF(AK32=0,0,(AK32*((LOG(AK32))/LOG(2))))","v":0},null,{"$f":"N32","v":22112},{"$f":"COUNTIF(L9:L10,AN32)","v":0},{"$f":"AO32/(AQ4-AO25)","v":0},{"$f":"IF(AP32=0,0,(AP32*((LOG(AP32))/LOG(2))))","v":0},null,{"$f":"N32","v":22112},{"$f":"COUNTIF(L10:L10,AS32)","v":0},{"$f":"AT32/(AV4-AT25)","v":0},{"$f":"IF(AU32=0,0,(AU32*((LOG(AU32))/LOG(2))))","v":0}]
[null,null,null,null,null,null,null,null,null,null,null,null,null,22121,{"$f":"COUNTIF($L$7:$L$500,N33)","v":0},{"$f":"O33/$Q$4","v":0},{"$f":"IF(P33=0,0,(P33*((LOG(P33))/LOG(2))))","v":0},null,null,{"$f":"N33","v":22121},{"$f":"COUNTIF(L7:L7,T33)","v":0},{"$f":"U33/(W4-U25)","v":0},{"$f":"IF(V33=0,0,(V33*((LOG(V33))/LOG(2))))","v":0},null,{"$f":"N33","v":22121},{"$f":"COUNTIF(L7:L8,Y33)","v":0},{"$f":"Z33/(AB4-Z25)","v":0},{"$f":"IF(AA33=0,0,(AA33*((LOG(AA33))/LOG(2))))","v":0},null,{"$f":"N33","v":22121},{"$f":"COUNTIF(L8:L8,AD33)","v":0},{"$f":"AE33/(AG4-AE25)","v":0},{"$f":"IF(AF33=0,0,(AF33*((LOG(AF33))/LOG(2))))","v":0},null,{"$f":"N33","v":22121},{"$f":"COUNTIF(L9:L9,AI33)","v":0},{"$f":"AJ33/(AL4-AJ25)","v":0},{"$f":"IF(AK33=0,0,(AK33*((LOG(AK33))/LOG(2))))","v":0},null,{"$f":"N33","v":22121},{"$f":"COUNTIF(L9:L10,AN33)","v":0},{"$f":"AO33/(AQ4-AO25)","v":0},{"$f":"IF(AP33=0,0,(AP33*((LOG(AP33))/LOG(2))))","v":0},null,{"$f":"N33","v":22121},{"$f":"COUNTIF(L10:L10,AS33)","v":0},{"$f":"AT33/(AV4-AT25)","v":0},{"$f":"IF(AU33=0,0,(AU33*((LOG(AU33))/LOG(2))))","v":0}]
[null,null,null,null,null,null,null,null,null,null,null,null,null,22122,{"$f":"COUNTIF($L$7:$L$500,N34)","v":0},{"$f":"O34/$Q$4","v":0},{"$f":"IF(P34=0,0,(P34*((LOG(P34))/LOG(2))))","v":0},null,null,{"$f":"N34","v":22122},{"$f":"COUNTIF(L7:L7,T34)","v":0},{"$f":"U34/(W4-U25)","v":0},{"$f":"IF(V34=0,0,(V34*((LOG(V34))/LOG(2))))","v":0},null,{"$f":"N34","v":22122},{"$f":"COUNTIF(L7:L8,Y34)","v":0},{"$f":"Z34/(AB4-Z25)","v":0},{"$f":"IF(AA34=0,0,(AA34*((LOG(AA34))/LOG(2))))","v":0},null,{"$f":"N34","v":22122},{"$f":"COUNTIF(L8:L8,AD34)","v":0},{"$f":"AE34/(AG4-AE25)","v":0},{"$f":"IF(AF34=0,0,(AF34*((LOG(AF34))/LOG(2))))","v":0},null,{"$f":"N34","v":22122},{"$f":"COUNTIF(L9:L9,AI34)","v":0},{"$f":"AJ34/(AL4-AJ25)","v":0},{"$f":"IF(AK34=0,0,(AK34*((LOG(AK34))/LOG(2))))","v":0},null,{"$f":"N34","v":22122},{"$f":"COUNTIF(L9:L10,AN34)","v":0},{"$f":"AO34/(AQ4-AO25)","v":0},{"$f":"IF(AP34=0,0,(AP34*((LOG(AP34))/LOG(2))))","v":0},null,{"$f":"N34","v":22122},{"$f":"COUNTIF(L10:L10,AS34)","v":0},{"$f":"AT34/(AV4-AT25)","v":0},{"$f":"IF(AU34=0,0,(AU34*((LOG(AU34))/LOG(2))))","v":0}]
[null,null,null,null,null,null,null,null,null,null,null,null,null,22211,{"$f":"COUNTIF($L$7:$L$500,N35)","v":0},{"$f":"O35/$Q$4","v":0},{"$f":"IF(P35=0,0,(P35*((LOG(P35))/LOG(2))))","v":0},null,null,{"$f":"N35","v":22211},{"$f":"COUNTIF(L7:L7,T35)","v":0},{"$f":"U35/(W4-U25)","v":0},{"$f":"IF(V35=0,0,(V35*((LOG(V35))/LOG(2))))","v":0},null,{"$f":"N35","v":22211},{"$f":"COUNTIF(L7:L8,Y35)","v":0},{"$f":"Z35/(AB4-Z25)","v":0},{"$f":"IF(AA35=0,0,(AA35*((LOG(AA35))/LOG(2))))","v":0},null,{"$f":"N35","v":22211},{"$f":"COUNTIF(L8:L8,AD35)","v":0},{"$f":"AE35/(AG4-AE25)","v":0},{"$f":"IF(AF35=0,0,(AF35*((LOG(AF35))/LOG(2))))","v":0},null,{"$f":"N35","v":22211},{"$f":"COUNTIF(L9:L9,AI35)","v":0},{"$f":"AJ35/(AL4-AJ25)","v":0},{"$f":"IF(AK35=0,0,(AK35*((LOG(AK35))/LOG(2))))","v":0},null,{"$f":"N35","v":22211},{"$f":"COUNTIF(L9:L10,AN35)","v":0},{"$f":"AO35/(AQ4-AO25)","v":0},{"$f":"IF(AP35=0,0,(AP35*((LOG(AP35))/LOG(2))))","v":0},null,{"$f":"N35","v":22211},{"$f":"COUNTIF(L10:L10,AS35)","v":0},{"$f":"AT35/(AV4-AT25)","v":0},{"$f":"IF(AU35=0,0,(AU35*((LOG(AU35))/LOG(2))))","v":0}]
[null,null,null,null,null,null,null,null,null,null,null,null,null,22212,{"$f":"COUNTIF($L$7:$L$500,N36)","v":0},{"$f":"O36/$Q$4","v":0},{"$f":"IF(P36=0,0,(P36*((LOG(P36))/LOG(2))))","v":0},null,null,{"$f":"N36","v":22212},{"$f":"COUNTIF(L7:L7,T36)","v":0},{"$f":"U36/(W4-U25)","v":0},{"$f":"IF(V36=0,0,(V36*((LOG(V36))/LOG(2))))","v":0},null,{"$f":"N36","v":22212},{"$f":"COUNTIF(L7:L8,Y36)","v":0},{"$f":"Z36/(AB4-Z25)","v":0},{"$f":"IF(AA36=0,0,(AA36*((LOG(AA36))/LOG(2))))","v":0},null,{"$f":"N36","v":22212},{"$f":"COUNTIF(L8:L8,AD36)","v":0},{"$f":"AE36/(AG4-AE25)","v":0},{"$f":"IF(AF36=0,0,(AF36*((LOG(AF36))/LOG(2))))","v":0},null,{"$f":"N36","v":22212},{"$f":"COUNTIF(L9:L9,AI36)","v":0},{"$f":"AJ36/(AL4-AJ25)","v":0},{"$f":"IF(AK36=0,0,(AK36*((LOG(AK36))/LOG(2))))","v":0},null,{"$f":"N36","v":22212},{"$f":"COUNTIF(L9:L10,AN36)","v":0},{"$f":"AO36/(AQ4-AO25)","v":0},{"$f":"IF(AP36=0,0,(AP36*((LOG(AP36))/LOG(2))))","v":0},null,{"$f":"N36","v":22212},{"$f":"COUNTIF(L10:L10,AS36)","v":0},{"$f":"AT36/(AV4-AT25)","v":0},{"$f":"IF(AU36=0,0,(AU36*((LOG(AU36))/LOG(2))))","v":0}]
[null,null,null,null,null,null,null,null,null,null,null,null,null,22221,{"$f":"COUNTIF($L$7:$L$500,N37)","v":0},{"$f":"O37/$Q$4","v":0},{"$f":"IF(P37=0,0,(P37*((LOG(P37))/LOG(2))))","v":0},null,null,{"$f":"N37","v":22221},{"$f":"COUNTIF(L7:L7,T37)","v":0},{"$f":"U37/(W4-U25)","v":0},{"$f":"IF(V37=0,0,(V37*((LOG(V37))/LOG(2))))","v":0},null,{"$f":"N37","v":22221},{"$f":"COUNTIF(L7:L8,Y37)","v":0},{"$f":"Z37/(AB4-Z25)","v":0},{"$f":"IF(AA37=0,0,(AA37*((LOG(AA37))/LOG(2))))","v":0},null,{"$f":"N37","v":22221},{"$f":"COUNTIF(L8:L8,AD37)","v":0},{"$f":"AE37/(AG4-AE25)","v":0},{"$f":"IF(AF37=0,0,(AF37*((LOG(AF37))/LOG(2))))","v":0},null,{"$f":"N37","v":22221},{"$f":"COUNTIF(L9:L9,AI37)","v":0},{"$f":"AJ37/(AL4-AJ25)","v":0},{"$f":"IF(AK37=0,0,(AK37*((LOG(AK37))/LOG(2))))","v":0},null,{"$f":"N37","v":22221},{"$f":"COUNTIF(L9:L10,AN37)","v":0},{"$f":"AO37/(AQ4-AO25)","v":0},{"$f":"IF(AP37=0,0,(AP37*((LOG(AP37))/LOG(2))))","v":0},null,{"$f":"N37","v":22221},{"$f":"COUNTIF(L10:L10,AS37)","v":0},{"$f":"AT37/(AV4-AT25)","v":0},{"$f":"IF(AU37=0,0,(AU37*((LOG(AU37))/LOG(2))))","v":0}]
[null,null,null,null,null,null,null,null,null,null,null,null,null,22222,{"$f":"COUNTIF($L$7:$L$500,N38)","v":0},{"$f":"O38/$Q$4","v":0},{"$f":"IF(P38=0,0,(P38*((LOG(P38))/LOG(2))))","v":0},null,null,{"$f":"N38","v":22222},{"$f":"COUNTIF(L7:L7,T38)","v":0},{"$f":"U38/(W4-U25)","v":0},{"$f":"IF(V38=0,0,(V38*((LOG(V38))/LOG(2))))","v":0},null,{"$f":"N38","v":22222},{"$f":"COUNTIF(L7:L8,Y38)","v":0},{"$f":"Z38/(AB4-Z25)","v":0},{"$f":"IF(AA38=0,0,(AA38*((LOG(AA38))/LOG(2))))","v":0},null,{"$f":"N38","v":22222},{"$f":"COUNTIF(L8:L8,AD38)","v":0},{"$f":"AE38/(AG4-AE25)","v":0},{"$f":"IF(AF38=0,0,(AF38*((LOG(AF38))/LOG(2))))","v":0},null,{"$f":"N38","v":22222},{"$f":"COUNTIF(L9:L9,AI38)","v":0},{"$f":"AJ38/(AL4-AJ25)","v":0},{"$f":"IF(AK38=0,0,(AK38*((LOG(AK38))/LOG(2))))","v":0},null,{"$f":"N38","v":22222},{"$f":"COUNTIF(L9:L10,AN38)","v":0},{"$f":"AO38/(AQ4-AO25)","v":0},{"$f":"IF(AP38=0,0,(AP38*((LOG(AP38))/LOG(2))))","v":0},null,{"$f":"N38","v":22222},{"$f":"COUNTIF(L10:L10,AS38)","v":0},{"$f":"AT38/(AV4-AT25)","v":0},{"$f":"IF(AU38=0,0,(AU38*((LOG(AU38))/LOG(2))))","v":0}]
[null,null,null,null,null,null,null,null,null,null,null,null,null,null,null,{"$f":"SUM(P7:P38)","v":1},{"$f":"-SUM(Q7:Q38)","v":1.5},null,null,null,null,{"$f":"SUM(V7:V38)","v":1},{"$f":"-SUM(W7:W38)","v":0},null,null,null,{"$f":"SUM(AA7:AA38)","v":1},{"$f":"-SUM(AB7:AB38)","v":0},null,null,null,{"$f":"SUM(AF7:AF38)","v":1},{"$f":"-SUM(AG7:AG38)","v":0},null,null,null,{"$f":"SUM(AK7:AK38)","v":1},{"$f":"-SUM(AL7:AL38)","v":0},null,null,null,{"$f":"SUM(AP7:AP38)","v":1},{"$f":"-SUM(AQ7:AQ38)","v":1},null,null,null,{"$f":"SUM(AU7:AU38)","v":1},{"$f":"-SUM(AV7:AV38)","v":0}]
[null,null,null,null,null,null,null,null,null,null,null,null,null,null,null,"U=",{"$f":"Q39/(LOG(Q4)/LOG(2))","v":0.75},null,null,null,null,"U1=",{"$f":"W39/(LOG(W4)/LOG(2))","v":{"$error":"#DIV/0!"}},null,null,null,"U2=",{"$f":"AB39/(LOG(AB4)/LOG(2))","v":0},null,null,null,"U3=",{"$f":"AG39/(LOG(AG4)/LOG(2))","v":{"$error":"#DIV/0!"}},null,null,null,"U4=",{"$f":"AL39/(LOG(AL4)/LOG(2))","v":{"$error":"#DIV/0!"}},null,null,null,"U5=",{"$f":"AQ39/(LOG(AQ4)/LOG(2))","v":1},null,null,null,"U6=",{"$f":"AV39/(LOG(AV4)/LOG(2))","v":{"$error":"#DIV/0!"}}]
[]
[]
[null,null,null,null,null,null,null,null,null,null,null,null,null,"Total Target Seq"]
[null,null,null,null,null,null,null,null,null,null,null,null,null,{"$f":"COUNTIF(L7:L10,G3)","v":0},null,1,0,1,1,0,1]
[null,null,null,null,null,null,null,null,null,null,null,null,null,null,null,"% of reinforcement given in 6 equal intervals based on number of trials "]
[null,null,null,null,null,null,null,null,null,null,null,null,null,null,null,"%_1","%_2","%_3","%_4","%_5","%_6"]
[null,null,null,null,null,null,null,null,null,null,null,null,null,null,"target sequence",{"$f":"$G$3","v":21121},{"$f":"$G$3","v":21121},{"$f":"$G$3","v":21121},{"$f":"$G$3","v":21121},{"$f":"$G$3","v":21121},{"$f":"$G$3","v":21121}]
[null,null,null,null,null,null,null,null,null,null,null,null,null,null,"total reinforcement",{"$f":"U25","v":0},{"$f":"Z25","v":0},{"$f":"AE25","v":0},{"$f":"AJ25","v":0},{"$f":"AO25","v":0},{"$f":"AT25","v":0}]
[null,null,null,null,null,null,null,null,null,null,null,null,null,null,"% target"]
[null,null,null,null,null,null,null,null,null,null,null,null,null,null,"CCRF"]
[null,null,null,null,null,null,null,null,null,null,null,null,null,null,"% CCRf"]
[null,null,null,null,null,null,null,null,null,null,null,null,null,null,"average response rate",{"$f":"J7/P44","v":77},{"$f":"(J7-J7)/Q44","v":{"$error":"#DIV/0!"}},{"$f":"(J8-J7)/R44","v":159},{"$f":"(J9-J8)/S44","v":1116},{"$f":"(J9-J9)/T44","v":{"$error":"#DIV/0!"}},{"$f":"(J10-J9)/U44","v":11020}]

{"sheet":"!N121B10.105","index":22,"n_rows":52,"n_cols":48,"rows_kept":52,"cut":false,"hidden":false,"merged":[[4,39,4,42],[5,39,5,40],[4,44,4,47],[5,44,5,45],[4,24,4,27],[5,24,5,25],[4,29,4,32],[5,29,5,30],[4,34,4,37],[5,34,5,35],[1,1,1,2],[5,13,5,14],[42,13,42,14],[43,13,43,14],[4,19,4,22],[5,19,5,20]]}
["Report for:!N121B10.105"]
["Date:","<date>"]
["Hen:","<hen>",null,null,null,"Correct Sequence",{"$f":"Start!J2","v":21121},null,null,null,null,null,null,null,null,"Total Sequences in Data",{"$f":"4994-COUNTBLANK(L7:L5000)","v":29},null,null,null,null,"Total Sequences in Block Data",{"$f":"COUNTA(L7:L11)","v":5},null,null,null,"Total Sequences in Block Data",{"$f":"COUNTA(L12:L16)","v":5},null,null,null,"Total Sequences in Block Data",{"$f":"COUNTA(L17:L20)","v":4},null,null,null,"Total Sequences in Block Data",{"$f":"COUNTA(L21:L25)","v":5},null,null,null,"Total Sequences in Block Data",{"$f":"COUNTA(L26:L30)","v":5},null,null,null,"Total Sequences in Block Data",{"$f":"COUNTA(L31:L35)","v":5}]
[null,null,null,null,null,null,null,null,null,null,null,null,null,null,null,"Total Sequences in Summary",{"$f":"SUM(O7:O38)","v":28},null,null,null,null,"Total Sequences in Block Summary",{"$f":"SUM(U7:U38)","v":5},null,null,null,"Total Sequences in Block Summary",{"$f":"SUM(Z7:Z38)","v":5},null,null,null,"Total Sequences in Block Summary",{"$f":"SUM(AE7:AE38)","v":4},null,null,null,"Total Sequences in Block Summary",{"$f":"SUM(AJ7:AJ38)","v":5},null,null,null,"Total Sequences in Block Summary",{"$f":"SUM(AO7:AO38)","v":5},null,null,null,"Total Sequences in Block Summary",{"$f":"SUM(AT7:AT38)","v":4}]
[null,null,null,null,null,null,null,null,null,null,null,null,null,null,null,null,null,null,null,"Block 1",null,null,null,null,"Block 2",null,null,null,null,"Block 3",null,null,null,null,"Block 4",null,null,null,null,"Block 5",null,null,null,null,"Block 6"]
["Sequence\nComponent\n1","Time\n1","Sequence\nComponent\n2","Time\n2","Sequence\nComponent\n3","Time\n3","Sequence\nComponent\n4","Time\n4","Sequence\nComponent\n5","Time\n5","Correct?\n0=No 1=Yes","Sequence",null,"Frequency",null,"Relative Frequency","Variability",null,null,"Frequency",null,"Relative Frequency","Variability",null,"Frequency",null,"Relative Frequency","Variability",null,"Frequency",null,"Relative Frequency","Variability",null,"Frequency",null,"Relative Frequency","Variability",null,"Frequency",null,"Relative Frequency","Variability",null,"Frequency",null,"Relative Frequency","Variability"]
[21,36,22,58,24,76,23,104,13,118,1,22221,null,11111,{"$f":"COUNTIF($L$7:$L$500,N7)","v":3},{"$f":"O7/$Q$4","v":0.10714285714285714},{"$f":"IF(P7=0,0,(P7*((LOG(P7))/LOG(2))))","v":-0.34525633085747659},null,null,{"$f":"N7","v":11111},{"$f":"COUNTIF(L7:L11,T7)","v":0},{"$f":"U7/(W4-U25)","v":0},{"$f":"IF(V7=0,0,(V7*((LOG(V7))/LOG(2))))","v":0},null,{"$f":"N7","v":11111},{"$f":"COUNTIF(L12:L16,Y7)","v":0},{"$f":"Z7/(AB4-Z25)","v":0},{"$f":"IF(AA7=0,0,(AA7*((LOG(AA7))/LOG(2))))","v":0},null,{"$f":"N7","v":11111},{"$f":"COUNTIF(L17:L20,AD7)","v":0},{"$f":"AE7/(AG4-AE25)","v":0},{"$f":"IF(AF7=0,0,(AF7*((LOG(AF7))/LOG(2))))","v":0},null,{"$f":"N7","v":11111},{"$f":"COUNTIF(L21:L25,AI7)","v":1},{"$f":"AJ7/(AL4-AJ25)","v":0.2},{"$f":"IF(AK7=0,0,(AK7*((LOG(AK7))/LOG(2))))","v":-0.46438561897747244},null,{"$f":"N7","v":11111},{"$f":"COUNTIF(L26:L30,AN7)","v":2},{"$f":"AO7/(AQ4-AO25)","v":0.4},{"$f":"IF(AP7=0,0,(AP7*((LOG(AP7))/LOG(2))))","v":-0.52877123795494496},null,{"$f":"N7","v":11111},{"$f":"COUNTIF(L31:L35,AS7)","v":0},{"$f":"AT7/(AV4-AT25)","v":0},{"$f":"IF(AU7=0,0,(AU7*((LOG(AU7))/LOG(2))))","v":0}]
[21,239,22,253,24,279,14,294,24,304,0,22212,null,11112,{"$f":"COUNTIF($L$7:$L$500,N8)","v":1},{"$f":"O8/$Q$4","v":3.5714285714285712E-2},{"$f":"IF(P8=0,0,(P8*((LOG(P8))/LOG(2))))","v":-0.17169124721634299},null,null,{"$f":"N8","v":11112},{"$f":"COUNTIF(L7:L11,T8)","v":0},{"$f":"U8/(W4-U25)","v":0},{"$f":"IF(V8=0,0,(V8*((LOG(V8))/LOG(2))))","v":0},null,{"$f":"N8","v":11112},{"$f":"COUNTIF(L12:L16,Y8)","v":0},{"$f":"Z8/(AB4-Z25)","v":0},{"$f":"IF(AA8=0,0,(AA8*((LOG(AA8))/LOG(2))))","v":0},null,{"$f":"N8","v":11112},{"$f":"COUNTIF(L17:L20,AD8)","v":0},{"$f":"AE8/(AG4-AE25)","v":0},{"$f":"IF(AF8=0,0,(AF8*((LOG(AF8))/LOG(2))))","v":0},null,{"$f":"N8","v":11112},{"$f":"COUNTIF(L21:L25,AI8)","v":1},{"$f":"AJ8/(AL4-AJ25)","v":0.2},{"$f":"IF(AK8=0,0,(AK8*((LOG(AK8))/LOG(2))))","v":-0.46438561897747244},null,{"$f":"N8","v":11112},{"$f":"COUNTIF(L26:L30,AN8)","v":0},{"$f":"AO8/(AQ4-AO25)","v":0},{"$f":"IF(AP8=0,0,(AP8*((LOG(AP8))/LOG(2))))","v":0},null,{"$f":"N8","v":11112},{"$f":"COUNTIF(L31:L35,AS8)","v":0},{"$f":"AT8/(AV4-AT25)","v":0},{"$f":"IF(AU8=0,0,(AU8*((LOG(AU8))/LOG(2))))","v":0}]
[21,420,11,434,11,449,21,456,11,472,1,21121,null,11121,{"$f":"COUNTIF($L$7:$L$500,N9)","v":4},{"$f":"O9/$Q$4","v":0.14285714285714285},{"$f":"IF(P9=0,0,(P9*((LOG(P9))/LOG(2))))","v":-0.40105070315108626},null,null,{"$f":"N9","v":11121},{"$f":"COUNTIF(L7:L11,T9)","v":0},{"$f":"U9/(W4-U25)","v":0},{"$f":"IF(V9=0,0,(V9*((LOG(V9))/LOG(2))))","v":0},null,{"$f":"N9","v":11121},{"$f":"COUNTIF(L12:L16,Y9)","v":1},{"$f":"Z9/(AB4-Z25)","v":0.2},{"$f":"IF(AA9=0,0,(AA9*((LOG(AA9))/LOG(2))))","v":-0.46438561897747244},null,{"$f":"N9","v":11121},{"$f":"COUNTIF(L17:L20,AD9)","v":1},{"$f":"AE9/(AG4-AE25)","v":0.25},{"$f":"IF(AF9=0,0,(AF9*((LOG(AF9))/LOG(2))))","v":-0.5},null,{"$f":"N9","v":11121},{"$f":"COUNTIF(L21:L25,AI9)","v":2},{"$f":"AJ9/(AL4-AJ25)","v":0.4},{"$f":"IF(AK9=0,0,(AK9*((LOG(AK9))/LOG(2))))","v":-0.52877123795494496},null,{"$f":"N9","v":11121},{"$f":"COUNTIF(L26:L30,AN9)","v":0},{"$f":"AO9/(AQ4-AO25)","v":0},{"$f":"IF(AP9=0,0,(AP9*((LOG(AP9))/LOG(2))))","v":0},null,{"$f":"N9","v":11121},{"$f":"COUNTIF(L31:L35,AS9)","v":0},{"$f":"AT9/(AV4-AT25)","v":0},{"$f":"IF(AU9=0,0,(AU9*((LOG(AU9))/LOG(2))))","v":0}]
[12,577,24,588,24,605,14,620,24,631,0,12212,null,11122,{"$f":"COUNTIF($L$7:$L$500,N10)","v":0},{"$f":"O10/$Q$4","v":0},{"$f":"IF(P10=0,0,(P10*((LOG(P10))/LOG(2))))","v":0},null,null,{"$f":"N10","v":11122},{"$f":"COUNTIF(L7:L11,T10)","v":0},{"$f":"U10/(W4-U25)","v":0},{"$f":"IF(V10=0,0,(V10*((LOG(V10))/LOG(2))))","v":0},null,{"$f":"N10","v":11122},{"$f":"COUNTIF(L12:L16,Y10)","v":0},{"$f":"Z10/(AB4-Z25)","v":0},{"$f":"IF(AA10=0,0,(AA10*((LOG(AA10))/LOG(2))))","v":0},null,{"$f":"N10","v":11122},{"$f":"COUNTIF(L17:L20,AD10)","v":0},{"$f":"AE10/(AG4-AE25)","v":0},{"$f":"IF(AF10=0,0,(AF10*((LOG(AF10))/LOG(2))))","v":0},null,{"$f":"N10","v":11122},{"$f":"COUNTIF(L21:L25,AI10)","v":0},{"$f":"AJ10/(AL4-AJ25)","v":0},{"$f":"IF(AK10=0,0,(AK10*((LOG(AK10))/LOG(2))))","v":0},null,{"$f":"N10","v":11122},{"$f":"COUNTIF(L26:L30,AN10)","v":0},{"$f":"AO10/(AQ4-AO25)","v":0},{"$f":"IF(AP10=0,0,(AP10*((LOG(AP10))/LOG(2))))","v":0},null,{"$f":"N10","v":11122},{"$f":"COUNTIF(L31:L35,AS10)","v":0},{"$f":"AT10/(AV4-AT25)","v":0},{"$f":"IF(AU10=0,0,(AU10*((LOG(AU10))/LOG(2))))","v":0}]
[21,744,22,761,13,772,23,783,13,799,0,22121,null,11211,{"$f":"COUNTIF($L$7:$L$500,N11)","v":2},{"$f":"O11/$Q$4","v":7.1428571428571425E-2},{"$f":"IF(P11=0,0,(P11*((LOG(P11))/LOG(2))))","v":-0.27195392300411453},null,null,{"$f":"N11","v":11211},{"$f":"COUNTIF(L7:L11,T11)","v":0},{"$f":"U11/(W4-U25)","v":0},{"$f":"IF(V11=0,0,(V11*((LOG(V11))/LOG(2))))","v":0},null,{"$f":"N11","v":11211},{"$f":"COUNTIF(L12:L16,Y11)","v":1},{"$f":"Z11/(AB4-Z25)","v":0.2},{"$f":"IF(AA11=0,0,(AA11*((LOG(AA11))/LOG(2))))","v":-0.46438561897747244},null,{"$f":"N11","v":11211},{"$f":"COUNTIF(L17:L20,AD11)","v":0},{"$f":"AE11/(AG4-AE25)","v":0},{"$f":"IF(AF11=0,0,(AF11*((LOG(AF11))/LOG(2))))","v":0},null,{"$f":"N11","v":11211},{"$f":"COUNTIF(L21:L25,AI11)","v":0},{"$f":"AJ11/(AL4-AJ25)","v":0},{"$f":"IF(AK11=0,0,(AK11*((LOG(AK11))/LOG(2))))","v":0},null,{"$f":"N11","v":11211},{"$f":"COUNTIF(L26:L30,AN11)","v":1},{"$f":"AO11/(AQ4-AO25)","v":0.2},{"$f":"IF(AP11=0,0,(AP11*((LOG(AP11))/LOG(2))))","v":-0.46438561897747244},null,{"$f":"N11","v":11211},{"$f":"COUNTIF(L31:L35,AS11)","v":0},{"$f":"AT11/(AV4-AT25)","v":0},{"$f":"IF(AU11=0,0,(AU11*((LOG(AU11))/LOG(2))))","v":0}]
[21,937,11,952,11,964,21,973,22,996,0,21122,null,11212,{"$f":"COUNTIF($L$7:$L$500,N12)","v":4},{"$f":"O12/$Q$4","v":0.14285714285714285},{"$f":"IF(P12=0,0,(P12*((LOG(P12))/LOG(2))))","v":-0.40105070315108626},null,null,{"$f":"N12","v":11212},{"$f":"COUNTIF(L7:L11,T12)","v":0},{"$f":"U12/(W4-U25)","v":0},{"$f":"IF(V12=0,0,(V12*((LOG(V12))/LOG(2))))","v":0},null,{"$f":"N12","v":11212},{"$f":"COUNTIF(L12:L16,Y12)","v":1},{"$f":"Z12/(AB4-Z25)","v":0.2},{"$f":"IF(AA12=0,0,(AA12*((LOG(AA12))/LOG(2))))","v":-0.46438561897747244},null,{"$f":"N12","v":11212},{"$f":"COUNTIF(L17:L20,AD12)","v":1},{"$f":"AE12/(AG4-AE25)","v":0.25},{"$f":"IF(AF12=0,0,(AF12*((LOG(AF12))/LOG(2))))","v":-0.5},null,{"$f":"N12","v":11212},{"$f":"COUNTIF(L21:L25,AI12)","v":1},{"$f":"AJ12/(AL4-AJ25)","v":0.2},{"$f":"IF(AK12=0,0,(AK12*((LOG(AK12))/LOG(2))))","v":-0.46438561897747244},null,{"$f":"N12","v":11212},{"$f":"COUNTIF(L26:L30,AN12)","v":1},{"$f":"AO12/(AQ4-AO25)","v":0.2},{"$f":"IF(AP12=0,0,(AP12*((LOG(AP12))/LOG(2))))","v":-0.46438561897747244},null,{"$f":"N12","v":11212},{"$f":"COUNTIF(L31:L35,AS12)","v":0},{"$f":"AT12/(AV4-AT25)","v":0},{"$f":"IF(AU12=0,0,(AU12*((LOG(AU12))/LOG(2))))","v":0}]
[12,1102,13,1121,24,1132,14,1144,24,1150,0,11212,null,11221,{"$f":"COUNTIF($L$7:$L$500,N13)","v":0},{"$f":"O13/$Q$4","v":0},{"$f":"IF(P13=0,0,(P13*((LOG(P13))/LOG(2))))","v":0},null,null,{"$f":"N13","v":11221},{"$f":"COUNTIF(L7:L11,T13)","v":0},{"$f":"U13/(W4-U25)","v":0},{"$f":"IF(V13=0,0,(V13*((LOG(V13))/LOG(2))))","v":0},null,{"$f":"N13","v":11221},{"$f":"COUNTIF(L12:L16,Y13)","v":0},{"$f":"Z13/(AB4-Z25)","v":0},{"$f":"IF(AA13=0,0,(AA13*((LOG(AA13))/LOG(2))))","v":0},null,{"$f":"N13","v":11221},{"$f":"COUNTIF(L17:L20,AD13)","v":0},{"$f":"AE13/(AG4-AE25)","v":0},{"$f":"IF(AF13=0,0,(AF13*((LOG(AF13))/LOG(2))))","v":0},null,{"$f":"N13","v":11221},{"$f":"COUNTIF(L21:L25,AI13)","v":0},{"$f":"AJ13/(AL4-AJ25)","v":0},{"$f":"IF(AK13=0,0,(AK13*((LOG(AK13))/LOG(2))))","v":0},null,{"$f":"N13","v":11221},{"$f":"COUNTIF(L26:L30,AN13)","v":0},{"$f":"AO13/(AQ4-AO25)","v":0},{"$f":"IF(AP13=0,0,(AP13*((LOG(AP13))/LOG(2))))","v":0},null,{"$f":"N13","v":11221},{"$f":"COUNTIF(L31:L35,AS13)","v":0},{"$f":"AT13/(AV4-AT25)","v":0},{"$f":"IF(AU13=0,0,(AU13*((LOG(AU13))/LOG(2))))","v":0}]
[12,1274,13,1284,13,1293,23,1304,13,1313,0,11121,null,11222,{"$f":"COUNTIF($L$7:$L$500,N14)","v":0},{"$f":"O14/$Q$4","v":0},{"$f":"IF(P14=0,0,(P14*((LOG(P14))/LOG(2))))","v":0},null,null,{"$f":"N14","v":11222},{"$f":"COUNTIF(L7:L11,T14)","v":0},{"$f":"U14/(W4-U25)","v":0},{"$f":"IF(V14=0,0,(V14*((LOG(V14))/LOG(2))))","v":0},null,{"$f":"N14","v":11222},{"$f":"COUNTIF(L12:L16,Y14)","v":0},{"$f":"Z14/(AB4-Z25)","v":0},{"$f":"IF(AA14=0,0,(AA14*((LOG(AA14))/LOG(2))))","v":0},null,{"$f":"N14","v":11222},{"$f":"COUNTIF(L17:L20,AD14)","v":0},{"$f":"AE14/(AG4-AE25)","v":0},{"$f":"IF(AF14=0,0,(AF14*((LOG(AF14))/LOG(2))))","v":0},null,{"$f":"N14","v":11222},{"$f":"COUNTIF(L21:L25,AI14)","v":0},{"$f":"AJ14/(AL4-AJ25)","v":0},{"$f":"IF(AK14=0,0,(AK14*((LOG(AK14))/LOG(2))))","v":0},null,{"$f":"N14","v":11222},{"$f":"COUNTIF(L26:L30,AN14)","v":0},{"$f":"AO14/(AQ4-AO25)","v":0},{"$f":"IF(AP14=0,0,(AP14*((LOG(AP14))/LOG(2))))","v":0},null,{"$f":"N14","v":11222},{"$f":"COUNTIF(L31:L35,AS14)","v":0},{"$f":"AT14/(AV4-AT25)","v":0},{"$f":"IF(AU14=0,0,(AU14*((LOG(AU14))/LOG(2))))","v":0}]
[12,1487,24,1496,13,1511,23,1520,13,1532,0,12121,null,12111,{"$f":"COUNTIF($L$7:$L$500,N15)","v":0},{"$f":"O15/$Q$4","v":0},{"$f":"IF(P15=0,0,(P15*((LOG(P15))/LOG(2))))","v":0},null,null,{"$f":"N15","v":12111},{"$f":"COUNTIF(L7:L11,T15)","v":0},{"$f":"U15/(W4-U25)","v":0},{"$f":"IF(V15=0,0,(V15*((LOG(V15))/LOG(2))))","v":0},null,{"$f":"N15","v":12111},{"$f":"COUNTIF(L12:L16,Y15)","v":0},{"$f":"Z15/(AB4-Z25)","v":0},{"$f":"IF(AA15=0,0,(AA15*((LOG(AA15))/LOG(2))))","v":0},null,{"$f":"N15","v":12111},{"$f":"COUNTIF(L17:L20,AD15)","v":0},{"$f":"AE15/(AG4-AE25)","v":0},{"$f":"IF(AF15=0,0,(AF15*((LOG(AF15))/LOG(2))))","v":0},null,{"$f":"N15","v":12111},{"$f":"COUNTIF(L21:L25,AI15)","v":0},{"$f":"AJ15/(AL4-AJ25)","v":0},{"$f":"IF(AK15=0,0,(AK15*((LOG(AK15))/LOG(2))))","v":0},null,{"$f":"N15","v":12111},{"$f":"COUNTIF(L26:L30,AN15)","v":0},{"$f":"AO15/(AQ4-AO25)","v":0},{"$f":"IF(AP15=0,0,(AP15*((LOG(AP15))/LOG(2))))","v":0},null,{"$f":"N15","v":12111},{"$f":"COUNTIF(L31:L35,AS15)","v":0},{"$f":"AT15/(AV4-AT25)","v":0},{"$f":"IF(AU15=0,0,(AU15*((LOG(AU15))/LOG(2))))","v":0}]
[12,1652,13,1660,24,1670,14,1679,13,1700,0,11211,null,12112,{"$f":"COUNTIF($L$7:$L$500,N16)","v":1},{"$f":"O16/$Q$4","v":3.5714285714285712E-2},{"$f":"IF(P16=0,0,(P16*((LOG(P16))/LOG(2))))","v":-0.17169124721634299},null,null,{"$f":"N16","v":12112},{"$f":"COUNTIF(L7:L11,T16)","v":0},{"$f":"U16/(W4-U25)","v":0},{"$f":"IF(V16=0,0,(V16*((LOG(V16))/LOG(2))))","v":0},null,{"$f":"N16","v":12112},{"$f":"COUNTIF(L12:L16,Y16)","v":0},{"$f":"Z16/(AB4-Z25)","v":0},{"$f":"IF(AA16=0,0,(AA16*((LOG(AA16))/LOG(2))))","v":0},null,{"$f":"N16","v":12112},{"$f":"COUNTIF(L17:L20,AD16)","v":0},{"$f":"AE16/(AG4-AE25)","v":0},{"$f":"IF(AF16=0,0,(AF16*((LOG(AF16))/LOG(2))))","v":0},null,{"$f":"N16","v":12112},{"$f":"COUNTIF(L21:L25,AI16)","v":0},{"$f":"AJ16/(AL4-AJ25)","v":0},{"$f":"IF(AK16=0,0,(AK16*((LOG(AK16))/LOG(2))))","v":0},null,{"$f":"N16","v":12112},{"$f":"COUNTIF(L26:L30,AN16)","v":0},{"$f":"AO16/(AQ4-AO25)","v":0},{"$f":"IF(AP16=0,0,(AP16*((LOG(AP16))/LOG(2))))","v":0},null,{"$f":"N16","v":12112},{"$f":"COUNTIF(L31:L35,AS16)","v":1},{"$f":"AT16/(AV4-AT25)","v":0.25},{"$f":"IF(AU16=0,0,(AU16*((LOG(AU16))/LOG(2))))","v":-0.5}]
[21,2065,22,2112,24,2124,14,2139,24,2148,0,22212,null,12121,{"$f":"COUNTIF($L$7:$L$500,N17)","v":1},{"$f":"O17/$Q$4","v":3.5714285714285712E-2},{"$f":"IF(P17=0,0,(P17*((LOG(P17))/LOG(2))))","v":-0.17169124721634299},null,null,{"$f":"N17","v":12121},{"$f":"COUNTIF(L7:L11,T17)","v":0},{"$f":"U17/(W4-U25)","v":0},{"$f":"IF(V17=0,0,(V17*((LOG(V17))/LOG(2))))","v":0},null,{"$f":"N17","v":12121},{"$f":"COUNTIF(L12:L16,Y17)","v":1},{"$f":"Z17/(AB4-Z25)","v":0.2},{"$f":"IF(AA17=0,0,(AA17*((LOG(AA17))/LOG(2))))","v":-0.46438561897747244},null,{"$f":"N17","v":12121},{"$f":"COUNTIF(L17:L20,AD17)","v":0},{"$f":"AE17/(AG4-AE25)","v":0},{"$f":"IF(AF17=0,0,(AF17*((LOG(AF17))/LOG(2))))","v":0},null,{"$f":"N17","v":12121},{"$f":"COUNTIF(L21:L25,AI17)","v":0},{"$f":"AJ17/(AL4-AJ25)","v":0},{"$f":"IF(AK17=0,0,(AK17*((LOG(AK17))/LOG(2))))","v":0},null,{"$f":"N17","v":12121},{"$f":"COUNTIF(L26:L30,AN17)","v":0},{"$f":"AO17/(AQ4-AO25)","v":0},{"$f":"IF(AP17=0,0,(AP17*((LOG(AP17))/LOG(2))))","v":0},null,{"$f":"N17","v":12121},{"$f":"COUNTIF(L31:L35,AS17)","v":0},{"$f":"AT17/(AV4-AT25)","v":0},{"$f":"IF(AU17=0,0,(AU17*((LOG(AU17))/LOG(2))))","v":0}]
[12,2254,13,2265,13,2278,23,2286,13,2302,0,11121,null,12122,{"$f":"COUNTIF($L$7:$L$500,N18)","v":0},{"$f":"O18/$Q$4","v":0},{"$f":"IF(P18=0,0,(P18*((LOG(P18))/LOG(2))))","v":0},null,null,{"$f":"N18","v":12122},{"$f":"COUNTIF(L7:L11,T18)","v":0},{"$f":"U18/(W4-U25)","v":0},{"$f":"IF(V18=0,0,(V18*((LOG(V18))/LOG(2))))","v":0},null,{"$f":"N18","v":12122},{"$f":"COUNTIF(L12:L16,Y18)","v":0},{"$f":"Z18/(AB4-Z25)","v":0},{"$f":"IF(AA18=0,0,(AA18*((LOG(AA18))/LOG(2))))","v":0},null,{"$f":"N18","v":12122},{"$f":"COUNTIF(L17:L20,AD18)","v":0},{"$f":"AE18/(AG4-AE25)","v":0},{"$f":"IF(AF18=0,0,(AF18*((LOG(AF18))/LOG(2))))","v":0},null,{"$f":"N18","v":12122},{"$f":"COUNTIF(L21:L25,AI18)","v":0},{"$f":"AJ18/(AL4-AJ25)","v":0},{"$f":"IF(AK18=0,0,(AK18*((LOG(AK18))/LOG(2))))","v":0},null,{"$f":"N18","v":12122},{"$f":"COUNTIF(L26:L30,AN18)","v":0},{"$f":"AO18/(AQ4-AO25)","v":0},{"$f":"IF(AP18=0,0,(AP18*((LOG(AP18))/LOG(2))))","v":0},null,{"$f":"N18","v":12122},{"$f":"COUNTIF(L31:L35,AS18)","v":0},{"$f":"AT18/(AV4-AT25)","v":0},{"$f":"IF(AU18=0,0,(AU18*((LOG(AU18))/LOG(2))))","v":0}]
[12,2415,13,2434,24,2444,14,2459,24,2469,0,11212,null,12211,{"$f":"COUNTIF($L$7:$L$500,N19)","v":0},{"$f":"O19/$Q$4","v":0},{"$f":"IF(P19=0,0,(P19*((LOG(P19))/LOG(2))))","v":0},null,null,{"$f":"N19","v":12211},{"$f":"COUNTIF(L7:L11,T19)","v":0},{"$f":"U19/(W4-U25)","v":0},{"$f":"IF(V19=0,0,(V19*((LOG(V19))/LOG(2))))","v":0},null,{"$f":"N19","v":12211},{"$f":"COUNTIF(L12:L16,Y19)","v":0},{"$f":"Z19/(AB4-Z25)","v":0},{"$f":"IF(AA19=0,0,(AA19*((LOG(AA19))/LOG(2))))","v":0},null,{"$f":"N19","v":12211},{"$f":"COUNTIF(L17:L20,AD19)","v":0},{"$f":"AE19/(AG4-AE25)","v":0},{"$f":"IF(AF19=0,0,(AF19*((LOG(AF19))/LOG(2))))","v":0},null,{"$f":"N19","v":12211},{"$f":"COUNTIF(L21:L25,AI19)","v":0},{"$f":"AJ19/(AL4-AJ25)","v":0},{"$f":"IF(AK19=0,0,(AK19*((LOG(AK19))/LOG(2))))","v":0},null,{"$f":"N19","v":12211},{"$f":"COUNTIF(L26:L30,AN19)","v":0},{"$f":"AO19/(AQ4-AO25)","v":0},{"$f":"IF(AP19=0,0,(AP19*((LOG(AP19))/LOG(2))))","v":0},null,{"$f":"N19","v":12211},{"$f":"COUNTIF(L31:L35,AS19)","v":0},{"$f":"AT19/(AV4-AT25)","v":0},{"$f":"IF(AU19=0,0,(AU19*((LOG(AU19))/LOG(2))))","v":0}]
[21,3103,11,3114,22,3123,14,3138,24,3149,0,21212,null,12212,{"$f":"COUNTIF($L$7:$L$500,N20)","v":1},{"$f":"O20/$Q$4","v":3.5714285714285712E-2},{"$f":"IF(P20=0,0,(P20*((LOG(P20))/LOG(2))))","v":-0.17169124721634299},null,null,{"$f":"N20","v":12212},{"$f":"COUNTIF(L7:L11,T20)","v":1},{"$f":"U20/(W4-U25)","v":0.25},{"$f":"IF(V20=0,0,(V20*((LOG(V20))/LOG(2))))","v":-0.5},null,{"$f":"N20","v":12212},{"$f":"COUNTIF(L12:L16,Y20)","v":0},{"$f":"Z20/(AB4-Z25)","v":0},{"$f":"IF(AA20=0,0,(AA20*((LOG(AA20))/LOG(2))))","v":0},null,{"$f":"N20","v":12212},{"$f":"COUNTIF(L17:L20,AD20)","v":0},{"$f":"AE20/(AG4-AE25)","v":0},{"$f":"IF(AF20=0,0,(AF20*((LOG(AF20))/LOG(2))))","v":0},null,{"$f":"N20","v":12212},{"$f":"COUNTIF(L21:L25,AI20)","v":0},{"$f":"AJ20/(AL4-AJ25)","v":0},{"$f":"IF(AK20=0,0,(AK20*((LOG(AK20))/LOG(2))))","v":0},null,{"$f":"N20","v":12212},{"$f":"COUNTIF(L26:L30,AN20)","v":0},{"$f":"AO20/(AQ4-AO25)","v":0},{"$f":"IF(AP20=0,0,(AP20*((LOG(AP20))/LOG(2))))","v":0},null,{"$f":"N20","v":12212},{"$f":"COUNTIF(L31:L35,AS20)","v":0},{"$f":"AT20/(AV4-AT25)","v":0},{"$f":"IF(AU20=0,0,(AU20*((LOG(AU20))/LOG(2))))","v":0}]
[12,3278,13,3301,13,3311,23,3322,13,3333,0,11121,null,12221,{"$f":"COUNTIF($L$7:$L$500,N21)","v":0},{"$f":"O21/$Q$4","v":0},{"$f":"IF(P21=0,0,(P21*((LOG(P21))/LOG(2))))","v":0},null,null,{"$f":"N21","v":12221},{"$f":"COUNTIF(L7:L11,T21)","v":0},{"$f":"U21/(W4-U25)","v":0},{"$f":"IF(V21=0,0,(V21*((LOG(V21))/LOG(2))))","v":0},null,{"$f":"N21","v":12221},{"$f":"COUNTIF(L12:L16,Y21)","v":0},{"$f":"Z21/(AB4-Z25)","v":0},{"$f":"IF(AA21=0,0,(AA21*((LOG(AA21))/LOG(2))))","v":0},null,{"$f":"N21","v":12221},{"$f":"COUNTIF(L17:L20,AD21)","v":0},{"$f":"AE21/(AG4-AE25)","v":0},{"$f":"IF(AF21=0,0,(AF21*((LOG(AF21))/LOG(2))))","v":0},null,{"$f":"N21","v":12221},{"$f":"COUNTIF(L21:L25,AI21)","v":0},{"$f":"AJ21/(AL4-AJ25)","v":0},{"$f":"IF(AK21=0,0,(AK21*((LOG(AK21))/LOG(2))))","v":0},null,{"$f":"N21","v":12221},{"$f":"COUNTIF(L26:L30,AN21)","v":0},{"$f":"AO21/(AQ4-AO25)","v":0},{"$f":"IF(AP21=0,0,(AP21*((LOG(AP21))/LOG(2))))","v":0},null,{"$f":"N21","v":12221},{"$f":"COUNTIF(L31:L35,AS21)","v":0},{"$f":"AT21/(AV4-AT25)","v":0},{"$f":"IF(AU21=0,0,(AU21*((LOG(AU21))/LOG(2))))","v":0}]
[12,3507,13,3518,13,3528,23,3536,13,3548,0,11121,null,12222,{"$f":"COUNTIF($L$7:$L$500,N22)","v":1},{"$f":"O22/$Q$4","v":3.5714285714285712E-2},{"$f":"IF(P22=0,0,(P22*((LOG(P22))/LOG(2))))","v":-0.17169124721634299},null,null,{"$f":"N22","v":12222},{"$f":"COUNTIF(L7:L11,T22)","v":0},{"$f":"U22/(W4-U25)","v":0},{"$f":"IF(V22=0,0,(V22*((LOG(V22))/LOG(2))))","v":0},null,{"$f":"N22","v":12222},{"$f":"COUNTIF(L12:L16,Y22)","v":0},{"$f":"Z22/(AB4-Z25)","v":0},{"$f":"IF(AA22=0,0,(AA22*((LOG(AA22))/LOG(2))))","v":0},null,{"$f":"N22","v":12222},{"$f":"COUNTIF(L17:L20,AD22)","v":0},{"$f":"AE22/(AG4-AE25)","v":0},{"$f":"IF(AF22=0,0,(AF22*((LOG(AF22))/LOG(2))))","v":0},null,{"$f":"N22","v":12222},{"$f":"COUNTIF(L21:L25,AI22)","v":0},{"$f":"AJ22/(AL4-AJ25)","v":0},{"$f":"IF(AK22=0,0,(AK22*((LOG(AK22))/LOG(2))))","v":0},null,{"$f":"N22","v":12222},{"$f":"COUNTIF(L26:L30,AN22)","v":0},{"$f":"AO22/(AQ4-AO25)","v":0},{"$f":"IF(AP22=0,0,(AP22*((LOG(AP22))/LOG(2))))","v":0},null,{"$f":"N22","v":12222},{"$f":"COUNTIF(L31:L35,AS22)","v":1},{"$f":"AT22/(AV4-AT25)","v":0.25},{"$f":"IF(AU22=0,0,(AU22*((LOG(AU22))/LOG(2))))","v":-0.5}]
[12,3991,13,4001,24,4013,14,4024,24,4034,0,11212,null,21111,{"$f":"COUNTIF($L$7:$L$500,N23)","v":0},{"$f":"O23/$Q$4","v":0},{"$f":"IF(P23=0,0,(P23*((LOG(P23))/LOG(2))))","v":0},null,null,{"$f":"N23","v":21111},{"$f":"COUNTIF(L7:L11,T23)","v":0},{"$f":"U23/(W4-U25)","v":0},{"$f":"IF(V23=0,0,(V23*((LOG(V23))/LOG(2))))","v":0},null,{"$f":"N23","v":21111},{"$f":"COUNTIF(L12:L16,Y23)","v":0},{"$f":"Z23/(AB4-Z25)","v":0},{"$f":"IF(AA23=0,0,(AA23*((LOG(AA23))/LOG(2))))","v":0},null,{"$f":"N23","v":21111},{"$f":"COUNTIF(L17:L20,AD23)","v":0},{"$f":"AE23/(AG4-AE25)","v":0},{"$f":"IF(AF23=0,0,(AF23*((LOG(AF23))/LOG(2))))","v":0},null,{"$f":"N23","v":21111},{"$f":"COUNTIF(L21:L25,AI23)","v":0},{"$f":"AJ23/(AL4-AJ25)","v":0},{"$f":"IF(AK23=0,0,(AK23*((LOG(AK23))/LOG(2))))","v":0},null,{"$f":"N23","v":21111},{"$f":"COUNTIF(L26:L30,AN23)","v":0},{"$f":"AO23/(AQ4-AO25)","v":0},{"$f":"IF(AP23=0,0,(AP23*((LOG(AP23))/LOG(2))))","v":0},null,{"$f":"N23","v":21111},{"$f":"COUNTIF(L31:L35,AS23)","v":0},{"$f":"AT23/(AV4-AT25)","v":0},{"$f":"IF(AU23=0,0,(AU23*((LOG(AU23))/LOG(2))))","v":0}]
[12,5726,13,5736,13,5746,14,5756,24,5769,0,11112,null,21112,{"$f":"COUNTIF($L$7:$L$500,N24)","v":0},{"$f":"O24/$Q$4","v":0},{"$f":"IF(P24=0,0,(P24*((LOG(P24))/LOG(2))))","v":0},null,null,{"$f":"N24","v":21112},{"$f":"COUNTIF(L7:L11,T24)","v":0},{"$f":"U24/(W4-U25)","v":0},{"$f":"IF(V24=0,0,(V24*((LOG(V24))/LOG(2))))","v":0},null,{"$f":"N24","v":21112},{"$f":"COUNTIF(L12:L16,Y24)","v":0},{"$f":"Z24/(AB4-Z25)","v":0},{"$f":"IF(AA24=0,0,(AA24*((LOG(AA24))/LOG(2))))","v":0},null,{"$f":"N24","v":21112},{"$f":"COUNTIF(L17:L20,AD24)","v":0},{"$f":"AE24/(AG4-AE25)","v":0},{"$f":"IF(AF24=0,0,(AF24*((LOG(AF24))/LOG(2))))","v":0},null,{"$f":"N24","v":21112},{"$f":"COUNTIF(L21:L25,AI24)","v":0},{"$f":"AJ24/(AL4-AJ25)","v":0},{"$f":"IF(AK24=0,0,(AK24*((LOG(AK24))/LOG(2))))","v":0},null,{"$f":"N24","v":21112},{"$f":"COUNTIF(L26:L30,AN24)","v":0},{"$f":"AO24/(AQ4-AO25)","v":0},{"$f":"IF(AP24=0,0,(AP24*((LOG(AP24))/LOG(2))))","v":0},null,{"$f":"N24","v":21112},{"$f":"COUNTIF(L31:L35,AS24)","v":0},{"$f":"AT24/(AV4-AT25)","v":0},{"$f":"IF(AU24=0,0,(AU24*((LOG(AU24))/LOG(2))))","v":0}]
[12,6704,13,6714,13,6724,14,6745,13,6769,0,11111,null,21121,{"$f":"COUNTIF($L$7:$L$500,N25)","v":1},{"$f":"O25/$Q$4","v":3.5714285714285712E-2},{"$f":"IF(P25=0,0,(P25*((LOG(P25))/LOG(2))))","v":-0.17169124721634299},null,null,{"$f":"N25","v":21121},{"$f":"COUNTIF(L7:L11,T25)","v":1},null,null,null,{"$f":"N25","v":21121},{"$f":"COUNTIF(L12:L16,Y25)","v":0},null,null,null,{"$f":"N25","v":21121},{"$f":"COUNTIF(L17:L20,AD25)","v":0},null,null,null,{"$f":"N25","v":21121},{"$f":"COUNTIF(L21:L25,AI25)","v":0},null,null,null,{"$f":"N25","v":21121},{"$f":"COUNTIF(L26:L30,AN25)","v":0},null,null,null,{"$f":"N25","v":21121},{"$f":"COUNTIF(L31:L35,AS25)","v":0}]
[12,6932,13,6943,24,6953,14,6967,13,6989,0,11211,null,21122,{"$f":"COUNTIF($L$7:$L$500,N26)","v":1},{"$f":"O26/$Q$4","v":3.5714285714285712E-2},{"$f":"IF(P26=0,0,(P26*((LOG(P26))/LOG(2))))","v":-0.17169124721634299},null,null,{"$f":"N26","v":21122},{"$f":"COUNTIF(L7:L11,T26)","v":0},{"$f":"U26/(W4-U25)","v":0},{"$f":"IF(V26=0,0,(V26*((LOG(V26))/LOG(2))))","v":0},null,{"$f":"N26","v":21122},{"$f":"COUNTIF(L12:L16,Y26)","v":1},{"$f":"Z26/(AB4-Z25)","v":0.2},{"$f":"IF(AA26=0,0,(AA26*((LOG(AA26))/LOG(2))))","v":-0.46438561897747244},null,{"$f":"N26","v":21122},{"$f":"COUNTIF(L17:L20,AD26)","v":0},{"$f":"AE26/(AG4-AE25)","v":0},{"$f":"IF(AF26=0,0,(AF26*((LOG(AF26))/LOG(2))))","v":0},null,{"$f":"N26","v":21122},{"$f":"COUNTIF(L21:L25,AI26)","v":0},{"$f":"AJ26/(AL4-AJ25)","v":0},{"$f":"IF(AK26=0,0,(AK26*((LOG(AK26))/LOG(2))))","v":0},null,{"$f":"N26","v":21122},{"$f":"COUNTIF(L26:L30,AN26)","v":0},{"$f":"AO26/(AQ4-AO25)","v":0},{"$f":"IF(AP26=0,0,(AP26*((LOG(AP26))/LOG(2))))","v":0},null,{"$f":"N26","v":21122},{"$f":"COUNTIF(L31:L35,AS26)","v":0},{"$f":"AT26/(AV4-AT25)","v":0},{"$f":"IF(AU26=0,0,(AU26*((LOG(AU26))/LOG(2))))","v":0}]
[12,7796,13,7806,24,7818,14,7832,24,7841,0,11212,null,21211,{"$f":"COUNTIF($L$7:$L$500,N27)","v":0},{"$f":"O27/$Q$4","v":0},{"$f":"IF(P27=0,0,(P27*((LOG(P27))/LOG(2))))","v":0},null,null,{"$f":"N27","v":21211},{"$f":"COUNTIF(L7:L11,T27)","v":0},{"$f":"U27/(W4-U25)","v":0},{"$f":"IF(V27=0,0,(V27*((LOG(V27))/LOG(2))))","v":0},null,{"$f":"N27","v":21211},{"$f":"COUNTIF(L12:L16,Y27)","v":0},{"$f":"Z27/(AB4-Z25)","v":0},{"$f":"IF(AA27=0,0,(AA27*((LOG(AA27))/LOG(2))))","v":0},null,{"$f":"N27","v":21211},{"$f":"COUNTIF(L17:L20,AD27)","v":0},{"$f":"AE27/(AG4-AE25)","v":0},{"$f":"IF(AF27=0,0,(AF27*((LOG(AF27))/LOG(2))))","v":0},null,{"$f":"N27","v":21211},{"$f":"COUNTIF(L21:L25,AI27)","v":0},{"$f":"AJ27/(AL4-AJ25)","v":0},{"$f":"IF(AK27=0,0,(AK27*((LOG(AK27))/LOG(2))))","v":0},null,{"$f":"N27","v":21211},{"$f":"COUNTIF(L26:L30,AN27)","v":0},{"$f":"AO27/(AQ4-AO25)","v":0},{"$f":"IF(AP27=0,0,(AP27*((LOG(AP27))/LOG(2))))","v":0},null,{"$f":"N27","v":21211},{"$f":"COUNTIF(L31:L35,AS27)","v":0},{"$f":"AT27/(AV4-AT25)","v":0},{"$f":"IF(AU27=0,0,(AU27*((LOG(AU27))/LOG(2))))","v":0}]
[12,7984,13,7994,13,8011,14,8022,13,8035,0,11111,null,21212,{"$f":"COUNTIF($L$7:$L$500,N28)","v":2},{"$f":"O28/$Q$4","v":7.1428571428571425E-2},{"$f":"IF(P28=0,0,(P28*((LOG(P28))/LOG(2))))","v":-0.27195392300411453},null,null,{"$f":"N28","v":21212},{"$f":"COUNTIF(L7:L11,T28)","v":0},{"$f":"U28/(W4-U25)","v":0},{"$f":"IF(V28=0,0,(V28*((LOG(V28))/LOG(2))))","v":0},null,{"$f":"N28","v":21212},{"$f":"COUNTIF(L12:L16,Y28)","v":0},{"$f":"Z28/(AB4-Z25)","v":0},{"$f":"IF(AA28=0,0,(AA28*((LOG(AA28))/LOG(2))))","v":0},null,{"$f":"N28","v":21212},{"$f":"COUNTIF(L17:L20,AD28)","v":1},{"$f":"AE28/(AG4-AE25)","v":0.25},{"$f":"IF(AF28=0,0,(AF28*((LOG(AF28))/LOG(2))))","v":-0.5},null,{"$f":"N28","v":21212},{"$f":"COUNTIF(L21:L25,AI28)","v":0},{"$f":"AJ28/(AL4-AJ25)","v":0},{"$f":"IF(AK28=0,0,(AK28*((LOG(AK28))/LOG(2))))","v":0},null,{"$f":"N28","v":21212},{"$f":"COUNTIF(L26:L30,AN28)","v":1},{"$f":"AO28/(AQ4-AO25)","v":0.2},{"$f":"IF(AP28=0,0,(AP28*((LOG(AP28))/LOG(2))))","v":-0.46438561897747244},null,{"$f":"N28","v":21212},{"$f":"COUNTIF(L31:L35,AS28)","v":0},{"$f":"AT28/(AV4-AT25)","v":0},{"$f":"IF(AU28=0,0,(AU28*((LOG(AU28))/LOG(2))))","v":0}]
[12,8325,13,8336,13,10421,14,10431,13,10438,0,11111,null,21221,{"$f":"COUNTIF($L$7:$L$500,N29)","v":1},{"$f":"O29/$Q$4","v":3.5714285714285712E-2},{"$f":"IF(P29=0,0,(P29*((LOG(P29))/LOG(2))))","v":-0.17169124721634299},null,null,{"$f":"N29","v":21221},{"$f":"COUNTIF(L7:L11,T29)","v":0},{"$f":"U29/(W4-U25)","v":0},{"$f":"IF(V29=0,0,(V29*((LOG(V29))/LOG(2))))","v":0},null,{"$f":"N29","v":21221},{"$f":"COUNTIF(L12:L16,Y29)","v":0},{"$f":"Z29/(AB4-Z25)","v":0},{"$f":"IF(AA29=0,0,(AA29*((LOG(AA29))/LOG(2))))","v":0},null,{"$f":"N29","v":21221},{"$f":"COUNTIF(L17:L20,AD29)","v":0},{"$f":"AE29/(AG4-AE25)","v":0},{"$f":"IF(AF29=0,0,(AF29*((LOG(AF29))/LOG(2))))","v":0},null,{"$f":"N29","v":21221},{"$f":"COUNTIF(L21:L25,AI29)","v":0},{"$f":"AJ29/(AL4-AJ25)","v":0},{"$f":"IF(AK29=0,0,(AK29*((LOG(AK29))/LOG(2))))","v":0},null,{"$f":"N29","v":21221},{"$f":"COUNTIF(L26:L30,AN29)","v":0},{"$f":"AO29/(AQ4-AO25)","v":0},{"$f":"IF(AP29=0,0,(AP29*((LOG(AP29))/LOG(2))))","v":0},null,{"$f":"N29","v":21221},{"$f":"COUNTIF(L31:L35,AS29)","v":1},{"$f":"AT29/(AV4-AT25)","v":0.25},{"$f":"IF(AU29=0,0,(AU29*((LOG(AU29))/LOG(2))))","v":-0.5}]
[21,12499,11,12523,22,12533,14,12547,24,13535,0,21212,null,21222,{"$f":"COUNTIF($L$7:$L$500,N30)","v":0},{"$f":"O30/$Q$4","v":0},{"$f":"IF(P30=0,0,(P30*((LOG(P30))/LOG(2))))","v":0},null,null,{"$f":"N30","v":21222},{"$f":"COUNTIF(L7:L11,T30)","v":0},{"$f":"U30/(W4-U25)","v":0},{"$f":"IF(V30=0,0,(V30*((LOG(V30))/LOG(2))))","v":0},null,{"$f":"N30","v":21222},{"$f":"COUNTIF(L12:L16,Y30)","v":0},{"$f":"Z30/(AB4-Z25)","v":0},{"$f":"IF(AA30=0,0,(AA30*((LOG(AA30))/LOG(2))))","v":0},null,{"$f":"N30","v":21222},{"$f":"COUNTIF(L17:L20,AD30)","v":0},{"$f":"AE30/(AG4-AE25)","v":0},{"$f":"IF(AF30=0,0,(AF30*((LOG(AF30))/LOG(2))))","v":0},null,{"$f":"N30","v":21222},{"$f":"COUNTIF(L21:L25,AI30)","v":0},{"$f":"AJ30/(AL4-AJ25)","v":0},{"$f":"IF(AK30=0,0,(AK30*((LOG(AK30))/LOG(2))))","v":0},null,{"$f":"N30","v":21222},{"$f":"COUNTIF(L26:L30,AN30)","v":0},{"$f":"AO30/(AQ4-AO25)","v":0},{"$f":"IF(AP30=0,0,(AP30*((LOG(AP30))/LOG(2))))","v":0},null,{"$f":"N30","v":21222},{"$f":"COUNTIF(L31:L35,AS30)","v":0},{"$f":"AT30/(AV4-AT25)","v":0},{"$f":"IF(AU30=0,0,(AU30*((LOG(AU30))/LOG(2))))","v":0}]
[21,13743,11,13762,22,13770,23,13788,13,16335,0,21221,null,22111,{"$f":"COUNTIF($L$7:$L$500,N31)","v":0},{"$f":"O31/$Q$4","v":0},{"$f":"IF(P31=0,0,(P31*((LOG(P31))/LOG(2))))","v":0},null,null,{"$f":"N31","v":22111},{"$f":"COUNTIF(L7:L11,T31)","v":0},{"$f":"U31/(W4-U25)","v":0},{"$f":"IF(V31=0,0,(V31*((LOG(V31))/LOG(2))))","v":0},null,{"$f":"N31","v":22111},{"$f":"COUNTIF(L12:L16,Y31)","v":0},{"$f":"Z31/(AB4-Z25)","v":0},{"$f":"IF(AA31=0,0,(AA31*((LOG(AA31))/LOG(2))))","v":0},null,{"$f":"N31","v":22111},{"$f":"COUNTIF(L17:L20,AD31)","v":0},{"$f":"AE31/(AG4-AE25)","v":0},{"$f":"IF(AF31=0,0,(AF31*((LOG(AF31))/LOG(2))))","v":0},null,{"$f":"N31","v":22111},{"$f":"COUNTIF(L21:L25,AI31)","v":0},{"$f":"AJ31/(AL4-AJ25)","v":0},{"$f":"IF(AK31=0,0,(AK31*((LOG(AK31))/LOG(2))))","v":0},null,{"$f":"N31","v":22111},{"$f":"COUNTIF(L26:L30,AN31)","v":0},{"$f":"AO31/(AQ4-AO25)","v":0},{"$f":"IF(AP31=0,0,(AP31*((LOG(AP31))/LOG(2))))","v":0},null,{"$f":"N31","v":22111},{"$f":"COUNTIF(L31:L35,AS31)","v":0},{"$f":"AT31/(AV4-AT25)","v":0},{"$f":"IF(AU31=0,0,(AU31*((LOG(AU31))/LOG(2))))","v":0}]
[12,16712,24,16746,13,16762,14,16784,24,16794,0,12112,null,22112,{"$f":"COUNTIF($L$7:$L$500,N32)","v":0},{"$f":"O32/$Q$4","v":0},{"$f":"IF(P32=0,0,(P32*((LOG(P32))/LOG(2))))","v":0},null,null,{"$f":"N32","v":22112},{"$f":"COUNTIF(L7:L11,T32)","v":0},{"$f":"U32/(W4-U25)","v":0},{"$f":"IF(V32=0,0,(V32*((LOG(V32))/LOG(2))))","v":0},null,{"$f":"N32","v":22112},{"$f":"COUNTIF(L12:L16,Y32)","v":0},{"$f":"Z32/(AB4-Z25)","v":0},{"$f":"IF(AA32=0,0,(AA32*((LOG(AA32))/LOG(2))))","v":0},null,{"$f":"N32","v":22112},{"$f":"COUNTIF(L17:L20,AD32)","v":0},{"$f":"AE32/(AG4-AE25)","v":0},{"$f":"IF(AF32=0,0,(AF32*((LOG(AF32))/LOG(2))))","v":0},null,{"$f":"N32","v":22112},{"$f":"COUNTIF(L21:L25,AI32)","v":0},{"$f":"AJ32/(AL4-AJ25)","v":0},{"$f":"IF(AK32=0,0,(AK32*((LOG(AK32))/LOG(2))))","v":0},null,{"$f":"N32","v":22112},{"$f":"COUNTIF(L26:L30,AN32)","v":0},{"$f":"AO32/(AQ4-AO25)","v":0},{"$f":"IF(AP32=0,0,(AP32*((LOG(AP32))/LOG(2))))","v":0},null,{"$f":"N32","v":22112},{"$f":"COUNTIF(L31:L35,AS32)","v":0},{"$f":"AT32/(AV4-AT25)","v":0},{"$f":"IF(AU32=0,0,(AU32*((LOG(AU32))/LOG(2))))","v":0}]
[12,21966,24,21975,24,21990,23,22012,24,22023,0,12222,null,22121,{"$f":"COUNTIF($L$7:$L$500,N33)","v":1},{"$f":"O33/$Q$4","v":3.5714285714285712E-2},{"$f":"IF(P33=0,0,(P33*((LOG(P33))/LOG(2))))","v":-0.17169124721634299},null,null,{"$f":"N33","v":22121},{"$f":"COUNTIF(L7:L11,T33)","v":1},{"$f":"U33/(W4-U25)","v":0.25},{"$f":"IF(V33=0,0,(V33*((LOG(V33))/LOG(2))))","v":-0.5},null,{"$f":"N33","v":22121},{"$f":"COUNTIF(L12:L16,Y33)","v":0},{"$f":"Z33/(AB4-Z25)","v":0},{"$f":"IF(AA33=0,0,(AA33*((LOG(AA33))/LOG(2))))","v":0},null,{"$f":"N33","v":22121},{"$f":"COUNTIF(L17:L20,AD33)","v":0},{"$f":"AE33/(AG4-AE25)","v":0},{"$f":"IF(AF33=0,0,(AF33*((LOG(AF33))/LOG(2))))","v":0},null,{"$f":"N33","v":22121},{"$f":"COUNTIF(L21:L25,AI33)","v":0},{"$f":"AJ33/(AL4-AJ25)","v":0},{"$f":"IF(AK33=0,0,(AK33*((LOG(AK33))/LOG(2))))","v":0},null,{"$f":"N33","v":22121},{"$f":"COUNTIF(L26:L30,AN33)","v":0},{"$f":"AO33/(AQ4-AO25)","v":0},{"$f":"IF(AP33=0,0,(AP33*((LOG(AP33))/LOG(2))))","v":0},null,{"$f":"N33","v":22121},{"$f":"COUNTIF(L31:L35,AS33)","v":0},{"$f":"AT33/(AV4-AT25)","v":0},{"$f":"IF(AU33=0,0,(AU33*((LOG(AU33))/LOG(2))))","v":0}]
[21,22817,22,22844,24,22865,14,22880,24,22890,0,22212,null,22122,{"$f":"COUNTIF($L$7:$L$500,N34)","v":0},{"$f":"O34/$Q$4","v":0},{"$f":"IF(P34=0,0,(P34*((LOG(P34))/LOG(2))))","v":0},null,null,{"$f":"N34","v":22122},{"$f":"COUNTIF(L7:L11,T34)","v":0},{"$f":"U34/(W4-U25)","v":0},{"$f":"IF(V34=0,0,(V34*((LOG(V34))/LOG(2))))","v":0},null,{"$f":"N34","v":22122},{"$f":"COUNTIF(L12:L16,Y34)","v":0},{"$f":"Z34/(AB4-Z25)","v":0},{"$f":"IF(AA34=0,0,(AA34*((LOG(AA34))/LOG(2))))","v":0},null,{"$f":"N34","v":22122},{"$f":"COUNTIF(L17:L20,AD34)","v":0},{"$f":"AE34/(AG4-AE25)","v":0},{"$f":"IF(AF34=0,0,(AF34*((LOG(AF34))/LOG(2))))","v":0},null,{"$f":"N34","v":22122},{"$f":"COUNTIF(L21:L25,AI34)","v":0},{"$f":"AJ34/(AL4-AJ25)","v":0},{"$f":"IF(AK34=0,0,(AK34*((LOG(AK34))/LOG(2))))","v":0},null,{"$f":"N34","v":22122},{"$f":"COUNTIF(L26:L30,AN34)","v":0},{"$f":"AO34/(AQ4-AO25)","v":0},{"$f":"IF(AP34=0,0,(AP34*((LOG(AP34))/LOG(2))))","v":0},null,{"$f":"N34","v":22122},{"$f":"COUNTIF(L31:L35,AS34)","v":0},{"$f":"AT34/(AV4-AT25)","v":0},{"$f":"IF(AU34=0,0,(AU34*((LOG(AU34))/LOG(2))))","v":0}]
[21,23558,22,23579,null,null,null,null,null,null,null,22,null,22211,{"$f":"COUNTIF($L$7:$L$500,N35)","v":0},{"$f":"O35/$Q$4","v":0},{"$f":"IF(P35=0,0,(P35*((LOG(P35))/LOG(2))))","v":0},null,null,{"$f":"N35","v":22211},{"$f":"COUNTIF(L7:L11,T35)","v":0},{"$f":"U35/(W4-U25)","v":0},{"$f":"IF(V35=0,0,(V35*((LOG(V35))/LOG(2))))","v":0},null,{"$f":"N35","v":22211},{"$f":"COUNTIF(L12:L16,Y35)","v":0},{"$f":"Z35/(AB4-Z25)","v":0},{"$f":"IF(AA35=0,0,(AA35*((LOG(AA35))/LOG(2))))","v":0},null,{"$f":"N35","v":22211},{"$f":"COUNTIF(L17:L20,AD35)","v":0},{"$f":"AE35/(AG4-AE25)","v":0},{"$f":"IF(AF35=0,0,(AF35*((LOG(AF35))/LOG(2))))","v":0},null,{"$f":"N35","v":22211},{"$f":"COUNTIF(L21:L25,AI35)","v":0},{"$f":"AJ35/(AL4-AJ25)","v":0},{"$f":"IF(AK35=0,0,(AK35*((LOG(AK35))/LOG(2))))","v":0},null,{"$f":"N35","v":22211},{"$f":"COUNTIF(L26:L30,AN35)","v":0},{"$f":"AO35/(AQ4-AO25)","v":0},{"$f":"IF(AP35=0,0,(AP35*((LOG(AP35))/LOG(2))))","v":0},null,{"$f":"N35","v":22211},{"$f":"COUNTIF(L31:L35,AS35)","v":0},{"$f":"AT35/(AV4-AT25)","v":0},{"$f":"IF(AU35=0,0,(AU35*((LOG(AU35))/LOG(2))))","v":0}]
[null,null,null,null,null,null,null,null,null,null,null,null,null,22212,{"$f":"COUNTIF($L$7:$L$500,N36)","v":3},{"$f":"O36/$Q$4","v":0.10714285714285714},{"$f":"IF(P36=0,0,(P36*((LOG(P36))/LOG(2))))","v":-0.34525633085747659},null,null,{"$f":"N36","v":22212},{"$f":"COUNTIF(L7:L11,T36)","v":1},{"$f":"U36/(W4-U25)","v":0.25},{"$f":"IF(V36=0,0,(V36*((LOG(V36))/LOG(2))))","v":-0.5},null,{"$f":"N36","v":22212},{"$f":"COUNTIF(L12:L16,Y36)","v":0},{"$f":"Z36/(AB4-Z25)","v":0},{"$f":"IF(AA36=0,0,(AA36*((LOG(AA36))/LOG(2))))","v":0},null,{"$f":"N36","v":22212},{"$f":"COUNTIF(L17:L20,AD36)","v":1},{"$f":"AE36/(AG4-AE25)","v":0.25},{"$f":"IF(AF36=0,0,(AF36*((LOG(AF36))/LOG(2))))","v":-0.5},null,{"$f":"N36","v":22212},{"$f":"COUNTIF(L21:L25,AI36)","v":0},{"$f":"AJ36/(AL4-AJ25)","v":0},{"$f":"IF(AK36=0,0,(AK36*((LOG(AK36))/LOG(2))))","v":0},null,{"$f":"N36","v":22212},{"$f":"COUNTIF(L26:L30,AN36)","v":0},{"$f":"AO36/(AQ4-AO25)","v":0},{"$f":"IF(AP36=0,0,(AP36*((LOG(AP36))/LOG(2))))","v":0},null,{"$f":"N36","v":22212},{"$f":"COUNTIF(L31:L35,AS36)","v":1},{"$f":"AT36/(AV4-AT25)","v":0.25},{"$f":"IF(AU36=0,0,(AU36*((LOG(AU36))/LOG(2))))","v":-0.5}]
[null,null,null,null,null,null,null,null,null,null,null,null,null,22221,{"$f":"COUNTIF($L$7:$L$500,N37)","v":1},{"$f":"O37/$Q$4","v":3.5714285714285712E-2},{"$f":"IF(P37=0,0,(P37*((LOG(P37))/LOG(2))))","v":-0.17169124721634299},null,null,{"$f":"N37","v":22221},{"$f":"COUNTIF(L7:L11,T37)","v":1},{"$f":"U37/(W4-U25)","v":0.25},{"$f":"IF(V37=0,0,(V37*((LOG(V37))/LOG(2))))","v":-0.5},null,{"$f":"N37","v":22221},{"$f":"COUNTIF(L12:L16,Y37)","v":0},{"$f":"Z37/(AB4-Z25)","v":0},{"$f":"IF(AA37=0,0,(AA37*((LOG(AA37))/LOG(2))))","v":0},null,{"$f":"N37","v":22221},{"$f":"COUNTIF(L17:L20,AD37)","v":0},{"$f":"AE37/(AG4-AE25)","v":0},{"$f":"IF(AF37=0,0,(AF37*((LOG(AF37))/LOG(2))))","v":0},null,{"$f":"N37","v":22221},{"$f":"COUNTIF(L21:L25,AI37)","v":0},{"$f":"AJ37/(AL4-AJ25)","v":0},{"$f":"IF(AK37=0,0,(AK37*((LOG(AK37))/LOG(2))))","v":0},null,{"$f":"N37","v":22221},{"$f":"COUNTIF(L26:L30,AN37)","v":0},{"$f":"AO37/(AQ4-AO25)","v":0},{"$f":"IF(AP37=0,0,(AP37*((LOG(AP37))/LOG(2))))","v":0},null,{"$f":"N37","v":22221},{"$f":"COUNTIF(L31:L35,AS37)","v":0},{"$f":"AT37/(AV4-AT25)","v":0},{"$f":"IF(AU37=0,0,(AU37*((LOG(AU37))/LOG(2))))","v":0}]
[null,null,null,null,null,null,null,null,null,null,null,null,null,22222,{"$f":"COUNTIF($L$7:$L$500,N38)","v":0},{"$f":"O38/$Q$4","v":0},{"$f":"IF(P38=0,0,(P38*((LOG(P38))/LOG(2))))","v":0},null,null,{"$f":"N38","v":22222},{"$f":"COUNTIF(L7:L11,T38)","v":0},{"$f":"U38/(W4-U25)","v":0},{"$f":"IF(V38=0,0,(V38*((LOG(V38))/LOG(2))))","v":0},null,{"$f":"N38","v":22222},{"$f":"COUNTIF(L12:L16,Y38)","v":0},{"$f":"Z38/(AB4-Z25)","v":0},{"$f":"IF(AA38=0,0,(AA38*((LOG(AA38))/LOG(2))))","v":0},null,{"$f":"N38","v":22222},{"$f":"COUNTIF(L17:L20,AD38)","v":0},{"$f":"AE38/(AG4-AE25)","v":0},{"$f":"IF(AF38=0,0,(AF38*((LOG(AF38))/LOG(2))))","v":0},null,{"$f":"N38","v":22222},{"$f":"COUNTIF(L21:L25,AI38)","v":0},{"$f":"AJ38/(AL4-AJ25)","v":0},{"$f":"IF(AK38=0,0,(AK38*((LOG(AK38))/LOG(2))))","v":0},null,{"$f":"N38","v":22222},{"$f":"COUNTIF(L26:L30,AN38)","v":0},{"$f":"AO38/(AQ4-AO25)","v":0},{"$f":"IF(AP38=0,0,(AP38*((LOG(AP38))/LOG(2))))","v":0},null,{"$f":"N38","v":22222},{"$f":"COUNTIF(L31:L35,AS38)","v":0},{"$f":"AT38/(AV4-AT25)","v":0},{"$f":"IF(AU38=0,0,(AU38*((LOG(AU38))/LOG(2))))","v":0}]
[null,null,null,null,null,null,null,null,null,null,null,null,null,null,null,{"$f":"SUM(P7:P38)","v":0.99999999999999978},{"$f":"-SUM(Q7:Q38)","v":3.7534343861887844},null,null,null,null,{"$f":"SUM(V7:V38)","v":1},{"$f":"-SUM(W7:W38)","v":2},null,null,null,{"$f":"SUM(AA7:AA38)","v":1},{"$f":"-SUM(AB7:AB38)","v":2.3219280948873622},null,null,null,{"$f":"SUM(AF7:AF38)","v":1},{"$f":"-SUM(AG7:AG38)","v":2},null,null,null,{"$f":"SUM(AK7:AK38)","v":1},{"$f":"-SUM(AL7:AL38)","v":1.9219280948873623},null,null,null,{"$f":"SUM(AP7:AP38)","v":1},{"$f":"-SUM(AQ7:AQ38)","v":1.9219280948873623},null,null,null,{"$f":"SUM(AU7:AU38)","v":1},{"$f":"-SUM(AV7:AV38)","v":2}]
[null,null,null,null,null,null,null,null,null,null,null,null,null,null,null,"U=",{"$f":"Q39/(LOG(Q4)/LOG(2))","v":0.78076914374823625},null,null,null,null,"U1=",{"$f":"W39/(LOG(W4)/LOG(2))","v":0.861353116146786},null,null,null,"U2=",{"$f":"AB39/(LOG(AB4)/LOG(2))","v":0.99999999999999978},null,null,null,"U3=",{"$f":"AG39/(LOG(AG4)/LOG(2))","v":1},null,null,null,"U4=",{"$f":"AL39/(LOG(AL4)/LOG(2))","v":0.82772937677064262},null,null,null,"U5=",{"$f":"AQ39/(LOG(AQ4)/LOG(2))","v":0.82772937677064262},null,null,null,"U6=",{"$f":"AV39/(LOG(AV4)/LOG(2))","v":1}]
[]
[]
[null,null,null,null,null,null,null,null,null,null,null,null,null,"Total Target Seq"]
[null,null,null,null,null,null,null,null,null,null,null,null,null,{"$f":"COUNTIF(L7:L35,G3)","v":1},null,5,5,4,5,5,5]
[null,null,null,null,null,null,null,null,null,null,null,null,null,null,null,"% of reinforcement given in 6 equal intervals based on number of trials "]
[null,null,null,null,null,null,null,null,null,null,null,null,null,null,null,"%_1","%_2","%_3","%_4","%_5","%_6"]
[null,null,null,null,null,null,null,null,null,null,null,null,null,null,"target sequence",{"$f":"$G$3","v":21121},{"$f":"$G$3","v":21121},{"$f":"$G$3","v":21121},{"$f":"$G$3","v":21121},{"$f":"$G$3","v":21121},{"$f":"$G$3","v":21121}]
[null,null,null,null,null,null,null,null,null,null,null,null,null,null,"total reinforcement",{"$f":"U25","v":1},{"$f":"Z25","v":0},{"$f":"AE25","v":0},{"$f":"AJ25","v":0},{"$f":"AO25","v":0},{"$f":"AT25","v":0}]
[null,null,null,null,null,null,null,null,null,null,null,null,null,null,"% target"]
[null,null,null,null,null,null,null,null,null,null,null,null,null,null,"CCRF"]
[null,null,null,null,null,null,null,null,null,null,null,null,null,null,"% CCRf"]
[null,null,null,null,null,null,null,null,null,null,null,null,null,null,"average response rate",{"$f":"J11/P44","v":159.80000000000001},{"$f":"(J16-J11)/Q44","v":180.2},{"$f":"(J20-J16)/R44","v":362.25},{"$f":"(J25-J20)/S44","v":724},{"$f":"(J30-J25)/T44","v":1353.2},{"$f":"(J35-J30)/U44","v":-2707}]

{"sheet":"!N122930.105","index":23,"n_rows":52,"n_cols":48,"rows_kept":52,"cut":false,"hidden":false,"merged":[[4,39,4,42],[5,39,5,40],[4,44,4,47],[5,44,5,45],[4,24,4,27],[5,24,5,25],[4,29,4,32],[5,29,5,30],[4,34,4,37],[5,34,5,35],[1,1,1,2],[5,13,5,14],[42,13,42,14],[43,13,43,14],[4,19,4,22],[5,19,5,20]]}
["Report for:!N122930.105"]
["Date:","<date>"]
["Hen:","<hen>",null,null,null,"Correct Sequence",{"$f":"Start!J2","v":21121},null,null,null,null,null,null,null,null,"Total Sequences in Data",{"$f":"4994-COUNTBLANK(L7:L5000)","v":6},null,null,null,null,"Total Sequences in Block Data",{"$f":"COUNTA(L7:L7)","v":1},null,null,null,"Total Sequences in Block Data",{"$f":"COUNTA(L8:L8)","v":1},null,null,null,"Total Sequences in Block Data",{"$f":"COUNTA(L9:L9)","v":1},null,null,null,"Total Sequences in Block Data",{"$f":"COUNTA(L10:L10)","v":1},null,null,null,"Total Sequences in Block Data",{"$f":"COUNTA(L11:L11)","v":1},null,null,null,"Total Sequences in Block Data",{"$f":"COUNTA(L12:L12)","v":1}]
[null,null,null,null,null,null,null,null,null,null,null,null,null,null,null,"Total Sequences in Summary",{"$f":"SUM(O7:O38)","v":5},null,null,null,null,"Total Sequences in Block Summary",{"$f":"SUM(U7:U38)","v":1},null,null,null,"Total Sequences in Block Summary",{"$f":"SUM(Z7:Z38)","v":1},null,null,null,"Total Sequences in Block Summary",{"$f":"SUM(AE7:AE38)","v":1},null,null,null,"Total Sequences in Block Summary",{"$f":"SUM(AJ7:AJ38)","v":1},null,null,null,"Total Sequences in Block Summary",{"$f":"SUM(AO7:AO38)","v":1},null,null,null,"Total Sequences in Block Summary",{"$f":"SUM(AT7:AT38)","v":0}]
[null,null,null,null,null,null,null,null,null,null,null,null,null,null,null,null,null,null,null,"Block 1",null,null,null,null,"Block 2",null,null,null,null,"Block 3",null,null,null,null,"Block 4",null,null,null,null,"Block 5",null,null,null,null,"Block 6"]
["Sequence\nComponent\n1","Time\n1","Sequence\nComponent\n2","Time\n2","Sequence\nComponent\n3","Time\n3","Sequence\nComponent\n4","Time\n4","Sequence\nComponent\n5","Time\n5","Correct?\n0=No 1=Yes","Sequence",null,"Frequency",null,"Relative Frequency","Variability",null,null,"Frequency",null,"Relative Frequency","Variability",null,"Frequency",null,"Relative Frequency","Variability",null,"Frequency",null,"Relative Frequency","Variability",null,"Frequency",null,"Relative Frequency","Variability",null,"Frequency",null,"Relative Frequency","Variability",null,"Frequency",null,"Relative Frequency","Variability"]
[21,363,22,419,24,535,23,562,24,580,1,22222,null,11111,{"$f":"COUNTIF($L$7:$L$500,N7)","v":0},{"$f":"O7/$Q$4","v":0},{"$f":"IF(P7=0,0,(P7*((LOG(P7))/LOG(2))))","v":0},null,null,{"$f":"N7","v":11111},{"$f":"COUNTIF(L7:L7,T7)","v":0},{"$f":"U7/(W4-U25)","v":0},{"$f":"IF(V7=0,0,(V7*((LOG(V7))/LOG(2))))","v":0},null,{"$f":"N7","v":11111},{"$f":"COUNTIF(L8:L8,Y7)","v":0},{"$f":"Z7/(AB4-Z25)","v":0},{"$f":"IF(AA7=0,0,(AA7*((LOG(AA7))/LOG(2))))","v":0},null,{"$f":"N7","v":11111},{"$f":"COUNTIF(L9:L9,AD7)","v":0},{"$f":"AE7/(AG4-AE25)","v":0},{"$f":"IF(AF7=0,0,(AF7*((LOG(AF7))/LOG(2))))","v":0},null,{"$f":"N7","v":11111},{"$f":"COUNTIF(L10:L10,AI7)","v":0},{"$f":"AJ7/(AL4-AJ25)","v":0},{"$f":"IF(AK7=0,0,(AK7*((LOG(AK7))/LOG(2))))","v":0},null,{"$f":"N7","v":11111},{"$f":"COUNTIF(L11:L11,AN7)","v":0},{"$f":"AO7/(AQ4-AO25)","v":0},{"$f":"IF(AP7=0,0,(AP7*((LOG(AP7))/LOG(2))))","v":0},null,{"$f":"N7","v":11111},{"$f":"COUNTIF(L12:L12,AS7)","v":0},{"$f":"AT7/(AV4-AT25)","v":{"$error":"#DIV/0!"}},{"$f":"IF(AU7=0,0,(AU7*((LOG(AU7))/LOG(2))))","v":{"$error":"#DIV/0!"}}]
[21,724,22,741,24,768,23,842,24,922,0,22222,null,11112,{"$f":"COUNTIF($L$7:$L$500,N8)","v":1},{"$f":"O8/$Q$4","v":0.2},{"$f":"IF(P8=0,0,(P8*((LOG(P8))/LOG(2))))","v":-0.46438561897747244},null,null,{"$f":"N8","v":11112},{"$f":"COUNTIF(L7:L7,T8)","v":0},{"$f":"U8/(W4-U25)","v":0},{"$f":"IF(V8=0,0,(V8*((LOG(V8))/LOG(2))))","v":0},null,{"$f":"N8","v":11112},{"$f":"COUNTIF(L8:L8,Y8)","v":0},{"$f":"Z8/(AB4-Z25)","v":0},{"$f":"IF(AA8=0,0,(AA8*((LOG(AA8))/LOG(2))))","v":0},null,{"$f":"N8","v":11112},{"$f":"COUNTIF(L9:L9,AD8)","v":0},{"$f":"AE8/(AG4-AE25)","v":0},{"$f":"IF(AF8=0,0,(AF8*((LOG(AF8))/LOG(2))))","v":0},null,{"$f":"N8","v":11112},{"$f":"COUNTIF(L10:L10,AI8)","v":0},{"$f":"AJ8/(AL4-AJ25)","v":0},{"$f":"IF(AK8=0,0,(AK8*((LOG(AK8))/LOG(2))))","v":0},null,{"$f":"N8","v":11112},{"$f":"COUNTIF(L11:L11,AN8)","v":1},{"$f":"AO8/(AQ4-AO25)","v":1},{"$f":"IF(AP8=0,0,(AP8*((LOG(AP8))/LOG(2))))","v":0},null,{"$f":"N8","v":11112},{"$f":"COUNTIF(L12:L12,AS8)","v":0},{"$f":"AT8/(AV4-AT25)","v":{"$error":"#DIV/0!"}},{"$f":"IF(AU8=0,0,(AU8*((LOG(AU8))/LOG(2))))","v":{"$error":"#DIV/0!"}}]
[12,1141,24,1185,24,1207,23,1292,24,16397,0,12222,null,11121,{"$f":"COUNTIF($L$7:$L$500,N9)","v":0},{"$f":"O9/$Q$4","v":0},{"$f":"IF(P9=0,0,(P9*((LOG(P9))/LOG(2))))","v":0},null,null,{"$f":"N9","v":11121},{"$f":"COUNTIF(L7:L7,T9)","v":0},{"$f":"U9/(W4-U25)","v":0},{"$f":"IF(V9=0,0,(V9*((LOG(V9))/LOG(2))))","v":0},null,{"$f":"N9","v":11121},{"$f":"COUNTIF(L8:L8,Y9)","v":0},{"$f":"Z9/(AB4-Z25)","v":0},{"$f":"IF(AA9=0,0,(AA9*((LOG(AA9))/LOG(2))))","v":0},null,{"$f":"N9","v":11121},{"$f":"COUNTIF(L9:L9,AD9)","v":0},{"$f":"AE9/(AG4-AE25)","v":0},{"$f":"IF(AF9=0,0,(AF9*((LOG(AF9))/LOG(2))))","v":0},null,{"$f":"N9","v":11121},{"$f":"COUNTIF(L10:L10,AI9)","v":0},{"$f":"AJ9/(AL4-AJ25)","v":0},{"$f":"IF(AK9=0,0,(AK9*((LOG(AK9))/LOG(2))))","v":0},null,{"$f":"N9","v":11121},{"$f":"COUNTIF(L11:L11,AN9)","v":0},{"$f":"AO9/(AQ4-AO25)","v":0},{"$f":"IF(AP9=0,0,(AP9*((LOG(AP9))/LOG(2))))","v":0},null,{"$f":"N9","v":11121},{"$f":"COUNTIF(L12:L12,AS9)","v":0},{"$f":"AT9/(AV4-AT25)","v":{"$error":"#DIV/0!"}},{"$f":"IF(AU9=0,0,(AU9*((LOG(AU9))/LOG(2))))","v":{"$error":"#DIV/0!"}}]
[21,16671,22,16686,24,16723,23,16736,24,16800,0,22222,null,11122,{"$f":"COUNTIF($L$7:$L$500,N10)","v":0},{"$f":"O10/$Q$4","v":0},{"$f":"IF(P10=0,0,(P10*((LOG(P10))/LOG(2))))","v":0},null,null,{"$f":"N10","v":11122},{"$f":"COUNTIF(L7:L7,T10)","v":0},{"$f":"U10/(W4-U25)","v":0},{"$f":"IF(V10=0,0,(V10*((LOG(V10))/LOG(2))))","v":0},null,{"$f":"N10","v":11122},{"$f":"COUNTIF(L8:L8,Y10)","v":0},{"$f":"Z10/(AB4-Z25)","v":0},{"$f":"IF(AA10=0,0,(AA10*((LOG(AA10))/LOG(2))))","v":0},null,{"$f":"N10","v":11122},{"$f":"COUNTIF(L9:L9,AD10)","v":0},{"$f":"AE10/(AG4-AE25)","v":0},{"$f":"IF(AF10=0,0,(AF10*((LOG(AF10))/LOG(2))))","v":0},null,{"$f":"N10","v":11122},{"$f":"COUNTIF(L10:L10,AI10)","v":0},{"$f":"AJ10/(AL4-AJ25)","v":0},{"$f":"IF(AK10=0,0,(AK10*((LOG(AK10))/LOG(2))))","v":0},null,{"$f":"N10","v":11122},{"$f":"COUNTIF(L11:L11,AN10)","v":0},{"$f":"AO10/(AQ4-AO25)","v":0},{"$f":"IF(AP10=0,0,(AP10*((LOG(AP10))/LOG(2))))","v":0},null,{"$f":"N10","v":11122},{"$f":"COUNTIF(L12:L12,AS10)","v":0},{"$f":"AT10/(AV4-AT25)","v":{"$error":"#DIV/0!"}},{"$f":"IF(AU10=0,0,(AU10*((LOG(AU10))/LOG(2))))","v":{"$error":"#DIV/0!"}}]
[12,16997,13,17024,13,17037,14,17067,24,17078,0,11112,null,11211,{"$f":"COUNTIF($L$7:$L$500,N11)","v":0},{"$f":"O11/$Q$4","v":0},{"$f":"IF(P11=0,0,(P11*((LOG(P11))/LOG(2))))","v":0},null,null,{"$f":"N11","v":11211},{"$f":"COUNTIF(L7:L7,T11)","v":0},{"$f":"U11/(W4-U25)","v":0},{"$f":"IF(V11=0,0,(V11*((LOG(V11))/LOG(2))))","v":0},null,{"$f":"N11","v":11211},{"$f":"COUNTIF(L8:L8,Y11)","v":0},{"$f":"Z11/(AB4-Z25)","v":0},{"$f":"IF(AA11=0,0,(AA11*((LOG(AA11))/LOG(2))))","v":0},null,{"$f":"N11","v":11211},{"$f":"COUNTIF(L9:L9,AD11)","v":0},{"$f":"AE11/(AG4-AE25)","v":0},{"$f":"IF(AF11=0,0,(AF11*((LOG(AF11))/LOG(2))))","v":0},null,{"$f":"N11","v":11211},{"$f":"COUNTIF(L10:L10,AI11)","v":0},{"$f":"AJ11/(AL4-AJ25)","v":0},{"$f":"IF(AK11=0,0,(AK11*((LOG(AK11))/LOG(2))))","v":0},null,{"$f":"N11","v":11211},{"$f":"COUNTIF(L11:L11,AN11)","v":0},{"$f":"AO11/(AQ4-AO25)","v":0},{"$f":"IF(AP11=0,0,(AP11*((LOG(AP11))/LOG(2))))","v":0},null,{"$f":"N11","v":11211},{"$f":"COUNTIF(L12:L12,AS11)","v":0},{"$f":"AT11/(AV4-AT25)","v":{"$error":"#DIV/0!"}},{"$f":"IF(AU11=0,0,(AU11*((LOG(AU11))/LOG(2))))","v":{"$error":"#DIV/0!"}}]
[12,17263,13,19297,null,null,null,null,null,null,null,11,null,11212,{"$f":"COUNTIF($L$7:$L$500,N12)","v":0},{"$f":"O12/$Q$4","v":0},{"$f":"IF(P12=0,0,(P12*((LOG(P12))/LOG(2))))","v":0},null,null,{"$f":"N12","v":11212},{"$f":"COUNTIF(L7:L7,T12)","v":0},{"$f":"U12/(W4-U25)","v":0},{"$f":"IF(V12=0,0,(V12*((LOG(V12))/LOG(2))))","v":0},null,{"$f":"N12","v":11212},{"$f":"COUNTIF(L8:L8,Y12)","v":0},{"$f":"Z12/(AB4-Z25)","v":0},{"$f":"IF(AA12=0,0,(AA12*((LOG(AA12))/LOG(2))))","v":0},null,{"$f":"N12","v":11212},{"$f":"COUNTIF(L9:L9,AD12)","v":0},{"$f":"AE12/(AG4-AE25)","v":0},{"$f":"IF(AF12=0,0,(AF12*((LOG(AF12))/LOG(2))))","v":0},null,{"$f":"N12","v":11212},{"$f":"COUNTIF(L10:L10,AI12)","v":0},{"$f":"AJ12/(AL4-AJ25)","v":0},{"$f":"IF(AK12=0,0,(AK12*((LOG(AK12))/LOG(2))))","v":0},null,{"$f":"N12","v":11212},{"$f":"COUNTIF(L11:L11,AN12)","v":0},{"$f":"AO12/(AQ4-AO25)","v":0},{"$f":"IF(AP12=0,0,(AP12*((LOG(AP12))/LOG(2))))","v":0},null,{"$f":"N12","v":11212},{"$f":"COUNTIF(L12:L12,AS12)","v":0},{"$f":"AT12/(AV4-AT25)","v":{"$error":"#DIV/0!"}},{"$f":"IF(AU12=0,0,(AU12*((LOG(AU12))/LOG(2))))","v":{"$error":"#DIV/0!"}}]
[null,null,null,null,null,null,null,null,null,null,null,null,null,11221,{"$f":"COUNTIF($L$7:$L$500,N13)","v":0},{"$f":"O13/$Q$4","v":0},{"$f":"IF(P13=0,0,(P13*((LOG(P13))/LOG(2))))","v":0},null,null,{"$f":"N13","v":11221},{"$f":"COUNTIF(L7:L7,T13)","v":0},{"$f":"U13/(W4-U25)","v":0},{"$f":"IF(V13=0,0,(V13*((LOG(V13))/LOG(2))))","v":0},null,{"$f":"N13","v":11221},{"$f":"COUNTIF(L8:L8,Y13)","v":0},{"$f":"Z13/(AB4-Z25)","v":0},{"$f":"IF(AA13=0,0,(AA13*((LOG(AA13))/LOG(2))))","v":0},null,{"$f":"N13","v":11221},{"$f":"COUNTIF(L9:L9,AD13)","v":0},{"$f":"AE13/(AG4-AE25)","v":0},{"$f":"IF(AF13=0,0,(AF13*((LOG(AF13))/LOG(2))))","v":0},null,{"$f":"N13","v":11221},{"$f":"COUNTIF(L10:L10,AI13)","v":0},{"$f":"AJ13/(AL4-AJ25)","v":0},{"$f":"IF(AK13=0,0,(AK13*((LOG(AK13))/LOG(2))))","v":0},null,{"$f":"N13","v":11221},{"$f":"COUNTIF(L11:L11,AN13)","v":0},{"$f":"AO13/(AQ4-AO25)","v":0},{"$f":"IF(AP13=0,0,(AP13*((LOG(AP13))/LOG(2))))","v":0},null,{"$f":"N13","v":11221},{"$f":"COUNTIF(L12:L12,AS13)","v":0},{"$f":"AT13/(AV4-AT25)","v":{"$error":"#DIV/0!"}},{"$f":"IF(AU13=0,0,(AU13*((LOG(AU13))/LOG(2))))","v":{"$error":"#DIV/0!"}}]
[null,null,null,null,null,null,null,null,null,null,null,null,null,11222,{"$f":"COUNTIF($L$7:$L$500,N14)","v":0},{"$f":"O14/$Q$4","v":0},{"$f":"IF(P14=0,0,(P14*((LOG(P14))/LOG(2))))","v":0},null,null,{"$f":"N14","v":11222},{"$f":"COUNTIF(L7:L7,T14)","v":0},{"$f":"U14/(W4-U25)","v":0},{"$f":"IF(V14=0,0,(V14*((LOG(V14))/LOG(2))))","v":0},null,{"$f":"N14","v":11222},{"$f":"COUNTIF(L8:L8,Y14)","v":0},{"$f":"Z14/(AB4-Z25)","v":0},{"$f":"IF(AA14=0,0,(AA14*((LOG(AA14))/LOG(2))))","v":0},null,{"$f":"N14","v":11222},{"$f":"COUNTIF(L9:L9,AD14)","v":0},{"$f":"AE14/(AG4-AE25)","v":0},{"$f":"IF(AF14=0,0,(AF14*((LOG(AF14))/LOG(2))))","v":0},null,{"$f":"N14","v":11222},{"$f":"COUNTIF(L10:L10,AI14)","v":0},{"$f":"AJ14/(AL4-AJ25)","v":0},{"$f":"IF(AK14=0,0,(AK14*((LOG(AK14))/LOG(2))))","v":0},null,{"$f":"N14","v":11222},{"$f":"COUNTIF(L11:L11,AN14)","v":0},{"$f":"AO14/(AQ4-AO25)","v":0},{"$f":"IF(AP14=0,0,(AP14*((LOG(AP14))/LOG(2))))","v":0},null,{"$f":"N14","v":11222},{"$f":"COUNTIF(L12:L12,AS14)","v":0},{"$f":"AT14/(AV4-AT25)","v":{"$error":"#DIV/0!"}},{"$f":"IF(AU14=0,0,(AU14*((LOG(AU14))/LOG(2))))","v":{"$error":"#DIV/0!"}}]
[null,null,null,null,null,null,null,null,null,null,null,null,null,12111,{"$f":"COUNTIF($L$7:$L$500,N15)","v":0},{"$f":"O15/$Q$4","v":0},{"$f":"IF(P15=0,0,(P15*((LOG(P15))/LOG(2))))","v":0},null,null,{"$f":"N15","v":12111},{"$f":"COUNTIF(L7:L7,T15)","v":0},{"$f":"U15/(W4-U25)","v":0},{"$f":"IF(V15=0,0,(V15*((LOG(V15))/LOG(2))))","v":0},null,{"$f":"N15","v":12111},{"$f":"COUNTIF(L8:L8,Y15)","v":0},{"$f":"Z15/(AB4-Z25)","v":0},{"$f":"IF(AA15=0,0,(AA15*((LOG(AA15))/LOG(2))))","v":0},null,{"$f":"N15","v":12111},{"$f":"COUNTIF(L9:L9,AD15)","v":0},{"$f":"AE15/(AG4-AE25)","v":0},{"$f":"IF(AF15=0,0,(AF15*((LOG(AF15))/LOG(2))))","v":0},null,{"$f":"N15","v":12111},{"$f":"COUNTIF(L10:L10,AI15)","v":0},{"$f":"AJ15/(AL4-AJ25)","v":0},{"$f":"IF(AK15=0,0,(AK15*((LOG(AK15))/LOG(2))))","v":0},null,{"$f":"N15","v":12111},{"$f":"COUNTIF(L11:L11,AN15)","v":0},{"$f":"AO15/(AQ4-AO25)","v":0},{"$f":"IF(AP15=0,0,(AP15*((LOG(AP15))/LOG(2))))","v":0},null,{"$f":"N15","v":12111},{"$f":"COUNTIF(L12:L12,AS15)","v":0},{"$f":"AT15/(AV4-AT25)","v":{"$error":"#DIV/0!"}},{"$f":"IF(AU15=0,0,(AU15*((LOG(AU15))/LOG(2))))","v":{"$error":"#DIV/0!"}}]
[null,null,null,null,null,null,null,null,null,null,null,null,null,12112,{"$f":"COUNTIF($L$7:$L$500,N16)","v":0},{"$f":"O16/$Q$4","v":0},{"$f":"IF(P16=0,0,(P16*((LOG(P16))/LOG(2))))","v":0},null,null,{"$f":"N16","v":12112},{"$f":"COUNTIF(L7:L7,T16)","v":0},{"$f":"U16/(W4-U25)","v":0},{"$f":"IF(V16=0,0,(V16*((LOG(V16))/LOG(2))))","v":0},null,{"$f":"N16","v":12112},{"$f":"COUNTIF(L8:L8,Y16)","v":0},{"$f":"Z16/(AB4-Z25)","v":0},{"$f":"IF(AA16=0,0,(AA16*((LOG(AA16))/LOG(2))))","v":0},null,{"$f":"N16","v":12112},{"$f":"COUNTIF(L9:L9,AD16)","v":0},{"$f":"AE16/(AG4-AE25)","v":0},{"$f":"IF(AF16=0,0,(AF16*((LOG(AF16))/LOG(2))))","v":0},null,{"$f":"N16","v":12112},{"$f":"COUNTIF(L10:L10,AI16)","v":0},{"$f":"AJ16/(AL4-AJ25)","v":0},{"$f":"IF(AK16=0,0,(AK16*((LOG(AK16))/LOG(2))))","v":0},null,{"$f":"N16","v":12112},{"$f":"COUNTIF(L11:L11,AN16)","v":0},{"$f":"AO16/(AQ4-AO25)","v":0},{"$f":"IF(AP16=0,0,(AP16*((LOG(AP16))/LOG(2))))","v":0},null,{"$f":"N16","v":12112},{"$f":"COUNTIF(L12:L12,AS16)","v":0},{"$f":"AT16/(AV4-AT25)","v":{"$error":"#DIV/0!"}},{"$f":"IF(AU16=0,0,(AU16*((LOG(AU16))/LOG(2))))","v":{"$error":"#DIV/0!"}}]
[null,null,null,null,null,null,null,null,null,null,null,null,null,12121,{"$f":"COUNTIF($L$7:$L$500,N17)","v":0},{"$f":"O17/$Q$4","v":0},{"$f":"IF(P17=0,0,(P17*((LOG(P17))/LOG(2))))","v":0},null,null,{"$f":"N17","v":12121},{"$f":"COUNTIF(L7:L7,T17)","v":0},{"$f":"U17/(W4-U25)","v":0},{"$f":"IF(V17=0,0,(V17*((LOG(V17))/LOG(2))))","v":0},null,{"$f":"N17","v":12121},{"$f":"COUNTIF(L8:L8,Y17)","v":0},{"$f":"Z17/(AB4-Z25)","v":0},{"$f":"IF(AA17=0,0,(AA17*((LOG(AA17))/LOG(2))))","v":0},null,{"$f":"N17","v":12121},{"$f":"COUNTIF(L9:L9,AD17)","v":0},{"$f":"AE17/(AG4-AE25)","v":0},{"$f":"IF(AF17=0,0,(AF17*((LOG(AF17))/LOG(2))))","v":0},null,{"$f":"N17","v":12121},{"$f":"COUNTIF(L10:L10,AI17)","v":0},{"$f":"AJ17/(AL4-AJ25)","v":0},{"$f":"IF(AK17=0,0,(AK17*((LOG(AK17))/LOG(2))))","v":0},null,{"$f":"N17","v":12121},{"$f":"COUNTIF(L11:L11,AN17)","v":0},{"$f":"AO17/(AQ4-AO25)","v":0},{"$f":"IF(AP17=0,0,(AP17*((LOG(AP17))/LOG(2))))","v":0},null,{"$f":"N17","v":12121},{"$f":"COUNTIF(L12:L12,AS17)","v":0},{"$f":"AT17/(AV4-AT25)","v":{"$error":"#DIV/0!"}},{"$f":"IF(AU17=0,0,(AU17*((LOG(AU17))/LOG(2))))","v":{"$error":"#DIV/0!"}}]
[null,null,null,null,null,null,null,null,null,null,null,null,null,12122,{"$f":"COUNTIF($L$7:$L$500,N18)","v":0},{"$f":"O18/$Q$4","v":0},{"$f":"IF(P18=0,0,(P18*((LOG(P18))/LOG(2))))","v":0},null,null,{"$f":"N18","v":12122},{"$f":"COUNTIF(L7:L7,T18)","v":0},{"$f":"U18/(W4-U25)","v":0},{"$f":"IF(V18=0,0,(V18*((LOG(V18))/LOG(2))))","v":0},null,{"$f":"N18","v":12122},{"$f":"COUNTIF(L8:L8,Y18)","v":0},{"$f":"Z18/(AB4-Z25)","v":0},{"$f":"IF(AA18=0,0,(AA18*((LOG(AA18))/LOG(2))))","v":0},null,{"$f":"N18","v":12122},{"$f":"COUNTIF(L9:L9,AD18)","v":0},{"$f":"AE18/(AG4-AE25)","v":0},{"$f":"IF(AF18=0,0,(AF18*((LOG(AF18))/LOG(2))))","v":0},null,{"$f":"N18","v":12122},{"$f":"COUNTIF(L10:L10,AI18)","v":0},{"$f":"AJ18/(AL4-AJ25)","v":0},{"$f":"IF(AK18=0,0,(AK18*((LOG(AK18))/LOG(2))))","v":0},null,{"$f":"N18","v":12122},{"$f":"COUNTIF(L11:L11,AN18)","v":0},{"$f":"AO18/(AQ4-AO25)","v":0},{"$f":"IF(AP18=0,0,(AP18*((LOG(AP18))/LOG(2))))","v":0},null,{"$f":"N18","v":12122},{"$f":"COUNTIF(L12:L12,AS18)","v":0},{"$f":"AT18/(AV4-AT25)","v":{"$error":"#DIV/0!"}},{"$f":"IF(AU18=0,0,(AU18*((LOG(AU18))/LOG(2))))","v":{"$error":"#DIV/0!"}}]
[null,null,null,null,null,null,null,null,null,null,null,null,null,12211,{"$f":"COUNTIF($L$7:$L$500,N19)","v":0},{"$f":"O19/$Q$4","v":0},{"$f":"IF(P19=0,0,(P19*((LOG(P19))/LOG(2))))","v":0},null,null,{"$f":"N19","v":12211},{"$f":"COUNTIF(L7:L7,T19)","v":0},{"$f":"U19/(W4-U25)","v":0},{"$f":"IF(V19=0,0,(V19*((LOG(V19))/LOG(2))))","v":0},null,{"$f":"N19","v":12211},{"$f":"COUNTIF(L8:L8,Y19)","v":0},{"$f":"Z19/(AB4-Z25)","v":0},{"$f":"IF(AA19=0,0,(AA19*((LOG(AA19))/LOG(2))))","v":0},null,{"$f":"N19","v":12211},{"$f":"COUNTIF(L9:L9,AD19)","v":0},{"$f":"AE19/(AG4-AE25)","v":0},{"$f":"IF(AF19=0,0,(AF19*((LOG(AF19))/LOG(2))))","v":0},null,{"$f":"N19","v":12211},{"$f":"COUNTIF(L10:L10,AI19)","v":0},{"$f":"AJ19/(AL4-AJ25)","v":0},{"$f":"IF(AK19=0,0,(AK19*((LOG(AK19))/LOG(2))))","v":0},null,{"$f":"N19","v":12211},{"$f":"COUNTIF(L11:L11,AN19)","v":0},{"$f":"AO19/(AQ4-AO25)","v":0},{"$f":"IF(AP19=0,0,(AP19*((LOG(AP19))/LOG(2))))","v":0},null,{"$f":"N19","v":12211},{"$f":"COUNTIF(L12:L12,AS19)","v":0},{"$f":"AT19/(AV4-AT25)","v":{"$error":"#DIV/0!"}},{"$f":"IF(AU19=0,0,(AU19*((LOG(AU19))/LOG(2))))","v":{"$error":"#DIV/0!"}}]
[null,null,null,null,null,null,null,null,null,null,null,null,null,12212,{"$f":"COUNTIF($L$7:$L$500,N20)","v":0},{"$f":"O20/$Q$4","v":0},{"$f":"IF(P20=0,0,(P20*((LOG(P20))/LOG(2))))","v":0},null,null,{"$f":"N20","v":12212},{"$f":"COUNTIF(L7:L7,T20)","v":0},{"$f":"U20/(W4-U25)","v":0},{"$f":"IF(V20=0,0,(V20*((LOG(V20))/LOG(2))))","v":0},null,{"$f":"N20","v":12212},{"$f":"COUNTIF(L8:L8,Y20)","v":0},{"$f":"Z20/(AB4-Z25)","v":0},{"$f":"IF(AA20=0,0,(AA20*((LOG(AA20))/LOG(2))))","v":0},null,{"$f":"N20","v":12212},{"$f":"COUNTIF(L9:L9,AD20)","v":0},{"$f":"AE20/(AG4-AE25)","v":0},{"$f":"IF(AF20=0,0,(AF20*((LOG(AF20))/LOG(2))))","v":0},null,{"$f":"N20","v":12212},{"$f":"COUNTIF(L10:L10,AI20)","v":0},{"$f":"AJ20/(AL4-AJ25)","v":0},{"$f":"IF(AK20=0,0,(AK20*((LOG(AK20))/LOG(2))))","v":0},null,{"$f":"N20","v":12212},{"$f":"COUNTIF(L11:L11,AN20)","v":0},{"$f":"AO20/(AQ4-AO25)","v":0},{"$f":"IF(AP20=0,0,(AP20*((LOG(AP20))/LOG(2))))","v":0},null,{"$f":"N20","v":12212},{"$f":"COUNTIF(L12:L12,AS20)","v":0},{"$f":"AT20/(AV4-AT25)","v":{"$error":"#DIV/0!"}},{"$f":"IF(AU20=0,0,(AU20*((LOG(AU20))/LOG(2))))","v":{"$error":"#DIV/0!"}}]
[null,null,null,null,null,null,null,null,null,null,null,null,null,12221,{"$f":"COUNTIF($L$7:$L$500,N21)","v":0},{"$f":"O21/$Q$4","v":0},{"$f":"IF(P21=0,0,(P21*((LOG(P21))/LOG(2))))","v":0},null,null,{"$f":"N21","v":12221},{"$f":"COUNTIF(L7:L7,T21)","v":0},{"$f":"U21/(W4-U25)","v":0},{"$f":"IF(V21=0,0,(V21*((LOG(V21))/LOG(2))))","v":0},null,{"$f":"N21","v":12221},{"$f":"COUNTIF(L8:L8,Y21)","v":0},{"$f":"Z21/(AB4-Z25)","v":0},{"$f":"IF(AA21=0,0,(AA21*((LOG(AA21))/LOG(2))))","v":0},null,{"$f":"N21","v":12221},{"$f":"COUNTIF(L9:L9,AD21)","v":0},{"$f":"AE21/(AG4-AE25)","v":0},{"$f":"IF(AF21=0,0,(AF21*((LOG(AF21))/LOG(2))))","v":0},null,{"$f":"N21","v":12221},{"$f":"COUNTIF(L10:L10,AI21)","v":0},{"$f":"AJ21/(AL4-AJ25)","v":0},{"$f":"IF(AK21=0,0,(AK21*((LOG(AK21))/LOG(2))))","v":0},null,{"$f":"N21","v":12221},{"$f":"COUNTIF(L11:L11,AN21)","v":0},{"$f":"AO21/(AQ4-AO25)","v":0},{"$f":"IF(AP21=0,0,(AP21*((LOG(AP21))/LOG(2))))","v":0},null,{"$f":"N21","v":12221},{"$f":"COUNTIF(L12:L12,AS21)","v":0},{"$f":"AT21/(AV4-AT25)","v":{"$error":"#DIV/0!"}},{"$f":"IF(AU21=0,0,(AU21*((LOG(AU21))/LOG(2))))","v":{"$error":"#DIV/0!"}}]
[null,null,null,null,null,null,null,null,null,null,null,null,null,12222,{"$f":"COUNTIF($L$7:$L$500,N22)","v":1},{"$f":"O22/$Q$4","v":0.2},{"$f":"IF(P22=0,0,(P22*((LOG(P22))/LOG(2))))","v":-0.46438561897747244},null,null,{"$f":"N22","v":12222},{"$f":"COUNTIF(L7:L7,T22)","v":0},{"$f":"U22/(W4-U25)","v":0},{"$f":"IF(V22=0,0,(V22*((LOG(V22))/LOG(2))))","v":0},null,{"$f":"N22","v":12222},{"$f":"COUNTIF(L8:L8,Y22)","v":0},{"$f":"Z22/(AB4-Z25)","v":0},{"$f":"IF(AA22=0,0,(AA22*((LOG(AA22))/LOG(2))))","v":0},null,{"$f":"N22","v":12222},{"$f":"COUNTIF(L9:L9,AD22)","v":1},{"$f":"AE22/(AG4-AE25)","v":1},{"$f":"IF(AF22=0,0,(AF22*((LOG(AF22))/LOG(2))))","v":0},null,{"$f":"N22","v":12222},{"$f":"COUNTIF(L10:L10,AI22)","v":0},{"$f":"AJ22/(AL4-AJ25)","v":0},{"$f":"IF(AK22=0,0,(AK22*((LOG(AK22))/LOG(2))))","v":0},null,{"$f":"N22","v":12222},{"$f":"COUNTIF(L11:L11,AN22)","v":0},{"$f":"AO22/(AQ4-AO25)","v":0},{"$f":"IF(AP22=0,0,(AP22*((LOG(AP22))/LOG(2))))","v":0},null,{"$f":"N22","v":12222},{"$f":"COUNTIF(L12:L12,AS22)","v":0},{"$f":"AT22/(AV4-AT25)","v":{"$error":"#DIV/0!"}},{"$f":"IF(AU22=0,0,(AU22*((LOG(AU22))/LOG(2))))","v":{"$error":"#DIV/0!"}}]
[null,null,null,null,null,null,null,null,null,null,null,null,null,21111,{"$f":"COUNTIF($L$7:$L$500,N23)","v":0},{"$f":"O23/$Q$4","v":0},{"$f":"IF(P23=0,0,(P23*((LOG(P23))/LOG(2))))","v":0},null,null,{"$f":"N23","v":21111},{"$f":"COUNTIF(L7:L7,T23)","v":0},{"$f":"U23/(W4-U25)","v":0},{"$f":"IF(V23=0,0,(V23*((LOG(V23))/LOG(2))))","v":0},null,{"$f":"N23","v":21111},{"$f":"COUNTIF(L8:L8,Y23)","v":0},{"$f":"Z23/(AB4-Z25)","v":0},{"$f":"IF(AA23=0,0,(AA23*((LOG(AA23))/LOG(2))))","v":0},null,{"$f":"N23","v":21111},{"$f":"COUNTIF(L9:L9,AD23)","v":0},{"$f":"AE23/(AG4-AE25)","v":0},{"$f":"IF(AF23=0,0,(AF23*((LOG(AF23))/LOG(2))))","v":0},null,{"$f":"N23","v":21111},{"$f":"COUNTIF(L10:L10,AI23)","v":0},{"$f":"AJ23/(AL4-AJ25)","v":0},{"$f":"IF(AK23=0,0,(AK23*((LOG(AK23))/LOG(2))))","v":0},null,{"$f":"N23","v":21111},{"$f":"COUNTIF(L11:L11,AN23)","v":0},{"$f":"AO23/(AQ4-AO25)","v":0},{"$f":"IF(AP23=0,0,(AP23*((LOG(AP23))/LOG(2))))","v":0},null,{"$f":"N23","v":21111},{"$f":"COUNTIF(L12:L12,AS23)","v":0},{"$f":"AT23/(AV4-AT25)","v":{"$error":"#DIV/0!"}},{"$f":"IF(AU23=0,0,(AU23*((LOG(AU23))/LOG(2))))","v":{"$error":"#DIV/0!"}}]
[null,null,null,null,null,null,null,null,null,null,null,null,null,21112,{"$f":"COUNTIF($L$7:$L$500,N24)","v":0},{"$f":"O24/$Q$4","v":0},{"$f":"IF(P24=0,0,(P24*((LOG(P24))/LOG(2))))","v":0},null,null,{"$f":"N24","v":21112},{"$f":"COUNTIF(L7:L7,T24)","v":0},{"$f":"U24/(W4-U25)","v":0},{"$f":"IF(V24=0,0,(V24*((LOG(V24))/LOG(2))))","v":0},null,{"$f":"N24","v":21112},{"$f":"COUNTIF(L8:L8,Y24)","v":0},{"$f":"Z24/(AB4-Z25)","v":0},{"$f":"IF(AA24=0,0,(AA24*((LOG(AA24))/LOG(2))))","v":0},null,{"$f":"N24","v":21112},{"$f":"COUNTIF(L9:L9,AD24)","v":0},{"$f":"AE24/(AG4-AE25)","v":0},{"$f":"IF(AF24=0,0,(AF24*((LOG(AF24))/LOG(2))))","v":0},null,{"$f":"N24","v":21112},{"$f":"COUNTIF(L10:L10,AI24)","v":0},{"$f":"AJ24/(AL4-AJ25)","v":0},{"$f":"IF(AK24=0,0,(AK24*((LOG(AK24))/LOG(2))))","v":0},null,{"$f":"N24","v":21112},{"$f":"COUNTIF(L11:L11,AN24)","v":0},{"$f":"AO24/(AQ4-AO25)","v":0},{"$f":"IF(AP24=0,0,(AP24*((LOG(AP24))/LOG(2))))","v":0},null,{"$f":"N24","v":21112},{"$f":"COUNTIF(L12:L12,AS24)","v":0},{"$f":"AT24/(AV4-AT25)","v":{"$error":"#DIV/0!"}},{"$f":"IF(AU24=0,0,(AU24*((LOG(AU24))/LOG(2))))","v":{"$error":"#DIV/0!"}}]
[null,null,null,null,null,null,null,null,null,null,null,null,null,21121,{"$f":"COUNTIF($L$7:$L$500,N25)","v":0},{"$f":"O25/$Q$4","v":0},{"$f":"IF(P25=0,0,(P25*((LOG(P25))/LOG(2))))","v":0},null,null,{"$f":"N25","v":21121},{"$f":"COUNTIF(L7:L7,T25)","v":0},null,null,null,{"$f":"N25","v":21121},{"$f":"COUNTIF(L8:L8,Y25)","v":0},null,null,null,{"$f":"N25","v":21121},{"$f":"COUNTIF(L9:L9,AD25)","v":0},null,null,null,{"$f":"N25","v":21121},{"$f":"COUNTIF(L10:L10,AI25)","v":0},null,null,null,{"$f":"N25","v":21121},{"$f":"COUNTIF(L11:L11,AN25)","v":0},null,null,null,{"$f":"N25","v":21121},{"$f":"COUNTIF(L12:L12,AS25)","v":0}]
[null,null,null,null,null,null,null,null,null,null,null,null,null,21122,{"$f":"COUNTIF($L$7:$L$500,N26)","v":0},{"$f":"O26/$Q$4","v":0},{"$f":"IF(P26=0,0,(P26*((LOG(P26))/LOG(2))))","v":0},null,null,{"$f":"N26","v":21122},{"$f":"COUNTIF(L7:L7,T26)","v":0},{"$f":"U26/(W4-U25)","v":0},{"$f":"IF(V26=0,0,(V26*((LOG(V26))/LOG(2))))","v":0},null,{"$f":"N26","v":21122},{"$f":"COUNTIF(L8:L8,Y26)","v":0},{"$f":"Z26/(AB4-Z25)","v":0},{"$f":"IF(AA26=0,0,(AA26*((LOG(AA26))/LOG(2))))","v":0},null,{"$f":"N26","v":21122},{"$f":"COUNTIF(L9:L9,AD26)","v":0},{"$f":"AE26/(AG4-AE25)","v":0},{"$f":"IF(AF26=0,0,(AF26*((LOG(AF26))/LOG(2))))","v":0},null,{"$f":"N26","v":21122},{"$f":"COUNTIF(L10:L10,AI26)","v":0},{"$f":"AJ26/(AL4-AJ25)","v":0},{"$f":"IF(AK26=0,0,(AK26*((LOG(AK26))/LOG(2))))","v":0},null,{"$f":"N26","v":21122},{"$f":"COUNTIF(L11:L11,AN26)","v":0},{"$f":"AO26/(AQ4-AO25)","v":0},{"$f":"IF(AP26=0,0,(AP26*((LOG(AP26))/LOG(2))))","v":0},null,{"$f":"N26","v":21122},{"$f":"COUNTIF(L12:L12,AS26)","v":0},{"$f":"AT26/(AV4-AT25)","v":{"$error":"#DIV/0!"}},{"$f":"IF(AU26=0,0,(AU26*((LOG(AU26))/LOG(2))))","v":{"$error":"#DIV/0!"}}]
[null,null,null,null,null,null,null,null,null,null,null,null,null,21211,{"$f":"COUNTIF($L$7:$L$500,N27)","v":0},{"$f":"O27/$Q$4","v":0},{"$f":"IF(P27=0,0,(P27*((LOG(P27))/LOG(2))))","v":0},null,null,{"$f":"N27","v":21211},{"$f":"COUNTIF(L7:L7,T27)","v":0},{"$f":"U27/(W4-U25)","v":0},{"$f":"IF(V27=0,0,(V27*((LOG(V27))/LOG(2))))","v":0},null,{"$f":"N27","v":21211},{"$f":"COUNTIF(L8:L8,Y27)","v":0},{"$f":"Z27/(AB4-Z25)","v":0},{"$f":"IF(AA27=0,0,(AA27*((LOG(AA27))/LOG(2))))","v":0},null,{"$f":"N27","v":21211},{"$f":"COUNTIF(L9:L9,AD27)","v":0},{"$f":"AE27/(AG4-AE25)","v":0},{"$f":"IF(AF27=0,0,(AF27*((LOG(AF27))/LOG(2))))","v":0},null,{"$f":"N27","v":21211},{"$f":"COUNTIF(L10:L10,AI27)","v":0},{"$f":"AJ27/(AL4-AJ25)","v":0},{"$f":"IF(AK27=0,0,(AK27*((LOG(AK27))/LOG(2))))","v":0},null,{"$f":"N27","v":21211},{"$f":"COUNTIF(L11:L11,AN27)","v":0},{"$f":"AO27/(AQ4-AO25)","v":0},{"$f":"IF(AP27=0,0,(AP27*((LOG(AP27))/LOG(2))))","v":0},null,{"$f":"N27","v":21211},{"$f":"COUNTIF(L12:L12,AS27)","v":0},{"$f":"AT27/(AV4-AT25)","v":{"$error":"#DIV/0!"}},{"$f":"IF(AU27=0,0,(AU27*((LOG(AU27))/LOG(2))))","v":{"$error":"#DIV/0!"}}]
[null,null,null,null,null,null,null,null,null,null,null,null,null,21212,{"$f":"COUNTIF($L$7:$L$500,N28)","v":0},{"$f":"O28/$Q$4","v":0},{"$f":"IF(P28=0,0,(P28*((LOG(P28))/LOG(2))))","v":0},null,null,{"$f":"N28","v":21212},{"$f":"COUNTIF(L7:L7,T28)","v":0},{"$f":"U28/(W4-U25)","v":0},{"$f":"IF(V28=0,0,(V28*((LOG(V28))/LOG(2))))","v":0},null,{"$f":"N28","v":21212},{"$f":"COUNTIF(L8:L8,Y28)","v":0},{"$f":"Z28/(AB4-Z25)","v":0},{"$f":"IF(AA28=0,0,(AA28*((LOG(AA28))/LOG(2))))","v":0},null,{"$f":"N28","v":21212},{"$f":"COUNTIF(L9:L9,AD28)","v":0},{"$f":"AE28/(AG4-AE25)","v":0},{"$f":"IF(AF28=0,0,(AF28*((LOG(AF28))/LOG(2))))","v":0},null,{"$f":"N28","v":21212},{"$f":"COUNTIF(L10:L10,AI28)","v":0},{"$f":"AJ28/(AL4-AJ25)","v":0},{"$f":"IF(AK28=0,0,(AK28*((LOG(AK28))/LOG(2))))","v":0},null,{"$f":"N28","v":21212},{"$f":"COUNTIF(L11:L11,AN28)","v":0},{"$f":"AO28/(AQ4-AO25)","v":0},{"$f":"IF(AP28=0,0,(AP28*((LOG(AP28))/LOG(2))))","v":0},null,{"$f":"N28","v":21212},{"$f":"COUNTIF(L12:L12,AS28)","v":0},{"$f":"AT28/(AV4-AT25)","v":{"$error":"#DIV/0!"}},{"$f":"IF(AU28=0,0,(AU28*((LOG(AU28))/LOG(2))))","v":{"$error":"#DIV/0!"}}]
[null,null,null,null,null,null,null,null,null,null,null,null,null,21221,{"$f":"COUNTIF($L$7:$L$500,N29)","v":0},{"$f":"O29/$Q$4","v":0},{"$f":"IF(P29=0,0,(P29*((LOG(P29))/LOG(2))))","v":0},null,null,{"$f":"N29","v":21221},{"$f":"COUNTIF(L7:L7,T29)","v":0},{"$f":"U29/(W4-U25)","v":0},{"$f":"IF(V29=0,0,(V29*((LOG(V29))/LOG(2))))","v":0},null,{"$f":"N29","v":21221},{"$f":"COUNTIF(L8:L8,Y29)","v":0},{"$f":"Z29/(AB4-Z25)","v":0},{"$f":"IF(AA29=0,0,(AA29*((LOG(AA29))/LOG(2))))","v":0},null,{"$f":"N29","v":21221},{"$f":"COUNTIF(L9:L9,AD29)","v":0},{"$f":"AE29/(AG4-AE25)","v":0},{"$f":"IF(AF29=0,0,(AF29*((LOG(AF29))/LOG(2))))","v":0},null,{"$f":"N29","v":21221},{"$f":"COUNTIF(L10:L10,AI29)","v":0},{"$f":"AJ29/(AL4-AJ25)","v":0},{"$f":"IF(AK29=0,0,(AK29*((LOG(AK29))/LOG(2))))","v":0},null,{"$f":"N29","v":21221},{"$f":"COUNTIF(L11:L11,AN29)","v":0},{"$f":"AO29/(AQ4-AO25)","v":0},{"$f":"IF(AP29=0,0,(AP29*((LOG(AP29))/LOG(2))))","v":0},null,{"$f":"N29","v":21221},{"$f":"COUNTIF(L12:L12,AS29)","v":0},{"$f":"AT29/(AV4-AT25)","v":{"$error":"#DIV/0!"}},{"$f":"IF(AU29=0,0,(AU29*((LOG(AU29))/LOG(2))))","v":{"$error":"#DIV/0!"}}]
[null,null,null,null,null,null,null,null,null,null,null,null,null,21222,{"$f":"COUNTIF($L$7:$L$500,N30)","v":0},{"$f":"O30/$Q$4","v":0},{"$f":"IF(P30=0,0,(P30*((LOG(P30))/LOG(2))))","v":0},null,null,{"$f":"N30","v":21222},{"$f":"COUNTIF(L7:L7,T30)","v":0},{"$f":"U30/(W4-U25)","v":0},{"$f":"IF(V30=0,0,(V30*((LOG(V30))/LOG(2))))","v":0},null,{"$f":"N30","v":21222},{"$f":"COUNTIF(L8:L8,Y30)","v":0},{"$f":"Z30/(AB4-Z25)","v":0},{"$f":"IF(AA30=0,0,(AA30*((LOG(AA30))/LOG(2))))","v":0},null,{"$f":"N30","v":21222},{"$f":"COUNTIF(L9:L9,AD30)","v":0},{"$f":"AE30/(AG4-AE25)","v":0},{"$f":"IF(AF30=0,0,(AF30*((LOG(AF30))/LOG(2))))","v":0},null,{"$f":"N30","v":21222},{"$f":"COUNTIF(L10:L10,AI30)","v":0},{"$f":"AJ30/(AL4-AJ25)","v":0},{"$f":"IF(AK30=0,0,(AK30*((LOG(AK30))/LOG(2))))","v":0},null,{"$f":"N30","v":21222},{"$f":"COUNTIF(L11:L11,AN30)","v":0},{"$f":"AO30/(AQ4-AO25)","v":0},{"$f":"IF(AP30=0,0,(AP30*((LOG(AP30))/LOG(2))))","v":0},null,{"$f":"N30","v":21222},{"$f":"COUNTIF(L12:L12,AS30)","v":0},{"$f":"AT30/(AV4-AT25)","v":{"$error":"#DIV/0!"}},{"$f":"IF(AU30=0,0,(AU30*((LOG(AU30))/LOG(2))))","v":{"$error":"#DIV/0!"}}]
[null,null,null,null,null,null,null,null,null,null,null,null,null,22111,{"$f":"COUNTIF($L$7:$L$500,N31)","v":0},{"$f":"O31/$Q$4","v":0},{"$f":"IF(P31=0,0,(P31*((LOG(P31))/LOG(2))))","v":0},null,null,{"$f":"N31","v":22111},{"$f":"COUNTIF(L7:L7,T31)","v":0},{"$f":"U31/(W4-U25)","v":0},{"$f":"IF(V31=0,0,(V31*((LOG(V31))/LOG(2))))","v":0},null,{"$f":"N31","v":22111},{"$f":"COUNTIF(L8:L8,Y31)","v":0},{"$f":"Z31/(AB4-Z25)","v":0},{"$f":"IF(AA31=0,0,(AA31*((LOG(AA31))/LOG(2))))","v":0},null,{"$f":"N31","v":22111},{"$f":"COUNTIF(L9:L9,AD31)","v":0},{"$f":"AE31/(AG4-AE25)","v":0},{"$f":"IF(AF31=0,0,(AF31*((LOG(AF31))/LOG(2))))","v":0},null,{"$f":"N31","v":22111},{"$f":"COUNTIF(L10:L10,AI31)","v":0},{"$f":"AJ31/(AL4-AJ25)","v":0},{"$f":"IF(AK31=0,0,(AK31*((LOG(AK31))/LOG(2))))","v":0},null,{"$f":"N31","v":22111},{"$f":"COUNTIF(L11:L11,AN31)","v":0},{"$f":"AO31/(AQ4-AO25)","v":0},{"$f":"IF(AP31=0,0,(AP31*((LOG(AP31))/LOG(2))))","v":0},null,{"$f":"N31","v":22111},{"$f":"COUNTIF(L12:L12,AS31)","v":0},{"$f":"AT31/(AV4-AT25)","v":{"$error":"#DIV/0!"}},{"$f":"IF(AU31=0,0,(AU31*((LOG(AU31))/LOG(2))))","v":{"$error":"#DIV/0!"}}]
[null,null,null,null,null,null,null,null,null,null,null,null,null,22112,{"$f":"COUNTIF($L$7:$L$500,N32)","v":0},{"$f":"O32/$Q$4","v":0},{"$f":"IF(P32=0,0,(P32*((LOG(P32))/LOG(2))))","v":0},null,null,{"$f":"N32","v":22112},{"$f":"COUNTIF(L7:L7,T32)","v":0},{"$f":"U32/(W4-U25)","v":0},{"$f":"IF(V32=0,0,(V32*((LOG(V32))/LOG(2))))","v":0},null,{"$f":"N32","v":22112},{"$f":"COUNTIF(L8:L8,Y32)","v":0},{"$f":"Z32/(AB4-Z25)","v":0},{"$f":"IF(AA32=0,0,(AA32*((LOG(AA32))/LOG(2))))","v":0},null,{"$f":"N32","v":22112},{"$f":"COUNTIF(L9:L9,AD32)","v":0},{"$f":"AE32/(AG4-AE25)","v":0},{"$f":"IF(AF32=0,0,(AF32*((LOG(AF32))/LOG(2))))","v":0},null,{"$f":"N32","v":22112},{"$f":"COUNTIF(L10:L10,AI32)","v":0},{"$f":"AJ32/(AL4-AJ25)","v":0},{"$f":"IF(AK32=0,0,(AK32*((LOG(AK32))/LOG(2))))","v":0},null,{"$f":"N32","v":22112},{"$f":"COUNTIF(L11:L11,AN32)","v":0},{"$f":"AO32/(AQ4-AO25)","v":0},{"$f":"IF(AP32=0,0,(AP32*((LOG(AP32))/LOG(2))))","v":0},null,{"$f":"N32","v":22112},{"$f":"COUNTIF(L12:L12,AS32)","v":0},{"$f":"AT32/(AV4-AT25)","v":{"$error":"#DIV/0!"}},{"$f":"IF(AU32=0,0,(AU32*((LOG(AU32))/LOG(2))))","v":{"$error":"#DIV/0!"}}]
[null,null,null,null,null,null,null,null,null,null,null,null,null,22121,{"$f":"COUNTIF($L$7:$L$500,N33)","v":0},{"$f":"O33/$Q$4","v":0},{"$f":"IF(P33=0,0,(P33*((LOG(P33))/LOG(2))))","v":0},null,null,{"$f":"N33","v":22121},{"$f":"COUNTIF(L7:L7,T33)","v":0},{"$f":"U33/(W4-U25)","v":0},{"$f":"IF(V33=0,0,(V33*((LOG(V33))/LOG(2))))","v":0},null,{"$f":"N33","v":22121},{"$f":"COUNTIF(L8:L8,Y33)","v":0},{"$f":"Z33/(AB4-Z25)","v":0},{"$f":"IF(AA33=0,0,(AA33*((LOG(AA33))/LOG(2))))","v":0},null,{"$f":"N33","v":22121},{"$f":"COUNTIF(L9:L9,AD33)","v":0},{"$f":"AE33/(AG4-AE25)","v":0},{"$f":"IF(AF33=0,0,(AF33*((LOG(AF33))/LOG(2))))","v":0},null,{"$f":"N33","v":22121},{"$f":"COUNTIF(L10:L10,AI33)","v":0},{"$f":"AJ33/(AL4-AJ25)","v":0},{"$f":"IF(AK33=0,0,(AK33*((LOG(AK33))/LOG(2))))","v":0},null,{"$f":"N33","v":22121},{"$f":"COUNTIF(L11:L11,AN33)","v":0},{"$f":"AO33/(AQ4-AO25)","v":0},{"$f":"IF(AP33=0,0,(AP33*((LOG(AP33))/LOG(2))))","v":0},null,{"$f":"N33","v":22121},{"$f":"COUNTIF(L12:L12,AS33)","v":0},{"$f":"AT33/(AV4-AT25)","v":{"$error":"#DIV/0!"}},{"$f":"IF(AU33=0,0,(AU33*((LOG(AU33))/LOG(2))))","v":{"$error":"#DIV/0!"}}]
[null,null,null,null,null,null,null,null,null,null,null,null,null,22122,{"$f":"COUNTIF($L$7:$L$500,N34)","v":0},{"$f":"O34/$Q$4","v":0},{"$f":"IF(P34=0,0,(P34*((LOG(P34))/LOG(2))))","v":0},null,null,{"$f":"N34","v":22122},{"$f":"COUNTIF(L7:L7,T34)","v":0},{"$f":"U34/(W4-U25)","v":0},{"$f":"IF(V34=0,0,(V34*((LOG(V34))/LOG(2))))","v":0},null,{"$f":"N34","v":22122},{"$f":"COUNTIF(L8:L8,Y34)","v":0},{"$f":"Z34/(AB4-Z25)","v":0},{"$f":"IF(AA34=0,0,(AA34*((LOG(AA34))/LOG(2))))","v":0},null,{"$f":"N34","v":22122},{"$f":"COUNTIF(L9:L9,AD34)","v":0},{"$f":"AE34/(AG4-AE25)","v":0},{"$f":"IF(AF34=0,0,(AF34*((LOG(AF34))/LOG(2))))","v":0},null,{"$f":"N34","v":22122},{"$f":"COUNTIF(L10:L10,AI34)","v":0},{"$f":"AJ34/(AL4-AJ25)","v":0},{"$f":"IF(AK34=0,0,(AK34*((LOG(AK34))/LOG(2))))","v":0},null,{"$f":"N34","v":22122},{"$f":"COUNTIF(L11:L11,AN34)","v":0},{"$f":"AO34/(AQ4-AO25)","v":0},{"$f":"IF(AP34=0,0,(AP34*((LOG(AP34))/LOG(2))))","v":0},null,{"$f":"N34","v":22122},{"$f":"COUNTIF(L12:L12,AS34)","v":0},{"$f":"AT34/(AV4-AT25)","v":{"$error":"#DIV/0!"}},{"$f":"IF(AU34=0,0,(AU34*((LOG(AU34))/LOG(2))))","v":{"$error":"#DIV/0!"}}]
[null,null,null,null,null,null,null,null,null,null,null,null,null,22211,{"$f":"COUNTIF($L$7:$L$500,N35)","v":0},{"$f":"O35/$Q$4","v":0},{"$f":"IF(P35=0,0,(P35*((LOG(P35))/LOG(2))))","v":0},null,null,{"$f":"N35","v":22211},{"$f":"COUNTIF(L7:L7,T35)","v":0},{"$f":"U35/(W4-U25)","v":0},{"$f":"IF(V35=0,0,(V35*((LOG(V35))/LOG(2))))","v":0},null,{"$f":"N35","v":22211},{"$f":"COUNTIF(L8:L8,Y35)","v":0},{"$f":"Z35/(AB4-Z25)","v":0},{"$f":"IF(AA35=0,0,(AA35*((LOG(AA35))/LOG(2))))","v":0},null,{"$f":"N35","v":22211},{"$f":"COUNTIF(L9:L9,AD35)","v":0},{"$f":"AE35/(AG4-AE25)","v":0},{"$f":"IF(AF35=0,0,(AF35*((LOG(AF35))/LOG(2))))","v":0},null,{"$f":"N35","v":22211},{"$f":"COUNTIF(L10:L10,AI35)","v":0},{"$f":"AJ35/(AL4-AJ25)","v":0},{"$f":"IF(AK35=0,0,(AK35*((LOG(AK35))/LOG(2))))","v":0},null,{"$f":"N35","v":22211},{"$f":"COUNTIF(L11:L11,AN35)","v":0},{"$f":"AO35/(AQ4-AO25)","v":0},{"$f":"IF(AP35=0,0,(AP35*((LOG(AP35))/LOG(2))))","v":0},null,{"$f":"N35","v":22211},{"$f":"COUNTIF(L12:L12,AS35)","v":0},{"$f":"AT35/(AV4-AT25)","v":{"$error":"#DIV/0!"}},{"$f":"IF(AU35=0,0,(AU35*((LOG(AU35))/LOG(2))))","v":{"$error":"#DIV/0!"}}]
[null,null,null,null,null,null,null,null,null,null,null,null,null,22212,{"$f":"COUNTIF($L$7:$L$500,N36)","v":0},{"$f":"O36/$Q$4","v":0},{"$f":"IF(P36=0,0,(P36*((LOG(P36))/LOG(2))))","v":0},null,null,{"$f":"N36","v":22212},{"$f":"COUNTIF(L7:L7,T36)","v":0},{"$f":"U36/(W4-U25)","v":0},{"$f":"IF(V36=0,0,(V36*((LOG(V36))/LOG(2))))","v":0},null,{"$f":"N36","v":22212},{"$f":"COUNTIF(L8:L8,Y36)","v":0},{"$f":"Z36/(AB4-Z25)","v":0},{"$f":"IF(AA36=0,0,(AA36*((LOG(AA36))/LOG(2))))","v":0},null,{"$f":"N36","v":22212},{"$f":"COUNTIF(L9:L9,AD36)","v":0},{"$f":"AE36/(AG4-AE25)","v":0},{"$f":"IF(AF36=0,0,(AF36*((LOG(AF36))/LOG(2))))","v":0},null,{"$f":"N36","v":22212},{"$f":"COUNTIF(L10:L10,AI36)","v":0},{"$f":"AJ36/(AL4-AJ25)","v":0},{"$f":"IF(AK36=0,0,(AK36*((LOG(AK36))/LOG(2))))","v":0},null,{"$f":"N36","v":22212},{"$f":"COUNTIF(L11:L11,AN36)","v":0},{"$f":"AO36/(AQ4-AO25)","v":0},{"$f":"IF(AP36=0,0,(AP36*((LOG(AP36))/LOG(2))))","v":0},null,{"$f":"N36","v":22212},{"$f":"COUNTIF(L12:L12,AS36)","v":0},{"$f":"AT36/(AV4-AT25)","v":{"$error":"#DIV/0!"}},{"$f":"IF(AU36=0,0,(AU36*((LOG(AU36))/LOG(2))))","v":{"$error":"#DIV/0!"}}]
[null,null,null,null,null,null,null,null,null,null,null,null,null,22221,{"$f":"COUNTIF($L$7:$L$500,N37)","v":0},{"$f":"O37/$Q$4","v":0},{"$f":"IF(P37=0,0,(P37*((LOG(P37))/LOG(2))))","v":0},null,null,{"$f":"N37","v":22221},{"$f":"COUNTIF(L7:L7,T37)","v":0},{"$f":"U37/(W4-U25)","v":0},{"$f":"IF(V37=0,0,(V37*((LOG(V37))/LOG(2))))","v":0},null,{"$f":"N37","v":22221},{"$f":"COUNTIF(L8:L8,Y37)","v":0},{"$f":"Z37/(AB4-Z25)","v":0},{"$f":"IF(AA37=0,0,(AA37*((LOG(AA37))/LOG(2))))","v":0},null,{"$f":"N37","v":22221},{"$f":"COUNTIF(L9:L9,AD37)","v":0},{"$f":"AE37/(AG4-AE25)","v":0},{"$f":"IF(AF37=0,0,(AF37*((LOG(AF37))/LOG(2))))","v":0},null,{"$f":"N37","v":22221},{"$f":"COUNTIF(L10:L10,AI37)","v":0},{"$f":"AJ37/(AL4-AJ25)","v":0},{"$f":"IF(AK37=0,0,(AK37*((LOG(AK37))/LOG(2))))","v":0},null,{"$f":"N37","v":22221},{"$f":"COUNTIF(L11:L11,AN37)","v":0},{"$f":"AO37/(AQ4-AO25)","v":0},{"$f":"IF(AP37=0,0,(AP37*((LOG(AP37))/LOG(2))))","v":0},null,{"$f":"N37","v":22221},{"$f":"COUNTIF(L12:L12,AS37)","v":0},{"$f":"AT37/(AV4-AT25)","v":{"$error":"#DIV/0!"}},{"$f":"IF(AU37=0,0,(AU37*((LOG(AU37))/LOG(2))))","v":{"$error":"#DIV/0!"}}]
[null,null,null,null,null,null,null,null,null,null,null,null,null,22222,{"$f":"COUNTIF($L$7:$L$500,N38)","v":3},{"$f":"O38/$Q$4","v":0.6},{"$f":"IF(P38=0,0,(P38*((LOG(P38))/LOG(2))))","v":-0.44217935649972373},null,null,{"$f":"N38","v":22222},{"$f":"COUNTIF(L7:L7,T38)","v":1},{"$f":"U38/(W4-U25)","v":1},{"$f":"IF(V38=0,0,(V38*((LOG(V38))/LOG(2))))","v":0},null,{"$f":"N38","v":22222},{"$f":"COUNTIF(L8:L8,Y38)","v":1},{"$f":"Z38/(AB4-Z25)","v":1},{"$f":"IF(AA38=0,0,(AA38*((LOG(AA38))/LOG(2))))","v":0},null,{"$f":"N38","v":22222},{"$f":"COUNTIF(L9:L9,AD38)","v":0},{"$f":"AE38/(AG4-AE25)","v":0},{"$f":"IF(AF38=0,0,(AF38*((LOG(AF38))/LOG(2))))","v":0},null,{"$f":"N38","v":22222},{"$f":"COUNTIF(L10:L10,AI38)","v":1},{"$f":"AJ38/(AL4-AJ25)","v":1},{"$f":"IF(AK38=0,0,(AK38*((LOG(AK38))/LOG(2))))","v":0},null,{"$f":"N38","v":22222},{"$f":"COUNTIF(L11:L11,AN38)","v":0},{"$f":"AO38/(AQ4-AO25)","v":0},{"$f":"IF(AP38=0,0,(AP38*((LOG(AP38))/LOG(2))))","v":0},null,{"$f":"N38","v":22222},{"$f":"COUNTIF(L12:L12,AS38)","v":0},{"$f":"AT38/(AV4-AT25)","v":{"$error":"#DIV/0!"}},{"$f":"IF(AU38=0,0,(AU38*((LOG(AU38))/LOG(2))))","v":{"$error":"#DIV/0!"}}]
[null,null,null,null,null,null,null,null,null,null,null,null,null,null,null,{"$f":"SUM(P7:P38)","v":1},{"$f":"-SUM(Q7:Q38)","v":1.3709505944546687},null,null,null,null,{"$f":"SUM(V7:V38)","v":1},{"$f":"-SUM(W7:W38)","v":0},null,null,null,{"$f":"SUM(AA7:AA38)","v":1},{"$f":"-SUM(AB7:AB38)","v":0},null,null,null,{"$f":"SUM(AF7:AF38)","v":1},{"$f":"-SUM(AG7:AG38)","v":0},null,null,null,{"$f":"SUM(AK7:AK38)","v":1},{"$f":"-SUM(AL7:AL38)","v":0},null,null,null,{"$f":"SUM(AP7:AP38)","v":1},{"$f":"-SUM(AQ7:AQ38)","v":0},null,null,null,{"$f":"SUM(AU7:AU38)","v":{"$error":"#DIV/0!"}},{"$f":"-SUM(AV7:AV38)","v":{"$error":"#DIV/0!"}}]
[null,null,null,null,null,null,null,null,null,null,null,null,null,null,null,"U=",{"$f":"Q39/(LOG(Q4)/LOG(2))","v":0.5904362833084088},null,null,null,null,"U1=",{"$f":"W39/(LOG(W4)/LOG(2))","v":{"$error":"#DIV/0!"}},null,null,null,"U2=",{"$f":"AB39/(LOG(AB4)/LOG(2))","v":{"$error":"#DIV/0!"}},null,null,null,"U3=",{"$f":"AG39/(LOG(AG4)/LOG(2))","v":{"$error":"#DIV/0!"}},null,null,null,"U4=",{"$f":"AL39/(LOG(AL4)/LOG(2))","v":{"$error":"#DIV/0!"}},null,null,null,"U5=",{"$f":"AQ39/(LOG(AQ4)/LOG(2))","v":{"$error":"#DIV/0!"}},null,null,null,"U6=",{"$f":"AV39/(LOG(AV4)/LOG(2))","v":{"$error":"#DIV/0!"}}]
[]
[]
[null,null,null,null,null,null,null,null,null,null,null,null,null,"Total Target Seq"]
[null,null,null,null,null,null,null,null,null,null,null,null,null,{"$f":"COUNTIF(L7:L12,G3)","v":0},null,1,1,1,1,1,1]
[null,null,null,null,null,null,null,null,null,null,null,null,null,null,null,"% of reinforcement given in 6 equal intervals based on number of trials "]
[null,null,null,null,null,null,null,null,null,null,null,null,null,null,null,"%_1","%_2","%_3","%_4","%_5","%_6"]
[null,null,null,null,null,null,null,null,null,null,null,null,null,null,"target sequence",{"$f":"$G$3","v":21121},{"$f":"$G$3","v":21121},{"$f":"$G$3","v":21121},{"$f":"$G$3","v":21121},{"$f":"$G$3","v":21121},{"$f":"$G$3","v":21121}]
[null,null,null,null,null,null,null,null,null,null,null,null,null,null,"total reinforcement",{"$f":"U25","v":0},{"$f":"Z25","v":0},{"$f":"AE25","v":0},{"$f":"AJ25","v":0},{"$f":"AO25","v":0},{"$f":"AT25","v":0}]
[null,null,null,null,null,null,null,null,null,null,null,null,null,null,"% target"]
[null,null,null,null,null,null,null,null,null,null,null,null,null,null,"CCRF"]
[null,null,null,null,null,null,null,null,null,null,null,null,null,null,"% CCRf"]
[null,null,null,null,null,null,null,null,null,null,null,null,null,null,"average response rate",{"$f":"J7/P44","v":580},{"$f":"(J8-J7)/Q44","v":342},{"$f":"(J9-J8)/R44","v":15475},{"$f":"(J10-J9)/S44","v":403},{"$f":"(J11-J10)/T44","v":278},{"$f":"(J12-J11)/U44","v":-17078}]

{"sheet":"!N123B00.105","index":24,"n_rows":52,"n_cols":48,"rows_kept":52,"cut":false,"hidden":false,"merged":[[4,39,4,42],[5,39,5,40],[4,44,4,47],[5,44,5,45],[4,24,4,27],[5,24,5,25],[4,29,4,32],[5,29,5,30],[4,34,4,37],[5,34,5,35],[1,1,1,2],[5,13,5,14],[42,13,42,14],[43,13,43,14],[4,19,4,22],[5,19,5,20]]}
["Report for:!N123B00.105"]
["Date:","<date>"]
["Hen:","<hen>",null,null,null,"Correct Sequence",{"$f":"Start!J2","v":21121},null,null,null,null,null,null,null,null,"Total Sequences in Data",{"$f":"4994-COUNTBLANK(L7:L5000)","v":14},null,null,null,null,"Total Sequences in Block Data",{"$f":"COUNTA(L7:L8)","v":2},null,null,null,"Total Sequences in Block Data",{"$f":"COUNTA(L9:L11)","v":3},null,null,null,"Total Sequences in Block Data",{"$f":"COUNTA(L12:L13)","v":2},null,null,null,"Total Sequences in Block Data",{"$f":"COUNTA(L14:L15)","v":2},null,null,null,"Total Sequences in Block Data",{"$f":"COUNTA(L16:L18)","v":3},null,null,null,"Total Sequences in Block Data",{"$f":"COUNTA(L19:L20)","v":2}]
[null,null,null,null,null,null,null,null,null,null,null,null,null,null,null,"Total Sequences in Summary",{"$f":"SUM(O7:O38)","v":13},null,null,null,null,"Total Sequences in Block Summary",{"$f":"SUM(U7:U38)","v":2},null,null,null,"Total Sequences in Block Summary",{"$f":"SUM(Z7:Z38)","v":3},null,null,null,"Total Sequences in Block Summary",{"$f":"SUM(AE7:AE38)","v":2},null,null,null,"Total Sequences in Block Summary",{"$f":"SUM(AJ7:AJ38)","v":2},null,null,null,"Total Sequences in Block Summary",{"$f":"SUM(AO7:AO38)","v":3},null,null,null,"Total Sequences in Block Summary",{"$f":"SUM(AT7:AT38)","v":1}]
[null,null,null,null,null,null,null,null,null,null,null,null,null,null,null,null,null,null,null,"Block 1",null,null,null,null,"Block 2",null,null,null,null,"Block 3",null,null,null,null,"Block 4",null,null,null,null,"Block 5",null,null,null,null,"Block 6"]
["Sequence\nComponent\n1","Time\n1","Sequence\nComponent\n2","Time\n2","Sequence\nComponent\n3","Time\n3","Sequence\nComponent\n4","Time\n4","Sequence\nComponent\n5","Time\n5","Correct?\n0=No 1=Yes","Sequence",null,"Frequency",null,"Relative Frequency","Variability",null,null,"Frequency",null,"Relative Frequency","Variability",null,"Frequency",null,"Relative Frequency","Variability",null,"Frequency",null,"Relative Frequency","Variability",null,"Frequency",null,"Relative Frequency","Variability",null,"Frequency",null,"Relative Frequency","Variability",null,"Frequency",null,"Relative Frequency","Variability"]
[21,11,22,45,24,59,23,72,13,82,0,22221,null,11111,{"$f":"COUNTIF($L$7:$L$500,N7)","v":6},{"$f":"O7/$Q$4","v":0.46153846153846156},{"$f":"IF(P7=0,0,(P7*((LOG(P7))/LOG(2))))","v":-0.51483563880920125},null,null,{"$f":"N7","v":11111},{"$f":"COUNTIF(L7:L8,T7)","v":0},{"$f":"U7/(W4-U25)","v":0},{"$f":"IF(V7=0,0,(V7*((LOG(V7))/LOG(2))))","v":0},null,{"$f":"N7","v":11111},{"$f":"COUNTIF(L9:L11,Y7)","v":0},{"$f":"Z7/(AB4-Z25)","v":0},{"$f":"IF(AA7=0,0,(AA7*((LOG(AA7))/LOG(2))))","v":0},null,{"$f":"N7","v":11111},{"$f":"COUNTIF(L12:L13,AD7)","v":0},{"$f":"AE7/(AG4-AE25)","v":0},{"$f":"IF(AF7=0,0,(AF7*((LOG(AF7))/LOG(2))))","v":0},null,{"$f":"N7","v":11111},{"$f":"COUNTIF(L14:L15,AI7)","v":2},{"$f":"AJ7/(AL4-AJ25)","v":1},{"$f":"IF(AK7=0,0,(AK7*((LOG(AK7))/LOG(2))))","v":0},null,{"$f":"N7","v":11111},{"$f":"COUNTIF(L16:L18,AN7)","v":3},{"$f":"AO7/(AQ4-AO25)","v":1},{"$f":"IF(AP7=0,0,(AP7*((LOG(AP7))/LOG(2))))","v":0},null,{"$f":"N7","v":11111},{"$f":"COUNTIF(L19:L20,AS7)","v":1},{"$f":"AT7/(AV4-AT25)","v":1},{"$f":"IF(AU7=0,0,(AU7*((LOG(AU7))/LOG(2))))","v":0}]
[21,204,22,218,24,240,23,260,13,274,0,22221,null,11112,{"$f":"COUNTIF($L$7:$L$500,N8)","v":0},{"$f":"O8/$Q$4","v":0},{"$f":"IF(P8=0,0,(P8*((LOG(P8))/LOG(2))))","v":0},null,null,{"$f":"N8","v":11112},{"$f":"COUNTIF(L7:L8,T8)","v":0},{"$f":"U8/(W4-U25)","v":0},{"$f":"IF(V8=0,0,(V8*((LOG(V8))/LOG(2))))","v":0},null,{"$f":"N8","v":11112},{"$f":"COUNTIF(L9:L11,Y8)","v":0},{"$f":"Z8/(AB4-Z25)","v":0},{"$f":"IF(AA8=0,0,(AA8*((LOG(AA8))/LOG(2))))","v":0},null,{"$f":"N8","v":11112},{"$f":"COUNTIF(L12:L13,AD8)","v":0},{"$f":"AE8/(AG4-AE25)","v":0},{"$f":"IF(AF8=0,0,(AF8*((LOG(AF8))/LOG(2))))","v":0},null,{"$f":"N8","v":11112},{"$f":"COUNTIF(L14:L15,AI8)","v":0},{"$f":"AJ8/(AL4-AJ25)","v":0},{"$f":"IF(AK8=0,0,(AK8*((LOG(AK8))/LOG(2))))","v":0},null,{"$f":"N8","v":11112},{"$f":"COUNTIF(L16:L18,AN8)","v":0},{"$f":"AO8/(AQ4-AO25)","v":0},{"$f":"IF(AP8=0,0,(AP8*((LOG(AP8))/LOG(2))))","v":0},null,{"$f":"N8","v":11112},{"$f":"COUNTIF(L19:L20,AS8)","v":0},{"$f":"AT8/(AV4-AT25)","v":0},{"$f":"IF(AU8=0,0,(AU8*((LOG(AU8))/LOG(2))))","v":0}]
[12,384,24,395,24,407,23,431,13,446,0,12221,null,11121,{"$f":"COUNTIF($L$7:$L$500,N9)","v":0},{"$f":"O9/$Q$4","v":0},{"$f":"IF(P9=0,0,(P9*((LOG(P9))/LOG(2))))","v":0},null,null,{"$f":"N9","v":11121},{"$f":"COUNTIF(L7:L8,T9)","v":0},{"$f":"U9/(W4-U25)","v":0},{"$f":"IF(V9=0,0,(V9*((LOG(V9))/LOG(2))))","v":0},null,{"$f":"N9","v":11121},{"$f":"COUNTIF(L9:L11,Y9)","v":0},{"$f":"Z9/(AB4-Z25)","v":0},{"$f":"IF(AA9=0,0,(AA9*((LOG(AA9))/LOG(2))))","v":0},null,{"$f":"N9","v":11121},{"$f":"COUNTIF(L12:L13,AD9)","v":0},{"$f":"AE9/(AG4-AE25)","v":0},{"$f":"IF(AF9=0,0,(AF9*((LOG(AF9))/LOG(2))))","v":0},null,{"$f":"N9","v":11121},{"$f":"COUNTIF(L14:L15,AI9)","v":0},{"$f":"AJ9/(AL4-AJ25)","v":0},{"$f":"IF(AK9=0,0,(AK9*((LOG(AK9))/LOG(2))))","v":0},null,{"$f":"N9","v":11121},{"$f":"COUNTIF(L16:L18,AN9)","v":0},{"$f":"AO9/(AQ4-AO25)","v":0},{"$f":"IF(AP9=0,0,(AP9*((LOG(AP9))/LOG(2))))","v":0},null,{"$f":"N9","v":11121},{"$f":"COUNTIF(L19:L20,AS9)","v":0},{"$f":"AT9/(AV4-AT25)","v":0},{"$f":"IF(AU9=0,0,(AU9*((LOG(AU9))/LOG(2))))","v":0}]
[12,559,24,569,13,581,23,591,24,617,0,12122,null,11122,{"$f":"COUNTIF($L$7:$L$500,N10)","v":0},{"$f":"O10/$Q$4","v":0},{"$f":"IF(P10=0,0,(P10*((LOG(P10))/LOG(2))))","v":0},null,null,{"$f":"N10","v":11122},{"$f":"COUNTIF(L7:L8,T10)","v":0},{"$f":"U10/(W4-U25)","v":0},{"$f":"IF(V10=0,0,(V10*((LOG(V10))/LOG(2))))","v":0},null,{"$f":"N10","v":11122},{"$f":"COUNTIF(L9:L11,Y10)","v":0},{"$f":"Z10/(AB4-Z25)","v":0},{"$f":"IF(AA10=0,0,(AA10*((LOG(AA10))/LOG(2))))","v":0},null,{"$f":"N10","v":11122},{"$f":"COUNTIF(L12:L13,AD10)","v":0},{"$f":"AE10/(AG4-AE25)","v":0},{"$f":"IF(AF10=0,0,(AF10*((LOG(AF10))/LOG(2))))","v":0},null,{"$f":"N10","v":11122},{"$f":"COUNTIF(L14:L15,AI10)","v":0},{"$f":"AJ10/(AL4-AJ25)","v":0},{"$f":"IF(AK10=0,0,(AK10*((LOG(AK10))/LOG(2))))","v":0},null,{"$f":"N10","v":11122},{"$f":"COUNTIF(L16:L18,AN10)","v":0},{"$f":"AO10/(AQ4-AO25)","v":0},{"$f":"IF(AP10=0,0,(AP10*((LOG(AP10))/LOG(2))))","v":0},null,{"$f":"N10","v":11122},{"$f":"COUNTIF(L19:L20,AS10)","v":0},{"$f":"AT10/(AV4-AT25)","v":0},{"$f":"IF(AU10=0,0,(AU10*((LOG(AU10))/LOG(2))))","v":0}]
[21,751,22,762,24,774,14,784,24,792,0,22212,null,11211,{"$f":"COUNTIF($L$7:$L$500,N11)","v":0},{"$f":"O11/$Q$4","v":0},{"$f":"IF(P11=0,0,(P11*((LOG(P11))/LOG(2))))","v":0},null,null,{"$f":"N11","v":11211},{"$f":"COUNTIF(L7:L8,T11)","v":0},{"$f":"U11/(W4-U25)","v":0},{"$f":"IF(V11=0,0,(V11*((LOG(V11))/LOG(2))))","v":0},null,{"$f":"N11","v":11211},{"$f":"COUNTIF(L9:L11,Y11)","v":0},{"$f":"Z11/(AB4-Z25)","v":0},{"$f":"IF(AA11=0,0,(AA11*((LOG(AA11))/LOG(2))))","v":0},null,{"$f":"N11","v":11211},{"$f":"COUNTIF(L12:L13,AD11)","v":0},{"$f":"AE11/(AG4-AE25)","v":0},{"$f":"IF(AF11=0,0,(AF11*((LOG(AF11))/LOG(2))))","v":0},null,{"$f":"N11","v":11211},{"$f":"COUNTIF(L14:L15,AI11)","v":0},{"$f":"AJ11/(AL4-AJ25)","v":0},{"$f":"IF(AK11=0,0,(AK11*((LOG(AK11))/LOG(2))))","v":0},null,{"$f":"N11","v":11211},{"$f":"COUNTIF(L16:L18,AN11)","v":0},{"$f":"AO11/(AQ4-AO25)","v":0},{"$f":"IF(AP11=0,0,(AP11*((LOG(AP11))/LOG(2))))","v":0},null,{"$f":"N11","v":11211},{"$f":"COUNTIF(L19:L20,AS11)","v":0},{"$f":"AT11/(AV4-AT25)","v":0},{"$f":"IF(AU11=0,0,(AU11*((LOG(AU11))/LOG(2))))","v":0}]
[21,984,22,998,13,1018,23,1027,13,1043,0,22121,null,11212,{"$f":"COUNTIF($L$7:$L$500,N12)","v":0},{"$f":"O12/$Q$4","v":0},{"$f":"IF(P12=0,0,(P12*((LOG(P12))/LOG(2))))","v":0},null,null,{"$f":"N12","v":11212},{"$f":"COUNTIF(L7:L8,T12)","v":0},{"$f":"U12/(W4-U25)","v":0},{"$f":"IF(V12=0,0,(V12*((LOG(V12))/LOG(2))))","v":0},null,{"$f":"N12","v":11212},{"$f":"COUNTIF(L9:L11,Y12)","v":0},{"$f":"Z12/(AB4-Z25)","v":0},{"$f":"IF(AA12=0,0,(AA12*((LOG(AA12))/LOG(2))))","v":0},null,{"$f":"N12","v":11212},{"$f":"COUNTIF(L12:L13,AD12)","v":0},{"$f":"AE12/(AG4-AE25)","v":0},{"$f":"IF(AF12=0,0,(AF12*((LOG(AF12))/LOG(2))))","v":0},null,{"$f":"N12","v":11212},{"$f":"COUNTIF(L14:L15,AI12)","v":0},{"$f":"AJ12/(AL4-AJ25)","v":0},{"$f":"IF(AK12=0,0,(AK12*((LOG(AK12))/LOG(2))))","v":0},null,{"$f":"N12","v":11212},{"$f":"COUNTIF(L16:L18,AN12)","v":0},{"$f":"AO12/(AQ4-AO25)","v":0},{"$f":"IF(AP12=0,0,(AP12*((LOG(AP12))/LOG(2))))","v":0},null,{"$f":"N12","v":11212},{"$f":"COUNTIF(L19:L20,AS12)","v":0},{"$f":"AT12/(AV4-AT25)","v":0},{"$f":"IF(AU12=0,0,(AU12*((LOG(AU12))/LOG(2))))","v":0}]
[12,1178,13,1200,24,1210,23,1242,13,1256,0,11221,null,11221,{"$f":"COUNTIF($L$7:$L$500,N13)","v":1},{"$f":"O13/$Q$4","v":7.6923076923076927E-2},{"$f":"IF(P13=0,0,(P13*((LOG(P13))/LOG(2))))","v":-0.28464920908777636},null,null,{"$f":"N13","v":11221},{"$f":"COUNTIF(L7:L8,T13)","v":0},{"$f":"U13/(W4-U25)","v":0},{"$f":"IF(V13=0,0,(V13*((LOG(V13))/LOG(2))))","v":0},null,{"$f":"N13","v":11221},{"$f":"COUNTIF(L9:L11,Y13)","v":0},{"$f":"Z13/(AB4-Z25)","v":0},{"$f":"IF(AA13=0,0,(AA13*((LOG(AA13))/LOG(2))))","v":0},null,{"$f":"N13","v":11221},{"$f":"COUNTIF(L12:L13,AD13)","v":1},{"$f":"AE13/(AG4-AE25)","v":0.5},{"$f":"IF(AF13=0,0,(AF13*((LOG(AF13))/LOG(2))))","v":-0.5},null,{"$f":"N13","v":11221},{"$f":"COUNTIF(L14:L15,AI13)","v":0},{"$f":"AJ13/(AL4-AJ25)","v":0},{"$f":"IF(AK13=0,0,(AK13*((LOG(AK13))/LOG(2))))","v":0},null,{"$f":"N13","v":11221},{"$f":"COUNTIF(L16:L18,AN13)","v":0},{"$f":"AO13/(AQ4-AO25)","v":0},{"$f":"IF(AP13=0,0,(AP13*((LOG(AP13))/LOG(2))))","v":0},null,{"$f":"N13","v":11221},{"$f":"COUNTIF(L19:L20,AS13)","v":0},{"$f":"AT13/(AV4-AT25)","v":0},{"$f":"IF(AU13=0,0,(AU13*((LOG(AU13))/LOG(2))))","v":0}]
[12,1674,13,1687,13,1700,14,1711,13,1727,0,11111,null,11222,{"$f":"COUNTIF($L$7:$L$500,N14)","v":0},{"$f":"O14/$Q$4","v":0},{"$f":"IF(P14=0,0,(P14*((LOG(P14))/LOG(2))))","v":0},null,null,{"$f":"N14","v":11222},{"$f":"COUNTIF(L7:L8,T14)","v":0},{"$f":"U14/(W4-U25)","v":0},{"$f":"IF(V14=0,0,(V14*((LOG(V14))/LOG(2))))","v":0},null,{"$f":"N14","v":11222},{"$f":"COUNTIF(L9:L11,Y14)","v":0},{"$f":"Z14/(AB4-Z25)","v":0},{"$f":"IF(AA14=0,0,(AA14*((LOG(AA14))/LOG(2))))","v":0},null,{"$f":"N14","v":11222},{"$f":"COUNTIF(L12:L13,AD14)","v":0},{"$f":"AE14/(AG4-AE25)","v":0},{"$f":"IF(AF14=0,0,(AF14*((LOG(AF14))/LOG(2))))","v":0},null,{"$f":"N14","v":11222},{"$f":"COUNTIF(L14:L15,AI14)","v":0},{"$f":"AJ14/(AL4-AJ25)","v":0},{"$f":"IF(AK14=0,0,(AK14*((LOG(AK14))/LOG(2))))","v":0},null,{"$f":"N14","v":11222},{"$f":"COUNTIF(L16:L18,AN14)","v":0},{"$f":"AO14/(AQ4-AO25)","v":0},{"$f":"IF(AP14=0,0,(AP14*((LOG(AP14))/LOG(2))))","v":0},null,{"$f":"N14","v":11222},{"$f":"COUNTIF(L19:L20,AS14)","v":0},{"$f":"AT14/(AV4-AT25)","v":0},{"$f":"IF(AU14=0,0,(AU14*((LOG(AU14))/LOG(2))))","v":0}]
[12,1866,13,1885,13,1897,14,1921,13,1933,0,11111,null,12111,{"$f":"COUNTIF($L$7:$L$500,N15)","v":0},{"$f":"O15/$Q$4","v":0},{"$f":"IF(P15=0,0,(P15*((LOG(P15))/LOG(2))))","v":0},null,null,{"$f":"N15","v":12111},{"$f":"COUNTIF(L7:L8,T15)","v":0},{"$f":"U15/(W4-U25)","v":0},{"$f":"IF(V15=0,0,(V15*((LOG(V15))/LOG(2))))","v":0},null,{"$f":"N15","v":12111},{"$f":"COUNTIF(L9:L11,Y15)","v":0},{"$f":"Z15/(AB4-Z25)","v":0},{"$f":"IF(AA15=0,0,(AA15*((LOG(AA15))/LOG(2))))","v":0},null,{"$f":"N15","v":12111},{"$f":"COUNTIF(L12:L13,AD15)","v":0},{"$f":"AE15/(AG4-AE25)","v":0},{"$f":"IF(AF15=0,0,(AF15*((LOG(AF15))/LOG(2))))","v":0},null,{"$f":"N15","v":12111},{"$f":"COUNTIF(L14:L15,AI15)","v":0},{"$f":"AJ15/(AL4-AJ25)","v":0},{"$f":"IF(AK15=0,0,(AK15*((LOG(AK15))/LOG(2))))","v":0},null,{"$f":"N15","v":12111},{"$f":"COUNTIF(L16:L18,AN15)","v":0},{"$f":"AO15/(AQ4-AO25)","v":0},{"$f":"IF(AP15=0,0,(AP15*((LOG(AP15))/LOG(2))))","v":0},null,{"$f":"N15","v":12111},{"$f":"COUNTIF(L19:L20,AS15)","v":0},{"$f":"AT15/(AV4-AT25)","v":0},{"$f":"IF(AU15=0,0,(AU15*((LOG(AU15))/LOG(2))))","v":0}]
[12,2188,13,2204,13,2217,14,2231,13,2244,0,11111,null,12112,{"$f":"COUNTIF($L$7:$L$500,N16)","v":0},{"$f":"O16/$Q$4","v":0},{"$f":"IF(P16=0,0,(P16*((LOG(P16))/LOG(2))))","v":0},null,null,{"$f":"N16","v":12112},{"$f":"COUNTIF(L7:L8,T16)","v":0},{"$f":"U16/(W4-U25)","v":0},{"$f":"IF(V16=0,0,(V16*((LOG(V16))/LOG(2))))","v":0},null,{"$f":"N16","v":12112},{"$f":"COUNTIF(L9:L11,Y16)","v":0},{"$f":"Z16/(AB4-Z25)","v":0},{"$f":"IF(AA16=0,0,(AA16*((LOG(AA16))/LOG(2))))","v":0},null,{"$f":"N16","v":12112},{"$f":"COUNTIF(L12:L13,AD16)","v":0},{"$f":"AE16/(AG4-AE25)","v":0},{"$f":"IF(AF16=0,0,(AF16*((LOG(AF16))/LOG(2))))","v":0},null,{"$f":"N16","v":12112},{"$f":"COUNTIF(L14:L15,AI16)","v":0},{"$f":"AJ16/(AL4-AJ25)","v":0},{"$f":"IF(AK16=0,0,(AK16*((LOG(AK16))/LOG(2))))","v":0},null,{"$f":"N16","v":12112},{"$f":"COUNTIF(L16:L18,AN16)","v":0},{"$f":"AO16/(AQ4-AO25)","v":0},{"$f":"IF(AP16=0,0,(AP16*((LOG(AP16))/LOG(2))))","v":0},null,{"$f":"N16","v":12112},{"$f":"COUNTIF(L19:L20,AS16)","v":0},{"$f":"AT16/(AV4-AT25)","v":0},{"$f":"IF(AU16=0,0,(AU16*((LOG(AU16))/LOG(2))))","v":0}]
[12,2906,13,2921,13,2932,14,2944,13,2958,0,11111,null,12121,{"$f":"COUNTIF($L$7:$L$500,N17)","v":0},{"$f":"O17/$Q$4","v":0},{"$f":"IF(P17=0,0,(P17*((LOG(P17))/LOG(2))))","v":0},null,null,{"$f":"N17","v":12121},{"$f":"COUNTIF(L7:L8,T17)","v":0},{"$f":"U17/(W4-U25)","v":0},{"$f":"IF(V17=0,0,(V17*((LOG(V17))/LOG(2))))","v":0},null,{"$f":"N17","v":12121},{"$f":"COUNTIF(L9:L11,Y17)","v":0},{"$f":"Z17/(AB4-Z25)","v":0},{"$f":"IF(AA17=0,0,(AA17*((LOG(AA17))/LOG(2))))","v":0},null,{"$f":"N17","v":12121},{"$f":"COUNTIF(L12:L13,AD17)","v":0},{"$f":"AE17/(AG4-AE25)","v":0},{"$f":"IF(AF17=0,0,(AF17*((LOG(AF17))/LOG(2))))","v":0},null,{"$f":"N17","v":12121},{"$f":"COUNTIF(L14:L15,AI17)","v":0},{"$f":"AJ17/(AL4-AJ25)","v":0},{"$f":"IF(AK17=0,0,(AK17*((LOG(AK17))/LOG(2))))","v":0},null,{"$f":"N17","v":12121},{"$f":"COUNTIF(L16:L18,AN17)","v":0},{"$f":"AO17/(AQ4-AO25)","v":0},{"$f":"IF(AP17=0,0,(AP17*((LOG(AP17))/LOG(2))))","v":0},null,{"$f":"N17","v":12121},{"$f":"COUNTIF(L19:L20,AS17)","v":0},{"$f":"AT17/(AV4-AT25)","v":0},{"$f":"IF(AU17=0,0,(AU17*((LOG(AU17))/LOG(2))))","v":0}]
[12,3293,13,5037,13,5048,14,5060,13,5071,0,11111,null,12122,{"$f":"COUNTIF($L$7:$L$500,N18)","v":1},{"$f":"O18/$Q$4","v":7.6923076923076927E-2},{"$f":"IF(P18=0,0,(P18*((LOG(P18))/LOG(2))))","v":-0.28464920908777636},null,null,{"$f":"N18","v":12122},{"$f":"COUNTIF(L7:L8,T18)","v":0},{"$f":"U18/(W4-U25)","v":0},{"$f":"IF(V18=0,0,(V18*((LOG(V18))/LOG(2))))","v":0},null,{"$f":"N18","v":12122},{"$f":"COUNTIF(L9:L11,Y18)","v":1},{"$f":"Z18/(AB4-Z25)","v":0.33333333333333331},{"$f":"IF(AA18=0,0,(AA18*((LOG(AA18))/LOG(2))))","v":-0.52832083357371862},null,{"$f":"N18","v":12122},{"$f":"COUNTIF(L12:L13,AD18)","v":0},{"$f":"AE18/(AG4-AE25)","v":0},{"$f":"IF(AF18=0,0,(AF18*((LOG(AF18))/LOG(2))))","v":0},null,{"$f":"N18","v":12122},{"$f":"COUNTIF(L14:L15,AI18)","v":0},{"$f":"AJ18/(AL4-AJ25)","v":0},{"$f":"IF(AK18=0,0,(AK18*((LOG(AK18))/LOG(2))))","v":0},null,{"$f":"N18","v":12122},{"$f":"COUNTIF(L16:L18,AN18)","v":0},{"$f":"AO18/(AQ4-AO25)","v":0},{"$f":"IF(AP18=0,0,(AP18*((LOG(AP18))/LOG(2))))","v":0},null,{"$f":"N18","v":12122},{"$f":"COUNTIF(L19:L20,AS18)","v":0},{"$f":"AT18/(AV4-AT25)","v":0},{"$f":"IF(AU18=0,0,(AU18*((LOG(AU18))/LOG(2))))","v":0}]
[12,5574,13,5585,13,5596,14,6393,13,11124,0,11111,null,12211,{"$f":"COUNTIF($L$7:$L$500,N19)","v":0},{"$f":"O19/$Q$4","v":0},{"$f":"IF(P19=0,0,(P19*((LOG(P19))/LOG(2))))","v":0},null,null,{"$f":"N19","v":12211},{"$f":"COUNTIF(L7:L8,T19)","v":0},{"$f":"U19/(W4-U25)","v":0},{"$f":"IF(V19=0,0,(V19*((LOG(V19))/LOG(2))))","v":0},null,{"$f":"N19","v":12211},{"$f":"COUNTIF(L9:L11,Y19)","v":0},{"$f":"Z19/(AB4-Z25)","v":0},{"$f":"IF(AA19=0,0,(AA19*((LOG(AA19))/LOG(2))))","v":0},null,{"$f":"N19","v":12211},{"$f":"COUNTIF(L12:L13,AD19)","v":0},{"$f":"AE19/(AG4-AE25)","v":0},{"$f":"IF(AF19=0,0,(AF19*((LOG(AF19))/LOG(2))))","v":0},null,{"$f":"N19","v":12211},{"$f":"COUNTIF(L14:L15,AI19)","v":0},{"$f":"AJ19/(AL4-AJ25)","v":0},{"$f":"IF(AK19=0,0,(AK19*((LOG(AK19))/LOG(2))))","v":0},null,{"$f":"N19","v":12211},{"$f":"COUNTIF(L16:L18,AN19)","v":0},{"$f":"AO19/(AQ4-AO25)","v":0},{"$f":"IF(AP19=0,0,(AP19*((LOG(AP19))/LOG(2))))","v":0},null,{"$f":"N19","v":12211},{"$f":"COUNTIF(L19:L20,AS19)","v":0},{"$f":"AT19/(AV4-AT25)","v":0},{"$f":"IF(AU19=0,0,(AU19*((LOG(AU19))/LOG(2))))","v":0}]
[12,12332,13,12345,13,12358,14,12424,null,null,null,1111,null,12212,{"$f":"COUNTIF($L$7:$L$500,N20)","v":0},{"$f":"O20/$Q$4","v":0},{"$f":"IF(P20=0,0,(P20*((LOG(P20))/LOG(2))))","v":0},null,null,{"$f":"N20","v":12212},{"$f":"COUNTIF(L7:L8,T20)","v":0},{"$f":"U20/(W4-U25)","v":0},{"$f":"IF(V20=0,0,(V20*((LOG(V20))/LOG(2))))","v":0},null,{"$f":"N20","v":12212},{"$f":"COUNTIF(L9:L11,Y20)","v":0},{"$f":"Z20/(AB4-Z25)","v":0},{"$f":"IF(AA20=0,0,(AA20*((LOG(AA20))/LOG(2))))","v":0},null,{"$f":"N20","v":12212},{"$f":"COUNTIF(L12:L13,AD20)","v":0},{"$f":"AE20/(AG4-AE25)","v":0},{"$f":"IF(AF20=0,0,(AF20*((LOG(AF20))/LOG(2))))","v":0},null,{"$f":"N20","v":12212},{"$f":"COUNTIF(L14:L15,AI20)","v":0},{"$f":"AJ20/(AL4-AJ25)","v":0},{"$f":"IF(AK20=0,0,(AK20*((LOG(AK20))/LOG(2))))","v":0},null,{"$f":"N20","v":12212},{"$f":"COUNTIF(L16:L18,AN20)","v":0},{"$f":"AO20/(AQ4-AO25)","v":0},{"$f":"IF(AP20=0,0,(AP20*((LOG(AP20))/LOG(2))))","v":0},null,{"$f":"N20","v":12212},{"$f":"COUNTIF(L19:L20,AS20)","v":0},{"$f":"AT20/(AV4-AT25)","v":0},{"$f":"IF(AU20=0,0,(AU20*((LOG(AU20))/LOG(2))))","v":0}]
[null,null,null,null,null,null,null,null,null,null,null,null,null,12221,{"$f":"COUNTIF($L$7:$L$500,N21)","v":1},{"$f":"O21/$Q$4","v":7.6923076923076927E-2},{"$f":"IF(P21=0,0,(P21*((LOG(P21))/LOG(2))))","v":-0.28464920908777636},null,null,{"$f":"N21","v":12221},{"$f":"COUNTIF(L7:L8,T21)","v":0},{"$f":"U21/(W4-U25)","v":0},{"$f":"IF(V21=0,0,(V21*((LOG(V21))/LOG(2))))","v":0},null,{"$f":"N21","v":12221},{"$f":"COUNTIF(L9:L11,Y21)","v":1},{"$f":"Z21/(AB4-Z25)","v":0.33333333333333331},{"$f":"IF(AA21=0,0,(AA21*((LOG(AA21))/LOG(2))))","v":-0.52832083357371862},null,{"$f":"N21","v":12221},{"$f":"COUNTIF(L12:L13,AD21)","v":0},{"$f":"AE21/(AG4-AE25)","v":0},{"$f":"IF(AF21=0,0,(AF21*((LOG(AF21))/LOG(2))))","v":0},null,{"$f":"N21","v":12221},{"$f":"COUNTIF(L14:L15,AI21)","v":0},{"$f":"AJ21/(AL4-AJ25)","v":0},{"$f":"IF(AK21=0,0,(AK21*((LOG(AK21))/LOG(2))))","v":0},null,{"$f":"N21","v":12221},{"$f":"COUNTIF(L16:L18,AN21)","v":0},{"$f":"AO21/(AQ4-AO25)","v":0},{"$f":"IF(AP21=0,0,(AP21*((LOG(AP21))/LOG(2))))","v":0},null,{"$f":"N21","v":12221},{"$f":"COUNTIF(L19:L20,AS21)","v":0},{"$f":"AT21/(AV4-AT25)","v":0},{"$f":"IF(AU21=0,0,(AU21*((LOG(AU21))/LOG(2))))","v":0}]
[null,null,null,null,null,null,null,null,null,null,null,null,null,12222,{"$f":"COUNTIF($L$7:$L$500,N22)","v":0},{"$f":"O22/$Q$4","v":0},{"$f":"IF(P22=0,0,(P22*((LOG(P22))/LOG(2))))","v":0},null,null,{"$f":"N22","v":12222},{"$f":"COUNTIF(L7:L8,T22)","v":0},{"$f":"U22/(W4-U25)","v":0},{"$f":"IF(V22=0,0,(V22*((LOG(V22))/LOG(2))))","v":0},null,{"$f":"N22","v":12222},{"$f":"COUNTIF(L9:L11,Y22)","v":0},{"$f":"Z22/(AB4-Z25)","v":0},{"$f":"IF(AA22=0,0,(AA22*((LOG(AA22))/LOG(2))))","v":0},null,{"$f":"N22","v":12222},{"$f":"COUNTIF(L12:L13,AD22)","v":0},{"$f":"AE22/(AG4-AE25)","v":0},{"$f":"IF(AF22=0,0,(AF22*((LOG(AF22))/LOG(2))))","v":0},null,{"$f":"N22","v":12222},{"$f":"COUNTIF(L14:L15,AI22)","v":0},{"$f":"AJ22/(AL4-AJ25)","v":0},{"$f":"IF(AK22=0,0,(AK22*((LOG(AK22))/LOG(2))))","v":0},null,{"$f":"N22","v":12222},{"$f":"COUNTIF(L16:L18,AN22)","v":0},{"$f":"AO22/(AQ4-AO25)","v":0},{"$f":"IF(AP22=0,0,(AP22*((LOG(AP22))/LOG(2))))","v":0},null,{"$f":"N22","v":12222},{"$f":"COUNTIF(L19:L20,AS22)","v":0},{"$f":"AT22/(AV4-AT25)","v":0},{"$f":"IF(AU22=0,0,(AU22*((LOG(AU22))/LOG(2))))","v":0}]
[null,null,null,null,null,null,null,null,null,null,null,null,null,21111,{"$f":"COUNTIF($L$7:$L$500,N23)","v":0},{"$f":"O23/$Q$4","v":0},{"$f":"IF(P23=0,0,(P23*((LOG(P23))/LOG(2))))","v":0},null,null,{"$f":"N23","v":21111},{"$f":"COUNTIF(L7:L8,T23)","v":0},{"$f":"U23/(W4-U25)","v":0},{"$f":"IF(V23=0,0,(V23*((LOG(V23))/LOG(2))))","v":0},null,{"$f":"N23","v":21111},{"$f":"COUNTIF(L9:L11,Y23)","v":0},{"$f":"Z23/(AB4-Z25)","v":0},{"$f":"IF(AA23=0,0,(AA23*((LOG(AA23))/LOG(2))))","v":0},null,{"$f":"N23","v":21111},{"$f":"COUNTIF(L12:L13,AD23)","v":0},{"$f":"AE23/(AG4-AE25)","v":0},{"$f":"IF(AF23=0,0,(AF23*((LOG(AF23))/LOG(2))))","v":0},null,{"$f":"N23","v":21111},{"$f":"COUNTIF(L14:L15,AI23)","v":0},{"$f":"AJ23/(AL4-AJ25)","v":0},{"$f":"IF(AK23=0,0,(AK23*((LOG(AK23))/LOG(2))))","v":0},null,{"$f":"N23","v":21111},{"$f":"COUNTIF(L16:L18,AN23)","v":0},{"$f":"AO23/(AQ4-AO25)","v":0},{"$f":"IF(AP23=0,0,(AP23*((LOG(AP23))/LOG(2))))","v":0},null,{"$f":"N23","v":21111},{"$f":"COUNTIF(L19:L20,AS23)","v":0},{"$f":"AT23/(AV4-AT25)","v":0},{"$f":"IF(AU23=0,0,(AU23*((LOG(AU23))/LOG(2))))","v":0}]
[null,null,null,null,null,null,null,null,null,null,null,null,null,21112,{"$f":"COUNTIF($L$7:$L$500,N24)","v":0},{"$f":"O24/$Q$4","v":0},{"$f":"IF(P24=0,0,(P24*((LOG(P24))/LOG(2))))","v":0},null,null,{"$f":"N24","v":21112},{"$f":"COUNTIF(L7:L8,T24)","v":0},{"$f":"U24/(W4-U25)","v":0},{"$f":"IF(V24=0,0,(V24*((LOG(V24))/LOG(2))))","v":0},null,{"$f":"N24","v":21112},{"$f":"COUNTIF(L9:L11,Y24)","v":0},{"$f":"Z24/(AB4-Z25)","v":0},{"$f":"IF(AA24=0,0,(AA24*((LOG(AA24))/LOG(2))))","v":0},null,{"$f":"N24","v":21112},{"$f":"COUNTIF(L12:L13,AD24)","v":0},{"$f":"AE24/(AG4-AE25)","v":0},{"$f":"IF(AF24=0,0,(AF24*((LOG(AF24))/LOG(2))))","v":0},null,{"$f":"N24","v":21112},{"$f":"COUNTIF(L14:L15,AI24)","v":0},{"$f":"AJ24/(AL4-AJ25)","v":0},{"$f":"IF(AK24=0,0,(AK24*((LOG(AK24))/LOG(2))))","v":0},null,{"$f":"N24","v":21112},{"$f":"COUNTIF(L16:L18,AN24)","v":0},{"$f":"AO24/(AQ4-AO25)","v":0},{"$f":"IF(AP24=0,0,(AP24*((LOG(AP24))/LOG(2))))","v":0},null,{"$f":"N24","v":21112},{"$f":"COUNTIF(L19:L20,AS24)","v":0},{"$f":"AT24/(AV4-AT25)","v":0},{"$f":"IF(AU24=0,0,(AU24*((LOG(AU24))/LOG(2))))","v":0}]
[null,null,null,null,null,null,null,null,null,null,null,null,null,21121,{"$f":"COUNTIF($L$7:$L$500,N25)","v":0},{"$f":"O25/$Q$4","v":0},{"$f":"IF(P25=0,0,(P25*((LOG(P25))/LOG(2))))","v":0},null,null,{"$f":"N25","v":21121},{"$f":"COUNTIF(L7:L8,T25)","v":0},null,null,null,{"$f":"N25","v":21121},{"$f":"COUNTIF(L9:L11,Y25)","v":0},null,null,null,{"$f":"N25","v":21121},{"$f":"COUNTIF(L12:L13,AD25)","v":0},null,null,null,{"$f":"N25","v":21121},{"$f":"COUNTIF(L14:L15,AI25)","v":0},null,null,null,{"$f":"N25","v":21121},{"$f":"COUNTIF(L16:L18,AN25)","v":0},null,null,null,{"$f":"N25","v":21121},{"$f":"COUNTIF(L19:L20,AS25)","v":0}]
[null,null,null,null,null,null,null,null,null,null,null,null,null,21122,{"$f":"COUNTIF($L$7:$L$500,N26)","v":0},{"$f":"O26/$Q$4","v":0},{"$f":"IF(P26=0,0,(P26*((LOG(P26))/LOG(2))))","v":0},null,null,{"$f":"N26","v":21122},{"$f":"COUNTIF(L7:L8,T26)","v":0},{"$f":"U26/(W4-U25)","v":0},{"$f":"IF(V26=0,0,(V26*((LOG(V26))/LOG(2))))","v":0},null,{"$f":"N26","v":21122},{"$f":"COUNTIF(L9:L11,Y26)","v":0},{"$f":"Z26/(AB4-Z25)","v":0},{"$f":"IF(AA26=0,0,(AA26*((LOG(AA26))/LOG(2))))","v":0},null,{"$f":"N26","v":21122},{"$f":"COUNTIF(L12:L13,AD26)","v":0},{"$f":"AE26/(AG4-AE25)","v":0},{"$f":"IF(AF26=0,0,(AF26*((LOG(AF26))/LOG(2))))","v":0},null,{"$f":"N26","v":21122},{"$f":"COUNTIF(L14:L15,AI26)","v":0},{"$f":"AJ26/(AL4-AJ25)","v":0},{"$f":"IF(AK26=0,0,(AK26*((LOG(AK26))/LOG(2))))","v":0},null,{"$f":"N26","v":21122},{"$f":"COUNTIF(L16:L18,AN26)","v":0},{"$f":"AO26/(AQ4-AO25)","v":0},{"$f":"IF(AP26=0,0,(AP26*((LOG(AP26))/LOG(2))))","v":0},null,{"$f":"N26","v":21122},{"$f":"COUNTIF(L19:L20,AS26)","v":0},{"$f":"AT26/(AV4-AT25)","v":0},{"$f":"IF(AU26=0,0,(AU26*((LOG(AU26))/LOG(2))))","v":0}]
[null,null,null,null,null,null,null,null,null,null,null,null,null,21211,{"$f":"COUNTIF($L$7:$L$500,N27)","v":0},{"$f":"O27/$Q$4","v":0},{"$f":"IF(P27=0,0,(P27*((LOG(P27))/LOG(2))))","v":0},null,null,{"$f":"N27","v":21211},{"$f":"COUNTIF(L7:L8,T27)","v":0},{"$f":"U27/(W4-U25)","v":0},{"$f":"IF(V27=0,0,(V27*((LOG(V27))/LOG(2))))","v":0},null,{"$f":"N27","v":21211},{"$f":"COUNTIF(L9:L11,Y27)","v":0},{"$f":"Z27/(AB4-Z25)","v":0},{"$f":"IF(AA27=0,0,(AA27*((LOG(AA27))/LOG(2))))","v":0},null,{"$f":"N27","v":21211},{"$f":"COUNTIF(L12:L13,AD27)","v":0},{"$f":"AE27/(AG4-AE25)","v":0},{"$f":"IF(AF27=0,0,(AF27*((LOG(AF27))/LOG(2))))","v":0},null,{"$f":"N27","v":21211},{"$f":"COUNTIF(L14:L15,AI27)","v":0},{"$f":"AJ27/(AL4-AJ25)","v":0},{"$f":"IF(AK27=0,0,(AK27*((LOG(AK27))/LOG(2))))","v":0},null,{"$f":"N27","v":21211},{"$f":"COUNTIF(L16:L18,AN27)","v":0},{"$f":"AO27/(AQ4-AO25)","v":0},{"$f":"IF(AP27=0,0,(AP27*((LOG(AP27))/LOG(2))))","v":0},null,{"$f":"N27","v":21211},{"$f":"COUNTIF(L19:L20,AS27)","v":0},{"$f":"AT27/(AV4-AT25)","v":0},{"$f":"IF(AU27=0,0,(AU27*((LOG(AU27))/LOG(2))))","v":0}]
[null,null,null,null,null,null,null,null,null,null,null,null,null,21212,{"$f":"COUNTIF($L$7:$L$500,N28)","v":0},{"$f":"O28/$Q$4","v":0},{"$f":"IF(P28=0,0,(P28*((LOG(P28))/LOG(2))))","v":0},null,null,{"$f":"N28","v":21212},{"$f":"COUNTIF(L7:L8,T28)","v":0},{"$f":"U28/(W4-U25)","v":0},{"$f":"IF(V28=0,0,(V28*((LOG(V28))/LOG(2))))","v":0},null,{"$f":"N28","v":21212},{"$f":"COUNTIF(L9:L11,Y28)","v":0},{"$f":"Z28/(AB4-Z25)","v":0},{"$f":"IF(AA28=0,0,(AA28*((LOG(AA28))/LOG(2))))","v":0},null,{"$f":"N28","v":21212},{"$f":"COUNTIF(L12:L13,AD28)","v":0},{"$f":"AE28/(AG4-AE25)","v":0},{"$f":"IF(AF28=0,0,(AF28*((LOG(AF28))/LOG(2))))","v":0},null,{"$f":"N28","v":21212},{"$f":"COUNTIF(L14:L15,AI28)","v":0},{"$f":"AJ28/(AL4-AJ25)","v":0},{"$f":"IF(AK28=0,0,(AK28*((LOG(AK28))/LOG(2))))","v":0},null,{"$f":"N28","v":21212},{"$f":"COUNTIF(L16:L18,AN28)","v":0},{"$f":"AO28/(AQ4-AO25)","v":0},{"$f":"IF(AP28=0,0,(AP28*((LOG(AP28))/LOG(2))))","v":0},null,{"$f":"N28","v":21212},{"$f":"COUNTIF(L19:L20,AS28)","v":0},{"$f":"AT28/(AV4-AT25)","v":0},{"$f":"IF(AU28=0,0,(AU28*((LOG(AU28))/LOG(2))))","v":0}]
[null,null,null,null,null,null,null,null,null,null,null,null,null,21221,{"$f":"COUNTIF($L$7:$L$500,N29)","v":0},{"$f":"O29/$Q$4","v":0},{"$f":"IF(P29=0,0,(P29*((LOG(P29))/LOG(2))))","v":0},null,null,{"$f":"N29","v":21221},{"$f":"COUNTIF(L7:L8,T29)","v":0},{"$f":"U29/(W4-U25)","v":0},{"$f":"IF(V29=0,0,(V29*((LOG(V29))/LOG(2))))","v":0},null,{"$f":"N29","v":21221},{"$f":"COUNTIF(L9:L11,Y29)","v":0},{"$f":"Z29/(AB4-Z25)","v":0},{"$f":"IF(AA29=0,0,(AA29*((LOG(AA29))/LOG(2))))","v":0},null,{"$f":"N29","v":21221},{"$f":"COUNTIF(L12:L13,AD29)","v":0},{"$f":"AE29/(AG4-AE25)","v":0},{"$f":"IF(AF29=0,0,(AF29*((LOG(AF29))/LOG(2))))","v":0},null,{"$f":"N29","v":21221},{"$f":"COUNTIF(L14:L15,AI29)","v":0},{"$f":"AJ29/(AL4-AJ25)","v":0},{"$f":"IF(AK29=0,0,(AK29*((LOG(AK29))/LOG(2))))","v":0},null,{"$f":"N29","v":21221},{"$f":"COUNTIF(L16:L18,AN29)","v":0},{"$f":"AO29/(AQ4-AO25)","v":0},{"$f":"IF(AP29=0,0,(AP29*((LOG(AP29))/LOG(2))))","v":0},null,{"$f":"N29","v":21221},{"$f":"COUNTIF(L19:L20,AS29)","v":0},{"$f":"AT29/(AV4-AT25)","v":0},{"$f":"IF(AU29=0,0,(AU29*((LOG(AU29))/LOG(2))))","v":0}]
[null,null,null,null,null,null,null,null,null,null,null,null,null,21222,{"$f":"COUNTIF($L$7:$L$500,N30)","v":0},{"$f":"O30/$Q$4","v":0},{"$f":"IF(P30=0,0,(P30*((LOG(P30))/LOG(2))))","v":0},null,null,{"$f":"N30","v":21222},{"$f":"COUNTIF(L7:L8,T30)","v":0},{"$f":"U30/(W4-U25)","v":0},{"$f":"IF(V30=0,0,(V30*((LOG(V30))/LOG(2))))","v":0},null,{"$f":"N30","v":21222},{"$f":"COUNTIF(L9:L11,Y30)","v":0},{"$f":"Z30/(AB4-Z25)","v":0},{"$f":"IF(AA30=0,0,(AA30*((LOG(AA30))/LOG(2))))","v":0},null,{"$f":"N30","v":21222},{"$f":"COUNTIF(L12:L13,AD30)","v":0},{"$f":"AE30/(AG4-AE25)","v":0},{"$f":"IF(AF30=0,0,(AF30*((LOG(AF30))/LOG(2))))","v":0},null,{"$f":"N30","v":21222},{"$f":"COUNTIF(L14:L15,AI30)","v":0},{"$f":"AJ30/(AL4-AJ25)","v":0},{"$f":"IF(AK30=0,0,(AK30*((LOG(AK30))/LOG(2))))","v":0},null,{"$f":"N30","v":21222},{"$f":"COUNTIF(L16:L18,AN30)","v":0},{"$f":"AO30/(AQ4-AO25)","v":0},{"$f":"IF(AP30=0,0,(AP30*((LOG(AP30))/LOG(2))))","v":0},null,{"$f":"N30","v":21222},{"$f":"COUNTIF(L19:L20,AS30)","v":0},{"$f":"AT30/(AV4-AT25)","v":0},{"$f":"IF(AU30=0,0,(AU30*((LOG(AU30))/LOG(2))))","v":0}]
[null,null,null,null,null,null,null,null,null,null,null,null,null,22111,{"$f":"COUNTIF($L$7:$L$500,N31)","v":0},{"$f":"O31/$Q$4","v":0},{"$f":"IF(P31=0,0,(P31*((LOG(P31))/LOG(2))))","v":0},null,null,{"$f":"N31","v":22111},{"$f":"COUNTIF(L7:L8,T31)","v":0},{"$f":"U31/(W4-U25)","v":0},{"$f":"IF(V31=0,0,(V31*((LOG(V31))/LOG(2))))","v":0},null,{"$f":"N31","v":22111},{"$f":"COUNTIF(L9:L11,Y31)","v":0},{"$f":"Z31/(AB4-Z25)","v":0},{"$f":"IF(AA31=0,0,(AA31*((LOG(AA31))/LOG(2))))","v":0},null,{"$f":"N31","v":22111},{"$f":"COUNTIF(L12:L13,AD31)","v":0},{"$f":"AE31/(AG4-AE25)","v":0},{"$f":"IF(AF31=0,0,(AF31*((LOG(AF31))/LOG(2))))","v":0},null,{"$f":"N31","v":22111},{"$f":"COUNTIF(L14:L15,AI31)","v":0},{"$f":"AJ31/(AL4-AJ25)","v":0},{"$f":"IF(AK31=0,0,(AK31*((LOG(AK31))/LOG(2))))","v":0},null,{"$f":"N31","v":22111},{"$f":"COUNTIF(L16:L18,AN31)","v":0},{"$f":"AO31/(AQ4-AO25)","v":0},{"$f":"IF(AP31=0,0,(AP31*((LOG(AP31))/LOG(2))))","v":0},null,{"$f":"N31","v":22111},{"$f":"COUNTIF(L19:L20,AS31)","v":0},{"$f":"AT31/(AV4-AT25)","v":0},{"$f":"IF(AU31=0,0,(AU31*((LOG(AU31))/LOG(2))))","v":0}]
[null,null,null,null,null,null,null,null,null,null,null,null,null,22112,{"$f":"COUNTIF($L$7:$L$500,N32)","v":0},{"$f":"O32/$Q$4","v":0},{"$f":"IF(P32=0,0,(P32*((LOG(P32))/LOG(2))))","v":0},null,null,{"$f":"N32","v":22112},{"$f":"COUNTIF(L7:L8,T32)","v":0},{"$f":"U32/(W4-U25)","v":0},{"$f":"IF(V32=0,0,(V32*((LOG(V32))/LOG(2))))","v":0},null,{"$f":"N32","v":22112},{"$f":"COUNTIF(L9:L11,Y32)","v":0},{"$f":"Z32/(AB4-Z25)","v":0},{"$f":"IF(AA32=0,0,(AA32*((LOG(AA32))/LOG(2))))","v":0},null,{"$f":"N32","v":22112},{"$f":"COUNTIF(L12:L13,AD32)","v":0},{"$f":"AE32/(AG4-AE25)","v":0},{"$f":"IF(AF32=0,0,(AF32*((LOG(AF32))/LOG(2))))","v":0},null,{"$f":"N32","v":22112},{"$f":"COUNTIF(L14:L15,AI32)","v":0},{"$f":"AJ32/(AL4-AJ25)","v":0},{"$f":"IF(AK32=0,0,(AK32*((LOG(AK32))/LOG(2))))","v":0},null,{"$f":"N32","v":22112},{"$f":"COUNTIF(L16:L18,AN32)","v":0},{"$f":"AO32/(AQ4-AO25)","v":0},{"$f":"IF(AP32=0,0,(AP32*((LOG(AP32))/LOG(2))))","v":0},null,{"$f":"N32","v":22112},{"$f":"COUNTIF(L19:L20,AS32)","v":0},{"$f":"AT32/(AV4-AT25)","v":0},{"$f":"IF(AU32=0,0,(AU32*((LOG(AU32))/LOG(2))))","v":0}]
[null,null,null,null,null,null,null,null,null,null,null,null,null,22121,{"$f":"COUNTIF($L$7:$L$500,N33)","v":1},{"$f":"O33/$Q$4","v":7.6923076923076927E-2},{"$f":"IF(P33=0,0,(P33*((LOG(P33))/LOG(2))))","v":-0.28464920908777636},null,null,{"$f":"N33","v":22121},{"$f":"COUNTIF(L7:L8,T33)","v":0},{"$f":"U33/(W4-U25)","v":0},{"$f":"IF(V33=0,0,(V33*((LOG(V33))/LOG(2))))","v":0},null,{"$f":"N33","v":22121},{"$f":"COUNTIF(L9:L11,Y33)","v":0},{"$f":"Z33/(AB4-Z25)","v":0},{"$f":"IF(AA33=0,0,(AA33*((LOG(AA33))/LOG(2))))","v":0},null,{"$f":"N33","v":22121},{"$f":"COUNTIF(L12:L13,AD33)","v":1},{"$f":"AE33/(AG4-AE25)","v":0.5},{"$f":"IF(AF33=0,0,(AF33*((LOG(AF33))/LOG(2))))","v":-0.5},null,{"$f":"N33","v":22121},{"$f":"COUNTIF(L14:L15,AI33)","v":0},{"$f":"AJ33/(AL4-AJ25)","v":0},{"$f":"IF(AK33=0,0,(AK33*((LOG(AK33))/LOG(2))))","v":0},null,{"$f":"N33","v":22121},{"$f":"COUNTIF(L16:L18,AN33)","v":0},{"$f":"AO33/(AQ4-AO25)","v":0},{"$f":"IF(AP33=0,0,(AP33*((LOG(AP33))/LOG(2))))","v":0},null,{"$f":"N33","v":22121},{"$f":"COUNTIF(L19:L20,AS33)","v":0},{"$f":"AT33/(AV4-AT25)","v":0},{"$f":"IF(AU33=0,0,(AU33*((LOG(AU33))/LOG(2))))","v":0}]
[null,null,null,null,null,null,null,null,null,null,null,null,null,22122,{"$f":"COUNTIF($L$7:$L$500,N34)","v":0},{"$f":"O34/$Q$4","v":0},{"$f":"IF(P34=0,0,(P34*((LOG(P34))/LOG(2))))","v":0},null,null,{"$f":"N34","v":22122},{"$f":"COUNTIF(L7:L8,T34)","v":0},{"$f":"U34/(W4-U25)","v":0},{"$f":"IF(V34=0,0,(V34*((LOG(V34))/LOG(2))))","v":0},null,{"$f":"N34","v":22122},{"$f":"COUNTIF(L9:L11,Y34)","v":0},{"$f":"Z34/(AB4-Z25)","v":0},{"$f":"IF(AA34=0,0,(AA34*((LOG(AA34))/LOG(2))))","v":0},null,{"$f":"N34","v":22122},{"$f":"COUNTIF(L12:L13,AD34)","v":0},{"$f":"AE34/(AG4-AE25)","v":0},{"$f":"IF(AF34=0,0,(AF34*((LOG(AF34))/LOG(2))))","v":0},null,{"$f":"N34","v":22122},{"$f":"COUNTIF(L14:L15,AI34)","v":0},{"$f":"AJ34/(AL4-AJ25)","v":0},{"$f":"IF(AK34=0,0,(AK34*((LOG(AK34))/LOG(2))))","v":0},null,{"$f":"N34","v":22122},{"$f":"COUNTIF(L16:L18,AN34)","v":0},{"$f":"AO34/(AQ4-AO25)","v":0},{"$f":"IF(AP34=0,0,(AP34*((LOG(AP34))/LOG(2))))","v":0},null,{"$f":"N34","v":22122},{"$f":"COUNTIF(L19:L20,AS34)","v":0},{"$f":"AT34/(AV4-AT25)","v":0},{"$f":"IF(AU34=0,0,(AU34*((LOG(AU34))/LOG(2))))","v":0}]
[null,null,null,null,null,null,null,null,null,null,null,null,null,22211,{"$f":"COUNTIF($L$7:$L$500,N35)","v":0},{"$f":"O35/$Q$4","v":0},{"$f":"IF(P35=0,0,(P35*((LOG(P35))/LOG(2))))","v":0},null,null,{"$f":"N35","v":22211},{"$f":"COUNTIF(L7:L8,T35)","v":0},{"$f":"U35/(W4-U25)","v":0},{"$f":"IF(V35=0,0,(V35*((LOG(V35))/LOG(2))))","v":0},null,{"$f":"N35","v":22211},{"$f":"COUNTIF(L9:L11,Y35)","v":0},{"$f":"Z35/(AB4-Z25)","v":0},{"$f":"IF(AA35=0,0,(AA35*((LOG(AA35))/LOG(2))))","v":0},null,{"$f":"N35","v":22211},{"$f":"COUNTIF(L12:L13,AD35)","v":0},{"$f":"AE35/(AG4-AE25)","v":0},{"$f":"IF(AF35=0,0,(AF35*((LOG(AF35))/LOG(2))))","v":0},null,{"$f":"N35","v":22211},{"$f":"COUNTIF(L14:L15,AI35)","v":0},{"$f":"AJ35/(AL4-AJ25)","v":0},{"$f":"IF(AK35=0,0,(AK35*((LOG(AK35))/LOG(2))))","v":0},null,{"$f":"N35","v":22211},{"$f":"COUNTIF(L16:L18,AN35)","v":0},{"$f":"AO35/(AQ4-AO25)","v":0},{"$f":"IF(AP35=0,0,(AP35*((LOG(AP35))/LOG(2))))","v":0},null,{"$f":"N35","v":22211},{"$f":"COUNTIF(L19:L20,AS35)","v":0},{"$f":"AT35/(AV4-AT25)","v":0},{"$f":"IF(AU35=0,0,(AU35*((LOG(AU35))/LOG(2))))","v":0}]
[null,null,null,null,null,null,null,null,null,null,null,null,null,22212,{"$f":"COUNTIF($L$7:$L$500,N36)","v":1},{"$f":"O36/$Q$4","v":7.6923076923076927E-2},{"$f":"IF(P36=0,0,(P36*((LOG(P36))/LOG(2))))","v":-0.28464920908777636},null,null,{"$f":"N36","v":22212},{"$f":"COUNTIF(L7:L8,T36)","v":0},{"$f":"U36/(W4-U25)","v":0},{"$f":"IF(V36=0,0,(V36*((LOG(V36))/LOG(2))))","v":0},null,{"$f":"N36","v":22212},{"$f":"COUNTIF(L9:L11,Y36)","v":1},{"$f":"Z36/(AB4-Z25)","v":0.33333333333333331},{"$f":"IF(AA36=0,0,(AA36*((LOG(AA36))/LOG(2))))","v":-0.52832083357371862},null,{"$f":"N36","v":22212},{"$f":"COUNTIF(L12:L13,AD36)","v":0},{"$f":"AE36/(AG4-AE25)","v":0},{"$f":"IF(AF36=0,0,(AF36*((LOG(AF36))/LOG(2))))","v":0},null,{"$f":"N36","v":22212},{"$f":"COUNTIF(L14:L15,AI36)","v":0},{"$f":"AJ36/(AL4-AJ25)","v":0},{"$f":"IF(AK36=0,0,(AK36*((LOG(AK36))/LOG(2))))","v":0},null,{"$f":"N36","v":22212},{"$f":"COUNTIF(L16:L18,AN36)","v":0},{"$f":"AO36/(AQ4-AO25)","v":0},{"$f":"IF(AP36=0,0,(AP36*((LOG(AP36))/LOG(2))))","v":0},null,{"$f":"N36","v":22212},{"$f":"COUNTIF(L19:L20,AS36)","v":0},{"$f":"AT36/(AV4-AT25)","v":0},{"$f":"IF(AU36=0,0,(AU36*((LOG(AU36))/LOG(2))))","v":0}]
[null,null,null,null,null,null,null,null,null,null,null,null,null,22221,{"$f":"COUNTIF($L$7:$L$500,N37)","v":2},{"$f":"O37/$Q$4","v":0.15384615384615385},{"$f":"IF(P37=0,0,(P37*((LOG(P37))/LOG(2))))","v":-0.4154522643293988},null,null,{"$f":"N37","v":22221},{"$f":"COUNTIF(L7:L8,T37)","v":2},{"$f":"U37/(W4-U25)","v":1},{"$f":"IF(V37=0,0,(V37*((LOG(V37))/LOG(2))))","v":0},null,{"$f":"N37","v":22221},{"$f":"COUNTIF(L9:L11,Y37)","v":0},{"$f":"Z37/(AB4-Z25)","v":0},{"$f":"IF(AA37=0,0,(AA37*((LOG(AA37))/LOG(2))))","v":0},null,{"$f":"N37","v":22221},{"$f":"COUNTIF(L12:L13,AD37)","v":0},{"$f":"AE37/(AG4-AE25)","v":0},{"$f":"IF(AF37=0,0,(AF37*((LOG(AF37))/LOG(2))))","v":0},null,{"$f":"N37","v":22221},{"$f":"COUNTIF(L14:L15,AI37)","v":0},{"$f":"AJ37/(AL4-AJ25)","v":0},{"$f":"IF(AK37=0,0,(AK37*((LOG(AK37))/LOG(2))))","v":0},null,{"$f":"N37","v":22221},{"$f":"COUNTIF(L16:L18,AN37)","v":0},{"$f":"AO37/(AQ4-AO25)","v":0},{"$f":"IF(AP37=0,0,(AP37*((LOG(AP37))/LOG(2))))","v":0},null,{"$f":"N37","v":22221},{"$f":"COUNTIF(L19:L20,AS37)","v":0},{"$f":"AT37/(AV4-AT25)","v":0},{"$f":"IF(AU37=0,0,(AU37*((LOG(AU37))/LOG(2))))","v":0}]
[null,null,null,null,null,null,null,null,null,null,null,null,null,22222,{"$f":"COUNTIF($L$7:$L$500,N38)","v":0},{"$f":"O38/$Q$4","v":0},{"$f":"IF(P38=0,0,(P38*((LOG(P38))/LOG(2))))","v":0},null,null,{"$f":"N38","v":22222},{"$f":"COUNTIF(L7:L8,T38)","v":0},{"$f":"U38/(W4-U25)","v":0},{"$f":"IF(V38=0,0,(V38*((LOG(V38))/LOG(2))))","v":0},null,{"$f":"N38","v":22222},{"$f":"COUNTIF(L9:L11,Y38)","v":0},{"$f":"Z38/(AB4-Z25)","v":0},{"$f":"IF(AA38=0,0,(AA38*((LOG(AA38))/LOG(2))))","v":0},null,{"$f":"N38","v":22222},{"$f":"COUNTIF(L12:L13,AD38)","v":0},{"$f":"AE38/(AG4-AE25)","v":0},{"$f":"IF(AF38=0,0,(AF38*((LOG(AF38))/LOG(2))))","v":0},null,{"$f":"N38","v":22222},{"$f":"COUNTIF(L14:L15,AI38)","v":0},{"$f":"AJ38/(AL4-AJ25)","v":0},{"$f":"IF(AK38=0,0,(AK38*((LOG(AK38))/LOG(2))))","v":0},null,{"$f":"N38","v":22222},{"$f":"COUNTIF(L16:L18,AN38)","v":0},{"$f":"AO38/(AQ4-AO25)","v":0},{"$f":"IF(AP38=0,0,(AP38*((LOG(AP38))/LOG(2))))","v":0},null,{"$f":"N38","v":22222},{"$f":"COUNTIF(L19:L20,AS38)","v":0},{"$f":"AT38/(AV4-AT25)","v":0},{"$f":"IF(AU38=0,0,(AU38*((LOG(AU38))/LOG(2))))","v":0}]
[null,null,null,null,null,null,null,null,null,null,null,null,null,null,null,{"$f":"SUM(P7:P38)","v":0.99999999999999989},{"$f":"-SUM(Q7:Q38)","v":2.353533948577482},null,null,null,null,{"$f":"SUM(V7:V38)","v":1},{"$f":"-SUM(W7:W38)","v":0},null,null,null,{"$f":"SUM(AA7:AA38)","v":1},{"$f":"-SUM(AB7:AB38)","v":1.5849625007211559},null,null,null,{"$f":"SUM(AF7:AF38)","v":1},{"$f":"-SUM(AG7:AG38)","v":1},null,null,null,{"$f":"SUM(AK7:AK38)","v":1},{"$f":"-SUM(AL7:AL38)","v":0},null,null,null,{"$f":"SUM(AP7:AP38)","v":1},{"$f":"-SUM(AQ7:AQ38)","v":0},null,null,null,{"$f":"SUM(AU7:AU38)","v":1},{"$f":"-SUM(AV7:AV38)","v":0}]
[null,null,null,null,null,null,null,null,null,null,null,null,null,null,null,"U=",{"$f":"Q39/(LOG(Q4)/LOG(2))","v":0.63601467064562123},null,null,null,null,"U1=",{"$f":"W39/(LOG(W4)/LOG(2))","v":0},null,null,null,"U2=",{"$f":"AB39/(LOG(AB4)/LOG(2))","v":0.99999999999999989},null,null,null,"U3=",{"$f":"AG39/(LOG(AG4)/LOG(2))","v":1},null,null,null,"U4=",{"$f":"AL39/(LOG(AL4)/LOG(2))","v":0},null,null,null,"U5=",{"$f":"AQ39/(LOG(AQ4)/LOG(2))","v":0},null,null,null,"U6=",{"$f":"AV39/(LOG(AV4)/LOG(2))","v":{"$error":"#DIV/0!"}}]
[]
[]
[null,null,null,null,null,null,null,null,null,null,null,null,null,"Total Target Seq"]
[null,null,null,null,null,null,null,null,null,null,null,null,null,{"$f":"COUNTIF(L7:L20,G3)","v":0},null,2,3,2,2,3,2]
[null,null,null,null,null,null,null,null,null,null,null,null,null,null,null,"% of reinforcement given in 6 equal intervals based on number of trials "]
[null,null,null,null,null,null,null,null,null,null,null,null,null,null,null,"%_1","%_2","%_3","%_4","%_5","%_6"]
[null,null,null,null,null,null,null,null,null,null,null,null,null,null,"target sequence",{"$f":"$G$3","v":21121},{"$f":"$G$3","v":21121},{"$f":"$G$3","v":21121},{"$f":"$G$3","v":21121},{"$f":"$G$3","v":21121},{"$f":"$G$3","v":21121}]
[null,null,null,null,null,null,null,null,null,null,null,null,null,null,"total reinforcement",{"$f":"U25","v":0},{"$f":"Z25","v":0},{"$f":"AE25","v":0},{"$f":"AJ25","v":0},{"$f":"AO25","v":0},{"$f":"AT25","v":0}]
[null,null,null,null,null,null,null,null,null,null,null,null,null,null,"% target"]
[null,null,null,null,null,null,null,null,null,null,null,null,null,null,"CCRF"]
[null,null,null,null,null,null,null,null,null,null,null,null,null,null,"% CCRf"]
[null,null,null,null,null,null,null,null,null,null,null,null,null,null,"average response rate",{"$f":"J8/P44","v":137},{"$f":"(J11-J8)/Q44","v":172.66666666666666},{"$f":"(J13-J11)/R44","v":232},{"$f":"(J15-J13)/S44","v":338.5},{"$f":"(J18-J15)/T44","v":1046},{"$f":"(J20-J18)/U44","v":-2535.5}]

{"sheet":"!N124950.105","index":25,"n_rows":52,"n_cols":48,"rows_kept":52,"cut":false,"hidden":false,"merged":[[4,39,4,42],[5,39,5,40],[4,44,4,47],[5,44,5,45],[4,24,4,27],[5,24,5,25],[4,29,4,32],[5,29,5,30],[4,34,4,37],[5,34,5,35],[1,1,1,2],[5,13,5,14],[42,13,42,14],[43,13,43,14],[4,19,4,22],[5,19,5,20]]}
["Report for:!N124950.105"]
["Date:","<date>"]
["Hen:","<hen>",null,null,null,"Correct Sequence",{"$f":"Start!J2","v":21121},null,null,null,null,null,null,null,null,"Total Sequences in Data",{"$f":"4994-COUNTBLANK(L7:L5000)","v":6},null,null,null,null,"Total Sequences in Block Data",{"$f":"COUNTA(L7:L7)","v":1},null,null,null,"Total Sequences in Block Data",{"$f":"COUNTA(L8:L8)","v":1},null,null,null,"Total Sequences in Block Data",{"$f":"COUNTA(L9:L9)","v":1},null,null,null,"Total Sequences in Block Data",{"$f":"COUNTA(L10:L10)","v":1},null,null,null,"Total Sequences in Block Data",{"$f":"COUNTA(L11:L11)","v":1},null,null,null,"Total Sequences in Block Data",{"$f":"COUNTA(L12:L12)","v":1}]
[null,null,null,null,null,null,null,null,null,null,null,null,null,null,null,"Total Sequences in Summary",{"$f":"SUM(O7:O38)","v":6},null,null,null,null,"Total Sequences in Block Summary",{"$f":"SUM(U7:U38)","v":1},null,null,null,"Total Sequences in Block Summary",{"$f":"SUM(Z7:Z38)","v":1},null,null,null,"Total Sequences in Block Summary",{"$f":"SUM(AE7:AE38)","v":1},null,null,null,"Total Sequences in Block Summary",{"$f":"SUM(AJ7:AJ38)","v":1},null,null,null,"Total Sequences in Block Summary",{"$f":"SUM(AO7:AO38)","v":1},null,null,null,"Total Sequences in Block Summary",{"$f":"SUM(AT7:AT38)","v":1}]
[null,null,null,null,null,null,null,null,null,null,null,null,null,null,null,null,null,null,null,"Block 1",null,null,null,null,"Block 2",null,null,null,null,"Block 3",null,null,null,null,"Block 4",null,null,null,null,"Block 5",null,null,null,null,"Block 6"]
["Sequence\nComponent\n1","Time\n1","Sequence\nComponent\n2","Time\n2","Sequence\nComponent\n3","Time\n3","Sequence\nComponent\n4","Time\n4","Sequence\nComponent\n5","Time\n5","Correct?\n0=No 1=Yes","Sequence",null,"Frequency",null,"Relative Frequency","Variability",null,null,"Frequency",null,"Relative Frequency","Variability",null,"Frequency",null,"Relative Frequency","Variability",null,"Frequency",null,"Relative Frequency","Variability",null,"Frequency",null,"Relative Frequency","Variability",null,"Frequency",null,"Relative Frequency","Variability",null,"Frequency",null,"Relative Frequency","Variability"]
[21,33,22,42,24,55,23,77,13,94,0,22221,null,11111,{"$f":"COUNTIF($L$7:$L$500,N7)","v":1},{"$f":"O7/$Q$4","v":0.16666666666666666},{"$f":"IF(P7=0,0,(P7*((LOG(P7))/LOG(2))))","v":-0.43082708345352599},null,null,{"$f":"N7","v":11111},{"$f":"COUNTIF(L7:L7,T7)","v":0},{"$f":"U7/(W4-U25)","v":0},{"$f":"IF(V7=0,0,(V7*((LOG(V7))/LOG(2))))","v":0},null,{"$f":"N7","v":11111},{"$f":"COUNTIF(L8:L8,Y7)","v":0},{"$f":"Z7/(AB4-Z25)","v":0},{"$f":"IF(AA7=0,0,(AA7*((LOG(AA7))/LOG(2))))","v":0},null,{"$f":"N7","v":11111},{"$f":"COUNTIF(L9:L9,AD7)","v":0},{"$f":"AE7/(AG4-AE25)","v":0},{"$f":"IF(AF7=0,0,(AF7*((LOG(AF7))/LOG(2))))","v":0},null,{"$f":"N7","v":11111},{"$f":"COUNTIF(L10:L10,AI7)","v":0},{"$f":"AJ7/(AL4-AJ25)","v":0},{"$f":"IF(AK7=0,0,(AK7*((LOG(AK7))/LOG(2))))","v":0},null,{"$f":"N7","v":11111},{"$f":"COUNTIF(L11:L11,AN7)","v":1},{"$f":"AO7/(AQ4-AO25)","v":1},{"$f":"IF(AP7=0,0,(AP7*((LOG(AP7))/LOG(2))))","v":0},null,{"$f":"N7","v":11111},{"$f":"COUNTIF(L12:L12,AS7)","v":0},{"$f":"AT7/(AV4-AT25)","v":0},{"$f":"IF(AU7=0,0,(AU7*((LOG(AU7))/LOG(2))))","v":0}]
[21,246,22,258,13,292,23,305,13,347,0,22121,null,11112,{"$f":"COUNTIF($L$7:$L$500,N8)","v":1},{"$f":"O8/$Q$4","v":0.16666666666666666},{"$f":"IF(P8=0,0,(P8*((LOG(P8))/LOG(2))))","v":-0.43082708345352599},null,null,{"$f":"N8","v":11112},{"$f":"COUNTIF(L7:L7,T8)","v":0},{"$f":"U8/(W4-U25)","v":0},{"$f":"IF(V8=0,0,(V8*((LOG(V8))/LOG(2))))","v":0},null,{"$f":"N8","v":11112},{"$f":"COUNTIF(L8:L8,Y8)","v":0},{"$f":"Z8/(AB4-Z25)","v":0},{"$f":"IF(AA8=0,0,(AA8*((LOG(AA8))/LOG(2))))","v":0},null,{"$f":"N8","v":11112},{"$f":"COUNTIF(L9:L9,AD8)","v":0},{"$f":"AE8/(AG4-AE25)","v":0},{"$f":"IF(AF8=0,0,(AF8*((LOG(AF8))/LOG(2))))","v":0},null,{"$f":"N8","v":11112},{"$f":"COUNTIF(L10:L10,AI8)","v":0},{"$f":"AJ8/(AL4-AJ25)","v":0},{"$f":"IF(AK8=0,0,(AK8*((LOG(AK8))/LOG(2))))","v":0},null,{"$f":"N8","v":11112},{"$f":"COUNTIF(L11:L11,AN8)","v":0},{"$f":"AO8/(AQ4-AO25)","v":0},{"$f":"IF(AP8=0,0,(AP8*((LOG(AP8))/LOG(2))))","v":0},null,{"$f":"N8","v":11112},{"$f":"COUNTIF(L12:L12,AS8)","v":1},{"$f":"AT8/(AV4-AT25)","v":1},{"$f":"IF(AU8=0,0,(AU8*((LOG(AU8))/LOG(2))))","v":0}]
[21,529,22,543,24,555,23,571,13,588,0,22221,null,11121,{"$f":"COUNTIF($L$7:$L$500,N9)","v":0},{"$f":"O9/$Q$4","v":0},{"$f":"IF(P9=0,0,(P9*((LOG(P9))/LOG(2))))","v":0},null,null,{"$f":"N9","v":11121},{"$f":"COUNTIF(L7:L7,T9)","v":0},{"$f":"U9/(W4-U25)","v":0},{"$f":"IF(V9=0,0,(V9*((LOG(V9))/LOG(2))))","v":0},null,{"$f":"N9","v":11121},{"$f":"COUNTIF(L8:L8,Y9)","v":0},{"$f":"Z9/(AB4-Z25)","v":0},{"$f":"IF(AA9=0,0,(AA9*((LOG(AA9))/LOG(2))))","v":0},null,{"$f":"N9","v":11121},{"$f":"COUNTIF(L9:L9,AD9)","v":0},{"$f":"AE9/(AG4-AE25)","v":0},{"$f":"IF(AF9=0,0,(AF9*((LOG(AF9))/LOG(2))))","v":0},null,{"$f":"N9","v":11121},{"$f":"COUNTIF(L10:L10,AI9)","v":0},{"$f":"AJ9/(AL4-AJ25)","v":0},{"$f":"IF(AK9=0,0,(AK9*((LOG(AK9))/LOG(2))))","v":0},null,{"$f":"N9","v":11121},{"$f":"COUNTIF(L11:L11,AN9)","v":0},{"$f":"AO9/(AQ4-AO25)","v":0},{"$f":"IF(AP9=0,0,(AP9*((LOG(AP9))/LOG(2))))","v":0},null,{"$f":"N9","v":11121},{"$f":"COUNTIF(L12:L12,AS9)","v":0},{"$f":"AT9/(AV4-AT25)","v":0},{"$f":"IF(AU9=0,0,(AU9*((LOG(AU9))/LOG(2))))","v":0}]
[12,738,24,767,24,787,23,798,13,810,0,12221,null,11122,{"$f":"COUNTIF($L$7:$L$500,N10)","v":0},{"$f":"O10/$Q$4","v":0},{"$f":"IF(P10=0,0,(P10*((LOG(P10))/LOG(2))))","v":0},null,null,{"$f":"N10","v":11122},{"$f":"COUNTIF(L7:L7,T10)","v":0},{"$f":"U10/(W4-U25)","v":0},{"$f":"IF(V10=0,0,(V10*((LOG(V10))/LOG(2))))","v":0},null,{"$f":"N10","v":11122},{"$f":"COUNTIF(L8:L8,Y10)","v":0},{"$f":"Z10/(AB4-Z25)","v":0},{"$f":"IF(AA10=0,0,(AA10*((LOG(AA10))/LOG(2))))","v":0},null,{"$f":"N10","v":11122},{"$f":"COUNTIF(L9:L9,AD10)","v":0},{"$f":"AE10/(AG4-AE25)","v":0},{"$f":"IF(AF10=0,0,(AF10*((LOG(AF10))/LOG(2))))","v":0},null,{"$f":"N10","v":11122},{"$f":"COUNTIF(L10:L10,AI10)","v":0},{"$f":"AJ10/(AL4-AJ25)","v":0},{"$f":"IF(AK10=0,0,(AK10*((LOG(AK10))/LOG(2))))","v":0},null,{"$f":"N10","v":11122},{"$f":"COUNTIF(L11:L11,AN10)","v":0},{"$f":"AO10/(AQ4-AO25)","v":0},{"$f":"IF(AP10=0,0,(AP10*((LOG(AP10))/LOG(2))))","v":0},null,{"$f":"N10","v":11122},{"$f":"COUNTIF(L12:L12,AS10)","v":0},{"$f":"AT10/(AV4-AT25)","v":0},{"$f":"IF(AU10=0,0,(AU10*((LOG(AU10))/LOG(2))))","v":0}]
[12,14703,13,14718,13,14732,14,14745,13,14757,0,11111,null,11211,{"$f":"COUNTIF($L$7:$L$500,N11)","v":0},{"$f":"O11/$Q$4","v":0},{"$f":"IF(P11=0,0,(P11*((LOG(P11))/LOG(2))))","v":0},null,null,{"$f":"N11","v":11211},{"$f":"COUNTIF(L7:L7,T11)","v":0},{"$f":"U11/(W4-U25)","v":0},{"$f":"IF(V11=0,0,(V11*((LOG(V11))/LOG(2))))","v":0},null,{"$f":"N11","v":11211},{"$f":"COUNTIF(L8:L8,Y11)","v":0},{"$f":"Z11/(AB4-Z25)","v":0},{"$f":"IF(AA11=0,0,(AA11*((LOG(AA11))/LOG(2))))","v":0},null,{"$f":"N11","v":11211},{"$f":"COUNTIF(L9:L9,AD11)","v":0},{"$f":"AE11/(AG4-AE25)","v":0},{"$f":"IF(AF11=0,0,(AF11*((LOG(AF11))/LOG(2))))","v":0},null,{"$f":"N11","v":11211},{"$f":"COUNTIF(L10:L10,AI11)","v":0},{"$f":"AJ11/(AL4-AJ25)","v":0},{"$f":"IF(AK11=0,0,(AK11*((LOG(AK11))/LOG(2))))","v":0},null,{"$f":"N11","v":11211},{"$f":"COUNTIF(L11:L11,AN11)","v":0},{"$f":"AO11/(AQ4-AO25)","v":0},{"$f":"IF(AP11=0,0,(AP11*((LOG(AP11))/LOG(2))))","v":0},null,{"$f":"N11","v":11211},{"$f":"COUNTIF(L12:L12,AS11)","v":0},{"$f":"AT11/(AV4-AT25)","v":0},{"$f":"IF(AU11=0,0,(AU11*((LOG(AU11))/LOG(2))))","v":0}]
[12,14938,13,14952,13,14965,14,14995,24,15033,0,11112,null,11212,{"$f":"COUNTIF($L$7:$L$500,N12)","v":0},{"$f":"O12/$Q$4","v":0},{"$f":"IF(P12=0,0,(P12*((LOG(P12))/LOG(2))))","v":0},null,null,{"$f":"N12","v":11212},{"$f":"COUNTIF(L7:L7,T12)","v":0},{"$f":"U12/(W4-U25)","v":0},{"$f":"IF(V12=0,0,(V12*((LOG(V12))/LOG(2))))","v":0},null,{"$f":"N12","v":11212},{"$f":"COUNTIF(L8:L8,Y12)","v":0},{"$f":"Z12/(AB4-Z25)","v":0},{"$f":"IF(AA12=0,0,(AA12*((LOG(AA12))/LOG(2))))","v":0},null,{"$f":"N12","v":11212},{"$f":"COUNTIF(L9:L9,AD12)","v":0},{"$f":"AE12/(AG4-AE25)","v":0},{"$f":"IF(AF12=0,0,(AF12*((LOG(AF12))/LOG(2))))","v":0},null,{"$f":"N12","v":11212},{"$f":"COUNTIF(L10:L10,AI12)","v":0},{"$f":"AJ12/(AL4-AJ25)","v":0},{"$f":"IF(AK12=0,0,(AK12*((LOG(AK12))/LOG(2))))","v":0},null,{"$f":"N12","v":11212},{"$f":"COUNTIF(L11:L11,AN12)","v":0},{"$f":"AO12/(AQ4-AO25)","v":0},{"$f":"IF(AP12=0,0,(AP12*((LOG(AP12))/LOG(2))))","v":0},null,{"$f":"N12","v":11212},{"$f":"COUNTIF(L12:L12,AS12)","v":0},{"$f":"AT12/(AV4-AT25)","v":0},{"$f":"IF(AU12=0,0,(AU12*((LOG(AU12))/LOG(2))))","v":0}]
[null,null,null,null,null,null,null,null,null,null,null,null,null,11221,{"$f":"COUNTIF($L$7:$L$500,N13)","v":0},{"$f":"O13/$Q$4","v":0},{"$f":"IF(P13=0,0,(P13*((LOG(P13))/LOG(2))))","v":0},null,null,{"$f":"N13","v":11221},{"$f":"COUNTIF(L7:L7,T13)","v":0},{"$f":"U13/(W4-U25)","v":0},{"$f":"IF(V13=0,0,(V13*((LOG(V13))/LOG(2))))","v":0},null,{"$f":"N13","v":11221},{"$f":"COUNTIF(L8:L8,Y13)","v":0},{"$f":"Z13/(AB4-Z25)","v":0},{"$f":"IF(AA13=0,0,(AA13*((LOG(AA13))/LOG(2))))","v":0},null,{"$f":"N13","v":11221},{"$f":"COUNTIF(L9:L9,AD13)","v":0},{"$f":"AE13/(AG4-AE25)","v":0},{"$f":"IF(AF13=0,0,(AF13*((LOG(AF13))/LOG(2))))","v":0},null,{"$f":"N13","v":11221},{"$f":"COUNTIF(L10:L10,AI13)","v":0},{"$f":"AJ13/(AL4-AJ25)","v":0},{"$f":"IF(AK13=0,0,(AK13*((LOG(AK13))/LOG(2))))","v":0},null,{"$f":"N13","v":11221},{"$f":"COUNTIF(L11:L11,AN13)","v":0},{"$f":"AO13/(AQ4-AO25)","v":0},{"$f":"IF(AP13=0,0,(AP13*((LOG(AP13))/LOG(2))))","v":0},null,{"$f":"N13","v":11221},{"$f":"COUNTIF(L12:L12,AS13)","v":0},{"$f":"AT13/(AV4-AT25)","v":0},{"$f":"IF(AU13=0,0,(AU13*((LOG(AU13))/LOG(2))))","v":0}]
[null,null,null,null,null,null,null,null,null,null,null,null,null,11222,{"$f":"COUNTIF($L$7:$L$500,N14)","v":0},{"$f":"O14/$Q$4","v":0},{"$f":"IF(P14=0,0,(P14*((LOG(P14))/LOG(2))))","v":0},null,null,{"$f":"N14","v":11222},{"$f":"COUNTIF(L7:L7,T14)","v":0},{"$f":"U14/(W4-U25)","v":0},{"$f":"IF(V14=0,0,(V14*((LOG(V14))/LOG(2))))","v":0},null,{"$f":"N14","v":11222},{"$f":"COUNTIF(L8:L8,Y14)","v":0},{"$f":"Z14/(AB4-Z25)","v":0},{"$f":"IF(AA14=0,0,(AA14*((LOG(AA14))/LOG(2))))","v":0},null,{"$f":"N14","v":11222},{"$f":"COUNTIF(L9:L9,AD14)","v":0},{"$f":"AE14/(AG4-AE25)","v":0},{"$f":"IF(AF14=0,0,(AF14*((LOG(AF14))/LOG(2))))","v":0},null,{"$f":"N14","v":11222},{"$f":"COUNTIF(L10:L10,AI14)","v":0},{"$f":"AJ14/(AL4-AJ25)","v":0},{"$f":"IF(AK14=0,0,(AK14*((LOG(AK14))/LOG(2))))","v":0},null,{"$f":"N14","v":11222},{"$f":"COUNTIF(L11:L11,AN14)","v":0},{"$f":"AO14/(AQ4-AO25)","v":0},{"$f":"IF(AP14=0,0,(AP14*((LOG(AP14))/LOG(2))))","v":0},null,{"$f":"N14","v":11222},{"$f":"COUNTIF(L12:L12,AS14)","v":0},{"$f":"AT14/(AV4-AT25)","v":0},{"$f":"IF(AU14=0,0,(AU14*((LOG(AU14))/LOG(2))))","v":0}]
[null,null,null,null,null,null,null,null,null,null,null,null,null,12111,{"$f":"COUNTIF($L$7:$L$500,N15)","v":0},{"$f":"O15/$Q$4","v":0},{"$f":"IF(P15=0,0,(P15*((LOG(P15))/LOG(2))))","v":0},null,null,{"$f":"N15","v":12111},{"$f":"COUNTIF(L7:L7,T15)","v":0},{"$f":"U15/(W4-U25)","v":0},{"$f":"IF(V15=0,0,(V15*((LOG(V15))/LOG(2))))","v":0},null,{"$f":"N15","v":12111},{"$f":"COUNTIF(L8:L8,Y15)","v":0},{"$f":"Z15/(AB4-Z25)","v":0},{"$f":"IF(AA15=0,0,(AA15*((LOG(AA15))/LOG(2))))","v":0},null,{"$f":"N15","v":12111},{"$f":"COUNTIF(L9:L9,AD15)","v":0},{"$f":"AE15/(AG4-AE25)","v":0},{"$f":"IF(AF15=0,0,(AF15*((LOG(AF15))/LOG(2))))","v":0},null,{"$f":"N15","v":12111},{"$f":"COUNTIF(L10:L10,AI15)","v":0},{"$f":"AJ15/(AL4-AJ25)","v":0},{"$f":"IF(AK15=0,0,(AK15*((LOG(AK15))/LOG(2))))","v":0},null,{"$f":"N15","v":12111},{"$f":"COUNTIF(L11:L11,AN15)","v":0},{"$f":"AO15/(AQ4-AO25)","v":0},{"$f":"IF(AP15=0,0,(AP15*((LOG(AP15))/LOG(2))))","v":0},null,{"$f":"N15","v":12111},{"$f":"COUNTIF(L12:L12,AS15)","v":0},{"$f":"AT15/(AV4-AT25)","v":0},{"$f":"IF(AU15=0,0,(AU15*((LOG(AU15))/LOG(2))))","v":0}]
[null,null,null,null,null,null,null,null,null,null,null,null,null,12112,{"$f":"COUNTIF($L$7:$L$500,N16)","v":0},{"$f":"O16/$Q$4","v":0},{"$f":"IF(P16=0,0,(P16*((LOG(P16))/LOG(2))))","v":0},null,null,{"$f":"N16","v":12112},{"$f":"COUNTIF(L7:L7,T16)","v":0},{"$f":"U16/(W4-U25)","v":0},{"$f":"IF(V16=0,0,(V16*((LOG(V16))/LOG(2))))","v":0},null,{"$f":"N16","v":12112},{"$f":"COUNTIF(L8:L8,Y16)","v":0},{"$f":"Z16/(AB4-Z25)","v":0},{"$f":"IF(AA16=0,0,(AA16*((LOG(AA16))/LOG(2))))","v":0},null,{"$f":"N16","v":12112},{"$f":"COUNTIF(L9:L9,AD16)","v":0},{"$f":"AE16/(AG4-AE25)","v":0},{"$f":"IF(AF16=0,0,(AF16*((LOG(AF16))/LOG(2))))","v":0},null,{"$f":"N16","v":12112},{"$f":"COUNTIF(L10:L10,AI16)","v":0},{"$f":"AJ16/(AL4-AJ25)","v":0},{"$f":"IF(AK16=0,0,(AK16*((LOG(AK16))/LOG(2))))","v":0},null,{"$f":"N16","v":12112},{"$f":"COUNTIF(L11:L11,AN16)","v":0},{"$f":"AO16/(AQ4-AO25)","v":0},{"$f":"IF(AP16=0,0,(AP16*((LOG(AP16))/LOG(2))))","v":0},null,{"$f":"N16","v":12112},{"$f":"COUNTIF(L12:L12,AS16)","v":0},{"$f":"AT16/(AV4-AT25)","v":0},{"$f":"IF(AU16=0,0,(AU16*((LOG(AU16))/LOG(2))))","v":0}]
[null,null,null,null,null,null,null,null,null,null,null,null,null,12121,{"$f":"COUNTIF($L$7:$L$500,N17)","v":0},{"$f":"O17/$Q$4","v":0},{"$f":"IF(P17=0,0,(P17*((LOG(P17))/LOG(2))))","v":0},null,null,{"$f":"N17","v":12121},{"$f":"COUNTIF(L7:L7,T17)","v":0},{"$f":"U17/(W4-U25)","v":0},{"$f":"IF(V17=0,0,(V17*((LOG(V17))/LOG(2))))","v":0},null,{"$f":"N17","v":12121},{"$f":"COUNTIF(L8:L8,Y17)","v":0},{"$f":"Z17/(AB4-Z25)","v":0},{"$f":"IF(AA17=0,0,(AA17*((LOG(AA17))/LOG(2))))","v":0},null,{"$f":"N17","v":12121},{"$f":"COUNTIF(L9:L9,AD17)","v":0},{"$f":"AE17/(AG4-AE25)","v":0},{"$f":"IF(AF17=0,0,(AF17*((LOG(AF17))/LOG(2))))","v":0},null,{"$f":"N17","v":12121},{"$f":"COUNTIF(L10:L10,AI17)","v":0},{"$f":"AJ17/(AL4-AJ25)","v":0},{"$f":"IF(AK17=0,0,(AK17*((LOG(AK17))/LOG(2))))","v":0},null,{"$f":"N17","v":12121},{"$f":"COUNTIF(L11:L11,AN17)","v":0},{"$f":"AO17/(AQ4-AO25)","v":0},{"$f":"IF(AP17=0,0,(AP17*((LOG(AP17))/LOG(2))))","v":0},null,{"$f":"N17","v":12121},{"$f":"COUNTIF(L12:L12,AS17)","v":0},{"$f":"AT17/(AV4-AT25)","v":0},{"$f":"IF(AU17=0,0,(AU17*((LOG(AU17))/LOG(2))))","v":0}]
[null,null,null,null,null,null,null,null,null,null,null,null,null,12122,{"$f":"COUNTIF($L$7:$L$500,N18)","v":0},{"$f":"O18/$Q$4","v":0},{"$f":"IF(P18=0,0,(P18*((LOG(P18))/LOG(2))))","v":0},null,null,{"$f":"N18","v":12122},{"$f":"COUNTIF(L7:L7,T18)","v":0},{"$f":"U18/(W4-U25)","v":0},{"$f":"IF(V18=0,0,(V18*((LOG(V18))/LOG(2))))","v":0},null,{"$f":"N18","v":12122},{"$f":"COUNTIF(L8:L8,Y18)","v":0},{"$f":"Z18/(AB4-Z25)","v":0},{"$f":"IF(AA18=0,0,(AA18*((LOG(AA18))/LOG(2))))","v":0},null,{"$f":"N18","v":12122},{"$f":"COUNTIF(L9:L9,AD18)","v":0},{"$f":"AE18/(AG4-AE25)","v":0},{"$f":"IF(AF18=0,0,(AF18*((LOG(AF18))/LOG(2))))","v":0},null,{"$f":"N18","v":12122},{"$f":"COUNTIF(L10:L10,AI18)","v":0},{"$f":"AJ18/(AL4-AJ25)","v":0},{"$f":"IF(AK18=0,0,(AK18*((LOG(AK18))/LOG(2))))","v":0},null,{"$f":"N18","v":12122},{"$f":"COUNTIF(L11:L11,AN18)","v":0},{"$f":"AO18/(AQ4-AO25)","v":0},{"$f":"IF(AP18=0,0,(AP18*((LOG(AP18))/LOG(2))))","v":0},null,{"$f":"N18","v":12122},{"$f":"COUNTIF(L12:L12,AS18)","v":0},{"$f":"AT18/(AV4-AT25)","v":0},{"$f":"IF(AU18=0,0,(AU18*((LOG(AU18))/LOG(2))))","v":0}]
[null,null,null,null,null,null,null,null,null,null,null,null,null,12211,{"$f":"COUNTIF($L$7:$L$500,N19)","v":0},{"$f":"O19/$Q$4","v":0},{"$f":"IF(P19=0,0,(P19*((LOG(P19))/LOG(2))))","v":0},null,null,{"$f":"N19","v":12211},{"$f":"COUNTIF(L7:L7,T19)","v":0},{"$f":"U19/(W4-U25)","v":0},{"$f":"IF(V19=0,0,(V19*((LOG(V19))/LOG(2))))","v":0},null,{"$f":"N19","v":12211},{"$f":"COUNTIF(L8:L8,Y19)","v":0},{"$f":"Z19/(AB4-Z25)","v":0},{"$f":"IF(AA19=0,0,(AA19*((LOG(AA19))/LOG(2))))","v":0},null,{"$f":"N19","v":12211},{"$f":"COUNTIF(L9:L9,AD19)","v":0},{"$f":"AE19/(AG4-AE25)","v":0},{"$f":"IF(AF19=0,0,(AF19*((LOG(AF19))/LOG(2))))","v":0},null,{"$f":"N19","v":12211},{"$f":"COUNTIF(L10:L10,AI19)","v":0},{"$f":"AJ19/(AL4-AJ25)","v":0},{"$f":"IF(AK19=0,0,(AK19*((LOG(AK19))/LOG(2))))","v":0},null,{"$f":"N19","v":12211},{"$f":"COUNTIF(L11:L11,AN19)","v":0},{"$f":"AO19/(AQ4-AO25)","v":0},{"$f":"IF(AP19=0,0,(AP19*((LOG(AP19))/LOG(2))))","v":0},null,{"$f":"N19","v":12211},{"$f":"COUNTIF(L12:L12,AS19)","v":0},{"$f":"AT19/(AV4-AT25)","v":0},{"$f":"IF(AU19=0,0,(AU19*((LOG(AU19))/LOG(2))))","v":0}]
[null,null,null,null,null,null,null,null,null,null,null,null,null,12212,{"$f":"COUNTIF($L$7:$L$500,N20)","v":0},{"$f":"O20/$Q$4","v":0},{"$f":"IF(P20=0,0,(P20*((LOG(P20))/LOG(2))))","v":0},null,null,{"$f":"N20","v":12212},{"$f":"COUNTIF(L7:L7,T20)","v":0},{"$f":"U20/(W4-U25)","v":0},{"$f":"IF(V20=0,0,(V20*((LOG(V20))/LOG(2))))","v":0},null,{"$f":"N20","v":12212},{"$f":"COUNTIF(L8:L8,Y20)","v":0},{"$f":"Z20/(AB4-Z25)","v":0},{"$f":"IF(AA20=0,0,(AA20*((LOG(AA20))/LOG(2))))","v":0},null,{"$f":"N20","v":12212},{"$f":"COUNTIF(L9:L9,AD20)","v":0},{"$f":"AE20/(AG4-AE25)","v":0},{"$f":"IF(AF20=0,0,(AF20*((LOG(AF20))/LOG(2))))","v":0},null,{"$f":"N20","v":12212},{"$f":"COUNTIF(L10:L10,AI20)","v":0},{"$f":"AJ20/(AL4-AJ25)","v":0},{"$f":"IF(AK20=0,0,(AK20*((LOG(AK20))/LOG(2))))","v":0},null,{"$f":"N20","v":12212},{"$f":"COUNTIF(L11:L11,AN20)","v":0},{"$f":"AO20/(AQ4-AO25)","v":0},{"$f":"IF(AP20=0,0,(AP20*((LOG(AP20))/LOG(2))))","v":0},null,{"$f":"N20","v":12212},{"$f":"COUNTIF(L12:L12,AS20)","v":0},{"$f":"AT20/(AV4-AT25)","v":0},{"$f":"IF(AU20=0,0,(AU20*((LOG(AU20))/LOG(2))))","v":0}]
[null,null,null,null,null,null,null,null,null,null,null,null,null,12221,{"$f":"COUNTIF($L$7:$L$500,N21)","v":1},{"$f":"O21/$Q$4","v":0.16666666666666666},{"$f":"IF(P21=0,0,(P21*((LOG(P21))/LOG(2))))","v":-0.43082708345352599},null,null,{"$f":"N21","v":12221},{"$f":"COUNTIF(L7:L7,T21)","v":0},{"$f":"U21/(W4-U25)","v":0},{"$f":"IF(V21=0,0,(V21*((LOG(V21))/LOG(2))))","v":0},null,{"$f":"N21","v":12221},{"$f":"COUNTIF(L8:L8,Y21)","v":0},{"$f":"Z21/(AB4-Z25)","v":0},{"$f":"IF(AA21=0,0,(AA21*((LOG(AA21))/LOG(2))))","v":0},null,{"$f":"N21","v":12221},{"$f":"COUNTIF(L9:L9,AD21)","v":0},{"$f":"AE21/(AG4-AE25)","v":0},{"$f":"IF(AF21=0,0,(AF21*((LOG(AF21))/LOG(2))))","v":0},null,{"$f":"N21","v":12221},{"$f":"COUNTIF(L10:L10,AI21)","v":1},{"$f":"AJ21/(AL4-AJ25)","v":1},{"$f":"IF(AK21=0,0,(AK21*((LOG(AK21))/LOG(2))))","v":0},null,{"$f":"N21","v":12221},{"$f":"COUNTIF(L11:L11,AN21)","v":0},{"$f":"AO21/(AQ4-AO25)","v":0},{"$f":"IF(AP21=0,0,(AP21*((LOG(AP21))/LOG(2))))","v":0},null,{"$f":"N21","v":12221},{"$f":"COUNTIF(L12:L12,AS21)","v":0},{"$f":"AT21/(AV4-AT25)","v":0},{"$f":"IF(AU21=0,0,(AU21*((LOG(AU21))/LOG(2))))","v":0}]
[null,null,null,null,null,null,null,null,null,null,null,null,null,12222,{"$f":"COUNTIF($L$7:$L$500,N22)","v":0},{"$f":"O22/$Q$4","v":0},{"$f":"IF(P22=0,0,(P22*((LOG(P22))/LOG(2))))","v":0},null,null,{"$f":"N22","v":12222},{"$f":"COUNTIF(L7:L7,T22)","v":0},{"$f":"U22/(W4-U25)","v":0},{"$f":"IF(V22=0,0,(V22*((LOG(V22))/LOG(2))))","v":0},null,{"$f":"N22","v":12222},{"$f":"COUNTIF(L8:L8,Y22)","v":0},{"$f":"Z22/(AB4-Z25)","v":0},{"$f":"IF(AA22=0,0,(AA22*((LOG(AA22))/LOG(2))))","v":0},null,{"$f":"N22","v":12222},{"$f":"COUNTIF(L9:L9,AD22)","v":0},{"$f":"AE22/(AG4-AE25)","v":0},{"$f":"IF(AF22=0,0,(AF22*((LOG(AF22))/LOG(2))))","v":0},null,{"$f":"N22","v":12222},{"$f":"COUNTIF(L10:L10,AI22)","v":0},{"$f":"AJ22/(AL4-AJ25)","v":0},{"$f":"IF(AK22=0,0,(AK22*((LOG(AK22))/LOG(2))))","v":0},null,{"$f":"N22","v":12222},{"$f":"COUNTIF(L11:L11,AN22)","v":0},{"$f":"AO22/(AQ4-AO25)","v":0},{"$f":"IF(AP22=0,0,(AP22*((LOG(AP22))/LOG(2))))","v":0},null,{"$f":"N22","v":12222},{"$f":"COUNTIF(L12:L12,AS22)","v":0},{"$f":"AT22/(AV4-AT25)","v":0},{"$f":"IF(AU22=0,0,(AU22*((LOG(AU22))/LOG(2))))","v":0}]
[null,null,null,null,null,null,null,null,null,null,null,null,null,21111,{"$f":"COUNTIF($L$7:$L$500,N23)","v":0},{"$f":"O23/$Q$4","v":0},{"$f":"IF(P23=0,0,(P23*((LOG(P23))/LOG(2))))","v":0},null,null,{"$f":"N23","v":21111},{"$f":"COUNTIF(L7:L7,T23)","v":0},{"$f":"U23/(W4-U25)","v":0},{"$f":"IF(V23=0,0,(V23*((LOG(V23))/LOG(2))))","v":0},null,{"$f":"N23","v":21111},{"$f":"COUNTIF(L8:L8,Y23)","v":0},{"$f":"Z23/(AB4-Z25)","v":0},{"$f":"IF(AA23=0,0,(AA23*((LOG(AA23))/LOG(2))))","v":0},null,{"$f":"N23","v":21111},{"$f":"COUNTIF(L9:L9,AD23)","v":0},{"$f":"AE23/(AG4-AE25)","v":0},{"$f":"IF(AF23=0,0,(AF23*((LOG(AF23))/LOG(2))))","v":0},null,{"$f":"N23","v":21111},{"$f":"COUNTIF(L10:L10,AI23)","v":0},{"$f":"AJ23/(AL4-AJ25)","v":0},{"$f":"IF(AK23=0,0,(AK23*((LOG(AK23))/LOG(2))))","v":0},null,{"$f":"N23","v":21111},{"$f":"COUNTIF(L11:L11,AN23)","v":0},{"$f":"AO23/(AQ4-AO25)","v":0},{"$f":"IF(AP23=0,0,(AP23*((LOG(AP23))/LOG(2))))","v":0},null,{"$f":"N23","v":21111},{"$f":"COUNTIF(L12:L12,AS23)","v":0},{"$f":"AT23/(AV4-AT25)","v":0},{"$f":"IF(AU23=0,0,(AU23*((LOG(AU23))/LOG(2))))","v":0}]
[null,null,null,null,null,null,null,null,null,null,null,null,null,21112,{"$f":"COUNTIF($L$7:$L$500,N24)","v":0},{"$f":"O24/$Q$4","v":0},{"$f":"IF(P24=0,0,(P24*((LOG(P24))/LOG(2))))","v":0},null,null,{"$f":"N24","v":21112},{"$f":"COUNTIF(L7:L7,T24)","v":0},{"$f":"U24/(W4-U25)","v":0},{"$f":"IF(V24=0,0,(V24*((LOG(V24))/LOG(2))))","v":0},null,{"$f":"N24","v":21112},{"$f":"COUNTIF(L8:L8,Y24)","v":0},{"$f":"Z24/(AB4-Z25)","v":0},{"$f":"IF(AA24=0,0,(AA24*((LOG(AA24))/LOG(2))))","v":0},null,{"$f":"N24","v":21112},{"$f":"COUNTIF(L9:L9,AD24)","v":0},{"$f":"AE24/(AG4-AE25)","v":0},{"$f":"IF(AF24=0,0,(AF24*((LOG(AF24))/LOG(2))))","v":0},null,{"$f":"N24","v":21112},{"$f":"COUNTIF(L10:L10,AI24)","v":0},{"$f":"AJ24/(AL4-AJ25)","v":0},{"$f":"IF(AK24=0,0,(AK24*((LOG(AK24))/LOG(2))))","v":0},null,{"$f":"N24","v":21112},{"$f":"COUNTIF(L11:L11,AN24)","v":0},{"$f":"AO24/(AQ4-AO25)","v":0},{"$f":"IF(AP24=0,0,(AP24*((LOG(AP24))/LOG(2))))","v":0},null,{"$f":"N24","v":21112},{"$f":"COUNTIF(L12:L12,AS24)","v":0},{"$f":"AT24/(AV4-AT25)","v":0},{"$f":"IF(AU24=0,0,(AU24*((LOG(AU24))/LOG(2))))","v":0}]
[null,null,null,null,null,null,null,null,null,null,null,null,null,21121,{"$f":"COUNTIF($L$7:$L$500,N25)","v":0},{"$f":"O25/$Q$4","v":0},{"$f":"IF(P25=0,0,(P25*((LOG(P25))/LOG(2))))","v":0},null,null,{"$f":"N25","v":21121},{"$f":"COUNTIF(L7:L7,T25)","v":0},null,null,null,{"$f":"N25","v":21121},{"$f":"COUNTIF(L8:L8,Y25)","v":0},null,null,null,{"$f":"N25","v":21121},{"$f":"COUNTIF(L9:L9,AD25)","v":0},null,null,null,{"$f":"N25","v":21121},{"$f":"COUNTIF(L10:L10,AI25)","v":0},null,null,null,{"$f":"N25","v":21121},{"$f":"COUNTIF(L11:L11,AN25)","v":0},null,null,null,{"$f":"N25","v":21121},{"$f":"COUNTIF(L12:L12,AS25)","v":0}]
[null,null,null,null,null,null,null,null,null,null,null,null,null,21122,{"$f":"COUNTIF($L$7:$L$500,N26)","v":0},{"$f":"O26/$Q$4","v":0},{"$f":"IF(P26=0,0,(P26*((LOG(P26))/LOG(2))))","v":0},null,null,{"$f":"N26","v":21122},{"$f":"COUNTIF(L7:L7,T26)","v":0},{"$f":"U26/(W4-U25)","v":0},{"$f":"IF(V26=0,0,(V26*((LOG(V26))/LOG(2))))","v":0},null,{"$f":"N26","v":21122},{"$f":"COUNTIF(L8:L8,Y26)","v":0},{"$f":"Z26/(AB4-Z25)","v":0},{"$f":"IF(AA26=0,0,(AA26*((LOG(AA26))/LOG(2))))","v":0},null,{"$f":"N26","v":21122},{"$f":"COUNTIF(L9:L9,AD26)","v":0},{"$f":"AE26/(AG4-AE25)","v":0},{"$f":"IF(AF26=0,0,(AF26*((LOG(AF26))/LOG(2))))","v":0},null,{"$f":"N26","v":21122},{"$f":"COUNTIF(L10:L10,AI26)","v":0},{"$f":"AJ26/(AL4-AJ25)","v":0},{"$f":"IF(AK26=0,0,(AK26*((LOG(AK26))/LOG(2))))","v":0},null,{"$f":"N26","v":21122},{"$f":"COUNTIF(L11:L11,AN26)","v":0},{"$f":"AO26/(AQ4-AO25)","v":0},{"$f":"IF(AP26=0,0,(AP26*((LOG(AP26))/LOG(2))))","v":0},null,{"$f":"N26","v":21122},{"$f":"COUNTIF(L12:L12,AS26)","v":0},{"$f":"AT26/(AV4-AT25)","v":0},{"$f":"IF(AU26=0,0,(AU26*((LOG(AU26))/LOG(2))))","v":0}]
[null,null,null,null,null,null,null,null,null,null,null,null,null,21211,{"$f":"COUNTIF($L$7:$L$500,N27)","v":0},{"$f":"O27/$Q$4","v":0},{"$f":"IF(P27=0,0,(P27*((LOG(P27))/LOG(2))))","v":0},null,null,{"$f":"N27","v":21211},{"$f":"COUNTIF(L7:L7,T27)","v":0},{"$f":"U27/(W4-U25)","v":0},{"$f":"IF(V27=0,0,(V27*((LOG(V27))/LOG(2))))","v":0},null,{"$f":"N27","v":21211},{"$f":"COUNTIF(L8:L8,Y27)","v":0},{"$f":"Z27/(AB4-Z25)","v":0},{"$f":"IF(AA27=0,0,(AA27*((LOG(AA27))/LOG(2))))","v":0},null,{"$f":"N27","v":21211},{"$f":"COUNTIF(L9:L9,AD27)","v":0},{"$f":"AE27/(AG4-AE25)","v":0},{"$f":"IF(AF27=0,0,(AF27*((LOG(AF27))/LOG(2))))","v":0},null,{"$f":"N27","v":21211},{"$f":"COUNTIF(L10:L10,AI27)","v":0},{"$f":"AJ27/(AL4-AJ25)","v":0},{"$f":"IF(AK27=0,0,(AK27*((LOG(AK27))/LOG(2))))","v":0},null,{"$f":"N27","v":21211},{"$f":"COUNTIF(L11:L11,AN27)","v":0},{"$f":"AO27/(AQ4-AO25)","v":0},{"$f":"IF(AP27=0,0,(AP27*((LOG(AP27))/LOG(2))))","v":0},null,{"$f":"N27","v":21211},{"$f":"COUNTIF(L12:L12,AS27)","v":0},{"$f":"AT27/(AV4-AT25)","v":0},{"$f":"IF(AU27=0,0,(AU27*((LOG(AU27))/LOG(2))))","v":0}]
[null,null,null,null,null,null,null,null,null,null,null,null,null,21212,{"$f":"COUNTIF($L$7:$L$500,N28)","v":0},{"$f":"O28/$Q$4","v":0},{"$f":"IF(P28=0,0,(P28*((LOG(P28))/LOG(2))))","v":0},null,null,{"$f":"N28","v":21212},{"$f":"COUNTIF(L7:L7,T28)","v":0},{"$f":"U28/(W4-U25)","v":0},{"$f":"IF(V28=0,0,(V28*((LOG(V28))/LOG(2))))","v":0},null,{"$f":"N28","v":21212},{"$f":"COUNTIF(L8:L8,Y28)","v":0},{"$f":"Z28/(AB4-Z25)","v":0},{"$f":"IF(AA28=0,0,(AA28*((LOG(AA28))/LOG(2))))","v":0},null,{"$f":"N28","v":21212},{"$f":"COUNTIF(L9:L9,AD28)","v":0},{"$f":"AE28/(AG4-AE25)","v":0},{"$f":"IF(AF28=0,0,(AF28*((LOG(AF28))/LOG(2))))","v":0},null,{"$f":"N28","v":21212},{"$f":"COUNTIF(L10:L10,AI28)","v":0},{"$f":"AJ28/(AL4-AJ25)","v":0},{"$f":"IF(AK28=0,0,(AK28*((LOG(AK28))/LOG(2))))","v":0},null,{"$f":"N28","v":21212},{"$f":"COUNTIF(L11:L11,AN28)","v":0},{"$f":"AO28/(AQ4-AO25)","v":0},{"$f":"IF(AP28=0,0,(AP28*((LOG(AP28))/LOG(2))))","v":0},null,{"$f":"N28","v":21212},{"$f":"COUNTIF(L12:L12,AS28)","v":0},{"$f":"AT28/(AV4-AT25)","v":0},{"$f":"IF(AU28=0,0,(AU28*((LOG(AU28))/LOG(2))))","v":0}]
[null,null,null,null,null,null,null,null,null,null,null,null,null,21221,{"$f":"COUNTIF($L$7:$L$500,N29)","v":0},{"$f":"O29/$Q$4","v":0},{"$f":"IF(P29=0,0,(P29*((LOG(P29))/LOG(2))))","v":0},null,null,{"$f":"N29","v":21221},{"$f":"COUNTIF(L7:L7,T29)","v":0},{"$f":"U29/(W4-U25)","v":0},{"$f":"IF(V29=0,0,(V29*((LOG(V29))/LOG(2))))","v":0},null,{"$f":"N29","v":21221},{"$f":"COUNTIF(L8:L8,Y29)","v":0},{"$f":"Z29/(AB4-Z25)","v":0},{"$f":"IF(AA29=0,0,(AA29*((LOG(AA29))/LOG(2))))","v":0},null,{"$f":"N29","v":21221},{"$f":"COUNTIF(L9:L9,AD29)","v":0},{"$f":"AE29/(AG4-AE25)","v":0},{"$f":"IF(AF29=0,0,(AF29*((LOG(AF29))/LOG(2))))","v":0},null,{"$f":"N29","v":21221},{"$f":"COUNTIF(L10:L10,AI29)","v":0},{"$f":"AJ29/(AL4-AJ25)","v":0},{"$f":"IF(AK29=0,0,(AK29*((LOG(AK29))/LOG(2))))","v":0},null,{"$f":"N29","v":21221},{"$f":"COUNTIF(L11:L11,AN29)","v":0},{"$f":"AO29/(AQ4-AO25)","v":0},{"$f":"IF(AP29=0,0,(AP29*((LOG(AP29))/LOG(2))))","v":0},null,{"$f":"N29","v":21221},{"$f":"COUNTIF(L12:L12,AS29)","v":0},{"$f":"AT29/(AV4-AT25)","v":0},{"$f":"IF(AU29=0,0,(AU29*((LOG(AU29))/LOG(2))))","v":0}]
[null,null,null,null,null,null,null,null,null,null,null,null,null,21222,{"$f":"COUNTIF($L$7:$L$500,N30)","v":0},{"$f":"O30/$Q$4","v":0},{"$f":"IF(P30=0,0,(P30*((LOG(P30))/LOG(2))))","v":0},null,null,{"$f":"N30","v":21222},{"$f":"COUNTIF(L7:L7,T30)","v":0},{"$f":"U30/(W4-U25)","v":0},{"$f":"IF(V30=0,0,(V30*((LOG(V30))/LOG(2))))","v":0},null,{"$f":"N30","v":21222},{"$f":"COUNTIF(L8:L8,Y30)","v":0},{"$f":"Z30/(AB4-Z25)","v":0},{"$f":"IF(AA30=0,0,(AA30*((LOG(AA30))/LOG(2))))","v":0},null,{"$f":"N30","v":21222},{"$f":"COUNTIF(L9:L9,AD30)","v":0},{"$f":"AE30/(AG4-AE25)","v":0},{"$f":"IF(AF30=0,0,(AF30*((LOG(AF30))/LOG(2))))","v":0},null,{"$f":"N30","v":21222},{"$f":"COUNTIF(L10:L10,AI30)","v":0},{"$f":"AJ30/(AL4-AJ25)","v":0},{"$f":"IF(AK30=0,0,(AK30*((LOG(AK30))/LOG(2))))","v":0},null,{"$f":"N30","v":21222},{"$f":"COUNTIF(L11:L11,AN30)","v":0},{"$f":"AO30/(AQ4-AO25)","v":0},{"$f":"IF(AP30=0,0,(AP30*((LOG(AP30))/LOG(2))))","v":0},null,{"$f":"N30","v":21222},{"$f":"COUNTIF(L12:L12,AS30)","v":0},{"$f":"AT30/(AV4-AT25)","v":0},{"$f":"IF(AU30=0,0,(AU30*((LOG(AU30))/LOG(2))))","v":0}]
[null,null,null,null,null,null,null,null,null,null,null,null,null,22111,{"$f":"COUNTIF($L$7:$L$500,N31)","v":0},{"$f":"O31/$Q$4","v":0},{"$f":"IF(P31=0,0,(P31*((LOG(P31))/LOG(2))))","v":0},null,null,{"$f":"N31","v":22111},{"$f":"COUNTIF(L7:L7,T31)","v":0},{"$f":"U31/(W4-U25)","v":0},{"$f":"IF(V31=0,0,(V31*((LOG(V31))/LOG(2))))","v":0},null,{"$f":"N31","v":22111},{"$f":"COUNTIF(L8:L8,Y31)","v":0},{"$f":"Z31/(AB4-Z25)","v":0},{"$f":"IF(AA31=0,0,(AA31*((LOG(AA31))/LOG(2))))","v":0},null,{"$f":"N31","v":22111},{"$f":"COUNTIF(L9:L9,AD31)","v":0},{"$f":"AE31/(AG4-AE25)","v":0},{"$f":"IF(AF31=0,0,(AF31*((LOG(AF31))/LOG(2))))","v":0},null,{"$f":"N31","v":22111},{"$f":"COUNTIF(L10:L10,AI31)","v":0},{"$f":"AJ31/(AL4-AJ25)","v":0},{"$f":"IF(AK31=0,0,(AK31*((LOG(AK31))/LOG(2))))","v":0},null,{"$f":"N31","v":22111},{"$f":"COUNTIF(L11:L11,AN31)","v":0},{"$f":"AO31/(AQ4-AO25)","v":0},{"$f":"IF(AP31=0,0,(AP31*((LOG(AP31))/LOG(2))))","v":0},null,{"$f":"N31","v":22111},{"$f":"COUNTIF(L12:L12,AS31)","v":0},{"$f":"AT31/(AV4-AT25)","v":0},{"$f":"IF(AU31=0,0,(AU31*((LOG(AU31))/LOG(2))))","v":0}]
[null,null,null,null,null,null,null,null,null,null,null,null,null,22112,{"$f":"COUNTIF($L$7:$L$500,N32)","v":0},{"$f":"O32/$Q$4","v":0},{"$f":"IF(P32=0,0,(P32*((LOG(P32))/LOG(2))))","v":0},null,null,{"$f":"N32","v":22112},{"$f":"COUNTIF(L7:L7,T32)","v":0},{"$f":"U32/(W4-U25)","v":0},{"$f":"IF(V32=0,0,(V32*((LOG(V32))/LOG(2))))","v":0},null,{"$f":"N32","v":22112},{"$f":"COUNTIF(L8:L8,Y32)","v":0},{"$f":"Z32/(AB4-Z25)","v":0},{"$f":"IF(AA32=0,0,(AA32*((LOG(AA32))/LOG(2))))","v":0},null,{"$f":"N32","v":22112},{"$f":"COUNTIF(L9:L9,AD32)","v":0},{"$f":"AE32/(AG4-AE25)","v":0},{"$f":"IF(AF32=0,0,(AF32*((LOG(AF32))/LOG(2))))","v":0},null,{"$f":"N32","v":22112},{"$f":"COUNTIF(L10:L10,AI32)","v":0},{"$f":"AJ32/(AL4-AJ25)","v":0},{"$f":"IF(AK32=0,0,(AK32*((LOG(AK32))/LOG(2))))","v":0},null,{"$f":"N32","v":22112},{"$f":"COUNTIF(L11:L11,AN32)","v":0},{"$f":"AO32/(AQ4-AO25)","v":0},{"$f":"IF(AP32=0,0,(AP32*((LOG(AP32))/LOG(2))))","v":0},null,{"$f":"N32","v":22112},{"$f":"COUNTIF(L12:L12,AS32)","v":0},{"$f":"AT32/(AV4-AT25)","v":0},{"$f":"IF(AU32=0,0,(AU32*((LOG(AU32))/LOG(2))))","v":0}]
[null,null,null,null,null,null,null,null,null,null,null,null,null,22121,{"$f":"COUNTIF($L$7:$L$500,N33)","v":1},{"$f":"O33/$Q$4","v":0.16666666666666666},{"$f":"IF(P33=0,0,(P33*((LOG(P33))/LOG(2))))","v":-0.43082708345352599},null,null,{"$f":"N33","v":22121},{"$f":"COUNTIF(L7:L7,T33)","v":0},{"$f":"U33/(W4-U25)","v":0},{"$f":"IF(V33=0,0,(V33*((LOG(V33))/LOG(2))))","v":0},null,{"$f":"N33","v":22121},{"$f":"COUNTIF(L8:L8,Y33)","v":1},{"$f":"Z33/(AB4-Z25)","v":1},{"$f":"IF(AA33=0,0,(AA33*((LOG(AA33))/LOG(2))))","v":0},null,{"$f":"N33","v":22121},{"$f":"COUNTIF(L9:L9,AD33)","v":0},{"$f":"AE33/(AG4-AE25)","v":0},{"$f":"IF(AF33=0,0,(AF33*((LOG(AF33))/LOG(2))))","v":0},null,{"$f":"N33","v":22121},{"$f":"COUNTIF(L10:L10,AI33)","v":0},{"$f":"AJ33/(AL4-AJ25)","v":0},{"$f":"IF(AK33=0,0,(AK33*((LOG(AK33))/LOG(2))))","v":0},null,{"$f":"N33","v":22121},{"$f":"COUNTIF(L11:L11,AN33)","v":0},{"$f":"AO33/(AQ4-AO25)","v":0},{"$f":"IF(AP33=0,0,(AP33*((LOG(AP33))/LOG(2))))","v":0},null,{"$f":"N33","v":22121},{"$f":"COUNTIF(L12:L12,AS33)","v":0},{"$f":"AT33/(AV4-AT25)","v":0},{"$f":"IF(AU33=0,0,(AU33*((LOG(AU33))/LOG(2))))","v":0}]
[null,null,null,null,null,null,null,null,null,null,null,null,null,22122,{"$f":"COUNTIF($L$7:$L$500,N34)","v":0},{"$f":"O34/$Q$4","v":0},{"$f":"IF(P34=0,0,(P34*((LOG(P34))/LOG(2))))","v":0},null,null,{"$f":"N34","v":22122},{"$f":"COUNTIF(L7:L7,T34)","v":0},{"$f":"U34/(W4-U25)","v":0},{"$f":"IF(V34=0,0,(V34*((LOG(V34))/LOG(2))))","v":0},null,{"$f":"N34","v":22122},{"$f":"COUNTIF(L8:L8,Y34)","v":0},{"$f":"Z34/(AB4-Z25)","v":0},{"$f":"IF(AA34=0,0,(AA34*((LOG(AA34))/LOG(2))))","v":0},null,{"$f":"N34","v":22122},{"$f":"COUNTIF(L9:L9,AD34)","v":0},{"$f":"AE34/(AG4-AE25)","v":0},{"$f":"IF(AF34=0,0,(AF34*((LOG(AF34))/LOG(2))))","v":0},null,{"$f":"N34","v":22122},{"$f":"COUNTIF(L10:L10,AI34)","v":0},{"$f":"AJ34/(AL4-AJ25)","v":0},{"$f":"IF(AK34=0,0,(AK34*((LOG(AK34))/LOG(2))))","v":0},null,{"$f":"N34","v":22122},{"$f":"COUNTIF(L11:L11,AN34)","v":0},{"$f":"AO34/(AQ4-AO25)","v":0},{"$f":"IF(AP34=0,0,(AP34*((LOG(AP34))/LOG(2))))","v":0},null,{"$f":"N34","v":22122},{"$f":"COUNTIF(L12:L12,AS34)","v":0},{"$f":"AT34/(AV4-AT25)","v":0},{"$f":"IF(AU34=0,0,(AU34*((LOG(AU34))/LOG(2))))","v":0}]
[null,null,null,null,null,null,null,null,null,null,null,null,null,22211,{"$f":"COUNTIF($L$7:$L$500,N35)","v":0},{"$f":"O35/$Q$4","v":0},{"$f":"IF(P35=0,0,(P35*((LOG(P35))/LOG(2))))","v":0},null,null,{"$f":"N35","v":22211},{"$f":"COUNTIF(L7:L7,T35)","v":0},{"$f":"U35/(W4-U25)","v":0},{"$f":"IF(V35=0,0,(V35*((LOG(V35))/LOG(2))))","v":0},null,{"$f":"N35","v":22211},{"$f":"COUNTIF(L8:L8,Y35)","v":0},{"$f":"Z35/(AB4-Z25)","v":0},{"$f":"IF(AA35=0,0,(AA35*((LOG(AA35))/LOG(2))))","v":0},null,{"$f":"N35","v":22211},{"$f":"COUNTIF(L9:L9,AD35)","v":0},{"$f":"AE35/(AG4-AE25)","v":0},{"$f":"IF(AF35=0,0,(AF35*((LOG(AF35))/LOG(2))))","v":0},null,{"$f":"N35","v":22211},{"$f":"COUNTIF(L10:L10,AI35)","v":0},{"$f":"AJ35/(AL4-AJ25)","v":0},{"$f":"IF(AK35=0,0,(AK35*((LOG(AK35))/LOG(2))))","v":0},null,{"$f":"N35","v":22211},{"$f":"COUNTIF(L11:L11,AN35)","v":0},{"$f":"AO35/(AQ4-AO25)","v":0},{"$f":"IF(AP35=0,0,(AP35*((LOG(AP35))/LOG(2))))","v":0},null,{"$f":"N35","v":22211},{"$f":"COUNTIF(L12:L12,AS35)","v":0},{"$f":"AT35/(AV4-AT25)","v":0},{"$f":"IF(AU35=0,0,(AU35*((LOG(AU35))/LOG(2))))","v":0}]
[null,null,null,null,null,null,null,null,null,null,null,null,null,22212,{"$f":"COUNTIF($L$7:$L$500,N36)","v":0},{"$f":"O36/$Q$4","v":0},{"$f":"IF(P36=0,0,(P36*((LOG(P36))/LOG(2))))","v":0},null,null,{"$f":"N36","v":22212},{"$f":"COUNTIF(L7:L7,T36)","v":0},{"$f":"U36/(W4-U25)","v":0},{"$f":"IF(V36=0,0,(V36*((LOG(V36))/LOG(2))))","v":0},null,{"$f":"N36","v":22212},{"$f":"COUNTIF(L8:L8,Y36)","v":0},{"$f":"Z36/(AB4-Z25)","v":0},{"$f":"IF(AA36=0,0,(AA36*((LOG(AA36))/LOG(2))))","v":0},null,{"$f":"N36","v":22212},{"$f":"COUNTIF(L9:L9,AD36)","v":0},{"$f":"AE36/(AG4-AE25)","v":0},{"$f":"IF(AF36=0,0,(AF36*((LOG(AF36))/LOG(2))))","v":0},null,{"$f":"N36","v":22212},{"$f":"COUNTIF(L10:L10,AI36)","v":0},{"$f":"AJ36/(AL4-AJ25)","v":0},{"$f":"IF(AK36=0,0,(AK36*((LOG(AK36))/LOG(2))))","v":0},null,{"$f":"N36","v":22212},{"$f":"COUNTIF(L11:L11,AN36)","v":0},{"$f":"AO36/(AQ4-AO25)","v":0},{"$f":"IF(AP36=0,0,(AP36*((LOG(AP36))/LOG(2))))","v":0},null,{"$f":"N36","v":22212},{"$f":"COUNTIF(L12:L12,AS36)","v":0},{"$f":"AT36/(AV4-AT25)","v":0},{"$f":"IF(AU36=0,0,(AU36*((LOG(AU36))/LOG(2))))","v":0}]
[null,null,null,null,null,null,null,null,null,null,null,null,null,22221,{"$f":"COUNTIF($L$7:$L$500,N37)","v":2},{"$f":"O37/$Q$4","v":0.33333333333333331},{"$f":"IF(P37=0,0,(P37*((LOG(P37))/LOG(2))))","v":-0.52832083357371862},null,null,{"$f":"N37","v":22221},{"$f":"COUNTIF(L7:L7,T37)","v":1},{"$f":"U37/(W4-U25)","v":1},{"$f":"IF(V37=0,0,(V37*((LOG(V37))/LOG(2))))","v":0},null,{"$f":"N37","v":22221},{"$f":"COUNTIF(L8:L8,Y37)","v":0},{"$f":"Z37/(AB4-Z25)","v":0},{"$f":"IF(AA37=0,0,(AA37*((LOG(AA37))/LOG(2))))","v":0},null,{"$f":"N37","v":22221},{"$f":"COUNTIF(L9:L9,AD37)","v":1},{"$f":"AE37/(AG4-AE25)","v":1},{"$f":"IF(AF37=0,0,(AF37*((LOG(AF37))/LOG(2))))","v":0},null,{"$f":"N37","v":22221},{"$f":"COUNTIF(L10:L10,AI37)","v":0},{"$f":"AJ37/(AL4-AJ25)","v":0},{"$f":"IF(AK37=0,0,(AK37*((LOG(AK37))/LOG(2))))","v":0},null,{"$f":"N37","v":22221},{"$f":"COUNTIF(L11:L11,AN37)","v":0},{"$f":"AO37/(AQ4-AO25)","v":0},{"$f":"IF(AP37=0,0,(AP37*((LOG(AP37))/LOG(2))))","v":0},null,{"$f":"N37","v":22221},{"$f":"COUNTIF(L12:L12,AS37)","v":0},{"$f":"AT37/(AV4-AT25)","v":0},{"$f":"IF(AU37=0,0,(AU37*((LOG(AU37))/LOG(2))))","v":0}]
[null,null,null,null,null,null,null,null,null,null,null,null,null,22222,{"$f":"COUNTIF($L$7:$L$500,N38)","v":0},{"$f":"O38/$Q$4","v":0},{"$f":"IF(P38=0,0,(P38*((LOG(P38))/LOG(2))))","v":0},null,null,{"$f":"N38","v":22222},{"$f":"COUNTIF(L7:L7,T38)","v":0},{"$f":"U38/(W4-U25)","v":0},{"$f":"IF(V38=0,0,(V38*((LOG(V38))/LOG(2))))","v":0},null,{"$f":"N38","v":22222},{"$f":"COUNTIF(L8:L8,Y38)","v":0},{"$f":"Z38/(AB4-Z25)","v":0},{"$f":"IF(AA38=0,0,(AA38*((LOG(AA38))/LOG(2))))","v":0},null,{"$f":"N38","v":22222},{"$f":"COUNTIF(L9:L9,AD38)","v":0},{"$f":"AE38/(AG4-AE25)","v":0},{"$f":"IF(AF38=0,0,(AF38*((LOG(AF38))/LOG(2))))","v":0},null,{"$f":"N38","v":22222},{"$f":"COUNTIF(L10:L10,AI38)","v":0},{"$f":"AJ38/(AL4-AJ25)","v":0},{"$f":"IF(AK38=0,0,(AK38*((LOG(AK38))/LOG(2))))","v":0},null,{"$f":"N38","v":22222},{"$f":"COUNTIF(L11:L11,AN38)","v":0},{"$f":"AO38/(AQ4-AO25)","v":0},{"$f":"IF(AP38=0,0,(AP38*((LOG(AP38))/LOG(2))))","v":0},null,{"$f":"N38","v":22222},{"$f":"COUNTIF(L12:L12,AS38)","v":0},{"$f":"AT38/(AV4-AT25)","v":0},{"$f":"IF(AU38=0,0,(AU38*((LOG(AU38))/LOG(2))))","v":0}]
[null,null,null,null,null,null,null,null,null,null,null,null,null,null,null,{"$f":"SUM(P7:P38)","v":1},{"$f":"-SUM(Q7:Q38)","v":2.2516291673878226},null,null,null,null,{"$f":"SUM(V7:V38)","v":1},{"$f":"-SUM(W7:W38)","v":0},null,null,null,{"$f":"SUM(AA7:AA38)","v":1},{"$f":"-SUM(AB7:AB38)","v":0},null,null,null,{"$f":"SUM(AF7:AF38)","v":1},{"$f":"-SUM(AG7:AG38)","v":0},null,null,null,{"$f":"SUM(AK7:AK38)","v":1},{"$f":"-SUM(AL7:AL38)","v":0},null,null,null,{"$f":"SUM(AP7:AP38)","v":1},{"$f":"-SUM(AQ7:AQ38)","v":0},null,null,null,{"$f":"SUM(AU7:AU38)","v":1},{"$f":"-SUM(AV7:AV38)","v":0}]
[null,null,null,null,null,null,null,null,null,null,null,null,null,null,null,"U=",{"$f":"Q39/(LOG(Q4)/LOG(2))","v":0.87104906425515272},null,null,null,null,"U1=",{"$f":"W39/(LOG(W4)/LOG(2))","v":{"$error":"#DIV/0!"}},null,null,null,"U2=",{"$f":"AB39/(LOG(AB4)/LOG(2))","v":{"$error":"#DIV/0!"}},null,null,null,"U3=",{"$f":"AG39/(LOG(AG4)/LOG(2))","v":{"$error":"#DIV/0!"}},null,null,null,"U4=",{"$f":"AL39/(LOG(AL4)/LOG(2))","v":{"$error":"#DIV/0!"}},null,null,null,"U5=",{"$f":"AQ39/(LOG(AQ4)/LOG(2))","v":{"$error":"#DIV/0!"}},null,null,null,"U6=",{"$f":"AV39/(LOG(AV4)/LOG(2))","v":{"$error":"#DIV/0!"}}]
[]
[]
[null,null,null,null,null,null,null,null,null,null,null,null,null,"Total Target Seq"]
[null,null,null,null,null,null,null,null,null,null,null,null,null,{"$f":"COUNTIF(L7:L12,G3)","v":0},null,1,1,1,1,1,1]
[null,null,null,null,null,null,null,null,null,null,null,null,null,null,null,"% of reinforcement given in 6 equal intervals based on number of trials "]
[null,null,null,null,null,null,null,null,null,null,null,null,null,null,null,"%_1","%_2","%_3","%_4","%_5","%_6"]
[null,null,null,null,null,null,null,null,null,null,null,null,null,null,"target sequence",{"$f":"$G$3","v":21121},{"$f":"$G$3","v":21121},{"$f":"$G$3","v":21121},{"$f":"$G$3","v":21121},{"$f":"$G$3","v":21121},{"$f":"$G$3","v":21121}]
[null,null,null,null,null,null,null,null,null,null,null,null,null,null,"total reinforcement",{"$f":"U25","v":0},{"$f":"Z25","v":0},{"$f":"AE25","v":0},{"$f":"AJ25","v":0},{"$f":"AO25","v":0},{"$f":"AT25","v":0}]
[null,null,null,null,null,null,null,null,null,null,null,null,null,null,"% target"]
[null,null,null,null,null,null,null,null,null,null,null,null,null,null,"CCRF"]
[null,null,null,null,null,null,null,null,null,null,null,null,null,null,"% CCRf"]
[null,null,null,null,null,null,null,null,null,null,null,null,null,null,"average response rate",{"$f":"J7/P44","v":94},{"$f":"(J8-J7)/Q44","v":253},{"$f":"(J9-J8)/R44","v":241},{"$f":"(J10-J9)/S44","v":222},{"$f":"(J11-J10)/T44","v":13947},{"$f":"(J12-J11)/U44","v":276}]

{"sheet":"!N125A20.105","index":26,"n_rows":52,"n_cols":48,"rows_kept":52,"cut":false,"hidden":false,"merged":[[4,39,4,42],[5,39,5,40],[4,44,4,47],[5,44,5,45],[4,24,4,27],[5,24,5,25],[4,29,4,32],[5,29,5,30],[4,34,4,37],[5,34,5,35],[1,1,1,2],[5,13,5,14],[42,13,42,14],[43,13,43,14],[4,19,4,22],[5,19,5,20]]}
["Report for:!N125A20.105"]
["Date:","<date>"]
["Hen:","<hen>",null,null,null,"Correct Sequence",{"$f":"Start!J2","v":21121},null,null,null,null,null,null,null,null,"Total Sequences in Data",{"$f":"4994-COUNTBLANK(L7:L5000)","v":18},null,null,null,null,"Total Sequences in Block Data",{"$f":"COUNTA(L7:L9)","v":3},null,null,null,"Total Sequences in Block Data",{"$f":"COUNTA(L10:L12)","v":3},null,null,null,"Total Sequences in Block Data",{"$f":"COUNTA(L13:L15)","v":3},null,null,null,"Total Sequences in Block Data",{"$f":"COUNTA(L16:L18)","v":3},null,null,null,"Total Sequences in Block Data",{"$f":"COUNTA(L19:L21)","v":3},null,null,null,"Total Sequences in Block Data",{"$f":"COUNTA(L22:L24)","v":3}]
[null,null,null,null,null,null,null,null,null,null,null,null,null,null,null,"Total Sequences in Summary",{"$f":"SUM(O7:O38)","v":17},null,null,null,null,"Total Sequences in Block Summary",{"$f":"SUM(U7:U38)","v":3},null,null,null,"Total Sequences in Block Summary",{"$f":"SUM(Z7:Z38)","v":3},null,null,null,"Total Sequences in Block Summary",{"$f":"SUM(AE7:AE38)","v":3},null,null,null,"Total Sequences in Block Summary",{"$f":"SUM(AJ7:AJ38)","v":3},null,null,null,"Total Sequences in Block Summary",{"$f":"SUM(AO7:AO38)","v":3},null,null,null,"Total Sequences in Block Summary",{"$f":"SUM(AT7:AT38)","v":2}]
[null,null,null,null,null,null,null,null,null,null,null,null,null,null,null,null,null,null,null,"Block 1",null,null,null,null,"Block 2",null,null,null,null,"Block 3",null,null,null,null,"Block 4",null,null,null,null,"Block 5",null,null,null,null,"Block 6"]
["Sequence\nComponent\n1","Time\n1","Sequence\nComponent\n2","Time\n2","Sequence\nComponent\n3","Time\n3","Sequence\nComponent\n4","Time\n4","Sequence\nComponent\n5","Time\n5","Correct?\n0=No 1=Yes","Sequence",null,"Frequency",null,"Relative Frequency","Variability",null,null,"Frequency",null,"Relative Frequency","Variability",null,"Frequency",null,"Relative Frequency","Variability",null,"Frequency",null,"Relative Frequency","Variability",null,"Frequency",null,"Relative Frequency","Variability",null,"Frequency",null,"Relative Frequency","Variability",null,"Frequency",null,"Relative Frequency","Variability"]
[21,14,11,32,22,42,23,55,24,69,0,21222,null,11111,{"$f":"COUNTIF($L$7:$L$500,N7)","v":0},{"$f":"O7/$Q$4","v":0},{"$f":"IF(P7=0,0,(P7*((LOG(P7))/LOG(2))))","v":0},null,null,{"$f":"N7","v":11111},{"$f":"COUNTIF(L7:L9,T7)","v":0},{"$f":"U7/(W4-U25)","v":0},{"$f":"IF(V7=0,0,(V7*((LOG(V7))/LOG(2))))","v":0},null,{"$f":"N7","v":11111},{"$f":"COUNTIF(L10:L12,Y7)","v":0},{"$f":"Z7/(AB4-Z25)","v":0},{"$f":"IF(AA7=0,0,(AA7*((LOG(AA7))/LOG(2))))","v":0},null,{"$f":"N7","v":11111},{"$f":"COUNTIF(L13:L15,AD7)","v":0},{"$f":"AE7/(AG4-AE25)","v":0},{"$f":"IF(AF7=0,0,(AF7*((LOG(AF7))/LOG(2))))","v":0},null,{"$f":"N7","v":11111},{"$f":"COUNTIF(L16:L18,AI7)","v":0},{"$f":"AJ7/(AL4-AJ25)","v":0},{"$f":"IF(AK7=0,0,(AK7*((LOG(AK7))/LOG(2))))","v":0},null,{"$f":"N7","v":11111},{"$f":"COUNTIF(L19:L21,AN7)","v":0},{"$f":"AO7/(AQ4-AO25)","v":0},{"$f":"IF(AP7=0,0,(AP7*((LOG(AP7))/LOG(2))))","v":0},null,{"$f":"N7","v":11111},{"$f":"COUNTIF(L22:L24,AS7)","v":0},{"$f":"AT7/(AV4-AT25)","v":0},{"$f":"IF(AU7=0,0,(AU7*((LOG(AU7))/LOG(2))))","v":0}]
[21,207,22,241,24,254,23,267,24,280,0,22222,null,11112,{"$f":"COUNTIF($L$7:$L$500,N8)","v":0},{"$f":"O8/$Q$4","v":0},{"$f":"IF(P8=0,0,(P8*((LOG(P8))/LOG(2))))","v":0},null,null,{"$f":"N8","v":11112},{"$f":"COUNTIF(L7:L9,T8)","v":0},{"$f":"U8/(W4-U25)","v":0},{"$f":"IF(V8=0,0,(V8*((LOG(V8))/LOG(2))))","v":0},null,{"$f":"N8","v":11112},{"$f":"COUNTIF(L10:L12,Y8)","v":0},{"$f":"Z8/(AB4-Z25)","v":0},{"$f":"IF(AA8=0,0,(AA8*((LOG(AA8))/LOG(2))))","v":0},null,{"$f":"N8","v":11112},{"$f":"COUNTIF(L13:L15,AD8)","v":0},{"$f":"AE8/(AG4-AE25)","v":0},{"$f":"IF(AF8=0,0,(AF8*((LOG(AF8))/LOG(2))))","v":0},null,{"$f":"N8","v":11112},{"$f":"COUNTIF(L16:L18,AI8)","v":0},{"$f":"AJ8/(AL4-AJ25)","v":0},{"$f":"IF(AK8=0,0,(AK8*((LOG(AK8))/LOG(2))))","v":0},null,{"$f":"N8","v":11112},{"$f":"COUNTIF(L19:L21,AN8)","v":0},{"$f":"AO8/(AQ4-AO25)","v":0},{"$f":"IF(AP8=0,0,(AP8*((LOG(AP8))/LOG(2))))","v":0},null,{"$f":"N8","v":11112},{"$f":"COUNTIF(L22:L24,AS8)","v":0},{"$f":"AT8/(AV4-AT25)","v":0},{"$f":"IF(AU8=0,0,(AU8*((LOG(AU8))/LOG(2))))","v":0}]
[21,418,11,430,22,440,14,456,24,467,0,21212,null,11121,{"$f":"COUNTIF($L$7:$L$500,N9)","v":0},{"$f":"O9/$Q$4","v":0},{"$f":"IF(P9=0,0,(P9*((LOG(P9))/LOG(2))))","v":0},null,null,{"$f":"N9","v":11121},{"$f":"COUNTIF(L7:L9,T9)","v":0},{"$f":"U9/(W4-U25)","v":0},{"$f":"IF(V9=0,0,(V9*((LOG(V9))/LOG(2))))","v":0},null,{"$f":"N9","v":11121},{"$f":"COUNTIF(L10:L12,Y9)","v":0},{"$f":"Z9/(AB4-Z25)","v":0},{"$f":"IF(AA9=0,0,(AA9*((LOG(AA9))/LOG(2))))","v":0},null,{"$f":"N9","v":11121},{"$f":"COUNTIF(L13:L15,AD9)","v":0},{"$f":"AE9/(AG4-AE25)","v":0},{"$f":"IF(AF9=0,0,(AF9*((LOG(AF9))/LOG(2))))","v":0},null,{"$f":"N9","v":11121},{"$f":"COUNTIF(L16:L18,AI9)","v":0},{"$f":"AJ9/(AL4-AJ25)","v":0},{"$f":"IF(AK9=0,0,(AK9*((LOG(AK9))/LOG(2))))","v":0},null,{"$f":"N9","v":11121},{"$f":"COUNTIF(L19:L21,AN9)","v":0},{"$f":"AO9/(AQ4-AO25)","v":0},{"$f":"IF(AP9=0,0,(AP9*((LOG(AP9))/LOG(2))))","v":0},null,{"$f":"N9","v":11121},{"$f":"COUNTIF(L22:L24,AS9)","v":0},{"$f":"AT9/(AV4-AT25)","v":0},{"$f":"IF(AU9=0,0,(AU9*((LOG(AU9))/LOG(2))))","v":0}]
[21,611,11,623,22,634,23,672,24,688,0,21222,null,11122,{"$f":"COUNTIF($L$7:$L$500,N10)","v":0},{"$f":"O10/$Q$4","v":0},{"$f":"IF(P10=0,0,(P10*((LOG(P10))/LOG(2))))","v":0},null,null,{"$f":"N10","v":11122},{"$f":"COUNTIF(L7:L9,T10)","v":0},{"$f":"U10/(W4-U25)","v":0},{"$f":"IF(V10=0,0,(V10*((LOG(V10))/LOG(2))))","v":0},null,{"$f":"N10","v":11122},{"$f":"COUNTIF(L10:L12,Y10)","v":0},{"$f":"Z10/(AB4-Z25)","v":0},{"$f":"IF(AA10=0,0,(AA10*((LOG(AA10))/LOG(2))))","v":0},null,{"$f":"N10","v":11122},{"$f":"COUNTIF(L13:L15,AD10)","v":0},{"$f":"AE10/(AG4-AE25)","v":0},{"$f":"IF(AF10=0,0,(AF10*((LOG(AF10))/LOG(2))))","v":0},null,{"$f":"N10","v":11122},{"$f":"COUNTIF(L16:L18,AI10)","v":0},{"$f":"AJ10/(AL4-AJ25)","v":0},{"$f":"IF(AK10=0,0,(AK10*((LOG(AK10))/LOG(2))))","v":0},null,{"$f":"N10","v":11122},{"$f":"COUNTIF(L19:L21,AN10)","v":0},{"$f":"AO10/(AQ4-AO25)","v":0},{"$f":"IF(AP10=0,0,(AP10*((LOG(AP10))/LOG(2))))","v":0},null,{"$f":"N10","v":11122},{"$f":"COUNTIF(L22:L24,AS10)","v":0},{"$f":"AT10/(AV4-AT25)","v":0},{"$f":"IF(AU10=0,0,(AU10*((LOG(AU10))/LOG(2))))","v":0}]
[12,810,24,821,24,842,23,853,24,864,0,12222,null,11211,{"$f":"COUNTIF($L$7:$L$500,N11)","v":0},{"$f":"O11/$Q$4","v":0},{"$f":"IF(P11=0,0,(P11*((LOG(P11))/LOG(2))))","v":0},null,null,{"$f":"N11","v":11211},{"$f":"COUNTIF(L7:L9,T11)","v":0},{"$f":"U11/(W4-U25)","v":0},{"$f":"IF(V11=0,0,(V11*((LOG(V11))/LOG(2))))","v":0},null,{"$f":"N11","v":11211},{"$f":"COUNTIF(L10:L12,Y11)","v":0},{"$f":"Z11/(AB4-Z25)","v":0},{"$f":"IF(AA11=0,0,(AA11*((LOG(AA11))/LOG(2))))","v":0},null,{"$f":"N11","v":11211},{"$f":"COUNTIF(L13:L15,AD11)","v":0},{"$f":"AE11/(AG4-AE25)","v":0},{"$f":"IF(AF11=0,0,(AF11*((LOG(AF11))/LOG(2))))","v":0},null,{"$f":"N11","v":11211},{"$f":"COUNTIF(L16:L18,AI11)","v":0},{"$f":"AJ11/(AL4-AJ25)","v":0},{"$f":"IF(AK11=0,0,(AK11*((LOG(AK11))/LOG(2))))","v":0},null,{"$f":"N11","v":11211},{"$f":"COUNTIF(L19:L21,AN11)","v":0},{"$f":"AO11/(AQ4-AO25)","v":0},{"$f":"IF(AP11=0,0,(AP11*((LOG(AP11))/LOG(2))))","v":0},null,{"$f":"N11","v":11211},{"$f":"COUNTIF(L22:L24,AS11)","v":0},{"$f":"AT11/(AV4-AT25)","v":0},{"$f":"IF(AU11=0,0,(AU11*((LOG(AU11))/LOG(2))))","v":0}]
[21,986,22,998,24,1023,23,1032,24,1048,0,22222,null,11212,{"$f":"COUNTIF($L$7:$L$500,N12)","v":0},{"$f":"O12/$Q$4","v":0},{"$f":"IF(P12=0,0,(P12*((LOG(P12))/LOG(2))))","v":0},null,null,{"$f":"N12","v":11212},{"$f":"COUNTIF(L7:L9,T12)","v":0},{"$f":"U12/(W4-U25)","v":0},{"$f":"IF(V12=0,0,(V12*((LOG(V12))/LOG(2))))","v":0},null,{"$f":"N12","v":11212},{"$f":"COUNTIF(L10:L12,Y12)","v":0},{"$f":"Z12/(AB4-Z25)","v":0},{"$f":"IF(AA12=0,0,(AA12*((LOG(AA12))/LOG(2))))","v":0},null,{"$f":"N12","v":11212},{"$f":"COUNTIF(L13:L15,AD12)","v":0},{"$f":"AE12/(AG4-AE25)","v":0},{"$f":"IF(AF12=0,0,(AF12*((LOG(AF12))/LOG(2))))","v":0},null,{"$f":"N12","v":11212},{"$f":"COUNTIF(L16:L18,AI12)","v":0},{"$f":"AJ12/(AL4-AJ25)","v":0},{"$f":"IF(AK12=0,0,(AK12*((LOG(AK12))/LOG(2))))","v":0},null,{"$f":"N12","v":11212},{"$f":"COUNTIF(L19:L21,AN12)","v":0},{"$f":"AO12/(AQ4-AO25)","v":0},{"$f":"IF(AP12=0,0,(AP12*((LOG(AP12))/LOG(2))))","v":0},null,{"$f":"N12","v":11212},{"$f":"COUNTIF(L22:L24,AS12)","v":0},{"$f":"AT12/(AV4-AT25)","v":0},{"$f":"IF(AU12=0,0,(AU12*((LOG(AU12))/LOG(2))))","v":0}]
[12,1161,24,1173,13,1184,23,1195,24,1207,0,12122,null,11221,{"$f":"COUNTIF($L$7:$L$500,N13)","v":0},{"$f":"O13/$Q$4","v":0},{"$f":"IF(P13=0,0,(P13*((LOG(P13))/LOG(2))))","v":0},null,null,{"$f":"N13","v":11221},{"$f":"COUNTIF(L7:L9,T13)","v":0},{"$f":"U13/(W4-U25)","v":0},{"$f":"IF(V13=0,0,(V13*((LOG(V13))/LOG(2))))","v":0},null,{"$f":"N13","v":11221},{"$f":"COUNTIF(L10:L12,Y13)","v":0},{"$f":"Z13/(AB4-Z25)","v":0},{"$f":"IF(AA13=0,0,(AA13*((LOG(AA13))/LOG(2))))","v":0},null,{"$f":"N13","v":11221},{"$f":"COUNTIF(L13:L15,AD13)","v":0},{"$f":"AE13/(AG4-AE25)","v":0},{"$f":"IF(AF13=0,0,(AF13*((LOG(AF13))/LOG(2))))","v":0},null,{"$f":"N13","v":11221},{"$f":"COUNTIF(L16:L18,AI13)","v":0},{"$f":"AJ13/(AL4-AJ25)","v":0},{"$f":"IF(AK13=0,0,(AK13*((LOG(AK13))/LOG(2))))","v":0},null,{"$f":"N13","v":11221},{"$f":"COUNTIF(L19:L21,AN13)","v":0},{"$f":"AO13/(AQ4-AO25)","v":0},{"$f":"IF(AP13=0,0,(AP13*((LOG(AP13))/LOG(2))))","v":0},null,{"$f":"N13","v":11221},{"$f":"COUNTIF(L22:L24,AS13)","v":0},{"$f":"AT13/(AV4-AT25)","v":0},{"$f":"IF(AU13=0,0,(AU13*((LOG(AU13))/LOG(2))))","v":0}]
[12,1317,24,1329,13,1345,23,1357,24,1370,0,12122,null,11222,{"$f":"COUNTIF($L$7:$L$500,N14)","v":0},{"$f":"O14/$Q$4","v":0},{"$f":"IF(P14=0,0,(P14*((LOG(P14))/LOG(2))))","v":0},null,null,{"$f":"N14","v":11222},{"$f":"COUNTIF(L7:L9,T14)","v":0},{"$f":"U14/(W4-U25)","v":0},{"$f":"IF(V14=0,0,(V14*((LOG(V14))/LOG(2))))","v":0},null,{"$f":"N14","v":11222},{"$f":"COUNTIF(L10:L12,Y14)","v":0},{"$f":"Z14/(AB4-Z25)","v":0},{"$f":"IF(AA14=0,0,(AA14*((LOG(AA14))/LOG(2))))","v":0},null,{"$f":"N14","v":11222},{"$f":"COUNTIF(L13:L15,AD14)","v":0},{"$f":"AE14/(AG4-AE25)","v":0},{"$f":"IF(AF14=0,0,(AF14*((LOG(AF14))/LOG(2))))","v":0},null,{"$f":"N14","v":11222},{"$f":"COUNTIF(L16:L18,AI14)","v":0},{"$f":"AJ14/(AL4-AJ25)","v":0},{"$f":"IF(AK14=0,0,(AK14*((LOG(AK14))/LOG(2))))","v":0},null,{"$f":"N14","v":11222},{"$f":"COUNTIF(L19:L21,AN14)","v":0},{"$f":"AO14/(AQ4-AO25)","v":0},{"$f":"IF(AP14=0,0,(AP14*((LOG(AP14))/LOG(2))))","v":0},null,{"$f":"N14","v":11222},{"$f":"COUNTIF(L22:L24,AS14)","v":0},{"$f":"AT14/(AV4-AT25)","v":0},{"$f":"IF(AU14=0,0,(AU14*((LOG(AU14))/LOG(2))))","v":0}]
[21,1536,22,1555,13,1569,23,1580,13,1595,0,22121,null,12111,{"$f":"COUNTIF($L$7:$L$500,N15)","v":0},{"$f":"O15/$Q$4","v":0},{"$f":"IF(P15=0,0,(P15*((LOG(P15))/LOG(2))))","v":0},null,null,{"$f":"N15","v":12111},{"$f":"COUNTIF(L7:L9,T15)","v":0},{"$f":"U15/(W4-U25)","v":0},{"$f":"IF(V15=0,0,(V15*((LOG(V15))/LOG(2))))","v":0},null,{"$f":"N15","v":12111},{"$f":"COUNTIF(L10:L12,Y15)","v":0},{"$f":"Z15/(AB4-Z25)","v":0},{"$f":"IF(AA15=0,0,(AA15*((LOG(AA15))/LOG(2))))","v":0},null,{"$f":"N15","v":12111},{"$f":"COUNTIF(L13:L15,AD15)","v":0},{"$f":"AE15/(AG4-AE25)","v":0},{"$f":"IF(AF15=0,0,(AF15*((LOG(AF15))/LOG(2))))","v":0},null,{"$f":"N15","v":12111},{"$f":"COUNTIF(L16:L18,AI15)","v":0},{"$f":"AJ15/(AL4-AJ25)","v":0},{"$f":"IF(AK15=0,0,(AK15*((LOG(AK15))/LOG(2))))","v":0},null,{"$f":"N15","v":12111},{"$f":"COUNTIF(L19:L21,AN15)","v":0},{"$f":"AO15/(AQ4-AO25)","v":0},{"$f":"IF(AP15=0,0,(AP15*((LOG(AP15))/LOG(2))))","v":0},null,{"$f":"N15","v":12111},{"$f":"COUNTIF(L22:L24,AS15)","v":0},{"$f":"AT15/(AV4-AT25)","v":0},{"$f":"IF(AU15=0,0,(AU15*((LOG(AU15))/LOG(2))))","v":0}]
[21,1786,11,1803,22,1815,14,1836,13,1906,0,21211,null,12112,{"$f":"COUNTIF($L$7:$L$500,N16)","v":0},{"$f":"O16/$Q$4","v":0},{"$f":"IF(P16=0,0,(P16*((LOG(P16))/LOG(2))))","v":0},null,null,{"$f":"N16","v":12112},{"$f":"COUNTIF(L7:L9,T16)","v":0},{"$f":"U16/(W4-U25)","v":0},{"$f":"IF(V16=0,0,(V16*((LOG(V16))/LOG(2))))","v":0},null,{"$f":"N16","v":12112},{"$f":"COUNTIF(L10:L12,Y16)","v":0},{"$f":"Z16/(AB4-Z25)","v":0},{"$f":"IF(AA16=0,0,(AA16*((LOG(AA16))/LOG(2))))","v":0},null,{"$f":"N16","v":12112},{"$f":"COUNTIF(L13:L15,AD16)","v":0},{"$f":"AE16/(AG4-AE25)","v":0},{"$f":"IF(AF16=0,0,(AF16*((LOG(AF16))/LOG(2))))","v":0},null,{"$f":"N16","v":12112},{"$f":"COUNTIF(L16:L18,AI16)","v":0},{"$f":"AJ16/(AL4-AJ25)","v":0},{"$f":"IF(AK16=0,0,(AK16*((LOG(AK16))/LOG(2))))","v":0},null,{"$f":"N16","v":12112},{"$f":"COUNTIF(L19:L21,AN16)","v":0},{"$f":"AO16/(AQ4-AO25)","v":0},{"$f":"IF(AP16=0,0,(AP16*((LOG(AP16))/LOG(2))))","v":0},null,{"$f":"N16","v":12112},{"$f":"COUNTIF(L22:L24,AS16)","v":0},{"$f":"AT16/(AV4-AT25)","v":0},{"$f":"IF(AU16=0,0,(AU16*((LOG(AU16))/LOG(2))))","v":0}]
[21,2233,22,2252,24,2345,23,2362,24,2378,0,22222,null,12121,{"$f":"COUNTIF($L$7:$L$500,N17)","v":0},{"$f":"O17/$Q$4","v":0},{"$f":"IF(P17=0,0,(P17*((LOG(P17))/LOG(2))))","v":0},null,null,{"$f":"N17","v":12121},{"$f":"COUNTIF(L7:L9,T17)","v":0},{"$f":"U17/(W4-U25)","v":0},{"$f":"IF(V17=0,0,(V17*((LOG(V17))/LOG(2))))","v":0},null,{"$f":"N17","v":12121},{"$f":"COUNTIF(L10:L12,Y17)","v":0},{"$f":"Z17/(AB4-Z25)","v":0},{"$f":"IF(AA17=0,0,(AA17*((LOG(AA17))/LOG(2))))","v":0},null,{"$f":"N17","v":12121},{"$f":"COUNTIF(L13:L15,AD17)","v":0},{"$f":"AE17/(AG4-AE25)","v":0},{"$f":"IF(AF17=0,0,(AF17*((LOG(AF17))/LOG(2))))","v":0},null,{"$f":"N17","v":12121},{"$f":"COUNTIF(L16:L18,AI17)","v":0},{"$f":"AJ17/(AL4-AJ25)","v":0},{"$f":"IF(AK17=0,0,(AK17*((LOG(AK17))/LOG(2))))","v":0},null,{"$f":"N17","v":12121},{"$f":"COUNTIF(L19:L21,AN17)","v":0},{"$f":"AO17/(AQ4-AO25)","v":0},{"$f":"IF(AP17=0,0,(AP17*((LOG(AP17))/LOG(2))))","v":0},null,{"$f":"N17","v":12121},{"$f":"COUNTIF(L22:L24,AS17)","v":0},{"$f":"AT17/(AV4-AT25)","v":0},{"$f":"IF(AU17=0,0,(AU17*((LOG(AU17))/LOG(2))))","v":0}]
[12,2938,24,2949,24,2963,23,2988,24,3000,0,12222,null,12122,{"$f":"COUNTIF($L$7:$L$500,N18)","v":2},{"$f":"O18/$Q$4","v":0.11764705882352941},{"$f":"IF(P18=0,0,(P18*((LOG(P18))/LOG(2))))","v":-0.36323092250003997},null,null,{"$f":"N18","v":12122},{"$f":"COUNTIF(L7:L9,T18)","v":0},{"$f":"U18/(W4-U25)","v":0},{"$f":"IF(V18=0,0,(V18*((LOG(V18))/LOG(2))))","v":0},null,{"$f":"N18","v":12122},{"$f":"COUNTIF(L10:L12,Y18)","v":0},{"$f":"Z18/(AB4-Z25)","v":0},{"$f":"IF(AA18=0,0,(AA18*((LOG(AA18))/LOG(2))))","v":0},null,{"$f":"N18","v":12122},{"$f":"COUNTIF(L13:L15,AD18)","v":2},{"$f":"AE18/(AG4-AE25)","v":0.66666666666666663},{"$f":"IF(AF18=0,0,(AF18*((LOG(AF18))/LOG(2))))","v":-0.38997500048077083},null,{"$f":"N18","v":12122},{"$f":"COUNTIF(L16:L18,AI18)","v":0},{"$f":"AJ18/(AL4-AJ25)","v":0},{"$f":"IF(AK18=0,0,(AK18*((LOG(AK18))/LOG(2))))","v":0},null,{"$f":"N18","v":12122},{"$f":"COUNTIF(L19:L21,AN18)","v":0},{"$f":"AO18/(AQ4-AO25)","v":0},{"$f":"IF(AP18=0,0,(AP18*((LOG(AP18))/LOG(2))))","v":0},null,{"$f":"N18","v":12122},{"$f":"COUNTIF(L22:L24,AS18)","v":0},{"$f":"AT18/(AV4-AT25)","v":0},{"$f":"IF(AU18=0,0,(AU18*((LOG(AU18))/LOG(2))))","v":0}]
[21,4515,22,4536,13,4552,23,4563,24,4581,0,22122,null,12211,{"$f":"COUNTIF($L$7:$L$500,N19)","v":0},{"$f":"O19/$Q$4","v":0},{"$f":"IF(P19=0,0,(P19*((LOG(P19))/LOG(2))))","v":0},null,null,{"$f":"N19","v":12211},{"$f":"COUNTIF(L7:L9,T19)","v":0},{"$f":"U19/(W4-U25)","v":0},{"$f":"IF(V19=0,0,(V19*((LOG(V19))/LOG(2))))","v":0},null,{"$f":"N19","v":12211},{"$f":"COUNTIF(L10:L12,Y19)","v":0},{"$f":"Z19/(AB4-Z25)","v":0},{"$f":"IF(AA19=0,0,(AA19*((LOG(AA19))/LOG(2))))","v":0},null,{"$f":"N19","v":12211},{"$f":"COUNTIF(L13:L15,AD19)","v":0},{"$f":"AE19/(AG4-AE25)","v":0},{"$f":"IF(AF19=0,0,(AF19*((LOG(AF19))/LOG(2))))","v":0},null,{"$f":"N19","v":12211},{"$f":"COUNTIF(L16:L18,AI19)","v":0},{"$f":"AJ19/(AL4-AJ25)","v":0},{"$f":"IF(AK19=0,0,(AK19*((LOG(AK19))/LOG(2))))","v":0},null,{"$f":"N19","v":12211},{"$f":"COUNTIF(L19:L21,AN19)","v":0},{"$f":"AO19/(AQ4-AO25)","v":0},{"$f":"IF(AP19=0,0,(AP19*((LOG(AP19))/LOG(2))))","v":0},null,{"$f":"N19","v":12211},{"$f":"COUNTIF(L22:L24,AS19)","v":0},{"$f":"AT19/(AV4-AT25)","v":0},{"$f":"IF(AU19=0,0,(AU19*((LOG(AU19))/LOG(2))))","v":0}]
[12,5062,24,5072,24,5103,23,5116,13,5134,0,12221,null,12212,{"$f":"COUNTIF($L$7:$L$500,N20)","v":2},{"$f":"O20/$Q$4","v":0.11764705882352941},{"$f":"IF(P20=0,0,(P20*((LOG(P20))/LOG(2))))","v":-0.36323092250003997},null,null,{"$f":"N20","v":12212},{"$f":"COUNTIF(L7:L9,T20)","v":0},{"$f":"U20/(W4-U25)","v":0},{"$f":"IF(V20=0,0,(V20*((LOG(V20))/LOG(2))))","v":0},null,{"$f":"N20","v":12212},{"$f":"COUNTIF(L10:L12,Y20)","v":0},{"$f":"Z20/(AB4-Z25)","v":0},{"$f":"IF(AA20=0,0,(AA20*((LOG(AA20))/LOG(2))))","v":0},null,{"$f":"N20","v":12212},{"$f":"COUNTIF(L13:L15,AD20)","v":0},{"$f":"AE20/(AG4-AE25)","v":0},{"$f":"IF(AF20=0,0,(AF20*((LOG(AF20))/LOG(2))))","v":0},null,{"$f":"N20","v":12212},{"$f":"COUNTIF(L16:L18,AI20)","v":0},{"$f":"AJ20/(AL4-AJ25)","v":0},{"$f":"IF(AK20=0,0,(AK20*((LOG(AK20))/LOG(2))))","v":0},null,{"$f":"N20","v":12212},{"$f":"COUNTIF(L19:L21,AN20)","v":0},{"$f":"AO20/(AQ4-AO25)","v":0},{"$f":"IF(AP20=0,0,(AP20*((LOG(AP20))/LOG(2))))","v":0},null,{"$f":"N20","v":12212},{"$f":"COUNTIF(L22:L24,AS20)","v":2},{"$f":"AT20/(AV4-AT25)","v":1},{"$f":"IF(AU20=0,0,(AU20*((LOG(AU20))/LOG(2))))","v":0}]
[21,6683,22,15373,24,15385,23,15393,24,15419,0,22222,null,12221,{"$f":"COUNTIF($L$7:$L$500,N21)","v":1},{"$f":"O21/$Q$4","v":5.8823529411764705E-2},{"$f":"IF(P21=0,0,(P21*((LOG(P21))/LOG(2))))","v":-0.24043899066178465},null,null,{"$f":"N21","v":12221},{"$f":"COUNTIF(L7:L9,T21)","v":0},{"$f":"U21/(W4-U25)","v":0},{"$f":"IF(V21=0,0,(V21*((LOG(V21))/LOG(2))))","v":0},null,{"$f":"N21","v":12221},{"$f":"COUNTIF(L10:L12,Y21)","v":0},{"$f":"Z21/(AB4-Z25)","v":0},{"$f":"IF(AA21=0,0,(AA21*((LOG(AA21))/LOG(2))))","v":0},null,{"$f":"N21","v":12221},{"$f":"COUNTIF(L13:L15,AD21)","v":0},{"$f":"AE21/(AG4-AE25)","v":0},{"$f":"IF(AF21=0,0,(AF21*((LOG(AF21))/LOG(2))))","v":0},null,{"$f":"N21","v":12221},{"$f":"COUNTIF(L16:L18,AI21)","v":0},{"$f":"AJ21/(AL4-AJ25)","v":0},{"$f":"IF(AK21=0,0,(AK21*((LOG(AK21))/LOG(2))))","v":0},null,{"$f":"N21","v":12221},{"$f":"COUNTIF(L19:L21,AN21)","v":1},{"$f":"AO21/(AQ4-AO25)","v":0.33333333333333331},{"$f":"IF(AP21=0,0,(AP21*((LOG(AP21))/LOG(2))))","v":-0.52832083357371862},null,{"$f":"N21","v":12221},{"$f":"COUNTIF(L22:L24,AS21)","v":0},{"$f":"AT21/(AV4-AT25)","v":0},{"$f":"IF(AU21=0,0,(AU21*((LOG(AU21))/LOG(2))))","v":0}]
[12,15610,24,15621,24,15647,14,15663,24,15674,0,12212,null,12222,{"$f":"COUNTIF($L$7:$L$500,N22)","v":2},{"$f":"O22/$Q$4","v":0.11764705882352941},{"$f":"IF(P22=0,0,(P22*((LOG(P22))/LOG(2))))","v":-0.36323092250003997},null,null,{"$f":"N22","v":12222},{"$f":"COUNTIF(L7:L9,T22)","v":0},{"$f":"U22/(W4-U25)","v":0},{"$f":"IF(V22=0,0,(V22*((LOG(V22))/LOG(2))))","v":0},null,{"$f":"N22","v":12222},{"$f":"COUNTIF(L10:L12,Y22)","v":1},{"$f":"Z22/(AB4-Z25)","v":0.33333333333333331},{"$f":"IF(AA22=0,0,(AA22*((LOG(AA22))/LOG(2))))","v":-0.52832083357371862},null,{"$f":"N22","v":12222},{"$f":"COUNTIF(L13:L15,AD22)","v":0},{"$f":"AE22/(AG4-AE25)","v":0},{"$f":"IF(AF22=0,0,(AF22*((LOG(AF22))/LOG(2))))","v":0},null,{"$f":"N22","v":12222},{"$f":"COUNTIF(L16:L18,AI22)","v":1},{"$f":"AJ22/(AL4-AJ25)","v":0.33333333333333331},{"$f":"IF(AK22=0,0,(AK22*((LOG(AK22))/LOG(2))))","v":-0.52832083357371862},null,{"$f":"N22","v":12222},{"$f":"COUNTIF(L19:L21,AN22)","v":0},{"$f":"AO22/(AQ4-AO25)","v":0},{"$f":"IF(AP22=0,0,(AP22*((LOG(AP22))/LOG(2))))","v":0},null,{"$f":"N22","v":12222},{"$f":"COUNTIF(L22:L24,AS22)","v":0},{"$f":"AT22/(AV4-AT25)","v":0},{"$f":"IF(AU22=0,0,(AU22*((LOG(AU22))/LOG(2))))","v":0}]
[12,16009,24,16019,24,16032,14,16043,24,16054,0,12212,null,21111,{"$f":"COUNTIF($L$7:$L$500,N23)","v":0},{"$f":"O23/$Q$4","v":0},{"$f":"IF(P23=0,0,(P23*((LOG(P23))/LOG(2))))","v":0},null,null,{"$f":"N23","v":21111},{"$f":"COUNTIF(L7:L9,T23)","v":0},{"$f":"U23/(W4-U25)","v":0},{"$f":"IF(V23=0,0,(V23*((LOG(V23))/LOG(2))))","v":0},null,{"$f":"N23","v":21111},{"$f":"COUNTIF(L10:L12,Y23)","v":0},{"$f":"Z23/(AB4-Z25)","v":0},{"$f":"IF(AA23=0,0,(AA23*((LOG(AA23))/LOG(2))))","v":0},null,{"$f":"N23","v":21111},{"$f":"COUNTIF(L13:L15,AD23)","v":0},{"$f":"AE23/(AG4-AE25)","v":0},{"$f":"IF(AF23=0,0,(AF23*((LOG(AF23))/LOG(2))))","v":0},null,{"$f":"N23","v":21111},{"$f":"COUNTIF(L16:L18,AI23)","v":0},{"$f":"AJ23/(AL4-AJ25)","v":0},{"$f":"IF(AK23=0,0,(AK23*((LOG(AK23))/LOG(2))))","v":0},null,{"$f":"N23","v":21111},{"$f":"COUNTIF(L19:L21,AN23)","v":0},{"$f":"AO23/(AQ4-AO25)","v":0},{"$f":"IF(AP23=0,0,(AP23*((LOG(AP23))/LOG(2))))","v":0},null,{"$f":"N23","v":21111},{"$f":"COUNTIF(L22:L24,AS23)","v":0},{"$f":"AT23/(AV4-AT25)","v":0},{"$f":"IF(AU23=0,0,(AU23*((LOG(AU23))/LOG(2))))","v":0}]
[12,19648,13,21074,13,21107,null,null,null,null,null,111,null,21112,{"$f":"COUNTIF($L$7:$L$500,N24)","v":0},{"$f":"O24/$Q$4","v":0},{"$f":"IF(P24=0,0,(P24*((LOG(P24))/LOG(2))))","v":0},null,null,{"$f":"N24","v":21112},{"$f":"COUNTIF(L7:L9,T24)","v":0},{"$f":"U24/(W4-U25)","v":0},{"$f":"IF(V24=0,0,(V24*((LOG(V24))/LOG(2))))","v":0},null,{"$f":"N24","v":21112},{"$f":"COUNTIF(L10:L12,Y24)","v":0},{"$f":"Z24/(AB4-Z25)","v":0},{"$f":"IF(AA24=0,0,(AA24*((LOG(AA24))/LOG(2))))","v":0},null,{"$f":"N24","v":21112},{"$f":"COUNTIF(L13:L15,AD24)","v":0},{"$f":"AE24/(AG4-AE25)","v":0},{"$f":"IF(AF24=0,0,(AF24*((LOG(AF24))/LOG(2))))","v":0},null,{"$f":"N24","v":21112},{"$f":"COUNTIF(L16:L18,AI24)","v":0},{"$f":"AJ24/(AL4-AJ25)","v":0},{"$f":"IF(AK24=0,0,(AK24*((LOG(AK24))/LOG(2))))","v":0},null,{"$f":"N24","v":21112},{"$f":"COUNTIF(L19:L21,AN24)","v":0},{"$f":"AO24/(AQ4-AO25)","v":0},{"$f":"IF(AP24=0,0,(AP24*((LOG(AP24))/LOG(2))))","v":0},null,{"$f":"N24","v":21112},{"$f":"COUNTIF(L22:L24,AS24)","v":0},{"$f":"AT24/(AV4-AT25)","v":0},{"$f":"IF(AU24=0,0,(AU24*((LOG(AU24))/LOG(2))))","v":0}]
[null,null,null,null,null,null,null,null,null,null,null,null,null,21121,{"$f":"COUNTIF($L$7:$L$500,N25)","v":0},{"$f":"O25/$Q$4","v":0},{"$f":"IF(P25=0,0,(P25*((LOG(P25))/LOG(2))))","v":0},null,null,{"$f":"N25","v":21121},{"$f":"COUNTIF(L7:L9,T25)","v":0},null,null,null,{"$f":"N25","v":21121},{"$f":"COUNTIF(L10:L12,Y25)","v":0},null,null,null,{"$f":"N25","v":21121},{"$f":"COUNTIF(L13:L15,AD25)","v":0},null,null,null,{"$f":"N25","v":21121},{"$f":"COUNTIF(L16:L18,AI25)","v":0},null,null,null,{"$f":"N25","v":21121},{"$f":"COUNTIF(L19:L21,AN25)","v":0},null,null,null,{"$f":"N25","v":21121},{"$f":"COUNTIF(L22:L24,AS25)","v":0}]
[null,null,null,null,null,null,null,null,null,null,null,null,null,21122,{"$f":"COUNTIF($L$7:$L$500,N26)","v":0},{"$f":"O26/$Q$4","v":0},{"$f":"IF(P26=0,0,(P26*((LOG(P26))/LOG(2))))","v":0},null,null,{"$f":"N26","v":21122},{"$f":"COUNTIF(L7:L9,T26)","v":0},{"$f":"U26/(W4-U25)","v":0},{"$f":"IF(V26=0,0,(V26*((LOG(V26))/LOG(2))))","v":0},null,{"$f":"N26","v":21122},{"$f":"COUNTIF(L10:L12,Y26)","v":0},{"$f":"Z26/(AB4-Z25)","v":0},{"$f":"IF(AA26=0,0,(AA26*((LOG(AA26))/LOG(2))))","v":0},null,{"$f":"N26","v":21122},{"$f":"COUNTIF(L13:L15,AD26)","v":0},{"$f":"AE26/(AG4-AE25)","v":0},{"$f":"IF(AF26=0,0,(AF26*((LOG(AF26))/LOG(2))))","v":0},null,{"$f":"N26","v":21122},{"$f":"COUNTIF(L16:L18,AI26)","v":0},{"$f":"AJ26/(AL4-AJ25)","v":0},{"$f":"IF(AK26=0,0,(AK26*((LOG(AK26))/LOG(2))))","v":0},null,{"$f":"N26","v":21122},{"$f":"COUNTIF(L19:L21,AN26)","v":0},{"$f":"AO26/(AQ4-AO25)","v":0},{"$f":"IF(AP26=0,0,(AP26*((LOG(AP26))/LOG(2))))","v":0},null,{"$f":"N26","v":21122},{"$f":"COUNTIF(L22:L24,AS26)","v":0},{"$f":"AT26/(AV4-AT25)","v":0},{"$f":"IF(AU26=0,0,(AU26*((LOG(AU26))/LOG(2))))","v":0}]
[null,null,null,null,null,null,null,null,null,null,null,null,null,21211,{"$f":"COUNTIF($L$7:$L$500,N27)","v":1},{"$f":"O27/$Q$4","v":5.8823529411764705E-2},{"$f":"IF(P27=0,0,(P27*((LOG(P27))/LOG(2))))","v":-0.24043899066178465},null,null,{"$f":"N27","v":21211},{"$f":"COUNTIF(L7:L9,T27)","v":0},{"$f":"U27/(W4-U25)","v":0},{"$f":"IF(V27=0,0,(V27*((LOG(V27))/LOG(2))))","v":0},null,{"$f":"N27","v":21211},{"$f":"COUNTIF(L10:L12,Y27)","v":0},{"$f":"Z27/(AB4-Z25)","v":0},{"$f":"IF(AA27=0,0,(AA27*((LOG(AA27))/LOG(2))))","v":0},null,{"$f":"N27","v":21211},{"$f":"COUNTIF(L13:L15,AD27)","v":0},{"$f":"AE27/(AG4-AE25)","v":0},{"$f":"IF(AF27=0,0,(AF27*((LOG(AF27))/LOG(2))))","v":0},null,{"$f":"N27","v":21211},{"$f":"COUNTIF(L16:L18,AI27)","v":1},{"$f":"AJ27/(AL4-AJ25)","v":0.33333333333333331},{"$f":"IF(AK27=0,0,(AK27*((LOG(AK27))/LOG(2))))","v":-0.52832083357371862},null,{"$f":"N27","v":21211},{"$f":"COUNTIF(L19:L21,AN27)","v":0},{"$f":"AO27/(AQ4-AO25)","v":0},{"$f":"IF(AP27=0,0,(AP27*((LOG(AP27))/LOG(2))))","v":0},null,{"$f":"N27","v":21211},{"$f":"COUNTIF(L22:L24,AS27)","v":0},{"$f":"AT27/(AV4-AT25)","v":0},{"$f":"IF(AU27=0,0,(AU27*((LOG(AU27))/LOG(2))))","v":0}]
[null,null,null,null,null,null,null,null,null,null,null,null,null,21212,{"$f":"COUNTIF($L$7:$L$500,N28)","v":1},{"$f":"O28/$Q$4","v":5.8823529411764705E-2},{"$f":"IF(P28=0,0,(P28*((LOG(P28))/LOG(2))))","v":-0.24043899066178465},null,null,{"$f":"N28","v":21212},{"$f":"COUNTIF(L7:L9,T28)","v":1},{"$f":"U28/(W4-U25)","v":0.33333333333333331},{"$f":"IF(V28=0,0,(V28*((LOG(V28))/LOG(2))))","v":-0.52832083357371862},null,{"$f":"N28","v":21212},{"$f":"COUNTIF(L10:L12,Y28)","v":0},{"$f":"Z28/(AB4-Z25)","v":0},{"$f":"IF(AA28=0,0,(AA28*((LOG(AA28))/LOG(2))))","v":0},null,{"$f":"N28","v":21212},{"$f":"COUNTIF(L13:L15,AD28)","v":0},{"$f":"AE28/(AG4-AE25)","v":0},{"$f":"IF(AF28=0,0,(AF28*((LOG(AF28))/LOG(2))))","v":0},null,{"$f":"N28","v":21212},{"$f":"COUNTIF(L16:L18,AI28)","v":0},{"$f":"AJ28/(AL4-AJ25)","v":0},{"$f":"IF(AK28=0,0,(AK28*((LOG(AK28))/LOG(2))))","v":0},null,{"$f":"N28","v":21212},{"$f":"COUNTIF(L19:L21,AN28)","v":0},{"$f":"AO28/(AQ4-AO25)","v":0},{"$f":"IF(AP28=0,0,(AP28*((LOG(AP28))/LOG(2))))","v":0},null,{"$f":"N28","v":21212},{"$f":"COUNTIF(L22:L24,AS28)","v":0},{"$f":"AT28/(AV4-AT25)","v":0},{"$f":"IF(AU28=0,0,(AU28*((LOG(AU28))/LOG(2))))","v":0}]
[null,null,null,null,null,null,null,null,null,null,null,null,null,21221,{"$f":"COUNTIF($L$7:$L$500,N29)","v":0},{"$f":"O29/$Q$4","v":0},{"$f":"IF(P29=0,0,(P29*((LOG(P29))/LOG(2))))","v":0},null,null,{"$f":"N29","v":21221},{"$f":"COUNTIF(L7:L9,T29)","v":0},{"$f":"U29/(W4-U25)","v":0},{"$f":"IF(V29=0,0,(V29*((LOG(V29))/LOG(2))))","v":0},null,{"$f":"N29","v":21221},{"$f":"COUNTIF(L10:L12,Y29)","v":0},{"$f":"Z29/(AB4-Z25)","v":0},{"$f":"IF(AA29=0,0,(AA29*((LOG(AA29))/LOG(2))))","v":0},null,{"$f":"N29","v":21221},{"$f":"COUNTIF(L13:L15,AD29)","v":0},{"$f":"AE29/(AG4-AE25)","v":0},{"$f":"IF(AF29=0,0,(AF29*((LOG(AF29))/LOG(2))))","v":0},null,{"$f":"N29","v":21221},{"$f":"COUNTIF(L16:L18,AI29)","v":0},{"$f":"AJ29/(AL4-AJ25)","v":0},{"$f":"IF(AK29=0,0,(AK29*((LOG(AK29))/LOG(2))))","v":0},null,{"$f":"N29","v":21221},{"$f":"COUNTIF(L19:L21,AN29)","v":0},{"$f":"AO29/(AQ4-AO25)","v":0},{"$f":"IF(AP29=0,0,(AP29*((LOG(AP29))/LOG(2))))","v":0},null,{"$f":"N29","v":21221},{"$f":"COUNTIF(L22:L24,AS29)","v":0},{"$f":"AT29/(AV4-AT25)","v":0},{"$f":"IF(AU29=0,0,(AU29*((LOG(AU29))/LOG(2))))","v":0}]
[null,null,null,null,null,null,null,null,null,null,null,null,null,21222,{"$f":"COUNTIF($L$7:$L$500,N30)","v":2},{"$f":"O30/$Q$4","v":0.11764705882352941},{"$f":"IF(P30=0,0,(P30*((LOG(P30))/LOG(2))))","v":-0.36323092250003997},null,null,{"$f":"N30","v":21222},{"$f":"COUNTIF(L7:L9,T30)","v":1},{"$f":"U30/(W4-U25)","v":0.33333333333333331},{"$f":"IF(V30=0,0,(V30*((LOG(V30))/LOG(2))))","v":-0.52832083357371862},null,{"$f":"N30","v":21222},{"$f":"COUNTIF(L10:L12,Y30)","v":1},{"$f":"Z30/(AB4-Z25)","v":0.33333333333333331},{"$f":"IF(AA30=0,0,(AA30*((LOG(AA30))/LOG(2))))","v":-0.52832083357371862},null,{"$f":"N30","v":21222},{"$f":"COUNTIF(L13:L15,AD30)","v":0},{"$f":"AE30/(AG4-AE25)","v":0},{"$f":"IF(AF30=0,0,(AF30*((LOG(AF30))/LOG(2))))","v":0},null,{"$f":"N30","v":21222},{"$f":"COUNTIF(L16:L18,AI30)","v":0},{"$f":"AJ30/(AL4-AJ25)","v":0},{"$f":"IF(AK30=0,0,(AK30*((LOG(AK30))/LOG(2))))","v":0},null,{"$f":"N30","v":21222},{"$f":"COUNTIF(L19:L21,AN30)","v":0},{"$f":"AO30/(AQ4-AO25)","v":0},{"$f":"IF(AP30=0,0,(AP30*((LOG(AP30))/LOG(2))))","v":0},null,{"$f":"N30","v":21222},{"$f":"COUNTIF(L22:L24,AS30)","v":0},{"$f":"AT30/(AV4-AT25)","v":0},{"$f":"IF(AU30=0,0,(AU30*((LOG(AU30))/LOG(2))))","v":0}]
[null,null,null,null,null,null,null,null,null,null,null,null,null,22111,{"$f":"COUNTIF($L$7:$L$500,N31)","v":0},{"$f":"O31/$Q$4","v":0},{"$f":"IF(P31=0,0,(P31*((LOG(P31))/LOG(2))))","v":0},null,null,{"$f":"N31","v":22111},{"$f":"COUNTIF(L7:L9,T31)","v":0},{"$f":"U31/(W4-U25)","v":0},{"$f":"IF(V31=0,0,(V31*((LOG(V31))/LOG(2))))","v":0},null,{"$f":"N31","v":22111},{"$f":"COUNTIF(L10:L12,Y31)","v":0},{"$f":"Z31/(AB4-Z25)","v":0},{"$f":"IF(AA31=0,0,(AA31*((LOG(AA31))/LOG(2))))","v":0},null,{"$f":"N31","v":22111},{"$f":"COUNTIF(L13:L15,AD31)","v":0},{"$f":"AE31/(AG4-AE25)","v":0},{"$f":"IF(AF31=0,0,(AF31*((LOG(AF31))/LOG(2))))","v":0},null,{"$f":"N31","v":22111},{"$f":"COUNTIF(L16:L18,AI31)","v":0},{"$f":"AJ31/(AL4-AJ25)","v":0},{"$f":"IF(AK31=0,0,(AK31*((LOG(AK31))/LOG(2))))","v":0},null,{"$f":"N31","v":22111},{"$f":"COUNTIF(L19:L21,AN31)","v":0},{"$f":"AO31/(AQ4-AO25)","v":0},{"$f":"IF(AP31=0,0,(AP31*((LOG(AP31))/LOG(2))))","v":0},null,{"$f":"N31","v":22111},{"$f":"COUNTIF(L22:L24,AS31)","v":0},{"$f":"AT31/(AV4-AT25)","v":0},{"$f":"IF(AU31=0,0,(AU31*((LOG(AU31))/LOG(2))))","v":0}]
[null,null,null,null,null,null,null,null,null,null,null,null,null,22112,{"$f":"COUNTIF($L$7:$L$500,N32)","v":0},{"$f":"O32/$Q$4","v":0},{"$f":"IF(P32=0,0,(P32*((LOG(P32))/LOG(2))))","v":0},null,null,{"$f":"N32","v":22112},{"$f":"COUNTIF(L7:L9,T32)","v":0},{"$f":"U32/(W4-U25)","v":0},{"$f":"IF(V32=0,0,(V32*((LOG(V32))/LOG(2))))","v":0},null,{"$f":"N32","v":22112},{"$f":"COUNTIF(L10:L12,Y32)","v":0},{"$f":"Z32/(AB4-Z25)","v":0},{"$f":"IF(AA32=0,0,(AA32*((LOG(AA32))/LOG(2))))","v":0},null,{"$f":"N32","v":22112},{"$f":"COUNTIF(L13:L15,AD32)","v":0},{"$f":"AE32/(AG4-AE25)","v":0},{"$f":"IF(AF32=0,0,(AF32*((LOG(AF32))/LOG(2))))","v":0},null,{"$f":"N32","v":22112},{"$f":"COUNTIF(L16:L18,AI32)","v":0},{"$f":"AJ32/(AL4-AJ25)","v":0},{"$f":"IF(AK32=0,0,(AK32*((LOG(AK32))/LOG(2))))","v":0},null,{"$f":"N32","v":22112},{"$f":"COUNTIF(L19:L21,AN32)","v":0},{"$f":"AO32/(AQ4-AO25)","v":0},{"$f":"IF(AP32=0,0,(AP32*((LOG(AP32))/LOG(2))))","v":0},null,{"$f":"N32","v":22112},{"$f":"COUNTIF(L22:L24,AS32)","v":0},{"$f":"AT32/(AV4-AT25)","v":0},{"$f":"IF(AU32=0,0,(AU32*((LOG(AU32))/LOG(2))))","v":0}]
[null,null,null,null,null,null,null,null,null,null,null,null,null,22121,{"$f":"COUNTIF($L$7:$L$500,N33)","v":1},{"$f":"O33/$Q$4","v":5.8823529411764705E-2},{"$f":"IF(P33=0,0,(P33*((LOG(P33))/LOG(2))))","v":-0.24043899066178465},null,null,{"$f":"N33","v":22121},{"$f":"COUNTIF(L7:L9,T33)","v":0},{"$f":"U33/(W4-U25)","v":0},{"$f":"IF(V33=0,0,(V33*((LOG(V33))/LOG(2))))","v":0},null,{"$f":"N33","v":22121},{"$f":"COUNTIF(L10:L12,Y33)","v":0},{"$f":"Z33/(AB4-Z25)","v":0},{"$f":"IF(AA33=0,0,(AA33*((LOG(AA33))/LOG(2))))","v":0},null,{"$f":"N33","v":22121},{"$f":"COUNTIF(L13:L15,AD33)","v":1},{"$f":"AE33/(AG4-AE25)","v":0.33333333333333331},{"$f":"IF(AF33=0,0,(AF33*((LOG(AF33))/LOG(2))))","v":-0.52832083357371862},null,{"$f":"N33","v":22121},{"$f":"COUNTIF(L16:L18,AI33)","v":0},{"$f":"AJ33/(AL4-AJ25)","v":0},{"$f":"IF(AK33=0,0,(AK33*((LOG(AK33))/LOG(2))))","v":0},null,{"$f":"N33","v":22121},{"$f":"COUNTIF(L19:L21,AN33)","v":0},{"$f":"AO33/(AQ4-AO25)","v":0},{"$f":"IF(AP33=0,0,(AP33*((LOG(AP33))/LOG(2))))","v":0},null,{"$f":"N33","v":22121},{"$f":"COUNTIF(L22:L24,AS33)","v":0},{"$f":"AT33/(AV4-AT25)","v":0},{"$f":"IF(AU33=0,0,(AU33*((LOG(AU33))/LOG(2))))","v":0}]
[null,null,null,null,null,null,null,null,null,null,null,null,null,22122,{"$f":"COUNTIF($L$7:$L$500,N34)","v":1},{"$f":"O34/$Q$4","v":5.8823529411764705E-2},{"$f":"IF(P34=0,0,(P34*((LOG(P34))/LOG(2))))","v":-0.24043899066178465},null,null,{"$f":"N34","v":22122},{"$f":"COUNTIF(L7:L9,T34)","v":0},{"$f":"U34/(W4-U25)","v":0},{"$f":"IF(V34=0,0,(V34*((LOG(V34))/LOG(2))))","v":0},null,{"$f":"N34","v":22122},{"$f":"COUNTIF(L10:L12,Y34)","v":0},{"$f":"Z34/(AB4-Z25)","v":0},{"$f":"IF(AA34=0,0,(AA34*((LOG(AA34))/LOG(2))))","v":0},null,{"$f":"N34","v":22122},{"$f":"COUNTIF(L13:L15,AD34)","v":0},{"$f":"AE34/(AG4-AE25)","v":0},{"$f":"IF(AF34=0,0,(AF34*((LOG(AF34))/LOG(2))))","v":0},null,{"$f":"N34","v":22122},{"$f":"COUNTIF(L16:L18,AI34)","v":0},{"$f":"AJ34/(AL4-AJ25)","v":0},{"$f":"IF(AK34=0,0,(AK34*((LOG(AK34))/LOG(2))))","v":0},null,{"$f":"N34","v":22122},{"$f":"COUNTIF(L19:L21,AN34)","v":1},{"$f":"AO34/(AQ4-AO25)","v":0.33333333333333331},{"$f":"IF(AP34=0,0,(AP34*((LOG(AP34))/LOG(2))))","v":-0.52832083357371862},null,{"$f":"N34","v":22122},{"$f":"COUNTIF(L22:L24,AS34)","v":0},{"$f":"AT34/(AV4-AT25)","v":0},{"$f":"IF(AU34=0,0,(AU34*((LOG(AU34))/LOG(2))))","v":0}]
[null,null,null,null,null,null,null,null,null,null,null,null,null,22211,{"$f":"COUNTIF($L$7:$L$500,N35)","v":0},{"$f":"O35/$Q$4","v":0},{"$f":"IF(P35=0,0,(P35*((LOG(P35))/LOG(2))))","v":0},null,null,{"$f":"N35","v":22211},{"$f":"COUNTIF(L7:L9,T35)","v":0},{"$f":"U35/(W4-U25)","v":0},{"$f":"IF(V35=0,0,(V35*((LOG(V35))/LOG(2))))","v":0},null,{"$f":"N35","v":22211},{"$f":"COUNTIF(L10:L12,Y35)","v":0},{"$f":"Z35/(AB4-Z25)","v":0},{"$f":"IF(AA35=0,0,(AA35*((LOG(AA35))/LOG(2))))","v":0},null,{"$f":"N35","v":22211},{"$f":"COUNTIF(L13:L15,AD35)","v":0},{"$f":"AE35/(AG4-AE25)","v":0},{"$f":"IF(AF35=0,0,(AF35*((LOG(AF35))/LOG(2))))","v":0},null,{"$f":"N35","v":22211},{"$f":"COUNTIF(L16:L18,AI35)","v":0},{"$f":"AJ35/(AL4-AJ25)","v":0},{"$f":"IF(AK35=0,0,(AK35*((LOG(AK35))/LOG(2))))","v":0},null,{"$f":"N35","v":22211},{"$f":"COUNTIF(L19:L21,AN35)","v":0},{"$f":"AO35/(AQ4-AO25)","v":0},{"$f":"IF(AP35=0,0,(AP35*((LOG(AP35))/LOG(2))))","v":0},null,{"$f":"N35","v":22211},{"$f":"COUNTIF(L22:L24,AS35)","v":0},{"$f":"AT35/(AV4-AT25)","v":0},{"$f":"IF(AU35=0,0,(AU35*((LOG(AU35))/LOG(2))))","v":0}]
[null,null,null,null,null,null,null,null,null,null,null,null,null,22212,{"$f":"COUNTIF($L$7:$L$500,N36)","v":0},{"$f":"O36/$Q$4","v":0},{"$f":"IF(P36=0,0,(P36*((LOG(P36))/LOG(2))))","v":0},null,null,{"$f":"N36","v":22212},{"$f":"COUNTIF(L7:L9,T36)","v":0},{"$f":"U36/(W4-U25)","v":0},{"$f":"IF(V36=0,0,(V36*((LOG(V36))/LOG(2))))","v":0},null,{"$f":"N36","v":22212},{"$f":"COUNTIF(L10:L12,Y36)","v":0},{"$f":"Z36/(AB4-Z25)","v":0},{"$f":"IF(AA36=0,0,(AA36*((LOG(AA36))/LOG(2))))","v":0},null,{"$f":"N36","v":22212},{"$f":"COUNTIF(L13:L15,AD36)","v":0},{"$f":"AE36/(AG4-AE25)","v":0},{"$f":"IF(AF36=0,0,(AF36*((LOG(AF36))/LOG(2))))","v":0},null,{"$f":"N36","v":22212},{"$f":"COUNTIF(L16:L18,AI36)","v":0},{"$f":"AJ36/(AL4-AJ25)","v":0},{"$f":"IF(AK36=0,0,(AK36*((LOG(AK36))/LOG(2))))","v":0},null,{"$f":"N36","v":22212},{"$f":"COUNTIF(L19:L21,AN36)","v":0},{"$f":"AO36/(AQ4-AO25)","v":0},{"$f":"IF(AP36=0,0,(AP36*((LOG(AP36))/LOG(2))))","v":0},null,{"$f":"N36","v":22212},{"$f":"COUNTIF(L22:L24,AS36)","v":0},{"$f":"AT36/(AV4-AT25)","v":0},{"$f":"IF(AU36=0,0,(AU36*((LOG(AU36))/LOG(2))))","v":0}]
[null,null,null,null,null,null,null,null,null,null,null,null,null,22221,{"$f":"COUNTIF($L$7:$L$500,N37)","v":0},{"$f":"O37/$Q$4","v":0},{"$f":"IF(P37=0,0,(P37*((LOG(P37))/LOG(2))))","v":0},null,null,{"$f":"N37","v":22221},{"$f":"COUNTIF(L7:L9,T37)","v":0},{"$f":"U37/(W4-U25)","v":0},{"$f":"IF(V37=0,0,(V37*((LOG(V37))/LOG(2))))","v":0},null,{"$f":"N37","v":22221},{"$f":"COUNTIF(L10:L12,Y37)","v":0},{"$f":"Z37/(AB4-Z25)","v":0},{"$f":"IF(AA37=0,0,(AA37*((LOG(AA37))/LOG(2))))","v":0},null,{"$f":"N37","v":22221},{"$f":"COUNTIF(L13:L15,AD37)","v":0},{"$f":"AE37/(AG4-AE25)","v":0},{"$f":"IF(AF37=0,0,(AF37*((LOG(AF37))/LOG(2))))","v":0},null,{"$f":"N37","v":22221},{"$f":"COUNTIF(L16:L18,AI37)","v":0},{"$f":"AJ37/(AL4-AJ25)","v":0},{"$f":"IF(AK37=0,0,(AK37*((LOG(AK37))/LOG(2))))","v":0},null,{"$f":"N37","v":22221},{"$f":"COUNTIF(L19:L21,AN37)","v":0},{"$f":"AO37/(AQ4-AO25)","v":0},{"$f":"IF(AP37=0,0,(AP37*((LOG(AP37))/LOG(2))))","v":0},null,{"$f":"N37","v":22221},{"$f":"COUNTIF(L22:L24,AS37)","v":0},{"$f":"AT37/(AV4-AT25)","v":0},{"$f":"IF(AU37=0,0,(AU37*((LOG(AU37))/LOG(2))))","v":0}]
[null,null,null,null,null,null,null,null,null,null,null,null,null,22222,{"$f":"COUNTIF($L$7:$L$500,N38)","v":4},{"$f":"O38/$Q$4","v":0.23529411764705882},{"$f":"IF(P38=0,0,(P38*((LOG(P38))/LOG(2))))","v":-0.49116772735302094},null,null,{"$f":"N38","v":22222},{"$f":"COUNTIF(L7:L9,T38)","v":1},{"$f":"U38/(W4-U25)","v":0.33333333333333331},{"$f":"IF(V38=0,0,(V38*((LOG(V38))/LOG(2))))","v":-0.52832083357371862},null,{"$f":"N38","v":22222},{"$f":"COUNTIF(L10:L12,Y38)","v":1},{"$f":"Z38/(AB4-Z25)","v":0.33333333333333331},{"$f":"IF(AA38=0,0,(AA38*((LOG(AA38))/LOG(2))))","v":-0.52832083357371862},null,{"$f":"N38","v":22222},{"$f":"COUNTIF(L13:L15,AD38)","v":0},{"$f":"AE38/(AG4-AE25)","v":0},{"$f":"IF(AF38=0,0,(AF38*((LOG(AF38))/LOG(2))))","v":0},null,{"$f":"N38","v":22222},{"$f":"COUNTIF(L16:L18,AI38)","v":1},{"$f":"AJ38/(AL4-AJ25)","v":0.33333333333333331},{"$f":"IF(AK38=0,0,(AK38*((LOG(AK38))/LOG(2))))","v":-0.52832083357371862},null,{"$f":"N38","v":22222},{"$f":"COUNTIF(L19:L21,AN38)","v":1},{"$f":"AO38/(AQ4-AO25)","v":0.33333333333333331},{"$f":"IF(AP38=0,0,(AP38*((LOG(AP38))/LOG(2))))","v":-0.52832083357371862},null,{"$f":"N38","v":22222},{"$f":"COUNTIF(L22:L24,AS38)","v":0},{"$f":"AT38/(AV4-AT25)","v":0},{"$f":"IF(AU38=0,0,(AU38*((LOG(AU38))/LOG(2))))","v":0}]
[null,null,null,null,null,null,null,null,null,null,null,null,null,null,null,{"$f":"SUM(P7:P38)","v":1},{"$f":"-SUM(Q7:Q38)","v":3.1462863706621045},null,null,null,null,{"$f":"SUM(V7:V38)","v":1},{"$f":"-SUM(W7:W38)","v":1.5849625007211559},null,null,null,{"$f":"SUM(AA7:AA38)","v":1},{"$f":"-SUM(AB7:AB38)","v":1.5849625007211559},null,null,null,{"$f":"SUM(AF7:AF38)","v":1},{"$f":"-SUM(AG7:AG38)","v":0.91829583405448945},null,null,null,{"$f":"SUM(AK7:AK38)","v":1},{"$f":"-SUM(AL7:AL38)","v":1.5849625007211559},null,null,null,{"$f":"SUM(AP7:AP38)","v":1},{"$f":"-SUM(AQ7:AQ38)","v":1.5849625007211559},null,null,null,{"$f":"SUM(AU7:AU38)","v":1},{"$f":"-SUM(AV7:AV38)","v":0}]
[null,null,null,null,null,null,null,null,null,null,null,null,null,null,null,"U=",{"$f":"Q39/(LOG(Q4)/LOG(2))","v":0.76974066624166981},null,null,null,null,"U1=",{"$f":"W39/(LOG(W4)/LOG(2))","v":0.99999999999999989},null,null,null,"U2=",{"$f":"AB39/(LOG(AB4)/LOG(2))","v":0.99999999999999989},null,null,null,"U3=",{"$f":"AG39/(LOG(AG4)/LOG(2))","v":0.57938016428569505},null,null,null,"U4=",{"$f":"AL39/(LOG(AL4)/LOG(2))","v":0.99999999999999989},null,null,null,"U5=",{"$f":"AQ39/(LOG(AQ4)/LOG(2))","v":0.99999999999999989},null,null,null,"U6=",{"$f":"AV39/(LOG(AV4)/LOG(2))","v":0}]
[]
[]
[null,null,null,null,null,null,null,null,null,null,null,null,null,"Total Target Seq"]
[null,null,null,null,null,null,null,null,null,null,null,null,null,{"$f":"COUNTIF(L7:L24,G3)","v":0},null,3,3,3,3,3,3]
[null,null,null,null,null,null,null,null,null,null,null,null,null,null,null,"% of reinforcement given in 6 equal intervals based on number of trials "]
[null,null,null,null,null,null,null,null,null,null,null,null,null,null,null,"%_1","%_2","%_3","%_4","%_5","%_6"]
[null,null,null,null,null,null,null,null,null,null,null,null,null,null,"target sequence",{"$f":"$G$3","v":21121},{"$f":"$G$3","v":21121},{"$f":"$G$3","v":21121},{"$f":"$G$3","v":21121},{"$f":"$G$3","v":21121},{"$f":"$G$3","v":21121}]
[null,null,null,null,null,null,null,null,null,null,null,null,null,null,"total reinforcement",{"$f":"U25","v":0},{"$f":"Z25","v":0},{"$f":"AE25","v":0},{"$f":"AJ25","v":0},{"$f":"AO25","v":0},{"$f":"AT25","v":0}]
[null,null,null,null,null,null,null,null,null,null,null,null,null,null,"% target"]
[null,null,null,null,null,null,null,null,null,null,null,null,null,null,"CCRF"]
[null,null,null,null,null,null,null,null,null,null,null,null,null,null,"% CCRf"]
[null,null,null,null,null,null,null,null,null,null,null,null,null,null,"average response rate",{"$f":"J9/P44","v":155.66666666666666},{"$f":"(J12-J9)/Q44","v":193.66666666666666},{"$f":"(J15-J12)/R44","v":182.33333333333334},{"$f":"(J18-J15)/S44","v":468.33333333333331},{"$f":"(J21-J18)/T44","v":4139.666666666667},{"$f":"(J24-J21)/U44","v":-5139.666666666667}]

{"sheet":"!N127A30.105","index":27,"n_rows":52,"n_cols":48,"rows_kept":52,"cut":false,"hidden":false,"merged":[[4,39,4,42],[5,39,5,40],[4,44,4,47],[5,44,5,45],[4,24,4,27],[5,24,5,25],[4,29,4,32],[5,29,5,30],[4,34,4,37],[5,34,5,35],[1,1,1,2],[5,13,5,14],[42,13,42,14],[43,13,43,14],[4,19,4,22],[5,19,5,20]]}
["Report for:!N127A30.105"]
["Date:","<date>"]
["Hen:","<hen>",null,null,null,"Correct Sequence",{"$f":"Start!J2","v":21121},null,null,null,null,null,null,null,null,"Total Sequences in Data",{"$f":"4994-COUNTBLANK(L7:L5000)","v":9},null,null,null,null,"Total Sequences in Block Data",{"$f":"COUNTA(L7:L8)","v":2},null,null,null,"Total Sequences in Block Data",{"$f":"COUNTA(L9:L9)","v":1},null,null,null,"Total Sequences in Block Data",{"$f":"COUNTA(L10:L11)","v":2},null,null,null,"Total Sequences in Block Data",{"$f":"COUNTA(L12:L12)","v":1},null,null,null,"Total Sequences in Block Data",{"$f":"COUNTA(L13:L14)","v":2},null,null,null,"Total Sequences in Block Data",{"$f":"COUNTA(L15:L15)","v":1}]
[null,null,null,null,null,null,null,null,null,null,null,null,null,null,null,"Total Sequences in Summary",{"$f":"SUM(O7:O38)","v":9},null,null,null,null,"Total Sequences in Block Summary",{"$f":"SUM(U7:U38)","v":2},null,null,null,"Total Sequences in Block Summary",{"$f":"SUM(Z7:Z38)","v":1},null,null,null,"Total Sequences in Block Summary",{"$f":"SUM(AE7:AE38)","v":2},null,null,null,"Total Sequences in Block Summary",{"$f":"SUM(AJ7:AJ38)","v":1},null,null,null,"Total Sequences in Block Summary",{"$f":"SUM(AO7:AO38)","v":2},null,null,null,"Total Sequences in Block Summary",{"$f":"SUM(AT7:AT38)","v":1}]
[null,null,null,null,null,null,null,null,null,null,null,null,null,null,null,null,null,null,null,"Block 1",null,null,null,null,"Block 2",null,null,null,null,"Block 3",null,null,null,null,"Block 4",null,null,null,null,"Block 5",null,null,null,null,"Block 6"]
["Sequence\nComponent\n1","Time\n1","Sequence\nComponent\n2","Time\n2","Sequence\nComponent\n3","Time\n3","Sequence\nComponent\n4","Time\n4","Sequence\nComponent\n5","Time\n5","Correct?\n0=No 1=Yes","Sequence",null,"Frequency",null,"Relative Frequency","Variability",null,null,"Frequency",null,"Relative Frequency","Variability",null,"Frequency",null,"Relative Frequency","Variability",null,"Frequency",null,"Relative Frequency","Variability",null,"Frequency",null,"Relative Frequency","Variability",null,"Frequency",null,"Relative Frequency","Variability",null,"Frequency",null,"Relative Frequency","Variability"]
[21,51,22,70,24,87,14,107,24,120,0,22212,null,11111,{"$f":"COUNTIF($L$7:$L$500,N7)","v":0},{"$f":"O7/$Q$4","v":0},{"$f":"IF(P7=0,0,(P7*((LOG(P7))/LOG(2))))","v":0},null,null,{"$f":"N7","v":11111},{"$f":"COUNTIF(L7:L8,T7)","v":0},{"$f":"U7/(W4-U25)","v":0},{"$f":"IF(V7=0,0,(V7*((LOG(V7))/LOG(2))))","v":0},null,{"$f":"N7","v":11111},{"$f":"COUNTIF(L9:L9,Y7)","v":0},{"$f":"Z7/(AB4-Z25)","v":0},{"$f":"IF(AA7=0,0,(AA7*((LOG(AA7))/LOG(2))))","v":0},null,{"$f":"N7","v":11111},{"$f":"COUNTIF(L10:L11,AD7)","v":0},{"$f":"AE7/(AG4-AE25)","v":0},{"$f":"IF(AF7=0,0,(AF7*((LOG(AF7))/LOG(2))))","v":0},null,{"$f":"N7","v":11111},{"$f":"COUNTIF(L12:L12,AI7)","v":0},{"$f":"AJ7/(AL4-AJ25)","v":0},{"$f":"IF(AK7=0,0,(AK7*((LOG(AK7))/LOG(2))))","v":0},null,{"$f":"N7","v":11111},{"$f":"COUNTIF(L13:L14,AN7)","v":0},{"$f":"AO7/(AQ4-AO25)","v":0},{"$f":"IF(AP7=0,0,(AP7*((LOG(AP7))/LOG(2))))","v":0},null,{"$f":"N7","v":11111},{"$f":"COUNTIF(L15:L15,AS7)","v":0},{"$f":"AT7/(AV4-AT25)","v":0},{"$f":"IF(AU7=0,0,(AU7*((LOG(AU7))/LOG(2))))","v":0}]
[21,248,11,269,11,306,21,331,11,347,1,21121,null,11112,{"$f":"COUNTIF($L$7:$L$500,N8)","v":1},{"$f":"O8/$Q$4","v":0.1111111111111111},{"$f":"IF(P8=0,0,(P8*((LOG(P8))/LOG(2))))","v":-0.3522138890491458},null,null,{"$f":"N8","v":11112},{"$f":"COUNTIF(L7:L8,T8)","v":0},{"$f":"U8/(W4-U25)","v":0},{"$f":"IF(V8=0,0,(V8*((LOG(V8))/LOG(2))))","v":0},null,{"$f":"N8","v":11112},{"$f":"COUNTIF(L9:L9,Y8)","v":0},{"$f":"Z8/(AB4-Z25)","v":0},{"$f":"IF(AA8=0,0,(AA8*((LOG(AA8))/LOG(2))))","v":0},null,{"$f":"N8","v":11112},{"$f":"COUNTIF(L10:L11,AD8)","v":0},{"$f":"AE8/(AG4-AE25)","v":0},{"$f":"IF(AF8=0,0,(AF8*((LOG(AF8))/LOG(2))))","v":0},null,{"$f":"N8","v":11112},{"$f":"COUNTIF(L12:L12,AI8)","v":0},{"$f":"AJ8/(AL4-AJ25)","v":0},{"$f":"IF(AK8=0,0,(AK8*((LOG(AK8))/LOG(2))))","v":0},null,{"$f":"N8","v":11112},{"$f":"COUNTIF(L13:L14,AN8)","v":1},{"$f":"AO8/(AQ4-AO25)","v":0.5},{"$f":"IF(AP8=0,0,(AP8*((LOG(AP8))/LOG(2))))","v":-0.5},null,{"$f":"N8","v":11112},{"$f":"COUNTIF(L15:L15,AS8)","v":0},{"$f":"AT8/(AV4-AT25)","v":0},{"$f":"IF(AU8=0,0,(AU8*((LOG(AU8))/LOG(2))))","v":0}]
[12,447,24,461,24,493,14,520,24,558,0,12212,null,11121,{"$f":"COUNTIF($L$7:$L$500,N9)","v":1},{"$f":"O9/$Q$4","v":0.1111111111111111},{"$f":"IF(P9=0,0,(P9*((LOG(P9))/LOG(2))))","v":-0.3522138890491458},null,null,{"$f":"N9","v":11121},{"$f":"COUNTIF(L7:L8,T9)","v":0},{"$f":"U9/(W4-U25)","v":0},{"$f":"IF(V9=0,0,(V9*((LOG(V9))/LOG(2))))","v":0},null,{"$f":"N9","v":11121},{"$f":"COUNTIF(L9:L9,Y9)","v":0},{"$f":"Z9/(AB4-Z25)","v":0},{"$f":"IF(AA9=0,0,(AA9*((LOG(AA9))/LOG(2))))","v":0},null,{"$f":"N9","v":11121},{"$f":"COUNTIF(L10:L11,AD9)","v":1},{"$f":"AE9/(AG4-AE25)","v":0.5},{"$f":"IF(AF9=0,0,(AF9*((LOG(AF9))/LOG(2))))","v":-0.5},null,{"$f":"N9","v":11121},{"$f":"COUNTIF(L12:L12,AI9)","v":0},{"$f":"AJ9/(AL4-AJ25)","v":0},{"$f":"IF(AK9=0,0,(AK9*((LOG(AK9))/LOG(2))))","v":0},null,{"$f":"N9","v":11121},{"$f":"COUNTIF(L13:L14,AN9)","v":0},{"$f":"AO9/(AQ4-AO25)","v":0},{"$f":"IF(AP9=0,0,(AP9*((LOG(AP9))/LOG(2))))","v":0},null,{"$f":"N9","v":11121},{"$f":"COUNTIF(L15:L15,AS9)","v":0},{"$f":"AT9/(AV4-AT25)","v":0},{"$f":"IF(AU9=0,0,(AU9*((LOG(AU9))/LOG(2))))","v":0}]
[21,664,22,681,13,698,14,711,24,722,0,22112,null,11122,{"$f":"COUNTIF($L$7:$L$500,N10)","v":0},{"$f":"O10/$Q$4","v":0},{"$f":"IF(P10=0,0,(P10*((LOG(P10))/LOG(2))))","v":0},null,null,{"$f":"N10","v":11122},{"$f":"COUNTIF(L7:L8,T10)","v":0},{"$f":"U10/(W4-U25)","v":0},{"$f":"IF(V10=0,0,(V10*((LOG(V10))/LOG(2))))","v":0},null,{"$f":"N10","v":11122},{"$f":"COUNTIF(L9:L9,Y10)","v":0},{"$f":"Z10/(AB4-Z25)","v":0},{"$f":"IF(AA10=0,0,(AA10*((LOG(AA10))/LOG(2))))","v":0},null,{"$f":"N10","v":11122},{"$f":"COUNTIF(L10:L11,AD10)","v":0},{"$f":"AE10/(AG4-AE25)","v":0},{"$f":"IF(AF10=0,0,(AF10*((LOG(AF10))/LOG(2))))","v":0},null,{"$f":"N10","v":11122},{"$f":"COUNTIF(L12:L12,AI10)","v":0},{"$f":"AJ10/(AL4-AJ25)","v":0},{"$f":"IF(AK10=0,0,(AK10*((LOG(AK10))/LOG(2))))","v":0},null,{"$f":"N10","v":11122},{"$f":"COUNTIF(L13:L14,AN10)","v":0},{"$f":"AO10/(AQ4-AO25)","v":0},{"$f":"IF(AP10=0,0,(AP10*((LOG(AP10))/LOG(2))))","v":0},null,{"$f":"N10","v":11122},{"$f":"COUNTIF(L15:L15,AS10)","v":0},{"$f":"AT10/(AV4-AT25)","v":0},{"$f":"IF(AU10=0,0,(AU10*((LOG(AU10))/LOG(2))))","v":0}]
[12,832,13,848,13,860,23,872,13,887,0,11121,null,11211,{"$f":"COUNTIF($L$7:$L$500,N11)","v":0},{"$f":"O11/$Q$4","v":0},{"$f":"IF(P11=0,0,(P11*((LOG(P11))/LOG(2))))","v":0},null,null,{"$f":"N11","v":11211},{"$f":"COUNTIF(L7:L8,T11)","v":0},{"$f":"U11/(W4-U25)","v":0},{"$f":"IF(V11=0,0,(V11*((LOG(V11))/LOG(2))))","v":0},null,{"$f":"N11","v":11211},{"$f":"COUNTIF(L9:L9,Y11)","v":0},{"$f":"Z11/(AB4-Z25)","v":0},{"$f":"IF(AA11=0,0,(AA11*((LOG(AA11))/LOG(2))))","v":0},null,{"$f":"N11","v":11211},{"$f":"COUNTIF(L10:L11,AD11)","v":0},{"$f":"AE11/(AG4-AE25)","v":0},{"$f":"IF(AF11=0,0,(AF11*((LOG(AF11))/LOG(2))))","v":0},null,{"$f":"N11","v":11211},{"$f":"COUNTIF(L12:L12,AI11)","v":0},{"$f":"AJ11/(AL4-AJ25)","v":0},{"$f":"IF(AK11=0,0,(AK11*((LOG(AK11))/LOG(2))))","v":0},null,{"$f":"N11","v":11211},{"$f":"COUNTIF(L13:L14,AN11)","v":0},{"$f":"AO11/(AQ4-AO25)","v":0},{"$f":"IF(AP11=0,0,(AP11*((LOG(AP11))/LOG(2))))","v":0},null,{"$f":"N11","v":11211},{"$f":"COUNTIF(L15:L15,AS11)","v":0},{"$f":"AT11/(AV4-AT25)","v":0},{"$f":"IF(AU11=0,0,(AU11*((LOG(AU11))/LOG(2))))","v":0}]
[12,1035,24,1055,13,1067,14,1078,24,1097,0,12112,null,11212,{"$f":"COUNTIF($L$7:$L$500,N12)","v":0},{"$f":"O12/$Q$4","v":0},{"$f":"IF(P12=0,0,(P12*((LOG(P12))/LOG(2))))","v":0},null,null,{"$f":"N12","v":11212},{"$f":"COUNTIF(L7:L8,T12)","v":0},{"$f":"U12/(W4-U25)","v":0},{"$f":"IF(V12=0,0,(V12*((LOG(V12))/LOG(2))))","v":0},null,{"$f":"N12","v":11212},{"$f":"COUNTIF(L9:L9,Y12)","v":0},{"$f":"Z12/(AB4-Z25)","v":0},{"$f":"IF(AA12=0,0,(AA12*((LOG(AA12))/LOG(2))))","v":0},null,{"$f":"N12","v":11212},{"$f":"COUNTIF(L10:L11,AD12)","v":0},{"$f":"AE12/(AG4-AE25)","v":0},{"$f":"IF(AF12=0,0,(AF12*((LOG(AF12))/LOG(2))))","v":0},null,{"$f":"N12","v":11212},{"$f":"COUNTIF(L12:L12,AI12)","v":0},{"$f":"AJ12/(AL4-AJ25)","v":0},{"$f":"IF(AK12=0,0,(AK12*((LOG(AK12))/LOG(2))))","v":0},null,{"$f":"N12","v":11212},{"$f":"COUNTIF(L13:L14,AN12)","v":0},{"$f":"AO12/(AQ4-AO25)","v":0},{"$f":"IF(AP12=0,0,(AP12*((LOG(AP12))/LOG(2))))","v":0},null,{"$f":"N12","v":11212},{"$f":"COUNTIF(L15:L15,AS12)","v":0},{"$f":"AT12/(AV4-AT25)","v":0},{"$f":"IF(AU12=0,0,(AU12*((LOG(AU12))/LOG(2))))","v":0}]
[12,1267,13,1325,13,1338,14,1352,24,1368,0,11112,null,11221,{"$f":"COUNTIF($L$7:$L$500,N13)","v":1},{"$f":"O13/$Q$4","v":0.1111111111111111},{"$f":"IF(P13=0,0,(P13*((LOG(P13))/LOG(2))))","v":-0.3522138890491458},null,null,{"$f":"N13","v":11221},{"$f":"COUNTIF(L7:L8,T13)","v":0},{"$f":"U13/(W4-U25)","v":0},{"$f":"IF(V13=0,0,(V13*((LOG(V13))/LOG(2))))","v":0},null,{"$f":"N13","v":11221},{"$f":"COUNTIF(L9:L9,Y13)","v":0},{"$f":"Z13/(AB4-Z25)","v":0},{"$f":"IF(AA13=0,0,(AA13*((LOG(AA13))/LOG(2))))","v":0},null,{"$f":"N13","v":11221},{"$f":"COUNTIF(L10:L11,AD13)","v":0},{"$f":"AE13/(AG4-AE25)","v":0},{"$f":"IF(AF13=0,0,(AF13*((LOG(AF13))/LOG(2))))","v":0},null,{"$f":"N13","v":11221},{"$f":"COUNTIF(L12:L12,AI13)","v":0},{"$f":"AJ13/(AL4-AJ25)","v":0},{"$f":"IF(AK13=0,0,(AK13*((LOG(AK13))/LOG(2))))","v":0},null,{"$f":"N13","v":11221},{"$f":"COUNTIF(L13:L14,AN13)","v":1},{"$f":"AO13/(AQ4-AO25)","v":0.5},{"$f":"IF(AP13=0,0,(AP13*((LOG(AP13))/LOG(2))))","v":-0.5},null,{"$f":"N13","v":11221},{"$f":"COUNTIF(L15:L15,AS13)","v":0},{"$f":"AT13/(AV4-AT25)","v":0},{"$f":"IF(AU13=0,0,(AU13*((LOG(AU13))/LOG(2))))","v":0}]
[12,1598,13,1649,24,1668,23,1682,13,1700,0,11221,null,11222,{"$f":"COUNTIF($L$7:$L$500,N14)","v":0},{"$f":"O14/$Q$4","v":0},{"$f":"IF(P14=0,0,(P14*((LOG(P14))/LOG(2))))","v":0},null,null,{"$f":"N14","v":11222},{"$f":"COUNTIF(L7:L8,T14)","v":0},{"$f":"U14/(W4-U25)","v":0},{"$f":"IF(V14=0,0,(V14*((LOG(V14))/LOG(2))))","v":0},null,{"$f":"N14","v":11222},{"$f":"COUNTIF(L9:L9,Y14)","v":0},{"$f":"Z14/(AB4-Z25)","v":0},{"$f":"IF(AA14=0,0,(AA14*((LOG(AA14))/LOG(2))))","v":0},null,{"$f":"N14","v":11222},{"$f":"COUNTIF(L10:L11,AD14)","v":0},{"$f":"AE14/(AG4-AE25)","v":0},{"$f":"IF(AF14=0,0,(AF14*((LOG(AF14))/LOG(2))))","v":0},null,{"$f":"N14","v":11222},{"$f":"COUNTIF(L12:L12,AI14)","v":0},{"$f":"AJ14/(AL4-AJ25)","v":0},{"$f":"IF(AK14=0,0,(AK14*((LOG(AK14))/LOG(2))))","v":0},null,{"$f":"N14","v":11222},{"$f":"COUNTIF(L13:L14,AN14)","v":0},{"$f":"AO14/(AQ4-AO25)","v":0},{"$f":"IF(AP14=0,0,(AP14*((LOG(AP14))/LOG(2))))","v":0},null,{"$f":"N14","v":11222},{"$f":"COUNTIF(L15:L15,AS14)","v":0},{"$f":"AT14/(AV4-AT25)","v":0},{"$f":"IF(AU14=0,0,(AU14*((LOG(AU14))/LOG(2))))","v":0}]
[21,6698,22,6713,24,6727,23,6781,24,6798,0,22222,null,12111,{"$f":"COUNTIF($L$7:$L$500,N15)","v":0},{"$f":"O15/$Q$4","v":0},{"$f":"IF(P15=0,0,(P15*((LOG(P15))/LOG(2))))","v":0},null,null,{"$f":"N15","v":12111},{"$f":"COUNTIF(L7:L8,T15)","v":0},{"$f":"U15/(W4-U25)","v":0},{"$f":"IF(V15=0,0,(V15*((LOG(V15))/LOG(2))))","v":0},null,{"$f":"N15","v":12111},{"$f":"COUNTIF(L9:L9,Y15)","v":0},{"$f":"Z15/(AB4-Z25)","v":0},{"$f":"IF(AA15=0,0,(AA15*((LOG(AA15))/LOG(2))))","v":0},null,{"$f":"N15","v":12111},{"$f":"COUNTIF(L10:L11,AD15)","v":0},{"$f":"AE15/(AG4-AE25)","v":0},{"$f":"IF(AF15=0,0,(AF15*((LOG(AF15))/LOG(2))))","v":0},null,{"$f":"N15","v":12111},{"$f":"COUNTIF(L12:L12,AI15)","v":0},{"$f":"AJ15/(AL4-AJ25)","v":0},{"$f":"IF(AK15=0,0,(AK15*((LOG(AK15))/LOG(2))))","v":0},null,{"$f":"N15","v":12111},{"$f":"COUNTIF(L13:L14,AN15)","v":0},{"$f":"AO15/(AQ4-AO25)","v":0},{"$f":"IF(AP15=0,0,(AP15*((LOG(AP15))/LOG(2))))","v":0},null,{"$f":"N15","v":12111},{"$f":"COUNTIF(L15:L15,AS15)","v":0},{"$f":"AT15/(AV4-AT25)","v":0},{"$f":"IF(AU15=0,0,(AU15*((LOG(AU15))/LOG(2))))","v":0}]
[null,null,null,null,null,null,null,null,null,null,null,null,null,12112,{"$f":"COUNTIF($L$7:$L$500,N16)","v":1},{"$f":"O16/$Q$4","v":0.1111111111111111},{"$f":"IF(P16=0,0,(P16*((LOG(P16))/LOG(2))))","v":-0.3522138890491458},null,null,{"$f":"N16","v":12112},{"$f":"COUNTIF(L7:L8,T16)","v":0},{"$f":"U16/(W4-U25)","v":0},{"$f":"IF(V16=0,0,(V16*((LOG(V16))/LOG(2))))","v":0},null,{"$f":"N16","v":12112},{"$f":"COUNTIF(L9:L9,Y16)","v":0},{"$f":"Z16/(AB4-Z25)","v":0},{"$f":"IF(AA16=0,0,(AA16*((LOG(AA16))/LOG(2))))","v":0},null,{"$f":"N16","v":12112},{"$f":"COUNTIF(L10:L11,AD16)","v":0},{"$f":"AE16/(AG4-AE25)","v":0},{"$f":"IF(AF16=0,0,(AF16*((LOG(AF16))/LOG(2))))","v":0},null,{"$f":"N16","v":12112},{"$f":"COUNTIF(L12:L12,AI16)","v":1},{"$f":"AJ16/(AL4-AJ25)","v":1},{"$f":"IF(AK16=0,0,(AK16*((LOG(AK16))/LOG(2))))","v":0},null,{"$f":"N16","v":12112},{"$f":"COUNTIF(L13:L14,AN16)","v":0},{"$f":"AO16/(AQ4-AO25)","v":0},{"$f":"IF(AP16=0,0,(AP16*((LOG(AP16))/LOG(2))))","v":0},null,{"$f":"N16","v":12112},{"$f":"COUNTIF(L15:L15,AS16)","v":0},{"$f":"AT16/(AV4-AT25)","v":0},{"$f":"IF(AU16=0,0,(AU16*((LOG(AU16))/LOG(2))))","v":0}]
[null,null,null,null,null,null,null,null,null,null,null,null,null,12121,{"$f":"COUNTIF($L$7:$L$500,N17)","v":0},{"$f":"O17/$Q$4","v":0},{"$f":"IF(P17=0,0,(P17*((LOG(P17))/LOG(2))))","v":0},null,null,{"$f":"N17","v":12121},{"$f":"COUNTIF(L7:L8,T17)","v":0},{"$f":"U17/(W4-U25)","v":0},{"$f":"IF(V17=0,0,(V17*((LOG(V17))/LOG(2))))","v":0},null,{"$f":"N17","v":12121},{"$f":"COUNTIF(L9:L9,Y17)","v":0},{"$f":"Z17/(AB4-Z25)","v":0},{"$f":"IF(AA17=0,0,(AA17*((LOG(AA17))/LOG(2))))","v":0},null,{"$f":"N17","v":12121},{"$f":"COUNTIF(L10:L11,AD17)","v":0},{"$f":"AE17/(AG4-AE25)","v":0},{"$f":"IF(AF17=0,0,(AF17*((LOG(AF17))/LOG(2))))","v":0},null,{"$f":"N17","v":12121},{"$f":"COUNTIF(L12:L12,AI17)","v":0},{"$f":"AJ17/(AL4-AJ25)","v":0},{"$f":"IF(AK17=0,0,(AK17*((LOG(AK17))/LOG(2))))","v":0},null,{"$f":"N17","v":12121},{"$f":"COUNTIF(L13:L14,AN17)","v":0},{"$f":"AO17/(AQ4-AO25)","v":0},{"$f":"IF(AP17=0,0,(AP17*((LOG(AP17))/LOG(2))))","v":0},null,{"$f":"N17","v":12121},{"$f":"COUNTIF(L15:L15,AS17)","v":0},{"$f":"AT17/(AV4-AT25)","v":0},{"$f":"IF(AU17=0,0,(AU17*((LOG(AU17))/LOG(2))))","v":0}]
[null,null,null,null,null,null,null,null,null,null,null,null,null,12122,{"$f":"COUNTIF($L$7:$L$500,N18)","v":0},{"$f":"O18/$Q$4","v":0},{"$f":"IF(P18=0,0,(P18*((LOG(P18))/LOG(2))))","v":0},null,null,{"$f":"N18","v":12122},{"$f":"COUNTIF(L7:L8,T18)","v":0},{"$f":"U18/(W4-U25)","v":0},{"$f":"IF(V18=0,0,(V18*((LOG(V18))/LOG(2))))","v":0},null,{"$f":"N18","v":12122},{"$f":"COUNTIF(L9:L9,Y18)","v":0},{"$f":"Z18/(AB4-Z25)","v":0},{"$f":"IF(AA18=0,0,(AA18*((LOG(AA18))/LOG(2))))","v":0},null,{"$f":"N18","v":12122},{"$f":"COUNTIF(L10:L11,AD18)","v":0},{"$f":"AE18/(AG4-AE25)","v":0},{"$f":"IF(AF18=0,0,(AF18*((LOG(AF18))/LOG(2))))","v":0},null,{"$f":"N18","v":12122},{"$f":"COUNTIF(L12:L12,AI18)","v":0},{"$f":"AJ18/(AL4-AJ25)","v":0},{"$f":"IF(AK18=0,0,(AK18*((LOG(AK18))/LOG(2))))","v":0},null,{"$f":"N18","v":12122},{"$f":"COUNTIF(L13:L14,AN18)","v":0},{"$f":"AO18/(AQ4-AO25)","v":0},{"$f":"IF(AP18=0,0,(AP18*((LOG(AP18))/LOG(2))))","v":0},null,{"$f":"N18","v":12122},{"$f":"COUNTIF(L15:L15,AS18)","v":0},{"$f":"AT18/(AV4-AT25)","v":0},{"$f":"IF(AU18=0,0,(AU18*((LOG(AU18))/LOG(2))))","v":0}]
[null,null,null,null,null,null,null,null,null,null,null,null,null,12211,{"$f":"COUNTIF($L$7:$L$500,N19)","v":0},{"$f":"O19/$Q$4","v":0},{"$f":"IF(P19=0,0,(P19*((LOG(P19))/LOG(2))))","v":0},null,null,{"$f":"N19","v":12211},{"$f":"COUNTIF(L7:L8,T19)","v":0},{"$f":"U19/(W4-U25)","v":0},{"$f":"IF(V19=0,0,(V19*((LOG(V19))/LOG(2))))","v":0},null,{"$f":"N19","v":12211},{"$f":"COUNTIF(L9:L9,Y19)","v":0},{"$f":"Z19/(AB4-Z25)","v":0},{"$f":"IF(AA19=0,0,(AA19*((LOG(AA19))/LOG(2))))","v":0},null,{"$f":"N19","v":12211},{"$f":"COUNTIF(L10:L11,AD19)","v":0},{"$f":"AE19/(AG4-AE25)","v":0},{"$f":"IF(AF19=0,0,(AF19*((LOG(AF19))/LOG(2))))","v":0},null,{"$f":"N19","v":12211},{"$f":"COUNTIF(L12:L12,AI19)","v":0},{"$f":"AJ19/(AL4-AJ25)","v":0},{"$f":"IF(AK19=0,0,(AK19*((LOG(AK19))/LOG(2))))","v":0},null,{"$f":"N19","v":12211},{"$f":"COUNTIF(L13:L14,AN19)","v":0},{"$f":"AO19/(AQ4-AO25)","v":0},{"$f":"IF(AP19=0,0,(AP19*((LOG(AP19))/LOG(2))))","v":0},null,{"$f":"N19","v":12211},{"$f":"COUNTIF(L15:L15,AS19)","v":0},{"$f":"AT19/(AV4-AT25)","v":0},{"$f":"IF(AU19=0,0,(AU19*((LOG(AU19))/LOG(2))))","v":0}]
[null,null,null,null,null,null,null,null,null,null,null,null,null,12212,{"$f":"COUNTIF($L$7:$L$500,N20)","v":1},{"$f":"O20/$Q$4","v":0.1111111111111111},{"$f":"IF(P20=0,0,(P20*((LOG(P20))/LOG(2))))","v":-0.3522138890491458},null,null,{"$f":"N20","v":12212},{"$f":"COUNTIF(L7:L8,T20)","v":0},{"$f":"U20/(W4-U25)","v":0},{"$f":"IF(V20=0,0,(V20*((LOG(V20))/LOG(2))))","v":0},null,{"$f":"N20","v":12212},{"$f":"COUNTIF(L9:L9,Y20)","v":1},{"$f":"Z20/(AB4-Z25)","v":1},{"$f":"IF(AA20=0,0,(AA20*((LOG(AA20))/LOG(2))))","v":0},null,{"$f":"N20","v":12212},{"$f":"COUNTIF(L10:L11,AD20)","v":0},{"$f":"AE20/(AG4-AE25)","v":0},{"$f":"IF(AF20=0,0,(AF20*((LOG(AF20))/LOG(2))))","v":0},null,{"$f":"N20","v":12212},{"$f":"COUNTIF(L12:L12,AI20)","v":0},{"$f":"AJ20/(AL4-AJ25)","v":0},{"$f":"IF(AK20=0,0,(AK20*((LOG(AK20))/LOG(2))))","v":0},null,{"$f":"N20","v":12212},{"$f":"COUNTIF(L13:L14,AN20)","v":0},{"$f":"AO20/(AQ4-AO25)","v":0},{"$f":"IF(AP20=0,0,(AP20*((LOG(AP20))/LOG(2))))","v":0},null,{"$f":"N20","v":12212},{"$f":"COUNTIF(L15:L15,AS20)","v":0},{"$f":"AT20/(AV4-AT25)","v":0},{"$f":"IF(AU20=0,0,(AU20*((LOG(AU20))/LOG(2))))","v":0}]
[null,null,null,null,null,null,null,null,null,null,null,null,null,12221,{"$f":"COUNTIF($L$7:$L$500,N21)","v":0},{"$f":"O21/$Q$4","v":0},{"$f":"IF(P21=0,0,(P21*((LOG(P21))/LOG(2))))","v":0},null,null,{"$f":"N21","v":12221},{"$f":"COUNTIF(L7:L8,T21)","v":0},{"$f":"U21/(W4-U25)","v":0},{"$f":"IF(V21=0,0,(V21*((LOG(V21))/LOG(2))))","v":0},null,{"$f":"N21","v":12221},{"$f":"COUNTIF(L9:L9,Y21)","v":0},{"$f":"Z21/(AB4-Z25)","v":0},{"$f":"IF(AA21=0,0,(AA21*((LOG(AA21))/LOG(2))))","v":0},null,{"$f":"N21","v":12221},{"$f":"COUNTIF(L10:L11,AD21)","v":0},{"$f":"AE21/(AG4-AE25)","v":0},{"$f":"IF(AF21=0,0,(AF21*((LOG(AF21))/LOG(2))))","v":0},null,{"$f":"N21","v":12221},{"$f":"COUNTIF(L12:L12,AI21)","v":0},{"$f":"AJ21/(AL4-AJ25)","v":0},{"$f":"IF(AK21=0,0,(AK21*((LOG(AK21))/LOG(2))))","v":0},null,{"$f":"N21","v":12221},{"$f":"COUNTIF(L13:L14,AN21)","v":0},{"$f":"AO21/(AQ4-AO25)","v":0},{"$f":"IF(AP21=0,0,(AP21*((LOG(AP21))/LOG(2))))","v":0},null,{"$f":"N21","v":12221},{"$f":"COUNTIF(L15:L15,AS21)","v":0},{"$f":"AT21/(AV4-AT25)","v":0},{"$f":"IF(AU21=0,0,(AU21*((LOG(AU21))/LOG(2))))","v":0}]
[null,null,null,null,null,null,null,null,null,null,null,null,null,12222,{"$f":"COUNTIF($L$7:$L$500,N22)","v":0},{"$f":"O22/$Q$4","v":0},{"$f":"IF(P22=0,0,(P22*((LOG(P22))/LOG(2))))","v":0},null,null,{"$f":"N22","v":12222},{"$f":"COUNTIF(L7:L8,T22)","v":0},{"$f":"U22/(W4-U25)","v":0},{"$f":"IF(V22=0,0,(V22*((LOG(V22))/LOG(2))))","v":0},null,{"$f":"N22","v":12222},{"$f":"COUNTIF(L9:L9,Y22)","v":0},{"$f":"Z22/(AB4-Z25)","v":0},{"$f":"IF(AA22=0,0,(AA22*((LOG(AA22))/LOG(2))))","v":0},null,{"$f":"N22","v":12222},{"$f":"COUNTIF(L10:L11,AD22)","v":0},{"$f":"AE22/(AG4-AE25)","v":0},{"$f":"IF(AF22=0,0,(AF22*((LOG(AF22))/LOG(2))))","v":0},null,{"$f":"N22","v":12222},{"$f":"COUNTIF(L12:L12,AI22)","v":0},{"$f":"AJ22/(AL4-AJ25)","v":0},{"$f":"IF(AK22=0,0,(AK22*((LOG(AK22))/LOG(2))))","v":0},null,{"$f":"N22","v":12222},{"$f":"COUNTIF(L13:L14,AN22)","v":0},{"$f":"AO22/(AQ4-AO25)","v":0},{"$f":"IF(AP22=0,0,(AP22*((LOG(AP22))/LOG(2))))","v":0},null,{"$f":"N22","v":12222},{"$f":"COUNTIF(L15:L15,AS22)","v":0},{"$f":"AT22/(AV4-AT25)","v":0},{"$f":"IF(AU22=0,0,(AU22*((LOG(AU22))/LOG(2))))","v":0}]
[null,null,null,null,null,null,null,null,null,null,null,null,null,21111,{"$f":"COUNTIF($L$7:$L$500,N23)","v":0},{"$f":"O23/$Q$4","v":0},{"$f":"IF(P23=0,0,(P23*((LOG(P23))/LOG(2))))","v":0},null,null,{"$f":"N23","v":21111},{"$f":"COUNTIF(L7:L8,T23)","v":0},{"$f":"U23/(W4-U25)","v":0},{"$f":"IF(V23=0,0,(V23*((LOG(V23))/LOG(2))))","v":0},null,{"$f":"N23","v":21111},{"$f":"COUNTIF(L9:L9,Y23)","v":0},{"$f":"Z23/(AB4-Z25)","v":0},{"$f":"IF(AA23=0,0,(AA23*((LOG(AA23))/LOG(2))))","v":0},null,{"$f":"N23","v":21111},{"$f":"COUNTIF(L10:L11,AD23)","v":0},{"$f":"AE23/(AG4-AE25)","v":0},{"$f":"IF(AF23=0,0,(AF23*((LOG(AF23))/LOG(2))))","v":0},null,{"$f":"N23","v":21111},{"$f":"COUNTIF(L12:L12,AI23)","v":0},{"$f":"AJ23/(AL4-AJ25)","v":0},{"$f":"IF(AK23=0,0,(AK23*((LOG(AK23))/LOG(2))))","v":0},null,{"$f":"N23","v":21111},{"$f":"COUNTIF(L13:L14,AN23)","v":0},{"$f":"AO23/(AQ4-AO25)","v":0},{"$f":"IF(AP23=0,0,(AP23*((LOG(AP23))/LOG(2))))","v":0},null,{"$f":"N23","v":21111},{"$f":"COUNTIF(L15:L15,AS23)","v":0},{"$f":"AT23/(AV4-AT25)","v":0},{"$f":"IF(AU23=0,0,(AU23*((LOG(AU23))/LOG(2))))","v":0}]
[null,null,null,null,null,null,null,null,null,null,null,null,null,21112,{"$f":"COUNTIF($L$7:$L$500,N24)","v":0},{"$f":"O24/$Q$4","v":0},{"$f":"IF(P24=0,0,(P24*((LOG(P24))/LOG(2))))","v":0},null,null,{"$f":"N24","v":21112},{"$f":"COUNTIF(L7:L8,T24)","v":0},{"$f":"U24/(W4-U25)","v":0},{"$f":"IF(V24=0,0,(V24*((LOG(V24))/LOG(2))))","v":0},null,{"$f":"N24","v":21112},{"$f":"COUNTIF(L9:L9,Y24)","v":0},{"$f":"Z24/(AB4-Z25)","v":0},{"$f":"IF(AA24=0,0,(AA24*((LOG(AA24))/LOG(2))))","v":0},null,{"$f":"N24","v":21112},{"$f":"COUNTIF(L10:L11,AD24)","v":0},{"$f":"AE24/(AG4-AE25)","v":0},{"$f":"IF(AF24=0,0,(AF24*((LOG(AF24))/LOG(2))))","v":0},null,{"$f":"N24","v":21112},{"$f":"COUNTIF(L12:L12,AI24)","v":0},{"$f":"AJ24/(AL4-AJ25)","v":0},{"$f":"IF(AK24=0,0,(AK24*((LOG(AK24))/LOG(2))))","v":0},null,{"$f":"N24","v":21112},{"$f":"COUNTIF(L13:L14,AN24)","v":0},{"$f":"AO24/(AQ4-AO25)","v":0},{"$f":"IF(AP24=0,0,(AP24*((LOG(AP24))/LOG(2))))","v":0},null,{"$f":"N24","v":21112},{"$f":"COUNTIF(L15:L15,AS24)","v":0},{"$f":"AT24/(AV4-AT25)","v":0},{"$f":"IF(AU24=0,0,(AU24*((LOG(AU24))/LOG(2))))","v":0}]
[null,null,null,null,null,null,null,null,null,null,null,null,null,21121,{"$f":"COUNTIF($L$7:$L$500,N25)","v":1},{"$f":"O25/$Q$4","v":0.1111111111111111},{"$f":"IF(P25=0,0,(P25*((LOG(P25))/LOG(2))))","v":-0.3522138890491458},null,null,{"$f":"N25","v":21121},{"$f":"COUNTIF(L7:L8,T25)","v":1},null,null,null,{"$f":"N25","v":21121},{"$f":"COUNTIF(L9:L9,Y25)","v":0},null,null,null,{"$f":"N25","v":21121},{"$f":"COUNTIF(L10:L11,AD25)","v":0},null,null,null,{"$f":"N25","v":21121},{"$f":"COUNTIF(L12:L12,AI25)","v":0},null,null,null,{"$f":"N25","v":21121},{"$f":"COUNTIF(L13:L14,AN25)","v":0},null,null,null,{"$f":"N25","v":21121},{"$f":"COUNTIF(L15:L15,AS25)","v":0}]
[null,null,null,null,null,null,null,null,null,null,null,null,null,21122,{"$f":"COUNTIF($L$7:$L$500,N26)","v":0},{"$f":"O26/$Q$4","v":0},{"$f":"IF(P26=0,0,(P26*((LOG(P26))/LOG(2))))","v":0},null,null,{"$f":"N26","v":21122},{"$f":"COUNTIF(L7:L8,T26)","v":0},{"$f":"U26/(W4-U25)","v":0},{"$f":"IF(V26=0,0,(V26*((LOG(V26))/LOG(2))))","v":0},null,{"$f":"N26","v":21122},{"$f":"COUNTIF(L9:L9,Y26)","v":0},{"$f":"Z26/(AB4-Z25)","v":0},{"$f":"IF(AA26=0,0,(AA26*((LOG(AA26))/LOG(2))))","v":0},null,{"$f":"N26","v":21122},{"$f":"COUNTIF(L10:L11,AD26)","v":0},{"$f":"AE26/(AG4-AE25)","v":0},{"$f":"IF(AF26=0,0,(AF26*((LOG(AF26))/LOG(2))))","v":0},null,{"$f":"N26","v":21122},{"$f":"COUNTIF(L12:L12,AI26)","v":0},{"$f":"AJ26/(AL4-AJ25)","v":0},{"$f":"IF(AK26=0,0,(AK26*((LOG(AK26))/LOG(2))))","v":0},null,{"$f":"N26","v":21122},{"$f":"COUNTIF(L13:L14,AN26)","v":0},{"$f":"AO26/(AQ4-AO25)","v":0},{"$f":"IF(AP26=0,0,(AP26*((LOG(AP26))/LOG(2))))","v":0},null,{"$f":"N26","v":21122},{"$f":"COUNTIF(L15:L15,AS26)","v":0},{"$f":"AT26/(AV4-AT25)","v":0},{"$f":"IF(AU26=0,0,(AU26*((LOG(AU26))/LOG(2))))","v":0}]
[null,null,null,null,null,null,null,null,null,null,null,null,null,21211,{"$f":"COUNTIF($L$7:$L$500,N27)","v":0},{"$f":"O27/$Q$4","v":0},{"$f":"IF(P27=0,0,(P27*((LOG(P27))/LOG(2))))","v":0},null,null,{"$f":"N27","v":21211},{"$f":"COUNTIF(L7:L8,T27)","v":0},{"$f":"U27/(W4-U25)","v":0},{"$f":"IF(V27=0,0,(V27*((LOG(V27))/LOG(2))))","v":0},null,{"$f":"N27","v":21211},{"$f":"COUNTIF(L9:L9,Y27)","v":0},{"$f":"Z27/(AB4-Z25)","v":0},{"$f":"IF(AA27=0,0,(AA27*((LOG(AA27))/LOG(2))))","v":0},null,{"$f":"N27","v":21211},{"$f":"COUNTIF(L10:L11,AD27)","v":0},{"$f":"AE27/(AG4-AE25)","v":0},{"$f":"IF(AF27=0,0,(AF27*((LOG(AF27))/LOG(2))))","v":0},null,{"$f":"N27","v":21211},{"$f":"COUNTIF(L12:L12,AI27)","v":0},{"$f":"AJ27/(AL4-AJ25)","v":0},{"$f":"IF(AK27=0,0,(AK27*((LOG(AK27))/LOG(2))))","v":0},null,{"$f":"N27","v":21211},{"$f":"COUNTIF(L13:L14,AN27)","v":0},{"$f":"AO27/(AQ4-AO25)","v":0},{"$f":"IF(AP27=0,0,(AP27*((LOG(AP27))/LOG(2))))","v":0},null,{"$f":"N27","v":21211},{"$f":"COUNTIF(L15:L15,AS27)","v":0},{"$f":"AT27/(AV4-AT25)","v":0},{"$f":"IF(AU27=0,0,(AU27*((LOG(AU27))/LOG(2))))","v":0}]
[null,null,null,null,null,null,null,null,null,null,null,null,null,21212,{"$f":"COUNTIF($L$7:$L$500,N28)","v":0},{"$f":"O28/$Q$4","v":0},{"$f":"IF(P28=0,0,(P28*((LOG(P28))/LOG(2))))","v":0},null,null,{"$f":"N28","v":21212},{"$f":"COUNTIF(L7:L8,T28)","v":0},{"$f":"U28/(W4-U25)","v":0},{"$f":"IF(V28=0,0,(V28*((LOG(V28))/LOG(2))))","v":0},null,{"$f":"N28","v":21212},{"$f":"COUNTIF(L9:L9,Y28)","v":0},{"$f":"Z28/(AB4-Z25)","v":0},{"$f":"IF(AA28=0,0,(AA28*((LOG(AA28))/LOG(2))))","v":0},null,{"$f":"N28","v":21212},{"$f":"COUNTIF(L10:L11,AD28)","v":0},{"$f":"AE28/(AG4-AE25)","v":0},{"$f":"IF(AF28=0,0,(AF28*((LOG(AF28))/LOG(2))))","v":0},null,{"$f":"N28","v":21212},{"$f":"COUNTIF(L12:L12,AI28)","v":0},{"$f":"AJ28/(AL4-AJ25)","v":0},{"$f":"IF(AK28=0,0,(AK28*((LOG(AK28))/LOG(2))))","v":0},null,{"$f":"N28","v":21212},{"$f":"COUNTIF(L13:L14,AN28)","v":0},{"$f":"AO28/(AQ4-AO25)","v":0},{"$f":"IF(AP28=0,0,(AP28*((LOG(AP28))/LOG(2))))","v":0},null,{"$f":"N28","v":21212},{"$f":"COUNTIF(L15:L15,AS28)","v":0},{"$f":"AT28/(AV4-AT25)","v":0},{"$f":"IF(AU28=0,0,(AU28*((LOG(AU28))/LOG(2))))","v":0}]
[null,null,null,null,null,null,null,null,null,null,null,null,null,21221,{"$f":"COUNTIF($L$7:$L$500,N29)","v":0},{"$f":"O29/$Q$4","v":0},{"$f":"IF(P29=0,0,(P29*((LOG(P29))/LOG(2))))","v":0},null,null,{"$f":"N29","v":21221},{"$f":"COUNTIF(L7:L8,T29)","v":0},{"$f":"U29/(W4-U25)","v":0},{"$f":"IF(V29=0,0,(V29*((LOG(V29))/LOG(2))))","v":0},null,{"$f":"N29","v":21221},{"$f":"COUNTIF(L9:L9,Y29)","v":0},{"$f":"Z29/(AB4-Z25)","v":0},{"$f":"IF(AA29=0,0,(AA29*((LOG(AA29))/LOG(2))))","v":0},null,{"$f":"N29","v":21221},{"$f":"COUNTIF(L10:L11,AD29)","v":0},{"$f":"AE29/(AG4-AE25)","v":0},{"$f":"IF(AF29=0,0,(AF29*((LOG(AF29))/LOG(2))))","v":0},null,{"$f":"N29","v":21221},{"$f":"COUNTIF(L12:L12,AI29)","v":0},{"$f":"AJ29/(AL4-AJ25)","v":0},{"$f":"IF(AK29=0,0,(AK29*((LOG(AK29))/LOG(2))))","v":0},null,{"$f":"N29","v":21221},{"$f":"COUNTIF(L13:L14,AN29)","v":0},{"$f":"AO29/(AQ4-AO25)","v":0},{"$f":"IF(AP29=0,0,(AP29*((LOG(AP29))/LOG(2))))","v":0},null,{"$f":"N29","v":21221},{"$f":"COUNTIF(L15:L15,AS29)","v":0},{"$f":"AT29/(AV4-AT25)","v":0},{"$f":"IF(AU29=0,0,(AU29*((LOG(AU29))/LOG(2))))","v":0}]
[null,null,null,null,null,null,null,null,null,null,null,null,null,21222,{"$f":"COUNTIF($L$7:$L$500,N30)","v":0},{"$f":"O30/$Q$4","v":0},{"$f":"IF(P30=0,0,(P30*((LOG(P30))/LOG(2))))","v":0},null,null,{"$f":"N30","v":21222},{"$f":"COUNTIF(L7:L8,T30)","v":0},{"$f":"U30/(W4-U25)","v":0},{"$f":"IF(V30=0,0,(V30*((LOG(V30))/LOG(2))))","v":0},null,{"$f":"N30","v":21222},{"$f":"COUNTIF(L9:L9,Y30)","v":0},{"$f":"Z30/(AB4-Z25)","v":0},{"$f":"IF(AA30=0,0,(AA30*((LOG(AA30))/LOG(2))))","v":0},null,{"$f":"N30","v":21222},{"$f":"COUNTIF(L10:L11,AD30)","v":0},{"$f":"AE30/(AG4-AE25)","v":0},{"$f":"IF(AF30=0,0,(AF30*((LOG(AF30))/LOG(2))))","v":0},null,{"$f":"N30","v":21222},{"$f":"COUNTIF(L12:L12,AI30)","v":0},{"$f":"AJ30/(AL4-AJ25)","v":0},{"$f":"IF(AK30=0,0,(AK30*((LOG(AK30))/LOG(2))))","v":0},null,{"$f":"N30","v":21222},{"$f":"COUNTIF(L13:L14,AN30)","v":0},{"$f":"AO30/(AQ4-AO25)","v":0},{"$f":"IF(AP30=0,0,(AP30*((LOG(AP30))/LOG(2))))","v":0},null,{"$f":"N30","v":21222},{"$f":"COUNTIF(L15:L15,AS30)","v":0},{"$f":"AT30/(AV4-AT25)","v":0},{"$f":"IF(AU30=0,0,(AU30*((LOG(AU30))/LOG(2))))","v":0}]
[null,null,null,null,null,null,null,null,null,null,null,null,null,22111,{"$f":"COUNTIF($L$7:$L$500,N31)","v":0},{"$f":"O31/$Q$4","v":0},{"$f":"IF(P31=0,0,(P31*((LOG(P31))/LOG(2))))","v":0},null,null,{"$f":"N31","v":22111},{"$f":"COUNTIF(L7:L8,T31)","v":0},{"$f":"U31/(W4-U25)","v":0},{"$f":"IF(V31=0,0,(V31*((LOG(V31))/LOG(2))))","v":0},null,{"$f":"N31","v":22111},{"$f":"COUNTIF(L9:L9,Y31)","v":0},{"$f":"Z31/(AB4-Z25)","v":0},{"$f":"IF(AA31=0,0,(AA31*((LOG(AA31))/LOG(2))))","v":0},null,{"$f":"N31","v":22111},{"$f":"COUNTIF(L10:L11,AD31)","v":0},{"$f":"AE31/(AG4-AE25)","v":0},{"$f":"IF(AF31=0,0,(AF31*((LOG(AF31))/LOG(2))))","v":0},null,{"$f":"N31","v":22111},{"$f":"COUNTIF(L12:L12,AI31)","v":0},{"$f":"AJ31/(AL4-AJ25)","v":0},{"$f":"IF(AK31=0,0,(AK31*((LOG(AK31))/LOG(2))))","v":0},null,{"$f":"N31","v":22111},{"$f":"COUNTIF(L13:L14,AN31)","v":0},{"$f":"AO31/(AQ4-AO25)","v":0},{"$f":"IF(AP31=0,0,(AP31*((LOG(AP31))/LOG(2))))","v":0},null,{"$f":"N31","v":22111},{"$f":"COUNTIF(L15:L15,AS31)","v":0},{"$f":"AT31/(AV4-AT25)","v":0},{"$f":"IF(AU31=0,0,(AU31*((LOG(AU31))/LOG(2))))","v":0}]
[null,null,null,null,null,null,null,null,null,null,null,null,null,22112,{"$f":"COUNTIF($L$7:$L$500,N32)","v":1},{"$f":"O32/$Q$4","v":0.1111111111111111},{"$f":"IF(P32=0,0,(P32*((LOG(P32))/LOG(2))))","v":-0.3522138890491458},null,null,{"$f":"N32","v":22112},{"$f":"COUNTIF(L7:L8,T32)","v":0},{"$f":"U32/(W4-U25)","v":0},{"$f":"IF(V32=0,0,(V32*((LOG(V32))/LOG(2))))","v":0},null,{"$f":"N32","v":22112},{"$f":"COUNTIF(L9:L9,Y32)","v":0},{"$f":"Z32/(AB4-Z25)","v":0},{"$f":"IF(AA32=0,0,(AA32*((LOG(AA32))/LOG(2))))","v":0},null,{"$f":"N32","v":22112},{"$f":"COUNTIF(L10:L11,AD32)","v":1},{"$f":"AE32/(AG4-AE25)","v":0.5},{"$f":"IF(AF32=0,0,(AF32*((LOG(AF32))/LOG(2))))","v":-0.5},null,{"$f":"N32","v":22112},{"$f":"COUNTIF(L12:L12,AI32)","v":0},{"$f":"AJ32/(AL4-AJ25)","v":0},{"$f":"IF(AK32=0,0,(AK32*((LOG(AK32))/LOG(2))))","v":0},null,{"$f":"N32","v":22112},{"$f":"COUNTIF(L13:L14,AN32)","v":0},{"$f":"AO32/(AQ4-AO25)","v":0},{"$f":"IF(AP32=0,0,(AP32*((LOG(AP32))/LOG(2))))","v":0},null,{"$f":"N32","v":22112},{"$f":"COUNTIF(L15:L15,AS32)","v":0},{"$f":"AT32/(AV4-AT25)","v":0},{"$f":"IF(AU32=0,0,(AU32*((LOG(AU32))/LOG(2))))","v":0}]
[null,null,null,null,null,null,null,null,null,null,null,null,null,22121,{"$f":"COUNTIF($L$7:$L$500,N33)","v":0},{"$f":"O33/$Q$4","v":0},{"$f":"IF(P33=0,0,(P33*((LOG(P33))/LOG(2))))","v":0},null,null,{"$f":"N33","v":22121},{"$f":"COUNTIF(L7:L8,T33)","v":0},{"$f":"U33/(W4-U25)","v":0},{"$f":"IF(V33=0,0,(V33*((LOG(V33))/LOG(2))))","v":0},null,{"$f":"N33","v":22121},{"$f":"COUNTIF(L9:L9,Y33)","v":0},{"$f":"Z33/(AB4-Z25)","v":0},{"$f":"IF(AA33=0,0,(AA33*((LOG(AA33))/LOG(2))))","v":0},null,{"$f":"N33","v":22121},{"$f":"COUNTIF(L10:L11,AD33)","v":0},{"$f":"AE33/(AG4-AE25)","v":0},{"$f":"IF(AF33=0,0,(AF33*((LOG(AF33))/LOG(2))))","v":0},null,{"$f":"N33","v":22121},{"$f":"COUNTIF(L12:L12,AI33)","v":0},{"$f":"AJ33/(AL4-AJ25)","v":0},{"$f":"IF(AK33=0,0,(AK33*((LOG(AK33))/LOG(2))))","v":0},null,{"$f":"N33","v":22121},{"$f":"COUNTIF(L13:L14,AN33)","v":0},{"$f":"AO33/(AQ4-AO25)","v":0},{"$f":"IF(AP33=0,0,(AP33*((LOG(AP33))/LOG(2))))","v":0},null,{"$f":"N33","v":22121},{"$f":"COUNTIF(L15:L15,AS33)","v":0},{"$f":"AT33/(AV4-AT25)","v":0},{"$f":"IF(AU33=0,0,(AU33*((LOG(AU33))/LOG(2))))","v":0}]
[null,null,null,null,null,null,null,null,null,null,null,null,null,22122,{"$f":"COUNTIF($L$7:$L$500,N34)","v":0},{"$f":"O34/$Q$4","v":0},{"$f":"IF(P34=0,0,(P34*((LOG(P34))/LOG(2))))","v":0},null,null,{"$f":"N34","v":22122},{"$f":"COUNTIF(L7:L8,T34)","v":0},{"$f":"U34/(W4-U25)","v":0},{"$f":"IF(V34=0,0,(V34*((LOG(V34))/LOG(2))))","v":0},null,{"$f":"N34","v":22122},{"$f":"COUNTIF(L9:L9,Y34)","v":0},{"$f":"Z34/(AB4-Z25)","v":0},{"$f":"IF(AA34=0,0,(AA34*((LOG(AA34))/LOG(2))))","v":0},null,{"$f":"N34","v":22122},{"$f":"COUNTIF(L10:L11,AD34)","v":0},{"$f":"AE34/(AG4-AE25)","v":0},{"$f":"IF(AF34=0,0,(AF34*((LOG(AF34))/LOG(2))))","v":0},null,{"$f":"N34","v":22122},{"$f":"COUNTIF(L12:L12,AI34)","v":0},{"$f":"AJ34/(AL4-AJ25)","v":0},{"$f":"IF(AK34=0,0,(AK34*((LOG(AK34))/LOG(2))))","v":0},null,{"$f":"N34","v":22122},{"$f":"COUNTIF(L13:L14,AN34)","v":0},{"$f":"AO34/(AQ4-AO25)","v":0},{"$f":"IF(AP34=0,0,(AP34*((LOG(AP34))/LOG(2))))","v":0},null,{"$f":"N34","v":22122},{"$f":"COUNTIF(L15:L15,AS34)","v":0},{"$f":"AT34/(AV4-AT25)","v":0},{"$f":"IF(AU34=0,0,(AU34*((LOG(AU34))/LOG(2))))","v":0}]
[null,null,null,null,null,null,null,null,null,null,null,null,null,22211,{"$f":"COUNTIF($L$7:$L$500,N35)","v":0},{"$f":"O35/$Q$4","v":0},{"$f":"IF(P35=0,0,(P35*((LOG(P35))/LOG(2))))","v":0},null,null,{"$f":"N35","v":22211},{"$f":"COUNTIF(L7:L8,T35)","v":0},{"$f":"U35/(W4-U25)","v":0},{"$f":"IF(V35=0,0,(V35*((LOG(V35))/LOG(2))))","v":0},null,{"$f":"N35","v":22211},{"$f":"COUNTIF(L9:L9,Y35)","v":0},{"$f":"Z35/(AB4-Z25)","v":0},{"$f":"IF(AA35=0,0,(AA35*((LOG(AA35))/LOG(2))))","v":0},null,{"$f":"N35","v":22211},{"$f":"COUNTIF(L10:L11,AD35)","v":0},{"$f":"AE35/(AG4-AE25)","v":0},{"$f":"IF(AF35=0,0,(AF35*((LOG(AF35))/LOG(2))))","v":0},null,{"$f":"N35","v":22211},{"$f":"COUNTIF(L12:L12,AI35)","v":0},{"$f":"AJ35/(AL4-AJ25)","v":0},{"$f":"IF(AK35=0,0,(AK35*((LOG(AK35))/LOG(2))))","v":0},null,{"$f":"N35","v":22211},{"$f":"COUNTIF(L13:L14,AN35)","v":0},{"$f":"AO35/(AQ4-AO25)","v":0},{"$f":"IF(AP35=0,0,(AP35*((LOG(AP35))/LOG(2))))","v":0},null,{"$f":"N35","v":22211},{"$f":"COUNTIF(L15:L15,AS35)","v":0},{"$f":"AT35/(AV4-AT25)","v":0},{"$f":"IF(AU35=0,0,(AU35*((LOG(AU35))/LOG(2))))","v":0}]
[null,null,null,null,null,null,null,null,null,null,null,null,null,22212,{"$f":"COUNTIF($L$7:$L$500,N36)","v":1},{"$f":"O36/$Q$4","v":0.1111111111111111},{"$f":"IF(P36=0,0,(P36*((LOG(P36))/LOG(2))))","v":-0.3522138890491458},null,null,{"$f":"N36","v":22212},{"$f":"COUNTIF(L7:L8,T36)","v":1},{"$f":"U36/(W4-U25)","v":1},{"$f":"IF(V36=0,0,(V36*((LOG(V36))/LOG(2))))","v":0},null,{"$f":"N36","v":22212},{"$f":"COUNTIF(L9:L9,Y36)","v":0},{"$f":"Z36/(AB4-Z25)","v":0},{"$f":"IF(AA36=0,0,(AA36*((LOG(AA36))/LOG(2))))","v":0},null,{"$f":"N36","v":22212},{"$f":"COUNTIF(L10:L11,AD36)","v":0},{"$f":"AE36/(AG4-AE25)","v":0},{"$f":"IF(AF36=0,0,(AF36*((LOG(AF36))/LOG(2))))","v":0},null,{"$f":"N36","v":22212},{"$f":"COUNTIF(L12:L12,AI36)","v":0},{"$f":"AJ36/(AL4-AJ25)","v":0},{"$f":"IF(AK36=0,0,(AK36*((LOG(AK36))/LOG(2))))","v":0},null,{"$f":"N36","v":22212},{"$f":"COUNTIF(L13:L14,AN36)","v":0},{"$f":"AO36/(AQ4-AO25)","v":0},{"$f":"IF(AP36=0,0,(AP36*((LOG(AP36))/LOG(2))))","v":0},null,{"$f":"N36","v":22212},{"$f":"COUNTIF(L15:L15,AS36)","v":0},{"$f":"AT36/(AV4-AT25)","v":0},{"$f":"IF(AU36=0,0,(AU36*((LOG(AU36))/LOG(2))))","v":0}]
[null,null,null,null,null,null,null,null,null,null,null,null,null,22221,{"$f":"COUNTIF($L$7:$L$500,N37)","v":0},{"$f":"O37/$Q$4","v":0},{"$f":"IF(P37=0,0,(P37*((LOG(P37))/LOG(2))))","v":0},null,null,{"$f":"N37","v":22221},{"$f":"COUNTIF(L7:L8,T37)","v":0},{"$f":"U37/(W4-U25)","v":0},{"$f":"IF(V37=0,0,(V37*((LOG(V37))/LOG(2))))","v":0},null,{"$f":"N37","v":22221},{"$f":"COUNTIF(L9:L9,Y37)","v":0},{"$f":"Z37/(AB4-Z25)","v":0},{"$f":"IF(AA37=0,0,(AA37*((LOG(AA37))/LOG(2))))","v":0},null,{"$f":"N37","v":22221},{"$f":"COUNTIF(L10:L11,AD37)","v":0},{"$f":"AE37/(AG4-AE25)","v":0},{"$f":"IF(AF37=0,0,(AF37*((LOG(AF37))/LOG(2))))","v":0},null,{"$f":"N37","v":22221},{"$f":"COUNTIF(L12:L12,AI37)","v":0},{"$f":"AJ37/(AL4-AJ25)","v":0},{"$f":"IF(AK37=0,0,(AK37*((LOG(AK37))/LOG(2))))","v":0},null,{"$f":"N37","v":22221},{"$f":"COUNTIF(L13:L14,AN37)","v":0},{"$f":"AO37/(AQ4-AO25)","v":0},{"$f":"IF(AP37=0,0,(AP37*((LOG(AP37))/LOG(2))))","v":0},null,{"$f":"N37","v":22221},{"$f":"COUNTIF(L15:L15,AS37)","v":0},{"$f":"AT37/(AV4-AT25)","v":0},{"$f":"IF(AU37=0,0,(AU37*((LOG(AU37))/LOG(2))))","v":0}]
[null,null,null,null,null,null,null,null,null,null,null,null,null,22222,{"$f":"COUNTIF($L$7:$L$500,N38)","v":1},{"$f":"O38/$Q$4","v":0.1111111111111111},{"$f":"IF(P38=0,0,(P38*((LOG(P38))/LOG(2))))","v":-0.3522138890491458},null,null,{"$f":"N38","v":22222},{"$f":"COUNTIF(L7:L8,T38)","v":0},{"$f":"U38/(W4-U25)","v":0},{"$f":"IF(V38=0,0,(V38*((LOG(V38))/LOG(2))))","v":0},null,{"$f":"N38","v":22222},{"$f":"COUNTIF(L9:L9,Y38)","v":0},{"$f":"Z38/(AB4-Z25)","v":0},{"$f":"IF(AA38=0,0,(AA38*((LOG(AA38))/LOG(2))))","v":0},null,{"$f":"N38","v":22222},{"$f":"COUNTIF(L10:L11,AD38)","v":0},{"$f":"AE38/(AG4-AE25)","v":0},{"$f":"IF(AF38=0,0,(AF38*((LOG(AF38))/LOG(2))))","v":0},null,{"$f":"N38","v":22222},{"$f":"COUNTIF(L12:L12,AI38)","v":0},{"$f":"AJ38/(AL4-AJ25)","v":0},{"$f":"IF(AK38=0,0,(AK38*((LOG(AK38))/LOG(2))))","v":0},null,{"$f":"N38","v":22222},{"$f":"COUNTIF(L13:L14,AN38)","v":0},{"$f":"AO38/(AQ4-AO25)","v":0},{"$f":"IF(AP38=0,0,(AP38*((LOG(AP38))/LOG(2))))","v":0},null,{"$f":"N38","v":22222},{"$f":"COUNTIF(L15:L15,AS38)","v":1},{"$f":"AT38/(AV4-AT25)","v":1},{"$f":"IF(AU38=0,0,(AU38*((LOG(AU38))/LOG(2))))","v":0}]
[null,null,null,null,null,null,null,null,null,null,null,null,null,null,null,{"$f":"SUM(P7:P38)","v":1.0000000000000002},{"$f":"-SUM(Q7:Q38)","v":3.1699250014423122},null,null,null,null,{"$f":"SUM(V7:V38)","v":1},{"$f":"-SUM(W7:W38)","v":0},null,null,null,{"$f":"SUM(AA7:AA38)","v":1},{"$f":"-SUM(AB7:AB38)","v":0},null,null,null,{"$f":"SUM(AF7:AF38)","v":1},{"$f":"-SUM(AG7:AG38)","v":1},null,null,null,{"$f":"SUM(AK7:AK38)","v":1},{"$f":"-SUM(AL7:AL38)","v":0},null,null,null,{"$f":"SUM(AP7:AP38)","v":1},{"$f":"-SUM(AQ7:AQ38)","v":1},null,null,null,{"$f":"SUM(AU7:AU38)","v":1},{"$f":"-SUM(AV7:AV38)","v":0}]
[null,null,null,null,null,null,null,null,null,null,null,null,null,null,null,"U=",{"$f":"Q39/(LOG(Q4)/LOG(2))","v":1},null,null,null,null,"U1=",{"$f":"W39/(LOG(W4)/LOG(2))","v":0},null,null,null,"U2=",{"$f":"AB39/(LOG(AB4)/LOG(2))","v":{"$error":"#DIV/0!"}},null,null,null,"U3=",{"$f":"AG39/(LOG(AG4)/LOG(2))","v":1},null,null,null,"U4=",{"$f":"AL39/(LOG(AL4)/LOG(2))","v":{"$error":"#DIV/0!"}},null,null,null,"U5=",{"$f":"AQ39/(LOG(AQ4)/LOG(2))","v":1},null,null,null,"U6=",{"$f":"AV39/(LOG(AV4)/LOG(2))","v":{"$error":"#DIV/0!"}}]
[]
[]
[null,null,null,null,null,null,null,null,null,null,null,null,null,"Total Target Seq"]
[null,null,null,null,null,null,null,null,null,null,null,null,null,{"$f":"COUNTIF(L7:L15,G3)","v":1},null,2,1,2,1,2,1]
[null,null,null,null,null,null,null,null,null,null,null,null,null,null,null,"% of reinforcement given in 6 equal intervals based on number of trials "]
[null,null,null,null,null,null,null,null,null,null,null,null,null,null,null,"%_1","%_2","%_3","%_4","%_5","%_6"]
[null,null,null,null,null,null,null,null,null,null,null,null,null,null,"target sequence",{"$f":"$G$3","v":21121},{"$f":"$G$3","v":21121},{"$f":"$G$3","v":21121},{"$f":"$G$3","v":21121},{"$f":"$G$3","v":21121},{"$f":"$G$3","v":21121}]
[null,null,null,null,null,null,null,null,null,null,null,null,null,null,"total reinforcement",{"$f":"U25","v":1},{"$f":"Z25","v":0},{"$f":"AE25","v":0},{"$f":"AJ25","v":0},{"$f":"AO25","v":0},{"$f":"AT25","v":0}]
[null,null,null,null,null,null,null,null,null,null,null,null,null,null,"% target"]
[null,null,null,null,null,null,null,null,null,null,null,null,null,null,"CCRF"]
[null,null,null,null,null,null,null,null,null,null,null,null,null,null,"% CCRf"]
[null,null,null,null,null,null,null,null,null,null,null,null,null,null,"average response rate",{"$f":"J8/P44","v":173.5},{"$f":"(J9-J8)/Q44","v":211},{"$f":"(J11-J9)/R44","v":164.5},{"$f":"(J12-J11)/S44","v":210},{"$f":"(J14-J12)/T44","v":301.5},{"$f":"(J15-J14)/U44","v":5098}]

{"sheet":"!N128900.105","index":28,"n_rows":52,"n_cols":48,"rows_kept":52,"cut":false,"hidden":false,"merged":[[4,39,4,42],[5,39,5,40],[4,44,4,47],[5,44,5,45],[4,24,4,27],[5,24,5,25],[4,29,4,32],[5,29,5,30],[4,34,4,37],[5,34,5,35],[1,1,1,2],[5,13,5,14],[42,13,42,14],[43,13,43,14],[4,19,4,22],[5,19,5,20]]}
["Report for:!N128900.105"]
["Date:","<date>"]
["Hen:","<hen>",null,null,null,"Correct Sequence",{"$f":"Start!J2","v":21121},null,null,null,null,null,null,null,null,"Total Sequences in Data",{"$f":"4994-COUNTBLANK(L7:L5000)","v":4},null,null,null,null,"Total Sequences in Block Data",{"$f":"COUNTA(L7:L7)","v":1},null,null,null,"Total Sequences in Block Data",{"$f":"COUNTA(L7:L8)","v":2},null,null,null,"Total Sequences in Block Data",{"$f":"COUNTA(L8:L8)","v":1},null,null,null,"Total Sequences in Block Data",{"$f":"COUNTA(L9:L9)","v":1},null,null,null,"Total Sequences in Block Data",{"$f":"COUNTA(L9:L10)","v":2},null,null,null,"Total Sequences in Block Data",{"$f":"COUNTA(L10:L10)","v":1}]
[null,null,null,null,null,null,null,null,null,null,null,null,null,null,null,"Total Sequences in Summary",{"$f":"SUM(O7:O38)","v":4},null,null,null,null,"Total Sequences in Block Summary",{"$f":"SUM(U7:U38)","v":1},null,null,null,"Total Sequences in Block Summary",{"$f":"SUM(Z7:Z38)","v":2},null,null,null,"Total Sequences in Block Summary",{"$f":"SUM(AE7:AE38)","v":1},null,null,null,"Total Sequences in Block Summary",{"$f":"SUM(AJ7:AJ38)","v":1},null,null,null,"Total Sequences in Block Summary",{"$f":"SUM(AO7:AO38)","v":2},null,null,null,"Total Sequences in Block Summary",{"$f":"SUM(AT7:AT38)","v":1}]
[null,null,null,null,null,null,null,null,null,null,null,null,null,null,null,null,null,null,null,"Block 1",null,null,null,null,"Block 2",null,null,null,null,"Block 3",null,null,null,null,"Block 4",null,null,null,null,"Block 5",null,null,null,null,"Block 6"]
["Sequence\nComponent\n1","Time\n1","Sequence\nComponent\n2","Time\n2","Sequence\nComponent\n3","Time\n3","Sequence\nComponent\n4","Time\n4","Sequence\nComponent\n5","Time\n5","Correct?\n0=No 1=Yes","Sequence",null,"Frequency",null,"Relative Frequency","Variability",null,null,"Frequency",null,"Relative Frequency","Variability",null,"Frequency",null,"Relative Frequency","Variability",null,"Frequency",null,"Relative Frequency","Variability",null,"Frequency",null,"Relative Frequency","Variability",null,"Frequency",null,"Relative Frequency","Variability",null,"Frequency",null,"Relative Frequency","Variability"]
[12,7,24,20,13,38,23,49,24,62,0,12122,null,11111,{"$f":"COUNTIF($L$7:$L$500,N7)","v":0},{"$f":"O7/$Q$4","v":0},{"$f":"IF(P7=0,0,(P7*((LOG(P7))/LOG(2))))","v":0},null,null,{"$f":"N7","v":11111},{"$f":"COUNTIF(L7:L7,T7)","v":0},{"$f":"U7/(W4-U25)","v":0},{"$f":"IF(V7=0,0,(V7*((LOG(V7))/LOG(2))))","v":0},null,{"$f":"N7","v":11111},{"$f":"COUNTIF(L7:L8,Y7)","v":0},{"$f":"Z7/(AB4-Z25)","v":0},{"$f":"IF(AA7=0,0,(AA7*((LOG(AA7))/LOG(2))))","v":0},null,{"$f":"N7","v":11111},{"$f":"COUNTIF(L8:L8,AD7)","v":0},{"$f":"AE7/(AG4-AE25)","v":0},{"$f":"IF(AF7=0,0,(AF7*((LOG(AF7))/LOG(2))))","v":0},null,{"$f":"N7","v":11111},{"$f":"COUNTIF(L9:L9,AI7)","v":0},{"$f":"AJ7/(AL4-AJ25)","v":0},{"$f":"IF(AK7=0,0,(AK7*((LOG(AK7))/LOG(2))))","v":0},null,{"$f":"N7","v":11111},{"$f":"COUNTIF(L9:L10,AN7)","v":0},{"$f":"AO7/(AQ4-AO25)","v":0},{"$f":"IF(AP7=0,0,(AP7*((LOG(AP7))/LOG(2))))","v":0},null,{"$f":"N7","v":11111},{"$f":"COUNTIF(L10:L10,AS7)","v":0},{"$f":"AT7/(AV4-AT25)","v":0},{"$f":"IF(AU7=0,0,(AU7*((LOG(AU7))/LOG(2))))","v":0}]
[12,181,24,192,13,211,23,224,13,241,0,12121,null,11112,{"$f":"COUNTIF($L$7:$L$500,N8)","v":0},{"$f":"O8/$Q$4","v":0},{"$f":"IF(P8=0,0,(P8*((LOG(P8))/LOG(2))))","v":0},null,null,{"$f":"N8","v":11112},{"$f":"COUNTIF(L7:L7,T8)","v":0},{"$f":"U8/(W4-U25)","v":0},{"$f":"IF(V8=0,0,(V8*((LOG(V8))/LOG(2))))","v":0},null,{"$f":"N8","v":11112},{"$f":"COUNTIF(L7:L8,Y8)","v":0},{"$f":"Z8/(AB4-Z25)","v":0},{"$f":"IF(AA8=0,0,(AA8*((LOG(AA8))/LOG(2))))","v":0},null,{"$f":"N8","v":11112},{"$f":"COUNTIF(L8:L8,AD8)","v":0},{"$f":"AE8/(AG4-AE25)","v":0},{"$f":"IF(AF8=0,0,(AF8*((LOG(AF8))/LOG(2))))","v":0},null,{"$f":"N8","v":11112},{"$f":"COUNTIF(L9:L9,AI8)","v":0},{"$f":"AJ8/(AL4-AJ25)","v":0},{"$f":"IF(AK8=0,0,(AK8*((LOG(AK8))/LOG(2))))","v":0},null,{"$f":"N8","v":11112},{"$f":"COUNTIF(L9:L10,AN8)","v":0},{"$f":"AO8/(AQ4-AO25)","v":0},{"$f":"IF(AP8=0,0,(AP8*((LOG(AP8))/LOG(2))))","v":0},null,{"$f":"N8","v":11112},{"$f":"COUNTIF(L10:L10,AS8)","v":0},{"$f":"AT8/(AV4-AT25)","v":0},{"$f":"IF(AU8=0,0,(AU8*((LOG(AU8))/LOG(2))))","v":0}]
[12,357,24,393,24,403,14,436,24,448,0,12212,null,11121,{"$f":"COUNTIF($L$7:$L$500,N9)","v":0},{"$f":"O9/$Q$4","v":0},{"$f":"IF(P9=0,0,(P9*((LOG(P9))/LOG(2))))","v":0},null,null,{"$f":"N9","v":11121},{"$f":"COUNTIF(L7:L7,T9)","v":0},{"$f":"U9/(W4-U25)","v":0},{"$f":"IF(V9=0,0,(V9*((LOG(V9))/LOG(2))))","v":0},null,{"$f":"N9","v":11121},{"$f":"COUNTIF(L7:L8,Y9)","v":0},{"$f":"Z9/(AB4-Z25)","v":0},{"$f":"IF(AA9=0,0,(AA9*((LOG(AA9))/LOG(2))))","v":0},null,{"$f":"N9","v":11121},{"$f":"COUNTIF(L8:L8,AD9)","v":0},{"$f":"AE9/(AG4-AE25)","v":0},{"$f":"IF(AF9=0,0,(AF9*((LOG(AF9))/LOG(2))))","v":0},null,{"$f":"N9","v":11121},{"$f":"COUNTIF(L9:L9,AI9)","v":0},{"$f":"AJ9/(AL4-AJ25)","v":0},{"$f":"IF(AK9=0,0,(AK9*((LOG(AK9))/LOG(2))))","v":0},null,{"$f":"N9","v":11121},{"$f":"COUNTIF(L9:L10,AN9)","v":0},{"$f":"AO9/(AQ4-AO25)","v":0},{"$f":"IF(AP9=0,0,(AP9*((LOG(AP9))/LOG(2))))","v":0},null,{"$f":"N9","v":11121},{"$f":"COUNTIF(L10:L10,AS9)","v":0},{"$f":"AT9/(AV4-AT25)","v":0},{"$f":"IF(AU9=0,0,(AU9*((LOG(AU9))/LOG(2))))","v":0}]
[12,580,24,598,13,609,23,620,13,631,0,12121,null,11122,{"$f":"COUNTIF($L$7:$L$500,N10)","v":0},{"$f":"O10/$Q$4","v":0},{"$f":"IF(P10=0,0,(P10*((LOG(P10))/LOG(2))))","v":0},null,null,{"$f":"N10","v":11122},{"$f":"COUNTIF(L7:L7,T10)","v":0},{"$f":"U10/(W4-U25)","v":0},{"$f":"IF(V10=0,0,(V10*((LOG(V10))/LOG(2))))","v":0},null,{"$f":"N10","v":11122},{"$f":"COUNTIF(L7:L8,Y10)","v":0},{"$f":"Z10/(AB4-Z25)","v":0},{"$f":"IF(AA10=0,0,(AA10*((LOG(AA10))/LOG(2))))","v":0},null,{"$f":"N10","v":11122},{"$f":"COUNTIF(L8:L8,AD10)","v":0},{"$f":"AE10/(AG4-AE25)","v":0},{"$f":"IF(AF10=0,0,(AF10*((LOG(AF10))/LOG(2))))","v":0},null,{"$f":"N10","v":11122},{"$f":"COUNTIF(L9:L9,AI10)","v":0},{"$f":"AJ10/(AL4-AJ25)","v":0},{"$f":"IF(AK10=0,0,(AK10*((LOG(AK10))/LOG(2))))","v":0},null,{"$f":"N10","v":11122},{"$f":"COUNTIF(L9:L10,AN10)","v":0},{"$f":"AO10/(AQ4-AO25)","v":0},{"$f":"IF(AP10=0,0,(AP10*((LOG(AP10))/LOG(2))))","v":0},null,{"$f":"N10","v":11122},{"$f":"COUNTIF(L10:L10,AS10)","v":0},{"$f":"AT10/(AV4-AT25)","v":0},{"$f":"IF(AU10=0,0,(AU10*((LOG(AU10))/LOG(2))))","v":0}]
[null,null,null,null,null,null,null,null,null,null,null,null,null,11211,{"$f":"COUNTIF($L$7:$L$500,N11)","v":0},{"$f":"O11/$Q$4","v":0},{"$f":"IF(P11=0,0,(P11*((LOG(P11))/LOG(2))))","v":0},null,null,{"$f":"N11","v":11211},{"$f":"COUNTIF(L7:L7,T11)","v":0},{"$f":"U11/(W4-U25)","v":0},{"$f":"IF(V11=0,0,(V11*((LOG(V11))/LOG(2))))","v":0},null,{"$f":"N11","v":11211},{"$f":"COUNTIF(L7:L8,Y11)","v":0},{"$f":"Z11/(AB4-Z25)","v":0},{"$f":"IF(AA11=0,0,(AA11*((LOG(AA11))/LOG(2))))","v":0},null,{"$f":"N11","v":11211},{"$f":"COUNTIF(L8:L8,AD11)","v":0},{"$f":"AE11/(AG4-AE25)","v":0},{"$f":"IF(AF11=0,0,(AF11*((LOG(AF11))/LOG(2))))","v":0},null,{"$f":"N11","v":11211},{"$f":"COUNTIF(L9:L9,AI11)","v":0},{"$f":"AJ11/(AL4-AJ25)","v":0},{"$f":"IF(AK11=0,0,(AK11*((LOG(AK11))/LOG(2))))","v":0},null,{"$f":"N11","v":11211},{"$f":"COUNTIF(L9:L10,AN11)","v":0},{"$f":"AO11/(AQ4-AO25)","v":0},{"$f":"IF(AP11=0,0,(AP11*((LOG(AP11))/LOG(2))))","v":0},null,{"$f":"N11","v":11211},{"$f":"COUNTIF(L10:L10,AS11)","v":0},{"$f":"AT11/(AV4-AT25)","v":0},{"$f":"IF(AU11=0,0,(AU11*((LOG(AU11))/LOG(2))))","v":0}]
[null,null,null,null,null,null,null,null,null,null,null,null,null,11212,{"$f":"COUNTIF($L$7:$L$500,N12)","v":0},{"$f":"O12/$Q$4","v":0},{"$f":"IF(P12=0,0,(P12*((LOG(P12))/LOG(2))))","v":0},null,null,{"$f":"N12","v":11212},{"$f":"COUNTIF(L7:L7,T12)","v":0},{"$f":"U12/(W4-U25)","v":0},{"$f":"IF(V12=0,0,(V12*((LOG(V12))/LOG(2))))","v":0},null,{"$f":"N12","v":11212},{"$f":"COUNTIF(L7:L8,Y12)","v":0},{"$f":"Z12/(AB4-Z25)","v":0},{"$f":"IF(AA12=0,0,(AA12*((LOG(AA12))/LOG(2))))","v":0},null,{"$f":"N12","v":11212},{"$f":"COUNTIF(L8:L8,AD12)","v":0},{"$f":"AE12/(AG4-AE25)","v":0},{"$f":"IF(AF12=0,0,(AF12*((LOG(AF12))/LOG(2))))","v":0},null,{"$f":"N12","v":11212},{"$f":"COUNTIF(L9:L9,AI12)","v":0},{"$f":"AJ12/(AL4-AJ25)","v":0},{"$f":"IF(AK12=0,0,(AK12*((LOG(AK12))/LOG(2))))","v":0},null,{"$f":"N12","v":11212},{"$f":"COUNTIF(L9:L10,AN12)","v":0},{"$f":"AO12/(AQ4-AO25)","v":0},{"$f":"IF(AP12=0,0,(AP12*((LOG(AP12))/LOG(2))))","v":0},null,{"$f":"N12","v":11212},{"$f":"COUNTIF(L10:L10,AS12)","v":0},{"$f":"AT12/(AV4-AT25)","v":0},{"$f":"IF(AU12=0,0,(AU12*((LOG(AU12))/LOG(2))))","v":0}]
[null,null,null,null,null,null,null,null,null,null,null,null,null,11221,{"$f":"COUNTIF($L$7:$L$500,N13)","v":0},{"$f":"O13/$Q$4","v":0},{"$f":"IF(P13=0,0,(P13*((LOG(P13))/LOG(2))))","v":0},null,null,{"$f":"N13","v":11221},{"$f":"COUNTIF(L7:L7,T13)","v":0},{"$f":"U13/(W4-U25)","v":0},{"$f":"IF(V13=0,0,(V13*((LOG(V13))/LOG(2))))","v":0},null,{"$f":"N13","v":11221},{"$f":"COUNTIF(L7:L8,Y13)","v":0},{"$f":"Z13/(AB4-Z25)","v":0},{"$f":"IF(AA13=0,0,(AA13*((LOG(AA13))/LOG(2))))","v":0},null,{"$f":"N13","v":11221},{"$f":"COUNTIF(L8:L8,AD13)","v":0},{"$f":"AE13/(AG4-AE25)","v":0},{"$f":"IF(AF13=0,0,(AF13*((LOG(AF13))/LOG(2))))","v":0},null,{"$f":"N13","v":11221},{"$f":"COUNTIF(L9:L9,AI13)","v":0},{"$f":"AJ13/(AL4-AJ25)","v":0},{"$f":"IF(AK13=0,0,(AK13*((LOG(AK13))/LOG(2))))","v":0},null,{"$f":"N13","v":11221},{"$f":"COUNTIF(L9:L10,AN13)","v":0},{"$f":"AO13/(AQ4-AO25)","v":0},{"$f":"IF(AP13=0,0,(AP13*((LOG(AP13))/LOG(2))))","v":0},null,{"$f":"N13","v":11221},{"$f":"COUNTIF(L10:L10,AS13)","v":0},{"$f":"AT13/(AV4-AT25)","v":0},{"$f":"IF(AU13=0,0,(AU13*((LOG(AU13))/LOG(2))))","v":0}]
[null,null,null,null,null,null,null,null,null,null,null,null,null,11222,{"$f":"COUNTIF($L$7:$L$500,N14)","v":0},{"$f":"O14/$Q$4","v":0},{"$f":"IF(P14=0,0,(P14*((LOG(P14))/LOG(2))))","v":0},null,null,{"$f":"N14","v":11222},{"$f":"COUNTIF(L7:L7,T14)","v":0},{"$f":"U14/(W4-U25)","v":0},{"$f":"IF(V14=0,0,(V14*((LOG(V14))/LOG(2))))","v":0},null,{"$f":"N14","v":11222},{"$f":"COUNTIF(L7:L8,Y14)","v":0},{"$f":"Z14/(AB4-Z25)","v":0},{"$f":"IF(AA14=0,0,(AA14*((LOG(AA14))/LOG(2))))","v":0},null,{"$f":"N14","v":11222},{"$f":"COUNTIF(L8:L8,AD14)","v":0},{"$f":"AE14/(AG4-AE25)","v":0},{"$f":"IF(AF14=0,0,(AF14*((LOG(AF14))/LOG(2))))","v":0},null,{"$f":"N14","v":11222},{"$f":"COUNTIF(L9:L9,AI14)","v":0},{"$f":"AJ14/(AL4-AJ25)","v":0},{"$f":"IF(AK14=0,0,(AK14*((LOG(AK14))/LOG(2))))","v":0},null,{"$f":"N14","v":11222},{"$f":"COUNTIF(L9:L10,AN14)","v":0},{"$f":"AO14/(AQ4-AO25)","v":0},{"$f":"IF(AP14=0,0,(AP14*((LOG(AP14))/LOG(2))))","v":0},null,{"$f":"N14","v":11222},{"$f":"COUNTIF(L10:L10,AS14)","v":0},{"$f":"AT14/(AV4-AT25)","v":0},{"$f":"IF(AU14=0,0,(AU14*((LOG(AU14))/LOG(2))))","v":0}]
[null,null,null,null,null,null,null,null,null,null,null,null,null,12111,{"$f":"COUNTIF($L$7:$L$500,N15)","v":0},{"$f":"O15/$Q$4","v":0},{"$f":"IF(P15=0,0,(P15*((LOG(P15))/LOG(2))))","v":0},null,null,{"$f":"N15","v":12111},{"$f":"COUNTIF(L7:L7,T15)","v":0},{"$f":"U15/(W4-U25)","v":0},{"$f":"IF(V15=0,0,(V15*((LOG(V15))/LOG(2))))","v":0},null,{"$f":"N15","v":12111},{"$f":"COUNTIF(L7:L8,Y15)","v":0},{"$f":"Z15/(AB4-Z25)","v":0},{"$f":"IF(AA15=0,0,(AA15*((LOG(AA15))/LOG(2))))","v":0},null,{"$f":"N15","v":12111},{"$f":"COUNTIF(L8:L8,AD15)","v":0},{"$f":"AE15/(AG4-AE25)","v":0},{"$f":"IF(AF15=0,0,(AF15*((LOG(AF15))/LOG(2))))","v":0},null,{"$f":"N15","v":12111},{"$f":"COUNTIF(L9:L9,AI15)","v":0},{"$f":"AJ15/(AL4-AJ25)","v":0},{"$f":"IF(AK15=0,0,(AK15*((LOG(AK15))/LOG(2))))","v":0},null,{"$f":"N15","v":12111},{"$f":"COUNTIF(L9:L10,AN15)","v":0},{"$f":"AO15/(AQ4-AO25)","v":0},{"$f":"IF(AP15=0,0,(AP15*((LOG(AP15))/LOG(2))))","v":0},null,{"$f":"N15","v":12111},{"$f":"COUNTIF(L10:L10,AS15)","v":0},{"$f":"AT15/(AV4-AT25)","v":0},{"$f":"IF(AU15=0,0,(AU15*((LOG(AU15))/LOG(2))))","v":0}]
[null,null,null,null,null,null,null,null,null,null,null,null,null,12112,{"$f":"COUNTIF($L$7:$L$500,N16)","v":0},{"$f":"O16/$Q$4","v":0},{"$f":"IF(P16=0,0,(P16*((LOG(P16))/LOG(2))))","v":0},null,null,{"$f":"N16","v":12112},{"$f":"COUNTIF(L7:L7,T16)","v":0},{"$f":"U16/(W4-U25)","v":0},{"$f":"IF(V16=0,0,(V16*((LOG(V16))/LOG(2))))","v":0},null,{"$f":"N16","v":12112},{"$f":"COUNTIF(L7:L8,Y16)","v":0},{"$f":"Z16/(AB4-Z25)","v":0},{"$f":"IF(AA16=0,0,(AA16*((LOG(AA16))/LOG(2))))","v":0},null,{"$f":"N16","v":12112},{"$f":"COUNTIF(L8:L8,AD16)","v":0},{"$f":"AE16/(AG4-AE25)","v":0},{"$f":"IF(AF16=0,0,(AF16*((LOG(AF16))/LOG(2))))","v":0},null,{"$f":"N16","v":12112},{"$f":"COUNTIF(L9:L9,AI16)","v":0},{"$f":"AJ16/(AL4-AJ25)","v":0},{"$f":"IF(AK16=0,0,(AK16*((LOG(AK16))/LOG(2))))","v":0},null,{"$f":"N16","v":12112},{"$f":"COUNTIF(L9:L10,AN16)","v":0},{"$f":"AO16/(AQ4-AO25)","v":0},{"$f":"IF(AP16=0,0,(AP16*((LOG(AP16))/LOG(2))))","v":0},null,{"$f":"N16","v":12112},{"$f":"COUNTIF(L10:L10,AS16)","v":0},{"$f":"AT16/(AV4-AT25)","v":0},{"$f":"IF(AU16=0,0,(AU16*((LOG(AU16))/LOG(2))))","v":0}]
[null,null,null,null,null,null,null,null,null,null,null,null,null,12121,{"$f":"COUNTIF($L$7:$L$500,N17)","v":2},{"$f":"O17/$Q$4","v":0.5},{"$f":"IF(P17=0,0,(P17*((LOG(P17))/LOG(2))))","v":-0.5},null,null,{"$f":"N17","v":12121},{"$f":"COUNTIF(L7:L7,T17)","v":0},{"$f":"U17/(W4-U25)","v":0},{"$f":"IF(V17=0,0,(V17*((LOG(V17))/LOG(2))))","v":0},null,{"$f":"N17","v":12121},{"$f":"COUNTIF(L7:L8,Y17)","v":1},{"$f":"Z17/(AB4-Z25)","v":0.5},{"$f":"IF(AA17=0,0,(AA17*((LOG(AA17))/LOG(2))))","v":-0.5},null,{"$f":"N17","v":12121},{"$f":"COUNTIF(L8:L8,AD17)","v":1},{"$f":"AE17/(AG4-AE25)","v":1},{"$f":"IF(AF17=0,0,(AF17*((LOG(AF17))/LOG(2))))","v":0},null,{"$f":"N17","v":12121},{"$f":"COUNTIF(L9:L9,AI17)","v":0},{"$f":"AJ17/(AL4-AJ25)","v":0},{"$f":"IF(AK17=0,0,(AK17*((LOG(AK17))/LOG(2))))","v":0},null,{"$f":"N17","v":12121},{"$f":"COUNTIF(L9:L10,AN17)","v":1},{"$f":"AO17/(AQ4-AO25)","v":0.5},{"$f":"IF(AP17=0,0,(AP17*((LOG(AP17))/LOG(2))))","v":-0.5},null,{"$f":"N17","v":12121},{"$f":"COUNTIF(L10:L10,AS17)","v":1},{"$f":"AT17/(AV4-AT25)","v":1},{"$f":"IF(AU17=0,0,(AU17*((LOG(AU17))/LOG(2))))","v":0}]
[null,null,null,null,null,null,null,null,null,null,null,null,null,12122,{"$f":"COUNTIF($L$7:$L$500,N18)","v":1},{"$f":"O18/$Q$4","v":0.25},{"$f":"IF(P18=0,0,(P18*((LOG(P18))/LOG(2))))","v":-0.5},null,null,{"$f":"N18","v":12122},{"$f":"COUNTIF(L7:L7,T18)","v":1},{"$f":"U18/(W4-U25)","v":1},{"$f":"IF(V18=0,0,(V18*((LOG(V18))/LOG(2))))","v":0},null,{"$f":"N18","v":12122},{"$f":"COUNTIF(L7:L8,Y18)","v":1},{"$f":"Z18/(AB4-Z25)","v":0.5},{"$f":"IF(AA18=0,0,(AA18*((LOG(AA18))/LOG(2))))","v":-0.5},null,{"$f":"N18","v":12122},{"$f":"COUNTIF(L8:L8,AD18)","v":0},{"$f":"AE18/(AG4-AE25)","v":0},{"$f":"IF(AF18=0,0,(AF18*((LOG(AF18))/LOG(2))))","v":0},null,{"$f":"N18","v":12122},{"$f":"COUNTIF(L9:L9,AI18)","v":0},{"$f":"AJ18/(AL4-AJ25)","v":0},{"$f":"IF(AK18=0,0,(AK18*((LOG(AK18))/LOG(2))))","v":0},null,{"$f":"N18","v":12122},{"$f":"COUNTIF(L9:L10,AN18)","v":0},{"$f":"AO18/(AQ4-AO25)","v":0},{"$f":"IF(AP18=0,0,(AP18*((LOG(AP18))/LOG(2))))","v":0},null,{"$f":"N18","v":12122},{"$f":"COUNTIF(L10:L10,AS18)","v":0},{"$f":"AT18/(AV4-AT25)","v":0},{"$f":"IF(AU18=0,0,(AU18*((LOG(AU18))/LOG(2))))","v":0}]
[null,null,null,null,null,null,null,null,null,null,null,null,null,12211,{"$f":"COUNTIF($L$7:$L$500,N19)","v":0},{"$f":"O19/$Q$4","v":0},{"$f":"IF(P19=0,0,(P19*((LOG(P19))/LOG(2))))","v":0},null,null,{"$f":"N19","v":12211},{"$f":"COUNTIF(L7:L7,T19)","v":0},{"$f":"U19/(W4-U25)","v":0},{"$f":"IF(V19=0,0,(V19*((LOG(V19))/LOG(2))))","v":0},null,{"$f":"N19","v":12211},{"$f":"COUNTIF(L7:L8,Y19)","v":0},{"$f":"Z19/(AB4-Z25)","v":0},{"$f":"IF(AA19=0,0,(AA19*((LOG(AA19))/LOG(2))))","v":0},null,{"$f":"N19","v":12211},{"$f":"COUNTIF(L8:L8,AD19)","v":0},{"$f":"AE19/(AG4-AE25)","v":0},{"$f":"IF(AF19=0,0,(AF19*((LOG(AF19))/LOG(2))))","v":0},null,{"$f":"N19","v":12211},{"$f":"COUNTIF(L9:L9,AI19)","v":0},{"$f":"AJ19/(AL4-AJ25)","v":0},{"$f":"IF(AK19=0,0,(AK19*((LOG(AK19))/LOG(2))))","v":0},null,{"$f":"N19","v":12211},{"$f":"COUNTIF(L9:L10,AN19)","v":0},{"$f":"AO19/(AQ4-AO25)","v":0},{"$f":"IF(AP19=0,0,(AP19*((LOG(AP19))/LOG(2))))","v":0},null,{"$f":"N19","v":12211},{"$f":"COUNTIF(L10:L10,AS19)","v":0},{"$f":"AT19/(AV4-AT25)","v":0},{"$f":"IF(AU19=0,0,(AU19*((LOG(AU19))/LOG(2))))","v":0}]
[null,null,null,null,null,null,null,null,null,null,null,null,null,12212,{"$f":"COUNTIF($L$7:$L$500,N20)","v":1},{"$f":"O20/$Q$4","v":0.25},{"$f":"IF(P20=0,0,(P20*((LOG(P20))/LOG(2))))","v":-0.5},null,null,{"$f":"N20","v":12212},{"$f":"COUNTIF(L7:L7,T20)","v":0},{"$f":"U20/(W4-U25)","v":0},{"$f":"IF(V20=0,0,(V20*((LOG(V20))/LOG(2))))","v":0},null,{"$f":"N20","v":12212},{"$f":"COUNTIF(L7:L8,Y20)","v":0},{"$f":"Z20/(AB4-Z25)","v":0},{"$f":"IF(AA20=0,0,(AA20*((LOG(AA20))/LOG(2))))","v":0},null,{"$f":"N20","v":12212},{"$f":"COUNTIF(L8:L8,AD20)","v":0},{"$f":"AE20/(AG4-AE25)","v":0},{"$f":"IF(AF20=0,0,(AF20*((LOG(AF20))/LOG(2))))","v":0},null,{"$f":"N20","v":12212},{"$f":"COUNTIF(L9:L9,AI20)","v":1},{"$f":"AJ20/(AL4-AJ25)","v":1},{"$f":"IF(AK20=0,0,(AK20*((LOG(AK20))/LOG(2))))","v":0},null,{"$f":"N20","v":12212},{"$f":"COUNTIF(L9:L10,AN20)","v":1},{"$f":"AO20/(AQ4-AO25)","v":0.5},{"$f":"IF(AP20=0,0,(AP20*((LOG(AP20))/LOG(2))))","v":-0.5},null,{"$f":"N20","v":12212},{"$f":"COUNTIF(L10:L10,AS20)","v":0},{"$f":"AT20/(AV4-AT25)","v":0},{"$f":"IF(AU20=0,0,(AU20*((LOG(AU20))/LOG(2))))","v":0}]
[null,null,null,null,null,null,null,null,null,null,null,null,null,12221,{"$f":"COUNTIF($L$7:$L$500,N21)","v":0},{"$f":"O21/$Q$4","v":0},{"$f":"IF(P21=0,0,(P21*((LOG(P21))/LOG(2))))","v":0},null,null,{"$f":"N21","v":12221},{"$f":"COUNTIF(L7:L7,T21)","v":0},{"$f":"U21/(W4-U25)","v":0},{"$f":"IF(V21=0,0,(V21*((LOG(V21))/LOG(2))))","v":0},null,{"$f":"N21","v":12221},{"$f":"COUNTIF(L7:L8,Y21)","v":0},{"$f":"Z21/(AB4-Z25)","v":0},{"$f":"IF(AA21=0,0,(AA21*((LOG(AA21))/LOG(2))))","v":0},null,{"$f":"N21","v":12221},{"$f":"COUNTIF(L8:L8,AD21)","v":0},{"$f":"AE21/(AG4-AE25)","v":0},{"$f":"IF(AF21=0,0,(AF21*((LOG(AF21))/LOG(2))))","v":0},null,{"$f":"N21","v":12221},{"$f":"COUNTIF(L9:L9,AI21)","v":0},{"$f":"AJ21/(AL4-AJ25)","v":0},{"$f":"IF(AK21=0,0,(AK21*((LOG(AK21))/LOG(2))))","v":0},null,{"$f":"N21","v":12221},{"$f":"COUNTIF(L9:L10,AN21)","v":0},{"$f":"AO21/(AQ4-AO25)","v":0},{"$f":"IF(AP21=0,0,(AP21*((LOG(AP21))/LOG(2))))","v":0},null,{"$f":"N21","v":12221},{"$f":"COUNTIF(L10:L10,AS21)","v":0},{"$f":"AT21/(AV4-AT25)","v":0},{"$f":"IF(AU21=0,0,(AU21*((LOG(AU21))/LOG(2))))","v":0}]
[null,null,null,null,null,null,null,null,null,null,null,null,null,12222,{"$f":"COUNTIF($L$7:$L$500,N22)","v":0},{"$f":"O22/$Q$4","v":0},{"$f":"IF(P22=0,0,(P22*((LOG(P22))/LOG(2))))","v":0},null,null,{"$f":"N22","v":12222},{"$f":"COUNTIF(L7:L7,T22)","v":0},{"$f":"U22/(W4-U25)","v":0},{"$f":"IF(V22=0,0,(V22*((LOG(V22))/LOG(2))))","v":0},null,{"$f":"N22","v":12222},{"$f":"COUNTIF(L7:L8,Y22)","v":0},{"$f":"Z22/(AB4-Z25)","v":0},{"$f":"IF(AA22=0,0,(AA22*((LOG(AA22))/LOG(2))))","v":0},null,{"$f":"N22","v":12222},{"$f":"COUNTIF(L8:L8,AD22)","v":0},{"$f":"AE22/(AG4-AE25)","v":0},{"$f":"IF(AF22=0,0,(AF22*((LOG(AF22))/LOG(2))))","v":0},null,{"$f":"N22","v":12222},{"$f":"COUNTIF(L9:L9,AI22)","v":0},{"$f":"AJ22/(AL4-AJ25)","v":0},{"$f":"IF(AK22=0,0,(AK22*((LOG(AK22))/LOG(2))))","v":0},null,{"$f":"N22","v":12222},{"$f":"COUNTIF(L9:L10,AN22)","v":0},{"$f":"AO22/(AQ4-AO25)","v":0},{"$f":"IF(AP22=0,0,(AP22*((LOG(AP22))/LOG(2))))","v":0},null,{"$f":"N22","v":12222},{"$f":"COUNTIF(L10:L10,AS22)","v":0},{"$f":"AT22/(AV4-AT25)","v":0},{"$f":"IF(AU22=0,0,(AU22*((LOG(AU22))/LOG(2))))","v":0}]
[null,null,null,null,null,null,null,null,null,null,null,null,null,21111,{"$f":"COUNTIF($L$7:$L$500,N23)","v":0},{"$f":"O23/$Q$4","v":0},{"$f":"IF(P23=0,0,(P23*((LOG(P23))/LOG(2))))","v":0},null,null,{"$f":"N23","v":21111},{"$f":"COUNTIF(L7:L7,T23)","v":0},{"$f":"U23/(W4-U25)","v":0},{"$f":"IF(V23=0,0,(V23*((LOG(V23))/LOG(2))))","v":0},null,{"$f":"N23","v":21111},{"$f":"COUNTIF(L7:L8,Y23)","v":0},{"$f":"Z23/(AB4-Z25)","v":0},{"$f":"IF(AA23=0,0,(AA23*((LOG(AA23))/LOG(2))))","v":0},null,{"$f":"N23","v":21111},{"$f":"COUNTIF(L8:L8,AD23)","v":0},{"$f":"AE23/(AG4-AE25)","v":0},{"$f":"IF(AF23=0,0,(AF23*((LOG(AF23))/LOG(2))))","v":0},null,{"$f":"N23","v":21111},{"$f":"COUNTIF(L9:L9,AI23)","v":0},{"$f":"AJ23/(AL4-AJ25)","v":0},{"$f":"IF(AK23=0,0,(AK23*((LOG(AK23))/LOG(2))))","v":0},null,{"$f":"N23","v":21111},{"$f":"COUNTIF(L9:L10,AN23)","v":0},{"$f":"AO23/(AQ4-AO25)","v":0},{"$f":"IF(AP23=0,0,(AP23*((LOG(AP23))/LOG(2))))","v":0},null,{"$f":"N23","v":21111},{"$f":"COUNTIF(L10:L10,AS23)","v":0},{"$f":"AT23/(AV4-AT25)","v":0},{"$f":"IF(AU23=0,0,(AU23*((LOG(AU23))/LOG(2))))","v":0}]
[null,null,null,null,null,null,null,null,null,null,null,null,null,21112,{"$f":"COUNTIF($L$7:$L$500,N24)","v":0},{"$f":"O24/$Q$4","v":0},{"$f":"IF(P24=0,0,(P24*((LOG(P24))/LOG(2))))","v":0},null,null,{"$f":"N24","v":21112},{"$f":"COUNTIF(L7:L7,T24)","v":0},{"$f":"U24/(W4-U25)","v":0},{"$f":"IF(V24=0,0,(V24*((LOG(V24))/LOG(2))))","v":0},null,{"$f":"N24","v":21112},{"$f":"COUNTIF(L7:L8,Y24)","v":0},{"$f":"Z24/(AB4-Z25)","v":0},{"$f":"IF(AA24=0,0,(AA24*((LOG(AA24))/LOG(2))))","v":0},null,{"$f":"N24","v":21112},{"$f":"COUNTIF(L8:L8,AD24)","v":0},{"$f":"AE24/(AG4-AE25)","v":0},{"$f":"IF(AF24=0,0,(AF24*((LOG(AF24))/LOG(2))))","v":0},null,{"$f":"N24","v":21112},{"$f":"COUNTIF(L9:L9,AI24)","v":0},{"$f":"AJ24/(AL4-AJ25)","v":0},{"$f":"IF(AK24=0,0,(AK24*((LOG(AK24))/LOG(2))))","v":0},null,{"$f":"N24","v":21112},{"$f":"COUNTIF(L9:L10,AN24)","v":0},{"$f":"AO24/(AQ4-AO25)","v":0},{"$f":"IF(AP24=0,0,(AP24*((LOG(AP24))/LOG(2))))","v":0},null,{"$f":"N24","v":21112},{"$f":"COUNTIF(L10:L10,AS24)","v":0},{"$f":"AT24/(AV4-AT25)","v":0},{"$f":"IF(AU24=0,0,(AU24*((LOG(AU24))/LOG(2))))","v":0}]
[null,null,null,null,null,null,null,null,null,null,null,null,null,21121,{"$f":"COUNTIF($L$7:$L$500,N25)","v":0},{"$f":"O25/$Q$4","v":0},{"$f":"IF(P25=0,0,(P25*((LOG(P25))/LOG(2))))","v":0},null,null,{"$f":"N25","v":21121},{"$f":"COUNTIF(L7:L7,T25)","v":0},null,null,null,{"$f":"N25","v":21121},{"$f":"COUNTIF(L7:L8,Y25)","v":0},null,null,null,{"$f":"N25","v":21121},{"$f":"COUNTIF(L8:L8,AD25)","v":0},null,null,null,{"$f":"N25","v":21121},{"$f":"COUNTIF(L9:L9,AI25)","v":0},null,null,null,{"$f":"N25","v":21121},{"$f":"COUNTIF(L9:L10,AN25)","v":0},null,null,null,{"$f":"N25","v":21121},{"$f":"COUNTIF(L10:L10,AS25)","v":0}]
[null,null,null,null,null,null,null,null,null,null,null,null,null,21122,{"$f":"COUNTIF($L$7:$L$500,N26)","v":0},{"$f":"O26/$Q$4","v":0},{"$f":"IF(P26=0,0,(P26*((LOG(P26))/LOG(2))))","v":0},null,null,{"$f":"N26","v":21122},{"$f":"COUNTIF(L7:L7,T26)","v":0},{"$f":"U26/(W4-U25)","v":0},{"$f":"IF(V26=0,0,(V26*((LOG(V26))/LOG(2))))","v":0},null,{"$f":"N26","v":21122},{"$f":"COUNTIF(L7:L8,Y26)","v":0},{"$f":"Z26/(AB4-Z25)","v":0},{"$f":"IF(AA26=0,0,(AA26*((LOG(AA26))/LOG(2))))","v":0},null,{"$f":"N26","v":21122},{"$f":"COUNTIF(L8:L8,AD26)","v":0},{"$f":"AE26/(AG4-AE25)","v":0},{"$f":"IF(AF26=0,0,(AF26*((LOG(AF26))/LOG(2))))","v":0},null,{"$f":"N26","v":21122},{"$f":"COUNTIF(L9:L9,AI26)","v":0},{"$f":"AJ26/(AL4-AJ25)","v":0},{"$f":"IF(AK26=0,0,(AK26*((LOG(AK26))/LOG(2))))","v":0},null,{"$f":"N26","v":21122},{"$f":"COUNTIF(L9:L10,AN26)","v":0},{"$f":"AO26/(AQ4-AO25)","v":0},{"$f":"IF(AP26=0,0,(AP26*((LOG(AP26))/LOG(2))))","v":0},null,{"$f":"N26","v":21122},{"$f":"COUNTIF(L10:L10,AS26)","v":0},{"$f":"AT26/(AV4-AT25)","v":0},{"$f":"IF(AU26=0,0,(AU26*((LOG(AU26))/LOG(2))))","v":0}]
[null,null,null,null,null,null,null,null,null,null,null,null,null,21211,{"$f":"COUNTIF($L$7:$L$500,N27)","v":0},{"$f":"O27/$Q$4","v":0},{"$f":"IF(P27=0,0,(P27*((LOG(P27))/LOG(2))))","v":0},null,null,{"$f":"N27","v":21211},{"$f":"COUNTIF(L7:L7,T27)","v":0},{"$f":"U27/(W4-U25)","v":0},{"$f":"IF(V27=0,0,(V27*((LOG(V27))/LOG(2))))","v":0},null,{"$f":"N27","v":21211},{"$f":"COUNTIF(L7:L8,Y27)","v":0},{"$f":"Z27/(AB4-Z25)","v":0},{"$f":"IF(AA27=0,0,(AA27*((LOG(AA27))/LOG(2))))","v":0},null,{"$f":"N27","v":21211},{"$f":"COUNTIF(L8:L8,AD27)","v":0},{"$f":"AE27/(AG4-AE25)","v":0},{"$f":"IF(AF27=0,0,(AF27*((LOG(AF27))/LOG(2))))","v":0},null,{"$f":"N27","v":21211},{"$f":"COUNTIF(L9:L9,AI27)","v":0},{"$f":"AJ27/(AL4-AJ25)","v":0},{"$f":"IF(AK27=0,0,(AK27*((LOG(AK27))/LOG(2))))","v":0},null,{"$f":"N27","v":21211},{"$f":"COUNTIF(L9:L10,AN27)","v":0},{"$f":"AO27/(AQ4-AO25)","v":0},{"$f":"IF(AP27=0,0,(AP27*((LOG(AP27))/LOG(2))))","v":0},null,{"$f":"N27","v":21211},{"$f":"COUNTIF(L10:L10,AS27)","v":0},{"$f":"AT27/(AV4-AT25)","v":0},{"$f":"IF(AU27=0,0,(AU27*((LOG(AU27))/LOG(2))))","v":0}]
[null,null,null,null,null,null,null,null,null,null,null,null,null,21212,{"$f":"COUNTIF($L$7:$L$500,N28)","v":0},{"$f":"O28/$Q$4","v":0},{"$f":"IF(P28=0,0,(P28*((LOG(P28))/LOG(2))))","v":0},null,null,{"$f":"N28","v":21212},{"$f":"COUNTIF(L7:L7,T28)","v":0},{"$f":"U28/(W4-U25)","v":0},{"$f":"IF(V28=0,0,(V28*((LOG(V28))/LOG(2))))","v":0},null,{"$f":"N28","v":21212},{"$f":"COUNTIF(L7:L8,Y28)","v":0},{"$f":"Z28/(AB4-Z25)","v":0},{"$f":"IF(AA28=0,0,(AA28*((LOG(AA28))/LOG(2))))","v":0},null,{"$f":"N28","v":21212},{"$f":"COUNTIF(L8:L8,AD28)","v":0},{"$f":"AE28/(AG4-AE25)","v":0},{"$f":"IF(AF28=0,0,(AF28*((LOG(AF28))/LOG(2))))","v":0},null,{"$f":"N28","v":21212},{"$f":"COUNTIF(L9:L9,AI28)","v":0},{"$f":"AJ28/(AL4-AJ25)","v":0},{"$f":"IF(AK28=0,0,(AK28*((LOG(AK28))/LOG(2))))","v":0},null,{"$f":"N28","v":21212},{"$f":"COUNTIF(L9:L10,AN28)","v":0},{"$f":"AO28/(AQ4-AO25)","v":0},{"$f":"IF(AP28=0,0,(AP28*((LOG(AP28))/LOG(2))))","v":0},null,{"$f":"N28","v":21212},{"$f":"COUNTIF(L10:L10,AS28)","v":0},{"$f":"AT28/(AV4-AT25)","v":0},{"$f":"IF(AU28=0,0,(AU28*((LOG(AU28))/LOG(2))))","v":0}]
[null,null,null,null,null,null,null,null,null,null,null,null,null,21221,{"$f":"COUNTIF($L$7:$L$500,N29)","v":0},{"$f":"O29/$Q$4","v":0},{"$f":"IF(P29=0,0,(P29*((LOG(P29))/LOG(2))))","v":0},null,null,{"$f":"N29","v":21221},{"$f":"COUNTIF(L7:L7,T29)","v":0},{"$f":"U29/(W4-U25)","v":0},{"$f":"IF(V29=0,0,(V29*((LOG(V29))/LOG(2))))","v":0},null,{"$f":"N29","v":21221},{"$f":"COUNTIF(L7:L8,Y29)","v":0},{"$f":"Z29/(AB4-Z25)","v":0},{"$f":"IF(AA29=0,0,(AA29*((LOG(AA29))/LOG(2))))","v":0},null,{"$f":"N29","v":21221},{"$f":"COUNTIF(L8:L8,AD29)","v":0},{"$f":"AE29/(AG4-AE25)","v":0},{"$f":"IF(AF29=0,0,(AF29*((LOG(AF29))/LOG(2))))","v":0},null,{"$f":"N29","v":21221},{"$f":"COUNTIF(L9:L9,AI29)","v":0},{"$f":"AJ29/(AL4-AJ25)","v":0},{"$f":"IF(AK29=0,0,(AK29*((LOG(AK29))/LOG(2))))","v":0},null,{"$f":"N29","v":21221},{"$f":"COUNTIF(L9:L10,AN29)","v":0},{"$f":"AO29/(AQ4-AO25)","v":0},{"$f":"IF(AP29=0,0,(AP29*((LOG(AP29))/LOG(2))))","v":0},null,{"$f":"N29","v":21221},{"$f":"COUNTIF(L10:L10,AS29)","v":0},{"$f":"AT29/(AV4-AT25)","v":0},{"$f":"IF(AU29=0,0,(AU29*((LOG(AU29))/LOG(2))))","v":0}]
[null,null,null,null,null,null,null,null,null,null,null,null,null,21222,{"$f":"COUNTIF($L$7:$L$500,N30)","v":0},{"$f":"O30/$Q$4","v":0},{"$f":"IF(P30=0,0,(P30*((LOG(P30))/LOG(2))))","v":0},null,null,{"$f":"N30","v":21222},{"$f":"COUNTIF(L7:L7,T30)","v":0},{"$f":"U30/(W4-U25)","v":0},{"$f":"IF(V30=0,0,(V30*((LOG(V30))/LOG(2))))","v":0},null,{"$f":"N30","v":21222},{"$f":"COUNTIF(L7:L8,Y30)","v":0},{"$f":"Z30/(AB4-Z25)","v":0},{"$f":"IF(AA30=0,0,(AA30*((LOG(AA30))/LOG(2))))","v":0},null,{"$f":"N30","v":21222},{"$f":"COUNTIF(L8:L8,AD30)","v":0},{"$f":"AE30/(AG4-AE25)","v":0},{"$f":"IF(AF30=0,0,(AF30*((LOG(AF30))/LOG(2))))","v":0},null,{"$f":"N30","v":21222},{"$f":"COUNTIF(L9:L9,AI30)","v":0},{"$f":"AJ30/(AL4-AJ25)","v":0},{"$f":"IF(AK30=0,0,(AK30*((LOG(AK30))/LOG(2))))","v":0},null,{"$f":"N30","v":21222},{"$f":"COUNTIF(L9:L10,AN30)","v":0},{"$f":"AO30/(AQ4-AO25)","v":0},{"$f":"IF(AP30=0,0,(AP30*((LOG(AP30))/LOG(2))))","v":0},null,{"$f":"N30","v":21222},{"$f":"COUNTIF(L10:L10,AS30)","v":0},{"$f":"AT30/(AV4-AT25)","v":0},{"$f":"IF(AU30=0,0,(AU30*((LOG(AU30))/LOG(2))))","v":0}]
[null,null,null,null,null,null,null,null,null,null,null,null,null,22111,{"$f":"COUNTIF($L$7:$L$500,N31)","v":0},{"$f":"O31/$Q$4","v":0},{"$f":"IF(P31=0,0,(P31*((LOG(P31))/LOG(2))))","v":0},null,null,{"$f":"N31","v":22111},{"$f":"COUNTIF(L7:L7,T31)","v":0},{"$f":"U31/(W4-U25)","v":0},{"$f":"IF(V31=0,0,(V31*((LOG(V31))/LOG(2))))","v":0},null,{"$f":"N31","v":22111},{"$f":"COUNTIF(L7:L8,Y31)","v":0},{"$f":"Z31/(AB4-Z25)","v":0},{"$f":"IF(AA31=0,0,(AA31*((LOG(AA31))/LOG(2))))","v":0},null,{"$f":"N31","v":22111},{"$f":"COUNTIF(L8:L8,AD31)","v":0},{"$f":"AE31/(AG4-AE25)","v":0},{"$f":"IF(AF31=0,0,(AF31*((LOG(AF31))/LOG(2))))","v":0},null,{"$f":"N31","v":22111},{"$f":"COUNTIF(L9:L9,AI31)","v":0},{"$f":"AJ31/(AL4-AJ25)","v":0},{"$f":"IF(AK31=0,0,(AK31*((LOG(AK31))/LOG(2))))","v":0},null,{"$f":"N31","v":22111},{"$f":"COUNTIF(L9:L10,AN31)","v":0},{"$f":"AO31/(AQ4-AO25)","v":0},{"$f":"IF(AP31=0,0,(AP31*((LOG(AP31))/LOG(2))))","v":0},null,{"$f":"N31","v":22111},{"$f":"COUNTIF(L10:L10,AS31)","v":0},{"$f":"AT31/(AV4-AT25)","v":0},{"$f":"IF(AU31=0,0,(AU31*((LOG(AU31))/LOG(2))))","v":0}]
[null,null,null,null,null,null,null,null,null,null,null,null,null,22112,{"$f":"COUNTIF($L$7:$L$500,N32)","v":0},{"$f":"O32/$Q$4","v":0},{"$f":"IF(P32=0,0,(P32*((LOG(P32))/LOG(2))))","v":0},null,null,{"$f":"N32","v":22112},{"$f":"COUNTIF(L7:L7,T32)","v":0},{"$f":"U32/(W4-U25)","v":0},{"$f":"IF(V32=0,0,(V32*((LOG(V32))/LOG(2))))","v":0},null,{"$f":"N32","v":22112},{"$f":"COUNTIF(L7:L8,Y32)","v":0},{"$f":"Z32/(AB4-Z25)","v":0},{"$f":"IF(AA32=0,0,(AA32*((LOG(AA32))/LOG(2))))","v":0},null,{"$f":"N32","v":22112},{"$f":"COUNTIF(L8:L8,AD32)","v":0},{"$f":"AE32/(AG4-AE25)","v":0},{"$f":"IF(AF32=0,0,(AF32*((LOG(AF32))/LOG(2))))","v":0},null,{"$f":"N32","v":22112},{"$f":"COUNTIF(L9:L9,AI32)","v":0},{"$f":"AJ32/(AL4-AJ25)","v":0},{"$f":"IF(AK32=0,0,(AK32*((LOG(AK32))/LOG(2))))","v":0},null,{"$f":"N32","v":22112},{"$f":"COUNTIF(L9:L10,AN32)","v":0},{"$f":"AO32/(AQ4-AO25)","v":0},{"$f":"IF(AP32=0,0,(AP32*((LOG(AP32))/LOG(2))))","v":0},null,{"$f":"N32","v":22112},{"$f":"COUNTIF(L10:L10,AS32)","v":0},{"$f":"AT32/(AV4-AT25)","v":0},{"$f":"IF(AU32=0,0,(AU32*((LOG(AU32))/LOG(2))))","v":0}]
[null,null,null,null,null,null,null,null,null,null,null,null,null,22121,{"$f":"COUNTIF($L$7:$L$500,N33)","v":0},{"$f":"O33/$Q$4","v":0},{"$f":"IF(P33=0,0,(P33*((LOG(P33))/LOG(2))))","v":0},null,null,{"$f":"N33","v":22121},{"$f":"COUNTIF(L7:L7,T33)","v":0},{"$f":"U33/(W4-U25)","v":0},{"$f":"IF(V33=0,0,(V33*((LOG(V33))/LOG(2))))","v":0},null,{"$f":"N33","v":22121},{"$f":"COUNTIF(L7:L8,Y33)","v":0},{"$f":"Z33/(AB4-Z25)","v":0},{"$f":"IF(AA33=0,0,(AA33*((LOG(AA33))/LOG(2))))","v":0},null,{"$f":"N33","v":22121},{"$f":"COUNTIF(L8:L8,AD33)","v":0},{"$f":"AE33/(AG4-AE25)","v":0},{"$f":"IF(AF33=0,0,(AF33*((LOG(AF33))/LOG(2))))","v":0},null,{"$f":"N33","v":22121},{"$f":"COUNTIF(L9:L9,AI33)","v":0},{"$f":"AJ33/(AL4-AJ25)","v":0},{"$f":"IF(AK33=0,0,(AK33*((LOG(AK33))/LOG(2))))","v":0},null,{"$f":"N33","v":22121},{"$f":"COUNTIF(L9:L10,AN33)","v":0},{"$f":"AO33/(AQ4-AO25)","v":0},{"$f":"IF(AP33=0,0,(AP33*((LOG(AP33))/LOG(2))))","v":0},null,{"$f":"N33","v":22121},{"$f":"COUNTIF(L10:L10,AS33)","v":0},{"$f":"AT33/(AV4-AT25)","v":0},{"$f":"IF(AU33=0,0,(AU33*((LOG(AU33))/LOG(2))))","v":0}]
[null,null,null,null,null,null,null,null,null,null,null,null,null,22122,{"$f":"COUNTIF($L$7:$L$500,N34)","v":0},{"$f":"O34/$Q$4","v":0},{"$f":"IF(P34=0,0,(P34*((LOG(P34))/LOG(2))))","v":0},null,null,{"$f":"N34","v":22122},{"$f":"COUNTIF(L7:L7,T34)","v":0},{"$f":"U34/(W4-U25)","v":0},{"$f":"IF(V34=0,0,(V34*((LOG(V34))/LOG(2))))","v":0},null,{"$f":"N34","v":22122},{"$f":"COUNTIF(L7:L8,Y34)","v":0},{"$f":"Z34/(AB4-Z25)","v":0},{"$f":"IF(AA34=0,0,(AA34*((LOG(AA34))/LOG(2))))","v":0},null,{"$f":"N34","v":22122},{"$f":"COUNTIF(L8:L8,AD34)","v":0},{"$f":"AE34/(AG4-AE25)","v":0},{"$f":"IF(AF34=0,0,(AF34*((LOG(AF34))/LOG(2))))","v":0},null,{"$f":"N34","v":22122},{"$f":"COUNTIF(L9:L9,AI34)","v":0},{"$f":"AJ34/(AL4-AJ25)","v":0},{"$f":"IF(AK34=0,0,(AK34*((LOG(AK34))/LOG(2))))","v":0},null,{"$f":"N34","v":22122},{"$f":"COUNTIF(L9:L10,AN34)","v":0},{"$f":"AO34/(AQ4-AO25)","v":0},{"$f":"IF(AP34=0,0,(AP34*((LOG(AP34))/LOG(2))))","v":0},null,{"$f":"N34","v":22122},{"$f":"COUNTIF(L10:L10,AS34)","v":0},{"$f":"AT34/(AV4-AT25)","v":0},{"$f":"IF(AU34=0,0,(AU34*((LOG(AU34))/LOG(2))))","v":0}]
[null,null,null,null,null,null,null,null,null,null,null,null,null,22211,{"$f":"COUNTIF($L$7:$L$500,N35)","v":0},{"$f":"O35/$Q$4","v":0},{"$f":"IF(P35=0,0,(P35*((LOG(P35))/LOG(2))))","v":0},null,null,{"$f":"N35","v":22211},{"$f":"COUNTIF(L7:L7,T35)","v":0},{"$f":"U35/(W4-U25)","v":0},{"$f":"IF(V35=0,0,(V35*((LOG(V35))/LOG(2))))","v":0},null,{"$f":"N35","v":22211},{"$f":"COUNTIF(L7:L8,Y35)","v":0},{"$f":"Z35/(AB4-Z25)","v":0},{"$f":"IF(AA35=0,0,(AA35*((LOG(AA35))/LOG(2))))","v":0},null,{"$f":"N35","v":22211},{"$f":"COUNTIF(L8:L8,AD35)","v":0},{"$f":"AE35/(AG4-AE25)","v":0},{"$f":"IF(AF35=0,0,(AF35*((LOG(AF35))/LOG(2))))","v":0},null,{"$f":"N35","v":22211},{"$f":"COUNTIF(L9:L9,AI35)","v":0},{"$f":"AJ35/(AL4-AJ25)","v":0},{"$f":"IF(AK35=0,0,(AK35*((LOG(AK35))/LOG(2))))","v":0},null,{"$f":"N35","v":22211},{"$f":"COUNTIF(L9:L10,AN35)","v":0},{"$f":"AO35/(AQ4-AO25)","v":0},{"$f":"IF(AP35=0,0,(AP35*((LOG(AP35))/LOG(2))))","v":0},null,{"$f":"N35","v":22211},{"$f":"COUNTIF(L10:L10,AS35)","v":0},{"$f":"AT35/(AV4-AT25)","v":0},{"$f":"IF(AU35=0,0,(AU35*((LOG(AU35))/LOG(2))))","v":0}]
[null,null,null,null,null,null,null,null,null,null,null,null,null,22212,{"$f":"COUNTIF($L$7:$L$500,N36)","v":0},{"$f":"O36/$Q$4","v":0},{"$f":"IF(P36=0,0,(P36*((LOG(P36))/LOG(2))))","v":0},null,null,{"$f":"N36","v":22212},{"$f":"COUNTIF(L7:L7,T36)","v":0},{"$f":"U36/(W4-U25)","v":0},{"$f":"IF(V36=0,0,(V36*((LOG(V36))/LOG(2))))","v":0},null,{"$f":"N36","v":22212},{"$f":"COUNTIF(L7:L8,Y36)","v":0},{"$f":"Z36/(AB4-Z25)","v":0},{"$f":"IF(AA36=0,0,(AA36*((LOG(AA36))/LOG(2))))","v":0},null,{"$f":"N36","v":22212},{"$f":"COUNTIF(L8:L8,AD36)","v":0},{"$f":"AE36/(AG4-AE25)","v":0},{"$f":"IF(AF36=0,0,(AF36*((LOG(AF36))/LOG(2))))","v":0},null,{"$f":"N36","v":22212},{"$f":"COUNTIF(L9:L9,AI36)","v":0},{"$f":"AJ36/(AL4-AJ25)","v":0},{"$f":"IF(AK36=0,0,(AK36*((LOG(AK36))/LOG(2))))","v":0},null,{"$f":"N36","v":22212},{"$f":"COUNTIF(L9:L10,AN36)","v":0},{"$f":"AO36/(AQ4-AO25)","v":0},{"$f":"IF(AP36=0,0,(AP36*((LOG(AP36))/LOG(2))))","v":0},null,{"$f":"N36","v":22212},{"$f":"COUNTIF(L10:L10,AS36)","v":0},{"$f":"AT36/(AV4-AT25)","v":0},{"$f":"IF(AU36=0,0,(AU36*((LOG(AU36))/LOG(2))))","v":0}]
[null,null,null,null,null,null,null,null,null,null,null,null,null,22221,{"$f":"COUNTIF($L$7:$L$500,N37)","v":0},{"$f":"O37/$Q$4","v":0},{"$f":"IF(P37=0,0,(P37*((LOG(P37))/LOG(2))))","v":0},null,null,{"$f":"N37","v":22221},{"$f":"COUNTIF(L7:L7,T37)","v":0},{"$f":"U37/(W4-U25)","v":0},{"$f":"IF(V37=0,0,(V37*((LOG(V37))/LOG(2))))","v":0},null,{"$f":"N37","v":22221},{"$f":"COUNTIF(L7:L8,Y37)","v":0},{"$f":"Z37/(AB4-Z25)","v":0},{"$f":"IF(AA37=0,0,(AA37*((LOG(AA37))/LOG(2))))","v":0},null,{"$f":"N37","v":22221},{"$f":"COUNTIF(L8:L8,AD37)","v":0},{"$f":"AE37/(AG4-AE25)","v":0},{"$f":"IF(AF37=0,0,(AF37*((LOG(AF37))/LOG(2))))","v":0},null,{"$f":"N37","v":22221},{"$f":"COUNTIF(L9:L9,AI37)","v":0},{"$f":"AJ37/(AL4-AJ25)","v":0},{"$f":"IF(AK37=0,0,(AK37*((LOG(AK37))/LOG(2))))","v":0},null,{"$f":"N37","v":22221},{"$f":"COUNTIF(L9:L10,AN37)","v":0},{"$f":"AO37/(AQ4-AO25)","v":0},{"$f":"IF(AP37=0,0,(AP37*((LOG(AP37))/LOG(2))))","v":0},null,{"$f":"N37","v":22221},{"$f":"COUNTIF(L10:L10,AS37)","v":0},{"$f":"AT37/(AV4-AT25)","v":0},{"$f":"IF(AU37=0,0,(AU37*((LOG(AU37))/LOG(2))))","v":0}]
[null,null,null,null,null,null,null,null,null,null,null,null,null,22222,{"$f":"COUNTIF($L$7:$L$500,N38)","v":0},{"$f":"O38/$Q$4","v":0},{"$f":"IF(P38=0,0,(P38*((LOG(P38))/LOG(2))))","v":0},null,null,{"$f":"N38","v":22222},{"$f":"COUNTIF(L7:L7,T38)","v":0},{"$f":"U38/(W4-U25)","v":0},{"$f":"IF(V38=0,0,(V38*((LOG(V38))/LOG(2))))","v":0},null,{"$f":"N38","v":22222},{"$f":"COUNTIF(L7:L8,Y38)","v":0},{"$f":"Z38/(AB4-Z25)","v":0},{"$f":"IF(AA38=0,0,(AA38*((LOG(AA38))/LOG(2))))","v":0},null,{"$f":"N38","v":22222},{"$f":"COUNTIF(L8:L8,AD38)","v":0},{"$f":"AE38/(AG4-AE25)","v":0},{"$f":"IF(AF38=0,0,(AF38*((LOG(AF38))/LOG(2))))","v":0},null,{"$f":"N38","v":22222},{"$f":"COUNTIF(L9:L9,AI38)","v":0},{"$f":"AJ38/(AL4-AJ25)","v":0},{"$f":"IF(AK38=0,0,(AK38*((LOG(AK38))/LOG(2))))","v":0},null,{"$f":"N38","v":22222},{"$f":"COUNTIF(L9:L10,AN38)","v":0},{"$f":"AO38/(AQ4-AO25)","v":0},{"$f":"IF(AP38=0,0,(AP38*((LOG(AP38))/LOG(2))))","v":0},null,{"$f":"N38","v":22222},{"$f":"COUNTIF(L10:L10,AS38)","v":0},{"$f":"AT38/(AV4-AT25)","v":0},{"$f":"IF(AU38=0,0,(AU38*((LOG(AU38))/LOG(2))))","v":0}]
[null,null,null,null,null,null,null,null,null,null,null,null,null,null,null,{"$f":"SUM(P7:P38)","v":1},{"$f":"-SUM(Q7:Q38)","v":1.5},null,null,null,null,{"$f":"SUM(V7:V38)","v":1},{"$f":"-SUM(W7:W38)","v":0},null,null,null,{"$f":"SUM(AA7:AA38)","v":1},{"$f":"-SUM(AB7:AB38)","v":1},null,null,null,{"$f":"SUM(AF7:AF38)","v":1},{"$f":"-SUM(AG7:AG38)","v":0},null,null,null,{"$f":"SUM(AK7:AK38)","v":1},{"$f":"-SUM(AL7:AL38)","v":0},null,null,null,{"$f":"SUM(AP7:AP38)","v":1},{"$f":"-SUM(AQ7:AQ38)","v":1},null,null,null,{"$f":"SUM(AU7:AU38)","v":1},{"$f":"-SUM(AV7:AV38)","v":0}]
[null,null,null,null,null,null,null,null,null,null,null,null,null,null,null,"U=",{"$f":"Q39/(LOG(Q4)/LOG(2))","v":0.75},null,null,null,null,"U1=",{"$f":"W39/(LOG(W4)/LOG(2))","v":{"$error":"#DIV/0!"}},null,null,null,"U2=",{"$f":"AB39/(LOG(AB4)/LOG(2))","v":1},null,null,null,"U3=",{"$f":"AG39/(LOG(AG4)/LOG(2))","v":{"$error":"#DIV/0!"}},null,null,null,"U4=",{"$f":"AL39/(LOG(AL4)/LOG(2))","v":{"$error":"#DIV/0!"}},null,null,null,"U5=",{"$f":"AQ39/(LOG(AQ4)/LOG(2))","v":1},null,null,null,"U6=",{"$f":"AV39/(LOG(AV4)/LOG(2))","v":{"$error":"#DIV/0!"}}]
[]
[]
[null,null,null,null,null,null,null,null,null,null,null,null,null,"Total Target Seq"]
[null,null,null,null,null,null,null,null,null,null,null,null,null,{"$f":"COUNTIF(L7:L10,G3)","v":0},null,1,0,1,1,0,1]
[null,null,null,null,null,null,null,null,null,null,null,null,null,null,null,"% of reinforcement given in 6 equal intervals based on number of trials "]
[null,null,null,null,null,null,null,null,null,null,null,null,null,null,null,"%_1","%_2","%_3","%_4","%_5","%_6"]
[null,null,null,null,null,null,null,null,null,null,null,null,null,null,"target sequence",{"$f":"$G$3","v":21121},{"$f":"$G$3","v":21121},{"$f":"$G$3","v":21121},{"$f":"$G$3","v":21121},{"$f":"$G$3","v":21121},{"$f":"$G$3","v":21121}]
[null,null,null,null,null,null,null,null,null,null,null,null,null,null,"total reinforcement",{"$f":"U25","v":0},{"$f":"Z25","v":0},{"$f":"AE25","v":0},{"$f":"AJ25","v":0},{"$f":"AO25","v":0},{"$f":"AT25","v":0}]
[null,null,null,null,null,null,null,null,null,null,null,null,null,null,"% target"]
[null,null,null,null,null,null,null,null,null,null,null,null,null,null,"CCRF"]
[null,null,null,null,null,null,null,null,null,null,null,null,null,null,"% CCRf"]
[null,null,null,null,null,null,null,null,null,null,null,null,null,null,"average response rate",{"$f":"J7/P44","v":62},{"$f":"(J7-J7)/Q44","v":{"$error":"#DIV/0!"}},{"$f":"(J8-J7)/R44","v":179},{"$f":"(J9-J8)/S44","v":207},{"$f":"(J9-J9)/T44","v":{"$error":"#DIV/0!"}},{"$f":"(J10-J9)/U44","v":183}]

{"sheet":"!N129A40.105","index":29,"n_rows":52,"n_cols":48,"rows_kept":52,"cut":false,"hidden":false,"merged":[[4,39,4,42],[5,39,5,40],[4,44,4,47],[5,44,5,45],[4,24,4,27],[5,24,5,25],[4,29,4,32],[5,29,5,30],[4,34,4,37],[5,34,5,35],[1,1,1,2],[5,13,5,14],[42,13,42,14],[43,13,43,14],[4,19,4,22],[5,19,5,20]]}
["Report for:!N129A40.105"]
["Date:","<date>"]
["Hen:","<hen>",null,null,null,"Correct Sequence",{"$f":"Start!J2","v":21121},null,null,null,null,null,null,null,null,"Total Sequences in Data",{"$f":"4994-COUNTBLANK(L7:L5000)","v":31},null,null,null,null,"Total Sequences in Block Data",{"$f":"COUNTA(L7:L11)","v":5},null,null,null,"Total Sequences in Block Data",{"$f":"COUNTA(L12:L16)","v":5},null,null,null,"Total Sequences in Block Data",{"$f":"COUNTA(L17:L22)","v":6},null,null,null,"Total Sequences in Block Data",{"$f":"COUNTA(L23:L27)","v":5},null,null,null,"Total Sequences in Block Data",{"$f":"COUNTA(L28:L32)","v":5},null,null,null,"Total Sequences in Block Data",{"$f":"COUNTA(L33:L37)","v":5}]
[null,null,null,null,null,null,null,null,null,null,null,null,null,null,null,"Total Sequences in Summary",{"$f":"SUM(O7:O38)","v":30},null,null,null,null,"Total Sequences in Block Summary",{"$f":"SUM(U7:U38)","v":5},null,null,null,"Total Sequences in Block Summary",{"$f":"SUM(Z7:Z38)","v":5},null,null,null,"Total Sequences in Block Summary",{"$f":"SUM(AE7:AE38)","v":6},null,null,null,"Total Sequences in Block Summary",{"$f":"SUM(AJ7:AJ38)","v":5},null,null,null,"Total Sequences in Block Summary",{"$f":"SUM(AO7:AO38)","v":5},null,null,null,"Total Sequences in Block Summary",{"$f":"SUM(AT7:AT38)","v":4}]
[null,null,null,null,null,null,null,null,null,null,null,null,null,null,null,null,null,null,null,"Block 1",null,null,null,null,"Block 2",null,null,null,null,"Block 3",null,null,null,null,"Block 4",null,null,null,null,"Block 5",null,null,null,null,"Block 6"]
["Sequence\nComponent\n1","Time\n1","Sequence\nComponent\n2","Time\n2","Sequence\nComponent\n3","Time\n3","Sequence\nComponent\n4","Time\n4","Sequence\nComponent\n5","Time\n5","Correct?\n0=No 1=Yes","Sequence",null,"Frequency",null,"Relative Frequency","Variability",null,null,"Frequency",null,"Relative Frequency","Variability",null,"Frequency",null,"Relative Frequency","Variability",null,"Frequency",null,"Relative Frequency","Variability",null,"Frequency",null,"Relative Frequency","Variability",null,"Frequency",null,"Relative Frequency","Variability",null,"Frequency",null,"Relative Frequency","Variability"]
[12,14,24,24,13,34,23,43,13,58,0,12121,null,11111,{"$f":"COUNTIF($L$7:$L$500,N7)","v":2},{"$f":"O7/$Q$4","v":6.6666666666666666E-2},{"$f":"IF(P7=0,0,(P7*((LOG(P7))/LOG(2))))","v":-0.26045937304056793},null,null,{"$f":"N7","v":11111},{"$f":"COUNTIF(L7:L11,T7)","v":0},{"$f":"U7/(W4-U25)","v":0},{"$f":"IF(V7=0,0,(V7*((LOG(V7))/LOG(2))))","v":0},null,{"$f":"N7","v":11111},{"$f":"COUNTIF(L12:L16,Y7)","v":0},{"$f":"Z7/(AB4-Z25)","v":0},{"$f":"IF(AA7=0,0,(AA7*((LOG(AA7))/LOG(2))))","v":0},null,{"$f":"N7","v":11111},{"$f":"COUNTIF(L17:L22,AD7)","v":0},{"$f":"AE7/(AG4-AE25)","v":0},{"$f":"IF(AF7=0,0,(AF7*((LOG(AF7))/LOG(2))))","v":0},null,{"$f":"N7","v":11111},{"$f":"COUNTIF(L23:L27,AI7)","v":1},{"$f":"AJ7/(AL4-AJ25)","v":0.2},{"$f":"IF(AK7=0,0,(AK7*((LOG(AK7))/LOG(2))))","v":-0.46438561897747244},null,{"$f":"N7","v":11111},{"$f":"COUNTIF(L28:L32,AN7)","v":0},{"$f":"AO7/(AQ4-AO25)","v":0},{"$f":"IF(AP7=0,0,(AP7*((LOG(AP7))/LOG(2))))","v":0},null,{"$f":"N7","v":11111},{"$f":"COUNTIF(L33:L37,AS7)","v":1},{"$f":"AT7/(AV4-AT25)","v":0.25},{"$f":"IF(AU7=0,0,(AU7*((LOG(AU7))/LOG(2))))","v":-0.5}]
[12,166,24,175,13,191,23,200,13,215,0,12121,null,11112,{"$f":"COUNTIF($L$7:$L$500,N8)","v":0},{"$f":"O8/$Q$4","v":0},{"$f":"IF(P8=0,0,(P8*((LOG(P8))/LOG(2))))","v":0},null,null,{"$f":"N8","v":11112},{"$f":"COUNTIF(L7:L11,T8)","v":0},{"$f":"U8/(W4-U25)","v":0},{"$f":"IF(V8=0,0,(V8*((LOG(V8))/LOG(2))))","v":0},null,{"$f":"N8","v":11112},{"$f":"COUNTIF(L12:L16,Y8)","v":0},{"$f":"Z8/(AB4-Z25)","v":0},{"$f":"IF(AA8=0,0,(AA8*((LOG(AA8))/LOG(2))))","v":0},null,{"$f":"N8","v":11112},{"$f":"COUNTIF(L17:L22,AD8)","v":0},{"$f":"AE8/(AG4-AE25)","v":0},{"$f":"IF(AF8=0,0,(AF8*((LOG(AF8))/LOG(2))))","v":0},null,{"$f":"N8","v":11112},{"$f":"COUNTIF(L23:L27,AI8)","v":0},{"$f":"AJ8/(AL4-AJ25)","v":0},{"$f":"IF(AK8=0,0,(AK8*((LOG(AK8))/LOG(2))))","v":0},null,{"$f":"N8","v":11112},{"$f":"COUNTIF(L28:L32,AN8)","v":0},{"$f":"AO8/(AQ4-AO25)","v":0},{"$f":"IF(AP8=0,0,(AP8*((LOG(AP8))/LOG(2))))","v":0},null,{"$f":"N8","v":11112},{"$f":"COUNTIF(L33:L37,AS8)","v":0},{"$f":"AT8/(AV4-AT25)","v":0},{"$f":"IF(AU8=0,0,(AU8*((LOG(AU8))/LOG(2))))","v":0}]
[21,332,11,348,22,354,14,365,24,371,0,21212,null,11121,{"$f":"COUNTIF($L$7:$L$500,N9)","v":3},{"$f":"O9/$Q$4","v":0.1},{"$f":"IF(P9=0,0,(P9*((LOG(P9))/LOG(2))))","v":-0.33219280948873625},null,null,{"$f":"N9","v":11121},{"$f":"COUNTIF(L7:L11,T9)","v":0},{"$f":"U9/(W4-U25)","v":0},{"$f":"IF(V9=0,0,(V9*((LOG(V9))/LOG(2))))","v":0},null,{"$f":"N9","v":11121},{"$f":"COUNTIF(L12:L16,Y9)","v":0},{"$f":"Z9/(AB4-Z25)","v":0},{"$f":"IF(AA9=0,0,(AA9*((LOG(AA9))/LOG(2))))","v":0},null,{"$f":"N9","v":11121},{"$f":"COUNTIF(L17:L22,AD9)","v":1},{"$f":"AE9/(AG4-AE25)","v":0.16666666666666666},{"$f":"IF(AF9=0,0,(AF9*((LOG(AF9))/LOG(2))))","v":-0.43082708345352599},null,{"$f":"N9","v":11121},{"$f":"COUNTIF(L23:L27,AI9)","v":1},{"$f":"AJ9/(AL4-AJ25)","v":0.2},{"$f":"IF(AK9=0,0,(AK9*((LOG(AK9))/LOG(2))))","v":-0.46438561897747244},null,{"$f":"N9","v":11121},{"$f":"COUNTIF(L28:L32,AN9)","v":0},{"$f":"AO9/(AQ4-AO25)","v":0},{"$f":"IF(AP9=0,0,(AP9*((LOG(AP9))/LOG(2))))","v":0},null,{"$f":"N9","v":11121},{"$f":"COUNTIF(L33:L37,AS9)","v":1},{"$f":"AT9/(AV4-AT25)","v":0.25},{"$f":"IF(AU9=0,0,(AU9*((LOG(AU9))/LOG(2))))","v":-0.5}]
[12,5486,13,5496,24,5517,23,5543,13,5558,0,11221,null,11122,{"$f":"COUNTIF($L$7:$L$500,N10)","v":0},{"$f":"O10/$Q$4","v":0},{"$f":"IF(P10=0,0,(P10*((LOG(P10))/LOG(2))))","v":0},null,null,{"$f":"N10","v":11122},{"$f":"COUNTIF(L7:L11,T10)","v":0},{"$f":"U10/(W4-U25)","v":0},{"$f":"IF(V10=0,0,(V10*((LOG(V10))/LOG(2))))","v":0},null,{"$f":"N10","v":11122},{"$f":"COUNTIF(L12:L16,Y10)","v":0},{"$f":"Z10/(AB4-Z25)","v":0},{"$f":"IF(AA10=0,0,(AA10*((LOG(AA10))/LOG(2))))","v":0},null,{"$f":"N10","v":11122},{"$f":"COUNTIF(L17:L22,AD10)","v":0},{"$f":"AE10/(AG4-AE25)","v":0},{"$f":"IF(AF10=0,0,(AF10*((LOG(AF10))/LOG(2))))","v":0},null,{"$f":"N10","v":11122},{"$f":"COUNTIF(L23:L27,AI10)","v":0},{"$f":"AJ10/(AL4-AJ25)","v":0},{"$f":"IF(AK10=0,0,(AK10*((LOG(AK10))/LOG(2))))","v":0},null,{"$f":"N10","v":11122},{"$f":"COUNTIF(L28:L32,AN10)","v":0},{"$f":"AO10/(AQ4-AO25)","v":0},{"$f":"IF(AP10=0,0,(AP10*((LOG(AP10))/LOG(2))))","v":0},null,{"$f":"N10","v":11122},{"$f":"COUNTIF(L33:L37,AS10)","v":0},{"$f":"AT10/(AV4-AT25)","v":0},{"$f":"IF(AU10=0,0,(AU10*((LOG(AU10))/LOG(2))))","v":0}]
[21,5682,11,5705,11,5716,21,5727,11,5745,1,21121,null,11211,{"$f":"COUNTIF($L$7:$L$500,N11)","v":1},{"$f":"O11/$Q$4","v":3.3333333333333333E-2},{"$f":"IF(P11=0,0,(P11*((LOG(P11))/LOG(2))))","v":-0.16356301985361729},null,null,{"$f":"N11","v":11211},{"$f":"COUNTIF(L7:L11,T11)","v":0},{"$f":"U11/(W4-U25)","v":0},{"$f":"IF(V11=0,0,(V11*((LOG(V11))/LOG(2))))","v":0},null,{"$f":"N11","v":11211},{"$f":"COUNTIF(L12:L16,Y11)","v":0},{"$f":"Z11/(AB4-Z25)","v":0},{"$f":"IF(AA11=0,0,(AA11*((LOG(AA11))/LOG(2))))","v":0},null,{"$f":"N11","v":11211},{"$f":"COUNTIF(L17:L22,AD11)","v":1},{"$f":"AE11/(AG4-AE25)","v":0.16666666666666666},{"$f":"IF(AF11=0,0,(AF11*((LOG(AF11))/LOG(2))))","v":-0.43082708345352599},null,{"$f":"N11","v":11211},{"$f":"COUNTIF(L23:L27,AI11)","v":0},{"$f":"AJ11/(AL4-AJ25)","v":0},{"$f":"IF(AK11=0,0,(AK11*((LOG(AK11))/LOG(2))))","v":0},null,{"$f":"N11","v":11211},{"$f":"COUNTIF(L28:L32,AN11)","v":0},{"$f":"AO11/(AQ4-AO25)","v":0},{"$f":"IF(AP11=0,0,(AP11*((LOG(AP11))/LOG(2))))","v":0},null,{"$f":"N11","v":11211},{"$f":"COUNTIF(L33:L37,AS11)","v":0},{"$f":"AT11/(AV4-AT25)","v":0},{"$f":"IF(AU11=0,0,(AU11*((LOG(AU11))/LOG(2))))","v":0}]
[12,5908,24,5918,13,5934,23,5945,13,5959,0,12121,null,11212,{"$f":"COUNTIF($L$7:$L$500,N12)","v":1},{"$f":"O12/$Q$4","v":3.3333333333333333E-2},{"$f":"IF(P12=0,0,(P12*((LOG(P12))/LOG(2))))","v":-0.16356301985361729},null,null,{"$f":"N12","v":11212},{"$f":"COUNTIF(L7:L11,T12)","v":0},{"$f":"U12/(W4-U25)","v":0},{"$f":"IF(V12=0,0,(V12*((LOG(V12))/LOG(2))))","v":0},null,{"$f":"N12","v":11212},{"$f":"COUNTIF(L12:L16,Y12)","v":1},{"$f":"Z12/(AB4-Z25)","v":0.2},{"$f":"IF(AA12=0,0,(AA12*((LOG(AA12))/LOG(2))))","v":-0.46438561897747244},null,{"$f":"N12","v":11212},{"$f":"COUNTIF(L17:L22,AD12)","v":0},{"$f":"AE12/(AG4-AE25)","v":0},{"$f":"IF(AF12=0,0,(AF12*((LOG(AF12))/LOG(2))))","v":0},null,{"$f":"N12","v":11212},{"$f":"COUNTIF(L23:L27,AI12)","v":0},{"$f":"AJ12/(AL4-AJ25)","v":0},{"$f":"IF(AK12=0,0,(AK12*((LOG(AK12))/LOG(2))))","v":0},null,{"$f":"N12","v":11212},{"$f":"COUNTIF(L28:L32,AN12)","v":0},{"$f":"AO12/(AQ4-AO25)","v":0},{"$f":"IF(AP12=0,0,(AP12*((LOG(AP12))/LOG(2))))","v":0},null,{"$f":"N12","v":11212},{"$f":"COUNTIF(L33:L37,AS12)","v":0},{"$f":"AT12/(AV4-AT25)","v":0},{"$f":"IF(AU12=0,0,(AU12*((LOG(AU12))/LOG(2))))","v":0}]
[12,6068,24,6078,13,6089,23,6099,24,6114,0,12122,null,11221,{"$f":"COUNTIF($L$7:$L$500,N13)","v":2},{"$f":"O13/$Q$4","v":6.6666666666666666E-2},{"$f":"IF(P13=0,0,(P13*((LOG(P13))/LOG(2))))","v":-0.26045937304056793},null,null,{"$f":"N13","v":11221},{"$f":"COUNTIF(L7:L11,T13)","v":1},{"$f":"U13/(W4-U25)","v":0.25},{"$f":"IF(V13=0,0,(V13*((LOG(V13))/LOG(2))))","v":-0.5},null,{"$f":"N13","v":11221},{"$f":"COUNTIF(L12:L16,Y13)","v":0},{"$f":"Z13/(AB4-Z25)","v":0},{"$f":"IF(AA13=0,0,(AA13*((LOG(AA13))/LOG(2))))","v":0},null,{"$f":"N13","v":11221},{"$f":"COUNTIF(L17:L22,AD13)","v":0},{"$f":"AE13/(AG4-AE25)","v":0},{"$f":"IF(AF13=0,0,(AF13*((LOG(AF13))/LOG(2))))","v":0},null,{"$f":"N13","v":11221},{"$f":"COUNTIF(L23:L27,AI13)","v":0},{"$f":"AJ13/(AL4-AJ25)","v":0},{"$f":"IF(AK13=0,0,(AK13*((LOG(AK13))/LOG(2))))","v":0},null,{"$f":"N13","v":11221},{"$f":"COUNTIF(L28:L32,AN13)","v":1},{"$f":"AO13/(AQ4-AO25)","v":0.2},{"$f":"IF(AP13=0,0,(AP13*((LOG(AP13))/LOG(2))))","v":-0.46438561897747244},null,{"$f":"N13","v":11221},{"$f":"COUNTIF(L33:L37,AS13)","v":0},{"$f":"AT13/(AV4-AT25)","v":0},{"$f":"IF(AU13=0,0,(AU13*((LOG(AU13))/LOG(2))))","v":0}]
[12,6229,13,6245,24,6255,14,6266,24,6276,0,11212,null,11222,{"$f":"COUNTIF($L$7:$L$500,N14)","v":0},{"$f":"O14/$Q$4","v":0},{"$f":"IF(P14=0,0,(P14*((LOG(P14))/LOG(2))))","v":0},null,null,{"$f":"N14","v":11222},{"$f":"COUNTIF(L7:L11,T14)","v":0},{"$f":"U14/(W4-U25)","v":0},{"$f":"IF(V14=0,0,(V14*((LOG(V14))/LOG(2))))","v":0},null,{"$f":"N14","v":11222},{"$f":"COUNTIF(L12:L16,Y14)","v":0},{"$f":"Z14/(AB4-Z25)","v":0},{"$f":"IF(AA14=0,0,(AA14*((LOG(AA14))/LOG(2))))","v":0},null,{"$f":"N14","v":11222},{"$f":"COUNTIF(L17:L22,AD14)","v":0},{"$f":"AE14/(AG4-AE25)","v":0},{"$f":"IF(AF14=0,0,(AF14*((LOG(AF14))/LOG(2))))","v":0},null,{"$f":"N14","v":11222},{"$f":"COUNTIF(L23:L27,AI14)","v":0},{"$f":"AJ14/(AL4-AJ25)","v":0},{"$f":"IF(AK14=0,0,(AK14*((LOG(AK14))/LOG(2))))","v":0},null,{"$f":"N14","v":11222},{"$f":"COUNTIF(L28:L32,AN14)","v":0},{"$f":"AO14/(AQ4-AO25)","v":0},{"$f":"IF(AP14=0,0,(AP14*((LOG(AP14))/LOG(2))))","v":0},null,{"$f":"N14","v":11222},{"$f":"COUNTIF(L33:L37,AS14)","v":0},{"$f":"AT14/(AV4-AT25)","v":0},{"$f":"IF(AU14=0,0,(AU14*((LOG(AU14))/LOG(2))))","v":0}]
[12,6561,24,6571,13,6581,23,6591,13,6605,0,12121,null,12111,{"$f":"COUNTIF($L$7:$L$500,N15)","v":1},{"$f":"O15/$Q$4","v":3.3333333333333333E-2},{"$f":"IF(P15=0,0,(P15*((LOG(P15))/LOG(2))))","v":-0.16356301985361729},null,null,{"$f":"N15","v":12111},{"$f":"COUNTIF(L7:L11,T15)","v":0},{"$f":"U15/(W4-U25)","v":0},{"$f":"IF(V15=0,0,(V15*((LOG(V15))/LOG(2))))","v":0},null,{"$f":"N15","v":12111},{"$f":"COUNTIF(L12:L16,Y15)","v":0},{"$f":"Z15/(AB4-Z25)","v":0},{"$f":"IF(AA15=0,0,(AA15*((LOG(AA15))/LOG(2))))","v":0},null,{"$f":"N15","v":12111},{"$f":"COUNTIF(L17:L22,AD15)","v":0},{"$f":"AE15/(AG4-AE25)","v":0},{"$f":"IF(AF15=0,0,(AF15*((LOG(AF15))/LOG(2))))","v":0},null,{"$f":"N15","v":12111},{"$f":"COUNTIF(L23:L27,AI15)","v":0},{"$f":"AJ15/(AL4-AJ25)","v":0},{"$f":"IF(AK15=0,0,(AK15*((LOG(AK15))/LOG(2))))","v":0},null,{"$f":"N15","v":12111},{"$f":"COUNTIF(L28:L32,AN15)","v":0},{"$f":"AO15/(AQ4-AO25)","v":0},{"$f":"IF(AP15=0,0,(AP15*((LOG(AP15))/LOG(2))))","v":0},null,{"$f":"N15","v":12111},{"$f":"COUNTIF(L33:L37,AS15)","v":1},{"$f":"AT15/(AV4-AT25)","v":0.25},{"$f":"IF(AU15=0,0,(AU15*((LOG(AU15))/LOG(2))))","v":-0.5}]
[12,6810,24,6821,13,6834,23,6843,13,6856,0,12121,null,12112,{"$f":"COUNTIF($L$7:$L$500,N16)","v":3},{"$f":"O16/$Q$4","v":0.1},{"$f":"IF(P16=0,0,(P16*((LOG(P16))/LOG(2))))","v":-0.33219280948873625},null,null,{"$f":"N16","v":12112},{"$f":"COUNTIF(L7:L11,T16)","v":0},{"$f":"U16/(W4-U25)","v":0},{"$f":"IF(V16=0,0,(V16*((LOG(V16))/LOG(2))))","v":0},null,{"$f":"N16","v":12112},{"$f":"COUNTIF(L12:L16,Y16)","v":0},{"$f":"Z16/(AB4-Z25)","v":0},{"$f":"IF(AA16=0,0,(AA16*((LOG(AA16))/LOG(2))))","v":0},null,{"$f":"N16","v":12112},{"$f":"COUNTIF(L17:L22,AD16)","v":2},{"$f":"AE16/(AG4-AE25)","v":0.33333333333333331},{"$f":"IF(AF16=0,0,(AF16*((LOG(AF16))/LOG(2))))","v":-0.52832083357371862},null,{"$f":"N16","v":12112},{"$f":"COUNTIF(L23:L27,AI16)","v":0},{"$f":"AJ16/(AL4-AJ25)","v":0},{"$f":"IF(AK16=0,0,(AK16*((LOG(AK16))/LOG(2))))","v":0},null,{"$f":"N16","v":12112},{"$f":"COUNTIF(L28:L32,AN16)","v":1},{"$f":"AO16/(AQ4-AO25)","v":0.2},{"$f":"IF(AP16=0,0,(AP16*((LOG(AP16))/LOG(2))))","v":-0.46438561897747244},null,{"$f":"N16","v":12112},{"$f":"COUNTIF(L33:L37,AS16)","v":0},{"$f":"AT16/(AV4-AT25)","v":0},{"$f":"IF(AU16=0,0,(AU16*((LOG(AU16))/LOG(2))))","v":0}]
[12,6980,24,6989,13,7002,23,7011,24,7038,0,12122,null,12121,{"$f":"COUNTIF($L$7:$L$500,N17)","v":8},{"$f":"O17/$Q$4","v":0.26666666666666666},{"$f":"IF(P17=0,0,(P17*((LOG(P17))/LOG(2))))","v":-0.50850415882893829},null,null,{"$f":"N17","v":12121},{"$f":"COUNTIF(L7:L11,T17)","v":2},{"$f":"U17/(W4-U25)","v":0.5},{"$f":"IF(V17=0,0,(V17*((LOG(V17))/LOG(2))))","v":-0.5},null,{"$f":"N17","v":12121},{"$f":"COUNTIF(L12:L16,Y17)","v":3},{"$f":"Z17/(AB4-Z25)","v":0.6},{"$f":"IF(AA17=0,0,(AA17*((LOG(AA17))/LOG(2))))","v":-0.44217935649972373},null,{"$f":"N17","v":12121},{"$f":"COUNTIF(L17:L22,AD17)","v":1},{"$f":"AE17/(AG4-AE25)","v":0.16666666666666666},{"$f":"IF(AF17=0,0,(AF17*((LOG(AF17))/LOG(2))))","v":-0.43082708345352599},null,{"$f":"N17","v":12121},{"$f":"COUNTIF(L23:L27,AI17)","v":1},{"$f":"AJ17/(AL4-AJ25)","v":0.2},{"$f":"IF(AK17=0,0,(AK17*((LOG(AK17))/LOG(2))))","v":-0.46438561897747244},null,{"$f":"N17","v":12121},{"$f":"COUNTIF(L28:L32,AN17)","v":1},{"$f":"AO17/(AQ4-AO25)","v":0.2},{"$f":"IF(AP17=0,0,(AP17*((LOG(AP17))/LOG(2))))","v":-0.46438561897747244},null,{"$f":"N17","v":12121},{"$f":"COUNTIF(L33:L37,AS17)","v":0},{"$f":"AT17/(AV4-AT25)","v":0},{"$f":"IF(AU17=0,0,(AU17*((LOG(AU17))/LOG(2))))","v":0}]
[12,7146,24,7152,13,7159,14,7172,24,7182,0,12112,null,12122,{"$f":"COUNTIF($L$7:$L$500,N18)","v":3},{"$f":"O18/$Q$4","v":0.1},{"$f":"IF(P18=0,0,(P18*((LOG(P18))/LOG(2))))","v":-0.33219280948873625},null,null,{"$f":"N18","v":12122},{"$f":"COUNTIF(L7:L11,T18)","v":0},{"$f":"U18/(W4-U25)","v":0},{"$f":"IF(V18=0,0,(V18*((LOG(V18))/LOG(2))))","v":0},null,{"$f":"N18","v":12122},{"$f":"COUNTIF(L12:L16,Y18)","v":1},{"$f":"Z18/(AB4-Z25)","v":0.2},{"$f":"IF(AA18=0,0,(AA18*((LOG(AA18))/LOG(2))))","v":-0.46438561897747244},null,{"$f":"N18","v":12122},{"$f":"COUNTIF(L17:L22,AD18)","v":1},{"$f":"AE18/(AG4-AE25)","v":0.16666666666666666},{"$f":"IF(AF18=0,0,(AF18*((LOG(AF18))/LOG(2))))","v":-0.43082708345352599},null,{"$f":"N18","v":12122},{"$f":"COUNTIF(L23:L27,AI18)","v":1},{"$f":"AJ18/(AL4-AJ25)","v":0.2},{"$f":"IF(AK18=0,0,(AK18*((LOG(AK18))/LOG(2))))","v":-0.46438561897747244},null,{"$f":"N18","v":12122},{"$f":"COUNTIF(L28:L32,AN18)","v":0},{"$f":"AO18/(AQ4-AO25)","v":0},{"$f":"IF(AP18=0,0,(AP18*((LOG(AP18))/LOG(2))))","v":0},null,{"$f":"N18","v":12122},{"$f":"COUNTIF(L33:L37,AS18)","v":0},{"$f":"AT18/(AV4-AT25)","v":0},{"$f":"IF(AU18=0,0,(AU18*((LOG(AU18))/LOG(2))))","v":0}]
[12,7461,24,7467,13,7477,14,7495,24,7505,0,12112,null,12211,{"$f":"COUNTIF($L$7:$L$500,N19)","v":0},{"$f":"O19/$Q$4","v":0},{"$f":"IF(P19=0,0,(P19*((LOG(P19))/LOG(2))))","v":0},null,null,{"$f":"N19","v":12211},{"$f":"COUNTIF(L7:L11,T19)","v":0},{"$f":"U19/(W4-U25)","v":0},{"$f":"IF(V19=0,0,(V19*((LOG(V19))/LOG(2))))","v":0},null,{"$f":"N19","v":12211},{"$f":"COUNTIF(L12:L16,Y19)","v":0},{"$f":"Z19/(AB4-Z25)","v":0},{"$f":"IF(AA19=0,0,(AA19*((LOG(AA19))/LOG(2))))","v":0},null,{"$f":"N19","v":12211},{"$f":"COUNTIF(L17:L22,AD19)","v":0},{"$f":"AE19/(AG4-AE25)","v":0},{"$f":"IF(AF19=0,0,(AF19*((LOG(AF19))/LOG(2))))","v":0},null,{"$f":"N19","v":12211},{"$f":"COUNTIF(L23:L27,AI19)","v":0},{"$f":"AJ19/(AL4-AJ25)","v":0},{"$f":"IF(AK19=0,0,(AK19*((LOG(AK19))/LOG(2))))","v":0},null,{"$f":"N19","v":12211},{"$f":"COUNTIF(L28:L32,AN19)","v":0},{"$f":"AO19/(AQ4-AO25)","v":0},{"$f":"IF(AP19=0,0,(AP19*((LOG(AP19))/LOG(2))))","v":0},null,{"$f":"N19","v":12211},{"$f":"COUNTIF(L33:L37,AS19)","v":0},{"$f":"AT19/(AV4-AT25)","v":0},{"$f":"IF(AU19=0,0,(AU19*((LOG(AU19))/LOG(2))))","v":0}]
[12,7694,24,7706,13,7715,23,7727,13,7739,0,12121,null,12212,{"$f":"COUNTIF($L$7:$L$500,N20)","v":0},{"$f":"O20/$Q$4","v":0},{"$f":"IF(P20=0,0,(P20*((LOG(P20))/LOG(2))))","v":0},null,null,{"$f":"N20","v":12212},{"$f":"COUNTIF(L7:L11,T20)","v":0},{"$f":"U20/(W4-U25)","v":0},{"$f":"IF(V20=0,0,(V20*((LOG(V20))/LOG(2))))","v":0},null,{"$f":"N20","v":12212},{"$f":"COUNTIF(L12:L16,Y20)","v":0},{"$f":"Z20/(AB4-Z25)","v":0},{"$f":"IF(AA20=0,0,(AA20*((LOG(AA20))/LOG(2))))","v":0},null,{"$f":"N20","v":12212},{"$f":"COUNTIF(L17:L22,AD20)","v":0},{"$f":"AE20/(AG4-AE25)","v":0},{"$f":"IF(AF20=0,0,(AF20*((LOG(AF20))/LOG(2))))","v":0},null,{"$f":"N20","v":12212},{"$f":"COUNTIF(L23:L27,AI20)","v":0},{"$f":"AJ20/(AL4-AJ25)","v":0},{"$f":"IF(AK20=0,0,(AK20*((LOG(AK20))/LOG(2))))","v":0},null,{"$f":"N20","v":12212},{"$f":"COUNTIF(L28:L32,AN20)","v":0},{"$f":"AO20/(AQ4-AO25)","v":0},{"$f":"IF(AP20=0,0,(AP20*((LOG(AP20))/LOG(2))))","v":0},null,{"$f":"N20","v":12212},{"$f":"COUNTIF(L33:L37,AS20)","v":0},{"$f":"AT20/(AV4-AT25)","v":0},{"$f":"IF(AU20=0,0,(AU20*((LOG(AU20))/LOG(2))))","v":0}]
[12,8105,13,8115,24,8126,14,8137,13,8152,0,11211,null,12221,{"$f":"COUNTIF($L$7:$L$500,N21)","v":1},{"$f":"O21/$Q$4","v":3.3333333333333333E-2},{"$f":"IF(P21=0,0,(P21*((LOG(P21))/LOG(2))))","v":-0.16356301985361729},null,null,{"$f":"N21","v":12221},{"$f":"COUNTIF(L7:L11,T21)","v":0},{"$f":"U21/(W4-U25)","v":0},{"$f":"IF(V21=0,0,(V21*((LOG(V21))/LOG(2))))","v":0},null,{"$f":"N21","v":12221},{"$f":"COUNTIF(L12:L16,Y21)","v":0},{"$f":"Z21/(AB4-Z25)","v":0},{"$f":"IF(AA21=0,0,(AA21*((LOG(AA21))/LOG(2))))","v":0},null,{"$f":"N21","v":12221},{"$f":"COUNTIF(L17:L22,AD21)","v":0},{"$f":"AE21/(AG4-AE25)","v":0},{"$f":"IF(AF21=0,0,(AF21*((LOG(AF21))/LOG(2))))","v":0},null,{"$f":"N21","v":12221},{"$f":"COUNTIF(L23:L27,AI21)","v":0},{"$f":"AJ21/(AL4-AJ25)","v":0},{"$f":"IF(AK21=0,0,(AK21*((LOG(AK21))/LOG(2))))","v":0},null,{"$f":"N21","v":12221},{"$f":"COUNTIF(L28:L32,AN21)","v":0},{"$f":"AO21/(AQ4-AO25)","v":0},{"$f":"IF(AP21=0,0,(AP21*((LOG(AP21))/LOG(2))))","v":0},null,{"$f":"N21","v":12221},{"$f":"COUNTIF(L33:L37,AS21)","v":1},{"$f":"AT21/(AV4-AT25)","v":0.25},{"$f":"IF(AU21=0,0,(AU21*((LOG(AU21))/LOG(2))))","v":-0.5}]
[12,8283,13,8298,13,8317,23,8325,13,8336,0,11121,null,12222,{"$f":"COUNTIF($L$7:$L$500,N22)","v":1},{"$f":"O22/$Q$4","v":3.3333333333333333E-2},{"$f":"IF(P22=0,0,(P22*((LOG(P22))/LOG(2))))","v":-0.16356301985361729},null,null,{"$f":"N22","v":12222},{"$f":"COUNTIF(L7:L11,T22)","v":0},{"$f":"U22/(W4-U25)","v":0},{"$f":"IF(V22=0,0,(V22*((LOG(V22))/LOG(2))))","v":0},null,{"$f":"N22","v":12222},{"$f":"COUNTIF(L12:L16,Y22)","v":0},{"$f":"Z22/(AB4-Z25)","v":0},{"$f":"IF(AA22=0,0,(AA22*((LOG(AA22))/LOG(2))))","v":0},null,{"$f":"N22","v":12222},{"$f":"COUNTIF(L17:L22,AD22)","v":0},{"$f":"AE22/(AG4-AE25)","v":0},{"$f":"IF(AF22=0,0,(AF22*((LOG(AF22))/LOG(2))))","v":0},null,{"$f":"N22","v":12222},{"$f":"COUNTIF(L23:L27,AI22)","v":0},{"$f":"AJ22/(AL4-AJ25)","v":0},{"$f":"IF(AK22=0,0,(AK22*((LOG(AK22))/LOG(2))))","v":0},null,{"$f":"N22","v":12222},{"$f":"COUNTIF(L28:L32,AN22)","v":1},{"$f":"AO22/(AQ4-AO25)","v":0.2},{"$f":"IF(AP22=0,0,(AP22*((LOG(AP22))/LOG(2))))","v":-0.46438561897747244},null,{"$f":"N22","v":12222},{"$f":"COUNTIF(L33:L37,AS22)","v":0},{"$f":"AT22/(AV4-AT25)","v":0},{"$f":"IF(AU22=0,0,(AU22*((LOG(AU22))/LOG(2))))","v":0}]
[12,8549,13,8560,13,8580,23,8589,13,8610,0,11121,null,21111,{"$f":"COUNTIF($L$7:$L$500,N23)","v":0},{"$f":"O23/$Q$4","v":0},{"$f":"IF(P23=0,0,(P23*((LOG(P23))/LOG(2))))","v":0},null,null,{"$f":"N23","v":21111},{"$f":"COUNTIF(L7:L11,T23)","v":0},{"$f":"U23/(W4-U25)","v":0},{"$f":"IF(V23=0,0,(V23*((LOG(V23))/LOG(2))))","v":0},null,{"$f":"N23","v":21111},{"$f":"COUNTIF(L12:L16,Y23)","v":0},{"$f":"Z23/(AB4-Z25)","v":0},{"$f":"IF(AA23=0,0,(AA23*((LOG(AA23))/LOG(2))))","v":0},null,{"$f":"N23","v":21111},{"$f":"COUNTIF(L17:L22,AD23)","v":0},{"$f":"AE23/(AG4-AE25)","v":0},{"$f":"IF(AF23=0,0,(AF23*((LOG(AF23))/LOG(2))))","v":0},null,{"$f":"N23","v":21111},{"$f":"COUNTIF(L23:L27,AI23)","v":0},{"$f":"AJ23/(AL4-AJ25)","v":0},{"$f":"IF(AK23=0,0,(AK23*((LOG(AK23))/LOG(2))))","v":0},null,{"$f":"N23","v":21111},{"$f":"COUNTIF(L28:L32,AN23)","v":0},{"$f":"AO23/(AQ4-AO25)","v":0},{"$f":"IF(AP23=0,0,(AP23*((LOG(AP23))/LOG(2))))","v":0},null,{"$f":"N23","v":21111},{"$f":"COUNTIF(L33:L37,AS23)","v":0},{"$f":"AT23/(AV4-AT25)","v":0},{"$f":"IF(AU23=0,0,(AU23*((LOG(AU23))/LOG(2))))","v":0}]
[12,9176,13,9185,13,9195,14,9204,13,9214,0,11111,null,21112,{"$f":"COUNTIF($L$7:$L$500,N24)","v":0},{"$f":"O24/$Q$4","v":0},{"$f":"IF(P24=0,0,(P24*((LOG(P24))/LOG(2))))","v":0},null,null,{"$f":"N24","v":21112},{"$f":"COUNTIF(L7:L11,T24)","v":0},{"$f":"U24/(W4-U25)","v":0},{"$f":"IF(V24=0,0,(V24*((LOG(V24))/LOG(2))))","v":0},null,{"$f":"N24","v":21112},{"$f":"COUNTIF(L12:L16,Y24)","v":0},{"$f":"Z24/(AB4-Z25)","v":0},{"$f":"IF(AA24=0,0,(AA24*((LOG(AA24))/LOG(2))))","v":0},null,{"$f":"N24","v":21112},{"$f":"COUNTIF(L17:L22,AD24)","v":0},{"$f":"AE24/(AG4-AE25)","v":0},{"$f":"IF(AF24=0,0,(AF24*((LOG(AF24))/LOG(2))))","v":0},null,{"$f":"N24","v":21112},{"$f":"COUNTIF(L23:L27,AI24)","v":0},{"$f":"AJ24/(AL4-AJ25)","v":0},{"$f":"IF(AK24=0,0,(AK24*((LOG(AK24))/LOG(2))))","v":0},null,{"$f":"N24","v":21112},{"$f":"COUNTIF(L28:L32,AN24)","v":0},{"$f":"AO24/(AQ4-AO25)","v":0},{"$f":"IF(AP24=0,0,(AP24*((LOG(AP24))/LOG(2))))","v":0},null,{"$f":"N24","v":21112},{"$f":"COUNTIF(L33:L37,AS24)","v":0},{"$f":"AT24/(AV4-AT25)","v":0},{"$f":"IF(AU24=0,0,(AU24*((LOG(AU24))/LOG(2))))","v":0}]
[12,10042,24,10050,13,10065,23,10077,13,10650,0,12121,null,21121,{"$f":"COUNTIF($L$7:$L$500,N25)","v":1},{"$f":"O25/$Q$4","v":3.3333333333333333E-2},{"$f":"IF(P25=0,0,(P25*((LOG(P25))/LOG(2))))","v":-0.16356301985361729},null,null,{"$f":"N25","v":21121},{"$f":"COUNTIF(L7:L11,T25)","v":1},null,null,null,{"$f":"N25","v":21121},{"$f":"COUNTIF(L12:L16,Y25)","v":0},null,null,null,{"$f":"N25","v":21121},{"$f":"COUNTIF(L17:L22,AD25)","v":0},null,null,null,{"$f":"N25","v":21121},{"$f":"COUNTIF(L23:L27,AI25)","v":0},null,null,null,{"$f":"N25","v":21121},{"$f":"COUNTIF(L28:L32,AN25)","v":0},null,null,null,{"$f":"N25","v":21121},{"$f":"COUNTIF(L33:L37,AS25)","v":0}]
[12,11705,24,11718,13,11728,23,11736,24,11751,0,12122,null,21122,{"$f":"COUNTIF($L$7:$L$500,N26)","v":0},{"$f":"O26/$Q$4","v":0},{"$f":"IF(P26=0,0,(P26*((LOG(P26))/LOG(2))))","v":0},null,null,{"$f":"N26","v":21122},{"$f":"COUNTIF(L7:L11,T26)","v":0},{"$f":"U26/(W4-U25)","v":0},{"$f":"IF(V26=0,0,(V26*((LOG(V26))/LOG(2))))","v":0},null,{"$f":"N26","v":21122},{"$f":"COUNTIF(L12:L16,Y26)","v":0},{"$f":"Z26/(AB4-Z25)","v":0},{"$f":"IF(AA26=0,0,(AA26*((LOG(AA26))/LOG(2))))","v":0},null,{"$f":"N26","v":21122},{"$f":"COUNTIF(L17:L22,AD26)","v":0},{"$f":"AE26/(AG4-AE25)","v":0},{"$f":"IF(AF26=0,0,(AF26*((LOG(AF26))/LOG(2))))","v":0},null,{"$f":"N26","v":21122},{"$f":"COUNTIF(L23:L27,AI26)","v":0},{"$f":"AJ26/(AL4-AJ25)","v":0},{"$f":"IF(AK26=0,0,(AK26*((LOG(AK26))/LOG(2))))","v":0},null,{"$f":"N26","v":21122},{"$f":"COUNTIF(L28:L32,AN26)","v":0},{"$f":"AO26/(AQ4-AO25)","v":0},{"$f":"IF(AP26=0,0,(AP26*((LOG(AP26))/LOG(2))))","v":0},null,{"$f":"N26","v":21122},{"$f":"COUNTIF(L33:L37,AS26)","v":0},{"$f":"AT26/(AV4-AT25)","v":0},{"$f":"IF(AU26=0,0,(AU26*((LOG(AU26))/LOG(2))))","v":0}]
[21,14074,11,14087,22,14094,14,14105,24,14113,0,21212,null,21211,{"$f":"COUNTIF($L$7:$L$500,N27)","v":0},{"$f":"O27/$Q$4","v":0},{"$f":"IF(P27=0,0,(P27*((LOG(P27))/LOG(2))))","v":0},null,null,{"$f":"N27","v":21211},{"$f":"COUNTIF(L7:L11,T27)","v":0},{"$f":"U27/(W4-U25)","v":0},{"$f":"IF(V27=0,0,(V27*((LOG(V27))/LOG(2))))","v":0},null,{"$f":"N27","v":21211},{"$f":"COUNTIF(L12:L16,Y27)","v":0},{"$f":"Z27/(AB4-Z25)","v":0},{"$f":"IF(AA27=0,0,(AA27*((LOG(AA27))/LOG(2))))","v":0},null,{"$f":"N27","v":21211},{"$f":"COUNTIF(L17:L22,AD27)","v":0},{"$f":"AE27/(AG4-AE25)","v":0},{"$f":"IF(AF27=0,0,(AF27*((LOG(AF27))/LOG(2))))","v":0},null,{"$f":"N27","v":21211},{"$f":"COUNTIF(L23:L27,AI27)","v":0},{"$f":"AJ27/(AL4-AJ25)","v":0},{"$f":"IF(AK27=0,0,(AK27*((LOG(AK27))/LOG(2))))","v":0},null,{"$f":"N27","v":21211},{"$f":"COUNTIF(L28:L32,AN27)","v":0},{"$f":"AO27/(AQ4-AO25)","v":0},{"$f":"IF(AP27=0,0,(AP27*((LOG(AP27))/LOG(2))))","v":0},null,{"$f":"N27","v":21211},{"$f":"COUNTIF(L33:L37,AS27)","v":0},{"$f":"AT27/(AV4-AT25)","v":0},{"$f":"IF(AU27=0,0,(AU27*((LOG(AU27))/LOG(2))))","v":0}]
[12,14562,24,14572,24,14584,23,14601,24,14613,0,12222,null,21212,{"$f":"COUNTIF($L$7:$L$500,N28)","v":2},{"$f":"O28/$Q$4","v":6.6666666666666666E-2},{"$f":"IF(P28=0,0,(P28*((LOG(P28))/LOG(2))))","v":-0.26045937304056793},null,null,{"$f":"N28","v":21212},{"$f":"COUNTIF(L7:L11,T28)","v":1},{"$f":"U28/(W4-U25)","v":0.25},{"$f":"IF(V28=0,0,(V28*((LOG(V28))/LOG(2))))","v":-0.5},null,{"$f":"N28","v":21212},{"$f":"COUNTIF(L12:L16,Y28)","v":0},{"$f":"Z28/(AB4-Z25)","v":0},{"$f":"IF(AA28=0,0,(AA28*((LOG(AA28))/LOG(2))))","v":0},null,{"$f":"N28","v":21212},{"$f":"COUNTIF(L17:L22,AD28)","v":0},{"$f":"AE28/(AG4-AE25)","v":0},{"$f":"IF(AF28=0,0,(AF28*((LOG(AF28))/LOG(2))))","v":0},null,{"$f":"N28","v":21212},{"$f":"COUNTIF(L23:L27,AI28)","v":1},{"$f":"AJ28/(AL4-AJ25)","v":0.2},{"$f":"IF(AK28=0,0,(AK28*((LOG(AK28))/LOG(2))))","v":-0.46438561897747244},null,{"$f":"N28","v":21212},{"$f":"COUNTIF(L28:L32,AN28)","v":0},{"$f":"AO28/(AQ4-AO25)","v":0},{"$f":"IF(AP28=0,0,(AP28*((LOG(AP28))/LOG(2))))","v":0},null,{"$f":"N28","v":21212},{"$f":"COUNTIF(L33:L37,AS28)","v":0},{"$f":"AT28/(AV4-AT25)","v":0},{"$f":"IF(AU28=0,0,(AU28*((LOG(AU28))/LOG(2))))","v":0}]
[12,14767,24,14778,13,14790,14,14799,24,14833,0,12112,null,21221,{"$f":"COUNTIF($L$7:$L$500,N29)","v":0},{"$f":"O29/$Q$4","v":0},{"$f":"IF(P29=0,0,(P29*((LOG(P29))/LOG(2))))","v":0},null,null,{"$f":"N29","v":21221},{"$f":"COUNTIF(L7:L11,T29)","v":0},{"$f":"U29/(W4-U25)","v":0},{"$f":"IF(V29=0,0,(V29*((LOG(V29))/LOG(2))))","v":0},null,{"$f":"N29","v":21221},{"$f":"COUNTIF(L12:L16,Y29)","v":0},{"$f":"Z29/(AB4-Z25)","v":0},{"$f":"IF(AA29=0,0,(AA29*((LOG(AA29))/LOG(2))))","v":0},null,{"$f":"N29","v":21221},{"$f":"COUNTIF(L17:L22,AD29)","v":0},{"$f":"AE29/(AG4-AE25)","v":0},{"$f":"IF(AF29=0,0,(AF29*((LOG(AF29))/LOG(2))))","v":0},null,{"$f":"N29","v":21221},{"$f":"COUNTIF(L23:L27,AI29)","v":0},{"$f":"AJ29/(AL4-AJ25)","v":0},{"$f":"IF(AK29=0,0,(AK29*((LOG(AK29))/LOG(2))))","v":0},null,{"$f":"N29","v":21221},{"$f":"COUNTIF(L28:L32,AN29)","v":0},{"$f":"AO29/(AQ4-AO25)","v":0},{"$f":"IF(AP29=0,0,(AP29*((LOG(AP29))/LOG(2))))","v":0},null,{"$f":"N29","v":21221},{"$f":"COUNTIF(L33:L37,AS29)","v":0},{"$f":"AT29/(AV4-AT25)","v":0},{"$f":"IF(AU29=0,0,(AU29*((LOG(AU29))/LOG(2))))","v":0}]
[12,15203,13,15271,24,15282,23,15294,13,15306,0,11221,null,21222,{"$f":"COUNTIF($L$7:$L$500,N30)","v":0},{"$f":"O30/$Q$4","v":0},{"$f":"IF(P30=0,0,(P30*((LOG(P30))/LOG(2))))","v":0},null,null,{"$f":"N30","v":21222},{"$f":"COUNTIF(L7:L11,T30)","v":0},{"$f":"U30/(W4-U25)","v":0},{"$f":"IF(V30=0,0,(V30*((LOG(V30))/LOG(2))))","v":0},null,{"$f":"N30","v":21222},{"$f":"COUNTIF(L12:L16,Y30)","v":0},{"$f":"Z30/(AB4-Z25)","v":0},{"$f":"IF(AA30=0,0,(AA30*((LOG(AA30))/LOG(2))))","v":0},null,{"$f":"N30","v":21222},{"$f":"COUNTIF(L17:L22,AD30)","v":0},{"$f":"AE30/(AG4-AE25)","v":0},{"$f":"IF(AF30=0,0,(AF30*((LOG(AF30))/LOG(2))))","v":0},null,{"$f":"N30","v":21222},{"$f":"COUNTIF(L23:L27,AI30)","v":0},{"$f":"AJ30/(AL4-AJ25)","v":0},{"$f":"IF(AK30=0,0,(AK30*((LOG(AK30))/LOG(2))))","v":0},null,{"$f":"N30","v":21222},{"$f":"COUNTIF(L28:L32,AN30)","v":0},{"$f":"AO30/(AQ4-AO25)","v":0},{"$f":"IF(AP30=0,0,(AP30*((LOG(AP30))/LOG(2))))","v":0},null,{"$f":"N30","v":21222},{"$f":"COUNTIF(L33:L37,AS30)","v":0},{"$f":"AT30/(AV4-AT25)","v":0},{"$f":"IF(AU30=0,0,(AU30*((LOG(AU30))/LOG(2))))","v":0}]
[21,15529,22,15585,24,15614,23,15626,24,15653,0,22222,null,22111,{"$f":"COUNTIF($L$7:$L$500,N31)","v":0},{"$f":"O31/$Q$4","v":0},{"$f":"IF(P31=0,0,(P31*((LOG(P31))/LOG(2))))","v":0},null,null,{"$f":"N31","v":22111},{"$f":"COUNTIF(L7:L11,T31)","v":0},{"$f":"U31/(W4-U25)","v":0},{"$f":"IF(V31=0,0,(V31*((LOG(V31))/LOG(2))))","v":0},null,{"$f":"N31","v":22111},{"$f":"COUNTIF(L12:L16,Y31)","v":0},{"$f":"Z31/(AB4-Z25)","v":0},{"$f":"IF(AA31=0,0,(AA31*((LOG(AA31))/LOG(2))))","v":0},null,{"$f":"N31","v":22111},{"$f":"COUNTIF(L17:L22,AD31)","v":0},{"$f":"AE31/(AG4-AE25)","v":0},{"$f":"IF(AF31=0,0,(AF31*((LOG(AF31))/LOG(2))))","v":0},null,{"$f":"N31","v":22111},{"$f":"COUNTIF(L23:L27,AI31)","v":0},{"$f":"AJ31/(AL4-AJ25)","v":0},{"$f":"IF(AK31=0,0,(AK31*((LOG(AK31))/LOG(2))))","v":0},null,{"$f":"N31","v":22111},{"$f":"COUNTIF(L28:L32,AN31)","v":0},{"$f":"AO31/(AQ4-AO25)","v":0},{"$f":"IF(AP31=0,0,(AP31*((LOG(AP31))/LOG(2))))","v":0},null,{"$f":"N31","v":22111},{"$f":"COUNTIF(L33:L37,AS31)","v":0},{"$f":"AT31/(AV4-AT25)","v":0},{"$f":"IF(AU31=0,0,(AU31*((LOG(AU31))/LOG(2))))","v":0}]
[12,15773,24,15788,13,15805,23,15819,13,15839,0,12121,null,22112,{"$f":"COUNTIF($L$7:$L$500,N32)","v":0},{"$f":"O32/$Q$4","v":0},{"$f":"IF(P32=0,0,(P32*((LOG(P32))/LOG(2))))","v":0},null,null,{"$f":"N32","v":22112},{"$f":"COUNTIF(L7:L11,T32)","v":0},{"$f":"U32/(W4-U25)","v":0},{"$f":"IF(V32=0,0,(V32*((LOG(V32))/LOG(2))))","v":0},null,{"$f":"N32","v":22112},{"$f":"COUNTIF(L12:L16,Y32)","v":0},{"$f":"Z32/(AB4-Z25)","v":0},{"$f":"IF(AA32=0,0,(AA32*((LOG(AA32))/LOG(2))))","v":0},null,{"$f":"N32","v":22112},{"$f":"COUNTIF(L17:L22,AD32)","v":0},{"$f":"AE32/(AG4-AE25)","v":0},{"$f":"IF(AF32=0,0,(AF32*((LOG(AF32))/LOG(2))))","v":0},null,{"$f":"N32","v":22112},{"$f":"COUNTIF(L23:L27,AI32)","v":0},{"$f":"AJ32/(AL4-AJ25)","v":0},{"$f":"IF(AK32=0,0,(AK32*((LOG(AK32))/LOG(2))))","v":0},null,{"$f":"N32","v":22112},{"$f":"COUNTIF(L28:L32,AN32)","v":0},{"$f":"AO32/(AQ4-AO25)","v":0},{"$f":"IF(AP32=0,0,(AP32*((LOG(AP32))/LOG(2))))","v":0},null,{"$f":"N32","v":22112},{"$f":"COUNTIF(L33:L37,AS32)","v":0},{"$f":"AT32/(AV4-AT25)","v":0},{"$f":"IF(AU32=0,0,(AU32*((LOG(AU32))/LOG(2))))","v":0}]
[12,16133,24,16160,13,16209,14,16223,13,16233,0,12111,null,22121,{"$f":"COUNTIF($L$7:$L$500,N33)","v":0},{"$f":"O33/$Q$4","v":0},{"$f":"IF(P33=0,0,(P33*((LOG(P33))/LOG(2))))","v":0},null,null,{"$f":"N33","v":22121},{"$f":"COUNTIF(L7:L11,T33)","v":0},{"$f":"U33/(W4-U25)","v":0},{"$f":"IF(V33=0,0,(V33*((LOG(V33))/LOG(2))))","v":0},null,{"$f":"N33","v":22121},{"$f":"COUNTIF(L12:L16,Y33)","v":0},{"$f":"Z33/(AB4-Z25)","v":0},{"$f":"IF(AA33=0,0,(AA33*((LOG(AA33))/LOG(2))))","v":0},null,{"$f":"N33","v":22121},{"$f":"COUNTIF(L17:L22,AD33)","v":0},{"$f":"AE33/(AG4-AE25)","v":0},{"$f":"IF(AF33=0,0,(AF33*((LOG(AF33))/LOG(2))))","v":0},null,{"$f":"N33","v":22121},{"$f":"COUNTIF(L23:L27,AI33)","v":0},{"$f":"AJ33/(AL4-AJ25)","v":0},{"$f":"IF(AK33=0,0,(AK33*((LOG(AK33))/LOG(2))))","v":0},null,{"$f":"N33","v":22121},{"$f":"COUNTIF(L28:L32,AN33)","v":0},{"$f":"AO33/(AQ4-AO25)","v":0},{"$f":"IF(AP33=0,0,(AP33*((LOG(AP33))/LOG(2))))","v":0},null,{"$f":"N33","v":22121},{"$f":"COUNTIF(L33:L37,AS33)","v":0},{"$f":"AT33/(AV4-AT25)","v":0},{"$f":"IF(AU33=0,0,(AU33*((LOG(AU33))/LOG(2))))","v":0}]
[12,16831,24,16847,24,16861,23,16878,13,16902,0,12221,null,22122,{"$f":"COUNTIF($L$7:$L$500,N34)","v":0},{"$f":"O34/$Q$4","v":0},{"$f":"IF(P34=0,0,(P34*((LOG(P34))/LOG(2))))","v":0},null,null,{"$f":"N34","v":22122},{"$f":"COUNTIF(L7:L11,T34)","v":0},{"$f":"U34/(W4-U25)","v":0},{"$f":"IF(V34=0,0,(V34*((LOG(V34))/LOG(2))))","v":0},null,{"$f":"N34","v":22122},{"$f":"COUNTIF(L12:L16,Y34)","v":0},{"$f":"Z34/(AB4-Z25)","v":0},{"$f":"IF(AA34=0,0,(AA34*((LOG(AA34))/LOG(2))))","v":0},null,{"$f":"N34","v":22122},{"$f":"COUNTIF(L17:L22,AD34)","v":0},{"$f":"AE34/(AG4-AE25)","v":0},{"$f":"IF(AF34=0,0,(AF34*((LOG(AF34))/LOG(2))))","v":0},null,{"$f":"N34","v":22122},{"$f":"COUNTIF(L23:L27,AI34)","v":0},{"$f":"AJ34/(AL4-AJ25)","v":0},{"$f":"IF(AK34=0,0,(AK34*((LOG(AK34))/LOG(2))))","v":0},null,{"$f":"N34","v":22122},{"$f":"COUNTIF(L28:L32,AN34)","v":0},{"$f":"AO34/(AQ4-AO25)","v":0},{"$f":"IF(AP34=0,0,(AP34*((LOG(AP34))/LOG(2))))","v":0},null,{"$f":"N34","v":22122},{"$f":"COUNTIF(L33:L37,AS34)","v":0},{"$f":"AT34/(AV4-AT25)","v":0},{"$f":"IF(AU34=0,0,(AU34*((LOG(AU34))/LOG(2))))","v":0}]
[12,20300,13,20326,13,20341,14,20380,13,20399,0,11111,null,22211,{"$f":"COUNTIF($L$7:$L$500,N35)","v":0},{"$f":"O35/$Q$4","v":0},{"$f":"IF(P35=0,0,(P35*((LOG(P35))/LOG(2))))","v":0},null,null,{"$f":"N35","v":22211},{"$f":"COUNTIF(L7:L11,T35)","v":0},{"$f":"U35/(W4-U25)","v":0},{"$f":"IF(V35=0,0,(V35*((LOG(V35))/LOG(2))))","v":0},null,{"$f":"N35","v":22211},{"$f":"COUNTIF(L12:L16,Y35)","v":0},{"$f":"Z35/(AB4-Z25)","v":0},{"$f":"IF(AA35=0,0,(AA35*((LOG(AA35))/LOG(2))))","v":0},null,{"$f":"N35","v":22211},{"$f":"COUNTIF(L17:L22,AD35)","v":0},{"$f":"AE35/(AG4-AE25)","v":0},{"$f":"IF(AF35=0,0,(AF35*((LOG(AF35))/LOG(2))))","v":0},null,{"$f":"N35","v":22211},{"$f":"COUNTIF(L23:L27,AI35)","v":0},{"$f":"AJ35/(AL4-AJ25)","v":0},{"$f":"IF(AK35=0,0,(AK35*((LOG(AK35))/LOG(2))))","v":0},null,{"$f":"N35","v":22211},{"$f":"COUNTIF(L28:L32,AN35)","v":0},{"$f":"AO35/(AQ4-AO25)","v":0},{"$f":"IF(AP35=0,0,(AP35*((LOG(AP35))/LOG(2))))","v":0},null,{"$f":"N35","v":22211},{"$f":"COUNTIF(L33:L37,AS35)","v":0},{"$f":"AT35/(AV4-AT25)","v":0},{"$f":"IF(AU35=0,0,(AU35*((LOG(AU35))/LOG(2))))","v":0}]
[12,20573,13,20590,13,20598,23,20607,13,20622,0,11121,null,22212,{"$f":"COUNTIF($L$7:$L$500,N36)","v":0},{"$f":"O36/$Q$4","v":0},{"$f":"IF(P36=0,0,(P36*((LOG(P36))/LOG(2))))","v":0},null,null,{"$f":"N36","v":22212},{"$f":"COUNTIF(L7:L11,T36)","v":0},{"$f":"U36/(W4-U25)","v":0},{"$f":"IF(V36=0,0,(V36*((LOG(V36))/LOG(2))))","v":0},null,{"$f":"N36","v":22212},{"$f":"COUNTIF(L12:L16,Y36)","v":0},{"$f":"Z36/(AB4-Z25)","v":0},{"$f":"IF(AA36=0,0,(AA36*((LOG(AA36))/LOG(2))))","v":0},null,{"$f":"N36","v":22212},{"$f":"COUNTIF(L17:L22,AD36)","v":0},{"$f":"AE36/(AG4-AE25)","v":0},{"$f":"IF(AF36=0,0,(AF36*((LOG(AF36))/LOG(2))))","v":0},null,{"$f":"N36","v":22212},{"$f":"COUNTIF(L23:L27,AI36)","v":0},{"$f":"AJ36/(AL4-AJ25)","v":0},{"$f":"IF(AK36=0,0,(AK36*((LOG(AK36))/LOG(2))))","v":0},null,{"$f":"N36","v":22212},{"$f":"COUNTIF(L28:L32,AN36)","v":0},{"$f":"AO36/(AQ4-AO25)","v":0},{"$f":"IF(AP36=0,0,(AP36*((LOG(AP36))/LOG(2))))","v":0},null,{"$f":"N36","v":22212},{"$f":"COUNTIF(L33:L37,AS36)","v":0},{"$f":"AT36/(AV4-AT25)","v":0},{"$f":"IF(AU36=0,0,(AU36*((LOG(AU36))/LOG(2))))","v":0}]
[21,23974,11,23991,null,null,null,null,null,null,null,21,null,22221,{"$f":"COUNTIF($L$7:$L$500,N37)","v":0},{"$f":"O37/$Q$4","v":0},{"$f":"IF(P37=0,0,(P37*((LOG(P37))/LOG(2))))","v":0},null,null,{"$f":"N37","v":22221},{"$f":"COUNTIF(L7:L11,T37)","v":0},{"$f":"U37/(W4-U25)","v":0},{"$f":"IF(V37=0,0,(V37*((LOG(V37))/LOG(2))))","v":0},null,{"$f":"N37","v":22221},{"$f":"COUNTIF(L12:L16,Y37)","v":0},{"$f":"Z37/(AB4-Z25)","v":0},{"$f":"IF(AA37=0,0,(AA37*((LOG(AA37))/LOG(2))))","v":0},null,{"$f":"N37","v":22221},{"$f":"COUNTIF(L17:L22,AD37)","v":0},{"$f":"AE37/(AG4-AE25)","v":0},{"$f":"IF(AF37=0,0,(AF37*((LOG(AF37))/LOG(2))))","v":0},null,{"$f":"N37","v":22221},{"$f":"COUNTIF(L23:L27,AI37)","v":0},{"$f":"AJ37/(AL4-AJ25)","v":0},{"$f":"IF(AK37=0,0,(AK37*((LOG(AK37))/LOG(2))))","v":0},null,{"$f":"N37","v":22221},{"$f":"COUNTIF(L28:L32,AN37)","v":0},{"$f":"AO37/(AQ4-AO25)","v":0},{"$f":"IF(AP37=0,0,(AP37*((LOG(AP37))/LOG(2))))","v":0},null,{"$f":"N37","v":22221},{"$f":"COUNTIF(L33:L37,AS37)","v":0},{"$f":"AT37/(AV4-AT25)","v":0},{"$f":"IF(AU37=0,0,(AU37*((LOG(AU37))/LOG(2))))","v":0}]
[null,null,null,null,null,null,null,null,null,null,null,null,null,22222,{"$f":"COUNTIF($L$7:$L$500,N38)","v":1},{"$f":"O38/$Q$4","v":3.3333333333333333E-2},{"$f":"IF(P38=0,0,(P38*((LOG(P38))/LOG(2))))","v":-0.16356301985361729},null,null,{"$f":"N38","v":22222},{"$f":"COUNTIF(L7:L11,T38)","v":0},{"$f":"U38/(W4-U25)","v":0},{"$f":"IF(V38=0,0,(V38*((LOG(V38))/LOG(2))))","v":0},null,{"$f":"N38","v":22222},{"$f":"COUNTIF(L12:L16,Y38)","v":0},{"$f":"Z38/(AB4-Z25)","v":0},{"$f":"IF(AA38=0,0,(AA38*((LOG(AA38))/LOG(2))))","v":0},null,{"$f":"N38","v":22222},{"$f":"COUNTIF(L17:L22,AD38)","v":0},{"$f":"AE38/(AG4-AE25)","v":0},{"$f":"IF(AF38=0,0,(AF38*((LOG(AF38))/LOG(2))))","v":0},null,{"$f":"N38","v":22222},{"$f":"COUNTIF(L23:L27,AI38)","v":0},{"$f":"AJ38/(AL4-AJ25)","v":0},{"$f":"IF(AK38=0,0,(AK38*((LOG(AK38))/LOG(2))))","v":0},null,{"$f":"N38","v":22222},{"$f":"COUNTIF(L28:L32,AN38)","v":1},{"$f":"AO38/(AQ4-AO25)","v":0.2},{"$f":"IF(AP38=0,0,(AP38*((LOG(AP38))/LOG(2))))","v":-0.46438561897747244},null,{"$f":"N38","v":22222},{"$f":"COUNTIF(L33:L37,AS38)","v":0},{"$f":"AT38/(AV4-AT25)","v":0},{"$f":"IF(AU38=0,0,(AU38*((LOG(AU38))/LOG(2))))","v":0}]
[null,null,null,null,null,null,null,null,null,null,null,null,null,null,null,{"$f":"SUM(P7:P38)","v":0.99999999999999989},{"$f":"-SUM(Q7:Q38)","v":3.4314018453921715},null,null,null,null,{"$f":"SUM(V7:V38)","v":1},{"$f":"-SUM(W7:W38)","v":1.5},null,null,null,{"$f":"SUM(AA7:AA38)","v":1},{"$f":"-SUM(AB7:AB38)","v":1.3709505944546687},null,null,null,{"$f":"SUM(AF7:AF38)","v":0.99999999999999989},{"$f":"-SUM(AG7:AG38)","v":2.2516291673878226},null,null,null,{"$f":"SUM(AK7:AK38)","v":1},{"$f":"-SUM(AL7:AL38)","v":2.3219280948873622},null,null,null,{"$f":"SUM(AP7:AP38)","v":1},{"$f":"-SUM(AQ7:AQ38)","v":2.3219280948873622},null,null,null,{"$f":"SUM(AU7:AU38)","v":1},{"$f":"-SUM(AV7:AV38)","v":2}]
[null,null,null,null,null,null,null,null,null,null,null,null,null,null,null,"U=",{"$f":"Q39/(LOG(Q4)/LOG(2))","v":0.69930270066814737},null,null,null,null,"U1=",{"$f":"W39/(LOG(W4)/LOG(2))","v":0.64601483711008945},null,null,null,"U2=",{"$f":"AB39/(LOG(AB4)/LOG(2))","v":0.5904362833084088},null,null,null,"U3=",{"$f":"AG39/(LOG(AG4)/LOG(2))","v":0.87104906425515272},null,null,null,"U4=",{"$f":"AL39/(LOG(AL4)/LOG(2))","v":0.99999999999999978},null,null,null,"U5=",{"$f":"AQ39/(LOG(AQ4)/LOG(2))","v":0.99999999999999978},null,null,null,"U6=",{"$f":"AV39/(LOG(AV4)/LOG(2))","v":1}]
[]
[]
[null,null,null,null,null,null,null,null,null,null,null,null,null,"Total Target Seq"]
[null,null,null,null,null,null,null,null,null,null,null,null,null,{"$f":"COUNTIF(L7:L37,G3)","v":1},null,5,5,6,5,5,5]
[null,null,null,null,null,null,null,null,null,null,null,null,null,null,null,"% of reinforcement given in 6 equal intervals based on number of trials "]
[null,null,null,null,null,null,null,null,null,null,null,null,null,null,null,"%_1","%_2","%_3","%_4","%_5","%_6"]
[null,null,null,null,null,null,null,null,null,null,null,null,null,null,"target sequence",{"$f":"$G$3","v":21121},{"$f":"$G$3","v":21121},{"$f":"$G$3","v":21121},{"$f":"$G$3","v":21121},{"$f":"$G$3","v":21121},{"$f":"$G$3","v":21121}]
[null,null,null,null,null,null,null,null,null,null,null,null,null,null,"total reinforcement",{"$f":"U25","v":1},{"$f":"Z25","v":0},{"$f":"AE25","v":0},{"$f":"AJ25","v":0},{"$f":"AO25","v":0},{"$f":"AT25","v":0}]
[null,null,null,null,null,null,null,null,null,null,null,null,null,null,"% target"]
[null,null,null,null,null,null,null,null,null,null,null,null,null,null,"CCRF"]
[null,null,null,null,null,null,null,null,null,null,null,null,null,null,"% CCRf"]
[null,null,null,null,null,null,null,null,null,null,null,null,null,null,"average response rate",{"$f":"J11/P44","v":1149},{"$f":"(J16-J11)/Q44","v":222.2},{"$f":"(J22-J16)/R44","v":246.66666666666666},{"$f":"(J27-J22)/S44","v":1155.4000000000001},{"$f":"(J32-J27)/T44","v":345.2},{"$f":"(J37-J32)/U44","v":-3167.8}]

{"sheet":"!N130A40.105","index":30,"n_rows":52,"n_cols":48,"rows_kept":52,"cut":false,"hidden":false,"merged":[[4,39,4,42],[5,39,5,40],[4,44,4,47],[5,44,5,45],[4,24,4,27],[5,24,5,25],[4,29,4,32],[5,29,5,30],[4,34,4,37],[5,34,5,35],[1,1,1,2],[5,13,5,14],[42,13,42,14],[43,13,43,14],[4,19,4,22],[5,19,5,20]]}
["Report for:!N130A40.105"]
["Date:","<date>"]
["Hen:","<hen>",null,null,null,"Correct Sequence",{"$f":"Start!J2","v":21121},null,null,null,null,null,null,null,null,"Total Sequences in Data",{"$f":"4994-COUNTBLANK(L7:L5000)","v":18},null,null,null,null,"Total Sequences in Block Data",{"$f":"COUNTA(L7:L9)","v":3},null,null,null,"Total Sequences in Block Data",{"$f":"COUNTA(L10:L12)","v":3},null,null,null,"Total Sequences in Block Data",{"$f":"COUNTA(L13:L15)","v":3},null,null,null,"Total Sequences in Block Data",{"$f":"COUNTA(L16:L18)","v":3},null,null,null,"Total Sequences in Block Data",{"$f":"COUNTA(L19:L21)","v":3},null,null,null,"Total Sequences in Block Data",{"$f":"COUNTA(L22:L24)","v":3}]
[null,null,null,null,null,null,null,null,null,null,null,null,null,null,null,"Total Sequences in Summary",{"$f":"SUM(O7:O38)","v":17},null,null,null,null,"Total Sequences in Block Summary",{"$f":"SUM(U7:U38)","v":3},null,null,null,"Total Sequences in Block Summary",{"$f":"SUM(Z7:Z38)","v":3},null,null,null,"Total Sequences in Block Summary",{"$f":"SUM(AE7:AE38)","v":3},null,null,null,"Total Sequences in Block Summary",{"$f":"SUM(AJ7:AJ38)","v":3},null,null,null,"Total Sequences in Block Summary",{"$f":"SUM(AO7:AO38)","v":3},null,null,null,"Total Sequences in Block Summary",{"$f":"SUM(AT7:AT38)","v":2}]
[null,null,null,null,null,null,null,null,null,null,null,null,null,null,null,null,null,null,null,"Block 1",null,null,null,null,"Block 2",null,null,null,null,"Block 3",null,null,null,null,"Block 4",null,null,null,null,"Block 5",null,null,null,null,"Block 6"]
["Sequence\nComponent\n1","Time\n1","Sequence\nComponent\n2","Time\n2","Sequence\nComponent\n3","Time\n3","Sequence\nComponent\n4","Time\n4","Sequence\nComponent\n5","Time\n5","Correct?\n0=No 1=Yes","Sequence",null,"Frequency",null,"Relative Frequency","Variability",null,null,"Frequency",null,"Relative Frequency","Variability",null,"Frequency",null,"Relative Frequency","Variability",null,"Frequency",null,"Relative Frequency","Variability",null,"Frequency",null,"Relative Frequency","Variability",null,"Frequency",null,"Relative Frequency","Variability",null,"Frequency",null,"Relative Frequency","Variability"]
[12,38,24,44,13,71,23,77,13,92,0,12121,null,11111,{"$f":"COUNTIF($L$7:$L$500,N7)","v":2},{"$f":"O7/$Q$4","v":0.11764705882352941},{"$f":"IF(P7=0,0,(P7*((LOG(P7))/LOG(2))))","v":-0.36323092250003997},null,null,{"$f":"N7","v":11111},{"$f":"COUNTIF(L7:L9,T7)","v":0},{"$f":"U7/(W4-U25)","v":0},{"$f":"IF(V7=0,0,(V7*((LOG(V7))/LOG(2))))","v":0},null,{"$f":"N7","v":11111},{"$f":"COUNTIF(L10:L12,Y7)","v":1},{"$f":"Z7/(AB4-Z25)","v":0.33333333333333331},{"$f":"IF(AA7=0,0,(AA7*((LOG(AA7))/LOG(2))))","v":-0.52832083357371862},null,{"$f":"N7","v":11111},{"$f":"COUNTIF(L13:L15,AD7)","v":0},{"$f":"AE7/(AG4-AE25)","v":0},{"$f":"IF(AF7=0,0,(AF7*((LOG(AF7))/LOG(2))))","v":0},null,{"$f":"N7","v":11111},{"$f":"COUNTIF(L16:L18,AI7)","v":1},{"$f":"AJ7/(AL4-AJ25)","v":0.33333333333333331},{"$f":"IF(AK7=0,0,(AK7*((LOG(AK7))/LOG(2))))","v":-0.52832083357371862},null,{"$f":"N7","v":11111},{"$f":"COUNTIF(L19:L21,AN7)","v":0},{"$f":"AO7/(AQ4-AO25)","v":0},{"$f":"IF(AP7=0,0,(AP7*((LOG(AP7))/LOG(2))))","v":0},null,{"$f":"N7","v":11111},{"$f":"COUNTIF(L22:L24,AS7)","v":0},{"$f":"AT7/(AV4-AT25)","v":0},{"$f":"IF(AU7=0,0,(AU7*((LOG(AU7))/LOG(2))))","v":0}]
[12,199,13,218,24,231,23,255,24,281,0,11222,null,11112,{"$f":"COUNTIF($L$7:$L$500,N8)","v":1},{"$f":"O8/$Q$4","v":5.8823529411764705E-2},{"$f":"IF(P8=0,0,(P8*((LOG(P8))/LOG(2))))","v":-0.24043899066178465},null,null,{"$f":"N8","v":11112},{"$f":"COUNTIF(L7:L9,T8)","v":0},{"$f":"U8/(W4-U25)","v":0},{"$f":"IF(V8=0,0,(V8*((LOG(V8))/LOG(2))))","v":0},null,{"$f":"N8","v":11112},{"$f":"COUNTIF(L10:L12,Y8)","v":0},{"$f":"Z8/(AB4-Z25)","v":0},{"$f":"IF(AA8=0,0,(AA8*((LOG(AA8))/LOG(2))))","v":0},null,{"$f":"N8","v":11112},{"$f":"COUNTIF(L13:L15,AD8)","v":0},{"$f":"AE8/(AG4-AE25)","v":0},{"$f":"IF(AF8=0,0,(AF8*((LOG(AF8))/LOG(2))))","v":0},null,{"$f":"N8","v":11112},{"$f":"COUNTIF(L16:L18,AI8)","v":0},{"$f":"AJ8/(AL4-AJ25)","v":0},{"$f":"IF(AK8=0,0,(AK8*((LOG(AK8))/LOG(2))))","v":0},null,{"$f":"N8","v":11112},{"$f":"COUNTIF(L19:L21,AN8)","v":1},{"$f":"AO8/(AQ4-AO25)","v":0.33333333333333331},{"$f":"IF(AP8=0,0,(AP8*((LOG(AP8))/LOG(2))))","v":-0.52832083357371862},null,{"$f":"N8","v":11112},{"$f":"COUNTIF(L22:L24,AS8)","v":0},{"$f":"AT8/(AV4-AT25)","v":0},{"$f":"IF(AU8=0,0,(AU8*((LOG(AU8))/LOG(2))))","v":0}]
[12,385,24,392,13,402,14,417,24,426,0,12112,null,11121,{"$f":"COUNTIF($L$7:$L$500,N9)","v":2},{"$f":"O9/$Q$4","v":0.11764705882352941},{"$f":"IF(P9=0,0,(P9*((LOG(P9))/LOG(2))))","v":-0.36323092250003997},null,null,{"$f":"N9","v":11121},{"$f":"COUNTIF(L7:L9,T9)","v":0},{"$f":"U9/(W4-U25)","v":0},{"$f":"IF(V9=0,0,(V9*((LOG(V9))/LOG(2))))","v":0},null,{"$f":"N9","v":11121},{"$f":"COUNTIF(L10:L12,Y9)","v":0},{"$f":"Z9/(AB4-Z25)","v":0},{"$f":"IF(AA9=0,0,(AA9*((LOG(AA9))/LOG(2))))","v":0},null,{"$f":"N9","v":11121},{"$f":"COUNTIF(L13:L15,AD9)","v":1},{"$f":"AE9/(AG4-AE25)","v":0.33333333333333331},{"$f":"IF(AF9=0,0,(AF9*((LOG(AF9))/LOG(2))))","v":-0.52832083357371862},null,{"$f":"N9","v":11121},{"$f":"COUNTIF(L16:L18,AI9)","v":0},{"$f":"AJ9/(AL4-AJ25)","v":0},{"$f":"IF(AK9=0,0,(AK9*((LOG(AK9))/LOG(2))))","v":0},null,{"$f":"N9","v":11121},{"$f":"COUNTIF(L19:L21,AN9)","v":0},{"$f":"AO9/(AQ4-AO25)","v":0},{"$f":"IF(AP9=0,0,(AP9*((LOG(AP9))/LOG(2))))","v":0},null,{"$f":"N9","v":11121},{"$f":"COUNTIF(L22:L24,AS9)","v":1},{"$f":"AT9/(AV4-AT25)","v":0.5},{"$f":"IF(AU9=0,0,(AU9*((LOG(AU9))/LOG(2))))","v":-0.5}]
[12,557,24,564,13,584,23,595,24,618,0,12122,null,11122,{"$f":"COUNTIF($L$7:$L$500,N10)","v":2},{"$f":"O10/$Q$4","v":0.11764705882352941},{"$f":"IF(P10=0,0,(P10*((LOG(P10))/LOG(2))))","v":-0.36323092250003997},null,null,{"$f":"N10","v":11122},{"$f":"COUNTIF(L7:L9,T10)","v":0},{"$f":"U10/(W4-U25)","v":0},{"$f":"IF(V10=0,0,(V10*((LOG(V10))/LOG(2))))","v":0},null,{"$f":"N10","v":11122},{"$f":"COUNTIF(L10:L12,Y10)","v":0},{"$f":"Z10/(AB4-Z25)","v":0},{"$f":"IF(AA10=0,0,(AA10*((LOG(AA10))/LOG(2))))","v":0},null,{"$f":"N10","v":11122},{"$f":"COUNTIF(L13:L15,AD10)","v":0},{"$f":"AE10/(AG4-AE25)","v":0},{"$f":"IF(AF10=0,0,(AF10*((LOG(AF10))/LOG(2))))","v":0},null,{"$f":"N10","v":11122},{"$f":"COUNTIF(L16:L18,AI10)","v":1},{"$f":"AJ10/(AL4-AJ25)","v":0.33333333333333331},{"$f":"IF(AK10=0,0,(AK10*((LOG(AK10))/LOG(2))))","v":-0.52832083357371862},null,{"$f":"N10","v":11122},{"$f":"COUNTIF(L19:L21,AN10)","v":1},{"$f":"AO10/(AQ4-AO25)","v":0.33333333333333331},{"$f":"IF(AP10=0,0,(AP10*((LOG(AP10))/LOG(2))))","v":-0.52832083357371862},null,{"$f":"N10","v":11122},{"$f":"COUNTIF(L22:L24,AS10)","v":0},{"$f":"AT10/(AV4-AT25)","v":0},{"$f":"IF(AU10=0,0,(AU10*((LOG(AU10))/LOG(2))))","v":0}]
[12,747,13,758,13,771,14,800,13,816,0,11111,null,11211,{"$f":"COUNTIF($L$7:$L$500,N11)","v":0},{"$f":"O11/$Q$4","v":0},{"$f":"IF(P11=0,0,(P11*((LOG(P11))/LOG(2))))","v":0},null,null,{"$f":"N11","v":11211},{"$f":"COUNTIF(L7:L9,T11)","v":0},{"$f":"U11/(W4-U25)","v":0},{"$f":"IF(V11=0,0,(V11*((LOG(V11))/LOG(2))))","v":0},null,{"$f":"N11","v":11211},{"$f":"COUNTIF(L10:L12,Y11)","v":0},{"$f":"Z11/(AB4-Z25)","v":0},{"$f":"IF(AA11=0,0,(AA11*((LOG(AA11))/LOG(2))))","v":0},null,{"$f":"N11","v":11211},{"$f":"COUNTIF(L13:L15,AD11)","v":0},{"$f":"AE11/(AG4-AE25)","v":0},{"$f":"IF(AF11=0,0,(AF11*((LOG(AF11))/LOG(2))))","v":0},null,{"$f":"N11","v":11211},{"$f":"COUNTIF(L16:L18,AI11)","v":0},{"$f":"AJ11/(AL4-AJ25)","v":0},{"$f":"IF(AK11=0,0,(AK11*((LOG(AK11))/LOG(2))))","v":0},null,{"$f":"N11","v":11211},{"$f":"COUNTIF(L19:L21,AN11)","v":0},{"$f":"AO11/(AQ4-AO25)","v":0},{"$f":"IF(AP11=0,0,(AP11*((LOG(AP11))/LOG(2))))","v":0},null,{"$f":"N11","v":11211},{"$f":"COUNTIF(L22:L24,AS11)","v":0},{"$f":"AT11/(AV4-AT25)","v":0},{"$f":"IF(AU11=0,0,(AU11*((LOG(AU11))/LOG(2))))","v":0}]
[21,975,22,989,24,999,23,1021,13,1037,0,22221,null,11212,{"$f":"COUNTIF($L$7:$L$500,N12)","v":1},{"$f":"O12/$Q$4","v":5.8823529411764705E-2},{"$f":"IF(P12=0,0,(P12*((LOG(P12))/LOG(2))))","v":-0.24043899066178465},null,null,{"$f":"N12","v":11212},{"$f":"COUNTIF(L7:L9,T12)","v":0},{"$f":"U12/(W4-U25)","v":0},{"$f":"IF(V12=0,0,(V12*((LOG(V12))/LOG(2))))","v":0},null,{"$f":"N12","v":11212},{"$f":"COUNTIF(L10:L12,Y12)","v":0},{"$f":"Z12/(AB4-Z25)","v":0},{"$f":"IF(AA12=0,0,(AA12*((LOG(AA12))/LOG(2))))","v":0},null,{"$f":"N12","v":11212},{"$f":"COUNTIF(L13:L15,AD12)","v":0},{"$f":"AE12/(AG4-AE25)","v":0},{"$f":"IF(AF12=0,0,(AF12*((LOG(AF12))/LOG(2))))","v":0},null,{"$f":"N12","v":11212},{"$f":"COUNTIF(L16:L18,AI12)","v":0},{"$f":"AJ12/(AL4-AJ25)","v":0},{"$f":"IF(AK12=0,0,(AK12*((LOG(AK12))/LOG(2))))","v":0},null,{"$f":"N12","v":11212},{"$f":"COUNTIF(L19:L21,AN12)","v":1},{"$f":"AO12/(AQ4-AO25)","v":0.33333333333333331},{"$f":"IF(AP12=0,0,(AP12*((LOG(AP12))/LOG(2))))","v":-0.52832083357371862},null,{"$f":"N12","v":11212},{"$f":"COUNTIF(L22:L24,AS12)","v":0},{"$f":"AT12/(AV4-AT25)","v":0},{"$f":"IF(AU12=0,0,(AU12*((LOG(AU12))/LOG(2))))","v":0}]
[12,1155,13,1166,13,1179,23,1188,13,1211,0,11121,null,11221,{"$f":"COUNTIF($L$7:$L$500,N13)","v":0},{"$f":"O13/$Q$4","v":0},{"$f":"IF(P13=0,0,(P13*((LOG(P13))/LOG(2))))","v":0},null,null,{"$f":"N13","v":11221},{"$f":"COUNTIF(L7:L9,T13)","v":0},{"$f":"U13/(W4-U25)","v":0},{"$f":"IF(V13=0,0,(V13*((LOG(V13))/LOG(2))))","v":0},null,{"$f":"N13","v":11221},{"$f":"COUNTIF(L10:L12,Y13)","v":0},{"$f":"Z13/(AB4-Z25)","v":0},{"$f":"IF(AA13=0,0,(AA13*((LOG(AA13))/LOG(2))))","v":0},null,{"$f":"N13","v":11221},{"$f":"COUNTIF(L13:L15,AD13)","v":0},{"$f":"AE13/(AG4-AE25)","v":0},{"$f":"IF(AF13=0,0,(AF13*((LOG(AF13))/LOG(2))))","v":0},null,{"$f":"N13","v":11221},{"$f":"COUNTIF(L16:L18,AI13)","v":0},{"$f":"AJ13/(AL4-AJ25)","v":0},{"$f":"IF(AK13=0,0,(AK13*((LOG(AK13))/LOG(2))))","v":0},null,{"$f":"N13","v":11221},{"$f":"COUNTIF(L19:L21,AN13)","v":0},{"$f":"AO13/(AQ4-AO25)","v":0},{"$f":"IF(AP13=0,0,(AP13*((LOG(AP13))/LOG(2))))","v":0},null,{"$f":"N13","v":11221},{"$f":"COUNTIF(L22:L24,AS13)","v":0},{"$f":"AT13/(AV4-AT25)","v":0},{"$f":"IF(AU13=0,0,(AU13*((LOG(AU13))/LOG(2))))","v":0}]
[21,1377,22,1388,24,1406,23,1428,13,1445,0,22221,null,11222,{"$f":"COUNTIF($L$7:$L$500,N14)","v":1},{"$f":"O14/$Q$4","v":5.8823529411764705E-2},{"$f":"IF(P14=0,0,(P14*((LOG(P14))/LOG(2))))","v":-0.24043899066178465},null,null,{"$f":"N14","v":11222},{"$f":"COUNTIF(L7:L9,T14)","v":1},{"$f":"U14/(W4-U25)","v":0.33333333333333331},{"$f":"IF(V14=0,0,(V14*((LOG(V14))/LOG(2))))","v":-0.52832083357371862},null,{"$f":"N14","v":11222},{"$f":"COUNTIF(L10:L12,Y14)","v":0},{"$f":"Z14/(AB4-Z25)","v":0},{"$f":"IF(AA14=0,0,(AA14*((LOG(AA14))/LOG(2))))","v":0},null,{"$f":"N14","v":11222},{"$f":"COUNTIF(L13:L15,AD14)","v":0},{"$f":"AE14/(AG4-AE25)","v":0},{"$f":"IF(AF14=0,0,(AF14*((LOG(AF14))/LOG(2))))","v":0},null,{"$f":"N14","v":11222},{"$f":"COUNTIF(L16:L18,AI14)","v":0},{"$f":"AJ14/(AL4-AJ25)","v":0},{"$f":"IF(AK14=0,0,(AK14*((LOG(AK14))/LOG(2))))","v":0},null,{"$f":"N14","v":11222},{"$f":"COUNTIF(L19:L21,AN14)","v":0},{"$f":"AO14/(AQ4-AO25)","v":0},{"$f":"IF(AP14=0,0,(AP14*((LOG(AP14))/LOG(2))))","v":0},null,{"$f":"N14","v":11222},{"$f":"COUNTIF(L22:L24,AS14)","v":0},{"$f":"AT14/(AV4-AT25)","v":0},{"$f":"IF(AU14=0,0,(AU14*((LOG(AU14))/LOG(2))))","v":0}]
[12,1554,24,1579,24,1601,14,1615,24,1625,0,12212,null,12111,{"$f":"COUNTIF($L$7:$L$500,N15)","v":0},{"$f":"O15/$Q$4","v":0},{"$f":"IF(P15=0,0,(P15*((LOG(P15))/LOG(2))))","v":0},null,null,{"$f":"N15","v":12111},{"$f":"COUNTIF(L7:L9,T15)","v":0},{"$f":"U15/(W4-U25)","v":0},{"$f":"IF(V15=0,0,(V15*((LOG(V15))/LOG(2))))","v":0},null,{"$f":"N15","v":12111},{"$f":"COUNTIF(L10:L12,Y15)","v":0},{"$f":"Z15/(AB4-Z25)","v":0},{"$f":"IF(AA15=0,0,(AA15*((LOG(AA15))/LOG(2))))","v":0},null,{"$f":"N15","v":12111},{"$f":"COUNTIF(L13:L15,AD15)","v":0},{"$f":"AE15/(AG4-AE25)","v":0},{"$f":"IF(AF15=0,0,(AF15*((LOG(AF15))/LOG(2))))","v":0},null,{"$f":"N15","v":12111},{"$f":"COUNTIF(L16:L18,AI15)","v":0},{"$f":"AJ15/(AL4-AJ25)","v":0},{"$f":"IF(AK15=0,0,(AK15*((LOG(AK15))/LOG(2))))","v":0},null,{"$f":"N15","v":12111},{"$f":"COUNTIF(L19:L21,AN15)","v":0},{"$f":"AO15/(AQ4-AO25)","v":0},{"$f":"IF(AP15=0,0,(AP15*((LOG(AP15))/LOG(2))))","v":0},null,{"$f":"N15","v":12111},{"$f":"COUNTIF(L22:L24,AS15)","v":0},{"$f":"AT15/(AV4-AT25)","v":0},{"$f":"IF(AU15=0,0,(AU15*((LOG(AU15))/LOG(2))))","v":0}]
[12,5233,24,5253,13,5268,23,5278,13,5293,0,12121,null,12112,{"$f":"COUNTIF($L$7:$L$500,N16)","v":1},{"$f":"O16/$Q$4","v":5.8823529411764705E-2},{"$f":"IF(P16=0,0,(P16*((LOG(P16))/LOG(2))))","v":-0.24043899066178465},null,null,{"$f":"N16","v":12112},{"$f":"COUNTIF(L7:L9,T16)","v":1},{"$f":"U16/(W4-U25)","v":0.33333333333333331},{"$f":"IF(V16=0,0,(V16*((LOG(V16))/LOG(2))))","v":-0.52832083357371862},null,{"$f":"N16","v":12112},{"$f":"COUNTIF(L10:L12,Y16)","v":0},{"$f":"Z16/(AB4-Z25)","v":0},{"$f":"IF(AA16=0,0,(AA16*((LOG(AA16))/LOG(2))))","v":0},null,{"$f":"N16","v":12112},{"$f":"COUNTIF(L13:L15,AD16)","v":0},{"$f":"AE16/(AG4-AE25)","v":0},{"$f":"IF(AF16=0,0,(AF16*((LOG(AF16))/LOG(2))))","v":0},null,{"$f":"N16","v":12112},{"$f":"COUNTIF(L16:L18,AI16)","v":0},{"$f":"AJ16/(AL4-AJ25)","v":0},{"$f":"IF(AK16=0,0,(AK16*((LOG(AK16))/LOG(2))))","v":0},null,{"$f":"N16","v":12112},{"$f":"COUNTIF(L19:L21,AN16)","v":0},{"$f":"AO16/(AQ4-AO25)","v":0},{"$f":"IF(AP16=0,0,(AP16*((LOG(AP16))/LOG(2))))","v":0},null,{"$f":"N16","v":12112},{"$f":"COUNTIF(L22:L24,AS16)","v":0},{"$f":"AT16/(AV4-AT25)","v":0},{"$f":"IF(AU16=0,0,(AU16*((LOG(AU16))/LOG(2))))","v":0}]
[12,5714,13,5725,13,5736,23,5747,24,5768,0,11122,null,12121,{"$f":"COUNTIF($L$7:$L$500,N17)","v":2},{"$f":"O17/$Q$4","v":0.11764705882352941},{"$f":"IF(P17=0,0,(P17*((LOG(P17))/LOG(2))))","v":-0.36323092250003997},null,null,{"$f":"N17","v":12121},{"$f":"COUNTIF(L7:L9,T17)","v":1},{"$f":"U17/(W4-U25)","v":0.33333333333333331},{"$f":"IF(V17=0,0,(V17*((LOG(V17))/LOG(2))))","v":-0.52832083357371862},null,{"$f":"N17","v":12121},{"$f":"COUNTIF(L10:L12,Y17)","v":0},{"$f":"Z17/(AB4-Z25)","v":0},{"$f":"IF(AA17=0,0,(AA17*((LOG(AA17))/LOG(2))))","v":0},null,{"$f":"N17","v":12121},{"$f":"COUNTIF(L13:L15,AD17)","v":0},{"$f":"AE17/(AG4-AE25)","v":0},{"$f":"IF(AF17=0,0,(AF17*((LOG(AF17))/LOG(2))))","v":0},null,{"$f":"N17","v":12121},{"$f":"COUNTIF(L16:L18,AI17)","v":1},{"$f":"AJ17/(AL4-AJ25)","v":0.33333333333333331},{"$f":"IF(AK17=0,0,(AK17*((LOG(AK17))/LOG(2))))","v":-0.52832083357371862},null,{"$f":"N17","v":12121},{"$f":"COUNTIF(L19:L21,AN17)","v":0},{"$f":"AO17/(AQ4-AO25)","v":0},{"$f":"IF(AP17=0,0,(AP17*((LOG(AP17))/LOG(2))))","v":0},null,{"$f":"N17","v":12121},{"$f":"COUNTIF(L22:L24,AS17)","v":0},{"$f":"AT17/(AV4-AT25)","v":0},{"$f":"IF(AU17=0,0,(AU17*((LOG(AU17))/LOG(2))))","v":0}]
[12,8042,13,8053,13,8062,14,8072,13,8084,0,11111,null,12122,{"$f":"COUNTIF($L$7:$L$500,N18)","v":1},{"$f":"O18/$Q$4","v":5.8823529411764705E-2},{"$f":"IF(P18=0,0,(P18*((LOG(P18))/LOG(2))))","v":-0.24043899066178465},null,null,{"$f":"N18","v":12122},{"$f":"COUNTIF(L7:L9,T18)","v":0},{"$f":"U18/(W4-U25)","v":0},{"$f":"IF(V18=0,0,(V18*((LOG(V18))/LOG(2))))","v":0},null,{"$f":"N18","v":12122},{"$f":"COUNTIF(L10:L12,Y18)","v":1},{"$f":"Z18/(AB4-Z25)","v":0.33333333333333331},{"$f":"IF(AA18=0,0,(AA18*((LOG(AA18))/LOG(2))))","v":-0.52832083357371862},null,{"$f":"N18","v":12122},{"$f":"COUNTIF(L13:L15,AD18)","v":0},{"$f":"AE18/(AG4-AE25)","v":0},{"$f":"IF(AF18=0,0,(AF18*((LOG(AF18))/LOG(2))))","v":0},null,{"$f":"N18","v":12122},{"$f":"COUNTIF(L16:L18,AI18)","v":0},{"$f":"AJ18/(AL4-AJ25)","v":0},{"$f":"IF(AK18=0,0,(AK18*((LOG(AK18))/LOG(2))))","v":0},null,{"$f":"N18","v":12122},{"$f":"COUNTIF(L19:L21,AN18)","v":0},{"$f":"AO18/(AQ4-AO25)","v":0},{"$f":"IF(AP18=0,0,(AP18*((LOG(AP18))/LOG(2))))","v":0},null,{"$f":"N18","v":12122},{"$f":"COUNTIF(L22:L24,AS18)","v":0},{"$f":"AT18/(AV4-AT25)","v":0},{"$f":"IF(AU18=0,0,(AU18*((LOG(AU18))/LOG(2))))","v":0}]
[12,9399,13,9407,13,9829,14,9855,24,9864,0,11112,null,12211,{"$f":"COUNTIF($L$7:$L$500,N19)","v":0},{"$f":"O19/$Q$4","v":0},{"$f":"IF(P19=0,0,(P19*((LOG(P19))/LOG(2))))","v":0},null,null,{"$f":"N19","v":12211},{"$f":"COUNTIF(L7:L9,T19)","v":0},{"$f":"U19/(W4-U25)","v":0},{"$f":"IF(V19=0,0,(V19*((LOG(V19))/LOG(2))))","v":0},null,{"$f":"N19","v":12211},{"$f":"COUNTIF(L10:L12,Y19)","v":0},{"$f":"Z19/(AB4-Z25)","v":0},{"$f":"IF(AA19=0,0,(AA19*((LOG(AA19))/LOG(2))))","v":0},null,{"$f":"N19","v":12211},{"$f":"COUNTIF(L13:L15,AD19)","v":0},{"$f":"AE19/(AG4-AE25)","v":0},{"$f":"IF(AF19=0,0,(AF19*((LOG(AF19))/LOG(2))))","v":0},null,{"$f":"N19","v":12211},{"$f":"COUNTIF(L16:L18,AI19)","v":0},{"$f":"AJ19/(AL4-AJ25)","v":0},{"$f":"IF(AK19=0,0,(AK19*((LOG(AK19))/LOG(2))))","v":0},null,{"$f":"N19","v":12211},{"$f":"COUNTIF(L19:L21,AN19)","v":0},{"$f":"AO19/(AQ4-AO25)","v":0},{"$f":"IF(AP19=0,0,(AP19*((LOG(AP19))/LOG(2))))","v":0},null,{"$f":"N19","v":12211},{"$f":"COUNTIF(L22:L24,AS19)","v":0},{"$f":"AT19/(AV4-AT25)","v":0},{"$f":"IF(AU19=0,0,(AU19*((LOG(AU19))/LOG(2))))","v":0}]
[12,10409,13,19340,13,19349,23,19360,24,19371,0,11122,null,12212,{"$f":"COUNTIF($L$7:$L$500,N20)","v":1},{"$f":"O20/$Q$4","v":5.8823529411764705E-2},{"$f":"IF(P20=0,0,(P20*((LOG(P20))/LOG(2))))","v":-0.24043899066178465},null,null,{"$f":"N20","v":12212},{"$f":"COUNTIF(L7:L9,T20)","v":0},{"$f":"U20/(W4-U25)","v":0},{"$f":"IF(V20=0,0,(V20*((LOG(V20))/LOG(2))))","v":0},null,{"$f":"N20","v":12212},{"$f":"COUNTIF(L10:L12,Y20)","v":0},{"$f":"Z20/(AB4-Z25)","v":0},{"$f":"IF(AA20=0,0,(AA20*((LOG(AA20))/LOG(2))))","v":0},null,{"$f":"N20","v":12212},{"$f":"COUNTIF(L13:L15,AD20)","v":1},{"$f":"AE20/(AG4-AE25)","v":0.33333333333333331},{"$f":"IF(AF20=0,0,(AF20*((LOG(AF20))/LOG(2))))","v":-0.52832083357371862},null,{"$f":"N20","v":12212},{"$f":"COUNTIF(L16:L18,AI20)","v":0},{"$f":"AJ20/(AL4-AJ25)","v":0},{"$f":"IF(AK20=0,0,(AK20*((LOG(AK20))/LOG(2))))","v":0},null,{"$f":"N20","v":12212},{"$f":"COUNTIF(L19:L21,AN20)","v":0},{"$f":"AO20/(AQ4-AO25)","v":0},{"$f":"IF(AP20=0,0,(AP20*((LOG(AP20))/LOG(2))))","v":0},null,{"$f":"N20","v":12212},{"$f":"COUNTIF(L22:L24,AS20)","v":0},{"$f":"AT20/(AV4-AT25)","v":0},{"$f":"IF(AU20=0,0,(AU20*((LOG(AU20))/LOG(2))))","v":0}]
[12,19497,13,19507,24,19520,14,19531,24,19541,0,11212,null,12221,{"$f":"COUNTIF($L$7:$L$500,N21)","v":0},{"$f":"O21/$Q$4","v":0},{"$f":"IF(P21=0,0,(P21*((LOG(P21))/LOG(2))))","v":0},null,null,{"$f":"N21","v":12221},{"$f":"COUNTIF(L7:L9,T21)","v":0},{"$f":"U21/(W4-U25)","v":0},{"$f":"IF(V21=0,0,(V21*((LOG(V21))/LOG(2))))","v":0},null,{"$f":"N21","v":12221},{"$f":"COUNTIF(L10:L12,Y21)","v":0},{"$f":"Z21/(AB4-Z25)","v":0},{"$f":"IF(AA21=0,0,(AA21*((LOG(AA21))/LOG(2))))","v":0},null,{"$f":"N21","v":12221},{"$f":"COUNTIF(L13:L15,AD21)","v":0},{"$f":"AE21/(AG4-AE25)","v":0},{"$f":"IF(AF21=0,0,(AF21*((LOG(AF21))/LOG(2))))","v":0},null,{"$f":"N21","v":12221},{"$f":"COUNTIF(L16:L18,AI21)","v":0},{"$f":"AJ21/(AL4-AJ25)","v":0},{"$f":"IF(AK21=0,0,(AK21*((LOG(AK21))/LOG(2))))","v":0},null,{"$f":"N21","v":12221},{"$f":"COUNTIF(L19:L21,AN21)","v":0},{"$f":"AO21/(AQ4-AO25)","v":0},{"$f":"IF(AP21=0,0,(AP21*((LOG(AP21))/LOG(2))))","v":0},null,{"$f":"N21","v":12221},{"$f":"COUNTIF(L22:L24,AS21)","v":0},{"$f":"AT21/(AV4-AT25)","v":0},{"$f":"IF(AU21=0,0,(AU21*((LOG(AU21))/LOG(2))))","v":0}]
[12,20096,13,20109,13,20119,23,20128,13,20141,0,11121,null,12222,{"$f":"COUNTIF($L$7:$L$500,N22)","v":0},{"$f":"O22/$Q$4","v":0},{"$f":"IF(P22=0,0,(P22*((LOG(P22))/LOG(2))))","v":0},null,null,{"$f":"N22","v":12222},{"$f":"COUNTIF(L7:L9,T22)","v":0},{"$f":"U22/(W4-U25)","v":0},{"$f":"IF(V22=0,0,(V22*((LOG(V22))/LOG(2))))","v":0},null,{"$f":"N22","v":12222},{"$f":"COUNTIF(L10:L12,Y22)","v":0},{"$f":"Z22/(AB4-Z25)","v":0},{"$f":"IF(AA22=0,0,(AA22*((LOG(AA22))/LOG(2))))","v":0},null,{"$f":"N22","v":12222},{"$f":"COUNTIF(L13:L15,AD22)","v":0},{"$f":"AE22/(AG4-AE25)","v":0},{"$f":"IF(AF22=0,0,(AF22*((LOG(AF22))/LOG(2))))","v":0},null,{"$f":"N22","v":12222},{"$f":"COUNTIF(L16:L18,AI22)","v":0},{"$f":"AJ22/(AL4-AJ25)","v":0},{"$f":"IF(AK22=0,0,(AK22*((LOG(AK22))/LOG(2))))","v":0},null,{"$f":"N22","v":12222},{"$f":"COUNTIF(L19:L21,AN22)","v":0},{"$f":"AO22/(AQ4-AO25)","v":0},{"$f":"IF(AP22=0,0,(AP22*((LOG(AP22))/LOG(2))))","v":0},null,{"$f":"N22","v":12222},{"$f":"COUNTIF(L22:L24,AS22)","v":0},{"$f":"AT22/(AV4-AT25)","v":0},{"$f":"IF(AU22=0,0,(AU22*((LOG(AU22))/LOG(2))))","v":0}]
[21,20920,11,20931,22,20942,14,20962,24,20974,0,21212,null,21111,{"$f":"COUNTIF($L$7:$L$500,N23)","v":0},{"$f":"O23/$Q$4","v":0},{"$f":"IF(P23=0,0,(P23*((LOG(P23))/LOG(2))))","v":0},null,null,{"$f":"N23","v":21111},{"$f":"COUNTIF(L7:L9,T23)","v":0},{"$f":"U23/(W4-U25)","v":0},{"$f":"IF(V23=0,0,(V23*((LOG(V23))/LOG(2))))","v":0},null,{"$f":"N23","v":21111},{"$f":"COUNTIF(L10:L12,Y23)","v":0},{"$f":"Z23/(AB4-Z25)","v":0},{"$f":"IF(AA23=0,0,(AA23*((LOG(AA23))/LOG(2))))","v":0},null,{"$f":"N23","v":21111},{"$f":"COUNTIF(L13:L15,AD23)","v":0},{"$f":"AE23/(AG4-AE25)","v":0},{"$f":"IF(AF23=0,0,(AF23*((LOG(AF23))/LOG(2))))","v":0},null,{"$f":"N23","v":21111},{"$f":"COUNTIF(L16:L18,AI23)","v":0},{"$f":"AJ23/(AL4-AJ25)","v":0},{"$f":"IF(AK23=0,0,(AK23*((LOG(AK23))/LOG(2))))","v":0},null,{"$f":"N23","v":21111},{"$f":"COUNTIF(L19:L21,AN23)","v":0},{"$f":"AO23/(AQ4-AO25)","v":0},{"$f":"IF(AP23=0,0,(AP23*((LOG(AP23))/LOG(2))))","v":0},null,{"$f":"N23","v":21111},{"$f":"COUNTIF(L22:L24,AS23)","v":0},{"$f":"AT23/(AV4-AT25)","v":0},{"$f":"IF(AU23=0,0,(AU23*((LOG(AU23))/LOG(2))))","v":0}]
[12,21302,null,null,null,null,null,null,null,null,null,1,null,21112,{"$f":"COUNTIF($L$7:$L$500,N24)","v":0},{"$f":"O24/$Q$4","v":0},{"$f":"IF(P24=0,0,(P24*((LOG(P24))/LOG(2))))","v":0},null,null,{"$f":"N24","v":21112},{"$f":"COUNTIF(L7:L9,T24)","v":0},{"$f":"U24/(W4-U25)","v":0},{"$f":"IF(V24=0,0,(V24*((LOG(V24))/LOG(2))))","v":0},null,{"$f":"N24","v":21112},{"$f":"COUNTIF(L10:L12,Y24)","v":0},{"$f":"Z24/(AB4-Z25)","v":0},{"$f":"IF(AA24=0,0,(AA24*((LOG(AA24))/LOG(2))))","v":0},null,{"$f":"N24","v":21112},{"$f":"COUNTIF(L13:L15,AD24)","v":0},{"$f":"AE24/(AG4-AE25)","v":0},{"$f":"IF(AF24=0,0,(AF24*((LOG(AF24))/LOG(2))))","v":0},null,{"$f":"N24","v":21112},{"$f":"COUNTIF(L16:L18,AI24)","v":0},{"$f":"AJ24/(AL4-AJ25)","v":0},{"$f":"IF(AK24=0,0,(AK24*((LOG(AK24))/LOG(2))))","v":0},null,{"$f":"N24","v":21112},{"$f":"COUNTIF(L19:L21,AN24)","v":0},{"$f":"AO24/(AQ4-AO25)","v":0},{"$f":"IF(AP24=0,0,(AP24*((LOG(AP24))/LOG(2))))","v":0},null,{"$f":"N24","v":21112},{"$f":"COUNTIF(L22:L24,AS24)","v":0},{"$f":"AT24/(AV4-AT25)","v":0},{"$f":"IF(AU24=0,0,(AU24*((LOG(AU24))/LOG(2))))","v":0}]
[null,null,null,null,null,null,null,null,null,null,null,null,null,21121,{"$f":"COUNTIF($L$7:$L$500,N25)","v":0},{"$f":"O25/$Q$4","v":0},{"$f":"IF(P25=0,0,(P25*((LOG(P25))/LOG(2))))","v":0},null,null,{"$f":"N25","v":21121},{"$f":"COUNTIF(L7:L9,T25)","v":0},null,null,null,{"$f":"N25","v":21121},{"$f":"COUNTIF(L10:L12,Y25)","v":0},null,null,null,{"$f":"N25","v":21121},{"$f":"COUNTIF(L13:L15,AD25)","v":0},null,null,null,{"$f":"N25","v":21121},{"$f":"COUNTIF(L16:L18,AI25)","v":0},null,null,null,{"$f":"N25","v":21121},{"$f":"COUNTIF(L19:L21,AN25)","v":0},null,null,null,{"$f":"N25","v":21121},{"$f":"COUNTIF(L22:L24,AS25)","v":0}]
[null,null,null,null,null,null,null,null,null,null,null,null,null,21122,{"$f":"COUNTIF($L$7:$L$500,N26)","v":0},{"$f":"O26/$Q$4","v":0},{"$f":"IF(P26=0,0,(P26*((LOG(P26))/LOG(2))))","v":0},null,null,{"$f":"N26","v":21122},{"$f":"COUNTIF(L7:L9,T26)","v":0},{"$f":"U26/(W4-U25)","v":0},{"$f":"IF(V26=0,0,(V26*((LOG(V26))/LOG(2))))","v":0},null,{"$f":"N26","v":21122},{"$f":"COUNTIF(L10:L12,Y26)","v":0},{"$f":"Z26/(AB4-Z25)","v":0},{"$f":"IF(AA26=0,0,(AA26*((LOG(AA26))/LOG(2))))","v":0},null,{"$f":"N26","v":21122},{"$f":"COUNTIF(L13:L15,AD26)","v":0},{"$f":"AE26/(AG4-AE25)","v":0},{"$f":"IF(AF26=0,0,(AF26*((LOG(AF26))/LOG(2))))","v":0},null,{"$f":"N26","v":21122},{"$f":"COUNTIF(L16:L18,AI26)","v":0},{"$f":"AJ26/(AL4-AJ25)","v":0},{"$f":"IF(AK26=0,0,(AK26*((LOG(AK26))/LOG(2))))","v":0},null,{"$f":"N26","v":21122},{"$f":"COUNTIF(L19:L21,AN26)","v":0},{"$f":"AO26/(AQ4-AO25)","v":0},{"$f":"IF(AP26=0,0,(AP26*((LOG(AP26))/LOG(2))))","v":0},null,{"$f":"N26","v":21122},{"$f":"COUNTIF(L22:L24,AS26)","v":0},{"$f":"AT26/(AV4-AT25)","v":0},{"$f":"IF(AU26=0,0,(AU26*((LOG(AU26))/LOG(2))))","v":0}]
[null,null,null,null,null,null,null,null,null,null,null,null,null,21211,{"$f":"COUNTIF($L$7:$L$500,N27)","v":0},{"$f":"O27/$Q$4","v":0},{"$f":"IF(P27=0,0,(P27*((LOG(P27))/LOG(2))))","v":0},null,null,{"$f":"N27","v":21211},{"$f":"COUNTIF(L7:L9,T27)","v":0},{"$f":"U27/(W4-U25)","v":0},{"$f":"IF(V27=0,0,(V27*((LOG(V27))/LOG(2))))","v":0},null,{"$f":"N27","v":21211},{"$f":"COUNTIF(L10:L12,Y27)","v":0},{"$f":"Z27/(AB4-Z25)","v":0},{"$f":"IF(AA27=0,0,(AA27*((LOG(AA27))/LOG(2))))","v":0},null,{"$f":"N27","v":21211},{"$f":"COUNTIF(L13:L15,AD27)","v":0},{"$f":"AE27/(AG4-AE25)","v":0},{"$f":"IF(AF27=0,0,(AF27*((LOG(AF27))/LOG(2))))","v":0},null,{"$f":"N27","v":21211},{"$f":"COUNTIF(L16:L18,AI27)","v":0},{"$f":"AJ27/(AL4-AJ25)","v":0},{"$f":"IF(AK27=0,0,(AK27*((LOG(AK27))/LOG(2))))","v":0},null,{"$f":"N27","v":21211},{"$f":"COUNTIF(L19:L21,AN27)","v":0},{"$f":"AO27/(AQ4-AO25)","v":0},{"$f":"IF(AP27=0,0,(AP27*((LOG(AP27))/LOG(2))))","v":0},null,{"$f":"N27","v":21211},{"$f":"COUNTIF(L22:L24,AS27)","v":0},{"$f":"AT27/(AV4-AT25)","v":0},{"$f":"IF(AU27=0,0,(AU27*((LOG(AU27))/LOG(2))))","v":0}]
[null,null,null,null,null,null,null,null,null,null,null,null,null,21212,{"$f":"COUNTIF($L$7:$L$500,N28)","v":1},{"$f":"O28/$Q$4","v":5.8823529411764705E-2},{"$f":"IF(P28=0,0,(P28*((LOG(P28))/LOG(2))))","v":-0.24043899066178465},null,null,{"$f":"N28","v":21212},{"$f":"COUNTIF(L7:L9,T28)","v":0},{"$f":"U28/(W4-U25)","v":0},{"$f":"IF(V28=0,0,(V28*((LOG(V28))/LOG(2))))","v":0},null,{"$f":"N28","v":21212},{"$f":"COUNTIF(L10:L12,Y28)","v":0},{"$f":"Z28/(AB4-Z25)","v":0},{"$f":"IF(AA28=0,0,(AA28*((LOG(AA28))/LOG(2))))","v":0},null,{"$f":"N28","v":21212},{"$f":"COUNTIF(L13:L15,AD28)","v":0},{"$f":"AE28/(AG4-AE25)","v":0},{"$f":"IF(AF28=0,0,(AF28*((LOG(AF28))/LOG(2))))","v":0},null,{"$f":"N28","v":21212},{"$f":"COUNTIF(L16:L18,AI28)","v":0},{"$f":"AJ28/(AL4-AJ25)","v":0},{"$f":"IF(AK28=0,0,(AK28*((LOG(AK28))/LOG(2))))","v":0},null,{"$f":"N28","v":21212},{"$f":"COUNTIF(L19:L21,AN28)","v":0},{"$f":"AO28/(AQ4-AO25)","v":0},{"$f":"IF(AP28=0,0,(AP28*((LOG(AP28))/LOG(2))))","v":0},null,{"$f":"N28","v":21212},{"$f":"COUNTIF(L22:L24,AS28)","v":1},{"$f":"AT28/(AV4-AT25)","v":0.5},{"$f":"IF(AU28=0,0,(AU28*((LOG(AU28))/LOG(2))))","v":-0.5}]
[null,null,null,null,null,null,null,null,null,null,null,null,null,21221,{"$f":"COUNTIF($L$7:$L$500,N29)","v":0},{"$f":"O29/$Q$4","v":0},{"$f":"IF(P29=0,0,(P29*((LOG(P29))/LOG(2))))","v":0},null,null,{"$f":"N29","v":21221},{"$f":"COUNTIF(L7:L9,T29)","v":0},{"$f":"U29/(W4-U25)","v":0},{"$f":"IF(V29=0,0,(V29*((LOG(V29))/LOG(2))))","v":0},null,{"$f":"N29","v":21221},{"$f":"COUNTIF(L10:L12,Y29)","v":0},{"$f":"Z29/(AB4-Z25)","v":0},{"$f":"IF(AA29=0,0,(AA29*((LOG(AA29))/LOG(2))))","v":0},null,{"$f":"N29","v":21221},{"$f":"COUNTIF(L13:L15,AD29)","v":0},{"$f":"AE29/(AG4-AE25)","v":0},{"$f":"IF(AF29=0,0,(AF29*((LOG(AF29))/LOG(2))))","v":0},null,{"$f":"N29","v":21221},{"$f":"COUNTIF(L16:L18,AI29)","v":0},{"$f":"AJ29/(AL4-AJ25)","v":0},{"$f":"IF(AK29=0,0,(AK29*((LOG(AK29))/LOG(2))))","v":0},null,{"$f":"N29","v":21221},{"$f":"COUNTIF(L19:L21,AN29)","v":0},{"$f":"AO29/(AQ4-AO25)","v":0},{"$f":"IF(AP29=0,0,(AP29*((LOG(AP29))/LOG(2))))","v":0},null,{"$f":"N29","v":21221},{"$f":"COUNTIF(L22:L24,AS29)","v":0},{"$f":"AT29/(AV4-AT25)","v":0},{"$f":"IF(AU29=0,0,(AU29*((LOG(AU29))/LOG(2))))","v":0}]
[null,null,null,null,null,null,null,null,null,null,null,null,null,21222,{"$f":"COUNTIF($L$7:$L$500,N30)","v":0},{"$f":"O30/$Q$4","v":0},{"$f":"IF(P30=0,0,(P30*((LOG(P30))/LOG(2))))","v":0},null,null,{"$f":"N30","v":21222},{"$f":"COUNTIF(L7:L9,T30)","v":0},{"$f":"U30/(W4-U25)","v":0},{"$f":"IF(V30=0,0,(V30*((LOG(V30))/LOG(2))))","v":0},null,{"$f":"N30","v":21222},{"$f":"COUNTIF(L10:L12,Y30)","v":0},{"$f":"Z30/(AB4-Z25)","v":0},{"$f":"IF(AA30=0,0,(AA30*((LOG(AA30))/LOG(2))))","v":0},null,{"$f":"N30","v":21222},{"$f":"COUNTIF(L13:L15,AD30)","v":0},{"$f":"AE30/(AG4-AE25)","v":0},{"$f":"IF(AF30=0,0,(AF30*((LOG(AF30))/LOG(2))))","v":0},null,{"$f":"N30","v":21222},{"$f":"COUNTIF(L16:L18,AI30)","v":0},{"$f":"AJ30/(AL4-AJ25)","v":0},{"$f":"IF(AK30=0,0,(AK30*((LOG(AK30))/LOG(2))))","v":0},null,{"$f":"N30","v":21222},{"$f":"COUNTIF(L19:L21,AN30)","v":0},{"$f":"AO30/(AQ4-AO25)","v":0},{"$f":"IF(AP30=0,0,(AP30*((LOG(AP30))/LOG(2))))","v":0},null,{"$f":"N30","v":21222},{"$f":"COUNTIF(L22:L24,AS30)","v":0},{"$f":"AT30/(AV4-AT25)","v":0},{"$f":"IF(AU30=0,0,(AU30*((LOG(AU30))/LOG(2))))","v":0}]
[null,null,null,null,null,null,null,null,null,null,null,null,null,22111,{"$f":"COUNTIF($L$7:$L$500,N31)","v":0},{"$f":"O31/$Q$4","v":0},{"$f":"IF(P31=0,0,(P31*((LOG(P31))/LOG(2))))","v":0},null,null,{"$f":"N31","v":22111},{"$f":"COUNTIF(L7:L9,T31)","v":0},{"$f":"U31/(W4-U25)","v":0},{"$f":"IF(V31=0,0,(V31*((LOG(V31))/LOG(2))))","v":0},null,{"$f":"N31","v":22111},{"$f":"COUNTIF(L10:L12,Y31)","v":0},{"$f":"Z31/(AB4-Z25)","v":0},{"$f":"IF(AA31=0,0,(AA31*((LOG(AA31))/LOG(2))))","v":0},null,{"$f":"N31","v":22111},{"$f":"COUNTIF(L13:L15,AD31)","v":0},{"$f":"AE31/(AG4-AE25)","v":0},{"$f":"IF(AF31=0,0,(AF31*((LOG(AF31))/LOG(2))))","v":0},null,{"$f":"N31","v":22111},{"$f":"COUNTIF(L16:L18,AI31)","v":0},{"$f":"AJ31/(AL4-AJ25)","v":0},{"$f":"IF(AK31=0,0,(AK31*((LOG(AK31))/LOG(2))))","v":0},null,{"$f":"N31","v":22111},{"$f":"COUNTIF(L19:L21,AN31)","v":0},{"$f":"AO31/(AQ4-AO25)","v":0},{"$f":"IF(AP31=0,0,(AP31*((LOG(AP31))/LOG(2))))","v":0},null,{"$f":"N31","v":22111},{"$f":"COUNTIF(L22:L24,AS31)","v":0},{"$f":"AT31/(AV4-AT25)","v":0},{"$f":"IF(AU31=0,0,(AU31*((LOG(AU31))/LOG(2))))","v":0}]
[null,null,null,null,null,null,null,null,null,null,null,null,null,22112,{"$f":"COUNTIF($L$7:$L$500,N32)","v":0},{"$f":"O32/$Q$4","v":0},{"$f":"IF(P32=0,0,(P32*((LOG(P32))/LOG(2))))","v":0},null,null,{"$f":"N32","v":22112},{"$f":"COUNTIF(L7:L9,T32)","v":0},{"$f":"U32/(W4-U25)","v":0},{"$f":"IF(V32=0,0,(V32*((LOG(V32))/LOG(2))))","v":0},null,{"$f":"N32","v":22112},{"$f":"COUNTIF(L10:L12,Y32)","v":0},{"$f":"Z32/(AB4-Z25)","v":0},{"$f":"IF(AA32=0,0,(AA32*((LOG(AA32))/LOG(2))))","v":0},null,{"$f":"N32","v":22112},{"$f":"COUNTIF(L13:L15,AD32)","v":0},{"$f":"AE32/(AG4-AE25)","v":0},{"$f":"IF(AF32=0,0,(AF32*((LOG(AF32))/LOG(2))))","v":0},null,{"$f":"N32","v":22112},{"$f":"COUNTIF(L16:L18,AI32)","v":0},{"$f":"AJ32/(AL4-AJ25)","v":0},{"$f":"IF(AK32=0,0,(AK32*((LOG(AK32))/LOG(2))))","v":0},null,{"$f":"N32","v":22112},{"$f":"COUNTIF(L19:L21,AN32)","v":0},{"$f":"AO32/(AQ4-AO25)","v":0},{"$f":"IF(AP32=0,0,(AP32*((LOG(AP32))/LOG(2))))","v":0},null,{"$f":"N32","v":22112},{"$f":"COUNTIF(L22:L24,AS32)","v":0},{"$f":"AT32/(AV4-AT25)","v":0},{"$f":"IF(AU32=0,0,(AU32*((LOG(AU32))/LOG(2))))","v":0}]
[null,null,null,null,null,null,null,null,null,null,null,null,null,22121,{"$f":"COUNTIF($L$7:$L$500,N33)","v":0},{"$f":"O33/$Q$4","v":0},{"$f":"IF(P33=0,0,(P33*((LOG(P33))/LOG(2))))","v":0},null,null,{"$f":"N33","v":22121},{"$f":"COUNTIF(L7:L9,T33)","v":0},{"$f":"U33/(W4-U25)","v":0},{"$f":"IF(V33=0,0,(V33*((LOG(V33))/LOG(2))))","v":0},null,{"$f":"N33","v":22121},{"$f":"COUNTIF(L10:L12,Y33)","v":0},{"$f":"Z33/(AB4-Z25)","v":0},{"$f":"IF(AA33=0,0,(AA33*((LOG(AA33))/LOG(2))))","v":0},null,{"$f":"N33","v":22121},{"$f":"COUNTIF(L13:L15,AD33)","v":0},{"$f":"AE33/(AG4-AE25)","v":0},{"$f":"IF(AF33=0,0,(AF33*((LOG(AF33))/LOG(2))))","v":0},null,{"$f":"N33","v":22121},{"$f":"COUNTIF(L16:L18,AI33)","v":0},{"$f":"AJ33/(AL4-AJ25)","v":0},{"$f":"IF(AK33=0,0,(AK33*((LOG(AK33))/LOG(2))))","v":0},null,{"$f":"N33","v":22121},{"$f":"COUNTIF(L19:L21,AN33)","v":0},{"$f":"AO33/(AQ4-AO25)","v":0},{"$f":"IF(AP33=0,0,(AP33*((LOG(AP33))/LOG(2))))","v":0},null,{"$f":"N33","v":22121},{"$f":"COUNTIF(L22:L24,AS33)","v":0},{"$f":"AT33/(AV4-AT25)","v":0},{"$f":"IF(AU33=0,0,(AU33*((LOG(AU33))/LOG(2))))","v":0}]
[null,null,null,null,null,null,null,null,null,null,null,null,null,22122,{"$f":"COUNTIF($L$7:$L$500,N34)","v":0},{"$f":"O34/$Q$4","v":0},{"$f":"IF(P34=0,0,(P34*((LOG(P34))/LOG(2))))","v":0},null,null,{"$f":"N34","v":22122},{"$f":"COUNTIF(L7:L9,T34)","v":0},{"$f":"U34/(W4-U25)","v":0},{"$f":"IF(V34=0,0,(V34*((LOG(V34))/LOG(2))))","v":0},null,{"$f":"N34","v":22122},{"$f":"COUNTIF(L10:L12,Y34)","v":0},{"$f":"Z34/(AB4-Z25)","v":0},{"$f":"IF(AA34=0,0,(AA34*((LOG(AA34))/LOG(2))))","v":0},null,{"$f":"N34","v":22122},{"$f":"COUNTIF(L13:L15,AD34)","v":0},{"$f":"AE34/(AG4-AE25)","v":0},{"$f":"IF(AF34=0,0,(AF34*((LOG(AF34))/LOG(2))))","v":0},null,{"$f":"N34","v":22122},{"$f":"COUNTIF(L16:L18,AI34)","v":0},{"$f":"AJ34/(AL4-AJ25)","v":0},{"$f":"IF(AK34=0,0,(AK34*((LOG(AK34))/LOG(2))))","v":0},null,{"$f":"N34","v":22122},{"$f":"COUNTIF(L19:L21,AN34)","v":0},{"$f":"AO34/(AQ4-AO25)","v":0},{"$f":"IF(AP34=0,0,(AP34*((LOG(AP34))/LOG(2))))","v":0},null,{"$f":"N34","v":22122},{"$f":"COUNTIF(L22:L24,AS34)","v":0},{"$f":"AT34/(AV4-AT25)","v":0},{"$f":"IF(AU34=0,0,(AU34*((LOG(AU34))/LOG(2))))","v":0}]
[null,null,null,null,null,null,null,null,null,null,null,null,null,22211,{"$f":"COUNTIF($L$7:$L$500,N35)","v":0},{"$f":"O35/$Q$4","v":0},{"$f":"IF(P35=0,0,(P35*((LOG(P35))/LOG(2))))","v":0},null,null,{"$f":"N35","v":22211},{"$f":"COUNTIF(L7:L9,T35)","v":0},{"$f":"U35/(W4-U25)","v":0},{"$f":"IF(V35=0,0,(V35*((LOG(V35))/LOG(2))))","v":0},null,{"$f":"N35","v":22211},{"$f":"COUNTIF(L10:L12,Y35)","v":0},{"$f":"Z35/(AB4-Z25)","v":0},{"$f":"IF(AA35=0,0,(AA35*((LOG(AA35))/LOG(2))))","v":0},null,{"$f":"N35","v":22211},{"$f":"COUNTIF(L13:L15,AD35)","v":0},{"$f":"AE35/(AG4-AE25)","v":0},{"$f":"IF(AF35=0,0,(AF35*((LOG(AF35))/LOG(2))))","v":0},null,{"$f":"N35","v":22211},{"$f":"COUNTIF(L16:L18,AI35)","v":0},{"$f":"AJ35/(AL4-AJ25)","v":0},{"$f":"IF(AK35=0,0,(AK35*((LOG(AK35))/LOG(2))))","v":0},null,{"$f":"N35","v":22211},{"$f":"COUNTIF(L19:L21,AN35)","v":0},{"$f":"AO35/(AQ4-AO25)","v":0},{"$f":"IF(AP35=0,0,(AP35*((LOG(AP35))/LOG(2))))","v":0},null,{"$f":"N35","v":22211},{"$f":"COUNTIF(L22:L24,AS35)","v":0},{"$f":"AT35/(AV4-AT25)","v":0},{"$f":"IF(AU35=0,0,(AU35*((LOG(AU35))/LOG(2))))","v":0}]
[null,null,null,null,null,null,null,null,null,null,null,null,null,22212,{"$f":"COUNTIF($L$7:$L$500,N36)","v":0},{"$f":"O36/$Q$4","v":0},{"$f":"IF(P36=0,0,(P36*((LOG(P36))/LOG(2))))","v":0},null,null,{"$f":"N36","v":22212},{"$f":"COUNTIF(L7:L9,T36)","v":0},{"$f":"U36/(W4-U25)","v":0},{"$f":"IF(V36=0,0,(V36*((LOG(V36))/LOG(2))))","v":0},null,{"$f":"N36","v":22212},{"$f":"COUNTIF(L10:L12,Y36)","v":0},{"$f":"Z36/(AB4-Z25)","v":0},{"$f":"IF(AA36=0,0,(AA36*((LOG(AA36))/LOG(2))))","v":0},null,{"$f":"N36","v":22212},{"$f":"COUNTIF(L13:L15,AD36)","v":0},{"$f":"AE36/(AG4-AE25)","v":0},{"$f":"IF(AF36=0,0,(AF36*((LOG(AF36))/LOG(2))))","v":0},null,{"$f":"N36","v":22212},{"$f":"COUNTIF(L16:L18,AI36)","v":0},{"$f":"AJ36/(AL4-AJ25)","v":0},{"$f":"IF(AK36=0,0,(AK36*((LOG(AK36))/LOG(2))))","v":0},null,{"$f":"N36","v":22212},{"$f":"COUNTIF(L19:L21,AN36)","v":0},{"$f":"AO36/(AQ4-AO25)","v":0},{"$f":"IF(AP36=0,0,(AP36*((LOG(AP36))/LOG(2))))","v":0},null,{"$f":"N36","v":22212},{"$f":"COUNTIF(L22:L24,AS36)","v":0},{"$f":"AT36/(AV4-AT25)","v":0},{"$f":"IF(AU36=0,0,(AU36*((LOG(AU36))/LOG(2))))","v":0}]
[null,null,null,null,null,null,null,null,null,null,null,null,null,22221,{"$f":"COUNTIF($L$7:$L$500,N37)","v":2},{"$f":"O37/$Q$4","v":0.11764705882352941},{"$f":"IF(P37=0,0,(P37*((LOG(P37))/LOG(2))))","v":-0.36323092250003997},null,null,{"$f":"N37","v":22221},{"$f":"COUNTIF(L7:L9,T37)","v":0},{"$f":"U37/(W4-U25)","v":0},{"$f":"IF(V37=0,0,(V37*((LOG(V37))/LOG(2))))","v":0},null,{"$f":"N37","v":22221},{"$f":"COUNTIF(L10:L12,Y37)","v":1},{"$f":"Z37/(AB4-Z25)","v":0.33333333333333331},{"$f":"IF(AA37=0,0,(AA37*((LOG(AA37))/LOG(2))))","v":-0.52832083357371862},null,{"$f":"N37","v":22221},{"$f":"COUNTIF(L13:L15,AD37)","v":1},{"$f":"AE37/(AG4-AE25)","v":0.33333333333333331},{"$f":"IF(AF37=0,0,(AF37*((LOG(AF37))/LOG(2))))","v":-0.52832083357371862},null,{"$f":"N37","v":22221},{"$f":"COUNTIF(L16:L18,AI37)","v":0},{"$f":"AJ37/(AL4-AJ25)","v":0},{"$f":"IF(AK37=0,0,(AK37*((LOG(AK37))/LOG(2))))","v":0},null,{"$f":"N37","v":22221},{"$f":"COUNTIF(L19:L21,AN37)","v":0},{"$f":"AO37/(AQ4-AO25)","v":0},{"$f":"IF(AP37=0,0,(AP37*((LOG(AP37))/LOG(2))))","v":0},null,{"$f":"N37","v":22221},{"$f":"COUNTIF(L22:L24,AS37)","v":0},{"$f":"AT37/(AV4-AT25)","v":0},{"$f":"IF(AU37=0,0,(AU37*((LOG(AU37))/LOG(2))))","v":0}]
[null,null,null,null,null,null,null,null,null,null,null,null,null,22222,{"$f":"COUNTIF($L$7:$L$500,N38)","v":0},{"$f":"O38/$Q$4","v":0},{"$f":"IF(P38=0,0,(P38*((LOG(P38))/LOG(2))))","v":0},null,null,{"$f":"N38","v":22222},{"$f":"COUNTIF(L7:L9,T38)","v":0},{"$f":"U38/(W4-U25)","v":0},{"$f":"IF(V38=0,0,(V38*((LOG(V38))/LOG(2))))","v":0},null,{"$f":"N38","v":22222},{"$f":"COUNTIF(L10:L12,Y38)","v":0},{"$f":"Z38/(AB4-Z25)","v":0},{"$f":"IF(AA38=0,0,(AA38*((LOG(AA38))/LOG(2))))","v":0},null,{"$f":"N38","v":22222},{"$f":"COUNTIF(L13:L15,AD38)","v":0},{"$f":"AE38/(AG4-AE25)","v":0},{"$f":"IF(AF38=0,0,(AF38*((LOG(AF38))/LOG(2))))","v":0},null,{"$f":"N38","v":22222},{"$f":"COUNTIF(L16:L18,AI38)","v":0},{"$f":"AJ38/(AL4-AJ25)","v":0},{"$f":"IF(AK38=0,0,(AK38*((LOG(AK38))/LOG(2))))","v":0},null,{"$f":"N38","v":22222},{"$f":"COUNTIF(L19:L21,AN38)","v":0},{"$f":"AO38/(AQ4-AO25)","v":0},{"$f":"IF(AP38=0,0,(AP38*((LOG(AP38))/LOG(2))))","v":0},null,{"$f":"N38","v":22222},{"$f":"COUNTIF(L22:L24,AS38)","v":0},{"$f":"AT38/(AV4-AT25)","v":0},{"$f":"IF(AU38=0,0,(AU38*((LOG(AU38))/LOG(2))))","v":0}]
[null,null,null,null,null,null,null,null,null,null,null,null,null,null,null,{"$f":"SUM(P7:P38)","v":1},{"$f":"-SUM(Q7:Q38)","v":3.4992275471326932},null,null,null,null,{"$f":"SUM(V7:V38)","v":1},{"$f":"-SUM(W7:W38)","v":1.5849625007211559},null,null,null,{"$f":"SUM(AA7:AA38)","v":1},{"$f":"-SUM(AB7:AB38)","v":1.5849625007211559},null,null,null,{"$f":"SUM(AF7:AF38)","v":1},{"$f":"-SUM(AG7:AG38)","v":1.5849625007211559},null,null,null,{"$f":"SUM(AK7:AK38)","v":1},{"$f":"-SUM(AL7:AL38)","v":1.5849625007211559},null,null,null,{"$f":"SUM(AP7:AP38)","v":1},{"$f":"-SUM(AQ7:AQ38)","v":1.5849625007211559},null,null,null,{"$f":"SUM(AU7:AU38)","v":1},{"$f":"-SUM(AV7:AV38)","v":1}]
[null,null,null,null,null,null,null,null,null,null,null,null,null,null,null,"U=",{"$f":"Q39/(LOG(Q4)/LOG(2))","v":0.85608791640104376},null,null,null,null,"U1=",{"$f":"W39/(LOG(W4)/LOG(2))","v":0.99999999999999989},null,null,null,"U2=",{"$f":"AB39/(LOG(AB4)/LOG(2))","v":0.99999999999999989},null,null,null,"U3=",{"$f":"AG39/(LOG(AG4)/LOG(2))","v":0.99999999999999989},null,null,null,"U4=",{"$f":"AL39/(LOG(AL4)/LOG(2))","v":0.99999999999999989},null,null,null,"U5=",{"$f":"AQ39/(LOG(AQ4)/LOG(2))","v":0.99999999999999989},null,null,null,"U6=",{"$f":"AV39/(LOG(AV4)/LOG(2))","v":1}]
[]
[]
[null,null,null,null,null,null,null,null,null,null,null,null,null,"Total Target Seq"]
[null,null,null,null,null,null,null,null,null,null,null,null,null,{"$f":"COUNTIF(L7:L24,G3)","v":0},null,3,3,3,3,3,3]
[null,null,null,null,null,null,null,null,null,null,null,null,null,null,null,"% of reinforcement given in 6 equal intervals based on number of trials "]
[null,null,null,null,null,null,null,null,null,null,null,null,null,null,null,"%_1","%_2","%_3","%_4","%_5","%_6"]
[null,null,null,null,null,null,null,null,null,null,null,null,null,null,"target sequence",{"$f":"$G$3","v":21121},{"$f":"$G$3","v":21121},{"$f":"$G$3","v":21121},{"$f":"$G$3","v":21121},{"$f":"$G$3","v":21121},{"$f":"$G$3","v":21121}]
[null,null,null,null,null,null,null,null,null,null,null,null,null,null,"total reinforcement",{"$f":"U25","v":0},{"$f":"Z25","v":0},{"$f":"AE25","v":0},{"$f":"AJ25","v":0},{"$f":"AO25","v":0},{"$f":"AT25","v":0}]
[null,null,null,null,null,null,null,null,null,null,null,null,null,null,"% target"]
[null,null,null,null,null,null,null,null,null,null,null,null,null,null,"CCRF"]
[null,null,null,null,null,null,null,null,null,null,null,null,null,null,"% CCRf"]
[null,null,null,null,null,null,null,null,null,null,null,null,null,null,"average response rate",{"$f":"J9/P44","v":142},{"$f":"(J12-J9)/Q44","v":203.66666666666666},{"$f":"(J15-J12)/R44","v":196},{"$f":"(J18-J15)/S44","v":2153},{"$f":"(J21-J18)/T44","v":3819},{"$f":"(J24-J21)/U44","v":-6513.666666666667}]

{"sheet":"!N131830.105","index":31,"n_rows":52,"n_cols":48,"rows_kept":52,"cut":false,"hidden":false,"merged":[[4,39,4,42],[5,39,5,40],[4,44,4,47],[5,44,5,45],[4,24,4,27],[5,24,5,25],[4,29,4,32],[5,29,5,30],[4,34,4,37],[5,34,5,35],[1,1,1,2],[5,13,5,14],[42,13,42,14],[43,13,43,14],[4,19,4,22],[5,19,5,20]]}
["Report for:!N131830.105"]
["Date:","<date>"]
["Hen:","<hen>",null,null,null,"Correct Sequence",{"$f":"Start!J2","v":21121},null,null,null,null,null,null,null,null,"Total Sequences in Data",{"$f":"4994-COUNTBLANK(L7:L5000)","v":9},null,null,null,null,"Total Sequences in Block Data",{"$f":"COUNTA(L7:L8)","v":2},null,null,null,"Total Sequences in Block Data",{"$f":"COUNTA(L9:L9)","v":1},null,null,null,"Total Sequences in Block Data",{"$f":"COUNTA(L10:L11)","v":2},null,null,null,"Total Sequences in Block Data",{"$f":"COUNTA(L12:L12)","v":1},null,null,null,"Total Sequences in Block Data",{"$f":"COUNTA(L13:L14)","v":2},null,null,null,"Total Sequences in Block Data",{"$f":"COUNTA(L15:L15)","v":1}]
[null,null,null,null,null,null,null,null,null,null,null,null,null,null,null,"Total Sequences in Summary",{"$f":"SUM(O7:O38)","v":9},null,null,null,null,"Total Sequences in Block Summary",{"$f":"SUM(U7:U38)","v":2},null,null,null,"Total Sequences in Block Summary",{"$f":"SUM(Z7:Z38)","v":1},null,null,null,"Total Sequences in Block Summary",{"$f":"SUM(AE7:AE38)","v":2},null,null,null,"Total Sequences in Block Summary",{"$f":"SUM(AJ7:AJ38)","v":1},null,null,null,"Total Sequences in Block Summary",{"$f":"SUM(AO7:AO38)","v":2},null,null,null,"Total Sequences in Block Summary",{"$f":"SUM(AT7:AT38)","v":1}]
[null,null,null,null,null,null,null,null,null,null,null,null,null,null,null,null,null,null,null,"Block 1",null,null,null,null,"Block 2",null,null,null,null,"Block 3",null,null,null,null,"Block 4",null,null,null,null,"Block 5",null,null,null,null,"Block 6"]
["Sequence\nComponent\n1","Time\n1","Sequence\nComponent\n2","Time\n2","Sequence\nComponent\n3","Time\n3","Sequence\nComponent\n4","Time\n4","Sequence\nComponent\n5","Time\n5","Correct?\n0=No 1=Yes","Sequence",null,"Frequency",null,"Relative Frequency","Variability",null,null,"Frequency",null,"Relative Frequency","Variability",null,"Frequency",null,"Relative Frequency","Variability",null,"Frequency",null,"Relative Frequency","Variability",null,"Frequency",null,"Relative Frequency","Variability",null,"Frequency",null,"Relative Frequency","Variability",null,"Frequency",null,"Relative Frequency","Variability"]
[21,21,22,33,24,45,23,76,24,98,0,22222,null,11111,{"$f":"COUNTIF($L$7:$L$500,N7)","v":2},{"$f":"O7/$Q$4","v":0.22222222222222221},{"$f":"IF(P7=0,0,(P7*((LOG(P7))/LOG(2))))","v":-0.48220555587606945},null,null,{"$f":"N7","v":11111},{"$f":"COUNTIF(L7:L8,T7)","v":0},{"$f":"U7/(W4-U25)","v":0},{"$f":"IF(V7=0,0,(V7*((LOG(V7))/LOG(2))))","v":0},null,{"$f":"N7","v":11111},{"$f":"COUNTIF(L9:L9,Y7)","v":0},{"$f":"Z7/(AB4-Z25)","v":0},{"$f":"IF(AA7=0,0,(AA7*((LOG(AA7))/LOG(2))))","v":0},null,{"$f":"N7","v":11111},{"$f":"COUNTIF(L10:L11,AD7)","v":0},{"$f":"AE7/(AG4-AE25)","v":0},{"$f":"IF(AF7=0,0,(AF7*((LOG(AF7))/LOG(2))))","v":0},null,{"$f":"N7","v":11111},{"$f":"COUNTIF(L12:L12,AI7)","v":1},{"$f":"AJ7/(AL4-AJ25)","v":1},{"$f":"IF(AK7=0,0,(AK7*((LOG(AK7))/LOG(2))))","v":0},null,{"$f":"N7","v":11111},{"$f":"COUNTIF(L13:L14,AN7)","v":1},{"$f":"AO7/(AQ4-AO25)","v":0.5},{"$f":"IF(AP7=0,0,(AP7*((LOG(AP7))/LOG(2))))","v":-0.5},null,{"$f":"N7","v":11111},{"$f":"COUNTIF(L15:L15,AS7)","v":0},{"$f":"AT7/(AV4-AT25)","v":0},{"$f":"IF(AU7=0,0,(AU7*((LOG(AU7))/LOG(2))))","v":0}]
[21,222,22,261,24,285,14,297,24,308,0,22212,null,11112,{"$f":"COUNTIF($L$7:$L$500,N8)","v":0},{"$f":"O8/$Q$4","v":0},{"$f":"IF(P8=0,0,(P8*((LOG(P8))/LOG(2))))","v":0},null,null,{"$f":"N8","v":11112},{"$f":"COUNTIF(L7:L8,T8)","v":0},{"$f":"U8/(W4-U25)","v":0},{"$f":"IF(V8=0,0,(V8*((LOG(V8))/LOG(2))))","v":0},null,{"$f":"N8","v":11112},{"$f":"COUNTIF(L9:L9,Y8)","v":0},{"$f":"Z8/(AB4-Z25)","v":0},{"$f":"IF(AA8=0,0,(AA8*((LOG(AA8))/LOG(2))))","v":0},null,{"$f":"N8","v":11112},{"$f":"COUNTIF(L10:L11,AD8)","v":0},{"$f":"AE8/(AG4-AE25)","v":0},{"$f":"IF(AF8=0,0,(AF8*((LOG(AF8))/LOG(2))))","v":0},null,{"$f":"N8","v":11112},{"$f":"COUNTIF(L12:L12,AI8)","v":0},{"$f":"AJ8/(AL4-AJ25)","v":0},{"$f":"IF(AK8=0,0,(AK8*((LOG(AK8))/LOG(2))))","v":0},null,{"$f":"N8","v":11112},{"$f":"COUNTIF(L13:L14,AN8)","v":0},{"$f":"AO8/(AQ4-AO25)","v":0},{"$f":"IF(AP8=0,0,(AP8*((LOG(AP8))/LOG(2))))","v":0},null,{"$f":"N8","v":11112},{"$f":"COUNTIF(L15:L15,AS8)","v":0},{"$f":"AT8/(AV4-AT25)","v":0},{"$f":"IF(AU8=0,0,(AU8*((LOG(AU8))/LOG(2))))","v":0}]
[12,423,24,435,13,456,23,467,13,477,0,12121,null,11121,{"$f":"COUNTIF($L$7:$L$500,N9)","v":0},{"$f":"O9/$Q$4","v":0},{"$f":"IF(P9=0,0,(P9*((LOG(P9))/LOG(2))))","v":0},null,null,{"$f":"N9","v":11121},{"$f":"COUNTIF(L7:L8,T9)","v":0},{"$f":"U9/(W4-U25)","v":0},{"$f":"IF(V9=0,0,(V9*((LOG(V9))/LOG(2))))","v":0},null,{"$f":"N9","v":11121},{"$f":"COUNTIF(L9:L9,Y9)","v":0},{"$f":"Z9/(AB4-Z25)","v":0},{"$f":"IF(AA9=0,0,(AA9*((LOG(AA9))/LOG(2))))","v":0},null,{"$f":"N9","v":11121},{"$f":"COUNTIF(L10:L11,AD9)","v":0},{"$f":"AE9/(AG4-AE25)","v":0},{"$f":"IF(AF9=0,0,(AF9*((LOG(AF9))/LOG(2))))","v":0},null,{"$f":"N9","v":11121},{"$f":"COUNTIF(L12:L12,AI9)","v":0},{"$f":"AJ9/(AL4-AJ25)","v":0},{"$f":"IF(AK9=0,0,(AK9*((LOG(AK9))/LOG(2))))","v":0},null,{"$f":"N9","v":11121},{"$f":"COUNTIF(L13:L14,AN9)","v":0},{"$f":"AO9/(AQ4-AO25)","v":0},{"$f":"IF(AP9=0,0,(AP9*((LOG(AP9))/LOG(2))))","v":0},null,{"$f":"N9","v":11121},{"$f":"COUNTIF(L15:L15,AS9)","v":0},{"$f":"AT9/(AV4-AT25)","v":0},{"$f":"IF(AU9=0,0,(AU9*((LOG(AU9))/LOG(2))))","v":0}]
[21,7983,11,8052,22,8064,23,8097,13,12015,0,21221,null,11122,{"$f":"COUNTIF($L$7:$L$500,N10)","v":0},{"$f":"O10/$Q$4","v":0},{"$f":"IF(P10=0,0,(P10*((LOG(P10))/LOG(2))))","v":0},null,null,{"$f":"N10","v":11122},{"$f":"COUNTIF(L7:L8,T10)","v":0},{"$f":"U10/(W4-U25)","v":0},{"$f":"IF(V10=0,0,(V10*((LOG(V10))/LOG(2))))","v":0},null,{"$f":"N10","v":11122},{"$f":"COUNTIF(L9:L9,Y10)","v":0},{"$f":"Z10/(AB4-Z25)","v":0},{"$f":"IF(AA10=0,0,(AA10*((LOG(AA10))/LOG(2))))","v":0},null,{"$f":"N10","v":11122},{"$f":"COUNTIF(L10:L11,AD10)","v":0},{"$f":"AE10/(AG4-AE25)","v":0},{"$f":"IF(AF10=0,0,(AF10*((LOG(AF10))/LOG(2))))","v":0},null,{"$f":"N10","v":11122},{"$f":"COUNTIF(L12:L12,AI10)","v":0},{"$f":"AJ10/(AL4-AJ25)","v":0},{"$f":"IF(AK10=0,0,(AK10*((LOG(AK10))/LOG(2))))","v":0},null,{"$f":"N10","v":11122},{"$f":"COUNTIF(L13:L14,AN10)","v":0},{"$f":"AO10/(AQ4-AO25)","v":0},{"$f":"IF(AP10=0,0,(AP10*((LOG(AP10))/LOG(2))))","v":0},null,{"$f":"N10","v":11122},{"$f":"COUNTIF(L15:L15,AS10)","v":0},{"$f":"AT10/(AV4-AT25)","v":0},{"$f":"IF(AU10=0,0,(AU10*((LOG(AU10))/LOG(2))))","v":0}]
[12,12163,13,12174,24,12185,14,12194,24,12204,0,11212,null,11211,{"$f":"COUNTIF($L$7:$L$500,N11)","v":0},{"$f":"O11/$Q$4","v":0},{"$f":"IF(P11=0,0,(P11*((LOG(P11))/LOG(2))))","v":0},null,null,{"$f":"N11","v":11211},{"$f":"COUNTIF(L7:L8,T11)","v":0},{"$f":"U11/(W4-U25)","v":0},{"$f":"IF(V11=0,0,(V11*((LOG(V11))/LOG(2))))","v":0},null,{"$f":"N11","v":11211},{"$f":"COUNTIF(L9:L9,Y11)","v":0},{"$f":"Z11/(AB4-Z25)","v":0},{"$f":"IF(AA11=0,0,(AA11*((LOG(AA11))/LOG(2))))","v":0},null,{"$f":"N11","v":11211},{"$f":"COUNTIF(L10:L11,AD11)","v":0},{"$f":"AE11/(AG4-AE25)","v":0},{"$f":"IF(AF11=0,0,(AF11*((LOG(AF11))/LOG(2))))","v":0},null,{"$f":"N11","v":11211},{"$f":"COUNTIF(L12:L12,AI11)","v":0},{"$f":"AJ11/(AL4-AJ25)","v":0},{"$f":"IF(AK11=0,0,(AK11*((LOG(AK11))/LOG(2))))","v":0},null,{"$f":"N11","v":11211},{"$f":"COUNTIF(L13:L14,AN11)","v":0},{"$f":"AO11/(AQ4-AO25)","v":0},{"$f":"IF(AP11=0,0,(AP11*((LOG(AP11))/LOG(2))))","v":0},null,{"$f":"N11","v":11211},{"$f":"COUNTIF(L15:L15,AS11)","v":0},{"$f":"AT11/(AV4-AT25)","v":0},{"$f":"IF(AU11=0,0,(AU11*((LOG(AU11))/LOG(2))))","v":0}]
[12,12537,13,12548,13,16589,14,16601,13,16631,0,11111,null,11212,{"$f":"COUNTIF($L$7:$L$500,N12)","v":1},{"$f":"O12/$Q$4","v":0.1111111111111111},{"$f":"IF(P12=0,0,(P12*((LOG(P12))/LOG(2))))","v":-0.3522138890491458},null,null,{"$f":"N12","v":11212},{"$f":"COUNTIF(L7:L8,T12)","v":0},{"$f":"U12/(W4-U25)","v":0},{"$f":"IF(V12=0,0,(V12*((LOG(V12))/LOG(2))))","v":0},null,{"$f":"N12","v":11212},{"$f":"COUNTIF(L9:L9,Y12)","v":0},{"$f":"Z12/(AB4-Z25)","v":0},{"$f":"IF(AA12=0,0,(AA12*((LOG(AA12))/LOG(2))))","v":0},null,{"$f":"N12","v":11212},{"$f":"COUNTIF(L10:L11,AD12)","v":1},{"$f":"AE12/(AG4-AE25)","v":0.5},{"$f":"IF(AF12=0,0,(AF12*((LOG(AF12))/LOG(2))))","v":-0.5},null,{"$f":"N12","v":11212},{"$f":"COUNTIF(L12:L12,AI12)","v":0},{"$f":"AJ12/(AL4-AJ25)","v":0},{"$f":"IF(AK12=0,0,(AK12*((LOG(AK12))/LOG(2))))","v":0},null,{"$f":"N12","v":11212},{"$f":"COUNTIF(L13:L14,AN12)","v":0},{"$f":"AO12/(AQ4-AO25)","v":0},{"$f":"IF(AP12=0,0,(AP12*((LOG(AP12))/LOG(2))))","v":0},null,{"$f":"N12","v":11212},{"$f":"COUNTIF(L15:L15,AS12)","v":0},{"$f":"AT12/(AV4-AT25)","v":0},{"$f":"IF(AU12=0,0,(AU12*((LOG(AU12))/LOG(2))))","v":0}]
[12,20461,13,20471,13,20480,14,20486,13,20495,0,11111,null,11221,{"$f":"COUNTIF($L$7:$L$500,N13)","v":0},{"$f":"O13/$Q$4","v":0},{"$f":"IF(P13=0,0,(P13*((LOG(P13))/LOG(2))))","v":0},null,null,{"$f":"N13","v":11221},{"$f":"COUNTIF(L7:L8,T13)","v":0},{"$f":"U13/(W4-U25)","v":0},{"$f":"IF(V13=0,0,(V13*((LOG(V13))/LOG(2))))","v":0},null,{"$f":"N13","v":11221},{"$f":"COUNTIF(L9:L9,Y13)","v":0},{"$f":"Z13/(AB4-Z25)","v":0},{"$f":"IF(AA13=0,0,(AA13*((LOG(AA13))/LOG(2))))","v":0},null,{"$f":"N13","v":11221},{"$f":"COUNTIF(L10:L11,AD13)","v":0},{"$f":"AE13/(AG4-AE25)","v":0},{"$f":"IF(AF13=0,0,(AF13*((LOG(AF13))/LOG(2))))","v":0},null,{"$f":"N13","v":11221},{"$f":"COUNTIF(L12:L12,AI13)","v":0},{"$f":"AJ13/(AL4-AJ25)","v":0},{"$f":"IF(AK13=0,0,(AK13*((LOG(AK13))/LOG(2))))","v":0},null,{"$f":"N13","v":11221},{"$f":"COUNTIF(L13:L14,AN13)","v":0},{"$f":"AO13/(AQ4-AO25)","v":0},{"$f":"IF(AP13=0,0,(AP13*((LOG(AP13))/LOG(2))))","v":0},null,{"$f":"N13","v":11221},{"$f":"COUNTIF(L15:L15,AS13)","v":0},{"$f":"AT13/(AV4-AT25)","v":0},{"$f":"IF(AU13=0,0,(AU13*((LOG(AU13))/LOG(2))))","v":0}]
[12,21649,24,21659,13,21673,23,21689,13,21700,0,12121,null,11222,{"$f":"COUNTIF($L$7:$L$500,N14)","v":0},{"$f":"O14/$Q$4","v":0},{"$f":"IF(P14=0,0,(P14*((LOG(P14))/LOG(2))))","v":0},null,null,{"$f":"N14","v":11222},{"$f":"COUNTIF(L7:L8,T14)","v":0},{"$f":"U14/(W4-U25)","v":0},{"$f":"IF(V14=0,0,(V14*((LOG(V14))/LOG(2))))","v":0},null,{"$f":"N14","v":11222},{"$f":"COUNTIF(L9:L9,Y14)","v":0},{"$f":"Z14/(AB4-Z25)","v":0},{"$f":"IF(AA14=0,0,(AA14*((LOG(AA14))/LOG(2))))","v":0},null,{"$f":"N14","v":11222},{"$f":"COUNTIF(L10:L11,AD14)","v":0},{"$f":"AE14/(AG4-AE25)","v":0},{"$f":"IF(AF14=0,0,(AF14*((LOG(AF14))/LOG(2))))","v":0},null,{"$f":"N14","v":11222},{"$f":"COUNTIF(L12:L12,AI14)","v":0},{"$f":"AJ14/(AL4-AJ25)","v":0},{"$f":"IF(AK14=0,0,(AK14*((LOG(AK14))/LOG(2))))","v":0},null,{"$f":"N14","v":11222},{"$f":"COUNTIF(L13:L14,AN14)","v":0},{"$f":"AO14/(AQ4-AO25)","v":0},{"$f":"IF(AP14=0,0,(AP14*((LOG(AP14))/LOG(2))))","v":0},null,{"$f":"N14","v":11222},{"$f":"COUNTIF(L15:L15,AS14)","v":0},{"$f":"AT14/(AV4-AT25)","v":0},{"$f":"IF(AU14=0,0,(AU14*((LOG(AU14))/LOG(2))))","v":0}]
[12,22117,24,22129,13,22139,14,22155,24,22171,0,12112,null,12111,{"$f":"COUNTIF($L$7:$L$500,N15)","v":0},{"$f":"O15/$Q$4","v":0},{"$f":"IF(P15=0,0,(P15*((LOG(P15))/LOG(2))))","v":0},null,null,{"$f":"N15","v":12111},{"$f":"COUNTIF(L7:L8,T15)","v":0},{"$f":"U15/(W4-U25)","v":0},{"$f":"IF(V15=0,0,(V15*((LOG(V15))/LOG(2))))","v":0},null,{"$f":"N15","v":12111},{"$f":"COUNTIF(L9:L9,Y15)","v":0},{"$f":"Z15/(AB4-Z25)","v":0},{"$f":"IF(AA15=0,0,(AA15*((LOG(AA15))/LOG(2))))","v":0},null,{"$f":"N15","v":12111},{"$f":"COUNTIF(L10:L11,AD15)","v":0},{"$f":"AE15/(AG4-AE25)","v":0},{"$f":"IF(AF15=0,0,(AF15*((LOG(AF15))/LOG(2))))","v":0},null,{"$f":"N15","v":12111},{"$f":"COUNTIF(L12:L12,AI15)","v":0},{"$f":"AJ15/(AL4-AJ25)","v":0},{"$f":"IF(AK15=0,0,(AK15*((LOG(AK15))/LOG(2))))","v":0},null,{"$f":"N15","v":12111},{"$f":"COUNTIF(L13:L14,AN15)","v":0},{"$f":"AO15/(AQ4-AO25)","v":0},{"$f":"IF(AP15=0,0,(AP15*((LOG(AP15))/LOG(2))))","v":0},null,{"$f":"N15","v":12111},{"$f":"COUNTIF(L15:L15,AS15)","v":0},{"$f":"AT15/(AV4-AT25)","v":0},{"$f":"IF(AU15=0,0,(AU15*((LOG(AU15))/LOG(2))))","v":0}]
[null,null,null,null,null,null,null,null,null,null,null,null,null,12112,{"$f":"COUNTIF($L$7:$L$500,N16)","v":1},{"$f":"O16/$Q$4","v":0.1111111111111111},{"$f":"IF(P16=0,0,(P16*((LOG(P16))/LOG(2))))","v":-0.3522138890491458},null,null,{"$f":"N16","v":12112},{"$f":"COUNTIF(L7:L8,T16)","v":0},{"$f":"U16/(W4-U25)","v":0},{"$f":"IF(V16=0,0,(V16*((LOG(V16))/LOG(2))))","v":0},null,{"$f":"N16","v":12112},{"$f":"COUNTIF(L9:L9,Y16)","v":0},{"$f":"Z16/(AB4-Z25)","v":0},{"$f":"IF(AA16=0,0,(AA16*((LOG(AA16))/LOG(2))))","v":0},null,{"$f":"N16","v":12112},{"$f":"COUNTIF(L10:L11,AD16)","v":0},{"$f":"AE16/(AG4-AE25)","v":0},{"$f":"IF(AF16=0,0,(AF16*((LOG(AF16))/LOG(2))))","v":0},null,{"$f":"N16","v":12112},{"$f":"COUNTIF(L12:L12,AI16)","v":0},{"$f":"AJ16/(AL4-AJ25)","v":0},{"$f":"IF(AK16=0,0,(AK16*((LOG(AK16))/LOG(2))))","v":0},null,{"$f":"N16","v":12112},{"$f":"COUNTIF(L13:L14,AN16)","v":0},{"$f":"AO16/(AQ4-AO25)","v":0},{"$f":"IF(AP16=0,0,(AP16*((LOG(AP16))/LOG(2))))","v":0},null,{"$f":"N16","v":12112},{"$f":"COUNTIF(L15:L15,AS16)","v":1},{"$f":"AT16/(AV4-AT25)","v":1},{"$f":"IF(AU16=0,0,(AU16*((LOG(AU16))/LOG(2))))","v":0}]
[null,null,null,null,null,null,null,null,null,null,null,null,null,12121,{"$f":"COUNTIF($L$7:$L$500,N17)","v":2},{"$f":"O17/$Q$4","v":0.22222222222222221},{"$f":"IF(P17=0,0,(P17*((LOG(P17))/LOG(2))))","v":-0.48220555587606945},null,null,{"$f":"N17","v":12121},{"$f":"COUNTIF(L7:L8,T17)","v":0},{"$f":"U17/(W4-U25)","v":0},{"$f":"IF(V17=0,0,(V17*((LOG(V17))/LOG(2))))","v":0},null,{"$f":"N17","v":12121},{"$f":"COUNTIF(L9:L9,Y17)","v":1},{"$f":"Z17/(AB4-Z25)","v":1},{"$f":"IF(AA17=0,0,(AA17*((LOG(AA17))/LOG(2))))","v":0},null,{"$f":"N17","v":12121},{"$f":"COUNTIF(L10:L11,AD17)","v":0},{"$f":"AE17/(AG4-AE25)","v":0},{"$f":"IF(AF17=0,0,(AF17*((LOG(AF17))/LOG(2))))","v":0},null,{"$f":"N17","v":12121},{"$f":"COUNTIF(L12:L12,AI17)","v":0},{"$f":"AJ17/(AL4-AJ25)","v":0},{"$f":"IF(AK17=0,0,(AK17*((LOG(AK17))/LOG(2))))","v":0},null,{"$f":"N17","v":12121},{"$f":"COUNTIF(L13:L14,AN17)","v":1},{"$f":"AO17/(AQ4-AO25)","v":0.5},{"$f":"IF(AP17=0,0,(AP17*((LOG(AP17))/LOG(2))))","v":-0.5},null,{"$f":"N17","v":12121},{"$f":"COUNTIF(L15:L15,AS17)","v":0},{"$f":"AT17/(AV4-AT25)","v":0},{"$f":"IF(AU17=0,0,(AU17*((LOG(AU17))/LOG(2))))","v":0}]
[null,null,null,null,null,null,null,null,null,null,null,null,null,12122,{"$f":"COUNTIF($L$7:$L$500,N18)","v":0},{"$f":"O18/$Q$4","v":0},{"$f":"IF(P18=0,0,(P18*((LOG(P18))/LOG(2))))","v":0},null,null,{"$f":"N18","v":12122},{"$f":"COUNTIF(L7:L8,T18)","v":0},{"$f":"U18/(W4-U25)","v":0},{"$f":"IF(V18=0,0,(V18*((LOG(V18))/LOG(2))))","v":0},null,{"$f":"N18","v":12122},{"$f":"COUNTIF(L9:L9,Y18)","v":0},{"$f":"Z18/(AB4-Z25)","v":0},{"$f":"IF(AA18=0,0,(AA18*((LOG(AA18))/LOG(2))))","v":0},null,{"$f":"N18","v":12122},{"$f":"COUNTIF(L10:L11,AD18)","v":0},{"$f":"AE18/(AG4-AE25)","v":0},{"$f":"IF(AF18=0,0,(AF18*((LOG(AF18))/LOG(2))))","v":0},null,{"$f":"N18","v":12122},{"$f":"COUNTIF(L12:L12,AI18)","v":0},{"$f":"AJ18/(AL4-AJ25)","v":0},{"$f":"IF(AK18=0,0,(AK18*((LOG(AK18))/LOG(2))))","v":0},null,{"$f":"N18","v":12122},{"$f":"COUNTIF(L13:L14,AN18)","v":0},{"$f":"AO18/(AQ4-AO25)","v":0},{"$f":"IF(AP18=0,0,(AP18*((LOG(AP18))/LOG(2))))","v":0},null,{"$f":"N18","v":12122},{"$f":"COUNTIF(L15:L15,AS18)","v":0},{"$f":"AT18/(AV4-AT25)","v":0},{"$f":"IF(AU18=0,0,(AU18*((LOG(AU18))/LOG(2))))","v":0}]
[null,null,null,null,null,null,null,null,null,null,null,null,null,12211,{"$f":"COUNTIF($L$7:$L$500,N19)","v":0},{"$f":"O19/$Q$4","v":0},{"$f":"IF(P19=0,0,(P19*((LOG(P19))/LOG(2))))","v":0},null,null,{"$f":"N19","v":12211},{"$f":"COUNTIF(L7:L8,T19)","v":0},{"$f":"U19/(W4-U25)","v":0},{"$f":"IF(V19=0,0,(V19*((LOG(V19))/LOG(2))))","v":0},null,{"$f":"N19","v":12211},{"$f":"COUNTIF(L9:L9,Y19)","v":0},{"$f":"Z19/(AB4-Z25)","v":0},{"$f":"IF(AA19=0,0,(AA19*((LOG(AA19))/LOG(2))))","v":0},null,{"$f":"N19","v":12211},{"$f":"COUNTIF(L10:L11,AD19)","v":0},{"$f":"AE19/(AG4-AE25)","v":0},{"$f":"IF(AF19=0,0,(AF19*((LOG(AF19))/LOG(2))))","v":0},null,{"$f":"N19","v":12211},{"$f":"COUNTIF(L12:L12,AI19)","v":0},{"$f":"AJ19/(AL4-AJ25)","v":0},{"$f":"IF(AK19=0,0,(AK19*((LOG(AK19))/LOG(2))))","v":0},null,{"$f":"N19","v":12211},{"$f":"COUNTIF(L13:L14,AN19)","v":0},{"$f":"AO19/(AQ4-AO25)","v":0},{"$f":"IF(AP19=0,0,(AP19*((LOG(AP19))/LOG(2))))","v":0},null,{"$f":"N19","v":12211},{"$f":"COUNTIF(L15:L15,AS19)","v":0},{"$f":"AT19/(AV4-AT25)","v":0},{"$f":"IF(AU19=0,0,(AU19*((LOG(AU19))/LOG(2))))","v":0}]
[null,null,null,null,null,null,null,null,null,null,null,null,null,12212,{"$f":"COUNTIF($L$7:$L$500,N20)","v":0},{"$f":"O20/$Q$4","v":0},{"$f":"IF(P20=0,0,(P20*((LOG(P20))/LOG(2))))","v":0},null,null,{"$f":"N20","v":12212},{"$f":"COUNTIF(L7:L8,T20)","v":0},{"$f":"U20/(W4-U25)","v":0},{"$f":"IF(V20=0,0,(V20*((LOG(V20))/LOG(2))))","v":0},null,{"$f":"N20","v":12212},{"$f":"COUNTIF(L9:L9,Y20)","v":0},{"$f":"Z20/(AB4-Z25)","v":0},{"$f":"IF(AA20=0,0,(AA20*((LOG(AA20))/LOG(2))))","v":0},null,{"$f":"N20","v":12212},{"$f":"COUNTIF(L10:L11,AD20)","v":0},{"$f":"AE20/(AG4-AE25)","v":0},{"$f":"IF(AF20=0,0,(AF20*((LOG(AF20))/LOG(2))))","v":0},null,{"$f":"N20","v":12212},{"$f":"COUNTIF(L12:L12,AI20)","v":0},{"$f":"AJ20/(AL4-AJ25)","v":0},{"$f":"IF(AK20=0,0,(AK20*((LOG(AK20))/LOG(2))))","v":0},null,{"$f":"N20","v":12212},{"$f":"COUNTIF(L13:L14,AN20)","v":0},{"$f":"AO20/(AQ4-AO25)","v":0},{"$f":"IF(AP20=0,0,(AP20*((LOG(AP20))/LOG(2))))","v":0},null,{"$f":"N20","v":12212},{"$f":"COUNTIF(L15:L15,AS20)","v":0},{"$f":"AT20/(AV4-AT25)","v":0},{"$f":"IF(AU20=0,0,(AU20*((LOG(AU20))/LOG(2))))","v":0}]
[null,null,null,null,null,null,null,null,null,null,null,null,null,12221,{"$f":"COUNTIF($L$7:$L$500,N21)","v":0},{"$f":"O21/$Q$4","v":0},{"$f":"IF(P21=0,0,(P21*((LOG(P21))/LOG(2))))","v":0},null,null,{"$f":"N21","v":12221},{"$f":"COUNTIF(L7:L8,T21)","v":0},{"$f":"U21/(W4-U25)","v":0},{"$f":"IF(V21=0,0,(V21*((LOG(V21))/LOG(2))))","v":0},null,{"$f":"N21","v":12221},{"$f":"COUNTIF(L9:L9,Y21)","v":0},{"$f":"Z21/(AB4-Z25)","v":0},{"$f":"IF(AA21=0,0,(AA21*((LOG(AA21))/LOG(2))))","v":0},null,{"$f":"N21","v":12221},{"$f":"COUNTIF(L10:L11,AD21)","v":0},{"$f":"AE21/(AG4-AE25)","v":0},{"$f":"IF(AF21=0,0,(AF21*((LOG(AF21))/LOG(2))))","v":0},null,{"$f":"N21","v":12221},{"$f":"COUNTIF(L12:L12,AI21)","v":0},{"$f":"AJ21/(AL4-AJ25)","v":0},{"$f":"IF(AK21=0,0,(AK21*((LOG(AK21))/LOG(2))))","v":0},null,{"$f":"N21","v":12221},{"$f":"COUNTIF(L13:L14,AN21)","v":0},{"$f":"AO21/(AQ4-AO25)","v":0},{"$f":"IF(AP21=0,0,(AP21*((LOG(AP21))/LOG(2))))","v":0},null,{"$f":"N21","v":12221},{"$f":"COUNTIF(L15:L15,AS21)","v":0},{"$f":"AT21/(AV4-AT25)","v":0},{"$f":"IF(AU21=0,0,(AU21*((LOG(AU21))/LOG(2))))","v":0}]
[null,null,null,null,null,null,null,null,null,null,null,null,null,12222,{"$f":"COUNTIF($L$7:$L$500,N22)","v":0},{"$f":"O22/$Q$4","v":0},{"$f":"IF(P22=0,0,(P22*((LOG(P22))/LOG(2))))","v":0},null,null,{"$f":"N22","v":12222},{"$f":"COUNTIF(L7:L8,T22)","v":0},{"$f":"U22/(W4-U25)","v":0},{"$f":"IF(V22=0,0,(V22*((LOG(V22))/LOG(2))))","v":0},null,{"$f":"N22","v":12222},{"$f":"COUNTIF(L9:L9,Y22)","v":0},{"$f":"Z22/(AB4-Z25)","v":0},{"$f":"IF(AA22=0,0,(AA22*((LOG(AA22))/LOG(2))))","v":0},null,{"$f":"N22","v":12222},{"$f":"COUNTIF(L10:L11,AD22)","v":0},{"$f":"AE22/(AG4-AE25)","v":0},{"$f":"IF(AF22=0,0,(AF22*((LOG(AF22))/LOG(2))))","v":0},null,{"$f":"N22","v":12222},{"$f":"COUNTIF(L12:L12,AI22)","v":0},{"$f":"AJ22/(AL4-AJ25)","v":0},{"$f":"IF(AK22=0,0,(AK22*((LOG(AK22))/LOG(2))))","v":0},null,{"$f":"N22","v":12222},{"$f":"COUNTIF(L13:L14,AN22)","v":0},{"$f":"AO22/(AQ4-AO25)","v":0},{"$f":"IF(AP22=0,0,(AP22*((LOG(AP22))/LOG(2))))","v":0},null,{"$f":"N22","v":12222},{"$f":"COUNTIF(L15:L15,AS22)","v":0},{"$f":"AT22/(AV4-AT25)","v":0},{"$f":"IF(AU22=0,0,(AU22*((LOG(AU22))/LOG(2))))","v":0}]
[null,null,null,null,null,null,null,null,null,null,null,null,null,21111,{"$f":"COUNTIF($L$7:$L$500,N23)","v":0},{"$f":"O23/$Q$4","v":0},{"$f":"IF(P23=0,0,(P23*((LOG(P23))/LOG(2))))","v":0},null,null,{"$f":"N23","v":21111},{"$f":"COUNTIF(L7:L8,T23)","v":0},{"$f":"U23/(W4-U25)","v":0},{"$f":"IF(V23=0,0,(V23*((LOG(V23))/LOG(2))))","v":0},null,{"$f":"N23","v":21111},{"$f":"COUNTIF(L9:L9,Y23)","v":0},{"$f":"Z23/(AB4-Z25)","v":0},{"$f":"IF(AA23=0,0,(AA23*((LOG(AA23))/LOG(2))))","v":0},null,{"$f":"N23","v":21111},{"$f":"COUNTIF(L10:L11,AD23)","v":0},{"$f":"AE23/(AG4-AE25)","v":0},{"$f":"IF(AF23=0,0,(AF23*((LOG(AF23))/LOG(2))))","v":0},null,{"$f":"N23","v":21111},{"$f":"COUNTIF(L12:L12,AI23)","v":0},{"$f":"AJ23/(AL4-AJ25)","v":0},{"$f":"IF(AK23=0,0,(AK23*((LOG(AK23))/LOG(2))))","v":0},null,{"$f":"N23","v":21111},{"$f":"COUNTIF(L13:L14,AN23)","v":0},{"$f":"AO23/(AQ4-AO25)","v":0},{"$f":"IF(AP23=0,0,(AP23*((LOG(AP23))/LOG(2))))","v":0},null,{"$f":"N23","v":21111},{"$f":"COUNTIF(L15:L15,AS23)","v":0},{"$f":"AT23/(AV4-AT25)","v":0},{"$f":"IF(AU23=0,0,(AU23*((LOG(AU23))/LOG(2))))","v":0}]
[null,null,null,null,null,null,null,null,null,null,null,null,null,21112,{"$f":"COUNTIF($L$7:$L$500,N24)","v":0},{"$f":"O24/$Q$4","v":0},{"$f":"IF(P24=0,0,(P24*((LOG(P24))/LOG(2))))","v":0},null,null,{"$f":"N24","v":21112},{"$f":"COUNTIF(L7:L8,T24)","v":0},{"$f":"U24/(W4-U25)","v":0},{"$f":"IF(V24=0,0,(V24*((LOG(V24))/LOG(2))))","v":0},null,{"$f":"N24","v":21112},{"$f":"COUNTIF(L9:L9,Y24)","v":0},{"$f":"Z24/(AB4-Z25)","v":0},{"$f":"IF(AA24=0,0,(AA24*((LOG(AA24))/LOG(2))))","v":0},null,{"$f":"N24","v":21112},{"$f":"COUNTIF(L10:L11,AD24)","v":0},{"$f":"AE24/(AG4-AE25)","v":0},{"$f":"IF(AF24=0,0,(AF24*((LOG(AF24))/LOG(2))))","v":0},null,{"$f":"N24","v":21112},{"$f":"COUNTIF(L12:L12,AI24)","v":0},{"$f":"AJ24/(AL4-AJ25)","v":0},{"$f":"IF(AK24=0,0,(AK24*((LOG(AK24))/LOG(2))))","v":0},null,{"$f":"N24","v":21112},{"$f":"COUNTIF(L13:L14,AN24)","v":0},{"$f":"AO24/(AQ4-AO25)","v":0},{"$f":"IF(AP24=0,0,(AP24*((LOG(AP24))/LOG(2))))","v":0},null,{"$f":"N24","v":21112},{"$f":"COUNTIF(L15:L15,AS24)","v":0},{"$f":"AT24/(AV4-AT25)","v":0},{"$f":"IF(AU24=0,0,(AU24*((LOG(AU24))/LOG(2))))","v":0}]
[null,null,null,null,null,null,null,null,null,null,null,null,null,21121,{"$f":"COUNTIF($L$7:$L$500,N25)","v":0},{"$f":"O25/$Q$4","v":0},{"$f":"IF(P25=0,0,(P25*((LOG(P25))/LOG(2))))","v":0},null,null,{"$f":"N25","v":21121},{"$f":"COUNTIF(L7:L8,T25)","v":0},null,null,null,{"$f":"N25","v":21121},{"$f":"COUNTIF(L9:L9,Y25)","v":0},null,null,null,{"$f":"N25","v":21121},{"$f":"COUNTIF(L10:L11,AD25)","v":0},null,null,null,{"$f":"N25","v":21121},{"$f":"COUNTIF(L12:L12,AI25)","v":0},null,null,null,{"$f":"N25","v":21121},{"$f":"COUNTIF(L13:L14,AN25)","v":0},null,null,null,{"$f":"N25","v":21121},{"$f":"COUNTIF(L15:L15,AS25)","v":0}]
[null,null,null,null,null,null,null,null,null,null,null,null,null,21122,{"$f":"COUNTIF($L$7:$L$500,N26)","v":0},{"$f":"O26/$Q$4","v":0},{"$f":"IF(P26=0,0,(P26*((LOG(P26))/LOG(2))))","v":0},null,null,{"$f":"N26","v":21122},{"$f":"COUNTIF(L7:L8,T26)","v":0},{"$f":"U26/(W4-U25)","v":0},{"$f":"IF(V26=0,0,(V26*((LOG(V26))/LOG(2))))","v":0},null,{"$f":"N26","v":21122},{"$f":"COUNTIF(L9:L9,Y26)","v":0},{"$f":"Z26/(AB4-Z25)","v":0},{"$f":"IF(AA26=0,0,(AA26*((LOG(AA26))/LOG(2))))","v":0},null,{"$f":"N26","v":21122},{"$f":"COUNTIF(L10:L11,AD26)","v":0},{"$f":"AE26/(AG4-AE25)","v":0},{"$f":"IF(AF26=0,0,(AF26*((LOG(AF26))/LOG(2))))","v":0},null,{"$f":"N26","v":21122},{"$f":"COUNTIF(L12:L12,AI26)","v":0},{"$f":"AJ26/(AL4-AJ25)","v":0},{"$f":"IF(AK26=0,0,(AK26*((LOG(AK26))/LOG(2))))","v":0},null,{"$f":"N26","v":21122},{"$f":"COUNTIF(L13:L14,AN26)","v":0},{"$f":"AO26/(AQ4-AO25)","v":0},{"$f":"IF(AP26=0,0,(AP26*((LOG(AP26))/LOG(2))))","v":0},null,{"$f":"N26","v":21122},{"$f":"COUNTIF(L15:L15,AS26)","v":0},{"$f":"AT26/(AV4-AT25)","v":0},{"$f":"IF(AU26=0,0,(AU26*((LOG(AU26))/LOG(2))))","v":0}]
[null,null,null,null,null,null,null,null,null,null,null,null,null,21211,{"$f":"COUNTIF($L$7:$L$500,N27)","v":0},{"$f":"O27/$Q$4","v":0},{"$f":"IF(P27=0,0,(P27*((LOG(P27))/LOG(2))))","v":0},null,null,{"$f":"N27","v":21211},{"$f":"COUNTIF(L7:L8,T27)","v":0},{"$f":"U27/(W4-U25)","v":0},{"$f":"IF(V27=0,0,(V27*((LOG(V27))/LOG(2))))","v":0},null,{"$f":"N27","v":21211},{"$f":"COUNTIF(L9:L9,Y27)","v":0},{"$f":"Z27/(AB4-Z25)","v":0},{"$f":"IF(AA27=0,0,(AA27*((LOG(AA27))/LOG(2))))","v":0},null,{"$f":"N27","v":21211},{"$f":"COUNTIF(L10:L11,AD27)","v":0},{"$f":"AE27/(AG4-AE25)","v":0},{"$f":"IF(AF27=0,0,(AF27*((LOG(AF27))/LOG(2))))","v":0},null,{"$f":"N27","v":21211},{"$f":"COUNTIF(L12:L12,AI27)","v":0},{"$f":"AJ27/(AL4-AJ25)","v":0},{"$f":"IF(AK27=0,0,(AK27*((LOG(AK27))/LOG(2))))","v":0},null,{"$f":"N27","v":21211},{"$f":"COUNTIF(L13:L14,AN27)","v":0},{"$f":"AO27/(AQ4-AO25)","v":0},{"$f":"IF(AP27=0,0,(AP27*((LOG(AP27))/LOG(2))))","v":0},null,{"$f":"N27","v":21211},{"$f":"COUNTIF(L15:L15,AS27)","v":0},{"$f":"AT27/(AV4-AT25)","v":0},{"$f":"IF(AU27=0,0,(AU27*((LOG(AU27))/LOG(2))))","v":0}]
[null,null,null,null,null,null,null,null,null,null,null,null,null,21212,{"$f":"COUNTIF($L$7:$L$500,N28)","v":0},{"$f":"O28/$Q$4","v":0},{"$f":"IF(P28=0,0,(P28*((LOG(P28))/LOG(2))))","v":0},null,null,{"$f":"N28","v":21212},{"$f":"COUNTIF(L7:L8,T28)","v":0},{"$f":"U28/(W4-U25)","v":0},{"$f":"IF(V28=0,0,(V28*((LOG(V28))/LOG(2))))","v":0},null,{"$f":"N28","v":21212},{"$f":"COUNTIF(L9:L9,Y28)","v":0},{"$f":"Z28/(AB4-Z25)","v":0},{"$f":"IF(AA28=0,0,(AA28*((LOG(AA28))/LOG(2))))","v":0},null,{"$f":"N28","v":21212},{"$f":"COUNTIF(L10:L11,AD28)","v":0},{"$f":"AE28/(AG4-AE25)","v":0},{"$f":"IF(AF28=0,0,(AF28*((LOG(AF28))/LOG(2))))","v":0},null,{"$f":"N28","v":21212},{"$f":"COUNTIF(L12:L12,AI28)","v":0},{"$f":"AJ28/(AL4-AJ25)","v":0},{"$f":"IF(AK28=0,0,(AK28*((LOG(AK28))/LOG(2))))","v":0},null,{"$f":"N28","v":21212},{"$f":"COUNTIF(L13:L14,AN28)","v":0},{"$f":"AO28/(AQ4-AO25)","v":0},{"$f":"IF(AP28=0,0,(AP28*((LOG(AP28))/LOG(2))))","v":0},null,{"$f":"N28","v":21212},{"$f":"COUNTIF(L15:L15,AS28)","v":0},{"$f":"AT28/(AV4-AT25)","v":0},{"$f":"IF(AU28=0,0,(AU28*((LOG(AU28))/LOG(2))))","v":0}]
[null,null,null,null,null,null,null,null,null,null,null,null,null,21221,{"$f":"COUNTIF($L$7:$L$500,N29)","v":1},{"$f":"O29/$Q$4","v":0.1111111111111111},{"$f":"IF(P29=0,0,(P29*((LOG(P29))/LOG(2))))","v":-0.3522138890491458},null,null,{"$f":"N29","v":21221},{"$f":"COUNTIF(L7:L8,T29)","v":0},{"$f":"U29/(W4-U25)","v":0},{"$f":"IF(V29=0,0,(V29*((LOG(V29))/LOG(2))))","v":0},null,{"$f":"N29","v":21221},{"$f":"COUNTIF(L9:L9,Y29)","v":0},{"$f":"Z29/(AB4-Z25)","v":0},{"$f":"IF(AA29=0,0,(AA29*((LOG(AA29))/LOG(2))))","v":0},null,{"$f":"N29","v":21221},{"$f":"COUNTIF(L10:L11,AD29)","v":1},{"$f":"AE29/(AG4-AE25)","v":0.5},{"$f":"IF(AF29=0,0,(AF29*((LOG(AF29))/LOG(2))))","v":-0.5},null,{"$f":"N29","v":21221},{"$f":"COUNTIF(L12:L12,AI29)","v":0},{"$f":"AJ29/(AL4-AJ25)","v":0},{"$f":"IF(AK29=0,0,(AK29*((LOG(AK29))/LOG(2))))","v":0},null,{"$f":"N29","v":21221},{"$f":"COUNTIF(L13:L14,AN29)","v":0},{"$f":"AO29/(AQ4-AO25)","v":0},{"$f":"IF(AP29=0,0,(AP29*((LOG(AP29))/LOG(2))))","v":0},null,{"$f":"N29","v":21221},{"$f":"COUNTIF(L15:L15,AS29)","v":0},{"$f":"AT29/(AV4-AT25)","v":0},{"$f":"IF(AU29=0,0,(AU29*((LOG(AU29))/LOG(2))))","v":0}]
[null,null,null,null,null,null,null,null,null,null,null,null,null,21222,{"$f":"COUNTIF($L$7:$L$500,N30)","v":0},{"$f":"O30/$Q$4","v":0},{"$f":"IF(P30=0,0,(P30*((LOG(P30))/LOG(2))))","v":0},null,null,{"$f":"N30","v":21222},{"$f":"COUNTIF(L7:L8,T30)","v":0},{"$f":"U30/(W4-U25)","v":0},{"$f":"IF(V30=0,0,(V30*((LOG(V30))/LOG(2))))","v":0},null,{"$f":"N30","v":21222},{"$f":"COUNTIF(L9:L9,Y30)","v":0},{"$f":"Z30/(AB4-Z25)","v":0},{"$f":"IF(AA30=0,0,(AA30*((LOG(AA30))/LOG(2))))","v":0},null,{"$f":"N30","v":21222},{"$f":"COUNTIF(L10:L11,AD30)","v":0},{"$f":"AE30/(AG4-AE25)","v":0},{"$f":"IF(AF30=0,0,(AF30*((LOG(AF30))/LOG(2))))","v":0},null,{"$f":"N30","v":21222},{"$f":"COUNTIF(L12:L12,AI30)","v":0},{"$f":"AJ30/(AL4-AJ25)","v":0},{"$f":"IF(AK30=0,0,(AK30*((LOG(AK30))/LOG(2))))","v":0},null,{"$f":"N30","v":21222},{"$f":"COUNTIF(L13:L14,AN30)","v":0},{"$f":"AO30/(AQ4-AO25)","v":0},{"$f":"IF(AP30=0,0,(AP30*((LOG(AP30))/LOG(2))))","v":0},null,{"$f":"N30","v":21222},{"$f":"COUNTIF(L15:L15,AS30)","v":0},{"$f":"AT30/(AV4-AT25)","v":0},{"$f":"IF(AU30=0,0,(AU30*((LOG(AU30))/LOG(2))))","v":0}]
[null,null,null,null,null,null,null,null,null,null,null,null,null,22111,{"$f":"COUNTIF($L$7:$L$500,N31)","v":0},{"$f":"O31/$Q$4","v":0},{"$f":"IF(P31=0,0,(P31*((LOG(P31))/LOG(2))))","v":0},null,null,{"$f":"N31","v":22111},{"$f":"COUNTIF(L7:L8,T31)","v":0},{"$f":"U31/(W4-U25)","v":0},{"$f":"IF(V31=0,0,(V31*((LOG(V31))/LOG(2))))","v":0},null,{"$f":"N31","v":22111},{"$f":"COUNTIF(L9:L9,Y31)","v":0},{"$f":"Z31/(AB4-Z25)","v":0},{"$f":"IF(AA31=0,0,(AA31*((LOG(AA31))/LOG(2))))","v":0},null,{"$f":"N31","v":22111},{"$f":"COUNTIF(L10:L11,AD31)","v":0},{"$f":"AE31/(AG4-AE25)","v":0},{"$f":"IF(AF31=0,0,(AF31*((LOG(AF31))/LOG(2))))","v":0},null,{"$f":"N31","v":22111},{"$f":"COUNTIF(L12:L12,AI31)","v":0},{"$f":"AJ31/(AL4-AJ25)","v":0},{"$f":"IF(AK31=0,0,(AK31*((LOG(AK31))/LOG(2))))","v":0},null,{"$f":"N31","v":22111},{"$f":"COUNTIF(L13:L14,AN31)","v":0},{"$f":"AO31/(AQ4-AO25)","v":0},{"$f":"IF(AP31=0,0,(AP31*((LOG(AP31))/LOG(2))))","v":0},null,{"$f":"N31","v":22111},{"$f":"COUNTIF(L15:L15,AS31)","v":0},{"$f":"AT31/(AV4-AT25)","v":0},{"$f":"IF(AU31=0,0,(AU31*((LOG(AU31))/LOG(2))))","v":0}]
[null,null,null,null,null,null,null,null,null,null,null,null,null,22112,{"$f":"COUNTIF($L$7:$L$500,N32)","v":0},{"$f":"O32/$Q$4","v":0},{"$f":"IF(P32=0,0,(P32*((LOG(P32))/LOG(2))))","v":0},null,null,{"$f":"N32","v":22112},{"$f":"COUNTIF(L7:L8,T32)","v":0},{"$f":"U32/(W4-U25)","v":0},{"$f":"IF(V32=0,0,(V32*((LOG(V32))/LOG(2))))","v":0},null,{"$f":"N32","v":22112},{"$f":"COUNTIF(L9:L9,Y32)","v":0},{"$f":"Z32/(AB4-Z25)","v":0},{"$f":"IF(AA32=0,0,(AA32*((LOG(AA32))/LOG(2))))","v":0},null,{"$f":"N32","v":22112},{"$f":"COUNTIF(L10:L11,AD32)","v":0},{"$f":"AE32/(AG4-AE25)","v":0},{"$f":"IF(AF32=0,0,(AF32*((LOG(AF32))/LOG(2))))","v":0},null,{"$f":"N32","v":22112},{"$f":"COUNTIF(L12:L12,AI32)","v":0},{"$f":"AJ32/(AL4-AJ25)","v":0},{"$f":"IF(AK32=0,0,(AK32*((LOG(AK32))/LOG(2))))","v":0},null,{"$f":"N32","v":22112},{"$f":"COUNTIF(L13:L14,AN32)","v":0},{"$f":"AO32/(AQ4-AO25)","v":0},{"$f":"IF(AP32=0,0,(AP32*((LOG(AP32))/LOG(2))))","v":0},null,{"$f":"N32","v":22112},{"$f":"COUNTIF(L15:L15,AS32)","v":0},{"$f":"AT32/(AV4-AT25)","v":0},{"$f":"IF(AU32=0,0,(AU32*((LOG(AU32))/LOG(2))))","v":0}]
[null,null,null,null,null,null,null,null,null,null,null,null,null,22121,{"$f":"COUNTIF($L$7:$L$500,N33)","v":0},{"$f":"O33/$Q$4","v":0},{"$f":"IF(P33=0,0,(P33*((LOG(P33))/LOG(2))))","v":0},null,null,{"$f":"N33","v":22121},{"$f":"COUNTIF(L7:L8,T33)","v":0},{"$f":"U33/(W4-U25)","v":0},{"$f":"IF(V33=0,0,(V33*((LOG(V33))/LOG(2))))","v":0},null,{"$f":"N33","v":22121},{"$f":"COUNTIF(L9:L9,Y33)","v":0},{"$f":"Z33/(AB4-Z25)","v":0},{"$f":"IF(AA33=0,0,(AA33*((LOG(AA33))/LOG(2))))","v":0},null,{"$f":"N33","v":22121},{"$f":"COUNTIF(L10:L11,AD33)","v":0},{"$f":"AE33/(AG4-AE25)","v":0},{"$f":"IF(AF33=0,0,(AF33*((LOG(AF33))/LOG(2))))","v":0},null,{"$f":"N33","v":22121},{"$f":"COUNTIF(L12:L12,AI33)","v":0},{"$f":"AJ33/(AL4-AJ25)","v":0},{"$f":"IF(AK33=0,0,(AK33*((LOG(AK33))/LOG(2))))","v":0},null,{"$f":"N33","v":22121},{"$f":"COUNTIF(L13:L14,AN33)","v":0},{"$f":"AO33/(AQ4-AO25)","v":0},{"$f":"IF(AP33=0,0,(AP33*((LOG(AP33))/LOG(2))))","v":0},null,{"$f":"N33","v":22121},{"$f":"COUNTIF(L15:L15,AS33)","v":0},{"$f":"AT33/(AV4-AT25)","v":0},{"$f":"IF(AU33=0,0,(AU33*((LOG(AU33))/LOG(2))))","v":0}]
[null,null,null,null,null,null,null,null,null,null,null,null,null,22122,{"$f":"COUNTIF($L$7:$L$500,N34)","v":0},{"$f":"O34/$Q$4","v":0},{"$f":"IF(P34=0,0,(P34*((LOG(P34))/LOG(2))))","v":0},null,null,{"$f":"N34","v":22122},{"$f":"COUNTIF(L7:L8,T34)","v":0},{"$f":"U34/(W4-U25)","v":0},{"$f":"IF(V34=0,0,(V34*((LOG(V34))/LOG(2))))","v":0},null,{"$f":"N34","v":22122},{"$f":"COUNTIF(L9:L9,Y34)","v":0},{"$f":"Z34/(AB4-Z25)","v":0},{"$f":"IF(AA34=0,0,(AA34*((LOG(AA34))/LOG(2))))","v":0},null,{"$f":"N34","v":22122},{"$f":"COUNTIF(L10:L11,AD34)","v":0},{"$f":"AE34/(AG4-AE25)","v":0},{"$f":"IF(AF34=0,0,(AF34*((LOG(AF34))/LOG(2))))","v":0},null,{"$f":"N34","v":22122},{"$f":"COUNTIF(L12:L12,AI34)","v":0},{"$f":"AJ34/(AL4-AJ25)","v":0},{"$f":"IF(AK34=0,0,(AK34*((LOG(AK34))/LOG(2))))","v":0},null,{"$f":"N34","v":22122},{"$f":"COUNTIF(L13:L14,AN34)","v":0},{"$f":"AO34/(AQ4-AO25)","v":0},{"$f":"IF(AP34=0,0,(AP34*((LOG(AP34))/LOG(2))))","v":0},null,{"$f":"N34","v":22122},{"$f":"COUNTIF(L15:L15,AS34)","v":0},{"$f":"AT34/(AV4-AT25)","v":0},{"$f":"IF(AU34=0,0,(AU34*((LOG(AU34))/LOG(2))))","v":0}]
[null,null,null,null,null,null,null,null,null,null,null,null,null,22211,{"$f":"COUNTIF($L$7:$L$500,N35)","v":0},{"$f":"O35/$Q$4","v":0},{"$f":"IF(P35=0,0,(P35*((LOG(P35))/LOG(2))))","v":0},null,null,{"$f":"N35","v":22211},{"$f":"COUNTIF(L7:L8,T35)","v":0},{"$f":"U35/(W4-U25)","v":0},{"$f":"IF(V35=0,0,(V35*((LOG(V35))/LOG(2))))","v":0},null,{"$f":"N35","v":22211},{"$f":"COUNTIF(L9:L9,Y35)","v":0},{"$f":"Z35/(AB4-Z25)","v":0},{"$f":"IF(AA35=0,0,(AA35*((LOG(AA35))/LOG(2))))","v":0},null,{"$f":"N35","v":22211},{"$f":"COUNTIF(L10:L11,AD35)","v":0},{"$f":"AE35/(AG4-AE25)","v":0},{"$f":"IF(AF35=0,0,(AF35*((LOG(AF35))/LOG(2))))","v":0},null,{"$f":"N35","v":22211},{"$f":"COUNTIF(L12:L12,AI35)","v":0},{"$f":"AJ35/(AL4-AJ25)","v":0},{"$f":"IF(AK35=0,0,(AK35*((LOG(AK35))/LOG(2))))","v":0},null,{"$f":"N35","v":22211},{"$f":"COUNTIF(L13:L14,AN35)","v":0},{"$f":"AO35/(AQ4-AO25)","v":0},{"$f":"IF(AP35=0,0,(AP35*((LOG(AP35))/LOG(2))))","v":0},null,{"$f":"N35","v":22211},{"$f":"COUNTIF(L15:L15,AS35)","v":0},{"$f":"AT35/(AV4-AT25)","v":0},{"$f":"IF(AU35=0,0,(AU35*((LOG(AU35))/LOG(2))))","v":0}]
[null,null,null,null,null,null,null,null,null,null,null,null,null,22212,{"$f":"COUNTIF($L$7:$L$500,N36)","v":1},{"$f":"O36/$Q$4","v":0.1111111111111111},{"$f":"IF(P36=0,0,(P36*((LOG(P36))/LOG(2))))","v":-0.3522138890491458},null,null,{"$f":"N36","v":22212},{"$f":"COUNTIF(L7:L8,T36)","v":1},{"$f":"U36/(W4-U25)","v":0.5},{"$f":"IF(V36=0,0,(V36*((LOG(V36))/LOG(2))))","v":-0.5},null,{"$f":"N36","v":22212},{"$f":"COUNTIF(L9:L9,Y36)","v":0},{"$f":"Z36/(AB4-Z25)","v":0},{"$f":"IF(AA36=0,0,(AA36*((LOG(AA36))/LOG(2))))","v":0},null,{"$f":"N36","v":22212},{"$f":"COUNTIF(L10:L11,AD36)","v":0},{"$f":"AE36/(AG4-AE25)","v":0},{"$f":"IF(AF36=0,0,(AF36*((LOG(AF36))/LOG(2))))","v":0},null,{"$f":"N36","v":22212},{"$f":"COUNTIF(L12:L12,AI36)","v":0},{"$f":"AJ36/(AL4-AJ25)","v":0},{"$f":"IF(AK36=0,0,(AK36*((LOG(AK36))/LOG(2))))","v":0},null,{"$f":"N36","v":22212},{"$f":"COUNTIF(L13:L14,AN36)","v":0},{"$f":"AO36/(AQ4-AO25)","v":0},{"$f":"IF(AP36=0,0,(AP36*((LOG(AP36))/LOG(2))))","v":0},null,{"$f":"N36","v":22212},{"$f":"COUNTIF(L15:L15,AS36)","v":0},{"$f":"AT36/(AV4-AT25)","v":0},{"$f":"IF(AU36=0,0,(AU36*((LOG(AU36))/LOG(2))))","v":0}]
[null,null,null,null,null,null,null,null,null,null,null,null,null,22221,{"$f":"COUNTIF($L$7:$L$500,N37)","v":0},{"$f":"O37/$Q$4","v":0},{"$f":"IF(P37=0,0,(P37*((LOG(P37))/LOG(2))))","v":0},null,null,{"$f":"N37","v":22221},{"$f":"COUNTIF(L7:L8,T37)","v":0},{"$f":"U37/(W4-U25)","v":0},{"$f":"IF(V37=0,0,(V37*((LOG(V37))/LOG(2))))","v":0},null,{"$f":"N37","v":22221},{"$f":"COUNTIF(L9:L9,Y37)","v":0},{"$f":"Z37/(AB4-Z25)","v":0},{"$f":"IF(AA37=0,0,(AA37*((LOG(AA37))/LOG(2))))","v":0},null,{"$f":"N37","v":22221},{"$f":"COUNTIF(L10:L11,AD37)","v":0},{"$f":"AE37/(AG4-AE25)","v":0},{"$f":"IF(AF37=0,0,(AF37*((LOG(AF37))/LOG(2))))","v":0},null,{"$f":"N37","v":22221},{"$f":"COUNTIF(L12:L12,AI37)","v":0},{"$f":"AJ37/(AL4-AJ25)","v":0},{"$f":"IF(AK37=0,0,(AK37*((LOG(AK37))/LOG(2))))","v":0},null,{"$f":"N37","v":22221},{"$f":"COUNTIF(L13:L14,AN37)","v":0},{"$f":"AO37/(AQ4-AO25)","v":0},{"$f":"IF(AP37=0,0,(AP37*((LOG(AP37))/LOG(2))))","v":0},null,{"$f":"N37","v":22221},{"$f":"COUNTIF(L15:L15,AS37)","v":0},{"$f":"AT37/(AV4-AT25)","v":0},{"$f":"IF(AU37=0,0,(AU37*((LOG(AU37))/LOG(2))))","v":0}]
[null,null,null,null,null,null,null,null,null,null,null,null,null,22222,{"$f":"COUNTIF($L$7:$L$500,N38)","v":1},{"$f":"O38/$Q$4","v":0.1111111111111111},{"$f":"IF(P38=0,0,(P38*((LOG(P38))/LOG(2))))","v":-0.3522138890491458},null,null,{"$f":"N38","v":22222},{"$f":"COUNTIF(L7:L8,T38)","v":1},{"$f":"U38/(W4-U25)","v":0.5},{"$f":"IF(V38=0,0,(V38*((LOG(V38))/LOG(2))))","v":-0.5},null,{"$f":"N38","v":22222},{"$f":"COUNTIF(L9:L9,Y38)","v":0},{"$f":"Z38/(AB4-Z25)","v":0},{"$f":"IF(AA38=0,0,(AA38*((LOG(AA38))/LOG(2))))","v":0},null,{"$f":"N38","v":22222},{"$f":"COUNTIF(L10:L11,AD38)","v":0},{"$f":"AE38/(AG4-AE25)","v":0},{"$f":"IF(AF38=0,0,(AF38*((LOG(AF38))/LOG(2))))","v":0},null,{"$f":"N38","v":22222},{"$f":"COUNTIF(L12:L12,AI38)","v":0},{"$f":"AJ38/(AL4-AJ25)","v":0},{"$f":"IF(AK38=0,0,(AK38*((LOG(AK38))/LOG(2))))","v":0},null,{"$f":"N38","v":22222},{"$f":"COUNTIF(L13:L14,AN38)","v":0},{"$f":"AO38/(AQ4-AO25)","v":0},{"$f":"IF(AP38=0,0,(AP38*((LOG(AP38))/LOG(2))))","v":0},null,{"$f":"N38","v":22222},{"$f":"COUNTIF(L15:L15,AS38)","v":0},{"$f":"AT38/(AV4-AT25)","v":0},{"$f":"IF(AU38=0,0,(AU38*((LOG(AU38))/LOG(2))))","v":0}]
[null,null,null,null,null,null,null,null,null,null,null,null,null,null,null,{"$f":"SUM(P7:P38)","v":1},{"$f":"-SUM(Q7:Q38)","v":2.725480556997868},null,null,null,null,{"$f":"SUM(V7:V38)","v":1},{"$f":"-SUM(W7:W38)","v":1},null,null,null,{"$f":"SUM(AA7:AA38)","v":1},{"$f":"-SUM(AB7:AB38)","v":0},null,null,null,{"$f":"SUM(AF7:AF38)","v":1},{"$f":"-SUM(AG7:AG38)","v":1},null,null,null,{"$f":"SUM(AK7:AK38)","v":1},{"$f":"-SUM(AL7:AL38)","v":0},null,null,null,{"$f":"SUM(AP7:AP38)","v":1},{"$f":"-SUM(AQ7:AQ38)","v":1},null,null,null,{"$f":"SUM(AU7:AU38)","v":1},{"$f":"-SUM(AV7:AV38)","v":0}]
[null,null,null,null,null,null,null,null,null,null,null,null,null,null,null,"U=",{"$f":"Q39/(LOG(Q4)/LOG(2))","v":0.85979338809523176},null,null,null,null,"U1=",{"$f":"W39/(LOG(W4)/LOG(2))","v":1},null,null,null,"U2=",{"$f":"AB39/(LOG(AB4)/LOG(2))","v":{"$error":"#DIV/0!"}},null,null,null,"U3=",{"$f":"AG39/(LOG(AG4)/LOG(2))","v":1},null,null,null,"U4=",{"$f":"AL39/(LOG(AL4)/LOG(2))","v":{"$error":"#DIV/0!"}},null,null,null,"U5=",{"$f":"AQ39/(LOG(AQ4)/LOG(2))","v":1},null,null,null,"U6=",{"$f":"AV39/(LOG(AV4)/LOG(2))","v":{"$error":"#DIV/0!"}}]
[]
[]
[null,null,null,null,null,null,null,null,null,null,null,null,null,"Total Target Seq"]
[null,null,null,null,null,null,null,null,null,null,null,null,null,{"$f":"COUNTIF(L7:L15,G3)","v":0},null,2,1,2,1,2,1]
[null,null,null,null,null,null,null,null,null,null,null,null,null,null,null,"% of reinforcement given in 6 equal intervals based on number of trials "]
[null,null,null,null,null,null,null,null,null,null,null,null,null,null,null,"%_1","%_2","%_3","%_4","%_5","%_6"]
[null,null,null,null,null,null,null,null,null,null,null,null,null,null,"target sequence",{"$f":"$G$3","v":21121},{"$f":"$G$3","v":21121},{"$f":"$G$3","v":21121},{"$f":"$G$3","v":21121},{"$f":"$G$3","v":21121},{"$f":"$G$3","v":21121}]
[null,null,null,null,null,null,null,null,null,null,null,null,null,null,"total reinforcement",{"$f":"U25","v":0},{"$f":"Z25","v":0},{"$f":"AE25","v":0},{"$f":"AJ25","v":0},{"$f":"AO25","v":0},{"$f":"AT25","v":0}]
[null,null,null,null,null,null,null,null,null,null,null,null,null,null,"% target"]
[null,null,null,null,null,null,null,null,null,null,null,null,null,null,"CCRF"]
[null,null,null,null,null,null,null,null,null,null,null,null,null,null,"% CCRf"]
[null,null,null,null,null,null,null,null,null,null,null,null,null,null,"average response rate",{"$f":"J8/P44","v":154},{"$f":"(J9-J8)/Q44","v":169},{"$f":"(J11-J9)/R44","v":5863.5},{"$f":"(J12-J11)/S44","v":4427},{"$f":"(J14-J12)/T44","v":2534.5},{"$f":"(J15-J14)/U44","v":471}]