{"text_format":"1","workbook":"xlsx","n_sheets":35,"sheets":["Sample Report","Summary","Start","!M429A20.185","!M503A00.185","!M504650.185","!M505B10.185","!M506840.185","!M507A00.185","!M509B30.185","!M510A10.185","!M511A30.185","!M512B50.185","!M513C40.185","!M514A50.185","!M515A20.185","!M516B20.185","!M517C20.105","!M518940.105","!M519900.105","!M520A50.105","!M521A00.105","!M522930.105","!M523930.105","!M524900.105","!M525B00.105","!M526B30.105","!M527B30.105","!M528A40.105","!M529A40.105","!M530B10.105","!M531A40.105","!M601B10.105","!M602A20.105","!M603D00.105"],"not_rendered":{"charts":0,"images":0,"macros":1,"external_links":0,"defined_names":0,"comments":0,"pivot_tables":0},"unopened":[],"bounds":{"document_bytes":16777216,"sheet_cells":100000,"rows_first":2000,"rows_last":500,"rows_between":2000,"halvings":0,"cell_chars":16384,"cell_head_chars":4096},"cells_cut":0,"cells_raw":0,"read":"whole","date_system":"1900"}

{"sheet":"Sample Report","index":0,"n_rows":12,"n_cols":11,"rows_kept":12,"cut":false,"hidden":true,"merged":[[7,0,7,6]]}
[]
["Date"]
["Hen"]
["Program"]
["Start at 999999"]
["Sequence component 1","Time 1","Seqeunce Component 2","Time 2","Seqeunce Component 3","Time 3","Correct   0 = No 1=Yes",null,null,"Seqeunce","Time"]
[12,7,12,42,13,18,"if 77 new line,                                  if 31 or 41 = yes new line on 77, ",null,null,"=string of Seqeunce compponent 1, 2 & 3","=time 3"]
["This continues until ther is a 1 on its own to indicate start of summary data"]
[null,null,null,null,null,null,null,null,null,"10-19 =1"]
["Summary Data ",null,null,null,null,null,null,null,null,"20-29 =2"]
["Correct","Incorrect","Rft","total","Av Correct","Av Incorrect","Percent correct","Time",null,"in this example the seqeunce would be 111"]
[40,33,40,73,23.95,15,54,806]

{"sheet":"Summary","index":1,"n_rows":34,"n_cols":16,"rows_kept":34,"cut":false,"hidden":false,"merged":[]}
[]
["Day","Date","Average Response Rate","Target %","RF for non correct sequence","U Value",null,null,null,null,"Block 1","Block 2","Block 3","Block 4","Block 5","Block 6"]
[1,{"$f":"'!M429A20.185'!B2:C2","v":"<date>"},{"$f":"('!M429A20.185'!F62/60)/'!M429A20.185'!Q3","v":1.9181547619047621},{"$f":"'!M429A20.185'!N20/'!M429A20.185'!Q3","v":0},{"$f":"SUM('!M429A20.185'!L20:Q20)/'!M429A20.185'!Q3","v":2.5178571428571428},{"$f":"'!M429A20.185'!Q16","v":0.14862542072093962},null,null,null,"Average Response Rate",{"$f":"AVERAGE(C3:C7)","v":3.1401776742932745},{"$f":"AVERAGE(C8:C12)","v":2.1666134816614955},{"$f":"AVERAGE(C13:C17)","v":2.009261275761276},{"$f":"AVERAGE(C18:C22)","v":1.9124720715492252},{"$f":"AVERAGE(C23:C27)","v":1.9776188831196986},{"$f":"AVERAGE(C28:C32)","v":2.2162939137793662}]
[2,{"$f":"'!M503A00.185'!B2:C2","v":"<date>"},{"$f":"('!M503A00.185'!F163/60)/'!M503A00.185'!Q3","v":2.1727848101265823},{"$f":"'!M503A00.185'!N20/'!M503A00.185'!Q3","v":0},{"$f":"SUM('!M503A00.185'!L20:Q20)/'!M503A00.185'!Q3","v":1.1075949367088607},{"$f":"'!M503A00.185'!Q16","v":0.22542955183271629},null,null,null,"Target %",{"$f":"AVERAGE(D3:D7)","v":1.8242771684945164E-2},{"$f":"AVERAGE(D8:D12)","v":0.48738799296896201},{"$f":"AVERAGE(D13:D17)","v":0.69155178155178143},{"$f":"AVERAGE(D18:D22)","v":0.83664388784101684},{"$f":"AVERAGE(D23:D27)","v":0.70974154733223249},{"$f":"AVERAGE(D28:D32)","v":0.55987917110676189}]
[3,{"$f":"'!M504650.185'!B2:C2","v":"<date>"},{"$f":"('!M504650.185'!F65/60)/'!M504650.185'!Q3","v":6.7740112994350286},{"$f":"'!M504650.185'!N20/'!M504650.185'!Q3","v":1.6949152542372881E-2},{"$f":"SUM('!M504650.185'!L20:Q20)/'!M504650.185'!Q3","v":2.4237288135593222},{"$f":"'!M504650.185'!Q16","v":0.30995731947252797},null,null,null,"CCRF",{"$f":"AVERAGE(E3:E7)","v":1.7790273550956535},{"$f":"AVERAGE(E8:E12)","v":3.3288120377033517},{"$f":"AVERAGE(E13:E17)","v":4.8301642801642801},{"$f":"AVERAGE(E18:E22)","v":5.3035859809282373},{"$f":"AVERAGE(E23:E27)","v":4.6568041450712467},{"$f":"AVERAGE(E28:E32)","v":4.1130871051145652}]
[4,{"$f":"'!M505B10.185'!B2:C2","v":"<date>"},{"$f":"('!M505B10.185'!F176/60)/'!M505B10.185'!Q3","v":2.3383333333333334},{"$f":"'!M505B10.185'!N20/'!M505B10.185'!Q3","v":1.1764705882352941E-2},{"$f":"SUM('!M505B10.185'!L20:Q20)/'!M505B10.185'!Q3","v":1.0647058823529412},{"$f":"'!M505B10.185'!Q16","v":0.28587248209720545},null,null,null,"U Value",{"$f":"AVERAGE(F3:F7)","v":0.24495005382457621},{"$f":"AVERAGE(F8:F12)","v":0.29254387608907007},{"$f":"AVERAGE(F13:F17)","v":0.20035825378958391},{"$f":"AVERAGE(F18:F22)","v":0.13688441445814761},{"$f":"AVERAGE(F23:F27)","v":0.16653906355615028},{"$f":"AVERAGE(F28:F32)","v":0.21970677229115981}]
[5,{"$f":"'!M506840.185'!B2:C2","v":"<date>"},{"$f":"('!M506840.185'!F166/60)/'!M506840.185'!Q3","v":2.4976041666666666},{"$f":"'!M506840.185'!N20/'!M506840.185'!Q3","v":6.25E-2},{"$f":"SUM('!M506840.185'!L20:Q20)/'!M506840.185'!Q3","v":1.78125},{"$f":"'!M506840.185'!Q16","v":0.25486549499949174}]
[6,{"$f":"'!M507A00.185'!B2:C2","v":"<date>"},{"$f":"('!M507A00.185'!F106/60)/'!M507A00.185'!Q3","v":2.2873333333333332},{"$f":"'!M507A00.185'!N20/'!M507A00.185'!Q3","v":0.38},{"$f":"SUM('!M507A00.185'!L20:Q20)/'!M507A00.185'!Q3","v":1.82},{"$f":"'!M507A00.185'!Q16","v":0.31830871215792089}]
[7,{"$f":"'!M509B30.185'!B2:C2","v":"<date>"},{"$f":"('!M509B30.185'!F85/60)/'!M509B30.185'!Q3","v":2.1740506329113924},{"$f":"'!M509B30.185'!N20/'!M509B30.185'!Q3","v":0.48101265822784811},{"$f":"SUM('!M509B30.185'!L20:Q20)/'!M509B30.185'!Q3","v":3.481012658227848},{"$f":"'!M509B30.185'!Q16","v":0.34997051627822356}]
[8,{"$f":"'!M510A10.185'!B2:C2","v":"<date>"},{"$f":"('!M510A10.185'!F64/60)/'!M510A10.185'!Q3","v":2.1198275862068967},{"$f":"'!M510A10.185'!N20/'!M510A10.185'!Q3","v":0.67241379310344829},{"$f":"SUM('!M510A10.185'!L20:Q20)/'!M510A10.185'!Q3","v":4.8103448275862073},{"$f":"'!M510A10.185'!Q16","v":0.26495703713420693}]
[9,{"$f":"'!M511A30.185'!B2:C2","v":"<date>"},{"$f":"('!M511A30.185'!F106/60)/'!M511A30.185'!Q3","v":2.1043333333333334},{"$f":"'!M511A30.185'!N20/'!M511A30.185'!Q3","v":0.39},{"$f":"SUM('!M511A30.185'!L20:Q20)/'!M511A30.185'!Q3","v":2.83},{"$f":"'!M511A30.185'!Q16","v":0.26505991109408206}]
[10,{"$f":"'!M512B50.185'!B2:C2","v":"<date>"},{"$f":"('!M512B50.185'!F80/60)/'!M512B50.185'!Q3","v":2.1475225225225225},{"$f":"'!M512B50.185'!N20/'!M512B50.185'!Q3","v":0.51351351351351349},{"$f":"SUM('!M512B50.185'!L20:Q20)/'!M512B50.185'!Q3","v":3.7027027027027026},{"$f":"'!M512B50.185'!Q16","v":0.2644232037809166}]
[11,{"$f":"'!M513C40.185'!B2:C2","v":"<date>"},{"$f":"('!M513C40.185'!F69/60)/'!M513C40.185'!Q3","v":2.121164021164021},{"$f":"'!M513C40.185'!N20/'!M513C40.185'!Q3","v":0.61904761904761907},{"$f":"SUM('!M513C40.185'!L20:Q20)/'!M513C40.185'!Q3","v":4.3015873015873014},{"$f":"'!M513C40.185'!Q16","v":0.23194029377223746}]
[12,{"$f":"'!M514A50.185'!B2:C2","v":"<date>"},{"$f":"('!M514A50.185'!F72/60)/'!M514A50.185'!Q3","v":2.045707070707071},{"$f":"'!M514A50.185'!N20/'!M514A50.185'!Q3","v":0.59090909090909094},{"$f":"SUM('!M514A50.185'!L20:Q20)/'!M514A50.185'!Q3","v":4.1212121212121211},{"$f":"'!M514A50.185'!Q16","v":0.22773665990268446}]
[13,{"$f":"'!M515A20.185'!B2:C2","v":"<date>"},{"$f":"('!M515A20.185'!F48/60)/'!M515A20.185'!Q3","v":1.8753968253968254},{"$f":"'!M515A20.185'!N20/'!M515A20.185'!Q3","v":0.9285714285714286},{"$f":"SUM('!M515A20.185'!L20:Q20)/'!M515A20.185'!Q3","v":6.2857142857142856},{"$f":"'!M515A20.185'!Q16","v":8.1008748552323234E-2}]
[14,{"$f":"'!M516B20.185'!B2:C2","v":"<date>"},{"$f":"('!M516B20.185'!F58/60)/'!M516B20.185'!Q3","v":1.9342948717948718},{"$f":"'!M516B20.185'!N20/'!M516B20.185'!Q3","v":0.75},{"$f":"SUM('!M516B20.185'!L20:Q20)/'!M516B20.185'!Q3","v":5.134615384615385},{"$f":"'!M516B20.185'!Q16","v":0.19231973291444432}]
[15,{"$f":"'!M517C20.105'!B2:C2","v":"<date>"},{"$f":"('!M517C20.105'!F71/60)/'!M517C20.105'!Q3","v":2.0697435897435899},{"$f":"'!M517C20.105'!N20/'!M517C20.105'!Q3","v":0.56923076923076921},{"$f":"SUM('!M517C20.105'!L20:Q20)/'!M517C20.105'!Q3","v":4.3076923076923075},{"$f":"'!M517C20.105'!Q16","v":0.26878583380623017}]
[16,{"$f":"'!M518940.105'!B2:C2","v":"<date>"},{"$f":"('!M518940.105'!F56/60)/'!M518940.105'!Q3","v":2.0176666666666669},{"$f":"'!M518940.105'!N20/'!M518940.105'!Q3","v":0.78},{"$f":"SUM('!M518940.105'!L20:Q20)/'!M518940.105'!Q3","v":3.34},{"$f":"'!M518940.105'!Q16","v":0.16135350160984588}]
[17,{"$f":"'!M519900.105'!B2:C2","v":"<date>"},{"$f":"('!M519900.105'!F59/60)/'!M519900.105'!Q3","v":1.9509433962264151},{"$f":"'!M519900.105'!N20/'!M519900.105'!Q3","v":0.73584905660377353},{"$f":"SUM('!M519900.105'!L20:Q20)/'!M519900.105'!Q3","v":5.0566037735849054},{"$f":"'!M519900.105'!Q16","v":0.18522253309968639}]
[18,{"$f":"'!M520A50.105'!B2:C2","v":"<date>"},{"$f":"('!M520A50.105'!F53/60)/'!M520A50.105'!Q3","v":1.8847517730496453},{"$f":"'!M520A50.105'!N20/'!M520A50.105'!Q3","v":0.82978723404255317},{"$f":"SUM('!M520A50.105'!L20:Q20)/'!M520A50.105'!Q3","v":5.6595744680851068},{"$f":"'!M520A50.105'!Q16","v":0.15101646102468741}]
[19,{"$f":"'!M521A00.105'!B2:C2","v":"<date>"},{"$f":"('!M521A00.105'!F50/60)/'!M521A00.105'!Q3","v":1.9159090909090908},{"$f":"'!M521A00.105'!N20/'!M521A00.105'!Q3","v":0.88636363636363635},{"$f":"SUM('!M521A00.105'!L20:Q20)/'!M521A00.105'!Q3","v":6.0227272727272725},{"$f":"'!M521A00.105'!Q16","v":0.12523908075685272}]
[20,{"$f":"'!M522930.105'!B2:C2","v":"<date>"},{"$f":"('!M522930.105'!F47/60)/'!M522930.105'!Q3","v":1.7930894308943088},{"$f":"'!M522930.105'!N20/'!M522930.105'!Q3","v":0.95121951219512191},{"$f":"SUM('!M522930.105'!L20:Q20)/'!M522930.105'!Q3","v":6.4390243902439028},{"$f":"'!M522930.105'!Q16","v":6.1590495799665711E-2}]
[21,{"$f":"'!M523930.105'!B2:C2","v":"<date>"},{"$f":"('!M523930.105'!F47/60)/'!M523930.105'!Q3","v":1.8357723577235772},{"$f":"'!M523930.105'!N20/'!M523930.105'!Q3","v":0.92682926829268297},{"$f":"SUM('!M523930.105'!L20:Q20)/'!M523930.105'!Q3","v":6.4146341463414638},{"$f":"'!M523930.105'!Q16","v":9.2135211539643158E-2}]
[22,{"$f":"'!M524900.105'!B2:C2","v":"<date>"},{"$f":"('!M524900.105'!F74/60)/'!M524900.105'!Q3","v":2.0213235294117644},{"$f":"'!M524900.105'!N20/'!M524900.105'!Q3","v":0.57352941176470584},{"$f":"SUM('!M524900.105'!L20:Q20)/'!M524900.105'!Q3","v":4.0147058823529411},{"$f":"'!M524900.105'!Q16","v":0.19189590286890978}]
[23,{"$f":"'!M525B00.105'!B2:C2","v":"<date>"},{"$f":"('!M525B00.105'!F84/60)/'!M525B00.105'!Q3","v":2.0418803418803422},{"$f":"'!M525B00.105'!N20/'!M525B00.105'!Q3","v":0.5},{"$f":"SUM('!M525B00.105'!L20:Q20)/'!M525B00.105'!Q3","v":2.2564102564102564},{"$f":"'!M525B00.105'!Q16","v":0.20928791574946487}]
[24,{"$f":"'!M526B30.105'!B2:C2","v":"<date>"},{"$f":"('!M526B30.105'!F54/60)/'!M526B30.105'!Q3","v":1.9913194444444444},{"$f":"'!M526B30.105'!N20/'!M526B30.105'!Q3","v":0.8125},{"$f":"SUM('!M526B30.105'!L20:Q20)/'!M526B30.105'!Q3","v":5.541666666666667},{"$f":"'!M526B30.105'!Q16","v":0.1503144568987011}]
[25,{"$f":"'!M527B30.105'!B2:C2","v":"<date>"},{"$f":"('!M527B30.105'!F59/60)/'!M527B30.105'!Q3","v":1.9977987421383649},{"$f":"'!M527B30.105'!N20/'!M527B30.105'!Q3","v":0.73584905660377353},{"$f":"SUM('!M527B30.105'!L20:Q20)/'!M527B30.105'!Q3","v":5.0566037735849054},{"$f":"'!M527B30.105'!Q16","v":0.18906183072403257}]
[26,{"$f":"'!M528A40.105'!B2:C2","v":"<date>"},{"$f":"('!M528A40.105'!F131/60)/'!M528A40.105'!Q3","v":2.7566666666666664},{"$f":"'!M528A40.105'!N20/'!M528A40.105'!Q3","v":0.13600000000000001},{"$f":"SUM('!M528A40.105'!L20:Q20)/'!M528A40.105'!Q3","v":2.16},{"$f":"'!M528A40.105'!Q16","v":0.20537908143853895}]
[27,{"$f":"'!M529A40.105'!B2:C2","v":"<date>"},{"$f":"('!M529A40.105'!F55/60)/'!M529A40.105'!Q3","v":1.9278911564625851},{"$f":"'!M529A40.105'!N20/'!M529A40.105'!Q3","v":0.79591836734693877},{"$f":"SUM('!M529A40.105'!L20:Q20)/'!M529A40.105'!Q3","v":5.4285714285714288},{"$f":"'!M529A40.105'!Q16","v":0.19713235713528204}]
[28,{"$f":"'!M530B10.105'!B2:C2","v":"<date>"},{"$f":"('!M530B10.105'!F52/60)/'!M530B10.105'!Q3","v":1.9344202898550724},{"$f":"'!M530B10.105'!N20/'!M530B10.105'!Q3","v":0.84782608695652173},{"$f":"SUM('!M530B10.105'!L20:Q20)/'!M530B10.105'!Q3","v":5.7608695652173916},{"$f":"'!M530B10.105'!Q16","v":0.14937259273341499}]
[29,{"$f":"'!M531A40.105'!B2:C2","v":"<date>"},{"$f":"('!M531A40.105'!F83/60)/'!M531A40.105'!Q3","v":2.2839826839826842},{"$f":"'!M531A40.105'!N20/'!M531A40.105'!Q3","v":0.50649350649350644},{"$f":"SUM('!M531A40.105'!L20:Q20)/'!M531A40.105'!Q3","v":3.5844155844155843},{"$f":"'!M531A40.105'!Q16","v":0.26106156159896726}]
[30,{"$f":"'!M601B10.105'!B2:C2","v":"<date>"},{"$f":"('!M601B10.105'!F82/60)/'!M601B10.105'!Q3","v":2.1785087719298244},{"$f":"'!M601B10.105'!N20/'!M601B10.105'!Q3","v":0.51315789473684215},{"$f":"SUM('!M601B10.105'!L20:Q20)/'!M601B10.105'!Q3","v":3.6315789473684212},{"$f":"'!M601B10.105'!Q16","v":0.2855882685495959}]
[null,{"$f":"'!M602A20.105'!B2:C2","v":"<date>"},{"$f":"('!M602A20.105'!F69/60)/'!M602A20.105'!Q3","v":1.966137566137566},{"$f":"'!M602A20.105'!N20/'!M602A20.105'!Q3","v":0.61904761904761907},{"$f":"SUM('!M602A20.105'!L20:Q20)/'!M602A20.105'!Q3","v":4.3015873015873014},{"$f":"'!M602A20.105'!Q16","v":0.21703168626953184}]
[null,{"$f":"'!M603D00.105'!B2:C2","v":"<date>"},{"$f":"('!M603D00.105'!F167/60)/'!M603D00.105'!Q3","v":2.475569358178054},{"$f":"'!M603D00.105'!N20/'!M603D00.105'!Q3","v":0.11180124223602485},{"$f":"SUM('!M603D00.105'!L20:Q20)/'!M603D00.105'!Q3","v":1.1428571428571428},{"$f":"'!M603D00.105'!Q16","v":0.14909710907238183}]

{"sheet":"Start","index":2,"n_rows":38,"n_cols":10,"rows_kept":38,"cut":false,"hidden":false,"merged":[]}
[null,null,null,null,null,"Use Folder 51",null,"Auto Clean Up",null,"Correct sequence"]
[null,null,null,null,null,false,null,true,null,211]
[]
["Working with Folder",null,null,null,null,null,"Process All/Or Pick A number: ALL or an integer"]
["F:\\Hen Chapter\\Raw Data\\105_185\\Phase 1 Var\\",null,null,null,null,null,"ALL"]
["Filenames:"]
["!M429A20.185",null,null,null,null,null,"Paint Cells"]
["!M512B50.185",null,null,null,null,null,false]
["!M513C40.185"]
["!M514A50.185"]
["!M515A20.185"]
["!M516B20.185"]
["!M503A00.185"]
["!M504650.185"]
["!M505B10.185"]
["!M506840.185"]
["!M507A00.185"]
["!M509B30.185"]
["!M510A10.185"]
["!M511A30.185"]
["!M528A40.105"]
["!M529A40.105"]
["!M530B10.105"]
["!M517C20.105"]
["!M518940.105"]
["!M519900.105"]
["!M520A50.105"]
["!M521A00.105"]
["!M522930.105"]
["!M523930.105"]
["!M524900.105"]
["!M525B00.105"]
["!M526B30.105"]
["!M527B30.105"]
["!M601B10.105"]
["!M602A20.105"]
["!M603D00.105"]
["!M531A40.105"]

{"sheet":"!M429A20.185","index":3,"n_rows":62,"n_cols":48,"rows_kept":62,"cut":false,"hidden":false,"merged":[[4,39,4,42],[5,39,5,40],[4,44,4,47],[5,44,5,45],[4,24,4,27],[5,24,5,25],[4,29,4,32],[5,29,5,30],[4,34,4,37],[5,34,5,35],[1,1,1,2],[5,13,5,14],[18,13,18,14],[19,13,19,14],[4,19,4,22],[5,19,5,20]]}
["Report for:!M429A20.185"]
["Date:","<date>"]
["Hen:","<hen>",null,null,null,"Correct Sequence",{"$f":"Start!J2","v":211},null,null,null,null,null,null,null,null,"Total Sequences in Data",{"$f":"4994-COUNTBLANK(L7:L5000)","v":56},null,null,null,null,"Total Sequences in Block Data",{"$f":"COUNTA(L7:L15)","v":9},null,null,null,"Total Sequences in Block Data",{"$f":"COUNTA(L16:L25)","v":10},null,null,null,"Total Sequences in Block Data",{"$f":"COUNTA(L26:L34)","v":9},null,null,null,"Total Sequences in Block Data",{"$f":"COUNTA(L35:L43)","v":9},null,null,null,"Total Sequences in Block Data",{"$f":"COUNTA(L44:L53)","v":10},null,null,null,"Total Sequences in Block Data",{"$f":"COUNTA(L54:L62)","v":9}]
[null,null,null,null,null,null,null,null,null,null,null,null,null,null,null,"Total Sequences in Summary",{"$f":"SUM(O7:O14)","v":56},null,null,null,null,"Total Sequences in Block Summary",{"$f":"SUM(U7:U14)","v":9},null,null,null,"Total Sequences in Block Summary",{"$f":"SUM(Z7:Z14)","v":10},null,null,null,"Total Sequences in Block Summary",{"$f":"SUM(AE7:AE14)","v":9},null,null,null,"Total Sequences in Block Summary",{"$f":"SUM(AJ7:AJ14)","v":9},null,null,null,"Total Sequences in Block Summary",{"$f":"SUM(AO7:AO14)","v":10},null,null,null,"Total Sequences in Block Summary",{"$f":"SUM(AT7:AT14)","v":9}]
[null,null,null,null,null,null,null,null,null,null,null,null,null,null,null,null,null,null,null,"Block 1",null,null,null,null,"Block 2",null,null,null,null,"Block 3",null,null,null,null,"Block 4",null,null,null,null,"Block 5",null,null,null,null,"Block 6"]
["Sequence\nComponent\n1","Time\n1","Sequence\nComponent\n2","Time\n2","Sequence\nComponent\n3","Time\n3","Sequence\nComponent\n4","Time\n4","Sequence\nComponent\n5","Time\n5","Correct?\n0=No 1=Yes","Sequence",null,"Frequency",null,"Relative Frequency","Variability",null,null,"Frequency",null,"Relative Frequency","Variability",null,"Frequency",null,"Relative Frequency","Variability",null,"Frequency",null,"Relative Frequency","Variability",null,"Frequency",null,"Relative Frequency","Variability",null,"Frequency",null,"Relative Frequency","Variability",null,"Frequency",null,"Relative Frequency","Variability"]
[11,8,21,18,21,23,null,null,null,null,0,122,null,111,{"$f":"COUNTIF($L$7:$L$500,N7)","v":0},{"$f":"O7/$Q$4","v":0},{"$f":"IF(P7=0,0,(P7*((LOG(P7))/LOG(2))))","v":0},null,null,{"$f":"N7","v":111},{"$f":"COUNTIF(L7:L15,T7)","v":0},{"$f":"U7/(W4-U11)","v":0},{"$f":"IF(V7=0,0,(V7*((LOG(V7))/LOG(2))))","v":0},null,{"$f":"N7","v":111},{"$f":"COUNTIF(L16:L25,Y7)","v":0},{"$f":"Z7/(AB4-Z11)","v":0},{"$f":"IF(AA7=0,0,(AA7*((LOG(AA7))/LOG(2))))","v":0},null,{"$f":"N7","v":111},{"$f":"COUNTIF(L26:L34,AD7)","v":0},{"$f":"AE7/(AG4-AE11)","v":0},{"$f":"IF(AF7=0,0,(AF7*((LOG(AF7))/LOG(2))))","v":0},null,{"$f":"N7","v":111},{"$f":"COUNTIF(L35:L43,AI7)","v":0},{"$f":"AJ7/(AL4-AJ11)","v":0},{"$f":"IF(AK7=0,0,(AK7*((LOG(AK7))/LOG(2))))","v":0},null,{"$f":"N7","v":111},{"$f":"COUNTIF(L44:L53,AN7)","v":0},{"$f":"AO7/(AQ4-AO11)","v":0},{"$f":"IF(AP7=0,0,(AP7*((LOG(AP7))/LOG(2))))","v":0},null,{"$f":"N7","v":111},{"$f":"COUNTIF(L54:L62,AS7)","v":0},{"$f":"AT7/(AV4-AT11)","v":0},{"$f":"IF(AU7=0,0,(AU7*((LOG(AU7))/LOG(2))))","v":0}]
[11,120,21,129,21,133,null,null,null,null,0,122,null,112,{"$f":"COUNTIF($L$7:$L$500,N8)","v":0},{"$f":"O8/$Q$4","v":0},{"$f":"IF(P8=0,0,(P8*((LOG(P8))/LOG(2))))","v":0},null,null,{"$f":"N8","v":112},{"$f":"COUNTIF(L7:L15,T8)","v":0},{"$f":"U8/(W4-U11)","v":0},{"$f":"IF(V8=0,0,(V8*((LOG(V8))/LOG(2))))","v":0},null,{"$f":"N8","v":112},{"$f":"COUNTIF(L16:L25,Y8)","v":0},{"$f":"Z8/(AB4-Z11)","v":0},{"$f":"IF(AA8=0,0,(AA8*((LOG(AA8))/LOG(2))))","v":0},null,{"$f":"N8","v":112},{"$f":"COUNTIF(L26:L34,AD8)","v":0},{"$f":"AE8/(AG4-AE11)","v":0},{"$f":"IF(AF8=0,0,(AF8*((LOG(AF8))/LOG(2))))","v":0},null,{"$f":"N8","v":112},{"$f":"COUNTIF(L35:L43,AI8)","v":0},{"$f":"AJ8/(AL4-AJ11)","v":0},{"$f":"IF(AK8=0,0,(AK8*((LOG(AK8))/LOG(2))))","v":0},null,{"$f":"N8","v":112},{"$f":"COUNTIF(L44:L53,AN8)","v":0},{"$f":"AO8/(AQ4-AO11)","v":0},{"$f":"IF(AP8=0,0,(AP8*((LOG(AP8))/LOG(2))))","v":0},null,{"$f":"N8","v":112},{"$f":"COUNTIF(L54:L62,AS8)","v":0},{"$f":"AT8/(AV4-AT11)","v":0},{"$f":"IF(AU8=0,0,(AU8*((LOG(AU8))/LOG(2))))","v":0}]
[22,244,23,257,23,279,null,null,null,null,0,222,null,121,{"$f":"COUNTIF($L$7:$L$500,N9)","v":0},{"$f":"O9/$Q$4","v":0},{"$f":"IF(P9=0,0,(P9*((LOG(P9))/LOG(2))))","v":0},null,null,{"$f":"N9","v":121},{"$f":"COUNTIF(L7:L15,T9)","v":0},{"$f":"U9/(W4-U11)","v":0},{"$f":"IF(V9=0,0,(V9*((LOG(V9))/LOG(2))))","v":0},null,{"$f":"N9","v":121},{"$f":"COUNTIF(L16:L25,Y9)","v":0},{"$f":"Z9/(AB4-Z11)","v":0},{"$f":"IF(AA9=0,0,(AA9*((LOG(AA9))/LOG(2))))","v":0},null,{"$f":"N9","v":121},{"$f":"COUNTIF(L26:L34,AD9)","v":0},{"$f":"AE9/(AG4-AE11)","v":0},{"$f":"IF(AF9=0,0,(AF9*((LOG(AF9))/LOG(2))))","v":0},null,{"$f":"N9","v":121},{"$f":"COUNTIF(L35:L43,AI9)","v":0},{"$f":"AJ9/(AL4-AJ11)","v":0},{"$f":"IF(AK9=0,0,(AK9*((LOG(AK9))/LOG(2))))","v":0},null,{"$f":"N9","v":121},{"$f":"COUNTIF(L44:L53,AN9)","v":0},{"$f":"AO9/(AQ4-AO11)","v":0},{"$f":"IF(AP9=0,0,(AP9*((LOG(AP9))/LOG(2))))","v":0},null,{"$f":"N9","v":121},{"$f":"COUNTIF(L54:L62,AS9)","v":0},{"$f":"AT9/(AV4-AT11)","v":0},{"$f":"IF(AU9=0,0,(AU9*((LOG(AU9))/LOG(2))))","v":0}]
[11,376,21,385,21,390,null,null,null,null,0,122,null,122,{"$f":"COUNTIF($L$7:$L$500,N10)","v":40},{"$f":"O10/$Q$4","v":0.7142857142857143},{"$f":"IF(P10=0,0,(P10*((LOG(P10))/LOG(2))))","v":-0.34673344797874411},null,null,{"$f":"N10","v":122},{"$f":"COUNTIF(L7:L15,T10)","v":6},{"$f":"U10/(W4-U11)","v":0.66666666666666663},{"$f":"IF(V10=0,0,(V10*((LOG(V10))/LOG(2))))","v":-0.38997500048077083},null,{"$f":"N10","v":122},{"$f":"COUNTIF(L16:L25,Y10)","v":6},{"$f":"Z10/(AB4-Z11)","v":0.6},{"$f":"IF(AA10=0,0,(AA10*((LOG(AA10))/LOG(2))))","v":-0.44217935649972373},null,{"$f":"N10","v":122},{"$f":"COUNTIF(L26:L34,AD10)","v":6},{"$f":"AE10/(AG4-AE11)","v":0.66666666666666663},{"$f":"IF(AF10=0,0,(AF10*((LOG(AF10))/LOG(2))))","v":-0.38997500048077083},null,{"$f":"N10","v":122},{"$f":"COUNTIF(L35:L43,AI10)","v":8},{"$f":"AJ10/(AL4-AJ11)","v":0.88888888888888884},{"$f":"IF(AK10=0,0,(AK10*((LOG(AK10))/LOG(2))))","v":-0.15104444572649992},null,{"$f":"N10","v":122},{"$f":"COUNTIF(L44:L53,AN10)","v":6},{"$f":"AO10/(AQ4-AO11)","v":0.6},{"$f":"IF(AP10=0,0,(AP10*((LOG(AP10))/LOG(2))))","v":-0.44217935649972373},null,{"$f":"N10","v":122},{"$f":"COUNTIF(L54:L62,AS10)","v":8},{"$f":"AT10/(AV4-AT11)","v":0.88888888888888884},{"$f":"IF(AU10=0,0,(AU10*((LOG(AU10))/LOG(2))))","v":-0.15104444572649992}]
[11,482,21,495,21,505,null,null,null,null,0,122,null,211,{"$f":"COUNTIF($L$7:$L$500,N11)","v":0},{"$f":"O11/$Q$4","v":0},{"$f":"IF(P11=0,0,(P11*((LOG(P11))/LOG(2))))","v":0},null,null,{"$f":"N11","v":211},{"$f":"COUNTIF(L7:L15,T11)","v":0},null,null,null,{"$f":"N11","v":211},{"$f":"COUNTIF(L16:L25,Y11)","v":0},null,null,null,{"$f":"N11","v":211},{"$f":"COUNTIF(L26:L34,AD11)","v":0},null,null,null,{"$f":"N11","v":211},{"$f":"COUNTIF(L35:L43,AI11)","v":0},null,null,null,{"$f":"N11","v":211},{"$f":"COUNTIF(L44:L53,AN11)","v":0},null,null,null,{"$f":"N11","v":211},{"$f":"COUNTIF(L54:L62,AS11)","v":0}]
[22,605,23,610,23,618,null,null,null,null,0,222,null,212,{"$f":"COUNTIF($L$7:$L$500,N12)","v":0},{"$f":"O12/$Q$4","v":0},{"$f":"IF(P12=0,0,(P12*((LOG(P12))/LOG(2))))","v":0},null,null,{"$f":"N12","v":212},{"$f":"COUNTIF(L7:L15,T12)","v":0},{"$f":"U12/(W4-U11)","v":0},{"$f":"IF(V12=0,0,(V12*((LOG(V12))/LOG(2))))","v":0},null,{"$f":"N12","v":212},{"$f":"COUNTIF(L16:L25,Y12)","v":0},{"$f":"Z12/(AB4-Z11)","v":0},{"$f":"IF(AA12=0,0,(AA12*((LOG(AA12))/LOG(2))))","v":0},null,{"$f":"N12","v":212},{"$f":"COUNTIF(L26:L34,AD12)","v":0},{"$f":"AE12/(AG4-AE11)","v":0},{"$f":"IF(AF12=0,0,(AF12*((LOG(AF12))/LOG(2))))","v":0},null,{"$f":"N12","v":212},{"$f":"COUNTIF(L35:L43,AI12)","v":0},{"$f":"AJ12/(AL4-AJ11)","v":0},{"$f":"IF(AK12=0,0,(AK12*((LOG(AK12))/LOG(2))))","v":0},null,{"$f":"N12","v":212},{"$f":"COUNTIF(L44:L53,AN12)","v":0},{"$f":"AO12/(AQ4-AO11)","v":0},{"$f":"IF(AP12=0,0,(AP12*((LOG(AP12))/LOG(2))))","v":0},null,{"$f":"N12","v":212},{"$f":"COUNTIF(L54:L62,AS12)","v":0},{"$f":"AT12/(AV4-AT11)","v":0},{"$f":"IF(AU12=0,0,(AU12*((LOG(AU12))/LOG(2))))","v":0}]
[11,717,21,726,21,731,null,null,null,null,0,122,null,221,{"$f":"COUNTIF($L$7:$L$500,N13)","v":0},{"$f":"O13/$Q$4","v":0},{"$f":"IF(P13=0,0,(P13*((LOG(P13))/LOG(2))))","v":0},null,null,{"$f":"N13","v":221},{"$f":"COUNTIF(L7:L15,T13)","v":0},{"$f":"U13/(W4-U11)","v":0},{"$f":"IF(V13=0,0,(V13*((LOG(V13))/LOG(2))))","v":0},null,{"$f":"N13","v":221},{"$f":"COUNTIF(L16:L25,Y13)","v":0},{"$f":"Z13/(AB4-Z11)","v":0},{"$f":"IF(AA13=0,0,(AA13*((LOG(AA13))/LOG(2))))","v":0},null,{"$f":"N13","v":221},{"$f":"COUNTIF(L26:L34,AD13)","v":0},{"$f":"AE13/(AG4-AE11)","v":0},{"$f":"IF(AF13=0,0,(AF13*((LOG(AF13))/LOG(2))))","v":0},null,{"$f":"N13","v":221},{"$f":"COUNTIF(L35:L43,AI13)","v":0},{"$f":"AJ13/(AL4-AJ11)","v":0},{"$f":"IF(AK13=0,0,(AK13*((LOG(AK13))/LOG(2))))","v":0},null,{"$f":"N13","v":221},{"$f":"COUNTIF(L44:L53,AN13)","v":0},{"$f":"AO13/(AQ4-AO11)","v":0},{"$f":"IF(AP13=0,0,(AP13*((LOG(AP13))/LOG(2))))","v":0},null,{"$f":"N13","v":221},{"$f":"COUNTIF(L54:L62,AS13)","v":0},{"$f":"AT13/(AV4-AT11)","v":0},{"$f":"IF(AU13=0,0,(AU13*((LOG(AU13))/LOG(2))))","v":0}]
[11,829,21,839,21,843,null,null,null,null,0,122,null,222,{"$f":"COUNTIF($L$7:$L$500,N14)","v":16},{"$f":"O14/$Q$4","v":0.2857142857142857},{"$f":"IF(P14=0,0,(P14*((LOG(P14))/LOG(2))))","v":-0.51638712058788683},null,null,{"$f":"N14","v":222},{"$f":"COUNTIF(L7:L15,T14)","v":3},{"$f":"U14/(W4-U11)","v":0.33333333333333331},{"$f":"IF(V14=0,0,(V14*((LOG(V14))/LOG(2))))","v":-0.52832083357371862},null,{"$f":"N14","v":222},{"$f":"COUNTIF(L16:L25,Y14)","v":4},{"$f":"Z14/(AB4-Z11)","v":0.4},{"$f":"IF(AA14=0,0,(AA14*((LOG(AA14))/LOG(2))))","v":-0.52877123795494496},null,{"$f":"N14","v":222},{"$f":"COUNTIF(L26:L34,AD14)","v":3},{"$f":"AE14/(AG4-AE11)","v":0.33333333333333331},{"$f":"IF(AF14=0,0,(AF14*((LOG(AF14))/LOG(2))))","v":-0.52832083357371862},null,{"$f":"N14","v":222},{"$f":"COUNTIF(L35:L43,AI14)","v":1},{"$f":"AJ14/(AL4-AJ11)","v":0.1111111111111111},{"$f":"IF(AK14=0,0,(AK14*((LOG(AK14))/LOG(2))))","v":-0.3522138890491458},null,{"$f":"N14","v":222},{"$f":"COUNTIF(L44:L53,AN14)","v":4},{"$f":"AO14/(AQ4-AO11)","v":0.4},{"$f":"IF(AP14=0,0,(AP14*((LOG(AP14))/LOG(2))))","v":-0.52877123795494496},null,{"$f":"N14","v":222},{"$f":"COUNTIF(L54:L62,AS14)","v":1},{"$f":"AT14/(AV4-AT11)","v":0.1111111111111111},{"$f":"IF(AU14=0,0,(AU14*((LOG(AU14))/LOG(2))))","v":-0.3522138890491458}]
[22,944,23,950,23,959,null,null,null,null,0,222,null,null,null,{"$f":"SUM(P7:P14)","v":1},{"$f":"-SUM(Q7:Q14)","v":0.863120568566631},null,null,null,null,{"$f":"SUM(V7:V14)","v":1},{"$f":"-SUM(W7:W14)","v":0.91829583405448945},null,null,null,{"$f":"SUM(AA7:AA14)","v":1},{"$f":"-SUM(AB7:AB14)","v":0.97095059445466869},null,null,null,{"$f":"SUM(AF7:AF14)","v":1},{"$f":"-SUM(AG7:AG14)","v":0.91829583405448945},null,null,null,{"$f":"SUM(AK7:AK14)","v":1},{"$f":"-SUM(AL7:AL14)","v":0.50325833477564574},null,null,null,{"$f":"SUM(AP7:AP14)","v":1},{"$f":"-SUM(AQ7:AQ14)","v":0.97095059445466869},null,null,null,{"$f":"SUM(AU7:AU14)","v":1},{"$f":"-SUM(AV7:AV14)","v":0.50325833477564574}]
[11,1056,21,1065,21,1069,null,null,null,null,0,122,null,null,null,"U=",{"$f":"Q15/(LOG(Q4)/LOG(2))","v":0.14862542072093962},null,null,null,null,"U1=",{"$f":"W15/(LOG(W4)/LOG(2))","v":0.28969008214284753},null,null,null,"U2=",{"$f":"AB15/(LOG(AB4)/LOG(2))","v":0.29228525323862892},null,null,null,"U3=",{"$f":"AG15/(LOG(AG4)/LOG(2))","v":0.28969008214284753},null,null,null,"U4=",{"$f":"AL15/(LOG(AL4)/LOG(2))","v":0.15876032857139011},null,null,null,"U5=",{"$f":"AQ15/(LOG(AQ4)/LOG(2))","v":0.29228525323862892},null,null,null,"U6=",{"$f":"AV15/(LOG(AV4)/LOG(2))","v":0.15876032857139011}]
[22,1167,23,1171,23,1178,null,null,null,null,0,222]
[11,1275,21,1285,21,1290,null,null,null,null,0,122]
[22,1389,23,1394,23,1401,null,null,null,null,0,222,null,"Total Target Seq"]
[11,1499,21,1513,21,1522,null,null,null,null,0,122,null,{"$f":"COUNTIF(L7:L62,G3)","v":0},null,9,10,9,9,10,9]
[11,1613,21,1622,21,1626,null,null,null,null,0,122,null,null,null,"% of reinforcement given in 6 equal intervals based on number of trials "]
[22,1726,23,1730,23,1737,null,null,null,null,0,222,null,null,null,"%_1","%_2","%_3","%_4","%_5","%_6"]
[11,1834,21,1843,21,1847,null,null,null,null,0,122,null,null,"target sequence",{"$f":"$G$3","v":211},{"$f":"$G$3","v":211},{"$f":"$G$3","v":211},{"$f":"$G$3","v":211},{"$f":"$G$3","v":211},{"$f":"$G$3","v":211}]
[22,1972,23,1976,23,1983,null,null,null,null,0,222,null,null,"total reinforcement",{"$f":"U11","v":0},{"$f":"Z11","v":0},{"$f":"AE11","v":0},{"$f":"AJ11","v":0},{"$f":"AO11","v":0},{"$f":"AT11","v":0}]
[11,2080,21,2089,21,2094,null,null,null,null,0,122,null,null,"% target"]
[11,2184,21,2193,21,2197,null,null,null,null,0,122,null,null,"CCRF"]
[11,2287,21,2295,21,2299,null,null,null,null,0,122,null,null,"% CCRf"]
[11,2389,21,2404,21,2412,null,null,null,null,0,122,null,null,"average response rate",{"$f":"F15/P20","v":106.55555555555556},{"$f":"(F25-F15)/Q20","v":113.5},{"$f":"(F34-F25)/R20","v":118.66666666666667},{"$f":"(F43-F34)/S20","v":115.22222222222223},{"$f":"(F53-F43)/T20","v":123.1},{"$f":"(F62-F53)/U20","v":112.77777777777777}]
[11,2502,21,2512,21,2516,null,null,null,null,0,122]
[22,2613,23,2617,23,2626,null,null,null,null,0,222]
[11,2725,21,2735,21,2740,null,null,null,null,0,122]
[11,2828,21,2847,21,2907,null,null,null,null,0,122]
[22,3015,23,3022,23,3033,null,null,null,null,0,222]
[22,3144,23,3152,23,3162,null,null,null,null,0,222]
[22,3273,23,3284,23,3342,null,null,null,null,0,222]
[11,3438,21,3453,21,3460,null,null,null,null,0,122]
[11,3549,21,3563,21,3571,null,null,null,null,0,122]
[11,3661,21,3669,21,3675,null,null,null,null,0,122]
[11,3763,21,3772,21,3778,null,null,null,null,0,122]
[11,3866,21,3875,21,3879,null,null,null,null,0,122]
[11,3976,21,3990,21,3996,null,null,null,null,0,122]
[11,4084,21,4092,21,4099,null,null,null,null,0,122]
[11,4186,21,4195,21,4199,null,null,null,null,0,122]
[11,4288,21,4297,21,4308,null,null,null,null,0,122]
[22,4410,23,4416,23,4438,null,null,null,null,0,222]
[11,4535,21,4545,21,4622,null,null,null,null,0,122]
[22,4730,23,4736,23,4747,null,null,null,null,0,222]
[11,4851,21,4865,21,4875,null,null,null,null,0,122]
[11,4965,21,4973,21,4986,null,null,null,null,0,122]
[22,5085,23,5091,23,5102,null,null,null,null,0,222]
[11,5199,21,5208,21,5212,null,null,null,null,0,122]
[11,5300,21,5310,21,5314,null,null,null,null,0,122]
[22,5420,23,5424,23,5430,null,null,null,null,0,222]
[11,5527,21,5536,21,5540,null,null,null,null,0,122]
[11,5629,21,5638,21,5642,null,null,null,null,0,122]
[11,5732,21,5745,21,5763,null,null,null,null,0,122]
[22,5870,23,5876,23,5887,null,null,null,null,0,222]
[11,5984,21,5997,21,6022,null,null,null,null,0,122]
[11,6111,21,6123,21,6129,null,null,null,null,0,122]
[11,6219,21,6229,21,6233,null,null,null,null,0,122]
[11,6322,21,6336,21,6345,null,null,null,null,0,122]
[11,6433,21,6441,21,6445,null,null,null,null,1,122]

{"sheet":"!M503A00.185","index":4,"n_rows":164,"n_cols":48,"rows_kept":164,"cut":false,"hidden":false,"merged":[[4,39,4,42],[5,39,5,40],[4,44,4,47],[5,44,5,45],[4,24,4,27],[5,24,5,25],[4,29,4,32],[5,29,5,30],[4,34,4,37],[5,34,5,35],[1,1,1,2],[5,13,5,14],[18,13,18,14],[19,13,19,14],[4,19,4,22],[5,19,5,20]]}
["Report for:!M503A00.185"]
["Date:","<date>"]
["Hen:","<hen>",null,null,null,"Correct Sequence",{"$f":"Start!J2","v":211},null,null,null,null,null,null,null,null,"Total Sequences in Data",{"$f":"4994-COUNTBLANK(L7:L5000)","v":158},null,null,null,null,"Total Sequences in Block Data",{"$f":"COUNTA(L7:L32)","v":26},null,null,null,"Total Sequences in Block Data",{"$f":"COUNTA(L33:L59)","v":27},null,null,null,"Total Sequences in Block Data",{"$f":"COUNTA(L60:L85)","v":26},null,null,null,"Total Sequences in Block Data",{"$f":"COUNTA(L86:L111)","v":26},null,null,null,"Total Sequences in Block Data",{"$f":"COUNTA(L112:L138)","v":27},null,null,null,"Total Sequences in Block Data",{"$f":"COUNTA(L139:L164)","v":26}]
[null,null,null,null,null,null,null,null,null,null,null,null,null,null,null,"Total Sequences in Summary",{"$f":"SUM(O7:O14)","v":157},null,null,null,null,"Total Sequences in Block Summary",{"$f":"SUM(U7:U14)","v":26},null,null,null,"Total Sequences in Block Summary",{"$f":"SUM(Z7:Z14)","v":27},null,null,null,"Total Sequences in Block Summary",{"$f":"SUM(AE7:AE14)","v":26},null,null,null,"Total Sequences in Block Summary",{"$f":"SUM(AJ7:AJ14)","v":26},null,null,null,"Total Sequences in Block Summary",{"$f":"SUM(AO7:AO14)","v":27},null,null,null,"Total Sequences in Block Summary",{"$f":"SUM(AT7:AT14)","v":25}]
[null,null,null,null,null,null,null,null,null,null,null,null,null,null,null,null,null,null,null,"Block 1",null,null,null,null,"Block 2",null,null,null,null,"Block 3",null,null,null,null,"Block 4",null,null,null,null,"Block 5",null,null,null,null,"Block 6"]
["Sequence\nComponent\n1","Time\n1","Sequence\nComponent\n2","Time\n2","Sequence\nComponent\n3","Time\n3","Sequence\nComponent\n4","Time\n4","Sequence\nComponent\n5","Time\n5","Correct?\n0=No 1=Yes","Sequence",null,"Frequency",null,"Relative Frequency","Variability",null,null,"Frequency",null,"Relative Frequency","Variability",null,"Frequency",null,"Relative Frequency","Variability",null,"Frequency",null,"Relative Frequency","Variability",null,"Frequency",null,"Relative Frequency","Variability",null,"Frequency",null,"Relative Frequency","Variability",null,"Frequency",null,"Relative Frequency","Variability"]
[12,12,24,26,24,44,null,null,null,null,0,122,null,111,{"$f":"COUNTIF($L$7:$L$500,N7)","v":9},{"$f":"O7/$Q$4","v":5.7324840764331211E-2},{"$f":"IF(P7=0,0,(P7*((LOG(P7))/LOG(2))))","v":-0.23644752692384602},null,null,{"$f":"N7","v":111},{"$f":"COUNTIF(L7:L32,T7)","v":0},{"$f":"U7/(W4-U11)","v":0},{"$f":"IF(V7=0,0,(V7*((LOG(V7))/LOG(2))))","v":0},null,{"$f":"N7","v":111},{"$f":"COUNTIF(L33:L59,Y7)","v":0},{"$f":"Z7/(AB4-Z11)","v":0},{"$f":"IF(AA7=0,0,(AA7*((LOG(AA7))/LOG(2))))","v":0},null,{"$f":"N7","v":111},{"$f":"COUNTIF(L60:L85,AD7)","v":0},{"$f":"AE7/(AG4-AE11)","v":0},{"$f":"IF(AF7=0,0,(AF7*((LOG(AF7))/LOG(2))))","v":0},null,{"$f":"N7","v":111},{"$f":"COUNTIF(L86:L111,AI7)","v":2},{"$f":"AJ7/(AL4-AJ11)","v":7.6923076923076927E-2},{"$f":"IF(AK7=0,0,(AK7*((LOG(AK7))/LOG(2))))","v":-0.28464920908777636},null,{"$f":"N7","v":111},{"$f":"COUNTIF(L112:L138,AN7)","v":6},{"$f":"AO7/(AQ4-AO11)","v":0.22222222222222221},{"$f":"IF(AP7=0,0,(AP7*((LOG(AP7))/LOG(2))))","v":-0.48220555587606945},null,{"$f":"N7","v":111},{"$f":"COUNTIF(L139:L164,AS7)","v":1},{"$f":"AT7/(AV4-AT11)","v":0.04},{"$f":"IF(AU7=0,0,(AU7*((LOG(AU7))/LOG(2))))","v":-0.18575424759098899}]
[12,143,24,154,24,177,null,null,null,null,0,122,null,112,{"$f":"COUNTIF($L$7:$L$500,N8)","v":26},{"$f":"O8/$Q$4","v":0.16560509554140126},{"$f":"IF(P8=0,0,(P8*((LOG(P8))/LOG(2))))","v":-0.42960959744913313},null,null,{"$f":"N8","v":112},{"$f":"COUNTIF(L7:L32,T8)","v":0},{"$f":"U8/(W4-U11)","v":0},{"$f":"IF(V8=0,0,(V8*((LOG(V8))/LOG(2))))","v":0},null,{"$f":"N8","v":112},{"$f":"COUNTIF(L33:L59,Y8)","v":4},{"$f":"Z8/(AB4-Z11)","v":0.14814814814814814},{"$f":"IF(AA8=0,0,(AA8*((LOG(AA8))/LOG(2))))","v":-0.40813148180199532},null,{"$f":"N8","v":112},{"$f":"COUNTIF(L60:L85,AD8)","v":3},{"$f":"AE8/(AG4-AE11)","v":0.11538461538461539},{"$f":"IF(AF8=0,0,(AF8*((LOG(AF8))/LOG(2))))","v":-0.35947814047153104},null,{"$f":"N8","v":112},{"$f":"COUNTIF(L86:L111,AI8)","v":6},{"$f":"AJ8/(AL4-AJ11)","v":0.23076923076923078},{"$f":"IF(AK8=0,0,(AK8*((LOG(AK8))/LOG(2))))","v":-0.48818705017383146},null,{"$f":"N8","v":112},{"$f":"COUNTIF(L112:L138,AN8)","v":11},{"$f":"AO8/(AQ4-AO11)","v":0.40740740740740738},{"$f":"IF(AP8=0,0,(AP8*((LOG(AP8))/LOG(2))))","v":-0.52777832291806981},null,{"$f":"N8","v":112},{"$f":"COUNTIF(L139:L164,AS8)","v":2},{"$f":"AT8/(AV4-AT11)","v":0.08},{"$f":"IF(AU8=0,0,(AU8*((LOG(AU8))/LOG(2))))","v":-0.29150849518197797}]
[12,278,24,290,24,296,null,null,null,null,0,122,null,121,{"$f":"COUNTIF($L$7:$L$500,N9)","v":0},{"$f":"O9/$Q$4","v":0},{"$f":"IF(P9=0,0,(P9*((LOG(P9))/LOG(2))))","v":0},null,null,{"$f":"N9","v":121},{"$f":"COUNTIF(L7:L32,T9)","v":0},{"$f":"U9/(W4-U11)","v":0},{"$f":"IF(V9=0,0,(V9*((LOG(V9))/LOG(2))))","v":0},null,{"$f":"N9","v":121},{"$f":"COUNTIF(L33:L59,Y9)","v":0},{"$f":"Z9/(AB4-Z11)","v":0},{"$f":"IF(AA9=0,0,(AA9*((LOG(AA9))/LOG(2))))","v":0},null,{"$f":"N9","v":121},{"$f":"COUNTIF(L60:L85,AD9)","v":0},{"$f":"AE9/(AG4-AE11)","v":0},{"$f":"IF(AF9=0,0,(AF9*((LOG(AF9))/LOG(2))))","v":0},null,{"$f":"N9","v":121},{"$f":"COUNTIF(L86:L111,AI9)","v":0},{"$f":"AJ9/(AL4-AJ11)","v":0},{"$f":"IF(AK9=0,0,(AK9*((LOG(AK9))/LOG(2))))","v":0},null,{"$f":"N9","v":121},{"$f":"COUNTIF(L112:L138,AN9)","v":0},{"$f":"AO9/(AQ4-AO11)","v":0},{"$f":"IF(AP9=0,0,(AP9*((LOG(AP9))/LOG(2))))","v":0},null,{"$f":"N9","v":121},{"$f":"COUNTIF(L139:L164,AS9)","v":0},{"$f":"AT9/(AV4-AT11)","v":0},{"$f":"IF(AU9=0,0,(AU9*((LOG(AU9))/LOG(2))))","v":0}]
[12,394,24,408,24,413,null,null,null,null,0,122,null,122,{"$f":"COUNTIF($L$7:$L$500,N10)","v":89},{"$f":"O10/$Q$4","v":0.56687898089171973},{"$f":"IF(P10=0,0,(P10*((LOG(P10))/LOG(2))))","v":-0.46421000825060765},null,null,{"$f":"N10","v":122},{"$f":"COUNTIF(L7:L32,T10)","v":16},{"$f":"U10/(W4-U11)","v":0.61538461538461542},{"$f":"IF(V10=0,0,(V10*((LOG(V10))/LOG(2))))","v":-0.43103982654836437},null,{"$f":"N10","v":122},{"$f":"COUNTIF(L33:L59,Y10)","v":22},{"$f":"Z10/(AB4-Z11)","v":0.81481481481481477},{"$f":"IF(AA10=0,0,(AA10*((LOG(AA10))/LOG(2))))","v":-0.24074183102132479},null,{"$f":"N10","v":122},{"$f":"COUNTIF(L60:L85,AD10)","v":18},{"$f":"AE10/(AG4-AE11)","v":0.69230769230769229},{"$f":"IF(AF10=0,0,(AF10*((LOG(AF10))/LOG(2))))","v":-0.36727941925300139},null,{"$f":"N10","v":122},{"$f":"COUNTIF(L86:L111,AI10)","v":15},{"$f":"AJ10/(AL4-AJ11)","v":0.57692307692307687},{"$f":"IF(AK10=0,0,(AK10*((LOG(AK10))/LOG(2))))","v":-0.45781680146110021},null,{"$f":"N10","v":122},{"$f":"COUNTIF(L112:L138,AN10)","v":7},{"$f":"AO10/(AQ4-AO11)","v":0.25925925925925924},{"$f":"IF(AP10=0,0,(AP10*((LOG(AP10))/LOG(2))))","v":-0.5049158541015204},null,{"$f":"N10","v":122},{"$f":"COUNTIF(L139:L164,AS10)","v":11},{"$f":"AT10/(AV4-AT11)","v":0.44},{"$f":"IF(AU10=0,0,(AU10*((LOG(AU10))/LOG(2))))","v":-0.52114681130046814}]
[21,523,22,530,24,547,null,null,null,null,0,222,null,211,{"$f":"COUNTIF($L$7:$L$500,N11)","v":0},{"$f":"O11/$Q$4","v":0},{"$f":"IF(P11=0,0,(P11*((LOG(P11))/LOG(2))))","v":0},null,null,{"$f":"N11","v":211},{"$f":"COUNTIF(L7:L32,T11)","v":0},null,null,null,{"$f":"N11","v":211},{"$f":"COUNTIF(L33:L59,Y11)","v":0},null,null,null,{"$f":"N11","v":211},{"$f":"COUNTIF(L60:L85,AD11)","v":0},null,null,null,{"$f":"N11","v":211},{"$f":"COUNTIF(L86:L111,AI11)","v":0},null,null,null,{"$f":"N11","v":211},{"$f":"COUNTIF(L112:L138,AN11)","v":0},null,null,null,{"$f":"N11","v":211},{"$f":"COUNTIF(L139:L164,AS11)","v":0}]
[12,643,24,654,24,658,null,null,null,null,0,122,null,212,{"$f":"COUNTIF($L$7:$L$500,N12)","v":0},{"$f":"O12/$Q$4","v":0},{"$f":"IF(P12=0,0,(P12*((LOG(P12))/LOG(2))))","v":0},null,null,{"$f":"N12","v":212},{"$f":"COUNTIF(L7:L32,T12)","v":0},{"$f":"U12/(W4-U11)","v":0},{"$f":"IF(V12=0,0,(V12*((LOG(V12))/LOG(2))))","v":0},null,{"$f":"N12","v":212},{"$f":"COUNTIF(L33:L59,Y12)","v":0},{"$f":"Z12/(AB4-Z11)","v":0},{"$f":"IF(AA12=0,0,(AA12*((LOG(AA12))/LOG(2))))","v":0},null,{"$f":"N12","v":212},{"$f":"COUNTIF(L60:L85,AD12)","v":0},{"$f":"AE12/(AG4-AE11)","v":0},{"$f":"IF(AF12=0,0,(AF12*((LOG(AF12))/LOG(2))))","v":0},null,{"$f":"N12","v":212},{"$f":"COUNTIF(L86:L111,AI12)","v":0},{"$f":"AJ12/(AL4-AJ11)","v":0},{"$f":"IF(AK12=0,0,(AK12*((LOG(AK12))/LOG(2))))","v":0},null,{"$f":"N12","v":212},{"$f":"COUNTIF(L112:L138,AN12)","v":0},{"$f":"AO12/(AQ4-AO11)","v":0},{"$f":"IF(AP12=0,0,(AP12*((LOG(AP12))/LOG(2))))","v":0},null,{"$f":"N12","v":212},{"$f":"COUNTIF(L139:L164,AS12)","v":0},{"$f":"AT12/(AV4-AT11)","v":0},{"$f":"IF(AU12=0,0,(AU12*((LOG(AU12))/LOG(2))))","v":0}]
[12,756,24,769,24,832,null,null,null,null,0,122,null,221,{"$f":"COUNTIF($L$7:$L$500,N13)","v":1},{"$f":"O13/$Q$4","v":6.369426751592357E-3},{"$f":"IF(P13=0,0,(P13*((LOG(P13))/LOG(2))))","v":-4.6462552540710994E-2},null,null,{"$f":"N13","v":221},{"$f":"COUNTIF(L7:L32,T13)","v":0},{"$f":"U13/(W4-U11)","v":0},{"$f":"IF(V13=0,0,(V13*((LOG(V13))/LOG(2))))","v":0},null,{"$f":"N13","v":221},{"$f":"COUNTIF(L33:L59,Y13)","v":1},{"$f":"Z13/(AB4-Z11)","v":3.7037037037037035E-2},{"$f":"IF(AA13=0,0,(AA13*((LOG(AA13))/LOG(2))))","v":-0.1761069445245729},null,{"$f":"N13","v":221},{"$f":"COUNTIF(L60:L85,AD13)","v":0},{"$f":"AE13/(AG4-AE11)","v":0},{"$f":"IF(AF13=0,0,(AF13*((LOG(AF13))/LOG(2))))","v":0},null,{"$f":"N13","v":221},{"$f":"COUNTIF(L86:L111,AI13)","v":0},{"$f":"AJ13/(AL4-AJ11)","v":0},{"$f":"IF(AK13=0,0,(AK13*((LOG(AK13))/LOG(2))))","v":0},null,{"$f":"N13","v":221},{"$f":"COUNTIF(L112:L138,AN13)","v":0},{"$f":"AO13/(AQ4-AO11)","v":0},{"$f":"IF(AP13=0,0,(AP13*((LOG(AP13))/LOG(2))))","v":0},null,{"$f":"N13","v":221},{"$f":"COUNTIF(L139:L164,AS13)","v":0},{"$f":"AT13/(AV4-AT11)","v":0},{"$f":"IF(AU13=0,0,(AU13*((LOG(AU13))/LOG(2))))","v":0}]
[12,929,24,943,24,999,null,null,null,null,0,122,null,222,{"$f":"COUNTIF($L$7:$L$500,N14)","v":32},{"$f":"O14/$Q$4","v":0.20382165605095542},{"$f":"IF(P14=0,0,(P14*((LOG(P14))/LOG(2))))","v":-0.46769340104797497},null,null,{"$f":"N14","v":222},{"$f":"COUNTIF(L7:L32,T14)","v":10},{"$f":"U14/(W4-U11)","v":0.38461538461538464},{"$f":"IF(V14=0,0,(V14*((LOG(V14))/LOG(2))))","v":-0.53019677817451139},null,{"$f":"N14","v":222},{"$f":"COUNTIF(L33:L59,Y14)","v":0},{"$f":"Z14/(AB4-Z11)","v":0},{"$f":"IF(AA14=0,0,(AA14*((LOG(AA14))/LOG(2))))","v":0},null,{"$f":"N14","v":222},{"$f":"COUNTIF(L60:L85,AD14)","v":5},{"$f":"AE14/(AG4-AE11)","v":0.19230769230769232},{"$f":"IF(AF14=0,0,(AF14*((LOG(AF14))/LOG(2))))","v":-0.45740608139494804},null,{"$f":"N14","v":222},{"$f":"COUNTIF(L86:L111,AI14)","v":3},{"$f":"AJ14/(AL4-AJ11)","v":0.11538461538461539},{"$f":"IF(AK14=0,0,(AK14*((LOG(AK14))/LOG(2))))","v":-0.35947814047153104},null,{"$f":"N14","v":222},{"$f":"COUNTIF(L112:L138,AN14)","v":3},{"$f":"AO14/(AQ4-AO11)","v":0.1111111111111111},{"$f":"IF(AP14=0,0,(AP14*((LOG(AP14))/LOG(2))))","v":-0.3522138890491458},null,{"$f":"N14","v":222},{"$f":"COUNTIF(L139:L164,AS14)","v":11},{"$f":"AT14/(AV4-AT11)","v":0.44},{"$f":"IF(AU14=0,0,(AU14*((LOG(AU14))/LOG(2))))","v":-0.52114681130046814}]
[21,1108,22,1125,24,1147,null,null,null,null,0,222,null,null,null,{"$f":"SUM(P7:P14)","v":1},{"$f":"-SUM(Q7:Q14)","v":1.6444230862122726},null,null,null,null,{"$f":"SUM(V7:V14)","v":1},{"$f":"-SUM(W7:W14)","v":0.96123660472287575},null,null,null,{"$f":"SUM(AA7:AA14)","v":1},{"$f":"-SUM(AB7:AB14)","v":0.82498025734789304},null,null,null,{"$f":"SUM(AF7:AF14)","v":1},{"$f":"-SUM(AG7:AG14)","v":1.1841636411194805},null,null,null,{"$f":"SUM(AK7:AK14)","v":1},{"$f":"-SUM(AL7:AL14)","v":1.590131201194239},null,null,null,{"$f":"SUM(AP7:AP14)","v":1},{"$f":"-SUM(AQ7:AQ14)","v":1.8671136219448055},null,null,null,{"$f":"SUM(AU7:AU14)","v":1},{"$f":"-SUM(AV7:AV14)","v":1.5195563653739033}]
[12,1245,24,1259,24,1266,null,null,null,null,0,122,null,null,null,"U=",{"$f":"Q15/(LOG(Q4)/LOG(2))","v":0.22542955183271629},null,null,null,null,"U1=",{"$f":"W15/(LOG(W4)/LOG(2))","v":0.20449929418582591},null,null,null,"U2=",{"$f":"AB15/(LOG(AB4)/LOG(2))","v":0.17350153015660791},null,null,null,"U3=",{"$f":"AG15/(LOG(AG4)/LOG(2))","v":0.2519261414095505},null,null,null,"U4=",{"$f":"AL15/(LOG(AL4)/LOG(2))","v":0.3382941376861433},null,null,null,"U5=",{"$f":"AQ15/(LOG(AQ4)/LOG(2))","v":0.39267251246118251},null,null,null,"U6=",{"$f":"AV15/(LOG(AV4)/LOG(2))","v":0.3272186526188739}]
[12,1365,24,1379,24,1387,null,null,null,null,0,122]
[12,1484,24,1501,24,1536,null,null,null,null,0,122]
[12,1632,24,1647,24,1656,null,null,null,null,0,122,null,"Total Target Seq"]
[12,1760,24,1777,24,1784,null,null,null,null,0,122,null,{"$f":"COUNTIF(L7:L164,G3)","v":0},null,26,27,26,26,27,26]
[21,1897,22,1906,24,1918,null,null,null,null,0,222,null,null,null,"% of reinforcement given in 6 equal intervals based on number of trials "]
[12,2018,24,2037,24,2044,null,null,null,null,0,122,null,null,null,"%_1","%_2","%_3","%_4","%_5","%_6"]
[21,2150,22,2158,24,2168,null,null,null,null,0,222,null,null,"target sequence",{"$f":"$G$3","v":211},{"$f":"$G$3","v":211},{"$f":"$G$3","v":211},{"$f":"$G$3","v":211},{"$f":"$G$3","v":211},{"$f":"$G$3","v":211}]
[12,2271,24,2288,24,2311,null,null,null,null,0,122,null,null,"total reinforcement",{"$f":"U11","v":0},{"$f":"Z11","v":0},{"$f":"AE11","v":0},{"$f":"AJ11","v":0},{"$f":"AO11","v":0},{"$f":"AT11","v":0}]
[21,2424,22,2428,24,2434,null,null,null,null,0,222,null,null,"% target"]
[21,2542,22,2548,24,2556,null,null,null,null,0,222,null,null,"CCRF"]
[21,2664,22,2669,24,2675,null,null,null,null,0,222,null,null,"% CCRf"]
[21,2781,22,2785,24,2796,null,null,null,null,0,222,null,null,"average response rate",{"$f":"F32/P20","v":126.84615384615384},{"$f":"(F59-F32)/Q20","v":129.96296296296296},{"$f":"(F85-F59)/R20","v":126.42307692307692},{"$f":"(F111-F85)/S20","v":125.76923076923077},{"$f":"(F138-F111)/T20","v":131.81481481481481},{"$f":"(F164-F138)/U20","v":-650.88461538461536}]
[21,2892,22,2896,24,2902,null,null,null,null,0,222]
[21,3012,22,3016,24,3022,null,null,null,null,0,222]
[12,3121,24,3136,24,3173,null,null,null,null,0,122]
[12,3271,24,3286,24,3298,null,null,null,null,0,122]
[12,3400,24,3415,24,3429,null,null,null,null,0,122]
[12,3531,13,3547,24,3562,null,null,null,null,0,112]
[12,3653,24,3663,24,3668,null,null,null,null,0,122]
[12,3765,24,3775,24,3779,null,null,null,null,0,122]
[12,3879,24,3893,24,3934,null,null,null,null,0,122]
[12,4031,24,4041,24,4049,null,null,null,null,0,122]
[12,4146,13,4155,24,4170,null,null,null,null,0,112]
[12,4268,24,4282,24,4291,null,null,null,null,0,122]
[12,4389,24,4403,24,4419,null,null,null,null,0,122]
[12,4516,24,4526,24,4531,null,null,null,null,0,122]
[12,4628,24,4644,24,4651,null,null,null,null,0,122]
[12,4752,24,4769,24,4784,null,null,null,null,0,122]
[12,4882,24,4897,24,4910,null,null,null,null,0,122]
[12,5008,24,5026,24,5037,null,null,null,null,0,122]
[12,5134,13,5136,24,5241,null,null,null,null,0,112]
[12,5339,24,5360,24,5367,null,null,null,null,0,122]
[12,5463,24,5480,24,5486,null,null,null,null,0,122]
[12,5583,13,5593,24,5609,null,null,null,null,0,112]
[21,5726,22,5733,13,5751,null,null,null,null,0,221]
[12,5863,24,5880,24,5895,null,null,null,null,0,122]
[12,5992,24,6016,24,6047,null,null,null,null,0,122]
[12,6144,24,6159,24,6166,null,null,null,null,0,122]
[12,6263,24,6279,24,6285,null,null,null,null,0,122]
[12,6381,24,6398,24,6404,null,null,null,null,0,122]
[12,6552,24,6572,24,6577,null,null,null,null,0,122]
[12,6674,24,6688,24,6695,null,null,null,null,0,122]
[12,6791,24,6801,24,6807,null,null,null,null,0,122]
[12,6904,24,6917,24,6924,null,null,null,null,0,122]
[12,7023,24,7038,24,7054,null,null,null,null,0,122]
[12,7151,13,7158,24,7171,null,null,null,null,0,112]
[21,7271,22,7278,24,7285,null,null,null,null,0,222]
[21,7426,22,7464,24,7493,null,null,null,null,0,222]
[12,7589,24,7599,24,7603,null,null,null,null,0,122]
[12,7705,24,7725,24,7732,null,null,null,null,0,122]
[12,7832,13,7857,24,7867,null,null,null,null,0,112]
[12,7967,24,7977,24,7982,null,null,null,null,0,122]
[21,8087,22,8094,24,8103,null,null,null,null,0,222]
[21,8214,22,8224,24,8235,null,null,null,null,0,222]
[12,8335,24,8345,24,8356,null,null,null,null,0,122]
[12,8453,24,8466,24,8474,null,null,null,null,0,122]
[12,8582,24,8601,24,8610,null,null,null,null,0,122]
[12,8707,24,8722,24,8728,null,null,null,null,0,122]
[12,8825,24,8843,24,8853,null,null,null,null,0,122]
[12,8951,24,8961,24,8968,null,null,null,null,0,122]
[12,9072,24,9083,24,9092,null,null,null,null,0,122]
[12,9189,24,9206,24,9215,null,null,null,null,0,122]
[12,9311,24,9325,24,9329,null,null,null,null,0,122]
[12,9425,13,9448,24,9458,null,null,null,null,0,112]
[12,9556,24,9572,24,9596,null,null,null,null,0,122]
[12,9703,24,9717,24,9727,null,null,null,null,0,122]
[21,9839,22,9845,24,9859,null,null,null,null,0,222]
[12,9956,24,9966,24,9971,null,null,null,null,0,122]
[12,10069,24,10084,24,10094,null,null,null,null,0,122]
[12,10191,24,10205,24,10212,null,null,null,null,0,122]
[12,10310,24,10330,24,10337,null,null,null,null,0,122]
[12,10437,24,10450,24,10456,null,null,null,null,0,122]
[12,10552,24,10562,24,10566,null,null,null,null,0,122]
[12,10674,24,10686,24,10692,null,null,null,null,0,122]
[12,10788,24,10804,24,10810,null,null,null,null,0,122]
[12,10913,24,10937,24,10941,null,null,null,null,0,122]
[12,11036,13,11049,24,11064,null,null,null,null,0,112]
[12,11162,24,11179,24,11201,null,null,null,null,0,122]
[12,11302,24,11316,24,11326,null,null,null,null,0,122]
[12,11424,24,11442,24,11449,null,null,null,null,0,122]
[21,11558,22,11567,24,11576,null,null,null,null,0,222]
[12,11673,24,11682,24,11686,null,null,null,null,0,122]
[12,11790,24,11813,24,11818,null,null,null,null,0,122]
[12,11916,24,11927,24,11931,null,null,null,null,0,122]
[12,12033,13,12056,24,12071,null,null,null,null,0,112]
[21,12172,22,12181,24,12189,null,null,null,null,0,222]
[21,12306,22,12313,24,12321,null,null,null,null,0,222]
[12,12443,24,12466,24,12481,null,null,null,null,0,122]
[12,12579,13,12587,13,12616,null,null,null,null,0,111]
[12,12712,24,12735,24,12750,null,null,null,null,0,122]
[12,12846,13,12863,24,12877,null,null,null,null,0,112]
[12,12972,13,12981,13,12999,null,null,null,null,0,111]
[12,13095,13,13105,24,13117,null,null,null,null,0,112]
[12,13216,13,13223,24,13240,null,null,null,null,0,112]
[12,13336,13,13347,24,13364,null,null,null,null,0,112]
[12,13462,13,13474,24,13490,null,null,null,null,0,112]
[12,13588,13,13599,13,13610,null,null,null,null,0,111]
[12,13715,24,13737,24,13754,null,null,null,null,0,122]
[12,13857,13,13873,24,13887,null,null,null,null,0,112]
[12,13987,13,13995,24,14005,null,null,null,null,0,112]
[12,14105,13,14113,24,14145,null,null,null,null,0,112]
[12,14242,13,14255,13,14283,null,null,null,null,0,111]
[12,14380,13,14390,13,14400,null,null,null,null,0,111]
[12,14502,13,14516,13,14540,null,null,null,null,0,111]
[12,14640,24,14651,24,14656,null,null,null,null,0,122]
[12,14756,24,14767,24,14778,null,null,null,null,0,122]
[12,14881,24,14896,24,14929,null,null,null,null,0,122]
[12,15032,13,15049,24,15060,null,null,null,null,0,112]
[12,15170,24,15183,24,15196,null,null,null,null,0,122]
[12,15304,24,15318,24,15325,null,null,null,null,0,122]
[12,15422,13,15432,24,15442,null,null,null,null,0,112]
[12,15539,13,15547,24,15565,null,null,null,null,0,112]
[12,15664,13,15673,13,15693,null,null,null,null,0,111]
[12,15791,13,15800,13,15819,null,null,null,null,0,111]
[21,15938,22,15944,24,15948,null,null,null,null,0,222]
[12,16052,13,16066,24,16077,null,null,null,null,0,112]
[12,16176,13,16188,24,16202,null,null,null,null,0,112]
[21,16326,22,16347,24,16363,null,null,null,null,0,222]
[12,16478,24,16489,24,16495,null,null,null,null,0,122]
[12,16593,13,16602,24,16613,null,null,null,null,0,112]
[21,16759,22,16767,24,16783,null,null,null,null,0,222]
[12,16883,13,16891,24,16923,null,null,null,null,0,112]
[12,17036,24,17053,24,17060,null,null,null,null,0,122]
[12,17157,13,17166,24,17178,null,null,null,null,0,112]
[21,17284,22,17336,24,17353,null,null,null,null,0,222]
[21,17510,22,17520,24,17532,null,null,null,null,0,222]
[21,17659,22,17673,24,17684,null,null,null,null,0,222]
[12,17793,13,17810,24,17822,null,null,null,null,0,112]
[12,17928,24,17946,24,17959,null,null,null,null,0,122]
[12,18068,24,18078,24,18086,null,null,null,null,0,122]
[21,18206,22,18215,24,18224,null,null,null,null,0,222]
[12,18322,24,18338,24,18343,null,null,null,null,0,122]
[21,18465,22,18471,24,18480,null,null,null,null,0,222]
[12,18577,13,18586,13,18602,null,null,null,null,0,111]
[12,18711,24,18722,24,18728,null,null,null,null,0,122]
[12,18836,24,18850,24,18854,null,null,null,null,0,122]
[12,18968,24,18981,24,18997,null,null,null,null,0,122]
[12,19117,24,19135,24,19143,null,null,null,null,0,122]
[12,19260,24,19271,24,19277,null,null,null,null,0,122]
[21,19393,22,19406,24,19413,null,null,null,null,0,222]
[21,19527,22,19536,24,19548,null,null,null,null,0,222]
[12,19716,24,19734,24,19741,null,null,null,null,0,122]
[12,19859,24,19869,24,19886,null,null,null,null,0,122]
[21,20031,22,20038,24,20047,null,null,null,null,0,222]
[21,20216,22,20226,24,20235,null,null,null,null,0,222]
[21,20346,22,20365,24,20376,null,null,null,null,0,222]
[21,20562,22,20586,24,20598,null,null,null,null,0,222]
[21,21007,11,21110,null,null,null,null,null,null,null,21]

{"sheet":"!M504650.185","index":5,"n_rows":65,"n_cols":48,"rows_kept":65,"cut":false,"hidden":false,"merged":[[4,39,4,42],[5,39,5,40],[4,44,4,47],[5,44,5,45],[4,24,4,27],[5,24,5,25],[4,29,4,32],[5,29,5,30],[4,34,4,37],[5,34,5,35],[1,1,1,2],[5,13,5,14],[18,13,18,14],[19,13,19,14],[4,19,4,22],[5,19,5,20]]}
["Report for:!M504650.185"]
["Date:","<date>"]
["Hen:","<hen>",null,null,null,"Correct Sequence",{"$f":"Start!J2","v":211},null,null,null,null,null,null,null,null,"Total Sequences in Data",{"$f":"4994-COUNTBLANK(L7:L5000)","v":59},null,null,null,null,"Total Sequences in Block Data",{"$f":"COUNTA(L7:L16)","v":10},null,null,null,"Total Sequences in Block Data",{"$f":"COUNTA(L17:L26)","v":10},null,null,null,"Total Sequences in Block Data",{"$f":"COUNTA(L27:L35)","v":9},null,null,null,"Total Sequences in Block Data",{"$f":"COUNTA(L36:L45)","v":10},null,null,null,"Total Sequences in Block Data",{"$f":"COUNTA(L46:L55)","v":10},null,null,null,"Total Sequences in Block Data",{"$f":"COUNTA(L56:L65)","v":10}]
[null,null,null,null,null,null,null,null,null,null,null,null,null,null,null,"Total Sequences in Summary",{"$f":"SUM(O7:O14)","v":59},null,null,null,null,"Total Sequences in Block Summary",{"$f":"SUM(U7:U14)","v":10},null,null,null,"Total Sequences in Block Summary",{"$f":"SUM(Z7:Z14)","v":10},null,null,null,"Total Sequences in Block Summary",{"$f":"SUM(AE7:AE14)","v":9},null,null,null,"Total Sequences in Block Summary",{"$f":"SUM(AJ7:AJ14)","v":10},null,null,null,"Total Sequences in Block Summary",{"$f":"SUM(AO7:AO14)","v":10},null,null,null,"Total Sequences in Block Summary",{"$f":"SUM(AT7:AT14)","v":10}]
[null,null,null,null,null,null,null,null,null,null,null,null,null,null,null,null,null,null,null,"Block 1",null,null,null,null,"Block 2",null,null,null,null,"Block 3",null,null,null,null,"Block 4",null,null,null,null,"Block 5",null,null,null,null,"Block 6"]
["Sequence\nComponent\n1","Time\n1","Sequence\nComponent\n2","Time\n2","Sequence\nComponent\n3","Time\n3","Sequence\nComponent\n4","Time\n4","Sequence\nComponent\n5","Time\n5","Correct?\n0=No 1=Yes","Sequence",null,"Frequency",null,"Relative Frequency","Variability",null,null,"Frequency",null,"Relative Frequency","Variability",null,"Frequency",null,"Relative Frequency","Variability",null,"Frequency",null,"Relative Frequency","Variability",null,"Frequency",null,"Relative Frequency","Variability",null,"Frequency",null,"Relative Frequency","Variability",null,"Frequency",null,"Relative Frequency","Variability"]
[12,11,13,22,13,48,null,null,null,null,0,111,null,111,{"$f":"COUNTIF($L$7:$L$500,N7)","v":24},{"$f":"O7/$Q$4","v":0.40677966101694918},{"$f":"IF(P7=0,0,(P7*((LOG(P7))/LOG(2))))","v":-0.52787005368434647},null,null,{"$f":"N7","v":111},{"$f":"COUNTIF(L7:L16,T7)","v":3},{"$f":"U7/(W4-U11)","v":0.3},{"$f":"IF(V7=0,0,(V7*((LOG(V7))/LOG(2))))","v":-0.52108967824986185},null,{"$f":"N7","v":111},{"$f":"COUNTIF(L17:L26,Y7)","v":0},{"$f":"Z7/(AB4-Z11)","v":0},{"$f":"IF(AA7=0,0,(AA7*((LOG(AA7))/LOG(2))))","v":0},null,{"$f":"N7","v":111},{"$f":"COUNTIF(L27:L35,AD7)","v":5},{"$f":"AE7/(AG4-AE11)","v":0.625},{"$f":"IF(AF7=0,0,(AF7*((LOG(AF7))/LOG(2))))","v":-0.42379494069539858},null,{"$f":"N7","v":111},{"$f":"COUNTIF(L36:L45,AI7)","v":3},{"$f":"AJ7/(AL4-AJ11)","v":0.3},{"$f":"IF(AK7=0,0,(AK7*((LOG(AK7))/LOG(2))))","v":-0.52108967824986185},null,{"$f":"N7","v":111},{"$f":"COUNTIF(L46:L55,AN7)","v":5},{"$f":"AO7/(AQ4-AO11)","v":0.5},{"$f":"IF(AP7=0,0,(AP7*((LOG(AP7))/LOG(2))))","v":-0.5},null,{"$f":"N7","v":111},{"$f":"COUNTIF(L56:L65,AS7)","v":8},{"$f":"AT7/(AV4-AT11)","v":0.8},{"$f":"IF(AU7=0,0,(AU7*((LOG(AU7))/LOG(2))))","v":-0.25754247590988982}]
[12,145,13,155,13,166,null,null,null,null,0,111,null,112,{"$f":"COUNTIF($L$7:$L$500,N8)","v":12},{"$f":"O8/$Q$4","v":0.20338983050847459},{"$f":"IF(P8=0,0,(P8*((LOG(P8))/LOG(2))))","v":-0.46732485735064783},null,null,{"$f":"N8","v":112},{"$f":"COUNTIF(L7:L16,T8)","v":3},{"$f":"U8/(W4-U11)","v":0.3},{"$f":"IF(V8=0,0,(V8*((LOG(V8))/LOG(2))))","v":-0.52108967824986185},null,{"$f":"N8","v":112},{"$f":"COUNTIF(L17:L26,Y8)","v":0},{"$f":"Z8/(AB4-Z11)","v":0},{"$f":"IF(AA8=0,0,(AA8*((LOG(AA8))/LOG(2))))","v":0},null,{"$f":"N8","v":112},{"$f":"COUNTIF(L27:L35,AD8)","v":2},{"$f":"AE8/(AG4-AE11)","v":0.25},{"$f":"IF(AF8=0,0,(AF8*((LOG(AF8))/LOG(2))))","v":-0.5},null,{"$f":"N8","v":112},{"$f":"COUNTIF(L36:L45,AI8)","v":3},{"$f":"AJ8/(AL4-AJ11)","v":0.3},{"$f":"IF(AK8=0,0,(AK8*((LOG(AK8))/LOG(2))))","v":-0.52108967824986185},null,{"$f":"N8","v":112},{"$f":"COUNTIF(L46:L55,AN8)","v":3},{"$f":"AO8/(AQ4-AO11)","v":0.3},{"$f":"IF(AP8=0,0,(AP8*((LOG(AP8))/LOG(2))))","v":-0.52108967824986185},null,{"$f":"N8","v":112},{"$f":"COUNTIF(L56:L65,AS8)","v":1},{"$f":"AT8/(AV4-AT11)","v":0.1},{"$f":"IF(AU8=0,0,(AU8*((LOG(AU8))/LOG(2))))","v":-0.33219280948873625}]
[12,267,24,290,24,298,null,null,null,null,0,122,null,121,{"$f":"COUNTIF($L$7:$L$500,N9)","v":1},{"$f":"O9/$Q$4","v":1.6949152542372881E-2},{"$f":"IF(P9=0,0,(P9*((LOG(P9))/LOG(2))))","v":-9.9705814395963419E-2},null,null,{"$f":"N9","v":121},{"$f":"COUNTIF(L7:L16,T9)","v":0},{"$f":"U9/(W4-U11)","v":0},{"$f":"IF(V9=0,0,(V9*((LOG(V9))/LOG(2))))","v":0},null,{"$f":"N9","v":121},{"$f":"COUNTIF(L17:L26,Y9)","v":0},{"$f":"Z9/(AB4-Z11)","v":0},{"$f":"IF(AA9=0,0,(AA9*((LOG(AA9))/LOG(2))))","v":0},null,{"$f":"N9","v":121},{"$f":"COUNTIF(L27:L35,AD9)","v":1},{"$f":"AE9/(AG4-AE11)","v":0.125},{"$f":"IF(AF9=0,0,(AF9*((LOG(AF9))/LOG(2))))","v":-0.375},null,{"$f":"N9","v":121},{"$f":"COUNTIF(L36:L45,AI9)","v":0},{"$f":"AJ9/(AL4-AJ11)","v":0},{"$f":"IF(AK9=0,0,(AK9*((LOG(AK9))/LOG(2))))","v":0},null,{"$f":"N9","v":121},{"$f":"COUNTIF(L46:L55,AN9)","v":0},{"$f":"AO9/(AQ4-AO11)","v":0},{"$f":"IF(AP9=0,0,(AP9*((LOG(AP9))/LOG(2))))","v":0},null,{"$f":"N9","v":121},{"$f":"COUNTIF(L56:L65,AS9)","v":0},{"$f":"AT9/(AV4-AT11)","v":0},{"$f":"IF(AU9=0,0,(AU9*((LOG(AU9))/LOG(2))))","v":0}]
[12,400,24,444,24,453,null,null,null,null,0,122,null,122,{"$f":"COUNTIF($L$7:$L$500,N10)","v":20},{"$f":"O10/$Q$4","v":0.33898305084745761},{"$f":"IF(P10=0,0,(P10*((LOG(P10))/LOG(2))))","v":-0.52905591677100983},null,null,{"$f":"N10","v":122},{"$f":"COUNTIF(L7:L16,T10)","v":4},{"$f":"U10/(W4-U11)","v":0.4},{"$f":"IF(V10=0,0,(V10*((LOG(V10))/LOG(2))))","v":-0.52877123795494496},null,{"$f":"N10","v":122},{"$f":"COUNTIF(L17:L26,Y10)","v":10},{"$f":"Z10/(AB4-Z11)","v":1},{"$f":"IF(AA10=0,0,(AA10*((LOG(AA10))/LOG(2))))","v":0},null,{"$f":"N10","v":122},{"$f":"COUNTIF(L27:L35,AD10)","v":0},{"$f":"AE10/(AG4-AE11)","v":0},{"$f":"IF(AF10=0,0,(AF10*((LOG(AF10))/LOG(2))))","v":0},null,{"$f":"N10","v":122},{"$f":"COUNTIF(L36:L45,AI10)","v":4},{"$f":"AJ10/(AL4-AJ11)","v":0.4},{"$f":"IF(AK10=0,0,(AK10*((LOG(AK10))/LOG(2))))","v":-0.52877123795494496},null,{"$f":"N10","v":122},{"$f":"COUNTIF(L46:L55,AN10)","v":1},{"$f":"AO10/(AQ4-AO11)","v":0.1},{"$f":"IF(AP10=0,0,(AP10*((LOG(AP10))/LOG(2))))","v":-0.33219280948873625},null,{"$f":"N10","v":122},{"$f":"COUNTIF(L56:L65,AS10)","v":1},{"$f":"AT10/(AV4-AT11)","v":0.1},{"$f":"IF(AU10=0,0,(AU10*((LOG(AU10))/LOG(2))))","v":-0.33219280948873625}]
[12,557,13,595,13,619,null,null,null,null,0,111,null,211,{"$f":"COUNTIF($L$7:$L$500,N11)","v":1},{"$f":"O11/$Q$4","v":1.6949152542372881E-2},{"$f":"IF(P11=0,0,(P11*((LOG(P11))/LOG(2))))","v":-9.9705814395963419E-2},null,null,{"$f":"N11","v":211},{"$f":"COUNTIF(L7:L16,T11)","v":0},null,null,null,{"$f":"N11","v":211},{"$f":"COUNTIF(L17:L26,Y11)","v":0},null,null,null,{"$f":"N11","v":211},{"$f":"COUNTIF(L27:L35,AD11)","v":1},null,null,null,{"$f":"N11","v":211},{"$f":"COUNTIF(L36:L45,AI11)","v":0},null,null,null,{"$f":"N11","v":211},{"$f":"COUNTIF(L46:L55,AN11)","v":0},null,null,null,{"$f":"N11","v":211},{"$f":"COUNTIF(L56:L65,AS11)","v":0}]
[12,723,24,741,24,749,null,null,null,null,0,122,null,212,{"$f":"COUNTIF($L$7:$L$500,N12)","v":0},{"$f":"O12/$Q$4","v":0},{"$f":"IF(P12=0,0,(P12*((LOG(P12))/LOG(2))))","v":0},null,null,{"$f":"N12","v":212},{"$f":"COUNTIF(L7:L16,T12)","v":0},{"$f":"U12/(W4-U11)","v":0},{"$f":"IF(V12=0,0,(V12*((LOG(V12))/LOG(2))))","v":0},null,{"$f":"N12","v":212},{"$f":"COUNTIF(L17:L26,Y12)","v":0},{"$f":"Z12/(AB4-Z11)","v":0},{"$f":"IF(AA12=0,0,(AA12*((LOG(AA12))/LOG(2))))","v":0},null,{"$f":"N12","v":212},{"$f":"COUNTIF(L27:L35,AD12)","v":0},{"$f":"AE12/(AG4-AE11)","v":0},{"$f":"IF(AF12=0,0,(AF12*((LOG(AF12))/LOG(2))))","v":0},null,{"$f":"N12","v":212},{"$f":"COUNTIF(L36:L45,AI12)","v":0},{"$f":"AJ12/(AL4-AJ11)","v":0},{"$f":"IF(AK12=0,0,(AK12*((LOG(AK12))/LOG(2))))","v":0},null,{"$f":"N12","v":212},{"$f":"COUNTIF(L46:L55,AN12)","v":0},{"$f":"AO12/(AQ4-AO11)","v":0},{"$f":"IF(AP12=0,0,(AP12*((LOG(AP12))/LOG(2))))","v":0},null,{"$f":"N12","v":212},{"$f":"COUNTIF(L56:L65,AS12)","v":0},{"$f":"AT12/(AV4-AT11)","v":0},{"$f":"IF(AU12=0,0,(AU12*((LOG(AU12))/LOG(2))))","v":0}]
[12,918,13,930,24,1012,null,null,null,null,0,112,null,221,{"$f":"COUNTIF($L$7:$L$500,N13)","v":0},{"$f":"O13/$Q$4","v":0},{"$f":"IF(P13=0,0,(P13*((LOG(P13))/LOG(2))))","v":0},null,null,{"$f":"N13","v":221},{"$f":"COUNTIF(L7:L16,T13)","v":0},{"$f":"U13/(W4-U11)","v":0},{"$f":"IF(V13=0,0,(V13*((LOG(V13))/LOG(2))))","v":0},null,{"$f":"N13","v":221},{"$f":"COUNTIF(L17:L26,Y13)","v":0},{"$f":"Z13/(AB4-Z11)","v":0},{"$f":"IF(AA13=0,0,(AA13*((LOG(AA13))/LOG(2))))","v":0},null,{"$f":"N13","v":221},{"$f":"COUNTIF(L27:L35,AD13)","v":0},{"$f":"AE13/(AG4-AE11)","v":0},{"$f":"IF(AF13=0,0,(AF13*((LOG(AF13))/LOG(2))))","v":0},null,{"$f":"N13","v":221},{"$f":"COUNTIF(L36:L45,AI13)","v":0},{"$f":"AJ13/(AL4-AJ11)","v":0},{"$f":"IF(AK13=0,0,(AK13*((LOG(AK13))/LOG(2))))","v":0},null,{"$f":"N13","v":221},{"$f":"COUNTIF(L46:L55,AN13)","v":0},{"$f":"AO13/(AQ4-AO11)","v":0},{"$f":"IF(AP13=0,0,(AP13*((LOG(AP13))/LOG(2))))","v":0},null,{"$f":"N13","v":221},{"$f":"COUNTIF(L56:L65,AS13)","v":0},{"$f":"AT13/(AV4-AT11)","v":0},{"$f":"IF(AU13=0,0,(AU13*((LOG(AU13))/LOG(2))))","v":0}]
[12,1119,24,1129,24,1150,null,null,null,null,0,122,null,222,{"$f":"COUNTIF($L$7:$L$500,N14)","v":1},{"$f":"O14/$Q$4","v":1.6949152542372881E-2},{"$f":"IF(P14=0,0,(P14*((LOG(P14))/LOG(2))))","v":-9.9705814395963419E-2},null,null,{"$f":"N14","v":222},{"$f":"COUNTIF(L7:L16,T14)","v":0},{"$f":"U14/(W4-U11)","v":0},{"$f":"IF(V14=0,0,(V14*((LOG(V14))/LOG(2))))","v":0},null,{"$f":"N14","v":222},{"$f":"COUNTIF(L17:L26,Y14)","v":0},{"$f":"Z14/(AB4-Z11)","v":0},{"$f":"IF(AA14=0,0,(AA14*((LOG(AA14))/LOG(2))))","v":0},null,{"$f":"N14","v":222},{"$f":"COUNTIF(L27:L35,AD14)","v":0},{"$f":"AE14/(AG4-AE11)","v":0},{"$f":"IF(AF14=0,0,(AF14*((LOG(AF14))/LOG(2))))","v":0},null,{"$f":"N14","v":222},{"$f":"COUNTIF(L36:L45,AI14)","v":0},{"$f":"AJ14/(AL4-AJ11)","v":0},{"$f":"IF(AK14=0,0,(AK14*((LOG(AK14))/LOG(2))))","v":0},null,{"$f":"N14","v":222},{"$f":"COUNTIF(L46:L55,AN14)","v":1},{"$f":"AO14/(AQ4-AO11)","v":0.1},{"$f":"IF(AP14=0,0,(AP14*((LOG(AP14))/LOG(2))))","v":-0.33219280948873625},null,{"$f":"N14","v":222},{"$f":"COUNTIF(L56:L65,AS14)","v":0},{"$f":"AT14/(AV4-AT11)","v":0},{"$f":"IF(AU14=0,0,(AU14*((LOG(AU14))/LOG(2))))","v":0}]
[12,1257,13,1266,24,1283,null,null,null,null,0,112,null,null,null,{"$f":"SUM(P7:P14)","v":0.99999999999999989},{"$f":"-SUM(Q7:Q14)","v":1.8233682709938945},null,null,null,null,{"$f":"SUM(V7:V14)","v":1},{"$f":"-SUM(W7:W14)","v":1.5709505944546687},null,null,null,{"$f":"SUM(AA7:AA14)","v":1},{"$f":"-SUM(AB7:AB14)","v":0},null,null,null,{"$f":"SUM(AF7:AF14)","v":1},{"$f":"-SUM(AG7:AG14)","v":1.2987949406953985},null,null,null,{"$f":"SUM(AK7:AK14)","v":1},{"$f":"-SUM(AL7:AL14)","v":1.5709505944546687},null,null,null,{"$f":"SUM(AP7:AP14)","v":1},{"$f":"-SUM(AQ7:AQ14)","v":1.6854752972273346},null,null,null,{"$f":"SUM(AU7:AU14)","v":1},{"$f":"-SUM(AV7:AV14)","v":0.92192809488736227}]
[12,1386,13,1393,24,1423,null,null,null,null,0,112,null,null,null,"U=",{"$f":"Q15/(LOG(Q4)/LOG(2))","v":0.30995731947252797},null,null,null,null,"U1=",{"$f":"W15/(LOG(W4)/LOG(2))","v":0.4729032506370176},null,null,null,"U2=",{"$f":"AB15/(LOG(AB4)/LOG(2))","v":0},null,null,null,"U3=",{"$f":"AG15/(LOG(AG4)/LOG(2))","v":0.40972418593640175},null,null,null,"U4=",{"$f":"AL15/(LOG(AL4)/LOG(2))","v":0.4729032506370176},null,null,null,"U5=",{"$f":"AQ15/(LOG(AQ4)/LOG(2))","v":0.50737862141609202},null,null,null,"U6=",{"$f":"AV15/(LOG(AV4)/LOG(2))","v":0.27752801040644515}]
[12,1528,24,1550,24,1557,null,null,null,null,0,122]
[12,1655,24,1670,24,1676,null,null,null,null,0,122]
[12,1776,24,1790,24,1801,null,null,null,null,0,122,null,"Total Target Seq"]
[12,1904,24,1942,24,1954,null,null,null,null,0,122,null,{"$f":"COUNTIF(L7:L65,G3)","v":1},null,10,10,9,10,10,10]
[12,2051,24,2097,24,2102,null,null,null,null,0,122,null,null,null,"% of reinforcement given in 6 equal intervals based on number of trials "]
[12,2203,24,2215,24,2219,null,null,null,null,0,122,null,null,null,"%_1","%_2","%_3","%_4","%_5","%_6"]
[12,2322,24,2338,24,2349,null,null,null,null,0,122,null,null,"target sequence",{"$f":"$G$3","v":211},{"$f":"$G$3","v":211},{"$f":"$G$3","v":211},{"$f":"$G$3","v":211},{"$f":"$G$3","v":211},{"$f":"$G$3","v":211}]
[12,2478,24,2498,24,2508,null,null,null,null,0,122,null,null,"total reinforcement",{"$f":"U11","v":0},{"$f":"Z11","v":0},{"$f":"AE11","v":1},{"$f":"AJ11","v":0},{"$f":"AO11","v":0},{"$f":"AT11","v":0}]
[12,2626,24,2653,24,2662,null,null,null,null,0,122,null,null,"% target"]
[12,2812,24,2827,24,2834,null,null,null,null,0,122,null,null,"CCRF"]
[12,3022,13,3058,24,3119,null,null,null,null,0,112,null,null,"% CCRf"]
[12,3386,13,3398,13,3500,null,null,null,null,0,111,null,null,"average response rate",{"$f":"F16/P20","v":142.30000000000001},{"$f":"(F26-F16)/Q20","v":141.1},{"$f":"(F35-F26)/R20","v":1899.7777777777778},{"$f":"(F45-F35)/S20","v":140.69999999999999},{"$f":"(F55-F45)/T20","v":132.6},{"$f":"(F65-F55)/U20","v":131.5}]
[12,3658,13,5103,13,5116,null,null,null,null,0,111]
[21,17650,11,18970,11,18982,null,null,null,null,0,211]
[12,19109,13,19120,13,19135,null,null,null,null,0,111]
[12,19258,13,19356,13,19367,null,null,null,null,0,111]
[12,19496,13,19504,13,19514,null,null,null,null,0,111]
[12,19616,13,19626,24,19662,null,null,null,null,0,112]
[12,19775,24,19881,13,19932,null,null,null,null,0,121]
[12,20035,24,20050,24,20076,null,null,null,null,0,122]
[12,20198,24,20222,24,20258,null,null,null,null,0,122]
[12,20363,24,20384,24,20407,null,null,null,null,0,122]
[12,20515,13,20538,24,20550,null,null,null,null,0,112]
[12,20648,24,20674,24,20689,null,null,null,null,0,122]
[12,20790,13,20801,24,20825,null,null,null,null,0,112]
[12,20922,13,20933,13,20948,null,null,null,null,0,111]
[12,21050,13,21062,13,21078,null,null,null,null,0,111]
[12,21176,13,21185,24,21224,null,null,null,null,0,112]
[12,21324,13,21332,13,21339,null,null,null,null,0,111]
[12,21437,13,21445,24,21461,null,null,null,null,0,112]
[12,21561,13,21569,13,21582,null,null,null,null,0,111]
[12,21682,13,21691,13,21734,null,null,null,null,0,111]
[21,21847,22,21861,24,21872,null,null,null,null,0,222]
[12,21978,24,21995,24,22005,null,null,null,null,0,122]
[12,22106,13,22123,13,22134,null,null,null,null,0,111]
[12,22235,13,22261,13,22270,null,null,null,null,0,111]
[12,22373,13,22382,24,22399,null,null,null,null,0,112]
[12,22500,13,22510,24,22536,null,null,null,null,0,112]
[12,22640,13,22655,13,22665,null,null,null,null,0,111]
[12,22761,13,22767,13,22773,null,null,null,null,0,111]
[12,22878,13,22887,13,22896,null,null,null,null,0,111]
[12,23010,13,23022,24,23041,null,null,null,null,0,112]
[12,23140,13,23165,13,23179,null,null,null,null,0,111]
[12,23282,13,23295,13,23297,null,null,null,null,0,111]
[12,23399,13,23410,13,23424,null,null,null,null,0,111]
[12,23531,13,23551,13,23567,null,null,null,null,0,111]
[12,23670,13,23683,13,23696,null,null,null,null,0,111]
[12,23798,24,23826,24,23838,null,null,null,null,0,122]
[12,23954,13,23968,13,23980,null,null,null,null,null,111]

{"sheet":"!M505B10.185","index":6,"n_rows":176,"n_cols":48,"rows_kept":176,"cut":false,"hidden":false,"merged":[[4,39,4,42],[5,39,5,40],[4,44,4,47],[5,44,5,45],[4,24,4,27],[5,24,5,25],[4,29,4,32],[5,29,5,30],[4,34,4,37],[5,34,5,35],[1,1,1,2],[5,13,5,14],[18,13,18,14],[19,13,19,14],[4,19,4,22],[5,19,5,20]]}
["Report for:!M505B10.185"]
["Date:","<date>"]
["Hen:","<hen>",null,null,null,"Correct Sequence",{"$f":"Start!J2","v":211},null,null,null,null,null,null,null,null,"Total Sequences in Data",{"$f":"4994-COUNTBLANK(L7:L5000)","v":170},null,null,null,null,"Total Sequences in Block Data",{"$f":"COUNTA(L7:L34)","v":28},null,null,null,"Total Sequences in Block Data",{"$f":"COUNTA(L35:L63)","v":29},null,null,null,"Total Sequences in Block Data",{"$f":"COUNTA(L64:L91)","v":28},null,null,null,"Total Sequences in Block Data",{"$f":"COUNTA(L92:L119)","v":28},null,null,null,"Total Sequences in Block Data",{"$f":"COUNTA(L120:L148)","v":29},null,null,null,"Total Sequences in Block Data",{"$f":"COUNTA(L149:L176)","v":28}]
[null,null,null,null,null,null,null,null,null,null,null,null,null,null,null,"Total Sequences in Summary",{"$f":"SUM(O7:O14)","v":170},null,null,null,null,"Total Sequences in Block Summary",{"$f":"SUM(U7:U14)","v":28},null,null,null,"Total Sequences in Block Summary",{"$f":"SUM(Z7:Z14)","v":29},null,null,null,"Total Sequences in Block Summary",{"$f":"SUM(AE7:AE14)","v":28},null,null,null,"Total Sequences in Block Summary",{"$f":"SUM(AJ7:AJ14)","v":28},null,null,null,"Total Sequences in Block Summary",{"$f":"SUM(AO7:AO14)","v":29},null,null,null,"Total Sequences in Block Summary",{"$f":"SUM(AT7:AT14)","v":28}]
[null,null,null,null,null,null,null,null,null,null,null,null,null,null,null,null,null,null,null,"Block 1",null,null,null,null,"Block 2",null,null,null,null,"Block 3",null,null,null,null,"Block 4",null,null,null,null,"Block 5",null,null,null,null,"Block 6"]
["Sequence\nComponent\n1","Time\n1","Sequence\nComponent\n2","Time\n2","Sequence\nComponent\n3","Time\n3","Sequence\nComponent\n4","Time\n4","Sequence\nComponent\n5","Time\n5","Correct?\n0=No 1=Yes","Sequence",null,"Frequency",null,"Relative Frequency","Variability",null,null,"Frequency",null,"Relative Frequency","Variability",null,"Frequency",null,"Relative Frequency","Variability",null,"Frequency",null,"Relative Frequency","Variability",null,"Frequency",null,"Relative Frequency","Variability",null,"Frequency",null,"Relative Frequency","Variability",null,"Frequency",null,"Relative Frequency","Variability"]
[12,7,24,22,13,41,null,null,null,null,0,121,null,111,{"$f":"COUNTIF($L$7:$L$500,N7)","v":72},{"$f":"O7/$Q$4","v":0.42352941176470588},{"$f":"IF(P7=0,0,(P7*((LOG(P7))/LOG(2))))","v":-0.52495027822392959},null,null,{"$f":"N7","v":111},{"$f":"COUNTIF(L7:L34,T7)","v":8},{"$f":"U7/(W4-U11)","v":0.2857142857142857},{"$f":"IF(V7=0,0,(V7*((LOG(V7))/LOG(2))))","v":-0.51638712058788683},null,{"$f":"N7","v":111},{"$f":"COUNTIF(L35:L63,Y7)","v":11},{"$f":"Z7/(AB4-Z11)","v":0.37931034482758619},{"$f":"IF(AA7=0,0,(AA7*((LOG(AA7))/LOG(2))))","v":-0.53048424625493174},null,{"$f":"N7","v":111},{"$f":"COUNTIF(L64:L91,AD7)","v":13},{"$f":"AE7/(AG4-AE11)","v":0.48148148148148145},{"$f":"IF(AF7=0,0,(AF7*((LOG(AF7))/LOG(2))))","v":-0.50769708119595902},null,{"$f":"N7","v":111},{"$f":"COUNTIF(L92:L119,AI7)","v":16},{"$f":"AJ7/(AL4-AJ11)","v":0.59259259259259256},{"$f":"IF(AK7=0,0,(AK7*((LOG(AK7))/LOG(2))))","v":-0.44734074202279617},null,{"$f":"N7","v":111},{"$f":"COUNTIF(L120:L148,AN7)","v":10},{"$f":"AO7/(AQ4-AO11)","v":0.34482758620689657},{"$f":"IF(AP7=0,0,(AP7*((LOG(AP7))/LOG(2))))","v":-0.52967341387593436},null,{"$f":"N7","v":111},{"$f":"COUNTIF(L149:L176,AS7)","v":14},{"$f":"AT7/(AV4-AT11)","v":0.5},{"$f":"IF(AU7=0,0,(AU7*((LOG(AU7))/LOG(2))))","v":-0.5}]
[21,145,22,155,24,166,null,null,null,null,0,222,null,112,{"$f":"COUNTIF($L$7:$L$500,N8)","v":31},{"$f":"O8/$Q$4","v":0.18235294117647058},{"$f":"IF(P8=0,0,(P8*((LOG(P8))/LOG(2))))","v":-0.44771196116632711},null,null,{"$f":"N8","v":112},{"$f":"COUNTIF(L7:L34,T8)","v":4},{"$f":"U8/(W4-U11)","v":0.14285714285714285},{"$f":"IF(V8=0,0,(V8*((LOG(V8))/LOG(2))))","v":-0.40105070315108626},null,{"$f":"N8","v":112},{"$f":"COUNTIF(L35:L63,Y8)","v":4},{"$f":"Z8/(AB4-Z11)","v":0.13793103448275862},{"$f":"IF(AA8=0,0,(AA8*((LOG(AA8))/LOG(2))))","v":-0.39420427519000989},null,{"$f":"N8","v":112},{"$f":"COUNTIF(L64:L91,AD8)","v":3},{"$f":"AE8/(AG4-AE11)","v":0.1111111111111111},{"$f":"IF(AF8=0,0,(AF8*((LOG(AF8))/LOG(2))))","v":-0.3522138890491458},null,{"$f":"N8","v":112},{"$f":"COUNTIF(L92:L119,AI8)","v":5},{"$f":"AJ8/(AL4-AJ11)","v":0.18518518518518517},{"$f":"IF(AK8=0,0,(AK8*((LOG(AK8))/LOG(2))))","v":-0.45054803838446406},null,{"$f":"N8","v":112},{"$f":"COUNTIF(L120:L148,AN8)","v":11},{"$f":"AO8/(AQ4-AO11)","v":0.37931034482758619},{"$f":"IF(AP8=0,0,(AP8*((LOG(AP8))/LOG(2))))","v":-0.53048424625493174},null,{"$f":"N8","v":112},{"$f":"COUNTIF(L149:L176,AS8)","v":4},{"$f":"AT8/(AV4-AT11)","v":0.14285714285714285},{"$f":"IF(AU8=0,0,(AU8*((LOG(AU8))/LOG(2))))","v":-0.40105070315108626}]
[12,266,13,274,13,288,null,null,null,null,0,111,null,121,{"$f":"COUNTIF($L$7:$L$500,N9)","v":5},{"$f":"O9/$Q$4","v":2.9411764705882353E-2},{"$f":"IF(P9=0,0,(P9*((LOG(P9))/LOG(2))))","v":-0.14963126003677468},null,null,{"$f":"N9","v":121},{"$f":"COUNTIF(L7:L34,T9)","v":1},{"$f":"U9/(W4-U11)","v":3.5714285714285712E-2},{"$f":"IF(V9=0,0,(V9*((LOG(V9))/LOG(2))))","v":-0.17169124721634299},null,{"$f":"N9","v":121},{"$f":"COUNTIF(L35:L63,Y9)","v":1},{"$f":"Z9/(AB4-Z11)","v":3.4482758620689655E-2},{"$f":"IF(AA9=0,0,(AA9*((LOG(AA9))/LOG(2))))","v":-0.16751658603888178},null,{"$f":"N9","v":121},{"$f":"COUNTIF(L64:L91,AD9)","v":0},{"$f":"AE9/(AG4-AE11)","v":0},{"$f":"IF(AF9=0,0,(AF9*((LOG(AF9))/LOG(2))))","v":0},null,{"$f":"N9","v":121},{"$f":"COUNTIF(L92:L119,AI9)","v":0},{"$f":"AJ9/(AL4-AJ11)","v":0},{"$f":"IF(AK9=0,0,(AK9*((LOG(AK9))/LOG(2))))","v":0},null,{"$f":"N9","v":121},{"$f":"COUNTIF(L120:L148,AN9)","v":0},{"$f":"AO9/(AQ4-AO11)","v":0},{"$f":"IF(AP9=0,0,(AP9*((LOG(AP9))/LOG(2))))","v":0},null,{"$f":"N9","v":121},{"$f":"COUNTIF(L149:L176,AS9)","v":3},{"$f":"AT9/(AV4-AT11)","v":0.10714285714285714},{"$f":"IF(AU9=0,0,(AU9*((LOG(AU9))/LOG(2))))","v":-0.34525633085747659}]
[12,391,24,402,24,410,null,null,null,null,0,122,null,122,{"$f":"COUNTIF($L$7:$L$500,N10)","v":30},{"$f":"O10/$Q$4","v":0.17647058823529413},{"$f":"IF(P10=0,0,(P10*((LOG(P10))/LOG(2))))","v":-0.44161770715220888},null,null,{"$f":"N10","v":122},{"$f":"COUNTIF(L7:L34,T10)","v":12},{"$f":"U10/(W4-U11)","v":0.42857142857142855},{"$f":"IF(V10=0,0,(V10*((LOG(V10))/LOG(2))))","v":-0.52388246628704915},null,{"$f":"N10","v":122},{"$f":"COUNTIF(L35:L63,Y10)","v":5},{"$f":"Z10/(AB4-Z11)","v":0.17241379310344829},{"$f":"IF(AA10=0,0,(AA10*((LOG(AA10))/LOG(2))))","v":-0.43725050004141547},null,{"$f":"N10","v":122},{"$f":"COUNTIF(L64:L91,AD10)","v":4},{"$f":"AE10/(AG4-AE11)","v":0.14814814814814814},{"$f":"IF(AF10=0,0,(AF10*((LOG(AF10))/LOG(2))))","v":-0.40813148180199532},null,{"$f":"N10","v":122},{"$f":"COUNTIF(L92:L119,AI10)","v":1},{"$f":"AJ10/(AL4-AJ11)","v":3.7037037037037035E-2},{"$f":"IF(AK10=0,0,(AK10*((LOG(AK10))/LOG(2))))","v":-0.1761069445245729},null,{"$f":"N10","v":122},{"$f":"COUNTIF(L120:L148,AN10)","v":5},{"$f":"AO10/(AQ4-AO11)","v":0.17241379310344829},{"$f":"IF(AP10=0,0,(AP10*((LOG(AP10))/LOG(2))))","v":-0.43725050004141547},null,{"$f":"N10","v":122},{"$f":"COUNTIF(L149:L176,AS10)","v":3},{"$f":"AT10/(AV4-AT11)","v":0.10714285714285714},{"$f":"IF(AU10=0,0,(AU10*((LOG(AU10))/LOG(2))))","v":-0.34525633085747659}]
[12,508,13,513,13,527,null,null,null,null,0,111,null,211,{"$f":"COUNTIF($L$7:$L$500,N11)","v":2},{"$f":"O11/$Q$4","v":1.1764705882352941E-2},{"$f":"IF(P11=0,0,(P11*((LOG(P11))/LOG(2))))","v":-7.5404599248678844E-2},null,null,{"$f":"N11","v":211},{"$f":"COUNTIF(L7:L34,T11)","v":0},null,null,null,{"$f":"N11","v":211},{"$f":"COUNTIF(L35:L63,Y11)","v":0},null,null,null,{"$f":"N11","v":211},{"$f":"COUNTIF(L64:L91,AD11)","v":1},null,null,null,{"$f":"N11","v":211},{"$f":"COUNTIF(L92:L119,AI11)","v":1},null,null,null,{"$f":"N11","v":211},{"$f":"COUNTIF(L120:L148,AN11)","v":0},null,null,null,{"$f":"N11","v":211},{"$f":"COUNTIF(L149:L176,AS11)","v":0}]
[12,630,13,643,13,657,null,null,null,null,0,111,null,212,{"$f":"COUNTIF($L$7:$L$500,N12)","v":0},{"$f":"O12/$Q$4","v":0},{"$f":"IF(P12=0,0,(P12*((LOG(P12))/LOG(2))))","v":0},null,null,{"$f":"N12","v":212},{"$f":"COUNTIF(L7:L34,T12)","v":0},{"$f":"U12/(W4-U11)","v":0},{"$f":"IF(V12=0,0,(V12*((LOG(V12))/LOG(2))))","v":0},null,{"$f":"N12","v":212},{"$f":"COUNTIF(L35:L63,Y12)","v":0},{"$f":"Z12/(AB4-Z11)","v":0},{"$f":"IF(AA12=0,0,(AA12*((LOG(AA12))/LOG(2))))","v":0},null,{"$f":"N12","v":212},{"$f":"COUNTIF(L64:L91,AD12)","v":0},{"$f":"AE12/(AG4-AE11)","v":0},{"$f":"IF(AF12=0,0,(AF12*((LOG(AF12))/LOG(2))))","v":0},null,{"$f":"N12","v":212},{"$f":"COUNTIF(L92:L119,AI12)","v":0},{"$f":"AJ12/(AL4-AJ11)","v":0},{"$f":"IF(AK12=0,0,(AK12*((LOG(AK12))/LOG(2))))","v":0},null,{"$f":"N12","v":212},{"$f":"COUNTIF(L120:L148,AN12)","v":0},{"$f":"AO12/(AQ4-AO11)","v":0},{"$f":"IF(AP12=0,0,(AP12*((LOG(AP12))/LOG(2))))","v":0},null,{"$f":"N12","v":212},{"$f":"COUNTIF(L149:L176,AS12)","v":0},{"$f":"AT12/(AV4-AT11)","v":0},{"$f":"IF(AU12=0,0,(AU12*((LOG(AU12))/LOG(2))))","v":0}]
[12,757,13,765,13,773,null,null,null,null,0,111,null,221,{"$f":"COUNTIF($L$7:$L$500,N13)","v":1},{"$f":"O13/$Q$4","v":5.8823529411764705E-3},{"$f":"IF(P13=0,0,(P13*((LOG(P13))/LOG(2))))","v":-4.35846525655159E-2},null,null,{"$f":"N13","v":221},{"$f":"COUNTIF(L7:L34,T13)","v":0},{"$f":"U13/(W4-U11)","v":0},{"$f":"IF(V13=0,0,(V13*((LOG(V13))/LOG(2))))","v":0},null,{"$f":"N13","v":221},{"$f":"COUNTIF(L35:L63,Y13)","v":1},{"$f":"Z13/(AB4-Z11)","v":3.4482758620689655E-2},{"$f":"IF(AA13=0,0,(AA13*((LOG(AA13))/LOG(2))))","v":-0.16751658603888178},null,{"$f":"N13","v":221},{"$f":"COUNTIF(L64:L91,AD13)","v":0},{"$f":"AE13/(AG4-AE11)","v":0},{"$f":"IF(AF13=0,0,(AF13*((LOG(AF13))/LOG(2))))","v":0},null,{"$f":"N13","v":221},{"$f":"COUNTIF(L92:L119,AI13)","v":0},{"$f":"AJ13/(AL4-AJ11)","v":0},{"$f":"IF(AK13=0,0,(AK13*((LOG(AK13))/LOG(2))))","v":0},null,{"$f":"N13","v":221},{"$f":"COUNTIF(L120:L148,AN13)","v":0},{"$f":"AO13/(AQ4-AO11)","v":0},{"$f":"IF(AP13=0,0,(AP13*((LOG(AP13))/LOG(2))))","v":0},null,{"$f":"N13","v":221},{"$f":"COUNTIF(L149:L176,AS13)","v":0},{"$f":"AT13/(AV4-AT11)","v":0},{"$f":"IF(AU13=0,0,(AU13*((LOG(AU13))/LOG(2))))","v":0}]
[12,878,13,887,24,901,null,null,null,null,0,112,null,222,{"$f":"COUNTIF($L$7:$L$500,N14)","v":29},{"$f":"O14/$Q$4","v":0.17058823529411765},{"$f":"IF(P14=0,0,(P14*((LOG(P14))/LOG(2))))","v":-0.43524051934878677},null,null,{"$f":"N14","v":222},{"$f":"COUNTIF(L7:L34,T14)","v":3},{"$f":"U14/(W4-U11)","v":0.10714285714285714},{"$f":"IF(V14=0,0,(V14*((LOG(V14))/LOG(2))))","v":-0.34525633085747659},null,{"$f":"N14","v":222},{"$f":"COUNTIF(L35:L63,Y14)","v":7},{"$f":"Z14/(AB4-Z11)","v":0.2413793103448276},{"$f":"IF(AA14=0,0,(AA14*((LOG(AA14))/LOG(2))))","v":-0.49497870729275095},null,{"$f":"N14","v":222},{"$f":"COUNTIF(L64:L91,AD14)","v":7},{"$f":"AE14/(AG4-AE11)","v":0.25925925925925924},{"$f":"IF(AF14=0,0,(AF14*((LOG(AF14))/LOG(2))))","v":-0.5049158541015204},null,{"$f":"N14","v":222},{"$f":"COUNTIF(L92:L119,AI14)","v":5},{"$f":"AJ14/(AL4-AJ11)","v":0.18518518518518517},{"$f":"IF(AK14=0,0,(AK14*((LOG(AK14))/LOG(2))))","v":-0.45054803838446406},null,{"$f":"N14","v":222},{"$f":"COUNTIF(L120:L148,AN14)","v":3},{"$f":"AO14/(AQ4-AO11)","v":0.10344827586206896},{"$f":"IF(AP14=0,0,(AP14*((LOG(AP14))/LOG(2))))","v":-0.33858812011100858},null,{"$f":"N14","v":222},{"$f":"COUNTIF(L149:L176,AS14)","v":4},{"$f":"AT14/(AV4-AT11)","v":0.14285714285714285},{"$f":"IF(AU14=0,0,(AU14*((LOG(AU14))/LOG(2))))","v":-0.40105070315108626}]
[12,1004,13,1010,24,1024,null,null,null,null,0,112,null,null,null,{"$f":"SUM(P7:P14)","v":1},{"$f":"-SUM(Q7:Q14)","v":2.1181409777422218},null,null,null,null,{"$f":"SUM(V7:V14)","v":0.99999999999999989},{"$f":"-SUM(W7:W14)","v":1.9582678680998418},null,null,null,{"$f":"SUM(AA7:AA14)","v":0.99999999999999989},{"$f":"-SUM(AB7:AB14)","v":2.1919509008568721},null,null,null,{"$f":"SUM(AF7:AF14)","v":1},{"$f":"-SUM(AG7:AG14)","v":1.7729583061486205},null,null,null,{"$f":"SUM(AK7:AK14)","v":0.99999999999999978},{"$f":"-SUM(AL7:AL14)","v":1.524543763316297},null,null,null,{"$f":"SUM(AP7:AP14)","v":1},{"$f":"-SUM(AQ7:AQ14)","v":1.8359962802832903},null,null,null,{"$f":"SUM(AU7:AU14)","v":0.99999999999999978},{"$f":"-SUM(AV7:AV14)","v":1.9926140680171258}]
[12,1127,13,1135,13,1144,null,null,null,null,0,111,null,null,null,"U=",{"$f":"Q15/(LOG(Q4)/LOG(2))","v":0.28587248209720545},null,null,null,null,"U1=",{"$f":"W15/(LOG(W4)/LOG(2))","v":0.4073483027256245},null,null,null,"U2=",{"$f":"AB15/(LOG(AB4)/LOG(2))","v":0.45120614985018292},null,null,null,"U3=",{"$f":"AG15/(LOG(AG4)/LOG(2))","v":0.36880120875073102},null,null,null,"U4=",{"$f":"AL15/(LOG(AL4)/LOG(2))","v":0.3171273575664712},null,null,null,"U5=",{"$f":"AQ15/(LOG(AQ4)/LOG(2))","v":0.37793401870545534},null,null,null,"U6=",{"$f":"AV15/(LOG(AV4)/LOG(2))","v":0.41449281368313529}]
[21,1247,22,1254,24,1261,null,null,null,null,0,222]
[12,1358,13,1364,13,1370,null,null,null,null,0,111]
[12,1470,24,1486,24,1493,null,null,null,null,0,122,null,"Total Target Seq"]
[12,1591,24,1606,24,1621,null,null,null,null,0,122,null,{"$f":"COUNTIF(L7:L176,G3)","v":2},null,28,29,28,28,29,28]
[12,1723,24,1734,24,1739,null,null,null,null,0,122,null,null,null,"% of reinforcement given in 6 equal intervals based on number of trials "]
[12,1839,24,1853,24,1859,null,null,null,null,0,122,null,null,null,"%_1","%_2","%_3","%_4","%_5","%_6"]
[12,1962,24,2004,24,2015,null,null,null,null,0,122,null,null,"target sequence",{"$f":"$G$3","v":211},{"$f":"$G$3","v":211},{"$f":"$G$3","v":211},{"$f":"$G$3","v":211},{"$f":"$G$3","v":211},{"$f":"$G$3","v":211}]
[12,2113,24,2125,24,2131,null,null,null,null,0,122,null,null,"total reinforcement",{"$f":"U11","v":0},{"$f":"Z11","v":0},{"$f":"AE11","v":1},{"$f":"AJ11","v":1},{"$f":"AO11","v":0},{"$f":"AT11","v":0}]
[12,2229,24,2262,24,2278,null,null,null,null,0,122,null,null,"% target"]
[12,2374,24,2386,24,2402,null,null,null,null,0,122,null,null,"CCRF"]
[12,2499,13,2506,24,2518,null,null,null,null,0,112,null,null,"% CCRf"]
[21,2628,22,2636,24,2646,null,null,null,null,0,222,null,null,"average response rate",{"$f":"F34/P20","v":119.64285714285714},{"$f":"(F63-F34)/Q20","v":158.20689655172413},{"$f":"(F91-F63)/R20","v":130.21428571428572},{"$f":"(F119-F91)/S20","v":133.75},{"$f":"(F148-F119)/T20","v":133.79310344827587},{"$f":"(F176-F148)/U20","v":165.78571428571428}]
[12,2750,24,2762,24,2767,null,null,null,null,0,122]
[12,2866,24,2878,24,2890,null,null,null,null,0,122]
[12,2988,24,2998,24,3003,null,null,null,null,0,122]
[12,3105,13,3107,24,3119,null,null,null,null,0,112]
[12,3219,13,3228,13,3236,null,null,null,null,0,111]
[12,3334,13,3342,13,3350,null,null,null,null,0,111]
[21,3464,22,3474,24,3484,null,null,null,null,0,222]
[21,3596,22,3606,24,3615,null,null,null,null,0,222]
[12,3717,13,3727,13,3735,null,null,null,null,0,111]
[12,3845,13,3857,24,3874,null,null,null,null,0,112]
[12,3972,13,3980,13,3987,null,null,null,null,0,111]
[12,4088,24,4098,24,4104,null,null,null,null,0,122]
[21,4217,22,4223,24,4230,null,null,null,null,0,222]
[12,4338,13,4348,13,4369,null,null,null,null,0,111]
[12,4474,13,4487,13,4520,null,null,null,null,0,111]
[12,4621,13,4652,13,4661,null,null,null,null,0,111]
[12,4772,24,4781,24,4789,null,null,null,null,0,122]
[12,4897,13,4904,13,4913,null,null,null,null,0,111]
[12,5041,24,5077,13,5099,null,null,null,null,0,121]
[12,5226,24,5248,24,5262,null,null,null,null,0,122]
[21,5417,22,5424,24,5431,null,null,null,null,0,222]
[12,5541,13,5560,24,5579,null,null,null,null,0,112]
[12,5701,13,5711,13,5717,null,null,null,null,0,111]
[21,5835,22,5839,24,5847,null,null,null,null,0,222]
[12,5976,13,5989,13,5997,null,null,null,null,0,111]
[21,6133,22,6142,24,6152,null,null,null,null,0,222]
[12,6695,13,6706,13,6716,null,null,null,null,0,111]
[21,6991,22,7003,13,7049,null,null,null,null,0,221]
[21,7161,22,7188,24,7199,null,null,null,null,0,222]
[12,7299,13,7307,13,7317,null,null,null,null,0,111]
[12,7429,24,7445,24,7453,null,null,null,null,0,122]
[12,7551,13,7561,24,7581,null,null,null,null,0,112]
[12,7688,24,7698,24,7704,null,null,null,null,0,122]
[12,7801,13,7810,24,7823,null,null,null,null,0,112]
[12,7922,13,7929,13,7938,null,null,null,null,0,111]
[12,8039,13,8049,24,8060,null,null,null,null,0,112]
[21,8168,22,8176,24,8185,null,null,null,null,0,222]
[12,8291,13,8300,24,8312,null,null,null,null,0,112]
[21,8419,22,8429,24,8437,null,null,null,null,0,222]
[12,8540,24,8550,24,8555,null,null,null,null,0,122]
[12,8657,24,8683,24,8692,null,null,null,null,0,122]
[12,8790,13,8798,13,8806,null,null,null,null,0,111]
[21,8918,22,8922,24,8927,null,null,null,null,0,222]
[12,9031,13,9041,24,9055,null,null,null,null,0,112]
[12,9163,24,9173,24,9179,null,null,null,null,0,122]
[12,9281,13,9289,13,9299,null,null,null,null,0,111]
[12,9398,13,9409,13,9417,null,null,null,null,0,111]
[12,9517,13,9526,13,9536,null,null,null,null,0,111]
[12,9640,24,9671,24,9686,null,null,null,null,0,122]
[12,9787,13,9800,13,9808,null,null,null,null,0,111]
[12,9910,13,9917,13,9926,null,null,null,null,0,111]
[12,10036,13,10045,13,10063,null,null,null,null,0,111]
[21,10185,22,10197,24,10208,null,null,null,null,0,222]
[21,10316,22,10330,24,10337,null,null,null,null,0,222]
[21,10453,22,10462,24,10470,null,null,null,null,0,222]
[12,10606,13,10623,13,10632,null,null,null,null,0,111]
[12,10744,13,10752,13,10760,null,null,null,null,0,111]
[12,10895,13,10903,13,10911,null,null,null,null,0,111]
[21,11072,11,11093,11,11102,null,null,null,null,0,211]
[12,11199,13,11213,13,11222,null,null,null,null,0,111]
[21,11333,22,11347,24,11354,null,null,null,null,0,222]
[12,11453,13,11462,13,11469,null,null,null,null,0,111]
[12,11568,13,11575,13,11584,null,null,null,null,0,111]
[12,11686,13,11693,13,11702,null,null,null,null,0,111]
[12,11800,13,11808,13,11825,null,null,null,null,0,111]
[12,11924,13,11932,13,11941,null,null,null,null,0,111]
[12,12042,13,12050,13,12060,null,null,null,null,0,111]
[12,12158,13,12165,13,12173,null,null,null,null,0,111]
[12,12270,13,12280,13,12288,null,null,null,null,0,111]
[12,12386,13,12400,13,12407,null,null,null,null,0,111]
[12,12503,13,12508,13,12525,null,null,null,null,0,111]
[12,12624,13,12647,13,12657,null,null,null,null,0,111]
[12,12761,13,12770,13,12780,null,null,null,null,0,111]
[21,12900,22,12918,24,12935,null,null,null,null,0,222]
[12,13036,13,13046,13,13053,null,null,null,null,0,111]
[12,13159,13,13172,13,13193,null,null,null,null,0,111]
[12,13325,13,13356,13,13368,null,null,null,null,0,111]
[12,13472,13,13481,13,13490,null,null,null,null,0,111]
[12,13591,13,13598,24,13611,null,null,null,null,0,112]
[21,13807,22,13820,24,13837,null,null,null,null,0,222]
[21,13980,22,13988,24,13994,null,null,null,null,0,222]
[12,14107,13,14116,24,14133,null,null,null,null,0,112]
[12,14243,13,14254,24,14267,null,null,null,null,0,112]
[12,14378,13,14387,13,14408,null,null,null,null,0,111]
[12,14518,13,14526,13,14535,null,null,null,null,0,111]
[12,14644,13,14655,24,14669,null,null,null,null,0,112]
[21,14771,22,14777,24,14787,null,null,null,null,0,222]
[21,14900,22,14911,24,14919,null,null,null,null,0,222]
[21,15035,11,15062,11,15071,null,null,null,null,0,211]
[12,15185,24,15197,24,15203,null,null,null,null,0,122]
[12,15304,13,15317,24,15329,null,null,null,null,0,112]
[12,15425,13,15434,13,15443,null,null,null,null,0,111]
[21,15556,22,15564,24,15572,null,null,null,null,0,222]
[12,15668,13,15678,24,15691,null,null,null,null,0,112]
[12,15790,13,15798,24,15812,null,null,null,null,0,112]
[12,15921,13,15930,13,15947,null,null,null,null,0,111]
[12,16106,13,16115,13,16124,null,null,null,null,0,111]
[12,16221,13,16231,24,16244,null,null,null,null,0,112]
[12,16345,24,16356,24,16372,null,null,null,null,0,122]
[12,16473,13,16481,24,16493,null,null,null,null,0,112]
[12,16598,13,16614,24,16627,null,null,null,null,0,112]
[21,16766,22,16772,24,16782,null,null,null,null,0,222]
[12,16883,13,16891,13,16899,null,null,null,null,0,111]
[12,17001,13,17009,24,17021,null,null,null,null,0,112]
[12,17119,13,17132,24,17144,null,null,null,null,0,112]
[12,17253,13,17260,24,17274,null,null,null,null,0,112]
[12,17382,24,17398,24,17404,null,null,null,null,0,122]
[12,17532,13,17549,13,17557,null,null,null,null,0,111]
[12,17670,24,17684,24,17692,null,null,null,null,0,122]
[12,17797,13,17806,13,17813,null,null,null,null,0,111]
[12,17917,13,17930,24,17942,null,null,null,null,0,112]
[12,18044,13,18052,13,18060,null,null,null,null,0,111]
[12,18170,13,18177,24,18191,null,null,null,null,0,112]
[12,18287,13,18295,13,18303,null,null,null,null,0,111]
[12,18438,24,18453,24,18460,null,null,null,null,0,122]
[21,18575,22,18582,24,18588,null,null,null,null,0,222]
[12,18696,13,18703,13,18711,null,null,null,null,0,111]
[12,18825,13,18833,13,18841,null,null,null,null,0,111]
[12,18975,13,18995,24,19010,null,null,null,null,0,112]
[12,19168,24,19201,24,19209,null,null,null,null,0,122]
[12,19316,13,19324,24,19335,null,null,null,null,0,112]
[21,19462,22,19471,24,19485,null,null,null,null,0,222]
[21,19623,22,19630,24,19639,null,null,null,null,0,222]
[21,19807,22,19814,24,19822,null,null,null,null,0,222]
[21,19943,22,19960,24,19973,null,null,null,null,0,222]
[12,20093,13,20104,24,20116,null,null,null,null,0,112]
[12,20246,24,20259,24,20266,null,null,null,null,0,122]
[12,20375,13,20384,24,20405,null,null,null,null,0,112]
[12,20533,13,20555,13,20596,null,null,null,null,0,111]
[12,20722,13,20735,13,20743,null,null,null,null,0,111]
[12,20888,13,20901,13,20913,null,null,null,null,0,111]
[12,21018,24,21032,13,21048,null,null,null,null,0,121]
[12,21169,13,21180,13,21189,null,null,null,null,0,111]
[12,21296,24,21308,13,21322,null,null,null,null,0,121]
[12,21470,13,21477,13,21504,null,null,null,null,0,111]
[12,21656,24,21678,13,21703,null,null,null,null,0,121]
[12,21901,13,21913,13,21926,null,null,null,null,0,111]
[12,22059,13,22092,24,22131,null,null,null,null,0,112]
[12,22276,13,22284,13,22376,null,null,null,null,0,111]
[12,22573,13,22582,13,22619,null,null,null,null,0,111]
[12,22730,24,22744,24,22749,null,null,null,null,0,122]
[12,22849,13,22857,13,22890,null,null,null,null,0,111]
[12,23014,13,23040,13,23049,null,null,null,null,0,111]
[12,23165,13,23190,13,23198,null,null,null,null,0,111]
[12,23358,13,23377,13,23388,null,null,null,null,0,111]
[12,23487,13,23502,13,23509,null,null,null,null,0,111]
[12,23683,13,23699,13,23708,null,null,null,null,0,111]
[12,23825,24,23843,24,23851,null,null,null,null,0,122]

{"sheet":"!M506840.185","index":7,"n_rows":166,"n_cols":48,"rows_kept":166,"cut":false,"hidden":false,"merged":[[4,39,4,42],[5,39,5,40],[4,44,4,47],[5,44,5,45],[4,24,4,27],[5,24,5,25],[4,29,4,32],[5,29,5,30],[4,34,4,37],[5,34,5,35],[1,1,1,2],[5,13,5,14],[18,13,18,14],[19,13,19,14],[4,19,4,22],[5,19,5,20]]}
["Report for:!M506840.185"]
["Date:","<date>"]
["Hen:","<hen>",null,null,null,"Correct Sequence",{"$f":"Start!J2","v":211},null,null,null,null,null,null,null,null,"Total Sequences in Data",{"$f":"4994-COUNTBLANK(L7:L5000)","v":160},null,null,null,null,"Total Sequences in Block Data",{"$f":"COUNTA(L7:L33)","v":27},null,null,null,"Total Sequences in Block Data",{"$f":"COUNTA(L34:L59)","v":26},null,null,null,"Total Sequences in Block Data",{"$f":"COUNTA(L60:L86)","v":27},null,null,null,"Total Sequences in Block Data",{"$f":"COUNTA(L87:L113)","v":27},null,null,null,"Total Sequences in Block Data",{"$f":"COUNTA(L114:L139)","v":26},null,null,null,"Total Sequences in Block Data",{"$f":"COUNTA(L140:L166)","v":27}]
[null,null,null,null,null,null,null,null,null,null,null,null,null,null,null,"Total Sequences in Summary",{"$f":"SUM(O7:O14)","v":160},null,null,null,null,"Total Sequences in Block Summary",{"$f":"SUM(U7:U14)","v":27},null,null,null,"Total Sequences in Block Summary",{"$f":"SUM(Z7:Z14)","v":26},null,null,null,"Total Sequences in Block Summary",{"$f":"SUM(AE7:AE14)","v":27},null,null,null,"Total Sequences in Block Summary",{"$f":"SUM(AJ7:AJ14)","v":27},null,null,null,"Total Sequences in Block Summary",{"$f":"SUM(AO7:AO14)","v":26},null,null,null,"Total Sequences in Block Summary",{"$f":"SUM(AT7:AT14)","v":27}]
[null,null,null,null,null,null,null,null,null,null,null,null,null,null,null,null,null,null,null,"Block 1",null,null,null,null,"Block 2",null,null,null,null,"Block 3",null,null,null,null,"Block 4",null,null,null,null,"Block 5",null,null,null,null,"Block 6"]
["Sequence\nComponent\n1","Time\n1","Sequence\nComponent\n2","Time\n2","Sequence\nComponent\n3","Time\n3","Sequence\nComponent\n4","Time\n4","Sequence\nComponent\n5","Time\n5","Correct?\n0=No 1=Yes","Sequence",null,"Frequency",null,"Relative Frequency","Variability",null,null,"Frequency",null,"Relative Frequency","Variability",null,"Frequency",null,"Relative Frequency","Variability",null,"Frequency",null,"Relative Frequency","Variability",null,"Frequency",null,"Relative Frequency","Variability",null,"Frequency",null,"Relative Frequency","Variability",null,"Frequency",null,"Relative Frequency","Variability"]
[12,36,13,48,13,58,null,null,null,null,0,111,null,111,{"$f":"COUNTIF($L$7:$L$500,N7)","v":101},{"$f":"O7/$Q$4","v":0.63124999999999998},{"$f":"IF(P7=0,0,(P7*((LOG(P7))/LOG(2))))","v":-0.41897111141057708},null,null,{"$f":"N7","v":111},{"$f":"COUNTIF(L7:L33,T7)","v":23},{"$f":"U7/(W4-U11)","v":0.88461538461538458},{"$f":"IF(V7=0,0,(V7*((LOG(V7))/LOG(2))))","v":-0.15646878953591634},null,{"$f":"N7","v":111},{"$f":"COUNTIF(L34:L59,Y7)","v":21},{"$f":"Z7/(AB4-Z11)","v":0.80769230769230771},{"$f":"IF(AA7=0,0,(AA7*((LOG(AA7))/LOG(2))))","v":-0.24886800779265264},null,{"$f":"N7","v":111},{"$f":"COUNTIF(L60:L86,AD7)","v":17},{"$f":"AE7/(AG4-AE11)","v":0.65384615384615385},{"$f":"IF(AF7=0,0,(AF7*((LOG(AF7))/LOG(2))))","v":-0.40079257335164603},null,{"$f":"N7","v":111},{"$f":"COUNTIF(L87:L113,AI7)","v":12},{"$f":"AJ7/(AL4-AJ11)","v":0.46153846153846156},{"$f":"IF(AK7=0,0,(AK7*((LOG(AK7))/LOG(2))))","v":-0.51483563880920125},null,{"$f":"N7","v":111},{"$f":"COUNTIF(L114:L139,AN7)","v":16},{"$f":"AO7/(AQ4-AO11)","v":0.69565217391304346},{"$f":"IF(AP7=0,0,(AP7*((LOG(AP7))/LOG(2))))","v":-0.36421701290922631},null,{"$f":"N7","v":111},{"$f":"COUNTIF(L140:L166,AS7)","v":12},{"$f":"AT7/(AV4-AT11)","v":0.52173913043478259},{"$f":"IF(AU7=0,0,(AU7*((LOG(AU7))/LOG(2))))","v":-0.48970406365349045}]
[12,161,13,169,13,215,null,null,null,null,0,111,null,112,{"$f":"COUNTIF($L$7:$L$500,N8)","v":11},{"$f":"O8/$Q$4","v":6.8750000000000006E-2},{"$f":"IF(P8=0,0,(P8*((LOG(P8))/LOG(2))))","v":-0.26554663274219198},null,null,{"$f":"N8","v":112},{"$f":"COUNTIF(L7:L33,T8)","v":1},{"$f":"U8/(W4-U11)","v":3.8461538461538464E-2},{"$f":"IF(V8=0,0,(V8*((LOG(V8))/LOG(2))))","v":-0.18078614300542661},null,{"$f":"N8","v":112},{"$f":"COUNTIF(L34:L59,Y8)","v":0},{"$f":"Z8/(AB4-Z11)","v":0},{"$f":"IF(AA8=0,0,(AA8*((LOG(AA8))/LOG(2))))","v":0},null,{"$f":"N8","v":112},{"$f":"COUNTIF(L60:L86,AD8)","v":3},{"$f":"AE8/(AG4-AE11)","v":0.11538461538461539},{"$f":"IF(AF8=0,0,(AF8*((LOG(AF8))/LOG(2))))","v":-0.35947814047153104},null,{"$f":"N8","v":112},{"$f":"COUNTIF(L87:L113,AI8)","v":2},{"$f":"AJ8/(AL4-AJ11)","v":7.6923076923076927E-2},{"$f":"IF(AK8=0,0,(AK8*((LOG(AK8))/LOG(2))))","v":-0.28464920908777636},null,{"$f":"N8","v":112},{"$f":"COUNTIF(L114:L139,AN8)","v":1},{"$f":"AO8/(AQ4-AO11)","v":4.3478260869565216E-2},{"$f":"IF(AP8=0,0,(AP8*((LOG(AP8))/LOG(2))))","v":-0.19667660678508753},null,{"$f":"N8","v":112},{"$f":"COUNTIF(L140:L166,AS8)","v":4},{"$f":"AT8/(AV4-AT11)","v":0.17391304347826086},{"$f":"IF(AU8=0,0,(AU8*((LOG(AU8))/LOG(2))))","v":-0.43888034018382832}]
[12,326,13,381,13,398,null,null,null,null,0,111,null,121,{"$f":"COUNTIF($L$7:$L$500,N9)","v":12},{"$f":"O9/$Q$4","v":7.4999999999999997E-2},{"$f":"IF(P9=0,0,(P9*((LOG(P9))/LOG(2))))","v":-0.28027241956246546},null,null,{"$f":"N9","v":121},{"$f":"COUNTIF(L7:L33,T9)","v":0},{"$f":"U9/(W4-U11)","v":0},{"$f":"IF(V9=0,0,(V9*((LOG(V9))/LOG(2))))","v":0},null,{"$f":"N9","v":121},{"$f":"COUNTIF(L34:L59,Y9)","v":0},{"$f":"Z9/(AB4-Z11)","v":0},{"$f":"IF(AA9=0,0,(AA9*((LOG(AA9))/LOG(2))))","v":0},null,{"$f":"N9","v":121},{"$f":"COUNTIF(L60:L86,AD9)","v":0},{"$f":"AE9/(AG4-AE11)","v":0},{"$f":"IF(AF9=0,0,(AF9*((LOG(AF9))/LOG(2))))","v":0},null,{"$f":"N9","v":121},{"$f":"COUNTIF(L87:L113,AI9)","v":3},{"$f":"AJ9/(AL4-AJ11)","v":0.11538461538461539},{"$f":"IF(AK9=0,0,(AK9*((LOG(AK9))/LOG(2))))","v":-0.35947814047153104},null,{"$f":"N9","v":121},{"$f":"COUNTIF(L114:L139,AN9)","v":4},{"$f":"AO9/(AQ4-AO11)","v":0.17391304347826086},{"$f":"IF(AP9=0,0,(AP9*((LOG(AP9))/LOG(2))))","v":-0.43888034018382832},null,{"$f":"N9","v":121},{"$f":"COUNTIF(L140:L166,AS9)","v":5},{"$f":"AT9/(AV4-AT11)","v":0.21739130434782608},{"$f":"IF(AU9=0,0,(AU9*((LOG(AU9))/LOG(2))))","v":-0.47861605677601093}]
[12,556,13,565,13,582,null,null,null,null,0,111,null,122,{"$f":"COUNTIF($L$7:$L$500,N10)","v":11},{"$f":"O10/$Q$4","v":6.8750000000000006E-2},{"$f":"IF(P10=0,0,(P10*((LOG(P10))/LOG(2))))","v":-0.26554663274219198},null,null,{"$f":"N10","v":122},{"$f":"COUNTIF(L7:L33,T10)","v":1},{"$f":"U10/(W4-U11)","v":3.8461538461538464E-2},{"$f":"IF(V10=0,0,(V10*((LOG(V10))/LOG(2))))","v":-0.18078614300542661},null,{"$f":"N10","v":122},{"$f":"COUNTIF(L34:L59,Y10)","v":0},{"$f":"Z10/(AB4-Z11)","v":0},{"$f":"IF(AA10=0,0,(AA10*((LOG(AA10))/LOG(2))))","v":0},null,{"$f":"N10","v":122},{"$f":"COUNTIF(L60:L86,AD10)","v":2},{"$f":"AE10/(AG4-AE11)","v":7.6923076923076927E-2},{"$f":"IF(AF10=0,0,(AF10*((LOG(AF10))/LOG(2))))","v":-0.28464920908777636},null,{"$f":"N10","v":122},{"$f":"COUNTIF(L87:L113,AI10)","v":6},{"$f":"AJ10/(AL4-AJ11)","v":0.23076923076923078},{"$f":"IF(AK10=0,0,(AK10*((LOG(AK10))/LOG(2))))","v":-0.48818705017383146},null,{"$f":"N10","v":122},{"$f":"COUNTIF(L114:L139,AN10)","v":1},{"$f":"AO10/(AQ4-AO11)","v":4.3478260869565216E-2},{"$f":"IF(AP10=0,0,(AP10*((LOG(AP10))/LOG(2))))","v":-0.19667660678508753},null,{"$f":"N10","v":122},{"$f":"COUNTIF(L140:L166,AS10)","v":1},{"$f":"AT10/(AV4-AT11)","v":4.3478260869565216E-2},{"$f":"IF(AU10=0,0,(AU10*((LOG(AU10))/LOG(2))))","v":-0.19667660678508753}]
[12,804,13,835,13,845,null,null,null,null,0,111,null,211,{"$f":"COUNTIF($L$7:$L$500,N11)","v":10},{"$f":"O11/$Q$4","v":6.25E-2},{"$f":"IF(P11=0,0,(P11*((LOG(P11))/LOG(2))))","v":-0.25},null,null,{"$f":"N11","v":211},{"$f":"COUNTIF(L7:L33,T11)","v":1},null,null,null,{"$f":"N11","v":211},{"$f":"COUNTIF(L34:L59,Y11)","v":0},null,null,null,{"$f":"N11","v":211},{"$f":"COUNTIF(L60:L86,AD11)","v":1},null,null,null,{"$f":"N11","v":211},{"$f":"COUNTIF(L87:L113,AI11)","v":1},null,null,null,{"$f":"N11","v":211},{"$f":"COUNTIF(L114:L139,AN11)","v":3},null,null,null,{"$f":"N11","v":211},{"$f":"COUNTIF(L140:L166,AS11)","v":4}]
[12,1068,13,1083,13,1102,null,null,null,null,0,111,null,212,{"$f":"COUNTIF($L$7:$L$500,N12)","v":1},{"$f":"O12/$Q$4","v":6.2500000000000003E-3},{"$f":"IF(P12=0,0,(P12*((LOG(P12))/LOG(2))))","v":-4.5762050593046014E-2},null,null,{"$f":"N12","v":212},{"$f":"COUNTIF(L7:L33,T12)","v":0},{"$f":"U12/(W4-U11)","v":0},{"$f":"IF(V12=0,0,(V12*((LOG(V12))/LOG(2))))","v":0},null,{"$f":"N12","v":212},{"$f":"COUNTIF(L34:L59,Y12)","v":0},{"$f":"Z12/(AB4-Z11)","v":0},{"$f":"IF(AA12=0,0,(AA12*((LOG(AA12))/LOG(2))))","v":0},null,{"$f":"N12","v":212},{"$f":"COUNTIF(L60:L86,AD12)","v":1},{"$f":"AE12/(AG4-AE11)","v":3.8461538461538464E-2},{"$f":"IF(AF12=0,0,(AF12*((LOG(AF12))/LOG(2))))","v":-0.18078614300542661},null,{"$f":"N12","v":212},{"$f":"COUNTIF(L87:L113,AI12)","v":0},{"$f":"AJ12/(AL4-AJ11)","v":0},{"$f":"IF(AK12=0,0,(AK12*((LOG(AK12))/LOG(2))))","v":0},null,{"$f":"N12","v":212},{"$f":"COUNTIF(L114:L139,AN12)","v":0},{"$f":"AO12/(AQ4-AO11)","v":0},{"$f":"IF(AP12=0,0,(AP12*((LOG(AP12))/LOG(2))))","v":0},null,{"$f":"N12","v":212},{"$f":"COUNTIF(L140:L166,AS12)","v":0},{"$f":"AT12/(AV4-AT11)","v":0},{"$f":"IF(AU12=0,0,(AU12*((LOG(AU12))/LOG(2))))","v":0}]
[12,1255,13,1324,13,1332,null,null,null,null,0,111,null,221,{"$f":"COUNTIF($L$7:$L$500,N13)","v":1},{"$f":"O13/$Q$4","v":6.2500000000000003E-3},{"$f":"IF(P13=0,0,(P13*((LOG(P13))/LOG(2))))","v":-4.5762050593046014E-2},null,null,{"$f":"N13","v":221},{"$f":"COUNTIF(L7:L33,T13)","v":0},{"$f":"U13/(W4-U11)","v":0},{"$f":"IF(V13=0,0,(V13*((LOG(V13))/LOG(2))))","v":0},null,{"$f":"N13","v":221},{"$f":"COUNTIF(L34:L59,Y13)","v":0},{"$f":"Z13/(AB4-Z11)","v":0},{"$f":"IF(AA13=0,0,(AA13*((LOG(AA13))/LOG(2))))","v":0},null,{"$f":"N13","v":221},{"$f":"COUNTIF(L60:L86,AD13)","v":0},{"$f":"AE13/(AG4-AE11)","v":0},{"$f":"IF(AF13=0,0,(AF13*((LOG(AF13))/LOG(2))))","v":0},null,{"$f":"N13","v":221},{"$f":"COUNTIF(L87:L113,AI13)","v":1},{"$f":"AJ13/(AL4-AJ11)","v":3.8461538461538464E-2},{"$f":"IF(AK13=0,0,(AK13*((LOG(AK13))/LOG(2))))","v":-0.18078614300542661},null,{"$f":"N13","v":221},{"$f":"COUNTIF(L114:L139,AN13)","v":0},{"$f":"AO13/(AQ4-AO11)","v":0},{"$f":"IF(AP13=0,0,(AP13*((LOG(AP13))/LOG(2))))","v":0},null,{"$f":"N13","v":221},{"$f":"COUNTIF(L140:L166,AS13)","v":0},{"$f":"AT13/(AV4-AT11)","v":0},{"$f":"IF(AU13=0,0,(AU13*((LOG(AU13))/LOG(2))))","v":0}]
[12,1447,13,1494,13,1508,null,null,null,null,0,111,null,222,{"$f":"COUNTIF($L$7:$L$500,N14)","v":13},{"$f":"O14/$Q$4","v":8.1250000000000003E-2},{"$f":"IF(P14=0,0,(P14*((LOG(P14))/LOG(2))))","v":-0.29424593061063448},null,null,{"$f":"N14","v":222},{"$f":"COUNTIF(L7:L33,T14)","v":1},{"$f":"U14/(W4-U11)","v":3.8461538461538464E-2},{"$f":"IF(V14=0,0,(V14*((LOG(V14))/LOG(2))))","v":-0.18078614300542661},null,{"$f":"N14","v":222},{"$f":"COUNTIF(L34:L59,Y14)","v":5},{"$f":"Z14/(AB4-Z11)","v":0.19230769230769232},{"$f":"IF(AA14=0,0,(AA14*((LOG(AA14))/LOG(2))))","v":-0.45740608139494804},null,{"$f":"N14","v":222},{"$f":"COUNTIF(L60:L86,AD14)","v":3},{"$f":"AE14/(AG4-AE11)","v":0.11538461538461539},{"$f":"IF(AF14=0,0,(AF14*((LOG(AF14))/LOG(2))))","v":-0.35947814047153104},null,{"$f":"N14","v":222},{"$f":"COUNTIF(L87:L113,AI14)","v":2},{"$f":"AJ14/(AL4-AJ11)","v":7.6923076923076927E-2},{"$f":"IF(AK14=0,0,(AK14*((LOG(AK14))/LOG(2))))","v":-0.28464920908777636},null,{"$f":"N14","v":222},{"$f":"COUNTIF(L114:L139,AN14)","v":1},{"$f":"AO14/(AQ4-AO11)","v":4.3478260869565216E-2},{"$f":"IF(AP14=0,0,(AP14*((LOG(AP14))/LOG(2))))","v":-0.19667660678508753},null,{"$f":"N14","v":222},{"$f":"COUNTIF(L140:L166,AS14)","v":1},{"$f":"AT14/(AV4-AT11)","v":4.3478260869565216E-2},{"$f":"IF(AU14=0,0,(AU14*((LOG(AU14))/LOG(2))))","v":-0.19667660678508753}]
[12,1618,13,1640,13,1686,null,null,null,null,0,111,null,null,null,{"$f":"SUM(P7:P14)","v":0.99999999999999989},{"$f":"-SUM(Q7:Q14)","v":1.8661068282541531},null,null,null,null,{"$f":"SUM(V7:V14)","v":0.99999999999999989},{"$f":"-SUM(W7:W14)","v":0.69882721855219621},null,null,null,{"$f":"SUM(AA7:AA14)","v":1},{"$f":"-SUM(AB7:AB14)","v":0.70627408918760071},null,null,null,{"$f":"SUM(AF7:AF14)","v":1},{"$f":"-SUM(AG7:AG14)","v":1.5851842063879111},null,null,null,{"$f":"SUM(AK7:AK14)","v":1.0000000000000002},{"$f":"-SUM(AL7:AL14)","v":2.1125853906355432},null,null,null,{"$f":"SUM(AP7:AP14)","v":0.99999999999999989},{"$f":"-SUM(AQ7:AQ14)","v":1.3931271734483173},null,null,null,{"$f":"SUM(AU7:AU14)","v":0.99999999999999989},{"$f":"-SUM(AV7:AV14)","v":1.8005536741835049}]
[12,1882,13,1891,13,1900,null,null,null,null,0,111,null,null,null,"U=",{"$f":"Q15/(LOG(Q4)/LOG(2))","v":0.25486549499949174},null,null,null,null,"U1=",{"$f":"W15/(LOG(W4)/LOG(2))","v":0.14697029493005473},null,null,null,"U2=",{"$f":"AB15/(LOG(AB4)/LOG(2))","v":0.1502570252016581},null,null,null,"U3=",{"$f":"AG15/(LOG(AG4)/LOG(2))","v":0.33337996023389704},null,null,null,"U4=",{"$f":"AL15/(LOG(AL4)/LOG(2))","v":0.44429765997078152},null,null,null,"U5=",{"$f":"AQ15/(LOG(AQ4)/LOG(2))","v":0.29638230824908118},null,null,null,"U6=",{"$f":"AV15/(LOG(AV4)/LOG(2))","v":0.37867429531492702}]
[21,2151,11,2193,11,2203,null,null,null,null,0,211]
[12,2317,13,2327,13,2334,null,null,null,null,0,111]
[12,2433,24,2463,24,2472,null,null,null,null,0,122,null,"Total Target Seq"]
[21,2579,22,2613,24,2626,null,null,null,null,0,222,null,{"$f":"COUNTIF(L7:L166,G3)","v":10},null,27,26,27,27,26,27]
[12,2727,13,2737,24,2769,null,null,null,null,0,112,null,null,null,"% of reinforcement given in 6 equal intervals based on number of trials "]
[12,2883,13,2894,13,2908,null,null,null,null,0,111,null,null,null,"%_1","%_2","%_3","%_4","%_5","%_6"]
[12,3013,13,3031,13,3042,null,null,null,null,0,111,null,null,"target sequence",{"$f":"$G$3","v":211},{"$f":"$G$3","v":211},{"$f":"$G$3","v":211},{"$f":"$G$3","v":211},{"$f":"$G$3","v":211},{"$f":"$G$3","v":211}]
[12,3140,13,3147,13,3155,null,null,null,null,0,111,null,null,"total reinforcement",{"$f":"U11","v":1},{"$f":"Z11","v":0},{"$f":"AE11","v":1},{"$f":"AJ11","v":1},{"$f":"AO11","v":3},{"$f":"AT11","v":4}]
[12,3259,13,3268,13,3278,null,null,null,null,0,111,null,null,"% target"]
[12,3410,13,3435,13,3443,null,null,null,null,0,111,null,null,"CCRF"]
[12,3548,13,3582,13,3591,null,null,null,null,0,111,null,null,"% CCRf"]
[12,3691,13,3700,13,3709,null,null,null,null,0,111,null,null,"average response rate",{"$f":"F33/P20","v":163.37037037037038},{"$f":"(F59-F33)/Q20","v":156.73076923076923},{"$f":"(F86-F59)/R20","v":162.55555555555554},{"$f":"(F113-F86)/S20","v":138.59259259259258},{"$f":"(F139-F113)/T20","v":143.19230769230768},{"$f":"(F166-F139)/U20","v":134.7037037037037}]
[12,3831,13,3839,13,3849,null,null,null,null,0,111]
[12,3971,13,3984,13,4003,null,null,null,null,0,111]
[12,4132,13,4142,13,4153,null,null,null,null,0,111]
[12,4253,13,4262,13,4270,null,null,null,null,0,111]
[12,4396,13,4404,13,4411,null,null,null,null,0,111]
[12,4510,13,4517,13,4525,null,null,null,null,0,111]
[12,4635,13,4667,13,4677,null,null,null,null,0,111]
[12,4782,13,4792,13,4800,null,null,null,null,0,111]
[12,4925,13,4939,13,4952,null,null,null,null,0,111]
[12,5049,13,5057,13,5066,null,null,null,null,0,111]
[12,5184,13,5193,13,5205,null,null,null,null,0,111]
[12,5311,13,5320,13,5327,null,null,null,null,0,111]
[12,5517,13,5543,13,5552,null,null,null,null,0,111]
[12,5650,13,5658,13,5680,null,null,null,null,0,111]
[12,5778,13,5787,13,5798,null,null,null,null,0,111]
[12,5921,13,5930,13,5982,null,null,null,null,0,111]
[21,6103,22,6170,24,6188,null,null,null,null,0,222]
[12,6396,13,6412,13,6420,null,null,null,null,0,111]
[21,6563,22,6575,24,6594,null,null,null,null,0,222]
[21,6729,22,6737,24,6745,null,null,null,null,0,222]
[12,6884,13,6893,13,6904,null,null,null,null,0,111]
[12,7023,13,7041,13,7048,null,null,null,null,0,111]
[21,7157,22,7166,24,7186,null,null,null,null,0,222]
[12,7285,13,7315,13,7327,null,null,null,null,0,111]
[12,7465,13,7472,13,7480,null,null,null,null,0,111]
[12,7594,13,7601,13,7640,null,null,null,null,0,111]
[12,7799,13,7807,13,7817,null,null,null,null,0,111]
[12,7947,13,7955,13,7963,null,null,null,null,0,111]
[21,8123,22,8135,24,8145,null,null,null,null,0,222]
[12,8295,13,8305,13,8316,null,null,null,null,0,111]
[12,8458,13,8476,13,8486,null,null,null,null,0,111]
[12,8660,13,8668,13,8677,null,null,null,null,0,111]
[12,8858,13,8867,13,8877,null,null,null,null,0,111]
[21,9032,11,9064,22,9092,null,null,null,null,0,212]
[12,9199,13,9216,13,9251,null,null,null,null,0,111]
[12,9351,13,9359,24,9373,null,null,null,null,0,112]
[12,9511,13,9518,13,9528,null,null,null,null,0,111]
[12,9632,13,9640,13,9663,null,null,null,null,0,111]
[21,9781,22,9839,24,9858,null,null,null,null,0,222]
[12,9980,13,9990,13,10027,null,null,null,null,0,111]
[12,10122,24,10142,24,10149,null,null,null,null,0,122]
[12,10300,13,10314,13,10327,null,null,null,null,0,111]
[12,10442,13,10452,13,10460,null,null,null,null,0,111]
[12,10574,13,10612,13,10621,null,null,null,null,0,111]
[21,10741,22,10765,24,10772,null,null,null,null,0,222]
[12,10910,13,10922,13,10941,null,null,null,null,0,111]
[12,11047,13,11055,13,11073,null,null,null,null,0,111]
[12,11233,13,11245,24,11259,null,null,null,null,0,112]
[12,11410,13,11419,13,11433,null,null,null,null,0,111]
[12,11557,13,11566,13,11575,null,null,null,null,0,111]
[12,11700,13,11709,24,11729,null,null,null,null,0,112]
[12,11854,24,11872,24,11879,null,null,null,null,0,122]
[12,12132,13,12145,13,12168,null,null,null,null,0,111]
[21,12298,11,12317,11,12335,null,null,null,null,0,211]
[21,12461,22,12486,24,12493,null,null,null,null,0,222]
[12,12606,13,12615,13,12624,null,null,null,null,0,111]
[12,12741,13,12750,13,12759,null,null,null,null,0,111]
[12,12857,13,12865,13,12875,null,null,null,null,0,111]
[12,12977,13,12985,24,13005,null,null,null,null,0,112]
[12,13109,24,13123,24,13135,null,null,null,null,0,122]
[21,13248,22,13258,24,13265,null,null,null,null,0,222]
[21,13368,22,13373,24,13381,null,null,null,null,0,222]
[12,13499,13,13509,13,13528,null,null,null,null,0,111]
[21,13642,22,13659,13,13690,null,null,null,null,0,221]
[12,13810,24,13827,24,13838,null,null,null,null,0,122]
[12,13944,13,13955,24,13973,null,null,null,null,0,112]
[12,14072,24,14085,24,14090,null,null,null,null,0,122]
[12,14193,24,14205,24,14213,null,null,null,null,0,122]
[12,14313,13,14322,13,14339,null,null,null,null,0,111]
[12,14438,24,14457,24,14519,null,null,null,null,0,122]
[12,14620,13,14629,13,14643,null,null,null,null,0,111]
[12,14746,24,14762,13,14795,null,null,null,null,0,121]
[12,14894,13,14921,13,14930,null,null,null,null,0,111]
[12,15095,13,15108,13,15117,null,null,null,null,0,111]
[12,15224,13,15233,13,15242,null,null,null,null,0,111]
[12,15349,13,15393,13,15414,null,null,null,null,0,111]
[21,15529,11,15573,11,15582,null,null,null,null,0,211]
[12,15678,24,15696,13,15718,null,null,null,null,0,121]
[12,15820,13,15822,13,15836,null,null,null,null,0,111]
[12,15938,13,15949,13,15957,null,null,null,null,0,111]
[12,16072,13,16091,13,16099,null,null,null,null,0,111]
[12,16201,13,16209,13,16218,null,null,null,null,0,111]
[12,16327,13,16335,13,16341,null,null,null,null,0,111]
[12,16440,24,16461,13,16483,null,null,null,null,0,121]
[12,16590,24,16607,24,16617,null,null,null,null,0,122]
[12,16748,13,16756,13,16765,null,null,null,null,0,111]
[12,16870,13,16890,24,16908,null,null,null,null,0,112]
[12,17014,13,17053,13,17062,null,null,null,null,0,111]
[12,17172,24,17185,24,17191,null,null,null,null,0,122]
[12,17477,13,17489,13,17501,null,null,null,null,0,111]
[12,17616,13,17625,13,17644,null,null,null,null,0,111]
[21,17772,11,17791,11,17800,null,null,null,null,0,211]
[12,17924,13,17934,13,17946,null,null,null,null,0,111]
[12,18059,13,18067,13,18081,null,null,null,null,0,111]
[12,18187,24,18200,13,18228,null,null,null,null,0,121]
[12,18331,13,18357,13,18365,null,null,null,null,0,111]
[21,18464,22,18476,24,18481,null,null,null,null,0,222]
[21,18579,11,18598,11,18611,null,null,null,null,0,211]
[12,18715,24,18729,13,18746,null,null,null,null,0,121]
[12,18845,13,18855,13,18864,null,null,null,null,0,111]
[12,18964,13,18973,13,18985,null,null,null,null,0,111]
[12,19083,13,19090,13,19100,null,null,null,null,0,111]
[12,19197,13,19209,13,19211,null,null,null,null,0,111]
[12,19311,13,19318,13,19327,null,null,null,null,0,111]
[12,19445,13,19474,13,19487,null,null,null,null,0,111]
[12,19594,13,19620,13,19637,null,null,null,null,0,111]
[12,19736,13,19745,13,19783,null,null,null,null,0,111]
[21,19886,11,19913,11,19936,null,null,null,null,0,211]
[12,20037,13,20047,13,20055,null,null,null,null,0,111]
[12,20155,24,20186,13,20206,null,null,null,null,0,121]
[12,20308,24,20321,13,20340,null,null,null,null,0,121]
[12,20443,13,20457,13,20465,null,null,null,null,0,111]
[12,20570,13,20588,24,20602,null,null,null,null,0,112]
[12,20712,13,20720,24,20734,null,null,null,null,0,112]
[21,20831,22,20845,24,20852,null,null,null,null,0,222]
[12,20953,13,20960,13,20981,null,null,null,null,0,111]
[12,21084,13,21095,24,21111,null,null,null,null,0,112]
[12,21231,24,21245,24,21252,null,null,null,null,0,122]
[21,21370,11,21390,11,21400,null,null,null,null,0,211]
[21,21516,11,21551,11,21570,null,null,null,null,0,211]
[12,21674,13,21688,13,21697,null,null,null,null,0,111]
[12,21803,13,21828,13,21837,null,null,null,null,0,111]
[12,21935,13,21944,13,21957,null,null,null,null,0,111]
[12,22064,13,22072,13,22081,null,null,null,null,0,111]
[12,22190,13,22200,24,22212,null,null,null,null,0,112]
[12,22319,24,22329,13,22347,null,null,null,null,0,121]
[21,22454,11,22476,11,22484,null,null,null,null,0,211]
[12,22596,24,22606,13,22626,null,null,null,null,0,121]
[21,22737,11,22753,11,22781,null,null,null,null,0,211]
[12,22888,24,22903,13,22923,null,null,null,null,0,121]
[12,23035,13,23044,13,23056,null,null,null,null,0,111]
[12,23158,13,23166,13,23175,null,null,null,null,0,111]
[12,23272,13,23285,13,23294,null,null,null,null,0,111]
[12,23411,13,23420,13,23430,null,null,null,null,0,111]
[12,23530,24,23541,13,23559,null,null,null,null,0,121]
[12,23672,24,23685,13,23707,null,null,null,null,0,121]
[12,23808,13,23817,13,23826,null,null,null,null,0,111]
[12,23943,13,23969,13,23977,null,null,null,null,null,111]

{"sheet":"!M507A00.185","index":8,"n_rows":106,"n_cols":48,"rows_kept":106,"cut":false,"hidden":false,"merged":[[4,39,4,42],[5,39,5,40],[4,44,4,47],[5,44,5,45],[4,24,4,27],[5,24,5,25],[4,29,4,32],[5,29,5,30],[4,34,4,37],[5,34,5,35],[1,1,1,2],[5,13,5,14],[18,13,18,14],[19,13,19,14],[4,19,4,22],[5,19,5,20]]}
["Report for:!M507A00.185"]
["Date:","<date>"]
["Hen:","<hen>",null,null,null,"Correct Sequence",{"$f":"Start!J2","v":211},null,null,null,null,null,null,null,null,"Total Sequences in Data",{"$f":"4994-COUNTBLANK(L7:L5000)","v":100},null,null,null,null,"Total Sequences in Block Data",{"$f":"COUNTA(L7:L23)","v":17},null,null,null,"Total Sequences in Block Data",{"$f":"COUNTA(L24:L39)","v":16},null,null,null,"Total Sequences in Block Data",{"$f":"COUNTA(L40:L56)","v":17},null,null,null,"Total Sequences in Block Data",{"$f":"COUNTA(L57:L73)","v":17},null,null,null,"Total Sequences in Block Data",{"$f":"COUNTA(L74:L89)","v":16},null,null,null,"Total Sequences in Block Data",{"$f":"COUNTA(L90:L106)","v":17}]
[null,null,null,null,null,null,null,null,null,null,null,null,null,null,null,"Total Sequences in Summary",{"$f":"SUM(O7:O14)","v":100},null,null,null,null,"Total Sequences in Block Summary",{"$f":"SUM(U7:U14)","v":17},null,null,null,"Total Sequences in Block Summary",{"$f":"SUM(Z7:Z14)","v":16},null,null,null,"Total Sequences in Block Summary",{"$f":"SUM(AE7:AE14)","v":17},null,null,null,"Total Sequences in Block Summary",{"$f":"SUM(AJ7:AJ14)","v":17},null,null,null,"Total Sequences in Block Summary",{"$f":"SUM(AO7:AO14)","v":16},null,null,null,"Total Sequences in Block Summary",{"$f":"SUM(AT7:AT14)","v":17}]
[null,null,null,null,null,null,null,null,null,null,null,null,null,null,null,null,null,null,null,"Block 1",null,null,null,null,"Block 2",null,null,null,null,"Block 3",null,null,null,null,"Block 4",null,null,null,null,"Block 5",null,null,null,null,"Block 6"]
["Sequence\nComponent\n1","Time\n1","Sequence\nComponent\n2","Time\n2","Sequence\nComponent\n3","Time\n3","Sequence\nComponent\n4","Time\n4","Sequence\nComponent\n5","Time\n5","Correct?\n0=No 1=Yes","Sequence",null,"Frequency",null,"Relative Frequency","Variability",null,null,"Frequency",null,"Relative Frequency","Variability",null,"Frequency",null,"Relative Frequency","Variability",null,"Frequency",null,"Relative Frequency","Variability",null,"Frequency",null,"Relative Frequency","Variability",null,"Frequency",null,"Relative Frequency","Variability",null,"Frequency",null,"Relative Frequency","Variability"]
[12,26,13,36,13,45,null,null,null,null,0,111,null,111,{"$f":"COUNTIF($L$7:$L$500,N7)","v":29},{"$f":"O7/$Q$4","v":0.28999999999999998},{"$f":"IF(P7=0,0,(P7*((LOG(P7))/LOG(2))))","v":-0.5179038064476742},null,null,{"$f":"N7","v":111},{"$f":"COUNTIF(L7:L23,T7)","v":12},{"$f":"U7/(W4-U11)","v":0.8},{"$f":"IF(V7=0,0,(V7*((LOG(V7))/LOG(2))))","v":-0.25754247590988982},null,{"$f":"N7","v":111},{"$f":"COUNTIF(L24:L39,Y7)","v":3},{"$f":"Z7/(AB4-Z11)","v":0.27272727272727271},{"$f":"IF(AA7=0,0,(AA7*((LOG(AA7))/LOG(2))))","v":-0.51121885034076575},null,{"$f":"N7","v":111},{"$f":"COUNTIF(L40:L56,AD7)","v":3},{"$f":"AE7/(AG4-AE11)","v":0.25},{"$f":"IF(AF7=0,0,(AF7*((LOG(AF7))/LOG(2))))","v":-0.5},null,{"$f":"N7","v":111},{"$f":"COUNTIF(L57:L73,AI7)","v":5},{"$f":"AJ7/(AL4-AJ11)","v":0.55555555555555558},{"$f":"IF(AK7=0,0,(AK7*((LOG(AK7))/LOG(2))))","v":-0.4711093925305278},null,{"$f":"N7","v":111},{"$f":"COUNTIF(L74:L89,AN7)","v":3},{"$f":"AO7/(AQ4-AO11)","v":0.375},{"$f":"IF(AP7=0,0,(AP7*((LOG(AP7))/LOG(2))))","v":-0.53063906222956647},null,{"$f":"N7","v":111},{"$f":"COUNTIF(L90:L106,AS7)","v":3},{"$f":"AT7/(AV4-AT11)","v":0.42857142857142855},{"$f":"IF(AU7=0,0,(AU7*((LOG(AU7))/LOG(2))))","v":-0.52388246628704915}]
[12,145,13,154,13,162,null,null,null,null,0,111,null,112,{"$f":"COUNTIF($L$7:$L$500,N8)","v":2},{"$f":"O8/$Q$4","v":0.02},{"$f":"IF(P8=0,0,(P8*((LOG(P8))/LOG(2))))","v":-0.11287712379549449},null,null,{"$f":"N8","v":112},{"$f":"COUNTIF(L7:L23,T8)","v":0},{"$f":"U8/(W4-U11)","v":0},{"$f":"IF(V8=0,0,(V8*((LOG(V8))/LOG(2))))","v":0},null,{"$f":"N8","v":112},{"$f":"COUNTIF(L24:L39,Y8)","v":2},{"$f":"Z8/(AB4-Z11)","v":0.18181818181818182},{"$f":"IF(AA8=0,0,(AA8*((LOG(AA8))/LOG(2))))","v":-0.44716938520678134},null,{"$f":"N8","v":112},{"$f":"COUNTIF(L40:L56,AD8)","v":0},{"$f":"AE8/(AG4-AE11)","v":0},{"$f":"IF(AF8=0,0,(AF8*((LOG(AF8))/LOG(2))))","v":0},null,{"$f":"N8","v":112},{"$f":"COUNTIF(L57:L73,AI8)","v":0},{"$f":"AJ8/(AL4-AJ11)","v":0},{"$f":"IF(AK8=0,0,(AK8*((LOG(AK8))/LOG(2))))","v":0},null,{"$f":"N8","v":112},{"$f":"COUNTIF(L74:L89,AN8)","v":0},{"$f":"AO8/(AQ4-AO11)","v":0},{"$f":"IF(AP8=0,0,(AP8*((LOG(AP8))/LOG(2))))","v":0},null,{"$f":"N8","v":112},{"$f":"COUNTIF(L90:L106,AS8)","v":0},{"$f":"AT8/(AV4-AT11)","v":0},{"$f":"IF(AU8=0,0,(AU8*((LOG(AU8))/LOG(2))))","v":0}]
[12,259,13,267,13,291,null,null,null,null,0,111,null,121,{"$f":"COUNTIF($L$7:$L$500,N9)","v":21},{"$f":"O9/$Q$4","v":0.21},{"$f":"IF(P9=0,0,(P9*((LOG(P9))/LOG(2))))","v":-0.47282314106915246},null,null,{"$f":"N9","v":121},{"$f":"COUNTIF(L7:L23,T9)","v":3},{"$f":"U9/(W4-U11)","v":0.2},{"$f":"IF(V9=0,0,(V9*((LOG(V9))/LOG(2))))","v":-0.46438561897747244},null,{"$f":"N9","v":121},{"$f":"COUNTIF(L24:L39,Y9)","v":3},{"$f":"Z9/(AB4-Z11)","v":0.27272727272727271},{"$f":"IF(AA9=0,0,(AA9*((LOG(AA9))/LOG(2))))","v":-0.51121885034076575},null,{"$f":"N9","v":121},{"$f":"COUNTIF(L40:L56,AD9)","v":5},{"$f":"AE9/(AG4-AE11)","v":0.41666666666666669},{"$f":"IF(AF9=0,0,(AF9*((LOG(AF9))/LOG(2))))","v":-0.52626433576408083},null,{"$f":"N9","v":121},{"$f":"COUNTIF(L57:L73,AI9)","v":3},{"$f":"AJ9/(AL4-AJ11)","v":0.33333333333333331},{"$f":"IF(AK9=0,0,(AK9*((LOG(AK9))/LOG(2))))","v":-0.52832083357371862},null,{"$f":"N9","v":121},{"$f":"COUNTIF(L74:L89,AN9)","v":3},{"$f":"AO9/(AQ4-AO11)","v":0.375},{"$f":"IF(AP9=0,0,(AP9*((LOG(AP9))/LOG(2))))","v":-0.53063906222956647},null,{"$f":"N9","v":121},{"$f":"COUNTIF(L90:L106,AS9)","v":4},{"$f":"AT9/(AV4-AT11)","v":0.5714285714285714},{"$f":"IF(AU9=0,0,(AU9*((LOG(AU9))/LOG(2))))","v":-0.46134566974720237}]
[12,390,13,399,13,407,null,null,null,null,0,111,null,122,{"$f":"COUNTIF($L$7:$L$500,N10)","v":2},{"$f":"O10/$Q$4","v":0.02},{"$f":"IF(P10=0,0,(P10*((LOG(P10))/LOG(2))))","v":-0.11287712379549449},null,null,{"$f":"N10","v":122},{"$f":"COUNTIF(L7:L23,T10)","v":0},{"$f":"U10/(W4-U11)","v":0},{"$f":"IF(V10=0,0,(V10*((LOG(V10))/LOG(2))))","v":0},null,{"$f":"N10","v":122},{"$f":"COUNTIF(L24:L39,Y10)","v":0},{"$f":"Z10/(AB4-Z11)","v":0},{"$f":"IF(AA10=0,0,(AA10*((LOG(AA10))/LOG(2))))","v":0},null,{"$f":"N10","v":122},{"$f":"COUNTIF(L40:L56,AD10)","v":0},{"$f":"AE10/(AG4-AE11)","v":0},{"$f":"IF(AF10=0,0,(AF10*((LOG(AF10))/LOG(2))))","v":0},null,{"$f":"N10","v":122},{"$f":"COUNTIF(L57:L73,AI10)","v":1},{"$f":"AJ10/(AL4-AJ11)","v":0.1111111111111111},{"$f":"IF(AK10=0,0,(AK10*((LOG(AK10))/LOG(2))))","v":-0.3522138890491458},null,{"$f":"N10","v":122},{"$f":"COUNTIF(L74:L89,AN10)","v":1},{"$f":"AO10/(AQ4-AO11)","v":0.125},{"$f":"IF(AP10=0,0,(AP10*((LOG(AP10))/LOG(2))))","v":-0.375},null,{"$f":"N10","v":122},{"$f":"COUNTIF(L90:L106,AS10)","v":0},{"$f":"AT10/(AV4-AT11)","v":0},{"$f":"IF(AU10=0,0,(AU10*((LOG(AU10))/LOG(2))))","v":0}]
[12,520,13,535,13,548,null,null,null,null,0,111,null,211,{"$f":"COUNTIF($L$7:$L$500,N11)","v":38},{"$f":"O11/$Q$4","v":0.38},{"$f":"IF(P11=0,0,(P11*((LOG(P11))/LOG(2))))","v":-0.53045289700583287},null,null,{"$f":"N11","v":211},{"$f":"COUNTIF(L7:L23,T11)","v":2},null,null,null,{"$f":"N11","v":211},{"$f":"COUNTIF(L24:L39,Y11)","v":5},null,null,null,{"$f":"N11","v":211},{"$f":"COUNTIF(L40:L56,AD11)","v":5},null,null,null,{"$f":"N11","v":211},{"$f":"COUNTIF(L57:L73,AI11)","v":8},null,null,null,{"$f":"N11","v":211},{"$f":"COUNTIF(L74:L89,AN11)","v":8},null,null,null,{"$f":"N11","v":211},{"$f":"COUNTIF(L90:L106,AS11)","v":10}]
[12,655,13,673,13,682,null,null,null,null,0,111,null,212,{"$f":"COUNTIF($L$7:$L$500,N12)","v":3},{"$f":"O12/$Q$4","v":0.03},{"$f":"IF(P12=0,0,(P12*((LOG(P12))/LOG(2))))","v":-0.15176681067160705},null,null,{"$f":"N12","v":212},{"$f":"COUNTIF(L7:L23,T12)","v":0},{"$f":"U12/(W4-U11)","v":0},{"$f":"IF(V12=0,0,(V12*((LOG(V12))/LOG(2))))","v":0},null,{"$f":"N12","v":212},{"$f":"COUNTIF(L24:L39,Y12)","v":2},{"$f":"Z12/(AB4-Z11)","v":0.18181818181818182},{"$f":"IF(AA12=0,0,(AA12*((LOG(AA12))/LOG(2))))","v":-0.44716938520678134},null,{"$f":"N12","v":212},{"$f":"COUNTIF(L40:L56,AD12)","v":1},{"$f":"AE12/(AG4-AE11)","v":8.3333333333333329E-2},{"$f":"IF(AF12=0,0,(AF12*((LOG(AF12))/LOG(2))))","v":-0.29874687506009634},null,{"$f":"N12","v":212},{"$f":"COUNTIF(L57:L73,AI12)","v":0},{"$f":"AJ12/(AL4-AJ11)","v":0},{"$f":"IF(AK12=0,0,(AK12*((LOG(AK12))/LOG(2))))","v":0},null,{"$f":"N12","v":212},{"$f":"COUNTIF(L74:L89,AN12)","v":0},{"$f":"AO12/(AQ4-AO11)","v":0},{"$f":"IF(AP12=0,0,(AP12*((LOG(AP12))/LOG(2))))","v":0},null,{"$f":"N12","v":212},{"$f":"COUNTIF(L90:L106,AS12)","v":0},{"$f":"AT12/(AV4-AT11)","v":0},{"$f":"IF(AU12=0,0,(AU12*((LOG(AU12))/LOG(2))))","v":0}]
[12,809,13,818,13,840,null,null,null,null,0,111,null,221,{"$f":"COUNTIF($L$7:$L$500,N13)","v":5},{"$f":"O13/$Q$4","v":0.05},{"$f":"IF(P13=0,0,(P13*((LOG(P13))/LOG(2))))","v":-0.21609640474436814},null,null,{"$f":"N13","v":221},{"$f":"COUNTIF(L7:L23,T13)","v":0},{"$f":"U13/(W4-U11)","v":0},{"$f":"IF(V13=0,0,(V13*((LOG(V13))/LOG(2))))","v":0},null,{"$f":"N13","v":221},{"$f":"COUNTIF(L24:L39,Y13)","v":1},{"$f":"Z13/(AB4-Z11)","v":9.0909090909090912E-2},{"$f":"IF(AA13=0,0,(AA13*((LOG(AA13))/LOG(2))))","v":-0.31449378351248153},null,{"$f":"N13","v":221},{"$f":"COUNTIF(L40:L56,AD13)","v":3},{"$f":"AE13/(AG4-AE11)","v":0.25},{"$f":"IF(AF13=0,0,(AF13*((LOG(AF13))/LOG(2))))","v":-0.5},null,{"$f":"N13","v":221},{"$f":"COUNTIF(L57:L73,AI13)","v":0},{"$f":"AJ13/(AL4-AJ11)","v":0},{"$f":"IF(AK13=0,0,(AK13*((LOG(AK13))/LOG(2))))","v":0},null,{"$f":"N13","v":221},{"$f":"COUNTIF(L74:L89,AN13)","v":1},{"$f":"AO13/(AQ4-AO11)","v":0.125},{"$f":"IF(AP13=0,0,(AP13*((LOG(AP13))/LOG(2))))","v":-0.375},null,{"$f":"N13","v":221},{"$f":"COUNTIF(L90:L106,AS13)","v":0},{"$f":"AT13/(AV4-AT11)","v":0},{"$f":"IF(AU13=0,0,(AU13*((LOG(AU13))/LOG(2))))","v":0}]
[12,943,13,951,13,987,null,null,null,null,0,111,null,222,{"$f":"COUNTIF($L$7:$L$500,N14)","v":0},{"$f":"O14/$Q$4","v":0},{"$f":"IF(P14=0,0,(P14*((LOG(P14))/LOG(2))))","v":0},null,null,{"$f":"N14","v":222},{"$f":"COUNTIF(L7:L23,T14)","v":0},{"$f":"U14/(W4-U11)","v":0},{"$f":"IF(V14=0,0,(V14*((LOG(V14))/LOG(2))))","v":0},null,{"$f":"N14","v":222},{"$f":"COUNTIF(L24:L39,Y14)","v":0},{"$f":"Z14/(AB4-Z11)","v":0},{"$f":"IF(AA14=0,0,(AA14*((LOG(AA14))/LOG(2))))","v":0},null,{"$f":"N14","v":222},{"$f":"COUNTIF(L40:L56,AD14)","v":0},{"$f":"AE14/(AG4-AE11)","v":0},{"$f":"IF(AF14=0,0,(AF14*((LOG(AF14))/LOG(2))))","v":0},null,{"$f":"N14","v":222},{"$f":"COUNTIF(L57:L73,AI14)","v":0},{"$f":"AJ14/(AL4-AJ11)","v":0},{"$f":"IF(AK14=0,0,(AK14*((LOG(AK14))/LOG(2))))","v":0},null,{"$f":"N14","v":222},{"$f":"COUNTIF(L74:L89,AN14)","v":0},{"$f":"AO14/(AQ4-AO11)","v":0},{"$f":"IF(AP14=0,0,(AP14*((LOG(AP14))/LOG(2))))","v":0},null,{"$f":"N14","v":222},{"$f":"COUNTIF(L90:L106,AS14)","v":0},{"$f":"AT14/(AV4-AT11)","v":0},{"$f":"IF(AU14=0,0,(AU14*((LOG(AU14))/LOG(2))))","v":0}]
[12,1095,13,1116,13,1125,null,null,null,null,0,111,null,null,null,{"$f":"SUM(P7:P14)","v":1},{"$f":"-SUM(Q7:Q14)","v":2.1147973075296238},null,null,null,null,{"$f":"SUM(V7:V14)","v":1},{"$f":"-SUM(W7:W14)","v":0.72192809488736231},null,null,null,{"$f":"SUM(AA7:AA14)","v":1},{"$f":"-SUM(AB7:AB14)","v":2.2312702546075758},null,null,null,{"$f":"SUM(AF7:AF14)","v":1},{"$f":"-SUM(AG7:AG14)","v":1.8250112108241772},null,null,null,{"$f":"SUM(AK7:AK14)","v":1},{"$f":"-SUM(AL7:AL14)","v":1.3516441151533922},null,null,null,{"$f":"SUM(AP7:AP14)","v":1},{"$f":"-SUM(AQ7:AQ14)","v":1.8112781244591329},null,null,null,{"$f":"SUM(AU7:AU14)","v":1},{"$f":"-SUM(AV7:AV14)","v":0.98522813603425152}]
[12,1306,13,1315,13,1335,null,null,null,null,0,111,null,null,null,"U=",{"$f":"Q15/(LOG(Q4)/LOG(2))","v":0.31830871215792089},null,null,null,null,"U1=",{"$f":"W15/(LOG(W4)/LOG(2))","v":0.17662009978457133},null,null,null,"U2=",{"$f":"AB15/(LOG(AB4)/LOG(2))","v":0.55781756365189394},null,null,null,"U3=",{"$f":"AG15/(LOG(AG4)/LOG(2))","v":0.44648998209997509},null,null,null,"U4=",{"$f":"AL15/(LOG(AL4)/LOG(2))","v":0.33068046552318736},null,null,null,"U5=",{"$f":"AQ15/(LOG(AQ4)/LOG(2))","v":0.45281953111478324},null,null,null,"U6=",{"$f":"AV15/(LOG(AV4)/LOG(2))","v":0.24103659759090901}]
[12,1463,24,1482,13,1503,null,null,null,null,0,121]
[12,1622,13,1636,13,1665,null,null,null,null,0,111]
[12,1775,24,1825,13,1840,null,null,null,null,0,121,null,"Total Target Seq"]
[12,1968,13,1978,13,1988,null,null,null,null,0,111,null,{"$f":"COUNTIF(L7:L106,G3)","v":38},null,17,16,17,17,16,17]
[21,2112,11,2130,11,2139,null,null,null,null,0,211,null,null,null,"% of reinforcement given in 6 equal intervals based on number of trials "]
[12,2276,24,2304,13,2326,null,null,null,null,0,121,null,null,null,"%_1","%_2","%_3","%_4","%_5","%_6"]
[21,2441,11,2457,11,2466,null,null,null,null,0,211,null,null,"target sequence",{"$f":"$G$3","v":211},{"$f":"$G$3","v":211},{"$f":"$G$3","v":211},{"$f":"$G$3","v":211},{"$f":"$G$3","v":211},{"$f":"$G$3","v":211}]
[21,2584,11,2601,11,2611,null,null,null,null,0,211,null,null,"total reinforcement",{"$f":"U11","v":2},{"$f":"Z11","v":5},{"$f":"AE11","v":5},{"$f":"AJ11","v":8},{"$f":"AO11","v":8},{"$f":"AT11","v":10}]
[21,2733,11,2750,11,2760,null,null,null,null,0,211,null,null,"% target"]
[21,2882,11,2898,22,2922,null,null,null,null,0,212,null,null,"CCRF"]
[21,3034,11,3048,11,3057,null,null,null,null,0,211,null,null,"% CCRf"]
[21,3191,11,3211,11,3222,null,null,null,null,0,211,null,null,"average response rate",{"$f":"F23/P20","v":145.05882352941177},{"$f":"(F39-F23)/Q20","v":140.5625},{"$f":"(F56-F39)/R20","v":141.35294117647058},{"$f":"(F73-F56)/S20","v":129.11764705882354},{"$f":"(F89-F73)/T20","v":135.625},{"$f":"(F106-F89)/U20","v":131.8235294117647}]
[12,3317,24,3340,13,3356,null,null,null,null,0,121]
[12,3465,24,3479,13,3496,null,null,null,null,0,121]
[21,3613,22,3633,13,3655,null,null,null,null,0,221]
[12,3752,13,3758,13,3766,null,null,null,null,0,111]
[12,3863,13,3871,24,3896,null,null,null,null,0,112]
[12,3992,13,4000,13,4020,null,null,null,null,0,111]
[12,4119,13,4128,24,4151,null,null,null,null,0,112]
[12,4251,13,4272,13,4281,null,null,null,null,0,111]
[12,4388,24,4400,13,4414,null,null,null,null,0,121]
[21,4520,11,4538,22,4570,null,null,null,null,0,212]
[21,4687,11,4705,11,4715,null,null,null,null,0,211]
[12,4841,13,4850,13,4858,null,null,null,null,0,111]
[12,4983,13,4992,13,5001,null,null,null,null,0,111]
[12,5099,13,5121,13,5129,null,null,null,null,0,111]
[12,5262,24,5276,13,5290,null,null,null,null,0,121]
[21,5405,11,5423,22,5441,null,null,null,null,0,212]
[12,5537,24,5564,13,5583,null,null,null,null,0,121]
[21,5727,11,5740,11,5749,null,null,null,null,0,211]
[21,5864,22,5872,13,5891,null,null,null,null,0,221]
[21,6020,22,6028,13,6046,null,null,null,null,0,221]
[21,6154,11,6171,11,6180,null,null,null,null,0,211]
[12,6279,24,6289,13,6305,null,null,null,null,0,121]
[21,6429,11,6446,11,6455,null,null,null,null,0,211]
[21,6570,11,6583,11,6591,null,null,null,null,0,211]
[12,6682,24,6704,13,6716,null,null,null,null,0,121]
[21,6829,11,6846,11,6854,null,null,null,null,0,211]
[12,6960,24,6972,13,6987,null,null,null,null,0,121]
[21,7093,22,7104,13,7118,null,null,null,null,0,221]
[12,7218,24,7241,13,7253,null,null,null,null,0,121]
[12,7351,24,7366,13,7385,null,null,null,null,0,121]
[12,7489,13,7499,13,7508,null,null,null,null,0,111]
[12,7605,24,7615,13,7629,null,null,null,null,0,121]
[21,7757,11,7770,11,7788,null,null,null,null,0,211]
[21,7908,11,7937,11,7946,null,null,null,null,0,211]
[12,8043,13,8051,13,8060,null,null,null,null,0,111]
[12,8157,24,8167,24,8171,null,null,null,null,0,122]
[12,8277,13,8286,13,8293,null,null,null,null,0,111]
[12,8390,13,8403,13,8412,null,null,null,null,0,111]
[21,8523,11,8540,11,8548,null,null,null,null,0,211]
[21,8646,11,8660,11,8668,null,null,null,null,0,211]
[21,8793,11,8819,11,8827,null,null,null,null,0,211]
[21,8927,11,8939,11,8946,null,null,null,null,0,211]
[21,9053,11,9065,11,9073,null,null,null,null,0,211]
[21,9178,11,9191,11,9199,null,null,null,null,0,211]
[12,9297,13,9304,13,9313,null,null,null,null,0,111]
[12,9418,13,9426,13,9434,null,null,null,null,0,111]
[21,9555,11,9569,11,9577,null,null,null,null,0,211]
[21,9690,11,9708,11,9716,null,null,null,null,0,211]
[12,9805,24,9827,13,9845,null,null,null,null,0,121]
[21,9954,11,9967,11,9975,null,null,null,null,0,211]
[21,10091,11,10104,11,10112,null,null,null,null,0,211]
[21,10210,11,10227,11,10243,null,null,null,null,0,211]
[12,10370,13,10378,13,10386,null,null,null,null,0,111]
[12,10495,13,10527,13,10535,null,null,null,null,0,111]
[12,10632,24,10657,13,10674,null,null,null,null,0,121]
[12,10772,24,10785,13,10798,null,null,null,null,0,121]
[21,10913,11,10931,11,10939,null,null,null,null,0,211]
[12,11047,24,11060,24,11073,null,null,null,null,0,122]
[21,11186,22,11204,13,11217,null,null,null,null,0,221]
[21,11325,11,11342,11,11351,null,null,null,null,0,211]
[21,11460,11,11474,11,11483,null,null,null,null,0,211]
[21,11586,11,11599,11,11607,null,null,null,null,0,211]
[12,11727,13,11742,13,11759,null,null,null,null,0,111]
[12,11855,24,11869,13,11887,null,null,null,null,0,121]
[12,11986,24,11996,13,12016,null,null,null,null,0,121]
[12,12114,24,12129,13,12141,null,null,null,null,0,121]
[21,12249,11,12266,11,12274,null,null,null,null,0,211]
[21,12380,11,12393,11,12401,null,null,null,null,0,211]
[12,12523,13,12539,13,12555,null,null,null,null,0,111]
[21,12691,11,12705,11,12713,null,null,null,null,0,211]
[21,12822,11,12836,11,12843,null,null,null,null,0,211]
[21,12949,11,12961,11,12969,null,null,null,null,0,211]
[12,13058,24,13069,13,13081,null,null,null,null,0,121]
[21,13187,11,13201,11,13208,null,null,null,null,0,211]
[12,13329,13,13337,13,13345,null,null,null,null,0,111]
[21,13456,11,13469,11,13476,null,null,null,null,0,211]
[21,13582,11,13595,11,13603,null,null,null,null,0,211]
[21,13703,11,13716,11,13724,null,null,null,null,1,211]

{"sheet":"!M509B30.185","index":9,"n_rows":85,"n_cols":48,"rows_kept":85,"cut":false,"hidden":false,"merged":[[4,39,4,42],[5,39,5,40],[4,44,4,47],[5,44,5,45],[4,24,4,27],[5,24,5,25],[4,29,4,32],[5,29,5,30],[4,34,4,37],[5,34,5,35],[1,1,1,2],[5,13,5,14],[18,13,18,14],[19,13,19,14],[4,19,4,22],[5,19,5,20]]}
["Report for:!M509B30.185"]
["Date:","<date>"]
["Hen:","<hen>",null,null,null,"Correct Sequence",{"$f":"Start!J2","v":211},null,null,null,null,null,null,null,null,"Total Sequences in Data",{"$f":"4994-COUNTBLANK(L7:L5000)","v":79},null,null,null,null,"Total Sequences in Block Data",{"$f":"COUNTA(L7:L19)","v":13},null,null,null,"Total Sequences in Block Data",{"$f":"COUNTA(L20:L32)","v":13},null,null,null,"Total Sequences in Block Data",{"$f":"COUNTA(L33:L46)","v":14},null,null,null,"Total Sequences in Block Data",{"$f":"COUNTA(L47:L59)","v":13},null,null,null,"Total Sequences in Block Data",{"$f":"COUNTA(L60:L72)","v":13},null,null,null,"Total Sequences in Block Data",{"$f":"COUNTA(L73:L85)","v":13}]
[null,null,null,null,null,null,null,null,null,null,null,null,null,null,null,"Total Sequences in Summary",{"$f":"SUM(O7:O14)","v":79},null,null,null,null,"Total Sequences in Block Summary",{"$f":"SUM(U7:U14)","v":13},null,null,null,"Total Sequences in Block Summary",{"$f":"SUM(Z7:Z14)","v":13},null,null,null,"Total Sequences in Block Summary",{"$f":"SUM(AE7:AE14)","v":14},null,null,null,"Total Sequences in Block Summary",{"$f":"SUM(AJ7:AJ14)","v":13},null,null,null,"Total Sequences in Block Summary",{"$f":"SUM(AO7:AO14)","v":13},null,null,null,"Total Sequences in Block Summary",{"$f":"SUM(AT7:AT14)","v":13}]
[null,null,null,null,null,null,null,null,null,null,null,null,null,null,null,null,null,null,null,"Block 1",null,null,null,null,"Block 2",null,null,null,null,"Block 3",null,null,null,null,"Block 4",null,null,null,null,"Block 5",null,null,null,null,"Block 6"]
["Sequence\nComponent\n1","Time\n1","Sequence\nComponent\n2","Time\n2","Sequence\nComponent\n3","Time\n3","Sequence\nComponent\n4","Time\n4","Sequence\nComponent\n5","Time\n5","Correct?\n0=No 1=Yes","Sequence",null,"Frequency",null,"Relative Frequency","Variability",null,null,"Frequency",null,"Relative Frequency","Variability",null,"Frequency",null,"Relative Frequency","Variability",null,"Frequency",null,"Relative Frequency","Variability",null,"Frequency",null,"Relative Frequency","Variability",null,"Frequency",null,"Relative Frequency","Variability",null,"Frequency",null,"Relative Frequency","Variability"]
[12,45,13,83,13,104,null,null,null,null,0,111,null,111,{"$f":"COUNTIF($L$7:$L$500,N7)","v":12},{"$f":"O7/$Q$4","v":0.15189873417721519},{"$f":"IF(P7=0,0,(P7*((LOG(P7))/LOG(2))))","v":-0.41298505024647292},null,null,{"$f":"N7","v":111},{"$f":"COUNTIF(L7:L19,T7)","v":4},{"$f":"U7/(W4-U11)","v":0.66666666666666663},{"$f":"IF(V7=0,0,(V7*((LOG(V7))/LOG(2))))","v":-0.38997500048077083},null,{"$f":"N7","v":111},{"$f":"COUNTIF(L20:L32,Y7)","v":1},{"$f":"Z7/(AB4-Z11)","v":0.33333333333333331},{"$f":"IF(AA7=0,0,(AA7*((LOG(AA7))/LOG(2))))","v":-0.52832083357371862},null,{"$f":"N7","v":111},{"$f":"COUNTIF(L33:L46,AD7)","v":0},{"$f":"AE7/(AG4-AE11)","v":0},{"$f":"IF(AF7=0,0,(AF7*((LOG(AF7))/LOG(2))))","v":0},null,{"$f":"N7","v":111},{"$f":"COUNTIF(L47:L59,AI7)","v":3},{"$f":"AJ7/(AL4-AJ11)","v":0.5},{"$f":"IF(AK7=0,0,(AK7*((LOG(AK7))/LOG(2))))","v":-0.5},null,{"$f":"N7","v":111},{"$f":"COUNTIF(L60:L72,AN7)","v":3},{"$f":"AO7/(AQ4-AO11)","v":0.3},{"$f":"IF(AP7=0,0,(AP7*((LOG(AP7))/LOG(2))))","v":-0.52108967824986185},null,{"$f":"N7","v":111},{"$f":"COUNTIF(L73:L85,AS7)","v":1},{"$f":"AT7/(AV4-AT11)","v":0.1111111111111111},{"$f":"IF(AU7=0,0,(AU7*((LOG(AU7))/LOG(2))))","v":-0.3522138890491458}]
[12,237,13,246,13,255,null,null,null,null,0,111,null,112,{"$f":"COUNTIF($L$7:$L$500,N8)","v":1},{"$f":"O8/$Q$4","v":1.2658227848101266E-2},{"$f":"IF(P8=0,0,(P8*((LOG(P8))/LOG(2))))","v":-7.9794693014900039E-2},null,null,{"$f":"N8","v":112},{"$f":"COUNTIF(L7:L19,T8)","v":1},{"$f":"U8/(W4-U11)","v":0.16666666666666666},{"$f":"IF(V8=0,0,(V8*((LOG(V8))/LOG(2))))","v":-0.43082708345352599},null,{"$f":"N8","v":112},{"$f":"COUNTIF(L20:L32,Y8)","v":0},{"$f":"Z8/(AB4-Z11)","v":0},{"$f":"IF(AA8=0,0,(AA8*((LOG(AA8))/LOG(2))))","v":0},null,{"$f":"N8","v":112},{"$f":"COUNTIF(L33:L46,AD8)","v":0},{"$f":"AE8/(AG4-AE11)","v":0},{"$f":"IF(AF8=0,0,(AF8*((LOG(AF8))/LOG(2))))","v":0},null,{"$f":"N8","v":112},{"$f":"COUNTIF(L47:L59,AI8)","v":0},{"$f":"AJ8/(AL4-AJ11)","v":0},{"$f":"IF(AK8=0,0,(AK8*((LOG(AK8))/LOG(2))))","v":0},null,{"$f":"N8","v":112},{"$f":"COUNTIF(L60:L72,AN8)","v":0},{"$f":"AO8/(AQ4-AO11)","v":0},{"$f":"IF(AP8=0,0,(AP8*((LOG(AP8))/LOG(2))))","v":0},null,{"$f":"N8","v":112},{"$f":"COUNTIF(L73:L85,AS8)","v":0},{"$f":"AT8/(AV4-AT11)","v":0},{"$f":"IF(AU8=0,0,(AU8*((LOG(AU8))/LOG(2))))","v":0}]
[21,374,11,392,22,418,null,null,null,null,0,212,null,121,{"$f":"COUNTIF($L$7:$L$500,N9)","v":11},{"$f":"O9/$Q$4","v":0.13924050632911392},{"$f":"IF(P9=0,0,(P9*((LOG(P9))/LOG(2))))","v":-0.39604861297389699},null,null,{"$f":"N9","v":121},{"$f":"COUNTIF(L7:L19,T9)","v":0},{"$f":"U9/(W4-U11)","v":0},{"$f":"IF(V9=0,0,(V9*((LOG(V9))/LOG(2))))","v":0},null,{"$f":"N9","v":121},{"$f":"COUNTIF(L20:L32,Y9)","v":1},{"$f":"Z9/(AB4-Z11)","v":0.33333333333333331},{"$f":"IF(AA9=0,0,(AA9*((LOG(AA9))/LOG(2))))","v":-0.52832083357371862},null,{"$f":"N9","v":121},{"$f":"COUNTIF(L33:L46,AD9)","v":1},{"$f":"AE9/(AG4-AE11)","v":0.14285714285714285},{"$f":"IF(AF9=0,0,(AF9*((LOG(AF9))/LOG(2))))","v":-0.40105070315108626},null,{"$f":"N9","v":121},{"$f":"COUNTIF(L47:L59,AI9)","v":2},{"$f":"AJ9/(AL4-AJ11)","v":0.33333333333333331},{"$f":"IF(AK9=0,0,(AK9*((LOG(AK9))/LOG(2))))","v":-0.52832083357371862},null,{"$f":"N9","v":121},{"$f":"COUNTIF(L60:L72,AN9)","v":4},{"$f":"AO9/(AQ4-AO11)","v":0.4},{"$f":"IF(AP9=0,0,(AP9*((LOG(AP9))/LOG(2))))","v":-0.52877123795494496},null,{"$f":"N9","v":121},{"$f":"COUNTIF(L73:L85,AS9)","v":3},{"$f":"AT9/(AV4-AT11)","v":0.33333333333333331},{"$f":"IF(AU9=0,0,(AU9*((LOG(AU9))/LOG(2))))","v":-0.52832083357371862}]
[21,525,11,543,11,561,null,null,null,null,0,211,null,122,{"$f":"COUNTIF($L$7:$L$500,N10)","v":2},{"$f":"O10/$Q$4","v":2.5316455696202531E-2},{"$f":"IF(P10=0,0,(P10*((LOG(P10))/LOG(2))))","v":-0.13427293033359755},null,null,{"$f":"N10","v":122},{"$f":"COUNTIF(L7:L19,T10)","v":0},{"$f":"U10/(W4-U11)","v":0},{"$f":"IF(V10=0,0,(V10*((LOG(V10))/LOG(2))))","v":0},null,{"$f":"N10","v":122},{"$f":"COUNTIF(L20:L32,Y10)","v":0},{"$f":"Z10/(AB4-Z11)","v":0},{"$f":"IF(AA10=0,0,(AA10*((LOG(AA10))/LOG(2))))","v":0},null,{"$f":"N10","v":122},{"$f":"COUNTIF(L33:L46,AD10)","v":0},{"$f":"AE10/(AG4-AE11)","v":0},{"$f":"IF(AF10=0,0,(AF10*((LOG(AF10))/LOG(2))))","v":0},null,{"$f":"N10","v":122},{"$f":"COUNTIF(L47:L59,AI10)","v":0},{"$f":"AJ10/(AL4-AJ11)","v":0},{"$f":"IF(AK10=0,0,(AK10*((LOG(AK10))/LOG(2))))","v":0},null,{"$f":"N10","v":122},{"$f":"COUNTIF(L60:L72,AN10)","v":0},{"$f":"AO10/(AQ4-AO11)","v":0},{"$f":"IF(AP10=0,0,(AP10*((LOG(AP10))/LOG(2))))","v":0},null,{"$f":"N10","v":122},{"$f":"COUNTIF(L73:L85,AS10)","v":2},{"$f":"AT10/(AV4-AT11)","v":0.22222222222222221},{"$f":"IF(AU10=0,0,(AU10*((LOG(AU10))/LOG(2))))","v":-0.48220555587606945}]
[21,679,11,694,11,706,null,null,null,null,0,211,null,211,{"$f":"COUNTIF($L$7:$L$500,N11)","v":38},{"$f":"O11/$Q$4","v":0.48101265822784811},{"$f":"IF(P11=0,0,(P11*((LOG(P11))/LOG(2))))","v":-0.50787877113764135},null,null,{"$f":"N11","v":211},{"$f":"COUNTIF(L7:L19,T11)","v":7},null,null,null,{"$f":"N11","v":211},{"$f":"COUNTIF(L20:L32,Y11)","v":10},null,null,null,{"$f":"N11","v":211},{"$f":"COUNTIF(L33:L46,AD11)","v":7},null,null,null,{"$f":"N11","v":211},{"$f":"COUNTIF(L47:L59,AI11)","v":7},null,null,null,{"$f":"N11","v":211},{"$f":"COUNTIF(L60:L72,AN11)","v":3},null,null,null,{"$f":"N11","v":211},{"$f":"COUNTIF(L73:L85,AS11)","v":4}]
[12,845,13,860,24,896,null,null,null,null,0,112,null,212,{"$f":"COUNTIF($L$7:$L$500,N12)","v":1},{"$f":"O12/$Q$4","v":1.2658227848101266E-2},{"$f":"IF(P12=0,0,(P12*((LOG(P12))/LOG(2))))","v":-7.9794693014900039E-2},null,null,{"$f":"N12","v":212},{"$f":"COUNTIF(L7:L19,T12)","v":1},{"$f":"U12/(W4-U11)","v":0.16666666666666666},{"$f":"IF(V12=0,0,(V12*((LOG(V12))/LOG(2))))","v":-0.43082708345352599},null,{"$f":"N12","v":212},{"$f":"COUNTIF(L20:L32,Y12)","v":0},{"$f":"Z12/(AB4-Z11)","v":0},{"$f":"IF(AA12=0,0,(AA12*((LOG(AA12))/LOG(2))))","v":0},null,{"$f":"N12","v":212},{"$f":"COUNTIF(L33:L46,AD12)","v":0},{"$f":"AE12/(AG4-AE11)","v":0},{"$f":"IF(AF12=0,0,(AF12*((LOG(AF12))/LOG(2))))","v":0},null,{"$f":"N12","v":212},{"$f":"COUNTIF(L47:L59,AI12)","v":0},{"$f":"AJ12/(AL4-AJ11)","v":0},{"$f":"IF(AK12=0,0,(AK12*((LOG(AK12))/LOG(2))))","v":0},null,{"$f":"N12","v":212},{"$f":"COUNTIF(L60:L72,AN12)","v":0},{"$f":"AO12/(AQ4-AO11)","v":0},{"$f":"IF(AP12=0,0,(AP12*((LOG(AP12))/LOG(2))))","v":0},null,{"$f":"N12","v":212},{"$f":"COUNTIF(L73:L85,AS12)","v":0},{"$f":"AT12/(AV4-AT11)","v":0},{"$f":"IF(AU12=0,0,(AU12*((LOG(AU12))/LOG(2))))","v":0}]
[12,1017,13,1033,13,1052,null,null,null,null,0,111,null,221,{"$f":"COUNTIF($L$7:$L$500,N13)","v":10},{"$f":"O13/$Q$4","v":0.12658227848101267},{"$f":"IF(P13=0,0,(P13*((LOG(P13))/LOG(2))))","v":-0.37744970294806846},null,null,{"$f":"N13","v":221},{"$f":"COUNTIF(L7:L19,T13)","v":0},{"$f":"U13/(W4-U11)","v":0},{"$f":"IF(V13=0,0,(V13*((LOG(V13))/LOG(2))))","v":0},null,{"$f":"N13","v":221},{"$f":"COUNTIF(L20:L32,Y13)","v":1},{"$f":"Z13/(AB4-Z11)","v":0.33333333333333331},{"$f":"IF(AA13=0,0,(AA13*((LOG(AA13))/LOG(2))))","v":-0.52832083357371862},null,{"$f":"N13","v":221},{"$f":"COUNTIF(L33:L46,AD13)","v":4},{"$f":"AE13/(AG4-AE11)","v":0.5714285714285714},{"$f":"IF(AF13=0,0,(AF13*((LOG(AF13))/LOG(2))))","v":-0.46134566974720237},null,{"$f":"N13","v":221},{"$f":"COUNTIF(L47:L59,AI13)","v":1},{"$f":"AJ13/(AL4-AJ11)","v":0.16666666666666666},{"$f":"IF(AK13=0,0,(AK13*((LOG(AK13))/LOG(2))))","v":-0.43082708345352599},null,{"$f":"N13","v":221},{"$f":"COUNTIF(L60:L72,AN13)","v":2},{"$f":"AO13/(AQ4-AO11)","v":0.2},{"$f":"IF(AP13=0,0,(AP13*((LOG(AP13))/LOG(2))))","v":-0.46438561897747244},null,{"$f":"N13","v":221},{"$f":"COUNTIF(L73:L85,AS13)","v":2},{"$f":"AT13/(AV4-AT11)","v":0.22222222222222221},{"$f":"IF(AU13=0,0,(AU13*((LOG(AU13))/LOG(2))))","v":-0.48220555587606945}]
[21,1159,11,1173,11,1184,null,null,null,null,0,211,null,222,{"$f":"COUNTIF($L$7:$L$500,N14)","v":4},{"$f":"O14/$Q$4","v":5.0632911392405063E-2},{"$f":"IF(P14=0,0,(P14*((LOG(P14))/LOG(2))))","v":-0.21791294927479002},null,null,{"$f":"N14","v":222},{"$f":"COUNTIF(L7:L19,T14)","v":0},{"$f":"U14/(W4-U11)","v":0},{"$f":"IF(V14=0,0,(V14*((LOG(V14))/LOG(2))))","v":0},null,{"$f":"N14","v":222},{"$f":"COUNTIF(L20:L32,Y14)","v":0},{"$f":"Z14/(AB4-Z11)","v":0},{"$f":"IF(AA14=0,0,(AA14*((LOG(AA14))/LOG(2))))","v":0},null,{"$f":"N14","v":222},{"$f":"COUNTIF(L33:L46,AD14)","v":2},{"$f":"AE14/(AG4-AE11)","v":0.2857142857142857},{"$f":"IF(AF14=0,0,(AF14*((LOG(AF14))/LOG(2))))","v":-0.51638712058788683},null,{"$f":"N14","v":222},{"$f":"COUNTIF(L47:L59,AI14)","v":0},{"$f":"AJ14/(AL4-AJ11)","v":0},{"$f":"IF(AK14=0,0,(AK14*((LOG(AK14))/LOG(2))))","v":0},null,{"$f":"N14","v":222},{"$f":"COUNTIF(L60:L72,AN14)","v":1},{"$f":"AO14/(AQ4-AO11)","v":0.1},{"$f":"IF(AP14=0,0,(AP14*((LOG(AP14))/LOG(2))))","v":-0.33219280948873625},null,{"$f":"N14","v":222},{"$f":"COUNTIF(L73:L85,AS14)","v":1},{"$f":"AT14/(AV4-AT11)","v":0.1111111111111111},{"$f":"IF(AU14=0,0,(AU14*((LOG(AU14))/LOG(2))))","v":-0.3522138890491458}]
[21,1291,11,1303,11,1312,null,null,null,null,0,211,null,null,null,{"$f":"SUM(P7:P14)","v":1},{"$f":"-SUM(Q7:Q14)","v":2.2061374029442673},null,null,null,null,{"$f":"SUM(V7:V14)","v":0.99999999999999989},{"$f":"-SUM(W7:W14)","v":1.2516291673878228},null,null,null,{"$f":"SUM(AA7:AA14)","v":1},{"$f":"-SUM(AB7:AB14)","v":1.5849625007211559},null,null,null,{"$f":"SUM(AF7:AF14)","v":0.99999999999999989},{"$f":"-SUM(AG7:AG14)","v":1.3787834934861753},null,null,null,{"$f":"SUM(AK7:AK14)","v":0.99999999999999989},{"$f":"-SUM(AL7:AL14)","v":1.4591479170272446},null,null,null,{"$f":"SUM(AP7:AP14)","v":0.99999999999999989},{"$f":"-SUM(AQ7:AQ14)","v":1.8464393446710157},null,null,null,{"$f":"SUM(AU7:AU14)","v":1},{"$f":"-SUM(AV7:AV14)","v":2.1971597234241491}]
[21,1416,11,1438,11,1448,null,null,null,null,0,211,null,null,null,"U=",{"$f":"Q15/(LOG(Q4)/LOG(2))","v":0.34997051627822356},null,null,null,null,"U1=",{"$f":"W15/(LOG(W4)/LOG(2))","v":0.33823795622228808},null,null,null,"U2=",{"$f":"AB15/(LOG(AB4)/LOG(2))","v":0.42831734103139457},null,null,null,"U3=",{"$f":"AG15/(LOG(AG4)/LOG(2))","v":0.36213684348110137},null,null,null,"U4=",{"$f":"AL15/(LOG(AL4)/LOG(2))","v":0.39431744013391046},null,null,null,"U5=",{"$f":"AQ15/(LOG(AQ4)/LOG(2))","v":0.49897836076588498},null,null,null,"U6=",{"$f":"AV15/(LOG(AV4)/LOG(2))","v":0.59375638864018232}]
[21,1574,11,1592,11,1601,null,null,null,null,0,211]
[12,1718,13,1727,13,1737,null,null,null,null,0,111]
[21,1847,11,1862,11,1871,null,null,null,null,0,211,null,"Total Target Seq"]
[21,1979,11,1991,11,1999,null,null,null,null,0,211,null,{"$f":"COUNTIF(L7:L85,G3)","v":38},null,13,13,14,13,13,13]
[21,2098,11,2111,11,2119,null,null,null,null,0,211,null,null,null,"% of reinforcement given in 6 equal intervals based on number of trials "]
[21,2221,11,2235,11,2243,null,null,null,null,0,211,null,null,null,"%_1","%_2","%_3","%_4","%_5","%_6"]
[21,2346,11,2359,11,2366,null,null,null,null,0,211,null,null,"target sequence",{"$f":"$G$3","v":211},{"$f":"$G$3","v":211},{"$f":"$G$3","v":211},{"$f":"$G$3","v":211},{"$f":"$G$3","v":211},{"$f":"$G$3","v":211}]
[21,2467,11,2479,11,2488,null,null,null,null,0,211,null,null,"total reinforcement",{"$f":"U11","v":7},{"$f":"Z11","v":10},{"$f":"AE11","v":7},{"$f":"AJ11","v":7},{"$f":"AO11","v":3},{"$f":"AT11","v":4}]
[21,2622,11,2642,11,2650,null,null,null,null,0,211,null,null,"% target"]
[21,2754,11,2767,11,2778,null,null,null,null,0,211,null,null,"CCRF"]
[12,2867,24,2886,13,2899,null,null,null,null,0,121,null,null,"% CCRf"]
[21,3008,11,3020,11,3028,null,null,null,null,0,211,null,null,"average response rate",{"$f":"F19/P20","v":143.92307692307693},{"$f":"(F32-F19)/Q20","v":128.23076923076923},{"$f":"(F46-F32)/R20","v":128},{"$f":"(F59-F46)/S20","v":127.84615384615384},{"$f":"(F72-F59)/T20","v":126.53846153846153},{"$f":"(F85-F72)/U20","v":128.30769230769232}]
[12,3141,13,3149,13,3157,null,null,null,null,0,111]
[21,3261,22,3279,13,3292,null,null,null,null,0,221]
[21,3400,11,3412,11,3419,null,null,null,null,0,211]
[21,3518,11,3530,11,3538,null,null,null,null,0,211]
[21,3639,11,3652,11,3659,null,null,null,null,0,211]
[21,3780,11,3793,11,3801,null,null,null,null,0,211]
[21,3898,11,3913,11,3921,null,null,null,null,0,211]
[21,4014,22,4029,13,4041,null,null,null,null,0,221]
[21,4147,22,4160,13,4177,null,null,null,null,0,221]
[21,4282,22,4300,24,4318,null,null,null,null,0,222]
[21,4421,22,4429,13,4442,null,null,null,null,0,221]
[21,4543,22,4558,24,4567,null,null,null,null,0,222]
[21,4669,22,4674,13,4691,null,null,null,null,0,221]
[21,4802,11,4822,11,4831,null,null,null,null,0,211]
[12,4924,24,4936,13,4949,null,null,null,null,0,121]
[21,5054,11,5080,11,5088,null,null,null,null,0,211]
[21,5187,11,5203,11,5212,null,null,null,null,0,211]
[21,5311,11,5322,11,5330,null,null,null,null,0,211]
[12,5420,24,5429,13,5440,null,null,null,null,0,121]
[12,5575,13,5583,13,5591,null,null,null,null,0,111]
[21,5703,11,5720,11,5727,null,null,null,null,0,211]
[21,5823,22,5835,13,5849,null,null,null,null,0,221]
[21,5962,11,5975,11,5982,null,null,null,null,0,211]
[21,6081,11,6093,11,6101,null,null,null,null,0,211]
[21,6199,11,6211,11,6219,null,null,null,null,0,211]
[12,6307,24,6315,13,6328,null,null,null,null,0,121]
[21,6436,11,6450,11,6457,null,null,null,null,0,211]
[21,6572,11,6583,11,6590,null,null,null,null,0,211]
[12,6705,13,6714,13,6721,null,null,null,null,0,111]
[21,6842,11,6859,11,6867,null,null,null,null,0,211]
[12,6977,13,6984,13,6992,null,null,null,null,0,111]
[21,7097,22,7107,13,7122,null,null,null,null,0,221]
[12,7238,13,7246,13,7253,null,null,null,null,0,111]
[21,7359,11,7370,11,7378,null,null,null,null,0,211]
[21,7482,11,7493,11,7500,null,null,null,null,0,211]
[12,7588,13,7594,13,7601,null,null,null,null,0,111]
[12,7698,24,7710,13,7725,null,null,null,null,0,121]
[21,7831,11,7844,11,7851,null,null,null,null,0,211]
[12,7941,24,7949,13,7961,null,null,null,null,0,121]
[21,8062,22,8079,13,8094,null,null,null,null,0,221]
[12,8190,24,8226,13,8239,null,null,null,null,0,121]
[12,8336,24,8345,13,8357,null,null,null,null,0,121]
[12,8482,13,8490,13,8498,null,null,null,null,0,111]
[21,8608,22,8619,24,8637,null,null,null,null,0,222]
[21,8733,22,8739,24,8755,null,null,null,null,0,222]
[21,8879,11,8892,11,8908,null,null,null,null,0,211]
[12,9021,13,9028,13,9036,null,null,null,null,0,111]
[21,9143,22,9152,13,9166,null,null,null,null,0,221]
[21,9277,11,9292,11,9301,null,null,null,null,0,211]
[21,9396,11,9426,11,9433,null,null,null,null,0,211]
[12,9522,24,9530,13,9542,null,null,null,null,0,121]
[12,9639,24,9659,13,9673,null,null,null,null,0,121]
[12,9769,24,9779,13,9792,null,null,null,null,0,121]
[12,9888,24,9900,24,9913,null,null,null,null,0,122]
[21,10014,22,10034,13,10047,null,null,null,null,0,221]
[12,10143,24,10153,24,10169,null,null,null,null,0,122]
[21,10279,11,10297,11,10305,null,null,null,null,1,211]

{"sheet":"!M510A10.185","index":10,"n_rows":64,"n_cols":48,"rows_kept":64,"cut":false,"hidden":false,"merged":[[4,39,4,42],[5,39,5,40],[4,44,4,47],[5,44,5,45],[4,24,4,27],[5,24,5,25],[4,29,4,32],[5,29,5,30],[4,34,4,37],[5,34,5,35],[1,1,1,2],[5,13,5,14],[18,13,18,14],[19,13,19,14],[4,19,4,22],[5,19,5,20]]}
["Report for:!M510A10.185"]
["Date:","<date>"]
["Hen:","<hen>",null,null,null,"Correct Sequence",{"$f":"Start!J2","v":211},null,null,null,null,null,null,null,null,"Total Sequences in Data",{"$f":"4994-COUNTBLANK(L7:L5000)","v":58},null,null,null,null,"Total Sequences in Block Data",{"$f":"COUNTA(L7:L16)","v":10},null,null,null,"Total Sequences in Block Data",{"$f":"COUNTA(L17:L25)","v":9},null,null,null,"Total Sequences in Block Data",{"$f":"COUNTA(L26:L35)","v":10},null,null,null,"Total Sequences in Block Data",{"$f":"COUNTA(L36:L45)","v":10},null,null,null,"Total Sequences in Block Data",{"$f":"COUNTA(L46:L54)","v":9},null,null,null,"Total Sequences in Block Data",{"$f":"COUNTA(L55:L64)","v":10}]
[null,null,null,null,null,null,null,null,null,null,null,null,null,null,null,"Total Sequences in Summary",{"$f":"SUM(O7:O14)","v":58},null,null,null,null,"Total Sequences in Block Summary",{"$f":"SUM(U7:U14)","v":10},null,null,null,"Total Sequences in Block Summary",{"$f":"SUM(Z7:Z14)","v":9},null,null,null,"Total Sequences in Block Summary",{"$f":"SUM(AE7:AE14)","v":10},null,null,null,"Total Sequences in Block Summary",{"$f":"SUM(AJ7:AJ14)","v":10},null,null,null,"Total Sequences in Block Summary",{"$f":"SUM(AO7:AO14)","v":9},null,null,null,"Total Sequences in Block Summary",{"$f":"SUM(AT7:AT14)","v":10}]
[null,null,null,null,null,null,null,null,null,null,null,null,null,null,null,null,null,null,null,"Block 1",null,null,null,null,"Block 2",null,null,null,null,"Block 3",null,null,null,null,"Block 4",null,null,null,null,"Block 5",null,null,null,null,"Block 6"]
["Sequence\nComponent\n1","Time\n1","Sequence\nComponent\n2","Time\n2","Sequence\nComponent\n3","Time\n3","Sequence\nComponent\n4","Time\n4","Sequence\nComponent\n5","Time\n5","Correct?\n0=No 1=Yes","Sequence",null,"Frequency",null,"Relative Frequency","Variability",null,null,"Frequency",null,"Relative Frequency","Variability",null,"Frequency",null,"Relative Frequency","Variability",null,"Frequency",null,"Relative Frequency","Variability",null,"Frequency",null,"Relative Frequency","Variability",null,"Frequency",null,"Relative Frequency","Variability",null,"Frequency",null,"Relative Frequency","Variability"]
[12,44,24,81,13,110,null,null,null,null,0,121,null,111,{"$f":"COUNTIF($L$7:$L$500,N7)","v":8},{"$f":"O7/$Q$4","v":0.13793103448275862},{"$f":"IF(P7=0,0,(P7*((LOG(P7))/LOG(2))))","v":-0.39420427519000989},null,null,{"$f":"N7","v":111},{"$f":"COUNTIF(L7:L16,T7)","v":1},{"$f":"U7/(W4-U11)","v":0.5},{"$f":"IF(V7=0,0,(V7*((LOG(V7))/LOG(2))))","v":-0.5},null,{"$f":"N7","v":111},{"$f":"COUNTIF(L17:L25,Y7)","v":2},{"$f":"Z7/(AB4-Z11)","v":0.4},{"$f":"IF(AA7=0,0,(AA7*((LOG(AA7))/LOG(2))))","v":-0.52877123795494496},null,{"$f":"N7","v":111},{"$f":"COUNTIF(L26:L35,AD7)","v":0},{"$f":"AE7/(AG4-AE11)","v":0},{"$f":"IF(AF7=0,0,(AF7*((LOG(AF7))/LOG(2))))","v":0},null,{"$f":"N7","v":111},{"$f":"COUNTIF(L36:L45,AI7)","v":0},{"$f":"AJ7/(AL4-AJ11)","v":0},{"$f":"IF(AK7=0,0,(AK7*((LOG(AK7))/LOG(2))))","v":0},null,{"$f":"N7","v":111},{"$f":"COUNTIF(L46:L54,AN7)","v":2},{"$f":"AO7/(AQ4-AO11)","v":1},{"$f":"IF(AP7=0,0,(AP7*((LOG(AP7))/LOG(2))))","v":0},null,{"$f":"N7","v":111},{"$f":"COUNTIF(L55:L64,AS7)","v":3},{"$f":"AT7/(AV4-AT11)","v":0.5},{"$f":"IF(AU7=0,0,(AU7*((LOG(AU7))/LOG(2))))","v":-0.5}]
[21,247,11,260,11,269,null,null,null,null,0,211,null,112,{"$f":"COUNTIF($L$7:$L$500,N8)","v":1},{"$f":"O8/$Q$4","v":1.7241379310344827E-2},{"$f":"IF(P8=0,0,(P8*((LOG(P8))/LOG(2))))","v":-0.10099967232978573},null,null,{"$f":"N8","v":112},{"$f":"COUNTIF(L7:L16,T8)","v":0},{"$f":"U8/(W4-U11)","v":0},{"$f":"IF(V8=0,0,(V8*((LOG(V8))/LOG(2))))","v":0},null,{"$f":"N8","v":112},{"$f":"COUNTIF(L17:L25,Y8)","v":1},{"$f":"Z8/(AB4-Z11)","v":0.2},{"$f":"IF(AA8=0,0,(AA8*((LOG(AA8))/LOG(2))))","v":-0.46438561897747244},null,{"$f":"N8","v":112},{"$f":"COUNTIF(L26:L35,AD8)","v":0},{"$f":"AE8/(AG4-AE11)","v":0},{"$f":"IF(AF8=0,0,(AF8*((LOG(AF8))/LOG(2))))","v":0},null,{"$f":"N8","v":112},{"$f":"COUNTIF(L36:L45,AI8)","v":0},{"$f":"AJ8/(AL4-AJ11)","v":0},{"$f":"IF(AK8=0,0,(AK8*((LOG(AK8))/LOG(2))))","v":0},null,{"$f":"N8","v":112},{"$f":"COUNTIF(L46:L54,AN8)","v":0},{"$f":"AO8/(AQ4-AO11)","v":0},{"$f":"IF(AP8=0,0,(AP8*((LOG(AP8))/LOG(2))))","v":0},null,{"$f":"N8","v":112},{"$f":"COUNTIF(L55:L64,AS8)","v":0},{"$f":"AT8/(AV4-AT11)","v":0},{"$f":"IF(AU8=0,0,(AU8*((LOG(AU8))/LOG(2))))","v":0}]
[21,377,11,391,11,398,null,null,null,null,0,211,null,121,{"$f":"COUNTIF($L$7:$L$500,N9)","v":4},{"$f":"O9/$Q$4","v":6.8965517241379309E-2},{"$f":"IF(P9=0,0,(P9*((LOG(P9))/LOG(2))))","v":-0.26606765483638428},null,null,{"$f":"N9","v":121},{"$f":"COUNTIF(L7:L16,T9)","v":1},{"$f":"U9/(W4-U11)","v":0.5},{"$f":"IF(V9=0,0,(V9*((LOG(V9))/LOG(2))))","v":-0.5},null,{"$f":"N9","v":121},{"$f":"COUNTIF(L17:L25,Y9)","v":0},{"$f":"Z9/(AB4-Z11)","v":0},{"$f":"IF(AA9=0,0,(AA9*((LOG(AA9))/LOG(2))))","v":0},null,{"$f":"N9","v":121},{"$f":"COUNTIF(L26:L35,AD9)","v":1},{"$f":"AE9/(AG4-AE11)","v":0.33333333333333331},{"$f":"IF(AF9=0,0,(AF9*((LOG(AF9))/LOG(2))))","v":-0.52832083357371862},null,{"$f":"N9","v":121},{"$f":"COUNTIF(L36:L45,AI9)","v":1},{"$f":"AJ9/(AL4-AJ11)","v":1},{"$f":"IF(AK9=0,0,(AK9*((LOG(AK9))/LOG(2))))","v":0},null,{"$f":"N9","v":121},{"$f":"COUNTIF(L46:L54,AN9)","v":0},{"$f":"AO9/(AQ4-AO11)","v":0},{"$f":"IF(AP9=0,0,(AP9*((LOG(AP9))/LOG(2))))","v":0},null,{"$f":"N9","v":121},{"$f":"COUNTIF(L55:L64,AS9)","v":1},{"$f":"AT9/(AV4-AT11)","v":0.16666666666666666},{"$f":"IF(AU9=0,0,(AU9*((LOG(AU9))/LOG(2))))","v":-0.43082708345352599}]
[12,519,13,527,13,553,null,null,null,null,0,111,null,122,{"$f":"COUNTIF($L$7:$L$500,N10)","v":0},{"$f":"O10/$Q$4","v":0},{"$f":"IF(P10=0,0,(P10*((LOG(P10))/LOG(2))))","v":0},null,null,{"$f":"N10","v":122},{"$f":"COUNTIF(L7:L16,T10)","v":0},{"$f":"U10/(W4-U11)","v":0},{"$f":"IF(V10=0,0,(V10*((LOG(V10))/LOG(2))))","v":0},null,{"$f":"N10","v":122},{"$f":"COUNTIF(L17:L25,Y10)","v":0},{"$f":"Z10/(AB4-Z11)","v":0},{"$f":"IF(AA10=0,0,(AA10*((LOG(AA10))/LOG(2))))","v":0},null,{"$f":"N10","v":122},{"$f":"COUNTIF(L26:L35,AD10)","v":0},{"$f":"AE10/(AG4-AE11)","v":0},{"$f":"IF(AF10=0,0,(AF10*((LOG(AF10))/LOG(2))))","v":0},null,{"$f":"N10","v":122},{"$f":"COUNTIF(L36:L45,AI10)","v":0},{"$f":"AJ10/(AL4-AJ11)","v":0},{"$f":"IF(AK10=0,0,(AK10*((LOG(AK10))/LOG(2))))","v":0},null,{"$f":"N10","v":122},{"$f":"COUNTIF(L46:L54,AN10)","v":0},{"$f":"AO10/(AQ4-AO11)","v":0},{"$f":"IF(AP10=0,0,(AP10*((LOG(AP10))/LOG(2))))","v":0},null,{"$f":"N10","v":122},{"$f":"COUNTIF(L55:L64,AS10)","v":0},{"$f":"AT10/(AV4-AT11)","v":0},{"$f":"IF(AU10=0,0,(AU10*((LOG(AU10))/LOG(2))))","v":0}]
[21,669,11,682,11,691,null,null,null,null,0,211,null,211,{"$f":"COUNTIF($L$7:$L$500,N11)","v":39},{"$f":"O11/$Q$4","v":0.67241379310344829},{"$f":"IF(P11=0,0,(P11*((LOG(P11))/LOG(2))))","v":-0.38500986679909699},null,null,{"$f":"N11","v":211},{"$f":"COUNTIF(L7:L16,T11)","v":8},null,null,null,{"$f":"N11","v":211},{"$f":"COUNTIF(L17:L25,Y11)","v":4},null,null,null,{"$f":"N11","v":211},{"$f":"COUNTIF(L26:L35,AD11)","v":7},null,null,null,{"$f":"N11","v":211},{"$f":"COUNTIF(L36:L45,AI11)","v":9},null,null,null,{"$f":"N11","v":211},{"$f":"COUNTIF(L46:L54,AN11)","v":7},null,null,null,{"$f":"N11","v":211},{"$f":"COUNTIF(L55:L64,AS11)","v":4}]
[21,814,11,829,11,837,null,null,null,null,0,211,null,212,{"$f":"COUNTIF($L$7:$L$500,N12)","v":0},{"$f":"O12/$Q$4","v":0},{"$f":"IF(P12=0,0,(P12*((LOG(P12))/LOG(2))))","v":0},null,null,{"$f":"N12","v":212},{"$f":"COUNTIF(L7:L16,T12)","v":0},{"$f":"U12/(W4-U11)","v":0},{"$f":"IF(V12=0,0,(V12*((LOG(V12))/LOG(2))))","v":0},null,{"$f":"N12","v":212},{"$f":"COUNTIF(L17:L25,Y12)","v":0},{"$f":"Z12/(AB4-Z11)","v":0},{"$f":"IF(AA12=0,0,(AA12*((LOG(AA12))/LOG(2))))","v":0},null,{"$f":"N12","v":212},{"$f":"COUNTIF(L26:L35,AD12)","v":0},{"$f":"AE12/(AG4-AE11)","v":0},{"$f":"IF(AF12=0,0,(AF12*((LOG(AF12))/LOG(2))))","v":0},null,{"$f":"N12","v":212},{"$f":"COUNTIF(L36:L45,AI12)","v":0},{"$f":"AJ12/(AL4-AJ11)","v":0},{"$f":"IF(AK12=0,0,(AK12*((LOG(AK12))/LOG(2))))","v":0},null,{"$f":"N12","v":212},{"$f":"COUNTIF(L46:L54,AN12)","v":0},{"$f":"AO12/(AQ4-AO11)","v":0},{"$f":"IF(AP12=0,0,(AP12*((LOG(AP12))/LOG(2))))","v":0},null,{"$f":"N12","v":212},{"$f":"COUNTIF(L55:L64,AS12)","v":0},{"$f":"AT12/(AV4-AT11)","v":0},{"$f":"IF(AU12=0,0,(AU12*((LOG(AU12))/LOG(2))))","v":0}]
[21,939,11,952,11,959,null,null,null,null,0,211,null,221,{"$f":"COUNTIF($L$7:$L$500,N13)","v":5},{"$f":"O13/$Q$4","v":8.6206896551724144E-2},{"$f":"IF(P13=0,0,(P13*((LOG(P13))/LOG(2))))","v":-0.30483214657243185},null,null,{"$f":"N13","v":221},{"$f":"COUNTIF(L7:L16,T13)","v":0},{"$f":"U13/(W4-U11)","v":0},{"$f":"IF(V13=0,0,(V13*((LOG(V13))/LOG(2))))","v":0},null,{"$f":"N13","v":221},{"$f":"COUNTIF(L17:L25,Y13)","v":2},{"$f":"Z13/(AB4-Z11)","v":0.4},{"$f":"IF(AA13=0,0,(AA13*((LOG(AA13))/LOG(2))))","v":-0.52877123795494496},null,{"$f":"N13","v":221},{"$f":"COUNTIF(L26:L35,AD13)","v":1},{"$f":"AE13/(AG4-AE11)","v":0.33333333333333331},{"$f":"IF(AF13=0,0,(AF13*((LOG(AF13))/LOG(2))))","v":-0.52832083357371862},null,{"$f":"N13","v":221},{"$f":"COUNTIF(L36:L45,AI13)","v":0},{"$f":"AJ13/(AL4-AJ11)","v":0},{"$f":"IF(AK13=0,0,(AK13*((LOG(AK13))/LOG(2))))","v":0},null,{"$f":"N13","v":221},{"$f":"COUNTIF(L46:L54,AN13)","v":0},{"$f":"AO13/(AQ4-AO11)","v":0},{"$f":"IF(AP13=0,0,(AP13*((LOG(AP13))/LOG(2))))","v":0},null,{"$f":"N13","v":221},{"$f":"COUNTIF(L55:L64,AS13)","v":2},{"$f":"AT13/(AV4-AT11)","v":0.33333333333333331},{"$f":"IF(AU13=0,0,(AU13*((LOG(AU13))/LOG(2))))","v":-0.52832083357371862}]
[21,1057,11,1068,11,1076,null,null,null,null,0,211,null,222,{"$f":"COUNTIF($L$7:$L$500,N14)","v":1},{"$f":"O14/$Q$4","v":1.7241379310344827E-2},{"$f":"IF(P14=0,0,(P14*((LOG(P14))/LOG(2))))","v":-0.10099967232978573},null,null,{"$f":"N14","v":222},{"$f":"COUNTIF(L7:L16,T14)","v":0},{"$f":"U14/(W4-U11)","v":0},{"$f":"IF(V14=0,0,(V14*((LOG(V14))/LOG(2))))","v":0},null,{"$f":"N14","v":222},{"$f":"COUNTIF(L17:L25,Y14)","v":0},{"$f":"Z14/(AB4-Z11)","v":0},{"$f":"IF(AA14=0,0,(AA14*((LOG(AA14))/LOG(2))))","v":0},null,{"$f":"N14","v":222},{"$f":"COUNTIF(L26:L35,AD14)","v":1},{"$f":"AE14/(AG4-AE11)","v":0.33333333333333331},{"$f":"IF(AF14=0,0,(AF14*((LOG(AF14))/LOG(2))))","v":-0.52832083357371862},null,{"$f":"N14","v":222},{"$f":"COUNTIF(L36:L45,AI14)","v":0},{"$f":"AJ14/(AL4-AJ11)","v":0},{"$f":"IF(AK14=0,0,(AK14*((LOG(AK14))/LOG(2))))","v":0},null,{"$f":"N14","v":222},{"$f":"COUNTIF(L46:L54,AN14)","v":0},{"$f":"AO14/(AQ4-AO11)","v":0},{"$f":"IF(AP14=0,0,(AP14*((LOG(AP14))/LOG(2))))","v":0},null,{"$f":"N14","v":222},{"$f":"COUNTIF(L55:L64,AS14)","v":0},{"$f":"AT14/(AV4-AT11)","v":0},{"$f":"IF(AU14=0,0,(AU14*((LOG(AU14))/LOG(2))))","v":0}]
[21,1178,11,1190,11,1198,null,null,null,null,0,211,null,null,null,{"$f":"SUM(P7:P14)","v":1},{"$f":"-SUM(Q7:Q14)","v":1.5521132880574944},null,null,null,null,{"$f":"SUM(V7:V14)","v":1},{"$f":"-SUM(W7:W14)","v":1},null,null,null,{"$f":"SUM(AA7:AA14)","v":1},{"$f":"-SUM(AB7:AB14)","v":1.5219280948873624},null,null,null,{"$f":"SUM(AF7:AF14)","v":1},{"$f":"-SUM(AG7:AG14)","v":1.5849625007211559},null,null,null,{"$f":"SUM(AK7:AK14)","v":1},{"$f":"-SUM(AL7:AL14)","v":0},null,null,null,{"$f":"SUM(AP7:AP14)","v":1},{"$f":"-SUM(AQ7:AQ14)","v":0},null,null,null,{"$f":"SUM(AU7:AU14)","v":1},{"$f":"-SUM(AV7:AV14)","v":1.4591479170272446}]
[21,1296,11,1311,11,1319,null,null,null,null,0,211,null,null,null,"U=",{"$f":"Q15/(LOG(Q4)/LOG(2))","v":0.26495703713420693},null,null,null,null,"U1=",{"$f":"W15/(LOG(W4)/LOG(2))","v":0.3010299956639812},null,null,null,"U2=",{"$f":"AB15/(LOG(AB4)/LOG(2))","v":0.48011485893038064},null,null,null,"U3=",{"$f":"AG15/(LOG(AG4)/LOG(2))","v":0.47712125471966238},null,null,null,"U4=",{"$f":"AL15/(LOG(AL4)/LOG(2))","v":0},null,null,null,"U5=",{"$f":"AQ15/(LOG(AQ4)/LOG(2))","v":0},null,null,null,"U6=",{"$f":"AV15/(LOG(AV4)/LOG(2))","v":0.43924729113581862}]
[21,1417,11,1429,11,1437,null,null,null,null,0,211]
[12,1550,13,1566,24,1599,null,null,null,null,0,112]
[12,1710,13,1717,13,1724,null,null,null,null,0,111,null,"Total Target Seq"]
[21,1827,22,1846,13,1858,null,null,null,null,0,221,null,{"$f":"COUNTIF(L7:L64,G3)","v":39},null,10,9,10,10,9,10]
[21,1961,22,1970,13,1987,null,null,null,null,0,221,null,null,null,"% of reinforcement given in 6 equal intervals based on number of trials "]
[12,2119,13,2126,13,2134,null,null,null,null,0,111,null,null,null,"%_1","%_2","%_3","%_4","%_5","%_6"]
[21,2237,11,2249,11,2256,null,null,null,null,0,211,null,null,"target sequence",{"$f":"$G$3","v":211},{"$f":"$G$3","v":211},{"$f":"$G$3","v":211},{"$f":"$G$3","v":211},{"$f":"$G$3","v":211},{"$f":"$G$3","v":211}]
[21,2355,11,2367,11,2374,null,null,null,null,0,211,null,null,"total reinforcement",{"$f":"U11","v":8},{"$f":"Z11","v":4},{"$f":"AE11","v":7},{"$f":"AJ11","v":9},{"$f":"AO11","v":7},{"$f":"AT11","v":4}]
[21,2495,11,2508,11,2515,null,null,null,null,0,211,null,null,"% target"]
[21,2615,11,2627,11,2635,null,null,null,null,0,211,null,null,"CCRF"]
[21,2730,11,2739,11,2745,null,null,null,null,0,211,null,null,"% CCRf"]
[21,2840,11,2851,11,2858,null,null,null,null,0,211,null,null,"average response rate",{"$f":"F16/P20","v":131.9},{"$f":"(F25-F16)/Q20","v":132.88888888888889},{"$f":"(F35-F25)/R20","v":125.6},{"$f":"(F45-F35)/S20","v":124.4},{"$f":"(F54-F45)/T20","v":123.22222222222223},{"$f":"(F64-F54)/U20","v":125.3}]
[21,2958,11,2998,11,3006,null,null,null,null,0,211]
[21,3110,11,3124,11,3131,null,null,null,null,0,211]
[12,3220,24,3229,13,3241,null,null,null,null,0,121]
[21,3351,22,3369,24,3397,null,null,null,null,0,222]
[21,3504,11,3516,11,3523,null,null,null,null,0,211]
[21,3622,22,3635,13,3649,null,null,null,null,0,221]
[21,3752,11,3764,11,3771,null,null,null,null,0,211]
[21,3869,11,3882,11,3889,null,null,null,null,0,211]
[21,3987,11,3999,11,4007,null,null,null,null,0,211]
[21,4125,11,4135,11,4143,null,null,null,null,0,211]
[21,4248,11,4258,11,4265,null,null,null,null,0,211]
[21,4363,11,4375,11,4389,null,null,null,null,0,211]
[21,4502,11,4514,11,4521,null,null,null,null,0,211]
[21,4619,11,4632,11,4639,null,null,null,null,0,211]
[12,4737,24,4754,13,4766,null,null,null,null,0,121]
[21,4881,11,4893,11,4901,null,null,null,null,0,211]
[21,4996,11,5008,11,5015,null,null,null,null,0,211]
[12,5126,13,5133,13,5141,null,null,null,null,0,111]
[21,5248,11,5260,11,5267,null,null,null,null,0,211]
[21,5365,11,5377,11,5384,null,null,null,null,0,211]
[12,5488,13,5495,13,5514,null,null,null,null,0,111]
[21,5621,11,5634,11,5641,null,null,null,null,0,211]
[21,5738,11,5750,11,5756,null,null,null,null,0,211]
[21,5857,11,5869,11,5876,null,null,null,null,0,211]
[21,5974,11,5988,11,5994,null,null,null,null,0,211]
[21,6104,11,6116,11,6124,null,null,null,null,0,211]
[12,6235,13,6245,13,6252,null,null,null,null,0,111]
[21,6361,11,6371,11,6378,null,null,null,null,0,211]
[21,6477,22,6488,13,6501,null,null,null,null,0,221]
[21,6612,11,6625,11,6632,null,null,null,null,0,211]
[21,6733,22,6749,13,6762,null,null,null,null,0,221]
[21,6867,11,6880,11,6888,null,null,null,null,0,211]
[12,6979,13,7003,13,7010,null,null,null,null,0,111]
[12,7106,24,7124,13,7136,null,null,null,null,0,121]
[12,7232,13,7239,13,7247,null,null,null,null,0,111]
[21,7356,11,7370,11,7377,null,null,null,null,1,211]

{"sheet":"!M511A30.185","index":11,"n_rows":106,"n_cols":48,"rows_kept":106,"cut":false,"hidden":false,"merged":[[4,39,4,42],[5,39,5,40],[4,44,4,47],[5,44,5,45],[4,24,4,27],[5,24,5,25],[4,29,4,32],[5,29,5,30],[4,34,4,37],[5,34,5,35],[1,1,1,2],[5,13,5,14],[18,13,18,14],[19,13,19,14],[4,19,4,22],[5,19,5,20]]}
["Report for:!M511A30.185"]
["Date:","<date>"]
["Hen:","<hen>",null,null,null,"Correct Sequence",{"$f":"Start!J2","v":211},null,null,null,null,null,null,null,null,"Total Sequences in Data",{"$f":"4994-COUNTBLANK(L7:L5000)","v":100},null,null,null,null,"Total Sequences in Block Data",{"$f":"COUNTA(L7:L23)","v":17},null,null,null,"Total Sequences in Block Data",{"$f":"COUNTA(L24:L39)","v":16},null,null,null,"Total Sequences in Block Data",{"$f":"COUNTA(L40:L56)","v":17},null,null,null,"Total Sequences in Block Data",{"$f":"COUNTA(L57:L73)","v":17},null,null,null,"Total Sequences in Block Data",{"$f":"COUNTA(L74:L89)","v":16},null,null,null,"Total Sequences in Block Data",{"$f":"COUNTA(L90:L106)","v":17}]
[null,null,null,null,null,null,null,null,null,null,null,null,null,null,null,"Total Sequences in Summary",{"$f":"SUM(O7:O14)","v":100},null,null,null,null,"Total Sequences in Block Summary",{"$f":"SUM(U7:U14)","v":17},null,null,null,"Total Sequences in Block Summary",{"$f":"SUM(Z7:Z14)","v":16},null,null,null,"Total Sequences in Block Summary",{"$f":"SUM(AE7:AE14)","v":17},null,null,null,"Total Sequences in Block Summary",{"$f":"SUM(AJ7:AJ14)","v":17},null,null,null,"Total Sequences in Block Summary",{"$f":"SUM(AO7:AO14)","v":16},null,null,null,"Total Sequences in Block Summary",{"$f":"SUM(AT7:AT14)","v":17}]
[null,null,null,null,null,null,null,null,null,null,null,null,null,null,null,null,null,null,null,"Block 1",null,null,null,null,"Block 2",null,null,null,null,"Block 3",null,null,null,null,"Block 4",null,null,null,null,"Block 5",null,null,null,null,"Block 6"]
["Sequence\nComponent\n1","Time\n1","Sequence\nComponent\n2","Time\n2","Sequence\nComponent\n3","Time\n3","Sequence\nComponent\n4","Time\n4","Sequence\nComponent\n5","Time\n5","Correct?\n0=No 1=Yes","Sequence",null,"Frequency",null,"Relative Frequency","Variability",null,null,"Frequency",null,"Relative Frequency","Variability",null,"Frequency",null,"Relative Frequency","Variability",null,"Frequency",null,"Relative Frequency","Variability",null,"Frequency",null,"Relative Frequency","Variability",null,"Frequency",null,"Relative Frequency","Variability",null,"Frequency",null,"Relative Frequency","Variability"]
[21,19,11,34,22,47,null,null,null,null,0,212,null,111,{"$f":"COUNTIF($L$7:$L$500,N7)","v":45},{"$f":"O7/$Q$4","v":0.45},{"$f":"IF(P7=0,0,(P7*((LOG(P7))/LOG(2))))","v":-0.51840139205027258},null,null,{"$f":"N7","v":111},{"$f":"COUNTIF(L7:L23,T7)","v":5},{"$f":"U7/(W4-U11)","v":0.7142857142857143},{"$f":"IF(V7=0,0,(V7*((LOG(V7))/LOG(2))))","v":-0.34673344797874411},null,{"$f":"N7","v":111},{"$f":"COUNTIF(L24:L39,Y7)","v":13},{"$f":"Z7/(AB4-Z11)","v":1},{"$f":"IF(AA7=0,0,(AA7*((LOG(AA7))/LOG(2))))","v":0},null,{"$f":"N7","v":111},{"$f":"COUNTIF(L40:L56,AD7)","v":8},{"$f":"AE7/(AG4-AE11)","v":0.66666666666666663},{"$f":"IF(AF7=0,0,(AF7*((LOG(AF7))/LOG(2))))","v":-0.38997500048077083},null,{"$f":"N7","v":111},{"$f":"COUNTIF(L57:L73,AI7)","v":6},{"$f":"AJ7/(AL4-AJ11)","v":0.42857142857142855},{"$f":"IF(AK7=0,0,(AK7*((LOG(AK7))/LOG(2))))","v":-0.52388246628704915},null,{"$f":"N7","v":111},{"$f":"COUNTIF(L74:L89,AN7)","v":6},{"$f":"AO7/(AQ4-AO11)","v":0.8571428571428571},{"$f":"IF(AP7=0,0,(AP7*((LOG(AP7))/LOG(2))))","v":-0.19062207543124113},null,{"$f":"N7","v":111},{"$f":"COUNTIF(L90:L106,AS7)","v":7},{"$f":"AT7/(AV4-AT11)","v":0.875},{"$f":"IF(AU7=0,0,(AU7*((LOG(AU7))/LOG(2))))","v":-0.1685644431995964}]
[21,153,11,165,11,172,null,null,null,null,0,211,null,112,{"$f":"COUNTIF($L$7:$L$500,N8)","v":0},{"$f":"O8/$Q$4","v":0},{"$f":"IF(P8=0,0,(P8*((LOG(P8))/LOG(2))))","v":0},null,null,{"$f":"N8","v":112},{"$f":"COUNTIF(L7:L23,T8)","v":0},{"$f":"U8/(W4-U11)","v":0},{"$f":"IF(V8=0,0,(V8*((LOG(V8))/LOG(2))))","v":0},null,{"$f":"N8","v":112},{"$f":"COUNTIF(L24:L39,Y8)","v":0},{"$f":"Z8/(AB4-Z11)","v":0},{"$f":"IF(AA8=0,0,(AA8*((LOG(AA8))/LOG(2))))","v":0},null,{"$f":"N8","v":112},{"$f":"COUNTIF(L40:L56,AD8)","v":0},{"$f":"AE8/(AG4-AE11)","v":0},{"$f":"IF(AF8=0,0,(AF8*((LOG(AF8))/LOG(2))))","v":0},null,{"$f":"N8","v":112},{"$f":"COUNTIF(L57:L73,AI8)","v":0},{"$f":"AJ8/(AL4-AJ11)","v":0},{"$f":"IF(AK8=0,0,(AK8*((LOG(AK8))/LOG(2))))","v":0},null,{"$f":"N8","v":112},{"$f":"COUNTIF(L74:L89,AN8)","v":0},{"$f":"AO8/(AQ4-AO11)","v":0},{"$f":"IF(AP8=0,0,(AP8*((LOG(AP8))/LOG(2))))","v":0},null,{"$f":"N8","v":112},{"$f":"COUNTIF(L90:L106,AS8)","v":0},{"$f":"AT8/(AV4-AT11)","v":0},{"$f":"IF(AU8=0,0,(AU8*((LOG(AU8))/LOG(2))))","v":0}]
[21,270,11,282,11,297,null,null,null,null,0,211,null,121,{"$f":"COUNTIF($L$7:$L$500,N9)","v":6},{"$f":"O9/$Q$4","v":0.06},{"$f":"IF(P9=0,0,(P9*((LOG(P9))/LOG(2))))","v":-0.2435336213432141},null,null,{"$f":"N9","v":121},{"$f":"COUNTIF(L7:L23,T9)","v":0},{"$f":"U9/(W4-U11)","v":0},{"$f":"IF(V9=0,0,(V9*((LOG(V9))/LOG(2))))","v":0},null,{"$f":"N9","v":121},{"$f":"COUNTIF(L24:L39,Y9)","v":0},{"$f":"Z9/(AB4-Z11)","v":0},{"$f":"IF(AA9=0,0,(AA9*((LOG(AA9))/LOG(2))))","v":0},null,{"$f":"N9","v":121},{"$f":"COUNTIF(L40:L56,AD9)","v":3},{"$f":"AE9/(AG4-AE11)","v":0.25},{"$f":"IF(AF9=0,0,(AF9*((LOG(AF9))/LOG(2))))","v":-0.5},null,{"$f":"N9","v":121},{"$f":"COUNTIF(L57:L73,AI9)","v":2},{"$f":"AJ9/(AL4-AJ11)","v":0.14285714285714285},{"$f":"IF(AK9=0,0,(AK9*((LOG(AK9))/LOG(2))))","v":-0.40105070315108626},null,{"$f":"N9","v":121},{"$f":"COUNTIF(L74:L89,AN9)","v":0},{"$f":"AO9/(AQ4-AO11)","v":0},{"$f":"IF(AP9=0,0,(AP9*((LOG(AP9))/LOG(2))))","v":0},null,{"$f":"N9","v":121},{"$f":"COUNTIF(L90:L106,AS9)","v":1},{"$f":"AT9/(AV4-AT11)","v":0.125},{"$f":"IF(AU9=0,0,(AU9*((LOG(AU9))/LOG(2))))","v":-0.375}]
[12,409,13,416,13,425,null,null,null,null,0,111,null,122,{"$f":"COUNTIF($L$7:$L$500,N10)","v":0},{"$f":"O10/$Q$4","v":0},{"$f":"IF(P10=0,0,(P10*((LOG(P10))/LOG(2))))","v":0},null,null,{"$f":"N10","v":122},{"$f":"COUNTIF(L7:L23,T10)","v":0},{"$f":"U10/(W4-U11)","v":0},{"$f":"IF(V10=0,0,(V10*((LOG(V10))/LOG(2))))","v":0},null,{"$f":"N10","v":122},{"$f":"COUNTIF(L24:L39,Y10)","v":0},{"$f":"Z10/(AB4-Z11)","v":0},{"$f":"IF(AA10=0,0,(AA10*((LOG(AA10))/LOG(2))))","v":0},null,{"$f":"N10","v":122},{"$f":"COUNTIF(L40:L56,AD10)","v":0},{"$f":"AE10/(AG4-AE11)","v":0},{"$f":"IF(AF10=0,0,(AF10*((LOG(AF10))/LOG(2))))","v":0},null,{"$f":"N10","v":122},{"$f":"COUNTIF(L57:L73,AI10)","v":0},{"$f":"AJ10/(AL4-AJ11)","v":0},{"$f":"IF(AK10=0,0,(AK10*((LOG(AK10))/LOG(2))))","v":0},null,{"$f":"N10","v":122},{"$f":"COUNTIF(L74:L89,AN10)","v":0},{"$f":"AO10/(AQ4-AO11)","v":0},{"$f":"IF(AP10=0,0,(AP10*((LOG(AP10))/LOG(2))))","v":0},null,{"$f":"N10","v":122},{"$f":"COUNTIF(L90:L106,AS10)","v":0},{"$f":"AT10/(AV4-AT11)","v":0},{"$f":"IF(AU10=0,0,(AU10*((LOG(AU10))/LOG(2))))","v":0}]
[21,538,11,549,11,600,null,null,null,null,0,211,null,211,{"$f":"COUNTIF($L$7:$L$500,N11)","v":39},{"$f":"O11/$Q$4","v":0.39},{"$f":"IF(P11=0,0,(P11*((LOG(P11))/LOG(2))))","v":-0.52979704865586574},null,null,{"$f":"N11","v":211},{"$f":"COUNTIF(L7:L23,T11)","v":10},null,null,null,{"$f":"N11","v":211},{"$f":"COUNTIF(L24:L39,Y11)","v":3},null,null,null,{"$f":"N11","v":211},{"$f":"COUNTIF(L40:L56,AD11)","v":5},null,null,null,{"$f":"N11","v":211},{"$f":"COUNTIF(L57:L73,AI11)","v":3},null,null,null,{"$f":"N11","v":211},{"$f":"COUNTIF(L74:L89,AN11)","v":9},null,null,null,{"$f":"N11","v":211},{"$f":"COUNTIF(L90:L106,AS11)","v":9}]
[21,699,11,709,11,717,null,null,null,null,0,211,null,212,{"$f":"COUNTIF($L$7:$L$500,N12)","v":2},{"$f":"O12/$Q$4","v":0.02},{"$f":"IF(P12=0,0,(P12*((LOG(P12))/LOG(2))))","v":-0.11287712379549449},null,null,{"$f":"N12","v":212},{"$f":"COUNTIF(L7:L23,T12)","v":1},{"$f":"U12/(W4-U11)","v":0.14285714285714285},{"$f":"IF(V12=0,0,(V12*((LOG(V12))/LOG(2))))","v":-0.40105070315108626},null,{"$f":"N12","v":212},{"$f":"COUNTIF(L24:L39,Y12)","v":0},{"$f":"Z12/(AB4-Z11)","v":0},{"$f":"IF(AA12=0,0,(AA12*((LOG(AA12))/LOG(2))))","v":0},null,{"$f":"N12","v":212},{"$f":"COUNTIF(L40:L56,AD12)","v":0},{"$f":"AE12/(AG4-AE11)","v":0},{"$f":"IF(AF12=0,0,(AF12*((LOG(AF12))/LOG(2))))","v":0},null,{"$f":"N12","v":212},{"$f":"COUNTIF(L57:L73,AI12)","v":1},{"$f":"AJ12/(AL4-AJ11)","v":7.1428571428571425E-2},{"$f":"IF(AK12=0,0,(AK12*((LOG(AK12))/LOG(2))))","v":-0.27195392300411453},null,{"$f":"N12","v":212},{"$f":"COUNTIF(L74:L89,AN12)","v":0},{"$f":"AO12/(AQ4-AO11)","v":0},{"$f":"IF(AP12=0,0,(AP12*((LOG(AP12))/LOG(2))))","v":0},null,{"$f":"N12","v":212},{"$f":"COUNTIF(L90:L106,AS12)","v":0},{"$f":"AT12/(AV4-AT11)","v":0},{"$f":"IF(AU12=0,0,(AU12*((LOG(AU12))/LOG(2))))","v":0}]
[12,825,13,832,13,840,null,null,null,null,0,111,null,221,{"$f":"COUNTIF($L$7:$L$500,N13)","v":6},{"$f":"O13/$Q$4","v":0.06},{"$f":"IF(P13=0,0,(P13*((LOG(P13))/LOG(2))))","v":-0.2435336213432141},null,null,{"$f":"N13","v":221},{"$f":"COUNTIF(L7:L23,T13)","v":0},{"$f":"U13/(W4-U11)","v":0},{"$f":"IF(V13=0,0,(V13*((LOG(V13))/LOG(2))))","v":0},null,{"$f":"N13","v":221},{"$f":"COUNTIF(L24:L39,Y13)","v":0},{"$f":"Z13/(AB4-Z11)","v":0},{"$f":"IF(AA13=0,0,(AA13*((LOG(AA13))/LOG(2))))","v":0},null,{"$f":"N13","v":221},{"$f":"COUNTIF(L40:L56,AD13)","v":1},{"$f":"AE13/(AG4-AE11)","v":8.3333333333333329E-2},{"$f":"IF(AF13=0,0,(AF13*((LOG(AF13))/LOG(2))))","v":-0.29874687506009634},null,{"$f":"N13","v":221},{"$f":"COUNTIF(L57:L73,AI13)","v":4},{"$f":"AJ13/(AL4-AJ11)","v":0.2857142857142857},{"$f":"IF(AK13=0,0,(AK13*((LOG(AK13))/LOG(2))))","v":-0.51638712058788683},null,{"$f":"N13","v":221},{"$f":"COUNTIF(L74:L89,AN13)","v":1},{"$f":"AO13/(AQ4-AO11)","v":0.14285714285714285},{"$f":"IF(AP13=0,0,(AP13*((LOG(AP13))/LOG(2))))","v":-0.40105070315108626},null,{"$f":"N13","v":221},{"$f":"COUNTIF(L90:L106,AS13)","v":0},{"$f":"AT13/(AV4-AT11)","v":0},{"$f":"IF(AU13=0,0,(AU13*((LOG(AU13))/LOG(2))))","v":0}]
[21,949,11,960,11,967,null,null,null,null,0,211,null,222,{"$f":"COUNTIF($L$7:$L$500,N14)","v":2},{"$f":"O14/$Q$4","v":0.02},{"$f":"IF(P14=0,0,(P14*((LOG(P14))/LOG(2))))","v":-0.11287712379549449},null,null,{"$f":"N14","v":222},{"$f":"COUNTIF(L7:L23,T14)","v":1},{"$f":"U14/(W4-U11)","v":0.14285714285714285},{"$f":"IF(V14=0,0,(V14*((LOG(V14))/LOG(2))))","v":-0.40105070315108626},null,{"$f":"N14","v":222},{"$f":"COUNTIF(L24:L39,Y14)","v":0},{"$f":"Z14/(AB4-Z11)","v":0},{"$f":"IF(AA14=0,0,(AA14*((LOG(AA14))/LOG(2))))","v":0},null,{"$f":"N14","v":222},{"$f":"COUNTIF(L40:L56,AD14)","v":0},{"$f":"AE14/(AG4-AE11)","v":0},{"$f":"IF(AF14=0,0,(AF14*((LOG(AF14))/LOG(2))))","v":0},null,{"$f":"N14","v":222},{"$f":"COUNTIF(L57:L73,AI14)","v":1},{"$f":"AJ14/(AL4-AJ11)","v":7.1428571428571425E-2},{"$f":"IF(AK14=0,0,(AK14*((LOG(AK14))/LOG(2))))","v":-0.27195392300411453},null,{"$f":"N14","v":222},{"$f":"COUNTIF(L74:L89,AN14)","v":0},{"$f":"AO14/(AQ4-AO11)","v":0},{"$f":"IF(AP14=0,0,(AP14*((LOG(AP14))/LOG(2))))","v":0},null,{"$f":"N14","v":222},{"$f":"COUNTIF(L90:L106,AS14)","v":0},{"$f":"AT14/(AV4-AT11)","v":0},{"$f":"IF(AU14=0,0,(AU14*((LOG(AU14))/LOG(2))))","v":0}]
[21,1062,11,1073,11,1080,null,null,null,null,0,211,null,null,null,{"$f":"SUM(P7:P14)","v":1},{"$f":"-SUM(Q7:Q14)","v":1.7610199309835552},null,null,null,null,{"$f":"SUM(V7:V14)","v":1},{"$f":"-SUM(W7:W14)","v":1.1488348542809166},null,null,null,{"$f":"SUM(AA7:AA14)","v":1},{"$f":"-SUM(AB7:AB14)","v":0},null,null,null,{"$f":"SUM(AF7:AF14)","v":1},{"$f":"-SUM(AG7:AG14)","v":1.1887218755408671},null,null,null,{"$f":"SUM(AK7:AK14)","v":0.99999999999999989},{"$f":"-SUM(AL7:AL14)","v":1.9852281360342514},null,null,null,{"$f":"SUM(AP7:AP14)","v":1},{"$f":"-SUM(AQ7:AQ14)","v":0.59167277858232736},null,null,null,{"$f":"SUM(AU7:AU14)","v":1},{"$f":"-SUM(AV7:AV14)","v":0.5435644431995964}]
[12,1187,13,1195,13,1202,null,null,null,null,0,111,null,null,null,"U=",{"$f":"Q15/(LOG(Q4)/LOG(2))","v":0.26505991109408206},null,null,null,null,"U1=",{"$f":"W15/(LOG(W4)/LOG(2))","v":0.28106306990413948},null,null,null,"U2=",{"$f":"AB15/(LOG(AB4)/LOG(2))","v":0},null,null,null,"U3=",{"$f":"AG15/(LOG(AG4)/LOG(2))","v":0.29082145127886755},null,null,null,"U4=",{"$f":"AL15/(LOG(AL4)/LOG(2))","v":0.48568713970913502},null,null,null,"U5=",{"$f":"AQ15/(LOG(AQ4)/LOG(2))","v":0.14791819464558184},null,null,null,"U6=",{"$f":"AV15/(LOG(AV4)/LOG(2))","v":0.13298333570497295}]
[12,1315,13,1324,13,1331,null,null,null,null,0,111]
[21,1432,22,1442,24,1462,null,null,null,null,0,222]
[21,1563,11,1576,11,1584,null,null,null,null,0,211,null,"Total Target Seq"]
[21,1684,11,1693,11,1699,null,null,null,null,0,211,null,{"$f":"COUNTIF(L7:L106,G3)","v":39},null,17,16,17,17,16,17]
[21,1800,11,1811,11,1836,null,null,null,null,0,211,null,null,null,"% of reinforcement given in 6 equal intervals based on number of trials "]
[21,1934,11,1945,11,1952,null,null,null,null,0,211,null,null,null,"%_1","%_2","%_3","%_4","%_5","%_6"]
[12,2040,13,2058,13,2066,null,null,null,null,0,111,null,null,"target sequence",{"$f":"$G$3","v":211},{"$f":"$G$3","v":211},{"$f":"$G$3","v":211},{"$f":"$G$3","v":211},{"$f":"$G$3","v":211},{"$f":"$G$3","v":211}]
[12,2169,13,2176,13,2186,null,null,null,null,0,111,null,null,"total reinforcement",{"$f":"U11","v":10},{"$f":"Z11","v":3},{"$f":"AE11","v":5},{"$f":"AJ11","v":3},{"$f":"AO11","v":9},{"$f":"AT11","v":9}]
[12,2283,13,2290,13,2298,null,null,null,null,0,111,null,null,"% target"]
[12,2394,13,2400,13,2405,null,null,null,null,0,111,null,null,"CCRF"]
[12,2501,13,2509,13,2515,null,null,null,null,0,111,null,null,"% CCRf"]
[12,2615,13,2628,13,2637,null,null,null,null,0,111,null,null,"average response rate",{"$f":"F23/P20","v":121.52941176470588},{"$f":"(F39-F23)/Q20","v":126.1875},{"$f":"(F56-F39)/R20","v":127.64705882352941},{"$f":"(F73-F56)/S20","v":126.35294117647059},{"$f":"(F89-F73)/T20","v":128},{"$f":"(F106-F89)/U20","v":127.94117647058823}]
[12,2741,13,2755,13,2768,null,null,null,null,0,111]
[21,2872,11,2885,11,2892,null,null,null,null,0,211]
[21,3000,11,3012,11,3020,null,null,null,null,0,211]
[21,3137,11,3148,11,3155,null,null,null,null,0,211]
[12,3264,13,3270,13,3280,null,null,null,null,0,111]
[12,3376,13,3399,13,3406,null,null,null,null,0,111]
[12,3502,13,3528,13,3536,null,null,null,null,0,111]
[12,3654,13,3686,13,3694,null,null,null,null,0,111]
[12,3812,13,3821,13,3829,null,null,null,null,0,111]
[12,3938,13,3946,13,3954,null,null,null,null,0,111]
[12,4071,13,4077,13,4085,null,null,null,null,0,111]
[12,4213,13,4221,13,4230,null,null,null,null,0,111]
[12,4326,13,4348,13,4368,null,null,null,null,0,111]
[12,4464,13,4489,13,4496,null,null,null,null,0,111]
[12,4594,13,4620,13,4642,null,null,null,null,0,111]
[12,4758,13,4765,13,4774,null,null,null,null,0,111]
[21,4909,11,4926,11,4934,null,null,null,null,0,211]
[12,5024,24,5036,13,5048,null,null,null,null,0,121]
[21,5159,11,5171,11,5178,null,null,null,null,0,211]
[21,5275,22,5285,13,5298,null,null,null,null,0,221]
[21,5404,11,5417,11,5425,null,null,null,null,0,211]
[21,5522,11,5533,11,5539,null,null,null,null,0,211]
[12,5627,13,5651,13,5657,null,null,null,null,0,111]
[12,5754,13,5776,13,5782,null,null,null,null,0,111]
[12,5877,24,5887,13,5899,null,null,null,null,0,121]
[21,6002,11,6013,11,6020,null,null,null,null,0,211]
[12,6108,24,6119,13,6130,null,null,null,null,0,121]
[12,6242,13,6248,13,6255,null,null,null,null,0,111]
[21,6354,11,6365,11,6371,null,null,null,null,0,211]
[12,6459,13,6478,13,6485,null,null,null,null,0,111]
[12,6581,24,6590,13,6602,null,null,null,null,0,121]
[12,6719,13,6724,13,6732,null,null,null,null,0,111]
[12,6845,13,6852,13,6861,null,null,null,null,0,111]
[21,6965,22,6982,13,6993,null,null,null,null,0,221]
[21,7111,22,7121,24,7130,null,null,null,null,0,222]
[12,7249,13,7257,13,7274,null,null,null,null,0,111]
[21,7388,11,7401,11,7407,null,null,null,null,0,211]
[21,7502,22,7512,13,7524,null,null,null,null,0,221]
[21,7625,22,7634,13,7647,null,null,null,null,0,221]
[12,7758,13,7765,13,7773,null,null,null,null,0,111]
[21,7875,11,7884,11,7892,null,null,null,null,0,211]
[12,8007,13,8014,13,8022,null,null,null,null,0,111]
[12,8119,24,8128,13,8138,null,null,null,null,0,121]
[21,8248,22,8265,13,8277,null,null,null,null,0,221]
[21,8380,11,8391,22,8403,null,null,null,null,0,212]
[21,8508,11,8522,11,8529,null,null,null,null,0,211]
[21,8621,11,8632,11,8639,null,null,null,null,0,211]
[12,8729,13,8752,13,8760,null,null,null,null,0,111]
[21,8866,11,8896,11,8903,null,null,null,null,0,211]
[12,9006,13,9013,13,9024,null,null,null,null,0,111]
[12,9136,13,9144,13,9152,null,null,null,null,0,111]
[12,9268,13,9275,13,9285,null,null,null,null,0,111]
[21,9393,11,9406,11,9413,null,null,null,null,0,211]
[21,9515,11,9525,11,9532,null,null,null,null,0,211]
[21,9630,11,9640,11,9647,null,null,null,null,0,211]
[21,9754,11,9766,11,9772,null,null,null,null,0,211]
[12,9882,13,9890,13,9903,null,null,null,null,0,111]
[21,10010,11,10023,11,10031,null,null,null,null,0,211]
[21,10144,11,10158,11,10167,null,null,null,null,0,211]
[21,10293,22,10310,13,10340,null,null,null,null,0,221]
[12,10436,13,10443,13,10451,null,null,null,null,0,111]
[12,10559,13,10567,13,10575,null,null,null,null,0,111]
[21,10679,11,10691,11,10702,null,null,null,null,0,211]
[12,10810,13,10817,13,10828,null,null,null,null,0,111]
[12,10939,24,10947,13,10959,null,null,null,null,0,121]
[21,11063,11,11076,11,11083,null,null,null,null,0,211]
[12,11186,13,11193,13,11204,null,null,null,null,0,111]
[12,11318,13,11325,13,11332,null,null,null,null,0,111]
[21,11436,11,11448,11,11454,null,null,null,null,0,211]
[21,11549,11,11561,11,11580,null,null,null,null,0,211]
[12,11714,13,11721,13,11731,null,null,null,null,0,111]
[21,11852,11,11863,11,11870,null,null,null,null,0,211]
[21,11973,11,11984,11,11992,null,null,null,null,0,211]
[21,12096,11,12108,11,12116,null,null,null,null,0,211]
[12,12220,13,12227,13,12241,null,null,null,null,0,111]
[21,12339,11,12349,11,12354,null,null,null,null,0,211]
[12,12462,13,12469,13,12486,null,null,null,null,0,111]
[21,12588,11,12619,11,12626,null,null,null,null,1,211]

{"sheet":"!M512B50.185","index":12,"n_rows":80,"n_cols":48,"rows_kept":80,"cut":false,"hidden":false,"merged":[[4,39,4,42],[5,39,5,40],[4,44,4,47],[5,44,5,45],[4,24,4,27],[5,24,5,25],[4,29,4,32],[5,29,5,30],[4,34,4,37],[5,34,5,35],[1,1,1,2],[5,13,5,14],[18,13,18,14],[19,13,19,14],[4,19,4,22],[5,19,5,20]]}
["Report for:!M512B50.185"]
["Date:","<date>"]
["Hen:","<hen>",null,null,null,"Correct Sequence",{"$f":"Start!J2","v":211},null,null,null,null,null,null,null,null,"Total Sequences in Data",{"$f":"4994-COUNTBLANK(L7:L5000)","v":74},null,null,null,null,"Total Sequences in Block Data",{"$f":"COUNTA(L7:L18)","v":12},null,null,null,"Total Sequences in Block Data",{"$f":"COUNTA(L19:L31)","v":13},null,null,null,"Total Sequences in Block Data",{"$f":"COUNTA(L32:L43)","v":12},null,null,null,"Total Sequences in Block Data",{"$f":"COUNTA(L44:L55)","v":12},null,null,null,"Total Sequences in Block Data",{"$f":"COUNTA(L56:L68)","v":13},null,null,null,"Total Sequences in Block Data",{"$f":"COUNTA(L69:L80)","v":12}]
[null,null,null,null,null,null,null,null,null,null,null,null,null,null,null,"Total Sequences in Summary",{"$f":"SUM(O7:O14)","v":74},null,null,null,null,"Total Sequences in Block Summary",{"$f":"SUM(U7:U14)","v":12},null,null,null,"Total Sequences in Block Summary",{"$f":"SUM(Z7:Z14)","v":13},null,null,null,"Total Sequences in Block Summary",{"$f":"SUM(AE7:AE14)","v":12},null,null,null,"Total Sequences in Block Summary",{"$f":"SUM(AJ7:AJ14)","v":12},null,null,null,"Total Sequences in Block Summary",{"$f":"SUM(AO7:AO14)","v":13},null,null,null,"Total Sequences in Block Summary",{"$f":"SUM(AT7:AT14)","v":12}]
[null,null,null,null,null,null,null,null,null,null,null,null,null,null,null,null,null,null,null,"Block 1",null,null,null,null,"Block 2",null,null,null,null,"Block 3",null,null,null,null,"Block 4",null,null,null,null,"Block 5",null,null,null,null,"Block 6"]
["Sequence\nComponent\n1","Time\n1","Sequence\nComponent\n2","Time\n2","Sequence\nComponent\n3","Time\n3","Sequence\nComponent\n4","Time\n4","Sequence\nComponent\n5","Time\n5","Correct?\n0=No 1=Yes","Sequence",null,"Frequency",null,"Relative Frequency","Variability",null,null,"Frequency",null,"Relative Frequency","Variability",null,"Frequency",null,"Relative Frequency","Variability",null,"Frequency",null,"Relative Frequency","Variability",null,"Frequency",null,"Relative Frequency","Variability",null,"Frequency",null,"Relative Frequency","Variability",null,"Frequency",null,"Relative Frequency","Variability"]
[21,39,11,61,11,75,null,null,null,null,0,211,null,111,{"$f":"COUNTIF($L$7:$L$500,N7)","v":26},{"$f":"O7/$Q$4","v":0.35135135135135137},{"$f":"IF(P7=0,0,(P7*((LOG(P7))/LOG(2))))","v":-0.53019398425249054},null,null,{"$f":"N7","v":111},{"$f":"COUNTIF(L7:L18,T7)","v":6},{"$f":"U7/(W4-U11)","v":0.6},{"$f":"IF(V7=0,0,(V7*((LOG(V7))/LOG(2))))","v":-0.44217935649972373},null,{"$f":"N7","v":111},{"$f":"COUNTIF(L19:L31,Y7)","v":3},{"$f":"Z7/(AB4-Z11)","v":0.75},{"$f":"IF(AA7=0,0,(AA7*((LOG(AA7))/LOG(2))))","v":-0.31127812445913283},null,{"$f":"N7","v":111},{"$f":"COUNTIF(L32:L43,AD7)","v":8},{"$f":"AE7/(AG4-AE11)","v":0.88888888888888884},{"$f":"IF(AF7=0,0,(AF7*((LOG(AF7))/LOG(2))))","v":-0.15104444572649992},null,{"$f":"N7","v":111},{"$f":"COUNTIF(L44:L55,AI7)","v":2},{"$f":"AJ7/(AL4-AJ11)","v":0.5},{"$f":"IF(AK7=0,0,(AK7*((LOG(AK7))/LOG(2))))","v":-0.5},null,{"$f":"N7","v":111},{"$f":"COUNTIF(L56:L68,AN7)","v":4},{"$f":"AO7/(AQ4-AO11)","v":0.66666666666666663},{"$f":"IF(AP7=0,0,(AP7*((LOG(AP7))/LOG(2))))","v":-0.38997500048077083},null,{"$f":"N7","v":111},{"$f":"COUNTIF(L69:L80,AS7)","v":3},{"$f":"AT7/(AV4-AT11)","v":1},{"$f":"IF(AU7=0,0,(AU7*((LOG(AU7))/LOG(2))))","v":0}]
[12,201,13,228,13,250,null,null,null,null,0,111,null,112,{"$f":"COUNTIF($L$7:$L$500,N8)","v":1},{"$f":"O8/$Q$4","v":1.3513513513513514E-2},{"$f":"IF(P8=0,0,(P8*((LOG(P8))/LOG(2))))","v":-8.3911531967958794E-2},null,null,{"$f":"N8","v":112},{"$f":"COUNTIF(L7:L18,T8)","v":0},{"$f":"U8/(W4-U11)","v":0},{"$f":"IF(V8=0,0,(V8*((LOG(V8))/LOG(2))))","v":0},null,{"$f":"N8","v":112},{"$f":"COUNTIF(L19:L31,Y8)","v":0},{"$f":"Z8/(AB4-Z11)","v":0},{"$f":"IF(AA8=0,0,(AA8*((LOG(AA8))/LOG(2))))","v":0},null,{"$f":"N8","v":112},{"$f":"COUNTIF(L32:L43,AD8)","v":0},{"$f":"AE8/(AG4-AE11)","v":0},{"$f":"IF(AF8=0,0,(AF8*((LOG(AF8))/LOG(2))))","v":0},null,{"$f":"N8","v":112},{"$f":"COUNTIF(L44:L55,AI8)","v":0},{"$f":"AJ8/(AL4-AJ11)","v":0},{"$f":"IF(AK8=0,0,(AK8*((LOG(AK8))/LOG(2))))","v":0},null,{"$f":"N8","v":112},{"$f":"COUNTIF(L56:L68,AN8)","v":1},{"$f":"AO8/(AQ4-AO11)","v":0.16666666666666666},{"$f":"IF(AP8=0,0,(AP8*((LOG(AP8))/LOG(2))))","v":-0.43082708345352599},null,{"$f":"N8","v":112},{"$f":"COUNTIF(L69:L80,AS8)","v":0},{"$f":"AT8/(AV4-AT11)","v":0},{"$f":"IF(AU8=0,0,(AU8*((LOG(AU8))/LOG(2))))","v":0}]
[21,360,11,373,11,381,null,null,null,null,0,211,null,121,{"$f":"COUNTIF($L$7:$L$500,N9)","v":1},{"$f":"O9/$Q$4","v":1.3513513513513514E-2},{"$f":"IF(P9=0,0,(P9*((LOG(P9))/LOG(2))))","v":-8.3911531967958794E-2},null,null,{"$f":"N9","v":121},{"$f":"COUNTIF(L7:L18,T9)","v":0},{"$f":"U9/(W4-U11)","v":0},{"$f":"IF(V9=0,0,(V9*((LOG(V9))/LOG(2))))","v":0},null,{"$f":"N9","v":121},{"$f":"COUNTIF(L19:L31,Y9)","v":1},{"$f":"Z9/(AB4-Z11)","v":0.25},{"$f":"IF(AA9=0,0,(AA9*((LOG(AA9))/LOG(2))))","v":-0.5},null,{"$f":"N9","v":121},{"$f":"COUNTIF(L32:L43,AD9)","v":0},{"$f":"AE9/(AG4-AE11)","v":0},{"$f":"IF(AF9=0,0,(AF9*((LOG(AF9))/LOG(2))))","v":0},null,{"$f":"N9","v":121},{"$f":"COUNTIF(L44:L55,AI9)","v":0},{"$f":"AJ9/(AL4-AJ11)","v":0},{"$f":"IF(AK9=0,0,(AK9*((LOG(AK9))/LOG(2))))","v":0},null,{"$f":"N9","v":121},{"$f":"COUNTIF(L56:L68,AN9)","v":0},{"$f":"AO9/(AQ4-AO11)","v":0},{"$f":"IF(AP9=0,0,(AP9*((LOG(AP9))/LOG(2))))","v":0},null,{"$f":"N9","v":121},{"$f":"COUNTIF(L69:L80,AS9)","v":0},{"$f":"AT9/(AV4-AT11)","v":0},{"$f":"IF(AU9=0,0,(AU9*((LOG(AU9))/LOG(2))))","v":0}]
[21,477,22,500,13,514,null,null,null,null,0,221,null,122,{"$f":"COUNTIF($L$7:$L$500,N10)","v":0},{"$f":"O10/$Q$4","v":0},{"$f":"IF(P10=0,0,(P10*((LOG(P10))/LOG(2))))","v":0},null,null,{"$f":"N10","v":122},{"$f":"COUNTIF(L7:L18,T10)","v":0},{"$f":"U10/(W4-U11)","v":0},{"$f":"IF(V10=0,0,(V10*((LOG(V10))/LOG(2))))","v":0},null,{"$f":"N10","v":122},{"$f":"COUNTIF(L19:L31,Y10)","v":0},{"$f":"Z10/(AB4-Z11)","v":0},{"$f":"IF(AA10=0,0,(AA10*((LOG(AA10))/LOG(2))))","v":0},null,{"$f":"N10","v":122},{"$f":"COUNTIF(L32:L43,AD10)","v":0},{"$f":"AE10/(AG4-AE11)","v":0},{"$f":"IF(AF10=0,0,(AF10*((LOG(AF10))/LOG(2))))","v":0},null,{"$f":"N10","v":122},{"$f":"COUNTIF(L44:L55,AI10)","v":0},{"$f":"AJ10/(AL4-AJ11)","v":0},{"$f":"IF(AK10=0,0,(AK10*((LOG(AK10))/LOG(2))))","v":0},null,{"$f":"N10","v":122},{"$f":"COUNTIF(L56:L68,AN10)","v":0},{"$f":"AO10/(AQ4-AO11)","v":0},{"$f":"IF(AP10=0,0,(AP10*((LOG(AP10))/LOG(2))))","v":0},null,{"$f":"N10","v":122},{"$f":"COUNTIF(L69:L80,AS10)","v":0},{"$f":"AT10/(AV4-AT11)","v":0},{"$f":"IF(AU10=0,0,(AU10*((LOG(AU10))/LOG(2))))","v":0}]
[21,616,22,626,24,635,null,null,null,null,0,222,null,211,{"$f":"COUNTIF($L$7:$L$500,N11)","v":38},{"$f":"O11/$Q$4","v":0.51351351351351349},{"$f":"IF(P11=0,0,(P11*((LOG(P11))/LOG(2))))","v":-0.49375651868978165},null,null,{"$f":"N11","v":211},{"$f":"COUNTIF(L7:L18,T11)","v":2},null,null,null,{"$f":"N11","v":211},{"$f":"COUNTIF(L19:L31,Y11)","v":9},null,null,null,{"$f":"N11","v":211},{"$f":"COUNTIF(L32:L43,AD11)","v":3},null,null,null,{"$f":"N11","v":211},{"$f":"COUNTIF(L44:L55,AI11)","v":8},null,null,null,{"$f":"N11","v":211},{"$f":"COUNTIF(L56:L68,AN11)","v":7},null,null,null,{"$f":"N11","v":211},{"$f":"COUNTIF(L69:L80,AS11)","v":9}]
[21,744,22,754,24,766,null,null,null,null,0,222,null,212,{"$f":"COUNTIF($L$7:$L$500,N12)","v":0},{"$f":"O12/$Q$4","v":0},{"$f":"IF(P12=0,0,(P12*((LOG(P12))/LOG(2))))","v":0},null,null,{"$f":"N12","v":212},{"$f":"COUNTIF(L7:L18,T12)","v":0},{"$f":"U12/(W4-U11)","v":0},{"$f":"IF(V12=0,0,(V12*((LOG(V12))/LOG(2))))","v":0},null,{"$f":"N12","v":212},{"$f":"COUNTIF(L19:L31,Y12)","v":0},{"$f":"Z12/(AB4-Z11)","v":0},{"$f":"IF(AA12=0,0,(AA12*((LOG(AA12))/LOG(2))))","v":0},null,{"$f":"N12","v":212},{"$f":"COUNTIF(L32:L43,AD12)","v":0},{"$f":"AE12/(AG4-AE11)","v":0},{"$f":"IF(AF12=0,0,(AF12*((LOG(AF12))/LOG(2))))","v":0},null,{"$f":"N12","v":212},{"$f":"COUNTIF(L44:L55,AI12)","v":0},{"$f":"AJ12/(AL4-AJ11)","v":0},{"$f":"IF(AK12=0,0,(AK12*((LOG(AK12))/LOG(2))))","v":0},null,{"$f":"N12","v":212},{"$f":"COUNTIF(L56:L68,AN12)","v":0},{"$f":"AO12/(AQ4-AO11)","v":0},{"$f":"IF(AP12=0,0,(AP12*((LOG(AP12))/LOG(2))))","v":0},null,{"$f":"N12","v":212},{"$f":"COUNTIF(L69:L80,AS12)","v":0},{"$f":"AT12/(AV4-AT11)","v":0},{"$f":"IF(AU12=0,0,(AU12*((LOG(AU12))/LOG(2))))","v":0}]
[21,866,22,875,24,885,null,null,null,null,0,222,null,221,{"$f":"COUNTIF($L$7:$L$500,N13)","v":5},{"$f":"O13/$Q$4","v":6.7567567567567571E-2},{"$f":"IF(P13=0,0,(P13*((LOG(P13))/LOG(2))))","v":-0.26267062640145861},null,null,{"$f":"N13","v":221},{"$f":"COUNTIF(L7:L18,T13)","v":1},{"$f":"U13/(W4-U11)","v":0.1},{"$f":"IF(V13=0,0,(V13*((LOG(V13))/LOG(2))))","v":-0.33219280948873625},null,{"$f":"N13","v":221},{"$f":"COUNTIF(L19:L31,Y13)","v":0},{"$f":"Z13/(AB4-Z11)","v":0},{"$f":"IF(AA13=0,0,(AA13*((LOG(AA13))/LOG(2))))","v":0},null,{"$f":"N13","v":221},{"$f":"COUNTIF(L32:L43,AD13)","v":1},{"$f":"AE13/(AG4-AE11)","v":0.1111111111111111},{"$f":"IF(AF13=0,0,(AF13*((LOG(AF13))/LOG(2))))","v":-0.3522138890491458},null,{"$f":"N13","v":221},{"$f":"COUNTIF(L44:L55,AI13)","v":2},{"$f":"AJ13/(AL4-AJ11)","v":0.5},{"$f":"IF(AK13=0,0,(AK13*((LOG(AK13))/LOG(2))))","v":-0.5},null,{"$f":"N13","v":221},{"$f":"COUNTIF(L56:L68,AN13)","v":1},{"$f":"AO13/(AQ4-AO11)","v":0.16666666666666666},{"$f":"IF(AP13=0,0,(AP13*((LOG(AP13))/LOG(2))))","v":-0.43082708345352599},null,{"$f":"N13","v":221},{"$f":"COUNTIF(L69:L80,AS13)","v":0},{"$f":"AT13/(AV4-AT11)","v":0},{"$f":"IF(AU13=0,0,(AU13*((LOG(AU13))/LOG(2))))","v":0}]
[12,1001,13,1014,13,1023,null,null,null,null,0,111,null,222,{"$f":"COUNTIF($L$7:$L$500,N14)","v":3},{"$f":"O14/$Q$4","v":4.0540540540540543E-2},{"$f":"IF(P14=0,0,(P14*((LOG(P14))/LOG(2))))","v":-0.1874793593881538},null,null,{"$f":"N14","v":222},{"$f":"COUNTIF(L7:L18,T14)","v":3},{"$f":"U14/(W4-U11)","v":0.3},{"$f":"IF(V14=0,0,(V14*((LOG(V14))/LOG(2))))","v":-0.52108967824986185},null,{"$f":"N14","v":222},{"$f":"COUNTIF(L19:L31,Y14)","v":0},{"$f":"Z14/(AB4-Z11)","v":0},{"$f":"IF(AA14=0,0,(AA14*((LOG(AA14))/LOG(2))))","v":0},null,{"$f":"N14","v":222},{"$f":"COUNTIF(L32:L43,AD14)","v":0},{"$f":"AE14/(AG4-AE11)","v":0},{"$f":"IF(AF14=0,0,(AF14*((LOG(AF14))/LOG(2))))","v":0},null,{"$f":"N14","v":222},{"$f":"COUNTIF(L44:L55,AI14)","v":0},{"$f":"AJ14/(AL4-AJ11)","v":0},{"$f":"IF(AK14=0,0,(AK14*((LOG(AK14))/LOG(2))))","v":0},null,{"$f":"N14","v":222},{"$f":"COUNTIF(L56:L68,AN14)","v":0},{"$f":"AO14/(AQ4-AO11)","v":0},{"$f":"IF(AP14=0,0,(AP14*((LOG(AP14))/LOG(2))))","v":0},null,{"$f":"N14","v":222},{"$f":"COUNTIF(L69:L80,AS14)","v":0},{"$f":"AT14/(AV4-AT11)","v":0},{"$f":"IF(AU14=0,0,(AU14*((LOG(AU14))/LOG(2))))","v":0}]
[12,1145,13,1153,13,1160,null,null,null,null,0,111,null,null,null,{"$f":"SUM(P7:P14)","v":1},{"$f":"-SUM(Q7:Q14)","v":1.6419235526678022},null,null,null,null,{"$f":"SUM(V7:V14)","v":1},{"$f":"-SUM(W7:W14)","v":1.2954618442383219},null,null,null,{"$f":"SUM(AA7:AA14)","v":1},{"$f":"-SUM(AB7:AB14)","v":0.81127812445913283},null,null,null,{"$f":"SUM(AF7:AF14)","v":1},{"$f":"-SUM(AG7:AG14)","v":0.50325833477564574},null,null,null,{"$f":"SUM(AK7:AK14)","v":1},{"$f":"-SUM(AL7:AL14)","v":1},null,null,null,{"$f":"SUM(AP7:AP14)","v":0.99999999999999989},{"$f":"-SUM(AQ7:AQ14)","v":1.2516291673878228},null,null,null,{"$f":"SUM(AU7:AU14)","v":1},{"$f":"-SUM(AV7:AV14)","v":0}]
[12,1281,13,1288,13,1295,null,null,null,null,0,111,null,null,null,"U=",{"$f":"Q15/(LOG(Q4)/LOG(2))","v":0.2644232037809166},null,null,null,null,"U1=",{"$f":"W15/(LOG(W4)/LOG(2))","v":0.36135994281048262},null,null,null,"U2=",{"$f":"AB15/(LOG(AB4)/LOG(2))","v":0.21923830308109346},null,null,null,"U3=",{"$f":"AG15/(LOG(AG4)/LOG(2))","v":0.14038036232580103},null,null,null,"U4=",{"$f":"AL15/(LOG(AL4)/LOG(2))","v":0.27894294565112981},null,null,null,"U5=",{"$f":"AQ15/(LOG(AQ4)/LOG(2))","v":0.33823795622228808},null,null,null,"U6=",{"$f":"AV15/(LOG(AV4)/LOG(2))","v":0}]
[12,1414,13,1422,13,1431,null,null,null,null,0,111]
[12,1564,13,1592,13,1600,null,null,null,null,0,111]
[12,1721,24,1735,13,1748,null,null,null,null,0,121,null,"Total Target Seq"]
[21,1844,11,1856,11,1864,null,null,null,null,0,211,null,{"$f":"COUNTIF(L7:L80,G3)","v":38},null,12,13,12,12,13,12]
[21,1959,11,1971,11,1982,null,null,null,null,0,211,null,null,null,"% of reinforcement given in 6 equal intervals based on number of trials "]
[21,2080,11,2091,11,2098,null,null,null,null,0,211,null,null,null,"%_1","%_2","%_3","%_4","%_5","%_6"]
[21,2193,11,2204,11,2212,null,null,null,null,0,211,null,null,"target sequence",{"$f":"$G$3","v":211},{"$f":"$G$3","v":211},{"$f":"$G$3","v":211},{"$f":"$G$3","v":211},{"$f":"$G$3","v":211},{"$f":"$G$3","v":211}]
[12,2325,13,2334,13,2349,null,null,null,null,0,111,null,null,"total reinforcement",{"$f":"U11","v":2},{"$f":"Z11","v":9},{"$f":"AE11","v":3},{"$f":"AJ11","v":8},{"$f":"AO11","v":7},{"$f":"AT11","v":9}]
[12,2468,13,2475,13,2484,null,null,null,null,0,111,null,null,"% target"]
[21,2595,11,2608,11,2615,null,null,null,null,0,211,null,null,"CCRF"]
[21,2710,11,2722,11,2730,null,null,null,null,0,211,null,null,"% CCRf"]
[12,2838,13,2846,13,2858,null,null,null,null,0,111,null,null,"average response rate",{"$f":"F18/P20","v":133.33333333333334},{"$f":"(F31-F18)/Q20","v":124.46153846153847},{"$f":"(F43-F31)/R20","v":138.58333333333334},{"$f":"(F55-F43)/S20","v":127.66666666666667},{"$f":"(F68-F55)/T20","v":129.07692307692307},{"$f":"(F80-F68)/U20","v":120.33333333333333}]
[21,2959,11,2971,11,2979,null,null,null,null,0,211]
[21,3088,11,3098,11,3106,null,null,null,null,0,211]
[21,3198,11,3210,11,3218,null,null,null,null,0,211]
[12,3340,13,3348,13,3360,null,null,null,null,0,111]
[12,3469,13,3476,13,3500,null,null,null,null,0,111]
[12,3615,13,3622,13,3649,null,null,null,null,0,111]
[12,3762,13,3771,13,3790,null,null,null,null,0,111]
[21,3896,11,3907,11,3915,null,null,null,null,0,211]
[12,4021,13,4027,13,4068,null,null,null,null,0,111]
[12,4188,13,4206,13,4232,null,null,null,null,0,111]
[21,4341,11,4354,11,4362,null,null,null,null,0,211]
[21,4472,11,4485,11,4496,null,null,null,null,0,211]
[12,4603,13,4632,13,4640,null,null,null,null,0,111]
[21,4741,22,4751,13,4762,null,null,null,null,0,221]
[12,4867,13,4874,13,4881,null,null,null,null,0,111]
[21,4983,22,4992,13,5026,null,null,null,null,0,221]
[21,5134,11,5146,11,5152,null,null,null,null,0,211]
[21,5249,11,5261,11,5276,null,null,null,null,0,211]
[21,5384,11,5393,11,5401,null,null,null,null,0,211]
[21,5497,11,5507,11,5513,null,null,null,null,0,211]
[21,5608,11,5618,11,5625,null,null,null,null,0,211]
[21,5716,11,5729,11,5745,null,null,null,null,0,211]
[12,5847,13,5854,13,5875,null,null,null,null,0,111]
[21,5982,22,5991,13,6004,null,null,null,null,0,221]
[21,6114,11,6126,11,6134,null,null,null,null,0,211]
[21,6275,11,6286,11,6292,null,null,null,null,0,211]
[12,6399,13,6406,13,6413,null,null,null,null,0,111]
[21,6515,11,6525,11,6532,null,null,null,null,0,211]
[21,6621,11,6643,11,6650,null,null,null,null,0,211]
[12,6757,13,6764,13,6797,null,null,null,null,0,111]
[12,6916,13,6923,13,6948,null,null,null,null,0,111]
[21,7050,22,7065,13,7077,null,null,null,null,0,221]
[21,7192,11,7207,11,7215,null,null,null,null,0,211]
[12,7320,13,7327,13,7335,null,null,null,null,0,111]
[21,7444,11,7456,11,7463,null,null,null,null,0,211]
[21,7561,11,7572,11,7580,null,null,null,null,0,211]
[12,7684,13,7690,13,7697,null,null,null,null,0,111]
[12,7814,13,7821,24,7866,null,null,null,null,0,112]
[21,7963,11,7974,11,7981,null,null,null,null,0,211]
[21,8071,11,8083,11,8091,null,null,null,null,0,211]
[12,8222,13,8233,13,8264,null,null,null,null,0,111]
[21,8366,11,8377,11,8383,null,null,null,null,0,211]
[21,8478,11,8488,11,8495,null,null,null,null,0,211]
[21,8583,11,8593,11,8599,null,null,null,null,0,211]
[21,8697,11,8706,11,8712,null,null,null,null,0,211]
[12,8815,13,8822,13,8832,null,null,null,null,0,111]
[21,8937,11,8949,11,8956,null,null,null,null,0,211]
[12,9063,13,9070,13,9077,null,null,null,null,0,111]
[21,9181,11,9193,11,9200,null,null,null,null,0,211]
[21,9288,11,9300,11,9309,null,null,null,null,0,211]
[21,9408,11,9420,11,9426,null,null,null,null,0,211]
[21,9517,11,9529,11,9535,null,null,null,null,1,211]

{"sheet":"!M513C40.185","index":13,"n_rows":69,"n_cols":48,"rows_kept":69,"cut":false,"hidden":false,"merged":[[4,39,4,42],[5,39,5,40],[4,44,4,47],[5,44,5,45],[4,24,4,27],[5,24,5,25],[4,29,4,32],[5,29,5,30],[4,34,4,37],[5,34,5,35],[1,1,1,2],[5,13,5,14],[18,13,18,14],[19,13,19,14],[4,19,4,22],[5,19,5,20]]}
["Report for:!M513C40.185"]
["Date:","<date>"]
["Hen:","<hen>",null,null,null,"Correct Sequence",{"$f":"Start!J2","v":211},null,null,null,null,null,null,null,null,"Total Sequences in Data",{"$f":"4994-COUNTBLANK(L7:L5000)","v":63},null,null,null,null,"Total Sequences in Block Data",{"$f":"COUNTA(L7:L17)","v":11},null,null,null,"Total Sequences in Block Data",{"$f":"COUNTA(L18:L27)","v":10},null,null,null,"Total Sequences in Block Data",{"$f":"COUNTA(L28:L38)","v":11},null,null,null,"Total Sequences in Block Data",{"$f":"COUNTA(L39:L48)","v":10},null,null,null,"Total Sequences in Block Data",{"$f":"COUNTA(L49:L59)","v":11},null,null,null,"Total Sequences in Block Data",{"$f":"COUNTA(L60:L69)","v":10}]
[null,null,null,null,null,null,null,null,null,null,null,null,null,null,null,"Total Sequences in Summary",{"$f":"SUM(O7:O14)","v":63},null,null,null,null,"Total Sequences in Block Summary",{"$f":"SUM(U7:U14)","v":11},null,null,null,"Total Sequences in Block Summary",{"$f":"SUM(Z7:Z14)","v":10},null,null,null,"Total Sequences in Block Summary",{"$f":"SUM(AE7:AE14)","v":11},null,null,null,"Total Sequences in Block Summary",{"$f":"SUM(AJ7:AJ14)","v":10},null,null,null,"Total Sequences in Block Summary",{"$f":"SUM(AO7:AO14)","v":11},null,null,null,"Total Sequences in Block Summary",{"$f":"SUM(AT7:AT14)","v":10}]
[null,null,null,null,null,null,null,null,null,null,null,null,null,null,null,null,null,null,null,"Block 1",null,null,null,null,"Block 2",null,null,null,null,"Block 3",null,null,null,null,"Block 4",null,null,null,null,"Block 5",null,null,null,null,"Block 6"]
["Sequence\nComponent\n1","Time\n1","Sequence\nComponent\n2","Time\n2","Sequence\nComponent\n3","Time\n3","Sequence\nComponent\n4","Time\n4","Sequence\nComponent\n5","Time\n5","Correct?\n0=No 1=Yes","Sequence",null,"Frequency",null,"Relative Frequency","Variability",null,null,"Frequency",null,"Relative Frequency","Variability",null,"Frequency",null,"Relative Frequency","Variability",null,"Frequency",null,"Relative Frequency","Variability",null,"Frequency",null,"Relative Frequency","Variability",null,"Frequency",null,"Relative Frequency","Variability",null,"Frequency",null,"Relative Frequency","Variability"]
[12,28,13,34,13,42,null,null,null,null,0,111,null,111,{"$f":"COUNTIF($L$7:$L$500,N7)","v":17},{"$f":"O7/$Q$4","v":0.26984126984126983},{"$f":"IF(P7=0,0,(P7*((LOG(P7))/LOG(2))))","v":-0.50995064124194933},null,null,{"$f":"N7","v":111},{"$f":"COUNTIF(L7:L17,T7)","v":6},{"$f":"U7/(W4-U11)","v":0.8571428571428571},{"$f":"IF(V7=0,0,(V7*((LOG(V7))/LOG(2))))","v":-0.19062207543124113},null,{"$f":"N7","v":111},{"$f":"COUNTIF(L18:L27,Y7)","v":1},{"$f":"Z7/(AB4-Z11)","v":0.5},{"$f":"IF(AA7=0,0,(AA7*((LOG(AA7))/LOG(2))))","v":-0.5},null,{"$f":"N7","v":111},{"$f":"COUNTIF(L28:L38,AD7)","v":1},{"$f":"AE7/(AG4-AE11)","v":0.5},{"$f":"IF(AF7=0,0,(AF7*((LOG(AF7))/LOG(2))))","v":-0.5},null,{"$f":"N7","v":111},{"$f":"COUNTIF(L39:L48,AI7)","v":2},{"$f":"AJ7/(AL4-AJ11)","v":0.66666666666666663},{"$f":"IF(AK7=0,0,(AK7*((LOG(AK7))/LOG(2))))","v":-0.38997500048077083},null,{"$f":"N7","v":111},{"$f":"COUNTIF(L49:L59,AN7)","v":6},{"$f":"AO7/(AQ4-AO11)","v":0.8571428571428571},{"$f":"IF(AP7=0,0,(AP7*((LOG(AP7))/LOG(2))))","v":-0.19062207543124113},null,{"$f":"N7","v":111},{"$f":"COUNTIF(L60:L69,AS7)","v":1},{"$f":"AT7/(AV4-AT11)","v":0.33333333333333331},{"$f":"IF(AU7=0,0,(AU7*((LOG(AU7))/LOG(2))))","v":-0.52832083357371862}]
[12,161,13,194,13,229,null,null,null,null,0,111,null,112,{"$f":"COUNTIF($L$7:$L$500,N8)","v":5},{"$f":"O8/$Q$4","v":7.9365079365079361E-2},{"$f":"IF(P8=0,0,(P8*((LOG(P8))/LOG(2))))","v":-0.29010728798512331},null,null,{"$f":"N8","v":112},{"$f":"COUNTIF(L7:L17,T8)","v":1},{"$f":"U8/(W4-U11)","v":0.14285714285714285},{"$f":"IF(V8=0,0,(V8*((LOG(V8))/LOG(2))))","v":-0.40105070315108626},null,{"$f":"N8","v":112},{"$f":"COUNTIF(L18:L27,Y8)","v":1},{"$f":"Z8/(AB4-Z11)","v":0.5},{"$f":"IF(AA8=0,0,(AA8*((LOG(AA8))/LOG(2))))","v":-0.5},null,{"$f":"N8","v":112},{"$f":"COUNTIF(L28:L38,AD8)","v":1},{"$f":"AE8/(AG4-AE11)","v":0.5},{"$f":"IF(AF8=0,0,(AF8*((LOG(AF8))/LOG(2))))","v":-0.5},null,{"$f":"N8","v":112},{"$f":"COUNTIF(L39:L48,AI8)","v":1},{"$f":"AJ8/(AL4-AJ11)","v":0.33333333333333331},{"$f":"IF(AK8=0,0,(AK8*((LOG(AK8))/LOG(2))))","v":-0.52832083357371862},null,{"$f":"N8","v":112},{"$f":"COUNTIF(L49:L59,AN8)","v":0},{"$f":"AO8/(AQ4-AO11)","v":0},{"$f":"IF(AP8=0,0,(AP8*((LOG(AP8))/LOG(2))))","v":0},null,{"$f":"N8","v":112},{"$f":"COUNTIF(L60:L69,AS8)","v":1},{"$f":"AT8/(AV4-AT11)","v":0.33333333333333331},{"$f":"IF(AU8=0,0,(AU8*((LOG(AU8))/LOG(2))))","v":-0.52832083357371862}]
[21,374,11,387,11,394,null,null,null,null,0,211,null,121,{"$f":"COUNTIF($L$7:$L$500,N9)","v":0},{"$f":"O9/$Q$4","v":0},{"$f":"IF(P9=0,0,(P9*((LOG(P9))/LOG(2))))","v":0},null,null,{"$f":"N9","v":121},{"$f":"COUNTIF(L7:L17,T9)","v":0},{"$f":"U9/(W4-U11)","v":0},{"$f":"IF(V9=0,0,(V9*((LOG(V9))/LOG(2))))","v":0},null,{"$f":"N9","v":121},{"$f":"COUNTIF(L18:L27,Y9)","v":0},{"$f":"Z9/(AB4-Z11)","v":0},{"$f":"IF(AA9=0,0,(AA9*((LOG(AA9))/LOG(2))))","v":0},null,{"$f":"N9","v":121},{"$f":"COUNTIF(L28:L38,AD9)","v":0},{"$f":"AE9/(AG4-AE11)","v":0},{"$f":"IF(AF9=0,0,(AF9*((LOG(AF9))/LOG(2))))","v":0},null,{"$f":"N9","v":121},{"$f":"COUNTIF(L39:L48,AI9)","v":0},{"$f":"AJ9/(AL4-AJ11)","v":0},{"$f":"IF(AK9=0,0,(AK9*((LOG(AK9))/LOG(2))))","v":0},null,{"$f":"N9","v":121},{"$f":"COUNTIF(L49:L59,AN9)","v":0},{"$f":"AO9/(AQ4-AO11)","v":0},{"$f":"IF(AP9=0,0,(AP9*((LOG(AP9))/LOG(2))))","v":0},null,{"$f":"N9","v":121},{"$f":"COUNTIF(L60:L69,AS9)","v":0},{"$f":"AT9/(AV4-AT11)","v":0},{"$f":"IF(AU9=0,0,(AU9*((LOG(AU9))/LOG(2))))","v":0}]
[21,490,11,500,11,508,null,null,null,null,0,211,null,122,{"$f":"COUNTIF($L$7:$L$500,N10)","v":0},{"$f":"O10/$Q$4","v":0},{"$f":"IF(P10=0,0,(P10*((LOG(P10))/LOG(2))))","v":0},null,null,{"$f":"N10","v":122},{"$f":"COUNTIF(L7:L17,T10)","v":0},{"$f":"U10/(W4-U11)","v":0},{"$f":"IF(V10=0,0,(V10*((LOG(V10))/LOG(2))))","v":0},null,{"$f":"N10","v":122},{"$f":"COUNTIF(L18:L27,Y10)","v":0},{"$f":"Z10/(AB4-Z11)","v":0},{"$f":"IF(AA10=0,0,(AA10*((LOG(AA10))/LOG(2))))","v":0},null,{"$f":"N10","v":122},{"$f":"COUNTIF(L28:L38,AD10)","v":0},{"$f":"AE10/(AG4-AE11)","v":0},{"$f":"IF(AF10=0,0,(AF10*((LOG(AF10))/LOG(2))))","v":0},null,{"$f":"N10","v":122},{"$f":"COUNTIF(L39:L48,AI10)","v":0},{"$f":"AJ10/(AL4-AJ11)","v":0},{"$f":"IF(AK10=0,0,(AK10*((LOG(AK10))/LOG(2))))","v":0},null,{"$f":"N10","v":122},{"$f":"COUNTIF(L49:L59,AN10)","v":0},{"$f":"AO10/(AQ4-AO11)","v":0},{"$f":"IF(AP10=0,0,(AP10*((LOG(AP10))/LOG(2))))","v":0},null,{"$f":"N10","v":122},{"$f":"COUNTIF(L60:L69,AS10)","v":0},{"$f":"AT10/(AV4-AT11)","v":0},{"$f":"IF(AU10=0,0,(AU10*((LOG(AU10))/LOG(2))))","v":0}]
[12,614,13,622,13,636,null,null,null,null,0,111,null,211,{"$f":"COUNTIF($L$7:$L$500,N11)","v":39},{"$f":"O11/$Q$4","v":0.61904761904761907},{"$f":"IF(P11=0,0,(P11*((LOG(P11))/LOG(2))))","v":-0.42830524572808026},null,null,{"$f":"N11","v":211},{"$f":"COUNTIF(L7:L17,T11)","v":4},null,null,null,{"$f":"N11","v":211},{"$f":"COUNTIF(L18:L27,Y11)","v":8},null,null,null,{"$f":"N11","v":211},{"$f":"COUNTIF(L28:L38,AD11)","v":9},null,null,null,{"$f":"N11","v":211},{"$f":"COUNTIF(L39:L48,AI11)","v":7},null,null,null,{"$f":"N11","v":211},{"$f":"COUNTIF(L49:L59,AN11)","v":4},null,null,null,{"$f":"N11","v":211},{"$f":"COUNTIF(L60:L69,AS11)","v":7}]
[12,753,13,762,13,771,null,null,null,null,0,111,null,212,{"$f":"COUNTIF($L$7:$L$500,N12)","v":0},{"$f":"O12/$Q$4","v":0},{"$f":"IF(P12=0,0,(P12*((LOG(P12))/LOG(2))))","v":0},null,null,{"$f":"N12","v":212},{"$f":"COUNTIF(L7:L17,T12)","v":0},{"$f":"U12/(W4-U11)","v":0},{"$f":"IF(V12=0,0,(V12*((LOG(V12))/LOG(2))))","v":0},null,{"$f":"N12","v":212},{"$f":"COUNTIF(L18:L27,Y12)","v":0},{"$f":"Z12/(AB4-Z11)","v":0},{"$f":"IF(AA12=0,0,(AA12*((LOG(AA12))/LOG(2))))","v":0},null,{"$f":"N12","v":212},{"$f":"COUNTIF(L28:L38,AD12)","v":0},{"$f":"AE12/(AG4-AE11)","v":0},{"$f":"IF(AF12=0,0,(AF12*((LOG(AF12))/LOG(2))))","v":0},null,{"$f":"N12","v":212},{"$f":"COUNTIF(L39:L48,AI12)","v":0},{"$f":"AJ12/(AL4-AJ11)","v":0},{"$f":"IF(AK12=0,0,(AK12*((LOG(AK12))/LOG(2))))","v":0},null,{"$f":"N12","v":212},{"$f":"COUNTIF(L49:L59,AN12)","v":0},{"$f":"AO12/(AQ4-AO11)","v":0},{"$f":"IF(AP12=0,0,(AP12*((LOG(AP12))/LOG(2))))","v":0},null,{"$f":"N12","v":212},{"$f":"COUNTIF(L60:L69,AS12)","v":0},{"$f":"AT12/(AV4-AT11)","v":0},{"$f":"IF(AU12=0,0,(AU12*((LOG(AU12))/LOG(2))))","v":0}]
[12,886,13,894,13,945,null,null,null,null,0,111,null,221,{"$f":"COUNTIF($L$7:$L$500,N13)","v":2},{"$f":"O13/$Q$4","v":3.1746031746031744E-2},{"$f":"IF(P13=0,0,(P13*((LOG(P13))/LOG(2))))","v":-0.15800888646031477},null,null,{"$f":"N13","v":221},{"$f":"COUNTIF(L7:L17,T13)","v":0},{"$f":"U13/(W4-U11)","v":0},{"$f":"IF(V13=0,0,(V13*((LOG(V13))/LOG(2))))","v":0},null,{"$f":"N13","v":221},{"$f":"COUNTIF(L18:L27,Y13)","v":0},{"$f":"Z13/(AB4-Z11)","v":0},{"$f":"IF(AA13=0,0,(AA13*((LOG(AA13))/LOG(2))))","v":0},null,{"$f":"N13","v":221},{"$f":"COUNTIF(L28:L38,AD13)","v":0},{"$f":"AE13/(AG4-AE11)","v":0},{"$f":"IF(AF13=0,0,(AF13*((LOG(AF13))/LOG(2))))","v":0},null,{"$f":"N13","v":221},{"$f":"COUNTIF(L39:L48,AI13)","v":0},{"$f":"AJ13/(AL4-AJ11)","v":0},{"$f":"IF(AK13=0,0,(AK13*((LOG(AK13))/LOG(2))))","v":0},null,{"$f":"N13","v":221},{"$f":"COUNTIF(L49:L59,AN13)","v":1},{"$f":"AO13/(AQ4-AO11)","v":0.14285714285714285},{"$f":"IF(AP13=0,0,(AP13*((LOG(AP13))/LOG(2))))","v":-0.40105070315108626},null,{"$f":"N13","v":221},{"$f":"COUNTIF(L60:L69,AS13)","v":1},{"$f":"AT13/(AV4-AT11)","v":0.33333333333333331},{"$f":"IF(AU13=0,0,(AU13*((LOG(AU13))/LOG(2))))","v":-0.52832083357371862}]
[12,1062,13,1079,24,1110,null,null,null,null,0,112,null,222,{"$f":"COUNTIF($L$7:$L$500,N14)","v":0},{"$f":"O14/$Q$4","v":0},{"$f":"IF(P14=0,0,(P14*((LOG(P14))/LOG(2))))","v":0},null,null,{"$f":"N14","v":222},{"$f":"COUNTIF(L7:L17,T14)","v":0},{"$f":"U14/(W4-U11)","v":0},{"$f":"IF(V14=0,0,(V14*((LOG(V14))/LOG(2))))","v":0},null,{"$f":"N14","v":222},{"$f":"COUNTIF(L18:L27,Y14)","v":0},{"$f":"Z14/(AB4-Z11)","v":0},{"$f":"IF(AA14=0,0,(AA14*((LOG(AA14))/LOG(2))))","v":0},null,{"$f":"N14","v":222},{"$f":"COUNTIF(L28:L38,AD14)","v":0},{"$f":"AE14/(AG4-AE11)","v":0},{"$f":"IF(AF14=0,0,(AF14*((LOG(AF14))/LOG(2))))","v":0},null,{"$f":"N14","v":222},{"$f":"COUNTIF(L39:L48,AI14)","v":0},{"$f":"AJ14/(AL4-AJ11)","v":0},{"$f":"IF(AK14=0,0,(AK14*((LOG(AK14))/LOG(2))))","v":0},null,{"$f":"N14","v":222},{"$f":"COUNTIF(L49:L59,AN14)","v":0},{"$f":"AO14/(AQ4-AO11)","v":0},{"$f":"IF(AP14=0,0,(AP14*((LOG(AP14))/LOG(2))))","v":0},null,{"$f":"N14","v":222},{"$f":"COUNTIF(L60:L69,AS14)","v":0},{"$f":"AT14/(AV4-AT11)","v":0},{"$f":"IF(AU14=0,0,(AU14*((LOG(AU14))/LOG(2))))","v":0}]
[21,1223,11,1255,11,1264,null,null,null,null,0,211,null,null,null,{"$f":"SUM(P7:P14)","v":1},{"$f":"-SUM(Q7:Q14)","v":1.3863720614154678},null,null,null,null,{"$f":"SUM(V7:V14)","v":1},{"$f":"-SUM(W7:W14)","v":0.59167277858232736},null,null,null,{"$f":"SUM(AA7:AA14)","v":1},{"$f":"-SUM(AB7:AB14)","v":1},null,null,null,{"$f":"SUM(AF7:AF14)","v":1},{"$f":"-SUM(AG7:AG14)","v":1},null,null,null,{"$f":"SUM(AK7:AK14)","v":1},{"$f":"-SUM(AL7:AL14)","v":0.91829583405448945},null,null,null,{"$f":"SUM(AP7:AP14)","v":1},{"$f":"-SUM(AQ7:AQ14)","v":0.59167277858232736},null,null,null,{"$f":"SUM(AU7:AU14)","v":1},{"$f":"-SUM(AV7:AV14)","v":1.5849625007211559}]
[12,1399,13,1407,13,1466,null,null,null,null,0,111,null,null,null,"U=",{"$f":"Q15/(LOG(Q4)/LOG(2))","v":0.23194029377223746},null,null,null,null,"U1=",{"$f":"W15/(LOG(W4)/LOG(2))","v":0.17103178897792257},null,null,null,"U2=",{"$f":"AB15/(LOG(AB4)/LOG(2))","v":0.3010299956639812},null,null,null,"U3=",{"$f":"AG15/(LOG(AG4)/LOG(2))","v":0.28906482631788782},null,null,null,"U4=",{"$f":"AL15/(LOG(AL4)/LOG(2))","v":0.27643459094367495},null,null,null,"U5=",{"$f":"AQ15/(LOG(AQ4)/LOG(2))","v":0.17103178897792257},null,null,null,"U6=",{"$f":"AV15/(LOG(AV4)/LOG(2))","v":0.47712125471966238}]
[21,1568,11,1581,11,1596,null,null,null,null,0,211]
[21,1695,11,1709,11,1717,null,null,null,null,0,211]
[21,1811,11,1823,11,1832,null,null,null,null,0,211,null,"Total Target Seq"]
[21,1938,11,1949,11,1956,null,null,null,null,0,211,null,{"$f":"COUNTIF(L7:L69,G3)","v":39},null,11,10,11,10,11,10]
[21,2056,11,2070,11,2078,null,null,null,null,0,211,null,null,null,"% of reinforcement given in 6 equal intervals based on number of trials "]
[21,2172,11,2184,11,2197,null,null,null,null,0,211,null,null,null,"%_1","%_2","%_3","%_4","%_5","%_6"]
[21,2289,11,2300,11,2308,null,null,null,null,0,211,null,null,"target sequence",{"$f":"$G$3","v":211},{"$f":"$G$3","v":211},{"$f":"$G$3","v":211},{"$f":"$G$3","v":211},{"$f":"$G$3","v":211},{"$f":"$G$3","v":211}]
[12,2413,13,2426,24,2450,null,null,null,null,0,112,null,null,"total reinforcement",{"$f":"U11","v":4},{"$f":"Z11","v":8},{"$f":"AE11","v":9},{"$f":"AJ11","v":7},{"$f":"AO11","v":4},{"$f":"AT11","v":7}]
[21,2550,11,2564,11,2571,null,null,null,null,0,211,null,null,"% target"]
[12,2675,13,2685,13,2716,null,null,null,null,0,111,null,null,"CCRF"]
[21,2815,11,2828,11,2833,null,null,null,null,0,211,null,null,"% CCRf"]
[12,2939,13,2950,24,2971,null,null,null,null,0,112,null,null,"average response rate",{"$f":"F17/P20","v":145.09090909090909},{"$f":"(F27-F17)/Q20","v":123.7},{"$f":"(F38-F27)/R20","v":121.90909090909091},{"$f":"(F48-F38)/S20","v":123.5},{"$f":"(F59-F48)/T20","v":126.09090909090909},{"$f":"(F69-F59)/U20","v":122.2}]
[21,3073,11,3083,11,3088,null,null,null,null,0,211]
[21,3181,11,3191,11,3199,null,null,null,null,0,211]
[21,3303,11,3326,11,3351,null,null,null,null,0,211]
[21,3452,11,3465,11,3471,null,null,null,null,0,211]
[21,3563,11,3576,11,3582,null,null,null,null,0,211]
[21,3681,11,3691,11,3701,null,null,null,null,0,211]
[21,3795,11,3807,11,3814,null,null,null,null,0,211]
[21,3905,11,3917,11,3929,null,null,null,null,0,211]
[12,4030,13,4036,13,4044,null,null,null,null,0,111]
[21,4144,11,4154,11,4174,null,null,null,null,0,211]
[12,4280,13,4288,13,4296,null,null,null,null,0,111]
[21,4397,11,4409,11,4416,null,null,null,null,0,211]
[21,4507,11,4517,11,4522,null,null,null,null,0,211]
[21,4615,11,4628,11,4634,null,null,null,null,0,211]
[12,4737,13,4744,13,4775,null,null,null,null,0,111]
[12,4889,13,4897,24,4938,null,null,null,null,0,112]
[21,5057,11,5071,11,5078,null,null,null,null,0,211]
[21,5171,11,5183,11,5196,null,null,null,null,0,211]
[21,5283,11,5295,11,5302,null,null,null,null,0,211]
[21,5392,11,5402,11,5409,null,null,null,null,0,211]
[21,5503,11,5516,11,5523,null,null,null,null,0,211]
[12,5620,13,5625,13,5634,null,null,null,null,0,111]
[12,5731,13,5756,13,5764,null,null,null,null,0,111]
[12,5879,13,5886,13,5897,null,null,null,null,0,111]
[12,6009,13,6017,13,6029,null,null,null,null,0,111]
[21,6129,11,6141,11,6147,null,null,null,null,0,211]
[12,6248,13,6255,13,6268,null,null,null,null,0,111]
[21,6369,11,6379,11,6387,null,null,null,null,0,211]
[12,6492,13,6501,13,6548,null,null,null,null,0,111]
[21,6652,22,6667,13,6680,null,null,null,null,0,221]
[21,6781,11,6791,11,6796,null,null,null,null,0,211]
[21,6887,22,6900,13,6913,null,null,null,null,0,221]
[21,7018,11,7031,11,7037,null,null,null,null,0,211]
[21,7130,11,7141,11,7148,null,null,null,null,0,211]
[12,7251,13,7258,13,7269,null,null,null,null,0,111]
[12,7380,13,7388,24,7425,null,null,null,null,0,112]
[21,7542,11,7555,11,7566,null,null,null,null,0,211]
[21,7659,11,7670,11,7675,null,null,null,null,0,211]
[21,7770,11,7782,11,7791,null,null,null,null,0,211]
[21,7884,11,7896,11,7904,null,null,null,null,0,211]
[21,8000,11,8010,11,8018,null,null,null,null,1,211]

{"sheet":"!M514A50.185","index":14,"n_rows":72,"n_cols":48,"rows_kept":72,"cut":false,"hidden":false,"merged":[[4,39,4,42],[5,39,5,40],[4,44,4,47],[5,44,5,45],[4,24,4,27],[5,24,5,25],[4,29,4,32],[5,29,5,30],[4,34,4,37],[5,34,5,35],[1,1,1,2],[5,13,5,14],[18,13,18,14],[19,13,19,14],[4,19,4,22],[5,19,5,20]]}
["Report for:!M514A50.185"]
["Date:","<date>"]
["Hen:","<hen>",null,null,null,"Correct Sequence",{"$f":"Start!J2","v":211},null,null,null,null,null,null,null,null,"Total Sequences in Data",{"$f":"4994-COUNTBLANK(L7:L5000)","v":66},null,null,null,null,"Total Sequences in Block Data",{"$f":"COUNTA(L7:L17)","v":11},null,null,null,"Total Sequences in Block Data",{"$f":"COUNTA(L18:L28)","v":11},null,null,null,"Total Sequences in Block Data",{"$f":"COUNTA(L29:L39)","v":11},null,null,null,"Total Sequences in Block Data",{"$f":"COUNTA(L40:L50)","v":11},null,null,null,"Total Sequences in Block Data",{"$f":"COUNTA(L51:L61)","v":11},null,null,null,"Total Sequences in Block Data",{"$f":"COUNTA(L62:L72)","v":11}]
[null,null,null,null,null,null,null,null,null,null,null,null,null,null,null,"Total Sequences in Summary",{"$f":"SUM(O7:O14)","v":66},null,null,null,null,"Total Sequences in Block Summary",{"$f":"SUM(U7:U14)","v":11},null,null,null,"Total Sequences in Block Summary",{"$f":"SUM(Z7:Z14)","v":11},null,null,null,"Total Sequences in Block Summary",{"$f":"SUM(AE7:AE14)","v":11},null,null,null,"Total Sequences in Block Summary",{"$f":"SUM(AJ7:AJ14)","v":11},null,null,null,"Total Sequences in Block Summary",{"$f":"SUM(AO7:AO14)","v":11},null,null,null,"Total Sequences in Block Summary",{"$f":"SUM(AT7:AT14)","v":11}]
[null,null,null,null,null,null,null,null,null,null,null,null,null,null,null,null,null,null,null,"Block 1",null,null,null,null,"Block 2",null,null,null,null,"Block 3",null,null,null,null,"Block 4",null,null,null,null,"Block 5",null,null,null,null,"Block 6"]
["Sequence\nComponent\n1","Time\n1","Sequence\nComponent\n2","Time\n2","Sequence\nComponent\n3","Time\n3","Sequence\nComponent\n4","Time\n4","Sequence\nComponent\n5","Time\n5","Correct?\n0=No 1=Yes","Sequence",null,"Frequency",null,"Relative Frequency","Variability",null,null,"Frequency",null,"Relative Frequency","Variability",null,"Frequency",null,"Relative Frequency","Variability",null,"Frequency",null,"Relative Frequency","Variability",null,"Frequency",null,"Relative Frequency","Variability",null,"Frequency",null,"Relative Frequency","Variability",null,"Frequency",null,"Relative Frequency","Variability"]
[12,49,13,57,13,66,null,null,null,null,0,111,null,111,{"$f":"COUNTIF($L$7:$L$500,N7)","v":20},{"$f":"O7/$Q$4","v":0.30303030303030304},{"$f":"IF(P7=0,0,(P7*((LOG(P7))/LOG(2))))","v":-0.52195940135487617},null,null,{"$f":"N7","v":111},{"$f":"COUNTIF(L7:L17,T7)","v":2},{"$f":"U7/(W4-U11)","v":0.66666666666666663},{"$f":"IF(V7=0,0,(V7*((LOG(V7))/LOG(2))))","v":-0.38997500048077083},null,{"$f":"N7","v":111},{"$f":"COUNTIF(L18:L28,Y7)","v":1},{"$f":"Z7/(AB4-Z11)","v":0.33333333333333331},{"$f":"IF(AA7=0,0,(AA7*((LOG(AA7))/LOG(2))))","v":-0.52832083357371862},null,{"$f":"N7","v":111},{"$f":"COUNTIF(L29:L39,AD7)","v":2},{"$f":"AE7/(AG4-AE11)","v":0.4},{"$f":"IF(AF7=0,0,(AF7*((LOG(AF7))/LOG(2))))","v":-0.52877123795494496},null,{"$f":"N7","v":111},{"$f":"COUNTIF(L40:L50,AI7)","v":4},{"$f":"AJ7/(AL4-AJ11)","v":1},{"$f":"IF(AK7=0,0,(AK7*((LOG(AK7))/LOG(2))))","v":0},null,{"$f":"N7","v":111},{"$f":"COUNTIF(L51:L61,AN7)","v":8},{"$f":"AO7/(AQ4-AO11)","v":0.88888888888888884},{"$f":"IF(AP7=0,0,(AP7*((LOG(AP7))/LOG(2))))","v":-0.15104444572649992},null,{"$f":"N7","v":111},{"$f":"COUNTIF(L62:L72,AS7)","v":3},{"$f":"AT7/(AV4-AT11)","v":1},{"$f":"IF(AU7=0,0,(AU7*((LOG(AU7))/LOG(2))))","v":0}]
[12,207,13,215,13,225,null,null,null,null,0,111,null,112,{"$f":"COUNTIF($L$7:$L$500,N8)","v":6},{"$f":"O8/$Q$4","v":9.0909090909090912E-2},{"$f":"IF(P8=0,0,(P8*((LOG(P8))/LOG(2))))","v":-0.31449378351248153},null,null,{"$f":"N8","v":112},{"$f":"COUNTIF(L7:L17,T8)","v":1},{"$f":"U8/(W4-U11)","v":0.33333333333333331},{"$f":"IF(V8=0,0,(V8*((LOG(V8))/LOG(2))))","v":-0.52832083357371862},null,{"$f":"N8","v":112},{"$f":"COUNTIF(L18:L28,Y8)","v":1},{"$f":"Z8/(AB4-Z11)","v":0.33333333333333331},{"$f":"IF(AA8=0,0,(AA8*((LOG(AA8))/LOG(2))))","v":-0.52832083357371862},null,{"$f":"N8","v":112},{"$f":"COUNTIF(L29:L39,AD8)","v":3},{"$f":"AE8/(AG4-AE11)","v":0.6},{"$f":"IF(AF8=0,0,(AF8*((LOG(AF8))/LOG(2))))","v":-0.44217935649972373},null,{"$f":"N8","v":112},{"$f":"COUNTIF(L40:L50,AI8)","v":0},{"$f":"AJ8/(AL4-AJ11)","v":0},{"$f":"IF(AK8=0,0,(AK8*((LOG(AK8))/LOG(2))))","v":0},null,{"$f":"N8","v":112},{"$f":"COUNTIF(L51:L61,AN8)","v":1},{"$f":"AO8/(AQ4-AO11)","v":0.1111111111111111},{"$f":"IF(AP8=0,0,(AP8*((LOG(AP8))/LOG(2))))","v":-0.3522138890491458},null,{"$f":"N8","v":112},{"$f":"COUNTIF(L62:L72,AS8)","v":0},{"$f":"AT8/(AV4-AT11)","v":0},{"$f":"IF(AU8=0,0,(AU8*((LOG(AU8))/LOG(2))))","v":0}]
[21,328,11,349,11,354,null,null,null,null,0,211,null,121,{"$f":"COUNTIF($L$7:$L$500,N9)","v":0},{"$f":"O9/$Q$4","v":0},{"$f":"IF(P9=0,0,(P9*((LOG(P9))/LOG(2))))","v":0},null,null,{"$f":"N9","v":121},{"$f":"COUNTIF(L7:L17,T9)","v":0},{"$f":"U9/(W4-U11)","v":0},{"$f":"IF(V9=0,0,(V9*((LOG(V9))/LOG(2))))","v":0},null,{"$f":"N9","v":121},{"$f":"COUNTIF(L18:L28,Y9)","v":0},{"$f":"Z9/(AB4-Z11)","v":0},{"$f":"IF(AA9=0,0,(AA9*((LOG(AA9))/LOG(2))))","v":0},null,{"$f":"N9","v":121},{"$f":"COUNTIF(L29:L39,AD9)","v":0},{"$f":"AE9/(AG4-AE11)","v":0},{"$f":"IF(AF9=0,0,(AF9*((LOG(AF9))/LOG(2))))","v":0},null,{"$f":"N9","v":121},{"$f":"COUNTIF(L40:L50,AI9)","v":0},{"$f":"AJ9/(AL4-AJ11)","v":0},{"$f":"IF(AK9=0,0,(AK9*((LOG(AK9))/LOG(2))))","v":0},null,{"$f":"N9","v":121},{"$f":"COUNTIF(L51:L61,AN9)","v":0},{"$f":"AO9/(AQ4-AO11)","v":0},{"$f":"IF(AP9=0,0,(AP9*((LOG(AP9))/LOG(2))))","v":0},null,{"$f":"N9","v":121},{"$f":"COUNTIF(L62:L72,AS9)","v":0},{"$f":"AT9/(AV4-AT11)","v":0},{"$f":"IF(AU9=0,0,(AU9*((LOG(AU9))/LOG(2))))","v":0}]
[21,451,11,462,11,469,null,null,null,null,0,211,null,122,{"$f":"COUNTIF($L$7:$L$500,N10)","v":0},{"$f":"O10/$Q$4","v":0},{"$f":"IF(P10=0,0,(P10*((LOG(P10))/LOG(2))))","v":0},null,null,{"$f":"N10","v":122},{"$f":"COUNTIF(L7:L17,T10)","v":0},{"$f":"U10/(W4-U11)","v":0},{"$f":"IF(V10=0,0,(V10*((LOG(V10))/LOG(2))))","v":0},null,{"$f":"N10","v":122},{"$f":"COUNTIF(L18:L28,Y10)","v":0},{"$f":"Z10/(AB4-Z11)","v":0},{"$f":"IF(AA10=0,0,(AA10*((LOG(AA10))/LOG(2))))","v":0},null,{"$f":"N10","v":122},{"$f":"COUNTIF(L29:L39,AD10)","v":0},{"$f":"AE10/(AG4-AE11)","v":0},{"$f":"IF(AF10=0,0,(AF10*((LOG(AF10))/LOG(2))))","v":0},null,{"$f":"N10","v":122},{"$f":"COUNTIF(L40:L50,AI10)","v":0},{"$f":"AJ10/(AL4-AJ11)","v":0},{"$f":"IF(AK10=0,0,(AK10*((LOG(AK10))/LOG(2))))","v":0},null,{"$f":"N10","v":122},{"$f":"COUNTIF(L51:L61,AN10)","v":0},{"$f":"AO10/(AQ4-AO11)","v":0},{"$f":"IF(AP10=0,0,(AP10*((LOG(AP10))/LOG(2))))","v":0},null,{"$f":"N10","v":122},{"$f":"COUNTIF(L62:L72,AS10)","v":0},{"$f":"AT10/(AV4-AT11)","v":0},{"$f":"IF(AU10=0,0,(AU10*((LOG(AU10))/LOG(2))))","v":0}]
[12,589,13,597,24,614,null,null,null,null,0,112,null,211,{"$f":"COUNTIF($L$7:$L$500,N11)","v":39},{"$f":"O11/$Q$4","v":0.59090909090909094},{"$f":"IF(P11=0,0,(P11*((LOG(P11))/LOG(2))))","v":-0.4484952139295757},null,null,{"$f":"N11","v":211},{"$f":"COUNTIF(L7:L17,T11)","v":8},null,null,null,{"$f":"N11","v":211},{"$f":"COUNTIF(L18:L28,Y11)","v":8},null,null,null,{"$f":"N11","v":211},{"$f":"COUNTIF(L29:L39,AD11)","v":6},null,null,null,{"$f":"N11","v":211},{"$f":"COUNTIF(L40:L50,AI11)","v":7},null,null,null,{"$f":"N11","v":211},{"$f":"COUNTIF(L51:L61,AN11)","v":2},null,null,null,{"$f":"N11","v":211},{"$f":"COUNTIF(L62:L72,AS11)","v":8}]
[21,721,11,731,11,737,null,null,null,null,0,211,null,212,{"$f":"COUNTIF($L$7:$L$500,N12)","v":1},{"$f":"O12/$Q$4","v":1.5151515151515152E-2},{"$f":"IF(P12=0,0,(P12*((LOG(P12))/LOG(2))))","v":-9.1581729081188695E-2},null,null,{"$f":"N12","v":212},{"$f":"COUNTIF(L7:L17,T12)","v":0},{"$f":"U12/(W4-U11)","v":0},{"$f":"IF(V12=0,0,(V12*((LOG(V12))/LOG(2))))","v":0},null,{"$f":"N12","v":212},{"$f":"COUNTIF(L18:L28,Y12)","v":1},{"$f":"Z12/(AB4-Z11)","v":0.33333333333333331},{"$f":"IF(AA12=0,0,(AA12*((LOG(AA12))/LOG(2))))","v":-0.52832083357371862},null,{"$f":"N12","v":212},{"$f":"COUNTIF(L29:L39,AD12)","v":0},{"$f":"AE12/(AG4-AE11)","v":0},{"$f":"IF(AF12=0,0,(AF12*((LOG(AF12))/LOG(2))))","v":0},null,{"$f":"N12","v":212},{"$f":"COUNTIF(L40:L50,AI12)","v":0},{"$f":"AJ12/(AL4-AJ11)","v":0},{"$f":"IF(AK12=0,0,(AK12*((LOG(AK12))/LOG(2))))","v":0},null,{"$f":"N12","v":212},{"$f":"COUNTIF(L51:L61,AN12)","v":0},{"$f":"AO12/(AQ4-AO11)","v":0},{"$f":"IF(AP12=0,0,(AP12*((LOG(AP12))/LOG(2))))","v":0},null,{"$f":"N12","v":212},{"$f":"COUNTIF(L62:L72,AS12)","v":0},{"$f":"AT12/(AV4-AT11)","v":0},{"$f":"IF(AU12=0,0,(AU12*((LOG(AU12))/LOG(2))))","v":0}]
[21,835,11,846,11,854,null,null,null,null,0,211,null,221,{"$f":"COUNTIF($L$7:$L$500,N13)","v":0},{"$f":"O13/$Q$4","v":0},{"$f":"IF(P13=0,0,(P13*((LOG(P13))/LOG(2))))","v":0},null,null,{"$f":"N13","v":221},{"$f":"COUNTIF(L7:L17,T13)","v":0},{"$f":"U13/(W4-U11)","v":0},{"$f":"IF(V13=0,0,(V13*((LOG(V13))/LOG(2))))","v":0},null,{"$f":"N13","v":221},{"$f":"COUNTIF(L18:L28,Y13)","v":0},{"$f":"Z13/(AB4-Z11)","v":0},{"$f":"IF(AA13=0,0,(AA13*((LOG(AA13))/LOG(2))))","v":0},null,{"$f":"N13","v":221},{"$f":"COUNTIF(L29:L39,AD13)","v":0},{"$f":"AE13/(AG4-AE11)","v":0},{"$f":"IF(AF13=0,0,(AF13*((LOG(AF13))/LOG(2))))","v":0},null,{"$f":"N13","v":221},{"$f":"COUNTIF(L40:L50,AI13)","v":0},{"$f":"AJ13/(AL4-AJ11)","v":0},{"$f":"IF(AK13=0,0,(AK13*((LOG(AK13))/LOG(2))))","v":0},null,{"$f":"N13","v":221},{"$f":"COUNTIF(L51:L61,AN13)","v":0},{"$f":"AO13/(AQ4-AO11)","v":0},{"$f":"IF(AP13=0,0,(AP13*((LOG(AP13))/LOG(2))))","v":0},null,{"$f":"N13","v":221},{"$f":"COUNTIF(L62:L72,AS13)","v":0},{"$f":"AT13/(AV4-AT11)","v":0},{"$f":"IF(AU13=0,0,(AU13*((LOG(AU13))/LOG(2))))","v":0}]
[21,951,11,968,11,976,null,null,null,null,0,211,null,222,{"$f":"COUNTIF($L$7:$L$500,N14)","v":0},{"$f":"O14/$Q$4","v":0},{"$f":"IF(P14=0,0,(P14*((LOG(P14))/LOG(2))))","v":0},null,null,{"$f":"N14","v":222},{"$f":"COUNTIF(L7:L17,T14)","v":0},{"$f":"U14/(W4-U11)","v":0},{"$f":"IF(V14=0,0,(V14*((LOG(V14))/LOG(2))))","v":0},null,{"$f":"N14","v":222},{"$f":"COUNTIF(L18:L28,Y14)","v":0},{"$f":"Z14/(AB4-Z11)","v":0},{"$f":"IF(AA14=0,0,(AA14*((LOG(AA14))/LOG(2))))","v":0},null,{"$f":"N14","v":222},{"$f":"COUNTIF(L29:L39,AD14)","v":0},{"$f":"AE14/(AG4-AE11)","v":0},{"$f":"IF(AF14=0,0,(AF14*((LOG(AF14))/LOG(2))))","v":0},null,{"$f":"N14","v":222},{"$f":"COUNTIF(L40:L50,AI14)","v":0},{"$f":"AJ14/(AL4-AJ11)","v":0},{"$f":"IF(AK14=0,0,(AK14*((LOG(AK14))/LOG(2))))","v":0},null,{"$f":"N14","v":222},{"$f":"COUNTIF(L51:L61,AN14)","v":0},{"$f":"AO14/(AQ4-AO11)","v":0},{"$f":"IF(AP14=0,0,(AP14*((LOG(AP14))/LOG(2))))","v":0},null,{"$f":"N14","v":222},{"$f":"COUNTIF(L62:L72,AS14)","v":0},{"$f":"AT14/(AV4-AT11)","v":0},{"$f":"IF(AU14=0,0,(AU14*((LOG(AU14))/LOG(2))))","v":0}]
[21,1069,11,1081,11,1093,null,null,null,null,0,211,null,null,null,{"$f":"SUM(P7:P14)","v":1},{"$f":"-SUM(Q7:Q14)","v":1.3765301278781221},null,null,null,null,{"$f":"SUM(V7:V14)","v":1},{"$f":"-SUM(W7:W14)","v":0.91829583405448945},null,null,null,{"$f":"SUM(AA7:AA14)","v":1},{"$f":"-SUM(AB7:AB14)","v":1.5849625007211559},null,null,null,{"$f":"SUM(AF7:AF14)","v":1},{"$f":"-SUM(AG7:AG14)","v":0.97095059445466869},null,null,null,{"$f":"SUM(AK7:AK14)","v":1},{"$f":"-SUM(AL7:AL14)","v":0},null,null,null,{"$f":"SUM(AP7:AP14)","v":1},{"$f":"-SUM(AQ7:AQ14)","v":0.50325833477564574},null,null,null,{"$f":"SUM(AU7:AU14)","v":1},{"$f":"-SUM(AV7:AV14)","v":0}]
[21,1186,11,1198,11,1206,null,null,null,null,0,211,null,null,null,"U=",{"$f":"Q15/(LOG(Q4)/LOG(2))","v":0.22773665990268446},null,null,null,null,"U1=",{"$f":"W15/(LOG(W4)/LOG(2))","v":0.26544702577940094},null,null,null,"U2=",{"$f":"AB15/(LOG(AB4)/LOG(2))","v":0.45815690999132608},null,null,null,"U3=",{"$f":"AG15/(LOG(AG4)/LOG(2))","v":0.28066766494928874},null,null,null,"U4=",{"$f":"AL15/(LOG(AL4)/LOG(2))","v":0},null,null,null,"U5=",{"$f":"AQ15/(LOG(AQ4)/LOG(2))","v":0.14547428313495148},null,null,null,"U6=",{"$f":"AV15/(LOG(AV4)/LOG(2))","v":0}]
[21,1293,11,1305,11,1311,null,null,null,null,0,211]
[21,1402,11,1411,11,1419,null,null,null,null,0,211]
[21,1507,11,1517,11,1522,null,null,null,null,0,211,null,"Total Target Seq"]
[21,1617,11,1631,11,1646,null,null,null,null,0,211,null,{"$f":"COUNTIF(L7:L72,G3)","v":39},null,11,11,11,11,11,11]
[12,1748,13,1754,13,1784,null,null,null,null,0,111,null,null,null,"% of reinforcement given in 6 equal intervals based on number of trials "]
[21,1885,11,1895,11,1900,null,null,null,null,0,211,null,null,null,"%_1","%_2","%_3","%_4","%_5","%_6"]
[21,1992,11,2004,22,2031,null,null,null,null,0,212,null,null,"target sequence",{"$f":"$G$3","v":211},{"$f":"$G$3","v":211},{"$f":"$G$3","v":211},{"$f":"$G$3","v":211},{"$f":"$G$3","v":211},{"$f":"$G$3","v":211}]
[21,2125,11,2135,11,2143,null,null,null,null,0,211,null,null,"total reinforcement",{"$f":"U11","v":8},{"$f":"Z11","v":8},{"$f":"AE11","v":6},{"$f":"AJ11","v":7},{"$f":"AO11","v":2},{"$f":"AT11","v":8}]
[21,2234,11,2247,11,2254,null,null,null,null,0,211,null,null,"% target"]
[21,2348,11,2361,11,2376,null,null,null,null,0,211,null,null,"CCRF"]
[21,2467,11,2481,11,2487,null,null,null,null,0,211,null,null,"% CCRf"]
[12,2591,13,2599,24,2635,null,null,null,null,0,112,null,null,"average response rate",{"$f":"F17/P20","v":119.18181818181819},{"$f":"(F28-F17)/Q20","v":120.36363636363636},{"$f":"(F39-F28)/R20","v":123.72727272727273},{"$f":"(F50-F39)/S20","v":118.27272727272727},{"$f":"(F61-F50)/T20","v":135.09090909090909},{"$f":"(F72-F61)/U20","v":119.81818181818181}]
[21,2737,11,2747,11,2752,null,null,null,null,0,211]
[21,2851,11,2865,11,2873,null,null,null,null,0,211]
[12,2978,13,2986,24,3000,null,null,null,null,0,112]
[21,3100,11,3112,11,3117,null,null,null,null,0,211]
[21,3208,11,3223,11,3231,null,null,null,null,0,211]
[12,3335,13,3344,24,3368,null,null,null,null,0,112]
[21,3474,11,3485,11,3489,null,null,null,null,0,211]
[12,3592,13,3598,13,3605,null,null,null,null,0,111]
[21,3706,11,3716,11,3721,null,null,null,null,0,211]
[12,3828,13,3835,24,3859,null,null,null,null,0,112]
[12,3976,13,3983,13,3996,null,null,null,null,0,111]
[21,4096,11,4105,11,4112,null,null,null,null,0,211]
[21,4205,11,4217,11,4224,null,null,null,null,0,211]
[21,4319,11,4328,11,4334,null,null,null,null,0,211]
[21,4428,11,4441,11,4448,null,null,null,null,0,211]
[21,4540,11,4551,11,4558,null,null,null,null,0,211]
[21,4652,11,4664,11,4670,null,null,null,null,0,211]
[12,4777,13,4785,13,4795,null,null,null,null,0,111]
[12,4907,13,4914,13,4925,null,null,null,null,0,111]
[12,5039,13,5044,13,5051,null,null,null,null,0,111]
[21,5157,11,5167,11,5173,null,null,null,null,0,211]
[12,5276,13,5286,13,5297,null,null,null,null,0,111]
[12,5405,13,5410,13,5417,null,null,null,null,0,111]
[12,5529,13,5534,13,5541,null,null,null,null,0,111]
[12,5661,13,5669,13,5726,null,null,null,null,0,111]
[12,5839,13,5847,13,5858,null,null,null,null,0,111]
[12,5969,13,5977,13,5986,null,null,null,null,0,111]
[12,6097,13,6104,24,6152,null,null,null,null,0,112]
[12,6264,13,6272,13,6281,null,null,null,null,0,111]
[12,6396,13,6404,13,6412,null,null,null,null,0,111]
[12,6525,13,6532,13,6540,null,null,null,null,0,111]
[21,6640,11,6655,11,6664,null,null,null,null,0,211]
[21,6762,11,6775,11,6783,null,null,null,null,0,211]
[21,6882,11,6896,11,6904,null,null,null,null,0,211]
[12,7003,13,7010,13,7017,null,null,null,null,0,111]
[21,7124,11,7137,11,7144,null,null,null,null,0,211]
[12,7254,13,7262,13,7275,null,null,null,null,0,111]
[12,7392,13,7397,13,7404,null,null,null,null,0,111]
[21,7503,11,7514,11,7519,null,null,null,null,0,211]
[21,7613,11,7626,11,7637,null,null,null,null,0,211]
[21,7728,11,7739,11,7746,null,null,null,null,0,211]
[21,7838,11,7847,11,7855,null,null,null,null,0,211]
[21,7948,11,7960,11,7975,null,null,null,null,0,211]
[21,8075,11,8086,11,8101,null,null,null,null,1,211]

{"sheet":"!M515A20.185","index":15,"n_rows":48,"n_cols":48,"rows_kept":48,"cut":false,"hidden":false,"merged":[[4,39,4,42],[5,39,5,40],[4,44,4,47],[5,44,5,45],[4,24,4,27],[5,24,5,25],[4,29,4,32],[5,29,5,30],[4,34,4,37],[5,34,5,35],[1,1,1,2],[5,13,5,14],[18,13,18,14],[19,13,19,14],[4,19,4,22],[5,19,5,20]]}
["Report for:!M515A20.185"]
["Date:","<date>"]
["Hen:","<hen>",null,null,null,"Correct Sequence",{"$f":"Start!J2","v":211},null,null,null,null,null,null,null,null,"Total Sequences in Data",{"$f":"4994-COUNTBLANK(L7:L5000)","v":42},null,null,null,null,"Total Sequences in Block Data",{"$f":"COUNTA(L7:L13)","v":7},null,null,null,"Total Sequences in Block Data",{"$f":"COUNTA(L14:L20)","v":7},null,null,null,"Total Sequences in Block Data",{"$f":"COUNTA(L21:L27)","v":7},null,null,null,"Total Sequences in Block Data",{"$f":"COUNTA(L28:L34)","v":7},null,null,null,"Total Sequences in Block Data",{"$f":"COUNTA(L35:L41)","v":7},null,null,null,"Total Sequences in Block Data",{"$f":"COUNTA(L42:L48)","v":7}]
[null,null,null,null,null,null,null,null,null,null,null,null,null,null,null,"Total Sequences in Summary",{"$f":"SUM(O7:O14)","v":42},null,null,null,null,"Total Sequences in Block Summary",{"$f":"SUM(U7:U14)","v":7},null,null,null,"Total Sequences in Block Summary",{"$f":"SUM(Z7:Z14)","v":7},null,null,null,"Total Sequences in Block Summary",{"$f":"SUM(AE7:AE14)","v":7},null,null,null,"Total Sequences in Block Summary",{"$f":"SUM(AJ7:AJ14)","v":7},null,null,null,"Total Sequences in Block Summary",{"$f":"SUM(AO7:AO14)","v":7},null,null,null,"Total Sequences in Block Summary",{"$f":"SUM(AT7:AT14)","v":7}]
[null,null,null,null,null,null,null,null,null,null,null,null,null,null,null,null,null,null,null,"Block 1",null,null,null,null,"Block 2",null,null,null,null,"Block 3",null,null,null,null,"Block 4",null,null,null,null,"Block 5",null,null,null,null,"Block 6"]
["Sequence\nComponent\n1","Time\n1","Sequence\nComponent\n2","Time\n2","Sequence\nComponent\n3","Time\n3","Sequence\nComponent\n4","Time\n4","Sequence\nComponent\n5","Time\n5","Correct?\n0=No 1=Yes","Sequence",null,"Frequency",null,"Relative Frequency","Variability",null,null,"Frequency",null,"Relative Frequency","Variability",null,"Frequency",null,"Relative Frequency","Variability",null,"Frequency",null,"Relative Frequency","Variability",null,"Frequency",null,"Relative Frequency","Variability",null,"Frequency",null,"Relative Frequency","Variability",null,"Frequency",null,"Relative Frequency","Variability"]
[21,14,11,32,22,54,null,null,null,null,0,212,null,111,{"$f":"COUNTIF($L$7:$L$500,N7)","v":1},{"$f":"O7/$Q$4","v":2.3809523809523808E-2},{"$f":"IF(P7=0,0,(P7*((LOG(P7))/LOG(2))))","v":-0.12838851006616095},null,null,{"$f":"N7","v":111},{"$f":"COUNTIF(L7:L13,T7)","v":0},{"$f":"U7/(W4-U11)","v":0},{"$f":"IF(V7=0,0,(V7*((LOG(V7))/LOG(2))))","v":0},null,{"$f":"N7","v":111},{"$f":"COUNTIF(L14:L20,Y7)","v":0},{"$f":"Z7/(AB4-Z11)","v":0},{"$f":"IF(AA7=0,0,(AA7*((LOG(AA7))/LOG(2))))","v":0},null,{"$f":"N7","v":111},{"$f":"COUNTIF(L21:L27,AD7)","v":0},{"$f":"AE7/(AG4-AE11)","v":{"$error":"#DIV/0!"}},{"$f":"IF(AF7=0,0,(AF7*((LOG(AF7))/LOG(2))))","v":{"$error":"#DIV/0!"}},null,{"$f":"N7","v":111},{"$f":"COUNTIF(L28:L34,AI7)","v":0},{"$f":"AJ7/(AL4-AJ11)","v":{"$error":"#DIV/0!"}},{"$f":"IF(AK7=0,0,(AK7*((LOG(AK7))/LOG(2))))","v":{"$error":"#DIV/0!"}},null,{"$f":"N7","v":111},{"$f":"COUNTIF(L35:L41,AN7)","v":0},{"$f":"AO7/(AQ4-AO11)","v":{"$error":"#DIV/0!"}},{"$f":"IF(AP7=0,0,(AP7*((LOG(AP7))/LOG(2))))","v":{"$error":"#DIV/0!"}},null,{"$f":"N7","v":111},{"$f":"COUNTIF(L42:L48,AS7)","v":1},{"$f":"AT7/(AV4-AT11)","v":1},{"$f":"IF(AU7=0,0,(AU7*((LOG(AU7))/LOG(2))))","v":0}]
[21,158,11,169,11,175,null,null,null,null,0,211,null,112,{"$f":"COUNTIF($L$7:$L$500,N8)","v":0},{"$f":"O8/$Q$4","v":0},{"$f":"IF(P8=0,0,(P8*((LOG(P8))/LOG(2))))","v":0},null,null,{"$f":"N8","v":112},{"$f":"COUNTIF(L7:L13,T8)","v":0},{"$f":"U8/(W4-U11)","v":0},{"$f":"IF(V8=0,0,(V8*((LOG(V8))/LOG(2))))","v":0},null,{"$f":"N8","v":112},{"$f":"COUNTIF(L14:L20,Y8)","v":0},{"$f":"Z8/(AB4-Z11)","v":0},{"$f":"IF(AA8=0,0,(AA8*((LOG(AA8))/LOG(2))))","v":0},null,{"$f":"N8","v":112},{"$f":"COUNTIF(L21:L27,AD8)","v":0},{"$f":"AE8/(AG4-AE11)","v":{"$error":"#DIV/0!"}},{"$f":"IF(AF8=0,0,(AF8*((LOG(AF8))/LOG(2))))","v":{"$error":"#DIV/0!"}},null,{"$f":"N8","v":112},{"$f":"COUNTIF(L28:L34,AI8)","v":0},{"$f":"AJ8/(AL4-AJ11)","v":{"$error":"#DIV/0!"}},{"$f":"IF(AK8=0,0,(AK8*((LOG(AK8))/LOG(2))))","v":{"$error":"#DIV/0!"}},null,{"$f":"N8","v":112},{"$f":"COUNTIF(L35:L41,AN8)","v":0},{"$f":"AO8/(AQ4-AO11)","v":{"$error":"#DIV/0!"}},{"$f":"IF(AP8=0,0,(AP8*((LOG(AP8))/LOG(2))))","v":{"$error":"#DIV/0!"}},null,{"$f":"N8","v":112},{"$f":"COUNTIF(L42:L48,AS8)","v":0},{"$f":"AT8/(AV4-AT11)","v":0},{"$f":"IF(AU8=0,0,(AU8*((LOG(AU8))/LOG(2))))","v":0}]
[21,287,11,301,11,312,null,null,null,null,0,211,null,121,{"$f":"COUNTIF($L$7:$L$500,N9)","v":0},{"$f":"O9/$Q$4","v":0},{"$f":"IF(P9=0,0,(P9*((LOG(P9))/LOG(2))))","v":0},null,null,{"$f":"N9","v":121},{"$f":"COUNTIF(L7:L13,T9)","v":0},{"$f":"U9/(W4-U11)","v":0},{"$f":"IF(V9=0,0,(V9*((LOG(V9))/LOG(2))))","v":0},null,{"$f":"N9","v":121},{"$f":"COUNTIF(L14:L20,Y9)","v":0},{"$f":"Z9/(AB4-Z11)","v":0},{"$f":"IF(AA9=0,0,(AA9*((LOG(AA9))/LOG(2))))","v":0},null,{"$f":"N9","v":121},{"$f":"COUNTIF(L21:L27,AD9)","v":0},{"$f":"AE9/(AG4-AE11)","v":{"$error":"#DIV/0!"}},{"$f":"IF(AF9=0,0,(AF9*((LOG(AF9))/LOG(2))))","v":{"$error":"#DIV/0!"}},null,{"$f":"N9","v":121},{"$f":"COUNTIF(L28:L34,AI9)","v":0},{"$f":"AJ9/(AL4-AJ11)","v":{"$error":"#DIV/0!"}},{"$f":"IF(AK9=0,0,(AK9*((LOG(AK9))/LOG(2))))","v":{"$error":"#DIV/0!"}},null,{"$f":"N9","v":121},{"$f":"COUNTIF(L35:L41,AN9)","v":0},{"$f":"AO9/(AQ4-AO11)","v":{"$error":"#DIV/0!"}},{"$f":"IF(AP9=0,0,(AP9*((LOG(AP9))/LOG(2))))","v":{"$error":"#DIV/0!"}},null,{"$f":"N9","v":121},{"$f":"COUNTIF(L42:L48,AS9)","v":0},{"$f":"AT9/(AV4-AT11)","v":0},{"$f":"IF(AU9=0,0,(AU9*((LOG(AU9))/LOG(2))))","v":0}]
[21,409,11,419,11,426,null,null,null,null,0,211,null,122,{"$f":"COUNTIF($L$7:$L$500,N10)","v":0},{"$f":"O10/$Q$4","v":0},{"$f":"IF(P10=0,0,(P10*((LOG(P10))/LOG(2))))","v":0},null,null,{"$f":"N10","v":122},{"$f":"COUNTIF(L7:L13,T10)","v":0},{"$f":"U10/(W4-U11)","v":0},{"$f":"IF(V10=0,0,(V10*((LOG(V10))/LOG(2))))","v":0},null,{"$f":"N10","v":122},{"$f":"COUNTIF(L14:L20,Y10)","v":0},{"$f":"Z10/(AB4-Z11)","v":0},{"$f":"IF(AA10=0,0,(AA10*((LOG(AA10))/LOG(2))))","v":0},null,{"$f":"N10","v":122},{"$f":"COUNTIF(L21:L27,AD10)","v":0},{"$f":"AE10/(AG4-AE11)","v":{"$error":"#DIV/0!"}},{"$f":"IF(AF10=0,0,(AF10*((LOG(AF10))/LOG(2))))","v":{"$error":"#DIV/0!"}},null,{"$f":"N10","v":122},{"$f":"COUNTIF(L28:L34,AI10)","v":0},{"$f":"AJ10/(AL4-AJ11)","v":{"$error":"#DIV/0!"}},{"$f":"IF(AK10=0,0,(AK10*((LOG(AK10))/LOG(2))))","v":{"$error":"#DIV/0!"}},null,{"$f":"N10","v":122},{"$f":"COUNTIF(L35:L41,AN10)","v":0},{"$f":"AO10/(AQ4-AO11)","v":{"$error":"#DIV/0!"}},{"$f":"IF(AP10=0,0,(AP10*((LOG(AP10))/LOG(2))))","v":{"$error":"#DIV/0!"}},null,{"$f":"N10","v":122},{"$f":"COUNTIF(L42:L48,AS10)","v":0},{"$f":"AT10/(AV4-AT11)","v":0},{"$f":"IF(AU10=0,0,(AU10*((LOG(AU10))/LOG(2))))","v":0}]
[21,529,11,540,11,548,null,null,null,null,0,211,null,211,{"$f":"COUNTIF($L$7:$L$500,N11)","v":39},{"$f":"O11/$Q$4","v":0.9285714285714286},{"$f":"IF(P11=0,0,(P11*((LOG(P11))/LOG(2))))","v":-9.9278403636761048E-2},null,null,{"$f":"N11","v":211},{"$f":"COUNTIF(L7:L13,T11)","v":6},null,null,null,{"$f":"N11","v":211},{"$f":"COUNTIF(L14:L20,Y11)","v":6},null,null,null,{"$f":"N11","v":211},{"$f":"COUNTIF(L21:L27,AD11)","v":7},null,null,null,{"$f":"N11","v":211},{"$f":"COUNTIF(L28:L34,AI11)","v":7},null,null,null,{"$f":"N11","v":211},{"$f":"COUNTIF(L35:L41,AN11)","v":7},null,null,null,{"$f":"N11","v":211},{"$f":"COUNTIF(L42:L48,AS11)","v":6}]
[21,648,11,661,11,668,null,null,null,null,0,211,null,212,{"$f":"COUNTIF($L$7:$L$500,N12)","v":2},{"$f":"O12/$Q$4","v":4.7619047619047616E-2},{"$f":"IF(P12=0,0,(P12*((LOG(P12))/LOG(2))))","v":-0.20915797251327431},null,null,{"$f":"N12","v":212},{"$f":"COUNTIF(L7:L13,T12)","v":1},{"$f":"U12/(W4-U11)","v":1},{"$f":"IF(V12=0,0,(V12*((LOG(V12))/LOG(2))))","v":0},null,{"$f":"N12","v":212},{"$f":"COUNTIF(L14:L20,Y12)","v":1},{"$f":"Z12/(AB4-Z11)","v":1},{"$f":"IF(AA12=0,0,(AA12*((LOG(AA12))/LOG(2))))","v":0},null,{"$f":"N12","v":212},{"$f":"COUNTIF(L21:L27,AD12)","v":0},{"$f":"AE12/(AG4-AE11)","v":{"$error":"#DIV/0!"}},{"$f":"IF(AF12=0,0,(AF12*((LOG(AF12))/LOG(2))))","v":{"$error":"#DIV/0!"}},null,{"$f":"N12","v":212},{"$f":"COUNTIF(L28:L34,AI12)","v":0},{"$f":"AJ12/(AL4-AJ11)","v":{"$error":"#DIV/0!"}},{"$f":"IF(AK12=0,0,(AK12*((LOG(AK12))/LOG(2))))","v":{"$error":"#DIV/0!"}},null,{"$f":"N12","v":212},{"$f":"COUNTIF(L35:L41,AN12)","v":0},{"$f":"AO12/(AQ4-AO11)","v":{"$error":"#DIV/0!"}},{"$f":"IF(AP12=0,0,(AP12*((LOG(AP12))/LOG(2))))","v":{"$error":"#DIV/0!"}},null,{"$f":"N12","v":212},{"$f":"COUNTIF(L42:L48,AS12)","v":0},{"$f":"AT12/(AV4-AT11)","v":0},{"$f":"IF(AU12=0,0,(AU12*((LOG(AU12))/LOG(2))))","v":0}]
[21,761,11,772,11,776,null,null,null,null,0,211,null,221,{"$f":"COUNTIF($L$7:$L$500,N13)","v":0},{"$f":"O13/$Q$4","v":0},{"$f":"IF(P13=0,0,(P13*((LOG(P13))/LOG(2))))","v":0},null,null,{"$f":"N13","v":221},{"$f":"COUNTIF(L7:L13,T13)","v":0},{"$f":"U13/(W4-U11)","v":0},{"$f":"IF(V13=0,0,(V13*((LOG(V13))/LOG(2))))","v":0},null,{"$f":"N13","v":221},{"$f":"COUNTIF(L14:L20,Y13)","v":0},{"$f":"Z13/(AB4-Z11)","v":0},{"$f":"IF(AA13=0,0,(AA13*((LOG(AA13))/LOG(2))))","v":0},null,{"$f":"N13","v":221},{"$f":"COUNTIF(L21:L27,AD13)","v":0},{"$f":"AE13/(AG4-AE11)","v":{"$error":"#DIV/0!"}},{"$f":"IF(AF13=0,0,(AF13*((LOG(AF13))/LOG(2))))","v":{"$error":"#DIV/0!"}},null,{"$f":"N13","v":221},{"$f":"COUNTIF(L28:L34,AI13)","v":0},{"$f":"AJ13/(AL4-AJ11)","v":{"$error":"#DIV/0!"}},{"$f":"IF(AK13=0,0,(AK13*((LOG(AK13))/LOG(2))))","v":{"$error":"#DIV/0!"}},null,{"$f":"N13","v":221},{"$f":"COUNTIF(L35:L41,AN13)","v":0},{"$f":"AO13/(AQ4-AO11)","v":{"$error":"#DIV/0!"}},{"$f":"IF(AP13=0,0,(AP13*((LOG(AP13))/LOG(2))))","v":{"$error":"#DIV/0!"}},null,{"$f":"N13","v":221},{"$f":"COUNTIF(L42:L48,AS13)","v":0},{"$f":"AT13/(AV4-AT11)","v":0},{"$f":"IF(AU13=0,0,(AU13*((LOG(AU13))/LOG(2))))","v":0}]
[21,875,11,889,22,914,null,null,null,null,0,212,null,222,{"$f":"COUNTIF($L$7:$L$500,N14)","v":0},{"$f":"O14/$Q$4","v":0},{"$f":"IF(P14=0,0,(P14*((LOG(P14))/LOG(2))))","v":0},null,null,{"$f":"N14","v":222},{"$f":"COUNTIF(L7:L13,T14)","v":0},{"$f":"U14/(W4-U11)","v":0},{"$f":"IF(V14=0,0,(V14*((LOG(V14))/LOG(2))))","v":0},null,{"$f":"N14","v":222},{"$f":"COUNTIF(L14:L20,Y14)","v":0},{"$f":"Z14/(AB4-Z11)","v":0},{"$f":"IF(AA14=0,0,(AA14*((LOG(AA14))/LOG(2))))","v":0},null,{"$f":"N14","v":222},{"$f":"COUNTIF(L21:L27,AD14)","v":0},{"$f":"AE14/(AG4-AE11)","v":{"$error":"#DIV/0!"}},{"$f":"IF(AF14=0,0,(AF14*((LOG(AF14))/LOG(2))))","v":{"$error":"#DIV/0!"}},null,{"$f":"N14","v":222},{"$f":"COUNTIF(L28:L34,AI14)","v":0},{"$f":"AJ14/(AL4-AJ11)","v":{"$error":"#DIV/0!"}},{"$f":"IF(AK14=0,0,(AK14*((LOG(AK14))/LOG(2))))","v":{"$error":"#DIV/0!"}},null,{"$f":"N14","v":222},{"$f":"COUNTIF(L35:L41,AN14)","v":0},{"$f":"AO14/(AQ4-AO11)","v":{"$error":"#DIV/0!"}},{"$f":"IF(AP14=0,0,(AP14*((LOG(AP14))/LOG(2))))","v":{"$error":"#DIV/0!"}},null,{"$f":"N14","v":222},{"$f":"COUNTIF(L42:L48,AS14)","v":0},{"$f":"AT14/(AV4-AT11)","v":0},{"$f":"IF(AU14=0,0,(AU14*((LOG(AU14))/LOG(2))))","v":0}]
[21,1019,11,1032,11,1039,null,null,null,null,0,211,null,null,null,{"$f":"SUM(P7:P14)","v":1},{"$f":"-SUM(Q7:Q14)","v":0.43682488621619631},null,null,null,null,{"$f":"SUM(V7:V14)","v":1},{"$f":"-SUM(W7:W14)","v":0},null,null,null,{"$f":"SUM(AA7:AA14)","v":1},{"$f":"-SUM(AB7:AB14)","v":0},null,null,null,{"$f":"SUM(AF7:AF14)","v":{"$error":"#DIV/0!"}},{"$f":"-SUM(AG7:AG14)","v":{"$error":"#DIV/0!"}},null,null,null,{"$f":"SUM(AK7:AK14)","v":{"$error":"#DIV/0!"}},{"$f":"-SUM(AL7:AL14)","v":{"$error":"#DIV/0!"}},null,null,null,{"$f":"SUM(AP7:AP14)","v":{"$error":"#DIV/0!"}},{"$f":"-SUM(AQ7:AQ14)","v":{"$error":"#DIV/0!"}},null,null,null,{"$f":"SUM(AU7:AU14)","v":1},{"$f":"-SUM(AV7:AV14)","v":0}]
[21,1137,11,1150,11,1157,null,null,null,null,0,211,null,null,null,"U=",{"$f":"Q15/(LOG(Q4)/LOG(2))","v":8.1008748552323234E-2},null,null,null,null,"U1=",{"$f":"W15/(LOG(W4)/LOG(2))","v":0},null,null,null,"U2=",{"$f":"AB15/(LOG(AB4)/LOG(2))","v":0},null,null,null,"U3=",{"$f":"AG15/(LOG(AG4)/LOG(2))","v":{"$error":"#DIV/0!"}},null,null,null,"U4=",{"$f":"AL15/(LOG(AL4)/LOG(2))","v":{"$error":"#DIV/0!"}},null,null,null,"U5=",{"$f":"AQ15/(LOG(AQ4)/LOG(2))","v":{"$error":"#DIV/0!"}},null,null,null,"U6=",{"$f":"AV15/(LOG(AV4)/LOG(2))","v":0}]
[21,1254,11,1267,11,1274,null,null,null,null,0,211]
[21,1366,11,1376,11,1381,null,null,null,null,0,211]
[21,1474,11,1487,11,1499,null,null,null,null,0,211,null,"Total Target Seq"]
[21,1592,11,1603,11,1608,null,null,null,null,0,211,null,{"$f":"COUNTIF(L7:L48,G3)","v":39},null,7,7,7,7,7,7]
[21,1707,11,1719,11,1726,null,null,null,null,0,211,null,null,null,"% of reinforcement given in 6 equal intervals based on number of trials "]
[21,1817,11,1826,11,1831,null,null,null,null,0,211,null,null,null,"%_1","%_2","%_3","%_4","%_5","%_6"]
[21,1922,11,1932,11,1940,null,null,null,null,0,211,null,null,"target sequence",{"$f":"$G$3","v":211},{"$f":"$G$3","v":211},{"$f":"$G$3","v":211},{"$f":"$G$3","v":211},{"$f":"$G$3","v":211},{"$f":"$G$3","v":211}]
[21,2032,11,2042,11,2046,null,null,null,null,0,211,null,null,"total reinforcement",{"$f":"U11","v":6},{"$f":"Z11","v":6},{"$f":"AE11","v":7},{"$f":"AJ11","v":7},{"$f":"AO11","v":7},{"$f":"AT11","v":6}]
[21,2138,11,2148,11,2154,null,null,null,null,0,211,null,null,"% target"]
[21,2256,11,2270,11,2278,null,null,null,null,0,211,null,null,"CCRF"]
[21,2369,11,2380,11,2387,null,null,null,null,0,211,null,null,"% CCRf"]
[21,2481,11,2493,11,2500,null,null,null,null,0,211,null,null,"average response rate",{"$f":"F13/P20","v":110.85714285714286},{"$f":"(F20-F13)/Q20","v":118.85714285714286},{"$f":"(F27-F20)/R20","v":111.28571428571429},{"$f":"(F34-F27)/S20","v":109.28571428571429},{"$f":"(F41-F34)/T20","v":108.85714285714286},{"$f":"(F48-F41)/U20","v":116}]
[21,2596,11,2605,11,2610,null,null,null,null,0,211]
[21,2703,11,2713,11,2721,null,null,null,null,0,211]
[21,2811,11,2820,11,2825,null,null,null,null,0,211]
[21,2915,11,2924,11,2931,null,null,null,null,0,211]
[21,3025,11,3035,11,3043,null,null,null,null,0,211]
[21,3134,11,3144,11,3152,null,null,null,null,0,211]
[21,3245,11,3254,11,3259,null,null,null,null,0,211]
[21,3353,11,3362,11,3366,null,null,null,null,0,211]
[21,3458,11,3467,11,3477,null,null,null,null,0,211]
[21,3567,11,3577,11,3584,null,null,null,null,0,211]
[21,3684,11,3693,11,3698,null,null,null,null,0,211]
[21,3790,11,3798,11,3806,null,null,null,null,0,211]
[21,3895,11,3907,11,3914,null,null,null,null,0,211]
[12,4027,13,4035,13,4056,null,null,null,null,0,111]
[21,4158,11,4168,11,4175,null,null,null,null,0,211]
[21,4265,11,4275,11,4280,null,null,null,null,0,211]
[21,4374,11,4384,11,4393,null,null,null,null,0,211]
[21,4486,11,4495,11,4500,null,null,null,null,0,211]
[21,4590,11,4600,11,4612,null,null,null,null,0,211]
[21,4704,11,4718,11,4726,null,null,null,null,1,211]

{"sheet":"!M516B20.185","index":16,"n_rows":58,"n_cols":48,"rows_kept":58,"cut":false,"hidden":false,"merged":[[4,39,4,42],[5,39,5,40],[4,44,4,47],[5,44,5,45],[4,24,4,27],[5,24,5,25],[4,29,4,32],[5,29,5,30],[4,34,4,37],[5,34,5,35],[1,1,1,2],[5,13,5,14],[18,13,18,14],[19,13,19,14],[4,19,4,22],[5,19,5,20]]}
["Report for:!M516B20.185"]
["Date:","<date>"]
["Hen:","<hen>",null,null,null,"Correct Sequence",{"$f":"Start!J2","v":211},null,null,null,null,null,null,null,null,"Total Sequences in Data",{"$f":"4994-COUNTBLANK(L7:L5000)","v":52},null,null,null,null,"Total Sequences in Block Data",{"$f":"COUNTA(L7:L15)","v":9},null,null,null,"Total Sequences in Block Data",{"$f":"COUNTA(L16:L23)","v":8},null,null,null,"Total Sequences in Block Data",{"$f":"COUNTA(L24:L32)","v":9},null,null,null,"Total Sequences in Block Data",{"$f":"COUNTA(L33:L41)","v":9},null,null,null,"Total Sequences in Block Data",{"$f":"COUNTA(L42:L49)","v":8},null,null,null,"Total Sequences in Block Data",{"$f":"COUNTA(L50:L58)","v":9}]
[null,null,null,null,null,null,null,null,null,null,null,null,null,null,null,"Total Sequences in Summary",{"$f":"SUM(O7:O14)","v":52},null,null,null,null,"Total Sequences in Block Summary",{"$f":"SUM(U7:U14)","v":9},null,null,null,"Total Sequences in Block Summary",{"$f":"SUM(Z7:Z14)","v":8},null,null,null,"Total Sequences in Block Summary",{"$f":"SUM(AE7:AE14)","v":9},null,null,null,"Total Sequences in Block Summary",{"$f":"SUM(AJ7:AJ14)","v":9},null,null,null,"Total Sequences in Block Summary",{"$f":"SUM(AO7:AO14)","v":8},null,null,null,"Total Sequences in Block Summary",{"$f":"SUM(AT7:AT14)","v":9}]
[null,null,null,null,null,null,null,null,null,null,null,null,null,null,null,null,null,null,null,"Block 1",null,null,null,null,"Block 2",null,null,null,null,"Block 3",null,null,null,null,"Block 4",null,null,null,null,"Block 5",null,null,null,null,"Block 6"]
["Sequence\nComponent\n1","Time\n1","Sequence\nComponent\n2","Time\n2","Sequence\nComponent\n3","Time\n3","Sequence\nComponent\n4","Time\n4","Sequence\nComponent\n5","Time\n5","Correct?\n0=No 1=Yes","Sequence",null,"Frequency",null,"Relative Frequency","Variability",null,null,"Frequency",null,"Relative Frequency","Variability",null,"Frequency",null,"Relative Frequency","Variability",null,"Frequency",null,"Relative Frequency","Variability",null,"Frequency",null,"Relative Frequency","Variability",null,"Frequency",null,"Relative Frequency","Variability",null,"Frequency",null,"Relative Frequency","Variability"]
[21,34,11,44,11,51,null,null,null,null,0,211,null,111,{"$f":"COUNTIF($L$7:$L$500,N7)","v":3},{"$f":"O7/$Q$4","v":5.7692307692307696E-2},{"$f":"IF(P7=0,0,(P7*((LOG(P7))/LOG(2))))","v":-0.23743137792807323},null,null,{"$f":"N7","v":111},{"$f":"COUNTIF(L7:L15,T7)","v":1},{"$f":"U7/(W4-U11)","v":0.5},{"$f":"IF(V7=0,0,(V7*((LOG(V7))/LOG(2))))","v":-0.5},null,{"$f":"N7","v":111},{"$f":"COUNTIF(L16:L23,Y7)","v":0},{"$f":"Z7/(AB4-Z11)","v":0},{"$f":"IF(AA7=0,0,(AA7*((LOG(AA7))/LOG(2))))","v":0},null,{"$f":"N7","v":111},{"$f":"COUNTIF(L24:L32,AD7)","v":0},{"$f":"AE7/(AG4-AE11)","v":0},{"$f":"IF(AF7=0,0,(AF7*((LOG(AF7))/LOG(2))))","v":0},null,{"$f":"N7","v":111},{"$f":"COUNTIF(L33:L41,AI7)","v":2},{"$f":"AJ7/(AL4-AJ11)","v":0.66666666666666663},{"$f":"IF(AK7=0,0,(AK7*((LOG(AK7))/LOG(2))))","v":-0.38997500048077083},null,{"$f":"N7","v":111},{"$f":"COUNTIF(L42:L49,AN7)","v":0},{"$f":"AO7/(AQ4-AO11)","v":0},{"$f":"IF(AP7=0,0,(AP7*((LOG(AP7))/LOG(2))))","v":0},null,{"$f":"N7","v":111},{"$f":"COUNTIF(L50:L58,AS7)","v":0},{"$f":"AT7/(AV4-AT11)","v":0},{"$f":"IF(AU7=0,0,(AU7*((LOG(AU7))/LOG(2))))","v":0}]
[21,146,11,158,11,163,null,null,null,null,0,211,null,112,{"$f":"COUNTIF($L$7:$L$500,N8)","v":1},{"$f":"O8/$Q$4","v":1.9230769230769232E-2},{"$f":"IF(P8=0,0,(P8*((LOG(P8))/LOG(2))))","v":-0.10962384073348255},null,null,{"$f":"N8","v":112},{"$f":"COUNTIF(L7:L15,T8)","v":0},{"$f":"U8/(W4-U11)","v":0},{"$f":"IF(V8=0,0,(V8*((LOG(V8))/LOG(2))))","v":0},null,{"$f":"N8","v":112},{"$f":"COUNTIF(L16:L23,Y8)","v":0},{"$f":"Z8/(AB4-Z11)","v":0},{"$f":"IF(AA8=0,0,(AA8*((LOG(AA8))/LOG(2))))","v":0},null,{"$f":"N8","v":112},{"$f":"COUNTIF(L24:L32,AD8)","v":0},{"$f":"AE8/(AG4-AE11)","v":0},{"$f":"IF(AF8=0,0,(AF8*((LOG(AF8))/LOG(2))))","v":0},null,{"$f":"N8","v":112},{"$f":"COUNTIF(L33:L41,AI8)","v":0},{"$f":"AJ8/(AL4-AJ11)","v":0},{"$f":"IF(AK8=0,0,(AK8*((LOG(AK8))/LOG(2))))","v":0},null,{"$f":"N8","v":112},{"$f":"COUNTIF(L42:L49,AN8)","v":0},{"$f":"AO8/(AQ4-AO11)","v":0},{"$f":"IF(AP8=0,0,(AP8*((LOG(AP8))/LOG(2))))","v":0},null,{"$f":"N8","v":112},{"$f":"COUNTIF(L50:L58,AS8)","v":1},{"$f":"AT8/(AV4-AT11)","v":1},{"$f":"IF(AU8=0,0,(AU8*((LOG(AU8))/LOG(2))))","v":0}]
[21,258,11,272,11,277,null,null,null,null,0,211,null,121,{"$f":"COUNTIF($L$7:$L$500,N9)","v":0},{"$f":"O9/$Q$4","v":0},{"$f":"IF(P9=0,0,(P9*((LOG(P9))/LOG(2))))","v":0},null,null,{"$f":"N9","v":121},{"$f":"COUNTIF(L7:L15,T9)","v":0},{"$f":"U9/(W4-U11)","v":0},{"$f":"IF(V9=0,0,(V9*((LOG(V9))/LOG(2))))","v":0},null,{"$f":"N9","v":121},{"$f":"COUNTIF(L16:L23,Y9)","v":0},{"$f":"Z9/(AB4-Z11)","v":0},{"$f":"IF(AA9=0,0,(AA9*((LOG(AA9))/LOG(2))))","v":0},null,{"$f":"N9","v":121},{"$f":"COUNTIF(L24:L32,AD9)","v":0},{"$f":"AE9/(AG4-AE11)","v":0},{"$f":"IF(AF9=0,0,(AF9*((LOG(AF9))/LOG(2))))","v":0},null,{"$f":"N9","v":121},{"$f":"COUNTIF(L33:L41,AI9)","v":0},{"$f":"AJ9/(AL4-AJ11)","v":0},{"$f":"IF(AK9=0,0,(AK9*((LOG(AK9))/LOG(2))))","v":0},null,{"$f":"N9","v":121},{"$f":"COUNTIF(L42:L49,AN9)","v":0},{"$f":"AO9/(AQ4-AO11)","v":0},{"$f":"IF(AP9=0,0,(AP9*((LOG(AP9))/LOG(2))))","v":0},null,{"$f":"N9","v":121},{"$f":"COUNTIF(L50:L58,AS9)","v":0},{"$f":"AT9/(AV4-AT11)","v":0},{"$f":"IF(AU9=0,0,(AU9*((LOG(AU9))/LOG(2))))","v":0}]
[21,370,11,380,11,391,null,null,null,null,0,211,null,122,{"$f":"COUNTIF($L$7:$L$500,N10)","v":0},{"$f":"O10/$Q$4","v":0},{"$f":"IF(P10=0,0,(P10*((LOG(P10))/LOG(2))))","v":0},null,null,{"$f":"N10","v":122},{"$f":"COUNTIF(L7:L15,T10)","v":0},{"$f":"U10/(W4-U11)","v":0},{"$f":"IF(V10=0,0,(V10*((LOG(V10))/LOG(2))))","v":0},null,{"$f":"N10","v":122},{"$f":"COUNTIF(L16:L23,Y10)","v":0},{"$f":"Z10/(AB4-Z11)","v":0},{"$f":"IF(AA10=0,0,(AA10*((LOG(AA10))/LOG(2))))","v":0},null,{"$f":"N10","v":122},{"$f":"COUNTIF(L24:L32,AD10)","v":0},{"$f":"AE10/(AG4-AE11)","v":0},{"$f":"IF(AF10=0,0,(AF10*((LOG(AF10))/LOG(2))))","v":0},null,{"$f":"N10","v":122},{"$f":"COUNTIF(L33:L41,AI10)","v":0},{"$f":"AJ10/(AL4-AJ11)","v":0},{"$f":"IF(AK10=0,0,(AK10*((LOG(AK10))/LOG(2))))","v":0},null,{"$f":"N10","v":122},{"$f":"COUNTIF(L42:L49,AN10)","v":0},{"$f":"AO10/(AQ4-AO11)","v":0},{"$f":"IF(AP10=0,0,(AP10*((LOG(AP10))/LOG(2))))","v":0},null,{"$f":"N10","v":122},{"$f":"COUNTIF(L50:L58,AS10)","v":0},{"$f":"AT10/(AV4-AT11)","v":0},{"$f":"IF(AU10=0,0,(AU10*((LOG(AU10))/LOG(2))))","v":0}]
[21,482,22,492,13,502,null,null,null,null,0,221,null,211,{"$f":"COUNTIF($L$7:$L$500,N11)","v":39},{"$f":"O11/$Q$4","v":0.75},{"$f":"IF(P11=0,0,(P11*((LOG(P11))/LOG(2))))","v":-0.31127812445913283},null,null,{"$f":"N11","v":211},{"$f":"COUNTIF(L7:L15,T11)","v":7},null,null,null,{"$f":"N11","v":211},{"$f":"COUNTIF(L16:L23,Y11)","v":7},null,null,null,{"$f":"N11","v":211},{"$f":"COUNTIF(L24:L32,AD11)","v":4},null,null,null,{"$f":"N11","v":211},{"$f":"COUNTIF(L33:L41,AI11)","v":6},null,null,null,{"$f":"N11","v":211},{"$f":"COUNTIF(L42:L49,AN11)","v":7},null,null,null,{"$f":"N11","v":211},{"$f":"COUNTIF(L50:L58,AS11)","v":8}]
[21,607,11,617,11,632,null,null,null,null,0,211,null,212,{"$f":"COUNTIF($L$7:$L$500,N12)","v":0},{"$f":"O12/$Q$4","v":0},{"$f":"IF(P12=0,0,(P12*((LOG(P12))/LOG(2))))","v":0},null,null,{"$f":"N12","v":212},{"$f":"COUNTIF(L7:L15,T12)","v":0},{"$f":"U12/(W4-U11)","v":0},{"$f":"IF(V12=0,0,(V12*((LOG(V12))/LOG(2))))","v":0},null,{"$f":"N12","v":212},{"$f":"COUNTIF(L16:L23,Y12)","v":0},{"$f":"Z12/(AB4-Z11)","v":0},{"$f":"IF(AA12=0,0,(AA12*((LOG(AA12))/LOG(2))))","v":0},null,{"$f":"N12","v":212},{"$f":"COUNTIF(L24:L32,AD12)","v":0},{"$f":"AE12/(AG4-AE11)","v":0},{"$f":"IF(AF12=0,0,(AF12*((LOG(AF12))/LOG(2))))","v":0},null,{"$f":"N12","v":212},{"$f":"COUNTIF(L33:L41,AI12)","v":0},{"$f":"AJ12/(AL4-AJ11)","v":0},{"$f":"IF(AK12=0,0,(AK12*((LOG(AK12))/LOG(2))))","v":0},null,{"$f":"N12","v":212},{"$f":"COUNTIF(L42:L49,AN12)","v":0},{"$f":"AO12/(AQ4-AO11)","v":0},{"$f":"IF(AP12=0,0,(AP12*((LOG(AP12))/LOG(2))))","v":0},null,{"$f":"N12","v":212},{"$f":"COUNTIF(L50:L58,AS12)","v":0},{"$f":"AT12/(AV4-AT11)","v":0},{"$f":"IF(AU12=0,0,(AU12*((LOG(AU12))/LOG(2))))","v":0}]
[12,746,13,753,13,796,null,null,null,null,0,111,null,221,{"$f":"COUNTIF($L$7:$L$500,N13)","v":9},{"$f":"O13/$Q$4","v":0.17307692307692307},{"$f":"IF(P13=0,0,(P13*((LOG(P13))/LOG(2))))","v":-0.43797370096709648},null,null,{"$f":"N13","v":221},{"$f":"COUNTIF(L7:L15,T13)","v":1},{"$f":"U13/(W4-U11)","v":0.5},{"$f":"IF(V13=0,0,(V13*((LOG(V13))/LOG(2))))","v":-0.5},null,{"$f":"N13","v":221},{"$f":"COUNTIF(L16:L23,Y13)","v":1},{"$f":"Z13/(AB4-Z11)","v":1},{"$f":"IF(AA13=0,0,(AA13*((LOG(AA13))/LOG(2))))","v":0},null,{"$f":"N13","v":221},{"$f":"COUNTIF(L24:L32,AD13)","v":5},{"$f":"AE13/(AG4-AE11)","v":1},{"$f":"IF(AF13=0,0,(AF13*((LOG(AF13))/LOG(2))))","v":0},null,{"$f":"N13","v":221},{"$f":"COUNTIF(L33:L41,AI13)","v":1},{"$f":"AJ13/(AL4-AJ11)","v":0.33333333333333331},{"$f":"IF(AK13=0,0,(AK13*((LOG(AK13))/LOG(2))))","v":-0.52832083357371862},null,{"$f":"N13","v":221},{"$f":"COUNTIF(L42:L49,AN13)","v":1},{"$f":"AO13/(AQ4-AO11)","v":1},{"$f":"IF(AP13=0,0,(AP13*((LOG(AP13))/LOG(2))))","v":0},null,{"$f":"N13","v":221},{"$f":"COUNTIF(L50:L58,AS13)","v":0},{"$f":"AT13/(AV4-AT11)","v":0},{"$f":"IF(AU13=0,0,(AU13*((LOG(AU13))/LOG(2))))","v":0}]
[21,897,11,909,11,913,null,null,null,null,0,211,null,222,{"$f":"COUNTIF($L$7:$L$500,N14)","v":0},{"$f":"O14/$Q$4","v":0},{"$f":"IF(P14=0,0,(P14*((LOG(P14))/LOG(2))))","v":0},null,null,{"$f":"N14","v":222},{"$f":"COUNTIF(L7:L15,T14)","v":0},{"$f":"U14/(W4-U11)","v":0},{"$f":"IF(V14=0,0,(V14*((LOG(V14))/LOG(2))))","v":0},null,{"$f":"N14","v":222},{"$f":"COUNTIF(L16:L23,Y14)","v":0},{"$f":"Z14/(AB4-Z11)","v":0},{"$f":"IF(AA14=0,0,(AA14*((LOG(AA14))/LOG(2))))","v":0},null,{"$f":"N14","v":222},{"$f":"COUNTIF(L24:L32,AD14)","v":0},{"$f":"AE14/(AG4-AE11)","v":0},{"$f":"IF(AF14=0,0,(AF14*((LOG(AF14))/LOG(2))))","v":0},null,{"$f":"N14","v":222},{"$f":"COUNTIF(L33:L41,AI14)","v":0},{"$f":"AJ14/(AL4-AJ11)","v":0},{"$f":"IF(AK14=0,0,(AK14*((LOG(AK14))/LOG(2))))","v":0},null,{"$f":"N14","v":222},{"$f":"COUNTIF(L42:L49,AN14)","v":0},{"$f":"AO14/(AQ4-AO11)","v":0},{"$f":"IF(AP14=0,0,(AP14*((LOG(AP14))/LOG(2))))","v":0},null,{"$f":"N14","v":222},{"$f":"COUNTIF(L50:L58,AS14)","v":0},{"$f":"AT14/(AV4-AT11)","v":0},{"$f":"IF(AU14=0,0,(AU14*((LOG(AU14))/LOG(2))))","v":0}]
[21,1018,11,1028,11,1032,null,null,null,null,0,211,null,null,null,{"$f":"SUM(P7:P14)","v":1},{"$f":"-SUM(Q7:Q14)","v":1.0963070440877851},null,null,null,null,{"$f":"SUM(V7:V14)","v":1},{"$f":"-SUM(W7:W14)","v":1},null,null,null,{"$f":"SUM(AA7:AA14)","v":1},{"$f":"-SUM(AB7:AB14)","v":0},null,null,null,{"$f":"SUM(AF7:AF14)","v":1},{"$f":"-SUM(AG7:AG14)","v":0},null,null,null,{"$f":"SUM(AK7:AK14)","v":1},{"$f":"-SUM(AL7:AL14)","v":0.91829583405448945},null,null,null,{"$f":"SUM(AP7:AP14)","v":1},{"$f":"-SUM(AQ7:AQ14)","v":0},null,null,null,{"$f":"SUM(AU7:AU14)","v":1},{"$f":"-SUM(AV7:AV14)","v":0}]
[21,1124,11,1154,11,1162,null,null,null,null,0,211,null,null,null,"U=",{"$f":"Q15/(LOG(Q4)/LOG(2))","v":0.19231973291444432},null,null,null,null,"U1=",{"$f":"W15/(LOG(W4)/LOG(2))","v":0.31546487678572877},null,null,null,"U2=",{"$f":"AB15/(LOG(AB4)/LOG(2))","v":0},null,null,null,"U3=",{"$f":"AG15/(LOG(AG4)/LOG(2))","v":0},null,null,null,"U4=",{"$f":"AL15/(LOG(AL4)/LOG(2))","v":0.28969008214284753},null,null,null,"U5=",{"$f":"AQ15/(LOG(AQ4)/LOG(2))","v":0},null,null,null,"U6=",{"$f":"AV15/(LOG(AV4)/LOG(2))","v":0}]
[21,1255,11,1264,11,1269,null,null,null,null,0,211]
[21,1369,11,1379,11,1383,null,null,null,null,0,211]
[21,1474,11,1483,11,1491,null,null,null,null,0,211,null,"Total Target Seq"]
[21,1581,11,1594,11,1598,null,null,null,null,0,211,null,{"$f":"COUNTIF(L7:L58,G3)","v":39},null,9,8,9,9,8,9]
[21,1688,11,1701,11,1710,null,null,null,null,0,211,null,null,null,"% of reinforcement given in 6 equal intervals based on number of trials "]
[21,1801,22,1818,13,1831,null,null,null,null,0,221,null,null,null,"%_1","%_2","%_3","%_4","%_5","%_6"]
[21,1931,11,1941,11,1949,null,null,null,null,0,211,null,null,"target sequence",{"$f":"$G$3","v":211},{"$f":"$G$3","v":211},{"$f":"$G$3","v":211},{"$f":"$G$3","v":211},{"$f":"$G$3","v":211},{"$f":"$G$3","v":211}]
[21,2039,22,2057,13,2070,null,null,null,null,0,221,null,null,"total reinforcement",{"$f":"U11","v":7},{"$f":"Z11","v":7},{"$f":"AE11","v":4},{"$f":"AJ11","v":6},{"$f":"AO11","v":7},{"$f":"AT11","v":8}]
[21,2170,22,2191,13,2201,null,null,null,null,0,221,null,null,"% target"]
[21,2305,22,2320,13,2336,null,null,null,null,0,221,null,null,"CCRF"]
[21,2437,22,2449,13,2460,null,null,null,null,0,221,null,null,"% CCRf"]
[21,2560,11,2573,11,2582,null,null,null,null,0,211,null,null,"average response rate",{"$f":"F15/P20","v":114.66666666666667},{"$f":"(F23-F15)/Q20","v":114.625},{"$f":"(F32-F23)/R20","v":119},{"$f":"(F41-F32)/S20","v":123.77777777777777},{"$f":"(F49-F41)/T20","v":108.625},{"$f":"(F58-F49)/U20","v":114.66666666666667}]
[21,2672,11,2682,11,2691,null,null,null,null,0,211]
[21,2781,11,2791,11,2798,null,null,null,null,0,211]
[21,2889,11,2898,11,2904,null,null,null,null,0,211]
[21,2994,22,3010,13,3020,null,null,null,null,0,221]
[12,3136,13,3151,13,3159,null,null,null,null,0,111]
[12,3282,13,3287,13,3349,null,null,null,null,0,111]
[21,3459,11,3471,11,3476,null,null,null,null,0,211]
[21,3566,22,3579,13,3590,null,null,null,null,0,221]
[21,3690,11,3703,11,3707,null,null,null,null,0,211]
[21,3797,11,3806,11,3816,null,null,null,null,0,211]
[21,3906,11,3915,11,3920,null,null,null,null,0,211]
[21,4014,11,4023,11,4028,null,null,null,null,0,211]
[21,4118,11,4127,11,4134,null,null,null,null,0,211]
[21,4222,22,4234,13,4243,null,null,null,null,0,221]
[21,4343,11,4352,11,4357,null,null,null,null,0,211]
[21,4447,11,4455,11,4459,null,null,null,null,0,211]
[21,4549,11,4560,11,4567,null,null,null,null,0,211]
[21,4657,11,4668,11,4675,null,null,null,null,0,211]
[21,4766,11,4777,11,4785,null,null,null,null,0,211]
[21,4879,11,4887,11,4892,null,null,null,null,0,211]
[21,4984,11,4996,11,5003,null,null,null,null,0,211]
[21,5100,11,5106,11,5111,null,null,null,null,0,211]
[21,5203,11,5212,11,5221,null,null,null,null,0,211]
[21,5319,11,5328,11,5335,null,null,null,null,0,211]
[21,5429,11,5437,11,5445,null,null,null,null,0,211]
[21,5535,11,5544,11,5549,null,null,null,null,0,211]
[21,5638,11,5647,11,5651,null,null,null,null,0,211]
[21,5745,11,5760,11,5768,null,null,null,null,0,211]
[21,5857,11,5866,11,5870,null,null,null,null,0,211]
[12,5982,13,5990,24,6035,null,null,null,null,1,112]

{"sheet":"!M517C20.105","index":17,"n_rows":71,"n_cols":48,"rows_kept":71,"cut":false,"hidden":false,"merged":[[4,39,4,42],[5,39,5,40],[4,44,4,47],[5,44,5,45],[4,24,4,27],[5,24,5,25],[4,29,4,32],[5,29,5,30],[4,34,4,37],[5,34,5,35],[1,1,1,2],[5,13,5,14],[18,13,18,14],[19,13,19,14],[4,19,4,22],[5,19,5,20]]}
["Report for:!M517C20.105"]
["Date:","<date>"]
["Hen:","<hen>",null,null,null,"Correct Sequence",{"$f":"Start!J2","v":211},null,null,null,null,null,null,null,null,"Total Sequences in Data",{"$f":"4994-COUNTBLANK(L7:L5000)","v":65},null,null,null,null,"Total Sequences in Block Data",{"$f":"COUNTA(L7:L17)","v":11},null,null,null,"Total Sequences in Block Data",{"$f":"COUNTA(L18:L28)","v":11},null,null,null,"Total Sequences in Block Data",{"$f":"COUNTA(L29:L38)","v":10},null,null,null,"Total Sequences in Block Data",{"$f":"COUNTA(L39:L49)","v":11},null,null,null,"Total Sequences in Block Data",{"$f":"COUNTA(L50:L60)","v":11},null,null,null,"Total Sequences in Block Data",{"$f":"COUNTA(L61:L71)","v":11}]
[null,null,null,null,null,null,null,null,null,null,null,null,null,null,null,"Total Sequences in Summary",{"$f":"SUM(O7:O14)","v":65},null,null,null,null,"Total Sequences in Block Summary",{"$f":"SUM(U7:U14)","v":11},null,null,null,"Total Sequences in Block Summary",{"$f":"SUM(Z7:Z14)","v":11},null,null,null,"Total Sequences in Block Summary",{"$f":"SUM(AE7:AE14)","v":10},null,null,null,"Total Sequences in Block Summary",{"$f":"SUM(AJ7:AJ14)","v":11},null,null,null,"Total Sequences in Block Summary",{"$f":"SUM(AO7:AO14)","v":11},null,null,null,"Total Sequences in Block Summary",{"$f":"SUM(AT7:AT14)","v":11}]
[null,null,null,null,null,null,null,null,null,null,null,null,null,null,null,null,null,null,null,"Block 1",null,null,null,null,"Block 2",null,null,null,null,"Block 3",null,null,null,null,"Block 4",null,null,null,null,"Block 5",null,null,null,null,"Block 6"]
["Sequence\nComponent\n1","Time\n1","Sequence\nComponent\n2","Time\n2","Sequence\nComponent\n3","Time\n3","Sequence\nComponent\n4","Time\n4","Sequence\nComponent\n5","Time\n5","Correct?\n0=No 1=Yes","Sequence",null,"Frequency",null,"Relative Frequency","Variability",null,null,"Frequency",null,"Relative Frequency","Variability",null,"Frequency",null,"Relative Frequency","Variability",null,"Frequency",null,"Relative Frequency","Variability",null,"Frequency",null,"Relative Frequency","Variability",null,"Frequency",null,"Relative Frequency","Variability",null,"Frequency",null,"Relative Frequency","Variability"]
[21,46,22,167,24,184,null,null,null,null,0,222,null,111,{"$f":"COUNTIF($L$7:$L$500,N7)","v":8},{"$f":"O7/$Q$4","v":0.12307692307692308},{"$f":"IF(P7=0,0,(P7*((LOG(P7))/LOG(2))))","v":-0.37198373083427133},null,null,{"$f":"N7","v":111},{"$f":"COUNTIF(L7:L17,T7)","v":1},{"$f":"U7/(W4-U11)","v":0.25},{"$f":"IF(V7=0,0,(V7*((LOG(V7))/LOG(2))))","v":-0.5},null,{"$f":"N7","v":111},{"$f":"COUNTIF(L18:L28,Y7)","v":1},{"$f":"Z7/(AB4-Z11)","v":0.16666666666666666},{"$f":"IF(AA7=0,0,(AA7*((LOG(AA7))/LOG(2))))","v":-0.43082708345352599},null,{"$f":"N7","v":111},{"$f":"COUNTIF(L29:L38,AD7)","v":0},{"$f":"AE7/(AG4-AE11)","v":0},{"$f":"IF(AF7=0,0,(AF7*((LOG(AF7))/LOG(2))))","v":0},null,{"$f":"N7","v":111},{"$f":"COUNTIF(L39:L49,AI7)","v":4},{"$f":"AJ7/(AL4-AJ11)","v":0.44444444444444442},{"$f":"IF(AK7=0,0,(AK7*((LOG(AK7))/LOG(2))))","v":-0.51996666730769447},null,{"$f":"N7","v":111},{"$f":"COUNTIF(L50:L60,AN7)","v":2},{"$f":"AO7/(AQ4-AO11)","v":0.5},{"$f":"IF(AP7=0,0,(AP7*((LOG(AP7))/LOG(2))))","v":-0.5},null,{"$f":"N7","v":111},{"$f":"COUNTIF(L61:L71,AS7)","v":0},{"$f":"AT7/(AV4-AT11)","v":0},{"$f":"IF(AU7=0,0,(AU7*((LOG(AU7))/LOG(2))))","v":0}]
[12,295,13,302,13,321,null,null,null,null,0,111,null,112,{"$f":"COUNTIF($L$7:$L$500,N8)","v":1},{"$f":"O8/$Q$4","v":1.5384615384615385E-2},{"$f":"IF(P8=0,0,(P8*((LOG(P8))/LOG(2))))","v":-9.2651812508130066E-2},null,null,{"$f":"N8","v":112},{"$f":"COUNTIF(L7:L17,T8)","v":0},{"$f":"U8/(W4-U11)","v":0},{"$f":"IF(V8=0,0,(V8*((LOG(V8))/LOG(2))))","v":0},null,{"$f":"N8","v":112},{"$f":"COUNTIF(L18:L28,Y8)","v":0},{"$f":"Z8/(AB4-Z11)","v":0},{"$f":"IF(AA8=0,0,(AA8*((LOG(AA8))/LOG(2))))","v":0},null,{"$f":"N8","v":112},{"$f":"COUNTIF(L29:L38,AD8)","v":0},{"$f":"AE8/(AG4-AE11)","v":0},{"$f":"IF(AF8=0,0,(AF8*((LOG(AF8))/LOG(2))))","v":0},null,{"$f":"N8","v":112},{"$f":"COUNTIF(L39:L49,AI8)","v":1},{"$f":"AJ8/(AL4-AJ11)","v":0.1111111111111111},{"$f":"IF(AK8=0,0,(AK8*((LOG(AK8))/LOG(2))))","v":-0.3522138890491458},null,{"$f":"N8","v":112},{"$f":"COUNTIF(L50:L60,AN8)","v":0},{"$f":"AO8/(AQ4-AO11)","v":0},{"$f":"IF(AP8=0,0,(AP8*((LOG(AP8))/LOG(2))))","v":0},null,{"$f":"N8","v":112},{"$f":"COUNTIF(L61:L71,AS8)","v":0},{"$f":"AT8/(AV4-AT11)","v":0},{"$f":"IF(AU8=0,0,(AU8*((LOG(AU8))/LOG(2))))","v":0}]
[21,415,22,424,13,435,null,null,null,null,0,221,null,121,{"$f":"COUNTIF($L$7:$L$500,N9)","v":0},{"$f":"O9/$Q$4","v":0},{"$f":"IF(P9=0,0,(P9*((LOG(P9))/LOG(2))))","v":0},null,null,{"$f":"N9","v":121},{"$f":"COUNTIF(L7:L17,T9)","v":0},{"$f":"U9/(W4-U11)","v":0},{"$f":"IF(V9=0,0,(V9*((LOG(V9))/LOG(2))))","v":0},null,{"$f":"N9","v":121},{"$f":"COUNTIF(L18:L28,Y9)","v":0},{"$f":"Z9/(AB4-Z11)","v":0},{"$f":"IF(AA9=0,0,(AA9*((LOG(AA9))/LOG(2))))","v":0},null,{"$f":"N9","v":121},{"$f":"COUNTIF(L29:L38,AD9)","v":0},{"$f":"AE9/(AG4-AE11)","v":0},{"$f":"IF(AF9=0,0,(AF9*((LOG(AF9))/LOG(2))))","v":0},null,{"$f":"N9","v":121},{"$f":"COUNTIF(L39:L49,AI9)","v":0},{"$f":"AJ9/(AL4-AJ11)","v":0},{"$f":"IF(AK9=0,0,(AK9*((LOG(AK9))/LOG(2))))","v":0},null,{"$f":"N9","v":121},{"$f":"COUNTIF(L50:L60,AN9)","v":0},{"$f":"AO9/(AQ4-AO11)","v":0},{"$f":"IF(AP9=0,0,(AP9*((LOG(AP9))/LOG(2))))","v":0},null,{"$f":"N9","v":121},{"$f":"COUNTIF(L61:L71,AS9)","v":0},{"$f":"AT9/(AV4-AT11)","v":0},{"$f":"IF(AU9=0,0,(AU9*((LOG(AU9))/LOG(2))))","v":0}]
[21,536,11,548,11,553,null,null,null,null,0,211,null,122,{"$f":"COUNTIF($L$7:$L$500,N10)","v":0},{"$f":"O10/$Q$4","v":0},{"$f":"IF(P10=0,0,(P10*((LOG(P10))/LOG(2))))","v":0},null,null,{"$f":"N10","v":122},{"$f":"COUNTIF(L7:L17,T10)","v":0},{"$f":"U10/(W4-U11)","v":0},{"$f":"IF(V10=0,0,(V10*((LOG(V10))/LOG(2))))","v":0},null,{"$f":"N10","v":122},{"$f":"COUNTIF(L18:L28,Y10)","v":0},{"$f":"Z10/(AB4-Z11)","v":0},{"$f":"IF(AA10=0,0,(AA10*((LOG(AA10))/LOG(2))))","v":0},null,{"$f":"N10","v":122},{"$f":"COUNTIF(L29:L38,AD10)","v":0},{"$f":"AE10/(AG4-AE11)","v":0},{"$f":"IF(AF10=0,0,(AF10*((LOG(AF10))/LOG(2))))","v":0},null,{"$f":"N10","v":122},{"$f":"COUNTIF(L39:L49,AI10)","v":0},{"$f":"AJ10/(AL4-AJ11)","v":0},{"$f":"IF(AK10=0,0,(AK10*((LOG(AK10))/LOG(2))))","v":0},null,{"$f":"N10","v":122},{"$f":"COUNTIF(L50:L60,AN10)","v":0},{"$f":"AO10/(AQ4-AO11)","v":0},{"$f":"IF(AP10=0,0,(AP10*((LOG(AP10))/LOG(2))))","v":0},null,{"$f":"N10","v":122},{"$f":"COUNTIF(L61:L71,AS10)","v":0},{"$f":"AT10/(AV4-AT11)","v":0},{"$f":"IF(AU10=0,0,(AU10*((LOG(AU10))/LOG(2))))","v":0}]
[21,655,11,671,22,732,null,null,null,null,0,212,null,211,{"$f":"COUNTIF($L$7:$L$500,N11)","v":37},{"$f":"O11/$Q$4","v":0.56923076923076921},{"$f":"IF(P11=0,0,(P11*((LOG(P11))/LOG(2))))","v":-0.46273591621202581},null,null,{"$f":"N11","v":211},{"$f":"COUNTIF(L7:L17,T11)","v":7},null,null,null,{"$f":"N11","v":211},{"$f":"COUNTIF(L18:L28,Y11)","v":5},null,null,null,{"$f":"N11","v":211},{"$f":"COUNTIF(L29:L38,AD11)","v":8},null,null,null,{"$f":"N11","v":211},{"$f":"COUNTIF(L39:L49,AI11)","v":2},null,null,null,{"$f":"N11","v":211},{"$f":"COUNTIF(L50:L60,AN11)","v":7},null,null,null,{"$f":"N11","v":211},{"$f":"COUNTIF(L61:L71,AS11)","v":8}]
[21,833,11,843,11,849,null,null,null,null,0,211,null,212,{"$f":"COUNTIF($L$7:$L$500,N12)","v":1},{"$f":"O12/$Q$4","v":1.5384615384615385E-2},{"$f":"IF(P12=0,0,(P12*((LOG(P12))/LOG(2))))","v":-9.2651812508130066E-2},null,null,{"$f":"N12","v":212},{"$f":"COUNTIF(L7:L17,T12)","v":1},{"$f":"U12/(W4-U11)","v":0.25},{"$f":"IF(V12=0,0,(V12*((LOG(V12))/LOG(2))))","v":-0.5},null,{"$f":"N12","v":212},{"$f":"COUNTIF(L18:L28,Y12)","v":0},{"$f":"Z12/(AB4-Z11)","v":0},{"$f":"IF(AA12=0,0,(AA12*((LOG(AA12))/LOG(2))))","v":0},null,{"$f":"N12","v":212},{"$f":"COUNTIF(L29:L38,AD12)","v":0},{"$f":"AE12/(AG4-AE11)","v":0},{"$f":"IF(AF12=0,0,(AF12*((LOG(AF12))/LOG(2))))","v":0},null,{"$f":"N12","v":212},{"$f":"COUNTIF(L39:L49,AI12)","v":0},{"$f":"AJ12/(AL4-AJ11)","v":0},{"$f":"IF(AK12=0,0,(AK12*((LOG(AK12))/LOG(2))))","v":0},null,{"$f":"N12","v":212},{"$f":"COUNTIF(L50:L60,AN12)","v":0},{"$f":"AO12/(AQ4-AO11)","v":0},{"$f":"IF(AP12=0,0,(AP12*((LOG(AP12))/LOG(2))))","v":0},null,{"$f":"N12","v":212},{"$f":"COUNTIF(L61:L71,AS12)","v":0},{"$f":"AT12/(AV4-AT11)","v":0},{"$f":"IF(AU12=0,0,(AU12*((LOG(AU12))/LOG(2))))","v":0}]
[21,944,11,954,11,960,null,null,null,null,0,211,null,221,{"$f":"COUNTIF($L$7:$L$500,N13)","v":17},{"$f":"O13/$Q$4","v":0.26153846153846155},{"$f":"IF(P13=0,0,(P13*((LOG(P13))/LOG(2))))","v":-0.50605206954196857},null,null,{"$f":"N13","v":221},{"$f":"COUNTIF(L7:L17,T13)","v":1},{"$f":"U13/(W4-U11)","v":0.25},{"$f":"IF(V13=0,0,(V13*((LOG(V13))/LOG(2))))","v":-0.5},null,{"$f":"N13","v":221},{"$f":"COUNTIF(L18:L28,Y13)","v":5},{"$f":"Z13/(AB4-Z11)","v":0.83333333333333337},{"$f":"IF(AA13=0,0,(AA13*((LOG(AA13))/LOG(2))))","v":-0.21919533819482812},null,{"$f":"N13","v":221},{"$f":"COUNTIF(L29:L38,AD13)","v":2},{"$f":"AE13/(AG4-AE11)","v":1},{"$f":"IF(AF13=0,0,(AF13*((LOG(AF13))/LOG(2))))","v":0},null,{"$f":"N13","v":221},{"$f":"COUNTIF(L39:L49,AI13)","v":4},{"$f":"AJ13/(AL4-AJ11)","v":0.44444444444444442},{"$f":"IF(AK13=0,0,(AK13*((LOG(AK13))/LOG(2))))","v":-0.51996666730769447},null,{"$f":"N13","v":221},{"$f":"COUNTIF(L50:L60,AN13)","v":2},{"$f":"AO13/(AQ4-AO11)","v":0.5},{"$f":"IF(AP13=0,0,(AP13*((LOG(AP13))/LOG(2))))","v":-0.5},null,{"$f":"N13","v":221},{"$f":"COUNTIF(L61:L71,AS13)","v":3},{"$f":"AT13/(AV4-AT11)","v":1},{"$f":"IF(AU13=0,0,(AU13*((LOG(AU13))/LOG(2))))","v":0}]
[21,1055,11,1065,11,1069,null,null,null,null,0,211,null,222,{"$f":"COUNTIF($L$7:$L$500,N14)","v":1},{"$f":"O14/$Q$4","v":1.5384615384615385E-2},{"$f":"IF(P14=0,0,(P14*((LOG(P14))/LOG(2))))","v":-9.2651812508130066E-2},null,null,{"$f":"N14","v":222},{"$f":"COUNTIF(L7:L17,T14)","v":1},{"$f":"U14/(W4-U11)","v":0.25},{"$f":"IF(V14=0,0,(V14*((LOG(V14))/LOG(2))))","v":-0.5},null,{"$f":"N14","v":222},{"$f":"COUNTIF(L18:L28,Y14)","v":0},{"$f":"Z14/(AB4-Z11)","v":0},{"$f":"IF(AA14=0,0,(AA14*((LOG(AA14))/LOG(2))))","v":0},null,{"$f":"N14","v":222},{"$f":"COUNTIF(L29:L38,AD14)","v":0},{"$f":"AE14/(AG4-AE11)","v":0},{"$f":"IF(AF14=0,0,(AF14*((LOG(AF14))/LOG(2))))","v":0},null,{"$f":"N14","v":222},{"$f":"COUNTIF(L39:L49,AI14)","v":0},{"$f":"AJ14/(AL4-AJ11)","v":0},{"$f":"IF(AK14=0,0,(AK14*((LOG(AK14))/LOG(2))))","v":0},null,{"$f":"N14","v":222},{"$f":"COUNTIF(L50:L60,AN14)","v":0},{"$f":"AO14/(AQ4-AO11)","v":0},{"$f":"IF(AP14=0,0,(AP14*((LOG(AP14))/LOG(2))))","v":0},null,{"$f":"N14","v":222},{"$f":"COUNTIF(L61:L71,AS14)","v":0},{"$f":"AT14/(AV4-AT11)","v":0},{"$f":"IF(AU14=0,0,(AU14*((LOG(AU14))/LOG(2))))","v":0}]
[21,1167,11,1176,11,1186,null,null,null,null,0,211,null,null,null,{"$f":"SUM(P7:P14)","v":0.99999999999999978},{"$f":"-SUM(Q7:Q14)","v":1.618727154112656},null,null,null,null,{"$f":"SUM(V7:V14)","v":1},{"$f":"-SUM(W7:W14)","v":2},null,null,null,{"$f":"SUM(AA7:AA14)","v":1},{"$f":"-SUM(AB7:AB14)","v":0.65002242164835411},null,null,null,{"$f":"SUM(AF7:AF14)","v":1},{"$f":"-SUM(AG7:AG14)","v":0},null,null,null,{"$f":"SUM(AK7:AK14)","v":1},{"$f":"-SUM(AL7:AL14)","v":1.3921472236645349},null,null,null,{"$f":"SUM(AP7:AP14)","v":1},{"$f":"-SUM(AQ7:AQ14)","v":1},null,null,null,{"$f":"SUM(AU7:AU14)","v":1},{"$f":"-SUM(AV7:AV14)","v":0}]
[21,1289,11,1299,11,1304,null,null,null,null,0,211,null,null,null,"U=",{"$f":"Q15/(LOG(Q4)/LOG(2))","v":0.26878583380623017},null,null,null,null,"U1=",{"$f":"W15/(LOG(W4)/LOG(2))","v":0.57812965263577565},null,null,null,"U2=",{"$f":"AB15/(LOG(AB4)/LOG(2))","v":0.18789861841651431},null,null,null,"U3=",{"$f":"AG15/(LOG(AG4)/LOG(2))","v":0},null,null,null,"U4=",{"$f":"AL15/(LOG(AL4)/LOG(2))","v":0.40242079541751852},null,null,null,"U5=",{"$f":"AQ15/(LOG(AQ4)/LOG(2))","v":0.28906482631788782},null,null,null,"U6=",{"$f":"AV15/(LOG(AV4)/LOG(2))","v":0}]
[21,1395,11,1408,11,1415,null,null,null,null,0,211]
[12,1524,13,1529,13,1551,null,null,null,null,0,111]
[21,1653,22,1673,13,1686,null,null,null,null,0,221,null,"Total Target Seq"]
[21,1788,22,1796,13,1807,null,null,null,null,0,221,null,{"$f":"COUNTIF(L7:L71,G3)","v":37},null,11,11,10,11,11,11]
[21,1911,22,1920,13,1932,null,null,null,null,0,221,null,null,null,"% of reinforcement given in 6 equal intervals based on number of trials "]
[21,2033,22,2051,13,2067,null,null,null,null,0,221,null,null,null,"%_1","%_2","%_3","%_4","%_5","%_6"]
[21,2167,11,2177,11,2183,null,null,null,null,0,211,null,null,"target sequence",{"$f":"$G$3","v":211},{"$f":"$G$3","v":211},{"$f":"$G$3","v":211},{"$f":"$G$3","v":211},{"$f":"$G$3","v":211},{"$f":"$G$3","v":211}]
[21,2282,11,2292,11,2298,null,null,null,null,0,211,null,null,"total reinforcement",{"$f":"U11","v":7},{"$f":"Z11","v":5},{"$f":"AE11","v":8},{"$f":"AJ11","v":2},{"$f":"AO11","v":7},{"$f":"AT11","v":8}]
[21,2489,22,2505,13,2521,null,null,null,null,0,221,null,null,"% target"]
[21,2621,11,2631,11,2636,null,null,null,null,0,211,null,null,"CCRF"]
[21,2732,11,2746,11,2763,null,null,null,null,0,211,null,null,"% CCRf"]
[21,2870,11,2883,11,2894,null,null,null,null,0,211,null,null,"average response rate",{"$f":"F17/P20","v":128.63636363636363},{"$f":"(F28-F17)/Q20","v":134.45454545454547},{"$f":"(F38-F28)/R20","v":118.3},{"$f":"(F49-F38)/S20","v":134.18181818181819},{"$f":"(F60-F49)/T20","v":117.45454545454545},{"$f":"(F71-F60)/U20","v":111.54545454545455}]
[21,2989,11,2998,11,3003,null,null,null,null,0,211]
[21,3094,11,3104,11,3109,null,null,null,null,0,211]
[21,3200,11,3228,11,3240,null,null,null,null,0,211]
[21,3331,11,3347,11,3359,null,null,null,null,0,211]
[21,3453,11,3463,11,3467,null,null,null,null,0,211]
[21,3559,22,3570,13,3583,null,null,null,null,0,221]
[21,3705,11,3715,11,3721,null,null,null,null,0,211]
[21,3815,11,3825,11,3831,null,null,null,null,0,211]
[21,3923,22,3938,13,3948,null,null,null,null,0,221]
[21,4049,11,4062,11,4077,null,null,null,null,0,211]
[21,4168,11,4179,11,4183,null,null,null,null,0,211]
[12,4287,13,4293,13,4307,null,null,null,null,0,111]
[21,4408,22,4428,13,4438,null,null,null,null,0,221]
[21,4541,22,4559,13,4571,null,null,null,null,0,221]
[21,4673,22,4689,13,4700,null,null,null,null,0,221]
[12,4818,13,4822,13,4874,null,null,null,null,0,111]
[12,4995,13,5000,13,5019,null,null,null,null,0,111]
[21,5119,22,5133,13,5145,null,null,null,null,0,221]
[12,5269,13,5281,24,5312,null,null,null,null,0,112]
[12,5413,13,5419,13,5435,null,null,null,null,0,111]
[21,5535,11,5546,11,5553,null,null,null,null,0,211]
[12,5659,13,5665,13,5684,null,null,null,null,0,111]
[21,5785,22,5799,13,5809,null,null,null,null,0,221]
[21,5910,11,5919,11,5924,null,null,null,null,0,211]
[21,6015,22,6028,13,6037,null,null,null,null,0,221]
[21,6147,11,6158,11,6171,null,null,null,null,0,211]
[21,6263,11,6272,11,6288,null,null,null,null,0,211]
[21,6377,11,6386,11,6390,null,null,null,null,0,211]
[12,6491,13,6496,13,6504,null,null,null,null,0,111]
[21,6605,11,6614,11,6622,null,null,null,null,0,211]
[21,6717,11,6726,11,6737,null,null,null,null,0,211]
[21,6831,11,6840,11,6845,null,null,null,null,0,211]
[21,6937,11,6948,11,6958,null,null,null,null,0,211]
[21,7050,22,7062,13,7072,null,null,null,null,0,221]
[21,7172,22,7183,13,7192,null,null,null,null,0,221]
[21,7292,11,7301,11,7306,null,null,null,null,0,211]
[21,7399,11,7409,11,7416,null,null,null,null,0,211]
[21,7507,11,7516,11,7520,null,null,null,null,0,211]
[21,7611,22,7620,13,7631,null,null,null,null,0,221]
[21,7733,11,7742,11,7746,null,null,null,null,0,211]
[21,7836,11,7845,11,7850,null,null,null,null,0,211]
[21,7940,11,7949,11,7954,null,null,null,null,0,211]
[21,8045,11,8054,11,8072,null,null,null,null,1,211]

{"sheet":"!M518940.105","index":18,"n_rows":56,"n_cols":48,"rows_kept":56,"cut":false,"hidden":false,"merged":[[4,39,4,42],[5,39,5,40],[4,44,4,47],[5,44,5,45],[4,24,4,27],[5,24,5,25],[4,29,4,32],[5,29,5,30],[4,34,4,37],[5,34,5,35],[1,1,1,2],[5,13,5,14],[18,13,18,14],[19,13,19,14],[4,19,4,22],[5,19,5,20]]}
["Report for:!M518940.105"]
["Date:","<date>"]
["Hen:","<hen>",null,null,null,"Correct Sequence",{"$f":"Start!J2","v":211},null,null,null,null,null,null,null,null,"Total Sequences in Data",{"$f":"4994-COUNTBLANK(L7:L5000)","v":50},null,null,null,null,"Total Sequences in Block Data",{"$f":"COUNTA(L7:L14)","v":8},null,null,null,"Total Sequences in Block Data",{"$f":"COUNTA(L15:L23)","v":9},null,null,null,"Total Sequences in Block Data",{"$f":"COUNTA(L24:L31)","v":8},null,null,null,"Total Sequences in Block Data",{"$f":"COUNTA(L32:L39)","v":8},null,null,null,"Total Sequences in Block Data",{"$f":"COUNTA(L40:L48)","v":9},null,null,null,"Total Sequences in Block Data",{"$f":"COUNTA(L49:L56)","v":8}]
[null,null,null,null,null,null,null,null,null,null,null,null,null,null,null,"Total Sequences in Summary",{"$f":"SUM(O7:O14)","v":50},null,null,null,null,"Total Sequences in Block Summary",{"$f":"SUM(U7:U14)","v":8},null,null,null,"Total Sequences in Block Summary",{"$f":"SUM(Z7:Z14)","v":9},null,null,null,"Total Sequences in Block Summary",{"$f":"SUM(AE7:AE14)","v":8},null,null,null,"Total Sequences in Block Summary",{"$f":"SUM(AJ7:AJ14)","v":8},null,null,null,"Total Sequences in Block Summary",{"$f":"SUM(AO7:AO14)","v":9},null,null,null,"Total Sequences in Block Summary",{"$f":"SUM(AT7:AT14)","v":8}]
[null,null,null,null,null,null,null,null,null,null,null,null,null,null,null,null,null,null,null,"Block 1",null,null,null,null,"Block 2",null,null,null,null,"Block 3",null,null,null,null,"Block 4",null,null,null,null,"Block 5",null,null,null,null,"Block 6"]
["Sequence\nComponent\n1","Time\n1","Sequence\nComponent\n2","Time\n2","Sequence\nComponent\n3","Time\n3","Sequence\nComponent\n4","Time\n4","Sequence\nComponent\n5","Time\n5","Correct?\n0=No 1=Yes","Sequence",null,"Frequency",null,"Relative Frequency","Variability",null,null,"Frequency",null,"Relative Frequency","Variability",null,"Frequency",null,"Relative Frequency","Variability",null,"Frequency",null,"Relative Frequency","Variability",null,"Frequency",null,"Relative Frequency","Variability",null,"Frequency",null,"Relative Frequency","Variability",null,"Frequency",null,"Relative Frequency","Variability"]
[21,27,11,43,11,49,null,null,null,null,0,211,null,111,{"$f":"COUNTIF($L$7:$L$500,N7)","v":9},{"$f":"O7/$Q$4","v":0.18},{"$f":"IF(P7=0,0,(P7*((LOG(P7))/LOG(2))))","v":-0.44530761389983425},null,null,{"$f":"N7","v":111},{"$f":"COUNTIF(L7:L14,T7)","v":2},{"$f":"U7/(W4-U11)","v":1},{"$f":"IF(V7=0,0,(V7*((LOG(V7))/LOG(2))))","v":0},null,{"$f":"N7","v":111},{"$f":"COUNTIF(L15:L23,Y7)","v":1},{"$f":"Z7/(AB4-Z11)","v":1},{"$f":"IF(AA7=0,0,(AA7*((LOG(AA7))/LOG(2))))","v":0},null,{"$f":"N7","v":111},{"$f":"COUNTIF(L24:L31,AD7)","v":2},{"$f":"AE7/(AG4-AE11)","v":1},{"$f":"IF(AF7=0,0,(AF7*((LOG(AF7))/LOG(2))))","v":0},null,{"$f":"N7","v":111},{"$f":"COUNTIF(L32:L39,AI7)","v":1},{"$f":"AJ7/(AL4-AJ11)","v":1},{"$f":"IF(AK7=0,0,(AK7*((LOG(AK7))/LOG(2))))","v":0},null,{"$f":"N7","v":111},{"$f":"COUNTIF(L40:L48,AN7)","v":1},{"$f":"AO7/(AQ4-AO11)","v":0.5},{"$f":"IF(AP7=0,0,(AP7*((LOG(AP7))/LOG(2))))","v":-0.5},null,{"$f":"N7","v":111},{"$f":"COUNTIF(L49:L56,AS7)","v":2},{"$f":"AT7/(AV4-AT11)","v":0.66666666666666663},{"$f":"IF(AU7=0,0,(AU7*((LOG(AU7))/LOG(2))))","v":-0.38997500048077083}]
[12,161,13,166,13,174,null,null,null,null,0,111,null,112,{"$f":"COUNTIF($L$7:$L$500,N8)","v":2},{"$f":"O8/$Q$4","v":0.04},{"$f":"IF(P8=0,0,(P8*((LOG(P8))/LOG(2))))","v":-0.18575424759098899},null,null,{"$f":"N8","v":112},{"$f":"COUNTIF(L7:L14,T8)","v":0},{"$f":"U8/(W4-U11)","v":0},{"$f":"IF(V8=0,0,(V8*((LOG(V8))/LOG(2))))","v":0},null,{"$f":"N8","v":112},{"$f":"COUNTIF(L15:L23,Y8)","v":0},{"$f":"Z8/(AB4-Z11)","v":0},{"$f":"IF(AA8=0,0,(AA8*((LOG(AA8))/LOG(2))))","v":0},null,{"$f":"N8","v":112},{"$f":"COUNTIF(L24:L31,AD8)","v":0},{"$f":"AE8/(AG4-AE11)","v":0},{"$f":"IF(AF8=0,0,(AF8*((LOG(AF8))/LOG(2))))","v":0},null,{"$f":"N8","v":112},{"$f":"COUNTIF(L32:L39,AI8)","v":0},{"$f":"AJ8/(AL4-AJ11)","v":0},{"$f":"IF(AK8=0,0,(AK8*((LOG(AK8))/LOG(2))))","v":0},null,{"$f":"N8","v":112},{"$f":"COUNTIF(L40:L48,AN8)","v":1},{"$f":"AO8/(AQ4-AO11)","v":0.5},{"$f":"IF(AP8=0,0,(AP8*((LOG(AP8))/LOG(2))))","v":-0.5},null,{"$f":"N8","v":112},{"$f":"COUNTIF(L49:L56,AS8)","v":1},{"$f":"AT8/(AV4-AT11)","v":0.33333333333333331},{"$f":"IF(AU8=0,0,(AU8*((LOG(AU8))/LOG(2))))","v":-0.52832083357371862}]
[21,273,11,300,11,317,null,null,null,null,0,211,null,121,{"$f":"COUNTIF($L$7:$L$500,N9)","v":0},{"$f":"O9/$Q$4","v":0},{"$f":"IF(P9=0,0,(P9*((LOG(P9))/LOG(2))))","v":0},null,null,{"$f":"N9","v":121},{"$f":"COUNTIF(L7:L14,T9)","v":0},{"$f":"U9/(W4-U11)","v":0},{"$f":"IF(V9=0,0,(V9*((LOG(V9))/LOG(2))))","v":0},null,{"$f":"N9","v":121},{"$f":"COUNTIF(L15:L23,Y9)","v":0},{"$f":"Z9/(AB4-Z11)","v":0},{"$f":"IF(AA9=0,0,(AA9*((LOG(AA9))/LOG(2))))","v":0},null,{"$f":"N9","v":121},{"$f":"COUNTIF(L24:L31,AD9)","v":0},{"$f":"AE9/(AG4-AE11)","v":0},{"$f":"IF(AF9=0,0,(AF9*((LOG(AF9))/LOG(2))))","v":0},null,{"$f":"N9","v":121},{"$f":"COUNTIF(L32:L39,AI9)","v":0},{"$f":"AJ9/(AL4-AJ11)","v":0},{"$f":"IF(AK9=0,0,(AK9*((LOG(AK9))/LOG(2))))","v":0},null,{"$f":"N9","v":121},{"$f":"COUNTIF(L40:L48,AN9)","v":0},{"$f":"AO9/(AQ4-AO11)","v":0},{"$f":"IF(AP9=0,0,(AP9*((LOG(AP9))/LOG(2))))","v":0},null,{"$f":"N9","v":121},{"$f":"COUNTIF(L49:L56,AS9)","v":0},{"$f":"AT9/(AV4-AT11)","v":0},{"$f":"IF(AU9=0,0,(AU9*((LOG(AU9))/LOG(2))))","v":0}]
[21,411,11,421,11,426,null,null,null,null,0,211,null,122,{"$f":"COUNTIF($L$7:$L$500,N10)","v":0},{"$f":"O10/$Q$4","v":0},{"$f":"IF(P10=0,0,(P10*((LOG(P10))/LOG(2))))","v":0},null,null,{"$f":"N10","v":122},{"$f":"COUNTIF(L7:L14,T10)","v":0},{"$f":"U10/(W4-U11)","v":0},{"$f":"IF(V10=0,0,(V10*((LOG(V10))/LOG(2))))","v":0},null,{"$f":"N10","v":122},{"$f":"COUNTIF(L15:L23,Y10)","v":0},{"$f":"Z10/(AB4-Z11)","v":0},{"$f":"IF(AA10=0,0,(AA10*((LOG(AA10))/LOG(2))))","v":0},null,{"$f":"N10","v":122},{"$f":"COUNTIF(L24:L31,AD10)","v":0},{"$f":"AE10/(AG4-AE11)","v":0},{"$f":"IF(AF10=0,0,(AF10*((LOG(AF10))/LOG(2))))","v":0},null,{"$f":"N10","v":122},{"$f":"COUNTIF(L32:L39,AI10)","v":0},{"$f":"AJ10/(AL4-AJ11)","v":0},{"$f":"IF(AK10=0,0,(AK10*((LOG(AK10))/LOG(2))))","v":0},null,{"$f":"N10","v":122},{"$f":"COUNTIF(L40:L48,AN10)","v":0},{"$f":"AO10/(AQ4-AO11)","v":0},{"$f":"IF(AP10=0,0,(AP10*((LOG(AP10))/LOG(2))))","v":0},null,{"$f":"N10","v":122},{"$f":"COUNTIF(L49:L56,AS10)","v":0},{"$f":"AT10/(AV4-AT11)","v":0},{"$f":"IF(AU10=0,0,(AU10*((LOG(AU10))/LOG(2))))","v":0}]
[21,532,11,547,11,562,null,null,null,null,0,211,null,211,{"$f":"COUNTIF($L$7:$L$500,N11)","v":39},{"$f":"O11/$Q$4","v":0.78},{"$f":"IF(P11=0,0,(P11*((LOG(P11))/LOG(2))))","v":-0.27959409731173152},null,null,{"$f":"N11","v":211},{"$f":"COUNTIF(L7:L14,T11)","v":6},null,null,null,{"$f":"N11","v":211},{"$f":"COUNTIF(L15:L23,Y11)","v":8},null,null,null,{"$f":"N11","v":211},{"$f":"COUNTIF(L24:L31,AD11)","v":6},null,null,null,{"$f":"N11","v":211},{"$f":"COUNTIF(L32:L39,AI11)","v":7},null,null,null,{"$f":"N11","v":211},{"$f":"COUNTIF(L40:L48,AN11)","v":7},null,null,null,{"$f":"N11","v":211},{"$f":"COUNTIF(L49:L56,AS11)","v":5}]
[21,657,11,671,11,679,null,null,null,null,0,211,null,212,{"$f":"COUNTIF($L$7:$L$500,N12)","v":0},{"$f":"O12/$Q$4","v":0},{"$f":"IF(P12=0,0,(P12*((LOG(P12))/LOG(2))))","v":0},null,null,{"$f":"N12","v":212},{"$f":"COUNTIF(L7:L14,T12)","v":0},{"$f":"U12/(W4-U11)","v":0},{"$f":"IF(V12=0,0,(V12*((LOG(V12))/LOG(2))))","v":0},null,{"$f":"N12","v":212},{"$f":"COUNTIF(L15:L23,Y12)","v":0},{"$f":"Z12/(AB4-Z11)","v":0},{"$f":"IF(AA12=0,0,(AA12*((LOG(AA12))/LOG(2))))","v":0},null,{"$f":"N12","v":212},{"$f":"COUNTIF(L24:L31,AD12)","v":0},{"$f":"AE12/(AG4-AE11)","v":0},{"$f":"IF(AF12=0,0,(AF12*((LOG(AF12))/LOG(2))))","v":0},null,{"$f":"N12","v":212},{"$f":"COUNTIF(L32:L39,AI12)","v":0},{"$f":"AJ12/(AL4-AJ11)","v":0},{"$f":"IF(AK12=0,0,(AK12*((LOG(AK12))/LOG(2))))","v":0},null,{"$f":"N12","v":212},{"$f":"COUNTIF(L40:L48,AN12)","v":0},{"$f":"AO12/(AQ4-AO11)","v":0},{"$f":"IF(AP12=0,0,(AP12*((LOG(AP12))/LOG(2))))","v":0},null,{"$f":"N12","v":212},{"$f":"COUNTIF(L49:L56,AS12)","v":0},{"$f":"AT12/(AV4-AT11)","v":0},{"$f":"IF(AU12=0,0,(AU12*((LOG(AU12))/LOG(2))))","v":0}]
[12,783,13,788,13,796,null,null,null,null,0,111,null,221,{"$f":"COUNTIF($L$7:$L$500,N13)","v":0},{"$f":"O13/$Q$4","v":0},{"$f":"IF(P13=0,0,(P13*((LOG(P13))/LOG(2))))","v":0},null,null,{"$f":"N13","v":221},{"$f":"COUNTIF(L7:L14,T13)","v":0},{"$f":"U13/(W4-U11)","v":0},{"$f":"IF(V13=0,0,(V13*((LOG(V13))/LOG(2))))","v":0},null,{"$f":"N13","v":221},{"$f":"COUNTIF(L15:L23,Y13)","v":0},{"$f":"Z13/(AB4-Z11)","v":0},{"$f":"IF(AA13=0,0,(AA13*((LOG(AA13))/LOG(2))))","v":0},null,{"$f":"N13","v":221},{"$f":"COUNTIF(L24:L31,AD13)","v":0},{"$f":"AE13/(AG4-AE11)","v":0},{"$f":"IF(AF13=0,0,(AF13*((LOG(AF13))/LOG(2))))","v":0},null,{"$f":"N13","v":221},{"$f":"COUNTIF(L32:L39,AI13)","v":0},{"$f":"AJ13/(AL4-AJ11)","v":0},{"$f":"IF(AK13=0,0,(AK13*((LOG(AK13))/LOG(2))))","v":0},null,{"$f":"N13","v":221},{"$f":"COUNTIF(L40:L48,AN13)","v":0},{"$f":"AO13/(AQ4-AO11)","v":0},{"$f":"IF(AP13=0,0,(AP13*((LOG(AP13))/LOG(2))))","v":0},null,{"$f":"N13","v":221},{"$f":"COUNTIF(L49:L56,AS13)","v":0},{"$f":"AT13/(AV4-AT11)","v":0},{"$f":"IF(AU13=0,0,(AU13*((LOG(AU13))/LOG(2))))","v":0}]
[21,898,11,912,11,919,null,null,null,null,0,211,null,222,{"$f":"COUNTIF($L$7:$L$500,N14)","v":0},{"$f":"O14/$Q$4","v":0},{"$f":"IF(P14=0,0,(P14*((LOG(P14))/LOG(2))))","v":0},null,null,{"$f":"N14","v":222},{"$f":"COUNTIF(L7:L14,T14)","v":0},{"$f":"U14/(W4-U11)","v":0},{"$f":"IF(V14=0,0,(V14*((LOG(V14))/LOG(2))))","v":0},null,{"$f":"N14","v":222},{"$f":"COUNTIF(L15:L23,Y14)","v":0},{"$f":"Z14/(AB4-Z11)","v":0},{"$f":"IF(AA14=0,0,(AA14*((LOG(AA14))/LOG(2))))","v":0},null,{"$f":"N14","v":222},{"$f":"COUNTIF(L24:L31,AD14)","v":0},{"$f":"AE14/(AG4-AE11)","v":0},{"$f":"IF(AF14=0,0,(AF14*((LOG(AF14))/LOG(2))))","v":0},null,{"$f":"N14","v":222},{"$f":"COUNTIF(L32:L39,AI14)","v":0},{"$f":"AJ14/(AL4-AJ11)","v":0},{"$f":"IF(AK14=0,0,(AK14*((LOG(AK14))/LOG(2))))","v":0},null,{"$f":"N14","v":222},{"$f":"COUNTIF(L40:L48,AN14)","v":0},{"$f":"AO14/(AQ4-AO11)","v":0},{"$f":"IF(AP14=0,0,(AP14*((LOG(AP14))/LOG(2))))","v":0},null,{"$f":"N14","v":222},{"$f":"COUNTIF(L49:L56,AS14)","v":0},{"$f":"AT14/(AV4-AT11)","v":0},{"$f":"IF(AU14=0,0,(AU14*((LOG(AU14))/LOG(2))))","v":0}]
[21,1018,11,1029,11,1036,null,null,null,null,0,211,null,null,null,{"$f":"SUM(P7:P14)","v":1},{"$f":"-SUM(Q7:Q14)","v":0.91065595880255468},null,null,null,null,{"$f":"SUM(V7:V14)","v":1},{"$f":"-SUM(W7:W14)","v":0},null,null,null,{"$f":"SUM(AA7:AA14)","v":1},{"$f":"-SUM(AB7:AB14)","v":0},null,null,null,{"$f":"SUM(AF7:AF14)","v":1},{"$f":"-SUM(AG7:AG14)","v":0},null,null,null,{"$f":"SUM(AK7:AK14)","v":1},{"$f":"-SUM(AL7:AL14)","v":0},null,null,null,{"$f":"SUM(AP7:AP14)","v":1},{"$f":"-SUM(AQ7:AQ14)","v":1},null,null,null,{"$f":"SUM(AU7:AU14)","v":1},{"$f":"-SUM(AV7:AV14)","v":0.91829583405448945}]
[21,1127,11,1141,11,1149,null,null,null,null,0,211,null,null,null,"U=",{"$f":"Q15/(LOG(Q4)/LOG(2))","v":0.16135350160984588},null,null,null,null,"U1=",{"$f":"W15/(LOG(W4)/LOG(2))","v":0},null,null,null,"U2=",{"$f":"AB15/(LOG(AB4)/LOG(2))","v":0},null,null,null,"U3=",{"$f":"AG15/(LOG(AG4)/LOG(2))","v":0},null,null,null,"U4=",{"$f":"AL15/(LOG(AL4)/LOG(2))","v":0},null,null,null,"U5=",{"$f":"AQ15/(LOG(AQ4)/LOG(2))","v":0.31546487678572877},null,null,null,"U6=",{"$f":"AV15/(LOG(AV4)/LOG(2))","v":0.30609861135149646}]
[21,1258,11,1267,11,1273,null,null,null,null,0,211]
[21,1371,11,1380,11,1385,null,null,null,null,0,211]
[21,1485,11,1496,11,1500,null,null,null,null,0,211,null,"Total Target Seq"]
[12,1602,13,1607,13,1695,null,null,null,null,0,111,null,{"$f":"COUNTIF(L7:L56,G3)","v":39},null,8,9,8,8,9,8]
[21,1797,11,1807,11,1811,null,null,null,null,0,211,null,null,null,"% of reinforcement given in 6 equal intervals based on number of trials "]
[21,1909,11,1917,11,1922,null,null,null,null,0,211,null,null,null,"%_1","%_2","%_3","%_4","%_5","%_6"]
[21,2016,11,2025,11,2040,null,null,null,null,0,211,null,null,"target sequence",{"$f":"$G$3","v":211},{"$f":"$G$3","v":211},{"$f":"$G$3","v":211},{"$f":"$G$3","v":211},{"$f":"$G$3","v":211},{"$f":"$G$3","v":211}]
[12,2145,13,2150,13,2157,null,null,null,null,0,111,null,null,"total reinforcement",{"$f":"U11","v":6},{"$f":"Z11","v":8},{"$f":"AE11","v":6},{"$f":"AJ11","v":7},{"$f":"AO11","v":7},{"$f":"AT11","v":5}]
[21,2261,11,2270,11,2275,null,null,null,null,0,211,null,null,"% target"]
[21,2373,11,2382,11,2386,null,null,null,null,0,211,null,null,"CCRF"]
[21,2482,11,2491,11,2503,null,null,null,null,0,211,null,null,"% CCRf"]
[21,2601,11,2611,11,2616,null,null,null,null,0,211,null,null,"average response rate",{"$f":"F14/P20","v":114.875},{"$f":"(F23-F14)/Q20","v":124.55555555555556},{"$f":"(F31-F23)/R20","v":116.375},{"$f":"(F39-F31)/S20","v":115.5},{"$f":"(F48-F39)/T20","v":126.66666666666667},{"$f":"(F56-F48)/U20","v":127.25}]
[12,2718,13,2723,13,2742,null,null,null,null,0,111]
[21,2842,11,2851,11,2858,null,null,null,null,0,211]
[21,2955,11,2963,11,2971,null,null,null,null,0,211]
[12,3077,13,3088,13,3096,null,null,null,null,0,111]
[21,3196,11,3224,11,3229,null,null,null,null,0,211]
[21,3320,11,3329,11,3333,null,null,null,null,0,211]
[21,3429,11,3438,11,3443,null,null,null,null,0,211]
[21,3536,11,3556,11,3565,null,null,null,null,0,211]
[21,3659,11,3668,11,3674,null,null,null,null,0,211]
[21,3765,11,3774,11,3778,null,null,null,null,0,211]
[21,3877,11,3886,11,3895,null,null,null,null,0,211]
[21,3990,11,3999,11,4005,null,null,null,null,0,211]
[21,4095,11,4103,11,4111,null,null,null,null,0,211]
[12,4211,13,4216,24,4316,null,null,null,null,0,112]
[21,4416,11,4424,11,4428,null,null,null,null,0,211]
[21,4520,11,4529,11,4541,null,null,null,null,0,211]
[12,4646,13,4654,13,4700,null,null,null,null,0,111]
[21,4799,11,4808,11,4812,null,null,null,null,0,211]
[21,4907,11,4916,11,4924,null,null,null,null,0,211]
[21,5019,11,5028,11,5035,null,null,null,null,0,211]
[21,5124,11,5133,11,5137,null,null,null,null,0,211]
[12,5238,13,5242,13,5259,null,null,null,null,0,111]
[12,5375,13,5379,13,5387,null,null,null,null,0,111]
[21,5487,11,5495,11,5500,null,null,null,null,0,211]
[21,5595,11,5604,11,5613,null,null,null,null,0,211]
[12,5731,13,5738,24,5821,null,null,null,null,0,112]
[21,5931,11,5940,11,5945,null,null,null,null,0,211]
[21,6040,11,6048,11,6053,null,null,null,null,1,211]

{"sheet":"!M519900.105","index":19,"n_rows":59,"n_cols":48,"rows_kept":59,"cut":false,"hidden":false,"merged":[[4,39,4,42],[5,39,5,40],[4,44,4,47],[5,44,5,45],[4,24,4,27],[5,24,5,25],[4,29,4,32],[5,29,5,30],[4,34,4,37],[5,34,5,35],[1,1,1,2],[5,13,5,14],[18,13,18,14],[19,13,19,14],[4,19,4,22],[5,19,5,20]]}
["Report for:!M519900.105"]
["Date:","<date>"]
["Hen:","<hen>",null,null,null,"Correct Sequence",{"$f":"Start!J2","v":211},null,null,null,null,null,null,null,null,"Total Sequences in Data",{"$f":"4994-COUNTBLANK(L7:L5000)","v":53},null,null,null,null,"Total Sequences in Block Data",{"$f":"COUNTA(L7:L15)","v":9},null,null,null,"Total Sequences in Block Data",{"$f":"COUNTA(L16:L24)","v":9},null,null,null,"Total Sequences in Block Data",{"$f":"COUNTA(L25:L32)","v":8},null,null,null,"Total Sequences in Block Data",{"$f":"COUNTA(L33:L41)","v":9},null,null,null,"Total Sequences in Block Data",{"$f":"COUNTA(L42:L50)","v":9},null,null,null,"Total Sequences in Block Data",{"$f":"COUNTA(L51:L59)","v":9}]
[null,null,null,null,null,null,null,null,null,null,null,null,null,null,null,"Total Sequences in Summary",{"$f":"SUM(O7:O14)","v":53},null,null,null,null,"Total Sequences in Block Summary",{"$f":"SUM(U7:U14)","v":9},null,null,null,"Total Sequences in Block Summary",{"$f":"SUM(Z7:Z14)","v":9},null,null,null,"Total Sequences in Block Summary",{"$f":"SUM(AE7:AE14)","v":8},null,null,null,"Total Sequences in Block Summary",{"$f":"SUM(AJ7:AJ14)","v":9},null,null,null,"Total Sequences in Block Summary",{"$f":"SUM(AO7:AO14)","v":9},null,null,null,"Total Sequences in Block Summary",{"$f":"SUM(AT7:AT14)","v":9}]
[null,null,null,null,null,null,null,null,null,null,null,null,null,null,null,null,null,null,null,"Block 1",null,null,null,null,"Block 2",null,null,null,null,"Block 3",null,null,null,null,"Block 4",null,null,null,null,"Block 5",null,null,null,null,"Block 6"]
["Sequence\nComponent\n1","Time\n1","Sequence\nComponent\n2","Time\n2","Sequence\nComponent\n3","Time\n3","Sequence\nComponent\n4","Time\n4","Sequence\nComponent\n5","Time\n5","Correct?\n0=No 1=Yes","Sequence",null,"Frequency",null,"Relative Frequency","Variability",null,null,"Frequency",null,"Relative Frequency","Variability",null,"Frequency",null,"Relative Frequency","Variability",null,"Frequency",null,"Relative Frequency","Variability",null,"Frequency",null,"Relative Frequency","Variability",null,"Frequency",null,"Relative Frequency","Variability",null,"Frequency",null,"Relative Frequency","Variability"]
[12,35,13,41,13,51,null,null,null,null,0,111,null,111,{"$f":"COUNTIF($L$7:$L$500,N7)","v":10},{"$f":"O7/$Q$4","v":0.18867924528301888},{"$f":"IF(P7=0,0,(P7*((LOG(P7))/LOG(2))))","v":-0.45396082258034665},null,null,{"$f":"N7","v":111},{"$f":"COUNTIF(L7:L15,T7)","v":5},{"$f":"U7/(W4-U11)","v":0.83333333333333337},{"$f":"IF(V7=0,0,(V7*((LOG(V7))/LOG(2))))","v":-0.21919533819482812},null,{"$f":"N7","v":111},{"$f":"COUNTIF(L16:L24,Y7)","v":1},{"$f":"Z7/(AB4-Z11)","v":1},{"$f":"IF(AA7=0,0,(AA7*((LOG(AA7))/LOG(2))))","v":0},null,{"$f":"N7","v":111},{"$f":"COUNTIF(L25:L32,AD7)","v":1},{"$f":"AE7/(AG4-AE11)","v":1},{"$f":"IF(AF7=0,0,(AF7*((LOG(AF7))/LOG(2))))","v":0},null,{"$f":"N7","v":111},{"$f":"COUNTIF(L33:L41,AI7)","v":0},{"$f":"AJ7/(AL4-AJ11)","v":0},{"$f":"IF(AK7=0,0,(AK7*((LOG(AK7))/LOG(2))))","v":0},null,{"$f":"N7","v":111},{"$f":"COUNTIF(L42:L50,AN7)","v":3},{"$f":"AO7/(AQ4-AO11)","v":1},{"$f":"IF(AP7=0,0,(AP7*((LOG(AP7))/LOG(2))))","v":0},null,{"$f":"N7","v":111},{"$f":"COUNTIF(L51:L59,AS7)","v":0},{"$f":"AT7/(AV4-AT11)","v":{"$error":"#DIV/0!"}},{"$f":"IF(AU7=0,0,(AU7*((LOG(AU7))/LOG(2))))","v":{"$error":"#DIV/0!"}}]
[12,172,13,177,13,185,null,null,null,null,0,111,null,112,{"$f":"COUNTIF($L$7:$L$500,N8)","v":4},{"$f":"O8/$Q$4","v":7.5471698113207544E-2},{"$f":"IF(P8=0,0,(P8*((LOG(P8))/LOG(2))))","v":-0.28135248713684519},null,null,{"$f":"N8","v":112},{"$f":"COUNTIF(L7:L15,T8)","v":1},{"$f":"U8/(W4-U11)","v":0.16666666666666666},{"$f":"IF(V8=0,0,(V8*((LOG(V8))/LOG(2))))","v":-0.43082708345352599},null,{"$f":"N8","v":112},{"$f":"COUNTIF(L16:L24,Y8)","v":0},{"$f":"Z8/(AB4-Z11)","v":0},{"$f":"IF(AA8=0,0,(AA8*((LOG(AA8))/LOG(2))))","v":0},null,{"$f":"N8","v":112},{"$f":"COUNTIF(L25:L32,AD8)","v":0},{"$f":"AE8/(AG4-AE11)","v":0},{"$f":"IF(AF8=0,0,(AF8*((LOG(AF8))/LOG(2))))","v":0},null,{"$f":"N8","v":112},{"$f":"COUNTIF(L33:L41,AI8)","v":3},{"$f":"AJ8/(AL4-AJ11)","v":1},{"$f":"IF(AK8=0,0,(AK8*((LOG(AK8))/LOG(2))))","v":0},null,{"$f":"N8","v":112},{"$f":"COUNTIF(L42:L50,AN8)","v":0},{"$f":"AO8/(AQ4-AO11)","v":0},{"$f":"IF(AP8=0,0,(AP8*((LOG(AP8))/LOG(2))))","v":0},null,{"$f":"N8","v":112},{"$f":"COUNTIF(L51:L59,AS8)","v":0},{"$f":"AT8/(AV4-AT11)","v":{"$error":"#DIV/0!"}},{"$f":"IF(AU8=0,0,(AU8*((LOG(AU8))/LOG(2))))","v":{"$error":"#DIV/0!"}}]
[12,309,13,314,13,322,null,null,null,null,0,111,null,121,{"$f":"COUNTIF($L$7:$L$500,N9)","v":0},{"$f":"O9/$Q$4","v":0},{"$f":"IF(P9=0,0,(P9*((LOG(P9))/LOG(2))))","v":0},null,null,{"$f":"N9","v":121},{"$f":"COUNTIF(L7:L15,T9)","v":0},{"$f":"U9/(W4-U11)","v":0},{"$f":"IF(V9=0,0,(V9*((LOG(V9))/LOG(2))))","v":0},null,{"$f":"N9","v":121},{"$f":"COUNTIF(L16:L24,Y9)","v":0},{"$f":"Z9/(AB4-Z11)","v":0},{"$f":"IF(AA9=0,0,(AA9*((LOG(AA9))/LOG(2))))","v":0},null,{"$f":"N9","v":121},{"$f":"COUNTIF(L25:L32,AD9)","v":0},{"$f":"AE9/(AG4-AE11)","v":0},{"$f":"IF(AF9=0,0,(AF9*((LOG(AF9))/LOG(2))))","v":0},null,{"$f":"N9","v":121},{"$f":"COUNTIF(L33:L41,AI9)","v":0},{"$f":"AJ9/(AL4-AJ11)","v":0},{"$f":"IF(AK9=0,0,(AK9*((LOG(AK9))/LOG(2))))","v":0},null,{"$f":"N9","v":121},{"$f":"COUNTIF(L42:L50,AN9)","v":0},{"$f":"AO9/(AQ4-AO11)","v":0},{"$f":"IF(AP9=0,0,(AP9*((LOG(AP9))/LOG(2))))","v":0},null,{"$f":"N9","v":121},{"$f":"COUNTIF(L51:L59,AS9)","v":0},{"$f":"AT9/(AV4-AT11)","v":{"$error":"#DIV/0!"}},{"$f":"IF(AU9=0,0,(AU9*((LOG(AU9))/LOG(2))))","v":{"$error":"#DIV/0!"}}]
[12,435,13,440,13,447,null,null,null,null,0,111,null,122,{"$f":"COUNTIF($L$7:$L$500,N10)","v":0},{"$f":"O10/$Q$4","v":0},{"$f":"IF(P10=0,0,(P10*((LOG(P10))/LOG(2))))","v":0},null,null,{"$f":"N10","v":122},{"$f":"COUNTIF(L7:L15,T10)","v":0},{"$f":"U10/(W4-U11)","v":0},{"$f":"IF(V10=0,0,(V10*((LOG(V10))/LOG(2))))","v":0},null,{"$f":"N10","v":122},{"$f":"COUNTIF(L16:L24,Y10)","v":0},{"$f":"Z10/(AB4-Z11)","v":0},{"$f":"IF(AA10=0,0,(AA10*((LOG(AA10))/LOG(2))))","v":0},null,{"$f":"N10","v":122},{"$f":"COUNTIF(L25:L32,AD10)","v":0},{"$f":"AE10/(AG4-AE11)","v":0},{"$f":"IF(AF10=0,0,(AF10*((LOG(AF10))/LOG(2))))","v":0},null,{"$f":"N10","v":122},{"$f":"COUNTIF(L33:L41,AI10)","v":0},{"$f":"AJ10/(AL4-AJ11)","v":0},{"$f":"IF(AK10=0,0,(AK10*((LOG(AK10))/LOG(2))))","v":0},null,{"$f":"N10","v":122},{"$f":"COUNTIF(L42:L50,AN10)","v":0},{"$f":"AO10/(AQ4-AO11)","v":0},{"$f":"IF(AP10=0,0,(AP10*((LOG(AP10))/LOG(2))))","v":0},null,{"$f":"N10","v":122},{"$f":"COUNTIF(L51:L59,AS10)","v":0},{"$f":"AT10/(AV4-AT11)","v":{"$error":"#DIV/0!"}},{"$f":"IF(AU10=0,0,(AU10*((LOG(AU10))/LOG(2))))","v":{"$error":"#DIV/0!"}}]
[21,549,11,559,11,564,null,null,null,null,0,211,null,211,{"$f":"COUNTIF($L$7:$L$500,N11)","v":39},{"$f":"O11/$Q$4","v":0.73584905660377353},{"$f":"IF(P11=0,0,(P11*((LOG(P11))/LOG(2))))","v":-0.32562662627051103},null,null,{"$f":"N11","v":211},{"$f":"COUNTIF(L7:L15,T11)","v":3},null,null,null,{"$f":"N11","v":211},{"$f":"COUNTIF(L16:L24,Y11)","v":8},null,null,null,{"$f":"N11","v":211},{"$f":"COUNTIF(L25:L32,AD11)","v":7},null,null,null,{"$f":"N11","v":211},{"$f":"COUNTIF(L33:L41,AI11)","v":6},null,null,null,{"$f":"N11","v":211},{"$f":"COUNTIF(L42:L50,AN11)","v":6},null,null,null,{"$f":"N11","v":211},{"$f":"COUNTIF(L51:L59,AS11)","v":9}]
[21,674,11,683,11,688,null,null,null,null,0,211,null,212,{"$f":"COUNTIF($L$7:$L$500,N12)","v":0},{"$f":"O12/$Q$4","v":0},{"$f":"IF(P12=0,0,(P12*((LOG(P12))/LOG(2))))","v":0},null,null,{"$f":"N12","v":212},{"$f":"COUNTIF(L7:L15,T12)","v":0},{"$f":"U12/(W4-U11)","v":0},{"$f":"IF(V12=0,0,(V12*((LOG(V12))/LOG(2))))","v":0},null,{"$f":"N12","v":212},{"$f":"COUNTIF(L16:L24,Y12)","v":0},{"$f":"Z12/(AB4-Z11)","v":0},{"$f":"IF(AA12=0,0,(AA12*((LOG(AA12))/LOG(2))))","v":0},null,{"$f":"N12","v":212},{"$f":"COUNTIF(L25:L32,AD12)","v":0},{"$f":"AE12/(AG4-AE11)","v":0},{"$f":"IF(AF12=0,0,(AF12*((LOG(AF12))/LOG(2))))","v":0},null,{"$f":"N12","v":212},{"$f":"COUNTIF(L33:L41,AI12)","v":0},{"$f":"AJ12/(AL4-AJ11)","v":0},{"$f":"IF(AK12=0,0,(AK12*((LOG(AK12))/LOG(2))))","v":0},null,{"$f":"N12","v":212},{"$f":"COUNTIF(L42:L50,AN12)","v":0},{"$f":"AO12/(AQ4-AO11)","v":0},{"$f":"IF(AP12=0,0,(AP12*((LOG(AP12))/LOG(2))))","v":0},null,{"$f":"N12","v":212},{"$f":"COUNTIF(L51:L59,AS12)","v":0},{"$f":"AT12/(AV4-AT11)","v":{"$error":"#DIV/0!"}},{"$f":"IF(AU12=0,0,(AU12*((LOG(AU12))/LOG(2))))","v":{"$error":"#DIV/0!"}}]
[21,785,11,796,11,801,null,null,null,null,0,211,null,221,{"$f":"COUNTIF($L$7:$L$500,N13)","v":0},{"$f":"O13/$Q$4","v":0},{"$f":"IF(P13=0,0,(P13*((LOG(P13))/LOG(2))))","v":0},null,null,{"$f":"N13","v":221},{"$f":"COUNTIF(L7:L15,T13)","v":0},{"$f":"U13/(W4-U11)","v":0},{"$f":"IF(V13=0,0,(V13*((LOG(V13))/LOG(2))))","v":0},null,{"$f":"N13","v":221},{"$f":"COUNTIF(L16:L24,Y13)","v":0},{"$f":"Z13/(AB4-Z11)","v":0},{"$f":"IF(AA13=0,0,(AA13*((LOG(AA13))/LOG(2))))","v":0},null,{"$f":"N13","v":221},{"$f":"COUNTIF(L25:L32,AD13)","v":0},{"$f":"AE13/(AG4-AE11)","v":0},{"$f":"IF(AF13=0,0,(AF13*((LOG(AF13))/LOG(2))))","v":0},null,{"$f":"N13","v":221},{"$f":"COUNTIF(L33:L41,AI13)","v":0},{"$f":"AJ13/(AL4-AJ11)","v":0},{"$f":"IF(AK13=0,0,(AK13*((LOG(AK13))/LOG(2))))","v":0},null,{"$f":"N13","v":221},{"$f":"COUNTIF(L42:L50,AN13)","v":0},{"$f":"AO13/(AQ4-AO11)","v":0},{"$f":"IF(AP13=0,0,(AP13*((LOG(AP13))/LOG(2))))","v":0},null,{"$f":"N13","v":221},{"$f":"COUNTIF(L51:L59,AS13)","v":0},{"$f":"AT13/(AV4-AT11)","v":{"$error":"#DIV/0!"}},{"$f":"IF(AU13=0,0,(AU13*((LOG(AU13))/LOG(2))))","v":{"$error":"#DIV/0!"}}]
[12,909,13,915,13,932,null,null,null,null,0,111,null,222,{"$f":"COUNTIF($L$7:$L$500,N14)","v":0},{"$f":"O14/$Q$4","v":0},{"$f":"IF(P14=0,0,(P14*((LOG(P14))/LOG(2))))","v":0},null,null,{"$f":"N14","v":222},{"$f":"COUNTIF(L7:L15,T14)","v":0},{"$f":"U14/(W4-U11)","v":0},{"$f":"IF(V14=0,0,(V14*((LOG(V14))/LOG(2))))","v":0},null,{"$f":"N14","v":222},{"$f":"COUNTIF(L16:L24,Y14)","v":0},{"$f":"Z14/(AB4-Z11)","v":0},{"$f":"IF(AA14=0,0,(AA14*((LOG(AA14))/LOG(2))))","v":0},null,{"$f":"N14","v":222},{"$f":"COUNTIF(L25:L32,AD14)","v":0},{"$f":"AE14/(AG4-AE11)","v":0},{"$f":"IF(AF14=0,0,(AF14*((LOG(AF14))/LOG(2))))","v":0},null,{"$f":"N14","v":222},{"$f":"COUNTIF(L33:L41,AI14)","v":0},{"$f":"AJ14/(AL4-AJ11)","v":0},{"$f":"IF(AK14=0,0,(AK14*((LOG(AK14))/LOG(2))))","v":0},null,{"$f":"N14","v":222},{"$f":"COUNTIF(L42:L50,AN14)","v":0},{"$f":"AO14/(AQ4-AO11)","v":0},{"$f":"IF(AP14=0,0,(AP14*((LOG(AP14))/LOG(2))))","v":0},null,{"$f":"N14","v":222},{"$f":"COUNTIF(L51:L59,AS14)","v":0},{"$f":"AT14/(AV4-AT11)","v":{"$error":"#DIV/0!"}},{"$f":"IF(AU14=0,0,(AU14*((LOG(AU14))/LOG(2))))","v":{"$error":"#DIV/0!"}}]
[12,1044,13,1050,24,1071,null,null,null,null,0,112,null,null,null,{"$f":"SUM(P7:P14)","v":1},{"$f":"-SUM(Q7:Q14)","v":1.0609399359877028},null,null,null,null,{"$f":"SUM(V7:V14)","v":1},{"$f":"-SUM(W7:W14)","v":0.65002242164835411},null,null,null,{"$f":"SUM(AA7:AA14)","v":1},{"$f":"-SUM(AB7:AB14)","v":0},null,null,null,{"$f":"SUM(AF7:AF14)","v":1},{"$f":"-SUM(AG7:AG14)","v":0},null,null,null,{"$f":"SUM(AK7:AK14)","v":1},{"$f":"-SUM(AL7:AL14)","v":0},null,null,null,{"$f":"SUM(AP7:AP14)","v":1},{"$f":"-SUM(AQ7:AQ14)","v":0},null,null,null,{"$f":"SUM(AU7:AU14)","v":{"$error":"#DIV/0!"}},{"$f":"-SUM(AV7:AV14)","v":{"$error":"#DIV/0!"}}]
[21,1170,11,1180,11,1184,null,null,null,null,0,211,null,null,null,"U=",{"$f":"Q15/(LOG(Q4)/LOG(2))","v":0.18522253309968639},null,null,null,null,"U1=",{"$f":"W15/(LOG(W4)/LOG(2))","v":0.20505924315325905},null,null,null,"U2=",{"$f":"AB15/(LOG(AB4)/LOG(2))","v":0},null,null,null,"U3=",{"$f":"AG15/(LOG(AG4)/LOG(2))","v":0},null,null,null,"U4=",{"$f":"AL15/(LOG(AL4)/LOG(2))","v":0},null,null,null,"U5=",{"$f":"AQ15/(LOG(AQ4)/LOG(2))","v":0},null,null,null,"U6=",{"$f":"AV15/(LOG(AV4)/LOG(2))","v":{"$error":"#DIV/0!"}}]
[21,1287,11,1298,11,1303,null,null,null,null,0,211]
[21,1394,11,1403,11,1408,null,null,null,null,0,211]
[12,1512,13,1516,13,1537,null,null,null,null,0,111,null,"Total Target Seq"]
[21,1641,11,1653,11,1661,null,null,null,null,0,211,null,{"$f":"COUNTIF(L7:L59,G3)","v":39},null,9,9,8,9,9,9]
[21,1761,11,1775,11,1783,null,null,null,null,0,211,null,null,null,"% of reinforcement given in 6 equal intervals based on number of trials "]
[21,1875,11,1890,11,1901,null,null,null,null,0,211,null,null,null,"%_1","%_2","%_3","%_4","%_5","%_6"]
[21,1992,11,2001,11,2006,null,null,null,null,0,211,null,null,"target sequence",{"$f":"$G$3","v":211},{"$f":"$G$3","v":211},{"$f":"$G$3","v":211},{"$f":"$G$3","v":211},{"$f":"$G$3","v":211},{"$f":"$G$3","v":211}]
[21,2097,11,2110,11,2115,null,null,null,null,0,211,null,null,"total reinforcement",{"$f":"U11","v":3},{"$f":"Z11","v":8},{"$f":"AE11","v":7},{"$f":"AJ11","v":6},{"$f":"AO11","v":6},{"$f":"AT11","v":9}]
[21,2207,11,2215,11,2220,null,null,null,null,0,211,null,null,"% target"]
[21,2316,11,2325,11,2330,null,null,null,null,0,211,null,null,"CCRF"]
[21,2422,11,2430,11,2435,null,null,null,null,0,211,null,null,"% CCRf"]
[21,2528,11,2537,11,2541,null,null,null,null,0,211,null,null,"average response rate",{"$f":"F15/P20","v":119},{"$f":"(F24-F15)/Q20","v":116},{"$f":"(F32-F24)/R20","v":109},{"$f":"(F41-F32)/S20","v":130.33333333333334},{"$f":"(F50-F41)/T20","v":116.88888888888889},{"$f":"(F59-F50)/U20","v":110.22222222222223}]
[21,2633,11,2645,11,2653,null,null,null,null,0,211]
[21,2745,11,2754,11,2759,null,null,null,null,0,211]
[21,2853,11,2862,11,2866,null,null,null,null,0,211]
[12,2969,13,2973,13,2987,null,null,null,null,0,111]
[21,3089,11,3099,11,3103,null,null,null,null,0,211]
[12,3214,13,3219,24,3268,null,null,null,null,0,112]
[21,3370,11,3379,11,3384,null,null,null,null,0,211]
[12,3490,13,3496,24,3523,null,null,null,null,0,112]
[21,3626,11,3654,11,3660,null,null,null,null,0,211]
[12,3762,13,3772,24,3824,null,null,null,null,0,112]
[21,3926,11,3938,11,3945,null,null,null,null,0,211]
[21,4035,11,4048,11,4055,null,null,null,null,0,211]
[21,4147,11,4156,11,4160,null,null,null,null,0,211]
[12,4263,13,4268,13,4283,null,null,null,null,0,111]
[21,4383,11,4394,11,4402,null,null,null,null,0,211]
[21,4497,11,4505,11,4509,null,null,null,null,0,211]
[21,4606,11,4615,11,4622,null,null,null,null,0,211]
[12,4727,13,4731,13,4743,null,null,null,null,0,111]
[12,4856,13,4860,13,4867,null,null,null,null,0,111]
[21,4968,11,4977,11,4985,null,null,null,null,0,211]
[21,5084,11,5097,11,5105,null,null,null,null,0,211]
[21,5199,11,5208,11,5212,null,null,null,null,0,211]
[21,5310,11,5318,11,5323,null,null,null,null,0,211]
[21,5416,11,5424,11,5428,null,null,null,null,0,211]
[21,5530,11,5539,11,5543,null,null,null,null,0,211]
[21,5637,11,5643,11,5648,null,null,null,null,0,211]
[21,5745,11,5754,11,5762,null,null,null,null,0,211]
[21,5857,11,5866,11,5873,null,null,null,null,0,211]
[21,5971,11,5980,11,5987,null,null,null,null,0,211]
[21,6082,11,6088,11,6093,null,null,null,null,0,211]
[21,6190,11,6200,11,6204,null,null,null,null,1,211]

{"sheet":"!M520A50.105","index":20,"n_rows":53,"n_cols":48,"rows_kept":53,"cut":false,"hidden":false,"merged":[[4,39,4,42],[5,39,5,40],[4,44,4,47],[5,44,5,45],[4,24,4,27],[5,24,5,25],[4,29,4,32],[5,29,5,30],[4,34,4,37],[5,34,5,35],[1,1,1,2],[5,13,5,14],[18,13,18,14],[19,13,19,14],[4,19,4,22],[5,19,5,20]]}
["Report for:!M520A50.105"]
["Date:","<date>"]
["Hen:","<hen>",null,null,null,"Correct Sequence",{"$f":"Start!J2","v":211},null,null,null,null,null,null,null,null,"Total Sequences in Data",{"$f":"4994-COUNTBLANK(L7:L5000)","v":47},null,null,null,null,"Total Sequences in Block Data",{"$f":"COUNTA(L7:L14)","v":8},null,null,null,"Total Sequences in Block Data",{"$f":"COUNTA(L15:L22)","v":8},null,null,null,"Total Sequences in Block Data",{"$f":"COUNTA(L23:L29)","v":7},null,null,null,"Total Sequences in Block Data",{"$f":"COUNTA(L30:L37)","v":8},null,null,null,"Total Sequences in Block Data",{"$f":"COUNTA(L38:L45)","v":8},null,null,null,"Total Sequences in Block Data",{"$f":"COUNTA(L46:L53)","v":8}]
[null,null,null,null,null,null,null,null,null,null,null,null,null,null,null,"Total Sequences in Summary",{"$f":"SUM(O7:O14)","v":47},null,null,null,null,"Total Sequences in Block Summary",{"$f":"SUM(U7:U14)","v":8},null,null,null,"Total Sequences in Block Summary",{"$f":"SUM(Z7:Z14)","v":8},null,null,null,"Total Sequences in Block Summary",{"$f":"SUM(AE7:AE14)","v":7},null,null,null,"Total Sequences in Block Summary",{"$f":"SUM(AJ7:AJ14)","v":8},null,null,null,"Total Sequences in Block Summary",{"$f":"SUM(AO7:AO14)","v":8},null,null,null,"Total Sequences in Block Summary",{"$f":"SUM(AT7:AT14)","v":8}]
[null,null,null,null,null,null,null,null,null,null,null,null,null,null,null,null,null,null,null,"Block 1",null,null,null,null,"Block 2",null,null,null,null,"Block 3",null,null,null,null,"Block 4",null,null,null,null,"Block 5",null,null,null,null,"Block 6"]
["Sequence\nComponent\n1","Time\n1","Sequence\nComponent\n2","Time\n2","Sequence\nComponent\n3","Time\n3","Sequence\nComponent\n4","Time\n4","Sequence\nComponent\n5","Time\n5","Correct?\n0=No 1=Yes","Sequence",null,"Frequency",null,"Relative Frequency","Variability",null,null,"Frequency",null,"Relative Frequency","Variability",null,"Frequency",null,"Relative Frequency","Variability",null,"Frequency",null,"Relative Frequency","Variability",null,"Frequency",null,"Relative Frequency","Variability",null,"Frequency",null,"Relative Frequency","Variability",null,"Frequency",null,"Relative Frequency","Variability"]
[21,18,11,30,11,35,null,null,null,null,0,211,null,111,{"$f":"COUNTIF($L$7:$L$500,N7)","v":6},{"$f":"O7/$Q$4","v":0.1276595744680851},{"$f":"IF(P7=0,0,(P7*((LOG(P7))/LOG(2))))","v":-0.37910123629231673},null,null,{"$f":"N7","v":111},{"$f":"COUNTIF(L7:L14,T7)","v":3},{"$f":"U7/(W4-U11)","v":0.75},{"$f":"IF(V7=0,0,(V7*((LOG(V7))/LOG(2))))","v":-0.31127812445913283},null,{"$f":"N7","v":111},{"$f":"COUNTIF(L15:L22,Y7)","v":1},{"$f":"Z7/(AB4-Z11)","v":1},{"$f":"IF(AA7=0,0,(AA7*((LOG(AA7))/LOG(2))))","v":0},null,{"$f":"N7","v":111},{"$f":"COUNTIF(L23:L29,AD7)","v":0},{"$f":"AE7/(AG4-AE11)","v":{"$error":"#DIV/0!"}},{"$f":"IF(AF7=0,0,(AF7*((LOG(AF7))/LOG(2))))","v":{"$error":"#DIV/0!"}},null,{"$f":"N7","v":111},{"$f":"COUNTIF(L30:L37,AI7)","v":0},{"$f":"AJ7/(AL4-AJ11)","v":{"$error":"#DIV/0!"}},{"$f":"IF(AK7=0,0,(AK7*((LOG(AK7))/LOG(2))))","v":{"$error":"#DIV/0!"}},null,{"$f":"N7","v":111},{"$f":"COUNTIF(L38:L45,AN7)","v":1},{"$f":"AO7/(AQ4-AO11)","v":0.5},{"$f":"IF(AP7=0,0,(AP7*((LOG(AP7))/LOG(2))))","v":-0.5},null,{"$f":"N7","v":111},{"$f":"COUNTIF(L46:L53,AS7)","v":1},{"$f":"AT7/(AV4-AT11)","v":1},{"$f":"IF(AU7=0,0,(AU7*((LOG(AU7))/LOG(2))))","v":0}]
[12,145,13,151,13,160,null,null,null,null,0,111,null,112,{"$f":"COUNTIF($L$7:$L$500,N8)","v":1},{"$f":"O8/$Q$4","v":2.1276595744680851E-2},{"$f":"IF(P8=0,0,(P8*((LOG(P8))/LOG(2))))","v":-0.11818274152505612},null,null,{"$f":"N8","v":112},{"$f":"COUNTIF(L7:L14,T8)","v":1},{"$f":"U8/(W4-U11)","v":0.25},{"$f":"IF(V8=0,0,(V8*((LOG(V8))/LOG(2))))","v":-0.5},null,{"$f":"N8","v":112},{"$f":"COUNTIF(L15:L22,Y8)","v":0},{"$f":"Z8/(AB4-Z11)","v":0},{"$f":"IF(AA8=0,0,(AA8*((LOG(AA8))/LOG(2))))","v":0},null,{"$f":"N8","v":112},{"$f":"COUNTIF(L23:L29,AD8)","v":0},{"$f":"AE8/(AG4-AE11)","v":{"$error":"#DIV/0!"}},{"$f":"IF(AF8=0,0,(AF8*((LOG(AF8))/LOG(2))))","v":{"$error":"#DIV/0!"}},null,{"$f":"N8","v":112},{"$f":"COUNTIF(L30:L37,AI8)","v":0},{"$f":"AJ8/(AL4-AJ11)","v":{"$error":"#DIV/0!"}},{"$f":"IF(AK8=0,0,(AK8*((LOG(AK8))/LOG(2))))","v":{"$error":"#DIV/0!"}},null,{"$f":"N8","v":112},{"$f":"COUNTIF(L38:L45,AN8)","v":0},{"$f":"AO8/(AQ4-AO11)","v":0},{"$f":"IF(AP8=0,0,(AP8*((LOG(AP8))/LOG(2))))","v":0},null,{"$f":"N8","v":112},{"$f":"COUNTIF(L46:L53,AS8)","v":0},{"$f":"AT8/(AV4-AT11)","v":0},{"$f":"IF(AU8=0,0,(AU8*((LOG(AU8))/LOG(2))))","v":0}]
[21,260,11,267,11,272,null,null,null,null,0,211,null,121,{"$f":"COUNTIF($L$7:$L$500,N9)","v":0},{"$f":"O9/$Q$4","v":0},{"$f":"IF(P9=0,0,(P9*((LOG(P9))/LOG(2))))","v":0},null,null,{"$f":"N9","v":121},{"$f":"COUNTIF(L7:L14,T9)","v":0},{"$f":"U9/(W4-U11)","v":0},{"$f":"IF(V9=0,0,(V9*((LOG(V9))/LOG(2))))","v":0},null,{"$f":"N9","v":121},{"$f":"COUNTIF(L15:L22,Y9)","v":0},{"$f":"Z9/(AB4-Z11)","v":0},{"$f":"IF(AA9=0,0,(AA9*((LOG(AA9))/LOG(2))))","v":0},null,{"$f":"N9","v":121},{"$f":"COUNTIF(L23:L29,AD9)","v":0},{"$f":"AE9/(AG4-AE11)","v":{"$error":"#DIV/0!"}},{"$f":"IF(AF9=0,0,(AF9*((LOG(AF9))/LOG(2))))","v":{"$error":"#DIV/0!"}},null,{"$f":"N9","v":121},{"$f":"COUNTIF(L30:L37,AI9)","v":0},{"$f":"AJ9/(AL4-AJ11)","v":{"$error":"#DIV/0!"}},{"$f":"IF(AK9=0,0,(AK9*((LOG(AK9))/LOG(2))))","v":{"$error":"#DIV/0!"}},null,{"$f":"N9","v":121},{"$f":"COUNTIF(L38:L45,AN9)","v":0},{"$f":"AO9/(AQ4-AO11)","v":0},{"$f":"IF(AP9=0,0,(AP9*((LOG(AP9))/LOG(2))))","v":0},null,{"$f":"N9","v":121},{"$f":"COUNTIF(L46:L53,AS9)","v":0},{"$f":"AT9/(AV4-AT11)","v":0},{"$f":"IF(AU9=0,0,(AU9*((LOG(AU9))/LOG(2))))","v":0}]
[21,369,11,382,11,391,null,null,null,null,0,211,null,122,{"$f":"COUNTIF($L$7:$L$500,N10)","v":1},{"$f":"O10/$Q$4","v":2.1276595744680851E-2},{"$f":"IF(P10=0,0,(P10*((LOG(P10))/LOG(2))))","v":-0.11818274152505612},null,null,{"$f":"N10","v":122},{"$f":"COUNTIF(L7:L14,T10)","v":0},{"$f":"U10/(W4-U11)","v":0},{"$f":"IF(V10=0,0,(V10*((LOG(V10))/LOG(2))))","v":0},null,{"$f":"N10","v":122},{"$f":"COUNTIF(L15:L22,Y10)","v":0},{"$f":"Z10/(AB4-Z11)","v":0},{"$f":"IF(AA10=0,0,(AA10*((LOG(AA10))/LOG(2))))","v":0},null,{"$f":"N10","v":122},{"$f":"COUNTIF(L23:L29,AD10)","v":0},{"$f":"AE10/(AG4-AE11)","v":{"$error":"#DIV/0!"}},{"$f":"IF(AF10=0,0,(AF10*((LOG(AF10))/LOG(2))))","v":{"$error":"#DIV/0!"}},null,{"$f":"N10","v":122},{"$f":"COUNTIF(L30:L37,AI10)","v":0},{"$f":"AJ10/(AL4-AJ11)","v":{"$error":"#DIV/0!"}},{"$f":"IF(AK10=0,0,(AK10*((LOG(AK10))/LOG(2))))","v":{"$error":"#DIV/0!"}},null,{"$f":"N10","v":122},{"$f":"COUNTIF(L38:L45,AN10)","v":1},{"$f":"AO10/(AQ4-AO11)","v":0.5},{"$f":"IF(AP10=0,0,(AP10*((LOG(AP10))/LOG(2))))","v":-0.5},null,{"$f":"N10","v":122},{"$f":"COUNTIF(L46:L53,AS10)","v":0},{"$f":"AT10/(AV4-AT11)","v":0},{"$f":"IF(AU10=0,0,(AU10*((LOG(AU10))/LOG(2))))","v":0}]
[12,498,13,503,13,515,null,null,null,null,0,111,null,211,{"$f":"COUNTIF($L$7:$L$500,N11)","v":39},{"$f":"O11/$Q$4","v":0.82978723404255317},{"$f":"IF(P11=0,0,(P11*((LOG(P11))/LOG(2))))","v":-0.22336763148511007},null,null,{"$f":"N11","v":211},{"$f":"COUNTIF(L7:L14,T11)","v":4},null,null,null,{"$f":"N11","v":211},{"$f":"COUNTIF(L15:L22,Y11)","v":7},null,null,null,{"$f":"N11","v":211},{"$f":"COUNTIF(L23:L29,AD11)","v":7},null,null,null,{"$f":"N11","v":211},{"$f":"COUNTIF(L30:L37,AI11)","v":8},null,null,null,{"$f":"N11","v":211},{"$f":"COUNTIF(L38:L45,AN11)","v":6},null,null,null,{"$f":"N11","v":211},{"$f":"COUNTIF(L46:L53,AS11)","v":7}]
[12,625,13,630,13,641,null,null,null,null,0,111,null,212,{"$f":"COUNTIF($L$7:$L$500,N12)","v":0},{"$f":"O12/$Q$4","v":0},{"$f":"IF(P12=0,0,(P12*((LOG(P12))/LOG(2))))","v":0},null,null,{"$f":"N12","v":212},{"$f":"COUNTIF(L7:L14,T12)","v":0},{"$f":"U12/(W4-U11)","v":0},{"$f":"IF(V12=0,0,(V12*((LOG(V12))/LOG(2))))","v":0},null,{"$f":"N12","v":212},{"$f":"COUNTIF(L15:L22,Y12)","v":0},{"$f":"Z12/(AB4-Z11)","v":0},{"$f":"IF(AA12=0,0,(AA12*((LOG(AA12))/LOG(2))))","v":0},null,{"$f":"N12","v":212},{"$f":"COUNTIF(L23:L29,AD12)","v":0},{"$f":"AE12/(AG4-AE11)","v":{"$error":"#DIV/0!"}},{"$f":"IF(AF12=0,0,(AF12*((LOG(AF12))/LOG(2))))","v":{"$error":"#DIV/0!"}},null,{"$f":"N12","v":212},{"$f":"COUNTIF(L30:L37,AI12)","v":0},{"$f":"AJ12/(AL4-AJ11)","v":{"$error":"#DIV/0!"}},{"$f":"IF(AK12=0,0,(AK12*((LOG(AK12))/LOG(2))))","v":{"$error":"#DIV/0!"}},null,{"$f":"N12","v":212},{"$f":"COUNTIF(L38:L45,AN12)","v":0},{"$f":"AO12/(AQ4-AO11)","v":0},{"$f":"IF(AP12=0,0,(AP12*((LOG(AP12))/LOG(2))))","v":0},null,{"$f":"N12","v":212},{"$f":"COUNTIF(L46:L53,AS12)","v":0},{"$f":"AT12/(AV4-AT11)","v":0},{"$f":"IF(AU12=0,0,(AU12*((LOG(AU12))/LOG(2))))","v":0}]
[21,741,11,755,11,763,null,null,null,null,0,211,null,221,{"$f":"COUNTIF($L$7:$L$500,N13)","v":0},{"$f":"O13/$Q$4","v":0},{"$f":"IF(P13=0,0,(P13*((LOG(P13))/LOG(2))))","v":0},null,null,{"$f":"N13","v":221},{"$f":"COUNTIF(L7:L14,T13)","v":0},{"$f":"U13/(W4-U11)","v":0},{"$f":"IF(V13=0,0,(V13*((LOG(V13))/LOG(2))))","v":0},null,{"$f":"N13","v":221},{"$f":"COUNTIF(L15:L22,Y13)","v":0},{"$f":"Z13/(AB4-Z11)","v":0},{"$f":"IF(AA13=0,0,(AA13*((LOG(AA13))/LOG(2))))","v":0},null,{"$f":"N13","v":221},{"$f":"COUNTIF(L23:L29,AD13)","v":0},{"$f":"AE13/(AG4-AE11)","v":{"$error":"#DIV/0!"}},{"$f":"IF(AF13=0,0,(AF13*((LOG(AF13))/LOG(2))))","v":{"$error":"#DIV/0!"}},null,{"$f":"N13","v":221},{"$f":"COUNTIF(L30:L37,AI13)","v":0},{"$f":"AJ13/(AL4-AJ11)","v":{"$error":"#DIV/0!"}},{"$f":"IF(AK13=0,0,(AK13*((LOG(AK13))/LOG(2))))","v":{"$error":"#DIV/0!"}},null,{"$f":"N13","v":221},{"$f":"COUNTIF(L38:L45,AN13)","v":0},{"$f":"AO13/(AQ4-AO11)","v":0},{"$f":"IF(AP13=0,0,(AP13*((LOG(AP13))/LOG(2))))","v":0},null,{"$f":"N13","v":221},{"$f":"COUNTIF(L46:L53,AS13)","v":0},{"$f":"AT13/(AV4-AT11)","v":0},{"$f":"IF(AU13=0,0,(AU13*((LOG(AU13))/LOG(2))))","v":0}]
[12,878,13,886,24,937,null,null,null,null,0,112,null,222,{"$f":"COUNTIF($L$7:$L$500,N14)","v":0},{"$f":"O14/$Q$4","v":0},{"$f":"IF(P14=0,0,(P14*((LOG(P14))/LOG(2))))","v":0},null,null,{"$f":"N14","v":222},{"$f":"COUNTIF(L7:L14,T14)","v":0},{"$f":"U14/(W4-U11)","v":0},{"$f":"IF(V14=0,0,(V14*((LOG(V14))/LOG(2))))","v":0},null,{"$f":"N14","v":222},{"$f":"COUNTIF(L15:L22,Y14)","v":0},{"$f":"Z14/(AB4-Z11)","v":0},{"$f":"IF(AA14=0,0,(AA14*((LOG(AA14))/LOG(2))))","v":0},null,{"$f":"N14","v":222},{"$f":"COUNTIF(L23:L29,AD14)","v":0},{"$f":"AE14/(AG4-AE11)","v":{"$error":"#DIV/0!"}},{"$f":"IF(AF14=0,0,(AF14*((LOG(AF14))/LOG(2))))","v":{"$error":"#DIV/0!"}},null,{"$f":"N14","v":222},{"$f":"COUNTIF(L30:L37,AI14)","v":0},{"$f":"AJ14/(AL4-AJ11)","v":{"$error":"#DIV/0!"}},{"$f":"IF(AK14=0,0,(AK14*((LOG(AK14))/LOG(2))))","v":{"$error":"#DIV/0!"}},null,{"$f":"N14","v":222},{"$f":"COUNTIF(L38:L45,AN14)","v":0},{"$f":"AO14/(AQ4-AO11)","v":0},{"$f":"IF(AP14=0,0,(AP14*((LOG(AP14))/LOG(2))))","v":0},null,{"$f":"N14","v":222},{"$f":"COUNTIF(L46:L53,AS14)","v":0},{"$f":"AT14/(AV4-AT11)","v":0},{"$f":"IF(AU14=0,0,(AU14*((LOG(AU14))/LOG(2))))","v":0}]
[21,1031,11,1040,11,1045,null,null,null,null,0,211,null,null,null,{"$f":"SUM(P7:P14)","v":1},{"$f":"-SUM(Q7:Q14)","v":0.8388343508275391},null,null,null,null,{"$f":"SUM(V7:V14)","v":1},{"$f":"-SUM(W7:W14)","v":0.81127812445913283},null,null,null,{"$f":"SUM(AA7:AA14)","v":1},{"$f":"-SUM(AB7:AB14)","v":0},null,null,null,{"$f":"SUM(AF7:AF14)","v":{"$error":"#DIV/0!"}},{"$f":"-SUM(AG7:AG14)","v":{"$error":"#DIV/0!"}},null,null,null,{"$f":"SUM(AK7:AK14)","v":{"$error":"#DIV/0!"}},{"$f":"-SUM(AL7:AL14)","v":{"$error":"#DIV/0!"}},null,null,null,{"$f":"SUM(AP7:AP14)","v":1},{"$f":"-SUM(AQ7:AQ14)","v":1},null,null,null,{"$f":"SUM(AU7:AU14)","v":1},{"$f":"-SUM(AV7:AV14)","v":0}]
[12,1151,13,1156,13,1164,null,null,null,null,0,111,null,null,null,"U=",{"$f":"Q15/(LOG(Q4)/LOG(2))","v":0.15101646102468741},null,null,null,null,"U1=",{"$f":"W15/(LOG(W4)/LOG(2))","v":0.27042604148637761},null,null,null,"U2=",{"$f":"AB15/(LOG(AB4)/LOG(2))","v":0},null,null,null,"U3=",{"$f":"AG15/(LOG(AG4)/LOG(2))","v":{"$error":"#DIV/0!"}},null,null,null,"U4=",{"$f":"AL15/(LOG(AL4)/LOG(2))","v":{"$error":"#DIV/0!"}},null,null,null,"U5=",{"$f":"AQ15/(LOG(AQ4)/LOG(2))","v":0.33333333333333331},null,null,null,"U6=",{"$f":"AV15/(LOG(AV4)/LOG(2))","v":0}]
[21,1265,11,1278,11,1287,null,null,null,null,0,211]
[21,1379,11,1389,11,1399,null,null,null,null,0,211]
[21,1490,11,1499,11,1504,null,null,null,null,0,211,null,"Total Target Seq"]
[21,1597,11,1605,11,1610,null,null,null,null,0,211,null,{"$f":"COUNTIF(L7:L53,G3)","v":39},null,8,8,7,8,8,8]
[21,1700,11,1708,11,1713,null,null,null,null,0,211,null,null,null,"% of reinforcement given in 6 equal intervals based on number of trials "]
[21,1808,11,1816,11,1822,null,null,null,null,0,211,null,null,null,"%_1","%_2","%_3","%_4","%_5","%_6"]
[21,1913,11,1921,11,1926,null,null,null,null,0,211,null,null,"target sequence",{"$f":"$G$3","v":211},{"$f":"$G$3","v":211},{"$f":"$G$3","v":211},{"$f":"$G$3","v":211},{"$f":"$G$3","v":211},{"$f":"$G$3","v":211}]
[21,2017,11,2026,11,2032,null,null,null,null,0,211,null,null,"total reinforcement",{"$f":"U11","v":4},{"$f":"Z11","v":7},{"$f":"AE11","v":7},{"$f":"AJ11","v":8},{"$f":"AO11","v":6},{"$f":"AT11","v":7}]
[21,2122,11,2130,11,2139,null,null,null,null,0,211,null,null,"% target"]
[21,2232,11,2241,11,2247,null,null,null,null,0,211,null,null,"CCRF"]
[21,2346,11,2355,11,2364,null,null,null,null,0,211,null,null,"% CCRf"]
[21,2455,11,2462,11,2468,null,null,null,null,0,211,null,null,"average response rate",{"$f":"F14/P20","v":117.125},{"$f":"(F22-F14)/Q20","v":110.625},{"$f":"(F29-F22)/R20","v":108.28571428571429},{"$f":"(F37-F29)/S20","v":111.25},{"$f":"(F45-F37)/T20","v":120.625},{"$f":"(F53-F45)/U20","v":110}]
[21,2563,11,2571,11,2580,null,null,null,null,0,211]
[21,2671,11,2680,11,2685,null,null,null,null,0,211]
[21,2775,11,2784,11,2808,null,null,null,null,0,211]
[21,2898,11,2907,11,2912,null,null,null,null,0,211]
[21,3004,11,3013,11,3029,null,null,null,null,0,211]
[21,3127,11,3137,11,3141,null,null,null,null,0,211]
[21,3233,11,3241,11,3254,null,null,null,null,0,211]
[21,3350,11,3358,11,3366,null,null,null,null,0,211]
[21,3456,11,3465,11,3470,null,null,null,null,0,211]
[21,3564,11,3574,11,3579,null,null,null,null,0,211]
[12,3675,13,3680,13,3688,null,null,null,null,0,111]
[21,3788,11,3796,11,3800,null,null,null,null,0,211]
[21,3894,11,3902,11,3914,null,null,null,null,0,211]
[21,4009,11,4017,11,4027,null,null,null,null,0,211]
[21,4122,11,4130,11,4135,null,null,null,null,0,211]
[21,4227,11,4236,11,4241,null,null,null,null,0,211]
[12,4345,24,4385,24,4435,null,null,null,null,0,122]
[21,4538,11,4546,11,4551,null,null,null,null,0,211]
[21,4645,11,4652,11,4656,null,null,null,null,0,211]
[21,4755,11,4763,11,4771,null,null,null,null,0,211]
[21,4863,11,4871,11,4876,null,null,null,null,0,211]
[12,4974,13,4979,13,4986,null,null,null,null,0,111]
[21,5090,11,5096,11,5100,null,null,null,null,0,211]
[21,5191,11,5200,11,5204,null,null,null,null,0,211]
[21,5301,11,5310,11,5315,null,null,null,null,1,211]

{"sheet":"!M521A00.105","index":21,"n_rows":50,"n_cols":48,"rows_kept":50,"cut":false,"hidden":false,"merged":[[4,39,4,42],[5,39,5,40],[4,44,4,47],[5,44,5,45],[4,24,4,27],[5,24,5,25],[4,29,4,32],[5,29,5,30],[4,34,4,37],[5,34,5,35],[1,1,1,2],[5,13,5,14],[18,13,18,14],[19,13,19,14],[4,19,4,22],[5,19,5,20]]}
["Report for:!M521A00.105"]
["Date:","<date>"]
["Hen:","<hen>",null,null,null,"Correct Sequence",{"$f":"Start!J2","v":211},null,null,null,null,null,null,null,null,"Total Sequences in Data",{"$f":"4994-COUNTBLANK(L7:L5000)","v":44},null,null,null,null,"Total Sequences in Block Data",{"$f":"COUNTA(L7:L13)","v":7},null,null,null,"Total Sequences in Block Data",{"$f":"COUNTA(L14:L21)","v":8},null,null,null,"Total Sequences in Block Data",{"$f":"COUNTA(L22:L28)","v":7},null,null,null,"Total Sequences in Block Data",{"$f":"COUNTA(L29:L35)","v":7},null,null,null,"Total Sequences in Block Data",{"$f":"COUNTA(L36:L43)","v":8},null,null,null,"Total Sequences in Block Data",{"$f":"COUNTA(L44:L50)","v":7}]
[null,null,null,null,null,null,null,null,null,null,null,null,null,null,null,"Total Sequences in Summary",{"$f":"SUM(O7:O14)","v":44},null,null,null,null,"Total Sequences in Block Summary",{"$f":"SUM(U7:U14)","v":7},null,null,null,"Total Sequences in Block Summary",{"$f":"SUM(Z7:Z14)","v":8},null,null,null,"Total Sequences in Block Summary",{"$f":"SUM(AE7:AE14)","v":7},null,null,null,"Total Sequences in Block Summary",{"$f":"SUM(AJ7:AJ14)","v":7},null,null,null,"Total Sequences in Block Summary",{"$f":"SUM(AO7:AO14)","v":8},null,null,null,"Total Sequences in Block Summary",{"$f":"SUM(AT7:AT14)","v":7}]
[null,null,null,null,null,null,null,null,null,null,null,null,null,null,null,null,null,null,null,"Block 1",null,null,null,null,"Block 2",null,null,null,null,"Block 3",null,null,null,null,"Block 4",null,null,null,null,"Block 5",null,null,null,null,"Block 6"]
["Sequence\nComponent\n1","Time\n1","Sequence\nComponent\n2","Time\n2","Sequence\nComponent\n3","Time\n3","Sequence\nComponent\n4","Time\n4","Sequence\nComponent\n5","Time\n5","Correct?\n0=No 1=Yes","Sequence",null,"Frequency",null,"Relative Frequency","Variability",null,null,"Frequency",null,"Relative Frequency","Variability",null,"Frequency",null,"Relative Frequency","Variability",null,"Frequency",null,"Relative Frequency","Variability",null,"Frequency",null,"Relative Frequency","Variability",null,"Frequency",null,"Relative Frequency","Variability",null,"Frequency",null,"Relative Frequency","Variability"]
[21,23,11,30,11,36,null,null,null,null,0,211,null,111,{"$f":"COUNTIF($L$7:$L$500,N7)","v":2},{"$f":"O7/$Q$4","v":4.5454545454545456E-2},{"$f":"IF(P7=0,0,(P7*((LOG(P7))/LOG(2))))","v":-0.20270143721078623},null,null,{"$f":"N7","v":111},{"$f":"COUNTIF(L7:L13,T7)","v":1},{"$f":"U7/(W4-U11)","v":1},{"$f":"IF(V7=0,0,(V7*((LOG(V7))/LOG(2))))","v":0},null,{"$f":"N7","v":111},{"$f":"COUNTIF(L14:L21,Y7)","v":1},{"$f":"Z7/(AB4-Z11)","v":0.33333333333333331},{"$f":"IF(AA7=0,0,(AA7*((LOG(AA7))/LOG(2))))","v":-0.52832083357371862},null,{"$f":"N7","v":111},{"$f":"COUNTIF(L22:L28,AD7)","v":0},{"$f":"AE7/(AG4-AE11)","v":0},{"$f":"IF(AF7=0,0,(AF7*((LOG(AF7))/LOG(2))))","v":0},null,{"$f":"N7","v":111},{"$f":"COUNTIF(L29:L35,AI7)","v":0},{"$f":"AJ7/(AL4-AJ11)","v":{"$error":"#DIV/0!"}},{"$f":"IF(AK7=0,0,(AK7*((LOG(AK7))/LOG(2))))","v":{"$error":"#DIV/0!"}},null,{"$f":"N7","v":111},{"$f":"COUNTIF(L36:L43,AN7)","v":0},{"$f":"AO7/(AQ4-AO11)","v":{"$error":"#DIV/0!"}},{"$f":"IF(AP7=0,0,(AP7*((LOG(AP7))/LOG(2))))","v":{"$error":"#DIV/0!"}},null,{"$f":"N7","v":111},{"$f":"COUNTIF(L44:L50,AS7)","v":0},{"$f":"AT7/(AV4-AT11)","v":{"$error":"#DIV/0!"}},{"$f":"IF(AU7=0,0,(AU7*((LOG(AU7))/LOG(2))))","v":{"$error":"#DIV/0!"}}]
[21,133,11,143,11,148,null,null,null,null,0,211,null,112,{"$f":"COUNTIF($L$7:$L$500,N8)","v":2},{"$f":"O8/$Q$4","v":4.5454545454545456E-2},{"$f":"IF(P8=0,0,(P8*((LOG(P8))/LOG(2))))","v":-0.20270143721078623},null,null,{"$f":"N8","v":112},{"$f":"COUNTIF(L7:L13,T8)","v":0},{"$f":"U8/(W4-U11)","v":0},{"$f":"IF(V8=0,0,(V8*((LOG(V8))/LOG(2))))","v":0},null,{"$f":"N8","v":112},{"$f":"COUNTIF(L14:L21,Y8)","v":2},{"$f":"Z8/(AB4-Z11)","v":0.66666666666666663},{"$f":"IF(AA8=0,0,(AA8*((LOG(AA8))/LOG(2))))","v":-0.38997500048077083},null,{"$f":"N8","v":112},{"$f":"COUNTIF(L22:L28,AD8)","v":0},{"$f":"AE8/(AG4-AE11)","v":0},{"$f":"IF(AF8=0,0,(AF8*((LOG(AF8))/LOG(2))))","v":0},null,{"$f":"N8","v":112},{"$f":"COUNTIF(L29:L35,AI8)","v":0},{"$f":"AJ8/(AL4-AJ11)","v":{"$error":"#DIV/0!"}},{"$f":"IF(AK8=0,0,(AK8*((LOG(AK8))/LOG(2))))","v":{"$error":"#DIV/0!"}},null,{"$f":"N8","v":112},{"$f":"COUNTIF(L36:L43,AN8)","v":0},{"$f":"AO8/(AQ4-AO11)","v":{"$error":"#DIV/0!"}},{"$f":"IF(AP8=0,0,(AP8*((LOG(AP8))/LOG(2))))","v":{"$error":"#DIV/0!"}},null,{"$f":"N8","v":112},{"$f":"COUNTIF(L44:L50,AS8)","v":0},{"$f":"AT8/(AV4-AT11)","v":{"$error":"#DIV/0!"}},{"$f":"IF(AU8=0,0,(AU8*((LOG(AU8))/LOG(2))))","v":{"$error":"#DIV/0!"}}]
[21,244,11,261,11,271,null,null,null,null,0,211,null,121,{"$f":"COUNTIF($L$7:$L$500,N9)","v":0},{"$f":"O9/$Q$4","v":0},{"$f":"IF(P9=0,0,(P9*((LOG(P9))/LOG(2))))","v":0},null,null,{"$f":"N9","v":121},{"$f":"COUNTIF(L7:L13,T9)","v":0},{"$f":"U9/(W4-U11)","v":0},{"$f":"IF(V9=0,0,(V9*((LOG(V9))/LOG(2))))","v":0},null,{"$f":"N9","v":121},{"$f":"COUNTIF(L14:L21,Y9)","v":0},{"$f":"Z9/(AB4-Z11)","v":0},{"$f":"IF(AA9=0,0,(AA9*((LOG(AA9))/LOG(2))))","v":0},null,{"$f":"N9","v":121},{"$f":"COUNTIF(L22:L28,AD9)","v":0},{"$f":"AE9/(AG4-AE11)","v":0},{"$f":"IF(AF9=0,0,(AF9*((LOG(AF9))/LOG(2))))","v":0},null,{"$f":"N9","v":121},{"$f":"COUNTIF(L29:L35,AI9)","v":0},{"$f":"AJ9/(AL4-AJ11)","v":{"$error":"#DIV/0!"}},{"$f":"IF(AK9=0,0,(AK9*((LOG(AK9))/LOG(2))))","v":{"$error":"#DIV/0!"}},null,{"$f":"N9","v":121},{"$f":"COUNTIF(L36:L43,AN9)","v":0},{"$f":"AO9/(AQ4-AO11)","v":{"$error":"#DIV/0!"}},{"$f":"IF(AP9=0,0,(AP9*((LOG(AP9))/LOG(2))))","v":{"$error":"#DIV/0!"}},null,{"$f":"N9","v":121},{"$f":"COUNTIF(L44:L50,AS9)","v":0},{"$f":"AT9/(AV4-AT11)","v":{"$error":"#DIV/0!"}},{"$f":"IF(AU9=0,0,(AU9*((LOG(AU9))/LOG(2))))","v":{"$error":"#DIV/0!"}}]
[21,369,11,378,11,392,null,null,null,null,0,211,null,122,{"$f":"COUNTIF($L$7:$L$500,N10)","v":0},{"$f":"O10/$Q$4","v":0},{"$f":"IF(P10=0,0,(P10*((LOG(P10))/LOG(2))))","v":0},null,null,{"$f":"N10","v":122},{"$f":"COUNTIF(L7:L13,T10)","v":0},{"$f":"U10/(W4-U11)","v":0},{"$f":"IF(V10=0,0,(V10*((LOG(V10))/LOG(2))))","v":0},null,{"$f":"N10","v":122},{"$f":"COUNTIF(L14:L21,Y10)","v":0},{"$f":"Z10/(AB4-Z11)","v":0},{"$f":"IF(AA10=0,0,(AA10*((LOG(AA10))/LOG(2))))","v":0},null,{"$f":"N10","v":122},{"$f":"COUNTIF(L22:L28,AD10)","v":0},{"$f":"AE10/(AG4-AE11)","v":0},{"$f":"IF(AF10=0,0,(AF10*((LOG(AF10))/LOG(2))))","v":0},null,{"$f":"N10","v":122},{"$f":"COUNTIF(L29:L35,AI10)","v":0},{"$f":"AJ10/(AL4-AJ11)","v":{"$error":"#DIV/0!"}},{"$f":"IF(AK10=0,0,(AK10*((LOG(AK10))/LOG(2))))","v":{"$error":"#DIV/0!"}},null,{"$f":"N10","v":122},{"$f":"COUNTIF(L36:L43,AN10)","v":0},{"$f":"AO10/(AQ4-AO11)","v":{"$error":"#DIV/0!"}},{"$f":"IF(AP10=0,0,(AP10*((LOG(AP10))/LOG(2))))","v":{"$error":"#DIV/0!"}},null,{"$f":"N10","v":122},{"$f":"COUNTIF(L44:L50,AS10)","v":0},{"$f":"AT10/(AV4-AT11)","v":{"$error":"#DIV/0!"}},{"$f":"IF(AU10=0,0,(AU10*((LOG(AU10))/LOG(2))))","v":{"$error":"#DIV/0!"}}]
[21,483,11,490,11,495,null,null,null,null,0,211,null,211,{"$f":"COUNTIF($L$7:$L$500,N11)","v":39},{"$f":"O11/$Q$4","v":0.88636363636363635},{"$f":"IF(P11=0,0,(P11*((LOG(P11))/LOG(2))))","v":-0.15425333161879334},null,null,{"$f":"N11","v":211},{"$f":"COUNTIF(L7:L13,T11)","v":6},null,null,null,{"$f":"N11","v":211},{"$f":"COUNTIF(L14:L21,Y11)","v":5},null,null,null,{"$f":"N11","v":211},{"$f":"COUNTIF(L22:L28,AD11)","v":6},null,null,null,{"$f":"N11","v":211},{"$f":"COUNTIF(L29:L35,AI11)","v":7},null,null,null,{"$f":"N11","v":211},{"$f":"COUNTIF(L36:L43,AN11)","v":8},null,null,null,{"$f":"N11","v":211},{"$f":"COUNTIF(L44:L50,AS11)","v":7}]
[12,600,13,607,13,630,null,null,null,null,0,111,null,212,{"$f":"COUNTIF($L$7:$L$500,N12)","v":0},{"$f":"O12/$Q$4","v":0},{"$f":"IF(P12=0,0,(P12*((LOG(P12))/LOG(2))))","v":0},null,null,{"$f":"N12","v":212},{"$f":"COUNTIF(L7:L13,T12)","v":0},{"$f":"U12/(W4-U11)","v":0},{"$f":"IF(V12=0,0,(V12*((LOG(V12))/LOG(2))))","v":0},null,{"$f":"N12","v":212},{"$f":"COUNTIF(L14:L21,Y12)","v":0},{"$f":"Z12/(AB4-Z11)","v":0},{"$f":"IF(AA12=0,0,(AA12*((LOG(AA12))/LOG(2))))","v":0},null,{"$f":"N12","v":212},{"$f":"COUNTIF(L22:L28,AD12)","v":0},{"$f":"AE12/(AG4-AE11)","v":0},{"$f":"IF(AF12=0,0,(AF12*((LOG(AF12))/LOG(2))))","v":0},null,{"$f":"N12","v":212},{"$f":"COUNTIF(L29:L35,AI12)","v":0},{"$f":"AJ12/(AL4-AJ11)","v":{"$error":"#DIV/0!"}},{"$f":"IF(AK12=0,0,(AK12*((LOG(AK12))/LOG(2))))","v":{"$error":"#DIV/0!"}},null,{"$f":"N12","v":212},{"$f":"COUNTIF(L36:L43,AN12)","v":0},{"$f":"AO12/(AQ4-AO11)","v":{"$error":"#DIV/0!"}},{"$f":"IF(AP12=0,0,(AP12*((LOG(AP12))/LOG(2))))","v":{"$error":"#DIV/0!"}},null,{"$f":"N12","v":212},{"$f":"COUNTIF(L44:L50,AS12)","v":0},{"$f":"AT12/(AV4-AT11)","v":{"$error":"#DIV/0!"}},{"$f":"IF(AU12=0,0,(AU12*((LOG(AU12))/LOG(2))))","v":{"$error":"#DIV/0!"}}]
[21,724,11,732,11,739,null,null,null,null,0,211,null,221,{"$f":"COUNTIF($L$7:$L$500,N13)","v":0},{"$f":"O13/$Q$4","v":0},{"$f":"IF(P13=0,0,(P13*((LOG(P13))/LOG(2))))","v":0},null,null,{"$f":"N13","v":221},{"$f":"COUNTIF(L7:L13,T13)","v":0},{"$f":"U13/(W4-U11)","v":0},{"$f":"IF(V13=0,0,(V13*((LOG(V13))/LOG(2))))","v":0},null,{"$f":"N13","v":221},{"$f":"COUNTIF(L14:L21,Y13)","v":0},{"$f":"Z13/(AB4-Z11)","v":0},{"$f":"IF(AA13=0,0,(AA13*((LOG(AA13))/LOG(2))))","v":0},null,{"$f":"N13","v":221},{"$f":"COUNTIF(L22:L28,AD13)","v":0},{"$f":"AE13/(AG4-AE11)","v":0},{"$f":"IF(AF13=0,0,(AF13*((LOG(AF13))/LOG(2))))","v":0},null,{"$f":"N13","v":221},{"$f":"COUNTIF(L29:L35,AI13)","v":0},{"$f":"AJ13/(AL4-AJ11)","v":{"$error":"#DIV/0!"}},{"$f":"IF(AK13=0,0,(AK13*((LOG(AK13))/LOG(2))))","v":{"$error":"#DIV/0!"}},null,{"$f":"N13","v":221},{"$f":"COUNTIF(L36:L43,AN13)","v":0},{"$f":"AO13/(AQ4-AO11)","v":{"$error":"#DIV/0!"}},{"$f":"IF(AP13=0,0,(AP13*((LOG(AP13))/LOG(2))))","v":{"$error":"#DIV/0!"}},null,{"$f":"N13","v":221},{"$f":"COUNTIF(L44:L50,AS13)","v":0},{"$f":"AT13/(AV4-AT11)","v":{"$error":"#DIV/0!"}},{"$f":"IF(AU13=0,0,(AU13*((LOG(AU13))/LOG(2))))","v":{"$error":"#DIV/0!"}}]
[12,839,13,846,24,912,null,null,null,null,0,112,null,222,{"$f":"COUNTIF($L$7:$L$500,N14)","v":1},{"$f":"O14/$Q$4","v":2.2727272727272728E-2},{"$f":"IF(P14=0,0,(P14*((LOG(P14))/LOG(2))))","v":-0.12407799133266585},null,null,{"$f":"N14","v":222},{"$f":"COUNTIF(L7:L13,T14)","v":0},{"$f":"U14/(W4-U11)","v":0},{"$f":"IF(V14=0,0,(V14*((LOG(V14))/LOG(2))))","v":0},null,{"$f":"N14","v":222},{"$f":"COUNTIF(L14:L21,Y14)","v":0},{"$f":"Z14/(AB4-Z11)","v":0},{"$f":"IF(AA14=0,0,(AA14*((LOG(AA14))/LOG(2))))","v":0},null,{"$f":"N14","v":222},{"$f":"COUNTIF(L22:L28,AD14)","v":1},{"$f":"AE14/(AG4-AE11)","v":1},{"$f":"IF(AF14=0,0,(AF14*((LOG(AF14))/LOG(2))))","v":0},null,{"$f":"N14","v":222},{"$f":"COUNTIF(L29:L35,AI14)","v":0},{"$f":"AJ14/(AL4-AJ11)","v":{"$error":"#DIV/0!"}},{"$f":"IF(AK14=0,0,(AK14*((LOG(AK14))/LOG(2))))","v":{"$error":"#DIV/0!"}},null,{"$f":"N14","v":222},{"$f":"COUNTIF(L36:L43,AN14)","v":0},{"$f":"AO14/(AQ4-AO11)","v":{"$error":"#DIV/0!"}},{"$f":"IF(AP14=0,0,(AP14*((LOG(AP14))/LOG(2))))","v":{"$error":"#DIV/0!"}},null,{"$f":"N14","v":222},{"$f":"COUNTIF(L44:L50,AS14)","v":0},{"$f":"AT14/(AV4-AT11)","v":{"$error":"#DIV/0!"}},{"$f":"IF(AU14=0,0,(AU14*((LOG(AU14))/LOG(2))))","v":{"$error":"#DIV/0!"}}]
[12,1022,13,1048,24,1093,null,null,null,null,0,112,null,null,null,{"$f":"SUM(P7:P14)","v":1},{"$f":"-SUM(Q7:Q14)","v":0.68373419737303165},null,null,null,null,{"$f":"SUM(V7:V14)","v":1},{"$f":"-SUM(W7:W14)","v":0},null,null,null,{"$f":"SUM(AA7:AA14)","v":1},{"$f":"-SUM(AB7:AB14)","v":0.91829583405448945},null,null,null,{"$f":"SUM(AF7:AF14)","v":1},{"$f":"-SUM(AG7:AG14)","v":0},null,null,null,{"$f":"SUM(AK7:AK14)","v":{"$error":"#DIV/0!"}},{"$f":"-SUM(AL7:AL14)","v":{"$error":"#DIV/0!"}},null,null,null,{"$f":"SUM(AP7:AP14)","v":{"$error":"#DIV/0!"}},{"$f":"-SUM(AQ7:AQ14)","v":{"$error":"#DIV/0!"}},null,null,null,{"$f":"SUM(AU7:AU14)","v":{"$error":"#DIV/0!"}},{"$f":"-SUM(AV7:AV14)","v":{"$error":"#DIV/0!"}}]
[12,1204,13,1210,13,1229,null,null,null,null,0,111,null,null,null,"U=",{"$f":"Q15/(LOG(Q4)/LOG(2))","v":0.12523908075685272},null,null,null,null,"U1=",{"$f":"W15/(LOG(W4)/LOG(2))","v":0},null,null,null,"U2=",{"$f":"AB15/(LOG(AB4)/LOG(2))","v":0.30609861135149646},null,null,null,"U3=",{"$f":"AG15/(LOG(AG4)/LOG(2))","v":0},null,null,null,"U4=",{"$f":"AL15/(LOG(AL4)/LOG(2))","v":{"$error":"#DIV/0!"}},null,null,null,"U5=",{"$f":"AQ15/(LOG(AQ4)/LOG(2))","v":{"$error":"#DIV/0!"}},null,null,null,"U6=",{"$f":"AV15/(LOG(AV4)/LOG(2))","v":{"$error":"#DIV/0!"}}]
[21,1330,11,1339,11,1346,null,null,null,null,0,211]
[21,1438,11,1449,11,1468,null,null,null,null,0,211]
[21,1562,11,1571,11,1584,null,null,null,null,0,211,null,"Total Target Seq"]
[21,1677,11,1683,11,1688,null,null,null,null,0,211,null,{"$f":"COUNTIF(L7:L50,G3)","v":39},null,7,8,7,7,8,7]
[21,1784,11,1790,11,1795,null,null,null,null,0,211,null,null,null,"% of reinforcement given in 6 equal intervals based on number of trials "]
[21,1887,11,1896,11,1901,null,null,null,null,0,211,null,null,null,"%_1","%_2","%_3","%_4","%_5","%_6"]
[21,1992,11,2001,11,2017,null,null,null,null,0,211,null,null,"target sequence",{"$f":"$G$3","v":211},{"$f":"$G$3","v":211},{"$f":"$G$3","v":211},{"$f":"$G$3","v":211},{"$f":"$G$3","v":211},{"$f":"$G$3","v":211}]
[21,2118,22,2162,24,2181,null,null,null,null,0,222,null,null,"total reinforcement",{"$f":"U11","v":6},{"$f":"Z11","v":5},{"$f":"AE11","v":6},{"$f":"AJ11","v":7},{"$f":"AO11","v":8},{"$f":"AT11","v":7}]
[21,2287,11,2297,11,2302,null,null,null,null,0,211,null,null,"% target"]
[21,2392,11,2400,11,2405,null,null,null,null,0,211,null,null,"CCRF"]
[21,2496,11,2504,11,2512,null,null,null,null,0,211,null,null,"% CCRf"]
[21,2606,11,2614,11,2621,null,null,null,null,0,211,null,null,"average response rate",{"$f":"F13/P20","v":105.57142857142857},{"$f":"(F21-F13)/Q20","v":132},{"$f":"(F28-F21)/R20","v":118},{"$f":"(F35-F28)/S20","v":106.42857142857143},{"$f":"(F43-F35)/T20","v":106.25},{"$f":"(F50-F43)/U20","v":120.28571428571429}]
[21,2714,11,2723,11,2728,null,null,null,null,0,211]
[21,2819,11,2826,11,2832,null,null,null,null,0,211]
[21,2925,11,2934,11,2940,null,null,null,null,0,211]
[21,3030,11,3036,11,3041,null,null,null,null,0,211]
[21,3137,11,3146,11,3153,null,null,null,null,0,211]
[21,3250,11,3258,11,3264,null,null,null,null,0,211]
[21,3356,11,3362,11,3366,null,null,null,null,0,211]
[21,3458,11,3466,11,3474,null,null,null,null,0,211]
[21,3567,11,3576,11,3585,null,null,null,null,0,211]
[21,3679,11,3685,11,3691,null,null,null,null,0,211]
[21,3782,11,3788,11,3793,null,null,null,null,0,211]
[21,3883,11,3897,11,3905,null,null,null,null,0,211]
[21,3998,11,4004,11,4009,null,null,null,null,0,211]
[21,4102,11,4109,11,4115,null,null,null,null,0,211]
[21,4205,11,4211,11,4216,null,null,null,null,0,211]
[21,4307,11,4320,11,4340,null,null,null,null,0,211]
[21,4442,11,4450,11,4476,null,null,null,null,0,211]
[21,4575,11,4581,11,4587,null,null,null,null,0,211]
[21,4679,11,4688,11,4693,null,null,null,null,0,211]
[21,4783,11,4790,11,4797,null,null,null,null,0,211]
[21,4890,11,4904,11,4929,null,null,null,null,0,211]
[21,5028,11,5044,11,5058,null,null,null,null,1,211]

{"sheet":"!M522930.105","index":22,"n_rows":47,"n_cols":48,"rows_kept":47,"cut":false,"hidden":false,"merged":[[4,39,4,42],[5,39,5,40],[4,44,4,47],[5,44,5,45],[4,24,4,27],[5,24,5,25],[4,29,4,32],[5,29,5,30],[4,34,4,37],[5,34,5,35],[1,1,1,2],[5,13,5,14],[18,13,18,14],[19,13,19,14],[4,19,4,22],[5,19,5,20]]}
["Report for:!M522930.105"]
["Date:","<date>"]
["Hen:","<hen>",null,null,null,"Correct Sequence",{"$f":"Start!J2","v":211},null,null,null,null,null,null,null,null,"Total Sequences in Data",{"$f":"4994-COUNTBLANK(L7:L5000)","v":41},null,null,null,null,"Total Sequences in Block Data",{"$f":"COUNTA(L7:L13)","v":7},null,null,null,"Total Sequences in Block Data",{"$f":"COUNTA(L14:L20)","v":7},null,null,null,"Total Sequences in Block Data",{"$f":"COUNTA(L21:L26)","v":6},null,null,null,"Total Sequences in Block Data",{"$f":"COUNTA(L27:L33)","v":7},null,null,null,"Total Sequences in Block Data",{"$f":"COUNTA(L34:L40)","v":7},null,null,null,"Total Sequences in Block Data",{"$f":"COUNTA(L41:L47)","v":7}]
[null,null,null,null,null,null,null,null,null,null,null,null,null,null,null,"Total Sequences in Summary",{"$f":"SUM(O7:O14)","v":41},null,null,null,null,"Total Sequences in Block Summary",{"$f":"SUM(U7:U14)","v":7},null,null,null,"Total Sequences in Block Summary",{"$f":"SUM(Z7:Z14)","v":7},null,null,null,"Total Sequences in Block Summary",{"$f":"SUM(AE7:AE14)","v":6},null,null,null,"Total Sequences in Block Summary",{"$f":"SUM(AJ7:AJ14)","v":7},null,null,null,"Total Sequences in Block Summary",{"$f":"SUM(AO7:AO14)","v":7},null,null,null,"Total Sequences in Block Summary",{"$f":"SUM(AT7:AT14)","v":7}]
[null,null,null,null,null,null,null,null,null,null,null,null,null,null,null,null,null,null,null,"Block 1",null,null,null,null,"Block 2",null,null,null,null,"Block 3",null,null,null,null,"Block 4",null,null,null,null,"Block 5",null,null,null,null,"Block 6"]
["Sequence\nComponent\n1","Time\n1","Sequence\nComponent\n2","Time\n2","Sequence\nComponent\n3","Time\n3","Sequence\nComponent\n4","Time\n4","Sequence\nComponent\n5","Time\n5","Correct?\n0=No 1=Yes","Sequence",null,"Frequency",null,"Relative Frequency","Variability",null,null,"Frequency",null,"Relative Frequency","Variability",null,"Frequency",null,"Relative Frequency","Variability",null,"Frequency",null,"Relative Frequency","Variability",null,"Frequency",null,"Relative Frequency","Variability",null,"Frequency",null,"Relative Frequency","Variability",null,"Frequency",null,"Relative Frequency","Variability"]
[21,15,22,49,24,69,null,null,null,null,0,222,null,111,{"$f":"COUNTIF($L$7:$L$500,N7)","v":0},{"$f":"O7/$Q$4","v":0},{"$f":"IF(P7=0,0,(P7*((LOG(P7))/LOG(2))))","v":0},null,null,{"$f":"N7","v":111},{"$f":"COUNTIF(L7:L13,T7)","v":0},{"$f":"U7/(W4-U11)","v":0},{"$f":"IF(V7=0,0,(V7*((LOG(V7))/LOG(2))))","v":0},null,{"$f":"N7","v":111},{"$f":"COUNTIF(L14:L20,Y7)","v":0},{"$f":"Z7/(AB4-Z11)","v":{"$error":"#DIV/0!"}},{"$f":"IF(AA7=0,0,(AA7*((LOG(AA7))/LOG(2))))","v":{"$error":"#DIV/0!"}},null,{"$f":"N7","v":111},{"$f":"COUNTIF(L21:L26,AD7)","v":0},{"$f":"AE7/(AG4-AE11)","v":{"$error":"#DIV/0!"}},{"$f":"IF(AF7=0,0,(AF7*((LOG(AF7))/LOG(2))))","v":{"$error":"#DIV/0!"}},null,{"$f":"N7","v":111},{"$f":"COUNTIF(L27:L33,AI7)","v":0},{"$f":"AJ7/(AL4-AJ11)","v":{"$error":"#DIV/0!"}},{"$f":"IF(AK7=0,0,(AK7*((LOG(AK7))/LOG(2))))","v":{"$error":"#DIV/0!"}},null,{"$f":"N7","v":111},{"$f":"COUNTIF(L34:L40,AN7)","v":0},{"$f":"AO7/(AQ4-AO11)","v":0},{"$f":"IF(AP7=0,0,(AP7*((LOG(AP7))/LOG(2))))","v":0},null,{"$f":"N7","v":111},{"$f":"COUNTIF(L41:L47,AS7)","v":0},{"$f":"AT7/(AV4-AT11)","v":{"$error":"#DIV/0!"}},{"$f":"IF(AU7=0,0,(AU7*((LOG(AU7))/LOG(2))))","v":{"$error":"#DIV/0!"}}]
[21,169,11,183,11,191,null,null,null,null,0,211,null,112,{"$f":"COUNTIF($L$7:$L$500,N8)","v":0},{"$f":"O8/$Q$4","v":0},{"$f":"IF(P8=0,0,(P8*((LOG(P8))/LOG(2))))","v":0},null,null,{"$f":"N8","v":112},{"$f":"COUNTIF(L7:L13,T8)","v":0},{"$f":"U8/(W4-U11)","v":0},{"$f":"IF(V8=0,0,(V8*((LOG(V8))/LOG(2))))","v":0},null,{"$f":"N8","v":112},{"$f":"COUNTIF(L14:L20,Y8)","v":0},{"$f":"Z8/(AB4-Z11)","v":{"$error":"#DIV/0!"}},{"$f":"IF(AA8=0,0,(AA8*((LOG(AA8))/LOG(2))))","v":{"$error":"#DIV/0!"}},null,{"$f":"N8","v":112},{"$f":"COUNTIF(L21:L26,AD8)","v":0},{"$f":"AE8/(AG4-AE11)","v":{"$error":"#DIV/0!"}},{"$f":"IF(AF8=0,0,(AF8*((LOG(AF8))/LOG(2))))","v":{"$error":"#DIV/0!"}},null,{"$f":"N8","v":112},{"$f":"COUNTIF(L27:L33,AI8)","v":0},{"$f":"AJ8/(AL4-AJ11)","v":{"$error":"#DIV/0!"}},{"$f":"IF(AK8=0,0,(AK8*((LOG(AK8))/LOG(2))))","v":{"$error":"#DIV/0!"}},null,{"$f":"N8","v":112},{"$f":"COUNTIF(L34:L40,AN8)","v":0},{"$f":"AO8/(AQ4-AO11)","v":0},{"$f":"IF(AP8=0,0,(AP8*((LOG(AP8))/LOG(2))))","v":0},null,{"$f":"N8","v":112},{"$f":"COUNTIF(L41:L47,AS8)","v":0},{"$f":"AT8/(AV4-AT11)","v":{"$error":"#DIV/0!"}},{"$f":"IF(AU8=0,0,(AU8*((LOG(AU8))/LOG(2))))","v":{"$error":"#DIV/0!"}}]
[21,282,11,288,11,293,null,null,null,null,0,211,null,121,{"$f":"COUNTIF($L$7:$L$500,N9)","v":0},{"$f":"O9/$Q$4","v":0},{"$f":"IF(P9=0,0,(P9*((LOG(P9))/LOG(2))))","v":0},null,null,{"$f":"N9","v":121},{"$f":"COUNTIF(L7:L13,T9)","v":0},{"$f":"U9/(W4-U11)","v":0},{"$f":"IF(V9=0,0,(V9*((LOG(V9))/LOG(2))))","v":0},null,{"$f":"N9","v":121},{"$f":"COUNTIF(L14:L20,Y9)","v":0},{"$f":"Z9/(AB4-Z11)","v":{"$error":"#DIV/0!"}},{"$f":"IF(AA9=0,0,(AA9*((LOG(AA9))/LOG(2))))","v":{"$error":"#DIV/0!"}},null,{"$f":"N9","v":121},{"$f":"COUNTIF(L21:L26,AD9)","v":0},{"$f":"AE9/(AG4-AE11)","v":{"$error":"#DIV/0!"}},{"$f":"IF(AF9=0,0,(AF9*((LOG(AF9))/LOG(2))))","v":{"$error":"#DIV/0!"}},null,{"$f":"N9","v":121},{"$f":"COUNTIF(L27:L33,AI9)","v":0},{"$f":"AJ9/(AL4-AJ11)","v":{"$error":"#DIV/0!"}},{"$f":"IF(AK9=0,0,(AK9*((LOG(AK9))/LOG(2))))","v":{"$error":"#DIV/0!"}},null,{"$f":"N9","v":121},{"$f":"COUNTIF(L34:L40,AN9)","v":0},{"$f":"AO9/(AQ4-AO11)","v":0},{"$f":"IF(AP9=0,0,(AP9*((LOG(AP9))/LOG(2))))","v":0},null,{"$f":"N9","v":121},{"$f":"COUNTIF(L41:L47,AS9)","v":0},{"$f":"AT9/(AV4-AT11)","v":{"$error":"#DIV/0!"}},{"$f":"IF(AU9=0,0,(AU9*((LOG(AU9))/LOG(2))))","v":{"$error":"#DIV/0!"}}]
[21,393,11,402,11,418,null,null,null,null,0,211,null,122,{"$f":"COUNTIF($L$7:$L$500,N10)","v":0},{"$f":"O10/$Q$4","v":0},{"$f":"IF(P10=0,0,(P10*((LOG(P10))/LOG(2))))","v":0},null,null,{"$f":"N10","v":122},{"$f":"COUNTIF(L7:L13,T10)","v":0},{"$f":"U10/(W4-U11)","v":0},{"$f":"IF(V10=0,0,(V10*((LOG(V10))/LOG(2))))","v":0},null,{"$f":"N10","v":122},{"$f":"COUNTIF(L14:L20,Y10)","v":0},{"$f":"Z10/(AB4-Z11)","v":{"$error":"#DIV/0!"}},{"$f":"IF(AA10=0,0,(AA10*((LOG(AA10))/LOG(2))))","v":{"$error":"#DIV/0!"}},null,{"$f":"N10","v":122},{"$f":"COUNTIF(L21:L26,AD10)","v":0},{"$f":"AE10/(AG4-AE11)","v":{"$error":"#DIV/0!"}},{"$f":"IF(AF10=0,0,(AF10*((LOG(AF10))/LOG(2))))","v":{"$error":"#DIV/0!"}},null,{"$f":"N10","v":122},{"$f":"COUNTIF(L27:L33,AI10)","v":0},{"$f":"AJ10/(AL4-AJ11)","v":{"$error":"#DIV/0!"}},{"$f":"IF(AK10=0,0,(AK10*((LOG(AK10))/LOG(2))))","v":{"$error":"#DIV/0!"}},null,{"$f":"N10","v":122},{"$f":"COUNTIF(L34:L40,AN10)","v":0},{"$f":"AO10/(AQ4-AO11)","v":0},{"$f":"IF(AP10=0,0,(AP10*((LOG(AP10))/LOG(2))))","v":0},null,{"$f":"N10","v":122},{"$f":"COUNTIF(L41:L47,AS10)","v":0},{"$f":"AT10/(AV4-AT11)","v":{"$error":"#DIV/0!"}},{"$f":"IF(AU10=0,0,(AU10*((LOG(AU10))/LOG(2))))","v":{"$error":"#DIV/0!"}}]
[21,513,11,522,11,531,null,null,null,null,0,211,null,211,{"$f":"COUNTIF($L$7:$L$500,N11)","v":39},{"$f":"O11/$Q$4","v":0.95121951219512191},{"$f":"IF(P11=0,0,(P11*((LOG(P11))/LOG(2))))","v":-6.8630284011648321E-2},null,null,{"$f":"N11","v":211},{"$f":"COUNTIF(L7:L13,T11)","v":6},null,null,null,{"$f":"N11","v":211},{"$f":"COUNTIF(L14:L20,Y11)","v":7},null,null,null,{"$f":"N11","v":211},{"$f":"COUNTIF(L21:L26,AD11)","v":6},null,null,null,{"$f":"N11","v":211},{"$f":"COUNTIF(L27:L33,AI11)","v":7},null,null,null,{"$f":"N11","v":211},{"$f":"COUNTIF(L34:L40,AN11)","v":6},null,null,null,{"$f":"N11","v":211},{"$f":"COUNTIF(L41:L47,AS11)","v":7}]
[21,628,11,638,11,643,null,null,null,null,0,211,null,212,{"$f":"COUNTIF($L$7:$L$500,N12)","v":1},{"$f":"O12/$Q$4","v":2.4390243902439025E-2},{"$f":"IF(P12=0,0,(P12*((LOG(P12))/LOG(2))))","v":-0.13067200011263619},null,null,{"$f":"N12","v":212},{"$f":"COUNTIF(L7:L13,T12)","v":0},{"$f":"U12/(W4-U11)","v":0},{"$f":"IF(V12=0,0,(V12*((LOG(V12))/LOG(2))))","v":0},null,{"$f":"N12","v":212},{"$f":"COUNTIF(L14:L20,Y12)","v":0},{"$f":"Z12/(AB4-Z11)","v":{"$error":"#DIV/0!"}},{"$f":"IF(AA12=0,0,(AA12*((LOG(AA12))/LOG(2))))","v":{"$error":"#DIV/0!"}},null,{"$f":"N12","v":212},{"$f":"COUNTIF(L21:L26,AD12)","v":0},{"$f":"AE12/(AG4-AE11)","v":{"$error":"#DIV/0!"}},{"$f":"IF(AF12=0,0,(AF12*((LOG(AF12))/LOG(2))))","v":{"$error":"#DIV/0!"}},null,{"$f":"N12","v":212},{"$f":"COUNTIF(L27:L33,AI12)","v":0},{"$f":"AJ12/(AL4-AJ11)","v":{"$error":"#DIV/0!"}},{"$f":"IF(AK12=0,0,(AK12*((LOG(AK12))/LOG(2))))","v":{"$error":"#DIV/0!"}},null,{"$f":"N12","v":212},{"$f":"COUNTIF(L34:L40,AN12)","v":1},{"$f":"AO12/(AQ4-AO11)","v":1},{"$f":"IF(AP12=0,0,(AP12*((LOG(AP12))/LOG(2))))","v":0},null,{"$f":"N12","v":212},{"$f":"COUNTIF(L41:L47,AS12)","v":0},{"$f":"AT12/(AV4-AT11)","v":{"$error":"#DIV/0!"}},{"$f":"IF(AU12=0,0,(AU12*((LOG(AU12))/LOG(2))))","v":{"$error":"#DIV/0!"}}]
[21,736,11,745,11,750,null,null,null,null,0,211,null,221,{"$f":"COUNTIF($L$7:$L$500,N13)","v":0},{"$f":"O13/$Q$4","v":0},{"$f":"IF(P13=0,0,(P13*((LOG(P13))/LOG(2))))","v":0},null,null,{"$f":"N13","v":221},{"$f":"COUNTIF(L7:L13,T13)","v":0},{"$f":"U13/(W4-U11)","v":0},{"$f":"IF(V13=0,0,(V13*((LOG(V13))/LOG(2))))","v":0},null,{"$f":"N13","v":221},{"$f":"COUNTIF(L14:L20,Y13)","v":0},{"$f":"Z13/(AB4-Z11)","v":{"$error":"#DIV/0!"}},{"$f":"IF(AA13=0,0,(AA13*((LOG(AA13))/LOG(2))))","v":{"$error":"#DIV/0!"}},null,{"$f":"N13","v":221},{"$f":"COUNTIF(L21:L26,AD13)","v":0},{"$f":"AE13/(AG4-AE11)","v":{"$error":"#DIV/0!"}},{"$f":"IF(AF13=0,0,(AF13*((LOG(AF13))/LOG(2))))","v":{"$error":"#DIV/0!"}},null,{"$f":"N13","v":221},{"$f":"COUNTIF(L27:L33,AI13)","v":0},{"$f":"AJ13/(AL4-AJ11)","v":{"$error":"#DIV/0!"}},{"$f":"IF(AK13=0,0,(AK13*((LOG(AK13))/LOG(2))))","v":{"$error":"#DIV/0!"}},null,{"$f":"N13","v":221},{"$f":"COUNTIF(L34:L40,AN13)","v":0},{"$f":"AO13/(AQ4-AO11)","v":0},{"$f":"IF(AP13=0,0,(AP13*((LOG(AP13))/LOG(2))))","v":0},null,{"$f":"N13","v":221},{"$f":"COUNTIF(L41:L47,AS13)","v":0},{"$f":"AT13/(AV4-AT11)","v":{"$error":"#DIV/0!"}},{"$f":"IF(AU13=0,0,(AU13*((LOG(AU13))/LOG(2))))","v":{"$error":"#DIV/0!"}}]
[21,843,11,852,11,863,null,null,null,null,0,211,null,222,{"$f":"COUNTIF($L$7:$L$500,N14)","v":1},{"$f":"O14/$Q$4","v":2.4390243902439025E-2},{"$f":"IF(P14=0,0,(P14*((LOG(P14))/LOG(2))))","v":-0.13067200011263619},null,null,{"$f":"N14","v":222},{"$f":"COUNTIF(L7:L13,T14)","v":1},{"$f":"U14/(W4-U11)","v":1},{"$f":"IF(V14=0,0,(V14*((LOG(V14))/LOG(2))))","v":0},null,{"$f":"N14","v":222},{"$f":"COUNTIF(L14:L20,Y14)","v":0},{"$f":"Z14/(AB4-Z11)","v":{"$error":"#DIV/0!"}},{"$f":"IF(AA14=0,0,(AA14*((LOG(AA14))/LOG(2))))","v":{"$error":"#DIV/0!"}},null,{"$f":"N14","v":222},{"$f":"COUNTIF(L21:L26,AD14)","v":0},{"$f":"AE14/(AG4-AE11)","v":{"$error":"#DIV/0!"}},{"$f":"IF(AF14=0,0,(AF14*((LOG(AF14))/LOG(2))))","v":{"$error":"#DIV/0!"}},null,{"$f":"N14","v":222},{"$f":"COUNTIF(L27:L33,AI14)","v":0},{"$f":"AJ14/(AL4-AJ11)","v":{"$error":"#DIV/0!"}},{"$f":"IF(AK14=0,0,(AK14*((LOG(AK14))/LOG(2))))","v":{"$error":"#DIV/0!"}},null,{"$f":"N14","v":222},{"$f":"COUNTIF(L34:L40,AN14)","v":0},{"$f":"AO14/(AQ4-AO11)","v":0},{"$f":"IF(AP14=0,0,(AP14*((LOG(AP14))/LOG(2))))","v":0},null,{"$f":"N14","v":222},{"$f":"COUNTIF(L41:L47,AS14)","v":0},{"$f":"AT14/(AV4-AT11)","v":{"$error":"#DIV/0!"}},{"$f":"IF(AU14=0,0,(AU14*((LOG(AU14))/LOG(2))))","v":{"$error":"#DIV/0!"}}]
[21,954,11,960,11,965,null,null,null,null,0,211,null,null,null,{"$f":"SUM(P7:P14)","v":1},{"$f":"-SUM(Q7:Q14)","v":0.32997428423692071},null,null,null,null,{"$f":"SUM(V7:V14)","v":1},{"$f":"-SUM(W7:W14)","v":0},null,null,null,{"$f":"SUM(AA7:AA14)","v":{"$error":"#DIV/0!"}},{"$f":"-SUM(AB7:AB14)","v":{"$error":"#DIV/0!"}},null,null,null,{"$f":"SUM(AF7:AF14)","v":{"$error":"#DIV/0!"}},{"$f":"-SUM(AG7:AG14)","v":{"$error":"#DIV/0!"}},null,null,null,{"$f":"SUM(AK7:AK14)","v":{"$error":"#DIV/0!"}},{"$f":"-SUM(AL7:AL14)","v":{"$error":"#DIV/0!"}},null,null,null,{"$f":"SUM(AP7:AP14)","v":1},{"$f":"-SUM(AQ7:AQ14)","v":0},null,null,null,{"$f":"SUM(AU7:AU14)","v":{"$error":"#DIV/0!"}},{"$f":"-SUM(AV7:AV14)","v":{"$error":"#DIV/0!"}}]
[21,1056,11,1062,11,1069,null,null,null,null,0,211,null,null,null,"U=",{"$f":"Q15/(LOG(Q4)/LOG(2))","v":6.1590495799665711E-2},null,null,null,null,"U1=",{"$f":"W15/(LOG(W4)/LOG(2))","v":0},null,null,null,"U2=",{"$f":"AB15/(LOG(AB4)/LOG(2))","v":{"$error":"#DIV/0!"}},null,null,null,"U3=",{"$f":"AG15/(LOG(AG4)/LOG(2))","v":{"$error":"#DIV/0!"}},null,null,null,"U4=",{"$f":"AL15/(LOG(AL4)/LOG(2))","v":{"$error":"#DIV/0!"}},null,null,null,"U5=",{"$f":"AQ15/(LOG(AQ4)/LOG(2))","v":0},null,null,null,"U6=",{"$f":"AV15/(LOG(AV4)/LOG(2))","v":{"$error":"#DIV/0!"}}]
[21,1162,11,1170,11,1174,null,null,null,null,0,211]
[21,1265,11,1273,11,1281,null,null,null,null,0,211]
[21,1374,11,1383,11,1389,null,null,null,null,0,211,null,"Total Target Seq"]
[21,1479,11,1493,11,1501,null,null,null,null,0,211,null,{"$f":"COUNTIF(L7:L47,G3)","v":39},null,7,7,6,7,7,7]
[21,1592,11,1600,11,1610,null,null,null,null,0,211,null,null,null,"% of reinforcement given in 6 equal intervals based on number of trials "]
[21,1700,11,1706,11,1711,null,null,null,null,0,211,null,null,null,"%_1","%_2","%_3","%_4","%_5","%_6"]
[21,1802,11,1811,11,1818,null,null,null,null,0,211,null,null,"target sequence",{"$f":"$G$3","v":211},{"$f":"$G$3","v":211},{"$f":"$G$3","v":211},{"$f":"$G$3","v":211},{"$f":"$G$3","v":211},{"$f":"$G$3","v":211}]
[21,1912,11,1918,11,1923,null,null,null,null,0,211,null,null,"total reinforcement",{"$f":"U11","v":6},{"$f":"Z11","v":7},{"$f":"AE11","v":6},{"$f":"AJ11","v":7},{"$f":"AO11","v":6},{"$f":"AT11","v":7}]
[21,2018,11,2026,11,2030,null,null,null,null,0,211,null,null,"% target"]
[21,2120,11,2131,11,2140,null,null,null,null,0,211,null,null,"CCRF"]
[21,2230,11,2236,11,2242,null,null,null,null,0,211,null,null,"% CCRf"]
[21,2335,11,2344,11,2352,null,null,null,null,0,211,null,null,"average response rate",{"$f":"F13/P20","v":107.14285714285714},{"$f":"(F20-F13)/Q20","v":107.28571428571429},{"$f":"(F26-F20)/R20","v":106.5},{"$f":"(F33-F26)/S20","v":105.42857142857143},{"$f":"(F40-F33)/T20","v":108.85714285714286},{"$f":"(F47-F40)/U20","v":110.14285714285714}]
[21,2444,11,2453,11,2458,null,null,null,null,0,211]
[21,2547,11,2555,11,2560,null,null,null,null,0,211]
[21,2651,11,2658,11,2662,null,null,null,null,0,211]
[21,2760,11,2766,11,2773,null,null,null,null,0,211]
[21,2863,11,2872,11,2878,null,null,null,null,0,211]
[21,2969,11,2975,11,2979,null,null,null,null,0,211]
[21,3070,11,3079,11,3085,null,null,null,null,0,211]
[21,3175,11,3183,11,3190,null,null,null,null,0,211]
[21,3282,11,3288,11,3292,null,null,null,null,0,211]
[21,3385,11,3393,11,3405,null,null,null,null,0,211]
[21,3496,11,3501,11,3506,null,null,null,null,0,211]
[21,3595,11,3611,22,3640,null,null,null,null,0,212]
[21,3739,11,3747,11,3756,null,null,null,null,0,211]
[21,3853,11,3862,11,3869,null,null,null,null,0,211]
[21,3961,11,3969,11,3974,null,null,null,null,0,211]
[21,4071,11,4080,11,4095,null,null,null,null,0,211]
[21,4187,11,4193,11,4197,null,null,null,null,0,211]
[21,4293,11,4301,11,4307,null,null,null,null,0,211]
[21,4398,11,4407,11,4411,null,null,null,null,1,211]

{"sheet":"!M523930.105","index":23,"n_rows":47,"n_cols":48,"rows_kept":47,"cut":false,"hidden":false,"merged":[[4,39,4,42],[5,39,5,40],[4,44,4,47],[5,44,5,45],[4,24,4,27],[5,24,5,25],[4,29,4,32],[5,29,5,30],[4,34,4,37],[5,34,5,35],[1,1,1,2],[5,13,5,14],[18,13,18,14],[19,13,19,14],[4,19,4,22],[5,19,5,20]]}
["Report for:!M523930.105"]
["Date:","<date>"]
["Hen:","<hen>",null,null,null,"Correct Sequence",{"$f":"Start!J2","v":211},null,null,null,null,null,null,null,null,"Total Sequences in Data",{"$f":"4994-COUNTBLANK(L7:L5000)","v":41},null,null,null,null,"Total Sequences in Block Data",{"$f":"COUNTA(L7:L13)","v":7},null,null,null,"Total Sequences in Block Data",{"$f":"COUNTA(L14:L20)","v":7},null,null,null,"Total Sequences in Block Data",{"$f":"COUNTA(L21:L26)","v":6},null,null,null,"Total Sequences in Block Data",{"$f":"COUNTA(L27:L33)","v":7},null,null,null,"Total Sequences in Block Data",{"$f":"COUNTA(L34:L40)","v":7},null,null,null,"Total Sequences in Block Data",{"$f":"COUNTA(L41:L47)","v":7}]
[null,null,null,null,null,null,null,null,null,null,null,null,null,null,null,"Total Sequences in Summary",{"$f":"SUM(O7:O14)","v":41},null,null,null,null,"Total Sequences in Block Summary",{"$f":"SUM(U7:U14)","v":7},null,null,null,"Total Sequences in Block Summary",{"$f":"SUM(Z7:Z14)","v":7},null,null,null,"Total Sequences in Block Summary",{"$f":"SUM(AE7:AE14)","v":6},null,null,null,"Total Sequences in Block Summary",{"$f":"SUM(AJ7:AJ14)","v":7},null,null,null,"Total Sequences in Block Summary",{"$f":"SUM(AO7:AO14)","v":7},null,null,null,"Total Sequences in Block Summary",{"$f":"SUM(AT7:AT14)","v":7}]
[null,null,null,null,null,null,null,null,null,null,null,null,null,null,null,null,null,null,null,"Block 1",null,null,null,null,"Block 2",null,null,null,null,"Block 3",null,null,null,null,"Block 4",null,null,null,null,"Block 5",null,null,null,null,"Block 6"]
["Sequence\nComponent\n1","Time\n1","Sequence\nComponent\n2","Time\n2","Sequence\nComponent\n3","Time\n3","Sequence\nComponent\n4","Time\n4","Sequence\nComponent\n5","Time\n5","Correct?\n0=No 1=Yes","Sequence",null,"Frequency",null,"Relative Frequency","Variability",null,null,"Frequency",null,"Relative Frequency","Variability",null,"Frequency",null,"Relative Frequency","Variability",null,"Frequency",null,"Relative Frequency","Variability",null,"Frequency",null,"Relative Frequency","Variability",null,"Frequency",null,"Relative Frequency","Variability",null,"Frequency",null,"Relative Frequency","Variability"]
[21,14,11,25,11,33,null,null,null,null,0,211,null,111,{"$f":"COUNTIF($L$7:$L$500,N7)","v":1},{"$f":"O7/$Q$4","v":2.4390243902439025E-2},{"$f":"IF(P7=0,0,(P7*((LOG(P7))/LOG(2))))","v":-0.13067200011263619},null,null,{"$f":"N7","v":111},{"$f":"COUNTIF(L7:L13,T7)","v":0},{"$f":"U7/(W4-U11)","v":{"$error":"#DIV/0!"}},{"$f":"IF(V7=0,0,(V7*((LOG(V7))/LOG(2))))","v":{"$error":"#DIV/0!"}},null,{"$f":"N7","v":111},{"$f":"COUNTIF(L14:L20,Y7)","v":0},{"$f":"Z7/(AB4-Z11)","v":{"$error":"#DIV/0!"}},{"$f":"IF(AA7=0,0,(AA7*((LOG(AA7))/LOG(2))))","v":{"$error":"#DIV/0!"}},null,{"$f":"N7","v":111},{"$f":"COUNTIF(L21:L26,AD7)","v":0},{"$f":"AE7/(AG4-AE11)","v":0},{"$f":"IF(AF7=0,0,(AF7*((LOG(AF7))/LOG(2))))","v":0},null,{"$f":"N7","v":111},{"$f":"COUNTIF(L27:L33,AI7)","v":0},{"$f":"AJ7/(AL4-AJ11)","v":{"$error":"#DIV/0!"}},{"$f":"IF(AK7=0,0,(AK7*((LOG(AK7))/LOG(2))))","v":{"$error":"#DIV/0!"}},null,{"$f":"N7","v":111},{"$f":"COUNTIF(L34:L40,AN7)","v":1},{"$f":"AO7/(AQ4-AO11)","v":0.5},{"$f":"IF(AP7=0,0,(AP7*((LOG(AP7))/LOG(2))))","v":-0.5},null,{"$f":"N7","v":111},{"$f":"COUNTIF(L41:L47,AS7)","v":0},{"$f":"AT7/(AV4-AT11)","v":{"$error":"#DIV/0!"}},{"$f":"IF(AU7=0,0,(AU7*((LOG(AU7))/LOG(2))))","v":{"$error":"#DIV/0!"}}]
[21,125,11,135,11,144,null,null,null,null,0,211,null,112,{"$f":"COUNTIF($L$7:$L$500,N8)","v":0},{"$f":"O8/$Q$4","v":0},{"$f":"IF(P8=0,0,(P8*((LOG(P8))/LOG(2))))","v":0},null,null,{"$f":"N8","v":112},{"$f":"COUNTIF(L7:L13,T8)","v":0},{"$f":"U8/(W4-U11)","v":{"$error":"#DIV/0!"}},{"$f":"IF(V8=0,0,(V8*((LOG(V8))/LOG(2))))","v":{"$error":"#DIV/0!"}},null,{"$f":"N8","v":112},{"$f":"COUNTIF(L14:L20,Y8)","v":0},{"$f":"Z8/(AB4-Z11)","v":{"$error":"#DIV/0!"}},{"$f":"IF(AA8=0,0,(AA8*((LOG(AA8))/LOG(2))))","v":{"$error":"#DIV/0!"}},null,{"$f":"N8","v":112},{"$f":"COUNTIF(L21:L26,AD8)","v":0},{"$f":"AE8/(AG4-AE11)","v":0},{"$f":"IF(AF8=0,0,(AF8*((LOG(AF8))/LOG(2))))","v":0},null,{"$f":"N8","v":112},{"$f":"COUNTIF(L27:L33,AI8)","v":0},{"$f":"AJ8/(AL4-AJ11)","v":{"$error":"#DIV/0!"}},{"$f":"IF(AK8=0,0,(AK8*((LOG(AK8))/LOG(2))))","v":{"$error":"#DIV/0!"}},null,{"$f":"N8","v":112},{"$f":"COUNTIF(L34:L40,AN8)","v":0},{"$f":"AO8/(AQ4-AO11)","v":0},{"$f":"IF(AP8=0,0,(AP8*((LOG(AP8))/LOG(2))))","v":0},null,{"$f":"N8","v":112},{"$f":"COUNTIF(L41:L47,AS8)","v":0},{"$f":"AT8/(AV4-AT11)","v":{"$error":"#DIV/0!"}},{"$f":"IF(AU8=0,0,(AU8*((LOG(AU8))/LOG(2))))","v":{"$error":"#DIV/0!"}}]
[21,238,11,245,11,251,null,null,null,null,0,211,null,121,{"$f":"COUNTIF($L$7:$L$500,N9)","v":0},{"$f":"O9/$Q$4","v":0},{"$f":"IF(P9=0,0,(P9*((LOG(P9))/LOG(2))))","v":0},null,null,{"$f":"N9","v":121},{"$f":"COUNTIF(L7:L13,T9)","v":0},{"$f":"U9/(W4-U11)","v":{"$error":"#DIV/0!"}},{"$f":"IF(V9=0,0,(V9*((LOG(V9))/LOG(2))))","v":{"$error":"#DIV/0!"}},null,{"$f":"N9","v":121},{"$f":"COUNTIF(L14:L20,Y9)","v":0},{"$f":"Z9/(AB4-Z11)","v":{"$error":"#DIV/0!"}},{"$f":"IF(AA9=0,0,(AA9*((LOG(AA9))/LOG(2))))","v":{"$error":"#DIV/0!"}},null,{"$f":"N9","v":121},{"$f":"COUNTIF(L21:L26,AD9)","v":0},{"$f":"AE9/(AG4-AE11)","v":0},{"$f":"IF(AF9=0,0,(AF9*((LOG(AF9))/LOG(2))))","v":0},null,{"$f":"N9","v":121},{"$f":"COUNTIF(L27:L33,AI9)","v":0},{"$f":"AJ9/(AL4-AJ11)","v":{"$error":"#DIV/0!"}},{"$f":"IF(AK9=0,0,(AK9*((LOG(AK9))/LOG(2))))","v":{"$error":"#DIV/0!"}},null,{"$f":"N9","v":121},{"$f":"COUNTIF(L34:L40,AN9)","v":0},{"$f":"AO9/(AQ4-AO11)","v":0},{"$f":"IF(AP9=0,0,(AP9*((LOG(AP9))/LOG(2))))","v":0},null,{"$f":"N9","v":121},{"$f":"COUNTIF(L41:L47,AS9)","v":0},{"$f":"AT9/(AV4-AT11)","v":{"$error":"#DIV/0!"}},{"$f":"IF(AU9=0,0,(AU9*((LOG(AU9))/LOG(2))))","v":{"$error":"#DIV/0!"}}]
[21,347,11,353,11,358,null,null,null,null,0,211,null,122,{"$f":"COUNTIF($L$7:$L$500,N10)","v":0},{"$f":"O10/$Q$4","v":0},{"$f":"IF(P10=0,0,(P10*((LOG(P10))/LOG(2))))","v":0},null,null,{"$f":"N10","v":122},{"$f":"COUNTIF(L7:L13,T10)","v":0},{"$f":"U10/(W4-U11)","v":{"$error":"#DIV/0!"}},{"$f":"IF(V10=0,0,(V10*((LOG(V10))/LOG(2))))","v":{"$error":"#DIV/0!"}},null,{"$f":"N10","v":122},{"$f":"COUNTIF(L14:L20,Y10)","v":0},{"$f":"Z10/(AB4-Z11)","v":{"$error":"#DIV/0!"}},{"$f":"IF(AA10=0,0,(AA10*((LOG(AA10))/LOG(2))))","v":{"$error":"#DIV/0!"}},null,{"$f":"N10","v":122},{"$f":"COUNTIF(L21:L26,AD10)","v":0},{"$f":"AE10/(AG4-AE11)","v":0},{"$f":"IF(AF10=0,0,(AF10*((LOG(AF10))/LOG(2))))","v":0},null,{"$f":"N10","v":122},{"$f":"COUNTIF(L27:L33,AI10)","v":0},{"$f":"AJ10/(AL4-AJ11)","v":{"$error":"#DIV/0!"}},{"$f":"IF(AK10=0,0,(AK10*((LOG(AK10))/LOG(2))))","v":{"$error":"#DIV/0!"}},null,{"$f":"N10","v":122},{"$f":"COUNTIF(L34:L40,AN10)","v":0},{"$f":"AO10/(AQ4-AO11)","v":0},{"$f":"IF(AP10=0,0,(AP10*((LOG(AP10))/LOG(2))))","v":0},null,{"$f":"N10","v":122},{"$f":"COUNTIF(L41:L47,AS10)","v":0},{"$f":"AT10/(AV4-AT11)","v":{"$error":"#DIV/0!"}},{"$f":"IF(AU10=0,0,(AU10*((LOG(AU10))/LOG(2))))","v":{"$error":"#DIV/0!"}}]
[21,451,11,460,11,489,null,null,null,null,0,211,null,211,{"$f":"COUNTIF($L$7:$L$500,N11)","v":38},{"$f":"O11/$Q$4","v":0.92682926829268297},{"$f":"IF(P11=0,0,(P11*((LOG(P11))/LOG(2))))","v":-0.10160318694221779},null,null,{"$f":"N11","v":211},{"$f":"COUNTIF(L7:L13,T11)","v":7},null,null,null,{"$f":"N11","v":211},{"$f":"COUNTIF(L14:L20,Y11)","v":7},null,null,null,{"$f":"N11","v":211},{"$f":"COUNTIF(L21:L26,AD11)","v":5},null,null,null,{"$f":"N11","v":211},{"$f":"COUNTIF(L27:L33,AI11)","v":7},null,null,null,{"$f":"N11","v":211},{"$f":"COUNTIF(L34:L40,AN11)","v":5},null,null,null,{"$f":"N11","v":211},{"$f":"COUNTIF(L41:L47,AS11)","v":7}]
[21,583,11,589,11,594,null,null,null,null,0,211,null,212,{"$f":"COUNTIF($L$7:$L$500,N12)","v":1},{"$f":"O12/$Q$4","v":2.4390243902439025E-2},{"$f":"IF(P12=0,0,(P12*((LOG(P12))/LOG(2))))","v":-0.13067200011263619},null,null,{"$f":"N12","v":212},{"$f":"COUNTIF(L7:L13,T12)","v":0},{"$f":"U12/(W4-U11)","v":{"$error":"#DIV/0!"}},{"$f":"IF(V12=0,0,(V12*((LOG(V12))/LOG(2))))","v":{"$error":"#DIV/0!"}},null,{"$f":"N12","v":212},{"$f":"COUNTIF(L14:L20,Y12)","v":0},{"$f":"Z12/(AB4-Z11)","v":{"$error":"#DIV/0!"}},{"$f":"IF(AA12=0,0,(AA12*((LOG(AA12))/LOG(2))))","v":{"$error":"#DIV/0!"}},null,{"$f":"N12","v":212},{"$f":"COUNTIF(L21:L26,AD12)","v":1},{"$f":"AE12/(AG4-AE11)","v":1},{"$f":"IF(AF12=0,0,(AF12*((LOG(AF12))/LOG(2))))","v":0},null,{"$f":"N12","v":212},{"$f":"COUNTIF(L27:L33,AI12)","v":0},{"$f":"AJ12/(AL4-AJ11)","v":{"$error":"#DIV/0!"}},{"$f":"IF(AK12=0,0,(AK12*((LOG(AK12))/LOG(2))))","v":{"$error":"#DIV/0!"}},null,{"$f":"N12","v":212},{"$f":"COUNTIF(L34:L40,AN12)","v":0},{"$f":"AO12/(AQ4-AO11)","v":0},{"$f":"IF(AP12=0,0,(AP12*((LOG(AP12))/LOG(2))))","v":0},null,{"$f":"N12","v":212},{"$f":"COUNTIF(L41:L47,AS12)","v":0},{"$f":"AT12/(AV4-AT11)","v":{"$error":"#DIV/0!"}},{"$f":"IF(AU12=0,0,(AU12*((LOG(AU12))/LOG(2))))","v":{"$error":"#DIV/0!"}}]
[21,686,11,695,11,700,null,null,null,null,0,211,null,221,{"$f":"COUNTIF($L$7:$L$500,N13)","v":1},{"$f":"O13/$Q$4","v":2.4390243902439025E-2},{"$f":"IF(P13=0,0,(P13*((LOG(P13))/LOG(2))))","v":-0.13067200011263619},null,null,{"$f":"N13","v":221},{"$f":"COUNTIF(L7:L13,T13)","v":0},{"$f":"U13/(W4-U11)","v":{"$error":"#DIV/0!"}},{"$f":"IF(V13=0,0,(V13*((LOG(V13))/LOG(2))))","v":{"$error":"#DIV/0!"}},null,{"$f":"N13","v":221},{"$f":"COUNTIF(L14:L20,Y13)","v":0},{"$f":"Z13/(AB4-Z11)","v":{"$error":"#DIV/0!"}},{"$f":"IF(AA13=0,0,(AA13*((LOG(AA13))/LOG(2))))","v":{"$error":"#DIV/0!"}},null,{"$f":"N13","v":221},{"$f":"COUNTIF(L21:L26,AD13)","v":0},{"$f":"AE13/(AG4-AE11)","v":0},{"$f":"IF(AF13=0,0,(AF13*((LOG(AF13))/LOG(2))))","v":0},null,{"$f":"N13","v":221},{"$f":"COUNTIF(L27:L33,AI13)","v":0},{"$f":"AJ13/(AL4-AJ11)","v":{"$error":"#DIV/0!"}},{"$f":"IF(AK13=0,0,(AK13*((LOG(AK13))/LOG(2))))","v":{"$error":"#DIV/0!"}},null,{"$f":"N13","v":221},{"$f":"COUNTIF(L34:L40,AN13)","v":1},{"$f":"AO13/(AQ4-AO11)","v":0.5},{"$f":"IF(AP13=0,0,(AP13*((LOG(AP13))/LOG(2))))","v":-0.5},null,{"$f":"N13","v":221},{"$f":"COUNTIF(L41:L47,AS13)","v":0},{"$f":"AT13/(AV4-AT11)","v":{"$error":"#DIV/0!"}},{"$f":"IF(AU13=0,0,(AU13*((LOG(AU13))/LOG(2))))","v":{"$error":"#DIV/0!"}}]
[21,793,11,799,11,803,null,null,null,null,0,211,null,222,{"$f":"COUNTIF($L$7:$L$500,N14)","v":0},{"$f":"O14/$Q$4","v":0},{"$f":"IF(P14=0,0,(P14*((LOG(P14))/LOG(2))))","v":0},null,null,{"$f":"N14","v":222},{"$f":"COUNTIF(L7:L13,T14)","v":0},{"$f":"U14/(W4-U11)","v":{"$error":"#DIV/0!"}},{"$f":"IF(V14=0,0,(V14*((LOG(V14))/LOG(2))))","v":{"$error":"#DIV/0!"}},null,{"$f":"N14","v":222},{"$f":"COUNTIF(L14:L20,Y14)","v":0},{"$f":"Z14/(AB4-Z11)","v":{"$error":"#DIV/0!"}},{"$f":"IF(AA14=0,0,(AA14*((LOG(AA14))/LOG(2))))","v":{"$error":"#DIV/0!"}},null,{"$f":"N14","v":222},{"$f":"COUNTIF(L21:L26,AD14)","v":0},{"$f":"AE14/(AG4-AE11)","v":0},{"$f":"IF(AF14=0,0,(AF14*((LOG(AF14))/LOG(2))))","v":0},null,{"$f":"N14","v":222},{"$f":"COUNTIF(L27:L33,AI14)","v":0},{"$f":"AJ14/(AL4-AJ11)","v":{"$error":"#DIV/0!"}},{"$f":"IF(AK14=0,0,(AK14*((LOG(AK14))/LOG(2))))","v":{"$error":"#DIV/0!"}},null,{"$f":"N14","v":222},{"$f":"COUNTIF(L34:L40,AN14)","v":0},{"$f":"AO14/(AQ4-AO11)","v":0},{"$f":"IF(AP14=0,0,(AP14*((LOG(AP14))/LOG(2))))","v":0},null,{"$f":"N14","v":222},{"$f":"COUNTIF(L41:L47,AS14)","v":0},{"$f":"AT14/(AV4-AT11)","v":{"$error":"#DIV/0!"}},{"$f":"IF(AU14=0,0,(AU14*((LOG(AU14))/LOG(2))))","v":{"$error":"#DIV/0!"}}]
[21,896,11,902,11,911,null,null,null,null,0,211,null,null,null,{"$f":"SUM(P7:P14)","v":1},{"$f":"-SUM(Q7:Q14)","v":0.49361918728012638},null,null,null,null,{"$f":"SUM(V7:V14)","v":{"$error":"#DIV/0!"}},{"$f":"-SUM(W7:W14)","v":{"$error":"#DIV/0!"}},null,null,null,{"$f":"SUM(AA7:AA14)","v":{"$error":"#DIV/0!"}},{"$f":"-SUM(AB7:AB14)","v":{"$error":"#DIV/0!"}},null,null,null,{"$f":"SUM(AF7:AF14)","v":1},{"$f":"-SUM(AG7:AG14)","v":0},null,null,null,{"$f":"SUM(AK7:AK14)","v":{"$error":"#DIV/0!"}},{"$f":"-SUM(AL7:AL14)","v":{"$error":"#DIV/0!"}},null,null,null,{"$f":"SUM(AP7:AP14)","v":1},{"$f":"-SUM(AQ7:AQ14)","v":1},null,null,null,{"$f":"SUM(AU7:AU14)","v":{"$error":"#DIV/0!"}},{"$f":"-SUM(AV7:AV14)","v":{"$error":"#DIV/0!"}}]
[21,1002,11,1011,11,1016,null,null,null,null,0,211,null,null,null,"U=",{"$f":"Q15/(LOG(Q4)/LOG(2))","v":9.2135211539643158E-2},null,null,null,null,"U1=",{"$f":"W15/(LOG(W4)/LOG(2))","v":{"$error":"#DIV/0!"}},null,null,null,"U2=",{"$f":"AB15/(LOG(AB4)/LOG(2))","v":{"$error":"#DIV/0!"}},null,null,null,"U3=",{"$f":"AG15/(LOG(AG4)/LOG(2))","v":0},null,null,null,"U4=",{"$f":"AL15/(LOG(AL4)/LOG(2))","v":{"$error":"#DIV/0!"}},null,null,null,"U5=",{"$f":"AQ15/(LOG(AQ4)/LOG(2))","v":0.35620718710802218},null,null,null,"U6=",{"$f":"AV15/(LOG(AV4)/LOG(2))","v":{"$error":"#DIV/0!"}}]
[21,1112,11,1118,11,1124,null,null,null,null,0,211]
[21,1215,11,1228,11,1256,null,null,null,null,0,211]
[21,1348,11,1358,11,1366,null,null,null,null,0,211,null,"Total Target Seq"]
[21,1458,11,1465,11,1469,null,null,null,null,0,211,null,{"$f":"COUNTIF(L7:L47,G3)","v":38},null,7,7,6,7,7,7]
[21,1561,11,1568,11,1573,null,null,null,null,0,211,null,null,null,"% of reinforcement given in 6 equal intervals based on number of trials "]
[21,1663,11,1673,11,1684,null,null,null,null,0,211,null,null,null,"%_1","%_2","%_3","%_4","%_5","%_6"]
[21,1774,11,1780,11,1783,null,null,null,null,0,211,null,null,"target sequence",{"$f":"$G$3","v":211},{"$f":"$G$3","v":211},{"$f":"$G$3","v":211},{"$f":"$G$3","v":211},{"$f":"$G$3","v":211},{"$f":"$G$3","v":211}]
[21,1879,11,1894,22,1932,null,null,null,null,0,212,null,null,"total reinforcement",{"$f":"U11","v":7},{"$f":"Z11","v":7},{"$f":"AE11","v":5},{"$f":"AJ11","v":7},{"$f":"AO11","v":5},{"$f":"AT11","v":7}]
[21,2025,11,2033,11,2046,null,null,null,null,0,211,null,null,"% target"]
[21,2137,11,2145,11,2151,null,null,null,null,0,211,null,null,"CCRF"]
[21,2240,11,2248,11,2256,null,null,null,null,0,211,null,null,"% CCRf"]
[21,2347,11,2355,11,2361,null,null,null,null,0,211,null,null,"average response rate",{"$f":"F13/P20","v":100},{"$f":"(F20-F13)/Q20","v":109.85714285714286},{"$f":"(F26-F20)/R20","v":113.66666666666667},{"$f":"(F33-F26)/S20","v":104.57142857142857},{"$f":"(F40-F33)/T20","v":120.85714285714286},{"$f":"(F47-F40)/U20","v":112.42857142857143}]
[21,2452,11,2460,11,2465,null,null,null,null,0,211]
[21,2558,11,2567,11,2572,null,null,null,null,0,211]
[21,2663,11,2671,11,2676,null,null,null,null,0,211]
[21,2768,11,2774,11,2780,null,null,null,null,0,211]
[21,2869,11,2875,11,2883,null,null,null,null,0,211]
[21,2974,11,2982,11,3025,null,null,null,null,0,211]
[21,3115,22,3120,13,3128,null,null,null,null,0,221]
[21,3225,11,3232,11,3240,null,null,null,null,0,211]
[21,3332,11,3338,11,3342,null,null,null,null,0,211]
[21,3434,11,3440,11,3444,null,null,null,null,0,211]
[12,3545,13,3553,13,3618,null,null,null,null,0,111]
[21,3717,11,3725,11,3729,null,null,null,null,0,211]
[21,3825,11,3833,11,3839,null,null,null,null,0,211]
[21,3928,11,3936,11,3941,null,null,null,null,0,211]
[21,4033,11,4045,11,4060,null,null,null,null,0,211]
[21,4151,11,4156,11,4161,null,null,null,null,0,211]
[21,4265,11,4275,11,4310,null,null,null,null,0,211]
[21,4404,11,4410,11,4414,null,null,null,null,0,211]
[21,4506,11,4512,11,4516,null,null,null,null,1,211]

{"sheet":"!M524900.105","index":24,"n_rows":74,"n_cols":48,"rows_kept":74,"cut":false,"hidden":false,"merged":[[4,39,4,42],[5,39,5,40],[4,44,4,47],[5,44,5,45],[4,24,4,27],[5,24,5,25],[4,29,4,32],[5,29,5,30],[4,34,4,37],[5,34,5,35],[1,1,1,2],[5,13,5,14],[18,13,18,14],[19,13,19,14],[4,19,4,22],[5,19,5,20]]}
["Report for:!M524900.105"]
["Date:","<date>"]
["Hen:","<hen>",null,null,null,"Correct Sequence",{"$f":"Start!J2","v":211},null,null,null,null,null,null,null,null,"Total Sequences in Data",{"$f":"4994-COUNTBLANK(L7:L5000)","v":68},null,null,null,null,"Total Sequences in Block Data",{"$f":"COUNTA(L7:L17)","v":11},null,null,null,"Total Sequences in Block Data",{"$f":"COUNTA(L18:L29)","v":12},null,null,null,"Total Sequences in Block Data",{"$f":"COUNTA(L30:L40)","v":11},null,null,null,"Total Sequences in Block Data",{"$f":"COUNTA(L41:L51)","v":11},null,null,null,"Total Sequences in Block Data",{"$f":"COUNTA(L52:L63)","v":12},null,null,null,"Total Sequences in Block Data",{"$f":"COUNTA(L64:L74)","v":11}]
[null,null,null,null,null,null,null,null,null,null,null,null,null,null,null,"Total Sequences in Summary",{"$f":"SUM(O7:O14)","v":68},null,null,null,null,"Total Sequences in Block Summary",{"$f":"SUM(U7:U14)","v":11},null,null,null,"Total Sequences in Block Summary",{"$f":"SUM(Z7:Z14)","v":12},null,null,null,"Total Sequences in Block Summary",{"$f":"SUM(AE7:AE14)","v":11},null,null,null,"Total Sequences in Block Summary",{"$f":"SUM(AJ7:AJ14)","v":11},null,null,null,"Total Sequences in Block Summary",{"$f":"SUM(AO7:AO14)","v":12},null,null,null,"Total Sequences in Block Summary",{"$f":"SUM(AT7:AT14)","v":11}]
[null,null,null,null,null,null,null,null,null,null,null,null,null,null,null,null,null,null,null,"Block 1",null,null,null,null,"Block 2",null,null,null,null,"Block 3",null,null,null,null,"Block 4",null,null,null,null,"Block 5",null,null,null,null,"Block 6"]
["Sequence\nComponent\n1","Time\n1","Sequence\nComponent\n2","Time\n2","Sequence\nComponent\n3","Time\n3","Sequence\nComponent\n4","Time\n4","Sequence\nComponent\n5","Time\n5","Correct?\n0=No 1=Yes","Sequence",null,"Frequency",null,"Relative Frequency","Variability",null,null,"Frequency",null,"Relative Frequency","Variability",null,"Frequency",null,"Relative Frequency","Variability",null,"Frequency",null,"Relative Frequency","Variability",null,"Frequency",null,"Relative Frequency","Variability",null,"Frequency",null,"Relative Frequency","Variability",null,"Frequency",null,"Relative Frequency","Variability"]
[21,12,11,19,11,28,null,null,null,null,0,211,null,111,{"$f":"COUNTIF($L$7:$L$500,N7)","v":27},{"$f":"O7/$Q$4","v":0.39705882352941174},{"$f":"IF(P7=0,0,(P7*((LOG(P7))/LOG(2))))","v":-0.52911079640213987},null,null,{"$f":"N7","v":111},{"$f":"COUNTIF(L7:L17,T7)","v":5},{"$f":"U7/(W4-U11)","v":1},{"$f":"IF(V7=0,0,(V7*((LOG(V7))/LOG(2))))","v":0},null,{"$f":"N7","v":111},{"$f":"COUNTIF(L18:L29,Y7)","v":4},{"$f":"Z7/(AB4-Z11)","v":1},{"$f":"IF(AA7=0,0,(AA7*((LOG(AA7))/LOG(2))))","v":0},null,{"$f":"N7","v":111},{"$f":"COUNTIF(L30:L40,AD7)","v":3},{"$f":"AE7/(AG4-AE11)","v":1},{"$f":"IF(AF7=0,0,(AF7*((LOG(AF7))/LOG(2))))","v":0},null,{"$f":"N7","v":111},{"$f":"COUNTIF(L41:L51,AI7)","v":5},{"$f":"AJ7/(AL4-AJ11)","v":0.83333333333333337},{"$f":"IF(AK7=0,0,(AK7*((LOG(AK7))/LOG(2))))","v":-0.21919533819482812},null,{"$f":"N7","v":111},{"$f":"COUNTIF(L52:L63,AN7)","v":6},{"$f":"AO7/(AQ4-AO11)","v":0.8571428571428571},{"$f":"IF(AP7=0,0,(AP7*((LOG(AP7))/LOG(2))))","v":-0.19062207543124113},null,{"$f":"N7","v":111},{"$f":"COUNTIF(L64:L74,AS7)","v":4},{"$f":"AT7/(AV4-AT11)","v":1},{"$f":"IF(AU7=0,0,(AU7*((LOG(AU7))/LOG(2))))","v":0}]
[21,127,11,137,11,152,null,null,null,null,0,211,null,112,{"$f":"COUNTIF($L$7:$L$500,N8)","v":1},{"$f":"O8/$Q$4","v":1.4705882352941176E-2},{"$f":"IF(P8=0,0,(P8*((LOG(P8))/LOG(2))))","v":-8.9521512371328521E-2},null,null,{"$f":"N8","v":112},{"$f":"COUNTIF(L7:L17,T8)","v":0},{"$f":"U8/(W4-U11)","v":0},{"$f":"IF(V8=0,0,(V8*((LOG(V8))/LOG(2))))","v":0},null,{"$f":"N8","v":112},{"$f":"COUNTIF(L18:L29,Y8)","v":0},{"$f":"Z8/(AB4-Z11)","v":0},{"$f":"IF(AA8=0,0,(AA8*((LOG(AA8))/LOG(2))))","v":0},null,{"$f":"N8","v":112},{"$f":"COUNTIF(L30:L40,AD8)","v":0},{"$f":"AE8/(AG4-AE11)","v":0},{"$f":"IF(AF8=0,0,(AF8*((LOG(AF8))/LOG(2))))","v":0},null,{"$f":"N8","v":112},{"$f":"COUNTIF(L41:L51,AI8)","v":0},{"$f":"AJ8/(AL4-AJ11)","v":0},{"$f":"IF(AK8=0,0,(AK8*((LOG(AK8))/LOG(2))))","v":0},null,{"$f":"N8","v":112},{"$f":"COUNTIF(L52:L63,AN8)","v":1},{"$f":"AO8/(AQ4-AO11)","v":0.14285714285714285},{"$f":"IF(AP8=0,0,(AP8*((LOG(AP8))/LOG(2))))","v":-0.40105070315108626},null,{"$f":"N8","v":112},{"$f":"COUNTIF(L64:L74,AS8)","v":0},{"$f":"AT8/(AV4-AT11)","v":0},{"$f":"IF(AU8=0,0,(AU8*((LOG(AU8))/LOG(2))))","v":0}]
[12,254,13,271,13,287,null,null,null,null,0,111,null,121,{"$f":"COUNTIF($L$7:$L$500,N9)","v":0},{"$f":"O9/$Q$4","v":0},{"$f":"IF(P9=0,0,(P9*((LOG(P9))/LOG(2))))","v":0},null,null,{"$f":"N9","v":121},{"$f":"COUNTIF(L7:L17,T9)","v":0},{"$f":"U9/(W4-U11)","v":0},{"$f":"IF(V9=0,0,(V9*((LOG(V9))/LOG(2))))","v":0},null,{"$f":"N9","v":121},{"$f":"COUNTIF(L18:L29,Y9)","v":0},{"$f":"Z9/(AB4-Z11)","v":0},{"$f":"IF(AA9=0,0,(AA9*((LOG(AA9))/LOG(2))))","v":0},null,{"$f":"N9","v":121},{"$f":"COUNTIF(L30:L40,AD9)","v":0},{"$f":"AE9/(AG4-AE11)","v":0},{"$f":"IF(AF9=0,0,(AF9*((LOG(AF9))/LOG(2))))","v":0},null,{"$f":"N9","v":121},{"$f":"COUNTIF(L41:L51,AI9)","v":0},{"$f":"AJ9/(AL4-AJ11)","v":0},{"$f":"IF(AK9=0,0,(AK9*((LOG(AK9))/LOG(2))))","v":0},null,{"$f":"N9","v":121},{"$f":"COUNTIF(L52:L63,AN9)","v":0},{"$f":"AO9/(AQ4-AO11)","v":0},{"$f":"IF(AP9=0,0,(AP9*((LOG(AP9))/LOG(2))))","v":0},null,{"$f":"N9","v":121},{"$f":"COUNTIF(L64:L74,AS9)","v":0},{"$f":"AT9/(AV4-AT11)","v":0},{"$f":"IF(AU9=0,0,(AU9*((LOG(AU9))/LOG(2))))","v":0}]
[21,388,11,397,11,403,null,null,null,null,0,211,null,122,{"$f":"COUNTIF($L$7:$L$500,N10)","v":0},{"$f":"O10/$Q$4","v":0},{"$f":"IF(P10=0,0,(P10*((LOG(P10))/LOG(2))))","v":0},null,null,{"$f":"N10","v":122},{"$f":"COUNTIF(L7:L17,T10)","v":0},{"$f":"U10/(W4-U11)","v":0},{"$f":"IF(V10=0,0,(V10*((LOG(V10))/LOG(2))))","v":0},null,{"$f":"N10","v":122},{"$f":"COUNTIF(L18:L29,Y10)","v":0},{"$f":"Z10/(AB4-Z11)","v":0},{"$f":"IF(AA10=0,0,(AA10*((LOG(AA10))/LOG(2))))","v":0},null,{"$f":"N10","v":122},{"$f":"COUNTIF(L30:L40,AD10)","v":0},{"$f":"AE10/(AG4-AE11)","v":0},{"$f":"IF(AF10=0,0,(AF10*((LOG(AF10))/LOG(2))))","v":0},null,{"$f":"N10","v":122},{"$f":"COUNTIF(L41:L51,AI10)","v":0},{"$f":"AJ10/(AL4-AJ11)","v":0},{"$f":"IF(AK10=0,0,(AK10*((LOG(AK10))/LOG(2))))","v":0},null,{"$f":"N10","v":122},{"$f":"COUNTIF(L52:L63,AN10)","v":0},{"$f":"AO10/(AQ4-AO11)","v":0},{"$f":"IF(AP10=0,0,(AP10*((LOG(AP10))/LOG(2))))","v":0},null,{"$f":"N10","v":122},{"$f":"COUNTIF(L64:L74,AS10)","v":0},{"$f":"AT10/(AV4-AT11)","v":0},{"$f":"IF(AU10=0,0,(AU10*((LOG(AU10))/LOG(2))))","v":0}]
[12,502,13,508,13,525,null,null,null,null,0,111,null,211,{"$f":"COUNTIF($L$7:$L$500,N11)","v":39},{"$f":"O11/$Q$4","v":0.57352941176470584},{"$f":"IF(P11=0,0,(P11*((LOG(P11))/LOG(2))))","v":-0.46000535695787581},null,null,{"$f":"N11","v":211},{"$f":"COUNTIF(L7:L17,T11)","v":6},null,null,null,{"$f":"N11","v":211},{"$f":"COUNTIF(L18:L29,Y11)","v":8},null,null,null,{"$f":"N11","v":211},{"$f":"COUNTIF(L30:L40,AD11)","v":8},null,null,null,{"$f":"N11","v":211},{"$f":"COUNTIF(L41:L51,AI11)","v":5},null,null,null,{"$f":"N11","v":211},{"$f":"COUNTIF(L52:L63,AN11)","v":5},null,null,null,{"$f":"N11","v":211},{"$f":"COUNTIF(L64:L74,AS11)","v":7}]
[12,636,13,643,13,658,null,null,null,null,0,111,null,212,{"$f":"COUNTIF($L$7:$L$500,N12)","v":0},{"$f":"O12/$Q$4","v":0},{"$f":"IF(P12=0,0,(P12*((LOG(P12))/LOG(2))))","v":0},null,null,{"$f":"N12","v":212},{"$f":"COUNTIF(L7:L17,T12)","v":0},{"$f":"U12/(W4-U11)","v":0},{"$f":"IF(V12=0,0,(V12*((LOG(V12))/LOG(2))))","v":0},null,{"$f":"N12","v":212},{"$f":"COUNTIF(L18:L29,Y12)","v":0},{"$f":"Z12/(AB4-Z11)","v":0},{"$f":"IF(AA12=0,0,(AA12*((LOG(AA12))/LOG(2))))","v":0},null,{"$f":"N12","v":212},{"$f":"COUNTIF(L30:L40,AD12)","v":0},{"$f":"AE12/(AG4-AE11)","v":0},{"$f":"IF(AF12=0,0,(AF12*((LOG(AF12))/LOG(2))))","v":0},null,{"$f":"N12","v":212},{"$f":"COUNTIF(L41:L51,AI12)","v":0},{"$f":"AJ12/(AL4-AJ11)","v":0},{"$f":"IF(AK12=0,0,(AK12*((LOG(AK12))/LOG(2))))","v":0},null,{"$f":"N12","v":212},{"$f":"COUNTIF(L52:L63,AN12)","v":0},{"$f":"AO12/(AQ4-AO11)","v":0},{"$f":"IF(AP12=0,0,(AP12*((LOG(AP12))/LOG(2))))","v":0},null,{"$f":"N12","v":212},{"$f":"COUNTIF(L64:L74,AS12)","v":0},{"$f":"AT12/(AV4-AT11)","v":0},{"$f":"IF(AU12=0,0,(AU12*((LOG(AU12))/LOG(2))))","v":0}]
[12,767,13,772,13,780,null,null,null,null,0,111,null,221,{"$f":"COUNTIF($L$7:$L$500,N13)","v":1},{"$f":"O13/$Q$4","v":1.4705882352941176E-2},{"$f":"IF(P13=0,0,(P13*((LOG(P13))/LOG(2))))","v":-8.9521512371328521E-2},null,null,{"$f":"N13","v":221},{"$f":"COUNTIF(L7:L17,T13)","v":0},{"$f":"U13/(W4-U11)","v":0},{"$f":"IF(V13=0,0,(V13*((LOG(V13))/LOG(2))))","v":0},null,{"$f":"N13","v":221},{"$f":"COUNTIF(L18:L29,Y13)","v":0},{"$f":"Z13/(AB4-Z11)","v":0},{"$f":"IF(AA13=0,0,(AA13*((LOG(AA13))/LOG(2))))","v":0},null,{"$f":"N13","v":221},{"$f":"COUNTIF(L30:L40,AD13)","v":0},{"$f":"AE13/(AG4-AE11)","v":0},{"$f":"IF(AF13=0,0,(AF13*((LOG(AF13))/LOG(2))))","v":0},null,{"$f":"N13","v":221},{"$f":"COUNTIF(L41:L51,AI13)","v":1},{"$f":"AJ13/(AL4-AJ11)","v":0.16666666666666666},{"$f":"IF(AK13=0,0,(AK13*((LOG(AK13))/LOG(2))))","v":-0.43082708345352599},null,{"$f":"N13","v":221},{"$f":"COUNTIF(L52:L63,AN13)","v":0},{"$f":"AO13/(AQ4-AO11)","v":0},{"$f":"IF(AP13=0,0,(AP13*((LOG(AP13))/LOG(2))))","v":0},null,{"$f":"N13","v":221},{"$f":"COUNTIF(L64:L74,AS13)","v":0},{"$f":"AT13/(AV4-AT11)","v":0},{"$f":"IF(AU13=0,0,(AU13*((LOG(AU13))/LOG(2))))","v":0}]
[21,880,11,886,11,890,null,null,null,null,0,211,null,222,{"$f":"COUNTIF($L$7:$L$500,N14)","v":0},{"$f":"O14/$Q$4","v":0},{"$f":"IF(P14=0,0,(P14*((LOG(P14))/LOG(2))))","v":0},null,null,{"$f":"N14","v":222},{"$f":"COUNTIF(L7:L17,T14)","v":0},{"$f":"U14/(W4-U11)","v":0},{"$f":"IF(V14=0,0,(V14*((LOG(V14))/LOG(2))))","v":0},null,{"$f":"N14","v":222},{"$f":"COUNTIF(L18:L29,Y14)","v":0},{"$f":"Z14/(AB4-Z11)","v":0},{"$f":"IF(AA14=0,0,(AA14*((LOG(AA14))/LOG(2))))","v":0},null,{"$f":"N14","v":222},{"$f":"COUNTIF(L30:L40,AD14)","v":0},{"$f":"AE14/(AG4-AE11)","v":0},{"$f":"IF(AF14=0,0,(AF14*((LOG(AF14))/LOG(2))))","v":0},null,{"$f":"N14","v":222},{"$f":"COUNTIF(L41:L51,AI14)","v":0},{"$f":"AJ14/(AL4-AJ11)","v":0},{"$f":"IF(AK14=0,0,(AK14*((LOG(AK14))/LOG(2))))","v":0},null,{"$f":"N14","v":222},{"$f":"COUNTIF(L52:L63,AN14)","v":0},{"$f":"AO14/(AQ4-AO11)","v":0},{"$f":"IF(AP14=0,0,(AP14*((LOG(AP14))/LOG(2))))","v":0},null,{"$f":"N14","v":222},{"$f":"COUNTIF(L64:L74,AS14)","v":0},{"$f":"AT14/(AV4-AT11)","v":0},{"$f":"IF(AU14=0,0,(AU14*((LOG(AU14))/LOG(2))))","v":0}]
[21,987,11,994,11,999,null,null,null,null,0,211,null,null,null,{"$f":"SUM(P7:P14)","v":0.99999999999999989},{"$f":"-SUM(Q7:Q14)","v":1.1681591781026728},null,null,null,null,{"$f":"SUM(V7:V14)","v":1},{"$f":"-SUM(W7:W14)","v":0},null,null,null,{"$f":"SUM(AA7:AA14)","v":1},{"$f":"-SUM(AB7:AB14)","v":0},null,null,null,{"$f":"SUM(AF7:AF14)","v":1},{"$f":"-SUM(AG7:AG14)","v":0},null,null,null,{"$f":"SUM(AK7:AK14)","v":1},{"$f":"-SUM(AL7:AL14)","v":0.65002242164835411},null,null,null,{"$f":"SUM(AP7:AP14)","v":1},{"$f":"-SUM(AQ7:AQ14)","v":0.59167277858232736},null,null,null,{"$f":"SUM(AU7:AU14)","v":1},{"$f":"-SUM(AV7:AV14)","v":0}]
[12,1098,13,1103,13,1117,null,null,null,null,0,111,null,null,null,"U=",{"$f":"Q15/(LOG(Q4)/LOG(2))","v":0.19189590286890978},null,null,null,null,"U1=",{"$f":"W15/(LOG(W4)/LOG(2))","v":0},null,null,null,"U2=",{"$f":"AB15/(LOG(AB4)/LOG(2))","v":0},null,null,null,"U3=",{"$f":"AG15/(LOG(AG4)/LOG(2))","v":0},null,null,null,"U4=",{"$f":"AL15/(LOG(AL4)/LOG(2))","v":0.18789861841651431},null,null,null,"U5=",{"$f":"AQ15/(LOG(AQ4)/LOG(2))","v":0.16504294771934311},null,null,null,"U6=",{"$f":"AV15/(LOG(AV4)/LOG(2))","v":0}]
[21,1218,11,1234,11,1259,null,null,null,null,0,211]
[21,1356,11,1366,11,1377,null,null,null,null,0,211]
[12,1476,13,1484,13,1497,null,null,null,null,0,111,null,"Total Target Seq"]
[21,1598,11,1611,11,1618,null,null,null,null,0,211,null,{"$f":"COUNTIF(L7:L74,G3)","v":39},null,11,12,11,11,12,11]
[21,1724,11,1734,11,1743,null,null,null,null,0,211,null,null,null,"% of reinforcement given in 6 equal intervals based on number of trials "]
[21,1841,11,1849,11,1858,null,null,null,null,0,211,null,null,null,"%_1","%_2","%_3","%_4","%_5","%_6"]
[12,1957,13,1962,13,1987,null,null,null,null,0,111,null,null,"target sequence",{"$f":"$G$3","v":211},{"$f":"$G$3","v":211},{"$f":"$G$3","v":211},{"$f":"$G$3","v":211},{"$f":"$G$3","v":211},{"$f":"$G$3","v":211}]
[12,2096,13,2102,13,2128,null,null,null,null,0,111,null,null,"total reinforcement",{"$f":"U11","v":6},{"$f":"Z11","v":8},{"$f":"AE11","v":8},{"$f":"AJ11","v":5},{"$f":"AO11","v":5},{"$f":"AT11","v":7}]
[21,2229,11,2252,11,2261,null,null,null,null,0,211,null,null,"% target"]
[12,2369,13,2376,13,2384,null,null,null,null,0,111,null,null,"CCRF"]
[21,2484,11,2493,11,2497,null,null,null,null,0,211,null,null,"% CCRf"]
[21,2593,11,2600,11,2612,null,null,null,null,0,211,null,null,"average response rate",{"$f":"F17/P20","v":114.45454545454545},{"$f":"(F29-F17)/Q20","v":121.25},{"$f":"(F40-F29)/R20","v":116.27272727272727},{"$f":"(F51-F40)/S20","v":123.18181818181819},{"$f":"(F63-F51)/T20","v":133.5},{"$f":"(F74-F63)/U20","v":117.90909090909091}]
[21,2703,11,2709,11,2714,null,null,null,null,0,211]
[21,2805,11,2811,11,2816,null,null,null,null,0,211]
[12,2916,13,2924,13,2960,null,null,null,null,0,111]
[21,3060,11,3066,11,3071,null,null,null,null,0,211]
[12,3173,13,3180,13,3199,null,null,null,null,0,111]
[21,3300,11,3309,11,3314,null,null,null,null,0,211]
[21,3407,11,3416,11,3430,null,null,null,null,0,211]
[21,3522,11,3530,11,3539,null,null,null,null,0,211]
[21,3631,11,3640,11,3651,null,null,null,null,0,211]
[21,3743,11,3749,11,3753,null,null,null,null,0,211]
[12,3853,13,3862,13,3880,null,null,null,null,0,111]
[21,3980,11,3989,11,3993,null,null,null,null,0,211]
[12,4093,13,4102,13,4115,null,null,null,null,0,111]
[21,4218,11,4224,11,4229,null,null,null,null,0,211]
[12,4331,13,4353,13,4363,null,null,null,null,0,111]
[21,4463,11,4471,11,4477,null,null,null,null,0,211]
[12,4578,13,4587,13,4600,null,null,null,null,0,111]
[12,4708,13,4713,13,4725,null,null,null,null,0,111]
[21,4829,11,4835,11,4839,null,null,null,null,0,211]
[12,4945,13,4953,13,5015,null,null,null,null,0,111]
[21,5115,11,5122,11,5127,null,null,null,null,0,211]
[21,5216,22,5229,13,5238,null,null,null,null,0,221]
[21,5336,11,5342,11,5348,null,null,null,null,0,211]
[21,5439,11,5448,11,5457,null,null,null,null,0,211]
[21,5549,11,5558,11,5566,null,null,null,null,0,211]
[21,5671,11,5677,11,5686,null,null,null,null,0,211]
[12,5788,13,5792,13,5808,null,null,null,null,0,111]
[12,5916,13,5924,13,5938,null,null,null,null,0,111]
[12,6062,13,6074,13,6090,null,null,null,null,0,111]
[12,6199,13,6210,13,6219,null,null,null,null,0,111]
[12,6331,13,6340,13,6355,null,null,null,null,0,111]
[21,6464,11,6473,11,6482,null,null,null,null,0,211]
[21,6581,11,6589,11,6595,null,null,null,null,0,211]
[12,6690,13,6698,13,6738,null,null,null,null,0,111]
[12,6855,13,6868,24,6950,null,null,null,null,0,112]
[12,7056,13,7065,13,7076,null,null,null,null,0,111]
[21,7184,11,7193,11,7198,null,null,null,null,0,211]
[21,7294,11,7302,11,7314,null,null,null,null,0,211]
[21,7406,11,7415,11,7422,null,null,null,null,0,211]
[12,7522,13,7527,13,7542,null,null,null,null,0,111]
[21,7645,11,7654,11,7664,null,null,null,null,0,211]
[21,7764,11,7770,11,7775,null,null,null,null,0,211]
[12,7874,13,7882,13,7896,null,null,null,null,0,111]
[21,8000,11,8006,11,8011,null,null,null,null,0,211]
[12,8107,13,8111,13,8124,null,null,null,null,0,111]
[21,8227,11,8236,11,8247,null,null,null,null,1,211]

{"sheet":"!M525B00.105","index":25,"n_rows":84,"n_cols":48,"rows_kept":84,"cut":false,"hidden":false,"merged":[[4,39,4,42],[5,39,5,40],[4,44,4,47],[5,44,5,45],[4,24,4,27],[5,24,5,25],[4,29,4,32],[5,29,5,30],[4,34,4,37],[5,34,5,35],[1,1,1,2],[5,13,5,14],[18,13,18,14],[19,13,19,14],[4,19,4,22],[5,19,5,20]]}
["Report for:!M525B00.105"]
["Date:","<date>"]
["Hen:","<hen>",null,null,null,"Correct Sequence",{"$f":"Start!J2","v":211},null,null,null,null,null,null,null,null,"Total Sequences in Data",{"$f":"4994-COUNTBLANK(L7:L5000)","v":78},null,null,null,null,"Total Sequences in Block Data",{"$f":"COUNTA(L7:L19)","v":13},null,null,null,"Total Sequences in Block Data",{"$f":"COUNTA(L20:L32)","v":13},null,null,null,"Total Sequences in Block Data",{"$f":"COUNTA(L33:L45)","v":13},null,null,null,"Total Sequences in Block Data",{"$f":"COUNTA(L46:L58)","v":13},null,null,null,"Total Sequences in Block Data",{"$f":"COUNTA(L59:L71)","v":13},null,null,null,"Total Sequences in Block Data",{"$f":"COUNTA(L72:L84)","v":13}]
[null,null,null,null,null,null,null,null,null,null,null,null,null,null,null,"Total Sequences in Summary",{"$f":"SUM(O7:O14)","v":78},null,null,null,null,"Total Sequences in Block Summary",{"$f":"SUM(U7:U14)","v":13},null,null,null,"Total Sequences in Block Summary",{"$f":"SUM(Z7:Z14)","v":13},null,null,null,"Total Sequences in Block Summary",{"$f":"SUM(AE7:AE14)","v":13},null,null,null,"Total Sequences in Block Summary",{"$f":"SUM(AJ7:AJ14)","v":13},null,null,null,"Total Sequences in Block Summary",{"$f":"SUM(AO7:AO14)","v":13},null,null,null,"Total Sequences in Block Summary",{"$f":"SUM(AT7:AT14)","v":13}]
[null,null,null,null,null,null,null,null,null,null,null,null,null,null,null,null,null,null,null,"Block 1",null,null,null,null,"Block 2",null,null,null,null,"Block 3",null,null,null,null,"Block 4",null,null,null,null,"Block 5",null,null,null,null,"Block 6"]
["Sequence\nComponent\n1","Time\n1","Sequence\nComponent\n2","Time\n2","Sequence\nComponent\n3","Time\n3","Sequence\nComponent\n4","Time\n4","Sequence\nComponent\n5","Time\n5","Correct?\n0=No 1=Yes","Sequence",null,"Frequency",null,"Relative Frequency","Variability",null,null,"Frequency",null,"Relative Frequency","Variability",null,"Frequency",null,"Relative Frequency","Variability",null,"Frequency",null,"Relative Frequency","Variability",null,"Frequency",null,"Relative Frequency","Variability",null,"Frequency",null,"Relative Frequency","Variability",null,"Frequency",null,"Relative Frequency","Variability"]
[21,20,11,32,11,41,null,null,null,null,0,211,null,111,{"$f":"COUNTIF($L$7:$L$500,N7)","v":35},{"$f":"O7/$Q$4","v":0.44871794871794873},{"$f":"IF(P7=0,0,(P7*((LOG(P7))/LOG(2))))","v":-0.51877143675775461},null,null,{"$f":"N7","v":111},{"$f":"COUNTIF(L7:L19,T7)","v":5},{"$f":"U7/(W4-U11)","v":1},{"$f":"IF(V7=0,0,(V7*((LOG(V7))/LOG(2))))","v":0},null,{"$f":"N7","v":111},{"$f":"COUNTIF(L20:L32,Y7)","v":5},{"$f":"Z7/(AB4-Z11)","v":0.83333333333333337},{"$f":"IF(AA7=0,0,(AA7*((LOG(AA7))/LOG(2))))","v":-0.21919533819482812},null,{"$f":"N7","v":111},{"$f":"COUNTIF(L33:L45,AD7)","v":6},{"$f":"AE7/(AG4-AE11)","v":0.75},{"$f":"IF(AF7=0,0,(AF7*((LOG(AF7))/LOG(2))))","v":-0.31127812445913283},null,{"$f":"N7","v":111},{"$f":"COUNTIF(L46:L58,AI7)","v":4},{"$f":"AJ7/(AL4-AJ11)","v":0.8},{"$f":"IF(AK7=0,0,(AK7*((LOG(AK7))/LOG(2))))","v":-0.25754247590988982},null,{"$f":"N7","v":111},{"$f":"COUNTIF(L59:L71,AN7)","v":7},{"$f":"AO7/(AQ4-AO11)","v":1},{"$f":"IF(AP7=0,0,(AP7*((LOG(AP7))/LOG(2))))","v":0},null,{"$f":"N7","v":111},{"$f":"COUNTIF(L72:L84,AS7)","v":8},{"$f":"AT7/(AV4-AT11)","v":1},{"$f":"IF(AU7=0,0,(AU7*((LOG(AU7))/LOG(2))))","v":0}]
[21,134,11,144,11,149,null,null,null,null,0,211,null,112,{"$f":"COUNTIF($L$7:$L$500,N8)","v":2},{"$f":"O8/$Q$4","v":2.564102564102564E-2},{"$f":"IF(P8=0,0,(P8*((LOG(P8))/LOG(2))))","v":-0.13552313381698072},null,null,{"$f":"N8","v":112},{"$f":"COUNTIF(L7:L19,T8)","v":0},{"$f":"U8/(W4-U11)","v":0},{"$f":"IF(V8=0,0,(V8*((LOG(V8))/LOG(2))))","v":0},null,{"$f":"N8","v":112},{"$f":"COUNTIF(L20:L32,Y8)","v":0},{"$f":"Z8/(AB4-Z11)","v":0},{"$f":"IF(AA8=0,0,(AA8*((LOG(AA8))/LOG(2))))","v":0},null,{"$f":"N8","v":112},{"$f":"COUNTIF(L33:L45,AD8)","v":1},{"$f":"AE8/(AG4-AE11)","v":0.125},{"$f":"IF(AF8=0,0,(AF8*((LOG(AF8))/LOG(2))))","v":-0.375},null,{"$f":"N8","v":112},{"$f":"COUNTIF(L46:L58,AI8)","v":1},{"$f":"AJ8/(AL4-AJ11)","v":0.2},{"$f":"IF(AK8=0,0,(AK8*((LOG(AK8))/LOG(2))))","v":-0.46438561897747244},null,{"$f":"N8","v":112},{"$f":"COUNTIF(L59:L71,AN8)","v":0},{"$f":"AO8/(AQ4-AO11)","v":0},{"$f":"IF(AP8=0,0,(AP8*((LOG(AP8))/LOG(2))))","v":0},null,{"$f":"N8","v":112},{"$f":"COUNTIF(L72:L84,AS8)","v":0},{"$f":"AT8/(AV4-AT11)","v":0},{"$f":"IF(AU8=0,0,(AU8*((LOG(AU8))/LOG(2))))","v":0}]
[12,249,13,259,13,273,null,null,null,null,0,111,null,121,{"$f":"COUNTIF($L$7:$L$500,N9)","v":0},{"$f":"O9/$Q$4","v":0},{"$f":"IF(P9=0,0,(P9*((LOG(P9))/LOG(2))))","v":0},null,null,{"$f":"N9","v":121},{"$f":"COUNTIF(L7:L19,T9)","v":0},{"$f":"U9/(W4-U11)","v":0},{"$f":"IF(V9=0,0,(V9*((LOG(V9))/LOG(2))))","v":0},null,{"$f":"N9","v":121},{"$f":"COUNTIF(L20:L32,Y9)","v":0},{"$f":"Z9/(AB4-Z11)","v":0},{"$f":"IF(AA9=0,0,(AA9*((LOG(AA9))/LOG(2))))","v":0},null,{"$f":"N9","v":121},{"$f":"COUNTIF(L33:L45,AD9)","v":0},{"$f":"AE9/(AG4-AE11)","v":0},{"$f":"IF(AF9=0,0,(AF9*((LOG(AF9))/LOG(2))))","v":0},null,{"$f":"N9","v":121},{"$f":"COUNTIF(L46:L58,AI9)","v":0},{"$f":"AJ9/(AL4-AJ11)","v":0},{"$f":"IF(AK9=0,0,(AK9*((LOG(AK9))/LOG(2))))","v":0},null,{"$f":"N9","v":121},{"$f":"COUNTIF(L59:L71,AN9)","v":0},{"$f":"AO9/(AQ4-AO11)","v":0},{"$f":"IF(AP9=0,0,(AP9*((LOG(AP9))/LOG(2))))","v":0},null,{"$f":"N9","v":121},{"$f":"COUNTIF(L72:L84,AS9)","v":0},{"$f":"AT9/(AV4-AT11)","v":0},{"$f":"IF(AU9=0,0,(AU9*((LOG(AU9))/LOG(2))))","v":0}]
[21,378,11,385,11,394,null,null,null,null,0,211,null,122,{"$f":"COUNTIF($L$7:$L$500,N10)","v":0},{"$f":"O10/$Q$4","v":0},{"$f":"IF(P10=0,0,(P10*((LOG(P10))/LOG(2))))","v":0},null,null,{"$f":"N10","v":122},{"$f":"COUNTIF(L7:L19,T10)","v":0},{"$f":"U10/(W4-U11)","v":0},{"$f":"IF(V10=0,0,(V10*((LOG(V10))/LOG(2))))","v":0},null,{"$f":"N10","v":122},{"$f":"COUNTIF(L20:L32,Y10)","v":0},{"$f":"Z10/(AB4-Z11)","v":0},{"$f":"IF(AA10=0,0,(AA10*((LOG(AA10))/LOG(2))))","v":0},null,{"$f":"N10","v":122},{"$f":"COUNTIF(L33:L45,AD10)","v":0},{"$f":"AE10/(AG4-AE11)","v":0},{"$f":"IF(AF10=0,0,(AF10*((LOG(AF10))/LOG(2))))","v":0},null,{"$f":"N10","v":122},{"$f":"COUNTIF(L46:L58,AI10)","v":0},{"$f":"AJ10/(AL4-AJ11)","v":0},{"$f":"IF(AK10=0,0,(AK10*((LOG(AK10))/LOG(2))))","v":0},null,{"$f":"N10","v":122},{"$f":"COUNTIF(L59:L71,AN10)","v":0},{"$f":"AO10/(AQ4-AO11)","v":0},{"$f":"IF(AP10=0,0,(AP10*((LOG(AP10))/LOG(2))))","v":0},null,{"$f":"N10","v":122},{"$f":"COUNTIF(L72:L84,AS10)","v":0},{"$f":"AT10/(AV4-AT11)","v":0},{"$f":"IF(AU10=0,0,(AU10*((LOG(AU10))/LOG(2))))","v":0}]
[12,494,13,504,13,517,null,null,null,null,0,111,null,211,{"$f":"COUNTIF($L$7:$L$500,N11)","v":39},{"$f":"O11/$Q$4","v":0.5},{"$f":"IF(P11=0,0,(P11*((LOG(P11))/LOG(2))))","v":-0.5},null,null,{"$f":"N11","v":211},{"$f":"COUNTIF(L7:L19,T11)","v":8},null,null,null,{"$f":"N11","v":211},{"$f":"COUNTIF(L20:L32,Y11)","v":7},null,null,null,{"$f":"N11","v":211},{"$f":"COUNTIF(L33:L45,AD11)","v":5},null,null,null,{"$f":"N11","v":211},{"$f":"COUNTIF(L46:L58,AI11)","v":8},null,null,null,{"$f":"N11","v":211},{"$f":"COUNTIF(L59:L71,AN11)","v":6},null,null,null,{"$f":"N11","v":211},{"$f":"COUNTIF(L72:L84,AS11)","v":5}]
[12,623,13,639,13,733,null,null,null,null,0,111,null,212,{"$f":"COUNTIF($L$7:$L$500,N12)","v":1},{"$f":"O12/$Q$4","v":1.282051282051282E-2},{"$f":"IF(P12=0,0,(P12*((LOG(P12))/LOG(2))))","v":-8.0582079729003178E-2},null,null,{"$f":"N12","v":212},{"$f":"COUNTIF(L7:L19,T12)","v":0},{"$f":"U12/(W4-U11)","v":0},{"$f":"IF(V12=0,0,(V12*((LOG(V12))/LOG(2))))","v":0},null,{"$f":"N12","v":212},{"$f":"COUNTIF(L20:L32,Y12)","v":0},{"$f":"Z12/(AB4-Z11)","v":0},{"$f":"IF(AA12=0,0,(AA12*((LOG(AA12))/LOG(2))))","v":0},null,{"$f":"N12","v":212},{"$f":"COUNTIF(L33:L45,AD12)","v":1},{"$f":"AE12/(AG4-AE11)","v":0.125},{"$f":"IF(AF12=0,0,(AF12*((LOG(AF12))/LOG(2))))","v":-0.375},null,{"$f":"N12","v":212},{"$f":"COUNTIF(L46:L58,AI12)","v":0},{"$f":"AJ12/(AL4-AJ11)","v":0},{"$f":"IF(AK12=0,0,(AK12*((LOG(AK12))/LOG(2))))","v":0},null,{"$f":"N12","v":212},{"$f":"COUNTIF(L59:L71,AN12)","v":0},{"$f":"AO12/(AQ4-AO11)","v":0},{"$f":"IF(AP12=0,0,(AP12*((LOG(AP12))/LOG(2))))","v":0},null,{"$f":"N12","v":212},{"$f":"COUNTIF(L72:L84,AS12)","v":0},{"$f":"AT12/(AV4-AT11)","v":0},{"$f":"IF(AU12=0,0,(AU12*((LOG(AU12))/LOG(2))))","v":0}]
[12,848,13,867,13,875,null,null,null,null,0,111,null,221,{"$f":"COUNTIF($L$7:$L$500,N13)","v":1},{"$f":"O13/$Q$4","v":1.282051282051282E-2},{"$f":"IF(P13=0,0,(P13*((LOG(P13))/LOG(2))))","v":-8.0582079729003178E-2},null,null,{"$f":"N13","v":221},{"$f":"COUNTIF(L7:L19,T13)","v":0},{"$f":"U13/(W4-U11)","v":0},{"$f":"IF(V13=0,0,(V13*((LOG(V13))/LOG(2))))","v":0},null,{"$f":"N13","v":221},{"$f":"COUNTIF(L20:L32,Y13)","v":1},{"$f":"Z13/(AB4-Z11)","v":0.16666666666666666},{"$f":"IF(AA13=0,0,(AA13*((LOG(AA13))/LOG(2))))","v":-0.43082708345352599},null,{"$f":"N13","v":221},{"$f":"COUNTIF(L33:L45,AD13)","v":0},{"$f":"AE13/(AG4-AE11)","v":0},{"$f":"IF(AF13=0,0,(AF13*((LOG(AF13))/LOG(2))))","v":0},null,{"$f":"N13","v":221},{"$f":"COUNTIF(L46:L58,AI13)","v":0},{"$f":"AJ13/(AL4-AJ11)","v":0},{"$f":"IF(AK13=0,0,(AK13*((LOG(AK13))/LOG(2))))","v":0},null,{"$f":"N13","v":221},{"$f":"COUNTIF(L59:L71,AN13)","v":0},{"$f":"AO13/(AQ4-AO11)","v":0},{"$f":"IF(AP13=0,0,(AP13*((LOG(AP13))/LOG(2))))","v":0},null,{"$f":"N13","v":221},{"$f":"COUNTIF(L72:L84,AS13)","v":0},{"$f":"AT13/(AV4-AT11)","v":0},{"$f":"IF(AU13=0,0,(AU13*((LOG(AU13))/LOG(2))))","v":0}]
[21,974,11,986,11,994,null,null,null,null,0,211,null,222,{"$f":"COUNTIF($L$7:$L$500,N14)","v":0},{"$f":"O14/$Q$4","v":0},{"$f":"IF(P14=0,0,(P14*((LOG(P14))/LOG(2))))","v":0},null,null,{"$f":"N14","v":222},{"$f":"COUNTIF(L7:L19,T14)","v":0},{"$f":"U14/(W4-U11)","v":0},{"$f":"IF(V14=0,0,(V14*((LOG(V14))/LOG(2))))","v":0},null,{"$f":"N14","v":222},{"$f":"COUNTIF(L20:L32,Y14)","v":0},{"$f":"Z14/(AB4-Z11)","v":0},{"$f":"IF(AA14=0,0,(AA14*((LOG(AA14))/LOG(2))))","v":0},null,{"$f":"N14","v":222},{"$f":"COUNTIF(L33:L45,AD14)","v":0},{"$f":"AE14/(AG4-AE11)","v":0},{"$f":"IF(AF14=0,0,(AF14*((LOG(AF14))/LOG(2))))","v":0},null,{"$f":"N14","v":222},{"$f":"COUNTIF(L46:L58,AI14)","v":0},{"$f":"AJ14/(AL4-AJ11)","v":0},{"$f":"IF(AK14=0,0,(AK14*((LOG(AK14))/LOG(2))))","v":0},null,{"$f":"N14","v":222},{"$f":"COUNTIF(L59:L71,AN14)","v":0},{"$f":"AO14/(AQ4-AO11)","v":0},{"$f":"IF(AP14=0,0,(AP14*((LOG(AP14))/LOG(2))))","v":0},null,{"$f":"N14","v":222},{"$f":"COUNTIF(L72:L84,AS14)","v":0},{"$f":"AT14/(AV4-AT11)","v":0},{"$f":"IF(AU14=0,0,(AU14*((LOG(AU14))/LOG(2))))","v":0}]
[21,1088,11,1096,11,1115,null,null,null,null,0,211,null,null,null,{"$f":"SUM(P7:P14)","v":1},{"$f":"-SUM(Q7:Q14)","v":1.3154587300327416},null,null,null,null,{"$f":"SUM(V7:V14)","v":1},{"$f":"-SUM(W7:W14)","v":0},null,null,null,{"$f":"SUM(AA7:AA14)","v":1},{"$f":"-SUM(AB7:AB14)","v":0.65002242164835411},null,null,null,{"$f":"SUM(AF7:AF14)","v":1},{"$f":"-SUM(AG7:AG14)","v":1.0612781244591329},null,null,null,{"$f":"SUM(AK7:AK14)","v":1},{"$f":"-SUM(AL7:AL14)","v":0.72192809488736231},null,null,null,{"$f":"SUM(AP7:AP14)","v":1},{"$f":"-SUM(AQ7:AQ14)","v":0},null,null,null,{"$f":"SUM(AU7:AU14)","v":1},{"$f":"-SUM(AV7:AV14)","v":0}]
[21,1207,11,1214,11,1222,null,null,null,null,0,211,null,null,null,"U=",{"$f":"Q15/(LOG(Q4)/LOG(2))","v":0.20928791574946487},null,null,null,null,"U1=",{"$f":"W15/(LOG(W4)/LOG(2))","v":0},null,null,null,"U2=",{"$f":"AB15/(LOG(AB4)/LOG(2))","v":0.17566085956262825},null,null,null,"U3=",{"$f":"AG15/(LOG(AG4)/LOG(2))","v":0.28679784168792344},null,null,null,"U4=",{"$f":"AL15/(LOG(AL4)/LOG(2))","v":0.19509251599159175},null,null,null,"U5=",{"$f":"AQ15/(LOG(AQ4)/LOG(2))","v":0},null,null,null,"U6=",{"$f":"AV15/(LOG(AV4)/LOG(2))","v":0}]
[21,1317,11,1325,11,1333,null,null,null,null,0,211]
[12,1438,13,1444,13,1461,null,null,null,null,0,111]
[21,1563,11,1570,11,1575,null,null,null,null,0,211,null,"Total Target Seq"]
[12,1673,13,1677,13,1692,null,null,null,null,0,111,null,{"$f":"COUNTIF(L7:L84,G3)","v":39},null,13,13,13,13,13,13]
[21,1792,11,1798,11,1804,null,null,null,null,0,211,null,null,null,"% of reinforcement given in 6 equal intervals based on number of trials "]
[21,1894,11,1902,11,1911,null,null,null,null,0,211,null,null,null,"%_1","%_2","%_3","%_4","%_5","%_6"]
[21,2003,11,2015,11,2024,null,null,null,null,0,211,null,null,"target sequence",{"$f":"$G$3","v":211},{"$f":"$G$3","v":211},{"$f":"$G$3","v":211},{"$f":"$G$3","v":211},{"$f":"$G$3","v":211},{"$f":"$G$3","v":211}]
[21,2115,11,2123,11,2133,null,null,null,null,0,211,null,null,"total reinforcement",{"$f":"U11","v":8},{"$f":"Z11","v":7},{"$f":"AE11","v":5},{"$f":"AJ11","v":8},{"$f":"AO11","v":6},{"$f":"AT11","v":5}]
[21,2223,11,2228,11,2236,null,null,null,null,0,211,null,null,"% target"]
[21,2323,22,2329,13,2335,null,null,null,null,0,221,null,null,"CCRF"]
[21,2427,11,2435,11,2444,null,null,null,null,0,211,null,null,"% CCRf"]
[12,2540,13,2549,13,2564,null,null,null,null,0,111,null,null,"average response rate",{"$f":"F19/P20","v":121.15384615384616},{"$f":"(F32-F19)/Q20","v":116.76923076923077},{"$f":"(F45-F32)/R20","v":135.76923076923077},{"$f":"(F58-F45)/S20","v":124.15384615384616},{"$f":"(F71-F58)/T20","v":114.84615384615384},{"$f":"(F84-F71)/U20","v":122.38461538461539}]
[21,2664,11,2672,11,2691,null,null,null,null,0,211]
[12,2789,13,2805,13,2831,null,null,null,null,0,111]
[12,2936,13,2948,13,2961,null,null,null,null,0,111]
[12,3068,13,3076,13,3093,null,null,null,null,0,111]
[21,3192,11,3205,11,3213,null,null,null,null,0,211]
[12,3311,13,3319,13,3336,null,null,null,null,0,111]
[12,3447,13,3451,13,3470,null,null,null,null,0,111]
[21,3571,11,3580,11,3585,null,null,null,null,0,211]
[21,3674,11,3682,11,3689,null,null,null,null,0,211]
[21,3784,11,3791,22,3871,null,null,null,null,0,212]
[12,3987,13,3995,24,4056,null,null,null,null,0,112]
[12,4166,13,4194,13,4273,null,null,null,null,0,111]
[12,4377,13,4382,13,4397,null,null,null,null,0,111]
[12,4511,13,4516,13,4532,null,null,null,null,0,111]
[21,4629,11,4638,11,4641,null,null,null,null,0,211]
[21,4735,11,4741,11,4749,null,null,null,null,0,211]
[12,4844,13,4848,13,4858,null,null,null,null,0,111]
[21,4955,11,4963,11,4968,null,null,null,null,0,211]
[21,5060,11,5071,11,5079,null,null,null,null,0,211]
[21,5169,11,5178,11,5188,null,null,null,null,0,211]
[21,5281,11,5289,11,5295,null,null,null,null,0,211]
[21,5385,11,5391,11,5402,null,null,null,null,0,211]
[12,5496,13,5502,13,5538,null,null,null,null,0,111]
[12,5646,13,5651,13,5663,null,null,null,null,0,111]
[21,5759,11,5784,11,5792,null,null,null,null,0,211]
[12,5895,13,5903,13,5915,null,null,null,null,0,111]
[21,6014,11,6022,11,6041,null,null,null,null,0,211]
[21,6138,11,6148,11,6171,null,null,null,null,0,211]
[12,6279,13,6287,24,6347,null,null,null,null,0,112]
[12,6455,13,6463,13,6472,null,null,null,null,0,111]
[21,6577,11,6585,11,6590,null,null,null,null,0,211]
[12,6687,13,6691,13,6705,null,null,null,null,0,111]
[21,6804,11,6809,11,6814,null,null,null,null,0,211]
[12,6913,13,6921,13,6933,null,null,null,null,0,111]
[21,7035,11,7042,11,7049,null,null,null,null,0,211]
[21,7142,11,7148,11,7153,null,null,null,null,0,211]
[12,7247,13,7252,13,7264,null,null,null,null,0,111]
[12,7375,13,7382,13,7391,null,null,null,null,0,111]
[21,7490,11,7498,11,7503,null,null,null,null,0,211]
[12,7603,13,7608,13,7617,null,null,null,null,0,111]
[12,7721,13,7726,13,7737,null,null,null,null,0,111]
[21,7836,11,7845,11,7853,null,null,null,null,0,211]
[12,7948,13,7953,13,7965,null,null,null,null,0,111]
[21,8064,11,8071,11,8076,null,null,null,null,0,211]
[12,8176,13,8182,13,8190,null,null,null,null,0,111]
[21,8287,11,8296,11,8305,null,null,null,null,0,211]
[21,8397,11,8405,11,8411,null,null,null,null,0,211]
[12,8505,13,8509,13,8517,null,null,null,null,0,111]
[12,8623,13,8627,13,8638,null,null,null,null,0,111]
[12,8742,13,8751,13,8817,null,null,null,null,0,111]
[12,8928,13,8936,13,8944,null,null,null,null,0,111]
[12,9049,13,9053,13,9089,null,null,null,null,0,111]
[21,9188,11,9196,11,9202,null,null,null,null,0,211]
[12,9301,13,9306,13,9330,null,null,null,null,0,111]
[12,9435,13,9440,13,9449,null,null,null,null,0,111]
[21,9546,11,9552,11,9556,null,null,null,null,1,211]

{"sheet":"!M526B30.105","index":26,"n_rows":54,"n_cols":48,"rows_kept":54,"cut":false,"hidden":false,"merged":[[4,39,4,42],[5,39,5,40],[4,44,4,47],[5,44,5,45],[4,24,4,27],[5,24,5,25],[4,29,4,32],[5,29,5,30],[4,34,4,37],[5,34,5,35],[1,1,1,2],[5,13,5,14],[18,13,18,14],[19,13,19,14],[4,19,4,22],[5,19,5,20]]}
["Report for:!M526B30.105"]
["Date:","<date>"]
["Hen:","<hen>",null,null,null,"Correct Sequence",{"$f":"Start!J2","v":211},null,null,null,null,null,null,null,null,"Total Sequences in Data",{"$f":"4994-COUNTBLANK(L7:L5000)","v":48},null,null,null,null,"Total Sequences in Block Data",{"$f":"COUNTA(L7:L14)","v":8},null,null,null,"Total Sequences in Block Data",{"$f":"COUNTA(L15:L22)","v":8},null,null,null,"Total Sequences in Block Data",{"$f":"COUNTA(L23:L30)","v":8},null,null,null,"Total Sequences in Block Data",{"$f":"COUNTA(L31:L38)","v":8},null,null,null,"Total Sequences in Block Data",{"$f":"COUNTA(L39:L46)","v":8},null,null,null,"Total Sequences in Block Data",{"$f":"COUNTA(L47:L54)","v":8}]
[null,null,null,null,null,null,null,null,null,null,null,null,null,null,null,"Total Sequences in Summary",{"$f":"SUM(O7:O14)","v":48},null,null,null,null,"Total Sequences in Block Summary",{"$f":"SUM(U7:U14)","v":8},null,null,null,"Total Sequences in Block Summary",{"$f":"SUM(Z7:Z14)","v":8},null,null,null,"Total Sequences in Block Summary",{"$f":"SUM(AE7:AE14)","v":8},null,null,null,"Total Sequences in Block Summary",{"$f":"SUM(AJ7:AJ14)","v":8},null,null,null,"Total Sequences in Block Summary",{"$f":"SUM(AO7:AO14)","v":8},null,null,null,"Total Sequences in Block Summary",{"$f":"SUM(AT7:AT14)","v":8}]
[null,null,null,null,null,null,null,null,null,null,null,null,null,null,null,null,null,null,null,"Block 1",null,null,null,null,"Block 2",null,null,null,null,"Block 3",null,null,null,null,"Block 4",null,null,null,null,"Block 5",null,null,null,null,"Block 6"]
["Sequence\nComponent\n1","Time\n1","Sequence\nComponent\n2","Time\n2","Sequence\nComponent\n3","Time\n3","Sequence\nComponent\n4","Time\n4","Sequence\nComponent\n5","Time\n5","Correct?\n0=No 1=Yes","Sequence",null,"Frequency",null,"Relative Frequency","Variability",null,null,"Frequency",null,"Relative Frequency","Variability",null,"Frequency",null,"Relative Frequency","Variability",null,"Frequency",null,"Relative Frequency","Variability",null,"Frequency",null,"Relative Frequency","Variability",null,"Frequency",null,"Relative Frequency","Variability",null,"Frequency",null,"Relative Frequency","Variability"]
[21,20,11,32,11,38,null,null,null,null,0,211,null,111,{"$f":"COUNTIF($L$7:$L$500,N7)","v":7},{"$f":"O7/$Q$4","v":0.14583333333333334},{"$f":"IF(P7=0,0,(P7*((LOG(P7))/LOG(2))))","v":-0.40506777188843468},null,null,{"$f":"N7","v":111},{"$f":"COUNTIF(L7:L14,T7)","v":3},{"$f":"U7/(W4-U11)","v":1},{"$f":"IF(V7=0,0,(V7*((LOG(V7))/LOG(2))))","v":0},null,{"$f":"N7","v":111},{"$f":"COUNTIF(L15:L22,Y7)","v":1},{"$f":"Z7/(AB4-Z11)","v":1},{"$f":"IF(AA7=0,0,(AA7*((LOG(AA7))/LOG(2))))","v":0},null,{"$f":"N7","v":111},{"$f":"COUNTIF(L23:L30,AD7)","v":1},{"$f":"AE7/(AG4-AE11)","v":1},{"$f":"IF(AF7=0,0,(AF7*((LOG(AF7))/LOG(2))))","v":0},null,{"$f":"N7","v":111},{"$f":"COUNTIF(L31:L38,AI7)","v":2},{"$f":"AJ7/(AL4-AJ11)","v":1},{"$f":"IF(AK7=0,0,(AK7*((LOG(AK7))/LOG(2))))","v":0},null,{"$f":"N7","v":111},{"$f":"COUNTIF(L39:L46,AN7)","v":0},{"$f":"AO7/(AQ4-AO11)","v":0},{"$f":"IF(AP7=0,0,(AP7*((LOG(AP7))/LOG(2))))","v":0},null,{"$f":"N7","v":111},{"$f":"COUNTIF(L47:L54,AS7)","v":0},{"$f":"AT7/(AV4-AT11)","v":{"$error":"#DIV/0!"}},{"$f":"IF(AU7=0,0,(AU7*((LOG(AU7))/LOG(2))))","v":{"$error":"#DIV/0!"}}]
[12,147,13,152,13,168,null,null,null,null,0,111,null,112,{"$f":"COUNTIF($L$7:$L$500,N8)","v":2},{"$f":"O8/$Q$4","v":4.1666666666666664E-2},{"$f":"IF(P8=0,0,(P8*((LOG(P8))/LOG(2))))","v":-0.19104010419671485},null,null,{"$f":"N8","v":112},{"$f":"COUNTIF(L7:L14,T8)","v":0},{"$f":"U8/(W4-U11)","v":0},{"$f":"IF(V8=0,0,(V8*((LOG(V8))/LOG(2))))","v":0},null,{"$f":"N8","v":112},{"$f":"COUNTIF(L15:L22,Y8)","v":0},{"$f":"Z8/(AB4-Z11)","v":0},{"$f":"IF(AA8=0,0,(AA8*((LOG(AA8))/LOG(2))))","v":0},null,{"$f":"N8","v":112},{"$f":"COUNTIF(L23:L30,AD8)","v":0},{"$f":"AE8/(AG4-AE11)","v":0},{"$f":"IF(AF8=0,0,(AF8*((LOG(AF8))/LOG(2))))","v":0},null,{"$f":"N8","v":112},{"$f":"COUNTIF(L31:L38,AI8)","v":0},{"$f":"AJ8/(AL4-AJ11)","v":0},{"$f":"IF(AK8=0,0,(AK8*((LOG(AK8))/LOG(2))))","v":0},null,{"$f":"N8","v":112},{"$f":"COUNTIF(L39:L46,AN8)","v":2},{"$f":"AO8/(AQ4-AO11)","v":1},{"$f":"IF(AP8=0,0,(AP8*((LOG(AP8))/LOG(2))))","v":0},null,{"$f":"N8","v":112},{"$f":"COUNTIF(L47:L54,AS8)","v":0},{"$f":"AT8/(AV4-AT11)","v":{"$error":"#DIV/0!"}},{"$f":"IF(AU8=0,0,(AU8*((LOG(AU8))/LOG(2))))","v":{"$error":"#DIV/0!"}}]
[21,277,11,287,11,293,null,null,null,null,0,211,null,121,{"$f":"COUNTIF($L$7:$L$500,N9)","v":0},{"$f":"O9/$Q$4","v":0},{"$f":"IF(P9=0,0,(P9*((LOG(P9))/LOG(2))))","v":0},null,null,{"$f":"N9","v":121},{"$f":"COUNTIF(L7:L14,T9)","v":0},{"$f":"U9/(W4-U11)","v":0},{"$f":"IF(V9=0,0,(V9*((LOG(V9))/LOG(2))))","v":0},null,{"$f":"N9","v":121},{"$f":"COUNTIF(L15:L22,Y9)","v":0},{"$f":"Z9/(AB4-Z11)","v":0},{"$f":"IF(AA9=0,0,(AA9*((LOG(AA9))/LOG(2))))","v":0},null,{"$f":"N9","v":121},{"$f":"COUNTIF(L23:L30,AD9)","v":0},{"$f":"AE9/(AG4-AE11)","v":0},{"$f":"IF(AF9=0,0,(AF9*((LOG(AF9))/LOG(2))))","v":0},null,{"$f":"N9","v":121},{"$f":"COUNTIF(L31:L38,AI9)","v":0},{"$f":"AJ9/(AL4-AJ11)","v":0},{"$f":"IF(AK9=0,0,(AK9*((LOG(AK9))/LOG(2))))","v":0},null,{"$f":"N9","v":121},{"$f":"COUNTIF(L39:L46,AN9)","v":0},{"$f":"AO9/(AQ4-AO11)","v":0},{"$f":"IF(AP9=0,0,(AP9*((LOG(AP9))/LOG(2))))","v":0},null,{"$f":"N9","v":121},{"$f":"COUNTIF(L47:L54,AS9)","v":0},{"$f":"AT9/(AV4-AT11)","v":{"$error":"#DIV/0!"}},{"$f":"IF(AU9=0,0,(AU9*((LOG(AU9))/LOG(2))))","v":{"$error":"#DIV/0!"}}]
[21,388,11,398,11,411,null,null,null,null,0,211,null,122,{"$f":"COUNTIF($L$7:$L$500,N10)","v":0},{"$f":"O10/$Q$4","v":0},{"$f":"IF(P10=0,0,(P10*((LOG(P10))/LOG(2))))","v":0},null,null,{"$f":"N10","v":122},{"$f":"COUNTIF(L7:L14,T10)","v":0},{"$f":"U10/(W4-U11)","v":0},{"$f":"IF(V10=0,0,(V10*((LOG(V10))/LOG(2))))","v":0},null,{"$f":"N10","v":122},{"$f":"COUNTIF(L15:L22,Y10)","v":0},{"$f":"Z10/(AB4-Z11)","v":0},{"$f":"IF(AA10=0,0,(AA10*((LOG(AA10))/LOG(2))))","v":0},null,{"$f":"N10","v":122},{"$f":"COUNTIF(L23:L30,AD10)","v":0},{"$f":"AE10/(AG4-AE11)","v":0},{"$f":"IF(AF10=0,0,(AF10*((LOG(AF10))/LOG(2))))","v":0},null,{"$f":"N10","v":122},{"$f":"COUNTIF(L31:L38,AI10)","v":0},{"$f":"AJ10/(AL4-AJ11)","v":0},{"$f":"IF(AK10=0,0,(AK10*((LOG(AK10))/LOG(2))))","v":0},null,{"$f":"N10","v":122},{"$f":"COUNTIF(L39:L46,AN10)","v":0},{"$f":"AO10/(AQ4-AO11)","v":0},{"$f":"IF(AP10=0,0,(AP10*((LOG(AP10))/LOG(2))))","v":0},null,{"$f":"N10","v":122},{"$f":"COUNTIF(L47:L54,AS10)","v":0},{"$f":"AT10/(AV4-AT11)","v":{"$error":"#DIV/0!"}},{"$f":"IF(AU10=0,0,(AU10*((LOG(AU10))/LOG(2))))","v":{"$error":"#DIV/0!"}}]
[21,503,11,512,11,517,null,null,null,null,0,211,null,211,{"$f":"COUNTIF($L$7:$L$500,N11)","v":39},{"$f":"O11/$Q$4","v":0.8125},{"$f":"IF(P11=0,0,(P11*((LOG(P11))/LOG(2))))","v":-0.24339272901036266},null,null,{"$f":"N11","v":211},{"$f":"COUNTIF(L7:L14,T11)","v":5},null,null,null,{"$f":"N11","v":211},{"$f":"COUNTIF(L15:L22,Y11)","v":7},null,null,null,{"$f":"N11","v":211},{"$f":"COUNTIF(L23:L30,AD11)","v":7},null,null,null,{"$f":"N11","v":211},{"$f":"COUNTIF(L31:L38,AI11)","v":6},null,null,null,{"$f":"N11","v":211},{"$f":"COUNTIF(L39:L46,AN11)","v":6},null,null,null,{"$f":"N11","v":211},{"$f":"COUNTIF(L47:L54,AS11)","v":8}]
[21,620,11,629,11,635,null,null,null,null,0,211,null,212,{"$f":"COUNTIF($L$7:$L$500,N12)","v":0},{"$f":"O12/$Q$4","v":0},{"$f":"IF(P12=0,0,(P12*((LOG(P12))/LOG(2))))","v":0},null,null,{"$f":"N12","v":212},{"$f":"COUNTIF(L7:L14,T12)","v":0},{"$f":"U12/(W4-U11)","v":0},{"$f":"IF(V12=0,0,(V12*((LOG(V12))/LOG(2))))","v":0},null,{"$f":"N12","v":212},{"$f":"COUNTIF(L15:L22,Y12)","v":0},{"$f":"Z12/(AB4-Z11)","v":0},{"$f":"IF(AA12=0,0,(AA12*((LOG(AA12))/LOG(2))))","v":0},null,{"$f":"N12","v":212},{"$f":"COUNTIF(L23:L30,AD12)","v":0},{"$f":"AE12/(AG4-AE11)","v":0},{"$f":"IF(AF12=0,0,(AF12*((LOG(AF12))/LOG(2))))","v":0},null,{"$f":"N12","v":212},{"$f":"COUNTIF(L31:L38,AI12)","v":0},{"$f":"AJ12/(AL4-AJ11)","v":0},{"$f":"IF(AK12=0,0,(AK12*((LOG(AK12))/LOG(2))))","v":0},null,{"$f":"N12","v":212},{"$f":"COUNTIF(L39:L46,AN12)","v":0},{"$f":"AO12/(AQ4-AO11)","v":0},{"$f":"IF(AP12=0,0,(AP12*((LOG(AP12))/LOG(2))))","v":0},null,{"$f":"N12","v":212},{"$f":"COUNTIF(L47:L54,AS12)","v":0},{"$f":"AT12/(AV4-AT11)","v":{"$error":"#DIV/0!"}},{"$f":"IF(AU12=0,0,(AU12*((LOG(AU12))/LOG(2))))","v":{"$error":"#DIV/0!"}}]
[12,746,13,752,13,774,null,null,null,null,0,111,null,221,{"$f":"COUNTIF($L$7:$L$500,N13)","v":0},{"$f":"O13/$Q$4","v":0},{"$f":"IF(P13=0,0,(P13*((LOG(P13))/LOG(2))))","v":0},null,null,{"$f":"N13","v":221},{"$f":"COUNTIF(L7:L14,T13)","v":0},{"$f":"U13/(W4-U11)","v":0},{"$f":"IF(V13=0,0,(V13*((LOG(V13))/LOG(2))))","v":0},null,{"$f":"N13","v":221},{"$f":"COUNTIF(L15:L22,Y13)","v":0},{"$f":"Z13/(AB4-Z11)","v":0},{"$f":"IF(AA13=0,0,(AA13*((LOG(AA13))/LOG(2))))","v":0},null,{"$f":"N13","v":221},{"$f":"COUNTIF(L23:L30,AD13)","v":0},{"$f":"AE13/(AG4-AE11)","v":0},{"$f":"IF(AF13=0,0,(AF13*((LOG(AF13))/LOG(2))))","v":0},null,{"$f":"N13","v":221},{"$f":"COUNTIF(L31:L38,AI13)","v":0},{"$f":"AJ13/(AL4-AJ11)","v":0},{"$f":"IF(AK13=0,0,(AK13*((LOG(AK13))/LOG(2))))","v":0},null,{"$f":"N13","v":221},{"$f":"COUNTIF(L39:L46,AN13)","v":0},{"$f":"AO13/(AQ4-AO11)","v":0},{"$f":"IF(AP13=0,0,(AP13*((LOG(AP13))/LOG(2))))","v":0},null,{"$f":"N13","v":221},{"$f":"COUNTIF(L47:L54,AS13)","v":0},{"$f":"AT13/(AV4-AT11)","v":{"$error":"#DIV/0!"}},{"$f":"IF(AU13=0,0,(AU13*((LOG(AU13))/LOG(2))))","v":{"$error":"#DIV/0!"}}]
[12,886,13,895,13,979,null,null,null,null,0,111,null,222,{"$f":"COUNTIF($L$7:$L$500,N14)","v":0},{"$f":"O14/$Q$4","v":0},{"$f":"IF(P14=0,0,(P14*((LOG(P14))/LOG(2))))","v":0},null,null,{"$f":"N14","v":222},{"$f":"COUNTIF(L7:L14,T14)","v":0},{"$f":"U14/(W4-U11)","v":0},{"$f":"IF(V14=0,0,(V14*((LOG(V14))/LOG(2))))","v":0},null,{"$f":"N14","v":222},{"$f":"COUNTIF(L15:L22,Y14)","v":0},{"$f":"Z14/(AB4-Z11)","v":0},{"$f":"IF(AA14=0,0,(AA14*((LOG(AA14))/LOG(2))))","v":0},null,{"$f":"N14","v":222},{"$f":"COUNTIF(L23:L30,AD14)","v":0},{"$f":"AE14/(AG4-AE11)","v":0},{"$f":"IF(AF14=0,0,(AF14*((LOG(AF14))/LOG(2))))","v":0},null,{"$f":"N14","v":222},{"$f":"COUNTIF(L31:L38,AI14)","v":0},{"$f":"AJ14/(AL4-AJ11)","v":0},{"$f":"IF(AK14=0,0,(AK14*((LOG(AK14))/LOG(2))))","v":0},null,{"$f":"N14","v":222},{"$f":"COUNTIF(L39:L46,AN14)","v":0},{"$f":"AO14/(AQ4-AO11)","v":0},{"$f":"IF(AP14=0,0,(AP14*((LOG(AP14))/LOG(2))))","v":0},null,{"$f":"N14","v":222},{"$f":"COUNTIF(L47:L54,AS14)","v":0},{"$f":"AT14/(AV4-AT11)","v":{"$error":"#DIV/0!"}},{"$f":"IF(AU14=0,0,(AU14*((LOG(AU14))/LOG(2))))","v":{"$error":"#DIV/0!"}}]
[12,1096,13,1106,13,1115,null,null,null,null,0,111,null,null,null,{"$f":"SUM(P7:P14)","v":1},{"$f":"-SUM(Q7:Q14)","v":0.83950060509551216},null,null,null,null,{"$f":"SUM(V7:V14)","v":1},{"$f":"-SUM(W7:W14)","v":0},null,null,null,{"$f":"SUM(AA7:AA14)","v":1},{"$f":"-SUM(AB7:AB14)","v":0},null,null,null,{"$f":"SUM(AF7:AF14)","v":1},{"$f":"-SUM(AG7:AG14)","v":0},null,null,null,{"$f":"SUM(AK7:AK14)","v":1},{"$f":"-SUM(AL7:AL14)","v":0},null,null,null,{"$f":"SUM(AP7:AP14)","v":1},{"$f":"-SUM(AQ7:AQ14)","v":0},null,null,null,{"$f":"SUM(AU7:AU14)","v":{"$error":"#DIV/0!"}},{"$f":"-SUM(AV7:AV14)","v":{"$error":"#DIV/0!"}}]
[21,1220,11,1230,11,1240,null,null,null,null,0,211,null,null,null,"U=",{"$f":"Q15/(LOG(Q4)/LOG(2))","v":0.1503144568987011},null,null,null,null,"U1=",{"$f":"W15/(LOG(W4)/LOG(2))","v":0},null,null,null,"U2=",{"$f":"AB15/(LOG(AB4)/LOG(2))","v":0},null,null,null,"U3=",{"$f":"AG15/(LOG(AG4)/LOG(2))","v":0},null,null,null,"U4=",{"$f":"AL15/(LOG(AL4)/LOG(2))","v":0},null,null,null,"U5=",{"$f":"AQ15/(LOG(AQ4)/LOG(2))","v":0},null,null,null,"U6=",{"$f":"AV15/(LOG(AV4)/LOG(2))","v":{"$error":"#DIV/0!"}}]
[21,1344,11,1353,11,1361,null,null,null,null,0,211]
[21,1449,11,1484,11,1494,null,null,null,null,0,211]
[21,1584,11,1592,11,1601,null,null,null,null,0,211,null,"Total Target Seq"]
[21,1696,11,1705,11,1713,null,null,null,null,0,211,null,{"$f":"COUNTIF(L7:L54,G3)","v":39},null,8,8,8,8,8,8]
[21,1803,11,1811,11,1816,null,null,null,null,0,211,null,null,null,"% of reinforcement given in 6 equal intervals based on number of trials "]
[21,1911,11,1917,11,1923,null,null,null,null,0,211,null,null,null,"%_1","%_2","%_3","%_4","%_5","%_6"]
[21,2013,11,2022,11,2026,null,null,null,null,0,211,null,null,"target sequence",{"$f":"$G$3","v":211},{"$f":"$G$3","v":211},{"$f":"$G$3","v":211},{"$f":"$G$3","v":211},{"$f":"$G$3","v":211},{"$f":"$G$3","v":211}]
[21,2119,11,2126,11,2135,null,null,null,null,0,211,null,null,"total reinforcement",{"$f":"U11","v":5},{"$f":"Z11","v":7},{"$f":"AE11","v":7},{"$f":"AJ11","v":6},{"$f":"AO11","v":6},{"$f":"AT11","v":8}]
[21,2229,11,2237,11,2245,null,null,null,null,0,211,null,null,"% target"]
[12,2347,13,2356,13,2367,null,null,null,null,0,111,null,null,"CCRF"]
[21,2467,11,2473,11,2478,null,null,null,null,0,211,null,null,"% CCRf"]
[21,2573,11,2581,11,2589,null,null,null,null,0,211,null,null,"average response rate",{"$f":"F14/P20","v":122.375},{"$f":"(F22-F14)/Q20","v":118},{"$f":"(F30-F22)/R20","v":110.875},{"$f":"(F38-F30)/S20","v":112.75},{"$f":"(F46-F38)/T20","v":139.875},{"$f":"(F54-F46)/U20","v":113}]
[21,2682,11,2690,11,2697,null,null,null,null,0,211]
[21,2792,11,2800,11,2810,null,null,null,null,0,211]
[21,2912,11,2921,11,2929,null,null,null,null,0,211]
[21,3018,11,3024,11,3029,null,null,null,null,0,211]
[21,3120,11,3129,11,3138,null,null,null,null,0,211]
[21,3240,11,3249,11,3258,null,null,null,null,0,211]
[21,3353,11,3358,11,3363,null,null,null,null,0,211]
[21,3456,11,3462,11,3467,null,null,null,null,0,211]
[12,3564,13,3570,13,3584,null,null,null,null,0,111]
[12,3693,13,3698,13,3712,null,null,null,null,0,111]
[21,3813,11,3821,11,3831,null,null,null,null,0,211]
[21,3922,11,3930,11,3939,null,null,null,null,0,211]
[21,4030,11,4038,11,4043,null,null,null,null,0,211]
[12,4148,13,4158,24,4275,null,null,null,null,0,112]
[12,4374,13,4379,24,4495,null,null,null,null,0,112]
[21,4596,11,4605,11,4611,null,null,null,null,0,211]
[21,4706,11,4714,11,4724,null,null,null,null,0,211]
[21,4813,11,4821,11,4831,null,null,null,null,0,211]
[21,4924,11,4932,11,4946,null,null,null,null,0,211]
[21,5036,11,5044,11,5053,null,null,null,null,0,211]
[21,5147,11,5153,11,5164,null,null,null,null,0,211]
[21,5254,11,5262,11,5268,null,null,null,null,0,211]
[21,5358,11,5366,11,5372,null,null,null,null,0,211]
[21,5461,11,5468,11,5477,null,null,null,null,0,211]
[21,5571,11,5580,11,5610,null,null,null,null,0,211]
[21,5707,11,5714,11,5735,null,null,null,null,1,211]

{"sheet":"!M527B30.105","index":27,"n_rows":59,"n_cols":48,"rows_kept":59,"cut":false,"hidden":false,"merged":[[4,39,4,42],[5,39,5,40],[4,44,4,47],[5,44,5,45],[4,24,4,27],[5,24,5,25],[4,29,4,32],[5,29,5,30],[4,34,4,37],[5,34,5,35],[1,1,1,2],[5,13,5,14],[18,13,18,14],[19,13,19,14],[4,19,4,22],[5,19,5,20]]}
["Report for:!M527B30.105"]
["Date:","<date>"]
["Hen:","<hen>",null,null,null,"Correct Sequence",{"$f":"Start!J2","v":211},null,null,null,null,null,null,null,null,"Total Sequences in Data",{"$f":"4994-COUNTBLANK(L7:L5000)","v":53},null,null,null,null,"Total Sequences in Block Data",{"$f":"COUNTA(L7:L15)","v":9},null,null,null,"Total Sequences in Block Data",{"$f":"COUNTA(L16:L24)","v":9},null,null,null,"Total Sequences in Block Data",{"$f":"COUNTA(L25:L32)","v":8},null,null,null,"Total Sequences in Block Data",{"$f":"COUNTA(L33:L41)","v":9},null,null,null,"Total Sequences in Block Data",{"$f":"COUNTA(L42:L50)","v":9},null,null,null,"Total Sequences in Block Data",{"$f":"COUNTA(L51:L59)","v":9}]
[null,null,null,null,null,null,null,null,null,null,null,null,null,null,null,"Total Sequences in Summary",{"$f":"SUM(O7:O14)","v":53},null,null,null,null,"Total Sequences in Block Summary",{"$f":"SUM(U7:U14)","v":9},null,null,null,"Total Sequences in Block Summary",{"$f":"SUM(Z7:Z14)","v":9},null,null,null,"Total Sequences in Block Summary",{"$f":"SUM(AE7:AE14)","v":8},null,null,null,"Total Sequences in Block Summary",{"$f":"SUM(AJ7:AJ14)","v":9},null,null,null,"Total Sequences in Block Summary",{"$f":"SUM(AO7:AO14)","v":9},null,null,null,"Total Sequences in Block Summary",{"$f":"SUM(AT7:AT14)","v":9}]
[null,null,null,null,null,null,null,null,null,null,null,null,null,null,null,null,null,null,null,"Block 1",null,null,null,null,"Block 2",null,null,null,null,"Block 3",null,null,null,null,"Block 4",null,null,null,null,"Block 5",null,null,null,null,"Block 6"]
["Sequence\nComponent\n1","Time\n1","Sequence\nComponent\n2","Time\n2","Sequence\nComponent\n3","Time\n3","Sequence\nComponent\n4","Time\n4","Sequence\nComponent\n5","Time\n5","Correct?\n0=No 1=Yes","Sequence",null,"Frequency",null,"Relative Frequency","Variability",null,null,"Frequency",null,"Relative Frequency","Variability",null,"Frequency",null,"Relative Frequency","Variability",null,"Frequency",null,"Relative Frequency","Variability",null,"Frequency",null,"Relative Frequency","Variability",null,"Frequency",null,"Relative Frequency","Variability",null,"Frequency",null,"Relative Frequency","Variability"]
[21,15,11,24,11,35,null,null,null,null,0,211,null,111,{"$f":"COUNTIF($L$7:$L$500,N7)","v":11},{"$f":"O7/$Q$4","v":0.20754716981132076},{"$f":"IF(P7=0,0,(P7*((LOG(P7))/LOG(2))))","v":-0.47081843764499853},null,null,{"$f":"N7","v":111},{"$f":"COUNTIF(L7:L15,T7)","v":3},{"$f":"U7/(W4-U11)","v":0.75},{"$f":"IF(V7=0,0,(V7*((LOG(V7))/LOG(2))))","v":-0.31127812445913283},null,{"$f":"N7","v":111},{"$f":"COUNTIF(L16:L24,Y7)","v":0},{"$f":"Z7/(AB4-Z11)","v":0},{"$f":"IF(AA7=0,0,(AA7*((LOG(AA7))/LOG(2))))","v":0},null,{"$f":"N7","v":111},{"$f":"COUNTIF(L25:L32,AD7)","v":0},{"$f":"AE7/(AG4-AE11)","v":{"$error":"#DIV/0!"}},{"$f":"IF(AF7=0,0,(AF7*((LOG(AF7))/LOG(2))))","v":{"$error":"#DIV/0!"}},null,{"$f":"N7","v":111},{"$f":"COUNTIF(L33:L41,AI7)","v":2},{"$f":"AJ7/(AL4-AJ11)","v":1},{"$f":"IF(AK7=0,0,(AK7*((LOG(AK7))/LOG(2))))","v":0},null,{"$f":"N7","v":111},{"$f":"COUNTIF(L42:L50,AN7)","v":3},{"$f":"AO7/(AQ4-AO11)","v":1},{"$f":"IF(AP7=0,0,(AP7*((LOG(AP7))/LOG(2))))","v":0},null,{"$f":"N7","v":111},{"$f":"COUNTIF(L51:L59,AS7)","v":3},{"$f":"AT7/(AV4-AT11)","v":0.75},{"$f":"IF(AU7=0,0,(AU7*((LOG(AU7))/LOG(2))))","v":-0.31127812445913283}]
[21,129,11,139,11,149,null,null,null,null,0,211,null,112,{"$f":"COUNTIF($L$7:$L$500,N8)","v":2},{"$f":"O8/$Q$4","v":3.7735849056603772E-2},{"$f":"IF(P8=0,0,(P8*((LOG(P8))/LOG(2))))","v":-0.17841209262502639},null,null,{"$f":"N8","v":112},{"$f":"COUNTIF(L7:L15,T8)","v":0},{"$f":"U8/(W4-U11)","v":0},{"$f":"IF(V8=0,0,(V8*((LOG(V8))/LOG(2))))","v":0},null,{"$f":"N8","v":112},{"$f":"COUNTIF(L16:L24,Y8)","v":1},{"$f":"Z8/(AB4-Z11)","v":1},{"$f":"IF(AA8=0,0,(AA8*((LOG(AA8))/LOG(2))))","v":0},null,{"$f":"N8","v":112},{"$f":"COUNTIF(L25:L32,AD8)","v":0},{"$f":"AE8/(AG4-AE11)","v":{"$error":"#DIV/0!"}},{"$f":"IF(AF8=0,0,(AF8*((LOG(AF8))/LOG(2))))","v":{"$error":"#DIV/0!"}},null,{"$f":"N8","v":112},{"$f":"COUNTIF(L33:L41,AI8)","v":0},{"$f":"AJ8/(AL4-AJ11)","v":0},{"$f":"IF(AK8=0,0,(AK8*((LOG(AK8))/LOG(2))))","v":0},null,{"$f":"N8","v":112},{"$f":"COUNTIF(L42:L50,AN8)","v":0},{"$f":"AO8/(AQ4-AO11)","v":0},{"$f":"IF(AP8=0,0,(AP8*((LOG(AP8))/LOG(2))))","v":0},null,{"$f":"N8","v":112},{"$f":"COUNTIF(L51:L59,AS8)","v":1},{"$f":"AT8/(AV4-AT11)","v":0.25},{"$f":"IF(AU8=0,0,(AU8*((LOG(AU8))/LOG(2))))","v":-0.5}]
[21,243,11,249,11,254,null,null,null,null,0,211,null,121,{"$f":"COUNTIF($L$7:$L$500,N9)","v":0},{"$f":"O9/$Q$4","v":0},{"$f":"IF(P9=0,0,(P9*((LOG(P9))/LOG(2))))","v":0},null,null,{"$f":"N9","v":121},{"$f":"COUNTIF(L7:L15,T9)","v":0},{"$f":"U9/(W4-U11)","v":0},{"$f":"IF(V9=0,0,(V9*((LOG(V9))/LOG(2))))","v":0},null,{"$f":"N9","v":121},{"$f":"COUNTIF(L16:L24,Y9)","v":0},{"$f":"Z9/(AB4-Z11)","v":0},{"$f":"IF(AA9=0,0,(AA9*((LOG(AA9))/LOG(2))))","v":0},null,{"$f":"N9","v":121},{"$f":"COUNTIF(L25:L32,AD9)","v":0},{"$f":"AE9/(AG4-AE11)","v":{"$error":"#DIV/0!"}},{"$f":"IF(AF9=0,0,(AF9*((LOG(AF9))/LOG(2))))","v":{"$error":"#DIV/0!"}},null,{"$f":"N9","v":121},{"$f":"COUNTIF(L33:L41,AI9)","v":0},{"$f":"AJ9/(AL4-AJ11)","v":0},{"$f":"IF(AK9=0,0,(AK9*((LOG(AK9))/LOG(2))))","v":0},null,{"$f":"N9","v":121},{"$f":"COUNTIF(L42:L50,AN9)","v":0},{"$f":"AO9/(AQ4-AO11)","v":0},{"$f":"IF(AP9=0,0,(AP9*((LOG(AP9))/LOG(2))))","v":0},null,{"$f":"N9","v":121},{"$f":"COUNTIF(L51:L59,AS9)","v":0},{"$f":"AT9/(AV4-AT11)","v":0},{"$f":"IF(AU9=0,0,(AU9*((LOG(AU9))/LOG(2))))","v":0}]
[12,364,13,373,13,404,null,null,null,null,0,111,null,122,{"$f":"COUNTIF($L$7:$L$500,N10)","v":0},{"$f":"O10/$Q$4","v":0},{"$f":"IF(P10=0,0,(P10*((LOG(P10))/LOG(2))))","v":0},null,null,{"$f":"N10","v":122},{"$f":"COUNTIF(L7:L15,T10)","v":0},{"$f":"U10/(W4-U11)","v":0},{"$f":"IF(V10=0,0,(V10*((LOG(V10))/LOG(2))))","v":0},null,{"$f":"N10","v":122},{"$f":"COUNTIF(L16:L24,Y10)","v":0},{"$f":"Z10/(AB4-Z11)","v":0},{"$f":"IF(AA10=0,0,(AA10*((LOG(AA10))/LOG(2))))","v":0},null,{"$f":"N10","v":122},{"$f":"COUNTIF(L25:L32,AD10)","v":0},{"$f":"AE10/(AG4-AE11)","v":{"$error":"#DIV/0!"}},{"$f":"IF(AF10=0,0,(AF10*((LOG(AF10))/LOG(2))))","v":{"$error":"#DIV/0!"}},null,{"$f":"N10","v":122},{"$f":"COUNTIF(L33:L41,AI10)","v":0},{"$f":"AJ10/(AL4-AJ11)","v":0},{"$f":"IF(AK10=0,0,(AK10*((LOG(AK10))/LOG(2))))","v":0},null,{"$f":"N10","v":122},{"$f":"COUNTIF(L42:L50,AN10)","v":0},{"$f":"AO10/(AQ4-AO11)","v":0},{"$f":"IF(AP10=0,0,(AP10*((LOG(AP10))/LOG(2))))","v":0},null,{"$f":"N10","v":122},{"$f":"COUNTIF(L51:L59,AS10)","v":0},{"$f":"AT10/(AV4-AT11)","v":0},{"$f":"IF(AU10=0,0,(AU10*((LOG(AU10))/LOG(2))))","v":0}]
[12,510,13,515,13,533,null,null,null,null,0,111,null,211,{"$f":"COUNTIF($L$7:$L$500,N11)","v":39},{"$f":"O11/$Q$4","v":0.73584905660377353},{"$f":"IF(P11=0,0,(P11*((LOG(P11))/LOG(2))))","v":-0.32562662627051103},null,null,{"$f":"N11","v":211},{"$f":"COUNTIF(L7:L15,T11)","v":5},null,null,null,{"$f":"N11","v":211},{"$f":"COUNTIF(L16:L24,Y11)","v":8},null,null,null,{"$f":"N11","v":211},{"$f":"COUNTIF(L25:L32,AD11)","v":8},null,null,null,{"$f":"N11","v":211},{"$f":"COUNTIF(L33:L41,AI11)","v":7},null,null,null,{"$f":"N11","v":211},{"$f":"COUNTIF(L42:L50,AN11)","v":6},null,null,null,{"$f":"N11","v":211},{"$f":"COUNTIF(L51:L59,AS11)","v":5}]
[21,634,11,644,11,650,null,null,null,null,0,211,null,212,{"$f":"COUNTIF($L$7:$L$500,N12)","v":1},{"$f":"O12/$Q$4","v":1.8867924528301886E-2},{"$f":"IF(P12=0,0,(P12*((LOG(P12))/LOG(2))))","v":-0.10807397084081509},null,null,{"$f":"N12","v":212},{"$f":"COUNTIF(L7:L15,T12)","v":1},{"$f":"U12/(W4-U11)","v":0.25},{"$f":"IF(V12=0,0,(V12*((LOG(V12))/LOG(2))))","v":-0.5},null,{"$f":"N12","v":212},{"$f":"COUNTIF(L16:L24,Y12)","v":0},{"$f":"Z12/(AB4-Z11)","v":0},{"$f":"IF(AA12=0,0,(AA12*((LOG(AA12))/LOG(2))))","v":0},null,{"$f":"N12","v":212},{"$f":"COUNTIF(L25:L32,AD12)","v":0},{"$f":"AE12/(AG4-AE11)","v":{"$error":"#DIV/0!"}},{"$f":"IF(AF12=0,0,(AF12*((LOG(AF12))/LOG(2))))","v":{"$error":"#DIV/0!"}},null,{"$f":"N12","v":212},{"$f":"COUNTIF(L33:L41,AI12)","v":0},{"$f":"AJ12/(AL4-AJ11)","v":0},{"$f":"IF(AK12=0,0,(AK12*((LOG(AK12))/LOG(2))))","v":0},null,{"$f":"N12","v":212},{"$f":"COUNTIF(L42:L50,AN12)","v":0},{"$f":"AO12/(AQ4-AO11)","v":0},{"$f":"IF(AP12=0,0,(AP12*((LOG(AP12))/LOG(2))))","v":0},null,{"$f":"N12","v":212},{"$f":"COUNTIF(L51:L59,AS12)","v":0},{"$f":"AT12/(AV4-AT11)","v":0},{"$f":"IF(AU12=0,0,(AU12*((LOG(AU12))/LOG(2))))","v":0}]
[21,743,11,750,11,756,null,null,null,null,0,211,null,221,{"$f":"COUNTIF($L$7:$L$500,N13)","v":0},{"$f":"O13/$Q$4","v":0},{"$f":"IF(P13=0,0,(P13*((LOG(P13))/LOG(2))))","v":0},null,null,{"$f":"N13","v":221},{"$f":"COUNTIF(L7:L15,T13)","v":0},{"$f":"U13/(W4-U11)","v":0},{"$f":"IF(V13=0,0,(V13*((LOG(V13))/LOG(2))))","v":0},null,{"$f":"N13","v":221},{"$f":"COUNTIF(L16:L24,Y13)","v":0},{"$f":"Z13/(AB4-Z11)","v":0},{"$f":"IF(AA13=0,0,(AA13*((LOG(AA13))/LOG(2))))","v":0},null,{"$f":"N13","v":221},{"$f":"COUNTIF(L25:L32,AD13)","v":0},{"$f":"AE13/(AG4-AE11)","v":{"$error":"#DIV/0!"}},{"$f":"IF(AF13=0,0,(AF13*((LOG(AF13))/LOG(2))))","v":{"$error":"#DIV/0!"}},null,{"$f":"N13","v":221},{"$f":"COUNTIF(L33:L41,AI13)","v":0},{"$f":"AJ13/(AL4-AJ11)","v":0},{"$f":"IF(AK13=0,0,(AK13*((LOG(AK13))/LOG(2))))","v":0},null,{"$f":"N13","v":221},{"$f":"COUNTIF(L42:L50,AN13)","v":0},{"$f":"AO13/(AQ4-AO11)","v":0},{"$f":"IF(AP13=0,0,(AP13*((LOG(AP13))/LOG(2))))","v":0},null,{"$f":"N13","v":221},{"$f":"COUNTIF(L51:L59,AS13)","v":0},{"$f":"AT13/(AV4-AT11)","v":0},{"$f":"IF(AU13=0,0,(AU13*((LOG(AU13))/LOG(2))))","v":0}]
[12,854,13,859,13,874,null,null,null,null,0,111,null,222,{"$f":"COUNTIF($L$7:$L$500,N14)","v":0},{"$f":"O14/$Q$4","v":0},{"$f":"IF(P14=0,0,(P14*((LOG(P14))/LOG(2))))","v":0},null,null,{"$f":"N14","v":222},{"$f":"COUNTIF(L7:L15,T14)","v":0},{"$f":"U14/(W4-U11)","v":0},{"$f":"IF(V14=0,0,(V14*((LOG(V14))/LOG(2))))","v":0},null,{"$f":"N14","v":222},{"$f":"COUNTIF(L16:L24,Y14)","v":0},{"$f":"Z14/(AB4-Z11)","v":0},{"$f":"IF(AA14=0,0,(AA14*((LOG(AA14))/LOG(2))))","v":0},null,{"$f":"N14","v":222},{"$f":"COUNTIF(L25:L32,AD14)","v":0},{"$f":"AE14/(AG4-AE11)","v":{"$error":"#DIV/0!"}},{"$f":"IF(AF14=0,0,(AF14*((LOG(AF14))/LOG(2))))","v":{"$error":"#DIV/0!"}},null,{"$f":"N14","v":222},{"$f":"COUNTIF(L33:L41,AI14)","v":0},{"$f":"AJ14/(AL4-AJ11)","v":0},{"$f":"IF(AK14=0,0,(AK14*((LOG(AK14))/LOG(2))))","v":0},null,{"$f":"N14","v":222},{"$f":"COUNTIF(L42:L50,AN14)","v":0},{"$f":"AO14/(AQ4-AO11)","v":0},{"$f":"IF(AP14=0,0,(AP14*((LOG(AP14))/LOG(2))))","v":0},null,{"$f":"N14","v":222},{"$f":"COUNTIF(L51:L59,AS14)","v":0},{"$f":"AT14/(AV4-AT11)","v":0},{"$f":"IF(AU14=0,0,(AU14*((LOG(AU14))/LOG(2))))","v":0}]
[21,974,11,982,22,1085,null,null,null,null,0,212,null,null,null,{"$f":"SUM(P7:P14)","v":1},{"$f":"-SUM(Q7:Q14)","v":1.0829311273813511},null,null,null,null,{"$f":"SUM(V7:V14)","v":1},{"$f":"-SUM(W7:W14)","v":0.81127812445913283},null,null,null,{"$f":"SUM(AA7:AA14)","v":1},{"$f":"-SUM(AB7:AB14)","v":0},null,null,null,{"$f":"SUM(AF7:AF14)","v":{"$error":"#DIV/0!"}},{"$f":"-SUM(AG7:AG14)","v":{"$error":"#DIV/0!"}},null,null,null,{"$f":"SUM(AK7:AK14)","v":1},{"$f":"-SUM(AL7:AL14)","v":0},null,null,null,{"$f":"SUM(AP7:AP14)","v":1},{"$f":"-SUM(AQ7:AQ14)","v":0},null,null,null,{"$f":"SUM(AU7:AU14)","v":1},{"$f":"-SUM(AV7:AV14)","v":0.81127812445913283}]
[21,1178,11,1187,11,1195,null,null,null,null,0,211,null,null,null,"U=",{"$f":"Q15/(LOG(Q4)/LOG(2))","v":0.18906183072403257},null,null,null,null,"U1=",{"$f":"W15/(LOG(W4)/LOG(2))","v":0.25592975357145742},null,null,null,"U2=",{"$f":"AB15/(LOG(AB4)/LOG(2))","v":0},null,null,null,"U3=",{"$f":"AG15/(LOG(AG4)/LOG(2))","v":{"$error":"#DIV/0!"}},null,null,null,"U4=",{"$f":"AL15/(LOG(AL4)/LOG(2))","v":0},null,null,null,"U5=",{"$f":"AQ15/(LOG(AQ4)/LOG(2))","v":0},null,null,null,"U6=",{"$f":"AV15/(LOG(AV4)/LOG(2))","v":0.25592975357145742}]
[21,1289,11,1295,11,1305,null,null,null,null,0,211]
[21,1397,11,1405,11,1413,null,null,null,null,0,211]
[21,1503,11,1513,11,1522,null,null,null,null,0,211,null,"Total Target Seq"]
[21,1613,11,1618,11,1624,null,null,null,null,0,211,null,{"$f":"COUNTIF(L7:L59,G3)","v":39},null,9,9,8,9,9,9]
[12,1731,13,1770,24,1829,null,null,null,null,0,112,null,null,null,"% of reinforcement given in 6 equal intervals based on number of trials "]
[21,1929,11,1938,11,1946,null,null,null,null,0,211,null,null,null,"%_1","%_2","%_3","%_4","%_5","%_6"]
[21,2037,11,2045,11,2051,null,null,null,null,0,211,null,null,"target sequence",{"$f":"$G$3","v":211},{"$f":"$G$3","v":211},{"$f":"$G$3","v":211},{"$f":"$G$3","v":211},{"$f":"$G$3","v":211},{"$f":"$G$3","v":211}]
[21,2147,11,2155,11,2163,null,null,null,null,0,211,null,null,"total reinforcement",{"$f":"U11","v":5},{"$f":"Z11","v":8},{"$f":"AE11","v":8},{"$f":"AJ11","v":7},{"$f":"AO11","v":6},{"$f":"AT11","v":5}]
[21,2253,11,2259,11,2265,null,null,null,null,0,211,null,null,"% target"]
[21,2354,11,2362,11,2370,null,null,null,null,0,211,null,null,"CCRF"]
[21,2460,11,2469,11,2475,null,null,null,null,0,211,null,null,"% CCRf"]
[21,2565,11,2571,11,2595,null,null,null,null,0,211,null,null,"average response rate",{"$f":"F15/P20","v":120.55555555555556},{"$f":"(F24-F15)/Q20","v":119.77777777777777},{"$f":"(F32-F24)/R20","v":108.5},{"$f":"(F41-F32)/S20","v":123.33333333333333},{"$f":"(F50-F41)/T20","v":115.88888888888889},{"$f":"(F59-F50)/U20","v":129.88888888888889}]
[21,2685,11,2695,11,2707,null,null,null,null,0,211]
[21,2797,11,2806,11,2812,null,null,null,null,0,211]
[21,2904,11,2913,11,2923,null,null,null,null,0,211]
[21,3013,11,3021,11,3031,null,null,null,null,0,211]
[12,3130,13,3139,13,3172,null,null,null,null,0,111]
[21,3272,11,3280,11,3285,null,null,null,null,0,211]
[21,3382,11,3390,11,3395,null,null,null,null,0,211]
[21,3494,11,3502,11,3507,null,null,null,null,0,211]
[21,3600,11,3606,11,3610,null,null,null,null,0,211]
[21,3700,11,3707,11,3723,null,null,null,null,0,211]
[12,3822,13,3828,13,3920,null,null,null,null,0,111]
[21,4019,11,4027,11,4032,null,null,null,null,0,211]
[21,4130,11,4136,11,4141,null,null,null,null,0,211]
[21,4231,11,4239,11,4248,null,null,null,null,0,211]
[21,4337,11,4345,11,4351,null,null,null,null,0,211]
[12,4449,13,4454,13,4470,null,null,null,null,0,111]
[12,4585,13,4593,13,4608,null,null,null,null,0,111]
[21,4707,11,4716,11,4727,null,null,null,null,0,211]
[21,4818,11,4826,11,4845,null,null,null,null,0,211]
[21,4937,11,4944,11,4950,null,null,null,null,0,211]
[12,5050,13,5056,13,5074,null,null,null,null,0,111]
[21,5174,11,5180,11,5184,null,null,null,null,0,211]
[12,5286,13,5291,13,5298,null,null,null,null,0,111]
[21,5397,11,5406,11,5421,null,null,null,null,0,211]
[12,5528,13,5533,13,5633,null,null,null,null,0,111]
[21,5733,11,5742,11,5751,null,null,null,null,0,211]
[12,5853,13,5858,24,5906,null,null,null,null,0,112]
[21,6006,11,6015,11,6020,null,null,null,null,0,211]
[12,6124,13,6128,13,6137,null,null,null,null,0,111]
[21,6239,11,6247,11,6252,null,null,null,null,0,211]
[21,6343,11,6349,11,6353,null,null,null,null,1,211]

{"sheet":"!M528A40.105","index":28,"n_rows":131,"n_cols":48,"rows_kept":131,"cut":false,"hidden":false,"merged":[[4,39,4,42],[5,39,5,40],[4,44,4,47],[5,44,5,45],[4,24,4,27],[5,24,5,25],[4,29,4,32],[5,29,5,30],[4,34,4,37],[5,34,5,35],[1,1,1,2],[5,13,5,14],[18,13,18,14],[19,13,19,14],[4,19,4,22],[5,19,5,20]]}
["Report for:!M528A40.105"]
["Date:","<date>"]
["Hen:","<hen>",null,null,null,"Correct Sequence",{"$f":"Start!J2","v":211},null,null,null,null,null,null,null,null,"Total Sequences in Data",{"$f":"4994-COUNTBLANK(L7:L5000)","v":125},null,null,null,null,"Total Sequences in Block Data",{"$f":"COUNTA(L7:L27)","v":21},null,null,null,"Total Sequences in Block Data",{"$f":"COUNTA(L28:L48)","v":21},null,null,null,"Total Sequences in Block Data",{"$f":"COUNTA(L49:L68)","v":20},null,null,null,"Total Sequences in Block Data",{"$f":"COUNTA(L69:L89)","v":21},null,null,null,"Total Sequences in Block Data",{"$f":"COUNTA(L90:L110)","v":21},null,null,null,"Total Sequences in Block Data",{"$f":"COUNTA(L111:L131)","v":21}]
[null,null,null,null,null,null,null,null,null,null,null,null,null,null,null,"Total Sequences in Summary",{"$f":"SUM(O7:O14)","v":125},null,null,null,null,"Total Sequences in Block Summary",{"$f":"SUM(U7:U14)","v":21},null,null,null,"Total Sequences in Block Summary",{"$f":"SUM(Z7:Z14)","v":21},null,null,null,"Total Sequences in Block Summary",{"$f":"SUM(AE7:AE14)","v":20},null,null,null,"Total Sequences in Block Summary",{"$f":"SUM(AJ7:AJ14)","v":21},null,null,null,"Total Sequences in Block Summary",{"$f":"SUM(AO7:AO14)","v":21},null,null,null,"Total Sequences in Block Summary",{"$f":"SUM(AT7:AT14)","v":21}]
[null,null,null,null,null,null,null,null,null,null,null,null,null,null,null,null,null,null,null,"Block 1",null,null,null,null,"Block 2",null,null,null,null,"Block 3",null,null,null,null,"Block 4",null,null,null,null,"Block 5",null,null,null,null,"Block 6"]
["Sequence\nComponent\n1","Time\n1","Sequence\nComponent\n2","Time\n2","Sequence\nComponent\n3","Time\n3","Sequence\nComponent\n4","Time\n4","Sequence\nComponent\n5","Time\n5","Correct?\n0=No 1=Yes","Sequence",null,"Frequency",null,"Relative Frequency","Variability",null,null,"Frequency",null,"Relative Frequency","Variability",null,"Frequency",null,"Relative Frequency","Variability",null,"Frequency",null,"Relative Frequency","Variability",null,"Frequency",null,"Relative Frequency","Variability",null,"Frequency",null,"Relative Frequency","Variability",null,"Frequency",null,"Relative Frequency","Variability"]
[12,25,13,50,13,202,null,null,null,null,0,111,null,111,{"$f":"COUNTIF($L$7:$L$500,N7)","v":85},{"$f":"O7/$Q$4","v":0.68},{"$f":"IF(P7=0,0,(P7*((LOG(P7))/LOG(2))))","v":-0.378347476996582},null,null,{"$f":"N7","v":111},{"$f":"COUNTIF(L7:L27,T7)","v":7},{"$f":"U7/(W4-U11)","v":0.58333333333333337},{"$f":"IF(V7=0,0,(V7*((LOG(V7))/LOG(2))))","v":-0.45360442088707198},null,{"$f":"N7","v":111},{"$f":"COUNTIF(L28:L48,Y7)","v":5},{"$f":"Z7/(AB4-Z11)","v":0.3125},{"$f":"IF(AA7=0,0,(AA7*((LOG(AA7))/LOG(2))))","v":-0.52439747034769923},null,{"$f":"N7","v":111},{"$f":"COUNTIF(L49:L68,AD7)","v":18},{"$f":"AE7/(AG4-AE11)","v":0.9},{"$f":"IF(AF7=0,0,(AF7*((LOG(AF7))/LOG(2))))","v":-0.13680278410054494},null,{"$f":"N7","v":111},{"$f":"COUNTIF(L69:L89,AI7)","v":18},{"$f":"AJ7/(AL4-AJ11)","v":0.94736842105263153},{"$f":"IF(AK7=0,0,(AK7*((LOG(AK7))/LOG(2))))","v":-7.3897116632785129E-2},null,{"$f":"N7","v":111},{"$f":"COUNTIF(L90:L110,AN7)","v":20},{"$f":"AO7/(AQ4-AO11)","v":1},{"$f":"IF(AP7=0,0,(AP7*((LOG(AP7))/LOG(2))))","v":0},null,{"$f":"N7","v":111},{"$f":"COUNTIF(L111:L131,AS7)","v":17},{"$f":"AT7/(AV4-AT11)","v":0.80952380952380953},{"$f":"IF(AU7=0,0,(AU7*((LOG(AU7))/LOG(2))))","v":-0.24678704218967404}]
[12,313,13,333,13,343,null,null,null,null,0,111,null,112,{"$f":"COUNTIF($L$7:$L$500,N8)","v":16},{"$f":"O8/$Q$4","v":0.128},{"$f":"IF(P8=0,0,(P8*((LOG(P8))/LOG(2))))","v":-0.37962038843674717},null,null,{"$f":"N8","v":112},{"$f":"COUNTIF(L7:L27,T8)","v":3},{"$f":"U8/(W4-U11)","v":0.25},{"$f":"IF(V8=0,0,(V8*((LOG(V8))/LOG(2))))","v":-0.5},null,{"$f":"N8","v":112},{"$f":"COUNTIF(L28:L48,Y8)","v":10},{"$f":"Z8/(AB4-Z11)","v":0.625},{"$f":"IF(AA8=0,0,(AA8*((LOG(AA8))/LOG(2))))","v":-0.42379494069539858},null,{"$f":"N8","v":112},{"$f":"COUNTIF(L49:L68,AD8)","v":2},{"$f":"AE8/(AG4-AE11)","v":0.1},{"$f":"IF(AF8=0,0,(AF8*((LOG(AF8))/LOG(2))))","v":-0.33219280948873625},null,{"$f":"N8","v":112},{"$f":"COUNTIF(L69:L89,AI8)","v":0},{"$f":"AJ8/(AL4-AJ11)","v":0},{"$f":"IF(AK8=0,0,(AK8*((LOG(AK8))/LOG(2))))","v":0},null,{"$f":"N8","v":112},{"$f":"COUNTIF(L90:L110,AN8)","v":0},{"$f":"AO8/(AQ4-AO11)","v":0},{"$f":"IF(AP8=0,0,(AP8*((LOG(AP8))/LOG(2))))","v":0},null,{"$f":"N8","v":112},{"$f":"COUNTIF(L111:L131,AS8)","v":1},{"$f":"AT8/(AV4-AT11)","v":4.7619047619047616E-2},{"$f":"IF(AU8=0,0,(AU8*((LOG(AU8))/LOG(2))))","v":-0.20915797251327431}]
[12,456,13,461,13,472,null,null,null,null,0,111,null,121,{"$f":"COUNTIF($L$7:$L$500,N9)","v":5},{"$f":"O9/$Q$4","v":0.04},{"$f":"IF(P9=0,0,(P9*((LOG(P9))/LOG(2))))","v":-0.18575424759098899},null,null,{"$f":"N9","v":121},{"$f":"COUNTIF(L7:L27,T9)","v":2},{"$f":"U9/(W4-U11)","v":0.16666666666666666},{"$f":"IF(V9=0,0,(V9*((LOG(V9))/LOG(2))))","v":-0.43082708345352599},null,{"$f":"N9","v":121},{"$f":"COUNTIF(L28:L48,Y9)","v":1},{"$f":"Z9/(AB4-Z11)","v":6.25E-2},{"$f":"IF(AA9=0,0,(AA9*((LOG(AA9))/LOG(2))))","v":-0.25},null,{"$f":"N9","v":121},{"$f":"COUNTIF(L49:L68,AD9)","v":0},{"$f":"AE9/(AG4-AE11)","v":0},{"$f":"IF(AF9=0,0,(AF9*((LOG(AF9))/LOG(2))))","v":0},null,{"$f":"N9","v":121},{"$f":"COUNTIF(L69:L89,AI9)","v":1},{"$f":"AJ9/(AL4-AJ11)","v":5.2631578947368418E-2},{"$f":"IF(AK9=0,0,(AK9*((LOG(AK9))/LOG(2))))","v":-0.22357513228650452},null,{"$f":"N9","v":121},{"$f":"COUNTIF(L90:L110,AN9)","v":0},{"$f":"AO9/(AQ4-AO11)","v":0},{"$f":"IF(AP9=0,0,(AP9*((LOG(AP9))/LOG(2))))","v":0},null,{"$f":"N9","v":121},{"$f":"COUNTIF(L111:L131,AS9)","v":1},{"$f":"AT9/(AV4-AT11)","v":4.7619047619047616E-2},{"$f":"IF(AU9=0,0,(AU9*((LOG(AU9))/LOG(2))))","v":-0.20915797251327431}]
[21,581,11,590,11,595,null,null,null,null,0,211,null,122,{"$f":"COUNTIF($L$7:$L$500,N10)","v":0},{"$f":"O10/$Q$4","v":0},{"$f":"IF(P10=0,0,(P10*((LOG(P10))/LOG(2))))","v":0},null,null,{"$f":"N10","v":122},{"$f":"COUNTIF(L7:L27,T10)","v":0},{"$f":"U10/(W4-U11)","v":0},{"$f":"IF(V10=0,0,(V10*((LOG(V10))/LOG(2))))","v":0},null,{"$f":"N10","v":122},{"$f":"COUNTIF(L28:L48,Y10)","v":0},{"$f":"Z10/(AB4-Z11)","v":0},{"$f":"IF(AA10=0,0,(AA10*((LOG(AA10))/LOG(2))))","v":0},null,{"$f":"N10","v":122},{"$f":"COUNTIF(L49:L68,AD10)","v":0},{"$f":"AE10/(AG4-AE11)","v":0},{"$f":"IF(AF10=0,0,(AF10*((LOG(AF10))/LOG(2))))","v":0},null,{"$f":"N10","v":122},{"$f":"COUNTIF(L69:L89,AI10)","v":0},{"$f":"AJ10/(AL4-AJ11)","v":0},{"$f":"IF(AK10=0,0,(AK10*((LOG(AK10))/LOG(2))))","v":0},null,{"$f":"N10","v":122},{"$f":"COUNTIF(L90:L110,AN10)","v":0},{"$f":"AO10/(AQ4-AO11)","v":0},{"$f":"IF(AP10=0,0,(AP10*((LOG(AP10))/LOG(2))))","v":0},null,{"$f":"N10","v":122},{"$f":"COUNTIF(L111:L131,AS10)","v":0},{"$f":"AT10/(AV4-AT11)","v":0},{"$f":"IF(AU10=0,0,(AU10*((LOG(AU10))/LOG(2))))","v":0}]
[12,703,13,708,13,716,null,null,null,null,0,111,null,211,{"$f":"COUNTIF($L$7:$L$500,N11)","v":17},{"$f":"O11/$Q$4","v":0.13600000000000001},{"$f":"IF(P11=0,0,(P11*((LOG(P11))/LOG(2))))","v":-0.39145171630399767},null,null,{"$f":"N11","v":211},{"$f":"COUNTIF(L7:L27,T11)","v":9},null,null,null,{"$f":"N11","v":211},{"$f":"COUNTIF(L28:L48,Y11)","v":5},null,null,null,{"$f":"N11","v":211},{"$f":"COUNTIF(L49:L68,AD11)","v":0},null,null,null,{"$f":"N11","v":211},{"$f":"COUNTIF(L69:L89,AI11)","v":2},null,null,null,{"$f":"N11","v":211},{"$f":"COUNTIF(L90:L110,AN11)","v":1},null,null,null,{"$f":"N11","v":211},{"$f":"COUNTIF(L111:L131,AS11)","v":0}]
[21,822,11,828,11,835,null,null,null,null,0,211,null,212,{"$f":"COUNTIF($L$7:$L$500,N12)","v":2},{"$f":"O12/$Q$4","v":1.6E-2},{"$f":"IF(P12=0,0,(P12*((LOG(P12))/LOG(2))))","v":-9.5452548554593397E-2},null,null,{"$f":"N12","v":212},{"$f":"COUNTIF(L7:L27,T12)","v":0},{"$f":"U12/(W4-U11)","v":0},{"$f":"IF(V12=0,0,(V12*((LOG(V12))/LOG(2))))","v":0},null,{"$f":"N12","v":212},{"$f":"COUNTIF(L28:L48,Y12)","v":0},{"$f":"Z12/(AB4-Z11)","v":0},{"$f":"IF(AA12=0,0,(AA12*((LOG(AA12))/LOG(2))))","v":0},null,{"$f":"N12","v":212},{"$f":"COUNTIF(L49:L68,AD12)","v":0},{"$f":"AE12/(AG4-AE11)","v":0},{"$f":"IF(AF12=0,0,(AF12*((LOG(AF12))/LOG(2))))","v":0},null,{"$f":"N12","v":212},{"$f":"COUNTIF(L69:L89,AI12)","v":0},{"$f":"AJ12/(AL4-AJ11)","v":0},{"$f":"IF(AK12=0,0,(AK12*((LOG(AK12))/LOG(2))))","v":0},null,{"$f":"N12","v":212},{"$f":"COUNTIF(L90:L110,AN12)","v":0},{"$f":"AO12/(AQ4-AO11)","v":0},{"$f":"IF(AP12=0,0,(AP12*((LOG(AP12))/LOG(2))))","v":0},null,{"$f":"N12","v":212},{"$f":"COUNTIF(L111:L131,AS12)","v":2},{"$f":"AT12/(AV4-AT11)","v":9.5238095238095233E-2},{"$f":"IF(AU12=0,0,(AU12*((LOG(AU12))/LOG(2))))","v":-0.32307784978845333}]
[21,932,11,941,11,950,null,null,null,null,0,211,null,221,{"$f":"COUNTIF($L$7:$L$500,N13)","v":0},{"$f":"O13/$Q$4","v":0},{"$f":"IF(P13=0,0,(P13*((LOG(P13))/LOG(2))))","v":0},null,null,{"$f":"N13","v":221},{"$f":"COUNTIF(L7:L27,T13)","v":0},{"$f":"U13/(W4-U11)","v":0},{"$f":"IF(V13=0,0,(V13*((LOG(V13))/LOG(2))))","v":0},null,{"$f":"N13","v":221},{"$f":"COUNTIF(L28:L48,Y13)","v":0},{"$f":"Z13/(AB4-Z11)","v":0},{"$f":"IF(AA13=0,0,(AA13*((LOG(AA13))/LOG(2))))","v":0},null,{"$f":"N13","v":221},{"$f":"COUNTIF(L49:L68,AD13)","v":0},{"$f":"AE13/(AG4-AE11)","v":0},{"$f":"IF(AF13=0,0,(AF13*((LOG(AF13))/LOG(2))))","v":0},null,{"$f":"N13","v":221},{"$f":"COUNTIF(L69:L89,AI13)","v":0},{"$f":"AJ13/(AL4-AJ11)","v":0},{"$f":"IF(AK13=0,0,(AK13*((LOG(AK13))/LOG(2))))","v":0},null,{"$f":"N13","v":221},{"$f":"COUNTIF(L90:L110,AN13)","v":0},{"$f":"AO13/(AQ4-AO11)","v":0},{"$f":"IF(AP13=0,0,(AP13*((LOG(AP13))/LOG(2))))","v":0},null,{"$f":"N13","v":221},{"$f":"COUNTIF(L111:L131,AS13)","v":0},{"$f":"AT13/(AV4-AT11)","v":0},{"$f":"IF(AU13=0,0,(AU13*((LOG(AU13))/LOG(2))))","v":0}]
[21,1051,11,1057,11,1062,null,null,null,null,0,211,null,222,{"$f":"COUNTIF($L$7:$L$500,N14)","v":0},{"$f":"O14/$Q$4","v":0},{"$f":"IF(P14=0,0,(P14*((LOG(P14))/LOG(2))))","v":0},null,null,{"$f":"N14","v":222},{"$f":"COUNTIF(L7:L27,T14)","v":0},{"$f":"U14/(W4-U11)","v":0},{"$f":"IF(V14=0,0,(V14*((LOG(V14))/LOG(2))))","v":0},null,{"$f":"N14","v":222},{"$f":"COUNTIF(L28:L48,Y14)","v":0},{"$f":"Z14/(AB4-Z11)","v":0},{"$f":"IF(AA14=0,0,(AA14*((LOG(AA14))/LOG(2))))","v":0},null,{"$f":"N14","v":222},{"$f":"COUNTIF(L49:L68,AD14)","v":0},{"$f":"AE14/(AG4-AE11)","v":0},{"$f":"IF(AF14=0,0,(AF14*((LOG(AF14))/LOG(2))))","v":0},null,{"$f":"N14","v":222},{"$f":"COUNTIF(L69:L89,AI14)","v":0},{"$f":"AJ14/(AL4-AJ11)","v":0},{"$f":"IF(AK14=0,0,(AK14*((LOG(AK14))/LOG(2))))","v":0},null,{"$f":"N14","v":222},{"$f":"COUNTIF(L90:L110,AN14)","v":0},{"$f":"AO14/(AQ4-AO11)","v":0},{"$f":"IF(AP14=0,0,(AP14*((LOG(AP14))/LOG(2))))","v":0},null,{"$f":"N14","v":222},{"$f":"COUNTIF(L111:L131,AS14)","v":0},{"$f":"AT14/(AV4-AT11)","v":0},{"$f":"IF(AU14=0,0,(AU14*((LOG(AU14))/LOG(2))))","v":0}]
[21,1157,11,1162,11,1166,null,null,null,null,0,211,null,null,null,{"$f":"SUM(P7:P14)","v":1},{"$f":"-SUM(Q7:Q14)","v":1.4306263778829094},null,null,null,null,{"$f":"SUM(V7:V14)","v":1},{"$f":"-SUM(W7:W14)","v":1.3844315043405979},null,null,null,{"$f":"SUM(AA7:AA14)","v":1},{"$f":"-SUM(AB7:AB14)","v":1.1981924110430979},null,null,null,{"$f":"SUM(AF7:AF14)","v":1},{"$f":"-SUM(AG7:AG14)","v":0.46899559358928122},null,null,null,{"$f":"SUM(AK7:AK14)","v":1},{"$f":"-SUM(AL7:AL14)","v":0.29747224891928964},null,null,null,{"$f":"SUM(AP7:AP14)","v":1},{"$f":"-SUM(AQ7:AQ14)","v":0},null,null,null,{"$f":"SUM(AU7:AU14)","v":1},{"$f":"-SUM(AV7:AV14)","v":0.98818083700467596}]
[12,1279,24,1370,13,1379,null,null,null,null,0,121,null,null,null,"U=",{"$f":"Q15/(LOG(Q4)/LOG(2))","v":0.20537908143853895},null,null,null,null,"U1=",{"$f":"W15/(LOG(W4)/LOG(2))","v":0.31519386489712065},null,null,null,"U2=",{"$f":"AB15/(LOG(AB4)/LOG(2))","v":0.2727927642089838},null,null,null,"U3=",{"$f":"AG15/(LOG(AG4)/LOG(2))","v":0.10851536242448849},null,null,null,"U4=",{"$f":"AL15/(LOG(AL4)/LOG(2))","v":6.7725580891896578E-2},null,null,null,"U5=",{"$f":"AQ15/(LOG(AQ4)/LOG(2))","v":0},null,null,null,"U6=",{"$f":"AV15/(LOG(AV4)/LOG(2))","v":0.22497937691841774}]
[21,1475,11,1482,11,1487,null,null,null,null,0,211]
[12,1592,13,1602,24,1653,null,null,null,null,0,112]
[12,1765,13,1771,13,1828,null,null,null,null,0,111,null,"Total Target Seq"]
[21,1931,11,1941,11,1950,null,null,null,null,0,211,null,{"$f":"COUNTIF(L7:L131,G3)","v":17},null,21,21,20,21,21,21]
[12,2067,13,2077,24,2142,null,null,null,null,0,112,null,null,null,"% of reinforcement given in 6 equal intervals based on number of trials "]
[12,2253,13,2259,13,2278,null,null,null,null,0,111,null,null,null,"%_1","%_2","%_3","%_4","%_5","%_6"]
[12,2387,24,2538,13,2549,null,null,null,null,0,121,null,null,"target sequence",{"$f":"$G$3","v":211},{"$f":"$G$3","v":211},{"$f":"$G$3","v":211},{"$f":"$G$3","v":211},{"$f":"$G$3","v":211},{"$f":"$G$3","v":211}]
[21,2648,11,2658,11,2662,null,null,null,null,0,211,null,null,"total reinforcement",{"$f":"U11","v":9},{"$f":"Z11","v":5},{"$f":"AE11","v":0},{"$f":"AJ11","v":2},{"$f":"AO11","v":1},{"$f":"AT11","v":0}]
[12,2776,13,2786,24,2837,null,null,null,null,0,112,null,null,"% target"]
[21,2944,11,2954,11,2963,null,null,null,null,0,211,null,null,"CCRF"]
[12,3073,13,3078,13,3086,null,null,null,null,0,111,null,null,"% CCRf"]
[21,3188,11,3196,11,3205,null,null,null,null,0,211,null,null,"average response rate",{"$f":"F27/P20","v":146.95238095238096},{"$f":"(F48-F27)/Q20","v":162.61904761904762},{"$f":"(F68-F48)/R20","v":143.69999999999999},{"$f":"(F89-F68)/S20","v":141.1904761904762},{"$f":"(F110-F89)/T20","v":169.52380952380952},{"$f":"(F131-F110)/U20","v":227.38095238095238}]
[12,3314,13,3319,13,3328,null,null,null,null,0,111]
[12,3443,13,3451,24,3608,null,null,null,null,0,112]
[12,3721,13,3726,24,3780,null,null,null,null,0,112]
[12,3889,13,3894,13,3913,null,null,null,null,0,111]
[12,4034,13,4043,24,4082,null,null,null,null,0,112]
[12,4197,13,4202,24,4241,null,null,null,null,0,112]
[12,4356,13,4361,24,4402,null,null,null,null,0,112]
[12,4510,13,4515,24,4611,null,null,null,null,0,112]
[12,4723,24,4805,13,4826,null,null,null,null,0,121]
[21,4931,11,4941,11,4949,null,null,null,null,0,211]
[12,5054,13,5062,24,5104,null,null,null,null,0,112]
[12,5217,13,5222,24,5392,null,null,null,null,0,112]
[21,5492,11,5501,11,5506,null,null,null,null,0,211]
[21,5605,11,5611,11,5616,null,null,null,null,0,211]
[12,5719,13,5727,24,5777,null,null,null,null,0,112]
[12,5890,13,5899,24,5955,null,null,null,null,0,112]
[12,6067,13,6072,13,6090,null,null,null,null,0,111]
[21,6214,11,6225,11,6236,null,null,null,null,0,211]
[12,6335,13,6341,13,6351,null,null,null,null,0,111]
[12,6471,13,6480,13,6501,null,null,null,null,0,111]
[12,6629,13,6633,13,6645,null,null,null,null,0,111]
[12,6753,13,6757,24,6851,null,null,null,null,0,112]
[12,6971,13,6975,13,6999,null,null,null,null,0,111]
[12,7111,13,7116,13,7124,null,null,null,null,0,111]
[12,7234,13,7238,13,7248,null,null,null,null,0,111]
[12,7362,13,7372,13,7380,null,null,null,null,0,111]
[12,7515,13,7526,13,7580,null,null,null,null,0,111]
[12,7690,13,7695,13,7704,null,null,null,null,0,111]
[12,7816,13,7821,13,7853,null,null,null,null,0,111]
[12,7974,13,7979,13,7989,null,null,null,null,0,111]
[12,8097,13,8102,13,8126,null,null,null,null,0,111]
[12,8236,13,8245,13,8253,null,null,null,null,0,111]
[12,8367,13,8371,13,8378,null,null,null,null,0,111]
[12,8491,13,8499,13,8508,null,null,null,null,0,111]
[12,8627,13,8635,13,8645,null,null,null,null,0,111]
[12,8755,13,8759,13,8764,null,null,null,null,0,111]
[12,8873,13,8878,13,8905,null,null,null,null,0,111]
[12,9013,13,9021,13,9032,null,null,null,null,0,111]
[12,9139,13,9161,13,9168,null,null,null,null,0,111]
[12,9280,13,9287,24,9375,null,null,null,null,0,112]
[12,9486,13,9491,13,9499,null,null,null,null,0,111]
[21,9596,11,9605,11,9609,null,null,null,null,0,211]
[12,9719,13,9724,13,9733,null,null,null,null,0,111]
[21,9909,11,9925,11,9933,null,null,null,null,0,211]
[12,10055,13,10064,13,10072,null,null,null,null,0,111]
[12,10181,13,10186,13,10191,null,null,null,null,0,111]
[12,10308,13,10315,13,10324,null,null,null,null,0,111]
[12,10432,13,10437,13,10445,null,null,null,null,0,111]
[12,10560,13,10564,13,10583,null,null,null,null,0,111]
[12,10690,13,10694,13,10702,null,null,null,null,0,111]
[12,10817,13,10823,13,10832,null,null,null,null,0,111]
[12,10947,13,10953,13,10980,null,null,null,null,0,111]
[12,11087,13,11091,13,11096,null,null,null,null,0,111]
[12,11217,13,11223,13,11257,null,null,null,null,0,111]
[12,11379,13,11389,13,11400,null,null,null,null,0,111]
[12,11513,13,11520,13,11536,null,null,null,null,0,111]
[12,11655,13,11664,13,11673,null,null,null,null,0,111]
[12,11802,13,11808,13,11900,null,null,null,null,0,111]
[12,12011,13,12016,13,12021,null,null,null,null,0,111]
[12,12169,13,12186,13,12200,null,null,null,null,0,111]
[12,12312,24,12326,13,12340,null,null,null,null,0,121]
[12,12450,13,12455,13,12462,null,null,null,null,0,111]
[12,12581,13,12594,13,12610,null,null,null,null,0,111]
[12,12737,13,12780,13,12790,null,null,null,null,0,111]
[12,12907,13,12960,13,13004,null,null,null,null,0,111]
[12,13150,13,13160,13,13175,null,null,null,null,0,111]
[12,13286,13,13412,13,13422,null,null,null,null,0,111]
[12,13607,13,13649,13,13660,null,null,null,null,0,111]
[12,13781,13,13835,13,13848,null,null,null,null,0,111]
[12,13959,13,13964,13,13972,null,null,null,null,0,111]
[12,14080,13,14088,13,14110,null,null,null,null,0,111]
[12,14231,13,14274,13,14283,null,null,null,null,0,111]
[12,14430,13,14487,13,14502,null,null,null,null,0,111]
[12,14625,13,14648,13,14654,null,null,null,null,0,111]
[12,14791,13,14801,13,14811,null,null,null,null,0,111]
[12,14936,13,14945,13,14955,null,null,null,null,0,111]
[12,15088,13,15093,13,15103,null,null,null,null,0,111]
[12,15229,13,15239,13,15251,null,null,null,null,0,111]
[12,15394,13,15399,13,15407,null,null,null,null,0,111]
[21,15558,11,15570,11,15575,null,null,null,null,0,211]
[12,15698,13,15739,13,15748,null,null,null,null,0,111]
[12,15864,13,15892,13,15900,null,null,null,null,0,111]
[12,16019,13,16024,13,16058,null,null,null,null,0,111]
[12,16187,24,16229,13,16311,null,null,null,null,0,121]
[21,16501,11,16514,22,16538,null,null,null,null,0,212]
[12,16655,13,16666,13,16677,null,null,null,null,0,111]
[12,16824,13,16834,13,16845,null,null,null,null,0,111]
[12,16978,13,17057,13,17076,null,null,null,null,0,111]
[12,17205,13,17214,13,17255,null,null,null,null,0,111]
[12,17378,13,17387,13,17397,null,null,null,null,0,111]
[12,17569,13,17621,13,17631,null,null,null,null,0,111]
[12,17772,13,17782,13,17823,null,null,null,null,0,111]
[12,17953,13,17962,13,17972,null,null,null,null,0,111]
[12,18087,13,18096,13,18105,null,null,null,null,0,111]
[12,18239,13,18264,13,18284,null,null,null,null,0,111]
[12,18416,13,18456,13,18466,null,null,null,null,0,111]
[12,18610,13,18618,13,18651,null,null,null,null,0,111]
[12,18804,13,18830,13,18885,null,null,null,null,0,111]
[12,19002,13,19037,13,19081,null,null,null,null,0,111]
[21,19699,11,19715,22,19745,null,null,null,null,0,212]
[12,19886,13,19894,24,19942,null,null,null,null,0,112]
[12,20313,13,20380,13,20390,null,null,null,null,0,111]
[12,20525,13,20664,13,20675,null,null,null,null,0,111]

{"sheet":"!M529A40.105","index":29,"n_rows":55,"n_cols":48,"rows_kept":55,"cut":false,"hidden":false,"merged":[[4,39,4,42],[5,39,5,40],[4,44,4,47],[5,44,5,45],[4,24,4,27],[5,24,5,25],[4,29,4,32],[5,29,5,30],[4,34,4,37],[5,34,5,35],[1,1,1,2],[5,13,5,14],[18,13,18,14],[19,13,19,14],[4,19,4,22],[5,19,5,20]]}
["Report for:!M529A40.105"]
["Date:","<date>"]
["Hen:","<hen>",null,null,null,"Correct Sequence",{"$f":"Start!J2","v":211},null,null,null,null,null,null,null,null,"Total Sequences in Data",{"$f":"4994-COUNTBLANK(L7:L5000)","v":49},null,null,null,null,"Total Sequences in Block Data",{"$f":"COUNTA(L7:L14)","v":8},null,null,null,"Total Sequences in Block Data",{"$f":"COUNTA(L15:L22)","v":8},null,null,null,"Total Sequences in Block Data",{"$f":"COUNTA(L23:L31)","v":9},null,null,null,"Total Sequences in Block Data",{"$f":"COUNTA(L32:L39)","v":8},null,null,null,"Total Sequences in Block Data",{"$f":"COUNTA(L40:L47)","v":8},null,null,null,"Total Sequences in Block Data",{"$f":"COUNTA(L48:L55)","v":8}]
[null,null,null,null,null,null,null,null,null,null,null,null,null,null,null,"Total Sequences in Summary",{"$f":"SUM(O7:O14)","v":49},null,null,null,null,"Total Sequences in Block Summary",{"$f":"SUM(U7:U14)","v":8},null,null,null,"Total Sequences in Block Summary",{"$f":"SUM(Z7:Z14)","v":8},null,null,null,"Total Sequences in Block Summary",{"$f":"SUM(AE7:AE14)","v":9},null,null,null,"Total Sequences in Block Summary",{"$f":"SUM(AJ7:AJ14)","v":8},null,null,null,"Total Sequences in Block Summary",{"$f":"SUM(AO7:AO14)","v":8},null,null,null,"Total Sequences in Block Summary",{"$f":"SUM(AT7:AT14)","v":8}]
[null,null,null,null,null,null,null,null,null,null,null,null,null,null,null,null,null,null,null,"Block 1",null,null,null,null,"Block 2",null,null,null,null,"Block 3",null,null,null,null,"Block 4",null,null,null,null,"Block 5",null,null,null,null,"Block 6"]
["Sequence\nComponent\n1","Time\n1","Sequence\nComponent\n2","Time\n2","Sequence\nComponent\n3","Time\n3","Sequence\nComponent\n4","Time\n4","Sequence\nComponent\n5","Time\n5","Correct?\n0=No 1=Yes","Sequence",null,"Frequency",null,"Relative Frequency","Variability",null,null,"Frequency",null,"Relative Frequency","Variability",null,"Frequency",null,"Relative Frequency","Variability",null,"Frequency",null,"Relative Frequency","Variability",null,"Frequency",null,"Relative Frequency","Variability",null,"Frequency",null,"Relative Frequency","Variability",null,"Frequency",null,"Relative Frequency","Variability"]
[12,32,13,43,13,52,null,null,null,null,0,111,null,111,{"$f":"COUNTIF($L$7:$L$500,N7)","v":4},{"$f":"O7/$Q$4","v":8.1632653061224483E-2},{"$f":"IF(P7=0,0,(P7*((LOG(P7))/LOG(2))))","v":-0.29507835462164966},null,null,{"$f":"N7","v":111},{"$f":"COUNTIF(L7:L14,T7)","v":1},{"$f":"U7/(W4-U11)","v":0.33333333333333331},{"$f":"IF(V7=0,0,(V7*((LOG(V7))/LOG(2))))","v":-0.52832083357371862},null,{"$f":"N7","v":111},{"$f":"COUNTIF(L15:L22,Y7)","v":0},{"$f":"Z7/(AB4-Z11)","v":0},{"$f":"IF(AA7=0,0,(AA7*((LOG(AA7))/LOG(2))))","v":0},null,{"$f":"N7","v":111},{"$f":"COUNTIF(L23:L31,AD7)","v":1},{"$f":"AE7/(AG4-AE11)","v":0.33333333333333331},{"$f":"IF(AF7=0,0,(AF7*((LOG(AF7))/LOG(2))))","v":-0.52832083357371862},null,{"$f":"N7","v":111},{"$f":"COUNTIF(L32:L39,AI7)","v":1},{"$f":"AJ7/(AL4-AJ11)","v":1},{"$f":"IF(AK7=0,0,(AK7*((LOG(AK7))/LOG(2))))","v":0},null,{"$f":"N7","v":111},{"$f":"COUNTIF(L40:L47,AN7)","v":1},{"$f":"AO7/(AQ4-AO11)","v":1},{"$f":"IF(AP7=0,0,(AP7*((LOG(AP7))/LOG(2))))","v":0},null,{"$f":"N7","v":111},{"$f":"COUNTIF(L48:L55,AS7)","v":0},{"$f":"AT7/(AV4-AT11)","v":{"$error":"#DIV/0!"}},{"$f":"IF(AU7=0,0,(AU7*((LOG(AU7))/LOG(2))))","v":{"$error":"#DIV/0!"}}]
[21,160,22,195,24,204,null,null,null,null,0,222,null,112,{"$f":"COUNTIF($L$7:$L$500,N8)","v":3},{"$f":"O8/$Q$4","v":6.1224489795918366E-2},{"$f":"IF(P8=0,0,(P8*((LOG(P8))/LOG(2))))","v":-0.24671922510575831},null,null,{"$f":"N8","v":112},{"$f":"COUNTIF(L7:L14,T8)","v":0},{"$f":"U8/(W4-U11)","v":0},{"$f":"IF(V8=0,0,(V8*((LOG(V8))/LOG(2))))","v":0},null,{"$f":"N8","v":112},{"$f":"COUNTIF(L15:L22,Y8)","v":1},{"$f":"Z8/(AB4-Z11)","v":0.5},{"$f":"IF(AA8=0,0,(AA8*((LOG(AA8))/LOG(2))))","v":-0.5},null,{"$f":"N8","v":112},{"$f":"COUNTIF(L23:L31,AD8)","v":2},{"$f":"AE8/(AG4-AE11)","v":0.66666666666666663},{"$f":"IF(AF8=0,0,(AF8*((LOG(AF8))/LOG(2))))","v":-0.38997500048077083},null,{"$f":"N8","v":112},{"$f":"COUNTIF(L32:L39,AI8)","v":0},{"$f":"AJ8/(AL4-AJ11)","v":0},{"$f":"IF(AK8=0,0,(AK8*((LOG(AK8))/LOG(2))))","v":0},null,{"$f":"N8","v":112},{"$f":"COUNTIF(L40:L47,AN8)","v":0},{"$f":"AO8/(AQ4-AO11)","v":0},{"$f":"IF(AP8=0,0,(AP8*((LOG(AP8))/LOG(2))))","v":0},null,{"$f":"N8","v":112},{"$f":"COUNTIF(L48:L55,AS8)","v":0},{"$f":"AT8/(AV4-AT11)","v":{"$error":"#DIV/0!"}},{"$f":"IF(AU8=0,0,(AU8*((LOG(AU8))/LOG(2))))","v":{"$error":"#DIV/0!"}}]
[21,312,11,321,22,335,null,null,null,null,0,212,null,121,{"$f":"COUNTIF($L$7:$L$500,N9)","v":0},{"$f":"O9/$Q$4","v":0},{"$f":"IF(P9=0,0,(P9*((LOG(P9))/LOG(2))))","v":0},null,null,{"$f":"N9","v":121},{"$f":"COUNTIF(L7:L14,T9)","v":0},{"$f":"U9/(W4-U11)","v":0},{"$f":"IF(V9=0,0,(V9*((LOG(V9))/LOG(2))))","v":0},null,{"$f":"N9","v":121},{"$f":"COUNTIF(L15:L22,Y9)","v":0},{"$f":"Z9/(AB4-Z11)","v":0},{"$f":"IF(AA9=0,0,(AA9*((LOG(AA9))/LOG(2))))","v":0},null,{"$f":"N9","v":121},{"$f":"COUNTIF(L23:L31,AD9)","v":0},{"$f":"AE9/(AG4-AE11)","v":0},{"$f":"IF(AF9=0,0,(AF9*((LOG(AF9))/LOG(2))))","v":0},null,{"$f":"N9","v":121},{"$f":"COUNTIF(L32:L39,AI9)","v":0},{"$f":"AJ9/(AL4-AJ11)","v":0},{"$f":"IF(AK9=0,0,(AK9*((LOG(AK9))/LOG(2))))","v":0},null,{"$f":"N9","v":121},{"$f":"COUNTIF(L40:L47,AN9)","v":0},{"$f":"AO9/(AQ4-AO11)","v":0},{"$f":"IF(AP9=0,0,(AP9*((LOG(AP9))/LOG(2))))","v":0},null,{"$f":"N9","v":121},{"$f":"COUNTIF(L48:L55,AS9)","v":0},{"$f":"AT9/(AV4-AT11)","v":{"$error":"#DIV/0!"}},{"$f":"IF(AU9=0,0,(AU9*((LOG(AU9))/LOG(2))))","v":{"$error":"#DIV/0!"}}]
[21,449,11,458,11,464,null,null,null,null,0,211,null,122,{"$f":"COUNTIF($L$7:$L$500,N10)","v":0},{"$f":"O10/$Q$4","v":0},{"$f":"IF(P10=0,0,(P10*((LOG(P10))/LOG(2))))","v":0},null,null,{"$f":"N10","v":122},{"$f":"COUNTIF(L7:L14,T10)","v":0},{"$f":"U10/(W4-U11)","v":0},{"$f":"IF(V10=0,0,(V10*((LOG(V10))/LOG(2))))","v":0},null,{"$f":"N10","v":122},{"$f":"COUNTIF(L15:L22,Y10)","v":0},{"$f":"Z10/(AB4-Z11)","v":0},{"$f":"IF(AA10=0,0,(AA10*((LOG(AA10))/LOG(2))))","v":0},null,{"$f":"N10","v":122},{"$f":"COUNTIF(L23:L31,AD10)","v":0},{"$f":"AE10/(AG4-AE11)","v":0},{"$f":"IF(AF10=0,0,(AF10*((LOG(AF10))/LOG(2))))","v":0},null,{"$f":"N10","v":122},{"$f":"COUNTIF(L32:L39,AI10)","v":0},{"$f":"AJ10/(AL4-AJ11)","v":0},{"$f":"IF(AK10=0,0,(AK10*((LOG(AK10))/LOG(2))))","v":0},null,{"$f":"N10","v":122},{"$f":"COUNTIF(L40:L47,AN10)","v":0},{"$f":"AO10/(AQ4-AO11)","v":0},{"$f":"IF(AP10=0,0,(AP10*((LOG(AP10))/LOG(2))))","v":0},null,{"$f":"N10","v":122},{"$f":"COUNTIF(L48:L55,AS10)","v":0},{"$f":"AT10/(AV4-AT11)","v":{"$error":"#DIV/0!"}},{"$f":"IF(AU10=0,0,(AU10*((LOG(AU10))/LOG(2))))","v":{"$error":"#DIV/0!"}}]
[21,566,11,574,11,580,null,null,null,null,0,211,null,211,{"$f":"COUNTIF($L$7:$L$500,N11)","v":39},{"$f":"O11/$Q$4","v":0.79591836734693877},{"$f":"IF(P11=0,0,(P11*((LOG(P11))/LOG(2))))","v":-0.26210198744623336},null,null,{"$f":"N11","v":211},{"$f":"COUNTIF(L7:L14,T11)","v":5},null,null,null,{"$f":"N11","v":211},{"$f":"COUNTIF(L15:L22,Y11)","v":6},null,null,null,{"$f":"N11","v":211},{"$f":"COUNTIF(L23:L31,AD11)","v":6},null,null,null,{"$f":"N11","v":211},{"$f":"COUNTIF(L32:L39,AI11)","v":7},null,null,null,{"$f":"N11","v":211},{"$f":"COUNTIF(L40:L47,AN11)","v":7},null,null,null,{"$f":"N11","v":211},{"$f":"COUNTIF(L48:L55,AS11)","v":8}]
[21,677,11,683,11,691,null,null,null,null,0,211,null,212,{"$f":"COUNTIF($L$7:$L$500,N12)","v":2},{"$f":"O12/$Q$4","v":4.0816326530612242E-2},{"$f":"IF(P12=0,0,(P12*((LOG(P12))/LOG(2))))","v":-0.18835550384143707},null,null,{"$f":"N12","v":212},{"$f":"COUNTIF(L7:L14,T12)","v":1},{"$f":"U12/(W4-U11)","v":0.33333333333333331},{"$f":"IF(V12=0,0,(V12*((LOG(V12))/LOG(2))))","v":-0.52832083357371862},null,{"$f":"N12","v":212},{"$f":"COUNTIF(L15:L22,Y12)","v":1},{"$f":"Z12/(AB4-Z11)","v":0.5},{"$f":"IF(AA12=0,0,(AA12*((LOG(AA12))/LOG(2))))","v":-0.5},null,{"$f":"N12","v":212},{"$f":"COUNTIF(L23:L31,AD12)","v":0},{"$f":"AE12/(AG4-AE11)","v":0},{"$f":"IF(AF12=0,0,(AF12*((LOG(AF12))/LOG(2))))","v":0},null,{"$f":"N12","v":212},{"$f":"COUNTIF(L32:L39,AI12)","v":0},{"$f":"AJ12/(AL4-AJ11)","v":0},{"$f":"IF(AK12=0,0,(AK12*((LOG(AK12))/LOG(2))))","v":0},null,{"$f":"N12","v":212},{"$f":"COUNTIF(L40:L47,AN12)","v":0},{"$f":"AO12/(AQ4-AO11)","v":0},{"$f":"IF(AP12=0,0,(AP12*((LOG(AP12))/LOG(2))))","v":0},null,{"$f":"N12","v":212},{"$f":"COUNTIF(L48:L55,AS12)","v":0},{"$f":"AT12/(AV4-AT11)","v":{"$error":"#DIV/0!"}},{"$f":"IF(AU12=0,0,(AU12*((LOG(AU12))/LOG(2))))","v":{"$error":"#DIV/0!"}}]
[21,785,11,802,11,810,null,null,null,null,0,211,null,221,{"$f":"COUNTIF($L$7:$L$500,N13)","v":0},{"$f":"O13/$Q$4","v":0},{"$f":"IF(P13=0,0,(P13*((LOG(P13))/LOG(2))))","v":0},null,null,{"$f":"N13","v":221},{"$f":"COUNTIF(L7:L14,T13)","v":0},{"$f":"U13/(W4-U11)","v":0},{"$f":"IF(V13=0,0,(V13*((LOG(V13))/LOG(2))))","v":0},null,{"$f":"N13","v":221},{"$f":"COUNTIF(L15:L22,Y13)","v":0},{"$f":"Z13/(AB4-Z11)","v":0},{"$f":"IF(AA13=0,0,(AA13*((LOG(AA13))/LOG(2))))","v":0},null,{"$f":"N13","v":221},{"$f":"COUNTIF(L23:L31,AD13)","v":0},{"$f":"AE13/(AG4-AE11)","v":0},{"$f":"IF(AF13=0,0,(AF13*((LOG(AF13))/LOG(2))))","v":0},null,{"$f":"N13","v":221},{"$f":"COUNTIF(L32:L39,AI13)","v":0},{"$f":"AJ13/(AL4-AJ11)","v":0},{"$f":"IF(AK13=0,0,(AK13*((LOG(AK13))/LOG(2))))","v":0},null,{"$f":"N13","v":221},{"$f":"COUNTIF(L40:L47,AN13)","v":0},{"$f":"AO13/(AQ4-AO11)","v":0},{"$f":"IF(AP13=0,0,(AP13*((LOG(AP13))/LOG(2))))","v":0},null,{"$f":"N13","v":221},{"$f":"COUNTIF(L48:L55,AS13)","v":0},{"$f":"AT13/(AV4-AT11)","v":{"$error":"#DIV/0!"}},{"$f":"IF(AU13=0,0,(AU13*((LOG(AU13))/LOG(2))))","v":{"$error":"#DIV/0!"}}]
[21,905,11,911,11,916,null,null,null,null,0,211,null,222,{"$f":"COUNTIF($L$7:$L$500,N14)","v":1},{"$f":"O14/$Q$4","v":2.0408163265306121E-2},{"$f":"IF(P14=0,0,(P14*((LOG(P14))/LOG(2))))","v":-0.11458591518602465},null,null,{"$f":"N14","v":222},{"$f":"COUNTIF(L7:L14,T14)","v":1},{"$f":"U14/(W4-U11)","v":0.33333333333333331},{"$f":"IF(V14=0,0,(V14*((LOG(V14))/LOG(2))))","v":-0.52832083357371862},null,{"$f":"N14","v":222},{"$f":"COUNTIF(L15:L22,Y14)","v":0},{"$f":"Z14/(AB4-Z11)","v":0},{"$f":"IF(AA14=0,0,(AA14*((LOG(AA14))/LOG(2))))","v":0},null,{"$f":"N14","v":222},{"$f":"COUNTIF(L23:L31,AD14)","v":0},{"$f":"AE14/(AG4-AE11)","v":0},{"$f":"IF(AF14=0,0,(AF14*((LOG(AF14))/LOG(2))))","v":0},null,{"$f":"N14","v":222},{"$f":"COUNTIF(L32:L39,AI14)","v":0},{"$f":"AJ14/(AL4-AJ11)","v":0},{"$f":"IF(AK14=0,0,(AK14*((LOG(AK14))/LOG(2))))","v":0},null,{"$f":"N14","v":222},{"$f":"COUNTIF(L40:L47,AN14)","v":0},{"$f":"AO14/(AQ4-AO11)","v":0},{"$f":"IF(AP14=0,0,(AP14*((LOG(AP14))/LOG(2))))","v":0},null,{"$f":"N14","v":222},{"$f":"COUNTIF(L48:L55,AS14)","v":0},{"$f":"AT14/(AV4-AT11)","v":{"$error":"#DIV/0!"}},{"$f":"IF(AU14=0,0,(AU14*((LOG(AU14))/LOG(2))))","v":{"$error":"#DIV/0!"}}]
[21,1006,11,1015,11,1022,null,null,null,null,0,211,null,null,null,{"$f":"SUM(P7:P14)","v":1},{"$f":"-SUM(Q7:Q14)","v":1.106840986201103},null,null,null,null,{"$f":"SUM(V7:V14)","v":1},{"$f":"-SUM(W7:W14)","v":1.5849625007211559},null,null,null,{"$f":"SUM(AA7:AA14)","v":1},{"$f":"-SUM(AB7:AB14)","v":1},null,null,null,{"$f":"SUM(AF7:AF14)","v":1},{"$f":"-SUM(AG7:AG14)","v":0.91829583405448945},null,null,null,{"$f":"SUM(AK7:AK14)","v":1},{"$f":"-SUM(AL7:AL14)","v":0},null,null,null,{"$f":"SUM(AP7:AP14)","v":1},{"$f":"-SUM(AQ7:AQ14)","v":0},null,null,null,{"$f":"SUM(AU7:AU14)","v":{"$error":"#DIV/0!"}},{"$f":"-SUM(AV7:AV14)","v":{"$error":"#DIV/0!"}}]
[21,1112,11,1120,11,1128,null,null,null,null,0,211,null,null,null,"U=",{"$f":"Q15/(LOG(Q4)/LOG(2))","v":0.19713235713528204},null,null,null,null,"U1=",{"$f":"W15/(LOG(W4)/LOG(2))","v":0.52832083357371862},null,null,null,"U2=",{"$f":"AB15/(LOG(AB4)/LOG(2))","v":0.33333333333333331},null,null,null,"U3=",{"$f":"AG15/(LOG(AG4)/LOG(2))","v":0.28969008214284753},null,null,null,"U4=",{"$f":"AL15/(LOG(AL4)/LOG(2))","v":0},null,null,null,"U5=",{"$f":"AQ15/(LOG(AQ4)/LOG(2))","v":0},null,null,null,"U6=",{"$f":"AV15/(LOG(AV4)/LOG(2))","v":{"$error":"#DIV/0!"}}]
[12,1228,13,1232,24,1274,null,null,null,null,0,112]
[21,1374,11,1383,11,1392,null,null,null,null,0,211]
[21,1483,11,1491,11,1496,null,null,null,null,0,211,null,"Total Target Seq"]
[21,1586,11,1594,11,1604,null,null,null,null,0,211,null,{"$f":"COUNTIF(L7:L55,G3)","v":39},null,8,8,9,8,8,8]
[21,1696,11,1705,22,1797,null,null,null,null,0,212,null,null,null,"% of reinforcement given in 6 equal intervals based on number of trials "]
[21,1902,11,1909,11,1913,null,null,null,null,0,211,null,null,null,"%_1","%_2","%_3","%_4","%_5","%_6"]
[21,2012,11,2020,11,2027,null,null,null,null,0,211,null,null,"target sequence",{"$f":"$G$3","v":211},{"$f":"$G$3","v":211},{"$f":"$G$3","v":211},{"$f":"$G$3","v":211},{"$f":"$G$3","v":211},{"$f":"$G$3","v":211}]
[12,2124,13,2129,24,2186,null,null,null,null,0,112,null,null,"total reinforcement",{"$f":"U11","v":5},{"$f":"Z11","v":6},{"$f":"AE11","v":6},{"$f":"AJ11","v":7},{"$f":"AO11","v":7},{"$f":"AT11","v":8}]
[21,2289,11,2296,11,2303,null,null,null,null,0,211,null,null,"% target"]
[21,2397,11,2405,11,2419,null,null,null,null,0,211,null,null,"CCRF"]
[12,2524,13,2528,13,2551,null,null,null,null,0,111,null,null,"% CCRf"]
[21,2654,11,2661,11,2678,null,null,null,null,0,211,null,null,"average response rate",{"$f":"F14/P20","v":114.5},{"$f":"(F22-F14)/Q20","v":124.625},{"$f":"(F31-F22)/R20","v":125},{"$f":"(F39-F31)/S20","v":110.5},{"$f":"(F47-F39)/T20","v":110},{"$f":"(F55-F47)/U20","v":108.25}]
[21,2770,11,2778,11,2786,null,null,null,null,0,211]
[12,2887,13,2895,24,2926,null,null,null,null,0,112]
[21,3028,11,3033,11,3038,null,null,null,null,0,211]
[21,3130,11,3136,11,3142,null,null,null,null,0,211]
[21,3235,11,3244,11,3252,null,null,null,null,0,211]
[21,3345,11,3353,11,3361,null,null,null,null,0,211]
[12,3456,13,3463,13,3485,null,null,null,null,0,111]
[21,3587,11,3593,11,3600,null,null,null,null,0,211]
[21,3692,11,3697,11,3708,null,null,null,null,0,211]
[21,3802,11,3811,11,3817,null,null,null,null,0,211]
[21,3912,11,3918,11,3922,null,null,null,null,0,211]
[21,4012,11,4018,11,4022,null,null,null,null,0,211]
[21,4115,11,4123,11,4131,null,null,null,null,0,211]
[21,4231,11,4239,11,4245,null,null,null,null,0,211]
[21,4341,11,4349,11,4356,null,null,null,null,0,211]
[21,4446,11,4455,11,4460,null,null,null,null,0,211]
[21,4557,11,4565,11,4571,null,null,null,null,0,211]
[12,4668,13,4671,13,4688,null,null,null,null,0,111]
[21,4790,11,4798,11,4802,null,null,null,null,0,211]
[21,4895,11,4903,11,4910,null,null,null,null,0,211]
[21,5002,11,5010,11,5015,null,null,null,null,0,211]
[21,5105,11,5114,11,5120,null,null,null,null,0,211]
[21,5231,11,5240,11,5249,null,null,null,null,0,211]
[21,5346,11,5355,11,5363,null,null,null,null,0,211]
[21,5453,11,5461,11,5466,null,null,null,null,0,211]
[21,5556,11,5562,11,5567,null,null,null,null,0,211]
[21,5656,11,5664,11,5668,null,null,null,null,1,211]

{"sheet":"!M530B10.105","index":30,"n_rows":52,"n_cols":48,"rows_kept":52,"cut":false,"hidden":false,"merged":[[4,39,4,42],[5,39,5,40],[4,44,4,47],[5,44,5,45],[4,24,4,27],[5,24,5,25],[4,29,4,32],[5,29,5,30],[4,34,4,37],[5,34,5,35],[1,1,1,2],[5,13,5,14],[18,13,18,14],[19,13,19,14],[4,19,4,22],[5,19,5,20]]}
["Report for:!M530B10.105"]
["Date:","<date>"]
["Hen:","<hen>",null,null,null,"Correct Sequence",{"$f":"Start!J2","v":211},null,null,null,null,null,null,null,null,"Total Sequences in Data",{"$f":"4994-COUNTBLANK(L7:L5000)","v":46},null,null,null,null,"Total Sequences in Block Data",{"$f":"COUNTA(L7:L14)","v":8},null,null,null,"Total Sequences in Block Data",{"$f":"COUNTA(L15:L21)","v":7},null,null,null,"Total Sequences in Block Data",{"$f":"COUNTA(L22:L29)","v":8},null,null,null,"Total Sequences in Block Data",{"$f":"COUNTA(L30:L37)","v":8},null,null,null,"Total Sequences in Block Data",{"$f":"COUNTA(L38:L44)","v":7},null,null,null,"Total Sequences in Block Data",{"$f":"COUNTA(L45:L52)","v":8}]
[null,null,null,null,null,null,null,null,null,null,null,null,null,null,null,"Total Sequences in Summary",{"$f":"SUM(O7:O14)","v":46},null,null,null,null,"Total Sequences in Block Summary",{"$f":"SUM(U7:U14)","v":8},null,null,null,"Total Sequences in Block Summary",{"$f":"SUM(Z7:Z14)","v":7},null,null,null,"Total Sequences in Block Summary",{"$f":"SUM(AE7:AE14)","v":8},null,null,null,"Total Sequences in Block Summary",{"$f":"SUM(AJ7:AJ14)","v":8},null,null,null,"Total Sequences in Block Summary",{"$f":"SUM(AO7:AO14)","v":7},null,null,null,"Total Sequences in Block Summary",{"$f":"SUM(AT7:AT14)","v":8}]
[null,null,null,null,null,null,null,null,null,null,null,null,null,null,null,null,null,null,null,"Block 1",null,null,null,null,"Block 2",null,null,null,null,"Block 3",null,null,null,null,"Block 4",null,null,null,null,"Block 5",null,null,null,null,"Block 6"]
["Sequence\nComponent\n1","Time\n1","Sequence\nComponent\n2","Time\n2","Sequence\nComponent\n3","Time\n3","Sequence\nComponent\n4","Time\n4","Sequence\nComponent\n5","Time\n5","Correct?\n0=No 1=Yes","Sequence",null,"Frequency",null,"Relative Frequency","Variability",null,null,"Frequency",null,"Relative Frequency","Variability",null,"Frequency",null,"Relative Frequency","Variability",null,"Frequency",null,"Relative Frequency","Variability",null,"Frequency",null,"Relative Frequency","Variability",null,"Frequency",null,"Relative Frequency","Variability",null,"Frequency",null,"Relative Frequency","Variability"]
[21,21,11,31,11,41,null,null,null,null,0,211,null,111,{"$f":"COUNTIF($L$7:$L$500,N7)","v":4},{"$f":"O7/$Q$4","v":8.6956521739130432E-2},{"$f":"IF(P7=0,0,(P7*((LOG(P7))/LOG(2))))","v":-0.30639669183104457},null,null,{"$f":"N7","v":111},{"$f":"COUNTIF(L7:L14,T7)","v":1},{"$f":"U7/(W4-U11)","v":0.5},{"$f":"IF(V7=0,0,(V7*((LOG(V7))/LOG(2))))","v":-0.5},null,{"$f":"N7","v":111},{"$f":"COUNTIF(L15:L21,Y7)","v":0},{"$f":"Z7/(AB4-Z11)","v":{"$error":"#DIV/0!"}},{"$f":"IF(AA7=0,0,(AA7*((LOG(AA7))/LOG(2))))","v":{"$error":"#DIV/0!"}},null,{"$f":"N7","v":111},{"$f":"COUNTIF(L22:L29,AD7)","v":0},{"$f":"AE7/(AG4-AE11)","v":0},{"$f":"IF(AF7=0,0,(AF7*((LOG(AF7))/LOG(2))))","v":0},null,{"$f":"N7","v":111},{"$f":"COUNTIF(L30:L37,AI7)","v":1},{"$f":"AJ7/(AL4-AJ11)","v":1},{"$f":"IF(AK7=0,0,(AK7*((LOG(AK7))/LOG(2))))","v":0},null,{"$f":"N7","v":111},{"$f":"COUNTIF(L38:L44,AN7)","v":0},{"$f":"AO7/(AQ4-AO11)","v":{"$error":"#DIV/0!"}},{"$f":"IF(AP7=0,0,(AP7*((LOG(AP7))/LOG(2))))","v":{"$error":"#DIV/0!"}},null,{"$f":"N7","v":111},{"$f":"COUNTIF(L45:L52,AS7)","v":2},{"$f":"AT7/(AV4-AT11)","v":0.66666666666666663},{"$f":"IF(AU7=0,0,(AU7*((LOG(AU7))/LOG(2))))","v":-0.38997500048077083}]
[21,144,11,151,11,156,null,null,null,null,0,211,null,112,{"$f":"COUNTIF($L$7:$L$500,N8)","v":2},{"$f":"O8/$Q$4","v":4.3478260869565216E-2},{"$f":"IF(P8=0,0,(P8*((LOG(P8))/LOG(2))))","v":-0.19667660678508753},null,null,{"$f":"N8","v":112},{"$f":"COUNTIF(L7:L14,T8)","v":1},{"$f":"U8/(W4-U11)","v":0.5},{"$f":"IF(V8=0,0,(V8*((LOG(V8))/LOG(2))))","v":-0.5},null,{"$f":"N8","v":112},{"$f":"COUNTIF(L15:L21,Y8)","v":0},{"$f":"Z8/(AB4-Z11)","v":{"$error":"#DIV/0!"}},{"$f":"IF(AA8=0,0,(AA8*((LOG(AA8))/LOG(2))))","v":{"$error":"#DIV/0!"}},null,{"$f":"N8","v":112},{"$f":"COUNTIF(L22:L29,AD8)","v":0},{"$f":"AE8/(AG4-AE11)","v":0},{"$f":"IF(AF8=0,0,(AF8*((LOG(AF8))/LOG(2))))","v":0},null,{"$f":"N8","v":112},{"$f":"COUNTIF(L30:L37,AI8)","v":0},{"$f":"AJ8/(AL4-AJ11)","v":0},{"$f":"IF(AK8=0,0,(AK8*((LOG(AK8))/LOG(2))))","v":0},null,{"$f":"N8","v":112},{"$f":"COUNTIF(L38:L44,AN8)","v":0},{"$f":"AO8/(AQ4-AO11)","v":{"$error":"#DIV/0!"}},{"$f":"IF(AP8=0,0,(AP8*((LOG(AP8))/LOG(2))))","v":{"$error":"#DIV/0!"}},null,{"$f":"N8","v":112},{"$f":"COUNTIF(L45:L52,AS8)","v":1},{"$f":"AT8/(AV4-AT11)","v":0.33333333333333331},{"$f":"IF(AU8=0,0,(AU8*((LOG(AU8))/LOG(2))))","v":-0.52832083357371862}]
[21,252,11,258,11,264,null,null,null,null,0,211,null,121,{"$f":"COUNTIF($L$7:$L$500,N9)","v":0},{"$f":"O9/$Q$4","v":0},{"$f":"IF(P9=0,0,(P9*((LOG(P9))/LOG(2))))","v":0},null,null,{"$f":"N9","v":121},{"$f":"COUNTIF(L7:L14,T9)","v":0},{"$f":"U9/(W4-U11)","v":0},{"$f":"IF(V9=0,0,(V9*((LOG(V9))/LOG(2))))","v":0},null,{"$f":"N9","v":121},{"$f":"COUNTIF(L15:L21,Y9)","v":0},{"$f":"Z9/(AB4-Z11)","v":{"$error":"#DIV/0!"}},{"$f":"IF(AA9=0,0,(AA9*((LOG(AA9))/LOG(2))))","v":{"$error":"#DIV/0!"}},null,{"$f":"N9","v":121},{"$f":"COUNTIF(L22:L29,AD9)","v":0},{"$f":"AE9/(AG4-AE11)","v":0},{"$f":"IF(AF9=0,0,(AF9*((LOG(AF9))/LOG(2))))","v":0},null,{"$f":"N9","v":121},{"$f":"COUNTIF(L30:L37,AI9)","v":0},{"$f":"AJ9/(AL4-AJ11)","v":0},{"$f":"IF(AK9=0,0,(AK9*((LOG(AK9))/LOG(2))))","v":0},null,{"$f":"N9","v":121},{"$f":"COUNTIF(L38:L44,AN9)","v":0},{"$f":"AO9/(AQ4-AO11)","v":{"$error":"#DIV/0!"}},{"$f":"IF(AP9=0,0,(AP9*((LOG(AP9))/LOG(2))))","v":{"$error":"#DIV/0!"}},null,{"$f":"N9","v":121},{"$f":"COUNTIF(L45:L52,AS9)","v":0},{"$f":"AT9/(AV4-AT11)","v":0},{"$f":"IF(AU9=0,0,(AU9*((LOG(AU9))/LOG(2))))","v":0}]
[12,367,13,378,13,396,null,null,null,null,0,111,null,122,{"$f":"COUNTIF($L$7:$L$500,N10)","v":0},{"$f":"O10/$Q$4","v":0},{"$f":"IF(P10=0,0,(P10*((LOG(P10))/LOG(2))))","v":0},null,null,{"$f":"N10","v":122},{"$f":"COUNTIF(L7:L14,T10)","v":0},{"$f":"U10/(W4-U11)","v":0},{"$f":"IF(V10=0,0,(V10*((LOG(V10))/LOG(2))))","v":0},null,{"$f":"N10","v":122},{"$f":"COUNTIF(L15:L21,Y10)","v":0},{"$f":"Z10/(AB4-Z11)","v":{"$error":"#DIV/0!"}},{"$f":"IF(AA10=0,0,(AA10*((LOG(AA10))/LOG(2))))","v":{"$error":"#DIV/0!"}},null,{"$f":"N10","v":122},{"$f":"COUNTIF(L22:L29,AD10)","v":0},{"$f":"AE10/(AG4-AE11)","v":0},{"$f":"IF(AF10=0,0,(AF10*((LOG(AF10))/LOG(2))))","v":0},null,{"$f":"N10","v":122},{"$f":"COUNTIF(L30:L37,AI10)","v":0},{"$f":"AJ10/(AL4-AJ11)","v":0},{"$f":"IF(AK10=0,0,(AK10*((LOG(AK10))/LOG(2))))","v":0},null,{"$f":"N10","v":122},{"$f":"COUNTIF(L38:L44,AN10)","v":0},{"$f":"AO10/(AQ4-AO11)","v":{"$error":"#DIV/0!"}},{"$f":"IF(AP10=0,0,(AP10*((LOG(AP10))/LOG(2))))","v":{"$error":"#DIV/0!"}},null,{"$f":"N10","v":122},{"$f":"COUNTIF(L45:L52,AS10)","v":0},{"$f":"AT10/(AV4-AT11)","v":0},{"$f":"IF(AU10=0,0,(AU10*((LOG(AU10))/LOG(2))))","v":0}]
[12,516,13,521,24,609,null,null,null,null,0,112,null,211,{"$f":"COUNTIF($L$7:$L$500,N11)","v":39},{"$f":"O11/$Q$4","v":0.84782608695652173},{"$f":"IF(P11=0,0,(P11*((LOG(P11))/LOG(2))))","v":-0.2019180380564308},null,null,{"$f":"N11","v":211},{"$f":"COUNTIF(L7:L14,T11)","v":6},null,null,null,{"$f":"N11","v":211},{"$f":"COUNTIF(L15:L21,Y11)","v":7},null,null,null,{"$f":"N11","v":211},{"$f":"COUNTIF(L22:L29,AD11)","v":7},null,null,null,{"$f":"N11","v":211},{"$f":"COUNTIF(L30:L37,AI11)","v":7},null,null,null,{"$f":"N11","v":211},{"$f":"COUNTIF(L38:L44,AN11)","v":7},null,null,null,{"$f":"N11","v":211},{"$f":"COUNTIF(L45:L52,AS11)","v":5}]
[21,709,11,718,11,727,null,null,null,null,0,211,null,212,{"$f":"COUNTIF($L$7:$L$500,N12)","v":1},{"$f":"O12/$Q$4","v":2.1739130434782608E-2},{"$f":"IF(P12=0,0,(P12*((LOG(P12))/LOG(2))))","v":-0.12007743382732637},null,null,{"$f":"N12","v":212},{"$f":"COUNTIF(L7:L14,T12)","v":0},{"$f":"U12/(W4-U11)","v":0},{"$f":"IF(V12=0,0,(V12*((LOG(V12))/LOG(2))))","v":0},null,{"$f":"N12","v":212},{"$f":"COUNTIF(L15:L21,Y12)","v":0},{"$f":"Z12/(AB4-Z11)","v":{"$error":"#DIV/0!"}},{"$f":"IF(AA12=0,0,(AA12*((LOG(AA12))/LOG(2))))","v":{"$error":"#DIV/0!"}},null,{"$f":"N12","v":212},{"$f":"COUNTIF(L22:L29,AD12)","v":1},{"$f":"AE12/(AG4-AE11)","v":1},{"$f":"IF(AF12=0,0,(AF12*((LOG(AF12))/LOG(2))))","v":0},null,{"$f":"N12","v":212},{"$f":"COUNTIF(L30:L37,AI12)","v":0},{"$f":"AJ12/(AL4-AJ11)","v":0},{"$f":"IF(AK12=0,0,(AK12*((LOG(AK12))/LOG(2))))","v":0},null,{"$f":"N12","v":212},{"$f":"COUNTIF(L38:L44,AN12)","v":0},{"$f":"AO12/(AQ4-AO11)","v":{"$error":"#DIV/0!"}},{"$f":"IF(AP12=0,0,(AP12*((LOG(AP12))/LOG(2))))","v":{"$error":"#DIV/0!"}},null,{"$f":"N12","v":212},{"$f":"COUNTIF(L45:L52,AS12)","v":0},{"$f":"AT12/(AV4-AT11)","v":0},{"$f":"IF(AU12=0,0,(AU12*((LOG(AU12))/LOG(2))))","v":0}]
[21,816,11,827,11,836,null,null,null,null,0,211,null,221,{"$f":"COUNTIF($L$7:$L$500,N13)","v":0},{"$f":"O13/$Q$4","v":0},{"$f":"IF(P13=0,0,(P13*((LOG(P13))/LOG(2))))","v":0},null,null,{"$f":"N13","v":221},{"$f":"COUNTIF(L7:L14,T13)","v":0},{"$f":"U13/(W4-U11)","v":0},{"$f":"IF(V13=0,0,(V13*((LOG(V13))/LOG(2))))","v":0},null,{"$f":"N13","v":221},{"$f":"COUNTIF(L15:L21,Y13)","v":0},{"$f":"Z13/(AB4-Z11)","v":{"$error":"#DIV/0!"}},{"$f":"IF(AA13=0,0,(AA13*((LOG(AA13))/LOG(2))))","v":{"$error":"#DIV/0!"}},null,{"$f":"N13","v":221},{"$f":"COUNTIF(L22:L29,AD13)","v":0},{"$f":"AE13/(AG4-AE11)","v":0},{"$f":"IF(AF13=0,0,(AF13*((LOG(AF13))/LOG(2))))","v":0},null,{"$f":"N13","v":221},{"$f":"COUNTIF(L30:L37,AI13)","v":0},{"$f":"AJ13/(AL4-AJ11)","v":0},{"$f":"IF(AK13=0,0,(AK13*((LOG(AK13))/LOG(2))))","v":0},null,{"$f":"N13","v":221},{"$f":"COUNTIF(L38:L44,AN13)","v":0},{"$f":"AO13/(AQ4-AO11)","v":{"$error":"#DIV/0!"}},{"$f":"IF(AP13=0,0,(AP13*((LOG(AP13))/LOG(2))))","v":{"$error":"#DIV/0!"}},null,{"$f":"N13","v":221},{"$f":"COUNTIF(L45:L52,AS13)","v":0},{"$f":"AT13/(AV4-AT11)","v":0},{"$f":"IF(AU13=0,0,(AU13*((LOG(AU13))/LOG(2))))","v":0}]
[21,930,11,939,11,947,null,null,null,null,0,211,null,222,{"$f":"COUNTIF($L$7:$L$500,N14)","v":0},{"$f":"O14/$Q$4","v":0},{"$f":"IF(P14=0,0,(P14*((LOG(P14))/LOG(2))))","v":0},null,null,{"$f":"N14","v":222},{"$f":"COUNTIF(L7:L14,T14)","v":0},{"$f":"U14/(W4-U11)","v":0},{"$f":"IF(V14=0,0,(V14*((LOG(V14))/LOG(2))))","v":0},null,{"$f":"N14","v":222},{"$f":"COUNTIF(L15:L21,Y14)","v":0},{"$f":"Z14/(AB4-Z11)","v":{"$error":"#DIV/0!"}},{"$f":"IF(AA14=0,0,(AA14*((LOG(AA14))/LOG(2))))","v":{"$error":"#DIV/0!"}},null,{"$f":"N14","v":222},{"$f":"COUNTIF(L22:L29,AD14)","v":0},{"$f":"AE14/(AG4-AE11)","v":0},{"$f":"IF(AF14=0,0,(AF14*((LOG(AF14))/LOG(2))))","v":0},null,{"$f":"N14","v":222},{"$f":"COUNTIF(L30:L37,AI14)","v":0},{"$f":"AJ14/(AL4-AJ11)","v":0},{"$f":"IF(AK14=0,0,(AK14*((LOG(AK14))/LOG(2))))","v":0},null,{"$f":"N14","v":222},{"$f":"COUNTIF(L38:L44,AN14)","v":0},{"$f":"AO14/(AQ4-AO11)","v":{"$error":"#DIV/0!"}},{"$f":"IF(AP14=0,0,(AP14*((LOG(AP14))/LOG(2))))","v":{"$error":"#DIV/0!"}},null,{"$f":"N14","v":222},{"$f":"COUNTIF(L45:L52,AS14)","v":0},{"$f":"AT14/(AV4-AT11)","v":0},{"$f":"IF(AU14=0,0,(AU14*((LOG(AU14))/LOG(2))))","v":0}]
[21,1040,11,1049,11,1058,null,null,null,null,0,211,null,null,null,{"$f":"SUM(P7:P14)","v":1},{"$f":"-SUM(Q7:Q14)","v":0.82506877049988936},null,null,null,null,{"$f":"SUM(V7:V14)","v":1},{"$f":"-SUM(W7:W14)","v":1},null,null,null,{"$f":"SUM(AA7:AA14)","v":{"$error":"#DIV/0!"}},{"$f":"-SUM(AB7:AB14)","v":{"$error":"#DIV/0!"}},null,null,null,{"$f":"SUM(AF7:AF14)","v":1},{"$f":"-SUM(AG7:AG14)","v":0},null,null,null,{"$f":"SUM(AK7:AK14)","v":1},{"$f":"-SUM(AL7:AL14)","v":0},null,null,null,{"$f":"SUM(AP7:AP14)","v":{"$error":"#DIV/0!"}},{"$f":"-SUM(AQ7:AQ14)","v":{"$error":"#DIV/0!"}},null,null,null,{"$f":"SUM(AU7:AU14)","v":1},{"$f":"-SUM(AV7:AV14)","v":0.91829583405448945}]
[21,1152,11,1158,11,1166,null,null,null,null,0,211,null,null,null,"U=",{"$f":"Q15/(LOG(Q4)/LOG(2))","v":0.14937259273341499},null,null,null,null,"U1=",{"$f":"W15/(LOG(W4)/LOG(2))","v":0.33333333333333331},null,null,null,"U2=",{"$f":"AB15/(LOG(AB4)/LOG(2))","v":{"$error":"#DIV/0!"}},null,null,null,"U3=",{"$f":"AG15/(LOG(AG4)/LOG(2))","v":0},null,null,null,"U4=",{"$f":"AL15/(LOG(AL4)/LOG(2))","v":0},null,null,null,"U5=",{"$f":"AQ15/(LOG(AQ4)/LOG(2))","v":{"$error":"#DIV/0!"}},null,null,null,"U6=",{"$f":"AV15/(LOG(AV4)/LOG(2))","v":0.30609861135149646}]
[21,1258,11,1267,11,1275,null,null,null,null,0,211]
[21,1366,11,1377,11,1386,null,null,null,null,0,211]
[21,1475,11,1486,11,1495,null,null,null,null,0,211,null,"Total Target Seq"]
[21,1602,11,1611,11,1620,null,null,null,null,0,211,null,{"$f":"COUNTIF(L7:L52,G3)","v":39},null,8,7,8,8,7,8]
[21,1715,11,1720,11,1725,null,null,null,null,0,211,null,null,null,"% of reinforcement given in 6 equal intervals based on number of trials "]
[21,1814,11,1820,11,1825,null,null,null,null,0,211,null,null,null,"%_1","%_2","%_3","%_4","%_5","%_6"]
[21,1914,11,1925,22,1973,null,null,null,null,0,212,null,null,"target sequence",{"$f":"$G$3","v":211},{"$f":"$G$3","v":211},{"$f":"$G$3","v":211},{"$f":"$G$3","v":211},{"$f":"$G$3","v":211},{"$f":"$G$3","v":211}]
[21,2076,11,2081,11,2087,null,null,null,null,0,211,null,null,"total reinforcement",{"$f":"U11","v":6},{"$f":"Z11","v":7},{"$f":"AE11","v":7},{"$f":"AJ11","v":7},{"$f":"AO11","v":7},{"$f":"AT11","v":5}]
[21,2181,11,2189,11,2197,null,null,null,null,0,211,null,null,"% target"]
[21,2284,11,2294,11,2299,null,null,null,null,0,211,null,null,"CCRF"]
[21,2394,11,2400,11,2412,null,null,null,null,0,211,null,null,"% CCRf"]
[21,2510,11,2524,11,2533,null,null,null,null,0,211,null,null,"average response rate",{"$f":"F14/P20","v":118.375},{"$f":"(F21-F14)/Q20","v":111.14285714285714},{"$f":"(F29-F21)/R20","v":114.5},{"$f":"(F37-F29)/S20","v":109.5},{"$f":"(F44-F37)/T20","v":103.42857142857143},{"$f":"(F52-F44)/U20","v":137.25}]
[21,2628,11,2634,11,2641,null,null,null,null,0,211]
[21,2730,11,2735,11,2739,null,null,null,null,0,211]
[12,2841,13,2851,13,2874,null,null,null,null,0,111]
[21,2979,11,2987,11,2992,null,null,null,null,0,211]
[21,3081,11,3093,11,3099,null,null,null,null,0,211]
[21,3187,11,3195,11,3203,null,null,null,null,0,211]
[21,3295,11,3305,11,3310,null,null,null,null,0,211]
[21,3399,11,3407,11,3412,null,null,null,null,0,211]
[21,3500,11,3509,11,3517,null,null,null,null,0,211]
[21,3605,11,3614,11,3619,null,null,null,null,0,211]
[21,3712,11,3717,11,3722,null,null,null,null,0,211]
[21,3814,11,3822,11,3827,null,null,null,null,0,211]
[21,3916,11,3922,11,3926,null,null,null,null,0,211]
[21,4016,11,4025,11,4033,null,null,null,null,0,211]
[21,4127,11,4135,11,4140,null,null,null,null,0,211]
[21,4232,11,4237,11,4241,null,null,null,null,0,211]
[21,4336,11,4342,11,4346,null,null,null,null,0,211]
[21,4437,11,4443,11,4450,null,null,null,null,0,211]
[12,4548,13,4554,24,4678,null,null,null,null,0,112]
[12,4868,13,4892,13,4901,null,null,null,null,0,111]
[12,5009,13,5013,13,5021,null,null,null,null,0,111]
[21,5120,11,5126,11,5130,null,null,null,null,0,211]
[21,5221,11,5228,11,5232,null,null,null,null,0,211]
[21,5328,11,5333,11,5339,null,null,null,null,1,211]

{"sheet":"!M531A40.105","index":31,"n_rows":83,"n_cols":48,"rows_kept":83,"cut":false,"hidden":false,"merged":[[4,39,4,42],[5,39,5,40],[4,44,4,47],[5,44,5,45],[4,24,4,27],[5,24,5,25],[4,29,4,32],[5,29,5,30],[4,34,4,37],[5,34,5,35],[1,1,1,2],[5,13,5,14],[18,13,18,14],[19,13,19,14],[4,19,4,22],[5,19,5,20]]}
["Report for:!M531A40.105"]
["Date:","<date>"]
["Hen:","<hen>",null,null,null,"Correct Sequence",{"$f":"Start!J2","v":211},null,null,null,null,null,null,null,null,"Total Sequences in Data",{"$f":"4994-COUNTBLANK(L7:L5000)","v":77},null,null,null,null,"Total Sequences in Block Data",{"$f":"COUNTA(L7:L19)","v":13},null,null,null,"Total Sequences in Block Data",{"$f":"COUNTA(L20:L32)","v":13},null,null,null,"Total Sequences in Block Data",{"$f":"COUNTA(L33:L44)","v":12},null,null,null,"Total Sequences in Block Data",{"$f":"COUNTA(L45:L57)","v":13},null,null,null,"Total Sequences in Block Data",{"$f":"COUNTA(L58:L70)","v":13},null,null,null,"Total Sequences in Block Data",{"$f":"COUNTA(L71:L83)","v":13}]
[null,null,null,null,null,null,null,null,null,null,null,null,null,null,null,"Total Sequences in Summary",{"$f":"SUM(O7:O14)","v":77},null,null,null,null,"Total Sequences in Block Summary",{"$f":"SUM(U7:U14)","v":13},null,null,null,"Total Sequences in Block Summary",{"$f":"SUM(Z7:Z14)","v":13},null,null,null,"Total Sequences in Block Summary",{"$f":"SUM(AE7:AE14)","v":12},null,null,null,"Total Sequences in Block Summary",{"$f":"SUM(AJ7:AJ14)","v":13},null,null,null,"Total Sequences in Block Summary",{"$f":"SUM(AO7:AO14)","v":13},null,null,null,"Total Sequences in Block Summary",{"$f":"SUM(AT7:AT14)","v":13}]
[null,null,null,null,null,null,null,null,null,null,null,null,null,null,null,null,null,null,null,"Block 1",null,null,null,null,"Block 2",null,null,null,null,"Block 3",null,null,null,null,"Block 4",null,null,null,null,"Block 5",null,null,null,null,"Block 6"]
["Sequence\nComponent\n1","Time\n1","Sequence\nComponent\n2","Time\n2","Sequence\nComponent\n3","Time\n3","Sequence\nComponent\n4","Time\n4","Sequence\nComponent\n5","Time\n5","Correct?\n0=No 1=Yes","Sequence",null,"Frequency",null,"Relative Frequency","Variability",null,null,"Frequency",null,"Relative Frequency","Variability",null,"Frequency",null,"Relative Frequency","Variability",null,"Frequency",null,"Relative Frequency","Variability",null,"Frequency",null,"Relative Frequency","Variability",null,"Frequency",null,"Relative Frequency","Variability",null,"Frequency",null,"Relative Frequency","Variability"]
[21,13,11,36,11,46,null,null,null,null,0,211,null,111,{"$f":"COUNTIF($L$7:$L$500,N7)","v":20},{"$f":"O7/$Q$4","v":0.25974025974025972},{"$f":"IF(P7=0,0,(P7*((LOG(P7))/LOG(2))))","v":-0.50515803787208802},null,null,{"$f":"N7","v":111},{"$f":"COUNTIF(L7:L19,T7)","v":2},{"$f":"U7/(W4-U11)","v":1},{"$f":"IF(V7=0,0,(V7*((LOG(V7))/LOG(2))))","v":0},null,{"$f":"N7","v":111},{"$f":"COUNTIF(L20:L32,Y7)","v":2},{"$f":"Z7/(AB4-Z11)","v":0.5},{"$f":"IF(AA7=0,0,(AA7*((LOG(AA7))/LOG(2))))","v":-0.5},null,{"$f":"N7","v":111},{"$f":"COUNTIF(L33:L44,AD7)","v":5},{"$f":"AE7/(AG4-AE11)","v":0.7142857142857143},{"$f":"IF(AF7=0,0,(AF7*((LOG(AF7))/LOG(2))))","v":-0.34673344797874411},null,{"$f":"N7","v":111},{"$f":"COUNTIF(L45:L57,AI7)","v":3},{"$f":"AJ7/(AL4-AJ11)","v":0.5},{"$f":"IF(AK7=0,0,(AK7*((LOG(AK7))/LOG(2))))","v":-0.5},null,{"$f":"N7","v":111},{"$f":"COUNTIF(L58:L70,AN7)","v":5},{"$f":"AO7/(AQ4-AO11)","v":0.5},{"$f":"IF(AP7=0,0,(AP7*((LOG(AP7))/LOG(2))))","v":-0.5},null,{"$f":"N7","v":111},{"$f":"COUNTIF(L71:L83,AS7)","v":3},{"$f":"AT7/(AV4-AT11)","v":0.33333333333333331},{"$f":"IF(AU7=0,0,(AU7*((LOG(AU7))/LOG(2))))","v":-0.52832083357371862}]
[21,146,11,156,11,161,null,null,null,null,0,211,null,112,{"$f":"COUNTIF($L$7:$L$500,N8)","v":16},{"$f":"O8/$Q$4","v":0.20779220779220781},{"$f":"IF(P8=0,0,(P8*((LOG(P8))/LOG(2))))","v":-0.47102057988465479},null,null,{"$f":"N8","v":112},{"$f":"COUNTIF(L7:L19,T8)","v":0},{"$f":"U8/(W4-U11)","v":0},{"$f":"IF(V8=0,0,(V8*((LOG(V8))/LOG(2))))","v":0},null,{"$f":"N8","v":112},{"$f":"COUNTIF(L20:L32,Y8)","v":2},{"$f":"Z8/(AB4-Z11)","v":0.5},{"$f":"IF(AA8=0,0,(AA8*((LOG(AA8))/LOG(2))))","v":-0.5},null,{"$f":"N8","v":112},{"$f":"COUNTIF(L33:L44,AD8)","v":1},{"$f":"AE8/(AG4-AE11)","v":0.14285714285714285},{"$f":"IF(AF8=0,0,(AF8*((LOG(AF8))/LOG(2))))","v":-0.40105070315108626},null,{"$f":"N8","v":112},{"$f":"COUNTIF(L45:L57,AI8)","v":3},{"$f":"AJ8/(AL4-AJ11)","v":0.5},{"$f":"IF(AK8=0,0,(AK8*((LOG(AK8))/LOG(2))))","v":-0.5},null,{"$f":"N8","v":112},{"$f":"COUNTIF(L58:L70,AN8)","v":5},{"$f":"AO8/(AQ4-AO11)","v":0.5},{"$f":"IF(AP8=0,0,(AP8*((LOG(AP8))/LOG(2))))","v":-0.5},null,{"$f":"N8","v":112},{"$f":"COUNTIF(L71:L83,AS8)","v":5},{"$f":"AT8/(AV4-AT11)","v":0.55555555555555558},{"$f":"IF(AU8=0,0,(AU8*((LOG(AU8))/LOG(2))))","v":-0.4711093925305278}]
[21,264,11,270,11,276,null,null,null,null,0,211,null,121,{"$f":"COUNTIF($L$7:$L$500,N9)","v":0},{"$f":"O9/$Q$4","v":0},{"$f":"IF(P9=0,0,(P9*((LOG(P9))/LOG(2))))","v":0},null,null,{"$f":"N9","v":121},{"$f":"COUNTIF(L7:L19,T9)","v":0},{"$f":"U9/(W4-U11)","v":0},{"$f":"IF(V9=0,0,(V9*((LOG(V9))/LOG(2))))","v":0},null,{"$f":"N9","v":121},{"$f":"COUNTIF(L20:L32,Y9)","v":0},{"$f":"Z9/(AB4-Z11)","v":0},{"$f":"IF(AA9=0,0,(AA9*((LOG(AA9))/LOG(2))))","v":0},null,{"$f":"N9","v":121},{"$f":"COUNTIF(L33:L44,AD9)","v":0},{"$f":"AE9/(AG4-AE11)","v":0},{"$f":"IF(AF9=0,0,(AF9*((LOG(AF9))/LOG(2))))","v":0},null,{"$f":"N9","v":121},{"$f":"COUNTIF(L45:L57,AI9)","v":0},{"$f":"AJ9/(AL4-AJ11)","v":0},{"$f":"IF(AK9=0,0,(AK9*((LOG(AK9))/LOG(2))))","v":0},null,{"$f":"N9","v":121},{"$f":"COUNTIF(L58:L70,AN9)","v":0},{"$f":"AO9/(AQ4-AO11)","v":0},{"$f":"IF(AP9=0,0,(AP9*((LOG(AP9))/LOG(2))))","v":0},null,{"$f":"N9","v":121},{"$f":"COUNTIF(L71:L83,AS9)","v":0},{"$f":"AT9/(AV4-AT11)","v":0},{"$f":"IF(AU9=0,0,(AU9*((LOG(AU9))/LOG(2))))","v":0}]
[21,372,11,378,11,385,null,null,null,null,0,211,null,122,{"$f":"COUNTIF($L$7:$L$500,N10)","v":1},{"$f":"O10/$Q$4","v":1.2987012987012988E-2},{"$f":"IF(P10=0,0,(P10*((LOG(P10))/LOG(2))))","v":-8.1386838190842872E-2},null,null,{"$f":"N10","v":122},{"$f":"COUNTIF(L7:L19,T10)","v":0},{"$f":"U10/(W4-U11)","v":0},{"$f":"IF(V10=0,0,(V10*((LOG(V10))/LOG(2))))","v":0},null,{"$f":"N10","v":122},{"$f":"COUNTIF(L20:L32,Y10)","v":0},{"$f":"Z10/(AB4-Z11)","v":0},{"$f":"IF(AA10=0,0,(AA10*((LOG(AA10))/LOG(2))))","v":0},null,{"$f":"N10","v":122},{"$f":"COUNTIF(L33:L44,AD10)","v":0},{"$f":"AE10/(AG4-AE11)","v":0},{"$f":"IF(AF10=0,0,(AF10*((LOG(AF10))/LOG(2))))","v":0},null,{"$f":"N10","v":122},{"$f":"COUNTIF(L45:L57,AI10)","v":0},{"$f":"AJ10/(AL4-AJ11)","v":0},{"$f":"IF(AK10=0,0,(AK10*((LOG(AK10))/LOG(2))))","v":0},null,{"$f":"N10","v":122},{"$f":"COUNTIF(L58:L70,AN10)","v":0},{"$f":"AO10/(AQ4-AO11)","v":0},{"$f":"IF(AP10=0,0,(AP10*((LOG(AP10))/LOG(2))))","v":0},null,{"$f":"N10","v":122},{"$f":"COUNTIF(L71:L83,AS10)","v":1},{"$f":"AT10/(AV4-AT11)","v":0.1111111111111111},{"$f":"IF(AU10=0,0,(AU10*((LOG(AU10))/LOG(2))))","v":-0.3522138890491458}]
[21,477,11,484,11,494,null,null,null,null,0,211,null,211,{"$f":"COUNTIF($L$7:$L$500,N11)","v":39},{"$f":"O11/$Q$4","v":0.50649350649350644},{"$f":"IF(P11=0,0,(P11*((LOG(P11))/LOG(2))))","v":-0.49706478638277229},null,null,{"$f":"N11","v":211},{"$f":"COUNTIF(L7:L19,T11)","v":11},null,null,null,{"$f":"N11","v":211},{"$f":"COUNTIF(L20:L32,Y11)","v":9},null,null,null,{"$f":"N11","v":211},{"$f":"COUNTIF(L33:L44,AD11)","v":5},null,null,null,{"$f":"N11","v":211},{"$f":"COUNTIF(L45:L57,AI11)","v":7},null,null,null,{"$f":"N11","v":211},{"$f":"COUNTIF(L58:L70,AN11)","v":3},null,null,null,{"$f":"N11","v":211},{"$f":"COUNTIF(L71:L83,AS11)","v":4}]
[21,584,11,590,11,596,null,null,null,null,0,211,null,212,{"$f":"COUNTIF($L$7:$L$500,N12)","v":1},{"$f":"O12/$Q$4","v":1.2987012987012988E-2},{"$f":"IF(P12=0,0,(P12*((LOG(P12))/LOG(2))))","v":-8.1386838190842872E-2},null,null,{"$f":"N12","v":212},{"$f":"COUNTIF(L7:L19,T12)","v":0},{"$f":"U12/(W4-U11)","v":0},{"$f":"IF(V12=0,0,(V12*((LOG(V12))/LOG(2))))","v":0},null,{"$f":"N12","v":212},{"$f":"COUNTIF(L20:L32,Y12)","v":0},{"$f":"Z12/(AB4-Z11)","v":0},{"$f":"IF(AA12=0,0,(AA12*((LOG(AA12))/LOG(2))))","v":0},null,{"$f":"N12","v":212},{"$f":"COUNTIF(L33:L44,AD12)","v":1},{"$f":"AE12/(AG4-AE11)","v":0.14285714285714285},{"$f":"IF(AF12=0,0,(AF12*((LOG(AF12))/LOG(2))))","v":-0.40105070315108626},null,{"$f":"N12","v":212},{"$f":"COUNTIF(L45:L57,AI12)","v":0},{"$f":"AJ12/(AL4-AJ11)","v":0},{"$f":"IF(AK12=0,0,(AK12*((LOG(AK12))/LOG(2))))","v":0},null,{"$f":"N12","v":212},{"$f":"COUNTIF(L58:L70,AN12)","v":0},{"$f":"AO12/(AQ4-AO11)","v":0},{"$f":"IF(AP12=0,0,(AP12*((LOG(AP12))/LOG(2))))","v":0},null,{"$f":"N12","v":212},{"$f":"COUNTIF(L71:L83,AS12)","v":0},{"$f":"AT12/(AV4-AT11)","v":0},{"$f":"IF(AU12=0,0,(AU12*((LOG(AU12))/LOG(2))))","v":0}]
[12,693,13,703,13,733,null,null,null,null,0,111,null,221,{"$f":"COUNTIF($L$7:$L$500,N13)","v":0},{"$f":"O13/$Q$4","v":0},{"$f":"IF(P13=0,0,(P13*((LOG(P13))/LOG(2))))","v":0},null,null,{"$f":"N13","v":221},{"$f":"COUNTIF(L7:L19,T13)","v":0},{"$f":"U13/(W4-U11)","v":0},{"$f":"IF(V13=0,0,(V13*((LOG(V13))/LOG(2))))","v":0},null,{"$f":"N13","v":221},{"$f":"COUNTIF(L20:L32,Y13)","v":0},{"$f":"Z13/(AB4-Z11)","v":0},{"$f":"IF(AA13=0,0,(AA13*((LOG(AA13))/LOG(2))))","v":0},null,{"$f":"N13","v":221},{"$f":"COUNTIF(L33:L44,AD13)","v":0},{"$f":"AE13/(AG4-AE11)","v":0},{"$f":"IF(AF13=0,0,(AF13*((LOG(AF13))/LOG(2))))","v":0},null,{"$f":"N13","v":221},{"$f":"COUNTIF(L45:L57,AI13)","v":0},{"$f":"AJ13/(AL4-AJ11)","v":0},{"$f":"IF(AK13=0,0,(AK13*((LOG(AK13))/LOG(2))))","v":0},null,{"$f":"N13","v":221},{"$f":"COUNTIF(L58:L70,AN13)","v":0},{"$f":"AO13/(AQ4-AO11)","v":0},{"$f":"IF(AP13=0,0,(AP13*((LOG(AP13))/LOG(2))))","v":0},null,{"$f":"N13","v":221},{"$f":"COUNTIF(L71:L83,AS13)","v":0},{"$f":"AT13/(AV4-AT11)","v":0},{"$f":"IF(AU13=0,0,(AU13*((LOG(AU13))/LOG(2))))","v":0}]
[12,833,13,925,13,1042,null,null,null,null,0,111,null,222,{"$f":"COUNTIF($L$7:$L$500,N14)","v":0},{"$f":"O14/$Q$4","v":0},{"$f":"IF(P14=0,0,(P14*((LOG(P14))/LOG(2))))","v":0},null,null,{"$f":"N14","v":222},{"$f":"COUNTIF(L7:L19,T14)","v":0},{"$f":"U14/(W4-U11)","v":0},{"$f":"IF(V14=0,0,(V14*((LOG(V14))/LOG(2))))","v":0},null,{"$f":"N14","v":222},{"$f":"COUNTIF(L20:L32,Y14)","v":0},{"$f":"Z14/(AB4-Z11)","v":0},{"$f":"IF(AA14=0,0,(AA14*((LOG(AA14))/LOG(2))))","v":0},null,{"$f":"N14","v":222},{"$f":"COUNTIF(L33:L44,AD14)","v":0},{"$f":"AE14/(AG4-AE11)","v":0},{"$f":"IF(AF14=0,0,(AF14*((LOG(AF14))/LOG(2))))","v":0},null,{"$f":"N14","v":222},{"$f":"COUNTIF(L45:L57,AI14)","v":0},{"$f":"AJ14/(AL4-AJ11)","v":0},{"$f":"IF(AK14=0,0,(AK14*((LOG(AK14))/LOG(2))))","v":0},null,{"$f":"N14","v":222},{"$f":"COUNTIF(L58:L70,AN14)","v":0},{"$f":"AO14/(AQ4-AO11)","v":0},{"$f":"IF(AP14=0,0,(AP14*((LOG(AP14))/LOG(2))))","v":0},null,{"$f":"N14","v":222},{"$f":"COUNTIF(L71:L83,AS14)","v":0},{"$f":"AT14/(AV4-AT11)","v":0},{"$f":"IF(AU14=0,0,(AU14*((LOG(AU14))/LOG(2))))","v":0}]
[21,1142,11,1152,11,1157,null,null,null,null,0,211,null,null,null,{"$f":"SUM(P7:P14)","v":0.99999999999999989},{"$f":"-SUM(Q7:Q14)","v":1.6360170805212009},null,null,null,null,{"$f":"SUM(V7:V14)","v":1},{"$f":"-SUM(W7:W14)","v":0},null,null,null,{"$f":"SUM(AA7:AA14)","v":1},{"$f":"-SUM(AB7:AB14)","v":1},null,null,null,{"$f":"SUM(AF7:AF14)","v":1},{"$f":"-SUM(AG7:AG14)","v":1.1488348542809166},null,null,null,{"$f":"SUM(AK7:AK14)","v":1},{"$f":"-SUM(AL7:AL14)","v":1},null,null,null,{"$f":"SUM(AP7:AP14)","v":1},{"$f":"-SUM(AQ7:AQ14)","v":1},null,null,null,{"$f":"SUM(AU7:AU14)","v":1},{"$f":"-SUM(AV7:AV14)","v":1.3516441151533922}]
[21,1248,11,1257,11,1276,null,null,null,null,0,211,null,null,null,"U=",{"$f":"Q15/(LOG(Q4)/LOG(2))","v":0.26106156159896726},null,null,null,null,"U1=",{"$f":"W15/(LOG(W4)/LOG(2))","v":0},null,null,null,"U2=",{"$f":"AB15/(LOG(AB4)/LOG(2))","v":0.27023815442731974},null,null,null,"U3=",{"$f":"AG15/(LOG(AG4)/LOG(2))","v":0.32045937831980537},null,null,null,"U4=",{"$f":"AL15/(LOG(AL4)/LOG(2))","v":0.27023815442731974},null,null,null,"U5=",{"$f":"AQ15/(LOG(AQ4)/LOG(2))","v":0.27023815442731974},null,null,null,"U6=",{"$f":"AV15/(LOG(AV4)/LOG(2))","v":0.36526581112160034}]
[21,1375,11,1384,11,1394,null,null,null,null,0,211]
[21,1484,11,1489,11,1495,null,null,null,null,0,211]
[21,1585,11,1593,11,1602,null,null,null,null,0,211,null,"Total Target Seq"]
[21,1693,11,1699,11,1704,null,null,null,null,0,211,null,{"$f":"COUNTIF(L7:L83,G3)","v":39},null,13,13,12,13,13,13]
[21,1793,11,1803,11,1811,null,null,null,null,0,211,null,null,null,"% of reinforcement given in 6 equal intervals based on number of trials "]
[21,1900,11,1909,11,1918,null,null,null,null,0,211,null,null,null,"%_1","%_2","%_3","%_4","%_5","%_6"]
[21,2011,11,2017,11,2022,null,null,null,null,0,211,null,null,"target sequence",{"$f":"$G$3","v":211},{"$f":"$G$3","v":211},{"$f":"$G$3","v":211},{"$f":"$G$3","v":211},{"$f":"$G$3","v":211},{"$f":"$G$3","v":211}]
[21,2113,11,2122,11,2128,null,null,null,null,0,211,null,null,"total reinforcement",{"$f":"U11","v":11},{"$f":"Z11","v":9},{"$f":"AE11","v":5},{"$f":"AJ11","v":7},{"$f":"AO11","v":3},{"$f":"AT11","v":4}]
[21,2217,11,2232,11,2251,null,null,null,null,0,211,null,null,"% target"]
[12,2349,13,2356,24,2465,null,null,null,null,0,112,null,null,"CCRF"]
[12,2578,13,2588,13,2617,null,null,null,null,0,111,null,null,"% CCRf"]
[21,2715,11,2724,11,2730,null,null,null,null,0,211,null,null,"average response rate",{"$f":"F19/P20","v":123.23076923076923},{"$f":"(F32-F19)/Q20","v":127.92307692307692},{"$f":"(F44-F32)/R20","v":127.25},{"$f":"(F57-F44)/S20","v":142.23076923076923},{"$f":"(F70-F57)/T20","v":139.30769230769232},{"$f":"(F83-F70)/U20","v":161.53846153846155}]
[21,2823,11,2831,11,2840,null,null,null,null,0,211]
[21,2930,11,2939,11,2945,null,null,null,null,0,211]
[12,3044,13,3052,24,3121,null,null,null,null,0,112]
[12,3232,13,3242,13,3265,null,null,null,null,0,111]
[21,3364,11,3370,22,3406,null,null,null,null,0,212]
[21,3508,11,3514,11,3520,null,null,null,null,0,211]
[21,3609,11,3616,11,3622,null,null,null,null,0,211]
[12,3720,13,3731,13,3752,null,null,null,null,0,111]
[21,3851,11,3857,11,3864,null,null,null,null,0,211]
[12,3961,13,3966,24,3987,null,null,null,null,0,112]
[21,4088,11,4096,11,4118,null,null,null,null,0,211]
[12,4214,13,4221,13,4241,null,null,null,null,0,111]
[12,4348,13,4352,13,4370,null,null,null,null,0,111]
[21,4469,11,4477,11,4483,null,null,null,null,0,211]
[12,4579,13,4584,13,4600,null,null,null,null,0,111]
[12,4710,13,4715,13,4792,null,null,null,null,0,111]
[21,4892,11,4903,11,4912,null,null,null,null,0,211]
[21,5005,11,5011,11,5020,null,null,null,null,0,211]
[12,5116,13,5122,13,5144,null,null,null,null,0,111]
[21,5242,11,5248,11,5253,null,null,null,null,0,211]
[12,5348,13,5354,13,5378,null,null,null,null,0,111]
[21,5483,11,5489,11,5498,null,null,null,null,0,211]
[12,5599,13,5608,13,5766,null,null,null,null,0,111]
[21,5870,11,5879,11,5886,null,null,null,null,0,211]
[12,5987,13,5992,24,6071,null,null,null,null,0,112]
[21,6167,11,6177,11,6181,null,null,null,null,0,211]
[12,6277,13,6283,24,6359,null,null,null,null,0,112]
[12,6472,13,6484,24,6520,null,null,null,null,0,112]
[21,6619,11,6627,11,6641,null,null,null,null,0,211]
[12,6742,13,6751,13,6800,null,null,null,null,0,111]
[21,6904,11,6913,11,6920,null,null,null,null,0,211]
[21,7008,11,7016,11,7022,null,null,null,null,0,211]
[12,7122,13,7131,13,7152,null,null,null,null,0,111]
[12,7258,13,7263,13,7287,null,null,null,null,0,111]
[12,7394,13,7400,13,7417,null,null,null,null,0,111]
[21,7517,11,7525,11,7543,null,null,null,null,0,211]
[12,7641,13,7647,24,7686,null,null,null,null,0,112]
[12,7794,13,7799,24,7856,null,null,null,null,0,112]
[12,7962,13,7967,24,8008,null,null,null,null,0,112]
[12,8114,13,8119,24,8177,null,null,null,null,0,112]
[12,8281,13,8286,13,8296,null,null,null,null,0,111]
[12,8401,13,8406,24,8452,null,null,null,null,0,112]
[12,8565,13,8571,13,8650,null,null,null,null,0,111]
[12,8757,13,8763,24,8855,null,null,null,null,0,112]
[21,8951,11,8959,11,8963,null,null,null,null,0,211]
[12,9066,24,9117,24,9139,null,null,null,null,0,122]
[21,9236,11,9248,11,9258,null,null,null,null,0,211]
[12,9354,13,9361,24,9421,null,null,null,null,0,112]
[12,9526,13,9533,24,9586,null,null,null,null,0,112]
[12,9700,13,9707,13,9785,null,null,null,null,0,111]
[21,9882,11,9888,11,9892,null,null,null,null,0,211]
[12,10000,13,10009,24,10099,null,null,null,null,0,112]
[12,10205,13,10211,13,10229,null,null,null,null,0,111]
[12,10338,13,10344,24,10443,null,null,null,null,0,112]
[21,10539,11,10547,11,10552,null,null,null,null,1,211]

{"sheet":"!M601B10.105","index":32,"n_rows":82,"n_cols":48,"rows_kept":82,"cut":false,"hidden":false,"merged":[[4,39,4,42],[5,39,5,40],[4,44,4,47],[5,44,5,45],[4,24,4,27],[5,24,5,25],[4,29,4,32],[5,29,5,30],[4,34,4,37],[5,34,5,35],[1,1,1,2],[5,13,5,14],[18,13,18,14],[19,13,19,14],[4,19,4,22],[5,19,5,20]]}
["Report for:!M601B10.105"]
["Date:","<date>"]
["Hen:","<hen>",null,null,null,"Correct Sequence",{"$f":"Start!J2","v":211},null,null,null,null,null,null,null,null,"Total Sequences in Data",{"$f":"4994-COUNTBLANK(L7:L5000)","v":76},null,null,null,null,"Total Sequences in Block Data",{"$f":"COUNTA(L7:L19)","v":13},null,null,null,"Total Sequences in Block Data",{"$f":"COUNTA(L20:L31)","v":12},null,null,null,"Total Sequences in Block Data",{"$f":"COUNTA(L32:L44)","v":13},null,null,null,"Total Sequences in Block Data",{"$f":"COUNTA(L45:L57)","v":13},null,null,null,"Total Sequences in Block Data",{"$f":"COUNTA(L58:L69)","v":12},null,null,null,"Total Sequences in Block Data",{"$f":"COUNTA(L70:L82)","v":13}]
[null,null,null,null,null,null,null,null,null,null,null,null,null,null,null,"Total Sequences in Summary",{"$f":"SUM(O7:O14)","v":76},null,null,null,null,"Total Sequences in Block Summary",{"$f":"SUM(U7:U14)","v":13},null,null,null,"Total Sequences in Block Summary",{"$f":"SUM(Z7:Z14)","v":12},null,null,null,"Total Sequences in Block Summary",{"$f":"SUM(AE7:AE14)","v":13},null,null,null,"Total Sequences in Block Summary",{"$f":"SUM(AJ7:AJ14)","v":13},null,null,null,"Total Sequences in Block Summary",{"$f":"SUM(AO7:AO14)","v":12},null,null,null,"Total Sequences in Block Summary",{"$f":"SUM(AT7:AT14)","v":13}]
[null,null,null,null,null,null,null,null,null,null,null,null,null,null,null,null,null,null,null,"Block 1",null,null,null,null,"Block 2",null,null,null,null,"Block 3",null,null,null,null,"Block 4",null,null,null,null,"Block 5",null,null,null,null,"Block 6"]
["Sequence\nComponent\n1","Time\n1","Sequence\nComponent\n2","Time\n2","Sequence\nComponent\n3","Time\n3","Sequence\nComponent\n4","Time\n4","Sequence\nComponent\n5","Time\n5","Correct?\n0=No 1=Yes","Sequence",null,"Frequency",null,"Relative Frequency","Variability",null,null,"Frequency",null,"Relative Frequency","Variability",null,"Frequency",null,"Relative Frequency","Variability",null,"Frequency",null,"Relative Frequency","Variability",null,"Frequency",null,"Relative Frequency","Variability",null,"Frequency",null,"Relative Frequency","Variability",null,"Frequency",null,"Relative Frequency","Variability"]
[12,14,13,62,13,70,null,null,null,null,0,111,null,111,{"$f":"COUNTIF($L$7:$L$500,N7)","v":17},{"$f":"O7/$Q$4","v":0.22368421052631579},{"$f":"IF(P7=0,0,(P7*((LOG(P7))/LOG(2))))","v":-0.48326183456954191},null,null,{"$f":"N7","v":111},{"$f":"COUNTIF(L7:L19,T7)","v":1},{"$f":"U7/(W4-U11)","v":0.2},{"$f":"IF(V7=0,0,(V7*((LOG(V7))/LOG(2))))","v":-0.46438561897747244},null,{"$f":"N7","v":111},{"$f":"COUNTIF(L20:L31,Y7)","v":2},{"$f":"Z7/(AB4-Z11)","v":0.33333333333333331},{"$f":"IF(AA7=0,0,(AA7*((LOG(AA7))/LOG(2))))","v":-0.52832083357371862},null,{"$f":"N7","v":111},{"$f":"COUNTIF(L32:L44,AD7)","v":2},{"$f":"AE7/(AG4-AE11)","v":0.33333333333333331},{"$f":"IF(AF7=0,0,(AF7*((LOG(AF7))/LOG(2))))","v":-0.52832083357371862},null,{"$f":"N7","v":111},{"$f":"COUNTIF(L45:L57,AI7)","v":5},{"$f":"AJ7/(AL4-AJ11)","v":0.7142857142857143},{"$f":"IF(AK7=0,0,(AK7*((LOG(AK7))/LOG(2))))","v":-0.34673344797874411},null,{"$f":"N7","v":111},{"$f":"COUNTIF(L58:L69,AN7)","v":3},{"$f":"AO7/(AQ4-AO11)","v":0.42857142857142855},{"$f":"IF(AP7=0,0,(AP7*((LOG(AP7))/LOG(2))))","v":-0.52388246628704915},null,{"$f":"N7","v":111},{"$f":"COUNTIF(L70:L82,AS7)","v":4},{"$f":"AT7/(AV4-AT11)","v":0.66666666666666663},{"$f":"IF(AU7=0,0,(AU7*((LOG(AU7))/LOG(2))))","v":-0.38997500048077083}]
[21,170,11,175,11,180,null,null,null,null,0,211,null,112,{"$f":"COUNTIF($L$7:$L$500,N8)","v":13},{"$f":"O8/$Q$4","v":0.17105263157894737},{"$f":"IF(P8=0,0,(P8*((LOG(P8))/LOG(2))))","v":-0.43575449130174226},null,null,{"$f":"N8","v":112},{"$f":"COUNTIF(L7:L19,T8)","v":1},{"$f":"U8/(W4-U11)","v":0.2},{"$f":"IF(V8=0,0,(V8*((LOG(V8))/LOG(2))))","v":-0.46438561897747244},null,{"$f":"N8","v":112},{"$f":"COUNTIF(L20:L31,Y8)","v":2},{"$f":"Z8/(AB4-Z11)","v":0.33333333333333331},{"$f":"IF(AA8=0,0,(AA8*((LOG(AA8))/LOG(2))))","v":-0.52832083357371862},null,{"$f":"N8","v":112},{"$f":"COUNTIF(L32:L44,AD8)","v":2},{"$f":"AE8/(AG4-AE11)","v":0.33333333333333331},{"$f":"IF(AF8=0,0,(AF8*((LOG(AF8))/LOG(2))))","v":-0.52832083357371862},null,{"$f":"N8","v":112},{"$f":"COUNTIF(L45:L57,AI8)","v":2},{"$f":"AJ8/(AL4-AJ11)","v":0.2857142857142857},{"$f":"IF(AK8=0,0,(AK8*((LOG(AK8))/LOG(2))))","v":-0.51638712058788683},null,{"$f":"N8","v":112},{"$f":"COUNTIF(L58:L69,AN8)","v":4},{"$f":"AO8/(AQ4-AO11)","v":0.5714285714285714},{"$f":"IF(AP8=0,0,(AP8*((LOG(AP8))/LOG(2))))","v":-0.46134566974720237},null,{"$f":"N8","v":112},{"$f":"COUNTIF(L70:L82,AS8)","v":2},{"$f":"AT8/(AV4-AT11)","v":0.33333333333333331},{"$f":"IF(AU8=0,0,(AU8*((LOG(AU8))/LOG(2))))","v":-0.52832083357371862}]
[12,276,13,282,24,360,null,null,null,null,0,112,null,121,{"$f":"COUNTIF($L$7:$L$500,N9)","v":0},{"$f":"O9/$Q$4","v":0},{"$f":"IF(P9=0,0,(P9*((LOG(P9))/LOG(2))))","v":0},null,null,{"$f":"N9","v":121},{"$f":"COUNTIF(L7:L19,T9)","v":0},{"$f":"U9/(W4-U11)","v":0},{"$f":"IF(V9=0,0,(V9*((LOG(V9))/LOG(2))))","v":0},null,{"$f":"N9","v":121},{"$f":"COUNTIF(L20:L31,Y9)","v":0},{"$f":"Z9/(AB4-Z11)","v":0},{"$f":"IF(AA9=0,0,(AA9*((LOG(AA9))/LOG(2))))","v":0},null,{"$f":"N9","v":121},{"$f":"COUNTIF(L32:L44,AD9)","v":0},{"$f":"AE9/(AG4-AE11)","v":0},{"$f":"IF(AF9=0,0,(AF9*((LOG(AF9))/LOG(2))))","v":0},null,{"$f":"N9","v":121},{"$f":"COUNTIF(L45:L57,AI9)","v":0},{"$f":"AJ9/(AL4-AJ11)","v":0},{"$f":"IF(AK9=0,0,(AK9*((LOG(AK9))/LOG(2))))","v":0},null,{"$f":"N9","v":121},{"$f":"COUNTIF(L58:L69,AN9)","v":0},{"$f":"AO9/(AQ4-AO11)","v":0},{"$f":"IF(AP9=0,0,(AP9*((LOG(AP9))/LOG(2))))","v":0},null,{"$f":"N9","v":121},{"$f":"COUNTIF(L70:L82,AS9)","v":0},{"$f":"AT9/(AV4-AT11)","v":0},{"$f":"IF(AU9=0,0,(AU9*((LOG(AU9))/LOG(2))))","v":0}]
[21,459,11,465,11,470,null,null,null,null,0,211,null,122,{"$f":"COUNTIF($L$7:$L$500,N10)","v":1},{"$f":"O10/$Q$4","v":1.3157894736842105E-2},{"$f":"IF(P10=0,0,(P10*((LOG(P10))/LOG(2))))","v":-8.2209572545310333E-2},null,null,{"$f":"N10","v":122},{"$f":"COUNTIF(L7:L19,T10)","v":0},{"$f":"U10/(W4-U11)","v":0},{"$f":"IF(V10=0,0,(V10*((LOG(V10))/LOG(2))))","v":0},null,{"$f":"N10","v":122},{"$f":"COUNTIF(L20:L31,Y10)","v":0},{"$f":"Z10/(AB4-Z11)","v":0},{"$f":"IF(AA10=0,0,(AA10*((LOG(AA10))/LOG(2))))","v":0},null,{"$f":"N10","v":122},{"$f":"COUNTIF(L32:L44,AD10)","v":1},{"$f":"AE10/(AG4-AE11)","v":0.16666666666666666},{"$f":"IF(AF10=0,0,(AF10*((LOG(AF10))/LOG(2))))","v":-0.43082708345352599},null,{"$f":"N10","v":122},{"$f":"COUNTIF(L45:L57,AI10)","v":0},{"$f":"AJ10/(AL4-AJ11)","v":0},{"$f":"IF(AK10=0,0,(AK10*((LOG(AK10))/LOG(2))))","v":0},null,{"$f":"N10","v":122},{"$f":"COUNTIF(L58:L69,AN10)","v":0},{"$f":"AO10/(AQ4-AO11)","v":0},{"$f":"IF(AP10=0,0,(AP10*((LOG(AP10))/LOG(2))))","v":0},null,{"$f":"N10","v":122},{"$f":"COUNTIF(L70:L82,AS10)","v":0},{"$f":"AT10/(AV4-AT11)","v":0},{"$f":"IF(AU10=0,0,(AU10*((LOG(AU10))/LOG(2))))","v":0}]
[21,562,11,570,22,611,null,null,null,null,0,212,null,211,{"$f":"COUNTIF($L$7:$L$500,N11)","v":39},{"$f":"O11/$Q$4","v":0.51315789473684215},{"$f":"IF(P11=0,0,(P11*((LOG(P11))/LOG(2))))","v":-0.49392745379831771},null,null,{"$f":"N11","v":211},{"$f":"COUNTIF(L7:L19,T11)","v":8},null,null,null,{"$f":"N11","v":211},{"$f":"COUNTIF(L20:L31,Y11)","v":6},null,null,null,{"$f":"N11","v":211},{"$f":"COUNTIF(L32:L44,AD11)","v":7},null,null,null,{"$f":"N11","v":211},{"$f":"COUNTIF(L45:L57,AI11)","v":6},null,null,null,{"$f":"N11","v":211},{"$f":"COUNTIF(L58:L69,AN11)","v":5},null,null,null,{"$f":"N11","v":211},{"$f":"COUNTIF(L70:L82,AS11)","v":7}]
[21,708,11,714,22,760,null,null,null,null,0,212,null,212,{"$f":"COUNTIF($L$7:$L$500,N12)","v":6},{"$f":"O12/$Q$4","v":7.8947368421052627E-2},{"$f":"IF(P12=0,0,(P12*((LOG(P12))/LOG(2))))","v":-0.28918144837282334},null,null,{"$f":"N12","v":212},{"$f":"COUNTIF(L7:L19,T12)","v":3},{"$f":"U12/(W4-U11)","v":0.6},{"$f":"IF(V12=0,0,(V12*((LOG(V12))/LOG(2))))","v":-0.44217935649972373},null,{"$f":"N12","v":212},{"$f":"COUNTIF(L20:L31,Y12)","v":2},{"$f":"Z12/(AB4-Z11)","v":0.33333333333333331},{"$f":"IF(AA12=0,0,(AA12*((LOG(AA12))/LOG(2))))","v":-0.52832083357371862},null,{"$f":"N12","v":212},{"$f":"COUNTIF(L32:L44,AD12)","v":1},{"$f":"AE12/(AG4-AE11)","v":0.16666666666666666},{"$f":"IF(AF12=0,0,(AF12*((LOG(AF12))/LOG(2))))","v":-0.43082708345352599},null,{"$f":"N12","v":212},{"$f":"COUNTIF(L45:L57,AI12)","v":0},{"$f":"AJ12/(AL4-AJ11)","v":0},{"$f":"IF(AK12=0,0,(AK12*((LOG(AK12))/LOG(2))))","v":0},null,{"$f":"N12","v":212},{"$f":"COUNTIF(L58:L69,AN12)","v":0},{"$f":"AO12/(AQ4-AO11)","v":0},{"$f":"IF(AP12=0,0,(AP12*((LOG(AP12))/LOG(2))))","v":0},null,{"$f":"N12","v":212},{"$f":"COUNTIF(L70:L82,AS12)","v":0},{"$f":"AT12/(AV4-AT11)","v":0},{"$f":"IF(AU12=0,0,(AU12*((LOG(AU12))/LOG(2))))","v":0}]
[21,863,11,869,11,875,null,null,null,null,0,211,null,221,{"$f":"COUNTIF($L$7:$L$500,N13)","v":0},{"$f":"O13/$Q$4","v":0},{"$f":"IF(P13=0,0,(P13*((LOG(P13))/LOG(2))))","v":0},null,null,{"$f":"N13","v":221},{"$f":"COUNTIF(L7:L19,T13)","v":0},{"$f":"U13/(W4-U11)","v":0},{"$f":"IF(V13=0,0,(V13*((LOG(V13))/LOG(2))))","v":0},null,{"$f":"N13","v":221},{"$f":"COUNTIF(L20:L31,Y13)","v":0},{"$f":"Z13/(AB4-Z11)","v":0},{"$f":"IF(AA13=0,0,(AA13*((LOG(AA13))/LOG(2))))","v":0},null,{"$f":"N13","v":221},{"$f":"COUNTIF(L32:L44,AD13)","v":0},{"$f":"AE13/(AG4-AE11)","v":0},{"$f":"IF(AF13=0,0,(AF13*((LOG(AF13))/LOG(2))))","v":0},null,{"$f":"N13","v":221},{"$f":"COUNTIF(L45:L57,AI13)","v":0},{"$f":"AJ13/(AL4-AJ11)","v":0},{"$f":"IF(AK13=0,0,(AK13*((LOG(AK13))/LOG(2))))","v":0},null,{"$f":"N13","v":221},{"$f":"COUNTIF(L58:L69,AN13)","v":0},{"$f":"AO13/(AQ4-AO11)","v":0},{"$f":"IF(AP13=0,0,(AP13*((LOG(AP13))/LOG(2))))","v":0},null,{"$f":"N13","v":221},{"$f":"COUNTIF(L70:L82,AS13)","v":0},{"$f":"AT13/(AV4-AT11)","v":0},{"$f":"IF(AU13=0,0,(AU13*((LOG(AU13))/LOG(2))))","v":0}]
[21,964,11,969,11,974,null,null,null,null,0,211,null,222,{"$f":"COUNTIF($L$7:$L$500,N14)","v":0},{"$f":"O14/$Q$4","v":0},{"$f":"IF(P14=0,0,(P14*((LOG(P14))/LOG(2))))","v":0},null,null,{"$f":"N14","v":222},{"$f":"COUNTIF(L7:L19,T14)","v":0},{"$f":"U14/(W4-U11)","v":0},{"$f":"IF(V14=0,0,(V14*((LOG(V14))/LOG(2))))","v":0},null,{"$f":"N14","v":222},{"$f":"COUNTIF(L20:L31,Y14)","v":0},{"$f":"Z14/(AB4-Z11)","v":0},{"$f":"IF(AA14=0,0,(AA14*((LOG(AA14))/LOG(2))))","v":0},null,{"$f":"N14","v":222},{"$f":"COUNTIF(L32:L44,AD14)","v":0},{"$f":"AE14/(AG4-AE11)","v":0},{"$f":"IF(AF14=0,0,(AF14*((LOG(AF14))/LOG(2))))","v":0},null,{"$f":"N14","v":222},{"$f":"COUNTIF(L45:L57,AI14)","v":0},{"$f":"AJ14/(AL4-AJ11)","v":0},{"$f":"IF(AK14=0,0,(AK14*((LOG(AK14))/LOG(2))))","v":0},null,{"$f":"N14","v":222},{"$f":"COUNTIF(L58:L69,AN14)","v":0},{"$f":"AO14/(AQ4-AO11)","v":0},{"$f":"IF(AP14=0,0,(AP14*((LOG(AP14))/LOG(2))))","v":0},null,{"$f":"N14","v":222},{"$f":"COUNTIF(L70:L82,AS14)","v":0},{"$f":"AT14/(AV4-AT11)","v":0},{"$f":"IF(AU14=0,0,(AU14*((LOG(AU14))/LOG(2))))","v":0}]
[21,1065,11,1073,22,1100,null,null,null,null,0,212,null,null,null,{"$f":"SUM(P7:P14)","v":1},{"$f":"-SUM(Q7:Q14)","v":1.7843348005877355},null,null,null,null,{"$f":"SUM(V7:V14)","v":1},{"$f":"-SUM(W7:W14)","v":1.3709505944546687},null,null,null,{"$f":"SUM(AA7:AA14)","v":1},{"$f":"-SUM(AB7:AB14)","v":1.5849625007211559},null,null,null,{"$f":"SUM(AF7:AF14)","v":0.99999999999999989},{"$f":"-SUM(AG7:AG14)","v":1.9182958340544891},null,null,null,{"$f":"SUM(AK7:AK14)","v":1},{"$f":"-SUM(AL7:AL14)","v":0.863120568566631},null,null,null,{"$f":"SUM(AP7:AP14)","v":1},{"$f":"-SUM(AQ7:AQ14)","v":0.98522813603425152},null,null,null,{"$f":"SUM(AU7:AU14)","v":1},{"$f":"-SUM(AV7:AV14)","v":0.91829583405448945}]
[21,1200,11,1205,11,1215,null,null,null,null,0,211,null,null,null,"U=",{"$f":"Q15/(LOG(Q4)/LOG(2))","v":0.2855882685495959},null,null,null,null,"U1=",{"$f":"W15/(LOG(W4)/LOG(2))","v":0.37048315845646657},null,null,null,"U2=",{"$f":"AB15/(LOG(AB4)/LOG(2))","v":0.4421141086977402},null,null,null,"U3=",{"$f":"AG15/(LOG(AG4)/LOG(2))","v":0.51839672584050112},null,null,null,"U4=",{"$f":"AL15/(LOG(AL4)/LOG(2))","v":0.23324810949770525},null,null,null,"U5=",{"$f":"AQ15/(LOG(AQ4)/LOG(2))","v":0.27482243840376613},null,null,null,"U6=",{"$f":"AV15/(LOG(AV4)/LOG(2))","v":0.24815857141318151}]
[21,1304,11,1312,11,1335,null,null,null,null,0,211]
[21,1426,11,1435,11,1444,null,null,null,null,0,211]
[21,1538,11,1547,11,1553,null,null,null,null,0,211,null,"Total Target Seq"]
[21,1642,11,1650,22,1715,null,null,null,null,0,212,null,{"$f":"COUNTIF(L7:L82,G3)","v":39},null,13,12,13,13,12,13]
[21,1816,11,1824,22,1871,null,null,null,null,0,212,null,null,null,"% of reinforcement given in 6 equal intervals based on number of trials "]
[12,1976,13,1984,24,2026,null,null,null,null,0,112,null,null,null,"%_1","%_2","%_3","%_4","%_5","%_6"]
[21,2126,11,2132,11,2140,null,null,null,null,0,211,null,null,"target sequence",{"$f":"$G$3","v":211},{"$f":"$G$3","v":211},{"$f":"$G$3","v":211},{"$f":"$G$3","v":211},{"$f":"$G$3","v":211},{"$f":"$G$3","v":211}]
[21,2231,11,2238,11,2248,null,null,null,null,0,211,null,null,"total reinforcement",{"$f":"U11","v":8},{"$f":"Z11","v":6},{"$f":"AE11","v":7},{"$f":"AJ11","v":6},{"$f":"AO11","v":5},{"$f":"AT11","v":7}]
[12,2342,13,2348,13,2369,null,null,null,null,0,111,null,null,"% target"]
[12,2476,13,2486,13,2502,null,null,null,null,0,111,null,null,"CCRF"]
[21,2604,11,2612,11,2621,null,null,null,null,0,211,null,null,"% CCRf"]
[21,2712,11,2720,11,2729,null,null,null,null,0,211,null,null,"average response rate",{"$f":"F19/P20","v":119.46153846153847},{"$f":"(F31-F19)/Q20","v":126.75},{"$f":"(F44-F31)/R20","v":136.53846153846155},{"$f":"(F57-F44)/S20","v":126.15384615384616},{"$f":"(F69-F57)/T20","v":140.08333333333334},{"$f":"(F82-F69)/U20","v":135.69230769230768}]
[21,2818,11,2823,11,2828,null,null,null,null,0,211]
[21,2918,11,2924,11,2932,null,null,null,null,0,211]
[12,3029,13,3039,24,3074,null,null,null,null,0,112]
[21,3173,11,3181,11,3190,null,null,null,null,0,211]
[12,3290,24,3355,24,3364,null,null,null,null,0,122]
[21,3462,11,3470,22,3511,null,null,null,null,0,212]
[21,3611,11,3618,11,3641,null,null,null,null,0,211]
[21,3733,11,3739,11,3768,null,null,null,null,0,211]
[12,3866,13,3875,24,3940,null,null,null,null,0,112]
[21,4038,11,4047,11,4051,null,null,null,null,0,211]
[21,4144,11,4151,11,4161,null,null,null,null,0,211]
[12,4260,13,4265,24,4352,null,null,null,null,0,112]
[21,4451,11,4460,11,4465,null,null,null,null,0,211]
[12,4564,13,4573,13,4604,null,null,null,null,0,111]
[12,4715,13,4720,13,4742,null,null,null,null,0,111]
[21,4838,11,4844,11,4849,null,null,null,null,0,211]
[12,4945,13,4953,13,4972,null,null,null,null,0,111]
[12,5076,13,5080,13,5096,null,null,null,null,0,111]
[12,5202,13,5210,24,5265,null,null,null,null,0,112]
[12,5371,13,5375,24,5400,null,null,null,null,0,112]
[21,5496,11,5504,11,5509,null,null,null,null,0,211]
[21,5611,11,5619,11,5625,null,null,null,null,0,211]
[21,5712,11,5720,11,5726,null,null,null,null,0,211]
[12,5822,13,5827,13,5845,null,null,null,null,0,111]
[21,5941,11,5946,11,5951,null,null,null,null,0,211]
[12,6047,13,6053,13,6084,null,null,null,null,0,111]
[12,6197,13,6207,13,6229,null,null,null,null,0,111]
[21,6328,11,6336,11,6347,null,null,null,null,0,211]
[21,6434,11,6445,11,6489,null,null,null,null,0,211]
[12,6589,13,6598,24,6631,null,null,null,null,0,112]
[21,6727,11,6736,11,6744,null,null,null,null,0,211]
[21,6830,11,6838,11,6842,null,null,null,null,0,211]
[12,6939,13,6944,13,6952,null,null,null,null,0,111]
[12,7056,13,7062,13,7137,null,null,null,null,0,111]
[21,7233,11,7242,11,7249,null,null,null,null,0,211]
[12,7347,13,7391,24,7407,null,null,null,null,0,112]
[12,7515,13,7525,24,7580,null,null,null,null,0,112]
[12,7685,13,7690,24,7768,null,null,null,null,0,112]
[21,7865,11,7873,11,7879,null,null,null,null,0,211]
[12,7977,13,7984,13,8061,null,null,null,null,0,111]
[21,8157,11,8165,11,8170,null,null,null,null,0,211]
[12,8274,13,8279,13,8326,null,null,null,null,0,111]
[12,8431,13,8477,24,8489,null,null,null,null,0,112]
[21,8584,11,8592,11,8597,null,null,null,null,0,211]
[21,8685,11,8693,11,8729,null,null,null,null,0,211]
[12,8830,13,8838,13,8865,null,null,null,null,0,111]
[21,8961,11,8969,11,8977,null,null,null,null,0,211]
[12,9071,13,9075,13,9105,null,null,null,null,0,111]
[21,9201,11,9209,11,9213,null,null,null,null,0,211]
[12,9321,13,9330,13,9402,null,null,null,null,0,111]
[21,9498,11,9507,11,9515,null,null,null,null,0,211]
[12,9610,13,9636,24,9702,null,null,null,null,0,112]
[21,9799,11,9809,11,9819,null,null,null,null,0,211]
[21,9917,11,9925,11,9934,null,null,null,null,1,211]

{"sheet":"!M602A20.105","index":33,"n_rows":69,"n_cols":48,"rows_kept":69,"cut":false,"hidden":false,"merged":[[4,39,4,42],[5,39,5,40],[4,44,4,47],[5,44,5,45],[4,24,4,27],[5,24,5,25],[4,29,4,32],[5,29,5,30],[4,34,4,37],[5,34,5,35],[1,1,1,2],[5,13,5,14],[18,13,18,14],[19,13,19,14],[4,19,4,22],[5,19,5,20]]}
["Report for:!M602A20.105"]
["Date:","<date>"]
["Hen:","<hen>",null,null,null,"Correct Sequence",{"$f":"Start!J2","v":211},null,null,null,null,null,null,null,null,"Total Sequences in Data",{"$f":"4994-COUNTBLANK(L7:L5000)","v":63},null,null,null,null,"Total Sequences in Block Data",{"$f":"COUNTA(L7:L17)","v":11},null,null,null,"Total Sequences in Block Data",{"$f":"COUNTA(L18:L27)","v":10},null,null,null,"Total Sequences in Block Data",{"$f":"COUNTA(L28:L38)","v":11},null,null,null,"Total Sequences in Block Data",{"$f":"COUNTA(L39:L48)","v":10},null,null,null,"Total Sequences in Block Data",{"$f":"COUNTA(L49:L59)","v":11},null,null,null,"Total Sequences in Block Data",{"$f":"COUNTA(L60:L69)","v":10}]
[null,null,null,null,null,null,null,null,null,null,null,null,null,null,null,"Total Sequences in Summary",{"$f":"SUM(O7:O14)","v":63},null,null,null,null,"Total Sequences in Block Summary",{"$f":"SUM(U7:U14)","v":11},null,null,null,"Total Sequences in Block Summary",{"$f":"SUM(Z7:Z14)","v":10},null,null,null,"Total Sequences in Block Summary",{"$f":"SUM(AE7:AE14)","v":11},null,null,null,"Total Sequences in Block Summary",{"$f":"SUM(AJ7:AJ14)","v":10},null,null,null,"Total Sequences in Block Summary",{"$f":"SUM(AO7:AO14)","v":11},null,null,null,"Total Sequences in Block Summary",{"$f":"SUM(AT7:AT14)","v":10}]
[null,null,null,null,null,null,null,null,null,null,null,null,null,null,null,null,null,null,null,"Block 1",null,null,null,null,"Block 2",null,null,null,null,"Block 3",null,null,null,null,"Block 4",null,null,null,null,"Block 5",null,null,null,null,"Block 6"]
["Sequence\nComponent\n1","Time\n1","Sequence\nComponent\n2","Time\n2","Sequence\nComponent\n3","Time\n3","Sequence\nComponent\n4","Time\n4","Sequence\nComponent\n5","Time\n5","Correct?\n0=No 1=Yes","Sequence",null,"Frequency",null,"Relative Frequency","Variability",null,null,"Frequency",null,"Relative Frequency","Variability",null,"Frequency",null,"Relative Frequency","Variability",null,"Frequency",null,"Relative Frequency","Variability",null,"Frequency",null,"Relative Frequency","Variability",null,"Frequency",null,"Relative Frequency","Variability",null,"Frequency",null,"Relative Frequency","Variability"]
[12,31,13,40,13,93,null,null,null,null,0,111,null,111,{"$f":"COUNTIF($L$7:$L$500,N7)","v":19},{"$f":"O7/$Q$4","v":0.30158730158730157},{"$f":"IF(P7=0,0,(P7*((LOG(P7))/LOG(2))))","v":-0.52155072684238557},null,null,{"$f":"N7","v":111},{"$f":"COUNTIF(L7:L17,T7)","v":4},{"$f":"U7/(W4-U11)","v":1},{"$f":"IF(V7=0,0,(V7*((LOG(V7))/LOG(2))))","v":0},null,{"$f":"N7","v":111},{"$f":"COUNTIF(L18:L27,Y7)","v":4},{"$f":"Z7/(AB4-Z11)","v":1},{"$f":"IF(AA7=0,0,(AA7*((LOG(AA7))/LOG(2))))","v":0},null,{"$f":"N7","v":111},{"$f":"COUNTIF(L28:L38,AD7)","v":2},{"$f":"AE7/(AG4-AE11)","v":0.66666666666666663},{"$f":"IF(AF7=0,0,(AF7*((LOG(AF7))/LOG(2))))","v":-0.38997500048077083},null,{"$f":"N7","v":111},{"$f":"COUNTIF(L39:L48,AI7)","v":2},{"$f":"AJ7/(AL4-AJ11)","v":0.5},{"$f":"IF(AK7=0,0,(AK7*((LOG(AK7))/LOG(2))))","v":-0.5},null,{"$f":"N7","v":111},{"$f":"COUNTIF(L49:L59,AN7)","v":3},{"$f":"AO7/(AQ4-AO11)","v":0.75},{"$f":"IF(AP7=0,0,(AP7*((LOG(AP7))/LOG(2))))","v":-0.31127812445913283},null,{"$f":"N7","v":111},{"$f":"COUNTIF(L60:L69,AS7)","v":4},{"$f":"AT7/(AV4-AT11)","v":0.8},{"$f":"IF(AU7=0,0,(AU7*((LOG(AU7))/LOG(2))))","v":-0.25754247590988982}]
[21,196,11,203,11,211,null,null,null,null,0,211,null,112,{"$f":"COUNTIF($L$7:$L$500,N8)","v":4},{"$f":"O8/$Q$4","v":6.3492063492063489E-2},{"$f":"IF(P8=0,0,(P8*((LOG(P8))/LOG(2))))","v":-0.25252570942856611},null,null,{"$f":"N8","v":112},{"$f":"COUNTIF(L7:L17,T8)","v":0},{"$f":"U8/(W4-U11)","v":0},{"$f":"IF(V8=0,0,(V8*((LOG(V8))/LOG(2))))","v":0},null,{"$f":"N8","v":112},{"$f":"COUNTIF(L18:L27,Y8)","v":0},{"$f":"Z8/(AB4-Z11)","v":0},{"$f":"IF(AA8=0,0,(AA8*((LOG(AA8))/LOG(2))))","v":0},null,{"$f":"N8","v":112},{"$f":"COUNTIF(L28:L38,AD8)","v":1},{"$f":"AE8/(AG4-AE11)","v":0.33333333333333331},{"$f":"IF(AF8=0,0,(AF8*((LOG(AF8))/LOG(2))))","v":-0.52832083357371862},null,{"$f":"N8","v":112},{"$f":"COUNTIF(L39:L48,AI8)","v":2},{"$f":"AJ8/(AL4-AJ11)","v":0.5},{"$f":"IF(AK8=0,0,(AK8*((LOG(AK8))/LOG(2))))","v":-0.5},null,{"$f":"N8","v":112},{"$f":"COUNTIF(L49:L59,AN8)","v":0},{"$f":"AO8/(AQ4-AO11)","v":0},{"$f":"IF(AP8=0,0,(AP8*((LOG(AP8))/LOG(2))))","v":0},null,{"$f":"N8","v":112},{"$f":"COUNTIF(L60:L69,AS8)","v":1},{"$f":"AT8/(AV4-AT11)","v":0.2},{"$f":"IF(AU8=0,0,(AU8*((LOG(AU8))/LOG(2))))","v":-0.46438561897747244}]
[12,313,13,319,13,340,null,null,null,null,0,111,null,121,{"$f":"COUNTIF($L$7:$L$500,N9)","v":0},{"$f":"O9/$Q$4","v":0},{"$f":"IF(P9=0,0,(P9*((LOG(P9))/LOG(2))))","v":0},null,null,{"$f":"N9","v":121},{"$f":"COUNTIF(L7:L17,T9)","v":0},{"$f":"U9/(W4-U11)","v":0},{"$f":"IF(V9=0,0,(V9*((LOG(V9))/LOG(2))))","v":0},null,{"$f":"N9","v":121},{"$f":"COUNTIF(L18:L27,Y9)","v":0},{"$f":"Z9/(AB4-Z11)","v":0},{"$f":"IF(AA9=0,0,(AA9*((LOG(AA9))/LOG(2))))","v":0},null,{"$f":"N9","v":121},{"$f":"COUNTIF(L28:L38,AD9)","v":0},{"$f":"AE9/(AG4-AE11)","v":0},{"$f":"IF(AF9=0,0,(AF9*((LOG(AF9))/LOG(2))))","v":0},null,{"$f":"N9","v":121},{"$f":"COUNTIF(L39:L48,AI9)","v":0},{"$f":"AJ9/(AL4-AJ11)","v":0},{"$f":"IF(AK9=0,0,(AK9*((LOG(AK9))/LOG(2))))","v":0},null,{"$f":"N9","v":121},{"$f":"COUNTIF(L49:L59,AN9)","v":0},{"$f":"AO9/(AQ4-AO11)","v":0},{"$f":"IF(AP9=0,0,(AP9*((LOG(AP9))/LOG(2))))","v":0},null,{"$f":"N9","v":121},{"$f":"COUNTIF(L60:L69,AS9)","v":0},{"$f":"AT9/(AV4-AT11)","v":0},{"$f":"IF(AU9=0,0,(AU9*((LOG(AU9))/LOG(2))))","v":0}]
[21,441,11,447,11,452,null,null,null,null,0,211,null,122,{"$f":"COUNTIF($L$7:$L$500,N10)","v":0},{"$f":"O10/$Q$4","v":0},{"$f":"IF(P10=0,0,(P10*((LOG(P10))/LOG(2))))","v":0},null,null,{"$f":"N10","v":122},{"$f":"COUNTIF(L7:L17,T10)","v":0},{"$f":"U10/(W4-U11)","v":0},{"$f":"IF(V10=0,0,(V10*((LOG(V10))/LOG(2))))","v":0},null,{"$f":"N10","v":122},{"$f":"COUNTIF(L18:L27,Y10)","v":0},{"$f":"Z10/(AB4-Z11)","v":0},{"$f":"IF(AA10=0,0,(AA10*((LOG(AA10))/LOG(2))))","v":0},null,{"$f":"N10","v":122},{"$f":"COUNTIF(L28:L38,AD10)","v":0},{"$f":"AE10/(AG4-AE11)","v":0},{"$f":"IF(AF10=0,0,(AF10*((LOG(AF10))/LOG(2))))","v":0},null,{"$f":"N10","v":122},{"$f":"COUNTIF(L39:L48,AI10)","v":0},{"$f":"AJ10/(AL4-AJ11)","v":0},{"$f":"IF(AK10=0,0,(AK10*((LOG(AK10))/LOG(2))))","v":0},null,{"$f":"N10","v":122},{"$f":"COUNTIF(L49:L59,AN10)","v":0},{"$f":"AO10/(AQ4-AO11)","v":0},{"$f":"IF(AP10=0,0,(AP10*((LOG(AP10))/LOG(2))))","v":0},null,{"$f":"N10","v":122},{"$f":"COUNTIF(L60:L69,AS10)","v":0},{"$f":"AT10/(AV4-AT11)","v":0},{"$f":"IF(AU10=0,0,(AU10*((LOG(AU10))/LOG(2))))","v":0}]
[21,545,11,551,11,560,null,null,null,null,0,211,null,211,{"$f":"COUNTIF($L$7:$L$500,N11)","v":39},{"$f":"O11/$Q$4","v":0.61904761904761907},{"$f":"IF(P11=0,0,(P11*((LOG(P11))/LOG(2))))","v":-0.42830524572808026},null,null,{"$f":"N11","v":211},{"$f":"COUNTIF(L7:L17,T11)","v":7},null,null,null,{"$f":"N11","v":211},{"$f":"COUNTIF(L18:L27,Y11)","v":6},null,null,null,{"$f":"N11","v":211},{"$f":"COUNTIF(L28:L38,AD11)","v":8},null,null,null,{"$f":"N11","v":211},{"$f":"COUNTIF(L39:L48,AI11)","v":6},null,null,null,{"$f":"N11","v":211},{"$f":"COUNTIF(L49:L59,AN11)","v":7},null,null,null,{"$f":"N11","v":211},{"$f":"COUNTIF(L60:L69,AS11)","v":5}]
[21,650,11,657,11,667,null,null,null,null,0,211,null,212,{"$f":"COUNTIF($L$7:$L$500,N12)","v":1},{"$f":"O12/$Q$4","v":1.5873015873015872E-2},{"$f":"IF(P12=0,0,(P12*((LOG(P12))/LOG(2))))","v":-9.4877459103173273E-2},null,null,{"$f":"N12","v":212},{"$f":"COUNTIF(L7:L17,T12)","v":0},{"$f":"U12/(W4-U11)","v":0},{"$f":"IF(V12=0,0,(V12*((LOG(V12))/LOG(2))))","v":0},null,{"$f":"N12","v":212},{"$f":"COUNTIF(L18:L27,Y12)","v":0},{"$f":"Z12/(AB4-Z11)","v":0},{"$f":"IF(AA12=0,0,(AA12*((LOG(AA12))/LOG(2))))","v":0},null,{"$f":"N12","v":212},{"$f":"COUNTIF(L28:L38,AD12)","v":0},{"$f":"AE12/(AG4-AE11)","v":0},{"$f":"IF(AF12=0,0,(AF12*((LOG(AF12))/LOG(2))))","v":0},null,{"$f":"N12","v":212},{"$f":"COUNTIF(L39:L48,AI12)","v":0},{"$f":"AJ12/(AL4-AJ11)","v":0},{"$f":"IF(AK12=0,0,(AK12*((LOG(AK12))/LOG(2))))","v":0},null,{"$f":"N12","v":212},{"$f":"COUNTIF(L49:L59,AN12)","v":1},{"$f":"AO12/(AQ4-AO11)","v":0.25},{"$f":"IF(AP12=0,0,(AP12*((LOG(AP12))/LOG(2))))","v":-0.5},null,{"$f":"N12","v":212},{"$f":"COUNTIF(L60:L69,AS12)","v":0},{"$f":"AT12/(AV4-AT11)","v":0},{"$f":"IF(AU12=0,0,(AU12*((LOG(AU12))/LOG(2))))","v":0}]
[12,764,13,771,13,787,null,null,null,null,0,111,null,221,{"$f":"COUNTIF($L$7:$L$500,N13)","v":0},{"$f":"O13/$Q$4","v":0},{"$f":"IF(P13=0,0,(P13*((LOG(P13))/LOG(2))))","v":0},null,null,{"$f":"N13","v":221},{"$f":"COUNTIF(L7:L17,T13)","v":0},{"$f":"U13/(W4-U11)","v":0},{"$f":"IF(V13=0,0,(V13*((LOG(V13))/LOG(2))))","v":0},null,{"$f":"N13","v":221},{"$f":"COUNTIF(L18:L27,Y13)","v":0},{"$f":"Z13/(AB4-Z11)","v":0},{"$f":"IF(AA13=0,0,(AA13*((LOG(AA13))/LOG(2))))","v":0},null,{"$f":"N13","v":221},{"$f":"COUNTIF(L28:L38,AD13)","v":0},{"$f":"AE13/(AG4-AE11)","v":0},{"$f":"IF(AF13=0,0,(AF13*((LOG(AF13))/LOG(2))))","v":0},null,{"$f":"N13","v":221},{"$f":"COUNTIF(L39:L48,AI13)","v":0},{"$f":"AJ13/(AL4-AJ11)","v":0},{"$f":"IF(AK13=0,0,(AK13*((LOG(AK13))/LOG(2))))","v":0},null,{"$f":"N13","v":221},{"$f":"COUNTIF(L49:L59,AN13)","v":0},{"$f":"AO13/(AQ4-AO11)","v":0},{"$f":"IF(AP13=0,0,(AP13*((LOG(AP13))/LOG(2))))","v":0},null,{"$f":"N13","v":221},{"$f":"COUNTIF(L60:L69,AS13)","v":0},{"$f":"AT13/(AV4-AT11)","v":0},{"$f":"IF(AU13=0,0,(AU13*((LOG(AU13))/LOG(2))))","v":0}]
[21,888,11,894,11,902,null,null,null,null,0,211,null,222,{"$f":"COUNTIF($L$7:$L$500,N14)","v":0},{"$f":"O14/$Q$4","v":0},{"$f":"IF(P14=0,0,(P14*((LOG(P14))/LOG(2))))","v":0},null,null,{"$f":"N14","v":222},{"$f":"COUNTIF(L7:L17,T14)","v":0},{"$f":"U14/(W4-U11)","v":0},{"$f":"IF(V14=0,0,(V14*((LOG(V14))/LOG(2))))","v":0},null,{"$f":"N14","v":222},{"$f":"COUNTIF(L18:L27,Y14)","v":0},{"$f":"Z14/(AB4-Z11)","v":0},{"$f":"IF(AA14=0,0,(AA14*((LOG(AA14))/LOG(2))))","v":0},null,{"$f":"N14","v":222},{"$f":"COUNTIF(L28:L38,AD14)","v":0},{"$f":"AE14/(AG4-AE11)","v":0},{"$f":"IF(AF14=0,0,(AF14*((LOG(AF14))/LOG(2))))","v":0},null,{"$f":"N14","v":222},{"$f":"COUNTIF(L39:L48,AI14)","v":0},{"$f":"AJ14/(AL4-AJ11)","v":0},{"$f":"IF(AK14=0,0,(AK14*((LOG(AK14))/LOG(2))))","v":0},null,{"$f":"N14","v":222},{"$f":"COUNTIF(L49:L59,AN14)","v":0},{"$f":"AO14/(AQ4-AO11)","v":0},{"$f":"IF(AP14=0,0,(AP14*((LOG(AP14))/LOG(2))))","v":0},null,{"$f":"N14","v":222},{"$f":"COUNTIF(L60:L69,AS14)","v":0},{"$f":"AT14/(AV4-AT11)","v":0},{"$f":"IF(AU14=0,0,(AU14*((LOG(AU14))/LOG(2))))","v":0}]
[12,999,13,1004,13,1019,null,null,null,null,0,111,null,null,null,{"$f":"SUM(P7:P14)","v":1},{"$f":"-SUM(Q7:Q14)","v":1.2972591411022052},null,null,null,null,{"$f":"SUM(V7:V14)","v":1},{"$f":"-SUM(W7:W14)","v":0},null,null,null,{"$f":"SUM(AA7:AA14)","v":1},{"$f":"-SUM(AB7:AB14)","v":0},null,null,null,{"$f":"SUM(AF7:AF14)","v":1},{"$f":"-SUM(AG7:AG14)","v":0.91829583405448945},null,null,null,{"$f":"SUM(AK7:AK14)","v":1},{"$f":"-SUM(AL7:AL14)","v":1},null,null,null,{"$f":"SUM(AP7:AP14)","v":1},{"$f":"-SUM(AQ7:AQ14)","v":0.81127812445913283},null,null,null,{"$f":"SUM(AU7:AU14)","v":1},{"$f":"-SUM(AV7:AV14)","v":0.72192809488736231}]
[21,1118,11,1128,11,1151,null,null,null,null,0,211,null,null,null,"U=",{"$f":"Q15/(LOG(Q4)/LOG(2))","v":0.21703168626953184},null,null,null,null,"U1=",{"$f":"W15/(LOG(W4)/LOG(2))","v":0},null,null,null,"U2=",{"$f":"AB15/(LOG(AB4)/LOG(2))","v":0},null,null,null,"U3=",{"$f":"AG15/(LOG(AG4)/LOG(2))","v":0.26544702577940094},null,null,null,"U4=",{"$f":"AL15/(LOG(AL4)/LOG(2))","v":0.3010299956639812},null,null,null,"U5=",{"$f":"AQ15/(LOG(AQ4)/LOG(2))","v":0.23451197014228101},null,null,null,"U6=",{"$f":"AV15/(LOG(AV4)/LOG(2))","v":0.21732201127364889}]
[21,1245,11,1255,11,1272,null,null,null,null,0,211]
[12,1374,13,1388,13,1405,null,null,null,null,0,111]
[21,1504,11,1513,11,1518,null,null,null,null,0,211,null,"Total Target Seq"]
[21,1605,11,1614,11,1623,null,null,null,null,0,211,null,{"$f":"COUNTIF(L7:L69,G3)","v":39},null,11,10,11,10,11,10]
[12,1722,13,1736,13,1757,null,null,null,null,0,111,null,null,null,"% of reinforcement given in 6 equal intervals based on number of trials "]
[12,1865,13,1871,13,1890,null,null,null,null,0,111,null,null,null,"%_1","%_2","%_3","%_4","%_5","%_6"]
[21,1989,11,1997,11,2005,null,null,null,null,0,211,null,null,"target sequence",{"$f":"$G$3","v":211},{"$f":"$G$3","v":211},{"$f":"$G$3","v":211},{"$f":"$G$3","v":211},{"$f":"$G$3","v":211},{"$f":"$G$3","v":211}]
[12,2108,13,2118,13,2134,null,null,null,null,0,111,null,null,"total reinforcement",{"$f":"U11","v":7},{"$f":"Z11","v":6},{"$f":"AE11","v":8},{"$f":"AJ11","v":6},{"$f":"AO11","v":7},{"$f":"AT11","v":5}]
[21,2233,11,2241,11,2247,null,null,null,null,0,211,null,null,"% target"]
[21,2338,11,2346,11,2352,null,null,null,null,0,211,null,null,"CCRF"]
[21,2444,11,2454,11,2463,null,null,null,null,0,211,null,null,"% CCRf"]
[21,2552,11,2560,11,2566,null,null,null,null,0,211,null,null,"average response rate",{"$f":"F17/P20","v":115.63636363636364},{"$f":"(F27-F17)/Q20","v":119.1},{"$f":"(F38-F27)/R20","v":113.09090909090909},{"$f":"(F48-F38)/S20","v":117.6},{"$f":"(F59-F48)/T20","v":118.72727272727273},{"$f":"(F69-F59)/U20","v":124.3}]
[12,2662,13,2667,24,2707,null,null,null,null,0,112]
[12,2808,13,2818,13,2835,null,null,null,null,0,111]
[21,2935,11,2944,11,2950,null,null,null,null,0,211]
[21,3041,11,3049,11,3058,null,null,null,null,0,211]
[21,3148,11,3153,11,3158,null,null,null,null,0,211]
[21,3248,11,3256,11,3263,null,null,null,null,0,211]
[12,3363,13,3369,13,3390,null,null,null,null,0,111]
[21,3489,11,3495,11,3502,null,null,null,null,0,211]
[21,3592,11,3600,11,3606,null,null,null,null,0,211]
[21,3696,11,3701,11,3707,null,null,null,null,0,211]
[21,3801,11,3809,11,3815,null,null,null,null,0,211]
[12,3912,13,3920,13,3943,null,null,null,null,0,111]
[21,4046,11,4055,11,4059,null,null,null,null,0,211]
[21,4153,11,4161,11,4167,null,null,null,null,0,211]
[12,4265,13,4274,24,4305,null,null,null,null,0,112]
[21,4404,11,4410,11,4415,null,null,null,null,0,211]
[12,4514,13,4519,24,4543,null,null,null,null,0,112]
[21,4646,11,4655,11,4664,null,null,null,null,0,211]
[21,4754,11,4762,11,4767,null,null,null,null,0,211]
[12,4865,13,4870,13,4883,null,null,null,null,0,111]
[21,4983,11,4991,11,4995,null,null,null,null,0,211]
[12,5092,13,5097,13,5117,null,null,null,null,0,111]
[21,5216,11,5225,11,5230,null,null,null,null,0,211]
[21,5324,11,5332,11,5338,null,null,null,null,0,211]
[12,5437,13,5443,13,5461,null,null,null,null,0,111]
[21,5564,11,5570,11,5574,null,null,null,null,0,211]
[21,5668,11,5676,22,5731,null,null,null,null,0,212]
[21,5832,11,5838,11,5843,null,null,null,null,0,211]
[21,5933,11,5946,11,5959,null,null,null,null,0,211]
[12,6057,13,6062,13,6075,null,null,null,null,0,111]
[21,6175,11,6184,11,6189,null,null,null,null,0,211]
[21,6282,11,6295,11,6314,null,null,null,null,0,211]
[12,6410,13,6416,13,6435,null,null,null,null,0,111]
[12,6543,13,6549,13,6572,null,null,null,null,0,111]
[21,6676,11,6681,11,6687,null,null,null,null,0,211]
[12,6783,13,6789,13,6804,null,null,null,null,0,111]
[21,6909,11,6918,11,6926,null,null,null,null,0,211]
[12,7035,13,7040,13,7049,null,null,null,null,0,111]
[21,7149,11,7157,11,7162,null,null,null,null,0,211]
[12,7262,13,7267,24,7312,null,null,null,null,0,112]
[21,7415,11,7424,11,7432,null,null,null,null,1,211]

{"sheet":"!M603D00.105","index":34,"n_rows":167,"n_cols":48,"rows_kept":167,"cut":false,"hidden":false,"merged":[[4,39,4,42],[5,39,5,40],[4,44,4,47],[5,44,5,45],[4,24,4,27],[5,24,5,25],[4,29,4,32],[5,29,5,30],[4,34,4,37],[5,34,5,35],[1,1,1,2],[5,13,5,14],[18,13,18,14],[19,13,19,14],[4,19,4,22],[5,19,5,20]]}
["Report for:!M603D00.105"]
["Date:","<date>"]
["Hen:","<hen>",null,null,null,"Correct Sequence",{"$f":"Start!J2","v":211},null,null,null,null,null,null,null,null,"Total Sequences in Data",{"$f":"4994-COUNTBLANK(L7:L5000)","v":161},null,null,null,null,"Total Sequences in Block Data",{"$f":"COUNTA(L7:L33)","v":27},null,null,null,"Total Sequences in Block Data",{"$f":"COUNTA(L34:L60)","v":27},null,null,null,"Total Sequences in Block Data",{"$f":"COUNTA(L61:L86)","v":26},null,null,null,"Total Sequences in Block Data",{"$f":"COUNTA(L87:L113)","v":27},null,null,null,"Total Sequences in Block Data",{"$f":"COUNTA(L114:L140)","v":27},null,null,null,"Total Sequences in Block Data",{"$f":"COUNTA(L141:L167)","v":27}]
[null,null,null,null,null,null,null,null,null,null,null,null,null,null,null,"Total Sequences in Summary",{"$f":"SUM(O7:O14)","v":161},null,null,null,null,"Total Sequences in Block Summary",{"$f":"SUM(U7:U14)","v":27},null,null,null,"Total Sequences in Block Summary",{"$f":"SUM(Z7:Z14)","v":27},null,null,null,"Total Sequences in Block Summary",{"$f":"SUM(AE7:AE14)","v":26},null,null,null,"Total Sequences in Block Summary",{"$f":"SUM(AJ7:AJ14)","v":27},null,null,null,"Total Sequences in Block Summary",{"$f":"SUM(AO7:AO14)","v":27},null,null,null,"Total Sequences in Block Summary",{"$f":"SUM(AT7:AT14)","v":27}]
[null,null,null,null,null,null,null,null,null,null,null,null,null,null,null,null,null,null,null,"Block 1",null,null,null,null,"Block 2",null,null,null,null,"Block 3",null,null,null,null,"Block 4",null,null,null,null,"Block 5",null,null,null,null,"Block 6"]
["Sequence\nComponent\n1","Time\n1","Sequence\nComponent\n2","Time\n2","Sequence\nComponent\n3","Time\n3","Sequence\nComponent\n4","Time\n4","Sequence\nComponent\n5","Time\n5","Correct?\n0=No 1=Yes","Sequence",null,"Frequency",null,"Relative Frequency","Variability",null,null,"Frequency",null,"Relative Frequency","Variability",null,"Frequency",null,"Relative Frequency","Variability",null,"Frequency",null,"Relative Frequency","Variability",null,"Frequency",null,"Relative Frequency","Variability",null,"Frequency",null,"Relative Frequency","Variability",null,"Frequency",null,"Relative Frequency","Variability"]
[12,20,13,26,13,37,null,null,null,null,0,111,null,111,{"$f":"COUNTIF($L$7:$L$500,N7)","v":126},{"$f":"O7/$Q$4","v":0.78260869565217395},{"$f":"IF(P7=0,0,(P7*((LOG(P7))/LOG(2))))","v":-0.27675935578541772},null,null,{"$f":"N7","v":111},{"$f":"COUNTIF(L7:L33,T7)","v":22},{"$f":"U7/(W4-U11)","v":0.95652173913043481},{"$f":"IF(V7=0,0,(V7*((LOG(V7))/LOG(2))))","v":-6.1342061879727947E-2},null,{"$f":"N7","v":111},{"$f":"COUNTIF(L34:L60,Y7)","v":17},{"$f":"Z7/(AB4-Z11)","v":0.73913043478260865},{"$f":"IF(AA7=0,0,(AA7*((LOG(AA7))/LOG(2))))","v":-0.3223341283353674},null,{"$f":"N7","v":111},{"$f":"COUNTIF(L61:L86,AD7)","v":24},{"$f":"AE7/(AG4-AE11)","v":1},{"$f":"IF(AF7=0,0,(AF7*((LOG(AF7))/LOG(2))))","v":0},null,{"$f":"N7","v":111},{"$f":"COUNTIF(L87:L113,AI7)","v":22},{"$f":"AJ7/(AL4-AJ11)","v":0.84615384615384615},{"$f":"IF(AK7=0,0,(AK7*((LOG(AK7))/LOG(2))))","v":-0.20392993034936494},null,{"$f":"N7","v":111},{"$f":"COUNTIF(L114:L140,AN7)","v":21},{"$f":"AO7/(AQ4-AO11)","v":0.91304347826086951},{"$f":"IF(AP7=0,0,(AP7*((LOG(AP7))/LOG(2))))","v":-0.11983196516710025},null,{"$f":"N7","v":111},{"$f":"COUNTIF(L141:L167,AS7)","v":20},{"$f":"AT7/(AV4-AT11)","v":0.83333333333333337},{"$f":"IF(AU7=0,0,(AU7*((LOG(AU7))/LOG(2))))","v":-0.21919533819482812}]
[21,136,11,147,11,156,null,null,null,null,0,211,null,112,{"$f":"COUNTIF($L$7:$L$500,N8)","v":13},{"$f":"O8/$Q$4","v":8.0745341614906832E-2},{"$f":"IF(P8=0,0,(P8*((LOG(P8))/LOG(2))))","v":-0.29314411850717903},null,null,{"$f":"N8","v":112},{"$f":"COUNTIF(L7:L33,T8)","v":1},{"$f":"U8/(W4-U11)","v":4.3478260869565216E-2},{"$f":"IF(V8=0,0,(V8*((LOG(V8))/LOG(2))))","v":-0.19667660678508753},null,{"$f":"N8","v":112},{"$f":"COUNTIF(L34:L60,Y8)","v":6},{"$f":"Z8/(AB4-Z11)","v":0.2608695652173913},{"$f":"IF(AA8=0,0,(AA8*((LOG(AA8))/LOG(2))))","v":-0.50572159704413644},null,{"$f":"N8","v":112},{"$f":"COUNTIF(L61:L86,AD8)","v":0},{"$f":"AE8/(AG4-AE11)","v":0},{"$f":"IF(AF8=0,0,(AF8*((LOG(AF8))/LOG(2))))","v":0},null,{"$f":"N8","v":112},{"$f":"COUNTIF(L87:L113,AI8)","v":3},{"$f":"AJ8/(AL4-AJ11)","v":0.11538461538461539},{"$f":"IF(AK8=0,0,(AK8*((LOG(AK8))/LOG(2))))","v":-0.35947814047153104},null,{"$f":"N8","v":112},{"$f":"COUNTIF(L114:L140,AN8)","v":0},{"$f":"AO8/(AQ4-AO11)","v":0},{"$f":"IF(AP8=0,0,(AP8*((LOG(AP8))/LOG(2))))","v":0},null,{"$f":"N8","v":112},{"$f":"COUNTIF(L141:L167,AS8)","v":3},{"$f":"AT8/(AV4-AT11)","v":0.125},{"$f":"IF(AU8=0,0,(AU8*((LOG(AU8))/LOG(2))))","v":-0.375}]
[12,260,13,265,13,280,null,null,null,null,0,111,null,121,{"$f":"COUNTIF($L$7:$L$500,N9)","v":1},{"$f":"O9/$Q$4","v":6.2111801242236021E-3},{"$f":"IF(P9=0,0,(P9*((LOG(P9))/LOG(2))))","v":-4.5533645205680845E-2},null,null,{"$f":"N9","v":121},{"$f":"COUNTIF(L7:L33,T9)","v":0},{"$f":"U9/(W4-U11)","v":0},{"$f":"IF(V9=0,0,(V9*((LOG(V9))/LOG(2))))","v":0},null,{"$f":"N9","v":121},{"$f":"COUNTIF(L34:L60,Y9)","v":0},{"$f":"Z9/(AB4-Z11)","v":0},{"$f":"IF(AA9=0,0,(AA9*((LOG(AA9))/LOG(2))))","v":0},null,{"$f":"N9","v":121},{"$f":"COUNTIF(L61:L86,AD9)","v":0},{"$f":"AE9/(AG4-AE11)","v":0},{"$f":"IF(AF9=0,0,(AF9*((LOG(AF9))/LOG(2))))","v":0},null,{"$f":"N9","v":121},{"$f":"COUNTIF(L87:L113,AI9)","v":0},{"$f":"AJ9/(AL4-AJ11)","v":0},{"$f":"IF(AK9=0,0,(AK9*((LOG(AK9))/LOG(2))))","v":0},null,{"$f":"N9","v":121},{"$f":"COUNTIF(L114:L140,AN9)","v":1},{"$f":"AO9/(AQ4-AO11)","v":4.3478260869565216E-2},{"$f":"IF(AP9=0,0,(AP9*((LOG(AP9))/LOG(2))))","v":-0.19667660678508753},null,{"$f":"N9","v":121},{"$f":"COUNTIF(L141:L167,AS9)","v":0},{"$f":"AT9/(AV4-AT11)","v":0},{"$f":"IF(AU9=0,0,(AU9*((LOG(AU9))/LOG(2))))","v":0}]
[12,388,13,413,13,421,null,null,null,null,0,111,null,122,{"$f":"COUNTIF($L$7:$L$500,N10)","v":0},{"$f":"O10/$Q$4","v":0},{"$f":"IF(P10=0,0,(P10*((LOG(P10))/LOG(2))))","v":0},null,null,{"$f":"N10","v":122},{"$f":"COUNTIF(L7:L33,T10)","v":0},{"$f":"U10/(W4-U11)","v":0},{"$f":"IF(V10=0,0,(V10*((LOG(V10))/LOG(2))))","v":0},null,{"$f":"N10","v":122},{"$f":"COUNTIF(L34:L60,Y10)","v":0},{"$f":"Z10/(AB4-Z11)","v":0},{"$f":"IF(AA10=0,0,(AA10*((LOG(AA10))/LOG(2))))","v":0},null,{"$f":"N10","v":122},{"$f":"COUNTIF(L61:L86,AD10)","v":0},{"$f":"AE10/(AG4-AE11)","v":0},{"$f":"IF(AF10=0,0,(AF10*((LOG(AF10))/LOG(2))))","v":0},null,{"$f":"N10","v":122},{"$f":"COUNTIF(L87:L113,AI10)","v":0},{"$f":"AJ10/(AL4-AJ11)","v":0},{"$f":"IF(AK10=0,0,(AK10*((LOG(AK10))/LOG(2))))","v":0},null,{"$f":"N10","v":122},{"$f":"COUNTIF(L114:L140,AN10)","v":0},{"$f":"AO10/(AQ4-AO11)","v":0},{"$f":"IF(AP10=0,0,(AP10*((LOG(AP10))/LOG(2))))","v":0},null,{"$f":"N10","v":122},{"$f":"COUNTIF(L141:L167,AS10)","v":0},{"$f":"AT10/(AV4-AT11)","v":0},{"$f":"IF(AU10=0,0,(AU10*((LOG(AU10))/LOG(2))))","v":0}]
[12,527,13,532,13,637,null,null,null,null,0,111,null,211,{"$f":"COUNTIF($L$7:$L$500,N11)","v":18},{"$f":"O11/$Q$4","v":0.11180124223602485},{"$f":"IF(P11=0,0,(P11*((LOG(P11))/LOG(2))))","v":-0.35340281850994709},null,null,{"$f":"N11","v":211},{"$f":"COUNTIF(L7:L33,T11)","v":4},null,null,null,{"$f":"N11","v":211},{"$f":"COUNTIF(L34:L60,Y11)","v":4},null,null,null,{"$f":"N11","v":211},{"$f":"COUNTIF(L61:L86,AD11)","v":2},null,null,null,{"$f":"N11","v":211},{"$f":"COUNTIF(L87:L113,AI11)","v":1},null,null,null,{"$f":"N11","v":211},{"$f":"COUNTIF(L114:L140,AN11)","v":4},null,null,null,{"$f":"N11","v":211},{"$f":"COUNTIF(L141:L167,AS11)","v":3}]
[12,744,13,751,13,808,null,null,null,null,0,111,null,212,{"$f":"COUNTIF($L$7:$L$500,N12)","v":2},{"$f":"O12/$Q$4","v":1.2422360248447204E-2},{"$f":"IF(P12=0,0,(P12*((LOG(P12))/LOG(2))))","v":-7.8644930162914489E-2},null,null,{"$f":"N12","v":212},{"$f":"COUNTIF(L7:L33,T12)","v":0},{"$f":"U12/(W4-U11)","v":0},{"$f":"IF(V12=0,0,(V12*((LOG(V12))/LOG(2))))","v":0},null,{"$f":"N12","v":212},{"$f":"COUNTIF(L34:L60,Y12)","v":0},{"$f":"Z12/(AB4-Z11)","v":0},{"$f":"IF(AA12=0,0,(AA12*((LOG(AA12))/LOG(2))))","v":0},null,{"$f":"N12","v":212},{"$f":"COUNTIF(L61:L86,AD12)","v":0},{"$f":"AE12/(AG4-AE11)","v":0},{"$f":"IF(AF12=0,0,(AF12*((LOG(AF12))/LOG(2))))","v":0},null,{"$f":"N12","v":212},{"$f":"COUNTIF(L87:L113,AI12)","v":0},{"$f":"AJ12/(AL4-AJ11)","v":0},{"$f":"IF(AK12=0,0,(AK12*((LOG(AK12))/LOG(2))))","v":0},null,{"$f":"N12","v":212},{"$f":"COUNTIF(L114:L140,AN12)","v":1},{"$f":"AO12/(AQ4-AO11)","v":4.3478260869565216E-2},{"$f":"IF(AP12=0,0,(AP12*((LOG(AP12))/LOG(2))))","v":-0.19667660678508753},null,{"$f":"N12","v":212},{"$f":"COUNTIF(L141:L167,AS12)","v":1},{"$f":"AT12/(AV4-AT11)","v":4.1666666666666664E-2},{"$f":"IF(AU12=0,0,(AU12*((LOG(AU12))/LOG(2))))","v":-0.19104010419671485}]
[12,916,13,921,13,936,null,null,null,null,0,111,null,221,{"$f":"COUNTIF($L$7:$L$500,N13)","v":1},{"$f":"O13/$Q$4","v":6.2111801242236021E-3},{"$f":"IF(P13=0,0,(P13*((LOG(P13))/LOG(2))))","v":-4.5533645205680845E-2},null,null,{"$f":"N13","v":221},{"$f":"COUNTIF(L7:L33,T13)","v":0},{"$f":"U13/(W4-U11)","v":0},{"$f":"IF(V13=0,0,(V13*((LOG(V13))/LOG(2))))","v":0},null,{"$f":"N13","v":221},{"$f":"COUNTIF(L34:L60,Y13)","v":0},{"$f":"Z13/(AB4-Z11)","v":0},{"$f":"IF(AA13=0,0,(AA13*((LOG(AA13))/LOG(2))))","v":0},null,{"$f":"N13","v":221},{"$f":"COUNTIF(L61:L86,AD13)","v":0},{"$f":"AE13/(AG4-AE11)","v":0},{"$f":"IF(AF13=0,0,(AF13*((LOG(AF13))/LOG(2))))","v":0},null,{"$f":"N13","v":221},{"$f":"COUNTIF(L87:L113,AI13)","v":1},{"$f":"AJ13/(AL4-AJ11)","v":3.8461538461538464E-2},{"$f":"IF(AK13=0,0,(AK13*((LOG(AK13))/LOG(2))))","v":-0.18078614300542661},null,{"$f":"N13","v":221},{"$f":"COUNTIF(L114:L140,AN13)","v":0},{"$f":"AO13/(AQ4-AO11)","v":0},{"$f":"IF(AP13=0,0,(AP13*((LOG(AP13))/LOG(2))))","v":0},null,{"$f":"N13","v":221},{"$f":"COUNTIF(L141:L167,AS13)","v":0},{"$f":"AT13/(AV4-AT11)","v":0},{"$f":"IF(AU13=0,0,(AU13*((LOG(AU13))/LOG(2))))","v":0}]
[12,1048,13,1054,13,1158,null,null,null,null,0,111,null,222,{"$f":"COUNTIF($L$7:$L$500,N14)","v":0},{"$f":"O14/$Q$4","v":0},{"$f":"IF(P14=0,0,(P14*((LOG(P14))/LOG(2))))","v":0},null,null,{"$f":"N14","v":222},{"$f":"COUNTIF(L7:L33,T14)","v":0},{"$f":"U14/(W4-U11)","v":0},{"$f":"IF(V14=0,0,(V14*((LOG(V14))/LOG(2))))","v":0},null,{"$f":"N14","v":222},{"$f":"COUNTIF(L34:L60,Y14)","v":0},{"$f":"Z14/(AB4-Z11)","v":0},{"$f":"IF(AA14=0,0,(AA14*((LOG(AA14))/LOG(2))))","v":0},null,{"$f":"N14","v":222},{"$f":"COUNTIF(L61:L86,AD14)","v":0},{"$f":"AE14/(AG4-AE11)","v":0},{"$f":"IF(AF14=0,0,(AF14*((LOG(AF14))/LOG(2))))","v":0},null,{"$f":"N14","v":222},{"$f":"COUNTIF(L87:L113,AI14)","v":0},{"$f":"AJ14/(AL4-AJ11)","v":0},{"$f":"IF(AK14=0,0,(AK14*((LOG(AK14))/LOG(2))))","v":0},null,{"$f":"N14","v":222},{"$f":"COUNTIF(L114:L140,AN14)","v":0},{"$f":"AO14/(AQ4-AO11)","v":0},{"$f":"IF(AP14=0,0,(AP14*((LOG(AP14))/LOG(2))))","v":0},null,{"$f":"N14","v":222},{"$f":"COUNTIF(L141:L167,AS14)","v":0},{"$f":"AT14/(AV4-AT11)","v":0},{"$f":"IF(AU14=0,0,(AU14*((LOG(AU14))/LOG(2))))","v":0}]
[12,1272,13,1279,13,1357,null,null,null,null,0,111,null,null,null,{"$f":"SUM(P7:P14)","v":1},{"$f":"-SUM(Q7:Q14)","v":1.09301851337682},null,null,null,null,{"$f":"SUM(V7:V14)","v":1},{"$f":"-SUM(W7:W14)","v":0.25801866866481549},null,null,null,{"$f":"SUM(AA7:AA14)","v":1},{"$f":"-SUM(AB7:AB14)","v":0.82805572537950378},null,null,null,{"$f":"SUM(AF7:AF14)","v":1},{"$f":"-SUM(AG7:AG14)","v":0},null,null,null,{"$f":"SUM(AK7:AK14)","v":1},{"$f":"-SUM(AL7:AL14)","v":0.74419421382632256},null,null,null,{"$f":"SUM(AP7:AP14)","v":0.99999999999999989},{"$f":"-SUM(AQ7:AQ14)","v":0.51318517873727532},null,null,null,{"$f":"SUM(AU7:AU14)","v":1},{"$f":"-SUM(AV7:AV14)","v":0.78523544239154308}]
[12,1462,13,1466,13,1477,null,null,null,null,0,111,null,null,null,"U=",{"$f":"Q15/(LOG(Q4)/LOG(2))","v":0.14909710907238183},null,null,null,null,"U1=",{"$f":"W15/(LOG(W4)/LOG(2))","v":5.4263885012509193E-2},null,null,null,"U2=",{"$f":"AB15/(LOG(AB4)/LOG(2))","v":0.17414833158570828},null,null,null,"U3=",{"$f":"AG15/(LOG(AG4)/LOG(2))","v":0},null,null,null,"U4=",{"$f":"AL15/(LOG(AL4)/LOG(2))","v":0.15651142397958206},null,null,null,"U5=",{"$f":"AQ15/(LOG(AQ4)/LOG(2))","v":0.10792793278574449},null,null,null,"U6=",{"$f":"AV15/(LOG(AV4)/LOG(2))","v":0.16514280138789023}]
[12,1582,13,1587,13,1601,null,null,null,null,0,111]
[12,1706,13,1710,13,1729,null,null,null,null,0,111]
[12,1835,13,1841,13,1932,null,null,null,null,0,111,null,"Total Target Seq"]
[12,2047,13,2062,24,2102,null,null,null,null,0,112,null,{"$f":"COUNTIF(L7:L167,G3)","v":18},null,27,27,26,27,27,27]
[12,2209,13,2215,13,2260,null,null,null,null,0,111,null,null,null,"% of reinforcement given in 6 equal intervals based on number of trials "]
[12,2366,13,2370,13,2391,null,null,null,null,0,111,null,null,null,"%_1","%_2","%_3","%_4","%_5","%_6"]
[21,2490,11,2498,11,2503,null,null,null,null,0,211,null,null,"target sequence",{"$f":"$G$3","v":211},{"$f":"$G$3","v":211},{"$f":"$G$3","v":211},{"$f":"$G$3","v":211},{"$f":"$G$3","v":211},{"$f":"$G$3","v":211}]
[21,2594,11,2602,11,2611,null,null,null,null,0,211,null,null,"total reinforcement",{"$f":"U11","v":4},{"$f":"Z11","v":4},{"$f":"AE11","v":2},{"$f":"AJ11","v":1},{"$f":"AO11","v":4},{"$f":"AT11","v":3}]
[21,2697,11,2706,11,2710,null,null,null,null,0,211,null,null,"% target"]
[12,2804,13,2810,13,2825,null,null,null,null,0,111,null,null,"CCRF"]
[12,2933,13,2937,13,2954,null,null,null,null,0,111,null,null,"% CCRf"]
[12,3061,13,3065,13,3077,null,null,null,null,0,111,null,null,"average response rate",{"$f":"F33/P20","v":137.59259259259258},{"$f":"(F60-F33)/Q20","v":159.40740740740742},{"$f":"(F86-F60)/R20","v":138.30769230769232},{"$f":"(F113-F86)/S20","v":145.62962962962962},{"$f":"(F140-F113)/T20","v":151.11111111111111},{"$f":"(F167-F140)/U20","v":158.77777777777777}]
[12,3187,13,3207,13,3217,null,null,null,null,0,111]
[12,3321,13,3326,13,3340,null,null,null,null,0,111]
[12,3448,13,3452,13,3465,null,null,null,null,0,111]
[12,3574,13,3578,13,3591,null,null,null,null,0,111]
[12,3695,13,3701,13,3715,null,null,null,null,0,111]
[12,3822,13,3828,13,3843,null,null,null,null,0,111]
[12,3948,13,3953,13,4010,null,null,null,null,0,111]
[12,4120,13,4125,13,4137,null,null,null,null,0,111]
[12,4248,13,4300,13,4305,null,null,null,null,0,111]
[12,4409,13,4414,13,4431,null,null,null,null,0,111]
[12,4540,13,4545,13,4556,null,null,null,null,0,111]
[12,4671,13,4725,13,4766,null,null,null,null,0,111]
[12,4878,13,4884,24,4943,null,null,null,null,0,112]
[12,5044,13,5048,13,5055,null,null,null,null,0,111]
[12,5162,13,5180,13,5207,null,null,null,null,0,111]
[12,5318,13,5325,24,5365,null,null,null,null,0,112]
[12,5476,13,5481,13,5511,null,null,null,null,0,111]
[12,5634,13,5638,13,5734,null,null,null,null,0,111]
[12,5867,13,5876,13,5884,null,null,null,null,0,111]
[12,6003,13,6017,24,6136,null,null,null,null,0,112]
[12,6255,13,6260,13,6268,null,null,null,null,0,111]
[12,6414,13,6435,24,6472,null,null,null,null,0,112]
[21,6594,11,6607,11,6636,null,null,null,null,0,211]
[12,6792,13,6801,24,6820,null,null,null,null,0,112]
[21,6951,11,6964,11,6969,null,null,null,null,0,211]
[12,7078,13,7083,24,7160,null,null,null,null,0,112]
[21,7262,11,7270,11,7310,null,null,null,null,0,211]
[12,7408,13,7413,13,7421,null,null,null,null,0,111]
[12,7529,13,7533,13,7567,null,null,null,null,0,111]
[12,7678,13,7682,13,7718,null,null,null,null,0,111]
[21,7830,11,7839,11,7845,null,null,null,null,0,211]
[12,7951,13,8009,13,8019,null,null,null,null,0,111]
[12,8132,13,8140,13,8148,null,null,null,null,0,111]
[12,8256,13,8260,13,8267,null,null,null,null,0,111]
[12,8375,13,8385,13,8394,null,null,null,null,0,111]
[12,8505,13,8509,13,8535,null,null,null,null,0,111]
[12,8647,13,8652,13,8664,null,null,null,null,0,111]
[12,8773,13,8779,13,8790,null,null,null,null,0,111]
[12,8901,13,8909,13,8932,null,null,null,null,0,111]
[12,9039,13,9044,13,9064,null,null,null,null,0,111]
[12,9173,13,9263,13,9295,null,null,null,null,0,111]
[12,9402,13,9407,13,9415,null,null,null,null,0,111]
[12,9536,13,9563,13,9569,null,null,null,null,0,111]
[12,9686,13,9691,13,9698,null,null,null,null,0,111]
[12,9838,13,9845,13,9878,null,null,null,null,0,111]
[21,9971,11,9997,11,10002,null,null,null,null,0,211]
[12,10112,13,10118,13,10128,null,null,null,null,0,111]
[21,10235,11,10245,11,10256,null,null,null,null,0,211]
[12,10361,13,10367,13,10380,null,null,null,null,0,111]
[12,10492,13,10497,13,10535,null,null,null,null,0,111]
[12,10639,13,10644,13,10654,null,null,null,null,0,111]
[12,10776,13,10782,13,10818,null,null,null,null,0,111]
[12,10926,13,10931,13,10945,null,null,null,null,0,111]
[12,11053,13,11058,13,11066,null,null,null,null,0,111]
[12,11185,13,11196,13,11209,null,null,null,null,0,111]
[12,11320,13,11324,13,11352,null,null,null,null,0,111]
[12,11460,13,11465,13,11485,null,null,null,null,0,111]
[12,11597,13,11603,13,11615,null,null,null,null,0,111]
[12,11753,13,11761,13,11775,null,null,null,null,0,111]
[12,11888,13,11893,13,11901,null,null,null,null,0,111]
[12,12006,13,12012,13,12021,null,null,null,null,0,111]
[12,12131,13,12135,13,12144,null,null,null,null,0,111]
[12,12267,13,12275,13,12291,null,null,null,null,0,111]
[12,12406,13,12414,13,12423,null,null,null,null,0,111]
[12,12533,13,12538,13,12545,null,null,null,null,0,111]
[12,12656,13,12681,13,12687,null,null,null,null,0,111]
[12,12819,13,12825,13,12833,null,null,null,null,0,111]
[12,12965,13,12974,13,12983,null,null,null,null,0,111]
[12,13103,13,13109,24,13126,null,null,null,null,0,112]
[12,13248,13,13321,13,13328,null,null,null,null,0,111]
[12,13452,13,13477,24,13517,null,null,null,null,0,112]
[21,13637,11,13652,11,13667,null,null,null,null,0,211]
[12,13779,13,13785,13,13794,null,null,null,null,0,111]
[12,13904,13,13910,13,13919,null,null,null,null,0,111]
[12,14028,13,14033,13,14040,null,null,null,null,0,111]
[12,14152,13,14158,13,14166,null,null,null,null,0,111]
[12,14295,13,14304,13,14320,null,null,null,null,0,111]
[21,14417,22,14433,13,14444,null,null,null,null,0,221]
[12,14549,13,14566,24,14581,null,null,null,null,0,112]
[12,14720,13,14753,13,14761,null,null,null,null,0,111]
[12,14878,13,14894,13,14948,null,null,null,null,0,111]
[12,15055,13,15060,13,15069,null,null,null,null,0,111]
[12,15182,13,15206,13,15231,null,null,null,null,0,111]
[12,15347,13,15358,13,15367,null,null,null,null,0,111]
[12,15487,13,15530,13,15547,null,null,null,null,0,111]
[12,15659,13,15667,13,15745,null,null,null,null,0,111]
[12,15862,13,15871,13,15879,null,null,null,null,0,111]
[12,15988,13,15994,13,16001,null,null,null,null,0,111]
[12,16124,13,16132,13,16139,null,null,null,null,0,111]
[12,16261,13,16267,13,16276,null,null,null,null,0,111]
[21,16381,11,16391,11,16397,null,null,null,null,0,211]
[21,16519,11,16534,22,16590,null,null,null,null,0,212]
[12,16729,24,16781,13,16810,null,null,null,null,0,121]
[12,16930,13,16938,13,16947,null,null,null,null,0,111]
[12,17064,13,17072,13,17081,null,null,null,null,0,111]
[12,17231,13,17240,13,17283,null,null,null,null,0,111]
[21,17376,11,17395,11,17402,null,null,null,null,0,211]
[12,17510,13,17519,13,17530,null,null,null,null,0,111]
[12,17663,13,17671,13,17713,null,null,null,null,0,111]
[12,17834,13,17840,13,17855,null,null,null,null,0,111]
[12,17966,13,17971,13,17981,null,null,null,null,0,111]
[12,18122,13,18142,13,18154,null,null,null,null,0,111]
[12,18278,13,18307,13,18334,null,null,null,null,0,111]
[12,18459,13,18468,13,18482,null,null,null,null,0,111]
[21,18590,11,18599,11,18607,null,null,null,null,0,211]
[21,18713,11,18722,11,18730,null,null,null,null,0,211]
[12,18835,13,18843,13,18852,null,null,null,null,0,111]
[12,18975,13,18984,13,19006,null,null,null,null,0,111]
[12,19154,13,19189,13,19202,null,null,null,null,0,111]
[12,19327,13,19335,13,19361,null,null,null,null,0,111]
[12,19483,13,19492,13,19506,null,null,null,null,0,111]
[12,19613,13,19619,13,19627,null,null,null,null,0,111]
[12,19746,13,19755,13,19764,null,null,null,null,0,111]
[12,19879,13,19888,13,19910,null,null,null,null,0,111]
[12,20024,13,20031,13,20040,null,null,null,null,0,111]
[12,20175,13,20199,24,20252,null,null,null,null,0,112]
[12,20356,13,20362,13,20371,null,null,null,null,0,111]
[12,20536,13,20545,13,20615,null,null,null,null,0,111]
[12,20714,13,20723,13,20732,null,null,null,null,0,111]
[12,20849,13,20856,13,20866,null,null,null,null,0,111]
[12,20982,13,20990,13,21000,null,null,null,null,0,111]
[12,21113,13,21174,13,21182,null,null,null,null,0,111]
[12,21304,13,21323,13,21334,null,null,null,null,0,111]
[12,21479,13,21541,13,21551,null,null,null,null,0,111]
[12,21667,13,21678,13,21686,null,null,null,null,0,111]
[12,21829,13,21838,13,21848,null,null,null,null,0,111]
[21,21991,11,22010,22,22041,null,null,null,null,0,212]
[21,22147,11,22161,11,22169,null,null,null,null,0,211]
[12,22284,13,22292,24,22307,null,null,null,null,0,112]
[12,22422,13,22431,13,22441,null,null,null,null,0,111]
[12,22555,13,22575,13,22592,null,null,null,null,0,111]
[12,22726,13,22735,13,22762,null,null,null,null,0,111]
[12,22926,13,22937,13,22958,null,null,null,null,0,111]
[12,23080,13,23091,24,23107,null,null,null,null,0,112]
[12,23224,13,23251,13,23260,null,null,null,null,0,111]
[21,23381,11,23393,11,23403,null,null,null,null,0,211]
[12,23520,13,23552,13,23588,null,null,null,null,0,111]
[12,23726,13,23753,13,23763,null,null,null,null,0,111]
[21,23869,11,23889,11,23914,null,null,null,null,0,211]