{"text_format":"1","workbook":"xlsx","n_sheets":32,"sheets":["Sample Report","Summary","Start","!M930930.010","!MA01740.010","!MA02830.010","!MA03740.010","!MA04840.010","!MA05850.010","!MA06820.010","!MA07B40.010","!MA08920.010","!MA09940.010","!MA10A30.010","!MA11940.010","!MA12B30.010","!MA13930.010","!MA14B00.010","!MA15950.010","!MA16830.010","!MA17C00.010","!MA18A20.010","!MA19B20.010","!MA20940.010","!MA21A00.010","!MA22930.010","!MA23A00.010","!MA24A30.010","!MA25940.010","!MA26A10.010","!MA27930.010","!MA28A20.010"],"not_rendered":{"charts":0,"images":0,"macros":1,"external_links":0,"defined_names":0,"comments":0,"pivot_tables":0},"unopened":[],"bounds":{"document_bytes":16777216,"sheet_cells":100000,"rows_first":2000,"rows_last":500,"rows_between":2000,"halvings":0,"cell_chars":16384,"cell_head_chars":4096},"cells_cut":0,"cells_raw":0,"read":"whole","date_system":"1900"}

{"sheet":"Sample Report","index":0,"n_rows":12,"n_cols":11,"rows_kept":12,"cut":false,"hidden":true,"merged":[[7,0,7,6]]}
[]
["Date"]
["Hen"]
["Program"]
["Start at 999999"]
["Sequence component 1","Time 1","Seqeunce Component 2","Time 2","Seqeunce Component 3","Time 3","Correct   0 = No 1=Yes",null,null,"Seqeunce","Time"]
[12,7,12,42,13,18,"if 77 new line,                                  if 31 or 41 = yes new line on 77, ",null,null,"=string of Seqeunce compponent 1, 2 & 3","=time 3"]
["This continues until ther is a 1 on its own to indicate start of summary data"]
[null,null,null,null,null,null,null,null,null,"10-19 =1"]
["Summary Data ",null,null,null,null,null,null,null,null,"20-29 =2"]
["Correct","Incorrect","Rft","total","Av Correct","Av Incorrect","Percent correct","Time",null,"in this example the seqeunce would be 111"]
[40,33,40,73,23.95,15,54,806]

{"sheet":"Summary","index":1,"n_rows":32,"n_cols":24,"rows_kept":32,"cut":false,"hidden":false,"merged":[]}
[]
["Day","Date","Average Response Rate","Target %","RF for non correct sequence","U Value",null,null,null,null,"Block 1","Block 2","Block 3","Block 4","Block 5","Block 6"]
[1,{"$f":"'!M930930.010'!B2:C2","v":"<date>"},{"$f":"('!M930930.010'!J99/60)/'!M930930.010'!Q3","v":4.2781362007168457},{"$f":"'!M930930.010'!N44/'!M930930.010'!Q3","v":1.0752688172043012E-2},{"$f":"SUM('!M930930.010'!L44:Q44)/'!M930930.010'!Q3","v":121},{"$f":"'!M930930.010'!Q40","v":0.56431529437653738},null,null,null,"Average Response Rate",{"$f":"AVERAGE(C3:C7)","v":3.204023554477184},{"$f":"AVERAGE(C8:C12)","v":3.0638980263618962},{"$f":"AVERAGE(C13:C17)","v":2.46277507572578},{"$f":"AVERAGE(C18:C22)","v":2.2671530200701504},{"$f":"AVERAGE(C23:C27)","v":2.2707847059343331},{"$f":"AVERAGE(C28:C32)","v":2.6638215756536914}]
[2,{"$f":"'!MA01740.010'!B2:C2","v":"<date>"},{"$f":"('!MA01740.010'!J102/60)/'!MA01740.010'!Q3","v":4.1553819444444446},{"$f":"'!MA01740.010'!N44/'!MA01740.010'!Q3","v":1.0416666666666666E-2},{"$f":"SUM('!MA01740.010'!L44:Q44)/'!MA01740.010'!Q3","v":220.25},{"$f":"'!MA01740.010'!Q40","v":0.51390032864232027},null,null,null,"Target %",{"$f":"AVERAGE(D3:D7)","v":3.402901021170008E-2},{"$f":"AVERAGE(D8:D12)","v":6.32218085490098E-2},{"$f":"AVERAGE(D13:D17)","v":5.9766365781278794E-2},{"$f":"AVERAGE(D18:D22)","v":9.7994390677420593E-2},{"$f":"AVERAGE(D23:D27)","v":0.16094958418302255},{"$f":"AVERAGE(D28:D32)","v":0.26313106191169494}]
[3,{"$f":"'!MA02830.010'!B2:C2","v":"<date>"},{"$f":"('!MA02830.010'!J105/60)/'!MA02830.010'!Q3","v":4.031986531986532},{"$f":"'!MA02830.010'!N44/'!MA02830.010'!Q3","v":3.0303030303030304E-2},{"$f":"SUM('!MA02830.010'!L44:Q44)/'!MA02830.010'!Q3","v":112.5959595959596},{"$f":"'!MA02830.010'!Q40","v":0.45768289491539293},null,null,null,"CCRF",{"$f":"AVERAGE(E3:E7)","v":162.02986402267899},{"$f":"AVERAGE(E8:E12)","v":103.93206707578824},{"$f":"AVERAGE(E13:E17)","v":103.30558630846949},{"$f":"AVERAGE(E18:E22)","v":100.30922501614978},{"$f":"AVERAGE(E23:E27)","v":110.43448122976595},{"$f":"AVERAGE(E28:E32)","v":150.02916454368398}]
[4,{"$f":"'!MA03740.010'!B2:C2","v":"<date>"},{"$f":"('!MA03740.010'!J117/60)/'!MA03740.010'!Q3","v":3.5546130952380954},{"$f":"'!MA03740.010'!N44/'!MA03740.010'!Q3","v":7.1428571428571425E-2},{"$f":"SUM('!MA03740.010'!L44:Q44)/'!MA03740.010'!Q3","v":188.90178571428572},{"$f":"'!MA03740.010'!Q40","v":0.60118201158249218},null,null,null,"U Value",{"$f":"AVERAGE(F3:F7)","v":0.53190481840493753},{"$f":"AVERAGE(F8:F12)","v":0.51114258897107945},{"$f":"AVERAGE(F13:F17)","v":0.53359194812076294},{"$f":"AVERAGE(F18:F22)","v":0.52941964048673529},{"$f":"AVERAGE(F23:F27)","v":0.53588341320831834},{"$f":"AVERAGE(F28:F32)","v":0.52127839642008711}]
[5,{"$f":"'!MA04840.010'!B2:C2","v":"<date>"},{"$f":"('!MA04840.010'!J133/60)/'!MA04840.010'!Q3","v":0},{"$f":"'!MA04840.010'!N44/'!MA04840.010'!Q3","v":4.7244094488188976E-2},{"$f":"SUM('!MA04840.010'!L44:Q44)/'!MA04840.010'!Q3","v":167.4015748031496},{"$f":"'!MA04840.010'!Q40","v":0.5224435625079451}]
[6,{"$f":"'!MA05850.010'!B2:C2","v":"<date>"},{"$f":"('!MA05850.010'!J142/60)/'!MA05850.010'!Q3","v":2.9219362745098039},{"$f":"'!MA05850.010'!N44/'!MA05850.010'!Q3","v":3.6764705882352942E-2},{"$f":"SUM('!MA05850.010'!L44:Q44)/'!MA05850.010'!Q3","v":163.02205882352942},{"$f":"'!MA05850.010'!Q40","v":0.52720212660909183}]
[7,{"$f":"'!MA06820.010'!B2:C2","v":"<date>"},{"$f":"('!MA06820.010'!J122/60)/'!MA06820.010'!Q3","v":3.44382183908046},{"$f":"'!MA06820.010'!N44/'!MA06820.010'!Q3","v":7.7586206896551727E-2},{"$f":"SUM('!MA06820.010'!L44:Q44)/'!MA06820.010'!Q3","v":97.068965517241381},{"$f":"'!MA06820.010'!Q40","v":0.51490016167850439},{"$f":"K3","v":3.204023554477184},3.0638980263618962,2.46277507572578,2.2671530200701504,2.2707847059343331,2.6638215756536914,{"$f":"K4","v":3.402901021170008E-2},6.32218085490098E-2,5.9766365781278794E-2,9.7994390677420593E-2,0.16094958418302255,0.26313106191169494,{"$f":"K6","v":0.53190481840493753},0.51114258897107945,0.53359194812076294,0.52941964048673529,0.53588341320831834,0.52127839642008711]
[8,{"$f":"'!MA07B40.010'!B2:C2","v":"<date>"},{"$f":"('!MA07B40.010'!J147/60)/'!MA07B40.010'!Q3","v":2.8269503546099291},{"$f":"'!MA07B40.010'!N44/'!MA07B40.010'!Q3","v":7.0921985815602842E-2},{"$f":"SUM('!MA07B40.010'!L44:Q44)/'!MA07B40.010'!Q3","v":79.914893617021278},{"$f":"'!MA07B40.010'!Q40","v":0.50492237766996406}]
[9,{"$f":"'!MA08920.010'!B2:C2","v":"<date>"},{"$f":"('!MA08920.010'!J134/60)/'!MA08920.010'!Q3","v":3.0791989664082684},{"$f":"'!MA08920.010'!N44/'!MA08920.010'!Q3","v":6.9767441860465115E-2},{"$f":"SUM('!MA08920.010'!L44:Q44)/'!MA08920.010'!Q3","v":94.36434108527132},{"$f":"'!MA08920.010'!Q40","v":0.5113985932655668}]
[10,{"$f":"'!MA09940.010'!B2:C2","v":"<date>"},{"$f":"('!MA09940.010'!J137/60)/'!MA09940.010'!Q3","v":3.047582697201018},{"$f":"'!MA09940.010'!N44/'!MA09940.010'!Q3","v":6.1068702290076333E-2},{"$f":"SUM('!MA09940.010'!L44:Q44)/'!MA09940.010'!Q3","v":85.290076335877856},{"$f":"'!MA09940.010'!Q40","v":0.49728968563227016}]
[11,{"$f":"'!MA10A30.010'!B2:C2","v":"<date>"},{"$f":"('!MA10A30.010'!J148/60)/'!MA10A30.010'!Q3","v":2.8154929577464789},{"$f":"'!MA10A30.010'!N44/'!MA10A30.010'!Q3","v":6.3380281690140844E-2},{"$f":"SUM('!MA10A30.010'!L44:Q44)/'!MA10A30.010'!Q3","v":85.75352112676056},{"$f":"'!MA10A30.010'!Q40","v":0.54329992683609252}]
[12,{"$f":"'!MA11940.010'!B2:C2","v":"<date>"},{"$f":"('!MA11940.010'!J116/60)/'!MA11940.010'!Q3","v":3.5849849849849851},{"$f":"'!MA11940.010'!N44/'!MA11940.010'!Q3","v":8.1081081081081086E-2},{"$f":"SUM('!MA11940.010'!L44:Q44)/'!MA11940.010'!Q3","v":191.5045045045045},{"$f":"'!MA11940.010'!Q40","v":0.58886307762571033}]
[13,{"$f":"'!MA12B30.010'!B2:C2","v":"<date>"},{"$f":"('!MA12B30.010'!J159/60)/'!MA12B30.010'!Q3","v":0},{"$f":"'!MA12B30.010'!N44/'!MA12B30.010'!Q3","v":6.535947712418301E-2},{"$f":"SUM('!MA12B30.010'!L44:Q44)/'!MA12B30.010'!Q3","v":73.673202614379079},{"$f":"'!MA12B30.010'!Q40","v":0.49212972093189106}]
[14,{"$f":"'!MA13930.010'!B2:C2","v":"<date>"},{"$f":"('!MA13930.010'!J146/60)/'!MA13930.010'!Q3","v":2.8508333333333336},{"$f":"'!MA13930.010'!N44/'!MA13930.010'!Q3","v":4.2857142857142858E-2},{"$f":"SUM('!MA13930.010'!L44:Q44)/'!MA13930.010'!Q3","v":79.742857142857147},{"$f":"'!MA13930.010'!Q40","v":0.47838282280613592}]
[15,{"$f":"'!MA14B00.010'!B2:C2","v":"<date>"},{"$f":"('!MA14B00.010'!J136/60)/'!MA14B00.010'!Q3","v":3.0625641025641026},{"$f":"'!MA14B00.010'!N44/'!MA14B00.010'!Q3","v":4.6153846153846156E-2},{"$f":"SUM('!MA14B00.010'!L44:Q44)/'!MA14B00.010'!Q3","v":85.853846153846149},{"$f":"'!MA14B00.010'!Q40","v":0.56528419240398531}]
[16,{"$f":"'!MA15950.010'!B2:C2","v":"<date>"},{"$f":"('!MA15950.010'!J135/60)/'!MA15950.010'!Q3","v":3.0931524547803617},{"$f":"'!MA15950.010'!N44/'!MA15950.010'!Q3","v":6.9767441860465115E-2},{"$f":"SUM('!MA15950.010'!L44:Q44)/'!MA15950.010'!Q3","v":86.612403100775197},{"$f":"'!MA15950.010'!Q40","v":0.6033046743579118}]
[17,{"$f":"'!MA16830.010'!B2:C2","v":"<date>"},{"$f":"('!MA16830.010'!J130/60)/'!MA16830.010'!Q3","v":0},{"$f":"'!MA16830.010'!N44/'!MA16830.010'!Q3","v":0.13709677419354838},{"$f":"SUM('!MA16830.010'!L44:Q44)/'!MA16830.010'!Q3","v":98.137096774193552},{"$f":"'!MA16830.010'!Q40","v":0.56221534343471746}]
[18,{"$f":"'!MA17C00.010'!B2:C2","v":"<date>"},{"$f":"('!MA17C00.010'!J146/60)/'!MA17C00.010'!Q3","v":2.8459523809523808},{"$f":"'!MA17C00.010'!N44/'!MA17C00.010'!Q3","v":0.10714285714285714},{"$f":"SUM('!MA17C00.010'!L44:Q44)/'!MA17C00.010'!Q3","v":151.94999999999999},{"$f":"'!MA17C00.010'!Q40","v":0.56090380933354511}]
[19,{"$f":"'!MA18A20.010'!B2:C2","v":"<date>"},{"$f":"('!MA18A20.010'!J148/60)/'!MA18A20.010'!Q3","v":2.8057511737089205},{"$f":"'!MA18A20.010'!N44/'!MA18A20.010'!Q3","v":9.154929577464789E-2},{"$f":"SUM('!MA18A20.010'!L44:Q44)/'!MA18A20.010'!Q3","v":85.781690140845072},{"$f":"'!MA18A20.010'!Q40","v":0.47628498901957833}]
[20,{"$f":"'!MA19B20.010'!B2:C2","v":"<date>"},{"$f":"('!MA19B20.010'!J160/60)/'!MA19B20.010'!Q3","v":2.5909090909090908},{"$f":"'!MA19B20.010'!N44/'!MA19B20.010'!Q3","v":8.4415584415584416E-2},{"$f":"SUM('!MA19B20.010'!L44:Q44)/'!MA19B20.010'!Q3","v":79.064935064935071},{"$f":"'!MA19B20.010'!Q40","v":0.44438938628792418}]
[21,{"$f":"'!MA20940.010'!B2:C2","v":"<date>"},{"$f":"('!MA20940.010'!J151/60)/'!MA20940.010'!Q3","v":2.7479310344827583},{"$f":"'!MA20940.010'!N44/'!MA20940.010'!Q3","v":0.15172413793103448},{"$f":"SUM('!MA20940.010'!L44:Q44)/'!MA20940.010'!Q3","v":77.868965517241378},{"$f":"'!MA20940.010'!Q40","v":0.51341793818993009}]
[22,{"$f":"'!MA21A00.010'!B2:C2","v":"<date>"},{"$f":"('!MA21A00.010'!J139/60)/'!MA21A00.010'!Q3","v":0},{"$f":"'!MA21A00.010'!N44/'!MA21A00.010'!Q3","v":0.15789473684210525},{"$f":"SUM('!MA21A00.010'!L44:Q44)/'!MA21A00.010'!Q3","v":84.10526315789474},{"$f":"'!MA21A00.010'!Q40","v":0.55740122949537374}]
[23,{"$f":"'!MA22930.010'!B2:C2","v":"<date>"},{"$f":"('!MA22930.010'!J136/60)/'!MA22930.010'!Q3","v":3.065641025641026},{"$f":"'!MA22930.010'!N44/'!MA22930.010'!Q3","v":0.16153846153846155},{"$f":"SUM('!MA22930.010'!L44:Q44)/'!MA22930.010'!Q3","v":162.96153846153845},{"$f":"'!MA22930.010'!Q40","v":0.54162191453178332}]
[24,{"$f":"'!MA23A00.010'!B2:C2","v":"<date>"},{"$f":"('!MA23A00.010'!J147/60)/'!MA23A00.010'!Q3","v":2.8019953051643194},{"$f":"'!MA23A00.010'!N44/'!MA23A00.010'!Q3","v":0.176056338028169},{"$f":"SUM('!MA23A00.010'!L44:Q44)/'!MA23A00.010'!Q3","v":149.88732394366198},{"$f":"'!MA23A00.010'!Q40","v":0.51809960675089528}]
[25,{"$f":"'!MA24A30.010'!B2:C2","v":"<date>"},{"$f":"('!MA24A30.010'!J152/60)/'!MA24A30.010'!Q3","v":2.7383561643835619},{"$f":"'!MA24A30.010'!N44/'!MA24A30.010'!Q3","v":0.15753424657534246},{"$f":"SUM('!MA24A30.010'!L44:Q44)/'!MA24A30.010'!Q3","v":77.349315068493155},{"$f":"'!MA24A30.010'!Q40","v":0.54887637707360937}]
[26,{"$f":"'!MA25940.010'!B2:C2","v":"<date>"},{"$f":"('!MA25940.010'!J144/60)/'!MA25940.010'!Q3","v":2.8907004830917877},{"$f":"'!MA25940.010'!N44/'!MA25940.010'!Q3","v":0.21014492753623187},{"$f":"SUM('!MA25940.010'!L44:Q44)/'!MA25940.010'!Q3","v":88.376811594202906},{"$f":"'!MA25940.010'!Q40","v":0.52801531920635214}]
[27,{"$f":"'!MA26A10.010'!B2:C2","v":"<date>"},{"$f":"('!MA26A10.010'!J150/60)/'!MA26A10.010'!Q3","v":2.7467816091954025},{"$f":"'!MA26A10.010'!N44/'!MA26A10.010'!Q3","v":0.16551724137931034},{"$f":"SUM('!MA26A10.010'!L44:Q44)/'!MA26A10.010'!Q3","v":152.99310344827586},{"$f":"'!MA26A10.010'!Q40","v":0.54951834932686128}]
[28,{"$f":"'!MA27930.010'!B2:C2","v":"<date>"},{"$f":"('!MA27930.010'!J138/60)/'!MA27930.010'!Q3","v":2.5797979797979802},{"$f":"'!MA27930.010'!N44/'!MA27930.010'!Q3","v":0.30303030303030304},{"$f":"SUM('!MA27930.010'!L44:Q44)/'!MA27930.010'!Q3","v":160.64393939393941},{"$f":"'!MA27930.010'!Q40","v":0.49809800940615984}]
[29,{"$f":"'!MA28A20.010'!B2:C2","v":"<date>"},{"$f":"('!MA28A20.010'!J113/60)/'!MA28A20.010'!Q3","v":2.4380062305295951},{"$f":"'!MA28A20.010'!N44/'!MA28A20.010'!Q3","v":0.37383177570093457},{"$f":"SUM('!MA28A20.010'!L44:Q44)/'!MA28A20.010'!Q3","v":198.10280373831776},{"$f":"'!MA28A20.010'!Q40","v":0.50948190774097513}]
[30]

{"sheet":"Start","index":2,"n_rows":35,"n_cols":10,"rows_kept":35,"cut":false,"hidden":false,"merged":[]}
[null,null,null,null,null,"Use Folder 51",null,"Auto Clean Up",null,"Correct sequence"]
[null,null,null,null,null,false,null,true,null,21121]
[]
["Working with Folder",null,null,null,null,null,"Process All/Or Pick A number: ALL or an integer"]
["E:\\Hen Data\\Raw Data\\103_183\\phase 5 con\\",null,null,null,null,null,"ALL"]
["Filenames:"]
["!M930930.010",null,null,null,null,null,"Paint Cells"]
["!MA01740.010",null,null,null,null,null,false]
["!MA02830.010"]
["!MA03740.010"]
["!MA04840.010"]
["!MA05850.010"]
["!MA06820.010"]
["!MA07B40.010"]
["!MA08920.010"]
["!MA09940.010"]
["!MA10A30.010"]
["!MA11940.010"]
["!MA12B30.010"]
["!MA13930.010"]
["!MA14B00.010"]
["!MA15950.010"]
["!MA16830.010"]
["!MA18A20.010"]
["!MA17C00.010"]
["!MA19B20.010"]
["!MA20940.010"]
["!MA21A00.010"]
["!MA22930.010"]
["!MA23A00.010"]
["!MA24A30.010"]
["!MA25940.010"]
["!MA26A10.010"]
["!MA27930.010"]
["!MA28A20.010"]

{"sheet":"!M930930.010","index":3,"n_rows":99,"n_cols":48,"rows_kept":99,"cut":false,"hidden":false,"merged":[[4,39,4,42],[5,39,5,40],[4,44,4,47],[5,44,5,45],[4,24,4,27],[5,24,5,25],[4,29,4,32],[5,29,5,30],[4,34,4,37],[5,34,5,35],[1,1,1,2],[5,13,5,14],[42,13,42,14],[43,13,43,14],[4,19,4,22],[5,19,5,20]]}
["Report for:!M930930.010"]
["Date:","<date>"]
["Hen:","<hen>",null,null,null,"Correct Sequence",{"$f":"Start!J2","v":21121},null,null,null,null,null,null,null,null,"Total Sequences in Data",{"$f":"4994-COUNTBLANK(L7:L5000)","v":93},null,null,null,null,"Total Sequences in Block Data",{"$f":"COUNTA(L7:L22)","v":16},null,null,null,"Total Sequences in Block Data",{"$f":"COUNTA(L23:L37)","v":15},null,null,null,"Total Sequences in Block Data",{"$f":"COUNTA(L38:L53)","v":16},null,null,null,"Total Sequences in Block Data",{"$f":"COUNTA(L54:L68)","v":15},null,null,null,"Total Sequences in Block Data",{"$f":"COUNTA(L69:L84)","v":16},null,null,null,"Total Sequences in Block Data",{"$f":"COUNTA(L85:L99)","v":15}]
[null,null,null,null,null,null,null,null,null,null,null,null,null,null,null,"Total Sequences in Summary",{"$f":"SUM(O7:O38)","v":93},null,null,null,null,"Total Sequences in Block Summary",{"$f":"SUM(U7:U38)","v":16},null,null,null,"Total Sequences in Block Summary",{"$f":"SUM(Z7:Z38)","v":15},null,null,null,"Total Sequences in Block Summary",{"$f":"SUM(AE7:AE38)","v":16},null,null,null,"Total Sequences in Block Summary",{"$f":"SUM(AJ7:AJ38)","v":15},null,null,null,"Total Sequences in Block Summary",{"$f":"SUM(AO7:AO38)","v":16},null,null,null,"Total Sequences in Block Summary",{"$f":"SUM(AT7:AT38)","v":15}]
[null,null,null,null,null,null,null,null,null,null,null,null,null,null,null,null,null,null,null,"Block 1",null,null,null,null,"Block 2",null,null,null,null,"Block 3",null,null,null,null,"Block 4",null,null,null,null,"Block 5",null,null,null,null,"Block 6"]
["Sequence\nComponent\n1","Time\n1","Sequence\nComponent\n2","Time\n2","Sequence\nComponent\n3","Time\n3","Sequence\nComponent\n4","Time\n4","Sequence\nComponent\n5","Time\n5","Correct?\n0=No 1=Yes","Sequence",null,"Frequency",null,"Relative Frequency","Variability",null,null,"Frequency",null,"Relative Frequency","Variability",null,"Frequency",null,"Relative Frequency","Variability",null,"Frequency",null,"Relative Frequency","Variability",null,"Frequency",null,"Relative Frequency","Variability",null,"Frequency",null,"Relative Frequency","Variability",null,"Frequency",null,"Relative Frequency","Variability"]
[12,12,24,34,24,42,14,61,13,83,0,12211,null,11111,{"$f":"COUNTIF($L$7:$L$500,N7)","v":8},{"$f":"O7/$Q$4","v":8.6021505376344093E-2},{"$f":"IF(P7=0,0,(P7*((LOG(P7))/LOG(2))))","v":-0.30444376869746503},null,null,{"$f":"N7","v":11111},{"$f":"COUNTIF(L7:L22,T7)","v":0},{"$f":"U7/(W4-U25)","v":0},{"$f":"IF(V7=0,0,(V7*((LOG(V7))/LOG(2))))","v":0},null,{"$f":"N7","v":11111},{"$f":"COUNTIF(L23:L37,Y7)","v":1},{"$f":"Z7/(AB4-Z25)","v":6.6666666666666666E-2},{"$f":"IF(AA7=0,0,(AA7*((LOG(AA7))/LOG(2))))","v":-0.26045937304056793},null,{"$f":"N7","v":11111},{"$f":"COUNTIF(L38:L53,AD7)","v":0},{"$f":"AE7/(AG4-AE25)","v":0},{"$f":"IF(AF7=0,0,(AF7*((LOG(AF7))/LOG(2))))","v":0},null,{"$f":"N7","v":11111},{"$f":"COUNTIF(L54:L68,AI7)","v":0},{"$f":"AJ7/(AL4-AJ25)","v":0},{"$f":"IF(AK7=0,0,(AK7*((LOG(AK7))/LOG(2))))","v":0},null,{"$f":"N7","v":11111},{"$f":"COUNTIF(L69:L84,AN7)","v":4},{"$f":"AO7/(AQ4-AO25)","v":0.25},{"$f":"IF(AP7=0,0,(AP7*((LOG(AP7))/LOG(2))))","v":-0.5},null,{"$f":"N7","v":11111},{"$f":"COUNTIF(L85:L99,AS7)","v":3},{"$f":"AT7/(AV4-AT25)","v":0.21428571428571427},{"$f":"IF(AU7=0,0,(AU7*((LOG(AU7))/LOG(2))))","v":-0.47622694742923877}]
[12,185,24,198,13,215,23,228,13,241,0,12121,null,11112,{"$f":"COUNTIF($L$7:$L$500,N8)","v":7},{"$f":"O8/$Q$4","v":7.5268817204301078E-2},{"$f":"IF(P8=0,0,(P8*((LOG(P8))/LOG(2))))","v":-0.28088846476723645},null,null,{"$f":"N8","v":11112},{"$f":"COUNTIF(L7:L22,T8)","v":0},{"$f":"U8/(W4-U25)","v":0},{"$f":"IF(V8=0,0,(V8*((LOG(V8))/LOG(2))))","v":0},null,{"$f":"N8","v":11112},{"$f":"COUNTIF(L23:L37,Y8)","v":0},{"$f":"Z8/(AB4-Z25)","v":0},{"$f":"IF(AA8=0,0,(AA8*((LOG(AA8))/LOG(2))))","v":0},null,{"$f":"N8","v":11112},{"$f":"COUNTIF(L38:L53,AD8)","v":1},{"$f":"AE8/(AG4-AE25)","v":6.25E-2},{"$f":"IF(AF8=0,0,(AF8*((LOG(AF8))/LOG(2))))","v":-0.25},null,{"$f":"N8","v":11112},{"$f":"COUNTIF(L54:L68,AI8)","v":2},{"$f":"AJ8/(AL4-AJ25)","v":0.13333333333333333},{"$f":"IF(AK8=0,0,(AK8*((LOG(AK8))/LOG(2))))","v":-0.3875854127478025},null,{"$f":"N8","v":11112},{"$f":"COUNTIF(L69:L84,AN8)","v":3},{"$f":"AO8/(AQ4-AO25)","v":0.1875},{"$f":"IF(AP8=0,0,(AP8*((LOG(AP8))/LOG(2))))","v":-0.45281953111478312},null,{"$f":"N8","v":11112},{"$f":"COUNTIF(L85:L99,AS8)","v":1},{"$f":"AT8/(AV4-AT25)","v":7.1428571428571425E-2},{"$f":"IF(AU8=0,0,(AU8*((LOG(AU8))/LOG(2))))","v":-0.27195392300411453}]
[21,366,11,383,22,395,23,424,13,436,0,21221,null,11121,{"$f":"COUNTIF($L$7:$L$500,N9)","v":8},{"$f":"O9/$Q$4","v":8.6021505376344093E-2},{"$f":"IF(P9=0,0,(P9*((LOG(P9))/LOG(2))))","v":-0.30444376869746503},null,null,{"$f":"N9","v":11121},{"$f":"COUNTIF(L7:L22,T9)","v":1},{"$f":"U9/(W4-U25)","v":6.25E-2},{"$f":"IF(V9=0,0,(V9*((LOG(V9))/LOG(2))))","v":-0.25},null,{"$f":"N9","v":11121},{"$f":"COUNTIF(L23:L37,Y9)","v":4},{"$f":"Z9/(AB4-Z25)","v":0.26666666666666666},{"$f":"IF(AA9=0,0,(AA9*((LOG(AA9))/LOG(2))))","v":-0.50850415882893829},null,{"$f":"N9","v":11121},{"$f":"COUNTIF(L38:L53,AD9)","v":0},{"$f":"AE9/(AG4-AE25)","v":0},{"$f":"IF(AF9=0,0,(AF9*((LOG(AF9))/LOG(2))))","v":0},null,{"$f":"N9","v":11121},{"$f":"COUNTIF(L54:L68,AI9)","v":1},{"$f":"AJ9/(AL4-AJ25)","v":6.6666666666666666E-2},{"$f":"IF(AK9=0,0,(AK9*((LOG(AK9))/LOG(2))))","v":-0.26045937304056793},null,{"$f":"N9","v":11121},{"$f":"COUNTIF(L69:L84,AN9)","v":1},{"$f":"AO9/(AQ4-AO25)","v":6.25E-2},{"$f":"IF(AP9=0,0,(AP9*((LOG(AP9))/LOG(2))))","v":-0.25},null,{"$f":"N9","v":11121},{"$f":"COUNTIF(L85:L99,AS9)","v":1},{"$f":"AT9/(AV4-AT25)","v":7.1428571428571425E-2},{"$f":"IF(AU9=0,0,(AU9*((LOG(AU9))/LOG(2))))","v":-0.27195392300411453}]
[12,552,24,569,13,584,23,601,13,610,0,12121,null,11122,{"$f":"COUNTIF($L$7:$L$500,N10)","v":20},{"$f":"O10/$Q$4","v":0.21505376344086022},{"$f":"IF(P10=0,0,(P10*((LOG(P10))/LOG(2))))","v":-0.47682380993992879},null,null,{"$f":"N10","v":11122},{"$f":"COUNTIF(L7:L22,T10)","v":1},{"$f":"U10/(W4-U25)","v":6.25E-2},{"$f":"IF(V10=0,0,(V10*((LOG(V10))/LOG(2))))","v":-0.25},null,{"$f":"N10","v":11122},{"$f":"COUNTIF(L23:L37,Y10)","v":4},{"$f":"Z10/(AB4-Z25)","v":0.26666666666666666},{"$f":"IF(AA10=0,0,(AA10*((LOG(AA10))/LOG(2))))","v":-0.50850415882893829},null,{"$f":"N10","v":11122},{"$f":"COUNTIF(L38:L53,AD10)","v":3},{"$f":"AE10/(AG4-AE25)","v":0.1875},{"$f":"IF(AF10=0,0,(AF10*((LOG(AF10))/LOG(2))))","v":-0.45281953111478312},null,{"$f":"N10","v":11122},{"$f":"COUNTIF(L54:L68,AI10)","v":5},{"$f":"AJ10/(AL4-AJ25)","v":0.33333333333333331},{"$f":"IF(AK10=0,0,(AK10*((LOG(AK10))/LOG(2))))","v":-0.52832083357371862},null,{"$f":"N10","v":11122},{"$f":"COUNTIF(L69:L84,AN10)","v":4},{"$f":"AO10/(AQ4-AO25)","v":0.25},{"$f":"IF(AP10=0,0,(AP10*((LOG(AP10))/LOG(2))))","v":-0.5},null,{"$f":"N10","v":11122},{"$f":"COUNTIF(L85:L99,AS10)","v":3},{"$f":"AT10/(AV4-AT25)","v":0.21428571428571427},{"$f":"IF(AU10=0,0,(AU10*((LOG(AU10))/LOG(2))))","v":-0.47622694742923877}]
[12,712,24,727,13,743,23,758,13,770,0,12121,null,11211,{"$f":"COUNTIF($L$7:$L$500,N11)","v":1},{"$f":"O11/$Q$4","v":1.0752688172043012E-2},{"$f":"IF(P11=0,0,(P11*((LOG(P11))/LOG(2))))","v":-7.0313535603312161E-2},null,null,{"$f":"N11","v":11211},{"$f":"COUNTIF(L7:L22,T11)","v":0},{"$f":"U11/(W4-U25)","v":0},{"$f":"IF(V11=0,0,(V11*((LOG(V11))/LOG(2))))","v":0},null,{"$f":"N11","v":11211},{"$f":"COUNTIF(L23:L37,Y11)","v":1},{"$f":"Z11/(AB4-Z25)","v":6.6666666666666666E-2},{"$f":"IF(AA11=0,0,(AA11*((LOG(AA11))/LOG(2))))","v":-0.26045937304056793},null,{"$f":"N11","v":11211},{"$f":"COUNTIF(L38:L53,AD11)","v":0},{"$f":"AE11/(AG4-AE25)","v":0},{"$f":"IF(AF11=0,0,(AF11*((LOG(AF11))/LOG(2))))","v":0},null,{"$f":"N11","v":11211},{"$f":"COUNTIF(L54:L68,AI11)","v":0},{"$f":"AJ11/(AL4-AJ25)","v":0},{"$f":"IF(AK11=0,0,(AK11*((LOG(AK11))/LOG(2))))","v":0},null,{"$f":"N11","v":11211},{"$f":"COUNTIF(L69:L84,AN11)","v":0},{"$f":"AO11/(AQ4-AO25)","v":0},{"$f":"IF(AP11=0,0,(AP11*((LOG(AP11))/LOG(2))))","v":0},null,{"$f":"N11","v":11211},{"$f":"COUNTIF(L85:L99,AS11)","v":0},{"$f":"AT11/(AV4-AT25)","v":0},{"$f":"IF(AU11=0,0,(AU11*((LOG(AU11))/LOG(2))))","v":0}]
[12,874,24,886,13,899,23,918,13,926,0,12121,null,11212,{"$f":"COUNTIF($L$7:$L$500,N12)","v":3},{"$f":"O12/$Q$4","v":3.2258064516129031E-2},{"$f":"IF(P12=0,0,(P12*((LOG(P12))/LOG(2))))","v":-0.15981278420602821},null,null,{"$f":"N12","v":11212},{"$f":"COUNTIF(L7:L22,T12)","v":0},{"$f":"U12/(W4-U25)","v":0},{"$f":"IF(V12=0,0,(V12*((LOG(V12))/LOG(2))))","v":0},null,{"$f":"N12","v":11212},{"$f":"COUNTIF(L23:L37,Y12)","v":0},{"$f":"Z12/(AB4-Z25)","v":0},{"$f":"IF(AA12=0,0,(AA12*((LOG(AA12))/LOG(2))))","v":0},null,{"$f":"N12","v":11212},{"$f":"COUNTIF(L38:L53,AD12)","v":1},{"$f":"AE12/(AG4-AE25)","v":6.25E-2},{"$f":"IF(AF12=0,0,(AF12*((LOG(AF12))/LOG(2))))","v":-0.25},null,{"$f":"N12","v":11212},{"$f":"COUNTIF(L54:L68,AI12)","v":1},{"$f":"AJ12/(AL4-AJ25)","v":6.6666666666666666E-2},{"$f":"IF(AK12=0,0,(AK12*((LOG(AK12))/LOG(2))))","v":-0.26045937304056793},null,{"$f":"N12","v":11212},{"$f":"COUNTIF(L69:L84,AN12)","v":0},{"$f":"AO12/(AQ4-AO25)","v":0},{"$f":"IF(AP12=0,0,(AP12*((LOG(AP12))/LOG(2))))","v":0},null,{"$f":"N12","v":11212},{"$f":"COUNTIF(L85:L99,AS12)","v":1},{"$f":"AT12/(AV4-AT25)","v":7.1428571428571425E-2},{"$f":"IF(AU12=0,0,(AU12*((LOG(AU12))/LOG(2))))","v":-0.27195392300411453}]
[21,1053,22,1072,13,1085,23,1100,24,1108,0,22122,null,11221,{"$f":"COUNTIF($L$7:$L$500,N13)","v":8},{"$f":"O13/$Q$4","v":8.6021505376344093E-2},{"$f":"IF(P13=0,0,(P13*((LOG(P13))/LOG(2))))","v":-0.30444376869746503},null,null,{"$f":"N13","v":11221},{"$f":"COUNTIF(L7:L22,T13)","v":0},{"$f":"U13/(W4-U25)","v":0},{"$f":"IF(V13=0,0,(V13*((LOG(V13))/LOG(2))))","v":0},null,{"$f":"N13","v":11221},{"$f":"COUNTIF(L23:L37,Y13)","v":1},{"$f":"Z13/(AB4-Z25)","v":6.6666666666666666E-2},{"$f":"IF(AA13=0,0,(AA13*((LOG(AA13))/LOG(2))))","v":-0.26045937304056793},null,{"$f":"N13","v":11221},{"$f":"COUNTIF(L38:L53,AD13)","v":4},{"$f":"AE13/(AG4-AE25)","v":0.25},{"$f":"IF(AF13=0,0,(AF13*((LOG(AF13))/LOG(2))))","v":-0.5},null,{"$f":"N13","v":11221},{"$f":"COUNTIF(L54:L68,AI13)","v":2},{"$f":"AJ13/(AL4-AJ25)","v":0.13333333333333333},{"$f":"IF(AK13=0,0,(AK13*((LOG(AK13))/LOG(2))))","v":-0.3875854127478025},null,{"$f":"N13","v":11221},{"$f":"COUNTIF(L69:L84,AN13)","v":0},{"$f":"AO13/(AQ4-AO25)","v":0},{"$f":"IF(AP13=0,0,(AP13*((LOG(AP13))/LOG(2))))","v":0},null,{"$f":"N13","v":11221},{"$f":"COUNTIF(L85:L99,AS13)","v":1},{"$f":"AT13/(AV4-AT25)","v":7.1428571428571425E-2},{"$f":"IF(AU13=0,0,(AU13*((LOG(AU13))/LOG(2))))","v":-0.27195392300411453}]
[12,1215,24,1233,24,1244,14,1257,24,1273,0,12212,null,11222,{"$f":"COUNTIF($L$7:$L$500,N14)","v":15},{"$f":"O14/$Q$4","v":0.16129032258064516},{"$f":"IF(P14=0,0,(P14*((LOG(P14))/LOG(2))))","v":-0.42455938959669559},null,null,{"$f":"N14","v":11222},{"$f":"COUNTIF(L7:L22,T14)","v":2},{"$f":"U14/(W4-U25)","v":0.125},{"$f":"IF(V14=0,0,(V14*((LOG(V14))/LOG(2))))","v":-0.375},null,{"$f":"N14","v":11222},{"$f":"COUNTIF(L23:L37,Y14)","v":2},{"$f":"Z14/(AB4-Z25)","v":0.13333333333333333},{"$f":"IF(AA14=0,0,(AA14*((LOG(AA14))/LOG(2))))","v":-0.3875854127478025},null,{"$f":"N14","v":11222},{"$f":"COUNTIF(L38:L53,AD14)","v":4},{"$f":"AE14/(AG4-AE25)","v":0.25},{"$f":"IF(AF14=0,0,(AF14*((LOG(AF14))/LOG(2))))","v":-0.5},null,{"$f":"N14","v":11222},{"$f":"COUNTIF(L54:L68,AI14)","v":2},{"$f":"AJ14/(AL4-AJ25)","v":0.13333333333333333},{"$f":"IF(AK14=0,0,(AK14*((LOG(AK14))/LOG(2))))","v":-0.3875854127478025},null,{"$f":"N14","v":11222},{"$f":"COUNTIF(L69:L84,AN14)","v":2},{"$f":"AO14/(AQ4-AO25)","v":0.125},{"$f":"IF(AP14=0,0,(AP14*((LOG(AP14))/LOG(2))))","v":-0.375},null,{"$f":"N14","v":11222},{"$f":"COUNTIF(L85:L99,AS14)","v":3},{"$f":"AT14/(AV4-AT25)","v":0.21428571428571427},{"$f":"IF(AU14=0,0,(AU14*((LOG(AU14))/LOG(2))))","v":-0.47622694742923877}]
[12,1395,24,1412,24,1420,14,1434,24,1449,0,12212,null,12111,{"$f":"COUNTIF($L$7:$L$500,N15)","v":2},{"$f":"O15/$Q$4","v":2.1505376344086023E-2},{"$f":"IF(P15=0,0,(P15*((LOG(P15))/LOG(2))))","v":-0.11912169486253833},null,null,{"$f":"N15","v":12111},{"$f":"COUNTIF(L7:L22,T15)","v":1},{"$f":"U15/(W4-U25)","v":6.25E-2},{"$f":"IF(V15=0,0,(V15*((LOG(V15))/LOG(2))))","v":-0.25},null,{"$f":"N15","v":12111},{"$f":"COUNTIF(L23:L37,Y15)","v":1},{"$f":"Z15/(AB4-Z25)","v":6.6666666666666666E-2},{"$f":"IF(AA15=0,0,(AA15*((LOG(AA15))/LOG(2))))","v":-0.26045937304056793},null,{"$f":"N15","v":12111},{"$f":"COUNTIF(L38:L53,AD15)","v":0},{"$f":"AE15/(AG4-AE25)","v":0},{"$f":"IF(AF15=0,0,(AF15*((LOG(AF15))/LOG(2))))","v":0},null,{"$f":"N15","v":12111},{"$f":"COUNTIF(L54:L68,AI15)","v":0},{"$f":"AJ15/(AL4-AJ25)","v":0},{"$f":"IF(AK15=0,0,(AK15*((LOG(AK15))/LOG(2))))","v":0},null,{"$f":"N15","v":12111},{"$f":"COUNTIF(L69:L84,AN15)","v":0},{"$f":"AO15/(AQ4-AO25)","v":0},{"$f":"IF(AP15=0,0,(AP15*((LOG(AP15))/LOG(2))))","v":0},null,{"$f":"N15","v":12111},{"$f":"COUNTIF(L85:L99,AS15)","v":0},{"$f":"AT15/(AV4-AT25)","v":0},{"$f":"IF(AU15=0,0,(AU15*((LOG(AU15))/LOG(2))))","v":0}]
[12,1557,13,1585,24,1602,23,1613,24,1630,0,11222,null,12112,{"$f":"COUNTIF($L$7:$L$500,N16)","v":1},{"$f":"O16/$Q$4","v":1.0752688172043012E-2},{"$f":"IF(P16=0,0,(P16*((LOG(P16))/LOG(2))))","v":-7.0313535603312161E-2},null,null,{"$f":"N16","v":12112},{"$f":"COUNTIF(L7:L22,T16)","v":1},{"$f":"U16/(W4-U25)","v":6.25E-2},{"$f":"IF(V16=0,0,(V16*((LOG(V16))/LOG(2))))","v":-0.25},null,{"$f":"N16","v":12112},{"$f":"COUNTIF(L23:L37,Y16)","v":0},{"$f":"Z16/(AB4-Z25)","v":0},{"$f":"IF(AA16=0,0,(AA16*((LOG(AA16))/LOG(2))))","v":0},null,{"$f":"N16","v":12112},{"$f":"COUNTIF(L38:L53,AD16)","v":0},{"$f":"AE16/(AG4-AE25)","v":0},{"$f":"IF(AF16=0,0,(AF16*((LOG(AF16))/LOG(2))))","v":0},null,{"$f":"N16","v":12112},{"$f":"COUNTIF(L54:L68,AI16)","v":0},{"$f":"AJ16/(AL4-AJ25)","v":0},{"$f":"IF(AK16=0,0,(AK16*((LOG(AK16))/LOG(2))))","v":0},null,{"$f":"N16","v":12112},{"$f":"COUNTIF(L69:L84,AN16)","v":0},{"$f":"AO16/(AQ4-AO25)","v":0},{"$f":"IF(AP16=0,0,(AP16*((LOG(AP16))/LOG(2))))","v":0},null,{"$f":"N16","v":12112},{"$f":"COUNTIF(L85:L99,AS16)","v":0},{"$f":"AT16/(AV4-AT25)","v":0},{"$f":"IF(AU16=0,0,(AU16*((LOG(AU16))/LOG(2))))","v":0}]
[12,1790,13,1809,24,1821,23,1832,24,1851,0,11222,null,12121,{"$f":"COUNTIF($L$7:$L$500,N17)","v":4},{"$f":"O17/$Q$4","v":4.3010752688172046E-2},{"$f":"IF(P17=0,0,(P17*((LOG(P17))/LOG(2))))","v":-0.19523263703690458},null,null,{"$f":"N17","v":12121},{"$f":"COUNTIF(L7:L22,T17)","v":4},{"$f":"U17/(W4-U25)","v":0.25},{"$f":"IF(V17=0,0,(V17*((LOG(V17))/LOG(2))))","v":-0.5},null,{"$f":"N17","v":12121},{"$f":"COUNTIF(L23:L37,Y17)","v":0},{"$f":"Z17/(AB4-Z25)","v":0},{"$f":"IF(AA17=0,0,(AA17*((LOG(AA17))/LOG(2))))","v":0},null,{"$f":"N17","v":12121},{"$f":"COUNTIF(L38:L53,AD17)","v":0},{"$f":"AE17/(AG4-AE25)","v":0},{"$f":"IF(AF17=0,0,(AF17*((LOG(AF17))/LOG(2))))","v":0},null,{"$f":"N17","v":12121},{"$f":"COUNTIF(L54:L68,AI17)","v":0},{"$f":"AJ17/(AL4-AJ25)","v":0},{"$f":"IF(AK17=0,0,(AK17*((LOG(AK17))/LOG(2))))","v":0},null,{"$f":"N17","v":12121},{"$f":"COUNTIF(L69:L84,AN17)","v":0},{"$f":"AO17/(AQ4-AO25)","v":0},{"$f":"IF(AP17=0,0,(AP17*((LOG(AP17))/LOG(2))))","v":0},null,{"$f":"N17","v":12121},{"$f":"COUNTIF(L85:L99,AS17)","v":0},{"$f":"AT17/(AV4-AT25)","v":0},{"$f":"IF(AU17=0,0,(AU17*((LOG(AU17))/LOG(2))))","v":0}]
[12,1968,24,1982,13,1996,14,2008,13,2034,0,12111,null,12122,{"$f":"COUNTIF($L$7:$L$500,N18)","v":2},{"$f":"O18/$Q$4","v":2.1505376344086023E-2},{"$f":"IF(P18=0,0,(P18*((LOG(P18))/LOG(2))))","v":-0.11912169486253833},null,null,{"$f":"N18","v":12122},{"$f":"COUNTIF(L7:L22,T18)","v":1},{"$f":"U18/(W4-U25)","v":6.25E-2},{"$f":"IF(V18=0,0,(V18*((LOG(V18))/LOG(2))))","v":-0.25},null,{"$f":"N18","v":12122},{"$f":"COUNTIF(L23:L37,Y18)","v":0},{"$f":"Z18/(AB4-Z25)","v":0},{"$f":"IF(AA18=0,0,(AA18*((LOG(AA18))/LOG(2))))","v":0},null,{"$f":"N18","v":12122},{"$f":"COUNTIF(L38:L53,AD18)","v":0},{"$f":"AE18/(AG4-AE25)","v":0},{"$f":"IF(AF18=0,0,(AF18*((LOG(AF18))/LOG(2))))","v":0},null,{"$f":"N18","v":12122},{"$f":"COUNTIF(L54:L68,AI18)","v":1},{"$f":"AJ18/(AL4-AJ25)","v":6.6666666666666666E-2},{"$f":"IF(AK18=0,0,(AK18*((LOG(AK18))/LOG(2))))","v":-0.26045937304056793},null,{"$f":"N18","v":12122},{"$f":"COUNTIF(L69:L84,AN18)","v":0},{"$f":"AO18/(AQ4-AO25)","v":0},{"$f":"IF(AP18=0,0,(AP18*((LOG(AP18))/LOG(2))))","v":0},null,{"$f":"N18","v":12122},{"$f":"COUNTIF(L85:L99,AS18)","v":0},{"$f":"AT18/(AV4-AT25)","v":0},{"$f":"IF(AU18=0,0,(AU18*((LOG(AU18))/LOG(2))))","v":0}]
[12,2219,24,2232,13,2242,14,2257,24,2269,0,12112,null,12211,{"$f":"COUNTIF($L$7:$L$500,N19)","v":1},{"$f":"O19/$Q$4","v":1.0752688172043012E-2},{"$f":"IF(P19=0,0,(P19*((LOG(P19))/LOG(2))))","v":-7.0313535603312161E-2},null,null,{"$f":"N19","v":12211},{"$f":"COUNTIF(L7:L22,T19)","v":1},{"$f":"U19/(W4-U25)","v":6.25E-2},{"$f":"IF(V19=0,0,(V19*((LOG(V19))/LOG(2))))","v":-0.25},null,{"$f":"N19","v":12211},{"$f":"COUNTIF(L23:L37,Y19)","v":0},{"$f":"Z19/(AB4-Z25)","v":0},{"$f":"IF(AA19=0,0,(AA19*((LOG(AA19))/LOG(2))))","v":0},null,{"$f":"N19","v":12211},{"$f":"COUNTIF(L38:L53,AD19)","v":0},{"$f":"AE19/(AG4-AE25)","v":0},{"$f":"IF(AF19=0,0,(AF19*((LOG(AF19))/LOG(2))))","v":0},null,{"$f":"N19","v":12211},{"$f":"COUNTIF(L54:L68,AI19)","v":0},{"$f":"AJ19/(AL4-AJ25)","v":0},{"$f":"IF(AK19=0,0,(AK19*((LOG(AK19))/LOG(2))))","v":0},null,{"$f":"N19","v":12211},{"$f":"COUNTIF(L69:L84,AN19)","v":0},{"$f":"AO19/(AQ4-AO25)","v":0},{"$f":"IF(AP19=0,0,(AP19*((LOG(AP19))/LOG(2))))","v":0},null,{"$f":"N19","v":12211},{"$f":"COUNTIF(L85:L99,AS19)","v":0},{"$f":"AT19/(AV4-AT25)","v":0},{"$f":"IF(AU19=0,0,(AU19*((LOG(AU19))/LOG(2))))","v":0}]
[12,2386,13,2400,13,2412,23,2427,13,2444,0,11121,null,12212,{"$f":"COUNTIF($L$7:$L$500,N20)","v":3},{"$f":"O20/$Q$4","v":3.2258064516129031E-2},{"$f":"IF(P20=0,0,(P20*((LOG(P20))/LOG(2))))","v":-0.15981278420602821},null,null,{"$f":"N20","v":12212},{"$f":"COUNTIF(L7:L22,T20)","v":2},{"$f":"U20/(W4-U25)","v":0.125},{"$f":"IF(V20=0,0,(V20*((LOG(V20))/LOG(2))))","v":-0.375},null,{"$f":"N20","v":12212},{"$f":"COUNTIF(L23:L37,Y20)","v":0},{"$f":"Z20/(AB4-Z25)","v":0},{"$f":"IF(AA20=0,0,(AA20*((LOG(AA20))/LOG(2))))","v":0},null,{"$f":"N20","v":12212},{"$f":"COUNTIF(L38:L53,AD20)","v":1},{"$f":"AE20/(AG4-AE25)","v":6.25E-2},{"$f":"IF(AF20=0,0,(AF20*((LOG(AF20))/LOG(2))))","v":-0.25},null,{"$f":"N20","v":12212},{"$f":"COUNTIF(L54:L68,AI20)","v":0},{"$f":"AJ20/(AL4-AJ25)","v":0},{"$f":"IF(AK20=0,0,(AK20*((LOG(AK20))/LOG(2))))","v":0},null,{"$f":"N20","v":12212},{"$f":"COUNTIF(L69:L84,AN20)","v":0},{"$f":"AO20/(AQ4-AO25)","v":0},{"$f":"IF(AP20=0,0,(AP20*((LOG(AP20))/LOG(2))))","v":0},null,{"$f":"N20","v":12212},{"$f":"COUNTIF(L85:L99,AS20)","v":0},{"$f":"AT20/(AV4-AT25)","v":0},{"$f":"IF(AU20=0,0,(AU20*((LOG(AU20))/LOG(2))))","v":0}]
[12,2567,13,2576,13,2585,23,2597,24,2608,0,11122,null,12221,{"$f":"COUNTIF($L$7:$L$500,N21)","v":3},{"$f":"O21/$Q$4","v":3.2258064516129031E-2},{"$f":"IF(P21=0,0,(P21*((LOG(P21))/LOG(2))))","v":-0.15981278420602821},null,null,{"$f":"N21","v":12221},{"$f":"COUNTIF(L7:L22,T21)","v":0},{"$f":"U21/(W4-U25)","v":0},{"$f":"IF(V21=0,0,(V21*((LOG(V21))/LOG(2))))","v":0},null,{"$f":"N21","v":12221},{"$f":"COUNTIF(L23:L37,Y21)","v":1},{"$f":"Z21/(AB4-Z25)","v":6.6666666666666666E-2},{"$f":"IF(AA21=0,0,(AA21*((LOG(AA21))/LOG(2))))","v":-0.26045937304056793},null,{"$f":"N21","v":12221},{"$f":"COUNTIF(L38:L53,AD21)","v":2},{"$f":"AE21/(AG4-AE25)","v":0.125},{"$f":"IF(AF21=0,0,(AF21*((LOG(AF21))/LOG(2))))","v":-0.375},null,{"$f":"N21","v":12221},{"$f":"COUNTIF(L54:L68,AI21)","v":0},{"$f":"AJ21/(AL4-AJ25)","v":0},{"$f":"IF(AK21=0,0,(AK21*((LOG(AK21))/LOG(2))))","v":0},null,{"$f":"N21","v":12221},{"$f":"COUNTIF(L69:L84,AN21)","v":0},{"$f":"AO21/(AQ4-AO25)","v":0},{"$f":"IF(AP21=0,0,(AP21*((LOG(AP21))/LOG(2))))","v":0},null,{"$f":"N21","v":12221},{"$f":"COUNTIF(L85:L99,AS21)","v":0},{"$f":"AT21/(AV4-AT25)","v":0},{"$f":"IF(AU21=0,0,(AU21*((LOG(AU21))/LOG(2))))","v":0}]
[12,2887,24,2901,13,2926,23,2938,24,2950,0,12122,null,12222,{"$f":"COUNTIF($L$7:$L$500,N22)","v":1},{"$f":"O22/$Q$4","v":1.0752688172043012E-2},{"$f":"IF(P22=0,0,(P22*((LOG(P22))/LOG(2))))","v":-7.0313535603312161E-2},null,null,{"$f":"N22","v":12222},{"$f":"COUNTIF(L7:L22,T22)","v":0},{"$f":"U22/(W4-U25)","v":0},{"$f":"IF(V22=0,0,(V22*((LOG(V22))/LOG(2))))","v":0},null,{"$f":"N22","v":12222},{"$f":"COUNTIF(L23:L37,Y22)","v":0},{"$f":"Z22/(AB4-Z25)","v":0},{"$f":"IF(AA22=0,0,(AA22*((LOG(AA22))/LOG(2))))","v":0},null,{"$f":"N22","v":12222},{"$f":"COUNTIF(L38:L53,AD22)","v":0},{"$f":"AE22/(AG4-AE25)","v":0},{"$f":"IF(AF22=0,0,(AF22*((LOG(AF22))/LOG(2))))","v":0},null,{"$f":"N22","v":12222},{"$f":"COUNTIF(L54:L68,AI22)","v":1},{"$f":"AJ22/(AL4-AJ25)","v":6.6666666666666666E-2},{"$f":"IF(AK22=0,0,(AK22*((LOG(AK22))/LOG(2))))","v":-0.26045937304056793},null,{"$f":"N22","v":12222},{"$f":"COUNTIF(L69:L84,AN22)","v":0},{"$f":"AO22/(AQ4-AO25)","v":0},{"$f":"IF(AP22=0,0,(AP22*((LOG(AP22))/LOG(2))))","v":0},null,{"$f":"N22","v":12222},{"$f":"COUNTIF(L85:L99,AS22)","v":0},{"$f":"AT22/(AV4-AT25)","v":0},{"$f":"IF(AU22=0,0,(AU22*((LOG(AU22))/LOG(2))))","v":0}]
[12,3088,13,3098,13,3110,14,3122,13,3134,0,11111,null,21111,{"$f":"COUNTIF($L$7:$L$500,N23)","v":2},{"$f":"O23/$Q$4","v":2.1505376344086023E-2},{"$f":"IF(P23=0,0,(P23*((LOG(P23))/LOG(2))))","v":-0.11912169486253833},null,null,{"$f":"N23","v":21111},{"$f":"COUNTIF(L7:L22,T23)","v":0},{"$f":"U23/(W4-U25)","v":0},{"$f":"IF(V23=0,0,(V23*((LOG(V23))/LOG(2))))","v":0},null,{"$f":"N23","v":21111},{"$f":"COUNTIF(L23:L37,Y23)","v":0},{"$f":"Z23/(AB4-Z25)","v":0},{"$f":"IF(AA23=0,0,(AA23*((LOG(AA23))/LOG(2))))","v":0},null,{"$f":"N23","v":21111},{"$f":"COUNTIF(L38:L53,AD23)","v":0},{"$f":"AE23/(AG4-AE25)","v":0},{"$f":"IF(AF23=0,0,(AF23*((LOG(AF23))/LOG(2))))","v":0},null,{"$f":"N23","v":21111},{"$f":"COUNTIF(L54:L68,AI23)","v":0},{"$f":"AJ23/(AL4-AJ25)","v":0},{"$f":"IF(AK23=0,0,(AK23*((LOG(AK23))/LOG(2))))","v":0},null,{"$f":"N23","v":21111},{"$f":"COUNTIF(L69:L84,AN23)","v":1},{"$f":"AO23/(AQ4-AO25)","v":6.25E-2},{"$f":"IF(AP23=0,0,(AP23*((LOG(AP23))/LOG(2))))","v":-0.25},null,{"$f":"N23","v":21111},{"$f":"COUNTIF(L85:L99,AS23)","v":1},{"$f":"AT23/(AV4-AT25)","v":7.1428571428571425E-2},{"$f":"IF(AU23=0,0,(AU23*((LOG(AU23))/LOG(2))))","v":-0.27195392300411453}]
[12,3314,13,3326,13,3451,23,3464,24,3477,0,11122,null,21112,{"$f":"COUNTIF($L$7:$L$500,N24)","v":1},{"$f":"O24/$Q$4","v":1.0752688172043012E-2},{"$f":"IF(P24=0,0,(P24*((LOG(P24))/LOG(2))))","v":-7.0313535603312161E-2},null,null,{"$f":"N24","v":21112},{"$f":"COUNTIF(L7:L22,T24)","v":0},{"$f":"U24/(W4-U25)","v":0},{"$f":"IF(V24=0,0,(V24*((LOG(V24))/LOG(2))))","v":0},null,{"$f":"N24","v":21112},{"$f":"COUNTIF(L23:L37,Y24)","v":0},{"$f":"Z24/(AB4-Z25)","v":0},{"$f":"IF(AA24=0,0,(AA24*((LOG(AA24))/LOG(2))))","v":0},null,{"$f":"N24","v":21112},{"$f":"COUNTIF(L38:L53,AD24)","v":0},{"$f":"AE24/(AG4-AE25)","v":0},{"$f":"IF(AF24=0,0,(AF24*((LOG(AF24))/LOG(2))))","v":0},null,{"$f":"N24","v":21112},{"$f":"COUNTIF(L54:L68,AI24)","v":0},{"$f":"AJ24/(AL4-AJ25)","v":0},{"$f":"IF(AK24=0,0,(AK24*((LOG(AK24))/LOG(2))))","v":0},null,{"$f":"N24","v":21112},{"$f":"COUNTIF(L69:L84,AN24)","v":1},{"$f":"AO24/(AQ4-AO25)","v":6.25E-2},{"$f":"IF(AP24=0,0,(AP24*((LOG(AP24))/LOG(2))))","v":-0.25},null,{"$f":"N24","v":21112},{"$f":"COUNTIF(L85:L99,AS24)","v":0},{"$f":"AT24/(AV4-AT25)","v":0},{"$f":"IF(AU24=0,0,(AU24*((LOG(AU24))/LOG(2))))","v":0}]
[12,3578,13,3612,13,3625,23,3639,24,3655,0,11122,null,21121,{"$f":"COUNTIF($L$7:$L$500,N25)","v":1},{"$f":"O25/$Q$4","v":1.0752688172043012E-2},{"$f":"IF(P25=0,0,(P25*((LOG(P25))/LOG(2))))","v":-7.0313535603312161E-2},null,null,{"$f":"N25","v":21121},{"$f":"COUNTIF(L7:L22,T25)","v":0},null,null,null,{"$f":"N25","v":21121},{"$f":"COUNTIF(L23:L37,Y25)","v":0},null,null,null,{"$f":"N25","v":21121},{"$f":"COUNTIF(L38:L53,AD25)","v":0},null,null,null,{"$f":"N25","v":21121},{"$f":"COUNTIF(L54:L68,AI25)","v":0},null,null,null,{"$f":"N25","v":21121},{"$f":"COUNTIF(L69:L84,AN25)","v":0},null,null,null,{"$f":"N25","v":21121},{"$f":"COUNTIF(L85:L99,AS25)","v":1}]
[12,3757,24,3775,24,3784,23,3796,13,3832,0,12221,null,21122,{"$f":"COUNTIF($L$7:$L$500,N26)","v":0},{"$f":"O26/$Q$4","v":0},{"$f":"IF(P26=0,0,(P26*((LOG(P26))/LOG(2))))","v":0},null,null,{"$f":"N26","v":21122},{"$f":"COUNTIF(L7:L22,T26)","v":0},{"$f":"U26/(W4-U25)","v":0},{"$f":"IF(V26=0,0,(V26*((LOG(V26))/LOG(2))))","v":0},null,{"$f":"N26","v":21122},{"$f":"COUNTIF(L23:L37,Y26)","v":0},{"$f":"Z26/(AB4-Z25)","v":0},{"$f":"IF(AA26=0,0,(AA26*((LOG(AA26))/LOG(2))))","v":0},null,{"$f":"N26","v":21122},{"$f":"COUNTIF(L38:L53,AD26)","v":0},{"$f":"AE26/(AG4-AE25)","v":0},{"$f":"IF(AF26=0,0,(AF26*((LOG(AF26))/LOG(2))))","v":0},null,{"$f":"N26","v":21122},{"$f":"COUNTIF(L54:L68,AI26)","v":0},{"$f":"AJ26/(AL4-AJ25)","v":0},{"$f":"IF(AK26=0,0,(AK26*((LOG(AK26))/LOG(2))))","v":0},null,{"$f":"N26","v":21122},{"$f":"COUNTIF(L69:L84,AN26)","v":0},{"$f":"AO26/(AQ4-AO25)","v":0},{"$f":"IF(AP26=0,0,(AP26*((LOG(AP26))/LOG(2))))","v":0},null,{"$f":"N26","v":21122},{"$f":"COUNTIF(L85:L99,AS26)","v":0},{"$f":"AT26/(AV4-AT25)","v":0},{"$f":"IF(AU26=0,0,(AU26*((LOG(AU26))/LOG(2))))","v":0}]
[12,3936,13,3948,24,3961,14,3982,13,3993,0,11211,null,21211,{"$f":"COUNTIF($L$7:$L$500,N27)","v":0},{"$f":"O27/$Q$4","v":0},{"$f":"IF(P27=0,0,(P27*((LOG(P27))/LOG(2))))","v":0},null,null,{"$f":"N27","v":21211},{"$f":"COUNTIF(L7:L22,T27)","v":0},{"$f":"U27/(W4-U25)","v":0},{"$f":"IF(V27=0,0,(V27*((LOG(V27))/LOG(2))))","v":0},null,{"$f":"N27","v":21211},{"$f":"COUNTIF(L23:L37,Y27)","v":0},{"$f":"Z27/(AB4-Z25)","v":0},{"$f":"IF(AA27=0,0,(AA27*((LOG(AA27))/LOG(2))))","v":0},null,{"$f":"N27","v":21211},{"$f":"COUNTIF(L38:L53,AD27)","v":0},{"$f":"AE27/(AG4-AE25)","v":0},{"$f":"IF(AF27=0,0,(AF27*((LOG(AF27))/LOG(2))))","v":0},null,{"$f":"N27","v":21211},{"$f":"COUNTIF(L54:L68,AI27)","v":0},{"$f":"AJ27/(AL4-AJ25)","v":0},{"$f":"IF(AK27=0,0,(AK27*((LOG(AK27))/LOG(2))))","v":0},null,{"$f":"N27","v":21211},{"$f":"COUNTIF(L69:L84,AN27)","v":0},{"$f":"AO27/(AQ4-AO25)","v":0},{"$f":"IF(AP27=0,0,(AP27*((LOG(AP27))/LOG(2))))","v":0},null,{"$f":"N27","v":21211},{"$f":"COUNTIF(L85:L99,AS27)","v":0},{"$f":"AT27/(AV4-AT25)","v":0},{"$f":"IF(AU27=0,0,(AU27*((LOG(AU27))/LOG(2))))","v":0}]
[12,4126,13,4159,24,4172,23,4185,13,4211,0,11221,null,21212,{"$f":"COUNTIF($L$7:$L$500,N28)","v":0},{"$f":"O28/$Q$4","v":0},{"$f":"IF(P28=0,0,(P28*((LOG(P28))/LOG(2))))","v":0},null,null,{"$f":"N28","v":21212},{"$f":"COUNTIF(L7:L22,T28)","v":0},{"$f":"U28/(W4-U25)","v":0},{"$f":"IF(V28=0,0,(V28*((LOG(V28))/LOG(2))))","v":0},null,{"$f":"N28","v":21212},{"$f":"COUNTIF(L23:L37,Y28)","v":0},{"$f":"Z28/(AB4-Z25)","v":0},{"$f":"IF(AA28=0,0,(AA28*((LOG(AA28))/LOG(2))))","v":0},null,{"$f":"N28","v":21212},{"$f":"COUNTIF(L38:L53,AD28)","v":0},{"$f":"AE28/(AG4-AE25)","v":0},{"$f":"IF(AF28=0,0,(AF28*((LOG(AF28))/LOG(2))))","v":0},null,{"$f":"N28","v":21212},{"$f":"COUNTIF(L54:L68,AI28)","v":0},{"$f":"AJ28/(AL4-AJ25)","v":0},{"$f":"IF(AK28=0,0,(AK28*((LOG(AK28))/LOG(2))))","v":0},null,{"$f":"N28","v":21212},{"$f":"COUNTIF(L69:L84,AN28)","v":0},{"$f":"AO28/(AQ4-AO25)","v":0},{"$f":"IF(AP28=0,0,(AP28*((LOG(AP28))/LOG(2))))","v":0},null,{"$f":"N28","v":21212},{"$f":"COUNTIF(L85:L99,AS28)","v":0},{"$f":"AT28/(AV4-AT25)","v":0},{"$f":"IF(AU28=0,0,(AU28*((LOG(AU28))/LOG(2))))","v":0}]
[12,4333,13,4348,13,4364,23,4385,24,4394,0,11122,null,21221,{"$f":"COUNTIF($L$7:$L$500,N29)","v":1},{"$f":"O29/$Q$4","v":1.0752688172043012E-2},{"$f":"IF(P29=0,0,(P29*((LOG(P29))/LOG(2))))","v":-7.0313535603312161E-2},null,null,{"$f":"N29","v":21221},{"$f":"COUNTIF(L7:L22,T29)","v":1},{"$f":"U29/(W4-U25)","v":6.25E-2},{"$f":"IF(V29=0,0,(V29*((LOG(V29))/LOG(2))))","v":-0.25},null,{"$f":"N29","v":21221},{"$f":"COUNTIF(L23:L37,Y29)","v":0},{"$f":"Z29/(AB4-Z25)","v":0},{"$f":"IF(AA29=0,0,(AA29*((LOG(AA29))/LOG(2))))","v":0},null,{"$f":"N29","v":21221},{"$f":"COUNTIF(L38:L53,AD29)","v":0},{"$f":"AE29/(AG4-AE25)","v":0},{"$f":"IF(AF29=0,0,(AF29*((LOG(AF29))/LOG(2))))","v":0},null,{"$f":"N29","v":21221},{"$f":"COUNTIF(L54:L68,AI29)","v":0},{"$f":"AJ29/(AL4-AJ25)","v":0},{"$f":"IF(AK29=0,0,(AK29*((LOG(AK29))/LOG(2))))","v":0},null,{"$f":"N29","v":21221},{"$f":"COUNTIF(L69:L84,AN29)","v":0},{"$f":"AO29/(AQ4-AO25)","v":0},{"$f":"IF(AP29=0,0,(AP29*((LOG(AP29))/LOG(2))))","v":0},null,{"$f":"N29","v":21221},{"$f":"COUNTIF(L85:L99,AS29)","v":0},{"$f":"AT29/(AV4-AT25)","v":0},{"$f":"IF(AU29=0,0,(AU29*((LOG(AU29))/LOG(2))))","v":0}]
[12,4537,13,4561,13,4576,23,4591,13,4618,0,11121,null,21222,{"$f":"COUNTIF($L$7:$L$500,N30)","v":0},{"$f":"O30/$Q$4","v":0},{"$f":"IF(P30=0,0,(P30*((LOG(P30))/LOG(2))))","v":0},null,null,{"$f":"N30","v":21222},{"$f":"COUNTIF(L7:L22,T30)","v":0},{"$f":"U30/(W4-U25)","v":0},{"$f":"IF(V30=0,0,(V30*((LOG(V30))/LOG(2))))","v":0},null,{"$f":"N30","v":21222},{"$f":"COUNTIF(L23:L37,Y30)","v":0},{"$f":"Z30/(AB4-Z25)","v":0},{"$f":"IF(AA30=0,0,(AA30*((LOG(AA30))/LOG(2))))","v":0},null,{"$f":"N30","v":21222},{"$f":"COUNTIF(L38:L53,AD30)","v":0},{"$f":"AE30/(AG4-AE25)","v":0},{"$f":"IF(AF30=0,0,(AF30*((LOG(AF30))/LOG(2))))","v":0},null,{"$f":"N30","v":21222},{"$f":"COUNTIF(L54:L68,AI30)","v":0},{"$f":"AJ30/(AL4-AJ25)","v":0},{"$f":"IF(AK30=0,0,(AK30*((LOG(AK30))/LOG(2))))","v":0},null,{"$f":"N30","v":21222},{"$f":"COUNTIF(L69:L84,AN30)","v":0},{"$f":"AO30/(AQ4-AO25)","v":0},{"$f":"IF(AP30=0,0,(AP30*((LOG(AP30))/LOG(2))))","v":0},null,{"$f":"N30","v":21222},{"$f":"COUNTIF(L85:L99,AS30)","v":0},{"$f":"AT30/(AV4-AT25)","v":0},{"$f":"IF(AU30=0,0,(AU30*((LOG(AU30))/LOG(2))))","v":0}]
[12,4775,13,4814,24,4832,23,4845,24,4856,0,11222,null,22111,{"$f":"COUNTIF($L$7:$L$500,N31)","v":0},{"$f":"O31/$Q$4","v":0},{"$f":"IF(P31=0,0,(P31*((LOG(P31))/LOG(2))))","v":0},null,null,{"$f":"N31","v":22111},{"$f":"COUNTIF(L7:L22,T31)","v":0},{"$f":"U31/(W4-U25)","v":0},{"$f":"IF(V31=0,0,(V31*((LOG(V31))/LOG(2))))","v":0},null,{"$f":"N31","v":22111},{"$f":"COUNTIF(L23:L37,Y31)","v":0},{"$f":"Z31/(AB4-Z25)","v":0},{"$f":"IF(AA31=0,0,(AA31*((LOG(AA31))/LOG(2))))","v":0},null,{"$f":"N31","v":22111},{"$f":"COUNTIF(L38:L53,AD31)","v":0},{"$f":"AE31/(AG4-AE25)","v":0},{"$f":"IF(AF31=0,0,(AF31*((LOG(AF31))/LOG(2))))","v":0},null,{"$f":"N31","v":22111},{"$f":"COUNTIF(L54:L68,AI31)","v":0},{"$f":"AJ31/(AL4-AJ25)","v":0},{"$f":"IF(AK31=0,0,(AK31*((LOG(AK31))/LOG(2))))","v":0},null,{"$f":"N31","v":22111},{"$f":"COUNTIF(L69:L84,AN31)","v":0},{"$f":"AO31/(AQ4-AO25)","v":0},{"$f":"IF(AP31=0,0,(AP31*((LOG(AP31))/LOG(2))))","v":0},null,{"$f":"N31","v":22111},{"$f":"COUNTIF(L85:L99,AS31)","v":0},{"$f":"AT31/(AV4-AT25)","v":0},{"$f":"IF(AU31=0,0,(AU31*((LOG(AU31))/LOG(2))))","v":0}]
[12,4976,13,5006,13,5018,23,5031,13,5055,0,11121,null,22112,{"$f":"COUNTIF($L$7:$L$500,N32)","v":0},{"$f":"O32/$Q$4","v":0},{"$f":"IF(P32=0,0,(P32*((LOG(P32))/LOG(2))))","v":0},null,null,{"$f":"N32","v":22112},{"$f":"COUNTIF(L7:L22,T32)","v":0},{"$f":"U32/(W4-U25)","v":0},{"$f":"IF(V32=0,0,(V32*((LOG(V32))/LOG(2))))","v":0},null,{"$f":"N32","v":22112},{"$f":"COUNTIF(L23:L37,Y32)","v":0},{"$f":"Z32/(AB4-Z25)","v":0},{"$f":"IF(AA32=0,0,(AA32*((LOG(AA32))/LOG(2))))","v":0},null,{"$f":"N32","v":22112},{"$f":"COUNTIF(L38:L53,AD32)","v":0},{"$f":"AE32/(AG4-AE25)","v":0},{"$f":"IF(AF32=0,0,(AF32*((LOG(AF32))/LOG(2))))","v":0},null,{"$f":"N32","v":22112},{"$f":"COUNTIF(L54:L68,AI32)","v":0},{"$f":"AJ32/(AL4-AJ25)","v":0},{"$f":"IF(AK32=0,0,(AK32*((LOG(AK32))/LOG(2))))","v":0},null,{"$f":"N32","v":22112},{"$f":"COUNTIF(L69:L84,AN32)","v":0},{"$f":"AO32/(AQ4-AO25)","v":0},{"$f":"IF(AP32=0,0,(AP32*((LOG(AP32))/LOG(2))))","v":0},null,{"$f":"N32","v":22112},{"$f":"COUNTIF(L85:L99,AS32)","v":0},{"$f":"AT32/(AV4-AT25)","v":0},{"$f":"IF(AU32=0,0,(AU32*((LOG(AU32))/LOG(2))))","v":0}]
[12,5195,24,5227,13,5246,14,5258,13,5270,0,12111,null,22121,{"$f":"COUNTIF($L$7:$L$500,N33)","v":0},{"$f":"O33/$Q$4","v":0},{"$f":"IF(P33=0,0,(P33*((LOG(P33))/LOG(2))))","v":0},null,null,{"$f":"N33","v":22121},{"$f":"COUNTIF(L7:L22,T33)","v":0},{"$f":"U33/(W4-U25)","v":0},{"$f":"IF(V33=0,0,(V33*((LOG(V33))/LOG(2))))","v":0},null,{"$f":"N33","v":22121},{"$f":"COUNTIF(L23:L37,Y33)","v":0},{"$f":"Z33/(AB4-Z25)","v":0},{"$f":"IF(AA33=0,0,(AA33*((LOG(AA33))/LOG(2))))","v":0},null,{"$f":"N33","v":22121},{"$f":"COUNTIF(L38:L53,AD33)","v":0},{"$f":"AE33/(AG4-AE25)","v":0},{"$f":"IF(AF33=0,0,(AF33*((LOG(AF33))/LOG(2))))","v":0},null,{"$f":"N33","v":22121},{"$f":"COUNTIF(L54:L68,AI33)","v":0},{"$f":"AJ33/(AL4-AJ25)","v":0},{"$f":"IF(AK33=0,0,(AK33*((LOG(AK33))/LOG(2))))","v":0},null,{"$f":"N33","v":22121},{"$f":"COUNTIF(L69:L84,AN33)","v":0},{"$f":"AO33/(AQ4-AO25)","v":0},{"$f":"IF(AP33=0,0,(AP33*((LOG(AP33))/LOG(2))))","v":0},null,{"$f":"N33","v":22121},{"$f":"COUNTIF(L85:L99,AS33)","v":0},{"$f":"AT33/(AV4-AT25)","v":0},{"$f":"IF(AU33=0,0,(AU33*((LOG(AU33))/LOG(2))))","v":0}]
[12,5405,13,5417,13,5436,23,5456,13,5478,0,11121,null,22122,{"$f":"COUNTIF($L$7:$L$500,N34)","v":1},{"$f":"O34/$Q$4","v":1.0752688172043012E-2},{"$f":"IF(P34=0,0,(P34*((LOG(P34))/LOG(2))))","v":-7.0313535603312161E-2},null,null,{"$f":"N34","v":22122},{"$f":"COUNTIF(L7:L22,T34)","v":1},{"$f":"U34/(W4-U25)","v":6.25E-2},{"$f":"IF(V34=0,0,(V34*((LOG(V34))/LOG(2))))","v":-0.25},null,{"$f":"N34","v":22122},{"$f":"COUNTIF(L23:L37,Y34)","v":0},{"$f":"Z34/(AB4-Z25)","v":0},{"$f":"IF(AA34=0,0,(AA34*((LOG(AA34))/LOG(2))))","v":0},null,{"$f":"N34","v":22122},{"$f":"COUNTIF(L38:L53,AD34)","v":0},{"$f":"AE34/(AG4-AE25)","v":0},{"$f":"IF(AF34=0,0,(AF34*((LOG(AF34))/LOG(2))))","v":0},null,{"$f":"N34","v":22122},{"$f":"COUNTIF(L54:L68,AI34)","v":0},{"$f":"AJ34/(AL4-AJ25)","v":0},{"$f":"IF(AK34=0,0,(AK34*((LOG(AK34))/LOG(2))))","v":0},null,{"$f":"N34","v":22122},{"$f":"COUNTIF(L69:L84,AN34)","v":0},{"$f":"AO34/(AQ4-AO25)","v":0},{"$f":"IF(AP34=0,0,(AP34*((LOG(AP34))/LOG(2))))","v":0},null,{"$f":"N34","v":22122},{"$f":"COUNTIF(L85:L99,AS34)","v":0},{"$f":"AT34/(AV4-AT25)","v":0},{"$f":"IF(AU34=0,0,(AU34*((LOG(AU34))/LOG(2))))","v":0}]
[12,5693,13,5760,24,5772,23,5788,24,5800,0,11222,null,22211,{"$f":"COUNTIF($L$7:$L$500,N35)","v":0},{"$f":"O35/$Q$4","v":0},{"$f":"IF(P35=0,0,(P35*((LOG(P35))/LOG(2))))","v":0},null,null,{"$f":"N35","v":22211},{"$f":"COUNTIF(L7:L22,T35)","v":0},{"$f":"U35/(W4-U25)","v":0},{"$f":"IF(V35=0,0,(V35*((LOG(V35))/LOG(2))))","v":0},null,{"$f":"N35","v":22211},{"$f":"COUNTIF(L23:L37,Y35)","v":0},{"$f":"Z35/(AB4-Z25)","v":0},{"$f":"IF(AA35=0,0,(AA35*((LOG(AA35))/LOG(2))))","v":0},null,{"$f":"N35","v":22211},{"$f":"COUNTIF(L38:L53,AD35)","v":0},{"$f":"AE35/(AG4-AE25)","v":0},{"$f":"IF(AF35=0,0,(AF35*((LOG(AF35))/LOG(2))))","v":0},null,{"$f":"N35","v":22211},{"$f":"COUNTIF(L54:L68,AI35)","v":0},{"$f":"AJ35/(AL4-AJ25)","v":0},{"$f":"IF(AK35=0,0,(AK35*((LOG(AK35))/LOG(2))))","v":0},null,{"$f":"N35","v":22211},{"$f":"COUNTIF(L69:L84,AN35)","v":0},{"$f":"AO35/(AQ4-AO25)","v":0},{"$f":"IF(AP35=0,0,(AP35*((LOG(AP35))/LOG(2))))","v":0},null,{"$f":"N35","v":22211},{"$f":"COUNTIF(L85:L99,AS35)","v":0},{"$f":"AT35/(AV4-AT25)","v":0},{"$f":"IF(AU35=0,0,(AU35*((LOG(AU35))/LOG(2))))","v":0}]
[12,5954,13,5967,13,5980,23,5992,13,6007,0,11121,null,22212,{"$f":"COUNTIF($L$7:$L$500,N36)","v":0},{"$f":"O36/$Q$4","v":0},{"$f":"IF(P36=0,0,(P36*((LOG(P36))/LOG(2))))","v":0},null,null,{"$f":"N36","v":22212},{"$f":"COUNTIF(L7:L22,T36)","v":0},{"$f":"U36/(W4-U25)","v":0},{"$f":"IF(V36=0,0,(V36*((LOG(V36))/LOG(2))))","v":0},null,{"$f":"N36","v":22212},{"$f":"COUNTIF(L23:L37,Y36)","v":0},{"$f":"Z36/(AB4-Z25)","v":0},{"$f":"IF(AA36=0,0,(AA36*((LOG(AA36))/LOG(2))))","v":0},null,{"$f":"N36","v":22212},{"$f":"COUNTIF(L38:L53,AD36)","v":0},{"$f":"AE36/(AG4-AE25)","v":0},{"$f":"IF(AF36=0,0,(AF36*((LOG(AF36))/LOG(2))))","v":0},null,{"$f":"N36","v":22212},{"$f":"COUNTIF(L54:L68,AI36)","v":0},{"$f":"AJ36/(AL4-AJ25)","v":0},{"$f":"IF(AK36=0,0,(AK36*((LOG(AK36))/LOG(2))))","v":0},null,{"$f":"N36","v":22212},{"$f":"COUNTIF(L69:L84,AN36)","v":0},{"$f":"AO36/(AQ4-AO25)","v":0},{"$f":"IF(AP36=0,0,(AP36*((LOG(AP36))/LOG(2))))","v":0},null,{"$f":"N36","v":22212},{"$f":"COUNTIF(L85:L99,AS36)","v":0},{"$f":"AT36/(AV4-AT25)","v":0},{"$f":"IF(AU36=0,0,(AU36*((LOG(AU36))/LOG(2))))","v":0}]
[12,6134,13,6150,13,6161,23,6175,24,6188,0,11122,null,22221,{"$f":"COUNTIF($L$7:$L$500,N37)","v":0},{"$f":"O37/$Q$4","v":0},{"$f":"IF(P37=0,0,(P37*((LOG(P37))/LOG(2))))","v":0},null,null,{"$f":"N37","v":22221},{"$f":"COUNTIF(L7:L22,T37)","v":0},{"$f":"U37/(W4-U25)","v":0},{"$f":"IF(V37=0,0,(V37*((LOG(V37))/LOG(2))))","v":0},null,{"$f":"N37","v":22221},{"$f":"COUNTIF(L23:L37,Y37)","v":0},{"$f":"Z37/(AB4-Z25)","v":0},{"$f":"IF(AA37=0,0,(AA37*((LOG(AA37))/LOG(2))))","v":0},null,{"$f":"N37","v":22221},{"$f":"COUNTIF(L38:L53,AD37)","v":0},{"$f":"AE37/(AG4-AE25)","v":0},{"$f":"IF(AF37=0,0,(AF37*((LOG(AF37))/LOG(2))))","v":0},null,{"$f":"N37","v":22221},{"$f":"COUNTIF(L54:L68,AI37)","v":0},{"$f":"AJ37/(AL4-AJ25)","v":0},{"$f":"IF(AK37=0,0,(AK37*((LOG(AK37))/LOG(2))))","v":0},null,{"$f":"N37","v":22221},{"$f":"COUNTIF(L69:L84,AN37)","v":0},{"$f":"AO37/(AQ4-AO25)","v":0},{"$f":"IF(AP37=0,0,(AP37*((LOG(AP37))/LOG(2))))","v":0},null,{"$f":"N37","v":22221},{"$f":"COUNTIF(L85:L99,AS37)","v":0},{"$f":"AT37/(AV4-AT25)","v":0},{"$f":"IF(AU37=0,0,(AU37*((LOG(AU37))/LOG(2))))","v":0}]
[12,6354,13,6375,24,6387,23,6395,24,6407,0,11222,null,22222,{"$f":"COUNTIF($L$7:$L$500,N38)","v":0},{"$f":"O38/$Q$4","v":0},{"$f":"IF(P38=0,0,(P38*((LOG(P38))/LOG(2))))","v":0},null,null,{"$f":"N38","v":22222},{"$f":"COUNTIF(L7:L22,T38)","v":0},{"$f":"U38/(W4-U25)","v":0},{"$f":"IF(V38=0,0,(V38*((LOG(V38))/LOG(2))))","v":0},null,{"$f":"N38","v":22222},{"$f":"COUNTIF(L23:L37,Y38)","v":0},{"$f":"Z38/(AB4-Z25)","v":0},{"$f":"IF(AA38=0,0,(AA38*((LOG(AA38))/LOG(2))))","v":0},null,{"$f":"N38","v":22222},{"$f":"COUNTIF(L38:L53,AD38)","v":0},{"$f":"AE38/(AG4-AE25)","v":0},{"$f":"IF(AF38=0,0,(AF38*((LOG(AF38))/LOG(2))))","v":0},null,{"$f":"N38","v":22222},{"$f":"COUNTIF(L54:L68,AI38)","v":0},{"$f":"AJ38/(AL4-AJ25)","v":0},{"$f":"IF(AK38=0,0,(AK38*((LOG(AK38))/LOG(2))))","v":0},null,{"$f":"N38","v":22222},{"$f":"COUNTIF(L69:L84,AN38)","v":0},{"$f":"AO38/(AQ4-AO25)","v":0},{"$f":"IF(AP38=0,0,(AP38*((LOG(AP38))/LOG(2))))","v":0},null,{"$f":"N38","v":22222},{"$f":"COUNTIF(L85:L99,AS38)","v":0},{"$f":"AT38/(AV4-AT25)","v":0},{"$f":"IF(AU38=0,0,(AU38*((LOG(AU38))/LOG(2))))","v":0}]
[12,6549,24,6570,24,6584,14,6595,24,6614,0,12212,null,null,null,{"$f":"SUM(P7:P38)","v":0.99999999999999978},{"$f":"-SUM(Q7:Q38)","v":3.6901473294653564},null,null,null,null,{"$f":"SUM(V7:V38)","v":1},{"$f":"-SUM(W7:W38)","v":3.25},null,null,null,{"$f":"SUM(AA7:AA38)","v":0.99999999999999989},{"$f":"-SUM(AB7:AB38)","v":2.7068905956085185},null,null,null,{"$f":"SUM(AF7:AF38)","v":1},{"$f":"-SUM(AG7:AG38)","v":2.5778195311147831},null,null,null,{"$f":"SUM(AK7:AK38)","v":0.99999999999999989},{"$f":"-SUM(AL7:AL38)","v":2.7329145639793975},null,null,null,{"$f":"SUM(AP7:AP38)","v":1},{"$f":"-SUM(AQ7:AQ38)","v":2.5778195311147831},null,null,null,{"$f":"SUM(AU7:AU38)","v":0.99999999999999989},{"$f":"-SUM(AV7:AV38)","v":2.7884504573082887}]
[12,6776,13,6785,13,6797,23,6827,24,6849,0,11122,null,null,null,"U=",{"$f":"Q39/(LOG(Q4)/LOG(2))","v":0.56431529437653738},null,null,null,null,"U1=",{"$f":"W39/(LOG(W4)/LOG(2))","v":0.8125},null,null,null,"U2=",{"$f":"AB39/(LOG(AB4)/LOG(2))","v":0.69285037022822138},null,null,null,"U3=",{"$f":"AG39/(LOG(AG4)/LOG(2))","v":0.64445488277869578},null,null,null,"U4=",{"$f":"AL39/(LOG(AL4)/LOG(2))","v":0.6995114137701447},null,null,null,"U5=",{"$f":"AQ39/(LOG(AQ4)/LOG(2))","v":0.64445488277869578},null,null,null,"U6=",{"$f":"AV39/(LOG(AV4)/LOG(2))","v":0.71372627133265631}]
[12,7021,13,7041,24,7054,23,7076,13,7096,0,11221]
[12,7275,13,7288,24,7300,23,7310,24,7322,0,11222]
[12,7584,13,7596,24,7613,23,7624,13,7642,0,11221,null,"Total Target Seq"]
[12,7787,13,7802,24,7816,23,7836,13,7851,0,11221,null,{"$f":"COUNTIF(L7:L99,G3)","v":1},null,16,15,16,15,16,15]
[12,7965,13,7985,24,8000,23,8012,24,8025,0,11222,null,null,null,"% of reinforcement given in 6 equal intervals based on number of trials "]
[12,8210,13,8224,24,8239,14,8257,24,8272,0,11212,null,null,null,"%_1","%_2","%_3","%_4","%_5","%_6"]
[12,8633,13,8646,13,8663,14,8680,24,8699,0,11112,null,null,"target sequence",{"$f":"$G$3","v":21121},{"$f":"$G$3","v":21121},{"$f":"$G$3","v":21121},{"$f":"$G$3","v":21121},{"$f":"$G$3","v":21121},{"$f":"$G$3","v":21121}]
[12,8829,13,8860,24,8876,23,8888,13,8900,0,11221,null,null,"total reinforcement",{"$f":"U25","v":0},{"$f":"Z25","v":0},{"$f":"AE25","v":0},{"$f":"AJ25","v":0},{"$f":"AO25","v":0},{"$f":"AT25","v":1}]
[12,9225,24,9244,24,9263,23,9273,13,9297,0,12221,null,null,"% target"]
[12,9425,13,9438,13,9450,23,9468,24,9479,0,11122,null,null,"CCRF"]
[12,9611,13,9627,13,9641,23,9656,24,9670,0,11122,null,null,"% CCRf"]
[12,9806,13,9823,24,9836,23,9844,24,9853,0,11222,null,null,"average response rate",{"$f":"J22/P44","v":184.375},{"$f":"(J37-J22)/Q44","v":215.86666666666667},{"$f":"(J53-J37)/R44","v":241.8125},{"$f":"(J68-J53)/S44","v":239.2},{"$f":"(J84-J68)/T44","v":247.375},{"$f":"(J99-J84)/U44","v":417.93333333333334}]
[12,9993,24,10015,24,10024,23,10037,13,10057,0,12221]
[12,10284,13,10303,13,10317,23,10329,24,10337,0,11122]
[12,10460,24,10494,24,10503,23,10512,24,10527,0,12222]
[12,10653,13,10680,13,10693,23,10706,24,10717,0,11122]
[12,10822,13,10837,13,10854,23,10868,24,10876,0,11122]
[12,11008,13,11025,13,11040,23,11053,24,11061,0,11122]
[12,11444,13,11464,24,11485,23,11501,24,11513,0,11222]
[12,11645,13,11664,24,11686,23,11698,13,11716,0,11221]
[12,11958,24,11976,13,11992,23,12013,24,12022,0,12122]
[12,12170,13,12190,13,12205,23,12231,13,12245,0,11121]
[12,12491,13,12505,24,12519,23,12528,24,12541,0,11222]
[12,12683,13,12705,13,12719,23,12733,24,12742,0,11122]
[12,12860,13,12869,24,12888,23,12900,13,12913,0,11221]
[12,13198,13,13217,24,13253,14,13273,24,13292,0,11212]
[12,13414,13,13423,13,13432,14,13450,24,13463,0,11112]
[12,13596,13,13605,13,13619,14,13630,24,13645,0,11112]
[12,13819,13,13829,13,13842,14,13854,24,13870,0,11112]
[12,14006,13,14020,13,14029,14,14040,24,14061,0,11112]
[12,14178,13,14186,13,14197,14,14210,13,14223,0,11111]
[12,14369,13,14378,13,14389,14,14401,13,14409,0,11111]
[12,14550,13,14557,13,14566,14,14582,13,14592,0,11111]
[12,14943,13,14955,13,14968,23,14991,24,15000,0,11122]
[12,15122,13,15132,13,15140,14,15153,13,15166,0,11111]
[12,15298,13,15309,13,15322,23,15340,13,15358,0,11121]
[21,15507,11,15520,11,15533,12,15546,13,15563,0,21111]
[12,15705,13,15717,24,15783,23,15798,24,15806,0,11222]
[12,15977,13,15987,13,15995,23,16008,24,16025,0,11122]
[21,16269,11,16279,11,16289,12,16297,24,16325,0,21112]
[12,16637,13,16659,13,16674,14,16683,24,16698,0,11112]
[12,17033,13,17049,13,17060,23,17077,24,17085,0,11122]
[12,17243,13,17251,13,17264,23,17288,24,17308,0,11122]
[12,17544,13,17558,24,17571,23,17592,24,17603,0,11222]
[12,17730,13,17739,13,17751,23,17776,24,17786,0,11122]
[12,18302,13,18318,13,18336,14,18348,24,18362,0,11112]
[12,18771,13,18784,24,18799,23,18808,24,18819,0,11222]
[12,18931,13,18939,13,18946,14,18959,13,18967,0,11111]
[12,19099,13,19118,13,19133,23,19146,24,19154,0,11122]
[21,19609,11,19638,11,19666,12,19674,13,19685,0,21111]
[12,20209,13,20225,24,20243,23,20254,24,20269,0,11222]
[12,20432,13,20443,13,20466,23,20483,24,20492,0,11122]
[12,20696,13,20711,24,20724,23,20733,24,20739,0,11222]
[12,21239,13,21254,24,21274,23,21289,13,21304,0,11221]
[12,22863,13,22877,13,22893,14,22914,13,22922,0,11111]
[21,23140,11,23156,11,23170,21,23185,11,23200,1,21121]
[12,23385,13,23409,13,23424,14,23432,13,23448,0,11111]
[12,23558,13,23569,13,23621,23,23638,13,23649,0,11121]
[12,23787,13,23820,24,23842,14,23855,24,23872,0,11212]

{"sheet":"!MA01740.010","index":4,"n_rows":102,"n_cols":48,"rows_kept":102,"cut":false,"hidden":false,"merged":[[4,39,4,42],[5,39,5,40],[4,44,4,47],[5,44,5,45],[4,24,4,27],[5,24,5,25],[4,29,4,32],[5,29,5,30],[4,34,4,37],[5,34,5,35],[1,1,1,2],[5,13,5,14],[42,13,42,14],[43,13,43,14],[4,19,4,22],[5,19,5,20]]}
["Report for:!MA01740.010"]
["Date:","<date>"]
["Hen:","<hen>",null,null,null,"Correct Sequence",{"$f":"Start!J2","v":21121},null,null,null,null,null,null,null,null,"Total Sequences in Data",{"$f":"4994-COUNTBLANK(L7:L5000)","v":96},null,null,null,null,"Total Sequences in Block Data",{"$f":"COUNTA(L7:L22)","v":16},null,null,null,"Total Sequences in Block Data",{"$f":"COUNTA(L23:L38)","v":16},null,null,null,"Total Sequences in Block Data",{"$f":"COUNTA(L39:L54)","v":16},null,null,null,"Total Sequences in Block Data",{"$f":"COUNTA(L55:L70)","v":16},null,null,null,"Total Sequences in Block Data",{"$f":"COUNTA(L71:L86)","v":16},null,null,null,"Total Sequences in Block Data",{"$f":"COUNTA(L87:L102)","v":16}]
[null,null,null,null,null,null,null,null,null,null,null,null,null,null,null,"Total Sequences in Summary",{"$f":"SUM(O7:O38)","v":96},null,null,null,null,"Total Sequences in Block Summary",{"$f":"SUM(U7:U38)","v":16},null,null,null,"Total Sequences in Block Summary",{"$f":"SUM(Z7:Z38)","v":16},null,null,null,"Total Sequences in Block Summary",{"$f":"SUM(AE7:AE38)","v":16},null,null,null,"Total Sequences in Block Summary",{"$f":"SUM(AJ7:AJ38)","v":16},null,null,null,"Total Sequences in Block Summary",{"$f":"SUM(AO7:AO38)","v":16},null,null,null,"Total Sequences in Block Summary",{"$f":"SUM(AT7:AT38)","v":16}]
[null,null,null,null,null,null,null,null,null,null,null,null,null,null,null,null,null,null,null,"Block 1",null,null,null,null,"Block 2",null,null,null,null,"Block 3",null,null,null,null,"Block 4",null,null,null,null,"Block 5",null,null,null,null,"Block 6"]
["Sequence\nComponent\n1","Time\n1","Sequence\nComponent\n2","Time\n2","Sequence\nComponent\n3","Time\n3","Sequence\nComponent\n4","Time\n4","Sequence\nComponent\n5","Time\n5","Correct?\n0=No 1=Yes","Sequence",null,"Frequency",null,"Relative Frequency","Variability",null,null,"Frequency",null,"Relative Frequency","Variability",null,"Frequency",null,"Relative Frequency","Variability",null,"Frequency",null,"Relative Frequency","Variability",null,"Frequency",null,"Relative Frequency","Variability",null,"Frequency",null,"Relative Frequency","Variability",null,"Frequency",null,"Relative Frequency","Variability"]
[12,10,24,26,24,44,23,57,24,97,0,12222,null,11111,{"$f":"COUNTIF($L$7:$L$500,N7)","v":33},{"$f":"O7/$Q$4","v":0.34375},{"$f":"IF(P7=0,0,(P7*((LOG(P7))/LOG(2))))","v":-0.52957038109342913},null,null,{"$f":"N7","v":11111},{"$f":"COUNTIF(L7:L22,T7)","v":1},{"$f":"U7/(W4-U25)","v":6.25E-2},{"$f":"IF(V7=0,0,(V7*((LOG(V7))/LOG(2))))","v":-0.25},null,{"$f":"N7","v":11111},{"$f":"COUNTIF(L23:L38,Y7)","v":2},{"$f":"Z7/(AB4-Z25)","v":0.125},{"$f":"IF(AA7=0,0,(AA7*((LOG(AA7))/LOG(2))))","v":-0.375},null,{"$f":"N7","v":11111},{"$f":"COUNTIF(L39:L54,AD7)","v":13},{"$f":"AE7/(AG4-AE25)","v":0.8125},{"$f":"IF(AF7=0,0,(AF7*((LOG(AF7))/LOG(2))))","v":-0.24339272901036266},null,{"$f":"N7","v":11111},{"$f":"COUNTIF(L55:L70,AI7)","v":6},{"$f":"AJ7/(AL4-AJ25)","v":0.4},{"$f":"IF(AK7=0,0,(AK7*((LOG(AK7))/LOG(2))))","v":-0.52877123795494496},null,{"$f":"N7","v":11111},{"$f":"COUNTIF(L71:L86,AN7)","v":7},{"$f":"AO7/(AQ4-AO25)","v":0.4375},{"$f":"IF(AP7=0,0,(AP7*((LOG(AP7))/LOG(2))))","v":-0.52178222159979815},null,{"$f":"N7","v":11111},{"$f":"COUNTIF(L87:L102,AS7)","v":4},{"$f":"AT7/(AV4-AT25)","v":0.25},{"$f":"IF(AU7=0,0,(AU7*((LOG(AU7))/LOG(2))))","v":-0.5}]
[12,204,24,225,24,238,14,254,24,271,0,12212,null,11112,{"$f":"COUNTIF($L$7:$L$500,N8)","v":7},{"$f":"O8/$Q$4","v":7.2916666666666671E-2},{"$f":"IF(P8=0,0,(P8*((LOG(P8))/LOG(2))))","v":-0.27545055261088403},null,null,{"$f":"N8","v":11112},{"$f":"COUNTIF(L7:L22,T8)","v":0},{"$f":"U8/(W4-U25)","v":0},{"$f":"IF(V8=0,0,(V8*((LOG(V8))/LOG(2))))","v":0},null,{"$f":"N8","v":11112},{"$f":"COUNTIF(L23:L38,Y8)","v":0},{"$f":"Z8/(AB4-Z25)","v":0},{"$f":"IF(AA8=0,0,(AA8*((LOG(AA8))/LOG(2))))","v":0},null,{"$f":"N8","v":11112},{"$f":"COUNTIF(L39:L54,AD8)","v":0},{"$f":"AE8/(AG4-AE25)","v":0},{"$f":"IF(AF8=0,0,(AF8*((LOG(AF8))/LOG(2))))","v":0},null,{"$f":"N8","v":11112},{"$f":"COUNTIF(L55:L70,AI8)","v":1},{"$f":"AJ8/(AL4-AJ25)","v":6.6666666666666666E-2},{"$f":"IF(AK8=0,0,(AK8*((LOG(AK8))/LOG(2))))","v":-0.26045937304056793},null,{"$f":"N8","v":11112},{"$f":"COUNTIF(L71:L86,AN8)","v":1},{"$f":"AO8/(AQ4-AO25)","v":6.25E-2},{"$f":"IF(AP8=0,0,(AP8*((LOG(AP8))/LOG(2))))","v":-0.25},null,{"$f":"N8","v":11112},{"$f":"COUNTIF(L87:L102,AS8)","v":5},{"$f":"AT8/(AV4-AT25)","v":0.3125},{"$f":"IF(AU8=0,0,(AU8*((LOG(AU8))/LOG(2))))","v":-0.52439747034769923}]
[12,377,24,389,24,398,14,413,13,451,0,12211,null,11121,{"$f":"COUNTIF($L$7:$L$500,N9)","v":9},{"$f":"O9/$Q$4","v":9.375E-2},{"$f":"IF(P9=0,0,(P9*((LOG(P9))/LOG(2))))","v":-0.32015976555739156},null,null,{"$f":"N9","v":11121},{"$f":"COUNTIF(L7:L22,T9)","v":0},{"$f":"U9/(W4-U25)","v":0},{"$f":"IF(V9=0,0,(V9*((LOG(V9))/LOG(2))))","v":0},null,{"$f":"N9","v":11121},{"$f":"COUNTIF(L23:L38,Y9)","v":1},{"$f":"Z9/(AB4-Z25)","v":6.25E-2},{"$f":"IF(AA9=0,0,(AA9*((LOG(AA9))/LOG(2))))","v":-0.25},null,{"$f":"N9","v":11121},{"$f":"COUNTIF(L39:L54,AD9)","v":0},{"$f":"AE9/(AG4-AE25)","v":0},{"$f":"IF(AF9=0,0,(AF9*((LOG(AF9))/LOG(2))))","v":0},null,{"$f":"N9","v":11121},{"$f":"COUNTIF(L55:L70,AI9)","v":1},{"$f":"AJ9/(AL4-AJ25)","v":6.6666666666666666E-2},{"$f":"IF(AK9=0,0,(AK9*((LOG(AK9))/LOG(2))))","v":-0.26045937304056793},null,{"$f":"N9","v":11121},{"$f":"COUNTIF(L71:L86,AN9)","v":4},{"$f":"AO9/(AQ4-AO25)","v":0.25},{"$f":"IF(AP9=0,0,(AP9*((LOG(AP9))/LOG(2))))","v":-0.5},null,{"$f":"N9","v":11121},{"$f":"COUNTIF(L87:L102,AS9)","v":3},{"$f":"AT9/(AV4-AT25)","v":0.1875},{"$f":"IF(AU9=0,0,(AU9*((LOG(AU9))/LOG(2))))","v":-0.45281953111478312}]
[12,560,24,573,24,584,23,595,13,623,0,12221,null,11122,{"$f":"COUNTIF($L$7:$L$500,N10)","v":4},{"$f":"O10/$Q$4","v":4.1666666666666664E-2},{"$f":"IF(P10=0,0,(P10*((LOG(P10))/LOG(2))))","v":-0.19104010419671485},null,null,{"$f":"N10","v":11122},{"$f":"COUNTIF(L7:L22,T10)","v":0},{"$f":"U10/(W4-U25)","v":0},{"$f":"IF(V10=0,0,(V10*((LOG(V10))/LOG(2))))","v":0},null,{"$f":"N10","v":11122},{"$f":"COUNTIF(L23:L38,Y10)","v":3},{"$f":"Z10/(AB4-Z25)","v":0.1875},{"$f":"IF(AA10=0,0,(AA10*((LOG(AA10))/LOG(2))))","v":-0.45281953111478312},null,{"$f":"N10","v":11122},{"$f":"COUNTIF(L39:L54,AD10)","v":0},{"$f":"AE10/(AG4-AE25)","v":0},{"$f":"IF(AF10=0,0,(AF10*((LOG(AF10))/LOG(2))))","v":0},null,{"$f":"N10","v":11122},{"$f":"COUNTIF(L55:L70,AI10)","v":0},{"$f":"AJ10/(AL4-AJ25)","v":0},{"$f":"IF(AK10=0,0,(AK10*((LOG(AK10))/LOG(2))))","v":0},null,{"$f":"N10","v":11122},{"$f":"COUNTIF(L71:L86,AN10)","v":1},{"$f":"AO10/(AQ4-AO25)","v":6.25E-2},{"$f":"IF(AP10=0,0,(AP10*((LOG(AP10))/LOG(2))))","v":-0.25},null,{"$f":"N10","v":11122},{"$f":"COUNTIF(L87:L102,AS10)","v":0},{"$f":"AT10/(AV4-AT25)","v":0},{"$f":"IF(AU10=0,0,(AU10*((LOG(AU10))/LOG(2))))","v":0}]
[12,746,24,759,24,781,14,806,24,825,0,12212,null,11211,{"$f":"COUNTIF($L$7:$L$500,N11)","v":10},{"$f":"O11/$Q$4","v":0.10416666666666667},{"$f":"IF(P11=0,0,(P11*((LOG(P11))/LOG(2))))","v":-0.33989941727435352},null,null,{"$f":"N11","v":11211},{"$f":"COUNTIF(L7:L22,T11)","v":1},{"$f":"U11/(W4-U25)","v":6.25E-2},{"$f":"IF(V11=0,0,(V11*((LOG(V11))/LOG(2))))","v":-0.25},null,{"$f":"N11","v":11211},{"$f":"COUNTIF(L23:L38,Y11)","v":3},{"$f":"Z11/(AB4-Z25)","v":0.1875},{"$f":"IF(AA11=0,0,(AA11*((LOG(AA11))/LOG(2))))","v":-0.45281953111478312},null,{"$f":"N11","v":11211},{"$f":"COUNTIF(L39:L54,AD11)","v":1},{"$f":"AE11/(AG4-AE25)","v":6.25E-2},{"$f":"IF(AF11=0,0,(AF11*((LOG(AF11))/LOG(2))))","v":-0.25},null,{"$f":"N11","v":11211},{"$f":"COUNTIF(L55:L70,AI11)","v":1},{"$f":"AJ11/(AL4-AJ25)","v":6.6666666666666666E-2},{"$f":"IF(AK11=0,0,(AK11*((LOG(AK11))/LOG(2))))","v":-0.26045937304056793},null,{"$f":"N11","v":11211},{"$f":"COUNTIF(L71:L86,AN11)","v":3},{"$f":"AO11/(AQ4-AO25)","v":0.1875},{"$f":"IF(AP11=0,0,(AP11*((LOG(AP11))/LOG(2))))","v":-0.45281953111478312},null,{"$f":"N11","v":11211},{"$f":"COUNTIF(L87:L102,AS11)","v":1},{"$f":"AT11/(AV4-AT25)","v":6.25E-2},{"$f":"IF(AU11=0,0,(AU11*((LOG(AU11))/LOG(2))))","v":-0.25}]
[12,946,24,960,24,974,14,984,13,997,0,12211,null,11212,{"$f":"COUNTIF($L$7:$L$500,N12)","v":7},{"$f":"O12/$Q$4","v":7.2916666666666671E-2},{"$f":"IF(P12=0,0,(P12*((LOG(P12))/LOG(2))))","v":-0.27545055261088403},null,null,{"$f":"N12","v":11212},{"$f":"COUNTIF(L7:L22,T12)","v":0},{"$f":"U12/(W4-U25)","v":0},{"$f":"IF(V12=0,0,(V12*((LOG(V12))/LOG(2))))","v":0},null,{"$f":"N12","v":11212},{"$f":"COUNTIF(L23:L38,Y12)","v":1},{"$f":"Z12/(AB4-Z25)","v":6.25E-2},{"$f":"IF(AA12=0,0,(AA12*((LOG(AA12))/LOG(2))))","v":-0.25},null,{"$f":"N12","v":11212},{"$f":"COUNTIF(L39:L54,AD12)","v":1},{"$f":"AE12/(AG4-AE25)","v":6.25E-2},{"$f":"IF(AF12=0,0,(AF12*((LOG(AF12))/LOG(2))))","v":-0.25},null,{"$f":"N12","v":11212},{"$f":"COUNTIF(L55:L70,AI12)","v":4},{"$f":"AJ12/(AL4-AJ25)","v":0.26666666666666666},{"$f":"IF(AK12=0,0,(AK12*((LOG(AK12))/LOG(2))))","v":-0.50850415882893829},null,{"$f":"N12","v":11212},{"$f":"COUNTIF(L71:L86,AN12)","v":0},{"$f":"AO12/(AQ4-AO25)","v":0},{"$f":"IF(AP12=0,0,(AP12*((LOG(AP12))/LOG(2))))","v":0},null,{"$f":"N12","v":11212},{"$f":"COUNTIF(L87:L102,AS12)","v":1},{"$f":"AT12/(AV4-AT25)","v":6.25E-2},{"$f":"IF(AU12=0,0,(AU12*((LOG(AU12))/LOG(2))))","v":-0.25}]
[12,1209,24,1222,13,1238,23,1252,13,1267,0,12121,null,11221,{"$f":"COUNTIF($L$7:$L$500,N13)","v":6},{"$f":"O13/$Q$4","v":6.25E-2},{"$f":"IF(P13=0,0,(P13*((LOG(P13))/LOG(2))))","v":-0.25},null,null,{"$f":"N13","v":11221},{"$f":"COUNTIF(L7:L22,T13)","v":2},{"$f":"U13/(W4-U25)","v":0.125},{"$f":"IF(V13=0,0,(V13*((LOG(V13))/LOG(2))))","v":-0.375},null,{"$f":"N13","v":11221},{"$f":"COUNTIF(L23:L38,Y13)","v":4},{"$f":"Z13/(AB4-Z25)","v":0.25},{"$f":"IF(AA13=0,0,(AA13*((LOG(AA13))/LOG(2))))","v":-0.5},null,{"$f":"N13","v":11221},{"$f":"COUNTIF(L39:L54,AD13)","v":0},{"$f":"AE13/(AG4-AE25)","v":0},{"$f":"IF(AF13=0,0,(AF13*((LOG(AF13))/LOG(2))))","v":0},null,{"$f":"N13","v":11221},{"$f":"COUNTIF(L55:L70,AI13)","v":0},{"$f":"AJ13/(AL4-AJ25)","v":0},{"$f":"IF(AK13=0,0,(AK13*((LOG(AK13))/LOG(2))))","v":0},null,{"$f":"N13","v":11221},{"$f":"COUNTIF(L71:L86,AN13)","v":0},{"$f":"AO13/(AQ4-AO25)","v":0},{"$f":"IF(AP13=0,0,(AP13*((LOG(AP13))/LOG(2))))","v":0},null,{"$f":"N13","v":11221},{"$f":"COUNTIF(L87:L102,AS13)","v":0},{"$f":"AT13/(AV4-AT25)","v":0},{"$f":"IF(AU13=0,0,(AU13*((LOG(AU13))/LOG(2))))","v":0}]
[21,1455,11,1467,22,1480,23,1488,13,1508,0,21221,null,11222,{"$f":"COUNTIF($L$7:$L$500,N14)","v":1},{"$f":"O14/$Q$4","v":1.0416666666666666E-2},{"$f":"IF(P14=0,0,(P14*((LOG(P14))/LOG(2))))","v":-6.8593359382512042E-2},null,null,{"$f":"N14","v":11222},{"$f":"COUNTIF(L7:L22,T14)","v":1},{"$f":"U14/(W4-U25)","v":6.25E-2},{"$f":"IF(V14=0,0,(V14*((LOG(V14))/LOG(2))))","v":-0.25},null,{"$f":"N14","v":11222},{"$f":"COUNTIF(L23:L38,Y14)","v":0},{"$f":"Z14/(AB4-Z25)","v":0},{"$f":"IF(AA14=0,0,(AA14*((LOG(AA14))/LOG(2))))","v":0},null,{"$f":"N14","v":11222},{"$f":"COUNTIF(L39:L54,AD14)","v":0},{"$f":"AE14/(AG4-AE25)","v":0},{"$f":"IF(AF14=0,0,(AF14*((LOG(AF14))/LOG(2))))","v":0},null,{"$f":"N14","v":11222},{"$f":"COUNTIF(L55:L70,AI14)","v":0},{"$f":"AJ14/(AL4-AJ25)","v":0},{"$f":"IF(AK14=0,0,(AK14*((LOG(AK14))/LOG(2))))","v":0},null,{"$f":"N14","v":11222},{"$f":"COUNTIF(L71:L86,AN14)","v":0},{"$f":"AO14/(AQ4-AO25)","v":0},{"$f":"IF(AP14=0,0,(AP14*((LOG(AP14))/LOG(2))))","v":0},null,{"$f":"N14","v":11222},{"$f":"COUNTIF(L87:L102,AS14)","v":0},{"$f":"AT14/(AV4-AT25)","v":0},{"$f":"IF(AU14=0,0,(AU14*((LOG(AU14))/LOG(2))))","v":0}]
[12,1726,24,1742,24,1751,14,1764,13,1776,0,12211,null,12111,{"$f":"COUNTIF($L$7:$L$500,N15)","v":2},{"$f":"O15/$Q$4","v":2.0833333333333332E-2},{"$f":"IF(P15=0,0,(P15*((LOG(P15))/LOG(2))))","v":-0.11635338543169074},null,null,{"$f":"N15","v":12111},{"$f":"COUNTIF(L7:L22,T15)","v":0},{"$f":"U15/(W4-U25)","v":0},{"$f":"IF(V15=0,0,(V15*((LOG(V15))/LOG(2))))","v":0},null,{"$f":"N15","v":12111},{"$f":"COUNTIF(L23:L38,Y15)","v":1},{"$f":"Z15/(AB4-Z25)","v":6.25E-2},{"$f":"IF(AA15=0,0,(AA15*((LOG(AA15))/LOG(2))))","v":-0.25},null,{"$f":"N15","v":12111},{"$f":"COUNTIF(L39:L54,AD15)","v":0},{"$f":"AE15/(AG4-AE25)","v":0},{"$f":"IF(AF15=0,0,(AF15*((LOG(AF15))/LOG(2))))","v":0},null,{"$f":"N15","v":12111},{"$f":"COUNTIF(L55:L70,AI15)","v":1},{"$f":"AJ15/(AL4-AJ25)","v":6.6666666666666666E-2},{"$f":"IF(AK15=0,0,(AK15*((LOG(AK15))/LOG(2))))","v":-0.26045937304056793},null,{"$f":"N15","v":12111},{"$f":"COUNTIF(L71:L86,AN15)","v":0},{"$f":"AO15/(AQ4-AO25)","v":0},{"$f":"IF(AP15=0,0,(AP15*((LOG(AP15))/LOG(2))))","v":0},null,{"$f":"N15","v":12111},{"$f":"COUNTIF(L87:L102,AS15)","v":0},{"$f":"AT15/(AV4-AT25)","v":0},{"$f":"IF(AU15=0,0,(AU15*((LOG(AU15))/LOG(2))))","v":0}]
[12,1944,13,1958,13,1971,14,1988,13,2000,0,11111,null,12112,{"$f":"COUNTIF($L$7:$L$500,N16)","v":0},{"$f":"O16/$Q$4","v":0},{"$f":"IF(P16=0,0,(P16*((LOG(P16))/LOG(2))))","v":0},null,null,{"$f":"N16","v":12112},{"$f":"COUNTIF(L7:L22,T16)","v":0},{"$f":"U16/(W4-U25)","v":0},{"$f":"IF(V16=0,0,(V16*((LOG(V16))/LOG(2))))","v":0},null,{"$f":"N16","v":12112},{"$f":"COUNTIF(L23:L38,Y16)","v":0},{"$f":"Z16/(AB4-Z25)","v":0},{"$f":"IF(AA16=0,0,(AA16*((LOG(AA16))/LOG(2))))","v":0},null,{"$f":"N16","v":12112},{"$f":"COUNTIF(L39:L54,AD16)","v":0},{"$f":"AE16/(AG4-AE25)","v":0},{"$f":"IF(AF16=0,0,(AF16*((LOG(AF16))/LOG(2))))","v":0},null,{"$f":"N16","v":12112},{"$f":"COUNTIF(L55:L70,AI16)","v":0},{"$f":"AJ16/(AL4-AJ25)","v":0},{"$f":"IF(AK16=0,0,(AK16*((LOG(AK16))/LOG(2))))","v":0},null,{"$f":"N16","v":12112},{"$f":"COUNTIF(L71:L86,AN16)","v":0},{"$f":"AO16/(AQ4-AO25)","v":0},{"$f":"IF(AP16=0,0,(AP16*((LOG(AP16))/LOG(2))))","v":0},null,{"$f":"N16","v":12112},{"$f":"COUNTIF(L87:L102,AS16)","v":0},{"$f":"AT16/(AV4-AT25)","v":0},{"$f":"IF(AU16=0,0,(AU16*((LOG(AU16))/LOG(2))))","v":0}]
[12,2147,13,2163,24,2184,14,2203,13,2215,0,11211,null,12121,{"$f":"COUNTIF($L$7:$L$500,N17)","v":3},{"$f":"O17/$Q$4","v":3.125E-2},{"$f":"IF(P17=0,0,(P17*((LOG(P17))/LOG(2))))","v":-0.15625},null,null,{"$f":"N17","v":12121},{"$f":"COUNTIF(L7:L22,T17)","v":1},{"$f":"U17/(W4-U25)","v":6.25E-2},{"$f":"IF(V17=0,0,(V17*((LOG(V17))/LOG(2))))","v":-0.25},null,{"$f":"N17","v":12121},{"$f":"COUNTIF(L23:L38,Y17)","v":0},{"$f":"Z17/(AB4-Z25)","v":0},{"$f":"IF(AA17=0,0,(AA17*((LOG(AA17))/LOG(2))))","v":0},null,{"$f":"N17","v":12121},{"$f":"COUNTIF(L39:L54,AD17)","v":0},{"$f":"AE17/(AG4-AE25)","v":0},{"$f":"IF(AF17=0,0,(AF17*((LOG(AF17))/LOG(2))))","v":0},null,{"$f":"N17","v":12121},{"$f":"COUNTIF(L55:L70,AI17)","v":1},{"$f":"AJ17/(AL4-AJ25)","v":6.6666666666666666E-2},{"$f":"IF(AK17=0,0,(AK17*((LOG(AK17))/LOG(2))))","v":-0.26045937304056793},null,{"$f":"N17","v":12121},{"$f":"COUNTIF(L71:L86,AN17)","v":0},{"$f":"AO17/(AQ4-AO25)","v":0},{"$f":"IF(AP17=0,0,(AP17*((LOG(AP17))/LOG(2))))","v":0},null,{"$f":"N17","v":12121},{"$f":"COUNTIF(L87:L102,AS17)","v":1},{"$f":"AT17/(AV4-AT25)","v":6.25E-2},{"$f":"IF(AU17=0,0,(AU17*((LOG(AU17))/LOG(2))))","v":-0.25}]
[12,2560,24,2580,24,2600,14,2616,24,2635,0,12212,null,12122,{"$f":"COUNTIF($L$7:$L$500,N18)","v":1},{"$f":"O18/$Q$4","v":1.0416666666666666E-2},{"$f":"IF(P18=0,0,(P18*((LOG(P18))/LOG(2))))","v":-6.8593359382512042E-2},null,null,{"$f":"N18","v":12122},{"$f":"COUNTIF(L7:L22,T18)","v":0},{"$f":"U18/(W4-U25)","v":0},{"$f":"IF(V18=0,0,(V18*((LOG(V18))/LOG(2))))","v":0},null,{"$f":"N18","v":12122},{"$f":"COUNTIF(L23:L38,Y18)","v":0},{"$f":"Z18/(AB4-Z25)","v":0},{"$f":"IF(AA18=0,0,(AA18*((LOG(AA18))/LOG(2))))","v":0},null,{"$f":"N18","v":12122},{"$f":"COUNTIF(L39:L54,AD18)","v":0},{"$f":"AE18/(AG4-AE25)","v":0},{"$f":"IF(AF18=0,0,(AF18*((LOG(AF18))/LOG(2))))","v":0},null,{"$f":"N18","v":12122},{"$f":"COUNTIF(L55:L70,AI18)","v":0},{"$f":"AJ18/(AL4-AJ25)","v":0},{"$f":"IF(AK18=0,0,(AK18*((LOG(AK18))/LOG(2))))","v":0},null,{"$f":"N18","v":12122},{"$f":"COUNTIF(L71:L86,AN18)","v":0},{"$f":"AO18/(AQ4-AO25)","v":0},{"$f":"IF(AP18=0,0,(AP18*((LOG(AP18))/LOG(2))))","v":0},null,{"$f":"N18","v":12122},{"$f":"COUNTIF(L87:L102,AS18)","v":1},{"$f":"AT18/(AV4-AT25)","v":6.25E-2},{"$f":"IF(AU18=0,0,(AU18*((LOG(AU18))/LOG(2))))","v":-0.25}]
[12,2936,13,2952,24,2968,23,2983,24,2993,0,11222,null,12211,{"$f":"COUNTIF($L$7:$L$500,N19)","v":3},{"$f":"O19/$Q$4","v":3.125E-2},{"$f":"IF(P19=0,0,(P19*((LOG(P19))/LOG(2))))","v":-0.15625},null,null,{"$f":"N19","v":12211},{"$f":"COUNTIF(L7:L22,T19)","v":3},{"$f":"U19/(W4-U25)","v":0.1875},{"$f":"IF(V19=0,0,(V19*((LOG(V19))/LOG(2))))","v":-0.45281953111478312},null,{"$f":"N19","v":12211},{"$f":"COUNTIF(L23:L38,Y19)","v":0},{"$f":"Z19/(AB4-Z25)","v":0},{"$f":"IF(AA19=0,0,(AA19*((LOG(AA19))/LOG(2))))","v":0},null,{"$f":"N19","v":12211},{"$f":"COUNTIF(L39:L54,AD19)","v":0},{"$f":"AE19/(AG4-AE25)","v":0},{"$f":"IF(AF19=0,0,(AF19*((LOG(AF19))/LOG(2))))","v":0},null,{"$f":"N19","v":12211},{"$f":"COUNTIF(L55:L70,AI19)","v":0},{"$f":"AJ19/(AL4-AJ25)","v":0},{"$f":"IF(AK19=0,0,(AK19*((LOG(AK19))/LOG(2))))","v":0},null,{"$f":"N19","v":12211},{"$f":"COUNTIF(L71:L86,AN19)","v":0},{"$f":"AO19/(AQ4-AO25)","v":0},{"$f":"IF(AP19=0,0,(AP19*((LOG(AP19))/LOG(2))))","v":0},null,{"$f":"N19","v":12211},{"$f":"COUNTIF(L87:L102,AS19)","v":0},{"$f":"AT19/(AV4-AT25)","v":0},{"$f":"IF(AU19=0,0,(AU19*((LOG(AU19))/LOG(2))))","v":0}]
[21,3225,11,3236,11,3262,12,3274,24,3288,0,21112,null,12212,{"$f":"COUNTIF($L$7:$L$500,N20)","v":3},{"$f":"O20/$Q$4","v":3.125E-2},{"$f":"IF(P20=0,0,(P20*((LOG(P20))/LOG(2))))","v":-0.15625},null,null,{"$f":"N20","v":12212},{"$f":"COUNTIF(L7:L22,T20)","v":3},{"$f":"U20/(W4-U25)","v":0.1875},{"$f":"IF(V20=0,0,(V20*((LOG(V20))/LOG(2))))","v":-0.45281953111478312},null,{"$f":"N20","v":12212},{"$f":"COUNTIF(L23:L38,Y20)","v":0},{"$f":"Z20/(AB4-Z25)","v":0},{"$f":"IF(AA20=0,0,(AA20*((LOG(AA20))/LOG(2))))","v":0},null,{"$f":"N20","v":12212},{"$f":"COUNTIF(L39:L54,AD20)","v":0},{"$f":"AE20/(AG4-AE25)","v":0},{"$f":"IF(AF20=0,0,(AF20*((LOG(AF20))/LOG(2))))","v":0},null,{"$f":"N20","v":12212},{"$f":"COUNTIF(L55:L70,AI20)","v":0},{"$f":"AJ20/(AL4-AJ25)","v":0},{"$f":"IF(AK20=0,0,(AK20*((LOG(AK20))/LOG(2))))","v":0},null,{"$f":"N20","v":12212},{"$f":"COUNTIF(L71:L86,AN20)","v":0},{"$f":"AO20/(AQ4-AO25)","v":0},{"$f":"IF(AP20=0,0,(AP20*((LOG(AP20))/LOG(2))))","v":0},null,{"$f":"N20","v":12212},{"$f":"COUNTIF(L87:L102,AS20)","v":0},{"$f":"AT20/(AV4-AT25)","v":0},{"$f":"IF(AU20=0,0,(AU20*((LOG(AU20))/LOG(2))))","v":0}]
[12,3454,13,3467,24,3481,23,3489,13,3503,0,11221,null,12221,{"$f":"COUNTIF($L$7:$L$500,N21)","v":1},{"$f":"O21/$Q$4","v":1.0416666666666666E-2},{"$f":"IF(P21=0,0,(P21*((LOG(P21))/LOG(2))))","v":-6.8593359382512042E-2},null,null,{"$f":"N21","v":12221},{"$f":"COUNTIF(L7:L22,T21)","v":1},{"$f":"U21/(W4-U25)","v":6.25E-2},{"$f":"IF(V21=0,0,(V21*((LOG(V21))/LOG(2))))","v":-0.25},null,{"$f":"N21","v":12221},{"$f":"COUNTIF(L23:L38,Y21)","v":0},{"$f":"Z21/(AB4-Z25)","v":0},{"$f":"IF(AA21=0,0,(AA21*((LOG(AA21))/LOG(2))))","v":0},null,{"$f":"N21","v":12221},{"$f":"COUNTIF(L39:L54,AD21)","v":0},{"$f":"AE21/(AG4-AE25)","v":0},{"$f":"IF(AF21=0,0,(AF21*((LOG(AF21))/LOG(2))))","v":0},null,{"$f":"N21","v":12221},{"$f":"COUNTIF(L55:L70,AI21)","v":0},{"$f":"AJ21/(AL4-AJ25)","v":0},{"$f":"IF(AK21=0,0,(AK21*((LOG(AK21))/LOG(2))))","v":0},null,{"$f":"N21","v":12221},{"$f":"COUNTIF(L71:L86,AN21)","v":0},{"$f":"AO21/(AQ4-AO25)","v":0},{"$f":"IF(AP21=0,0,(AP21*((LOG(AP21))/LOG(2))))","v":0},null,{"$f":"N21","v":12221},{"$f":"COUNTIF(L87:L102,AS21)","v":0},{"$f":"AT21/(AV4-AT25)","v":0},{"$f":"IF(AU21=0,0,(AU21*((LOG(AU21))/LOG(2))))","v":0}]
[12,3708,13,3722,24,3735,23,3744,13,3760,0,11221,null,12222,{"$f":"COUNTIF($L$7:$L$500,N22)","v":1},{"$f":"O22/$Q$4","v":1.0416666666666666E-2},{"$f":"IF(P22=0,0,(P22*((LOG(P22))/LOG(2))))","v":-6.8593359382512042E-2},null,null,{"$f":"N22","v":12222},{"$f":"COUNTIF(L7:L22,T22)","v":1},{"$f":"U22/(W4-U25)","v":6.25E-2},{"$f":"IF(V22=0,0,(V22*((LOG(V22))/LOG(2))))","v":-0.25},null,{"$f":"N22","v":12222},{"$f":"COUNTIF(L23:L38,Y22)","v":0},{"$f":"Z22/(AB4-Z25)","v":0},{"$f":"IF(AA22=0,0,(AA22*((LOG(AA22))/LOG(2))))","v":0},null,{"$f":"N22","v":12222},{"$f":"COUNTIF(L39:L54,AD22)","v":0},{"$f":"AE22/(AG4-AE25)","v":0},{"$f":"IF(AF22=0,0,(AF22*((LOG(AF22))/LOG(2))))","v":0},null,{"$f":"N22","v":12222},{"$f":"COUNTIF(L55:L70,AI22)","v":0},{"$f":"AJ22/(AL4-AJ25)","v":0},{"$f":"IF(AK22=0,0,(AK22*((LOG(AK22))/LOG(2))))","v":0},null,{"$f":"N22","v":12222},{"$f":"COUNTIF(L71:L86,AN22)","v":0},{"$f":"AO22/(AQ4-AO25)","v":0},{"$f":"IF(AP22=0,0,(AP22*((LOG(AP22))/LOG(2))))","v":0},null,{"$f":"N22","v":12222},{"$f":"COUNTIF(L87:L102,AS22)","v":0},{"$f":"AT22/(AV4-AT25)","v":0},{"$f":"IF(AU22=0,0,(AU22*((LOG(AU22))/LOG(2))))","v":0}]
[12,3880,13,3912,13,3925,23,3941,24,3949,0,11122,null,21111,{"$f":"COUNTIF($L$7:$L$500,N23)","v":1},{"$f":"O23/$Q$4","v":1.0416666666666666E-2},{"$f":"IF(P23=0,0,(P23*((LOG(P23))/LOG(2))))","v":-6.8593359382512042E-2},null,null,{"$f":"N23","v":21111},{"$f":"COUNTIF(L7:L22,T23)","v":0},{"$f":"U23/(W4-U25)","v":0},{"$f":"IF(V23=0,0,(V23*((LOG(V23))/LOG(2))))","v":0},null,{"$f":"N23","v":21111},{"$f":"COUNTIF(L23:L38,Y23)","v":0},{"$f":"Z23/(AB4-Z25)","v":0},{"$f":"IF(AA23=0,0,(AA23*((LOG(AA23))/LOG(2))))","v":0},null,{"$f":"N23","v":21111},{"$f":"COUNTIF(L39:L54,AD23)","v":1},{"$f":"AE23/(AG4-AE25)","v":6.25E-2},{"$f":"IF(AF23=0,0,(AF23*((LOG(AF23))/LOG(2))))","v":-0.25},null,{"$f":"N23","v":21111},{"$f":"COUNTIF(L55:L70,AI23)","v":0},{"$f":"AJ23/(AL4-AJ25)","v":0},{"$f":"IF(AK23=0,0,(AK23*((LOG(AK23))/LOG(2))))","v":0},null,{"$f":"N23","v":21111},{"$f":"COUNTIF(L71:L86,AN23)","v":0},{"$f":"AO23/(AQ4-AO25)","v":0},{"$f":"IF(AP23=0,0,(AP23*((LOG(AP23))/LOG(2))))","v":0},null,{"$f":"N23","v":21111},{"$f":"COUNTIF(L87:L102,AS23)","v":0},{"$f":"AT23/(AV4-AT25)","v":0},{"$f":"IF(AU23=0,0,(AU23*((LOG(AU23))/LOG(2))))","v":0}]
[12,4158,13,4181,13,4199,23,4215,24,4229,0,11122,null,21112,{"$f":"COUNTIF($L$7:$L$500,N24)","v":1},{"$f":"O24/$Q$4","v":1.0416666666666666E-2},{"$f":"IF(P24=0,0,(P24*((LOG(P24))/LOG(2))))","v":-6.8593359382512042E-2},null,null,{"$f":"N24","v":21112},{"$f":"COUNTIF(L7:L22,T24)","v":1},{"$f":"U24/(W4-U25)","v":6.25E-2},{"$f":"IF(V24=0,0,(V24*((LOG(V24))/LOG(2))))","v":-0.25},null,{"$f":"N24","v":21112},{"$f":"COUNTIF(L23:L38,Y24)","v":0},{"$f":"Z24/(AB4-Z25)","v":0},{"$f":"IF(AA24=0,0,(AA24*((LOG(AA24))/LOG(2))))","v":0},null,{"$f":"N24","v":21112},{"$f":"COUNTIF(L39:L54,AD24)","v":0},{"$f":"AE24/(AG4-AE25)","v":0},{"$f":"IF(AF24=0,0,(AF24*((LOG(AF24))/LOG(2))))","v":0},null,{"$f":"N24","v":21112},{"$f":"COUNTIF(L55:L70,AI24)","v":0},{"$f":"AJ24/(AL4-AJ25)","v":0},{"$f":"IF(AK24=0,0,(AK24*((LOG(AK24))/LOG(2))))","v":0},null,{"$f":"N24","v":21112},{"$f":"COUNTIF(L71:L86,AN24)","v":0},{"$f":"AO24/(AQ4-AO25)","v":0},{"$f":"IF(AP24=0,0,(AP24*((LOG(AP24))/LOG(2))))","v":0},null,{"$f":"N24","v":21112},{"$f":"COUNTIF(L87:L102,AS24)","v":0},{"$f":"AT24/(AV4-AT25)","v":0},{"$f":"IF(AU24=0,0,(AU24*((LOG(AU24))/LOG(2))))","v":0}]
[12,4390,13,4411,24,4425,23,4433,13,4471,0,11221,null,21121,{"$f":"COUNTIF($L$7:$L$500,N25)","v":1},{"$f":"O25/$Q$4","v":1.0416666666666666E-2},{"$f":"IF(P25=0,0,(P25*((LOG(P25))/LOG(2))))","v":-6.8593359382512042E-2},null,null,{"$f":"N25","v":21121},{"$f":"COUNTIF(L7:L22,T25)","v":0},null,null,null,{"$f":"N25","v":21121},{"$f":"COUNTIF(L23:L38,Y25)","v":0},null,null,null,{"$f":"N25","v":21121},{"$f":"COUNTIF(L39:L54,AD25)","v":0},null,null,null,{"$f":"N25","v":21121},{"$f":"COUNTIF(L55:L70,AI25)","v":1},null,null,null,{"$f":"N25","v":21121},{"$f":"COUNTIF(L71:L86,AN25)","v":0},null,null,null,{"$f":"N25","v":21121},{"$f":"COUNTIF(L87:L102,AS25)","v":0}]
[21,4668,11,4683,11,4703,21,4718,22,4725,0,21122,null,21122,{"$f":"COUNTIF($L$7:$L$500,N26)","v":1},{"$f":"O26/$Q$4","v":1.0416666666666666E-2},{"$f":"IF(P26=0,0,(P26*((LOG(P26))/LOG(2))))","v":-6.8593359382512042E-2},null,null,{"$f":"N26","v":21122},{"$f":"COUNTIF(L7:L22,T26)","v":0},{"$f":"U26/(W4-U25)","v":0},{"$f":"IF(V26=0,0,(V26*((LOG(V26))/LOG(2))))","v":0},null,{"$f":"N26","v":21122},{"$f":"COUNTIF(L23:L38,Y26)","v":1},{"$f":"Z26/(AB4-Z25)","v":6.25E-2},{"$f":"IF(AA26=0,0,(AA26*((LOG(AA26))/LOG(2))))","v":-0.25},null,{"$f":"N26","v":21122},{"$f":"COUNTIF(L39:L54,AD26)","v":0},{"$f":"AE26/(AG4-AE25)","v":0},{"$f":"IF(AF26=0,0,(AF26*((LOG(AF26))/LOG(2))))","v":0},null,{"$f":"N26","v":21122},{"$f":"COUNTIF(L55:L70,AI26)","v":0},{"$f":"AJ26/(AL4-AJ25)","v":0},{"$f":"IF(AK26=0,0,(AK26*((LOG(AK26))/LOG(2))))","v":0},null,{"$f":"N26","v":21122},{"$f":"COUNTIF(L71:L86,AN26)","v":0},{"$f":"AO26/(AQ4-AO25)","v":0},{"$f":"IF(AP26=0,0,(AP26*((LOG(AP26))/LOG(2))))","v":0},null,{"$f":"N26","v":21122},{"$f":"COUNTIF(L87:L102,AS26)","v":0},{"$f":"AT26/(AV4-AT25)","v":0},{"$f":"IF(AU26=0,0,(AU26*((LOG(AU26))/LOG(2))))","v":0}]
[12,4982,13,4996,13,5011,23,5034,24,5043,0,11122,null,21211,{"$f":"COUNTIF($L$7:$L$500,N27)","v":0},{"$f":"O27/$Q$4","v":0},{"$f":"IF(P27=0,0,(P27*((LOG(P27))/LOG(2))))","v":0},null,null,{"$f":"N27","v":21211},{"$f":"COUNTIF(L7:L22,T27)","v":0},{"$f":"U27/(W4-U25)","v":0},{"$f":"IF(V27=0,0,(V27*((LOG(V27))/LOG(2))))","v":0},null,{"$f":"N27","v":21211},{"$f":"COUNTIF(L23:L38,Y27)","v":0},{"$f":"Z27/(AB4-Z25)","v":0},{"$f":"IF(AA27=0,0,(AA27*((LOG(AA27))/LOG(2))))","v":0},null,{"$f":"N27","v":21211},{"$f":"COUNTIF(L39:L54,AD27)","v":0},{"$f":"AE27/(AG4-AE25)","v":0},{"$f":"IF(AF27=0,0,(AF27*((LOG(AF27))/LOG(2))))","v":0},null,{"$f":"N27","v":21211},{"$f":"COUNTIF(L55:L70,AI27)","v":0},{"$f":"AJ27/(AL4-AJ25)","v":0},{"$f":"IF(AK27=0,0,(AK27*((LOG(AK27))/LOG(2))))","v":0},null,{"$f":"N27","v":21211},{"$f":"COUNTIF(L71:L86,AN27)","v":0},{"$f":"AO27/(AQ4-AO25)","v":0},{"$f":"IF(AP27=0,0,(AP27*((LOG(AP27))/LOG(2))))","v":0},null,{"$f":"N27","v":21211},{"$f":"COUNTIF(L87:L102,AS27)","v":0},{"$f":"AT27/(AV4-AT25)","v":0},{"$f":"IF(AU27=0,0,(AU27*((LOG(AU27))/LOG(2))))","v":0}]
[12,5263,13,5276,24,5289,23,5297,13,5312,0,11221,null,21212,{"$f":"COUNTIF($L$7:$L$500,N28)","v":0},{"$f":"O28/$Q$4","v":0},{"$f":"IF(P28=0,0,(P28*((LOG(P28))/LOG(2))))","v":0},null,null,{"$f":"N28","v":21212},{"$f":"COUNTIF(L7:L22,T28)","v":0},{"$f":"U28/(W4-U25)","v":0},{"$f":"IF(V28=0,0,(V28*((LOG(V28))/LOG(2))))","v":0},null,{"$f":"N28","v":21212},{"$f":"COUNTIF(L23:L38,Y28)","v":0},{"$f":"Z28/(AB4-Z25)","v":0},{"$f":"IF(AA28=0,0,(AA28*((LOG(AA28))/LOG(2))))","v":0},null,{"$f":"N28","v":21212},{"$f":"COUNTIF(L39:L54,AD28)","v":0},{"$f":"AE28/(AG4-AE25)","v":0},{"$f":"IF(AF28=0,0,(AF28*((LOG(AF28))/LOG(2))))","v":0},null,{"$f":"N28","v":21212},{"$f":"COUNTIF(L55:L70,AI28)","v":0},{"$f":"AJ28/(AL4-AJ25)","v":0},{"$f":"IF(AK28=0,0,(AK28*((LOG(AK28))/LOG(2))))","v":0},null,{"$f":"N28","v":21212},{"$f":"COUNTIF(L71:L86,AN28)","v":0},{"$f":"AO28/(AQ4-AO25)","v":0},{"$f":"IF(AP28=0,0,(AP28*((LOG(AP28))/LOG(2))))","v":0},null,{"$f":"N28","v":21212},{"$f":"COUNTIF(L87:L102,AS28)","v":0},{"$f":"AT28/(AV4-AT25)","v":0},{"$f":"IF(AU28=0,0,(AU28*((LOG(AU28))/LOG(2))))","v":0}]
[12,5534,13,5543,13,5740,14,5817,13,5859,0,11111,null,21221,{"$f":"COUNTIF($L$7:$L$500,N29)","v":1},{"$f":"O29/$Q$4","v":1.0416666666666666E-2},{"$f":"IF(P29=0,0,(P29*((LOG(P29))/LOG(2))))","v":-6.8593359382512042E-2},null,null,{"$f":"N29","v":21221},{"$f":"COUNTIF(L7:L22,T29)","v":1},{"$f":"U29/(W4-U25)","v":6.25E-2},{"$f":"IF(V29=0,0,(V29*((LOG(V29))/LOG(2))))","v":-0.25},null,{"$f":"N29","v":21221},{"$f":"COUNTIF(L23:L38,Y29)","v":0},{"$f":"Z29/(AB4-Z25)","v":0},{"$f":"IF(AA29=0,0,(AA29*((LOG(AA29))/LOG(2))))","v":0},null,{"$f":"N29","v":21221},{"$f":"COUNTIF(L39:L54,AD29)","v":0},{"$f":"AE29/(AG4-AE25)","v":0},{"$f":"IF(AF29=0,0,(AF29*((LOG(AF29))/LOG(2))))","v":0},null,{"$f":"N29","v":21221},{"$f":"COUNTIF(L55:L70,AI29)","v":0},{"$f":"AJ29/(AL4-AJ25)","v":0},{"$f":"IF(AK29=0,0,(AK29*((LOG(AK29))/LOG(2))))","v":0},null,{"$f":"N29","v":21221},{"$f":"COUNTIF(L71:L86,AN29)","v":0},{"$f":"AO29/(AQ4-AO25)","v":0},{"$f":"IF(AP29=0,0,(AP29*((LOG(AP29))/LOG(2))))","v":0},null,{"$f":"N29","v":21221},{"$f":"COUNTIF(L87:L102,AS29)","v":0},{"$f":"AT29/(AV4-AT25)","v":0},{"$f":"IF(AU29=0,0,(AU29*((LOG(AU29))/LOG(2))))","v":0}]
[12,6005,13,6019,24,6031,14,6044,13,6058,0,11211,null,21222,{"$f":"COUNTIF($L$7:$L$500,N30)","v":0},{"$f":"O30/$Q$4","v":0},{"$f":"IF(P30=0,0,(P30*((LOG(P30))/LOG(2))))","v":0},null,null,{"$f":"N30","v":21222},{"$f":"COUNTIF(L7:L22,T30)","v":0},{"$f":"U30/(W4-U25)","v":0},{"$f":"IF(V30=0,0,(V30*((LOG(V30))/LOG(2))))","v":0},null,{"$f":"N30","v":21222},{"$f":"COUNTIF(L23:L38,Y30)","v":0},{"$f":"Z30/(AB4-Z25)","v":0},{"$f":"IF(AA30=0,0,(AA30*((LOG(AA30))/LOG(2))))","v":0},null,{"$f":"N30","v":21222},{"$f":"COUNTIF(L39:L54,AD30)","v":0},{"$f":"AE30/(AG4-AE25)","v":0},{"$f":"IF(AF30=0,0,(AF30*((LOG(AF30))/LOG(2))))","v":0},null,{"$f":"N30","v":21222},{"$f":"COUNTIF(L55:L70,AI30)","v":0},{"$f":"AJ30/(AL4-AJ25)","v":0},{"$f":"IF(AK30=0,0,(AK30*((LOG(AK30))/LOG(2))))","v":0},null,{"$f":"N30","v":21222},{"$f":"COUNTIF(L71:L86,AN30)","v":0},{"$f":"AO30/(AQ4-AO25)","v":0},{"$f":"IF(AP30=0,0,(AP30*((LOG(AP30))/LOG(2))))","v":0},null,{"$f":"N30","v":21222},{"$f":"COUNTIF(L87:L102,AS30)","v":0},{"$f":"AT30/(AV4-AT25)","v":0},{"$f":"IF(AU30=0,0,(AU30*((LOG(AU30))/LOG(2))))","v":0}]
[12,6220,13,6251,24,6264,14,6278,13,6291,0,11211,null,22111,{"$f":"COUNTIF($L$7:$L$500,N31)","v":0},{"$f":"O31/$Q$4","v":0},{"$f":"IF(P31=0,0,(P31*((LOG(P31))/LOG(2))))","v":0},null,null,{"$f":"N31","v":22111},{"$f":"COUNTIF(L7:L22,T31)","v":0},{"$f":"U31/(W4-U25)","v":0},{"$f":"IF(V31=0,0,(V31*((LOG(V31))/LOG(2))))","v":0},null,{"$f":"N31","v":22111},{"$f":"COUNTIF(L23:L38,Y31)","v":0},{"$f":"Z31/(AB4-Z25)","v":0},{"$f":"IF(AA31=0,0,(AA31*((LOG(AA31))/LOG(2))))","v":0},null,{"$f":"N31","v":22111},{"$f":"COUNTIF(L39:L54,AD31)","v":0},{"$f":"AE31/(AG4-AE25)","v":0},{"$f":"IF(AF31=0,0,(AF31*((LOG(AF31))/LOG(2))))","v":0},null,{"$f":"N31","v":22111},{"$f":"COUNTIF(L55:L70,AI31)","v":0},{"$f":"AJ31/(AL4-AJ25)","v":0},{"$f":"IF(AK31=0,0,(AK31*((LOG(AK31))/LOG(2))))","v":0},null,{"$f":"N31","v":22111},{"$f":"COUNTIF(L71:L86,AN31)","v":0},{"$f":"AO31/(AQ4-AO25)","v":0},{"$f":"IF(AP31=0,0,(AP31*((LOG(AP31))/LOG(2))))","v":0},null,{"$f":"N31","v":22111},{"$f":"COUNTIF(L87:L102,AS31)","v":0},{"$f":"AT31/(AV4-AT25)","v":0},{"$f":"IF(AU31=0,0,(AU31*((LOG(AU31))/LOG(2))))","v":0}]
[12,6394,13,6406,24,6418,14,6428,24,6446,0,11212,null,22112,{"$f":"COUNTIF($L$7:$L$500,N32)","v":0},{"$f":"O32/$Q$4","v":0},{"$f":"IF(P32=0,0,(P32*((LOG(P32))/LOG(2))))","v":0},null,null,{"$f":"N32","v":22112},{"$f":"COUNTIF(L7:L22,T32)","v":0},{"$f":"U32/(W4-U25)","v":0},{"$f":"IF(V32=0,0,(V32*((LOG(V32))/LOG(2))))","v":0},null,{"$f":"N32","v":22112},{"$f":"COUNTIF(L23:L38,Y32)","v":0},{"$f":"Z32/(AB4-Z25)","v":0},{"$f":"IF(AA32=0,0,(AA32*((LOG(AA32))/LOG(2))))","v":0},null,{"$f":"N32","v":22112},{"$f":"COUNTIF(L39:L54,AD32)","v":0},{"$f":"AE32/(AG4-AE25)","v":0},{"$f":"IF(AF32=0,0,(AF32*((LOG(AF32))/LOG(2))))","v":0},null,{"$f":"N32","v":22112},{"$f":"COUNTIF(L55:L70,AI32)","v":0},{"$f":"AJ32/(AL4-AJ25)","v":0},{"$f":"IF(AK32=0,0,(AK32*((LOG(AK32))/LOG(2))))","v":0},null,{"$f":"N32","v":22112},{"$f":"COUNTIF(L71:L86,AN32)","v":0},{"$f":"AO32/(AQ4-AO25)","v":0},{"$f":"IF(AP32=0,0,(AP32*((LOG(AP32))/LOG(2))))","v":0},null,{"$f":"N32","v":22112},{"$f":"COUNTIF(L87:L102,AS32)","v":0},{"$f":"AT32/(AV4-AT25)","v":0},{"$f":"IF(AU32=0,0,(AU32*((LOG(AU32))/LOG(2))))","v":0}]
[12,6549,24,6565,13,6577,14,6589,13,6603,0,12111,null,22121,{"$f":"COUNTIF($L$7:$L$500,N33)","v":0},{"$f":"O33/$Q$4","v":0},{"$f":"IF(P33=0,0,(P33*((LOG(P33))/LOG(2))))","v":0},null,null,{"$f":"N33","v":22121},{"$f":"COUNTIF(L7:L22,T33)","v":0},{"$f":"U33/(W4-U25)","v":0},{"$f":"IF(V33=0,0,(V33*((LOG(V33))/LOG(2))))","v":0},null,{"$f":"N33","v":22121},{"$f":"COUNTIF(L23:L38,Y33)","v":0},{"$f":"Z33/(AB4-Z25)","v":0},{"$f":"IF(AA33=0,0,(AA33*((LOG(AA33))/LOG(2))))","v":0},null,{"$f":"N33","v":22121},{"$f":"COUNTIF(L39:L54,AD33)","v":0},{"$f":"AE33/(AG4-AE25)","v":0},{"$f":"IF(AF33=0,0,(AF33*((LOG(AF33))/LOG(2))))","v":0},null,{"$f":"N33","v":22121},{"$f":"COUNTIF(L55:L70,AI33)","v":0},{"$f":"AJ33/(AL4-AJ25)","v":0},{"$f":"IF(AK33=0,0,(AK33*((LOG(AK33))/LOG(2))))","v":0},null,{"$f":"N33","v":22121},{"$f":"COUNTIF(L71:L86,AN33)","v":0},{"$f":"AO33/(AQ4-AO25)","v":0},{"$f":"IF(AP33=0,0,(AP33*((LOG(AP33))/LOG(2))))","v":0},null,{"$f":"N33","v":22121},{"$f":"COUNTIF(L87:L102,AS33)","v":0},{"$f":"AT33/(AV4-AT25)","v":0},{"$f":"IF(AU33=0,0,(AU33*((LOG(AU33))/LOG(2))))","v":0}]
[12,6741,13,6754,24,6766,14,6776,13,6788,0,11211,null,22122,{"$f":"COUNTIF($L$7:$L$500,N34)","v":0},{"$f":"O34/$Q$4","v":0},{"$f":"IF(P34=0,0,(P34*((LOG(P34))/LOG(2))))","v":0},null,null,{"$f":"N34","v":22122},{"$f":"COUNTIF(L7:L22,T34)","v":0},{"$f":"U34/(W4-U25)","v":0},{"$f":"IF(V34=0,0,(V34*((LOG(V34))/LOG(2))))","v":0},null,{"$f":"N34","v":22122},{"$f":"COUNTIF(L23:L38,Y34)","v":0},{"$f":"Z34/(AB4-Z25)","v":0},{"$f":"IF(AA34=0,0,(AA34*((LOG(AA34))/LOG(2))))","v":0},null,{"$f":"N34","v":22122},{"$f":"COUNTIF(L39:L54,AD34)","v":0},{"$f":"AE34/(AG4-AE25)","v":0},{"$f":"IF(AF34=0,0,(AF34*((LOG(AF34))/LOG(2))))","v":0},null,{"$f":"N34","v":22122},{"$f":"COUNTIF(L55:L70,AI34)","v":0},{"$f":"AJ34/(AL4-AJ25)","v":0},{"$f":"IF(AK34=0,0,(AK34*((LOG(AK34))/LOG(2))))","v":0},null,{"$f":"N34","v":22122},{"$f":"COUNTIF(L71:L86,AN34)","v":0},{"$f":"AO34/(AQ4-AO25)","v":0},{"$f":"IF(AP34=0,0,(AP34*((LOG(AP34))/LOG(2))))","v":0},null,{"$f":"N34","v":22122},{"$f":"COUNTIF(L87:L102,AS34)","v":0},{"$f":"AT34/(AV4-AT25)","v":0},{"$f":"IF(AU34=0,0,(AU34*((LOG(AU34))/LOG(2))))","v":0}]
[12,6893,13,6911,24,6923,23,6945,13,6954,0,11221,null,22211,{"$f":"COUNTIF($L$7:$L$500,N35)","v":0},{"$f":"O35/$Q$4","v":0},{"$f":"IF(P35=0,0,(P35*((LOG(P35))/LOG(2))))","v":0},null,null,{"$f":"N35","v":22211},{"$f":"COUNTIF(L7:L22,T35)","v":0},{"$f":"U35/(W4-U25)","v":0},{"$f":"IF(V35=0,0,(V35*((LOG(V35))/LOG(2))))","v":0},null,{"$f":"N35","v":22211},{"$f":"COUNTIF(L23:L38,Y35)","v":0},{"$f":"Z35/(AB4-Z25)","v":0},{"$f":"IF(AA35=0,0,(AA35*((LOG(AA35))/LOG(2))))","v":0},null,{"$f":"N35","v":22211},{"$f":"COUNTIF(L39:L54,AD35)","v":0},{"$f":"AE35/(AG4-AE25)","v":0},{"$f":"IF(AF35=0,0,(AF35*((LOG(AF35))/LOG(2))))","v":0},null,{"$f":"N35","v":22211},{"$f":"COUNTIF(L55:L70,AI35)","v":0},{"$f":"AJ35/(AL4-AJ25)","v":0},{"$f":"IF(AK35=0,0,(AK35*((LOG(AK35))/LOG(2))))","v":0},null,{"$f":"N35","v":22211},{"$f":"COUNTIF(L71:L86,AN35)","v":0},{"$f":"AO35/(AQ4-AO25)","v":0},{"$f":"IF(AP35=0,0,(AP35*((LOG(AP35))/LOG(2))))","v":0},null,{"$f":"N35","v":22211},{"$f":"COUNTIF(L87:L102,AS35)","v":0},{"$f":"AT35/(AV4-AT25)","v":0},{"$f":"IF(AU35=0,0,(AU35*((LOG(AU35))/LOG(2))))","v":0}]
[12,7088,13,7114,24,7131,23,7144,13,7159,0,11221,null,22212,{"$f":"COUNTIF($L$7:$L$500,N36)","v":0},{"$f":"O36/$Q$4","v":0},{"$f":"IF(P36=0,0,(P36*((LOG(P36))/LOG(2))))","v":0},null,null,{"$f":"N36","v":22212},{"$f":"COUNTIF(L7:L22,T36)","v":0},{"$f":"U36/(W4-U25)","v":0},{"$f":"IF(V36=0,0,(V36*((LOG(V36))/LOG(2))))","v":0},null,{"$f":"N36","v":22212},{"$f":"COUNTIF(L23:L38,Y36)","v":0},{"$f":"Z36/(AB4-Z25)","v":0},{"$f":"IF(AA36=0,0,(AA36*((LOG(AA36))/LOG(2))))","v":0},null,{"$f":"N36","v":22212},{"$f":"COUNTIF(L39:L54,AD36)","v":0},{"$f":"AE36/(AG4-AE25)","v":0},{"$f":"IF(AF36=0,0,(AF36*((LOG(AF36))/LOG(2))))","v":0},null,{"$f":"N36","v":22212},{"$f":"COUNTIF(L55:L70,AI36)","v":0},{"$f":"AJ36/(AL4-AJ25)","v":0},{"$f":"IF(AK36=0,0,(AK36*((LOG(AK36))/LOG(2))))","v":0},null,{"$f":"N36","v":22212},{"$f":"COUNTIF(L71:L86,AN36)","v":0},{"$f":"AO36/(AQ4-AO25)","v":0},{"$f":"IF(AP36=0,0,(AP36*((LOG(AP36))/LOG(2))))","v":0},null,{"$f":"N36","v":22212},{"$f":"COUNTIF(L87:L102,AS36)","v":0},{"$f":"AT36/(AV4-AT25)","v":0},{"$f":"IF(AU36=0,0,(AU36*((LOG(AU36))/LOG(2))))","v":0}]
[12,7415,13,7427,13,7443,23,7456,13,7477,0,11121,null,22221,{"$f":"COUNTIF($L$7:$L$500,N37)","v":0},{"$f":"O37/$Q$4","v":0},{"$f":"IF(P37=0,0,(P37*((LOG(P37))/LOG(2))))","v":0},null,null,{"$f":"N37","v":22221},{"$f":"COUNTIF(L7:L22,T37)","v":0},{"$f":"U37/(W4-U25)","v":0},{"$f":"IF(V37=0,0,(V37*((LOG(V37))/LOG(2))))","v":0},null,{"$f":"N37","v":22221},{"$f":"COUNTIF(L23:L38,Y37)","v":0},{"$f":"Z37/(AB4-Z25)","v":0},{"$f":"IF(AA37=0,0,(AA37*((LOG(AA37))/LOG(2))))","v":0},null,{"$f":"N37","v":22221},{"$f":"COUNTIF(L39:L54,AD37)","v":0},{"$f":"AE37/(AG4-AE25)","v":0},{"$f":"IF(AF37=0,0,(AF37*((LOG(AF37))/LOG(2))))","v":0},null,{"$f":"N37","v":22221},{"$f":"COUNTIF(L55:L70,AI37)","v":0},{"$f":"AJ37/(AL4-AJ25)","v":0},{"$f":"IF(AK37=0,0,(AK37*((LOG(AK37))/LOG(2))))","v":0},null,{"$f":"N37","v":22221},{"$f":"COUNTIF(L71:L86,AN37)","v":0},{"$f":"AO37/(AQ4-AO25)","v":0},{"$f":"IF(AP37=0,0,(AP37*((LOG(AP37))/LOG(2))))","v":0},null,{"$f":"N37","v":22221},{"$f":"COUNTIF(L87:L102,AS37)","v":0},{"$f":"AT37/(AV4-AT25)","v":0},{"$f":"IF(AU37=0,0,(AU37*((LOG(AU37))/LOG(2))))","v":0}]
[12,7601,13,7611,13,7623,14,7636,13,7648,0,11111,null,22222,{"$f":"COUNTIF($L$7:$L$500,N38)","v":0},{"$f":"O38/$Q$4","v":0},{"$f":"IF(P38=0,0,(P38*((LOG(P38))/LOG(2))))","v":0},null,null,{"$f":"N38","v":22222},{"$f":"COUNTIF(L7:L22,T38)","v":0},{"$f":"U38/(W4-U25)","v":0},{"$f":"IF(V38=0,0,(V38*((LOG(V38))/LOG(2))))","v":0},null,{"$f":"N38","v":22222},{"$f":"COUNTIF(L23:L38,Y38)","v":0},{"$f":"Z38/(AB4-Z25)","v":0},{"$f":"IF(AA38=0,0,(AA38*((LOG(AA38))/LOG(2))))","v":0},null,{"$f":"N38","v":22222},{"$f":"COUNTIF(L39:L54,AD38)","v":0},{"$f":"AE38/(AG4-AE25)","v":0},{"$f":"IF(AF38=0,0,(AF38*((LOG(AF38))/LOG(2))))","v":0},null,{"$f":"N38","v":22222},{"$f":"COUNTIF(L55:L70,AI38)","v":0},{"$f":"AJ38/(AL4-AJ25)","v":0},{"$f":"IF(AK38=0,0,(AK38*((LOG(AK38))/LOG(2))))","v":0},null,{"$f":"N38","v":22222},{"$f":"COUNTIF(L71:L86,AN38)","v":0},{"$f":"AO38/(AQ4-AO25)","v":0},{"$f":"IF(AP38=0,0,(AP38*((LOG(AP38))/LOG(2))))","v":0},null,{"$f":"N38","v":22222},{"$f":"COUNTIF(L87:L102,AS38)","v":0},{"$f":"AT38/(AV4-AT25)","v":0},{"$f":"IF(AU38=0,0,(AU38*((LOG(AU38))/LOG(2))))","v":0}]
[12,7774,13,7784,13,7796,14,7808,13,7816,0,11111,null,null,null,{"$f":"SUM(P7:P38)","v":0.99999999999999967},{"$f":"-SUM(Q7:Q38)","v":3.3840143932179569},null,null,null,null,{"$f":"SUM(V7:V38)","v":1},{"$f":"-SUM(W7:W38)","v":3.2806390622295662},null,null,null,{"$f":"SUM(AA7:AA38)","v":1},{"$f":"-SUM(AB7:AB38)","v":2.7806390622295662},null,null,null,{"$f":"SUM(AF7:AF38)","v":1},{"$f":"-SUM(AG7:AG38)","v":0.99339272901036269},null,null,null,{"$f":"SUM(AK7:AK38)","v":1},{"$f":"-SUM(AL7:AL38)","v":2.339572261986723},null,null,null,{"$f":"SUM(AP7:AP38)","v":1},{"$f":"-SUM(AQ7:AQ38)","v":1.9746017527145812},null,null,null,{"$f":"SUM(AU7:AU38)","v":1},{"$f":"-SUM(AV7:AV38)","v":2.4772170014624821}]
[12,8036,13,8049,13,8066,14,8079,13,8101,0,11111,null,null,null,"U=",{"$f":"Q39/(LOG(Q4)/LOG(2))","v":0.51390032864232027},null,null,null,null,"U1=",{"$f":"W39/(LOG(W4)/LOG(2))","v":0.82015976555739156},null,null,null,"U2=",{"$f":"AB39/(LOG(AB4)/LOG(2))","v":0.69515976555739156},null,null,null,"U3=",{"$f":"AG39/(LOG(AG4)/LOG(2))","v":0.24834818225259067},null,null,null,"U4=",{"$f":"AL39/(LOG(AL4)/LOG(2))","v":0.58489306549668074},null,null,null,"U5=",{"$f":"AQ39/(LOG(AQ4)/LOG(2))","v":0.49365043817864529},null,null,null,"U6=",{"$f":"AV39/(LOG(AV4)/LOG(2))","v":0.61930425036562053}]
[12,8265,13,8274,13,8284,14,8295,13,8307,0,11111]
[12,8448,13,8462,13,8475,14,8483,13,8497,0,11111]
[12,8857,13,8886,13,8900,14,8910,13,8924,0,11111,null,"Total Target Seq"]
[21,9229,11,9244,11,9256,12,9265,13,9277,0,21111,null,{"$f":"COUNTIF(L7:L102,G3)","v":1},null,16,16,16,16,16,16]
[12,9666,13,9681,13,9697,14,9710,13,9723,0,11111,null,null,null,"% of reinforcement given in 6 equal intervals based on number of trials "]
[12,9925,13,9946,13,9960,14,9973,13,9985,0,11111,null,null,null,"%_1","%_2","%_3","%_4","%_5","%_6"]
[12,10130,13,10145,13,10153,14,10165,13,10176,0,11111,null,null,"target sequence",{"$f":"$G$3","v":21121},{"$f":"$G$3","v":21121},{"$f":"$G$3","v":21121},{"$f":"$G$3","v":21121},{"$f":"$G$3","v":21121},{"$f":"$G$3","v":21121}]
[12,10347,13,10359,13,10371,14,10382,13,10391,0,11111,null,null,"total reinforcement",{"$f":"U25","v":0},{"$f":"Z25","v":0},{"$f":"AE25","v":0},{"$f":"AJ25","v":1},{"$f":"AO25","v":0},{"$f":"AT25","v":0}]
[12,10900,13,10914,13,10942,14,10959,13,10966,0,11111,null,null,"% target"]
[12,11237,13,11246,24,11269,14,11284,13,11294,0,11211,null,null,"CCRF"]
[12,11462,13,11475,13,11488,14,11501,13,11513,0,11111,null,null,"% CCRf"]
[12,11677,13,11704,13,11714,14,11722,13,11731,0,11111,null,null,"average response rate",{"$f":"J22/P44","v":235},{"$f":"(J38-J22)/Q44","v":243},{"$f":"(J54-J38)/R44","v":294.6875},{"$f":"(J70-J54)/S44","v":228.375},{"$f":"(J86-J70)/T44","v":188.375},{"$f":"(J102-J86)/U44","v":306.5}]
[12,11955,13,11966,24,12017,14,12031,24,12047,0,11212]
[12,12316,13,12325,13,12337,14,12349,13,12363,0,11111]
[12,12493,13,12506,13,12515,14,12531,13,12542,0,11111]
[12,12794,24,12812,13,12825,14,12842,13,12854,0,12111]
[12,13035,13,13050,13,13064,23,13083,13,13097,0,11121]
[12,13292,13,13300,13,13313,14,13326,13,13337,0,11111]
[12,13551,13,13564,13,13577,14,13590,13,13600,0,11111]
[12,13797,13,13811,24,13827,14,13839,24,13862,0,11212]
[12,14058,13,14071,13,14085,14,14094,13,14103,0,11111]
[12,14242,13,14265,13,14279,14,14297,24,14313,0,11112]
[12,14466,13,14489,24,14510,14,14519,13,14532,0,11211]
[12,14690,13,14698,13,14706,14,14714,13,14725,0,11111]
[12,14876,13,14899,13,14911,14,14919,13,14928,0,11111]
[21,15097,11,15109,11,15127,21,15145,11,15155,1,21121]
[12,15422,24,15435,13,15448,23,15464,13,15473,0,12121]
[12,15595,13,15608,24,15622,14,15631,24,15666,0,11212]
[12,15768,13,15783,24,15796,14,15805,24,15828,0,11212]
[12,15962,13,15975,24,15988,14,16001,24,16017,0,11212]
[12,16127,13,16150,24,16163,14,16175,13,16187,0,11211]
[12,16291,13,16302,13,16313,23,16326,13,16335,0,11121]
[12,16458,13,16482,24,16498,14,16510,13,16520,0,11211]
[12,16632,13,16640,13,16654,23,16666,13,16679,0,11121]
[12,16786,13,16799,13,16811,23,16823,13,16832,0,11121]
[12,16935,13,16943,13,16959,23,16972,24,16985,0,11122]
[12,17097,13,17116,24,17130,14,17139,13,17151,0,11211]
[12,17308,13,17329,13,17338,14,17350,13,17363,0,11111]
[12,17488,13,17496,13,17506,14,17516,13,17531,0,11111]
[12,17666,13,17680,13,17693,14,17710,24,17723,0,11112]
[12,17874,13,17890,13,17908,14,17921,13,17938,0,11111]
[12,18127,13,18140,13,18164,14,18176,13,18190,0,11111]
[12,18351,13,18360,13,18375,23,18391,13,18403,0,11121]
[12,18557,13,18566,13,18574,14,18582,13,18592,0,11111]
[12,18745,13,18765,13,18783,14,18797,13,18804,0,11111]
[12,18994,13,19003,13,19013,14,19022,13,19031,0,11111]
[12,19188,13,19203,13,19212,14,19224,13,19236,0,11111]
[12,19544,24,19559,13,19569,23,19583,24,19593,0,12122]
[12,19752,13,19766,13,19776,14,19787,24,19816,0,11112]
[12,19959,13,19976,24,19989,14,19999,13,20011,0,11211]
[12,20194,13,20216,13,20224,14,20238,24,20256,0,11112]
[12,20431,13,20450,24,20467,14,20479,24,20500,0,11212]
[12,20726,13,20740,13,20759,14,20779,24,20795,0,11112]
[12,20963,13,21117,13,21139,14,21167,13,21176,0,11111]
[12,21316,13,21335,13,21349,14,21363,24,21379,0,11112]
[12,21605,24,21618,13,21629,23,21645,13,21654,0,12121]
[12,21936,13,21952,13,21962,14,21976,13,21992,0,11111]
[12,22240,13,22251,13,22260,23,22277,13,22286,0,11121]
[12,22556,13,22581,13,22598,23,22612,13,22622,0,11121]
[12,23187,13,23205,13,23224,23,23247,13,23258,0,11121]
[12,23626,13,23641,13,23657,14,23667,13,23676,0,11111]
[12,23866,13,23881,13,23894,14,23912,24,23935,null,11112]

{"sheet":"!MA02830.010","index":5,"n_rows":105,"n_cols":48,"rows_kept":105,"cut":false,"hidden":false,"merged":[[4,39,4,42],[5,39,5,40],[4,44,4,47],[5,44,5,45],[4,24,4,27],[5,24,5,25],[4,29,4,32],[5,29,5,30],[4,34,4,37],[5,34,5,35],[1,1,1,2],[5,13,5,14],[42,13,42,14],[43,13,43,14],[4,19,4,22],[5,19,5,20]]}
["Report for:!MA02830.010"]
["Date:","<date>"]
["Hen:","<hen>",null,null,null,"Correct Sequence",{"$f":"Start!J2","v":21121},null,null,null,null,null,null,null,null,"Total Sequences in Data",{"$f":"4994-COUNTBLANK(L7:L5000)","v":99},null,null,null,null,"Total Sequences in Block Data",{"$f":"COUNTA(L7:L23)","v":17},null,null,null,"Total Sequences in Block Data",{"$f":"COUNTA(L24:L39)","v":16},null,null,null,"Total Sequences in Block Data",{"$f":"COUNTA(L40:L56)","v":17},null,null,null,"Total Sequences in Block Data",{"$f":"COUNTA(L57:L72)","v":16},null,null,null,"Total Sequences in Block Data",{"$f":"COUNTA(L73:L89)","v":17},null,null,null,"Total Sequences in Block Data",{"$f":"COUNTA(L90:L105)","v":16}]
[null,null,null,null,null,null,null,null,null,null,null,null,null,null,null,"Total Sequences in Summary",{"$f":"SUM(O7:O38)","v":99},null,null,null,null,"Total Sequences in Block Summary",{"$f":"SUM(U7:U38)","v":17},null,null,null,"Total Sequences in Block Summary",{"$f":"SUM(Z7:Z38)","v":16},null,null,null,"Total Sequences in Block Summary",{"$f":"SUM(AE7:AE38)","v":17},null,null,null,"Total Sequences in Block Summary",{"$f":"SUM(AJ7:AJ38)","v":16},null,null,null,"Total Sequences in Block Summary",{"$f":"SUM(AO7:AO38)","v":17},null,null,null,"Total Sequences in Block Summary",{"$f":"SUM(AT7:AT38)","v":16}]
[null,null,null,null,null,null,null,null,null,null,null,null,null,null,null,null,null,null,null,"Block 1",null,null,null,null,"Block 2",null,null,null,null,"Block 3",null,null,null,null,"Block 4",null,null,null,null,"Block 5",null,null,null,null,"Block 6"]
["Sequence\nComponent\n1","Time\n1","Sequence\nComponent\n2","Time\n2","Sequence\nComponent\n3","Time\n3","Sequence\nComponent\n4","Time\n4","Sequence\nComponent\n5","Time\n5","Correct?\n0=No 1=Yes","Sequence",null,"Frequency",null,"Relative Frequency","Variability",null,null,"Frequency",null,"Relative Frequency","Variability",null,"Frequency",null,"Relative Frequency","Variability",null,"Frequency",null,"Relative Frequency","Variability",null,"Frequency",null,"Relative Frequency","Variability",null,"Frequency",null,"Relative Frequency","Variability",null,"Frequency",null,"Relative Frequency","Variability"]
[12,10,24,26,24,43,23,81,24,97,0,12222,null,11111,{"$f":"COUNTIF($L$7:$L$500,N7)","v":20},{"$f":"O7/$Q$4","v":0.20202020202020202},{"$f":"IF(P7=0,0,(P7*((LOG(P7))/LOG(2))))","v":-0.46614717680651457},null,null,{"$f":"N7","v":11111},{"$f":"COUNTIF(L7:L23,T7)","v":1},{"$f":"U7/(W4-U25)","v":6.25E-2},{"$f":"IF(V7=0,0,(V7*((LOG(V7))/LOG(2))))","v":-0.25},null,{"$f":"N7","v":11111},{"$f":"COUNTIF(L24:L39,Y7)","v":4},{"$f":"Z7/(AB4-Z25)","v":0.25},{"$f":"IF(AA7=0,0,(AA7*((LOG(AA7))/LOG(2))))","v":-0.5},null,{"$f":"N7","v":11111},{"$f":"COUNTIF(L40:L56,AD7)","v":2},{"$f":"AE7/(AG4-AE25)","v":0.125},{"$f":"IF(AF7=0,0,(AF7*((LOG(AF7))/LOG(2))))","v":-0.375},null,{"$f":"N7","v":11111},{"$f":"COUNTIF(L57:L72,AI7)","v":6},{"$f":"AJ7/(AL4-AJ25)","v":0.375},{"$f":"IF(AK7=0,0,(AK7*((LOG(AK7))/LOG(2))))","v":-0.53063906222956647},null,{"$f":"N7","v":11111},{"$f":"COUNTIF(L73:L89,AN7)","v":3},{"$f":"AO7/(AQ4-AO25)","v":0.17647058823529413},{"$f":"IF(AP7=0,0,(AP7*((LOG(AP7))/LOG(2))))","v":-0.44161770715220888},null,{"$f":"N7","v":11111},{"$f":"COUNTIF(L90:L105,AS7)","v":4},{"$f":"AT7/(AV4-AT25)","v":0.26666666666666666},{"$f":"IF(AU7=0,0,(AU7*((LOG(AU7))/LOG(2))))","v":-0.50850415882893829}]
[12,201,24,218,13,244,14,263,24,276,0,12112,null,11112,{"$f":"COUNTIF($L$7:$L$500,N8)","v":17},{"$f":"O8/$Q$4","v":0.17171717171717171},{"$f":"IF(P8=0,0,(P8*((LOG(P8))/LOG(2))))","v":-0.43648681050603633},null,null,{"$f":"N8","v":11112},{"$f":"COUNTIF(L7:L23,T8)","v":1},{"$f":"U8/(W4-U25)","v":6.25E-2},{"$f":"IF(V8=0,0,(V8*((LOG(V8))/LOG(2))))","v":-0.25},null,{"$f":"N8","v":11112},{"$f":"COUNTIF(L24:L39,Y8)","v":5},{"$f":"Z8/(AB4-Z25)","v":0.3125},{"$f":"IF(AA8=0,0,(AA8*((LOG(AA8))/LOG(2))))","v":-0.52439747034769923},null,{"$f":"N8","v":11112},{"$f":"COUNTIF(L40:L56,AD8)","v":3},{"$f":"AE8/(AG4-AE25)","v":0.1875},{"$f":"IF(AF8=0,0,(AF8*((LOG(AF8))/LOG(2))))","v":-0.45281953111478312},null,{"$f":"N8","v":11112},{"$f":"COUNTIF(L57:L72,AI8)","v":4},{"$f":"AJ8/(AL4-AJ25)","v":0.25},{"$f":"IF(AK8=0,0,(AK8*((LOG(AK8))/LOG(2))))","v":-0.5},null,{"$f":"N8","v":11112},{"$f":"COUNTIF(L73:L89,AN8)","v":2},{"$f":"AO8/(AQ4-AO25)","v":0.11764705882352941},{"$f":"IF(AP8=0,0,(AP8*((LOG(AP8))/LOG(2))))","v":-0.36323092250003997},null,{"$f":"N8","v":11112},{"$f":"COUNTIF(L90:L105,AS8)","v":2},{"$f":"AT8/(AV4-AT25)","v":0.13333333333333333},{"$f":"IF(AU8=0,0,(AU8*((LOG(AU8))/LOG(2))))","v":-0.3875854127478025}]
[12,392,24,405,13,416,23,443,13,461,0,12121,null,11121,{"$f":"COUNTIF($L$7:$L$500,N9)","v":30},{"$f":"O9/$Q$4","v":0.30303030303030304},{"$f":"IF(P9=0,0,(P9*((LOG(P9))/LOG(2))))","v":-0.52195940135487617},null,null,{"$f":"N9","v":11121},{"$f":"COUNTIF(L7:L23,T9)","v":2},{"$f":"U9/(W4-U25)","v":0.125},{"$f":"IF(V9=0,0,(V9*((LOG(V9))/LOG(2))))","v":-0.375},null,{"$f":"N9","v":11121},{"$f":"COUNTIF(L24:L39,Y9)","v":4},{"$f":"Z9/(AB4-Z25)","v":0.25},{"$f":"IF(AA9=0,0,(AA9*((LOG(AA9))/LOG(2))))","v":-0.5},null,{"$f":"N9","v":11121},{"$f":"COUNTIF(L40:L56,AD9)","v":8},{"$f":"AE9/(AG4-AE25)","v":0.5},{"$f":"IF(AF9=0,0,(AF9*((LOG(AF9))/LOG(2))))","v":-0.5},null,{"$f":"N9","v":11121},{"$f":"COUNTIF(L57:L72,AI9)","v":5},{"$f":"AJ9/(AL4-AJ25)","v":0.3125},{"$f":"IF(AK9=0,0,(AK9*((LOG(AK9))/LOG(2))))","v":-0.52439747034769923},null,{"$f":"N9","v":11121},{"$f":"COUNTIF(L73:L89,AN9)","v":6},{"$f":"AO9/(AQ4-AO25)","v":0.35294117647058826},{"$f":"IF(AP9=0,0,(AP9*((LOG(AP9))/LOG(2))))","v":-0.53029423783382934},null,{"$f":"N9","v":11121},{"$f":"COUNTIF(L90:L105,AS9)","v":5},{"$f":"AT9/(AV4-AT25)","v":0.33333333333333331},{"$f":"IF(AU9=0,0,(AU9*((LOG(AU9))/LOG(2))))","v":-0.52832083357371862}]
[12,572,13,586,24,600,14,612,24,627,0,11212,null,11122,{"$f":"COUNTIF($L$7:$L$500,N10)","v":0},{"$f":"O10/$Q$4","v":0},{"$f":"IF(P10=0,0,(P10*((LOG(P10))/LOG(2))))","v":0},null,null,{"$f":"N10","v":11122},{"$f":"COUNTIF(L7:L23,T10)","v":0},{"$f":"U10/(W4-U25)","v":0},{"$f":"IF(V10=0,0,(V10*((LOG(V10))/LOG(2))))","v":0},null,{"$f":"N10","v":11122},{"$f":"COUNTIF(L24:L39,Y10)","v":0},{"$f":"Z10/(AB4-Z25)","v":0},{"$f":"IF(AA10=0,0,(AA10*((LOG(AA10))/LOG(2))))","v":0},null,{"$f":"N10","v":11122},{"$f":"COUNTIF(L40:L56,AD10)","v":0},{"$f":"AE10/(AG4-AE25)","v":0},{"$f":"IF(AF10=0,0,(AF10*((LOG(AF10))/LOG(2))))","v":0},null,{"$f":"N10","v":11122},{"$f":"COUNTIF(L57:L72,AI10)","v":0},{"$f":"AJ10/(AL4-AJ25)","v":0},{"$f":"IF(AK10=0,0,(AK10*((LOG(AK10))/LOG(2))))","v":0},null,{"$f":"N10","v":11122},{"$f":"COUNTIF(L73:L89,AN10)","v":0},{"$f":"AO10/(AQ4-AO25)","v":0},{"$f":"IF(AP10=0,0,(AP10*((LOG(AP10))/LOG(2))))","v":0},null,{"$f":"N10","v":11122},{"$f":"COUNTIF(L90:L105,AS10)","v":0},{"$f":"AT10/(AV4-AT25)","v":0},{"$f":"IF(AU10=0,0,(AU10*((LOG(AU10))/LOG(2))))","v":0}]
[21,742,11,752,11,761,12,774,24,803,0,21112,null,11211,{"$f":"COUNTIF($L$7:$L$500,N11)","v":2},{"$f":"O11/$Q$4","v":2.0202020202020204E-2},{"$f":"IF(P11=0,0,(P11*((LOG(P11))/LOG(2))))","v":-0.11372437616322445},null,null,{"$f":"N11","v":11211},{"$f":"COUNTIF(L7:L23,T11)","v":2},{"$f":"U11/(W4-U25)","v":0.125},{"$f":"IF(V11=0,0,(V11*((LOG(V11))/LOG(2))))","v":-0.375},null,{"$f":"N11","v":11211},{"$f":"COUNTIF(L24:L39,Y11)","v":0},{"$f":"Z11/(AB4-Z25)","v":0},{"$f":"IF(AA11=0,0,(AA11*((LOG(AA11))/LOG(2))))","v":0},null,{"$f":"N11","v":11211},{"$f":"COUNTIF(L40:L56,AD11)","v":0},{"$f":"AE11/(AG4-AE25)","v":0},{"$f":"IF(AF11=0,0,(AF11*((LOG(AF11))/LOG(2))))","v":0},null,{"$f":"N11","v":11211},{"$f":"COUNTIF(L57:L72,AI11)","v":0},{"$f":"AJ11/(AL4-AJ25)","v":0},{"$f":"IF(AK11=0,0,(AK11*((LOG(AK11))/LOG(2))))","v":0},null,{"$f":"N11","v":11211},{"$f":"COUNTIF(L73:L89,AN11)","v":0},{"$f":"AO11/(AQ4-AO25)","v":0},{"$f":"IF(AP11=0,0,(AP11*((LOG(AP11))/LOG(2))))","v":0},null,{"$f":"N11","v":11211},{"$f":"COUNTIF(L90:L105,AS11)","v":0},{"$f":"AT11/(AV4-AT25)","v":0},{"$f":"IF(AU11=0,0,(AU11*((LOG(AU11))/LOG(2))))","v":0}]
[12,1007,13,1024,13,1047,23,1062,13,1078,0,11121,null,11212,{"$f":"COUNTIF($L$7:$L$500,N12)","v":9},{"$f":"O12/$Q$4","v":9.0909090909090912E-2},{"$f":"IF(P12=0,0,(P12*((LOG(P12))/LOG(2))))","v":-0.31449378351248153},null,null,{"$f":"N12","v":11212},{"$f":"COUNTIF(L7:L23,T12)","v":4},{"$f":"U12/(W4-U25)","v":0.25},{"$f":"IF(V12=0,0,(V12*((LOG(V12))/LOG(2))))","v":-0.5},null,{"$f":"N12","v":11212},{"$f":"COUNTIF(L24:L39,Y12)","v":0},{"$f":"Z12/(AB4-Z25)","v":0},{"$f":"IF(AA12=0,0,(AA12*((LOG(AA12))/LOG(2))))","v":0},null,{"$f":"N12","v":11212},{"$f":"COUNTIF(L40:L56,AD12)","v":1},{"$f":"AE12/(AG4-AE25)","v":6.25E-2},{"$f":"IF(AF12=0,0,(AF12*((LOG(AF12))/LOG(2))))","v":-0.25},null,{"$f":"N12","v":11212},{"$f":"COUNTIF(L57:L72,AI12)","v":0},{"$f":"AJ12/(AL4-AJ25)","v":0},{"$f":"IF(AK12=0,0,(AK12*((LOG(AK12))/LOG(2))))","v":0},null,{"$f":"N12","v":11212},{"$f":"COUNTIF(L73:L89,AN12)","v":2},{"$f":"AO12/(AQ4-AO25)","v":0.11764705882352941},{"$f":"IF(AP12=0,0,(AP12*((LOG(AP12))/LOG(2))))","v":-0.36323092250003997},null,{"$f":"N12","v":11212},{"$f":"COUNTIF(L90:L105,AS12)","v":2},{"$f":"AT12/(AV4-AT25)","v":0.13333333333333333},{"$f":"IF(AU12=0,0,(AU12*((LOG(AU12))/LOG(2))))","v":-0.3875854127478025}]
[12,1237,13,1250,24,1265,14,1275,24,1290,0,11212,null,11221,{"$f":"COUNTIF($L$7:$L$500,N13)","v":0},{"$f":"O13/$Q$4","v":0},{"$f":"IF(P13=0,0,(P13*((LOG(P13))/LOG(2))))","v":0},null,null,{"$f":"N13","v":11221},{"$f":"COUNTIF(L7:L23,T13)","v":0},{"$f":"U13/(W4-U25)","v":0},{"$f":"IF(V13=0,0,(V13*((LOG(V13))/LOG(2))))","v":0},null,{"$f":"N13","v":11221},{"$f":"COUNTIF(L24:L39,Y13)","v":0},{"$f":"Z13/(AB4-Z25)","v":0},{"$f":"IF(AA13=0,0,(AA13*((LOG(AA13))/LOG(2))))","v":0},null,{"$f":"N13","v":11221},{"$f":"COUNTIF(L40:L56,AD13)","v":0},{"$f":"AE13/(AG4-AE25)","v":0},{"$f":"IF(AF13=0,0,(AF13*((LOG(AF13))/LOG(2))))","v":0},null,{"$f":"N13","v":11221},{"$f":"COUNTIF(L57:L72,AI13)","v":0},{"$f":"AJ13/(AL4-AJ25)","v":0},{"$f":"IF(AK13=0,0,(AK13*((LOG(AK13))/LOG(2))))","v":0},null,{"$f":"N13","v":11221},{"$f":"COUNTIF(L73:L89,AN13)","v":0},{"$f":"AO13/(AQ4-AO25)","v":0},{"$f":"IF(AP13=0,0,(AP13*((LOG(AP13))/LOG(2))))","v":0},null,{"$f":"N13","v":11221},{"$f":"COUNTIF(L90:L105,AS13)","v":0},{"$f":"AT13/(AV4-AT25)","v":0},{"$f":"IF(AU13=0,0,(AU13*((LOG(AU13))/LOG(2))))","v":0}]
[12,1604,13,1620,24,1634,14,1652,24,1667,0,11212,null,11222,{"$f":"COUNTIF($L$7:$L$500,N14)","v":0},{"$f":"O14/$Q$4","v":0},{"$f":"IF(P14=0,0,(P14*((LOG(P14))/LOG(2))))","v":0},null,null,{"$f":"N14","v":11222},{"$f":"COUNTIF(L7:L23,T14)","v":0},{"$f":"U14/(W4-U25)","v":0},{"$f":"IF(V14=0,0,(V14*((LOG(V14))/LOG(2))))","v":0},null,{"$f":"N14","v":11222},{"$f":"COUNTIF(L24:L39,Y14)","v":0},{"$f":"Z14/(AB4-Z25)","v":0},{"$f":"IF(AA14=0,0,(AA14*((LOG(AA14))/LOG(2))))","v":0},null,{"$f":"N14","v":11222},{"$f":"COUNTIF(L40:L56,AD14)","v":0},{"$f":"AE14/(AG4-AE25)","v":0},{"$f":"IF(AF14=0,0,(AF14*((LOG(AF14))/LOG(2))))","v":0},null,{"$f":"N14","v":11222},{"$f":"COUNTIF(L57:L72,AI14)","v":0},{"$f":"AJ14/(AL4-AJ25)","v":0},{"$f":"IF(AK14=0,0,(AK14*((LOG(AK14))/LOG(2))))","v":0},null,{"$f":"N14","v":11222},{"$f":"COUNTIF(L73:L89,AN14)","v":0},{"$f":"AO14/(AQ4-AO25)","v":0},{"$f":"IF(AP14=0,0,(AP14*((LOG(AP14))/LOG(2))))","v":0},null,{"$f":"N14","v":11222},{"$f":"COUNTIF(L90:L105,AS14)","v":0},{"$f":"AT14/(AV4-AT25)","v":0},{"$f":"IF(AU14=0,0,(AU14*((LOG(AU14))/LOG(2))))","v":0}]
[12,1852,13,1879,13,1900,14,1917,13,1940,0,11111,null,12111,{"$f":"COUNTIF($L$7:$L$500,N15)","v":4},{"$f":"O15/$Q$4","v":4.0404040404040407E-2},{"$f":"IF(P15=0,0,(P15*((LOG(P15))/LOG(2))))","v":-0.18704471192240849},null,null,{"$f":"N15","v":12111},{"$f":"COUNTIF(L7:L23,T15)","v":1},{"$f":"U15/(W4-U25)","v":6.25E-2},{"$f":"IF(V15=0,0,(V15*((LOG(V15))/LOG(2))))","v":-0.25},null,{"$f":"N15","v":12111},{"$f":"COUNTIF(L24:L39,Y15)","v":2},{"$f":"Z15/(AB4-Z25)","v":0.125},{"$f":"IF(AA15=0,0,(AA15*((LOG(AA15))/LOG(2))))","v":-0.375},null,{"$f":"N15","v":12111},{"$f":"COUNTIF(L40:L56,AD15)","v":0},{"$f":"AE15/(AG4-AE25)","v":0},{"$f":"IF(AF15=0,0,(AF15*((LOG(AF15))/LOG(2))))","v":0},null,{"$f":"N15","v":12111},{"$f":"COUNTIF(L57:L72,AI15)","v":1},{"$f":"AJ15/(AL4-AJ25)","v":6.25E-2},{"$f":"IF(AK15=0,0,(AK15*((LOG(AK15))/LOG(2))))","v":-0.25},null,{"$f":"N15","v":12111},{"$f":"COUNTIF(L73:L89,AN15)","v":0},{"$f":"AO15/(AQ4-AO25)","v":0},{"$f":"IF(AP15=0,0,(AP15*((LOG(AP15))/LOG(2))))","v":0},null,{"$f":"N15","v":12111},{"$f":"COUNTIF(L90:L105,AS15)","v":0},{"$f":"AT15/(AV4-AT25)","v":0},{"$f":"IF(AU15=0,0,(AU15*((LOG(AU15))/LOG(2))))","v":0}]
[12,2469,13,2492,13,2512,14,2532,24,2549,0,11112,null,12112,{"$f":"COUNTIF($L$7:$L$500,N16)","v":1},{"$f":"O16/$Q$4","v":1.0101010101010102E-2},{"$f":"IF(P16=0,0,(P16*((LOG(P16))/LOG(2))))","v":-6.6963198182622322E-2},null,null,{"$f":"N16","v":12112},{"$f":"COUNTIF(L7:L23,T16)","v":1},{"$f":"U16/(W4-U25)","v":6.25E-2},{"$f":"IF(V16=0,0,(V16*((LOG(V16))/LOG(2))))","v":-0.25},null,{"$f":"N16","v":12112},{"$f":"COUNTIF(L24:L39,Y16)","v":0},{"$f":"Z16/(AB4-Z25)","v":0},{"$f":"IF(AA16=0,0,(AA16*((LOG(AA16))/LOG(2))))","v":0},null,{"$f":"N16","v":12112},{"$f":"COUNTIF(L40:L56,AD16)","v":0},{"$f":"AE16/(AG4-AE25)","v":0},{"$f":"IF(AF16=0,0,(AF16*((LOG(AF16))/LOG(2))))","v":0},null,{"$f":"N16","v":12112},{"$f":"COUNTIF(L57:L72,AI16)","v":0},{"$f":"AJ16/(AL4-AJ25)","v":0},{"$f":"IF(AK16=0,0,(AK16*((LOG(AK16))/LOG(2))))","v":0},null,{"$f":"N16","v":12112},{"$f":"COUNTIF(L73:L89,AN16)","v":0},{"$f":"AO16/(AQ4-AO25)","v":0},{"$f":"IF(AP16=0,0,(AP16*((LOG(AP16))/LOG(2))))","v":0},null,{"$f":"N16","v":12112},{"$f":"COUNTIF(L90:L105,AS16)","v":0},{"$f":"AT16/(AV4-AT25)","v":0},{"$f":"IF(AU16=0,0,(AU16*((LOG(AU16))/LOG(2))))","v":0}]
[12,2777,13,2799,24,2815,14,2826,24,2846,0,11212,null,12121,{"$f":"COUNTIF($L$7:$L$500,N17)","v":3},{"$f":"O17/$Q$4","v":3.0303030303030304E-2},{"$f":"IF(P17=0,0,(P17*((LOG(P17))/LOG(2))))","v":-0.15286042785934709},null,null,{"$f":"N17","v":12121},{"$f":"COUNTIF(L7:L23,T17)","v":1},{"$f":"U17/(W4-U25)","v":6.25E-2},{"$f":"IF(V17=0,0,(V17*((LOG(V17))/LOG(2))))","v":-0.25},null,{"$f":"N17","v":12121},{"$f":"COUNTIF(L24:L39,Y17)","v":0},{"$f":"Z17/(AB4-Z25)","v":0},{"$f":"IF(AA17=0,0,(AA17*((LOG(AA17))/LOG(2))))","v":0},null,{"$f":"N17","v":12121},{"$f":"COUNTIF(L40:L56,AD17)","v":1},{"$f":"AE17/(AG4-AE25)","v":6.25E-2},{"$f":"IF(AF17=0,0,(AF17*((LOG(AF17))/LOG(2))))","v":-0.25},null,{"$f":"N17","v":12121},{"$f":"COUNTIF(L57:L72,AI17)","v":0},{"$f":"AJ17/(AL4-AJ25)","v":0},{"$f":"IF(AK17=0,0,(AK17*((LOG(AK17))/LOG(2))))","v":0},null,{"$f":"N17","v":12121},{"$f":"COUNTIF(L73:L89,AN17)","v":1},{"$f":"AO17/(AQ4-AO25)","v":5.8823529411764705E-2},{"$f":"IF(AP17=0,0,(AP17*((LOG(AP17))/LOG(2))))","v":-0.24043899066178465},null,{"$f":"N17","v":12121},{"$f":"COUNTIF(L90:L105,AS17)","v":0},{"$f":"AT17/(AV4-AT25)","v":0},{"$f":"IF(AU17=0,0,(AU17*((LOG(AU17))/LOG(2))))","v":0}]
[21,3600,11,3622,11,3640,21,3657,11,3672,1,21121,null,12122,{"$f":"COUNTIF($L$7:$L$500,N18)","v":1},{"$f":"O18/$Q$4","v":1.0101010101010102E-2},{"$f":"IF(P18=0,0,(P18*((LOG(P18))/LOG(2))))","v":-6.6963198182622322E-2},null,null,{"$f":"N18","v":12122},{"$f":"COUNTIF(L7:L23,T18)","v":0},{"$f":"U18/(W4-U25)","v":0},{"$f":"IF(V18=0,0,(V18*((LOG(V18))/LOG(2))))","v":0},null,{"$f":"N18","v":12122},{"$f":"COUNTIF(L24:L39,Y18)","v":0},{"$f":"Z18/(AB4-Z25)","v":0},{"$f":"IF(AA18=0,0,(AA18*((LOG(AA18))/LOG(2))))","v":0},null,{"$f":"N18","v":12122},{"$f":"COUNTIF(L40:L56,AD18)","v":0},{"$f":"AE18/(AG4-AE25)","v":0},{"$f":"IF(AF18=0,0,(AF18*((LOG(AF18))/LOG(2))))","v":0},null,{"$f":"N18","v":12122},{"$f":"COUNTIF(L57:L72,AI18)","v":0},{"$f":"AJ18/(AL4-AJ25)","v":0},{"$f":"IF(AK18=0,0,(AK18*((LOG(AK18))/LOG(2))))","v":0},null,{"$f":"N18","v":12122},{"$f":"COUNTIF(L73:L89,AN18)","v":1},{"$f":"AO18/(AQ4-AO25)","v":5.8823529411764705E-2},{"$f":"IF(AP18=0,0,(AP18*((LOG(AP18))/LOG(2))))","v":-0.24043899066178465},null,{"$f":"N18","v":12122},{"$f":"COUNTIF(L90:L105,AS18)","v":0},{"$f":"AT18/(AV4-AT25)","v":0},{"$f":"IF(AU18=0,0,(AU18*((LOG(AU18))/LOG(2))))","v":0}]
[12,3897,24,3910,24,3920,23,3934,13,3944,0,12221,null,12211,{"$f":"COUNTIF($L$7:$L$500,N19)","v":0},{"$f":"O19/$Q$4","v":0},{"$f":"IF(P19=0,0,(P19*((LOG(P19))/LOG(2))))","v":0},null,null,{"$f":"N19","v":12211},{"$f":"COUNTIF(L7:L23,T19)","v":0},{"$f":"U19/(W4-U25)","v":0},{"$f":"IF(V19=0,0,(V19*((LOG(V19))/LOG(2))))","v":0},null,{"$f":"N19","v":12211},{"$f":"COUNTIF(L24:L39,Y19)","v":0},{"$f":"Z19/(AB4-Z25)","v":0},{"$f":"IF(AA19=0,0,(AA19*((LOG(AA19))/LOG(2))))","v":0},null,{"$f":"N19","v":12211},{"$f":"COUNTIF(L40:L56,AD19)","v":0},{"$f":"AE19/(AG4-AE25)","v":0},{"$f":"IF(AF19=0,0,(AF19*((LOG(AF19))/LOG(2))))","v":0},null,{"$f":"N19","v":12211},{"$f":"COUNTIF(L57:L72,AI19)","v":0},{"$f":"AJ19/(AL4-AJ25)","v":0},{"$f":"IF(AK19=0,0,(AK19*((LOG(AK19))/LOG(2))))","v":0},null,{"$f":"N19","v":12211},{"$f":"COUNTIF(L73:L89,AN19)","v":0},{"$f":"AO19/(AQ4-AO25)","v":0},{"$f":"IF(AP19=0,0,(AP19*((LOG(AP19))/LOG(2))))","v":0},null,{"$f":"N19","v":12211},{"$f":"COUNTIF(L90:L105,AS19)","v":0},{"$f":"AT19/(AV4-AT25)","v":0},{"$f":"IF(AU19=0,0,(AU19*((LOG(AU19))/LOG(2))))","v":0}]
[12,4115,13,4134,13,4151,23,4164,13,4188,0,11121,null,12212,{"$f":"COUNTIF($L$7:$L$500,N20)","v":0},{"$f":"O20/$Q$4","v":0},{"$f":"IF(P20=0,0,(P20*((LOG(P20))/LOG(2))))","v":0},null,null,{"$f":"N20","v":12212},{"$f":"COUNTIF(L7:L23,T20)","v":0},{"$f":"U20/(W4-U25)","v":0},{"$f":"IF(V20=0,0,(V20*((LOG(V20))/LOG(2))))","v":0},null,{"$f":"N20","v":12212},{"$f":"COUNTIF(L24:L39,Y20)","v":0},{"$f":"Z20/(AB4-Z25)","v":0},{"$f":"IF(AA20=0,0,(AA20*((LOG(AA20))/LOG(2))))","v":0},null,{"$f":"N20","v":12212},{"$f":"COUNTIF(L40:L56,AD20)","v":0},{"$f":"AE20/(AG4-AE25)","v":0},{"$f":"IF(AF20=0,0,(AF20*((LOG(AF20))/LOG(2))))","v":0},null,{"$f":"N20","v":12212},{"$f":"COUNTIF(L57:L72,AI20)","v":0},{"$f":"AJ20/(AL4-AJ25)","v":0},{"$f":"IF(AK20=0,0,(AK20*((LOG(AK20))/LOG(2))))","v":0},null,{"$f":"N20","v":12212},{"$f":"COUNTIF(L73:L89,AN20)","v":0},{"$f":"AO20/(AQ4-AO25)","v":0},{"$f":"IF(AP20=0,0,(AP20*((LOG(AP20))/LOG(2))))","v":0},null,{"$f":"N20","v":12212},{"$f":"COUNTIF(L90:L105,AS20)","v":0},{"$f":"AT20/(AV4-AT25)","v":0},{"$f":"IF(AU20=0,0,(AU20*((LOG(AU20))/LOG(2))))","v":0}]
[12,4382,13,4396,24,4410,14,4420,13,4442,0,11211,null,12221,{"$f":"COUNTIF($L$7:$L$500,N21)","v":1},{"$f":"O21/$Q$4","v":1.0101010101010102E-2},{"$f":"IF(P21=0,0,(P21*((LOG(P21))/LOG(2))))","v":-6.6963198182622322E-2},null,null,{"$f":"N21","v":12221},{"$f":"COUNTIF(L7:L23,T21)","v":1},{"$f":"U21/(W4-U25)","v":6.25E-2},{"$f":"IF(V21=0,0,(V21*((LOG(V21))/LOG(2))))","v":-0.25},null,{"$f":"N21","v":12221},{"$f":"COUNTIF(L24:L39,Y21)","v":0},{"$f":"Z21/(AB4-Z25)","v":0},{"$f":"IF(AA21=0,0,(AA21*((LOG(AA21))/LOG(2))))","v":0},null,{"$f":"N21","v":12221},{"$f":"COUNTIF(L40:L56,AD21)","v":0},{"$f":"AE21/(AG4-AE25)","v":0},{"$f":"IF(AF21=0,0,(AF21*((LOG(AF21))/LOG(2))))","v":0},null,{"$f":"N21","v":12221},{"$f":"COUNTIF(L57:L72,AI21)","v":0},{"$f":"AJ21/(AL4-AJ25)","v":0},{"$f":"IF(AK21=0,0,(AK21*((LOG(AK21))/LOG(2))))","v":0},null,{"$f":"N21","v":12221},{"$f":"COUNTIF(L73:L89,AN21)","v":0},{"$f":"AO21/(AQ4-AO25)","v":0},{"$f":"IF(AP21=0,0,(AP21*((LOG(AP21))/LOG(2))))","v":0},null,{"$f":"N21","v":12221},{"$f":"COUNTIF(L90:L105,AS21)","v":0},{"$f":"AT21/(AV4-AT25)","v":0},{"$f":"IF(AU21=0,0,(AU21*((LOG(AU21))/LOG(2))))","v":0}]
[12,4641,24,4654,13,4671,14,4696,13,4718,0,12111,null,12222,{"$f":"COUNTIF($L$7:$L$500,N22)","v":1},{"$f":"O22/$Q$4","v":1.0101010101010102E-2},{"$f":"IF(P22=0,0,(P22*((LOG(P22))/LOG(2))))","v":-6.6963198182622322E-2},null,null,{"$f":"N22","v":12222},{"$f":"COUNTIF(L7:L23,T22)","v":1},{"$f":"U22/(W4-U25)","v":6.25E-2},{"$f":"IF(V22=0,0,(V22*((LOG(V22))/LOG(2))))","v":-0.25},null,{"$f":"N22","v":12222},{"$f":"COUNTIF(L24:L39,Y22)","v":0},{"$f":"Z22/(AB4-Z25)","v":0},{"$f":"IF(AA22=0,0,(AA22*((LOG(AA22))/LOG(2))))","v":0},null,{"$f":"N22","v":12222},{"$f":"COUNTIF(L40:L56,AD22)","v":0},{"$f":"AE22/(AG4-AE25)","v":0},{"$f":"IF(AF22=0,0,(AF22*((LOG(AF22))/LOG(2))))","v":0},null,{"$f":"N22","v":12222},{"$f":"COUNTIF(L57:L72,AI22)","v":0},{"$f":"AJ22/(AL4-AJ25)","v":0},{"$f":"IF(AK22=0,0,(AK22*((LOG(AK22))/LOG(2))))","v":0},null,{"$f":"N22","v":12222},{"$f":"COUNTIF(L73:L89,AN22)","v":0},{"$f":"AO22/(AQ4-AO25)","v":0},{"$f":"IF(AP22=0,0,(AP22*((LOG(AP22))/LOG(2))))","v":0},null,{"$f":"N22","v":12222},{"$f":"COUNTIF(L90:L105,AS22)","v":0},{"$f":"AT22/(AV4-AT25)","v":0},{"$f":"IF(AU22=0,0,(AU22*((LOG(AU22))/LOG(2))))","v":0}]
[12,4865,13,4878,24,4890,14,4900,13,4921,0,11211,null,21111,{"$f":"COUNTIF($L$7:$L$500,N23)","v":3},{"$f":"O23/$Q$4","v":3.0303030303030304E-2},{"$f":"IF(P23=0,0,(P23*((LOG(P23))/LOG(2))))","v":-0.15286042785934709},null,null,{"$f":"N23","v":21111},{"$f":"COUNTIF(L7:L23,T23)","v":0},{"$f":"U23/(W4-U25)","v":0},{"$f":"IF(V23=0,0,(V23*((LOG(V23))/LOG(2))))","v":0},null,{"$f":"N23","v":21111},{"$f":"COUNTIF(L24:L39,Y23)","v":0},{"$f":"Z23/(AB4-Z25)","v":0},{"$f":"IF(AA23=0,0,(AA23*((LOG(AA23))/LOG(2))))","v":0},null,{"$f":"N23","v":21111},{"$f":"COUNTIF(L40:L56,AD23)","v":0},{"$f":"AE23/(AG4-AE25)","v":0},{"$f":"IF(AF23=0,0,(AF23*((LOG(AF23))/LOG(2))))","v":0},null,{"$f":"N23","v":21111},{"$f":"COUNTIF(L57:L72,AI23)","v":0},{"$f":"AJ23/(AL4-AJ25)","v":0},{"$f":"IF(AK23=0,0,(AK23*((LOG(AK23))/LOG(2))))","v":0},null,{"$f":"N23","v":21111},{"$f":"COUNTIF(L73:L89,AN23)","v":1},{"$f":"AO23/(AQ4-AO25)","v":5.8823529411764705E-2},{"$f":"IF(AP23=0,0,(AP23*((LOG(AP23))/LOG(2))))","v":-0.24043899066178465},null,{"$f":"N23","v":21111},{"$f":"COUNTIF(L90:L105,AS23)","v":2},{"$f":"AT23/(AV4-AT25)","v":0.13333333333333333},{"$f":"IF(AU23=0,0,(AU23*((LOG(AU23))/LOG(2))))","v":-0.3875854127478025}]
[12,5099,24,5112,13,5125,14,5147,13,5156,0,12111,null,21112,{"$f":"COUNTIF($L$7:$L$500,N24)","v":1},{"$f":"O24/$Q$4","v":1.0101010101010102E-2},{"$f":"IF(P24=0,0,(P24*((LOG(P24))/LOG(2))))","v":-6.6963198182622322E-2},null,null,{"$f":"N24","v":21112},{"$f":"COUNTIF(L7:L23,T24)","v":1},{"$f":"U24/(W4-U25)","v":6.25E-2},{"$f":"IF(V24=0,0,(V24*((LOG(V24))/LOG(2))))","v":-0.25},null,{"$f":"N24","v":21112},{"$f":"COUNTIF(L24:L39,Y24)","v":0},{"$f":"Z24/(AB4-Z25)","v":0},{"$f":"IF(AA24=0,0,(AA24*((LOG(AA24))/LOG(2))))","v":0},null,{"$f":"N24","v":21112},{"$f":"COUNTIF(L40:L56,AD24)","v":0},{"$f":"AE24/(AG4-AE25)","v":0},{"$f":"IF(AF24=0,0,(AF24*((LOG(AF24))/LOG(2))))","v":0},null,{"$f":"N24","v":21112},{"$f":"COUNTIF(L57:L72,AI24)","v":0},{"$f":"AJ24/(AL4-AJ25)","v":0},{"$f":"IF(AK24=0,0,(AK24*((LOG(AK24))/LOG(2))))","v":0},null,{"$f":"N24","v":21112},{"$f":"COUNTIF(L73:L89,AN24)","v":0},{"$f":"AO24/(AQ4-AO25)","v":0},{"$f":"IF(AP24=0,0,(AP24*((LOG(AP24))/LOG(2))))","v":0},null,{"$f":"N24","v":21112},{"$f":"COUNTIF(L90:L105,AS24)","v":0},{"$f":"AT24/(AV4-AT25)","v":0},{"$f":"IF(AU24=0,0,(AU24*((LOG(AU24))/LOG(2))))","v":0}]
[12,5322,13,5337,13,5347,14,5366,13,5388,0,11111,null,21121,{"$f":"COUNTIF($L$7:$L$500,N25)","v":3},{"$f":"O25/$Q$4","v":3.0303030303030304E-2},{"$f":"IF(P25=0,0,(P25*((LOG(P25))/LOG(2))))","v":-0.15286042785934709},null,null,{"$f":"N25","v":21121},{"$f":"COUNTIF(L7:L23,T25)","v":1},null,null,null,{"$f":"N25","v":21121},{"$f":"COUNTIF(L24:L39,Y25)","v":0},null,null,null,{"$f":"N25","v":21121},{"$f":"COUNTIF(L40:L56,AD25)","v":1},null,null,null,{"$f":"N25","v":21121},{"$f":"COUNTIF(L57:L72,AI25)","v":0},null,null,null,{"$f":"N25","v":21121},{"$f":"COUNTIF(L73:L89,AN25)","v":0},null,null,null,{"$f":"N25","v":21121},{"$f":"COUNTIF(L90:L105,AS25)","v":1}]
[12,5563,24,5576,13,5587,14,5598,13,5617,0,12111,null,21122,{"$f":"COUNTIF($L$7:$L$500,N26)","v":1},{"$f":"O26/$Q$4","v":1.0101010101010102E-2},{"$f":"IF(P26=0,0,(P26*((LOG(P26))/LOG(2))))","v":-6.6963198182622322E-2},null,null,{"$f":"N26","v":21122},{"$f":"COUNTIF(L7:L23,T26)","v":0},{"$f":"U26/(W4-U25)","v":0},{"$f":"IF(V26=0,0,(V26*((LOG(V26))/LOG(2))))","v":0},null,{"$f":"N26","v":21122},{"$f":"COUNTIF(L24:L39,Y26)","v":0},{"$f":"Z26/(AB4-Z25)","v":0},{"$f":"IF(AA26=0,0,(AA26*((LOG(AA26))/LOG(2))))","v":0},null,{"$f":"N26","v":21122},{"$f":"COUNTIF(L40:L56,AD26)","v":0},{"$f":"AE26/(AG4-AE25)","v":0},{"$f":"IF(AF26=0,0,(AF26*((LOG(AF26))/LOG(2))))","v":0},null,{"$f":"N26","v":21122},{"$f":"COUNTIF(L57:L72,AI26)","v":0},{"$f":"AJ26/(AL4-AJ25)","v":0},{"$f":"IF(AK26=0,0,(AK26*((LOG(AK26))/LOG(2))))","v":0},null,{"$f":"N26","v":21122},{"$f":"COUNTIF(L73:L89,AN26)","v":1},{"$f":"AO26/(AQ4-AO25)","v":5.8823529411764705E-2},{"$f":"IF(AP26=0,0,(AP26*((LOG(AP26))/LOG(2))))","v":-0.24043899066178465},null,{"$f":"N26","v":21122},{"$f":"COUNTIF(L90:L105,AS26)","v":0},{"$f":"AT26/(AV4-AT25)","v":0},{"$f":"IF(AU26=0,0,(AU26*((LOG(AU26))/LOG(2))))","v":0}]
[12,5781,13,5795,13,5815,23,5833,13,5844,0,11121,null,21211,{"$f":"COUNTIF($L$7:$L$500,N27)","v":0},{"$f":"O27/$Q$4","v":0},{"$f":"IF(P27=0,0,(P27*((LOG(P27))/LOG(2))))","v":0},null,null,{"$f":"N27","v":21211},{"$f":"COUNTIF(L7:L23,T27)","v":0},{"$f":"U27/(W4-U25)","v":0},{"$f":"IF(V27=0,0,(V27*((LOG(V27))/LOG(2))))","v":0},null,{"$f":"N27","v":21211},{"$f":"COUNTIF(L24:L39,Y27)","v":0},{"$f":"Z27/(AB4-Z25)","v":0},{"$f":"IF(AA27=0,0,(AA27*((LOG(AA27))/LOG(2))))","v":0},null,{"$f":"N27","v":21211},{"$f":"COUNTIF(L40:L56,AD27)","v":0},{"$f":"AE27/(AG4-AE25)","v":0},{"$f":"IF(AF27=0,0,(AF27*((LOG(AF27))/LOG(2))))","v":0},null,{"$f":"N27","v":21211},{"$f":"COUNTIF(L57:L72,AI27)","v":0},{"$f":"AJ27/(AL4-AJ25)","v":0},{"$f":"IF(AK27=0,0,(AK27*((LOG(AK27))/LOG(2))))","v":0},null,{"$f":"N27","v":21211},{"$f":"COUNTIF(L73:L89,AN27)","v":0},{"$f":"AO27/(AQ4-AO25)","v":0},{"$f":"IF(AP27=0,0,(AP27*((LOG(AP27))/LOG(2))))","v":0},null,{"$f":"N27","v":21211},{"$f":"COUNTIF(L90:L105,AS27)","v":0},{"$f":"AT27/(AV4-AT25)","v":0},{"$f":"IF(AU27=0,0,(AU27*((LOG(AU27))/LOG(2))))","v":0}]
[12,6016,13,6028,13,6047,14,6063,13,6079,0,11111,null,21212,{"$f":"COUNTIF($L$7:$L$500,N28)","v":1},{"$f":"O28/$Q$4","v":1.0101010101010102E-2},{"$f":"IF(P28=0,0,(P28*((LOG(P28))/LOG(2))))","v":-6.6963198182622322E-2},null,null,{"$f":"N28","v":21212},{"$f":"COUNTIF(L7:L23,T28)","v":0},{"$f":"U28/(W4-U25)","v":0},{"$f":"IF(V28=0,0,(V28*((LOG(V28))/LOG(2))))","v":0},null,{"$f":"N28","v":21212},{"$f":"COUNTIF(L24:L39,Y28)","v":1},{"$f":"Z28/(AB4-Z25)","v":6.25E-2},{"$f":"IF(AA28=0,0,(AA28*((LOG(AA28))/LOG(2))))","v":-0.25},null,{"$f":"N28","v":21212},{"$f":"COUNTIF(L40:L56,AD28)","v":0},{"$f":"AE28/(AG4-AE25)","v":0},{"$f":"IF(AF28=0,0,(AF28*((LOG(AF28))/LOG(2))))","v":0},null,{"$f":"N28","v":21212},{"$f":"COUNTIF(L57:L72,AI28)","v":0},{"$f":"AJ28/(AL4-AJ25)","v":0},{"$f":"IF(AK28=0,0,(AK28*((LOG(AK28))/LOG(2))))","v":0},null,{"$f":"N28","v":21212},{"$f":"COUNTIF(L73:L89,AN28)","v":0},{"$f":"AO28/(AQ4-AO25)","v":0},{"$f":"IF(AP28=0,0,(AP28*((LOG(AP28))/LOG(2))))","v":0},null,{"$f":"N28","v":21212},{"$f":"COUNTIF(L90:L105,AS28)","v":0},{"$f":"AT28/(AV4-AT25)","v":0},{"$f":"IF(AU28=0,0,(AU28*((LOG(AU28))/LOG(2))))","v":0}]
[12,6215,13,6244,13,6261,14,6282,13,6319,0,11111,null,21221,{"$f":"COUNTIF($L$7:$L$500,N29)","v":1},{"$f":"O29/$Q$4","v":1.0101010101010102E-2},{"$f":"IF(P29=0,0,(P29*((LOG(P29))/LOG(2))))","v":-6.6963198182622322E-2},null,null,{"$f":"N29","v":21221},{"$f":"COUNTIF(L7:L23,T29)","v":0},{"$f":"U29/(W4-U25)","v":0},{"$f":"IF(V29=0,0,(V29*((LOG(V29))/LOG(2))))","v":0},null,{"$f":"N29","v":21221},{"$f":"COUNTIF(L24:L39,Y29)","v":0},{"$f":"Z29/(AB4-Z25)","v":0},{"$f":"IF(AA29=0,0,(AA29*((LOG(AA29))/LOG(2))))","v":0},null,{"$f":"N29","v":21221},{"$f":"COUNTIF(L40:L56,AD29)","v":1},{"$f":"AE29/(AG4-AE25)","v":6.25E-2},{"$f":"IF(AF29=0,0,(AF29*((LOG(AF29))/LOG(2))))","v":-0.25},null,{"$f":"N29","v":21221},{"$f":"COUNTIF(L57:L72,AI29)","v":0},{"$f":"AJ29/(AL4-AJ25)","v":0},{"$f":"IF(AK29=0,0,(AK29*((LOG(AK29))/LOG(2))))","v":0},null,{"$f":"N29","v":21221},{"$f":"COUNTIF(L73:L89,AN29)","v":0},{"$f":"AO29/(AQ4-AO25)","v":0},{"$f":"IF(AP29=0,0,(AP29*((LOG(AP29))/LOG(2))))","v":0},null,{"$f":"N29","v":21221},{"$f":"COUNTIF(L90:L105,AS29)","v":0},{"$f":"AT29/(AV4-AT25)","v":0},{"$f":"IF(AU29=0,0,(AU29*((LOG(AU29))/LOG(2))))","v":0}]
[12,6510,13,6523,13,6542,23,6554,13,6565,0,11121,null,21222,{"$f":"COUNTIF($L$7:$L$500,N30)","v":0},{"$f":"O30/$Q$4","v":0},{"$f":"IF(P30=0,0,(P30*((LOG(P30))/LOG(2))))","v":0},null,null,{"$f":"N30","v":21222},{"$f":"COUNTIF(L7:L23,T30)","v":0},{"$f":"U30/(W4-U25)","v":0},{"$f":"IF(V30=0,0,(V30*((LOG(V30))/LOG(2))))","v":0},null,{"$f":"N30","v":21222},{"$f":"COUNTIF(L24:L39,Y30)","v":0},{"$f":"Z30/(AB4-Z25)","v":0},{"$f":"IF(AA30=0,0,(AA30*((LOG(AA30))/LOG(2))))","v":0},null,{"$f":"N30","v":21222},{"$f":"COUNTIF(L40:L56,AD30)","v":0},{"$f":"AE30/(AG4-AE25)","v":0},{"$f":"IF(AF30=0,0,(AF30*((LOG(AF30))/LOG(2))))","v":0},null,{"$f":"N30","v":21222},{"$f":"COUNTIF(L57:L72,AI30)","v":0},{"$f":"AJ30/(AL4-AJ25)","v":0},{"$f":"IF(AK30=0,0,(AK30*((LOG(AK30))/LOG(2))))","v":0},null,{"$f":"N30","v":21222},{"$f":"COUNTIF(L73:L89,AN30)","v":0},{"$f":"AO30/(AQ4-AO25)","v":0},{"$f":"IF(AP30=0,0,(AP30*((LOG(AP30))/LOG(2))))","v":0},null,{"$f":"N30","v":21222},{"$f":"COUNTIF(L90:L105,AS30)","v":0},{"$f":"AT30/(AV4-AT25)","v":0},{"$f":"IF(AU30=0,0,(AU30*((LOG(AU30))/LOG(2))))","v":0}]
[12,6697,13,6713,13,6732,14,6748,13,6776,0,11111,null,22111,{"$f":"COUNTIF($L$7:$L$500,N31)","v":0},{"$f":"O31/$Q$4","v":0},{"$f":"IF(P31=0,0,(P31*((LOG(P31))/LOG(2))))","v":0},null,null,{"$f":"N31","v":22111},{"$f":"COUNTIF(L7:L23,T31)","v":0},{"$f":"U31/(W4-U25)","v":0},{"$f":"IF(V31=0,0,(V31*((LOG(V31))/LOG(2))))","v":0},null,{"$f":"N31","v":22111},{"$f":"COUNTIF(L24:L39,Y31)","v":0},{"$f":"Z31/(AB4-Z25)","v":0},{"$f":"IF(AA31=0,0,(AA31*((LOG(AA31))/LOG(2))))","v":0},null,{"$f":"N31","v":22111},{"$f":"COUNTIF(L40:L56,AD31)","v":0},{"$f":"AE31/(AG4-AE25)","v":0},{"$f":"IF(AF31=0,0,(AF31*((LOG(AF31))/LOG(2))))","v":0},null,{"$f":"N31","v":22111},{"$f":"COUNTIF(L57:L72,AI31)","v":0},{"$f":"AJ31/(AL4-AJ25)","v":0},{"$f":"IF(AK31=0,0,(AK31*((LOG(AK31))/LOG(2))))","v":0},null,{"$f":"N31","v":22111},{"$f":"COUNTIF(L73:L89,AN31)","v":0},{"$f":"AO31/(AQ4-AO25)","v":0},{"$f":"IF(AP31=0,0,(AP31*((LOG(AP31))/LOG(2))))","v":0},null,{"$f":"N31","v":22111},{"$f":"COUNTIF(L90:L105,AS31)","v":0},{"$f":"AT31/(AV4-AT25)","v":0},{"$f":"IF(AU31=0,0,(AU31*((LOG(AU31))/LOG(2))))","v":0}]
[12,6940,13,6973,13,6992,23,7019,13,7027,0,11121,null,22112,{"$f":"COUNTIF($L$7:$L$500,N32)","v":0},{"$f":"O32/$Q$4","v":0},{"$f":"IF(P32=0,0,(P32*((LOG(P32))/LOG(2))))","v":0},null,null,{"$f":"N32","v":22112},{"$f":"COUNTIF(L7:L23,T32)","v":0},{"$f":"U32/(W4-U25)","v":0},{"$f":"IF(V32=0,0,(V32*((LOG(V32))/LOG(2))))","v":0},null,{"$f":"N32","v":22112},{"$f":"COUNTIF(L24:L39,Y32)","v":0},{"$f":"Z32/(AB4-Z25)","v":0},{"$f":"IF(AA32=0,0,(AA32*((LOG(AA32))/LOG(2))))","v":0},null,{"$f":"N32","v":22112},{"$f":"COUNTIF(L40:L56,AD32)","v":0},{"$f":"AE32/(AG4-AE25)","v":0},{"$f":"IF(AF32=0,0,(AF32*((LOG(AF32))/LOG(2))))","v":0},null,{"$f":"N32","v":22112},{"$f":"COUNTIF(L57:L72,AI32)","v":0},{"$f":"AJ32/(AL4-AJ25)","v":0},{"$f":"IF(AK32=0,0,(AK32*((LOG(AK32))/LOG(2))))","v":0},null,{"$f":"N32","v":22112},{"$f":"COUNTIF(L73:L89,AN32)","v":0},{"$f":"AO32/(AQ4-AO25)","v":0},{"$f":"IF(AP32=0,0,(AP32*((LOG(AP32))/LOG(2))))","v":0},null,{"$f":"N32","v":22112},{"$f":"COUNTIF(L90:L105,AS32)","v":0},{"$f":"AT32/(AV4-AT25)","v":0},{"$f":"IF(AU32=0,0,(AU32*((LOG(AU32))/LOG(2))))","v":0}]
[12,7232,13,7245,13,7254,14,7272,24,7284,0,11112,null,22121,{"$f":"COUNTIF($L$7:$L$500,N33)","v":0},{"$f":"O33/$Q$4","v":0},{"$f":"IF(P33=0,0,(P33*((LOG(P33))/LOG(2))))","v":0},null,null,{"$f":"N33","v":22121},{"$f":"COUNTIF(L7:L23,T33)","v":0},{"$f":"U33/(W4-U25)","v":0},{"$f":"IF(V33=0,0,(V33*((LOG(V33))/LOG(2))))","v":0},null,{"$f":"N33","v":22121},{"$f":"COUNTIF(L24:L39,Y33)","v":0},{"$f":"Z33/(AB4-Z25)","v":0},{"$f":"IF(AA33=0,0,(AA33*((LOG(AA33))/LOG(2))))","v":0},null,{"$f":"N33","v":22121},{"$f":"COUNTIF(L40:L56,AD33)","v":0},{"$f":"AE33/(AG4-AE25)","v":0},{"$f":"IF(AF33=0,0,(AF33*((LOG(AF33))/LOG(2))))","v":0},null,{"$f":"N33","v":22121},{"$f":"COUNTIF(L57:L72,AI33)","v":0},{"$f":"AJ33/(AL4-AJ25)","v":0},{"$f":"IF(AK33=0,0,(AK33*((LOG(AK33))/LOG(2))))","v":0},null,{"$f":"N33","v":22121},{"$f":"COUNTIF(L73:L89,AN33)","v":0},{"$f":"AO33/(AQ4-AO25)","v":0},{"$f":"IF(AP33=0,0,(AP33*((LOG(AP33))/LOG(2))))","v":0},null,{"$f":"N33","v":22121},{"$f":"COUNTIF(L90:L105,AS33)","v":0},{"$f":"AT33/(AV4-AT25)","v":0},{"$f":"IF(AU33=0,0,(AU33*((LOG(AU33))/LOG(2))))","v":0}]
[12,7440,13,7459,13,7472,14,7488,24,7500,0,11112,null,22122,{"$f":"COUNTIF($L$7:$L$500,N34)","v":0},{"$f":"O34/$Q$4","v":0},{"$f":"IF(P34=0,0,(P34*((LOG(P34))/LOG(2))))","v":0},null,null,{"$f":"N34","v":22122},{"$f":"COUNTIF(L7:L23,T34)","v":0},{"$f":"U34/(W4-U25)","v":0},{"$f":"IF(V34=0,0,(V34*((LOG(V34))/LOG(2))))","v":0},null,{"$f":"N34","v":22122},{"$f":"COUNTIF(L24:L39,Y34)","v":0},{"$f":"Z34/(AB4-Z25)","v":0},{"$f":"IF(AA34=0,0,(AA34*((LOG(AA34))/LOG(2))))","v":0},null,{"$f":"N34","v":22122},{"$f":"COUNTIF(L40:L56,AD34)","v":0},{"$f":"AE34/(AG4-AE25)","v":0},{"$f":"IF(AF34=0,0,(AF34*((LOG(AF34))/LOG(2))))","v":0},null,{"$f":"N34","v":22122},{"$f":"COUNTIF(L57:L72,AI34)","v":0},{"$f":"AJ34/(AL4-AJ25)","v":0},{"$f":"IF(AK34=0,0,(AK34*((LOG(AK34))/LOG(2))))","v":0},null,{"$f":"N34","v":22122},{"$f":"COUNTIF(L73:L89,AN34)","v":0},{"$f":"AO34/(AQ4-AO25)","v":0},{"$f":"IF(AP34=0,0,(AP34*((LOG(AP34))/LOG(2))))","v":0},null,{"$f":"N34","v":22122},{"$f":"COUNTIF(L90:L105,AS34)","v":0},{"$f":"AT34/(AV4-AT25)","v":0},{"$f":"IF(AU34=0,0,(AU34*((LOG(AU34))/LOG(2))))","v":0}]
[12,7807,13,7913,13,7929,23,7943,13,7953,0,11121,null,22211,{"$f":"COUNTIF($L$7:$L$500,N35)","v":0},{"$f":"O35/$Q$4","v":0},{"$f":"IF(P35=0,0,(P35*((LOG(P35))/LOG(2))))","v":0},null,null,{"$f":"N35","v":22211},{"$f":"COUNTIF(L7:L23,T35)","v":0},{"$f":"U35/(W4-U25)","v":0},{"$f":"IF(V35=0,0,(V35*((LOG(V35))/LOG(2))))","v":0},null,{"$f":"N35","v":22211},{"$f":"COUNTIF(L24:L39,Y35)","v":0},{"$f":"Z35/(AB4-Z25)","v":0},{"$f":"IF(AA35=0,0,(AA35*((LOG(AA35))/LOG(2))))","v":0},null,{"$f":"N35","v":22211},{"$f":"COUNTIF(L40:L56,AD35)","v":0},{"$f":"AE35/(AG4-AE25)","v":0},{"$f":"IF(AF35=0,0,(AF35*((LOG(AF35))/LOG(2))))","v":0},null,{"$f":"N35","v":22211},{"$f":"COUNTIF(L57:L72,AI35)","v":0},{"$f":"AJ35/(AL4-AJ25)","v":0},{"$f":"IF(AK35=0,0,(AK35*((LOG(AK35))/LOG(2))))","v":0},null,{"$f":"N35","v":22211},{"$f":"COUNTIF(L73:L89,AN35)","v":0},{"$f":"AO35/(AQ4-AO25)","v":0},{"$f":"IF(AP35=0,0,(AP35*((LOG(AP35))/LOG(2))))","v":0},null,{"$f":"N35","v":22211},{"$f":"COUNTIF(L90:L105,AS35)","v":0},{"$f":"AT35/(AV4-AT25)","v":0},{"$f":"IF(AU35=0,0,(AU35*((LOG(AU35))/LOG(2))))","v":0}]
[12,8255,13,8264,13,8280,14,8297,24,8309,0,11112,null,22212,{"$f":"COUNTIF($L$7:$L$500,N36)","v":0},{"$f":"O36/$Q$4","v":0},{"$f":"IF(P36=0,0,(P36*((LOG(P36))/LOG(2))))","v":0},null,null,{"$f":"N36","v":22212},{"$f":"COUNTIF(L7:L23,T36)","v":0},{"$f":"U36/(W4-U25)","v":0},{"$f":"IF(V36=0,0,(V36*((LOG(V36))/LOG(2))))","v":0},null,{"$f":"N36","v":22212},{"$f":"COUNTIF(L24:L39,Y36)","v":0},{"$f":"Z36/(AB4-Z25)","v":0},{"$f":"IF(AA36=0,0,(AA36*((LOG(AA36))/LOG(2))))","v":0},null,{"$f":"N36","v":22212},{"$f":"COUNTIF(L40:L56,AD36)","v":0},{"$f":"AE36/(AG4-AE25)","v":0},{"$f":"IF(AF36=0,0,(AF36*((LOG(AF36))/LOG(2))))","v":0},null,{"$f":"N36","v":22212},{"$f":"COUNTIF(L57:L72,AI36)","v":0},{"$f":"AJ36/(AL4-AJ25)","v":0},{"$f":"IF(AK36=0,0,(AK36*((LOG(AK36))/LOG(2))))","v":0},null,{"$f":"N36","v":22212},{"$f":"COUNTIF(L73:L89,AN36)","v":0},{"$f":"AO36/(AQ4-AO25)","v":0},{"$f":"IF(AP36=0,0,(AP36*((LOG(AP36))/LOG(2))))","v":0},null,{"$f":"N36","v":22212},{"$f":"COUNTIF(L90:L105,AS36)","v":0},{"$f":"AT36/(AV4-AT25)","v":0},{"$f":"IF(AU36=0,0,(AU36*((LOG(AU36))/LOG(2))))","v":0}]
[12,8453,13,8472,13,8491,14,8508,24,8524,0,11112,null,22221,{"$f":"COUNTIF($L$7:$L$500,N37)","v":0},{"$f":"O37/$Q$4","v":0},{"$f":"IF(P37=0,0,(P37*((LOG(P37))/LOG(2))))","v":0},null,null,{"$f":"N37","v":22221},{"$f":"COUNTIF(L7:L23,T37)","v":0},{"$f":"U37/(W4-U25)","v":0},{"$f":"IF(V37=0,0,(V37*((LOG(V37))/LOG(2))))","v":0},null,{"$f":"N37","v":22221},{"$f":"COUNTIF(L24:L39,Y37)","v":0},{"$f":"Z37/(AB4-Z25)","v":0},{"$f":"IF(AA37=0,0,(AA37*((LOG(AA37))/LOG(2))))","v":0},null,{"$f":"N37","v":22221},{"$f":"COUNTIF(L40:L56,AD37)","v":0},{"$f":"AE37/(AG4-AE25)","v":0},{"$f":"IF(AF37=0,0,(AF37*((LOG(AF37))/LOG(2))))","v":0},null,{"$f":"N37","v":22221},{"$f":"COUNTIF(L57:L72,AI37)","v":0},{"$f":"AJ37/(AL4-AJ25)","v":0},{"$f":"IF(AK37=0,0,(AK37*((LOG(AK37))/LOG(2))))","v":0},null,{"$f":"N37","v":22221},{"$f":"COUNTIF(L73:L89,AN37)","v":0},{"$f":"AO37/(AQ4-AO25)","v":0},{"$f":"IF(AP37=0,0,(AP37*((LOG(AP37))/LOG(2))))","v":0},null,{"$f":"N37","v":22221},{"$f":"COUNTIF(L90:L105,AS37)","v":0},{"$f":"AT37/(AV4-AT25)","v":0},{"$f":"IF(AU37=0,0,(AU37*((LOG(AU37))/LOG(2))))","v":0}]
[21,8750,11,8759,22,8772,14,8781,24,8799,0,21212,null,22222,{"$f":"COUNTIF($L$7:$L$500,N38)","v":0},{"$f":"O38/$Q$4","v":0},{"$f":"IF(P38=0,0,(P38*((LOG(P38))/LOG(2))))","v":0},null,null,{"$f":"N38","v":22222},{"$f":"COUNTIF(L7:L23,T38)","v":0},{"$f":"U38/(W4-U25)","v":0},{"$f":"IF(V38=0,0,(V38*((LOG(V38))/LOG(2))))","v":0},null,{"$f":"N38","v":22222},{"$f":"COUNTIF(L24:L39,Y38)","v":0},{"$f":"Z38/(AB4-Z25)","v":0},{"$f":"IF(AA38=0,0,(AA38*((LOG(AA38))/LOG(2))))","v":0},null,{"$f":"N38","v":22222},{"$f":"COUNTIF(L40:L56,AD38)","v":0},{"$f":"AE38/(AG4-AE25)","v":0},{"$f":"IF(AF38=0,0,(AF38*((LOG(AF38))/LOG(2))))","v":0},null,{"$f":"N38","v":22222},{"$f":"COUNTIF(L57:L72,AI38)","v":0},{"$f":"AJ38/(AL4-AJ25)","v":0},{"$f":"IF(AK38=0,0,(AK38*((LOG(AK38))/LOG(2))))","v":0},null,{"$f":"N38","v":22222},{"$f":"COUNTIF(L73:L89,AN38)","v":0},{"$f":"AO38/(AQ4-AO25)","v":0},{"$f":"IF(AP38=0,0,(AP38*((LOG(AP38))/LOG(2))))","v":0},null,{"$f":"N38","v":22222},{"$f":"COUNTIF(L90:L105,AS38)","v":0},{"$f":"AT38/(AV4-AT25)","v":0},{"$f":"IF(AU38=0,0,(AU38*((LOG(AU38))/LOG(2))))","v":0}]
[12,8905,13,8934,13,8964,14,8988,24,9003,0,11112,null,null,null,{"$f":"SUM(P7:P38)","v":0.99999999999999956},{"$f":"-SUM(Q7:Q38)","v":3.0341431293045602},null,null,null,null,{"$f":"SUM(V7:V38)","v":1},{"$f":"-SUM(W7:W38)","v":3.25},null,null,null,{"$f":"SUM(AA7:AA38)","v":1},{"$f":"-SUM(AB7:AB38)","v":2.149397470347699},null,null,null,{"$f":"SUM(AF7:AF38)","v":1},{"$f":"-SUM(AG7:AG38)","v":2.0778195311147831},null,null,null,{"$f":"SUM(AK7:AK38)","v":1},{"$f":"-SUM(AL7:AL38)","v":1.8050365325772657},null,null,null,{"$f":"SUM(AP7:AP38)","v":1},{"$f":"-SUM(AQ7:AQ38)","v":2.660129752633257},null,null,null,{"$f":"SUM(AU7:AU38)","v":1},{"$f":"-SUM(AV7:AV38)","v":2.1995812306460643}]
[12,9178,13,9205,13,9238,23,9272,13,9283,0,11121,null,null,null,"U=",{"$f":"Q39/(LOG(Q4)/LOG(2))","v":0.45768289491539293},null,null,null,null,"U1=",{"$f":"W39/(LOG(W4)/LOG(2))","v":0.79511426188423462},null,null,null,"U2=",{"$f":"AB39/(LOG(AB4)/LOG(2))","v":0.53734936758692475},null,null,null,"U3=",{"$f":"AG39/(LOG(AG4)/LOG(2))","v":0.50833967471107},null,null,null,"U4=",{"$f":"AL39/(LOG(AL4)/LOG(2))","v":0.45125913314431643},null,null,null,"U5=",{"$f":"AQ39/(LOG(AQ4)/LOG(2))","v":0.65080218608654894},null,null,null,"U6=",{"$f":"AV39/(LOG(AV4)/LOG(2))","v":0.54989530766151606}]
[12,9428,13,9449,24,9472,14,9484,24,9500,0,11212]
[12,9999,24,10026,13,10051,23,10066,13,10075,0,12121]
[12,10196,13,10218,13,10228,14,10245,24,10258,0,11112,null,"Total Target Seq"]
[12,10388,13,10397,13,10408,14,10419,13,10431,0,11111,null,{"$f":"COUNTIF(L7:L105,G3)","v":3},null,17,16,17,16,17,16]
[12,10567,13,10582,13,10600,23,10612,13,10622,0,11121,null,null,null,"% of reinforcement given in 6 equal intervals based on number of trials "]
[12,10794,13,10811,13,10821,23,10835,13,10845,0,11121,null,null,null,"%_1","%_2","%_3","%_4","%_5","%_6"]
[21,10960,11,11001,22,11015,23,11029,13,11068,0,21221,null,null,"target sequence",{"$f":"$G$3","v":21121},{"$f":"$G$3","v":21121},{"$f":"$G$3","v":21121},{"$f":"$G$3","v":21121},{"$f":"$G$3","v":21121},{"$f":"$G$3","v":21121}]
[12,11233,13,11326,13,11353,14,11370,24,11384,0,11112,null,null,"total reinforcement",{"$f":"U25","v":1},{"$f":"Z25","v":0},{"$f":"AE25","v":1},{"$f":"AJ25","v":0},{"$f":"AO25","v":0},{"$f":"AT25","v":1}]
[21,11532,11,11550,11,11564,21,11580,11,11589,1,21121,null,null,"% target"]
[12,11808,13,11822,13,11835,23,11848,13,11859,0,11121,null,null,"CCRF"]
[12,11995,13,12007,13,12020,23,12033,13,12043,0,11121,null,null,"% CCRf"]
[12,12197,13,12213,13,12239,23,12252,13,12261,0,11121,null,null,"average response rate",{"$f":"J23/P44","v":289.47058823529414},{"$f":"(J39-J23)/Q44","v":255.125},{"$f":"(J56-J39)/R44","v":242},{"$f":"(J72-J56)/S44","v":215.8125},{"$f":"(J89-J72)/T44","v":232},{"$f":"(J105-J89)/U44","v":214.75}]
[12,12392,13,12403,13,12430,14,12450,24,12463,0,11112]
[12,12607,13,12629,13,12646,23,12662,13,12673,0,11121]
[12,12846,13,12865,13,12883,23,12895,13,12905,0,11121]
[12,13013,13,13058,13,13073,14,13091,13,13117,0,11111]
[12,13267,13,13280,13,13294,14,13311,24,13335,0,11112]
[12,13470,13,13479,13,13492,14,13515,24,13529,0,11112]
[12,13651,13,13668,13,13686,23,13705,13,13714,0,11121]
[12,13857,13,13887,13,13896,14,13915,13,13929,0,11111]
[12,14050,13,14077,13,14097,14,14114,24,14134,0,11112]
[12,14269,13,14309,13,14318,23,14338,13,14348,0,11121]
[12,14485,13,14501,13,14529,23,14542,13,14550,0,11121]
[12,14670,13,14679,13,14693,14,14713,24,14725,0,11112]
[12,14919,13,15023,13,15031,14,15047,13,15067,0,11111]
[12,15203,13,15223,13,15242,14,15252,13,15271,0,11111]
[12,15424,13,15434,13,15459,14,15478,13,15501,0,11111]
[12,15654,24,15668,13,15677,14,15688,13,15714,0,12111]
[12,15827,13,15841,13,15854,14,15865,13,15898,0,11111]
[12,16113,13,16140,13,16148,23,16168,13,16178,0,11121]
[12,16298,13,16322,13,16344,14,16367,13,16374,0,11111]
[12,16508,13,16524,13,16545,23,16561,13,16570,0,11121]
[12,16707,13,16722,13,16736,23,16751,13,16760,0,11121]
[12,16926,13,16934,13,16948,14,16963,13,16973,0,11111]
[12,17131,13,17144,13,17161,23,17179,13,17189,0,11121]
[12,17329,13,17347,13,17355,14,17368,13,17387,0,11111]
[21,17543,11,17560,11,17578,21,17596,22,17631,0,21122]
[12,17762,13,17776,13,17787,14,17795,13,17823,0,11111]
[12,17992,13,18049,13,18074,23,18097,13,18108,0,11121]
[12,18280,13,18300,13,18319,14,18336,24,18360,0,11112]
[12,18485,13,18513,13,18530,23,18541,13,18551,0,11121]
[12,18693,24,18707,13,18716,23,18729,13,18738,0,12121]
[12,18868,13,18883,13,18896,14,18915,24,18927,0,11112]
[12,19135,13,19144,13,19176,23,19197,13,19206,0,11121]
[12,19407,13,19424,24,19437,14,19445,24,19463,0,11212]
[12,19704,24,19723,13,19754,23,19770,24,19783,0,12122]
[12,19964,13,19981,24,19994,14,20004,24,20021,0,11212]
[12,20195,13,20212,13,20235,23,20248,13,20258,0,11121]
[21,20435,11,20449,11,20460,12,20480,13,20514,0,21111]
[12,20690,13,20707,13,20715,23,20730,13,20740,0,11121]
[12,20917,13,20936,13,20949,14,20973,24,20988,0,11112]
[21,21123,11,21135,11,21150,21,21166,11,21175,1,21121]
[12,21325,13,21361,13,21378,23,21392,13,21401,0,11121]
[12,21552,13,21573,13,21595,23,21610,13,21619,0,11121]
[12,21739,13,21748,13,21762,14,21786,24,21801,0,11112]
[12,21930,13,21943,13,21953,14,21970,13,21987,0,11111]
[12,22180,13,22201,13,22218,23,22236,13,22245,0,11121]
[12,22415,13,22437,24,22452,14,22463,24,22479,0,11212]
[21,22603,11,22613,11,22629,12,22646,13,22655,0,21111]
[12,22807,13,22822,13,22829,14,22845,13,22873,0,11111]
[12,22988,13,23000,13,23017,23,23032,13,23040,0,11121]
[21,23223,11,23233,11,23249,12,23283,13,23292,0,21111]
[12,23460,13,23479,24,23491,14,23501,24,23520,0,11212]
[12,23676,13,23686,13,23713,14,23730,13,23750,0,11111]
[12,23893,13,23902,13,23913,14,23927,13,23950,null,11111]

{"sheet":"!MA03740.010","index":6,"n_rows":118,"n_cols":48,"rows_kept":118,"cut":false,"hidden":false,"merged":[[4,39,4,42],[5,39,5,40],[4,44,4,47],[5,44,5,45],[4,24,4,27],[5,24,5,25],[4,29,4,32],[5,29,5,30],[4,34,4,37],[5,34,5,35],[1,1,1,2],[5,13,5,14],[42,13,42,14],[43,13,43,14],[4,19,4,22],[5,19,5,20]]}
["Report for:!MA03740.010"]
["Date:","<date>"]
["Hen:","<hen>",null,null,null,"Correct Sequence",{"$f":"Start!J2","v":21121},null,null,null,null,null,null,null,null,"Total Sequences in Data",{"$f":"4994-COUNTBLANK(L7:L5000)","v":112},null,null,null,null,"Total Sequences in Block Data",{"$f":"COUNTA(L7:L25)","v":19},null,null,null,"Total Sequences in Block Data",{"$f":"COUNTA(L26:L43)","v":18},null,null,null,"Total Sequences in Block Data",{"$f":"COUNTA(L44:L62)","v":19},null,null,null,"Total Sequences in Block Data",{"$f":"COUNTA(L63:L81)","v":19},null,null,null,"Total Sequences in Block Data",{"$f":"COUNTA(L82:L99)","v":18},null,null,null,"Total Sequences in Block Data",{"$f":"COUNTA(L100:L118)","v":19}]
[null,null,null,null,null,null,null,null,null,null,null,null,null,null,null,"Total Sequences in Summary",{"$f":"SUM(O7:O38)","v":111},null,null,null,null,"Total Sequences in Block Summary",{"$f":"SUM(U7:U38)","v":19},null,null,null,"Total Sequences in Block Summary",{"$f":"SUM(Z7:Z38)","v":18},null,null,null,"Total Sequences in Block Summary",{"$f":"SUM(AE7:AE38)","v":19},null,null,null,"Total Sequences in Block Summary",{"$f":"SUM(AJ7:AJ38)","v":19},null,null,null,"Total Sequences in Block Summary",{"$f":"SUM(AO7:AO38)","v":18},null,null,null,"Total Sequences in Block Summary",{"$f":"SUM(AT7:AT38)","v":18}]
[null,null,null,null,null,null,null,null,null,null,null,null,null,null,null,null,null,null,null,"Block 1",null,null,null,null,"Block 2",null,null,null,null,"Block 3",null,null,null,null,"Block 4",null,null,null,null,"Block 5",null,null,null,null,"Block 6"]
["Sequence\nComponent\n1","Time\n1","Sequence\nComponent\n2","Time\n2","Sequence\nComponent\n3","Time\n3","Sequence\nComponent\n4","Time\n4","Sequence\nComponent\n5","Time\n5","Correct?\n0=No 1=Yes","Sequence",null,"Frequency",null,"Relative Frequency","Variability",null,null,"Frequency",null,"Relative Frequency","Variability",null,"Frequency",null,"Relative Frequency","Variability",null,"Frequency",null,"Relative Frequency","Variability",null,"Frequency",null,"Relative Frequency","Variability",null,"Frequency",null,"Relative Frequency","Variability",null,"Frequency",null,"Relative Frequency","Variability"]
[21,25,22,43,13,114,14,158,24,180,0,22112,null,11111,{"$f":"COUNTIF($L$7:$L$500,N7)","v":11},{"$f":"O7/$Q$4","v":9.90990990990991E-2},{"$f":"IF(P7=0,0,(P7*((LOG(P7))/LOG(2))))","v":-0.33049393445802611},null,null,{"$f":"N7","v":11111},{"$f":"COUNTIF(L7:L25,T7)","v":5},{"$f":"U7/(W4-U25)","v":0.26315789473684209},{"$f":"IF(V7=0,0,(V7*((LOG(V7))/LOG(2))))","v":-0.50684195225163764},null,{"$f":"N7","v":11111},{"$f":"COUNTIF(L26:L43,Y7)","v":1},{"$f":"Z7/(AB4-Z25)","v":6.25E-2},{"$f":"IF(AA7=0,0,(AA7*((LOG(AA7))/LOG(2))))","v":-0.25},null,{"$f":"N7","v":11111},{"$f":"COUNTIF(L44:L62,AD7)","v":1},{"$f":"AE7/(AG4-AE25)","v":5.5555555555555552E-2},{"$f":"IF(AF7=0,0,(AF7*((LOG(AF7))/LOG(2))))","v":-0.23166250008012845},null,{"$f":"N7","v":11111},{"$f":"COUNTIF(L63:L81,AI7)","v":0},{"$f":"AJ7/(AL4-AJ25)","v":0},{"$f":"IF(AK7=0,0,(AK7*((LOG(AK7))/LOG(2))))","v":0},null,{"$f":"N7","v":11111},{"$f":"COUNTIF(L82:L99,AN7)","v":0},{"$f":"AO7/(AQ4-AO25)","v":0},{"$f":"IF(AP7=0,0,(AP7*((LOG(AP7))/LOG(2))))","v":0},null,{"$f":"N7","v":11111},{"$f":"COUNTIF(L100:L118,AS7)","v":4},{"$f":"AT7/(AV4-AT25)","v":0.23529411764705882},{"$f":"IF(AU7=0,0,(AU7*((LOG(AU7))/LOG(2))))","v":-0.49116772735302094}]
[12,299,24,313,24,328,23,422,13,441,0,12221,null,11112,{"$f":"COUNTIF($L$7:$L$500,N8)","v":8},{"$f":"O8/$Q$4","v":7.2072072072072071E-2},{"$f":"IF(P8=0,0,(P8*((LOG(P8))/LOG(2))))","v":-0.2734714137909986},null,null,{"$f":"N8","v":11112},{"$f":"COUNTIF(L7:L25,T8)","v":3},{"$f":"U8/(W4-U25)","v":0.15789473684210525},{"$f":"IF(V8=0,0,(V8*((LOG(V8))/LOG(2))))","v":-0.42046815990354147},null,{"$f":"N8","v":11112},{"$f":"COUNTIF(L26:L43,Y8)","v":2},{"$f":"Z8/(AB4-Z25)","v":0.125},{"$f":"IF(AA8=0,0,(AA8*((LOG(AA8))/LOG(2))))","v":-0.375},null,{"$f":"N8","v":11112},{"$f":"COUNTIF(L44:L62,AD8)","v":0},{"$f":"AE8/(AG4-AE25)","v":0},{"$f":"IF(AF8=0,0,(AF8*((LOG(AF8))/LOG(2))))","v":0},null,{"$f":"N8","v":11112},{"$f":"COUNTIF(L63:L81,AI8)","v":0},{"$f":"AJ8/(AL4-AJ25)","v":0},{"$f":"IF(AK8=0,0,(AK8*((LOG(AK8))/LOG(2))))","v":0},null,{"$f":"N8","v":11112},{"$f":"COUNTIF(L82:L99,AN8)","v":3},{"$f":"AO8/(AQ4-AO25)","v":0.1875},{"$f":"IF(AP8=0,0,(AP8*((LOG(AP8))/LOG(2))))","v":-0.45281953111478312},null,{"$f":"N8","v":11112},{"$f":"COUNTIF(L100:L118,AS8)","v":0},{"$f":"AT8/(AV4-AT25)","v":0},{"$f":"IF(AU8=0,0,(AU8*((LOG(AU8))/LOG(2))))","v":0}]
[21,543,11,563,22,576,14,585,24,599,0,21212,null,11121,{"$f":"COUNTIF($L$7:$L$500,N9)","v":15},{"$f":"O9/$Q$4","v":0.13513513513513514},{"$f":"IF(P9=0,0,(P9*((LOG(P9))/LOG(2))))","v":-0.39020611766778207},null,null,{"$f":"N9","v":11121},{"$f":"COUNTIF(L7:L25,T9)","v":3},{"$f":"U9/(W4-U25)","v":0.15789473684210525},{"$f":"IF(V9=0,0,(V9*((LOG(V9))/LOG(2))))","v":-0.42046815990354147},null,{"$f":"N9","v":11121},{"$f":"COUNTIF(L26:L43,Y9)","v":5},{"$f":"Z9/(AB4-Z25)","v":0.3125},{"$f":"IF(AA9=0,0,(AA9*((LOG(AA9))/LOG(2))))","v":-0.52439747034769923},null,{"$f":"N9","v":11121},{"$f":"COUNTIF(L44:L62,AD9)","v":2},{"$f":"AE9/(AG4-AE25)","v":0.1111111111111111},{"$f":"IF(AF9=0,0,(AF9*((LOG(AF9))/LOG(2))))","v":-0.3522138890491458},null,{"$f":"N9","v":11121},{"$f":"COUNTIF(L63:L81,AI9)","v":2},{"$f":"AJ9/(AL4-AJ25)","v":0.11764705882352941},{"$f":"IF(AK9=0,0,(AK9*((LOG(AK9))/LOG(2))))","v":-0.36323092250003997},null,{"$f":"N9","v":11121},{"$f":"COUNTIF(L82:L99,AN9)","v":1},{"$f":"AO9/(AQ4-AO25)","v":6.25E-2},{"$f":"IF(AP9=0,0,(AP9*((LOG(AP9))/LOG(2))))","v":-0.25},null,{"$f":"N9","v":11121},{"$f":"COUNTIF(L100:L118,AS9)","v":2},{"$f":"AT9/(AV4-AT25)","v":0.11764705882352941},{"$f":"IF(AU9=0,0,(AU9*((LOG(AU9))/LOG(2))))","v":-0.36323092250003997}]
[12,731,13,747,13,766,14,774,13,811,0,11111,null,11122,{"$f":"COUNTIF($L$7:$L$500,N10)","v":1},{"$f":"O10/$Q$4","v":9.0090090090090089E-3},{"$f":"IF(P10=0,0,(P10*((LOG(P10))/LOG(2))))","v":-6.121095375090186E-2},null,null,{"$f":"N10","v":11122},{"$f":"COUNTIF(L7:L25,T10)","v":1},{"$f":"U10/(W4-U25)","v":5.2631578947368418E-2},{"$f":"IF(V10=0,0,(V10*((LOG(V10))/LOG(2))))","v":-0.22357513228650452},null,{"$f":"N10","v":11122},{"$f":"COUNTIF(L26:L43,Y10)","v":0},{"$f":"Z10/(AB4-Z25)","v":0},{"$f":"IF(AA10=0,0,(AA10*((LOG(AA10))/LOG(2))))","v":0},null,{"$f":"N10","v":11122},{"$f":"COUNTIF(L44:L62,AD10)","v":0},{"$f":"AE10/(AG4-AE25)","v":0},{"$f":"IF(AF10=0,0,(AF10*((LOG(AF10))/LOG(2))))","v":0},null,{"$f":"N10","v":11122},{"$f":"COUNTIF(L63:L81,AI10)","v":0},{"$f":"AJ10/(AL4-AJ25)","v":0},{"$f":"IF(AK10=0,0,(AK10*((LOG(AK10))/LOG(2))))","v":0},null,{"$f":"N10","v":11122},{"$f":"COUNTIF(L82:L99,AN10)","v":0},{"$f":"AO10/(AQ4-AO25)","v":0},{"$f":"IF(AP10=0,0,(AP10*((LOG(AP10))/LOG(2))))","v":0},null,{"$f":"N10","v":11122},{"$f":"COUNTIF(L100:L118,AS10)","v":0},{"$f":"AT10/(AV4-AT25)","v":0},{"$f":"IF(AU10=0,0,(AU10*((LOG(AU10))/LOG(2))))","v":0}]
[12,1054,24,1070,13,1087,23,1104,13,1116,0,12121,null,11211,{"$f":"COUNTIF($L$7:$L$500,N11)","v":4},{"$f":"O11/$Q$4","v":3.6036036036036036E-2},{"$f":"IF(P11=0,0,(P11*((LOG(P11))/LOG(2))))","v":-0.17277174293153535},null,null,{"$f":"N11","v":11211},{"$f":"COUNTIF(L7:L25,T11)","v":0},{"$f":"U11/(W4-U25)","v":0},{"$f":"IF(V11=0,0,(V11*((LOG(V11))/LOG(2))))","v":0},null,{"$f":"N11","v":11211},{"$f":"COUNTIF(L26:L43,Y11)","v":1},{"$f":"Z11/(AB4-Z25)","v":6.25E-2},{"$f":"IF(AA11=0,0,(AA11*((LOG(AA11))/LOG(2))))","v":-0.25},null,{"$f":"N11","v":11211},{"$f":"COUNTIF(L44:L62,AD11)","v":2},{"$f":"AE11/(AG4-AE25)","v":0.1111111111111111},{"$f":"IF(AF11=0,0,(AF11*((LOG(AF11))/LOG(2))))","v":-0.3522138890491458},null,{"$f":"N11","v":11211},{"$f":"COUNTIF(L63:L81,AI11)","v":1},{"$f":"AJ11/(AL4-AJ25)","v":5.8823529411764705E-2},{"$f":"IF(AK11=0,0,(AK11*((LOG(AK11))/LOG(2))))","v":-0.24043899066178465},null,{"$f":"N11","v":11211},{"$f":"COUNTIF(L82:L99,AN11)","v":0},{"$f":"AO11/(AQ4-AO25)","v":0},{"$f":"IF(AP11=0,0,(AP11*((LOG(AP11))/LOG(2))))","v":0},null,{"$f":"N11","v":11211},{"$f":"COUNTIF(L100:L118,AS11)","v":0},{"$f":"AT11/(AV4-AT25)","v":0},{"$f":"IF(AU11=0,0,(AU11*((LOG(AU11))/LOG(2))))","v":0}]
[12,1319,13,1515,13,1529,14,1553,24,1568,0,11112,null,11212,{"$f":"COUNTIF($L$7:$L$500,N12)","v":11},{"$f":"O12/$Q$4","v":9.90990990990991E-2},{"$f":"IF(P12=0,0,(P12*((LOG(P12))/LOG(2))))","v":-0.33049393445802611},null,null,{"$f":"N12","v":11212},{"$f":"COUNTIF(L7:L25,T12)","v":1},{"$f":"U12/(W4-U25)","v":5.2631578947368418E-2},{"$f":"IF(V12=0,0,(V12*((LOG(V12))/LOG(2))))","v":-0.22357513228650452},null,{"$f":"N12","v":11212},{"$f":"COUNTIF(L26:L43,Y12)","v":1},{"$f":"Z12/(AB4-Z25)","v":6.25E-2},{"$f":"IF(AA12=0,0,(AA12*((LOG(AA12))/LOG(2))))","v":-0.25},null,{"$f":"N12","v":11212},{"$f":"COUNTIF(L44:L62,AD12)","v":2},{"$f":"AE12/(AG4-AE25)","v":0.1111111111111111},{"$f":"IF(AF12=0,0,(AF12*((LOG(AF12))/LOG(2))))","v":-0.3522138890491458},null,{"$f":"N12","v":11212},{"$f":"COUNTIF(L63:L81,AI12)","v":3},{"$f":"AJ12/(AL4-AJ25)","v":0.17647058823529413},{"$f":"IF(AK12=0,0,(AK12*((LOG(AK12))/LOG(2))))","v":-0.44161770715220888},null,{"$f":"N12","v":11212},{"$f":"COUNTIF(L82:L99,AN12)","v":2},{"$f":"AO12/(AQ4-AO25)","v":0.125},{"$f":"IF(AP12=0,0,(AP12*((LOG(AP12))/LOG(2))))","v":-0.375},null,{"$f":"N12","v":11212},{"$f":"COUNTIF(L100:L118,AS12)","v":2},{"$f":"AT12/(AV4-AT25)","v":0.11764705882352941},{"$f":"IF(AU12=0,0,(AU12*((LOG(AU12))/LOG(2))))","v":-0.36323092250003997}]
[12,1698,13,1712,13,1733,14,1752,13,1770,0,11111,null,11221,{"$f":"COUNTIF($L$7:$L$500,N13)","v":2},{"$f":"O13/$Q$4","v":1.8018018018018018E-2},{"$f":"IF(P13=0,0,(P13*((LOG(P13))/LOG(2))))","v":-0.10440388948378569},null,null,{"$f":"N13","v":11221},{"$f":"COUNTIF(L7:L25,T13)","v":1},{"$f":"U13/(W4-U25)","v":5.2631578947368418E-2},{"$f":"IF(V13=0,0,(V13*((LOG(V13))/LOG(2))))","v":-0.22357513228650452},null,{"$f":"N13","v":11221},{"$f":"COUNTIF(L26:L43,Y13)","v":0},{"$f":"Z13/(AB4-Z25)","v":0},{"$f":"IF(AA13=0,0,(AA13*((LOG(AA13))/LOG(2))))","v":0},null,{"$f":"N13","v":11221},{"$f":"COUNTIF(L44:L62,AD13)","v":0},{"$f":"AE13/(AG4-AE25)","v":0},{"$f":"IF(AF13=0,0,(AF13*((LOG(AF13))/LOG(2))))","v":0},null,{"$f":"N13","v":11221},{"$f":"COUNTIF(L63:L81,AI13)","v":0},{"$f":"AJ13/(AL4-AJ25)","v":0},{"$f":"IF(AK13=0,0,(AK13*((LOG(AK13))/LOG(2))))","v":0},null,{"$f":"N13","v":11221},{"$f":"COUNTIF(L82:L99,AN13)","v":0},{"$f":"AO13/(AQ4-AO25)","v":0},{"$f":"IF(AP13=0,0,(AP13*((LOG(AP13))/LOG(2))))","v":0},null,{"$f":"N13","v":11221},{"$f":"COUNTIF(L100:L118,AS13)","v":1},{"$f":"AT13/(AV4-AT25)","v":5.8823529411764705E-2},{"$f":"IF(AU13=0,0,(AU13*((LOG(AU13))/LOG(2))))","v":-0.24043899066178465}]
[12,1905,13,1934,13,1943,23,1960,24,1983,0,11122,null,11222,{"$f":"COUNTIF($L$7:$L$500,N14)","v":2},{"$f":"O14/$Q$4","v":1.8018018018018018E-2},{"$f":"IF(P14=0,0,(P14*((LOG(P14))/LOG(2))))","v":-0.10440388948378569},null,null,{"$f":"N14","v":11222},{"$f":"COUNTIF(L7:L25,T14)","v":0},{"$f":"U14/(W4-U25)","v":0},{"$f":"IF(V14=0,0,(V14*((LOG(V14))/LOG(2))))","v":0},null,{"$f":"N14","v":11222},{"$f":"COUNTIF(L26:L43,Y14)","v":0},{"$f":"Z14/(AB4-Z25)","v":0},{"$f":"IF(AA14=0,0,(AA14*((LOG(AA14))/LOG(2))))","v":0},null,{"$f":"N14","v":11222},{"$f":"COUNTIF(L44:L62,AD14)","v":0},{"$f":"AE14/(AG4-AE25)","v":0},{"$f":"IF(AF14=0,0,(AF14*((LOG(AF14))/LOG(2))))","v":0},null,{"$f":"N14","v":11222},{"$f":"COUNTIF(L63:L81,AI14)","v":0},{"$f":"AJ14/(AL4-AJ25)","v":0},{"$f":"IF(AK14=0,0,(AK14*((LOG(AK14))/LOG(2))))","v":0},null,{"$f":"N14","v":11222},{"$f":"COUNTIF(L82:L99,AN14)","v":2},{"$f":"AO14/(AQ4-AO25)","v":0.125},{"$f":"IF(AP14=0,0,(AP14*((LOG(AP14))/LOG(2))))","v":-0.375},null,{"$f":"N14","v":11222},{"$f":"COUNTIF(L100:L118,AS14)","v":0},{"$f":"AT14/(AV4-AT25)","v":0},{"$f":"IF(AU14=0,0,(AU14*((LOG(AU14))/LOG(2))))","v":0}]
[12,2212,13,2227,24,2241,14,2252,24,2269,0,11212,null,12111,{"$f":"COUNTIF($L$7:$L$500,N15)","v":4},{"$f":"O15/$Q$4","v":3.6036036036036036E-2},{"$f":"IF(P15=0,0,(P15*((LOG(P15))/LOG(2))))","v":-0.17277174293153535},null,null,{"$f":"N15","v":12111},{"$f":"COUNTIF(L7:L25,T15)","v":0},{"$f":"U15/(W4-U25)","v":0},{"$f":"IF(V15=0,0,(V15*((LOG(V15))/LOG(2))))","v":0},null,{"$f":"N15","v":12111},{"$f":"COUNTIF(L26:L43,Y15)","v":0},{"$f":"Z15/(AB4-Z25)","v":0},{"$f":"IF(AA15=0,0,(AA15*((LOG(AA15))/LOG(2))))","v":0},null,{"$f":"N15","v":12111},{"$f":"COUNTIF(L44:L62,AD15)","v":0},{"$f":"AE15/(AG4-AE25)","v":0},{"$f":"IF(AF15=0,0,(AF15*((LOG(AF15))/LOG(2))))","v":0},null,{"$f":"N15","v":12111},{"$f":"COUNTIF(L63:L81,AI15)","v":0},{"$f":"AJ15/(AL4-AJ25)","v":0},{"$f":"IF(AK15=0,0,(AK15*((LOG(AK15))/LOG(2))))","v":0},null,{"$f":"N15","v":12111},{"$f":"COUNTIF(L82:L99,AN15)","v":1},{"$f":"AO15/(AQ4-AO25)","v":6.25E-2},{"$f":"IF(AP15=0,0,(AP15*((LOG(AP15))/LOG(2))))","v":-0.25},null,{"$f":"N15","v":12111},{"$f":"COUNTIF(L100:L118,AS15)","v":3},{"$f":"AT15/(AV4-AT25)","v":0.17647058823529413},{"$f":"IF(AU15=0,0,(AU15*((LOG(AU15))/LOG(2))))","v":-0.44161770715220888}]
[12,2434,13,2460,24,2475,23,2507,13,2516,0,11221,null,12112,{"$f":"COUNTIF($L$7:$L$500,N16)","v":3},{"$f":"O16/$Q$4","v":2.7027027027027029E-2},{"$f":"IF(P16=0,0,(P16*((LOG(P16))/LOG(2))))","v":-0.14079603690889056},null,null,{"$f":"N16","v":12112},{"$f":"COUNTIF(L7:L25,T16)","v":0},{"$f":"U16/(W4-U25)","v":0},{"$f":"IF(V16=0,0,(V16*((LOG(V16))/LOG(2))))","v":0},null,{"$f":"N16","v":12112},{"$f":"COUNTIF(L26:L43,Y16)","v":0},{"$f":"Z16/(AB4-Z25)","v":0},{"$f":"IF(AA16=0,0,(AA16*((LOG(AA16))/LOG(2))))","v":0},null,{"$f":"N16","v":12112},{"$f":"COUNTIF(L44:L62,AD16)","v":1},{"$f":"AE16/(AG4-AE25)","v":5.5555555555555552E-2},{"$f":"IF(AF16=0,0,(AF16*((LOG(AF16))/LOG(2))))","v":-0.23166250008012845},null,{"$f":"N16","v":12112},{"$f":"COUNTIF(L63:L81,AI16)","v":0},{"$f":"AJ16/(AL4-AJ25)","v":0},{"$f":"IF(AK16=0,0,(AK16*((LOG(AK16))/LOG(2))))","v":0},null,{"$f":"N16","v":12112},{"$f":"COUNTIF(L82:L99,AN16)","v":1},{"$f":"AO16/(AQ4-AO25)","v":6.25E-2},{"$f":"IF(AP16=0,0,(AP16*((LOG(AP16))/LOG(2))))","v":-0.25},null,{"$f":"N16","v":12112},{"$f":"COUNTIF(L100:L118,AS16)","v":1},{"$f":"AT16/(AV4-AT25)","v":5.8823529411764705E-2},{"$f":"IF(AU16=0,0,(AU16*((LOG(AU16))/LOG(2))))","v":-0.24043899066178465}]
[12,2703,13,2720,13,2741,23,2759,13,2775,0,11121,null,12121,{"$f":"COUNTIF($L$7:$L$500,N17)","v":11},{"$f":"O17/$Q$4","v":9.90990990990991E-2},{"$f":"IF(P17=0,0,(P17*((LOG(P17))/LOG(2))))","v":-0.33049393445802611},null,null,{"$f":"N17","v":12121},{"$f":"COUNTIF(L7:L25,T17)","v":1},{"$f":"U17/(W4-U25)","v":5.2631578947368418E-2},{"$f":"IF(V17=0,0,(V17*((LOG(V17))/LOG(2))))","v":-0.22357513228650452},null,{"$f":"N17","v":12121},{"$f":"COUNTIF(L26:L43,Y17)","v":3},{"$f":"Z17/(AB4-Z25)","v":0.1875},{"$f":"IF(AA17=0,0,(AA17*((LOG(AA17))/LOG(2))))","v":-0.45281953111478312},null,{"$f":"N17","v":12121},{"$f":"COUNTIF(L44:L62,AD17)","v":1},{"$f":"AE17/(AG4-AE25)","v":5.5555555555555552E-2},{"$f":"IF(AF17=0,0,(AF17*((LOG(AF17))/LOG(2))))","v":-0.23166250008012845},null,{"$f":"N17","v":12121},{"$f":"COUNTIF(L63:L81,AI17)","v":1},{"$f":"AJ17/(AL4-AJ25)","v":5.8823529411764705E-2},{"$f":"IF(AK17=0,0,(AK17*((LOG(AK17))/LOG(2))))","v":-0.24043899066178465},null,{"$f":"N17","v":12121},{"$f":"COUNTIF(L82:L99,AN17)","v":3},{"$f":"AO17/(AQ4-AO25)","v":0.1875},{"$f":"IF(AP17=0,0,(AP17*((LOG(AP17))/LOG(2))))","v":-0.45281953111478312},null,{"$f":"N17","v":12121},{"$f":"COUNTIF(L100:L118,AS17)","v":2},{"$f":"AT17/(AV4-AT25)","v":0.11764705882352941},{"$f":"IF(AU17=0,0,(AU17*((LOG(AU17))/LOG(2))))","v":-0.36323092250003997}]
[12,2957,13,2972,13,2989,14,3029,13,3065,0,11111,null,12122,{"$f":"COUNTIF($L$7:$L$500,N18)","v":2},{"$f":"O18/$Q$4","v":1.8018018018018018E-2},{"$f":"IF(P18=0,0,(P18*((LOG(P18))/LOG(2))))","v":-0.10440388948378569},null,null,{"$f":"N18","v":12122},{"$f":"COUNTIF(L7:L25,T18)","v":0},{"$f":"U18/(W4-U25)","v":0},{"$f":"IF(V18=0,0,(V18*((LOG(V18))/LOG(2))))","v":0},null,{"$f":"N18","v":12122},{"$f":"COUNTIF(L26:L43,Y18)","v":0},{"$f":"Z18/(AB4-Z25)","v":0},{"$f":"IF(AA18=0,0,(AA18*((LOG(AA18))/LOG(2))))","v":0},null,{"$f":"N18","v":12122},{"$f":"COUNTIF(L44:L62,AD18)","v":2},{"$f":"AE18/(AG4-AE25)","v":0.1111111111111111},{"$f":"IF(AF18=0,0,(AF18*((LOG(AF18))/LOG(2))))","v":-0.3522138890491458},null,{"$f":"N18","v":12122},{"$f":"COUNTIF(L63:L81,AI18)","v":0},{"$f":"AJ18/(AL4-AJ25)","v":0},{"$f":"IF(AK18=0,0,(AK18*((LOG(AK18))/LOG(2))))","v":0},null,{"$f":"N18","v":12122},{"$f":"COUNTIF(L82:L99,AN18)","v":0},{"$f":"AO18/(AQ4-AO25)","v":0},{"$f":"IF(AP18=0,0,(AP18*((LOG(AP18))/LOG(2))))","v":0},null,{"$f":"N18","v":12122},{"$f":"COUNTIF(L100:L118,AS18)","v":0},{"$f":"AT18/(AV4-AT25)","v":0},{"$f":"IF(AU18=0,0,(AU18*((LOG(AU18))/LOG(2))))","v":0}]
[12,3200,13,3239,13,3249,14,3260,24,3278,0,11112,null,12211,{"$f":"COUNTIF($L$7:$L$500,N19)","v":1},{"$f":"O19/$Q$4","v":9.0090090090090089E-3},{"$f":"IF(P19=0,0,(P19*((LOG(P19))/LOG(2))))","v":-6.121095375090186E-2},null,null,{"$f":"N19","v":12211},{"$f":"COUNTIF(L7:L25,T19)","v":0},{"$f":"U19/(W4-U25)","v":0},{"$f":"IF(V19=0,0,(V19*((LOG(V19))/LOG(2))))","v":0},null,{"$f":"N19","v":12211},{"$f":"COUNTIF(L26:L43,Y19)","v":0},{"$f":"Z19/(AB4-Z25)","v":0},{"$f":"IF(AA19=0,0,(AA19*((LOG(AA19))/LOG(2))))","v":0},null,{"$f":"N19","v":12211},{"$f":"COUNTIF(L44:L62,AD19)","v":0},{"$f":"AE19/(AG4-AE25)","v":0},{"$f":"IF(AF19=0,0,(AF19*((LOG(AF19))/LOG(2))))","v":0},null,{"$f":"N19","v":12211},{"$f":"COUNTIF(L63:L81,AI19)","v":0},{"$f":"AJ19/(AL4-AJ25)","v":0},{"$f":"IF(AK19=0,0,(AK19*((LOG(AK19))/LOG(2))))","v":0},null,{"$f":"N19","v":12211},{"$f":"COUNTIF(L82:L99,AN19)","v":0},{"$f":"AO19/(AQ4-AO25)","v":0},{"$f":"IF(AP19=0,0,(AP19*((LOG(AP19))/LOG(2))))","v":0},null,{"$f":"N19","v":12211},{"$f":"COUNTIF(L100:L118,AS19)","v":1},{"$f":"AT19/(AV4-AT25)","v":5.8823529411764705E-2},{"$f":"IF(AU19=0,0,(AU19*((LOG(AU19))/LOG(2))))","v":-0.24043899066178465}]
[12,3421,13,3433,13,3463,14,3484,24,3500,0,11112,null,12212,{"$f":"COUNTIF($L$7:$L$500,N20)","v":2},{"$f":"O20/$Q$4","v":1.8018018018018018E-2},{"$f":"IF(P20=0,0,(P20*((LOG(P20))/LOG(2))))","v":-0.10440388948378569},null,null,{"$f":"N20","v":12212},{"$f":"COUNTIF(L7:L25,T20)","v":0},{"$f":"U20/(W4-U25)","v":0},{"$f":"IF(V20=0,0,(V20*((LOG(V20))/LOG(2))))","v":0},null,{"$f":"N20","v":12212},{"$f":"COUNTIF(L26:L43,Y20)","v":0},{"$f":"Z20/(AB4-Z25)","v":0},{"$f":"IF(AA20=0,0,(AA20*((LOG(AA20))/LOG(2))))","v":0},null,{"$f":"N20","v":12212},{"$f":"COUNTIF(L44:L62,AD20)","v":1},{"$f":"AE20/(AG4-AE25)","v":5.5555555555555552E-2},{"$f":"IF(AF20=0,0,(AF20*((LOG(AF20))/LOG(2))))","v":-0.23166250008012845},null,{"$f":"N20","v":12212},{"$f":"COUNTIF(L63:L81,AI20)","v":0},{"$f":"AJ20/(AL4-AJ25)","v":0},{"$f":"IF(AK20=0,0,(AK20*((LOG(AK20))/LOG(2))))","v":0},null,{"$f":"N20","v":12212},{"$f":"COUNTIF(L82:L99,AN20)","v":1},{"$f":"AO20/(AQ4-AO25)","v":6.25E-2},{"$f":"IF(AP20=0,0,(AP20*((LOG(AP20))/LOG(2))))","v":-0.25},null,{"$f":"N20","v":12212},{"$f":"COUNTIF(L100:L118,AS20)","v":0},{"$f":"AT20/(AV4-AT25)","v":0},{"$f":"IF(AU20=0,0,(AU20*((LOG(AU20))/LOG(2))))","v":0}]
[12,3653,13,3688,13,3699,14,3710,13,3741,0,11111,null,12221,{"$f":"COUNTIF($L$7:$L$500,N21)","v":5},{"$f":"O21/$Q$4","v":4.5045045045045043E-2},{"$f":"IF(P21=0,0,(P21*((LOG(P21))/LOG(2))))","v":-0.20146341312895241},null,null,{"$f":"N21","v":12221},{"$f":"COUNTIF(L7:L25,T21)","v":1},{"$f":"U21/(W4-U25)","v":5.2631578947368418E-2},{"$f":"IF(V21=0,0,(V21*((LOG(V21))/LOG(2))))","v":-0.22357513228650452},null,{"$f":"N21","v":12221},{"$f":"COUNTIF(L26:L43,Y21)","v":0},{"$f":"Z21/(AB4-Z25)","v":0},{"$f":"IF(AA21=0,0,(AA21*((LOG(AA21))/LOG(2))))","v":0},null,{"$f":"N21","v":12221},{"$f":"COUNTIF(L44:L62,AD21)","v":2},{"$f":"AE21/(AG4-AE25)","v":0.1111111111111111},{"$f":"IF(AF21=0,0,(AF21*((LOG(AF21))/LOG(2))))","v":-0.3522138890491458},null,{"$f":"N21","v":12221},{"$f":"COUNTIF(L63:L81,AI21)","v":1},{"$f":"AJ21/(AL4-AJ25)","v":5.8823529411764705E-2},{"$f":"IF(AK21=0,0,(AK21*((LOG(AK21))/LOG(2))))","v":-0.24043899066178465},null,{"$f":"N21","v":12221},{"$f":"COUNTIF(L82:L99,AN21)","v":1},{"$f":"AO21/(AQ4-AO25)","v":6.25E-2},{"$f":"IF(AP21=0,0,(AP21*((LOG(AP21))/LOG(2))))","v":-0.25},null,{"$f":"N21","v":12221},{"$f":"COUNTIF(L100:L118,AS21)","v":0},{"$f":"AT21/(AV4-AT25)","v":0},{"$f":"IF(AU21=0,0,(AU21*((LOG(AU21))/LOG(2))))","v":0}]
[12,3875,13,3890,13,3914,23,3930,13,3948,0,11121,null,12222,{"$f":"COUNTIF($L$7:$L$500,N22)","v":4},{"$f":"O22/$Q$4","v":3.6036036036036036E-2},{"$f":"IF(P22=0,0,(P22*((LOG(P22))/LOG(2))))","v":-0.17277174293153535},null,null,{"$f":"N22","v":12222},{"$f":"COUNTIF(L7:L25,T22)","v":0},{"$f":"U22/(W4-U25)","v":0},{"$f":"IF(V22=0,0,(V22*((LOG(V22))/LOG(2))))","v":0},null,{"$f":"N22","v":12222},{"$f":"COUNTIF(L26:L43,Y22)","v":0},{"$f":"Z22/(AB4-Z25)","v":0},{"$f":"IF(AA22=0,0,(AA22*((LOG(AA22))/LOG(2))))","v":0},null,{"$f":"N22","v":12222},{"$f":"COUNTIF(L44:L62,AD22)","v":1},{"$f":"AE22/(AG4-AE25)","v":5.5555555555555552E-2},{"$f":"IF(AF22=0,0,(AF22*((LOG(AF22))/LOG(2))))","v":-0.23166250008012845},null,{"$f":"N22","v":12222},{"$f":"COUNTIF(L63:L81,AI22)","v":2},{"$f":"AJ22/(AL4-AJ25)","v":0.11764705882352941},{"$f":"IF(AK22=0,0,(AK22*((LOG(AK22))/LOG(2))))","v":-0.36323092250003997},null,{"$f":"N22","v":12222},{"$f":"COUNTIF(L82:L99,AN22)","v":1},{"$f":"AO22/(AQ4-AO25)","v":6.25E-2},{"$f":"IF(AP22=0,0,(AP22*((LOG(AP22))/LOG(2))))","v":-0.25},null,{"$f":"N22","v":12222},{"$f":"COUNTIF(L100:L118,AS22)","v":0},{"$f":"AT22/(AV4-AT25)","v":0},{"$f":"IF(AU22=0,0,(AU22*((LOG(AU22))/LOG(2))))","v":0}]
[21,4218,11,4230,11,4245,12,4268,24,4285,0,21112,null,21111,{"$f":"COUNTIF($L$7:$L$500,N23)","v":2},{"$f":"O23/$Q$4","v":1.8018018018018018E-2},{"$f":"IF(P23=0,0,(P23*((LOG(P23))/LOG(2))))","v":-0.10440388948378569},null,null,{"$f":"N23","v":21111},{"$f":"COUNTIF(L7:L25,T23)","v":0},{"$f":"U23/(W4-U25)","v":0},{"$f":"IF(V23=0,0,(V23*((LOG(V23))/LOG(2))))","v":0},null,{"$f":"N23","v":21111},{"$f":"COUNTIF(L26:L43,Y23)","v":2},{"$f":"Z23/(AB4-Z25)","v":0.125},{"$f":"IF(AA23=0,0,(AA23*((LOG(AA23))/LOG(2))))","v":-0.375},null,{"$f":"N23","v":21111},{"$f":"COUNTIF(L44:L62,AD23)","v":0},{"$f":"AE23/(AG4-AE25)","v":0},{"$f":"IF(AF23=0,0,(AF23*((LOG(AF23))/LOG(2))))","v":0},null,{"$f":"N23","v":21111},{"$f":"COUNTIF(L63:L81,AI23)","v":0},{"$f":"AJ23/(AL4-AJ25)","v":0},{"$f":"IF(AK23=0,0,(AK23*((LOG(AK23))/LOG(2))))","v":0},null,{"$f":"N23","v":21111},{"$f":"COUNTIF(L82:L99,AN23)","v":0},{"$f":"AO23/(AQ4-AO25)","v":0},{"$f":"IF(AP23=0,0,(AP23*((LOG(AP23))/LOG(2))))","v":0},null,{"$f":"N23","v":21111},{"$f":"COUNTIF(L100:L118,AS23)","v":0},{"$f":"AT23/(AV4-AT25)","v":0},{"$f":"IF(AU23=0,0,(AU23*((LOG(AU23))/LOG(2))))","v":0}]
[12,4748,13,4766,13,4781,23,4802,13,4858,0,11121,null,21112,{"$f":"COUNTIF($L$7:$L$500,N24)","v":4},{"$f":"O24/$Q$4","v":3.6036036036036036E-2},{"$f":"IF(P24=0,0,(P24*((LOG(P24))/LOG(2))))","v":-0.17277174293153535},null,null,{"$f":"N24","v":21112},{"$f":"COUNTIF(L7:L25,T24)","v":1},{"$f":"U24/(W4-U25)","v":5.2631578947368418E-2},{"$f":"IF(V24=0,0,(V24*((LOG(V24))/LOG(2))))","v":-0.22357513228650452},null,{"$f":"N24","v":21112},{"$f":"COUNTIF(L26:L43,Y24)","v":1},{"$f":"Z24/(AB4-Z25)","v":6.25E-2},{"$f":"IF(AA24=0,0,(AA24*((LOG(AA24))/LOG(2))))","v":-0.25},null,{"$f":"N24","v":21112},{"$f":"COUNTIF(L44:L62,AD24)","v":2},{"$f":"AE24/(AG4-AE25)","v":0.1111111111111111},{"$f":"IF(AF24=0,0,(AF24*((LOG(AF24))/LOG(2))))","v":-0.3522138890491458},null,{"$f":"N24","v":21112},{"$f":"COUNTIF(L63:L81,AI24)","v":0},{"$f":"AJ24/(AL4-AJ25)","v":0},{"$f":"IF(AK24=0,0,(AK24*((LOG(AK24))/LOG(2))))","v":0},null,{"$f":"N24","v":21112},{"$f":"COUNTIF(L82:L99,AN24)","v":0},{"$f":"AO24/(AQ4-AO25)","v":0},{"$f":"IF(AP24=0,0,(AP24*((LOG(AP24))/LOG(2))))","v":0},null,{"$f":"N24","v":21112},{"$f":"COUNTIF(L100:L118,AS24)","v":0},{"$f":"AT24/(AV4-AT25)","v":0},{"$f":"IF(AU24=0,0,(AU24*((LOG(AU24))/LOG(2))))","v":0}]
[12,5027,13,5051,13,5067,14,5084,13,5102,0,11111,null,21121,{"$f":"COUNTIF($L$7:$L$500,N25)","v":8},{"$f":"O25/$Q$4","v":7.2072072072072071E-2},{"$f":"IF(P25=0,0,(P25*((LOG(P25))/LOG(2))))","v":-0.2734714137909986},null,null,{"$f":"N25","v":21121},{"$f":"COUNTIF(L7:L25,T25)","v":0},null,null,null,{"$f":"N25","v":21121},{"$f":"COUNTIF(L26:L43,Y25)","v":2},null,null,null,{"$f":"N25","v":21121},{"$f":"COUNTIF(L44:L62,AD25)","v":1},null,null,null,{"$f":"N25","v":21121},{"$f":"COUNTIF(L63:L81,AI25)","v":2},null,null,null,{"$f":"N25","v":21121},{"$f":"COUNTIF(L82:L99,AN25)","v":2},null,null,null,{"$f":"N25","v":21121},{"$f":"COUNTIF(L100:L118,AS25)","v":1}]
[12,5253,13,5269,13,5298,23,5317,13,5331,0,11121,null,21122,{"$f":"COUNTIF($L$7:$L$500,N26)","v":0},{"$f":"O26/$Q$4","v":0},{"$f":"IF(P26=0,0,(P26*((LOG(P26))/LOG(2))))","v":0},null,null,{"$f":"N26","v":21122},{"$f":"COUNTIF(L7:L25,T26)","v":0},{"$f":"U26/(W4-U25)","v":0},{"$f":"IF(V26=0,0,(V26*((LOG(V26))/LOG(2))))","v":0},null,{"$f":"N26","v":21122},{"$f":"COUNTIF(L26:L43,Y26)","v":0},{"$f":"Z26/(AB4-Z25)","v":0},{"$f":"IF(AA26=0,0,(AA26*((LOG(AA26))/LOG(2))))","v":0},null,{"$f":"N26","v":21122},{"$f":"COUNTIF(L44:L62,AD26)","v":0},{"$f":"AE26/(AG4-AE25)","v":0},{"$f":"IF(AF26=0,0,(AF26*((LOG(AF26))/LOG(2))))","v":0},null,{"$f":"N26","v":21122},{"$f":"COUNTIF(L63:L81,AI26)","v":0},{"$f":"AJ26/(AL4-AJ25)","v":0},{"$f":"IF(AK26=0,0,(AK26*((LOG(AK26))/LOG(2))))","v":0},null,{"$f":"N26","v":21122},{"$f":"COUNTIF(L82:L99,AN26)","v":0},{"$f":"AO26/(AQ4-AO25)","v":0},{"$f":"IF(AP26=0,0,(AP26*((LOG(AP26))/LOG(2))))","v":0},null,{"$f":"N26","v":21122},{"$f":"COUNTIF(L100:L118,AS26)","v":0},{"$f":"AT26/(AV4-AT25)","v":0},{"$f":"IF(AU26=0,0,(AU26*((LOG(AU26))/LOG(2))))","v":0}]
[12,5565,13,5706,13,5721,14,5737,24,5753,0,11112,null,21211,{"$f":"COUNTIF($L$7:$L$500,N27)","v":2},{"$f":"O27/$Q$4","v":1.8018018018018018E-2},{"$f":"IF(P27=0,0,(P27*((LOG(P27))/LOG(2))))","v":-0.10440388948378569},null,null,{"$f":"N27","v":21211},{"$f":"COUNTIF(L7:L25,T27)","v":0},{"$f":"U27/(W4-U25)","v":0},{"$f":"IF(V27=0,0,(V27*((LOG(V27))/LOG(2))))","v":0},null,{"$f":"N27","v":21211},{"$f":"COUNTIF(L26:L43,Y27)","v":0},{"$f":"Z27/(AB4-Z25)","v":0},{"$f":"IF(AA27=0,0,(AA27*((LOG(AA27))/LOG(2))))","v":0},null,{"$f":"N27","v":21211},{"$f":"COUNTIF(L44:L62,AD27)","v":1},{"$f":"AE27/(AG4-AE25)","v":5.5555555555555552E-2},{"$f":"IF(AF27=0,0,(AF27*((LOG(AF27))/LOG(2))))","v":-0.23166250008012845},null,{"$f":"N27","v":21211},{"$f":"COUNTIF(L63:L81,AI27)","v":1},{"$f":"AJ27/(AL4-AJ25)","v":5.8823529411764705E-2},{"$f":"IF(AK27=0,0,(AK27*((LOG(AK27))/LOG(2))))","v":-0.24043899066178465},null,{"$f":"N27","v":21211},{"$f":"COUNTIF(L82:L99,AN27)","v":0},{"$f":"AO27/(AQ4-AO25)","v":0},{"$f":"IF(AP27=0,0,(AP27*((LOG(AP27))/LOG(2))))","v":0},null,{"$f":"N27","v":21211},{"$f":"COUNTIF(L100:L118,AS27)","v":0},{"$f":"AT27/(AV4-AT25)","v":0},{"$f":"IF(AU27=0,0,(AU27*((LOG(AU27))/LOG(2))))","v":0}]
[12,5934,13,5968,13,5979,23,6002,13,6011,0,11121,null,21212,{"$f":"COUNTIF($L$7:$L$500,N28)","v":7},{"$f":"O28/$Q$4","v":6.3063063063063057E-2},{"$f":"IF(P28=0,0,(P28*((LOG(P28))/LOG(2))))","v":-0.25143627576619382},null,null,{"$f":"N28","v":21212},{"$f":"COUNTIF(L7:L25,T28)","v":1},{"$f":"U28/(W4-U25)","v":5.2631578947368418E-2},{"$f":"IF(V28=0,0,(V28*((LOG(V28))/LOG(2))))","v":-0.22357513228650452},null,{"$f":"N28","v":21212},{"$f":"COUNTIF(L26:L43,Y28)","v":0},{"$f":"Z28/(AB4-Z25)","v":0},{"$f":"IF(AA28=0,0,(AA28*((LOG(AA28))/LOG(2))))","v":0},null,{"$f":"N28","v":21212},{"$f":"COUNTIF(L44:L62,AD28)","v":0},{"$f":"AE28/(AG4-AE25)","v":0},{"$f":"IF(AF28=0,0,(AF28*((LOG(AF28))/LOG(2))))","v":0},null,{"$f":"N28","v":21212},{"$f":"COUNTIF(L63:L81,AI28)","v":5},{"$f":"AJ28/(AL4-AJ25)","v":0.29411764705882354},{"$f":"IF(AK28=0,0,(AK28*((LOG(AK28))/LOG(2))))","v":-0.51927492540087561},null,{"$f":"N28","v":21212},{"$f":"COUNTIF(L82:L99,AN28)","v":0},{"$f":"AO28/(AQ4-AO25)","v":0},{"$f":"IF(AP28=0,0,(AP28*((LOG(AP28))/LOG(2))))","v":0},null,{"$f":"N28","v":21212},{"$f":"COUNTIF(L100:L118,AS28)","v":1},{"$f":"AT28/(AV4-AT25)","v":5.8823529411764705E-2},{"$f":"IF(AU28=0,0,(AU28*((LOG(AU28))/LOG(2))))","v":-0.24043899066178465}]
[12,6777,13,6790,13,6811,14,6826,24,6840,0,11112,null,21221,{"$f":"COUNTIF($L$7:$L$500,N29)","v":0},{"$f":"O29/$Q$4","v":0},{"$f":"IF(P29=0,0,(P29*((LOG(P29))/LOG(2))))","v":0},null,null,{"$f":"N29","v":21221},{"$f":"COUNTIF(L7:L25,T29)","v":0},{"$f":"U29/(W4-U25)","v":0},{"$f":"IF(V29=0,0,(V29*((LOG(V29))/LOG(2))))","v":0},null,{"$f":"N29","v":21221},{"$f":"COUNTIF(L26:L43,Y29)","v":0},{"$f":"Z29/(AB4-Z25)","v":0},{"$f":"IF(AA29=0,0,(AA29*((LOG(AA29))/LOG(2))))","v":0},null,{"$f":"N29","v":21221},{"$f":"COUNTIF(L44:L62,AD29)","v":0},{"$f":"AE29/(AG4-AE25)","v":0},{"$f":"IF(AF29=0,0,(AF29*((LOG(AF29))/LOG(2))))","v":0},null,{"$f":"N29","v":21221},{"$f":"COUNTIF(L63:L81,AI29)","v":0},{"$f":"AJ29/(AL4-AJ25)","v":0},{"$f":"IF(AK29=0,0,(AK29*((LOG(AK29))/LOG(2))))","v":0},null,{"$f":"N29","v":21221},{"$f":"COUNTIF(L82:L99,AN29)","v":0},{"$f":"AO29/(AQ4-AO25)","v":0},{"$f":"IF(AP29=0,0,(AP29*((LOG(AP29))/LOG(2))))","v":0},null,{"$f":"N29","v":21221},{"$f":"COUNTIF(L100:L118,AS29)","v":0},{"$f":"AT29/(AV4-AT25)","v":0},{"$f":"IF(AU29=0,0,(AU29*((LOG(AU29))/LOG(2))))","v":0}]
[12,6997,24,7016,13,7030,23,7045,13,7057,0,12121,null,21222,{"$f":"COUNTIF($L$7:$L$500,N30)","v":0},{"$f":"O30/$Q$4","v":0},{"$f":"IF(P30=0,0,(P30*((LOG(P30))/LOG(2))))","v":0},null,null,{"$f":"N30","v":21222},{"$f":"COUNTIF(L7:L25,T30)","v":0},{"$f":"U30/(W4-U25)","v":0},{"$f":"IF(V30=0,0,(V30*((LOG(V30))/LOG(2))))","v":0},null,{"$f":"N30","v":21222},{"$f":"COUNTIF(L26:L43,Y30)","v":0},{"$f":"Z30/(AB4-Z25)","v":0},{"$f":"IF(AA30=0,0,(AA30*((LOG(AA30))/LOG(2))))","v":0},null,{"$f":"N30","v":21222},{"$f":"COUNTIF(L44:L62,AD30)","v":0},{"$f":"AE30/(AG4-AE25)","v":0},{"$f":"IF(AF30=0,0,(AF30*((LOG(AF30))/LOG(2))))","v":0},null,{"$f":"N30","v":21222},{"$f":"COUNTIF(L63:L81,AI30)","v":0},{"$f":"AJ30/(AL4-AJ25)","v":0},{"$f":"IF(AK30=0,0,(AK30*((LOG(AK30))/LOG(2))))","v":0},null,{"$f":"N30","v":21222},{"$f":"COUNTIF(L82:L99,AN30)","v":0},{"$f":"AO30/(AQ4-AO25)","v":0},{"$f":"IF(AP30=0,0,(AP30*((LOG(AP30))/LOG(2))))","v":0},null,{"$f":"N30","v":21222},{"$f":"COUNTIF(L100:L118,AS30)","v":0},{"$f":"AT30/(AV4-AT25)","v":0},{"$f":"IF(AU30=0,0,(AU30*((LOG(AU30))/LOG(2))))","v":0}]
[21,7191,11,7202,11,7222,12,7233,13,7249,0,21111,null,22111,{"$f":"COUNTIF($L$7:$L$500,N31)","v":0},{"$f":"O31/$Q$4","v":0},{"$f":"IF(P31=0,0,(P31*((LOG(P31))/LOG(2))))","v":0},null,null,{"$f":"N31","v":22111},{"$f":"COUNTIF(L7:L25,T31)","v":0},{"$f":"U31/(W4-U25)","v":0},{"$f":"IF(V31=0,0,(V31*((LOG(V31))/LOG(2))))","v":0},null,{"$f":"N31","v":22111},{"$f":"COUNTIF(L26:L43,Y31)","v":0},{"$f":"Z31/(AB4-Z25)","v":0},{"$f":"IF(AA31=0,0,(AA31*((LOG(AA31))/LOG(2))))","v":0},null,{"$f":"N31","v":22111},{"$f":"COUNTIF(L44:L62,AD31)","v":0},{"$f":"AE31/(AG4-AE25)","v":0},{"$f":"IF(AF31=0,0,(AF31*((LOG(AF31))/LOG(2))))","v":0},null,{"$f":"N31","v":22111},{"$f":"COUNTIF(L63:L81,AI31)","v":0},{"$f":"AJ31/(AL4-AJ25)","v":0},{"$f":"IF(AK31=0,0,(AK31*((LOG(AK31))/LOG(2))))","v":0},null,{"$f":"N31","v":22111},{"$f":"COUNTIF(L82:L99,AN31)","v":0},{"$f":"AO31/(AQ4-AO25)","v":0},{"$f":"IF(AP31=0,0,(AP31*((LOG(AP31))/LOG(2))))","v":0},null,{"$f":"N31","v":22111},{"$f":"COUNTIF(L100:L118,AS31)","v":0},{"$f":"AT31/(AV4-AT25)","v":0},{"$f":"IF(AU31=0,0,(AU31*((LOG(AU31))/LOG(2))))","v":0}]
[12,7394,13,7408,24,7426,14,7436,13,7449,0,11211,null,22112,{"$f":"COUNTIF($L$7:$L$500,N32)","v":1},{"$f":"O32/$Q$4","v":9.0090090090090089E-3},{"$f":"IF(P32=0,0,(P32*((LOG(P32))/LOG(2))))","v":-6.121095375090186E-2},null,null,{"$f":"N32","v":22112},{"$f":"COUNTIF(L7:L25,T32)","v":1},{"$f":"U32/(W4-U25)","v":5.2631578947368418E-2},{"$f":"IF(V32=0,0,(V32*((LOG(V32))/LOG(2))))","v":-0.22357513228650452},null,{"$f":"N32","v":22112},{"$f":"COUNTIF(L26:L43,Y32)","v":0},{"$f":"Z32/(AB4-Z25)","v":0},{"$f":"IF(AA32=0,0,(AA32*((LOG(AA32))/LOG(2))))","v":0},null,{"$f":"N32","v":22112},{"$f":"COUNTIF(L44:L62,AD32)","v":0},{"$f":"AE32/(AG4-AE25)","v":0},{"$f":"IF(AF32=0,0,(AF32*((LOG(AF32))/LOG(2))))","v":0},null,{"$f":"N32","v":22112},{"$f":"COUNTIF(L63:L81,AI32)","v":0},{"$f":"AJ32/(AL4-AJ25)","v":0},{"$f":"IF(AK32=0,0,(AK32*((LOG(AK32))/LOG(2))))","v":0},null,{"$f":"N32","v":22112},{"$f":"COUNTIF(L82:L99,AN32)","v":0},{"$f":"AO32/(AQ4-AO25)","v":0},{"$f":"IF(AP32=0,0,(AP32*((LOG(AP32))/LOG(2))))","v":0},null,{"$f":"N32","v":22112},{"$f":"COUNTIF(L100:L118,AS32)","v":0},{"$f":"AT32/(AV4-AT25)","v":0},{"$f":"IF(AU32=0,0,(AU32*((LOG(AU32))/LOG(2))))","v":0}]
[21,7748,11,7758,11,7772,12,7787,24,7803,0,21112,null,22121,{"$f":"COUNTIF($L$7:$L$500,N33)","v":1},{"$f":"O33/$Q$4","v":9.0090090090090089E-3},{"$f":"IF(P33=0,0,(P33*((LOG(P33))/LOG(2))))","v":-6.121095375090186E-2},null,null,{"$f":"N33","v":22121},{"$f":"COUNTIF(L7:L25,T33)","v":0},{"$f":"U33/(W4-U25)","v":0},{"$f":"IF(V33=0,0,(V33*((LOG(V33))/LOG(2))))","v":0},null,{"$f":"N33","v":22121},{"$f":"COUNTIF(L26:L43,Y33)","v":0},{"$f":"Z33/(AB4-Z25)","v":0},{"$f":"IF(AA33=0,0,(AA33*((LOG(AA33))/LOG(2))))","v":0},null,{"$f":"N33","v":22121},{"$f":"COUNTIF(L44:L62,AD33)","v":0},{"$f":"AE33/(AG4-AE25)","v":0},{"$f":"IF(AF33=0,0,(AF33*((LOG(AF33))/LOG(2))))","v":0},null,{"$f":"N33","v":22121},{"$f":"COUNTIF(L63:L81,AI33)","v":1},{"$f":"AJ33/(AL4-AJ25)","v":5.8823529411764705E-2},{"$f":"IF(AK33=0,0,(AK33*((LOG(AK33))/LOG(2))))","v":-0.24043899066178465},null,{"$f":"N33","v":22121},{"$f":"COUNTIF(L82:L99,AN33)","v":0},{"$f":"AO33/(AQ4-AO25)","v":0},{"$f":"IF(AP33=0,0,(AP33*((LOG(AP33))/LOG(2))))","v":0},null,{"$f":"N33","v":22121},{"$f":"COUNTIF(L100:L118,AS33)","v":0},{"$f":"AT33/(AV4-AT25)","v":0},{"$f":"IF(AU33=0,0,(AU33*((LOG(AU33))/LOG(2))))","v":0}]
[12,7973,13,7992,13,8009,23,8023,13,8033,0,11121,null,22122,{"$f":"COUNTIF($L$7:$L$500,N34)","v":0},{"$f":"O34/$Q$4","v":0},{"$f":"IF(P34=0,0,(P34*((LOG(P34))/LOG(2))))","v":0},null,null,{"$f":"N34","v":22122},{"$f":"COUNTIF(L7:L25,T34)","v":0},{"$f":"U34/(W4-U25)","v":0},{"$f":"IF(V34=0,0,(V34*((LOG(V34))/LOG(2))))","v":0},null,{"$f":"N34","v":22122},{"$f":"COUNTIF(L26:L43,Y34)","v":0},{"$f":"Z34/(AB4-Z25)","v":0},{"$f":"IF(AA34=0,0,(AA34*((LOG(AA34))/LOG(2))))","v":0},null,{"$f":"N34","v":22122},{"$f":"COUNTIF(L44:L62,AD34)","v":0},{"$f":"AE34/(AG4-AE25)","v":0},{"$f":"IF(AF34=0,0,(AF34*((LOG(AF34))/LOG(2))))","v":0},null,{"$f":"N34","v":22122},{"$f":"COUNTIF(L63:L81,AI34)","v":0},{"$f":"AJ34/(AL4-AJ25)","v":0},{"$f":"IF(AK34=0,0,(AK34*((LOG(AK34))/LOG(2))))","v":0},null,{"$f":"N34","v":22122},{"$f":"COUNTIF(L82:L99,AN34)","v":0},{"$f":"AO34/(AQ4-AO25)","v":0},{"$f":"IF(AP34=0,0,(AP34*((LOG(AP34))/LOG(2))))","v":0},null,{"$f":"N34","v":22122},{"$f":"COUNTIF(L100:L118,AS34)","v":0},{"$f":"AT34/(AV4-AT25)","v":0},{"$f":"IF(AU34=0,0,(AU34*((LOG(AU34))/LOG(2))))","v":0}]
[21,8209,11,8218,11,8234,12,8243,13,8255,0,21111,null,22211,{"$f":"COUNTIF($L$7:$L$500,N35)","v":0},{"$f":"O35/$Q$4","v":0},{"$f":"IF(P35=0,0,(P35*((LOG(P35))/LOG(2))))","v":0},null,null,{"$f":"N35","v":22211},{"$f":"COUNTIF(L7:L25,T35)","v":0},{"$f":"U35/(W4-U25)","v":0},{"$f":"IF(V35=0,0,(V35*((LOG(V35))/LOG(2))))","v":0},null,{"$f":"N35","v":22211},{"$f":"COUNTIF(L26:L43,Y35)","v":0},{"$f":"Z35/(AB4-Z25)","v":0},{"$f":"IF(AA35=0,0,(AA35*((LOG(AA35))/LOG(2))))","v":0},null,{"$f":"N35","v":22211},{"$f":"COUNTIF(L44:L62,AD35)","v":0},{"$f":"AE35/(AG4-AE25)","v":0},{"$f":"IF(AF35=0,0,(AF35*((LOG(AF35))/LOG(2))))","v":0},null,{"$f":"N35","v":22211},{"$f":"COUNTIF(L63:L81,AI35)","v":0},{"$f":"AJ35/(AL4-AJ25)","v":0},{"$f":"IF(AK35=0,0,(AK35*((LOG(AK35))/LOG(2))))","v":0},null,{"$f":"N35","v":22211},{"$f":"COUNTIF(L82:L99,AN35)","v":0},{"$f":"AO35/(AQ4-AO25)","v":0},{"$f":"IF(AP35=0,0,(AP35*((LOG(AP35))/LOG(2))))","v":0},null,{"$f":"N35","v":22211},{"$f":"COUNTIF(L100:L118,AS35)","v":0},{"$f":"AT35/(AV4-AT25)","v":0},{"$f":"IF(AU35=0,0,(AU35*((LOG(AU35))/LOG(2))))","v":0}]
[21,8419,11,8429,11,8446,21,8462,11,8473,1,21121,null,22212,{"$f":"COUNTIF($L$7:$L$500,N36)","v":0},{"$f":"O36/$Q$4","v":0},{"$f":"IF(P36=0,0,(P36*((LOG(P36))/LOG(2))))","v":0},null,null,{"$f":"N36","v":22212},{"$f":"COUNTIF(L7:L25,T36)","v":0},{"$f":"U36/(W4-U25)","v":0},{"$f":"IF(V36=0,0,(V36*((LOG(V36))/LOG(2))))","v":0},null,{"$f":"N36","v":22212},{"$f":"COUNTIF(L26:L43,Y36)","v":0},{"$f":"Z36/(AB4-Z25)","v":0},{"$f":"IF(AA36=0,0,(AA36*((LOG(AA36))/LOG(2))))","v":0},null,{"$f":"N36","v":22212},{"$f":"COUNTIF(L44:L62,AD36)","v":0},{"$f":"AE36/(AG4-AE25)","v":0},{"$f":"IF(AF36=0,0,(AF36*((LOG(AF36))/LOG(2))))","v":0},null,{"$f":"N36","v":22212},{"$f":"COUNTIF(L63:L81,AI36)","v":0},{"$f":"AJ36/(AL4-AJ25)","v":0},{"$f":"IF(AK36=0,0,(AK36*((LOG(AK36))/LOG(2))))","v":0},null,{"$f":"N36","v":22212},{"$f":"COUNTIF(L82:L99,AN36)","v":0},{"$f":"AO36/(AQ4-AO25)","v":0},{"$f":"IF(AP36=0,0,(AP36*((LOG(AP36))/LOG(2))))","v":0},null,{"$f":"N36","v":22212},{"$f":"COUNTIF(L100:L118,AS36)","v":0},{"$f":"AT36/(AV4-AT25)","v":0},{"$f":"IF(AU36=0,0,(AU36*((LOG(AU36))/LOG(2))))","v":0}]
[12,8709,13,8846,24,8858,14,8868,24,8882,0,11212,null,22221,{"$f":"COUNTIF($L$7:$L$500,N37)","v":0},{"$f":"O37/$Q$4","v":0},{"$f":"IF(P37=0,0,(P37*((LOG(P37))/LOG(2))))","v":0},null,null,{"$f":"N37","v":22221},{"$f":"COUNTIF(L7:L25,T37)","v":0},{"$f":"U37/(W4-U25)","v":0},{"$f":"IF(V37=0,0,(V37*((LOG(V37))/LOG(2))))","v":0},null,{"$f":"N37","v":22221},{"$f":"COUNTIF(L26:L43,Y37)","v":0},{"$f":"Z37/(AB4-Z25)","v":0},{"$f":"IF(AA37=0,0,(AA37*((LOG(AA37))/LOG(2))))","v":0},null,{"$f":"N37","v":22221},{"$f":"COUNTIF(L44:L62,AD37)","v":0},{"$f":"AE37/(AG4-AE25)","v":0},{"$f":"IF(AF37=0,0,(AF37*((LOG(AF37))/LOG(2))))","v":0},null,{"$f":"N37","v":22221},{"$f":"COUNTIF(L63:L81,AI37)","v":0},{"$f":"AJ37/(AL4-AJ25)","v":0},{"$f":"IF(AK37=0,0,(AK37*((LOG(AK37))/LOG(2))))","v":0},null,{"$f":"N37","v":22221},{"$f":"COUNTIF(L82:L99,AN37)","v":0},{"$f":"AO37/(AQ4-AO25)","v":0},{"$f":"IF(AP37=0,0,(AP37*((LOG(AP37))/LOG(2))))","v":0},null,{"$f":"N37","v":22221},{"$f":"COUNTIF(L100:L118,AS37)","v":0},{"$f":"AT37/(AV4-AT25)","v":0},{"$f":"IF(AU37=0,0,(AU37*((LOG(AU37))/LOG(2))))","v":0}]
[12,9060,13,9083,13,9096,23,9109,13,9118,0,11121,null,22222,{"$f":"COUNTIF($L$7:$L$500,N38)","v":0},{"$f":"O38/$Q$4","v":0},{"$f":"IF(P38=0,0,(P38*((LOG(P38))/LOG(2))))","v":0},null,null,{"$f":"N38","v":22222},{"$f":"COUNTIF(L7:L25,T38)","v":0},{"$f":"U38/(W4-U25)","v":0},{"$f":"IF(V38=0,0,(V38*((LOG(V38))/LOG(2))))","v":0},null,{"$f":"N38","v":22222},{"$f":"COUNTIF(L26:L43,Y38)","v":0},{"$f":"Z38/(AB4-Z25)","v":0},{"$f":"IF(AA38=0,0,(AA38*((LOG(AA38))/LOG(2))))","v":0},null,{"$f":"N38","v":22222},{"$f":"COUNTIF(L44:L62,AD38)","v":0},{"$f":"AE38/(AG4-AE25)","v":0},{"$f":"IF(AF38=0,0,(AF38*((LOG(AF38))/LOG(2))))","v":0},null,{"$f":"N38","v":22222},{"$f":"COUNTIF(L63:L81,AI38)","v":0},{"$f":"AJ38/(AL4-AJ25)","v":0},{"$f":"IF(AK38=0,0,(AK38*((LOG(AK38))/LOG(2))))","v":0},null,{"$f":"N38","v":22222},{"$f":"COUNTIF(L82:L99,AN38)","v":0},{"$f":"AO38/(AQ4-AO25)","v":0},{"$f":"IF(AP38=0,0,(AP38*((LOG(AP38))/LOG(2))))","v":0},null,{"$f":"N38","v":22222},{"$f":"COUNTIF(L100:L118,AS38)","v":0},{"$f":"AT38/(AV4-AT25)","v":0},{"$f":"IF(AU38=0,0,(AU38*((LOG(AU38))/LOG(2))))","v":0}]
[12,9273,13,9290,13,9307,14,9339,13,9361,0,11111,null,null,null,{"$f":"SUM(P7:P38)","v":1},{"$f":"-SUM(Q7:Q38)","v":4.0846805980603582},null,null,null,null,{"$f":"SUM(V7:V38)","v":0.99999999999999956},{"$f":"-SUM(W7:W38)","v":3.1363793303507577},null,null,null,{"$f":"SUM(AA7:AA38)","v":1},{"$f":"-SUM(AB7:AB38)","v":2.7272170014624821},null,null,null,{"$f":"SUM(AF7:AF38)","v":1.0000000000000002},{"$f":"-SUM(AG7:AG38)","v":3.5032583347756452},null,null,null,{"$f":"SUM(AK7:AK38)","v":1},{"$f":"-SUM(AL7:AL38)","v":2.8895494308620884},null,null,null,{"$f":"SUM(AP7:AP38)","v":1},{"$f":"-SUM(AQ7:AQ38)","v":3.1556390622295662},null,null,null,{"$f":"SUM(AU7:AU38)","v":1},{"$f":"-SUM(AV7:AV38)","v":2.9842341646524888}]
[21,9501,11,9511,11,9546,21,9560,11,9570,1,21121,null,null,null,"U=",{"$f":"Q39/(LOG(Q4)/LOG(2))","v":0.60118201158249218},null,null,null,null,"U1=",{"$f":"W39/(LOG(W4)/LOG(2))","v":0.73833165006345636},null,null,null,"U2=",{"$f":"AB39/(LOG(AB4)/LOG(2))","v":0.65402063598726123},null,null,null,"U3=",{"$f":"AG39/(LOG(AG4)/LOG(2))","v":0.82469823783215324},null,null,null,"U4=",{"$f":"AL39/(LOG(AL4)/LOG(2))","v":0.68022569163843227},null,null,null,"U5=",{"$f":"AQ39/(LOG(AQ4)/LOG(2))","v":0.75676158711201758},null,null,null,"U6=",{"$f":"AV39/(LOG(AV4)/LOG(2))","v":0.71565655584220067}]
[12,9757,24,9770,13,9779,23,9795,13,9831,0,12121]
[12,10018,24,10035,13,10045,23,10058,13,10072,0,12121]
[12,10191,13,10208,13,10224,23,10236,13,10245,0,11121,null,"Total Target Seq"]
[21,10363,11,10383,11,10397,12,10420,24,10436,0,21112,null,{"$f":"COUNTIF(L7:L118,G3)","v":8},null,19,18,19,19,18,19]
[12,10559,13,10569,13,10577,14,10595,13,10629,0,11111,null,null,null,"% of reinforcement given in 6 equal intervals based on number of trials "]
[12,10786,13,10800,24,10813,14,10830,24,10846,0,11212,null,null,null,"%_1","%_2","%_3","%_4","%_5","%_6"]
[21,10988,11,10999,11,11017,12,11038,24,11060,0,21112,null,null,"target sequence",{"$f":"$G$3","v":21121},{"$f":"$G$3","v":21121},{"$f":"$G$3","v":21121},{"$f":"$G$3","v":21121},{"$f":"$G$3","v":21121},{"$f":"$G$3","v":21121}]
[12,11213,24,11225,13,11235,23,11250,13,11268,0,12121,null,null,"total reinforcement",{"$f":"U25","v":0},{"$f":"Z25","v":2},{"$f":"AE25","v":1},{"$f":"AJ25","v":2},{"$f":"AO25","v":2},{"$f":"AT25","v":1}]
[12,11445,13,11473,24,11485,14,11494,13,11521,0,11211,null,null,"% target"]
[12,11675,13,11693,13,11711,23,11747,13,11756,0,11121,null,null,"CCRF"]
[21,11896,11,11909,22,11921,14,11939,13,11962,0,21211,null,null,"% CCRf"]
[12,12093,13,12108,24,12121,14,12130,24,12142,0,11212,null,null,"average response rate",{"$f":"J25/P44","v":268.5263157894737},{"$f":"(J43-J25)/Q44","v":285.72222222222223},{"$f":"(J62-J43)/R44","v":197.31578947368422},{"$f":"(J81-J62)/S44","v":190.68421052631578},{"$f":"(J99-J81)/T44","v":167.27777777777777},{"$f":"(J118-J99)/U44","v":-1085.6842105263158}]
[12,12310,13,12322,13,12346,23,12357,13,12367,0,11121]
[12,12512,13,12535,24,12548,14,12557,13,12568,0,11211]
[21,12716,11,12727,11,12749,21,12761,11,12772,1,21121]
[12,12909,24,12921,13,12937,14,12974,24,12987,0,12112]
[12,13095,24,13105,13,13116,23,13129,24,13159,0,12122]
[12,13261,24,13276,13,13287,23,13299,24,13311,0,12122]
[12,13411,24,13424,24,13438,14,13447,24,13460,0,12212]
[12,13557,24,13569,24,13585,23,13599,13,13609,0,12221]
[12,13721,24,13730,24,13743,23,13758,13,13800,0,12221]
[12,13922,24,13933,24,13956,23,13978,24,13994,0,12222]
[12,14102,13,14128,24,14140,14,14148,24,14160,0,11212]
[12,14297,24,14314,13,14322,23,14335,13,14358,0,12121]
[21,14501,22,14531,13,14556,23,14567,13,14576,0,22121]
[12,14701,13,14716,13,14734,23,14745,13,14754,0,11121]
[21,14870,11,14888,22,14899,14,14907,24,14920,0,21212]
[12,15078,13,15101,13,15121,23,15135,13,15145,0,11121]
[21,15265,11,15274,22,15285,14,15296,24,15307,0,21212]
[12,15486,13,15507,24,15532,14,15540,24,15551,0,11212]
[21,15697,11,15706,22,15717,14,15726,13,15738,0,21211]
[21,15860,11,15869,22,15878,14,15887,24,15901,0,21212]
[21,16013,11,16022,11,16035,21,16046,11,16055,1,21121]
[12,16200,13,16224,24,16237,14,16260,24,16284,0,11212]
[21,16420,11,16429,22,16442,14,16458,24,16478,0,21212]
[12,16700,13,16718,24,16727,14,16746,13,16758,0,11211]
[21,16882,11,16896,22,16907,14,16919,24,16932,0,21212]
[21,17055,11,17072,11,17087,21,17099,11,17110,1,21121]
[12,17224,24,17236,24,17253,23,17281,13,17297,0,12221]
[12,17402,24,17414,24,17426,23,17439,24,17453,0,12222]
[12,17566,24,17578,24,17592,23,17605,24,17617,0,12222]
[12,17740,24,17749,13,17758,14,17778,24,17790,0,12112]
[12,17887,13,17906,24,17919,23,17931,24,17942,0,11222]
[12,18051,24,18062,13,18071,23,18084,13,18115,0,12121]
[12,18220,13,18232,24,18242,14,18255,24,18266,0,11212]
[12,18401,24,18412,24,18423,23,18458,13,18481,0,12221]
[12,18590,24,18602,24,18614,14,18627,24,18638,0,12212]
[12,18743,13,18758,24,18768,14,18781,24,18793,0,11212]
[21,18893,11,18903,11,18918,21,18929,11,18942,1,21121]
[12,19050,13,19079,24,19091,23,19101,24,19111,0,11222]
[12,19213,24,19225,13,19235,23,19246,13,19259,0,12121]
[12,19371,24,19382,24,19392,23,19401,24,19412,0,12222]
[12,19509,24,19539,13,19548,23,19576,13,19588,0,12121]
[12,19710,24,19723,13,19741,14,19758,13,19768,0,12111]
[12,19871,13,19879,13,19893,14,19914,24,19925,0,11112]
[12,20053,13,20063,13,20081,23,20093,13,20101,0,11121]
[12,20207,13,20219,13,20232,14,20250,24,20278,0,11112]
[12,20402,13,20413,13,20433,14,20446,24,20458,0,11112]
[21,20572,11,20581,11,20593,21,20612,11,20628,1,21121]
[12,20751,24,20764,13,20780,14,20788,13,20801,0,12111]
[12,20963,13,20980,13,20988,14,21003,13,21018,0,11111]
[12,21140,13,21149,24,21161,14,21170,24,21183,0,11212]
[12,21289,13,21298,13,21313,14,21330,13,21357,0,11111]
[12,21489,24,21510,13,21523,23,21535,13,21553,0,12121]
[12,21757,24,21769,13,21789,14,21798,13,21806,0,12111]
[12,21942,13,21957,13,21974,14,21990,13,21998,0,11111]
[12,22110,13,22125,13,22140,23,22153,13,22162,0,11121]
[21,22265,11,22274,11,22286,21,22300,11,22309,1,21121]
[12,22412,24,22442,24,22476,14,22509,13,22521,0,12211]
[12,22622,13,22631,13,22643,23,22655,13,22673,0,11121]
[12,22771,13,22784,13,22797,14,22805,13,22813,0,11111]
[21,22915,11,22923,22,22935,14,22950,24,22963,0,21212]
[12,23059,24,23074,13,23082,14,23096,24,23122,0,12112]
[12,23244,13,23280,24,23293,14,23304,24,23322,0,11212]
[12,23443,24,23455,13,23482,23,23494,13,23574,0,12121]
[12,23689,13,23696,24,23708,23,23721,13,23737,0,11221]
[12,23845,24,23861,13,23869,14,23880,13,23887,0,12111]
[12,23988,13,23999,null,null,null,null,null,null,null,11]

{"sheet":"!MA04840.010","index":7,"n_rows":133,"n_cols":48,"rows_kept":133,"cut":false,"hidden":false,"merged":[[4,39,4,42],[5,39,5,40],[4,44,4,47],[5,44,5,45],[4,24,4,27],[5,24,5,25],[4,29,4,32],[5,29,5,30],[4,34,4,37],[5,34,5,35],[1,1,1,2],[5,13,5,14],[42,13,42,14],[43,13,43,14],[4,19,4,22],[5,19,5,20]]}
["Report for:!MA04840.010"]
["Date:","<date>"]
["Hen:","<hen>",null,null,null,"Correct Sequence",{"$f":"Start!J2","v":21121},null,null,null,null,null,null,null,null,"Total Sequences in Data",{"$f":"4994-COUNTBLANK(L7:L5000)","v":127},null,null,null,null,"Total Sequences in Block Data",{"$f":"COUNTA(L7:L27)","v":21},null,null,null,"Total Sequences in Block Data",{"$f":"COUNTA(L28:L48)","v":21},null,null,null,"Total Sequences in Block Data",{"$f":"COUNTA(L49:L70)","v":22},null,null,null,"Total Sequences in Block Data",{"$f":"COUNTA(L71:L91)","v":21},null,null,null,"Total Sequences in Block Data",{"$f":"COUNTA(L92:L112)","v":21},null,null,null,"Total Sequences in Block Data",{"$f":"COUNTA(L113:L133)","v":21}]
[null,null,null,null,null,null,null,null,null,null,null,null,null,null,null,"Total Sequences in Summary",{"$f":"SUM(O7:O38)","v":126},null,null,null,null,"Total Sequences in Block Summary",{"$f":"SUM(U7:U38)","v":21},null,null,null,"Total Sequences in Block Summary",{"$f":"SUM(Z7:Z38)","v":21},null,null,null,"Total Sequences in Block Summary",{"$f":"SUM(AE7:AE38)","v":22},null,null,null,"Total Sequences in Block Summary",{"$f":"SUM(AJ7:AJ38)","v":21},null,null,null,"Total Sequences in Block Summary",{"$f":"SUM(AO7:AO38)","v":21},null,null,null,"Total Sequences in Block Summary",{"$f":"SUM(AT7:AT38)","v":20}]
[null,null,null,null,null,null,null,null,null,null,null,null,null,null,null,null,null,null,null,"Block 1",null,null,null,null,"Block 2",null,null,null,null,"Block 3",null,null,null,null,"Block 4",null,null,null,null,"Block 5",null,null,null,null,"Block 6"]
["Sequence\nComponent\n1","Time\n1","Sequence\nComponent\n2","Time\n2","Sequence\nComponent\n3","Time\n3","Sequence\nComponent\n4","Time\n4","Sequence\nComponent\n5","Time\n5","Correct?\n0=No 1=Yes","Sequence",null,"Frequency",null,"Relative Frequency","Variability",null,null,"Frequency",null,"Relative Frequency","Variability",null,"Frequency",null,"Relative Frequency","Variability",null,"Frequency",null,"Relative Frequency","Variability",null,"Frequency",null,"Relative Frequency","Variability",null,"Frequency",null,"Relative Frequency","Variability",null,"Frequency",null,"Relative Frequency","Variability"]
[12,15,24,27,24,45,14,57,24,70,0,12212,null,11111,{"$f":"COUNTIF($L$7:$L$500,N7)","v":0},{"$f":"O7/$Q$4","v":0},{"$f":"IF(P7=0,0,(P7*((LOG(P7))/LOG(2))))","v":0},null,null,{"$f":"N7","v":11111},{"$f":"COUNTIF(L7:L27,T7)","v":0},{"$f":"U7/(W4-U25)","v":0},{"$f":"IF(V7=0,0,(V7*((LOG(V7))/LOG(2))))","v":0},null,{"$f":"N7","v":11111},{"$f":"COUNTIF(L28:L48,Y7)","v":0},{"$f":"Z7/(AB4-Z25)","v":0},{"$f":"IF(AA7=0,0,(AA7*((LOG(AA7))/LOG(2))))","v":0},null,{"$f":"N7","v":11111},{"$f":"COUNTIF(L49:L70,AD7)","v":0},{"$f":"AE7/(AG4-AE25)","v":0},{"$f":"IF(AF7=0,0,(AF7*((LOG(AF7))/LOG(2))))","v":0},null,{"$f":"N7","v":11111},{"$f":"COUNTIF(L71:L91,AI7)","v":0},{"$f":"AJ7/(AL4-AJ25)","v":0},{"$f":"IF(AK7=0,0,(AK7*((LOG(AK7))/LOG(2))))","v":0},null,{"$f":"N7","v":11111},{"$f":"COUNTIF(L92:L112,AN7)","v":0},{"$f":"AO7/(AQ4-AO25)","v":0},{"$f":"IF(AP7=0,0,(AP7*((LOG(AP7))/LOG(2))))","v":0},null,{"$f":"N7","v":11111},{"$f":"COUNTIF(L113:L133,AS7)","v":0},{"$f":"AT7/(AV4-AT25)","v":0},{"$f":"IF(AU7=0,0,(AU7*((LOG(AU7))/LOG(2))))","v":0}]
[12,179,24,191,13,220,23,232,13,246,0,12121,null,11112,{"$f":"COUNTIF($L$7:$L$500,N8)","v":1},{"$f":"O8/$Q$4","v":7.9365079365079361E-3},{"$f":"IF(P8=0,0,(P8*((LOG(P8))/LOG(2))))","v":-5.5375237488094572E-2},null,null,{"$f":"N8","v":11112},{"$f":"COUNTIF(L7:L27,T8)","v":1},{"$f":"U8/(W4-U25)","v":5.2631578947368418E-2},{"$f":"IF(V8=0,0,(V8*((LOG(V8))/LOG(2))))","v":-0.22357513228650452},null,{"$f":"N8","v":11112},{"$f":"COUNTIF(L28:L48,Y8)","v":0},{"$f":"Z8/(AB4-Z25)","v":0},{"$f":"IF(AA8=0,0,(AA8*((LOG(AA8))/LOG(2))))","v":0},null,{"$f":"N8","v":11112},{"$f":"COUNTIF(L49:L70,AD8)","v":0},{"$f":"AE8/(AG4-AE25)","v":0},{"$f":"IF(AF8=0,0,(AF8*((LOG(AF8))/LOG(2))))","v":0},null,{"$f":"N8","v":11112},{"$f":"COUNTIF(L71:L91,AI8)","v":0},{"$f":"AJ8/(AL4-AJ25)","v":0},{"$f":"IF(AK8=0,0,(AK8*((LOG(AK8))/LOG(2))))","v":0},null,{"$f":"N8","v":11112},{"$f":"COUNTIF(L92:L112,AN8)","v":0},{"$f":"AO8/(AQ4-AO25)","v":0},{"$f":"IF(AP8=0,0,(AP8*((LOG(AP8))/LOG(2))))","v":0},null,{"$f":"N8","v":11112},{"$f":"COUNTIF(L113:L133,AS8)","v":0},{"$f":"AT8/(AV4-AT25)","v":0},{"$f":"IF(AU8=0,0,(AU8*((LOG(AU8))/LOG(2))))","v":0}]
[12,350,24,363,13,375,23,388,13,401,0,12121,null,11121,{"$f":"COUNTIF($L$7:$L$500,N9)","v":2},{"$f":"O9/$Q$4","v":1.5873015873015872E-2},{"$f":"IF(P9=0,0,(P9*((LOG(P9))/LOG(2))))","v":-9.4877459103173273E-2},null,null,{"$f":"N9","v":11121},{"$f":"COUNTIF(L7:L27,T9)","v":0},{"$f":"U9/(W4-U25)","v":0},{"$f":"IF(V9=0,0,(V9*((LOG(V9))/LOG(2))))","v":0},null,{"$f":"N9","v":11121},{"$f":"COUNTIF(L28:L48,Y9)","v":1},{"$f":"Z9/(AB4-Z25)","v":4.7619047619047616E-2},{"$f":"IF(AA9=0,0,(AA9*((LOG(AA9))/LOG(2))))","v":-0.20915797251327431},null,{"$f":"N9","v":11121},{"$f":"COUNTIF(L49:L70,AD9)","v":0},{"$f":"AE9/(AG4-AE25)","v":0},{"$f":"IF(AF9=0,0,(AF9*((LOG(AF9))/LOG(2))))","v":0},null,{"$f":"N9","v":11121},{"$f":"COUNTIF(L71:L91,AI9)","v":0},{"$f":"AJ9/(AL4-AJ25)","v":0},{"$f":"IF(AK9=0,0,(AK9*((LOG(AK9))/LOG(2))))","v":0},null,{"$f":"N9","v":11121},{"$f":"COUNTIF(L92:L112,AN9)","v":1},{"$f":"AO9/(AQ4-AO25)","v":0.05},{"$f":"IF(AP9=0,0,(AP9*((LOG(AP9))/LOG(2))))","v":-0.21609640474436814},null,{"$f":"N9","v":11121},{"$f":"COUNTIF(L113:L133,AS9)","v":0},{"$f":"AT9/(AV4-AT25)","v":0},{"$f":"IF(AU9=0,0,(AU9*((LOG(AU9))/LOG(2))))","v":0}]
[12,502,13,515,24,526,14,536,24,550,0,11212,null,11122,{"$f":"COUNTIF($L$7:$L$500,N10)","v":0},{"$f":"O10/$Q$4","v":0},{"$f":"IF(P10=0,0,(P10*((LOG(P10))/LOG(2))))","v":0},null,null,{"$f":"N10","v":11122},{"$f":"COUNTIF(L7:L27,T10)","v":0},{"$f":"U10/(W4-U25)","v":0},{"$f":"IF(V10=0,0,(V10*((LOG(V10))/LOG(2))))","v":0},null,{"$f":"N10","v":11122},{"$f":"COUNTIF(L28:L48,Y10)","v":0},{"$f":"Z10/(AB4-Z25)","v":0},{"$f":"IF(AA10=0,0,(AA10*((LOG(AA10))/LOG(2))))","v":0},null,{"$f":"N10","v":11122},{"$f":"COUNTIF(L49:L70,AD10)","v":0},{"$f":"AE10/(AG4-AE25)","v":0},{"$f":"IF(AF10=0,0,(AF10*((LOG(AF10))/LOG(2))))","v":0},null,{"$f":"N10","v":11122},{"$f":"COUNTIF(L71:L91,AI10)","v":0},{"$f":"AJ10/(AL4-AJ25)","v":0},{"$f":"IF(AK10=0,0,(AK10*((LOG(AK10))/LOG(2))))","v":0},null,{"$f":"N10","v":11122},{"$f":"COUNTIF(L92:L112,AN10)","v":0},{"$f":"AO10/(AQ4-AO25)","v":0},{"$f":"IF(AP10=0,0,(AP10*((LOG(AP10))/LOG(2))))","v":0},null,{"$f":"N10","v":11122},{"$f":"COUNTIF(L113:L133,AS10)","v":0},{"$f":"AT10/(AV4-AT25)","v":0},{"$f":"IF(AU10=0,0,(AU10*((LOG(AU10))/LOG(2))))","v":0}]
[21,652,11,661,11,669,21,679,11,691,1,21121,null,11211,{"$f":"COUNTIF($L$7:$L$500,N11)","v":4},{"$f":"O11/$Q$4","v":3.1746031746031744E-2},{"$f":"IF(P11=0,0,(P11*((LOG(P11))/LOG(2))))","v":-0.15800888646031477},null,null,{"$f":"N11","v":11211},{"$f":"COUNTIF(L7:L27,T11)","v":0},{"$f":"U11/(W4-U25)","v":0},{"$f":"IF(V11=0,0,(V11*((LOG(V11))/LOG(2))))","v":0},null,{"$f":"N11","v":11211},{"$f":"COUNTIF(L28:L48,Y11)","v":4},{"$f":"Z11/(AB4-Z25)","v":0.19047619047619047},{"$f":"IF(AA11=0,0,(AA11*((LOG(AA11))/LOG(2))))","v":-0.4556795091007162},null,{"$f":"N11","v":11211},{"$f":"COUNTIF(L49:L70,AD11)","v":0},{"$f":"AE11/(AG4-AE25)","v":0},{"$f":"IF(AF11=0,0,(AF11*((LOG(AF11))/LOG(2))))","v":0},null,{"$f":"N11","v":11211},{"$f":"COUNTIF(L71:L91,AI11)","v":0},{"$f":"AJ11/(AL4-AJ25)","v":0},{"$f":"IF(AK11=0,0,(AK11*((LOG(AK11))/LOG(2))))","v":0},null,{"$f":"N11","v":11211},{"$f":"COUNTIF(L92:L112,AN11)","v":0},{"$f":"AO11/(AQ4-AO25)","v":0},{"$f":"IF(AP11=0,0,(AP11*((LOG(AP11))/LOG(2))))","v":0},null,{"$f":"N11","v":11211},{"$f":"COUNTIF(L113:L133,AS11)","v":0},{"$f":"AT11/(AV4-AT25)","v":0},{"$f":"IF(AU11=0,0,(AU11*((LOG(AU11))/LOG(2))))","v":0}]
[12,783,24,795,24,808,23,821,24,835,0,12222,null,11212,{"$f":"COUNTIF($L$7:$L$500,N12)","v":11},{"$f":"O12/$Q$4","v":8.7301587301587297E-2},{"$f":"IF(P12=0,0,(P12*((LOG(P12))/LOG(2))))","v":-0.30711374090070481},null,null,{"$f":"N12","v":11212},{"$f":"COUNTIF(L7:L27,T12)","v":3},{"$f":"U12/(W4-U25)","v":0.15789473684210525},{"$f":"IF(V12=0,0,(V12*((LOG(V12))/LOG(2))))","v":-0.42046815990354147},null,{"$f":"N12","v":11212},{"$f":"COUNTIF(L28:L48,Y12)","v":1},{"$f":"Z12/(AB4-Z25)","v":4.7619047619047616E-2},{"$f":"IF(AA12=0,0,(AA12*((LOG(AA12))/LOG(2))))","v":-0.20915797251327431},null,{"$f":"N12","v":11212},{"$f":"COUNTIF(L49:L70,AD12)","v":0},{"$f":"AE12/(AG4-AE25)","v":0},{"$f":"IF(AF12=0,0,(AF12*((LOG(AF12))/LOG(2))))","v":0},null,{"$f":"N12","v":11212},{"$f":"COUNTIF(L71:L91,AI12)","v":0},{"$f":"AJ12/(AL4-AJ25)","v":0},{"$f":"IF(AK12=0,0,(AK12*((LOG(AK12))/LOG(2))))","v":0},null,{"$f":"N12","v":11212},{"$f":"COUNTIF(L92:L112,AN12)","v":2},{"$f":"AO12/(AQ4-AO25)","v":0.1},{"$f":"IF(AP12=0,0,(AP12*((LOG(AP12))/LOG(2))))","v":-0.33219280948873625},null,{"$f":"N12","v":11212},{"$f":"COUNTIF(L113:L133,AS12)","v":5},{"$f":"AT12/(AV4-AT25)","v":0.29411764705882354},{"$f":"IF(AU12=0,0,(AU12*((LOG(AU12))/LOG(2))))","v":-0.51927492540087561}]
[12,933,24,945,24,956,14,985,24,997,0,12212,null,11221,{"$f":"COUNTIF($L$7:$L$500,N13)","v":1},{"$f":"O13/$Q$4","v":7.9365079365079361E-3},{"$f":"IF(P13=0,0,(P13*((LOG(P13))/LOG(2))))","v":-5.5375237488094572E-2},null,null,{"$f":"N13","v":11221},{"$f":"COUNTIF(L7:L27,T13)","v":0},{"$f":"U13/(W4-U25)","v":0},{"$f":"IF(V13=0,0,(V13*((LOG(V13))/LOG(2))))","v":0},null,{"$f":"N13","v":11221},{"$f":"COUNTIF(L28:L48,Y13)","v":0},{"$f":"Z13/(AB4-Z25)","v":0},{"$f":"IF(AA13=0,0,(AA13*((LOG(AA13))/LOG(2))))","v":0},null,{"$f":"N13","v":11221},{"$f":"COUNTIF(L49:L70,AD13)","v":0},{"$f":"AE13/(AG4-AE25)","v":0},{"$f":"IF(AF13=0,0,(AF13*((LOG(AF13))/LOG(2))))","v":0},null,{"$f":"N13","v":11221},{"$f":"COUNTIF(L71:L91,AI13)","v":1},{"$f":"AJ13/(AL4-AJ25)","v":4.7619047619047616E-2},{"$f":"IF(AK13=0,0,(AK13*((LOG(AK13))/LOG(2))))","v":-0.20915797251327431},null,{"$f":"N13","v":11221},{"$f":"COUNTIF(L92:L112,AN13)","v":0},{"$f":"AO13/(AQ4-AO25)","v":0},{"$f":"IF(AP13=0,0,(AP13*((LOG(AP13))/LOG(2))))","v":0},null,{"$f":"N13","v":11221},{"$f":"COUNTIF(L113:L133,AS13)","v":0},{"$f":"AT13/(AV4-AT25)","v":0},{"$f":"IF(AU13=0,0,(AU13*((LOG(AU13))/LOG(2))))","v":0}]
[12,1111,24,1123,24,1132,23,1144,13,1173,0,12221,null,11222,{"$f":"COUNTIF($L$7:$L$500,N14)","v":2},{"$f":"O14/$Q$4","v":1.5873015873015872E-2},{"$f":"IF(P14=0,0,(P14*((LOG(P14))/LOG(2))))","v":-9.4877459103173273E-2},null,null,{"$f":"N14","v":11222},{"$f":"COUNTIF(L7:L27,T14)","v":1},{"$f":"U14/(W4-U25)","v":5.2631578947368418E-2},{"$f":"IF(V14=0,0,(V14*((LOG(V14))/LOG(2))))","v":-0.22357513228650452},null,{"$f":"N14","v":11222},{"$f":"COUNTIF(L28:L48,Y14)","v":0},{"$f":"Z14/(AB4-Z25)","v":0},{"$f":"IF(AA14=0,0,(AA14*((LOG(AA14))/LOG(2))))","v":0},null,{"$f":"N14","v":11222},{"$f":"COUNTIF(L49:L70,AD14)","v":0},{"$f":"AE14/(AG4-AE25)","v":0},{"$f":"IF(AF14=0,0,(AF14*((LOG(AF14))/LOG(2))))","v":0},null,{"$f":"N14","v":11222},{"$f":"COUNTIF(L71:L91,AI14)","v":0},{"$f":"AJ14/(AL4-AJ25)","v":0},{"$f":"IF(AK14=0,0,(AK14*((LOG(AK14))/LOG(2))))","v":0},null,{"$f":"N14","v":11222},{"$f":"COUNTIF(L92:L112,AN14)","v":0},{"$f":"AO14/(AQ4-AO25)","v":0},{"$f":"IF(AP14=0,0,(AP14*((LOG(AP14))/LOG(2))))","v":0},null,{"$f":"N14","v":11222},{"$f":"COUNTIF(L113:L133,AS14)","v":1},{"$f":"AT14/(AV4-AT25)","v":5.8823529411764705E-2},{"$f":"IF(AU14=0,0,(AU14*((LOG(AU14))/LOG(2))))","v":-0.24043899066178465}]
[12,1281,24,1293,13,1302,23,1313,13,1321,0,12121,null,12111,{"$f":"COUNTIF($L$7:$L$500,N15)","v":1},{"$f":"O15/$Q$4","v":7.9365079365079361E-3},{"$f":"IF(P15=0,0,(P15*((LOG(P15))/LOG(2))))","v":-5.5375237488094572E-2},null,null,{"$f":"N15","v":12111},{"$f":"COUNTIF(L7:L27,T15)","v":1},{"$f":"U15/(W4-U25)","v":5.2631578947368418E-2},{"$f":"IF(V15=0,0,(V15*((LOG(V15))/LOG(2))))","v":-0.22357513228650452},null,{"$f":"N15","v":12111},{"$f":"COUNTIF(L28:L48,Y15)","v":0},{"$f":"Z15/(AB4-Z25)","v":0},{"$f":"IF(AA15=0,0,(AA15*((LOG(AA15))/LOG(2))))","v":0},null,{"$f":"N15","v":12111},{"$f":"COUNTIF(L49:L70,AD15)","v":0},{"$f":"AE15/(AG4-AE25)","v":0},{"$f":"IF(AF15=0,0,(AF15*((LOG(AF15))/LOG(2))))","v":0},null,{"$f":"N15","v":12111},{"$f":"COUNTIF(L71:L91,AI15)","v":0},{"$f":"AJ15/(AL4-AJ25)","v":0},{"$f":"IF(AK15=0,0,(AK15*((LOG(AK15))/LOG(2))))","v":0},null,{"$f":"N15","v":12111},{"$f":"COUNTIF(L92:L112,AN15)","v":0},{"$f":"AO15/(AQ4-AO25)","v":0},{"$f":"IF(AP15=0,0,(AP15*((LOG(AP15))/LOG(2))))","v":0},null,{"$f":"N15","v":12111},{"$f":"COUNTIF(L113:L133,AS15)","v":0},{"$f":"AT15/(AV4-AT25)","v":0},{"$f":"IF(AU15=0,0,(AU15*((LOG(AU15))/LOG(2))))","v":0}]
[12,1424,24,1435,13,1448,14,1455,13,1474,0,12111,null,12112,{"$f":"COUNTIF($L$7:$L$500,N16)","v":0},{"$f":"O16/$Q$4","v":0},{"$f":"IF(P16=0,0,(P16*((LOG(P16))/LOG(2))))","v":0},null,null,{"$f":"N16","v":12112},{"$f":"COUNTIF(L7:L27,T16)","v":0},{"$f":"U16/(W4-U25)","v":0},{"$f":"IF(V16=0,0,(V16*((LOG(V16))/LOG(2))))","v":0},null,{"$f":"N16","v":12112},{"$f":"COUNTIF(L28:L48,Y16)","v":0},{"$f":"Z16/(AB4-Z25)","v":0},{"$f":"IF(AA16=0,0,(AA16*((LOG(AA16))/LOG(2))))","v":0},null,{"$f":"N16","v":12112},{"$f":"COUNTIF(L49:L70,AD16)","v":0},{"$f":"AE16/(AG4-AE25)","v":0},{"$f":"IF(AF16=0,0,(AF16*((LOG(AF16))/LOG(2))))","v":0},null,{"$f":"N16","v":12112},{"$f":"COUNTIF(L71:L91,AI16)","v":0},{"$f":"AJ16/(AL4-AJ25)","v":0},{"$f":"IF(AK16=0,0,(AK16*((LOG(AK16))/LOG(2))))","v":0},null,{"$f":"N16","v":12112},{"$f":"COUNTIF(L92:L112,AN16)","v":0},{"$f":"AO16/(AQ4-AO25)","v":0},{"$f":"IF(AP16=0,0,(AP16*((LOG(AP16))/LOG(2))))","v":0},null,{"$f":"N16","v":12112},{"$f":"COUNTIF(L113:L133,AS16)","v":0},{"$f":"AT16/(AV4-AT25)","v":0},{"$f":"IF(AU16=0,0,(AU16*((LOG(AU16))/LOG(2))))","v":0}]
[12,1577,13,1587,24,1599,14,1614,24,1625,0,11212,null,12121,{"$f":"COUNTIF($L$7:$L$500,N17)","v":12},{"$f":"O17/$Q$4","v":9.5238095238095233E-2},{"$f":"IF(P17=0,0,(P17*((LOG(P17))/LOG(2))))","v":-0.32307784978845333},null,null,{"$f":"N17","v":12121},{"$f":"COUNTIF(L7:L27,T17)","v":5},{"$f":"U17/(W4-U25)","v":0.26315789473684209},{"$f":"IF(V17=0,0,(V17*((LOG(V17))/LOG(2))))","v":-0.50684195225163764},null,{"$f":"N17","v":12121},{"$f":"COUNTIF(L28:L48,Y17)","v":0},{"$f":"Z17/(AB4-Z25)","v":0},{"$f":"IF(AA17=0,0,(AA17*((LOG(AA17))/LOG(2))))","v":0},null,{"$f":"N17","v":12121},{"$f":"COUNTIF(L49:L70,AD17)","v":1},{"$f":"AE17/(AG4-AE25)","v":4.5454545454545456E-2},{"$f":"IF(AF17=0,0,(AF17*((LOG(AF17))/LOG(2))))","v":-0.20270143721078623},null,{"$f":"N17","v":12121},{"$f":"COUNTIF(L71:L91,AI17)","v":2},{"$f":"AJ17/(AL4-AJ25)","v":9.5238095238095233E-2},{"$f":"IF(AK17=0,0,(AK17*((LOG(AK17))/LOG(2))))","v":-0.32307784978845333},null,{"$f":"N17","v":12121},{"$f":"COUNTIF(L92:L112,AN17)","v":1},{"$f":"AO17/(AQ4-AO25)","v":0.05},{"$f":"IF(AP17=0,0,(AP17*((LOG(AP17))/LOG(2))))","v":-0.21609640474436814},null,{"$f":"N17","v":12121},{"$f":"COUNTIF(L113:L133,AS17)","v":3},{"$f":"AT17/(AV4-AT25)","v":0.17647058823529413},{"$f":"IF(AU17=0,0,(AU17*((LOG(AU17))/LOG(2))))","v":-0.44161770715220888}]
[12,1728,13,1736,24,1748,23,1763,24,1775,0,11222,null,12122,{"$f":"COUNTIF($L$7:$L$500,N18)","v":0},{"$f":"O18/$Q$4","v":0},{"$f":"IF(P18=0,0,(P18*((LOG(P18))/LOG(2))))","v":0},null,null,{"$f":"N18","v":12122},{"$f":"COUNTIF(L7:L27,T18)","v":0},{"$f":"U18/(W4-U25)","v":0},{"$f":"IF(V18=0,0,(V18*((LOG(V18))/LOG(2))))","v":0},null,{"$f":"N18","v":12122},{"$f":"COUNTIF(L28:L48,Y18)","v":0},{"$f":"Z18/(AB4-Z25)","v":0},{"$f":"IF(AA18=0,0,(AA18*((LOG(AA18))/LOG(2))))","v":0},null,{"$f":"N18","v":12122},{"$f":"COUNTIF(L49:L70,AD18)","v":0},{"$f":"AE18/(AG4-AE25)","v":0},{"$f":"IF(AF18=0,0,(AF18*((LOG(AF18))/LOG(2))))","v":0},null,{"$f":"N18","v":12122},{"$f":"COUNTIF(L71:L91,AI18)","v":0},{"$f":"AJ18/(AL4-AJ25)","v":0},{"$f":"IF(AK18=0,0,(AK18*((LOG(AK18))/LOG(2))))","v":0},null,{"$f":"N18","v":12122},{"$f":"COUNTIF(L92:L112,AN18)","v":0},{"$f":"AO18/(AQ4-AO25)","v":0},{"$f":"IF(AP18=0,0,(AP18*((LOG(AP18))/LOG(2))))","v":0},null,{"$f":"N18","v":12122},{"$f":"COUNTIF(L113:L133,AS18)","v":0},{"$f":"AT18/(AV4-AT25)","v":0},{"$f":"IF(AU18=0,0,(AU18*((LOG(AU18))/LOG(2))))","v":0}]
[12,1894,13,1914,24,1924,14,1933,24,1946,0,11212,null,12211,{"$f":"COUNTIF($L$7:$L$500,N19)","v":1},{"$f":"O19/$Q$4","v":7.9365079365079361E-3},{"$f":"IF(P19=0,0,(P19*((LOG(P19))/LOG(2))))","v":-5.5375237488094572E-2},null,null,{"$f":"N19","v":12211},{"$f":"COUNTIF(L7:L27,T19)","v":1},{"$f":"U19/(W4-U25)","v":5.2631578947368418E-2},{"$f":"IF(V19=0,0,(V19*((LOG(V19))/LOG(2))))","v":-0.22357513228650452},null,{"$f":"N19","v":12211},{"$f":"COUNTIF(L28:L48,Y19)","v":0},{"$f":"Z19/(AB4-Z25)","v":0},{"$f":"IF(AA19=0,0,(AA19*((LOG(AA19))/LOG(2))))","v":0},null,{"$f":"N19","v":12211},{"$f":"COUNTIF(L49:L70,AD19)","v":0},{"$f":"AE19/(AG4-AE25)","v":0},{"$f":"IF(AF19=0,0,(AF19*((LOG(AF19))/LOG(2))))","v":0},null,{"$f":"N19","v":12211},{"$f":"COUNTIF(L71:L91,AI19)","v":0},{"$f":"AJ19/(AL4-AJ25)","v":0},{"$f":"IF(AK19=0,0,(AK19*((LOG(AK19))/LOG(2))))","v":0},null,{"$f":"N19","v":12211},{"$f":"COUNTIF(L92:L112,AN19)","v":0},{"$f":"AO19/(AQ4-AO25)","v":0},{"$f":"IF(AP19=0,0,(AP19*((LOG(AP19))/LOG(2))))","v":0},null,{"$f":"N19","v":12211},{"$f":"COUNTIF(L113:L133,AS19)","v":0},{"$f":"AT19/(AV4-AT25)","v":0},{"$f":"IF(AU19=0,0,(AU19*((LOG(AU19))/LOG(2))))","v":0}]
[21,2104,11,2113,22,2125,14,2134,24,2151,0,21212,null,12212,{"$f":"COUNTIF($L$7:$L$500,N20)","v":3},{"$f":"O20/$Q$4","v":2.3809523809523808E-2},{"$f":"IF(P20=0,0,(P20*((LOG(P20))/LOG(2))))","v":-0.12838851006616095},null,null,{"$f":"N20","v":12212},{"$f":"COUNTIF(L7:L27,T20)","v":2},{"$f":"U20/(W4-U25)","v":0.10526315789473684},{"$f":"IF(V20=0,0,(V20*((LOG(V20))/LOG(2))))","v":-0.34188710667827216},null,{"$f":"N20","v":12212},{"$f":"COUNTIF(L28:L48,Y20)","v":0},{"$f":"Z20/(AB4-Z25)","v":0},{"$f":"IF(AA20=0,0,(AA20*((LOG(AA20))/LOG(2))))","v":0},null,{"$f":"N20","v":12212},{"$f":"COUNTIF(L49:L70,AD20)","v":0},{"$f":"AE20/(AG4-AE25)","v":0},{"$f":"IF(AF20=0,0,(AF20*((LOG(AF20))/LOG(2))))","v":0},null,{"$f":"N20","v":12212},{"$f":"COUNTIF(L71:L91,AI20)","v":0},{"$f":"AJ20/(AL4-AJ25)","v":0},{"$f":"IF(AK20=0,0,(AK20*((LOG(AK20))/LOG(2))))","v":0},null,{"$f":"N20","v":12212},{"$f":"COUNTIF(L92:L112,AN20)","v":0},{"$f":"AO20/(AQ4-AO25)","v":0},{"$f":"IF(AP20=0,0,(AP20*((LOG(AP20))/LOG(2))))","v":0},null,{"$f":"N20","v":12212},{"$f":"COUNTIF(L113:L133,AS20)","v":1},{"$f":"AT20/(AV4-AT25)","v":5.8823529411764705E-2},{"$f":"IF(AU20=0,0,(AU20*((LOG(AU20))/LOG(2))))","v":-0.24043899066178465}]
[21,2259,11,2267,11,2281,21,2292,11,2301,1,21121,null,12221,{"$f":"COUNTIF($L$7:$L$500,N21)","v":4},{"$f":"O21/$Q$4","v":3.1746031746031744E-2},{"$f":"IF(P21=0,0,(P21*((LOG(P21))/LOG(2))))","v":-0.15800888646031477},null,null,{"$f":"N21","v":12221},{"$f":"COUNTIF(L7:L27,T21)","v":3},{"$f":"U21/(W4-U25)","v":0.15789473684210525},{"$f":"IF(V21=0,0,(V21*((LOG(V21))/LOG(2))))","v":-0.42046815990354147},null,{"$f":"N21","v":12221},{"$f":"COUNTIF(L28:L48,Y21)","v":0},{"$f":"Z21/(AB4-Z25)","v":0},{"$f":"IF(AA21=0,0,(AA21*((LOG(AA21))/LOG(2))))","v":0},null,{"$f":"N21","v":12221},{"$f":"COUNTIF(L49:L70,AD21)","v":0},{"$f":"AE21/(AG4-AE25)","v":0},{"$f":"IF(AF21=0,0,(AF21*((LOG(AF21))/LOG(2))))","v":0},null,{"$f":"N21","v":12221},{"$f":"COUNTIF(L71:L91,AI21)","v":0},{"$f":"AJ21/(AL4-AJ25)","v":0},{"$f":"IF(AK21=0,0,(AK21*((LOG(AK21))/LOG(2))))","v":0},null,{"$f":"N21","v":12221},{"$f":"COUNTIF(L92:L112,AN21)","v":0},{"$f":"AO21/(AQ4-AO25)","v":0},{"$f":"IF(AP21=0,0,(AP21*((LOG(AP21))/LOG(2))))","v":0},null,{"$f":"N21","v":12221},{"$f":"COUNTIF(L113:L133,AS21)","v":1},{"$f":"AT21/(AV4-AT25)","v":5.8823529411764705E-2},{"$f":"IF(AU21=0,0,(AU21*((LOG(AU21))/LOG(2))))","v":-0.24043899066178465}]
[12,2403,24,2415,24,2431,23,2478,13,2490,0,12221,null,12222,{"$f":"COUNTIF($L$7:$L$500,N22)","v":1},{"$f":"O22/$Q$4","v":7.9365079365079361E-3},{"$f":"IF(P22=0,0,(P22*((LOG(P22))/LOG(2))))","v":-5.5375237488094572E-2},null,null,{"$f":"N22","v":12222},{"$f":"COUNTIF(L7:L27,T22)","v":1},{"$f":"U22/(W4-U25)","v":5.2631578947368418E-2},{"$f":"IF(V22=0,0,(V22*((LOG(V22))/LOG(2))))","v":-0.22357513228650452},null,{"$f":"N22","v":12222},{"$f":"COUNTIF(L28:L48,Y22)","v":0},{"$f":"Z22/(AB4-Z25)","v":0},{"$f":"IF(AA22=0,0,(AA22*((LOG(AA22))/LOG(2))))","v":0},null,{"$f":"N22","v":12222},{"$f":"COUNTIF(L49:L70,AD22)","v":0},{"$f":"AE22/(AG4-AE25)","v":0},{"$f":"IF(AF22=0,0,(AF22*((LOG(AF22))/LOG(2))))","v":0},null,{"$f":"N22","v":12222},{"$f":"COUNTIF(L71:L91,AI22)","v":0},{"$f":"AJ22/(AL4-AJ25)","v":0},{"$f":"IF(AK22=0,0,(AK22*((LOG(AK22))/LOG(2))))","v":0},null,{"$f":"N22","v":12222},{"$f":"COUNTIF(L92:L112,AN22)","v":0},{"$f":"AO22/(AQ4-AO25)","v":0},{"$f":"IF(AP22=0,0,(AP22*((LOG(AP22))/LOG(2))))","v":0},null,{"$f":"N22","v":12222},{"$f":"COUNTIF(L113:L133,AS22)","v":0},{"$f":"AT22/(AV4-AT25)","v":0},{"$f":"IF(AU22=0,0,(AU22*((LOG(AU22))/LOG(2))))","v":0}]
[12,2593,24,2605,24,2617,14,2640,13,2652,0,12211,null,21111,{"$f":"COUNTIF($L$7:$L$500,N23)","v":0},{"$f":"O23/$Q$4","v":0},{"$f":"IF(P23=0,0,(P23*((LOG(P23))/LOG(2))))","v":0},null,null,{"$f":"N23","v":21111},{"$f":"COUNTIF(L7:L27,T23)","v":0},{"$f":"U23/(W4-U25)","v":0},{"$f":"IF(V23=0,0,(V23*((LOG(V23))/LOG(2))))","v":0},null,{"$f":"N23","v":21111},{"$f":"COUNTIF(L28:L48,Y23)","v":0},{"$f":"Z23/(AB4-Z25)","v":0},{"$f":"IF(AA23=0,0,(AA23*((LOG(AA23))/LOG(2))))","v":0},null,{"$f":"N23","v":21111},{"$f":"COUNTIF(L49:L70,AD23)","v":0},{"$f":"AE23/(AG4-AE25)","v":0},{"$f":"IF(AF23=0,0,(AF23*((LOG(AF23))/LOG(2))))","v":0},null,{"$f":"N23","v":21111},{"$f":"COUNTIF(L71:L91,AI23)","v":0},{"$f":"AJ23/(AL4-AJ25)","v":0},{"$f":"IF(AK23=0,0,(AK23*((LOG(AK23))/LOG(2))))","v":0},null,{"$f":"N23","v":21111},{"$f":"COUNTIF(L92:L112,AN23)","v":0},{"$f":"AO23/(AQ4-AO25)","v":0},{"$f":"IF(AP23=0,0,(AP23*((LOG(AP23))/LOG(2))))","v":0},null,{"$f":"N23","v":21111},{"$f":"COUNTIF(L113:L133,AS23)","v":0},{"$f":"AT23/(AV4-AT25)","v":0},{"$f":"IF(AU23=0,0,(AU23*((LOG(AU23))/LOG(2))))","v":0}]
[12,2771,24,2782,24,2794,23,2806,13,2818,0,12221,null,21112,{"$f":"COUNTIF($L$7:$L$500,N24)","v":0},{"$f":"O24/$Q$4","v":0},{"$f":"IF(P24=0,0,(P24*((LOG(P24))/LOG(2))))","v":0},null,null,{"$f":"N24","v":21112},{"$f":"COUNTIF(L7:L27,T24)","v":0},{"$f":"U24/(W4-U25)","v":0},{"$f":"IF(V24=0,0,(V24*((LOG(V24))/LOG(2))))","v":0},null,{"$f":"N24","v":21112},{"$f":"COUNTIF(L28:L48,Y24)","v":0},{"$f":"Z24/(AB4-Z25)","v":0},{"$f":"IF(AA24=0,0,(AA24*((LOG(AA24))/LOG(2))))","v":0},null,{"$f":"N24","v":21112},{"$f":"COUNTIF(L49:L70,AD24)","v":0},{"$f":"AE24/(AG4-AE25)","v":0},{"$f":"IF(AF24=0,0,(AF24*((LOG(AF24))/LOG(2))))","v":0},null,{"$f":"N24","v":21112},{"$f":"COUNTIF(L71:L91,AI24)","v":0},{"$f":"AJ24/(AL4-AJ25)","v":0},{"$f":"IF(AK24=0,0,(AK24*((LOG(AK24))/LOG(2))))","v":0},null,{"$f":"N24","v":21112},{"$f":"COUNTIF(L92:L112,AN24)","v":0},{"$f":"AO24/(AQ4-AO25)","v":0},{"$f":"IF(AP24=0,0,(AP24*((LOG(AP24))/LOG(2))))","v":0},null,{"$f":"N24","v":21112},{"$f":"COUNTIF(L113:L133,AS24)","v":0},{"$f":"AT24/(AV4-AT25)","v":0},{"$f":"IF(AU24=0,0,(AU24*((LOG(AU24))/LOG(2))))","v":0}]
[12,2927,24,2941,13,2954,23,2967,13,2983,0,12121,null,21121,{"$f":"COUNTIF($L$7:$L$500,N25)","v":6},{"$f":"O25/$Q$4","v":4.7619047619047616E-2},{"$f":"IF(P25=0,0,(P25*((LOG(P25))/LOG(2))))","v":-0.20915797251327431},null,null,{"$f":"N25","v":21121},{"$f":"COUNTIF(L7:L27,T25)","v":2},null,null,null,{"$f":"N25","v":21121},{"$f":"COUNTIF(L28:L48,Y25)","v":0},null,null,null,{"$f":"N25","v":21121},{"$f":"COUNTIF(L49:L70,AD25)","v":0},null,null,null,{"$f":"N25","v":21121},{"$f":"COUNTIF(L71:L91,AI25)","v":0},null,null,null,{"$f":"N25","v":21121},{"$f":"COUNTIF(L92:L112,AN25)","v":1},null,null,null,{"$f":"N25","v":21121},{"$f":"COUNTIF(L113:L133,AS25)","v":3}]
[12,3102,24,3111,13,3121,23,3134,13,3145,0,12121,null,21122,{"$f":"COUNTIF($L$7:$L$500,N26)","v":1},{"$f":"O26/$Q$4","v":7.9365079365079361E-3},{"$f":"IF(P26=0,0,(P26*((LOG(P26))/LOG(2))))","v":-5.5375237488094572E-2},null,null,{"$f":"N26","v":21122},{"$f":"COUNTIF(L7:L27,T26)","v":0},{"$f":"U26/(W4-U25)","v":0},{"$f":"IF(V26=0,0,(V26*((LOG(V26))/LOG(2))))","v":0},null,{"$f":"N26","v":21122},{"$f":"COUNTIF(L28:L48,Y26)","v":0},{"$f":"Z26/(AB4-Z25)","v":0},{"$f":"IF(AA26=0,0,(AA26*((LOG(AA26))/LOG(2))))","v":0},null,{"$f":"N26","v":21122},{"$f":"COUNTIF(L49:L70,AD26)","v":0},{"$f":"AE26/(AG4-AE25)","v":0},{"$f":"IF(AF26=0,0,(AF26*((LOG(AF26))/LOG(2))))","v":0},null,{"$f":"N26","v":21122},{"$f":"COUNTIF(L71:L91,AI26)","v":0},{"$f":"AJ26/(AL4-AJ25)","v":0},{"$f":"IF(AK26=0,0,(AK26*((LOG(AK26))/LOG(2))))","v":0},null,{"$f":"N26","v":21122},{"$f":"COUNTIF(L92:L112,AN26)","v":0},{"$f":"AO26/(AQ4-AO25)","v":0},{"$f":"IF(AP26=0,0,(AP26*((LOG(AP26))/LOG(2))))","v":0},null,{"$f":"N26","v":21122},{"$f":"COUNTIF(L113:L133,AS26)","v":1},{"$f":"AT26/(AV4-AT25)","v":5.8823529411764705E-2},{"$f":"IF(AU26=0,0,(AU26*((LOG(AU26))/LOG(2))))","v":-0.24043899066178465}]
[12,3253,13,3263,13,3290,14,3308,24,3328,0,11112,null,21211,{"$f":"COUNTIF($L$7:$L$500,N27)","v":7},{"$f":"O27/$Q$4","v":5.5555555555555552E-2},{"$f":"IF(P27=0,0,(P27*((LOG(P27))/LOG(2))))","v":-0.23166250008012845},null,null,{"$f":"N27","v":21211},{"$f":"COUNTIF(L7:L27,T27)","v":0},{"$f":"U27/(W4-U25)","v":0},{"$f":"IF(V27=0,0,(V27*((LOG(V27))/LOG(2))))","v":0},null,{"$f":"N27","v":21211},{"$f":"COUNTIF(L28:L48,Y27)","v":4},{"$f":"Z27/(AB4-Z25)","v":0.19047619047619047},{"$f":"IF(AA27=0,0,(AA27*((LOG(AA27))/LOG(2))))","v":-0.4556795091007162},null,{"$f":"N27","v":21211},{"$f":"COUNTIF(L49:L70,AD27)","v":3},{"$f":"AE27/(AG4-AE25)","v":0.13636363636363635},{"$f":"IF(AF27=0,0,(AF27*((LOG(AF27))/LOG(2))))","v":-0.39197306153401923},null,{"$f":"N27","v":21211},{"$f":"COUNTIF(L71:L91,AI27)","v":0},{"$f":"AJ27/(AL4-AJ25)","v":0},{"$f":"IF(AK27=0,0,(AK27*((LOG(AK27))/LOG(2))))","v":0},null,{"$f":"N27","v":21211},{"$f":"COUNTIF(L92:L112,AN27)","v":0},{"$f":"AO27/(AQ4-AO25)","v":0},{"$f":"IF(AP27=0,0,(AP27*((LOG(AP27))/LOG(2))))","v":0},null,{"$f":"N27","v":21211},{"$f":"COUNTIF(L113:L133,AS27)","v":0},{"$f":"AT27/(AV4-AT25)","v":0},{"$f":"IF(AU27=0,0,(AU27*((LOG(AU27))/LOG(2))))","v":0}]
[12,3440,13,3449,24,3458,14,3467,13,3484,0,11211,null,21212,{"$f":"COUNTIF($L$7:$L$500,N28)","v":35},{"$f":"O28/$Q$4","v":0.27777777777777779},{"$f":"IF(P28=0,0,(P28*((LOG(P28))/LOG(2))))","v":-0.51333247404304172},null,null,{"$f":"N28","v":21212},{"$f":"COUNTIF(L7:L27,T28)","v":1},{"$f":"U28/(W4-U25)","v":5.2631578947368418E-2},{"$f":"IF(V28=0,0,(V28*((LOG(V28))/LOG(2))))","v":-0.22357513228650452},null,{"$f":"N28","v":21212},{"$f":"COUNTIF(L28:L48,Y28)","v":8},{"$f":"Z28/(AB4-Z25)","v":0.38095238095238093},{"$f":"IF(AA28=0,0,(AA28*((LOG(AA28))/LOG(2))))","v":-0.53040663724905157},null,{"$f":"N28","v":21212},{"$f":"COUNTIF(L49:L70,AD28)","v":7},{"$f":"AE28/(AG4-AE25)","v":0.31818181818181818},{"$f":"IF(AF28=0,0,(AF28*((LOG(AF28))/LOG(2))))","v":-0.52566076709353871},null,{"$f":"N28","v":21212},{"$f":"COUNTIF(L71:L91,AI28)","v":4},{"$f":"AJ28/(AL4-AJ25)","v":0.19047619047619047},{"$f":"IF(AK28=0,0,(AK28*((LOG(AK28))/LOG(2))))","v":-0.4556795091007162},null,{"$f":"N28","v":21212},{"$f":"COUNTIF(L92:L112,AN28)","v":10},{"$f":"AO28/(AQ4-AO25)","v":0.5},{"$f":"IF(AP28=0,0,(AP28*((LOG(AP28))/LOG(2))))","v":-0.5},null,{"$f":"N28","v":21212},{"$f":"COUNTIF(L113:L133,AS28)","v":5},{"$f":"AT28/(AV4-AT25)","v":0.29411764705882354},{"$f":"IF(AU28=0,0,(AU28*((LOG(AU28))/LOG(2))))","v":-0.51927492540087561}]
[12,3584,13,3600,13,3627,23,3635,13,3643,0,11121,null,21221,{"$f":"COUNTIF($L$7:$L$500,N29)","v":2},{"$f":"O29/$Q$4","v":1.5873015873015872E-2},{"$f":"IF(P29=0,0,(P29*((LOG(P29))/LOG(2))))","v":-9.4877459103173273E-2},null,null,{"$f":"N29","v":21221},{"$f":"COUNTIF(L7:L27,T29)","v":0},{"$f":"U29/(W4-U25)","v":0},{"$f":"IF(V29=0,0,(V29*((LOG(V29))/LOG(2))))","v":0},null,{"$f":"N29","v":21221},{"$f":"COUNTIF(L28:L48,Y29)","v":1},{"$f":"Z29/(AB4-Z25)","v":4.7619047619047616E-2},{"$f":"IF(AA29=0,0,(AA29*((LOG(AA29))/LOG(2))))","v":-0.20915797251327431},null,{"$f":"N29","v":21221},{"$f":"COUNTIF(L49:L70,AD29)","v":0},{"$f":"AE29/(AG4-AE25)","v":0},{"$f":"IF(AF29=0,0,(AF29*((LOG(AF29))/LOG(2))))","v":0},null,{"$f":"N29","v":21221},{"$f":"COUNTIF(L71:L91,AI29)","v":1},{"$f":"AJ29/(AL4-AJ25)","v":4.7619047619047616E-2},{"$f":"IF(AK29=0,0,(AK29*((LOG(AK29))/LOG(2))))","v":-0.20915797251327431},null,{"$f":"N29","v":21221},{"$f":"COUNTIF(L92:L112,AN29)","v":0},{"$f":"AO29/(AQ4-AO25)","v":0},{"$f":"IF(AP29=0,0,(AP29*((LOG(AP29))/LOG(2))))","v":0},null,{"$f":"N29","v":21221},{"$f":"COUNTIF(L113:L133,AS29)","v":0},{"$f":"AT29/(AV4-AT25)","v":0},{"$f":"IF(AU29=0,0,(AU29*((LOG(AU29))/LOG(2))))","v":0}]
[12,3756,13,3774,24,3786,14,3794,13,3806,0,11211,null,21222,{"$f":"COUNTIF($L$7:$L$500,N30)","v":0},{"$f":"O30/$Q$4","v":0},{"$f":"IF(P30=0,0,(P30*((LOG(P30))/LOG(2))))","v":0},null,null,{"$f":"N30","v":21222},{"$f":"COUNTIF(L7:L27,T30)","v":0},{"$f":"U30/(W4-U25)","v":0},{"$f":"IF(V30=0,0,(V30*((LOG(V30))/LOG(2))))","v":0},null,{"$f":"N30","v":21222},{"$f":"COUNTIF(L28:L48,Y30)","v":0},{"$f":"Z30/(AB4-Z25)","v":0},{"$f":"IF(AA30=0,0,(AA30*((LOG(AA30))/LOG(2))))","v":0},null,{"$f":"N30","v":21222},{"$f":"COUNTIF(L49:L70,AD30)","v":0},{"$f":"AE30/(AG4-AE25)","v":0},{"$f":"IF(AF30=0,0,(AF30*((LOG(AF30))/LOG(2))))","v":0},null,{"$f":"N30","v":21222},{"$f":"COUNTIF(L71:L91,AI30)","v":0},{"$f":"AJ30/(AL4-AJ25)","v":0},{"$f":"IF(AK30=0,0,(AK30*((LOG(AK30))/LOG(2))))","v":0},null,{"$f":"N30","v":21222},{"$f":"COUNTIF(L92:L112,AN30)","v":0},{"$f":"AO30/(AQ4-AO25)","v":0},{"$f":"IF(AP30=0,0,(AP30*((LOG(AP30))/LOG(2))))","v":0},null,{"$f":"N30","v":21222},{"$f":"COUNTIF(L113:L133,AS30)","v":0},{"$f":"AT30/(AV4-AT25)","v":0},{"$f":"IF(AU30=0,0,(AU30*((LOG(AU30))/LOG(2))))","v":0}]
[12,3965,13,3981,24,3992,14,4004,13,4015,0,11211,null,22111,{"$f":"COUNTIF($L$7:$L$500,N31)","v":1},{"$f":"O31/$Q$4","v":7.9365079365079361E-3},{"$f":"IF(P31=0,0,(P31*((LOG(P31))/LOG(2))))","v":-5.5375237488094572E-2},null,null,{"$f":"N31","v":22111},{"$f":"COUNTIF(L7:L27,T31)","v":0},{"$f":"U31/(W4-U25)","v":0},{"$f":"IF(V31=0,0,(V31*((LOG(V31))/LOG(2))))","v":0},null,{"$f":"N31","v":22111},{"$f":"COUNTIF(L28:L48,Y31)","v":1},{"$f":"Z31/(AB4-Z25)","v":4.7619047619047616E-2},{"$f":"IF(AA31=0,0,(AA31*((LOG(AA31))/LOG(2))))","v":-0.20915797251327431},null,{"$f":"N31","v":22111},{"$f":"COUNTIF(L49:L70,AD31)","v":0},{"$f":"AE31/(AG4-AE25)","v":0},{"$f":"IF(AF31=0,0,(AF31*((LOG(AF31))/LOG(2))))","v":0},null,{"$f":"N31","v":22111},{"$f":"COUNTIF(L71:L91,AI31)","v":0},{"$f":"AJ31/(AL4-AJ25)","v":0},{"$f":"IF(AK31=0,0,(AK31*((LOG(AK31))/LOG(2))))","v":0},null,{"$f":"N31","v":22111},{"$f":"COUNTIF(L92:L112,AN31)","v":0},{"$f":"AO31/(AQ4-AO25)","v":0},{"$f":"IF(AP31=0,0,(AP31*((LOG(AP31))/LOG(2))))","v":0},null,{"$f":"N31","v":22111},{"$f":"COUNTIF(L113:L133,AS31)","v":0},{"$f":"AT31/(AV4-AT25)","v":0},{"$f":"IF(AU31=0,0,(AU31*((LOG(AU31))/LOG(2))))","v":0}]
[21,4154,11,4166,22,4179,14,4192,24,4204,0,21212,null,22112,{"$f":"COUNTIF($L$7:$L$500,N32)","v":0},{"$f":"O32/$Q$4","v":0},{"$f":"IF(P32=0,0,(P32*((LOG(P32))/LOG(2))))","v":0},null,null,{"$f":"N32","v":22112},{"$f":"COUNTIF(L7:L27,T32)","v":0},{"$f":"U32/(W4-U25)","v":0},{"$f":"IF(V32=0,0,(V32*((LOG(V32))/LOG(2))))","v":0},null,{"$f":"N32","v":22112},{"$f":"COUNTIF(L28:L48,Y32)","v":0},{"$f":"Z32/(AB4-Z25)","v":0},{"$f":"IF(AA32=0,0,(AA32*((LOG(AA32))/LOG(2))))","v":0},null,{"$f":"N32","v":22112},{"$f":"COUNTIF(L49:L70,AD32)","v":0},{"$f":"AE32/(AG4-AE25)","v":0},{"$f":"IF(AF32=0,0,(AF32*((LOG(AF32))/LOG(2))))","v":0},null,{"$f":"N32","v":22112},{"$f":"COUNTIF(L71:L91,AI32)","v":0},{"$f":"AJ32/(AL4-AJ25)","v":0},{"$f":"IF(AK32=0,0,(AK32*((LOG(AK32))/LOG(2))))","v":0},null,{"$f":"N32","v":22112},{"$f":"COUNTIF(L92:L112,AN32)","v":0},{"$f":"AO32/(AQ4-AO25)","v":0},{"$f":"IF(AP32=0,0,(AP32*((LOG(AP32))/LOG(2))))","v":0},null,{"$f":"N32","v":22112},{"$f":"COUNTIF(L113:L133,AS32)","v":0},{"$f":"AT32/(AV4-AT25)","v":0},{"$f":"IF(AU32=0,0,(AU32*((LOG(AU32))/LOG(2))))","v":0}]
[12,4338,13,4361,24,4384,14,4393,24,4405,0,11212,null,22121,{"$f":"COUNTIF($L$7:$L$500,N33)","v":18},{"$f":"O33/$Q$4","v":0.14285714285714285},{"$f":"IF(P33=0,0,(P33*((LOG(P33))/LOG(2))))","v":-0.40105070315108626},null,null,{"$f":"N33","v":22121},{"$f":"COUNTIF(L7:L27,T33)","v":0},{"$f":"U33/(W4-U25)","v":0},{"$f":"IF(V33=0,0,(V33*((LOG(V33))/LOG(2))))","v":0},null,{"$f":"N33","v":22121},{"$f":"COUNTIF(L28:L48,Y33)","v":1},{"$f":"Z33/(AB4-Z25)","v":4.7619047619047616E-2},{"$f":"IF(AA33=0,0,(AA33*((LOG(AA33))/LOG(2))))","v":-0.20915797251327431},null,{"$f":"N33","v":22121},{"$f":"COUNTIF(L49:L70,AD33)","v":8},{"$f":"AE33/(AG4-AE25)","v":0.36363636363636365},{"$f":"IF(AF33=0,0,(AF33*((LOG(AF33))/LOG(2))))","v":-0.53070240677719893},null,{"$f":"N33","v":22121},{"$f":"COUNTIF(L71:L91,AI33)","v":5},{"$f":"AJ33/(AL4-AJ25)","v":0.23809523809523808},{"$f":"IF(AK33=0,0,(AK33*((LOG(AK33))/LOG(2))))","v":-0.49294983997414238},null,{"$f":"N33","v":22121},{"$f":"COUNTIF(L92:L112,AN33)","v":4},{"$f":"AO33/(AQ4-AO25)","v":0.2},{"$f":"IF(AP33=0,0,(AP33*((LOG(AP33))/LOG(2))))","v":-0.46438561897747244},null,{"$f":"N33","v":22121},{"$f":"COUNTIF(L113:L133,AS33)","v":0},{"$f":"AT33/(AV4-AT25)","v":0},{"$f":"IF(AU33=0,0,(AU33*((LOG(AU33))/LOG(2))))","v":0}]
[21,4512,11,4526,22,4538,14,4546,13,4554,0,21211,null,22122,{"$f":"COUNTIF($L$7:$L$500,N34)","v":3},{"$f":"O34/$Q$4","v":2.3809523809523808E-2},{"$f":"IF(P34=0,0,(P34*((LOG(P34))/LOG(2))))","v":-0.12838851006616095},null,null,{"$f":"N34","v":22122},{"$f":"COUNTIF(L7:L27,T34)","v":0},{"$f":"U34/(W4-U25)","v":0},{"$f":"IF(V34=0,0,(V34*((LOG(V34))/LOG(2))))","v":0},null,{"$f":"N34","v":22122},{"$f":"COUNTIF(L28:L48,Y34)","v":0},{"$f":"Z34/(AB4-Z25)","v":0},{"$f":"IF(AA34=0,0,(AA34*((LOG(AA34))/LOG(2))))","v":0},null,{"$f":"N34","v":22122},{"$f":"COUNTIF(L49:L70,AD34)","v":1},{"$f":"AE34/(AG4-AE25)","v":4.5454545454545456E-2},{"$f":"IF(AF34=0,0,(AF34*((LOG(AF34))/LOG(2))))","v":-0.20270143721078623},null,{"$f":"N34","v":22122},{"$f":"COUNTIF(L71:L91,AI34)","v":2},{"$f":"AJ34/(AL4-AJ25)","v":9.5238095238095233E-2},{"$f":"IF(AK34=0,0,(AK34*((LOG(AK34))/LOG(2))))","v":-0.32307784978845333},null,{"$f":"N34","v":22122},{"$f":"COUNTIF(L92:L112,AN34)","v":0},{"$f":"AO34/(AQ4-AO25)","v":0},{"$f":"IF(AP34=0,0,(AP34*((LOG(AP34))/LOG(2))))","v":0},null,{"$f":"N34","v":22122},{"$f":"COUNTIF(L113:L133,AS34)","v":0},{"$f":"AT34/(AV4-AT25)","v":0},{"$f":"IF(AU34=0,0,(AU34*((LOG(AU34))/LOG(2))))","v":0}]
[12,4671,13,4688,24,4698,14,4706,13,4715,0,11211,null,22211,{"$f":"COUNTIF($L$7:$L$500,N35)","v":1},{"$f":"O35/$Q$4","v":7.9365079365079361E-3},{"$f":"IF(P35=0,0,(P35*((LOG(P35))/LOG(2))))","v":-5.5375237488094572E-2},null,null,{"$f":"N35","v":22211},{"$f":"COUNTIF(L7:L27,T35)","v":0},{"$f":"U35/(W4-U25)","v":0},{"$f":"IF(V35=0,0,(V35*((LOG(V35))/LOG(2))))","v":0},null,{"$f":"N35","v":22211},{"$f":"COUNTIF(L28:L48,Y35)","v":0},{"$f":"Z35/(AB4-Z25)","v":0},{"$f":"IF(AA35=0,0,(AA35*((LOG(AA35))/LOG(2))))","v":0},null,{"$f":"N35","v":22211},{"$f":"COUNTIF(L49:L70,AD35)","v":0},{"$f":"AE35/(AG4-AE25)","v":0},{"$f":"IF(AF35=0,0,(AF35*((LOG(AF35))/LOG(2))))","v":0},null,{"$f":"N35","v":22211},{"$f":"COUNTIF(L71:L91,AI35)","v":1},{"$f":"AJ35/(AL4-AJ25)","v":4.7619047619047616E-2},{"$f":"IF(AK35=0,0,(AK35*((LOG(AK35))/LOG(2))))","v":-0.20915797251327431},null,{"$f":"N35","v":22211},{"$f":"COUNTIF(L92:L112,AN35)","v":0},{"$f":"AO35/(AQ4-AO25)","v":0},{"$f":"IF(AP35=0,0,(AP35*((LOG(AP35))/LOG(2))))","v":0},null,{"$f":"N35","v":22211},{"$f":"COUNTIF(L113:L133,AS35)","v":0},{"$f":"AT35/(AV4-AT25)","v":0},{"$f":"IF(AU35=0,0,(AU35*((LOG(AU35))/LOG(2))))","v":0}]
[21,4854,11,4863,22,4874,14,4882,13,4890,0,21211,null,22212,{"$f":"COUNTIF($L$7:$L$500,N36)","v":6},{"$f":"O36/$Q$4","v":4.7619047619047616E-2},{"$f":"IF(P36=0,0,(P36*((LOG(P36))/LOG(2))))","v":-0.20915797251327431},null,null,{"$f":"N36","v":22212},{"$f":"COUNTIF(L7:L27,T36)","v":0},{"$f":"U36/(W4-U25)","v":0},{"$f":"IF(V36=0,0,(V36*((LOG(V36))/LOG(2))))","v":0},null,{"$f":"N36","v":22212},{"$f":"COUNTIF(L28:L48,Y36)","v":0},{"$f":"Z36/(AB4-Z25)","v":0},{"$f":"IF(AA36=0,0,(AA36*((LOG(AA36))/LOG(2))))","v":0},null,{"$f":"N36","v":22212},{"$f":"COUNTIF(L49:L70,AD36)","v":1},{"$f":"AE36/(AG4-AE25)","v":4.5454545454545456E-2},{"$f":"IF(AF36=0,0,(AF36*((LOG(AF36))/LOG(2))))","v":-0.20270143721078623},null,{"$f":"N36","v":22212},{"$f":"COUNTIF(L71:L91,AI36)","v":3},{"$f":"AJ36/(AL4-AJ25)","v":0.14285714285714285},{"$f":"IF(AK36=0,0,(AK36*((LOG(AK36))/LOG(2))))","v":-0.40105070315108626},null,{"$f":"N36","v":22212},{"$f":"COUNTIF(L92:L112,AN36)","v":2},{"$f":"AO36/(AQ4-AO25)","v":0.1},{"$f":"IF(AP36=0,0,(AP36*((LOG(AP36))/LOG(2))))","v":-0.33219280948873625},null,{"$f":"N36","v":22212},{"$f":"COUNTIF(L113:L133,AS36)","v":0},{"$f":"AT36/(AV4-AT25)","v":0},{"$f":"IF(AU36=0,0,(AU36*((LOG(AU36))/LOG(2))))","v":0}]
[21,5001,11,5009,22,5020,14,5029,13,5036,0,21211,null,22221,{"$f":"COUNTIF($L$7:$L$500,N37)","v":2},{"$f":"O37/$Q$4","v":1.5873015873015872E-2},{"$f":"IF(P37=0,0,(P37*((LOG(P37))/LOG(2))))","v":-9.4877459103173273E-2},null,null,{"$f":"N37","v":22221},{"$f":"COUNTIF(L7:L27,T37)","v":0},{"$f":"U37/(W4-U25)","v":0},{"$f":"IF(V37=0,0,(V37*((LOG(V37))/LOG(2))))","v":0},null,{"$f":"N37","v":22221},{"$f":"COUNTIF(L28:L48,Y37)","v":0},{"$f":"Z37/(AB4-Z25)","v":0},{"$f":"IF(AA37=0,0,(AA37*((LOG(AA37))/LOG(2))))","v":0},null,{"$f":"N37","v":22221},{"$f":"COUNTIF(L49:L70,AD37)","v":1},{"$f":"AE37/(AG4-AE25)","v":4.5454545454545456E-2},{"$f":"IF(AF37=0,0,(AF37*((LOG(AF37))/LOG(2))))","v":-0.20270143721078623},null,{"$f":"N37","v":22221},{"$f":"COUNTIF(L71:L91,AI37)","v":1},{"$f":"AJ37/(AL4-AJ25)","v":4.7619047619047616E-2},{"$f":"IF(AK37=0,0,(AK37*((LOG(AK37))/LOG(2))))","v":-0.20915797251327431},null,{"$f":"N37","v":22221},{"$f":"COUNTIF(L92:L112,AN37)","v":0},{"$f":"AO37/(AQ4-AO25)","v":0},{"$f":"IF(AP37=0,0,(AP37*((LOG(AP37))/LOG(2))))","v":0},null,{"$f":"N37","v":22221},{"$f":"COUNTIF(L113:L133,AS37)","v":0},{"$f":"AT37/(AV4-AT25)","v":0},{"$f":"IF(AU37=0,0,(AU37*((LOG(AU37))/LOG(2))))","v":0}]
[21,5146,11,5156,22,5167,14,5177,24,5190,0,21212,null,22222,{"$f":"COUNTIF($L$7:$L$500,N38)","v":1},{"$f":"O38/$Q$4","v":7.9365079365079361E-3},{"$f":"IF(P38=0,0,(P38*((LOG(P38))/LOG(2))))","v":-5.5375237488094572E-2},null,null,{"$f":"N38","v":22222},{"$f":"COUNTIF(L7:L27,T38)","v":0},{"$f":"U38/(W4-U25)","v":0},{"$f":"IF(V38=0,0,(V38*((LOG(V38))/LOG(2))))","v":0},null,{"$f":"N38","v":22222},{"$f":"COUNTIF(L28:L48,Y38)","v":0},{"$f":"Z38/(AB4-Z25)","v":0},{"$f":"IF(AA38=0,0,(AA38*((LOG(AA38))/LOG(2))))","v":0},null,{"$f":"N38","v":22222},{"$f":"COUNTIF(L49:L70,AD38)","v":0},{"$f":"AE38/(AG4-AE25)","v":0},{"$f":"IF(AF38=0,0,(AF38*((LOG(AF38))/LOG(2))))","v":0},null,{"$f":"N38","v":22222},{"$f":"COUNTIF(L71:L91,AI38)","v":1},{"$f":"AJ38/(AL4-AJ25)","v":4.7619047619047616E-2},{"$f":"IF(AK38=0,0,(AK38*((LOG(AK38))/LOG(2))))","v":-0.20915797251327431},null,{"$f":"N38","v":22222},{"$f":"COUNTIF(L92:L112,AN38)","v":0},{"$f":"AO38/(AQ4-AO25)","v":0},{"$f":"IF(AP38=0,0,(AP38*((LOG(AP38))/LOG(2))))","v":0},null,{"$f":"N38","v":22222},{"$f":"COUNTIF(L113:L133,AS38)","v":0},{"$f":"AT38/(AV4-AT25)","v":0},{"$f":"IF(AU38=0,0,(AU38*((LOG(AU38))/LOG(2))))","v":0}]
[21,5331,11,5350,22,5361,14,5371,13,5392,0,21211,null,null,null,{"$f":"SUM(P7:P38)","v":0.99999999999999978},{"$f":"-SUM(Q7:Q38)","v":3.6452349798484591},null,null,null,null,{"$f":"SUM(V7:V38)","v":0.99999999999999978},{"$f":"-SUM(W7:W38)","v":3.0311161724560205},null,null,null,{"$f":"SUM(AA7:AA38)","v":1},{"$f":"-SUM(AB7:AB38)","v":2.4875555180168551},null,null,null,{"$f":"SUM(AF7:AF38)","v":0.99999999999999989},{"$f":"-SUM(AG7:AG38)","v":2.2591419842479015},null,null,null,{"$f":"SUM(AK7:AK38)","v":1},{"$f":"-SUM(AL7:AL38)","v":3.0416256143692229},null,null,null,{"$f":"SUM(AP7:AP38)","v":0.99999999999999989},{"$f":"-SUM(AQ7:AQ38)","v":2.0609640474436812},null,null,null,{"$f":"SUM(AU7:AU38)","v":1},{"$f":"-SUM(AV7:AV38)","v":2.4419235206010992}]
[21,5498,22,5519,13,5527,14,5549,13,5556,0,22111,null,null,null,"U=",{"$f":"Q39/(LOG(Q4)/LOG(2))","v":0.5224435625079451},null,null,null,null,"U1=",{"$f":"W39/(LOG(W4)/LOG(2))","v":0.69009497281241838},null,null,null,"U2=",{"$f":"AB39/(LOG(AB4)/LOG(2))","v":0.56634238343437515},null,null,null,"U3=",{"$f":"AG39/(LOG(AG4)/LOG(2))","v":0.50659863799823102},null,null,null,"U4=",{"$f":"AL39/(LOG(AL4)/LOG(2))","v":0.69248766006646334},null,null,null,"U5=",{"$f":"AQ39/(LOG(AQ4)/LOG(2))","v":0.46922019723698172},null,null,null,"U6=",{"$f":"AV39/(LOG(AV4)/LOG(2))","v":0.56500790086947061}]
[21,5691,11,5700,22,5710,14,5719,24,5731,0,21212]
[21,5908,11,5919,22,5943,23,5974,13,5984,0,21221]
[21,6158,11,6167,22,6176,14,6185,24,6198,0,21212,null,"Total Target Seq"]
[21,6328,11,6337,22,6348,14,6364,24,6377,0,21212,null,{"$f":"COUNTIF(L7:L133,G3)","v":6},null,21,21,22,21,21,21]
[21,6478,11,6487,22,6495,14,6504,24,6513,0,21212,null,null,null,"% of reinforcement given in 6 equal intervals based on number of trials "]
[21,6654,11,6663,22,6674,14,6682,24,6696,0,21212,null,null,null,"%_1","%_2","%_3","%_4","%_5","%_6"]
[21,6799,22,6813,13,6822,23,6831,13,6843,0,22121,null,null,"target sequence",{"$f":"$G$3","v":21121},{"$f":"$G$3","v":21121},{"$f":"$G$3","v":21121},{"$f":"$G$3","v":21121},{"$f":"$G$3","v":21121},{"$f":"$G$3","v":21121}]
[21,7026,11,7066,22,7079,14,7091,24,7105,0,21212,null,null,"total reinforcement",{"$f":"U25","v":2},{"$f":"Z25","v":0},{"$f":"AE25","v":0},{"$f":"AJ25","v":0},{"$f":"AO25","v":1},{"$f":"AT25","v":3}]
[21,7223,22,7247,13,7256,23,7268,13,7283,0,22121,null,null,"% target"]
[21,7402,11,7412,22,7420,14,7429,24,7441,0,21212,null,null,"CCRF"]
[21,7743,22,7807,13,7828,23,7840,13,7854,0,22121,null,null,"% CCRf"]
[21,7977,11,7986,22,7997,14,8006,13,8017,0,21211,null,null,"average response rate",{"$f":"J27/P44","v":158.47619047619048},{"$f":"(J48-J27)/Q44","v":179.85714285714286},{"$f":"(J70-J48)/R44","v":219.54545454545453},{"$f":"(J91-J70)/S44","v":204.8095238095238},{"$f":"(J112-J91)/T44","v":185.47619047619048},{"$f":"(J133-J112)/U44","v":-958.61904761904759}]
[21,8121,22,8146,13,8154,23,8167,13,8176,0,22121]
[21,8334,11,8343,22,8355,14,8368,24,8380,0,21212]
[21,8602,22,8628,13,8637,23,8646,13,8654,0,22121]
[12,8824,24,8835,13,8844,23,8857,13,8865,0,12121]
[21,9030,11,9039,22,9050,14,9059,24,9072,0,21212]
[21,9501,22,9514,24,9535,14,9544,24,9557,0,22212]
[21,9712,11,9722,22,9738,14,9747,24,9765,0,21212]
[21,9910,11,9921,22,9932,14,9940,24,9955,0,21212]
[21,10135,22,10143,13,10153,23,10166,13,10177,0,22121]
[21,10281,22,10295,13,10306,23,10318,13,10327,0,22121]
[21,10500,11,10509,22,10522,14,10531,13,10542,0,21211]
[21,10707,11,10717,22,10729,14,10738,13,10747,0,21211]
[21,10900,22,10918,13,10927,23,10946,24,10976,0,22122]
[21,11111,11,11121,22,11131,14,11140,24,11153,0,21212]
[21,11304,22,11323,13,11331,23,11343,13,11354,0,22121]
[21,11535,22,11549,24,11561,23,11580,13,11588,0,22221]
[21,11702,22,11719,13,11729,23,11741,13,11749,0,22121]
[21,11897,11,11906,22,11915,14,11923,24,11935,0,21212]
[21,12089,11,12099,22,12109,14,12118,24,12129,0,21212]
[21,12330,22,12357,24,12408,23,12436,24,12474,0,22222]
[21,12600,22,12617,13,12626,23,12634,13,12643,0,22121]
[21,12792,22,12809,24,12839,23,12865,13,12878,0,22221]
[21,13011,11,13026,22,13037,14,13046,24,13057,0,21212]
[21,13214,22,13275,24,13327,14,13343,24,13351,0,22212]
[21,13666,22,13683,13,13696,23,13713,24,13741,0,22122]
[21,13871,11,13883,22,13895,23,13906,13,13919,0,21221]
[21,14029,22,14037,24,14050,14,14060,24,14072,0,22212]
[12,14193,24,14204,13,14214,23,14226,13,14239,0,12121]
[21,14357,11,14370,22,14380,14,14388,24,14402,0,21212]
[21,14532,22,14576,13,14587,23,14596,13,14609,0,22121]
[21,14747,22,14759,13,14773,23,14785,24,14800,0,22122]
[21,14919,22,14934,13,14945,23,14956,13,14965,0,22121]
[21,15076,22,15087,24,15122,14,15133,24,15144,0,22212]
[12,15275,24,15293,13,15304,23,15313,13,15322,0,12121]
[21,15426,22,15442,24,15460,14,15470,13,15489,0,22211]
[21,15593,22,15606,13,15614,23,15623,13,15632,0,22121]
[21,15754,22,15776,13,15785,23,15794,13,15803,0,22121]
[12,15987,13,16006,24,16019,23,16052,13,16066,0,11221]
[21,16183,11,16201,22,16216,14,16224,24,16236,0,21212]
[21,16351,22,16365,13,16375,23,16384,13,16392,0,22121]
[12,16543,13,16554,24,16566,14,16575,24,16588,0,11212]
[21,16712,22,16730,13,16744,23,16756,13,16768,0,22121]
[21,16903,11,16918,22,16929,14,16938,24,16950,0,21212]
[12,17089,24,17101,13,17110,23,17123,13,17135,0,12121]
[21,17336,22,17370,24,17380,14,17394,24,17407,0,22212]
[12,17550,13,17575,24,17593,14,17606,24,17618,0,11212]
[21,17763,11,17777,22,17790,14,17798,24,17811,0,21212]
[21,17965,11,17982,22,17996,14,18006,24,18018,0,21212]
[21,18184,22,18196,13,18210,23,18222,13,18231,0,22121]
[21,18341,11,18355,11,18369,21,18378,11,18388,1,21121]
[21,18522,11,18532,22,18540,14,18549,24,18562,0,21212]
[21,18672,11,18682,22,18691,14,18700,24,18709,0,21212]
[21,18836,22,18863,24,18881,14,18894,24,18904,0,22212]
[21,19045,11,19055,22,19066,14,19077,24,19089,0,21212]
[21,19198,22,19223,13,19234,23,19246,13,19258,0,22121]
[21,19392,11,19402,22,19411,14,19421,24,19434,0,21212]
[12,19552,13,19569,13,19582,23,19591,13,19600,0,11121]
[21,19742,11,19752,22,19761,14,19769,24,19782,0,21212]
[21,19904,11,19916,22,19925,14,19954,24,19971,0,21212]
[21,20088,11,20097,22,20111,14,20119,24,20131,0,21212]
[12,20260,13,20269,24,20280,14,20299,24,20311,0,11212]
[12,20451,24,20462,13,20470,23,20481,13,20496,0,12121]
[21,20635,11,20644,22,20655,14,20663,24,20675,0,21212]
[12,20910,24,20921,24,20948,14,20969,24,20981,0,12212]
[21,21151,11,21164,22,21173,14,21181,24,21191,0,21212]
[21,21320,11,21340,11,21353,21,21361,11,21374,1,21121]
[12,21503,13,21520,24,21529,23,21542,24,21569,0,11222]
[12,21705,13,21718,24,21727,14,21735,24,21744,0,11212]
[21,21865,11,21873,22,21884,14,21894,24,21906,0,21212]
[21,22011,11,22029,22,22043,14,22051,24,22060,0,21212]
[21,22172,11,22182,11,22194,21,22203,22,22233,0,21122]
[12,22422,13,22432,24,22445,14,22460,24,22473,0,11212]
[21,22599,11,22610,11,22623,21,22634,11,22642,1,21121]
[12,22752,13,22793,24,22805,14,22830,24,22843,0,11212]
[12,23011,24,23020,13,23028,23,23042,13,23056,0,12121]
[21,23166,11,23174,22,23184,14,23193,24,23206,0,21212]
[21,23307,11,23328,11,23343,21,23352,11,23365,1,21121]
[12,23484,24,23493,24,23504,23,23515,13,23538,0,12221]
[12,23642,24,23650,13,23658,23,23670,13,23679,0,12121]
[12,23786,13,23803,24,23815,14,23842,24,23853,0,11212]
[12,23964,13,23978,24,23988,null,null,null,null,null,112]

{"sheet":"!MA05850.010","index":8,"n_rows":142,"n_cols":48,"rows_kept":142,"cut":false,"hidden":false,"merged":[[4,39,4,42],[5,39,5,40],[4,44,4,47],[5,44,5,45],[4,24,4,27],[5,24,5,25],[4,29,4,32],[5,29,5,30],[4,34,4,37],[5,34,5,35],[1,1,1,2],[5,13,5,14],[42,13,42,14],[43,13,43,14],[4,19,4,22],[5,19,5,20]]}
["Report for:!MA05850.010"]
["Date:","<date>"]
["Hen:","<hen>",null,null,null,"Correct Sequence",{"$f":"Start!J2","v":21121},null,null,null,null,null,null,null,null,"Total Sequences in Data",{"$f":"4994-COUNTBLANK(L7:L5000)","v":136},null,null,null,null,"Total Sequences in Block Data",{"$f":"COUNTA(L7:L29)","v":23},null,null,null,"Total Sequences in Block Data",{"$f":"COUNTA(L30:L51)","v":22},null,null,null,"Total Sequences in Block Data",{"$f":"COUNTA(L52:L74)","v":23},null,null,null,"Total Sequences in Block Data",{"$f":"COUNTA(L75:L97)","v":23},null,null,null,"Total Sequences in Block Data",{"$f":"COUNTA(L98:L119)","v":22},null,null,null,"Total Sequences in Block Data",{"$f":"COUNTA(L120:L142)","v":23}]
[null,null,null,null,null,null,null,null,null,null,null,null,null,null,null,"Total Sequences in Summary",{"$f":"SUM(O7:O38)","v":136},null,null,null,null,"Total Sequences in Block Summary",{"$f":"SUM(U7:U38)","v":23},null,null,null,"Total Sequences in Block Summary",{"$f":"SUM(Z7:Z38)","v":22},null,null,null,"Total Sequences in Block Summary",{"$f":"SUM(AE7:AE38)","v":23},null,null,null,"Total Sequences in Block Summary",{"$f":"SUM(AJ7:AJ38)","v":23},null,null,null,"Total Sequences in Block Summary",{"$f":"SUM(AO7:AO38)","v":22},null,null,null,"Total Sequences in Block Summary",{"$f":"SUM(AT7:AT38)","v":23}]
[null,null,null,null,null,null,null,null,null,null,null,null,null,null,null,null,null,null,null,"Block 1",null,null,null,null,"Block 2",null,null,null,null,"Block 3",null,null,null,null,"Block 4",null,null,null,null,"Block 5",null,null,null,null,"Block 6"]
["Sequence\nComponent\n1","Time\n1","Sequence\nComponent\n2","Time\n2","Sequence\nComponent\n3","Time\n3","Sequence\nComponent\n4","Time\n4","Sequence\nComponent\n5","Time\n5","Correct?\n0=No 1=Yes","Sequence",null,"Frequency",null,"Relative Frequency","Variability",null,null,"Frequency",null,"Relative Frequency","Variability",null,"Frequency",null,"Relative Frequency","Variability",null,"Frequency",null,"Relative Frequency","Variability",null,"Frequency",null,"Relative Frequency","Variability",null,"Frequency",null,"Relative Frequency","Variability",null,"Frequency",null,"Relative Frequency","Variability"]
[12,22,24,37,24,57,14,81,24,95,0,12212,null,11111,{"$f":"COUNTIF($L$7:$L$500,N7)","v":0},{"$f":"O7/$Q$4","v":0},{"$f":"IF(P7=0,0,(P7*((LOG(P7))/LOG(2))))","v":0},null,null,{"$f":"N7","v":11111},{"$f":"COUNTIF(L7:L29,T7)","v":0},{"$f":"U7/(W4-U25)","v":0},{"$f":"IF(V7=0,0,(V7*((LOG(V7))/LOG(2))))","v":0},null,{"$f":"N7","v":11111},{"$f":"COUNTIF(L30:L51,Y7)","v":0},{"$f":"Z7/(AB4-Z25)","v":0},{"$f":"IF(AA7=0,0,(AA7*((LOG(AA7))/LOG(2))))","v":0},null,{"$f":"N7","v":11111},{"$f":"COUNTIF(L52:L74,AD7)","v":0},{"$f":"AE7/(AG4-AE25)","v":0},{"$f":"IF(AF7=0,0,(AF7*((LOG(AF7))/LOG(2))))","v":0},null,{"$f":"N7","v":11111},{"$f":"COUNTIF(L75:L97,AI7)","v":0},{"$f":"AJ7/(AL4-AJ25)","v":0},{"$f":"IF(AK7=0,0,(AK7*((LOG(AK7))/LOG(2))))","v":0},null,{"$f":"N7","v":11111},{"$f":"COUNTIF(L98:L119,AN7)","v":0},{"$f":"AO7/(AQ4-AO25)","v":0},{"$f":"IF(AP7=0,0,(AP7*((LOG(AP7))/LOG(2))))","v":0},null,{"$f":"N7","v":11111},{"$f":"COUNTIF(L120:L142,AS7)","v":0},{"$f":"AT7/(AV4-AT25)","v":0},{"$f":"IF(AU7=0,0,(AU7*((LOG(AU7))/LOG(2))))","v":0}]
[12,203,24,215,13,238,23,250,13,269,0,12121,null,11112,{"$f":"COUNTIF($L$7:$L$500,N8)","v":1},{"$f":"O8/$Q$4","v":7.3529411764705881E-3},{"$f":"IF(P8=0,0,(P8*((LOG(P8))/LOG(2))))","v":-5.2113697362134843E-2},null,null,{"$f":"N8","v":11112},{"$f":"COUNTIF(L7:L29,T8)","v":1},{"$f":"U8/(W4-U25)","v":4.7619047619047616E-2},{"$f":"IF(V8=0,0,(V8*((LOG(V8))/LOG(2))))","v":-0.20915797251327431},null,{"$f":"N8","v":11112},{"$f":"COUNTIF(L30:L51,Y8)","v":0},{"$f":"Z8/(AB4-Z25)","v":0},{"$f":"IF(AA8=0,0,(AA8*((LOG(AA8))/LOG(2))))","v":0},null,{"$f":"N8","v":11112},{"$f":"COUNTIF(L52:L74,AD8)","v":0},{"$f":"AE8/(AG4-AE25)","v":0},{"$f":"IF(AF8=0,0,(AF8*((LOG(AF8))/LOG(2))))","v":0},null,{"$f":"N8","v":11112},{"$f":"COUNTIF(L75:L97,AI8)","v":0},{"$f":"AJ8/(AL4-AJ25)","v":0},{"$f":"IF(AK8=0,0,(AK8*((LOG(AK8))/LOG(2))))","v":0},null,{"$f":"N8","v":11112},{"$f":"COUNTIF(L98:L119,AN8)","v":0},{"$f":"AO8/(AQ4-AO25)","v":0},{"$f":"IF(AP8=0,0,(AP8*((LOG(AP8))/LOG(2))))","v":0},null,{"$f":"N8","v":11112},{"$f":"COUNTIF(L120:L142,AS8)","v":0},{"$f":"AT8/(AV4-AT25)","v":0},{"$f":"IF(AU8=0,0,(AU8*((LOG(AU8))/LOG(2))))","v":0}]
[12,376,13,397,24,408,14,417,13,429,0,11211,null,11121,{"$f":"COUNTIF($L$7:$L$500,N9)","v":9},{"$f":"O9/$Q$4","v":6.6176470588235295E-2},{"$f":"IF(P9=0,0,(P9*((LOG(P9))/LOG(2))))","v":-0.25924882763435475},null,null,{"$f":"N9","v":11121},{"$f":"COUNTIF(L7:L29,T9)","v":4},{"$f":"U9/(W4-U25)","v":0.19047619047619047},{"$f":"IF(V9=0,0,(V9*((LOG(V9))/LOG(2))))","v":-0.4556795091007162},null,{"$f":"N9","v":11121},{"$f":"COUNTIF(L30:L51,Y9)","v":0},{"$f":"Z9/(AB4-Z25)","v":0},{"$f":"IF(AA9=0,0,(AA9*((LOG(AA9))/LOG(2))))","v":0},null,{"$f":"N9","v":11121},{"$f":"COUNTIF(L52:L74,AD9)","v":2},{"$f":"AE9/(AG4-AE25)","v":9.0909090909090912E-2},{"$f":"IF(AF9=0,0,(AF9*((LOG(AF9))/LOG(2))))","v":-0.31449378351248153},null,{"$f":"N9","v":11121},{"$f":"COUNTIF(L75:L97,AI9)","v":1},{"$f":"AJ9/(AL4-AJ25)","v":4.5454545454545456E-2},{"$f":"IF(AK9=0,0,(AK9*((LOG(AK9))/LOG(2))))","v":-0.20270143721078623},null,{"$f":"N9","v":11121},{"$f":"COUNTIF(L98:L119,AN9)","v":2},{"$f":"AO9/(AQ4-AO25)","v":9.0909090909090912E-2},{"$f":"IF(AP9=0,0,(AP9*((LOG(AP9))/LOG(2))))","v":-0.31449378351248153},null,{"$f":"N9","v":11121},{"$f":"COUNTIF(L120:L142,AS9)","v":0},{"$f":"AT9/(AV4-AT25)","v":0},{"$f":"IF(AU9=0,0,(AU9*((LOG(AU9))/LOG(2))))","v":0}]
[12,542,24,553,13,566,14,574,24,586,0,12112,null,11122,{"$f":"COUNTIF($L$7:$L$500,N10)","v":1},{"$f":"O10/$Q$4","v":7.3529411764705881E-3},{"$f":"IF(P10=0,0,(P10*((LOG(P10))/LOG(2))))","v":-5.2113697362134843E-2},null,null,{"$f":"N10","v":11122},{"$f":"COUNTIF(L7:L29,T10)","v":0},{"$f":"U10/(W4-U25)","v":0},{"$f":"IF(V10=0,0,(V10*((LOG(V10))/LOG(2))))","v":0},null,{"$f":"N10","v":11122},{"$f":"COUNTIF(L30:L51,Y10)","v":0},{"$f":"Z10/(AB4-Z25)","v":0},{"$f":"IF(AA10=0,0,(AA10*((LOG(AA10))/LOG(2))))","v":0},null,{"$f":"N10","v":11122},{"$f":"COUNTIF(L52:L74,AD10)","v":0},{"$f":"AE10/(AG4-AE25)","v":0},{"$f":"IF(AF10=0,0,(AF10*((LOG(AF10))/LOG(2))))","v":0},null,{"$f":"N10","v":11122},{"$f":"COUNTIF(L75:L97,AI10)","v":0},{"$f":"AJ10/(AL4-AJ25)","v":0},{"$f":"IF(AK10=0,0,(AK10*((LOG(AK10))/LOG(2))))","v":0},null,{"$f":"N10","v":11122},{"$f":"COUNTIF(L98:L119,AN10)","v":1},{"$f":"AO10/(AQ4-AO25)","v":4.5454545454545456E-2},{"$f":"IF(AP10=0,0,(AP10*((LOG(AP10))/LOG(2))))","v":-0.20270143721078623},null,{"$f":"N10","v":11122},{"$f":"COUNTIF(L120:L142,AS10)","v":0},{"$f":"AT10/(AV4-AT25)","v":0},{"$f":"IF(AU10=0,0,(AU10*((LOG(AU10))/LOG(2))))","v":0}]
[12,693,13,702,24,712,14,723,24,735,0,11212,null,11211,{"$f":"COUNTIF($L$7:$L$500,N11)","v":16},{"$f":"O11/$Q$4","v":0.11764705882352941},{"$f":"IF(P11=0,0,(P11*((LOG(P11))/LOG(2))))","v":-0.36323092250003997},null,null,{"$f":"N11","v":11211},{"$f":"COUNTIF(L7:L29,T11)","v":4},{"$f":"U11/(W4-U25)","v":0.19047619047619047},{"$f":"IF(V11=0,0,(V11*((LOG(V11))/LOG(2))))","v":-0.4556795091007162},null,{"$f":"N11","v":11211},{"$f":"COUNTIF(L30:L51,Y11)","v":0},{"$f":"Z11/(AB4-Z25)","v":0},{"$f":"IF(AA11=0,0,(AA11*((LOG(AA11))/LOG(2))))","v":0},null,{"$f":"N11","v":11211},{"$f":"COUNTIF(L52:L74,AD11)","v":5},{"$f":"AE11/(AG4-AE25)","v":0.22727272727272727},{"$f":"IF(AF11=0,0,(AF11*((LOG(AF11))/LOG(2))))","v":-0.48579625539771243},null,{"$f":"N11","v":11211},{"$f":"COUNTIF(L75:L97,AI11)","v":3},{"$f":"AJ11/(AL4-AJ25)","v":0.13636363636363635},{"$f":"IF(AK11=0,0,(AK11*((LOG(AK11))/LOG(2))))","v":-0.39197306153401923},null,{"$f":"N11","v":11211},{"$f":"COUNTIF(L98:L119,AN11)","v":3},{"$f":"AO11/(AQ4-AO25)","v":0.13636363636363635},{"$f":"IF(AP11=0,0,(AP11*((LOG(AP11))/LOG(2))))","v":-0.39197306153401923},null,{"$f":"N11","v":11211},{"$f":"COUNTIF(L120:L142,AS11)","v":1},{"$f":"AT11/(AV4-AT25)","v":4.3478260869565216E-2},{"$f":"IF(AU11=0,0,(AU11*((LOG(AU11))/LOG(2))))","v":-0.19667660678508753}]
[12,840,13,851,13,875,23,884,13,895,0,11121,null,11212,{"$f":"COUNTIF($L$7:$L$500,N12)","v":18},{"$f":"O12/$Q$4","v":0.13235294117647059},{"$f":"IF(P12=0,0,(P12*((LOG(P12))/LOG(2))))","v":-0.38614471409223888},null,null,{"$f":"N12","v":11212},{"$f":"COUNTIF(L7:L29,T12)","v":2},{"$f":"U12/(W4-U25)","v":9.5238095238095233E-2},{"$f":"IF(V12=0,0,(V12*((LOG(V12))/LOG(2))))","v":-0.32307784978845333},null,{"$f":"N12","v":11212},{"$f":"COUNTIF(L30:L51,Y12)","v":3},{"$f":"Z12/(AB4-Z25)","v":0.14285714285714285},{"$f":"IF(AA12=0,0,(AA12*((LOG(AA12))/LOG(2))))","v":-0.40105070315108626},null,{"$f":"N12","v":11212},{"$f":"COUNTIF(L52:L74,AD12)","v":4},{"$f":"AE12/(AG4-AE25)","v":0.18181818181818182},{"$f":"IF(AF12=0,0,(AF12*((LOG(AF12))/LOG(2))))","v":-0.44716938520678134},null,{"$f":"N12","v":11212},{"$f":"COUNTIF(L75:L97,AI12)","v":3},{"$f":"AJ12/(AL4-AJ25)","v":0.13636363636363635},{"$f":"IF(AK12=0,0,(AK12*((LOG(AK12))/LOG(2))))","v":-0.39197306153401923},null,{"$f":"N12","v":11212},{"$f":"COUNTIF(L98:L119,AN12)","v":3},{"$f":"AO12/(AQ4-AO25)","v":0.13636363636363635},{"$f":"IF(AP12=0,0,(AP12*((LOG(AP12))/LOG(2))))","v":-0.39197306153401923},null,{"$f":"N12","v":11212},{"$f":"COUNTIF(L120:L142,AS12)","v":3},{"$f":"AT12/(AV4-AT25)","v":0.13043478260869565},{"$f":"IF(AU12=0,0,(AU12*((LOG(AU12))/LOG(2))))","v":-0.3832955811307639}]
[12,1016,13,1025,24,1034,14,1046,24,1058,0,11212,null,11221,{"$f":"COUNTIF($L$7:$L$500,N13)","v":1},{"$f":"O13/$Q$4","v":7.3529411764705881E-3},{"$f":"IF(P13=0,0,(P13*((LOG(P13))/LOG(2))))","v":-5.2113697362134843E-2},null,null,{"$f":"N13","v":11221},{"$f":"COUNTIF(L7:L29,T13)","v":1},{"$f":"U13/(W4-U25)","v":4.7619047619047616E-2},{"$f":"IF(V13=0,0,(V13*((LOG(V13))/LOG(2))))","v":-0.20915797251327431},null,{"$f":"N13","v":11221},{"$f":"COUNTIF(L30:L51,Y13)","v":0},{"$f":"Z13/(AB4-Z25)","v":0},{"$f":"IF(AA13=0,0,(AA13*((LOG(AA13))/LOG(2))))","v":0},null,{"$f":"N13","v":11221},{"$f":"COUNTIF(L52:L74,AD13)","v":0},{"$f":"AE13/(AG4-AE25)","v":0},{"$f":"IF(AF13=0,0,(AF13*((LOG(AF13))/LOG(2))))","v":0},null,{"$f":"N13","v":11221},{"$f":"COUNTIF(L75:L97,AI13)","v":0},{"$f":"AJ13/(AL4-AJ25)","v":0},{"$f":"IF(AK13=0,0,(AK13*((LOG(AK13))/LOG(2))))","v":0},null,{"$f":"N13","v":11221},{"$f":"COUNTIF(L98:L119,AN13)","v":0},{"$f":"AO13/(AQ4-AO25)","v":0},{"$f":"IF(AP13=0,0,(AP13*((LOG(AP13))/LOG(2))))","v":0},null,{"$f":"N13","v":11221},{"$f":"COUNTIF(L120:L142,AS13)","v":0},{"$f":"AT13/(AV4-AT25)","v":0},{"$f":"IF(AU13=0,0,(AU13*((LOG(AU13))/LOG(2))))","v":0}]
[21,1169,11,1183,11,1195,21,1204,11,1216,1,21121,null,11222,{"$f":"COUNTIF($L$7:$L$500,N14)","v":0},{"$f":"O14/$Q$4","v":0},{"$f":"IF(P14=0,0,(P14*((LOG(P14))/LOG(2))))","v":0},null,null,{"$f":"N14","v":11222},{"$f":"COUNTIF(L7:L29,T14)","v":0},{"$f":"U14/(W4-U25)","v":0},{"$f":"IF(V14=0,0,(V14*((LOG(V14))/LOG(2))))","v":0},null,{"$f":"N14","v":11222},{"$f":"COUNTIF(L30:L51,Y14)","v":0},{"$f":"Z14/(AB4-Z25)","v":0},{"$f":"IF(AA14=0,0,(AA14*((LOG(AA14))/LOG(2))))","v":0},null,{"$f":"N14","v":11222},{"$f":"COUNTIF(L52:L74,AD14)","v":0},{"$f":"AE14/(AG4-AE25)","v":0},{"$f":"IF(AF14=0,0,(AF14*((LOG(AF14))/LOG(2))))","v":0},null,{"$f":"N14","v":11222},{"$f":"COUNTIF(L75:L97,AI14)","v":0},{"$f":"AJ14/(AL4-AJ25)","v":0},{"$f":"IF(AK14=0,0,(AK14*((LOG(AK14))/LOG(2))))","v":0},null,{"$f":"N14","v":11222},{"$f":"COUNTIF(L98:L119,AN14)","v":0},{"$f":"AO14/(AQ4-AO25)","v":0},{"$f":"IF(AP14=0,0,(AP14*((LOG(AP14))/LOG(2))))","v":0},null,{"$f":"N14","v":11222},{"$f":"COUNTIF(L120:L142,AS14)","v":0},{"$f":"AT14/(AV4-AT25)","v":0},{"$f":"IF(AU14=0,0,(AU14*((LOG(AU14))/LOG(2))))","v":0}]
[12,1324,24,1333,13,1353,23,1371,13,1385,0,12121,null,12111,{"$f":"COUNTIF($L$7:$L$500,N15)","v":5},{"$f":"O15/$Q$4","v":3.6764705882352942E-2},{"$f":"IF(P15=0,0,(P15*((LOG(P15))/LOG(2))))","v":-0.17520348332216826},null,null,{"$f":"N15","v":12111},{"$f":"COUNTIF(L7:L29,T15)","v":1},{"$f":"U15/(W4-U25)","v":4.7619047619047616E-2},{"$f":"IF(V15=0,0,(V15*((LOG(V15))/LOG(2))))","v":-0.20915797251327431},null,{"$f":"N15","v":12111},{"$f":"COUNTIF(L30:L51,Y15)","v":1},{"$f":"Z15/(AB4-Z25)","v":4.7619047619047616E-2},{"$f":"IF(AA15=0,0,(AA15*((LOG(AA15))/LOG(2))))","v":-0.20915797251327431},null,{"$f":"N15","v":12111},{"$f":"COUNTIF(L52:L74,AD15)","v":0},{"$f":"AE15/(AG4-AE25)","v":0},{"$f":"IF(AF15=0,0,(AF15*((LOG(AF15))/LOG(2))))","v":0},null,{"$f":"N15","v":12111},{"$f":"COUNTIF(L75:L97,AI15)","v":1},{"$f":"AJ15/(AL4-AJ25)","v":4.5454545454545456E-2},{"$f":"IF(AK15=0,0,(AK15*((LOG(AK15))/LOG(2))))","v":-0.20270143721078623},null,{"$f":"N15","v":12111},{"$f":"COUNTIF(L98:L119,AN15)","v":2},{"$f":"AO15/(AQ4-AO25)","v":9.0909090909090912E-2},{"$f":"IF(AP15=0,0,(AP15*((LOG(AP15))/LOG(2))))","v":-0.31449378351248153},null,{"$f":"N15","v":12111},{"$f":"COUNTIF(L120:L142,AS15)","v":0},{"$f":"AT15/(AV4-AT25)","v":0},{"$f":"IF(AU15=0,0,(AU15*((LOG(AU15))/LOG(2))))","v":0}]
[12,1484,13,1506,13,1523,23,1533,13,1554,0,11121,null,12112,{"$f":"COUNTIF($L$7:$L$500,N16)","v":4},{"$f":"O16/$Q$4","v":2.9411764705882353E-2},{"$f":"IF(P16=0,0,(P16*((LOG(P16))/LOG(2))))","v":-0.14963126003677468},null,null,{"$f":"N16","v":12112},{"$f":"COUNTIF(L7:L29,T16)","v":2},{"$f":"U16/(W4-U25)","v":9.5238095238095233E-2},{"$f":"IF(V16=0,0,(V16*((LOG(V16))/LOG(2))))","v":-0.32307784978845333},null,{"$f":"N16","v":12112},{"$f":"COUNTIF(L30:L51,Y16)","v":0},{"$f":"Z16/(AB4-Z25)","v":0},{"$f":"IF(AA16=0,0,(AA16*((LOG(AA16))/LOG(2))))","v":0},null,{"$f":"N16","v":12112},{"$f":"COUNTIF(L52:L74,AD16)","v":1},{"$f":"AE16/(AG4-AE25)","v":4.5454545454545456E-2},{"$f":"IF(AF16=0,0,(AF16*((LOG(AF16))/LOG(2))))","v":-0.20270143721078623},null,{"$f":"N16","v":12112},{"$f":"COUNTIF(L75:L97,AI16)","v":1},{"$f":"AJ16/(AL4-AJ25)","v":4.5454545454545456E-2},{"$f":"IF(AK16=0,0,(AK16*((LOG(AK16))/LOG(2))))","v":-0.20270143721078623},null,{"$f":"N16","v":12112},{"$f":"COUNTIF(L98:L119,AN16)","v":0},{"$f":"AO16/(AQ4-AO25)","v":0},{"$f":"IF(AP16=0,0,(AP16*((LOG(AP16))/LOG(2))))","v":0},null,{"$f":"N16","v":12112},{"$f":"COUNTIF(L120:L142,AS16)","v":0},{"$f":"AT16/(AV4-AT25)","v":0},{"$f":"IF(AU16=0,0,(AU16*((LOG(AU16))/LOG(2))))","v":0}]
[21,1698,11,1706,11,1722,21,1731,11,1744,1,21121,null,12121,{"$f":"COUNTIF($L$7:$L$500,N17)","v":21},{"$f":"O17/$Q$4","v":0.15441176470588236},{"$f":"IF(P17=0,0,(P17*((LOG(P17))/LOG(2))))","v":-0.41616216020517027},null,null,{"$f":"N17","v":12121},{"$f":"COUNTIF(L7:L29,T17)","v":3},{"$f":"U17/(W4-U25)","v":0.14285714285714285},{"$f":"IF(V17=0,0,(V17*((LOG(V17))/LOG(2))))","v":-0.40105070315108626},null,{"$f":"N17","v":12121},{"$f":"COUNTIF(L30:L51,Y17)","v":0},{"$f":"Z17/(AB4-Z25)","v":0},{"$f":"IF(AA17=0,0,(AA17*((LOG(AA17))/LOG(2))))","v":0},null,{"$f":"N17","v":12121},{"$f":"COUNTIF(L52:L74,AD17)","v":6},{"$f":"AE17/(AG4-AE25)","v":0.27272727272727271},{"$f":"IF(AF17=0,0,(AF17*((LOG(AF17))/LOG(2))))","v":-0.51121885034076575},null,{"$f":"N17","v":12121},{"$f":"COUNTIF(L75:L97,AI17)","v":4},{"$f":"AJ17/(AL4-AJ25)","v":0.18181818181818182},{"$f":"IF(AK17=0,0,(AK17*((LOG(AK17))/LOG(2))))","v":-0.44716938520678134},null,{"$f":"N17","v":12121},{"$f":"COUNTIF(L98:L119,AN17)","v":2},{"$f":"AO17/(AQ4-AO25)","v":9.0909090909090912E-2},{"$f":"IF(AP17=0,0,(AP17*((LOG(AP17))/LOG(2))))","v":-0.31449378351248153},null,{"$f":"N17","v":12121},{"$f":"COUNTIF(L120:L142,AS17)","v":6},{"$f":"AT17/(AV4-AT25)","v":0.2608695652173913},{"$f":"IF(AU17=0,0,(AU17*((LOG(AU17))/LOG(2))))","v":-0.50572159704413644}]
[12,1849,24,1859,13,1885,23,1894,13,1902,0,12121,null,12122,{"$f":"COUNTIF($L$7:$L$500,N18)","v":1},{"$f":"O18/$Q$4","v":7.3529411764705881E-3},{"$f":"IF(P18=0,0,(P18*((LOG(P18))/LOG(2))))","v":-5.2113697362134843E-2},null,null,{"$f":"N18","v":12122},{"$f":"COUNTIF(L7:L29,T18)","v":0},{"$f":"U18/(W4-U25)","v":0},{"$f":"IF(V18=0,0,(V18*((LOG(V18))/LOG(2))))","v":0},null,{"$f":"N18","v":12122},{"$f":"COUNTIF(L30:L51,Y18)","v":0},{"$f":"Z18/(AB4-Z25)","v":0},{"$f":"IF(AA18=0,0,(AA18*((LOG(AA18))/LOG(2))))","v":0},null,{"$f":"N18","v":12122},{"$f":"COUNTIF(L52:L74,AD18)","v":0},{"$f":"AE18/(AG4-AE25)","v":0},{"$f":"IF(AF18=0,0,(AF18*((LOG(AF18))/LOG(2))))","v":0},null,{"$f":"N18","v":12122},{"$f":"COUNTIF(L75:L97,AI18)","v":0},{"$f":"AJ18/(AL4-AJ25)","v":0},{"$f":"IF(AK18=0,0,(AK18*((LOG(AK18))/LOG(2))))","v":0},null,{"$f":"N18","v":12122},{"$f":"COUNTIF(L98:L119,AN18)","v":0},{"$f":"AO18/(AQ4-AO25)","v":0},{"$f":"IF(AP18=0,0,(AP18*((LOG(AP18))/LOG(2))))","v":0},null,{"$f":"N18","v":12122},{"$f":"COUNTIF(L120:L142,AS18)","v":1},{"$f":"AT18/(AV4-AT25)","v":4.3478260869565216E-2},{"$f":"IF(AU18=0,0,(AU18*((LOG(AU18))/LOG(2))))","v":-0.19667660678508753}]
[12,2007,13,2020,24,2032,14,2047,13,2062,0,11211,null,12211,{"$f":"COUNTIF($L$7:$L$500,N19)","v":2},{"$f":"O19/$Q$4","v":1.4705882352941176E-2},{"$f":"IF(P19=0,0,(P19*((LOG(P19))/LOG(2))))","v":-8.9521512371328521E-2},null,null,{"$f":"N19","v":12211},{"$f":"COUNTIF(L7:L29,T19)","v":1},{"$f":"U19/(W4-U25)","v":4.7619047619047616E-2},{"$f":"IF(V19=0,0,(V19*((LOG(V19))/LOG(2))))","v":-0.20915797251327431},null,{"$f":"N19","v":12211},{"$f":"COUNTIF(L30:L51,Y19)","v":0},{"$f":"Z19/(AB4-Z25)","v":0},{"$f":"IF(AA19=0,0,(AA19*((LOG(AA19))/LOG(2))))","v":0},null,{"$f":"N19","v":12211},{"$f":"COUNTIF(L52:L74,AD19)","v":0},{"$f":"AE19/(AG4-AE25)","v":0},{"$f":"IF(AF19=0,0,(AF19*((LOG(AF19))/LOG(2))))","v":0},null,{"$f":"N19","v":12211},{"$f":"COUNTIF(L75:L97,AI19)","v":0},{"$f":"AJ19/(AL4-AJ25)","v":0},{"$f":"IF(AK19=0,0,(AK19*((LOG(AK19))/LOG(2))))","v":0},null,{"$f":"N19","v":12211},{"$f":"COUNTIF(L98:L119,AN19)","v":0},{"$f":"AO19/(AQ4-AO25)","v":0},{"$f":"IF(AP19=0,0,(AP19*((LOG(AP19))/LOG(2))))","v":0},null,{"$f":"N19","v":12211},{"$f":"COUNTIF(L120:L142,AS19)","v":1},{"$f":"AT19/(AV4-AT25)","v":4.3478260869565216E-2},{"$f":"IF(AU19=0,0,(AU19*((LOG(AU19))/LOG(2))))","v":-0.19667660678508753}]
[12,2168,24,2177,24,2199,14,2209,13,2217,0,12211,null,12212,{"$f":"COUNTIF($L$7:$L$500,N20)","v":2},{"$f":"O20/$Q$4","v":1.4705882352941176E-2},{"$f":"IF(P20=0,0,(P20*((LOG(P20))/LOG(2))))","v":-8.9521512371328521E-2},null,null,{"$f":"N20","v":12212},{"$f":"COUNTIF(L7:L29,T20)","v":1},{"$f":"U20/(W4-U25)","v":4.7619047619047616E-2},{"$f":"IF(V20=0,0,(V20*((LOG(V20))/LOG(2))))","v":-0.20915797251327431},null,{"$f":"N20","v":12212},{"$f":"COUNTIF(L30:L51,Y20)","v":0},{"$f":"Z20/(AB4-Z25)","v":0},{"$f":"IF(AA20=0,0,(AA20*((LOG(AA20))/LOG(2))))","v":0},null,{"$f":"N20","v":12212},{"$f":"COUNTIF(L52:L74,AD20)","v":0},{"$f":"AE20/(AG4-AE25)","v":0},{"$f":"IF(AF20=0,0,(AF20*((LOG(AF20))/LOG(2))))","v":0},null,{"$f":"N20","v":12212},{"$f":"COUNTIF(L75:L97,AI20)","v":0},{"$f":"AJ20/(AL4-AJ25)","v":0},{"$f":"IF(AK20=0,0,(AK20*((LOG(AK20))/LOG(2))))","v":0},null,{"$f":"N20","v":12212},{"$f":"COUNTIF(L98:L119,AN20)","v":0},{"$f":"AO20/(AQ4-AO25)","v":0},{"$f":"IF(AP20=0,0,(AP20*((LOG(AP20))/LOG(2))))","v":0},null,{"$f":"N20","v":12212},{"$f":"COUNTIF(L120:L142,AS20)","v":1},{"$f":"AT20/(AV4-AT25)","v":4.3478260869565216E-2},{"$f":"IF(AU20=0,0,(AU20*((LOG(AU20))/LOG(2))))","v":-0.19667660678508753}]
[12,2312,13,2324,13,2348,14,2365,24,2377,0,11112,null,12221,{"$f":"COUNTIF($L$7:$L$500,N21)","v":2},{"$f":"O21/$Q$4","v":1.4705882352941176E-2},{"$f":"IF(P21=0,0,(P21*((LOG(P21))/LOG(2))))","v":-8.9521512371328521E-2},null,null,{"$f":"N21","v":12221},{"$f":"COUNTIF(L7:L29,T21)","v":0},{"$f":"U21/(W4-U25)","v":0},{"$f":"IF(V21=0,0,(V21*((LOG(V21))/LOG(2))))","v":0},null,{"$f":"N21","v":12221},{"$f":"COUNTIF(L30:L51,Y21)","v":0},{"$f":"Z21/(AB4-Z25)","v":0},{"$f":"IF(AA21=0,0,(AA21*((LOG(AA21))/LOG(2))))","v":0},null,{"$f":"N21","v":12221},{"$f":"COUNTIF(L52:L74,AD21)","v":0},{"$f":"AE21/(AG4-AE25)","v":0},{"$f":"IF(AF21=0,0,(AF21*((LOG(AF21))/LOG(2))))","v":0},null,{"$f":"N21","v":12221},{"$f":"COUNTIF(L75:L97,AI21)","v":0},{"$f":"AJ21/(AL4-AJ25)","v":0},{"$f":"IF(AK21=0,0,(AK21*((LOG(AK21))/LOG(2))))","v":0},null,{"$f":"N21","v":12221},{"$f":"COUNTIF(L98:L119,AN21)","v":0},{"$f":"AO21/(AQ4-AO25)","v":0},{"$f":"IF(AP21=0,0,(AP21*((LOG(AP21))/LOG(2))))","v":0},null,{"$f":"N21","v":12221},{"$f":"COUNTIF(L120:L142,AS21)","v":2},{"$f":"AT21/(AV4-AT25)","v":8.6956521739130432E-2},{"$f":"IF(AU21=0,0,(AU21*((LOG(AU21))/LOG(2))))","v":-0.30639669183104457}]
[12,2490,13,2499,24,2510,14,2526,13,2542,0,11211,null,12222,{"$f":"COUNTIF($L$7:$L$500,N22)","v":0},{"$f":"O22/$Q$4","v":0},{"$f":"IF(P22=0,0,(P22*((LOG(P22))/LOG(2))))","v":0},null,null,{"$f":"N22","v":12222},{"$f":"COUNTIF(L7:L29,T22)","v":0},{"$f":"U22/(W4-U25)","v":0},{"$f":"IF(V22=0,0,(V22*((LOG(V22))/LOG(2))))","v":0},null,{"$f":"N22","v":12222},{"$f":"COUNTIF(L30:L51,Y22)","v":0},{"$f":"Z22/(AB4-Z25)","v":0},{"$f":"IF(AA22=0,0,(AA22*((LOG(AA22))/LOG(2))))","v":0},null,{"$f":"N22","v":12222},{"$f":"COUNTIF(L52:L74,AD22)","v":0},{"$f":"AE22/(AG4-AE25)","v":0},{"$f":"IF(AF22=0,0,(AF22*((LOG(AF22))/LOG(2))))","v":0},null,{"$f":"N22","v":12222},{"$f":"COUNTIF(L75:L97,AI22)","v":0},{"$f":"AJ22/(AL4-AJ25)","v":0},{"$f":"IF(AK22=0,0,(AK22*((LOG(AK22))/LOG(2))))","v":0},null,{"$f":"N22","v":12222},{"$f":"COUNTIF(L98:L119,AN22)","v":0},{"$f":"AO22/(AQ4-AO25)","v":0},{"$f":"IF(AP22=0,0,(AP22*((LOG(AP22))/LOG(2))))","v":0},null,{"$f":"N22","v":12222},{"$f":"COUNTIF(L120:L142,AS22)","v":0},{"$f":"AT22/(AV4-AT25)","v":0},{"$f":"IF(AU22=0,0,(AU22*((LOG(AU22))/LOG(2))))","v":0}]
[12,2669,13,2681,24,2693,14,2702,13,2707,0,11211,null,21111,{"$f":"COUNTIF($L$7:$L$500,N23)","v":1},{"$f":"O23/$Q$4","v":7.3529411764705881E-3},{"$f":"IF(P23=0,0,(P23*((LOG(P23))/LOG(2))))","v":-5.2113697362134843E-2},null,null,{"$f":"N23","v":21111},{"$f":"COUNTIF(L7:L29,T23)","v":0},{"$f":"U23/(W4-U25)","v":0},{"$f":"IF(V23=0,0,(V23*((LOG(V23))/LOG(2))))","v":0},null,{"$f":"N23","v":21111},{"$f":"COUNTIF(L30:L51,Y23)","v":1},{"$f":"Z23/(AB4-Z25)","v":4.7619047619047616E-2},{"$f":"IF(AA23=0,0,(AA23*((LOG(AA23))/LOG(2))))","v":-0.20915797251327431},null,{"$f":"N23","v":21111},{"$f":"COUNTIF(L52:L74,AD23)","v":0},{"$f":"AE23/(AG4-AE25)","v":0},{"$f":"IF(AF23=0,0,(AF23*((LOG(AF23))/LOG(2))))","v":0},null,{"$f":"N23","v":21111},{"$f":"COUNTIF(L75:L97,AI23)","v":0},{"$f":"AJ23/(AL4-AJ25)","v":0},{"$f":"IF(AK23=0,0,(AK23*((LOG(AK23))/LOG(2))))","v":0},null,{"$f":"N23","v":21111},{"$f":"COUNTIF(L98:L119,AN23)","v":0},{"$f":"AO23/(AQ4-AO25)","v":0},{"$f":"IF(AP23=0,0,(AP23*((LOG(AP23))/LOG(2))))","v":0},null,{"$f":"N23","v":21111},{"$f":"COUNTIF(L120:L142,AS23)","v":0},{"$f":"AT23/(AV4-AT25)","v":0},{"$f":"IF(AU23=0,0,(AU23*((LOG(AU23))/LOG(2))))","v":0}]
[12,2824,13,2839,24,2848,23,2869,13,2881,0,11221,null,21112,{"$f":"COUNTIF($L$7:$L$500,N24)","v":1},{"$f":"O24/$Q$4","v":7.3529411764705881E-3},{"$f":"IF(P24=0,0,(P24*((LOG(P24))/LOG(2))))","v":-5.2113697362134843E-2},null,null,{"$f":"N24","v":21112},{"$f":"COUNTIF(L7:L29,T24)","v":0},{"$f":"U24/(W4-U25)","v":0},{"$f":"IF(V24=0,0,(V24*((LOG(V24))/LOG(2))))","v":0},null,{"$f":"N24","v":21112},{"$f":"COUNTIF(L30:L51,Y24)","v":1},{"$f":"Z24/(AB4-Z25)","v":4.7619047619047616E-2},{"$f":"IF(AA24=0,0,(AA24*((LOG(AA24))/LOG(2))))","v":-0.20915797251327431},null,{"$f":"N24","v":21112},{"$f":"COUNTIF(L52:L74,AD24)","v":0},{"$f":"AE24/(AG4-AE25)","v":0},{"$f":"IF(AF24=0,0,(AF24*((LOG(AF24))/LOG(2))))","v":0},null,{"$f":"N24","v":21112},{"$f":"COUNTIF(L75:L97,AI24)","v":0},{"$f":"AJ24/(AL4-AJ25)","v":0},{"$f":"IF(AK24=0,0,(AK24*((LOG(AK24))/LOG(2))))","v":0},null,{"$f":"N24","v":21112},{"$f":"COUNTIF(L98:L119,AN24)","v":0},{"$f":"AO24/(AQ4-AO25)","v":0},{"$f":"IF(AP24=0,0,(AP24*((LOG(AP24))/LOG(2))))","v":0},null,{"$f":"N24","v":21112},{"$f":"COUNTIF(L120:L142,AS24)","v":0},{"$f":"AT24/(AV4-AT25)","v":0},{"$f":"IF(AU24=0,0,(AU24*((LOG(AU24))/LOG(2))))","v":0}]
[21,2981,11,2996,22,3007,14,3029,24,3041,0,21212,null,21121,{"$f":"COUNTIF($L$7:$L$500,N25)","v":5},{"$f":"O25/$Q$4","v":3.6764705882352942E-2},{"$f":"IF(P25=0,0,(P25*((LOG(P25))/LOG(2))))","v":-0.17520348332216826},null,null,{"$f":"N25","v":21121},{"$f":"COUNTIF(L7:L29,T25)","v":2},null,null,null,{"$f":"N25","v":21121},{"$f":"COUNTIF(L30:L51,Y25)","v":1},null,null,null,{"$f":"N25","v":21121},{"$f":"COUNTIF(L52:L74,AD25)","v":1},null,null,null,{"$f":"N25","v":21121},{"$f":"COUNTIF(L75:L97,AI25)","v":1},null,null,null,{"$f":"N25","v":21121},{"$f":"COUNTIF(L98:L119,AN25)","v":0},null,null,null,{"$f":"N25","v":21121},{"$f":"COUNTIF(L120:L142,AS25)","v":0}]
[12,3173,24,3181,13,3203,14,3211,13,3221,0,12111,null,21122,{"$f":"COUNTIF($L$7:$L$500,N26)","v":0},{"$f":"O26/$Q$4","v":0},{"$f":"IF(P26=0,0,(P26*((LOG(P26))/LOG(2))))","v":0},null,null,{"$f":"N26","v":21122},{"$f":"COUNTIF(L7:L29,T26)","v":0},{"$f":"U26/(W4-U25)","v":0},{"$f":"IF(V26=0,0,(V26*((LOG(V26))/LOG(2))))","v":0},null,{"$f":"N26","v":21122},{"$f":"COUNTIF(L30:L51,Y26)","v":0},{"$f":"Z26/(AB4-Z25)","v":0},{"$f":"IF(AA26=0,0,(AA26*((LOG(AA26))/LOG(2))))","v":0},null,{"$f":"N26","v":21122},{"$f":"COUNTIF(L52:L74,AD26)","v":0},{"$f":"AE26/(AG4-AE25)","v":0},{"$f":"IF(AF26=0,0,(AF26*((LOG(AF26))/LOG(2))))","v":0},null,{"$f":"N26","v":21122},{"$f":"COUNTIF(L75:L97,AI26)","v":0},{"$f":"AJ26/(AL4-AJ25)","v":0},{"$f":"IF(AK26=0,0,(AK26*((LOG(AK26))/LOG(2))))","v":0},null,{"$f":"N26","v":21122},{"$f":"COUNTIF(L98:L119,AN26)","v":0},{"$f":"AO26/(AQ4-AO25)","v":0},{"$f":"IF(AP26=0,0,(AP26*((LOG(AP26))/LOG(2))))","v":0},null,{"$f":"N26","v":21122},{"$f":"COUNTIF(L120:L142,AS26)","v":0},{"$f":"AT26/(AV4-AT25)","v":0},{"$f":"IF(AU26=0,0,(AU26*((LOG(AU26))/LOG(2))))","v":0}]
[12,3323,13,3338,13,3356,23,3368,13,3376,0,11121,null,21211,{"$f":"COUNTIF($L$7:$L$500,N27)","v":18},{"$f":"O27/$Q$4","v":0.13235294117647059},{"$f":"IF(P27=0,0,(P27*((LOG(P27))/LOG(2))))","v":-0.38614471409223888},null,null,{"$f":"N27","v":21211},{"$f":"COUNTIF(L7:L29,T27)","v":0},{"$f":"U27/(W4-U25)","v":0},{"$f":"IF(V27=0,0,(V27*((LOG(V27))/LOG(2))))","v":0},null,{"$f":"N27","v":21211},{"$f":"COUNTIF(L30:L51,Y27)","v":7},{"$f":"Z27/(AB4-Z25)","v":0.33333333333333331},{"$f":"IF(AA27=0,0,(AA27*((LOG(AA27))/LOG(2))))","v":-0.52832083357371862},null,{"$f":"N27","v":21211},{"$f":"COUNTIF(L52:L74,AD27)","v":1},{"$f":"AE27/(AG4-AE25)","v":4.5454545454545456E-2},{"$f":"IF(AF27=0,0,(AF27*((LOG(AF27))/LOG(2))))","v":-0.20270143721078623},null,{"$f":"N27","v":21211},{"$f":"COUNTIF(L75:L97,AI27)","v":4},{"$f":"AJ27/(AL4-AJ25)","v":0.18181818181818182},{"$f":"IF(AK27=0,0,(AK27*((LOG(AK27))/LOG(2))))","v":-0.44716938520678134},null,{"$f":"N27","v":21211},{"$f":"COUNTIF(L98:L119,AN27)","v":3},{"$f":"AO27/(AQ4-AO25)","v":0.13636363636363635},{"$f":"IF(AP27=0,0,(AP27*((LOG(AP27))/LOG(2))))","v":-0.39197306153401923},null,{"$f":"N27","v":21211},{"$f":"COUNTIF(L120:L142,AS27)","v":3},{"$f":"AT27/(AV4-AT25)","v":0.13043478260869565},{"$f":"IF(AU27=0,0,(AU27*((LOG(AU27))/LOG(2))))","v":-0.3832955811307639}]
[12,3489,24,3500,13,3512,14,3528,24,3541,0,12112,null,21212,{"$f":"COUNTIF($L$7:$L$500,N28)","v":15},{"$f":"O28/$Q$4","v":0.11029411764705882},{"$f":"IF(P28=0,0,(P28*((LOG(P28))/LOG(2))))","v":-0.35079840944578905},null,null,{"$f":"N28","v":21212},{"$f":"COUNTIF(L7:L29,T28)","v":1},{"$f":"U28/(W4-U25)","v":4.7619047619047616E-2},{"$f":"IF(V28=0,0,(V28*((LOG(V28))/LOG(2))))","v":-0.20915797251327431},null,{"$f":"N28","v":21212},{"$f":"COUNTIF(L30:L51,Y28)","v":2},{"$f":"Z28/(AB4-Z25)","v":9.5238095238095233E-2},{"$f":"IF(AA28=0,0,(AA28*((LOG(AA28))/LOG(2))))","v":-0.32307784978845333},null,{"$f":"N28","v":21212},{"$f":"COUNTIF(L52:L74,AD28)","v":2},{"$f":"AE28/(AG4-AE25)","v":9.0909090909090912E-2},{"$f":"IF(AF28=0,0,(AF28*((LOG(AF28))/LOG(2))))","v":-0.31449378351248153},null,{"$f":"N28","v":21212},{"$f":"COUNTIF(L75:L97,AI28)","v":3},{"$f":"AJ28/(AL4-AJ25)","v":0.13636363636363635},{"$f":"IF(AK28=0,0,(AK28*((LOG(AK28))/LOG(2))))","v":-0.39197306153401923},null,{"$f":"N28","v":21212},{"$f":"COUNTIF(L98:L119,AN28)","v":6},{"$f":"AO28/(AQ4-AO25)","v":0.27272727272727271},{"$f":"IF(AP28=0,0,(AP28*((LOG(AP28))/LOG(2))))","v":-0.51121885034076575},null,{"$f":"N28","v":21212},{"$f":"COUNTIF(L120:L142,AS28)","v":1},{"$f":"AT28/(AV4-AT25)","v":4.3478260869565216E-2},{"$f":"IF(AU28=0,0,(AU28*((LOG(AU28))/LOG(2))))","v":-0.19667660678508753}]
[12,3664,13,3675,13,3693,23,3706,13,3714,0,11121,null,21221,{"$f":"COUNTIF($L$7:$L$500,N29)","v":3},{"$f":"O29/$Q$4","v":2.2058823529411766E-2},{"$f":"IF(P29=0,0,(P29*((LOG(P29))/LOG(2))))","v":-0.1213786839822614},null,null,{"$f":"N29","v":21221},{"$f":"COUNTIF(L7:L29,T29)","v":0},{"$f":"U29/(W4-U25)","v":0},{"$f":"IF(V29=0,0,(V29*((LOG(V29))/LOG(2))))","v":0},null,{"$f":"N29","v":21221},{"$f":"COUNTIF(L30:L51,Y29)","v":1},{"$f":"Z29/(AB4-Z25)","v":4.7619047619047616E-2},{"$f":"IF(AA29=0,0,(AA29*((LOG(AA29))/LOG(2))))","v":-0.20915797251327431},null,{"$f":"N29","v":21221},{"$f":"COUNTIF(L52:L74,AD29)","v":1},{"$f":"AE29/(AG4-AE25)","v":4.5454545454545456E-2},{"$f":"IF(AF29=0,0,(AF29*((LOG(AF29))/LOG(2))))","v":-0.20270143721078623},null,{"$f":"N29","v":21221},{"$f":"COUNTIF(L75:L97,AI29)","v":0},{"$f":"AJ29/(AL4-AJ25)","v":0},{"$f":"IF(AK29=0,0,(AK29*((LOG(AK29))/LOG(2))))","v":0},null,{"$f":"N29","v":21221},{"$f":"COUNTIF(L98:L119,AN29)","v":0},{"$f":"AO29/(AQ4-AO25)","v":0},{"$f":"IF(AP29=0,0,(AP29*((LOG(AP29))/LOG(2))))","v":0},null,{"$f":"N29","v":21221},{"$f":"COUNTIF(L120:L142,AS29)","v":1},{"$f":"AT29/(AV4-AT25)","v":4.3478260869565216E-2},{"$f":"IF(AU29=0,0,(AU29*((LOG(AU29))/LOG(2))))","v":-0.19667660678508753}]
[21,3824,22,3839,13,3859,23,3868,13,3877,0,22121,null,21222,{"$f":"COUNTIF($L$7:$L$500,N30)","v":0},{"$f":"O30/$Q$4","v":0},{"$f":"IF(P30=0,0,(P30*((LOG(P30))/LOG(2))))","v":0},null,null,{"$f":"N30","v":21222},{"$f":"COUNTIF(L7:L29,T30)","v":0},{"$f":"U30/(W4-U25)","v":0},{"$f":"IF(V30=0,0,(V30*((LOG(V30))/LOG(2))))","v":0},null,{"$f":"N30","v":21222},{"$f":"COUNTIF(L30:L51,Y30)","v":0},{"$f":"Z30/(AB4-Z25)","v":0},{"$f":"IF(AA30=0,0,(AA30*((LOG(AA30))/LOG(2))))","v":0},null,{"$f":"N30","v":21222},{"$f":"COUNTIF(L52:L74,AD30)","v":0},{"$f":"AE30/(AG4-AE25)","v":0},{"$f":"IF(AF30=0,0,(AF30*((LOG(AF30))/LOG(2))))","v":0},null,{"$f":"N30","v":21222},{"$f":"COUNTIF(L75:L97,AI30)","v":0},{"$f":"AJ30/(AL4-AJ25)","v":0},{"$f":"IF(AK30=0,0,(AK30*((LOG(AK30))/LOG(2))))","v":0},null,{"$f":"N30","v":21222},{"$f":"COUNTIF(L98:L119,AN30)","v":0},{"$f":"AO30/(AQ4-AO25)","v":0},{"$f":"IF(AP30=0,0,(AP30*((LOG(AP30))/LOG(2))))","v":0},null,{"$f":"N30","v":21222},{"$f":"COUNTIF(L120:L142,AS30)","v":0},{"$f":"AT30/(AV4-AT25)","v":0},{"$f":"IF(AU30=0,0,(AU30*((LOG(AU30))/LOG(2))))","v":0}]
[21,3990,11,3998,11,4011,12,4024,24,4036,0,21112,null,22111,{"$f":"COUNTIF($L$7:$L$500,N31)","v":1},{"$f":"O31/$Q$4","v":7.3529411764705881E-3},{"$f":"IF(P31=0,0,(P31*((LOG(P31))/LOG(2))))","v":-5.2113697362134843E-2},null,null,{"$f":"N31","v":22111},{"$f":"COUNTIF(L7:L29,T31)","v":0},{"$f":"U31/(W4-U25)","v":0},{"$f":"IF(V31=0,0,(V31*((LOG(V31))/LOG(2))))","v":0},null,{"$f":"N31","v":22111},{"$f":"COUNTIF(L30:L51,Y31)","v":0},{"$f":"Z31/(AB4-Z25)","v":0},{"$f":"IF(AA31=0,0,(AA31*((LOG(AA31))/LOG(2))))","v":0},null,{"$f":"N31","v":22111},{"$f":"COUNTIF(L52:L74,AD31)","v":0},{"$f":"AE31/(AG4-AE25)","v":0},{"$f":"IF(AF31=0,0,(AF31*((LOG(AF31))/LOG(2))))","v":0},null,{"$f":"N31","v":22111},{"$f":"COUNTIF(L75:L97,AI31)","v":1},{"$f":"AJ31/(AL4-AJ25)","v":4.5454545454545456E-2},{"$f":"IF(AK31=0,0,(AK31*((LOG(AK31))/LOG(2))))","v":-0.20270143721078623},null,{"$f":"N31","v":22111},{"$f":"COUNTIF(L98:L119,AN31)","v":0},{"$f":"AO31/(AQ4-AO25)","v":0},{"$f":"IF(AP31=0,0,(AP31*((LOG(AP31))/LOG(2))))","v":0},null,{"$f":"N31","v":22111},{"$f":"COUNTIF(L120:L142,AS31)","v":0},{"$f":"AT31/(AV4-AT25)","v":0},{"$f":"IF(AU31=0,0,(AU31*((LOG(AU31))/LOG(2))))","v":0}]
[21,4139,22,4150,13,4158,23,4167,13,4178,0,22121,null,22112,{"$f":"COUNTIF($L$7:$L$500,N32)","v":3},{"$f":"O32/$Q$4","v":2.2058823529411766E-2},{"$f":"IF(P32=0,0,(P32*((LOG(P32))/LOG(2))))","v":-0.1213786839822614},null,null,{"$f":"N32","v":22112},{"$f":"COUNTIF(L7:L29,T32)","v":0},{"$f":"U32/(W4-U25)","v":0},{"$f":"IF(V32=0,0,(V32*((LOG(V32))/LOG(2))))","v":0},null,{"$f":"N32","v":22112},{"$f":"COUNTIF(L30:L51,Y32)","v":1},{"$f":"Z32/(AB4-Z25)","v":4.7619047619047616E-2},{"$f":"IF(AA32=0,0,(AA32*((LOG(AA32))/LOG(2))))","v":-0.20915797251327431},null,{"$f":"N32","v":22112},{"$f":"COUNTIF(L52:L74,AD32)","v":0},{"$f":"AE32/(AG4-AE25)","v":0},{"$f":"IF(AF32=0,0,(AF32*((LOG(AF32))/LOG(2))))","v":0},null,{"$f":"N32","v":22112},{"$f":"COUNTIF(L75:L97,AI32)","v":0},{"$f":"AJ32/(AL4-AJ25)","v":0},{"$f":"IF(AK32=0,0,(AK32*((LOG(AK32))/LOG(2))))","v":0},null,{"$f":"N32","v":22112},{"$f":"COUNTIF(L98:L119,AN32)","v":0},{"$f":"AO32/(AQ4-AO25)","v":0},{"$f":"IF(AP32=0,0,(AP32*((LOG(AP32))/LOG(2))))","v":0},null,{"$f":"N32","v":22112},{"$f":"COUNTIF(L120:L142,AS32)","v":2},{"$f":"AT32/(AV4-AT25)","v":8.6956521739130432E-2},{"$f":"IF(AU32=0,0,(AU32*((LOG(AU32))/LOG(2))))","v":-0.30639669183104457}]
[21,4284,22,4297,13,4306,14,4324,24,4333,0,22112,null,22121,{"$f":"COUNTIF($L$7:$L$500,N33)","v":6},{"$f":"O33/$Q$4","v":4.4117647058823532E-2},{"$f":"IF(P33=0,0,(P33*((LOG(P33))/LOG(2))))","v":-0.19863972090569926},null,null,{"$f":"N33","v":22121},{"$f":"COUNTIF(L7:L29,T33)","v":0},{"$f":"U33/(W4-U25)","v":0},{"$f":"IF(V33=0,0,(V33*((LOG(V33))/LOG(2))))","v":0},null,{"$f":"N33","v":22121},{"$f":"COUNTIF(L30:L51,Y33)","v":4},{"$f":"Z33/(AB4-Z25)","v":0.19047619047619047},{"$f":"IF(AA33=0,0,(AA33*((LOG(AA33))/LOG(2))))","v":-0.4556795091007162},null,{"$f":"N33","v":22121},{"$f":"COUNTIF(L52:L74,AD33)","v":0},{"$f":"AE33/(AG4-AE25)","v":0},{"$f":"IF(AF33=0,0,(AF33*((LOG(AF33))/LOG(2))))","v":0},null,{"$f":"N33","v":22121},{"$f":"COUNTIF(L75:L97,AI33)","v":1},{"$f":"AJ33/(AL4-AJ25)","v":4.5454545454545456E-2},{"$f":"IF(AK33=0,0,(AK33*((LOG(AK33))/LOG(2))))","v":-0.20270143721078623},null,{"$f":"N33","v":22121},{"$f":"COUNTIF(L98:L119,AN33)","v":0},{"$f":"AO33/(AQ4-AO25)","v":0},{"$f":"IF(AP33=0,0,(AP33*((LOG(AP33))/LOG(2))))","v":0},null,{"$f":"N33","v":22121},{"$f":"COUNTIF(L120:L142,AS33)","v":1},{"$f":"AT33/(AV4-AT25)","v":4.3478260869565216E-2},{"$f":"IF(AU33=0,0,(AU33*((LOG(AU33))/LOG(2))))","v":-0.19667660678508753}]
[21,4484,11,4494,11,4515,12,4523,13,4534,0,21111,null,22122,{"$f":"COUNTIF($L$7:$L$500,N34)","v":0},{"$f":"O34/$Q$4","v":0},{"$f":"IF(P34=0,0,(P34*((LOG(P34))/LOG(2))))","v":0},null,null,{"$f":"N34","v":22122},{"$f":"COUNTIF(L7:L29,T34)","v":0},{"$f":"U34/(W4-U25)","v":0},{"$f":"IF(V34=0,0,(V34*((LOG(V34))/LOG(2))))","v":0},null,{"$f":"N34","v":22122},{"$f":"COUNTIF(L30:L51,Y34)","v":0},{"$f":"Z34/(AB4-Z25)","v":0},{"$f":"IF(AA34=0,0,(AA34*((LOG(AA34))/LOG(2))))","v":0},null,{"$f":"N34","v":22122},{"$f":"COUNTIF(L52:L74,AD34)","v":0},{"$f":"AE34/(AG4-AE25)","v":0},{"$f":"IF(AF34=0,0,(AF34*((LOG(AF34))/LOG(2))))","v":0},null,{"$f":"N34","v":22122},{"$f":"COUNTIF(L75:L97,AI34)","v":0},{"$f":"AJ34/(AL4-AJ25)","v":0},{"$f":"IF(AK34=0,0,(AK34*((LOG(AK34))/LOG(2))))","v":0},null,{"$f":"N34","v":22122},{"$f":"COUNTIF(L98:L119,AN34)","v":0},{"$f":"AO34/(AQ4-AO25)","v":0},{"$f":"IF(AP34=0,0,(AP34*((LOG(AP34))/LOG(2))))","v":0},null,{"$f":"N34","v":22122},{"$f":"COUNTIF(L120:L142,AS34)","v":0},{"$f":"AT34/(AV4-AT25)","v":0},{"$f":"IF(AU34=0,0,(AU34*((LOG(AU34))/LOG(2))))","v":0}]
[21,4664,11,4677,22,4685,14,4694,13,4705,0,21211,null,22211,{"$f":"COUNTIF($L$7:$L$500,N35)","v":0},{"$f":"O35/$Q$4","v":0},{"$f":"IF(P35=0,0,(P35*((LOG(P35))/LOG(2))))","v":0},null,null,{"$f":"N35","v":22211},{"$f":"COUNTIF(L7:L29,T35)","v":0},{"$f":"U35/(W4-U25)","v":0},{"$f":"IF(V35=0,0,(V35*((LOG(V35))/LOG(2))))","v":0},null,{"$f":"N35","v":22211},{"$f":"COUNTIF(L30:L51,Y35)","v":0},{"$f":"Z35/(AB4-Z25)","v":0},{"$f":"IF(AA35=0,0,(AA35*((LOG(AA35))/LOG(2))))","v":0},null,{"$f":"N35","v":22211},{"$f":"COUNTIF(L52:L74,AD35)","v":0},{"$f":"AE35/(AG4-AE25)","v":0},{"$f":"IF(AF35=0,0,(AF35*((LOG(AF35))/LOG(2))))","v":0},null,{"$f":"N35","v":22211},{"$f":"COUNTIF(L75:L97,AI35)","v":0},{"$f":"AJ35/(AL4-AJ25)","v":0},{"$f":"IF(AK35=0,0,(AK35*((LOG(AK35))/LOG(2))))","v":0},null,{"$f":"N35","v":22211},{"$f":"COUNTIF(L98:L119,AN35)","v":0},{"$f":"AO35/(AQ4-AO25)","v":0},{"$f":"IF(AP35=0,0,(AP35*((LOG(AP35))/LOG(2))))","v":0},null,{"$f":"N35","v":22211},{"$f":"COUNTIF(L120:L142,AS35)","v":0},{"$f":"AT35/(AV4-AT25)","v":0},{"$f":"IF(AU35=0,0,(AU35*((LOG(AU35))/LOG(2))))","v":0}]
[21,4837,11,4845,22,4854,14,4862,13,4869,0,21211,null,22212,{"$f":"COUNTIF($L$7:$L$500,N36)","v":0},{"$f":"O36/$Q$4","v":0},{"$f":"IF(P36=0,0,(P36*((LOG(P36))/LOG(2))))","v":0},null,null,{"$f":"N36","v":22212},{"$f":"COUNTIF(L7:L29,T36)","v":0},{"$f":"U36/(W4-U25)","v":0},{"$f":"IF(V36=0,0,(V36*((LOG(V36))/LOG(2))))","v":0},null,{"$f":"N36","v":22212},{"$f":"COUNTIF(L30:L51,Y36)","v":0},{"$f":"Z36/(AB4-Z25)","v":0},{"$f":"IF(AA36=0,0,(AA36*((LOG(AA36))/LOG(2))))","v":0},null,{"$f":"N36","v":22212},{"$f":"COUNTIF(L52:L74,AD36)","v":0},{"$f":"AE36/(AG4-AE25)","v":0},{"$f":"IF(AF36=0,0,(AF36*((LOG(AF36))/LOG(2))))","v":0},null,{"$f":"N36","v":22212},{"$f":"COUNTIF(L75:L97,AI36)","v":0},{"$f":"AJ36/(AL4-AJ25)","v":0},{"$f":"IF(AK36=0,0,(AK36*((LOG(AK36))/LOG(2))))","v":0},null,{"$f":"N36","v":22212},{"$f":"COUNTIF(L98:L119,AN36)","v":0},{"$f":"AO36/(AQ4-AO25)","v":0},{"$f":"IF(AP36=0,0,(AP36*((LOG(AP36))/LOG(2))))","v":0},null,{"$f":"N36","v":22212},{"$f":"COUNTIF(L120:L142,AS36)","v":0},{"$f":"AT36/(AV4-AT25)","v":0},{"$f":"IF(AU36=0,0,(AU36*((LOG(AU36))/LOG(2))))","v":0}]
[21,4984,11,4993,22,5003,14,5011,24,5023,0,21212,null,22221,{"$f":"COUNTIF($L$7:$L$500,N37)","v":0},{"$f":"O37/$Q$4","v":0},{"$f":"IF(P37=0,0,(P37*((LOG(P37))/LOG(2))))","v":0},null,null,{"$f":"N37","v":22221},{"$f":"COUNTIF(L7:L29,T37)","v":0},{"$f":"U37/(W4-U25)","v":0},{"$f":"IF(V37=0,0,(V37*((LOG(V37))/LOG(2))))","v":0},null,{"$f":"N37","v":22221},{"$f":"COUNTIF(L30:L51,Y37)","v":0},{"$f":"Z37/(AB4-Z25)","v":0},{"$f":"IF(AA37=0,0,(AA37*((LOG(AA37))/LOG(2))))","v":0},null,{"$f":"N37","v":22221},{"$f":"COUNTIF(L52:L74,AD37)","v":0},{"$f":"AE37/(AG4-AE25)","v":0},{"$f":"IF(AF37=0,0,(AF37*((LOG(AF37))/LOG(2))))","v":0},null,{"$f":"N37","v":22221},{"$f":"COUNTIF(L75:L97,AI37)","v":0},{"$f":"AJ37/(AL4-AJ25)","v":0},{"$f":"IF(AK37=0,0,(AK37*((LOG(AK37))/LOG(2))))","v":0},null,{"$f":"N37","v":22221},{"$f":"COUNTIF(L98:L119,AN37)","v":0},{"$f":"AO37/(AQ4-AO25)","v":0},{"$f":"IF(AP37=0,0,(AP37*((LOG(AP37))/LOG(2))))","v":0},null,{"$f":"N37","v":22221},{"$f":"COUNTIF(L120:L142,AS37)","v":0},{"$f":"AT37/(AV4-AT25)","v":0},{"$f":"IF(AU37=0,0,(AU37*((LOG(AU37))/LOG(2))))","v":0}]
[21,5178,22,5196,13,5203,23,5213,13,5221,0,22121,null,22222,{"$f":"COUNTIF($L$7:$L$500,N38)","v":0},{"$f":"O38/$Q$4","v":0},{"$f":"IF(P38=0,0,(P38*((LOG(P38))/LOG(2))))","v":0},null,null,{"$f":"N38","v":22222},{"$f":"COUNTIF(L7:L29,T38)","v":0},{"$f":"U38/(W4-U25)","v":0},{"$f":"IF(V38=0,0,(V38*((LOG(V38))/LOG(2))))","v":0},null,{"$f":"N38","v":22222},{"$f":"COUNTIF(L30:L51,Y38)","v":0},{"$f":"Z38/(AB4-Z25)","v":0},{"$f":"IF(AA38=0,0,(AA38*((LOG(AA38))/LOG(2))))","v":0},null,{"$f":"N38","v":22222},{"$f":"COUNTIF(L52:L74,AD38)","v":0},{"$f":"AE38/(AG4-AE25)","v":0},{"$f":"IF(AF38=0,0,(AF38*((LOG(AF38))/LOG(2))))","v":0},null,{"$f":"N38","v":22222},{"$f":"COUNTIF(L75:L97,AI38)","v":0},{"$f":"AJ38/(AL4-AJ25)","v":0},{"$f":"IF(AK38=0,0,(AK38*((LOG(AK38))/LOG(2))))","v":0},null,{"$f":"N38","v":22222},{"$f":"COUNTIF(L98:L119,AN38)","v":0},{"$f":"AO38/(AQ4-AO25)","v":0},{"$f":"IF(AP38=0,0,(AP38*((LOG(AP38))/LOG(2))))","v":0},null,{"$f":"N38","v":22222},{"$f":"COUNTIF(L120:L142,AS38)","v":0},{"$f":"AT38/(AV4-AT25)","v":0},{"$f":"IF(AU38=0,0,(AU38*((LOG(AU38))/LOG(2))))","v":0}]
[12,5343,13,5358,24,5369,14,5377,24,5392,0,11212,null,null,null,{"$f":"SUM(P7:P38)","v":0.99999999999999967},{"$f":"-SUM(Q7:Q38)","v":3.7365254821700948},null,null,null,null,{"$f":"SUM(V7:V38)","v":1.0000000000000002},{"$f":"-SUM(W7:W38)","v":3.2135132560090711},null,null,null,{"$f":"SUM(AA7:AA38)","v":1},{"$f":"-SUM(AB7:AB38)","v":2.7539187581803457},null,null,null,{"$f":"SUM(AF7:AF38)","v":0.99999999999999989},{"$f":"-SUM(AG7:AG38)","v":2.681276369602581},null,null,null,{"$f":"SUM(AK7:AK38)","v":0.99999999999999989},{"$f":"-SUM(AL7:AL38)","v":3.0837651410695512},null,null,null,{"$f":"SUM(AP7:AP38)","v":1},{"$f":"-SUM(AQ7:AQ38)","v":2.833320822691054},null,null,null,{"$f":"SUM(AU7:AU38)","v":1},{"$f":"-SUM(AV7:AV38)","v":3.2618423904633667}]
[21,5527,11,5536,22,5548,14,5556,13,5569,0,21211,null,null,null,"U=",{"$f":"Q39/(LOG(Q4)/LOG(2))","v":0.52720212660909183},null,null,null,null,"U1=",{"$f":"W39/(LOG(W4)/LOG(2))","v":0.7103944385477472},null,null,null,"U2=",{"$f":"AB39/(LOG(AB4)/LOG(2))","v":0.61754927391887704},null,null,null,"U3=",{"$f":"AG39/(LOG(AG4)/LOG(2))","v":0.59273563524699235},null,null,null,"U4=",{"$f":"AL39/(LOG(AL4)/LOG(2))","v":0.68171170662102121},null,null,null,"U5=",{"$f":"AQ39/(LOG(AQ4)/LOG(2))","v":0.63535469651552889},null,null,null,"U6=",{"$f":"AV39/(LOG(AV4)/LOG(2))","v":0.72107830558080144}]
[21,5767,11,5776,22,5786,14,5794,13,5805,0,21211]
[12,6027,24,6038,13,6051,14,6058,13,6069,0,12111]
[12,6357,13,6370,24,6379,14,6400,24,6410,0,11212,null,"Total Target Seq"]
[21,6544,22,6554,13,6562,23,6570,13,6579,0,22121,null,{"$f":"COUNTIF(L7:L142,G3)","v":5},null,23,22,23,23,22,23]
[21,6689,11,6706,22,6717,14,6725,24,6737,0,21212,null,null,null,"% of reinforcement given in 6 equal intervals based on number of trials "]
[21,6877,11,6885,22,6894,23,6921,13,6932,0,21221,null,null,null,"%_1","%_2","%_3","%_4","%_5","%_6"]
[21,7081,11,7089,22,7100,14,7109,13,7125,0,21211,null,null,"target sequence",{"$f":"$G$3","v":21121},{"$f":"$G$3","v":21121},{"$f":"$G$3","v":21121},{"$f":"$G$3","v":21121},{"$f":"$G$3","v":21121},{"$f":"$G$3","v":21121}]
[12,7246,13,7257,24,7267,14,7275,24,7286,0,11212,null,null,"total reinforcement",{"$f":"U25","v":2},{"$f":"Z25","v":1},{"$f":"AE25","v":1},{"$f":"AJ25","v":1},{"$f":"AO25","v":0},{"$f":"AT25","v":0}]
[21,7428,11,7437,11,7450,21,7461,11,7470,1,21121,null,null,"% target"]
[21,7614,11,7623,22,7634,14,7643,13,7659,0,21211,null,null,"CCRF"]
[21,7785,11,7793,22,7804,14,7812,13,7820,0,21211,null,null,"% CCRf"]
[12,7929,24,7940,13,7948,23,7958,13,7966,0,12121,null,null,"average response rate",{"$f":"J29/P44","v":161.47826086956522},{"$f":"(J51-J29)/Q44","v":186.63636363636363},{"$f":"(J74-J51)/R44","v":156},{"$f":"(J97-J74)/S44","v":158.91304347826087},{"$f":"(J119-J97)/T44","v":161.40909090909091},{"$f":"(J142-J119)/U44","v":227.34782608695653}]
[12,8085,13,8099,24,8110,14,8133,13,8140,0,11211]
[12,8262,24,8272,13,8281,23,8291,13,8299,0,12121]
[21,8410,11,8419,22,8431,14,8439,13,8447,0,21211]
[12,8566,24,8574,13,8586,23,8610,13,8627,0,12121]
[12,8735,13,8748,24,8758,14,8767,24,8791,0,11212]
[21,8892,11,8900,22,8908,14,8918,24,8930,0,21212]
[12,9036,13,9047,24,9056,14,9068,13,9074,0,11211]
[21,9174,11,9181,22,9192,23,9202,13,9219,0,21221]
[12,9322,13,9334,24,9349,14,9361,24,9373,0,11212]
[12,9472,13,9487,13,9499,23,9510,13,9523,0,11121]
[12,9656,24,9666,13,9674,23,9685,13,9699,0,12121]
[12,9799,13,9821,24,9833,14,9842,24,9862,0,11212]
[21,9965,11,9977,11,9988,21,9999,11,10009,1,21121]
[12,10114,24,10125,13,10144,23,10157,13,10165,0,12121]
[12,10273,13,10281,24,10290,14,10297,24,10307,0,11212]
[12,10414,13,10423,13,10451,23,10464,13,10472,0,11121]
[12,10589,24,10598,13,10608,14,10617,24,10629,0,12112]
[12,10735,13,10754,24,10763,14,10771,13,10783,0,11211]
[12,10905,13,10930,24,10941,14,10950,13,10958,0,11211]
[21,11059,11,11067,22,11078,14,11086,24,11098,0,21212]
[12,11203,13,11217,24,11227,14,11235,13,11246,0,11211]
[12,11363,24,11376,13,11387,23,11400,13,11408,0,12121]
[12,11517,24,11532,13,11541,23,11552,13,11561,0,12121]
[21,11693,11,11704,22,11713,14,11721,13,11728,0,21211]
[12,11824,13,11834,24,11845,14,11853,24,11878,0,11212]
[21,11979,11,11990,22,11998,14,12006,13,12014,0,21211]
[21,12112,11,12132,22,12140,14,12154,13,12160,0,21211]
[21,12285,11,12294,22,12304,14,12328,13,12336,0,21211]
[21,12456,22,12471,13,12495,23,12505,13,12513,0,22121]
[21,12628,11,12636,11,12653,21,12665,11,12673,1,21121]
[21,12808,11,12816,22,12825,14,12837,24,12849,0,21212]
[12,12979,24,12989,13,13011,23,13022,13,13034,0,12121]
[12,13149,24,13161,13,13170,23,13178,13,13186,0,12121]
[21,13286,11,13307,22,13315,14,13324,24,13342,0,21212]
[12,13456,24,13465,13,13473,14,13489,13,13502,0,12111]
[12,13612,13,13621,24,13630,14,13642,13,13653,0,11211]
[21,13765,11,13774,22,13782,14,13790,24,13802,0,21212]
[12,13914,24,13923,13,13931,23,13940,13,13948,0,12121]
[12,14057,13,14071,24,14079,14,14095,13,14106,0,11211]
[12,14215,13,14227,24,14235,14,14257,13,14264,0,11211]
[12,14376,13,14384,24,14394,14,14402,24,14431,0,11212]
[12,14532,13,14542,24,14553,14,14561,24,14573,0,11212]
[21,14694,22,14701,13,14716,14,14727,13,14738,0,22111]
[12,14862,24,14871,13,14879,14,14887,24,14898,0,12112]
[12,15000,13,15008,13,15025,23,15037,13,15063,0,11121]
[21,15169,11,15179,22,15187,14,15195,13,15205,0,21211]
[21,15315,11,15329,22,15337,14,15345,13,15353,0,21211]
[12,15471,13,15486,24,15495,14,15506,24,15518,0,11212]
[12,15618,13,15630,24,15640,14,15652,13,15669,0,11211]
[12,15774,13,15786,13,15796,23,15807,24,15832,0,11122]
[12,15932,13,15960,13,15968,23,15977,13,15985,0,11121]
[21,16107,11,16115,22,16124,14,16132,24,16141,0,21212]
[12,16258,13,16267,24,16276,14,16284,13,16292,0,11211]
[12,16416,24,16426,13,16433,14,16445,13,16461,0,12111]
[12,16577,13,16592,24,16601,14,16609,13,16616,0,11211]
[12,16721,13,16733,24,16743,14,16751,24,16763,0,11212]
[12,16887,13,16895,13,16912,23,16920,13,16942,0,11121]
[12,17063,24,17075,13,17091,23,17103,13,17111,0,12121]
[12,17234,24,17245,13,17253,14,17260,13,17276,0,12111]
[21,17404,11,17412,22,17421,14,17430,24,17450,0,21212]
[21,17562,11,17571,22,17581,14,17590,24,17601,0,21212]
[21,17720,11,17728,22,17737,14,17745,24,17759,0,21212]
[21,17859,11,17870,22,17880,14,17887,24,17898,0,21212]
[21,18087,11,18106,22,18118,14,18133,24,18146,0,21212]
[21,18257,11,18265,22,18272,14,18281,13,18293,0,21211]
[12,18408,24,18417,13,18424,23,18433,13,18444,0,12121]
[12,18558,13,18574,24,18582,14,18596,24,18614,0,11212]
[21,18751,11,18762,22,18771,14,18780,13,18795,0,21211]
[21,18932,11,18940,22,18948,14,18959,13,18973,0,21211]
[21,19090,11,19102,22,19111,14,19119,24,19127,0,21212]
[12,19259,24,19269,13,19277,23,19288,13,19302,0,12121]
[21,19456,11,19465,22,19475,14,19487,13,19495,0,21211]
[12,19673,24,19688,24,19701,14,19722,24,19733,0,12212]
[12,19857,24,19868,13,19883,23,19905,24,19933,0,12122]
[21,20099,22,20112,13,20137,23,20149,13,20178,0,22121]
[21,20290,11,20393,22,20407,23,20432,13,20446,0,21221]
[12,20816,24,20826,13,20843,23,20855,13,20869,0,12121]
[12,21027,24,21042,24,21064,14,21082,13,21091,0,12211]
[12,21222,24,21232,13,21241,23,21253,13,21262,0,12121]
[12,21424,24,21436,13,21448,23,21460,13,21475,0,12121]
[21,21592,22,21602,13,21620,14,21636,24,21647,0,22112]
[12,21821,24,21834,24,21851,23,21871,13,21886,0,12221]
[12,21995,24,22008,13,22017,23,22026,13,22035,0,12121]
[12,22194,13,22207,24,22219,14,22235,24,22249,0,11212]
[12,22437,13,22450,24,22461,14,22474,24,22486,0,11212]
[12,22639,24,22649,13,22661,23,22672,13,22686,0,12121]
[12,23033,24,23049,24,23095,23,23150,13,23167,0,12221]
[21,23374,22,23406,13,23423,14,23432,24,23444,0,22112]
[12,23594,13,23608,24,23620,14,23632,13,23650,0,11211]
[12,23764,13,23802,24,23814,14,23830,24,23843,0,11212]

{"sheet":"!MA06820.010","index":9,"n_rows":122,"n_cols":48,"rows_kept":122,"cut":false,"hidden":false,"merged":[[4,39,4,42],[5,39,5,40],[4,44,4,47],[5,44,5,45],[4,24,4,27],[5,24,5,25],[4,29,4,32],[5,29,5,30],[4,34,4,37],[5,34,5,35],[1,1,1,2],[5,13,5,14],[42,13,42,14],[43,13,43,14],[4,19,4,22],[5,19,5,20]]}
["Report for:!MA06820.010"]
["Date:","<date>"]
["Hen:","<hen>",null,null,null,"Correct Sequence",{"$f":"Start!J2","v":21121},null,null,null,null,null,null,null,null,"Total Sequences in Data",{"$f":"4994-COUNTBLANK(L7:L5000)","v":116},null,null,null,null,"Total Sequences in Block Data",{"$f":"COUNTA(L7:L25)","v":19},null,null,null,"Total Sequences in Block Data",{"$f":"COUNTA(L26:L45)","v":20},null,null,null,"Total Sequences in Block Data",{"$f":"COUNTA(L46:L64)","v":19},null,null,null,"Total Sequences in Block Data",{"$f":"COUNTA(L65:L83)","v":19},null,null,null,"Total Sequences in Block Data",{"$f":"COUNTA(L84:L103)","v":20},null,null,null,"Total Sequences in Block Data",{"$f":"COUNTA(L104:L122)","v":19}]
[null,null,null,null,null,null,null,null,null,null,null,null,null,null,null,"Total Sequences in Summary",{"$f":"SUM(O7:O38)","v":116},null,null,null,null,"Total Sequences in Block Summary",{"$f":"SUM(U7:U38)","v":19},null,null,null,"Total Sequences in Block Summary",{"$f":"SUM(Z7:Z38)","v":20},null,null,null,"Total Sequences in Block Summary",{"$f":"SUM(AE7:AE38)","v":19},null,null,null,"Total Sequences in Block Summary",{"$f":"SUM(AJ7:AJ38)","v":19},null,null,null,"Total Sequences in Block Summary",{"$f":"SUM(AO7:AO38)","v":20},null,null,null,"Total Sequences in Block Summary",{"$f":"SUM(AT7:AT38)","v":19}]
[null,null,null,null,null,null,null,null,null,null,null,null,null,null,null,null,null,null,null,"Block 1",null,null,null,null,"Block 2",null,null,null,null,"Block 3",null,null,null,null,"Block 4",null,null,null,null,"Block 5",null,null,null,null,"Block 6"]
["Sequence\nComponent\n1","Time\n1","Sequence\nComponent\n2","Time\n2","Sequence\nComponent\n3","Time\n3","Sequence\nComponent\n4","Time\n4","Sequence\nComponent\n5","Time\n5","Correct?\n0=No 1=Yes","Sequence",null,"Frequency",null,"Relative Frequency","Variability",null,null,"Frequency",null,"Relative Frequency","Variability",null,"Frequency",null,"Relative Frequency","Variability",null,"Frequency",null,"Relative Frequency","Variability",null,"Frequency",null,"Relative Frequency","Variability",null,"Frequency",null,"Relative Frequency","Variability",null,"Frequency",null,"Relative Frequency","Variability"]
[12,16,24,42,24,65,23,104,24,138,0,12222,null,11111,{"$f":"COUNTIF($L$7:$L$500,N7)","v":10},{"$f":"O7/$Q$4","v":8.6206896551724144E-2},{"$f":"IF(P7=0,0,(P7*((LOG(P7))/LOG(2))))","v":-0.30483214657243185},null,null,{"$f":"N7","v":11111},{"$f":"COUNTIF(L7:L25,T7)","v":0},{"$f":"U7/(W4-U25)","v":0},{"$f":"IF(V7=0,0,(V7*((LOG(V7))/LOG(2))))","v":0},null,{"$f":"N7","v":11111},{"$f":"COUNTIF(L26:L45,Y7)","v":0},{"$f":"Z7/(AB4-Z25)","v":0},{"$f":"IF(AA7=0,0,(AA7*((LOG(AA7))/LOG(2))))","v":0},null,{"$f":"N7","v":11111},{"$f":"COUNTIF(L46:L64,AD7)","v":2},{"$f":"AE7/(AG4-AE25)","v":0.1111111111111111},{"$f":"IF(AF7=0,0,(AF7*((LOG(AF7))/LOG(2))))","v":-0.3522138890491458},null,{"$f":"N7","v":11111},{"$f":"COUNTIF(L65:L83,AI7)","v":2},{"$f":"AJ7/(AL4-AJ25)","v":0.11764705882352941},{"$f":"IF(AK7=0,0,(AK7*((LOG(AK7))/LOG(2))))","v":-0.36323092250003997},null,{"$f":"N7","v":11111},{"$f":"COUNTIF(L84:L103,AN7)","v":4},{"$f":"AO7/(AQ4-AO25)","v":0.22222222222222221},{"$f":"IF(AP7=0,0,(AP7*((LOG(AP7))/LOG(2))))","v":-0.48220555587606945},null,{"$f":"N7","v":11111},{"$f":"COUNTIF(L104:L122,AS7)","v":2},{"$f":"AT7/(AV4-AT25)","v":0.1111111111111111},{"$f":"IF(AU7=0,0,(AU7*((LOG(AU7))/LOG(2))))","v":-0.3522138890491458}]
[12,243,13,257,24,270,14,281,24,296,0,11212,null,11112,{"$f":"COUNTIF($L$7:$L$500,N8)","v":2},{"$f":"O8/$Q$4","v":1.7241379310344827E-2},{"$f":"IF(P8=0,0,(P8*((LOG(P8))/LOG(2))))","v":-0.10099967232978573},null,null,{"$f":"N8","v":11112},{"$f":"COUNTIF(L7:L25,T8)","v":0},{"$f":"U8/(W4-U25)","v":0},{"$f":"IF(V8=0,0,(V8*((LOG(V8))/LOG(2))))","v":0},null,{"$f":"N8","v":11112},{"$f":"COUNTIF(L26:L45,Y8)","v":0},{"$f":"Z8/(AB4-Z25)","v":0},{"$f":"IF(AA8=0,0,(AA8*((LOG(AA8))/LOG(2))))","v":0},null,{"$f":"N8","v":11112},{"$f":"COUNTIF(L46:L64,AD8)","v":0},{"$f":"AE8/(AG4-AE25)","v":0},{"$f":"IF(AF8=0,0,(AF8*((LOG(AF8))/LOG(2))))","v":0},null,{"$f":"N8","v":11112},{"$f":"COUNTIF(L65:L83,AI8)","v":0},{"$f":"AJ8/(AL4-AJ25)","v":0},{"$f":"IF(AK8=0,0,(AK8*((LOG(AK8))/LOG(2))))","v":0},null,{"$f":"N8","v":11112},{"$f":"COUNTIF(L84:L103,AN8)","v":2},{"$f":"AO8/(AQ4-AO25)","v":0.1111111111111111},{"$f":"IF(AP8=0,0,(AP8*((LOG(AP8))/LOG(2))))","v":-0.3522138890491458},null,{"$f":"N8","v":11112},{"$f":"COUNTIF(L104:L122,AS8)","v":0},{"$f":"AT8/(AV4-AT25)","v":0},{"$f":"IF(AU8=0,0,(AU8*((LOG(AU8))/LOG(2))))","v":0}]
[21,414,22,424,13,590,14,620,24,640,0,22112,null,11121,{"$f":"COUNTIF($L$7:$L$500,N9)","v":9},{"$f":"O9/$Q$4","v":7.7586206896551727E-2},{"$f":"IF(P9=0,0,(P9*((LOG(P9))/LOG(2))))","v":-0.28614227537213222},null,null,{"$f":"N9","v":11121},{"$f":"COUNTIF(L7:L25,T9)","v":0},{"$f":"U9/(W4-U25)","v":0},{"$f":"IF(V9=0,0,(V9*((LOG(V9))/LOG(2))))","v":0},null,{"$f":"N9","v":11121},{"$f":"COUNTIF(L26:L45,Y9)","v":2},{"$f":"Z9/(AB4-Z25)","v":0.10526315789473684},{"$f":"IF(AA9=0,0,(AA9*((LOG(AA9))/LOG(2))))","v":-0.34188710667827216},null,{"$f":"N9","v":11121},{"$f":"COUNTIF(L46:L64,AD9)","v":2},{"$f":"AE9/(AG4-AE25)","v":0.1111111111111111},{"$f":"IF(AF9=0,0,(AF9*((LOG(AF9))/LOG(2))))","v":-0.3522138890491458},null,{"$f":"N9","v":11121},{"$f":"COUNTIF(L65:L83,AI9)","v":4},{"$f":"AJ9/(AL4-AJ25)","v":0.23529411764705882},{"$f":"IF(AK9=0,0,(AK9*((LOG(AK9))/LOG(2))))","v":-0.49116772735302094},null,{"$f":"N9","v":11121},{"$f":"COUNTIF(L84:L103,AN9)","v":0},{"$f":"AO9/(AQ4-AO25)","v":0},{"$f":"IF(AP9=0,0,(AP9*((LOG(AP9))/LOG(2))))","v":0},null,{"$f":"N9","v":11121},{"$f":"COUNTIF(L104:L122,AS9)","v":1},{"$f":"AT9/(AV4-AT25)","v":5.5555555555555552E-2},{"$f":"IF(AU9=0,0,(AU9*((LOG(AU9))/LOG(2))))","v":-0.23166250008012845}]
[21,763,22,799,24,842,14,854,24,869,0,22212,null,11122,{"$f":"COUNTIF($L$7:$L$500,N10)","v":0},{"$f":"O10/$Q$4","v":0},{"$f":"IF(P10=0,0,(P10*((LOG(P10))/LOG(2))))","v":0},null,null,{"$f":"N10","v":11122},{"$f":"COUNTIF(L7:L25,T10)","v":0},{"$f":"U10/(W4-U25)","v":0},{"$f":"IF(V10=0,0,(V10*((LOG(V10))/LOG(2))))","v":0},null,{"$f":"N10","v":11122},{"$f":"COUNTIF(L26:L45,Y10)","v":0},{"$f":"Z10/(AB4-Z25)","v":0},{"$f":"IF(AA10=0,0,(AA10*((LOG(AA10))/LOG(2))))","v":0},null,{"$f":"N10","v":11122},{"$f":"COUNTIF(L46:L64,AD10)","v":0},{"$f":"AE10/(AG4-AE25)","v":0},{"$f":"IF(AF10=0,0,(AF10*((LOG(AF10))/LOG(2))))","v":0},null,{"$f":"N10","v":11122},{"$f":"COUNTIF(L65:L83,AI10)","v":0},{"$f":"AJ10/(AL4-AJ25)","v":0},{"$f":"IF(AK10=0,0,(AK10*((LOG(AK10))/LOG(2))))","v":0},null,{"$f":"N10","v":11122},{"$f":"COUNTIF(L84:L103,AN10)","v":0},{"$f":"AO10/(AQ4-AO25)","v":0},{"$f":"IF(AP10=0,0,(AP10*((LOG(AP10))/LOG(2))))","v":0},null,{"$f":"N10","v":11122},{"$f":"COUNTIF(L104:L122,AS10)","v":0},{"$f":"AT10/(AV4-AT25)","v":0},{"$f":"IF(AU10=0,0,(AU10*((LOG(AU10))/LOG(2))))","v":0}]
[21,993,11,1005,22,1018,14,1029,24,1050,0,21212,null,11211,{"$f":"COUNTIF($L$7:$L$500,N11)","v":32},{"$f":"O11/$Q$4","v":0.27586206896551724},{"$f":"IF(P11=0,0,(P11*((LOG(P11))/LOG(2))))","v":-0.51254648141450265},null,null,{"$f":"N11","v":11211},{"$f":"COUNTIF(L7:L25,T11)","v":4},{"$f":"U11/(W4-U25)","v":0.23529411764705882},{"$f":"IF(V11=0,0,(V11*((LOG(V11))/LOG(2))))","v":-0.49116772735302094},null,{"$f":"N11","v":11211},{"$f":"COUNTIF(L26:L45,Y11)","v":6},{"$f":"Z11/(AB4-Z25)","v":0.31578947368421051},{"$f":"IF(AA11=0,0,(AA11*((LOG(AA11))/LOG(2))))","v":-0.52514684612287243},null,{"$f":"N11","v":11211},{"$f":"COUNTIF(L46:L64,AD11)","v":7},{"$f":"AE11/(AG4-AE25)","v":0.3888888888888889},{"$f":"IF(AF11=0,0,(AF11*((LOG(AF11))/LOG(2))))","v":-0.52988836420516428},null,{"$f":"N11","v":11211},{"$f":"COUNTIF(L65:L83,AI11)","v":7},{"$f":"AJ11/(AL4-AJ25)","v":0.41176470588235292},{"$f":"IF(AK11=0,0,(AK11*((LOG(AK11))/LOG(2))))","v":-0.52710326084406744},null,{"$f":"N11","v":11211},{"$f":"COUNTIF(L84:L103,AN11)","v":6},{"$f":"AO11/(AQ4-AO25)","v":0.33333333333333331},{"$f":"IF(AP11=0,0,(AP11*((LOG(AP11))/LOG(2))))","v":-0.52832083357371862},null,{"$f":"N11","v":11211},{"$f":"COUNTIF(L104:L122,AS11)","v":2},{"$f":"AT11/(AV4-AT25)","v":0.1111111111111111},{"$f":"IF(AU11=0,0,(AU11*((LOG(AU11))/LOG(2))))","v":-0.3522138890491458}]
[12,1236,13,1247,24,1259,14,1280,24,1291,0,11212,null,11212,{"$f":"COUNTIF($L$7:$L$500,N12)","v":13},{"$f":"O12/$Q$4","v":0.11206896551724138},{"$f":"IF(P12=0,0,(P12*((LOG(P12))/LOG(2))))","v":-0.35386238448986412},null,null,{"$f":"N12","v":11212},{"$f":"COUNTIF(L7:L25,T12)","v":2},{"$f":"U12/(W4-U25)","v":0.11764705882352941},{"$f":"IF(V12=0,0,(V12*((LOG(V12))/LOG(2))))","v":-0.36323092250003997},null,{"$f":"N12","v":11212},{"$f":"COUNTIF(L26:L45,Y12)","v":4},{"$f":"Z12/(AB4-Z25)","v":0.21052631578947367},{"$f":"IF(AA12=0,0,(AA12*((LOG(AA12))/LOG(2))))","v":-0.47324789756707064},null,{"$f":"N12","v":11212},{"$f":"COUNTIF(L46:L64,AD12)","v":1},{"$f":"AE12/(AG4-AE25)","v":5.5555555555555552E-2},{"$f":"IF(AF12=0,0,(AF12*((LOG(AF12))/LOG(2))))","v":-0.23166250008012845},null,{"$f":"N12","v":11212},{"$f":"COUNTIF(L65:L83,AI12)","v":1},{"$f":"AJ12/(AL4-AJ25)","v":5.8823529411764705E-2},{"$f":"IF(AK12=0,0,(AK12*((LOG(AK12))/LOG(2))))","v":-0.24043899066178465},null,{"$f":"N12","v":11212},{"$f":"COUNTIF(L84:L103,AN12)","v":3},{"$f":"AO12/(AQ4-AO25)","v":0.16666666666666666},{"$f":"IF(AP12=0,0,(AP12*((LOG(AP12))/LOG(2))))","v":-0.43082708345352599},null,{"$f":"N12","v":11212},{"$f":"COUNTIF(L104:L122,AS12)","v":2},{"$f":"AT12/(AV4-AT25)","v":0.1111111111111111},{"$f":"IF(AU12=0,0,(AU12*((LOG(AU12))/LOG(2))))","v":-0.3522138890491458}]
[21,1533,11,1570,22,1583,14,1593,13,1602,0,21211,null,11221,{"$f":"COUNTIF($L$7:$L$500,N13)","v":0},{"$f":"O13/$Q$4","v":0},{"$f":"IF(P13=0,0,(P13*((LOG(P13))/LOG(2))))","v":0},null,null,{"$f":"N13","v":11221},{"$f":"COUNTIF(L7:L25,T13)","v":0},{"$f":"U13/(W4-U25)","v":0},{"$f":"IF(V13=0,0,(V13*((LOG(V13))/LOG(2))))","v":0},null,{"$f":"N13","v":11221},{"$f":"COUNTIF(L26:L45,Y13)","v":0},{"$f":"Z13/(AB4-Z25)","v":0},{"$f":"IF(AA13=0,0,(AA13*((LOG(AA13))/LOG(2))))","v":0},null,{"$f":"N13","v":11221},{"$f":"COUNTIF(L46:L64,AD13)","v":0},{"$f":"AE13/(AG4-AE25)","v":0},{"$f":"IF(AF13=0,0,(AF13*((LOG(AF13))/LOG(2))))","v":0},null,{"$f":"N13","v":11221},{"$f":"COUNTIF(L65:L83,AI13)","v":0},{"$f":"AJ13/(AL4-AJ25)","v":0},{"$f":"IF(AK13=0,0,(AK13*((LOG(AK13))/LOG(2))))","v":0},null,{"$f":"N13","v":11221},{"$f":"COUNTIF(L84:L103,AN13)","v":0},{"$f":"AO13/(AQ4-AO25)","v":0},{"$f":"IF(AP13=0,0,(AP13*((LOG(AP13))/LOG(2))))","v":0},null,{"$f":"N13","v":11221},{"$f":"COUNTIF(L104:L122,AS13)","v":0},{"$f":"AT13/(AV4-AT25)","v":0},{"$f":"IF(AU13=0,0,(AU13*((LOG(AU13))/LOG(2))))","v":0}]
[21,1764,11,1776,22,1787,23,1800,13,1820,0,21221,null,11222,{"$f":"COUNTIF($L$7:$L$500,N14)","v":0},{"$f":"O14/$Q$4","v":0},{"$f":"IF(P14=0,0,(P14*((LOG(P14))/LOG(2))))","v":0},null,null,{"$f":"N14","v":11222},{"$f":"COUNTIF(L7:L25,T14)","v":0},{"$f":"U14/(W4-U25)","v":0},{"$f":"IF(V14=0,0,(V14*((LOG(V14))/LOG(2))))","v":0},null,{"$f":"N14","v":11222},{"$f":"COUNTIF(L26:L45,Y14)","v":0},{"$f":"Z14/(AB4-Z25)","v":0},{"$f":"IF(AA14=0,0,(AA14*((LOG(AA14))/LOG(2))))","v":0},null,{"$f":"N14","v":11222},{"$f":"COUNTIF(L46:L64,AD14)","v":0},{"$f":"AE14/(AG4-AE25)","v":0},{"$f":"IF(AF14=0,0,(AF14*((LOG(AF14))/LOG(2))))","v":0},null,{"$f":"N14","v":11222},{"$f":"COUNTIF(L65:L83,AI14)","v":0},{"$f":"AJ14/(AL4-AJ25)","v":0},{"$f":"IF(AK14=0,0,(AK14*((LOG(AK14))/LOG(2))))","v":0},null,{"$f":"N14","v":11222},{"$f":"COUNTIF(L84:L103,AN14)","v":0},{"$f":"AO14/(AQ4-AO25)","v":0},{"$f":"IF(AP14=0,0,(AP14*((LOG(AP14))/LOG(2))))","v":0},null,{"$f":"N14","v":11222},{"$f":"COUNTIF(L104:L122,AS14)","v":0},{"$f":"AT14/(AV4-AT25)","v":0},{"$f":"IF(AU14=0,0,(AU14*((LOG(AU14))/LOG(2))))","v":0}]
[12,1957,24,1999,13,2009,14,2028,13,2056,0,12111,null,12111,{"$f":"COUNTIF($L$7:$L$500,N15)","v":7},{"$f":"O15/$Q$4","v":6.0344827586206899E-2},{"$f":"IF(P15=0,0,(P15*((LOG(P15))/LOG(2))))","v":-0.24443433199560152},null,null,{"$f":"N15","v":12111},{"$f":"COUNTIF(L7:L25,T15)","v":2},{"$f":"U15/(W4-U25)","v":0.11764705882352941},{"$f":"IF(V15=0,0,(V15*((LOG(V15))/LOG(2))))","v":-0.36323092250003997},null,{"$f":"N15","v":12111},{"$f":"COUNTIF(L26:L45,Y15)","v":1},{"$f":"Z15/(AB4-Z25)","v":5.2631578947368418E-2},{"$f":"IF(AA15=0,0,(AA15*((LOG(AA15))/LOG(2))))","v":-0.22357513228650452},null,{"$f":"N15","v":12111},{"$f":"COUNTIF(L46:L64,AD15)","v":1},{"$f":"AE15/(AG4-AE25)","v":5.5555555555555552E-2},{"$f":"IF(AF15=0,0,(AF15*((LOG(AF15))/LOG(2))))","v":-0.23166250008012845},null,{"$f":"N15","v":12111},{"$f":"COUNTIF(L65:L83,AI15)","v":0},{"$f":"AJ15/(AL4-AJ25)","v":0},{"$f":"IF(AK15=0,0,(AK15*((LOG(AK15))/LOG(2))))","v":0},null,{"$f":"N15","v":12111},{"$f":"COUNTIF(L84:L103,AN15)","v":0},{"$f":"AO15/(AQ4-AO25)","v":0},{"$f":"IF(AP15=0,0,(AP15*((LOG(AP15))/LOG(2))))","v":0},null,{"$f":"N15","v":12111},{"$f":"COUNTIF(L104:L122,AS15)","v":3},{"$f":"AT15/(AV4-AT25)","v":0.16666666666666666},{"$f":"IF(AU15=0,0,(AU15*((LOG(AU15))/LOG(2))))","v":-0.43082708345352599}]
[21,2308,11,2321,11,2335,21,2348,11,2408,1,21121,null,12112,{"$f":"COUNTIF($L$7:$L$500,N16)","v":5},{"$f":"O16/$Q$4","v":4.3103448275862072E-2},{"$f":"IF(P16=0,0,(P16*((LOG(P16))/LOG(2))))","v":-0.195519521562078},null,null,{"$f":"N16","v":12112},{"$f":"COUNTIF(L7:L25,T16)","v":0},{"$f":"U16/(W4-U25)","v":0},{"$f":"IF(V16=0,0,(V16*((LOG(V16))/LOG(2))))","v":0},null,{"$f":"N16","v":12112},{"$f":"COUNTIF(L26:L45,Y16)","v":3},{"$f":"Z16/(AB4-Z25)","v":0.15789473684210525},{"$f":"IF(AA16=0,0,(AA16*((LOG(AA16))/LOG(2))))","v":-0.42046815990354147},null,{"$f":"N16","v":12112},{"$f":"COUNTIF(L46:L64,AD16)","v":0},{"$f":"AE16/(AG4-AE25)","v":0},{"$f":"IF(AF16=0,0,(AF16*((LOG(AF16))/LOG(2))))","v":0},null,{"$f":"N16","v":12112},{"$f":"COUNTIF(L65:L83,AI16)","v":0},{"$f":"AJ16/(AL4-AJ25)","v":0},{"$f":"IF(AK16=0,0,(AK16*((LOG(AK16))/LOG(2))))","v":0},null,{"$f":"N16","v":12112},{"$f":"COUNTIF(L84:L103,AN16)","v":0},{"$f":"AO16/(AQ4-AO25)","v":0},{"$f":"IF(AP16=0,0,(AP16*((LOG(AP16))/LOG(2))))","v":0},null,{"$f":"N16","v":12112},{"$f":"COUNTIF(L104:L122,AS16)","v":2},{"$f":"AT16/(AV4-AT25)","v":0.1111111111111111},{"$f":"IF(AU16=0,0,(AU16*((LOG(AU16))/LOG(2))))","v":-0.3522138890491458}]
[21,2690,11,2700,22,2711,14,2725,24,2739,0,21212,null,12121,{"$f":"COUNTIF($L$7:$L$500,N17)","v":8},{"$f":"O17/$Q$4","v":6.8965517241379309E-2},{"$f":"IF(P17=0,0,(P17*((LOG(P17))/LOG(2))))","v":-0.26606765483638428},null,null,{"$f":"N17","v":12121},{"$f":"COUNTIF(L7:L25,T17)","v":2},{"$f":"U17/(W4-U25)","v":0.11764705882352941},{"$f":"IF(V17=0,0,(V17*((LOG(V17))/LOG(2))))","v":-0.36323092250003997},null,{"$f":"N17","v":12121},{"$f":"COUNTIF(L26:L45,Y17)","v":1},{"$f":"Z17/(AB4-Z25)","v":5.2631578947368418E-2},{"$f":"IF(AA17=0,0,(AA17*((LOG(AA17))/LOG(2))))","v":-0.22357513228650452},null,{"$f":"N17","v":12121},{"$f":"COUNTIF(L46:L64,AD17)","v":2},{"$f":"AE17/(AG4-AE25)","v":0.1111111111111111},{"$f":"IF(AF17=0,0,(AF17*((LOG(AF17))/LOG(2))))","v":-0.3522138890491458},null,{"$f":"N17","v":12121},{"$f":"COUNTIF(L65:L83,AI17)","v":1},{"$f":"AJ17/(AL4-AJ25)","v":5.8823529411764705E-2},{"$f":"IF(AK17=0,0,(AK17*((LOG(AK17))/LOG(2))))","v":-0.24043899066178465},null,{"$f":"N17","v":12121},{"$f":"COUNTIF(L84:L103,AN17)","v":1},{"$f":"AO17/(AQ4-AO25)","v":5.5555555555555552E-2},{"$f":"IF(AP17=0,0,(AP17*((LOG(AP17))/LOG(2))))","v":-0.23166250008012845},null,{"$f":"N17","v":12121},{"$f":"COUNTIF(L104:L122,AS17)","v":1},{"$f":"AT17/(AV4-AT25)","v":5.5555555555555552E-2},{"$f":"IF(AU17=0,0,(AU17*((LOG(AU17))/LOG(2))))","v":-0.23166250008012845}]
[21,2866,11,2878,11,2894,21,2903,11,2929,1,21121,null,12122,{"$f":"COUNTIF($L$7:$L$500,N18)","v":0},{"$f":"O18/$Q$4","v":0},{"$f":"IF(P18=0,0,(P18*((LOG(P18))/LOG(2))))","v":0},null,null,{"$f":"N18","v":12122},{"$f":"COUNTIF(L7:L25,T18)","v":0},{"$f":"U18/(W4-U25)","v":0},{"$f":"IF(V18=0,0,(V18*((LOG(V18))/LOG(2))))","v":0},null,{"$f":"N18","v":12122},{"$f":"COUNTIF(L26:L45,Y18)","v":0},{"$f":"Z18/(AB4-Z25)","v":0},{"$f":"IF(AA18=0,0,(AA18*((LOG(AA18))/LOG(2))))","v":0},null,{"$f":"N18","v":12122},{"$f":"COUNTIF(L46:L64,AD18)","v":0},{"$f":"AE18/(AG4-AE25)","v":0},{"$f":"IF(AF18=0,0,(AF18*((LOG(AF18))/LOG(2))))","v":0},null,{"$f":"N18","v":12122},{"$f":"COUNTIF(L65:L83,AI18)","v":0},{"$f":"AJ18/(AL4-AJ25)","v":0},{"$f":"IF(AK18=0,0,(AK18*((LOG(AK18))/LOG(2))))","v":0},null,{"$f":"N18","v":12122},{"$f":"COUNTIF(L84:L103,AN18)","v":0},{"$f":"AO18/(AQ4-AO25)","v":0},{"$f":"IF(AP18=0,0,(AP18*((LOG(AP18))/LOG(2))))","v":0},null,{"$f":"N18","v":12122},{"$f":"COUNTIF(L104:L122,AS18)","v":0},{"$f":"AT18/(AV4-AT25)","v":0},{"$f":"IF(AU18=0,0,(AU18*((LOG(AU18))/LOG(2))))","v":0}]
[12,3051,24,3061,13,3074,14,3093,13,3107,0,12111,null,12211,{"$f":"COUNTIF($L$7:$L$500,N19)","v":1},{"$f":"O19/$Q$4","v":8.6206896551724137E-3},{"$f":"IF(P19=0,0,(P19*((LOG(P19))/LOG(2))))","v":-5.912052582006528E-2},null,null,{"$f":"N19","v":12211},{"$f":"COUNTIF(L7:L25,T19)","v":0},{"$f":"U19/(W4-U25)","v":0},{"$f":"IF(V19=0,0,(V19*((LOG(V19))/LOG(2))))","v":0},null,{"$f":"N19","v":12211},{"$f":"COUNTIF(L26:L45,Y19)","v":0},{"$f":"Z19/(AB4-Z25)","v":0},{"$f":"IF(AA19=0,0,(AA19*((LOG(AA19))/LOG(2))))","v":0},null,{"$f":"N19","v":12211},{"$f":"COUNTIF(L46:L64,AD19)","v":0},{"$f":"AE19/(AG4-AE25)","v":0},{"$f":"IF(AF19=0,0,(AF19*((LOG(AF19))/LOG(2))))","v":0},null,{"$f":"N19","v":12211},{"$f":"COUNTIF(L65:L83,AI19)","v":0},{"$f":"AJ19/(AL4-AJ25)","v":0},{"$f":"IF(AK19=0,0,(AK19*((LOG(AK19))/LOG(2))))","v":0},null,{"$f":"N19","v":12211},{"$f":"COUNTIF(L84:L103,AN19)","v":0},{"$f":"AO19/(AQ4-AO25)","v":0},{"$f":"IF(AP19=0,0,(AP19*((LOG(AP19))/LOG(2))))","v":0},null,{"$f":"N19","v":12211},{"$f":"COUNTIF(L104:L122,AS19)","v":1},{"$f":"AT19/(AV4-AT25)","v":5.5555555555555552E-2},{"$f":"IF(AU19=0,0,(AU19*((LOG(AU19))/LOG(2))))","v":-0.23166250008012845}]
[12,3222,13,3243,24,3256,14,3296,13,3308,0,11211,null,12212,{"$f":"COUNTIF($L$7:$L$500,N20)","v":0},{"$f":"O20/$Q$4","v":0},{"$f":"IF(P20=0,0,(P20*((LOG(P20))/LOG(2))))","v":0},null,null,{"$f":"N20","v":12212},{"$f":"COUNTIF(L7:L25,T20)","v":0},{"$f":"U20/(W4-U25)","v":0},{"$f":"IF(V20=0,0,(V20*((LOG(V20))/LOG(2))))","v":0},null,{"$f":"N20","v":12212},{"$f":"COUNTIF(L26:L45,Y20)","v":0},{"$f":"Z20/(AB4-Z25)","v":0},{"$f":"IF(AA20=0,0,(AA20*((LOG(AA20))/LOG(2))))","v":0},null,{"$f":"N20","v":12212},{"$f":"COUNTIF(L46:L64,AD20)","v":0},{"$f":"AE20/(AG4-AE25)","v":0},{"$f":"IF(AF20=0,0,(AF20*((LOG(AF20))/LOG(2))))","v":0},null,{"$f":"N20","v":12212},{"$f":"COUNTIF(L65:L83,AI20)","v":0},{"$f":"AJ20/(AL4-AJ25)","v":0},{"$f":"IF(AK20=0,0,(AK20*((LOG(AK20))/LOG(2))))","v":0},null,{"$f":"N20","v":12212},{"$f":"COUNTIF(L84:L103,AN20)","v":0},{"$f":"AO20/(AQ4-AO25)","v":0},{"$f":"IF(AP20=0,0,(AP20*((LOG(AP20))/LOG(2))))","v":0},null,{"$f":"N20","v":12212},{"$f":"COUNTIF(L104:L122,AS20)","v":0},{"$f":"AT20/(AV4-AT25)","v":0},{"$f":"IF(AU20=0,0,(AU20*((LOG(AU20))/LOG(2))))","v":0}]
[12,3420,24,3432,13,3442,23,3454,13,3467,0,12121,null,12221,{"$f":"COUNTIF($L$7:$L$500,N21)","v":0},{"$f":"O21/$Q$4","v":0},{"$f":"IF(P21=0,0,(P21*((LOG(P21))/LOG(2))))","v":0},null,null,{"$f":"N21","v":12221},{"$f":"COUNTIF(L7:L25,T21)","v":0},{"$f":"U21/(W4-U25)","v":0},{"$f":"IF(V21=0,0,(V21*((LOG(V21))/LOG(2))))","v":0},null,{"$f":"N21","v":12221},{"$f":"COUNTIF(L26:L45,Y21)","v":0},{"$f":"Z21/(AB4-Z25)","v":0},{"$f":"IF(AA21=0,0,(AA21*((LOG(AA21))/LOG(2))))","v":0},null,{"$f":"N21","v":12221},{"$f":"COUNTIF(L46:L64,AD21)","v":0},{"$f":"AE21/(AG4-AE25)","v":0},{"$f":"IF(AF21=0,0,(AF21*((LOG(AF21))/LOG(2))))","v":0},null,{"$f":"N21","v":12221},{"$f":"COUNTIF(L65:L83,AI21)","v":0},{"$f":"AJ21/(AL4-AJ25)","v":0},{"$f":"IF(AK21=0,0,(AK21*((LOG(AK21))/LOG(2))))","v":0},null,{"$f":"N21","v":12221},{"$f":"COUNTIF(L84:L103,AN21)","v":0},{"$f":"AO21/(AQ4-AO25)","v":0},{"$f":"IF(AP21=0,0,(AP21*((LOG(AP21))/LOG(2))))","v":0},null,{"$f":"N21","v":12221},{"$f":"COUNTIF(L104:L122,AS21)","v":0},{"$f":"AT21/(AV4-AT25)","v":0},{"$f":"IF(AU21=0,0,(AU21*((LOG(AU21))/LOG(2))))","v":0}]
[12,3574,24,3628,13,3641,23,3656,13,3665,0,12121,null,12222,{"$f":"COUNTIF($L$7:$L$500,N22)","v":1},{"$f":"O22/$Q$4","v":8.6206896551724137E-3},{"$f":"IF(P22=0,0,(P22*((LOG(P22))/LOG(2))))","v":-5.912052582006528E-2},null,null,{"$f":"N22","v":12222},{"$f":"COUNTIF(L7:L25,T22)","v":1},{"$f":"U22/(W4-U25)","v":5.8823529411764705E-2},{"$f":"IF(V22=0,0,(V22*((LOG(V22))/LOG(2))))","v":-0.24043899066178465},null,{"$f":"N22","v":12222},{"$f":"COUNTIF(L26:L45,Y22)","v":0},{"$f":"Z22/(AB4-Z25)","v":0},{"$f":"IF(AA22=0,0,(AA22*((LOG(AA22))/LOG(2))))","v":0},null,{"$f":"N22","v":12222},{"$f":"COUNTIF(L46:L64,AD22)","v":0},{"$f":"AE22/(AG4-AE25)","v":0},{"$f":"IF(AF22=0,0,(AF22*((LOG(AF22))/LOG(2))))","v":0},null,{"$f":"N22","v":12222},{"$f":"COUNTIF(L65:L83,AI22)","v":0},{"$f":"AJ22/(AL4-AJ25)","v":0},{"$f":"IF(AK22=0,0,(AK22*((LOG(AK22))/LOG(2))))","v":0},null,{"$f":"N22","v":12222},{"$f":"COUNTIF(L84:L103,AN22)","v":0},{"$f":"AO22/(AQ4-AO25)","v":0},{"$f":"IF(AP22=0,0,(AP22*((LOG(AP22))/LOG(2))))","v":0},null,{"$f":"N22","v":12222},{"$f":"COUNTIF(L104:L122,AS22)","v":0},{"$f":"AT22/(AV4-AT25)","v":0},{"$f":"IF(AU22=0,0,(AU22*((LOG(AU22))/LOG(2))))","v":0}]
[12,3774,13,3783,24,3794,14,3803,13,3814,0,11211,null,21111,{"$f":"COUNTIF($L$7:$L$500,N23)","v":3},{"$f":"O23/$Q$4","v":2.5862068965517241E-2},{"$f":"IF(P23=0,0,(P23*((LOG(P23))/LOG(2))))","v":-0.13637116795878662},null,null,{"$f":"N23","v":21111},{"$f":"COUNTIF(L7:L25,T23)","v":0},{"$f":"U23/(W4-U25)","v":0},{"$f":"IF(V23=0,0,(V23*((LOG(V23))/LOG(2))))","v":0},null,{"$f":"N23","v":21111},{"$f":"COUNTIF(L26:L45,Y23)","v":0},{"$f":"Z23/(AB4-Z25)","v":0},{"$f":"IF(AA23=0,0,(AA23*((LOG(AA23))/LOG(2))))","v":0},null,{"$f":"N23","v":21111},{"$f":"COUNTIF(L46:L64,AD23)","v":0},{"$f":"AE23/(AG4-AE25)","v":0},{"$f":"IF(AF23=0,0,(AF23*((LOG(AF23))/LOG(2))))","v":0},null,{"$f":"N23","v":21111},{"$f":"COUNTIF(L65:L83,AI23)","v":1},{"$f":"AJ23/(AL4-AJ25)","v":5.8823529411764705E-2},{"$f":"IF(AK23=0,0,(AK23*((LOG(AK23))/LOG(2))))","v":-0.24043899066178465},null,{"$f":"N23","v":21111},{"$f":"COUNTIF(L84:L103,AN23)","v":2},{"$f":"AO23/(AQ4-AO25)","v":0.1111111111111111},{"$f":"IF(AP23=0,0,(AP23*((LOG(AP23))/LOG(2))))","v":-0.3522138890491458},null,{"$f":"N23","v":21111},{"$f":"COUNTIF(L104:L122,AS23)","v":0},{"$f":"AT23/(AV4-AT25)","v":0},{"$f":"IF(AU23=0,0,(AU23*((LOG(AU23))/LOG(2))))","v":0}]
[12,3935,13,3944,24,3956,14,3969,13,3981,0,11211,null,21112,{"$f":"COUNTIF($L$7:$L$500,N24)","v":0},{"$f":"O24/$Q$4","v":0},{"$f":"IF(P24=0,0,(P24*((LOG(P24))/LOG(2))))","v":0},null,null,{"$f":"N24","v":21112},{"$f":"COUNTIF(L7:L25,T24)","v":0},{"$f":"U24/(W4-U25)","v":0},{"$f":"IF(V24=0,0,(V24*((LOG(V24))/LOG(2))))","v":0},null,{"$f":"N24","v":21112},{"$f":"COUNTIF(L26:L45,Y24)","v":0},{"$f":"Z24/(AB4-Z25)","v":0},{"$f":"IF(AA24=0,0,(AA24*((LOG(AA24))/LOG(2))))","v":0},null,{"$f":"N24","v":21112},{"$f":"COUNTIF(L46:L64,AD24)","v":0},{"$f":"AE24/(AG4-AE25)","v":0},{"$f":"IF(AF24=0,0,(AF24*((LOG(AF24))/LOG(2))))","v":0},null,{"$f":"N24","v":21112},{"$f":"COUNTIF(L65:L83,AI24)","v":0},{"$f":"AJ24/(AL4-AJ25)","v":0},{"$f":"IF(AK24=0,0,(AK24*((LOG(AK24))/LOG(2))))","v":0},null,{"$f":"N24","v":21112},{"$f":"COUNTIF(L84:L103,AN24)","v":0},{"$f":"AO24/(AQ4-AO25)","v":0},{"$f":"IF(AP24=0,0,(AP24*((LOG(AP24))/LOG(2))))","v":0},null,{"$f":"N24","v":21112},{"$f":"COUNTIF(L104:L122,AS24)","v":0},{"$f":"AT24/(AV4-AT25)","v":0},{"$f":"IF(AU24=0,0,(AU24*((LOG(AU24))/LOG(2))))","v":0}]
[12,4105,13,4119,24,4128,14,4138,13,4147,0,11211,null,21121,{"$f":"COUNTIF($L$7:$L$500,N25)","v":9},{"$f":"O25/$Q$4","v":7.7586206896551727E-2},{"$f":"IF(P25=0,0,(P25*((LOG(P25))/LOG(2))))","v":-0.28614227537213222},null,null,{"$f":"N25","v":21121},{"$f":"COUNTIF(L7:L25,T25)","v":2},null,null,null,{"$f":"N25","v":21121},{"$f":"COUNTIF(L26:L45,Y25)","v":1},null,null,null,{"$f":"N25","v":21121},{"$f":"COUNTIF(L46:L64,AD25)","v":1},null,null,null,{"$f":"N25","v":21121},{"$f":"COUNTIF(L65:L83,AI25)","v":2},null,null,null,{"$f":"N25","v":21121},{"$f":"COUNTIF(L84:L103,AN25)","v":2},null,null,null,{"$f":"N25","v":21121},{"$f":"COUNTIF(L104:L122,AS25)","v":1}]
[12,4262,13,4275,24,4285,14,4293,24,4305,0,11212,null,21122,{"$f":"COUNTIF($L$7:$L$500,N26)","v":1},{"$f":"O26/$Q$4","v":8.6206896551724137E-3},{"$f":"IF(P26=0,0,(P26*((LOG(P26))/LOG(2))))","v":-5.912052582006528E-2},null,null,{"$f":"N26","v":21122},{"$f":"COUNTIF(L7:L25,T26)","v":0},{"$f":"U26/(W4-U25)","v":0},{"$f":"IF(V26=0,0,(V26*((LOG(V26))/LOG(2))))","v":0},null,{"$f":"N26","v":21122},{"$f":"COUNTIF(L26:L45,Y26)","v":1},{"$f":"Z26/(AB4-Z25)","v":5.2631578947368418E-2},{"$f":"IF(AA26=0,0,(AA26*((LOG(AA26))/LOG(2))))","v":-0.22357513228650452},null,{"$f":"N26","v":21122},{"$f":"COUNTIF(L46:L64,AD26)","v":0},{"$f":"AE26/(AG4-AE25)","v":0},{"$f":"IF(AF26=0,0,(AF26*((LOG(AF26))/LOG(2))))","v":0},null,{"$f":"N26","v":21122},{"$f":"COUNTIF(L65:L83,AI26)","v":0},{"$f":"AJ26/(AL4-AJ25)","v":0},{"$f":"IF(AK26=0,0,(AK26*((LOG(AK26))/LOG(2))))","v":0},null,{"$f":"N26","v":21122},{"$f":"COUNTIF(L84:L103,AN26)","v":0},{"$f":"AO26/(AQ4-AO25)","v":0},{"$f":"IF(AP26=0,0,(AP26*((LOG(AP26))/LOG(2))))","v":0},null,{"$f":"N26","v":21122},{"$f":"COUNTIF(L104:L122,AS26)","v":0},{"$f":"AT26/(AV4-AT25)","v":0},{"$f":"IF(AU26=0,0,(AU26*((LOG(AU26))/LOG(2))))","v":0}]
[12,4423,13,4434,24,4442,14,4451,24,4463,0,11212,null,21211,{"$f":"COUNTIF($L$7:$L$500,N27)","v":4},{"$f":"O27/$Q$4","v":3.4482758620689655E-2},{"$f":"IF(P27=0,0,(P27*((LOG(P27))/LOG(2))))","v":-0.16751658603888178},null,null,{"$f":"N27","v":21211},{"$f":"COUNTIF(L7:L25,T27)","v":1},{"$f":"U27/(W4-U25)","v":5.8823529411764705E-2},{"$f":"IF(V27=0,0,(V27*((LOG(V27))/LOG(2))))","v":-0.24043899066178465},null,{"$f":"N27","v":21211},{"$f":"COUNTIF(L26:L45,Y27)","v":0},{"$f":"Z27/(AB4-Z25)","v":0},{"$f":"IF(AA27=0,0,(AA27*((LOG(AA27))/LOG(2))))","v":0},null,{"$f":"N27","v":21211},{"$f":"COUNTIF(L46:L64,AD27)","v":1},{"$f":"AE27/(AG4-AE25)","v":5.5555555555555552E-2},{"$f":"IF(AF27=0,0,(AF27*((LOG(AF27))/LOG(2))))","v":-0.23166250008012845},null,{"$f":"N27","v":21211},{"$f":"COUNTIF(L65:L83,AI27)","v":0},{"$f":"AJ27/(AL4-AJ25)","v":0},{"$f":"IF(AK27=0,0,(AK27*((LOG(AK27))/LOG(2))))","v":0},null,{"$f":"N27","v":21211},{"$f":"COUNTIF(L84:L103,AN27)","v":0},{"$f":"AO27/(AQ4-AO25)","v":0},{"$f":"IF(AP27=0,0,(AP27*((LOG(AP27))/LOG(2))))","v":0},null,{"$f":"N27","v":21211},{"$f":"COUNTIF(L104:L122,AS27)","v":2},{"$f":"AT27/(AV4-AT25)","v":0.1111111111111111},{"$f":"IF(AU27=0,0,(AU27*((LOG(AU27))/LOG(2))))","v":-0.3522138890491458}]
[12,4563,24,4576,13,4583,23,4594,13,4603,0,12121,null,21212,{"$f":"COUNTIF($L$7:$L$500,N28)","v":6},{"$f":"O28/$Q$4","v":5.1724137931034482E-2},{"$f":"IF(P28=0,0,(P28*((LOG(P28))/LOG(2))))","v":-0.22101819798653879},null,null,{"$f":"N28","v":21212},{"$f":"COUNTIF(L7:L25,T28)","v":2},{"$f":"U28/(W4-U25)","v":0.11764705882352941},{"$f":"IF(V28=0,0,(V28*((LOG(V28))/LOG(2))))","v":-0.36323092250003997},null,{"$f":"N28","v":21212},{"$f":"COUNTIF(L26:L45,Y28)","v":1},{"$f":"Z28/(AB4-Z25)","v":5.2631578947368418E-2},{"$f":"IF(AA28=0,0,(AA28*((LOG(AA28))/LOG(2))))","v":-0.22357513228650452},null,{"$f":"N28","v":21212},{"$f":"COUNTIF(L46:L64,AD28)","v":0},{"$f":"AE28/(AG4-AE25)","v":0},{"$f":"IF(AF28=0,0,(AF28*((LOG(AF28))/LOG(2))))","v":0},null,{"$f":"N28","v":21212},{"$f":"COUNTIF(L65:L83,AI28)","v":1},{"$f":"AJ28/(AL4-AJ25)","v":5.8823529411764705E-2},{"$f":"IF(AK28=0,0,(AK28*((LOG(AK28))/LOG(2))))","v":-0.24043899066178465},null,{"$f":"N28","v":21212},{"$f":"COUNTIF(L84:L103,AN28)","v":0},{"$f":"AO28/(AQ4-AO25)","v":0},{"$f":"IF(AP28=0,0,(AP28*((LOG(AP28))/LOG(2))))","v":0},null,{"$f":"N28","v":21212},{"$f":"COUNTIF(L104:L122,AS28)","v":2},{"$f":"AT28/(AV4-AT25)","v":0.1111111111111111},{"$f":"IF(AU28=0,0,(AU28*((LOG(AU28))/LOG(2))))","v":-0.3522138890491458}]
[12,4718,24,4726,13,4735,14,4743,24,4755,0,12112,null,21221,{"$f":"COUNTIF($L$7:$L$500,N29)","v":2},{"$f":"O29/$Q$4","v":1.7241379310344827E-2},{"$f":"IF(P29=0,0,(P29*((LOG(P29))/LOG(2))))","v":-0.10099967232978573},null,null,{"$f":"N29","v":21221},{"$f":"COUNTIF(L7:L25,T29)","v":1},{"$f":"U29/(W4-U25)","v":5.8823529411764705E-2},{"$f":"IF(V29=0,0,(V29*((LOG(V29))/LOG(2))))","v":-0.24043899066178465},null,{"$f":"N29","v":21221},{"$f":"COUNTIF(L26:L45,Y29)","v":0},{"$f":"Z29/(AB4-Z25)","v":0},{"$f":"IF(AA29=0,0,(AA29*((LOG(AA29))/LOG(2))))","v":0},null,{"$f":"N29","v":21221},{"$f":"COUNTIF(L46:L64,AD29)","v":1},{"$f":"AE29/(AG4-AE25)","v":5.5555555555555552E-2},{"$f":"IF(AF29=0,0,(AF29*((LOG(AF29))/LOG(2))))","v":-0.23166250008012845},null,{"$f":"N29","v":21221},{"$f":"COUNTIF(L65:L83,AI29)","v":0},{"$f":"AJ29/(AL4-AJ25)","v":0},{"$f":"IF(AK29=0,0,(AK29*((LOG(AK29))/LOG(2))))","v":0},null,{"$f":"N29","v":21221},{"$f":"COUNTIF(L84:L103,AN29)","v":0},{"$f":"AO29/(AQ4-AO25)","v":0},{"$f":"IF(AP29=0,0,(AP29*((LOG(AP29))/LOG(2))))","v":0},null,{"$f":"N29","v":21221},{"$f":"COUNTIF(L104:L122,AS29)","v":0},{"$f":"AT29/(AV4-AT25)","v":0},{"$f":"IF(AU29=0,0,(AU29*((LOG(AU29))/LOG(2))))","v":0}]
[12,4894,13,4907,24,4916,14,4927,13,4939,0,11211,null,21222,{"$f":"COUNTIF($L$7:$L$500,N30)","v":0},{"$f":"O30/$Q$4","v":0},{"$f":"IF(P30=0,0,(P30*((LOG(P30))/LOG(2))))","v":0},null,null,{"$f":"N30","v":21222},{"$f":"COUNTIF(L7:L25,T30)","v":0},{"$f":"U30/(W4-U25)","v":0},{"$f":"IF(V30=0,0,(V30*((LOG(V30))/LOG(2))))","v":0},null,{"$f":"N30","v":21222},{"$f":"COUNTIF(L26:L45,Y30)","v":0},{"$f":"Z30/(AB4-Z25)","v":0},{"$f":"IF(AA30=0,0,(AA30*((LOG(AA30))/LOG(2))))","v":0},null,{"$f":"N30","v":21222},{"$f":"COUNTIF(L46:L64,AD30)","v":0},{"$f":"AE30/(AG4-AE25)","v":0},{"$f":"IF(AF30=0,0,(AF30*((LOG(AF30))/LOG(2))))","v":0},null,{"$f":"N30","v":21222},{"$f":"COUNTIF(L65:L83,AI30)","v":0},{"$f":"AJ30/(AL4-AJ25)","v":0},{"$f":"IF(AK30=0,0,(AK30*((LOG(AK30))/LOG(2))))","v":0},null,{"$f":"N30","v":21222},{"$f":"COUNTIF(L84:L103,AN30)","v":0},{"$f":"AO30/(AQ4-AO25)","v":0},{"$f":"IF(AP30=0,0,(AP30*((LOG(AP30))/LOG(2))))","v":0},null,{"$f":"N30","v":21222},{"$f":"COUNTIF(L104:L122,AS30)","v":0},{"$f":"AT30/(AV4-AT25)","v":0},{"$f":"IF(AU30=0,0,(AU30*((LOG(AU30))/LOG(2))))","v":0}]
[21,5049,11,5058,11,5069,21,5081,11,5106,1,21121,null,22111,{"$f":"COUNTIF($L$7:$L$500,N31)","v":0},{"$f":"O31/$Q$4","v":0},{"$f":"IF(P31=0,0,(P31*((LOG(P31))/LOG(2))))","v":0},null,null,{"$f":"N31","v":22111},{"$f":"COUNTIF(L7:L25,T31)","v":0},{"$f":"U31/(W4-U25)","v":0},{"$f":"IF(V31=0,0,(V31*((LOG(V31))/LOG(2))))","v":0},null,{"$f":"N31","v":22111},{"$f":"COUNTIF(L26:L45,Y31)","v":0},{"$f":"Z31/(AB4-Z25)","v":0},{"$f":"IF(AA31=0,0,(AA31*((LOG(AA31))/LOG(2))))","v":0},null,{"$f":"N31","v":22111},{"$f":"COUNTIF(L46:L64,AD31)","v":0},{"$f":"AE31/(AG4-AE25)","v":0},{"$f":"IF(AF31=0,0,(AF31*((LOG(AF31))/LOG(2))))","v":0},null,{"$f":"N31","v":22111},{"$f":"COUNTIF(L65:L83,AI31)","v":0},{"$f":"AJ31/(AL4-AJ25)","v":0},{"$f":"IF(AK31=0,0,(AK31*((LOG(AK31))/LOG(2))))","v":0},null,{"$f":"N31","v":22111},{"$f":"COUNTIF(L84:L103,AN31)","v":0},{"$f":"AO31/(AQ4-AO25)","v":0},{"$f":"IF(AP31=0,0,(AP31*((LOG(AP31))/LOG(2))))","v":0},null,{"$f":"N31","v":22111},{"$f":"COUNTIF(L104:L122,AS31)","v":0},{"$f":"AT31/(AV4-AT25)","v":0},{"$f":"IF(AU31=0,0,(AU31*((LOG(AU31))/LOG(2))))","v":0}]
[12,5228,13,5248,24,5258,14,5276,13,5288,0,11211,null,22112,{"$f":"COUNTIF($L$7:$L$500,N32)","v":1},{"$f":"O32/$Q$4","v":8.6206896551724137E-3},{"$f":"IF(P32=0,0,(P32*((LOG(P32))/LOG(2))))","v":-5.912052582006528E-2},null,null,{"$f":"N32","v":22112},{"$f":"COUNTIF(L7:L25,T32)","v":1},{"$f":"U32/(W4-U25)","v":5.8823529411764705E-2},{"$f":"IF(V32=0,0,(V32*((LOG(V32))/LOG(2))))","v":-0.24043899066178465},null,{"$f":"N32","v":22112},{"$f":"COUNTIF(L26:L45,Y32)","v":0},{"$f":"Z32/(AB4-Z25)","v":0},{"$f":"IF(AA32=0,0,(AA32*((LOG(AA32))/LOG(2))))","v":0},null,{"$f":"N32","v":22112},{"$f":"COUNTIF(L46:L64,AD32)","v":0},{"$f":"AE32/(AG4-AE25)","v":0},{"$f":"IF(AF32=0,0,(AF32*((LOG(AF32))/LOG(2))))","v":0},null,{"$f":"N32","v":22112},{"$f":"COUNTIF(L65:L83,AI32)","v":0},{"$f":"AJ32/(AL4-AJ25)","v":0},{"$f":"IF(AK32=0,0,(AK32*((LOG(AK32))/LOG(2))))","v":0},null,{"$f":"N32","v":22112},{"$f":"COUNTIF(L84:L103,AN32)","v":0},{"$f":"AO32/(AQ4-AO25)","v":0},{"$f":"IF(AP32=0,0,(AP32*((LOG(AP32))/LOG(2))))","v":0},null,{"$f":"N32","v":22112},{"$f":"COUNTIF(L104:L122,AS32)","v":0},{"$f":"AT32/(AV4-AT25)","v":0},{"$f":"IF(AU32=0,0,(AU32*((LOG(AU32))/LOG(2))))","v":0}]
[12,5412,13,5425,24,5437,14,5449,13,5471,0,11211,null,22121,{"$f":"COUNTIF($L$7:$L$500,N33)","v":1},{"$f":"O33/$Q$4","v":8.6206896551724137E-3},{"$f":"IF(P33=0,0,(P33*((LOG(P33))/LOG(2))))","v":-5.912052582006528E-2},null,null,{"$f":"N33","v":22121},{"$f":"COUNTIF(L7:L25,T33)","v":0},{"$f":"U33/(W4-U25)","v":0},{"$f":"IF(V33=0,0,(V33*((LOG(V33))/LOG(2))))","v":0},null,{"$f":"N33","v":22121},{"$f":"COUNTIF(L26:L45,Y33)","v":0},{"$f":"Z33/(AB4-Z25)","v":0},{"$f":"IF(AA33=0,0,(AA33*((LOG(AA33))/LOG(2))))","v":0},null,{"$f":"N33","v":22121},{"$f":"COUNTIF(L46:L64,AD33)","v":1},{"$f":"AE33/(AG4-AE25)","v":5.5555555555555552E-2},{"$f":"IF(AF33=0,0,(AF33*((LOG(AF33))/LOG(2))))","v":-0.23166250008012845},null,{"$f":"N33","v":22121},{"$f":"COUNTIF(L65:L83,AI33)","v":0},{"$f":"AJ33/(AL4-AJ25)","v":0},{"$f":"IF(AK33=0,0,(AK33*((LOG(AK33))/LOG(2))))","v":0},null,{"$f":"N33","v":22121},{"$f":"COUNTIF(L84:L103,AN33)","v":0},{"$f":"AO33/(AQ4-AO25)","v":0},{"$f":"IF(AP33=0,0,(AP33*((LOG(AP33))/LOG(2))))","v":0},null,{"$f":"N33","v":22121},{"$f":"COUNTIF(L104:L122,AS33)","v":0},{"$f":"AT33/(AV4-AT25)","v":0},{"$f":"IF(AU33=0,0,(AU33*((LOG(AU33))/LOG(2))))","v":0}]
[12,5618,24,5630,13,5646,14,5658,13,5667,0,12111,null,22122,{"$f":"COUNTIF($L$7:$L$500,N34)","v":0},{"$f":"O34/$Q$4","v":0},{"$f":"IF(P34=0,0,(P34*((LOG(P34))/LOG(2))))","v":0},null,null,{"$f":"N34","v":22122},{"$f":"COUNTIF(L7:L25,T34)","v":0},{"$f":"U34/(W4-U25)","v":0},{"$f":"IF(V34=0,0,(V34*((LOG(V34))/LOG(2))))","v":0},null,{"$f":"N34","v":22122},{"$f":"COUNTIF(L26:L45,Y34)","v":0},{"$f":"Z34/(AB4-Z25)","v":0},{"$f":"IF(AA34=0,0,(AA34*((LOG(AA34))/LOG(2))))","v":0},null,{"$f":"N34","v":22122},{"$f":"COUNTIF(L46:L64,AD34)","v":0},{"$f":"AE34/(AG4-AE25)","v":0},{"$f":"IF(AF34=0,0,(AF34*((LOG(AF34))/LOG(2))))","v":0},null,{"$f":"N34","v":22122},{"$f":"COUNTIF(L65:L83,AI34)","v":0},{"$f":"AJ34/(AL4-AJ25)","v":0},{"$f":"IF(AK34=0,0,(AK34*((LOG(AK34))/LOG(2))))","v":0},null,{"$f":"N34","v":22122},{"$f":"COUNTIF(L84:L103,AN34)","v":0},{"$f":"AO34/(AQ4-AO25)","v":0},{"$f":"IF(AP34=0,0,(AP34*((LOG(AP34))/LOG(2))))","v":0},null,{"$f":"N34","v":22122},{"$f":"COUNTIF(L104:L122,AS34)","v":0},{"$f":"AT34/(AV4-AT25)","v":0},{"$f":"IF(AU34=0,0,(AU34*((LOG(AU34))/LOG(2))))","v":0}]
[12,5793,13,5804,24,5813,14,5824,13,5831,0,11211,null,22211,{"$f":"COUNTIF($L$7:$L$500,N35)","v":0},{"$f":"O35/$Q$4","v":0},{"$f":"IF(P35=0,0,(P35*((LOG(P35))/LOG(2))))","v":0},null,null,{"$f":"N35","v":22211},{"$f":"COUNTIF(L7:L25,T35)","v":0},{"$f":"U35/(W4-U25)","v":0},{"$f":"IF(V35=0,0,(V35*((LOG(V35))/LOG(2))))","v":0},null,{"$f":"N35","v":22211},{"$f":"COUNTIF(L26:L45,Y35)","v":0},{"$f":"Z35/(AB4-Z25)","v":0},{"$f":"IF(AA35=0,0,(AA35*((LOG(AA35))/LOG(2))))","v":0},null,{"$f":"N35","v":22211},{"$f":"COUNTIF(L46:L64,AD35)","v":0},{"$f":"AE35/(AG4-AE25)","v":0},{"$f":"IF(AF35=0,0,(AF35*((LOG(AF35))/LOG(2))))","v":0},null,{"$f":"N35","v":22211},{"$f":"COUNTIF(L65:L83,AI35)","v":0},{"$f":"AJ35/(AL4-AJ25)","v":0},{"$f":"IF(AK35=0,0,(AK35*((LOG(AK35))/LOG(2))))","v":0},null,{"$f":"N35","v":22211},{"$f":"COUNTIF(L84:L103,AN35)","v":0},{"$f":"AO35/(AQ4-AO25)","v":0},{"$f":"IF(AP35=0,0,(AP35*((LOG(AP35))/LOG(2))))","v":0},null,{"$f":"N35","v":22211},{"$f":"COUNTIF(L104:L122,AS35)","v":0},{"$f":"AT35/(AV4-AT25)","v":0},{"$f":"IF(AU35=0,0,(AU35*((LOG(AU35))/LOG(2))))","v":0}]
[12,5960,13,5974,24,5983,14,5991,13,6000,0,11211,null,22212,{"$f":"COUNTIF($L$7:$L$500,N36)","v":1},{"$f":"O36/$Q$4","v":8.6206896551724137E-3},{"$f":"IF(P36=0,0,(P36*((LOG(P36))/LOG(2))))","v":-5.912052582006528E-2},null,null,{"$f":"N36","v":22212},{"$f":"COUNTIF(L7:L25,T36)","v":1},{"$f":"U36/(W4-U25)","v":5.8823529411764705E-2},{"$f":"IF(V36=0,0,(V36*((LOG(V36))/LOG(2))))","v":-0.24043899066178465},null,{"$f":"N36","v":22212},{"$f":"COUNTIF(L26:L45,Y36)","v":0},{"$f":"Z36/(AB4-Z25)","v":0},{"$f":"IF(AA36=0,0,(AA36*((LOG(AA36))/LOG(2))))","v":0},null,{"$f":"N36","v":22212},{"$f":"COUNTIF(L46:L64,AD36)","v":0},{"$f":"AE36/(AG4-AE25)","v":0},{"$f":"IF(AF36=0,0,(AF36*((LOG(AF36))/LOG(2))))","v":0},null,{"$f":"N36","v":22212},{"$f":"COUNTIF(L65:L83,AI36)","v":0},{"$f":"AJ36/(AL4-AJ25)","v":0},{"$f":"IF(AK36=0,0,(AK36*((LOG(AK36))/LOG(2))))","v":0},null,{"$f":"N36","v":22212},{"$f":"COUNTIF(L84:L103,AN36)","v":0},{"$f":"AO36/(AQ4-AO25)","v":0},{"$f":"IF(AP36=0,0,(AP36*((LOG(AP36))/LOG(2))))","v":0},null,{"$f":"N36","v":22212},{"$f":"COUNTIF(L104:L122,AS36)","v":0},{"$f":"AT36/(AV4-AT25)","v":0},{"$f":"IF(AU36=0,0,(AU36*((LOG(AU36))/LOG(2))))","v":0}]
[12,6119,13,6132,24,6141,14,6150,13,6166,0,11211,null,22221,{"$f":"COUNTIF($L$7:$L$500,N37)","v":0},{"$f":"O37/$Q$4","v":0},{"$f":"IF(P37=0,0,(P37*((LOG(P37))/LOG(2))))","v":0},null,null,{"$f":"N37","v":22221},{"$f":"COUNTIF(L7:L25,T37)","v":0},{"$f":"U37/(W4-U25)","v":0},{"$f":"IF(V37=0,0,(V37*((LOG(V37))/LOG(2))))","v":0},null,{"$f":"N37","v":22221},{"$f":"COUNTIF(L26:L45,Y37)","v":0},{"$f":"Z37/(AB4-Z25)","v":0},{"$f":"IF(AA37=0,0,(AA37*((LOG(AA37))/LOG(2))))","v":0},null,{"$f":"N37","v":22221},{"$f":"COUNTIF(L46:L64,AD37)","v":0},{"$f":"AE37/(AG4-AE25)","v":0},{"$f":"IF(AF37=0,0,(AF37*((LOG(AF37))/LOG(2))))","v":0},null,{"$f":"N37","v":22221},{"$f":"COUNTIF(L65:L83,AI37)","v":0},{"$f":"AJ37/(AL4-AJ25)","v":0},{"$f":"IF(AK37=0,0,(AK37*((LOG(AK37))/LOG(2))))","v":0},null,{"$f":"N37","v":22221},{"$f":"COUNTIF(L84:L103,AN37)","v":0},{"$f":"AO37/(AQ4-AO25)","v":0},{"$f":"IF(AP37=0,0,(AP37*((LOG(AP37))/LOG(2))))","v":0},null,{"$f":"N37","v":22221},{"$f":"COUNTIF(L104:L122,AS37)","v":0},{"$f":"AT37/(AV4-AT25)","v":0},{"$f":"IF(AU37=0,0,(AU37*((LOG(AU37))/LOG(2))))","v":0}]
[12,6383,24,6392,13,6405,14,6433,24,6450,0,12112,null,22222,{"$f":"COUNTIF($L$7:$L$500,N38)","v":0},{"$f":"O38/$Q$4","v":0},{"$f":"IF(P38=0,0,(P38*((LOG(P38))/LOG(2))))","v":0},null,null,{"$f":"N38","v":22222},{"$f":"COUNTIF(L7:L25,T38)","v":0},{"$f":"U38/(W4-U25)","v":0},{"$f":"IF(V38=0,0,(V38*((LOG(V38))/LOG(2))))","v":0},null,{"$f":"N38","v":22222},{"$f":"COUNTIF(L26:L45,Y38)","v":0},{"$f":"Z38/(AB4-Z25)","v":0},{"$f":"IF(AA38=0,0,(AA38*((LOG(AA38))/LOG(2))))","v":0},null,{"$f":"N38","v":22222},{"$f":"COUNTIF(L46:L64,AD38)","v":0},{"$f":"AE38/(AG4-AE25)","v":0},{"$f":"IF(AF38=0,0,(AF38*((LOG(AF38))/LOG(2))))","v":0},null,{"$f":"N38","v":22222},{"$f":"COUNTIF(L65:L83,AI38)","v":0},{"$f":"AJ38/(AL4-AJ25)","v":0},{"$f":"IF(AK38=0,0,(AK38*((LOG(AK38))/LOG(2))))","v":0},null,{"$f":"N38","v":22222},{"$f":"COUNTIF(L84:L103,AN38)","v":0},{"$f":"AO38/(AQ4-AO25)","v":0},{"$f":"IF(AP38=0,0,(AP38*((LOG(AP38))/LOG(2))))","v":0},null,{"$f":"N38","v":22222},{"$f":"COUNTIF(L104:L122,AS38)","v":0},{"$f":"AT38/(AV4-AT25)","v":0},{"$f":"IF(AU38=0,0,(AU38*((LOG(AU38))/LOG(2))))","v":0}]
[12,6579,13,6591,13,6629,23,6643,13,6666,0,11121,null,null,null,{"$f":"SUM(P7:P38)","v":0.99999999999999978},{"$f":"-SUM(Q7:Q38)","v":3.5311755231792974},null,null,null,null,{"$f":"SUM(V7:V38)","v":1},{"$f":"-SUM(W7:W38)","v":3.1462863706621049},null,null,null,{"$f":"SUM(AA7:AA38)","v":0.99999999999999978},{"$f":"-SUM(AB7:AB38)","v":2.6550505394177755},null,null,null,{"$f":"SUM(AF7:AF38)","v":1.0000000000000002},{"$f":"-SUM(AG7:AG38)","v":2.7448425317532439},null,null,null,{"$f":"SUM(AK7:AK38)","v":1},{"$f":"-SUM(AL7:AL38)","v":2.3432578733442675},null,null,null,{"$f":"SUM(AP7:AP38)","v":1},{"$f":"-SUM(AQ7:AQ38)","v":2.3774437510817337},null,null,null,{"$f":"SUM(AU7:AU38)","v":1.0000000000000002},{"$f":"-SUM(AV7:AV38)","v":3.239097917988786}]
[12,6834,13,6842,13,6855,23,6867,13,6880,0,11121,null,null,null,"U=",{"$f":"Q39/(LOG(Q4)/LOG(2))","v":0.51490016167850439},null,null,null,null,"U1=",{"$f":"W39/(LOG(W4)/LOG(2))","v":0.74066385565783011},null,null,null,"U2=",{"$f":"AB39/(LOG(AB4)/LOG(2))","v":0.61432084965933964},null,null,null,"U3=",{"$f":"AG39/(LOG(AG4)/LOG(2))","v":0.6461603977625634},null,null,null,"U4=",{"$f":"AL39/(LOG(AL4)/LOG(2))","v":0.55162378970179371},null,null,null,"U5=",{"$f":"AQ39/(LOG(AQ4)/LOG(2))","v":0.55008868701312674},null,null,null,"U6=",{"$f":"AV39/(LOG(AV4)/LOG(2))","v":0.76251252116188051}]
[12,6994,24,7011,13,7019,14,7029,24,7040,0,12112]
[12,7382,13,7400,24,7413,14,7425,24,7439,0,11212]
[21,7571,11,7580,22,7592,14,7606,24,7619,0,21212,null,"Total Target Seq"]
[12,7762,13,7777,24,7789,14,7808,24,7820,0,11212,null,{"$f":"COUNTIF(L7:L122,G3)","v":9},null,19,20,19,19,20,19]
[21,7950,11,7959,11,7968,21,7977,22,8003,0,21122,null,null,null,"% of reinforcement given in 6 equal intervals based on number of trials "]
[12,8133,24,8143,13,8174,23,8189,13,8198,0,12121,null,null,null,"%_1","%_2","%_3","%_4","%_5","%_6"]
[12,8326,13,8342,24,8374,14,8387,13,8404,0,11211,null,null,"target sequence",{"$f":"$G$3","v":21121},{"$f":"$G$3","v":21121},{"$f":"$G$3","v":21121},{"$f":"$G$3","v":21121},{"$f":"$G$3","v":21121},{"$f":"$G$3","v":21121}]
[21,8534,11,8543,22,8552,23,8576,13,8585,0,21221,null,null,"total reinforcement",{"$f":"U25","v":2},{"$f":"Z25","v":1},{"$f":"AE25","v":1},{"$f":"AJ25","v":2},{"$f":"AO25","v":2},{"$f":"AT25","v":1}]
[21,8713,11,8721,11,8739,21,8773,11,8785,1,21121,null,null,"% target"]
[12,8890,13,8903,24,8914,14,8927,13,8961,0,11211,null,null,"CCRF"]
[12,9079,13,9089,13,9099,23,9111,13,9123,0,11121,null,null,"% CCRf"]
[12,9247,13,9256,13,9271,14,9283,13,9293,0,11111,null,null,"average response rate",{"$f":"J25/P44","v":218.26315789473685},{"$f":"(J45-J25)/Q44","v":192.8},{"$f":"(J64-J45)/R44","v":193.36842105263159},{"$f":"(J83-J64)/S44","v":189.10526315789474},{"$f":"(J103-J83)/T44","v":232},{"$f":"(J122-J103)/U44","v":213.63157894736841}]
[12,9415,13,9431,24,9443,14,9456,13,9468,0,11211]
[12,9611,13,9626,24,9649,14,9660,13,9669,0,11211]
[12,9815,13,9850,13,9864,23,9874,13,9883,0,11121]
[12,10016,13,10026,24,10036,14,10063,13,10077,0,11211]
[12,10233,24,10246,13,10272,23,10289,13,10310,0,12121]
[12,10509,13,10519,24,10530,14,10551,13,10566,0,11211]
[21,10688,22,10702,13,10711,23,10720,13,10732,0,22121]
[12,10871,13,10884,13,10904,14,10916,13,10930,0,11111]
[12,11052,13,11090,24,11100,14,11110,24,11123,0,11212]
[21,11232,11,11250,22,11262,14,11272,13,11290,0,21211]
[12,11463,24,11474,13,11486,14,11494,13,11509,0,12111]
[12,11632,13,11641,24,11651,14,11659,13,11677,0,11211]
[21,11833,11,11845,11,11858,21,11871,11,11896,1,21121]
[12,12028,13,12043,24,12055,14,12072,13,12088,0,11211]
[12,12207,13,12219,24,12231,14,12239,13,12248,0,11211]
[21,12351,11,12361,11,12373,21,12386,11,12395,1,21121]
[12,12512,24,12522,13,12532,23,12546,13,12565,0,12121]
[12,12679,13,12690,24,12701,14,12714,13,12729,0,11211]
[12,12895,13,12913,24,12922,14,12934,13,12946,0,11211]
[12,13065,13,13074,24,13083,14,13095,13,13107,0,11211]
[12,13218,13,13235,13,13248,23,13258,13,13267,0,11121]
[12,13411,13,13426,24,13435,14,13452,24,13466,0,11212]
[12,13657,13,13675,13,13737,23,13748,13,13757,0,11121]
[12,13866,13,13885,13,13898,14,13951,13,13968,0,11111]
[12,14094,13,14107,24,14119,14,14128,13,14169,0,11211]
[21,14283,11,14296,22,14307,14,14316,24,14325,0,21212]
[12,14440,13,14451,24,14460,14,14472,13,14487,0,11211]
[12,14599,13,14612,13,14622,23,14633,13,14642,0,11121]
[21,14775,11,14809,11,14822,12,14834,13,14847,0,21111]
[12,14987,13,15001,13,15014,23,15027,13,15037,0,11121]
[12,15219,13,15230,13,15242,14,15257,13,15270,0,11111]
[21,15419,11,15428,11,15440,21,15452,11,15461,1,21121]
[12,15591,13,15627,24,15645,14,15660,13,15671,0,11211]
[21,15772,11,15783,11,15792,21,15802,11,15816,1,21121]
[12,15942,13,15953,24,15963,14,15975,13,15984,0,11211]
[12,16101,24,16111,13,16121,23,16134,13,16143,0,12121]
[12,16256,13,16269,24,16278,14,16287,24,16308,0,11212]
[12,16431,13,16445,24,16455,14,16468,13,16480,0,11211]
[12,16591,13,16601,13,16622,14,16650,13,16660,0,11111]
[12,16779,13,16795,24,16807,14,16817,13,16829,0,11211]
[12,16946,13,16953,13,16992,14,17004,13,17031,0,11111]
[12,17349,13,17360,24,17376,14,17386,24,17419,0,11212]
[21,18014,11,18037,11,18053,12,18061,13,18084,0,21111]
[12,18268,13,18277,13,18305,14,18318,24,18336,0,11112]
[12,18599,13,18618,13,18657,14,18667,24,18684,0,11112]
[21,18812,11,18827,11,18841,12,18856,13,18874,0,21111]
[12,19034,13,19047,24,19061,14,19078,24,19096,0,11212]
[12,19239,13,19292,13,19312,14,19330,13,19343,0,11111]
[12,19467,13,19486,24,19503,14,19517,13,19530,0,11211]
[12,19646,13,19682,13,19700,14,19708,13,19722,0,11111]
[12,19853,13,19866,24,19878,14,19896,13,19910,0,11211]
[21,20024,11,20033,11,20041,21,20053,11,20081,1,21121]
[12,20283,24,20300,13,20310,14,20323,13,20335,0,12111]
[12,20585,24,20599,13,20617,14,20633,13,20642,0,12111]
[12,20791,24,20805,13,20822,14,20848,24,20869,0,12112]
[12,21006,13,21022,24,21033,14,21046,13,21058,0,11211]
[12,21180,13,21208,13,21227,14,21248,13,21262,0,11111]
[12,21412,13,21423,13,21442,14,21454,13,21474,0,11111]
[12,21612,13,21627,24,21639,14,21648,24,21661,0,11212]
[21,21779,11,21787,22,21798,14,21817,13,21824,0,21211]
[21,21937,11,21946,22,21957,14,21966,13,21981,0,21211]
[12,22241,24,22255,24,22277,14,22289,13,22304,0,12211]
[21,22474,11,22504,22,22513,14,22522,24,22536,0,21212]
[12,22677,13,22687,13,22720,23,22729,13,22742,0,11121]
[12,22899,24,22908,13,22928,14,22945,24,22957,0,12112]
[12,23115,24,23128,13,23139,23,23155,13,23177,0,12121]
[21,23319,11,23329,22,23338,14,23350,24,23363,0,21212]
[12,23505,24,23514,13,23523,14,23536,13,23559,0,12111]
[12,23706,13,23720,24,23732,14,23750,13,23767,0,11211]
[12,23920,13,23932,24,23942,14,23956,24,23969,null,11212]

{"sheet":"!MA07B40.010","index":10,"n_rows":147,"n_cols":48,"rows_kept":147,"cut":false,"hidden":false,"merged":[[4,39,4,42],[5,39,5,40],[4,44,4,47],[5,44,5,45],[4,24,4,27],[5,24,5,25],[4,29,4,32],[5,29,5,30],[4,34,4,37],[5,34,5,35],[1,1,1,2],[5,13,5,14],[42,13,42,14],[43,13,43,14],[4,19,4,22],[5,19,5,20]]}
["Report for:!MA07B40.010"]
["Date:","<date>"]
["Hen:","<hen>",null,null,null,"Correct Sequence",{"$f":"Start!J2","v":21121},null,null,null,null,null,null,null,null,"Total Sequences in Data",{"$f":"4994-COUNTBLANK(L7:L5000)","v":141},null,null,null,null,"Total Sequences in Block Data",{"$f":"COUNTA(L7:L30)","v":24},null,null,null,"Total Sequences in Block Data",{"$f":"COUNTA(L31:L53)","v":23},null,null,null,"Total Sequences in Block Data",{"$f":"COUNTA(L54:L77)","v":24},null,null,null,"Total Sequences in Block Data",{"$f":"COUNTA(L78:L100)","v":23},null,null,null,"Total Sequences in Block Data",{"$f":"COUNTA(L101:L124)","v":24},null,null,null,"Total Sequences in Block Data",{"$f":"COUNTA(L125:L147)","v":23}]
[null,null,null,null,null,null,null,null,null,null,null,null,null,null,null,"Total Sequences in Summary",{"$f":"SUM(O7:O38)","v":141},null,null,null,null,"Total Sequences in Block Summary",{"$f":"SUM(U7:U38)","v":24},null,null,null,"Total Sequences in Block Summary",{"$f":"SUM(Z7:Z38)","v":23},null,null,null,"Total Sequences in Block Summary",{"$f":"SUM(AE7:AE38)","v":24},null,null,null,"Total Sequences in Block Summary",{"$f":"SUM(AJ7:AJ38)","v":23},null,null,null,"Total Sequences in Block Summary",{"$f":"SUM(AO7:AO38)","v":24},null,null,null,"Total Sequences in Block Summary",{"$f":"SUM(AT7:AT38)","v":23}]
[null,null,null,null,null,null,null,null,null,null,null,null,null,null,null,null,null,null,null,"Block 1",null,null,null,null,"Block 2",null,null,null,null,"Block 3",null,null,null,null,"Block 4",null,null,null,null,"Block 5",null,null,null,null,"Block 6"]
["Sequence\nComponent\n1","Time\n1","Sequence\nComponent\n2","Time\n2","Sequence\nComponent\n3","Time\n3","Sequence\nComponent\n4","Time\n4","Sequence\nComponent\n5","Time\n5","Correct?\n0=No 1=Yes","Sequence",null,"Frequency",null,"Relative Frequency","Variability",null,null,"Frequency",null,"Relative Frequency","Variability",null,"Frequency",null,"Relative Frequency","Variability",null,"Frequency",null,"Relative Frequency","Variability",null,"Frequency",null,"Relative Frequency","Variability",null,"Frequency",null,"Relative Frequency","Variability",null,"Frequency",null,"Relative Frequency","Variability"]
[21,27,22,58,24,75,23,95,24,133,0,22222,null,11111,{"$f":"COUNTIF($L$7:$L$500,N7)","v":14},{"$f":"O7/$Q$4","v":9.9290780141843976E-2},{"$f":"IF(P7=0,0,(P7*((LOG(P7))/LOG(2))))","v":-0.33085638315444438},null,null,{"$f":"N7","v":11111},{"$f":"COUNTIF(L7:L30,T7)","v":0},{"$f":"U7/(W4-U25)","v":0},{"$f":"IF(V7=0,0,(V7*((LOG(V7))/LOG(2))))","v":0},null,{"$f":"N7","v":11111},{"$f":"COUNTIF(L31:L53,Y7)","v":3},{"$f":"Z7/(AB4-Z25)","v":0.13043478260869565},{"$f":"IF(AA7=0,0,(AA7*((LOG(AA7))/LOG(2))))","v":-0.3832955811307639},null,{"$f":"N7","v":11111},{"$f":"COUNTIF(L54:L77,AD7)","v":2},{"$f":"AE7/(AG4-AE25)","v":9.0909090909090912E-2},{"$f":"IF(AF7=0,0,(AF7*((LOG(AF7))/LOG(2))))","v":-0.31449378351248153},null,{"$f":"N7","v":11111},{"$f":"COUNTIF(L78:L100,AI7)","v":1},{"$f":"AJ7/(AL4-AJ25)","v":4.7619047619047616E-2},{"$f":"IF(AK7=0,0,(AK7*((LOG(AK7))/LOG(2))))","v":-0.20915797251327431},null,{"$f":"N7","v":11111},{"$f":"COUNTIF(L101:L124,AN7)","v":2},{"$f":"AO7/(AQ4-AO25)","v":9.0909090909090912E-2},{"$f":"IF(AP7=0,0,(AP7*((LOG(AP7))/LOG(2))))","v":-0.31449378351248153},null,{"$f":"N7","v":11111},{"$f":"COUNTIF(L125:L147,AS7)","v":6},{"$f":"AT7/(AV4-AT25)","v":0.2857142857142857},{"$f":"IF(AU7=0,0,(AU7*((LOG(AU7))/LOG(2))))","v":-0.51638712058788683}]
[21,238,11,268,22,281,23,323,24,382,0,21222,null,11112,{"$f":"COUNTIF($L$7:$L$500,N8)","v":10},{"$f":"O8/$Q$4","v":7.0921985815602842E-2},{"$f":"IF(P8=0,0,(P8*((LOG(P8))/LOG(2))))","v":-0.27075342251854123},null,null,{"$f":"N8","v":11112},{"$f":"COUNTIF(L7:L30,T8)","v":3},{"$f":"U8/(W4-U25)","v":0.13636363636363635},{"$f":"IF(V8=0,0,(V8*((LOG(V8))/LOG(2))))","v":-0.39197306153401923},null,{"$f":"N8","v":11112},{"$f":"COUNTIF(L31:L53,Y8)","v":1},{"$f":"Z8/(AB4-Z25)","v":4.3478260869565216E-2},{"$f":"IF(AA8=0,0,(AA8*((LOG(AA8))/LOG(2))))","v":-0.19667660678508753},null,{"$f":"N8","v":11112},{"$f":"COUNTIF(L54:L77,AD8)","v":1},{"$f":"AE8/(AG4-AE25)","v":4.5454545454545456E-2},{"$f":"IF(AF8=0,0,(AF8*((LOG(AF8))/LOG(2))))","v":-0.20270143721078623},null,{"$f":"N8","v":11112},{"$f":"COUNTIF(L78:L100,AI8)","v":1},{"$f":"AJ8/(AL4-AJ25)","v":4.7619047619047616E-2},{"$f":"IF(AK8=0,0,(AK8*((LOG(AK8))/LOG(2))))","v":-0.20915797251327431},null,{"$f":"N8","v":11112},{"$f":"COUNTIF(L101:L124,AN8)","v":2},{"$f":"AO8/(AQ4-AO25)","v":9.0909090909090912E-2},{"$f":"IF(AP8=0,0,(AP8*((LOG(AP8))/LOG(2))))","v":-0.31449378351248153},null,{"$f":"N8","v":11112},{"$f":"COUNTIF(L125:L147,AS8)","v":2},{"$f":"AT8/(AV4-AT25)","v":9.5238095238095233E-2},{"$f":"IF(AU8=0,0,(AU8*((LOG(AU8))/LOG(2))))","v":-0.32307784978845333}]
[21,493,22,513,13,521,14,533,24,544,0,22112,null,11121,{"$f":"COUNTIF($L$7:$L$500,N9)","v":18},{"$f":"O9/$Q$4","v":0.1276595744680851},{"$f":"IF(P9=0,0,(P9*((LOG(P9))/LOG(2))))","v":-0.37910123629231673},null,null,{"$f":"N9","v":11121},{"$f":"COUNTIF(L7:L30,T9)","v":3},{"$f":"U9/(W4-U25)","v":0.13636363636363635},{"$f":"IF(V9=0,0,(V9*((LOG(V9))/LOG(2))))","v":-0.39197306153401923},null,{"$f":"N9","v":11121},{"$f":"COUNTIF(L31:L53,Y9)","v":6},{"$f":"Z9/(AB4-Z25)","v":0.2608695652173913},{"$f":"IF(AA9=0,0,(AA9*((LOG(AA9))/LOG(2))))","v":-0.50572159704413644},null,{"$f":"N9","v":11121},{"$f":"COUNTIF(L54:L77,AD9)","v":3},{"$f":"AE9/(AG4-AE25)","v":0.13636363636363635},{"$f":"IF(AF9=0,0,(AF9*((LOG(AF9))/LOG(2))))","v":-0.39197306153401923},null,{"$f":"N9","v":11121},{"$f":"COUNTIF(L78:L100,AI9)","v":0},{"$f":"AJ9/(AL4-AJ25)","v":0},{"$f":"IF(AK9=0,0,(AK9*((LOG(AK9))/LOG(2))))","v":0},null,{"$f":"N9","v":11121},{"$f":"COUNTIF(L101:L124,AN9)","v":4},{"$f":"AO9/(AQ4-AO25)","v":0.18181818181818182},{"$f":"IF(AP9=0,0,(AP9*((LOG(AP9))/LOG(2))))","v":-0.44716938520678134},null,{"$f":"N9","v":11121},{"$f":"COUNTIF(L125:L147,AS9)","v":2},{"$f":"AT9/(AV4-AT25)","v":9.5238095238095233E-2},{"$f":"IF(AU9=0,0,(AU9*((LOG(AU9))/LOG(2))))","v":-0.32307784978845333}]
[12,661,24,672,24,701,14,712,24,723,0,12212,null,11122,{"$f":"COUNTIF($L$7:$L$500,N10)","v":0},{"$f":"O10/$Q$4","v":0},{"$f":"IF(P10=0,0,(P10*((LOG(P10))/LOG(2))))","v":0},null,null,{"$f":"N10","v":11122},{"$f":"COUNTIF(L7:L30,T10)","v":0},{"$f":"U10/(W4-U25)","v":0},{"$f":"IF(V10=0,0,(V10*((LOG(V10))/LOG(2))))","v":0},null,{"$f":"N10","v":11122},{"$f":"COUNTIF(L31:L53,Y10)","v":0},{"$f":"Z10/(AB4-Z25)","v":0},{"$f":"IF(AA10=0,0,(AA10*((LOG(AA10))/LOG(2))))","v":0},null,{"$f":"N10","v":11122},{"$f":"COUNTIF(L54:L77,AD10)","v":0},{"$f":"AE10/(AG4-AE25)","v":0},{"$f":"IF(AF10=0,0,(AF10*((LOG(AF10))/LOG(2))))","v":0},null,{"$f":"N10","v":11122},{"$f":"COUNTIF(L78:L100,AI10)","v":0},{"$f":"AJ10/(AL4-AJ25)","v":0},{"$f":"IF(AK10=0,0,(AK10*((LOG(AK10))/LOG(2))))","v":0},null,{"$f":"N10","v":11122},{"$f":"COUNTIF(L101:L124,AN10)","v":0},{"$f":"AO10/(AQ4-AO25)","v":0},{"$f":"IF(AP10=0,0,(AP10*((LOG(AP10))/LOG(2))))","v":0},null,{"$f":"N10","v":11122},{"$f":"COUNTIF(L125:L147,AS10)","v":0},{"$f":"AT10/(AV4-AT25)","v":0},{"$f":"IF(AU10=0,0,(AU10*((LOG(AU10))/LOG(2))))","v":0}]
[12,842,13,861,24,871,14,894,13,917,0,11211,null,11211,{"$f":"COUNTIF($L$7:$L$500,N11)","v":34},{"$f":"O11/$Q$4","v":0.24113475177304963},{"$f":"IF(P11=0,0,(P11*((LOG(P11))/LOG(2))))","v":-0.49482985375210947},null,null,{"$f":"N11","v":11211},{"$f":"COUNTIF(L7:L30,T11)","v":8},{"$f":"U11/(W4-U25)","v":0.36363636363636365},{"$f":"IF(V11=0,0,(V11*((LOG(V11))/LOG(2))))","v":-0.53070240677719893},null,{"$f":"N11","v":11211},{"$f":"COUNTIF(L31:L53,Y11)","v":7},{"$f":"Z11/(AB4-Z25)","v":0.30434782608695654},{"$f":"IF(AA11=0,0,(AA11*((LOG(AA11))/LOG(2))))","v":-0.52232387991286355},null,{"$f":"N11","v":11211},{"$f":"COUNTIF(L54:L77,AD11)","v":6},{"$f":"AE11/(AG4-AE25)","v":0.27272727272727271},{"$f":"IF(AF11=0,0,(AF11*((LOG(AF11))/LOG(2))))","v":-0.51121885034076575},null,{"$f":"N11","v":11211},{"$f":"COUNTIF(L78:L100,AI11)","v":2},{"$f":"AJ11/(AL4-AJ25)","v":9.5238095238095233E-2},{"$f":"IF(AK11=0,0,(AK11*((LOG(AK11))/LOG(2))))","v":-0.32307784978845333},null,{"$f":"N11","v":11211},{"$f":"COUNTIF(L101:L124,AN11)","v":6},{"$f":"AO11/(AQ4-AO25)","v":0.27272727272727271},{"$f":"IF(AP11=0,0,(AP11*((LOG(AP11))/LOG(2))))","v":-0.51121885034076575},null,{"$f":"N11","v":11211},{"$f":"COUNTIF(L125:L147,AS11)","v":5},{"$f":"AT11/(AV4-AT25)","v":0.23809523809523808},{"$f":"IF(AU11=0,0,(AU11*((LOG(AU11))/LOG(2))))","v":-0.49294983997414238}]
[12,1020,13,1036,24,1047,14,1077,24,1103,0,11212,null,11212,{"$f":"COUNTIF($L$7:$L$500,N12)","v":13},{"$f":"O12/$Q$4","v":9.2198581560283682E-2},{"$f":"IF(P12=0,0,(P12*((LOG(P12))/LOG(2))))","v":-0.31708121450602922},null,null,{"$f":"N12","v":11212},{"$f":"COUNTIF(L7:L30,T12)","v":1},{"$f":"U12/(W4-U25)","v":4.5454545454545456E-2},{"$f":"IF(V12=0,0,(V12*((LOG(V12))/LOG(2))))","v":-0.20270143721078623},null,{"$f":"N12","v":11212},{"$f":"COUNTIF(L31:L53,Y12)","v":2},{"$f":"Z12/(AB4-Z25)","v":8.6956521739130432E-2},{"$f":"IF(AA12=0,0,(AA12*((LOG(AA12))/LOG(2))))","v":-0.30639669183104457},null,{"$f":"N12","v":11212},{"$f":"COUNTIF(L54:L77,AD12)","v":2},{"$f":"AE12/(AG4-AE25)","v":9.0909090909090912E-2},{"$f":"IF(AF12=0,0,(AF12*((LOG(AF12))/LOG(2))))","v":-0.31449378351248153},null,{"$f":"N12","v":11212},{"$f":"COUNTIF(L78:L100,AI12)","v":5},{"$f":"AJ12/(AL4-AJ25)","v":0.23809523809523808},{"$f":"IF(AK12=0,0,(AK12*((LOG(AK12))/LOG(2))))","v":-0.49294983997414238},null,{"$f":"N12","v":11212},{"$f":"COUNTIF(L101:L124,AN12)","v":2},{"$f":"AO12/(AQ4-AO25)","v":9.0909090909090912E-2},{"$f":"IF(AP12=0,0,(AP12*((LOG(AP12))/LOG(2))))","v":-0.31449378351248153},null,{"$f":"N12","v":11212},{"$f":"COUNTIF(L125:L147,AS12)","v":1},{"$f":"AT12/(AV4-AT25)","v":4.7619047619047616E-2},{"$f":"IF(AU12=0,0,(AU12*((LOG(AU12))/LOG(2))))","v":-0.20915797251327431}]
[12,1244,13,1253,24,1269,14,1280,13,1292,0,11211,null,11221,{"$f":"COUNTIF($L$7:$L$500,N13)","v":0},{"$f":"O13/$Q$4","v":0},{"$f":"IF(P13=0,0,(P13*((LOG(P13))/LOG(2))))","v":0},null,null,{"$f":"N13","v":11221},{"$f":"COUNTIF(L7:L30,T13)","v":0},{"$f":"U13/(W4-U25)","v":0},{"$f":"IF(V13=0,0,(V13*((LOG(V13))/LOG(2))))","v":0},null,{"$f":"N13","v":11221},{"$f":"COUNTIF(L31:L53,Y13)","v":0},{"$f":"Z13/(AB4-Z25)","v":0},{"$f":"IF(AA13=0,0,(AA13*((LOG(AA13))/LOG(2))))","v":0},null,{"$f":"N13","v":11221},{"$f":"COUNTIF(L54:L77,AD13)","v":0},{"$f":"AE13/(AG4-AE25)","v":0},{"$f":"IF(AF13=0,0,(AF13*((LOG(AF13))/LOG(2))))","v":0},null,{"$f":"N13","v":11221},{"$f":"COUNTIF(L78:L100,AI13)","v":0},{"$f":"AJ13/(AL4-AJ25)","v":0},{"$f":"IF(AK13=0,0,(AK13*((LOG(AK13))/LOG(2))))","v":0},null,{"$f":"N13","v":11221},{"$f":"COUNTIF(L101:L124,AN13)","v":0},{"$f":"AO13/(AQ4-AO25)","v":0},{"$f":"IF(AP13=0,0,(AP13*((LOG(AP13))/LOG(2))))","v":0},null,{"$f":"N13","v":11221},{"$f":"COUNTIF(L125:L147,AS13)","v":0},{"$f":"AT13/(AV4-AT25)","v":0},{"$f":"IF(AU13=0,0,(AU13*((LOG(AU13))/LOG(2))))","v":0}]
[12,1408,13,1416,13,1443,14,1454,24,1467,0,11112,null,11222,{"$f":"COUNTIF($L$7:$L$500,N14)","v":1},{"$f":"O14/$Q$4","v":7.0921985815602835E-3},{"$f":"IF(P14=0,0,(P14*((LOG(P14))/LOG(2))))","v":-5.0635115974459535E-2},null,null,{"$f":"N14","v":11222},{"$f":"COUNTIF(L7:L30,T14)","v":0},{"$f":"U14/(W4-U25)","v":0},{"$f":"IF(V14=0,0,(V14*((LOG(V14))/LOG(2))))","v":0},null,{"$f":"N14","v":11222},{"$f":"COUNTIF(L31:L53,Y14)","v":0},{"$f":"Z14/(AB4-Z25)","v":0},{"$f":"IF(AA14=0,0,(AA14*((LOG(AA14))/LOG(2))))","v":0},null,{"$f":"N14","v":11222},{"$f":"COUNTIF(L54:L77,AD14)","v":0},{"$f":"AE14/(AG4-AE25)","v":0},{"$f":"IF(AF14=0,0,(AF14*((LOG(AF14))/LOG(2))))","v":0},null,{"$f":"N14","v":11222},{"$f":"COUNTIF(L78:L100,AI14)","v":1},{"$f":"AJ14/(AL4-AJ25)","v":4.7619047619047616E-2},{"$f":"IF(AK14=0,0,(AK14*((LOG(AK14))/LOG(2))))","v":-0.20915797251327431},null,{"$f":"N14","v":11222},{"$f":"COUNTIF(L101:L124,AN14)","v":0},{"$f":"AO14/(AQ4-AO25)","v":0},{"$f":"IF(AP14=0,0,(AP14*((LOG(AP14))/LOG(2))))","v":0},null,{"$f":"N14","v":11222},{"$f":"COUNTIF(L125:L147,AS14)","v":0},{"$f":"AT14/(AV4-AT25)","v":0},{"$f":"IF(AU14=0,0,(AU14*((LOG(AU14))/LOG(2))))","v":0}]
[12,1580,13,1594,13,1606,14,1626,24,1637,0,11112,null,12111,{"$f":"COUNTIF($L$7:$L$500,N15)","v":6},{"$f":"O15/$Q$4","v":4.2553191489361701E-2},{"$f":"IF(P15=0,0,(P15*((LOG(P15))/LOG(2))))","v":-0.19381229156075053},null,null,{"$f":"N15","v":12111},{"$f":"COUNTIF(L7:L30,T15)","v":1},{"$f":"U15/(W4-U25)","v":4.5454545454545456E-2},{"$f":"IF(V15=0,0,(V15*((LOG(V15))/LOG(2))))","v":-0.20270143721078623},null,{"$f":"N15","v":12111},{"$f":"COUNTIF(L31:L53,Y15)","v":0},{"$f":"Z15/(AB4-Z25)","v":0},{"$f":"IF(AA15=0,0,(AA15*((LOG(AA15))/LOG(2))))","v":0},null,{"$f":"N15","v":12111},{"$f":"COUNTIF(L54:L77,AD15)","v":2},{"$f":"AE15/(AG4-AE25)","v":9.0909090909090912E-2},{"$f":"IF(AF15=0,0,(AF15*((LOG(AF15))/LOG(2))))","v":-0.31449378351248153},null,{"$f":"N15","v":12111},{"$f":"COUNTIF(L78:L100,AI15)","v":2},{"$f":"AJ15/(AL4-AJ25)","v":9.5238095238095233E-2},{"$f":"IF(AK15=0,0,(AK15*((LOG(AK15))/LOG(2))))","v":-0.32307784978845333},null,{"$f":"N15","v":12111},{"$f":"COUNTIF(L101:L124,AN15)","v":1},{"$f":"AO15/(AQ4-AO25)","v":4.5454545454545456E-2},{"$f":"IF(AP15=0,0,(AP15*((LOG(AP15))/LOG(2))))","v":-0.20270143721078623},null,{"$f":"N15","v":12111},{"$f":"COUNTIF(L125:L147,AS15)","v":0},{"$f":"AT15/(AV4-AT25)","v":0},{"$f":"IF(AU15=0,0,(AU15*((LOG(AU15))/LOG(2))))","v":0}]
[12,1776,13,1793,24,1809,14,1840,13,1849,0,11211,null,12112,{"$f":"COUNTIF($L$7:$L$500,N16)","v":6},{"$f":"O16/$Q$4","v":4.2553191489361701E-2},{"$f":"IF(P16=0,0,(P16*((LOG(P16))/LOG(2))))","v":-0.19381229156075053},null,null,{"$f":"N16","v":12112},{"$f":"COUNTIF(L7:L30,T16)","v":1},{"$f":"U16/(W4-U25)","v":4.5454545454545456E-2},{"$f":"IF(V16=0,0,(V16*((LOG(V16))/LOG(2))))","v":-0.20270143721078623},null,{"$f":"N16","v":12112},{"$f":"COUNTIF(L31:L53,Y16)","v":3},{"$f":"Z16/(AB4-Z25)","v":0.13043478260869565},{"$f":"IF(AA16=0,0,(AA16*((LOG(AA16))/LOG(2))))","v":-0.3832955811307639},null,{"$f":"N16","v":12112},{"$f":"COUNTIF(L54:L77,AD16)","v":0},{"$f":"AE16/(AG4-AE25)","v":0},{"$f":"IF(AF16=0,0,(AF16*((LOG(AF16))/LOG(2))))","v":0},null,{"$f":"N16","v":12112},{"$f":"COUNTIF(L78:L100,AI16)","v":0},{"$f":"AJ16/(AL4-AJ25)","v":0},{"$f":"IF(AK16=0,0,(AK16*((LOG(AK16))/LOG(2))))","v":0},null,{"$f":"N16","v":12112},{"$f":"COUNTIF(L101:L124,AN16)","v":0},{"$f":"AO16/(AQ4-AO25)","v":0},{"$f":"IF(AP16=0,0,(AP16*((LOG(AP16))/LOG(2))))","v":0},null,{"$f":"N16","v":12112},{"$f":"COUNTIF(L125:L147,AS16)","v":2},{"$f":"AT16/(AV4-AT25)","v":9.5238095238095233E-2},{"$f":"IF(AU16=0,0,(AU16*((LOG(AU16))/LOG(2))))","v":-0.32307784978845333}]
[12,1979,13,1993,13,2011,23,2020,13,2032,0,11121,null,12121,{"$f":"COUNTIF($L$7:$L$500,N17)","v":3},{"$f":"O17/$Q$4","v":2.1276595744680851E-2},{"$f":"IF(P17=0,0,(P17*((LOG(P17))/LOG(2))))","v":-0.11818274152505612},null,null,{"$f":"N17","v":12121},{"$f":"COUNTIF(L7:L30,T17)","v":0},{"$f":"U17/(W4-U25)","v":0},{"$f":"IF(V17=0,0,(V17*((LOG(V17))/LOG(2))))","v":0},null,{"$f":"N17","v":12121},{"$f":"COUNTIF(L31:L53,Y17)","v":1},{"$f":"Z17/(AB4-Z25)","v":4.3478260869565216E-2},{"$f":"IF(AA17=0,0,(AA17*((LOG(AA17))/LOG(2))))","v":-0.19667660678508753},null,{"$f":"N17","v":12121},{"$f":"COUNTIF(L54:L77,AD17)","v":0},{"$f":"AE17/(AG4-AE25)","v":0},{"$f":"IF(AF17=0,0,(AF17*((LOG(AF17))/LOG(2))))","v":0},null,{"$f":"N17","v":12121},{"$f":"COUNTIF(L78:L100,AI17)","v":0},{"$f":"AJ17/(AL4-AJ25)","v":0},{"$f":"IF(AK17=0,0,(AK17*((LOG(AK17))/LOG(2))))","v":0},null,{"$f":"N17","v":12121},{"$f":"COUNTIF(L101:L124,AN17)","v":0},{"$f":"AO17/(AQ4-AO25)","v":0},{"$f":"IF(AP17=0,0,(AP17*((LOG(AP17))/LOG(2))))","v":0},null,{"$f":"N17","v":12121},{"$f":"COUNTIF(L125:L147,AS17)","v":2},{"$f":"AT17/(AV4-AT25)","v":9.5238095238095233E-2},{"$f":"IF(AU17=0,0,(AU17*((LOG(AU17))/LOG(2))))","v":-0.32307784978845333}]
[21,2148,11,2156,22,2165,14,2174,13,2182,0,21211,null,12122,{"$f":"COUNTIF($L$7:$L$500,N18)","v":3},{"$f":"O18/$Q$4","v":2.1276595744680851E-2},{"$f":"IF(P18=0,0,(P18*((LOG(P18))/LOG(2))))","v":-0.11818274152505612},null,null,{"$f":"N18","v":12122},{"$f":"COUNTIF(L7:L30,T18)","v":0},{"$f":"U18/(W4-U25)","v":0},{"$f":"IF(V18=0,0,(V18*((LOG(V18))/LOG(2))))","v":0},null,{"$f":"N18","v":12122},{"$f":"COUNTIF(L31:L53,Y18)","v":0},{"$f":"Z18/(AB4-Z25)","v":0},{"$f":"IF(AA18=0,0,(AA18*((LOG(AA18))/LOG(2))))","v":0},null,{"$f":"N18","v":12122},{"$f":"COUNTIF(L54:L77,AD18)","v":2},{"$f":"AE18/(AG4-AE25)","v":9.0909090909090912E-2},{"$f":"IF(AF18=0,0,(AF18*((LOG(AF18))/LOG(2))))","v":-0.31449378351248153},null,{"$f":"N18","v":12122},{"$f":"COUNTIF(L78:L100,AI18)","v":1},{"$f":"AJ18/(AL4-AJ25)","v":4.7619047619047616E-2},{"$f":"IF(AK18=0,0,(AK18*((LOG(AK18))/LOG(2))))","v":-0.20915797251327431},null,{"$f":"N18","v":12122},{"$f":"COUNTIF(L101:L124,AN18)","v":0},{"$f":"AO18/(AQ4-AO25)","v":0},{"$f":"IF(AP18=0,0,(AP18*((LOG(AP18))/LOG(2))))","v":0},null,{"$f":"N18","v":12122},{"$f":"COUNTIF(L125:L147,AS18)","v":0},{"$f":"AT18/(AV4-AT25)","v":0},{"$f":"IF(AU18=0,0,(AU18*((LOG(AU18))/LOG(2))))","v":0}]
[12,2308,13,2319,24,2328,14,2335,13,2349,0,11211,null,12211,{"$f":"COUNTIF($L$7:$L$500,N19)","v":0},{"$f":"O19/$Q$4","v":0},{"$f":"IF(P19=0,0,(P19*((LOG(P19))/LOG(2))))","v":0},null,null,{"$f":"N19","v":12211},{"$f":"COUNTIF(L7:L30,T19)","v":0},{"$f":"U19/(W4-U25)","v":0},{"$f":"IF(V19=0,0,(V19*((LOG(V19))/LOG(2))))","v":0},null,{"$f":"N19","v":12211},{"$f":"COUNTIF(L31:L53,Y19)","v":0},{"$f":"Z19/(AB4-Z25)","v":0},{"$f":"IF(AA19=0,0,(AA19*((LOG(AA19))/LOG(2))))","v":0},null,{"$f":"N19","v":12211},{"$f":"COUNTIF(L54:L77,AD19)","v":0},{"$f":"AE19/(AG4-AE25)","v":0},{"$f":"IF(AF19=0,0,(AF19*((LOG(AF19))/LOG(2))))","v":0},null,{"$f":"N19","v":12211},{"$f":"COUNTIF(L78:L100,AI19)","v":0},{"$f":"AJ19/(AL4-AJ25)","v":0},{"$f":"IF(AK19=0,0,(AK19*((LOG(AK19))/LOG(2))))","v":0},null,{"$f":"N19","v":12211},{"$f":"COUNTIF(L101:L124,AN19)","v":0},{"$f":"AO19/(AQ4-AO25)","v":0},{"$f":"IF(AP19=0,0,(AP19*((LOG(AP19))/LOG(2))))","v":0},null,{"$f":"N19","v":12211},{"$f":"COUNTIF(L125:L147,AS19)","v":0},{"$f":"AT19/(AV4-AT25)","v":0},{"$f":"IF(AU19=0,0,(AU19*((LOG(AU19))/LOG(2))))","v":0}]
[12,2542,24,2550,13,2559,14,2587,13,2596,0,12111,null,12212,{"$f":"COUNTIF($L$7:$L$500,N20)","v":2},{"$f":"O20/$Q$4","v":1.4184397163120567E-2},{"$f":"IF(P20=0,0,(P20*((LOG(P20))/LOG(2))))","v":-8.7085834785798497E-2},null,null,{"$f":"N20","v":12212},{"$f":"COUNTIF(L7:L30,T20)","v":1},{"$f":"U20/(W4-U25)","v":4.5454545454545456E-2},{"$f":"IF(V20=0,0,(V20*((LOG(V20))/LOG(2))))","v":-0.20270143721078623},null,{"$f":"N20","v":12212},{"$f":"COUNTIF(L31:L53,Y20)","v":0},{"$f":"Z20/(AB4-Z25)","v":0},{"$f":"IF(AA20=0,0,(AA20*((LOG(AA20))/LOG(2))))","v":0},null,{"$f":"N20","v":12212},{"$f":"COUNTIF(L54:L77,AD20)","v":0},{"$f":"AE20/(AG4-AE25)","v":0},{"$f":"IF(AF20=0,0,(AF20*((LOG(AF20))/LOG(2))))","v":0},null,{"$f":"N20","v":12212},{"$f":"COUNTIF(L78:L100,AI20)","v":1},{"$f":"AJ20/(AL4-AJ25)","v":4.7619047619047616E-2},{"$f":"IF(AK20=0,0,(AK20*((LOG(AK20))/LOG(2))))","v":-0.20915797251327431},null,{"$f":"N20","v":12212},{"$f":"COUNTIF(L101:L124,AN20)","v":0},{"$f":"AO20/(AQ4-AO25)","v":0},{"$f":"IF(AP20=0,0,(AP20*((LOG(AP20))/LOG(2))))","v":0},null,{"$f":"N20","v":12212},{"$f":"COUNTIF(L125:L147,AS20)","v":0},{"$f":"AT20/(AV4-AT25)","v":0},{"$f":"IF(AU20=0,0,(AU20*((LOG(AU20))/LOG(2))))","v":0}]
[21,2730,11,2738,11,2752,21,2761,11,2770,1,21121,null,12221,{"$f":"COUNTIF($L$7:$L$500,N21)","v":0},{"$f":"O21/$Q$4","v":0},{"$f":"IF(P21=0,0,(P21*((LOG(P21))/LOG(2))))","v":0},null,null,{"$f":"N21","v":12221},{"$f":"COUNTIF(L7:L30,T21)","v":0},{"$f":"U21/(W4-U25)","v":0},{"$f":"IF(V21=0,0,(V21*((LOG(V21))/LOG(2))))","v":0},null,{"$f":"N21","v":12221},{"$f":"COUNTIF(L31:L53,Y21)","v":0},{"$f":"Z21/(AB4-Z25)","v":0},{"$f":"IF(AA21=0,0,(AA21*((LOG(AA21))/LOG(2))))","v":0},null,{"$f":"N21","v":12221},{"$f":"COUNTIF(L54:L77,AD21)","v":0},{"$f":"AE21/(AG4-AE25)","v":0},{"$f":"IF(AF21=0,0,(AF21*((LOG(AF21))/LOG(2))))","v":0},null,{"$f":"N21","v":12221},{"$f":"COUNTIF(L78:L100,AI21)","v":0},{"$f":"AJ21/(AL4-AJ25)","v":0},{"$f":"IF(AK21=0,0,(AK21*((LOG(AK21))/LOG(2))))","v":0},null,{"$f":"N21","v":12221},{"$f":"COUNTIF(L101:L124,AN21)","v":0},{"$f":"AO21/(AQ4-AO25)","v":0},{"$f":"IF(AP21=0,0,(AP21*((LOG(AP21))/LOG(2))))","v":0},null,{"$f":"N21","v":12221},{"$f":"COUNTIF(L125:L147,AS21)","v":0},{"$f":"AT21/(AV4-AT25)","v":0},{"$f":"IF(AU21=0,0,(AU21*((LOG(AU21))/LOG(2))))","v":0}]
[12,2882,13,2900,13,2912,23,2920,13,2933,0,11121,null,12222,{"$f":"COUNTIF($L$7:$L$500,N22)","v":0},{"$f":"O22/$Q$4","v":0},{"$f":"IF(P22=0,0,(P22*((LOG(P22))/LOG(2))))","v":0},null,null,{"$f":"N22","v":12222},{"$f":"COUNTIF(L7:L30,T22)","v":0},{"$f":"U22/(W4-U25)","v":0},{"$f":"IF(V22=0,0,(V22*((LOG(V22))/LOG(2))))","v":0},null,{"$f":"N22","v":12222},{"$f":"COUNTIF(L31:L53,Y22)","v":0},{"$f":"Z22/(AB4-Z25)","v":0},{"$f":"IF(AA22=0,0,(AA22*((LOG(AA22))/LOG(2))))","v":0},null,{"$f":"N22","v":12222},{"$f":"COUNTIF(L54:L77,AD22)","v":0},{"$f":"AE22/(AG4-AE25)","v":0},{"$f":"IF(AF22=0,0,(AF22*((LOG(AF22))/LOG(2))))","v":0},null,{"$f":"N22","v":12222},{"$f":"COUNTIF(L78:L100,AI22)","v":0},{"$f":"AJ22/(AL4-AJ25)","v":0},{"$f":"IF(AK22=0,0,(AK22*((LOG(AK22))/LOG(2))))","v":0},null,{"$f":"N22","v":12222},{"$f":"COUNTIF(L101:L124,AN22)","v":0},{"$f":"AO22/(AQ4-AO25)","v":0},{"$f":"IF(AP22=0,0,(AP22*((LOG(AP22))/LOG(2))))","v":0},null,{"$f":"N22","v":12222},{"$f":"COUNTIF(L125:L147,AS22)","v":0},{"$f":"AT22/(AV4-AT25)","v":0},{"$f":"IF(AU22=0,0,(AU22*((LOG(AU22))/LOG(2))))","v":0}]
[12,3057,13,3068,13,3080,23,3091,13,3100,0,11121,null,21111,{"$f":"COUNTIF($L$7:$L$500,N23)","v":3},{"$f":"O23/$Q$4","v":2.1276595744680851E-2},{"$f":"IF(P23=0,0,(P23*((LOG(P23))/LOG(2))))","v":-0.11818274152505612},null,null,{"$f":"N23","v":21111},{"$f":"COUNTIF(L7:L30,T23)","v":0},{"$f":"U23/(W4-U25)","v":0},{"$f":"IF(V23=0,0,(V23*((LOG(V23))/LOG(2))))","v":0},null,{"$f":"N23","v":21111},{"$f":"COUNTIF(L31:L53,Y23)","v":0},{"$f":"Z23/(AB4-Z25)","v":0},{"$f":"IF(AA23=0,0,(AA23*((LOG(AA23))/LOG(2))))","v":0},null,{"$f":"N23","v":21111},{"$f":"COUNTIF(L54:L77,AD23)","v":0},{"$f":"AE23/(AG4-AE25)","v":0},{"$f":"IF(AF23=0,0,(AF23*((LOG(AF23))/LOG(2))))","v":0},null,{"$f":"N23","v":21111},{"$f":"COUNTIF(L78:L100,AI23)","v":2},{"$f":"AJ23/(AL4-AJ25)","v":9.5238095238095233E-2},{"$f":"IF(AK23=0,0,(AK23*((LOG(AK23))/LOG(2))))","v":-0.32307784978845333},null,{"$f":"N23","v":21111},{"$f":"COUNTIF(L101:L124,AN23)","v":1},{"$f":"AO23/(AQ4-AO25)","v":4.5454545454545456E-2},{"$f":"IF(AP23=0,0,(AP23*((LOG(AP23))/LOG(2))))","v":-0.20270143721078623},null,{"$f":"N23","v":21111},{"$f":"COUNTIF(L125:L147,AS23)","v":0},{"$f":"AT23/(AV4-AT25)","v":0},{"$f":"IF(AU23=0,0,(AU23*((LOG(AU23))/LOG(2))))","v":0}]
[12,3212,13,3227,24,3237,14,3250,13,3267,0,11211,null,21112,{"$f":"COUNTIF($L$7:$L$500,N24)","v":1},{"$f":"O24/$Q$4","v":7.0921985815602835E-3},{"$f":"IF(P24=0,0,(P24*((LOG(P24))/LOG(2))))","v":-5.0635115974459535E-2},null,null,{"$f":"N24","v":21112},{"$f":"COUNTIF(L7:L30,T24)","v":0},{"$f":"U24/(W4-U25)","v":0},{"$f":"IF(V24=0,0,(V24*((LOG(V24))/LOG(2))))","v":0},null,{"$f":"N24","v":21112},{"$f":"COUNTIF(L31:L53,Y24)","v":0},{"$f":"Z24/(AB4-Z25)","v":0},{"$f":"IF(AA24=0,0,(AA24*((LOG(AA24))/LOG(2))))","v":0},null,{"$f":"N24","v":21112},{"$f":"COUNTIF(L54:L77,AD24)","v":0},{"$f":"AE24/(AG4-AE25)","v":0},{"$f":"IF(AF24=0,0,(AF24*((LOG(AF24))/LOG(2))))","v":0},null,{"$f":"N24","v":21112},{"$f":"COUNTIF(L78:L100,AI24)","v":0},{"$f":"AJ24/(AL4-AJ25)","v":0},{"$f":"IF(AK24=0,0,(AK24*((LOG(AK24))/LOG(2))))","v":0},null,{"$f":"N24","v":21112},{"$f":"COUNTIF(L101:L124,AN24)","v":1},{"$f":"AO24/(AQ4-AO25)","v":4.5454545454545456E-2},{"$f":"IF(AP24=0,0,(AP24*((LOG(AP24))/LOG(2))))","v":-0.20270143721078623},null,{"$f":"N24","v":21112},{"$f":"COUNTIF(L125:L147,AS24)","v":0},{"$f":"AT24/(AV4-AT25)","v":0},{"$f":"IF(AU24=0,0,(AU24*((LOG(AU24))/LOG(2))))","v":0}]
[12,3378,13,3394,24,3403,14,3413,13,3428,0,11211,null,21121,{"$f":"COUNTIF($L$7:$L$500,N25)","v":10},{"$f":"O25/$Q$4","v":7.0921985815602842E-2},{"$f":"IF(P25=0,0,(P25*((LOG(P25))/LOG(2))))","v":-0.27075342251854123},null,null,{"$f":"N25","v":21121},{"$f":"COUNTIF(L7:L30,T25)","v":2},null,null,null,{"$f":"N25","v":21121},{"$f":"COUNTIF(L31:L53,Y25)","v":0},null,null,null,{"$f":"N25","v":21121},{"$f":"COUNTIF(L54:L77,AD25)","v":2},null,null,null,{"$f":"N25","v":21121},{"$f":"COUNTIF(L78:L100,AI25)","v":2},null,null,null,{"$f":"N25","v":21121},{"$f":"COUNTIF(L101:L124,AN25)","v":2},null,null,null,{"$f":"N25","v":21121},{"$f":"COUNTIF(L125:L147,AS25)","v":2}]
[12,3541,13,3550,24,3558,14,3566,13,3573,0,11211,null,21122,{"$f":"COUNTIF($L$7:$L$500,N26)","v":1},{"$f":"O26/$Q$4","v":7.0921985815602835E-3},{"$f":"IF(P26=0,0,(P26*((LOG(P26))/LOG(2))))","v":-5.0635115974459535E-2},null,null,{"$f":"N26","v":21122},{"$f":"COUNTIF(L7:L30,T26)","v":0},{"$f":"U26/(W4-U25)","v":0},{"$f":"IF(V26=0,0,(V26*((LOG(V26))/LOG(2))))","v":0},null,{"$f":"N26","v":21122},{"$f":"COUNTIF(L31:L53,Y26)","v":0},{"$f":"Z26/(AB4-Z25)","v":0},{"$f":"IF(AA26=0,0,(AA26*((LOG(AA26))/LOG(2))))","v":0},null,{"$f":"N26","v":21122},{"$f":"COUNTIF(L54:L77,AD26)","v":0},{"$f":"AE26/(AG4-AE25)","v":0},{"$f":"IF(AF26=0,0,(AF26*((LOG(AF26))/LOG(2))))","v":0},null,{"$f":"N26","v":21122},{"$f":"COUNTIF(L78:L100,AI26)","v":0},{"$f":"AJ26/(AL4-AJ25)","v":0},{"$f":"IF(AK26=0,0,(AK26*((LOG(AK26))/LOG(2))))","v":0},null,{"$f":"N26","v":21122},{"$f":"COUNTIF(L101:L124,AN26)","v":1},{"$f":"AO26/(AQ4-AO25)","v":4.5454545454545456E-2},{"$f":"IF(AP26=0,0,(AP26*((LOG(AP26))/LOG(2))))","v":-0.20270143721078623},null,{"$f":"N26","v":21122},{"$f":"COUNTIF(L125:L147,AS26)","v":0},{"$f":"AT26/(AV4-AT25)","v":0},{"$f":"IF(AU26=0,0,(AU26*((LOG(AU26))/LOG(2))))","v":0}]
[12,3682,13,3696,24,3705,14,3715,13,3733,0,11211,null,21211,{"$f":"COUNTIF($L$7:$L$500,N27)","v":10},{"$f":"O27/$Q$4","v":7.0921985815602842E-2},{"$f":"IF(P27=0,0,(P27*((LOG(P27))/LOG(2))))","v":-0.27075342251854123},null,null,{"$f":"N27","v":21211},{"$f":"COUNTIF(L7:L30,T27)","v":1},{"$f":"U27/(W4-U25)","v":4.5454545454545456E-2},{"$f":"IF(V27=0,0,(V27*((LOG(V27))/LOG(2))))","v":-0.20270143721078623},null,{"$f":"N27","v":21211},{"$f":"COUNTIF(L31:L53,Y27)","v":0},{"$f":"Z27/(AB4-Z25)","v":0},{"$f":"IF(AA27=0,0,(AA27*((LOG(AA27))/LOG(2))))","v":0},null,{"$f":"N27","v":21211},{"$f":"COUNTIF(L54:L77,AD27)","v":3},{"$f":"AE27/(AG4-AE25)","v":0.13636363636363635},{"$f":"IF(AF27=0,0,(AF27*((LOG(AF27))/LOG(2))))","v":-0.39197306153401923},null,{"$f":"N27","v":21211},{"$f":"COUNTIF(L78:L100,AI27)","v":3},{"$f":"AJ27/(AL4-AJ25)","v":0.14285714285714285},{"$f":"IF(AK27=0,0,(AK27*((LOG(AK27))/LOG(2))))","v":-0.40105070315108626},null,{"$f":"N27","v":21211},{"$f":"COUNTIF(L101:L124,AN27)","v":2},{"$f":"AO27/(AQ4-AO25)","v":9.0909090909090912E-2},{"$f":"IF(AP27=0,0,(AP27*((LOG(AP27))/LOG(2))))","v":-0.31449378351248153},null,{"$f":"N27","v":21211},{"$f":"COUNTIF(L125:L147,AS27)","v":1},{"$f":"AT27/(AV4-AT25)","v":4.7619047619047616E-2},{"$f":"IF(AU27=0,0,(AU27*((LOG(AU27))/LOG(2))))","v":-0.20915797251327431}]
[12,3836,13,3844,13,3854,14,3867,24,3876,0,11112,null,21212,{"$f":"COUNTIF($L$7:$L$500,N28)","v":2},{"$f":"O28/$Q$4","v":1.4184397163120567E-2},{"$f":"IF(P28=0,0,(P28*((LOG(P28))/LOG(2))))","v":-8.7085834785798497E-2},null,null,{"$f":"N28","v":21212},{"$f":"COUNTIF(L7:L30,T28)","v":0},{"$f":"U28/(W4-U25)","v":0},{"$f":"IF(V28=0,0,(V28*((LOG(V28))/LOG(2))))","v":0},null,{"$f":"N28","v":21212},{"$f":"COUNTIF(L31:L53,Y28)","v":0},{"$f":"Z28/(AB4-Z25)","v":0},{"$f":"IF(AA28=0,0,(AA28*((LOG(AA28))/LOG(2))))","v":0},null,{"$f":"N28","v":21212},{"$f":"COUNTIF(L54:L77,AD28)","v":0},{"$f":"AE28/(AG4-AE25)","v":0},{"$f":"IF(AF28=0,0,(AF28*((LOG(AF28))/LOG(2))))","v":0},null,{"$f":"N28","v":21212},{"$f":"COUNTIF(L78:L100,AI28)","v":2},{"$f":"AJ28/(AL4-AJ25)","v":9.5238095238095233E-2},{"$f":"IF(AK28=0,0,(AK28*((LOG(AK28))/LOG(2))))","v":-0.32307784978845333},null,{"$f":"N28","v":21212},{"$f":"COUNTIF(L101:L124,AN28)","v":0},{"$f":"AO28/(AQ4-AO25)","v":0},{"$f":"IF(AP28=0,0,(AP28*((LOG(AP28))/LOG(2))))","v":0},null,{"$f":"N28","v":21212},{"$f":"COUNTIF(L125:L147,AS28)","v":0},{"$f":"AT28/(AV4-AT25)","v":0},{"$f":"IF(AU28=0,0,(AU28*((LOG(AU28))/LOG(2))))","v":0}]
[21,3975,11,3986,11,3996,21,4004,11,4012,1,21121,null,21221,{"$f":"COUNTIF($L$7:$L$500,N29)","v":0},{"$f":"O29/$Q$4","v":0},{"$f":"IF(P29=0,0,(P29*((LOG(P29))/LOG(2))))","v":0},null,null,{"$f":"N29","v":21221},{"$f":"COUNTIF(L7:L30,T29)","v":0},{"$f":"U29/(W4-U25)","v":0},{"$f":"IF(V29=0,0,(V29*((LOG(V29))/LOG(2))))","v":0},null,{"$f":"N29","v":21221},{"$f":"COUNTIF(L31:L53,Y29)","v":0},{"$f":"Z29/(AB4-Z25)","v":0},{"$f":"IF(AA29=0,0,(AA29*((LOG(AA29))/LOG(2))))","v":0},null,{"$f":"N29","v":21221},{"$f":"COUNTIF(L54:L77,AD29)","v":0},{"$f":"AE29/(AG4-AE25)","v":0},{"$f":"IF(AF29=0,0,(AF29*((LOG(AF29))/LOG(2))))","v":0},null,{"$f":"N29","v":21221},{"$f":"COUNTIF(L78:L100,AI29)","v":0},{"$f":"AJ29/(AL4-AJ25)","v":0},{"$f":"IF(AK29=0,0,(AK29*((LOG(AK29))/LOG(2))))","v":0},null,{"$f":"N29","v":21221},{"$f":"COUNTIF(L101:L124,AN29)","v":0},{"$f":"AO29/(AQ4-AO25)","v":0},{"$f":"IF(AP29=0,0,(AP29*((LOG(AP29))/LOG(2))))","v":0},null,{"$f":"N29","v":21221},{"$f":"COUNTIF(L125:L147,AS29)","v":0},{"$f":"AT29/(AV4-AT25)","v":0},{"$f":"IF(AU29=0,0,(AU29*((LOG(AU29))/LOG(2))))","v":0}]
[12,4143,24,4160,13,4168,14,4199,24,4209,0,12112,null,21222,{"$f":"COUNTIF($L$7:$L$500,N30)","v":1},{"$f":"O30/$Q$4","v":7.0921985815602835E-3},{"$f":"IF(P30=0,0,(P30*((LOG(P30))/LOG(2))))","v":-5.0635115974459535E-2},null,null,{"$f":"N30","v":21222},{"$f":"COUNTIF(L7:L30,T30)","v":1},{"$f":"U30/(W4-U25)","v":4.5454545454545456E-2},{"$f":"IF(V30=0,0,(V30*((LOG(V30))/LOG(2))))","v":-0.20270143721078623},null,{"$f":"N30","v":21222},{"$f":"COUNTIF(L31:L53,Y30)","v":0},{"$f":"Z30/(AB4-Z25)","v":0},{"$f":"IF(AA30=0,0,(AA30*((LOG(AA30))/LOG(2))))","v":0},null,{"$f":"N30","v":21222},{"$f":"COUNTIF(L54:L77,AD30)","v":0},{"$f":"AE30/(AG4-AE25)","v":0},{"$f":"IF(AF30=0,0,(AF30*((LOG(AF30))/LOG(2))))","v":0},null,{"$f":"N30","v":21222},{"$f":"COUNTIF(L78:L100,AI30)","v":0},{"$f":"AJ30/(AL4-AJ25)","v":0},{"$f":"IF(AK30=0,0,(AK30*((LOG(AK30))/LOG(2))))","v":0},null,{"$f":"N30","v":21222},{"$f":"COUNTIF(L101:L124,AN30)","v":0},{"$f":"AO30/(AQ4-AO25)","v":0},{"$f":"IF(AP30=0,0,(AP30*((LOG(AP30))/LOG(2))))","v":0},null,{"$f":"N30","v":21222},{"$f":"COUNTIF(L125:L147,AS30)","v":0},{"$f":"AT30/(AV4-AT25)","v":0},{"$f":"IF(AU30=0,0,(AU30*((LOG(AU30))/LOG(2))))","v":0}]
[12,4325,24,4334,13,4341,14,4363,24,4387,0,12112,null,22111,{"$f":"COUNTIF($L$7:$L$500,N31)","v":0},{"$f":"O31/$Q$4","v":0},{"$f":"IF(P31=0,0,(P31*((LOG(P31))/LOG(2))))","v":0},null,null,{"$f":"N31","v":22111},{"$f":"COUNTIF(L7:L30,T31)","v":0},{"$f":"U31/(W4-U25)","v":0},{"$f":"IF(V31=0,0,(V31*((LOG(V31))/LOG(2))))","v":0},null,{"$f":"N31","v":22111},{"$f":"COUNTIF(L31:L53,Y31)","v":0},{"$f":"Z31/(AB4-Z25)","v":0},{"$f":"IF(AA31=0,0,(AA31*((LOG(AA31))/LOG(2))))","v":0},null,{"$f":"N31","v":22111},{"$f":"COUNTIF(L54:L77,AD31)","v":0},{"$f":"AE31/(AG4-AE25)","v":0},{"$f":"IF(AF31=0,0,(AF31*((LOG(AF31))/LOG(2))))","v":0},null,{"$f":"N31","v":22111},{"$f":"COUNTIF(L78:L100,AI31)","v":0},{"$f":"AJ31/(AL4-AJ25)","v":0},{"$f":"IF(AK31=0,0,(AK31*((LOG(AK31))/LOG(2))))","v":0},null,{"$f":"N31","v":22111},{"$f":"COUNTIF(L101:L124,AN31)","v":0},{"$f":"AO31/(AQ4-AO25)","v":0},{"$f":"IF(AP31=0,0,(AP31*((LOG(AP31))/LOG(2))))","v":0},null,{"$f":"N31","v":22111},{"$f":"COUNTIF(L125:L147,AS31)","v":0},{"$f":"AT31/(AV4-AT25)","v":0},{"$f":"IF(AU31=0,0,(AU31*((LOG(AU31))/LOG(2))))","v":0}]
[12,4496,13,4510,24,4519,14,4532,13,4542,0,11211,null,22112,{"$f":"COUNTIF($L$7:$L$500,N32)","v":1},{"$f":"O32/$Q$4","v":7.0921985815602835E-3},{"$f":"IF(P32=0,0,(P32*((LOG(P32))/LOG(2))))","v":-5.0635115974459535E-2},null,null,{"$f":"N32","v":22112},{"$f":"COUNTIF(L7:L30,T32)","v":1},{"$f":"U32/(W4-U25)","v":4.5454545454545456E-2},{"$f":"IF(V32=0,0,(V32*((LOG(V32))/LOG(2))))","v":-0.20270143721078623},null,{"$f":"N32","v":22112},{"$f":"COUNTIF(L31:L53,Y32)","v":0},{"$f":"Z32/(AB4-Z25)","v":0},{"$f":"IF(AA32=0,0,(AA32*((LOG(AA32))/LOG(2))))","v":0},null,{"$f":"N32","v":22112},{"$f":"COUNTIF(L54:L77,AD32)","v":0},{"$f":"AE32/(AG4-AE25)","v":0},{"$f":"IF(AF32=0,0,(AF32*((LOG(AF32))/LOG(2))))","v":0},null,{"$f":"N32","v":22112},{"$f":"COUNTIF(L78:L100,AI32)","v":0},{"$f":"AJ32/(AL4-AJ25)","v":0},{"$f":"IF(AK32=0,0,(AK32*((LOG(AK32))/LOG(2))))","v":0},null,{"$f":"N32","v":22112},{"$f":"COUNTIF(L101:L124,AN32)","v":0},{"$f":"AO32/(AQ4-AO25)","v":0},{"$f":"IF(AP32=0,0,(AP32*((LOG(AP32))/LOG(2))))","v":0},null,{"$f":"N32","v":22112},{"$f":"COUNTIF(L125:L147,AS32)","v":0},{"$f":"AT32/(AV4-AT25)","v":0},{"$f":"IF(AU32=0,0,(AU32*((LOG(AU32))/LOG(2))))","v":0}]
[12,4659,13,4671,13,4679,14,4687,13,4709,0,11111,null,22121,{"$f":"COUNTIF($L$7:$L$500,N33)","v":1},{"$f":"O33/$Q$4","v":7.0921985815602835E-3},{"$f":"IF(P33=0,0,(P33*((LOG(P33))/LOG(2))))","v":-5.0635115974459535E-2},null,null,{"$f":"N33","v":22121},{"$f":"COUNTIF(L7:L30,T33)","v":0},{"$f":"U33/(W4-U25)","v":0},{"$f":"IF(V33=0,0,(V33*((LOG(V33))/LOG(2))))","v":0},null,{"$f":"N33","v":22121},{"$f":"COUNTIF(L31:L53,Y33)","v":0},{"$f":"Z33/(AB4-Z25)","v":0},{"$f":"IF(AA33=0,0,(AA33*((LOG(AA33))/LOG(2))))","v":0},null,{"$f":"N33","v":22121},{"$f":"COUNTIF(L54:L77,AD33)","v":1},{"$f":"AE33/(AG4-AE25)","v":4.5454545454545456E-2},{"$f":"IF(AF33=0,0,(AF33*((LOG(AF33))/LOG(2))))","v":-0.20270143721078623},null,{"$f":"N33","v":22121},{"$f":"COUNTIF(L78:L100,AI33)","v":0},{"$f":"AJ33/(AL4-AJ25)","v":0},{"$f":"IF(AK33=0,0,(AK33*((LOG(AK33))/LOG(2))))","v":0},null,{"$f":"N33","v":22121},{"$f":"COUNTIF(L101:L124,AN33)","v":0},{"$f":"AO33/(AQ4-AO25)","v":0},{"$f":"IF(AP33=0,0,(AP33*((LOG(AP33))/LOG(2))))","v":0},null,{"$f":"N33","v":22121},{"$f":"COUNTIF(L125:L147,AS33)","v":0},{"$f":"AT33/(AV4-AT25)","v":0},{"$f":"IF(AU33=0,0,(AU33*((LOG(AU33))/LOG(2))))","v":0}]
[12,4839,24,4848,13,4860,14,4879,24,4890,0,12112,null,22122,{"$f":"COUNTIF($L$7:$L$500,N34)","v":0},{"$f":"O34/$Q$4","v":0},{"$f":"IF(P34=0,0,(P34*((LOG(P34))/LOG(2))))","v":0},null,null,{"$f":"N34","v":22122},{"$f":"COUNTIF(L7:L30,T34)","v":0},{"$f":"U34/(W4-U25)","v":0},{"$f":"IF(V34=0,0,(V34*((LOG(V34))/LOG(2))))","v":0},null,{"$f":"N34","v":22122},{"$f":"COUNTIF(L31:L53,Y34)","v":0},{"$f":"Z34/(AB4-Z25)","v":0},{"$f":"IF(AA34=0,0,(AA34*((LOG(AA34))/LOG(2))))","v":0},null,{"$f":"N34","v":22122},{"$f":"COUNTIF(L54:L77,AD34)","v":0},{"$f":"AE34/(AG4-AE25)","v":0},{"$f":"IF(AF34=0,0,(AF34*((LOG(AF34))/LOG(2))))","v":0},null,{"$f":"N34","v":22122},{"$f":"COUNTIF(L78:L100,AI34)","v":0},{"$f":"AJ34/(AL4-AJ25)","v":0},{"$f":"IF(AK34=0,0,(AK34*((LOG(AK34))/LOG(2))))","v":0},null,{"$f":"N34","v":22122},{"$f":"COUNTIF(L101:L124,AN34)","v":0},{"$f":"AO34/(AQ4-AO25)","v":0},{"$f":"IF(AP34=0,0,(AP34*((LOG(AP34))/LOG(2))))","v":0},null,{"$f":"N34","v":22122},{"$f":"COUNTIF(L125:L147,AS34)","v":0},{"$f":"AT34/(AV4-AT25)","v":0},{"$f":"IF(AU34=0,0,(AU34*((LOG(AU34))/LOG(2))))","v":0}]
[12,5001,13,5009,24,5017,14,5043,13,5053,0,11211,null,22211,{"$f":"COUNTIF($L$7:$L$500,N35)","v":0},{"$f":"O35/$Q$4","v":0},{"$f":"IF(P35=0,0,(P35*((LOG(P35))/LOG(2))))","v":0},null,null,{"$f":"N35","v":22211},{"$f":"COUNTIF(L7:L30,T35)","v":0},{"$f":"U35/(W4-U25)","v":0},{"$f":"IF(V35=0,0,(V35*((LOG(V35))/LOG(2))))","v":0},null,{"$f":"N35","v":22211},{"$f":"COUNTIF(L31:L53,Y35)","v":0},{"$f":"Z35/(AB4-Z25)","v":0},{"$f":"IF(AA35=0,0,(AA35*((LOG(AA35))/LOG(2))))","v":0},null,{"$f":"N35","v":22211},{"$f":"COUNTIF(L54:L77,AD35)","v":0},{"$f":"AE35/(AG4-AE25)","v":0},{"$f":"IF(AF35=0,0,(AF35*((LOG(AF35))/LOG(2))))","v":0},null,{"$f":"N35","v":22211},{"$f":"COUNTIF(L78:L100,AI35)","v":0},{"$f":"AJ35/(AL4-AJ25)","v":0},{"$f":"IF(AK35=0,0,(AK35*((LOG(AK35))/LOG(2))))","v":0},null,{"$f":"N35","v":22211},{"$f":"COUNTIF(L101:L124,AN35)","v":0},{"$f":"AO35/(AQ4-AO25)","v":0},{"$f":"IF(AP35=0,0,(AP35*((LOG(AP35))/LOG(2))))","v":0},null,{"$f":"N35","v":22211},{"$f":"COUNTIF(L125:L147,AS35)","v":0},{"$f":"AT35/(AV4-AT25)","v":0},{"$f":"IF(AU35=0,0,(AU35*((LOG(AU35))/LOG(2))))","v":0}]
[12,5161,13,5174,13,5185,14,5192,24,5204,0,11112,null,22212,{"$f":"COUNTIF($L$7:$L$500,N36)","v":0},{"$f":"O36/$Q$4","v":0},{"$f":"IF(P36=0,0,(P36*((LOG(P36))/LOG(2))))","v":0},null,null,{"$f":"N36","v":22212},{"$f":"COUNTIF(L7:L30,T36)","v":0},{"$f":"U36/(W4-U25)","v":0},{"$f":"IF(V36=0,0,(V36*((LOG(V36))/LOG(2))))","v":0},null,{"$f":"N36","v":22212},{"$f":"COUNTIF(L31:L53,Y36)","v":0},{"$f":"Z36/(AB4-Z25)","v":0},{"$f":"IF(AA36=0,0,(AA36*((LOG(AA36))/LOG(2))))","v":0},null,{"$f":"N36","v":22212},{"$f":"COUNTIF(L54:L77,AD36)","v":0},{"$f":"AE36/(AG4-AE25)","v":0},{"$f":"IF(AF36=0,0,(AF36*((LOG(AF36))/LOG(2))))","v":0},null,{"$f":"N36","v":22212},{"$f":"COUNTIF(L78:L100,AI36)","v":0},{"$f":"AJ36/(AL4-AJ25)","v":0},{"$f":"IF(AK36=0,0,(AK36*((LOG(AK36))/LOG(2))))","v":0},null,{"$f":"N36","v":22212},{"$f":"COUNTIF(L101:L124,AN36)","v":0},{"$f":"AO36/(AQ4-AO25)","v":0},{"$f":"IF(AP36=0,0,(AP36*((LOG(AP36))/LOG(2))))","v":0},null,{"$f":"N36","v":22212},{"$f":"COUNTIF(L125:L147,AS36)","v":0},{"$f":"AT36/(AV4-AT25)","v":0},{"$f":"IF(AU36=0,0,(AU36*((LOG(AU36))/LOG(2))))","v":0}]
[12,5311,24,5321,13,5329,23,5340,13,5348,0,12121,null,22221,{"$f":"COUNTIF($L$7:$L$500,N37)","v":0},{"$f":"O37/$Q$4","v":0},{"$f":"IF(P37=0,0,(P37*((LOG(P37))/LOG(2))))","v":0},null,null,{"$f":"N37","v":22221},{"$f":"COUNTIF(L7:L30,T37)","v":0},{"$f":"U37/(W4-U25)","v":0},{"$f":"IF(V37=0,0,(V37*((LOG(V37))/LOG(2))))","v":0},null,{"$f":"N37","v":22221},{"$f":"COUNTIF(L31:L53,Y37)","v":0},{"$f":"Z37/(AB4-Z25)","v":0},{"$f":"IF(AA37=0,0,(AA37*((LOG(AA37))/LOG(2))))","v":0},null,{"$f":"N37","v":22221},{"$f":"COUNTIF(L54:L77,AD37)","v":0},{"$f":"AE37/(AG4-AE25)","v":0},{"$f":"IF(AF37=0,0,(AF37*((LOG(AF37))/LOG(2))))","v":0},null,{"$f":"N37","v":22221},{"$f":"COUNTIF(L78:L100,AI37)","v":0},{"$f":"AJ37/(AL4-AJ25)","v":0},{"$f":"IF(AK37=0,0,(AK37*((LOG(AK37))/LOG(2))))","v":0},null,{"$f":"N37","v":22221},{"$f":"COUNTIF(L101:L124,AN37)","v":0},{"$f":"AO37/(AQ4-AO25)","v":0},{"$f":"IF(AP37=0,0,(AP37*((LOG(AP37))/LOG(2))))","v":0},null,{"$f":"N37","v":22221},{"$f":"COUNTIF(L125:L147,AS37)","v":0},{"$f":"AT37/(AV4-AT25)","v":0},{"$f":"IF(AU37=0,0,(AU37*((LOG(AU37))/LOG(2))))","v":0}]
[12,5461,13,5470,13,5477,23,5486,13,5498,0,11121,null,22222,{"$f":"COUNTIF($L$7:$L$500,N38)","v":1},{"$f":"O38/$Q$4","v":7.0921985815602835E-3},{"$f":"IF(P38=0,0,(P38*((LOG(P38))/LOG(2))))","v":-5.0635115974459535E-2},null,null,{"$f":"N38","v":22222},{"$f":"COUNTIF(L7:L30,T38)","v":1},{"$f":"U38/(W4-U25)","v":4.5454545454545456E-2},{"$f":"IF(V38=0,0,(V38*((LOG(V38))/LOG(2))))","v":-0.20270143721078623},null,{"$f":"N38","v":22222},{"$f":"COUNTIF(L31:L53,Y38)","v":0},{"$f":"Z38/(AB4-Z25)","v":0},{"$f":"IF(AA38=0,0,(AA38*((LOG(AA38))/LOG(2))))","v":0},null,{"$f":"N38","v":22222},{"$f":"COUNTIF(L54:L77,AD38)","v":0},{"$f":"AE38/(AG4-AE25)","v":0},{"$f":"IF(AF38=0,0,(AF38*((LOG(AF38))/LOG(2))))","v":0},null,{"$f":"N38","v":22222},{"$f":"COUNTIF(L78:L100,AI38)","v":0},{"$f":"AJ38/(AL4-AJ25)","v":0},{"$f":"IF(AK38=0,0,(AK38*((LOG(AK38))/LOG(2))))","v":0},null,{"$f":"N38","v":22222},{"$f":"COUNTIF(L101:L124,AN38)","v":0},{"$f":"AO38/(AQ4-AO25)","v":0},{"$f":"IF(AP38=0,0,(AP38*((LOG(AP38))/LOG(2))))","v":0},null,{"$f":"N38","v":22222},{"$f":"COUNTIF(L125:L147,AS38)","v":0},{"$f":"AT38/(AV4-AT25)","v":0},{"$f":"IF(AU38=0,0,(AU38*((LOG(AU38))/LOG(2))))","v":0}]
[12,5621,13,5632,24,5642,14,5651,24,5665,0,11212,null,null,null,{"$f":"SUM(P7:P38)","v":1},{"$f":"-SUM(Q7:Q38)","v":3.6049192443500062},null,null,null,null,{"$f":"SUM(V7:V38)","v":0.99999999999999967},{"$f":"-SUM(W7:W38)","v":2.9362600275315267},null,null,null,{"$f":"SUM(AA7:AA38)","v":0.99999999999999989},{"$f":"-SUM(AB7:AB38)","v":2.4943865446197475},null,null,null,{"$f":"SUM(AF7:AF38)","v":1},{"$f":"-SUM(AG7:AG38)","v":2.9585429818803028},null,null,null,{"$f":"SUM(AK7:AK38)","v":1},{"$f":"-SUM(AL7:AL38)","v":3.232101804845414},null,null,null,{"$f":"SUM(AP7:AP38)","v":0.99999999999999989},{"$f":"-SUM(AQ7:AQ38)","v":3.0271691184406175},null,null,null,{"$f":"SUM(AU7:AU38)","v":1},{"$f":"-SUM(AV7:AV38)","v":2.7199643047423914}]
[12,5764,13,5776,24,5791,14,5802,13,5813,0,11211,null,null,null,"U=",{"$f":"Q39/(LOG(Q4)/LOG(2))","v":0.50492237766996406},null,null,null,null,"U1=",{"$f":"W39/(LOG(W4)/LOG(2))","v":0.64041091439018105},null,null,null,"U2=",{"$f":"AB39/(LOG(AB4)/LOG(2))","v":0.55142088664880207},null,null,null,"U3=",{"$f":"AG39/(LOG(AG4)/LOG(2))","v":0.64527092237176675},null,null,null,"U4=",{"$f":"AL39/(LOG(AL4)/LOG(2))","v":0.71450371106726096},null,null,null,"U5=",{"$f":"AQ39/(LOG(AQ4)/LOG(2))","v":0.66023857729795665},null,null,null,"U6=",{"$f":"AV39/(LOG(AV4)/LOG(2))","v":0.60128817316194405}]
[12,5914,13,5923,13,5933,23,5942,13,5954,0,11121]
[12,6067,24,6108,13,6117,14,6129,24,6141,0,12112]
[12,6248,13,6260,24,6269,14,6283,24,6294,0,11212,null,"Total Target Seq"]
[12,6390,13,6409,24,6417,14,6426,13,6433,0,11211,null,{"$f":"COUNTIF(L7:L147,G3)","v":10},null,24,23,24,23,24,23]
[12,6535,13,6549,24,6557,14,6569,13,6576,0,11211,null,null,null,"% of reinforcement given in 6 equal intervals based on number of trials "]
[12,6678,13,6691,13,6707,23,6716,13,6729,0,11121,null,null,null,"%_1","%_2","%_3","%_4","%_5","%_6"]
[12,6825,13,6834,13,6845,23,6856,13,6866,0,11121,null,null,"target sequence",{"$f":"$G$3","v":21121},{"$f":"$G$3","v":21121},{"$f":"$G$3","v":21121},{"$f":"$G$3","v":21121},{"$f":"$G$3","v":21121},{"$f":"$G$3","v":21121}]
[12,6969,13,6980,13,6993,14,7007,13,7018,0,11111,null,null,"total reinforcement",{"$f":"U25","v":2},{"$f":"Z25","v":0},{"$f":"AE25","v":2},{"$f":"AJ25","v":2},{"$f":"AO25","v":2},{"$f":"AT25","v":2}]
[12,7180,13,7192,24,7200,14,7225,13,7241,0,11211,null,null,"% target"]
[12,7355,13,7374,13,7386,14,7400,13,7416,0,11111,null,null,"CCRF"]
[12,7534,13,7546,13,7561,23,7569,13,7578,0,11121,null,null,"% CCRf"]
[12,7699,13,7710,13,7721,23,7729,13,7737,0,11121,null,null,"average response rate",{"$f":"J30/P44","v":175.375},{"$f":"(J53-J30)/Q44","v":160.82608695652175},{"$f":"(J77-J53)/R44","v":157.125},{"$f":"(J100-J77)/S44","v":177.69565217391303},{"$f":"(J124-J100)/T44","v":172.29166666666666},{"$f":"(J147-J124)/U44","v":174.56521739130434}]
[12,7848,13,7875,24,7885,14,7896,13,7908,0,11211]
[12,8039,13,8051,24,8059,14,8070,13,8080,0,11211]
[12,8189,13,8201,13,8218,14,8227,13,8241,0,11111]
[12,8355,13,8367,24,8376,14,8392,24,8404,0,11212]
[21,8517,11,8525,22,8536,14,8544,13,8555,0,21211]
[21,8715,11,8723,22,8733,14,8742,13,8755,0,21211]
[21,8854,11,8862,11,8874,21,8883,11,8891,1,21121]
[21,8996,11,9005,22,9014,14,9029,13,9040,0,21211]
[12,9153,13,9160,13,9176,14,9189,13,9197,0,11111]
[12,9303,13,9313,24,9322,14,9329,13,9343,0,11211]
[12,9451,13,9462,13,9477,14,9489,24,9497,0,11112]
[12,9605,13,9617,13,9629,23,9639,13,9648,0,11121]
[21,9746,11,9754,11,9763,21,9771,11,9779,1,21121]
[12,9897,13,9908,24,9917,14,9933,24,9944,0,11212]
[12,10042,24,10051,13,10058,14,10071,13,10082,0,12111]
[12,10199,13,10212,24,10229,14,10236,13,10253,0,11211]
[21,10352,22,10379,13,10387,23,10400,13,10408,0,22121]
[12,10515,13,10526,24,10535,14,10547,13,10562,0,11211]
[12,10669,13,10680,24,10690,14,10705,13,10717,0,11211]
[12,10825,13,10835,13,10845,23,10856,13,10864,0,11121]
[12,10963,13,10974,13,10992,23,11002,13,11011,0,11121]
[12,11112,24,11129,13,11136,23,11147,24,11173,0,12122]
[12,11281,24,11291,13,11309,14,11336,13,11348,0,12111]
[12,11458,13,11469,24,11479,14,11490,13,11501,0,11211]
[12,11629,24,11637,13,11646,23,11659,24,11679,0,12122]
[12,11779,13,11787,24,11797,14,11814,24,11824,0,11212]
[12,11926,13,11934,24,11943,14,11955,24,11965,0,11212]
[12,12067,13,12078,24,12089,14,12105,13,12116,0,11211]
[21,12254,11,12266,22,12274,14,12282,13,12294,0,21211]
[21,12404,11,12412,11,12425,12,12433,13,12444,0,21111]
[12,12548,13,12562,13,12574,14,12588,24,12599,0,11112]
[12,12823,13,12839,24,12849,14,12862,13,12877,0,11211]
[21,12977,11,13007,22,13024,14,13039,24,13048,0,21212]
[21,13181,11,13189,22,13198,14,13207,13,13219,0,21211]
[21,13352,11,13360,22,13371,14,13380,13,13388,0,21211]
[12,13564,24,13590,13,13610,23,13619,24,13633,0,12122]
[21,13762,11,13773,11,13784,21,13795,11,13816,1,21121]
[12,13979,24,13991,13,14019,14,14032,13,14047,0,12111]
[12,14164,24,14176,13,14185,14,14204,13,14239,0,12111]
[12,14350,13,14362,13,14373,14,14398,13,14410,0,11111]
[12,14519,13,14543,24,14555,14,14567,24,14579,0,11212]
[21,14680,11,14696,22,14707,14,14721,24,14733,0,21212]
[21,14836,11,14845,11,14861,12,14874,13,14886,0,21111]
[12,15000,24,15009,24,15020,14,15035,24,15044,0,12212]
[21,15188,11,15197,11,15210,21,15221,11,15236,1,21121]
[12,15377,13,15392,24,15409,23,15426,24,15440,0,11222]
[12,15551,13,15564,24,15575,14,15583,24,15595,0,11212]
[12,15717,13,15729,24,15739,14,15747,24,15766,0,11212]
[12,15877,13,15904,24,15914,14,15922,24,15935,0,11212]
[12,16047,13,16063,13,16081,23,16090,13,16102,0,11121]
[21,16212,11,16226,11,16245,21,16254,22,16267,0,21122]
[21,16394,11,16403,11,16416,12,16442,13,16452,0,21111]
[21,16582,11,16592,22,16603,14,16614,13,16630,0,21211]
[12,16740,13,16749,13,16760,23,16773,13,16786,0,11121]
[12,16903,13,16915,24,16926,14,16942,13,16953,0,11211]
[12,17070,13,17081,13,17094,23,17104,13,17116,0,11121]
[21,17233,11,17241,11,17250,12,17265,24,17276,0,21112]
[12,17385,13,17396,24,17408,14,17417,13,17432,0,11211]
[12,17540,13,17557,24,17568,14,17580,13,17588,0,11211]
[12,17722,13,17730,24,17744,14,17755,13,17769,0,11211]
[21,17873,11,17892,11,17901,21,17909,11,17918,1,21121]
[12,18031,13,18039,13,18047,23,18055,13,18064,0,11121]
[21,18180,11,18193,11,18209,21,18222,11,18239,1,21121]
[12,18335,13,18387,24,18397,14,18406,24,18418,0,11212]
[12,18544,13,18553,24,18564,14,18576,13,18590,0,11211]
[12,18708,13,18724,13,18736,14,18744,13,18758,0,11111]
[12,18906,13,18920,13,18926,14,18940,13,18955,0,11111]
[12,19103,13,19113,24,19122,14,19135,13,19145,0,11211]
[12,19254,13,19265,13,19280,14,19292,24,19339,0,11112]
[12,19527,24,19536,13,19547,14,19566,13,19576,0,12111]
[12,19705,13,19715,13,19728,14,19735,24,19747,0,11112]
[21,19846,11,19869,22,19878,14,19887,13,19901,0,21211]
[12,20024,13,20037,24,20046,14,20065,24,20077,0,11212]
[12,20178,24,20209,13,20231,23,20245,13,20254,0,12121]
[21,20352,11,20384,22,20395,14,20406,13,20417,0,21211]
[21,20513,11,20521,11,20536,21,20547,11,20558,1,21121]
[12,20727,24,20736,13,20744,14,20763,24,20777,0,12112]
[12,20890,13,20901,13,20910,23,20919,13,20927,0,11121]
[12,21099,13,21107,13,21118,14,21131,13,21168,0,11111]
[21,21288,11,21298,11,21342,21,21352,11,21374,1,21121]
[12,21476,13,21488,24,21503,14,21519,13,21526,0,11211]
[12,21643,13,21654,24,21663,14,21671,13,21684,0,11211]
[12,21809,13,21821,13,21858,14,21871,13,21885,0,11111]
[12,21986,13,21997,24,22006,14,22018,13,22028,0,11211]
[12,22140,24,22158,13,22167,23,22181,13,22201,0,12121]
[12,22344,13,22367,13,22378,14,22390,24,22408,0,11112]
[12,22524,13,22534,24,22544,14,22552,13,22567,0,11211]
[12,22692,13,22702,13,22711,14,22722,13,22730,0,11111]
[12,22831,13,22860,13,22873,14,22881,24,22892,0,11112]
[12,23019,24,23029,13,23037,14,23055,24,23068,0,12112]
[12,23206,13,23218,24,23228,14,23246,13,23263,0,11211]
[12,23366,13,23376,13,23387,23,23397,13,23407,0,11121]
[12,23511,13,23519,13,23528,14,23541,13,23549,0,11111]
[12,23651,13,23664,13,23684,14,23691,13,23710,0,11111]
[12,23830,13,23853,13,23888,14,23905,13,23916,null,11111]

{"sheet":"!MA08920.010","index":11,"n_rows":135,"n_cols":48,"rows_kept":135,"cut":false,"hidden":false,"merged":[[4,39,4,42],[5,39,5,40],[4,44,4,47],[5,44,5,45],[4,24,4,27],[5,24,5,25],[4,29,4,32],[5,29,5,30],[4,34,4,37],[5,34,5,35],[1,1,1,2],[5,13,5,14],[42,13,42,14],[43,13,43,14],[4,19,4,22],[5,19,5,20]]}
["Report for:!MA08920.010"]
["Date:","<date>"]
["Hen:","<hen>",null,null,null,"Correct Sequence",{"$f":"Start!J2","v":21121},null,null,null,null,null,null,null,null,"Total Sequences in Data",{"$f":"4994-COUNTBLANK(L7:L5000)","v":129},null,null,null,null,"Total Sequences in Block Data",{"$f":"COUNTA(L7:L28)","v":22},null,null,null,"Total Sequences in Block Data",{"$f":"COUNTA(L29:L49)","v":21},null,null,null,"Total Sequences in Block Data",{"$f":"COUNTA(L50:L71)","v":22},null,null,null,"Total Sequences in Block Data",{"$f":"COUNTA(L72:L92)","v":21},null,null,null,"Total Sequences in Block Data",{"$f":"COUNTA(L93:L114)","v":22},null,null,null,"Total Sequences in Block Data",{"$f":"COUNTA(L115:L135)","v":21}]
[null,null,null,null,null,null,null,null,null,null,null,null,null,null,null,"Total Sequences in Summary",{"$f":"SUM(O7:O38)","v":128},null,null,null,null,"Total Sequences in Block Summary",{"$f":"SUM(U7:U38)","v":22},null,null,null,"Total Sequences in Block Summary",{"$f":"SUM(Z7:Z38)","v":21},null,null,null,"Total Sequences in Block Summary",{"$f":"SUM(AE7:AE38)","v":22},null,null,null,"Total Sequences in Block Summary",{"$f":"SUM(AJ7:AJ38)","v":21},null,null,null,"Total Sequences in Block Summary",{"$f":"SUM(AO7:AO38)","v":22},null,null,null,"Total Sequences in Block Summary",{"$f":"SUM(AT7:AT38)","v":20}]
[null,null,null,null,null,null,null,null,null,null,null,null,null,null,null,null,null,null,null,"Block 1",null,null,null,null,"Block 2",null,null,null,null,"Block 3",null,null,null,null,"Block 4",null,null,null,null,"Block 5",null,null,null,null,"Block 6"]
["Sequence\nComponent\n1","Time\n1","Sequence\nComponent\n2","Time\n2","Sequence\nComponent\n3","Time\n3","Sequence\nComponent\n4","Time\n4","Sequence\nComponent\n5","Time\n5","Correct?\n0=No 1=Yes","Sequence",null,"Frequency",null,"Relative Frequency","Variability",null,null,"Frequency",null,"Relative Frequency","Variability",null,"Frequency",null,"Relative Frequency","Variability",null,"Frequency",null,"Relative Frequency","Variability",null,"Frequency",null,"Relative Frequency","Variability",null,"Frequency",null,"Relative Frequency","Variability",null,"Frequency",null,"Relative Frequency","Variability"]
[12,14,24,27,24,80,23,118,24,173,0,12222,null,11111,{"$f":"COUNTIF($L$7:$L$500,N7)","v":7},{"$f":"O7/$Q$4","v":5.46875E-2},{"$f":"IF(P7=0,0,(P7*((LOG(P7))/LOG(2))))","v":-0.22928527769997481},null,null,{"$f":"N7","v":11111},{"$f":"COUNTIF(L7:L28,T7)","v":0},{"$f":"U7/(W4-U25)","v":0},{"$f":"IF(V7=0,0,(V7*((LOG(V7))/LOG(2))))","v":0},null,{"$f":"N7","v":11111},{"$f":"COUNTIF(L29:L49,Y7)","v":0},{"$f":"Z7/(AB4-Z25)","v":0},{"$f":"IF(AA7=0,0,(AA7*((LOG(AA7))/LOG(2))))","v":0},null,{"$f":"N7","v":11111},{"$f":"COUNTIF(L50:L71,AD7)","v":2},{"$f":"AE7/(AG4-AE25)","v":9.5238095238095233E-2},{"$f":"IF(AF7=0,0,(AF7*((LOG(AF7))/LOG(2))))","v":-0.32307784978845333},null,{"$f":"N7","v":11111},{"$f":"COUNTIF(L72:L92,AI7)","v":0},{"$f":"AJ7/(AL4-AJ25)","v":0},{"$f":"IF(AK7=0,0,(AK7*((LOG(AK7))/LOG(2))))","v":0},null,{"$f":"N7","v":11111},{"$f":"COUNTIF(L93:L114,AN7)","v":2},{"$f":"AO7/(AQ4-AO25)","v":0.1},{"$f":"IF(AP7=0,0,(AP7*((LOG(AP7))/LOG(2))))","v":-0.33219280948873625},null,{"$f":"N7","v":11111},{"$f":"COUNTIF(L115:L135,AS7)","v":3},{"$f":"AT7/(AV4-AT25)","v":0.1875},{"$f":"IF(AU7=0,0,(AU7*((LOG(AU7))/LOG(2))))","v":-0.45281953111478312}]
[21,328,22,350,13,370,23,385,13,409,0,22121,null,11112,{"$f":"COUNTIF($L$7:$L$500,N8)","v":3},{"$f":"O8/$Q$4","v":2.34375E-2},{"$f":"IF(P8=0,0,(P8*((LOG(P8))/LOG(2))))","v":-0.12691494138934789},null,null,{"$f":"N8","v":11112},{"$f":"COUNTIF(L7:L28,T8)","v":0},{"$f":"U8/(W4-U25)","v":0},{"$f":"IF(V8=0,0,(V8*((LOG(V8))/LOG(2))))","v":0},null,{"$f":"N8","v":11112},{"$f":"COUNTIF(L29:L49,Y8)","v":0},{"$f":"Z8/(AB4-Z25)","v":0},{"$f":"IF(AA8=0,0,(AA8*((LOG(AA8))/LOG(2))))","v":0},null,{"$f":"N8","v":11112},{"$f":"COUNTIF(L50:L71,AD8)","v":0},{"$f":"AE8/(AG4-AE25)","v":0},{"$f":"IF(AF8=0,0,(AF8*((LOG(AF8))/LOG(2))))","v":0},null,{"$f":"N8","v":11112},{"$f":"COUNTIF(L72:L92,AI8)","v":0},{"$f":"AJ8/(AL4-AJ25)","v":0},{"$f":"IF(AK8=0,0,(AK8*((LOG(AK8))/LOG(2))))","v":0},null,{"$f":"N8","v":11112},{"$f":"COUNTIF(L93:L114,AN8)","v":2},{"$f":"AO8/(AQ4-AO25)","v":0.1},{"$f":"IF(AP8=0,0,(AP8*((LOG(AP8))/LOG(2))))","v":-0.33219280948873625},null,{"$f":"N8","v":11112},{"$f":"COUNTIF(L115:L135,AS8)","v":1},{"$f":"AT8/(AV4-AT25)","v":6.25E-2},{"$f":"IF(AU8=0,0,(AU8*((LOG(AU8))/LOG(2))))","v":-0.25}]
[12,565,13,578,13,590,23,604,13,616,0,11121,null,11121,{"$f":"COUNTIF($L$7:$L$500,N9)","v":18},{"$f":"O9/$Q$4","v":0.140625},{"$f":"IF(P9=0,0,(P9*((LOG(P9))/LOG(2))))","v":-0.39797929667217485},null,null,{"$f":"N9","v":11121},{"$f":"COUNTIF(L7:L28,T9)","v":3},{"$f":"U9/(W4-U25)","v":0.14285714285714285},{"$f":"IF(V9=0,0,(V9*((LOG(V9))/LOG(2))))","v":-0.40105070315108626},null,{"$f":"N9","v":11121},{"$f":"COUNTIF(L29:L49,Y9)","v":6},{"$f":"Z9/(AB4-Z25)","v":0.2857142857142857},{"$f":"IF(AA9=0,0,(AA9*((LOG(AA9))/LOG(2))))","v":-0.51638712058788683},null,{"$f":"N9","v":11121},{"$f":"COUNTIF(L50:L71,AD9)","v":2},{"$f":"AE9/(AG4-AE25)","v":9.5238095238095233E-2},{"$f":"IF(AF9=0,0,(AF9*((LOG(AF9))/LOG(2))))","v":-0.32307784978845333},null,{"$f":"N9","v":11121},{"$f":"COUNTIF(L72:L92,AI9)","v":2},{"$f":"AJ9/(AL4-AJ25)","v":0.1},{"$f":"IF(AK9=0,0,(AK9*((LOG(AK9))/LOG(2))))","v":-0.33219280948873625},null,{"$f":"N9","v":11121},{"$f":"COUNTIF(L93:L114,AN9)","v":3},{"$f":"AO9/(AQ4-AO25)","v":0.15},{"$f":"IF(AP9=0,0,(AP9*((LOG(AP9))/LOG(2))))","v":-0.41054483912493089},null,{"$f":"N9","v":11121},{"$f":"COUNTIF(L115:L135,AS9)","v":2},{"$f":"AT9/(AV4-AT25)","v":0.125},{"$f":"IF(AU9=0,0,(AU9*((LOG(AU9))/LOG(2))))","v":-0.375}]
[12,734,13,747,13,759,23,772,13,810,0,11121,null,11122,{"$f":"COUNTIF($L$7:$L$500,N10)","v":0},{"$f":"O10/$Q$4","v":0},{"$f":"IF(P10=0,0,(P10*((LOG(P10))/LOG(2))))","v":0},null,null,{"$f":"N10","v":11122},{"$f":"COUNTIF(L7:L28,T10)","v":0},{"$f":"U10/(W4-U25)","v":0},{"$f":"IF(V10=0,0,(V10*((LOG(V10))/LOG(2))))","v":0},null,{"$f":"N10","v":11122},{"$f":"COUNTIF(L29:L49,Y10)","v":0},{"$f":"Z10/(AB4-Z25)","v":0},{"$f":"IF(AA10=0,0,(AA10*((LOG(AA10))/LOG(2))))","v":0},null,{"$f":"N10","v":11122},{"$f":"COUNTIF(L50:L71,AD10)","v":0},{"$f":"AE10/(AG4-AE25)","v":0},{"$f":"IF(AF10=0,0,(AF10*((LOG(AF10))/LOG(2))))","v":0},null,{"$f":"N10","v":11122},{"$f":"COUNTIF(L72:L92,AI10)","v":0},{"$f":"AJ10/(AL4-AJ25)","v":0},{"$f":"IF(AK10=0,0,(AK10*((LOG(AK10))/LOG(2))))","v":0},null,{"$f":"N10","v":11122},{"$f":"COUNTIF(L93:L114,AN10)","v":0},{"$f":"AO10/(AQ4-AO25)","v":0},{"$f":"IF(AP10=0,0,(AP10*((LOG(AP10))/LOG(2))))","v":0},null,{"$f":"N10","v":11122},{"$f":"COUNTIF(L115:L135,AS10)","v":0},{"$f":"AT10/(AV4-AT25)","v":0},{"$f":"IF(AU10=0,0,(AU10*((LOG(AU10))/LOG(2))))","v":0}]
[12,938,13,954,24,966,14,974,13,990,0,11211,null,11211,{"$f":"COUNTIF($L$7:$L$500,N11)","v":26},{"$f":"O11/$Q$4","v":0.203125},{"$f":"IF(P11=0,0,(P11*((LOG(P11))/LOG(2))))","v":-0.46709818225259064},null,null,{"$f":"N11","v":11211},{"$f":"COUNTIF(L7:L28,T11)","v":3},{"$f":"U11/(W4-U25)","v":0.14285714285714285},{"$f":"IF(V11=0,0,(V11*((LOG(V11))/LOG(2))))","v":-0.40105070315108626},null,{"$f":"N11","v":11211},{"$f":"COUNTIF(L29:L49,Y11)","v":6},{"$f":"Z11/(AB4-Z25)","v":0.2857142857142857},{"$f":"IF(AA11=0,0,(AA11*((LOG(AA11))/LOG(2))))","v":-0.51638712058788683},null,{"$f":"N11","v":11211},{"$f":"COUNTIF(L50:L71,AD11)","v":3},{"$f":"AE11/(AG4-AE25)","v":0.14285714285714285},{"$f":"IF(AF11=0,0,(AF11*((LOG(AF11))/LOG(2))))","v":-0.40105070315108626},null,{"$f":"N11","v":11211},{"$f":"COUNTIF(L72:L92,AI11)","v":6},{"$f":"AJ11/(AL4-AJ25)","v":0.3},{"$f":"IF(AK11=0,0,(AK11*((LOG(AK11))/LOG(2))))","v":-0.52108967824986185},null,{"$f":"N11","v":11211},{"$f":"COUNTIF(L93:L114,AN11)","v":3},{"$f":"AO11/(AQ4-AO25)","v":0.15},{"$f":"IF(AP11=0,0,(AP11*((LOG(AP11))/LOG(2))))","v":-0.41054483912493089},null,{"$f":"N11","v":11211},{"$f":"COUNTIF(L115:L135,AS11)","v":5},{"$f":"AT11/(AV4-AT25)","v":0.3125},{"$f":"IF(AU11=0,0,(AU11*((LOG(AU11))/LOG(2))))","v":-0.52439747034769923}]
[21,1112,11,1121,11,1135,12,1160,13,1173,0,21111,null,11212,{"$f":"COUNTIF($L$7:$L$500,N12)","v":17},{"$f":"O12/$Q$4","v":0.1328125},{"$f":"IF(P12=0,0,(P12*((LOG(P12))/LOG(2))))","v":-0.38682134139643926},null,null,{"$f":"N12","v":11212},{"$f":"COUNTIF(L7:L28,T12)","v":2},{"$f":"U12/(W4-U25)","v":9.5238095238095233E-2},{"$f":"IF(V12=0,0,(V12*((LOG(V12))/LOG(2))))","v":-0.32307784978845333},null,{"$f":"N12","v":11212},{"$f":"COUNTIF(L29:L49,Y12)","v":1},{"$f":"Z12/(AB4-Z25)","v":4.7619047619047616E-2},{"$f":"IF(AA12=0,0,(AA12*((LOG(AA12))/LOG(2))))","v":-0.20915797251327431},null,{"$f":"N12","v":11212},{"$f":"COUNTIF(L50:L71,AD12)","v":3},{"$f":"AE12/(AG4-AE25)","v":0.14285714285714285},{"$f":"IF(AF12=0,0,(AF12*((LOG(AF12))/LOG(2))))","v":-0.40105070315108626},null,{"$f":"N12","v":11212},{"$f":"COUNTIF(L72:L92,AI12)","v":4},{"$f":"AJ12/(AL4-AJ25)","v":0.2},{"$f":"IF(AK12=0,0,(AK12*((LOG(AK12))/LOG(2))))","v":-0.46438561897747244},null,{"$f":"N12","v":11212},{"$f":"COUNTIF(L93:L114,AN12)","v":6},{"$f":"AO12/(AQ4-AO25)","v":0.3},{"$f":"IF(AP12=0,0,(AP12*((LOG(AP12))/LOG(2))))","v":-0.52108967824986185},null,{"$f":"N12","v":11212},{"$f":"COUNTIF(L115:L135,AS12)","v":1},{"$f":"AT12/(AV4-AT25)","v":6.25E-2},{"$f":"IF(AU12=0,0,(AU12*((LOG(AU12))/LOG(2))))","v":-0.25}]
[12,1441,24,1451,13,1463,14,1478,24,1499,0,12112,null,11221,{"$f":"COUNTIF($L$7:$L$500,N13)","v":1},{"$f":"O13/$Q$4","v":7.8125E-3},{"$f":"IF(P13=0,0,(P13*((LOG(P13))/LOG(2))))","v":-5.46875E-2},null,null,{"$f":"N13","v":11221},{"$f":"COUNTIF(L7:L28,T13)","v":0},{"$f":"U13/(W4-U25)","v":0},{"$f":"IF(V13=0,0,(V13*((LOG(V13))/LOG(2))))","v":0},null,{"$f":"N13","v":11221},{"$f":"COUNTIF(L29:L49,Y13)","v":0},{"$f":"Z13/(AB4-Z25)","v":0},{"$f":"IF(AA13=0,0,(AA13*((LOG(AA13))/LOG(2))))","v":0},null,{"$f":"N13","v":11221},{"$f":"COUNTIF(L50:L71,AD13)","v":0},{"$f":"AE13/(AG4-AE25)","v":0},{"$f":"IF(AF13=0,0,(AF13*((LOG(AF13))/LOG(2))))","v":0},null,{"$f":"N13","v":11221},{"$f":"COUNTIF(L72:L92,AI13)","v":0},{"$f":"AJ13/(AL4-AJ25)","v":0},{"$f":"IF(AK13=0,0,(AK13*((LOG(AK13))/LOG(2))))","v":0},null,{"$f":"N13","v":11221},{"$f":"COUNTIF(L93:L114,AN13)","v":1},{"$f":"AO13/(AQ4-AO25)","v":0.05},{"$f":"IF(AP13=0,0,(AP13*((LOG(AP13))/LOG(2))))","v":-0.21609640474436814},null,{"$f":"N13","v":11221},{"$f":"COUNTIF(L115:L135,AS13)","v":0},{"$f":"AT13/(AV4-AT25)","v":0},{"$f":"IF(AU13=0,0,(AU13*((LOG(AU13))/LOG(2))))","v":0}]
[12,1632,24,1643,13,1652,14,1665,13,1691,0,12111,null,11222,{"$f":"COUNTIF($L$7:$L$500,N14)","v":0},{"$f":"O14/$Q$4","v":0},{"$f":"IF(P14=0,0,(P14*((LOG(P14))/LOG(2))))","v":0},null,null,{"$f":"N14","v":11222},{"$f":"COUNTIF(L7:L28,T14)","v":0},{"$f":"U14/(W4-U25)","v":0},{"$f":"IF(V14=0,0,(V14*((LOG(V14))/LOG(2))))","v":0},null,{"$f":"N14","v":11222},{"$f":"COUNTIF(L29:L49,Y14)","v":0},{"$f":"Z14/(AB4-Z25)","v":0},{"$f":"IF(AA14=0,0,(AA14*((LOG(AA14))/LOG(2))))","v":0},null,{"$f":"N14","v":11222},{"$f":"COUNTIF(L50:L71,AD14)","v":0},{"$f":"AE14/(AG4-AE25)","v":0},{"$f":"IF(AF14=0,0,(AF14*((LOG(AF14))/LOG(2))))","v":0},null,{"$f":"N14","v":11222},{"$f":"COUNTIF(L72:L92,AI14)","v":0},{"$f":"AJ14/(AL4-AJ25)","v":0},{"$f":"IF(AK14=0,0,(AK14*((LOG(AK14))/LOG(2))))","v":0},null,{"$f":"N14","v":11222},{"$f":"COUNTIF(L93:L114,AN14)","v":0},{"$f":"AO14/(AQ4-AO25)","v":0},{"$f":"IF(AP14=0,0,(AP14*((LOG(AP14))/LOG(2))))","v":0},null,{"$f":"N14","v":11222},{"$f":"COUNTIF(L115:L135,AS14)","v":0},{"$f":"AT14/(AV4-AT25)","v":0},{"$f":"IF(AU14=0,0,(AU14*((LOG(AU14))/LOG(2))))","v":0}]
[12,1808,24,1818,13,1826,14,1839,24,1853,0,12112,null,12111,{"$f":"COUNTIF($L$7:$L$500,N15)","v":6},{"$f":"O15/$Q$4","v":4.6875E-2},{"$f":"IF(P15=0,0,(P15*((LOG(P15))/LOG(2))))","v":-0.20695488277869581},null,null,{"$f":"N15","v":12111},{"$f":"COUNTIF(L7:L28,T15)","v":1},{"$f":"U15/(W4-U25)","v":4.7619047619047616E-2},{"$f":"IF(V15=0,0,(V15*((LOG(V15))/LOG(2))))","v":-0.20915797251327431},null,{"$f":"N15","v":12111},{"$f":"COUNTIF(L29:L49,Y15)","v":1},{"$f":"Z15/(AB4-Z25)","v":4.7619047619047616E-2},{"$f":"IF(AA15=0,0,(AA15*((LOG(AA15))/LOG(2))))","v":-0.20915797251327431},null,{"$f":"N15","v":12111},{"$f":"COUNTIF(L50:L71,AD15)","v":3},{"$f":"AE15/(AG4-AE25)","v":0.14285714285714285},{"$f":"IF(AF15=0,0,(AF15*((LOG(AF15))/LOG(2))))","v":-0.40105070315108626},null,{"$f":"N15","v":12111},{"$f":"COUNTIF(L72:L92,AI15)","v":0},{"$f":"AJ15/(AL4-AJ25)","v":0},{"$f":"IF(AK15=0,0,(AK15*((LOG(AK15))/LOG(2))))","v":0},null,{"$f":"N15","v":12111},{"$f":"COUNTIF(L93:L114,AN15)","v":0},{"$f":"AO15/(AQ4-AO25)","v":0},{"$f":"IF(AP15=0,0,(AP15*((LOG(AP15))/LOG(2))))","v":0},null,{"$f":"N15","v":12111},{"$f":"COUNTIF(L115:L135,AS15)","v":1},{"$f":"AT15/(AV4-AT25)","v":6.25E-2},{"$f":"IF(AU15=0,0,(AU15*((LOG(AU15))/LOG(2))))","v":-0.25}]
[21,1954,11,1963,22,1972,14,1981,13,2000,0,21211,null,12112,{"$f":"COUNTIF($L$7:$L$500,N16)","v":5},{"$f":"O16/$Q$4","v":3.90625E-2},{"$f":"IF(P16=0,0,(P16*((LOG(P16))/LOG(2))))","v":-0.1827371837934624},null,null,{"$f":"N16","v":12112},{"$f":"COUNTIF(L7:L28,T16)","v":2},{"$f":"U16/(W4-U25)","v":9.5238095238095233E-2},{"$f":"IF(V16=0,0,(V16*((LOG(V16))/LOG(2))))","v":-0.32307784978845333},null,{"$f":"N16","v":12112},{"$f":"COUNTIF(L29:L49,Y16)","v":2},{"$f":"Z16/(AB4-Z25)","v":9.5238095238095233E-2},{"$f":"IF(AA16=0,0,(AA16*((LOG(AA16))/LOG(2))))","v":-0.32307784978845333},null,{"$f":"N16","v":12112},{"$f":"COUNTIF(L50:L71,AD16)","v":1},{"$f":"AE16/(AG4-AE25)","v":4.7619047619047616E-2},{"$f":"IF(AF16=0,0,(AF16*((LOG(AF16))/LOG(2))))","v":-0.20915797251327431},null,{"$f":"N16","v":12112},{"$f":"COUNTIF(L72:L92,AI16)","v":0},{"$f":"AJ16/(AL4-AJ25)","v":0},{"$f":"IF(AK16=0,0,(AK16*((LOG(AK16))/LOG(2))))","v":0},null,{"$f":"N16","v":12112},{"$f":"COUNTIF(L93:L114,AN16)","v":0},{"$f":"AO16/(AQ4-AO25)","v":0},{"$f":"IF(AP16=0,0,(AP16*((LOG(AP16))/LOG(2))))","v":0},null,{"$f":"N16","v":12112},{"$f":"COUNTIF(L115:L135,AS16)","v":0},{"$f":"AT16/(AV4-AT25)","v":0},{"$f":"IF(AU16=0,0,(AU16*((LOG(AU16))/LOG(2))))","v":0}]
[21,2109,22,2125,13,2134,23,2148,13,2156,0,22121,null,12121,{"$f":"COUNTIF($L$7:$L$500,N17)","v":9},{"$f":"O17/$Q$4","v":7.03125E-2},{"$f":"IF(P17=0,0,(P17*((LOG(P17))/LOG(2))))","v":-0.26930214833608745},null,null,{"$f":"N17","v":12121},{"$f":"COUNTIF(L7:L28,T17)","v":2},{"$f":"U17/(W4-U25)","v":9.5238095238095233E-2},{"$f":"IF(V17=0,0,(V17*((LOG(V17))/LOG(2))))","v":-0.32307784978845333},null,{"$f":"N17","v":12121},{"$f":"COUNTIF(L29:L49,Y17)","v":3},{"$f":"Z17/(AB4-Z25)","v":0.14285714285714285},{"$f":"IF(AA17=0,0,(AA17*((LOG(AA17))/LOG(2))))","v":-0.40105070315108626},null,{"$f":"N17","v":12121},{"$f":"COUNTIF(L50:L71,AD17)","v":2},{"$f":"AE17/(AG4-AE25)","v":9.5238095238095233E-2},{"$f":"IF(AF17=0,0,(AF17*((LOG(AF17))/LOG(2))))","v":-0.32307784978845333},null,{"$f":"N17","v":12121},{"$f":"COUNTIF(L72:L92,AI17)","v":0},{"$f":"AJ17/(AL4-AJ25)","v":0},{"$f":"IF(AK17=0,0,(AK17*((LOG(AK17))/LOG(2))))","v":0},null,{"$f":"N17","v":12121},{"$f":"COUNTIF(L93:L114,AN17)","v":2},{"$f":"AO17/(AQ4-AO25)","v":0.1},{"$f":"IF(AP17=0,0,(AP17*((LOG(AP17))/LOG(2))))","v":-0.33219280948873625},null,{"$f":"N17","v":12121},{"$f":"COUNTIF(L115:L135,AS17)","v":0},{"$f":"AT17/(AV4-AT25)","v":0},{"$f":"IF(AU17=0,0,(AU17*((LOG(AU17))/LOG(2))))","v":0}]
[12,2266,13,2278,24,2291,14,2307,13,2350,0,11211,null,12122,{"$f":"COUNTIF($L$7:$L$500,N18)","v":3},{"$f":"O18/$Q$4","v":2.34375E-2},{"$f":"IF(P18=0,0,(P18*((LOG(P18))/LOG(2))))","v":-0.12691494138934789},null,null,{"$f":"N18","v":12122},{"$f":"COUNTIF(L7:L28,T18)","v":0},{"$f":"U18/(W4-U25)","v":0},{"$f":"IF(V18=0,0,(V18*((LOG(V18))/LOG(2))))","v":0},null,{"$f":"N18","v":12122},{"$f":"COUNTIF(L29:L49,Y18)","v":0},{"$f":"Z18/(AB4-Z25)","v":0},{"$f":"IF(AA18=0,0,(AA18*((LOG(AA18))/LOG(2))))","v":0},null,{"$f":"N18","v":12122},{"$f":"COUNTIF(L50:L71,AD18)","v":1},{"$f":"AE18/(AG4-AE25)","v":4.7619047619047616E-2},{"$f":"IF(AF18=0,0,(AF18*((LOG(AF18))/LOG(2))))","v":-0.20915797251327431},null,{"$f":"N18","v":12122},{"$f":"COUNTIF(L72:L92,AI18)","v":1},{"$f":"AJ18/(AL4-AJ25)","v":0.05},{"$f":"IF(AK18=0,0,(AK18*((LOG(AK18))/LOG(2))))","v":-0.21609640474436814},null,{"$f":"N18","v":12122},{"$f":"COUNTIF(L93:L114,AN18)","v":1},{"$f":"AO18/(AQ4-AO25)","v":0.05},{"$f":"IF(AP18=0,0,(AP18*((LOG(AP18))/LOG(2))))","v":-0.21609640474436814},null,{"$f":"N18","v":12122},{"$f":"COUNTIF(L115:L135,AS18)","v":0},{"$f":"AT18/(AV4-AT25)","v":0},{"$f":"IF(AU18=0,0,(AU18*((LOG(AU18))/LOG(2))))","v":0}]
[21,2462,11,2470,22,2482,14,2491,24,2521,0,21212,null,12211,{"$f":"COUNTIF($L$7:$L$500,N19)","v":0},{"$f":"O19/$Q$4","v":0},{"$f":"IF(P19=0,0,(P19*((LOG(P19))/LOG(2))))","v":0},null,null,{"$f":"N19","v":12211},{"$f":"COUNTIF(L7:L28,T19)","v":0},{"$f":"U19/(W4-U25)","v":0},{"$f":"IF(V19=0,0,(V19*((LOG(V19))/LOG(2))))","v":0},null,{"$f":"N19","v":12211},{"$f":"COUNTIF(L29:L49,Y19)","v":0},{"$f":"Z19/(AB4-Z25)","v":0},{"$f":"IF(AA19=0,0,(AA19*((LOG(AA19))/LOG(2))))","v":0},null,{"$f":"N19","v":12211},{"$f":"COUNTIF(L50:L71,AD19)","v":0},{"$f":"AE19/(AG4-AE25)","v":0},{"$f":"IF(AF19=0,0,(AF19*((LOG(AF19))/LOG(2))))","v":0},null,{"$f":"N19","v":12211},{"$f":"COUNTIF(L72:L92,AI19)","v":0},{"$f":"AJ19/(AL4-AJ25)","v":0},{"$f":"IF(AK19=0,0,(AK19*((LOG(AK19))/LOG(2))))","v":0},null,{"$f":"N19","v":12211},{"$f":"COUNTIF(L93:L114,AN19)","v":0},{"$f":"AO19/(AQ4-AO25)","v":0},{"$f":"IF(AP19=0,0,(AP19*((LOG(AP19))/LOG(2))))","v":0},null,{"$f":"N19","v":12211},{"$f":"COUNTIF(L115:L135,AS19)","v":0},{"$f":"AT19/(AV4-AT25)","v":0},{"$f":"IF(AU19=0,0,(AU19*((LOG(AU19))/LOG(2))))","v":0}]
[21,2621,11,2630,22,2638,14,2647,24,2660,0,21212,null,12212,{"$f":"COUNTIF($L$7:$L$500,N20)","v":0},{"$f":"O20/$Q$4","v":0},{"$f":"IF(P20=0,0,(P20*((LOG(P20))/LOG(2))))","v":0},null,null,{"$f":"N20","v":12212},{"$f":"COUNTIF(L7:L28,T20)","v":0},{"$f":"U20/(W4-U25)","v":0},{"$f":"IF(V20=0,0,(V20*((LOG(V20))/LOG(2))))","v":0},null,{"$f":"N20","v":12212},{"$f":"COUNTIF(L29:L49,Y20)","v":0},{"$f":"Z20/(AB4-Z25)","v":0},{"$f":"IF(AA20=0,0,(AA20*((LOG(AA20))/LOG(2))))","v":0},null,{"$f":"N20","v":12212},{"$f":"COUNTIF(L50:L71,AD20)","v":0},{"$f":"AE20/(AG4-AE25)","v":0},{"$f":"IF(AF20=0,0,(AF20*((LOG(AF20))/LOG(2))))","v":0},null,{"$f":"N20","v":12212},{"$f":"COUNTIF(L72:L92,AI20)","v":0},{"$f":"AJ20/(AL4-AJ25)","v":0},{"$f":"IF(AK20=0,0,(AK20*((LOG(AK20))/LOG(2))))","v":0},null,{"$f":"N20","v":12212},{"$f":"COUNTIF(L93:L114,AN20)","v":0},{"$f":"AO20/(AQ4-AO25)","v":0},{"$f":"IF(AP20=0,0,(AP20*((LOG(AP20))/LOG(2))))","v":0},null,{"$f":"N20","v":12212},{"$f":"COUNTIF(L115:L135,AS20)","v":0},{"$f":"AT20/(AV4-AT25)","v":0},{"$f":"IF(AU20=0,0,(AU20*((LOG(AU20))/LOG(2))))","v":0}]
[21,2778,11,2787,22,2796,14,2807,13,2829,0,21211,null,12221,{"$f":"COUNTIF($L$7:$L$500,N21)","v":0},{"$f":"O21/$Q$4","v":0},{"$f":"IF(P21=0,0,(P21*((LOG(P21))/LOG(2))))","v":0},null,null,{"$f":"N21","v":12221},{"$f":"COUNTIF(L7:L28,T21)","v":0},{"$f":"U21/(W4-U25)","v":0},{"$f":"IF(V21=0,0,(V21*((LOG(V21))/LOG(2))))","v":0},null,{"$f":"N21","v":12221},{"$f":"COUNTIF(L29:L49,Y21)","v":0},{"$f":"Z21/(AB4-Z25)","v":0},{"$f":"IF(AA21=0,0,(AA21*((LOG(AA21))/LOG(2))))","v":0},null,{"$f":"N21","v":12221},{"$f":"COUNTIF(L50:L71,AD21)","v":0},{"$f":"AE21/(AG4-AE25)","v":0},{"$f":"IF(AF21=0,0,(AF21*((LOG(AF21))/LOG(2))))","v":0},null,{"$f":"N21","v":12221},{"$f":"COUNTIF(L72:L92,AI21)","v":0},{"$f":"AJ21/(AL4-AJ25)","v":0},{"$f":"IF(AK21=0,0,(AK21*((LOG(AK21))/LOG(2))))","v":0},null,{"$f":"N21","v":12221},{"$f":"COUNTIF(L93:L114,AN21)","v":0},{"$f":"AO21/(AQ4-AO25)","v":0},{"$f":"IF(AP21=0,0,(AP21*((LOG(AP21))/LOG(2))))","v":0},null,{"$f":"N21","v":12221},{"$f":"COUNTIF(L115:L135,AS21)","v":0},{"$f":"AT21/(AV4-AT25)","v":0},{"$f":"IF(AU21=0,0,(AU21*((LOG(AU21))/LOG(2))))","v":0}]
[12,2950,13,2959,24,2968,14,2976,24,2989,0,11212,null,12222,{"$f":"COUNTIF($L$7:$L$500,N22)","v":1},{"$f":"O22/$Q$4","v":7.8125E-3},{"$f":"IF(P22=0,0,(P22*((LOG(P22))/LOG(2))))","v":-5.46875E-2},null,null,{"$f":"N22","v":12222},{"$f":"COUNTIF(L7:L28,T22)","v":1},{"$f":"U22/(W4-U25)","v":4.7619047619047616E-2},{"$f":"IF(V22=0,0,(V22*((LOG(V22))/LOG(2))))","v":-0.20915797251327431},null,{"$f":"N22","v":12222},{"$f":"COUNTIF(L29:L49,Y22)","v":0},{"$f":"Z22/(AB4-Z25)","v":0},{"$f":"IF(AA22=0,0,(AA22*((LOG(AA22))/LOG(2))))","v":0},null,{"$f":"N22","v":12222},{"$f":"COUNTIF(L50:L71,AD22)","v":0},{"$f":"AE22/(AG4-AE25)","v":0},{"$f":"IF(AF22=0,0,(AF22*((LOG(AF22))/LOG(2))))","v":0},null,{"$f":"N22","v":12222},{"$f":"COUNTIF(L72:L92,AI22)","v":0},{"$f":"AJ22/(AL4-AJ25)","v":0},{"$f":"IF(AK22=0,0,(AK22*((LOG(AK22))/LOG(2))))","v":0},null,{"$f":"N22","v":12222},{"$f":"COUNTIF(L93:L114,AN22)","v":0},{"$f":"AO22/(AQ4-AO25)","v":0},{"$f":"IF(AP22=0,0,(AP22*((LOG(AP22))/LOG(2))))","v":0},null,{"$f":"N22","v":12222},{"$f":"COUNTIF(L115:L135,AS22)","v":0},{"$f":"AT22/(AV4-AT25)","v":0},{"$f":"IF(AU22=0,0,(AU22*((LOG(AU22))/LOG(2))))","v":0}]
[12,3163,13,3188,24,3199,14,3219,24,3238,0,11212,null,21111,{"$f":"COUNTIF($L$7:$L$500,N23)","v":3},{"$f":"O23/$Q$4","v":2.34375E-2},{"$f":"IF(P23=0,0,(P23*((LOG(P23))/LOG(2))))","v":-0.12691494138934789},null,null,{"$f":"N23","v":21111},{"$f":"COUNTIF(L7:L28,T23)","v":1},{"$f":"U23/(W4-U25)","v":4.7619047619047616E-2},{"$f":"IF(V23=0,0,(V23*((LOG(V23))/LOG(2))))","v":-0.20915797251327431},null,{"$f":"N23","v":21111},{"$f":"COUNTIF(L29:L49,Y23)","v":0},{"$f":"Z23/(AB4-Z25)","v":0},{"$f":"IF(AA23=0,0,(AA23*((LOG(AA23))/LOG(2))))","v":0},null,{"$f":"N23","v":21111},{"$f":"COUNTIF(L50:L71,AD23)","v":1},{"$f":"AE23/(AG4-AE25)","v":4.7619047619047616E-2},{"$f":"IF(AF23=0,0,(AF23*((LOG(AF23))/LOG(2))))","v":-0.20915797251327431},null,{"$f":"N23","v":21111},{"$f":"COUNTIF(L72:L92,AI23)","v":1},{"$f":"AJ23/(AL4-AJ25)","v":0.05},{"$f":"IF(AK23=0,0,(AK23*((LOG(AK23))/LOG(2))))","v":-0.21609640474436814},null,{"$f":"N23","v":21111},{"$f":"COUNTIF(L93:L114,AN23)","v":0},{"$f":"AO23/(AQ4-AO25)","v":0},{"$f":"IF(AP23=0,0,(AP23*((LOG(AP23))/LOG(2))))","v":0},null,{"$f":"N23","v":21111},{"$f":"COUNTIF(L115:L135,AS23)","v":0},{"$f":"AT23/(AV4-AT25)","v":0},{"$f":"IF(AU23=0,0,(AU23*((LOG(AU23))/LOG(2))))","v":0}]
[12,3360,13,3370,24,3379,14,3392,13,3416,0,11211,null,21112,{"$f":"COUNTIF($L$7:$L$500,N24)","v":0},{"$f":"O24/$Q$4","v":0},{"$f":"IF(P24=0,0,(P24*((LOG(P24))/LOG(2))))","v":0},null,null,{"$f":"N24","v":21112},{"$f":"COUNTIF(L7:L28,T24)","v":0},{"$f":"U24/(W4-U25)","v":0},{"$f":"IF(V24=0,0,(V24*((LOG(V24))/LOG(2))))","v":0},null,{"$f":"N24","v":21112},{"$f":"COUNTIF(L29:L49,Y24)","v":0},{"$f":"Z24/(AB4-Z25)","v":0},{"$f":"IF(AA24=0,0,(AA24*((LOG(AA24))/LOG(2))))","v":0},null,{"$f":"N24","v":21112},{"$f":"COUNTIF(L50:L71,AD24)","v":0},{"$f":"AE24/(AG4-AE25)","v":0},{"$f":"IF(AF24=0,0,(AF24*((LOG(AF24))/LOG(2))))","v":0},null,{"$f":"N24","v":21112},{"$f":"COUNTIF(L72:L92,AI24)","v":0},{"$f":"AJ24/(AL4-AJ25)","v":0},{"$f":"IF(AK24=0,0,(AK24*((LOG(AK24))/LOG(2))))","v":0},null,{"$f":"N24","v":21112},{"$f":"COUNTIF(L93:L114,AN24)","v":0},{"$f":"AO24/(AQ4-AO25)","v":0},{"$f":"IF(AP24=0,0,(AP24*((LOG(AP24))/LOG(2))))","v":0},null,{"$f":"N24","v":21112},{"$f":"COUNTIF(L115:L135,AS24)","v":0},{"$f":"AT24/(AV4-AT25)","v":0},{"$f":"IF(AU24=0,0,(AU24*((LOG(AU24))/LOG(2))))","v":0}]
[12,3537,24,3547,13,3561,23,3591,13,3604,0,12121,null,21121,{"$f":"COUNTIF($L$7:$L$500,N25)","v":9},{"$f":"O25/$Q$4","v":7.03125E-2},{"$f":"IF(P25=0,0,(P25*((LOG(P25))/LOG(2))))","v":-0.26930214833608745},null,null,{"$f":"N25","v":21121},{"$f":"COUNTIF(L7:L28,T25)","v":1},null,null,null,{"$f":"N25","v":21121},{"$f":"COUNTIF(L29:L49,Y25)","v":0},null,null,null,{"$f":"N25","v":21121},{"$f":"COUNTIF(L50:L71,AD25)","v":1},null,null,null,{"$f":"N25","v":21121},{"$f":"COUNTIF(L72:L92,AI25)","v":1},null,null,null,{"$f":"N25","v":21121},{"$f":"COUNTIF(L93:L114,AN25)","v":2},null,null,null,{"$f":"N25","v":21121},{"$f":"COUNTIF(L115:L135,AS25)","v":4}]
[21,3707,11,3731,11,3744,21,3756,11,3769,1,21121,null,21122,{"$f":"COUNTIF($L$7:$L$500,N26)","v":0},{"$f":"O26/$Q$4","v":0},{"$f":"IF(P26=0,0,(P26*((LOG(P26))/LOG(2))))","v":0},null,null,{"$f":"N26","v":21122},{"$f":"COUNTIF(L7:L28,T26)","v":0},{"$f":"U26/(W4-U25)","v":0},{"$f":"IF(V26=0,0,(V26*((LOG(V26))/LOG(2))))","v":0},null,{"$f":"N26","v":21122},{"$f":"COUNTIF(L29:L49,Y26)","v":0},{"$f":"Z26/(AB4-Z25)","v":0},{"$f":"IF(AA26=0,0,(AA26*((LOG(AA26))/LOG(2))))","v":0},null,{"$f":"N26","v":21122},{"$f":"COUNTIF(L50:L71,AD26)","v":0},{"$f":"AE26/(AG4-AE25)","v":0},{"$f":"IF(AF26=0,0,(AF26*((LOG(AF26))/LOG(2))))","v":0},null,{"$f":"N26","v":21122},{"$f":"COUNTIF(L72:L92,AI26)","v":0},{"$f":"AJ26/(AL4-AJ25)","v":0},{"$f":"IF(AK26=0,0,(AK26*((LOG(AK26))/LOG(2))))","v":0},null,{"$f":"N26","v":21122},{"$f":"COUNTIF(L93:L114,AN26)","v":0},{"$f":"AO26/(AQ4-AO25)","v":0},{"$f":"IF(AP26=0,0,(AP26*((LOG(AP26))/LOG(2))))","v":0},null,{"$f":"N26","v":21122},{"$f":"COUNTIF(L115:L135,AS26)","v":0},{"$f":"AT26/(AV4-AT25)","v":0},{"$f":"IF(AU26=0,0,(AU26*((LOG(AU26))/LOG(2))))","v":0}]
[12,3875,24,3884,13,3916,23,3928,13,3945,0,12121,null,21211,{"$f":"COUNTIF($L$7:$L$500,N27)","v":7},{"$f":"O27/$Q$4","v":5.46875E-2},{"$f":"IF(P27=0,0,(P27*((LOG(P27))/LOG(2))))","v":-0.22928527769997481},null,null,{"$f":"N27","v":21211},{"$f":"COUNTIF(L7:L28,T27)","v":2},{"$f":"U27/(W4-U25)","v":9.5238095238095233E-2},{"$f":"IF(V27=0,0,(V27*((LOG(V27))/LOG(2))))","v":-0.32307784978845333},null,{"$f":"N27","v":21211},{"$f":"COUNTIF(L29:L49,Y27)","v":0},{"$f":"Z27/(AB4-Z25)","v":0},{"$f":"IF(AA27=0,0,(AA27*((LOG(AA27))/LOG(2))))","v":0},null,{"$f":"N27","v":21211},{"$f":"COUNTIF(L50:L71,AD27)","v":1},{"$f":"AE27/(AG4-AE25)","v":4.7619047619047616E-2},{"$f":"IF(AF27=0,0,(AF27*((LOG(AF27))/LOG(2))))","v":-0.20915797251327431},null,{"$f":"N27","v":21211},{"$f":"COUNTIF(L72:L92,AI27)","v":4},{"$f":"AJ27/(AL4-AJ25)","v":0.2},{"$f":"IF(AK27=0,0,(AK27*((LOG(AK27))/LOG(2))))","v":-0.46438561897747244},null,{"$f":"N27","v":21211},{"$f":"COUNTIF(L93:L114,AN27)","v":0},{"$f":"AO27/(AQ4-AO25)","v":0},{"$f":"IF(AP27=0,0,(AP27*((LOG(AP27))/LOG(2))))","v":0},null,{"$f":"N27","v":21211},{"$f":"COUNTIF(L115:L135,AS27)","v":0},{"$f":"AT27/(AV4-AT25)","v":0},{"$f":"IF(AU27=0,0,(AU27*((LOG(AU27))/LOG(2))))","v":0}]
[12,4053,13,4082,13,4096,23,4106,13,4117,0,11121,null,21212,{"$f":"COUNTIF($L$7:$L$500,N28)","v":9},{"$f":"O28/$Q$4","v":7.03125E-2},{"$f":"IF(P28=0,0,(P28*((LOG(P28))/LOG(2))))","v":-0.26930214833608745},null,null,{"$f":"N28","v":21212},{"$f":"COUNTIF(L7:L28,T28)","v":2},{"$f":"U28/(W4-U25)","v":9.5238095238095233E-2},{"$f":"IF(V28=0,0,(V28*((LOG(V28))/LOG(2))))","v":-0.32307784978845333},null,{"$f":"N28","v":21212},{"$f":"COUNTIF(L29:L49,Y28)","v":1},{"$f":"Z28/(AB4-Z25)","v":4.7619047619047616E-2},{"$f":"IF(AA28=0,0,(AA28*((LOG(AA28))/LOG(2))))","v":-0.20915797251327431},null,{"$f":"N28","v":21212},{"$f":"COUNTIF(L50:L71,AD28)","v":2},{"$f":"AE28/(AG4-AE25)","v":9.5238095238095233E-2},{"$f":"IF(AF28=0,0,(AF28*((LOG(AF28))/LOG(2))))","v":-0.32307784978845333},null,{"$f":"N28","v":21212},{"$f":"COUNTIF(L72:L92,AI28)","v":1},{"$f":"AJ28/(AL4-AJ25)","v":0.05},{"$f":"IF(AK28=0,0,(AK28*((LOG(AK28))/LOG(2))))","v":-0.21609640474436814},null,{"$f":"N28","v":21212},{"$f":"COUNTIF(L93:L114,AN28)","v":0},{"$f":"AO28/(AQ4-AO25)","v":0},{"$f":"IF(AP28=0,0,(AP28*((LOG(AP28))/LOG(2))))","v":0},null,{"$f":"N28","v":21212},{"$f":"COUNTIF(L115:L135,AS28)","v":3},{"$f":"AT28/(AV4-AT25)","v":0.1875},{"$f":"IF(AU28=0,0,(AU28*((LOG(AU28))/LOG(2))))","v":-0.45281953111478312}]
[21,4275,22,4300,13,4309,23,4321,24,4332,0,22122,null,21221,{"$f":"COUNTIF($L$7:$L$500,N29)","v":0},{"$f":"O29/$Q$4","v":0},{"$f":"IF(P29=0,0,(P29*((LOG(P29))/LOG(2))))","v":0},null,null,{"$f":"N29","v":21221},{"$f":"COUNTIF(L7:L28,T29)","v":0},{"$f":"U29/(W4-U25)","v":0},{"$f":"IF(V29=0,0,(V29*((LOG(V29))/LOG(2))))","v":0},null,{"$f":"N29","v":21221},{"$f":"COUNTIF(L29:L49,Y29)","v":0},{"$f":"Z29/(AB4-Z25)","v":0},{"$f":"IF(AA29=0,0,(AA29*((LOG(AA29))/LOG(2))))","v":0},null,{"$f":"N29","v":21221},{"$f":"COUNTIF(L50:L71,AD29)","v":0},{"$f":"AE29/(AG4-AE25)","v":0},{"$f":"IF(AF29=0,0,(AF29*((LOG(AF29))/LOG(2))))","v":0},null,{"$f":"N29","v":21221},{"$f":"COUNTIF(L72:L92,AI29)","v":0},{"$f":"AJ29/(AL4-AJ25)","v":0},{"$f":"IF(AK29=0,0,(AK29*((LOG(AK29))/LOG(2))))","v":0},null,{"$f":"N29","v":21221},{"$f":"COUNTIF(L93:L114,AN29)","v":0},{"$f":"AO29/(AQ4-AO25)","v":0},{"$f":"IF(AP29=0,0,(AP29*((LOG(AP29))/LOG(2))))","v":0},null,{"$f":"N29","v":21221},{"$f":"COUNTIF(L115:L135,AS29)","v":0},{"$f":"AT29/(AV4-AT25)","v":0},{"$f":"IF(AU29=0,0,(AU29*((LOG(AU29))/LOG(2))))","v":0}]
[12,4449,13,4461,24,4469,14,4496,24,4513,0,11212,null,21222,{"$f":"COUNTIF($L$7:$L$500,N30)","v":0},{"$f":"O30/$Q$4","v":0},{"$f":"IF(P30=0,0,(P30*((LOG(P30))/LOG(2))))","v":0},null,null,{"$f":"N30","v":21222},{"$f":"COUNTIF(L7:L28,T30)","v":0},{"$f":"U30/(W4-U25)","v":0},{"$f":"IF(V30=0,0,(V30*((LOG(V30))/LOG(2))))","v":0},null,{"$f":"N30","v":21222},{"$f":"COUNTIF(L29:L49,Y30)","v":0},{"$f":"Z30/(AB4-Z25)","v":0},{"$f":"IF(AA30=0,0,(AA30*((LOG(AA30))/LOG(2))))","v":0},null,{"$f":"N30","v":21222},{"$f":"COUNTIF(L50:L71,AD30)","v":0},{"$f":"AE30/(AG4-AE25)","v":0},{"$f":"IF(AF30=0,0,(AF30*((LOG(AF30))/LOG(2))))","v":0},null,{"$f":"N30","v":21222},{"$f":"COUNTIF(L72:L92,AI30)","v":0},{"$f":"AJ30/(AL4-AJ25)","v":0},{"$f":"IF(AK30=0,0,(AK30*((LOG(AK30))/LOG(2))))","v":0},null,{"$f":"N30","v":21222},{"$f":"COUNTIF(L93:L114,AN30)","v":0},{"$f":"AO30/(AQ4-AO25)","v":0},{"$f":"IF(AP30=0,0,(AP30*((LOG(AP30))/LOG(2))))","v":0},null,{"$f":"N30","v":21222},{"$f":"COUNTIF(L115:L135,AS30)","v":0},{"$f":"AT30/(AV4-AT25)","v":0},{"$f":"IF(AU30=0,0,(AU30*((LOG(AU30))/LOG(2))))","v":0}]
[12,4633,24,4642,13,4654,14,4678,24,4706,0,12112,null,22111,{"$f":"COUNTIF($L$7:$L$500,N31)","v":0},{"$f":"O31/$Q$4","v":0},{"$f":"IF(P31=0,0,(P31*((LOG(P31))/LOG(2))))","v":0},null,null,{"$f":"N31","v":22111},{"$f":"COUNTIF(L7:L28,T31)","v":0},{"$f":"U31/(W4-U25)","v":0},{"$f":"IF(V31=0,0,(V31*((LOG(V31))/LOG(2))))","v":0},null,{"$f":"N31","v":22111},{"$f":"COUNTIF(L29:L49,Y31)","v":0},{"$f":"Z31/(AB4-Z25)","v":0},{"$f":"IF(AA31=0,0,(AA31*((LOG(AA31))/LOG(2))))","v":0},null,{"$f":"N31","v":22111},{"$f":"COUNTIF(L50:L71,AD31)","v":0},{"$f":"AE31/(AG4-AE25)","v":0},{"$f":"IF(AF31=0,0,(AF31*((LOG(AF31))/LOG(2))))","v":0},null,{"$f":"N31","v":22111},{"$f":"COUNTIF(L72:L92,AI31)","v":0},{"$f":"AJ31/(AL4-AJ25)","v":0},{"$f":"IF(AK31=0,0,(AK31*((LOG(AK31))/LOG(2))))","v":0},null,{"$f":"N31","v":22111},{"$f":"COUNTIF(L93:L114,AN31)","v":0},{"$f":"AO31/(AQ4-AO25)","v":0},{"$f":"IF(AP31=0,0,(AP31*((LOG(AP31))/LOG(2))))","v":0},null,{"$f":"N31","v":22111},{"$f":"COUNTIF(L115:L135,AS31)","v":0},{"$f":"AT31/(AV4-AT25)","v":0},{"$f":"IF(AU31=0,0,(AU31*((LOG(AU31))/LOG(2))))","v":0}]
[12,4913,13,4930,24,4940,14,4954,13,4977,0,11211,null,22112,{"$f":"COUNTIF($L$7:$L$500,N32)","v":0},{"$f":"O32/$Q$4","v":0},{"$f":"IF(P32=0,0,(P32*((LOG(P32))/LOG(2))))","v":0},null,null,{"$f":"N32","v":22112},{"$f":"COUNTIF(L7:L28,T32)","v":0},{"$f":"U32/(W4-U25)","v":0},{"$f":"IF(V32=0,0,(V32*((LOG(V32))/LOG(2))))","v":0},null,{"$f":"N32","v":22112},{"$f":"COUNTIF(L29:L49,Y32)","v":0},{"$f":"Z32/(AB4-Z25)","v":0},{"$f":"IF(AA32=0,0,(AA32*((LOG(AA32))/LOG(2))))","v":0},null,{"$f":"N32","v":22112},{"$f":"COUNTIF(L50:L71,AD32)","v":0},{"$f":"AE32/(AG4-AE25)","v":0},{"$f":"IF(AF32=0,0,(AF32*((LOG(AF32))/LOG(2))))","v":0},null,{"$f":"N32","v":22112},{"$f":"COUNTIF(L72:L92,AI32)","v":0},{"$f":"AJ32/(AL4-AJ25)","v":0},{"$f":"IF(AK32=0,0,(AK32*((LOG(AK32))/LOG(2))))","v":0},null,{"$f":"N32","v":22112},{"$f":"COUNTIF(L93:L114,AN32)","v":0},{"$f":"AO32/(AQ4-AO25)","v":0},{"$f":"IF(AP32=0,0,(AP32*((LOG(AP32))/LOG(2))))","v":0},null,{"$f":"N32","v":22112},{"$f":"COUNTIF(L115:L135,AS32)","v":0},{"$f":"AT32/(AV4-AT25)","v":0},{"$f":"IF(AU32=0,0,(AU32*((LOG(AU32))/LOG(2))))","v":0}]
[12,5120,13,5133,13,5153,23,5165,13,5177,0,11121,null,22121,{"$f":"COUNTIF($L$7:$L$500,N33)","v":3},{"$f":"O33/$Q$4","v":2.34375E-2},{"$f":"IF(P33=0,0,(P33*((LOG(P33))/LOG(2))))","v":-0.12691494138934789},null,null,{"$f":"N33","v":22121},{"$f":"COUNTIF(L7:L28,T33)","v":2},{"$f":"U33/(W4-U25)","v":9.5238095238095233E-2},{"$f":"IF(V33=0,0,(V33*((LOG(V33))/LOG(2))))","v":-0.32307784978845333},null,{"$f":"N33","v":22121},{"$f":"COUNTIF(L29:L49,Y33)","v":0},{"$f":"Z33/(AB4-Z25)","v":0},{"$f":"IF(AA33=0,0,(AA33*((LOG(AA33))/LOG(2))))","v":0},null,{"$f":"N33","v":22121},{"$f":"COUNTIF(L50:L71,AD33)","v":0},{"$f":"AE33/(AG4-AE25)","v":0},{"$f":"IF(AF33=0,0,(AF33*((LOG(AF33))/LOG(2))))","v":0},null,{"$f":"N33","v":22121},{"$f":"COUNTIF(L72:L92,AI33)","v":1},{"$f":"AJ33/(AL4-AJ25)","v":0.05},{"$f":"IF(AK33=0,0,(AK33*((LOG(AK33))/LOG(2))))","v":-0.21609640474436814},null,{"$f":"N33","v":22121},{"$f":"COUNTIF(L93:L114,AN33)","v":0},{"$f":"AO33/(AQ4-AO25)","v":0},{"$f":"IF(AP33=0,0,(AP33*((LOG(AP33))/LOG(2))))","v":0},null,{"$f":"N33","v":22121},{"$f":"COUNTIF(L115:L135,AS33)","v":0},{"$f":"AT33/(AV4-AT25)","v":0},{"$f":"IF(AU33=0,0,(AU33*((LOG(AU33))/LOG(2))))","v":0}]
[12,5379,24,5388,13,5398,23,5423,13,5434,0,12121,null,22122,{"$f":"COUNTIF($L$7:$L$500,N34)","v":1},{"$f":"O34/$Q$4","v":7.8125E-3},{"$f":"IF(P34=0,0,(P34*((LOG(P34))/LOG(2))))","v":-5.46875E-2},null,null,{"$f":"N34","v":22122},{"$f":"COUNTIF(L7:L28,T34)","v":0},{"$f":"U34/(W4-U25)","v":0},{"$f":"IF(V34=0,0,(V34*((LOG(V34))/LOG(2))))","v":0},null,{"$f":"N34","v":22122},{"$f":"COUNTIF(L29:L49,Y34)","v":1},{"$f":"Z34/(AB4-Z25)","v":4.7619047619047616E-2},{"$f":"IF(AA34=0,0,(AA34*((LOG(AA34))/LOG(2))))","v":-0.20915797251327431},null,{"$f":"N34","v":22122},{"$f":"COUNTIF(L50:L71,AD34)","v":0},{"$f":"AE34/(AG4-AE25)","v":0},{"$f":"IF(AF34=0,0,(AF34*((LOG(AF34))/LOG(2))))","v":0},null,{"$f":"N34","v":22122},{"$f":"COUNTIF(L72:L92,AI34)","v":0},{"$f":"AJ34/(AL4-AJ25)","v":0},{"$f":"IF(AK34=0,0,(AK34*((LOG(AK34))/LOG(2))))","v":0},null,{"$f":"N34","v":22122},{"$f":"COUNTIF(L93:L114,AN34)","v":0},{"$f":"AO34/(AQ4-AO25)","v":0},{"$f":"IF(AP34=0,0,(AP34*((LOG(AP34))/LOG(2))))","v":0},null,{"$f":"N34","v":22122},{"$f":"COUNTIF(L115:L135,AS34)","v":0},{"$f":"AT34/(AV4-AT25)","v":0},{"$f":"IF(AU34=0,0,(AU34*((LOG(AU34))/LOG(2))))","v":0}]
[21,5543,11,5569,22,5578,14,5597,24,5608,0,21212,null,22211,{"$f":"COUNTIF($L$7:$L$500,N35)","v":0},{"$f":"O35/$Q$4","v":0},{"$f":"IF(P35=0,0,(P35*((LOG(P35))/LOG(2))))","v":0},null,null,{"$f":"N35","v":22211},{"$f":"COUNTIF(L7:L28,T35)","v":0},{"$f":"U35/(W4-U25)","v":0},{"$f":"IF(V35=0,0,(V35*((LOG(V35))/LOG(2))))","v":0},null,{"$f":"N35","v":22211},{"$f":"COUNTIF(L29:L49,Y35)","v":0},{"$f":"Z35/(AB4-Z25)","v":0},{"$f":"IF(AA35=0,0,(AA35*((LOG(AA35))/LOG(2))))","v":0},null,{"$f":"N35","v":22211},{"$f":"COUNTIF(L50:L71,AD35)","v":0},{"$f":"AE35/(AG4-AE25)","v":0},{"$f":"IF(AF35=0,0,(AF35*((LOG(AF35))/LOG(2))))","v":0},null,{"$f":"N35","v":22211},{"$f":"COUNTIF(L72:L92,AI35)","v":0},{"$f":"AJ35/(AL4-AJ25)","v":0},{"$f":"IF(AK35=0,0,(AK35*((LOG(AK35))/LOG(2))))","v":0},null,{"$f":"N35","v":22211},{"$f":"COUNTIF(L93:L114,AN35)","v":0},{"$f":"AO35/(AQ4-AO25)","v":0},{"$f":"IF(AP35=0,0,(AP35*((LOG(AP35))/LOG(2))))","v":0},null,{"$f":"N35","v":22211},{"$f":"COUNTIF(L115:L135,AS35)","v":0},{"$f":"AT35/(AV4-AT25)","v":0},{"$f":"IF(AU35=0,0,(AU35*((LOG(AU35))/LOG(2))))","v":0}]
[12,5756,24,5765,13,5773,14,5790,24,5801,0,12112,null,22212,{"$f":"COUNTIF($L$7:$L$500,N36)","v":0},{"$f":"O36/$Q$4","v":0},{"$f":"IF(P36=0,0,(P36*((LOG(P36))/LOG(2))))","v":0},null,null,{"$f":"N36","v":22212},{"$f":"COUNTIF(L7:L28,T36)","v":0},{"$f":"U36/(W4-U25)","v":0},{"$f":"IF(V36=0,0,(V36*((LOG(V36))/LOG(2))))","v":0},null,{"$f":"N36","v":22212},{"$f":"COUNTIF(L29:L49,Y36)","v":0},{"$f":"Z36/(AB4-Z25)","v":0},{"$f":"IF(AA36=0,0,(AA36*((LOG(AA36))/LOG(2))))","v":0},null,{"$f":"N36","v":22212},{"$f":"COUNTIF(L50:L71,AD36)","v":0},{"$f":"AE36/(AG4-AE25)","v":0},{"$f":"IF(AF36=0,0,(AF36*((LOG(AF36))/LOG(2))))","v":0},null,{"$f":"N36","v":22212},{"$f":"COUNTIF(L72:L92,AI36)","v":0},{"$f":"AJ36/(AL4-AJ25)","v":0},{"$f":"IF(AK36=0,0,(AK36*((LOG(AK36))/LOG(2))))","v":0},null,{"$f":"N36","v":22212},{"$f":"COUNTIF(L93:L114,AN36)","v":0},{"$f":"AO36/(AQ4-AO25)","v":0},{"$f":"IF(AP36=0,0,(AP36*((LOG(AP36))/LOG(2))))","v":0},null,{"$f":"N36","v":22212},{"$f":"COUNTIF(L115:L135,AS36)","v":0},{"$f":"AT36/(AV4-AT25)","v":0},{"$f":"IF(AU36=0,0,(AU36*((LOG(AU36))/LOG(2))))","v":0}]
[12,5934,13,5946,13,5969,23,5987,13,5999,0,11121,null,22221,{"$f":"COUNTIF($L$7:$L$500,N37)","v":0},{"$f":"O37/$Q$4","v":0},{"$f":"IF(P37=0,0,(P37*((LOG(P37))/LOG(2))))","v":0},null,null,{"$f":"N37","v":22221},{"$f":"COUNTIF(L7:L28,T37)","v":0},{"$f":"U37/(W4-U25)","v":0},{"$f":"IF(V37=0,0,(V37*((LOG(V37))/LOG(2))))","v":0},null,{"$f":"N37","v":22221},{"$f":"COUNTIF(L29:L49,Y37)","v":0},{"$f":"Z37/(AB4-Z25)","v":0},{"$f":"IF(AA37=0,0,(AA37*((LOG(AA37))/LOG(2))))","v":0},null,{"$f":"N37","v":22221},{"$f":"COUNTIF(L50:L71,AD37)","v":0},{"$f":"AE37/(AG4-AE25)","v":0},{"$f":"IF(AF37=0,0,(AF37*((LOG(AF37))/LOG(2))))","v":0},null,{"$f":"N37","v":22221},{"$f":"COUNTIF(L72:L92,AI37)","v":0},{"$f":"AJ37/(AL4-AJ25)","v":0},{"$f":"IF(AK37=0,0,(AK37*((LOG(AK37))/LOG(2))))","v":0},null,{"$f":"N37","v":22221},{"$f":"COUNTIF(L93:L114,AN37)","v":0},{"$f":"AO37/(AQ4-AO25)","v":0},{"$f":"IF(AP37=0,0,(AP37*((LOG(AP37))/LOG(2))))","v":0},null,{"$f":"N37","v":22221},{"$f":"COUNTIF(L115:L135,AS37)","v":0},{"$f":"AT37/(AV4-AT25)","v":0},{"$f":"IF(AU37=0,0,(AU37*((LOG(AU37))/LOG(2))))","v":0}]
[12,6122,24,6131,13,6139,14,6163,13,6171,0,12111,null,22222,{"$f":"COUNTIF($L$7:$L$500,N38)","v":0},{"$f":"O38/$Q$4","v":0},{"$f":"IF(P38=0,0,(P38*((LOG(P38))/LOG(2))))","v":0},null,null,{"$f":"N38","v":22222},{"$f":"COUNTIF(L7:L28,T38)","v":0},{"$f":"U38/(W4-U25)","v":0},{"$f":"IF(V38=0,0,(V38*((LOG(V38))/LOG(2))))","v":0},null,{"$f":"N38","v":22222},{"$f":"COUNTIF(L29:L49,Y38)","v":0},{"$f":"Z38/(AB4-Z25)","v":0},{"$f":"IF(AA38=0,0,(AA38*((LOG(AA38))/LOG(2))))","v":0},null,{"$f":"N38","v":22222},{"$f":"COUNTIF(L50:L71,AD38)","v":0},{"$f":"AE38/(AG4-AE25)","v":0},{"$f":"IF(AF38=0,0,(AF38*((LOG(AF38))/LOG(2))))","v":0},null,{"$f":"N38","v":22222},{"$f":"COUNTIF(L72:L92,AI38)","v":0},{"$f":"AJ38/(AL4-AJ25)","v":0},{"$f":"IF(AK38=0,0,(AK38*((LOG(AK38))/LOG(2))))","v":0},null,{"$f":"N38","v":22222},{"$f":"COUNTIF(L93:L114,AN38)","v":0},{"$f":"AO38/(AQ4-AO25)","v":0},{"$f":"IF(AP38=0,0,(AP38*((LOG(AP38))/LOG(2))))","v":0},null,{"$f":"N38","v":22222},{"$f":"COUNTIF(L115:L135,AS38)","v":0},{"$f":"AT38/(AV4-AT25)","v":0},{"$f":"IF(AU38=0,0,(AU38*((LOG(AU38))/LOG(2))))","v":0}]
[12,6302,24,6312,13,6320,23,6333,13,6342,0,12121,null,null,null,{"$f":"SUM(P7:P38)","v":1},{"$f":"-SUM(Q7:Q38)","v":3.5797901528589673},null,null,null,null,{"$f":"SUM(V7:V38)","v":0.99999999999999989},{"$f":"-SUM(W7:W38)","v":3.3680424225727155},null,null,null,{"$f":"SUM(AA7:AA38)","v":1.0000000000000002},{"$f":"-SUM(AB7:AB38)","v":2.5935346841684104},null,null,null,{"$f":"SUM(AF7:AF38)","v":1},{"$f":"-SUM(AG7:AG38)","v":3.3320953986601691},null,null,null,{"$f":"SUM(AK7:AK38)","v":1.0000000000000002},{"$f":"-SUM(AL7:AL38)","v":2.6464393446710153},null,null,null,{"$f":"SUM(AP7:AP38)","v":1},{"$f":"-SUM(AQ7:AQ38)","v":2.7709505944546682},null,null,null,{"$f":"SUM(AU7:AU38)","v":1},{"$f":"-SUM(AV7:AV38)","v":2.5550365325772653}]
[12,6455,13,6465,24,6489,14,6499,13,6516,0,11211,null,null,null,"U=",{"$f":"Q39/(LOG(Q4)/LOG(2))","v":0.5113985932655668},null,null,null,null,"U1=",{"$f":"W39/(LOG(W4)/LOG(2))","v":0.75526271296473291},null,null,null,"U2=",{"$f":"AB39/(LOG(AB4)/LOG(2))","v":0.59047068654879542},null,null,null,"U3=",{"$f":"AG39/(LOG(AG4)/LOG(2))","v":0.74720181485334292},null,null,null,"U4=",{"$f":"AL39/(LOG(AL4)/LOG(2))","v":0.60251550376265128},null,null,null,"U5=",{"$f":"AQ39/(LOG(AQ4)/LOG(2))","v":0.62136855801847879},null,null,null,"U6=",{"$f":"AV39/(LOG(AV4)/LOG(2))","v":0.59117978746563438}]
[12,6627,13,6638,24,6647,14,6659,13,6669,0,11211]
[12,6791,13,6805,13,6824,23,6834,13,6844,0,11121]
[12,6993,13,7006,24,7015,14,7025,13,7038,0,11211,null,"Total Target Seq"]
[12,7202,24,7213,13,7233,23,7245,13,7258,0,12121,null,{"$f":"COUNTIF(L7:L135,G3)","v":9},null,22,21,22,21,22,21]
[12,7372,13,7388,24,7397,14,7409,13,7420,0,11211,null,null,null,"% of reinforcement given in 6 equal intervals based on number of trials "]
[12,7528,13,7538,13,7548,23,7560,13,7591,0,11121,null,null,null,"%_1","%_2","%_3","%_4","%_5","%_6"]
[12,7719,13,7730,13,7742,23,7754,13,7771,0,11121,null,null,"target sequence",{"$f":"$G$3","v":21121},{"$f":"$G$3","v":21121},{"$f":"$G$3","v":21121},{"$f":"$G$3","v":21121},{"$f":"$G$3","v":21121},{"$f":"$G$3","v":21121}]
[12,7876,13,7886,24,7895,14,7904,13,7916,0,11211,null,null,"total reinforcement",{"$f":"U25","v":1},{"$f":"Z25","v":0},{"$f":"AE25","v":1},{"$f":"AJ25","v":1},{"$f":"AO25","v":2},{"$f":"AT25","v":4}]
[12,8018,13,8032,13,8045,23,8055,13,8063,0,11121,null,null,"% target"]
[12,8164,13,8189,13,8208,14,8221,13,8234,0,11111,null,null,"CCRF"]
[12,8352,13,8365,13,8379,23,8391,13,8405,0,11121,null,null,"% CCRf"]
[12,8574,13,8606,24,8619,14,8661,13,8673,0,11211,null,null,"average response rate",{"$f":"J28/P44","v":187.13636363636363},{"$f":"(J49-J28)/Q44","v":187.9047619047619},{"$f":"(J71-J49)/R44","v":194.45454545454547},{"$f":"(J92-J71)/S44","v":176.38095238095238},{"$f":"(J114-J92)/T44","v":182.27272727272728},{"$f":"(J135-J114)/U44","v":-955}]
[12,8782,13,8790,24,8801,14,8828,24,8841,0,11212]
[12,8982,13,9003,13,9018,14,9037,13,9059,0,11111]
[21,9180,11,9189,22,9201,14,9213,13,9230,0,21211]
[12,9347,24,9359,13,9371,14,9386,13,9398,0,12111]
[12,9523,13,9532,24,9542,14,9551,13,9564,0,11211]
[12,9730,13,9754,24,9774,14,9782,24,9795,0,11212]
[21,9935,11,9943,11,9975,12,9986,13,10010,0,21111]
[12,10147,24,10155,13,10174,14,10186,24,10222,0,12112]
[12,10342,13,10354,24,10366,14,10376,13,10392,0,11211]
[12,10652,24,10661,13,10669,23,10680,13,10696,0,12121]
[12,10838,13,10858,13,10871,23,10881,13,10903,0,11121]
[12,11048,24,11067,13,11079,23,11088,24,11115,0,12122]
[21,11235,11,11244,22,11255,14,11263,24,11277,0,21212]
[21,11386,11,11406,22,11418,14,11428,24,11455,0,21212]
[12,11583,13,11594,24,11603,14,11612,24,11621,0,11212]
[21,11735,11,11752,11,11761,21,11771,11,11816,1,21121]
[12,11921,24,11931,13,11940,23,11950,13,11959,0,12121]
[12,12106,24,12115,13,12130,14,12144,13,12159,0,12111]
[12,12285,24,12295,13,12304,14,12329,13,12341,0,12111]
[12,12474,13,12486,24,12495,14,12505,24,12518,0,11212]
[21,12624,11,12634,22,12645,14,12663,13,12675,0,21211]
[12,12823,24,12832,13,12842,23,12852,24,12886,0,12122]
[21,12995,11,13011,22,13020,14,13032,13,13045,0,21211]
[21,13160,22,13171,13,13179,23,13189,13,13199,0,22121]
[12,13329,13,13345,24,13354,14,13362,13,13394,0,11211]
[12,13498,13,13516,24,13525,14,13535,13,13551,0,11211]
[12,13659,13,13678,24,13686,14,13695,13,13730,0,11211]
[12,13853,13,13862,24,13872,14,13884,13,13899,0,11211]
[12,14019,13,14033,24,14044,14,14052,24,14065,0,11212]
[12,14208,13,14221,13,14259,23,14273,13,14289,0,11121]
[21,14417,11,14426,11,14435,21,14446,11,14456,1,21121]
[21,14640,11,14649,22,14658,14,14675,13,14687,0,21211]
[12,14792,13,14801,24,14812,14,14822,13,14839,0,11211]
[12,14950,13,14958,24,14967,14,14976,13,14996,0,11211]
[12,15098,13,15122,24,15133,14,15148,24,15161,0,11212]
[12,15275,13,15284,13,15307,23,15319,13,15341,0,11121]
[21,15462,11,15481,22,15490,14,15500,13,15518,0,21211]
[21,15642,11,15651,22,15659,14,15673,24,15685,0,21212]
[12,15792,13,15808,24,15820,14,15829,24,15842,0,11212]
[21,15961,11,15969,11,16013,12,16028,13,16045,0,21111]
[21,16162,11,16171,11,16192,21,16201,11,16212,1,21121]
[12,16324,24,16333,13,16344,23,16354,24,16366,0,12122]
[21,16471,11,16479,11,16490,21,16499,11,16515,1,21121]
[12,16700,13,16718,13,16733,14,16767,24,16781,0,11112]
[12,16912,13,16928,24,16940,14,16967,24,16982,0,11212]
[12,17088,13,17097,24,17106,14,17122,24,17135,0,11212]
[12,17238,13,17247,24,17256,14,17278,24,17292,0,11212]
[12,17421,24,17431,13,17440,23,17451,13,17467,0,12121]
[12,17575,13,17584,24,17594,14,17632,24,17649,0,11212]
[12,17758,13,17771,24,17780,14,17792,24,17807,0,11212]
[12,17958,13,17979,24,17990,23,18012,13,18038,0,11221]
[12,18152,13,18164,24,18175,14,18184,13,18199,0,11211]
[12,18303,13,18311,24,18323,14,18331,13,18344,0,11211]
[12,18464,24,18484,13,18509,23,18518,13,18554,0,12121]
[12,18655,13,18679,24,18688,14,18702,24,18710,0,11212]
[12,18818,13,18827,13,18835,23,18844,13,18863,0,11121]
[12,18965,13,18991,13,19006,14,19013,24,19034,0,11112]
[12,19143,13,19156,13,19168,23,19176,13,19185,0,11121]
[12,19308,13,19327,13,19340,14,19358,13,19374,0,11111]
[12,19478,13,19490,13,19502,23,19514,13,19527,0,11121]
[12,19662,13,19686,24,19698,14,19714,13,19725,0,11211]
[12,19992,13,20008,13,20027,14,20043,13,20055,0,11111]
[12,20199,13,20227,13,20241,14,20256,13,20270,0,11111]
[12,20402,13,20415,24,20427,14,20439,13,20456,0,11211]
[12,20576,13,20588,24,20600,14,20612,13,20626,0,11211]
[12,20795,13,20825,13,20833,14,20851,13,20868,0,11111]
[21,20983,11,20991,11,21003,21,21012,11,21021,1,21121]
[21,21146,11,21180,22,21192,14,21233,24,21242,0,21212]
[12,21362,24,21373,13,21392,14,21406,13,21431,0,12111]
[12,21541,13,21554,13,21568,23,21577,13,21585,0,11121]
[12,21717,13,21740,13,21767,14,21783,13,21793,0,11111]
[12,21932,13,21962,13,21973,14,21990,24,22002,0,11112]
[12,22115,13,22127,24,22136,14,22146,13,22183,0,11211]
[12,22287,13,22295,13,22305,23,22317,13,22326,0,11121]
[21,22426,11,22436,11,22448,21,22458,11,22477,1,21121]
[21,22658,11,22668,22,22681,14,22706,24,22747,0,21212]
[12,22853,13,22862,24,22871,14,22880,24,22893,0,11212]
[12,23002,13,23011,24,23022,14,23033,13,23049,0,11211]
[12,23168,13,23180,24,23190,14,23207,13,23222,0,11211]
[21,23419,11,23429,11,23458,21,23467,11,23509,1,21121]
[21,23626,11,23653,22,23662,14,23671,24,23683,0,21212]
[21,23782,11,23794,11,23814,21,23823,11,23833,1,21121]
[12,23976,24,23987,null,null,null,null,null,null,null,12]

{"sheet":"!MA09940.010","index":12,"n_rows":137,"n_cols":48,"rows_kept":137,"cut":false,"hidden":false,"merged":[[4,39,4,42],[5,39,5,40],[4,44,4,47],[5,44,5,45],[4,24,4,27],[5,24,5,25],[4,29,4,32],[5,29,5,30],[4,34,4,37],[5,34,5,35],[1,1,1,2],[5,13,5,14],[42,13,42,14],[43,13,43,14],[4,19,4,22],[5,19,5,20]]}
["Report for:!MA09940.010"]
["Date:","<date>"]
["Hen:","<hen>",null,null,null,"Correct Sequence",{"$f":"Start!J2","v":21121},null,null,null,null,null,null,null,null,"Total Sequences in Data",{"$f":"4994-COUNTBLANK(L7:L5000)","v":131},null,null,null,null,"Total Sequences in Block Data",{"$f":"COUNTA(L7:L28)","v":22},null,null,null,"Total Sequences in Block Data",{"$f":"COUNTA(L29:L50)","v":22},null,null,null,"Total Sequences in Block Data",{"$f":"COUNTA(L51:L71)","v":21},null,null,null,"Total Sequences in Block Data",{"$f":"COUNTA(L72:L93)","v":22},null,null,null,"Total Sequences in Block Data",{"$f":"COUNTA(L94:L115)","v":22},null,null,null,"Total Sequences in Block Data",{"$f":"COUNTA(L116:L137)","v":22}]
[null,null,null,null,null,null,null,null,null,null,null,null,null,null,null,"Total Sequences in Summary",{"$f":"SUM(O7:O38)","v":131},null,null,null,null,"Total Sequences in Block Summary",{"$f":"SUM(U7:U38)","v":22},null,null,null,"Total Sequences in Block Summary",{"$f":"SUM(Z7:Z38)","v":22},null,null,null,"Total Sequences in Block Summary",{"$f":"SUM(AE7:AE38)","v":21},null,null,null,"Total Sequences in Block Summary",{"$f":"SUM(AJ7:AJ38)","v":22},null,null,null,"Total Sequences in Block Summary",{"$f":"SUM(AO7:AO38)","v":22},null,null,null,"Total Sequences in Block Summary",{"$f":"SUM(AT7:AT38)","v":22}]
[null,null,null,null,null,null,null,null,null,null,null,null,null,null,null,null,null,null,null,"Block 1",null,null,null,null,"Block 2",null,null,null,null,"Block 3",null,null,null,null,"Block 4",null,null,null,null,"Block 5",null,null,null,null,"Block 6"]
["Sequence\nComponent\n1","Time\n1","Sequence\nComponent\n2","Time\n2","Sequence\nComponent\n3","Time\n3","Sequence\nComponent\n4","Time\n4","Sequence\nComponent\n5","Time\n5","Correct?\n0=No 1=Yes","Sequence",null,"Frequency",null,"Relative Frequency","Variability",null,null,"Frequency",null,"Relative Frequency","Variability",null,"Frequency",null,"Relative Frequency","Variability",null,"Frequency",null,"Relative Frequency","Variability",null,"Frequency",null,"Relative Frequency","Variability",null,"Frequency",null,"Relative Frequency","Variability",null,"Frequency",null,"Relative Frequency","Variability"]
[12,14,24,24,24,97,23,168,13,181,0,12221,null,11111,{"$f":"COUNTIF($L$7:$L$500,N7)","v":16},{"$f":"O7/$Q$4","v":0.12213740458015267},{"$f":"IF(P7=0,0,(P7*((LOG(P7))/LOG(2))))","v":-0.37049441240152065},null,null,{"$f":"N7","v":11111},{"$f":"COUNTIF(L7:L28,T7)","v":1},{"$f":"U7/(W4-U25)","v":4.7619047619047616E-2},{"$f":"IF(V7=0,0,(V7*((LOG(V7))/LOG(2))))","v":-0.20915797251327431},null,{"$f":"N7","v":11111},{"$f":"COUNTIF(L29:L50,Y7)","v":7},{"$f":"Z7/(AB4-Z25)","v":0.33333333333333331},{"$f":"IF(AA7=0,0,(AA7*((LOG(AA7))/LOG(2))))","v":-0.52832083357371862},null,{"$f":"N7","v":11111},{"$f":"COUNTIF(L51:L71,AD7)","v":1},{"$f":"AE7/(AG4-AE25)","v":5.2631578947368418E-2},{"$f":"IF(AF7=0,0,(AF7*((LOG(AF7))/LOG(2))))","v":-0.22357513228650452},null,{"$f":"N7","v":11111},{"$f":"COUNTIF(L72:L93,AI7)","v":2},{"$f":"AJ7/(AL4-AJ25)","v":0.1},{"$f":"IF(AK7=0,0,(AK7*((LOG(AK7))/LOG(2))))","v":-0.33219280948873625},null,{"$f":"N7","v":11111},{"$f":"COUNTIF(L94:L115,AN7)","v":5},{"$f":"AO7/(AQ4-AO25)","v":0.23809523809523808},{"$f":"IF(AP7=0,0,(AP7*((LOG(AP7))/LOG(2))))","v":-0.49294983997414238},null,{"$f":"N7","v":11111},{"$f":"COUNTIF(L116:L137,AS7)","v":0},{"$f":"AT7/(AV4-AT25)","v":0},{"$f":"IF(AU7=0,0,(AU7*((LOG(AU7))/LOG(2))))","v":0}]
[12,283,24,301,13,312,14,325,24,384,0,12112,null,11112,{"$f":"COUNTIF($L$7:$L$500,N8)","v":0},{"$f":"O8/$Q$4","v":0},{"$f":"IF(P8=0,0,(P8*((LOG(P8))/LOG(2))))","v":0},null,null,{"$f":"N8","v":11112},{"$f":"COUNTIF(L7:L28,T8)","v":0},{"$f":"U8/(W4-U25)","v":0},{"$f":"IF(V8=0,0,(V8*((LOG(V8))/LOG(2))))","v":0},null,{"$f":"N8","v":11112},{"$f":"COUNTIF(L29:L50,Y8)","v":0},{"$f":"Z8/(AB4-Z25)","v":0},{"$f":"IF(AA8=0,0,(AA8*((LOG(AA8))/LOG(2))))","v":0},null,{"$f":"N8","v":11112},{"$f":"COUNTIF(L51:L71,AD8)","v":0},{"$f":"AE8/(AG4-AE25)","v":0},{"$f":"IF(AF8=0,0,(AF8*((LOG(AF8))/LOG(2))))","v":0},null,{"$f":"N8","v":11112},{"$f":"COUNTIF(L72:L93,AI8)","v":0},{"$f":"AJ8/(AL4-AJ25)","v":0},{"$f":"IF(AK8=0,0,(AK8*((LOG(AK8))/LOG(2))))","v":0},null,{"$f":"N8","v":11112},{"$f":"COUNTIF(L94:L115,AN8)","v":0},{"$f":"AO8/(AQ4-AO25)","v":0},{"$f":"IF(AP8=0,0,(AP8*((LOG(AP8))/LOG(2))))","v":0},null,{"$f":"N8","v":11112},{"$f":"COUNTIF(L116:L137,AS8)","v":0},{"$f":"AT8/(AV4-AT25)","v":0},{"$f":"IF(AU8=0,0,(AU8*((LOG(AU8))/LOG(2))))","v":0}]
[12,713,13,725,24,741,14,785,24,902,0,11212,null,11121,{"$f":"COUNTIF($L$7:$L$500,N9)","v":15},{"$f":"O9/$Q$4","v":0.11450381679389313},{"$f":"IF(P9=0,0,(P9*((LOG(P9))/LOG(2))))","v":-0.35799989380865627},null,null,{"$f":"N9","v":11121},{"$f":"COUNTIF(L7:L28,T9)","v":2},{"$f":"U9/(W4-U25)","v":9.5238095238095233E-2},{"$f":"IF(V9=0,0,(V9*((LOG(V9))/LOG(2))))","v":-0.32307784978845333},null,{"$f":"N9","v":11121},{"$f":"COUNTIF(L29:L50,Y9)","v":3},{"$f":"Z9/(AB4-Z25)","v":0.14285714285714285},{"$f":"IF(AA9=0,0,(AA9*((LOG(AA9))/LOG(2))))","v":-0.40105070315108626},null,{"$f":"N9","v":11121},{"$f":"COUNTIF(L51:L71,AD9)","v":1},{"$f":"AE9/(AG4-AE25)","v":5.2631578947368418E-2},{"$f":"IF(AF9=0,0,(AF9*((LOG(AF9))/LOG(2))))","v":-0.22357513228650452},null,{"$f":"N9","v":11121},{"$f":"COUNTIF(L72:L93,AI9)","v":5},{"$f":"AJ9/(AL4-AJ25)","v":0.25},{"$f":"IF(AK9=0,0,(AK9*((LOG(AK9))/LOG(2))))","v":-0.5},null,{"$f":"N9","v":11121},{"$f":"COUNTIF(L94:L115,AN9)","v":4},{"$f":"AO9/(AQ4-AO25)","v":0.19047619047619047},{"$f":"IF(AP9=0,0,(AP9*((LOG(AP9))/LOG(2))))","v":-0.4556795091007162},null,{"$f":"N9","v":11121},{"$f":"COUNTIF(L116:L137,AS9)","v":0},{"$f":"AT9/(AV4-AT25)","v":0},{"$f":"IF(AU9=0,0,(AU9*((LOG(AU9))/LOG(2))))","v":0}]
[12,1104,13,1117,24,1129,14,1155,13,1175,0,11211,null,11122,{"$f":"COUNTIF($L$7:$L$500,N10)","v":0},{"$f":"O10/$Q$4","v":0},{"$f":"IF(P10=0,0,(P10*((LOG(P10))/LOG(2))))","v":0},null,null,{"$f":"N10","v":11122},{"$f":"COUNTIF(L7:L28,T10)","v":0},{"$f":"U10/(W4-U25)","v":0},{"$f":"IF(V10=0,0,(V10*((LOG(V10))/LOG(2))))","v":0},null,{"$f":"N10","v":11122},{"$f":"COUNTIF(L29:L50,Y10)","v":0},{"$f":"Z10/(AB4-Z25)","v":0},{"$f":"IF(AA10=0,0,(AA10*((LOG(AA10))/LOG(2))))","v":0},null,{"$f":"N10","v":11122},{"$f":"COUNTIF(L51:L71,AD10)","v":0},{"$f":"AE10/(AG4-AE25)","v":0},{"$f":"IF(AF10=0,0,(AF10*((LOG(AF10))/LOG(2))))","v":0},null,{"$f":"N10","v":11122},{"$f":"COUNTIF(L72:L93,AI10)","v":0},{"$f":"AJ10/(AL4-AJ25)","v":0},{"$f":"IF(AK10=0,0,(AK10*((LOG(AK10))/LOG(2))))","v":0},null,{"$f":"N10","v":11122},{"$f":"COUNTIF(L94:L115,AN10)","v":0},{"$f":"AO10/(AQ4-AO25)","v":0},{"$f":"IF(AP10=0,0,(AP10*((LOG(AP10))/LOG(2))))","v":0},null,{"$f":"N10","v":11122},{"$f":"COUNTIF(L116:L137,AS10)","v":0},{"$f":"AT10/(AV4-AT25)","v":0},{"$f":"IF(AU10=0,0,(AU10*((LOG(AU10))/LOG(2))))","v":0}]
[12,1307,13,1320,13,1331,23,1343,13,1354,0,11121,null,11211,{"$f":"COUNTIF($L$7:$L$500,N11)","v":32},{"$f":"O11/$Q$4","v":0.24427480916030533},{"$f":"IF(P11=0,0,(P11*((LOG(P11))/LOG(2))))","v":-0.49671401564273587},null,null,{"$f":"N11","v":11211},{"$f":"COUNTIF(L7:L28,T11)","v":7},{"$f":"U11/(W4-U25)","v":0.33333333333333331},{"$f":"IF(V11=0,0,(V11*((LOG(V11))/LOG(2))))","v":-0.52832083357371862},null,{"$f":"N11","v":11211},{"$f":"COUNTIF(L29:L50,Y11)","v":6},{"$f":"Z11/(AB4-Z25)","v":0.2857142857142857},{"$f":"IF(AA11=0,0,(AA11*((LOG(AA11))/LOG(2))))","v":-0.51638712058788683},null,{"$f":"N11","v":11211},{"$f":"COUNTIF(L51:L71,AD11)","v":4},{"$f":"AE11/(AG4-AE25)","v":0.21052631578947367},{"$f":"IF(AF11=0,0,(AF11*((LOG(AF11))/LOG(2))))","v":-0.47324789756707064},null,{"$f":"N11","v":11211},{"$f":"COUNTIF(L72:L93,AI11)","v":5},{"$f":"AJ11/(AL4-AJ25)","v":0.25},{"$f":"IF(AK11=0,0,(AK11*((LOG(AK11))/LOG(2))))","v":-0.5},null,{"$f":"N11","v":11211},{"$f":"COUNTIF(L94:L115,AN11)","v":8},{"$f":"AO11/(AQ4-AO25)","v":0.38095238095238093},{"$f":"IF(AP11=0,0,(AP11*((LOG(AP11))/LOG(2))))","v":-0.53040663724905157},null,{"$f":"N11","v":11211},{"$f":"COUNTIF(L116:L137,AS11)","v":2},{"$f":"AT11/(AV4-AT25)","v":9.5238095238095233E-2},{"$f":"IF(AU11=0,0,(AU11*((LOG(AU11))/LOG(2))))","v":-0.32307784978845333}]
[12,1518,13,1530,24,1542,14,1551,24,1594,0,11212,null,11212,{"$f":"COUNTIF($L$7:$L$500,N12)","v":12},{"$f":"O12/$Q$4","v":9.1603053435114504E-2},{"$f":"IF(P12=0,0,(P12*((LOG(P12))/LOG(2))))","v":-0.31588951152515665},null,null,{"$f":"N12","v":11212},{"$f":"COUNTIF(L7:L28,T12)","v":4},{"$f":"U12/(W4-U25)","v":0.19047619047619047},{"$f":"IF(V12=0,0,(V12*((LOG(V12))/LOG(2))))","v":-0.4556795091007162},null,{"$f":"N12","v":11212},{"$f":"COUNTIF(L29:L50,Y12)","v":3},{"$f":"Z12/(AB4-Z25)","v":0.14285714285714285},{"$f":"IF(AA12=0,0,(AA12*((LOG(AA12))/LOG(2))))","v":-0.40105070315108626},null,{"$f":"N12","v":11212},{"$f":"COUNTIF(L51:L71,AD12)","v":2},{"$f":"AE12/(AG4-AE25)","v":0.10526315789473684},{"$f":"IF(AF12=0,0,(AF12*((LOG(AF12))/LOG(2))))","v":-0.34188710667827216},null,{"$f":"N12","v":11212},{"$f":"COUNTIF(L72:L93,AI12)","v":2},{"$f":"AJ12/(AL4-AJ25)","v":0.1},{"$f":"IF(AK12=0,0,(AK12*((LOG(AK12))/LOG(2))))","v":-0.33219280948873625},null,{"$f":"N12","v":11212},{"$f":"COUNTIF(L94:L115,AN12)","v":0},{"$f":"AO12/(AQ4-AO25)","v":0},{"$f":"IF(AP12=0,0,(AP12*((LOG(AP12))/LOG(2))))","v":0},null,{"$f":"N12","v":11212},{"$f":"COUNTIF(L116:L137,AS12)","v":1},{"$f":"AT12/(AV4-AT25)","v":4.7619047619047616E-2},{"$f":"IF(AU12=0,0,(AU12*((LOG(AU12))/LOG(2))))","v":-0.20915797251327431}]
[12,1724,13,1736,13,1765,23,1776,13,1789,0,11121,null,11221,{"$f":"COUNTIF($L$7:$L$500,N13)","v":0},{"$f":"O13/$Q$4","v":0},{"$f":"IF(P13=0,0,(P13*((LOG(P13))/LOG(2))))","v":0},null,null,{"$f":"N13","v":11221},{"$f":"COUNTIF(L7:L28,T13)","v":0},{"$f":"U13/(W4-U25)","v":0},{"$f":"IF(V13=0,0,(V13*((LOG(V13))/LOG(2))))","v":0},null,{"$f":"N13","v":11221},{"$f":"COUNTIF(L29:L50,Y13)","v":0},{"$f":"Z13/(AB4-Z25)","v":0},{"$f":"IF(AA13=0,0,(AA13*((LOG(AA13))/LOG(2))))","v":0},null,{"$f":"N13","v":11221},{"$f":"COUNTIF(L51:L71,AD13)","v":0},{"$f":"AE13/(AG4-AE25)","v":0},{"$f":"IF(AF13=0,0,(AF13*((LOG(AF13))/LOG(2))))","v":0},null,{"$f":"N13","v":11221},{"$f":"COUNTIF(L72:L93,AI13)","v":0},{"$f":"AJ13/(AL4-AJ25)","v":0},{"$f":"IF(AK13=0,0,(AK13*((LOG(AK13))/LOG(2))))","v":0},null,{"$f":"N13","v":11221},{"$f":"COUNTIF(L94:L115,AN13)","v":0},{"$f":"AO13/(AQ4-AO25)","v":0},{"$f":"IF(AP13=0,0,(AP13*((LOG(AP13))/LOG(2))))","v":0},null,{"$f":"N13","v":11221},{"$f":"COUNTIF(L116:L137,AS13)","v":0},{"$f":"AT13/(AV4-AT25)","v":0},{"$f":"IF(AU13=0,0,(AU13*((LOG(AU13))/LOG(2))))","v":0}]
[12,1923,13,1941,24,1952,14,1961,13,1993,0,11211,null,11222,{"$f":"COUNTIF($L$7:$L$500,N14)","v":1},{"$f":"O14/$Q$4","v":7.6335877862595417E-3},{"$f":"IF(P14=0,0,(P14*((LOG(P14))/LOG(2))))","v":-5.3690251920133214E-2},null,null,{"$f":"N14","v":11222},{"$f":"COUNTIF(L7:L28,T14)","v":0},{"$f":"U14/(W4-U25)","v":0},{"$f":"IF(V14=0,0,(V14*((LOG(V14))/LOG(2))))","v":0},null,{"$f":"N14","v":11222},{"$f":"COUNTIF(L29:L50,Y14)","v":0},{"$f":"Z14/(AB4-Z25)","v":0},{"$f":"IF(AA14=0,0,(AA14*((LOG(AA14))/LOG(2))))","v":0},null,{"$f":"N14","v":11222},{"$f":"COUNTIF(L51:L71,AD14)","v":0},{"$f":"AE14/(AG4-AE25)","v":0},{"$f":"IF(AF14=0,0,(AF14*((LOG(AF14))/LOG(2))))","v":0},null,{"$f":"N14","v":11222},{"$f":"COUNTIF(L72:L93,AI14)","v":1},{"$f":"AJ14/(AL4-AJ25)","v":0.05},{"$f":"IF(AK14=0,0,(AK14*((LOG(AK14))/LOG(2))))","v":-0.21609640474436814},null,{"$f":"N14","v":11222},{"$f":"COUNTIF(L94:L115,AN14)","v":0},{"$f":"AO14/(AQ4-AO25)","v":0},{"$f":"IF(AP14=0,0,(AP14*((LOG(AP14))/LOG(2))))","v":0},null,{"$f":"N14","v":11222},{"$f":"COUNTIF(L116:L137,AS14)","v":0},{"$f":"AT14/(AV4-AT25)","v":0},{"$f":"IF(AU14=0,0,(AU14*((LOG(AU14))/LOG(2))))","v":0}]
[12,2119,13,2130,24,2141,14,2155,13,2162,0,11211,null,12111,{"$f":"COUNTIF($L$7:$L$500,N15)","v":6},{"$f":"O15/$Q$4","v":4.5801526717557252E-2},{"$f":"IF(P15=0,0,(P15*((LOG(P15))/LOG(2))))","v":-0.2037462824801356},null,null,{"$f":"N15","v":12111},{"$f":"COUNTIF(L7:L28,T15)","v":0},{"$f":"U15/(W4-U25)","v":0},{"$f":"IF(V15=0,0,(V15*((LOG(V15))/LOG(2))))","v":0},null,{"$f":"N15","v":12111},{"$f":"COUNTIF(L29:L50,Y15)","v":0},{"$f":"Z15/(AB4-Z25)","v":0},{"$f":"IF(AA15=0,0,(AA15*((LOG(AA15))/LOG(2))))","v":0},null,{"$f":"N15","v":12111},{"$f":"COUNTIF(L51:L71,AD15)","v":2},{"$f":"AE15/(AG4-AE25)","v":0.10526315789473684},{"$f":"IF(AF15=0,0,(AF15*((LOG(AF15))/LOG(2))))","v":-0.34188710667827216},null,{"$f":"N15","v":12111},{"$f":"COUNTIF(L72:L93,AI15)","v":1},{"$f":"AJ15/(AL4-AJ25)","v":0.05},{"$f":"IF(AK15=0,0,(AK15*((LOG(AK15))/LOG(2))))","v":-0.21609640474436814},null,{"$f":"N15","v":12111},{"$f":"COUNTIF(L94:L115,AN15)","v":1},{"$f":"AO15/(AQ4-AO25)","v":4.7619047619047616E-2},{"$f":"IF(AP15=0,0,(AP15*((LOG(AP15))/LOG(2))))","v":-0.20915797251327431},null,{"$f":"N15","v":12111},{"$f":"COUNTIF(L116:L137,AS15)","v":2},{"$f":"AT15/(AV4-AT25)","v":9.5238095238095233E-2},{"$f":"IF(AU15=0,0,(AU15*((LOG(AU15))/LOG(2))))","v":-0.32307784978845333}]
[12,2290,13,2299,13,2317,14,2330,13,2346,0,11111,null,12112,{"$f":"COUNTIF($L$7:$L$500,N16)","v":2},{"$f":"O16/$Q$4","v":1.5267175572519083E-2},{"$f":"IF(P16=0,0,(P16*((LOG(P16))/LOG(2))))","v":-9.2113328267747346E-2},null,null,{"$f":"N16","v":12112},{"$f":"COUNTIF(L7:L28,T16)","v":1},{"$f":"U16/(W4-U25)","v":4.7619047619047616E-2},{"$f":"IF(V16=0,0,(V16*((LOG(V16))/LOG(2))))","v":-0.20915797251327431},null,{"$f":"N16","v":12112},{"$f":"COUNTIF(L29:L50,Y16)","v":0},{"$f":"Z16/(AB4-Z25)","v":0},{"$f":"IF(AA16=0,0,(AA16*((LOG(AA16))/LOG(2))))","v":0},null,{"$f":"N16","v":12112},{"$f":"COUNTIF(L51:L71,AD16)","v":1},{"$f":"AE16/(AG4-AE25)","v":5.2631578947368418E-2},{"$f":"IF(AF16=0,0,(AF16*((LOG(AF16))/LOG(2))))","v":-0.22357513228650452},null,{"$f":"N16","v":12112},{"$f":"COUNTIF(L72:L93,AI16)","v":0},{"$f":"AJ16/(AL4-AJ25)","v":0},{"$f":"IF(AK16=0,0,(AK16*((LOG(AK16))/LOG(2))))","v":0},null,{"$f":"N16","v":12112},{"$f":"COUNTIF(L94:L115,AN16)","v":0},{"$f":"AO16/(AQ4-AO25)","v":0},{"$f":"IF(AP16=0,0,(AP16*((LOG(AP16))/LOG(2))))","v":0},null,{"$f":"N16","v":12112},{"$f":"COUNTIF(L116:L137,AS16)","v":0},{"$f":"AT16/(AV4-AT25)","v":0},{"$f":"IF(AU16=0,0,(AU16*((LOG(AU16))/LOG(2))))","v":0}]
[12,2475,13,2487,24,2499,14,2510,24,2525,0,11212,null,12121,{"$f":"COUNTIF($L$7:$L$500,N17)","v":8},{"$f":"O17/$Q$4","v":6.1068702290076333E-2},{"$f":"IF(P17=0,0,(P17*((LOG(P17))/LOG(2))))","v":-0.24631590849083665},null,null,{"$f":"N17","v":12121},{"$f":"COUNTIF(L7:L28,T17)","v":4},{"$f":"U17/(W4-U25)","v":0.19047619047619047},{"$f":"IF(V17=0,0,(V17*((LOG(V17))/LOG(2))))","v":-0.4556795091007162},null,{"$f":"N17","v":12121},{"$f":"COUNTIF(L29:L50,Y17)","v":1},{"$f":"Z17/(AB4-Z25)","v":4.7619047619047616E-2},{"$f":"IF(AA17=0,0,(AA17*((LOG(AA17))/LOG(2))))","v":-0.20915797251327431},null,{"$f":"N17","v":12121},{"$f":"COUNTIF(L51:L71,AD17)","v":1},{"$f":"AE17/(AG4-AE25)","v":5.2631578947368418E-2},{"$f":"IF(AF17=0,0,(AF17*((LOG(AF17))/LOG(2))))","v":-0.22357513228650452},null,{"$f":"N17","v":12121},{"$f":"COUNTIF(L72:L93,AI17)","v":1},{"$f":"AJ17/(AL4-AJ25)","v":0.05},{"$f":"IF(AK17=0,0,(AK17*((LOG(AK17))/LOG(2))))","v":-0.21609640474436814},null,{"$f":"N17","v":12121},{"$f":"COUNTIF(L94:L115,AN17)","v":0},{"$f":"AO17/(AQ4-AO25)","v":0},{"$f":"IF(AP17=0,0,(AP17*((LOG(AP17))/LOG(2))))","v":0},null,{"$f":"N17","v":12121},{"$f":"COUNTIF(L116:L137,AS17)","v":1},{"$f":"AT17/(AV4-AT25)","v":4.7619047619047616E-2},{"$f":"IF(AU17=0,0,(AU17*((LOG(AU17))/LOG(2))))","v":-0.20915797251327431}]
[21,2622,11,2640,11,2654,12,2667,24,2678,0,21112,null,12122,{"$f":"COUNTIF($L$7:$L$500,N18)","v":2},{"$f":"O18/$Q$4","v":1.5267175572519083E-2},{"$f":"IF(P18=0,0,(P18*((LOG(P18))/LOG(2))))","v":-9.2113328267747346E-2},null,null,{"$f":"N18","v":12122},{"$f":"COUNTIF(L7:L28,T18)","v":0},{"$f":"U18/(W4-U25)","v":0},{"$f":"IF(V18=0,0,(V18*((LOG(V18))/LOG(2))))","v":0},null,{"$f":"N18","v":12122},{"$f":"COUNTIF(L29:L50,Y18)","v":0},{"$f":"Z18/(AB4-Z25)","v":0},{"$f":"IF(AA18=0,0,(AA18*((LOG(AA18))/LOG(2))))","v":0},null,{"$f":"N18","v":12122},{"$f":"COUNTIF(L51:L71,AD18)","v":0},{"$f":"AE18/(AG4-AE25)","v":0},{"$f":"IF(AF18=0,0,(AF18*((LOG(AF18))/LOG(2))))","v":0},null,{"$f":"N18","v":12122},{"$f":"COUNTIF(L72:L93,AI18)","v":1},{"$f":"AJ18/(AL4-AJ25)","v":0.05},{"$f":"IF(AK18=0,0,(AK18*((LOG(AK18))/LOG(2))))","v":-0.21609640474436814},null,{"$f":"N18","v":12122},{"$f":"COUNTIF(L94:L115,AN18)","v":0},{"$f":"AO18/(AQ4-AO25)","v":0},{"$f":"IF(AP18=0,0,(AP18*((LOG(AP18))/LOG(2))))","v":0},null,{"$f":"N18","v":12122},{"$f":"COUNTIF(L116:L137,AS18)","v":1},{"$f":"AT18/(AV4-AT25)","v":4.7619047619047616E-2},{"$f":"IF(AU18=0,0,(AU18*((LOG(AU18))/LOG(2))))","v":-0.20915797251327431}]
[21,2779,11,2794,11,2802,21,2812,11,2846,1,21121,null,12211,{"$f":"COUNTIF($L$7:$L$500,N19)","v":1},{"$f":"O19/$Q$4","v":7.6335877862595417E-3},{"$f":"IF(P19=0,0,(P19*((LOG(P19))/LOG(2))))","v":-5.3690251920133214E-2},null,null,{"$f":"N19","v":12211},{"$f":"COUNTIF(L7:L28,T19)","v":0},{"$f":"U19/(W4-U25)","v":0},{"$f":"IF(V19=0,0,(V19*((LOG(V19))/LOG(2))))","v":0},null,{"$f":"N19","v":12211},{"$f":"COUNTIF(L29:L50,Y19)","v":0},{"$f":"Z19/(AB4-Z25)","v":0},{"$f":"IF(AA19=0,0,(AA19*((LOG(AA19))/LOG(2))))","v":0},null,{"$f":"N19","v":12211},{"$f":"COUNTIF(L51:L71,AD19)","v":0},{"$f":"AE19/(AG4-AE25)","v":0},{"$f":"IF(AF19=0,0,(AF19*((LOG(AF19))/LOG(2))))","v":0},null,{"$f":"N19","v":12211},{"$f":"COUNTIF(L72:L93,AI19)","v":0},{"$f":"AJ19/(AL4-AJ25)","v":0},{"$f":"IF(AK19=0,0,(AK19*((LOG(AK19))/LOG(2))))","v":0},null,{"$f":"N19","v":12211},{"$f":"COUNTIF(L94:L115,AN19)","v":1},{"$f":"AO19/(AQ4-AO25)","v":4.7619047619047616E-2},{"$f":"IF(AP19=0,0,(AP19*((LOG(AP19))/LOG(2))))","v":-0.20915797251327431},null,{"$f":"N19","v":12211},{"$f":"COUNTIF(L116:L137,AS19)","v":0},{"$f":"AT19/(AV4-AT25)","v":0},{"$f":"IF(AU19=0,0,(AU19*((LOG(AU19))/LOG(2))))","v":0}]
[12,3008,13,3020,24,3030,14,3046,13,3066,0,11211,null,12212,{"$f":"COUNTIF($L$7:$L$500,N20)","v":0},{"$f":"O20/$Q$4","v":0},{"$f":"IF(P20=0,0,(P20*((LOG(P20))/LOG(2))))","v":0},null,null,{"$f":"N20","v":12212},{"$f":"COUNTIF(L7:L28,T20)","v":0},{"$f":"U20/(W4-U25)","v":0},{"$f":"IF(V20=0,0,(V20*((LOG(V20))/LOG(2))))","v":0},null,{"$f":"N20","v":12212},{"$f":"COUNTIF(L29:L50,Y20)","v":0},{"$f":"Z20/(AB4-Z25)","v":0},{"$f":"IF(AA20=0,0,(AA20*((LOG(AA20))/LOG(2))))","v":0},null,{"$f":"N20","v":12212},{"$f":"COUNTIF(L51:L71,AD20)","v":0},{"$f":"AE20/(AG4-AE25)","v":0},{"$f":"IF(AF20=0,0,(AF20*((LOG(AF20))/LOG(2))))","v":0},null,{"$f":"N20","v":12212},{"$f":"COUNTIF(L72:L93,AI20)","v":0},{"$f":"AJ20/(AL4-AJ25)","v":0},{"$f":"IF(AK20=0,0,(AK20*((LOG(AK20))/LOG(2))))","v":0},null,{"$f":"N20","v":12212},{"$f":"COUNTIF(L94:L115,AN20)","v":0},{"$f":"AO20/(AQ4-AO25)","v":0},{"$f":"IF(AP20=0,0,(AP20*((LOG(AP20))/LOG(2))))","v":0},null,{"$f":"N20","v":12212},{"$f":"COUNTIF(L116:L137,AS20)","v":0},{"$f":"AT20/(AV4-AT25)","v":0},{"$f":"IF(AU20=0,0,(AU20*((LOG(AU20))/LOG(2))))","v":0}]
[12,3213,24,3224,13,3233,23,3247,13,3256,0,12121,null,12221,{"$f":"COUNTIF($L$7:$L$500,N21)","v":1},{"$f":"O21/$Q$4","v":7.6335877862595417E-3},{"$f":"IF(P21=0,0,(P21*((LOG(P21))/LOG(2))))","v":-5.3690251920133214E-2},null,null,{"$f":"N21","v":12221},{"$f":"COUNTIF(L7:L28,T21)","v":1},{"$f":"U21/(W4-U25)","v":4.7619047619047616E-2},{"$f":"IF(V21=0,0,(V21*((LOG(V21))/LOG(2))))","v":-0.20915797251327431},null,{"$f":"N21","v":12221},{"$f":"COUNTIF(L29:L50,Y21)","v":0},{"$f":"Z21/(AB4-Z25)","v":0},{"$f":"IF(AA21=0,0,(AA21*((LOG(AA21))/LOG(2))))","v":0},null,{"$f":"N21","v":12221},{"$f":"COUNTIF(L51:L71,AD21)","v":0},{"$f":"AE21/(AG4-AE25)","v":0},{"$f":"IF(AF21=0,0,(AF21*((LOG(AF21))/LOG(2))))","v":0},null,{"$f":"N21","v":12221},{"$f":"COUNTIF(L72:L93,AI21)","v":0},{"$f":"AJ21/(AL4-AJ25)","v":0},{"$f":"IF(AK21=0,0,(AK21*((LOG(AK21))/LOG(2))))","v":0},null,{"$f":"N21","v":12221},{"$f":"COUNTIF(L94:L115,AN21)","v":0},{"$f":"AO21/(AQ4-AO25)","v":0},{"$f":"IF(AP21=0,0,(AP21*((LOG(AP21))/LOG(2))))","v":0},null,{"$f":"N21","v":12221},{"$f":"COUNTIF(L116:L137,AS21)","v":0},{"$f":"AT21/(AV4-AT25)","v":0},{"$f":"IF(AU21=0,0,(AU21*((LOG(AU21))/LOG(2))))","v":0}]
[12,3401,24,3411,13,3422,23,3438,13,3446,0,12121,null,12222,{"$f":"COUNTIF($L$7:$L$500,N22)","v":0},{"$f":"O22/$Q$4","v":0},{"$f":"IF(P22=0,0,(P22*((LOG(P22))/LOG(2))))","v":0},null,null,{"$f":"N22","v":12222},{"$f":"COUNTIF(L7:L28,T22)","v":0},{"$f":"U22/(W4-U25)","v":0},{"$f":"IF(V22=0,0,(V22*((LOG(V22))/LOG(2))))","v":0},null,{"$f":"N22","v":12222},{"$f":"COUNTIF(L29:L50,Y22)","v":0},{"$f":"Z22/(AB4-Z25)","v":0},{"$f":"IF(AA22=0,0,(AA22*((LOG(AA22))/LOG(2))))","v":0},null,{"$f":"N22","v":12222},{"$f":"COUNTIF(L51:L71,AD22)","v":0},{"$f":"AE22/(AG4-AE25)","v":0},{"$f":"IF(AF22=0,0,(AF22*((LOG(AF22))/LOG(2))))","v":0},null,{"$f":"N22","v":12222},{"$f":"COUNTIF(L72:L93,AI22)","v":0},{"$f":"AJ22/(AL4-AJ25)","v":0},{"$f":"IF(AK22=0,0,(AK22*((LOG(AK22))/LOG(2))))","v":0},null,{"$f":"N22","v":12222},{"$f":"COUNTIF(L94:L115,AN22)","v":0},{"$f":"AO22/(AQ4-AO25)","v":0},{"$f":"IF(AP22=0,0,(AP22*((LOG(AP22))/LOG(2))))","v":0},null,{"$f":"N22","v":12222},{"$f":"COUNTIF(L116:L137,AS22)","v":0},{"$f":"AT22/(AV4-AT25)","v":0},{"$f":"IF(AU22=0,0,(AU22*((LOG(AU22))/LOG(2))))","v":0}]
[12,3615,13,3634,24,3645,14,3654,13,3669,0,11211,null,21111,{"$f":"COUNTIF($L$7:$L$500,N23)","v":4},{"$f":"O23/$Q$4","v":3.0534351145038167E-2},{"$f":"IF(P23=0,0,(P23*((LOG(P23))/LOG(2))))","v":-0.15369230539045647},null,null,{"$f":"N23","v":21111},{"$f":"COUNTIF(L7:L28,T23)","v":0},{"$f":"U23/(W4-U25)","v":0},{"$f":"IF(V23=0,0,(V23*((LOG(V23))/LOG(2))))","v":0},null,{"$f":"N23","v":21111},{"$f":"COUNTIF(L29:L50,Y23)","v":0},{"$f":"Z23/(AB4-Z25)","v":0},{"$f":"IF(AA23=0,0,(AA23*((LOG(AA23))/LOG(2))))","v":0},null,{"$f":"N23","v":21111},{"$f":"COUNTIF(L51:L71,AD23)","v":1},{"$f":"AE23/(AG4-AE25)","v":5.2631578947368418E-2},{"$f":"IF(AF23=0,0,(AF23*((LOG(AF23))/LOG(2))))","v":-0.22357513228650452},null,{"$f":"N23","v":21111},{"$f":"COUNTIF(L72:L93,AI23)","v":1},{"$f":"AJ23/(AL4-AJ25)","v":0.05},{"$f":"IF(AK23=0,0,(AK23*((LOG(AK23))/LOG(2))))","v":-0.21609640474436814},null,{"$f":"N23","v":21111},{"$f":"COUNTIF(L94:L115,AN23)","v":2},{"$f":"AO23/(AQ4-AO25)","v":9.5238095238095233E-2},{"$f":"IF(AP23=0,0,(AP23*((LOG(AP23))/LOG(2))))","v":-0.32307784978845333},null,{"$f":"N23","v":21111},{"$f":"COUNTIF(L116:L137,AS23)","v":0},{"$f":"AT23/(AV4-AT25)","v":0},{"$f":"IF(AU23=0,0,(AU23*((LOG(AU23))/LOG(2))))","v":0}]
[12,3784,13,3792,24,3804,14,3813,13,3843,0,11211,null,21112,{"$f":"COUNTIF($L$7:$L$500,N24)","v":1},{"$f":"O24/$Q$4","v":7.6335877862595417E-3},{"$f":"IF(P24=0,0,(P24*((LOG(P24))/LOG(2))))","v":-5.3690251920133214E-2},null,null,{"$f":"N24","v":21112},{"$f":"COUNTIF(L7:L28,T24)","v":1},{"$f":"U24/(W4-U25)","v":4.7619047619047616E-2},{"$f":"IF(V24=0,0,(V24*((LOG(V24))/LOG(2))))","v":-0.20915797251327431},null,{"$f":"N24","v":21112},{"$f":"COUNTIF(L29:L50,Y24)","v":0},{"$f":"Z24/(AB4-Z25)","v":0},{"$f":"IF(AA24=0,0,(AA24*((LOG(AA24))/LOG(2))))","v":0},null,{"$f":"N24","v":21112},{"$f":"COUNTIF(L51:L71,AD24)","v":0},{"$f":"AE24/(AG4-AE25)","v":0},{"$f":"IF(AF24=0,0,(AF24*((LOG(AF24))/LOG(2))))","v":0},null,{"$f":"N24","v":21112},{"$f":"COUNTIF(L72:L93,AI24)","v":0},{"$f":"AJ24/(AL4-AJ25)","v":0},{"$f":"IF(AK24=0,0,(AK24*((LOG(AK24))/LOG(2))))","v":0},null,{"$f":"N24","v":21112},{"$f":"COUNTIF(L94:L115,AN24)","v":0},{"$f":"AO24/(AQ4-AO25)","v":0},{"$f":"IF(AP24=0,0,(AP24*((LOG(AP24))/LOG(2))))","v":0},null,{"$f":"N24","v":21112},{"$f":"COUNTIF(L116:L137,AS24)","v":0},{"$f":"AT24/(AV4-AT25)","v":0},{"$f":"IF(AU24=0,0,(AU24*((LOG(AU24))/LOG(2))))","v":0}]
[12,3951,13,3963,24,3973,14,3986,13,3994,0,11211,null,21121,{"$f":"COUNTIF($L$7:$L$500,N25)","v":8},{"$f":"O25/$Q$4","v":6.1068702290076333E-2},{"$f":"IF(P25=0,0,(P25*((LOG(P25))/LOG(2))))","v":-0.24631590849083665},null,null,{"$f":"N25","v":21121},{"$f":"COUNTIF(L7:L28,T25)","v":1},null,null,null,{"$f":"N25","v":21121},{"$f":"COUNTIF(L29:L50,Y25)","v":1},null,null,null,{"$f":"N25","v":21121},{"$f":"COUNTIF(L51:L71,AD25)","v":2},null,null,null,{"$f":"N25","v":21121},{"$f":"COUNTIF(L72:L93,AI25)","v":2},null,null,null,{"$f":"N25","v":21121},{"$f":"COUNTIF(L94:L115,AN25)","v":1},null,null,null,{"$f":"N25","v":21121},{"$f":"COUNTIF(L116:L137,AS25)","v":1}]
[12,4100,24,4111,13,4119,23,4129,13,4138,0,12121,null,21122,{"$f":"COUNTIF($L$7:$L$500,N26)","v":0},{"$f":"O26/$Q$4","v":0},{"$f":"IF(P26=0,0,(P26*((LOG(P26))/LOG(2))))","v":0},null,null,{"$f":"N26","v":21122},{"$f":"COUNTIF(L7:L28,T26)","v":0},{"$f":"U26/(W4-U25)","v":0},{"$f":"IF(V26=0,0,(V26*((LOG(V26))/LOG(2))))","v":0},null,{"$f":"N26","v":21122},{"$f":"COUNTIF(L29:L50,Y26)","v":0},{"$f":"Z26/(AB4-Z25)","v":0},{"$f":"IF(AA26=0,0,(AA26*((LOG(AA26))/LOG(2))))","v":0},null,{"$f":"N26","v":21122},{"$f":"COUNTIF(L51:L71,AD26)","v":0},{"$f":"AE26/(AG4-AE25)","v":0},{"$f":"IF(AF26=0,0,(AF26*((LOG(AF26))/LOG(2))))","v":0},null,{"$f":"N26","v":21122},{"$f":"COUNTIF(L72:L93,AI26)","v":0},{"$f":"AJ26/(AL4-AJ25)","v":0},{"$f":"IF(AK26=0,0,(AK26*((LOG(AK26))/LOG(2))))","v":0},null,{"$f":"N26","v":21122},{"$f":"COUNTIF(L94:L115,AN26)","v":0},{"$f":"AO26/(AQ4-AO25)","v":0},{"$f":"IF(AP26=0,0,(AP26*((LOG(AP26))/LOG(2))))","v":0},null,{"$f":"N26","v":21122},{"$f":"COUNTIF(L116:L137,AS26)","v":0},{"$f":"AT26/(AV4-AT25)","v":0},{"$f":"IF(AU26=0,0,(AU26*((LOG(AU26))/LOG(2))))","v":0}]
[12,4243,13,4255,24,4264,14,4272,24,4284,0,11212,null,21211,{"$f":"COUNTIF($L$7:$L$500,N27)","v":11},{"$f":"O27/$Q$4","v":8.3969465648854963E-2},{"$f":"IF(P27=0,0,(P27*((LOG(P27))/LOG(2))))","v":-0.30010614665573809},null,null,{"$f":"N27","v":21211},{"$f":"COUNTIF(L7:L28,T27)","v":0},{"$f":"U27/(W4-U25)","v":0},{"$f":"IF(V27=0,0,(V27*((LOG(V27))/LOG(2))))","v":0},null,{"$f":"N27","v":21211},{"$f":"COUNTIF(L29:L50,Y27)","v":1},{"$f":"Z27/(AB4-Z25)","v":4.7619047619047616E-2},{"$f":"IF(AA27=0,0,(AA27*((LOG(AA27))/LOG(2))))","v":-0.20915797251327431},null,{"$f":"N27","v":21211},{"$f":"COUNTIF(L51:L71,AD27)","v":5},{"$f":"AE27/(AG4-AE25)","v":0.26315789473684209},{"$f":"IF(AF27=0,0,(AF27*((LOG(AF27))/LOG(2))))","v":-0.50684195225163764},null,{"$f":"N27","v":21211},{"$f":"COUNTIF(L72:L93,AI27)","v":0},{"$f":"AJ27/(AL4-AJ25)","v":0},{"$f":"IF(AK27=0,0,(AK27*((LOG(AK27))/LOG(2))))","v":0},null,{"$f":"N27","v":21211},{"$f":"COUNTIF(L94:L115,AN27)","v":0},{"$f":"AO27/(AQ4-AO25)","v":0},{"$f":"IF(AP27=0,0,(AP27*((LOG(AP27))/LOG(2))))","v":0},null,{"$f":"N27","v":21211},{"$f":"COUNTIF(L116:L137,AS27)","v":5},{"$f":"AT27/(AV4-AT25)","v":0.23809523809523808},{"$f":"IF(AU27=0,0,(AU27*((LOG(AU27))/LOG(2))))","v":-0.49294983997414238}]
[12,4389,24,4399,13,4407,23,4429,13,4457,0,12121,null,21212,{"$f":"COUNTIF($L$7:$L$500,N28)","v":8},{"$f":"O28/$Q$4","v":6.1068702290076333E-2},{"$f":"IF(P28=0,0,(P28*((LOG(P28))/LOG(2))))","v":-0.24631590849083665},null,null,{"$f":"N28","v":21212},{"$f":"COUNTIF(L7:L28,T28)","v":0},{"$f":"U28/(W4-U25)","v":0},{"$f":"IF(V28=0,0,(V28*((LOG(V28))/LOG(2))))","v":0},null,{"$f":"N28","v":21212},{"$f":"COUNTIF(L29:L50,Y28)","v":0},{"$f":"Z28/(AB4-Z25)","v":0},{"$f":"IF(AA28=0,0,(AA28*((LOG(AA28))/LOG(2))))","v":0},null,{"$f":"N28","v":21212},{"$f":"COUNTIF(L51:L71,AD28)","v":1},{"$f":"AE28/(AG4-AE25)","v":5.2631578947368418E-2},{"$f":"IF(AF28=0,0,(AF28*((LOG(AF28))/LOG(2))))","v":-0.22357513228650452},null,{"$f":"N28","v":21212},{"$f":"COUNTIF(L72:L93,AI28)","v":1},{"$f":"AJ28/(AL4-AJ25)","v":0.05},{"$f":"IF(AK28=0,0,(AK28*((LOG(AK28))/LOG(2))))","v":-0.21609640474436814},null,{"$f":"N28","v":21212},{"$f":"COUNTIF(L94:L115,AN28)","v":0},{"$f":"AO28/(AQ4-AO25)","v":0},{"$f":"IF(AP28=0,0,(AP28*((LOG(AP28))/LOG(2))))","v":0},null,{"$f":"N28","v":21212},{"$f":"COUNTIF(L116:L137,AS28)","v":6},{"$f":"AT28/(AV4-AT25)","v":0.2857142857142857},{"$f":"IF(AU28=0,0,(AU28*((LOG(AU28))/LOG(2))))","v":-0.51638712058788683}]
[12,4558,13,4570,24,4583,14,4592,24,4619,0,11212,null,21221,{"$f":"COUNTIF($L$7:$L$500,N29)","v":0},{"$f":"O29/$Q$4","v":0},{"$f":"IF(P29=0,0,(P29*((LOG(P29))/LOG(2))))","v":0},null,null,{"$f":"N29","v":21221},{"$f":"COUNTIF(L7:L28,T29)","v":0},{"$f":"U29/(W4-U25)","v":0},{"$f":"IF(V29=0,0,(V29*((LOG(V29))/LOG(2))))","v":0},null,{"$f":"N29","v":21221},{"$f":"COUNTIF(L29:L50,Y29)","v":0},{"$f":"Z29/(AB4-Z25)","v":0},{"$f":"IF(AA29=0,0,(AA29*((LOG(AA29))/LOG(2))))","v":0},null,{"$f":"N29","v":21221},{"$f":"COUNTIF(L51:L71,AD29)","v":0},{"$f":"AE29/(AG4-AE25)","v":0},{"$f":"IF(AF29=0,0,(AF29*((LOG(AF29))/LOG(2))))","v":0},null,{"$f":"N29","v":21221},{"$f":"COUNTIF(L72:L93,AI29)","v":0},{"$f":"AJ29/(AL4-AJ25)","v":0},{"$f":"IF(AK29=0,0,(AK29*((LOG(AK29))/LOG(2))))","v":0},null,{"$f":"N29","v":21221},{"$f":"COUNTIF(L94:L115,AN29)","v":0},{"$f":"AO29/(AQ4-AO25)","v":0},{"$f":"IF(AP29=0,0,(AP29*((LOG(AP29))/LOG(2))))","v":0},null,{"$f":"N29","v":21221},{"$f":"COUNTIF(L116:L137,AS29)","v":0},{"$f":"AT29/(AV4-AT25)","v":0},{"$f":"IF(AU29=0,0,(AU29*((LOG(AU29))/LOG(2))))","v":0}]
[12,4729,13,4740,24,4749,14,4760,13,4777,0,11211,null,21222,{"$f":"COUNTIF($L$7:$L$500,N30)","v":0},{"$f":"O30/$Q$4","v":0},{"$f":"IF(P30=0,0,(P30*((LOG(P30))/LOG(2))))","v":0},null,null,{"$f":"N30","v":21222},{"$f":"COUNTIF(L7:L28,T30)","v":0},{"$f":"U30/(W4-U25)","v":0},{"$f":"IF(V30=0,0,(V30*((LOG(V30))/LOG(2))))","v":0},null,{"$f":"N30","v":21222},{"$f":"COUNTIF(L29:L50,Y30)","v":0},{"$f":"Z30/(AB4-Z25)","v":0},{"$f":"IF(AA30=0,0,(AA30*((LOG(AA30))/LOG(2))))","v":0},null,{"$f":"N30","v":21222},{"$f":"COUNTIF(L51:L71,AD30)","v":0},{"$f":"AE30/(AG4-AE25)","v":0},{"$f":"IF(AF30=0,0,(AF30*((LOG(AF30))/LOG(2))))","v":0},null,{"$f":"N30","v":21222},{"$f":"COUNTIF(L72:L93,AI30)","v":0},{"$f":"AJ30/(AL4-AJ25)","v":0},{"$f":"IF(AK30=0,0,(AK30*((LOG(AK30))/LOG(2))))","v":0},null,{"$f":"N30","v":21222},{"$f":"COUNTIF(L94:L115,AN30)","v":0},{"$f":"AO30/(AQ4-AO25)","v":0},{"$f":"IF(AP30=0,0,(AP30*((LOG(AP30))/LOG(2))))","v":0},null,{"$f":"N30","v":21222},{"$f":"COUNTIF(L116:L137,AS30)","v":0},{"$f":"AT30/(AV4-AT25)","v":0},{"$f":"IF(AU30=0,0,(AU30*((LOG(AU30))/LOG(2))))","v":0}]
[21,4877,11,4888,11,4903,21,4914,11,4932,1,21121,null,22111,{"$f":"COUNTIF($L$7:$L$500,N31)","v":1},{"$f":"O31/$Q$4","v":7.6335877862595417E-3},{"$f":"IF(P31=0,0,(P31*((LOG(P31))/LOG(2))))","v":-5.3690251920133214E-2},null,null,{"$f":"N31","v":22111},{"$f":"COUNTIF(L7:L28,T31)","v":0},{"$f":"U31/(W4-U25)","v":0},{"$f":"IF(V31=0,0,(V31*((LOG(V31))/LOG(2))))","v":0},null,{"$f":"N31","v":22111},{"$f":"COUNTIF(L29:L50,Y31)","v":0},{"$f":"Z31/(AB4-Z25)","v":0},{"$f":"IF(AA31=0,0,(AA31*((LOG(AA31))/LOG(2))))","v":0},null,{"$f":"N31","v":22111},{"$f":"COUNTIF(L51:L71,AD31)","v":0},{"$f":"AE31/(AG4-AE25)","v":0},{"$f":"IF(AF31=0,0,(AF31*((LOG(AF31))/LOG(2))))","v":0},null,{"$f":"N31","v":22111},{"$f":"COUNTIF(L72:L93,AI31)","v":0},{"$f":"AJ31/(AL4-AJ25)","v":0},{"$f":"IF(AK31=0,0,(AK31*((LOG(AK31))/LOG(2))))","v":0},null,{"$f":"N31","v":22111},{"$f":"COUNTIF(L94:L115,AN31)","v":0},{"$f":"AO31/(AQ4-AO25)","v":0},{"$f":"IF(AP31=0,0,(AP31*((LOG(AP31))/LOG(2))))","v":0},null,{"$f":"N31","v":22111},{"$f":"COUNTIF(L116:L137,AS31)","v":1},{"$f":"AT31/(AV4-AT25)","v":4.7619047619047616E-2},{"$f":"IF(AU31=0,0,(AU31*((LOG(AU31))/LOG(2))))","v":-0.20915797251327431}]
[12,5032,13,5042,24,5051,14,5060,24,5073,0,11212,null,22112,{"$f":"COUNTIF($L$7:$L$500,N32)","v":0},{"$f":"O32/$Q$4","v":0},{"$f":"IF(P32=0,0,(P32*((LOG(P32))/LOG(2))))","v":0},null,null,{"$f":"N32","v":22112},{"$f":"COUNTIF(L7:L28,T32)","v":0},{"$f":"U32/(W4-U25)","v":0},{"$f":"IF(V32=0,0,(V32*((LOG(V32))/LOG(2))))","v":0},null,{"$f":"N32","v":22112},{"$f":"COUNTIF(L29:L50,Y32)","v":0},{"$f":"Z32/(AB4-Z25)","v":0},{"$f":"IF(AA32=0,0,(AA32*((LOG(AA32))/LOG(2))))","v":0},null,{"$f":"N32","v":22112},{"$f":"COUNTIF(L51:L71,AD32)","v":0},{"$f":"AE32/(AG4-AE25)","v":0},{"$f":"IF(AF32=0,0,(AF32*((LOG(AF32))/LOG(2))))","v":0},null,{"$f":"N32","v":22112},{"$f":"COUNTIF(L72:L93,AI32)","v":0},{"$f":"AJ32/(AL4-AJ25)","v":0},{"$f":"IF(AK32=0,0,(AK32*((LOG(AK32))/LOG(2))))","v":0},null,{"$f":"N32","v":22112},{"$f":"COUNTIF(L94:L115,AN32)","v":0},{"$f":"AO32/(AQ4-AO25)","v":0},{"$f":"IF(AP32=0,0,(AP32*((LOG(AP32))/LOG(2))))","v":0},null,{"$f":"N32","v":22112},{"$f":"COUNTIF(L116:L137,AS32)","v":0},{"$f":"AT32/(AV4-AT25)","v":0},{"$f":"IF(AU32=0,0,(AU32*((LOG(AU32))/LOG(2))))","v":0}]
[12,5182,24,5194,13,5203,23,5215,13,5227,0,12121,null,22121,{"$f":"COUNTIF($L$7:$L$500,N33)","v":1},{"$f":"O33/$Q$4","v":7.6335877862595417E-3},{"$f":"IF(P33=0,0,(P33*((LOG(P33))/LOG(2))))","v":-5.3690251920133214E-2},null,null,{"$f":"N33","v":22121},{"$f":"COUNTIF(L7:L28,T33)","v":0},{"$f":"U33/(W4-U25)","v":0},{"$f":"IF(V33=0,0,(V33*((LOG(V33))/LOG(2))))","v":0},null,{"$f":"N33","v":22121},{"$f":"COUNTIF(L29:L50,Y33)","v":0},{"$f":"Z33/(AB4-Z25)","v":0},{"$f":"IF(AA33=0,0,(AA33*((LOG(AA33))/LOG(2))))","v":0},null,{"$f":"N33","v":22121},{"$f":"COUNTIF(L51:L71,AD33)","v":0},{"$f":"AE33/(AG4-AE25)","v":0},{"$f":"IF(AF33=0,0,(AF33*((LOG(AF33))/LOG(2))))","v":0},null,{"$f":"N33","v":22121},{"$f":"COUNTIF(L72:L93,AI33)","v":0},{"$f":"AJ33/(AL4-AJ25)","v":0},{"$f":"IF(AK33=0,0,(AK33*((LOG(AK33))/LOG(2))))","v":0},null,{"$f":"N33","v":22121},{"$f":"COUNTIF(L94:L115,AN33)","v":0},{"$f":"AO33/(AQ4-AO25)","v":0},{"$f":"IF(AP33=0,0,(AP33*((LOG(AP33))/LOG(2))))","v":0},null,{"$f":"N33","v":22121},{"$f":"COUNTIF(L116:L137,AS33)","v":1},{"$f":"AT33/(AV4-AT25)","v":4.7619047619047616E-2},{"$f":"IF(AU33=0,0,(AU33*((LOG(AU33))/LOG(2))))","v":-0.20915797251327431}]
[12,5326,13,5334,24,5342,14,5351,13,5367,0,11211,null,22122,{"$f":"COUNTIF($L$7:$L$500,N34)","v":0},{"$f":"O34/$Q$4","v":0},{"$f":"IF(P34=0,0,(P34*((LOG(P34))/LOG(2))))","v":0},null,null,{"$f":"N34","v":22122},{"$f":"COUNTIF(L7:L28,T34)","v":0},{"$f":"U34/(W4-U25)","v":0},{"$f":"IF(V34=0,0,(V34*((LOG(V34))/LOG(2))))","v":0},null,{"$f":"N34","v":22122},{"$f":"COUNTIF(L29:L50,Y34)","v":0},{"$f":"Z34/(AB4-Z25)","v":0},{"$f":"IF(AA34=0,0,(AA34*((LOG(AA34))/LOG(2))))","v":0},null,{"$f":"N34","v":22122},{"$f":"COUNTIF(L51:L71,AD34)","v":0},{"$f":"AE34/(AG4-AE25)","v":0},{"$f":"IF(AF34=0,0,(AF34*((LOG(AF34))/LOG(2))))","v":0},null,{"$f":"N34","v":22122},{"$f":"COUNTIF(L72:L93,AI34)","v":0},{"$f":"AJ34/(AL4-AJ25)","v":0},{"$f":"IF(AK34=0,0,(AK34*((LOG(AK34))/LOG(2))))","v":0},null,{"$f":"N34","v":22122},{"$f":"COUNTIF(L94:L115,AN34)","v":0},{"$f":"AO34/(AQ4-AO25)","v":0},{"$f":"IF(AP34=0,0,(AP34*((LOG(AP34))/LOG(2))))","v":0},null,{"$f":"N34","v":22122},{"$f":"COUNTIF(L116:L137,AS34)","v":0},{"$f":"AT34/(AV4-AT25)","v":0},{"$f":"IF(AU34=0,0,(AU34*((LOG(AU34))/LOG(2))))","v":0}]
[12,5467,13,5479,24,5489,14,5498,13,5513,0,11211,null,22211,{"$f":"COUNTIF($L$7:$L$500,N35)","v":1},{"$f":"O35/$Q$4","v":7.6335877862595417E-3},{"$f":"IF(P35=0,0,(P35*((LOG(P35))/LOG(2))))","v":-5.3690251920133214E-2},null,null,{"$f":"N35","v":22211},{"$f":"COUNTIF(L7:L28,T35)","v":0},{"$f":"U35/(W4-U25)","v":0},{"$f":"IF(V35=0,0,(V35*((LOG(V35))/LOG(2))))","v":0},null,{"$f":"N35","v":22211},{"$f":"COUNTIF(L29:L50,Y35)","v":0},{"$f":"Z35/(AB4-Z25)","v":0},{"$f":"IF(AA35=0,0,(AA35*((LOG(AA35))/LOG(2))))","v":0},null,{"$f":"N35","v":22211},{"$f":"COUNTIF(L51:L71,AD35)","v":0},{"$f":"AE35/(AG4-AE25)","v":0},{"$f":"IF(AF35=0,0,(AF35*((LOG(AF35))/LOG(2))))","v":0},null,{"$f":"N35","v":22211},{"$f":"COUNTIF(L72:L93,AI35)","v":0},{"$f":"AJ35/(AL4-AJ25)","v":0},{"$f":"IF(AK35=0,0,(AK35*((LOG(AK35))/LOG(2))))","v":0},null,{"$f":"N35","v":22211},{"$f":"COUNTIF(L94:L115,AN35)","v":0},{"$f":"AO35/(AQ4-AO25)","v":0},{"$f":"IF(AP35=0,0,(AP35*((LOG(AP35))/LOG(2))))","v":0},null,{"$f":"N35","v":22211},{"$f":"COUNTIF(L116:L137,AS35)","v":1},{"$f":"AT35/(AV4-AT25)","v":4.7619047619047616E-2},{"$f":"IF(AU35=0,0,(AU35*((LOG(AU35))/LOG(2))))","v":-0.20915797251327431}]
[12,5627,13,5639,24,5651,14,5661,24,5683,0,11212,null,22212,{"$f":"COUNTIF($L$7:$L$500,N36)","v":0},{"$f":"O36/$Q$4","v":0},{"$f":"IF(P36=0,0,(P36*((LOG(P36))/LOG(2))))","v":0},null,null,{"$f":"N36","v":22212},{"$f":"COUNTIF(L7:L28,T36)","v":0},{"$f":"U36/(W4-U25)","v":0},{"$f":"IF(V36=0,0,(V36*((LOG(V36))/LOG(2))))","v":0},null,{"$f":"N36","v":22212},{"$f":"COUNTIF(L29:L50,Y36)","v":0},{"$f":"Z36/(AB4-Z25)","v":0},{"$f":"IF(AA36=0,0,(AA36*((LOG(AA36))/LOG(2))))","v":0},null,{"$f":"N36","v":22212},{"$f":"COUNTIF(L51:L71,AD36)","v":0},{"$f":"AE36/(AG4-AE25)","v":0},{"$f":"IF(AF36=0,0,(AF36*((LOG(AF36))/LOG(2))))","v":0},null,{"$f":"N36","v":22212},{"$f":"COUNTIF(L72:L93,AI36)","v":0},{"$f":"AJ36/(AL4-AJ25)","v":0},{"$f":"IF(AK36=0,0,(AK36*((LOG(AK36))/LOG(2))))","v":0},null,{"$f":"N36","v":22212},{"$f":"COUNTIF(L94:L115,AN36)","v":0},{"$f":"AO36/(AQ4-AO25)","v":0},{"$f":"IF(AP36=0,0,(AP36*((LOG(AP36))/LOG(2))))","v":0},null,{"$f":"N36","v":22212},{"$f":"COUNTIF(L116:L137,AS36)","v":0},{"$f":"AT36/(AV4-AT25)","v":0},{"$f":"IF(AU36=0,0,(AU36*((LOG(AU36))/LOG(2))))","v":0}]
[12,5787,13,5799,24,5810,14,5819,13,5838,0,11211,null,22221,{"$f":"COUNTIF($L$7:$L$500,N37)","v":0},{"$f":"O37/$Q$4","v":0},{"$f":"IF(P37=0,0,(P37*((LOG(P37))/LOG(2))))","v":0},null,null,{"$f":"N37","v":22221},{"$f":"COUNTIF(L7:L28,T37)","v":0},{"$f":"U37/(W4-U25)","v":0},{"$f":"IF(V37=0,0,(V37*((LOG(V37))/LOG(2))))","v":0},null,{"$f":"N37","v":22221},{"$f":"COUNTIF(L29:L50,Y37)","v":0},{"$f":"Z37/(AB4-Z25)","v":0},{"$f":"IF(AA37=0,0,(AA37*((LOG(AA37))/LOG(2))))","v":0},null,{"$f":"N37","v":22221},{"$f":"COUNTIF(L51:L71,AD37)","v":0},{"$f":"AE37/(AG4-AE25)","v":0},{"$f":"IF(AF37=0,0,(AF37*((LOG(AF37))/LOG(2))))","v":0},null,{"$f":"N37","v":22221},{"$f":"COUNTIF(L72:L93,AI37)","v":0},{"$f":"AJ37/(AL4-AJ25)","v":0},{"$f":"IF(AK37=0,0,(AK37*((LOG(AK37))/LOG(2))))","v":0},null,{"$f":"N37","v":22221},{"$f":"COUNTIF(L94:L115,AN37)","v":0},{"$f":"AO37/(AQ4-AO25)","v":0},{"$f":"IF(AP37=0,0,(AP37*((LOG(AP37))/LOG(2))))","v":0},null,{"$f":"N37","v":22221},{"$f":"COUNTIF(L116:L137,AS37)","v":0},{"$f":"AT37/(AV4-AT25)","v":0},{"$f":"IF(AU37=0,0,(AU37*((LOG(AU37))/LOG(2))))","v":0}]
[12,5939,13,5948,13,5966,23,5980,13,5990,0,11121,null,22222,{"$f":"COUNTIF($L$7:$L$500,N38)","v":0},{"$f":"O38/$Q$4","v":0},{"$f":"IF(P38=0,0,(P38*((LOG(P38))/LOG(2))))","v":0},null,null,{"$f":"N38","v":22222},{"$f":"COUNTIF(L7:L28,T38)","v":0},{"$f":"U38/(W4-U25)","v":0},{"$f":"IF(V38=0,0,(V38*((LOG(V38))/LOG(2))))","v":0},null,{"$f":"N38","v":22222},{"$f":"COUNTIF(L29:L50,Y38)","v":0},{"$f":"Z38/(AB4-Z25)","v":0},{"$f":"IF(AA38=0,0,(AA38*((LOG(AA38))/LOG(2))))","v":0},null,{"$f":"N38","v":22222},{"$f":"COUNTIF(L51:L71,AD38)","v":0},{"$f":"AE38/(AG4-AE25)","v":0},{"$f":"IF(AF38=0,0,(AF38*((LOG(AF38))/LOG(2))))","v":0},null,{"$f":"N38","v":22222},{"$f":"COUNTIF(L72:L93,AI38)","v":0},{"$f":"AJ38/(AL4-AJ25)","v":0},{"$f":"IF(AK38=0,0,(AK38*((LOG(AK38))/LOG(2))))","v":0},null,{"$f":"N38","v":22222},{"$f":"COUNTIF(L94:L115,AN38)","v":0},{"$f":"AO38/(AQ4-AO25)","v":0},{"$f":"IF(AP38=0,0,(AP38*((LOG(AP38))/LOG(2))))","v":0},null,{"$f":"N38","v":22222},{"$f":"COUNTIF(L116:L137,AS38)","v":0},{"$f":"AT38/(AV4-AT25)","v":0},{"$f":"IF(AU38=0,0,(AU38*((LOG(AU38))/LOG(2))))","v":0}]
[12,6094,13,6108,24,6118,14,6127,13,6136,0,11211,null,null,null,{"$f":"SUM(P7:P38)","v":1.0000000000000002},{"$f":"-SUM(Q7:Q38)","v":3.4976487133533372},null,null,null,null,{"$f":"SUM(V7:V38)","v":1},{"$f":"-SUM(W7:W38)","v":2.5993895916167014},null,null,null,{"$f":"SUM(AA7:AA38)","v":1},{"$f":"-SUM(AB7:AB38)","v":2.2651253054903262},null,null,null,{"$f":"SUM(AF7:AF38)","v":0.99999999999999978},{"$f":"-SUM(AG7:AG38)","v":3.0053148568942802},null,null,null,{"$f":"SUM(AK7:AK38)","v":1.0000000000000002},{"$f":"-SUM(AL7:AL38)","v":2.9609640474436811},null,null,null,{"$f":"SUM(AP7:AP38)","v":1},{"$f":"-SUM(AQ7:AQ38)","v":2.2204297811389124},null,null,null,{"$f":"SUM(AU7:AU38)","v":1},{"$f":"-SUM(AV7:AV38)","v":2.9104404952185812}]
[12,6239,13,6248,13,6264,14,6282,13,6291,0,11111,null,null,null,"U=",{"$f":"Q39/(LOG(Q4)/LOG(2))","v":0.49728968563227016},null,null,null,null,"U1=",{"$f":"W39/(LOG(W4)/LOG(2))","v":0.58289706265549079},null,null,null,"U2=",{"$f":"AB39/(LOG(AB4)/LOG(2))","v":0.50794036083515459},null,null,null,"U3=",{"$f":"AG39/(LOG(AG4)/LOG(2))","v":0.68422078088176841},null,null,null,"U4=",{"$f":"AL39/(LOG(AL4)/LOG(2))","v":0.66397790136952151},null,null,null,"U5=",{"$f":"AQ39/(LOG(AQ4)/LOG(2))","v":0.49791766552918376},null,null,null,"U6=",{"$f":"AV39/(LOG(AV4)/LOG(2))","v":0.65264830680550867}]
[12,6405,13,6427,13,6442,14,6456,13,6471,0,11111]
[12,6576,13,6590,13,6601,14,6620,13,6631,0,11111]
[12,6735,13,6743,24,6758,14,6781,13,6796,0,11211,null,"Total Target Seq"]
[12,6895,13,6906,13,6914,23,6926,13,6938,0,11121,null,{"$f":"COUNTIF(L7:L137,G3)","v":8},null,22,22,21,22,22,22]
[12,7046,13,7058,13,7074,14,7081,13,7096,0,11111,null,null,null,"% of reinforcement given in 6 equal intervals based on number of trials "]
[12,7212,13,7228,13,7247,23,7259,13,7268,0,11121,null,null,null,"%_1","%_2","%_3","%_4","%_5","%_6"]
[12,7377,13,7397,13,7425,14,7436,13,7475,0,11111,null,null,"target sequence",{"$f":"$G$3","v":21121},{"$f":"$G$3","v":21121},{"$f":"$G$3","v":21121},{"$f":"$G$3","v":21121},{"$f":"$G$3","v":21121},{"$f":"$G$3","v":21121}]
[12,7599,13,7613,13,7623,14,7636,13,7654,0,11111,null,null,"total reinforcement",{"$f":"U25","v":1},{"$f":"Z25","v":1},{"$f":"AE25","v":2},{"$f":"AJ25","v":2},{"$f":"AO25","v":1},{"$f":"AT25","v":1}]
[12,7826,13,7877,13,7888,14,7903,13,7917,0,11111,null,null,"% target"]
[21,8069,11,8082,22,8092,14,8112,13,8120,0,21211,null,null,"CCRF"]
[12,8263,13,8275,24,8285,14,8294,24,8306,0,11212,null,null,"% CCRf"]
[21,8429,11,8442,22,8452,14,8462,13,8481,0,21211,null,null,"average response rate",{"$f":"J28/P44","v":202.59090909090909},{"$f":"(J50-J28)/Q44","v":166.5},{"$f":"(J71-J50)/R44","v":176.95238095238096},{"$f":"(J93-J71)/S44","v":165.90909090909091},{"$f":"(J115-J93)/T44","v":172.36363636363637},{"$f":"(J137-J115)/U44","v":212.54545454545453}]
[12,8643,24,8655,13,8665,14,8684,13,8712,0,12111]
[12,8842,13,8855,24,8864,14,8877,13,8891,0,11211]
[21,9029,11,9047,11,9066,12,9078,13,9090,0,21111]
[21,9208,11,9216,22,9229,14,9237,13,9267,0,21211]
[21,9382,11,9391,22,9401,14,9422,13,9430,0,21211]
[12,9560,13,9610,13,9622,23,9639,13,9648,0,11121]
[21,9748,11,9757,22,9774,14,9784,13,9798,0,21211]
[21,9914,11,9924,22,9935,14,9945,24,9959,0,21212]
[12,10091,13,10099,24,10108,14,10117,24,10127,0,11212]
[21,10233,11,10241,11,10273,21,10284,11,10295,1,21121]
[21,10413,11,10437,22,10448,14,10465,13,10484,0,21211]
[12,10608,24,10617,13,10632,14,10642,13,10655,0,12111]
[12,10761,13,10773,24,10784,14,10806,13,10833,0,11211]
[21,10965,11,10975,11,10993,21,11004,11,11048,1,21121]
[12,11171,24,11180,13,11200,23,11209,13,11226,0,12121]
[12,11340,24,11352,13,11361,14,11375,24,11386,0,12112]
[12,11487,13,11499,24,11510,14,11519,13,11532,0,11211]
[12,11638,13,11647,24,11658,14,11667,13,11681,0,11211]
[12,11782,13,11791,13,11808,14,11820,13,11836,0,11111]
[12,11938,13,11952,13,11965,14,11979,13,11987,0,11111]
[12,12093,13,12104,13,12114,23,12124,13,12146,0,11121]
[12,12250,13,12262,13,12275,23,12290,13,12299,0,11121]
[12,12401,13,12414,13,12427,23,12439,13,12455,0,11121]
[21,12592,11,12605,22,12617,14,12637,24,12649,0,21212]
[12,12751,13,12774,24,12783,14,12795,24,12805,0,11212]
[12,12909,13,12933,24,12942,14,12972,13,12981,0,11211]
[12,13083,13,13092,13,13108,23,13117,13,13127,0,11121]
[12,13243,13,13252,24,13261,14,13293,13,13320,0,11211]
[12,13427,13,13445,24,13454,14,13464,13,13476,0,11211]
[12,13599,13,13613,24,13624,14,13633,24,13649,0,11212]
[21,13756,11,13773,11,13785,21,13800,11,13822,1,21121]
[12,13948,24,13957,13,13968,14,13982,13,13995,0,12111]
[21,14115,11,14140,11,14150,12,14162,13,14177,0,21111]
[12,14285,13,14297,13,14310,23,14320,13,14336,0,11121]
[21,14434,11,14446,11,14458,21,14469,11,14481,1,21121]
[12,14599,24,14609,13,14619,23,14628,24,14637,0,12122]
[12,14751,13,14777,13,14785,14,14800,13,14808,0,11111]
[12,14909,13,14934,24,14945,23,14960,24,14975,0,11222]
[12,15082,13,15094,24,15102,14,15111,13,15123,0,11211]
[12,15243,24,15254,13,15263,23,15276,13,15328,0,12121]
[12,15437,13,15453,24,15465,14,15473,13,15486,0,11211]
[12,15595,13,15605,24,15614,14,15623,13,15638,0,11211]
[12,15753,13,15797,13,15805,14,15814,13,15825,0,11111]
[12,15934,13,15953,24,15964,14,15973,13,15990,0,11211]
[12,16092,13,16101,13,16111,23,16120,13,16129,0,11121]
[12,16249,13,16262,13,16277,14,16287,13,16306,0,11111]
[12,16406,13,16419,24,16429,14,16438,13,16452,0,11211]
[21,16760,11,16777,11,16792,12,16808,13,16826,0,21111]
[21,16955,11,16964,11,16977,12,17013,13,17021,0,21111]
[12,17122,13,17131,13,17151,23,17163,13,17176,0,11121]
[21,17274,11,17282,11,17290,21,17302,11,17311,1,21121]
[12,17411,24,17423,24,17436,14,17472,13,17480,0,12211]
[12,17581,13,17589,13,17610,23,17622,13,17637,0,11121]
[12,17739,13,17750,13,17762,14,17787,13,17801,0,11111]
[12,17917,13,17925,13,17936,14,17959,13,17967,0,11111]
[12,18069,13,18080,24,18091,14,18100,13,18116,0,11211]
[12,18221,13,18236,24,18245,14,18260,13,18267,0,11211]
[12,18366,13,18381,24,18390,14,18399,13,18418,0,11211]
[12,18527,13,18540,24,18550,14,18559,13,18577,0,11211]
[12,18686,13,18699,24,18709,14,18724,13,18738,0,11211]
[12,18885,24,18893,13,18909,14,18920,13,18947,0,12111]
[12,19047,13,19054,13,19065,23,19073,13,19082,0,11121]
[12,19219,13,19245,13,19256,14,19265,13,19278,0,11111]
[12,19382,13,19399,24,19409,14,19420,13,19436,0,11211]
[21,19576,11,19584,11,19593,21,19605,11,19618,1,21121]
[12,19722,13,19742,24,19751,14,19766,13,19777,0,11211]
[21,19901,11,19917,22,19927,14,19951,13,19959,0,21211]
[21,20062,11,20074,22,20086,14,20097,13,20106,0,21211]
[21,20263,11,20287,22,20297,14,20323,13,20337,0,21211]
[21,20673,11,20684,22,20696,14,20706,24,20719,0,21212]
[21,20886,22,20909,13,20945,23,20956,13,21127,0,22121]
[21,21241,11,21264,22,21277,14,21291,24,21305,0,21212]
[21,21433,11,21453,22,21463,14,21472,24,21484,0,21212]
[12,21622,24,21633,13,21657,23,21691,24,21704,0,12122]
[12,21988,24,22001,13,22019,14,22051,13,22061,0,12111]
[21,22207,11,22227,22,22237,14,22248,24,22265,0,21212]
[21,22407,11,22416,22,22426,14,22440,13,22451,0,21211]
[12,22590,24,22602,13,22617,23,22630,13,22675,0,12121]
[21,22790,22,22805,13,22814,14,22881,13,22896,0,22111]
[21,23010,22,23022,24,23039,14,23059,13,23075,0,22211]
[21,23178,11,23206,22,23216,14,23231,13,23242,0,21211]
[12,23351,13,23367,24,23376,14,23409,24,23432,0,11212]
[12,23573,24,23582,13,23594,14,23610,13,23617,0,12111]
[21,23732,11,23741,22,23750,14,23760,24,23778,0,21212]
[21,23902,11,23918,22,23930,14,23940,24,23954,null,21212]

{"sheet":"!MA10A30.010","index":13,"n_rows":148,"n_cols":48,"rows_kept":148,"cut":false,"hidden":false,"merged":[[4,39,4,42],[5,39,5,40],[4,44,4,47],[5,44,5,45],[4,24,4,27],[5,24,5,25],[4,29,4,32],[5,29,5,30],[4,34,4,37],[5,34,5,35],[1,1,1,2],[5,13,5,14],[42,13,42,14],[43,13,43,14],[4,19,4,22],[5,19,5,20]]}
["Report for:!MA10A30.010"]
["Date:","<date>"]
["Hen:","<hen>",null,null,null,"Correct Sequence",{"$f":"Start!J2","v":21121},null,null,null,null,null,null,null,null,"Total Sequences in Data",{"$f":"4994-COUNTBLANK(L7:L5000)","v":142},null,null,null,null,"Total Sequences in Block Data",{"$f":"COUNTA(L7:L30)","v":24},null,null,null,"Total Sequences in Block Data",{"$f":"COUNTA(L31:L53)","v":23},null,null,null,"Total Sequences in Block Data",{"$f":"COUNTA(L54:L77)","v":24},null,null,null,"Total Sequences in Block Data",{"$f":"COUNTA(L78:L101)","v":24},null,null,null,"Total Sequences in Block Data",{"$f":"COUNTA(L102:L124)","v":23},null,null,null,"Total Sequences in Block Data",{"$f":"COUNTA(L125:L148)","v":24}]
[null,null,null,null,null,null,null,null,null,null,null,null,null,null,null,"Total Sequences in Summary",{"$f":"SUM(O7:O38)","v":142},null,null,null,null,"Total Sequences in Block Summary",{"$f":"SUM(U7:U38)","v":24},null,null,null,"Total Sequences in Block Summary",{"$f":"SUM(Z7:Z38)","v":23},null,null,null,"Total Sequences in Block Summary",{"$f":"SUM(AE7:AE38)","v":24},null,null,null,"Total Sequences in Block Summary",{"$f":"SUM(AJ7:AJ38)","v":24},null,null,null,"Total Sequences in Block Summary",{"$f":"SUM(AO7:AO38)","v":23},null,null,null,"Total Sequences in Block Summary",{"$f":"SUM(AT7:AT38)","v":24}]
[null,null,null,null,null,null,null,null,null,null,null,null,null,null,null,null,null,null,null,"Block 1",null,null,null,null,"Block 2",null,null,null,null,"Block 3",null,null,null,null,"Block 4",null,null,null,null,"Block 5",null,null,null,null,"Block 6"]
["Sequence\nComponent\n1","Time\n1","Sequence\nComponent\n2","Time\n2","Sequence\nComponent\n3","Time\n3","Sequence\nComponent\n4","Time\n4","Sequence\nComponent\n5","Time\n5","Correct?\n0=No 1=Yes","Sequence",null,"Frequency",null,"Relative Frequency","Variability",null,null,"Frequency",null,"Relative Frequency","Variability",null,"Frequency",null,"Relative Frequency","Variability",null,"Frequency",null,"Relative Frequency","Variability",null,"Frequency",null,"Relative Frequency","Variability",null,"Frequency",null,"Relative Frequency","Variability",null,"Frequency",null,"Relative Frequency","Variability"]
[12,13,13,30,24,52,23,83,24,106,0,11222,null,11111,{"$f":"COUNTIF($L$7:$L$500,N7)","v":0},{"$f":"O7/$Q$4","v":0},{"$f":"IF(P7=0,0,(P7*((LOG(P7))/LOG(2))))","v":0},null,null,{"$f":"N7","v":11111},{"$f":"COUNTIF(L7:L30,T7)","v":0},{"$f":"U7/(W4-U25)","v":0},{"$f":"IF(V7=0,0,(V7*((LOG(V7))/LOG(2))))","v":0},null,{"$f":"N7","v":11111},{"$f":"COUNTIF(L31:L53,Y7)","v":0},{"$f":"Z7/(AB4-Z25)","v":0},{"$f":"IF(AA7=0,0,(AA7*((LOG(AA7))/LOG(2))))","v":0},null,{"$f":"N7","v":11111},{"$f":"COUNTIF(L54:L77,AD7)","v":0},{"$f":"AE7/(AG4-AE25)","v":0},{"$f":"IF(AF7=0,0,(AF7*((LOG(AF7))/LOG(2))))","v":0},null,{"$f":"N7","v":11111},{"$f":"COUNTIF(L78:L101,AI7)","v":0},{"$f":"AJ7/(AL4-AJ25)","v":0},{"$f":"IF(AK7=0,0,(AK7*((LOG(AK7))/LOG(2))))","v":0},null,{"$f":"N7","v":11111},{"$f":"COUNTIF(L102:L124,AN7)","v":0},{"$f":"AO7/(AQ4-AO25)","v":0},{"$f":"IF(AP7=0,0,(AP7*((LOG(AP7))/LOG(2))))","v":0},null,{"$f":"N7","v":11111},{"$f":"COUNTIF(L125:L148,AS7)","v":0},{"$f":"AT7/(AV4-AT25)","v":0},{"$f":"IF(AU7=0,0,(AU7*((LOG(AU7))/LOG(2))))","v":0}]
[12,229,24,253,13,276,23,292,13,305,0,12121,null,11112,{"$f":"COUNTIF($L$7:$L$500,N8)","v":1},{"$f":"O8/$Q$4","v":7.0422535211267607E-3},{"$f":"IF(P8=0,0,(P8*((LOG(P8))/LOG(2))))","v":-5.0350331827497756E-2},null,null,{"$f":"N8","v":11112},{"$f":"COUNTIF(L7:L30,T8)","v":0},{"$f":"U8/(W4-U25)","v":0},{"$f":"IF(V8=0,0,(V8*((LOG(V8))/LOG(2))))","v":0},null,{"$f":"N8","v":11112},{"$f":"COUNTIF(L31:L53,Y8)","v":0},{"$f":"Z8/(AB4-Z25)","v":0},{"$f":"IF(AA8=0,0,(AA8*((LOG(AA8))/LOG(2))))","v":0},null,{"$f":"N8","v":11112},{"$f":"COUNTIF(L54:L77,AD8)","v":0},{"$f":"AE8/(AG4-AE25)","v":0},{"$f":"IF(AF8=0,0,(AF8*((LOG(AF8))/LOG(2))))","v":0},null,{"$f":"N8","v":11112},{"$f":"COUNTIF(L78:L101,AI8)","v":1},{"$f":"AJ8/(AL4-AJ25)","v":4.5454545454545456E-2},{"$f":"IF(AK8=0,0,(AK8*((LOG(AK8))/LOG(2))))","v":-0.20270143721078623},null,{"$f":"N8","v":11112},{"$f":"COUNTIF(L102:L124,AN8)","v":0},{"$f":"AO8/(AQ4-AO25)","v":0},{"$f":"IF(AP8=0,0,(AP8*((LOG(AP8))/LOG(2))))","v":0},null,{"$f":"N8","v":11112},{"$f":"COUNTIF(L125:L148,AS8)","v":0},{"$f":"AT8/(AV4-AT25)","v":0},{"$f":"IF(AU8=0,0,(AU8*((LOG(AU8))/LOG(2))))","v":0}]
[21,465,22,487,13,508,23,519,13,543,0,22121,null,11121,{"$f":"COUNTIF($L$7:$L$500,N9)","v":2},{"$f":"O9/$Q$4","v":1.4084507042253521E-2},{"$f":"IF(P9=0,0,(P9*((LOG(P9))/LOG(2))))","v":-8.661615661274201E-2},null,null,{"$f":"N9","v":11121},{"$f":"COUNTIF(L7:L30,T9)","v":1},{"$f":"U9/(W4-U25)","v":4.3478260869565216E-2},{"$f":"IF(V9=0,0,(V9*((LOG(V9))/LOG(2))))","v":-0.19667660678508753},null,{"$f":"N9","v":11121},{"$f":"COUNTIF(L31:L53,Y9)","v":0},{"$f":"Z9/(AB4-Z25)","v":0},{"$f":"IF(AA9=0,0,(AA9*((LOG(AA9))/LOG(2))))","v":0},null,{"$f":"N9","v":11121},{"$f":"COUNTIF(L54:L77,AD9)","v":0},{"$f":"AE9/(AG4-AE25)","v":0},{"$f":"IF(AF9=0,0,(AF9*((LOG(AF9))/LOG(2))))","v":0},null,{"$f":"N9","v":11121},{"$f":"COUNTIF(L78:L101,AI9)","v":0},{"$f":"AJ9/(AL4-AJ25)","v":0},{"$f":"IF(AK9=0,0,(AK9*((LOG(AK9))/LOG(2))))","v":0},null,{"$f":"N9","v":11121},{"$f":"COUNTIF(L102:L124,AN9)","v":1},{"$f":"AO9/(AQ4-AO25)","v":4.5454545454545456E-2},{"$f":"IF(AP9=0,0,(AP9*((LOG(AP9))/LOG(2))))","v":-0.20270143721078623},null,{"$f":"N9","v":11121},{"$f":"COUNTIF(L125:L148,AS9)","v":0},{"$f":"AT9/(AV4-AT25)","v":0},{"$f":"IF(AU9=0,0,(AU9*((LOG(AU9))/LOG(2))))","v":0}]
[12,670,24,683,13,691,23,707,13,718,0,12121,null,11122,{"$f":"COUNTIF($L$7:$L$500,N10)","v":0},{"$f":"O10/$Q$4","v":0},{"$f":"IF(P10=0,0,(P10*((LOG(P10))/LOG(2))))","v":0},null,null,{"$f":"N10","v":11122},{"$f":"COUNTIF(L7:L30,T10)","v":0},{"$f":"U10/(W4-U25)","v":0},{"$f":"IF(V10=0,0,(V10*((LOG(V10))/LOG(2))))","v":0},null,{"$f":"N10","v":11122},{"$f":"COUNTIF(L31:L53,Y10)","v":0},{"$f":"Z10/(AB4-Z25)","v":0},{"$f":"IF(AA10=0,0,(AA10*((LOG(AA10))/LOG(2))))","v":0},null,{"$f":"N10","v":11122},{"$f":"COUNTIF(L54:L77,AD10)","v":0},{"$f":"AE10/(AG4-AE25)","v":0},{"$f":"IF(AF10=0,0,(AF10*((LOG(AF10))/LOG(2))))","v":0},null,{"$f":"N10","v":11122},{"$f":"COUNTIF(L78:L101,AI10)","v":0},{"$f":"AJ10/(AL4-AJ25)","v":0},{"$f":"IF(AK10=0,0,(AK10*((LOG(AK10))/LOG(2))))","v":0},null,{"$f":"N10","v":11122},{"$f":"COUNTIF(L102:L124,AN10)","v":0},{"$f":"AO10/(AQ4-AO25)","v":0},{"$f":"IF(AP10=0,0,(AP10*((LOG(AP10))/LOG(2))))","v":0},null,{"$f":"N10","v":11122},{"$f":"COUNTIF(L125:L148,AS10)","v":0},{"$f":"AT10/(AV4-AT25)","v":0},{"$f":"IF(AU10=0,0,(AU10*((LOG(AU10))/LOG(2))))","v":0}]
[21,851,11,859,11,868,12,885,13,901,0,21111,null,11211,{"$f":"COUNTIF($L$7:$L$500,N11)","v":11},{"$f":"O11/$Q$4","v":7.746478873239436E-2},{"$f":"IF(P11=0,0,(P11*((LOG(P11))/LOG(2))))","v":-0.28586951063057209},null,null,{"$f":"N11","v":11211},{"$f":"COUNTIF(L7:L30,T11)","v":0},{"$f":"U11/(W4-U25)","v":0},{"$f":"IF(V11=0,0,(V11*((LOG(V11))/LOG(2))))","v":0},null,{"$f":"N11","v":11211},{"$f":"COUNTIF(L31:L53,Y11)","v":1},{"$f":"Z11/(AB4-Z25)","v":4.3478260869565216E-2},{"$f":"IF(AA11=0,0,(AA11*((LOG(AA11))/LOG(2))))","v":-0.19667660678508753},null,{"$f":"N11","v":11211},{"$f":"COUNTIF(L54:L77,AD11)","v":4},{"$f":"AE11/(AG4-AE25)","v":0.19047619047619047},{"$f":"IF(AF11=0,0,(AF11*((LOG(AF11))/LOG(2))))","v":-0.4556795091007162},null,{"$f":"N11","v":11211},{"$f":"COUNTIF(L78:L101,AI11)","v":2},{"$f":"AJ11/(AL4-AJ25)","v":9.0909090909090912E-2},{"$f":"IF(AK11=0,0,(AK11*((LOG(AK11))/LOG(2))))","v":-0.31449378351248153},null,{"$f":"N11","v":11211},{"$f":"COUNTIF(L102:L124,AN11)","v":2},{"$f":"AO11/(AQ4-AO25)","v":9.0909090909090912E-2},{"$f":"IF(AP11=0,0,(AP11*((LOG(AP11))/LOG(2))))","v":-0.31449378351248153},null,{"$f":"N11","v":11211},{"$f":"COUNTIF(L125:L148,AS11)","v":2},{"$f":"AT11/(AV4-AT25)","v":9.0909090909090912E-2},{"$f":"IF(AU11=0,0,(AU11*((LOG(AU11))/LOG(2))))","v":-0.31449378351248153}]
[21,1006,22,1020,13,1029,23,1044,13,1060,0,22121,null,11212,{"$f":"COUNTIF($L$7:$L$500,N12)","v":8},{"$f":"O12/$Q$4","v":5.6338028169014086E-2},{"$f":"IF(P12=0,0,(P12*((LOG(P12))/LOG(2))))","v":-0.23378857011293985},null,null,{"$f":"N12","v":11212},{"$f":"COUNTIF(L7:L30,T12)","v":0},{"$f":"U12/(W4-U25)","v":0},{"$f":"IF(V12=0,0,(V12*((LOG(V12))/LOG(2))))","v":0},null,{"$f":"N12","v":11212},{"$f":"COUNTIF(L31:L53,Y12)","v":4},{"$f":"Z12/(AB4-Z25)","v":0.17391304347826086},{"$f":"IF(AA12=0,0,(AA12*((LOG(AA12))/LOG(2))))","v":-0.43888034018382832},null,{"$f":"N12","v":11212},{"$f":"COUNTIF(L54:L77,AD12)","v":2},{"$f":"AE12/(AG4-AE25)","v":9.5238095238095233E-2},{"$f":"IF(AF12=0,0,(AF12*((LOG(AF12))/LOG(2))))","v":-0.32307784978845333},null,{"$f":"N12","v":11212},{"$f":"COUNTIF(L78:L101,AI12)","v":1},{"$f":"AJ12/(AL4-AJ25)","v":4.5454545454545456E-2},{"$f":"IF(AK12=0,0,(AK12*((LOG(AK12))/LOG(2))))","v":-0.20270143721078623},null,{"$f":"N12","v":11212},{"$f":"COUNTIF(L102:L124,AN12)","v":0},{"$f":"AO12/(AQ4-AO25)","v":0},{"$f":"IF(AP12=0,0,(AP12*((LOG(AP12))/LOG(2))))","v":0},null,{"$f":"N12","v":11212},{"$f":"COUNTIF(L125:L148,AS12)","v":1},{"$f":"AT12/(AV4-AT25)","v":4.5454545454545456E-2},{"$f":"IF(AU12=0,0,(AU12*((LOG(AU12))/LOG(2))))","v":-0.20270143721078623}]
[21,1174,11,1182,22,1191,14,1205,13,1218,0,21211,null,11221,{"$f":"COUNTIF($L$7:$L$500,N13)","v":2},{"$f":"O13/$Q$4","v":1.4084507042253521E-2},{"$f":"IF(P13=0,0,(P13*((LOG(P13))/LOG(2))))","v":-8.661615661274201E-2},null,null,{"$f":"N13","v":11221},{"$f":"COUNTIF(L7:L30,T13)","v":0},{"$f":"U13/(W4-U25)","v":0},{"$f":"IF(V13=0,0,(V13*((LOG(V13))/LOG(2))))","v":0},null,{"$f":"N13","v":11221},{"$f":"COUNTIF(L31:L53,Y13)","v":1},{"$f":"Z13/(AB4-Z25)","v":4.3478260869565216E-2},{"$f":"IF(AA13=0,0,(AA13*((LOG(AA13))/LOG(2))))","v":-0.19667660678508753},null,{"$f":"N13","v":11221},{"$f":"COUNTIF(L54:L77,AD13)","v":1},{"$f":"AE13/(AG4-AE25)","v":4.7619047619047616E-2},{"$f":"IF(AF13=0,0,(AF13*((LOG(AF13))/LOG(2))))","v":-0.20915797251327431},null,{"$f":"N13","v":11221},{"$f":"COUNTIF(L78:L101,AI13)","v":0},{"$f":"AJ13/(AL4-AJ25)","v":0},{"$f":"IF(AK13=0,0,(AK13*((LOG(AK13))/LOG(2))))","v":0},null,{"$f":"N13","v":11221},{"$f":"COUNTIF(L102:L124,AN13)","v":0},{"$f":"AO13/(AQ4-AO25)","v":0},{"$f":"IF(AP13=0,0,(AP13*((LOG(AP13))/LOG(2))))","v":0},null,{"$f":"N13","v":11221},{"$f":"COUNTIF(L125:L148,AS13)","v":0},{"$f":"AT13/(AV4-AT25)","v":0},{"$f":"IF(AU13=0,0,(AU13*((LOG(AU13))/LOG(2))))","v":0}]
[21,1314,11,1338,22,1346,14,1362,24,1375,0,21212,null,11222,{"$f":"COUNTIF($L$7:$L$500,N14)","v":1},{"$f":"O14/$Q$4","v":7.0422535211267607E-3},{"$f":"IF(P14=0,0,(P14*((LOG(P14))/LOG(2))))","v":-5.0350331827497756E-2},null,null,{"$f":"N14","v":11222},{"$f":"COUNTIF(L7:L30,T14)","v":1},{"$f":"U14/(W4-U25)","v":4.3478260869565216E-2},{"$f":"IF(V14=0,0,(V14*((LOG(V14))/LOG(2))))","v":-0.19667660678508753},null,{"$f":"N14","v":11222},{"$f":"COUNTIF(L31:L53,Y14)","v":0},{"$f":"Z14/(AB4-Z25)","v":0},{"$f":"IF(AA14=0,0,(AA14*((LOG(AA14))/LOG(2))))","v":0},null,{"$f":"N14","v":11222},{"$f":"COUNTIF(L54:L77,AD14)","v":0},{"$f":"AE14/(AG4-AE25)","v":0},{"$f":"IF(AF14=0,0,(AF14*((LOG(AF14))/LOG(2))))","v":0},null,{"$f":"N14","v":11222},{"$f":"COUNTIF(L78:L101,AI14)","v":0},{"$f":"AJ14/(AL4-AJ25)","v":0},{"$f":"IF(AK14=0,0,(AK14*((LOG(AK14))/LOG(2))))","v":0},null,{"$f":"N14","v":11222},{"$f":"COUNTIF(L102:L124,AN14)","v":0},{"$f":"AO14/(AQ4-AO25)","v":0},{"$f":"IF(AP14=0,0,(AP14*((LOG(AP14))/LOG(2))))","v":0},null,{"$f":"N14","v":11222},{"$f":"COUNTIF(L125:L148,AS14)","v":0},{"$f":"AT14/(AV4-AT25)","v":0},{"$f":"IF(AU14=0,0,(AU14*((LOG(AU14))/LOG(2))))","v":0}]
[21,1503,11,1517,22,1527,14,1539,13,1548,0,21211,null,12111,{"$f":"COUNTIF($L$7:$L$500,N15)","v":10},{"$f":"O15/$Q$4","v":7.0422535211267609E-2},{"$f":"IF(P15=0,0,(P15*((LOG(P15))/LOG(2))))","v":-0.2695647200434732},null,null,{"$f":"N15","v":12111},{"$f":"COUNTIF(L7:L30,T15)","v":0},{"$f":"U15/(W4-U25)","v":0},{"$f":"IF(V15=0,0,(V15*((LOG(V15))/LOG(2))))","v":0},null,{"$f":"N15","v":12111},{"$f":"COUNTIF(L31:L53,Y15)","v":0},{"$f":"Z15/(AB4-Z25)","v":0},{"$f":"IF(AA15=0,0,(AA15*((LOG(AA15))/LOG(2))))","v":0},null,{"$f":"N15","v":12111},{"$f":"COUNTIF(L54:L77,AD15)","v":5},{"$f":"AE15/(AG4-AE25)","v":0.23809523809523808},{"$f":"IF(AF15=0,0,(AF15*((LOG(AF15))/LOG(2))))","v":-0.49294983997414238},null,{"$f":"N15","v":12111},{"$f":"COUNTIF(L78:L101,AI15)","v":2},{"$f":"AJ15/(AL4-AJ25)","v":9.0909090909090912E-2},{"$f":"IF(AK15=0,0,(AK15*((LOG(AK15))/LOG(2))))","v":-0.31449378351248153},null,{"$f":"N15","v":12111},{"$f":"COUNTIF(L102:L124,AN15)","v":2},{"$f":"AO15/(AQ4-AO25)","v":9.0909090909090912E-2},{"$f":"IF(AP15=0,0,(AP15*((LOG(AP15))/LOG(2))))","v":-0.31449378351248153},null,{"$f":"N15","v":12111},{"$f":"COUNTIF(L125:L148,AS15)","v":1},{"$f":"AT15/(AV4-AT25)","v":4.5454545454545456E-2},{"$f":"IF(AU15=0,0,(AU15*((LOG(AU15))/LOG(2))))","v":-0.20270143721078623}]
[21,1645,22,1658,13,1680,23,1689,13,1699,0,22121,null,12112,{"$f":"COUNTIF($L$7:$L$500,N16)","v":1},{"$f":"O16/$Q$4","v":7.0422535211267607E-3},{"$f":"IF(P16=0,0,(P16*((LOG(P16))/LOG(2))))","v":-5.0350331827497756E-2},null,null,{"$f":"N16","v":12112},{"$f":"COUNTIF(L7:L30,T16)","v":0},{"$f":"U16/(W4-U25)","v":0},{"$f":"IF(V16=0,0,(V16*((LOG(V16))/LOG(2))))","v":0},null,{"$f":"N16","v":12112},{"$f":"COUNTIF(L31:L53,Y16)","v":0},{"$f":"Z16/(AB4-Z25)","v":0},{"$f":"IF(AA16=0,0,(AA16*((LOG(AA16))/LOG(2))))","v":0},null,{"$f":"N16","v":12112},{"$f":"COUNTIF(L54:L77,AD16)","v":0},{"$f":"AE16/(AG4-AE25)","v":0},{"$f":"IF(AF16=0,0,(AF16*((LOG(AF16))/LOG(2))))","v":0},null,{"$f":"N16","v":12112},{"$f":"COUNTIF(L78:L101,AI16)","v":1},{"$f":"AJ16/(AL4-AJ25)","v":4.5454545454545456E-2},{"$f":"IF(AK16=0,0,(AK16*((LOG(AK16))/LOG(2))))","v":-0.20270143721078623},null,{"$f":"N16","v":12112},{"$f":"COUNTIF(L102:L124,AN16)","v":0},{"$f":"AO16/(AQ4-AO25)","v":0},{"$f":"IF(AP16=0,0,(AP16*((LOG(AP16))/LOG(2))))","v":0},null,{"$f":"N16","v":12112},{"$f":"COUNTIF(L125:L148,AS16)","v":0},{"$f":"AT16/(AV4-AT25)","v":0},{"$f":"IF(AU16=0,0,(AU16*((LOG(AU16))/LOG(2))))","v":0}]
[21,1800,22,1810,13,1819,23,1828,13,1839,0,22121,null,12121,{"$f":"COUNTIF($L$7:$L$500,N17)","v":18},{"$f":"O17/$Q$4","v":0.12676056338028169},{"$f":"IF(P17=0,0,(P17*((LOG(P17))/LOG(2))))","v":-0.37772393045861025},null,null,{"$f":"N17","v":12121},{"$f":"COUNTIF(L7:L30,T17)","v":3},{"$f":"U17/(W4-U25)","v":0.13043478260869565},{"$f":"IF(V17=0,0,(V17*((LOG(V17))/LOG(2))))","v":-0.3832955811307639},null,{"$f":"N17","v":12121},{"$f":"COUNTIF(L31:L53,Y17)","v":5},{"$f":"Z17/(AB4-Z25)","v":0.21739130434782608},{"$f":"IF(AA17=0,0,(AA17*((LOG(AA17))/LOG(2))))","v":-0.47861605677601093},null,{"$f":"N17","v":12121},{"$f":"COUNTIF(L54:L77,AD17)","v":4},{"$f":"AE17/(AG4-AE25)","v":0.19047619047619047},{"$f":"IF(AF17=0,0,(AF17*((LOG(AF17))/LOG(2))))","v":-0.4556795091007162},null,{"$f":"N17","v":12121},{"$f":"COUNTIF(L78:L101,AI17)","v":5},{"$f":"AJ17/(AL4-AJ25)","v":0.22727272727272727},{"$f":"IF(AK17=0,0,(AK17*((LOG(AK17))/LOG(2))))","v":-0.48579625539771243},null,{"$f":"N17","v":12121},{"$f":"COUNTIF(L102:L124,AN17)","v":1},{"$f":"AO17/(AQ4-AO25)","v":4.5454545454545456E-2},{"$f":"IF(AP17=0,0,(AP17*((LOG(AP17))/LOG(2))))","v":-0.20270143721078623},null,{"$f":"N17","v":12121},{"$f":"COUNTIF(L125:L148,AS17)","v":0},{"$f":"AT17/(AV4-AT25)","v":0},{"$f":"IF(AU17=0,0,(AU17*((LOG(AU17))/LOG(2))))","v":0}]
[21,1949,11,1959,22,1967,14,1976,13,2007,0,21211,null,12122,{"$f":"COUNTIF($L$7:$L$500,N18)","v":4},{"$f":"O18/$Q$4","v":2.8169014084507043E-2},{"$f":"IF(P18=0,0,(P18*((LOG(P18))/LOG(2))))","v":-0.14506329914097693},null,null,{"$f":"N18","v":12122},{"$f":"COUNTIF(L7:L30,T18)","v":0},{"$f":"U18/(W4-U25)","v":0},{"$f":"IF(V18=0,0,(V18*((LOG(V18))/LOG(2))))","v":0},null,{"$f":"N18","v":12122},{"$f":"COUNTIF(L31:L53,Y18)","v":1},{"$f":"Z18/(AB4-Z25)","v":4.3478260869565216E-2},{"$f":"IF(AA18=0,0,(AA18*((LOG(AA18))/LOG(2))))","v":-0.19667660678508753},null,{"$f":"N18","v":12122},{"$f":"COUNTIF(L54:L77,AD18)","v":0},{"$f":"AE18/(AG4-AE25)","v":0},{"$f":"IF(AF18=0,0,(AF18*((LOG(AF18))/LOG(2))))","v":0},null,{"$f":"N18","v":12122},{"$f":"COUNTIF(L78:L101,AI18)","v":2},{"$f":"AJ18/(AL4-AJ25)","v":9.0909090909090912E-2},{"$f":"IF(AK18=0,0,(AK18*((LOG(AK18))/LOG(2))))","v":-0.31449378351248153},null,{"$f":"N18","v":12122},{"$f":"COUNTIF(L102:L124,AN18)","v":1},{"$f":"AO18/(AQ4-AO25)","v":4.5454545454545456E-2},{"$f":"IF(AP18=0,0,(AP18*((LOG(AP18))/LOG(2))))","v":-0.20270143721078623},null,{"$f":"N18","v":12122},{"$f":"COUNTIF(L125:L148,AS18)","v":0},{"$f":"AT18/(AV4-AT25)","v":0},{"$f":"IF(AU18=0,0,(AU18*((LOG(AU18))/LOG(2))))","v":0}]
[21,2107,22,2122,13,2138,23,2146,13,2172,0,22121,null,12211,{"$f":"COUNTIF($L$7:$L$500,N19)","v":2},{"$f":"O19/$Q$4","v":1.4084507042253521E-2},{"$f":"IF(P19=0,0,(P19*((LOG(P19))/LOG(2))))","v":-8.661615661274201E-2},null,null,{"$f":"N19","v":12211},{"$f":"COUNTIF(L7:L30,T19)","v":0},{"$f":"U19/(W4-U25)","v":0},{"$f":"IF(V19=0,0,(V19*((LOG(V19))/LOG(2))))","v":0},null,{"$f":"N19","v":12211},{"$f":"COUNTIF(L31:L53,Y19)","v":0},{"$f":"Z19/(AB4-Z25)","v":0},{"$f":"IF(AA19=0,0,(AA19*((LOG(AA19))/LOG(2))))","v":0},null,{"$f":"N19","v":12211},{"$f":"COUNTIF(L54:L77,AD19)","v":1},{"$f":"AE19/(AG4-AE25)","v":4.7619047619047616E-2},{"$f":"IF(AF19=0,0,(AF19*((LOG(AF19))/LOG(2))))","v":-0.20915797251327431},null,{"$f":"N19","v":12211},{"$f":"COUNTIF(L78:L101,AI19)","v":1},{"$f":"AJ19/(AL4-AJ25)","v":4.5454545454545456E-2},{"$f":"IF(AK19=0,0,(AK19*((LOG(AK19))/LOG(2))))","v":-0.20270143721078623},null,{"$f":"N19","v":12211},{"$f":"COUNTIF(L102:L124,AN19)","v":0},{"$f":"AO19/(AQ4-AO25)","v":0},{"$f":"IF(AP19=0,0,(AP19*((LOG(AP19))/LOG(2))))","v":0},null,{"$f":"N19","v":12211},{"$f":"COUNTIF(L125:L148,AS19)","v":0},{"$f":"AT19/(AV4-AT25)","v":0},{"$f":"IF(AU19=0,0,(AU19*((LOG(AU19))/LOG(2))))","v":0}]
[21,2343,11,2366,22,2374,14,2387,13,2400,0,21211,null,12212,{"$f":"COUNTIF($L$7:$L$500,N20)","v":0},{"$f":"O20/$Q$4","v":0},{"$f":"IF(P20=0,0,(P20*((LOG(P20))/LOG(2))))","v":0},null,null,{"$f":"N20","v":12212},{"$f":"COUNTIF(L7:L30,T20)","v":0},{"$f":"U20/(W4-U25)","v":0},{"$f":"IF(V20=0,0,(V20*((LOG(V20))/LOG(2))))","v":0},null,{"$f":"N20","v":12212},{"$f":"COUNTIF(L31:L53,Y20)","v":0},{"$f":"Z20/(AB4-Z25)","v":0},{"$f":"IF(AA20=0,0,(AA20*((LOG(AA20))/LOG(2))))","v":0},null,{"$f":"N20","v":12212},{"$f":"COUNTIF(L54:L77,AD20)","v":0},{"$f":"AE20/(AG4-AE25)","v":0},{"$f":"IF(AF20=0,0,(AF20*((LOG(AF20))/LOG(2))))","v":0},null,{"$f":"N20","v":12212},{"$f":"COUNTIF(L78:L101,AI20)","v":0},{"$f":"AJ20/(AL4-AJ25)","v":0},{"$f":"IF(AK20=0,0,(AK20*((LOG(AK20))/LOG(2))))","v":0},null,{"$f":"N20","v":12212},{"$f":"COUNTIF(L102:L124,AN20)","v":0},{"$f":"AO20/(AQ4-AO25)","v":0},{"$f":"IF(AP20=0,0,(AP20*((LOG(AP20))/LOG(2))))","v":0},null,{"$f":"N20","v":12212},{"$f":"COUNTIF(L125:L148,AS20)","v":0},{"$f":"AT20/(AV4-AT25)","v":0},{"$f":"IF(AU20=0,0,(AU20*((LOG(AU20))/LOG(2))))","v":0}]
[12,2579,13,2599,13,2610,23,2631,13,2643,0,11121,null,12221,{"$f":"COUNTIF($L$7:$L$500,N21)","v":0},{"$f":"O21/$Q$4","v":0},{"$f":"IF(P21=0,0,(P21*((LOG(P21))/LOG(2))))","v":0},null,null,{"$f":"N21","v":12221},{"$f":"COUNTIF(L7:L30,T21)","v":0},{"$f":"U21/(W4-U25)","v":0},{"$f":"IF(V21=0,0,(V21*((LOG(V21))/LOG(2))))","v":0},null,{"$f":"N21","v":12221},{"$f":"COUNTIF(L31:L53,Y21)","v":0},{"$f":"Z21/(AB4-Z25)","v":0},{"$f":"IF(AA21=0,0,(AA21*((LOG(AA21))/LOG(2))))","v":0},null,{"$f":"N21","v":12221},{"$f":"COUNTIF(L54:L77,AD21)","v":0},{"$f":"AE21/(AG4-AE25)","v":0},{"$f":"IF(AF21=0,0,(AF21*((LOG(AF21))/LOG(2))))","v":0},null,{"$f":"N21","v":12221},{"$f":"COUNTIF(L78:L101,AI21)","v":0},{"$f":"AJ21/(AL4-AJ25)","v":0},{"$f":"IF(AK21=0,0,(AK21*((LOG(AK21))/LOG(2))))","v":0},null,{"$f":"N21","v":12221},{"$f":"COUNTIF(L102:L124,AN21)","v":0},{"$f":"AO21/(AQ4-AO25)","v":0},{"$f":"IF(AP21=0,0,(AP21*((LOG(AP21))/LOG(2))))","v":0},null,{"$f":"N21","v":12221},{"$f":"COUNTIF(L125:L148,AS21)","v":0},{"$f":"AT21/(AV4-AT25)","v":0},{"$f":"IF(AU21=0,0,(AU21*((LOG(AU21))/LOG(2))))","v":0}]
[21,2767,11,2776,22,2785,14,2794,13,2852,0,21211,null,12222,{"$f":"COUNTIF($L$7:$L$500,N22)","v":0},{"$f":"O22/$Q$4","v":0},{"$f":"IF(P22=0,0,(P22*((LOG(P22))/LOG(2))))","v":0},null,null,{"$f":"N22","v":12222},{"$f":"COUNTIF(L7:L30,T22)","v":0},{"$f":"U22/(W4-U25)","v":0},{"$f":"IF(V22=0,0,(V22*((LOG(V22))/LOG(2))))","v":0},null,{"$f":"N22","v":12222},{"$f":"COUNTIF(L31:L53,Y22)","v":0},{"$f":"Z22/(AB4-Z25)","v":0},{"$f":"IF(AA22=0,0,(AA22*((LOG(AA22))/LOG(2))))","v":0},null,{"$f":"N22","v":12222},{"$f":"COUNTIF(L54:L77,AD22)","v":0},{"$f":"AE22/(AG4-AE25)","v":0},{"$f":"IF(AF22=0,0,(AF22*((LOG(AF22))/LOG(2))))","v":0},null,{"$f":"N22","v":12222},{"$f":"COUNTIF(L78:L101,AI22)","v":0},{"$f":"AJ22/(AL4-AJ25)","v":0},{"$f":"IF(AK22=0,0,(AK22*((LOG(AK22))/LOG(2))))","v":0},null,{"$f":"N22","v":12222},{"$f":"COUNTIF(L102:L124,AN22)","v":0},{"$f":"AO22/(AQ4-AO25)","v":0},{"$f":"IF(AP22=0,0,(AP22*((LOG(AP22))/LOG(2))))","v":0},null,{"$f":"N22","v":12222},{"$f":"COUNTIF(L125:L148,AS22)","v":0},{"$f":"AT22/(AV4-AT25)","v":0},{"$f":"IF(AU22=0,0,(AU22*((LOG(AU22))/LOG(2))))","v":0}]
[21,2960,22,2977,13,2986,23,2995,13,3006,0,22121,null,21111,{"$f":"COUNTIF($L$7:$L$500,N23)","v":6},{"$f":"O23/$Q$4","v":4.2253521126760563E-2},{"$f":"IF(P23=0,0,(P23*((LOG(P23))/LOG(2))))","v":-0.19287822332888138},null,null,{"$f":"N23","v":21111},{"$f":"COUNTIF(L7:L30,T23)","v":2},{"$f":"U23/(W4-U25)","v":8.6956521739130432E-2},{"$f":"IF(V23=0,0,(V23*((LOG(V23))/LOG(2))))","v":-0.30639669183104457},null,{"$f":"N23","v":21111},{"$f":"COUNTIF(L31:L53,Y23)","v":0},{"$f":"Z23/(AB4-Z25)","v":0},{"$f":"IF(AA23=0,0,(AA23*((LOG(AA23))/LOG(2))))","v":0},null,{"$f":"N23","v":21111},{"$f":"COUNTIF(L54:L77,AD23)","v":0},{"$f":"AE23/(AG4-AE25)","v":0},{"$f":"IF(AF23=0,0,(AF23*((LOG(AF23))/LOG(2))))","v":0},null,{"$f":"N23","v":21111},{"$f":"COUNTIF(L78:L101,AI23)","v":0},{"$f":"AJ23/(AL4-AJ25)","v":0},{"$f":"IF(AK23=0,0,(AK23*((LOG(AK23))/LOG(2))))","v":0},null,{"$f":"N23","v":21111},{"$f":"COUNTIF(L102:L124,AN23)","v":1},{"$f":"AO23/(AQ4-AO25)","v":4.5454545454545456E-2},{"$f":"IF(AP23=0,0,(AP23*((LOG(AP23))/LOG(2))))","v":-0.20270143721078623},null,{"$f":"N23","v":21111},{"$f":"COUNTIF(L125:L148,AS23)","v":3},{"$f":"AT23/(AV4-AT25)","v":0.13636363636363635},{"$f":"IF(AU23=0,0,(AU23*((LOG(AU23))/LOG(2))))","v":-0.39197306153401923}]
[21,3160,11,3169,22,3180,14,3191,24,3206,0,21212,null,21112,{"$f":"COUNTIF($L$7:$L$500,N24)","v":1},{"$f":"O24/$Q$4","v":7.0422535211267607E-3},{"$f":"IF(P24=0,0,(P24*((LOG(P24))/LOG(2))))","v":-5.0350331827497756E-2},null,null,{"$f":"N24","v":21112},{"$f":"COUNTIF(L7:L30,T24)","v":0},{"$f":"U24/(W4-U25)","v":0},{"$f":"IF(V24=0,0,(V24*((LOG(V24))/LOG(2))))","v":0},null,{"$f":"N24","v":21112},{"$f":"COUNTIF(L31:L53,Y24)","v":0},{"$f":"Z24/(AB4-Z25)","v":0},{"$f":"IF(AA24=0,0,(AA24*((LOG(AA24))/LOG(2))))","v":0},null,{"$f":"N24","v":21112},{"$f":"COUNTIF(L54:L77,AD24)","v":0},{"$f":"AE24/(AG4-AE25)","v":0},{"$f":"IF(AF24=0,0,(AF24*((LOG(AF24))/LOG(2))))","v":0},null,{"$f":"N24","v":21112},{"$f":"COUNTIF(L78:L101,AI24)","v":0},{"$f":"AJ24/(AL4-AJ25)","v":0},{"$f":"IF(AK24=0,0,(AK24*((LOG(AK24))/LOG(2))))","v":0},null,{"$f":"N24","v":21112},{"$f":"COUNTIF(L102:L124,AN24)","v":1},{"$f":"AO24/(AQ4-AO25)","v":4.5454545454545456E-2},{"$f":"IF(AP24=0,0,(AP24*((LOG(AP24))/LOG(2))))","v":-0.20270143721078623},null,{"$f":"N24","v":21112},{"$f":"COUNTIF(L125:L148,AS24)","v":0},{"$f":"AT24/(AV4-AT25)","v":0},{"$f":"IF(AU24=0,0,(AU24*((LOG(AU24))/LOG(2))))","v":0}]
[21,3324,11,3372,11,3386,12,3412,13,3425,0,21111,null,21121,{"$f":"COUNTIF($L$7:$L$500,N25)","v":9},{"$f":"O25/$Q$4","v":6.3380281690140844E-2},{"$f":"IF(P25=0,0,(P25*((LOG(P25))/LOG(2))))","v":-0.25224224691944591},null,null,{"$f":"N25","v":21121},{"$f":"COUNTIF(L7:L30,T25)","v":1},null,null,null,{"$f":"N25","v":21121},{"$f":"COUNTIF(L31:L53,Y25)","v":0},null,null,null,{"$f":"N25","v":21121},{"$f":"COUNTIF(L54:L77,AD25)","v":3},null,null,null,{"$f":"N25","v":21121},{"$f":"COUNTIF(L78:L101,AI25)","v":2},null,null,null,{"$f":"N25","v":21121},{"$f":"COUNTIF(L102:L124,AN25)","v":1},null,null,null,{"$f":"N25","v":21121},{"$f":"COUNTIF(L125:L148,AS25)","v":2}]
[21,3551,11,3577,22,3588,14,3600,13,3608,0,21211,null,21122,{"$f":"COUNTIF($L$7:$L$500,N26)","v":0},{"$f":"O26/$Q$4","v":0},{"$f":"IF(P26=0,0,(P26*((LOG(P26))/LOG(2))))","v":0},null,null,{"$f":"N26","v":21122},{"$f":"COUNTIF(L7:L30,T26)","v":0},{"$f":"U26/(W4-U25)","v":0},{"$f":"IF(V26=0,0,(V26*((LOG(V26))/LOG(2))))","v":0},null,{"$f":"N26","v":21122},{"$f":"COUNTIF(L31:L53,Y26)","v":0},{"$f":"Z26/(AB4-Z25)","v":0},{"$f":"IF(AA26=0,0,(AA26*((LOG(AA26))/LOG(2))))","v":0},null,{"$f":"N26","v":21122},{"$f":"COUNTIF(L54:L77,AD26)","v":0},{"$f":"AE26/(AG4-AE25)","v":0},{"$f":"IF(AF26=0,0,(AF26*((LOG(AF26))/LOG(2))))","v":0},null,{"$f":"N26","v":21122},{"$f":"COUNTIF(L78:L101,AI26)","v":0},{"$f":"AJ26/(AL4-AJ25)","v":0},{"$f":"IF(AK26=0,0,(AK26*((LOG(AK26))/LOG(2))))","v":0},null,{"$f":"N26","v":21122},{"$f":"COUNTIF(L102:L124,AN26)","v":0},{"$f":"AO26/(AQ4-AO25)","v":0},{"$f":"IF(AP26=0,0,(AP26*((LOG(AP26))/LOG(2))))","v":0},null,{"$f":"N26","v":21122},{"$f":"COUNTIF(L125:L148,AS26)","v":0},{"$f":"AT26/(AV4-AT25)","v":0},{"$f":"IF(AU26=0,0,(AU26*((LOG(AU26))/LOG(2))))","v":0}]
[12,3726,24,3737,13,3746,23,3765,13,3785,0,12121,null,21211,{"$f":"COUNTIF($L$7:$L$500,N27)","v":24},{"$f":"O27/$Q$4","v":0.16901408450704225},{"$f":"IF(P27=0,0,(P27*((LOG(P27))/LOG(2))))","v":-0.43348472430144097},null,null,{"$f":"N27","v":21211},{"$f":"COUNTIF(L7:L30,T27)","v":7},{"$f":"U27/(W4-U25)","v":0.30434782608695654},{"$f":"IF(V27=0,0,(V27*((LOG(V27))/LOG(2))))","v":-0.52232387991286355},null,{"$f":"N27","v":21211},{"$f":"COUNTIF(L31:L53,Y27)","v":4},{"$f":"Z27/(AB4-Z25)","v":0.17391304347826086},{"$f":"IF(AA27=0,0,(AA27*((LOG(AA27))/LOG(2))))","v":-0.43888034018382832},null,{"$f":"N27","v":21211},{"$f":"COUNTIF(L54:L77,AD27)","v":3},{"$f":"AE27/(AG4-AE25)","v":0.14285714285714285},{"$f":"IF(AF27=0,0,(AF27*((LOG(AF27))/LOG(2))))","v":-0.40105070315108626},null,{"$f":"N27","v":21211},{"$f":"COUNTIF(L78:L101,AI27)","v":2},{"$f":"AJ27/(AL4-AJ25)","v":9.0909090909090912E-2},{"$f":"IF(AK27=0,0,(AK27*((LOG(AK27))/LOG(2))))","v":-0.31449378351248153},null,{"$f":"N27","v":21211},{"$f":"COUNTIF(L102:L124,AN27)","v":3},{"$f":"AO27/(AQ4-AO25)","v":0.13636363636363635},{"$f":"IF(AP27=0,0,(AP27*((LOG(AP27))/LOG(2))))","v":-0.39197306153401923},null,{"$f":"N27","v":21211},{"$f":"COUNTIF(L125:L148,AS27)","v":5},{"$f":"AT27/(AV4-AT25)","v":0.22727272727272727},{"$f":"IF(AU27=0,0,(AU27*((LOG(AU27))/LOG(2))))","v":-0.48579625539771243}]
[21,3906,11,3916,22,3927,14,3938,13,3957,0,21211,null,21212,{"$f":"COUNTIF($L$7:$L$500,N28)","v":17},{"$f":"O28/$Q$4","v":0.11971830985915492},{"$f":"IF(P28=0,0,(P28*((LOG(P28))/LOG(2))))","v":-0.36661149810087201},null,null,{"$f":"N28","v":21212},{"$f":"COUNTIF(L7:L30,T28)","v":2},{"$f":"U28/(W4-U25)","v":8.6956521739130432E-2},{"$f":"IF(V28=0,0,(V28*((LOG(V28))/LOG(2))))","v":-0.30639669183104457},null,{"$f":"N28","v":21212},{"$f":"COUNTIF(L31:L53,Y28)","v":5},{"$f":"Z28/(AB4-Z25)","v":0.21739130434782608},{"$f":"IF(AA28=0,0,(AA28*((LOG(AA28))/LOG(2))))","v":-0.47861605677601093},null,{"$f":"N28","v":21212},{"$f":"COUNTIF(L54:L77,AD28)","v":0},{"$f":"AE28/(AG4-AE25)","v":0},{"$f":"IF(AF28=0,0,(AF28*((LOG(AF28))/LOG(2))))","v":0},null,{"$f":"N28","v":21212},{"$f":"COUNTIF(L78:L101,AI28)","v":0},{"$f":"AJ28/(AL4-AJ25)","v":0},{"$f":"IF(AK28=0,0,(AK28*((LOG(AK28))/LOG(2))))","v":0},null,{"$f":"N28","v":21212},{"$f":"COUNTIF(L102:L124,AN28)","v":6},{"$f":"AO28/(AQ4-AO25)","v":0.27272727272727271},{"$f":"IF(AP28=0,0,(AP28*((LOG(AP28))/LOG(2))))","v":-0.51121885034076575},null,{"$f":"N28","v":21212},{"$f":"COUNTIF(L125:L148,AS28)","v":4},{"$f":"AT28/(AV4-AT25)","v":0.18181818181818182},{"$f":"IF(AU28=0,0,(AU28*((LOG(AU28))/LOG(2))))","v":-0.44716938520678134}]
[21,4075,11,4084,11,4101,21,4112,11,4123,1,21121,null,21221,{"$f":"COUNTIF($L$7:$L$500,N29)","v":2},{"$f":"O29/$Q$4","v":1.4084507042253521E-2},{"$f":"IF(P29=0,0,(P29*((LOG(P29))/LOG(2))))","v":-8.661615661274201E-2},null,null,{"$f":"N29","v":21221},{"$f":"COUNTIF(L7:L30,T29)","v":0},{"$f":"U29/(W4-U25)","v":0},{"$f":"IF(V29=0,0,(V29*((LOG(V29))/LOG(2))))","v":0},null,{"$f":"N29","v":21221},{"$f":"COUNTIF(L31:L53,Y29)","v":0},{"$f":"Z29/(AB4-Z25)","v":0},{"$f":"IF(AA29=0,0,(AA29*((LOG(AA29))/LOG(2))))","v":0},null,{"$f":"N29","v":21221},{"$f":"COUNTIF(L54:L77,AD29)","v":1},{"$f":"AE29/(AG4-AE25)","v":4.7619047619047616E-2},{"$f":"IF(AF29=0,0,(AF29*((LOG(AF29))/LOG(2))))","v":-0.20915797251327431},null,{"$f":"N29","v":21221},{"$f":"COUNTIF(L78:L101,AI29)","v":0},{"$f":"AJ29/(AL4-AJ25)","v":0},{"$f":"IF(AK29=0,0,(AK29*((LOG(AK29))/LOG(2))))","v":0},null,{"$f":"N29","v":21221},{"$f":"COUNTIF(L102:L124,AN29)","v":1},{"$f":"AO29/(AQ4-AO25)","v":4.5454545454545456E-2},{"$f":"IF(AP29=0,0,(AP29*((LOG(AP29))/LOG(2))))","v":-0.20270143721078623},null,{"$f":"N29","v":21221},{"$f":"COUNTIF(L125:L148,AS29)","v":0},{"$f":"AT29/(AV4-AT25)","v":0},{"$f":"IF(AU29=0,0,(AU29*((LOG(AU29))/LOG(2))))","v":0}]
[21,4362,22,4427,24,4449,23,4524,24,4562,0,22222,null,21222,{"$f":"COUNTIF($L$7:$L$500,N30)","v":2},{"$f":"O30/$Q$4","v":1.4084507042253521E-2},{"$f":"IF(P30=0,0,(P30*((LOG(P30))/LOG(2))))","v":-8.661615661274201E-2},null,null,{"$f":"N30","v":21222},{"$f":"COUNTIF(L7:L30,T30)","v":0},{"$f":"U30/(W4-U25)","v":0},{"$f":"IF(V30=0,0,(V30*((LOG(V30))/LOG(2))))","v":0},null,{"$f":"N30","v":21222},{"$f":"COUNTIF(L31:L53,Y30)","v":1},{"$f":"Z30/(AB4-Z25)","v":4.3478260869565216E-2},{"$f":"IF(AA30=0,0,(AA30*((LOG(AA30))/LOG(2))))","v":-0.19667660678508753},null,{"$f":"N30","v":21222},{"$f":"COUNTIF(L54:L77,AD30)","v":0},{"$f":"AE30/(AG4-AE25)","v":0},{"$f":"IF(AF30=0,0,(AF30*((LOG(AF30))/LOG(2))))","v":0},null,{"$f":"N30","v":21222},{"$f":"COUNTIF(L78:L101,AI30)","v":1},{"$f":"AJ30/(AL4-AJ25)","v":4.5454545454545456E-2},{"$f":"IF(AK30=0,0,(AK30*((LOG(AK30))/LOG(2))))","v":-0.20270143721078623},null,{"$f":"N30","v":21222},{"$f":"COUNTIF(L102:L124,AN30)","v":0},{"$f":"AO30/(AQ4-AO25)","v":0},{"$f":"IF(AP30=0,0,(AP30*((LOG(AP30))/LOG(2))))","v":0},null,{"$f":"N30","v":21222},{"$f":"COUNTIF(L125:L148,AS30)","v":0},{"$f":"AT30/(AV4-AT25)","v":0},{"$f":"IF(AU30=0,0,(AU30*((LOG(AU30))/LOG(2))))","v":0}]
[21,4662,11,4685,22,4696,14,4704,24,4721,0,21212,null,22111,{"$f":"COUNTIF($L$7:$L$500,N31)","v":2},{"$f":"O31/$Q$4","v":1.4084507042253521E-2},{"$f":"IF(P31=0,0,(P31*((LOG(P31))/LOG(2))))","v":-8.661615661274201E-2},null,null,{"$f":"N31","v":22111},{"$f":"COUNTIF(L7:L30,T31)","v":0},{"$f":"U31/(W4-U25)","v":0},{"$f":"IF(V31=0,0,(V31*((LOG(V31))/LOG(2))))","v":0},null,{"$f":"N31","v":22111},{"$f":"COUNTIF(L31:L53,Y31)","v":0},{"$f":"Z31/(AB4-Z25)","v":0},{"$f":"IF(AA31=0,0,(AA31*((LOG(AA31))/LOG(2))))","v":0},null,{"$f":"N31","v":22111},{"$f":"COUNTIF(L54:L77,AD31)","v":0},{"$f":"AE31/(AG4-AE25)","v":0},{"$f":"IF(AF31=0,0,(AF31*((LOG(AF31))/LOG(2))))","v":0},null,{"$f":"N31","v":22111},{"$f":"COUNTIF(L78:L101,AI31)","v":1},{"$f":"AJ31/(AL4-AJ25)","v":4.5454545454545456E-2},{"$f":"IF(AK31=0,0,(AK31*((LOG(AK31))/LOG(2))))","v":-0.20270143721078623},null,{"$f":"N31","v":22111},{"$f":"COUNTIF(L102:L124,AN31)","v":0},{"$f":"AO31/(AQ4-AO25)","v":0},{"$f":"IF(AP31=0,0,(AP31*((LOG(AP31))/LOG(2))))","v":0},null,{"$f":"N31","v":22111},{"$f":"COUNTIF(L125:L148,AS31)","v":1},{"$f":"AT31/(AV4-AT25)","v":4.5454545454545456E-2},{"$f":"IF(AU31=0,0,(AU31*((LOG(AU31))/LOG(2))))","v":-0.20270143721078623}]
[21,4821,22,4833,13,4842,23,4851,13,4876,0,22121,null,22112,{"$f":"COUNTIF($L$7:$L$500,N32)","v":0},{"$f":"O32/$Q$4","v":0},{"$f":"IF(P32=0,0,(P32*((LOG(P32))/LOG(2))))","v":0},null,null,{"$f":"N32","v":22112},{"$f":"COUNTIF(L7:L30,T32)","v":0},{"$f":"U32/(W4-U25)","v":0},{"$f":"IF(V32=0,0,(V32*((LOG(V32))/LOG(2))))","v":0},null,{"$f":"N32","v":22112},{"$f":"COUNTIF(L31:L53,Y32)","v":0},{"$f":"Z32/(AB4-Z25)","v":0},{"$f":"IF(AA32=0,0,(AA32*((LOG(AA32))/LOG(2))))","v":0},null,{"$f":"N32","v":22112},{"$f":"COUNTIF(L54:L77,AD32)","v":0},{"$f":"AE32/(AG4-AE25)","v":0},{"$f":"IF(AF32=0,0,(AF32*((LOG(AF32))/LOG(2))))","v":0},null,{"$f":"N32","v":22112},{"$f":"COUNTIF(L78:L101,AI32)","v":0},{"$f":"AJ32/(AL4-AJ25)","v":0},{"$f":"IF(AK32=0,0,(AK32*((LOG(AK32))/LOG(2))))","v":0},null,{"$f":"N32","v":22112},{"$f":"COUNTIF(L102:L124,AN32)","v":0},{"$f":"AO32/(AQ4-AO25)","v":0},{"$f":"IF(AP32=0,0,(AP32*((LOG(AP32))/LOG(2))))","v":0},null,{"$f":"N32","v":22112},{"$f":"COUNTIF(L125:L148,AS32)","v":0},{"$f":"AT32/(AV4-AT25)","v":0},{"$f":"IF(AU32=0,0,(AU32*((LOG(AU32))/LOG(2))))","v":0}]
[12,4996,24,5005,13,5025,23,5036,13,5046,0,12121,null,22121,{"$f":"COUNTIF($L$7:$L$500,N33)","v":12},{"$f":"O33/$Q$4","v":8.4507042253521125E-2},{"$f":"IF(P33=0,0,(P33*((LOG(P33))/LOG(2))))","v":-0.30124940440424158},null,null,{"$f":"N33","v":22121},{"$f":"COUNTIF(L7:L30,T33)","v":6},{"$f":"U33/(W4-U25)","v":0.2608695652173913},{"$f":"IF(V33=0,0,(V33*((LOG(V33))/LOG(2))))","v":-0.50572159704413644},null,{"$f":"N33","v":22121},{"$f":"COUNTIF(L31:L53,Y33)","v":1},{"$f":"Z33/(AB4-Z25)","v":4.3478260869565216E-2},{"$f":"IF(AA33=0,0,(AA33*((LOG(AA33))/LOG(2))))","v":-0.19667660678508753},null,{"$f":"N33","v":22121},{"$f":"COUNTIF(L54:L77,AD33)","v":0},{"$f":"AE33/(AG4-AE25)","v":0},{"$f":"IF(AF33=0,0,(AF33*((LOG(AF33))/LOG(2))))","v":0},null,{"$f":"N33","v":22121},{"$f":"COUNTIF(L78:L101,AI33)","v":0},{"$f":"AJ33/(AL4-AJ25)","v":0},{"$f":"IF(AK33=0,0,(AK33*((LOG(AK33))/LOG(2))))","v":0},null,{"$f":"N33","v":22121},{"$f":"COUNTIF(L102:L124,AN33)","v":2},{"$f":"AO33/(AQ4-AO25)","v":9.0909090909090912E-2},{"$f":"IF(AP33=0,0,(AP33*((LOG(AP33))/LOG(2))))","v":-0.31449378351248153},null,{"$f":"N33","v":22121},{"$f":"COUNTIF(L125:L148,AS33)","v":3},{"$f":"AT33/(AV4-AT25)","v":0.13636363636363635},{"$f":"IF(AU33=0,0,(AU33*((LOG(AU33))/LOG(2))))","v":-0.39197306153401923}]
[12,5154,13,5175,24,5183,23,5214,13,5224,0,11221,null,22122,{"$f":"COUNTIF($L$7:$L$500,N34)","v":1},{"$f":"O34/$Q$4","v":7.0422535211267607E-3},{"$f":"IF(P34=0,0,(P34*((LOG(P34))/LOG(2))))","v":-5.0350331827497756E-2},null,null,{"$f":"N34","v":22122},{"$f":"COUNTIF(L7:L30,T34)","v":0},{"$f":"U34/(W4-U25)","v":0},{"$f":"IF(V34=0,0,(V34*((LOG(V34))/LOG(2))))","v":0},null,{"$f":"N34","v":22122},{"$f":"COUNTIF(L31:L53,Y34)","v":0},{"$f":"Z34/(AB4-Z25)","v":0},{"$f":"IF(AA34=0,0,(AA34*((LOG(AA34))/LOG(2))))","v":0},null,{"$f":"N34","v":22122},{"$f":"COUNTIF(L54:L77,AD34)","v":0},{"$f":"AE34/(AG4-AE25)","v":0},{"$f":"IF(AF34=0,0,(AF34*((LOG(AF34))/LOG(2))))","v":0},null,{"$f":"N34","v":22122},{"$f":"COUNTIF(L78:L101,AI34)","v":1},{"$f":"AJ34/(AL4-AJ25)","v":4.5454545454545456E-2},{"$f":"IF(AK34=0,0,(AK34*((LOG(AK34))/LOG(2))))","v":-0.20270143721078623},null,{"$f":"N34","v":22122},{"$f":"COUNTIF(L102:L124,AN34)","v":0},{"$f":"AO34/(AQ4-AO25)","v":0},{"$f":"IF(AP34=0,0,(AP34*((LOG(AP34))/LOG(2))))","v":0},null,{"$f":"N34","v":22122},{"$f":"COUNTIF(L125:L148,AS34)","v":0},{"$f":"AT34/(AV4-AT25)","v":0},{"$f":"IF(AU34=0,0,(AU34*((LOG(AU34))/LOG(2))))","v":0}]
[21,5355,11,5365,22,5374,23,5402,24,5413,0,21222,null,22211,{"$f":"COUNTIF($L$7:$L$500,N35)","v":2},{"$f":"O35/$Q$4","v":1.4084507042253521E-2},{"$f":"IF(P35=0,0,(P35*((LOG(P35))/LOG(2))))","v":-8.661615661274201E-2},null,null,{"$f":"N35","v":22211},{"$f":"COUNTIF(L7:L30,T35)","v":0},{"$f":"U35/(W4-U25)","v":0},{"$f":"IF(V35=0,0,(V35*((LOG(V35))/LOG(2))))","v":0},null,{"$f":"N35","v":22211},{"$f":"COUNTIF(L31:L53,Y35)","v":0},{"$f":"Z35/(AB4-Z25)","v":0},{"$f":"IF(AA35=0,0,(AA35*((LOG(AA35))/LOG(2))))","v":0},null,{"$f":"N35","v":22211},{"$f":"COUNTIF(L54:L77,AD35)","v":0},{"$f":"AE35/(AG4-AE25)","v":0},{"$f":"IF(AF35=0,0,(AF35*((LOG(AF35))/LOG(2))))","v":0},null,{"$f":"N35","v":22211},{"$f":"COUNTIF(L78:L101,AI35)","v":1},{"$f":"AJ35/(AL4-AJ25)","v":4.5454545454545456E-2},{"$f":"IF(AK35=0,0,(AK35*((LOG(AK35))/LOG(2))))","v":-0.20270143721078623},null,{"$f":"N35","v":22211},{"$f":"COUNTIF(L102:L124,AN35)","v":1},{"$f":"AO35/(AQ4-AO25)","v":4.5454545454545456E-2},{"$f":"IF(AP35=0,0,(AP35*((LOG(AP35))/LOG(2))))","v":-0.20270143721078623},null,{"$f":"N35","v":22211},{"$f":"COUNTIF(L125:L148,AS35)","v":0},{"$f":"AT35/(AV4-AT25)","v":0},{"$f":"IF(AU35=0,0,(AU35*((LOG(AU35))/LOG(2))))","v":0}]
[21,5512,11,5520,22,5529,14,5538,24,5550,0,21212,null,22212,{"$f":"COUNTIF($L$7:$L$500,N36)","v":3},{"$f":"O36/$Q$4","v":2.1126760563380281E-2},{"$f":"IF(P36=0,0,(P36*((LOG(P36))/LOG(2))))","v":-0.11756587222782097},null,null,{"$f":"N36","v":22212},{"$f":"COUNTIF(L7:L30,T36)","v":0},{"$f":"U36/(W4-U25)","v":0},{"$f":"IF(V36=0,0,(V36*((LOG(V36))/LOG(2))))","v":0},null,{"$f":"N36","v":22212},{"$f":"COUNTIF(L31:L53,Y36)","v":0},{"$f":"Z36/(AB4-Z25)","v":0},{"$f":"IF(AA36=0,0,(AA36*((LOG(AA36))/LOG(2))))","v":0},null,{"$f":"N36","v":22212},{"$f":"COUNTIF(L54:L77,AD36)","v":0},{"$f":"AE36/(AG4-AE25)","v":0},{"$f":"IF(AF36=0,0,(AF36*((LOG(AF36))/LOG(2))))","v":0},null,{"$f":"N36","v":22212},{"$f":"COUNTIF(L78:L101,AI36)","v":1},{"$f":"AJ36/(AL4-AJ25)","v":4.5454545454545456E-2},{"$f":"IF(AK36=0,0,(AK36*((LOG(AK36))/LOG(2))))","v":-0.20270143721078623},null,{"$f":"N36","v":22212},{"$f":"COUNTIF(L102:L124,AN36)","v":0},{"$f":"AO36/(AQ4-AO25)","v":0},{"$f":"IF(AP36=0,0,(AP36*((LOG(AP36))/LOG(2))))","v":0},null,{"$f":"N36","v":22212},{"$f":"COUNTIF(L125:L148,AS36)","v":2},{"$f":"AT36/(AV4-AT25)","v":9.0909090909090912E-2},{"$f":"IF(AU36=0,0,(AU36*((LOG(AU36))/LOG(2))))","v":-0.31449378351248153}]
[12,5650,24,5660,13,5668,23,5677,13,5706,0,12121,null,22221,{"$f":"COUNTIF($L$7:$L$500,N37)","v":0},{"$f":"O37/$Q$4","v":0},{"$f":"IF(P37=0,0,(P37*((LOG(P37))/LOG(2))))","v":0},null,null,{"$f":"N37","v":22221},{"$f":"COUNTIF(L7:L30,T37)","v":0},{"$f":"U37/(W4-U25)","v":0},{"$f":"IF(V37=0,0,(V37*((LOG(V37))/LOG(2))))","v":0},null,{"$f":"N37","v":22221},{"$f":"COUNTIF(L31:L53,Y37)","v":0},{"$f":"Z37/(AB4-Z25)","v":0},{"$f":"IF(AA37=0,0,(AA37*((LOG(AA37))/LOG(2))))","v":0},null,{"$f":"N37","v":22221},{"$f":"COUNTIF(L54:L77,AD37)","v":0},{"$f":"AE37/(AG4-AE25)","v":0},{"$f":"IF(AF37=0,0,(AF37*((LOG(AF37))/LOG(2))))","v":0},null,{"$f":"N37","v":22221},{"$f":"COUNTIF(L78:L101,AI37)","v":0},{"$f":"AJ37/(AL4-AJ25)","v":0},{"$f":"IF(AK37=0,0,(AK37*((LOG(AK37))/LOG(2))))","v":0},null,{"$f":"N37","v":22221},{"$f":"COUNTIF(L102:L124,AN37)","v":0},{"$f":"AO37/(AQ4-AO25)","v":0},{"$f":"IF(AP37=0,0,(AP37*((LOG(AP37))/LOG(2))))","v":0},null,{"$f":"N37","v":22221},{"$f":"COUNTIF(L125:L148,AS37)","v":0},{"$f":"AT37/(AV4-AT25)","v":0},{"$f":"IF(AU37=0,0,(AU37*((LOG(AU37))/LOG(2))))","v":0}]
[12,5803,13,5822,24,5831,14,5839,24,5849,0,11212,null,22222,{"$f":"COUNTIF($L$7:$L$500,N38)","v":1},{"$f":"O38/$Q$4","v":7.0422535211267607E-3},{"$f":"IF(P38=0,0,(P38*((LOG(P38))/LOG(2))))","v":-5.0350331827497756E-2},null,null,{"$f":"N38","v":22222},{"$f":"COUNTIF(L7:L30,T38)","v":1},{"$f":"U38/(W4-U25)","v":4.3478260869565216E-2},{"$f":"IF(V38=0,0,(V38*((LOG(V38))/LOG(2))))","v":-0.19667660678508753},null,{"$f":"N38","v":22222},{"$f":"COUNTIF(L31:L53,Y38)","v":0},{"$f":"Z38/(AB4-Z25)","v":0},{"$f":"IF(AA38=0,0,(AA38*((LOG(AA38))/LOG(2))))","v":0},null,{"$f":"N38","v":22222},{"$f":"COUNTIF(L54:L77,AD38)","v":0},{"$f":"AE38/(AG4-AE25)","v":0},{"$f":"IF(AF38=0,0,(AF38*((LOG(AF38))/LOG(2))))","v":0},null,{"$f":"N38","v":22222},{"$f":"COUNTIF(L78:L101,AI38)","v":0},{"$f":"AJ38/(AL4-AJ25)","v":0},{"$f":"IF(AK38=0,0,(AK38*((LOG(AK38))/LOG(2))))","v":0},null,{"$f":"N38","v":22222},{"$f":"COUNTIF(L102:L124,AN38)","v":0},{"$f":"AO38/(AQ4-AO25)","v":0},{"$f":"IF(AP38=0,0,(AP38*((LOG(AP38))/LOG(2))))","v":0},null,{"$f":"N38","v":22222},{"$f":"COUNTIF(L125:L148,AS38)","v":0},{"$f":"AT38/(AV4-AT25)","v":0},{"$f":"IF(AU38=0,0,(AU38*((LOG(AU38))/LOG(2))))","v":0}]
[12,5951,13,5964,24,5973,14,5982,24,5993,0,11212,null,null,null,{"$f":"SUM(P7:P38)","v":0.99999999999999978},{"$f":"-SUM(Q7:Q38)","v":3.8844570869234563},null,null,null,null,{"$f":"SUM(V7:V38)","v":1},{"$f":"-SUM(W7:W38)","v":2.6141642621051155},null,null,null,{"$f":"SUM(AA7:AA38)","v":0.99999999999999989},{"$f":"-SUM(AB7:AB38)","v":2.8183758278451165},null,null,null,{"$f":"SUM(AF7:AF38)","v":1},{"$f":"-SUM(AG7:AG38)","v":2.7559113286549373},null,null,null,{"$f":"SUM(AK7:AK38)","v":0.99999999999999978},{"$f":"-SUM(AL7:AL38)","v":3.5680843243447136},null,null,null,{"$f":"SUM(AP7:AP38)","v":0.99999999999999989},{"$f":"-SUM(AQ7:AQ38)","v":3.2655833228877329},null,null,null,{"$f":"SUM(AU7:AU38)","v":1},{"$f":"-SUM(AV7:AV38)","v":2.9540036423298539}]
[12,6103,24,6120,13,6139,23,6150,24,6170,0,12122,null,null,null,"U=",{"$f":"Q39/(LOG(Q4)/LOG(2))","v":0.54329992683609252},null,null,null,null,"U1=",{"$f":"W39/(LOG(W4)/LOG(2))","v":0.57016044552031575},null,null,null,"U2=",{"$f":"AB39/(LOG(AB4)/LOG(2))","v":0.62304348989214886},null,null,null,"U3=",{"$f":"AG39/(LOG(AG4)/LOG(2))","v":0.6010760891111907},null,null,null,"U4=",{"$f":"AL39/(LOG(AL4)/LOG(2))","v":0.77821450530587755},null,null,null,"U5=",{"$f":"AQ39/(LOG(AQ4)/LOG(2))","v":0.7219052937951127},null,null,null,"U6=",{"$f":"AV39/(LOG(AV4)/LOG(2))","v":0.64428087293303415}]
[21,6279,11,6288,22,6296,14,6306,13,6326,0,21211]
[12,6427,13,6436,24,6444,14,6467,24,6478,0,11212]
[21,6597,11,6605,22,6614,14,6622,24,6632,0,21212,null,"Total Target Seq"]
[12,6730,24,6739,13,6758,23,6766,13,6792,0,12121,null,{"$f":"COUNTIF(L7:L148,G3)","v":9},null,24,23,24,24,23,24]
[21,6889,11,6896,22,6904,14,6913,24,6928,0,21212,null,null,null,"% of reinforcement given in 6 equal intervals based on number of trials "]
[12,7055,24,7068,13,7077,23,7086,13,7112,0,12121,null,null,null,"%_1","%_2","%_3","%_4","%_5","%_6"]
[12,7226,13,7239,24,7248,14,7258,24,7271,0,11212,null,null,"target sequence",{"$f":"$G$3","v":21121},{"$f":"$G$3","v":21121},{"$f":"$G$3","v":21121},{"$f":"$G$3","v":21121},{"$f":"$G$3","v":21121},{"$f":"$G$3","v":21121}]
[21,7371,11,7380,22,7388,14,7397,13,7411,0,21211,null,null,"total reinforcement",{"$f":"U25","v":1},{"$f":"Z25","v":0},{"$f":"AE25","v":3},{"$f":"AJ25","v":2},{"$f":"AO25","v":1},{"$f":"AT25","v":2}]
[21,7517,11,7532,22,7541,14,7563,13,7571,0,21211,null,null,"% target"]
[21,7680,11,7688,22,7697,14,7707,24,7720,0,21212,null,null,"CCRF"]
[21,7842,11,7852,22,7861,14,7870,13,7884,0,21211,null,null,"% CCRf"]
[12,8005,24,8013,13,8022,23,8038,13,8053,0,12121,null,null,"average response rate",{"$f":"J30/P44","v":190.08333333333334},{"$f":"(J53-J30)/Q44","v":159.56521739130434},{"$f":"(J77-J53)/R44","v":169.375},{"$f":"(J101-J77)/S44","v":159.83333333333334},{"$f":"(J124-J101)/T44","v":164.34782608695653},{"$f":"(J148-J124)/U44","v":169.79166666666666}]
[12,8188,13,8200,24,8212,14,8224,13,8232,0,11211]
[12,8351,24,8360,24,8380,14,8393,13,8403,0,12211]
[12,8509,24,8518,13,8547,23,8571,13,8598,0,12121]
[12,8720,13,8729,24,8738,14,8753,13,8764,0,11211]
[12,8898,24,8906,13,8938,14,8948,13,8958,0,12111]
[12,9153,24,9161,13,9177,14,9183,13,9190,0,12111]
[21,9290,11,9310,11,9320,21,9333,11,9353,1,21121]
[12,9509,24,9520,13,9532,14,9539,13,9550,0,12111]
[21,9653,11,9666,22,9676,14,9691,13,9697,0,21211]
[21,9799,11,9807,11,9819,21,9828,11,9837,1,21121]
[12,9944,24,9954,13,9964,23,9977,13,9999,0,12121]
[12,10104,24,10115,13,10126,23,10135,13,10160,0,12121]
[12,10277,24,10290,13,10299,14,10319,13,10325,0,12111]
[21,10422,11,10430,22,10439,14,10457,13,10464,0,21211]
[12,10562,13,10583,24,10592,23,10653,13,10672,0,11221]
[12,10773,13,10781,24,10790,14,10799,24,10808,0,11212]
[12,10911,13,10918,24,10926,14,10952,13,10959,0,11211]
[12,11065,13,11077,24,11086,14,11098,13,11116,0,11211]
[12,11230,24,11244,13,11253,23,11266,13,11276,0,12121]
[12,11384,24,11418,13,11441,14,11451,13,11461,0,12111]
[21,11561,11,11580,22,11591,14,11621,13,11628,0,21211]
[21,11728,11,11735,11,11745,21,11754,11,11768,1,21121]
[12,11871,13,11890,24,11899,14,11914,13,11921,0,11211]
[21,12058,11,12082,22,12091,23,12114,13,12131,0,21221]
[12,12236,13,12245,24,12253,14,12285,24,12297,0,11212]
[21,12407,11,12426,22,12438,23,12449,24,12461,0,21222]
[21,12560,11,12568,11,12575,21,12584,11,12593,1,21121]
[12,12690,24,12699,13,12707,23,12716,24,12729,0,12122]
[12,12829,24,12842,13,12861,23,12876,13,12896,0,12121]
[12,13011,24,13022,24,13043,14,13053,13,13061,0,12211]
[12,13156,24,13167,13,13177,23,13189,13,13216,0,12121]
[12,13314,13,13322,24,13330,14,13350,24,13359,0,11212]
[21,13458,11,13467,22,13476,14,13486,13,13500,0,21211]
[12,13602,13,13610,13,13628,14,13635,24,13658,0,11112]
[12,13770,13,13785,24,13794,14,13819,13,13825,0,11211]
[12,13937,24,13947,13,13968,14,13974,13,13982,0,12111]
[12,14086,24,14095,13,14104,23,14113,13,14123,0,12121]
[12,14254,24,14263,13,14272,23,14287,13,14303,0,12121]
[21,14403,22,14416,24,14438,14,14455,13,14463,0,22211]
[12,14581,24,14590,13,14611,23,14624,24,14634,0,12122]
[12,14741,24,14749,13,14764,14,14772,24,14785,0,12112]
[12,14888,13,14895,24,14904,14,14924,13,14931,0,11211]
[12,15044,24,15053,13,15061,23,15077,13,15086,0,12121]
[21,15185,11,15201,11,15211,21,15220,11,15239,1,21121]
[21,15349,11,15365,22,15374,14,15388,13,15394,0,21211]
[21,15501,22,15531,24,15557,14,15565,24,15577,0,22212]
[21,15758,22,15790,13,15801,14,15811,13,15818,0,22111]
[21,15925,22,15934,13,15943,23,15954,24,15972,0,22122]
[12,16086,24,16095,13,16115,14,16126,13,16133,0,12111]
[21,16233,11,16241,22,16250,14,16259,24,16268,0,21212]
[21,16373,22,16400,13,16409,23,16417,13,16428,0,22121]
[21,16526,11,16534,22,16542,14,16551,24,16563,0,21212]
[12,16693,13,16701,24,16709,14,16731,13,16739,0,11211]
[21,16842,11,16851,22,16860,14,16869,24,16879,0,21212]
[12,16989,24,16998,13,17032,14,17040,13,17051,0,12111]
[12,17168,24,17177,13,17185,23,17194,13,17203,0,12121]
[21,17300,11,17307,22,17315,14,17323,24,17335,0,21212]
[12,17445,13,17460,13,17472,23,17482,13,17494,0,11121]
[21,17591,11,17599,22,17609,23,17645,13,17662,0,21221]
[12,17774,24,17792,13,17812,14,17819,13,17828,0,12111]
[21,17925,11,17933,22,17948,14,17957,24,17968,0,21212]
[21,18065,22,18082,13,18090,23,18099,13,18115,0,22121]
[12,18224,24,18234,13,18244,23,18257,24,18285,0,12122]
[21,18390,11,18409,11,18425,12,18435,24,18453,0,21112]
[21,18581,11,18590,11,18610,12,18619,13,18629,0,21111]
[12,18734,13,18749,24,18767,14,18775,13,18781,0,11211]
[21,18881,11,18889,22,18897,14,18924,13,18945,0,21211]
[21,19044,11,19093,22,19104,14,19112,24,19123,0,21212]
[21,19221,11,19229,11,19238,21,19248,11,19260,1,21121]
[21,19407,22,19431,24,19478,14,19488,13,19511,0,22211]
[21,19639,11,19654,22,19665,14,19682,13,19695,0,21211]
[21,19835,11,19846,22,19883,14,19906,13,19913,0,21211]
[21,20039,22,20086,13,20107,14,20115,13,20123,0,22111]
[21,20241,11,20249,11,20269,12,20275,13,20297,0,21111]
[21,20443,11,20453,22,20483,14,20492,24,20504,0,21212]
[21,20626,11,20635,11,20653,12,20660,13,20668,0,21111]
[21,20770,11,20779,22,20790,14,20799,13,20817,0,21211]
[21,20937,11,20946,11,20969,12,20976,13,20983,0,21111]
[21,21082,22,21102,13,21110,23,21121,13,21130,0,22121]
[21,21231,22,21243,13,21271,23,21279,13,21289,0,22121]
[21,21411,11,21444,22,21454,14,21475,13,21500,0,21211]
[12,21607,13,21616,24,21626,14,21639,13,21647,0,11211]
[12,21755,13,21763,24,21797,14,21827,13,21841,0,11211]
[12,21946,13,21954,24,21962,14,21971,24,21984,0,11212]
[21,22096,22,22115,13,22125,23,22134,13,22149,0,22121]
[21,22249,11,22258,22,22266,14,22274,24,22283,0,21212]
[21,22382,11,22390,22,22406,14,22426,24,22438,0,21212]
[21,22537,11,22548,22,22557,14,22566,24,22580,0,21212]
[12,22687,24,22733,13,22742,14,22757,13,22770,0,12111]
[21,22868,11,22877,22,22886,14,22895,13,22904,0,21211]
[21,23003,11,23022,22,23031,14,23054,13,23063,0,21211]
[21,23163,11,23170,22,23179,14,23201,13,23212,0,21211]
[21,23310,11,23318,11,23332,21,23342,11,23351,1,21121]
[21,23485,22,23512,24,23547,14,23563,24,23600,0,22212]
[21,23725,11,23733,11,23747,21,23762,11,23778,1,21121]
[21,23915,22,23933,24,23966,14,23976,24,23988,null,22212]

{"sheet":"!MA11940.010","index":14,"n_rows":117,"n_cols":48,"rows_kept":117,"cut":false,"hidden":false,"merged":[[4,39,4,42],[5,39,5,40],[4,44,4,47],[5,44,5,45],[4,24,4,27],[5,24,5,25],[4,29,4,32],[5,29,5,30],[4,34,4,37],[5,34,5,35],[1,1,1,2],[5,13,5,14],[42,13,42,14],[43,13,43,14],[4,19,4,22],[5,19,5,20]]}
["Report for:!MA11940.010"]
["Date:","<date>"]
["Hen:","<hen>",null,null,null,"Correct Sequence",{"$f":"Start!J2","v":21121},null,null,null,null,null,null,null,null,"Total Sequences in Data",{"$f":"4994-COUNTBLANK(L7:L5000)","v":111},null,null,null,null,"Total Sequences in Block Data",{"$f":"COUNTA(L7:L25)","v":19},null,null,null,"Total Sequences in Block Data",{"$f":"COUNTA(L26:L43)","v":18},null,null,null,"Total Sequences in Block Data",{"$f":"COUNTA(L44:L62)","v":19},null,null,null,"Total Sequences in Block Data",{"$f":"COUNTA(L63:L80)","v":18},null,null,null,"Total Sequences in Block Data",{"$f":"COUNTA(L81:L99)","v":19},null,null,null,"Total Sequences in Block Data",{"$f":"COUNTA(L100:L117)","v":18}]
[null,null,null,null,null,null,null,null,null,null,null,null,null,null,null,"Total Sequences in Summary",{"$f":"SUM(O7:O38)","v":110},null,null,null,null,"Total Sequences in Block Summary",{"$f":"SUM(U7:U38)","v":19},null,null,null,"Total Sequences in Block Summary",{"$f":"SUM(Z7:Z38)","v":18},null,null,null,"Total Sequences in Block Summary",{"$f":"SUM(AE7:AE38)","v":19},null,null,null,"Total Sequences in Block Summary",{"$f":"SUM(AJ7:AJ38)","v":18},null,null,null,"Total Sequences in Block Summary",{"$f":"SUM(AO7:AO38)","v":19},null,null,null,"Total Sequences in Block Summary",{"$f":"SUM(AT7:AT38)","v":17}]
[null,null,null,null,null,null,null,null,null,null,null,null,null,null,null,null,null,null,null,"Block 1",null,null,null,null,"Block 2",null,null,null,null,"Block 3",null,null,null,null,"Block 4",null,null,null,null,"Block 5",null,null,null,null,"Block 6"]
["Sequence\nComponent\n1","Time\n1","Sequence\nComponent\n2","Time\n2","Sequence\nComponent\n3","Time\n3","Sequence\nComponent\n4","Time\n4","Sequence\nComponent\n5","Time\n5","Correct?\n0=No 1=Yes","Sequence",null,"Frequency",null,"Relative Frequency","Variability",null,null,"Frequency",null,"Relative Frequency","Variability",null,"Frequency",null,"Relative Frequency","Variability",null,"Frequency",null,"Relative Frequency","Variability",null,"Frequency",null,"Relative Frequency","Variability",null,"Frequency",null,"Relative Frequency","Variability",null,"Frequency",null,"Relative Frequency","Variability"]
[21,17,22,38,24,256,23,308,24,417,0,22222,null,11111,{"$f":"COUNTIF($L$7:$L$500,N7)","v":0},{"$f":"O7/$Q$4","v":0},{"$f":"IF(P7=0,0,(P7*((LOG(P7))/LOG(2))))","v":0},null,null,{"$f":"N7","v":11111},{"$f":"COUNTIF(L7:L25,T7)","v":0},{"$f":"U7/(W4-U25)","v":0},{"$f":"IF(V7=0,0,(V7*((LOG(V7))/LOG(2))))","v":0},null,{"$f":"N7","v":11111},{"$f":"COUNTIF(L26:L43,Y7)","v":0},{"$f":"Z7/(AB4-Z25)","v":0},{"$f":"IF(AA7=0,0,(AA7*((LOG(AA7))/LOG(2))))","v":0},null,{"$f":"N7","v":11111},{"$f":"COUNTIF(L44:L62,AD7)","v":0},{"$f":"AE7/(AG4-AE25)","v":0},{"$f":"IF(AF7=0,0,(AF7*((LOG(AF7))/LOG(2))))","v":0},null,{"$f":"N7","v":11111},{"$f":"COUNTIF(L63:L80,AI7)","v":0},{"$f":"AJ7/(AL4-AJ25)","v":0},{"$f":"IF(AK7=0,0,(AK7*((LOG(AK7))/LOG(2))))","v":0},null,{"$f":"N7","v":11111},{"$f":"COUNTIF(L81:L99,AN7)","v":0},{"$f":"AO7/(AQ4-AO25)","v":0},{"$f":"IF(AP7=0,0,(AP7*((LOG(AP7))/LOG(2))))","v":0},null,{"$f":"N7","v":11111},{"$f":"COUNTIF(L100:L117,AS7)","v":0},{"$f":"AT7/(AV4-AT25)","v":0},{"$f":"IF(AU7=0,0,(AU7*((LOG(AU7))/LOG(2))))","v":0}]
[21,537,22,554,24,747,14,757,24,772,0,22212,null,11112,{"$f":"COUNTIF($L$7:$L$500,N8)","v":0},{"$f":"O8/$Q$4","v":0},{"$f":"IF(P8=0,0,(P8*((LOG(P8))/LOG(2))))","v":0},null,null,{"$f":"N8","v":11112},{"$f":"COUNTIF(L7:L25,T8)","v":0},{"$f":"U8/(W4-U25)","v":0},{"$f":"IF(V8=0,0,(V8*((LOG(V8))/LOG(2))))","v":0},null,{"$f":"N8","v":11112},{"$f":"COUNTIF(L26:L43,Y8)","v":0},{"$f":"Z8/(AB4-Z25)","v":0},{"$f":"IF(AA8=0,0,(AA8*((LOG(AA8))/LOG(2))))","v":0},null,{"$f":"N8","v":11112},{"$f":"COUNTIF(L44:L62,AD8)","v":0},{"$f":"AE8/(AG4-AE25)","v":0},{"$f":"IF(AF8=0,0,(AF8*((LOG(AF8))/LOG(2))))","v":0},null,{"$f":"N8","v":11112},{"$f":"COUNTIF(L63:L80,AI8)","v":0},{"$f":"AJ8/(AL4-AJ25)","v":0},{"$f":"IF(AK8=0,0,(AK8*((LOG(AK8))/LOG(2))))","v":0},null,{"$f":"N8","v":11112},{"$f":"COUNTIF(L81:L99,AN8)","v":0},{"$f":"AO8/(AQ4-AO25)","v":0},{"$f":"IF(AP8=0,0,(AP8*((LOG(AP8))/LOG(2))))","v":0},null,{"$f":"N8","v":11112},{"$f":"COUNTIF(L100:L117,AS8)","v":0},{"$f":"AT8/(AV4-AT25)","v":0},{"$f":"IF(AU8=0,0,(AU8*((LOG(AU8))/LOG(2))))","v":0}]
[21,953,22,982,13,992,23,1008,24,1041,0,22122,null,11121,{"$f":"COUNTIF($L$7:$L$500,N9)","v":0},{"$f":"O9/$Q$4","v":0},{"$f":"IF(P9=0,0,(P9*((LOG(P9))/LOG(2))))","v":0},null,null,{"$f":"N9","v":11121},{"$f":"COUNTIF(L7:L25,T9)","v":0},{"$f":"U9/(W4-U25)","v":0},{"$f":"IF(V9=0,0,(V9*((LOG(V9))/LOG(2))))","v":0},null,{"$f":"N9","v":11121},{"$f":"COUNTIF(L26:L43,Y9)","v":0},{"$f":"Z9/(AB4-Z25)","v":0},{"$f":"IF(AA9=0,0,(AA9*((LOG(AA9))/LOG(2))))","v":0},null,{"$f":"N9","v":11121},{"$f":"COUNTIF(L44:L62,AD9)","v":0},{"$f":"AE9/(AG4-AE25)","v":0},{"$f":"IF(AF9=0,0,(AF9*((LOG(AF9))/LOG(2))))","v":0},null,{"$f":"N9","v":11121},{"$f":"COUNTIF(L63:L80,AI9)","v":0},{"$f":"AJ9/(AL4-AJ25)","v":0},{"$f":"IF(AK9=0,0,(AK9*((LOG(AK9))/LOG(2))))","v":0},null,{"$f":"N9","v":11121},{"$f":"COUNTIF(L81:L99,AN9)","v":0},{"$f":"AO9/(AQ4-AO25)","v":0},{"$f":"IF(AP9=0,0,(AP9*((LOG(AP9))/LOG(2))))","v":0},null,{"$f":"N9","v":11121},{"$f":"COUNTIF(L100:L117,AS9)","v":0},{"$f":"AT9/(AV4-AT25)","v":0},{"$f":"IF(AU9=0,0,(AU9*((LOG(AU9))/LOG(2))))","v":0}]
[21,1249,11,1262,22,1275,14,1329,24,1342,0,21212,null,11122,{"$f":"COUNTIF($L$7:$L$500,N10)","v":0},{"$f":"O10/$Q$4","v":0},{"$f":"IF(P10=0,0,(P10*((LOG(P10))/LOG(2))))","v":0},null,null,{"$f":"N10","v":11122},{"$f":"COUNTIF(L7:L25,T10)","v":0},{"$f":"U10/(W4-U25)","v":0},{"$f":"IF(V10=0,0,(V10*((LOG(V10))/LOG(2))))","v":0},null,{"$f":"N10","v":11122},{"$f":"COUNTIF(L26:L43,Y10)","v":0},{"$f":"Z10/(AB4-Z25)","v":0},{"$f":"IF(AA10=0,0,(AA10*((LOG(AA10))/LOG(2))))","v":0},null,{"$f":"N10","v":11122},{"$f":"COUNTIF(L44:L62,AD10)","v":0},{"$f":"AE10/(AG4-AE25)","v":0},{"$f":"IF(AF10=0,0,(AF10*((LOG(AF10))/LOG(2))))","v":0},null,{"$f":"N10","v":11122},{"$f":"COUNTIF(L63:L80,AI10)","v":0},{"$f":"AJ10/(AL4-AJ25)","v":0},{"$f":"IF(AK10=0,0,(AK10*((LOG(AK10))/LOG(2))))","v":0},null,{"$f":"N10","v":11122},{"$f":"COUNTIF(L81:L99,AN10)","v":0},{"$f":"AO10/(AQ4-AO25)","v":0},{"$f":"IF(AP10=0,0,(AP10*((LOG(AP10))/LOG(2))))","v":0},null,{"$f":"N10","v":11122},{"$f":"COUNTIF(L100:L117,AS10)","v":0},{"$f":"AT10/(AV4-AT25)","v":0},{"$f":"IF(AU10=0,0,(AU10*((LOG(AU10))/LOG(2))))","v":0}]
[21,1468,11,1488,22,1500,14,1518,13,1532,0,21211,null,11211,{"$f":"COUNTIF($L$7:$L$500,N11)","v":5},{"$f":"O11/$Q$4","v":4.5454545454545456E-2},{"$f":"IF(P11=0,0,(P11*((LOG(P11))/LOG(2))))","v":-0.20270143721078623},null,null,{"$f":"N11","v":11211},{"$f":"COUNTIF(L7:L25,T11)","v":0},{"$f":"U11/(W4-U25)","v":0},{"$f":"IF(V11=0,0,(V11*((LOG(V11))/LOG(2))))","v":0},null,{"$f":"N11","v":11211},{"$f":"COUNTIF(L26:L43,Y11)","v":0},{"$f":"Z11/(AB4-Z25)","v":0},{"$f":"IF(AA11=0,0,(AA11*((LOG(AA11))/LOG(2))))","v":0},null,{"$f":"N11","v":11211},{"$f":"COUNTIF(L44:L62,AD11)","v":0},{"$f":"AE11/(AG4-AE25)","v":0},{"$f":"IF(AF11=0,0,(AF11*((LOG(AF11))/LOG(2))))","v":0},null,{"$f":"N11","v":11211},{"$f":"COUNTIF(L63:L80,AI11)","v":5},{"$f":"AJ11/(AL4-AJ25)","v":0.3125},{"$f":"IF(AK11=0,0,(AK11*((LOG(AK11))/LOG(2))))","v":-0.52439747034769923},null,{"$f":"N11","v":11211},{"$f":"COUNTIF(L81:L99,AN11)","v":0},{"$f":"AO11/(AQ4-AO25)","v":0},{"$f":"IF(AP11=0,0,(AP11*((LOG(AP11))/LOG(2))))","v":0},null,{"$f":"N11","v":11211},{"$f":"COUNTIF(L100:L117,AS11)","v":0},{"$f":"AT11/(AV4-AT25)","v":0},{"$f":"IF(AU11=0,0,(AU11*((LOG(AU11))/LOG(2))))","v":0}]
[21,1652,11,1661,22,1674,23,1684,13,1701,0,21221,null,11212,{"$f":"COUNTIF($L$7:$L$500,N12)","v":4},{"$f":"O12/$Q$4","v":3.6363636363636362E-2},{"$f":"IF(P12=0,0,(P12*((LOG(P12))/LOG(2))))","v":-0.17386762594635127},null,null,{"$f":"N12","v":11212},{"$f":"COUNTIF(L7:L25,T12)","v":0},{"$f":"U12/(W4-U25)","v":0},{"$f":"IF(V12=0,0,(V12*((LOG(V12))/LOG(2))))","v":0},null,{"$f":"N12","v":11212},{"$f":"COUNTIF(L26:L43,Y12)","v":1},{"$f":"Z12/(AB4-Z25)","v":6.25E-2},{"$f":"IF(AA12=0,0,(AA12*((LOG(AA12))/LOG(2))))","v":-0.25},null,{"$f":"N12","v":11212},{"$f":"COUNTIF(L44:L62,AD12)","v":1},{"$f":"AE12/(AG4-AE25)","v":6.25E-2},{"$f":"IF(AF12=0,0,(AF12*((LOG(AF12))/LOG(2))))","v":-0.25},null,{"$f":"N12","v":11212},{"$f":"COUNTIF(L63:L80,AI12)","v":2},{"$f":"AJ12/(AL4-AJ25)","v":0.125},{"$f":"IF(AK12=0,0,(AK12*((LOG(AK12))/LOG(2))))","v":-0.375},null,{"$f":"N12","v":11212},{"$f":"COUNTIF(L81:L99,AN12)","v":0},{"$f":"AO12/(AQ4-AO25)","v":0},{"$f":"IF(AP12=0,0,(AP12*((LOG(AP12))/LOG(2))))","v":0},null,{"$f":"N12","v":11212},{"$f":"COUNTIF(L100:L117,AS12)","v":0},{"$f":"AT12/(AV4-AT25)","v":0},{"$f":"IF(AU12=0,0,(AU12*((LOG(AU12))/LOG(2))))","v":0}]
[21,1803,22,1830,13,1855,23,1879,13,1906,0,22121,null,11221,{"$f":"COUNTIF($L$7:$L$500,N13)","v":1},{"$f":"O13/$Q$4","v":9.0909090909090905E-3},{"$f":"IF(P13=0,0,(P13*((LOG(P13))/LOG(2))))","v":-6.1648724668405985E-2},null,null,{"$f":"N13","v":11221},{"$f":"COUNTIF(L7:L25,T13)","v":0},{"$f":"U13/(W4-U25)","v":0},{"$f":"IF(V13=0,0,(V13*((LOG(V13))/LOG(2))))","v":0},null,{"$f":"N13","v":11221},{"$f":"COUNTIF(L26:L43,Y13)","v":0},{"$f":"Z13/(AB4-Z25)","v":0},{"$f":"IF(AA13=0,0,(AA13*((LOG(AA13))/LOG(2))))","v":0},null,{"$f":"N13","v":11221},{"$f":"COUNTIF(L44:L62,AD13)","v":1},{"$f":"AE13/(AG4-AE25)","v":6.25E-2},{"$f":"IF(AF13=0,0,(AF13*((LOG(AF13))/LOG(2))))","v":-0.25},null,{"$f":"N13","v":11221},{"$f":"COUNTIF(L63:L80,AI13)","v":0},{"$f":"AJ13/(AL4-AJ25)","v":0},{"$f":"IF(AK13=0,0,(AK13*((LOG(AK13))/LOG(2))))","v":0},null,{"$f":"N13","v":11221},{"$f":"COUNTIF(L81:L99,AN13)","v":0},{"$f":"AO13/(AQ4-AO25)","v":0},{"$f":"IF(AP13=0,0,(AP13*((LOG(AP13))/LOG(2))))","v":0},null,{"$f":"N13","v":11221},{"$f":"COUNTIF(L100:L117,AS13)","v":0},{"$f":"AT13/(AV4-AT25)","v":0},{"$f":"IF(AU13=0,0,(AU13*((LOG(AU13))/LOG(2))))","v":0}]
[21,2974,11,3001,22,3033,23,3080,13,3097,0,21221,null,11222,{"$f":"COUNTIF($L$7:$L$500,N14)","v":0},{"$f":"O14/$Q$4","v":0},{"$f":"IF(P14=0,0,(P14*((LOG(P14))/LOG(2))))","v":0},null,null,{"$f":"N14","v":11222},{"$f":"COUNTIF(L7:L25,T14)","v":0},{"$f":"U14/(W4-U25)","v":0},{"$f":"IF(V14=0,0,(V14*((LOG(V14))/LOG(2))))","v":0},null,{"$f":"N14","v":11222},{"$f":"COUNTIF(L26:L43,Y14)","v":0},{"$f":"Z14/(AB4-Z25)","v":0},{"$f":"IF(AA14=0,0,(AA14*((LOG(AA14))/LOG(2))))","v":0},null,{"$f":"N14","v":11222},{"$f":"COUNTIF(L44:L62,AD14)","v":0},{"$f":"AE14/(AG4-AE25)","v":0},{"$f":"IF(AF14=0,0,(AF14*((LOG(AF14))/LOG(2))))","v":0},null,{"$f":"N14","v":11222},{"$f":"COUNTIF(L63:L80,AI14)","v":0},{"$f":"AJ14/(AL4-AJ25)","v":0},{"$f":"IF(AK14=0,0,(AK14*((LOG(AK14))/LOG(2))))","v":0},null,{"$f":"N14","v":11222},{"$f":"COUNTIF(L81:L99,AN14)","v":0},{"$f":"AO14/(AQ4-AO25)","v":0},{"$f":"IF(AP14=0,0,(AP14*((LOG(AP14))/LOG(2))))","v":0},null,{"$f":"N14","v":11222},{"$f":"COUNTIF(L100:L117,AS14)","v":0},{"$f":"AT14/(AV4-AT25)","v":0},{"$f":"IF(AU14=0,0,(AU14*((LOG(AU14))/LOG(2))))","v":0}]
[21,3242,22,3277,24,3305,23,3354,13,3370,0,22221,null,12111,{"$f":"COUNTIF($L$7:$L$500,N15)","v":3},{"$f":"O15/$Q$4","v":2.7272727272727271E-2},{"$f":"IF(P15=0,0,(P15*((LOG(P15))/LOG(2))))","v":-0.14171992398555008},null,null,{"$f":"N15","v":12111},{"$f":"COUNTIF(L7:L25,T15)","v":1},{"$f":"U15/(W4-U25)","v":5.2631578947368418E-2},{"$f":"IF(V15=0,0,(V15*((LOG(V15))/LOG(2))))","v":-0.22357513228650452},null,{"$f":"N15","v":12111},{"$f":"COUNTIF(L26:L43,Y15)","v":0},{"$f":"Z15/(AB4-Z25)","v":0},{"$f":"IF(AA15=0,0,(AA15*((LOG(AA15))/LOG(2))))","v":0},null,{"$f":"N15","v":12111},{"$f":"COUNTIF(L44:L62,AD15)","v":0},{"$f":"AE15/(AG4-AE25)","v":0},{"$f":"IF(AF15=0,0,(AF15*((LOG(AF15))/LOG(2))))","v":0},null,{"$f":"N15","v":12111},{"$f":"COUNTIF(L63:L80,AI15)","v":0},{"$f":"AJ15/(AL4-AJ25)","v":0},{"$f":"IF(AK15=0,0,(AK15*((LOG(AK15))/LOG(2))))","v":0},null,{"$f":"N15","v":12111},{"$f":"COUNTIF(L81:L99,AN15)","v":1},{"$f":"AO15/(AQ4-AO25)","v":5.5555555555555552E-2},{"$f":"IF(AP15=0,0,(AP15*((LOG(AP15))/LOG(2))))","v":-0.23166250008012845},null,{"$f":"N15","v":12111},{"$f":"COUNTIF(L100:L117,AS15)","v":1},{"$f":"AT15/(AV4-AT25)","v":6.25E-2},{"$f":"IF(AU15=0,0,(AU15*((LOG(AU15))/LOG(2))))","v":-0.25}]
[21,3560,22,3576,24,3622,23,3647,13,3714,0,22221,null,12112,{"$f":"COUNTIF($L$7:$L$500,N16)","v":4},{"$f":"O16/$Q$4","v":3.6363636363636362E-2},{"$f":"IF(P16=0,0,(P16*((LOG(P16))/LOG(2))))","v":-0.17386762594635127},null,null,{"$f":"N16","v":12112},{"$f":"COUNTIF(L7:L25,T16)","v":0},{"$f":"U16/(W4-U25)","v":0},{"$f":"IF(V16=0,0,(V16*((LOG(V16))/LOG(2))))","v":0},null,{"$f":"N16","v":12112},{"$f":"COUNTIF(L26:L43,Y16)","v":0},{"$f":"Z16/(AB4-Z25)","v":0},{"$f":"IF(AA16=0,0,(AA16*((LOG(AA16))/LOG(2))))","v":0},null,{"$f":"N16","v":12112},{"$f":"COUNTIF(L44:L62,AD16)","v":2},{"$f":"AE16/(AG4-AE25)","v":0.125},{"$f":"IF(AF16=0,0,(AF16*((LOG(AF16))/LOG(2))))","v":-0.375},null,{"$f":"N16","v":12112},{"$f":"COUNTIF(L63:L80,AI16)","v":0},{"$f":"AJ16/(AL4-AJ25)","v":0},{"$f":"IF(AK16=0,0,(AK16*((LOG(AK16))/LOG(2))))","v":0},null,{"$f":"N16","v":12112},{"$f":"COUNTIF(L81:L99,AN16)","v":0},{"$f":"AO16/(AQ4-AO25)","v":0},{"$f":"IF(AP16=0,0,(AP16*((LOG(AP16))/LOG(2))))","v":0},null,{"$f":"N16","v":12112},{"$f":"COUNTIF(L100:L117,AS16)","v":2},{"$f":"AT16/(AV4-AT25)","v":0.125},{"$f":"IF(AU16=0,0,(AU16*((LOG(AU16))/LOG(2))))","v":-0.375}]
[21,3923,22,3941,24,3970,23,3984,24,3998,0,22222,null,12121,{"$f":"COUNTIF($L$7:$L$500,N17)","v":13},{"$f":"O17/$Q$4","v":0.11818181818181818},{"$f":"IF(P17=0,0,(P17*((LOG(P17))/LOG(2))))","v":-0.36410872672714889},null,null,{"$f":"N17","v":12121},{"$f":"COUNTIF(L7:L25,T17)","v":0},{"$f":"U17/(W4-U25)","v":0},{"$f":"IF(V17=0,0,(V17*((LOG(V17))/LOG(2))))","v":0},null,{"$f":"N17","v":12121},{"$f":"COUNTIF(L26:L43,Y17)","v":3},{"$f":"Z17/(AB4-Z25)","v":0.1875},{"$f":"IF(AA17=0,0,(AA17*((LOG(AA17))/LOG(2))))","v":-0.45281953111478312},null,{"$f":"N17","v":12121},{"$f":"COUNTIF(L44:L62,AD17)","v":2},{"$f":"AE17/(AG4-AE25)","v":0.125},{"$f":"IF(AF17=0,0,(AF17*((LOG(AF17))/LOG(2))))","v":-0.375},null,{"$f":"N17","v":12121},{"$f":"COUNTIF(L63:L80,AI17)","v":2},{"$f":"AJ17/(AL4-AJ25)","v":0.125},{"$f":"IF(AK17=0,0,(AK17*((LOG(AK17))/LOG(2))))","v":-0.375},null,{"$f":"N17","v":12121},{"$f":"COUNTIF(L81:L99,AN17)","v":3},{"$f":"AO17/(AQ4-AO25)","v":0.16666666666666666},{"$f":"IF(AP17=0,0,(AP17*((LOG(AP17))/LOG(2))))","v":-0.43082708345352599},null,{"$f":"N17","v":12121},{"$f":"COUNTIF(L100:L117,AS17)","v":3},{"$f":"AT17/(AV4-AT25)","v":0.1875},{"$f":"IF(AU17=0,0,(AU17*((LOG(AU17))/LOG(2))))","v":-0.45281953111478312}]
[21,4329,22,4345,24,4401,14,4436,24,4447,0,22212,null,12122,{"$f":"COUNTIF($L$7:$L$500,N18)","v":1},{"$f":"O18/$Q$4","v":9.0909090909090905E-3},{"$f":"IF(P18=0,0,(P18*((LOG(P18))/LOG(2))))","v":-6.1648724668405985E-2},null,null,{"$f":"N18","v":12122},{"$f":"COUNTIF(L7:L25,T18)","v":0},{"$f":"U18/(W4-U25)","v":0},{"$f":"IF(V18=0,0,(V18*((LOG(V18))/LOG(2))))","v":0},null,{"$f":"N18","v":12122},{"$f":"COUNTIF(L26:L43,Y18)","v":1},{"$f":"Z18/(AB4-Z25)","v":6.25E-2},{"$f":"IF(AA18=0,0,(AA18*((LOG(AA18))/LOG(2))))","v":-0.25},null,{"$f":"N18","v":12122},{"$f":"COUNTIF(L44:L62,AD18)","v":0},{"$f":"AE18/(AG4-AE25)","v":0},{"$f":"IF(AF18=0,0,(AF18*((LOG(AF18))/LOG(2))))","v":0},null,{"$f":"N18","v":12122},{"$f":"COUNTIF(L63:L80,AI18)","v":0},{"$f":"AJ18/(AL4-AJ25)","v":0},{"$f":"IF(AK18=0,0,(AK18*((LOG(AK18))/LOG(2))))","v":0},null,{"$f":"N18","v":12122},{"$f":"COUNTIF(L81:L99,AN18)","v":0},{"$f":"AO18/(AQ4-AO25)","v":0},{"$f":"IF(AP18=0,0,(AP18*((LOG(AP18))/LOG(2))))","v":0},null,{"$f":"N18","v":12122},{"$f":"COUNTIF(L100:L117,AS18)","v":0},{"$f":"AT18/(AV4-AT25)","v":0},{"$f":"IF(AU18=0,0,(AU18*((LOG(AU18))/LOG(2))))","v":0}]
[21,4805,11,4827,22,4840,14,4863,24,4881,0,21212,null,12211,{"$f":"COUNTIF($L$7:$L$500,N19)","v":1},{"$f":"O19/$Q$4","v":9.0909090909090905E-3},{"$f":"IF(P19=0,0,(P19*((LOG(P19))/LOG(2))))","v":-6.1648724668405985E-2},null,null,{"$f":"N19","v":12211},{"$f":"COUNTIF(L7:L25,T19)","v":0},{"$f":"U19/(W4-U25)","v":0},{"$f":"IF(V19=0,0,(V19*((LOG(V19))/LOG(2))))","v":0},null,{"$f":"N19","v":12211},{"$f":"COUNTIF(L26:L43,Y19)","v":0},{"$f":"Z19/(AB4-Z25)","v":0},{"$f":"IF(AA19=0,0,(AA19*((LOG(AA19))/LOG(2))))","v":0},null,{"$f":"N19","v":12211},{"$f":"COUNTIF(L44:L62,AD19)","v":0},{"$f":"AE19/(AG4-AE25)","v":0},{"$f":"IF(AF19=0,0,(AF19*((LOG(AF19))/LOG(2))))","v":0},null,{"$f":"N19","v":12211},{"$f":"COUNTIF(L63:L80,AI19)","v":0},{"$f":"AJ19/(AL4-AJ25)","v":0},{"$f":"IF(AK19=0,0,(AK19*((LOG(AK19))/LOG(2))))","v":0},null,{"$f":"N19","v":12211},{"$f":"COUNTIF(L81:L99,AN19)","v":1},{"$f":"AO19/(AQ4-AO25)","v":5.5555555555555552E-2},{"$f":"IF(AP19=0,0,(AP19*((LOG(AP19))/LOG(2))))","v":-0.23166250008012845},null,{"$f":"N19","v":12211},{"$f":"COUNTIF(L100:L117,AS19)","v":0},{"$f":"AT19/(AV4-AT25)","v":0},{"$f":"IF(AU19=0,0,(AU19*((LOG(AU19))/LOG(2))))","v":0}]
[21,4986,22,5010,24,5048,23,5063,13,5078,0,22221,null,12212,{"$f":"COUNTIF($L$7:$L$500,N20)","v":3},{"$f":"O20/$Q$4","v":2.7272727272727271E-2},{"$f":"IF(P20=0,0,(P20*((LOG(P20))/LOG(2))))","v":-0.14171992398555008},null,null,{"$f":"N20","v":12212},{"$f":"COUNTIF(L7:L25,T20)","v":0},{"$f":"U20/(W4-U25)","v":0},{"$f":"IF(V20=0,0,(V20*((LOG(V20))/LOG(2))))","v":0},null,{"$f":"N20","v":12212},{"$f":"COUNTIF(L26:L43,Y20)","v":1},{"$f":"Z20/(AB4-Z25)","v":6.25E-2},{"$f":"IF(AA20=0,0,(AA20*((LOG(AA20))/LOG(2))))","v":-0.25},null,{"$f":"N20","v":12212},{"$f":"COUNTIF(L44:L62,AD20)","v":1},{"$f":"AE20/(AG4-AE25)","v":6.25E-2},{"$f":"IF(AF20=0,0,(AF20*((LOG(AF20))/LOG(2))))","v":-0.25},null,{"$f":"N20","v":12212},{"$f":"COUNTIF(L63:L80,AI20)","v":0},{"$f":"AJ20/(AL4-AJ25)","v":0},{"$f":"IF(AK20=0,0,(AK20*((LOG(AK20))/LOG(2))))","v":0},null,{"$f":"N20","v":12212},{"$f":"COUNTIF(L81:L99,AN20)","v":0},{"$f":"AO20/(AQ4-AO25)","v":0},{"$f":"IF(AP20=0,0,(AP20*((LOG(AP20))/LOG(2))))","v":0},null,{"$f":"N20","v":12212},{"$f":"COUNTIF(L100:L117,AS20)","v":1},{"$f":"AT20/(AV4-AT25)","v":6.25E-2},{"$f":"IF(AU20=0,0,(AU20*((LOG(AU20))/LOG(2))))","v":-0.25}]
[21,5214,22,5281,24,5307,23,5326,13,5336,0,22221,null,12221,{"$f":"COUNTIF($L$7:$L$500,N21)","v":0},{"$f":"O21/$Q$4","v":0},{"$f":"IF(P21=0,0,(P21*((LOG(P21))/LOG(2))))","v":0},null,null,{"$f":"N21","v":12221},{"$f":"COUNTIF(L7:L25,T21)","v":0},{"$f":"U21/(W4-U25)","v":0},{"$f":"IF(V21=0,0,(V21*((LOG(V21))/LOG(2))))","v":0},null,{"$f":"N21","v":12221},{"$f":"COUNTIF(L26:L43,Y21)","v":0},{"$f":"Z21/(AB4-Z25)","v":0},{"$f":"IF(AA21=0,0,(AA21*((LOG(AA21))/LOG(2))))","v":0},null,{"$f":"N21","v":12221},{"$f":"COUNTIF(L44:L62,AD21)","v":0},{"$f":"AE21/(AG4-AE25)","v":0},{"$f":"IF(AF21=0,0,(AF21*((LOG(AF21))/LOG(2))))","v":0},null,{"$f":"N21","v":12221},{"$f":"COUNTIF(L63:L80,AI21)","v":0},{"$f":"AJ21/(AL4-AJ25)","v":0},{"$f":"IF(AK21=0,0,(AK21*((LOG(AK21))/LOG(2))))","v":0},null,{"$f":"N21","v":12221},{"$f":"COUNTIF(L81:L99,AN21)","v":0},{"$f":"AO21/(AQ4-AO25)","v":0},{"$f":"IF(AP21=0,0,(AP21*((LOG(AP21))/LOG(2))))","v":0},null,{"$f":"N21","v":12221},{"$f":"COUNTIF(L100:L117,AS21)","v":0},{"$f":"AT21/(AV4-AT25)","v":0},{"$f":"IF(AU21=0,0,(AU21*((LOG(AU21))/LOG(2))))","v":0}]
[21,5528,22,5572,13,5622,14,5631,24,5644,0,22112,null,12222,{"$f":"COUNTIF($L$7:$L$500,N22)","v":0},{"$f":"O22/$Q$4","v":0},{"$f":"IF(P22=0,0,(P22*((LOG(P22))/LOG(2))))","v":0},null,null,{"$f":"N22","v":12222},{"$f":"COUNTIF(L7:L25,T22)","v":0},{"$f":"U22/(W4-U25)","v":0},{"$f":"IF(V22=0,0,(V22*((LOG(V22))/LOG(2))))","v":0},null,{"$f":"N22","v":12222},{"$f":"COUNTIF(L26:L43,Y22)","v":0},{"$f":"Z22/(AB4-Z25)","v":0},{"$f":"IF(AA22=0,0,(AA22*((LOG(AA22))/LOG(2))))","v":0},null,{"$f":"N22","v":12222},{"$f":"COUNTIF(L44:L62,AD22)","v":0},{"$f":"AE22/(AG4-AE25)","v":0},{"$f":"IF(AF22=0,0,(AF22*((LOG(AF22))/LOG(2))))","v":0},null,{"$f":"N22","v":12222},{"$f":"COUNTIF(L63:L80,AI22)","v":0},{"$f":"AJ22/(AL4-AJ25)","v":0},{"$f":"IF(AK22=0,0,(AK22*((LOG(AK22))/LOG(2))))","v":0},null,{"$f":"N22","v":12222},{"$f":"COUNTIF(L81:L99,AN22)","v":0},{"$f":"AO22/(AQ4-AO25)","v":0},{"$f":"IF(AP22=0,0,(AP22*((LOG(AP22))/LOG(2))))","v":0},null,{"$f":"N22","v":12222},{"$f":"COUNTIF(L100:L117,AS22)","v":0},{"$f":"AT22/(AV4-AT25)","v":0},{"$f":"IF(AU22=0,0,(AU22*((LOG(AU22))/LOG(2))))","v":0}]
[12,5980,24,5997,13,6021,14,6034,13,6052,0,12111,null,21111,{"$f":"COUNTIF($L$7:$L$500,N23)","v":1},{"$f":"O23/$Q$4","v":9.0909090909090905E-3},{"$f":"IF(P23=0,0,(P23*((LOG(P23))/LOG(2))))","v":-6.1648724668405985E-2},null,null,{"$f":"N23","v":21111},{"$f":"COUNTIF(L7:L25,T23)","v":0},{"$f":"U23/(W4-U25)","v":0},{"$f":"IF(V23=0,0,(V23*((LOG(V23))/LOG(2))))","v":0},null,{"$f":"N23","v":21111},{"$f":"COUNTIF(L26:L43,Y23)","v":0},{"$f":"Z23/(AB4-Z25)","v":0},{"$f":"IF(AA23=0,0,(AA23*((LOG(AA23))/LOG(2))))","v":0},null,{"$f":"N23","v":21111},{"$f":"COUNTIF(L44:L62,AD23)","v":0},{"$f":"AE23/(AG4-AE25)","v":0},{"$f":"IF(AF23=0,0,(AF23*((LOG(AF23))/LOG(2))))","v":0},null,{"$f":"N23","v":21111},{"$f":"COUNTIF(L63:L80,AI23)","v":1},{"$f":"AJ23/(AL4-AJ25)","v":6.25E-2},{"$f":"IF(AK23=0,0,(AK23*((LOG(AK23))/LOG(2))))","v":-0.25},null,{"$f":"N23","v":21111},{"$f":"COUNTIF(L81:L99,AN23)","v":0},{"$f":"AO23/(AQ4-AO25)","v":0},{"$f":"IF(AP23=0,0,(AP23*((LOG(AP23))/LOG(2))))","v":0},null,{"$f":"N23","v":21111},{"$f":"COUNTIF(L100:L117,AS23)","v":0},{"$f":"AT23/(AV4-AT25)","v":0},{"$f":"IF(AU23=0,0,(AU23*((LOG(AU23))/LOG(2))))","v":0}]
[21,6285,22,6300,24,6398,23,6503,24,6517,0,22222,null,21112,{"$f":"COUNTIF($L$7:$L$500,N24)","v":2},{"$f":"O24/$Q$4","v":1.8181818181818181E-2},{"$f":"IF(P24=0,0,(P24*((LOG(P24))/LOG(2))))","v":-0.10511563115499381},null,null,{"$f":"N24","v":21112},{"$f":"COUNTIF(L7:L25,T24)","v":0},{"$f":"U24/(W4-U25)","v":0},{"$f":"IF(V24=0,0,(V24*((LOG(V24))/LOG(2))))","v":0},null,{"$f":"N24","v":21112},{"$f":"COUNTIF(L26:L43,Y24)","v":0},{"$f":"Z24/(AB4-Z25)","v":0},{"$f":"IF(AA24=0,0,(AA24*((LOG(AA24))/LOG(2))))","v":0},null,{"$f":"N24","v":21112},{"$f":"COUNTIF(L44:L62,AD24)","v":0},{"$f":"AE24/(AG4-AE25)","v":0},{"$f":"IF(AF24=0,0,(AF24*((LOG(AF24))/LOG(2))))","v":0},null,{"$f":"N24","v":21112},{"$f":"COUNTIF(L63:L80,AI24)","v":0},{"$f":"AJ24/(AL4-AJ25)","v":0},{"$f":"IF(AK24=0,0,(AK24*((LOG(AK24))/LOG(2))))","v":0},null,{"$f":"N24","v":21112},{"$f":"COUNTIF(L81:L99,AN24)","v":0},{"$f":"AO24/(AQ4-AO25)","v":0},{"$f":"IF(AP24=0,0,(AP24*((LOG(AP24))/LOG(2))))","v":0},null,{"$f":"N24","v":21112},{"$f":"COUNTIF(L100:L117,AS24)","v":2},{"$f":"AT24/(AV4-AT25)","v":0.125},{"$f":"IF(AU24=0,0,(AU24*((LOG(AU24))/LOG(2))))","v":-0.375}]
[21,6634,22,6644,24,6658,23,6707,13,6718,0,22221,null,21121,{"$f":"COUNTIF($L$7:$L$500,N25)","v":9},{"$f":"O25/$Q$4","v":8.1818181818181818E-2},{"$f":"IF(P25=0,0,(P25*((LOG(P25))/LOG(2))))","v":-0.29548102189764658},null,null,{"$f":"N25","v":21121},{"$f":"COUNTIF(L7:L25,T25)","v":0},null,null,null,{"$f":"N25","v":21121},{"$f":"COUNTIF(L26:L43,Y25)","v":2},null,null,null,{"$f":"N25","v":21121},{"$f":"COUNTIF(L44:L62,AD25)","v":3},null,null,null,{"$f":"N25","v":21121},{"$f":"COUNTIF(L63:L80,AI25)","v":2},null,null,null,{"$f":"N25","v":21121},{"$f":"COUNTIF(L81:L99,AN25)","v":1},null,null,null,{"$f":"N25","v":21121},{"$f":"COUNTIF(L100:L117,AS25)","v":1}]
[12,6942,24,6957,24,6998,14,7013,24,7027,0,12212,null,21122,{"$f":"COUNTIF($L$7:$L$500,N26)","v":0},{"$f":"O26/$Q$4","v":0},{"$f":"IF(P26=0,0,(P26*((LOG(P26))/LOG(2))))","v":0},null,null,{"$f":"N26","v":21122},{"$f":"COUNTIF(L7:L25,T26)","v":0},{"$f":"U26/(W4-U25)","v":0},{"$f":"IF(V26=0,0,(V26*((LOG(V26))/LOG(2))))","v":0},null,{"$f":"N26","v":21122},{"$f":"COUNTIF(L26:L43,Y26)","v":0},{"$f":"Z26/(AB4-Z25)","v":0},{"$f":"IF(AA26=0,0,(AA26*((LOG(AA26))/LOG(2))))","v":0},null,{"$f":"N26","v":21122},{"$f":"COUNTIF(L44:L62,AD26)","v":0},{"$f":"AE26/(AG4-AE25)","v":0},{"$f":"IF(AF26=0,0,(AF26*((LOG(AF26))/LOG(2))))","v":0},null,{"$f":"N26","v":21122},{"$f":"COUNTIF(L63:L80,AI26)","v":0},{"$f":"AJ26/(AL4-AJ25)","v":0},{"$f":"IF(AK26=0,0,(AK26*((LOG(AK26))/LOG(2))))","v":0},null,{"$f":"N26","v":21122},{"$f":"COUNTIF(L81:L99,AN26)","v":0},{"$f":"AO26/(AQ4-AO25)","v":0},{"$f":"IF(AP26=0,0,(AP26*((LOG(AP26))/LOG(2))))","v":0},null,{"$f":"N26","v":21122},{"$f":"COUNTIF(L100:L117,AS26)","v":0},{"$f":"AT26/(AV4-AT25)","v":0},{"$f":"IF(AU26=0,0,(AU26*((LOG(AU26))/LOG(2))))","v":0}]
[12,7364,24,7377,13,7388,23,7401,13,7413,0,12121,null,21211,{"$f":"COUNTIF($L$7:$L$500,N27)","v":18},{"$f":"O27/$Q$4","v":0.16363636363636364},{"$f":"IF(P27=0,0,(P27*((LOG(P27))/LOG(2))))","v":-0.42732568015892958},null,null,{"$f":"N27","v":21211},{"$f":"COUNTIF(L7:L25,T27)","v":1},{"$f":"U27/(W4-U25)","v":5.2631578947368418E-2},{"$f":"IF(V27=0,0,(V27*((LOG(V27))/LOG(2))))","v":-0.22357513228650452},null,{"$f":"N27","v":21211},{"$f":"COUNTIF(L26:L43,Y27)","v":2},{"$f":"Z27/(AB4-Z25)","v":0.125},{"$f":"IF(AA27=0,0,(AA27*((LOG(AA27))/LOG(2))))","v":-0.375},null,{"$f":"N27","v":21211},{"$f":"COUNTIF(L44:L62,AD27)","v":6},{"$f":"AE27/(AG4-AE25)","v":0.375},{"$f":"IF(AF27=0,0,(AF27*((LOG(AF27))/LOG(2))))","v":-0.53063906222956647},null,{"$f":"N27","v":21211},{"$f":"COUNTIF(L63:L80,AI27)","v":1},{"$f":"AJ27/(AL4-AJ25)","v":6.25E-2},{"$f":"IF(AK27=0,0,(AK27*((LOG(AK27))/LOG(2))))","v":-0.25},null,{"$f":"N27","v":21211},{"$f":"COUNTIF(L81:L99,AN27)","v":5},{"$f":"AO27/(AQ4-AO25)","v":0.27777777777777779},{"$f":"IF(AP27=0,0,(AP27*((LOG(AP27))/LOG(2))))","v":-0.51333247404304172},null,{"$f":"N27","v":21211},{"$f":"COUNTIF(L100:L117,AS27)","v":3},{"$f":"AT27/(AV4-AT25)","v":0.1875},{"$f":"IF(AU27=0,0,(AU27*((LOG(AU27))/LOG(2))))","v":-0.45281953111478312}]
[21,7561,11,7576,11,7600,21,7613,11,7625,1,21121,null,21212,{"$f":"COUNTIF($L$7:$L$500,N28)","v":16},{"$f":"O28/$Q$4","v":0.14545454545454545},{"$f":"IF(P28=0,0,(P28*((LOG(P28))/LOG(2))))","v":-0.40456141287631409},null,null,{"$f":"N28","v":21212},{"$f":"COUNTIF(L7:L25,T28)","v":2},{"$f":"U28/(W4-U25)","v":0.10526315789473684},{"$f":"IF(V28=0,0,(V28*((LOG(V28))/LOG(2))))","v":-0.34188710667827216},null,{"$f":"N28","v":21212},{"$f":"COUNTIF(L26:L43,Y28)","v":4},{"$f":"Z28/(AB4-Z25)","v":0.25},{"$f":"IF(AA28=0,0,(AA28*((LOG(AA28))/LOG(2))))","v":-0.5},null,{"$f":"N28","v":21212},{"$f":"COUNTIF(L44:L62,AD28)","v":3},{"$f":"AE28/(AG4-AE25)","v":0.1875},{"$f":"IF(AF28=0,0,(AF28*((LOG(AF28))/LOG(2))))","v":-0.45281953111478312},null,{"$f":"N28","v":21212},{"$f":"COUNTIF(L63:L80,AI28)","v":2},{"$f":"AJ28/(AL4-AJ25)","v":0.125},{"$f":"IF(AK28=0,0,(AK28*((LOG(AK28))/LOG(2))))","v":-0.375},null,{"$f":"N28","v":21212},{"$f":"COUNTIF(L81:L99,AN28)","v":3},{"$f":"AO28/(AQ4-AO25)","v":0.16666666666666666},{"$f":"IF(AP28=0,0,(AP28*((LOG(AP28))/LOG(2))))","v":-0.43082708345352599},null,{"$f":"N28","v":21212},{"$f":"COUNTIF(L100:L117,AS28)","v":2},{"$f":"AT28/(AV4-AT25)","v":0.125},{"$f":"IF(AU28=0,0,(AU28*((LOG(AU28))/LOG(2))))","v":-0.375}]
[21,7760,11,7773,22,7786,14,7798,24,7812,0,21212,null,21221,{"$f":"COUNTIF($L$7:$L$500,N29)","v":4},{"$f":"O29/$Q$4","v":3.6363636363636362E-2},{"$f":"IF(P29=0,0,(P29*((LOG(P29))/LOG(2))))","v":-0.17386762594635127},null,null,{"$f":"N29","v":21221},{"$f":"COUNTIF(L7:L25,T29)","v":2},{"$f":"U29/(W4-U25)","v":0.10526315789473684},{"$f":"IF(V29=0,0,(V29*((LOG(V29))/LOG(2))))","v":-0.34188710667827216},null,{"$f":"N29","v":21221},{"$f":"COUNTIF(L26:L43,Y29)","v":0},{"$f":"Z29/(AB4-Z25)","v":0},{"$f":"IF(AA29=0,0,(AA29*((LOG(AA29))/LOG(2))))","v":0},null,{"$f":"N29","v":21221},{"$f":"COUNTIF(L44:L62,AD29)","v":0},{"$f":"AE29/(AG4-AE25)","v":0},{"$f":"IF(AF29=0,0,(AF29*((LOG(AF29))/LOG(2))))","v":0},null,{"$f":"N29","v":21221},{"$f":"COUNTIF(L63:L80,AI29)","v":0},{"$f":"AJ29/(AL4-AJ25)","v":0},{"$f":"IF(AK29=0,0,(AK29*((LOG(AK29))/LOG(2))))","v":0},null,{"$f":"N29","v":21221},{"$f":"COUNTIF(L81:L99,AN29)","v":1},{"$f":"AO29/(AQ4-AO25)","v":5.5555555555555552E-2},{"$f":"IF(AP29=0,0,(AP29*((LOG(AP29))/LOG(2))))","v":-0.23166250008012845},null,{"$f":"N29","v":21221},{"$f":"COUNTIF(L100:L117,AS29)","v":1},{"$f":"AT29/(AV4-AT25)","v":6.25E-2},{"$f":"IF(AU29=0,0,(AU29*((LOG(AU29))/LOG(2))))","v":-0.25}]
[21,7932,22,7946,24,7978,14,8006,24,8020,0,22212,null,21222,{"$f":"COUNTIF($L$7:$L$500,N30)","v":1},{"$f":"O30/$Q$4","v":9.0909090909090905E-3},{"$f":"IF(P30=0,0,(P30*((LOG(P30))/LOG(2))))","v":-6.1648724668405985E-2},null,null,{"$f":"N30","v":21222},{"$f":"COUNTIF(L7:L25,T30)","v":0},{"$f":"U30/(W4-U25)","v":0},{"$f":"IF(V30=0,0,(V30*((LOG(V30))/LOG(2))))","v":0},null,{"$f":"N30","v":21222},{"$f":"COUNTIF(L26:L43,Y30)","v":0},{"$f":"Z30/(AB4-Z25)","v":0},{"$f":"IF(AA30=0,0,(AA30*((LOG(AA30))/LOG(2))))","v":0},null,{"$f":"N30","v":21222},{"$f":"COUNTIF(L44:L62,AD30)","v":0},{"$f":"AE30/(AG4-AE25)","v":0},{"$f":"IF(AF30=0,0,(AF30*((LOG(AF30))/LOG(2))))","v":0},null,{"$f":"N30","v":21222},{"$f":"COUNTIF(L63:L80,AI30)","v":1},{"$f":"AJ30/(AL4-AJ25)","v":6.25E-2},{"$f":"IF(AK30=0,0,(AK30*((LOG(AK30))/LOG(2))))","v":-0.25},null,{"$f":"N30","v":21222},{"$f":"COUNTIF(L81:L99,AN30)","v":0},{"$f":"AO30/(AQ4-AO25)","v":0},{"$f":"IF(AP30=0,0,(AP30*((LOG(AP30))/LOG(2))))","v":0},null,{"$f":"N30","v":21222},{"$f":"COUNTIF(L100:L117,AS30)","v":0},{"$f":"AT30/(AV4-AT25)","v":0},{"$f":"IF(AU30=0,0,(AU30*((LOG(AU30))/LOG(2))))","v":0}]
[12,8159,24,8172,13,8186,23,8201,13,8224,0,12121,null,22111,{"$f":"COUNTIF($L$7:$L$500,N31)","v":2},{"$f":"O31/$Q$4","v":1.8181818181818181E-2},{"$f":"IF(P31=0,0,(P31*((LOG(P31))/LOG(2))))","v":-0.10511563115499381},null,null,{"$f":"N31","v":22111},{"$f":"COUNTIF(L7:L25,T31)","v":0},{"$f":"U31/(W4-U25)","v":0},{"$f":"IF(V31=0,0,(V31*((LOG(V31))/LOG(2))))","v":0},null,{"$f":"N31","v":22111},{"$f":"COUNTIF(L26:L43,Y31)","v":0},{"$f":"Z31/(AB4-Z25)","v":0},{"$f":"IF(AA31=0,0,(AA31*((LOG(AA31))/LOG(2))))","v":0},null,{"$f":"N31","v":22111},{"$f":"COUNTIF(L44:L62,AD31)","v":0},{"$f":"AE31/(AG4-AE25)","v":0},{"$f":"IF(AF31=0,0,(AF31*((LOG(AF31))/LOG(2))))","v":0},null,{"$f":"N31","v":22111},{"$f":"COUNTIF(L63:L80,AI31)","v":1},{"$f":"AJ31/(AL4-AJ25)","v":6.25E-2},{"$f":"IF(AK31=0,0,(AK31*((LOG(AK31))/LOG(2))))","v":-0.25},null,{"$f":"N31","v":22111},{"$f":"COUNTIF(L81:L99,AN31)","v":1},{"$f":"AO31/(AQ4-AO25)","v":5.5555555555555552E-2},{"$f":"IF(AP31=0,0,(AP31*((LOG(AP31))/LOG(2))))","v":-0.23166250008012845},null,{"$f":"N31","v":22111},{"$f":"COUNTIF(L100:L117,AS31)","v":0},{"$f":"AT31/(AV4-AT25)","v":0},{"$f":"IF(AU31=0,0,(AU31*((LOG(AU31))/LOG(2))))","v":0}]
[12,8354,13,8382,24,8404,14,8416,24,8431,0,11212,null,22112,{"$f":"COUNTIF($L$7:$L$500,N32)","v":2},{"$f":"O32/$Q$4","v":1.8181818181818181E-2},{"$f":"IF(P32=0,0,(P32*((LOG(P32))/LOG(2))))","v":-0.10511563115499381},null,null,{"$f":"N32","v":22112},{"$f":"COUNTIF(L7:L25,T32)","v":1},{"$f":"U32/(W4-U25)","v":5.2631578947368418E-2},{"$f":"IF(V32=0,0,(V32*((LOG(V32))/LOG(2))))","v":-0.22357513228650452},null,{"$f":"N32","v":22112},{"$f":"COUNTIF(L26:L43,Y32)","v":1},{"$f":"Z32/(AB4-Z25)","v":6.25E-2},{"$f":"IF(AA32=0,0,(AA32*((LOG(AA32))/LOG(2))))","v":-0.25},null,{"$f":"N32","v":22112},{"$f":"COUNTIF(L44:L62,AD32)","v":0},{"$f":"AE32/(AG4-AE25)","v":0},{"$f":"IF(AF32=0,0,(AF32*((LOG(AF32))/LOG(2))))","v":0},null,{"$f":"N32","v":22112},{"$f":"COUNTIF(L63:L80,AI32)","v":0},{"$f":"AJ32/(AL4-AJ25)","v":0},{"$f":"IF(AK32=0,0,(AK32*((LOG(AK32))/LOG(2))))","v":0},null,{"$f":"N32","v":22112},{"$f":"COUNTIF(L81:L99,AN32)","v":0},{"$f":"AO32/(AQ4-AO25)","v":0},{"$f":"IF(AP32=0,0,(AP32*((LOG(AP32))/LOG(2))))","v":0},null,{"$f":"N32","v":22112},{"$f":"COUNTIF(L100:L117,AS32)","v":0},{"$f":"AT32/(AV4-AT25)","v":0},{"$f":"IF(AU32=0,0,(AU32*((LOG(AU32))/LOG(2))))","v":0}]
[21,8573,22,8600,13,8610,23,8624,13,8636,0,22121,null,22121,{"$f":"COUNTIF($L$7:$L$500,N33)","v":6},{"$f":"O33/$Q$4","v":5.4545454545454543E-2},{"$f":"IF(P33=0,0,(P33*((LOG(P33))/LOG(2))))","v":-0.22889439342564566},null,null,{"$f":"N33","v":22121},{"$f":"COUNTIF(L7:L25,T33)","v":1},{"$f":"U33/(W4-U25)","v":5.2631578947368418E-2},{"$f":"IF(V33=0,0,(V33*((LOG(V33))/LOG(2))))","v":-0.22357513228650452},null,{"$f":"N33","v":22121},{"$f":"COUNTIF(L26:L43,Y33)","v":2},{"$f":"Z33/(AB4-Z25)","v":0.125},{"$f":"IF(AA33=0,0,(AA33*((LOG(AA33))/LOG(2))))","v":-0.375},null,{"$f":"N33","v":22121},{"$f":"COUNTIF(L44:L62,AD33)","v":0},{"$f":"AE33/(AG4-AE25)","v":0},{"$f":"IF(AF33=0,0,(AF33*((LOG(AF33))/LOG(2))))","v":0},null,{"$f":"N33","v":22121},{"$f":"COUNTIF(L63:L80,AI33)","v":1},{"$f":"AJ33/(AL4-AJ25)","v":6.25E-2},{"$f":"IF(AK33=0,0,(AK33*((LOG(AK33))/LOG(2))))","v":-0.25},null,{"$f":"N33","v":22121},{"$f":"COUNTIF(L81:L99,AN33)","v":2},{"$f":"AO33/(AQ4-AO25)","v":0.1111111111111111},{"$f":"IF(AP33=0,0,(AP33*((LOG(AP33))/LOG(2))))","v":-0.3522138890491458},null,{"$f":"N33","v":22121},{"$f":"COUNTIF(L100:L117,AS33)","v":0},{"$f":"AT33/(AV4-AT25)","v":0},{"$f":"IF(AU33=0,0,(AU33*((LOG(AU33))/LOG(2))))","v":0}]
[21,8762,11,8782,11,8820,21,8837,11,8853,1,21121,null,22122,{"$f":"COUNTIF($L$7:$L$500,N34)","v":1},{"$f":"O34/$Q$4","v":9.0909090909090905E-3},{"$f":"IF(P34=0,0,(P34*((LOG(P34))/LOG(2))))","v":-6.1648724668405985E-2},null,null,{"$f":"N34","v":22122},{"$f":"COUNTIF(L7:L25,T34)","v":1},{"$f":"U34/(W4-U25)","v":5.2631578947368418E-2},{"$f":"IF(V34=0,0,(V34*((LOG(V34))/LOG(2))))","v":-0.22357513228650452},null,{"$f":"N34","v":22122},{"$f":"COUNTIF(L26:L43,Y34)","v":0},{"$f":"Z34/(AB4-Z25)","v":0},{"$f":"IF(AA34=0,0,(AA34*((LOG(AA34))/LOG(2))))","v":0},null,{"$f":"N34","v":22122},{"$f":"COUNTIF(L44:L62,AD34)","v":0},{"$f":"AE34/(AG4-AE25)","v":0},{"$f":"IF(AF34=0,0,(AF34*((LOG(AF34))/LOG(2))))","v":0},null,{"$f":"N34","v":22122},{"$f":"COUNTIF(L63:L80,AI34)","v":0},{"$f":"AJ34/(AL4-AJ25)","v":0},{"$f":"IF(AK34=0,0,(AK34*((LOG(AK34))/LOG(2))))","v":0},null,{"$f":"N34","v":22122},{"$f":"COUNTIF(L81:L99,AN34)","v":0},{"$f":"AO34/(AQ4-AO25)","v":0},{"$f":"IF(AP34=0,0,(AP34*((LOG(AP34))/LOG(2))))","v":0},null,{"$f":"N34","v":22122},{"$f":"COUNTIF(L100:L117,AS34)","v":0},{"$f":"AT34/(AV4-AT25)","v":0},{"$f":"IF(AU34=0,0,(AU34*((LOG(AU34))/LOG(2))))","v":0}]
[21,9071,22,9082,13,9094,23,9106,13,9128,0,22121,null,22211,{"$f":"COUNTIF($L$7:$L$500,N35)","v":1},{"$f":"O35/$Q$4","v":9.0909090909090905E-3},{"$f":"IF(P35=0,0,(P35*((LOG(P35))/LOG(2))))","v":-6.1648724668405985E-2},null,null,{"$f":"N35","v":22211},{"$f":"COUNTIF(L7:L25,T35)","v":0},{"$f":"U35/(W4-U25)","v":0},{"$f":"IF(V35=0,0,(V35*((LOG(V35))/LOG(2))))","v":0},null,{"$f":"N35","v":22211},{"$f":"COUNTIF(L26:L43,Y35)","v":0},{"$f":"Z35/(AB4-Z25)","v":0},{"$f":"IF(AA35=0,0,(AA35*((LOG(AA35))/LOG(2))))","v":0},null,{"$f":"N35","v":22211},{"$f":"COUNTIF(L44:L62,AD35)","v":0},{"$f":"AE35/(AG4-AE25)","v":0},{"$f":"IF(AF35=0,0,(AF35*((LOG(AF35))/LOG(2))))","v":0},null,{"$f":"N35","v":22211},{"$f":"COUNTIF(L63:L80,AI35)","v":0},{"$f":"AJ35/(AL4-AJ25)","v":0},{"$f":"IF(AK35=0,0,(AK35*((LOG(AK35))/LOG(2))))","v":0},null,{"$f":"N35","v":22211},{"$f":"COUNTIF(L81:L99,AN35)","v":1},{"$f":"AO35/(AQ4-AO25)","v":5.5555555555555552E-2},{"$f":"IF(AP35=0,0,(AP35*((LOG(AP35))/LOG(2))))","v":-0.23166250008012845},null,{"$f":"N35","v":22211},{"$f":"COUNTIF(L100:L117,AS35)","v":0},{"$f":"AT35/(AV4-AT25)","v":0},{"$f":"IF(AU35=0,0,(AU35*((LOG(AU35))/LOG(2))))","v":0}]
[21,9229,11,9241,22,9251,14,9264,24,9282,0,21212,null,22212,{"$f":"COUNTIF($L$7:$L$500,N36)","v":4},{"$f":"O36/$Q$4","v":3.6363636363636362E-2},{"$f":"IF(P36=0,0,(P36*((LOG(P36))/LOG(2))))","v":-0.17386762594635127},null,null,{"$f":"N36","v":22212},{"$f":"COUNTIF(L7:L25,T36)","v":2},{"$f":"U36/(W4-U25)","v":0.10526315789473684},{"$f":"IF(V36=0,0,(V36*((LOG(V36))/LOG(2))))","v":-0.34188710667827216},null,{"$f":"N36","v":22212},{"$f":"COUNTIF(L26:L43,Y36)","v":1},{"$f":"Z36/(AB4-Z25)","v":6.25E-2},{"$f":"IF(AA36=0,0,(AA36*((LOG(AA36))/LOG(2))))","v":-0.25},null,{"$f":"N36","v":22212},{"$f":"COUNTIF(L44:L62,AD36)","v":0},{"$f":"AE36/(AG4-AE25)","v":0},{"$f":"IF(AF36=0,0,(AF36*((LOG(AF36))/LOG(2))))","v":0},null,{"$f":"N36","v":22212},{"$f":"COUNTIF(L63:L80,AI36)","v":0},{"$f":"AJ36/(AL4-AJ25)","v":0},{"$f":"IF(AK36=0,0,(AK36*((LOG(AK36))/LOG(2))))","v":0},null,{"$f":"N36","v":22212},{"$f":"COUNTIF(L81:L99,AN36)","v":0},{"$f":"AO36/(AQ4-AO25)","v":0},{"$f":"IF(AP36=0,0,(AP36*((LOG(AP36))/LOG(2))))","v":0},null,{"$f":"N36","v":22212},{"$f":"COUNTIF(L100:L117,AS36)","v":1},{"$f":"AT36/(AV4-AT25)","v":6.25E-2},{"$f":"IF(AU36=0,0,(AU36*((LOG(AU36))/LOG(2))))","v":-0.25}]
[12,9388,24,9399,13,9408,23,9424,13,9435,0,12121,null,22221,{"$f":"COUNTIF($L$7:$L$500,N37)","v":5},{"$f":"O37/$Q$4","v":4.5454545454545456E-2},{"$f":"IF(P37=0,0,(P37*((LOG(P37))/LOG(2))))","v":-0.20270143721078623},null,null,{"$f":"N37","v":22221},{"$f":"COUNTIF(L7:L25,T37)","v":5},{"$f":"U37/(W4-U25)","v":0.26315789473684209},{"$f":"IF(V37=0,0,(V37*((LOG(V37))/LOG(2))))","v":-0.50684195225163764},null,{"$f":"N37","v":22221},{"$f":"COUNTIF(L26:L43,Y37)","v":0},{"$f":"Z37/(AB4-Z25)","v":0},{"$f":"IF(AA37=0,0,(AA37*((LOG(AA37))/LOG(2))))","v":0},null,{"$f":"N37","v":22221},{"$f":"COUNTIF(L44:L62,AD37)","v":0},{"$f":"AE37/(AG4-AE25)","v":0},{"$f":"IF(AF37=0,0,(AF37*((LOG(AF37))/LOG(2))))","v":0},null,{"$f":"N37","v":22221},{"$f":"COUNTIF(L63:L80,AI37)","v":0},{"$f":"AJ37/(AL4-AJ25)","v":0},{"$f":"IF(AK37=0,0,(AK37*((LOG(AK37))/LOG(2))))","v":0},null,{"$f":"N37","v":22221},{"$f":"COUNTIF(L81:L99,AN37)","v":0},{"$f":"AO37/(AQ4-AO25)","v":0},{"$f":"IF(AP37=0,0,(AP37*((LOG(AP37))/LOG(2))))","v":0},null,{"$f":"N37","v":22221},{"$f":"COUNTIF(L100:L117,AS37)","v":0},{"$f":"AT37/(AV4-AT25)","v":0},{"$f":"IF(AU37=0,0,(AU37*((LOG(AU37))/LOG(2))))","v":0}]
[21,9535,22,9557,13,9571,14,9582,24,9599,0,22112,null,22222,{"$f":"COUNTIF($L$7:$L$500,N38)","v":3},{"$f":"O38/$Q$4","v":2.7272727272727271E-2},{"$f":"IF(P38=0,0,(P38*((LOG(P38))/LOG(2))))","v":-0.14171992398555008},null,null,{"$f":"N38","v":22222},{"$f":"COUNTIF(L7:L25,T38)","v":3},{"$f":"U38/(W4-U25)","v":0.15789473684210525},{"$f":"IF(V38=0,0,(V38*((LOG(V38))/LOG(2))))","v":-0.42046815990354147},null,{"$f":"N38","v":22222},{"$f":"COUNTIF(L26:L43,Y38)","v":0},{"$f":"Z38/(AB4-Z25)","v":0},{"$f":"IF(AA38=0,0,(AA38*((LOG(AA38))/LOG(2))))","v":0},null,{"$f":"N38","v":22222},{"$f":"COUNTIF(L44:L62,AD38)","v":0},{"$f":"AE38/(AG4-AE25)","v":0},{"$f":"IF(AF38=0,0,(AF38*((LOG(AF38))/LOG(2))))","v":0},null,{"$f":"N38","v":22222},{"$f":"COUNTIF(L63:L80,AI38)","v":0},{"$f":"AJ38/(AL4-AJ25)","v":0},{"$f":"IF(AK38=0,0,(AK38*((LOG(AK38))/LOG(2))))","v":0},null,{"$f":"N38","v":22222},{"$f":"COUNTIF(L81:L99,AN38)","v":0},{"$f":"AO38/(AQ4-AO25)","v":0},{"$f":"IF(AP38=0,0,(AP38*((LOG(AP38))/LOG(2))))","v":0},null,{"$f":"N38","v":22222},{"$f":"COUNTIF(L100:L117,AS38)","v":0},{"$f":"AT38/(AV4-AT25)","v":0},{"$f":"IF(AU38=0,0,(AU38*((LOG(AU38))/LOG(2))))","v":0}]
[21,9699,11,9709,22,9719,14,9734,24,9748,0,21212,null,null,null,{"$f":"SUM(P7:P38)","v":0.99999999999999978},{"$f":"-SUM(Q7:Q38)","v":3.9932923513931358},null,null,null,null,{"$f":"SUM(V7:V38)","v":1},{"$f":"-SUM(W7:W38)","v":3.0708470936225183},null,null,null,{"$f":"SUM(AA7:AA38)","v":1},{"$f":"-SUM(AB7:AB38)","v":2.9528195311147831},null,null,null,{"$f":"SUM(AF7:AF38)","v":1},{"$f":"-SUM(AG7:AG38)","v":2.4834585933443494},null,null,null,{"$f":"SUM(AK7:AK38)","v":1},{"$f":"-SUM(AL7:AL38)","v":2.899397470347699},null,null,null,{"$f":"SUM(AP7:AP38)","v":1},{"$f":"-SUM(AQ7:AQ38)","v":2.8855130303998817},null,null,null,{"$f":"SUM(AU7:AU38)","v":1},{"$f":"-SUM(AV7:AV38)","v":3.0306390622295662}]
[21,9861,11,9882,22,9898,14,9921,13,9929,0,21211,null,null,null,"U=",{"$f":"Q39/(LOG(Q4)/LOG(2))","v":0.58886307762571033},null,null,null,null,"U1=",{"$f":"W39/(LOG(W4)/LOG(2))","v":0.72290477742477632},null,null,null,"U2=",{"$f":"AB39/(LOG(AB4)/LOG(2))","v":0.70812293508718949},null,null,null,"U3=",{"$f":"AG39/(LOG(AG4)/LOG(2))","v":0.58462828885023321},null,null,null,"U4=",{"$f":"AL39/(LOG(AL4)/LOG(2))","v":0.69531165892548252},null,null,null,"U5=",{"$f":"AQ39/(LOG(AQ4)/LOG(2))","v":0.67927548699171159},null,null,null,"U6=",{"$f":"AV39/(LOG(AV4)/LOG(2))","v":0.74144748953913564}]
[21,10028,11,10038,22,10051,14,10063,13,10073,0,21211]
[21,10174,11,10183,22,10197,14,10216,24,10230,0,21212]
[12,10336,24,10346,13,10356,23,10369,24,10408,0,12122,null,"Total Target Seq"]
[21,10524,11,10538,22,10550,14,10559,13,10581,0,21211,null,{"$f":"COUNTIF(L7:L117,G3)","v":9},null,19,18,19,18,19,18]
[12,10707,24,10719,13,10731,14,10742,24,10757,0,12112,null,null,null,"% of reinforcement given in 6 equal intervals based on number of trials "]
[12,10884,24,10894,13,10916,14,10927,24,10941,0,12112,null,null,null,"%_1","%_2","%_3","%_4","%_5","%_6"]
[21,11070,11,11079,22,11092,14,11106,24,11119,0,21212,null,null,"target sequence",{"$f":"$G$3","v":21121},{"$f":"$G$3","v":21121},{"$f":"$G$3","v":21121},{"$f":"$G$3","v":21121},{"$f":"$G$3","v":21121},{"$f":"$G$3","v":21121}]
[21,11427,11,11449,22,11460,14,11472,24,11489,0,21212,null,null,"total reinforcement",{"$f":"U25","v":0},{"$f":"Z25","v":2},{"$f":"AE25","v":3},{"$f":"AJ25","v":2},{"$f":"AO25","v":1},{"$f":"AT25","v":1}]
[21,11617,11,11633,22,11644,14,11663,13,11672,0,21211,null,null,"% target"]
[12,11844,13,11860,24,11874,23,11883,13,11901,0,11221,null,null,"CCRF"]
[21,12095,11,12109,22,12121,14,12141,13,12160,0,21211,null,null,"% CCRf"]
[21,12428,11,12441,22,12476,14,12495,13,12506,0,21211,null,null,"average response rate",{"$f":"J25/P44","v":353.57894736842104},{"$f":"(J43-J25)/Q44","v":205},{"$f":"(J62-J43)/R44","v":208.05263157894737},{"$f":"(J80-J62)/S44","v":165.66666666666666},{"$f":"(J99-J80)/T44","v":187.26315789473685},{"$f":"(J117-J99)/U44","v":-1161.1666666666667}]
[12,12657,13,12669,24,12685,14,12695,24,12716,0,11212]
[12,12867,24,12877,13,12888,23,12903,13,12921,0,12121]
[21,13044,11,13059,22,13075,14,13101,13,13115,0,21211]
[21,13243,11,13259,22,13272,14,13284,24,13296,0,21212]
[21,13453,11,13474,11,13483,21,13497,11,13508,1,21121]
[21,13635,11,13647,11,13656,21,13668,11,13678,1,21121]
[12,13775,24,13785,13,13796,23,13808,13,13817,0,12121]
[21,13917,11,13938,11,13951,21,13962,11,14006,1,21121]
[21,14102,11,14124,22,14134,14,14151,13,14159,0,21211]
[12,14303,24,14314,24,14334,14,14347,24,14361,0,12212]
[12,14469,13,14478,24,14488,14,14498,13,14512,0,11211]
[12,14622,13,14631,24,14646,14,14655,24,14672,0,11212]
[21,14771,11,14780,11,14815,12,14837,13,14858,0,21111]
[21,14958,11,14966,11,14977,21,14987,11,14999,1,21121]
[21,15125,22,15152,13,15181,14,15191,13,15212,0,22111]
[12,15317,13,15328,24,15341,14,15351,24,15369,0,11212]
[12,15485,24,15495,13,15505,23,15520,13,15533,0,12121]
[21,15633,11,15642,22,15654,14,15663,13,15689,0,21211]
[12,15804,13,15813,24,15826,14,15856,13,15868,0,11211]
[12,15971,24,15981,13,15990,23,16005,13,16014,0,12121]
[12,16121,13,16133,24,16145,14,16161,13,16169,0,11211]
[12,16274,13,16283,24,16294,14,16317,13,16325,0,11211]
[21,16422,11,16431,11,16440,21,16456,11,16465,1,21121]
[21,16630,22,16662,13,16684,23,16697,13,16711,0,22121]
[21,16811,11,16819,22,16829,14,16855,24,16867,0,21212]
[21,16966,11,16974,22,16986,23,16998,24,17024,0,21222]
[12,17131,13,17148,24,17157,14,17167,13,17185,0,11211]
[21,17285,11,17302,22,17314,14,17327,24,17343,0,21212]
[12,17452,24,17464,13,17475,23,17486,13,17511,0,12121]
[12,17616,24,17628,13,17639,23,17651,13,17679,0,12121]
[21,17778,11,17787,22,17797,14,17807,24,17826,0,21212]
[21,17927,22,17969,13,17980,23,17992,13,18008,0,22121]
[21,18121,11,18138,22,18147,14,18175,13,18185,0,21211]
[21,18283,11,18291,22,18301,14,18310,24,18323,0,21212]
[21,18420,11,18430,11,18457,21,18469,11,18494,1,21121]
[12,18595,24,18604,13,18614,23,18625,13,18646,0,12121]
[21,18751,11,18767,22,18776,23,18800,13,18810,0,21221]
[21,18907,11,18915,22,18927,14,18936,24,18950,0,21212]
[21,19050,11,19059,22,19070,14,19084,13,19096,0,21211]
[12,19202,24,19220,13,19246,14,19269,13,19294,0,12111]
[21,19403,11,19412,22,19423,14,19445,13,19453,0,21211]
[21,19551,11,19559,22,19571,14,19588,13,19595,0,21211]
[21,19693,11,19706,22,19718,14,19734,13,19744,0,21211]
[21,19863,22,19898,13,19909,14,19934,13,19943,0,22111]
[12,20049,24,20059,24,20080,14,20099,13,20114,0,12211]
[21,20211,22,20233,13,20244,23,20257,13,20284,0,22121]
[21,20825,22,20838,24,20871,14,20884,13,20901,0,22211]
[12,21005,24,21015,24,21029,14,21039,24,21053,0,12212]
[12,21172,24,21183,13,21191,23,21209,13,21219,0,12121]
[21,21316,11,21325,22,21334,14,21348,13,21374,0,21211]
[12,21486,24,21497,13,21518,14,21551,13,21574,0,12111]
[12,21704,24,21713,13,21726,23,21749,13,21760,0,12121]
[21,21859,11,21868,22,21884,23,21912,13,21932,0,21221]
[21,22030,11,22041,11,22050,12,22065,24,22075,0,21112]
[21,22194,11,22204,22,22214,14,22248,13,22262,0,21211]
[21,22362,11,22370,11,22377,21,22389,11,22398,1,21121]
[21,22564,22,22578,24,22598,14,22626,24,22643,0,22212]
[21,22816,11,22827,22,22838,14,22856,13,22867,0,21211]
[21,22965,11,22973,22,22985,14,22994,24,23008,0,21212]
[21,23108,11,23116,22,23127,14,23147,24,23182,0,21212]
[12,23293,24,23305,13,23318,14,23336,24,23359,0,12112]
[12,23469,24,23482,13,23504,14,23512,24,23528,0,12112]
[21,23631,11,23640,11,23692,12,23701,24,23715,0,21112]
[12,23834,24,23845,13,23854,23,23867,13,23876,0,12121]
[21,23996,null,null,null,null,null,null,null,null,null,2]

{"sheet":"!MA12B30.010","index":15,"n_rows":159,"n_cols":48,"rows_kept":159,"cut":false,"hidden":false,"merged":[[4,39,4,42],[5,39,5,40],[4,44,4,47],[5,44,5,45],[4,24,4,27],[5,24,5,25],[4,29,4,32],[5,29,5,30],[4,34,4,37],[5,34,5,35],[1,1,1,2],[5,13,5,14],[42,13,42,14],[43,13,43,14],[4,19,4,22],[5,19,5,20]]}
["Report for:!MA12B30.010"]
["Date:","<date>"]
["Hen:","<hen>",null,null,null,"Correct Sequence",{"$f":"Start!J2","v":21121},null,null,null,null,null,null,null,null,"Total Sequences in Data",{"$f":"4994-COUNTBLANK(L7:L5000)","v":153},null,null,null,null,"Total Sequences in Block Data",{"$f":"COUNTA(L7:L32)","v":26},null,null,null,"Total Sequences in Block Data",{"$f":"COUNTA(L33:L57)","v":25},null,null,null,"Total Sequences in Block Data",{"$f":"COUNTA(L58:L83)","v":26},null,null,null,"Total Sequences in Block Data",{"$f":"COUNTA(L84:L108)","v":25},null,null,null,"Total Sequences in Block Data",{"$f":"COUNTA(L109:L134)","v":26},null,null,null,"Total Sequences in Block Data",{"$f":"COUNTA(L135:L159)","v":25}]
[null,null,null,null,null,null,null,null,null,null,null,null,null,null,null,"Total Sequences in Summary",{"$f":"SUM(O7:O38)","v":152},null,null,null,null,"Total Sequences in Block Summary",{"$f":"SUM(U7:U38)","v":26},null,null,null,"Total Sequences in Block Summary",{"$f":"SUM(Z7:Z38)","v":25},null,null,null,"Total Sequences in Block Summary",{"$f":"SUM(AE7:AE38)","v":26},null,null,null,"Total Sequences in Block Summary",{"$f":"SUM(AJ7:AJ38)","v":25},null,null,null,"Total Sequences in Block Summary",{"$f":"SUM(AO7:AO38)","v":26},null,null,null,"Total Sequences in Block Summary",{"$f":"SUM(AT7:AT38)","v":24}]
[null,null,null,null,null,null,null,null,null,null,null,null,null,null,null,null,null,null,null,"Block 1",null,null,null,null,"Block 2",null,null,null,null,"Block 3",null,null,null,null,"Block 4",null,null,null,null,"Block 5",null,null,null,null,"Block 6"]
["Sequence\nComponent\n1","Time\n1","Sequence\nComponent\n2","Time\n2","Sequence\nComponent\n3","Time\n3","Sequence\nComponent\n4","Time\n4","Sequence\nComponent\n5","Time\n5","Correct?\n0=No 1=Yes","Sequence",null,"Frequency",null,"Relative Frequency","Variability",null,null,"Frequency",null,"Relative Frequency","Variability",null,"Frequency",null,"Relative Frequency","Variability",null,"Frequency",null,"Relative Frequency","Variability",null,"Frequency",null,"Relative Frequency","Variability",null,"Frequency",null,"Relative Frequency","Variability",null,"Frequency",null,"Relative Frequency","Variability"]
[21,13,11,22,22,52,23,79,24,128,0,21222,null,11111,{"$f":"COUNTIF($L$7:$L$500,N7)","v":9},{"$f":"O7/$Q$4","v":5.921052631578947E-2},{"$f":"IF(P7=0,0,(P7*((LOG(P7))/LOG(2))))","v":-0.24146067505270694},null,null,{"$f":"N7","v":11111},{"$f":"COUNTIF(L7:L32,T7)","v":0},{"$f":"U7/(W4-U25)","v":0},{"$f":"IF(V7=0,0,(V7*((LOG(V7))/LOG(2))))","v":0},null,{"$f":"N7","v":11111},{"$f":"COUNTIF(L33:L57,Y7)","v":0},{"$f":"Z7/(AB4-Z25)","v":0},{"$f":"IF(AA7=0,0,(AA7*((LOG(AA7))/LOG(2))))","v":0},null,{"$f":"N7","v":11111},{"$f":"COUNTIF(L58:L83,AD7)","v":1},{"$f":"AE7/(AG4-AE25)","v":3.8461538461538464E-2},{"$f":"IF(AF7=0,0,(AF7*((LOG(AF7))/LOG(2))))","v":-0.18078614300542661},null,{"$f":"N7","v":11111},{"$f":"COUNTIF(L84:L108,AI7)","v":4},{"$f":"AJ7/(AL4-AJ25)","v":0.16666666666666666},{"$f":"IF(AK7=0,0,(AK7*((LOG(AK7))/LOG(2))))","v":-0.43082708345352599},null,{"$f":"N7","v":11111},{"$f":"COUNTIF(L109:L134,AN7)","v":4},{"$f":"AO7/(AQ4-AO25)","v":0.16},{"$f":"IF(AP7=0,0,(AP7*((LOG(AP7))/LOG(2))))","v":-0.42301699036395596},null,{"$f":"N7","v":11111},{"$f":"COUNTIF(L135:L159,AS7)","v":0},{"$f":"AT7/(AV4-AT25)","v":0},{"$f":"IF(AU7=0,0,(AU7*((LOG(AU7))/LOG(2))))","v":0}]
[12,242,24,253,24,273,23,285,24,324,0,12222,null,11112,{"$f":"COUNTIF($L$7:$L$500,N8)","v":1},{"$f":"O8/$Q$4","v":6.5789473684210523E-3},{"$f":"IF(P8=0,0,(P8*((LOG(P8))/LOG(2))))","v":-4.7683733641076219E-2},null,null,{"$f":"N8","v":11112},{"$f":"COUNTIF(L7:L32,T8)","v":0},{"$f":"U8/(W4-U25)","v":0},{"$f":"IF(V8=0,0,(V8*((LOG(V8))/LOG(2))))","v":0},null,{"$f":"N8","v":11112},{"$f":"COUNTIF(L33:L57,Y8)","v":0},{"$f":"Z8/(AB4-Z25)","v":0},{"$f":"IF(AA8=0,0,(AA8*((LOG(AA8))/LOG(2))))","v":0},null,{"$f":"N8","v":11112},{"$f":"COUNTIF(L58:L83,AD8)","v":0},{"$f":"AE8/(AG4-AE25)","v":0},{"$f":"IF(AF8=0,0,(AF8*((LOG(AF8))/LOG(2))))","v":0},null,{"$f":"N8","v":11112},{"$f":"COUNTIF(L84:L108,AI8)","v":0},{"$f":"AJ8/(AL4-AJ25)","v":0},{"$f":"IF(AK8=0,0,(AK8*((LOG(AK8))/LOG(2))))","v":0},null,{"$f":"N8","v":11112},{"$f":"COUNTIF(L109:L134,AN8)","v":1},{"$f":"AO8/(AQ4-AO25)","v":0.04},{"$f":"IF(AP8=0,0,(AP8*((LOG(AP8))/LOG(2))))","v":-0.18575424759098899},null,{"$f":"N8","v":11112},{"$f":"COUNTIF(L135:L159,AS8)","v":0},{"$f":"AT8/(AV4-AT25)","v":0},{"$f":"IF(AU8=0,0,(AU8*((LOG(AU8))/LOG(2))))","v":0}]
[12,434,24,446,24,470,23,497,24,535,0,12222,null,11121,{"$f":"COUNTIF($L$7:$L$500,N9)","v":12},{"$f":"O9/$Q$4","v":7.8947368421052627E-2},{"$f":"IF(P9=0,0,(P9*((LOG(P9))/LOG(2))))","v":-0.28918144837282334},null,null,{"$f":"N9","v":11121},{"$f":"COUNTIF(L7:L32,T9)","v":0},{"$f":"U9/(W4-U25)","v":0},{"$f":"IF(V9=0,0,(V9*((LOG(V9))/LOG(2))))","v":0},null,{"$f":"N9","v":11121},{"$f":"COUNTIF(L33:L57,Y9)","v":1},{"$f":"Z9/(AB4-Z25)","v":4.3478260869565216E-2},{"$f":"IF(AA9=0,0,(AA9*((LOG(AA9))/LOG(2))))","v":-0.19667660678508753},null,{"$f":"N9","v":11121},{"$f":"COUNTIF(L58:L83,AD9)","v":3},{"$f":"AE9/(AG4-AE25)","v":0.11538461538461539},{"$f":"IF(AF9=0,0,(AF9*((LOG(AF9))/LOG(2))))","v":-0.35947814047153104},null,{"$f":"N9","v":11121},{"$f":"COUNTIF(L84:L108,AI9)","v":2},{"$f":"AJ9/(AL4-AJ25)","v":8.3333333333333329E-2},{"$f":"IF(AK9=0,0,(AK9*((LOG(AK9))/LOG(2))))","v":-0.29874687506009634},null,{"$f":"N9","v":11121},{"$f":"COUNTIF(L109:L134,AN9)","v":4},{"$f":"AO9/(AQ4-AO25)","v":0.16},{"$f":"IF(AP9=0,0,(AP9*((LOG(AP9))/LOG(2))))","v":-0.42301699036395596},null,{"$f":"N9","v":11121},{"$f":"COUNTIF(L135:L159,AS9)","v":2},{"$f":"AT9/(AV4-AT25)","v":9.5238095238095233E-2},{"$f":"IF(AU9=0,0,(AU9*((LOG(AU9))/LOG(2))))","v":-0.32307784978845333}]
[12,648,13,660,24,669,14,685,24,735,0,11212,null,11122,{"$f":"COUNTIF($L$7:$L$500,N10)","v":0},{"$f":"O10/$Q$4","v":0},{"$f":"IF(P10=0,0,(P10*((LOG(P10))/LOG(2))))","v":0},null,null,{"$f":"N10","v":11122},{"$f":"COUNTIF(L7:L32,T10)","v":0},{"$f":"U10/(W4-U25)","v":0},{"$f":"IF(V10=0,0,(V10*((LOG(V10))/LOG(2))))","v":0},null,{"$f":"N10","v":11122},{"$f":"COUNTIF(L33:L57,Y10)","v":0},{"$f":"Z10/(AB4-Z25)","v":0},{"$f":"IF(AA10=0,0,(AA10*((LOG(AA10))/LOG(2))))","v":0},null,{"$f":"N10","v":11122},{"$f":"COUNTIF(L58:L83,AD10)","v":0},{"$f":"AE10/(AG4-AE25)","v":0},{"$f":"IF(AF10=0,0,(AF10*((LOG(AF10))/LOG(2))))","v":0},null,{"$f":"N10","v":11122},{"$f":"COUNTIF(L84:L108,AI10)","v":0},{"$f":"AJ10/(AL4-AJ25)","v":0},{"$f":"IF(AK10=0,0,(AK10*((LOG(AK10))/LOG(2))))","v":0},null,{"$f":"N10","v":11122},{"$f":"COUNTIF(L109:L134,AN10)","v":0},{"$f":"AO10/(AQ4-AO25)","v":0},{"$f":"IF(AP10=0,0,(AP10*((LOG(AP10))/LOG(2))))","v":0},null,{"$f":"N10","v":11122},{"$f":"COUNTIF(L135:L159,AS10)","v":0},{"$f":"AT10/(AV4-AT25)","v":0},{"$f":"IF(AU10=0,0,(AU10*((LOG(AU10))/LOG(2))))","v":0}]
[12,842,24,853,13,862,14,875,24,885,0,12112,null,11211,{"$f":"COUNTIF($L$7:$L$500,N11)","v":28},{"$f":"O11/$Q$4","v":0.18421052631578946},{"$f":"IF(P11=0,0,(P11*((LOG(P11))/LOG(2))))","v":-0.44957916157110184},null,null,{"$f":"N11","v":11211},{"$f":"COUNTIF(L7:L32,T11)","v":3},{"$f":"U11/(W4-U25)","v":0.13043478260869565},{"$f":"IF(V11=0,0,(V11*((LOG(V11))/LOG(2))))","v":-0.3832955811307639},null,{"$f":"N11","v":11211},{"$f":"COUNTIF(L33:L57,Y11)","v":4},{"$f":"Z11/(AB4-Z25)","v":0.17391304347826086},{"$f":"IF(AA11=0,0,(AA11*((LOG(AA11))/LOG(2))))","v":-0.43888034018382832},null,{"$f":"N11","v":11211},{"$f":"COUNTIF(L58:L83,AD11)","v":7},{"$f":"AE11/(AG4-AE25)","v":0.26923076923076922},{"$f":"IF(AF11=0,0,(AF11*((LOG(AF11))/LOG(2))))","v":-0.50967667586863141},null,{"$f":"N11","v":11211},{"$f":"COUNTIF(L84:L108,AI11)","v":6},{"$f":"AJ11/(AL4-AJ25)","v":0.25},{"$f":"IF(AK11=0,0,(AK11*((LOG(AK11))/LOG(2))))","v":-0.5},null,{"$f":"N11","v":11211},{"$f":"COUNTIF(L109:L134,AN11)","v":7},{"$f":"AO11/(AQ4-AO25)","v":0.28000000000000003},{"$f":"IF(AP11=0,0,(AP11*((LOG(AP11))/LOG(2))))","v":-0.51422035496079388},null,{"$f":"N11","v":11211},{"$f":"COUNTIF(L135:L159,AS11)","v":1},{"$f":"AT11/(AV4-AT25)","v":4.7619047619047616E-2},{"$f":"IF(AU11=0,0,(AU11*((LOG(AU11))/LOG(2))))","v":-0.20915797251327431}]
[21,986,11,993,22,1001,14,1013,24,1025,0,21212,null,11212,{"$f":"COUNTIF($L$7:$L$500,N12)","v":16},{"$f":"O12/$Q$4","v":0.10526315789473684},{"$f":"IF(P12=0,0,(P12*((LOG(P12))/LOG(2))))","v":-0.34188710667827216},null,null,{"$f":"N12","v":11212},{"$f":"COUNTIF(L7:L32,T12)","v":1},{"$f":"U12/(W4-U25)","v":4.3478260869565216E-2},{"$f":"IF(V12=0,0,(V12*((LOG(V12))/LOG(2))))","v":-0.19667660678508753},null,{"$f":"N12","v":11212},{"$f":"COUNTIF(L33:L57,Y12)","v":1},{"$f":"Z12/(AB4-Z25)","v":4.3478260869565216E-2},{"$f":"IF(AA12=0,0,(AA12*((LOG(AA12))/LOG(2))))","v":-0.19667660678508753},null,{"$f":"N12","v":11212},{"$f":"COUNTIF(L58:L83,AD12)","v":5},{"$f":"AE12/(AG4-AE25)","v":0.19230769230769232},{"$f":"IF(AF12=0,0,(AF12*((LOG(AF12))/LOG(2))))","v":-0.45740608139494804},null,{"$f":"N12","v":11212},{"$f":"COUNTIF(L84:L108,AI12)","v":5},{"$f":"AJ12/(AL4-AJ25)","v":0.20833333333333334},{"$f":"IF(AK12=0,0,(AK12*((LOG(AK12))/LOG(2))))","v":-0.47146550121537367},null,{"$f":"N12","v":11212},{"$f":"COUNTIF(L109:L134,AN12)","v":1},{"$f":"AO12/(AQ4-AO25)","v":0.04},{"$f":"IF(AP12=0,0,(AP12*((LOG(AP12))/LOG(2))))","v":-0.18575424759098899},null,{"$f":"N12","v":11212},{"$f":"COUNTIF(L135:L159,AS12)","v":3},{"$f":"AT12/(AV4-AT25)","v":0.14285714285714285},{"$f":"IF(AU12=0,0,(AU12*((LOG(AU12))/LOG(2))))","v":-0.40105070315108626}]
[21,1124,11,1131,22,1139,14,1151,24,1163,0,21212,null,11221,{"$f":"COUNTIF($L$7:$L$500,N13)","v":1},{"$f":"O13/$Q$4","v":6.5789473684210523E-3},{"$f":"IF(P13=0,0,(P13*((LOG(P13))/LOG(2))))","v":-4.7683733641076219E-2},null,null,{"$f":"N13","v":11221},{"$f":"COUNTIF(L7:L32,T13)","v":1},{"$f":"U13/(W4-U25)","v":4.3478260869565216E-2},{"$f":"IF(V13=0,0,(V13*((LOG(V13))/LOG(2))))","v":-0.19667660678508753},null,{"$f":"N13","v":11221},{"$f":"COUNTIF(L33:L57,Y13)","v":0},{"$f":"Z13/(AB4-Z25)","v":0},{"$f":"IF(AA13=0,0,(AA13*((LOG(AA13))/LOG(2))))","v":0},null,{"$f":"N13","v":11221},{"$f":"COUNTIF(L58:L83,AD13)","v":0},{"$f":"AE13/(AG4-AE25)","v":0},{"$f":"IF(AF13=0,0,(AF13*((LOG(AF13))/LOG(2))))","v":0},null,{"$f":"N13","v":11221},{"$f":"COUNTIF(L84:L108,AI13)","v":0},{"$f":"AJ13/(AL4-AJ25)","v":0},{"$f":"IF(AK13=0,0,(AK13*((LOG(AK13))/LOG(2))))","v":0},null,{"$f":"N13","v":11221},{"$f":"COUNTIF(L109:L134,AN13)","v":0},{"$f":"AO13/(AQ4-AO25)","v":0},{"$f":"IF(AP13=0,0,(AP13*((LOG(AP13))/LOG(2))))","v":0},null,{"$f":"N13","v":11221},{"$f":"COUNTIF(L135:L159,AS13)","v":0},{"$f":"AT13/(AV4-AT25)","v":0},{"$f":"IF(AU13=0,0,(AU13*((LOG(AU13))/LOG(2))))","v":0}]
[12,1277,13,1285,24,1293,14,1317,13,1329,0,11211,null,11222,{"$f":"COUNTIF($L$7:$L$500,N14)","v":1},{"$f":"O14/$Q$4","v":6.5789473684210523E-3},{"$f":"IF(P14=0,0,(P14*((LOG(P14))/LOG(2))))","v":-4.7683733641076219E-2},null,null,{"$f":"N14","v":11222},{"$f":"COUNTIF(L7:L32,T14)","v":0},{"$f":"U14/(W4-U25)","v":0},{"$f":"IF(V14=0,0,(V14*((LOG(V14))/LOG(2))))","v":0},null,{"$f":"N14","v":11222},{"$f":"COUNTIF(L33:L57,Y14)","v":0},{"$f":"Z14/(AB4-Z25)","v":0},{"$f":"IF(AA14=0,0,(AA14*((LOG(AA14))/LOG(2))))","v":0},null,{"$f":"N14","v":11222},{"$f":"COUNTIF(L58:L83,AD14)","v":0},{"$f":"AE14/(AG4-AE25)","v":0},{"$f":"IF(AF14=0,0,(AF14*((LOG(AF14))/LOG(2))))","v":0},null,{"$f":"N14","v":11222},{"$f":"COUNTIF(L84:L108,AI14)","v":0},{"$f":"AJ14/(AL4-AJ25)","v":0},{"$f":"IF(AK14=0,0,(AK14*((LOG(AK14))/LOG(2))))","v":0},null,{"$f":"N14","v":11222},{"$f":"COUNTIF(L109:L134,AN14)","v":0},{"$f":"AO14/(AQ4-AO25)","v":0},{"$f":"IF(AP14=0,0,(AP14*((LOG(AP14))/LOG(2))))","v":0},null,{"$f":"N14","v":11222},{"$f":"COUNTIF(L135:L159,AS14)","v":1},{"$f":"AT14/(AV4-AT25)","v":4.7619047619047616E-2},{"$f":"IF(AU14=0,0,(AU14*((LOG(AU14))/LOG(2))))","v":-0.20915797251327431}]
[21,1432,11,1440,22,1451,14,1468,13,1475,0,21211,null,12111,{"$f":"COUNTIF($L$7:$L$500,N15)","v":9},{"$f":"O15/$Q$4","v":5.921052631578947E-2},{"$f":"IF(P15=0,0,(P15*((LOG(P15))/LOG(2))))","v":-0.24146067505270694},null,null,{"$f":"N15","v":12111},{"$f":"COUNTIF(L7:L32,T15)","v":0},{"$f":"U15/(W4-U25)","v":0},{"$f":"IF(V15=0,0,(V15*((LOG(V15))/LOG(2))))","v":0},null,{"$f":"N15","v":12111},{"$f":"COUNTIF(L33:L57,Y15)","v":4},{"$f":"Z15/(AB4-Z25)","v":0.17391304347826086},{"$f":"IF(AA15=0,0,(AA15*((LOG(AA15))/LOG(2))))","v":-0.43888034018382832},null,{"$f":"N15","v":12111},{"$f":"COUNTIF(L58:L83,AD15)","v":3},{"$f":"AE15/(AG4-AE25)","v":0.11538461538461539},{"$f":"IF(AF15=0,0,(AF15*((LOG(AF15))/LOG(2))))","v":-0.35947814047153104},null,{"$f":"N15","v":12111},{"$f":"COUNTIF(L84:L108,AI15)","v":0},{"$f":"AJ15/(AL4-AJ25)","v":0},{"$f":"IF(AK15=0,0,(AK15*((LOG(AK15))/LOG(2))))","v":0},null,{"$f":"N15","v":12111},{"$f":"COUNTIF(L109:L134,AN15)","v":1},{"$f":"AO15/(AQ4-AO25)","v":0.04},{"$f":"IF(AP15=0,0,(AP15*((LOG(AP15))/LOG(2))))","v":-0.18575424759098899},null,{"$f":"N15","v":12111},{"$f":"COUNTIF(L135:L159,AS15)","v":1},{"$f":"AT15/(AV4-AT25)","v":4.7619047619047616E-2},{"$f":"IF(AU15=0,0,(AU15*((LOG(AU15))/LOG(2))))","v":-0.20915797251327431}]
[21,1573,11,1583,11,1592,21,1601,11,1617,1,21121,null,12112,{"$f":"COUNTIF($L$7:$L$500,N16)","v":8},{"$f":"O16/$Q$4","v":5.2631578947368418E-2},{"$f":"IF(P16=0,0,(P16*((LOG(P16))/LOG(2))))","v":-0.22357513228650452},null,null,{"$f":"N16","v":12112},{"$f":"COUNTIF(L7:L32,T16)","v":5},{"$f":"U16/(W4-U25)","v":0.21739130434782608},{"$f":"IF(V16=0,0,(V16*((LOG(V16))/LOG(2))))","v":-0.47861605677601093},null,{"$f":"N16","v":12112},{"$f":"COUNTIF(L33:L57,Y16)","v":2},{"$f":"Z16/(AB4-Z25)","v":8.6956521739130432E-2},{"$f":"IF(AA16=0,0,(AA16*((LOG(AA16))/LOG(2))))","v":-0.30639669183104457},null,{"$f":"N16","v":12112},{"$f":"COUNTIF(L58:L83,AD16)","v":1},{"$f":"AE16/(AG4-AE25)","v":3.8461538461538464E-2},{"$f":"IF(AF16=0,0,(AF16*((LOG(AF16))/LOG(2))))","v":-0.18078614300542661},null,{"$f":"N16","v":12112},{"$f":"COUNTIF(L84:L108,AI16)","v":0},{"$f":"AJ16/(AL4-AJ25)","v":0},{"$f":"IF(AK16=0,0,(AK16*((LOG(AK16))/LOG(2))))","v":0},null,{"$f":"N16","v":12112},{"$f":"COUNTIF(L109:L134,AN16)","v":0},{"$f":"AO16/(AQ4-AO25)","v":0},{"$f":"IF(AP16=0,0,(AP16*((LOG(AP16))/LOG(2))))","v":0},null,{"$f":"N16","v":12112},{"$f":"COUNTIF(L135:L159,AS16)","v":0},{"$f":"AT16/(AV4-AT25)","v":0},{"$f":"IF(AU16=0,0,(AU16*((LOG(AU16))/LOG(2))))","v":0}]
[12,1713,24,1722,13,1734,14,1749,24,1760,0,12112,null,12121,{"$f":"COUNTIF($L$7:$L$500,N17)","v":32},{"$f":"O17/$Q$4","v":0.21052631578947367},{"$f":"IF(P17=0,0,(P17*((LOG(P17))/LOG(2))))","v":-0.47324789756707064},null,null,{"$f":"N17","v":12121},{"$f":"COUNTIF(L7:L32,T17)","v":4},{"$f":"U17/(W4-U25)","v":0.17391304347826086},{"$f":"IF(V17=0,0,(V17*((LOG(V17))/LOG(2))))","v":-0.43888034018382832},null,{"$f":"N17","v":12121},{"$f":"COUNTIF(L33:L57,Y17)","v":5},{"$f":"Z17/(AB4-Z25)","v":0.21739130434782608},{"$f":"IF(AA17=0,0,(AA17*((LOG(AA17))/LOG(2))))","v":-0.47861605677601093},null,{"$f":"N17","v":12121},{"$f":"COUNTIF(L58:L83,AD17)","v":5},{"$f":"AE17/(AG4-AE25)","v":0.19230769230769232},{"$f":"IF(AF17=0,0,(AF17*((LOG(AF17))/LOG(2))))","v":-0.45740608139494804},null,{"$f":"N17","v":12121},{"$f":"COUNTIF(L84:L108,AI17)","v":4},{"$f":"AJ17/(AL4-AJ25)","v":0.16666666666666666},{"$f":"IF(AK17=0,0,(AK17*((LOG(AK17))/LOG(2))))","v":-0.43082708345352599},null,{"$f":"N17","v":12121},{"$f":"COUNTIF(L109:L134,AN17)","v":6},{"$f":"AO17/(AQ4-AO25)","v":0.24},{"$f":"IF(AP17=0,0,(AP17*((LOG(AP17))/LOG(2))))","v":-0.49413448537285637},null,{"$f":"N17","v":12121},{"$f":"COUNTIF(L135:L159,AS17)","v":8},{"$f":"AT17/(AV4-AT25)","v":0.38095238095238093},{"$f":"IF(AU17=0,0,(AU17*((LOG(AU17))/LOG(2))))","v":-0.53040663724905157}]
[21,1886,11,1897,11,1912,21,1924,11,1938,1,21121,null,12122,{"$f":"COUNTIF($L$7:$L$500,N18)","v":2},{"$f":"O18/$Q$4","v":1.3157894736842105E-2},{"$f":"IF(P18=0,0,(P18*((LOG(P18))/LOG(2))))","v":-8.2209572545310333E-2},null,null,{"$f":"N18","v":12122},{"$f":"COUNTIF(L7:L32,T18)","v":1},{"$f":"U18/(W4-U25)","v":4.3478260869565216E-2},{"$f":"IF(V18=0,0,(V18*((LOG(V18))/LOG(2))))","v":-0.19667660678508753},null,{"$f":"N18","v":12122},{"$f":"COUNTIF(L33:L57,Y18)","v":1},{"$f":"Z18/(AB4-Z25)","v":4.3478260869565216E-2},{"$f":"IF(AA18=0,0,(AA18*((LOG(AA18))/LOG(2))))","v":-0.19667660678508753},null,{"$f":"N18","v":12122},{"$f":"COUNTIF(L58:L83,AD18)","v":0},{"$f":"AE18/(AG4-AE25)","v":0},{"$f":"IF(AF18=0,0,(AF18*((LOG(AF18))/LOG(2))))","v":0},null,{"$f":"N18","v":12122},{"$f":"COUNTIF(L84:L108,AI18)","v":0},{"$f":"AJ18/(AL4-AJ25)","v":0},{"$f":"IF(AK18=0,0,(AK18*((LOG(AK18))/LOG(2))))","v":0},null,{"$f":"N18","v":12122},{"$f":"COUNTIF(L109:L134,AN18)","v":0},{"$f":"AO18/(AQ4-AO25)","v":0},{"$f":"IF(AP18=0,0,(AP18*((LOG(AP18))/LOG(2))))","v":0},null,{"$f":"N18","v":12122},{"$f":"COUNTIF(L135:L159,AS18)","v":0},{"$f":"AT18/(AV4-AT25)","v":0},{"$f":"IF(AU18=0,0,(AU18*((LOG(AU18))/LOG(2))))","v":0}]
[12,2033,24,2046,24,2061,23,2091,13,2100,0,12221,null,12211,{"$f":"COUNTIF($L$7:$L$500,N19)","v":0},{"$f":"O19/$Q$4","v":0},{"$f":"IF(P19=0,0,(P19*((LOG(P19))/LOG(2))))","v":0},null,null,{"$f":"N19","v":12211},{"$f":"COUNTIF(L7:L32,T19)","v":0},{"$f":"U19/(W4-U25)","v":0},{"$f":"IF(V19=0,0,(V19*((LOG(V19))/LOG(2))))","v":0},null,{"$f":"N19","v":12211},{"$f":"COUNTIF(L33:L57,Y19)","v":0},{"$f":"Z19/(AB4-Z25)","v":0},{"$f":"IF(AA19=0,0,(AA19*((LOG(AA19))/LOG(2))))","v":0},null,{"$f":"N19","v":12211},{"$f":"COUNTIF(L58:L83,AD19)","v":0},{"$f":"AE19/(AG4-AE25)","v":0},{"$f":"IF(AF19=0,0,(AF19*((LOG(AF19))/LOG(2))))","v":0},null,{"$f":"N19","v":12211},{"$f":"COUNTIF(L84:L108,AI19)","v":0},{"$f":"AJ19/(AL4-AJ25)","v":0},{"$f":"IF(AK19=0,0,(AK19*((LOG(AK19))/LOG(2))))","v":0},null,{"$f":"N19","v":12211},{"$f":"COUNTIF(L109:L134,AN19)","v":0},{"$f":"AO19/(AQ4-AO25)","v":0},{"$f":"IF(AP19=0,0,(AP19*((LOG(AP19))/LOG(2))))","v":0},null,{"$f":"N19","v":12211},{"$f":"COUNTIF(L135:L159,AS19)","v":0},{"$f":"AT19/(AV4-AT25)","v":0},{"$f":"IF(AU19=0,0,(AU19*((LOG(AU19))/LOG(2))))","v":0}]
[12,2203,24,2212,13,2224,14,2243,24,2251,0,12112,null,12212,{"$f":"COUNTIF($L$7:$L$500,N20)","v":1},{"$f":"O20/$Q$4","v":6.5789473684210523E-3},{"$f":"IF(P20=0,0,(P20*((LOG(P20))/LOG(2))))","v":-4.7683733641076219E-2},null,null,{"$f":"N20","v":12212},{"$f":"COUNTIF(L7:L32,T20)","v":0},{"$f":"U20/(W4-U25)","v":0},{"$f":"IF(V20=0,0,(V20*((LOG(V20))/LOG(2))))","v":0},null,{"$f":"N20","v":12212},{"$f":"COUNTIF(L33:L57,Y20)","v":1},{"$f":"Z20/(AB4-Z25)","v":4.3478260869565216E-2},{"$f":"IF(AA20=0,0,(AA20*((LOG(AA20))/LOG(2))))","v":-0.19667660678508753},null,{"$f":"N20","v":12212},{"$f":"COUNTIF(L58:L83,AD20)","v":0},{"$f":"AE20/(AG4-AE25)","v":0},{"$f":"IF(AF20=0,0,(AF20*((LOG(AF20))/LOG(2))))","v":0},null,{"$f":"N20","v":12212},{"$f":"COUNTIF(L84:L108,AI20)","v":0},{"$f":"AJ20/(AL4-AJ25)","v":0},{"$f":"IF(AK20=0,0,(AK20*((LOG(AK20))/LOG(2))))","v":0},null,{"$f":"N20","v":12212},{"$f":"COUNTIF(L109:L134,AN20)","v":0},{"$f":"AO20/(AQ4-AO25)","v":0},{"$f":"IF(AP20=0,0,(AP20*((LOG(AP20))/LOG(2))))","v":0},null,{"$f":"N20","v":12212},{"$f":"COUNTIF(L135:L159,AS20)","v":0},{"$f":"AT20/(AV4-AT25)","v":0},{"$f":"IF(AU20=0,0,(AU20*((LOG(AU20))/LOG(2))))","v":0}]
[12,2364,24,2373,13,2390,14,2401,24,2416,0,12112,null,12221,{"$f":"COUNTIF($L$7:$L$500,N21)","v":2},{"$f":"O21/$Q$4","v":1.3157894736842105E-2},{"$f":"IF(P21=0,0,(P21*((LOG(P21))/LOG(2))))","v":-8.2209572545310333E-2},null,null,{"$f":"N21","v":12221},{"$f":"COUNTIF(L7:L32,T21)","v":2},{"$f":"U21/(W4-U25)","v":8.6956521739130432E-2},{"$f":"IF(V21=0,0,(V21*((LOG(V21))/LOG(2))))","v":-0.30639669183104457},null,{"$f":"N21","v":12221},{"$f":"COUNTIF(L33:L57,Y21)","v":0},{"$f":"Z21/(AB4-Z25)","v":0},{"$f":"IF(AA21=0,0,(AA21*((LOG(AA21))/LOG(2))))","v":0},null,{"$f":"N21","v":12221},{"$f":"COUNTIF(L58:L83,AD21)","v":0},{"$f":"AE21/(AG4-AE25)","v":0},{"$f":"IF(AF21=0,0,(AF21*((LOG(AF21))/LOG(2))))","v":0},null,{"$f":"N21","v":12221},{"$f":"COUNTIF(L84:L108,AI21)","v":0},{"$f":"AJ21/(AL4-AJ25)","v":0},{"$f":"IF(AK21=0,0,(AK21*((LOG(AK21))/LOG(2))))","v":0},null,{"$f":"N21","v":12221},{"$f":"COUNTIF(L109:L134,AN21)","v":0},{"$f":"AO21/(AQ4-AO25)","v":0},{"$f":"IF(AP21=0,0,(AP21*((LOG(AP21))/LOG(2))))","v":0},null,{"$f":"N21","v":12221},{"$f":"COUNTIF(L135:L159,AS21)","v":0},{"$f":"AT21/(AV4-AT25)","v":0},{"$f":"IF(AU21=0,0,(AU21*((LOG(AU21))/LOG(2))))","v":0}]
[12,2534,24,2546,24,2557,23,2569,13,2580,0,12221,null,12222,{"$f":"COUNTIF($L$7:$L$500,N22)","v":2},{"$f":"O22/$Q$4","v":1.3157894736842105E-2},{"$f":"IF(P22=0,0,(P22*((LOG(P22))/LOG(2))))","v":-8.2209572545310333E-2},null,null,{"$f":"N22","v":12222},{"$f":"COUNTIF(L7:L32,T22)","v":2},{"$f":"U22/(W4-U25)","v":8.6956521739130432E-2},{"$f":"IF(V22=0,0,(V22*((LOG(V22))/LOG(2))))","v":-0.30639669183104457},null,{"$f":"N22","v":12222},{"$f":"COUNTIF(L33:L57,Y22)","v":0},{"$f":"Z22/(AB4-Z25)","v":0},{"$f":"IF(AA22=0,0,(AA22*((LOG(AA22))/LOG(2))))","v":0},null,{"$f":"N22","v":12222},{"$f":"COUNTIF(L58:L83,AD22)","v":0},{"$f":"AE22/(AG4-AE25)","v":0},{"$f":"IF(AF22=0,0,(AF22*((LOG(AF22))/LOG(2))))","v":0},null,{"$f":"N22","v":12222},{"$f":"COUNTIF(L84:L108,AI22)","v":0},{"$f":"AJ22/(AL4-AJ25)","v":0},{"$f":"IF(AK22=0,0,(AK22*((LOG(AK22))/LOG(2))))","v":0},null,{"$f":"N22","v":12222},{"$f":"COUNTIF(L109:L134,AN22)","v":0},{"$f":"AO22/(AQ4-AO25)","v":0},{"$f":"IF(AP22=0,0,(AP22*((LOG(AP22))/LOG(2))))","v":0},null,{"$f":"N22","v":12222},{"$f":"COUNTIF(L135:L159,AS22)","v":0},{"$f":"AT22/(AV4-AT25)","v":0},{"$f":"IF(AU22=0,0,(AU22*((LOG(AU22))/LOG(2))))","v":0}]
[12,2680,13,2689,24,2698,14,2715,13,2723,0,11211,null,21111,{"$f":"COUNTIF($L$7:$L$500,N23)","v":0},{"$f":"O23/$Q$4","v":0},{"$f":"IF(P23=0,0,(P23*((LOG(P23))/LOG(2))))","v":0},null,null,{"$f":"N23","v":21111},{"$f":"COUNTIF(L7:L32,T23)","v":0},{"$f":"U23/(W4-U25)","v":0},{"$f":"IF(V23=0,0,(V23*((LOG(V23))/LOG(2))))","v":0},null,{"$f":"N23","v":21111},{"$f":"COUNTIF(L33:L57,Y23)","v":0},{"$f":"Z23/(AB4-Z25)","v":0},{"$f":"IF(AA23=0,0,(AA23*((LOG(AA23))/LOG(2))))","v":0},null,{"$f":"N23","v":21111},{"$f":"COUNTIF(L58:L83,AD23)","v":0},{"$f":"AE23/(AG4-AE25)","v":0},{"$f":"IF(AF23=0,0,(AF23*((LOG(AF23))/LOG(2))))","v":0},null,{"$f":"N23","v":21111},{"$f":"COUNTIF(L84:L108,AI23)","v":0},{"$f":"AJ23/(AL4-AJ25)","v":0},{"$f":"IF(AK23=0,0,(AK23*((LOG(AK23))/LOG(2))))","v":0},null,{"$f":"N23","v":21111},{"$f":"COUNTIF(L109:L134,AN23)","v":0},{"$f":"AO23/(AQ4-AO25)","v":0},{"$f":"IF(AP23=0,0,(AP23*((LOG(AP23))/LOG(2))))","v":0},null,{"$f":"N23","v":21111},{"$f":"COUNTIF(L135:L159,AS23)","v":0},{"$f":"AT23/(AV4-AT25)","v":0},{"$f":"IF(AU23=0,0,(AU23*((LOG(AU23))/LOG(2))))","v":0}]
[12,2833,24,2844,13,2857,23,2869,13,2879,0,12121,null,21112,{"$f":"COUNTIF($L$7:$L$500,N24)","v":1},{"$f":"O24/$Q$4","v":6.5789473684210523E-3},{"$f":"IF(P24=0,0,(P24*((LOG(P24))/LOG(2))))","v":-4.7683733641076219E-2},null,null,{"$f":"N24","v":21112},{"$f":"COUNTIF(L7:L32,T24)","v":0},{"$f":"U24/(W4-U25)","v":0},{"$f":"IF(V24=0,0,(V24*((LOG(V24))/LOG(2))))","v":0},null,{"$f":"N24","v":21112},{"$f":"COUNTIF(L33:L57,Y24)","v":0},{"$f":"Z24/(AB4-Z25)","v":0},{"$f":"IF(AA24=0,0,(AA24*((LOG(AA24))/LOG(2))))","v":0},null,{"$f":"N24","v":21112},{"$f":"COUNTIF(L58:L83,AD24)","v":0},{"$f":"AE24/(AG4-AE25)","v":0},{"$f":"IF(AF24=0,0,(AF24*((LOG(AF24))/LOG(2))))","v":0},null,{"$f":"N24","v":21112},{"$f":"COUNTIF(L84:L108,AI24)","v":0},{"$f":"AJ24/(AL4-AJ25)","v":0},{"$f":"IF(AK24=0,0,(AK24*((LOG(AK24))/LOG(2))))","v":0},null,{"$f":"N24","v":21112},{"$f":"COUNTIF(L109:L134,AN24)","v":0},{"$f":"AO24/(AQ4-AO25)","v":0},{"$f":"IF(AP24=0,0,(AP24*((LOG(AP24))/LOG(2))))","v":0},null,{"$f":"N24","v":21112},{"$f":"COUNTIF(L135:L159,AS24)","v":1},{"$f":"AT24/(AV4-AT25)","v":4.7619047619047616E-2},{"$f":"IF(AU24=0,0,(AU24*((LOG(AU24))/LOG(2))))","v":-0.20915797251327431}]
[12,2977,13,2998,24,3007,14,3021,13,3030,0,11211,null,21121,{"$f":"COUNTIF($L$7:$L$500,N25)","v":10},{"$f":"O25/$Q$4","v":6.5789473684210523E-2},{"$f":"IF(P25=0,0,(P25*((LOG(P25))/LOG(2))))","v":-0.25828943543133048},null,null,{"$f":"N25","v":21121},{"$f":"COUNTIF(L7:L32,T25)","v":3},null,null,null,{"$f":"N25","v":21121},{"$f":"COUNTIF(L33:L57,Y25)","v":2},null,null,null,{"$f":"N25","v":21121},{"$f":"COUNTIF(L58:L83,AD25)","v":0},null,null,null,{"$f":"N25","v":21121},{"$f":"COUNTIF(L84:L108,AI25)","v":1},null,null,null,{"$f":"N25","v":21121},{"$f":"COUNTIF(L109:L134,AN25)","v":1},null,null,null,{"$f":"N25","v":21121},{"$f":"COUNTIF(L135:L159,AS25)","v":3}]
[12,3128,24,3138,13,3152,14,3159,24,3174,0,12112,null,21122,{"$f":"COUNTIF($L$7:$L$500,N26)","v":0},{"$f":"O26/$Q$4","v":0},{"$f":"IF(P26=0,0,(P26*((LOG(P26))/LOG(2))))","v":0},null,null,{"$f":"N26","v":21122},{"$f":"COUNTIF(L7:L32,T26)","v":0},{"$f":"U26/(W4-U25)","v":0},{"$f":"IF(V26=0,0,(V26*((LOG(V26))/LOG(2))))","v":0},null,{"$f":"N26","v":21122},{"$f":"COUNTIF(L33:L57,Y26)","v":0},{"$f":"Z26/(AB4-Z25)","v":0},{"$f":"IF(AA26=0,0,(AA26*((LOG(AA26))/LOG(2))))","v":0},null,{"$f":"N26","v":21122},{"$f":"COUNTIF(L58:L83,AD26)","v":0},{"$f":"AE26/(AG4-AE25)","v":0},{"$f":"IF(AF26=0,0,(AF26*((LOG(AF26))/LOG(2))))","v":0},null,{"$f":"N26","v":21122},{"$f":"COUNTIF(L84:L108,AI26)","v":0},{"$f":"AJ26/(AL4-AJ25)","v":0},{"$f":"IF(AK26=0,0,(AK26*((LOG(AK26))/LOG(2))))","v":0},null,{"$f":"N26","v":21122},{"$f":"COUNTIF(L109:L134,AN26)","v":0},{"$f":"AO26/(AQ4-AO25)","v":0},{"$f":"IF(AP26=0,0,(AP26*((LOG(AP26))/LOG(2))))","v":0},null,{"$f":"N26","v":21122},{"$f":"COUNTIF(L135:L159,AS26)","v":0},{"$f":"AT26/(AV4-AT25)","v":0},{"$f":"IF(AU26=0,0,(AU26*((LOG(AU26))/LOG(2))))","v":0}]
[12,3275,24,3284,13,3293,23,3305,13,3321,0,12121,null,21211,{"$f":"COUNTIF($L$7:$L$500,N27)","v":5},{"$f":"O27/$Q$4","v":3.2894736842105261E-2},{"$f":"IF(P27=0,0,(P27*((LOG(P27))/LOG(2))))","v":-0.1620394545577705},null,null,{"$f":"N27","v":21211},{"$f":"COUNTIF(L7:L32,T27)","v":1},{"$f":"U27/(W4-U25)","v":4.3478260869565216E-2},{"$f":"IF(V27=0,0,(V27*((LOG(V27))/LOG(2))))","v":-0.19667660678508753},null,{"$f":"N27","v":21211},{"$f":"COUNTIF(L33:L57,Y27)","v":0},{"$f":"Z27/(AB4-Z25)","v":0},{"$f":"IF(AA27=0,0,(AA27*((LOG(AA27))/LOG(2))))","v":0},null,{"$f":"N27","v":21211},{"$f":"COUNTIF(L58:L83,AD27)","v":1},{"$f":"AE27/(AG4-AE25)","v":3.8461538461538464E-2},{"$f":"IF(AF27=0,0,(AF27*((LOG(AF27))/LOG(2))))","v":-0.18078614300542661},null,{"$f":"N27","v":21211},{"$f":"COUNTIF(L84:L108,AI27)","v":1},{"$f":"AJ27/(AL4-AJ25)","v":4.1666666666666664E-2},{"$f":"IF(AK27=0,0,(AK27*((LOG(AK27))/LOG(2))))","v":-0.19104010419671485},null,{"$f":"N27","v":21211},{"$f":"COUNTIF(L109:L134,AN27)","v":0},{"$f":"AO27/(AQ4-AO25)","v":0},{"$f":"IF(AP27=0,0,(AP27*((LOG(AP27))/LOG(2))))","v":0},null,{"$f":"N27","v":21211},{"$f":"COUNTIF(L135:L159,AS27)","v":2},{"$f":"AT27/(AV4-AT25)","v":9.5238095238095233E-2},{"$f":"IF(AU27=0,0,(AU27*((LOG(AU27))/LOG(2))))","v":-0.32307784978845333}]
[12,3419,24,3427,13,3436,23,3445,24,3453,0,12122,null,21212,{"$f":"COUNTIF($L$7:$L$500,N28)","v":8},{"$f":"O28/$Q$4","v":5.2631578947368418E-2},{"$f":"IF(P28=0,0,(P28*((LOG(P28))/LOG(2))))","v":-0.22357513228650452},null,null,{"$f":"N28","v":21212},{"$f":"COUNTIF(L7:L32,T28)","v":2},{"$f":"U28/(W4-U25)","v":8.6956521739130432E-2},{"$f":"IF(V28=0,0,(V28*((LOG(V28))/LOG(2))))","v":-0.30639669183104457},null,{"$f":"N28","v":21212},{"$f":"COUNTIF(L33:L57,Y28)","v":3},{"$f":"Z28/(AB4-Z25)","v":0.13043478260869565},{"$f":"IF(AA28=0,0,(AA28*((LOG(AA28))/LOG(2))))","v":-0.3832955811307639},null,{"$f":"N28","v":21212},{"$f":"COUNTIF(L58:L83,AD28)","v":0},{"$f":"AE28/(AG4-AE25)","v":0},{"$f":"IF(AF28=0,0,(AF28*((LOG(AF28))/LOG(2))))","v":0},null,{"$f":"N28","v":21212},{"$f":"COUNTIF(L84:L108,AI28)","v":1},{"$f":"AJ28/(AL4-AJ25)","v":4.1666666666666664E-2},{"$f":"IF(AK28=0,0,(AK28*((LOG(AK28))/LOG(2))))","v":-0.19104010419671485},null,{"$f":"N28","v":21212},{"$f":"COUNTIF(L109:L134,AN28)","v":0},{"$f":"AO28/(AQ4-AO25)","v":0},{"$f":"IF(AP28=0,0,(AP28*((LOG(AP28))/LOG(2))))","v":0},null,{"$f":"N28","v":21212},{"$f":"COUNTIF(L135:L159,AS28)","v":2},{"$f":"AT28/(AV4-AT25)","v":9.5238095238095233E-2},{"$f":"IF(AU28=0,0,(AU28*((LOG(AU28))/LOG(2))))","v":-0.32307784978845333}]
[12,3554,24,3562,13,3570,23,3580,13,3595,0,12121,null,21221,{"$f":"COUNTIF($L$7:$L$500,N29)","v":0},{"$f":"O29/$Q$4","v":0},{"$f":"IF(P29=0,0,(P29*((LOG(P29))/LOG(2))))","v":0},null,null,{"$f":"N29","v":21221},{"$f":"COUNTIF(L7:L32,T29)","v":0},{"$f":"U29/(W4-U25)","v":0},{"$f":"IF(V29=0,0,(V29*((LOG(V29))/LOG(2))))","v":0},null,{"$f":"N29","v":21221},{"$f":"COUNTIF(L33:L57,Y29)","v":0},{"$f":"Z29/(AB4-Z25)","v":0},{"$f":"IF(AA29=0,0,(AA29*((LOG(AA29))/LOG(2))))","v":0},null,{"$f":"N29","v":21221},{"$f":"COUNTIF(L58:L83,AD29)","v":0},{"$f":"AE29/(AG4-AE25)","v":0},{"$f":"IF(AF29=0,0,(AF29*((LOG(AF29))/LOG(2))))","v":0},null,{"$f":"N29","v":21221},{"$f":"COUNTIF(L84:L108,AI29)","v":0},{"$f":"AJ29/(AL4-AJ25)","v":0},{"$f":"IF(AK29=0,0,(AK29*((LOG(AK29))/LOG(2))))","v":0},null,{"$f":"N29","v":21221},{"$f":"COUNTIF(L109:L134,AN29)","v":0},{"$f":"AO29/(AQ4-AO25)","v":0},{"$f":"IF(AP29=0,0,(AP29*((LOG(AP29))/LOG(2))))","v":0},null,{"$f":"N29","v":21221},{"$f":"COUNTIF(L135:L159,AS29)","v":0},{"$f":"AT29/(AV4-AT25)","v":0},{"$f":"IF(AU29=0,0,(AU29*((LOG(AU29))/LOG(2))))","v":0}]
[12,3698,13,3707,24,3717,23,3729,13,3750,0,11221,null,21222,{"$f":"COUNTIF($L$7:$L$500,N30)","v":1},{"$f":"O30/$Q$4","v":6.5789473684210523E-3},{"$f":"IF(P30=0,0,(P30*((LOG(P30))/LOG(2))))","v":-4.7683733641076219E-2},null,null,{"$f":"N30","v":21222},{"$f":"COUNTIF(L7:L32,T30)","v":1},{"$f":"U30/(W4-U25)","v":4.3478260869565216E-2},{"$f":"IF(V30=0,0,(V30*((LOG(V30))/LOG(2))))","v":-0.19667660678508753},null,{"$f":"N30","v":21222},{"$f":"COUNTIF(L33:L57,Y30)","v":0},{"$f":"Z30/(AB4-Z25)","v":0},{"$f":"IF(AA30=0,0,(AA30*((LOG(AA30))/LOG(2))))","v":0},null,{"$f":"N30","v":21222},{"$f":"COUNTIF(L58:L83,AD30)","v":0},{"$f":"AE30/(AG4-AE25)","v":0},{"$f":"IF(AF30=0,0,(AF30*((LOG(AF30))/LOG(2))))","v":0},null,{"$f":"N30","v":21222},{"$f":"COUNTIF(L84:L108,AI30)","v":0},{"$f":"AJ30/(AL4-AJ25)","v":0},{"$f":"IF(AK30=0,0,(AK30*((LOG(AK30))/LOG(2))))","v":0},null,{"$f":"N30","v":21222},{"$f":"COUNTIF(L109:L134,AN30)","v":0},{"$f":"AO30/(AQ4-AO25)","v":0},{"$f":"IF(AP30=0,0,(AP30*((LOG(AP30))/LOG(2))))","v":0},null,{"$f":"N30","v":21222},{"$f":"COUNTIF(L135:L159,AS30)","v":0},{"$f":"AT30/(AV4-AT25)","v":0},{"$f":"IF(AU30=0,0,(AU30*((LOG(AU30))/LOG(2))))","v":0}]
[12,3851,24,3860,13,3869,23,3877,13,3886,0,12121,null,22111,{"$f":"COUNTIF($L$7:$L$500,N31)","v":0},{"$f":"O31/$Q$4","v":0},{"$f":"IF(P31=0,0,(P31*((LOG(P31))/LOG(2))))","v":0},null,null,{"$f":"N31","v":22111},{"$f":"COUNTIF(L7:L32,T31)","v":0},{"$f":"U31/(W4-U25)","v":0},{"$f":"IF(V31=0,0,(V31*((LOG(V31))/LOG(2))))","v":0},null,{"$f":"N31","v":22111},{"$f":"COUNTIF(L33:L57,Y31)","v":0},{"$f":"Z31/(AB4-Z25)","v":0},{"$f":"IF(AA31=0,0,(AA31*((LOG(AA31))/LOG(2))))","v":0},null,{"$f":"N31","v":22111},{"$f":"COUNTIF(L58:L83,AD31)","v":0},{"$f":"AE31/(AG4-AE25)","v":0},{"$f":"IF(AF31=0,0,(AF31*((LOG(AF31))/LOG(2))))","v":0},null,{"$f":"N31","v":22111},{"$f":"COUNTIF(L84:L108,AI31)","v":0},{"$f":"AJ31/(AL4-AJ25)","v":0},{"$f":"IF(AK31=0,0,(AK31*((LOG(AK31))/LOG(2))))","v":0},null,{"$f":"N31","v":22111},{"$f":"COUNTIF(L109:L134,AN31)","v":0},{"$f":"AO31/(AQ4-AO25)","v":0},{"$f":"IF(AP31=0,0,(AP31*((LOG(AP31))/LOG(2))))","v":0},null,{"$f":"N31","v":22111},{"$f":"COUNTIF(L135:L159,AS31)","v":0},{"$f":"AT31/(AV4-AT25)","v":0},{"$f":"IF(AU31=0,0,(AU31*((LOG(AU31))/LOG(2))))","v":0}]
[21,3985,11,3993,11,4002,21,4012,11,4020,1,21121,null,22112,{"$f":"COUNTIF($L$7:$L$500,N32)","v":0},{"$f":"O32/$Q$4","v":0},{"$f":"IF(P32=0,0,(P32*((LOG(P32))/LOG(2))))","v":0},null,null,{"$f":"N32","v":22112},{"$f":"COUNTIF(L7:L32,T32)","v":0},{"$f":"U32/(W4-U25)","v":0},{"$f":"IF(V32=0,0,(V32*((LOG(V32))/LOG(2))))","v":0},null,{"$f":"N32","v":22112},{"$f":"COUNTIF(L33:L57,Y32)","v":0},{"$f":"Z32/(AB4-Z25)","v":0},{"$f":"IF(AA32=0,0,(AA32*((LOG(AA32))/LOG(2))))","v":0},null,{"$f":"N32","v":22112},{"$f":"COUNTIF(L58:L83,AD32)","v":0},{"$f":"AE32/(AG4-AE25)","v":0},{"$f":"IF(AF32=0,0,(AF32*((LOG(AF32))/LOG(2))))","v":0},null,{"$f":"N32","v":22112},{"$f":"COUNTIF(L84:L108,AI32)","v":0},{"$f":"AJ32/(AL4-AJ25)","v":0},{"$f":"IF(AK32=0,0,(AK32*((LOG(AK32))/LOG(2))))","v":0},null,{"$f":"N32","v":22112},{"$f":"COUNTIF(L109:L134,AN32)","v":0},{"$f":"AO32/(AQ4-AO25)","v":0},{"$f":"IF(AP32=0,0,(AP32*((LOG(AP32))/LOG(2))))","v":0},null,{"$f":"N32","v":22112},{"$f":"COUNTIF(L135:L159,AS32)","v":0},{"$f":"AT32/(AV4-AT25)","v":0},{"$f":"IF(AU32=0,0,(AU32*((LOG(AU32))/LOG(2))))","v":0}]
[12,4113,24,4125,24,4133,14,4159,24,4169,0,12212,null,22121,{"$f":"COUNTIF($L$7:$L$500,N33)","v":2},{"$f":"O33/$Q$4","v":1.3157894736842105E-2},{"$f":"IF(P33=0,0,(P33*((LOG(P33))/LOG(2))))","v":-8.2209572545310333E-2},null,null,{"$f":"N33","v":22121},{"$f":"COUNTIF(L7:L32,T33)","v":0},{"$f":"U33/(W4-U25)","v":0},{"$f":"IF(V33=0,0,(V33*((LOG(V33))/LOG(2))))","v":0},null,{"$f":"N33","v":22121},{"$f":"COUNTIF(L33:L57,Y33)","v":1},{"$f":"Z33/(AB4-Z25)","v":4.3478260869565216E-2},{"$f":"IF(AA33=0,0,(AA33*((LOG(AA33))/LOG(2))))","v":-0.19667660678508753},null,{"$f":"N33","v":22121},{"$f":"COUNTIF(L58:L83,AD33)","v":0},{"$f":"AE33/(AG4-AE25)","v":0},{"$f":"IF(AF33=0,0,(AF33*((LOG(AF33))/LOG(2))))","v":0},null,{"$f":"N33","v":22121},{"$f":"COUNTIF(L84:L108,AI33)","v":1},{"$f":"AJ33/(AL4-AJ25)","v":4.1666666666666664E-2},{"$f":"IF(AK33=0,0,(AK33*((LOG(AK33))/LOG(2))))","v":-0.19104010419671485},null,{"$f":"N33","v":22121},{"$f":"COUNTIF(L109:L134,AN33)","v":0},{"$f":"AO33/(AQ4-AO25)","v":0},{"$f":"IF(AP33=0,0,(AP33*((LOG(AP33))/LOG(2))))","v":0},null,{"$f":"N33","v":22121},{"$f":"COUNTIF(L135:L159,AS33)","v":0},{"$f":"AT33/(AV4-AT25)","v":0},{"$f":"IF(AU33=0,0,(AU33*((LOG(AU33))/LOG(2))))","v":0}]
[12,4277,24,4287,13,4303,14,4316,24,4327,0,12112,null,22122,{"$f":"COUNTIF($L$7:$L$500,N34)","v":0},{"$f":"O34/$Q$4","v":0},{"$f":"IF(P34=0,0,(P34*((LOG(P34))/LOG(2))))","v":0},null,null,{"$f":"N34","v":22122},{"$f":"COUNTIF(L7:L32,T34)","v":0},{"$f":"U34/(W4-U25)","v":0},{"$f":"IF(V34=0,0,(V34*((LOG(V34))/LOG(2))))","v":0},null,{"$f":"N34","v":22122},{"$f":"COUNTIF(L33:L57,Y34)","v":0},{"$f":"Z34/(AB4-Z25)","v":0},{"$f":"IF(AA34=0,0,(AA34*((LOG(AA34))/LOG(2))))","v":0},null,{"$f":"N34","v":22122},{"$f":"COUNTIF(L58:L83,AD34)","v":0},{"$f":"AE34/(AG4-AE25)","v":0},{"$f":"IF(AF34=0,0,(AF34*((LOG(AF34))/LOG(2))))","v":0},null,{"$f":"N34","v":22122},{"$f":"COUNTIF(L84:L108,AI34)","v":0},{"$f":"AJ34/(AL4-AJ25)","v":0},{"$f":"IF(AK34=0,0,(AK34*((LOG(AK34))/LOG(2))))","v":0},null,{"$f":"N34","v":22122},{"$f":"COUNTIF(L109:L134,AN34)","v":0},{"$f":"AO34/(AQ4-AO25)","v":0},{"$f":"IF(AP34=0,0,(AP34*((LOG(AP34))/LOG(2))))","v":0},null,{"$f":"N34","v":22122},{"$f":"COUNTIF(L135:L159,AS34)","v":0},{"$f":"AT34/(AV4-AT25)","v":0},{"$f":"IF(AU34=0,0,(AU34*((LOG(AU34))/LOG(2))))","v":0}]
[12,4432,24,4441,13,4463,14,4474,13,4486,0,12111,null,22211,{"$f":"COUNTIF($L$7:$L$500,N35)","v":1},{"$f":"O35/$Q$4","v":6.5789473684210523E-3},{"$f":"IF(P35=0,0,(P35*((LOG(P35))/LOG(2))))","v":-4.7683733641076219E-2},null,null,{"$f":"N35","v":22211},{"$f":"COUNTIF(L7:L32,T35)","v":0},{"$f":"U35/(W4-U25)","v":0},{"$f":"IF(V35=0,0,(V35*((LOG(V35))/LOG(2))))","v":0},null,{"$f":"N35","v":22211},{"$f":"COUNTIF(L33:L57,Y35)","v":0},{"$f":"Z35/(AB4-Z25)","v":0},{"$f":"IF(AA35=0,0,(AA35*((LOG(AA35))/LOG(2))))","v":0},null,{"$f":"N35","v":22211},{"$f":"COUNTIF(L58:L83,AD35)","v":0},{"$f":"AE35/(AG4-AE25)","v":0},{"$f":"IF(AF35=0,0,(AF35*((LOG(AF35))/LOG(2))))","v":0},null,{"$f":"N35","v":22211},{"$f":"COUNTIF(L84:L108,AI35)","v":0},{"$f":"AJ35/(AL4-AJ25)","v":0},{"$f":"IF(AK35=0,0,(AK35*((LOG(AK35))/LOG(2))))","v":0},null,{"$f":"N35","v":22211},{"$f":"COUNTIF(L109:L134,AN35)","v":1},{"$f":"AO35/(AQ4-AO25)","v":0.04},{"$f":"IF(AP35=0,0,(AP35*((LOG(AP35))/LOG(2))))","v":-0.18575424759098899},null,{"$f":"N35","v":22211},{"$f":"COUNTIF(L135:L159,AS35)","v":0},{"$f":"AT35/(AV4-AT25)","v":0},{"$f":"IF(AU35=0,0,(AU35*((LOG(AU35))/LOG(2))))","v":0}]
[12,4598,24,4608,13,4624,23,4637,13,4652,0,12121,null,22212,{"$f":"COUNTIF($L$7:$L$500,N36)","v":0},{"$f":"O36/$Q$4","v":0},{"$f":"IF(P36=0,0,(P36*((LOG(P36))/LOG(2))))","v":0},null,null,{"$f":"N36","v":22212},{"$f":"COUNTIF(L7:L32,T36)","v":0},{"$f":"U36/(W4-U25)","v":0},{"$f":"IF(V36=0,0,(V36*((LOG(V36))/LOG(2))))","v":0},null,{"$f":"N36","v":22212},{"$f":"COUNTIF(L33:L57,Y36)","v":0},{"$f":"Z36/(AB4-Z25)","v":0},{"$f":"IF(AA36=0,0,(AA36*((LOG(AA36))/LOG(2))))","v":0},null,{"$f":"N36","v":22212},{"$f":"COUNTIF(L58:L83,AD36)","v":0},{"$f":"AE36/(AG4-AE25)","v":0},{"$f":"IF(AF36=0,0,(AF36*((LOG(AF36))/LOG(2))))","v":0},null,{"$f":"N36","v":22212},{"$f":"COUNTIF(L84:L108,AI36)","v":0},{"$f":"AJ36/(AL4-AJ25)","v":0},{"$f":"IF(AK36=0,0,(AK36*((LOG(AK36))/LOG(2))))","v":0},null,{"$f":"N36","v":22212},{"$f":"COUNTIF(L109:L134,AN36)","v":0},{"$f":"AO36/(AQ4-AO25)","v":0},{"$f":"IF(AP36=0,0,(AP36*((LOG(AP36))/LOG(2))))","v":0},null,{"$f":"N36","v":22212},{"$f":"COUNTIF(L135:L159,AS36)","v":0},{"$f":"AT36/(AV4-AT25)","v":0},{"$f":"IF(AU36=0,0,(AU36*((LOG(AU36))/LOG(2))))","v":0}]
[12,4756,24,4764,13,4772,23,4791,13,4799,0,12121,null,22221,{"$f":"COUNTIF($L$7:$L$500,N37)","v":0},{"$f":"O37/$Q$4","v":0},{"$f":"IF(P37=0,0,(P37*((LOG(P37))/LOG(2))))","v":0},null,null,{"$f":"N37","v":22221},{"$f":"COUNTIF(L7:L32,T37)","v":0},{"$f":"U37/(W4-U25)","v":0},{"$f":"IF(V37=0,0,(V37*((LOG(V37))/LOG(2))))","v":0},null,{"$f":"N37","v":22221},{"$f":"COUNTIF(L33:L57,Y37)","v":0},{"$f":"Z37/(AB4-Z25)","v":0},{"$f":"IF(AA37=0,0,(AA37*((LOG(AA37))/LOG(2))))","v":0},null,{"$f":"N37","v":22221},{"$f":"COUNTIF(L58:L83,AD37)","v":0},{"$f":"AE37/(AG4-AE25)","v":0},{"$f":"IF(AF37=0,0,(AF37*((LOG(AF37))/LOG(2))))","v":0},null,{"$f":"N37","v":22221},{"$f":"COUNTIF(L84:L108,AI37)","v":0},{"$f":"AJ37/(AL4-AJ25)","v":0},{"$f":"IF(AK37=0,0,(AK37*((LOG(AK37))/LOG(2))))","v":0},null,{"$f":"N37","v":22221},{"$f":"COUNTIF(L109:L134,AN37)","v":0},{"$f":"AO37/(AQ4-AO25)","v":0},{"$f":"IF(AP37=0,0,(AP37*((LOG(AP37))/LOG(2))))","v":0},null,{"$f":"N37","v":22221},{"$f":"COUNTIF(L135:L159,AS37)","v":0},{"$f":"AT37/(AV4-AT25)","v":0},{"$f":"IF(AU37=0,0,(AU37*((LOG(AU37))/LOG(2))))","v":0}]
[12,4905,24,4918,13,4926,23,4935,13,4950,0,12121,null,22222,{"$f":"COUNTIF($L$7:$L$500,N38)","v":0},{"$f":"O38/$Q$4","v":0},{"$f":"IF(P38=0,0,(P38*((LOG(P38))/LOG(2))))","v":0},null,null,{"$f":"N38","v":22222},{"$f":"COUNTIF(L7:L32,T38)","v":0},{"$f":"U38/(W4-U25)","v":0},{"$f":"IF(V38=0,0,(V38*((LOG(V38))/LOG(2))))","v":0},null,{"$f":"N38","v":22222},{"$f":"COUNTIF(L33:L57,Y38)","v":0},{"$f":"Z38/(AB4-Z25)","v":0},{"$f":"IF(AA38=0,0,(AA38*((LOG(AA38))/LOG(2))))","v":0},null,{"$f":"N38","v":22222},{"$f":"COUNTIF(L58:L83,AD38)","v":0},{"$f":"AE38/(AG4-AE25)","v":0},{"$f":"IF(AF38=0,0,(AF38*((LOG(AF38))/LOG(2))))","v":0},null,{"$f":"N38","v":22222},{"$f":"COUNTIF(L84:L108,AI38)","v":0},{"$f":"AJ38/(AL4-AJ25)","v":0},{"$f":"IF(AK38=0,0,(AK38*((LOG(AK38))/LOG(2))))","v":0},null,{"$f":"N38","v":22222},{"$f":"COUNTIF(L109:L134,AN38)","v":0},{"$f":"AO38/(AQ4-AO25)","v":0},{"$f":"IF(AP38=0,0,(AP38*((LOG(AP38))/LOG(2))))","v":0},null,{"$f":"N38","v":22222},{"$f":"COUNTIF(L135:L159,AS38)","v":0},{"$f":"AT38/(AV4-AT25)","v":0},{"$f":"IF(AU38=0,0,(AU38*((LOG(AU38))/LOG(2))))","v":0}]
[12,5055,13,5070,24,5078,14,5099,13,5107,0,11211,null,null,null,{"$f":"SUM(P7:P38)","v":1.0000000000000002},{"$f":"-SUM(Q7:Q38)","v":3.5669205445255669},null,null,null,null,{"$f":"SUM(V7:V38)","v":0.99999999999999978},{"$f":"-SUM(W7:W38)","v":3.2033650875091753},null,null,null,{"$f":"SUM(AA7:AA38)","v":0.99999999999999989},{"$f":"-SUM(AB7:AB38)","v":3.0294520440309141},null,null,null,{"$f":"SUM(AF7:AF38)","v":1},{"$f":"-SUM(AG7:AG38)","v":2.6858035486178693},null,null,null,{"$f":"SUM(AK7:AK38)","v":0.99999999999999989},{"$f":"-SUM(AL7:AL38)","v":2.7049868557726668},null,null,null,{"$f":"SUM(AP7:AP38)","v":1},{"$f":"-SUM(AQ7:AQ38)","v":2.5974058114255181},null,null,null,{"$f":"SUM(AU7:AU38)","v":1},{"$f":"-SUM(AV7:AV38)","v":2.7373227798185953}]
[12,5213,13,5220,24,5228,14,5237,24,5250,0,11212,null,null,null,"U=",{"$f":"Q39/(LOG(Q4)/LOG(2))","v":0.49212972093189106},null,null,null,null,"U1=",{"$f":"W39/(LOG(W4)/LOG(2))","v":0.68150328045820086},null,null,null,"U2=",{"$f":"AB39/(LOG(AB4)/LOG(2))","v":0.65235698958581956},null,null,null,"U3=",{"$f":"AG39/(LOG(AG4)/LOG(2))","v":0.57139410558807002},null,null,null,"U4=",{"$f":"AL39/(LOG(AL4)/LOG(2))","v":0.58248721433897088},null,null,null,"U5=",{"$f":"AQ39/(LOG(AQ4)/LOG(2))","v":0.55258783585734994},null,null,null,"U6=",{"$f":"AV39/(LOG(AV4)/LOG(2))","v":0.59702184682820181}]
[12,5359,24,5370,13,5384,14,5392,13,5413,0,12111]
[21,5515,22,5534,13,5552,23,5562,13,5576,0,22121]
[12,5694,24,5712,13,5729,23,5739,13,5749,0,12121,null,"Total Target Seq"]
[12,5853,13,5859,24,5868,14,5901,13,5911,0,11211,null,{"$f":"COUNTIF(L7:L159,G3)","v":10},null,26,25,26,25,26,25]
[12,6022,13,6030,24,6039,14,6047,13,6054,0,11211,null,null,null,"% of reinforcement given in 6 equal intervals based on number of trials "]
[21,6153,11,6160,11,6179,21,6189,11,6198,1,21121,null,null,null,"%_1","%_2","%_3","%_4","%_5","%_6"]
[21,6328,11,6352,22,6360,14,6372,24,6385,0,21212,null,null,"target sequence",{"$f":"$G$3","v":21121},{"$f":"$G$3","v":21121},{"$f":"$G$3","v":21121},{"$f":"$G$3","v":21121},{"$f":"$G$3","v":21121},{"$f":"$G$3","v":21121}]
[12,6565,24,6573,13,6587,14,6594,24,6620,0,12112,null,null,"total reinforcement",{"$f":"U25","v":3},{"$f":"Z25","v":2},{"$f":"AE25","v":0},{"$f":"AJ25","v":1},{"$f":"AO25","v":1},{"$f":"AT25","v":3}]
[21,6717,11,6724,22,6733,14,6741,24,6753,0,21212,null,null,"% target"]
[12,6868,24,6876,13,6896,14,6903,13,6918,0,12111,null,null,"CCRF"]
[21,7014,11,7022,22,7030,14,7038,24,7049,0,21212,null,null,"% CCRf"]
[12,7160,13,7167,24,7178,14,7189,13,7196,0,11211,null,null,"average response rate",{"$f":"J32/P44","v":154.61538461538461},{"$f":"(J57-J32)/Q44","v":156.68},{"$f":"(J83-J57)/R44","v":152.26923076923077},{"$f":"(J108-J83)/S44","v":159.08000000000001},{"$f":"(J134-J108)/T44","v":162.03846153846155},{"$f":"(J159-J134)/U44","v":-803.44}]
[12,7307,24,7318,13,7327,23,7340,13,7368,0,12121]
[12,7477,13,7485,13,7493,23,7502,13,7514,0,11121]
[21,7613,11,7620,11,7633,21,7642,11,7652,1,21121]
[12,7743,24,7753,13,7763,23,7774,24,7796,0,12122]
[12,7896,24,7904,13,7915,14,7922,13,7937,0,12111]
[12,8036,24,8045,13,8053,23,8065,13,8083,0,12121]
[12,8188,13,8196,24,8206,14,8217,13,8229,0,11211]
[12,8332,24,8341,13,8352,23,8363,13,8372,0,12121]
[12,8476,13,8484,24,8494,14,8503,13,8529,0,11211]
[12,8629,24,8639,13,8647,23,8657,13,8666,0,12121]
[12,8767,24,8778,13,8786,14,8795,24,8806,0,12112]
[12,8911,13,8926,24,8935,14,8945,13,8965,0,11211]
[21,9065,11,9073,22,9081,14,9099,13,9106,0,21211]
[12,9209,24,9220,13,9228,14,9239,13,9250,0,12111]
[12,9356,24,9366,13,9381,14,9387,13,9412,0,12111]
[12,9529,24,9538,13,9546,23,9556,13,9567,0,12121]
[12,9667,13,9680,24,9689,14,9698,13,9709,0,11211]
[12,9809,24,9822,13,9830,23,9841,13,9850,0,12121]
[12,9955,13,9963,13,9972,23,9983,13,9995,0,11121]
[12,10101,13,10112,24,10131,14,10141,24,10158,0,11212]
[12,10265,13,10272,13,10281,23,10292,13,10304,0,11121]
[12,10407,13,10415,13,10428,23,10438,13,10448,0,11121]
[12,10552,13,10560,24,10570,14,10578,24,10592,0,11212]
[12,10718,13,10747,13,10757,14,10776,13,10784,0,11111]
[12,10887,13,10894,24,10903,14,10911,24,10928,0,11212]
[12,11032,13,11040,24,11051,14,11059,24,11071,0,11212]
[12,11174,13,11182,24,11192,14,11204,13,11253,0,11211]
[12,11363,13,11376,24,11385,14,11393,13,11433,0,11211]
[12,11538,13,11554,24,11569,14,11578,24,11590,0,11212]
[12,11706,24,11715,13,11724,14,11749,13,11756,0,12111]
[12,11861,13,11869,24,11880,14,11888,13,11896,0,11211]
[12,11996,13,12007,13,12032,14,12056,13,12066,0,11111]
[12,12180,13,12191,24,12200,14,12220,13,12227,0,11211]
[21,12345,22,12359,13,12366,23,12379,13,12388,0,22121]
[21,12502,11,12510,22,12518,14,12532,13,12542,0,21211]
[12,12653,24,12662,13,12671,23,12683,13,12696,0,12121]
[12,12800,13,12838,24,12846,14,12868,13,12877,0,11211]
[12,12980,13,12988,13,13008,23,13022,13,13031,0,11121]
[12,13158,13,13175,24,13184,14,13199,13,13209,0,11211]
[12,13314,13,13325,24,13334,14,13343,24,13356,0,11212]
[12,13462,13,13470,24,13479,14,13488,13,13497,0,11211]
[12,13603,13,13616,24,13625,14,13650,24,13661,0,11212]
[12,13767,13,13774,24,13785,14,13794,24,13811,0,11212]
[21,13929,11,13937,22,13945,14,13966,24,13978,0,21212]
[12,14086,13,14093,13,14105,23,14116,13,14125,0,11121]
[21,14224,11,14232,11,14252,21,14264,11,14274,1,21121]
[12,14382,24,14391,13,14400,23,14410,13,14421,0,12121]
[12,14526,13,14537,24,14546,14,14554,13,14562,0,11211]
[12,14672,24,14682,13,14691,23,14699,13,14707,0,12121]
[12,14814,13,14822,24,14831,14,14839,24,14853,0,11212]
[12,14958,24,14967,13,14975,23,15006,13,15017,0,12121]
[12,15129,13,15146,13,15162,14,15182,13,15192,0,11111]
[12,15295,13,15303,13,15331,14,15341,13,15349,0,11111]
[12,15463,13,15473,13,15490,14,15512,13,15552,0,11111]
[12,15664,13,15681,24,15695,14,15707,13,15716,0,11211]
[12,15822,13,15837,24,15846,14,15856,24,15873,0,11212]
[12,15977,24,15986,13,15994,23,16006,13,16021,0,12121]
[12,16135,13,16142,24,16151,14,16158,13,16188,0,11211]
[12,16293,13,16301,24,16313,14,16322,13,16359,0,11211]
[12,16462,13,16478,24,16488,14,16503,13,16514,0,11211]
[12,16639,13,16662,24,16696,14,16706,13,16714,0,11211]
[12,16815,13,16822,24,16833,14,16848,13,16858,0,11211]
[12,16971,13,16992,13,17011,23,17022,13,17031,0,11121]
[12,17148,24,17159,13,17180,23,17193,13,17201,0,12121]
[21,17300,11,17307,11,17324,21,17336,11,17356,1,21121]
[12,17453,13,17464,13,17488,23,17501,13,17518,0,11121]
[21,17629,22,17641,24,17655,14,17668,13,17682,0,22211]
[12,17789,24,17798,13,17805,23,17813,13,17825,0,12121]
[12,17933,24,17943,13,17951,23,17961,13,17979,0,12121]
[12,18087,13,18108,13,18132,14,18155,13,18171,0,11111]
[12,18276,24,18287,13,18294,23,18306,13,18316,0,12121]
[12,18424,13,18432,24,18442,14,18456,24,18468,0,11212]
[12,18573,13,18581,13,18607,14,18634,13,18642,0,11111]
[12,18745,13,18752,13,18769,23,18780,13,18789,0,11121]
[12,18892,13,18899,13,18917,14,18938,13,18943,0,11111]
[12,19051,13,19058,13,19073,14,19094,24,19106,0,11112]
[12,19213,13,19220,13,19234,14,19263,13,19272,0,11111]
[12,19378,24,19388,13,19396,23,19408,13,19429,0,12121]
[12,19536,13,19543,13,19558,23,19568,13,19579,0,11121]
[12,19685,13,19694,24,19702,14,19725,13,19735,0,11211]
[12,19847,24,19859,13,19868,14,19883,13,19895,0,12111]
[12,20015,13,20029,24,20060,14,20078,13,20086,0,11211]
[12,20192,24,20202,13,20210,23,20226,13,20248,0,12121]
[12,20354,13,20362,13,20381,23,20394,13,20412,0,11121]
[21,20518,11,20559,22,20567,14,20575,24,20585,0,21212]
[21,20681,11,20688,11,20699,21,20710,11,20730,1,21121]
[12,20838,24,20847,13,20862,23,20871,13,20885,0,12121]
[12,20991,13,21004,24,21012,14,21026,13,21037,0,11211]
[21,21135,11,21142,11,21149,12,21166,24,21186,0,21112]
[12,21290,13,21318,24,21326,14,21346,24,21358,0,11212]
[12,21468,13,21475,24,21497,14,21505,24,21515,0,11212]
[21,21613,11,21621,11,21628,21,21639,11,21648,1,21121]
[21,21756,11,21764,22,21775,14,21793,13,21815,0,21211]
[12,21929,24,21973,13,21990,23,22001,13,22010,0,12121]
[12,22117,13,22137,24,22146,14,22161,24,22176,0,11212]
[12,22278,24,22288,13,22296,23,22306,13,22315,0,12121]
[12,22423,24,22432,13,22441,23,22453,13,22488,0,12121]
[21,22585,11,22593,11,22600,21,22610,11,22618,1,21121]
[21,22724,11,22740,22,22749,14,22760,24,22771,0,21212]
[12,22868,24,22876,13,22884,23,22896,13,22912,0,12121]
[12,23021,13,23040,24,23053,23,23083,24,23099,0,11222]
[12,23216,13,23225,13,23239,23,23249,13,23261,0,11121]
[12,23366,24,23376,13,23384,23,23396,13,23405,0,12121]
[12,23503,24,23512,13,23520,14,23540,13,23546,0,12111]
[12,23659,24,23667,13,23695,23,23708,13,23725,0,12121]
[21,23826,11,23834,22,23843,14,23853,13,23857,0,21211]
[12,23967,13,23982,24,23991,null,null,null,null,null,112]

{"sheet":"!MA13930.010","index":16,"n_rows":146,"n_cols":48,"rows_kept":146,"cut":false,"hidden":false,"merged":[[4,39,4,42],[5,39,5,40],[4,44,4,47],[5,44,5,45],[4,24,4,27],[5,24,5,25],[4,29,4,32],[5,29,5,30],[4,34,4,37],[5,34,5,35],[1,1,1,2],[5,13,5,14],[42,13,42,14],[43,13,43,14],[4,19,4,22],[5,19,5,20]]}
["Report for:!MA13930.010"]
["Date:","<date>"]
["Hen:","<hen>",null,null,null,"Correct Sequence",{"$f":"Start!J2","v":21121},null,null,null,null,null,null,null,null,"Total Sequences in Data",{"$f":"4994-COUNTBLANK(L7:L5000)","v":140},null,null,null,null,"Total Sequences in Block Data",{"$f":"COUNTA(L7:L29)","v":23},null,null,null,"Total Sequences in Block Data",{"$f":"COUNTA(L30:L53)","v":24},null,null,null,"Total Sequences in Block Data",{"$f":"COUNTA(L54:L76)","v":23},null,null,null,"Total Sequences in Block Data",{"$f":"COUNTA(L77:L99)","v":23},null,null,null,"Total Sequences in Block Data",{"$f":"COUNTA(L100:L123)","v":24},null,null,null,"Total Sequences in Block Data",{"$f":"COUNTA(L124:L146)","v":23}]
[null,null,null,null,null,null,null,null,null,null,null,null,null,null,null,"Total Sequences in Summary",{"$f":"SUM(O7:O38)","v":140},null,null,null,null,"Total Sequences in Block Summary",{"$f":"SUM(U7:U38)","v":23},null,null,null,"Total Sequences in Block Summary",{"$f":"SUM(Z7:Z38)","v":24},null,null,null,"Total Sequences in Block Summary",{"$f":"SUM(AE7:AE38)","v":23},null,null,null,"Total Sequences in Block Summary",{"$f":"SUM(AJ7:AJ38)","v":23},null,null,null,"Total Sequences in Block Summary",{"$f":"SUM(AO7:AO38)","v":24},null,null,null,"Total Sequences in Block Summary",{"$f":"SUM(AT7:AT38)","v":23}]
[null,null,null,null,null,null,null,null,null,null,null,null,null,null,null,null,null,null,null,"Block 1",null,null,null,null,"Block 2",null,null,null,null,"Block 3",null,null,null,null,"Block 4",null,null,null,null,"Block 5",null,null,null,null,"Block 6"]
["Sequence\nComponent\n1","Time\n1","Sequence\nComponent\n2","Time\n2","Sequence\nComponent\n3","Time\n3","Sequence\nComponent\n4","Time\n4","Sequence\nComponent\n5","Time\n5","Correct?\n0=No 1=Yes","Sequence",null,"Frequency",null,"Relative Frequency","Variability",null,null,"Frequency",null,"Relative Frequency","Variability",null,"Frequency",null,"Relative Frequency","Variability",null,"Frequency",null,"Relative Frequency","Variability",null,"Frequency",null,"Relative Frequency","Variability",null,"Frequency",null,"Relative Frequency","Variability",null,"Frequency",null,"Relative Frequency","Variability"]
[21,14,22,32,24,84,23,128,24,206,0,22222,null,11111,{"$f":"COUNTIF($L$7:$L$500,N7)","v":6},{"$f":"O7/$Q$4","v":4.2857142857142858E-2},{"$f":"IF(P7=0,0,(P7*((LOG(P7))/LOG(2))))","v":-0.19475659355244901},null,null,{"$f":"N7","v":11111},{"$f":"COUNTIF(L7:L29,T7)","v":1},{"$f":"U7/(W4-U25)","v":4.7619047619047616E-2},{"$f":"IF(V7=0,0,(V7*((LOG(V7))/LOG(2))))","v":-0.20915797251327431},null,{"$f":"N7","v":11111},{"$f":"COUNTIF(L30:L53,Y7)","v":2},{"$f":"Z7/(AB4-Z25)","v":8.6956521739130432E-2},{"$f":"IF(AA7=0,0,(AA7*((LOG(AA7))/LOG(2))))","v":-0.30639669183104457},null,{"$f":"N7","v":11111},{"$f":"COUNTIF(L54:L76,AD7)","v":0},{"$f":"AE7/(AG4-AE25)","v":0},{"$f":"IF(AF7=0,0,(AF7*((LOG(AF7))/LOG(2))))","v":0},null,{"$f":"N7","v":11111},{"$f":"COUNTIF(L77:L99,AI7)","v":1},{"$f":"AJ7/(AL4-AJ25)","v":4.3478260869565216E-2},{"$f":"IF(AK7=0,0,(AK7*((LOG(AK7))/LOG(2))))","v":-0.19667660678508753},null,{"$f":"N7","v":11111},{"$f":"COUNTIF(L100:L123,AN7)","v":0},{"$f":"AO7/(AQ4-AO25)","v":0},{"$f":"IF(AP7=0,0,(AP7*((LOG(AP7))/LOG(2))))","v":0},null,{"$f":"N7","v":11111},{"$f":"COUNTIF(L124:L146,AS7)","v":2},{"$f":"AT7/(AV4-AT25)","v":9.0909090909090912E-2},{"$f":"IF(AU7=0,0,(AU7*((LOG(AU7))/LOG(2))))","v":-0.31449378351248153}]
[21,343,11,359,22,368,14,399,24,410,0,21212,null,11112,{"$f":"COUNTIF($L$7:$L$500,N8)","v":10},{"$f":"O8/$Q$4","v":7.1428571428571425E-2},{"$f":"IF(P8=0,0,(P8*((LOG(P8))/LOG(2))))","v":-0.27195392300411453},null,null,{"$f":"N8","v":11112},{"$f":"COUNTIF(L7:L29,T8)","v":0},{"$f":"U8/(W4-U25)","v":0},{"$f":"IF(V8=0,0,(V8*((LOG(V8))/LOG(2))))","v":0},null,{"$f":"N8","v":11112},{"$f":"COUNTIF(L30:L53,Y8)","v":1},{"$f":"Z8/(AB4-Z25)","v":4.3478260869565216E-2},{"$f":"IF(AA8=0,0,(AA8*((LOG(AA8))/LOG(2))))","v":-0.19667660678508753},null,{"$f":"N8","v":11112},{"$f":"COUNTIF(L54:L76,AD8)","v":0},{"$f":"AE8/(AG4-AE25)","v":0},{"$f":"IF(AF8=0,0,(AF8*((LOG(AF8))/LOG(2))))","v":0},null,{"$f":"N8","v":11112},{"$f":"COUNTIF(L77:L99,AI8)","v":3},{"$f":"AJ8/(AL4-AJ25)","v":0.13043478260869565},{"$f":"IF(AK8=0,0,(AK8*((LOG(AK8))/LOG(2))))","v":-0.3832955811307639},null,{"$f":"N8","v":11112},{"$f":"COUNTIF(L100:L123,AN8)","v":2},{"$f":"AO8/(AQ4-AO25)","v":9.0909090909090912E-2},{"$f":"IF(AP8=0,0,(AP8*((LOG(AP8))/LOG(2))))","v":-0.31449378351248153},null,{"$f":"N8","v":11112},{"$f":"COUNTIF(L124:L146,AS8)","v":4},{"$f":"AT8/(AV4-AT25)","v":0.18181818181818182},{"$f":"IF(AU8=0,0,(AU8*((LOG(AU8))/LOG(2))))","v":-0.44716938520678134}]
[21,546,11,562,22,574,23,599,13,619,0,21221,null,11121,{"$f":"COUNTIF($L$7:$L$500,N9)","v":23},{"$f":"O9/$Q$4","v":0.16428571428571428},{"$f":"IF(P9=0,0,(P9*((LOG(P9))/LOG(2))))","v":-0.42808274571730659},null,null,{"$f":"N9","v":11121},{"$f":"COUNTIF(L7:L29,T9)","v":1},{"$f":"U9/(W4-U25)","v":4.7619047619047616E-2},{"$f":"IF(V9=0,0,(V9*((LOG(V9))/LOG(2))))","v":-0.20915797251327431},null,{"$f":"N9","v":11121},{"$f":"COUNTIF(L30:L53,Y9)","v":2},{"$f":"Z9/(AB4-Z25)","v":8.6956521739130432E-2},{"$f":"IF(AA9=0,0,(AA9*((LOG(AA9))/LOG(2))))","v":-0.30639669183104457},null,{"$f":"N9","v":11121},{"$f":"COUNTIF(L54:L76,AD9)","v":6},{"$f":"AE9/(AG4-AE25)","v":0.2608695652173913},{"$f":"IF(AF9=0,0,(AF9*((LOG(AF9))/LOG(2))))","v":-0.50572159704413644},null,{"$f":"N9","v":11121},{"$f":"COUNTIF(L77:L99,AI9)","v":3},{"$f":"AJ9/(AL4-AJ25)","v":0.13043478260869565},{"$f":"IF(AK9=0,0,(AK9*((LOG(AK9))/LOG(2))))","v":-0.3832955811307639},null,{"$f":"N9","v":11121},{"$f":"COUNTIF(L100:L123,AN9)","v":7},{"$f":"AO9/(AQ4-AO25)","v":0.31818181818181818},{"$f":"IF(AP9=0,0,(AP9*((LOG(AP9))/LOG(2))))","v":-0.52566076709353871},null,{"$f":"N9","v":11121},{"$f":"COUNTIF(L124:L146,AS9)","v":4},{"$f":"AT9/(AV4-AT25)","v":0.18181818181818182},{"$f":"IF(AU9=0,0,(AU9*((LOG(AU9))/LOG(2))))","v":-0.44716938520678134}]
[21,719,11,729,11,737,21,748,11,758,1,21121,null,11122,{"$f":"COUNTIF($L$7:$L$500,N10)","v":0},{"$f":"O10/$Q$4","v":0},{"$f":"IF(P10=0,0,(P10*((LOG(P10))/LOG(2))))","v":0},null,null,{"$f":"N10","v":11122},{"$f":"COUNTIF(L7:L29,T10)","v":0},{"$f":"U10/(W4-U25)","v":0},{"$f":"IF(V10=0,0,(V10*((LOG(V10))/LOG(2))))","v":0},null,{"$f":"N10","v":11122},{"$f":"COUNTIF(L30:L53,Y10)","v":0},{"$f":"Z10/(AB4-Z25)","v":0},{"$f":"IF(AA10=0,0,(AA10*((LOG(AA10))/LOG(2))))","v":0},null,{"$f":"N10","v":11122},{"$f":"COUNTIF(L54:L76,AD10)","v":0},{"$f":"AE10/(AG4-AE25)","v":0},{"$f":"IF(AF10=0,0,(AF10*((LOG(AF10))/LOG(2))))","v":0},null,{"$f":"N10","v":11122},{"$f":"COUNTIF(L77:L99,AI10)","v":0},{"$f":"AJ10/(AL4-AJ25)","v":0},{"$f":"IF(AK10=0,0,(AK10*((LOG(AK10))/LOG(2))))","v":0},null,{"$f":"N10","v":11122},{"$f":"COUNTIF(L100:L123,AN10)","v":0},{"$f":"AO10/(AQ4-AO25)","v":0},{"$f":"IF(AP10=0,0,(AP10*((LOG(AP10))/LOG(2))))","v":0},null,{"$f":"N10","v":11122},{"$f":"COUNTIF(L124:L146,AS10)","v":0},{"$f":"AT10/(AV4-AT25)","v":0},{"$f":"IF(AU10=0,0,(AU10*((LOG(AU10))/LOG(2))))","v":0}]
[21,888,11,904,11,924,21,936,11,957,1,21121,null,11211,{"$f":"COUNTIF($L$7:$L$500,N11)","v":23},{"$f":"O11/$Q$4","v":0.16428571428571428},{"$f":"IF(P11=0,0,(P11*((LOG(P11))/LOG(2))))","v":-0.42808274571730659},null,null,{"$f":"N11","v":11211},{"$f":"COUNTIF(L7:L29,T11)","v":7},{"$f":"U11/(W4-U25)","v":0.33333333333333331},{"$f":"IF(V11=0,0,(V11*((LOG(V11))/LOG(2))))","v":-0.52832083357371862},null,{"$f":"N11","v":11211},{"$f":"COUNTIF(L30:L53,Y11)","v":1},{"$f":"Z11/(AB4-Z25)","v":4.3478260869565216E-2},{"$f":"IF(AA11=0,0,(AA11*((LOG(AA11))/LOG(2))))","v":-0.19667660678508753},null,{"$f":"N11","v":11211},{"$f":"COUNTIF(L54:L76,AD11)","v":6},{"$f":"AE11/(AG4-AE25)","v":0.2608695652173913},{"$f":"IF(AF11=0,0,(AF11*((LOG(AF11))/LOG(2))))","v":-0.50572159704413644},null,{"$f":"N11","v":11211},{"$f":"COUNTIF(L77:L99,AI11)","v":3},{"$f":"AJ11/(AL4-AJ25)","v":0.13043478260869565},{"$f":"IF(AK11=0,0,(AK11*((LOG(AK11))/LOG(2))))","v":-0.3832955811307639},null,{"$f":"N11","v":11211},{"$f":"COUNTIF(L100:L123,AN11)","v":3},{"$f":"AO11/(AQ4-AO25)","v":0.13636363636363635},{"$f":"IF(AP11=0,0,(AP11*((LOG(AP11))/LOG(2))))","v":-0.39197306153401923},null,{"$f":"N11","v":11211},{"$f":"COUNTIF(L124:L146,AS11)","v":3},{"$f":"AT11/(AV4-AT25)","v":0.13636363636363635},{"$f":"IF(AU11=0,0,(AU11*((LOG(AU11))/LOG(2))))","v":-0.39197306153401923}]
[12,1087,13,1106,24,1119,14,1128,13,1132,0,11211,null,11212,{"$f":"COUNTIF($L$7:$L$500,N12)","v":30},{"$f":"O12/$Q$4","v":0.21428571428571427},{"$f":"IF(P12=0,0,(P12*((LOG(P12))/LOG(2))))","v":-0.47622694742923877},null,null,{"$f":"N12","v":11212},{"$f":"COUNTIF(L7:L29,T12)","v":4},{"$f":"U12/(W4-U25)","v":0.19047619047619047},{"$f":"IF(V12=0,0,(V12*((LOG(V12))/LOG(2))))","v":-0.4556795091007162},null,{"$f":"N12","v":11212},{"$f":"COUNTIF(L30:L53,Y12)","v":6},{"$f":"Z12/(AB4-Z25)","v":0.2608695652173913},{"$f":"IF(AA12=0,0,(AA12*((LOG(AA12))/LOG(2))))","v":-0.50572159704413644},null,{"$f":"N12","v":11212},{"$f":"COUNTIF(L54:L76,AD12)","v":2},{"$f":"AE12/(AG4-AE25)","v":8.6956521739130432E-2},{"$f":"IF(AF12=0,0,(AF12*((LOG(AF12))/LOG(2))))","v":-0.30639669183104457},null,{"$f":"N12","v":11212},{"$f":"COUNTIF(L77:L99,AI12)","v":8},{"$f":"AJ12/(AL4-AJ25)","v":0.34782608695652173},{"$f":"IF(AK12=0,0,(AK12*((LOG(AK12))/LOG(2))))","v":-0.52993459341113491},null,{"$f":"N12","v":11212},{"$f":"COUNTIF(L100:L123,AN12)","v":4},{"$f":"AO12/(AQ4-AO25)","v":0.18181818181818182},{"$f":"IF(AP12=0,0,(AP12*((LOG(AP12))/LOG(2))))","v":-0.44716938520678134},null,{"$f":"N12","v":11212},{"$f":"COUNTIF(L124:L146,AS12)","v":6},{"$f":"AT12/(AV4-AT25)","v":0.27272727272727271},{"$f":"IF(AU12=0,0,(AU12*((LOG(AU12))/LOG(2))))","v":-0.51121885034076575}]
[12,1233,13,1255,24,1268,23,1277,13,1288,0,11221,null,11221,{"$f":"COUNTIF($L$7:$L$500,N13)","v":2},{"$f":"O13/$Q$4","v":1.4285714285714285E-2},{"$f":"IF(P13=0,0,(P13*((LOG(P13))/LOG(2))))","v":-8.756118595635666E-2},null,null,{"$f":"N13","v":11221},{"$f":"COUNTIF(L7:L29,T13)","v":1},{"$f":"U13/(W4-U25)","v":4.7619047619047616E-2},{"$f":"IF(V13=0,0,(V13*((LOG(V13))/LOG(2))))","v":-0.20915797251327431},null,{"$f":"N13","v":11221},{"$f":"COUNTIF(L30:L53,Y13)","v":0},{"$f":"Z13/(AB4-Z25)","v":0},{"$f":"IF(AA13=0,0,(AA13*((LOG(AA13))/LOG(2))))","v":0},null,{"$f":"N13","v":11221},{"$f":"COUNTIF(L54:L76,AD13)","v":0},{"$f":"AE13/(AG4-AE25)","v":0},{"$f":"IF(AF13=0,0,(AF13*((LOG(AF13))/LOG(2))))","v":0},null,{"$f":"N13","v":11221},{"$f":"COUNTIF(L77:L99,AI13)","v":0},{"$f":"AJ13/(AL4-AJ25)","v":0},{"$f":"IF(AK13=0,0,(AK13*((LOG(AK13))/LOG(2))))","v":0},null,{"$f":"N13","v":11221},{"$f":"COUNTIF(L100:L123,AN13)","v":1},{"$f":"AO13/(AQ4-AO25)","v":4.5454545454545456E-2},{"$f":"IF(AP13=0,0,(AP13*((LOG(AP13))/LOG(2))))","v":-0.20270143721078623},null,{"$f":"N13","v":11221},{"$f":"COUNTIF(L124:L146,AS13)","v":0},{"$f":"AT13/(AV4-AT25)","v":0},{"$f":"IF(AU13=0,0,(AU13*((LOG(AU13))/LOG(2))))","v":0}]
[12,1396,13,1421,13,1429,14,1452,13,1457,0,11111,null,11222,{"$f":"COUNTIF($L$7:$L$500,N14)","v":1},{"$f":"O14/$Q$4","v":7.1428571428571426E-3},{"$f":"IF(P14=0,0,(P14*((LOG(P14))/LOG(2))))","v":-5.0923450121035475E-2},null,null,{"$f":"N14","v":11222},{"$f":"COUNTIF(L7:L29,T14)","v":0},{"$f":"U14/(W4-U25)","v":0},{"$f":"IF(V14=0,0,(V14*((LOG(V14))/LOG(2))))","v":0},null,{"$f":"N14","v":11222},{"$f":"COUNTIF(L30:L53,Y14)","v":0},{"$f":"Z14/(AB4-Z25)","v":0},{"$f":"IF(AA14=0,0,(AA14*((LOG(AA14))/LOG(2))))","v":0},null,{"$f":"N14","v":11222},{"$f":"COUNTIF(L54:L76,AD14)","v":0},{"$f":"AE14/(AG4-AE25)","v":0},{"$f":"IF(AF14=0,0,(AF14*((LOG(AF14))/LOG(2))))","v":0},null,{"$f":"N14","v":11222},{"$f":"COUNTIF(L77:L99,AI14)","v":0},{"$f":"AJ14/(AL4-AJ25)","v":0},{"$f":"IF(AK14=0,0,(AK14*((LOG(AK14))/LOG(2))))","v":0},null,{"$f":"N14","v":11222},{"$f":"COUNTIF(L100:L123,AN14)","v":1},{"$f":"AO14/(AQ4-AO25)","v":4.5454545454545456E-2},{"$f":"IF(AP14=0,0,(AP14*((LOG(AP14))/LOG(2))))","v":-0.20270143721078623},null,{"$f":"N14","v":11222},{"$f":"COUNTIF(L124:L146,AS14)","v":0},{"$f":"AT14/(AV4-AT25)","v":0},{"$f":"IF(AU14=0,0,(AU14*((LOG(AU14))/LOG(2))))","v":0}]
[12,1565,13,1580,24,1589,14,1605,24,1618,0,11212,null,12111,{"$f":"COUNTIF($L$7:$L$500,N15)","v":5},{"$f":"O15/$Q$4","v":3.5714285714285712E-2},{"$f":"IF(P15=0,0,(P15*((LOG(P15))/LOG(2))))","v":-0.17169124721634299},null,null,{"$f":"N15","v":12111},{"$f":"COUNTIF(L7:L29,T15)","v":1},{"$f":"U15/(W4-U25)","v":4.7619047619047616E-2},{"$f":"IF(V15=0,0,(V15*((LOG(V15))/LOG(2))))","v":-0.20915797251327431},null,{"$f":"N15","v":12111},{"$f":"COUNTIF(L30:L53,Y15)","v":1},{"$f":"Z15/(AB4-Z25)","v":4.3478260869565216E-2},{"$f":"IF(AA15=0,0,(AA15*((LOG(AA15))/LOG(2))))","v":-0.19667660678508753},null,{"$f":"N15","v":12111},{"$f":"COUNTIF(L54:L76,AD15)","v":3},{"$f":"AE15/(AG4-AE25)","v":0.13043478260869565},{"$f":"IF(AF15=0,0,(AF15*((LOG(AF15))/LOG(2))))","v":-0.3832955811307639},null,{"$f":"N15","v":12111},{"$f":"COUNTIF(L77:L99,AI15)","v":0},{"$f":"AJ15/(AL4-AJ25)","v":0},{"$f":"IF(AK15=0,0,(AK15*((LOG(AK15))/LOG(2))))","v":0},null,{"$f":"N15","v":12111},{"$f":"COUNTIF(L100:L123,AN15)","v":0},{"$f":"AO15/(AQ4-AO25)","v":0},{"$f":"IF(AP15=0,0,(AP15*((LOG(AP15))/LOG(2))))","v":0},null,{"$f":"N15","v":12111},{"$f":"COUNTIF(L124:L146,AS15)","v":0},{"$f":"AT15/(AV4-AT25)","v":0},{"$f":"IF(AU15=0,0,(AU15*((LOG(AU15))/LOG(2))))","v":0}]
[12,1724,13,1735,24,1746,14,1769,13,1782,0,11211,null,12112,{"$f":"COUNTIF($L$7:$L$500,N16)","v":2},{"$f":"O16/$Q$4","v":1.4285714285714285E-2},{"$f":"IF(P16=0,0,(P16*((LOG(P16))/LOG(2))))","v":-8.756118595635666E-2},null,null,{"$f":"N16","v":12112},{"$f":"COUNTIF(L7:L29,T16)","v":0},{"$f":"U16/(W4-U25)","v":0},{"$f":"IF(V16=0,0,(V16*((LOG(V16))/LOG(2))))","v":0},null,{"$f":"N16","v":12112},{"$f":"COUNTIF(L30:L53,Y16)","v":0},{"$f":"Z16/(AB4-Z25)","v":0},{"$f":"IF(AA16=0,0,(AA16*((LOG(AA16))/LOG(2))))","v":0},null,{"$f":"N16","v":12112},{"$f":"COUNTIF(L54:L76,AD16)","v":1},{"$f":"AE16/(AG4-AE25)","v":4.3478260869565216E-2},{"$f":"IF(AF16=0,0,(AF16*((LOG(AF16))/LOG(2))))","v":-0.19667660678508753},null,{"$f":"N16","v":12112},{"$f":"COUNTIF(L77:L99,AI16)","v":0},{"$f":"AJ16/(AL4-AJ25)","v":0},{"$f":"IF(AK16=0,0,(AK16*((LOG(AK16))/LOG(2))))","v":0},null,{"$f":"N16","v":12112},{"$f":"COUNTIF(L100:L123,AN16)","v":1},{"$f":"AO16/(AQ4-AO25)","v":4.5454545454545456E-2},{"$f":"IF(AP16=0,0,(AP16*((LOG(AP16))/LOG(2))))","v":-0.20270143721078623},null,{"$f":"N16","v":12112},{"$f":"COUNTIF(L124:L146,AS16)","v":0},{"$f":"AT16/(AV4-AT25)","v":0},{"$f":"IF(AU16=0,0,(AU16*((LOG(AU16))/LOG(2))))","v":0}]
[12,1890,13,1900,24,1910,14,1926,13,1936,0,11211,null,12121,{"$f":"COUNTIF($L$7:$L$500,N17)","v":17},{"$f":"O17/$Q$4","v":0.12142857142857143},{"$f":"IF(P17=0,0,(P17*((LOG(P17))/LOG(2))))","v":-0.3693638784772047},null,null,{"$f":"N17","v":12121},{"$f":"COUNTIF(L7:L29,T17)","v":2},{"$f":"U17/(W4-U25)","v":9.5238095238095233E-2},{"$f":"IF(V17=0,0,(V17*((LOG(V17))/LOG(2))))","v":-0.32307784978845333},null,{"$f":"N17","v":12121},{"$f":"COUNTIF(L30:L53,Y17)","v":7},{"$f":"Z17/(AB4-Z25)","v":0.30434782608695654},{"$f":"IF(AA17=0,0,(AA17*((LOG(AA17))/LOG(2))))","v":-0.52232387991286355},null,{"$f":"N17","v":12121},{"$f":"COUNTIF(L54:L76,AD17)","v":2},{"$f":"AE17/(AG4-AE25)","v":8.6956521739130432E-2},{"$f":"IF(AF17=0,0,(AF17*((LOG(AF17))/LOG(2))))","v":-0.30639669183104457},null,{"$f":"N17","v":12121},{"$f":"COUNTIF(L77:L99,AI17)","v":2},{"$f":"AJ17/(AL4-AJ25)","v":8.6956521739130432E-2},{"$f":"IF(AK17=0,0,(AK17*((LOG(AK17))/LOG(2))))","v":-0.30639669183104457},null,{"$f":"N17","v":12121},{"$f":"COUNTIF(L100:L123,AN17)","v":3},{"$f":"AO17/(AQ4-AO25)","v":0.13636363636363635},{"$f":"IF(AP17=0,0,(AP17*((LOG(AP17))/LOG(2))))","v":-0.39197306153401923},null,{"$f":"N17","v":12121},{"$f":"COUNTIF(L124:L146,AS17)","v":1},{"$f":"AT17/(AV4-AT25)","v":4.5454545454545456E-2},{"$f":"IF(AU17=0,0,(AU17*((LOG(AU17))/LOG(2))))","v":-0.20270143721078623}]
[12,2046,24,2058,13,2067,23,2078,13,2089,0,12121,null,12122,{"$f":"COUNTIF($L$7:$L$500,N18)","v":2},{"$f":"O18/$Q$4","v":1.4285714285714285E-2},{"$f":"IF(P18=0,0,(P18*((LOG(P18))/LOG(2))))","v":-8.756118595635666E-2},null,null,{"$f":"N18","v":12122},{"$f":"COUNTIF(L7:L29,T18)","v":1},{"$f":"U18/(W4-U25)","v":4.7619047619047616E-2},{"$f":"IF(V18=0,0,(V18*((LOG(V18))/LOG(2))))","v":-0.20915797251327431},null,{"$f":"N18","v":12122},{"$f":"COUNTIF(L30:L53,Y18)","v":0},{"$f":"Z18/(AB4-Z25)","v":0},{"$f":"IF(AA18=0,0,(AA18*((LOG(AA18))/LOG(2))))","v":0},null,{"$f":"N18","v":12122},{"$f":"COUNTIF(L54:L76,AD18)","v":0},{"$f":"AE18/(AG4-AE25)","v":0},{"$f":"IF(AF18=0,0,(AF18*((LOG(AF18))/LOG(2))))","v":0},null,{"$f":"N18","v":12122},{"$f":"COUNTIF(L77:L99,AI18)","v":1},{"$f":"AJ18/(AL4-AJ25)","v":4.3478260869565216E-2},{"$f":"IF(AK18=0,0,(AK18*((LOG(AK18))/LOG(2))))","v":-0.19667660678508753},null,{"$f":"N18","v":12122},{"$f":"COUNTIF(L100:L123,AN18)","v":0},{"$f":"AO18/(AQ4-AO25)","v":0},{"$f":"IF(AP18=0,0,(AP18*((LOG(AP18))/LOG(2))))","v":0},null,{"$f":"N18","v":12122},{"$f":"COUNTIF(L124:L146,AS18)","v":0},{"$f":"AT18/(AV4-AT25)","v":0},{"$f":"IF(AU18=0,0,(AU18*((LOG(AU18))/LOG(2))))","v":0}]
[12,2197,13,2223,24,2232,14,2254,13,2269,0,11211,null,12211,{"$f":"COUNTIF($L$7:$L$500,N19)","v":0},{"$f":"O19/$Q$4","v":0},{"$f":"IF(P19=0,0,(P19*((LOG(P19))/LOG(2))))","v":0},null,null,{"$f":"N19","v":12211},{"$f":"COUNTIF(L7:L29,T19)","v":0},{"$f":"U19/(W4-U25)","v":0},{"$f":"IF(V19=0,0,(V19*((LOG(V19))/LOG(2))))","v":0},null,{"$f":"N19","v":12211},{"$f":"COUNTIF(L30:L53,Y19)","v":0},{"$f":"Z19/(AB4-Z25)","v":0},{"$f":"IF(AA19=0,0,(AA19*((LOG(AA19))/LOG(2))))","v":0},null,{"$f":"N19","v":12211},{"$f":"COUNTIF(L54:L76,AD19)","v":0},{"$f":"AE19/(AG4-AE25)","v":0},{"$f":"IF(AF19=0,0,(AF19*((LOG(AF19))/LOG(2))))","v":0},null,{"$f":"N19","v":12211},{"$f":"COUNTIF(L77:L99,AI19)","v":0},{"$f":"AJ19/(AL4-AJ25)","v":0},{"$f":"IF(AK19=0,0,(AK19*((LOG(AK19))/LOG(2))))","v":0},null,{"$f":"N19","v":12211},{"$f":"COUNTIF(L100:L123,AN19)","v":0},{"$f":"AO19/(AQ4-AO25)","v":0},{"$f":"IF(AP19=0,0,(AP19*((LOG(AP19))/LOG(2))))","v":0},null,{"$f":"N19","v":12211},{"$f":"COUNTIF(L124:L146,AS19)","v":0},{"$f":"AT19/(AV4-AT25)","v":0},{"$f":"IF(AU19=0,0,(AU19*((LOG(AU19))/LOG(2))))","v":0}]
[12,2377,13,2393,24,2407,14,2420,13,2429,0,11211,null,12212,{"$f":"COUNTIF($L$7:$L$500,N20)","v":1},{"$f":"O20/$Q$4","v":7.1428571428571426E-3},{"$f":"IF(P20=0,0,(P20*((LOG(P20))/LOG(2))))","v":-5.0923450121035475E-2},null,null,{"$f":"N20","v":12212},{"$f":"COUNTIF(L7:L29,T20)","v":0},{"$f":"U20/(W4-U25)","v":0},{"$f":"IF(V20=0,0,(V20*((LOG(V20))/LOG(2))))","v":0},null,{"$f":"N20","v":12212},{"$f":"COUNTIF(L30:L53,Y20)","v":0},{"$f":"Z20/(AB4-Z25)","v":0},{"$f":"IF(AA20=0,0,(AA20*((LOG(AA20))/LOG(2))))","v":0},null,{"$f":"N20","v":12212},{"$f":"COUNTIF(L54:L76,AD20)","v":0},{"$f":"AE20/(AG4-AE25)","v":0},{"$f":"IF(AF20=0,0,(AF20*((LOG(AF20))/LOG(2))))","v":0},null,{"$f":"N20","v":12212},{"$f":"COUNTIF(L77:L99,AI20)","v":1},{"$f":"AJ20/(AL4-AJ25)","v":4.3478260869565216E-2},{"$f":"IF(AK20=0,0,(AK20*((LOG(AK20))/LOG(2))))","v":-0.19667660678508753},null,{"$f":"N20","v":12212},{"$f":"COUNTIF(L100:L123,AN20)","v":0},{"$f":"AO20/(AQ4-AO25)","v":0},{"$f":"IF(AP20=0,0,(AP20*((LOG(AP20))/LOG(2))))","v":0},null,{"$f":"N20","v":12212},{"$f":"COUNTIF(L124:L146,AS20)","v":0},{"$f":"AT20/(AV4-AT25)","v":0},{"$f":"IF(AU20=0,0,(AU20*((LOG(AU20))/LOG(2))))","v":0}]
[12,2541,24,2550,13,2559,23,2571,24,2583,0,12122,null,12221,{"$f":"COUNTIF($L$7:$L$500,N21)","v":0},{"$f":"O21/$Q$4","v":0},{"$f":"IF(P21=0,0,(P21*((LOG(P21))/LOG(2))))","v":0},null,null,{"$f":"N21","v":12221},{"$f":"COUNTIF(L7:L29,T21)","v":0},{"$f":"U21/(W4-U25)","v":0},{"$f":"IF(V21=0,0,(V21*((LOG(V21))/LOG(2))))","v":0},null,{"$f":"N21","v":12221},{"$f":"COUNTIF(L30:L53,Y21)","v":0},{"$f":"Z21/(AB4-Z25)","v":0},{"$f":"IF(AA21=0,0,(AA21*((LOG(AA21))/LOG(2))))","v":0},null,{"$f":"N21","v":12221},{"$f":"COUNTIF(L54:L76,AD21)","v":0},{"$f":"AE21/(AG4-AE25)","v":0},{"$f":"IF(AF21=0,0,(AF21*((LOG(AF21))/LOG(2))))","v":0},null,{"$f":"N21","v":12221},{"$f":"COUNTIF(L77:L99,AI21)","v":0},{"$f":"AJ21/(AL4-AJ25)","v":0},{"$f":"IF(AK21=0,0,(AK21*((LOG(AK21))/LOG(2))))","v":0},null,{"$f":"N21","v":12221},{"$f":"COUNTIF(L100:L123,AN21)","v":0},{"$f":"AO21/(AQ4-AO25)","v":0},{"$f":"IF(AP21=0,0,(AP21*((LOG(AP21))/LOG(2))))","v":0},null,{"$f":"N21","v":12221},{"$f":"COUNTIF(L124:L146,AS21)","v":0},{"$f":"AT21/(AV4-AT25)","v":0},{"$f":"IF(AU21=0,0,(AU21*((LOG(AU21))/LOG(2))))","v":0}]
[12,2685,13,2712,24,2725,14,2757,13,2772,0,11211,null,12222,{"$f":"COUNTIF($L$7:$L$500,N22)","v":0},{"$f":"O22/$Q$4","v":0},{"$f":"IF(P22=0,0,(P22*((LOG(P22))/LOG(2))))","v":0},null,null,{"$f":"N22","v":12222},{"$f":"COUNTIF(L7:L29,T22)","v":0},{"$f":"U22/(W4-U25)","v":0},{"$f":"IF(V22=0,0,(V22*((LOG(V22))/LOG(2))))","v":0},null,{"$f":"N22","v":12222},{"$f":"COUNTIF(L30:L53,Y22)","v":0},{"$f":"Z22/(AB4-Z25)","v":0},{"$f":"IF(AA22=0,0,(AA22*((LOG(AA22))/LOG(2))))","v":0},null,{"$f":"N22","v":12222},{"$f":"COUNTIF(L54:L76,AD22)","v":0},{"$f":"AE22/(AG4-AE25)","v":0},{"$f":"IF(AF22=0,0,(AF22*((LOG(AF22))/LOG(2))))","v":0},null,{"$f":"N22","v":12222},{"$f":"COUNTIF(L77:L99,AI22)","v":0},{"$f":"AJ22/(AL4-AJ25)","v":0},{"$f":"IF(AK22=0,0,(AK22*((LOG(AK22))/LOG(2))))","v":0},null,{"$f":"N22","v":12222},{"$f":"COUNTIF(L100:L123,AN22)","v":0},{"$f":"AO22/(AQ4-AO25)","v":0},{"$f":"IF(AP22=0,0,(AP22*((LOG(AP22))/LOG(2))))","v":0},null,{"$f":"N22","v":12222},{"$f":"COUNTIF(L124:L146,AS22)","v":0},{"$f":"AT22/(AV4-AT25)","v":0},{"$f":"IF(AU22=0,0,(AU22*((LOG(AU22))/LOG(2))))","v":0}]
[12,2877,24,2888,13,2897,14,2920,13,2925,0,12111,null,21111,{"$f":"COUNTIF($L$7:$L$500,N23)","v":0},{"$f":"O23/$Q$4","v":0},{"$f":"IF(P23=0,0,(P23*((LOG(P23))/LOG(2))))","v":0},null,null,{"$f":"N23","v":21111},{"$f":"COUNTIF(L7:L29,T23)","v":0},{"$f":"U23/(W4-U25)","v":0},{"$f":"IF(V23=0,0,(V23*((LOG(V23))/LOG(2))))","v":0},null,{"$f":"N23","v":21111},{"$f":"COUNTIF(L30:L53,Y23)","v":0},{"$f":"Z23/(AB4-Z25)","v":0},{"$f":"IF(AA23=0,0,(AA23*((LOG(AA23))/LOG(2))))","v":0},null,{"$f":"N23","v":21111},{"$f":"COUNTIF(L54:L76,AD23)","v":0},{"$f":"AE23/(AG4-AE25)","v":0},{"$f":"IF(AF23=0,0,(AF23*((LOG(AF23))/LOG(2))))","v":0},null,{"$f":"N23","v":21111},{"$f":"COUNTIF(L77:L99,AI23)","v":0},{"$f":"AJ23/(AL4-AJ25)","v":0},{"$f":"IF(AK23=0,0,(AK23*((LOG(AK23))/LOG(2))))","v":0},null,{"$f":"N23","v":21111},{"$f":"COUNTIF(L100:L123,AN23)","v":0},{"$f":"AO23/(AQ4-AO25)","v":0},{"$f":"IF(AP23=0,0,(AP23*((LOG(AP23))/LOG(2))))","v":0},null,{"$f":"N23","v":21111},{"$f":"COUNTIF(L124:L146,AS23)","v":0},{"$f":"AT23/(AV4-AT25)","v":0},{"$f":"IF(AU23=0,0,(AU23*((LOG(AU23))/LOG(2))))","v":0}]
[12,3040,13,3058,24,3082,14,3105,13,3122,0,11211,null,21112,{"$f":"COUNTIF($L$7:$L$500,N24)","v":2},{"$f":"O24/$Q$4","v":1.4285714285714285E-2},{"$f":"IF(P24=0,0,(P24*((LOG(P24))/LOG(2))))","v":-8.756118595635666E-2},null,null,{"$f":"N24","v":21112},{"$f":"COUNTIF(L7:L29,T24)","v":0},{"$f":"U24/(W4-U25)","v":0},{"$f":"IF(V24=0,0,(V24*((LOG(V24))/LOG(2))))","v":0},null,{"$f":"N24","v":21112},{"$f":"COUNTIF(L30:L53,Y24)","v":0},{"$f":"Z24/(AB4-Z25)","v":0},{"$f":"IF(AA24=0,0,(AA24*((LOG(AA24))/LOG(2))))","v":0},null,{"$f":"N24","v":21112},{"$f":"COUNTIF(L54:L76,AD24)","v":1},{"$f":"AE24/(AG4-AE25)","v":4.3478260869565216E-2},{"$f":"IF(AF24=0,0,(AF24*((LOG(AF24))/LOG(2))))","v":-0.19667660678508753},null,{"$f":"N24","v":21112},{"$f":"COUNTIF(L77:L99,AI24)","v":0},{"$f":"AJ24/(AL4-AJ25)","v":0},{"$f":"IF(AK24=0,0,(AK24*((LOG(AK24))/LOG(2))))","v":0},null,{"$f":"N24","v":21112},{"$f":"COUNTIF(L100:L123,AN24)","v":0},{"$f":"AO24/(AQ4-AO25)","v":0},{"$f":"IF(AP24=0,0,(AP24*((LOG(AP24))/LOG(2))))","v":0},null,{"$f":"N24","v":21112},{"$f":"COUNTIF(L124:L146,AS24)","v":1},{"$f":"AT24/(AV4-AT25)","v":4.5454545454545456E-2},{"$f":"IF(AU24=0,0,(AU24*((LOG(AU24))/LOG(2))))","v":-0.20270143721078623}]
[12,3236,24,3245,13,3253,23,3264,13,3276,0,12121,null,21121,{"$f":"COUNTIF($L$7:$L$500,N25)","v":6},{"$f":"O25/$Q$4","v":4.2857142857142858E-2},{"$f":"IF(P25=0,0,(P25*((LOG(P25))/LOG(2))))","v":-0.19475659355244901},null,null,{"$f":"N25","v":21121},{"$f":"COUNTIF(L7:L29,T25)","v":2},null,null,null,{"$f":"N25","v":21121},{"$f":"COUNTIF(L30:L53,Y25)","v":1},null,null,null,{"$f":"N25","v":21121},{"$f":"COUNTIF(L54:L76,AD25)","v":0},null,null,null,{"$f":"N25","v":21121},{"$f":"COUNTIF(L77:L99,AI25)","v":0},null,null,null,{"$f":"N25","v":21121},{"$f":"COUNTIF(L100:L123,AN25)","v":2},null,null,null,{"$f":"N25","v":21121},{"$f":"COUNTIF(L124:L146,AS25)","v":1}]
[12,3387,13,3404,13,3422,23,3435,13,3444,0,11121,null,21122,{"$f":"COUNTIF($L$7:$L$500,N26)","v":0},{"$f":"O26/$Q$4","v":0},{"$f":"IF(P26=0,0,(P26*((LOG(P26))/LOG(2))))","v":0},null,null,{"$f":"N26","v":21122},{"$f":"COUNTIF(L7:L29,T26)","v":0},{"$f":"U26/(W4-U25)","v":0},{"$f":"IF(V26=0,0,(V26*((LOG(V26))/LOG(2))))","v":0},null,{"$f":"N26","v":21122},{"$f":"COUNTIF(L30:L53,Y26)","v":0},{"$f":"Z26/(AB4-Z25)","v":0},{"$f":"IF(AA26=0,0,(AA26*((LOG(AA26))/LOG(2))))","v":0},null,{"$f":"N26","v":21122},{"$f":"COUNTIF(L54:L76,AD26)","v":0},{"$f":"AE26/(AG4-AE25)","v":0},{"$f":"IF(AF26=0,0,(AF26*((LOG(AF26))/LOG(2))))","v":0},null,{"$f":"N26","v":21122},{"$f":"COUNTIF(L77:L99,AI26)","v":0},{"$f":"AJ26/(AL4-AJ25)","v":0},{"$f":"IF(AK26=0,0,(AK26*((LOG(AK26))/LOG(2))))","v":0},null,{"$f":"N26","v":21122},{"$f":"COUNTIF(L100:L123,AN26)","v":0},{"$f":"AO26/(AQ4-AO25)","v":0},{"$f":"IF(AP26=0,0,(AP26*((LOG(AP26))/LOG(2))))","v":0},null,{"$f":"N26","v":21122},{"$f":"COUNTIF(L124:L146,AS26)","v":0},{"$f":"AT26/(AV4-AT25)","v":0},{"$f":"IF(AU26=0,0,(AU26*((LOG(AU26))/LOG(2))))","v":0}]
[12,3553,13,3561,24,3571,14,3580,24,3593,0,11212,null,21211,{"$f":"COUNTIF($L$7:$L$500,N27)","v":2},{"$f":"O27/$Q$4","v":1.4285714285714285E-2},{"$f":"IF(P27=0,0,(P27*((LOG(P27))/LOG(2))))","v":-8.756118595635666E-2},null,null,{"$f":"N27","v":21211},{"$f":"COUNTIF(L7:L29,T27)","v":0},{"$f":"U27/(W4-U25)","v":0},{"$f":"IF(V27=0,0,(V27*((LOG(V27))/LOG(2))))","v":0},null,{"$f":"N27","v":21211},{"$f":"COUNTIF(L30:L53,Y27)","v":1},{"$f":"Z27/(AB4-Z25)","v":4.3478260869565216E-2},{"$f":"IF(AA27=0,0,(AA27*((LOG(AA27))/LOG(2))))","v":-0.19667660678508753},null,{"$f":"N27","v":21211},{"$f":"COUNTIF(L54:L76,AD27)","v":1},{"$f":"AE27/(AG4-AE25)","v":4.3478260869565216E-2},{"$f":"IF(AF27=0,0,(AF27*((LOG(AF27))/LOG(2))))","v":-0.19667660678508753},null,{"$f":"N27","v":21211},{"$f":"COUNTIF(L77:L99,AI27)","v":0},{"$f":"AJ27/(AL4-AJ25)","v":0},{"$f":"IF(AK27=0,0,(AK27*((LOG(AK27))/LOG(2))))","v":0},null,{"$f":"N27","v":21211},{"$f":"COUNTIF(L100:L123,AN27)","v":0},{"$f":"AO27/(AQ4-AO25)","v":0},{"$f":"IF(AP27=0,0,(AP27*((LOG(AP27))/LOG(2))))","v":0},null,{"$f":"N27","v":21211},{"$f":"COUNTIF(L124:L146,AS27)","v":0},{"$f":"AT27/(AV4-AT25)","v":0},{"$f":"IF(AU27=0,0,(AU27*((LOG(AU27))/LOG(2))))","v":0}]
[12,3704,13,3712,24,3721,14,3729,24,3743,0,11212,null,21212,{"$f":"COUNTIF($L$7:$L$500,N28)","v":4},{"$f":"O28/$Q$4","v":2.8571428571428571E-2},{"$f":"IF(P28=0,0,(P28*((LOG(P28))/LOG(2))))","v":-0.14655094334128474},null,null,{"$f":"N28","v":21212},{"$f":"COUNTIF(L7:L29,T28)","v":1},{"$f":"U28/(W4-U25)","v":4.7619047619047616E-2},{"$f":"IF(V28=0,0,(V28*((LOG(V28))/LOG(2))))","v":-0.20915797251327431},null,{"$f":"N28","v":21212},{"$f":"COUNTIF(L30:L53,Y28)","v":2},{"$f":"Z28/(AB4-Z25)","v":8.6956521739130432E-2},{"$f":"IF(AA28=0,0,(AA28*((LOG(AA28))/LOG(2))))","v":-0.30639669183104457},null,{"$f":"N28","v":21212},{"$f":"COUNTIF(L54:L76,AD28)","v":0},{"$f":"AE28/(AG4-AE25)","v":0},{"$f":"IF(AF28=0,0,(AF28*((LOG(AF28))/LOG(2))))","v":0},null,{"$f":"N28","v":21212},{"$f":"COUNTIF(L77:L99,AI28)","v":0},{"$f":"AJ28/(AL4-AJ25)","v":0},{"$f":"IF(AK28=0,0,(AK28*((LOG(AK28))/LOG(2))))","v":0},null,{"$f":"N28","v":21212},{"$f":"COUNTIF(L100:L123,AN28)","v":0},{"$f":"AO28/(AQ4-AO25)","v":0},{"$f":"IF(AP28=0,0,(AP28*((LOG(AP28))/LOG(2))))","v":0},null,{"$f":"N28","v":21212},{"$f":"COUNTIF(L124:L146,AS28)","v":1},{"$f":"AT28/(AV4-AT25)","v":4.5454545454545456E-2},{"$f":"IF(AU28=0,0,(AU28*((LOG(AU28))/LOG(2))))","v":-0.20270143721078623}]
[12,3851,13,3861,24,3870,14,3879,24,3893,0,11212,null,21221,{"$f":"COUNTIF($L$7:$L$500,N29)","v":2},{"$f":"O29/$Q$4","v":1.4285714285714285E-2},{"$f":"IF(P29=0,0,(P29*((LOG(P29))/LOG(2))))","v":-8.756118595635666E-2},null,null,{"$f":"N29","v":21221},{"$f":"COUNTIF(L7:L29,T29)","v":1},{"$f":"U29/(W4-U25)","v":4.7619047619047616E-2},{"$f":"IF(V29=0,0,(V29*((LOG(V29))/LOG(2))))","v":-0.20915797251327431},null,{"$f":"N29","v":21221},{"$f":"COUNTIF(L30:L53,Y29)","v":0},{"$f":"Z29/(AB4-Z25)","v":0},{"$f":"IF(AA29=0,0,(AA29*((LOG(AA29))/LOG(2))))","v":0},null,{"$f":"N29","v":21221},{"$f":"COUNTIF(L54:L76,AD29)","v":0},{"$f":"AE29/(AG4-AE25)","v":0},{"$f":"IF(AF29=0,0,(AF29*((LOG(AF29))/LOG(2))))","v":0},null,{"$f":"N29","v":21221},{"$f":"COUNTIF(L77:L99,AI29)","v":1},{"$f":"AJ29/(AL4-AJ25)","v":4.3478260869565216E-2},{"$f":"IF(AK29=0,0,(AK29*((LOG(AK29))/LOG(2))))","v":-0.19667660678508753},null,{"$f":"N29","v":21221},{"$f":"COUNTIF(L100:L123,AN29)","v":0},{"$f":"AO29/(AQ4-AO25)","v":0},{"$f":"IF(AP29=0,0,(AP29*((LOG(AP29))/LOG(2))))","v":0},null,{"$f":"N29","v":21221},{"$f":"COUNTIF(L124:L146,AS29)","v":0},{"$f":"AT29/(AV4-AT25)","v":0},{"$f":"IF(AU29=0,0,(AU29*((LOG(AU29))/LOG(2))))","v":0}]
[12,4000,13,4008,24,4017,14,4029,13,4043,0,11211,null,21222,{"$f":"COUNTIF($L$7:$L$500,N30)","v":0},{"$f":"O30/$Q$4","v":0},{"$f":"IF(P30=0,0,(P30*((LOG(P30))/LOG(2))))","v":0},null,null,{"$f":"N30","v":21222},{"$f":"COUNTIF(L7:L29,T30)","v":0},{"$f":"U30/(W4-U25)","v":0},{"$f":"IF(V30=0,0,(V30*((LOG(V30))/LOG(2))))","v":0},null,{"$f":"N30","v":21222},{"$f":"COUNTIF(L30:L53,Y30)","v":0},{"$f":"Z30/(AB4-Z25)","v":0},{"$f":"IF(AA30=0,0,(AA30*((LOG(AA30))/LOG(2))))","v":0},null,{"$f":"N30","v":21222},{"$f":"COUNTIF(L54:L76,AD30)","v":0},{"$f":"AE30/(AG4-AE25)","v":0},{"$f":"IF(AF30=0,0,(AF30*((LOG(AF30))/LOG(2))))","v":0},null,{"$f":"N30","v":21222},{"$f":"COUNTIF(L77:L99,AI30)","v":0},{"$f":"AJ30/(AL4-AJ25)","v":0},{"$f":"IF(AK30=0,0,(AK30*((LOG(AK30))/LOG(2))))","v":0},null,{"$f":"N30","v":21222},{"$f":"COUNTIF(L100:L123,AN30)","v":0},{"$f":"AO30/(AQ4-AO25)","v":0},{"$f":"IF(AP30=0,0,(AP30*((LOG(AP30))/LOG(2))))","v":0},null,{"$f":"N30","v":21222},{"$f":"COUNTIF(L124:L146,AS30)","v":0},{"$f":"AT30/(AV4-AT25)","v":0},{"$f":"IF(AU30=0,0,(AU30*((LOG(AU30))/LOG(2))))","v":0}]
[21,4141,11,4150,11,4158,21,4169,11,4178,1,21121,null,22111,{"$f":"COUNTIF($L$7:$L$500,N31)","v":0},{"$f":"O31/$Q$4","v":0},{"$f":"IF(P31=0,0,(P31*((LOG(P31))/LOG(2))))","v":0},null,null,{"$f":"N31","v":22111},{"$f":"COUNTIF(L7:L29,T31)","v":0},{"$f":"U31/(W4-U25)","v":0},{"$f":"IF(V31=0,0,(V31*((LOG(V31))/LOG(2))))","v":0},null,{"$f":"N31","v":22111},{"$f":"COUNTIF(L30:L53,Y31)","v":0},{"$f":"Z31/(AB4-Z25)","v":0},{"$f":"IF(AA31=0,0,(AA31*((LOG(AA31))/LOG(2))))","v":0},null,{"$f":"N31","v":22111},{"$f":"COUNTIF(L54:L76,AD31)","v":0},{"$f":"AE31/(AG4-AE25)","v":0},{"$f":"IF(AF31=0,0,(AF31*((LOG(AF31))/LOG(2))))","v":0},null,{"$f":"N31","v":22111},{"$f":"COUNTIF(L77:L99,AI31)","v":0},{"$f":"AJ31/(AL4-AJ25)","v":0},{"$f":"IF(AK31=0,0,(AK31*((LOG(AK31))/LOG(2))))","v":0},null,{"$f":"N31","v":22111},{"$f":"COUNTIF(L100:L123,AN31)","v":0},{"$f":"AO31/(AQ4-AO25)","v":0},{"$f":"IF(AP31=0,0,(AP31*((LOG(AP31))/LOG(2))))","v":0},null,{"$f":"N31","v":22111},{"$f":"COUNTIF(L124:L146,AS31)","v":0},{"$f":"AT31/(AV4-AT25)","v":0},{"$f":"IF(AU31=0,0,(AU31*((LOG(AU31))/LOG(2))))","v":0}]
[12,4275,13,4283,24,4292,14,4301,24,4312,0,11212,null,22112,{"$f":"COUNTIF($L$7:$L$500,N32)","v":1},{"$f":"O32/$Q$4","v":7.1428571428571426E-3},{"$f":"IF(P32=0,0,(P32*((LOG(P32))/LOG(2))))","v":-5.0923450121035475E-2},null,null,{"$f":"N32","v":22112},{"$f":"COUNTIF(L7:L29,T32)","v":0},{"$f":"U32/(W4-U25)","v":0},{"$f":"IF(V32=0,0,(V32*((LOG(V32))/LOG(2))))","v":0},null,{"$f":"N32","v":22112},{"$f":"COUNTIF(L30:L53,Y32)","v":0},{"$f":"Z32/(AB4-Z25)","v":0},{"$f":"IF(AA32=0,0,(AA32*((LOG(AA32))/LOG(2))))","v":0},null,{"$f":"N32","v":22112},{"$f":"COUNTIF(L54:L76,AD32)","v":1},{"$f":"AE32/(AG4-AE25)","v":4.3478260869565216E-2},{"$f":"IF(AF32=0,0,(AF32*((LOG(AF32))/LOG(2))))","v":-0.19667660678508753},null,{"$f":"N32","v":22112},{"$f":"COUNTIF(L77:L99,AI32)","v":0},{"$f":"AJ32/(AL4-AJ25)","v":0},{"$f":"IF(AK32=0,0,(AK32*((LOG(AK32))/LOG(2))))","v":0},null,{"$f":"N32","v":22112},{"$f":"COUNTIF(L100:L123,AN32)","v":0},{"$f":"AO32/(AQ4-AO25)","v":0},{"$f":"IF(AP32=0,0,(AP32*((LOG(AP32))/LOG(2))))","v":0},null,{"$f":"N32","v":22112},{"$f":"COUNTIF(L124:L146,AS32)","v":0},{"$f":"AT32/(AV4-AT25)","v":0},{"$f":"IF(AU32=0,0,(AU32*((LOG(AU32))/LOG(2))))","v":0}]
[12,4428,24,4446,13,4455,23,4466,13,4482,0,12121,null,22121,{"$f":"COUNTIF($L$7:$L$500,N33)","v":0},{"$f":"O33/$Q$4","v":0},{"$f":"IF(P33=0,0,(P33*((LOG(P33))/LOG(2))))","v":0},null,null,{"$f":"N33","v":22121},{"$f":"COUNTIF(L7:L29,T33)","v":0},{"$f":"U33/(W4-U25)","v":0},{"$f":"IF(V33=0,0,(V33*((LOG(V33))/LOG(2))))","v":0},null,{"$f":"N33","v":22121},{"$f":"COUNTIF(L30:L53,Y33)","v":0},{"$f":"Z33/(AB4-Z25)","v":0},{"$f":"IF(AA33=0,0,(AA33*((LOG(AA33))/LOG(2))))","v":0},null,{"$f":"N33","v":22121},{"$f":"COUNTIF(L54:L76,AD33)","v":0},{"$f":"AE33/(AG4-AE25)","v":0},{"$f":"IF(AF33=0,0,(AF33*((LOG(AF33))/LOG(2))))","v":0},null,{"$f":"N33","v":22121},{"$f":"COUNTIF(L77:L99,AI33)","v":0},{"$f":"AJ33/(AL4-AJ25)","v":0},{"$f":"IF(AK33=0,0,(AK33*((LOG(AK33))/LOG(2))))","v":0},null,{"$f":"N33","v":22121},{"$f":"COUNTIF(L100:L123,AN33)","v":0},{"$f":"AO33/(AQ4-AO25)","v":0},{"$f":"IF(AP33=0,0,(AP33*((LOG(AP33))/LOG(2))))","v":0},null,{"$f":"N33","v":22121},{"$f":"COUNTIF(L124:L146,AS33)","v":0},{"$f":"AT33/(AV4-AT25)","v":0},{"$f":"IF(AU33=0,0,(AU33*((LOG(AU33))/LOG(2))))","v":0}]
[12,4616,24,4628,13,4637,23,4651,13,4660,0,12121,null,22122,{"$f":"COUNTIF($L$7:$L$500,N34)","v":0},{"$f":"O34/$Q$4","v":0},{"$f":"IF(P34=0,0,(P34*((LOG(P34))/LOG(2))))","v":0},null,null,{"$f":"N34","v":22122},{"$f":"COUNTIF(L7:L29,T34)","v":0},{"$f":"U34/(W4-U25)","v":0},{"$f":"IF(V34=0,0,(V34*((LOG(V34))/LOG(2))))","v":0},null,{"$f":"N34","v":22122},{"$f":"COUNTIF(L30:L53,Y34)","v":0},{"$f":"Z34/(AB4-Z25)","v":0},{"$f":"IF(AA34=0,0,(AA34*((LOG(AA34))/LOG(2))))","v":0},null,{"$f":"N34","v":22122},{"$f":"COUNTIF(L54:L76,AD34)","v":0},{"$f":"AE34/(AG4-AE25)","v":0},{"$f":"IF(AF34=0,0,(AF34*((LOG(AF34))/LOG(2))))","v":0},null,{"$f":"N34","v":22122},{"$f":"COUNTIF(L77:L99,AI34)","v":0},{"$f":"AJ34/(AL4-AJ25)","v":0},{"$f":"IF(AK34=0,0,(AK34*((LOG(AK34))/LOG(2))))","v":0},null,{"$f":"N34","v":22122},{"$f":"COUNTIF(L100:L123,AN34)","v":0},{"$f":"AO34/(AQ4-AO25)","v":0},{"$f":"IF(AP34=0,0,(AP34*((LOG(AP34))/LOG(2))))","v":0},null,{"$f":"N34","v":22122},{"$f":"COUNTIF(L124:L146,AS34)","v":0},{"$f":"AT34/(AV4-AT25)","v":0},{"$f":"IF(AU34=0,0,(AU34*((LOG(AU34))/LOG(2))))","v":0}]
[21,4760,11,4769,22,4778,14,4791,24,4814,0,21212,null,22211,{"$f":"COUNTIF($L$7:$L$500,N35)","v":0},{"$f":"O35/$Q$4","v":0},{"$f":"IF(P35=0,0,(P35*((LOG(P35))/LOG(2))))","v":0},null,null,{"$f":"N35","v":22211},{"$f":"COUNTIF(L7:L29,T35)","v":0},{"$f":"U35/(W4-U25)","v":0},{"$f":"IF(V35=0,0,(V35*((LOG(V35))/LOG(2))))","v":0},null,{"$f":"N35","v":22211},{"$f":"COUNTIF(L30:L53,Y35)","v":0},{"$f":"Z35/(AB4-Z25)","v":0},{"$f":"IF(AA35=0,0,(AA35*((LOG(AA35))/LOG(2))))","v":0},null,{"$f":"N35","v":22211},{"$f":"COUNTIF(L54:L76,AD35)","v":0},{"$f":"AE35/(AG4-AE25)","v":0},{"$f":"IF(AF35=0,0,(AF35*((LOG(AF35))/LOG(2))))","v":0},null,{"$f":"N35","v":22211},{"$f":"COUNTIF(L77:L99,AI35)","v":0},{"$f":"AJ35/(AL4-AJ25)","v":0},{"$f":"IF(AK35=0,0,(AK35*((LOG(AK35))/LOG(2))))","v":0},null,{"$f":"N35","v":22211},{"$f":"COUNTIF(L100:L123,AN35)","v":0},{"$f":"AO35/(AQ4-AO25)","v":0},{"$f":"IF(AP35=0,0,(AP35*((LOG(AP35))/LOG(2))))","v":0},null,{"$f":"N35","v":22211},{"$f":"COUNTIF(L124:L146,AS35)","v":0},{"$f":"AT35/(AV4-AT25)","v":0},{"$f":"IF(AU35=0,0,(AU35*((LOG(AU35))/LOG(2))))","v":0}]
[12,4931,24,4941,13,4949,23,4963,13,4972,0,12121,null,22212,{"$f":"COUNTIF($L$7:$L$500,N36)","v":0},{"$f":"O36/$Q$4","v":0},{"$f":"IF(P36=0,0,(P36*((LOG(P36))/LOG(2))))","v":0},null,null,{"$f":"N36","v":22212},{"$f":"COUNTIF(L7:L29,T36)","v":0},{"$f":"U36/(W4-U25)","v":0},{"$f":"IF(V36=0,0,(V36*((LOG(V36))/LOG(2))))","v":0},null,{"$f":"N36","v":22212},{"$f":"COUNTIF(L30:L53,Y36)","v":0},{"$f":"Z36/(AB4-Z25)","v":0},{"$f":"IF(AA36=0,0,(AA36*((LOG(AA36))/LOG(2))))","v":0},null,{"$f":"N36","v":22212},{"$f":"COUNTIF(L54:L76,AD36)","v":0},{"$f":"AE36/(AG4-AE25)","v":0},{"$f":"IF(AF36=0,0,(AF36*((LOG(AF36))/LOG(2))))","v":0},null,{"$f":"N36","v":22212},{"$f":"COUNTIF(L77:L99,AI36)","v":0},{"$f":"AJ36/(AL4-AJ25)","v":0},{"$f":"IF(AK36=0,0,(AK36*((LOG(AK36))/LOG(2))))","v":0},null,{"$f":"N36","v":22212},{"$f":"COUNTIF(L100:L123,AN36)","v":0},{"$f":"AO36/(AQ4-AO25)","v":0},{"$f":"IF(AP36=0,0,(AP36*((LOG(AP36))/LOG(2))))","v":0},null,{"$f":"N36","v":22212},{"$f":"COUNTIF(L124:L146,AS36)","v":0},{"$f":"AT36/(AV4-AT25)","v":0},{"$f":"IF(AU36=0,0,(AU36*((LOG(AU36))/LOG(2))))","v":0}]
[12,5084,24,5094,13,5103,23,5115,13,5143,0,12121,null,22221,{"$f":"COUNTIF($L$7:$L$500,N37)","v":0},{"$f":"O37/$Q$4","v":0},{"$f":"IF(P37=0,0,(P37*((LOG(P37))/LOG(2))))","v":0},null,null,{"$f":"N37","v":22221},{"$f":"COUNTIF(L7:L29,T37)","v":0},{"$f":"U37/(W4-U25)","v":0},{"$f":"IF(V37=0,0,(V37*((LOG(V37))/LOG(2))))","v":0},null,{"$f":"N37","v":22221},{"$f":"COUNTIF(L30:L53,Y37)","v":0},{"$f":"Z37/(AB4-Z25)","v":0},{"$f":"IF(AA37=0,0,(AA37*((LOG(AA37))/LOG(2))))","v":0},null,{"$f":"N37","v":22221},{"$f":"COUNTIF(L54:L76,AD37)","v":0},{"$f":"AE37/(AG4-AE25)","v":0},{"$f":"IF(AF37=0,0,(AF37*((LOG(AF37))/LOG(2))))","v":0},null,{"$f":"N37","v":22221},{"$f":"COUNTIF(L77:L99,AI37)","v":0},{"$f":"AJ37/(AL4-AJ25)","v":0},{"$f":"IF(AK37=0,0,(AK37*((LOG(AK37))/LOG(2))))","v":0},null,{"$f":"N37","v":22221},{"$f":"COUNTIF(L100:L123,AN37)","v":0},{"$f":"AO37/(AQ4-AO25)","v":0},{"$f":"IF(AP37=0,0,(AP37*((LOG(AP37))/LOG(2))))","v":0},null,{"$f":"N37","v":22221},{"$f":"COUNTIF(L124:L146,AS37)","v":0},{"$f":"AT37/(AV4-AT25)","v":0},{"$f":"IF(AU37=0,0,(AU37*((LOG(AU37))/LOG(2))))","v":0}]
[12,5250,13,5258,24,5267,14,5276,24,5289,0,11212,null,22222,{"$f":"COUNTIF($L$7:$L$500,N38)","v":1},{"$f":"O38/$Q$4","v":7.1428571428571426E-3},{"$f":"IF(P38=0,0,(P38*((LOG(P38))/LOG(2))))","v":-5.0923450121035475E-2},null,null,{"$f":"N38","v":22222},{"$f":"COUNTIF(L7:L29,T38)","v":1},{"$f":"U38/(W4-U25)","v":4.7619047619047616E-2},{"$f":"IF(V38=0,0,(V38*((LOG(V38))/LOG(2))))","v":-0.20915797251327431},null,{"$f":"N38","v":22222},{"$f":"COUNTIF(L30:L53,Y38)","v":0},{"$f":"Z38/(AB4-Z25)","v":0},{"$f":"IF(AA38=0,0,(AA38*((LOG(AA38))/LOG(2))))","v":0},null,{"$f":"N38","v":22222},{"$f":"COUNTIF(L54:L76,AD38)","v":0},{"$f":"AE38/(AG4-AE25)","v":0},{"$f":"IF(AF38=0,0,(AF38*((LOG(AF38))/LOG(2))))","v":0},null,{"$f":"N38","v":22222},{"$f":"COUNTIF(L77:L99,AI38)","v":0},{"$f":"AJ38/(AL4-AJ25)","v":0},{"$f":"IF(AK38=0,0,(AK38*((LOG(AK38))/LOG(2))))","v":0},null,{"$f":"N38","v":22222},{"$f":"COUNTIF(L100:L123,AN38)","v":0},{"$f":"AO38/(AQ4-AO25)","v":0},{"$f":"IF(AP38=0,0,(AP38*((LOG(AP38))/LOG(2))))","v":0},null,{"$f":"N38","v":22222},{"$f":"COUNTIF(L124:L146,AS38)","v":0},{"$f":"AT38/(AV4-AT25)","v":0},{"$f":"IF(AU38=0,0,(AU38*((LOG(AU38))/LOG(2))))","v":0}]
[21,5405,11,5414,22,5423,14,5431,13,5454,0,21211,null,null,null,{"$f":"SUM(P7:P38)","v":0.99999999999999956},{"$f":"-SUM(Q7:Q38)","v":3.4105265342299784},null,null,null,null,{"$f":"SUM(V7:V38)","v":1.0000000000000002},{"$f":"-SUM(W7:W38)","v":2.9803419725690823},null,null,null,{"$f":"SUM(AA7:AA38)","v":1},{"$f":"-SUM(AB7:AB38)","v":2.733941979590484},null,null,null,{"$f":"SUM(AF7:AF38)","v":1},{"$f":"-SUM(AG7:AG38)","v":2.7942385860214762},null,null,null,{"$f":"SUM(AK7:AK38)","v":1},{"$f":"-SUM(AL7:AL38)","v":2.7729244557748216},null,null,null,{"$f":"SUM(AP7:AP38)","v":0.99999999999999989},{"$f":"-SUM(AQ7:AQ38)","v":2.6793743705131985},null,null,null,{"$f":"SUM(AU7:AU38)","v":0.99999999999999978},{"$f":"-SUM(AV7:AV38)","v":2.7201287774331875}]
[21,5583,11,5600,22,5611,14,5622,24,5636,0,21212,null,null,null,"U=",{"$f":"Q39/(LOG(Q4)/LOG(2))","v":0.47838282280613592},null,null,null,null,"U1=",{"$f":"W39/(LOG(W4)/LOG(2))","v":0.65884849185682715},null,null,null,"U2=",{"$f":"AB39/(LOG(AB4)/LOG(2))","v":0.59628447978810506},null,null,null,"U3=",{"$f":"AG39/(LOG(AG4)/LOG(2))","v":0.61770759705855538},null,null,null,"U4=",{"$f":"AL39/(LOG(AL4)/LOG(2))","v":0.61299579462195675},null,null,null,"U5=",{"$f":"AQ39/(LOG(AQ4)/LOG(2))","v":0.58438305004496049},null,null,null,"U6=",{"$f":"AV39/(LOG(AV4)/LOG(2))","v":0.601324532272838}]
[12,5743,13,5750,24,5759,14,5768,24,5779,0,11212]
[12,5885,13,5893,24,5904,14,5914,24,5927,0,11212]
[12,6036,24,6048,13,6058,23,6070,13,6080,0,12121,null,"Total Target Seq"]
[12,6186,13,6194,13,6226,14,6237,13,6265,0,11111,null,{"$f":"COUNTIF(L7:L146,G3)","v":6},null,23,24,23,23,24,23]
[12,6374,13,6382,13,6399,14,6407,24,6419,0,11112,null,null,null,"% of reinforcement given in 6 equal intervals based on number of trials "]
[12,6529,13,6536,24,6546,14,6555,24,6571,0,11212,null,null,null,"%_1","%_2","%_3","%_4","%_5","%_6"]
[12,6675,13,6683,24,6693,14,6702,24,6715,0,11212,null,null,"target sequence",{"$f":"$G$3","v":21121},{"$f":"$G$3","v":21121},{"$f":"$G$3","v":21121},{"$f":"$G$3","v":21121},{"$f":"$G$3","v":21121},{"$f":"$G$3","v":21121}]
[12,6820,13,6828,13,6836,23,6846,13,6859,0,11121,null,null,"total reinforcement",{"$f":"U25","v":2},{"$f":"Z25","v":1},{"$f":"AE25","v":0},{"$f":"AJ25","v":0},{"$f":"AO25","v":2},{"$f":"AT25","v":1}]
[12,6967,13,6975,13,6993,23,7005,13,7017,0,11121,null,null,"% target"]
[12,7149,24,7158,13,7167,23,7181,13,7199,0,12121,null,null,"CCRF"]
[12,7321,24,7330,13,7342,23,7352,13,7361,0,12121,null,null,"% CCRf"]
[12,7469,13,7484,13,7515,14,7530,13,7542,0,11111,null,null,"average response rate",{"$f":"J29/P44","v":169.2608695652174},{"$f":"(J53-J29)/Q44","v":159.04166666666666},{"$f":"(J76-J53)/R44","v":165.17391304347825},{"$f":"(J99-J76)/S44","v":174.39130434782609},{"$f":"(J123-J99)/T44","v":176.875},{"$f":"(J146-J123)/U44","v":181.82608695652175}]
[12,7647,24,7656,13,7664,14,7678,13,7710,0,12111]
[12,7817,13,7840,24,7850,14,7861,24,7875,0,11212]
[12,7999,24,8010,13,8020,14,8031,13,8049,0,12111]
[12,8152,24,8161,13,8169,14,8202,24,8218,0,12112]
[12,8323,24,8333,13,8341,14,8368,13,8379,0,12111]
[21,8485,11,8494,11,8502,12,8519,24,8531,0,21112]
[21,8648,11,8656,22,8666,14,8675,13,8680,0,21211]
[12,8812,13,8834,13,8842,23,8854,13,8866,0,11121]
[12,8976,13,8984,24,8992,14,9008,13,9015,0,11211]
[12,9123,13,9134,13,9152,23,9163,13,9187,0,11121]
[21,9300,22,9310,13,9319,14,9336,24,9349,0,22112]
[12,9452,13,9459,13,9469,23,9478,13,9493,0,11121]
[12,9606,13,9614,24,9624,14,9635,13,9656,0,11211]
[12,9761,13,9768,24,9779,14,9788,24,9801,0,11212]
[12,9931,13,9944,24,9955,14,9965,13,9973,0,11211]
[12,10079,13,10086,13,10095,23,10105,13,10120,0,11121]
[12,10238,24,10249,13,10258,23,10267,13,10276,0,12121]
[12,10383,13,10400,13,10416,23,10426,13,10436,0,11121]
[12,10560,13,10595,24,10604,14,10616,13,10626,0,11211]
[12,10733,24,10744,13,10752,23,10764,13,10776,0,12121]
[12,10897,24,10906,13,10916,14,10953,13,10964,0,12111]
[12,11070,13,11083,13,11103,23,11116,13,11125,0,11121]
[12,11242,13,11265,24,11274,14,11296,13,11307,0,11211]
[12,11456,13,11474,24,11486,14,11499,13,11509,0,11211]
[21,11660,11,11667,22,11679,23,11697,13,11728,0,21221]
[12,11838,24,11847,24,11866,14,11880,24,11893,0,12212]
[12,11997,13,12007,24,12016,14,12024,24,12036,0,11212]
[12,12160,24,12169,13,12187,23,12209,24,12230,0,12122]
[12,12341,13,12355,13,12371,23,12382,13,12392,0,11121]
[12,12499,13,12519,24,12527,14,12555,13,12566,0,11211]
[12,12678,24,12688,13,12701,23,12711,13,12726,0,12121]
[12,12838,13,12863,24,12872,14,12883,24,12895,0,11212]
[12,13007,13,13018,24,13029,14,13046,13,13058,0,11211]
[12,13168,13,13178,13,13199,14,13206,24,13219,0,11112]
[12,13363,13,13384,13,13392,23,13404,13,13415,0,11121]
[12,13550,13,13570,13,13604,14,13611,24,13624,0,11112]
[12,13757,13,13764,13,13780,14,13803,13,13810,0,11111]
[12,13924,13,13939,24,13963,14,13975,13,13982,0,11211]
[12,14104,13,14111,24,14125,14,14147,24,14160,0,11212]
[12,14276,13,14284,24,14293,14,14305,24,14323,0,11212]
[12,14438,13,14450,24,14460,14,14488,24,14503,0,11212]
[12,14614,24,14622,13,14632,23,14643,13,14675,0,12121]
[12,14796,13,14817,24,14826,14,14835,24,14849,0,11212]
[12,14953,13,14961,24,14972,14,14988,24,15000,0,11212]
[12,15114,13,15133,24,15144,14,15153,24,15174,0,11212]
[12,15277,13,15305,13,15317,23,15328,13,15341,0,11121]
[12,15461,13,15473,13,15506,14,15507,24,15520,0,11112]
[12,15635,13,15651,24,15660,14,15669,24,15683,0,11212]
[12,15808,13,15835,13,15854,23,15865,13,15881,0,11121]
[12,15986,13,15994,24,16005,23,16020,24,16045,0,11222]
[12,16143,24,16153,13,16161,23,16173,13,16186,0,12121]
[12,16291,13,16303,24,16313,23,16348,13,16372,0,11221]
[12,16473,13,16485,13,16497,23,16508,13,16517,0,11121]
[12,16635,13,16650,24,16663,14,16681,13,16691,0,11211]
[12,16811,13,16834,24,16845,14,16854,13,16873,0,11211]
[12,16988,13,16999,13,17019,14,17053,24,17066,0,11112]
[12,17174,13,17183,13,17212,23,17224,13,17236,0,11121]
[21,17367,11,17380,11,17400,21,17412,11,17424,1,21121]
[12,17539,24,17548,13,17574,23,17587,13,17618,0,12121]
[12,17726,13,17734,24,17746,14,17755,24,17766,0,11212]
[12,17916,13,17933,24,17942,14,17953,24,17967,0,11212]
[12,18073,13,18092,13,18108,23,18120,13,18148,0,11121]
[12,18258,13,18271,13,18282,14,18301,24,18310,0,11112]
[12,18420,13,18439,13,18471,23,18484,13,18494,0,11121]
[12,18603,13,18610,13,18624,23,18635,13,18645,0,11121]
[12,18766,13,18777,24,18790,14,18799,13,18837,0,11211]
[21,18941,11,18949,11,18957,21,18969,11,18977,1,21121]
[12,19077,24,19087,13,19102,23,19112,13,19122,0,12121]
[12,19232,13,19254,24,19265,14,19285,24,19305,0,11212]
[12,19470,24,19500,13,19521,14,19532,24,19559,0,12112]
[12,19685,13,19707,13,19730,23,19743,13,19765,0,11121]
[12,19874,13,19887,24,19897,14,19915,24,19928,0,11212]
[12,20051,13,20063,24,20074,14,20086,24,20098,0,11212]
[12,20209,13,20229,24,20238,14,20247,13,20252,0,11211]
[12,20355,13,20374,13,20391,23,20403,13,20422,0,11121]
[12,20523,13,20541,13,20558,14,20575,24,20588,0,11112]
[21,20689,11,20697,11,20705,12,20728,24,20739,0,21112]
[12,20847,13,20865,24,20886,14,20905,24,20915,0,11212]
[12,21023,13,21038,24,21049,14,21063,13,21086,0,11211]
[12,21217,13,21238,24,21247,14,21257,24,21270,0,11212]
[12,21375,13,21401,24,21410,14,21419,24,21432,0,11212]
[12,21572,24,21581,13,21591,23,21600,13,21616,0,12121]
[12,21726,13,21734,13,21749,23,21763,13,21775,0,11121]
[12,21883,13,21894,13,21912,14,21929,24,21942,0,11112]
[12,22090,13,22120,13,22129,14,22155,24,22180,0,11112]
[12,22325,13,22347,24,22357,14,22373,13,22384,0,11211]
[12,22499,13,22524,13,22554,14,22580,13,22587,0,11111]
[12,22735,13,22760,13,22791,14,22813,13,22822,0,11111]
[12,22968,13,22984,13,23008,23,23021,13,23034,0,11121]
[12,23152,13,23159,13,23167,23,23179,13,23191,0,11121]
[12,23315,13,23331,13,23358,14,23402,24,23414,0,11112]
[21,23521,11,23529,11,23540,21,23551,11,23573,1,21121]
[12,23691,13,23708,24,23718,14,23736,24,23749,0,11212]
[21,23896,11,23912,22,23923,14,23934,24,23947,null,21212]

{"sheet":"!MA14B00.010","index":17,"n_rows":136,"n_cols":48,"rows_kept":136,"cut":false,"hidden":false,"merged":[[4,39,4,42],[5,39,5,40],[4,44,4,47],[5,44,5,45],[4,24,4,27],[5,24,5,25],[4,29,4,32],[5,29,5,30],[4,34,4,37],[5,34,5,35],[1,1,1,2],[5,13,5,14],[42,13,42,14],[43,13,43,14],[4,19,4,22],[5,19,5,20]]}
["Report for:!MA14B00.010"]
["Date:","<date>"]
["Hen:","<hen>",null,null,null,"Correct Sequence",{"$f":"Start!J2","v":21121},null,null,null,null,null,null,null,null,"Total Sequences in Data",{"$f":"4994-COUNTBLANK(L7:L5000)","v":130},null,null,null,null,"Total Sequences in Block Data",{"$f":"COUNTA(L7:L28)","v":22},null,null,null,"Total Sequences in Block Data",{"$f":"COUNTA(L29:L49)","v":21},null,null,null,"Total Sequences in Block Data",{"$f":"COUNTA(L50:L71)","v":22},null,null,null,"Total Sequences in Block Data",{"$f":"COUNTA(L72:L93)","v":22},null,null,null,"Total Sequences in Block Data",{"$f":"COUNTA(L94:L114)","v":21},null,null,null,"Total Sequences in Block Data",{"$f":"COUNTA(L115:L136)","v":22}]
[null,null,null,null,null,null,null,null,null,null,null,null,null,null,null,"Total Sequences in Summary",{"$f":"SUM(O7:O38)","v":130},null,null,null,null,"Total Sequences in Block Summary",{"$f":"SUM(U7:U38)","v":22},null,null,null,"Total Sequences in Block Summary",{"$f":"SUM(Z7:Z38)","v":21},null,null,null,"Total Sequences in Block Summary",{"$f":"SUM(AE7:AE38)","v":22},null,null,null,"Total Sequences in Block Summary",{"$f":"SUM(AJ7:AJ38)","v":22},null,null,null,"Total Sequences in Block Summary",{"$f":"SUM(AO7:AO38)","v":21},null,null,null,"Total Sequences in Block Summary",{"$f":"SUM(AT7:AT38)","v":22}]
[null,null,null,null,null,null,null,null,null,null,null,null,null,null,null,null,null,null,null,"Block 1",null,null,null,null,"Block 2",null,null,null,null,"Block 3",null,null,null,null,"Block 4",null,null,null,null,"Block 5",null,null,null,null,"Block 6"]
["Sequence\nComponent\n1","Time\n1","Sequence\nComponent\n2","Time\n2","Sequence\nComponent\n3","Time\n3","Sequence\nComponent\n4","Time\n4","Sequence\nComponent\n5","Time\n5","Correct?\n0=No 1=Yes","Sequence",null,"Frequency",null,"Relative Frequency","Variability",null,null,"Frequency",null,"Relative Frequency","Variability",null,"Frequency",null,"Relative Frequency","Variability",null,"Frequency",null,"Relative Frequency","Variability",null,"Frequency",null,"Relative Frequency","Variability",null,"Frequency",null,"Relative Frequency","Variability",null,"Frequency",null,"Relative Frequency","Variability"]
[21,14,22,45,24,60,23,101,24,121,0,22222,null,11111,{"$f":"COUNTIF($L$7:$L$500,N7)","v":15},{"$f":"O7/$Q$4","v":0.11538461538461539},{"$f":"IF(P7=0,0,(P7*((LOG(P7))/LOG(2))))","v":-0.35947814047153104},null,null,{"$f":"N7","v":11111},{"$f":"COUNTIF(L7:L28,T7)","v":2},{"$f":"U7/(W4-U25)","v":9.0909090909090912E-2},{"$f":"IF(V7=0,0,(V7*((LOG(V7))/LOG(2))))","v":-0.31449378351248153},null,{"$f":"N7","v":11111},{"$f":"COUNTIF(L29:L49,Y7)","v":2},{"$f":"Z7/(AB4-Z25)","v":9.5238095238095233E-2},{"$f":"IF(AA7=0,0,(AA7*((LOG(AA7))/LOG(2))))","v":-0.32307784978845333},null,{"$f":"N7","v":11111},{"$f":"COUNTIF(L50:L71,AD7)","v":1},{"$f":"AE7/(AG4-AE25)","v":4.7619047619047616E-2},{"$f":"IF(AF7=0,0,(AF7*((LOG(AF7))/LOG(2))))","v":-0.20915797251327431},null,{"$f":"N7","v":11111},{"$f":"COUNTIF(L72:L93,AI7)","v":5},{"$f":"AJ7/(AL4-AJ25)","v":0.23809523809523808},{"$f":"IF(AK7=0,0,(AK7*((LOG(AK7))/LOG(2))))","v":-0.49294983997414238},null,{"$f":"N7","v":11111},{"$f":"COUNTIF(L94:L114,AN7)","v":4},{"$f":"AO7/(AQ4-AO25)","v":0.2},{"$f":"IF(AP7=0,0,(AP7*((LOG(AP7))/LOG(2))))","v":-0.46438561897747244},null,{"$f":"N7","v":11111},{"$f":"COUNTIF(L115:L136,AS7)","v":1},{"$f":"AT7/(AV4-AT25)","v":5.2631578947368418E-2},{"$f":"IF(AU7=0,0,(AU7*((LOG(AU7))/LOG(2))))","v":-0.22357513228650452}]
[12,222,24,232,13,241,14,259,24,270,0,12112,null,11112,{"$f":"COUNTIF($L$7:$L$500,N8)","v":12},{"$f":"O8/$Q$4","v":9.2307692307692313E-2},{"$f":"IF(P8=0,0,(P8*((LOG(P8))/LOG(2))))","v":-0.31729895190528906},null,null,{"$f":"N8","v":11112},{"$f":"COUNTIF(L7:L28,T8)","v":0},{"$f":"U8/(W4-U25)","v":0},{"$f":"IF(V8=0,0,(V8*((LOG(V8))/LOG(2))))","v":0},null,{"$f":"N8","v":11112},{"$f":"COUNTIF(L29:L49,Y8)","v":3},{"$f":"Z8/(AB4-Z25)","v":0.14285714285714285},{"$f":"IF(AA8=0,0,(AA8*((LOG(AA8))/LOG(2))))","v":-0.40105070315108626},null,{"$f":"N8","v":11112},{"$f":"COUNTIF(L50:L71,AD8)","v":3},{"$f":"AE8/(AG4-AE25)","v":0.14285714285714285},{"$f":"IF(AF8=0,0,(AF8*((LOG(AF8))/LOG(2))))","v":-0.40105070315108626},null,{"$f":"N8","v":11112},{"$f":"COUNTIF(L72:L93,AI8)","v":2},{"$f":"AJ8/(AL4-AJ25)","v":9.5238095238095233E-2},{"$f":"IF(AK8=0,0,(AK8*((LOG(AK8))/LOG(2))))","v":-0.32307784978845333},null,{"$f":"N8","v":11112},{"$f":"COUNTIF(L94:L114,AN8)","v":2},{"$f":"AO8/(AQ4-AO25)","v":0.1},{"$f":"IF(AP8=0,0,(AP8*((LOG(AP8))/LOG(2))))","v":-0.33219280948873625},null,{"$f":"N8","v":11112},{"$f":"COUNTIF(L115:L136,AS8)","v":2},{"$f":"AT8/(AV4-AT25)","v":0.10526315789473684},{"$f":"IF(AU8=0,0,(AU8*((LOG(AU8))/LOG(2))))","v":-0.34188710667827216}]
[12,382,13,413,24,423,14,437,13,472,0,11211,null,11121,{"$f":"COUNTIF($L$7:$L$500,N9)","v":16},{"$f":"O9/$Q$4","v":0.12307692307692308},{"$f":"IF(P9=0,0,(P9*((LOG(P9))/LOG(2))))","v":-0.37198373083427133},null,null,{"$f":"N9","v":11121},{"$f":"COUNTIF(L7:L28,T9)","v":2},{"$f":"U9/(W4-U25)","v":9.0909090909090912E-2},{"$f":"IF(V9=0,0,(V9*((LOG(V9))/LOG(2))))","v":-0.31449378351248153},null,{"$f":"N9","v":11121},{"$f":"COUNTIF(L29:L49,Y9)","v":5},{"$f":"Z9/(AB4-Z25)","v":0.23809523809523808},{"$f":"IF(AA9=0,0,(AA9*((LOG(AA9))/LOG(2))))","v":-0.49294983997414238},null,{"$f":"N9","v":11121},{"$f":"COUNTIF(L50:L71,AD9)","v":1},{"$f":"AE9/(AG4-AE25)","v":4.7619047619047616E-2},{"$f":"IF(AF9=0,0,(AF9*((LOG(AF9))/LOG(2))))","v":-0.20915797251327431},null,{"$f":"N9","v":11121},{"$f":"COUNTIF(L72:L93,AI9)","v":4},{"$f":"AJ9/(AL4-AJ25)","v":0.19047619047619047},{"$f":"IF(AK9=0,0,(AK9*((LOG(AK9))/LOG(2))))","v":-0.4556795091007162},null,{"$f":"N9","v":11121},{"$f":"COUNTIF(L94:L114,AN9)","v":1},{"$f":"AO9/(AQ4-AO25)","v":0.05},{"$f":"IF(AP9=0,0,(AP9*((LOG(AP9))/LOG(2))))","v":-0.21609640474436814},null,{"$f":"N9","v":11121},{"$f":"COUNTIF(L115:L136,AS9)","v":3},{"$f":"AT9/(AV4-AT25)","v":0.15789473684210525},{"$f":"IF(AU9=0,0,(AU9*((LOG(AU9))/LOG(2))))","v":-0.42046815990354147}]
[12,577,24,588,13,596,23,616,24,648,0,12122,null,11122,{"$f":"COUNTIF($L$7:$L$500,N10)","v":2},{"$f":"O10/$Q$4","v":1.5384615384615385E-2},{"$f":"IF(P10=0,0,(P10*((LOG(P10))/LOG(2))))","v":-9.2651812508130066E-2},null,null,{"$f":"N10","v":11122},{"$f":"COUNTIF(L7:L28,T10)","v":0},{"$f":"U10/(W4-U25)","v":0},{"$f":"IF(V10=0,0,(V10*((LOG(V10))/LOG(2))))","v":0},null,{"$f":"N10","v":11122},{"$f":"COUNTIF(L29:L49,Y10)","v":0},{"$f":"Z10/(AB4-Z25)","v":0},{"$f":"IF(AA10=0,0,(AA10*((LOG(AA10))/LOG(2))))","v":0},null,{"$f":"N10","v":11122},{"$f":"COUNTIF(L50:L71,AD10)","v":1},{"$f":"AE10/(AG4-AE25)","v":4.7619047619047616E-2},{"$f":"IF(AF10=0,0,(AF10*((LOG(AF10))/LOG(2))))","v":-0.20915797251327431},null,{"$f":"N10","v":11122},{"$f":"COUNTIF(L72:L93,AI10)","v":0},{"$f":"AJ10/(AL4-AJ25)","v":0},{"$f":"IF(AK10=0,0,(AK10*((LOG(AK10))/LOG(2))))","v":0},null,{"$f":"N10","v":11122},{"$f":"COUNTIF(L94:L114,AN10)","v":1},{"$f":"AO10/(AQ4-AO25)","v":0.05},{"$f":"IF(AP10=0,0,(AP10*((LOG(AP10))/LOG(2))))","v":-0.21609640474436814},null,{"$f":"N10","v":11122},{"$f":"COUNTIF(L115:L136,AS10)","v":0},{"$f":"AT10/(AV4-AT25)","v":0},{"$f":"IF(AU10=0,0,(AU10*((LOG(AU10))/LOG(2))))","v":0}]
[12,763,13,782,24,794,14,813,24,824,0,11212,null,11211,{"$f":"COUNTIF($L$7:$L$500,N11)","v":12},{"$f":"O11/$Q$4","v":9.2307692307692313E-2},{"$f":"IF(P11=0,0,(P11*((LOG(P11))/LOG(2))))","v":-0.31729895190528906},null,null,{"$f":"N11","v":11211},{"$f":"COUNTIF(L7:L28,T11)","v":3},{"$f":"U11/(W4-U25)","v":0.13636363636363635},{"$f":"IF(V11=0,0,(V11*((LOG(V11))/LOG(2))))","v":-0.39197306153401923},null,{"$f":"N11","v":11211},{"$f":"COUNTIF(L29:L49,Y11)","v":1},{"$f":"Z11/(AB4-Z25)","v":4.7619047619047616E-2},{"$f":"IF(AA11=0,0,(AA11*((LOG(AA11))/LOG(2))))","v":-0.20915797251327431},null,{"$f":"N11","v":11211},{"$f":"COUNTIF(L50:L71,AD11)","v":4},{"$f":"AE11/(AG4-AE25)","v":0.19047619047619047},{"$f":"IF(AF11=0,0,(AF11*((LOG(AF11))/LOG(2))))","v":-0.4556795091007162},null,{"$f":"N11","v":11211},{"$f":"COUNTIF(L72:L93,AI11)","v":2},{"$f":"AJ11/(AL4-AJ25)","v":9.5238095238095233E-2},{"$f":"IF(AK11=0,0,(AK11*((LOG(AK11))/LOG(2))))","v":-0.32307784978845333},null,{"$f":"N11","v":11211},{"$f":"COUNTIF(L94:L114,AN11)","v":2},{"$f":"AO11/(AQ4-AO25)","v":0.1},{"$f":"IF(AP11=0,0,(AP11*((LOG(AP11))/LOG(2))))","v":-0.33219280948873625},null,{"$f":"N11","v":11211},{"$f":"COUNTIF(L115:L136,AS11)","v":0},{"$f":"AT11/(AV4-AT25)","v":0},{"$f":"IF(AU11=0,0,(AU11*((LOG(AU11))/LOG(2))))","v":0}]
[12,940,13,950,13,971,23,982,13,993,0,11121,null,11212,{"$f":"COUNTIF($L$7:$L$500,N12)","v":16},{"$f":"O12/$Q$4","v":0.12307692307692308},{"$f":"IF(P12=0,0,(P12*((LOG(P12))/LOG(2))))","v":-0.37198373083427133},null,null,{"$f":"N12","v":11212},{"$f":"COUNTIF(L7:L28,T12)","v":5},{"$f":"U12/(W4-U25)","v":0.22727272727272727},{"$f":"IF(V12=0,0,(V12*((LOG(V12))/LOG(2))))","v":-0.48579625539771243},null,{"$f":"N12","v":11212},{"$f":"COUNTIF(L29:L49,Y12)","v":2},{"$f":"Z12/(AB4-Z25)","v":9.5238095238095233E-2},{"$f":"IF(AA12=0,0,(AA12*((LOG(AA12))/LOG(2))))","v":-0.32307784978845333},null,{"$f":"N12","v":11212},{"$f":"COUNTIF(L50:L71,AD12)","v":4},{"$f":"AE12/(AG4-AE25)","v":0.19047619047619047},{"$f":"IF(AF12=0,0,(AF12*((LOG(AF12))/LOG(2))))","v":-0.4556795091007162},null,{"$f":"N12","v":11212},{"$f":"COUNTIF(L72:L93,AI12)","v":1},{"$f":"AJ12/(AL4-AJ25)","v":4.7619047619047616E-2},{"$f":"IF(AK12=0,0,(AK12*((LOG(AK12))/LOG(2))))","v":-0.20915797251327431},null,{"$f":"N12","v":11212},{"$f":"COUNTIF(L94:L114,AN12)","v":3},{"$f":"AO12/(AQ4-AO25)","v":0.15},{"$f":"IF(AP12=0,0,(AP12*((LOG(AP12))/LOG(2))))","v":-0.41054483912493089},null,{"$f":"N12","v":11212},{"$f":"COUNTIF(L115:L136,AS12)","v":1},{"$f":"AT12/(AV4-AT25)","v":5.2631578947368418E-2},{"$f":"IF(AU12=0,0,(AU12*((LOG(AU12))/LOG(2))))","v":-0.22357513228650452}]
[12,1109,24,1117,13,1136,23,1148,13,1162,0,12121,null,11221,{"$f":"COUNTIF($L$7:$L$500,N13)","v":3},{"$f":"O13/$Q$4","v":2.3076923076923078E-2},{"$f":"IF(P13=0,0,(P13*((LOG(P13))/LOG(2))))","v":-0.12547858413016844},null,null,{"$f":"N13","v":11221},{"$f":"COUNTIF(L7:L28,T13)","v":1},{"$f":"U13/(W4-U25)","v":4.5454545454545456E-2},{"$f":"IF(V13=0,0,(V13*((LOG(V13))/LOG(2))))","v":-0.20270143721078623},null,{"$f":"N13","v":11221},{"$f":"COUNTIF(L29:L49,Y13)","v":1},{"$f":"Z13/(AB4-Z25)","v":4.7619047619047616E-2},{"$f":"IF(AA13=0,0,(AA13*((LOG(AA13))/LOG(2))))","v":-0.20915797251327431},null,{"$f":"N13","v":11221},{"$f":"COUNTIF(L50:L71,AD13)","v":0},{"$f":"AE13/(AG4-AE25)","v":0},{"$f":"IF(AF13=0,0,(AF13*((LOG(AF13))/LOG(2))))","v":0},null,{"$f":"N13","v":11221},{"$f":"COUNTIF(L72:L93,AI13)","v":0},{"$f":"AJ13/(AL4-AJ25)","v":0},{"$f":"IF(AK13=0,0,(AK13*((LOG(AK13))/LOG(2))))","v":0},null,{"$f":"N13","v":11221},{"$f":"COUNTIF(L94:L114,AN13)","v":1},{"$f":"AO13/(AQ4-AO25)","v":0.05},{"$f":"IF(AP13=0,0,(AP13*((LOG(AP13))/LOG(2))))","v":-0.21609640474436814},null,{"$f":"N13","v":11221},{"$f":"COUNTIF(L115:L136,AS13)","v":0},{"$f":"AT13/(AV4-AT25)","v":0},{"$f":"IF(AU13=0,0,(AU13*((LOG(AU13))/LOG(2))))","v":0}]
[12,1269,24,1279,13,1293,23,1305,13,1316,0,12121,null,11222,{"$f":"COUNTIF($L$7:$L$500,N14)","v":0},{"$f":"O14/$Q$4","v":0},{"$f":"IF(P14=0,0,(P14*((LOG(P14))/LOG(2))))","v":0},null,null,{"$f":"N14","v":11222},{"$f":"COUNTIF(L7:L28,T14)","v":0},{"$f":"U14/(W4-U25)","v":0},{"$f":"IF(V14=0,0,(V14*((LOG(V14))/LOG(2))))","v":0},null,{"$f":"N14","v":11222},{"$f":"COUNTIF(L29:L49,Y14)","v":0},{"$f":"Z14/(AB4-Z25)","v":0},{"$f":"IF(AA14=0,0,(AA14*((LOG(AA14))/LOG(2))))","v":0},null,{"$f":"N14","v":11222},{"$f":"COUNTIF(L50:L71,AD14)","v":0},{"$f":"AE14/(AG4-AE25)","v":0},{"$f":"IF(AF14=0,0,(AF14*((LOG(AF14))/LOG(2))))","v":0},null,{"$f":"N14","v":11222},{"$f":"COUNTIF(L72:L93,AI14)","v":0},{"$f":"AJ14/(AL4-AJ25)","v":0},{"$f":"IF(AK14=0,0,(AK14*((LOG(AK14))/LOG(2))))","v":0},null,{"$f":"N14","v":11222},{"$f":"COUNTIF(L94:L114,AN14)","v":0},{"$f":"AO14/(AQ4-AO25)","v":0},{"$f":"IF(AP14=0,0,(AP14*((LOG(AP14))/LOG(2))))","v":0},null,{"$f":"N14","v":11222},{"$f":"COUNTIF(L115:L136,AS14)","v":0},{"$f":"AT14/(AV4-AT25)","v":0},{"$f":"IF(AU14=0,0,(AU14*((LOG(AU14))/LOG(2))))","v":0}]
[12,1417,13,1432,24,1443,23,1468,13,1483,0,11221,null,12111,{"$f":"COUNTIF($L$7:$L$500,N15)","v":3},{"$f":"O15/$Q$4","v":2.3076923076923078E-2},{"$f":"IF(P15=0,0,(P15*((LOG(P15))/LOG(2))))","v":-0.12547858413016844},null,null,{"$f":"N15","v":12111},{"$f":"COUNTIF(L7:L28,T15)","v":0},{"$f":"U15/(W4-U25)","v":0},{"$f":"IF(V15=0,0,(V15*((LOG(V15))/LOG(2))))","v":0},null,{"$f":"N15","v":12111},{"$f":"COUNTIF(L29:L49,Y15)","v":1},{"$f":"Z15/(AB4-Z25)","v":4.7619047619047616E-2},{"$f":"IF(AA15=0,0,(AA15*((LOG(AA15))/LOG(2))))","v":-0.20915797251327431},null,{"$f":"N15","v":12111},{"$f":"COUNTIF(L50:L71,AD15)","v":1},{"$f":"AE15/(AG4-AE25)","v":4.7619047619047616E-2},{"$f":"IF(AF15=0,0,(AF15*((LOG(AF15))/LOG(2))))","v":-0.20915797251327431},null,{"$f":"N15","v":12111},{"$f":"COUNTIF(L72:L93,AI15)","v":1},{"$f":"AJ15/(AL4-AJ25)","v":4.7619047619047616E-2},{"$f":"IF(AK15=0,0,(AK15*((LOG(AK15))/LOG(2))))","v":-0.20915797251327431},null,{"$f":"N15","v":12111},{"$f":"COUNTIF(L94:L114,AN15)","v":0},{"$f":"AO15/(AQ4-AO25)","v":0},{"$f":"IF(AP15=0,0,(AP15*((LOG(AP15))/LOG(2))))","v":0},null,{"$f":"N15","v":12111},{"$f":"COUNTIF(L115:L136,AS15)","v":0},{"$f":"AT15/(AV4-AT25)","v":0},{"$f":"IF(AU15=0,0,(AU15*((LOG(AU15))/LOG(2))))","v":0}]
[12,1589,13,1606,24,1615,14,1627,13,1643,0,11211,null,12112,{"$f":"COUNTIF($L$7:$L$500,N16)","v":8},{"$f":"O16/$Q$4","v":6.1538461538461542E-2},{"$f":"IF(P16=0,0,(P16*((LOG(P16))/LOG(2))))","v":-0.24753032695559721},null,null,{"$f":"N16","v":12112},{"$f":"COUNTIF(L7:L28,T16)","v":1},{"$f":"U16/(W4-U25)","v":4.5454545454545456E-2},{"$f":"IF(V16=0,0,(V16*((LOG(V16))/LOG(2))))","v":-0.20270143721078623},null,{"$f":"N16","v":12112},{"$f":"COUNTIF(L29:L49,Y16)","v":1},{"$f":"Z16/(AB4-Z25)","v":4.7619047619047616E-2},{"$f":"IF(AA16=0,0,(AA16*((LOG(AA16))/LOG(2))))","v":-0.20915797251327431},null,{"$f":"N16","v":12112},{"$f":"COUNTIF(L50:L71,AD16)","v":2},{"$f":"AE16/(AG4-AE25)","v":9.5238095238095233E-2},{"$f":"IF(AF16=0,0,(AF16*((LOG(AF16))/LOG(2))))","v":-0.32307784978845333},null,{"$f":"N16","v":12112},{"$f":"COUNTIF(L72:L93,AI16)","v":1},{"$f":"AJ16/(AL4-AJ25)","v":4.7619047619047616E-2},{"$f":"IF(AK16=0,0,(AK16*((LOG(AK16))/LOG(2))))","v":-0.20915797251327431},null,{"$f":"N16","v":12112},{"$f":"COUNTIF(L94:L114,AN16)","v":1},{"$f":"AO16/(AQ4-AO25)","v":0.05},{"$f":"IF(AP16=0,0,(AP16*((LOG(AP16))/LOG(2))))","v":-0.21609640474436814},null,{"$f":"N16","v":12112},{"$f":"COUNTIF(L115:L136,AS16)","v":2},{"$f":"AT16/(AV4-AT25)","v":0.10526315789473684},{"$f":"IF(AU16=0,0,(AU16*((LOG(AU16))/LOG(2))))","v":-0.34188710667827216}]
[12,1754,13,1767,24,1779,14,1798,24,1811,0,11212,null,12121,{"$f":"COUNTIF($L$7:$L$500,N17)","v":10},{"$f":"O17/$Q$4","v":7.6923076923076927E-2},{"$f":"IF(P17=0,0,(P17*((LOG(P17))/LOG(2))))","v":-0.28464920908777636},null,null,{"$f":"N17","v":12121},{"$f":"COUNTIF(L7:L28,T17)","v":4},{"$f":"U17/(W4-U25)","v":0.18181818181818182},{"$f":"IF(V17=0,0,(V17*((LOG(V17))/LOG(2))))","v":-0.44716938520678134},null,{"$f":"N17","v":12121},{"$f":"COUNTIF(L29:L49,Y17)","v":2},{"$f":"Z17/(AB4-Z25)","v":9.5238095238095233E-2},{"$f":"IF(AA17=0,0,(AA17*((LOG(AA17))/LOG(2))))","v":-0.32307784978845333},null,{"$f":"N17","v":12121},{"$f":"COUNTIF(L50:L71,AD17)","v":0},{"$f":"AE17/(AG4-AE25)","v":0},{"$f":"IF(AF17=0,0,(AF17*((LOG(AF17))/LOG(2))))","v":0},null,{"$f":"N17","v":12121},{"$f":"COUNTIF(L72:L93,AI17)","v":0},{"$f":"AJ17/(AL4-AJ25)","v":0},{"$f":"IF(AK17=0,0,(AK17*((LOG(AK17))/LOG(2))))","v":0},null,{"$f":"N17","v":12121},{"$f":"COUNTIF(L94:L114,AN17)","v":1},{"$f":"AO17/(AQ4-AO25)","v":0.05},{"$f":"IF(AP17=0,0,(AP17*((LOG(AP17))/LOG(2))))","v":-0.21609640474436814},null,{"$f":"N17","v":12121},{"$f":"COUNTIF(L115:L136,AS17)","v":3},{"$f":"AT17/(AV4-AT25)","v":0.15789473684210525},{"$f":"IF(AU17=0,0,(AU17*((LOG(AU17))/LOG(2))))","v":-0.42046815990354147}]
[12,1929,13,1937,24,1946,14,1955,24,1965,0,11212,null,12122,{"$f":"COUNTIF($L$7:$L$500,N18)","v":1},{"$f":"O18/$Q$4","v":7.6923076923076927E-3},{"$f":"IF(P18=0,0,(P18*((LOG(P18))/LOG(2))))","v":-5.4018213946372733E-2},null,null,{"$f":"N18","v":12122},{"$f":"COUNTIF(L7:L28,T18)","v":1},{"$f":"U18/(W4-U25)","v":4.5454545454545456E-2},{"$f":"IF(V18=0,0,(V18*((LOG(V18))/LOG(2))))","v":-0.20270143721078623},null,{"$f":"N18","v":12122},{"$f":"COUNTIF(L29:L49,Y18)","v":0},{"$f":"Z18/(AB4-Z25)","v":0},{"$f":"IF(AA18=0,0,(AA18*((LOG(AA18))/LOG(2))))","v":0},null,{"$f":"N18","v":12122},{"$f":"COUNTIF(L50:L71,AD18)","v":0},{"$f":"AE18/(AG4-AE25)","v":0},{"$f":"IF(AF18=0,0,(AF18*((LOG(AF18))/LOG(2))))","v":0},null,{"$f":"N18","v":12122},{"$f":"COUNTIF(L72:L93,AI18)","v":0},{"$f":"AJ18/(AL4-AJ25)","v":0},{"$f":"IF(AK18=0,0,(AK18*((LOG(AK18))/LOG(2))))","v":0},null,{"$f":"N18","v":12122},{"$f":"COUNTIF(L94:L114,AN18)","v":0},{"$f":"AO18/(AQ4-AO25)","v":0},{"$f":"IF(AP18=0,0,(AP18*((LOG(AP18))/LOG(2))))","v":0},null,{"$f":"N18","v":12122},{"$f":"COUNTIF(L115:L136,AS18)","v":0},{"$f":"AT18/(AV4-AT25)","v":0},{"$f":"IF(AU18=0,0,(AU18*((LOG(AU18))/LOG(2))))","v":0}]
[12,2082,13,2093,24,2105,14,2117,24,2129,0,11212,null,12211,{"$f":"COUNTIF($L$7:$L$500,N19)","v":2},{"$f":"O19/$Q$4","v":1.5384615384615385E-2},{"$f":"IF(P19=0,0,(P19*((LOG(P19))/LOG(2))))","v":-9.2651812508130066E-2},null,null,{"$f":"N19","v":12211},{"$f":"COUNTIF(L7:L28,T19)","v":0},{"$f":"U19/(W4-U25)","v":0},{"$f":"IF(V19=0,0,(V19*((LOG(V19))/LOG(2))))","v":0},null,{"$f":"N19","v":12211},{"$f":"COUNTIF(L29:L49,Y19)","v":1},{"$f":"Z19/(AB4-Z25)","v":4.7619047619047616E-2},{"$f":"IF(AA19=0,0,(AA19*((LOG(AA19))/LOG(2))))","v":-0.20915797251327431},null,{"$f":"N19","v":12211},{"$f":"COUNTIF(L50:L71,AD19)","v":0},{"$f":"AE19/(AG4-AE25)","v":0},{"$f":"IF(AF19=0,0,(AF19*((LOG(AF19))/LOG(2))))","v":0},null,{"$f":"N19","v":12211},{"$f":"COUNTIF(L72:L93,AI19)","v":1},{"$f":"AJ19/(AL4-AJ25)","v":4.7619047619047616E-2},{"$f":"IF(AK19=0,0,(AK19*((LOG(AK19))/LOG(2))))","v":-0.20915797251327431},null,{"$f":"N19","v":12211},{"$f":"COUNTIF(L94:L114,AN19)","v":0},{"$f":"AO19/(AQ4-AO25)","v":0},{"$f":"IF(AP19=0,0,(AP19*((LOG(AP19))/LOG(2))))","v":0},null,{"$f":"N19","v":12211},{"$f":"COUNTIF(L115:L136,AS19)","v":0},{"$f":"AT19/(AV4-AT25)","v":0},{"$f":"IF(AU19=0,0,(AU19*((LOG(AU19))/LOG(2))))","v":0}]
[12,2240,13,2267,13,2288,14,2309,13,2333,0,11111,null,12212,{"$f":"COUNTIF($L$7:$L$500,N20)","v":0},{"$f":"O20/$Q$4","v":0},{"$f":"IF(P20=0,0,(P20*((LOG(P20))/LOG(2))))","v":0},null,null,{"$f":"N20","v":12212},{"$f":"COUNTIF(L7:L28,T20)","v":0},{"$f":"U20/(W4-U25)","v":0},{"$f":"IF(V20=0,0,(V20*((LOG(V20))/LOG(2))))","v":0},null,{"$f":"N20","v":12212},{"$f":"COUNTIF(L29:L49,Y20)","v":0},{"$f":"Z20/(AB4-Z25)","v":0},{"$f":"IF(AA20=0,0,(AA20*((LOG(AA20))/LOG(2))))","v":0},null,{"$f":"N20","v":12212},{"$f":"COUNTIF(L50:L71,AD20)","v":0},{"$f":"AE20/(AG4-AE25)","v":0},{"$f":"IF(AF20=0,0,(AF20*((LOG(AF20))/LOG(2))))","v":0},null,{"$f":"N20","v":12212},{"$f":"COUNTIF(L72:L93,AI20)","v":0},{"$f":"AJ20/(AL4-AJ25)","v":0},{"$f":"IF(AK20=0,0,(AK20*((LOG(AK20))/LOG(2))))","v":0},null,{"$f":"N20","v":12212},{"$f":"COUNTIF(L94:L114,AN20)","v":0},{"$f":"AO20/(AQ4-AO25)","v":0},{"$f":"IF(AP20=0,0,(AP20*((LOG(AP20))/LOG(2))))","v":0},null,{"$f":"N20","v":12212},{"$f":"COUNTIF(L115:L136,AS20)","v":0},{"$f":"AT20/(AV4-AT25)","v":0},{"$f":"IF(AU20=0,0,(AU20*((LOG(AU20))/LOG(2))))","v":0}]
[12,2440,13,2452,24,2461,14,2469,24,2479,0,11212,null,12221,{"$f":"COUNTIF($L$7:$L$500,N21)","v":1},{"$f":"O21/$Q$4","v":7.6923076923076927E-3},{"$f":"IF(P21=0,0,(P21*((LOG(P21))/LOG(2))))","v":-5.4018213946372733E-2},null,null,{"$f":"N21","v":12221},{"$f":"COUNTIF(L7:L28,T21)","v":0},{"$f":"U21/(W4-U25)","v":0},{"$f":"IF(V21=0,0,(V21*((LOG(V21))/LOG(2))))","v":0},null,{"$f":"N21","v":12221},{"$f":"COUNTIF(L29:L49,Y21)","v":0},{"$f":"Z21/(AB4-Z25)","v":0},{"$f":"IF(AA21=0,0,(AA21*((LOG(AA21))/LOG(2))))","v":0},null,{"$f":"N21","v":12221},{"$f":"COUNTIF(L50:L71,AD21)","v":0},{"$f":"AE21/(AG4-AE25)","v":0},{"$f":"IF(AF21=0,0,(AF21*((LOG(AF21))/LOG(2))))","v":0},null,{"$f":"N21","v":12221},{"$f":"COUNTIF(L72:L93,AI21)","v":0},{"$f":"AJ21/(AL4-AJ25)","v":0},{"$f":"IF(AK21=0,0,(AK21*((LOG(AK21))/LOG(2))))","v":0},null,{"$f":"N21","v":12221},{"$f":"COUNTIF(L94:L114,AN21)","v":0},{"$f":"AO21/(AQ4-AO25)","v":0},{"$f":"IF(AP21=0,0,(AP21*((LOG(AP21))/LOG(2))))","v":0},null,{"$f":"N21","v":12221},{"$f":"COUNTIF(L115:L136,AS21)","v":1},{"$f":"AT21/(AV4-AT25)","v":5.2631578947368418E-2},{"$f":"IF(AU21=0,0,(AU21*((LOG(AU21))/LOG(2))))","v":-0.22357513228650452}]
[12,2603,13,2614,13,2631,14,2654,13,2661,0,11111,null,12222,{"$f":"COUNTIF($L$7:$L$500,N22)","v":0},{"$f":"O22/$Q$4","v":0},{"$f":"IF(P22=0,0,(P22*((LOG(P22))/LOG(2))))","v":0},null,null,{"$f":"N22","v":12222},{"$f":"COUNTIF(L7:L28,T22)","v":0},{"$f":"U22/(W4-U25)","v":0},{"$f":"IF(V22=0,0,(V22*((LOG(V22))/LOG(2))))","v":0},null,{"$f":"N22","v":12222},{"$f":"COUNTIF(L29:L49,Y22)","v":0},{"$f":"Z22/(AB4-Z25)","v":0},{"$f":"IF(AA22=0,0,(AA22*((LOG(AA22))/LOG(2))))","v":0},null,{"$f":"N22","v":12222},{"$f":"COUNTIF(L50:L71,AD22)","v":0},{"$f":"AE22/(AG4-AE25)","v":0},{"$f":"IF(AF22=0,0,(AF22*((LOG(AF22))/LOG(2))))","v":0},null,{"$f":"N22","v":12222},{"$f":"COUNTIF(L72:L93,AI22)","v":0},{"$f":"AJ22/(AL4-AJ25)","v":0},{"$f":"IF(AK22=0,0,(AK22*((LOG(AK22))/LOG(2))))","v":0},null,{"$f":"N22","v":12222},{"$f":"COUNTIF(L94:L114,AN22)","v":0},{"$f":"AO22/(AQ4-AO25)","v":0},{"$f":"IF(AP22=0,0,(AP22*((LOG(AP22))/LOG(2))))","v":0},null,{"$f":"N22","v":12222},{"$f":"COUNTIF(L115:L136,AS22)","v":0},{"$f":"AT22/(AV4-AT25)","v":0},{"$f":"IF(AU22=0,0,(AU22*((LOG(AU22))/LOG(2))))","v":0}]
[12,2782,24,2792,13,2804,23,2814,13,2823,0,12121,null,21111,{"$f":"COUNTIF($L$7:$L$500,N23)","v":4},{"$f":"O23/$Q$4","v":3.0769230769230771E-2},{"$f":"IF(P23=0,0,(P23*((LOG(P23))/LOG(2))))","v":-0.15453439424702936},null,null,{"$f":"N23","v":21111},{"$f":"COUNTIF(L7:L28,T23)","v":0},{"$f":"U23/(W4-U25)","v":0},{"$f":"IF(V23=0,0,(V23*((LOG(V23))/LOG(2))))","v":0},null,{"$f":"N23","v":21111},{"$f":"COUNTIF(L29:L49,Y23)","v":0},{"$f":"Z23/(AB4-Z25)","v":0},{"$f":"IF(AA23=0,0,(AA23*((LOG(AA23))/LOG(2))))","v":0},null,{"$f":"N23","v":21111},{"$f":"COUNTIF(L50:L71,AD23)","v":0},{"$f":"AE23/(AG4-AE25)","v":0},{"$f":"IF(AF23=0,0,(AF23*((LOG(AF23))/LOG(2))))","v":0},null,{"$f":"N23","v":21111},{"$f":"COUNTIF(L72:L93,AI23)","v":2},{"$f":"AJ23/(AL4-AJ25)","v":9.5238095238095233E-2},{"$f":"IF(AK23=0,0,(AK23*((LOG(AK23))/LOG(2))))","v":-0.32307784978845333},null,{"$f":"N23","v":21111},{"$f":"COUNTIF(L94:L114,AN23)","v":1},{"$f":"AO23/(AQ4-AO25)","v":0.05},{"$f":"IF(AP23=0,0,(AP23*((LOG(AP23))/LOG(2))))","v":-0.21609640474436814},null,{"$f":"N23","v":21111},{"$f":"COUNTIF(L115:L136,AS23)","v":1},{"$f":"AT23/(AV4-AT25)","v":5.2631578947368418E-2},{"$f":"IF(AU23=0,0,(AU23*((LOG(AU23))/LOG(2))))","v":-0.22357513228650452}]
[12,2932,24,2941,13,2950,23,2960,13,2971,0,12121,null,21112,{"$f":"COUNTIF($L$7:$L$500,N24)","v":5},{"$f":"O24/$Q$4","v":3.8461538461538464E-2},{"$f":"IF(P24=0,0,(P24*((LOG(P24))/LOG(2))))","v":-0.18078614300542661},null,null,{"$f":"N24","v":21112},{"$f":"COUNTIF(L7:L28,T24)","v":1},{"$f":"U24/(W4-U25)","v":4.5454545454545456E-2},{"$f":"IF(V24=0,0,(V24*((LOG(V24))/LOG(2))))","v":-0.20270143721078623},null,{"$f":"N24","v":21112},{"$f":"COUNTIF(L29:L49,Y24)","v":0},{"$f":"Z24/(AB4-Z25)","v":0},{"$f":"IF(AA24=0,0,(AA24*((LOG(AA24))/LOG(2))))","v":0},null,{"$f":"N24","v":21112},{"$f":"COUNTIF(L50:L71,AD24)","v":1},{"$f":"AE24/(AG4-AE25)","v":4.7619047619047616E-2},{"$f":"IF(AF24=0,0,(AF24*((LOG(AF24))/LOG(2))))","v":-0.20915797251327431},null,{"$f":"N24","v":21112},{"$f":"COUNTIF(L72:L93,AI24)","v":1},{"$f":"AJ24/(AL4-AJ25)","v":4.7619047619047616E-2},{"$f":"IF(AK24=0,0,(AK24*((LOG(AK24))/LOG(2))))","v":-0.20915797251327431},null,{"$f":"N24","v":21112},{"$f":"COUNTIF(L94:L114,AN24)","v":0},{"$f":"AO24/(AQ4-AO25)","v":0},{"$f":"IF(AP24=0,0,(AP24*((LOG(AP24))/LOG(2))))","v":0},null,{"$f":"N24","v":21112},{"$f":"COUNTIF(L115:L136,AS24)","v":2},{"$f":"AT24/(AV4-AT25)","v":0.10526315789473684},{"$f":"IF(AU24=0,0,(AU24*((LOG(AU24))/LOG(2))))","v":-0.34188710667827216}]
[12,3097,13,3117,24,3128,14,3146,13,3156,0,11211,null,21121,{"$f":"COUNTIF($L$7:$L$500,N25)","v":6},{"$f":"O25/$Q$4","v":4.6153846153846156E-2},{"$f":"IF(P25=0,0,(P25*((LOG(P25))/LOG(2))))","v":-0.20480332210649072},null,null,{"$f":"N25","v":21121},{"$f":"COUNTIF(L7:L28,T25)","v":0},null,null,null,{"$f":"N25","v":21121},{"$f":"COUNTIF(L29:L49,Y25)","v":0},null,null,null,{"$f":"N25","v":21121},{"$f":"COUNTIF(L50:L71,AD25)","v":1},null,null,null,{"$f":"N25","v":21121},{"$f":"COUNTIF(L72:L93,AI25)","v":1},null,null,null,{"$f":"N25","v":21121},{"$f":"COUNTIF(L94:L114,AN25)","v":1},null,null,null,{"$f":"N25","v":21121},{"$f":"COUNTIF(L115:L136,AS25)","v":3}]
[12,3307,13,3337,13,3349,23,3362,13,3373,0,11121,null,21122,{"$f":"COUNTIF($L$7:$L$500,N26)","v":1},{"$f":"O26/$Q$4","v":7.6923076923076927E-3},{"$f":"IF(P26=0,0,(P26*((LOG(P26))/LOG(2))))","v":-5.4018213946372733E-2},null,null,{"$f":"N26","v":21122},{"$f":"COUNTIF(L7:L28,T26)","v":0},{"$f":"U26/(W4-U25)","v":0},{"$f":"IF(V26=0,0,(V26*((LOG(V26))/LOG(2))))","v":0},null,{"$f":"N26","v":21122},{"$f":"COUNTIF(L29:L49,Y26)","v":0},{"$f":"Z26/(AB4-Z25)","v":0},{"$f":"IF(AA26=0,0,(AA26*((LOG(AA26))/LOG(2))))","v":0},null,{"$f":"N26","v":21122},{"$f":"COUNTIF(L50:L71,AD26)","v":0},{"$f":"AE26/(AG4-AE25)","v":0},{"$f":"IF(AF26=0,0,(AF26*((LOG(AF26))/LOG(2))))","v":0},null,{"$f":"N26","v":21122},{"$f":"COUNTIF(L72:L93,AI26)","v":0},{"$f":"AJ26/(AL4-AJ25)","v":0},{"$f":"IF(AK26=0,0,(AK26*((LOG(AK26))/LOG(2))))","v":0},null,{"$f":"N26","v":21122},{"$f":"COUNTIF(L94:L114,AN26)","v":0},{"$f":"AO26/(AQ4-AO25)","v":0},{"$f":"IF(AP26=0,0,(AP26*((LOG(AP26))/LOG(2))))","v":0},null,{"$f":"N26","v":21122},{"$f":"COUNTIF(L115:L136,AS26)","v":1},{"$f":"AT26/(AV4-AT25)","v":5.2631578947368418E-2},{"$f":"IF(AU26=0,0,(AU26*((LOG(AU26))/LOG(2))))","v":-0.22357513228650452}]
[21,3505,11,3517,11,3534,12,3554,24,3565,0,21112,null,21211,{"$f":"COUNTIF($L$7:$L$500,N27)","v":1},{"$f":"O27/$Q$4","v":7.6923076923076927E-3},{"$f":"IF(P27=0,0,(P27*((LOG(P27))/LOG(2))))","v":-5.4018213946372733E-2},null,null,{"$f":"N27","v":21211},{"$f":"COUNTIF(L7:L28,T27)","v":0},{"$f":"U27/(W4-U25)","v":0},{"$f":"IF(V27=0,0,(V27*((LOG(V27))/LOG(2))))","v":0},null,{"$f":"N27","v":21211},{"$f":"COUNTIF(L29:L49,Y27)","v":0},{"$f":"Z27/(AB4-Z25)","v":0},{"$f":"IF(AA27=0,0,(AA27*((LOG(AA27))/LOG(2))))","v":0},null,{"$f":"N27","v":21211},{"$f":"COUNTIF(L50:L71,AD27)","v":0},{"$f":"AE27/(AG4-AE25)","v":0},{"$f":"IF(AF27=0,0,(AF27*((LOG(AF27))/LOG(2))))","v":0},null,{"$f":"N27","v":21211},{"$f":"COUNTIF(L72:L93,AI27)","v":1},{"$f":"AJ27/(AL4-AJ25)","v":4.7619047619047616E-2},{"$f":"IF(AK27=0,0,(AK27*((LOG(AK27))/LOG(2))))","v":-0.20915797251327431},null,{"$f":"N27","v":21211},{"$f":"COUNTIF(L94:L114,AN27)","v":0},{"$f":"AO27/(AQ4-AO25)","v":0},{"$f":"IF(AP27=0,0,(AP27*((LOG(AP27))/LOG(2))))","v":0},null,{"$f":"N27","v":21211},{"$f":"COUNTIF(L115:L136,AS27)","v":0},{"$f":"AT27/(AV4-AT25)","v":0},{"$f":"IF(AU27=0,0,(AU27*((LOG(AU27))/LOG(2))))","v":0}]
[21,3718,11,3757,22,3766,14,3777,24,3791,0,21212,null,21212,{"$f":"COUNTIF($L$7:$L$500,N28)","v":5},{"$f":"O28/$Q$4","v":3.8461538461538464E-2},{"$f":"IF(P28=0,0,(P28*((LOG(P28))/LOG(2))))","v":-0.18078614300542661},null,null,{"$f":"N28","v":21212},{"$f":"COUNTIF(L7:L28,T28)","v":1},{"$f":"U28/(W4-U25)","v":4.5454545454545456E-2},{"$f":"IF(V28=0,0,(V28*((LOG(V28))/LOG(2))))","v":-0.20270143721078623},null,{"$f":"N28","v":21212},{"$f":"COUNTIF(L29:L49,Y28)","v":2},{"$f":"Z28/(AB4-Z25)","v":9.5238095238095233E-2},{"$f":"IF(AA28=0,0,(AA28*((LOG(AA28))/LOG(2))))","v":-0.32307784978845333},null,{"$f":"N28","v":21212},{"$f":"COUNTIF(L50:L71,AD28)","v":1},{"$f":"AE28/(AG4-AE25)","v":4.7619047619047616E-2},{"$f":"IF(AF28=0,0,(AF28*((LOG(AF28))/LOG(2))))","v":-0.20915797251327431},null,{"$f":"N28","v":21212},{"$f":"COUNTIF(L72:L93,AI28)","v":0},{"$f":"AJ28/(AL4-AJ25)","v":0},{"$f":"IF(AK28=0,0,(AK28*((LOG(AK28))/LOG(2))))","v":0},null,{"$f":"N28","v":21212},{"$f":"COUNTIF(L94:L114,AN28)","v":1},{"$f":"AO28/(AQ4-AO25)","v":0.05},{"$f":"IF(AP28=0,0,(AP28*((LOG(AP28))/LOG(2))))","v":-0.21609640474436814},null,{"$f":"N28","v":21212},{"$f":"COUNTIF(L115:L136,AS28)","v":0},{"$f":"AT28/(AV4-AT25)","v":0},{"$f":"IF(AU28=0,0,(AU28*((LOG(AU28))/LOG(2))))","v":0}]
[12,3916,24,3925,13,3942,23,3955,13,3969,0,12121,null,21221,{"$f":"COUNTIF($L$7:$L$500,N29)","v":1},{"$f":"O29/$Q$4","v":7.6923076923076927E-3},{"$f":"IF(P29=0,0,(P29*((LOG(P29))/LOG(2))))","v":-5.4018213946372733E-2},null,null,{"$f":"N29","v":21221},{"$f":"COUNTIF(L7:L28,T29)","v":0},{"$f":"U29/(W4-U25)","v":0},{"$f":"IF(V29=0,0,(V29*((LOG(V29))/LOG(2))))","v":0},null,{"$f":"N29","v":21221},{"$f":"COUNTIF(L29:L49,Y29)","v":0},{"$f":"Z29/(AB4-Z25)","v":0},{"$f":"IF(AA29=0,0,(AA29*((LOG(AA29))/LOG(2))))","v":0},null,{"$f":"N29","v":21221},{"$f":"COUNTIF(L50:L71,AD29)","v":0},{"$f":"AE29/(AG4-AE25)","v":0},{"$f":"IF(AF29=0,0,(AF29*((LOG(AF29))/LOG(2))))","v":0},null,{"$f":"N29","v":21221},{"$f":"COUNTIF(L72:L93,AI29)","v":0},{"$f":"AJ29/(AL4-AJ25)","v":0},{"$f":"IF(AK29=0,0,(AK29*((LOG(AK29))/LOG(2))))","v":0},null,{"$f":"N29","v":21221},{"$f":"COUNTIF(L94:L114,AN29)","v":0},{"$f":"AO29/(AQ4-AO25)","v":0},{"$f":"IF(AP29=0,0,(AP29*((LOG(AP29))/LOG(2))))","v":0},null,{"$f":"N29","v":21221},{"$f":"COUNTIF(L115:L136,AS29)","v":1},{"$f":"AT29/(AV4-AT25)","v":5.2631578947368418E-2},{"$f":"IF(AU29=0,0,(AU29*((LOG(AU29))/LOG(2))))","v":-0.22357513228650452}]
[12,4098,13,4107,24,4116,23,4136,13,4159,0,11221,null,21222,{"$f":"COUNTIF($L$7:$L$500,N30)","v":2},{"$f":"O30/$Q$4","v":1.5384615384615385E-2},{"$f":"IF(P30=0,0,(P30*((LOG(P30))/LOG(2))))","v":-9.2651812508130066E-2},null,null,{"$f":"N30","v":21222},{"$f":"COUNTIF(L7:L28,T30)","v":0},{"$f":"U30/(W4-U25)","v":0},{"$f":"IF(V30=0,0,(V30*((LOG(V30))/LOG(2))))","v":0},null,{"$f":"N30","v":21222},{"$f":"COUNTIF(L29:L49,Y30)","v":0},{"$f":"Z30/(AB4-Z25)","v":0},{"$f":"IF(AA30=0,0,(AA30*((LOG(AA30))/LOG(2))))","v":0},null,{"$f":"N30","v":21222},{"$f":"COUNTIF(L50:L71,AD30)","v":1},{"$f":"AE30/(AG4-AE25)","v":4.7619047619047616E-2},{"$f":"IF(AF30=0,0,(AF30*((LOG(AF30))/LOG(2))))","v":-0.20915797251327431},null,{"$f":"N30","v":21222},{"$f":"COUNTIF(L72:L93,AI30)","v":0},{"$f":"AJ30/(AL4-AJ25)","v":0},{"$f":"IF(AK30=0,0,(AK30*((LOG(AK30))/LOG(2))))","v":0},null,{"$f":"N30","v":21222},{"$f":"COUNTIF(L94:L114,AN30)","v":0},{"$f":"AO30/(AQ4-AO25)","v":0},{"$f":"IF(AP30=0,0,(AP30*((LOG(AP30))/LOG(2))))","v":0},null,{"$f":"N30","v":21222},{"$f":"COUNTIF(L115:L136,AS30)","v":1},{"$f":"AT30/(AV4-AT25)","v":5.2631578947368418E-2},{"$f":"IF(AU30=0,0,(AU30*((LOG(AU30))/LOG(2))))","v":-0.22357513228650452}]
[12,4291,13,4299,24,4308,14,4320,24,4334,0,11212,null,22111,{"$f":"COUNTIF($L$7:$L$500,N31)","v":0},{"$f":"O31/$Q$4","v":0},{"$f":"IF(P31=0,0,(P31*((LOG(P31))/LOG(2))))","v":0},null,null,{"$f":"N31","v":22111},{"$f":"COUNTIF(L7:L28,T31)","v":0},{"$f":"U31/(W4-U25)","v":0},{"$f":"IF(V31=0,0,(V31*((LOG(V31))/LOG(2))))","v":0},null,{"$f":"N31","v":22111},{"$f":"COUNTIF(L29:L49,Y31)","v":0},{"$f":"Z31/(AB4-Z25)","v":0},{"$f":"IF(AA31=0,0,(AA31*((LOG(AA31))/LOG(2))))","v":0},null,{"$f":"N31","v":22111},{"$f":"COUNTIF(L50:L71,AD31)","v":0},{"$f":"AE31/(AG4-AE25)","v":0},{"$f":"IF(AF31=0,0,(AF31*((LOG(AF31))/LOG(2))))","v":0},null,{"$f":"N31","v":22111},{"$f":"COUNTIF(L72:L93,AI31)","v":0},{"$f":"AJ31/(AL4-AJ25)","v":0},{"$f":"IF(AK31=0,0,(AK31*((LOG(AK31))/LOG(2))))","v":0},null,{"$f":"N31","v":22111},{"$f":"COUNTIF(L94:L114,AN31)","v":0},{"$f":"AO31/(AQ4-AO25)","v":0},{"$f":"IF(AP31=0,0,(AP31*((LOG(AP31))/LOG(2))))","v":0},null,{"$f":"N31","v":22111},{"$f":"COUNTIF(L115:L136,AS31)","v":0},{"$f":"AT31/(AV4-AT25)","v":0},{"$f":"IF(AU31=0,0,(AU31*((LOG(AU31))/LOG(2))))","v":0}]
[12,4440,13,4451,24,4463,14,4474,24,4484,0,11212,null,22112,{"$f":"COUNTIF($L$7:$L$500,N32)","v":0},{"$f":"O32/$Q$4","v":0},{"$f":"IF(P32=0,0,(P32*((LOG(P32))/LOG(2))))","v":0},null,null,{"$f":"N32","v":22112},{"$f":"COUNTIF(L7:L28,T32)","v":0},{"$f":"U32/(W4-U25)","v":0},{"$f":"IF(V32=0,0,(V32*((LOG(V32))/LOG(2))))","v":0},null,{"$f":"N32","v":22112},{"$f":"COUNTIF(L29:L49,Y32)","v":0},{"$f":"Z32/(AB4-Z25)","v":0},{"$f":"IF(AA32=0,0,(AA32*((LOG(AA32))/LOG(2))))","v":0},null,{"$f":"N32","v":22112},{"$f":"COUNTIF(L50:L71,AD32)","v":0},{"$f":"AE32/(AG4-AE25)","v":0},{"$f":"IF(AF32=0,0,(AF32*((LOG(AF32))/LOG(2))))","v":0},null,{"$f":"N32","v":22112},{"$f":"COUNTIF(L72:L93,AI32)","v":0},{"$f":"AJ32/(AL4-AJ25)","v":0},{"$f":"IF(AK32=0,0,(AK32*((LOG(AK32))/LOG(2))))","v":0},null,{"$f":"N32","v":22112},{"$f":"COUNTIF(L94:L114,AN32)","v":0},{"$f":"AO32/(AQ4-AO25)","v":0},{"$f":"IF(AP32=0,0,(AP32*((LOG(AP32))/LOG(2))))","v":0},null,{"$f":"N32","v":22112},{"$f":"COUNTIF(L115:L136,AS32)","v":0},{"$f":"AT32/(AV4-AT25)","v":0},{"$f":"IF(AU32=0,0,(AU32*((LOG(AU32))/LOG(2))))","v":0}]
[21,4588,11,4596,22,4607,14,4623,24,4636,0,21212,null,22121,{"$f":"COUNTIF($L$7:$L$500,N33)","v":3},{"$f":"O33/$Q$4","v":2.3076923076923078E-2},{"$f":"IF(P33=0,0,(P33*((LOG(P33))/LOG(2))))","v":-0.12547858413016844},null,null,{"$f":"N33","v":22121},{"$f":"COUNTIF(L7:L28,T33)","v":0},{"$f":"U33/(W4-U25)","v":0},{"$f":"IF(V33=0,0,(V33*((LOG(V33))/LOG(2))))","v":0},null,{"$f":"N33","v":22121},{"$f":"COUNTIF(L29:L49,Y33)","v":0},{"$f":"Z33/(AB4-Z25)","v":0},{"$f":"IF(AA33=0,0,(AA33*((LOG(AA33))/LOG(2))))","v":0},null,{"$f":"N33","v":22121},{"$f":"COUNTIF(L50:L71,AD33)","v":1},{"$f":"AE33/(AG4-AE25)","v":4.7619047619047616E-2},{"$f":"IF(AF33=0,0,(AF33*((LOG(AF33))/LOG(2))))","v":-0.20915797251327431},null,{"$f":"N33","v":22121},{"$f":"COUNTIF(L72:L93,AI33)","v":0},{"$f":"AJ33/(AL4-AJ25)","v":0},{"$f":"IF(AK33=0,0,(AK33*((LOG(AK33))/LOG(2))))","v":0},null,{"$f":"N33","v":22121},{"$f":"COUNTIF(L94:L114,AN33)","v":2},{"$f":"AO33/(AQ4-AO25)","v":0.1},{"$f":"IF(AP33=0,0,(AP33*((LOG(AP33))/LOG(2))))","v":-0.33219280948873625},null,{"$f":"N33","v":22121},{"$f":"COUNTIF(L115:L136,AS33)","v":0},{"$f":"AT33/(AV4-AT25)","v":0},{"$f":"IF(AU33=0,0,(AU33*((LOG(AU33))/LOG(2))))","v":0}]
[12,4743,24,4753,13,4760,14,4780,13,4794,0,12111,null,22122,{"$f":"COUNTIF($L$7:$L$500,N34)","v":0},{"$f":"O34/$Q$4","v":0},{"$f":"IF(P34=0,0,(P34*((LOG(P34))/LOG(2))))","v":0},null,null,{"$f":"N34","v":22122},{"$f":"COUNTIF(L7:L28,T34)","v":0},{"$f":"U34/(W4-U25)","v":0},{"$f":"IF(V34=0,0,(V34*((LOG(V34))/LOG(2))))","v":0},null,{"$f":"N34","v":22122},{"$f":"COUNTIF(L29:L49,Y34)","v":0},{"$f":"Z34/(AB4-Z25)","v":0},{"$f":"IF(AA34=0,0,(AA34*((LOG(AA34))/LOG(2))))","v":0},null,{"$f":"N34","v":22122},{"$f":"COUNTIF(L50:L71,AD34)","v":0},{"$f":"AE34/(AG4-AE25)","v":0},{"$f":"IF(AF34=0,0,(AF34*((LOG(AF34))/LOG(2))))","v":0},null,{"$f":"N34","v":22122},{"$f":"COUNTIF(L72:L93,AI34)","v":0},{"$f":"AJ34/(AL4-AJ25)","v":0},{"$f":"IF(AK34=0,0,(AK34*((LOG(AK34))/LOG(2))))","v":0},null,{"$f":"N34","v":22122},{"$f":"COUNTIF(L94:L114,AN34)","v":0},{"$f":"AO34/(AQ4-AO25)","v":0},{"$f":"IF(AP34=0,0,(AP34*((LOG(AP34))/LOG(2))))","v":0},null,{"$f":"N34","v":22122},{"$f":"COUNTIF(L115:L136,AS34)","v":0},{"$f":"AT34/(AV4-AT25)","v":0},{"$f":"IF(AU34=0,0,(AU34*((LOG(AU34))/LOG(2))))","v":0}]
[12,4914,13,4931,13,4948,14,4968,13,4998,0,11111,null,22211,{"$f":"COUNTIF($L$7:$L$500,N35)","v":0},{"$f":"O35/$Q$4","v":0},{"$f":"IF(P35=0,0,(P35*((LOG(P35))/LOG(2))))","v":0},null,null,{"$f":"N35","v":22211},{"$f":"COUNTIF(L7:L28,T35)","v":0},{"$f":"U35/(W4-U25)","v":0},{"$f":"IF(V35=0,0,(V35*((LOG(V35))/LOG(2))))","v":0},null,{"$f":"N35","v":22211},{"$f":"COUNTIF(L29:L49,Y35)","v":0},{"$f":"Z35/(AB4-Z25)","v":0},{"$f":"IF(AA35=0,0,(AA35*((LOG(AA35))/LOG(2))))","v":0},null,{"$f":"N35","v":22211},{"$f":"COUNTIF(L50:L71,AD35)","v":0},{"$f":"AE35/(AG4-AE25)","v":0},{"$f":"IF(AF35=0,0,(AF35*((LOG(AF35))/LOG(2))))","v":0},null,{"$f":"N35","v":22211},{"$f":"COUNTIF(L72:L93,AI35)","v":0},{"$f":"AJ35/(AL4-AJ25)","v":0},{"$f":"IF(AK35=0,0,(AK35*((LOG(AK35))/LOG(2))))","v":0},null,{"$f":"N35","v":22211},{"$f":"COUNTIF(L94:L114,AN35)","v":0},{"$f":"AO35/(AQ4-AO25)","v":0},{"$f":"IF(AP35=0,0,(AP35*((LOG(AP35))/LOG(2))))","v":0},null,{"$f":"N35","v":22211},{"$f":"COUNTIF(L115:L136,AS35)","v":0},{"$f":"AT35/(AV4-AT25)","v":0},{"$f":"IF(AU35=0,0,(AU35*((LOG(AU35))/LOG(2))))","v":0}]
[12,5111,13,5123,13,5141,23,5151,13,5163,0,11121,null,22212,{"$f":"COUNTIF($L$7:$L$500,N36)","v":0},{"$f":"O36/$Q$4","v":0},{"$f":"IF(P36=0,0,(P36*((LOG(P36))/LOG(2))))","v":0},null,null,{"$f":"N36","v":22212},{"$f":"COUNTIF(L7:L28,T36)","v":0},{"$f":"U36/(W4-U25)","v":0},{"$f":"IF(V36=0,0,(V36*((LOG(V36))/LOG(2))))","v":0},null,{"$f":"N36","v":22212},{"$f":"COUNTIF(L29:L49,Y36)","v":0},{"$f":"Z36/(AB4-Z25)","v":0},{"$f":"IF(AA36=0,0,(AA36*((LOG(AA36))/LOG(2))))","v":0},null,{"$f":"N36","v":22212},{"$f":"COUNTIF(L50:L71,AD36)","v":0},{"$f":"AE36/(AG4-AE25)","v":0},{"$f":"IF(AF36=0,0,(AF36*((LOG(AF36))/LOG(2))))","v":0},null,{"$f":"N36","v":22212},{"$f":"COUNTIF(L72:L93,AI36)","v":0},{"$f":"AJ36/(AL4-AJ25)","v":0},{"$f":"IF(AK36=0,0,(AK36*((LOG(AK36))/LOG(2))))","v":0},null,{"$f":"N36","v":22212},{"$f":"COUNTIF(L94:L114,AN36)","v":0},{"$f":"AO36/(AQ4-AO25)","v":0},{"$f":"IF(AP36=0,0,(AP36*((LOG(AP36))/LOG(2))))","v":0},null,{"$f":"N36","v":22212},{"$f":"COUNTIF(L115:L136,AS36)","v":0},{"$f":"AT36/(AV4-AT25)","v":0},{"$f":"IF(AU36=0,0,(AU36*((LOG(AU36))/LOG(2))))","v":0}]
[12,5271,24,5282,13,5290,23,5301,13,5313,0,12121,null,22221,{"$f":"COUNTIF($L$7:$L$500,N37)","v":0},{"$f":"O37/$Q$4","v":0},{"$f":"IF(P37=0,0,(P37*((LOG(P37))/LOG(2))))","v":0},null,null,{"$f":"N37","v":22221},{"$f":"COUNTIF(L7:L28,T37)","v":0},{"$f":"U37/(W4-U25)","v":0},{"$f":"IF(V37=0,0,(V37*((LOG(V37))/LOG(2))))","v":0},null,{"$f":"N37","v":22221},{"$f":"COUNTIF(L29:L49,Y37)","v":0},{"$f":"Z37/(AB4-Z25)","v":0},{"$f":"IF(AA37=0,0,(AA37*((LOG(AA37))/LOG(2))))","v":0},null,{"$f":"N37","v":22221},{"$f":"COUNTIF(L50:L71,AD37)","v":0},{"$f":"AE37/(AG4-AE25)","v":0},{"$f":"IF(AF37=0,0,(AF37*((LOG(AF37))/LOG(2))))","v":0},null,{"$f":"N37","v":22221},{"$f":"COUNTIF(L72:L93,AI37)","v":0},{"$f":"AJ37/(AL4-AJ25)","v":0},{"$f":"IF(AK37=0,0,(AK37*((LOG(AK37))/LOG(2))))","v":0},null,{"$f":"N37","v":22221},{"$f":"COUNTIF(L94:L114,AN37)","v":0},{"$f":"AO37/(AQ4-AO25)","v":0},{"$f":"IF(AP37=0,0,(AP37*((LOG(AP37))/LOG(2))))","v":0},null,{"$f":"N37","v":22221},{"$f":"COUNTIF(L115:L136,AS37)","v":0},{"$f":"AT37/(AV4-AT25)","v":0},{"$f":"IF(AU37=0,0,(AU37*((LOG(AU37))/LOG(2))))","v":0}]
[21,5422,11,5439,22,5447,14,5456,24,5469,0,21212,null,22222,{"$f":"COUNTIF($L$7:$L$500,N38)","v":1},{"$f":"O38/$Q$4","v":7.6923076923076927E-3},{"$f":"IF(P38=0,0,(P38*((LOG(P38))/LOG(2))))","v":-5.4018213946372733E-2},null,null,{"$f":"N38","v":22222},{"$f":"COUNTIF(L7:L28,T38)","v":1},{"$f":"U38/(W4-U25)","v":4.5454545454545456E-2},{"$f":"IF(V38=0,0,(V38*((LOG(V38))/LOG(2))))","v":-0.20270143721078623},null,{"$f":"N38","v":22222},{"$f":"COUNTIF(L29:L49,Y38)","v":0},{"$f":"Z38/(AB4-Z25)","v":0},{"$f":"IF(AA38=0,0,(AA38*((LOG(AA38))/LOG(2))))","v":0},null,{"$f":"N38","v":22222},{"$f":"COUNTIF(L50:L71,AD38)","v":0},{"$f":"AE38/(AG4-AE25)","v":0},{"$f":"IF(AF38=0,0,(AF38*((LOG(AF38))/LOG(2))))","v":0},null,{"$f":"N38","v":22222},{"$f":"COUNTIF(L72:L93,AI38)","v":0},{"$f":"AJ38/(AL4-AJ25)","v":0},{"$f":"IF(AK38=0,0,(AK38*((LOG(AK38))/LOG(2))))","v":0},null,{"$f":"N38","v":22222},{"$f":"COUNTIF(L94:L114,AN38)","v":0},{"$f":"AO38/(AQ4-AO25)","v":0},{"$f":"IF(AP38=0,0,(AP38*((LOG(AP38))/LOG(2))))","v":0},null,{"$f":"N38","v":22222},{"$f":"COUNTIF(L115:L136,AS38)","v":0},{"$f":"AT38/(AV4-AT25)","v":0},{"$f":"IF(AU38=0,0,(AU38*((LOG(AU38))/LOG(2))))","v":0}]
[12,5570,13,5589,13,5607,23,5616,13,5625,0,11121,null,null,null,{"$f":"SUM(P7:P38)","v":0.99999999999999989},{"$f":"-SUM(Q7:Q38)","v":3.9696335179515305},null,null,null,null,{"$f":"SUM(V7:V38)","v":0.99999999999999978},{"$f":"-SUM(W7:W38)","v":3.1701348924281927},null,null,null,{"$f":"SUM(AA7:AA38)","v":0.99999999999999989},{"$f":"-SUM(AB7:AB38)","v":3.2321018048454135},null,null,null,{"$f":"SUM(AF7:AF38)","v":1},{"$f":"-SUM(AG7:AG38)","v":3.308751351247166},null,null,null,{"$f":"SUM(AK7:AK38)","v":1},{"$f":"-SUM(AL7:AL38)","v":3.1728107335198641},null,null,null,{"$f":"SUM(AP7:AP38)","v":1.0000000000000002},{"$f":"-SUM(AQ7:AQ38)","v":3.3841837197791889},null,null,null,{"$f":"SUM(AU7:AU38)","v":0.99999999999999978},{"$f":"-SUM(AV7:AV38)","v":3.4316235658474321}]
[12,5742,13,5759,13,5771,14,5790,13,5809,0,11111,null,null,null,"U=",{"$f":"Q39/(LOG(Q4)/LOG(2))","v":0.56528419240398531},null,null,null,null,"U1=",{"$f":"W39/(LOG(W4)/LOG(2))","v":0.71088317156367009},null,null,null,"U2=",{"$f":"AB39/(LOG(AB4)/LOG(2))","v":0.73585342172302592},null,null,null,"U3=",{"$f":"AG39/(LOG(AG4)/LOG(2))","v":0.74196705638873472},null,null,null,"U4=",{"$f":"AL39/(LOG(AL4)/LOG(2))","v":0.711483212403065},null,null,null,"U5=",{"$f":"AQ39/(LOG(AQ4)/LOG(2))","v":0.77047794911830736},null,null,null,"U6=",{"$f":"AV39/(LOG(AV4)/LOG(2))","v":0.76952039168078101}]
[12,5927,13,5956,24,5967,14,5977,13,6005,0,11211]
[12,6132,13,6141,13,6157,23,6166,13,6177,0,11121]
[12,6337,24,6345,24,6355,14,6363,13,6386,0,12211,null,"Total Target Seq"]
[12,6504,13,6540,13,6556,14,6599,24,6609,0,11112,null,{"$f":"COUNTIF(L7:L136,G3)","v":6},null,22,21,22,22,21,22]
[12,6716,13,6727,13,6744,14,6763,24,6775,0,11112,null,null,null,"% of reinforcement given in 6 equal intervals based on number of trials "]
[12,6889,24,6899,13,6912,14,6928,24,6938,0,12112,null,null,null,"%_1","%_2","%_3","%_4","%_5","%_6"]
[12,7059,13,7075,13,7087,23,7096,13,7104,0,11121,null,null,"target sequence",{"$f":"$G$3","v":21121},{"$f":"$G$3","v":21121},{"$f":"$G$3","v":21121},{"$f":"$G$3","v":21121},{"$f":"$G$3","v":21121},{"$f":"$G$3","v":21121}]
[12,7215,13,7251,13,7271,23,7281,13,7292,0,11121,null,null,"total reinforcement",{"$f":"U25","v":0},{"$f":"Z25","v":0},{"$f":"AE25","v":1},{"$f":"AJ25","v":1},{"$f":"AO25","v":1},{"$f":"AT25","v":3}]
[12,7422,13,7430,13,7447,14,7467,24,7481,0,11112,null,null,"% target"]
[21,7588,11,7610,11,7622,21,7633,11,7648,1,21121,null,null,"CCRF"]
[21,7834,11,7845,22,7869,23,7891,24,7901,0,21222,null,null,"% CCRf"]
[12,8007,13,8035,24,8044,14,8053,24,8065,0,11212,null,null,"average response rate",{"$f":"J28/P44","v":172.31818181818181},{"$f":"(J49-J28)/Q44","v":175.71428571428572},{"$f":"(J71-J49)/R44","v":190.63636363636363},{"$f":"(J93-J71)/S44","v":195.09090909090909},{"$f":"(J114-J93)/T44","v":185.14285714285714},{"$f":"(J136-J114)/U44","v":183.31818181818181}]
[12,8182,13,8211,24,8220,14,8240,24,8252,0,11212]
[12,8368,24,8377,13,8386,14,8413,13,8439,0,12111]
[12,8546,13,8556,24,8566,14,8574,24,8587,0,11212]
[12,8708,13,8726,24,8750,14,8763,13,8784,0,11211]
[12,8890,13,8937,24,8958,14,8977,13,9003,0,11211]
[12,9108,13,9121,13,9152,14,9168,24,9178,0,11112]
[21,9318,11,9344,22,9358,14,9370,24,9381,0,21212]
[21,9545,22,9557,13,9573,23,9586,13,9600,0,22121]
[12,9721,24,9730,13,9739,14,9759,24,9768,0,12112]
[21,9877,11,9885,11,9897,12,9917,24,9931,0,21112]
[12,10078,13,10102,13,10129,14,10152,13,10163,0,11111]
[12,10269,13,10286,13,10314,23,10337,24,10388,0,11122]
[12,10493,13,10538,13,10562,23,10600,13,10608,0,11121]
[12,10714,13,10725,24,10735,14,10753,13,10779,0,11211]
[12,10882,13,10893,24,10914,14,10926,24,10937,0,11212]
[12,11067,13,11084,13,11103,14,11115,24,11127,0,11112]
[12,11250,24,11264,13,11273,14,11299,24,11313,0,12112]
[12,11428,13,11441,13,11453,14,11482,24,11494,0,11112]
[12,11608,13,11621,24,11633,14,11652,13,11675,0,11211]
[12,11788,24,11800,13,11808,14,11821,24,11833,0,12112]
[12,11943,13,11959,13,11977,23,11988,13,12010,0,11121]
[21,12125,11,12133,11,12149,12,12174,24,12186,0,21112]
[12,12311,13,12327,13,12339,14,12365,24,12378,0,11112]
[12,12506,13,12523,13,12539,23,12549,13,12558,0,11121]
[12,12671,13,12687,13,12699,14,12718,13,12740,0,11111]
[12,12852,13,12927,13,12944,23,12955,13,12964,0,11121]
[12,13071,13,13088,24,13110,14,13125,13,13146,0,11211]
[12,13268,13,13288,13,13308,14,13331,24,13343,0,11112]
[12,13455,13,13463,13,13480,23,13491,13,13502,0,11121]
[12,13639,24,13648,24,13672,14,13690,13,13702,0,12211]
[12,13821,13,13836,13,13858,14,13885,13,13913,0,11111]
[12,14057,24,14068,13,14077,14,14096,13,14115,0,12111]
[21,14237,11,14261,11,14305,12,14332,13,14372,0,21111]
[12,14499,13,14511,13,14532,14,14551,13,14567,0,11111]
[21,14695,11,14717,11,14733,12,14748,13,14771,0,21111]
[21,14934,11,14951,22,14963,14,14976,13,14987,0,21211]
[12,15100,13,15125,24,15136,14,15150,13,15158,0,11211]
[12,15271,13,15284,13,15296,14,15308,13,15330,0,11111]
[12,15467,13,15483,13,15502,14,15530,13,15553,0,11111]
[12,15691,13,15710,24,15723,14,15778,24,15790,0,11212]
[21,15924,11,15932,11,15944,21,15955,11,15967,1,21121]
[21,16067,11,16076,11,16099,12,16120,13,16143,0,21111]
[12,16255,13,16267,13,16283,14,16302,13,16319,0,11111]
[12,16424,13,16447,24,16459,14,16474,13,16484,0,11211]
[12,16606,13,16618,13,16629,14,16648,13,16697,0,11111]
[12,16804,13,16815,13,16827,14,16839,13,16863,0,11111]
[12,16972,13,16988,13,17007,14,17034,13,17055,0,11111]
[12,17187,13,17199,13,17220,14,17244,24,17257,0,11112]
[12,17358,13,17375,13,17390,23,17410,24,17437,0,11122]
[12,17545,24,17554,13,17571,14,17604,24,17614,0,12112]
[12,17728,24,17752,13,17766,23,17777,13,17786,0,12121]
[12,17931,13,17943,13,17965,23,17974,13,17985,0,11121]
[12,18125,13,18145,24,18157,23,18179,13,18194,0,11221]
[21,18300,11,18308,11,18329,21,18340,11,18351,1,21121]
[21,18451,11,18462,22,18481,14,18497,24,18508,0,21212]
[12,18614,13,18625,24,18651,14,18662,24,18673,0,11212]
[21,18776,22,18818,13,18829,23,18841,13,18852,0,22121]
[12,18977,13,19007,24,19020,14,19035,24,19047,0,11212]
[12,19184,13,19222,24,19257,14,19287,24,19301,0,11212]
[21,19399,22,19419,13,19427,23,19439,13,19450,0,22121]
[12,19567,13,19587,24,19596,14,19609,13,19630,0,11211]
[12,19752,13,19784,13,19809,14,19831,24,19855,0,11112]
[12,19963,13,19993,13,20017,14,20039,24,20050,0,11112]
[21,20177,11,20187,11,20209,21,20220,11,20237,1,21121]
[12,20361,24,20373,24,20382,23,20416,13,20429,0,12221]
[12,20538,13,20555,13,20577,23,20590,13,20610,0,11121]
[21,20772,11,20780,11,20797,12,20817,24,20827,0,21112]
[12,20946,13,20959,13,20988,23,21015,13,21030,0,11121]
[21,21161,11,21170,11,21191,21,21203,22,21217,0,21122]
[12,21325,13,21345,24,21354,14,21363,24,21379,0,11212]
[21,21486,11,21512,22,21524,23,21537,13,21548,0,21221]
[12,21672,24,21685,13,21697,14,21719,24,21732,0,12112]
[12,21841,13,21853,13,21871,14,21896,13,21924,0,11111]
[21,22060,11,22071,11,22101,12,22109,24,22121,0,21112]
[12,22251,24,22262,13,22275,23,22285,13,22295,0,12121]
[21,22420,11,22430,11,22444,21,22454,11,22465,1,21121]
[12,22577,24,22588,13,22599,14,22620,24,22633,0,12112]
[21,22748,11,22759,11,22779,12,22803,13,22850,0,21111]
[21,22955,11,22964,22,22976,23,22984,24,22993,0,21222]
[12,23103,13,23130,13,23153,14,23178,24,23191,0,11112]
[12,23298,13,23309,13,23335,23,23349,13,23367,0,11121]
[12,23472,24,23490,13,23502,23,23514,13,23527,0,12121]
[21,23629,11,23636,11,23653,21,23671,11,23680,1,21121]
[12,23822,24,23848,13,23858,23,23868,13,23888,0,12121]

{"sheet":"!MA15950.010","index":18,"n_rows":135,"n_cols":48,"rows_kept":135,"cut":false,"hidden":false,"merged":[[4,39,4,42],[5,39,5,40],[4,44,4,47],[5,44,5,45],[4,24,4,27],[5,24,5,25],[4,29,4,32],[5,29,5,30],[4,34,4,37],[5,34,5,35],[1,1,1,2],[5,13,5,14],[42,13,42,14],[43,13,43,14],[4,19,4,22],[5,19,5,20]]}
["Report for:!MA15950.010"]
["Date:","<date>"]
["Hen:","<hen>",null,null,null,"Correct Sequence",{"$f":"Start!J2","v":21121},null,null,null,null,null,null,null,null,"Total Sequences in Data",{"$f":"4994-COUNTBLANK(L7:L5000)","v":129},null,null,null,null,"Total Sequences in Block Data",{"$f":"COUNTA(L7:L28)","v":22},null,null,null,"Total Sequences in Block Data",{"$f":"COUNTA(L29:L49)","v":21},null,null,null,"Total Sequences in Block Data",{"$f":"COUNTA(L50:L71)","v":22},null,null,null,"Total Sequences in Block Data",{"$f":"COUNTA(L72:L92)","v":21},null,null,null,"Total Sequences in Block Data",{"$f":"COUNTA(L93:L114)","v":22},null,null,null,"Total Sequences in Block Data",{"$f":"COUNTA(L115:L135)","v":21}]
[null,null,null,null,null,null,null,null,null,null,null,null,null,null,null,"Total Sequences in Summary",{"$f":"SUM(O7:O38)","v":129},null,null,null,null,"Total Sequences in Block Summary",{"$f":"SUM(U7:U38)","v":22},null,null,null,"Total Sequences in Block Summary",{"$f":"SUM(Z7:Z38)","v":21},null,null,null,"Total Sequences in Block Summary",{"$f":"SUM(AE7:AE38)","v":22},null,null,null,"Total Sequences in Block Summary",{"$f":"SUM(AJ7:AJ38)","v":21},null,null,null,"Total Sequences in Block Summary",{"$f":"SUM(AO7:AO38)","v":22},null,null,null,"Total Sequences in Block Summary",{"$f":"SUM(AT7:AT38)","v":21}]
[null,null,null,null,null,null,null,null,null,null,null,null,null,null,null,null,null,null,null,"Block 1",null,null,null,null,"Block 2",null,null,null,null,"Block 3",null,null,null,null,"Block 4",null,null,null,null,"Block 5",null,null,null,null,"Block 6"]
["Sequence\nComponent\n1","Time\n1","Sequence\nComponent\n2","Time\n2","Sequence\nComponent\n3","Time\n3","Sequence\nComponent\n4","Time\n4","Sequence\nComponent\n5","Time\n5","Correct?\n0=No 1=Yes","Sequence",null,"Frequency",null,"Relative Frequency","Variability",null,null,"Frequency",null,"Relative Frequency","Variability",null,"Frequency",null,"Relative Frequency","Variability",null,"Frequency",null,"Relative Frequency","Variability",null,"Frequency",null,"Relative Frequency","Variability",null,"Frequency",null,"Relative Frequency","Variability",null,"Frequency",null,"Relative Frequency","Variability"]
[21,29,22,54,24,95,14,111,24,123,0,22212,null,11111,{"$f":"COUNTIF($L$7:$L$500,N7)","v":15},{"$f":"O7/$Q$4","v":0.11627906976744186},{"$f":"IF(P7=0,0,(P7*((LOG(P7))/LOG(2))))","v":-0.36096937904822501},null,null,{"$f":"N7","v":11111},{"$f":"COUNTIF(L7:L28,T7)","v":0},{"$f":"U7/(W4-U25)","v":0},{"$f":"IF(V7=0,0,(V7*((LOG(V7))/LOG(2))))","v":0},null,{"$f":"N7","v":11111},{"$f":"COUNTIF(L29:L49,Y7)","v":2},{"$f":"Z7/(AB4-Z25)","v":0.1},{"$f":"IF(AA7=0,0,(AA7*((LOG(AA7))/LOG(2))))","v":-0.33219280948873625},null,{"$f":"N7","v":11111},{"$f":"COUNTIF(L50:L71,AD7)","v":8},{"$f":"AE7/(AG4-AE25)","v":0.36363636363636365},{"$f":"IF(AF7=0,0,(AF7*((LOG(AF7))/LOG(2))))","v":-0.53070240677719893},null,{"$f":"N7","v":11111},{"$f":"COUNTIF(L72:L92,AI7)","v":1},{"$f":"AJ7/(AL4-AJ25)","v":0.05},{"$f":"IF(AK7=0,0,(AK7*((LOG(AK7))/LOG(2))))","v":-0.21609640474436814},null,{"$f":"N7","v":11111},{"$f":"COUNTIF(L93:L114,AN7)","v":0},{"$f":"AO7/(AQ4-AO25)","v":0},{"$f":"IF(AP7=0,0,(AP7*((LOG(AP7))/LOG(2))))","v":0},null,{"$f":"N7","v":11111},{"$f":"COUNTIF(L115:L135,AS7)","v":4},{"$f":"AT7/(AV4-AT25)","v":0.21052631578947367},{"$f":"IF(AU7=0,0,(AU7*((LOG(AU7))/LOG(2))))","v":-0.47324789756707064}]
[12,228,13,238,24,261,14,270,24,283,0,11212,null,11112,{"$f":"COUNTIF($L$7:$L$500,N8)","v":8},{"$f":"O8/$Q$4","v":6.2015503875968991E-2},{"$f":"IF(P8=0,0,(P8*((LOG(P8))/LOG(2))))","v":-0.24875827940609332},null,null,{"$f":"N8","v":11112},{"$f":"COUNTIF(L7:L28,T8)","v":0},{"$f":"U8/(W4-U25)","v":0},{"$f":"IF(V8=0,0,(V8*((LOG(V8))/LOG(2))))","v":0},null,{"$f":"N8","v":11112},{"$f":"COUNTIF(L29:L49,Y8)","v":1},{"$f":"Z8/(AB4-Z25)","v":0.05},{"$f":"IF(AA8=0,0,(AA8*((LOG(AA8))/LOG(2))))","v":-0.21609640474436814},null,{"$f":"N8","v":11112},{"$f":"COUNTIF(L50:L71,AD8)","v":0},{"$f":"AE8/(AG4-AE25)","v":0},{"$f":"IF(AF8=0,0,(AF8*((LOG(AF8))/LOG(2))))","v":0},null,{"$f":"N8","v":11112},{"$f":"COUNTIF(L72:L92,AI8)","v":5},{"$f":"AJ8/(AL4-AJ25)","v":0.25},{"$f":"IF(AK8=0,0,(AK8*((LOG(AK8))/LOG(2))))","v":-0.5},null,{"$f":"N8","v":11112},{"$f":"COUNTIF(L93:L114,AN8)","v":1},{"$f":"AO8/(AQ4-AO25)","v":5.2631578947368418E-2},{"$f":"IF(AP8=0,0,(AP8*((LOG(AP8))/LOG(2))))","v":-0.22357513228650452},null,{"$f":"N8","v":11112},{"$f":"COUNTIF(L115:L135,AS8)","v":1},{"$f":"AT8/(AV4-AT25)","v":5.2631578947368418E-2},{"$f":"IF(AU8=0,0,(AU8*((LOG(AU8))/LOG(2))))","v":-0.22357513228650452}]
[12,410,24,420,24,451,23,480,13,497,0,12221,null,11121,{"$f":"COUNTIF($L$7:$L$500,N9)","v":12},{"$f":"O9/$Q$4","v":9.3023255813953487E-2},{"$f":"IF(P9=0,0,(P9*((LOG(P9))/LOG(2))))","v":-0.31872230276298585},null,null,{"$f":"N9","v":11121},{"$f":"COUNTIF(L7:L28,T9)","v":4},{"$f":"U9/(W4-U25)","v":0.2},{"$f":"IF(V9=0,0,(V9*((LOG(V9))/LOG(2))))","v":-0.46438561897747244},null,{"$f":"N9","v":11121},{"$f":"COUNTIF(L29:L49,Y9)","v":2},{"$f":"Z9/(AB4-Z25)","v":0.1},{"$f":"IF(AA9=0,0,(AA9*((LOG(AA9))/LOG(2))))","v":-0.33219280948873625},null,{"$f":"N9","v":11121},{"$f":"COUNTIF(L50:L71,AD9)","v":3},{"$f":"AE9/(AG4-AE25)","v":0.13636363636363635},{"$f":"IF(AF9=0,0,(AF9*((LOG(AF9))/LOG(2))))","v":-0.39197306153401923},null,{"$f":"N9","v":11121},{"$f":"COUNTIF(L72:L92,AI9)","v":1},{"$f":"AJ9/(AL4-AJ25)","v":0.05},{"$f":"IF(AK9=0,0,(AK9*((LOG(AK9))/LOG(2))))","v":-0.21609640474436814},null,{"$f":"N9","v":11121},{"$f":"COUNTIF(L93:L114,AN9)","v":1},{"$f":"AO9/(AQ4-AO25)","v":5.2631578947368418E-2},{"$f":"IF(AP9=0,0,(AP9*((LOG(AP9))/LOG(2))))","v":-0.22357513228650452},null,{"$f":"N9","v":11121},{"$f":"COUNTIF(L115:L135,AS9)","v":1},{"$f":"AT9/(AV4-AT25)","v":5.2631578947368418E-2},{"$f":"IF(AU9=0,0,(AU9*((LOG(AU9))/LOG(2))))","v":-0.22357513228650452}]
[12,606,13,618,24,627,14,636,24,649,0,11212,null,11122,{"$f":"COUNTIF($L$7:$L$500,N10)","v":4},{"$f":"O10/$Q$4","v":3.1007751937984496E-2},{"$f":"IF(P10=0,0,(P10*((LOG(P10))/LOG(2))))","v":-0.15538689164103112},null,null,{"$f":"N10","v":11122},{"$f":"COUNTIF(L7:L28,T10)","v":1},{"$f":"U10/(W4-U25)","v":0.05},{"$f":"IF(V10=0,0,(V10*((LOG(V10))/LOG(2))))","v":-0.21609640474436814},null,{"$f":"N10","v":11122},{"$f":"COUNTIF(L29:L49,Y10)","v":1},{"$f":"Z10/(AB4-Z25)","v":0.05},{"$f":"IF(AA10=0,0,(AA10*((LOG(AA10))/LOG(2))))","v":-0.21609640474436814},null,{"$f":"N10","v":11122},{"$f":"COUNTIF(L50:L71,AD10)","v":1},{"$f":"AE10/(AG4-AE25)","v":4.5454545454545456E-2},{"$f":"IF(AF10=0,0,(AF10*((LOG(AF10))/LOG(2))))","v":-0.20270143721078623},null,{"$f":"N10","v":11122},{"$f":"COUNTIF(L72:L92,AI10)","v":0},{"$f":"AJ10/(AL4-AJ25)","v":0},{"$f":"IF(AK10=0,0,(AK10*((LOG(AK10))/LOG(2))))","v":0},null,{"$f":"N10","v":11122},{"$f":"COUNTIF(L93:L114,AN10)","v":0},{"$f":"AO10/(AQ4-AO25)","v":0},{"$f":"IF(AP10=0,0,(AP10*((LOG(AP10))/LOG(2))))","v":0},null,{"$f":"N10","v":11122},{"$f":"COUNTIF(L115:L135,AS10)","v":1},{"$f":"AT10/(AV4-AT25)","v":5.2631578947368418E-2},{"$f":"IF(AU10=0,0,(AU10*((LOG(AU10))/LOG(2))))","v":-0.22357513228650452}]
[21,748,11,765,22,776,14,786,24,800,0,21212,null,11211,{"$f":"COUNTIF($L$7:$L$500,N11)","v":8},{"$f":"O11/$Q$4","v":6.2015503875968991E-2},{"$f":"IF(P11=0,0,(P11*((LOG(P11))/LOG(2))))","v":-0.24875827940609332},null,null,{"$f":"N11","v":11211},{"$f":"COUNTIF(L7:L28,T11)","v":1},{"$f":"U11/(W4-U25)","v":0.05},{"$f":"IF(V11=0,0,(V11*((LOG(V11))/LOG(2))))","v":-0.21609640474436814},null,{"$f":"N11","v":11211},{"$f":"COUNTIF(L29:L49,Y11)","v":1},{"$f":"Z11/(AB4-Z25)","v":0.05},{"$f":"IF(AA11=0,0,(AA11*((LOG(AA11))/LOG(2))))","v":-0.21609640474436814},null,{"$f":"N11","v":11211},{"$f":"COUNTIF(L50:L71,AD11)","v":0},{"$f":"AE11/(AG4-AE25)","v":0},{"$f":"IF(AF11=0,0,(AF11*((LOG(AF11))/LOG(2))))","v":0},null,{"$f":"N11","v":11211},{"$f":"COUNTIF(L72:L92,AI11)","v":4},{"$f":"AJ11/(AL4-AJ25)","v":0.2},{"$f":"IF(AK11=0,0,(AK11*((LOG(AK11))/LOG(2))))","v":-0.46438561897747244},null,{"$f":"N11","v":11211},{"$f":"COUNTIF(L93:L114,AN11)","v":2},{"$f":"AO11/(AQ4-AO25)","v":0.10526315789473684},{"$f":"IF(AP11=0,0,(AP11*((LOG(AP11))/LOG(2))))","v":-0.34188710667827216},null,{"$f":"N11","v":11211},{"$f":"COUNTIF(L115:L135,AS11)","v":0},{"$f":"AT11/(AV4-AT25)","v":0},{"$f":"IF(AU11=0,0,(AU11*((LOG(AU11))/LOG(2))))","v":0}]
[12,918,13,935,13,953,23,966,13,983,0,11121,null,11212,{"$f":"COUNTIF($L$7:$L$500,N12)","v":8},{"$f":"O12/$Q$4","v":6.2015503875968991E-2},{"$f":"IF(P12=0,0,(P12*((LOG(P12))/LOG(2))))","v":-0.24875827940609332},null,null,{"$f":"N12","v":11212},{"$f":"COUNTIF(L7:L28,T12)","v":3},{"$f":"U12/(W4-U25)","v":0.15},{"$f":"IF(V12=0,0,(V12*((LOG(V12))/LOG(2))))","v":-0.41054483912493089},null,{"$f":"N12","v":11212},{"$f":"COUNTIF(L29:L49,Y12)","v":2},{"$f":"Z12/(AB4-Z25)","v":0.1},{"$f":"IF(AA12=0,0,(AA12*((LOG(AA12))/LOG(2))))","v":-0.33219280948873625},null,{"$f":"N12","v":11212},{"$f":"COUNTIF(L50:L71,AD12)","v":0},{"$f":"AE12/(AG4-AE25)","v":0},{"$f":"IF(AF12=0,0,(AF12*((LOG(AF12))/LOG(2))))","v":0},null,{"$f":"N12","v":11212},{"$f":"COUNTIF(L72:L92,AI12)","v":0},{"$f":"AJ12/(AL4-AJ25)","v":0},{"$f":"IF(AK12=0,0,(AK12*((LOG(AK12))/LOG(2))))","v":0},null,{"$f":"N12","v":11212},{"$f":"COUNTIF(L93:L114,AN12)","v":2},{"$f":"AO12/(AQ4-AO25)","v":0.10526315789473684},{"$f":"IF(AP12=0,0,(AP12*((LOG(AP12))/LOG(2))))","v":-0.34188710667827216},null,{"$f":"N12","v":11212},{"$f":"COUNTIF(L115:L135,AS12)","v":1},{"$f":"AT12/(AV4-AT25)","v":5.2631578947368418E-2},{"$f":"IF(AU12=0,0,(AU12*((LOG(AU12))/LOG(2))))","v":-0.22357513228650452}]
[12,1126,13,1148,24,1158,14,1167,24,1181,0,11212,null,11221,{"$f":"COUNTIF($L$7:$L$500,N13)","v":0},{"$f":"O13/$Q$4","v":0},{"$f":"IF(P13=0,0,(P13*((LOG(P13))/LOG(2))))","v":0},null,null,{"$f":"N13","v":11221},{"$f":"COUNTIF(L7:L28,T13)","v":0},{"$f":"U13/(W4-U25)","v":0},{"$f":"IF(V13=0,0,(V13*((LOG(V13))/LOG(2))))","v":0},null,{"$f":"N13","v":11221},{"$f":"COUNTIF(L29:L49,Y13)","v":0},{"$f":"Z13/(AB4-Z25)","v":0},{"$f":"IF(AA13=0,0,(AA13*((LOG(AA13))/LOG(2))))","v":0},null,{"$f":"N13","v":11221},{"$f":"COUNTIF(L50:L71,AD13)","v":0},{"$f":"AE13/(AG4-AE25)","v":0},{"$f":"IF(AF13=0,0,(AF13*((LOG(AF13))/LOG(2))))","v":0},null,{"$f":"N13","v":11221},{"$f":"COUNTIF(L72:L92,AI13)","v":0},{"$f":"AJ13/(AL4-AJ25)","v":0},{"$f":"IF(AK13=0,0,(AK13*((LOG(AK13))/LOG(2))))","v":0},null,{"$f":"N13","v":11221},{"$f":"COUNTIF(L93:L114,AN13)","v":0},{"$f":"AO13/(AQ4-AO25)","v":0},{"$f":"IF(AP13=0,0,(AP13*((LOG(AP13))/LOG(2))))","v":0},null,{"$f":"N13","v":11221},{"$f":"COUNTIF(L115:L135,AS13)","v":0},{"$f":"AT13/(AV4-AT25)","v":0},{"$f":"IF(AU13=0,0,(AU13*((LOG(AU13))/LOG(2))))","v":0}]
[21,1281,11,1298,11,1315,21,1327,22,1351,0,21122,null,11222,{"$f":"COUNTIF($L$7:$L$500,N14)","v":1},{"$f":"O14/$Q$4","v":7.7519379844961239E-3},{"$f":"IF(P14=0,0,(P14*((LOG(P14))/LOG(2))))","v":-5.435059887925002E-2},null,null,{"$f":"N14","v":11222},{"$f":"COUNTIF(L7:L28,T14)","v":0},{"$f":"U14/(W4-U25)","v":0},{"$f":"IF(V14=0,0,(V14*((LOG(V14))/LOG(2))))","v":0},null,{"$f":"N14","v":11222},{"$f":"COUNTIF(L29:L49,Y14)","v":1},{"$f":"Z14/(AB4-Z25)","v":0.05},{"$f":"IF(AA14=0,0,(AA14*((LOG(AA14))/LOG(2))))","v":-0.21609640474436814},null,{"$f":"N14","v":11222},{"$f":"COUNTIF(L50:L71,AD14)","v":0},{"$f":"AE14/(AG4-AE25)","v":0},{"$f":"IF(AF14=0,0,(AF14*((LOG(AF14))/LOG(2))))","v":0},null,{"$f":"N14","v":11222},{"$f":"COUNTIF(L72:L92,AI14)","v":0},{"$f":"AJ14/(AL4-AJ25)","v":0},{"$f":"IF(AK14=0,0,(AK14*((LOG(AK14))/LOG(2))))","v":0},null,{"$f":"N14","v":11222},{"$f":"COUNTIF(L93:L114,AN14)","v":0},{"$f":"AO14/(AQ4-AO25)","v":0},{"$f":"IF(AP14=0,0,(AP14*((LOG(AP14))/LOG(2))))","v":0},null,{"$f":"N14","v":11222},{"$f":"COUNTIF(L115:L135,AS14)","v":0},{"$f":"AT14/(AV4-AT25)","v":0},{"$f":"IF(AU14=0,0,(AU14*((LOG(AU14))/LOG(2))))","v":0}]
[21,1467,11,1479,11,1504,21,1517,22,1545,0,21122,null,12111,{"$f":"COUNTIF($L$7:$L$500,N15)","v":3},{"$f":"O15/$Q$4","v":2.3255813953488372E-2},{"$f":"IF(P15=0,0,(P15*((LOG(P15))/LOG(2))))","v":-0.12619220359772321},null,null,{"$f":"N15","v":12111},{"$f":"COUNTIF(L7:L28,T15)","v":0},{"$f":"U15/(W4-U25)","v":0},{"$f":"IF(V15=0,0,(V15*((LOG(V15))/LOG(2))))","v":0},null,{"$f":"N15","v":12111},{"$f":"COUNTIF(L29:L49,Y15)","v":0},{"$f":"Z15/(AB4-Z25)","v":0},{"$f":"IF(AA15=0,0,(AA15*((LOG(AA15))/LOG(2))))","v":0},null,{"$f":"N15","v":12111},{"$f":"COUNTIF(L50:L71,AD15)","v":2},{"$f":"AE15/(AG4-AE25)","v":9.0909090909090912E-2},{"$f":"IF(AF15=0,0,(AF15*((LOG(AF15))/LOG(2))))","v":-0.31449378351248153},null,{"$f":"N15","v":12111},{"$f":"COUNTIF(L72:L92,AI15)","v":0},{"$f":"AJ15/(AL4-AJ25)","v":0},{"$f":"IF(AK15=0,0,(AK15*((LOG(AK15))/LOG(2))))","v":0},null,{"$f":"N15","v":12111},{"$f":"COUNTIF(L93:L114,AN15)","v":0},{"$f":"AO15/(AQ4-AO25)","v":0},{"$f":"IF(AP15=0,0,(AP15*((LOG(AP15))/LOG(2))))","v":0},null,{"$f":"N15","v":12111},{"$f":"COUNTIF(L115:L135,AS15)","v":1},{"$f":"AT15/(AV4-AT25)","v":5.2631578947368418E-2},{"$f":"IF(AU15=0,0,(AU15*((LOG(AU15))/LOG(2))))","v":-0.22357513228650452}]
[12,1652,13,1669,13,1679,23,1688,13,1699,0,11121,null,12112,{"$f":"COUNTIF($L$7:$L$500,N16)","v":2},{"$f":"O16/$Q$4","v":1.5503875968992248E-2},{"$f":"IF(P16=0,0,(P16*((LOG(P16))/LOG(2))))","v":-9.3197321789507806E-2},null,null,{"$f":"N16","v":12112},{"$f":"COUNTIF(L7:L28,T16)","v":0},{"$f":"U16/(W4-U25)","v":0},{"$f":"IF(V16=0,0,(V16*((LOG(V16))/LOG(2))))","v":0},null,{"$f":"N16","v":12112},{"$f":"COUNTIF(L29:L49,Y16)","v":0},{"$f":"Z16/(AB4-Z25)","v":0},{"$f":"IF(AA16=0,0,(AA16*((LOG(AA16))/LOG(2))))","v":0},null,{"$f":"N16","v":12112},{"$f":"COUNTIF(L50:L71,AD16)","v":1},{"$f":"AE16/(AG4-AE25)","v":4.5454545454545456E-2},{"$f":"IF(AF16=0,0,(AF16*((LOG(AF16))/LOG(2))))","v":-0.20270143721078623},null,{"$f":"N16","v":12112},{"$f":"COUNTIF(L72:L92,AI16)","v":0},{"$f":"AJ16/(AL4-AJ25)","v":0},{"$f":"IF(AK16=0,0,(AK16*((LOG(AK16))/LOG(2))))","v":0},null,{"$f":"N16","v":12112},{"$f":"COUNTIF(L93:L114,AN16)","v":1},{"$f":"AO16/(AQ4-AO25)","v":5.2631578947368418E-2},{"$f":"IF(AP16=0,0,(AP16*((LOG(AP16))/LOG(2))))","v":-0.22357513228650452},null,{"$f":"N16","v":12112},{"$f":"COUNTIF(L115:L135,AS16)","v":0},{"$f":"AT16/(AV4-AT25)","v":0},{"$f":"IF(AU16=0,0,(AU16*((LOG(AU16))/LOG(2))))","v":0}]
[12,1835,13,1856,24,1867,14,1878,13,1883,0,11211,null,12121,{"$f":"COUNTIF($L$7:$L$500,N17)","v":7},{"$f":"O17/$Q$4","v":5.4263565891472867E-2},{"$f":"IF(P17=0,0,(P17*((LOG(P17))/LOG(2))))","v":-0.22811710336092675},null,null,{"$f":"N17","v":12121},{"$f":"COUNTIF(L7:L28,T17)","v":0},{"$f":"U17/(W4-U25)","v":0},{"$f":"IF(V17=0,0,(V17*((LOG(V17))/LOG(2))))","v":0},null,{"$f":"N17","v":12121},{"$f":"COUNTIF(L29:L49,Y17)","v":2},{"$f":"Z17/(AB4-Z25)","v":0.1},{"$f":"IF(AA17=0,0,(AA17*((LOG(AA17))/LOG(2))))","v":-0.33219280948873625},null,{"$f":"N17","v":12121},{"$f":"COUNTIF(L50:L71,AD17)","v":0},{"$f":"AE17/(AG4-AE25)","v":0},{"$f":"IF(AF17=0,0,(AF17*((LOG(AF17))/LOG(2))))","v":0},null,{"$f":"N17","v":12121},{"$f":"COUNTIF(L72:L92,AI17)","v":2},{"$f":"AJ17/(AL4-AJ25)","v":0.1},{"$f":"IF(AK17=0,0,(AK17*((LOG(AK17))/LOG(2))))","v":-0.33219280948873625},null,{"$f":"N17","v":12121},{"$f":"COUNTIF(L93:L114,AN17)","v":3},{"$f":"AO17/(AQ4-AO25)","v":0.15789473684210525},{"$f":"IF(AP17=0,0,(AP17*((LOG(AP17))/LOG(2))))","v":-0.42046815990354147},null,{"$f":"N17","v":12121},{"$f":"COUNTIF(L115:L135,AS17)","v":0},{"$f":"AT17/(AV4-AT25)","v":0},{"$f":"IF(AU17=0,0,(AU17*((LOG(AU17))/LOG(2))))","v":0}]
[12,1994,13,2007,13,2024,23,2033,13,2047,0,11121,null,12122,{"$f":"COUNTIF($L$7:$L$500,N18)","v":1},{"$f":"O18/$Q$4","v":7.7519379844961239E-3},{"$f":"IF(P18=0,0,(P18*((LOG(P18))/LOG(2))))","v":-5.435059887925002E-2},null,null,{"$f":"N18","v":12122},{"$f":"COUNTIF(L7:L28,T18)","v":0},{"$f":"U18/(W4-U25)","v":0},{"$f":"IF(V18=0,0,(V18*((LOG(V18))/LOG(2))))","v":0},null,{"$f":"N18","v":12122},{"$f":"COUNTIF(L29:L49,Y18)","v":1},{"$f":"Z18/(AB4-Z25)","v":0.05},{"$f":"IF(AA18=0,0,(AA18*((LOG(AA18))/LOG(2))))","v":-0.21609640474436814},null,{"$f":"N18","v":12122},{"$f":"COUNTIF(L50:L71,AD18)","v":0},{"$f":"AE18/(AG4-AE25)","v":0},{"$f":"IF(AF18=0,0,(AF18*((LOG(AF18))/LOG(2))))","v":0},null,{"$f":"N18","v":12122},{"$f":"COUNTIF(L72:L92,AI18)","v":0},{"$f":"AJ18/(AL4-AJ25)","v":0},{"$f":"IF(AK18=0,0,(AK18*((LOG(AK18))/LOG(2))))","v":0},null,{"$f":"N18","v":12122},{"$f":"COUNTIF(L93:L114,AN18)","v":0},{"$f":"AO18/(AQ4-AO25)","v":0},{"$f":"IF(AP18=0,0,(AP18*((LOG(AP18))/LOG(2))))","v":0},null,{"$f":"N18","v":12122},{"$f":"COUNTIF(L115:L135,AS18)","v":0},{"$f":"AT18/(AV4-AT25)","v":0},{"$f":"IF(AU18=0,0,(AU18*((LOG(AU18))/LOG(2))))","v":0}]
[21,2180,11,2190,11,2219,12,2243,24,2258,0,21112,null,12211,{"$f":"COUNTIF($L$7:$L$500,N19)","v":1},{"$f":"O19/$Q$4","v":7.7519379844961239E-3},{"$f":"IF(P19=0,0,(P19*((LOG(P19))/LOG(2))))","v":-5.435059887925002E-2},null,null,{"$f":"N19","v":12211},{"$f":"COUNTIF(L7:L28,T19)","v":0},{"$f":"U19/(W4-U25)","v":0},{"$f":"IF(V19=0,0,(V19*((LOG(V19))/LOG(2))))","v":0},null,{"$f":"N19","v":12211},{"$f":"COUNTIF(L29:L49,Y19)","v":0},{"$f":"Z19/(AB4-Z25)","v":0},{"$f":"IF(AA19=0,0,(AA19*((LOG(AA19))/LOG(2))))","v":0},null,{"$f":"N19","v":12211},{"$f":"COUNTIF(L50:L71,AD19)","v":0},{"$f":"AE19/(AG4-AE25)","v":0},{"$f":"IF(AF19=0,0,(AF19*((LOG(AF19))/LOG(2))))","v":0},null,{"$f":"N19","v":12211},{"$f":"COUNTIF(L72:L92,AI19)","v":0},{"$f":"AJ19/(AL4-AJ25)","v":0},{"$f":"IF(AK19=0,0,(AK19*((LOG(AK19))/LOG(2))))","v":0},null,{"$f":"N19","v":12211},{"$f":"COUNTIF(L93:L114,AN19)","v":1},{"$f":"AO19/(AQ4-AO25)","v":5.2631578947368418E-2},{"$f":"IF(AP19=0,0,(AP19*((LOG(AP19))/LOG(2))))","v":-0.22357513228650452},null,{"$f":"N19","v":12211},{"$f":"COUNTIF(L115:L135,AS19)","v":0},{"$f":"AT19/(AV4-AT25)","v":0},{"$f":"IF(AU19=0,0,(AU19*((LOG(AU19))/LOG(2))))","v":0}]
[21,2361,11,2371,22,2383,14,2392,24,2405,0,21212,null,12212,{"$f":"COUNTIF($L$7:$L$500,N20)","v":2},{"$f":"O20/$Q$4","v":1.5503875968992248E-2},{"$f":"IF(P20=0,0,(P20*((LOG(P20))/LOG(2))))","v":-9.3197321789507806E-2},null,null,{"$f":"N20","v":12212},{"$f":"COUNTIF(L7:L28,T20)","v":0},{"$f":"U20/(W4-U25)","v":0},{"$f":"IF(V20=0,0,(V20*((LOG(V20))/LOG(2))))","v":0},null,{"$f":"N20","v":12212},{"$f":"COUNTIF(L29:L49,Y20)","v":2},{"$f":"Z20/(AB4-Z25)","v":0.1},{"$f":"IF(AA20=0,0,(AA20*((LOG(AA20))/LOG(2))))","v":-0.33219280948873625},null,{"$f":"N20","v":12212},{"$f":"COUNTIF(L50:L71,AD20)","v":0},{"$f":"AE20/(AG4-AE25)","v":0},{"$f":"IF(AF20=0,0,(AF20*((LOG(AF20))/LOG(2))))","v":0},null,{"$f":"N20","v":12212},{"$f":"COUNTIF(L72:L92,AI20)","v":0},{"$f":"AJ20/(AL4-AJ25)","v":0},{"$f":"IF(AK20=0,0,(AK20*((LOG(AK20))/LOG(2))))","v":0},null,{"$f":"N20","v":12212},{"$f":"COUNTIF(L93:L114,AN20)","v":0},{"$f":"AO20/(AQ4-AO25)","v":0},{"$f":"IF(AP20=0,0,(AP20*((LOG(AP20))/LOG(2))))","v":0},null,{"$f":"N20","v":12212},{"$f":"COUNTIF(L115:L135,AS20)","v":0},{"$f":"AT20/(AV4-AT25)","v":0},{"$f":"IF(AU20=0,0,(AU20*((LOG(AU20))/LOG(2))))","v":0}]
[21,2505,11,2514,22,2525,14,2535,24,2545,0,21212,null,12221,{"$f":"COUNTIF($L$7:$L$500,N21)","v":2},{"$f":"O21/$Q$4","v":1.5503875968992248E-2},{"$f":"IF(P21=0,0,(P21*((LOG(P21))/LOG(2))))","v":-9.3197321789507806E-2},null,null,{"$f":"N21","v":12221},{"$f":"COUNTIF(L7:L28,T21)","v":1},{"$f":"U21/(W4-U25)","v":0.05},{"$f":"IF(V21=0,0,(V21*((LOG(V21))/LOG(2))))","v":-0.21609640474436814},null,{"$f":"N21","v":12221},{"$f":"COUNTIF(L29:L49,Y21)","v":1},{"$f":"Z21/(AB4-Z25)","v":0.05},{"$f":"IF(AA21=0,0,(AA21*((LOG(AA21))/LOG(2))))","v":-0.21609640474436814},null,{"$f":"N21","v":12221},{"$f":"COUNTIF(L50:L71,AD21)","v":0},{"$f":"AE21/(AG4-AE25)","v":0},{"$f":"IF(AF21=0,0,(AF21*((LOG(AF21))/LOG(2))))","v":0},null,{"$f":"N21","v":12221},{"$f":"COUNTIF(L72:L92,AI21)","v":0},{"$f":"AJ21/(AL4-AJ25)","v":0},{"$f":"IF(AK21=0,0,(AK21*((LOG(AK21))/LOG(2))))","v":0},null,{"$f":"N21","v":12221},{"$f":"COUNTIF(L93:L114,AN21)","v":0},{"$f":"AO21/(AQ4-AO25)","v":0},{"$f":"IF(AP21=0,0,(AP21*((LOG(AP21))/LOG(2))))","v":0},null,{"$f":"N21","v":12221},{"$f":"COUNTIF(L115:L135,AS21)","v":0},{"$f":"AT21/(AV4-AT25)","v":0},{"$f":"IF(AU21=0,0,(AU21*((LOG(AU21))/LOG(2))))","v":0}]
[12,2660,13,2673,13,2703,23,2716,24,2746,0,11122,null,12222,{"$f":"COUNTIF($L$7:$L$500,N22)","v":1},{"$f":"O22/$Q$4","v":7.7519379844961239E-3},{"$f":"IF(P22=0,0,(P22*((LOG(P22))/LOG(2))))","v":-5.435059887925002E-2},null,null,{"$f":"N22","v":12222},{"$f":"COUNTIF(L7:L28,T22)","v":0},{"$f":"U22/(W4-U25)","v":0},{"$f":"IF(V22=0,0,(V22*((LOG(V22))/LOG(2))))","v":0},null,{"$f":"N22","v":12222},{"$f":"COUNTIF(L29:L49,Y22)","v":1},{"$f":"Z22/(AB4-Z25)","v":0.05},{"$f":"IF(AA22=0,0,(AA22*((LOG(AA22))/LOG(2))))","v":-0.21609640474436814},null,{"$f":"N22","v":12222},{"$f":"COUNTIF(L50:L71,AD22)","v":0},{"$f":"AE22/(AG4-AE25)","v":0},{"$f":"IF(AF22=0,0,(AF22*((LOG(AF22))/LOG(2))))","v":0},null,{"$f":"N22","v":12222},{"$f":"COUNTIF(L72:L92,AI22)","v":0},{"$f":"AJ22/(AL4-AJ25)","v":0},{"$f":"IF(AK22=0,0,(AK22*((LOG(AK22))/LOG(2))))","v":0},null,{"$f":"N22","v":12222},{"$f":"COUNTIF(L93:L114,AN22)","v":0},{"$f":"AO22/(AQ4-AO25)","v":0},{"$f":"IF(AP22=0,0,(AP22*((LOG(AP22))/LOG(2))))","v":0},null,{"$f":"N22","v":12222},{"$f":"COUNTIF(L115:L135,AS22)","v":0},{"$f":"AT22/(AV4-AT25)","v":0},{"$f":"IF(AU22=0,0,(AU22*((LOG(AU22))/LOG(2))))","v":0}]
[21,2851,11,2860,22,2870,14,2886,24,2899,0,21212,null,21111,{"$f":"COUNTIF($L$7:$L$500,N23)","v":11},{"$f":"O23/$Q$4","v":8.5271317829457363E-2},{"$f":"IF(P23=0,0,(P23*((LOG(P23))/LOG(2))))","v":-0.3028662946096552},null,null,{"$f":"N23","v":21111},{"$f":"COUNTIF(L7:L28,T23)","v":0},{"$f":"U23/(W4-U25)","v":0},{"$f":"IF(V23=0,0,(V23*((LOG(V23))/LOG(2))))","v":0},null,{"$f":"N23","v":21111},{"$f":"COUNTIF(L29:L49,Y23)","v":0},{"$f":"Z23/(AB4-Z25)","v":0},{"$f":"IF(AA23=0,0,(AA23*((LOG(AA23))/LOG(2))))","v":0},null,{"$f":"N23","v":21111},{"$f":"COUNTIF(L50:L71,AD23)","v":1},{"$f":"AE23/(AG4-AE25)","v":4.5454545454545456E-2},{"$f":"IF(AF23=0,0,(AF23*((LOG(AF23))/LOG(2))))","v":-0.20270143721078623},null,{"$f":"N23","v":21111},{"$f":"COUNTIF(L72:L92,AI23)","v":4},{"$f":"AJ23/(AL4-AJ25)","v":0.2},{"$f":"IF(AK23=0,0,(AK23*((LOG(AK23))/LOG(2))))","v":-0.46438561897747244},null,{"$f":"N23","v":21111},{"$f":"COUNTIF(L93:L114,AN23)","v":2},{"$f":"AO23/(AQ4-AO25)","v":0.10526315789473684},{"$f":"IF(AP23=0,0,(AP23*((LOG(AP23))/LOG(2))))","v":-0.34188710667827216},null,{"$f":"N23","v":21111},{"$f":"COUNTIF(L115:L135,AS23)","v":4},{"$f":"AT23/(AV4-AT25)","v":0.21052631578947367},{"$f":"IF(AU23=0,0,(AU23*((LOG(AU23))/LOG(2))))","v":-0.47324789756707064}]
[21,2998,22,3014,13,3023,23,3032,13,3048,0,22121,null,21112,{"$f":"COUNTIF($L$7:$L$500,N24)","v":5},{"$f":"O24/$Q$4","v":3.875968992248062E-2},{"$f":"IF(P24=0,0,(P24*((LOG(P24))/LOG(2))))","v":-0.18175578141611984},null,null,{"$f":"N24","v":21112},{"$f":"COUNTIF(L7:L28,T24)","v":1},{"$f":"U24/(W4-U25)","v":0.05},{"$f":"IF(V24=0,0,(V24*((LOG(V24))/LOG(2))))","v":-0.21609640474436814},null,{"$f":"N24","v":21112},{"$f":"COUNTIF(L29:L49,Y24)","v":0},{"$f":"Z24/(AB4-Z25)","v":0},{"$f":"IF(AA24=0,0,(AA24*((LOG(AA24))/LOG(2))))","v":0},null,{"$f":"N24","v":21112},{"$f":"COUNTIF(L50:L71,AD24)","v":1},{"$f":"AE24/(AG4-AE25)","v":4.5454545454545456E-2},{"$f":"IF(AF24=0,0,(AF24*((LOG(AF24))/LOG(2))))","v":-0.20270143721078623},null,{"$f":"N24","v":21112},{"$f":"COUNTIF(L72:L92,AI24)","v":1},{"$f":"AJ24/(AL4-AJ25)","v":0.05},{"$f":"IF(AK24=0,0,(AK24*((LOG(AK24))/LOG(2))))","v":-0.21609640474436814},null,{"$f":"N24","v":21112},{"$f":"COUNTIF(L93:L114,AN24)","v":1},{"$f":"AO24/(AQ4-AO25)","v":5.2631578947368418E-2},{"$f":"IF(AP24=0,0,(AP24*((LOG(AP24))/LOG(2))))","v":-0.22357513228650452},null,{"$f":"N24","v":21112},{"$f":"COUNTIF(L115:L135,AS24)","v":1},{"$f":"AT24/(AV4-AT25)","v":5.2631578947368418E-2},{"$f":"IF(AU24=0,0,(AU24*((LOG(AU24))/LOG(2))))","v":-0.22357513228650452}]
[12,3171,13,3180,13,3196,23,3207,13,3216,0,11121,null,21121,{"$f":"COUNTIF($L$7:$L$500,N25)","v":9},{"$f":"O25/$Q$4","v":6.9767441860465115E-2},{"$f":"IF(P25=0,0,(P25*((LOG(P25))/LOG(2))))","v":-0.26799783167308894},null,null,{"$f":"N25","v":21121},{"$f":"COUNTIF(L7:L28,T25)","v":2},null,null,null,{"$f":"N25","v":21121},{"$f":"COUNTIF(L29:L49,Y25)","v":1},null,null,null,{"$f":"N25","v":21121},{"$f":"COUNTIF(L50:L71,AD25)","v":0},null,null,null,{"$f":"N25","v":21121},{"$f":"COUNTIF(L72:L92,AI25)","v":1},null,null,null,{"$f":"N25","v":21121},{"$f":"COUNTIF(L93:L114,AN25)","v":3},null,null,null,{"$f":"N25","v":21121},{"$f":"COUNTIF(L115:L135,AS25)","v":2}]
[21,3325,11,3336,11,3348,21,3359,11,3373,1,21121,null,21122,{"$f":"COUNTIF($L$7:$L$500,N26)","v":3},{"$f":"O26/$Q$4","v":2.3255813953488372E-2},{"$f":"IF(P26=0,0,(P26*((LOG(P26))/LOG(2))))","v":-0.12619220359772321},null,null,{"$f":"N26","v":21122},{"$f":"COUNTIF(L7:L28,T26)","v":2},{"$f":"U26/(W4-U25)","v":0.1},{"$f":"IF(V26=0,0,(V26*((LOG(V26))/LOG(2))))","v":-0.33219280948873625},null,{"$f":"N26","v":21122},{"$f":"COUNTIF(L29:L49,Y26)","v":1},{"$f":"Z26/(AB4-Z25)","v":0.05},{"$f":"IF(AA26=0,0,(AA26*((LOG(AA26))/LOG(2))))","v":-0.21609640474436814},null,{"$f":"N26","v":21122},{"$f":"COUNTIF(L50:L71,AD26)","v":0},{"$f":"AE26/(AG4-AE25)","v":0},{"$f":"IF(AF26=0,0,(AF26*((LOG(AF26))/LOG(2))))","v":0},null,{"$f":"N26","v":21122},{"$f":"COUNTIF(L72:L92,AI26)","v":0},{"$f":"AJ26/(AL4-AJ25)","v":0},{"$f":"IF(AK26=0,0,(AK26*((LOG(AK26))/LOG(2))))","v":0},null,{"$f":"N26","v":21122},{"$f":"COUNTIF(L93:L114,AN26)","v":0},{"$f":"AO26/(AQ4-AO25)","v":0},{"$f":"IF(AP26=0,0,(AP26*((LOG(AP26))/LOG(2))))","v":0},null,{"$f":"N26","v":21122},{"$f":"COUNTIF(L115:L135,AS26)","v":0},{"$f":"AT26/(AV4-AT25)","v":0},{"$f":"IF(AU26=0,0,(AU26*((LOG(AU26))/LOG(2))))","v":0}]
[21,3470,22,3485,24,3499,14,3512,24,3522,0,22212,null,21211,{"$f":"COUNTIF($L$7:$L$500,N27)","v":9},{"$f":"O27/$Q$4","v":6.9767441860465115E-2},{"$f":"IF(P27=0,0,(P27*((LOG(P27))/LOG(2))))","v":-0.26799783167308894},null,null,{"$f":"N27","v":21211},{"$f":"COUNTIF(L7:L28,T27)","v":0},{"$f":"U27/(W4-U25)","v":0},{"$f":"IF(V27=0,0,(V27*((LOG(V27))/LOG(2))))","v":0},null,{"$f":"N27","v":21211},{"$f":"COUNTIF(L29:L49,Y27)","v":0},{"$f":"Z27/(AB4-Z25)","v":0},{"$f":"IF(AA27=0,0,(AA27*((LOG(AA27))/LOG(2))))","v":0},null,{"$f":"N27","v":21211},{"$f":"COUNTIF(L50:L71,AD27)","v":2},{"$f":"AE27/(AG4-AE25)","v":9.0909090909090912E-2},{"$f":"IF(AF27=0,0,(AF27*((LOG(AF27))/LOG(2))))","v":-0.31449378351248153},null,{"$f":"N27","v":21211},{"$f":"COUNTIF(L72:L92,AI27)","v":2},{"$f":"AJ27/(AL4-AJ25)","v":0.1},{"$f":"IF(AK27=0,0,(AK27*((LOG(AK27))/LOG(2))))","v":-0.33219280948873625},null,{"$f":"N27","v":21211},{"$f":"COUNTIF(L93:L114,AN27)","v":2},{"$f":"AO27/(AQ4-AO25)","v":0.10526315789473684},{"$f":"IF(AP27=0,0,(AP27*((LOG(AP27))/LOG(2))))","v":-0.34188710667827216},null,{"$f":"N27","v":21211},{"$f":"COUNTIF(L115:L135,AS27)","v":3},{"$f":"AT27/(AV4-AT25)","v":0.15789473684210525},{"$f":"IF(AU27=0,0,(AU27*((LOG(AU27))/LOG(2))))","v":-0.42046815990354147}]
[21,3632,11,3640,11,3665,21,3677,11,3689,1,21121,null,21212,{"$f":"COUNTIF($L$7:$L$500,N28)","v":9},{"$f":"O28/$Q$4","v":6.9767441860465115E-2},{"$f":"IF(P28=0,0,(P28*((LOG(P28))/LOG(2))))","v":-0.26799783167308894},null,null,{"$f":"N28","v":21212},{"$f":"COUNTIF(L7:L28,T28)","v":4},{"$f":"U28/(W4-U25)","v":0.2},{"$f":"IF(V28=0,0,(V28*((LOG(V28))/LOG(2))))","v":-0.46438561897747244},null,{"$f":"N28","v":21212},{"$f":"COUNTIF(L29:L49,Y28)","v":1},{"$f":"Z28/(AB4-Z25)","v":0.05},{"$f":"IF(AA28=0,0,(AA28*((LOG(AA28))/LOG(2))))","v":-0.21609640474436814},null,{"$f":"N28","v":21212},{"$f":"COUNTIF(L50:L71,AD28)","v":1},{"$f":"AE28/(AG4-AE25)","v":4.5454545454545456E-2},{"$f":"IF(AF28=0,0,(AF28*((LOG(AF28))/LOG(2))))","v":-0.20270143721078623},null,{"$f":"N28","v":21212},{"$f":"COUNTIF(L72:L92,AI28)","v":0},{"$f":"AJ28/(AL4-AJ25)","v":0},{"$f":"IF(AK28=0,0,(AK28*((LOG(AK28))/LOG(2))))","v":0},null,{"$f":"N28","v":21212},{"$f":"COUNTIF(L93:L114,AN28)","v":1},{"$f":"AO28/(AQ4-AO25)","v":5.2631578947368418E-2},{"$f":"IF(AP28=0,0,(AP28*((LOG(AP28))/LOG(2))))","v":-0.22357513228650452},null,{"$f":"N28","v":21212},{"$f":"COUNTIF(L115:L135,AS28)","v":2},{"$f":"AT28/(AV4-AT25)","v":0.10526315789473684},{"$f":"IF(AU28=0,0,(AU28*((LOG(AU28))/LOG(2))))","v":-0.34188710667827216}]
[21,3803,11,3829,22,3838,14,3851,24,3863,0,21212,null,21221,{"$f":"COUNTIF($L$7:$L$500,N29)","v":0},{"$f":"O29/$Q$4","v":0},{"$f":"IF(P29=0,0,(P29*((LOG(P29))/LOG(2))))","v":0},null,null,{"$f":"N29","v":21221},{"$f":"COUNTIF(L7:L28,T29)","v":0},{"$f":"U29/(W4-U25)","v":0},{"$f":"IF(V29=0,0,(V29*((LOG(V29))/LOG(2))))","v":0},null,{"$f":"N29","v":21221},{"$f":"COUNTIF(L29:L49,Y29)","v":0},{"$f":"Z29/(AB4-Z25)","v":0},{"$f":"IF(AA29=0,0,(AA29*((LOG(AA29))/LOG(2))))","v":0},null,{"$f":"N29","v":21221},{"$f":"COUNTIF(L50:L71,AD29)","v":0},{"$f":"AE29/(AG4-AE25)","v":0},{"$f":"IF(AF29=0,0,(AF29*((LOG(AF29))/LOG(2))))","v":0},null,{"$f":"N29","v":21221},{"$f":"COUNTIF(L72:L92,AI29)","v":0},{"$f":"AJ29/(AL4-AJ25)","v":0},{"$f":"IF(AK29=0,0,(AK29*((LOG(AK29))/LOG(2))))","v":0},null,{"$f":"N29","v":21221},{"$f":"COUNTIF(L93:L114,AN29)","v":0},{"$f":"AO29/(AQ4-AO25)","v":0},{"$f":"IF(AP29=0,0,(AP29*((LOG(AP29))/LOG(2))))","v":0},null,{"$f":"N29","v":21221},{"$f":"COUNTIF(L115:L135,AS29)","v":0},{"$f":"AT29/(AV4-AT25)","v":0},{"$f":"IF(AU29=0,0,(AU29*((LOG(AU29))/LOG(2))))","v":0}]
[12,3984,13,4001,24,4011,14,4038,13,4048,0,11211,null,21222,{"$f":"COUNTIF($L$7:$L$500,N30)","v":1},{"$f":"O30/$Q$4","v":7.7519379844961239E-3},{"$f":"IF(P30=0,0,(P30*((LOG(P30))/LOG(2))))","v":-5.435059887925002E-2},null,null,{"$f":"N30","v":21222},{"$f":"COUNTIF(L7:L28,T30)","v":0},{"$f":"U30/(W4-U25)","v":0},{"$f":"IF(V30=0,0,(V30*((LOG(V30))/LOG(2))))","v":0},null,{"$f":"N30","v":21222},{"$f":"COUNTIF(L29:L49,Y30)","v":1},{"$f":"Z30/(AB4-Z25)","v":0.05},{"$f":"IF(AA30=0,0,(AA30*((LOG(AA30))/LOG(2))))","v":-0.21609640474436814},null,{"$f":"N30","v":21222},{"$f":"COUNTIF(L50:L71,AD30)","v":0},{"$f":"AE30/(AG4-AE25)","v":0},{"$f":"IF(AF30=0,0,(AF30*((LOG(AF30))/LOG(2))))","v":0},null,{"$f":"N30","v":21222},{"$f":"COUNTIF(L72:L92,AI30)","v":0},{"$f":"AJ30/(AL4-AJ25)","v":0},{"$f":"IF(AK30=0,0,(AK30*((LOG(AK30))/LOG(2))))","v":0},null,{"$f":"N30","v":21222},{"$f":"COUNTIF(L93:L114,AN30)","v":0},{"$f":"AO30/(AQ4-AO25)","v":0},{"$f":"IF(AP30=0,0,(AP30*((LOG(AP30))/LOG(2))))","v":0},null,{"$f":"N30","v":21222},{"$f":"COUNTIF(L115:L135,AS30)","v":0},{"$f":"AT30/(AV4-AT25)","v":0},{"$f":"IF(AU30=0,0,(AU30*((LOG(AU30))/LOG(2))))","v":0}]
[12,4174,24,4183,13,4195,23,4211,13,4220,0,12121,null,22111,{"$f":"COUNTIF($L$7:$L$500,N31)","v":3},{"$f":"O31/$Q$4","v":2.3255813953488372E-2},{"$f":"IF(P31=0,0,(P31*((LOG(P31))/LOG(2))))","v":-0.12619220359772321},null,null,{"$f":"N31","v":22111},{"$f":"COUNTIF(L7:L28,T31)","v":0},{"$f":"U31/(W4-U25)","v":0},{"$f":"IF(V31=0,0,(V31*((LOG(V31))/LOG(2))))","v":0},null,{"$f":"N31","v":22111},{"$f":"COUNTIF(L29:L49,Y31)","v":0},{"$f":"Z31/(AB4-Z25)","v":0},{"$f":"IF(AA31=0,0,(AA31*((LOG(AA31))/LOG(2))))","v":0},null,{"$f":"N31","v":22111},{"$f":"COUNTIF(L50:L71,AD31)","v":2},{"$f":"AE31/(AG4-AE25)","v":9.0909090909090912E-2},{"$f":"IF(AF31=0,0,(AF31*((LOG(AF31))/LOG(2))))","v":-0.31449378351248153},null,{"$f":"N31","v":22111},{"$f":"COUNTIF(L72:L92,AI31)","v":0},{"$f":"AJ31/(AL4-AJ25)","v":0},{"$f":"IF(AK31=0,0,(AK31*((LOG(AK31))/LOG(2))))","v":0},null,{"$f":"N31","v":22111},{"$f":"COUNTIF(L93:L114,AN31)","v":1},{"$f":"AO31/(AQ4-AO25)","v":5.2631578947368418E-2},{"$f":"IF(AP31=0,0,(AP31*((LOG(AP31))/LOG(2))))","v":-0.22357513228650452},null,{"$f":"N31","v":22111},{"$f":"COUNTIF(L115:L135,AS31)","v":0},{"$f":"AT31/(AV4-AT25)","v":0},{"$f":"IF(AU31=0,0,(AU31*((LOG(AU31))/LOG(2))))","v":0}]
[21,4321,11,4340,22,4350,23,4379,24,4403,0,21222,null,22112,{"$f":"COUNTIF($L$7:$L$500,N32)","v":0},{"$f":"O32/$Q$4","v":0},{"$f":"IF(P32=0,0,(P32*((LOG(P32))/LOG(2))))","v":0},null,null,{"$f":"N32","v":22112},{"$f":"COUNTIF(L7:L28,T32)","v":0},{"$f":"U32/(W4-U25)","v":0},{"$f":"IF(V32=0,0,(V32*((LOG(V32))/LOG(2))))","v":0},null,{"$f":"N32","v":22112},{"$f":"COUNTIF(L29:L49,Y32)","v":0},{"$f":"Z32/(AB4-Z25)","v":0},{"$f":"IF(AA32=0,0,(AA32*((LOG(AA32))/LOG(2))))","v":0},null,{"$f":"N32","v":22112},{"$f":"COUNTIF(L50:L71,AD32)","v":0},{"$f":"AE32/(AG4-AE25)","v":0},{"$f":"IF(AF32=0,0,(AF32*((LOG(AF32))/LOG(2))))","v":0},null,{"$f":"N32","v":22112},{"$f":"COUNTIF(L72:L92,AI32)","v":0},{"$f":"AJ32/(AL4-AJ25)","v":0},{"$f":"IF(AK32=0,0,(AK32*((LOG(AK32))/LOG(2))))","v":0},null,{"$f":"N32","v":22112},{"$f":"COUNTIF(L93:L114,AN32)","v":0},{"$f":"AO32/(AQ4-AO25)","v":0},{"$f":"IF(AP32=0,0,(AP32*((LOG(AP32))/LOG(2))))","v":0},null,{"$f":"N32","v":22112},{"$f":"COUNTIF(L115:L135,AS32)","v":0},{"$f":"AT32/(AV4-AT25)","v":0},{"$f":"IF(AU32=0,0,(AU32*((LOG(AU32))/LOG(2))))","v":0}]
[12,4518,13,4530,24,4540,14,4549,24,4563,0,11212,null,22121,{"$f":"COUNTIF($L$7:$L$500,N33)","v":1},{"$f":"O33/$Q$4","v":7.7519379844961239E-3},{"$f":"IF(P33=0,0,(P33*((LOG(P33))/LOG(2))))","v":-5.435059887925002E-2},null,null,{"$f":"N33","v":22121},{"$f":"COUNTIF(L7:L28,T33)","v":1},{"$f":"U33/(W4-U25)","v":0.05},{"$f":"IF(V33=0,0,(V33*((LOG(V33))/LOG(2))))","v":-0.21609640474436814},null,{"$f":"N33","v":22121},{"$f":"COUNTIF(L29:L49,Y33)","v":0},{"$f":"Z33/(AB4-Z25)","v":0},{"$f":"IF(AA33=0,0,(AA33*((LOG(AA33))/LOG(2))))","v":0},null,{"$f":"N33","v":22121},{"$f":"COUNTIF(L50:L71,AD33)","v":0},{"$f":"AE33/(AG4-AE25)","v":0},{"$f":"IF(AF33=0,0,(AF33*((LOG(AF33))/LOG(2))))","v":0},null,{"$f":"N33","v":22121},{"$f":"COUNTIF(L72:L92,AI33)","v":0},{"$f":"AJ33/(AL4-AJ25)","v":0},{"$f":"IF(AK33=0,0,(AK33*((LOG(AK33))/LOG(2))))","v":0},null,{"$f":"N33","v":22121},{"$f":"COUNTIF(L93:L114,AN33)","v":0},{"$f":"AO33/(AQ4-AO25)","v":0},{"$f":"IF(AP33=0,0,(AP33*((LOG(AP33))/LOG(2))))","v":0},null,{"$f":"N33","v":22121},{"$f":"COUNTIF(L115:L135,AS33)","v":0},{"$f":"AT33/(AV4-AT25)","v":0},{"$f":"IF(AU33=0,0,(AU33*((LOG(AU33))/LOG(2))))","v":0}]
[21,4665,11,4676,11,4694,21,4708,11,4717,1,21121,null,22122,{"$f":"COUNTIF($L$7:$L$500,N34)","v":1},{"$f":"O34/$Q$4","v":7.7519379844961239E-3},{"$f":"IF(P34=0,0,(P34*((LOG(P34))/LOG(2))))","v":-5.435059887925002E-2},null,null,{"$f":"N34","v":22122},{"$f":"COUNTIF(L7:L28,T34)","v":0},{"$f":"U34/(W4-U25)","v":0},{"$f":"IF(V34=0,0,(V34*((LOG(V34))/LOG(2))))","v":0},null,{"$f":"N34","v":22122},{"$f":"COUNTIF(L29:L49,Y34)","v":0},{"$f":"Z34/(AB4-Z25)","v":0},{"$f":"IF(AA34=0,0,(AA34*((LOG(AA34))/LOG(2))))","v":0},null,{"$f":"N34","v":22122},{"$f":"COUNTIF(L50:L71,AD34)","v":0},{"$f":"AE34/(AG4-AE25)","v":0},{"$f":"IF(AF34=0,0,(AF34*((LOG(AF34))/LOG(2))))","v":0},null,{"$f":"N34","v":22122},{"$f":"COUNTIF(L72:L92,AI34)","v":0},{"$f":"AJ34/(AL4-AJ25)","v":0},{"$f":"IF(AK34=0,0,(AK34*((LOG(AK34))/LOG(2))))","v":0},null,{"$f":"N34","v":22122},{"$f":"COUNTIF(L93:L114,AN34)","v":1},{"$f":"AO34/(AQ4-AO25)","v":5.2631578947368418E-2},{"$f":"IF(AP34=0,0,(AP34*((LOG(AP34))/LOG(2))))","v":-0.22357513228650452},null,{"$f":"N34","v":22122},{"$f":"COUNTIF(L115:L135,AS34)","v":0},{"$f":"AT34/(AV4-AT25)","v":0},{"$f":"IF(AU34=0,0,(AU34*((LOG(AU34))/LOG(2))))","v":0}]
[12,4820,24,4828,24,4840,23,4855,24,4870,0,12222,null,22211,{"$f":"COUNTIF($L$7:$L$500,N35)","v":0},{"$f":"O35/$Q$4","v":0},{"$f":"IF(P35=0,0,(P35*((LOG(P35))/LOG(2))))","v":0},null,null,{"$f":"N35","v":22211},{"$f":"COUNTIF(L7:L28,T35)","v":0},{"$f":"U35/(W4-U25)","v":0},{"$f":"IF(V35=0,0,(V35*((LOG(V35))/LOG(2))))","v":0},null,{"$f":"N35","v":22211},{"$f":"COUNTIF(L29:L49,Y35)","v":0},{"$f":"Z35/(AB4-Z25)","v":0},{"$f":"IF(AA35=0,0,(AA35*((LOG(AA35))/LOG(2))))","v":0},null,{"$f":"N35","v":22211},{"$f":"COUNTIF(L50:L71,AD35)","v":0},{"$f":"AE35/(AG4-AE25)","v":0},{"$f":"IF(AF35=0,0,(AF35*((LOG(AF35))/LOG(2))))","v":0},null,{"$f":"N35","v":22211},{"$f":"COUNTIF(L72:L92,AI35)","v":0},{"$f":"AJ35/(AL4-AJ25)","v":0},{"$f":"IF(AK35=0,0,(AK35*((LOG(AK35))/LOG(2))))","v":0},null,{"$f":"N35","v":22211},{"$f":"COUNTIF(L93:L114,AN35)","v":0},{"$f":"AO35/(AQ4-AO25)","v":0},{"$f":"IF(AP35=0,0,(AP35*((LOG(AP35))/LOG(2))))","v":0},null,{"$f":"N35","v":22211},{"$f":"COUNTIF(L115:L135,AS35)","v":0},{"$f":"AT35/(AV4-AT25)","v":0},{"$f":"IF(AU35=0,0,(AU35*((LOG(AU35))/LOG(2))))","v":0}]
[12,4973,24,4994,24,5010,14,5026,24,5036,0,12212,null,22212,{"$f":"COUNTIF($L$7:$L$500,N36)","v":2},{"$f":"O36/$Q$4","v":1.5503875968992248E-2},{"$f":"IF(P36=0,0,(P36*((LOG(P36))/LOG(2))))","v":-9.3197321789507806E-2},null,null,{"$f":"N36","v":22212},{"$f":"COUNTIF(L7:L28,T36)","v":2},{"$f":"U36/(W4-U25)","v":0.1},{"$f":"IF(V36=0,0,(V36*((LOG(V36))/LOG(2))))","v":-0.33219280948873625},null,{"$f":"N36","v":22212},{"$f":"COUNTIF(L29:L49,Y36)","v":0},{"$f":"Z36/(AB4-Z25)","v":0},{"$f":"IF(AA36=0,0,(AA36*((LOG(AA36))/LOG(2))))","v":0},null,{"$f":"N36","v":22212},{"$f":"COUNTIF(L50:L71,AD36)","v":0},{"$f":"AE36/(AG4-AE25)","v":0},{"$f":"IF(AF36=0,0,(AF36*((LOG(AF36))/LOG(2))))","v":0},null,{"$f":"N36","v":22212},{"$f":"COUNTIF(L72:L92,AI36)","v":0},{"$f":"AJ36/(AL4-AJ25)","v":0},{"$f":"IF(AK36=0,0,(AK36*((LOG(AK36))/LOG(2))))","v":0},null,{"$f":"N36","v":22212},{"$f":"COUNTIF(L93:L114,AN36)","v":0},{"$f":"AO36/(AQ4-AO25)","v":0},{"$f":"IF(AP36=0,0,(AP36*((LOG(AP36))/LOG(2))))","v":0},null,{"$f":"N36","v":22212},{"$f":"COUNTIF(L115:L135,AS36)","v":0},{"$f":"AT36/(AV4-AT25)","v":0},{"$f":"IF(AU36=0,0,(AU36*((LOG(AU36))/LOG(2))))","v":0}]
[12,5143,24,5152,13,5178,23,5198,24,5222,0,12122,null,22221,{"$f":"COUNTIF($L$7:$L$500,N37)","v":0},{"$f":"O37/$Q$4","v":0},{"$f":"IF(P37=0,0,(P37*((LOG(P37))/LOG(2))))","v":0},null,null,{"$f":"N37","v":22221},{"$f":"COUNTIF(L7:L28,T37)","v":0},{"$f":"U37/(W4-U25)","v":0},{"$f":"IF(V37=0,0,(V37*((LOG(V37))/LOG(2))))","v":0},null,{"$f":"N37","v":22221},{"$f":"COUNTIF(L29:L49,Y37)","v":0},{"$f":"Z37/(AB4-Z25)","v":0},{"$f":"IF(AA37=0,0,(AA37*((LOG(AA37))/LOG(2))))","v":0},null,{"$f":"N37","v":22221},{"$f":"COUNTIF(L50:L71,AD37)","v":0},{"$f":"AE37/(AG4-AE25)","v":0},{"$f":"IF(AF37=0,0,(AF37*((LOG(AF37))/LOG(2))))","v":0},null,{"$f":"N37","v":22221},{"$f":"COUNTIF(L72:L92,AI37)","v":0},{"$f":"AJ37/(AL4-AJ25)","v":0},{"$f":"IF(AK37=0,0,(AK37*((LOG(AK37))/LOG(2))))","v":0},null,{"$f":"N37","v":22221},{"$f":"COUNTIF(L93:L114,AN37)","v":0},{"$f":"AO37/(AQ4-AO25)","v":0},{"$f":"IF(AP37=0,0,(AP37*((LOG(AP37))/LOG(2))))","v":0},null,{"$f":"N37","v":22221},{"$f":"COUNTIF(L115:L135,AS37)","v":0},{"$f":"AT37/(AV4-AT25)","v":0},{"$f":"IF(AU37=0,0,(AU37*((LOG(AU37))/LOG(2))))","v":0}]
[21,5326,11,5335,11,5359,21,5371,22,5383,0,21122,null,22222,{"$f":"COUNTIF($L$7:$L$500,N38)","v":0},{"$f":"O38/$Q$4","v":0},{"$f":"IF(P38=0,0,(P38*((LOG(P38))/LOG(2))))","v":0},null,null,{"$f":"N38","v":22222},{"$f":"COUNTIF(L7:L28,T38)","v":0},{"$f":"U38/(W4-U25)","v":0},{"$f":"IF(V38=0,0,(V38*((LOG(V38))/LOG(2))))","v":0},null,{"$f":"N38","v":22222},{"$f":"COUNTIF(L29:L49,Y38)","v":0},{"$f":"Z38/(AB4-Z25)","v":0},{"$f":"IF(AA38=0,0,(AA38*((LOG(AA38))/LOG(2))))","v":0},null,{"$f":"N38","v":22222},{"$f":"COUNTIF(L50:L71,AD38)","v":0},{"$f":"AE38/(AG4-AE25)","v":0},{"$f":"IF(AF38=0,0,(AF38*((LOG(AF38))/LOG(2))))","v":0},null,{"$f":"N38","v":22222},{"$f":"COUNTIF(L72:L92,AI38)","v":0},{"$f":"AJ38/(AL4-AJ25)","v":0},{"$f":"IF(AK38=0,0,(AK38*((LOG(AK38))/LOG(2))))","v":0},null,{"$f":"N38","v":22222},{"$f":"COUNTIF(L93:L114,AN38)","v":0},{"$f":"AO38/(AQ4-AO25)","v":0},{"$f":"IF(AP38=0,0,(AP38*((LOG(AP38))/LOG(2))))","v":0},null,{"$f":"N38","v":22222},{"$f":"COUNTIF(L115:L135,AS38)","v":0},{"$f":"AT38/(AV4-AT25)","v":0},{"$f":"IF(AU38=0,0,(AU38*((LOG(AU38))/LOG(2))))","v":0}]
[12,5503,24,5512,24,5534,23,5563,13,5572,0,12221,null,null,null,{"$f":"SUM(P7:P38)","v":1.0000000000000002},{"$f":"-SUM(Q7:Q38)","v":4.2299061761824417},null,null,null,null,{"$f":"SUM(V7:V38)","v":0.99999999999999989},{"$f":"-SUM(W7:W38)","v":3.0841837197791886},null,null,null,{"$f":"SUM(AA7:AA38)","v":1.0000000000000002},{"$f":"-SUM(AB7:AB38)","v":3.8219280948873622},null,null,null,{"$f":"SUM(AF7:AF38)","v":0.99999999999999989},{"$f":"-SUM(AG7:AG38)","v":2.8796640049025939},null,null,null,{"$f":"SUM(AK7:AK38)","v":1.0000000000000002},{"$f":"-SUM(AL7:AL38)","v":2.7414460711655217},null,null,null,{"$f":"SUM(AP7:AP38)","v":1},{"$f":"-SUM(AQ7:AQ38)","v":3.5766176449086671},null,null,null,{"$f":"SUM(AU7:AU38)","v":0.99999999999999989},{"$f":"-SUM(AV7:AV38)","v":3.0503018554349826}]
[12,5687,13,5704,13,5723,23,5742,24,5761,0,11122,null,null,null,"U=",{"$f":"Q39/(LOG(Q4)/LOG(2))","v":0.6033046743579118},null,null,null,null,"U1=",{"$f":"W39/(LOG(W4)/LOG(2))","v":0.69160915191287231},null,null,null,"U2=",{"$f":"AB39/(LOG(AB4)/LOG(2))","v":0.87013931986487747},null,null,null,"U3=",{"$f":"AG39/(LOG(AG4)/LOG(2))","v":0.64574686892105659},null,null,null,"U4=",{"$f":"AL39/(LOG(AL4)/LOG(2))","v":0.62414570881153897},null,null,null,"U5=",{"$f":"AQ39/(LOG(AQ4)/LOG(2))","v":0.80203441845837775},null,null,null,"U6=",{"$f":"AV39/(LOG(AV4)/LOG(2))","v":0.69446298202765955}]
[12,5867,13,5884,24,5894,23,5903,24,5916,0,11222]
[12,6033,13,6054,13,6078,23,6091,13,6129,0,11121]
[12,6257,24,6267,24,6309,14,6319,24,6331,0,12212,null,"Total Target Seq"]
[12,6439,13,6448,13,6468,23,6480,13,6489,0,11121,null,{"$f":"COUNTIF(L7:L135,G3)","v":9},null,22,21,22,21,22,21]
[12,6597,13,6617,13,6643,14,6685,13,6701,0,11111,null,null,null,"% of reinforcement given in 6 equal intervals based on number of trials "]
[12,6814,13,6822,13,6846,14,6869,13,6876,0,11111,null,null,null,"%_1","%_2","%_3","%_4","%_5","%_6"]
[12,6982,13,6991,13,7036,14,7047,24,7062,0,11112,null,null,"target sequence",{"$f":"$G$3","v":21121},{"$f":"$G$3","v":21121},{"$f":"$G$3","v":21121},{"$f":"$G$3","v":21121},{"$f":"$G$3","v":21121},{"$f":"$G$3","v":21121}]
[12,7182,24,7193,13,7216,23,7228,13,7244,0,12121,null,null,"total reinforcement",{"$f":"U25","v":2},{"$f":"Z25","v":1},{"$f":"AE25","v":0},{"$f":"AJ25","v":1},{"$f":"AO25","v":3},{"$f":"AT25","v":2}]
[12,7360,13,7372,24,7381,14,7394,24,7406,0,11212,null,null,"% target"]
[12,7535,13,7547,13,7565,23,7574,13,7584,0,11121,null,null,"CCRF"]
[21,7684,11,7693,22,7702,14,7711,24,7724,0,21212,null,null,"% CCRf"]
[12,7834,24,7853,13,7872,14,7890,24,7903,0,12112,null,null,"average response rate",{"$f":"J28/P44","v":167.68181818181819},{"$f":"(J49-J28)/Q44","v":177},{"$f":"(J71-J49)/R44","v":187.68181818181819},{"$f":"(J92-J71)/S44","v":195.52380952380952},{"$f":"(J114-J92)/T44","v":191.77272727272728},{"$f":"(J135-J114)/U44","v":194.33333333333334}]
[21,8003,22,8015,13,8024,14,8052,13,8079,0,22111]
[21,8179,11,8194,22,8213,14,8227,13,8249,0,21211]
[12,8357,13,8377,13,8397,14,8421,13,8437,0,11111]
[12,8551,13,8570,13,8578,14,8596,13,8614,0,11111]
[21,8715,22,8722,13,8746,14,8767,13,8791,0,22111]
[12,8898,13,8905,13,8920,23,8938,13,8950,0,11121]
[12,9059,13,9078,13,9097,14,9117,13,9149,0,11111]
[12,9291,13,9314,13,9338,14,9358,13,9367,0,11111]
[12,9491,13,9513,13,9540,14,9548,13,9585,0,11111]
[12,9694,24,9711,13,9720,14,9748,13,9770,0,12111]
[21,9877,11,9885,11,9898,12,9932,13,9964,0,21111]
[21,10081,11,10090,11,10108,12,10129,24,10142,0,21112]
[12,10269,13,10277,13,10303,23,10315,13,10331,0,11121]
[12,10443,13,10496,13,10509,23,10518,24,10534,0,11122]
[21,10655,11,10666,22,10679,14,10688,13,10711,0,21211]
[12,10837,13,10879,13,10901,14,10924,13,10940,0,11111]
[12,11056,13,11078,13,11096,14,11122,13,11158,0,11111]
[12,11262,24,11274,13,11285,14,11306,13,11328,0,12111]
[12,11447,13,11461,13,11488,14,11513,13,11535,0,11111]
[21,11634,11,11646,11,11659,21,11669,11,11680,1,21121]
[12,11803,13,11818,24,11833,14,11869,13,11890,0,11211]
[21,11990,11,12002,11,12028,12,12056,13,12077,0,21111]
[12,12187,24,12201,13,12216,23,12229,13,12255,0,12121]
[21,12360,11,12375,22,12387,14,12402,13,12410,0,21211]
[12,12522,13,12544,24,12553,14,12565,13,12587,0,11211]
[12,12701,24,12713,13,12724,23,12737,13,12753,0,12121]
[12,12871,13,12920,13,12955,14,12995,13,13007,0,11111]
[21,13107,11,13118,11,13129,12,13194,24,13208,0,21112]
[21,13310,11,13321,11,13339,12,13370,13,13394,0,21111]
[12,13496,13,13519,24,13530,14,13539,13,13568,0,11211]
[12,13720,13,13747,13,13772,14,13800,24,13828,0,11112]
[12,13939,13,13959,24,13970,14,13988,13,14029,0,11211]
[12,14145,13,14164,13,14180,14,14208,24,14218,0,11112]
[12,14325,13,14347,13,14369,14,14406,24,14421,0,11112]
[21,14535,11,14547,22,14559,14,14579,13,14587,0,21211]
[12,14716,13,14735,13,14760,23,14773,13,14786,0,11121]
[21,14914,11,14929,11,14958,12,14983,13,15003,0,21111]
[21,15143,11,15153,11,15175,12,15201,13,15222,0,21111]
[12,15355,13,15367,13,15390,14,15415,24,15428,0,11112]
[12,15554,13,15571,13,15601,14,15628,24,15641,0,11112]
[21,15778,11,15813,11,15838,21,15850,11,15859,1,21121]
[21,15957,11,16007,22,16018,14,16027,13,16050,0,21211]
[21,16164,11,16179,22,16215,14,16224,13,16235,0,21211]
[12,16358,24,16370,13,16381,23,16416,13,16426,0,12121]
[21,16527,11,16545,11,16576,21,16590,11,16599,1,21121]
[12,16734,24,16747,24,16764,14,16784,13,16815,0,12211]
[12,16923,13,16941,13,16964,23,16976,13,16984,0,11121]
[12,17097,24,17108,13,17120,23,17132,13,17159,0,12121]
[21,17267,22,17285,13,17308,14,17332,13,17343,0,22111]
[12,17474,13,17497,24,17507,14,17517,24,17529,0,11212]
[21,17644,22,17660,13,17678,23,17692,24,17730,0,22122]
[21,17846,11,17864,22,17877,14,17885,24,17920,0,21212]
[21,18020,11,18032,11,18067,21,18082,11,18091,1,21121]
[12,18236,24,18247,13,18259,14,18284,24,18306,0,12112]
[12,18415,13,18435,24,18465,14,18473,24,18487,0,11212]
[21,18587,11,18597,11,18625,12,18643,24,18657,0,21112]
[21,18757,11,18768,11,18787,12,18818,13,18827,0,21111]
[12,18936,13,18955,24,18964,14,18977,13,18985,0,11211]
[21,19160,11,19175,11,19201,12,19223,13,19253,0,21111]
[12,19380,13,19409,24,19441,14,19459,13,19467,0,11211]
[12,19575,24,19601,13,19636,23,19650,13,19660,0,12121]
[12,19776,13,19790,13,19822,14,19847,24,19860,0,11112]
[12,19970,13,19987,13,20007,14,20046,13,20055,0,11111]
[12,20168,24,20188,13,20198,14,20221,13,20248,0,12111]
[21,20357,11,20369,11,20385,12,20392,13,20413,0,21111]
[21,20525,11,20534,11,20564,12,20604,13,20630,0,21111]
[12,20773,13,20808,13,20834,14,20854,13,20888,0,11111]
[12,21015,13,21034,13,21082,14,21104,13,21123,0,11111]
[12,21253,13,21277,13,21300,23,21318,13,21331,0,11121]
[21,21434,11,21449,22,21461,14,21469,13,21494,0,21211]
[12,21604,13,21618,13,21649,14,21680,13,21699,0,11111]
[21,21801,11,21812,11,21829,21,21838,11,21847,1,21121]
[21,21984,11,21997,11,22034,12,22059,13,22079,0,21111]
[21,22180,11,22193,11,22228,21,22241,11,22250,1,21121]
[21,22354,11,22373,22,22391,14,22405,24,22419,0,21212]
[21,22519,11,22537,22,22550,14,22562,13,22578,0,21211]
[21,22677,11,22688,11,22706,12,22742,24,22754,0,21112]
[12,22869,13,22885,13,22911,23,22923,24,22935,0,11122]
[12,23048,13,23062,13,23089,14,23110,24,23120,0,11112]
[12,23228,13,23249,24,23262,14,23285,24,23299,0,11212]
[21,23411,11,23422,22,23434,14,23443,24,23498,0,21212]
[21,23630,11,23646,22,23658,14,23673,13,23708,0,21211]
[21,23856,11,23869,11,23893,12,23918,13,23941,null,21111]

{"sheet":"!MA16830.010","index":19,"n_rows":130,"n_cols":48,"rows_kept":130,"cut":false,"hidden":false,"merged":[[4,39,4,42],[5,39,5,40],[4,44,4,47],[5,44,5,45],[4,24,4,27],[5,24,5,25],[4,29,4,32],[5,29,5,30],[4,34,4,37],[5,34,5,35],[1,1,1,2],[5,13,5,14],[42,13,42,14],[43,13,43,14],[4,19,4,22],[5,19,5,20]]}
["Report for:!MA16830.010"]
["Date:","<date>"]
["Hen:","<hen>",null,null,null,"Correct Sequence",{"$f":"Start!J2","v":21121},null,null,null,null,null,null,null,null,"Total Sequences in Data",{"$f":"4994-COUNTBLANK(L7:L5000)","v":124},null,null,null,null,"Total Sequences in Block Data",{"$f":"COUNTA(L7:L27)","v":21},null,null,null,"Total Sequences in Block Data",{"$f":"COUNTA(L28:L47)","v":20},null,null,null,"Total Sequences in Block Data",{"$f":"COUNTA(L48:L68)","v":21},null,null,null,"Total Sequences in Block Data",{"$f":"COUNTA(L69:L89)","v":21},null,null,null,"Total Sequences in Block Data",{"$f":"COUNTA(L90:L109)","v":20},null,null,null,"Total Sequences in Block Data",{"$f":"COUNTA(L110:L130)","v":21}]
[null,null,null,null,null,null,null,null,null,null,null,null,null,null,null,"Total Sequences in Summary",{"$f":"SUM(O7:O38)","v":123},null,null,null,null,"Total Sequences in Block Summary",{"$f":"SUM(U7:U38)","v":21},null,null,null,"Total Sequences in Block Summary",{"$f":"SUM(Z7:Z38)","v":20},null,null,null,"Total Sequences in Block Summary",{"$f":"SUM(AE7:AE38)","v":21},null,null,null,"Total Sequences in Block Summary",{"$f":"SUM(AJ7:AJ38)","v":21},null,null,null,"Total Sequences in Block Summary",{"$f":"SUM(AO7:AO38)","v":20},null,null,null,"Total Sequences in Block Summary",{"$f":"SUM(AT7:AT38)","v":20}]
[null,null,null,null,null,null,null,null,null,null,null,null,null,null,null,null,null,null,null,"Block 1",null,null,null,null,"Block 2",null,null,null,null,"Block 3",null,null,null,null,"Block 4",null,null,null,null,"Block 5",null,null,null,null,"Block 6"]
["Sequence\nComponent\n1","Time\n1","Sequence\nComponent\n2","Time\n2","Sequence\nComponent\n3","Time\n3","Sequence\nComponent\n4","Time\n4","Sequence\nComponent\n5","Time\n5","Correct?\n0=No 1=Yes","Sequence",null,"Frequency",null,"Relative Frequency","Variability",null,null,"Frequency",null,"Relative Frequency","Variability",null,"Frequency",null,"Relative Frequency","Variability",null,"Frequency",null,"Relative Frequency","Variability",null,"Frequency",null,"Relative Frequency","Variability",null,"Frequency",null,"Relative Frequency","Variability",null,"Frequency",null,"Relative Frequency","Variability"]
[21,15,22,36,24,58,23,76,24,108,0,22222,null,11111,{"$f":"COUNTIF($L$7:$L$500,N7)","v":3},{"$f":"O7/$Q$4","v":2.4390243902439025E-2},{"$f":"IF(P7=0,0,(P7*((LOG(P7))/LOG(2))))","v":-0.13067200011263619},null,null,{"$f":"N7","v":11111},{"$f":"COUNTIF(L7:L27,T7)","v":1},{"$f":"U7/(W4-U25)","v":5.5555555555555552E-2},{"$f":"IF(V7=0,0,(V7*((LOG(V7))/LOG(2))))","v":-0.23166250008012845},null,{"$f":"N7","v":11111},{"$f":"COUNTIF(L28:L47,Y7)","v":1},{"$f":"Z7/(AB4-Z25)","v":6.25E-2},{"$f":"IF(AA7=0,0,(AA7*((LOG(AA7))/LOG(2))))","v":-0.25},null,{"$f":"N7","v":11111},{"$f":"COUNTIF(L48:L68,AD7)","v":1},{"$f":"AE7/(AG4-AE25)","v":5.5555555555555552E-2},{"$f":"IF(AF7=0,0,(AF7*((LOG(AF7))/LOG(2))))","v":-0.23166250008012845},null,{"$f":"N7","v":11111},{"$f":"COUNTIF(L69:L89,AI7)","v":0},{"$f":"AJ7/(AL4-AJ25)","v":0},{"$f":"IF(AK7=0,0,(AK7*((LOG(AK7))/LOG(2))))","v":0},null,{"$f":"N7","v":11111},{"$f":"COUNTIF(L90:L109,AN7)","v":0},{"$f":"AO7/(AQ4-AO25)","v":0},{"$f":"IF(AP7=0,0,(AP7*((LOG(AP7))/LOG(2))))","v":0},null,{"$f":"N7","v":11111},{"$f":"COUNTIF(L110:L130,AS7)","v":0},{"$f":"AT7/(AV4-AT25)","v":0},{"$f":"IF(AU7=0,0,(AU7*((LOG(AU7))/LOG(2))))","v":0}]
[21,210,22,319,13,335,14,362,24,374,0,22112,null,11112,{"$f":"COUNTIF($L$7:$L$500,N8)","v":0},{"$f":"O8/$Q$4","v":0},{"$f":"IF(P8=0,0,(P8*((LOG(P8))/LOG(2))))","v":0},null,null,{"$f":"N8","v":11112},{"$f":"COUNTIF(L7:L27,T8)","v":0},{"$f":"U8/(W4-U25)","v":0},{"$f":"IF(V8=0,0,(V8*((LOG(V8))/LOG(2))))","v":0},null,{"$f":"N8","v":11112},{"$f":"COUNTIF(L28:L47,Y8)","v":0},{"$f":"Z8/(AB4-Z25)","v":0},{"$f":"IF(AA8=0,0,(AA8*((LOG(AA8))/LOG(2))))","v":0},null,{"$f":"N8","v":11112},{"$f":"COUNTIF(L48:L68,AD8)","v":0},{"$f":"AE8/(AG4-AE25)","v":0},{"$f":"IF(AF8=0,0,(AF8*((LOG(AF8))/LOG(2))))","v":0},null,{"$f":"N8","v":11112},{"$f":"COUNTIF(L69:L89,AI8)","v":0},{"$f":"AJ8/(AL4-AJ25)","v":0},{"$f":"IF(AK8=0,0,(AK8*((LOG(AK8))/LOG(2))))","v":0},null,{"$f":"N8","v":11112},{"$f":"COUNTIF(L90:L109,AN8)","v":0},{"$f":"AO8/(AQ4-AO25)","v":0},{"$f":"IF(AP8=0,0,(AP8*((LOG(AP8))/LOG(2))))","v":0},null,{"$f":"N8","v":11112},{"$f":"COUNTIF(L110:L130,AS8)","v":0},{"$f":"AT8/(AV4-AT25)","v":0},{"$f":"IF(AU8=0,0,(AU8*((LOG(AU8))/LOG(2))))","v":0}]
[21,478,11,488,11,506,21,544,11,554,1,21121,null,11121,{"$f":"COUNTIF($L$7:$L$500,N9)","v":4},{"$f":"O9/$Q$4","v":3.2520325203252036E-2},{"$f":"IF(P9=0,0,(P9*((LOG(P9))/LOG(2))))","v":-0.16073217903542245},null,null,{"$f":"N9","v":11121},{"$f":"COUNTIF(L7:L27,T9)","v":2},{"$f":"U9/(W4-U25)","v":0.1111111111111111},{"$f":"IF(V9=0,0,(V9*((LOG(V9))/LOG(2))))","v":-0.3522138890491458},null,{"$f":"N9","v":11121},{"$f":"COUNTIF(L28:L47,Y9)","v":1},{"$f":"Z9/(AB4-Z25)","v":6.25E-2},{"$f":"IF(AA9=0,0,(AA9*((LOG(AA9))/LOG(2))))","v":-0.25},null,{"$f":"N9","v":11121},{"$f":"COUNTIF(L48:L68,AD9)","v":1},{"$f":"AE9/(AG4-AE25)","v":5.5555555555555552E-2},{"$f":"IF(AF9=0,0,(AF9*((LOG(AF9))/LOG(2))))","v":-0.23166250008012845},null,{"$f":"N9","v":11121},{"$f":"COUNTIF(L69:L89,AI9)","v":0},{"$f":"AJ9/(AL4-AJ25)","v":0},{"$f":"IF(AK9=0,0,(AK9*((LOG(AK9))/LOG(2))))","v":0},null,{"$f":"N9","v":11121},{"$f":"COUNTIF(L90:L109,AN9)","v":0},{"$f":"AO9/(AQ4-AO25)","v":0},{"$f":"IF(AP9=0,0,(AP9*((LOG(AP9))/LOG(2))))","v":0},null,{"$f":"N9","v":11121},{"$f":"COUNTIF(L110:L130,AS9)","v":0},{"$f":"AT9/(AV4-AT25)","v":0},{"$f":"IF(AU9=0,0,(AU9*((LOG(AU9))/LOG(2))))","v":0}]
[12,665,24,675,13,690,14,706,24,719,0,12112,null,11122,{"$f":"COUNTIF($L$7:$L$500,N10)","v":0},{"$f":"O10/$Q$4","v":0},{"$f":"IF(P10=0,0,(P10*((LOG(P10))/LOG(2))))","v":0},null,null,{"$f":"N10","v":11122},{"$f":"COUNTIF(L7:L27,T10)","v":0},{"$f":"U10/(W4-U25)","v":0},{"$f":"IF(V10=0,0,(V10*((LOG(V10))/LOG(2))))","v":0},null,{"$f":"N10","v":11122},{"$f":"COUNTIF(L28:L47,Y10)","v":0},{"$f":"Z10/(AB4-Z25)","v":0},{"$f":"IF(AA10=0,0,(AA10*((LOG(AA10))/LOG(2))))","v":0},null,{"$f":"N10","v":11122},{"$f":"COUNTIF(L48:L68,AD10)","v":0},{"$f":"AE10/(AG4-AE25)","v":0},{"$f":"IF(AF10=0,0,(AF10*((LOG(AF10))/LOG(2))))","v":0},null,{"$f":"N10","v":11122},{"$f":"COUNTIF(L69:L89,AI10)","v":0},{"$f":"AJ10/(AL4-AJ25)","v":0},{"$f":"IF(AK10=0,0,(AK10*((LOG(AK10))/LOG(2))))","v":0},null,{"$f":"N10","v":11122},{"$f":"COUNTIF(L90:L109,AN10)","v":0},{"$f":"AO10/(AQ4-AO25)","v":0},{"$f":"IF(AP10=0,0,(AP10*((LOG(AP10))/LOG(2))))","v":0},null,{"$f":"N10","v":11122},{"$f":"COUNTIF(L110:L130,AS10)","v":0},{"$f":"AT10/(AV4-AT25)","v":0},{"$f":"IF(AU10=0,0,(AU10*((LOG(AU10))/LOG(2))))","v":0}]
[12,822,13,831,13,856,23,869,13,884,0,11121,null,11211,{"$f":"COUNTIF($L$7:$L$500,N11)","v":1},{"$f":"O11/$Q$4","v":8.130081300813009E-3},{"$f":"IF(P11=0,0,(P11*((LOG(P11))/LOG(2))))","v":-5.6443207360481633E-2},null,null,{"$f":"N11","v":11211},{"$f":"COUNTIF(L7:L27,T11)","v":0},{"$f":"U11/(W4-U25)","v":0},{"$f":"IF(V11=0,0,(V11*((LOG(V11))/LOG(2))))","v":0},null,{"$f":"N11","v":11211},{"$f":"COUNTIF(L28:L47,Y11)","v":0},{"$f":"Z11/(AB4-Z25)","v":0},{"$f":"IF(AA11=0,0,(AA11*((LOG(AA11))/LOG(2))))","v":0},null,{"$f":"N11","v":11211},{"$f":"COUNTIF(L48:L68,AD11)","v":1},{"$f":"AE11/(AG4-AE25)","v":5.5555555555555552E-2},{"$f":"IF(AF11=0,0,(AF11*((LOG(AF11))/LOG(2))))","v":-0.23166250008012845},null,{"$f":"N11","v":11211},{"$f":"COUNTIF(L69:L89,AI11)","v":0},{"$f":"AJ11/(AL4-AJ25)","v":0},{"$f":"IF(AK11=0,0,(AK11*((LOG(AK11))/LOG(2))))","v":0},null,{"$f":"N11","v":11211},{"$f":"COUNTIF(L90:L109,AN11)","v":0},{"$f":"AO11/(AQ4-AO25)","v":0},{"$f":"IF(AP11=0,0,(AP11*((LOG(AP11))/LOG(2))))","v":0},null,{"$f":"N11","v":11211},{"$f":"COUNTIF(L110:L130,AS11)","v":0},{"$f":"AT11/(AV4-AT25)","v":0},{"$f":"IF(AU11=0,0,(AU11*((LOG(AU11))/LOG(2))))","v":0}]
[12,998,13,1018,13,1040,23,1050,13,1060,0,11121,null,11212,{"$f":"COUNTIF($L$7:$L$500,N12)","v":2},{"$f":"O12/$Q$4","v":1.6260162601626018E-2},{"$f":"IF(P12=0,0,(P12*((LOG(P12))/LOG(2))))","v":-9.662625211933723E-2},null,null,{"$f":"N12","v":11212},{"$f":"COUNTIF(L7:L27,T12)","v":0},{"$f":"U12/(W4-U25)","v":0},{"$f":"IF(V12=0,0,(V12*((LOG(V12))/LOG(2))))","v":0},null,{"$f":"N12","v":11212},{"$f":"COUNTIF(L28:L47,Y12)","v":2},{"$f":"Z12/(AB4-Z25)","v":0.125},{"$f":"IF(AA12=0,0,(AA12*((LOG(AA12))/LOG(2))))","v":-0.375},null,{"$f":"N12","v":11212},{"$f":"COUNTIF(L48:L68,AD12)","v":0},{"$f":"AE12/(AG4-AE25)","v":0},{"$f":"IF(AF12=0,0,(AF12*((LOG(AF12))/LOG(2))))","v":0},null,{"$f":"N12","v":11212},{"$f":"COUNTIF(L69:L89,AI12)","v":0},{"$f":"AJ12/(AL4-AJ25)","v":0},{"$f":"IF(AK12=0,0,(AK12*((LOG(AK12))/LOG(2))))","v":0},null,{"$f":"N12","v":11212},{"$f":"COUNTIF(L90:L109,AN12)","v":0},{"$f":"AO12/(AQ4-AO25)","v":0},{"$f":"IF(AP12=0,0,(AP12*((LOG(AP12))/LOG(2))))","v":0},null,{"$f":"N12","v":11212},{"$f":"COUNTIF(L110:L130,AS12)","v":0},{"$f":"AT12/(AV4-AT25)","v":0},{"$f":"IF(AU12=0,0,(AU12*((LOG(AU12))/LOG(2))))","v":0}]
[12,1186,13,1210,13,1230,14,1256,13,1276,0,11111,null,11221,{"$f":"COUNTIF($L$7:$L$500,N13)","v":0},{"$f":"O13/$Q$4","v":0},{"$f":"IF(P13=0,0,(P13*((LOG(P13))/LOG(2))))","v":0},null,null,{"$f":"N13","v":11221},{"$f":"COUNTIF(L7:L27,T13)","v":0},{"$f":"U13/(W4-U25)","v":0},{"$f":"IF(V13=0,0,(V13*((LOG(V13))/LOG(2))))","v":0},null,{"$f":"N13","v":11221},{"$f":"COUNTIF(L28:L47,Y13)","v":0},{"$f":"Z13/(AB4-Z25)","v":0},{"$f":"IF(AA13=0,0,(AA13*((LOG(AA13))/LOG(2))))","v":0},null,{"$f":"N13","v":11221},{"$f":"COUNTIF(L48:L68,AD13)","v":0},{"$f":"AE13/(AG4-AE25)","v":0},{"$f":"IF(AF13=0,0,(AF13*((LOG(AF13))/LOG(2))))","v":0},null,{"$f":"N13","v":11221},{"$f":"COUNTIF(L69:L89,AI13)","v":0},{"$f":"AJ13/(AL4-AJ25)","v":0},{"$f":"IF(AK13=0,0,(AK13*((LOG(AK13))/LOG(2))))","v":0},null,{"$f":"N13","v":11221},{"$f":"COUNTIF(L90:L109,AN13)","v":0},{"$f":"AO13/(AQ4-AO25)","v":0},{"$f":"IF(AP13=0,0,(AP13*((LOG(AP13))/LOG(2))))","v":0},null,{"$f":"N13","v":11221},{"$f":"COUNTIF(L110:L130,AS13)","v":0},{"$f":"AT13/(AV4-AT25)","v":0},{"$f":"IF(AU13=0,0,(AU13*((LOG(AU13))/LOG(2))))","v":0}]
[12,1386,24,1460,13,1476,14,1495,24,1506,0,12112,null,11222,{"$f":"COUNTIF($L$7:$L$500,N14)","v":0},{"$f":"O14/$Q$4","v":0},{"$f":"IF(P14=0,0,(P14*((LOG(P14))/LOG(2))))","v":0},null,null,{"$f":"N14","v":11222},{"$f":"COUNTIF(L7:L27,T14)","v":0},{"$f":"U14/(W4-U25)","v":0},{"$f":"IF(V14=0,0,(V14*((LOG(V14))/LOG(2))))","v":0},null,{"$f":"N14","v":11222},{"$f":"COUNTIF(L28:L47,Y14)","v":0},{"$f":"Z14/(AB4-Z25)","v":0},{"$f":"IF(AA14=0,0,(AA14*((LOG(AA14))/LOG(2))))","v":0},null,{"$f":"N14","v":11222},{"$f":"COUNTIF(L48:L68,AD14)","v":0},{"$f":"AE14/(AG4-AE25)","v":0},{"$f":"IF(AF14=0,0,(AF14*((LOG(AF14))/LOG(2))))","v":0},null,{"$f":"N14","v":11222},{"$f":"COUNTIF(L69:L89,AI14)","v":0},{"$f":"AJ14/(AL4-AJ25)","v":0},{"$f":"IF(AK14=0,0,(AK14*((LOG(AK14))/LOG(2))))","v":0},null,{"$f":"N14","v":11222},{"$f":"COUNTIF(L90:L109,AN14)","v":0},{"$f":"AO14/(AQ4-AO25)","v":0},{"$f":"IF(AP14=0,0,(AP14*((LOG(AP14))/LOG(2))))","v":0},null,{"$f":"N14","v":11222},{"$f":"COUNTIF(L110:L130,AS14)","v":0},{"$f":"AT14/(AV4-AT25)","v":0},{"$f":"IF(AU14=0,0,(AU14*((LOG(AU14))/LOG(2))))","v":0}]
[12,1657,24,1667,13,1684,23,1697,13,1712,0,12121,null,12111,{"$f":"COUNTIF($L$7:$L$500,N15)","v":1},{"$f":"O15/$Q$4","v":8.130081300813009E-3},{"$f":"IF(P15=0,0,(P15*((LOG(P15))/LOG(2))))","v":-5.6443207360481633E-2},null,null,{"$f":"N15","v":12111},{"$f":"COUNTIF(L7:L27,T15)","v":0},{"$f":"U15/(W4-U25)","v":0},{"$f":"IF(V15=0,0,(V15*((LOG(V15))/LOG(2))))","v":0},null,{"$f":"N15","v":12111},{"$f":"COUNTIF(L28:L47,Y15)","v":1},{"$f":"Z15/(AB4-Z25)","v":6.25E-2},{"$f":"IF(AA15=0,0,(AA15*((LOG(AA15))/LOG(2))))","v":-0.25},null,{"$f":"N15","v":12111},{"$f":"COUNTIF(L48:L68,AD15)","v":0},{"$f":"AE15/(AG4-AE25)","v":0},{"$f":"IF(AF15=0,0,(AF15*((LOG(AF15))/LOG(2))))","v":0},null,{"$f":"N15","v":12111},{"$f":"COUNTIF(L69:L89,AI15)","v":0},{"$f":"AJ15/(AL4-AJ25)","v":0},{"$f":"IF(AK15=0,0,(AK15*((LOG(AK15))/LOG(2))))","v":0},null,{"$f":"N15","v":12111},{"$f":"COUNTIF(L90:L109,AN15)","v":0},{"$f":"AO15/(AQ4-AO25)","v":0},{"$f":"IF(AP15=0,0,(AP15*((LOG(AP15))/LOG(2))))","v":0},null,{"$f":"N15","v":12111},{"$f":"COUNTIF(L110:L130,AS15)","v":0},{"$f":"AT15/(AV4-AT25)","v":0},{"$f":"IF(AU15=0,0,(AU15*((LOG(AU15))/LOG(2))))","v":0}]
[21,1821,11,1829,11,1849,12,1867,24,1881,0,21112,null,12112,{"$f":"COUNTIF($L$7:$L$500,N16)","v":2},{"$f":"O16/$Q$4","v":1.6260162601626018E-2},{"$f":"IF(P16=0,0,(P16*((LOG(P16))/LOG(2))))","v":-9.662625211933723E-2},null,null,{"$f":"N16","v":12112},{"$f":"COUNTIF(L7:L27,T16)","v":2},{"$f":"U16/(W4-U25)","v":0.1111111111111111},{"$f":"IF(V16=0,0,(V16*((LOG(V16))/LOG(2))))","v":-0.3522138890491458},null,{"$f":"N16","v":12112},{"$f":"COUNTIF(L28:L47,Y16)","v":0},{"$f":"Z16/(AB4-Z25)","v":0},{"$f":"IF(AA16=0,0,(AA16*((LOG(AA16))/LOG(2))))","v":0},null,{"$f":"N16","v":12112},{"$f":"COUNTIF(L48:L68,AD16)","v":0},{"$f":"AE16/(AG4-AE25)","v":0},{"$f":"IF(AF16=0,0,(AF16*((LOG(AF16))/LOG(2))))","v":0},null,{"$f":"N16","v":12112},{"$f":"COUNTIF(L69:L89,AI16)","v":0},{"$f":"AJ16/(AL4-AJ25)","v":0},{"$f":"IF(AK16=0,0,(AK16*((LOG(AK16))/LOG(2))))","v":0},null,{"$f":"N16","v":12112},{"$f":"COUNTIF(L90:L109,AN16)","v":0},{"$f":"AO16/(AQ4-AO25)","v":0},{"$f":"IF(AP16=0,0,(AP16*((LOG(AP16))/LOG(2))))","v":0},null,{"$f":"N16","v":12112},{"$f":"COUNTIF(L110:L130,AS16)","v":0},{"$f":"AT16/(AV4-AT25)","v":0},{"$f":"IF(AU16=0,0,(AU16*((LOG(AU16))/LOG(2))))","v":0}]
[12,1990,24,1999,13,2008,23,2019,13,2030,0,12121,null,12121,{"$f":"COUNTIF($L$7:$L$500,N17)","v":2},{"$f":"O17/$Q$4","v":1.6260162601626018E-2},{"$f":"IF(P17=0,0,(P17*((LOG(P17))/LOG(2))))","v":-9.662625211933723E-2},null,null,{"$f":"N17","v":12121},{"$f":"COUNTIF(L7:L27,T17)","v":2},{"$f":"U17/(W4-U25)","v":0.1111111111111111},{"$f":"IF(V17=0,0,(V17*((LOG(V17))/LOG(2))))","v":-0.3522138890491458},null,{"$f":"N17","v":12121},{"$f":"COUNTIF(L28:L47,Y17)","v":0},{"$f":"Z17/(AB4-Z25)","v":0},{"$f":"IF(AA17=0,0,(AA17*((LOG(AA17))/LOG(2))))","v":0},null,{"$f":"N17","v":12121},{"$f":"COUNTIF(L48:L68,AD17)","v":0},{"$f":"AE17/(AG4-AE25)","v":0},{"$f":"IF(AF17=0,0,(AF17*((LOG(AF17))/LOG(2))))","v":0},null,{"$f":"N17","v":12121},{"$f":"COUNTIF(L69:L89,AI17)","v":0},{"$f":"AJ17/(AL4-AJ25)","v":0},{"$f":"IF(AK17=0,0,(AK17*((LOG(AK17))/LOG(2))))","v":0},null,{"$f":"N17","v":12121},{"$f":"COUNTIF(L90:L109,AN17)","v":0},{"$f":"AO17/(AQ4-AO25)","v":0},{"$f":"IF(AP17=0,0,(AP17*((LOG(AP17))/LOG(2))))","v":0},null,{"$f":"N17","v":12121},{"$f":"COUNTIF(L110:L130,AS17)","v":0},{"$f":"AT17/(AV4-AT25)","v":0},{"$f":"IF(AU17=0,0,(AU17*((LOG(AU17))/LOG(2))))","v":0}]
[21,2163,11,2173,22,2186,14,2196,24,2208,0,21212,null,12122,{"$f":"COUNTIF($L$7:$L$500,N18)","v":1},{"$f":"O18/$Q$4","v":8.130081300813009E-3},{"$f":"IF(P18=0,0,(P18*((LOG(P18))/LOG(2))))","v":-5.6443207360481633E-2},null,null,{"$f":"N18","v":12122},{"$f":"COUNTIF(L7:L27,T18)","v":0},{"$f":"U18/(W4-U25)","v":0},{"$f":"IF(V18=0,0,(V18*((LOG(V18))/LOG(2))))","v":0},null,{"$f":"N18","v":12122},{"$f":"COUNTIF(L28:L47,Y18)","v":0},{"$f":"Z18/(AB4-Z25)","v":0},{"$f":"IF(AA18=0,0,(AA18*((LOG(AA18))/LOG(2))))","v":0},null,{"$f":"N18","v":12122},{"$f":"COUNTIF(L48:L68,AD18)","v":0},{"$f":"AE18/(AG4-AE25)","v":0},{"$f":"IF(AF18=0,0,(AF18*((LOG(AF18))/LOG(2))))","v":0},null,{"$f":"N18","v":12122},{"$f":"COUNTIF(L69:L89,AI18)","v":1},{"$f":"AJ18/(AL4-AJ25)","v":6.25E-2},{"$f":"IF(AK18=0,0,(AK18*((LOG(AK18))/LOG(2))))","v":-0.25},null,{"$f":"N18","v":12122},{"$f":"COUNTIF(L90:L109,AN18)","v":0},{"$f":"AO18/(AQ4-AO25)","v":0},{"$f":"IF(AP18=0,0,(AP18*((LOG(AP18))/LOG(2))))","v":0},null,{"$f":"N18","v":12122},{"$f":"COUNTIF(L110:L130,AS18)","v":0},{"$f":"AT18/(AV4-AT25)","v":0},{"$f":"IF(AU18=0,0,(AU18*((LOG(AU18))/LOG(2))))","v":0}]
[21,2308,11,2317,11,2346,12,2368,24,2379,0,21112,null,12211,{"$f":"COUNTIF($L$7:$L$500,N19)","v":1},{"$f":"O19/$Q$4","v":8.130081300813009E-3},{"$f":"IF(P19=0,0,(P19*((LOG(P19))/LOG(2))))","v":-5.6443207360481633E-2},null,null,{"$f":"N19","v":12211},{"$f":"COUNTIF(L7:L27,T19)","v":0},{"$f":"U19/(W4-U25)","v":0},{"$f":"IF(V19=0,0,(V19*((LOG(V19))/LOG(2))))","v":0},null,{"$f":"N19","v":12211},{"$f":"COUNTIF(L28:L47,Y19)","v":1},{"$f":"Z19/(AB4-Z25)","v":6.25E-2},{"$f":"IF(AA19=0,0,(AA19*((LOG(AA19))/LOG(2))))","v":-0.25},null,{"$f":"N19","v":12211},{"$f":"COUNTIF(L48:L68,AD19)","v":0},{"$f":"AE19/(AG4-AE25)","v":0},{"$f":"IF(AF19=0,0,(AF19*((LOG(AF19))/LOG(2))))","v":0},null,{"$f":"N19","v":12211},{"$f":"COUNTIF(L69:L89,AI19)","v":0},{"$f":"AJ19/(AL4-AJ25)","v":0},{"$f":"IF(AK19=0,0,(AK19*((LOG(AK19))/LOG(2))))","v":0},null,{"$f":"N19","v":12211},{"$f":"COUNTIF(L90:L109,AN19)","v":0},{"$f":"AO19/(AQ4-AO25)","v":0},{"$f":"IF(AP19=0,0,(AP19*((LOG(AP19))/LOG(2))))","v":0},null,{"$f":"N19","v":12211},{"$f":"COUNTIF(L110:L130,AS19)","v":0},{"$f":"AT19/(AV4-AT25)","v":0},{"$f":"IF(AU19=0,0,(AU19*((LOG(AU19))/LOG(2))))","v":0}]
[21,2501,11,2519,22,2530,14,2540,24,2552,0,21212,null,12212,{"$f":"COUNTIF($L$7:$L$500,N20)","v":2},{"$f":"O20/$Q$4","v":1.6260162601626018E-2},{"$f":"IF(P20=0,0,(P20*((LOG(P20))/LOG(2))))","v":-9.662625211933723E-2},null,null,{"$f":"N20","v":12212},{"$f":"COUNTIF(L7:L27,T20)","v":0},{"$f":"U20/(W4-U25)","v":0},{"$f":"IF(V20=0,0,(V20*((LOG(V20))/LOG(2))))","v":0},null,{"$f":"N20","v":12212},{"$f":"COUNTIF(L28:L47,Y20)","v":1},{"$f":"Z20/(AB4-Z25)","v":6.25E-2},{"$f":"IF(AA20=0,0,(AA20*((LOG(AA20))/LOG(2))))","v":-0.25},null,{"$f":"N20","v":12212},{"$f":"COUNTIF(L48:L68,AD20)","v":0},{"$f":"AE20/(AG4-AE25)","v":0},{"$f":"IF(AF20=0,0,(AF20*((LOG(AF20))/LOG(2))))","v":0},null,{"$f":"N20","v":12212},{"$f":"COUNTIF(L69:L89,AI20)","v":0},{"$f":"AJ20/(AL4-AJ25)","v":0},{"$f":"IF(AK20=0,0,(AK20*((LOG(AK20))/LOG(2))))","v":0},null,{"$f":"N20","v":12212},{"$f":"COUNTIF(L90:L109,AN20)","v":0},{"$f":"AO20/(AQ4-AO25)","v":0},{"$f":"IF(AP20=0,0,(AP20*((LOG(AP20))/LOG(2))))","v":0},null,{"$f":"N20","v":12212},{"$f":"COUNTIF(L110:L130,AS20)","v":1},{"$f":"AT20/(AV4-AT25)","v":0.05},{"$f":"IF(AU20=0,0,(AU20*((LOG(AU20))/LOG(2))))","v":-0.21609640474436814}]
[21,2652,11,2664,22,2676,14,2702,24,2715,0,21212,null,12221,{"$f":"COUNTIF($L$7:$L$500,N21)","v":1},{"$f":"O21/$Q$4","v":8.130081300813009E-3},{"$f":"IF(P21=0,0,(P21*((LOG(P21))/LOG(2))))","v":-5.6443207360481633E-2},null,null,{"$f":"N21","v":12221},{"$f":"COUNTIF(L7:L27,T21)","v":0},{"$f":"U21/(W4-U25)","v":0},{"$f":"IF(V21=0,0,(V21*((LOG(V21))/LOG(2))))","v":0},null,{"$f":"N21","v":12221},{"$f":"COUNTIF(L28:L47,Y21)","v":1},{"$f":"Z21/(AB4-Z25)","v":6.25E-2},{"$f":"IF(AA21=0,0,(AA21*((LOG(AA21))/LOG(2))))","v":-0.25},null,{"$f":"N21","v":12221},{"$f":"COUNTIF(L48:L68,AD21)","v":0},{"$f":"AE21/(AG4-AE25)","v":0},{"$f":"IF(AF21=0,0,(AF21*((LOG(AF21))/LOG(2))))","v":0},null,{"$f":"N21","v":12221},{"$f":"COUNTIF(L69:L89,AI21)","v":0},{"$f":"AJ21/(AL4-AJ25)","v":0},{"$f":"IF(AK21=0,0,(AK21*((LOG(AK21))/LOG(2))))","v":0},null,{"$f":"N21","v":12221},{"$f":"COUNTIF(L90:L109,AN21)","v":0},{"$f":"AO21/(AQ4-AO25)","v":0},{"$f":"IF(AP21=0,0,(AP21*((LOG(AP21))/LOG(2))))","v":0},null,{"$f":"N21","v":12221},{"$f":"COUNTIF(L110:L130,AS21)","v":0},{"$f":"AT21/(AV4-AT25)","v":0},{"$f":"IF(AU21=0,0,(AU21*((LOG(AU21))/LOG(2))))","v":0}]
[21,2839,11,2851,22,2893,14,2910,24,2923,0,21212,null,12222,{"$f":"COUNTIF($L$7:$L$500,N22)","v":0},{"$f":"O22/$Q$4","v":0},{"$f":"IF(P22=0,0,(P22*((LOG(P22))/LOG(2))))","v":0},null,null,{"$f":"N22","v":12222},{"$f":"COUNTIF(L7:L27,T22)","v":0},{"$f":"U22/(W4-U25)","v":0},{"$f":"IF(V22=0,0,(V22*((LOG(V22))/LOG(2))))","v":0},null,{"$f":"N22","v":12222},{"$f":"COUNTIF(L28:L47,Y22)","v":0},{"$f":"Z22/(AB4-Z25)","v":0},{"$f":"IF(AA22=0,0,(AA22*((LOG(AA22))/LOG(2))))","v":0},null,{"$f":"N22","v":12222},{"$f":"COUNTIF(L48:L68,AD22)","v":0},{"$f":"AE22/(AG4-AE25)","v":0},{"$f":"IF(AF22=0,0,(AF22*((LOG(AF22))/LOG(2))))","v":0},null,{"$f":"N22","v":12222},{"$f":"COUNTIF(L69:L89,AI22)","v":0},{"$f":"AJ22/(AL4-AJ25)","v":0},{"$f":"IF(AK22=0,0,(AK22*((LOG(AK22))/LOG(2))))","v":0},null,{"$f":"N22","v":12222},{"$f":"COUNTIF(L90:L109,AN22)","v":0},{"$f":"AO22/(AQ4-AO25)","v":0},{"$f":"IF(AP22=0,0,(AP22*((LOG(AP22))/LOG(2))))","v":0},null,{"$f":"N22","v":12222},{"$f":"COUNTIF(L110:L130,AS22)","v":0},{"$f":"AT22/(AV4-AT25)","v":0},{"$f":"IF(AU22=0,0,(AU22*((LOG(AU22))/LOG(2))))","v":0}]
[21,3050,11,3060,22,3072,14,3094,24,3107,0,21212,null,21111,{"$f":"COUNTIF($L$7:$L$500,N23)","v":4},{"$f":"O23/$Q$4","v":3.2520325203252036E-2},{"$f":"IF(P23=0,0,(P23*((LOG(P23))/LOG(2))))","v":-0.16073217903542245},null,null,{"$f":"N23","v":21111},{"$f":"COUNTIF(L7:L27,T23)","v":0},{"$f":"U23/(W4-U25)","v":0},{"$f":"IF(V23=0,0,(V23*((LOG(V23))/LOG(2))))","v":0},null,{"$f":"N23","v":21111},{"$f":"COUNTIF(L28:L47,Y23)","v":1},{"$f":"Z23/(AB4-Z25)","v":6.25E-2},{"$f":"IF(AA23=0,0,(AA23*((LOG(AA23))/LOG(2))))","v":-0.25},null,{"$f":"N23","v":21111},{"$f":"COUNTIF(L48:L68,AD23)","v":2},{"$f":"AE23/(AG4-AE25)","v":0.1111111111111111},{"$f":"IF(AF23=0,0,(AF23*((LOG(AF23))/LOG(2))))","v":-0.3522138890491458},null,{"$f":"N23","v":21111},{"$f":"COUNTIF(L69:L89,AI23)","v":0},{"$f":"AJ23/(AL4-AJ25)","v":0},{"$f":"IF(AK23=0,0,(AK23*((LOG(AK23))/LOG(2))))","v":0},null,{"$f":"N23","v":21111},{"$f":"COUNTIF(L90:L109,AN23)","v":1},{"$f":"AO23/(AQ4-AO25)","v":5.5555555555555552E-2},{"$f":"IF(AP23=0,0,(AP23*((LOG(AP23))/LOG(2))))","v":-0.23166250008012845},null,{"$f":"N23","v":21111},{"$f":"COUNTIF(L110:L130,AS23)","v":0},{"$f":"AT23/(AV4-AT25)","v":0},{"$f":"IF(AU23=0,0,(AU23*((LOG(AU23))/LOG(2))))","v":0}]
[21,3216,11,3224,11,3259,21,3271,11,3281,1,21121,null,21112,{"$f":"COUNTIF($L$7:$L$500,N24)","v":7},{"$f":"O24/$Q$4","v":5.6910569105691054E-2},{"$f":"IF(P24=0,0,(P24*((LOG(P24))/LOG(2))))","v":-0.23533428522741018},null,null,{"$f":"N24","v":21112},{"$f":"COUNTIF(L7:L27,T24)","v":2},{"$f":"U24/(W4-U25)","v":0.1111111111111111},{"$f":"IF(V24=0,0,(V24*((LOG(V24))/LOG(2))))","v":-0.3522138890491458},null,{"$f":"N24","v":21112},{"$f":"COUNTIF(L28:L47,Y24)","v":3},{"$f":"Z24/(AB4-Z25)","v":0.1875},{"$f":"IF(AA24=0,0,(AA24*((LOG(AA24))/LOG(2))))","v":-0.45281953111478312},null,{"$f":"N24","v":21112},{"$f":"COUNTIF(L48:L68,AD24)","v":1},{"$f":"AE24/(AG4-AE25)","v":5.5555555555555552E-2},{"$f":"IF(AF24=0,0,(AF24*((LOG(AF24))/LOG(2))))","v":-0.23166250008012845},null,{"$f":"N24","v":21112},{"$f":"COUNTIF(L69:L89,AI24)","v":0},{"$f":"AJ24/(AL4-AJ25)","v":0},{"$f":"IF(AK24=0,0,(AK24*((LOG(AK24))/LOG(2))))","v":0},null,{"$f":"N24","v":21112},{"$f":"COUNTIF(L90:L109,AN24)","v":1},{"$f":"AO24/(AQ4-AO25)","v":5.5555555555555552E-2},{"$f":"IF(AP24=0,0,(AP24*((LOG(AP24))/LOG(2))))","v":-0.23166250008012845},null,{"$f":"N24","v":21112},{"$f":"COUNTIF(L110:L130,AS24)","v":0},{"$f":"AT24/(AV4-AT25)","v":0},{"$f":"IF(AU24=0,0,(AU24*((LOG(AU24))/LOG(2))))","v":0}]
[21,3377,11,3387,22,3396,14,3407,24,3450,0,21212,null,21121,{"$f":"COUNTIF($L$7:$L$500,N25)","v":17},{"$f":"O25/$Q$4","v":0.13821138211382114},{"$f":"IF(P25=0,0,(P25*((LOG(P25))/LOG(2))))","v":-0.39460063650009192},null,null,{"$f":"N25","v":21121},{"$f":"COUNTIF(L7:L27,T25)","v":3},null,null,null,{"$f":"N25","v":21121},{"$f":"COUNTIF(L28:L47,Y25)","v":4},null,null,null,{"$f":"N25","v":21121},{"$f":"COUNTIF(L48:L68,AD25)","v":3},null,null,null,{"$f":"N25","v":21121},{"$f":"COUNTIF(L69:L89,AI25)","v":5},null,null,null,{"$f":"N25","v":21121},{"$f":"COUNTIF(L90:L109,AN25)","v":2},null,null,null,{"$f":"N25","v":21121},{"$f":"COUNTIF(L110:L130,AS25)","v":0}]
[21,3561,11,3575,22,3585,14,3593,24,3607,0,21212,null,21122,{"$f":"COUNTIF($L$7:$L$500,N26)","v":1},{"$f":"O26/$Q$4","v":8.130081300813009E-3},{"$f":"IF(P26=0,0,(P26*((LOG(P26))/LOG(2))))","v":-5.6443207360481633E-2},null,null,{"$f":"N26","v":21122},{"$f":"COUNTIF(L7:L27,T26)","v":0},{"$f":"U26/(W4-U25)","v":0},{"$f":"IF(V26=0,0,(V26*((LOG(V26))/LOG(2))))","v":0},null,{"$f":"N26","v":21122},{"$f":"COUNTIF(L28:L47,Y26)","v":0},{"$f":"Z26/(AB4-Z25)","v":0},{"$f":"IF(AA26=0,0,(AA26*((LOG(AA26))/LOG(2))))","v":0},null,{"$f":"N26","v":21122},{"$f":"COUNTIF(L48:L68,AD26)","v":0},{"$f":"AE26/(AG4-AE25)","v":0},{"$f":"IF(AF26=0,0,(AF26*((LOG(AF26))/LOG(2))))","v":0},null,{"$f":"N26","v":21122},{"$f":"COUNTIF(L69:L89,AI26)","v":1},{"$f":"AJ26/(AL4-AJ25)","v":6.25E-2},{"$f":"IF(AK26=0,0,(AK26*((LOG(AK26))/LOG(2))))","v":-0.25},null,{"$f":"N26","v":21122},{"$f":"COUNTIF(L90:L109,AN26)","v":0},{"$f":"AO26/(AQ4-AO25)","v":0},{"$f":"IF(AP26=0,0,(AP26*((LOG(AP26))/LOG(2))))","v":0},null,{"$f":"N26","v":21122},{"$f":"COUNTIF(L110:L130,AS26)","v":0},{"$f":"AT26/(AV4-AT25)","v":0},{"$f":"IF(AU26=0,0,(AU26*((LOG(AU26))/LOG(2))))","v":0}]
[21,3714,11,3722,11,3761,21,3776,11,3794,1,21121,null,21211,{"$f":"COUNTIF($L$7:$L$500,N27)","v":11},{"$f":"O27/$Q$4","v":8.943089430894309E-2},{"$f":"IF(P27=0,0,(P27*((LOG(P27))/LOG(2))))","v":-0.31149521750992981},null,null,{"$f":"N27","v":21211},{"$f":"COUNTIF(L7:L27,T27)","v":0},{"$f":"U27/(W4-U25)","v":0},{"$f":"IF(V27=0,0,(V27*((LOG(V27))/LOG(2))))","v":0},null,{"$f":"N27","v":21211},{"$f":"COUNTIF(L28:L47,Y27)","v":2},{"$f":"Z27/(AB4-Z25)","v":0.125},{"$f":"IF(AA27=0,0,(AA27*((LOG(AA27))/LOG(2))))","v":-0.375},null,{"$f":"N27","v":21211},{"$f":"COUNTIF(L48:L68,AD27)","v":3},{"$f":"AE27/(AG4-AE25)","v":0.16666666666666666},{"$f":"IF(AF27=0,0,(AF27*((LOG(AF27))/LOG(2))))","v":-0.43082708345352599},null,{"$f":"N27","v":21211},{"$f":"COUNTIF(L69:L89,AI27)","v":2},{"$f":"AJ27/(AL4-AJ25)","v":0.125},{"$f":"IF(AK27=0,0,(AK27*((LOG(AK27))/LOG(2))))","v":-0.375},null,{"$f":"N27","v":21211},{"$f":"COUNTIF(L90:L109,AN27)","v":1},{"$f":"AO27/(AQ4-AO25)","v":5.5555555555555552E-2},{"$f":"IF(AP27=0,0,(AP27*((LOG(AP27))/LOG(2))))","v":-0.23166250008012845},null,{"$f":"N27","v":21211},{"$f":"COUNTIF(L110:L130,AS27)","v":3},{"$f":"AT27/(AV4-AT25)","v":0.15},{"$f":"IF(AU27=0,0,(AU27*((LOG(AU27))/LOG(2))))","v":-0.41054483912493089}]
[12,3908,24,3917,24,3929,14,3948,24,3959,0,12212,null,21212,{"$f":"COUNTIF($L$7:$L$500,N28)","v":28},{"$f":"O28/$Q$4","v":0.22764227642276422},{"$f":"IF(P28=0,0,(P28*((LOG(P28))/LOG(2))))","v":-0.48605258806411217},null,null,{"$f":"N28","v":21212},{"$f":"COUNTIF(L7:L27,T28)","v":7},{"$f":"U28/(W4-U25)","v":0.3888888888888889},{"$f":"IF(V28=0,0,(V28*((LOG(V28))/LOG(2))))","v":-0.52988836420516428},null,{"$f":"N28","v":21212},{"$f":"COUNTIF(L28:L47,Y28)","v":0},{"$f":"Z28/(AB4-Z25)","v":0},{"$f":"IF(AA28=0,0,(AA28*((LOG(AA28))/LOG(2))))","v":0},null,{"$f":"N28","v":21212},{"$f":"COUNTIF(L48:L68,AD28)","v":3},{"$f":"AE28/(AG4-AE25)","v":0.16666666666666666},{"$f":"IF(AF28=0,0,(AF28*((LOG(AF28))/LOG(2))))","v":-0.43082708345352599},null,{"$f":"N28","v":21212},{"$f":"COUNTIF(L69:L89,AI28)","v":6},{"$f":"AJ28/(AL4-AJ25)","v":0.375},{"$f":"IF(AK28=0,0,(AK28*((LOG(AK28))/LOG(2))))","v":-0.53063906222956647},null,{"$f":"N28","v":21212},{"$f":"COUNTIF(L90:L109,AN28)","v":4},{"$f":"AO28/(AQ4-AO25)","v":0.22222222222222221},{"$f":"IF(AP28=0,0,(AP28*((LOG(AP28))/LOG(2))))","v":-0.48220555587606945},null,{"$f":"N28","v":21212},{"$f":"COUNTIF(L110:L130,AS28)","v":8},{"$f":"AT28/(AV4-AT25)","v":0.4},{"$f":"IF(AU28=0,0,(AU28*((LOG(AU28))/LOG(2))))","v":-0.52877123795494496}]
[21,4060,11,4069,11,4088,12,4116,24,4129,0,21112,null,21221,{"$f":"COUNTIF($L$7:$L$500,N29)","v":2},{"$f":"O29/$Q$4","v":1.6260162601626018E-2},{"$f":"IF(P29=0,0,(P29*((LOG(P29))/LOG(2))))","v":-9.662625211933723E-2},null,null,{"$f":"N29","v":21221},{"$f":"COUNTIF(L7:L27,T29)","v":0},{"$f":"U29/(W4-U25)","v":0},{"$f":"IF(V29=0,0,(V29*((LOG(V29))/LOG(2))))","v":0},null,{"$f":"N29","v":21221},{"$f":"COUNTIF(L28:L47,Y29)","v":0},{"$f":"Z29/(AB4-Z25)","v":0},{"$f":"IF(AA29=0,0,(AA29*((LOG(AA29))/LOG(2))))","v":0},null,{"$f":"N29","v":21221},{"$f":"COUNTIF(L48:L68,AD29)","v":0},{"$f":"AE29/(AG4-AE25)","v":0},{"$f":"IF(AF29=0,0,(AF29*((LOG(AF29))/LOG(2))))","v":0},null,{"$f":"N29","v":21221},{"$f":"COUNTIF(L69:L89,AI29)","v":1},{"$f":"AJ29/(AL4-AJ25)","v":6.25E-2},{"$f":"IF(AK29=0,0,(AK29*((LOG(AK29))/LOG(2))))","v":-0.25},null,{"$f":"N29","v":21221},{"$f":"COUNTIF(L90:L109,AN29)","v":1},{"$f":"AO29/(AQ4-AO25)","v":5.5555555555555552E-2},{"$f":"IF(AP29=0,0,(AP29*((LOG(AP29))/LOG(2))))","v":-0.23166250008012845},null,{"$f":"N29","v":21221},{"$f":"COUNTIF(L110:L130,AS29)","v":0},{"$f":"AT29/(AV4-AT25)","v":0},{"$f":"IF(AU29=0,0,(AU29*((LOG(AU29))/LOG(2))))","v":0}]
[21,4300,11,4316,22,4329,14,4346,13,4374,0,21211,null,21222,{"$f":"COUNTIF($L$7:$L$500,N30)","v":0},{"$f":"O30/$Q$4","v":0},{"$f":"IF(P30=0,0,(P30*((LOG(P30))/LOG(2))))","v":0},null,null,{"$f":"N30","v":21222},{"$f":"COUNTIF(L7:L27,T30)","v":0},{"$f":"U30/(W4-U25)","v":0},{"$f":"IF(V30=0,0,(V30*((LOG(V30))/LOG(2))))","v":0},null,{"$f":"N30","v":21222},{"$f":"COUNTIF(L28:L47,Y30)","v":0},{"$f":"Z30/(AB4-Z25)","v":0},{"$f":"IF(AA30=0,0,(AA30*((LOG(AA30))/LOG(2))))","v":0},null,{"$f":"N30","v":21222},{"$f":"COUNTIF(L48:L68,AD30)","v":0},{"$f":"AE30/(AG4-AE25)","v":0},{"$f":"IF(AF30=0,0,(AF30*((LOG(AF30))/LOG(2))))","v":0},null,{"$f":"N30","v":21222},{"$f":"COUNTIF(L69:L89,AI30)","v":0},{"$f":"AJ30/(AL4-AJ25)","v":0},{"$f":"IF(AK30=0,0,(AK30*((LOG(AK30))/LOG(2))))","v":0},null,{"$f":"N30","v":21222},{"$f":"COUNTIF(L90:L109,AN30)","v":0},{"$f":"AO30/(AQ4-AO25)","v":0},{"$f":"IF(AP30=0,0,(AP30*((LOG(AP30))/LOG(2))))","v":0},null,{"$f":"N30","v":21222},{"$f":"COUNTIF(L110:L130,AS30)","v":0},{"$f":"AT30/(AV4-AT25)","v":0},{"$f":"IF(AU30=0,0,(AU30*((LOG(AU30))/LOG(2))))","v":0}]
[21,4473,22,4490,13,4509,14,4533,13,4555,0,22111,null,22111,{"$f":"COUNTIF($L$7:$L$500,N31)","v":1},{"$f":"O31/$Q$4","v":8.130081300813009E-3},{"$f":"IF(P31=0,0,(P31*((LOG(P31))/LOG(2))))","v":-5.6443207360481633E-2},null,null,{"$f":"N31","v":22111},{"$f":"COUNTIF(L7:L27,T31)","v":0},{"$f":"U31/(W4-U25)","v":0},{"$f":"IF(V31=0,0,(V31*((LOG(V31))/LOG(2))))","v":0},null,{"$f":"N31","v":22111},{"$f":"COUNTIF(L28:L47,Y31)","v":1},{"$f":"Z31/(AB4-Z25)","v":6.25E-2},{"$f":"IF(AA31=0,0,(AA31*((LOG(AA31))/LOG(2))))","v":-0.25},null,{"$f":"N31","v":22111},{"$f":"COUNTIF(L48:L68,AD31)","v":0},{"$f":"AE31/(AG4-AE25)","v":0},{"$f":"IF(AF31=0,0,(AF31*((LOG(AF31))/LOG(2))))","v":0},null,{"$f":"N31","v":22111},{"$f":"COUNTIF(L69:L89,AI31)","v":0},{"$f":"AJ31/(AL4-AJ25)","v":0},{"$f":"IF(AK31=0,0,(AK31*((LOG(AK31))/LOG(2))))","v":0},null,{"$f":"N31","v":22111},{"$f":"COUNTIF(L90:L109,AN31)","v":0},{"$f":"AO31/(AQ4-AO25)","v":0},{"$f":"IF(AP31=0,0,(AP31*((LOG(AP31))/LOG(2))))","v":0},null,{"$f":"N31","v":22111},{"$f":"COUNTIF(L110:L130,AS31)","v":0},{"$f":"AT31/(AV4-AT25)","v":0},{"$f":"IF(AU31=0,0,(AU31*((LOG(AU31))/LOG(2))))","v":0}]
[12,4689,13,4715,13,4734,23,4747,13,4763,0,11121,null,22112,{"$f":"COUNTIF($L$7:$L$500,N32)","v":4},{"$f":"O32/$Q$4","v":3.2520325203252036E-2},{"$f":"IF(P32=0,0,(P32*((LOG(P32))/LOG(2))))","v":-0.16073217903542245},null,null,{"$f":"N32","v":22112},{"$f":"COUNTIF(L7:L27,T32)","v":1},{"$f":"U32/(W4-U25)","v":5.5555555555555552E-2},{"$f":"IF(V32=0,0,(V32*((LOG(V32))/LOG(2))))","v":-0.23166250008012845},null,{"$f":"N32","v":22112},{"$f":"COUNTIF(L28:L47,Y32)","v":0},{"$f":"Z32/(AB4-Z25)","v":0},{"$f":"IF(AA32=0,0,(AA32*((LOG(AA32))/LOG(2))))","v":0},null,{"$f":"N32","v":22112},{"$f":"COUNTIF(L48:L68,AD32)","v":2},{"$f":"AE32/(AG4-AE25)","v":0.1111111111111111},{"$f":"IF(AF32=0,0,(AF32*((LOG(AF32))/LOG(2))))","v":-0.3522138890491458},null,{"$f":"N32","v":22112},{"$f":"COUNTIF(L69:L89,AI32)","v":1},{"$f":"AJ32/(AL4-AJ25)","v":6.25E-2},{"$f":"IF(AK32=0,0,(AK32*((LOG(AK32))/LOG(2))))","v":-0.25},null,{"$f":"N32","v":22112},{"$f":"COUNTIF(L90:L109,AN32)","v":0},{"$f":"AO32/(AQ4-AO25)","v":0},{"$f":"IF(AP32=0,0,(AP32*((LOG(AP32))/LOG(2))))","v":0},null,{"$f":"N32","v":22112},{"$f":"COUNTIF(L110:L130,AS32)","v":0},{"$f":"AT32/(AV4-AT25)","v":0},{"$f":"IF(AU32=0,0,(AU32*((LOG(AU32))/LOG(2))))","v":0}]
[21,4873,11,4882,22,4908,14,4926,13,4948,0,21211,null,22121,{"$f":"COUNTIF($L$7:$L$500,N33)","v":12},{"$f":"O33/$Q$4","v":9.7560975609756101E-2},{"$f":"IF(P33=0,0,(P33*((LOG(P33))/LOG(2))))","v":-0.32756604923103255},null,null,{"$f":"N33","v":22121},{"$f":"COUNTIF(L7:L27,T33)","v":0},{"$f":"U33/(W4-U25)","v":0},{"$f":"IF(V33=0,0,(V33*((LOG(V33))/LOG(2))))","v":0},null,{"$f":"N33","v":22121},{"$f":"COUNTIF(L28:L47,Y33)","v":0},{"$f":"Z33/(AB4-Z25)","v":0},{"$f":"IF(AA33=0,0,(AA33*((LOG(AA33))/LOG(2))))","v":0},null,{"$f":"N33","v":22121},{"$f":"COUNTIF(L48:L68,AD33)","v":1},{"$f":"AE33/(AG4-AE25)","v":5.5555555555555552E-2},{"$f":"IF(AF33=0,0,(AF33*((LOG(AF33))/LOG(2))))","v":-0.23166250008012845},null,{"$f":"N33","v":22121},{"$f":"COUNTIF(L69:L89,AI33)","v":1},{"$f":"AJ33/(AL4-AJ25)","v":6.25E-2},{"$f":"IF(AK33=0,0,(AK33*((LOG(AK33))/LOG(2))))","v":-0.25},null,{"$f":"N33","v":22121},{"$f":"COUNTIF(L90:L109,AN33)","v":6},{"$f":"AO33/(AQ4-AO25)","v":0.33333333333333331},{"$f":"IF(AP33=0,0,(AP33*((LOG(AP33))/LOG(2))))","v":-0.52832083357371862},null,{"$f":"N33","v":22121},{"$f":"COUNTIF(L110:L130,AS33)","v":4},{"$f":"AT33/(AV4-AT25)","v":0.2},{"$f":"IF(AU33=0,0,(AU33*((LOG(AU33))/LOG(2))))","v":-0.46438561897747244}]
[21,5048,11,5069,11,5101,12,5132,24,5146,0,21112,null,22122,{"$f":"COUNTIF($L$7:$L$500,N34)","v":1},{"$f":"O34/$Q$4","v":8.130081300813009E-3},{"$f":"IF(P34=0,0,(P34*((LOG(P34))/LOG(2))))","v":-5.6443207360481633E-2},null,null,{"$f":"N34","v":22122},{"$f":"COUNTIF(L7:L27,T34)","v":0},{"$f":"U34/(W4-U25)","v":0},{"$f":"IF(V34=0,0,(V34*((LOG(V34))/LOG(2))))","v":0},null,{"$f":"N34","v":22122},{"$f":"COUNTIF(L28:L47,Y34)","v":0},{"$f":"Z34/(AB4-Z25)","v":0},{"$f":"IF(AA34=0,0,(AA34*((LOG(AA34))/LOG(2))))","v":0},null,{"$f":"N34","v":22122},{"$f":"COUNTIF(L48:L68,AD34)","v":1},{"$f":"AE34/(AG4-AE25)","v":5.5555555555555552E-2},{"$f":"IF(AF34=0,0,(AF34*((LOG(AF34))/LOG(2))))","v":-0.23166250008012845},null,{"$f":"N34","v":22122},{"$f":"COUNTIF(L69:L89,AI34)","v":0},{"$f":"AJ34/(AL4-AJ25)","v":0},{"$f":"IF(AK34=0,0,(AK34*((LOG(AK34))/LOG(2))))","v":0},null,{"$f":"N34","v":22122},{"$f":"COUNTIF(L90:L109,AN34)","v":0},{"$f":"AO34/(AQ4-AO25)","v":0},{"$f":"IF(AP34=0,0,(AP34*((LOG(AP34))/LOG(2))))","v":0},null,{"$f":"N34","v":22122},{"$f":"COUNTIF(L110:L130,AS34)","v":0},{"$f":"AT34/(AV4-AT25)","v":0},{"$f":"IF(AU34=0,0,(AU34*((LOG(AU34))/LOG(2))))","v":0}]
[21,5255,11,5263,11,5300,21,5313,11,5322,1,21121,null,22211,{"$f":"COUNTIF($L$7:$L$500,N35)","v":4},{"$f":"O35/$Q$4","v":3.2520325203252036E-2},{"$f":"IF(P35=0,0,(P35*((LOG(P35))/LOG(2))))","v":-0.16073217903542245},null,null,{"$f":"N35","v":22211},{"$f":"COUNTIF(L7:L27,T35)","v":0},{"$f":"U35/(W4-U25)","v":0},{"$f":"IF(V35=0,0,(V35*((LOG(V35))/LOG(2))))","v":0},null,{"$f":"N35","v":22211},{"$f":"COUNTIF(L28:L47,Y35)","v":0},{"$f":"Z35/(AB4-Z25)","v":0},{"$f":"IF(AA35=0,0,(AA35*((LOG(AA35))/LOG(2))))","v":0},null,{"$f":"N35","v":22211},{"$f":"COUNTIF(L48:L68,AD35)","v":2},{"$f":"AE35/(AG4-AE25)","v":0.1111111111111111},{"$f":"IF(AF35=0,0,(AF35*((LOG(AF35))/LOG(2))))","v":-0.3522138890491458},null,{"$f":"N35","v":22211},{"$f":"COUNTIF(L69:L89,AI35)","v":0},{"$f":"AJ35/(AL4-AJ25)","v":0},{"$f":"IF(AK35=0,0,(AK35*((LOG(AK35))/LOG(2))))","v":0},null,{"$f":"N35","v":22211},{"$f":"COUNTIF(L90:L109,AN35)","v":0},{"$f":"AO35/(AQ4-AO25)","v":0},{"$f":"IF(AP35=0,0,(AP35*((LOG(AP35))/LOG(2))))","v":0},null,{"$f":"N35","v":22211},{"$f":"COUNTIF(L110:L130,AS35)","v":2},{"$f":"AT35/(AV4-AT25)","v":0.1},{"$f":"IF(AU35=0,0,(AU35*((LOG(AU35))/LOG(2))))","v":-0.33219280948873625}]
[21,5451,11,5469,11,5493,21,5506,11,5537,1,21121,null,22212,{"$f":"COUNTIF($L$7:$L$500,N36)","v":6},{"$f":"O36/$Q$4","v":4.878048780487805E-2},{"$f":"IF(P36=0,0,(P36*((LOG(P36))/LOG(2))))","v":-0.21256351242039428},null,null,{"$f":"N36","v":22212},{"$f":"COUNTIF(L7:L27,T36)","v":0},{"$f":"U36/(W4-U25)","v":0},{"$f":"IF(V36=0,0,(V36*((LOG(V36))/LOG(2))))","v":0},null,{"$f":"N36","v":22212},{"$f":"COUNTIF(L28:L47,Y36)","v":0},{"$f":"Z36/(AB4-Z25)","v":0},{"$f":"IF(AA36=0,0,(AA36*((LOG(AA36))/LOG(2))))","v":0},null,{"$f":"N36","v":22212},{"$f":"COUNTIF(L48:L68,AD36)","v":0},{"$f":"AE36/(AG4-AE25)","v":0},{"$f":"IF(AF36=0,0,(AF36*((LOG(AF36))/LOG(2))))","v":0},null,{"$f":"N36","v":22212},{"$f":"COUNTIF(L69:L89,AI36)","v":1},{"$f":"AJ36/(AL4-AJ25)","v":6.25E-2},{"$f":"IF(AK36=0,0,(AK36*((LOG(AK36))/LOG(2))))","v":-0.25},null,{"$f":"N36","v":22212},{"$f":"COUNTIF(L90:L109,AN36)","v":3},{"$f":"AO36/(AQ4-AO25)","v":0.16666666666666666},{"$f":"IF(AP36=0,0,(AP36*((LOG(AP36))/LOG(2))))","v":-0.43082708345352599},null,{"$f":"N36","v":22212},{"$f":"COUNTIF(L110:L130,AS36)","v":2},{"$f":"AT36/(AV4-AT25)","v":0.1},{"$f":"IF(AU36=0,0,(AU36*((LOG(AU36))/LOG(2))))","v":-0.33219280948873625}]
[12,5636,24,5656,24,5680,23,5692,13,5708,0,12221,null,22221,{"$f":"COUNTIF($L$7:$L$500,N37)","v":2},{"$f":"O37/$Q$4","v":1.6260162601626018E-2},{"$f":"IF(P37=0,0,(P37*((LOG(P37))/LOG(2))))","v":-9.662625211933723E-2},null,null,{"$f":"N37","v":22221},{"$f":"COUNTIF(L7:L27,T37)","v":0},{"$f":"U37/(W4-U25)","v":0},{"$f":"IF(V37=0,0,(V37*((LOG(V37))/LOG(2))))","v":0},null,{"$f":"N37","v":22221},{"$f":"COUNTIF(L28:L47,Y37)","v":1},{"$f":"Z37/(AB4-Z25)","v":6.25E-2},{"$f":"IF(AA37=0,0,(AA37*((LOG(AA37))/LOG(2))))","v":-0.25},null,{"$f":"N37","v":22221},{"$f":"COUNTIF(L48:L68,AD37)","v":0},{"$f":"AE37/(AG4-AE25)","v":0},{"$f":"IF(AF37=0,0,(AF37*((LOG(AF37))/LOG(2))))","v":0},null,{"$f":"N37","v":22221},{"$f":"COUNTIF(L69:L89,AI37)","v":1},{"$f":"AJ37/(AL4-AJ25)","v":6.25E-2},{"$f":"IF(AK37=0,0,(AK37*((LOG(AK37))/LOG(2))))","v":-0.25},null,{"$f":"N37","v":22221},{"$f":"COUNTIF(L90:L109,AN37)","v":0},{"$f":"AO37/(AQ4-AO25)","v":0},{"$f":"IF(AP37=0,0,(AP37*((LOG(AP37))/LOG(2))))","v":0},null,{"$f":"N37","v":22221},{"$f":"COUNTIF(L110:L130,AS37)","v":0},{"$f":"AT37/(AV4-AT25)","v":0},{"$f":"IF(AU37=0,0,(AU37*((LOG(AU37))/LOG(2))))","v":0}]
[21,5829,11,5844,11,5865,21,5890,11,5905,1,21121,null,22222,{"$f":"COUNTIF($L$7:$L$500,N38)","v":3},{"$f":"O38/$Q$4","v":2.4390243902439025E-2},{"$f":"IF(P38=0,0,(P38*((LOG(P38))/LOG(2))))","v":-0.13067200011263619},null,null,{"$f":"N38","v":22222},{"$f":"COUNTIF(L7:L27,T38)","v":1},{"$f":"U38/(W4-U25)","v":5.5555555555555552E-2},{"$f":"IF(V38=0,0,(V38*((LOG(V38))/LOG(2))))","v":-0.23166250008012845},null,{"$f":"N38","v":22222},{"$f":"COUNTIF(L28:L47,Y38)","v":0},{"$f":"Z38/(AB4-Z25)","v":0},{"$f":"IF(AA38=0,0,(AA38*((LOG(AA38))/LOG(2))))","v":0},null,{"$f":"N38","v":22222},{"$f":"COUNTIF(L48:L68,AD38)","v":0},{"$f":"AE38/(AG4-AE25)","v":0},{"$f":"IF(AF38=0,0,(AF38*((LOG(AF38))/LOG(2))))","v":0},null,{"$f":"N38","v":22222},{"$f":"COUNTIF(L69:L89,AI38)","v":1},{"$f":"AJ38/(AL4-AJ25)","v":6.25E-2},{"$f":"IF(AK38=0,0,(AK38*((LOG(AK38))/LOG(2))))","v":-0.25},null,{"$f":"N38","v":22222},{"$f":"COUNTIF(L90:L109,AN38)","v":1},{"$f":"AO38/(AQ4-AO25)","v":5.5555555555555552E-2},{"$f":"IF(AP38=0,0,(AP38*((LOG(AP38))/LOG(2))))","v":-0.23166250008012845},null,{"$f":"N38","v":22222},{"$f":"COUNTIF(L110:L130,AS38)","v":0},{"$f":"AT38/(AV4-AT25)","v":0},{"$f":"IF(AU38=0,0,(AU38*((LOG(AU38))/LOG(2))))","v":0}]
[21,6010,22,6018,24,6027,23,6053,13,6069,0,22221,null,null,null,{"$f":"SUM(P7:P38)","v":1},{"$f":"-SUM(Q7:Q38)","v":3.9031881769198087},null,null,null,null,{"$f":"SUM(V7:V38)","v":1},{"$f":"-SUM(W7:W38)","v":2.6337314206421327},null,null,null,{"$f":"SUM(AA7:AA38)","v":1},{"$f":"-SUM(AB7:AB38)","v":3.4528195311147831},null,null,null,{"$f":"SUM(AF7:AF38)","v":1},{"$f":"-SUM(AG7:AG38)","v":3.3082708345352598},null,null,null,{"$f":"SUM(AK7:AK38)","v":1},{"$f":"-SUM(AL7:AL38)","v":2.9056390622295662},null,null,null,{"$f":"SUM(AP7:AP38)","v":0.99999999999999989},{"$f":"-SUM(AQ7:AQ38)","v":2.5996659733039564},null,null,null,{"$f":"SUM(AU7:AU38)","v":1},{"$f":"-SUM(AV7:AV38)","v":2.2841837197791888}]
[12,6182,13,6210,24,6223,14,6232,24,6246,0,11212,null,null,null,"U=",{"$f":"Q39/(LOG(Q4)/LOG(2))","v":0.56221534343471746},null,null,null,null,"U1=",{"$f":"W39/(LOG(W4)/LOG(2))","v":0.59962228753857361},null,null,null,"U2=",{"$f":"AB39/(LOG(AB4)/LOG(2))","v":0.79890721347245597},null,null,null,"U3=",{"$f":"AG39/(LOG(AG4)/LOG(2))","v":0.75319484365551881},null,null,null,"U4=",{"$f":"AL39/(LOG(AL4)/LOG(2))","v":0.66152756792138656},null,null,null,"U5=",{"$f":"AQ39/(LOG(AQ4)/LOG(2))","v":0.60150606771529558},null,null,null,"U6=",{"$f":"AV39/(LOG(AV4)/LOG(2))","v":0.5285103476111207}]
[21,6383,11,6400,11,6442,12,6482,24,6550,0,21112]
[12,6706,13,6729,13,6756,14,6772,13,6868,0,11111]
[21,6981,11,6994,11,7027,12,7050,13,7059,0,21111,null,"Total Target Seq"]
[12,7167,24,7178,13,7195,14,7219,13,7259,0,12111,null,{"$f":"COUNTIF(L7:L130,G3)","v":17},null,21,20,21,21,20,21]
[21,7384,11,7396,11,7438,21,7452,11,7461,1,21121,null,null,null,"% of reinforcement given in 6 equal intervals based on number of trials "]
[12,7563,24,7582,24,7655,14,7669,13,7703,0,12211,null,null,null,"%_1","%_2","%_3","%_4","%_5","%_6"]
[12,7821,13,7835,24,7890,14,7907,24,7923,0,11212,null,null,"target sequence",{"$f":"$G$3","v":21121},{"$f":"$G$3","v":21121},{"$f":"$G$3","v":21121},{"$f":"$G$3","v":21121},{"$f":"$G$3","v":21121},{"$f":"$G$3","v":21121}]
[21,8023,11,8035,11,8064,12,8090,13,8108,0,21111,null,null,"total reinforcement",{"$f":"U25","v":3},{"$f":"Z25","v":4},{"$f":"AE25","v":3},{"$f":"AJ25","v":5},{"$f":"AO25","v":2},{"$f":"AT25","v":0}]
[12,8223,13,8242,13,8292,23,8304,13,8320,0,11121,null,null,"% target"]
[12,8447,13,8456,13,8490,14,8517,13,8543,0,11111,null,null,"CCRF"]
[12,8660,13,8718,24,8728,14,8738,13,8745,0,11211,null,null,"% CCRf"]
[21,8845,11,8856,11,8882,21,8895,11,8904,1,21121,null,null,"average response rate",{"$f":"J27/P44","v":180.66666666666666},{"$f":"(J47-J27)/Q44","v":206.45},{"$f":"(J68-J47)/R44","v":198.42857142857142},{"$f":"(J89-J68)/S44","v":210},{"$f":"(J109-J89)/T44","v":183.15},{"$f":"(J130-J109)/U44","v":-960.14285714285711}]
[21,8998,11,9009,22,9032,14,9097,24,9109,0,21212]
[21,9209,11,9222,11,9256,21,9269,11,9285,1,21121]
[21,9426,22,9443,24,9480,14,9500,13,9528,0,22211]
[21,9643,11,9672,22,9685,14,9699,24,9726,0,21212]
[21,9826,11,9839,11,9878,12,9902,24,9938,0,21112]
[21,10047,11,10056,11,10081,12,10120,13,10140,0,21111]
[21,10246,11,10263,11,10301,21,10341,11,10357,1,21121]
[21,10493,22,10507,13,10527,14,10539,24,10552,0,22112]
[21,10650,11,10718,22,10776,14,10792,13,10803,0,21211]
[21,10910,22,10935,13,10957,14,10964,24,10977,0,22112]
[21,11083,11,11103,22,11116,14,11133,13,11142,0,21211]
[21,11268,22,11289,24,11297,14,11313,13,11327,0,22211]
[21,11440,11,11459,22,11472,14,11481,13,11489,0,21211]
[21,11591,22,11607,13,11620,23,11661,13,11671,0,22121]
[21,11781,22,11813,13,11842,23,11885,24,11903,0,22122]
[21,12002,11,12014,22,12034,14,12048,24,12090,0,21212]
[21,12206,22,12217,24,12239,23,12253,24,12288,0,22222]
[21,12390,11,12409,11,12437,21,12464,11,12483,1,21121]
[21,12577,22,12599,24,12622,14,12638,24,12656,0,22212]
[21,12759,11,12777,22,12786,14,12803,24,12861,0,21212]
[21,12986,11,12998,11,13055,21,13067,11,13082,1,21121]
[21,13194,11,13259,11,13282,21,13302,22,13336,0,21122]
[21,13443,11,13467,11,13503,21,13516,11,13535,1,21121]
[21,13646,11,13657,22,13682,14,13702,24,13727,0,21212]
[21,13834,22,13887,24,13898,23,13907,13,13927,0,22221]
[21,14027,11,14047,22,14067,14,14082,13,14093,0,21211]
[12,14230,24,14251,13,14267,23,14279,24,14293,0,12122]
[21,14401,11,14416,22,14425,14,14437,24,14461,0,21212]
[21,14558,11,14581,22,14617,14,14641,13,14653,0,21211]
[21,14752,11,14764,22,14791,14,14805,24,14817,0,21212]
[21,14946,11,14960,22,14987,14,15008,24,15034,0,21212]
[21,15471,11,15486,11,15518,21,15530,11,15553,1,21121]
[21,15660,11,15670,22,15730,14,15744,24,15758,0,21212]
[21,15861,11,15874,11,15908,21,15920,11,15935,1,21121]
[21,16045,11,16060,22,16081,23,16125,13,16161,0,21221]
[21,16262,22,16276,13,16296,14,16324,24,16338,0,22112]
[21,16439,22,16451,13,16465,23,16485,13,16500,0,22121]
[21,16601,22,16626,13,16650,23,16663,13,16680,0,22121]
[21,16780,11,16801,22,16816,14,16828,24,16857,0,21212]
[21,16956,22,16980,13,16994,23,17011,13,17031,0,22121]
[21,17139,11,17150,22,17179,23,17195,13,17217,0,21221]
[21,17326,11,17346,22,17359,14,17372,24,17390,0,21212]
[21,17500,11,17514,22,17528,14,17546,13,17568,0,21211]
[21,17678,22,17695,24,17714,14,17731,24,17756,0,22212]
[21,17856,11,17867,11,17889,21,17908,11,17923,1,21121]
[21,18018,22,18031,24,18051,14,18068,24,18090,0,22212]
[21,18192,11,18218,22,18231,14,18241,24,18257,0,21212]
[21,18375,11,18406,11,18439,12,18447,24,18460,0,21112]
[21,18560,22,18568,24,18608,14,18622,24,18668,0,22212]
[21,18785,22,18799,13,18820,23,18837,13,18851,0,22121]
[21,18953,22,18968,24,18984,23,19001,24,19009,0,22222]
[21,19138,11,19152,11,19178,12,19194,13,19229,0,21111]
[21,19364,11,19384,11,19409,21,19428,11,19449,1,21121]
[21,19556,22,19607,13,19620,23,19636,13,19650,0,22121]
[21,19749,22,19775,13,19789,23,19806,13,19826,0,22121]
[21,19929,22,19946,13,19961,23,19974,13,19988,0,22121]
[21,20088,11,20104,22,20124,14,20142,24,20163,0,21212]
[21,20263,22,20285,13,20299,23,20319,13,20334,0,22121]
[12,20437,24,20449,24,20461,14,20484,24,20500,0,12212]
[21,20642,11,20666,22,20678,14,20693,13,20702,0,21211]
[21,20812,11,20826,22,20842,14,20857,24,20882,0,21212]
[21,20982,22,21020,24,21047,14,21062,24,21079,0,22212]
[21,21201,11,21223,22,21234,14,21244,13,21288,0,21211]
[21,21390,11,21402,22,21421,14,21441,24,21491,0,21212]
[21,21633,11,21649,22,21661,14,21678,24,21694,0,21212]
[21,21824,22,21848,13,21867,23,21883,13,21897,0,22121]
[21,22000,11,22012,22,22029,14,22043,24,22060,0,21212]
[21,22186,22,22194,13,22207,23,22224,13,22234,0,22121]
[21,22355,11,22368,22,22381,14,22396,24,22412,0,21212]
[21,22513,22,22523,24,22541,14,22554,13,22574,0,22211]
[21,22672,11,22683,22,22693,14,22706,24,22722,0,21212]
[21,22860,11,22878,22,22891,14,22906,13,22921,0,21211]
[21,23031,22,23045,13,23066,23,23081,13,23095,0,22121]
[21,23207,11,23224,22,23236,14,23257,24,23282,0,21212]
[21,23389,11,23410,22,23429,14,23448,24,23463,0,21212]
[21,23578,22,23587,24,23625,14,23639,24,23656,0,22212]
[21,23759,22,23791,24,23802,14,23822,13,23830,0,22211]
[21,23946,22,23979,13,24001,null,null,null,null,null,221]

{"sheet":"!MA17C00.010","index":20,"n_rows":146,"n_cols":48,"rows_kept":146,"cut":false,"hidden":false,"merged":[[4,39,4,42],[5,39,5,40],[4,44,4,47],[5,44,5,45],[4,24,4,27],[5,24,5,25],[4,29,4,32],[5,29,5,30],[4,34,4,37],[5,34,5,35],[1,1,1,2],[5,13,5,14],[42,13,42,14],[43,13,43,14],[4,19,4,22],[5,19,5,20]]}
["Report for:!MA17C00.010"]
["Date:","<date>"]
["Hen:","<hen>",null,null,null,"Correct Sequence",{"$f":"Start!J2","v":21121},null,null,null,null,null,null,null,null,"Total Sequences in Data",{"$f":"4994-COUNTBLANK(L7:L5000)","v":140},null,null,null,null,"Total Sequences in Block Data",{"$f":"COUNTA(L7:L29)","v":23},null,null,null,"Total Sequences in Block Data",{"$f":"COUNTA(L30:L53)","v":24},null,null,null,"Total Sequences in Block Data",{"$f":"COUNTA(L54:L76)","v":23},null,null,null,"Total Sequences in Block Data",{"$f":"COUNTA(L77:L99)","v":23},null,null,null,"Total Sequences in Block Data",{"$f":"COUNTA(L100:L123)","v":24},null,null,null,"Total Sequences in Block Data",{"$f":"COUNTA(L124:L146)","v":23}]
[null,null,null,null,null,null,null,null,null,null,null,null,null,null,null,"Total Sequences in Summary",{"$f":"SUM(O7:O38)","v":140},null,null,null,null,"Total Sequences in Block Summary",{"$f":"SUM(U7:U38)","v":23},null,null,null,"Total Sequences in Block Summary",{"$f":"SUM(Z7:Z38)","v":24},null,null,null,"Total Sequences in Block Summary",{"$f":"SUM(AE7:AE38)","v":23},null,null,null,"Total Sequences in Block Summary",{"$f":"SUM(AJ7:AJ38)","v":23},null,null,null,"Total Sequences in Block Summary",{"$f":"SUM(AO7:AO38)","v":24},null,null,null,"Total Sequences in Block Summary",{"$f":"SUM(AT7:AT38)","v":23}]
[null,null,null,null,null,null,null,null,null,null,null,null,null,null,null,null,null,null,null,"Block 1",null,null,null,null,"Block 2",null,null,null,null,"Block 3",null,null,null,null,"Block 4",null,null,null,null,"Block 5",null,null,null,null,"Block 6"]
["Sequence\nComponent\n1","Time\n1","Sequence\nComponent\n2","Time\n2","Sequence\nComponent\n3","Time\n3","Sequence\nComponent\n4","Time\n4","Sequence\nComponent\n5","Time\n5","Correct?\n0=No 1=Yes","Sequence",null,"Frequency",null,"Relative Frequency","Variability",null,null,"Frequency",null,"Relative Frequency","Variability",null,"Frequency",null,"Relative Frequency","Variability",null,"Frequency",null,"Relative Frequency","Variability",null,"Frequency",null,"Relative Frequency","Variability",null,"Frequency",null,"Relative Frequency","Variability",null,"Frequency",null,"Relative Frequency","Variability"]
[12,8,24,21,13,43,23,53,24,72,0,12122,null,11111,{"$f":"COUNTIF($L$7:$L$500,N7)","v":0},{"$f":"O7/$Q$4","v":0},{"$f":"IF(P7=0,0,(P7*((LOG(P7))/LOG(2))))","v":0},null,null,{"$f":"N7","v":11111},{"$f":"COUNTIF(L7:L29,T7)","v":0},{"$f":"U7/(W4-U25)","v":0},{"$f":"IF(V7=0,0,(V7*((LOG(V7))/LOG(2))))","v":0},null,{"$f":"N7","v":11111},{"$f":"COUNTIF(L30:L53,Y7)","v":0},{"$f":"Z7/(AB4-Z25)","v":0},{"$f":"IF(AA7=0,0,(AA7*((LOG(AA7))/LOG(2))))","v":0},null,{"$f":"N7","v":11111},{"$f":"COUNTIF(L54:L76,AD7)","v":0},{"$f":"AE7/(AG4-AE25)","v":0},{"$f":"IF(AF7=0,0,(AF7*((LOG(AF7))/LOG(2))))","v":0},null,{"$f":"N7","v":11111},{"$f":"COUNTIF(L77:L99,AI7)","v":0},{"$f":"AJ7/(AL4-AJ25)","v":0},{"$f":"IF(AK7=0,0,(AK7*((LOG(AK7))/LOG(2))))","v":0},null,{"$f":"N7","v":11111},{"$f":"COUNTIF(L100:L123,AN7)","v":0},{"$f":"AO7/(AQ4-AO25)","v":0},{"$f":"IF(AP7=0,0,(AP7*((LOG(AP7))/LOG(2))))","v":0},null,{"$f":"N7","v":11111},{"$f":"COUNTIF(L124:L146,AS7)","v":0},{"$f":"AT7/(AV4-AT25)","v":0},{"$f":"IF(AU7=0,0,(AU7*((LOG(AU7))/LOG(2))))","v":0}]
[12,177,13,202,13,226,23,237,13,251,0,11121,null,11112,{"$f":"COUNTIF($L$7:$L$500,N8)","v":0},{"$f":"O8/$Q$4","v":0},{"$f":"IF(P8=0,0,(P8*((LOG(P8))/LOG(2))))","v":0},null,null,{"$f":"N8","v":11112},{"$f":"COUNTIF(L7:L29,T8)","v":0},{"$f":"U8/(W4-U25)","v":0},{"$f":"IF(V8=0,0,(V8*((LOG(V8))/LOG(2))))","v":0},null,{"$f":"N8","v":11112},{"$f":"COUNTIF(L30:L53,Y8)","v":0},{"$f":"Z8/(AB4-Z25)","v":0},{"$f":"IF(AA8=0,0,(AA8*((LOG(AA8))/LOG(2))))","v":0},null,{"$f":"N8","v":11112},{"$f":"COUNTIF(L54:L76,AD8)","v":0},{"$f":"AE8/(AG4-AE25)","v":0},{"$f":"IF(AF8=0,0,(AF8*((LOG(AF8))/LOG(2))))","v":0},null,{"$f":"N8","v":11112},{"$f":"COUNTIF(L77:L99,AI8)","v":0},{"$f":"AJ8/(AL4-AJ25)","v":0},{"$f":"IF(AK8=0,0,(AK8*((LOG(AK8))/LOG(2))))","v":0},null,{"$f":"N8","v":11112},{"$f":"COUNTIF(L100:L123,AN8)","v":0},{"$f":"AO8/(AQ4-AO25)","v":0},{"$f":"IF(AP8=0,0,(AP8*((LOG(AP8))/LOG(2))))","v":0},null,{"$f":"N8","v":11112},{"$f":"COUNTIF(L124:L146,AS8)","v":0},{"$f":"AT8/(AV4-AT25)","v":0},{"$f":"IF(AU8=0,0,(AU8*((LOG(AU8))/LOG(2))))","v":0}]
[12,356,13,388,24,398,14,410,24,422,0,11212,null,11121,{"$f":"COUNTIF($L$7:$L$500,N9)","v":7},{"$f":"O9/$Q$4","v":0.05},{"$f":"IF(P9=0,0,(P9*((LOG(P9))/LOG(2))))","v":-0.21609640474436814},null,null,{"$f":"N9","v":11121},{"$f":"COUNTIF(L7:L29,T9)","v":1},{"$f":"U9/(W4-U25)","v":4.7619047619047616E-2},{"$f":"IF(V9=0,0,(V9*((LOG(V9))/LOG(2))))","v":-0.20915797251327431},null,{"$f":"N9","v":11121},{"$f":"COUNTIF(L30:L53,Y9)","v":1},{"$f":"Z9/(AB4-Z25)","v":4.7619047619047616E-2},{"$f":"IF(AA9=0,0,(AA9*((LOG(AA9))/LOG(2))))","v":-0.20915797251327431},null,{"$f":"N9","v":11121},{"$f":"COUNTIF(L54:L76,AD9)","v":2},{"$f":"AE9/(AG4-AE25)","v":0.10526315789473684},{"$f":"IF(AF9=0,0,(AF9*((LOG(AF9))/LOG(2))))","v":-0.34188710667827216},null,{"$f":"N9","v":11121},{"$f":"COUNTIF(L77:L99,AI9)","v":2},{"$f":"AJ9/(AL4-AJ25)","v":9.0909090909090912E-2},{"$f":"IF(AK9=0,0,(AK9*((LOG(AK9))/LOG(2))))","v":-0.31449378351248153},null,{"$f":"N9","v":11121},{"$f":"COUNTIF(L100:L123,AN9)","v":0},{"$f":"AO9/(AQ4-AO25)","v":0},{"$f":"IF(AP9=0,0,(AP9*((LOG(AP9))/LOG(2))))","v":0},null,{"$f":"N9","v":11121},{"$f":"COUNTIF(L124:L146,AS9)","v":1},{"$f":"AT9/(AV4-AT25)","v":0.05},{"$f":"IF(AU9=0,0,(AU9*((LOG(AU9))/LOG(2))))","v":-0.21609640474436814}]
[12,526,24,538,13,565,23,574,13,588,0,12121,null,11122,{"$f":"COUNTIF($L$7:$L$500,N10)","v":2},{"$f":"O10/$Q$4","v":1.4285714285714285E-2},{"$f":"IF(P10=0,0,(P10*((LOG(P10))/LOG(2))))","v":-8.756118595635666E-2},null,null,{"$f":"N10","v":11122},{"$f":"COUNTIF(L7:L29,T10)","v":0},{"$f":"U10/(W4-U25)","v":0},{"$f":"IF(V10=0,0,(V10*((LOG(V10))/LOG(2))))","v":0},null,{"$f":"N10","v":11122},{"$f":"COUNTIF(L30:L53,Y10)","v":0},{"$f":"Z10/(AB4-Z25)","v":0},{"$f":"IF(AA10=0,0,(AA10*((LOG(AA10))/LOG(2))))","v":0},null,{"$f":"N10","v":11122},{"$f":"COUNTIF(L54:L76,AD10)","v":2},{"$f":"AE10/(AG4-AE25)","v":0.10526315789473684},{"$f":"IF(AF10=0,0,(AF10*((LOG(AF10))/LOG(2))))","v":-0.34188710667827216},null,{"$f":"N10","v":11122},{"$f":"COUNTIF(L77:L99,AI10)","v":0},{"$f":"AJ10/(AL4-AJ25)","v":0},{"$f":"IF(AK10=0,0,(AK10*((LOG(AK10))/LOG(2))))","v":0},null,{"$f":"N10","v":11122},{"$f":"COUNTIF(L100:L123,AN10)","v":0},{"$f":"AO10/(AQ4-AO25)","v":0},{"$f":"IF(AP10=0,0,(AP10*((LOG(AP10))/LOG(2))))","v":0},null,{"$f":"N10","v":11122},{"$f":"COUNTIF(L124:L146,AS10)","v":0},{"$f":"AT10/(AV4-AT25)","v":0},{"$f":"IF(AU10=0,0,(AU10*((LOG(AU10))/LOG(2))))","v":0}]
[12,697,24,708,13,720,14,737,24,745,0,12112,null,11211,{"$f":"COUNTIF($L$7:$L$500,N11)","v":3},{"$f":"O11/$Q$4","v":2.1428571428571429E-2},{"$f":"IF(P11=0,0,(P11*((LOG(P11))/LOG(2))))","v":-0.11880686820479594},null,null,{"$f":"N11","v":11211},{"$f":"COUNTIF(L7:L29,T11)","v":1},{"$f":"U11/(W4-U25)","v":4.7619047619047616E-2},{"$f":"IF(V11=0,0,(V11*((LOG(V11))/LOG(2))))","v":-0.20915797251327431},null,{"$f":"N11","v":11211},{"$f":"COUNTIF(L30:L53,Y11)","v":0},{"$f":"Z11/(AB4-Z25)","v":0},{"$f":"IF(AA11=0,0,(AA11*((LOG(AA11))/LOG(2))))","v":0},null,{"$f":"N11","v":11211},{"$f":"COUNTIF(L54:L76,AD11)","v":2},{"$f":"AE11/(AG4-AE25)","v":0.10526315789473684},{"$f":"IF(AF11=0,0,(AF11*((LOG(AF11))/LOG(2))))","v":-0.34188710667827216},null,{"$f":"N11","v":11211},{"$f":"COUNTIF(L77:L99,AI11)","v":0},{"$f":"AJ11/(AL4-AJ25)","v":0},{"$f":"IF(AK11=0,0,(AK11*((LOG(AK11))/LOG(2))))","v":0},null,{"$f":"N11","v":11211},{"$f":"COUNTIF(L100:L123,AN11)","v":0},{"$f":"AO11/(AQ4-AO25)","v":0},{"$f":"IF(AP11=0,0,(AP11*((LOG(AP11))/LOG(2))))","v":0},null,{"$f":"N11","v":11211},{"$f":"COUNTIF(L124:L146,AS11)","v":0},{"$f":"AT11/(AV4-AT25)","v":0},{"$f":"IF(AU11=0,0,(AU11*((LOG(AU11))/LOG(2))))","v":0}]
[12,858,24,866,13,890,14,915,24,930,0,12112,null,11212,{"$f":"COUNTIF($L$7:$L$500,N12)","v":9},{"$f":"O12/$Q$4","v":6.4285714285714279E-2},{"$f":"IF(P12=0,0,(P12*((LOG(P12))/LOG(2))))","v":-0.25453015813945634},null,null,{"$f":"N12","v":11212},{"$f":"COUNTIF(L7:L29,T12)","v":1},{"$f":"U12/(W4-U25)","v":4.7619047619047616E-2},{"$f":"IF(V12=0,0,(V12*((LOG(V12))/LOG(2))))","v":-0.20915797251327431},null,{"$f":"N12","v":11212},{"$f":"COUNTIF(L30:L53,Y12)","v":3},{"$f":"Z12/(AB4-Z25)","v":0.14285714285714285},{"$f":"IF(AA12=0,0,(AA12*((LOG(AA12))/LOG(2))))","v":-0.40105070315108626},null,{"$f":"N12","v":11212},{"$f":"COUNTIF(L54:L76,AD12)","v":1},{"$f":"AE12/(AG4-AE25)","v":5.2631578947368418E-2},{"$f":"IF(AF12=0,0,(AF12*((LOG(AF12))/LOG(2))))","v":-0.22357513228650452},null,{"$f":"N12","v":11212},{"$f":"COUNTIF(L77:L99,AI12)","v":4},{"$f":"AJ12/(AL4-AJ25)","v":0.18181818181818182},{"$f":"IF(AK12=0,0,(AK12*((LOG(AK12))/LOG(2))))","v":-0.44716938520678134},null,{"$f":"N12","v":11212},{"$f":"COUNTIF(L100:L123,AN12)","v":0},{"$f":"AO12/(AQ4-AO25)","v":0},{"$f":"IF(AP12=0,0,(AP12*((LOG(AP12))/LOG(2))))","v":0},null,{"$f":"N12","v":11212},{"$f":"COUNTIF(L124:L146,AS12)","v":0},{"$f":"AT12/(AV4-AT25)","v":0},{"$f":"IF(AU12=0,0,(AU12*((LOG(AU12))/LOG(2))))","v":0}]
[12,1036,24,1070,13,1080,23,1093,13,1102,0,12121,null,11221,{"$f":"COUNTIF($L$7:$L$500,N13)","v":1},{"$f":"O13/$Q$4","v":7.1428571428571426E-3},{"$f":"IF(P13=0,0,(P13*((LOG(P13))/LOG(2))))","v":-5.0923450121035475E-2},null,null,{"$f":"N13","v":11221},{"$f":"COUNTIF(L7:L29,T13)","v":0},{"$f":"U13/(W4-U25)","v":0},{"$f":"IF(V13=0,0,(V13*((LOG(V13))/LOG(2))))","v":0},null,{"$f":"N13","v":11221},{"$f":"COUNTIF(L30:L53,Y13)","v":0},{"$f":"Z13/(AB4-Z25)","v":0},{"$f":"IF(AA13=0,0,(AA13*((LOG(AA13))/LOG(2))))","v":0},null,{"$f":"N13","v":11221},{"$f":"COUNTIF(L54:L76,AD13)","v":0},{"$f":"AE13/(AG4-AE25)","v":0},{"$f":"IF(AF13=0,0,(AF13*((LOG(AF13))/LOG(2))))","v":0},null,{"$f":"N13","v":11221},{"$f":"COUNTIF(L77:L99,AI13)","v":1},{"$f":"AJ13/(AL4-AJ25)","v":4.5454545454545456E-2},{"$f":"IF(AK13=0,0,(AK13*((LOG(AK13))/LOG(2))))","v":-0.20270143721078623},null,{"$f":"N13","v":11221},{"$f":"COUNTIF(L100:L123,AN13)","v":0},{"$f":"AO13/(AQ4-AO25)","v":0},{"$f":"IF(AP13=0,0,(AP13*((LOG(AP13))/LOG(2))))","v":0},null,{"$f":"N13","v":11221},{"$f":"COUNTIF(L124:L146,AS13)","v":0},{"$f":"AT13/(AV4-AT25)","v":0},{"$f":"IF(AU13=0,0,(AU13*((LOG(AU13))/LOG(2))))","v":0}]
[21,1218,11,1234,22,1243,14,1251,24,1262,0,21212,null,11222,{"$f":"COUNTIF($L$7:$L$500,N14)","v":0},{"$f":"O14/$Q$4","v":0},{"$f":"IF(P14=0,0,(P14*((LOG(P14))/LOG(2))))","v":0},null,null,{"$f":"N14","v":11222},{"$f":"COUNTIF(L7:L29,T14)","v":0},{"$f":"U14/(W4-U25)","v":0},{"$f":"IF(V14=0,0,(V14*((LOG(V14))/LOG(2))))","v":0},null,{"$f":"N14","v":11222},{"$f":"COUNTIF(L30:L53,Y14)","v":0},{"$f":"Z14/(AB4-Z25)","v":0},{"$f":"IF(AA14=0,0,(AA14*((LOG(AA14))/LOG(2))))","v":0},null,{"$f":"N14","v":11222},{"$f":"COUNTIF(L54:L76,AD14)","v":0},{"$f":"AE14/(AG4-AE25)","v":0},{"$f":"IF(AF14=0,0,(AF14*((LOG(AF14))/LOG(2))))","v":0},null,{"$f":"N14","v":11222},{"$f":"COUNTIF(L77:L99,AI14)","v":0},{"$f":"AJ14/(AL4-AJ25)","v":0},{"$f":"IF(AK14=0,0,(AK14*((LOG(AK14))/LOG(2))))","v":0},null,{"$f":"N14","v":11222},{"$f":"COUNTIF(L100:L123,AN14)","v":0},{"$f":"AO14/(AQ4-AO25)","v":0},{"$f":"IF(AP14=0,0,(AP14*((LOG(AP14))/LOG(2))))","v":0},null,{"$f":"N14","v":11222},{"$f":"COUNTIF(L124:L146,AS14)","v":0},{"$f":"AT14/(AV4-AT25)","v":0},{"$f":"IF(AU14=0,0,(AU14*((LOG(AU14))/LOG(2))))","v":0}]
[21,1363,11,1374,11,1397,12,1421,24,1434,0,21112,null,12111,{"$f":"COUNTIF($L$7:$L$500,N15)","v":2},{"$f":"O15/$Q$4","v":1.4285714285714285E-2},{"$f":"IF(P15=0,0,(P15*((LOG(P15))/LOG(2))))","v":-8.756118595635666E-2},null,null,{"$f":"N15","v":12111},{"$f":"COUNTIF(L7:L29,T15)","v":0},{"$f":"U15/(W4-U25)","v":0},{"$f":"IF(V15=0,0,(V15*((LOG(V15))/LOG(2))))","v":0},null,{"$f":"N15","v":12111},{"$f":"COUNTIF(L30:L53,Y15)","v":0},{"$f":"Z15/(AB4-Z25)","v":0},{"$f":"IF(AA15=0,0,(AA15*((LOG(AA15))/LOG(2))))","v":0},null,{"$f":"N15","v":12111},{"$f":"COUNTIF(L54:L76,AD15)","v":0},{"$f":"AE15/(AG4-AE25)","v":0},{"$f":"IF(AF15=0,0,(AF15*((LOG(AF15))/LOG(2))))","v":0},null,{"$f":"N15","v":12111},{"$f":"COUNTIF(L77:L99,AI15)","v":0},{"$f":"AJ15/(AL4-AJ25)","v":0},{"$f":"IF(AK15=0,0,(AK15*((LOG(AK15))/LOG(2))))","v":0},null,{"$f":"N15","v":12111},{"$f":"COUNTIF(L100:L123,AN15)","v":0},{"$f":"AO15/(AQ4-AO25)","v":0},{"$f":"IF(AP15=0,0,(AP15*((LOG(AP15))/LOG(2))))","v":0},null,{"$f":"N15","v":12111},{"$f":"COUNTIF(L124:L146,AS15)","v":2},{"$f":"AT15/(AV4-AT25)","v":0.1},{"$f":"IF(AU15=0,0,(AU15*((LOG(AU15))/LOG(2))))","v":-0.33219280948873625}]
[21,1559,11,1583,11,1604,12,1627,13,1652,0,21111,null,12112,{"$f":"COUNTIF($L$7:$L$500,N16)","v":4},{"$f":"O16/$Q$4","v":2.8571428571428571E-2},{"$f":"IF(P16=0,0,(P16*((LOG(P16))/LOG(2))))","v":-0.14655094334128474},null,null,{"$f":"N16","v":12112},{"$f":"COUNTIF(L7:L29,T16)","v":2},{"$f":"U16/(W4-U25)","v":9.5238095238095233E-2},{"$f":"IF(V16=0,0,(V16*((LOG(V16))/LOG(2))))","v":-0.32307784978845333},null,{"$f":"N16","v":12112},{"$f":"COUNTIF(L30:L53,Y16)","v":0},{"$f":"Z16/(AB4-Z25)","v":0},{"$f":"IF(AA16=0,0,(AA16*((LOG(AA16))/LOG(2))))","v":0},null,{"$f":"N16","v":12112},{"$f":"COUNTIF(L54:L76,AD16)","v":0},{"$f":"AE16/(AG4-AE25)","v":0},{"$f":"IF(AF16=0,0,(AF16*((LOG(AF16))/LOG(2))))","v":0},null,{"$f":"N16","v":12112},{"$f":"COUNTIF(L77:L99,AI16)","v":1},{"$f":"AJ16/(AL4-AJ25)","v":4.5454545454545456E-2},{"$f":"IF(AK16=0,0,(AK16*((LOG(AK16))/LOG(2))))","v":-0.20270143721078623},null,{"$f":"N16","v":12112},{"$f":"COUNTIF(L100:L123,AN16)","v":0},{"$f":"AO16/(AQ4-AO25)","v":0},{"$f":"IF(AP16=0,0,(AP16*((LOG(AP16))/LOG(2))))","v":0},null,{"$f":"N16","v":12112},{"$f":"COUNTIF(L124:L146,AS16)","v":1},{"$f":"AT16/(AV4-AT25)","v":0.05},{"$f":"IF(AU16=0,0,(AU16*((LOG(AU16))/LOG(2))))","v":-0.21609640474436814}]
[21,1759,11,1779,22,1787,14,1795,24,1808,0,21212,null,12121,{"$f":"COUNTIF($L$7:$L$500,N17)","v":14},{"$f":"O17/$Q$4","v":0.1},{"$f":"IF(P17=0,0,(P17*((LOG(P17))/LOG(2))))","v":-0.33219280948873625},null,null,{"$f":"N17","v":12121},{"$f":"COUNTIF(L7:L29,T17)","v":2},{"$f":"U17/(W4-U25)","v":9.5238095238095233E-2},{"$f":"IF(V17=0,0,(V17*((LOG(V17))/LOG(2))))","v":-0.32307784978845333},null,{"$f":"N17","v":12121},{"$f":"COUNTIF(L30:L53,Y17)","v":0},{"$f":"Z17/(AB4-Z25)","v":0},{"$f":"IF(AA17=0,0,(AA17*((LOG(AA17))/LOG(2))))","v":0},null,{"$f":"N17","v":12121},{"$f":"COUNTIF(L54:L76,AD17)","v":5},{"$f":"AE17/(AG4-AE25)","v":0.26315789473684209},{"$f":"IF(AF17=0,0,(AF17*((LOG(AF17))/LOG(2))))","v":-0.50684195225163764},null,{"$f":"N17","v":12121},{"$f":"COUNTIF(L77:L99,AI17)","v":4},{"$f":"AJ17/(AL4-AJ25)","v":0.18181818181818182},{"$f":"IF(AK17=0,0,(AK17*((LOG(AK17))/LOG(2))))","v":-0.44716938520678134},null,{"$f":"N17","v":12121},{"$f":"COUNTIF(L100:L123,AN17)","v":2},{"$f":"AO17/(AQ4-AO25)","v":9.0909090909090912E-2},{"$f":"IF(AP17=0,0,(AP17*((LOG(AP17))/LOG(2))))","v":-0.31449378351248153},null,{"$f":"N17","v":12121},{"$f":"COUNTIF(L124:L146,AS17)","v":1},{"$f":"AT17/(AV4-AT25)","v":0.05},{"$f":"IF(AU17=0,0,(AU17*((LOG(AU17))/LOG(2))))","v":-0.21609640474436814}]
[21,1957,11,1970,22,1980,14,1987,24,1998,0,21212,null,12122,{"$f":"COUNTIF($L$7:$L$500,N18)","v":2},{"$f":"O18/$Q$4","v":1.4285714285714285E-2},{"$f":"IF(P18=0,0,(P18*((LOG(P18))/LOG(2))))","v":-8.756118595635666E-2},null,null,{"$f":"N18","v":12122},{"$f":"COUNTIF(L7:L29,T18)","v":1},{"$f":"U18/(W4-U25)","v":4.7619047619047616E-2},{"$f":"IF(V18=0,0,(V18*((LOG(V18))/LOG(2))))","v":-0.20915797251327431},null,{"$f":"N18","v":12122},{"$f":"COUNTIF(L30:L53,Y18)","v":1},{"$f":"Z18/(AB4-Z25)","v":4.7619047619047616E-2},{"$f":"IF(AA18=0,0,(AA18*((LOG(AA18))/LOG(2))))","v":-0.20915797251327431},null,{"$f":"N18","v":12122},{"$f":"COUNTIF(L54:L76,AD18)","v":0},{"$f":"AE18/(AG4-AE25)","v":0},{"$f":"IF(AF18=0,0,(AF18*((LOG(AF18))/LOG(2))))","v":0},null,{"$f":"N18","v":12122},{"$f":"COUNTIF(L77:L99,AI18)","v":0},{"$f":"AJ18/(AL4-AJ25)","v":0},{"$f":"IF(AK18=0,0,(AK18*((LOG(AK18))/LOG(2))))","v":0},null,{"$f":"N18","v":12122},{"$f":"COUNTIF(L100:L123,AN18)","v":0},{"$f":"AO18/(AQ4-AO25)","v":0},{"$f":"IF(AP18=0,0,(AP18*((LOG(AP18))/LOG(2))))","v":0},null,{"$f":"N18","v":12122},{"$f":"COUNTIF(L124:L146,AS18)","v":0},{"$f":"AT18/(AV4-AT25)","v":0},{"$f":"IF(AU18=0,0,(AU18*((LOG(AU18))/LOG(2))))","v":0}]
[21,2191,22,2203,13,2215,14,2231,24,2239,0,22112,null,12211,{"$f":"COUNTIF($L$7:$L$500,N19)","v":0},{"$f":"O19/$Q$4","v":0},{"$f":"IF(P19=0,0,(P19*((LOG(P19))/LOG(2))))","v":0},null,null,{"$f":"N19","v":12211},{"$f":"COUNTIF(L7:L29,T19)","v":0},{"$f":"U19/(W4-U25)","v":0},{"$f":"IF(V19=0,0,(V19*((LOG(V19))/LOG(2))))","v":0},null,{"$f":"N19","v":12211},{"$f":"COUNTIF(L30:L53,Y19)","v":0},{"$f":"Z19/(AB4-Z25)","v":0},{"$f":"IF(AA19=0,0,(AA19*((LOG(AA19))/LOG(2))))","v":0},null,{"$f":"N19","v":12211},{"$f":"COUNTIF(L54:L76,AD19)","v":0},{"$f":"AE19/(AG4-AE25)","v":0},{"$f":"IF(AF19=0,0,(AF19*((LOG(AF19))/LOG(2))))","v":0},null,{"$f":"N19","v":12211},{"$f":"COUNTIF(L77:L99,AI19)","v":0},{"$f":"AJ19/(AL4-AJ25)","v":0},{"$f":"IF(AK19=0,0,(AK19*((LOG(AK19))/LOG(2))))","v":0},null,{"$f":"N19","v":12211},{"$f":"COUNTIF(L100:L123,AN19)","v":0},{"$f":"AO19/(AQ4-AO25)","v":0},{"$f":"IF(AP19=0,0,(AP19*((LOG(AP19))/LOG(2))))","v":0},null,{"$f":"N19","v":12211},{"$f":"COUNTIF(L124:L146,AS19)","v":0},{"$f":"AT19/(AV4-AT25)","v":0},{"$f":"IF(AU19=0,0,(AU19*((LOG(AU19))/LOG(2))))","v":0}]
[12,2353,13,2384,24,2428,14,2439,13,2461,0,11211,null,12212,{"$f":"COUNTIF($L$7:$L$500,N20)","v":2},{"$f":"O20/$Q$4","v":1.4285714285714285E-2},{"$f":"IF(P20=0,0,(P20*((LOG(P20))/LOG(2))))","v":-8.756118595635666E-2},null,null,{"$f":"N20","v":12212},{"$f":"COUNTIF(L7:L29,T20)","v":0},{"$f":"U20/(W4-U25)","v":0},{"$f":"IF(V20=0,0,(V20*((LOG(V20))/LOG(2))))","v":0},null,{"$f":"N20","v":12212},{"$f":"COUNTIF(L30:L53,Y20)","v":0},{"$f":"Z20/(AB4-Z25)","v":0},{"$f":"IF(AA20=0,0,(AA20*((LOG(AA20))/LOG(2))))","v":0},null,{"$f":"N20","v":12212},{"$f":"COUNTIF(L54:L76,AD20)","v":1},{"$f":"AE20/(AG4-AE25)","v":5.2631578947368418E-2},{"$f":"IF(AF20=0,0,(AF20*((LOG(AF20))/LOG(2))))","v":-0.22357513228650452},null,{"$f":"N20","v":12212},{"$f":"COUNTIF(L77:L99,AI20)","v":1},{"$f":"AJ20/(AL4-AJ25)","v":4.5454545454545456E-2},{"$f":"IF(AK20=0,0,(AK20*((LOG(AK20))/LOG(2))))","v":-0.20270143721078623},null,{"$f":"N20","v":12212},{"$f":"COUNTIF(L100:L123,AN20)","v":0},{"$f":"AO20/(AQ4-AO25)","v":0},{"$f":"IF(AP20=0,0,(AP20*((LOG(AP20))/LOG(2))))","v":0},null,{"$f":"N20","v":12212},{"$f":"COUNTIF(L124:L146,AS20)","v":0},{"$f":"AT20/(AV4-AT25)","v":0},{"$f":"IF(AU20=0,0,(AU20*((LOG(AU20))/LOG(2))))","v":0}]
[21,2589,11,2599,22,2609,14,2618,24,2627,0,21212,null,12221,{"$f":"COUNTIF($L$7:$L$500,N21)","v":0},{"$f":"O21/$Q$4","v":0},{"$f":"IF(P21=0,0,(P21*((LOG(P21))/LOG(2))))","v":0},null,null,{"$f":"N21","v":12221},{"$f":"COUNTIF(L7:L29,T21)","v":0},{"$f":"U21/(W4-U25)","v":0},{"$f":"IF(V21=0,0,(V21*((LOG(V21))/LOG(2))))","v":0},null,{"$f":"N21","v":12221},{"$f":"COUNTIF(L30:L53,Y21)","v":0},{"$f":"Z21/(AB4-Z25)","v":0},{"$f":"IF(AA21=0,0,(AA21*((LOG(AA21))/LOG(2))))","v":0},null,{"$f":"N21","v":12221},{"$f":"COUNTIF(L54:L76,AD21)","v":0},{"$f":"AE21/(AG4-AE25)","v":0},{"$f":"IF(AF21=0,0,(AF21*((LOG(AF21))/LOG(2))))","v":0},null,{"$f":"N21","v":12221},{"$f":"COUNTIF(L77:L99,AI21)","v":0},{"$f":"AJ21/(AL4-AJ25)","v":0},{"$f":"IF(AK21=0,0,(AK21*((LOG(AK21))/LOG(2))))","v":0},null,{"$f":"N21","v":12221},{"$f":"COUNTIF(L100:L123,AN21)","v":0},{"$f":"AO21/(AQ4-AO25)","v":0},{"$f":"IF(AP21=0,0,(AP21*((LOG(AP21))/LOG(2))))","v":0},null,{"$f":"N21","v":12221},{"$f":"COUNTIF(L124:L146,AS21)","v":0},{"$f":"AT21/(AV4-AT25)","v":0},{"$f":"IF(AU21=0,0,(AU21*((LOG(AU21))/LOG(2))))","v":0}]
[21,2738,22,2790,13,2801,14,2823,13,2841,0,22111,null,12222,{"$f":"COUNTIF($L$7:$L$500,N22)","v":0},{"$f":"O22/$Q$4","v":0},{"$f":"IF(P22=0,0,(P22*((LOG(P22))/LOG(2))))","v":0},null,null,{"$f":"N22","v":12222},{"$f":"COUNTIF(L7:L29,T22)","v":0},{"$f":"U22/(W4-U25)","v":0},{"$f":"IF(V22=0,0,(V22*((LOG(V22))/LOG(2))))","v":0},null,{"$f":"N22","v":12222},{"$f":"COUNTIF(L30:L53,Y22)","v":0},{"$f":"Z22/(AB4-Z25)","v":0},{"$f":"IF(AA22=0,0,(AA22*((LOG(AA22))/LOG(2))))","v":0},null,{"$f":"N22","v":12222},{"$f":"COUNTIF(L54:L76,AD22)","v":0},{"$f":"AE22/(AG4-AE25)","v":0},{"$f":"IF(AF22=0,0,(AF22*((LOG(AF22))/LOG(2))))","v":0},null,{"$f":"N22","v":12222},{"$f":"COUNTIF(L77:L99,AI22)","v":0},{"$f":"AJ22/(AL4-AJ25)","v":0},{"$f":"IF(AK22=0,0,(AK22*((LOG(AK22))/LOG(2))))","v":0},null,{"$f":"N22","v":12222},{"$f":"COUNTIF(L100:L123,AN22)","v":0},{"$f":"AO22/(AQ4-AO25)","v":0},{"$f":"IF(AP22=0,0,(AP22*((LOG(AP22))/LOG(2))))","v":0},null,{"$f":"N22","v":12222},{"$f":"COUNTIF(L124:L146,AS22)","v":0},{"$f":"AT22/(AV4-AT25)","v":0},{"$f":"IF(AU22=0,0,(AU22*((LOG(AU22))/LOG(2))))","v":0}]
[21,2948,11,2970,11,2996,12,3044,24,3062,0,21112,null,21111,{"$f":"COUNTIF($L$7:$L$500,N23)","v":4},{"$f":"O23/$Q$4","v":2.8571428571428571E-2},{"$f":"IF(P23=0,0,(P23*((LOG(P23))/LOG(2))))","v":-0.14655094334128474},null,null,{"$f":"N23","v":21111},{"$f":"COUNTIF(L7:L29,T23)","v":3},{"$f":"U23/(W4-U25)","v":0.14285714285714285},{"$f":"IF(V23=0,0,(V23*((LOG(V23))/LOG(2))))","v":-0.40105070315108626},null,{"$f":"N23","v":21111},{"$f":"COUNTIF(L30:L53,Y23)","v":0},{"$f":"Z23/(AB4-Z25)","v":0},{"$f":"IF(AA23=0,0,(AA23*((LOG(AA23))/LOG(2))))","v":0},null,{"$f":"N23","v":21111},{"$f":"COUNTIF(L54:L76,AD23)","v":0},{"$f":"AE23/(AG4-AE25)","v":0},{"$f":"IF(AF23=0,0,(AF23*((LOG(AF23))/LOG(2))))","v":0},null,{"$f":"N23","v":21111},{"$f":"COUNTIF(L77:L99,AI23)","v":0},{"$f":"AJ23/(AL4-AJ25)","v":0},{"$f":"IF(AK23=0,0,(AK23*((LOG(AK23))/LOG(2))))","v":0},null,{"$f":"N23","v":21111},{"$f":"COUNTIF(L100:L123,AN23)","v":1},{"$f":"AO23/(AQ4-AO25)","v":4.5454545454545456E-2},{"$f":"IF(AP23=0,0,(AP23*((LOG(AP23))/LOG(2))))","v":-0.20270143721078623},null,{"$f":"N23","v":21111},{"$f":"COUNTIF(L124:L146,AS23)","v":0},{"$f":"AT23/(AV4-AT25)","v":0},{"$f":"IF(AU23=0,0,(AU23*((LOG(AU23))/LOG(2))))","v":0}]
[21,3166,11,3179,11,3206,12,3224,13,3246,0,21111,null,21112,{"$f":"COUNTIF($L$7:$L$500,N24)","v":3},{"$f":"O24/$Q$4","v":2.1428571428571429E-2},{"$f":"IF(P24=0,0,(P24*((LOG(P24))/LOG(2))))","v":-0.11880686820479594},null,null,{"$f":"N24","v":21112},{"$f":"COUNTIF(L7:L29,T24)","v":2},{"$f":"U24/(W4-U25)","v":9.5238095238095233E-2},{"$f":"IF(V24=0,0,(V24*((LOG(V24))/LOG(2))))","v":-0.32307784978845333},null,{"$f":"N24","v":21112},{"$f":"COUNTIF(L30:L53,Y24)","v":0},{"$f":"Z24/(AB4-Z25)","v":0},{"$f":"IF(AA24=0,0,(AA24*((LOG(AA24))/LOG(2))))","v":0},null,{"$f":"N24","v":21112},{"$f":"COUNTIF(L54:L76,AD24)","v":0},{"$f":"AE24/(AG4-AE25)","v":0},{"$f":"IF(AF24=0,0,(AF24*((LOG(AF24))/LOG(2))))","v":0},null,{"$f":"N24","v":21112},{"$f":"COUNTIF(L77:L99,AI24)","v":1},{"$f":"AJ24/(AL4-AJ25)","v":4.5454545454545456E-2},{"$f":"IF(AK24=0,0,(AK24*((LOG(AK24))/LOG(2))))","v":-0.20270143721078623},null,{"$f":"N24","v":21112},{"$f":"COUNTIF(L100:L123,AN24)","v":0},{"$f":"AO24/(AQ4-AO25)","v":0},{"$f":"IF(AP24=0,0,(AP24*((LOG(AP24))/LOG(2))))","v":0},null,{"$f":"N24","v":21112},{"$f":"COUNTIF(L124:L146,AS24)","v":0},{"$f":"AT24/(AV4-AT25)","v":0},{"$f":"IF(AU24=0,0,(AU24*((LOG(AU24))/LOG(2))))","v":0}]
[21,3359,11,3369,22,3396,14,3410,24,3419,0,21212,null,21121,{"$f":"COUNTIF($L$7:$L$500,N25)","v":15},{"$f":"O25/$Q$4","v":0.10714285714285714},{"$f":"IF(P25=0,0,(P25*((LOG(P25))/LOG(2))))","v":-0.34525633085747659},null,null,{"$f":"N25","v":21121},{"$f":"COUNTIF(L7:L29,T25)","v":2},null,null,null,{"$f":"N25","v":21121},{"$f":"COUNTIF(L30:L53,Y25)","v":3},null,null,null,{"$f":"N25","v":21121},{"$f":"COUNTIF(L54:L76,AD25)","v":4},null,null,null,{"$f":"N25","v":21121},{"$f":"COUNTIF(L77:L99,AI25)","v":1},null,null,null,{"$f":"N25","v":21121},{"$f":"COUNTIF(L100:L123,AN25)","v":2},null,null,null,{"$f":"N25","v":21121},{"$f":"COUNTIF(L124:L146,AS25)","v":3}]
[21,3530,22,3554,13,3571,23,3580,13,3589,0,22121,null,21122,{"$f":"COUNTIF($L$7:$L$500,N26)","v":1},{"$f":"O26/$Q$4","v":7.1428571428571426E-3},{"$f":"IF(P26=0,0,(P26*((LOG(P26))/LOG(2))))","v":-5.0923450121035475E-2},null,null,{"$f":"N26","v":21122},{"$f":"COUNTIF(L7:L29,T26)","v":0},{"$f":"U26/(W4-U25)","v":0},{"$f":"IF(V26=0,0,(V26*((LOG(V26))/LOG(2))))","v":0},null,{"$f":"N26","v":21122},{"$f":"COUNTIF(L30:L53,Y26)","v":1},{"$f":"Z26/(AB4-Z25)","v":4.7619047619047616E-2},{"$f":"IF(AA26=0,0,(AA26*((LOG(AA26))/LOG(2))))","v":-0.20915797251327431},null,{"$f":"N26","v":21122},{"$f":"COUNTIF(L54:L76,AD26)","v":0},{"$f":"AE26/(AG4-AE25)","v":0},{"$f":"IF(AF26=0,0,(AF26*((LOG(AF26))/LOG(2))))","v":0},null,{"$f":"N26","v":21122},{"$f":"COUNTIF(L77:L99,AI26)","v":0},{"$f":"AJ26/(AL4-AJ25)","v":0},{"$f":"IF(AK26=0,0,(AK26*((LOG(AK26))/LOG(2))))","v":0},null,{"$f":"N26","v":21122},{"$f":"COUNTIF(L100:L123,AN26)","v":0},{"$f":"AO26/(AQ4-AO25)","v":0},{"$f":"IF(AP26=0,0,(AP26*((LOG(AP26))/LOG(2))))","v":0},null,{"$f":"N26","v":21122},{"$f":"COUNTIF(L124:L146,AS26)","v":0},{"$f":"AT26/(AV4-AT25)","v":0},{"$f":"IF(AU26=0,0,(AU26*((LOG(AU26))/LOG(2))))","v":0}]
[21,3697,11,3708,11,3716,12,3752,13,3770,0,21111,null,21211,{"$f":"COUNTIF($L$7:$L$500,N27)","v":18},{"$f":"O27/$Q$4","v":0.12857142857142856},{"$f":"IF(P27=0,0,(P27*((LOG(P27))/LOG(2))))","v":-0.38048888770748407},null,null,{"$f":"N27","v":21211},{"$f":"COUNTIF(L7:L29,T27)","v":0},{"$f":"U27/(W4-U25)","v":0},{"$f":"IF(V27=0,0,(V27*((LOG(V27))/LOG(2))))","v":0},null,{"$f":"N27","v":21211},{"$f":"COUNTIF(L30:L53,Y27)","v":2},{"$f":"Z27/(AB4-Z25)","v":9.5238095238095233E-2},{"$f":"IF(AA27=0,0,(AA27*((LOG(AA27))/LOG(2))))","v":-0.32307784978845333},null,{"$f":"N27","v":21211},{"$f":"COUNTIF(L54:L76,AD27)","v":2},{"$f":"AE27/(AG4-AE25)","v":0.10526315789473684},{"$f":"IF(AF27=0,0,(AF27*((LOG(AF27))/LOG(2))))","v":-0.34188710667827216},null,{"$f":"N27","v":21211},{"$f":"COUNTIF(L77:L99,AI27)","v":4},{"$f":"AJ27/(AL4-AJ25)","v":0.18181818181818182},{"$f":"IF(AK27=0,0,(AK27*((LOG(AK27))/LOG(2))))","v":-0.44716938520678134},null,{"$f":"N27","v":21211},{"$f":"COUNTIF(L100:L123,AN27)","v":5},{"$f":"AO27/(AQ4-AO25)","v":0.22727272727272727},{"$f":"IF(AP27=0,0,(AP27*((LOG(AP27))/LOG(2))))","v":-0.48579625539771243},null,{"$f":"N27","v":21211},{"$f":"COUNTIF(L124:L146,AS27)","v":5},{"$f":"AT27/(AV4-AT25)","v":0.25},{"$f":"IF(AU27=0,0,(AU27*((LOG(AU27))/LOG(2))))","v":-0.5}]
[21,3878,11,3888,11,3896,21,3912,11,3929,1,21121,null,21212,{"$f":"COUNTIF($L$7:$L$500,N28)","v":25},{"$f":"O28/$Q$4","v":0.17857142857142858},{"$f":"IF(P28=0,0,(P28*((LOG(P28))/LOG(2))))","v":-0.44382621913754317},null,null,{"$f":"N28","v":21212},{"$f":"COUNTIF(L7:L29,T28)","v":5},{"$f":"U28/(W4-U25)","v":0.23809523809523808},{"$f":"IF(V28=0,0,(V28*((LOG(V28))/LOG(2))))","v":-0.49294983997414238},null,{"$f":"N28","v":21212},{"$f":"COUNTIF(L30:L53,Y28)","v":7},{"$f":"Z28/(AB4-Z25)","v":0.33333333333333331},{"$f":"IF(AA28=0,0,(AA28*((LOG(AA28))/LOG(2))))","v":-0.52832083357371862},null,{"$f":"N28","v":21212},{"$f":"COUNTIF(L54:L76,AD28)","v":2},{"$f":"AE28/(AG4-AE25)","v":0.10526315789473684},{"$f":"IF(AF28=0,0,(AF28*((LOG(AF28))/LOG(2))))","v":-0.34188710667827216},null,{"$f":"N28","v":21212},{"$f":"COUNTIF(L77:L99,AI28)","v":0},{"$f":"AJ28/(AL4-AJ25)","v":0},{"$f":"IF(AK28=0,0,(AK28*((LOG(AK28))/LOG(2))))","v":0},null,{"$f":"N28","v":21212},{"$f":"COUNTIF(L100:L123,AN28)","v":8},{"$f":"AO28/(AQ4-AO25)","v":0.36363636363636365},{"$f":"IF(AP28=0,0,(AP28*((LOG(AP28))/LOG(2))))","v":-0.53070240677719893},null,{"$f":"N28","v":21212},{"$f":"COUNTIF(L124:L146,AS28)","v":3},{"$f":"AT28/(AV4-AT25)","v":0.15},{"$f":"IF(AU28=0,0,(AU28*((LOG(AU28))/LOG(2))))","v":-0.41054483912493089}]
[21,4073,11,4084,11,4117,21,4129,11,4143,1,21121,null,21221,{"$f":"COUNTIF($L$7:$L$500,N29)","v":3},{"$f":"O29/$Q$4","v":2.1428571428571429E-2},{"$f":"IF(P29=0,0,(P29*((LOG(P29))/LOG(2))))","v":-0.11880686820479594},null,null,{"$f":"N29","v":21221},{"$f":"COUNTIF(L7:L29,T29)","v":0},{"$f":"U29/(W4-U25)","v":0},{"$f":"IF(V29=0,0,(V29*((LOG(V29))/LOG(2))))","v":0},null,{"$f":"N29","v":21221},{"$f":"COUNTIF(L30:L53,Y29)","v":2},{"$f":"Z29/(AB4-Z25)","v":9.5238095238095233E-2},{"$f":"IF(AA29=0,0,(AA29*((LOG(AA29))/LOG(2))))","v":-0.32307784978845333},null,{"$f":"N29","v":21221},{"$f":"COUNTIF(L54:L76,AD29)","v":0},{"$f":"AE29/(AG4-AE25)","v":0},{"$f":"IF(AF29=0,0,(AF29*((LOG(AF29))/LOG(2))))","v":0},null,{"$f":"N29","v":21221},{"$f":"COUNTIF(L77:L99,AI29)","v":0},{"$f":"AJ29/(AL4-AJ25)","v":0},{"$f":"IF(AK29=0,0,(AK29*((LOG(AK29))/LOG(2))))","v":0},null,{"$f":"N29","v":21221},{"$f":"COUNTIF(L100:L123,AN29)","v":0},{"$f":"AO29/(AQ4-AO25)","v":0},{"$f":"IF(AP29=0,0,(AP29*((LOG(AP29))/LOG(2))))","v":0},null,{"$f":"N29","v":21221},{"$f":"COUNTIF(L124:L146,AS29)","v":1},{"$f":"AT29/(AV4-AT25)","v":0.05},{"$f":"IF(AU29=0,0,(AU29*((LOG(AU29))/LOG(2))))","v":-0.21609640474436814}]
[21,4253,11,4276,22,4308,14,4323,24,4336,0,21212,null,21222,{"$f":"COUNTIF($L$7:$L$500,N30)","v":2},{"$f":"O30/$Q$4","v":1.4285714285714285E-2},{"$f":"IF(P30=0,0,(P30*((LOG(P30))/LOG(2))))","v":-8.756118595635666E-2},null,null,{"$f":"N30","v":21222},{"$f":"COUNTIF(L7:L29,T30)","v":0},{"$f":"U30/(W4-U25)","v":0},{"$f":"IF(V30=0,0,(V30*((LOG(V30))/LOG(2))))","v":0},null,{"$f":"N30","v":21222},{"$f":"COUNTIF(L30:L53,Y30)","v":0},{"$f":"Z30/(AB4-Z25)","v":0},{"$f":"IF(AA30=0,0,(AA30*((LOG(AA30))/LOG(2))))","v":0},null,{"$f":"N30","v":21222},{"$f":"COUNTIF(L54:L76,AD30)","v":1},{"$f":"AE30/(AG4-AE25)","v":5.2631578947368418E-2},{"$f":"IF(AF30=0,0,(AF30*((LOG(AF30))/LOG(2))))","v":-0.22357513228650452},null,{"$f":"N30","v":21222},{"$f":"COUNTIF(L77:L99,AI30)","v":0},{"$f":"AJ30/(AL4-AJ25)","v":0},{"$f":"IF(AK30=0,0,(AK30*((LOG(AK30))/LOG(2))))","v":0},null,{"$f":"N30","v":21222},{"$f":"COUNTIF(L100:L123,AN30)","v":0},{"$f":"AO30/(AQ4-AO25)","v":0},{"$f":"IF(AP30=0,0,(AP30*((LOG(AP30))/LOG(2))))","v":0},null,{"$f":"N30","v":21222},{"$f":"COUNTIF(L124:L146,AS30)","v":1},{"$f":"AT30/(AV4-AT25)","v":0.05},{"$f":"IF(AU30=0,0,(AU30*((LOG(AU30))/LOG(2))))","v":-0.21609640474436814}]
[21,4463,11,4487,22,4503,14,4520,13,4538,0,21211,null,22111,{"$f":"COUNTIF($L$7:$L$500,N31)","v":1},{"$f":"O31/$Q$4","v":7.1428571428571426E-3},{"$f":"IF(P31=0,0,(P31*((LOG(P31))/LOG(2))))","v":-5.0923450121035475E-2},null,null,{"$f":"N31","v":22111},{"$f":"COUNTIF(L7:L29,T31)","v":1},{"$f":"U31/(W4-U25)","v":4.7619047619047616E-2},{"$f":"IF(V31=0,0,(V31*((LOG(V31))/LOG(2))))","v":-0.20915797251327431},null,{"$f":"N31","v":22111},{"$f":"COUNTIF(L30:L53,Y31)","v":0},{"$f":"Z31/(AB4-Z25)","v":0},{"$f":"IF(AA31=0,0,(AA31*((LOG(AA31))/LOG(2))))","v":0},null,{"$f":"N31","v":22111},{"$f":"COUNTIF(L54:L76,AD31)","v":0},{"$f":"AE31/(AG4-AE25)","v":0},{"$f":"IF(AF31=0,0,(AF31*((LOG(AF31))/LOG(2))))","v":0},null,{"$f":"N31","v":22111},{"$f":"COUNTIF(L77:L99,AI31)","v":0},{"$f":"AJ31/(AL4-AJ25)","v":0},{"$f":"IF(AK31=0,0,(AK31*((LOG(AK31))/LOG(2))))","v":0},null,{"$f":"N31","v":22111},{"$f":"COUNTIF(L100:L123,AN31)","v":0},{"$f":"AO31/(AQ4-AO25)","v":0},{"$f":"IF(AP31=0,0,(AP31*((LOG(AP31))/LOG(2))))","v":0},null,{"$f":"N31","v":22111},{"$f":"COUNTIF(L124:L146,AS31)","v":0},{"$f":"AT31/(AV4-AT25)","v":0},{"$f":"IF(AU31=0,0,(AU31*((LOG(AU31))/LOG(2))))","v":0}]
[21,4652,22,4661,13,4681,23,4710,13,4727,0,22121,null,22112,{"$f":"COUNTIF($L$7:$L$500,N32)","v":2},{"$f":"O32/$Q$4","v":1.4285714285714285E-2},{"$f":"IF(P32=0,0,(P32*((LOG(P32))/LOG(2))))","v":-8.756118595635666E-2},null,null,{"$f":"N32","v":22112},{"$f":"COUNTIF(L7:L29,T32)","v":1},{"$f":"U32/(W4-U25)","v":4.7619047619047616E-2},{"$f":"IF(V32=0,0,(V32*((LOG(V32))/LOG(2))))","v":-0.20915797251327431},null,{"$f":"N32","v":22112},{"$f":"COUNTIF(L30:L53,Y32)","v":0},{"$f":"Z32/(AB4-Z25)","v":0},{"$f":"IF(AA32=0,0,(AA32*((LOG(AA32))/LOG(2))))","v":0},null,{"$f":"N32","v":22112},{"$f":"COUNTIF(L54:L76,AD32)","v":0},{"$f":"AE32/(AG4-AE25)","v":0},{"$f":"IF(AF32=0,0,(AF32*((LOG(AF32))/LOG(2))))","v":0},null,{"$f":"N32","v":22112},{"$f":"COUNTIF(L77:L99,AI32)","v":0},{"$f":"AJ32/(AL4-AJ25)","v":0},{"$f":"IF(AK32=0,0,(AK32*((LOG(AK32))/LOG(2))))","v":0},null,{"$f":"N32","v":22112},{"$f":"COUNTIF(L100:L123,AN32)","v":1},{"$f":"AO32/(AQ4-AO25)","v":4.5454545454545456E-2},{"$f":"IF(AP32=0,0,(AP32*((LOG(AP32))/LOG(2))))","v":-0.20270143721078623},null,{"$f":"N32","v":22112},{"$f":"COUNTIF(L124:L146,AS32)","v":0},{"$f":"AT32/(AV4-AT25)","v":0},{"$f":"IF(AU32=0,0,(AU32*((LOG(AU32))/LOG(2))))","v":0}]
[12,4842,13,4850,24,4865,14,4874,24,4887,0,11212,null,22121,{"$f":"COUNTIF($L$7:$L$500,N33)","v":8},{"$f":"O33/$Q$4","v":5.7142857142857141E-2},{"$f":"IF(P33=0,0,(P33*((LOG(P33))/LOG(2))))","v":-0.23595902953971234},null,null,{"$f":"N33","v":22121},{"$f":"COUNTIF(L7:L29,T33)","v":1},{"$f":"U33/(W4-U25)","v":4.7619047619047616E-2},{"$f":"IF(V33=0,0,(V33*((LOG(V33))/LOG(2))))","v":-0.20915797251327431},null,{"$f":"N33","v":22121},{"$f":"COUNTIF(L30:L53,Y33)","v":2},{"$f":"Z33/(AB4-Z25)","v":9.5238095238095233E-2},{"$f":"IF(AA33=0,0,(AA33*((LOG(AA33))/LOG(2))))","v":-0.32307784978845333},null,{"$f":"N33","v":22121},{"$f":"COUNTIF(L54:L76,AD33)","v":0},{"$f":"AE33/(AG4-AE25)","v":0},{"$f":"IF(AF33=0,0,(AF33*((LOG(AF33))/LOG(2))))","v":0},null,{"$f":"N33","v":22121},{"$f":"COUNTIF(L77:L99,AI33)","v":2},{"$f":"AJ33/(AL4-AJ25)","v":9.0909090909090912E-2},{"$f":"IF(AK33=0,0,(AK33*((LOG(AK33))/LOG(2))))","v":-0.31449378351248153},null,{"$f":"N33","v":22121},{"$f":"COUNTIF(L100:L123,AN33)","v":1},{"$f":"AO33/(AQ4-AO25)","v":4.5454545454545456E-2},{"$f":"IF(AP33=0,0,(AP33*((LOG(AP33))/LOG(2))))","v":-0.20270143721078623},null,{"$f":"N33","v":22121},{"$f":"COUNTIF(L124:L146,AS33)","v":2},{"$f":"AT33/(AV4-AT25)","v":0.1},{"$f":"IF(AU33=0,0,(AU33*((LOG(AU33))/LOG(2))))","v":-0.33219280948873625}]
[21,5003,11,5014,22,5025,23,5045,13,5061,0,21221,null,22122,{"$f":"COUNTIF($L$7:$L$500,N34)","v":4},{"$f":"O34/$Q$4","v":2.8571428571428571E-2},{"$f":"IF(P34=0,0,(P34*((LOG(P34))/LOG(2))))","v":-0.14655094334128474},null,null,{"$f":"N34","v":22122},{"$f":"COUNTIF(L7:L29,T34)","v":0},{"$f":"U34/(W4-U25)","v":0},{"$f":"IF(V34=0,0,(V34*((LOG(V34))/LOG(2))))","v":0},null,{"$f":"N34","v":22122},{"$f":"COUNTIF(L30:L53,Y34)","v":0},{"$f":"Z34/(AB4-Z25)","v":0},{"$f":"IF(AA34=0,0,(AA34*((LOG(AA34))/LOG(2))))","v":0},null,{"$f":"N34","v":22122},{"$f":"COUNTIF(L54:L76,AD34)","v":0},{"$f":"AE34/(AG4-AE25)","v":0},{"$f":"IF(AF34=0,0,(AF34*((LOG(AF34))/LOG(2))))","v":0},null,{"$f":"N34","v":22122},{"$f":"COUNTIF(L77:L99,AI34)","v":2},{"$f":"AJ34/(AL4-AJ25)","v":9.0909090909090912E-2},{"$f":"IF(AK34=0,0,(AK34*((LOG(AK34))/LOG(2))))","v":-0.31449378351248153},null,{"$f":"N34","v":22122},{"$f":"COUNTIF(L100:L123,AN34)","v":2},{"$f":"AO34/(AQ4-AO25)","v":9.0909090909090912E-2},{"$f":"IF(AP34=0,0,(AP34*((LOG(AP34))/LOG(2))))","v":-0.31449378351248153},null,{"$f":"N34","v":22122},{"$f":"COUNTIF(L124:L146,AS34)","v":0},{"$f":"AT34/(AV4-AT25)","v":0},{"$f":"IF(AU34=0,0,(AU34*((LOG(AU34))/LOG(2))))","v":0}]
[21,5185,11,5196,22,5210,14,5222,24,5234,0,21212,null,22211,{"$f":"COUNTIF($L$7:$L$500,N35)","v":3},{"$f":"O35/$Q$4","v":2.1428571428571429E-2},{"$f":"IF(P35=0,0,(P35*((LOG(P35))/LOG(2))))","v":-0.11880686820479594},null,null,{"$f":"N35","v":22211},{"$f":"COUNTIF(L7:L29,T35)","v":0},{"$f":"U35/(W4-U25)","v":0},{"$f":"IF(V35=0,0,(V35*((LOG(V35))/LOG(2))))","v":0},null,{"$f":"N35","v":22211},{"$f":"COUNTIF(L30:L53,Y35)","v":0},{"$f":"Z35/(AB4-Z25)","v":0},{"$f":"IF(AA35=0,0,(AA35*((LOG(AA35))/LOG(2))))","v":0},null,{"$f":"N35","v":22211},{"$f":"COUNTIF(L54:L76,AD35)","v":0},{"$f":"AE35/(AG4-AE25)","v":0},{"$f":"IF(AF35=0,0,(AF35*((LOG(AF35))/LOG(2))))","v":0},null,{"$f":"N35","v":22211},{"$f":"COUNTIF(L77:L99,AI35)","v":0},{"$f":"AJ35/(AL4-AJ25)","v":0},{"$f":"IF(AK35=0,0,(AK35*((LOG(AK35))/LOG(2))))","v":0},null,{"$f":"N35","v":22211},{"$f":"COUNTIF(L100:L123,AN35)","v":1},{"$f":"AO35/(AQ4-AO25)","v":4.5454545454545456E-2},{"$f":"IF(AP35=0,0,(AP35*((LOG(AP35))/LOG(2))))","v":-0.20270143721078623},null,{"$f":"N35","v":22211},{"$f":"COUNTIF(L124:L146,AS35)","v":2},{"$f":"AT35/(AV4-AT25)","v":0.1},{"$f":"IF(AU35=0,0,(AU35*((LOG(AU35))/LOG(2))))","v":-0.33219280948873625}]
[21,5347,11,5358,22,5371,14,5383,24,5399,0,21212,null,22212,{"$f":"COUNTIF($L$7:$L$500,N36)","v":4},{"$f":"O36/$Q$4","v":2.8571428571428571E-2},{"$f":"IF(P36=0,0,(P36*((LOG(P36))/LOG(2))))","v":-0.14655094334128474},null,null,{"$f":"N36","v":22212},{"$f":"COUNTIF(L7:L29,T36)","v":0},{"$f":"U36/(W4-U25)","v":0},{"$f":"IF(V36=0,0,(V36*((LOG(V36))/LOG(2))))","v":0},null,{"$f":"N36","v":22212},{"$f":"COUNTIF(L30:L53,Y36)","v":2},{"$f":"Z36/(AB4-Z25)","v":9.5238095238095233E-2},{"$f":"IF(AA36=0,0,(AA36*((LOG(AA36))/LOG(2))))","v":-0.32307784978845333},null,{"$f":"N36","v":22212},{"$f":"COUNTIF(L54:L76,AD36)","v":1},{"$f":"AE36/(AG4-AE25)","v":5.2631578947368418E-2},{"$f":"IF(AF36=0,0,(AF36*((LOG(AF36))/LOG(2))))","v":-0.22357513228650452},null,{"$f":"N36","v":22212},{"$f":"COUNTIF(L77:L99,AI36)","v":0},{"$f":"AJ36/(AL4-AJ25)","v":0},{"$f":"IF(AK36=0,0,(AK36*((LOG(AK36))/LOG(2))))","v":0},null,{"$f":"N36","v":22212},{"$f":"COUNTIF(L100:L123,AN36)","v":1},{"$f":"AO36/(AQ4-AO25)","v":4.5454545454545456E-2},{"$f":"IF(AP36=0,0,(AP36*((LOG(AP36))/LOG(2))))","v":-0.20270143721078623},null,{"$f":"N36","v":22212},{"$f":"COUNTIF(L124:L146,AS36)","v":0},{"$f":"AT36/(AV4-AT25)","v":0},{"$f":"IF(AU36=0,0,(AU36*((LOG(AU36))/LOG(2))))","v":0}]
[21,5499,11,5507,22,5524,14,5538,24,5555,0,21212,null,22221,{"$f":"COUNTIF($L$7:$L$500,N37)","v":1},{"$f":"O37/$Q$4","v":7.1428571428571426E-3},{"$f":"IF(P37=0,0,(P37*((LOG(P37))/LOG(2))))","v":-5.0923450121035475E-2},null,null,{"$f":"N37","v":22221},{"$f":"COUNTIF(L7:L29,T37)","v":0},{"$f":"U37/(W4-U25)","v":0},{"$f":"IF(V37=0,0,(V37*((LOG(V37))/LOG(2))))","v":0},null,{"$f":"N37","v":22221},{"$f":"COUNTIF(L30:L53,Y37)","v":0},{"$f":"Z37/(AB4-Z25)","v":0},{"$f":"IF(AA37=0,0,(AA37*((LOG(AA37))/LOG(2))))","v":0},null,{"$f":"N37","v":22221},{"$f":"COUNTIF(L54:L76,AD37)","v":0},{"$f":"AE37/(AG4-AE25)","v":0},{"$f":"IF(AF37=0,0,(AF37*((LOG(AF37))/LOG(2))))","v":0},null,{"$f":"N37","v":22221},{"$f":"COUNTIF(L77:L99,AI37)","v":0},{"$f":"AJ37/(AL4-AJ25)","v":0},{"$f":"IF(AK37=0,0,(AK37*((LOG(AK37))/LOG(2))))","v":0},null,{"$f":"N37","v":22221},{"$f":"COUNTIF(L100:L123,AN37)","v":0},{"$f":"AO37/(AQ4-AO25)","v":0},{"$f":"IF(AP37=0,0,(AP37*((LOG(AP37))/LOG(2))))","v":0},null,{"$f":"N37","v":22221},{"$f":"COUNTIF(L124:L146,AS37)","v":1},{"$f":"AT37/(AV4-AT25)","v":0.05},{"$f":"IF(AU37=0,0,(AU37*((LOG(AU37))/LOG(2))))","v":-0.21609640474436814}]
[12,5656,13,5663,13,5675,23,5689,13,5700,0,11121,null,22222,{"$f":"COUNTIF($L$7:$L$500,N38)","v":0},{"$f":"O38/$Q$4","v":0},{"$f":"IF(P38=0,0,(P38*((LOG(P38))/LOG(2))))","v":0},null,null,{"$f":"N38","v":22222},{"$f":"COUNTIF(L7:L29,T38)","v":0},{"$f":"U38/(W4-U25)","v":0},{"$f":"IF(V38=0,0,(V38*((LOG(V38))/LOG(2))))","v":0},null,{"$f":"N38","v":22222},{"$f":"COUNTIF(L30:L53,Y38)","v":0},{"$f":"Z38/(AB4-Z25)","v":0},{"$f":"IF(AA38=0,0,(AA38*((LOG(AA38))/LOG(2))))","v":0},null,{"$f":"N38","v":22222},{"$f":"COUNTIF(L54:L76,AD38)","v":0},{"$f":"AE38/(AG4-AE25)","v":0},{"$f":"IF(AF38=0,0,(AF38*((LOG(AF38))/LOG(2))))","v":0},null,{"$f":"N38","v":22222},{"$f":"COUNTIF(L77:L99,AI38)","v":0},{"$f":"AJ38/(AL4-AJ25)","v":0},{"$f":"IF(AK38=0,0,(AK38*((LOG(AK38))/LOG(2))))","v":0},null,{"$f":"N38","v":22222},{"$f":"COUNTIF(L100:L123,AN38)","v":0},{"$f":"AO38/(AQ4-AO25)","v":0},{"$f":"IF(AP38=0,0,(AP38*((LOG(AP38))/LOG(2))))","v":0},null,{"$f":"N38","v":22222},{"$f":"COUNTIF(L124:L146,AS38)","v":0},{"$f":"AT38/(AV4-AT25)","v":0},{"$f":"IF(AU38=0,0,(AU38*((LOG(AU38))/LOG(2))))","v":0}]
[21,5806,11,5816,22,5829,14,5840,24,5853,0,21212,null,null,null,{"$f":"SUM(P7:P38)","v":1},{"$f":"-SUM(Q7:Q38)","v":3.9988420020213815},null,null,null,null,{"$f":"SUM(V7:V38)","v":1},{"$f":"-SUM(W7:W38)","v":3.3273399000835089},null,null,null,{"$f":"SUM(AA7:AA38)","v":0.99999999999999989},{"$f":"-SUM(AB7:AB38)","v":2.849156853418441},null,null,null,{"$f":"SUM(AF7:AF38)","v":0.99999999999999978},{"$f":"-SUM(AG7:AG38)","v":3.110578014789017},null,null,null,{"$f":"SUM(AK7:AK38)","v":1},{"$f":"-SUM(AL7:AL38)","v":3.0957952550009336},null,null,null,{"$f":"SUM(AP7:AP38)","v":0.99999999999999989},{"$f":"-SUM(AQ7:AQ38)","v":2.6589934152538053},null,null,null,{"$f":"SUM(AU7:AU38)","v":1},{"$f":"-SUM(AV7:AV38)","v":3.2037016960573479}]
[21,5954,11,5965,11,5973,21,5990,11,6003,1,21121,null,null,null,"U=",{"$f":"Q39/(LOG(Q4)/LOG(2))","v":0.56090380933354511},null,null,null,null,"U1=",{"$f":"W39/(LOG(W4)/LOG(2))","v":0.73555749482511845},null,null,null,"U2=",{"$f":"AB39/(LOG(AB4)/LOG(2))","v":0.62141333827055401},null,null,null,"U3=",{"$f":"AG39/(LOG(AG4)/LOG(2))","v":0.68763908729579304},null,null,null,"U4=",{"$f":"AL39/(LOG(AL4)/LOG(2))","v":0.68437114050260517},null,null,null,"U5=",{"$f":"AQ39/(LOG(AQ4)/LOG(2))","v":0.57993787622812176},null,null,null,"U6=",{"$f":"AV39/(LOG(AV4)/LOG(2))","v":0.70822544870146353}]
[21,6121,22,6147,24,6157,14,6169,24,6181,0,22212]
[12,6314,24,6328,13,6342,23,6359,24,6391,0,12122]
[12,6509,13,6516,24,6531,14,6543,24,6561,0,11212,null,"Total Target Seq"]
[21,6685,11,6698,22,6710,14,6719,13,6734,0,21211,null,{"$f":"COUNTIF(L7:L146,G3)","v":15},null,23,24,23,23,24,23]
[21,6856,11,6872,22,6884,23,6903,13,6924,0,21221,null,null,null,"% of reinforcement given in 6 equal intervals based on number of trials "]
[21,7034,11,7046,22,7061,14,7074,24,7106,0,21212,null,null,null,"%_1","%_2","%_3","%_4","%_5","%_6"]
[21,7207,11,7216,11,7223,21,7235,11,7249,1,21121,null,null,"target sequence",{"$f":"$G$3","v":21121},{"$f":"$G$3","v":21121},{"$f":"$G$3","v":21121},{"$f":"$G$3","v":21121},{"$f":"$G$3","v":21121},{"$f":"$G$3","v":21121}]
[21,7338,11,7349,22,7375,14,7395,24,7409,0,21212,null,null,"total reinforcement",{"$f":"U25","v":2},{"$f":"Z25","v":3},{"$f":"AE25","v":4},{"$f":"AJ25","v":1},{"$f":"AO25","v":2},{"$f":"AT25","v":3}]
[21,7527,22,7557,24,7571,14,7584,24,7597,0,22212,null,null,"% target"]
[21,7703,11,7719,11,7728,21,7739,22,7755,0,21122,null,null,"CCRF"]
[21,7873,22,7882,13,7895,23,7904,13,7913,0,22121,null,null,"% CCRf"]
[21,8017,11,8028,11,8044,21,8057,11,8071,1,21121,null,null,"average response rate",{"$f":"J29/P44","v":180.13043478260869},{"$f":"(J53-J29)/Q44","v":169.83333333333334},{"$f":"(J76-J53)/R44","v":166.95652173913044},{"$f":"(J99-J76)/S44","v":163},{"$f":"(J123-J99)/T44","v":169.54166666666666},{"$f":"(J146-J123)/U44","v":175.17391304347825}]
[12,8169,13,8178,24,8194,14,8209,24,8219,0,11212]
[21,8332,11,8362,22,8375,14,8391,24,8403,0,21212]
[12,8508,24,8530,13,8543,23,8555,13,8570,0,12121]
[21,8672,11,8683,11,8702,21,8725,11,8749,1,21121]
[21,8852,22,8863,24,8890,14,8913,24,8926,0,22212]
[21,9037,11,9045,22,9058,23,9070,24,9082,0,21222]
[12,9185,24,9198,13,9221,23,9231,13,9245,0,12121]
[12,9346,13,9356,13,9366,23,9382,24,9398,0,11122]
[21,9497,11,9506,22,9519,14,9540,24,9552,0,21212]
[12,9652,24,9667,13,9679,23,9691,13,9732,0,12121]
[12,9830,24,9850,24,9857,14,9872,24,9883,0,12212]
[12,9988,13,9999,24,10012,14,10028,24,10038,0,11212]
[21,10179,11,10191,22,10202,14,10228,13,10236,0,21211]
[21,10347,11,10355,11,10363,21,10373,11,10389,1,21121]
[12,10510,13,10539,13,10568,23,10579,13,10604,0,11121]
[21,10718,11,10726,11,10736,21,10746,11,10770,1,21121]
[21,10887,11,10901,22,10913,14,10932,13,10944,0,21211]
[12,11044,13,11054,13,11065,23,11074,24,11086,0,11122]
[12,11188,13,11201,24,11210,14,11222,13,11236,0,11211]
[12,11340,24,11350,13,11366,23,11375,13,11390,0,12121]
[12,11491,24,11508,13,11521,23,11534,13,11554,0,12121]
[12,11673,13,11684,24,11696,14,11708,13,11715,0,11211]
[12,11822,13,11830,13,11839,23,11855,13,11869,0,11121]
[21,12011,11,12027,11,12034,21,12046,11,12059,1,21121]
[12,12169,24,12178,24,12186,14,12197,24,12209,0,12212]
[12,12306,13,12318,13,12326,23,12338,13,12360,0,11121]
[12,12466,13,12475,24,12492,23,12506,13,12532,0,11221]
[12,12633,13,12641,24,12655,14,12674,24,12685,0,11212]
[21,12793,22,12804,13,12818,23,12832,13,12846,0,22121]
[12,12947,24,12977,13,12993,23,13004,13,13017,0,12121]
[12,13116,13,13124,24,13136,14,13150,24,13161,0,11212]
[12,13262,24,13274,13,13290,23,13302,13,13320,0,12121]
[21,13419,22,13432,13,13440,23,13452,13,13465,0,22121]
[21,13576,11,13587,22,13597,14,13618,13,13652,0,21211]
[12,13756,13,13764,24,13775,14,13786,24,13802,0,11212]
[12,13905,24,13917,13,13930,23,13945,13,13958,0,12121]
[12,14057,13,14079,13,14087,23,14102,13,14115,0,11121]
[21,14220,11,14229,11,14243,12,14254,24,14269,0,21112]
[12,14380,13,14397,24,14412,14,14427,24,14440,0,11212]
[12,14553,24,14567,13,14581,14,14589,24,14600,0,12112]
[21,14712,11,14733,22,14743,14,14753,13,14761,0,21211]
[21,14877,22,14898,13,14912,23,14928,24,14963,0,22122]
[21,15108,11,15130,11,15138,21,15150,11,15161,1,21121]
[21,15266,22,15296,13,15312,23,15324,24,15335,0,22122]
[21,15434,11,15442,22,15463,14,15478,13,15486,0,21211]
[21,15592,11,15611,22,15623,14,15642,13,15653,0,21211]
[12,15766,24,15776,13,15787,23,15798,13,15808,0,12121]
[12,15918,24,15942,13,15955,23,15971,13,15986,0,12121]
[12,16103,24,16115,13,16132,23,16150,13,16167,0,12121]
[21,16265,11,16275,22,16292,14,16316,24,16334,0,21212]
[21,16442,11,16451,22,16462,14,16480,24,16494,0,21212]
[21,16614,22,16633,13,16646,14,16676,24,16694,0,22112]
[21,16812,22,16820,13,16829,23,16840,24,16867,0,22122]
[21,16967,11,16977,11,17002,12,17030,13,17044,0,21111]
[21,17168,11,17185,22,17197,14,17212,24,17228,0,21212]
[21,17351,11,17371,22,17383,14,17396,13,17404,0,21211]
[21,17510,11,17521,11,17530,21,17541,11,17553,1,21121]
[21,17712,11,17735,22,17750,14,17763,24,17775,0,21212]
[21,17874,22,17905,24,17915,14,17931,13,17939,0,22211]
[21,18072,11,18086,22,18098,14,18112,13,18119,0,21211]
[21,18221,11,18235,22,18245,14,18259,24,18272,0,21212]
[21,18369,22,18381,13,18389,23,18405,24,18415,0,22122]
[21,18512,11,18522,11,18535,21,18546,11,18560,1,21121]
[21,18663,11,18674,22,18685,14,18706,13,18721,0,21211]
[21,18817,11,18830,22,18839,14,18853,24,18868,0,21212]
[21,18968,22,18977,24,18993,14,19005,24,19019,0,22212]
[21,19149,11,19165,22,19178,14,19195,24,19210,0,21212]
[21,19323,11,19340,22,19351,14,19363,13,19384,0,21211]
[21,19487,11,19525,22,19538,14,19552,13,19562,0,21211]
[21,19660,22,19684,13,19701,23,19712,13,19728,0,22121]
[21,19827,11,19838,22,19848,14,19862,24,19877,0,21212]
[21,20035,11,20048,22,20063,14,20073,13,20101,0,21211]
[12,20211,24,20223,13,20250,23,20262,13,20275,0,12121]
[21,20381,11,20395,22,20410,14,20424,13,20432,0,21211]
[21,20530,11,20539,11,20547,21,20561,11,20571,1,21121]
[21,20663,11,20672,22,20681,14,20695,13,20718,0,21211]
[21,20817,11,20827,22,20836,14,20849,24,20863,0,21212]
[21,20980,11,20999,11,21006,21,21019,11,21037,1,21121]
[21,21156,11,21167,22,21178,23,21204,13,21225,0,21221]
[21,21337,22,21367,24,21388,23,21405,13,21414,0,22221]
[21,21535,11,21545,22,21557,14,21570,24,21582,0,21212]
[12,21690,24,21706,13,21717,14,21747,13,21772,0,12111]
[12,21916,24,21934,13,21951,14,21959,13,21981,0,12111]
[12,22098,24,22110,13,22124,14,22142,24,22155,0,12112]
[21,22282,22,22294,24,22309,14,22317,13,22332,0,22211]
[21,22437,22,22482,13,22505,23,22517,13,22528,0,22121]
[21,22627,11,22636,22,22648,23,22664,24,22672,0,21222]
[21,22772,11,22780,22,22808,14,22823,13,22848,0,21211]
[12,23047,13,23059,13,23082,23,23098,13,23117,0,11121]
[21,23220,22,23238,13,23250,23,23262,13,23277,0,22121]
[21,23383,11,23399,22,23408,14,23420,24,23434,0,21212]
[21,23534,11,23543,11,23557,21,23571,11,23583,1,21121]
[21,23686,22,23709,24,23728,14,23740,13,23754,0,22211]
[21,23854,11,23864,22,23879,14,23899,13,23906,0,21211]

{"sheet":"!MA18A20.010","index":21,"n_rows":148,"n_cols":48,"rows_kept":148,"cut":false,"hidden":false,"merged":[[4,39,4,42],[5,39,5,40],[4,44,4,47],[5,44,5,45],[4,24,4,27],[5,24,5,25],[4,29,4,32],[5,29,5,30],[4,34,4,37],[5,34,5,35],[1,1,1,2],[5,13,5,14],[42,13,42,14],[43,13,43,14],[4,19,4,22],[5,19,5,20]]}
["Report for:!MA18A20.010"]
["Date:","<date>"]
["Hen:","<hen>",null,null,null,"Correct Sequence",{"$f":"Start!J2","v":21121},null,null,null,null,null,null,null,null,"Total Sequences in Data",{"$f":"4994-COUNTBLANK(L7:L5000)","v":142},null,null,null,null,"Total Sequences in Block Data",{"$f":"COUNTA(L7:L30)","v":24},null,null,null,"Total Sequences in Block Data",{"$f":"COUNTA(L31:L53)","v":23},null,null,null,"Total Sequences in Block Data",{"$f":"COUNTA(L54:L77)","v":24},null,null,null,"Total Sequences in Block Data",{"$f":"COUNTA(L78:L101)","v":24},null,null,null,"Total Sequences in Block Data",{"$f":"COUNTA(L102:L124)","v":23},null,null,null,"Total Sequences in Block Data",{"$f":"COUNTA(L125:L148)","v":24}]
[null,null,null,null,null,null,null,null,null,null,null,null,null,null,null,"Total Sequences in Summary",{"$f":"SUM(O7:O38)","v":142},null,null,null,null,"Total Sequences in Block Summary",{"$f":"SUM(U7:U38)","v":24},null,null,null,"Total Sequences in Block Summary",{"$f":"SUM(Z7:Z38)","v":23},null,null,null,"Total Sequences in Block Summary",{"$f":"SUM(AE7:AE38)","v":24},null,null,null,"Total Sequences in Block Summary",{"$f":"SUM(AJ7:AJ38)","v":24},null,null,null,"Total Sequences in Block Summary",{"$f":"SUM(AO7:AO38)","v":23},null,null,null,"Total Sequences in Block Summary",{"$f":"SUM(AT7:AT38)","v":24}]
[null,null,null,null,null,null,null,null,null,null,null,null,null,null,null,null,null,null,null,"Block 1",null,null,null,null,"Block 2",null,null,null,null,"Block 3",null,null,null,null,"Block 4",null,null,null,null,"Block 5",null,null,null,null,"Block 6"]
["Sequence\nComponent\n1","Time\n1","Sequence\nComponent\n2","Time\n2","Sequence\nComponent\n3","Time\n3","Sequence\nComponent\n4","Time\n4","Sequence\nComponent\n5","Time\n5","Correct?\n0=No 1=Yes","Sequence",null,"Frequency",null,"Relative Frequency","Variability",null,null,"Frequency",null,"Relative Frequency","Variability",null,"Frequency",null,"Relative Frequency","Variability",null,"Frequency",null,"Relative Frequency","Variability",null,"Frequency",null,"Relative Frequency","Variability",null,"Frequency",null,"Relative Frequency","Variability",null,"Frequency",null,"Relative Frequency","Variability"]
[21,14,22,98,24,133,14,175,24,187,0,22212,null,11111,{"$f":"COUNTIF($L$7:$L$500,N7)","v":0},{"$f":"O7/$Q$4","v":0},{"$f":"IF(P7=0,0,(P7*((LOG(P7))/LOG(2))))","v":0},null,null,{"$f":"N7","v":11111},{"$f":"COUNTIF(L7:L30,T7)","v":0},{"$f":"U7/(W4-U25)","v":0},{"$f":"IF(V7=0,0,(V7*((LOG(V7))/LOG(2))))","v":0},null,{"$f":"N7","v":11111},{"$f":"COUNTIF(L31:L53,Y7)","v":0},{"$f":"Z7/(AB4-Z25)","v":0},{"$f":"IF(AA7=0,0,(AA7*((LOG(AA7))/LOG(2))))","v":0},null,{"$f":"N7","v":11111},{"$f":"COUNTIF(L54:L77,AD7)","v":0},{"$f":"AE7/(AG4-AE25)","v":0},{"$f":"IF(AF7=0,0,(AF7*((LOG(AF7))/LOG(2))))","v":0},null,{"$f":"N7","v":11111},{"$f":"COUNTIF(L78:L101,AI7)","v":0},{"$f":"AJ7/(AL4-AJ25)","v":0},{"$f":"IF(AK7=0,0,(AK7*((LOG(AK7))/LOG(2))))","v":0},null,{"$f":"N7","v":11111},{"$f":"COUNTIF(L102:L124,AN7)","v":0},{"$f":"AO7/(AQ4-AO25)","v":0},{"$f":"IF(AP7=0,0,(AP7*((LOG(AP7))/LOG(2))))","v":0},null,{"$f":"N7","v":11111},{"$f":"COUNTIF(L125:L148,AS7)","v":0},{"$f":"AT7/(AV4-AT25)","v":0},{"$f":"IF(AU7=0,0,(AU7*((LOG(AU7))/LOG(2))))","v":0}]
[21,299,11,309,22,327,14,349,24,362,0,21212,null,11112,{"$f":"COUNTIF($L$7:$L$500,N8)","v":0},{"$f":"O8/$Q$4","v":0},{"$f":"IF(P8=0,0,(P8*((LOG(P8))/LOG(2))))","v":0},null,null,{"$f":"N8","v":11112},{"$f":"COUNTIF(L7:L30,T8)","v":0},{"$f":"U8/(W4-U25)","v":0},{"$f":"IF(V8=0,0,(V8*((LOG(V8))/LOG(2))))","v":0},null,{"$f":"N8","v":11112},{"$f":"COUNTIF(L31:L53,Y8)","v":0},{"$f":"Z8/(AB4-Z25)","v":0},{"$f":"IF(AA8=0,0,(AA8*((LOG(AA8))/LOG(2))))","v":0},null,{"$f":"N8","v":11112},{"$f":"COUNTIF(L54:L77,AD8)","v":0},{"$f":"AE8/(AG4-AE25)","v":0},{"$f":"IF(AF8=0,0,(AF8*((LOG(AF8))/LOG(2))))","v":0},null,{"$f":"N8","v":11112},{"$f":"COUNTIF(L78:L101,AI8)","v":0},{"$f":"AJ8/(AL4-AJ25)","v":0},{"$f":"IF(AK8=0,0,(AK8*((LOG(AK8))/LOG(2))))","v":0},null,{"$f":"N8","v":11112},{"$f":"COUNTIF(L102:L124,AN8)","v":0},{"$f":"AO8/(AQ4-AO25)","v":0},{"$f":"IF(AP8=0,0,(AP8*((LOG(AP8))/LOG(2))))","v":0},null,{"$f":"N8","v":11112},{"$f":"COUNTIF(L125:L148,AS8)","v":0},{"$f":"AT8/(AV4-AT25)","v":0},{"$f":"IF(AU8=0,0,(AU8*((LOG(AU8))/LOG(2))))","v":0}]
[21,474,11,493,11,521,21,534,11,553,1,21121,null,11121,{"$f":"COUNTIF($L$7:$L$500,N9)","v":6},{"$f":"O9/$Q$4","v":4.2253521126760563E-2},{"$f":"IF(P9=0,0,(P9*((LOG(P9))/LOG(2))))","v":-0.19287822332888138},null,null,{"$f":"N9","v":11121},{"$f":"COUNTIF(L7:L30,T9)","v":1},{"$f":"U9/(W4-U25)","v":4.7619047619047616E-2},{"$f":"IF(V9=0,0,(V9*((LOG(V9))/LOG(2))))","v":-0.20915797251327431},null,{"$f":"N9","v":11121},{"$f":"COUNTIF(L31:L53,Y9)","v":1},{"$f":"Z9/(AB4-Z25)","v":5.2631578947368418E-2},{"$f":"IF(AA9=0,0,(AA9*((LOG(AA9))/LOG(2))))","v":-0.22357513228650452},null,{"$f":"N9","v":11121},{"$f":"COUNTIF(L54:L77,AD9)","v":4},{"$f":"AE9/(AG4-AE25)","v":0.19047619047619047},{"$f":"IF(AF9=0,0,(AF9*((LOG(AF9))/LOG(2))))","v":-0.4556795091007162},null,{"$f":"N9","v":11121},{"$f":"COUNTIF(L78:L101,AI9)","v":0},{"$f":"AJ9/(AL4-AJ25)","v":0},{"$f":"IF(AK9=0,0,(AK9*((LOG(AK9))/LOG(2))))","v":0},null,{"$f":"N9","v":11121},{"$f":"COUNTIF(L102:L124,AN9)","v":0},{"$f":"AO9/(AQ4-AO25)","v":0},{"$f":"IF(AP9=0,0,(AP9*((LOG(AP9))/LOG(2))))","v":0},null,{"$f":"N9","v":11121},{"$f":"COUNTIF(L125:L148,AS9)","v":0},{"$f":"AT9/(AV4-AT25)","v":0},{"$f":"IF(AU9=0,0,(AU9*((LOG(AU9))/LOG(2))))","v":0}]
[21,662,11,677,22,688,14,702,24,715,0,21212,null,11122,{"$f":"COUNTIF($L$7:$L$500,N10)","v":0},{"$f":"O10/$Q$4","v":0},{"$f":"IF(P10=0,0,(P10*((LOG(P10))/LOG(2))))","v":0},null,null,{"$f":"N10","v":11122},{"$f":"COUNTIF(L7:L30,T10)","v":0},{"$f":"U10/(W4-U25)","v":0},{"$f":"IF(V10=0,0,(V10*((LOG(V10))/LOG(2))))","v":0},null,{"$f":"N10","v":11122},{"$f":"COUNTIF(L31:L53,Y10)","v":0},{"$f":"Z10/(AB4-Z25)","v":0},{"$f":"IF(AA10=0,0,(AA10*((LOG(AA10))/LOG(2))))","v":0},null,{"$f":"N10","v":11122},{"$f":"COUNTIF(L54:L77,AD10)","v":0},{"$f":"AE10/(AG4-AE25)","v":0},{"$f":"IF(AF10=0,0,(AF10*((LOG(AF10))/LOG(2))))","v":0},null,{"$f":"N10","v":11122},{"$f":"COUNTIF(L78:L101,AI10)","v":0},{"$f":"AJ10/(AL4-AJ25)","v":0},{"$f":"IF(AK10=0,0,(AK10*((LOG(AK10))/LOG(2))))","v":0},null,{"$f":"N10","v":11122},{"$f":"COUNTIF(L102:L124,AN10)","v":0},{"$f":"AO10/(AQ4-AO25)","v":0},{"$f":"IF(AP10=0,0,(AP10*((LOG(AP10))/LOG(2))))","v":0},null,{"$f":"N10","v":11122},{"$f":"COUNTIF(L125:L148,AS10)","v":0},{"$f":"AT10/(AV4-AT25)","v":0},{"$f":"IF(AU10=0,0,(AU10*((LOG(AU10))/LOG(2))))","v":0}]
[21,835,11,846,11,879,21,896,22,908,0,21122,null,11211,{"$f":"COUNTIF($L$7:$L$500,N11)","v":3},{"$f":"O11/$Q$4","v":2.1126760563380281E-2},{"$f":"IF(P11=0,0,(P11*((LOG(P11))/LOG(2))))","v":-0.11756587222782097},null,null,{"$f":"N11","v":11211},{"$f":"COUNTIF(L7:L30,T11)","v":0},{"$f":"U11/(W4-U25)","v":0},{"$f":"IF(V11=0,0,(V11*((LOG(V11))/LOG(2))))","v":0},null,{"$f":"N11","v":11211},{"$f":"COUNTIF(L31:L53,Y11)","v":0},{"$f":"Z11/(AB4-Z25)","v":0},{"$f":"IF(AA11=0,0,(AA11*((LOG(AA11))/LOG(2))))","v":0},null,{"$f":"N11","v":11211},{"$f":"COUNTIF(L54:L77,AD11)","v":3},{"$f":"AE11/(AG4-AE25)","v":0.14285714285714285},{"$f":"IF(AF11=0,0,(AF11*((LOG(AF11))/LOG(2))))","v":-0.40105070315108626},null,{"$f":"N11","v":11211},{"$f":"COUNTIF(L78:L101,AI11)","v":0},{"$f":"AJ11/(AL4-AJ25)","v":0},{"$f":"IF(AK11=0,0,(AK11*((LOG(AK11))/LOG(2))))","v":0},null,{"$f":"N11","v":11211},{"$f":"COUNTIF(L102:L124,AN11)","v":0},{"$f":"AO11/(AQ4-AO25)","v":0},{"$f":"IF(AP11=0,0,(AP11*((LOG(AP11))/LOG(2))))","v":0},null,{"$f":"N11","v":11211},{"$f":"COUNTIF(L125:L148,AS11)","v":0},{"$f":"AT11/(AV4-AT25)","v":0},{"$f":"IF(AU11=0,0,(AU11*((LOG(AU11))/LOG(2))))","v":0}]
[21,1017,11,1034,22,1050,14,1065,24,1079,0,21212,null,11212,{"$f":"COUNTIF($L$7:$L$500,N12)","v":6},{"$f":"O12/$Q$4","v":4.2253521126760563E-2},{"$f":"IF(P12=0,0,(P12*((LOG(P12))/LOG(2))))","v":-0.19287822332888138},null,null,{"$f":"N12","v":11212},{"$f":"COUNTIF(L7:L30,T12)","v":1},{"$f":"U12/(W4-U25)","v":4.7619047619047616E-2},{"$f":"IF(V12=0,0,(V12*((LOG(V12))/LOG(2))))","v":-0.20915797251327431},null,{"$f":"N12","v":11212},{"$f":"COUNTIF(L31:L53,Y12)","v":1},{"$f":"Z12/(AB4-Z25)","v":5.2631578947368418E-2},{"$f":"IF(AA12=0,0,(AA12*((LOG(AA12))/LOG(2))))","v":-0.22357513228650452},null,{"$f":"N12","v":11212},{"$f":"COUNTIF(L54:L77,AD12)","v":3},{"$f":"AE12/(AG4-AE25)","v":0.14285714285714285},{"$f":"IF(AF12=0,0,(AF12*((LOG(AF12))/LOG(2))))","v":-0.40105070315108626},null,{"$f":"N12","v":11212},{"$f":"COUNTIF(L78:L101,AI12)","v":0},{"$f":"AJ12/(AL4-AJ25)","v":0},{"$f":"IF(AK12=0,0,(AK12*((LOG(AK12))/LOG(2))))","v":0},null,{"$f":"N12","v":11212},{"$f":"COUNTIF(L102:L124,AN12)","v":1},{"$f":"AO12/(AQ4-AO25)","v":4.5454545454545456E-2},{"$f":"IF(AP12=0,0,(AP12*((LOG(AP12))/LOG(2))))","v":-0.20270143721078623},null,{"$f":"N12","v":11212},{"$f":"COUNTIF(L125:L148,AS12)","v":0},{"$f":"AT12/(AV4-AT25)","v":0},{"$f":"IF(AU12=0,0,(AU12*((LOG(AU12))/LOG(2))))","v":0}]
[21,1185,11,1194,22,1205,14,1222,24,1234,0,21212,null,11221,{"$f":"COUNTIF($L$7:$L$500,N13)","v":3},{"$f":"O13/$Q$4","v":2.1126760563380281E-2},{"$f":"IF(P13=0,0,(P13*((LOG(P13))/LOG(2))))","v":-0.11756587222782097},null,null,{"$f":"N13","v":11221},{"$f":"COUNTIF(L7:L30,T13)","v":0},{"$f":"U13/(W4-U25)","v":0},{"$f":"IF(V13=0,0,(V13*((LOG(V13))/LOG(2))))","v":0},null,{"$f":"N13","v":11221},{"$f":"COUNTIF(L31:L53,Y13)","v":0},{"$f":"Z13/(AB4-Z25)","v":0},{"$f":"IF(AA13=0,0,(AA13*((LOG(AA13))/LOG(2))))","v":0},null,{"$f":"N13","v":11221},{"$f":"COUNTIF(L54:L77,AD13)","v":2},{"$f":"AE13/(AG4-AE25)","v":9.5238095238095233E-2},{"$f":"IF(AF13=0,0,(AF13*((LOG(AF13))/LOG(2))))","v":-0.32307784978845333},null,{"$f":"N13","v":11221},{"$f":"COUNTIF(L78:L101,AI13)","v":0},{"$f":"AJ13/(AL4-AJ25)","v":0},{"$f":"IF(AK13=0,0,(AK13*((LOG(AK13))/LOG(2))))","v":0},null,{"$f":"N13","v":11221},{"$f":"COUNTIF(L102:L124,AN13)","v":0},{"$f":"AO13/(AQ4-AO25)","v":0},{"$f":"IF(AP13=0,0,(AP13*((LOG(AP13))/LOG(2))))","v":0},null,{"$f":"N13","v":11221},{"$f":"COUNTIF(L125:L148,AS13)","v":1},{"$f":"AT13/(AV4-AT25)","v":4.5454545454545456E-2},{"$f":"IF(AU13=0,0,(AU13*((LOG(AU13))/LOG(2))))","v":-0.20270143721078623}]
[21,1379,11,1402,11,1426,12,1434,24,1447,0,21112,null,11222,{"$f":"COUNTIF($L$7:$L$500,N14)","v":0},{"$f":"O14/$Q$4","v":0},{"$f":"IF(P14=0,0,(P14*((LOG(P14))/LOG(2))))","v":0},null,null,{"$f":"N14","v":11222},{"$f":"COUNTIF(L7:L30,T14)","v":0},{"$f":"U14/(W4-U25)","v":0},{"$f":"IF(V14=0,0,(V14*((LOG(V14))/LOG(2))))","v":0},null,{"$f":"N14","v":11222},{"$f":"COUNTIF(L31:L53,Y14)","v":0},{"$f":"Z14/(AB4-Z25)","v":0},{"$f":"IF(AA14=0,0,(AA14*((LOG(AA14))/LOG(2))))","v":0},null,{"$f":"N14","v":11222},{"$f":"COUNTIF(L54:L77,AD14)","v":0},{"$f":"AE14/(AG4-AE25)","v":0},{"$f":"IF(AF14=0,0,(AF14*((LOG(AF14))/LOG(2))))","v":0},null,{"$f":"N14","v":11222},{"$f":"COUNTIF(L78:L101,AI14)","v":0},{"$f":"AJ14/(AL4-AJ25)","v":0},{"$f":"IF(AK14=0,0,(AK14*((LOG(AK14))/LOG(2))))","v":0},null,{"$f":"N14","v":11222},{"$f":"COUNTIF(L102:L124,AN14)","v":0},{"$f":"AO14/(AQ4-AO25)","v":0},{"$f":"IF(AP14=0,0,(AP14*((LOG(AP14))/LOG(2))))","v":0},null,{"$f":"N14","v":11222},{"$f":"COUNTIF(L125:L148,AS14)","v":0},{"$f":"AT14/(AV4-AT25)","v":0},{"$f":"IF(AU14=0,0,(AU14*((LOG(AU14))/LOG(2))))","v":0}]
[12,1551,13,1570,24,1586,14,1602,24,1612,0,11212,null,12111,{"$f":"COUNTIF($L$7:$L$500,N15)","v":0},{"$f":"O15/$Q$4","v":0},{"$f":"IF(P15=0,0,(P15*((LOG(P15))/LOG(2))))","v":0},null,null,{"$f":"N15","v":12111},{"$f":"COUNTIF(L7:L30,T15)","v":0},{"$f":"U15/(W4-U25)","v":0},{"$f":"IF(V15=0,0,(V15*((LOG(V15))/LOG(2))))","v":0},null,{"$f":"N15","v":12111},{"$f":"COUNTIF(L31:L53,Y15)","v":0},{"$f":"Z15/(AB4-Z25)","v":0},{"$f":"IF(AA15=0,0,(AA15*((LOG(AA15))/LOG(2))))","v":0},null,{"$f":"N15","v":12111},{"$f":"COUNTIF(L54:L77,AD15)","v":0},{"$f":"AE15/(AG4-AE25)","v":0},{"$f":"IF(AF15=0,0,(AF15*((LOG(AF15))/LOG(2))))","v":0},null,{"$f":"N15","v":12111},{"$f":"COUNTIF(L78:L101,AI15)","v":0},{"$f":"AJ15/(AL4-AJ25)","v":0},{"$f":"IF(AK15=0,0,(AK15*((LOG(AK15))/LOG(2))))","v":0},null,{"$f":"N15","v":12111},{"$f":"COUNTIF(L102:L124,AN15)","v":0},{"$f":"AO15/(AQ4-AO25)","v":0},{"$f":"IF(AP15=0,0,(AP15*((LOG(AP15))/LOG(2))))","v":0},null,{"$f":"N15","v":12111},{"$f":"COUNTIF(L125:L148,AS15)","v":0},{"$f":"AT15/(AV4-AT25)","v":0},{"$f":"IF(AU15=0,0,(AU15*((LOG(AU15))/LOG(2))))","v":0}]
[12,1729,13,1737,13,1747,23,1766,13,1780,0,11121,null,12112,{"$f":"COUNTIF($L$7:$L$500,N16)","v":0},{"$f":"O16/$Q$4","v":0},{"$f":"IF(P16=0,0,(P16*((LOG(P16))/LOG(2))))","v":0},null,null,{"$f":"N16","v":12112},{"$f":"COUNTIF(L7:L30,T16)","v":0},{"$f":"U16/(W4-U25)","v":0},{"$f":"IF(V16=0,0,(V16*((LOG(V16))/LOG(2))))","v":0},null,{"$f":"N16","v":12112},{"$f":"COUNTIF(L31:L53,Y16)","v":0},{"$f":"Z16/(AB4-Z25)","v":0},{"$f":"IF(AA16=0,0,(AA16*((LOG(AA16))/LOG(2))))","v":0},null,{"$f":"N16","v":12112},{"$f":"COUNTIF(L54:L77,AD16)","v":0},{"$f":"AE16/(AG4-AE25)","v":0},{"$f":"IF(AF16=0,0,(AF16*((LOG(AF16))/LOG(2))))","v":0},null,{"$f":"N16","v":12112},{"$f":"COUNTIF(L78:L101,AI16)","v":0},{"$f":"AJ16/(AL4-AJ25)","v":0},{"$f":"IF(AK16=0,0,(AK16*((LOG(AK16))/LOG(2))))","v":0},null,{"$f":"N16","v":12112},{"$f":"COUNTIF(L102:L124,AN16)","v":0},{"$f":"AO16/(AQ4-AO25)","v":0},{"$f":"IF(AP16=0,0,(AP16*((LOG(AP16))/LOG(2))))","v":0},null,{"$f":"N16","v":12112},{"$f":"COUNTIF(L125:L148,AS16)","v":0},{"$f":"AT16/(AV4-AT25)","v":0},{"$f":"IF(AU16=0,0,(AU16*((LOG(AU16))/LOG(2))))","v":0}]
[21,1895,11,1910,11,1945,12,1955,24,1983,0,21112,null,12121,{"$f":"COUNTIF($L$7:$L$500,N17)","v":10},{"$f":"O17/$Q$4","v":7.0422535211267609E-2},{"$f":"IF(P17=0,0,(P17*((LOG(P17))/LOG(2))))","v":-0.2695647200434732},null,null,{"$f":"N17","v":12121},{"$f":"COUNTIF(L7:L30,T17)","v":1},{"$f":"U17/(W4-U25)","v":4.7619047619047616E-2},{"$f":"IF(V17=0,0,(V17*((LOG(V17))/LOG(2))))","v":-0.20915797251327431},null,{"$f":"N17","v":12121},{"$f":"COUNTIF(L31:L53,Y17)","v":5},{"$f":"Z17/(AB4-Z25)","v":0.26315789473684209},{"$f":"IF(AA17=0,0,(AA17*((LOG(AA17))/LOG(2))))","v":-0.50684195225163764},null,{"$f":"N17","v":12121},{"$f":"COUNTIF(L54:L77,AD17)","v":4},{"$f":"AE17/(AG4-AE25)","v":0.19047619047619047},{"$f":"IF(AF17=0,0,(AF17*((LOG(AF17))/LOG(2))))","v":-0.4556795091007162},null,{"$f":"N17","v":12121},{"$f":"COUNTIF(L78:L101,AI17)","v":0},{"$f":"AJ17/(AL4-AJ25)","v":0},{"$f":"IF(AK17=0,0,(AK17*((LOG(AK17))/LOG(2))))","v":0},null,{"$f":"N17","v":12121},{"$f":"COUNTIF(L102:L124,AN17)","v":0},{"$f":"AO17/(AQ4-AO25)","v":0},{"$f":"IF(AP17=0,0,(AP17*((LOG(AP17))/LOG(2))))","v":0},null,{"$f":"N17","v":12121},{"$f":"COUNTIF(L125:L148,AS17)","v":0},{"$f":"AT17/(AV4-AT25)","v":0},{"$f":"IF(AU17=0,0,(AU17*((LOG(AU17))/LOG(2))))","v":0}]
[21,2090,22,2108,13,2125,23,2138,13,2161,0,22121,null,12122,{"$f":"COUNTIF($L$7:$L$500,N18)","v":2},{"$f":"O18/$Q$4","v":1.4084507042253521E-2},{"$f":"IF(P18=0,0,(P18*((LOG(P18))/LOG(2))))","v":-8.661615661274201E-2},null,null,{"$f":"N18","v":12122},{"$f":"COUNTIF(L7:L30,T18)","v":0},{"$f":"U18/(W4-U25)","v":0},{"$f":"IF(V18=0,0,(V18*((LOG(V18))/LOG(2))))","v":0},null,{"$f":"N18","v":12122},{"$f":"COUNTIF(L31:L53,Y18)","v":1},{"$f":"Z18/(AB4-Z25)","v":5.2631578947368418E-2},{"$f":"IF(AA18=0,0,(AA18*((LOG(AA18))/LOG(2))))","v":-0.22357513228650452},null,{"$f":"N18","v":12122},{"$f":"COUNTIF(L54:L77,AD18)","v":0},{"$f":"AE18/(AG4-AE25)","v":0},{"$f":"IF(AF18=0,0,(AF18*((LOG(AF18))/LOG(2))))","v":0},null,{"$f":"N18","v":12122},{"$f":"COUNTIF(L78:L101,AI18)","v":1},{"$f":"AJ18/(AL4-AJ25)","v":4.1666666666666664E-2},{"$f":"IF(AK18=0,0,(AK18*((LOG(AK18))/LOG(2))))","v":-0.19104010419671485},null,{"$f":"N18","v":12122},{"$f":"COUNTIF(L102:L124,AN18)","v":0},{"$f":"AO18/(AQ4-AO25)","v":0},{"$f":"IF(AP18=0,0,(AP18*((LOG(AP18))/LOG(2))))","v":0},null,{"$f":"N18","v":12122},{"$f":"COUNTIF(L125:L148,AS18)","v":0},{"$f":"AT18/(AV4-AT25)","v":0},{"$f":"IF(AU18=0,0,(AU18*((LOG(AU18))/LOG(2))))","v":0}]
[21,2264,11,2274,11,2287,12,2295,24,2307,0,21112,null,12211,{"$f":"COUNTIF($L$7:$L$500,N19)","v":1},{"$f":"O19/$Q$4","v":7.0422535211267607E-3},{"$f":"IF(P19=0,0,(P19*((LOG(P19))/LOG(2))))","v":-5.0350331827497756E-2},null,null,{"$f":"N19","v":12211},{"$f":"COUNTIF(L7:L30,T19)","v":1},{"$f":"U19/(W4-U25)","v":4.7619047619047616E-2},{"$f":"IF(V19=0,0,(V19*((LOG(V19))/LOG(2))))","v":-0.20915797251327431},null,{"$f":"N19","v":12211},{"$f":"COUNTIF(L31:L53,Y19)","v":0},{"$f":"Z19/(AB4-Z25)","v":0},{"$f":"IF(AA19=0,0,(AA19*((LOG(AA19))/LOG(2))))","v":0},null,{"$f":"N19","v":12211},{"$f":"COUNTIF(L54:L77,AD19)","v":0},{"$f":"AE19/(AG4-AE25)","v":0},{"$f":"IF(AF19=0,0,(AF19*((LOG(AF19))/LOG(2))))","v":0},null,{"$f":"N19","v":12211},{"$f":"COUNTIF(L78:L101,AI19)","v":0},{"$f":"AJ19/(AL4-AJ25)","v":0},{"$f":"IF(AK19=0,0,(AK19*((LOG(AK19))/LOG(2))))","v":0},null,{"$f":"N19","v":12211},{"$f":"COUNTIF(L102:L124,AN19)","v":0},{"$f":"AO19/(AQ4-AO25)","v":0},{"$f":"IF(AP19=0,0,(AP19*((LOG(AP19))/LOG(2))))","v":0},null,{"$f":"N19","v":12211},{"$f":"COUNTIF(L125:L148,AS19)","v":0},{"$f":"AT19/(AV4-AT25)","v":0},{"$f":"IF(AU19=0,0,(AU19*((LOG(AU19))/LOG(2))))","v":0}]
[21,2407,11,2415,11,2423,21,2434,11,2451,1,21121,null,12212,{"$f":"COUNTIF($L$7:$L$500,N20)","v":0},{"$f":"O20/$Q$4","v":0},{"$f":"IF(P20=0,0,(P20*((LOG(P20))/LOG(2))))","v":0},null,null,{"$f":"N20","v":12212},{"$f":"COUNTIF(L7:L30,T20)","v":0},{"$f":"U20/(W4-U25)","v":0},{"$f":"IF(V20=0,0,(V20*((LOG(V20))/LOG(2))))","v":0},null,{"$f":"N20","v":12212},{"$f":"COUNTIF(L31:L53,Y20)","v":0},{"$f":"Z20/(AB4-Z25)","v":0},{"$f":"IF(AA20=0,0,(AA20*((LOG(AA20))/LOG(2))))","v":0},null,{"$f":"N20","v":12212},{"$f":"COUNTIF(L54:L77,AD20)","v":0},{"$f":"AE20/(AG4-AE25)","v":0},{"$f":"IF(AF20=0,0,(AF20*((LOG(AF20))/LOG(2))))","v":0},null,{"$f":"N20","v":12212},{"$f":"COUNTIF(L78:L101,AI20)","v":0},{"$f":"AJ20/(AL4-AJ25)","v":0},{"$f":"IF(AK20=0,0,(AK20*((LOG(AK20))/LOG(2))))","v":0},null,{"$f":"N20","v":12212},{"$f":"COUNTIF(L102:L124,AN20)","v":0},{"$f":"AO20/(AQ4-AO25)","v":0},{"$f":"IF(AP20=0,0,(AP20*((LOG(AP20))/LOG(2))))","v":0},null,{"$f":"N20","v":12212},{"$f":"COUNTIF(L125:L148,AS20)","v":0},{"$f":"AT20/(AV4-AT25)","v":0},{"$f":"IF(AU20=0,0,(AU20*((LOG(AU20))/LOG(2))))","v":0}]
[21,2555,11,2564,11,2580,21,2591,11,2606,1,21121,null,12221,{"$f":"COUNTIF($L$7:$L$500,N21)","v":0},{"$f":"O21/$Q$4","v":0},{"$f":"IF(P21=0,0,(P21*((LOG(P21))/LOG(2))))","v":0},null,null,{"$f":"N21","v":12221},{"$f":"COUNTIF(L7:L30,T21)","v":0},{"$f":"U21/(W4-U25)","v":0},{"$f":"IF(V21=0,0,(V21*((LOG(V21))/LOG(2))))","v":0},null,{"$f":"N21","v":12221},{"$f":"COUNTIF(L31:L53,Y21)","v":0},{"$f":"Z21/(AB4-Z25)","v":0},{"$f":"IF(AA21=0,0,(AA21*((LOG(AA21))/LOG(2))))","v":0},null,{"$f":"N21","v":12221},{"$f":"COUNTIF(L54:L77,AD21)","v":0},{"$f":"AE21/(AG4-AE25)","v":0},{"$f":"IF(AF21=0,0,(AF21*((LOG(AF21))/LOG(2))))","v":0},null,{"$f":"N21","v":12221},{"$f":"COUNTIF(L78:L101,AI21)","v":0},{"$f":"AJ21/(AL4-AJ25)","v":0},{"$f":"IF(AK21=0,0,(AK21*((LOG(AK21))/LOG(2))))","v":0},null,{"$f":"N21","v":12221},{"$f":"COUNTIF(L102:L124,AN21)","v":0},{"$f":"AO21/(AQ4-AO25)","v":0},{"$f":"IF(AP21=0,0,(AP21*((LOG(AP21))/LOG(2))))","v":0},null,{"$f":"N21","v":12221},{"$f":"COUNTIF(L125:L148,AS21)","v":0},{"$f":"AT21/(AV4-AT25)","v":0},{"$f":"IF(AU21=0,0,(AU21*((LOG(AU21))/LOG(2))))","v":0}]
[21,2726,11,2736,22,2748,14,2759,24,2771,0,21212,null,12222,{"$f":"COUNTIF($L$7:$L$500,N22)","v":1},{"$f":"O22/$Q$4","v":7.0422535211267607E-3},{"$f":"IF(P22=0,0,(P22*((LOG(P22))/LOG(2))))","v":-5.0350331827497756E-2},null,null,{"$f":"N22","v":12222},{"$f":"COUNTIF(L7:L30,T22)","v":0},{"$f":"U22/(W4-U25)","v":0},{"$f":"IF(V22=0,0,(V22*((LOG(V22))/LOG(2))))","v":0},null,{"$f":"N22","v":12222},{"$f":"COUNTIF(L31:L53,Y22)","v":1},{"$f":"Z22/(AB4-Z25)","v":5.2631578947368418E-2},{"$f":"IF(AA22=0,0,(AA22*((LOG(AA22))/LOG(2))))","v":-0.22357513228650452},null,{"$f":"N22","v":12222},{"$f":"COUNTIF(L54:L77,AD22)","v":0},{"$f":"AE22/(AG4-AE25)","v":0},{"$f":"IF(AF22=0,0,(AF22*((LOG(AF22))/LOG(2))))","v":0},null,{"$f":"N22","v":12222},{"$f":"COUNTIF(L78:L101,AI22)","v":0},{"$f":"AJ22/(AL4-AJ25)","v":0},{"$f":"IF(AK22=0,0,(AK22*((LOG(AK22))/LOG(2))))","v":0},null,{"$f":"N22","v":12222},{"$f":"COUNTIF(L102:L124,AN22)","v":0},{"$f":"AO22/(AQ4-AO25)","v":0},{"$f":"IF(AP22=0,0,(AP22*((LOG(AP22))/LOG(2))))","v":0},null,{"$f":"N22","v":12222},{"$f":"COUNTIF(L125:L148,AS22)","v":0},{"$f":"AT22/(AV4-AT25)","v":0},{"$f":"IF(AU22=0,0,(AU22*((LOG(AU22))/LOG(2))))","v":0}]
[21,2887,11,2894,22,2907,23,2918,13,2932,0,21221,null,21111,{"$f":"COUNTIF($L$7:$L$500,N23)","v":0},{"$f":"O23/$Q$4","v":0},{"$f":"IF(P23=0,0,(P23*((LOG(P23))/LOG(2))))","v":0},null,null,{"$f":"N23","v":21111},{"$f":"COUNTIF(L7:L30,T23)","v":0},{"$f":"U23/(W4-U25)","v":0},{"$f":"IF(V23=0,0,(V23*((LOG(V23))/LOG(2))))","v":0},null,{"$f":"N23","v":21111},{"$f":"COUNTIF(L31:L53,Y23)","v":0},{"$f":"Z23/(AB4-Z25)","v":0},{"$f":"IF(AA23=0,0,(AA23*((LOG(AA23))/LOG(2))))","v":0},null,{"$f":"N23","v":21111},{"$f":"COUNTIF(L54:L77,AD23)","v":0},{"$f":"AE23/(AG4-AE25)","v":0},{"$f":"IF(AF23=0,0,(AF23*((LOG(AF23))/LOG(2))))","v":0},null,{"$f":"N23","v":21111},{"$f":"COUNTIF(L78:L101,AI23)","v":0},{"$f":"AJ23/(AL4-AJ25)","v":0},{"$f":"IF(AK23=0,0,(AK23*((LOG(AK23))/LOG(2))))","v":0},null,{"$f":"N23","v":21111},{"$f":"COUNTIF(L102:L124,AN23)","v":0},{"$f":"AO23/(AQ4-AO25)","v":0},{"$f":"IF(AP23=0,0,(AP23*((LOG(AP23))/LOG(2))))","v":0},null,{"$f":"N23","v":21111},{"$f":"COUNTIF(L125:L148,AS23)","v":0},{"$f":"AT23/(AV4-AT25)","v":0},{"$f":"IF(AU23=0,0,(AU23*((LOG(AU23))/LOG(2))))","v":0}]
[21,3044,22,3067,13,3078,23,3100,13,3114,0,22121,null,21112,{"$f":"COUNTIF($L$7:$L$500,N24)","v":4},{"$f":"O24/$Q$4","v":2.8169014084507043E-2},{"$f":"IF(P24=0,0,(P24*((LOG(P24))/LOG(2))))","v":-0.14506329914097693},null,null,{"$f":"N24","v":21112},{"$f":"COUNTIF(L7:L30,T24)","v":3},{"$f":"U24/(W4-U25)","v":0.14285714285714285},{"$f":"IF(V24=0,0,(V24*((LOG(V24))/LOG(2))))","v":-0.40105070315108626},null,{"$f":"N24","v":21112},{"$f":"COUNTIF(L31:L53,Y24)","v":0},{"$f":"Z24/(AB4-Z25)","v":0},{"$f":"IF(AA24=0,0,(AA24*((LOG(AA24))/LOG(2))))","v":0},null,{"$f":"N24","v":21112},{"$f":"COUNTIF(L54:L77,AD24)","v":1},{"$f":"AE24/(AG4-AE25)","v":4.7619047619047616E-2},{"$f":"IF(AF24=0,0,(AF24*((LOG(AF24))/LOG(2))))","v":-0.20915797251327431},null,{"$f":"N24","v":21112},{"$f":"COUNTIF(L78:L101,AI24)","v":0},{"$f":"AJ24/(AL4-AJ25)","v":0},{"$f":"IF(AK24=0,0,(AK24*((LOG(AK24))/LOG(2))))","v":0},null,{"$f":"N24","v":21112},{"$f":"COUNTIF(L102:L124,AN24)","v":0},{"$f":"AO24/(AQ4-AO25)","v":0},{"$f":"IF(AP24=0,0,(AP24*((LOG(AP24))/LOG(2))))","v":0},null,{"$f":"N24","v":21112},{"$f":"COUNTIF(L125:L148,AS24)","v":0},{"$f":"AT24/(AV4-AT25)","v":0},{"$f":"IF(AU24=0,0,(AU24*((LOG(AU24))/LOG(2))))","v":0}]
[12,3230,24,3241,13,3254,23,3270,13,3283,0,12121,null,21121,{"$f":"COUNTIF($L$7:$L$500,N25)","v":13},{"$f":"O25/$Q$4","v":9.154929577464789E-2},{"$f":"IF(P25=0,0,(P25*((LOG(P25))/LOG(2))))","v":-0.31578166350511738},null,null,{"$f":"N25","v":21121},{"$f":"COUNTIF(L7:L30,T25)","v":3},null,null,null,{"$f":"N25","v":21121},{"$f":"COUNTIF(L31:L53,Y25)","v":4},null,null,null,{"$f":"N25","v":21121},{"$f":"COUNTIF(L54:L77,AD25)","v":3},null,null,null,{"$f":"N25","v":21121},{"$f":"COUNTIF(L78:L101,AI25)","v":0},null,null,null,{"$f":"N25","v":21121},{"$f":"COUNTIF(L102:L124,AN25)","v":1},null,null,null,{"$f":"N25","v":21121},{"$f":"COUNTIF(L125:L148,AS25)","v":2}]
[12,3397,24,3417,24,3449,14,3464,13,3471,0,12211,null,21122,{"$f":"COUNTIF($L$7:$L$500,N26)","v":4},{"$f":"O26/$Q$4","v":2.8169014084507043E-2},{"$f":"IF(P26=0,0,(P26*((LOG(P26))/LOG(2))))","v":-0.14506329914097693},null,null,{"$f":"N26","v":21122},{"$f":"COUNTIF(L7:L30,T26)","v":1},{"$f":"U26/(W4-U25)","v":4.7619047619047616E-2},{"$f":"IF(V26=0,0,(V26*((LOG(V26))/LOG(2))))","v":-0.20915797251327431},null,{"$f":"N26","v":21122},{"$f":"COUNTIF(L31:L53,Y26)","v":0},{"$f":"Z26/(AB4-Z25)","v":0},{"$f":"IF(AA26=0,0,(AA26*((LOG(AA26))/LOG(2))))","v":0},null,{"$f":"N26","v":21122},{"$f":"COUNTIF(L54:L77,AD26)","v":1},{"$f":"AE26/(AG4-AE25)","v":4.7619047619047616E-2},{"$f":"IF(AF26=0,0,(AF26*((LOG(AF26))/LOG(2))))","v":-0.20915797251327431},null,{"$f":"N26","v":21122},{"$f":"COUNTIF(L78:L101,AI26)","v":1},{"$f":"AJ26/(AL4-AJ25)","v":4.1666666666666664E-2},{"$f":"IF(AK26=0,0,(AK26*((LOG(AK26))/LOG(2))))","v":-0.19104010419671485},null,{"$f":"N26","v":21122},{"$f":"COUNTIF(L102:L124,AN26)","v":1},{"$f":"AO26/(AQ4-AO25)","v":4.5454545454545456E-2},{"$f":"IF(AP26=0,0,(AP26*((LOG(AP26))/LOG(2))))","v":-0.20270143721078623},null,{"$f":"N26","v":21122},{"$f":"COUNTIF(L125:L148,AS26)","v":0},{"$f":"AT26/(AV4-AT25)","v":0},{"$f":"IF(AU26=0,0,(AU26*((LOG(AU26))/LOG(2))))","v":0}]
[21,3580,11,3598,22,3610,14,3626,24,3638,0,21212,null,21211,{"$f":"COUNTIF($L$7:$L$500,N27)","v":6},{"$f":"O27/$Q$4","v":4.2253521126760563E-2},{"$f":"IF(P27=0,0,(P27*((LOG(P27))/LOG(2))))","v":-0.19287822332888138},null,null,{"$f":"N27","v":21211},{"$f":"COUNTIF(L7:L30,T27)","v":0},{"$f":"U27/(W4-U25)","v":0},{"$f":"IF(V27=0,0,(V27*((LOG(V27))/LOG(2))))","v":0},null,{"$f":"N27","v":21211},{"$f":"COUNTIF(L31:L53,Y27)","v":3},{"$f":"Z27/(AB4-Z25)","v":0.15789473684210525},{"$f":"IF(AA27=0,0,(AA27*((LOG(AA27))/LOG(2))))","v":-0.42046815990354147},null,{"$f":"N27","v":21211},{"$f":"COUNTIF(L54:L77,AD27)","v":0},{"$f":"AE27/(AG4-AE25)","v":0},{"$f":"IF(AF27=0,0,(AF27*((LOG(AF27))/LOG(2))))","v":0},null,{"$f":"N27","v":21211},{"$f":"COUNTIF(L78:L101,AI27)","v":2},{"$f":"AJ27/(AL4-AJ25)","v":8.3333333333333329E-2},{"$f":"IF(AK27=0,0,(AK27*((LOG(AK27))/LOG(2))))","v":-0.29874687506009634},null,{"$f":"N27","v":21211},{"$f":"COUNTIF(L102:L124,AN27)","v":0},{"$f":"AO27/(AQ4-AO25)","v":0},{"$f":"IF(AP27=0,0,(AP27*((LOG(AP27))/LOG(2))))","v":0},null,{"$f":"N27","v":21211},{"$f":"COUNTIF(L125:L148,AS27)","v":1},{"$f":"AT27/(AV4-AT25)","v":4.5454545454545456E-2},{"$f":"IF(AU27=0,0,(AU27*((LOG(AU27))/LOG(2))))","v":-0.20270143721078623}]
[21,3747,11,3761,22,3774,14,3784,24,3796,0,21212,null,21212,{"$f":"COUNTIF($L$7:$L$500,N28)","v":48},{"$f":"O28/$Q$4","v":0.3380281690140845},{"$f":"IF(P28=0,0,(P28*((LOG(P28))/LOG(2))))","v":-0.52894127958879744},null,null,{"$f":"N28","v":21212},{"$f":"COUNTIF(L7:L30,T28)","v":9},{"$f":"U28/(W4-U25)","v":0.42857142857142855},{"$f":"IF(V28=0,0,(V28*((LOG(V28))/LOG(2))))","v":-0.52388246628704915},null,{"$f":"N28","v":21212},{"$f":"COUNTIF(L31:L53,Y28)","v":2},{"$f":"Z28/(AB4-Z25)","v":0.10526315789473684},{"$f":"IF(AA28=0,0,(AA28*((LOG(AA28))/LOG(2))))","v":-0.34188710667827216},null,{"$f":"N28","v":21212},{"$f":"COUNTIF(L54:L77,AD28)","v":2},{"$f":"AE28/(AG4-AE25)","v":9.5238095238095233E-2},{"$f":"IF(AF28=0,0,(AF28*((LOG(AF28))/LOG(2))))","v":-0.32307784978845333},null,{"$f":"N28","v":21212},{"$f":"COUNTIF(L78:L101,AI28)","v":15},{"$f":"AJ28/(AL4-AJ25)","v":0.625},{"$f":"IF(AK28=0,0,(AK28*((LOG(AK28))/LOG(2))))","v":-0.42379494069539858},null,{"$f":"N28","v":21212},{"$f":"COUNTIF(L102:L124,AN28)","v":9},{"$f":"AO28/(AQ4-AO25)","v":0.40909090909090912},{"$f":"IF(AP28=0,0,(AP28*((LOG(AP28))/LOG(2))))","v":-0.52752543430703935},null,{"$f":"N28","v":21212},{"$f":"COUNTIF(L125:L148,AS28)","v":11},{"$f":"AT28/(AV4-AT25)","v":0.5},{"$f":"IF(AU28=0,0,(AU28*((LOG(AU28))/LOG(2))))","v":-0.5}]
[21,3903,11,3916,22,3928,14,3942,24,3955,0,21212,null,21221,{"$f":"COUNTIF($L$7:$L$500,N29)","v":11},{"$f":"O29/$Q$4","v":7.746478873239436E-2},{"$f":"IF(P29=0,0,(P29*((LOG(P29))/LOG(2))))","v":-0.28586951063057209},null,null,{"$f":"N29","v":21221},{"$f":"COUNTIF(L7:L30,T29)","v":1},{"$f":"U29/(W4-U25)","v":4.7619047619047616E-2},{"$f":"IF(V29=0,0,(V29*((LOG(V29))/LOG(2))))","v":-0.20915797251327431},null,{"$f":"N29","v":21221},{"$f":"COUNTIF(L31:L53,Y29)","v":2},{"$f":"Z29/(AB4-Z25)","v":0.10526315789473684},{"$f":"IF(AA29=0,0,(AA29*((LOG(AA29))/LOG(2))))","v":-0.34188710667827216},null,{"$f":"N29","v":21221},{"$f":"COUNTIF(L54:L77,AD29)","v":0},{"$f":"AE29/(AG4-AE25)","v":0},{"$f":"IF(AF29=0,0,(AF29*((LOG(AF29))/LOG(2))))","v":0},null,{"$f":"N29","v":21221},{"$f":"COUNTIF(L78:L101,AI29)","v":1},{"$f":"AJ29/(AL4-AJ25)","v":4.1666666666666664E-2},{"$f":"IF(AK29=0,0,(AK29*((LOG(AK29))/LOG(2))))","v":-0.19104010419671485},null,{"$f":"N29","v":21221},{"$f":"COUNTIF(L102:L124,AN29)","v":4},{"$f":"AO29/(AQ4-AO25)","v":0.18181818181818182},{"$f":"IF(AP29=0,0,(AP29*((LOG(AP29))/LOG(2))))","v":-0.44716938520678134},null,{"$f":"N29","v":21221},{"$f":"COUNTIF(L125:L148,AS29)","v":3},{"$f":"AT29/(AV4-AT25)","v":0.13636363636363635},{"$f":"IF(AU29=0,0,(AU29*((LOG(AU29))/LOG(2))))","v":-0.39197306153401923}]
[21,4066,11,4086,22,4099,14,4111,24,4128,0,21212,null,21222,{"$f":"COUNTIF($L$7:$L$500,N30)","v":1},{"$f":"O30/$Q$4","v":7.0422535211267607E-3},{"$f":"IF(P30=0,0,(P30*((LOG(P30))/LOG(2))))","v":-5.0350331827497756E-2},null,null,{"$f":"N30","v":21222},{"$f":"COUNTIF(L7:L30,T30)","v":0},{"$f":"U30/(W4-U25)","v":0},{"$f":"IF(V30=0,0,(V30*((LOG(V30))/LOG(2))))","v":0},null,{"$f":"N30","v":21222},{"$f":"COUNTIF(L31:L53,Y30)","v":0},{"$f":"Z30/(AB4-Z25)","v":0},{"$f":"IF(AA30=0,0,(AA30*((LOG(AA30))/LOG(2))))","v":0},null,{"$f":"N30","v":21222},{"$f":"COUNTIF(L54:L77,AD30)","v":0},{"$f":"AE30/(AG4-AE25)","v":0},{"$f":"IF(AF30=0,0,(AF30*((LOG(AF30))/LOG(2))))","v":0},null,{"$f":"N30","v":21222},{"$f":"COUNTIF(L78:L101,AI30)","v":1},{"$f":"AJ30/(AL4-AJ25)","v":4.1666666666666664E-2},{"$f":"IF(AK30=0,0,(AK30*((LOG(AK30))/LOG(2))))","v":-0.19104010419671485},null,{"$f":"N30","v":21222},{"$f":"COUNTIF(L102:L124,AN30)","v":0},{"$f":"AO30/(AQ4-AO25)","v":0},{"$f":"IF(AP30=0,0,(AP30*((LOG(AP30))/LOG(2))))","v":0},null,{"$f":"N30","v":21222},{"$f":"COUNTIF(L125:L148,AS30)","v":0},{"$f":"AT30/(AV4-AT25)","v":0},{"$f":"IF(AU30=0,0,(AU30*((LOG(AU30))/LOG(2))))","v":0}]
[21,4233,11,4252,22,4263,14,4275,13,4289,0,21211,null,22111,{"$f":"COUNTIF($L$7:$L$500,N31)","v":0},{"$f":"O31/$Q$4","v":0},{"$f":"IF(P31=0,0,(P31*((LOG(P31))/LOG(2))))","v":0},null,null,{"$f":"N31","v":22111},{"$f":"COUNTIF(L7:L30,T31)","v":0},{"$f":"U31/(W4-U25)","v":0},{"$f":"IF(V31=0,0,(V31*((LOG(V31))/LOG(2))))","v":0},null,{"$f":"N31","v":22111},{"$f":"COUNTIF(L31:L53,Y31)","v":0},{"$f":"Z31/(AB4-Z25)","v":0},{"$f":"IF(AA31=0,0,(AA31*((LOG(AA31))/LOG(2))))","v":0},null,{"$f":"N31","v":22111},{"$f":"COUNTIF(L54:L77,AD31)","v":0},{"$f":"AE31/(AG4-AE25)","v":0},{"$f":"IF(AF31=0,0,(AF31*((LOG(AF31))/LOG(2))))","v":0},null,{"$f":"N31","v":22111},{"$f":"COUNTIF(L78:L101,AI31)","v":0},{"$f":"AJ31/(AL4-AJ25)","v":0},{"$f":"IF(AK31=0,0,(AK31*((LOG(AK31))/LOG(2))))","v":0},null,{"$f":"N31","v":22111},{"$f":"COUNTIF(L102:L124,AN31)","v":0},{"$f":"AO31/(AQ4-AO25)","v":0},{"$f":"IF(AP31=0,0,(AP31*((LOG(AP31))/LOG(2))))","v":0},null,{"$f":"N31","v":22111},{"$f":"COUNTIF(L125:L148,AS31)","v":0},{"$f":"AT31/(AV4-AT25)","v":0},{"$f":"IF(AU31=0,0,(AU31*((LOG(AU31))/LOG(2))))","v":0}]
[21,4388,11,4397,11,4406,21,4419,11,4433,1,21121,null,22112,{"$f":"COUNTIF($L$7:$L$500,N32)","v":1},{"$f":"O32/$Q$4","v":7.0422535211267607E-3},{"$f":"IF(P32=0,0,(P32*((LOG(P32))/LOG(2))))","v":-5.0350331827497756E-2},null,null,{"$f":"N32","v":22112},{"$f":"COUNTIF(L7:L30,T32)","v":0},{"$f":"U32/(W4-U25)","v":0},{"$f":"IF(V32=0,0,(V32*((LOG(V32))/LOG(2))))","v":0},null,{"$f":"N32","v":22112},{"$f":"COUNTIF(L31:L53,Y32)","v":0},{"$f":"Z32/(AB4-Z25)","v":0},{"$f":"IF(AA32=0,0,(AA32*((LOG(AA32))/LOG(2))))","v":0},null,{"$f":"N32","v":22112},{"$f":"COUNTIF(L54:L77,AD32)","v":0},{"$f":"AE32/(AG4-AE25)","v":0},{"$f":"IF(AF32=0,0,(AF32*((LOG(AF32))/LOG(2))))","v":0},null,{"$f":"N32","v":22112},{"$f":"COUNTIF(L78:L101,AI32)","v":0},{"$f":"AJ32/(AL4-AJ25)","v":0},{"$f":"IF(AK32=0,0,(AK32*((LOG(AK32))/LOG(2))))","v":0},null,{"$f":"N32","v":22112},{"$f":"COUNTIF(L102:L124,AN32)","v":0},{"$f":"AO32/(AQ4-AO25)","v":0},{"$f":"IF(AP32=0,0,(AP32*((LOG(AP32))/LOG(2))))","v":0},null,{"$f":"N32","v":22112},{"$f":"COUNTIF(L125:L148,AS32)","v":1},{"$f":"AT32/(AV4-AT25)","v":4.5454545454545456E-2},{"$f":"IF(AU32=0,0,(AU32*((LOG(AU32))/LOG(2))))","v":-0.20270143721078623}]
[21,4541,22,4555,24,4587,23,4623,13,4638,0,22221,null,22121,{"$f":"COUNTIF($L$7:$L$500,N33)","v":15},{"$f":"O33/$Q$4","v":0.10563380281690141},{"$f":"IF(P33=0,0,(P33*((LOG(P33))/LOG(2))))","v":-0.34255526660874969},null,null,{"$f":"N33","v":22121},{"$f":"COUNTIF(L7:L30,T33)","v":2},{"$f":"U33/(W4-U25)","v":9.5238095238095233E-2},{"$f":"IF(V33=0,0,(V33*((LOG(V33))/LOG(2))))","v":-0.32307784978845333},null,{"$f":"N33","v":22121},{"$f":"COUNTIF(L31:L53,Y33)","v":2},{"$f":"Z33/(AB4-Z25)","v":0.10526315789473684},{"$f":"IF(AA33=0,0,(AA33*((LOG(AA33))/LOG(2))))","v":-0.34188710667827216},null,{"$f":"N33","v":22121},{"$f":"COUNTIF(L54:L77,AD33)","v":0},{"$f":"AE33/(AG4-AE25)","v":0},{"$f":"IF(AF33=0,0,(AF33*((LOG(AF33))/LOG(2))))","v":0},null,{"$f":"N33","v":22121},{"$f":"COUNTIF(L78:L101,AI33)","v":3},{"$f":"AJ33/(AL4-AJ25)","v":0.125},{"$f":"IF(AK33=0,0,(AK33*((LOG(AK33))/LOG(2))))","v":-0.375},null,{"$f":"N33","v":22121},{"$f":"COUNTIF(L102:L124,AN33)","v":4},{"$f":"AO33/(AQ4-AO25)","v":0.18181818181818182},{"$f":"IF(AP33=0,0,(AP33*((LOG(AP33))/LOG(2))))","v":-0.44716938520678134},null,{"$f":"N33","v":22121},{"$f":"COUNTIF(L125:L148,AS33)","v":4},{"$f":"AT33/(AV4-AT25)","v":0.18181818181818182},{"$f":"IF(AU33=0,0,(AU33*((LOG(AU33))/LOG(2))))","v":-0.44716938520678134}]
[21,4751,11,4770,22,4781,14,4790,13,4806,0,21211,null,22122,{"$f":"COUNTIF($L$7:$L$500,N34)","v":1},{"$f":"O34/$Q$4","v":7.0422535211267607E-3},{"$f":"IF(P34=0,0,(P34*((LOG(P34))/LOG(2))))","v":-5.0350331827497756E-2},null,null,{"$f":"N34","v":22122},{"$f":"COUNTIF(L7:L30,T34)","v":0},{"$f":"U34/(W4-U25)","v":0},{"$f":"IF(V34=0,0,(V34*((LOG(V34))/LOG(2))))","v":0},null,{"$f":"N34","v":22122},{"$f":"COUNTIF(L31:L53,Y34)","v":0},{"$f":"Z34/(AB4-Z25)","v":0},{"$f":"IF(AA34=0,0,(AA34*((LOG(AA34))/LOG(2))))","v":0},null,{"$f":"N34","v":22122},{"$f":"COUNTIF(L54:L77,AD34)","v":0},{"$f":"AE34/(AG4-AE25)","v":0},{"$f":"IF(AF34=0,0,(AF34*((LOG(AF34))/LOG(2))))","v":0},null,{"$f":"N34","v":22122},{"$f":"COUNTIF(L78:L101,AI34)","v":0},{"$f":"AJ34/(AL4-AJ25)","v":0},{"$f":"IF(AK34=0,0,(AK34*((LOG(AK34))/LOG(2))))","v":0},null,{"$f":"N34","v":22122},{"$f":"COUNTIF(L102:L124,AN34)","v":1},{"$f":"AO34/(AQ4-AO25)","v":4.5454545454545456E-2},{"$f":"IF(AP34=0,0,(AP34*((LOG(AP34))/LOG(2))))","v":-0.20270143721078623},null,{"$f":"N34","v":22122},{"$f":"COUNTIF(L125:L148,AS34)","v":0},{"$f":"AT34/(AV4-AT25)","v":0},{"$f":"IF(AU34=0,0,(AU34*((LOG(AU34))/LOG(2))))","v":0}]
[21,4910,11,4918,11,4927,21,4943,11,4959,1,21121,null,22211,{"$f":"COUNTIF($L$7:$L$500,N35)","v":0},{"$f":"O35/$Q$4","v":0},{"$f":"IF(P35=0,0,(P35*((LOG(P35))/LOG(2))))","v":0},null,null,{"$f":"N35","v":22211},{"$f":"COUNTIF(L7:L30,T35)","v":0},{"$f":"U35/(W4-U25)","v":0},{"$f":"IF(V35=0,0,(V35*((LOG(V35))/LOG(2))))","v":0},null,{"$f":"N35","v":22211},{"$f":"COUNTIF(L31:L53,Y35)","v":0},{"$f":"Z35/(AB4-Z25)","v":0},{"$f":"IF(AA35=0,0,(AA35*((LOG(AA35))/LOG(2))))","v":0},null,{"$f":"N35","v":22211},{"$f":"COUNTIF(L54:L77,AD35)","v":0},{"$f":"AE35/(AG4-AE25)","v":0},{"$f":"IF(AF35=0,0,(AF35*((LOG(AF35))/LOG(2))))","v":0},null,{"$f":"N35","v":22211},{"$f":"COUNTIF(L78:L101,AI35)","v":0},{"$f":"AJ35/(AL4-AJ25)","v":0},{"$f":"IF(AK35=0,0,(AK35*((LOG(AK35))/LOG(2))))","v":0},null,{"$f":"N35","v":22211},{"$f":"COUNTIF(L102:L124,AN35)","v":0},{"$f":"AO35/(AQ4-AO25)","v":0},{"$f":"IF(AP35=0,0,(AP35*((LOG(AP35))/LOG(2))))","v":0},null,{"$f":"N35","v":22211},{"$f":"COUNTIF(L125:L148,AS35)","v":0},{"$f":"AT35/(AV4-AT25)","v":0},{"$f":"IF(AU35=0,0,(AU35*((LOG(AU35))/LOG(2))))","v":0}]
[21,5090,11,5100,11,5110,21,5121,11,5135,1,21121,null,22212,{"$f":"COUNTIF($L$7:$L$500,N36)","v":1},{"$f":"O36/$Q$4","v":7.0422535211267607E-3},{"$f":"IF(P36=0,0,(P36*((LOG(P36))/LOG(2))))","v":-5.0350331827497756E-2},null,null,{"$f":"N36","v":22212},{"$f":"COUNTIF(L7:L30,T36)","v":1},{"$f":"U36/(W4-U25)","v":4.7619047619047616E-2},{"$f":"IF(V36=0,0,(V36*((LOG(V36))/LOG(2))))","v":-0.20915797251327431},null,{"$f":"N36","v":22212},{"$f":"COUNTIF(L31:L53,Y36)","v":0},{"$f":"Z36/(AB4-Z25)","v":0},{"$f":"IF(AA36=0,0,(AA36*((LOG(AA36))/LOG(2))))","v":0},null,{"$f":"N36","v":22212},{"$f":"COUNTIF(L54:L77,AD36)","v":0},{"$f":"AE36/(AG4-AE25)","v":0},{"$f":"IF(AF36=0,0,(AF36*((LOG(AF36))/LOG(2))))","v":0},null,{"$f":"N36","v":22212},{"$f":"COUNTIF(L78:L101,AI36)","v":0},{"$f":"AJ36/(AL4-AJ25)","v":0},{"$f":"IF(AK36=0,0,(AK36*((LOG(AK36))/LOG(2))))","v":0},null,{"$f":"N36","v":22212},{"$f":"COUNTIF(L102:L124,AN36)","v":0},{"$f":"AO36/(AQ4-AO25)","v":0},{"$f":"IF(AP36=0,0,(AP36*((LOG(AP36))/LOG(2))))","v":0},null,{"$f":"N36","v":22212},{"$f":"COUNTIF(L125:L148,AS36)","v":0},{"$f":"AT36/(AV4-AT25)","v":0},{"$f":"IF(AU36=0,0,(AU36*((LOG(AU36))/LOG(2))))","v":0}]
[12,5254,24,5266,24,5275,23,5291,24,5303,0,12222,null,22221,{"$f":"COUNTIF($L$7:$L$500,N37)","v":5},{"$f":"O37/$Q$4","v":3.5211267605633804E-2},{"$f":"IF(P37=0,0,(P37*((LOG(P37))/LOG(2))))","v":-0.16999362762737041},null,null,{"$f":"N37","v":22221},{"$f":"COUNTIF(L7:L30,T37)","v":0},{"$f":"U37/(W4-U25)","v":0},{"$f":"IF(V37=0,0,(V37*((LOG(V37))/LOG(2))))","v":0},null,{"$f":"N37","v":22221},{"$f":"COUNTIF(L31:L53,Y37)","v":1},{"$f":"Z37/(AB4-Z25)","v":5.2631578947368418E-2},{"$f":"IF(AA37=0,0,(AA37*((LOG(AA37))/LOG(2))))","v":-0.22357513228650452},null,{"$f":"N37","v":22221},{"$f":"COUNTIF(L54:L77,AD37)","v":1},{"$f":"AE37/(AG4-AE25)","v":4.7619047619047616E-2},{"$f":"IF(AF37=0,0,(AF37*((LOG(AF37))/LOG(2))))","v":-0.20915797251327431},null,{"$f":"N37","v":22221},{"$f":"COUNTIF(L78:L101,AI37)","v":0},{"$f":"AJ37/(AL4-AJ25)","v":0},{"$f":"IF(AK37=0,0,(AK37*((LOG(AK37))/LOG(2))))","v":0},null,{"$f":"N37","v":22221},{"$f":"COUNTIF(L102:L124,AN37)","v":2},{"$f":"AO37/(AQ4-AO25)","v":9.0909090909090912E-2},{"$f":"IF(AP37=0,0,(AP37*((LOG(AP37))/LOG(2))))","v":-0.31449378351248153},null,{"$f":"N37","v":22221},{"$f":"COUNTIF(L125:L148,AS37)","v":1},{"$f":"AT37/(AV4-AT25)","v":4.5454545454545456E-2},{"$f":"IF(AU37=0,0,(AU37*((LOG(AU37))/LOG(2))))","v":-0.20270143721078623}]
[21,5447,22,5464,13,5478,23,5495,13,5508,0,22121,null,22222,{"$f":"COUNTIF($L$7:$L$500,N38)","v":0},{"$f":"O38/$Q$4","v":0},{"$f":"IF(P38=0,0,(P38*((LOG(P38))/LOG(2))))","v":0},null,null,{"$f":"N38","v":22222},{"$f":"COUNTIF(L7:L30,T38)","v":0},{"$f":"U38/(W4-U25)","v":0},{"$f":"IF(V38=0,0,(V38*((LOG(V38))/LOG(2))))","v":0},null,{"$f":"N38","v":22222},{"$f":"COUNTIF(L31:L53,Y38)","v":0},{"$f":"Z38/(AB4-Z25)","v":0},{"$f":"IF(AA38=0,0,(AA38*((LOG(AA38))/LOG(2))))","v":0},null,{"$f":"N38","v":22222},{"$f":"COUNTIF(L54:L77,AD38)","v":0},{"$f":"AE38/(AG4-AE25)","v":0},{"$f":"IF(AF38=0,0,(AF38*((LOG(AF38))/LOG(2))))","v":0},null,{"$f":"N38","v":22222},{"$f":"COUNTIF(L78:L101,AI38)","v":0},{"$f":"AJ38/(AL4-AJ25)","v":0},{"$f":"IF(AK38=0,0,(AK38*((LOG(AK38))/LOG(2))))","v":0},null,{"$f":"N38","v":22222},{"$f":"COUNTIF(L102:L124,AN38)","v":0},{"$f":"AO38/(AQ4-AO25)","v":0},{"$f":"IF(AP38=0,0,(AP38*((LOG(AP38))/LOG(2))))","v":0},null,{"$f":"N38","v":22222},{"$f":"COUNTIF(L125:L148,AS38)","v":0},{"$f":"AT38/(AV4-AT25)","v":0},{"$f":"IF(AU38=0,0,(AU38*((LOG(AU38))/LOG(2))))","v":0}]
[21,5618,22,5626,13,5647,23,5659,13,5671,0,22121,null,null,null,{"$f":"SUM(P7:P38)","v":0.99999999999999989},{"$f":"-SUM(Q7:Q38)","v":3.4053172283060489},null,null,null,null,{"$f":"SUM(V7:V38)","v":1},{"$f":"-SUM(W7:W38)","v":2.7121168268195088},null,null,null,{"$f":"SUM(AA7:AA38)","v":1},{"$f":"-SUM(AB7:AB38)","v":3.0708470936225187},null,null,null,{"$f":"SUM(AF7:AF38)","v":1},{"$f":"-SUM(AG7:AG38)","v":2.9870900416203341},null,null,null,{"$f":"SUM(AK7:AK38)","v":0.99999999999999989},{"$f":"-SUM(AL7:AL38)","v":1.8617022325423545},null,null,null,{"$f":"SUM(AP7:AP38)","v":1},{"$f":"-SUM(AQ7:AQ38)","v":2.3444622998654423},null,null,null,{"$f":"SUM(AU7:AU38)","v":1},{"$f":"-SUM(AV7:AV38)","v":2.1499481955839457}]
[21,5772,11,5787,22,5799,23,5813,13,5828,0,21221,null,null,null,"U=",{"$f":"Q39/(LOG(Q4)/LOG(2))","v":0.47628498901957833},null,null,null,null,"U1=",{"$f":"W39/(LOG(W4)/LOG(2))","v":0.59152432029551549},null,null,null,"U2=",{"$f":"AB39/(LOG(AB4)/LOG(2))","v":0.67885598195702379},null,null,null,"U3=",{"$f":"AG39/(LOG(AG4)/LOG(2))","v":0.65149715862463498},null,null,null,"U4=",{"$f":"AL39/(LOG(AL4)/LOG(2))","v":0.40604524731653369},null,null,null,"U5=",{"$f":"AQ39/(LOG(AQ4)/LOG(2))","v":0.51827792404307105},null,null,null,"U6=",{"$f":"AV39/(LOG(AV4)/LOG(2))","v":0.46891292900340759}]
[12,5940,24,5960,13,5985,23,5997,13,6021,0,12121]
[12,6127,24,6143,13,6153,23,6163,13,6181,0,12121]
[12,6301,13,6308,24,6319,14,6334,24,6346,0,11212,null,"Total Target Seq"]
[12,6466,24,6475,13,6489,23,6501,13,6518,0,12121,null,{"$f":"COUNTIF(L7:L148,G3)","v":13},null,24,23,24,24,23,24]
[12,6621,13,6630,13,6638,23,6654,13,6669,0,11121,null,null,null,"% of reinforcement given in 6 equal intervals based on number of trials "]
[12,6782,24,6797,13,6810,23,6823,13,6841,0,12121,null,null,null,"%_1","%_2","%_3","%_4","%_5","%_6"]
[12,6943,24,6960,13,6981,23,7000,24,7009,0,12122,null,null,"target sequence",{"$f":"$G$3","v":21121},{"$f":"$G$3","v":21121},{"$f":"$G$3","v":21121},{"$f":"$G$3","v":21121},{"$f":"$G$3","v":21121},{"$f":"$G$3","v":21121}]
[21,7113,11,7123,22,7134,14,7149,24,7164,0,21212,null,null,"total reinforcement",{"$f":"U25","v":3},{"$f":"Z25","v":4},{"$f":"AE25","v":3},{"$f":"AJ25","v":0},{"$f":"AO25","v":1},{"$f":"AT25","v":2}]
[12,7291,24,7303,13,7316,23,7329,13,7339,0,12121,null,null,"% target"]
[21,7439,11,7447,11,7456,21,7467,11,7481,1,21121,null,null,"CCRF"]
[21,7601,11,7615,22,7625,14,7637,24,7649,0,21212,null,null,"% CCRf"]
[21,7752,11,7761,22,7770,23,7786,13,7799,0,21221,null,null,"average response rate",{"$f":"J30/P44","v":172},{"$f":"(J53-J30)/Q44","v":166.69565217391303},{"$f":"(J77-J53)/R44","v":165.91666666666666},{"$f":"(J101-J77)/S44","v":166.45833333333334},{"$f":"(J124-J101)/T44","v":175.60869565217391},{"$f":"(J148-J124)/U44","v":163.625}]
[21,7912,11,7921,22,7938,14,7952,13,7962,0,21211]
[12,8072,13,8078,24,8096,23,8127,13,8141,0,11221]
[12,8250,13,8257,24,8267,14,8280,13,8289,0,11211]
[12,8394,13,8401,13,8428,23,8441,13,8456,0,11121]
[21,8568,11,8576,11,8582,21,8593,11,8606,1,21121]
[21,8706,11,8716,11,8727,21,8738,11,8752,1,21121]
[21,8860,11,8869,11,8880,21,8891,22,8918,0,21122]
[12,9021,13,9031,24,9040,14,9052,24,9066,0,11212]
[12,9168,13,9175,13,9188,23,9200,13,9217,0,11121]
[21,9340,11,9348,22,9367,14,9380,24,9393,0,21212]
[12,9511,24,9525,13,9540,23,9558,13,9572,0,12121]
[12,9673,13,9681,13,9692,23,9704,13,9717,0,11121]
[12,9827,13,9836,24,9861,14,9887,13,9895,0,11211]
[21,10008,11,10017,11,10047,21,10059,11,10074,1,21121]
[21,10175,22,10189,24,10196,23,10217,13,10229,0,22221]
[12,10334,24,10343,13,10357,23,10371,13,10386,0,12121]
[12,10510,13,10531,24,10549,14,10563,24,10583,0,11212]
[12,10693,13,10700,24,10713,14,10725,13,10742,0,11211]
[12,10845,13,10857,13,10864,23,10876,13,10897,0,11121]
[21,11026,11,11040,22,11055,14,11066,24,11079,0,21212]
[12,11190,24,11200,13,11213,23,11224,13,11238,0,12121]
[12,11346,24,11386,13,11397,23,11413,13,11434,0,12121]
[21,11537,11,11550,11,11583,12,11592,24,11603,0,21112]
[12,11713,13,11720,24,11730,23,11750,13,11770,0,11221]
[12,11885,13,11896,24,11910,14,11924,24,11944,0,11212]
[21,12049,11,12066,22,12077,14,12086,24,12104,0,21212]
[21,12220,11,12238,22,12249,14,12262,24,12276,0,21212]
[21,12383,11,12391,22,12407,14,12417,24,12437,0,21212]
[21,12554,11,12562,22,12573,14,12588,24,12600,0,21212]
[21,12702,11,12713,22,12726,14,12741,24,12752,0,21212]
[21,12872,11,12881,22,12897,14,12914,24,12926,0,21212]
[21,13063,11,13076,22,13088,14,13101,13,13110,0,21211]
[21,13230,22,13246,13,13262,23,13272,13,13283,0,22121]
[21,13400,11,13415,22,13427,14,13440,13,13458,0,21211]
[21,13564,11,13574,22,13584,14,13600,24,13612,0,21212]
[12,13721,24,13730,13,13745,23,13758,24,13773,0,12122]
[21,13892,22,13915,13,13926,23,13939,13,13951,0,22121]
[21,14052,11,14063,22,14072,14,14089,24,14099,0,21212]
[21,14247,11,14256,22,14273,14,14287,24,14299,0,21212]
[21,14432,11,14440,11,14451,21,14463,22,14480,0,21122]
[21,14578,11,14593,22,14604,23,14612,24,14639,0,21222]
[21,14740,11,14750,22,14759,14,14774,24,14786,0,21212]
[21,14903,11,14914,22,14925,14,14956,24,14968,0,21212]
[21,15068,11,15076,22,15087,14,15096,24,15115,0,21212]
[21,15216,11,15224,22,15242,14,15256,24,15269,0,21212]
[21,15386,22,15411,13,15429,23,15443,13,15456,0,22121]
[21,15557,11,15565,22,15578,23,15590,13,15610,0,21221]
[21,15724,11,15743,22,15760,14,15775,24,15788,0,21212]
[21,15889,11,15900,22,15910,14,15927,24,15939,0,21212]
[21,16040,11,16048,22,16059,14,16068,24,16086,0,21212]
[21,16198,11,16206,22,16219,14,16227,24,16243,0,21212]
[21,16364,11,16377,22,16389,14,16411,24,16436,0,21212]
[21,16552,22,16568,24,16585,23,16615,13,16626,0,22221]
[21,16771,11,16792,22,16803,23,16821,13,16836,0,21221]
[21,16996,22,17018,13,17029,23,17044,13,17058,0,22121]
[21,17165,11,17173,11,17182,21,17195,22,17221,0,21122]
[21,17342,11,17350,22,17362,14,17377,24,17390,0,21212]
[21,17503,22,17532,13,17546,23,17565,13,17583,0,22121]
[21,17688,22,17699,24,17711,23,17747,13,17758,0,22221]
[21,17859,11,17867,22,17876,14,17893,24,17907,0,21212]
[21,18022,11,18032,22,18045,14,18060,24,18073,0,21212]
[21,18178,11,18186,11,18219,21,18237,11,18251,1,21121]
[21,18397,22,18419,13,18431,23,18444,24,18468,0,22122]
[21,18575,11,18583,22,18603,23,18619,13,18628,0,21221]
[21,18745,11,18764,22,18776,14,18790,24,18803,0,21212]
[21,18913,11,18923,22,18940,23,18949,13,18963,0,21221]
[21,19071,11,19079,22,19101,14,19110,24,19122,0,21212]
[21,19231,11,19240,22,19269,23,19298,13,19312,0,21221]
[21,19424,11,19432,22,19440,14,19449,24,19461,0,21212]
[12,19569,13,19580,24,19594,14,19610,24,19627,0,11212]
[21,19734,22,19753,13,19765,23,19776,13,19794,0,22121]
[21,19909,22,19932,13,19946,23,19961,13,19978,0,22121]
[21,20080,11,20088,22,20099,14,20115,24,20129,0,21212]
[21,20229,22,20246,13,20260,14,20283,24,20301,0,22112]
[21,20425,22,20440,13,20454,23,20465,13,20479,0,22121]
[21,20580,11,20587,22,20597,14,20608,24,20620,0,21212]
[21,20720,22,20727,13,20738,23,20749,13,20758,0,22121]
[21,20870,11,20878,22,20888,14,20897,24,20910,0,21212]
[12,21096,13,21114,24,21128,23,21164,13,21184,0,11221]
[21,21291,11,21300,22,21311,14,21320,24,21334,0,21212]
[21,21438,11,21453,22,21463,14,21486,24,21511,0,21212]
[21,21625,11,21633,22,21647,23,21657,13,21671,0,21221]
[21,21781,11,21798,22,21809,14,21822,13,21831,0,21211]
[21,21932,11,21940,22,21949,14,21961,24,21974,0,21212]
[21,22102,11,22114,22,22125,14,22143,24,22160,0,21212]
[21,22261,11,22269,22,22278,14,22295,24,22309,0,21212]
[21,22414,11,22422,22,22433,14,22448,24,22459,0,21212]
[21,22587,11,22595,22,22607,14,22619,24,22634,0,21212]
[21,22738,11,22750,22,22759,14,22768,24,22782,0,21212]
[21,22885,22,22896,13,22904,23,22915,13,22927,0,22121]
[21,23039,11,23048,11,23070,21,23084,11,23097,1,21121]
[21,23207,22,23230,24,23245,23,23274,13,23291,0,22221]
[21,23389,11,23398,22,23408,23,23421,13,23433,0,21221]
[21,23537,11,23545,22,23562,23,23570,13,23584,0,21221]
[21,23693,22,23707,13,23715,23,23727,13,23739,0,22121]
[21,23845,11,23854,11,23876,21,23890,11,23905,1,21121]

{"sheet":"!MA19B20.010","index":22,"n_rows":160,"n_cols":48,"rows_kept":160,"cut":false,"hidden":false,"merged":[[4,39,4,42],[5,39,5,40],[4,44,4,47],[5,44,5,45],[4,24,4,27],[5,24,5,25],[4,29,4,32],[5,29,5,30],[4,34,4,37],[5,34,5,35],[1,1,1,2],[5,13,5,14],[42,13,42,14],[43,13,43,14],[4,19,4,22],[5,19,5,20]]}
["Report for:!MA19B20.010"]
["Date:","<date>"]
["Hen:","<hen>",null,null,null,"Correct Sequence",{"$f":"Start!J2","v":21121},null,null,null,null,null,null,null,null,"Total Sequences in Data",{"$f":"4994-COUNTBLANK(L7:L5000)","v":154},null,null,null,null,"Total Sequences in Block Data",{"$f":"COUNTA(L7:L32)","v":26},null,null,null,"Total Sequences in Block Data",{"$f":"COUNTA(L33:L57)","v":25},null,null,null,"Total Sequences in Block Data",{"$f":"COUNTA(L58:L83)","v":26},null,null,null,"Total Sequences in Block Data",{"$f":"COUNTA(L84:L109)","v":26},null,null,null,"Total Sequences in Block Data",{"$f":"COUNTA(L110:L134)","v":25},null,null,null,"Total Sequences in Block Data",{"$f":"COUNTA(L135:L160)","v":26}]
[null,null,null,null,null,null,null,null,null,null,null,null,null,null,null,"Total Sequences in Summary",{"$f":"SUM(O7:O38)","v":154},null,null,null,null,"Total Sequences in Block Summary",{"$f":"SUM(U7:U38)","v":26},null,null,null,"Total Sequences in Block Summary",{"$f":"SUM(Z7:Z38)","v":25},null,null,null,"Total Sequences in Block Summary",{"$f":"SUM(AE7:AE38)","v":26},null,null,null,"Total Sequences in Block Summary",{"$f":"SUM(AJ7:AJ38)","v":26},null,null,null,"Total Sequences in Block Summary",{"$f":"SUM(AO7:AO38)","v":25},null,null,null,"Total Sequences in Block Summary",{"$f":"SUM(AT7:AT38)","v":26}]
[null,null,null,null,null,null,null,null,null,null,null,null,null,null,null,null,null,null,null,"Block 1",null,null,null,null,"Block 2",null,null,null,null,"Block 3",null,null,null,null,"Block 4",null,null,null,null,"Block 5",null,null,null,null,"Block 6"]
["Sequence\nComponent\n1","Time\n1","Sequence\nComponent\n2","Time\n2","Sequence\nComponent\n3","Time\n3","Sequence\nComponent\n4","Time\n4","Sequence\nComponent\n5","Time\n5","Correct?\n0=No 1=Yes","Sequence",null,"Frequency",null,"Relative Frequency","Variability",null,null,"Frequency",null,"Relative Frequency","Variability",null,"Frequency",null,"Relative Frequency","Variability",null,"Frequency",null,"Relative Frequency","Variability",null,"Frequency",null,"Relative Frequency","Variability",null,"Frequency",null,"Relative Frequency","Variability",null,"Frequency",null,"Relative Frequency","Variability"]
[21,9,11,37,22,50,14,66,24,79,0,21212,null,11111,{"$f":"COUNTIF($L$7:$L$500,N7)","v":0},{"$f":"O7/$Q$4","v":0},{"$f":"IF(P7=0,0,(P7*((LOG(P7))/LOG(2))))","v":0},null,null,{"$f":"N7","v":11111},{"$f":"COUNTIF(L7:L32,T7)","v":0},{"$f":"U7/(W4-U25)","v":0},{"$f":"IF(V7=0,0,(V7*((LOG(V7))/LOG(2))))","v":0},null,{"$f":"N7","v":11111},{"$f":"COUNTIF(L33:L57,Y7)","v":0},{"$f":"Z7/(AB4-Z25)","v":0},{"$f":"IF(AA7=0,0,(AA7*((LOG(AA7))/LOG(2))))","v":0},null,{"$f":"N7","v":11111},{"$f":"COUNTIF(L58:L83,AD7)","v":0},{"$f":"AE7/(AG4-AE25)","v":0},{"$f":"IF(AF7=0,0,(AF7*((LOG(AF7))/LOG(2))))","v":0},null,{"$f":"N7","v":11111},{"$f":"COUNTIF(L84:L109,AI7)","v":0},{"$f":"AJ7/(AL4-AJ25)","v":0},{"$f":"IF(AK7=0,0,(AK7*((LOG(AK7))/LOG(2))))","v":0},null,{"$f":"N7","v":11111},{"$f":"COUNTIF(L110:L134,AN7)","v":0},{"$f":"AO7/(AQ4-AO25)","v":0},{"$f":"IF(AP7=0,0,(AP7*((LOG(AP7))/LOG(2))))","v":0},null,{"$f":"N7","v":11111},{"$f":"COUNTIF(L135:L160,AS7)","v":0},{"$f":"AT7/(AV4-AT25)","v":0},{"$f":"IF(AU7=0,0,(AU7*((LOG(AU7))/LOG(2))))","v":0}]
[21,186,11,197,22,208,14,220,24,232,0,21212,null,11112,{"$f":"COUNTIF($L$7:$L$500,N8)","v":0},{"$f":"O8/$Q$4","v":0},{"$f":"IF(P8=0,0,(P8*((LOG(P8))/LOG(2))))","v":0},null,null,{"$f":"N8","v":11112},{"$f":"COUNTIF(L7:L32,T8)","v":0},{"$f":"U8/(W4-U25)","v":0},{"$f":"IF(V8=0,0,(V8*((LOG(V8))/LOG(2))))","v":0},null,{"$f":"N8","v":11112},{"$f":"COUNTIF(L33:L57,Y8)","v":0},{"$f":"Z8/(AB4-Z25)","v":0},{"$f":"IF(AA8=0,0,(AA8*((LOG(AA8))/LOG(2))))","v":0},null,{"$f":"N8","v":11112},{"$f":"COUNTIF(L58:L83,AD8)","v":0},{"$f":"AE8/(AG4-AE25)","v":0},{"$f":"IF(AF8=0,0,(AF8*((LOG(AF8))/LOG(2))))","v":0},null,{"$f":"N8","v":11112},{"$f":"COUNTIF(L84:L109,AI8)","v":0},{"$f":"AJ8/(AL4-AJ25)","v":0},{"$f":"IF(AK8=0,0,(AK8*((LOG(AK8))/LOG(2))))","v":0},null,{"$f":"N8","v":11112},{"$f":"COUNTIF(L110:L134,AN8)","v":0},{"$f":"AO8/(AQ4-AO25)","v":0},{"$f":"IF(AP8=0,0,(AP8*((LOG(AP8))/LOG(2))))","v":0},null,{"$f":"N8","v":11112},{"$f":"COUNTIF(L135:L160,AS8)","v":0},{"$f":"AT8/(AV4-AT25)","v":0},{"$f":"IF(AU8=0,0,(AU8*((LOG(AU8))/LOG(2))))","v":0}]
[21,333,11,342,22,354,14,364,24,376,0,21212,null,11121,{"$f":"COUNTIF($L$7:$L$500,N9)","v":2},{"$f":"O9/$Q$4","v":1.2987012987012988E-2},{"$f":"IF(P9=0,0,(P9*((LOG(P9))/LOG(2))))","v":-8.1386838190842872E-2},null,null,{"$f":"N9","v":11121},{"$f":"COUNTIF(L7:L32,T9)","v":1},{"$f":"U9/(W4-U25)","v":4.3478260869565216E-2},{"$f":"IF(V9=0,0,(V9*((LOG(V9))/LOG(2))))","v":-0.19667660678508753},null,{"$f":"N9","v":11121},{"$f":"COUNTIF(L33:L57,Y9)","v":1},{"$f":"Z9/(AB4-Z25)","v":4.1666666666666664E-2},{"$f":"IF(AA9=0,0,(AA9*((LOG(AA9))/LOG(2))))","v":-0.19104010419671485},null,{"$f":"N9","v":11121},{"$f":"COUNTIF(L58:L83,AD9)","v":0},{"$f":"AE9/(AG4-AE25)","v":0},{"$f":"IF(AF9=0,0,(AF9*((LOG(AF9))/LOG(2))))","v":0},null,{"$f":"N9","v":11121},{"$f":"COUNTIF(L84:L109,AI9)","v":0},{"$f":"AJ9/(AL4-AJ25)","v":0},{"$f":"IF(AK9=0,0,(AK9*((LOG(AK9))/LOG(2))))","v":0},null,{"$f":"N9","v":11121},{"$f":"COUNTIF(L110:L134,AN9)","v":0},{"$f":"AO9/(AQ4-AO25)","v":0},{"$f":"IF(AP9=0,0,(AP9*((LOG(AP9))/LOG(2))))","v":0},null,{"$f":"N9","v":11121},{"$f":"COUNTIF(L135:L160,AS9)","v":0},{"$f":"AT9/(AV4-AT25)","v":0},{"$f":"IF(AU9=0,0,(AU9*((LOG(AU9))/LOG(2))))","v":0}]
[21,476,11,491,22,502,14,514,24,527,0,21212,null,11122,{"$f":"COUNTIF($L$7:$L$500,N10)","v":0},{"$f":"O10/$Q$4","v":0},{"$f":"IF(P10=0,0,(P10*((LOG(P10))/LOG(2))))","v":0},null,null,{"$f":"N10","v":11122},{"$f":"COUNTIF(L7:L32,T10)","v":0},{"$f":"U10/(W4-U25)","v":0},{"$f":"IF(V10=0,0,(V10*((LOG(V10))/LOG(2))))","v":0},null,{"$f":"N10","v":11122},{"$f":"COUNTIF(L33:L57,Y10)","v":0},{"$f":"Z10/(AB4-Z25)","v":0},{"$f":"IF(AA10=0,0,(AA10*((LOG(AA10))/LOG(2))))","v":0},null,{"$f":"N10","v":11122},{"$f":"COUNTIF(L58:L83,AD10)","v":0},{"$f":"AE10/(AG4-AE25)","v":0},{"$f":"IF(AF10=0,0,(AF10*((LOG(AF10))/LOG(2))))","v":0},null,{"$f":"N10","v":11122},{"$f":"COUNTIF(L84:L109,AI10)","v":0},{"$f":"AJ10/(AL4-AJ25)","v":0},{"$f":"IF(AK10=0,0,(AK10*((LOG(AK10))/LOG(2))))","v":0},null,{"$f":"N10","v":11122},{"$f":"COUNTIF(L110:L134,AN10)","v":0},{"$f":"AO10/(AQ4-AO25)","v":0},{"$f":"IF(AP10=0,0,(AP10*((LOG(AP10))/LOG(2))))","v":0},null,{"$f":"N10","v":11122},{"$f":"COUNTIF(L135:L160,AS10)","v":0},{"$f":"AT10/(AV4-AT25)","v":0},{"$f":"IF(AU10=0,0,(AU10*((LOG(AU10))/LOG(2))))","v":0}]
[21,627,11,635,11,644,21,653,11,670,1,21121,null,11211,{"$f":"COUNTIF($L$7:$L$500,N11)","v":0},{"$f":"O11/$Q$4","v":0},{"$f":"IF(P11=0,0,(P11*((LOG(P11))/LOG(2))))","v":0},null,null,{"$f":"N11","v":11211},{"$f":"COUNTIF(L7:L32,T11)","v":0},{"$f":"U11/(W4-U25)","v":0},{"$f":"IF(V11=0,0,(V11*((LOG(V11))/LOG(2))))","v":0},null,{"$f":"N11","v":11211},{"$f":"COUNTIF(L33:L57,Y11)","v":0},{"$f":"Z11/(AB4-Z25)","v":0},{"$f":"IF(AA11=0,0,(AA11*((LOG(AA11))/LOG(2))))","v":0},null,{"$f":"N11","v":11211},{"$f":"COUNTIF(L58:L83,AD11)","v":0},{"$f":"AE11/(AG4-AE25)","v":0},{"$f":"IF(AF11=0,0,(AF11*((LOG(AF11))/LOG(2))))","v":0},null,{"$f":"N11","v":11211},{"$f":"COUNTIF(L84:L109,AI11)","v":0},{"$f":"AJ11/(AL4-AJ25)","v":0},{"$f":"IF(AK11=0,0,(AK11*((LOG(AK11))/LOG(2))))","v":0},null,{"$f":"N11","v":11211},{"$f":"COUNTIF(L110:L134,AN11)","v":0},{"$f":"AO11/(AQ4-AO25)","v":0},{"$f":"IF(AP11=0,0,(AP11*((LOG(AP11))/LOG(2))))","v":0},null,{"$f":"N11","v":11211},{"$f":"COUNTIF(L135:L160,AS11)","v":0},{"$f":"AT11/(AV4-AT25)","v":0},{"$f":"IF(AU11=0,0,(AU11*((LOG(AU11))/LOG(2))))","v":0}]
[12,768,13,778,24,787,14,805,24,818,0,11212,null,11212,{"$f":"COUNTIF($L$7:$L$500,N12)","v":8},{"$f":"O12/$Q$4","v":5.1948051948051951E-2},{"$f":"IF(P12=0,0,(P12*((LOG(P12))/LOG(2))))","v":-0.22165124886726764},null,null,{"$f":"N12","v":11212},{"$f":"COUNTIF(L7:L32,T12)","v":3},{"$f":"U12/(W4-U25)","v":0.13043478260869565},{"$f":"IF(V12=0,0,(V12*((LOG(V12))/LOG(2))))","v":-0.3832955811307639},null,{"$f":"N12","v":11212},{"$f":"COUNTIF(L33:L57,Y12)","v":3},{"$f":"Z12/(AB4-Z25)","v":0.125},{"$f":"IF(AA12=0,0,(AA12*((LOG(AA12))/LOG(2))))","v":-0.375},null,{"$f":"N12","v":11212},{"$f":"COUNTIF(L58:L83,AD12)","v":1},{"$f":"AE12/(AG4-AE25)","v":4.3478260869565216E-2},{"$f":"IF(AF12=0,0,(AF12*((LOG(AF12))/LOG(2))))","v":-0.19667660678508753},null,{"$f":"N12","v":11212},{"$f":"COUNTIF(L84:L109,AI12)","v":1},{"$f":"AJ12/(AL4-AJ25)","v":4.3478260869565216E-2},{"$f":"IF(AK12=0,0,(AK12*((LOG(AK12))/LOG(2))))","v":-0.19667660678508753},null,{"$f":"N12","v":11212},{"$f":"COUNTIF(L110:L134,AN12)","v":0},{"$f":"AO12/(AQ4-AO25)","v":0},{"$f":"IF(AP12=0,0,(AP12*((LOG(AP12))/LOG(2))))","v":0},null,{"$f":"N12","v":11212},{"$f":"COUNTIF(L135:L160,AS12)","v":0},{"$f":"AT12/(AV4-AT25)","v":0},{"$f":"IF(AU12=0,0,(AU12*((LOG(AU12))/LOG(2))))","v":0}]
[21,930,11,938,11,946,21,957,22,973,0,21122,null,11221,{"$f":"COUNTIF($L$7:$L$500,N13)","v":3},{"$f":"O13/$Q$4","v":1.948051948051948E-2},{"$f":"IF(P13=0,0,(P13*((LOG(P13))/LOG(2))))","v":-0.11068488389559245},null,null,{"$f":"N13","v":11221},{"$f":"COUNTIF(L7:L32,T13)","v":0},{"$f":"U13/(W4-U25)","v":0},{"$f":"IF(V13=0,0,(V13*((LOG(V13))/LOG(2))))","v":0},null,{"$f":"N13","v":11221},{"$f":"COUNTIF(L33:L57,Y13)","v":0},{"$f":"Z13/(AB4-Z25)","v":0},{"$f":"IF(AA13=0,0,(AA13*((LOG(AA13))/LOG(2))))","v":0},null,{"$f":"N13","v":11221},{"$f":"COUNTIF(L58:L83,AD13)","v":0},{"$f":"AE13/(AG4-AE25)","v":0},{"$f":"IF(AF13=0,0,(AF13*((LOG(AF13))/LOG(2))))","v":0},null,{"$f":"N13","v":11221},{"$f":"COUNTIF(L84:L109,AI13)","v":2},{"$f":"AJ13/(AL4-AJ25)","v":8.6956521739130432E-2},{"$f":"IF(AK13=0,0,(AK13*((LOG(AK13))/LOG(2))))","v":-0.30639669183104457},null,{"$f":"N13","v":11221},{"$f":"COUNTIF(L110:L134,AN13)","v":0},{"$f":"AO13/(AQ4-AO25)","v":0},{"$f":"IF(AP13=0,0,(AP13*((LOG(AP13))/LOG(2))))","v":0},null,{"$f":"N13","v":11221},{"$f":"COUNTIF(L135:L160,AS13)","v":1},{"$f":"AT13/(AV4-AT25)","v":0.04},{"$f":"IF(AU13=0,0,(AU13*((LOG(AU13))/LOG(2))))","v":-0.18575424759098899}]
[12,1101,24,1110,13,1121,14,1143,24,1154,0,12112,null,11222,{"$f":"COUNTIF($L$7:$L$500,N14)","v":0},{"$f":"O14/$Q$4","v":0},{"$f":"IF(P14=0,0,(P14*((LOG(P14))/LOG(2))))","v":0},null,null,{"$f":"N14","v":11222},{"$f":"COUNTIF(L7:L32,T14)","v":0},{"$f":"U14/(W4-U25)","v":0},{"$f":"IF(V14=0,0,(V14*((LOG(V14))/LOG(2))))","v":0},null,{"$f":"N14","v":11222},{"$f":"COUNTIF(L33:L57,Y14)","v":0},{"$f":"Z14/(AB4-Z25)","v":0},{"$f":"IF(AA14=0,0,(AA14*((LOG(AA14))/LOG(2))))","v":0},null,{"$f":"N14","v":11222},{"$f":"COUNTIF(L58:L83,AD14)","v":0},{"$f":"AE14/(AG4-AE25)","v":0},{"$f":"IF(AF14=0,0,(AF14*((LOG(AF14))/LOG(2))))","v":0},null,{"$f":"N14","v":11222},{"$f":"COUNTIF(L84:L109,AI14)","v":0},{"$f":"AJ14/(AL4-AJ25)","v":0},{"$f":"IF(AK14=0,0,(AK14*((LOG(AK14))/LOG(2))))","v":0},null,{"$f":"N14","v":11222},{"$f":"COUNTIF(L110:L134,AN14)","v":0},{"$f":"AO14/(AQ4-AO25)","v":0},{"$f":"IF(AP14=0,0,(AP14*((LOG(AP14))/LOG(2))))","v":0},null,{"$f":"N14","v":11222},{"$f":"COUNTIF(L135:L160,AS14)","v":0},{"$f":"AT14/(AV4-AT25)","v":0},{"$f":"IF(AU14=0,0,(AU14*((LOG(AU14))/LOG(2))))","v":0}]
[12,1258,13,1273,24,1284,14,1299,24,1311,0,11212,null,12111,{"$f":"COUNTIF($L$7:$L$500,N15)","v":0},{"$f":"O15/$Q$4","v":0},{"$f":"IF(P15=0,0,(P15*((LOG(P15))/LOG(2))))","v":0},null,null,{"$f":"N15","v":12111},{"$f":"COUNTIF(L7:L32,T15)","v":0},{"$f":"U15/(W4-U25)","v":0},{"$f":"IF(V15=0,0,(V15*((LOG(V15))/LOG(2))))","v":0},null,{"$f":"N15","v":12111},{"$f":"COUNTIF(L33:L57,Y15)","v":0},{"$f":"Z15/(AB4-Z25)","v":0},{"$f":"IF(AA15=0,0,(AA15*((LOG(AA15))/LOG(2))))","v":0},null,{"$f":"N15","v":12111},{"$f":"COUNTIF(L58:L83,AD15)","v":0},{"$f":"AE15/(AG4-AE25)","v":0},{"$f":"IF(AF15=0,0,(AF15*((LOG(AF15))/LOG(2))))","v":0},null,{"$f":"N15","v":12111},{"$f":"COUNTIF(L84:L109,AI15)","v":0},{"$f":"AJ15/(AL4-AJ25)","v":0},{"$f":"IF(AK15=0,0,(AK15*((LOG(AK15))/LOG(2))))","v":0},null,{"$f":"N15","v":12111},{"$f":"COUNTIF(L110:L134,AN15)","v":0},{"$f":"AO15/(AQ4-AO25)","v":0},{"$f":"IF(AP15=0,0,(AP15*((LOG(AP15))/LOG(2))))","v":0},null,{"$f":"N15","v":12111},{"$f":"COUNTIF(L135:L160,AS15)","v":0},{"$f":"AT15/(AV4-AT25)","v":0},{"$f":"IF(AU15=0,0,(AU15*((LOG(AU15))/LOG(2))))","v":0}]
[21,1420,11,1437,22,1448,14,1459,24,1471,0,21212,null,12112,{"$f":"COUNTIF($L$7:$L$500,N16)","v":4},{"$f":"O16/$Q$4","v":2.5974025974025976E-2},{"$f":"IF(P16=0,0,(P16*((LOG(P16))/LOG(2))))","v":-0.13679965040765979},null,null,{"$f":"N16","v":12112},{"$f":"COUNTIF(L7:L32,T16)","v":2},{"$f":"U16/(W4-U25)","v":8.6956521739130432E-2},{"$f":"IF(V16=0,0,(V16*((LOG(V16))/LOG(2))))","v":-0.30639669183104457},null,{"$f":"N16","v":12112},{"$f":"COUNTIF(L33:L57,Y16)","v":1},{"$f":"Z16/(AB4-Z25)","v":4.1666666666666664E-2},{"$f":"IF(AA16=0,0,(AA16*((LOG(AA16))/LOG(2))))","v":-0.19104010419671485},null,{"$f":"N16","v":12112},{"$f":"COUNTIF(L58:L83,AD16)","v":1},{"$f":"AE16/(AG4-AE25)","v":4.3478260869565216E-2},{"$f":"IF(AF16=0,0,(AF16*((LOG(AF16))/LOG(2))))","v":-0.19667660678508753},null,{"$f":"N16","v":12112},{"$f":"COUNTIF(L84:L109,AI16)","v":0},{"$f":"AJ16/(AL4-AJ25)","v":0},{"$f":"IF(AK16=0,0,(AK16*((LOG(AK16))/LOG(2))))","v":0},null,{"$f":"N16","v":12112},{"$f":"COUNTIF(L110:L134,AN16)","v":0},{"$f":"AO16/(AQ4-AO25)","v":0},{"$f":"IF(AP16=0,0,(AP16*((LOG(AP16))/LOG(2))))","v":0},null,{"$f":"N16","v":12112},{"$f":"COUNTIF(L135:L160,AS16)","v":0},{"$f":"AT16/(AV4-AT25)","v":0},{"$f":"IF(AU16=0,0,(AU16*((LOG(AU16))/LOG(2))))","v":0}]
[12,1582,13,1591,24,1600,14,1612,24,1623,0,11212,null,12121,{"$f":"COUNTIF($L$7:$L$500,N17)","v":7},{"$f":"O17/$Q$4","v":4.5454545454545456E-2},{"$f":"IF(P17=0,0,(P17*((LOG(P17))/LOG(2))))","v":-0.20270143721078623},null,null,{"$f":"N17","v":12121},{"$f":"COUNTIF(L7:L32,T17)","v":2},{"$f":"U17/(W4-U25)","v":8.6956521739130432E-2},{"$f":"IF(V17=0,0,(V17*((LOG(V17))/LOG(2))))","v":-0.30639669183104457},null,{"$f":"N17","v":12121},{"$f":"COUNTIF(L33:L57,Y17)","v":5},{"$f":"Z17/(AB4-Z25)","v":0.20833333333333334},{"$f":"IF(AA17=0,0,(AA17*((LOG(AA17))/LOG(2))))","v":-0.47146550121537367},null,{"$f":"N17","v":12121},{"$f":"COUNTIF(L58:L83,AD17)","v":0},{"$f":"AE17/(AG4-AE25)","v":0},{"$f":"IF(AF17=0,0,(AF17*((LOG(AF17))/LOG(2))))","v":0},null,{"$f":"N17","v":12121},{"$f":"COUNTIF(L84:L109,AI17)","v":0},{"$f":"AJ17/(AL4-AJ25)","v":0},{"$f":"IF(AK17=0,0,(AK17*((LOG(AK17))/LOG(2))))","v":0},null,{"$f":"N17","v":12121},{"$f":"COUNTIF(L110:L134,AN17)","v":0},{"$f":"AO17/(AQ4-AO25)","v":0},{"$f":"IF(AP17=0,0,(AP17*((LOG(AP17))/LOG(2))))","v":0},null,{"$f":"N17","v":12121},{"$f":"COUNTIF(L135:L160,AS17)","v":0},{"$f":"AT17/(AV4-AT25)","v":0},{"$f":"IF(AU17=0,0,(AU17*((LOG(AU17))/LOG(2))))","v":0}]
[21,1723,11,1731,22,1742,14,1761,13,1773,0,21211,null,12122,{"$f":"COUNTIF($L$7:$L$500,N18)","v":2},{"$f":"O18/$Q$4","v":1.2987012987012988E-2},{"$f":"IF(P18=0,0,(P18*((LOG(P18))/LOG(2))))","v":-8.1386838190842872E-2},null,null,{"$f":"N18","v":12122},{"$f":"COUNTIF(L7:L32,T18)","v":0},{"$f":"U18/(W4-U25)","v":0},{"$f":"IF(V18=0,0,(V18*((LOG(V18))/LOG(2))))","v":0},null,{"$f":"N18","v":12122},{"$f":"COUNTIF(L33:L57,Y18)","v":0},{"$f":"Z18/(AB4-Z25)","v":0},{"$f":"IF(AA18=0,0,(AA18*((LOG(AA18))/LOG(2))))","v":0},null,{"$f":"N18","v":12122},{"$f":"COUNTIF(L58:L83,AD18)","v":1},{"$f":"AE18/(AG4-AE25)","v":4.3478260869565216E-2},{"$f":"IF(AF18=0,0,(AF18*((LOG(AF18))/LOG(2))))","v":-0.19667660678508753},null,{"$f":"N18","v":12122},{"$f":"COUNTIF(L84:L109,AI18)","v":1},{"$f":"AJ18/(AL4-AJ25)","v":4.3478260869565216E-2},{"$f":"IF(AK18=0,0,(AK18*((LOG(AK18))/LOG(2))))","v":-0.19667660678508753},null,{"$f":"N18","v":12122},{"$f":"COUNTIF(L110:L134,AN18)","v":0},{"$f":"AO18/(AQ4-AO25)","v":0},{"$f":"IF(AP18=0,0,(AP18*((LOG(AP18))/LOG(2))))","v":0},null,{"$f":"N18","v":12122},{"$f":"COUNTIF(L135:L160,AS18)","v":0},{"$f":"AT18/(AV4-AT25)","v":0},{"$f":"IF(AU18=0,0,(AU18*((LOG(AU18))/LOG(2))))","v":0}]
[21,1872,11,1880,11,1888,21,1898,11,1909,1,21121,null,12211,{"$f":"COUNTIF($L$7:$L$500,N19)","v":0},{"$f":"O19/$Q$4","v":0},{"$f":"IF(P19=0,0,(P19*((LOG(P19))/LOG(2))))","v":0},null,null,{"$f":"N19","v":12211},{"$f":"COUNTIF(L7:L32,T19)","v":0},{"$f":"U19/(W4-U25)","v":0},{"$f":"IF(V19=0,0,(V19*((LOG(V19))/LOG(2))))","v":0},null,{"$f":"N19","v":12211},{"$f":"COUNTIF(L33:L57,Y19)","v":0},{"$f":"Z19/(AB4-Z25)","v":0},{"$f":"IF(AA19=0,0,(AA19*((LOG(AA19))/LOG(2))))","v":0},null,{"$f":"N19","v":12211},{"$f":"COUNTIF(L58:L83,AD19)","v":0},{"$f":"AE19/(AG4-AE25)","v":0},{"$f":"IF(AF19=0,0,(AF19*((LOG(AF19))/LOG(2))))","v":0},null,{"$f":"N19","v":12211},{"$f":"COUNTIF(L84:L109,AI19)","v":0},{"$f":"AJ19/(AL4-AJ25)","v":0},{"$f":"IF(AK19=0,0,(AK19*((LOG(AK19))/LOG(2))))","v":0},null,{"$f":"N19","v":12211},{"$f":"COUNTIF(L110:L134,AN19)","v":0},{"$f":"AO19/(AQ4-AO25)","v":0},{"$f":"IF(AP19=0,0,(AP19*((LOG(AP19))/LOG(2))))","v":0},null,{"$f":"N19","v":12211},{"$f":"COUNTIF(L135:L160,AS19)","v":0},{"$f":"AT19/(AV4-AT25)","v":0},{"$f":"IF(AU19=0,0,(AU19*((LOG(AU19))/LOG(2))))","v":0}]
[12,2004,24,2013,13,2021,23,2029,13,2044,0,12121,null,12212,{"$f":"COUNTIF($L$7:$L$500,N20)","v":3},{"$f":"O20/$Q$4","v":1.948051948051948E-2},{"$f":"IF(P20=0,0,(P20*((LOG(P20))/LOG(2))))","v":-0.11068488389559245},null,null,{"$f":"N20","v":12212},{"$f":"COUNTIF(L7:L32,T20)","v":2},{"$f":"U20/(W4-U25)","v":8.6956521739130432E-2},{"$f":"IF(V20=0,0,(V20*((LOG(V20))/LOG(2))))","v":-0.30639669183104457},null,{"$f":"N20","v":12212},{"$f":"COUNTIF(L33:L57,Y20)","v":0},{"$f":"Z20/(AB4-Z25)","v":0},{"$f":"IF(AA20=0,0,(AA20*((LOG(AA20))/LOG(2))))","v":0},null,{"$f":"N20","v":12212},{"$f":"COUNTIF(L58:L83,AD20)","v":0},{"$f":"AE20/(AG4-AE25)","v":0},{"$f":"IF(AF20=0,0,(AF20*((LOG(AF20))/LOG(2))))","v":0},null,{"$f":"N20","v":12212},{"$f":"COUNTIF(L84:L109,AI20)","v":0},{"$f":"AJ20/(AL4-AJ25)","v":0},{"$f":"IF(AK20=0,0,(AK20*((LOG(AK20))/LOG(2))))","v":0},null,{"$f":"N20","v":12212},{"$f":"COUNTIF(L110:L134,AN20)","v":0},{"$f":"AO20/(AQ4-AO25)","v":0},{"$f":"IF(AP20=0,0,(AP20*((LOG(AP20))/LOG(2))))","v":0},null,{"$f":"N20","v":12212},{"$f":"COUNTIF(L135:L160,AS20)","v":1},{"$f":"AT20/(AV4-AT25)","v":0.04},{"$f":"IF(AU20=0,0,(AU20*((LOG(AU20))/LOG(2))))","v":-0.18575424759098899}]
[21,2150,11,2157,22,2169,14,2184,24,2197,0,21212,null,12221,{"$f":"COUNTIF($L$7:$L$500,N21)","v":0},{"$f":"O21/$Q$4","v":0},{"$f":"IF(P21=0,0,(P21*((LOG(P21))/LOG(2))))","v":0},null,null,{"$f":"N21","v":12221},{"$f":"COUNTIF(L7:L32,T21)","v":0},{"$f":"U21/(W4-U25)","v":0},{"$f":"IF(V21=0,0,(V21*((LOG(V21))/LOG(2))))","v":0},null,{"$f":"N21","v":12221},{"$f":"COUNTIF(L33:L57,Y21)","v":0},{"$f":"Z21/(AB4-Z25)","v":0},{"$f":"IF(AA21=0,0,(AA21*((LOG(AA21))/LOG(2))))","v":0},null,{"$f":"N21","v":12221},{"$f":"COUNTIF(L58:L83,AD21)","v":0},{"$f":"AE21/(AG4-AE25)","v":0},{"$f":"IF(AF21=0,0,(AF21*((LOG(AF21))/LOG(2))))","v":0},null,{"$f":"N21","v":12221},{"$f":"COUNTIF(L84:L109,AI21)","v":0},{"$f":"AJ21/(AL4-AJ25)","v":0},{"$f":"IF(AK21=0,0,(AK21*((LOG(AK21))/LOG(2))))","v":0},null,{"$f":"N21","v":12221},{"$f":"COUNTIF(L110:L134,AN21)","v":0},{"$f":"AO21/(AQ4-AO25)","v":0},{"$f":"IF(AP21=0,0,(AP21*((LOG(AP21))/LOG(2))))","v":0},null,{"$f":"N21","v":12221},{"$f":"COUNTIF(L135:L160,AS21)","v":0},{"$f":"AT21/(AV4-AT25)","v":0},{"$f":"IF(AU21=0,0,(AU21*((LOG(AU21))/LOG(2))))","v":0}]
[12,2298,13,2305,13,2314,23,2323,13,2332,0,11121,null,12222,{"$f":"COUNTIF($L$7:$L$500,N22)","v":0},{"$f":"O22/$Q$4","v":0},{"$f":"IF(P22=0,0,(P22*((LOG(P22))/LOG(2))))","v":0},null,null,{"$f":"N22","v":12222},{"$f":"COUNTIF(L7:L32,T22)","v":0},{"$f":"U22/(W4-U25)","v":0},{"$f":"IF(V22=0,0,(V22*((LOG(V22))/LOG(2))))","v":0},null,{"$f":"N22","v":12222},{"$f":"COUNTIF(L33:L57,Y22)","v":0},{"$f":"Z22/(AB4-Z25)","v":0},{"$f":"IF(AA22=0,0,(AA22*((LOG(AA22))/LOG(2))))","v":0},null,{"$f":"N22","v":12222},{"$f":"COUNTIF(L58:L83,AD22)","v":0},{"$f":"AE22/(AG4-AE25)","v":0},{"$f":"IF(AF22=0,0,(AF22*((LOG(AF22))/LOG(2))))","v":0},null,{"$f":"N22","v":12222},{"$f":"COUNTIF(L84:L109,AI22)","v":0},{"$f":"AJ22/(AL4-AJ25)","v":0},{"$f":"IF(AK22=0,0,(AK22*((LOG(AK22))/LOG(2))))","v":0},null,{"$f":"N22","v":12222},{"$f":"COUNTIF(L110:L134,AN22)","v":0},{"$f":"AO22/(AQ4-AO25)","v":0},{"$f":"IF(AP22=0,0,(AP22*((LOG(AP22))/LOG(2))))","v":0},null,{"$f":"N22","v":12222},{"$f":"COUNTIF(L135:L160,AS22)","v":0},{"$f":"AT22/(AV4-AT25)","v":0},{"$f":"IF(AU22=0,0,(AU22*((LOG(AU22))/LOG(2))))","v":0}]
[12,2441,24,2460,13,2471,23,2482,13,2493,0,12121,null,21111,{"$f":"COUNTIF($L$7:$L$500,N23)","v":0},{"$f":"O23/$Q$4","v":0},{"$f":"IF(P23=0,0,(P23*((LOG(P23))/LOG(2))))","v":0},null,null,{"$f":"N23","v":21111},{"$f":"COUNTIF(L7:L32,T23)","v":0},{"$f":"U23/(W4-U25)","v":0},{"$f":"IF(V23=0,0,(V23*((LOG(V23))/LOG(2))))","v":0},null,{"$f":"N23","v":21111},{"$f":"COUNTIF(L33:L57,Y23)","v":0},{"$f":"Z23/(AB4-Z25)","v":0},{"$f":"IF(AA23=0,0,(AA23*((LOG(AA23))/LOG(2))))","v":0},null,{"$f":"N23","v":21111},{"$f":"COUNTIF(L58:L83,AD23)","v":0},{"$f":"AE23/(AG4-AE25)","v":0},{"$f":"IF(AF23=0,0,(AF23*((LOG(AF23))/LOG(2))))","v":0},null,{"$f":"N23","v":21111},{"$f":"COUNTIF(L84:L109,AI23)","v":0},{"$f":"AJ23/(AL4-AJ25)","v":0},{"$f":"IF(AK23=0,0,(AK23*((LOG(AK23))/LOG(2))))","v":0},null,{"$f":"N23","v":21111},{"$f":"COUNTIF(L110:L134,AN23)","v":0},{"$f":"AO23/(AQ4-AO25)","v":0},{"$f":"IF(AP23=0,0,(AP23*((LOG(AP23))/LOG(2))))","v":0},null,{"$f":"N23","v":21111},{"$f":"COUNTIF(L135:L160,AS23)","v":0},{"$f":"AT23/(AV4-AT25)","v":0},{"$f":"IF(AU23=0,0,(AU23*((LOG(AU23))/LOG(2))))","v":0}]
[21,2605,11,2614,22,2622,14,2644,24,2656,0,21212,null,21112,{"$f":"COUNTIF($L$7:$L$500,N24)","v":1},{"$f":"O24/$Q$4","v":6.4935064935064939E-3},{"$f":"IF(P24=0,0,(P24*((LOG(P24))/LOG(2))))","v":-4.7186925588927932E-2},null,null,{"$f":"N24","v":21112},{"$f":"COUNTIF(L7:L32,T24)","v":0},{"$f":"U24/(W4-U25)","v":0},{"$f":"IF(V24=0,0,(V24*((LOG(V24))/LOG(2))))","v":0},null,{"$f":"N24","v":21112},{"$f":"COUNTIF(L33:L57,Y24)","v":0},{"$f":"Z24/(AB4-Z25)","v":0},{"$f":"IF(AA24=0,0,(AA24*((LOG(AA24))/LOG(2))))","v":0},null,{"$f":"N24","v":21112},{"$f":"COUNTIF(L58:L83,AD24)","v":0},{"$f":"AE24/(AG4-AE25)","v":0},{"$f":"IF(AF24=0,0,(AF24*((LOG(AF24))/LOG(2))))","v":0},null,{"$f":"N24","v":21112},{"$f":"COUNTIF(L84:L109,AI24)","v":1},{"$f":"AJ24/(AL4-AJ25)","v":4.3478260869565216E-2},{"$f":"IF(AK24=0,0,(AK24*((LOG(AK24))/LOG(2))))","v":-0.19667660678508753},null,{"$f":"N24","v":21112},{"$f":"COUNTIF(L110:L134,AN24)","v":0},{"$f":"AO24/(AQ4-AO25)","v":0},{"$f":"IF(AP24=0,0,(AP24*((LOG(AP24))/LOG(2))))","v":0},null,{"$f":"N24","v":21112},{"$f":"COUNTIF(L135:L160,AS24)","v":0},{"$f":"AT24/(AV4-AT25)","v":0},{"$f":"IF(AU24=0,0,(AU24*((LOG(AU24))/LOG(2))))","v":0}]
[21,2756,11,2769,22,2787,23,2798,13,2812,0,21221,null,21121,{"$f":"COUNTIF($L$7:$L$500,N25)","v":13},{"$f":"O25/$Q$4","v":8.4415584415584416E-2},{"$f":"IF(P25=0,0,(P25*((LOG(P25))/LOG(2))))","v":-0.30105525125454236},null,null,{"$f":"N25","v":21121},{"$f":"COUNTIF(L7:L32,T25)","v":3},null,null,null,{"$f":"N25","v":21121},{"$f":"COUNTIF(L33:L57,Y25)","v":1},null,null,null,{"$f":"N25","v":21121},{"$f":"COUNTIF(L58:L83,AD25)","v":3},null,null,null,{"$f":"N25","v":21121},{"$f":"COUNTIF(L84:L109,AI25)","v":3},null,null,null,{"$f":"N25","v":21121},{"$f":"COUNTIF(L110:L134,AN25)","v":2},null,null,null,{"$f":"N25","v":21121},{"$f":"COUNTIF(L135:L160,AS25)","v":1}]
[12,2915,24,2926,13,2936,14,2958,24,2970,0,12112,null,21122,{"$f":"COUNTIF($L$7:$L$500,N26)","v":5},{"$f":"O26/$Q$4","v":3.2467532467532464E-2},{"$f":"IF(P26=0,0,(P26*((LOG(P26))/LOG(2))))","v":-0.1605473521366084},null,null,{"$f":"N26","v":21122},{"$f":"COUNTIF(L7:L32,T26)","v":2},{"$f":"U26/(W4-U25)","v":8.6956521739130432E-2},{"$f":"IF(V26=0,0,(V26*((LOG(V26))/LOG(2))))","v":-0.30639669183104457},null,{"$f":"N26","v":21122},{"$f":"COUNTIF(L33:L57,Y26)","v":1},{"$f":"Z26/(AB4-Z25)","v":4.1666666666666664E-2},{"$f":"IF(AA26=0,0,(AA26*((LOG(AA26))/LOG(2))))","v":-0.19104010419671485},null,{"$f":"N26","v":21122},{"$f":"COUNTIF(L58:L83,AD26)","v":0},{"$f":"AE26/(AG4-AE25)","v":0},{"$f":"IF(AF26=0,0,(AF26*((LOG(AF26))/LOG(2))))","v":0},null,{"$f":"N26","v":21122},{"$f":"COUNTIF(L84:L109,AI26)","v":2},{"$f":"AJ26/(AL4-AJ25)","v":8.6956521739130432E-2},{"$f":"IF(AK26=0,0,(AK26*((LOG(AK26))/LOG(2))))","v":-0.30639669183104457},null,{"$f":"N26","v":21122},{"$f":"COUNTIF(L110:L134,AN26)","v":0},{"$f":"AO26/(AQ4-AO25)","v":0},{"$f":"IF(AP26=0,0,(AP26*((LOG(AP26))/LOG(2))))","v":0},null,{"$f":"N26","v":21122},{"$f":"COUNTIF(L135:L160,AS26)","v":0},{"$f":"AT26/(AV4-AT25)","v":0},{"$f":"IF(AU26=0,0,(AU26*((LOG(AU26))/LOG(2))))","v":0}]
[21,3072,11,3080,11,3089,21,3098,11,3110,1,21121,null,21211,{"$f":"COUNTIF($L$7:$L$500,N27)","v":10},{"$f":"O27/$Q$4","v":6.4935064935064929E-2},{"$f":"IF(P27=0,0,(P27*((LOG(P27))/LOG(2))))","v":-0.25615963933815183},null,null,{"$f":"N27","v":21211},{"$f":"COUNTIF(L7:L32,T27)","v":1},{"$f":"U27/(W4-U25)","v":4.3478260869565216E-2},{"$f":"IF(V27=0,0,(V27*((LOG(V27))/LOG(2))))","v":-0.19667660678508753},null,{"$f":"N27","v":21211},{"$f":"COUNTIF(L33:L57,Y27)","v":3},{"$f":"Z27/(AB4-Z25)","v":0.125},{"$f":"IF(AA27=0,0,(AA27*((LOG(AA27))/LOG(2))))","v":-0.375},null,{"$f":"N27","v":21211},{"$f":"COUNTIF(L58:L83,AD27)","v":1},{"$f":"AE27/(AG4-AE25)","v":4.3478260869565216E-2},{"$f":"IF(AF27=0,0,(AF27*((LOG(AF27))/LOG(2))))","v":-0.19667660678508753},null,{"$f":"N27","v":21211},{"$f":"COUNTIF(L84:L109,AI27)","v":0},{"$f":"AJ27/(AL4-AJ25)","v":0},{"$f":"IF(AK27=0,0,(AK27*((LOG(AK27))/LOG(2))))","v":0},null,{"$f":"N27","v":21211},{"$f":"COUNTIF(L110:L134,AN27)","v":3},{"$f":"AO27/(AQ4-AO25)","v":0.13043478260869565},{"$f":"IF(AP27=0,0,(AP27*((LOG(AP27))/LOG(2))))","v":-0.3832955811307639},null,{"$f":"N27","v":21211},{"$f":"COUNTIF(L135:L160,AS27)","v":2},{"$f":"AT27/(AV4-AT25)","v":0.08},{"$f":"IF(AU27=0,0,(AU27*((LOG(AU27))/LOG(2))))","v":-0.29150849518197797}]
[12,3206,24,3219,24,3234,14,3246,24,3255,0,12212,null,21212,{"$f":"COUNTIF($L$7:$L$500,N28)","v":62},{"$f":"O28/$Q$4","v":0.40259740259740262},{"$f":"IF(P28=0,0,(P28*((LOG(P28))/LOG(2))))","v":-0.52844541739673778},null,null,{"$f":"N28","v":21212},{"$f":"COUNTIF(L7:L32,T28)","v":9},{"$f":"U28/(W4-U25)","v":0.39130434782608697},{"$f":"IF(V28=0,0,(V28*((LOG(V28))/LOG(2))))","v":-0.5296840257187958},null,{"$f":"N28","v":21212},{"$f":"COUNTIF(L33:L57,Y28)","v":8},{"$f":"Z28/(AB4-Z25)","v":0.33333333333333331},{"$f":"IF(AA28=0,0,(AA28*((LOG(AA28))/LOG(2))))","v":-0.52832083357371862},null,{"$f":"N28","v":21212},{"$f":"COUNTIF(L58:L83,AD28)","v":10},{"$f":"AE28/(AG4-AE25)","v":0.43478260869565216},{"$f":"IF(AF28=0,0,(AF28*((LOG(AF28))/LOG(2))))","v":-0.52244950485636987},null,{"$f":"N28","v":21212},{"$f":"COUNTIF(L84:L109,AI28)","v":9},{"$f":"AJ28/(AL4-AJ25)","v":0.39130434782608697},{"$f":"IF(AK28=0,0,(AK28*((LOG(AK28))/LOG(2))))","v":-0.5296840257187958},null,{"$f":"N28","v":21212},{"$f":"COUNTIF(L110:L134,AN28)","v":9},{"$f":"AO28/(AQ4-AO25)","v":0.39130434782608697},{"$f":"IF(AP28=0,0,(AP28*((LOG(AP28))/LOG(2))))","v":-0.5296840257187958},null,{"$f":"N28","v":21212},{"$f":"COUNTIF(L135:L160,AS28)","v":17},{"$f":"AT28/(AV4-AT25)","v":0.68},{"$f":"IF(AU28=0,0,(AU28*((LOG(AU28))/LOG(2))))","v":-0.378347476996582}]
[21,3367,11,3391,22,3400,14,3409,24,3423,0,21212,null,21221,{"$f":"COUNTIF($L$7:$L$500,N29)","v":7},{"$f":"O29/$Q$4","v":4.5454545454545456E-2},{"$f":"IF(P29=0,0,(P29*((LOG(P29))/LOG(2))))","v":-0.20270143721078623},null,null,{"$f":"N29","v":21221},{"$f":"COUNTIF(L7:L32,T29)","v":1},{"$f":"U29/(W4-U25)","v":4.3478260869565216E-2},{"$f":"IF(V29=0,0,(V29*((LOG(V29))/LOG(2))))","v":-0.19667660678508753},null,{"$f":"N29","v":21221},{"$f":"COUNTIF(L33:L57,Y29)","v":0},{"$f":"Z29/(AB4-Z25)","v":0},{"$f":"IF(AA29=0,0,(AA29*((LOG(AA29))/LOG(2))))","v":0},null,{"$f":"N29","v":21221},{"$f":"COUNTIF(L58:L83,AD29)","v":2},{"$f":"AE29/(AG4-AE25)","v":8.6956521739130432E-2},{"$f":"IF(AF29=0,0,(AF29*((LOG(AF29))/LOG(2))))","v":-0.30639669183104457},null,{"$f":"N29","v":21221},{"$f":"COUNTIF(L84:L109,AI29)","v":1},{"$f":"AJ29/(AL4-AJ25)","v":4.3478260869565216E-2},{"$f":"IF(AK29=0,0,(AK29*((LOG(AK29))/LOG(2))))","v":-0.19667660678508753},null,{"$f":"N29","v":21221},{"$f":"COUNTIF(L110:L134,AN29)","v":3},{"$f":"AO29/(AQ4-AO25)","v":0.13043478260869565},{"$f":"IF(AP29=0,0,(AP29*((LOG(AP29))/LOG(2))))","v":-0.3832955811307639},null,{"$f":"N29","v":21221},{"$f":"COUNTIF(L135:L160,AS29)","v":0},{"$f":"AT29/(AV4-AT25)","v":0},{"$f":"IF(AU29=0,0,(AU29*((LOG(AU29))/LOG(2))))","v":0}]
[21,3542,11,3550,22,3560,14,3573,24,3586,0,21212,null,21222,{"$f":"COUNTIF($L$7:$L$500,N30)","v":3},{"$f":"O30/$Q$4","v":1.948051948051948E-2},{"$f":"IF(P30=0,0,(P30*((LOG(P30))/LOG(2))))","v":-0.11068488389559245},null,null,{"$f":"N30","v":21222},{"$f":"COUNTIF(L7:L32,T30)","v":0},{"$f":"U30/(W4-U25)","v":0},{"$f":"IF(V30=0,0,(V30*((LOG(V30))/LOG(2))))","v":0},null,{"$f":"N30","v":21222},{"$f":"COUNTIF(L33:L57,Y30)","v":0},{"$f":"Z30/(AB4-Z25)","v":0},{"$f":"IF(AA30=0,0,(AA30*((LOG(AA30))/LOG(2))))","v":0},null,{"$f":"N30","v":21222},{"$f":"COUNTIF(L58:L83,AD30)","v":2},{"$f":"AE30/(AG4-AE25)","v":8.6956521739130432E-2},{"$f":"IF(AF30=0,0,(AF30*((LOG(AF30))/LOG(2))))","v":-0.30639669183104457},null,{"$f":"N30","v":21222},{"$f":"COUNTIF(L84:L109,AI30)","v":0},{"$f":"AJ30/(AL4-AJ25)","v":0},{"$f":"IF(AK30=0,0,(AK30*((LOG(AK30))/LOG(2))))","v":0},null,{"$f":"N30","v":21222},{"$f":"COUNTIF(L110:L134,AN30)","v":0},{"$f":"AO30/(AQ4-AO25)","v":0},{"$f":"IF(AP30=0,0,(AP30*((LOG(AP30))/LOG(2))))","v":0},null,{"$f":"N30","v":21222},{"$f":"COUNTIF(L135:L160,AS30)","v":1},{"$f":"AT30/(AV4-AT25)","v":0.04},{"$f":"IF(AU30=0,0,(AU30*((LOG(AU30))/LOG(2))))","v":-0.18575424759098899}]
[21,3685,11,3694,11,3702,21,3714,22,3728,0,21122,null,22111,{"$f":"COUNTIF($L$7:$L$500,N31)","v":0},{"$f":"O31/$Q$4","v":0},{"$f":"IF(P31=0,0,(P31*((LOG(P31))/LOG(2))))","v":0},null,null,{"$f":"N31","v":22111},{"$f":"COUNTIF(L7:L32,T31)","v":0},{"$f":"U31/(W4-U25)","v":0},{"$f":"IF(V31=0,0,(V31*((LOG(V31))/LOG(2))))","v":0},null,{"$f":"N31","v":22111},{"$f":"COUNTIF(L33:L57,Y31)","v":0},{"$f":"Z31/(AB4-Z25)","v":0},{"$f":"IF(AA31=0,0,(AA31*((LOG(AA31))/LOG(2))))","v":0},null,{"$f":"N31","v":22111},{"$f":"COUNTIF(L58:L83,AD31)","v":0},{"$f":"AE31/(AG4-AE25)","v":0},{"$f":"IF(AF31=0,0,(AF31*((LOG(AF31))/LOG(2))))","v":0},null,{"$f":"N31","v":22111},{"$f":"COUNTIF(L84:L109,AI31)","v":0},{"$f":"AJ31/(AL4-AJ25)","v":0},{"$f":"IF(AK31=0,0,(AK31*((LOG(AK31))/LOG(2))))","v":0},null,{"$f":"N31","v":22111},{"$f":"COUNTIF(L110:L134,AN31)","v":0},{"$f":"AO31/(AQ4-AO25)","v":0},{"$f":"IF(AP31=0,0,(AP31*((LOG(AP31))/LOG(2))))","v":0},null,{"$f":"N31","v":22111},{"$f":"COUNTIF(L135:L160,AS31)","v":0},{"$f":"AT31/(AV4-AT25)","v":0},{"$f":"IF(AU31=0,0,(AU31*((LOG(AU31))/LOG(2))))","v":0}]
[12,3835,24,3846,24,3858,14,3870,24,3882,0,12212,null,22112,{"$f":"COUNTIF($L$7:$L$500,N32)","v":0},{"$f":"O32/$Q$4","v":0},{"$f":"IF(P32=0,0,(P32*((LOG(P32))/LOG(2))))","v":0},null,null,{"$f":"N32","v":22112},{"$f":"COUNTIF(L7:L32,T32)","v":0},{"$f":"U32/(W4-U25)","v":0},{"$f":"IF(V32=0,0,(V32*((LOG(V32))/LOG(2))))","v":0},null,{"$f":"N32","v":22112},{"$f":"COUNTIF(L33:L57,Y32)","v":0},{"$f":"Z32/(AB4-Z25)","v":0},{"$f":"IF(AA32=0,0,(AA32*((LOG(AA32))/LOG(2))))","v":0},null,{"$f":"N32","v":22112},{"$f":"COUNTIF(L58:L83,AD32)","v":0},{"$f":"AE32/(AG4-AE25)","v":0},{"$f":"IF(AF32=0,0,(AF32*((LOG(AF32))/LOG(2))))","v":0},null,{"$f":"N32","v":22112},{"$f":"COUNTIF(L84:L109,AI32)","v":0},{"$f":"AJ32/(AL4-AJ25)","v":0},{"$f":"IF(AK32=0,0,(AK32*((LOG(AK32))/LOG(2))))","v":0},null,{"$f":"N32","v":22112},{"$f":"COUNTIF(L110:L134,AN32)","v":0},{"$f":"AO32/(AQ4-AO25)","v":0},{"$f":"IF(AP32=0,0,(AP32*((LOG(AP32))/LOG(2))))","v":0},null,{"$f":"N32","v":22112},{"$f":"COUNTIF(L135:L160,AS32)","v":0},{"$f":"AT32/(AV4-AT25)","v":0},{"$f":"IF(AU32=0,0,(AU32*((LOG(AU32))/LOG(2))))","v":0}]
[21,3984,11,3994,11,4001,21,4013,11,4024,1,21121,null,22121,{"$f":"COUNTIF($L$7:$L$500,N33)","v":15},{"$f":"O33/$Q$4","v":9.7402597402597407E-2},{"$f":"IF(P33=0,0,(P33*((LOG(P33))/LOG(2))))","v":-0.32726259205386843},null,null,{"$f":"N33","v":22121},{"$f":"COUNTIF(L7:L32,T33)","v":0},{"$f":"U33/(W4-U25)","v":0},{"$f":"IF(V33=0,0,(V33*((LOG(V33))/LOG(2))))","v":0},null,{"$f":"N33","v":22121},{"$f":"COUNTIF(L33:L57,Y33)","v":2},{"$f":"Z33/(AB4-Z25)","v":8.3333333333333329E-2},{"$f":"IF(AA33=0,0,(AA33*((LOG(AA33))/LOG(2))))","v":-0.29874687506009634},null,{"$f":"N33","v":22121},{"$f":"COUNTIF(L58:L83,AD33)","v":4},{"$f":"AE33/(AG4-AE25)","v":0.17391304347826086},{"$f":"IF(AF33=0,0,(AF33*((LOG(AF33))/LOG(2))))","v":-0.43888034018382832},null,{"$f":"N33","v":22121},{"$f":"COUNTIF(L84:L109,AI33)","v":3},{"$f":"AJ33/(AL4-AJ25)","v":0.13043478260869565},{"$f":"IF(AK33=0,0,(AK33*((LOG(AK33))/LOG(2))))","v":-0.3832955811307639},null,{"$f":"N33","v":22121},{"$f":"COUNTIF(L110:L134,AN33)","v":4},{"$f":"AO33/(AQ4-AO25)","v":0.17391304347826086},{"$f":"IF(AP33=0,0,(AP33*((LOG(AP33))/LOG(2))))","v":-0.43888034018382832},null,{"$f":"N33","v":22121},{"$f":"COUNTIF(L135:L160,AS33)","v":2},{"$f":"AT33/(AV4-AT25)","v":0.08},{"$f":"IF(AU33=0,0,(AU33*((LOG(AU33))/LOG(2))))","v":-0.29150849518197797}]
[12,4123,24,4133,13,4147,23,4157,13,4170,0,12121,null,22122,{"$f":"COUNTIF($L$7:$L$500,N34)","v":3},{"$f":"O34/$Q$4","v":1.948051948051948E-2},{"$f":"IF(P34=0,0,(P34*((LOG(P34))/LOG(2))))","v":-0.11068488389559245},null,null,{"$f":"N34","v":22122},{"$f":"COUNTIF(L7:L32,T34)","v":0},{"$f":"U34/(W4-U25)","v":0},{"$f":"IF(V34=0,0,(V34*((LOG(V34))/LOG(2))))","v":0},null,{"$f":"N34","v":22122},{"$f":"COUNTIF(L33:L57,Y34)","v":0},{"$f":"Z34/(AB4-Z25)","v":0},{"$f":"IF(AA34=0,0,(AA34*((LOG(AA34))/LOG(2))))","v":0},null,{"$f":"N34","v":22122},{"$f":"COUNTIF(L58:L83,AD34)","v":0},{"$f":"AE34/(AG4-AE25)","v":0},{"$f":"IF(AF34=0,0,(AF34*((LOG(AF34))/LOG(2))))","v":0},null,{"$f":"N34","v":22122},{"$f":"COUNTIF(L84:L109,AI34)","v":0},{"$f":"AJ34/(AL4-AJ25)","v":0},{"$f":"IF(AK34=0,0,(AK34*((LOG(AK34))/LOG(2))))","v":0},null,{"$f":"N34","v":22122},{"$f":"COUNTIF(L110:L134,AN34)","v":3},{"$f":"AO34/(AQ4-AO25)","v":0.13043478260869565},{"$f":"IF(AP34=0,0,(AP34*((LOG(AP34))/LOG(2))))","v":-0.3832955811307639},null,{"$f":"N34","v":22122},{"$f":"COUNTIF(L135:L160,AS34)","v":0},{"$f":"AT34/(AV4-AT25)","v":0},{"$f":"IF(AU34=0,0,(AU34*((LOG(AU34))/LOG(2))))","v":0}]
[12,4279,13,4291,24,4304,14,4317,24,4327,0,11212,null,22211,{"$f":"COUNTIF($L$7:$L$500,N35)","v":0},{"$f":"O35/$Q$4","v":0},{"$f":"IF(P35=0,0,(P35*((LOG(P35))/LOG(2))))","v":0},null,null,{"$f":"N35","v":22211},{"$f":"COUNTIF(L7:L32,T35)","v":0},{"$f":"U35/(W4-U25)","v":0},{"$f":"IF(V35=0,0,(V35*((LOG(V35))/LOG(2))))","v":0},null,{"$f":"N35","v":22211},{"$f":"COUNTIF(L33:L57,Y35)","v":0},{"$f":"Z35/(AB4-Z25)","v":0},{"$f":"IF(AA35=0,0,(AA35*((LOG(AA35))/LOG(2))))","v":0},null,{"$f":"N35","v":22211},{"$f":"COUNTIF(L58:L83,AD35)","v":0},{"$f":"AE35/(AG4-AE25)","v":0},{"$f":"IF(AF35=0,0,(AF35*((LOG(AF35))/LOG(2))))","v":0},null,{"$f":"N35","v":22211},{"$f":"COUNTIF(L84:L109,AI35)","v":0},{"$f":"AJ35/(AL4-AJ25)","v":0},{"$f":"IF(AK35=0,0,(AK35*((LOG(AK35))/LOG(2))))","v":0},null,{"$f":"N35","v":22211},{"$f":"COUNTIF(L110:L134,AN35)","v":0},{"$f":"AO35/(AQ4-AO25)","v":0},{"$f":"IF(AP35=0,0,(AP35*((LOG(AP35))/LOG(2))))","v":0},null,{"$f":"N35","v":22211},{"$f":"COUNTIF(L135:L160,AS35)","v":0},{"$f":"AT35/(AV4-AT25)","v":0},{"$f":"IF(AU35=0,0,(AU35*((LOG(AU35))/LOG(2))))","v":0}]
[21,4445,11,4455,22,4467,14,4479,24,4491,0,21212,null,22212,{"$f":"COUNTIF($L$7:$L$500,N36)","v":3},{"$f":"O36/$Q$4","v":1.948051948051948E-2},{"$f":"IF(P36=0,0,(P36*((LOG(P36))/LOG(2))))","v":-0.11068488389559245},null,null,{"$f":"N36","v":22212},{"$f":"COUNTIF(L7:L32,T36)","v":0},{"$f":"U36/(W4-U25)","v":0},{"$f":"IF(V36=0,0,(V36*((LOG(V36))/LOG(2))))","v":0},null,{"$f":"N36","v":22212},{"$f":"COUNTIF(L33:L57,Y36)","v":0},{"$f":"Z36/(AB4-Z25)","v":0},{"$f":"IF(AA36=0,0,(AA36*((LOG(AA36))/LOG(2))))","v":0},null,{"$f":"N36","v":22212},{"$f":"COUNTIF(L58:L83,AD36)","v":0},{"$f":"AE36/(AG4-AE25)","v":0},{"$f":"IF(AF36=0,0,(AF36*((LOG(AF36))/LOG(2))))","v":0},null,{"$f":"N36","v":22212},{"$f":"COUNTIF(L84:L109,AI36)","v":1},{"$f":"AJ36/(AL4-AJ25)","v":4.3478260869565216E-2},{"$f":"IF(AK36=0,0,(AK36*((LOG(AK36))/LOG(2))))","v":-0.19667660678508753},null,{"$f":"N36","v":22212},{"$f":"COUNTIF(L110:L134,AN36)","v":1},{"$f":"AO36/(AQ4-AO25)","v":4.3478260869565216E-2},{"$f":"IF(AP36=0,0,(AP36*((LOG(AP36))/LOG(2))))","v":-0.19667660678508753},null,{"$f":"N36","v":22212},{"$f":"COUNTIF(L135:L160,AS36)","v":1},{"$f":"AT36/(AV4-AT25)","v":0.04},{"$f":"IF(AU36=0,0,(AU36*((LOG(AU36))/LOG(2))))","v":-0.18575424759098899}]
[21,4593,11,4601,11,4609,21,4620,22,4631,0,21122,null,22221,{"$f":"COUNTIF($L$7:$L$500,N37)","v":1},{"$f":"O37/$Q$4","v":6.4935064935064939E-3},{"$f":"IF(P37=0,0,(P37*((LOG(P37))/LOG(2))))","v":-4.7186925588927932E-2},null,null,{"$f":"N37","v":22221},{"$f":"COUNTIF(L7:L32,T37)","v":0},{"$f":"U37/(W4-U25)","v":0},{"$f":"IF(V37=0,0,(V37*((LOG(V37))/LOG(2))))","v":0},null,{"$f":"N37","v":22221},{"$f":"COUNTIF(L33:L57,Y37)","v":0},{"$f":"Z37/(AB4-Z25)","v":0},{"$f":"IF(AA37=0,0,(AA37*((LOG(AA37))/LOG(2))))","v":0},null,{"$f":"N37","v":22221},{"$f":"COUNTIF(L58:L83,AD37)","v":0},{"$f":"AE37/(AG4-AE25)","v":0},{"$f":"IF(AF37=0,0,(AF37*((LOG(AF37))/LOG(2))))","v":0},null,{"$f":"N37","v":22221},{"$f":"COUNTIF(L84:L109,AI37)","v":1},{"$f":"AJ37/(AL4-AJ25)","v":4.3478260869565216E-2},{"$f":"IF(AK37=0,0,(AK37*((LOG(AK37))/LOG(2))))","v":-0.19667660678508753},null,{"$f":"N37","v":22221},{"$f":"COUNTIF(L110:L134,AN37)","v":0},{"$f":"AO37/(AQ4-AO25)","v":0},{"$f":"IF(AP37=0,0,(AP37*((LOG(AP37))/LOG(2))))","v":0},null,{"$f":"N37","v":22221},{"$f":"COUNTIF(L135:L160,AS37)","v":0},{"$f":"AT37/(AV4-AT25)","v":0},{"$f":"IF(AU37=0,0,(AU37*((LOG(AU37))/LOG(2))))","v":0}]
[21,4746,22,4761,13,4782,23,4794,13,4809,0,22121,null,22222,{"$f":"COUNTIF($L$7:$L$500,N38)","v":2},{"$f":"O38/$Q$4","v":1.2987012987012988E-2},{"$f":"IF(P38=0,0,(P38*((LOG(P38))/LOG(2))))","v":-8.1386838190842872E-2},null,null,{"$f":"N38","v":22222},{"$f":"COUNTIF(L7:L32,T38)","v":0},{"$f":"U38/(W4-U25)","v":0},{"$f":"IF(V38=0,0,(V38*((LOG(V38))/LOG(2))))","v":0},null,{"$f":"N38","v":22222},{"$f":"COUNTIF(L33:L57,Y38)","v":0},{"$f":"Z38/(AB4-Z25)","v":0},{"$f":"IF(AA38=0,0,(AA38*((LOG(AA38))/LOG(2))))","v":0},null,{"$f":"N38","v":22222},{"$f":"COUNTIF(L58:L83,AD38)","v":1},{"$f":"AE38/(AG4-AE25)","v":4.3478260869565216E-2},{"$f":"IF(AF38=0,0,(AF38*((LOG(AF38))/LOG(2))))","v":-0.19667660678508753},null,{"$f":"N38","v":22222},{"$f":"COUNTIF(L84:L109,AI38)","v":1},{"$f":"AJ38/(AL4-AJ25)","v":4.3478260869565216E-2},{"$f":"IF(AK38=0,0,(AK38*((LOG(AK38))/LOG(2))))","v":-0.19667660678508753},null,{"$f":"N38","v":22222},{"$f":"COUNTIF(L110:L134,AN38)","v":0},{"$f":"AO38/(AQ4-AO25)","v":0},{"$f":"IF(AP38=0,0,(AP38*((LOG(AP38))/LOG(2))))","v":0},null,{"$f":"N38","v":22222},{"$f":"COUNTIF(L135:L160,AS38)","v":0},{"$f":"AT38/(AV4-AT25)","v":0},{"$f":"IF(AU38=0,0,(AU38*((LOG(AU38))/LOG(2))))","v":0}]
[21,4909,11,4916,22,4928,14,4942,24,4953,0,21212,null,null,null,{"$f":"SUM(P7:P38)","v":0.99999999999999978},{"$f":"-SUM(Q7:Q38)","v":3.2292828111047545},null,null,null,null,{"$f":"SUM(V7:V38)","v":1},{"$f":"-SUM(W7:W38)","v":2.7285961945290009},null,null,null,{"$f":"SUM(AA7:AA38)","v":0.99999999999999989},{"$f":"-SUM(AB7:AB38)","v":2.6216535224393334},null,null,null,{"$f":"SUM(AF7:AF38)","v":0.99999999999999989},{"$f":"-SUM(AG7:AG38)","v":2.557506262627725},null,null,null,{"$f":"SUM(AK7:AK38)","v":0.99999999999999989},{"$f":"-SUM(AL7:AL38)","v":2.9025092380072617},null,null,null,{"$f":"SUM(AP7:AP38)","v":1},{"$f":"-SUM(AQ7:AQ38)","v":2.3151277160800032},null,null,null,{"$f":"SUM(AU7:AU38)","v":1},{"$f":"-SUM(AV7:AV38)","v":1.704381457724494}]
[12,5068,24,5078,13,5086,23,5102,13,5117,0,12121,null,null,null,"U=",{"$f":"Q39/(LOG(Q4)/LOG(2))","v":0.44438938628792418},null,null,null,null,"U1=",{"$f":"W39/(LOG(W4)/LOG(2))","v":0.58049807212676974},null,null,null,"U2=",{"$f":"AB39/(LOG(AB4)/LOG(2))","v":0.56454235775257944},null,null,null,"U3=",{"$f":"AG39/(LOG(AG4)/LOG(2))","v":0.54409936431205963},null,null,null,"U4=",{"$f":"AL39/(LOG(AL4)/LOG(2))","v":0.61749738578822422},null,null,null,"U5=",{"$f":"AQ39/(LOG(AQ4)/LOG(2))","v":0.49853561813082559},null,null,null,"U6=",{"$f":"AV39/(LOG(AV4)/LOG(2))","v":0.36260042888041438}]
[21,5216,11,5224,22,5234,14,5247,24,5260,0,21212]
[12,5372,24,5386,13,5396,23,5405,13,5419,0,12121]
[12,5534,24,5544,13,5556,23,5577,13,5587,0,12121,null,"Total Target Seq"]
[12,5695,24,5709,13,5720,14,5752,24,5767,0,12112,null,{"$f":"COUNTIF(L7:L160,G3)","v":13},null,26,25,26,26,25,26]
[21,5868,11,5875,22,5885,14,5900,24,5914,0,21212,null,null,null,"% of reinforcement given in 6 equal intervals based on number of trials "]
[12,6016,13,6026,24,6038,14,6052,24,6064,0,11212,null,null,null,"%_1","%_2","%_3","%_4","%_5","%_6"]
[21,6178,11,6187,22,6195,14,6207,13,6225,0,21211,null,null,"target sequence",{"$f":"$G$3","v":21121},{"$f":"$G$3","v":21121},{"$f":"$G$3","v":21121},{"$f":"$G$3","v":21121},{"$f":"$G$3","v":21121},{"$f":"$G$3","v":21121}]
[21,6324,11,6332,22,6342,14,6355,13,6386,0,21211,null,null,"total reinforcement",{"$f":"U25","v":3},{"$f":"Z25","v":1},{"$f":"AE25","v":3},{"$f":"AJ25","v":3},{"$f":"AO25","v":2},{"$f":"AT25","v":1}]
[12,6501,13,6510,13,6521,23,6529,13,6545,0,11121,null,null,"% target"]
[12,6656,24,6665,13,6673,23,6684,13,6698,0,12121,null,null,"CCRF"]
[21,6806,11,6814,22,6826,14,6835,24,6848,0,21212,null,null,"% CCRf"]
[12,6955,13,6962,24,6977,14,6990,24,7003,0,11212,null,null,"average response rate",{"$f":"J32/P44","v":149.30769230769232},{"$f":"(J57-J32)/Q44","v":155.96},{"$f":"(J83-J57)/R44","v":162.38461538461539},{"$f":"(J109-J83)/S44","v":159.15384615384616},{"$f":"(J134-J109)/T44","v":154.96},{"$f":"(J160-J134)/U44","v":150.96153846153845}]
[21,7102,11,7110,22,7126,14,7137,13,7160,0,21211]
[21,7289,11,7297,22,7308,14,7318,24,7330,0,21212]
[21,7440,11,7448,22,7464,14,7473,24,7485,0,21212]
[21,7595,11,7605,22,7619,14,7627,24,7641,0,21212]
[21,7741,22,7749,13,7757,23,7767,13,7781,0,22121]
[21,7880,22,7900,13,7909,23,7923,13,7936,0,22121]
[21,8034,11,8042,22,8052,23,8070,24,8084,0,21222]
[21,8184,11,8191,22,8208,23,8220,13,8229,0,21221]
[21,8334,11,8342,22,8354,14,8366,24,8378,0,21212]
[12,8485,13,8495,24,8512,14,8526,24,8538,0,11212]
[21,8663,11,8672,22,8685,14,8703,24,8718,0,21212]
[12,8827,24,8837,13,8851,14,8877,24,8896,0,12112]
[21,9004,11,9012,11,9034,21,9045,11,9056,1,21121]
[21,9193,22,9208,24,9236,23,9247,24,9269,0,22222]
[21,9374,11,9381,11,9389,21,9398,11,9415,1,21121]
[21,9528,22,9561,13,9578,23,9589,13,9600,0,22121]
[21,9702,11,9716,22,9725,14,9747,24,9757,0,21212]
[21,9862,11,9869,22,9880,23,9891,24,9902,0,21222]
[21,10007,22,10019,13,10033,23,10056,13,10071,0,22121]
[21,10179,11,10187,22,10198,23,10209,13,10224,0,21221]
[21,10329,11,10338,22,10350,14,10362,24,10383,0,21212]
[12,10499,24,10513,13,10523,23,10533,24,10558,0,12122]
[21,10656,11,10666,22,10679,14,10692,24,10704,0,21212]
[21,10851,11,10864,22,10879,14,10889,13,10901,0,21211]
[21,11005,11,11015,22,11026,14,11041,24,11056,0,21212]
[21,11163,11,11171,22,11182,14,11190,24,11203,0,21212]
[21,11305,11,11313,22,11323,14,11332,24,11344,0,21212]
[21,11473,22,11489,13,11500,23,11515,13,11529,0,22121]
[21,11635,11,11643,22,11656,14,11670,24,11706,0,21212]
[21,11804,11,11811,22,11824,14,11832,24,11843,0,21212]
[21,11946,11,11954,11,11980,21,11992,11,12003,1,21121]
[21,12116,11,12129,11,12155,21,12175,22,12183,0,21122]
[21,12281,11,12288,22,12300,14,12308,24,12318,0,21212]
[21,12426,11,12435,22,12446,14,12461,24,12480,0,21212]
[21,12584,11,12601,11,12619,21,12634,11,12651,1,21121]
[21,12750,11,12759,11,12770,21,12779,11,12791,1,21121]
[21,12912,22,12924,24,12948,23,12968,13,12981,0,22221]
[21,13098,11,13107,22,13117,14,13131,24,13144,0,21212]
[21,13244,11,13252,11,13260,21,13269,22,13279,0,21122]
[21,13378,22,13382,13,13389,23,13399,13,13408,0,22121]
[12,13511,24,13520,13,13527,23,13538,24,13563,0,12122]
[12,13672,13,13679,24,13692,14,13706,24,13717,0,11212]
[21,13826,11,13834,11,13843,12,13870,24,13882,0,21112]
[21,13988,22,14011,13,14024,23,14037,13,14050,0,22121]
[21,14156,11,14165,22,14179,14,14191,24,14203,0,21212]
[12,14318,13,14326,24,14337,23,14364,13,14378,0,11221]
[21,14478,11,14488,22,14511,14,14520,24,14531,0,21212]
[21,14634,11,14646,22,14657,14,14668,24,14680,0,21212]
[21,14779,11,14787,11,14798,21,14808,11,14821,1,21121]
[21,14918,22,14931,24,14946,23,14967,24,14989,0,22222]
[21,15090,22,15098,13,15106,23,15119,13,15143,0,22121]
[21,15251,11,15259,22,15270,14,15284,24,15296,0,21212]
[21,15397,11,15404,22,15414,14,15422,24,15468,0,21212]
[21,15567,11,15575,22,15583,23,15614,13,15632,0,21221]
[21,15739,11,15746,22,15756,14,15770,24,15787,0,21212]
[21,15897,22,15913,24,15928,14,15936,24,15953,0,22212]
[12,16055,13,16063,24,16081,23,16126,13,16141,0,11221]
[21,16240,22,16254,24,16270,14,16278,24,16290,0,22212]
[21,16412,11,16422,22,16433,14,16444,13,16476,0,21211]
[21,16607,11,16619,22,16630,14,16643,24,16655,0,21212]
[21,16764,11,16772,22,16782,14,16795,13,16821,0,21211]
[21,16920,22,16936,13,16944,23,16956,13,16977,0,22121]
[21,17094,22,17109,13,17117,23,17133,13,17147,0,22121]
[21,17250,11,17265,22,17276,14,17290,13,17298,0,21211]
[21,17397,11,17405,22,17416,14,17424,24,17437,0,21212]
[21,17539,11,17546,22,17560,14,17575,24,17590,0,21212]
[21,17690,22,17695,13,17702,23,17716,24,17724,0,22122]
[21,17824,11,17832,22,17844,23,17856,13,17871,0,21221]
[21,17970,22,17973,13,17985,23,17996,13,18011,0,22121]
[21,18115,11,18122,22,18132,14,18142,24,18159,0,21212]
[21,18266,11,18275,22,18286,23,18301,13,18316,0,21221]
[21,18423,11,18431,22,18441,14,18451,24,18464,0,21212]
[21,18563,11,18571,22,18581,14,18596,24,18609,0,21212]
[21,18710,11,18717,11,18735,21,18753,11,18766,1,21121]
[21,18890,11,18901,22,18918,14,18931,24,18943,0,21212]
[21,19042,11,19050,22,19058,14,19066,24,19077,0,21212]
[21,19176,22,19183,13,19195,23,19207,13,19220,0,22121]
[21,19320,11,19340,22,19352,23,19377,13,19390,0,21221]
[21,19497,22,19512,13,19524,23,19535,24,19547,0,22122]
[21,19660,11,19668,22,19680,14,19693,24,19706,0,21212]
[21,19812,11,19820,11,19850,21,19863,11,19886,1,21121]
[21,19981,22,19990,13,19998,23,20008,24,20015,0,22122]
[21,20134,11,20142,22,20150,14,20162,24,20173,0,21212]
[21,20277,11,20285,22,20296,14,20308,13,20333,0,21211]
[21,20441,22,20460,24,20474,14,20485,24,20497,0,22212]
[21,20594,11,20602,22,20612,14,20620,24,20631,0,21212]
[12,20743,13,20751,24,20762,23,20772,13,20783,0,11221]
[21,20883,11,20890,22,20902,14,20911,24,20924,0,21212]
[21,21030,11,21038,22,21054,14,21068,24,21080,0,21212]
[21,21181,11,21188,22,21199,14,21214,24,21225,0,21212]
[21,21328,11,21338,22,21348,14,21357,24,21369,0,21212]
[12,21505,24,21517,24,21533,14,21547,24,21567,0,12212]
[21,21668,22,21676,13,21684,23,21693,13,21702,0,22121]
[21,21807,11,21815,22,21826,14,21840,24,21853,0,21212]
[21,21956,11,21964,22,21974,14,21983,24,21995,0,21212]
[21,22102,11,22113,22,22125,14,22135,24,22147,0,21212]
[21,22249,11,22257,22,22269,14,22282,24,22294,0,21212]
[21,22399,11,22407,22,22420,23,22430,24,22454,0,21222]
[21,22554,11,22562,22,22572,14,22581,24,22594,0,21212]
[21,22697,11,22706,22,22717,14,22730,24,22739,0,21212]
[21,22839,11,22847,22,22858,14,22872,24,22887,0,21212]
[21,22985,11,22992,22,23006,14,23018,24,23030,0,21212]
[21,23145,11,23153,22,23162,14,23174,24,23186,0,21212]
[21,23286,22,23290,13,23298,23,23309,13,23322,0,22121]
[21,23429,11,23437,22,23448,14,23460,24,23470,0,21212]
[21,23589,11,23597,22,23608,14,23648,13,23655,0,21211]
[21,23756,11,23767,22,23777,14,23787,24,23800,0,21212]
[21,23905,11,23913,11,23920,21,23928,11,23940,1,21121]

{"sheet":"!MA20940.010","index":23,"n_rows":151,"n_cols":48,"rows_kept":151,"cut":false,"hidden":false,"merged":[[4,39,4,42],[5,39,5,40],[4,44,4,47],[5,44,5,45],[4,24,4,27],[5,24,5,25],[4,29,4,32],[5,29,5,30],[4,34,4,37],[5,34,5,35],[1,1,1,2],[5,13,5,14],[42,13,42,14],[43,13,43,14],[4,19,4,22],[5,19,5,20]]}
["Report for:!MA20940.010"]
["Date:","<date>"]
["Hen:","<hen>",null,null,null,"Correct Sequence",{"$f":"Start!J2","v":21121},null,null,null,null,null,null,null,null,"Total Sequences in Data",{"$f":"4994-COUNTBLANK(L7:L5000)","v":145},null,null,null,null,"Total Sequences in Block Data",{"$f":"COUNTA(L7:L30)","v":24},null,null,null,"Total Sequences in Block Data",{"$f":"COUNTA(L31:L54)","v":24},null,null,null,"Total Sequences in Block Data",{"$f":"COUNTA(L55:L79)","v":25},null,null,null,"Total Sequences in Block Data",{"$f":"COUNTA(L80:L103)","v":24},null,null,null,"Total Sequences in Block Data",{"$f":"COUNTA(L104:L127)","v":24},null,null,null,"Total Sequences in Block Data",{"$f":"COUNTA(L128:L151)","v":24}]
[null,null,null,null,null,null,null,null,null,null,null,null,null,null,null,"Total Sequences in Summary",{"$f":"SUM(O7:O38)","v":145},null,null,null,null,"Total Sequences in Block Summary",{"$f":"SUM(U7:U38)","v":24},null,null,null,"Total Sequences in Block Summary",{"$f":"SUM(Z7:Z38)","v":24},null,null,null,"Total Sequences in Block Summary",{"$f":"SUM(AE7:AE38)","v":25},null,null,null,"Total Sequences in Block Summary",{"$f":"SUM(AJ7:AJ38)","v":24},null,null,null,"Total Sequences in Block Summary",{"$f":"SUM(AO7:AO38)","v":24},null,null,null,"Total Sequences in Block Summary",{"$f":"SUM(AT7:AT38)","v":24}]
[null,null,null,null,null,null,null,null,null,null,null,null,null,null,null,null,null,null,null,"Block 1",null,null,null,null,"Block 2",null,null,null,null,"Block 3",null,null,null,null,"Block 4",null,null,null,null,"Block 5",null,null,null,null,"Block 6"]
["Sequence\nComponent\n1","Time\n1","Sequence\nComponent\n2","Time\n2","Sequence\nComponent\n3","Time\n3","Sequence\nComponent\n4","Time\n4","Sequence\nComponent\n5","Time\n5","Correct?\n0=No 1=Yes","Sequence",null,"Frequency",null,"Relative Frequency","Variability",null,null,"Frequency",null,"Relative Frequency","Variability",null,"Frequency",null,"Relative Frequency","Variability",null,"Frequency",null,"Relative Frequency","Variability",null,"Frequency",null,"Relative Frequency","Variability",null,"Frequency",null,"Relative Frequency","Variability",null,"Frequency",null,"Relative Frequency","Variability"]
[12,11,24,26,13,35,23,46,13,58,0,12121,null,11111,{"$f":"COUNTIF($L$7:$L$500,N7)","v":6},{"$f":"O7/$Q$4","v":4.1379310344827586E-2},{"$f":"IF(P7=0,0,(P7*((LOG(P7))/LOG(2))))","v":-0.19013572093629427},null,null,{"$f":"N7","v":11111},{"$f":"COUNTIF(L7:L30,T7)","v":0},{"$f":"U7/(W4-U25)","v":0},{"$f":"IF(V7=0,0,(V7*((LOG(V7))/LOG(2))))","v":0},null,{"$f":"N7","v":11111},{"$f":"COUNTIF(L31:L54,Y7)","v":0},{"$f":"Z7/(AB4-Z25)","v":0},{"$f":"IF(AA7=0,0,(AA7*((LOG(AA7))/LOG(2))))","v":0},null,{"$f":"N7","v":11111},{"$f":"COUNTIF(L55:L79,AD7)","v":0},{"$f":"AE7/(AG4-AE25)","v":0},{"$f":"IF(AF7=0,0,(AF7*((LOG(AF7))/LOG(2))))","v":0},null,{"$f":"N7","v":11111},{"$f":"COUNTIF(L80:L103,AI7)","v":0},{"$f":"AJ7/(AL4-AJ25)","v":0},{"$f":"IF(AK7=0,0,(AK7*((LOG(AK7))/LOG(2))))","v":0},null,{"$f":"N7","v":11111},{"$f":"COUNTIF(L104:L127,AN7)","v":5},{"$f":"AO7/(AQ4-AO25)","v":0.22727272727272727},{"$f":"IF(AP7=0,0,(AP7*((LOG(AP7))/LOG(2))))","v":-0.48579625539771243},null,{"$f":"N7","v":11111},{"$f":"COUNTIF(L128:L151,AS7)","v":1},{"$f":"AT7/(AV4-AT25)","v":5.2631578947368418E-2},{"$f":"IF(AU7=0,0,(AU7*((LOG(AU7))/LOG(2))))","v":-0.22357513228650452}]
[12,161,13,177,24,188,14,197,24,209,0,11212,null,11112,{"$f":"COUNTIF($L$7:$L$500,N8)","v":1},{"$f":"O8/$Q$4","v":6.8965517241379309E-3},{"$f":"IF(P8=0,0,(P8*((LOG(P8))/LOG(2))))","v":-4.9516614413896098E-2},null,null,{"$f":"N8","v":11112},{"$f":"COUNTIF(L7:L30,T8)","v":0},{"$f":"U8/(W4-U25)","v":0},{"$f":"IF(V8=0,0,(V8*((LOG(V8))/LOG(2))))","v":0},null,{"$f":"N8","v":11112},{"$f":"COUNTIF(L31:L54,Y8)","v":0},{"$f":"Z8/(AB4-Z25)","v":0},{"$f":"IF(AA8=0,0,(AA8*((LOG(AA8))/LOG(2))))","v":0},null,{"$f":"N8","v":11112},{"$f":"COUNTIF(L55:L79,AD8)","v":0},{"$f":"AE8/(AG4-AE25)","v":0},{"$f":"IF(AF8=0,0,(AF8*((LOG(AF8))/LOG(2))))","v":0},null,{"$f":"N8","v":11112},{"$f":"COUNTIF(L80:L103,AI8)","v":0},{"$f":"AJ8/(AL4-AJ25)","v":0},{"$f":"IF(AK8=0,0,(AK8*((LOG(AK8))/LOG(2))))","v":0},null,{"$f":"N8","v":11112},{"$f":"COUNTIF(L104:L127,AN8)","v":1},{"$f":"AO8/(AQ4-AO25)","v":4.5454545454545456E-2},{"$f":"IF(AP8=0,0,(AP8*((LOG(AP8))/LOG(2))))","v":-0.20270143721078623},null,{"$f":"N8","v":11112},{"$f":"COUNTIF(L128:L151,AS8)","v":0},{"$f":"AT8/(AV4-AT25)","v":0},{"$f":"IF(AU8=0,0,(AU8*((LOG(AU8))/LOG(2))))","v":0}]
[21,328,11,345,22,357,14,368,24,380,0,21212,null,11121,{"$f":"COUNTIF($L$7:$L$500,N9)","v":7},{"$f":"O9/$Q$4","v":4.8275862068965517E-2},{"$f":"IF(P9=0,0,(P9*((LOG(P9))/LOG(2))))","v":-0.21108882190138839},null,null,{"$f":"N9","v":11121},{"$f":"COUNTIF(L7:L30,T9)","v":0},{"$f":"U9/(W4-U25)","v":0},{"$f":"IF(V9=0,0,(V9*((LOG(V9))/LOG(2))))","v":0},null,{"$f":"N9","v":11121},{"$f":"COUNTIF(L31:L54,Y9)","v":1},{"$f":"Z9/(AB4-Z25)","v":0.05},{"$f":"IF(AA9=0,0,(AA9*((LOG(AA9))/LOG(2))))","v":-0.21609640474436814},null,{"$f":"N9","v":11121},{"$f":"COUNTIF(L55:L79,AD9)","v":0},{"$f":"AE9/(AG4-AE25)","v":0},{"$f":"IF(AF9=0,0,(AF9*((LOG(AF9))/LOG(2))))","v":0},null,{"$f":"N9","v":11121},{"$f":"COUNTIF(L80:L103,AI9)","v":0},{"$f":"AJ9/(AL4-AJ25)","v":0},{"$f":"IF(AK9=0,0,(AK9*((LOG(AK9))/LOG(2))))","v":0},null,{"$f":"N9","v":11121},{"$f":"COUNTIF(L104:L127,AN9)","v":2},{"$f":"AO9/(AQ4-AO25)","v":9.0909090909090912E-2},{"$f":"IF(AP9=0,0,(AP9*((LOG(AP9))/LOG(2))))","v":-0.31449378351248153},null,{"$f":"N9","v":11121},{"$f":"COUNTIF(L128:L151,AS9)","v":4},{"$f":"AT9/(AV4-AT25)","v":0.21052631578947367},{"$f":"IF(AU9=0,0,(AU9*((LOG(AU9))/LOG(2))))","v":-0.47324789756707064}]
[21,497,11,514,22,526,14,541,24,553,0,21212,null,11122,{"$f":"COUNTIF($L$7:$L$500,N10)","v":0},{"$f":"O10/$Q$4","v":0},{"$f":"IF(P10=0,0,(P10*((LOG(P10))/LOG(2))))","v":0},null,null,{"$f":"N10","v":11122},{"$f":"COUNTIF(L7:L30,T10)","v":0},{"$f":"U10/(W4-U25)","v":0},{"$f":"IF(V10=0,0,(V10*((LOG(V10))/LOG(2))))","v":0},null,{"$f":"N10","v":11122},{"$f":"COUNTIF(L31:L54,Y10)","v":0},{"$f":"Z10/(AB4-Z25)","v":0},{"$f":"IF(AA10=0,0,(AA10*((LOG(AA10))/LOG(2))))","v":0},null,{"$f":"N10","v":11122},{"$f":"COUNTIF(L55:L79,AD10)","v":0},{"$f":"AE10/(AG4-AE25)","v":0},{"$f":"IF(AF10=0,0,(AF10*((LOG(AF10))/LOG(2))))","v":0},null,{"$f":"N10","v":11122},{"$f":"COUNTIF(L80:L103,AI10)","v":0},{"$f":"AJ10/(AL4-AJ25)","v":0},{"$f":"IF(AK10=0,0,(AK10*((LOG(AK10))/LOG(2))))","v":0},null,{"$f":"N10","v":11122},{"$f":"COUNTIF(L104:L127,AN10)","v":0},{"$f":"AO10/(AQ4-AO25)","v":0},{"$f":"IF(AP10=0,0,(AP10*((LOG(AP10))/LOG(2))))","v":0},null,{"$f":"N10","v":11122},{"$f":"COUNTIF(L128:L151,AS10)","v":0},{"$f":"AT10/(AV4-AT25)","v":0},{"$f":"IF(AU10=0,0,(AU10*((LOG(AU10))/LOG(2))))","v":0}]
[12,662,24,672,13,680,23,693,13,704,0,12121,null,11211,{"$f":"COUNTIF($L$7:$L$500,N11)","v":3},{"$f":"O11/$Q$4","v":2.0689655172413793E-2},{"$f":"IF(P11=0,0,(P11*((LOG(P11))/LOG(2))))","v":-0.11575751564056093},null,null,{"$f":"N11","v":11211},{"$f":"COUNTIF(L7:L30,T11)","v":0},{"$f":"U11/(W4-U25)","v":0},{"$f":"IF(V11=0,0,(V11*((LOG(V11))/LOG(2))))","v":0},null,{"$f":"N11","v":11211},{"$f":"COUNTIF(L31:L54,Y11)","v":0},{"$f":"Z11/(AB4-Z25)","v":0},{"$f":"IF(AA11=0,0,(AA11*((LOG(AA11))/LOG(2))))","v":0},null,{"$f":"N11","v":11211},{"$f":"COUNTIF(L55:L79,AD11)","v":2},{"$f":"AE11/(AG4-AE25)","v":9.5238095238095233E-2},{"$f":"IF(AF11=0,0,(AF11*((LOG(AF11))/LOG(2))))","v":-0.32307784978845333},null,{"$f":"N11","v":11211},{"$f":"COUNTIF(L80:L103,AI11)","v":0},{"$f":"AJ11/(AL4-AJ25)","v":0},{"$f":"IF(AK11=0,0,(AK11*((LOG(AK11))/LOG(2))))","v":0},null,{"$f":"N11","v":11211},{"$f":"COUNTIF(L104:L127,AN11)","v":1},{"$f":"AO11/(AQ4-AO25)","v":4.5454545454545456E-2},{"$f":"IF(AP11=0,0,(AP11*((LOG(AP11))/LOG(2))))","v":-0.20270143721078623},null,{"$f":"N11","v":11211},{"$f":"COUNTIF(L128:L151,AS11)","v":0},{"$f":"AT11/(AV4-AT25)","v":0},{"$f":"IF(AU11=0,0,(AU11*((LOG(AU11))/LOG(2))))","v":0}]
[21,801,11,811,22,827,14,852,24,861,0,21212,null,11212,{"$f":"COUNTIF($L$7:$L$500,N12)","v":16},{"$f":"O12/$Q$4","v":0.1103448275862069},{"$f":"IF(P12=0,0,(P12*((LOG(P12))/LOG(2))))","v":-0.35088652027750999},null,null,{"$f":"N12","v":11212},{"$f":"COUNTIF(L7:L30,T12)","v":1},{"$f":"U12/(W4-U25)","v":4.7619047619047616E-2},{"$f":"IF(V12=0,0,(V12*((LOG(V12))/LOG(2))))","v":-0.20915797251327431},null,{"$f":"N12","v":11212},{"$f":"COUNTIF(L31:L54,Y12)","v":5},{"$f":"Z12/(AB4-Z25)","v":0.25},{"$f":"IF(AA12=0,0,(AA12*((LOG(AA12))/LOG(2))))","v":-0.5},null,{"$f":"N12","v":11212},{"$f":"COUNTIF(L55:L79,AD12)","v":3},{"$f":"AE12/(AG4-AE25)","v":0.14285714285714285},{"$f":"IF(AF12=0,0,(AF12*((LOG(AF12))/LOG(2))))","v":-0.40105070315108626},null,{"$f":"N12","v":11212},{"$f":"COUNTIF(L80:L103,AI12)","v":1},{"$f":"AJ12/(AL4-AJ25)","v":0.05},{"$f":"IF(AK12=0,0,(AK12*((LOG(AK12))/LOG(2))))","v":-0.21609640474436814},null,{"$f":"N12","v":11212},{"$f":"COUNTIF(L104:L127,AN12)","v":5},{"$f":"AO12/(AQ4-AO25)","v":0.22727272727272727},{"$f":"IF(AP12=0,0,(AP12*((LOG(AP12))/LOG(2))))","v":-0.48579625539771243},null,{"$f":"N12","v":11212},{"$f":"COUNTIF(L128:L151,AS12)","v":1},{"$f":"AT12/(AV4-AT25)","v":5.2631578947368418E-2},{"$f":"IF(AU12=0,0,(AU12*((LOG(AU12))/LOG(2))))","v":-0.22357513228650452}]
[21,974,22,989,13,998,14,1026,24,1043,0,22112,null,11221,{"$f":"COUNTIF($L$7:$L$500,N13)","v":5},{"$f":"O13/$Q$4","v":3.4482758620689655E-2},{"$f":"IF(P13=0,0,(P13*((LOG(P13))/LOG(2))))","v":-0.16751658603888178},null,null,{"$f":"N13","v":11221},{"$f":"COUNTIF(L7:L30,T13)","v":0},{"$f":"U13/(W4-U25)","v":0},{"$f":"IF(V13=0,0,(V13*((LOG(V13))/LOG(2))))","v":0},null,{"$f":"N13","v":11221},{"$f":"COUNTIF(L31:L54,Y13)","v":3},{"$f":"Z13/(AB4-Z25)","v":0.15},{"$f":"IF(AA13=0,0,(AA13*((LOG(AA13))/LOG(2))))","v":-0.41054483912493089},null,{"$f":"N13","v":11221},{"$f":"COUNTIF(L55:L79,AD13)","v":1},{"$f":"AE13/(AG4-AE25)","v":4.7619047619047616E-2},{"$f":"IF(AF13=0,0,(AF13*((LOG(AF13))/LOG(2))))","v":-0.20915797251327431},null,{"$f":"N13","v":11221},{"$f":"COUNTIF(L80:L103,AI13)","v":0},{"$f":"AJ13/(AL4-AJ25)","v":0},{"$f":"IF(AK13=0,0,(AK13*((LOG(AK13))/LOG(2))))","v":0},null,{"$f":"N13","v":11221},{"$f":"COUNTIF(L104:L127,AN13)","v":1},{"$f":"AO13/(AQ4-AO25)","v":4.5454545454545456E-2},{"$f":"IF(AP13=0,0,(AP13*((LOG(AP13))/LOG(2))))","v":-0.20270143721078623},null,{"$f":"N13","v":11221},{"$f":"COUNTIF(L128:L151,AS13)","v":0},{"$f":"AT13/(AV4-AT25)","v":0},{"$f":"IF(AU13=0,0,(AU13*((LOG(AU13))/LOG(2))))","v":0}]
[21,1144,22,1152,13,1160,23,1172,13,1182,0,22121,null,11222,{"$f":"COUNTIF($L$7:$L$500,N14)","v":0},{"$f":"O14/$Q$4","v":0},{"$f":"IF(P14=0,0,(P14*((LOG(P14))/LOG(2))))","v":0},null,null,{"$f":"N14","v":11222},{"$f":"COUNTIF(L7:L30,T14)","v":0},{"$f":"U14/(W4-U25)","v":0},{"$f":"IF(V14=0,0,(V14*((LOG(V14))/LOG(2))))","v":0},null,{"$f":"N14","v":11222},{"$f":"COUNTIF(L31:L54,Y14)","v":0},{"$f":"Z14/(AB4-Z25)","v":0},{"$f":"IF(AA14=0,0,(AA14*((LOG(AA14))/LOG(2))))","v":0},null,{"$f":"N14","v":11222},{"$f":"COUNTIF(L55:L79,AD14)","v":0},{"$f":"AE14/(AG4-AE25)","v":0},{"$f":"IF(AF14=0,0,(AF14*((LOG(AF14))/LOG(2))))","v":0},null,{"$f":"N14","v":11222},{"$f":"COUNTIF(L80:L103,AI14)","v":0},{"$f":"AJ14/(AL4-AJ25)","v":0},{"$f":"IF(AK14=0,0,(AK14*((LOG(AK14))/LOG(2))))","v":0},null,{"$f":"N14","v":11222},{"$f":"COUNTIF(L104:L127,AN14)","v":0},{"$f":"AO14/(AQ4-AO25)","v":0},{"$f":"IF(AP14=0,0,(AP14*((LOG(AP14))/LOG(2))))","v":0},null,{"$f":"N14","v":11222},{"$f":"COUNTIF(L128:L151,AS14)","v":0},{"$f":"AT14/(AV4-AT25)","v":0},{"$f":"IF(AU14=0,0,(AU14*((LOG(AU14))/LOG(2))))","v":0}]
[21,1282,11,1290,22,1304,14,1317,24,1330,0,21212,null,12111,{"$f":"COUNTIF($L$7:$L$500,N15)","v":0},{"$f":"O15/$Q$4","v":0},{"$f":"IF(P15=0,0,(P15*((LOG(P15))/LOG(2))))","v":0},null,null,{"$f":"N15","v":12111},{"$f":"COUNTIF(L7:L30,T15)","v":0},{"$f":"U15/(W4-U25)","v":0},{"$f":"IF(V15=0,0,(V15*((LOG(V15))/LOG(2))))","v":0},null,{"$f":"N15","v":12111},{"$f":"COUNTIF(L31:L54,Y15)","v":0},{"$f":"Z15/(AB4-Z25)","v":0},{"$f":"IF(AA15=0,0,(AA15*((LOG(AA15))/LOG(2))))","v":0},null,{"$f":"N15","v":12111},{"$f":"COUNTIF(L55:L79,AD15)","v":0},{"$f":"AE15/(AG4-AE25)","v":0},{"$f":"IF(AF15=0,0,(AF15*((LOG(AF15))/LOG(2))))","v":0},null,{"$f":"N15","v":12111},{"$f":"COUNTIF(L80:L103,AI15)","v":0},{"$f":"AJ15/(AL4-AJ25)","v":0},{"$f":"IF(AK15=0,0,(AK15*((LOG(AK15))/LOG(2))))","v":0},null,{"$f":"N15","v":12111},{"$f":"COUNTIF(L104:L127,AN15)","v":0},{"$f":"AO15/(AQ4-AO25)","v":0},{"$f":"IF(AP15=0,0,(AP15*((LOG(AP15))/LOG(2))))","v":0},null,{"$f":"N15","v":12111},{"$f":"COUNTIF(L128:L151,AS15)","v":0},{"$f":"AT15/(AV4-AT25)","v":0},{"$f":"IF(AU15=0,0,(AU15*((LOG(AU15))/LOG(2))))","v":0}]
[21,1430,11,1438,22,1449,14,1464,24,1475,0,21212,null,12112,{"$f":"COUNTIF($L$7:$L$500,N16)","v":1},{"$f":"O16/$Q$4","v":6.8965517241379309E-3},{"$f":"IF(P16=0,0,(P16*((LOG(P16))/LOG(2))))","v":-4.9516614413896098E-2},null,null,{"$f":"N16","v":12112},{"$f":"COUNTIF(L7:L30,T16)","v":0},{"$f":"U16/(W4-U25)","v":0},{"$f":"IF(V16=0,0,(V16*((LOG(V16))/LOG(2))))","v":0},null,{"$f":"N16","v":12112},{"$f":"COUNTIF(L31:L54,Y16)","v":0},{"$f":"Z16/(AB4-Z25)","v":0},{"$f":"IF(AA16=0,0,(AA16*((LOG(AA16))/LOG(2))))","v":0},null,{"$f":"N16","v":12112},{"$f":"COUNTIF(L55:L79,AD16)","v":0},{"$f":"AE16/(AG4-AE25)","v":0},{"$f":"IF(AF16=0,0,(AF16*((LOG(AF16))/LOG(2))))","v":0},null,{"$f":"N16","v":12112},{"$f":"COUNTIF(L80:L103,AI16)","v":0},{"$f":"AJ16/(AL4-AJ25)","v":0},{"$f":"IF(AK16=0,0,(AK16*((LOG(AK16))/LOG(2))))","v":0},null,{"$f":"N16","v":12112},{"$f":"COUNTIF(L104:L127,AN16)","v":1},{"$f":"AO16/(AQ4-AO25)","v":4.5454545454545456E-2},{"$f":"IF(AP16=0,0,(AP16*((LOG(AP16))/LOG(2))))","v":-0.20270143721078623},null,{"$f":"N16","v":12112},{"$f":"COUNTIF(L128:L151,AS16)","v":0},{"$f":"AT16/(AV4-AT25)","v":0},{"$f":"IF(AU16=0,0,(AU16*((LOG(AU16))/LOG(2))))","v":0}]
[21,1576,11,1585,11,1593,12,1601,24,1610,0,21112,null,12121,{"$f":"COUNTIF($L$7:$L$500,N17)","v":11},{"$f":"O17/$Q$4","v":7.586206896551724E-2},{"$f":"IF(P17=0,0,(P17*((LOG(P17))/LOG(2))))","v":-0.28224311851830353},null,null,{"$f":"N17","v":12121},{"$f":"COUNTIF(L7:L30,T17)","v":3},{"$f":"U17/(W4-U25)","v":0.14285714285714285},{"$f":"IF(V17=0,0,(V17*((LOG(V17))/LOG(2))))","v":-0.40105070315108626},null,{"$f":"N17","v":12121},{"$f":"COUNTIF(L31:L54,Y17)","v":1},{"$f":"Z17/(AB4-Z25)","v":0.05},{"$f":"IF(AA17=0,0,(AA17*((LOG(AA17))/LOG(2))))","v":-0.21609640474436814},null,{"$f":"N17","v":12121},{"$f":"COUNTIF(L55:L79,AD17)","v":2},{"$f":"AE17/(AG4-AE25)","v":9.5238095238095233E-2},{"$f":"IF(AF17=0,0,(AF17*((LOG(AF17))/LOG(2))))","v":-0.32307784978845333},null,{"$f":"N17","v":12121},{"$f":"COUNTIF(L80:L103,AI17)","v":0},{"$f":"AJ17/(AL4-AJ25)","v":0},{"$f":"IF(AK17=0,0,(AK17*((LOG(AK17))/LOG(2))))","v":0},null,{"$f":"N17","v":12121},{"$f":"COUNTIF(L104:L127,AN17)","v":2},{"$f":"AO17/(AQ4-AO25)","v":9.0909090909090912E-2},{"$f":"IF(AP17=0,0,(AP17*((LOG(AP17))/LOG(2))))","v":-0.31449378351248153},null,{"$f":"N17","v":12121},{"$f":"COUNTIF(L128:L151,AS17)","v":3},{"$f":"AT17/(AV4-AT25)","v":0.15789473684210525},{"$f":"IF(AU17=0,0,(AU17*((LOG(AU17))/LOG(2))))","v":-0.42046815990354147}]
[21,1714,11,1724,11,1748,21,1762,11,1772,1,21121,null,12122,{"$f":"COUNTIF($L$7:$L$500,N18)","v":3},{"$f":"O18/$Q$4","v":2.0689655172413793E-2},{"$f":"IF(P18=0,0,(P18*((LOG(P18))/LOG(2))))","v":-0.11575751564056093},null,null,{"$f":"N18","v":12122},{"$f":"COUNTIF(L7:L30,T18)","v":0},{"$f":"U18/(W4-U25)","v":0},{"$f":"IF(V18=0,0,(V18*((LOG(V18))/LOG(2))))","v":0},null,{"$f":"N18","v":12122},{"$f":"COUNTIF(L31:L54,Y18)","v":1},{"$f":"Z18/(AB4-Z25)","v":0.05},{"$f":"IF(AA18=0,0,(AA18*((LOG(AA18))/LOG(2))))","v":-0.21609640474436814},null,{"$f":"N18","v":12122},{"$f":"COUNTIF(L55:L79,AD18)","v":2},{"$f":"AE18/(AG4-AE25)","v":9.5238095238095233E-2},{"$f":"IF(AF18=0,0,(AF18*((LOG(AF18))/LOG(2))))","v":-0.32307784978845333},null,{"$f":"N18","v":12122},{"$f":"COUNTIF(L80:L103,AI18)","v":0},{"$f":"AJ18/(AL4-AJ25)","v":0},{"$f":"IF(AK18=0,0,(AK18*((LOG(AK18))/LOG(2))))","v":0},null,{"$f":"N18","v":12122},{"$f":"COUNTIF(L104:L127,AN18)","v":0},{"$f":"AO18/(AQ4-AO25)","v":0},{"$f":"IF(AP18=0,0,(AP18*((LOG(AP18))/LOG(2))))","v":0},null,{"$f":"N18","v":12122},{"$f":"COUNTIF(L128:L151,AS18)","v":0},{"$f":"AT18/(AV4-AT25)","v":0},{"$f":"IF(AU18=0,0,(AU18*((LOG(AU18))/LOG(2))))","v":0}]
[21,1867,11,1877,22,1894,14,1909,24,1926,0,21212,null,12211,{"$f":"COUNTIF($L$7:$L$500,N19)","v":0},{"$f":"O19/$Q$4","v":0},{"$f":"IF(P19=0,0,(P19*((LOG(P19))/LOG(2))))","v":0},null,null,{"$f":"N19","v":12211},{"$f":"COUNTIF(L7:L30,T19)","v":0},{"$f":"U19/(W4-U25)","v":0},{"$f":"IF(V19=0,0,(V19*((LOG(V19))/LOG(2))))","v":0},null,{"$f":"N19","v":12211},{"$f":"COUNTIF(L31:L54,Y19)","v":0},{"$f":"Z19/(AB4-Z25)","v":0},{"$f":"IF(AA19=0,0,(AA19*((LOG(AA19))/LOG(2))))","v":0},null,{"$f":"N19","v":12211},{"$f":"COUNTIF(L55:L79,AD19)","v":0},{"$f":"AE19/(AG4-AE25)","v":0},{"$f":"IF(AF19=0,0,(AF19*((LOG(AF19))/LOG(2))))","v":0},null,{"$f":"N19","v":12211},{"$f":"COUNTIF(L80:L103,AI19)","v":0},{"$f":"AJ19/(AL4-AJ25)","v":0},{"$f":"IF(AK19=0,0,(AK19*((LOG(AK19))/LOG(2))))","v":0},null,{"$f":"N19","v":12211},{"$f":"COUNTIF(L104:L127,AN19)","v":0},{"$f":"AO19/(AQ4-AO25)","v":0},{"$f":"IF(AP19=0,0,(AP19*((LOG(AP19))/LOG(2))))","v":0},null,{"$f":"N19","v":12211},{"$f":"COUNTIF(L128:L151,AS19)","v":0},{"$f":"AT19/(AV4-AT25)","v":0},{"$f":"IF(AU19=0,0,(AU19*((LOG(AU19))/LOG(2))))","v":0}]
[21,2025,22,2035,13,2042,23,2055,13,2068,0,22121,null,12212,{"$f":"COUNTIF($L$7:$L$500,N20)","v":1},{"$f":"O20/$Q$4","v":6.8965517241379309E-3},{"$f":"IF(P20=0,0,(P20*((LOG(P20))/LOG(2))))","v":-4.9516614413896098E-2},null,null,{"$f":"N20","v":12212},{"$f":"COUNTIF(L7:L30,T20)","v":0},{"$f":"U20/(W4-U25)","v":0},{"$f":"IF(V20=0,0,(V20*((LOG(V20))/LOG(2))))","v":0},null,{"$f":"N20","v":12212},{"$f":"COUNTIF(L31:L54,Y20)","v":0},{"$f":"Z20/(AB4-Z25)","v":0},{"$f":"IF(AA20=0,0,(AA20*((LOG(AA20))/LOG(2))))","v":0},null,{"$f":"N20","v":12212},{"$f":"COUNTIF(L55:L79,AD20)","v":0},{"$f":"AE20/(AG4-AE25)","v":0},{"$f":"IF(AF20=0,0,(AF20*((LOG(AF20))/LOG(2))))","v":0},null,{"$f":"N20","v":12212},{"$f":"COUNTIF(L80:L103,AI20)","v":0},{"$f":"AJ20/(AL4-AJ25)","v":0},{"$f":"IF(AK20=0,0,(AK20*((LOG(AK20))/LOG(2))))","v":0},null,{"$f":"N20","v":12212},{"$f":"COUNTIF(L104:L127,AN20)","v":0},{"$f":"AO20/(AQ4-AO25)","v":0},{"$f":"IF(AP20=0,0,(AP20*((LOG(AP20))/LOG(2))))","v":0},null,{"$f":"N20","v":12212},{"$f":"COUNTIF(L128:L151,AS20)","v":1},{"$f":"AT20/(AV4-AT25)","v":5.2631578947368418E-2},{"$f":"IF(AU20=0,0,(AU20*((LOG(AU20))/LOG(2))))","v":-0.22357513228650452}]
[21,2175,11,2187,22,2200,14,2212,13,2223,0,21211,null,12221,{"$f":"COUNTIF($L$7:$L$500,N21)","v":0},{"$f":"O21/$Q$4","v":0},{"$f":"IF(P21=0,0,(P21*((LOG(P21))/LOG(2))))","v":0},null,null,{"$f":"N21","v":12221},{"$f":"COUNTIF(L7:L30,T21)","v":0},{"$f":"U21/(W4-U25)","v":0},{"$f":"IF(V21=0,0,(V21*((LOG(V21))/LOG(2))))","v":0},null,{"$f":"N21","v":12221},{"$f":"COUNTIF(L31:L54,Y21)","v":0},{"$f":"Z21/(AB4-Z25)","v":0},{"$f":"IF(AA21=0,0,(AA21*((LOG(AA21))/LOG(2))))","v":0},null,{"$f":"N21","v":12221},{"$f":"COUNTIF(L55:L79,AD21)","v":0},{"$f":"AE21/(AG4-AE25)","v":0},{"$f":"IF(AF21=0,0,(AF21*((LOG(AF21))/LOG(2))))","v":0},null,{"$f":"N21","v":12221},{"$f":"COUNTIF(L80:L103,AI21)","v":0},{"$f":"AJ21/(AL4-AJ25)","v":0},{"$f":"IF(AK21=0,0,(AK21*((LOG(AK21))/LOG(2))))","v":0},null,{"$f":"N21","v":12221},{"$f":"COUNTIF(L104:L127,AN21)","v":0},{"$f":"AO21/(AQ4-AO25)","v":0},{"$f":"IF(AP21=0,0,(AP21*((LOG(AP21))/LOG(2))))","v":0},null,{"$f":"N21","v":12221},{"$f":"COUNTIF(L128:L151,AS21)","v":0},{"$f":"AT21/(AV4-AT25)","v":0},{"$f":"IF(AU21=0,0,(AU21*((LOG(AU21))/LOG(2))))","v":0}]
[21,2334,11,2352,22,2363,14,2372,13,2393,0,21211,null,12222,{"$f":"COUNTIF($L$7:$L$500,N22)","v":0},{"$f":"O22/$Q$4","v":0},{"$f":"IF(P22=0,0,(P22*((LOG(P22))/LOG(2))))","v":0},null,null,{"$f":"N22","v":12222},{"$f":"COUNTIF(L7:L30,T22)","v":0},{"$f":"U22/(W4-U25)","v":0},{"$f":"IF(V22=0,0,(V22*((LOG(V22))/LOG(2))))","v":0},null,{"$f":"N22","v":12222},{"$f":"COUNTIF(L31:L54,Y22)","v":0},{"$f":"Z22/(AB4-Z25)","v":0},{"$f":"IF(AA22=0,0,(AA22*((LOG(AA22))/LOG(2))))","v":0},null,{"$f":"N22","v":12222},{"$f":"COUNTIF(L55:L79,AD22)","v":0},{"$f":"AE22/(AG4-AE25)","v":0},{"$f":"IF(AF22=0,0,(AF22*((LOG(AF22))/LOG(2))))","v":0},null,{"$f":"N22","v":12222},{"$f":"COUNTIF(L80:L103,AI22)","v":0},{"$f":"AJ22/(AL4-AJ25)","v":0},{"$f":"IF(AK22=0,0,(AK22*((LOG(AK22))/LOG(2))))","v":0},null,{"$f":"N22","v":12222},{"$f":"COUNTIF(L104:L127,AN22)","v":0},{"$f":"AO22/(AQ4-AO25)","v":0},{"$f":"IF(AP22=0,0,(AP22*((LOG(AP22))/LOG(2))))","v":0},null,{"$f":"N22","v":12222},{"$f":"COUNTIF(L128:L151,AS22)","v":0},{"$f":"AT22/(AV4-AT25)","v":0},{"$f":"IF(AU22=0,0,(AU22*((LOG(AU22))/LOG(2))))","v":0}]
[21,2502,11,2511,11,2523,21,2538,11,2548,1,21121,null,21111,{"$f":"COUNTIF($L$7:$L$500,N23)","v":1},{"$f":"O23/$Q$4","v":6.8965517241379309E-3},{"$f":"IF(P23=0,0,(P23*((LOG(P23))/LOG(2))))","v":-4.9516614413896098E-2},null,null,{"$f":"N23","v":21111},{"$f":"COUNTIF(L7:L30,T23)","v":0},{"$f":"U23/(W4-U25)","v":0},{"$f":"IF(V23=0,0,(V23*((LOG(V23))/LOG(2))))","v":0},null,{"$f":"N23","v":21111},{"$f":"COUNTIF(L31:L54,Y23)","v":0},{"$f":"Z23/(AB4-Z25)","v":0},{"$f":"IF(AA23=0,0,(AA23*((LOG(AA23))/LOG(2))))","v":0},null,{"$f":"N23","v":21111},{"$f":"COUNTIF(L55:L79,AD23)","v":0},{"$f":"AE23/(AG4-AE25)","v":0},{"$f":"IF(AF23=0,0,(AF23*((LOG(AF23))/LOG(2))))","v":0},null,{"$f":"N23","v":21111},{"$f":"COUNTIF(L80:L103,AI23)","v":0},{"$f":"AJ23/(AL4-AJ25)","v":0},{"$f":"IF(AK23=0,0,(AK23*((LOG(AK23))/LOG(2))))","v":0},null,{"$f":"N23","v":21111},{"$f":"COUNTIF(L104:L127,AN23)","v":0},{"$f":"AO23/(AQ4-AO25)","v":0},{"$f":"IF(AP23=0,0,(AP23*((LOG(AP23))/LOG(2))))","v":0},null,{"$f":"N23","v":21111},{"$f":"COUNTIF(L128:L151,AS23)","v":1},{"$f":"AT23/(AV4-AT25)","v":5.2631578947368418E-2},{"$f":"IF(AU23=0,0,(AU23*((LOG(AU23))/LOG(2))))","v":-0.22357513228650452}]
[21,2685,22,2713,13,2727,23,2736,24,2760,0,22122,null,21112,{"$f":"COUNTIF($L$7:$L$500,N24)","v":3},{"$f":"O24/$Q$4","v":2.0689655172413793E-2},{"$f":"IF(P24=0,0,(P24*((LOG(P24))/LOG(2))))","v":-0.11575751564056093},null,null,{"$f":"N24","v":21112},{"$f":"COUNTIF(L7:L30,T24)","v":1},{"$f":"U24/(W4-U25)","v":4.7619047619047616E-2},{"$f":"IF(V24=0,0,(V24*((LOG(V24))/LOG(2))))","v":-0.20915797251327431},null,{"$f":"N24","v":21112},{"$f":"COUNTIF(L31:L54,Y24)","v":0},{"$f":"Z24/(AB4-Z25)","v":0},{"$f":"IF(AA24=0,0,(AA24*((LOG(AA24))/LOG(2))))","v":0},null,{"$f":"N24","v":21112},{"$f":"COUNTIF(L55:L79,AD24)","v":1},{"$f":"AE24/(AG4-AE25)","v":4.7619047619047616E-2},{"$f":"IF(AF24=0,0,(AF24*((LOG(AF24))/LOG(2))))","v":-0.20915797251327431},null,{"$f":"N24","v":21112},{"$f":"COUNTIF(L80:L103,AI24)","v":0},{"$f":"AJ24/(AL4-AJ25)","v":0},{"$f":"IF(AK24=0,0,(AK24*((LOG(AK24))/LOG(2))))","v":0},null,{"$f":"N24","v":21112},{"$f":"COUNTIF(L104:L127,AN24)","v":0},{"$f":"AO24/(AQ4-AO25)","v":0},{"$f":"IF(AP24=0,0,(AP24*((LOG(AP24))/LOG(2))))","v":0},null,{"$f":"N24","v":21112},{"$f":"COUNTIF(L128:L151,AS24)","v":1},{"$f":"AT24/(AV4-AT25)","v":5.2631578947368418E-2},{"$f":"IF(AU24=0,0,(AU24*((LOG(AU24))/LOG(2))))","v":-0.22357513228650452}]
[21,2863,22,2874,13,2883,23,2893,13,2906,0,22121,null,21121,{"$f":"COUNTIF($L$7:$L$500,N25)","v":22},{"$f":"O25/$Q$4","v":0.15172413793103448},{"$f":"IF(P25=0,0,(P25*((LOG(P25))/LOG(2))))","v":-0.41276209910557254},null,null,{"$f":"N25","v":21121},{"$f":"COUNTIF(L7:L30,T25)","v":3},null,null,null,{"$f":"N25","v":21121},{"$f":"COUNTIF(L31:L54,Y25)","v":4},null,null,null,{"$f":"N25","v":21121},{"$f":"COUNTIF(L55:L79,AD25)","v":4},null,null,null,{"$f":"N25","v":21121},{"$f":"COUNTIF(L80:L103,AI25)","v":4},null,null,null,{"$f":"N25","v":21121},{"$f":"COUNTIF(L104:L127,AN25)","v":2},null,null,null,{"$f":"N25","v":21121},{"$f":"COUNTIF(L128:L151,AS25)","v":5}]
[21,3008,11,3016,22,3029,14,3040,24,3052,0,21212,null,21122,{"$f":"COUNTIF($L$7:$L$500,N26)","v":4},{"$f":"O26/$Q$4","v":2.7586206896551724E-2},{"$f":"IF(P26=0,0,(P26*((LOG(P26))/LOG(2))))","v":-0.14289404386248095},null,null,{"$f":"N26","v":21122},{"$f":"COUNTIF(L7:L30,T26)","v":1},{"$f":"U26/(W4-U25)","v":4.7619047619047616E-2},{"$f":"IF(V26=0,0,(V26*((LOG(V26))/LOG(2))))","v":-0.20915797251327431},null,{"$f":"N26","v":21122},{"$f":"COUNTIF(L31:L54,Y26)","v":1},{"$f":"Z26/(AB4-Z25)","v":0.05},{"$f":"IF(AA26=0,0,(AA26*((LOG(AA26))/LOG(2))))","v":-0.21609640474436814},null,{"$f":"N26","v":21122},{"$f":"COUNTIF(L55:L79,AD26)","v":2},{"$f":"AE26/(AG4-AE25)","v":9.5238095238095233E-2},{"$f":"IF(AF26=0,0,(AF26*((LOG(AF26))/LOG(2))))","v":-0.32307784978845333},null,{"$f":"N26","v":21122},{"$f":"COUNTIF(L80:L103,AI26)","v":0},{"$f":"AJ26/(AL4-AJ25)","v":0},{"$f":"IF(AK26=0,0,(AK26*((LOG(AK26))/LOG(2))))","v":0},null,{"$f":"N26","v":21122},{"$f":"COUNTIF(L104:L127,AN26)","v":0},{"$f":"AO26/(AQ4-AO25)","v":0},{"$f":"IF(AP26=0,0,(AP26*((LOG(AP26))/LOG(2))))","v":0},null,{"$f":"N26","v":21122},{"$f":"COUNTIF(L128:L151,AS26)","v":0},{"$f":"AT26/(AV4-AT25)","v":0},{"$f":"IF(AU26=0,0,(AU26*((LOG(AU26))/LOG(2))))","v":0}]
[12,3159,24,3171,13,3183,23,3194,13,3206,0,12121,null,21211,{"$f":"COUNTIF($L$7:$L$500,N27)","v":6},{"$f":"O27/$Q$4","v":4.1379310344827586E-2},{"$f":"IF(P27=0,0,(P27*((LOG(P27))/LOG(2))))","v":-0.19013572093629427},null,null,{"$f":"N27","v":21211},{"$f":"COUNTIF(L7:L30,T27)","v":2},{"$f":"U27/(W4-U25)","v":9.5238095238095233E-2},{"$f":"IF(V27=0,0,(V27*((LOG(V27))/LOG(2))))","v":-0.32307784978845333},null,{"$f":"N27","v":21211},{"$f":"COUNTIF(L31:L54,Y27)","v":0},{"$f":"Z27/(AB4-Z25)","v":0},{"$f":"IF(AA27=0,0,(AA27*((LOG(AA27))/LOG(2))))","v":0},null,{"$f":"N27","v":21211},{"$f":"COUNTIF(L55:L79,AD27)","v":0},{"$f":"AE27/(AG4-AE25)","v":0},{"$f":"IF(AF27=0,0,(AF27*((LOG(AF27))/LOG(2))))","v":0},null,{"$f":"N27","v":21211},{"$f":"COUNTIF(L80:L103,AI27)","v":3},{"$f":"AJ27/(AL4-AJ25)","v":0.15},{"$f":"IF(AK27=0,0,(AK27*((LOG(AK27))/LOG(2))))","v":-0.41054483912493089},null,{"$f":"N27","v":21211},{"$f":"COUNTIF(L104:L127,AN27)","v":1},{"$f":"AO27/(AQ4-AO25)","v":4.5454545454545456E-2},{"$f":"IF(AP27=0,0,(AP27*((LOG(AP27))/LOG(2))))","v":-0.20270143721078623},null,{"$f":"N27","v":21211},{"$f":"COUNTIF(L128:L151,AS27)","v":0},{"$f":"AT27/(AV4-AT25)","v":0},{"$f":"IF(AU27=0,0,(AU27*((LOG(AU27))/LOG(2))))","v":0}]
[21,3307,11,3314,11,3322,21,3331,22,3369,0,21122,null,21212,{"$f":"COUNTIF($L$7:$L$500,N28)","v":34},{"$f":"O28/$Q$4","v":0.23448275862068965},{"$f":"IF(P28=0,0,(P28*((LOG(P28))/LOG(2))))","v":-0.49064256867583605},null,null,{"$f":"N28","v":21212},{"$f":"COUNTIF(L7:L30,T28)","v":8},{"$f":"U28/(W4-U25)","v":0.38095238095238093},{"$f":"IF(V28=0,0,(V28*((LOG(V28))/LOG(2))))","v":-0.53040663724905157},null,{"$f":"N28","v":21212},{"$f":"COUNTIF(L31:L54,Y28)","v":5},{"$f":"Z28/(AB4-Z25)","v":0.25},{"$f":"IF(AA28=0,0,(AA28*((LOG(AA28))/LOG(2))))","v":-0.5},null,{"$f":"N28","v":21212},{"$f":"COUNTIF(L55:L79,AD28)","v":4},{"$f":"AE28/(AG4-AE25)","v":0.19047619047619047},{"$f":"IF(AF28=0,0,(AF28*((LOG(AF28))/LOG(2))))","v":-0.4556795091007162},null,{"$f":"N28","v":21212},{"$f":"COUNTIF(L80:L103,AI28)","v":9},{"$f":"AJ28/(AL4-AJ25)","v":0.45},{"$f":"IF(AK28=0,0,(AK28*((LOG(AK28))/LOG(2))))","v":-0.51840139205027258},null,{"$f":"N28","v":21212},{"$f":"COUNTIF(L104:L127,AN28)","v":3},{"$f":"AO28/(AQ4-AO25)","v":0.13636363636363635},{"$f":"IF(AP28=0,0,(AP28*((LOG(AP28))/LOG(2))))","v":-0.39197306153401923},null,{"$f":"N28","v":21212},{"$f":"COUNTIF(L128:L151,AS28)","v":5},{"$f":"AT28/(AV4-AT25)","v":0.26315789473684209},{"$f":"IF(AU28=0,0,(AU28*((LOG(AU28))/LOG(2))))","v":-0.50684195225163764}]
[21,3472,11,3479,11,3487,21,3497,11,3509,1,21121,null,21221,{"$f":"COUNTIF($L$7:$L$500,N29)","v":5},{"$f":"O29/$Q$4","v":3.4482758620689655E-2},{"$f":"IF(P29=0,0,(P29*((LOG(P29))/LOG(2))))","v":-0.16751658603888178},null,null,{"$f":"N29","v":21221},{"$f":"COUNTIF(L7:L30,T29)","v":0},{"$f":"U29/(W4-U25)","v":0},{"$f":"IF(V29=0,0,(V29*((LOG(V29))/LOG(2))))","v":0},null,{"$f":"N29","v":21221},{"$f":"COUNTIF(L31:L54,Y29)","v":1},{"$f":"Z29/(AB4-Z25)","v":0.05},{"$f":"IF(AA29=0,0,(AA29*((LOG(AA29))/LOG(2))))","v":-0.21609640474436814},null,{"$f":"N29","v":21221},{"$f":"COUNTIF(L55:L79,AD29)","v":0},{"$f":"AE29/(AG4-AE25)","v":0},{"$f":"IF(AF29=0,0,(AF29*((LOG(AF29))/LOG(2))))","v":0},null,{"$f":"N29","v":21221},{"$f":"COUNTIF(L80:L103,AI29)","v":4},{"$f":"AJ29/(AL4-AJ25)","v":0.2},{"$f":"IF(AK29=0,0,(AK29*((LOG(AK29))/LOG(2))))","v":-0.46438561897747244},null,{"$f":"N29","v":21221},{"$f":"COUNTIF(L104:L127,AN29)","v":0},{"$f":"AO29/(AQ4-AO25)","v":0},{"$f":"IF(AP29=0,0,(AP29*((LOG(AP29))/LOG(2))))","v":0},null,{"$f":"N29","v":21221},{"$f":"COUNTIF(L128:L151,AS29)","v":0},{"$f":"AT29/(AV4-AT25)","v":0},{"$f":"IF(AU29=0,0,(AU29*((LOG(AU29))/LOG(2))))","v":0}]
[21,3622,11,3630,22,3643,14,3652,24,3664,0,21212,null,21222,{"$f":"COUNTIF($L$7:$L$500,N30)","v":2},{"$f":"O30/$Q$4","v":1.3793103448275862E-2},{"$f":"IF(P30=0,0,(P30*((LOG(P30))/LOG(2))))","v":-8.5240125379516335E-2},null,null,{"$f":"N30","v":21222},{"$f":"COUNTIF(L7:L30,T30)","v":0},{"$f":"U30/(W4-U25)","v":0},{"$f":"IF(V30=0,0,(V30*((LOG(V30))/LOG(2))))","v":0},null,{"$f":"N30","v":21222},{"$f":"COUNTIF(L31:L54,Y30)","v":0},{"$f":"Z30/(AB4-Z25)","v":0},{"$f":"IF(AA30=0,0,(AA30*((LOG(AA30))/LOG(2))))","v":0},null,{"$f":"N30","v":21222},{"$f":"COUNTIF(L55:L79,AD30)","v":2},{"$f":"AE30/(AG4-AE25)","v":9.5238095238095233E-2},{"$f":"IF(AF30=0,0,(AF30*((LOG(AF30))/LOG(2))))","v":-0.32307784978845333},null,{"$f":"N30","v":21222},{"$f":"COUNTIF(L80:L103,AI30)","v":0},{"$f":"AJ30/(AL4-AJ25)","v":0},{"$f":"IF(AK30=0,0,(AK30*((LOG(AK30))/LOG(2))))","v":0},null,{"$f":"N30","v":21222},{"$f":"COUNTIF(L104:L127,AN30)","v":0},{"$f":"AO30/(AQ4-AO25)","v":0},{"$f":"IF(AP30=0,0,(AP30*((LOG(AP30))/LOG(2))))","v":0},null,{"$f":"N30","v":21222},{"$f":"COUNTIF(L128:L151,AS30)","v":0},{"$f":"AT30/(AV4-AT25)","v":0},{"$f":"IF(AU30=0,0,(AU30*((LOG(AU30))/LOG(2))))","v":0}]
[21,3769,11,3785,22,3796,14,3815,24,3828,0,21212,null,22111,{"$f":"COUNTIF($L$7:$L$500,N31)","v":0},{"$f":"O31/$Q$4","v":0},{"$f":"IF(P31=0,0,(P31*((LOG(P31))/LOG(2))))","v":0},null,null,{"$f":"N31","v":22111},{"$f":"COUNTIF(L7:L30,T31)","v":0},{"$f":"U31/(W4-U25)","v":0},{"$f":"IF(V31=0,0,(V31*((LOG(V31))/LOG(2))))","v":0},null,{"$f":"N31","v":22111},{"$f":"COUNTIF(L31:L54,Y31)","v":0},{"$f":"Z31/(AB4-Z25)","v":0},{"$f":"IF(AA31=0,0,(AA31*((LOG(AA31))/LOG(2))))","v":0},null,{"$f":"N31","v":22111},{"$f":"COUNTIF(L55:L79,AD31)","v":0},{"$f":"AE31/(AG4-AE25)","v":0},{"$f":"IF(AF31=0,0,(AF31*((LOG(AF31))/LOG(2))))","v":0},null,{"$f":"N31","v":22111},{"$f":"COUNTIF(L80:L103,AI31)","v":0},{"$f":"AJ31/(AL4-AJ25)","v":0},{"$f":"IF(AK31=0,0,(AK31*((LOG(AK31))/LOG(2))))","v":0},null,{"$f":"N31","v":22111},{"$f":"COUNTIF(L104:L127,AN31)","v":0},{"$f":"AO31/(AQ4-AO25)","v":0},{"$f":"IF(AP31=0,0,(AP31*((LOG(AP31))/LOG(2))))","v":0},null,{"$f":"N31","v":22111},{"$f":"COUNTIF(L128:L151,AS31)","v":0},{"$f":"AT31/(AV4-AT25)","v":0},{"$f":"IF(AU31=0,0,(AU31*((LOG(AU31))/LOG(2))))","v":0}]
[21,3929,11,3936,22,3947,14,3958,24,3970,0,21212,null,22112,{"$f":"COUNTIF($L$7:$L$500,N32)","v":3},{"$f":"O32/$Q$4","v":2.0689655172413793E-2},{"$f":"IF(P32=0,0,(P32*((LOG(P32))/LOG(2))))","v":-0.11575751564056093},null,null,{"$f":"N32","v":22112},{"$f":"COUNTIF(L7:L30,T32)","v":1},{"$f":"U32/(W4-U25)","v":4.7619047619047616E-2},{"$f":"IF(V32=0,0,(V32*((LOG(V32))/LOG(2))))","v":-0.20915797251327431},null,{"$f":"N32","v":22112},{"$f":"COUNTIF(L31:L54,Y32)","v":0},{"$f":"Z32/(AB4-Z25)","v":0},{"$f":"IF(AA32=0,0,(AA32*((LOG(AA32))/LOG(2))))","v":0},null,{"$f":"N32","v":22112},{"$f":"COUNTIF(L55:L79,AD32)","v":1},{"$f":"AE32/(AG4-AE25)","v":4.7619047619047616E-2},{"$f":"IF(AF32=0,0,(AF32*((LOG(AF32))/LOG(2))))","v":-0.20915797251327431},null,{"$f":"N32","v":22112},{"$f":"COUNTIF(L80:L103,AI32)","v":0},{"$f":"AJ32/(AL4-AJ25)","v":0},{"$f":"IF(AK32=0,0,(AK32*((LOG(AK32))/LOG(2))))","v":0},null,{"$f":"N32","v":22112},{"$f":"COUNTIF(L104:L127,AN32)","v":0},{"$f":"AO32/(AQ4-AO25)","v":0},{"$f":"IF(AP32=0,0,(AP32*((LOG(AP32))/LOG(2))))","v":0},null,{"$f":"N32","v":22112},{"$f":"COUNTIF(L128:L151,AS32)","v":1},{"$f":"AT32/(AV4-AT25)","v":5.2631578947368418E-2},{"$f":"IF(AU32=0,0,(AU32*((LOG(AU32))/LOG(2))))","v":-0.22357513228650452}]
[21,4074,11,4082,11,4091,21,4105,11,4119,1,21121,null,22121,{"$f":"COUNTIF($L$7:$L$500,N33)","v":9},{"$f":"O33/$Q$4","v":6.2068965517241378E-2},{"$f":"IF(P33=0,0,(P33*((LOG(P33))/LOG(2))))","v":-0.24889556411830069},null,null,{"$f":"N33","v":22121},{"$f":"COUNTIF(L7:L30,T33)","v":3},{"$f":"U33/(W4-U25)","v":0.14285714285714285},{"$f":"IF(V33=0,0,(V33*((LOG(V33))/LOG(2))))","v":-0.40105070315108626},null,{"$f":"N33","v":22121},{"$f":"COUNTIF(L31:L54,Y33)","v":1},{"$f":"Z33/(AB4-Z25)","v":0.05},{"$f":"IF(AA33=0,0,(AA33*((LOG(AA33))/LOG(2))))","v":-0.21609640474436814},null,{"$f":"N33","v":22121},{"$f":"COUNTIF(L55:L79,AD33)","v":1},{"$f":"AE33/(AG4-AE25)","v":4.7619047619047616E-2},{"$f":"IF(AF33=0,0,(AF33*((LOG(AF33))/LOG(2))))","v":-0.20915797251327431},null,{"$f":"N33","v":22121},{"$f":"COUNTIF(L80:L103,AI33)","v":3},{"$f":"AJ33/(AL4-AJ25)","v":0.15},{"$f":"IF(AK33=0,0,(AK33*((LOG(AK33))/LOG(2))))","v":-0.41054483912493089},null,{"$f":"N33","v":22121},{"$f":"COUNTIF(L104:L127,AN33)","v":0},{"$f":"AO33/(AQ4-AO25)","v":0},{"$f":"IF(AP33=0,0,(AP33*((LOG(AP33))/LOG(2))))","v":0},null,{"$f":"N33","v":22121},{"$f":"COUNTIF(L128:L151,AS33)","v":1},{"$f":"AT33/(AV4-AT25)","v":5.2631578947368418E-2},{"$f":"IF(AU33=0,0,(AU33*((LOG(AU33))/LOG(2))))","v":-0.22357513228650452}]
[21,4224,11,4232,22,4243,14,4254,24,4266,0,21212,null,22122,{"$f":"COUNTIF($L$7:$L$500,N34)","v":2},{"$f":"O34/$Q$4","v":1.3793103448275862E-2},{"$f":"IF(P34=0,0,(P34*((LOG(P34))/LOG(2))))","v":-8.5240125379516335E-2},null,null,{"$f":"N34","v":22122},{"$f":"COUNTIF(L7:L30,T34)","v":1},{"$f":"U34/(W4-U25)","v":4.7619047619047616E-2},{"$f":"IF(V34=0,0,(V34*((LOG(V34))/LOG(2))))","v":-0.20915797251327431},null,{"$f":"N34","v":22122},{"$f":"COUNTIF(L31:L54,Y34)","v":1},{"$f":"Z34/(AB4-Z25)","v":0.05},{"$f":"IF(AA34=0,0,(AA34*((LOG(AA34))/LOG(2))))","v":-0.21609640474436814},null,{"$f":"N34","v":22122},{"$f":"COUNTIF(L55:L79,AD34)","v":0},{"$f":"AE34/(AG4-AE25)","v":0},{"$f":"IF(AF34=0,0,(AF34*((LOG(AF34))/LOG(2))))","v":0},null,{"$f":"N34","v":22122},{"$f":"COUNTIF(L80:L103,AI34)","v":0},{"$f":"AJ34/(AL4-AJ25)","v":0},{"$f":"IF(AK34=0,0,(AK34*((LOG(AK34))/LOG(2))))","v":0},null,{"$f":"N34","v":22122},{"$f":"COUNTIF(L104:L127,AN34)","v":0},{"$f":"AO34/(AQ4-AO25)","v":0},{"$f":"IF(AP34=0,0,(AP34*((LOG(AP34))/LOG(2))))","v":0},null,{"$f":"N34","v":22122},{"$f":"COUNTIF(L128:L151,AS34)","v":0},{"$f":"AT34/(AV4-AT25)","v":0},{"$f":"IF(AU34=0,0,(AU34*((LOG(AU34))/LOG(2))))","v":0}]
[12,4362,13,4369,24,4381,14,4398,24,4409,0,11212,null,22211,{"$f":"COUNTIF($L$7:$L$500,N35)","v":0},{"$f":"O35/$Q$4","v":0},{"$f":"IF(P35=0,0,(P35*((LOG(P35))/LOG(2))))","v":0},null,null,{"$f":"N35","v":22211},{"$f":"COUNTIF(L7:L30,T35)","v":0},{"$f":"U35/(W4-U25)","v":0},{"$f":"IF(V35=0,0,(V35*((LOG(V35))/LOG(2))))","v":0},null,{"$f":"N35","v":22211},{"$f":"COUNTIF(L31:L54,Y35)","v":0},{"$f":"Z35/(AB4-Z25)","v":0},{"$f":"IF(AA35=0,0,(AA35*((LOG(AA35))/LOG(2))))","v":0},null,{"$f":"N35","v":22211},{"$f":"COUNTIF(L55:L79,AD35)","v":0},{"$f":"AE35/(AG4-AE25)","v":0},{"$f":"IF(AF35=0,0,(AF35*((LOG(AF35))/LOG(2))))","v":0},null,{"$f":"N35","v":22211},{"$f":"COUNTIF(L80:L103,AI35)","v":0},{"$f":"AJ35/(AL4-AJ25)","v":0},{"$f":"IF(AK35=0,0,(AK35*((LOG(AK35))/LOG(2))))","v":0},null,{"$f":"N35","v":22211},{"$f":"COUNTIF(L104:L127,AN35)","v":0},{"$f":"AO35/(AQ4-AO25)","v":0},{"$f":"IF(AP35=0,0,(AP35*((LOG(AP35))/LOG(2))))","v":0},null,{"$f":"N35","v":22211},{"$f":"COUNTIF(L128:L151,AS35)","v":0},{"$f":"AT35/(AV4-AT25)","v":0},{"$f":"IF(AU35=0,0,(AU35*((LOG(AU35))/LOG(2))))","v":0}]
[21,4513,11,4521,22,4533,14,4548,24,4559,0,21212,null,22212,{"$f":"COUNTIF($L$7:$L$500,N36)","v":0},{"$f":"O36/$Q$4","v":0},{"$f":"IF(P36=0,0,(P36*((LOG(P36))/LOG(2))))","v":0},null,null,{"$f":"N36","v":22212},{"$f":"COUNTIF(L7:L30,T36)","v":0},{"$f":"U36/(W4-U25)","v":0},{"$f":"IF(V36=0,0,(V36*((LOG(V36))/LOG(2))))","v":0},null,{"$f":"N36","v":22212},{"$f":"COUNTIF(L31:L54,Y36)","v":0},{"$f":"Z36/(AB4-Z25)","v":0},{"$f":"IF(AA36=0,0,(AA36*((LOG(AA36))/LOG(2))))","v":0},null,{"$f":"N36","v":22212},{"$f":"COUNTIF(L55:L79,AD36)","v":0},{"$f":"AE36/(AG4-AE25)","v":0},{"$f":"IF(AF36=0,0,(AF36*((LOG(AF36))/LOG(2))))","v":0},null,{"$f":"N36","v":22212},{"$f":"COUNTIF(L80:L103,AI36)","v":0},{"$f":"AJ36/(AL4-AJ25)","v":0},{"$f":"IF(AK36=0,0,(AK36*((LOG(AK36))/LOG(2))))","v":0},null,{"$f":"N36","v":22212},{"$f":"COUNTIF(L104:L127,AN36)","v":0},{"$f":"AO36/(AQ4-AO25)","v":0},{"$f":"IF(AP36=0,0,(AP36*((LOG(AP36))/LOG(2))))","v":0},null,{"$f":"N36","v":22212},{"$f":"COUNTIF(L128:L151,AS36)","v":0},{"$f":"AT36/(AV4-AT25)","v":0},{"$f":"IF(AU36=0,0,(AU36*((LOG(AU36))/LOG(2))))","v":0}]
[21,4664,11,4672,22,4683,23,4693,13,4704,0,21221,null,22221,{"$f":"COUNTIF($L$7:$L$500,N37)","v":0},{"$f":"O37/$Q$4","v":0},{"$f":"IF(P37=0,0,(P37*((LOG(P37))/LOG(2))))","v":0},null,null,{"$f":"N37","v":22221},{"$f":"COUNTIF(L7:L30,T37)","v":0},{"$f":"U37/(W4-U25)","v":0},{"$f":"IF(V37=0,0,(V37*((LOG(V37))/LOG(2))))","v":0},null,{"$f":"N37","v":22221},{"$f":"COUNTIF(L31:L54,Y37)","v":0},{"$f":"Z37/(AB4-Z25)","v":0},{"$f":"IF(AA37=0,0,(AA37*((LOG(AA37))/LOG(2))))","v":0},null,{"$f":"N37","v":22221},{"$f":"COUNTIF(L55:L79,AD37)","v":0},{"$f":"AE37/(AG4-AE25)","v":0},{"$f":"IF(AF37=0,0,(AF37*((LOG(AF37))/LOG(2))))","v":0},null,{"$f":"N37","v":22221},{"$f":"COUNTIF(L80:L103,AI37)","v":0},{"$f":"AJ37/(AL4-AJ25)","v":0},{"$f":"IF(AK37=0,0,(AK37*((LOG(AK37))/LOG(2))))","v":0},null,{"$f":"N37","v":22221},{"$f":"COUNTIF(L104:L127,AN37)","v":0},{"$f":"AO37/(AQ4-AO25)","v":0},{"$f":"IF(AP37=0,0,(AP37*((LOG(AP37))/LOG(2))))","v":0},null,{"$f":"N37","v":22221},{"$f":"COUNTIF(L128:L151,AS37)","v":0},{"$f":"AT37/(AV4-AT25)","v":0},{"$f":"IF(AU37=0,0,(AU37*((LOG(AU37))/LOG(2))))","v":0}]
[12,4810,13,4818,24,4831,14,4841,24,4851,0,11212,null,22222,{"$f":"COUNTIF($L$7:$L$500,N38)","v":0},{"$f":"O38/$Q$4","v":0},{"$f":"IF(P38=0,0,(P38*((LOG(P38))/LOG(2))))","v":0},null,null,{"$f":"N38","v":22222},{"$f":"COUNTIF(L7:L30,T38)","v":0},{"$f":"U38/(W4-U25)","v":0},{"$f":"IF(V38=0,0,(V38*((LOG(V38))/LOG(2))))","v":0},null,{"$f":"N38","v":22222},{"$f":"COUNTIF(L31:L54,Y38)","v":0},{"$f":"Z38/(AB4-Z25)","v":0},{"$f":"IF(AA38=0,0,(AA38*((LOG(AA38))/LOG(2))))","v":0},null,{"$f":"N38","v":22222},{"$f":"COUNTIF(L55:L79,AD38)","v":0},{"$f":"AE38/(AG4-AE25)","v":0},{"$f":"IF(AF38=0,0,(AF38*((LOG(AF38))/LOG(2))))","v":0},null,{"$f":"N38","v":22222},{"$f":"COUNTIF(L80:L103,AI38)","v":0},{"$f":"AJ38/(AL4-AJ25)","v":0},{"$f":"IF(AK38=0,0,(AK38*((LOG(AK38))/LOG(2))))","v":0},null,{"$f":"N38","v":22222},{"$f":"COUNTIF(L104:L127,AN38)","v":0},{"$f":"AO38/(AQ4-AO25)","v":0},{"$f":"IF(AP38=0,0,(AP38*((LOG(AP38))/LOG(2))))","v":0},null,{"$f":"N38","v":22222},{"$f":"COUNTIF(L128:L151,AS38)","v":0},{"$f":"AT38/(AV4-AT25)","v":0},{"$f":"IF(AU38=0,0,(AU38*((LOG(AU38))/LOG(2))))","v":0}]
[21,4949,11,4956,11,4967,21,4980,22,4991,0,21122,null,null,null,{"$f":"SUM(P7:P38)","v":1},{"$f":"-SUM(Q7:Q38)","v":3.6862941213866049},null,null,null,null,{"$f":"SUM(V7:V38)","v":1},{"$f":"-SUM(W7:W38)","v":2.7013757559060485},null,null,null,{"$f":"SUM(AA7:AA38)","v":1},{"$f":"-SUM(AB7:AB38)","v":2.9232196723355077},null,null,null,{"$f":"SUM(AF7:AF38)","v":1},{"$f":"-SUM(AG7:AG38)","v":3.308751351247166},null,null,null,{"$f":"SUM(AK7:AK38)","v":1},{"$f":"-SUM(AL7:AL38)","v":2.0199730940219749},null,null,null,{"$f":"SUM(AP7:AP38)","v":0.99999999999999989},{"$f":"-SUM(AQ7:AQ38)","v":3.0060603254083382},null,null,null,{"$f":"SUM(AU7:AU38)","v":0.99999999999999978},{"$f":"-SUM(AV7:AV38)","v":2.965583935727782}]
[12,5089,13,5104,24,5114,14,5124,24,5136,0,11212,null,null,null,"U=",{"$f":"Q39/(LOG(Q4)/LOG(2))","v":0.51341793818993009},null,null,null,null,"U1=",{"$f":"W39/(LOG(W4)/LOG(2))","v":0.58918164662876882},null,null,null,"U2=",{"$f":"AB39/(LOG(AB4)/LOG(2))","v":0.63756675695291354},null,null,null,"U3=",{"$f":"AG39/(LOG(AG4)/LOG(2))","v":0.71250082173790885},null,null,null,"U4=",{"$f":"AL39/(LOG(AL4)/LOG(2))","v":0.44056480150148641},null,null,null,"U5=",{"$f":"AQ39/(LOG(AQ4)/LOG(2))","v":0.65563465893898221},null,null,null,"U6=",{"$f":"AV39/(LOG(AV4)/LOG(2))","v":0.64680658462557405}]
[12,5245,13,5252,13,5260,23,5272,13,5282,0,11121]
[12,5389,13,5396,24,5406,14,5416,24,5428,0,11212]
[21,5546,11,5560,11,5571,21,5583,11,5595,1,21121,null,"Total Target Seq"]
[12,5699,13,5714,24,5724,23,5745,13,5756,0,11221,null,{"$f":"COUNTIF(L7:L151,G3)","v":22},null,24,24,25,24,24,24]
[21,5858,11,5865,22,5876,14,5885,24,5893,0,21212,null,null,null,"% of reinforcement given in 6 equal intervals based on number of trials "]
[21,5998,11,6008,11,6016,21,6026,11,6035,1,21121,null,null,null,"%_1","%_2","%_3","%_4","%_5","%_6"]
[21,6163,22,6199,13,6212,23,6222,13,6231,0,22121,null,null,"target sequence",{"$f":"$G$3","v":21121},{"$f":"$G$3","v":21121},{"$f":"$G$3","v":21121},{"$f":"$G$3","v":21121},{"$f":"$G$3","v":21121},{"$f":"$G$3","v":21121}]
[12,6331,24,6346,13,6355,23,6363,13,6379,0,12121,null,null,"total reinforcement",{"$f":"U25","v":3},{"$f":"Z25","v":4},{"$f":"AE25","v":4},{"$f":"AJ25","v":4},{"$f":"AO25","v":2},{"$f":"AT25","v":5}]
[21,6484,11,6494,11,6501,21,6512,11,6525,1,21121,null,null,"% target"]
[21,6634,22,6649,13,6663,23,6674,24,6699,0,22122,null,null,"CCRF"]
[12,6800,13,6807,24,6818,23,6827,13,6843,0,11221,null,null,"% CCRf"]
[12,6947,13,6955,24,6969,14,6981,24,6993,0,11212,null,null,"average response rate",{"$f":"J30/P44","v":152.66666666666666},{"$f":"(J54-J30)/Q44","v":151.04166666666666},{"$f":"(J79-J54)/R44","v":157.80000000000001},{"$f":"(J103-J79)/S44","v":151.16666666666666},{"$f":"(J127-J103)/T44","v":210.66666666666666},{"$f":"(J151-J127)/U44","v":166.20833333333334}]
[12,7093,24,7104,13,7112,23,7124,24,7133,0,12122]
[12,7249,13,7255,24,7267,23,7279,13,7289,0,11221]
[12,7394,24,7407,13,7423,23,7434,13,7448,0,12121]
[21,7554,11,7563,22,7574,14,7582,24,7594,0,21212]
[21,7692,22,7696,13,7704,23,7716,13,7725,0,22121]
[12,7825,13,7836,24,7850,23,7858,13,7871,0,11221]
[21,7972,11,7981,11,7995,21,8006,22,8034,0,21122]
[12,8142,13,8151,24,8165,14,8174,24,8189,0,11212]
[12,8293,13,8303,24,8325,14,8340,24,8352,0,11212]
[21,8459,11,8467,11,8475,21,8485,22,8507,0,21122]
[12,8625,13,8633,24,8647,14,8656,13,8675,0,11211]
[21,8782,11,8791,11,8802,21,8813,11,8826,1,21121]
[21,8940,11,8954,22,8966,14,8984,24,8995,0,21212]
[21,9105,11,9113,22,9123,23,9140,24,9148,0,21222]
[21,9248,11,9256,11,9273,21,9285,11,9300,1,21121]
[21,9392,11,9399,11,9414,12,9422,24,9433,0,21112]
[21,9541,11,9549,22,9561,14,9578,24,9593,0,21212]
[12,9707,24,9721,13,9729,23,9740,24,9750,0,12122]
[12,9865,24,9883,13,9899,23,9911,24,9941,0,12122]
[21,10085,22,10097,13,10108,14,10132,24,10143,0,22112]
[12,10253,13,10278,24,10288,14,10305,13,10313,0,11211]
[21,10415,11,10423,11,10440,21,10450,11,10461,1,21121]
[12,10582,13,10593,24,10605,14,10617,24,10628,0,11212]
[21,10733,11,10741,11,10756,21,10766,11,10775,1,21121]
[21,10868,11,10882,22,10892,23,10903,24,10914,0,21222]
[12,11022,24,11034,13,11054,23,11065,13,11076,0,12121]
[21,11183,11,11191,22,11216,14,11224,24,11234,0,21212]
[21,11334,22,11343,13,11351,23,11360,13,11369,0,22121]
[21,11480,11,11502,22,11514,14,11524,24,11537,0,21212]
[21,11640,22,11652,13,11661,23,11673,13,11684,0,22121]
[21,11785,11,11793,22,11809,14,11822,24,11833,0,21212]
[21,11951,11,11960,22,11971,14,11979,24,11996,0,21212]
[21,12098,11,12107,22,12117,14,12127,24,12139,0,21212]
[21,12238,11,12246,11,12257,21,12268,11,12281,1,21121]
[21,12372,11,12381,22,12391,23,12400,13,12418,0,21221]
[21,12524,11,12532,22,12542,14,12556,24,12566,0,21212]
[21,12677,11,12686,22,12699,14,12711,13,12748,0,21211]
[21,12847,22,12857,13,12870,23,12880,13,12891,0,22121]
[21,12997,11,13006,22,13016,23,13041,13,13052,0,21221]
[21,13157,11,13169,22,13180,14,13188,24,13199,0,21212]
[21,13298,11,13307,11,13315,21,13323,11,13336,1,21121]
[21,13441,11,13451,22,13462,14,13470,24,13483,0,21212]
[21,13592,11,13600,22,13610,23,13621,13,13632,0,21221]
[12,13742,13,13752,24,13763,14,13772,24,13784,0,11212]
[21,13884,11,13892,11,13906,21,13922,11,13942,1,21121]
[21,14043,11,14052,22,14063,14,14079,24,14090,0,21212]
[21,14195,11,14204,22,14215,23,14223,13,14237,0,21221]
[21,14341,11,14350,22,14359,14,14369,13,14392,0,21211]
[21,14493,11,14507,11,14528,21,14537,11,14550,1,21121]
[21,14667,11,14684,22,14695,14,14706,13,14710,0,21211]
[21,14817,11,14827,22,14839,14,14851,24,14862,0,21212]
[12,14990,24,15001,13,15012,23,15021,13,15042,0,12121]
[12,15152,13,15163,24,15178,14,15190,24,15206,0,11212]
[12,15320,13,15332,24,15346,14,15355,24,15372,0,11212]
[12,15476,13,15483,13,15491,23,15503,13,15514,0,11121]
[21,15618,11,15625,22,15636,14,15657,24,15669,0,21212]
[12,15771,13,15782,24,15793,14,15802,24,15813,0,11212]
[21,15916,11,15924,22,15935,14,15946,13,15962,0,21211]
[12,16069,13,16105,24,16118,14,16128,24,16148,0,11212]
[21,16255,11,16264,22,16274,14,16285,24,16298,0,21212]
[12,16402,13,16412,13,16427,14,16441,24,16453,0,11112]
[12,16557,13,16574,24,16585,23,16608,13,16619,0,11221]
[12,16733,13,16741,24,16752,14,16764,24,16775,0,11212]
[12,16878,13,16894,24,16926,14,16946,13,16972,0,11211]
[21,17072,11,17080,11,17090,21,17102,11,17114,1,21121]
[12,17264,24,17274,13,17282,23,17291,13,17305,0,12121]
[21,17415,11,17423,22,17439,14,17457,24,17467,0,21212]
[12,17611,24,17628,13,17643,14,17655,24,17666,0,12112]
[12,17778,13,17789,13,17827,23,17843,13,17854,0,11121]
[12,17967,13,17985,13,18108,14,18117,13,18203,0,11111]
[12,18363,13,18373,13,18392,14,18427,13,18441,0,11111]
[12,18577,13,18586,13,18600,14,18621,13,18629,0,11111]
[12,18757,13,18767,13,18775,14,18788,13,18798,0,11111]
[12,18961,13,18973,13,18996,14,19011,13,19028,0,11111]
[21,19828,11,19850,11,19889,21,19906,11,19918,1,21121]
[12,20096,24,20115,13,20138,23,20152,13,20167,0,12121]
[21,20274,11,20293,11,20306,21,20318,11,20327,1,21121]
[21,20433,11,20441,11,20454,12,20461,24,20470,0,21112]
[21,20583,11,20591,11,20604,12,20626,13,20651,0,21111]
[21,20752,11,20760,11,20771,21,20786,11,20797,1,21121]
[21,20894,11,20903,22,20914,14,20926,24,20938,0,21212]
[21,21043,11,21052,11,21063,21,21078,11,21087,1,21121]
[21,21189,22,21202,13,21210,14,21223,24,21234,0,22112]
[21,21346,11,21354,22,21365,14,21381,24,21393,0,21212]
[12,21514,24,21524,13,21543,23,21554,13,21565,0,12121]
[12,21668,13,21675,13,21687,23,21702,13,21716,0,11121]
[12,21848,24,21863,24,21888,14,21898,24,21915,0,12212]
[12,22016,13,22029,13,22058,23,22069,13,22083,0,11121]
[12,22199,13,22209,13,22221,23,22236,13,22248,0,11121]
[21,22354,22,22384,13,22399,23,22411,13,22422,0,22121]
[12,22524,24,22545,13,22554,23,22568,13,22581,0,12121]
[21,22686,11,22695,22,22706,14,22718,24,22729,0,21212]
[12,22831,13,22840,13,22851,14,22862,13,22888,0,11111]
[12,23000,13,23020,13,23039,23,23051,13,23069,0,11121]
[21,23222,11,23240,22,23253,14,23266,24,23284,0,21212]
[21,23384,11,23392,11,23405,21,23420,11,23431,1,21121]
[21,23546,11,23560,11,23579,21,23591,11,23603,1,21121]
[12,23709,13,23724,24,23736,14,23747,24,23759,0,11212]
[21,23865,11,23879,22,23887,14,23898,24,23907,0,21212]

{"sheet":"!MA21A00.010","index":24,"n_rows":139,"n_cols":48,"rows_kept":139,"cut":false,"hidden":false,"merged":[[4,39,4,42],[5,39,5,40],[4,44,4,47],[5,44,5,45],[4,24,4,27],[5,24,5,25],[4,29,4,32],[5,29,5,30],[4,34,4,37],[5,34,5,35],[1,1,1,2],[5,13,5,14],[42,13,42,14],[43,13,43,14],[4,19,4,22],[5,19,5,20]]}
["Report for:!MA21A00.010"]
["Date:","<date>"]
["Hen:","<hen>",null,null,null,"Correct Sequence",{"$f":"Start!J2","v":21121},null,null,null,null,null,null,null,null,"Total Sequences in Data",{"$f":"4994-COUNTBLANK(L7:L5000)","v":133},null,null,null,null,"Total Sequences in Block Data",{"$f":"COUNTA(L7:L28)","v":22},null,null,null,"Total Sequences in Block Data",{"$f":"COUNTA(L29:L50)","v":22},null,null,null,"Total Sequences in Block Data",{"$f":"COUNTA(L51:L73)","v":23},null,null,null,"Total Sequences in Block Data",{"$f":"COUNTA(L74:L95)","v":22},null,null,null,"Total Sequences in Block Data",{"$f":"COUNTA(L96:L117)","v":22},null,null,null,"Total Sequences in Block Data",{"$f":"COUNTA(L118:L139)","v":22}]
[null,null,null,null,null,null,null,null,null,null,null,null,null,null,null,"Total Sequences in Summary",{"$f":"SUM(O7:O38)","v":132},null,null,null,null,"Total Sequences in Block Summary",{"$f":"SUM(U7:U38)","v":22},null,null,null,"Total Sequences in Block Summary",{"$f":"SUM(Z7:Z38)","v":22},null,null,null,"Total Sequences in Block Summary",{"$f":"SUM(AE7:AE38)","v":23},null,null,null,"Total Sequences in Block Summary",{"$f":"SUM(AJ7:AJ38)","v":22},null,null,null,"Total Sequences in Block Summary",{"$f":"SUM(AO7:AO38)","v":22},null,null,null,"Total Sequences in Block Summary",{"$f":"SUM(AT7:AT38)","v":21}]
[null,null,null,null,null,null,null,null,null,null,null,null,null,null,null,null,null,null,null,"Block 1",null,null,null,null,"Block 2",null,null,null,null,"Block 3",null,null,null,null,"Block 4",null,null,null,null,"Block 5",null,null,null,null,"Block 6"]
["Sequence\nComponent\n1","Time\n1","Sequence\nComponent\n2","Time\n2","Sequence\nComponent\n3","Time\n3","Sequence\nComponent\n4","Time\n4","Sequence\nComponent\n5","Time\n5","Correct?\n0=No 1=Yes","Sequence",null,"Frequency",null,"Relative Frequency","Variability",null,null,"Frequency",null,"Relative Frequency","Variability",null,"Frequency",null,"Relative Frequency","Variability",null,"Frequency",null,"Relative Frequency","Variability",null,"Frequency",null,"Relative Frequency","Variability",null,"Frequency",null,"Relative Frequency","Variability",null,"Frequency",null,"Relative Frequency","Variability"]
[21,57,22,82,24,99,14,186,24,198,0,22212,null,11111,{"$f":"COUNTIF($L$7:$L$500,N7)","v":0},{"$f":"O7/$Q$4","v":0},{"$f":"IF(P7=0,0,(P7*((LOG(P7))/LOG(2))))","v":0},null,null,{"$f":"N7","v":11111},{"$f":"COUNTIF(L7:L28,T7)","v":0},{"$f":"U7/(W4-U25)","v":0},{"$f":"IF(V7=0,0,(V7*((LOG(V7))/LOG(2))))","v":0},null,{"$f":"N7","v":11111},{"$f":"COUNTIF(L29:L50,Y7)","v":0},{"$f":"Z7/(AB4-Z25)","v":0},{"$f":"IF(AA7=0,0,(AA7*((LOG(AA7))/LOG(2))))","v":0},null,{"$f":"N7","v":11111},{"$f":"COUNTIF(L51:L73,AD7)","v":0},{"$f":"AE7/(AG4-AE25)","v":0},{"$f":"IF(AF7=0,0,(AF7*((LOG(AF7))/LOG(2))))","v":0},null,{"$f":"N7","v":11111},{"$f":"COUNTIF(L74:L95,AI7)","v":0},{"$f":"AJ7/(AL4-AJ25)","v":0},{"$f":"IF(AK7=0,0,(AK7*((LOG(AK7))/LOG(2))))","v":0},null,{"$f":"N7","v":11111},{"$f":"COUNTIF(L96:L117,AN7)","v":0},{"$f":"AO7/(AQ4-AO25)","v":0},{"$f":"IF(AP7=0,0,(AP7*((LOG(AP7))/LOG(2))))","v":0},null,{"$f":"N7","v":11111},{"$f":"COUNTIF(L118:L139,AS7)","v":0},{"$f":"AT7/(AV4-AT25)","v":0},{"$f":"IF(AU7=0,0,(AU7*((LOG(AU7))/LOG(2))))","v":0}]
[12,315,24,326,13,337,23,354,13,365,0,12121,null,11112,{"$f":"COUNTIF($L$7:$L$500,N8)","v":6},{"$f":"O8/$Q$4","v":4.5454545454545456E-2},{"$f":"IF(P8=0,0,(P8*((LOG(P8))/LOG(2))))","v":-0.20270143721078623},null,null,{"$f":"N8","v":11112},{"$f":"COUNTIF(L7:L28,T8)","v":0},{"$f":"U8/(W4-U25)","v":0},{"$f":"IF(V8=0,0,(V8*((LOG(V8))/LOG(2))))","v":0},null,{"$f":"N8","v":11112},{"$f":"COUNTIF(L29:L50,Y8)","v":1},{"$f":"Z8/(AB4-Z25)","v":5.5555555555555552E-2},{"$f":"IF(AA8=0,0,(AA8*((LOG(AA8))/LOG(2))))","v":-0.23166250008012845},null,{"$f":"N8","v":11112},{"$f":"COUNTIF(L51:L73,AD8)","v":3},{"$f":"AE8/(AG4-AE25)","v":0.17647058823529413},{"$f":"IF(AF8=0,0,(AF8*((LOG(AF8))/LOG(2))))","v":-0.44161770715220888},null,{"$f":"N8","v":11112},{"$f":"COUNTIF(L74:L95,AI8)","v":1},{"$f":"AJ8/(AL4-AJ25)","v":5.5555555555555552E-2},{"$f":"IF(AK8=0,0,(AK8*((LOG(AK8))/LOG(2))))","v":-0.23166250008012845},null,{"$f":"N8","v":11112},{"$f":"COUNTIF(L96:L117,AN8)","v":1},{"$f":"AO8/(AQ4-AO25)","v":4.7619047619047616E-2},{"$f":"IF(AP8=0,0,(AP8*((LOG(AP8))/LOG(2))))","v":-0.20915797251327431},null,{"$f":"N8","v":11112},{"$f":"COUNTIF(L118:L139,AS8)","v":0},{"$f":"AT8/(AV4-AT25)","v":0},{"$f":"IF(AU8=0,0,(AU8*((LOG(AU8))/LOG(2))))","v":0}]
[21,473,11,482,22,497,14,512,24,524,0,21212,null,11121,{"$f":"COUNTIF($L$7:$L$500,N9)","v":2},{"$f":"O9/$Q$4","v":1.5151515151515152E-2},{"$f":"IF(P9=0,0,(P9*((LOG(P9))/LOG(2))))","v":-9.1581729081188695E-2},null,null,{"$f":"N9","v":11121},{"$f":"COUNTIF(L7:L28,T9)","v":0},{"$f":"U9/(W4-U25)","v":0},{"$f":"IF(V9=0,0,(V9*((LOG(V9))/LOG(2))))","v":0},null,{"$f":"N9","v":11121},{"$f":"COUNTIF(L29:L50,Y9)","v":2},{"$f":"Z9/(AB4-Z25)","v":0.1111111111111111},{"$f":"IF(AA9=0,0,(AA9*((LOG(AA9))/LOG(2))))","v":-0.3522138890491458},null,{"$f":"N9","v":11121},{"$f":"COUNTIF(L51:L73,AD9)","v":0},{"$f":"AE9/(AG4-AE25)","v":0},{"$f":"IF(AF9=0,0,(AF9*((LOG(AF9))/LOG(2))))","v":0},null,{"$f":"N9","v":11121},{"$f":"COUNTIF(L74:L95,AI9)","v":0},{"$f":"AJ9/(AL4-AJ25)","v":0},{"$f":"IF(AK9=0,0,(AK9*((LOG(AK9))/LOG(2))))","v":0},null,{"$f":"N9","v":11121},{"$f":"COUNTIF(L96:L117,AN9)","v":0},{"$f":"AO9/(AQ4-AO25)","v":0},{"$f":"IF(AP9=0,0,(AP9*((LOG(AP9))/LOG(2))))","v":0},null,{"$f":"N9","v":11121},{"$f":"COUNTIF(L118:L139,AS9)","v":0},{"$f":"AT9/(AV4-AT25)","v":0},{"$f":"IF(AU9=0,0,(AU9*((LOG(AU9))/LOG(2))))","v":0}]
[21,638,11,648,22,661,14,679,13,694,0,21211,null,11122,{"$f":"COUNTIF($L$7:$L$500,N10)","v":1},{"$f":"O10/$Q$4","v":7.575757575757576E-3},{"$f":"IF(P10=0,0,(P10*((LOG(P10))/LOG(2))))","v":-5.3366622116351931E-2},null,null,{"$f":"N10","v":11122},{"$f":"COUNTIF(L7:L28,T10)","v":0},{"$f":"U10/(W4-U25)","v":0},{"$f":"IF(V10=0,0,(V10*((LOG(V10))/LOG(2))))","v":0},null,{"$f":"N10","v":11122},{"$f":"COUNTIF(L29:L50,Y10)","v":1},{"$f":"Z10/(AB4-Z25)","v":5.5555555555555552E-2},{"$f":"IF(AA10=0,0,(AA10*((LOG(AA10))/LOG(2))))","v":-0.23166250008012845},null,{"$f":"N10","v":11122},{"$f":"COUNTIF(L51:L73,AD10)","v":0},{"$f":"AE10/(AG4-AE25)","v":0},{"$f":"IF(AF10=0,0,(AF10*((LOG(AF10))/LOG(2))))","v":0},null,{"$f":"N10","v":11122},{"$f":"COUNTIF(L74:L95,AI10)","v":0},{"$f":"AJ10/(AL4-AJ25)","v":0},{"$f":"IF(AK10=0,0,(AK10*((LOG(AK10))/LOG(2))))","v":0},null,{"$f":"N10","v":11122},{"$f":"COUNTIF(L96:L117,AN10)","v":0},{"$f":"AO10/(AQ4-AO25)","v":0},{"$f":"IF(AP10=0,0,(AP10*((LOG(AP10))/LOG(2))))","v":0},null,{"$f":"N10","v":11122},{"$f":"COUNTIF(L118:L139,AS10)","v":0},{"$f":"AT10/(AV4-AT25)","v":0},{"$f":"IF(AU10=0,0,(AU10*((LOG(AU10))/LOG(2))))","v":0}]
[21,794,22,801,13,811,14,823,24,841,0,22112,null,11211,{"$f":"COUNTIF($L$7:$L$500,N11)","v":3},{"$f":"O11/$Q$4","v":2.2727272727272728E-2},{"$f":"IF(P11=0,0,(P11*((LOG(P11))/LOG(2))))","v":-0.12407799133266585},null,null,{"$f":"N11","v":11211},{"$f":"COUNTIF(L7:L28,T11)","v":0},{"$f":"U11/(W4-U25)","v":0},{"$f":"IF(V11=0,0,(V11*((LOG(V11))/LOG(2))))","v":0},null,{"$f":"N11","v":11211},{"$f":"COUNTIF(L29:L50,Y11)","v":1},{"$f":"Z11/(AB4-Z25)","v":5.5555555555555552E-2},{"$f":"IF(AA11=0,0,(AA11*((LOG(AA11))/LOG(2))))","v":-0.23166250008012845},null,{"$f":"N11","v":11211},{"$f":"COUNTIF(L51:L73,AD11)","v":1},{"$f":"AE11/(AG4-AE25)","v":5.8823529411764705E-2},{"$f":"IF(AF11=0,0,(AF11*((LOG(AF11))/LOG(2))))","v":-0.24043899066178465},null,{"$f":"N11","v":11211},{"$f":"COUNTIF(L74:L95,AI11)","v":1},{"$f":"AJ11/(AL4-AJ25)","v":5.5555555555555552E-2},{"$f":"IF(AK11=0,0,(AK11*((LOG(AK11))/LOG(2))))","v":-0.23166250008012845},null,{"$f":"N11","v":11211},{"$f":"COUNTIF(L96:L117,AN11)","v":0},{"$f":"AO11/(AQ4-AO25)","v":0},{"$f":"IF(AP11=0,0,(AP11*((LOG(AP11))/LOG(2))))","v":0},null,{"$f":"N11","v":11211},{"$f":"COUNTIF(L118:L139,AS11)","v":0},{"$f":"AT11/(AV4-AT25)","v":0},{"$f":"IF(AU11=0,0,(AU11*((LOG(AU11))/LOG(2))))","v":0}]
[21,946,11,956,11,963,12,975,24,998,0,21112,null,11212,{"$f":"COUNTIF($L$7:$L$500,N12)","v":7},{"$f":"O12/$Q$4","v":5.3030303030303032E-2},{"$f":"IF(P12=0,0,(P12*((LOG(P12))/LOG(2))))","v":-0.22469147258413597},null,null,{"$f":"N12","v":11212},{"$f":"COUNTIF(L7:L28,T12)","v":1},{"$f":"U12/(W4-U25)","v":5.2631578947368418E-2},{"$f":"IF(V12=0,0,(V12*((LOG(V12))/LOG(2))))","v":-0.22357513228650452},null,{"$f":"N12","v":11212},{"$f":"COUNTIF(L29:L50,Y12)","v":2},{"$f":"Z12/(AB4-Z25)","v":0.1111111111111111},{"$f":"IF(AA12=0,0,(AA12*((LOG(AA12))/LOG(2))))","v":-0.3522138890491458},null,{"$f":"N12","v":11212},{"$f":"COUNTIF(L51:L73,AD12)","v":0},{"$f":"AE12/(AG4-AE25)","v":0},{"$f":"IF(AF12=0,0,(AF12*((LOG(AF12))/LOG(2))))","v":0},null,{"$f":"N12","v":11212},{"$f":"COUNTIF(L74:L95,AI12)","v":0},{"$f":"AJ12/(AL4-AJ25)","v":0},{"$f":"IF(AK12=0,0,(AK12*((LOG(AK12))/LOG(2))))","v":0},null,{"$f":"N12","v":11212},{"$f":"COUNTIF(L96:L117,AN12)","v":3},{"$f":"AO12/(AQ4-AO25)","v":0.14285714285714285},{"$f":"IF(AP12=0,0,(AP12*((LOG(AP12))/LOG(2))))","v":-0.40105070315108626},null,{"$f":"N12","v":11212},{"$f":"COUNTIF(L118:L139,AS12)","v":1},{"$f":"AT12/(AV4-AT25)","v":5.5555555555555552E-2},{"$f":"IF(AU12=0,0,(AU12*((LOG(AU12))/LOG(2))))","v":-0.23166250008012845}]
[21,1107,11,1115,22,1131,14,1141,24,1153,0,21212,null,11221,{"$f":"COUNTIF($L$7:$L$500,N13)","v":1},{"$f":"O13/$Q$4","v":7.575757575757576E-3},{"$f":"IF(P13=0,0,(P13*((LOG(P13))/LOG(2))))","v":-5.3366622116351931E-2},null,null,{"$f":"N13","v":11221},{"$f":"COUNTIF(L7:L28,T13)","v":0},{"$f":"U13/(W4-U25)","v":0},{"$f":"IF(V13=0,0,(V13*((LOG(V13))/LOG(2))))","v":0},null,{"$f":"N13","v":11221},{"$f":"COUNTIF(L29:L50,Y13)","v":1},{"$f":"Z13/(AB4-Z25)","v":5.5555555555555552E-2},{"$f":"IF(AA13=0,0,(AA13*((LOG(AA13))/LOG(2))))","v":-0.23166250008012845},null,{"$f":"N13","v":11221},{"$f":"COUNTIF(L51:L73,AD13)","v":0},{"$f":"AE13/(AG4-AE25)","v":0},{"$f":"IF(AF13=0,0,(AF13*((LOG(AF13))/LOG(2))))","v":0},null,{"$f":"N13","v":11221},{"$f":"COUNTIF(L74:L95,AI13)","v":0},{"$f":"AJ13/(AL4-AJ25)","v":0},{"$f":"IF(AK13=0,0,(AK13*((LOG(AK13))/LOG(2))))","v":0},null,{"$f":"N13","v":11221},{"$f":"COUNTIF(L96:L117,AN13)","v":0},{"$f":"AO13/(AQ4-AO25)","v":0},{"$f":"IF(AP13=0,0,(AP13*((LOG(AP13))/LOG(2))))","v":0},null,{"$f":"N13","v":11221},{"$f":"COUNTIF(L118:L139,AS13)","v":0},{"$f":"AT13/(AV4-AT25)","v":0},{"$f":"IF(AU13=0,0,(AU13*((LOG(AU13))/LOG(2))))","v":0}]
[21,1254,11,1274,22,1286,14,1307,24,1321,0,21212,null,11222,{"$f":"COUNTIF($L$7:$L$500,N14)","v":1},{"$f":"O14/$Q$4","v":7.575757575757576E-3},{"$f":"IF(P14=0,0,(P14*((LOG(P14))/LOG(2))))","v":-5.3366622116351931E-2},null,null,{"$f":"N14","v":11222},{"$f":"COUNTIF(L7:L28,T14)","v":0},{"$f":"U14/(W4-U25)","v":0},{"$f":"IF(V14=0,0,(V14*((LOG(V14))/LOG(2))))","v":0},null,{"$f":"N14","v":11222},{"$f":"COUNTIF(L29:L50,Y14)","v":0},{"$f":"Z14/(AB4-Z25)","v":0},{"$f":"IF(AA14=0,0,(AA14*((LOG(AA14))/LOG(2))))","v":0},null,{"$f":"N14","v":11222},{"$f":"COUNTIF(L51:L73,AD14)","v":0},{"$f":"AE14/(AG4-AE25)","v":0},{"$f":"IF(AF14=0,0,(AF14*((LOG(AF14))/LOG(2))))","v":0},null,{"$f":"N14","v":11222},{"$f":"COUNTIF(L74:L95,AI14)","v":1},{"$f":"AJ14/(AL4-AJ25)","v":5.5555555555555552E-2},{"$f":"IF(AK14=0,0,(AK14*((LOG(AK14))/LOG(2))))","v":-0.23166250008012845},null,{"$f":"N14","v":11222},{"$f":"COUNTIF(L96:L117,AN14)","v":0},{"$f":"AO14/(AQ4-AO25)","v":0},{"$f":"IF(AP14=0,0,(AP14*((LOG(AP14))/LOG(2))))","v":0},null,{"$f":"N14","v":11222},{"$f":"COUNTIF(L118:L139,AS14)","v":0},{"$f":"AT14/(AV4-AT25)","v":0},{"$f":"IF(AU14=0,0,(AU14*((LOG(AU14))/LOG(2))))","v":0}]
[21,1421,11,1429,11,1438,21,1450,11,1472,1,21121,null,12111,{"$f":"COUNTIF($L$7:$L$500,N15)","v":0},{"$f":"O15/$Q$4","v":0},{"$f":"IF(P15=0,0,(P15*((LOG(P15))/LOG(2))))","v":0},null,null,{"$f":"N15","v":12111},{"$f":"COUNTIF(L7:L28,T15)","v":0},{"$f":"U15/(W4-U25)","v":0},{"$f":"IF(V15=0,0,(V15*((LOG(V15))/LOG(2))))","v":0},null,{"$f":"N15","v":12111},{"$f":"COUNTIF(L29:L50,Y15)","v":0},{"$f":"Z15/(AB4-Z25)","v":0},{"$f":"IF(AA15=0,0,(AA15*((LOG(AA15))/LOG(2))))","v":0},null,{"$f":"N15","v":12111},{"$f":"COUNTIF(L51:L73,AD15)","v":0},{"$f":"AE15/(AG4-AE25)","v":0},{"$f":"IF(AF15=0,0,(AF15*((LOG(AF15))/LOG(2))))","v":0},null,{"$f":"N15","v":12111},{"$f":"COUNTIF(L74:L95,AI15)","v":0},{"$f":"AJ15/(AL4-AJ25)","v":0},{"$f":"IF(AK15=0,0,(AK15*((LOG(AK15))/LOG(2))))","v":0},null,{"$f":"N15","v":12111},{"$f":"COUNTIF(L96:L117,AN15)","v":0},{"$f":"AO15/(AQ4-AO25)","v":0},{"$f":"IF(AP15=0,0,(AP15*((LOG(AP15))/LOG(2))))","v":0},null,{"$f":"N15","v":12111},{"$f":"COUNTIF(L118:L139,AS15)","v":0},{"$f":"AT15/(AV4-AT25)","v":0},{"$f":"IF(AU15=0,0,(AU15*((LOG(AU15))/LOG(2))))","v":0}]
[21,1582,11,1598,22,1609,23,1638,24,1659,0,21222,null,12112,{"$f":"COUNTIF($L$7:$L$500,N16)","v":3},{"$f":"O16/$Q$4","v":2.2727272727272728E-2},{"$f":"IF(P16=0,0,(P16*((LOG(P16))/LOG(2))))","v":-0.12407799133266585},null,null,{"$f":"N16","v":12112},{"$f":"COUNTIF(L7:L28,T16)","v":0},{"$f":"U16/(W4-U25)","v":0},{"$f":"IF(V16=0,0,(V16*((LOG(V16))/LOG(2))))","v":0},null,{"$f":"N16","v":12112},{"$f":"COUNTIF(L29:L50,Y16)","v":0},{"$f":"Z16/(AB4-Z25)","v":0},{"$f":"IF(AA16=0,0,(AA16*((LOG(AA16))/LOG(2))))","v":0},null,{"$f":"N16","v":12112},{"$f":"COUNTIF(L51:L73,AD16)","v":0},{"$f":"AE16/(AG4-AE25)","v":0},{"$f":"IF(AF16=0,0,(AF16*((LOG(AF16))/LOG(2))))","v":0},null,{"$f":"N16","v":12112},{"$f":"COUNTIF(L74:L95,AI16)","v":1},{"$f":"AJ16/(AL4-AJ25)","v":5.5555555555555552E-2},{"$f":"IF(AK16=0,0,(AK16*((LOG(AK16))/LOG(2))))","v":-0.23166250008012845},null,{"$f":"N16","v":12112},{"$f":"COUNTIF(L96:L117,AN16)","v":1},{"$f":"AO16/(AQ4-AO25)","v":4.7619047619047616E-2},{"$f":"IF(AP16=0,0,(AP16*((LOG(AP16))/LOG(2))))","v":-0.20915797251327431},null,{"$f":"N16","v":12112},{"$f":"COUNTIF(L118:L139,AS16)","v":1},{"$f":"AT16/(AV4-AT25)","v":5.5555555555555552E-2},{"$f":"IF(AU16=0,0,(AU16*((LOG(AU16))/LOG(2))))","v":-0.23166250008012845}]
[21,1764,11,1773,11,1781,12,1816,13,1829,0,21111,null,12121,{"$f":"COUNTIF($L$7:$L$500,N17)","v":5},{"$f":"O17/$Q$4","v":3.787878787878788E-2},{"$f":"IF(P17=0,0,(P17*((LOG(P17))/LOG(2))))","v":-0.17888128880572313},null,null,{"$f":"N17","v":12121},{"$f":"COUNTIF(L7:L28,T17)","v":2},{"$f":"U17/(W4-U25)","v":0.10526315789473684},{"$f":"IF(V17=0,0,(V17*((LOG(V17))/LOG(2))))","v":-0.34188710667827216},null,{"$f":"N17","v":12121},{"$f":"COUNTIF(L29:L50,Y17)","v":1},{"$f":"Z17/(AB4-Z25)","v":5.5555555555555552E-2},{"$f":"IF(AA17=0,0,(AA17*((LOG(AA17))/LOG(2))))","v":-0.23166250008012845},null,{"$f":"N17","v":12121},{"$f":"COUNTIF(L51:L73,AD17)","v":0},{"$f":"AE17/(AG4-AE25)","v":0},{"$f":"IF(AF17=0,0,(AF17*((LOG(AF17))/LOG(2))))","v":0},null,{"$f":"N17","v":12121},{"$f":"COUNTIF(L74:L95,AI17)","v":1},{"$f":"AJ17/(AL4-AJ25)","v":5.5555555555555552E-2},{"$f":"IF(AK17=0,0,(AK17*((LOG(AK17))/LOG(2))))","v":-0.23166250008012845},null,{"$f":"N17","v":12121},{"$f":"COUNTIF(L96:L117,AN17)","v":1},{"$f":"AO17/(AQ4-AO25)","v":4.7619047619047616E-2},{"$f":"IF(AP17=0,0,(AP17*((LOG(AP17))/LOG(2))))","v":-0.20915797251327431},null,{"$f":"N17","v":12121},{"$f":"COUNTIF(L118:L139,AS17)","v":0},{"$f":"AT17/(AV4-AT25)","v":0},{"$f":"IF(AU17=0,0,(AU17*((LOG(AU17))/LOG(2))))","v":0}]
[21,1942,11,1951,11,1963,12,1971,24,1983,0,21112,null,12122,{"$f":"COUNTIF($L$7:$L$500,N18)","v":2},{"$f":"O18/$Q$4","v":1.5151515151515152E-2},{"$f":"IF(P18=0,0,(P18*((LOG(P18))/LOG(2))))","v":-9.1581729081188695E-2},null,null,{"$f":"N18","v":12122},{"$f":"COUNTIF(L7:L28,T18)","v":0},{"$f":"U18/(W4-U25)","v":0},{"$f":"IF(V18=0,0,(V18*((LOG(V18))/LOG(2))))","v":0},null,{"$f":"N18","v":12122},{"$f":"COUNTIF(L29:L50,Y18)","v":0},{"$f":"Z18/(AB4-Z25)","v":0},{"$f":"IF(AA18=0,0,(AA18*((LOG(AA18))/LOG(2))))","v":0},null,{"$f":"N18","v":12122},{"$f":"COUNTIF(L51:L73,AD18)","v":0},{"$f":"AE18/(AG4-AE25)","v":0},{"$f":"IF(AF18=0,0,(AF18*((LOG(AF18))/LOG(2))))","v":0},null,{"$f":"N18","v":12122},{"$f":"COUNTIF(L74:L95,AI18)","v":0},{"$f":"AJ18/(AL4-AJ25)","v":0},{"$f":"IF(AK18=0,0,(AK18*((LOG(AK18))/LOG(2))))","v":0},null,{"$f":"N18","v":12122},{"$f":"COUNTIF(L96:L117,AN18)","v":2},{"$f":"AO18/(AQ4-AO25)","v":9.5238095238095233E-2},{"$f":"IF(AP18=0,0,(AP18*((LOG(AP18))/LOG(2))))","v":-0.32307784978845333},null,{"$f":"N18","v":12122},{"$f":"COUNTIF(L118:L139,AS18)","v":0},{"$f":"AT18/(AV4-AT25)","v":0},{"$f":"IF(AU18=0,0,(AU18*((LOG(AU18))/LOG(2))))","v":0}]
[21,2128,22,2147,24,2181,23,2209,13,2218,0,22221,null,12211,{"$f":"COUNTIF($L$7:$L$500,N19)","v":0},{"$f":"O19/$Q$4","v":0},{"$f":"IF(P19=0,0,(P19*((LOG(P19))/LOG(2))))","v":0},null,null,{"$f":"N19","v":12211},{"$f":"COUNTIF(L7:L28,T19)","v":0},{"$f":"U19/(W4-U25)","v":0},{"$f":"IF(V19=0,0,(V19*((LOG(V19))/LOG(2))))","v":0},null,{"$f":"N19","v":12211},{"$f":"COUNTIF(L29:L50,Y19)","v":0},{"$f":"Z19/(AB4-Z25)","v":0},{"$f":"IF(AA19=0,0,(AA19*((LOG(AA19))/LOG(2))))","v":0},null,{"$f":"N19","v":12211},{"$f":"COUNTIF(L51:L73,AD19)","v":0},{"$f":"AE19/(AG4-AE25)","v":0},{"$f":"IF(AF19=0,0,(AF19*((LOG(AF19))/LOG(2))))","v":0},null,{"$f":"N19","v":12211},{"$f":"COUNTIF(L74:L95,AI19)","v":0},{"$f":"AJ19/(AL4-AJ25)","v":0},{"$f":"IF(AK19=0,0,(AK19*((LOG(AK19))/LOG(2))))","v":0},null,{"$f":"N19","v":12211},{"$f":"COUNTIF(L96:L117,AN19)","v":0},{"$f":"AO19/(AQ4-AO25)","v":0},{"$f":"IF(AP19=0,0,(AP19*((LOG(AP19))/LOG(2))))","v":0},null,{"$f":"N19","v":12211},{"$f":"COUNTIF(L118:L139,AS19)","v":0},{"$f":"AT19/(AV4-AT25)","v":0},{"$f":"IF(AU19=0,0,(AU19*((LOG(AU19))/LOG(2))))","v":0}]
[12,2344,24,2357,13,2369,23,2381,13,2392,0,12121,null,12212,{"$f":"COUNTIF($L$7:$L$500,N20)","v":0},{"$f":"O20/$Q$4","v":0},{"$f":"IF(P20=0,0,(P20*((LOG(P20))/LOG(2))))","v":0},null,null,{"$f":"N20","v":12212},{"$f":"COUNTIF(L7:L28,T20)","v":0},{"$f":"U20/(W4-U25)","v":0},{"$f":"IF(V20=0,0,(V20*((LOG(V20))/LOG(2))))","v":0},null,{"$f":"N20","v":12212},{"$f":"COUNTIF(L29:L50,Y20)","v":0},{"$f":"Z20/(AB4-Z25)","v":0},{"$f":"IF(AA20=0,0,(AA20*((LOG(AA20))/LOG(2))))","v":0},null,{"$f":"N20","v":12212},{"$f":"COUNTIF(L51:L73,AD20)","v":0},{"$f":"AE20/(AG4-AE25)","v":0},{"$f":"IF(AF20=0,0,(AF20*((LOG(AF20))/LOG(2))))","v":0},null,{"$f":"N20","v":12212},{"$f":"COUNTIF(L74:L95,AI20)","v":0},{"$f":"AJ20/(AL4-AJ25)","v":0},{"$f":"IF(AK20=0,0,(AK20*((LOG(AK20))/LOG(2))))","v":0},null,{"$f":"N20","v":12212},{"$f":"COUNTIF(L96:L117,AN20)","v":0},{"$f":"AO20/(AQ4-AO25)","v":0},{"$f":"IF(AP20=0,0,(AP20*((LOG(AP20))/LOG(2))))","v":0},null,{"$f":"N20","v":12212},{"$f":"COUNTIF(L118:L139,AS20)","v":0},{"$f":"AT20/(AV4-AT25)","v":0},{"$f":"IF(AU20=0,0,(AU20*((LOG(AU20))/LOG(2))))","v":0}]
[21,2498,11,2515,22,2528,14,2538,24,2556,0,21212,null,12221,{"$f":"COUNTIF($L$7:$L$500,N21)","v":0},{"$f":"O21/$Q$4","v":0},{"$f":"IF(P21=0,0,(P21*((LOG(P21))/LOG(2))))","v":0},null,null,{"$f":"N21","v":12221},{"$f":"COUNTIF(L7:L28,T21)","v":0},{"$f":"U21/(W4-U25)","v":0},{"$f":"IF(V21=0,0,(V21*((LOG(V21))/LOG(2))))","v":0},null,{"$f":"N21","v":12221},{"$f":"COUNTIF(L29:L50,Y21)","v":0},{"$f":"Z21/(AB4-Z25)","v":0},{"$f":"IF(AA21=0,0,(AA21*((LOG(AA21))/LOG(2))))","v":0},null,{"$f":"N21","v":12221},{"$f":"COUNTIF(L51:L73,AD21)","v":0},{"$f":"AE21/(AG4-AE25)","v":0},{"$f":"IF(AF21=0,0,(AF21*((LOG(AF21))/LOG(2))))","v":0},null,{"$f":"N21","v":12221},{"$f":"COUNTIF(L74:L95,AI21)","v":0},{"$f":"AJ21/(AL4-AJ25)","v":0},{"$f":"IF(AK21=0,0,(AK21*((LOG(AK21))/LOG(2))))","v":0},null,{"$f":"N21","v":12221},{"$f":"COUNTIF(L96:L117,AN21)","v":0},{"$f":"AO21/(AQ4-AO25)","v":0},{"$f":"IF(AP21=0,0,(AP21*((LOG(AP21))/LOG(2))))","v":0},null,{"$f":"N21","v":12221},{"$f":"COUNTIF(L118:L139,AS21)","v":0},{"$f":"AT21/(AV4-AT25)","v":0},{"$f":"IF(AU21=0,0,(AU21*((LOG(AU21))/LOG(2))))","v":0}]
[12,2671,13,2679,24,2691,14,2703,24,2722,0,11212,null,12222,{"$f":"COUNTIF($L$7:$L$500,N22)","v":0},{"$f":"O22/$Q$4","v":0},{"$f":"IF(P22=0,0,(P22*((LOG(P22))/LOG(2))))","v":0},null,null,{"$f":"N22","v":12222},{"$f":"COUNTIF(L7:L28,T22)","v":0},{"$f":"U22/(W4-U25)","v":0},{"$f":"IF(V22=0,0,(V22*((LOG(V22))/LOG(2))))","v":0},null,{"$f":"N22","v":12222},{"$f":"COUNTIF(L29:L50,Y22)","v":0},{"$f":"Z22/(AB4-Z25)","v":0},{"$f":"IF(AA22=0,0,(AA22*((LOG(AA22))/LOG(2))))","v":0},null,{"$f":"N22","v":12222},{"$f":"COUNTIF(L51:L73,AD22)","v":0},{"$f":"AE22/(AG4-AE25)","v":0},{"$f":"IF(AF22=0,0,(AF22*((LOG(AF22))/LOG(2))))","v":0},null,{"$f":"N22","v":12222},{"$f":"COUNTIF(L74:L95,AI22)","v":0},{"$f":"AJ22/(AL4-AJ25)","v":0},{"$f":"IF(AK22=0,0,(AK22*((LOG(AK22))/LOG(2))))","v":0},null,{"$f":"N22","v":12222},{"$f":"COUNTIF(L96:L117,AN22)","v":0},{"$f":"AO22/(AQ4-AO25)","v":0},{"$f":"IF(AP22=0,0,(AP22*((LOG(AP22))/LOG(2))))","v":0},null,{"$f":"N22","v":12222},{"$f":"COUNTIF(L118:L139,AS22)","v":0},{"$f":"AT22/(AV4-AT25)","v":0},{"$f":"IF(AU22=0,0,(AU22*((LOG(AU22))/LOG(2))))","v":0}]
[21,2825,22,2829,13,2840,23,2852,24,2861,0,22122,null,21111,{"$f":"COUNTIF($L$7:$L$500,N23)","v":2},{"$f":"O23/$Q$4","v":1.5151515151515152E-2},{"$f":"IF(P23=0,0,(P23*((LOG(P23))/LOG(2))))","v":-9.1581729081188695E-2},null,null,{"$f":"N23","v":21111},{"$f":"COUNTIF(L7:L28,T23)","v":1},{"$f":"U23/(W4-U25)","v":5.2631578947368418E-2},{"$f":"IF(V23=0,0,(V23*((LOG(V23))/LOG(2))))","v":-0.22357513228650452},null,{"$f":"N23","v":21111},{"$f":"COUNTIF(L29:L50,Y23)","v":0},{"$f":"Z23/(AB4-Z25)","v":0},{"$f":"IF(AA23=0,0,(AA23*((LOG(AA23))/LOG(2))))","v":0},null,{"$f":"N23","v":21111},{"$f":"COUNTIF(L51:L73,AD23)","v":0},{"$f":"AE23/(AG4-AE25)","v":0},{"$f":"IF(AF23=0,0,(AF23*((LOG(AF23))/LOG(2))))","v":0},null,{"$f":"N23","v":21111},{"$f":"COUNTIF(L74:L95,AI23)","v":0},{"$f":"AJ23/(AL4-AJ25)","v":0},{"$f":"IF(AK23=0,0,(AK23*((LOG(AK23))/LOG(2))))","v":0},null,{"$f":"N23","v":21111},{"$f":"COUNTIF(L96:L117,AN23)","v":1},{"$f":"AO23/(AQ4-AO25)","v":4.7619047619047616E-2},{"$f":"IF(AP23=0,0,(AP23*((LOG(AP23))/LOG(2))))","v":-0.20915797251327431},null,{"$f":"N23","v":21111},{"$f":"COUNTIF(L118:L139,AS23)","v":0},{"$f":"AT23/(AV4-AT25)","v":0},{"$f":"IF(AU23=0,0,(AU23*((LOG(AU23))/LOG(2))))","v":0}]
[21,2966,11,2982,22,2997,14,3008,24,3021,0,21212,null,21112,{"$f":"COUNTIF($L$7:$L$500,N24)","v":5},{"$f":"O24/$Q$4","v":3.787878787878788E-2},{"$f":"IF(P24=0,0,(P24*((LOG(P24))/LOG(2))))","v":-0.17888128880572313},null,null,{"$f":"N24","v":21112},{"$f":"COUNTIF(L7:L28,T24)","v":2},{"$f":"U24/(W4-U25)","v":0.10526315789473684},{"$f":"IF(V24=0,0,(V24*((LOG(V24))/LOG(2))))","v":-0.34188710667827216},null,{"$f":"N24","v":21112},{"$f":"COUNTIF(L29:L50,Y24)","v":0},{"$f":"Z24/(AB4-Z25)","v":0},{"$f":"IF(AA24=0,0,(AA24*((LOG(AA24))/LOG(2))))","v":0},null,{"$f":"N24","v":21112},{"$f":"COUNTIF(L51:L73,AD24)","v":1},{"$f":"AE24/(AG4-AE25)","v":5.8823529411764705E-2},{"$f":"IF(AF24=0,0,(AF24*((LOG(AF24))/LOG(2))))","v":-0.24043899066178465},null,{"$f":"N24","v":21112},{"$f":"COUNTIF(L74:L95,AI24)","v":0},{"$f":"AJ24/(AL4-AJ25)","v":0},{"$f":"IF(AK24=0,0,(AK24*((LOG(AK24))/LOG(2))))","v":0},null,{"$f":"N24","v":21112},{"$f":"COUNTIF(L96:L117,AN24)","v":1},{"$f":"AO24/(AQ4-AO25)","v":4.7619047619047616E-2},{"$f":"IF(AP24=0,0,(AP24*((LOG(AP24))/LOG(2))))","v":-0.20915797251327431},null,{"$f":"N24","v":21112},{"$f":"COUNTIF(L118:L139,AS24)","v":1},{"$f":"AT24/(AV4-AT25)","v":5.5555555555555552E-2},{"$f":"IF(AU24=0,0,(AU24*((LOG(AU24))/LOG(2))))","v":-0.23166250008012845}]
[21,3128,11,3137,11,3161,21,3176,11,3188,1,21121,null,21121,{"$f":"COUNTIF($L$7:$L$500,N25)","v":21},{"$f":"O25/$Q$4","v":0.15909090909090909},{"$f":"IF(P25=0,0,(P25*((LOG(P25))/LOG(2))))","v":-0.42192129263767847},null,null,{"$f":"N25","v":21121},{"$f":"COUNTIF(L7:L28,T25)","v":3},null,null,null,{"$f":"N25","v":21121},{"$f":"COUNTIF(L29:L50,Y25)","v":4},null,null,null,{"$f":"N25","v":21121},{"$f":"COUNTIF(L51:L73,AD25)","v":6},null,null,null,{"$f":"N25","v":21121},{"$f":"COUNTIF(L74:L95,AI25)","v":4},null,null,null,{"$f":"N25","v":21121},{"$f":"COUNTIF(L96:L117,AN25)","v":1},null,null,null,{"$f":"N25","v":21121},{"$f":"COUNTIF(L118:L139,AS25)","v":3}]
[21,3347,22,3375,24,3392,23,3434,24,3467,0,22222,null,21122,{"$f":"COUNTIF($L$7:$L$500,N26)","v":4},{"$f":"O26/$Q$4","v":3.0303030303030304E-2},{"$f":"IF(P26=0,0,(P26*((LOG(P26))/LOG(2))))","v":-0.15286042785934709},null,null,{"$f":"N26","v":21122},{"$f":"COUNTIF(L7:L28,T26)","v":0},{"$f":"U26/(W4-U25)","v":0},{"$f":"IF(V26=0,0,(V26*((LOG(V26))/LOG(2))))","v":0},null,{"$f":"N26","v":21122},{"$f":"COUNTIF(L29:L50,Y26)","v":0},{"$f":"Z26/(AB4-Z25)","v":0},{"$f":"IF(AA26=0,0,(AA26*((LOG(AA26))/LOG(2))))","v":0},null,{"$f":"N26","v":21122},{"$f":"COUNTIF(L51:L73,AD26)","v":1},{"$f":"AE26/(AG4-AE25)","v":5.8823529411764705E-2},{"$f":"IF(AF26=0,0,(AF26*((LOG(AF26))/LOG(2))))","v":-0.24043899066178465},null,{"$f":"N26","v":21122},{"$f":"COUNTIF(L74:L95,AI26)","v":0},{"$f":"AJ26/(AL4-AJ25)","v":0},{"$f":"IF(AK26=0,0,(AK26*((LOG(AK26))/LOG(2))))","v":0},null,{"$f":"N26","v":21122},{"$f":"COUNTIF(L96:L117,AN26)","v":3},{"$f":"AO26/(AQ4-AO25)","v":0.14285714285714285},{"$f":"IF(AP26=0,0,(AP26*((LOG(AP26))/LOG(2))))","v":-0.40105070315108626},null,{"$f":"N26","v":21122},{"$f":"COUNTIF(L118:L139,AS26)","v":0},{"$f":"AT26/(AV4-AT25)","v":0},{"$f":"IF(AU26=0,0,(AU26*((LOG(AU26))/LOG(2))))","v":0}]
[21,3568,11,3576,11,3584,21,3595,11,3604,1,21121,null,21211,{"$f":"COUNTIF($L$7:$L$500,N27)","v":7},{"$f":"O27/$Q$4","v":5.3030303030303032E-2},{"$f":"IF(P27=0,0,(P27*((LOG(P27))/LOG(2))))","v":-0.22469147258413597},null,null,{"$f":"N27","v":21211},{"$f":"COUNTIF(L7:L28,T27)","v":1},{"$f":"U27/(W4-U25)","v":5.2631578947368418E-2},{"$f":"IF(V27=0,0,(V27*((LOG(V27))/LOG(2))))","v":-0.22357513228650452},null,{"$f":"N27","v":21211},{"$f":"COUNTIF(L29:L50,Y27)","v":0},{"$f":"Z27/(AB4-Z25)","v":0},{"$f":"IF(AA27=0,0,(AA27*((LOG(AA27))/LOG(2))))","v":0},null,{"$f":"N27","v":21211},{"$f":"COUNTIF(L51:L73,AD27)","v":3},{"$f":"AE27/(AG4-AE25)","v":0.17647058823529413},{"$f":"IF(AF27=0,0,(AF27*((LOG(AF27))/LOG(2))))","v":-0.44161770715220888},null,{"$f":"N27","v":21211},{"$f":"COUNTIF(L74:L95,AI27)","v":2},{"$f":"AJ27/(AL4-AJ25)","v":0.1111111111111111},{"$f":"IF(AK27=0,0,(AK27*((LOG(AK27))/LOG(2))))","v":-0.3522138890491458},null,{"$f":"N27","v":21211},{"$f":"COUNTIF(L96:L117,AN27)","v":0},{"$f":"AO27/(AQ4-AO25)","v":0},{"$f":"IF(AP27=0,0,(AP27*((LOG(AP27))/LOG(2))))","v":0},null,{"$f":"N27","v":21211},{"$f":"COUNTIF(L118:L139,AS27)","v":1},{"$f":"AT27/(AV4-AT25)","v":5.5555555555555552E-2},{"$f":"IF(AU27=0,0,(AU27*((LOG(AU27))/LOG(2))))","v":-0.23166250008012845}]
[21,3705,11,3722,22,3734,14,3744,24,3764,0,21212,null,21212,{"$f":"COUNTIF($L$7:$L$500,N28)","v":32},{"$f":"O28/$Q$4","v":0.24242424242424243},{"$f":"IF(P28=0,0,(P28*((LOG(P28))/LOG(2))))","v":-0.49561069560204934},null,null,{"$f":"N28","v":21212},{"$f":"COUNTIF(L7:L28,T28)","v":6},{"$f":"U28/(W4-U25)","v":0.31578947368421051},{"$f":"IF(V28=0,0,(V28*((LOG(V28))/LOG(2))))","v":-0.52514684612287243},null,{"$f":"N28","v":21212},{"$f":"COUNTIF(L29:L50,Y28)","v":3},{"$f":"Z28/(AB4-Z25)","v":0.16666666666666666},{"$f":"IF(AA28=0,0,(AA28*((LOG(AA28))/LOG(2))))","v":-0.43082708345352599},null,{"$f":"N28","v":21212},{"$f":"COUNTIF(L51:L73,AD28)","v":3},{"$f":"AE28/(AG4-AE25)","v":0.17647058823529413},{"$f":"IF(AF28=0,0,(AF28*((LOG(AF28))/LOG(2))))","v":-0.44161770715220888},null,{"$f":"N28","v":21212},{"$f":"COUNTIF(L74:L95,AI28)","v":4},{"$f":"AJ28/(AL4-AJ25)","v":0.22222222222222221},{"$f":"IF(AK28=0,0,(AK28*((LOG(AK28))/LOG(2))))","v":-0.48220555587606945},null,{"$f":"N28","v":21212},{"$f":"COUNTIF(L96:L117,AN28)","v":5},{"$f":"AO28/(AQ4-AO25)","v":0.23809523809523808},{"$f":"IF(AP28=0,0,(AP28*((LOG(AP28))/LOG(2))))","v":-0.49294983997414238},null,{"$f":"N28","v":21212},{"$f":"COUNTIF(L118:L139,AS28)","v":11},{"$f":"AT28/(AV4-AT25)","v":0.61111111111111116},{"$f":"IF(AU28=0,0,(AU28*((LOG(AU28))/LOG(2))))","v":-0.43419040060306474}]
[21,3871,11,3880,22,3891,14,3902,24,3914,0,21212,null,21221,{"$f":"COUNTIF($L$7:$L$500,N29)","v":6},{"$f":"O29/$Q$4","v":4.5454545454545456E-2},{"$f":"IF(P29=0,0,(P29*((LOG(P29))/LOG(2))))","v":-0.20270143721078623},null,null,{"$f":"N29","v":21221},{"$f":"COUNTIF(L7:L28,T29)","v":0},{"$f":"U29/(W4-U25)","v":0},{"$f":"IF(V29=0,0,(V29*((LOG(V29))/LOG(2))))","v":0},null,{"$f":"N29","v":21221},{"$f":"COUNTIF(L29:L50,Y29)","v":2},{"$f":"Z29/(AB4-Z25)","v":0.1111111111111111},{"$f":"IF(AA29=0,0,(AA29*((LOG(AA29))/LOG(2))))","v":-0.3522138890491458},null,{"$f":"N29","v":21221},{"$f":"COUNTIF(L51:L73,AD29)","v":1},{"$f":"AE29/(AG4-AE25)","v":5.8823529411764705E-2},{"$f":"IF(AF29=0,0,(AF29*((LOG(AF29))/LOG(2))))","v":-0.24043899066178465},null,{"$f":"N29","v":21221},{"$f":"COUNTIF(L74:L95,AI29)","v":1},{"$f":"AJ29/(AL4-AJ25)","v":5.5555555555555552E-2},{"$f":"IF(AK29=0,0,(AK29*((LOG(AK29))/LOG(2))))","v":-0.23166250008012845},null,{"$f":"N29","v":21221},{"$f":"COUNTIF(L96:L117,AN29)","v":1},{"$f":"AO29/(AQ4-AO25)","v":4.7619047619047616E-2},{"$f":"IF(AP29=0,0,(AP29*((LOG(AP29))/LOG(2))))","v":-0.20915797251327431},null,{"$f":"N29","v":21221},{"$f":"COUNTIF(L118:L139,AS29)","v":1},{"$f":"AT29/(AV4-AT25)","v":5.5555555555555552E-2},{"$f":"IF(AU29=0,0,(AU29*((LOG(AU29))/LOG(2))))","v":-0.23166250008012845}]
[21,4016,11,4025,11,4047,21,4060,11,4074,1,21121,null,21222,{"$f":"COUNTIF($L$7:$L$500,N30)","v":2},{"$f":"O30/$Q$4","v":1.5151515151515152E-2},{"$f":"IF(P30=0,0,(P30*((LOG(P30))/LOG(2))))","v":-9.1581729081188695E-2},null,null,{"$f":"N30","v":21222},{"$f":"COUNTIF(L7:L28,T30)","v":1},{"$f":"U30/(W4-U25)","v":5.2631578947368418E-2},{"$f":"IF(V30=0,0,(V30*((LOG(V30))/LOG(2))))","v":-0.22357513228650452},null,{"$f":"N30","v":21222},{"$f":"COUNTIF(L29:L50,Y30)","v":0},{"$f":"Z30/(AB4-Z25)","v":0},{"$f":"IF(AA30=0,0,(AA30*((LOG(AA30))/LOG(2))))","v":0},null,{"$f":"N30","v":21222},{"$f":"COUNTIF(L51:L73,AD30)","v":1},{"$f":"AE30/(AG4-AE25)","v":5.8823529411764705E-2},{"$f":"IF(AF30=0,0,(AF30*((LOG(AF30))/LOG(2))))","v":-0.24043899066178465},null,{"$f":"N30","v":21222},{"$f":"COUNTIF(L74:L95,AI30)","v":0},{"$f":"AJ30/(AL4-AJ25)","v":0},{"$f":"IF(AK30=0,0,(AK30*((LOG(AK30))/LOG(2))))","v":0},null,{"$f":"N30","v":21222},{"$f":"COUNTIF(L96:L117,AN30)","v":0},{"$f":"AO30/(AQ4-AO25)","v":0},{"$f":"IF(AP30=0,0,(AP30*((LOG(AP30))/LOG(2))))","v":0},null,{"$f":"N30","v":21222},{"$f":"COUNTIF(L118:L139,AS30)","v":0},{"$f":"AT30/(AV4-AT25)","v":0},{"$f":"IF(AU30=0,0,(AU30*((LOG(AU30))/LOG(2))))","v":0}]
[21,4211,22,4223,13,4241,23,4250,13,4263,0,22121,null,22111,{"$f":"COUNTIF($L$7:$L$500,N31)","v":1},{"$f":"O31/$Q$4","v":7.575757575757576E-3},{"$f":"IF(P31=0,0,(P31*((LOG(P31))/LOG(2))))","v":-5.3366622116351931E-2},null,null,{"$f":"N31","v":22111},{"$f":"COUNTIF(L7:L28,T31)","v":0},{"$f":"U31/(W4-U25)","v":0},{"$f":"IF(V31=0,0,(V31*((LOG(V31))/LOG(2))))","v":0},null,{"$f":"N31","v":22111},{"$f":"COUNTIF(L29:L50,Y31)","v":0},{"$f":"Z31/(AB4-Z25)","v":0},{"$f":"IF(AA31=0,0,(AA31*((LOG(AA31))/LOG(2))))","v":0},null,{"$f":"N31","v":22111},{"$f":"COUNTIF(L51:L73,AD31)","v":0},{"$f":"AE31/(AG4-AE25)","v":0},{"$f":"IF(AF31=0,0,(AF31*((LOG(AF31))/LOG(2))))","v":0},null,{"$f":"N31","v":22111},{"$f":"COUNTIF(L74:L95,AI31)","v":1},{"$f":"AJ31/(AL4-AJ25)","v":5.5555555555555552E-2},{"$f":"IF(AK31=0,0,(AK31*((LOG(AK31))/LOG(2))))","v":-0.23166250008012845},null,{"$f":"N31","v":22111},{"$f":"COUNTIF(L96:L117,AN31)","v":0},{"$f":"AO31/(AQ4-AO25)","v":0},{"$f":"IF(AP31=0,0,(AP31*((LOG(AP31))/LOG(2))))","v":0},null,{"$f":"N31","v":22111},{"$f":"COUNTIF(L118:L139,AS31)","v":0},{"$f":"AT31/(AV4-AT25)","v":0},{"$f":"IF(AU31=0,0,(AU31*((LOG(AU31))/LOG(2))))","v":0}]
[12,4376,13,4388,24,4404,14,4416,24,4427,0,11212,null,22112,{"$f":"COUNTIF($L$7:$L$500,N32)","v":3},{"$f":"O32/$Q$4","v":2.2727272727272728E-2},{"$f":"IF(P32=0,0,(P32*((LOG(P32))/LOG(2))))","v":-0.12407799133266585},null,null,{"$f":"N32","v":22112},{"$f":"COUNTIF(L7:L28,T32)","v":1},{"$f":"U32/(W4-U25)","v":5.2631578947368418E-2},{"$f":"IF(V32=0,0,(V32*((LOG(V32))/LOG(2))))","v":-0.22357513228650452},null,{"$f":"N32","v":22112},{"$f":"COUNTIF(L29:L50,Y32)","v":0},{"$f":"Z32/(AB4-Z25)","v":0},{"$f":"IF(AA32=0,0,(AA32*((LOG(AA32))/LOG(2))))","v":0},null,{"$f":"N32","v":22112},{"$f":"COUNTIF(L51:L73,AD32)","v":1},{"$f":"AE32/(AG4-AE25)","v":5.8823529411764705E-2},{"$f":"IF(AF32=0,0,(AF32*((LOG(AF32))/LOG(2))))","v":-0.24043899066178465},null,{"$f":"N32","v":22112},{"$f":"COUNTIF(L74:L95,AI32)","v":1},{"$f":"AJ32/(AL4-AJ25)","v":5.5555555555555552E-2},{"$f":"IF(AK32=0,0,(AK32*((LOG(AK32))/LOG(2))))","v":-0.23166250008012845},null,{"$f":"N32","v":22112},{"$f":"COUNTIF(L96:L117,AN32)","v":0},{"$f":"AO32/(AQ4-AO25)","v":0},{"$f":"IF(AP32=0,0,(AP32*((LOG(AP32))/LOG(2))))","v":0},null,{"$f":"N32","v":22112},{"$f":"COUNTIF(L118:L139,AS32)","v":0},{"$f":"AT32/(AV4-AT25)","v":0},{"$f":"IF(AU32=0,0,(AU32*((LOG(AU32))/LOG(2))))","v":0}]
[21,4533,11,4541,11,4548,21,4565,11,4579,1,21121,null,22121,{"$f":"COUNTIF($L$7:$L$500,N33)","v":8},{"$f":"O33/$Q$4","v":6.0606060606060608E-2},{"$f":"IF(P33=0,0,(P33*((LOG(P33))/LOG(2))))","v":-0.24511479511263354},null,null,{"$f":"N33","v":22121},{"$f":"COUNTIF(L7:L28,T33)","v":0},{"$f":"U33/(W4-U25)","v":0},{"$f":"IF(V33=0,0,(V33*((LOG(V33))/LOG(2))))","v":0},null,{"$f":"N33","v":22121},{"$f":"COUNTIF(L29:L50,Y33)","v":4},{"$f":"Z33/(AB4-Z25)","v":0.22222222222222221},{"$f":"IF(AA33=0,0,(AA33*((LOG(AA33))/LOG(2))))","v":-0.48220555587606945},null,{"$f":"N33","v":22121},{"$f":"COUNTIF(L51:L73,AD33)","v":1},{"$f":"AE33/(AG4-AE25)","v":5.8823529411764705E-2},{"$f":"IF(AF33=0,0,(AF33*((LOG(AF33))/LOG(2))))","v":-0.24043899066178465},null,{"$f":"N33","v":22121},{"$f":"COUNTIF(L74:L95,AI33)","v":0},{"$f":"AJ33/(AL4-AJ25)","v":0},{"$f":"IF(AK33=0,0,(AK33*((LOG(AK33))/LOG(2))))","v":0},null,{"$f":"N33","v":22121},{"$f":"COUNTIF(L96:L117,AN33)","v":2},{"$f":"AO33/(AQ4-AO25)","v":9.5238095238095233E-2},{"$f":"IF(AP33=0,0,(AP33*((LOG(AP33))/LOG(2))))","v":-0.32307784978845333},null,{"$f":"N33","v":22121},{"$f":"COUNTIF(L118:L139,AS33)","v":1},{"$f":"AT33/(AV4-AT25)","v":5.5555555555555552E-2},{"$f":"IF(AU33=0,0,(AU33*((LOG(AU33))/LOG(2))))","v":-0.23166250008012845}]
[21,4692,22,4705,13,4720,23,4737,13,4753,0,22121,null,22122,{"$f":"COUNTIF($L$7:$L$500,N34)","v":2},{"$f":"O34/$Q$4","v":1.5151515151515152E-2},{"$f":"IF(P34=0,0,(P34*((LOG(P34))/LOG(2))))","v":-9.1581729081188695E-2},null,null,{"$f":"N34","v":22122},{"$f":"COUNTIF(L7:L28,T34)","v":1},{"$f":"U34/(W4-U25)","v":5.2631578947368418E-2},{"$f":"IF(V34=0,0,(V34*((LOG(V34))/LOG(2))))","v":-0.22357513228650452},null,{"$f":"N34","v":22122},{"$f":"COUNTIF(L29:L50,Y34)","v":0},{"$f":"Z34/(AB4-Z25)","v":0},{"$f":"IF(AA34=0,0,(AA34*((LOG(AA34))/LOG(2))))","v":0},null,{"$f":"N34","v":22122},{"$f":"COUNTIF(L51:L73,AD34)","v":0},{"$f":"AE34/(AG4-AE25)","v":0},{"$f":"IF(AF34=0,0,(AF34*((LOG(AF34))/LOG(2))))","v":0},null,{"$f":"N34","v":22122},{"$f":"COUNTIF(L74:L95,AI34)","v":0},{"$f":"AJ34/(AL4-AJ25)","v":0},{"$f":"IF(AK34=0,0,(AK34*((LOG(AK34))/LOG(2))))","v":0},null,{"$f":"N34","v":22122},{"$f":"COUNTIF(L96:L117,AN34)","v":0},{"$f":"AO34/(AQ4-AO25)","v":0},{"$f":"IF(AP34=0,0,(AP34*((LOG(AP34))/LOG(2))))","v":0},null,{"$f":"N34","v":22122},{"$f":"COUNTIF(L118:L139,AS34)","v":1},{"$f":"AT34/(AV4-AT25)","v":5.5555555555555552E-2},{"$f":"IF(AU34=0,0,(AU34*((LOG(AU34))/LOG(2))))","v":-0.23166250008012845}]
[12,4867,24,4878,13,4889,23,4901,13,4912,0,12121,null,22211,{"$f":"COUNTIF($L$7:$L$500,N35)","v":1},{"$f":"O35/$Q$4","v":7.575757575757576E-3},{"$f":"IF(P35=0,0,(P35*((LOG(P35))/LOG(2))))","v":-5.3366622116351931E-2},null,null,{"$f":"N35","v":22211},{"$f":"COUNTIF(L7:L28,T35)","v":0},{"$f":"U35/(W4-U25)","v":0},{"$f":"IF(V35=0,0,(V35*((LOG(V35))/LOG(2))))","v":0},null,{"$f":"N35","v":22211},{"$f":"COUNTIF(L29:L50,Y35)","v":0},{"$f":"Z35/(AB4-Z25)","v":0},{"$f":"IF(AA35=0,0,(AA35*((LOG(AA35))/LOG(2))))","v":0},null,{"$f":"N35","v":22211},{"$f":"COUNTIF(L51:L73,AD35)","v":0},{"$f":"AE35/(AG4-AE25)","v":0},{"$f":"IF(AF35=0,0,(AF35*((LOG(AF35))/LOG(2))))","v":0},null,{"$f":"N35","v":22211},{"$f":"COUNTIF(L74:L95,AI35)","v":1},{"$f":"AJ35/(AL4-AJ25)","v":5.5555555555555552E-2},{"$f":"IF(AK35=0,0,(AK35*((LOG(AK35))/LOG(2))))","v":-0.23166250008012845},null,{"$f":"N35","v":22211},{"$f":"COUNTIF(L96:L117,AN35)","v":0},{"$f":"AO35/(AQ4-AO25)","v":0},{"$f":"IF(AP35=0,0,(AP35*((LOG(AP35))/LOG(2))))","v":0},null,{"$f":"N35","v":22211},{"$f":"COUNTIF(L118:L139,AS35)","v":0},{"$f":"AT35/(AV4-AT25)","v":0},{"$f":"IF(AU35=0,0,(AU35*((LOG(AU35))/LOG(2))))","v":0}]
[21,5015,11,5023,22,5033,23,5041,13,5056,0,21221,null,22212,{"$f":"COUNTIF($L$7:$L$500,N36)","v":3},{"$f":"O36/$Q$4","v":2.2727272727272728E-2},{"$f":"IF(P36=0,0,(P36*((LOG(P36))/LOG(2))))","v":-0.12407799133266585},null,null,{"$f":"N36","v":22212},{"$f":"COUNTIF(L7:L28,T36)","v":1},{"$f":"U36/(W4-U25)","v":5.2631578947368418E-2},{"$f":"IF(V36=0,0,(V36*((LOG(V36))/LOG(2))))","v":-0.22357513228650452},null,{"$f":"N36","v":22212},{"$f":"COUNTIF(L29:L50,Y36)","v":0},{"$f":"Z36/(AB4-Z25)","v":0},{"$f":"IF(AA36=0,0,(AA36*((LOG(AA36))/LOG(2))))","v":0},null,{"$f":"N36","v":22212},{"$f":"COUNTIF(L51:L73,AD36)","v":1},{"$f":"AE36/(AG4-AE25)","v":5.8823529411764705E-2},{"$f":"IF(AF36=0,0,(AF36*((LOG(AF36))/LOG(2))))","v":-0.24043899066178465},null,{"$f":"N36","v":22212},{"$f":"COUNTIF(L74:L95,AI36)","v":1},{"$f":"AJ36/(AL4-AJ25)","v":5.5555555555555552E-2},{"$f":"IF(AK36=0,0,(AK36*((LOG(AK36))/LOG(2))))","v":-0.23166250008012845},null,{"$f":"N36","v":22212},{"$f":"COUNTIF(L96:L117,AN36)","v":0},{"$f":"AO36/(AQ4-AO25)","v":0},{"$f":"IF(AP36=0,0,(AP36*((LOG(AP36))/LOG(2))))","v":0},null,{"$f":"N36","v":22212},{"$f":"COUNTIF(L118:L139,AS36)","v":0},{"$f":"AT36/(AV4-AT25)","v":0},{"$f":"IF(AU36=0,0,(AU36*((LOG(AU36))/LOG(2))))","v":0}]
[21,5159,11,5167,11,5179,21,5195,11,5205,1,21121,null,22221,{"$f":"COUNTIF($L$7:$L$500,N37)","v":1},{"$f":"O37/$Q$4","v":7.575757575757576E-3},{"$f":"IF(P37=0,0,(P37*((LOG(P37))/LOG(2))))","v":-5.3366622116351931E-2},null,null,{"$f":"N37","v":22221},{"$f":"COUNTIF(L7:L28,T37)","v":1},{"$f":"U37/(W4-U25)","v":5.2631578947368418E-2},{"$f":"IF(V37=0,0,(V37*((LOG(V37))/LOG(2))))","v":-0.22357513228650452},null,{"$f":"N37","v":22221},{"$f":"COUNTIF(L29:L50,Y37)","v":0},{"$f":"Z37/(AB4-Z25)","v":0},{"$f":"IF(AA37=0,0,(AA37*((LOG(AA37))/LOG(2))))","v":0},null,{"$f":"N37","v":22221},{"$f":"COUNTIF(L51:L73,AD37)","v":0},{"$f":"AE37/(AG4-AE25)","v":0},{"$f":"IF(AF37=0,0,(AF37*((LOG(AF37))/LOG(2))))","v":0},null,{"$f":"N37","v":22221},{"$f":"COUNTIF(L74:L95,AI37)","v":0},{"$f":"AJ37/(AL4-AJ25)","v":0},{"$f":"IF(AK37=0,0,(AK37*((LOG(AK37))/LOG(2))))","v":0},null,{"$f":"N37","v":22221},{"$f":"COUNTIF(L96:L117,AN37)","v":0},{"$f":"AO37/(AQ4-AO25)","v":0},{"$f":"IF(AP37=0,0,(AP37*((LOG(AP37))/LOG(2))))","v":0},null,{"$f":"N37","v":22221},{"$f":"COUNTIF(L118:L139,AS37)","v":0},{"$f":"AT37/(AV4-AT25)","v":0},{"$f":"IF(AU37=0,0,(AU37*((LOG(AU37))/LOG(2))))","v":0}]
[21,5304,11,5312,22,5324,23,5350,13,5359,0,21221,null,22222,{"$f":"COUNTIF($L$7:$L$500,N38)","v":3},{"$f":"O38/$Q$4","v":2.2727272727272728E-2},{"$f":"IF(P38=0,0,(P38*((LOG(P38))/LOG(2))))","v":-0.12407799133266585},null,null,{"$f":"N38","v":22222},{"$f":"COUNTIF(L7:L28,T38)","v":1},{"$f":"U38/(W4-U25)","v":5.2631578947368418E-2},{"$f":"IF(V38=0,0,(V38*((LOG(V38))/LOG(2))))","v":-0.22357513228650452},null,{"$f":"N38","v":22222},{"$f":"COUNTIF(L29:L50,Y38)","v":0},{"$f":"Z38/(AB4-Z25)","v":0},{"$f":"IF(AA38=0,0,(AA38*((LOG(AA38))/LOG(2))))","v":0},null,{"$f":"N38","v":22222},{"$f":"COUNTIF(L51:L73,AD38)","v":0},{"$f":"AE38/(AG4-AE25)","v":0},{"$f":"IF(AF38=0,0,(AF38*((LOG(AF38))/LOG(2))))","v":0},null,{"$f":"N38","v":22222},{"$f":"COUNTIF(L74:L95,AI38)","v":2},{"$f":"AJ38/(AL4-AJ25)","v":0.1111111111111111},{"$f":"IF(AK38=0,0,(AK38*((LOG(AK38))/LOG(2))))","v":-0.3522138890491458},null,{"$f":"N38","v":22222},{"$f":"COUNTIF(L96:L117,AN38)","v":0},{"$f":"AO38/(AQ4-AO25)","v":0},{"$f":"IF(AP38=0,0,(AP38*((LOG(AP38))/LOG(2))))","v":0},null,{"$f":"N38","v":22222},{"$f":"COUNTIF(L118:L139,AS38)","v":0},{"$f":"AT38/(AV4-AT25)","v":0},{"$f":"IF(AU38=0,0,(AU38*((LOG(AU38))/LOG(2))))","v":0}]
[12,5458,13,5470,24,5483,23,5516,13,5528,0,11221,null,null,null,{"$f":"SUM(P7:P38)","v":0.99999999999999978},{"$f":"-SUM(Q7:Q38)","v":3.9265539431803833},null,null,null,null,{"$f":"SUM(V7:V38)","v":0.99999999999999956},{"$f":"-SUM(W7:W38)","v":3.2210972500579587},null,null,null,{"$f":"SUM(AA7:AA38)","v":0.99999999999999989},{"$f":"-SUM(AB7:AB38)","v":3.1279868068776753},null,null,null,{"$f":"SUM(AF7:AF38)","v":1},{"$f":"-SUM(AG7:AG38)","v":3.2483650467509042},null,null,null,{"$f":"SUM(AK7:AK38)","v":1.0000000000000002},{"$f":"-SUM(AL7:AL38)","v":3.5032583347756456},null,null,null,{"$f":"SUM(AP7:AP38)","v":1},{"$f":"-SUM(AQ7:AQ38)","v":3.1961547809328676},null,null,null,{"$f":"SUM(AU7:AU38)","v":1},{"$f":"-SUM(AV7:AV38)","v":2.0558279011639637}]
[12,5641,13,5648,24,5666,14,5677,24,5690,0,11212,null,null,null,"U=",{"$f":"Q39/(LOG(Q4)/LOG(2))","v":0.55740122949537374},null,null,null,null,"U1=",{"$f":"W39/(LOG(W4)/LOG(2))","v":0.72231116552971253},null,null,null,"U2=",{"$f":"AB39/(LOG(AB4)/LOG(2))","v":0.70143172367637252},null,null,null,"U3=",{"$f":"AG39/(LOG(AG4)/LOG(2))","v":0.71809894023920007},null,null,null,"U4=",{"$f":"AL39/(LOG(AL4)/LOG(2))","v":0.78558404621218592},null,null,null,"U5=",{"$f":"AQ39/(LOG(AQ4)/LOG(2))","v":0.7167179708676733},null,null,null,"U6=",{"$f":"AV39/(LOG(AV4)/LOG(2))","v":0.46805084953613452}]
[21,5798,22,5823,13,5835,23,5844,13,5856,0,22121]
[12,5979,13,5987,24,6002,14,6016,13,6036,0,11211]
[12,6139,13,6149,13,6156,23,6169,24,6191,0,11122,null,"Total Target Seq"]
[12,6292,13,6302,13,6309,23,6324,13,6334,0,11121,null,{"$f":"COUNTIF(L7:L139,G3)","v":21},null,22,22,23,22,22,22]
[12,6434,13,6445,13,6457,14,6466,24,6480,0,11112,null,null,null,"% of reinforcement given in 6 equal intervals based on number of trials "]
[21,6589,11,6603,22,6615,14,6624,24,6638,0,21212,null,null,null,"%_1","%_2","%_3","%_4","%_5","%_6"]
[21,6739,22,6742,13,6752,23,6783,13,6795,0,22121,null,null,"target sequence",{"$f":"$G$3","v":21121},{"$f":"$G$3","v":21121},{"$f":"$G$3","v":21121},{"$f":"$G$3","v":21121},{"$f":"$G$3","v":21121},{"$f":"$G$3","v":21121}]
[21,6912,11,6921,22,6937,14,6946,24,6957,0,21212,null,null,"total reinforcement",{"$f":"U25","v":3},{"$f":"Z25","v":4},{"$f":"AE25","v":6},{"$f":"AJ25","v":4},{"$f":"AO25","v":1},{"$f":"AT25","v":3}]
[12,7084,13,7095,13,7110,23,7125,13,7151,0,11121,null,null,"% target"]
[21,7262,11,7271,11,7279,21,7294,11,7309,1,21121,null,null,"CCRF"]
[21,7494,11,7503,22,7514,14,7525,24,7537,0,21212,null,null,"% CCRf"]
[21,7637,22,7648,13,7657,23,7726,13,7734,0,22121,null,null,"average response rate",{"$f":"J28/P44","v":171.09090909090909},{"$f":"(J50-J28)/Q44","v":161.13636363636363},{"$f":"(J73-J50)/R44","v":176.30434782608697},{"$f":"(J95-J73)/S44","v":196.31818181818181},{"$f":"(J117-J95)/T44","v":184.13636363636363},{"$f":"(J139-J117)/U44","v":-897}]
[21,7876,11,7885,11,7898,21,7909,11,7931,1,21121]
[21,8055,11,8063,22,8083,14,8095,24,8104,0,21212]
[12,8204,13,8211,13,8221,14,8233,24,8247,0,11112]
[12,8362,13,8374,24,8388,14,8400,13,8406,0,11211]
[12,8518,13,8530,13,8541,14,8562,24,8574,0,11112]
[21,8680,11,8689,11,8705,21,8722,11,8736,1,21121]
[21,8843,11,8864,22,8875,23,8902,24,8933,0,21222]
[21,9039,11,9058,11,9074,21,9086,11,9098,1,21121]
[21,9197,11,9210,11,9218,21,9232,22,9261,0,21122]
[21,9376,11,9391,22,9402,23,9427,13,9447,0,21221]
[21,9562,11,9571,11,9578,12,9585,24,9600,0,21112]
[21,9705,11,9720,22,9732,14,9745,24,9755,0,21212]
[21,9869,11,9878,11,9900,21,9915,11,9928,1,21121]
[21,10040,11,10058,22,10073,14,10084,13,10092,0,21211]
[21,10198,22,10205,13,10214,14,10242,24,10257,0,22112]
[21,10365,11,10384,22,10402,14,10416,13,10449,0,21211]
[21,10555,11,10569,11,10581,21,10597,11,10612,1,21121]
[21,10735,11,10789,22,10804,14,10818,13,10829,0,21211]
[21,10942,11,10951,11,10994,21,11013,11,11026,1,21121]
[21,11136,22,11163,24,11188,14,11199,24,11211,0,22212]
[12,11312,13,11328,13,11335,14,11346,24,11364,0,11112]
[21,11509,22,11544,13,11555,14,11566,24,11578,0,22112]
[21,11691,11,11707,22,11724,23,11732,13,11747,0,21221]
[21,11858,11,11867,11,11893,21,11910,11,11922,1,21121]
[21,12029,22,12073,24,12104,14,12122,24,12139,0,22212]
[21,12243,11,12252,11,12273,21,12283,11,12297,1,21121]
[21,12402,22,12451,24,12486,23,12513,24,12539,0,22222]
[21,12661,11,12697,22,12709,14,12718,13,12749,0,21211]
[21,12859,11,12873,11,12906,21,12922,11,12937,1,21121]
[21,13062,22,13089,24,13111,23,13145,24,13174,0,22222]
[12,13299,24,13312,13,13328,23,13342,13,13355,0,12121]
[12,13465,13,13478,13,13489,14,13499,24,13514,0,11112]
[21,13621,11,13646,22,13662,14,13676,13,13685,0,21211]
[21,13788,22,13795,13,13812,14,13827,13,13856,0,22111]
[21,13975,11,13995,22,14007,14,14021,24,14039,0,21212]
[21,14149,11,14158,22,14181,14,14199,24,14217,0,21212]
[12,14366,13,14377,24,14390,14,14405,13,14416,0,11211]
[21,14581,11,14598,22,14617,14,14629,24,14655,0,21212]
[21,14764,11,14778,22,14788,14,14802,24,14825,0,21212]
[21,14926,22,14944,24,14974,14,14988,13,14996,0,22211]
[12,15132,24,15145,13,15198,14,15243,24,15257,0,12112]
[12,15374,13,15405,24,15419,23,15438,24,15473,0,11222]
[21,15625,11,15639,11,15658,21,15669,11,15683,1,21121]
[21,15882,22,15905,13,15926,23,15935,13,15946,0,22121]
[12,16066,13,16091,24,16107,14,16123,24,16136,0,11212]
[21,16235,11,16244,11,16254,21,16269,22,16277,0,21122]
[21,16381,11,16389,11,16401,12,16408,24,16422,0,21112]
[21,16528,11,16557,22,16575,14,16588,24,16608,0,21212]
[21,16739,11,16750,22,16761,14,16777,24,16799,0,21212]
[21,16931,11,16940,11,16948,12,16958,13,16977,0,21111]
[12,17080,13,17092,13,17104,14,17121,24,17143,0,11112]
[21,17247,11,17272,22,17287,14,17299,24,17312,0,21212]
[21,17414,11,17422,11,17433,21,17445,22,17475,0,21122]
[21,17578,11,17586,11,17598,21,17615,11,17633,1,21121]
[12,17798,24,17812,13,17825,23,17836,24,17871,0,12122]
[21,17978,11,17993,22,18001,14,18014,24,18045,0,21212]
[21,18148,11,18161,22,18178,23,18207,13,18221,0,21221]
[21,18320,11,18328,22,18340,14,18354,24,18370,0,21212]
[12,18516,24,18528,13,18540,23,18557,13,18571,0,12121]
[12,18697,13,18717,24,18734,14,18748,24,18761,0,11212]
[21,18877,11,18893,11,18911,21,18921,22,18952,0,21122]
[12,19075,24,19087,13,19100,23,19123,24,19163,0,12122]
[21,19272,22,19302,13,19314,23,19327,13,19339,0,22121]
[12,19481,24,19495,13,19511,14,19542,24,19556,0,12112]
[12,19666,13,19683,24,19696,14,19714,24,19734,0,11212]
[21,19837,11,19846,11,19861,21,19878,11,19894,1,21121]
[21,20032,11,20049,22,20061,23,20089,13,20101,0,21221]
[12,20252,24,20274,13,20289,14,20311,24,20327,0,12112]
[21,20440,11,20450,11,20494,21,20510,11,20534,1,21121]
[21,20733,11,20746,22,20758,14,20800,24,20812,0,21212]
[21,20920,11,20939,22,20951,14,20962,24,20984,0,21212]
[21,21091,11,21139,22,21150,14,21172,24,21192,0,21212]
[21,21300,11,21324,11,21344,12,21379,24,21397,0,21112]
[21,21503,11,21526,22,21538,14,21552,24,21569,0,21212]
[21,21673,11,21696,11,21705,21,21725,11,21739,1,21121]
[21,21879,11,21897,22,21908,14,21920,24,21931,0,21212]
[21,22088,11,22100,22,22110,14,22124,13,22131,0,21211]
[21,22233,22,22239,13,22254,23,22265,24,22303,0,22122]
[21,22409,11,22422,22,22433,14,22448,24,22477,0,21212]
[21,22584,11,22602,22,22613,14,22625,24,22645,0,21212]
[12,22753,13,22779,24,22793,14,22814,24,22826,0,11212]
[21,22963,22,22991,13,23000,23,23012,13,23051,0,22121]
[21,23161,11,23178,22,23189,14,23200,24,23219,0,21212]
[21,23334,11,23349,22,23369,14,23392,24,23408,0,21212]
[21,23515,11,23532,22,23554,14,23568,24,23588,0,21212]
[21,23719,11,23745,22,23759,14,23770,24,23796,0,21212]
[12,23963,24,23978,13,23991,null,null,null,null,null,121]

{"sheet":"!MA22930.010","index":25,"n_rows":136,"n_cols":48,"rows_kept":136,"cut":false,"hidden":false,"merged":[[4,39,4,42],[5,39,5,40],[4,44,4,47],[5,44,5,45],[4,24,4,27],[5,24,5,25],[4,29,4,32],[5,29,5,30],[4,34,4,37],[5,34,5,35],[1,1,1,2],[5,13,5,14],[42,13,42,14],[43,13,43,14],[4,19,4,22],[5,19,5,20]]}
["Report for:!MA22930.010"]
["Date:","<date>"]
["Hen:","<hen>",null,null,null,"Correct Sequence",{"$f":"Start!J2","v":21121},null,null,null,null,null,null,null,null,"Total Sequences in Data",{"$f":"4994-COUNTBLANK(L7:L5000)","v":130},null,null,null,null,"Total Sequences in Block Data",{"$f":"COUNTA(L7:L28)","v":22},null,null,null,"Total Sequences in Block Data",{"$f":"COUNTA(L29:L49)","v":21},null,null,null,"Total Sequences in Block Data",{"$f":"COUNTA(L50:L71)","v":22},null,null,null,"Total Sequences in Block Data",{"$f":"COUNTA(L72:L93)","v":22},null,null,null,"Total Sequences in Block Data",{"$f":"COUNTA(L94:L114)","v":21},null,null,null,"Total Sequences in Block Data",{"$f":"COUNTA(L115:L136)","v":22}]
[null,null,null,null,null,null,null,null,null,null,null,null,null,null,null,"Total Sequences in Summary",{"$f":"SUM(O7:O38)","v":130},null,null,null,null,"Total Sequences in Block Summary",{"$f":"SUM(U7:U38)","v":22},null,null,null,"Total Sequences in Block Summary",{"$f":"SUM(Z7:Z38)","v":21},null,null,null,"Total Sequences in Block Summary",{"$f":"SUM(AE7:AE38)","v":22},null,null,null,"Total Sequences in Block Summary",{"$f":"SUM(AJ7:AJ38)","v":22},null,null,null,"Total Sequences in Block Summary",{"$f":"SUM(AO7:AO38)","v":21},null,null,null,"Total Sequences in Block Summary",{"$f":"SUM(AT7:AT38)","v":22}]
[null,null,null,null,null,null,null,null,null,null,null,null,null,null,null,null,null,null,null,"Block 1",null,null,null,null,"Block 2",null,null,null,null,"Block 3",null,null,null,null,"Block 4",null,null,null,null,"Block 5",null,null,null,null,"Block 6"]
["Sequence\nComponent\n1","Time\n1","Sequence\nComponent\n2","Time\n2","Sequence\nComponent\n3","Time\n3","Sequence\nComponent\n4","Time\n4","Sequence\nComponent\n5","Time\n5","Correct?\n0=No 1=Yes","Sequence",null,"Frequency",null,"Relative Frequency","Variability",null,null,"Frequency",null,"Relative Frequency","Variability",null,"Frequency",null,"Relative Frequency","Variability",null,"Frequency",null,"Relative Frequency","Variability",null,"Frequency",null,"Relative Frequency","Variability",null,"Frequency",null,"Relative Frequency","Variability",null,"Frequency",null,"Relative Frequency","Variability"]
[12,13,24,29,13,239,23,251,24,274,0,12122,null,11111,{"$f":"COUNTIF($L$7:$L$500,N7)","v":0},{"$f":"O7/$Q$4","v":0},{"$f":"IF(P7=0,0,(P7*((LOG(P7))/LOG(2))))","v":0},null,null,{"$f":"N7","v":11111},{"$f":"COUNTIF(L7:L28,T7)","v":0},{"$f":"U7/(W4-U25)","v":0},{"$f":"IF(V7=0,0,(V7*((LOG(V7))/LOG(2))))","v":0},null,{"$f":"N7","v":11111},{"$f":"COUNTIF(L29:L49,Y7)","v":0},{"$f":"Z7/(AB4-Z25)","v":0},{"$f":"IF(AA7=0,0,(AA7*((LOG(AA7))/LOG(2))))","v":0},null,{"$f":"N7","v":11111},{"$f":"COUNTIF(L50:L71,AD7)","v":0},{"$f":"AE7/(AG4-AE25)","v":0},{"$f":"IF(AF7=0,0,(AF7*((LOG(AF7))/LOG(2))))","v":0},null,{"$f":"N7","v":11111},{"$f":"COUNTIF(L72:L93,AI7)","v":0},{"$f":"AJ7/(AL4-AJ25)","v":0},{"$f":"IF(AK7=0,0,(AK7*((LOG(AK7))/LOG(2))))","v":0},null,{"$f":"N7","v":11111},{"$f":"COUNTIF(L94:L114,AN7)","v":0},{"$f":"AO7/(AQ4-AO25)","v":0},{"$f":"IF(AP7=0,0,(AP7*((LOG(AP7))/LOG(2))))","v":0},null,{"$f":"N7","v":11111},{"$f":"COUNTIF(L115:L136,AS7)","v":0},{"$f":"AT7/(AV4-AT25)","v":0},{"$f":"IF(AU7=0,0,(AU7*((LOG(AU7))/LOG(2))))","v":0}]
[21,383,11,404,22,416,14,428,24,440,0,21212,null,11112,{"$f":"COUNTIF($L$7:$L$500,N8)","v":2},{"$f":"O8/$Q$4","v":1.5384615384615385E-2},{"$f":"IF(P8=0,0,(P8*((LOG(P8))/LOG(2))))","v":-9.2651812508130066E-2},null,null,{"$f":"N8","v":11112},{"$f":"COUNTIF(L7:L28,T8)","v":0},{"$f":"U8/(W4-U25)","v":0},{"$f":"IF(V8=0,0,(V8*((LOG(V8))/LOG(2))))","v":0},null,{"$f":"N8","v":11112},{"$f":"COUNTIF(L29:L49,Y8)","v":0},{"$f":"Z8/(AB4-Z25)","v":0},{"$f":"IF(AA8=0,0,(AA8*((LOG(AA8))/LOG(2))))","v":0},null,{"$f":"N8","v":11112},{"$f":"COUNTIF(L50:L71,AD8)","v":0},{"$f":"AE8/(AG4-AE25)","v":0},{"$f":"IF(AF8=0,0,(AF8*((LOG(AF8))/LOG(2))))","v":0},null,{"$f":"N8","v":11112},{"$f":"COUNTIF(L72:L93,AI8)","v":0},{"$f":"AJ8/(AL4-AJ25)","v":0},{"$f":"IF(AK8=0,0,(AK8*((LOG(AK8))/LOG(2))))","v":0},null,{"$f":"N8","v":11112},{"$f":"COUNTIF(L94:L114,AN8)","v":1},{"$f":"AO8/(AQ4-AO25)","v":5.2631578947368418E-2},{"$f":"IF(AP8=0,0,(AP8*((LOG(AP8))/LOG(2))))","v":-0.22357513228650452},null,{"$f":"N8","v":11112},{"$f":"COUNTIF(L115:L136,AS8)","v":1},{"$f":"AT8/(AV4-AT25)","v":5.5555555555555552E-2},{"$f":"IF(AU8=0,0,(AU8*((LOG(AU8))/LOG(2))))","v":-0.23166250008012845}]
[21,549,11,560,22,574,14,591,24,608,0,21212,null,11121,{"$f":"COUNTIF($L$7:$L$500,N9)","v":6},{"$f":"O9/$Q$4","v":4.6153846153846156E-2},{"$f":"IF(P9=0,0,(P9*((LOG(P9))/LOG(2))))","v":-0.20480332210649072},null,null,{"$f":"N9","v":11121},{"$f":"COUNTIF(L7:L28,T9)","v":0},{"$f":"U9/(W4-U25)","v":0},{"$f":"IF(V9=0,0,(V9*((LOG(V9))/LOG(2))))","v":0},null,{"$f":"N9","v":11121},{"$f":"COUNTIF(L29:L49,Y9)","v":2},{"$f":"Z9/(AB4-Z25)","v":0.13333333333333333},{"$f":"IF(AA9=0,0,(AA9*((LOG(AA9))/LOG(2))))","v":-0.3875854127478025},null,{"$f":"N9","v":11121},{"$f":"COUNTIF(L50:L71,AD9)","v":3},{"$f":"AE9/(AG4-AE25)","v":0.16666666666666666},{"$f":"IF(AF9=0,0,(AF9*((LOG(AF9))/LOG(2))))","v":-0.43082708345352599},null,{"$f":"N9","v":11121},{"$f":"COUNTIF(L72:L93,AI9)","v":0},{"$f":"AJ9/(AL4-AJ25)","v":0},{"$f":"IF(AK9=0,0,(AK9*((LOG(AK9))/LOG(2))))","v":0},null,{"$f":"N9","v":11121},{"$f":"COUNTIF(L94:L114,AN9)","v":1},{"$f":"AO9/(AQ4-AO25)","v":5.2631578947368418E-2},{"$f":"IF(AP9=0,0,(AP9*((LOG(AP9))/LOG(2))))","v":-0.22357513228650452},null,{"$f":"N9","v":11121},{"$f":"COUNTIF(L115:L136,AS9)","v":0},{"$f":"AT9/(AV4-AT25)","v":0},{"$f":"IF(AU9=0,0,(AU9*((LOG(AU9))/LOG(2))))","v":0}]
[21,709,22,742,13,759,23,770,13,785,0,22121,null,11122,{"$f":"COUNTIF($L$7:$L$500,N10)","v":2},{"$f":"O10/$Q$4","v":1.5384615384615385E-2},{"$f":"IF(P10=0,0,(P10*((LOG(P10))/LOG(2))))","v":-9.2651812508130066E-2},null,null,{"$f":"N10","v":11122},{"$f":"COUNTIF(L7:L28,T10)","v":0},{"$f":"U10/(W4-U25)","v":0},{"$f":"IF(V10=0,0,(V10*((LOG(V10))/LOG(2))))","v":0},null,{"$f":"N10","v":11122},{"$f":"COUNTIF(L29:L49,Y10)","v":0},{"$f":"Z10/(AB4-Z25)","v":0},{"$f":"IF(AA10=0,0,(AA10*((LOG(AA10))/LOG(2))))","v":0},null,{"$f":"N10","v":11122},{"$f":"COUNTIF(L50:L71,AD10)","v":2},{"$f":"AE10/(AG4-AE25)","v":0.1111111111111111},{"$f":"IF(AF10=0,0,(AF10*((LOG(AF10))/LOG(2))))","v":-0.3522138890491458},null,{"$f":"N10","v":11122},{"$f":"COUNTIF(L72:L93,AI10)","v":0},{"$f":"AJ10/(AL4-AJ25)","v":0},{"$f":"IF(AK10=0,0,(AK10*((LOG(AK10))/LOG(2))))","v":0},null,{"$f":"N10","v":11122},{"$f":"COUNTIF(L94:L114,AN10)","v":0},{"$f":"AO10/(AQ4-AO25)","v":0},{"$f":"IF(AP10=0,0,(AP10*((LOG(AP10))/LOG(2))))","v":0},null,{"$f":"N10","v":11122},{"$f":"COUNTIF(L115:L136,AS10)","v":0},{"$f":"AT10/(AV4-AT25)","v":0},{"$f":"IF(AU10=0,0,(AU10*((LOG(AU10))/LOG(2))))","v":0}]
[21,886,11,909,22,935,23,964,13,974,0,21221,null,11211,{"$f":"COUNTIF($L$7:$L$500,N11)","v":3},{"$f":"O11/$Q$4","v":2.3076923076923078E-2},{"$f":"IF(P11=0,0,(P11*((LOG(P11))/LOG(2))))","v":-0.12547858413016844},null,null,{"$f":"N11","v":11211},{"$f":"COUNTIF(L7:L28,T11)","v":0},{"$f":"U11/(W4-U25)","v":0},{"$f":"IF(V11=0,0,(V11*((LOG(V11))/LOG(2))))","v":0},null,{"$f":"N11","v":11211},{"$f":"COUNTIF(L29:L49,Y11)","v":0},{"$f":"Z11/(AB4-Z25)","v":0},{"$f":"IF(AA11=0,0,(AA11*((LOG(AA11))/LOG(2))))","v":0},null,{"$f":"N11","v":11211},{"$f":"COUNTIF(L50:L71,AD11)","v":0},{"$f":"AE11/(AG4-AE25)","v":0},{"$f":"IF(AF11=0,0,(AF11*((LOG(AF11))/LOG(2))))","v":0},null,{"$f":"N11","v":11211},{"$f":"COUNTIF(L72:L93,AI11)","v":2},{"$f":"AJ11/(AL4-AJ25)","v":0.10526315789473684},{"$f":"IF(AK11=0,0,(AK11*((LOG(AK11))/LOG(2))))","v":-0.34188710667827216},null,{"$f":"N11","v":11211},{"$f":"COUNTIF(L94:L114,AN11)","v":0},{"$f":"AO11/(AQ4-AO25)","v":0},{"$f":"IF(AP11=0,0,(AP11*((LOG(AP11))/LOG(2))))","v":0},null,{"$f":"N11","v":11211},{"$f":"COUNTIF(L115:L136,AS11)","v":1},{"$f":"AT11/(AV4-AT25)","v":5.5555555555555552E-2},{"$f":"IF(AU11=0,0,(AU11*((LOG(AU11))/LOG(2))))","v":-0.23166250008012845}]
[21,1075,11,1084,22,1097,14,1113,24,1125,0,21212,null,11212,{"$f":"COUNTIF($L$7:$L$500,N12)","v":9},{"$f":"O12/$Q$4","v":6.9230769230769235E-2},{"$f":"IF(P12=0,0,(P12*((LOG(P12))/LOG(2))))","v":-0.26670757926365601},null,null,{"$f":"N12","v":11212},{"$f":"COUNTIF(L7:L28,T12)","v":3},{"$f":"U12/(W4-U25)","v":0.15},{"$f":"IF(V12=0,0,(V12*((LOG(V12))/LOG(2))))","v":-0.41054483912493089},null,{"$f":"N12","v":11212},{"$f":"COUNTIF(L29:L49,Y12)","v":0},{"$f":"Z12/(AB4-Z25)","v":0},{"$f":"IF(AA12=0,0,(AA12*((LOG(AA12))/LOG(2))))","v":0},null,{"$f":"N12","v":11212},{"$f":"COUNTIF(L50:L71,AD12)","v":3},{"$f":"AE12/(AG4-AE25)","v":0.16666666666666666},{"$f":"IF(AF12=0,0,(AF12*((LOG(AF12))/LOG(2))))","v":-0.43082708345352599},null,{"$f":"N12","v":11212},{"$f":"COUNTIF(L72:L93,AI12)","v":2},{"$f":"AJ12/(AL4-AJ25)","v":0.10526315789473684},{"$f":"IF(AK12=0,0,(AK12*((LOG(AK12))/LOG(2))))","v":-0.34188710667827216},null,{"$f":"N12","v":11212},{"$f":"COUNTIF(L94:L114,AN12)","v":1},{"$f":"AO12/(AQ4-AO25)","v":5.2631578947368418E-2},{"$f":"IF(AP12=0,0,(AP12*((LOG(AP12))/LOG(2))))","v":-0.22357513228650452},null,{"$f":"N12","v":11212},{"$f":"COUNTIF(L115:L136,AS12)","v":0},{"$f":"AT12/(AV4-AT25)","v":0},{"$f":"IF(AU12=0,0,(AU12*((LOG(AU12))/LOG(2))))","v":0}]
[21,1225,11,1233,22,1244,14,1263,24,1275,0,21212,null,11221,{"$f":"COUNTIF($L$7:$L$500,N13)","v":2},{"$f":"O13/$Q$4","v":1.5384615384615385E-2},{"$f":"IF(P13=0,0,(P13*((LOG(P13))/LOG(2))))","v":-9.2651812508130066E-2},null,null,{"$f":"N13","v":11221},{"$f":"COUNTIF(L7:L28,T13)","v":0},{"$f":"U13/(W4-U25)","v":0},{"$f":"IF(V13=0,0,(V13*((LOG(V13))/LOG(2))))","v":0},null,{"$f":"N13","v":11221},{"$f":"COUNTIF(L29:L49,Y13)","v":2},{"$f":"Z13/(AB4-Z25)","v":0.13333333333333333},{"$f":"IF(AA13=0,0,(AA13*((LOG(AA13))/LOG(2))))","v":-0.3875854127478025},null,{"$f":"N13","v":11221},{"$f":"COUNTIF(L50:L71,AD13)","v":0},{"$f":"AE13/(AG4-AE25)","v":0},{"$f":"IF(AF13=0,0,(AF13*((LOG(AF13))/LOG(2))))","v":0},null,{"$f":"N13","v":11221},{"$f":"COUNTIF(L72:L93,AI13)","v":0},{"$f":"AJ13/(AL4-AJ25)","v":0},{"$f":"IF(AK13=0,0,(AK13*((LOG(AK13))/LOG(2))))","v":0},null,{"$f":"N13","v":11221},{"$f":"COUNTIF(L94:L114,AN13)","v":0},{"$f":"AO13/(AQ4-AO25)","v":0},{"$f":"IF(AP13=0,0,(AP13*((LOG(AP13))/LOG(2))))","v":0},null,{"$f":"N13","v":11221},{"$f":"COUNTIF(L115:L136,AS13)","v":0},{"$f":"AT13/(AV4-AT25)","v":0},{"$f":"IF(AU13=0,0,(AU13*((LOG(AU13))/LOG(2))))","v":0}]
[21,1376,11,1384,11,1397,21,1413,11,1428,1,21121,null,11222,{"$f":"COUNTIF($L$7:$L$500,N14)","v":0},{"$f":"O14/$Q$4","v":0},{"$f":"IF(P14=0,0,(P14*((LOG(P14))/LOG(2))))","v":0},null,null,{"$f":"N14","v":11222},{"$f":"COUNTIF(L7:L28,T14)","v":0},{"$f":"U14/(W4-U25)","v":0},{"$f":"IF(V14=0,0,(V14*((LOG(V14))/LOG(2))))","v":0},null,{"$f":"N14","v":11222},{"$f":"COUNTIF(L29:L49,Y14)","v":0},{"$f":"Z14/(AB4-Z25)","v":0},{"$f":"IF(AA14=0,0,(AA14*((LOG(AA14))/LOG(2))))","v":0},null,{"$f":"N14","v":11222},{"$f":"COUNTIF(L50:L71,AD14)","v":0},{"$f":"AE14/(AG4-AE25)","v":0},{"$f":"IF(AF14=0,0,(AF14*((LOG(AF14))/LOG(2))))","v":0},null,{"$f":"N14","v":11222},{"$f":"COUNTIF(L72:L93,AI14)","v":0},{"$f":"AJ14/(AL4-AJ25)","v":0},{"$f":"IF(AK14=0,0,(AK14*((LOG(AK14))/LOG(2))))","v":0},null,{"$f":"N14","v":11222},{"$f":"COUNTIF(L94:L114,AN14)","v":0},{"$f":"AO14/(AQ4-AO25)","v":0},{"$f":"IF(AP14=0,0,(AP14*((LOG(AP14))/LOG(2))))","v":0},null,{"$f":"N14","v":11222},{"$f":"COUNTIF(L115:L136,AS14)","v":0},{"$f":"AT14/(AV4-AT25)","v":0},{"$f":"IF(AU14=0,0,(AU14*((LOG(AU14))/LOG(2))))","v":0}]
[21,1545,11,1556,22,1567,14,1578,24,1588,0,21212,null,12111,{"$f":"COUNTIF($L$7:$L$500,N15)","v":0},{"$f":"O15/$Q$4","v":0},{"$f":"IF(P15=0,0,(P15*((LOG(P15))/LOG(2))))","v":0},null,null,{"$f":"N15","v":12111},{"$f":"COUNTIF(L7:L28,T15)","v":0},{"$f":"U15/(W4-U25)","v":0},{"$f":"IF(V15=0,0,(V15*((LOG(V15))/LOG(2))))","v":0},null,{"$f":"N15","v":12111},{"$f":"COUNTIF(L29:L49,Y15)","v":0},{"$f":"Z15/(AB4-Z25)","v":0},{"$f":"IF(AA15=0,0,(AA15*((LOG(AA15))/LOG(2))))","v":0},null,{"$f":"N15","v":12111},{"$f":"COUNTIF(L50:L71,AD15)","v":0},{"$f":"AE15/(AG4-AE25)","v":0},{"$f":"IF(AF15=0,0,(AF15*((LOG(AF15))/LOG(2))))","v":0},null,{"$f":"N15","v":12111},{"$f":"COUNTIF(L72:L93,AI15)","v":0},{"$f":"AJ15/(AL4-AJ25)","v":0},{"$f":"IF(AK15=0,0,(AK15*((LOG(AK15))/LOG(2))))","v":0},null,{"$f":"N15","v":12111},{"$f":"COUNTIF(L94:L114,AN15)","v":0},{"$f":"AO15/(AQ4-AO25)","v":0},{"$f":"IF(AP15=0,0,(AP15*((LOG(AP15))/LOG(2))))","v":0},null,{"$f":"N15","v":12111},{"$f":"COUNTIF(L115:L136,AS15)","v":0},{"$f":"AT15/(AV4-AT25)","v":0},{"$f":"IF(AU15=0,0,(AU15*((LOG(AU15))/LOG(2))))","v":0}]
[21,1693,11,1701,22,1713,23,1748,24,1777,0,21222,null,12112,{"$f":"COUNTIF($L$7:$L$500,N16)","v":1},{"$f":"O16/$Q$4","v":7.6923076923076927E-3},{"$f":"IF(P16=0,0,(P16*((LOG(P16))/LOG(2))))","v":-5.4018213946372733E-2},null,null,{"$f":"N16","v":12112},{"$f":"COUNTIF(L7:L28,T16)","v":0},{"$f":"U16/(W4-U25)","v":0},{"$f":"IF(V16=0,0,(V16*((LOG(V16))/LOG(2))))","v":0},null,{"$f":"N16","v":12112},{"$f":"COUNTIF(L29:L49,Y16)","v":0},{"$f":"Z16/(AB4-Z25)","v":0},{"$f":"IF(AA16=0,0,(AA16*((LOG(AA16))/LOG(2))))","v":0},null,{"$f":"N16","v":12112},{"$f":"COUNTIF(L50:L71,AD16)","v":1},{"$f":"AE16/(AG4-AE25)","v":5.5555555555555552E-2},{"$f":"IF(AF16=0,0,(AF16*((LOG(AF16))/LOG(2))))","v":-0.23166250008012845},null,{"$f":"N16","v":12112},{"$f":"COUNTIF(L72:L93,AI16)","v":0},{"$f":"AJ16/(AL4-AJ25)","v":0},{"$f":"IF(AK16=0,0,(AK16*((LOG(AK16))/LOG(2))))","v":0},null,{"$f":"N16","v":12112},{"$f":"COUNTIF(L94:L114,AN16)","v":0},{"$f":"AO16/(AQ4-AO25)","v":0},{"$f":"IF(AP16=0,0,(AP16*((LOG(AP16))/LOG(2))))","v":0},null,{"$f":"N16","v":12112},{"$f":"COUNTIF(L115:L136,AS16)","v":0},{"$f":"AT16/(AV4-AT25)","v":0},{"$f":"IF(AU16=0,0,(AU16*((LOG(AU16))/LOG(2))))","v":0}]
[21,1882,11,1890,11,1907,21,1919,11,1933,1,21121,null,12121,{"$f":"COUNTIF($L$7:$L$500,N17)","v":3},{"$f":"O17/$Q$4","v":2.3076923076923078E-2},{"$f":"IF(P17=0,0,(P17*((LOG(P17))/LOG(2))))","v":-0.12547858413016844},null,null,{"$f":"N17","v":12121},{"$f":"COUNTIF(L7:L28,T17)","v":0},{"$f":"U17/(W4-U25)","v":0},{"$f":"IF(V17=0,0,(V17*((LOG(V17))/LOG(2))))","v":0},null,{"$f":"N17","v":12121},{"$f":"COUNTIF(L29:L49,Y17)","v":0},{"$f":"Z17/(AB4-Z25)","v":0},{"$f":"IF(AA17=0,0,(AA17*((LOG(AA17))/LOG(2))))","v":0},null,{"$f":"N17","v":12121},{"$f":"COUNTIF(L50:L71,AD17)","v":1},{"$f":"AE17/(AG4-AE25)","v":5.5555555555555552E-2},{"$f":"IF(AF17=0,0,(AF17*((LOG(AF17))/LOG(2))))","v":-0.23166250008012845},null,{"$f":"N17","v":12121},{"$f":"COUNTIF(L72:L93,AI17)","v":0},{"$f":"AJ17/(AL4-AJ25)","v":0},{"$f":"IF(AK17=0,0,(AK17*((LOG(AK17))/LOG(2))))","v":0},null,{"$f":"N17","v":12121},{"$f":"COUNTIF(L94:L114,AN17)","v":0},{"$f":"AO17/(AQ4-AO25)","v":0},{"$f":"IF(AP17=0,0,(AP17*((LOG(AP17))/LOG(2))))","v":0},null,{"$f":"N17","v":12121},{"$f":"COUNTIF(L115:L136,AS17)","v":2},{"$f":"AT17/(AV4-AT25)","v":0.1111111111111111},{"$f":"IF(AU17=0,0,(AU17*((LOG(AU17))/LOG(2))))","v":-0.3522138890491458}]
[21,2080,22,2099,13,2112,23,2126,24,2146,0,22122,null,12122,{"$f":"COUNTIF($L$7:$L$500,N18)","v":2},{"$f":"O18/$Q$4","v":1.5384615384615385E-2},{"$f":"IF(P18=0,0,(P18*((LOG(P18))/LOG(2))))","v":-9.2651812508130066E-2},null,null,{"$f":"N18","v":12122},{"$f":"COUNTIF(L7:L28,T18)","v":2},{"$f":"U18/(W4-U25)","v":0.1},{"$f":"IF(V18=0,0,(V18*((LOG(V18))/LOG(2))))","v":-0.33219280948873625},null,{"$f":"N18","v":12122},{"$f":"COUNTIF(L29:L49,Y18)","v":0},{"$f":"Z18/(AB4-Z25)","v":0},{"$f":"IF(AA18=0,0,(AA18*((LOG(AA18))/LOG(2))))","v":0},null,{"$f":"N18","v":12122},{"$f":"COUNTIF(L50:L71,AD18)","v":0},{"$f":"AE18/(AG4-AE25)","v":0},{"$f":"IF(AF18=0,0,(AF18*((LOG(AF18))/LOG(2))))","v":0},null,{"$f":"N18","v":12122},{"$f":"COUNTIF(L72:L93,AI18)","v":0},{"$f":"AJ18/(AL4-AJ25)","v":0},{"$f":"IF(AK18=0,0,(AK18*((LOG(AK18))/LOG(2))))","v":0},null,{"$f":"N18","v":12122},{"$f":"COUNTIF(L94:L114,AN18)","v":0},{"$f":"AO18/(AQ4-AO25)","v":0},{"$f":"IF(AP18=0,0,(AP18*((LOG(AP18))/LOG(2))))","v":0},null,{"$f":"N18","v":12122},{"$f":"COUNTIF(L115:L136,AS18)","v":0},{"$f":"AT18/(AV4-AT25)","v":0},{"$f":"IF(AU18=0,0,(AU18*((LOG(AU18))/LOG(2))))","v":0}]
[21,2250,11,2258,22,2269,14,2284,24,2297,0,21212,null,12211,{"$f":"COUNTIF($L$7:$L$500,N19)","v":0},{"$f":"O19/$Q$4","v":0},{"$f":"IF(P19=0,0,(P19*((LOG(P19))/LOG(2))))","v":0},null,null,{"$f":"N19","v":12211},{"$f":"COUNTIF(L7:L28,T19)","v":0},{"$f":"U19/(W4-U25)","v":0},{"$f":"IF(V19=0,0,(V19*((LOG(V19))/LOG(2))))","v":0},null,{"$f":"N19","v":12211},{"$f":"COUNTIF(L29:L49,Y19)","v":0},{"$f":"Z19/(AB4-Z25)","v":0},{"$f":"IF(AA19=0,0,(AA19*((LOG(AA19))/LOG(2))))","v":0},null,{"$f":"N19","v":12211},{"$f":"COUNTIF(L50:L71,AD19)","v":0},{"$f":"AE19/(AG4-AE25)","v":0},{"$f":"IF(AF19=0,0,(AF19*((LOG(AF19))/LOG(2))))","v":0},null,{"$f":"N19","v":12211},{"$f":"COUNTIF(L72:L93,AI19)","v":0},{"$f":"AJ19/(AL4-AJ25)","v":0},{"$f":"IF(AK19=0,0,(AK19*((LOG(AK19))/LOG(2))))","v":0},null,{"$f":"N19","v":12211},{"$f":"COUNTIF(L94:L114,AN19)","v":0},{"$f":"AO19/(AQ4-AO25)","v":0},{"$f":"IF(AP19=0,0,(AP19*((LOG(AP19))/LOG(2))))","v":0},null,{"$f":"N19","v":12211},{"$f":"COUNTIF(L115:L136,AS19)","v":0},{"$f":"AT19/(AV4-AT25)","v":0},{"$f":"IF(AU19=0,0,(AU19*((LOG(AU19))/LOG(2))))","v":0}]
[12,2398,13,2411,24,2422,14,2438,24,2451,0,11212,null,12212,{"$f":"COUNTIF($L$7:$L$500,N20)","v":1},{"$f":"O20/$Q$4","v":7.6923076923076927E-3},{"$f":"IF(P20=0,0,(P20*((LOG(P20))/LOG(2))))","v":-5.4018213946372733E-2},null,null,{"$f":"N20","v":12212},{"$f":"COUNTIF(L7:L28,T20)","v":0},{"$f":"U20/(W4-U25)","v":0},{"$f":"IF(V20=0,0,(V20*((LOG(V20))/LOG(2))))","v":0},null,{"$f":"N20","v":12212},{"$f":"COUNTIF(L29:L49,Y20)","v":0},{"$f":"Z20/(AB4-Z25)","v":0},{"$f":"IF(AA20=0,0,(AA20*((LOG(AA20))/LOG(2))))","v":0},null,{"$f":"N20","v":12212},{"$f":"COUNTIF(L50:L71,AD20)","v":1},{"$f":"AE20/(AG4-AE25)","v":5.5555555555555552E-2},{"$f":"IF(AF20=0,0,(AF20*((LOG(AF20))/LOG(2))))","v":-0.23166250008012845},null,{"$f":"N20","v":12212},{"$f":"COUNTIF(L72:L93,AI20)","v":0},{"$f":"AJ20/(AL4-AJ25)","v":0},{"$f":"IF(AK20=0,0,(AK20*((LOG(AK20))/LOG(2))))","v":0},null,{"$f":"N20","v":12212},{"$f":"COUNTIF(L94:L114,AN20)","v":0},{"$f":"AO20/(AQ4-AO25)","v":0},{"$f":"IF(AP20=0,0,(AP20*((LOG(AP20))/LOG(2))))","v":0},null,{"$f":"N20","v":12212},{"$f":"COUNTIF(L115:L136,AS20)","v":0},{"$f":"AT20/(AV4-AT25)","v":0},{"$f":"IF(AU20=0,0,(AU20*((LOG(AU20))/LOG(2))))","v":0}]
[21,2553,11,2562,22,2573,23,2600,13,2613,0,21221,null,12221,{"$f":"COUNTIF($L$7:$L$500,N21)","v":2},{"$f":"O21/$Q$4","v":1.5384615384615385E-2},{"$f":"IF(P21=0,0,(P21*((LOG(P21))/LOG(2))))","v":-9.2651812508130066E-2},null,null,{"$f":"N21","v":12221},{"$f":"COUNTIF(L7:L28,T21)","v":0},{"$f":"U21/(W4-U25)","v":0},{"$f":"IF(V21=0,0,(V21*((LOG(V21))/LOG(2))))","v":0},null,{"$f":"N21","v":12221},{"$f":"COUNTIF(L29:L49,Y21)","v":0},{"$f":"Z21/(AB4-Z25)","v":0},{"$f":"IF(AA21=0,0,(AA21*((LOG(AA21))/LOG(2))))","v":0},null,{"$f":"N21","v":12221},{"$f":"COUNTIF(L50:L71,AD21)","v":2},{"$f":"AE21/(AG4-AE25)","v":0.1111111111111111},{"$f":"IF(AF21=0,0,(AF21*((LOG(AF21))/LOG(2))))","v":-0.3522138890491458},null,{"$f":"N21","v":12221},{"$f":"COUNTIF(L72:L93,AI21)","v":0},{"$f":"AJ21/(AL4-AJ25)","v":0},{"$f":"IF(AK21=0,0,(AK21*((LOG(AK21))/LOG(2))))","v":0},null,{"$f":"N21","v":12221},{"$f":"COUNTIF(L94:L114,AN21)","v":0},{"$f":"AO21/(AQ4-AO25)","v":0},{"$f":"IF(AP21=0,0,(AP21*((LOG(AP21))/LOG(2))))","v":0},null,{"$f":"N21","v":12221},{"$f":"COUNTIF(L115:L136,AS21)","v":0},{"$f":"AT21/(AV4-AT25)","v":0},{"$f":"IF(AU21=0,0,(AU21*((LOG(AU21))/LOG(2))))","v":0}]
[12,2717,24,2726,13,2736,23,2751,24,2766,0,12122,null,12222,{"$f":"COUNTIF($L$7:$L$500,N22)","v":0},{"$f":"O22/$Q$4","v":0},{"$f":"IF(P22=0,0,(P22*((LOG(P22))/LOG(2))))","v":0},null,null,{"$f":"N22","v":12222},{"$f":"COUNTIF(L7:L28,T22)","v":0},{"$f":"U22/(W4-U25)","v":0},{"$f":"IF(V22=0,0,(V22*((LOG(V22))/LOG(2))))","v":0},null,{"$f":"N22","v":12222},{"$f":"COUNTIF(L29:L49,Y22)","v":0},{"$f":"Z22/(AB4-Z25)","v":0},{"$f":"IF(AA22=0,0,(AA22*((LOG(AA22))/LOG(2))))","v":0},null,{"$f":"N22","v":12222},{"$f":"COUNTIF(L50:L71,AD22)","v":0},{"$f":"AE22/(AG4-AE25)","v":0},{"$f":"IF(AF22=0,0,(AF22*((LOG(AF22))/LOG(2))))","v":0},null,{"$f":"N22","v":12222},{"$f":"COUNTIF(L72:L93,AI22)","v":0},{"$f":"AJ22/(AL4-AJ25)","v":0},{"$f":"IF(AK22=0,0,(AK22*((LOG(AK22))/LOG(2))))","v":0},null,{"$f":"N22","v":12222},{"$f":"COUNTIF(L94:L114,AN22)","v":0},{"$f":"AO22/(AQ4-AO25)","v":0},{"$f":"IF(AP22=0,0,(AP22*((LOG(AP22))/LOG(2))))","v":0},null,{"$f":"N22","v":12222},{"$f":"COUNTIF(L115:L136,AS22)","v":0},{"$f":"AT22/(AV4-AT25)","v":0},{"$f":"IF(AU22=0,0,(AU22*((LOG(AU22))/LOG(2))))","v":0}]
[21,2874,11,2882,22,2893,14,2907,24,2918,0,21212,null,21111,{"$f":"COUNTIF($L$7:$L$500,N23)","v":5},{"$f":"O23/$Q$4","v":3.8461538461538464E-2},{"$f":"IF(P23=0,0,(P23*((LOG(P23))/LOG(2))))","v":-0.18078614300542661},null,null,{"$f":"N23","v":21111},{"$f":"COUNTIF(L7:L28,T23)","v":0},{"$f":"U23/(W4-U25)","v":0},{"$f":"IF(V23=0,0,(V23*((LOG(V23))/LOG(2))))","v":0},null,{"$f":"N23","v":21111},{"$f":"COUNTIF(L29:L49,Y23)","v":1},{"$f":"Z23/(AB4-Z25)","v":6.6666666666666666E-2},{"$f":"IF(AA23=0,0,(AA23*((LOG(AA23))/LOG(2))))","v":-0.26045937304056793},null,{"$f":"N23","v":21111},{"$f":"COUNTIF(L50:L71,AD23)","v":0},{"$f":"AE23/(AG4-AE25)","v":0},{"$f":"IF(AF23=0,0,(AF23*((LOG(AF23))/LOG(2))))","v":0},null,{"$f":"N23","v":21111},{"$f":"COUNTIF(L72:L93,AI23)","v":0},{"$f":"AJ23/(AL4-AJ25)","v":0},{"$f":"IF(AK23=0,0,(AK23*((LOG(AK23))/LOG(2))))","v":0},null,{"$f":"N23","v":21111},{"$f":"COUNTIF(L94:L114,AN23)","v":2},{"$f":"AO23/(AQ4-AO25)","v":0.10526315789473684},{"$f":"IF(AP23=0,0,(AP23*((LOG(AP23))/LOG(2))))","v":-0.34188710667827216},null,{"$f":"N23","v":21111},{"$f":"COUNTIF(L115:L136,AS23)","v":2},{"$f":"AT23/(AV4-AT25)","v":0.1111111111111111},{"$f":"IF(AU23=0,0,(AU23*((LOG(AU23))/LOG(2))))","v":-0.3522138890491458}]
[12,3035,13,3046,24,3060,14,3073,24,3084,0,11212,null,21112,{"$f":"COUNTIF($L$7:$L$500,N24)","v":4},{"$f":"O24/$Q$4","v":3.0769230769230771E-2},{"$f":"IF(P24=0,0,(P24*((LOG(P24))/LOG(2))))","v":-0.15453439424702936},null,null,{"$f":"N24","v":21112},{"$f":"COUNTIF(L7:L28,T24)","v":0},{"$f":"U24/(W4-U25)","v":0},{"$f":"IF(V24=0,0,(V24*((LOG(V24))/LOG(2))))","v":0},null,{"$f":"N24","v":21112},{"$f":"COUNTIF(L29:L49,Y24)","v":0},{"$f":"Z24/(AB4-Z25)","v":0},{"$f":"IF(AA24=0,0,(AA24*((LOG(AA24))/LOG(2))))","v":0},null,{"$f":"N24","v":21112},{"$f":"COUNTIF(L50:L71,AD24)","v":0},{"$f":"AE24/(AG4-AE25)","v":0},{"$f":"IF(AF24=0,0,(AF24*((LOG(AF24))/LOG(2))))","v":0},null,{"$f":"N24","v":21112},{"$f":"COUNTIF(L72:L93,AI24)","v":2},{"$f":"AJ24/(AL4-AJ25)","v":0.10526315789473684},{"$f":"IF(AK24=0,0,(AK24*((LOG(AK24))/LOG(2))))","v":-0.34188710667827216},null,{"$f":"N24","v":21112},{"$f":"COUNTIF(L94:L114,AN24)","v":2},{"$f":"AO24/(AQ4-AO25)","v":0.10526315789473684},{"$f":"IF(AP24=0,0,(AP24*((LOG(AP24))/LOG(2))))","v":-0.34188710667827216},null,{"$f":"N24","v":21112},{"$f":"COUNTIF(L115:L136,AS24)","v":0},{"$f":"AT24/(AV4-AT25)","v":0},{"$f":"IF(AU24=0,0,(AU24*((LOG(AU24))/LOG(2))))","v":0}]
[12,3187,13,3200,24,3213,14,3226,24,3242,0,11212,null,21121,{"$f":"COUNTIF($L$7:$L$500,N25)","v":21},{"$f":"O25/$Q$4","v":0.16153846153846155},{"$f":"IF(P25=0,0,(P25*((LOG(P25))/LOG(2))))","v":-0.42485429380956602},null,null,{"$f":"N25","v":21121},{"$f":"COUNTIF(L7:L28,T25)","v":2},null,null,null,{"$f":"N25","v":21121},{"$f":"COUNTIF(L29:L49,Y25)","v":6},null,null,null,{"$f":"N25","v":21121},{"$f":"COUNTIF(L50:L71,AD25)","v":4},null,null,null,{"$f":"N25","v":21121},{"$f":"COUNTIF(L72:L93,AI25)","v":3},null,null,null,{"$f":"N25","v":21121},{"$f":"COUNTIF(L94:L114,AN25)","v":2},null,null,null,{"$f":"N25","v":21121},{"$f":"COUNTIF(L115:L136,AS25)","v":4}]
[21,3350,11,3370,22,3385,14,3399,13,3425,0,21211,null,21122,{"$f":"COUNTIF($L$7:$L$500,N26)","v":6},{"$f":"O26/$Q$4","v":4.6153846153846156E-2},{"$f":"IF(P26=0,0,(P26*((LOG(P26))/LOG(2))))","v":-0.20480332210649072},null,null,{"$f":"N26","v":21122},{"$f":"COUNTIF(L7:L28,T26)","v":1},{"$f":"U26/(W4-U25)","v":0.05},{"$f":"IF(V26=0,0,(V26*((LOG(V26))/LOG(2))))","v":-0.21609640474436814},null,{"$f":"N26","v":21122},{"$f":"COUNTIF(L29:L49,Y26)","v":1},{"$f":"Z26/(AB4-Z25)","v":6.6666666666666666E-2},{"$f":"IF(AA26=0,0,(AA26*((LOG(AA26))/LOG(2))))","v":-0.26045937304056793},null,{"$f":"N26","v":21122},{"$f":"COUNTIF(L50:L71,AD26)","v":0},{"$f":"AE26/(AG4-AE25)","v":0},{"$f":"IF(AF26=0,0,(AF26*((LOG(AF26))/LOG(2))))","v":0},null,{"$f":"N26","v":21122},{"$f":"COUNTIF(L72:L93,AI26)","v":2},{"$f":"AJ26/(AL4-AJ25)","v":0.10526315789473684},{"$f":"IF(AK26=0,0,(AK26*((LOG(AK26))/LOG(2))))","v":-0.34188710667827216},null,{"$f":"N26","v":21122},{"$f":"COUNTIF(L94:L114,AN26)","v":1},{"$f":"AO26/(AQ4-AO25)","v":5.2631578947368418E-2},{"$f":"IF(AP26=0,0,(AP26*((LOG(AP26))/LOG(2))))","v":-0.22357513228650452},null,{"$f":"N26","v":21122},{"$f":"COUNTIF(L115:L136,AS26)","v":1},{"$f":"AT26/(AV4-AT25)","v":5.5555555555555552E-2},{"$f":"IF(AU26=0,0,(AU26*((LOG(AU26))/LOG(2))))","v":-0.23166250008012845}]
[21,3531,11,3540,22,3552,23,3566,24,3595,0,21222,null,21211,{"$f":"COUNTIF($L$7:$L$500,N27)","v":7},{"$f":"O27/$Q$4","v":5.3846153846153849E-2},{"$f":"IF(P27=0,0,(P27*((LOG(P27))/LOG(2))))","v":-0.22696223259073811},null,null,{"$f":"N27","v":21211},{"$f":"COUNTIF(L7:L28,T27)","v":1},{"$f":"U27/(W4-U25)","v":0.05},{"$f":"IF(V27=0,0,(V27*((LOG(V27))/LOG(2))))","v":-0.21609640474436814},null,{"$f":"N27","v":21211},{"$f":"COUNTIF(L29:L49,Y27)","v":1},{"$f":"Z27/(AB4-Z25)","v":6.6666666666666666E-2},{"$f":"IF(AA27=0,0,(AA27*((LOG(AA27))/LOG(2))))","v":-0.26045937304056793},null,{"$f":"N27","v":21211},{"$f":"COUNTIF(L50:L71,AD27)","v":0},{"$f":"AE27/(AG4-AE25)","v":0},{"$f":"IF(AF27=0,0,(AF27*((LOG(AF27))/LOG(2))))","v":0},null,{"$f":"N27","v":21211},{"$f":"COUNTIF(L72:L93,AI27)","v":2},{"$f":"AJ27/(AL4-AJ25)","v":0.10526315789473684},{"$f":"IF(AK27=0,0,(AK27*((LOG(AK27))/LOG(2))))","v":-0.34188710667827216},null,{"$f":"N27","v":21211},{"$f":"COUNTIF(L94:L114,AN27)","v":0},{"$f":"AO27/(AQ4-AO25)","v":0},{"$f":"IF(AP27=0,0,(AP27*((LOG(AP27))/LOG(2))))","v":0},null,{"$f":"N27","v":21211},{"$f":"COUNTIF(L115:L136,AS27)","v":3},{"$f":"AT27/(AV4-AT25)","v":0.16666666666666666},{"$f":"IF(AU27=0,0,(AU27*((LOG(AU27))/LOG(2))))","v":-0.43082708345352599}]
[21,3696,11,3704,11,3720,21,3730,22,3758,0,21122,null,21212,{"$f":"COUNTIF($L$7:$L$500,N28)","v":31},{"$f":"O28/$Q$4","v":0.23846153846153847},{"$f":"IF(P28=0,0,(P28*((LOG(P28))/LOG(2))))","v":-0.49317935832222282},null,null,{"$f":"N28","v":21212},{"$f":"COUNTIF(L7:L28,T28)","v":7},{"$f":"U28/(W4-U25)","v":0.35},{"$f":"IF(V28=0,0,(V28*((LOG(V28))/LOG(2))))","v":-0.53010061049041535},null,{"$f":"N28","v":21212},{"$f":"COUNTIF(L29:L49,Y28)","v":7},{"$f":"Z28/(AB4-Z25)","v":0.46666666666666667},{"$f":"IF(AA28=0,0,(AA28*((LOG(AA28))/LOG(2))))","v":-0.51311664765709342},null,{"$f":"N28","v":21212},{"$f":"COUNTIF(L50:L71,AD28)","v":3},{"$f":"AE28/(AG4-AE25)","v":0.16666666666666666},{"$f":"IF(AF28=0,0,(AF28*((LOG(AF28))/LOG(2))))","v":-0.43082708345352599},null,{"$f":"N28","v":21212},{"$f":"COUNTIF(L72:L93,AI28)","v":6},{"$f":"AJ28/(AL4-AJ25)","v":0.31578947368421051},{"$f":"IF(AK28=0,0,(AK28*((LOG(AK28))/LOG(2))))","v":-0.52514684612287243},null,{"$f":"N28","v":21212},{"$f":"COUNTIF(L94:L114,AN28)","v":6},{"$f":"AO28/(AQ4-AO25)","v":0.31578947368421051},{"$f":"IF(AP28=0,0,(AP28*((LOG(AP28))/LOG(2))))","v":-0.52514684612287243},null,{"$f":"N28","v":21212},{"$f":"COUNTIF(L115:L136,AS28)","v":2},{"$f":"AT28/(AV4-AT25)","v":0.1111111111111111},{"$f":"IF(AU28=0,0,(AU28*((LOG(AU28))/LOG(2))))","v":-0.3522138890491458}]
[12,3862,13,3873,13,3885,23,3899,13,3912,0,11121,null,21221,{"$f":"COUNTIF($L$7:$L$500,N29)","v":11},{"$f":"O29/$Q$4","v":8.461538461538462E-2},{"$f":"IF(P29=0,0,(P29*((LOG(P29))/LOG(2))))","v":-0.30147921644848258},null,null,{"$f":"N29","v":21221},{"$f":"COUNTIF(L7:L28,T29)","v":2},{"$f":"U29/(W4-U25)","v":0.1},{"$f":"IF(V29=0,0,(V29*((LOG(V29))/LOG(2))))","v":-0.33219280948873625},null,{"$f":"N29","v":21221},{"$f":"COUNTIF(L29:L49,Y29)","v":0},{"$f":"Z29/(AB4-Z25)","v":0},{"$f":"IF(AA29=0,0,(AA29*((LOG(AA29))/LOG(2))))","v":0},null,{"$f":"N29","v":21221},{"$f":"COUNTIF(L50:L71,AD29)","v":1},{"$f":"AE29/(AG4-AE25)","v":5.5555555555555552E-2},{"$f":"IF(AF29=0,0,(AF29*((LOG(AF29))/LOG(2))))","v":-0.23166250008012845},null,{"$f":"N29","v":21221},{"$f":"COUNTIF(L72:L93,AI29)","v":2},{"$f":"AJ29/(AL4-AJ25)","v":0.10526315789473684},{"$f":"IF(AK29=0,0,(AK29*((LOG(AK29))/LOG(2))))","v":-0.34188710667827216},null,{"$f":"N29","v":21221},{"$f":"COUNTIF(L94:L114,AN29)","v":4},{"$f":"AO29/(AQ4-AO25)","v":0.21052631578947367},{"$f":"IF(AP29=0,0,(AP29*((LOG(AP29))/LOG(2))))","v":-0.47324789756707064},null,{"$f":"N29","v":21221},{"$f":"COUNTIF(L115:L136,AS29)","v":2},{"$f":"AT29/(AV4-AT25)","v":0.1111111111111111},{"$f":"IF(AU29=0,0,(AU29*((LOG(AU29))/LOG(2))))","v":-0.3522138890491458}]
[21,4023,11,4043,22,4057,14,4072,24,4086,0,21212,null,21222,{"$f":"COUNTIF($L$7:$L$500,N30)","v":3},{"$f":"O30/$Q$4","v":2.3076923076923078E-2},{"$f":"IF(P30=0,0,(P30*((LOG(P30))/LOG(2))))","v":-0.12547858413016844},null,null,{"$f":"N30","v":21222},{"$f":"COUNTIF(L7:L28,T30)","v":2},{"$f":"U30/(W4-U25)","v":0.1},{"$f":"IF(V30=0,0,(V30*((LOG(V30))/LOG(2))))","v":-0.33219280948873625},null,{"$f":"N30","v":21222},{"$f":"COUNTIF(L29:L49,Y30)","v":0},{"$f":"Z30/(AB4-Z25)","v":0},{"$f":"IF(AA30=0,0,(AA30*((LOG(AA30))/LOG(2))))","v":0},null,{"$f":"N30","v":21222},{"$f":"COUNTIF(L50:L71,AD30)","v":1},{"$f":"AE30/(AG4-AE25)","v":5.5555555555555552E-2},{"$f":"IF(AF30=0,0,(AF30*((LOG(AF30))/LOG(2))))","v":-0.23166250008012845},null,{"$f":"N30","v":21222},{"$f":"COUNTIF(L72:L93,AI30)","v":0},{"$f":"AJ30/(AL4-AJ25)","v":0},{"$f":"IF(AK30=0,0,(AK30*((LOG(AK30))/LOG(2))))","v":0},null,{"$f":"N30","v":21222},{"$f":"COUNTIF(L94:L114,AN30)","v":0},{"$f":"AO30/(AQ4-AO25)","v":0},{"$f":"IF(AP30=0,0,(AP30*((LOG(AP30))/LOG(2))))","v":0},null,{"$f":"N30","v":21222},{"$f":"COUNTIF(L115:L136,AS30)","v":0},{"$f":"AT30/(AV4-AT25)","v":0},{"$f":"IF(AU30=0,0,(AU30*((LOG(AU30))/LOG(2))))","v":0}]
[12,4189,13,4205,13,4216,23,4229,13,4244,0,11121,null,22111,{"$f":"COUNTIF($L$7:$L$500,N31)","v":0},{"$f":"O31/$Q$4","v":0},{"$f":"IF(P31=0,0,(P31*((LOG(P31))/LOG(2))))","v":0},null,null,{"$f":"N31","v":22111},{"$f":"COUNTIF(L7:L28,T31)","v":0},{"$f":"U31/(W4-U25)","v":0},{"$f":"IF(V31=0,0,(V31*((LOG(V31))/LOG(2))))","v":0},null,{"$f":"N31","v":22111},{"$f":"COUNTIF(L29:L49,Y31)","v":0},{"$f":"Z31/(AB4-Z25)","v":0},{"$f":"IF(AA31=0,0,(AA31*((LOG(AA31))/LOG(2))))","v":0},null,{"$f":"N31","v":22111},{"$f":"COUNTIF(L50:L71,AD31)","v":0},{"$f":"AE31/(AG4-AE25)","v":0},{"$f":"IF(AF31=0,0,(AF31*((LOG(AF31))/LOG(2))))","v":0},null,{"$f":"N31","v":22111},{"$f":"COUNTIF(L72:L93,AI31)","v":0},{"$f":"AJ31/(AL4-AJ25)","v":0},{"$f":"IF(AK31=0,0,(AK31*((LOG(AK31))/LOG(2))))","v":0},null,{"$f":"N31","v":22111},{"$f":"COUNTIF(L94:L114,AN31)","v":0},{"$f":"AO31/(AQ4-AO25)","v":0},{"$f":"IF(AP31=0,0,(AP31*((LOG(AP31))/LOG(2))))","v":0},null,{"$f":"N31","v":22111},{"$f":"COUNTIF(L115:L136,AS31)","v":0},{"$f":"AT31/(AV4-AT25)","v":0},{"$f":"IF(AU31=0,0,(AU31*((LOG(AU31))/LOG(2))))","v":0}]
[21,4344,11,4356,11,4367,21,4378,11,4390,1,21121,null,22112,{"$f":"COUNTIF($L$7:$L$500,N32)","v":1},{"$f":"O32/$Q$4","v":7.6923076923076927E-3},{"$f":"IF(P32=0,0,(P32*((LOG(P32))/LOG(2))))","v":-5.4018213946372733E-2},null,null,{"$f":"N32","v":22112},{"$f":"COUNTIF(L7:L28,T32)","v":0},{"$f":"U32/(W4-U25)","v":0},{"$f":"IF(V32=0,0,(V32*((LOG(V32))/LOG(2))))","v":0},null,{"$f":"N32","v":22112},{"$f":"COUNTIF(L29:L49,Y32)","v":0},{"$f":"Z32/(AB4-Z25)","v":0},{"$f":"IF(AA32=0,0,(AA32*((LOG(AA32))/LOG(2))))","v":0},null,{"$f":"N32","v":22112},{"$f":"COUNTIF(L50:L71,AD32)","v":0},{"$f":"AE32/(AG4-AE25)","v":0},{"$f":"IF(AF32=0,0,(AF32*((LOG(AF32))/LOG(2))))","v":0},null,{"$f":"N32","v":22112},{"$f":"COUNTIF(L72:L93,AI32)","v":0},{"$f":"AJ32/(AL4-AJ25)","v":0},{"$f":"IF(AK32=0,0,(AK32*((LOG(AK32))/LOG(2))))","v":0},null,{"$f":"N32","v":22112},{"$f":"COUNTIF(L94:L114,AN32)","v":0},{"$f":"AO32/(AQ4-AO25)","v":0},{"$f":"IF(AP32=0,0,(AP32*((LOG(AP32))/LOG(2))))","v":0},null,{"$f":"N32","v":22112},{"$f":"COUNTIF(L115:L136,AS32)","v":1},{"$f":"AT32/(AV4-AT25)","v":5.5555555555555552E-2},{"$f":"IF(AU32=0,0,(AU32*((LOG(AU32))/LOG(2))))","v":-0.23166250008012845}]
[21,4484,11,4492,11,4504,21,4520,11,4535,1,21121,null,22121,{"$f":"COUNTIF($L$7:$L$500,N33)","v":3},{"$f":"O33/$Q$4","v":2.3076923076923078E-2},{"$f":"IF(P33=0,0,(P33*((LOG(P33))/LOG(2))))","v":-0.12547858413016844},null,null,{"$f":"N33","v":22121},{"$f":"COUNTIF(L7:L28,T33)","v":1},{"$f":"U33/(W4-U25)","v":0.05},{"$f":"IF(V33=0,0,(V33*((LOG(V33))/LOG(2))))","v":-0.21609640474436814},null,{"$f":"N33","v":22121},{"$f":"COUNTIF(L29:L49,Y33)","v":0},{"$f":"Z33/(AB4-Z25)","v":0},{"$f":"IF(AA33=0,0,(AA33*((LOG(AA33))/LOG(2))))","v":0},null,{"$f":"N33","v":22121},{"$f":"COUNTIF(L50:L71,AD33)","v":0},{"$f":"AE33/(AG4-AE25)","v":0},{"$f":"IF(AF33=0,0,(AF33*((LOG(AF33))/LOG(2))))","v":0},null,{"$f":"N33","v":22121},{"$f":"COUNTIF(L72:L93,AI33)","v":0},{"$f":"AJ33/(AL4-AJ25)","v":0},{"$f":"IF(AK33=0,0,(AK33*((LOG(AK33))/LOG(2))))","v":0},null,{"$f":"N33","v":22121},{"$f":"COUNTIF(L94:L114,AN33)","v":1},{"$f":"AO33/(AQ4-AO25)","v":5.2631578947368418E-2},{"$f":"IF(AP33=0,0,(AP33*((LOG(AP33))/LOG(2))))","v":-0.22357513228650452},null,{"$f":"N33","v":22121},{"$f":"COUNTIF(L115:L136,AS33)","v":1},{"$f":"AT33/(AV4-AT25)","v":5.5555555555555552E-2},{"$f":"IF(AU33=0,0,(AU33*((LOG(AU33))/LOG(2))))","v":-0.23166250008012845}]
[21,4627,11,4639,22,4658,14,4670,24,4681,0,21212,null,22122,{"$f":"COUNTIF($L$7:$L$500,N34)","v":3},{"$f":"O34/$Q$4","v":2.3076923076923078E-2},{"$f":"IF(P34=0,0,(P34*((LOG(P34))/LOG(2))))","v":-0.12547858413016844},null,null,{"$f":"N34","v":22122},{"$f":"COUNTIF(L7:L28,T34)","v":1},{"$f":"U34/(W4-U25)","v":0.05},{"$f":"IF(V34=0,0,(V34*((LOG(V34))/LOG(2))))","v":-0.21609640474436814},null,{"$f":"N34","v":22122},{"$f":"COUNTIF(L29:L49,Y34)","v":0},{"$f":"Z34/(AB4-Z25)","v":0},{"$f":"IF(AA34=0,0,(AA34*((LOG(AA34))/LOG(2))))","v":0},null,{"$f":"N34","v":22122},{"$f":"COUNTIF(L50:L71,AD34)","v":0},{"$f":"AE34/(AG4-AE25)","v":0},{"$f":"IF(AF34=0,0,(AF34*((LOG(AF34))/LOG(2))))","v":0},null,{"$f":"N34","v":22122},{"$f":"COUNTIF(L72:L93,AI34)","v":1},{"$f":"AJ34/(AL4-AJ25)","v":5.2631578947368418E-2},{"$f":"IF(AK34=0,0,(AK34*((LOG(AK34))/LOG(2))))","v":-0.22357513228650452},null,{"$f":"N34","v":22122},{"$f":"COUNTIF(L94:L114,AN34)","v":0},{"$f":"AO34/(AQ4-AO25)","v":0},{"$f":"IF(AP34=0,0,(AP34*((LOG(AP34))/LOG(2))))","v":0},null,{"$f":"N34","v":22122},{"$f":"COUNTIF(L115:L136,AS34)","v":1},{"$f":"AT34/(AV4-AT25)","v":5.5555555555555552E-2},{"$f":"IF(AU34=0,0,(AU34*((LOG(AU34))/LOG(2))))","v":-0.23166250008012845}]
[21,4786,11,4795,22,4807,14,4818,13,4822,0,21211,null,22211,{"$f":"COUNTIF($L$7:$L$500,N35)","v":0},{"$f":"O35/$Q$4","v":0},{"$f":"IF(P35=0,0,(P35*((LOG(P35))/LOG(2))))","v":0},null,null,{"$f":"N35","v":22211},{"$f":"COUNTIF(L7:L28,T35)","v":0},{"$f":"U35/(W4-U25)","v":0},{"$f":"IF(V35=0,0,(V35*((LOG(V35))/LOG(2))))","v":0},null,{"$f":"N35","v":22211},{"$f":"COUNTIF(L29:L49,Y35)","v":0},{"$f":"Z35/(AB4-Z25)","v":0},{"$f":"IF(AA35=0,0,(AA35*((LOG(AA35))/LOG(2))))","v":0},null,{"$f":"N35","v":22211},{"$f":"COUNTIF(L50:L71,AD35)","v":0},{"$f":"AE35/(AG4-AE25)","v":0},{"$f":"IF(AF35=0,0,(AF35*((LOG(AF35))/LOG(2))))","v":0},null,{"$f":"N35","v":22211},{"$f":"COUNTIF(L72:L93,AI35)","v":0},{"$f":"AJ35/(AL4-AJ25)","v":0},{"$f":"IF(AK35=0,0,(AK35*((LOG(AK35))/LOG(2))))","v":0},null,{"$f":"N35","v":22211},{"$f":"COUNTIF(L94:L114,AN35)","v":0},{"$f":"AO35/(AQ4-AO25)","v":0},{"$f":"IF(AP35=0,0,(AP35*((LOG(AP35))/LOG(2))))","v":0},null,{"$f":"N35","v":22211},{"$f":"COUNTIF(L115:L136,AS35)","v":0},{"$f":"AT35/(AV4-AT25)","v":0},{"$f":"IF(AU35=0,0,(AU35*((LOG(AU35))/LOG(2))))","v":0}]
[21,4929,11,4938,22,4948,14,4960,24,4972,0,21212,null,22212,{"$f":"COUNTIF($L$7:$L$500,N36)","v":0},{"$f":"O36/$Q$4","v":0},{"$f":"IF(P36=0,0,(P36*((LOG(P36))/LOG(2))))","v":0},null,null,{"$f":"N36","v":22212},{"$f":"COUNTIF(L7:L28,T36)","v":0},{"$f":"U36/(W4-U25)","v":0},{"$f":"IF(V36=0,0,(V36*((LOG(V36))/LOG(2))))","v":0},null,{"$f":"N36","v":22212},{"$f":"COUNTIF(L29:L49,Y36)","v":0},{"$f":"Z36/(AB4-Z25)","v":0},{"$f":"IF(AA36=0,0,(AA36*((LOG(AA36))/LOG(2))))","v":0},null,{"$f":"N36","v":22212},{"$f":"COUNTIF(L50:L71,AD36)","v":0},{"$f":"AE36/(AG4-AE25)","v":0},{"$f":"IF(AF36=0,0,(AF36*((LOG(AF36))/LOG(2))))","v":0},null,{"$f":"N36","v":22212},{"$f":"COUNTIF(L72:L93,AI36)","v":0},{"$f":"AJ36/(AL4-AJ25)","v":0},{"$f":"IF(AK36=0,0,(AK36*((LOG(AK36))/LOG(2))))","v":0},null,{"$f":"N36","v":22212},{"$f":"COUNTIF(L94:L114,AN36)","v":0},{"$f":"AO36/(AQ4-AO25)","v":0},{"$f":"IF(AP36=0,0,(AP36*((LOG(AP36))/LOG(2))))","v":0},null,{"$f":"N36","v":22212},{"$f":"COUNTIF(L115:L136,AS36)","v":0},{"$f":"AT36/(AV4-AT25)","v":0},{"$f":"IF(AU36=0,0,(AU36*((LOG(AU36))/LOG(2))))","v":0}]
[21,5073,11,5082,22,5092,14,5104,24,5115,0,21212,null,22221,{"$f":"COUNTIF($L$7:$L$500,N37)","v":2},{"$f":"O37/$Q$4","v":1.5384615384615385E-2},{"$f":"IF(P37=0,0,(P37*((LOG(P37))/LOG(2))))","v":-9.2651812508130066E-2},null,null,{"$f":"N37","v":22221},{"$f":"COUNTIF(L7:L28,T37)","v":0},{"$f":"U37/(W4-U25)","v":0},{"$f":"IF(V37=0,0,(V37*((LOG(V37))/LOG(2))))","v":0},null,{"$f":"N37","v":22221},{"$f":"COUNTIF(L29:L49,Y37)","v":1},{"$f":"Z37/(AB4-Z25)","v":6.6666666666666666E-2},{"$f":"IF(AA37=0,0,(AA37*((LOG(AA37))/LOG(2))))","v":-0.26045937304056793},null,{"$f":"N37","v":22221},{"$f":"COUNTIF(L50:L71,AD37)","v":0},{"$f":"AE37/(AG4-AE25)","v":0},{"$f":"IF(AF37=0,0,(AF37*((LOG(AF37))/LOG(2))))","v":0},null,{"$f":"N37","v":22221},{"$f":"COUNTIF(L72:L93,AI37)","v":0},{"$f":"AJ37/(AL4-AJ25)","v":0},{"$f":"IF(AK37=0,0,(AK37*((LOG(AK37))/LOG(2))))","v":0},null,{"$f":"N37","v":22221},{"$f":"COUNTIF(L94:L114,AN37)","v":0},{"$f":"AO37/(AQ4-AO25)","v":0},{"$f":"IF(AP37=0,0,(AP37*((LOG(AP37))/LOG(2))))","v":0},null,{"$f":"N37","v":22221},{"$f":"COUNTIF(L115:L136,AS37)","v":1},{"$f":"AT37/(AV4-AT25)","v":5.5555555555555552E-2},{"$f":"IF(AU37=0,0,(AU37*((LOG(AU37))/LOG(2))))","v":-0.23166250008012845}]
[21,5215,11,5223,11,5231,21,5268,11,5293,1,21121,null,22222,{"$f":"COUNTIF($L$7:$L$500,N38)","v":0},{"$f":"O38/$Q$4","v":0},{"$f":"IF(P38=0,0,(P38*((LOG(P38))/LOG(2))))","v":0},null,null,{"$f":"N38","v":22222},{"$f":"COUNTIF(L7:L28,T38)","v":0},{"$f":"U38/(W4-U25)","v":0},{"$f":"IF(V38=0,0,(V38*((LOG(V38))/LOG(2))))","v":0},null,{"$f":"N38","v":22222},{"$f":"COUNTIF(L29:L49,Y38)","v":0},{"$f":"Z38/(AB4-Z25)","v":0},{"$f":"IF(AA38=0,0,(AA38*((LOG(AA38))/LOG(2))))","v":0},null,{"$f":"N38","v":22222},{"$f":"COUNTIF(L50:L71,AD38)","v":0},{"$f":"AE38/(AG4-AE25)","v":0},{"$f":"IF(AF38=0,0,(AF38*((LOG(AF38))/LOG(2))))","v":0},null,{"$f":"N38","v":22222},{"$f":"COUNTIF(L72:L93,AI38)","v":0},{"$f":"AJ38/(AL4-AJ25)","v":0},{"$f":"IF(AK38=0,0,(AK38*((LOG(AK38))/LOG(2))))","v":0},null,{"$f":"N38","v":22222},{"$f":"COUNTIF(L94:L114,AN38)","v":0},{"$f":"AO38/(AQ4-AO25)","v":0},{"$f":"IF(AP38=0,0,(AP38*((LOG(AP38))/LOG(2))))","v":0},null,{"$f":"N38","v":22222},{"$f":"COUNTIF(L115:L136,AS38)","v":0},{"$f":"AT38/(AV4-AT25)","v":0},{"$f":"IF(AU38=0,0,(AU38*((LOG(AU38))/LOG(2))))","v":0}]
[21,5388,11,5397,11,5405,12,5413,13,5444,0,21111,null,null,null,{"$f":"SUM(P7:P38)","v":1},{"$f":"-SUM(Q7:Q38)","v":3.803468299438844},null,null,null,null,{"$f":"SUM(V7:V38)","v":1},{"$f":"-SUM(W7:W38)","v":2.8016094970590273},null,null,null,{"$f":"SUM(AA7:AA38)","v":1},{"$f":"-SUM(AB7:AB38)","v":2.3301249653149703},null,null,null,{"$f":"SUM(AF7:AF38)","v":1},{"$f":"-SUM(AG7:AG38)","v":3.1552215288595122},null,null,null,{"$f":"SUM(AK7:AK38)","v":1},{"$f":"-SUM(AL7:AL38)","v":2.8000446184790104},null,null,null,{"$f":"SUM(AP7:AP38)","v":1},{"$f":"-SUM(AQ7:AQ38)","v":2.80004461847901},null,null,null,{"$f":"SUM(AU7:AU38)","v":1},{"$f":"-SUM(AV7:AV38)","v":3.4613201402110083}]
[21,5570,11,5590,22,5601,14,5614,24,5624,0,21212,null,null,null,"U=",{"$f":"Q39/(LOG(Q4)/LOG(2))","v":0.54162191453178332},null,null,null,null,"U1=",{"$f":"W39/(LOG(W4)/LOG(2))","v":0.62824362758479446},null,null,null,"U2=",{"$f":"AB39/(LOG(AB4)/LOG(2))","v":0.53050013034823817},null,null,null,"U3=",{"$f":"AG39/(LOG(AG4)/LOG(2))","v":0.70753894188508204},null,null,null,"U4=",{"$f":"AL39/(LOG(AL4)/LOG(2))","v":0.62789271322757534},null,null,null,"U5=",{"$f":"AQ39/(LOG(AQ4)/LOG(2))","v":0.63748685465168098},null,null,null,"U6=",{"$f":"AV39/(LOG(AV4)/LOG(2))","v":0.77617966508223091}]
[21,5726,11,5735,11,5747,21,5764,11,5778,1,21121]
[21,5957,11,5968,22,5986,14,5998,24,6008,0,21212]
[21,6115,11,6129,11,6140,21,6148,11,6160,1,21121,null,"Total Target Seq"]
[21,6323,11,6340,11,6364,21,6380,11,6390,1,21121,null,{"$f":"COUNTIF(L7:L136,G3)","v":21},null,22,21,22,22,21,22]
[21,6541,22,6575,24,6594,23,6629,13,6639,0,22221,null,null,null,"% of reinforcement given in 6 equal intervals based on number of trials "]
[21,6742,11,6764,22,6777,14,6789,24,6804,0,21212,null,null,null,"%_1","%_2","%_3","%_4","%_5","%_6"]
[12,6917,13,6924,24,6937,23,6945,13,6960,0,11221,null,null,"target sequence",{"$f":"$G$3","v":21121},{"$f":"$G$3","v":21121},{"$f":"$G$3","v":21121},{"$f":"$G$3","v":21121},{"$f":"$G$3","v":21121},{"$f":"$G$3","v":21121}]
[12,7074,13,7083,24,7095,23,7110,13,7125,0,11221,null,null,"total reinforcement",{"$f":"U25","v":2},{"$f":"Z25","v":6},{"$f":"AE25","v":4},{"$f":"AJ25","v":3},{"$f":"AO25","v":2},{"$f":"AT25","v":4}]
[21,7248,11,7264,11,7276,21,7286,22,7317,0,21122,null,null,"% target"]
[12,7425,13,7435,13,7448,23,7491,13,7511,0,11121,null,null,"CCRF"]
[21,7634,11,7645,11,7671,21,7680,11,7694,1,21121,null,null,"% CCRf"]
[21,7804,11,7834,11,7856,21,7873,11,7885,1,21121,null,null,"average response rate",{"$f":"J28/P44","v":170.81818181818181},{"$f":"(J49-J28)/Q44","v":169.47619047619048},{"$f":"(J71-J49)/R44","v":184.72727272727272},{"$f":"(J93-J71)/S44","v":184.09090909090909},{"$f":"(J114-J93)/T44","v":190.61904761904762},{"$f":"(J136-J114)/U44","v":203.54545454545453}]
[12,8069,24,8082,13,8103,23,8114,13,8125,0,12121]
[12,8242,24,8258,24,8279,23,8310,13,8342,0,12221]
[12,8460,24,8474,24,8484,23,8516,13,8552,0,12221]
[12,8656,13,8663,13,8678,23,8693,24,8703,0,11122]
[12,8810,13,8829,13,8838,23,8864,13,8877,0,11121]
[12,8988,13,8995,24,9011,14,9025,24,9037,0,11212]
[12,9155,13,9167,13,9205,23,9219,13,9229,0,11121]
[12,9339,13,9361,13,9377,23,9387,24,9398,0,11122]
[21,9503,11,9522,22,9533,23,9544,24,9556,0,21222]
[12,9686,24,9696,24,9704,14,9714,24,9738,0,12212]
[21,9857,11,9881,22,9896,23,9929,13,9943,0,21221]
[21,10056,11,10068,22,10084,14,10095,24,10108,0,21212]
[21,10207,11,10218,11,10262,21,10274,11,10288,1,21121]
[21,10403,11,10421,11,10456,21,10477,11,10490,1,21121]
[21,10618,11,10642,22,10656,14,10670,24,10681,0,21212]
[12,10799,24,10813,13,10823,14,10827,24,10848,0,12112]
[12,10964,13,11000,24,11013,14,11025,24,11037,0,11212]
[21,11140,11,11158,22,11169,14,11181,24,11204,0,21212]
[12,11313,13,11335,24,11347,14,11361,24,11381,0,11212]
[21,11510,11,11527,22,11539,14,11552,24,11573,0,21212]
[21,11681,11,11693,22,11704,23,11729,13,11739,0,21221]
[21,11848,11,11866,22,11880,23,11903,13,11916,0,21221]
[12,12031,13,12041,24,12052,14,12064,24,12077,0,11212]
[21,12179,11,12188,11,12200,21,12217,11,12231,1,21121]
[12,12341,13,12364,24,12387,14,12402,13,12421,0,11211]
[21,12550,11,12577,22,12595,14,12617,24,12628,0,21212]
[12,12740,13,12758,24,12769,14,12778,24,12798,0,11212]
[21,12897,11,12908,11,12924,21,12934,22,12950,0,21122]
[12,13066,13,13105,24,13119,14,13129,13,13139,0,11211]
[21,13248,11,13257,11,13268,12,13289,24,13312,0,21112]
[21,13428,11,13442,22,13457,14,13468,24,13482,0,21212]
[21,13596,22,13600,13,13634,23,13647,24,13673,0,22122]
[21,13776,11,13793,11,13811,21,13822,22,13845,0,21122]
[21,13945,11,13987,22,14002,14,14018,13,14034,0,21211]
[21,14133,11,14143,11,14151,21,14170,11,14191,1,21121]
[21,14395,11,14410,22,14423,14,14450,24,14464,0,21212]
[21,14567,11,14595,11,14610,21,14630,11,14652,1,21121]
[21,14817,11,14835,22,14846,14,14858,24,14870,0,21212]
[21,15003,11,15023,22,15035,14,15048,24,15062,0,21212]
[21,15229,11,15242,22,15255,14,15267,13,15275,0,21211]
[21,15386,11,15396,11,15404,12,15414,24,15431,0,21112]
[21,15533,11,15548,22,15559,14,15617,24,15633,0,21212]
[21,15733,22,15758,13,15780,23,15793,13,15805,0,22121]
[12,15908,13,15923,13,15935,23,15952,13,15964,0,11121]
[12,16087,13,16110,13,16132,14,16140,24,16160,0,11112]
[21,16272,11,16291,22,16305,14,16318,24,16331,0,21212]
[21,16433,11,16445,22,16477,14,16491,24,16505,0,21212]
[12,16619,13,16646,24,16662,14,16675,24,16707,0,11212]
[21,16810,11,16818,11,16833,12,16842,24,16872,0,21112]
[21,16988,11,16996,22,17027,14,17057,24,17078,0,21212]
[21,17189,11,17198,11,17217,21,17232,11,17244,1,21121]
[21,17406,11,17434,22,17448,23,17476,13,17486,0,21221]
[21,17591,11,17600,22,17612,23,17636,13,17655,0,21221]
[21,17759,11,17769,11,17793,12,17846,13,17874,0,21111]
[21,17976,11,17985,11,18011,21,18024,11,18083,1,21121]
[21,18254,11,18271,22,18284,14,18296,24,18309,0,21212]
[21,18423,11,18434,11,18459,21,18471,22,18504,0,21122]
[21,18605,11,18613,11,18629,12,18657,13,18666,0,21111]
[21,18771,11,18785,22,18796,23,18818,13,18844,0,21221]
[21,18956,11,18972,22,18984,23,19011,13,19026,0,21221]
[21,19135,11,19193,11,19226,12,19234,24,19252,0,21112]
[21,19356,11,19387,22,19400,14,19420,24,19434,0,21212]
[21,19554,11,19563,11,19594,21,19607,11,19620,1,21121]
[21,19877,11,19895,22,19908,23,19938,13,19957,0,21221]
[21,20067,11,20075,11,20087,12,20114,13,20139,0,21111]
[21,20242,11,20265,11,20285,21,20296,11,20308,1,21121]
[21,20417,11,20447,22,20459,14,20494,13,20502,0,21211]
[21,20656,11,20675,22,20690,14,20700,13,20713,0,21211]
[21,20886,11,20908,11,20936,21,20948,11,20962,1,21121]
[21,21093,11,21108,22,21119,23,21144,13,21166,0,21221]
[21,21270,11,21282,22,21293,14,21305,24,21320,0,21212]
[21,21428,11,21443,11,21462,12,21487,13,21498,0,21111]
[21,21615,22,21694,13,21719,14,21729,24,21747,0,22112]
[21,21845,11,21853,11,21866,21,21877,22,21908,0,21122]
[21,22042,22,22072,24,22097,23,22107,13,22123,0,22221]
[12,22245,13,22259,13,22270,14,22295,24,22307,0,11112]
[21,22419,22,22451,13,22470,23,22494,13,22509,0,22121]
[12,22666,24,22675,13,22715,23,22728,13,22742,0,12121]
[21,22848,11,22857,11,22869,21,22883,11,22892,1,21121]
[21,23071,22,23135,13,23147,23,23158,24,23172,0,22122]
[12,23293,13,23311,24,23332,14,23344,13,23354,0,11211]
[12,23474,24,23505,13,23525,23,23545,13,23557,0,12121]
[21,23701,11,23710,22,23722,14,23742,24,23755,0,21212]
[21,23860,11,23874,22,23889,14,23903,13,23912,null,21211]

{"sheet":"!MA23A00.010","index":26,"n_rows":148,"n_cols":48,"rows_kept":148,"cut":false,"hidden":false,"merged":[[4,39,4,42],[5,39,5,40],[4,44,4,47],[5,44,5,45],[4,24,4,27],[5,24,5,25],[4,29,4,32],[5,29,5,30],[4,34,4,37],[5,34,5,35],[1,1,1,2],[5,13,5,14],[42,13,42,14],[43,13,43,14],[4,19,4,22],[5,19,5,20]]}
["Report for:!MA23A00.010"]
["Date:","<date>"]
["Hen:","<hen>",null,null,null,"Correct Sequence",{"$f":"Start!J2","v":21121},null,null,null,null,null,null,null,null,"Total Sequences in Data",{"$f":"4994-COUNTBLANK(L7:L5000)","v":142},null,null,null,null,"Total Sequences in Block Data",{"$f":"COUNTA(L7:L30)","v":24},null,null,null,"Total Sequences in Block Data",{"$f":"COUNTA(L31:L53)","v":23},null,null,null,"Total Sequences in Block Data",{"$f":"COUNTA(L54:L77)","v":24},null,null,null,"Total Sequences in Block Data",{"$f":"COUNTA(L78:L101)","v":24},null,null,null,"Total Sequences in Block Data",{"$f":"COUNTA(L102:L124)","v":23},null,null,null,"Total Sequences in Block Data",{"$f":"COUNTA(L125:L148)","v":24}]
[null,null,null,null,null,null,null,null,null,null,null,null,null,null,null,"Total Sequences in Summary",{"$f":"SUM(O7:O38)","v":141},null,null,null,null,"Total Sequences in Block Summary",{"$f":"SUM(U7:U38)","v":24},null,null,null,"Total Sequences in Block Summary",{"$f":"SUM(Z7:Z38)","v":23},null,null,null,"Total Sequences in Block Summary",{"$f":"SUM(AE7:AE38)","v":24},null,null,null,"Total Sequences in Block Summary",{"$f":"SUM(AJ7:AJ38)","v":24},null,null,null,"Total Sequences in Block Summary",{"$f":"SUM(AO7:AO38)","v":23},null,null,null,"Total Sequences in Block Summary",{"$f":"SUM(AT7:AT38)","v":23}]
[null,null,null,null,null,null,null,null,null,null,null,null,null,null,null,null,null,null,null,"Block 1",null,null,null,null,"Block 2",null,null,null,null,"Block 3",null,null,null,null,"Block 4",null,null,null,null,"Block 5",null,null,null,null,"Block 6"]
["Sequence\nComponent\n1","Time\n1","Sequence\nComponent\n2","Time\n2","Sequence\nComponent\n3","Time\n3","Sequence\nComponent\n4","Time\n4","Sequence\nComponent\n5","Time\n5","Correct?\n0=No 1=Yes","Sequence",null,"Frequency",null,"Relative Frequency","Variability",null,null,"Frequency",null,"Relative Frequency","Variability",null,"Frequency",null,"Relative Frequency","Variability",null,"Frequency",null,"Relative Frequency","Variability",null,"Frequency",null,"Relative Frequency","Variability",null,"Frequency",null,"Relative Frequency","Variability",null,"Frequency",null,"Relative Frequency","Variability"]
[12,14,24,27,24,146,23,192,24,220,0,12222,null,11111,{"$f":"COUNTIF($L$7:$L$500,N7)","v":0},{"$f":"O7/$Q$4","v":0},{"$f":"IF(P7=0,0,(P7*((LOG(P7))/LOG(2))))","v":0},null,null,{"$f":"N7","v":11111},{"$f":"COUNTIF(L7:L30,T7)","v":0},{"$f":"U7/(W4-U25)","v":0},{"$f":"IF(V7=0,0,(V7*((LOG(V7))/LOG(2))))","v":0},null,{"$f":"N7","v":11111},{"$f":"COUNTIF(L31:L53,Y7)","v":0},{"$f":"Z7/(AB4-Z25)","v":0},{"$f":"IF(AA7=0,0,(AA7*((LOG(AA7))/LOG(2))))","v":0},null,{"$f":"N7","v":11111},{"$f":"COUNTIF(L54:L77,AD7)","v":0},{"$f":"AE7/(AG4-AE25)","v":0},{"$f":"IF(AF7=0,0,(AF7*((LOG(AF7))/LOG(2))))","v":0},null,{"$f":"N7","v":11111},{"$f":"COUNTIF(L78:L101,AI7)","v":0},{"$f":"AJ7/(AL4-AJ25)","v":0},{"$f":"IF(AK7=0,0,(AK7*((LOG(AK7))/LOG(2))))","v":0},null,{"$f":"N7","v":11111},{"$f":"COUNTIF(L102:L124,AN7)","v":0},{"$f":"AO7/(AQ4-AO25)","v":0},{"$f":"IF(AP7=0,0,(AP7*((LOG(AP7))/LOG(2))))","v":0},null,{"$f":"N7","v":11111},{"$f":"COUNTIF(L125:L148,AS7)","v":0},{"$f":"AT7/(AV4-AT25)","v":0},{"$f":"IF(AU7=0,0,(AU7*((LOG(AU7))/LOG(2))))","v":0}]
[21,318,11,326,22,335,14,347,24,358,0,21212,null,11112,{"$f":"COUNTIF($L$7:$L$500,N8)","v":3},{"$f":"O8/$Q$4","v":2.1276595744680851E-2},{"$f":"IF(P8=0,0,(P8*((LOG(P8))/LOG(2))))","v":-0.11818274152505612},null,null,{"$f":"N8","v":11112},{"$f":"COUNTIF(L7:L30,T8)","v":1},{"$f":"U8/(W4-U25)","v":4.7619047619047616E-2},{"$f":"IF(V8=0,0,(V8*((LOG(V8))/LOG(2))))","v":-0.20915797251327431},null,{"$f":"N8","v":11112},{"$f":"COUNTIF(L31:L53,Y8)","v":0},{"$f":"Z8/(AB4-Z25)","v":0},{"$f":"IF(AA8=0,0,(AA8*((LOG(AA8))/LOG(2))))","v":0},null,{"$f":"N8","v":11112},{"$f":"COUNTIF(L54:L77,AD8)","v":2},{"$f":"AE8/(AG4-AE25)","v":0.10526315789473684},{"$f":"IF(AF8=0,0,(AF8*((LOG(AF8))/LOG(2))))","v":-0.34188710667827216},null,{"$f":"N8","v":11112},{"$f":"COUNTIF(L78:L101,AI8)","v":0},{"$f":"AJ8/(AL4-AJ25)","v":0},{"$f":"IF(AK8=0,0,(AK8*((LOG(AK8))/LOG(2))))","v":0},null,{"$f":"N8","v":11112},{"$f":"COUNTIF(L102:L124,AN8)","v":0},{"$f":"AO8/(AQ4-AO25)","v":0},{"$f":"IF(AP8=0,0,(AP8*((LOG(AP8))/LOG(2))))","v":0},null,{"$f":"N8","v":11112},{"$f":"COUNTIF(L125:L148,AS8)","v":0},{"$f":"AT8/(AV4-AT25)","v":0},{"$f":"IF(AU8=0,0,(AU8*((LOG(AU8))/LOG(2))))","v":0}]
[21,466,11,481,22,492,14,504,24,521,0,21212,null,11121,{"$f":"COUNTIF($L$7:$L$500,N9)","v":9},{"$f":"O9/$Q$4","v":6.3829787234042548E-2},{"$f":"IF(P9=0,0,(P9*((LOG(P9))/LOG(2))))","v":-0.2533804053802009},null,null,{"$f":"N9","v":11121},{"$f":"COUNTIF(L7:L30,T9)","v":0},{"$f":"U9/(W4-U25)","v":0},{"$f":"IF(V9=0,0,(V9*((LOG(V9))/LOG(2))))","v":0},null,{"$f":"N9","v":11121},{"$f":"COUNTIF(L31:L53,Y9)","v":5},{"$f":"Z9/(AB4-Z25)","v":0.27777777777777779},{"$f":"IF(AA9=0,0,(AA9*((LOG(AA9))/LOG(2))))","v":-0.51333247404304172},null,{"$f":"N9","v":11121},{"$f":"COUNTIF(L54:L77,AD9)","v":2},{"$f":"AE9/(AG4-AE25)","v":0.10526315789473684},{"$f":"IF(AF9=0,0,(AF9*((LOG(AF9))/LOG(2))))","v":-0.34188710667827216},null,{"$f":"N9","v":11121},{"$f":"COUNTIF(L78:L101,AI9)","v":0},{"$f":"AJ9/(AL4-AJ25)","v":0},{"$f":"IF(AK9=0,0,(AK9*((LOG(AK9))/LOG(2))))","v":0},null,{"$f":"N9","v":11121},{"$f":"COUNTIF(L102:L124,AN9)","v":0},{"$f":"AO9/(AQ4-AO25)","v":0},{"$f":"IF(AP9=0,0,(AP9*((LOG(AP9))/LOG(2))))","v":0},null,{"$f":"N9","v":11121},{"$f":"COUNTIF(L125:L148,AS9)","v":2},{"$f":"AT9/(AV4-AT25)","v":9.5238095238095233E-2},{"$f":"IF(AU9=0,0,(AU9*((LOG(AU9))/LOG(2))))","v":-0.32307784978845333}]
[21,621,11,632,22,644,14,653,24,663,0,21212,null,11122,{"$f":"COUNTIF($L$7:$L$500,N10)","v":1},{"$f":"O10/$Q$4","v":7.0921985815602835E-3},{"$f":"IF(P10=0,0,(P10*((LOG(P10))/LOG(2))))","v":-5.0635115974459535E-2},null,null,{"$f":"N10","v":11122},{"$f":"COUNTIF(L7:L30,T10)","v":0},{"$f":"U10/(W4-U25)","v":0},{"$f":"IF(V10=0,0,(V10*((LOG(V10))/LOG(2))))","v":0},null,{"$f":"N10","v":11122},{"$f":"COUNTIF(L31:L53,Y10)","v":0},{"$f":"Z10/(AB4-Z25)","v":0},{"$f":"IF(AA10=0,0,(AA10*((LOG(AA10))/LOG(2))))","v":0},null,{"$f":"N10","v":11122},{"$f":"COUNTIF(L54:L77,AD10)","v":1},{"$f":"AE10/(AG4-AE25)","v":5.2631578947368418E-2},{"$f":"IF(AF10=0,0,(AF10*((LOG(AF10))/LOG(2))))","v":-0.22357513228650452},null,{"$f":"N10","v":11122},{"$f":"COUNTIF(L78:L101,AI10)","v":0},{"$f":"AJ10/(AL4-AJ25)","v":0},{"$f":"IF(AK10=0,0,(AK10*((LOG(AK10))/LOG(2))))","v":0},null,{"$f":"N10","v":11122},{"$f":"COUNTIF(L102:L124,AN10)","v":0},{"$f":"AO10/(AQ4-AO25)","v":0},{"$f":"IF(AP10=0,0,(AP10*((LOG(AP10))/LOG(2))))","v":0},null,{"$f":"N10","v":11122},{"$f":"COUNTIF(L125:L148,AS10)","v":0},{"$f":"AT10/(AV4-AT25)","v":0},{"$f":"IF(AU10=0,0,(AU10*((LOG(AU10))/LOG(2))))","v":0}]
[21,762,22,773,13,781,23,791,13,802,0,22121,null,11211,{"$f":"COUNTIF($L$7:$L$500,N11)","v":10},{"$f":"O11/$Q$4","v":7.0921985815602842E-2},{"$f":"IF(P11=0,0,(P11*((LOG(P11))/LOG(2))))","v":-0.27075342251854123},null,null,{"$f":"N11","v":11211},{"$f":"COUNTIF(L7:L30,T11)","v":0},{"$f":"U11/(W4-U25)","v":0},{"$f":"IF(V11=0,0,(V11*((LOG(V11))/LOG(2))))","v":0},null,{"$f":"N11","v":11211},{"$f":"COUNTIF(L31:L53,Y11)","v":3},{"$f":"Z11/(AB4-Z25)","v":0.16666666666666666},{"$f":"IF(AA11=0,0,(AA11*((LOG(AA11))/LOG(2))))","v":-0.43082708345352599},null,{"$f":"N11","v":11211},{"$f":"COUNTIF(L54:L77,AD11)","v":2},{"$f":"AE11/(AG4-AE25)","v":0.10526315789473684},{"$f":"IF(AF11=0,0,(AF11*((LOG(AF11))/LOG(2))))","v":-0.34188710667827216},null,{"$f":"N11","v":11211},{"$f":"COUNTIF(L78:L101,AI11)","v":3},{"$f":"AJ11/(AL4-AJ25)","v":0.14285714285714285},{"$f":"IF(AK11=0,0,(AK11*((LOG(AK11))/LOG(2))))","v":-0.40105070315108626},null,{"$f":"N11","v":11211},{"$f":"COUNTIF(L102:L124,AN11)","v":1},{"$f":"AO11/(AQ4-AO25)","v":6.25E-2},{"$f":"IF(AP11=0,0,(AP11*((LOG(AP11))/LOG(2))))","v":-0.25},null,{"$f":"N11","v":11211},{"$f":"COUNTIF(L125:L148,AS11)","v":1},{"$f":"AT11/(AV4-AT25)","v":4.7619047619047616E-2},{"$f":"IF(AU11=0,0,(AU11*((LOG(AU11))/LOG(2))))","v":-0.20915797251327431}]
[21,901,11,908,22,918,23,941,13,983,0,21221,null,11212,{"$f":"COUNTIF($L$7:$L$500,N12)","v":9},{"$f":"O12/$Q$4","v":6.3829787234042548E-2},{"$f":"IF(P12=0,0,(P12*((LOG(P12))/LOG(2))))","v":-0.2533804053802009},null,null,{"$f":"N12","v":11212},{"$f":"COUNTIF(L7:L30,T12)","v":3},{"$f":"U12/(W4-U25)","v":0.14285714285714285},{"$f":"IF(V12=0,0,(V12*((LOG(V12))/LOG(2))))","v":-0.40105070315108626},null,{"$f":"N12","v":11212},{"$f":"COUNTIF(L31:L53,Y12)","v":2},{"$f":"Z12/(AB4-Z25)","v":0.1111111111111111},{"$f":"IF(AA12=0,0,(AA12*((LOG(AA12))/LOG(2))))","v":-0.3522138890491458},null,{"$f":"N12","v":11212},{"$f":"COUNTIF(L54:L77,AD12)","v":3},{"$f":"AE12/(AG4-AE25)","v":0.15789473684210525},{"$f":"IF(AF12=0,0,(AF12*((LOG(AF12))/LOG(2))))","v":-0.42046815990354147},null,{"$f":"N12","v":11212},{"$f":"COUNTIF(L78:L101,AI12)","v":0},{"$f":"AJ12/(AL4-AJ25)","v":0},{"$f":"IF(AK12=0,0,(AK12*((LOG(AK12))/LOG(2))))","v":0},null,{"$f":"N12","v":11212},{"$f":"COUNTIF(L102:L124,AN12)","v":1},{"$f":"AO12/(AQ4-AO25)","v":6.25E-2},{"$f":"IF(AP12=0,0,(AP12*((LOG(AP12))/LOG(2))))","v":-0.25},null,{"$f":"N12","v":11212},{"$f":"COUNTIF(L125:L148,AS12)","v":0},{"$f":"AT12/(AV4-AT25)","v":0},{"$f":"IF(AU12=0,0,(AU12*((LOG(AU12))/LOG(2))))","v":0}]
[12,1092,13,1104,24,1120,14,1132,24,1144,0,11212,null,11221,{"$f":"COUNTIF($L$7:$L$500,N13)","v":3},{"$f":"O13/$Q$4","v":2.1276595744680851E-2},{"$f":"IF(P13=0,0,(P13*((LOG(P13))/LOG(2))))","v":-0.11818274152505612},null,null,{"$f":"N13","v":11221},{"$f":"COUNTIF(L7:L30,T13)","v":0},{"$f":"U13/(W4-U25)","v":0},{"$f":"IF(V13=0,0,(V13*((LOG(V13))/LOG(2))))","v":0},null,{"$f":"N13","v":11221},{"$f":"COUNTIF(L31:L53,Y13)","v":1},{"$f":"Z13/(AB4-Z25)","v":5.5555555555555552E-2},{"$f":"IF(AA13=0,0,(AA13*((LOG(AA13))/LOG(2))))","v":-0.23166250008012845},null,{"$f":"N13","v":11221},{"$f":"COUNTIF(L54:L77,AD13)","v":1},{"$f":"AE13/(AG4-AE25)","v":5.2631578947368418E-2},{"$f":"IF(AF13=0,0,(AF13*((LOG(AF13))/LOG(2))))","v":-0.22357513228650452},null,{"$f":"N13","v":11221},{"$f":"COUNTIF(L78:L101,AI13)","v":0},{"$f":"AJ13/(AL4-AJ25)","v":0},{"$f":"IF(AK13=0,0,(AK13*((LOG(AK13))/LOG(2))))","v":0},null,{"$f":"N13","v":11221},{"$f":"COUNTIF(L102:L124,AN13)","v":0},{"$f":"AO13/(AQ4-AO25)","v":0},{"$f":"IF(AP13=0,0,(AP13*((LOG(AP13))/LOG(2))))","v":0},null,{"$f":"N13","v":11221},{"$f":"COUNTIF(L125:L148,AS13)","v":1},{"$f":"AT13/(AV4-AT25)","v":4.7619047619047616E-2},{"$f":"IF(AU13=0,0,(AU13*((LOG(AU13))/LOG(2))))","v":-0.20915797251327431}]
[21,1246,11,1253,11,1261,21,1274,11,1286,1,21121,null,11222,{"$f":"COUNTIF($L$7:$L$500,N14)","v":1},{"$f":"O14/$Q$4","v":7.0921985815602835E-3},{"$f":"IF(P14=0,0,(P14*((LOG(P14))/LOG(2))))","v":-5.0635115974459535E-2},null,null,{"$f":"N14","v":11222},{"$f":"COUNTIF(L7:L30,T14)","v":0},{"$f":"U14/(W4-U25)","v":0},{"$f":"IF(V14=0,0,(V14*((LOG(V14))/LOG(2))))","v":0},null,{"$f":"N14","v":11222},{"$f":"COUNTIF(L31:L53,Y14)","v":0},{"$f":"Z14/(AB4-Z25)","v":0},{"$f":"IF(AA14=0,0,(AA14*((LOG(AA14))/LOG(2))))","v":0},null,{"$f":"N14","v":11222},{"$f":"COUNTIF(L54:L77,AD14)","v":1},{"$f":"AE14/(AG4-AE25)","v":5.2631578947368418E-2},{"$f":"IF(AF14=0,0,(AF14*((LOG(AF14))/LOG(2))))","v":-0.22357513228650452},null,{"$f":"N14","v":11222},{"$f":"COUNTIF(L78:L101,AI14)","v":0},{"$f":"AJ14/(AL4-AJ25)","v":0},{"$f":"IF(AK14=0,0,(AK14*((LOG(AK14))/LOG(2))))","v":0},null,{"$f":"N14","v":11222},{"$f":"COUNTIF(L102:L124,AN14)","v":0},{"$f":"AO14/(AQ4-AO25)","v":0},{"$f":"IF(AP14=0,0,(AP14*((LOG(AP14))/LOG(2))))","v":0},null,{"$f":"N14","v":11222},{"$f":"COUNTIF(L125:L148,AS14)","v":0},{"$f":"AT14/(AV4-AT25)","v":0},{"$f":"IF(AU14=0,0,(AU14*((LOG(AU14))/LOG(2))))","v":0}]
[21,1381,11,1388,22,1398,14,1411,24,1420,0,21212,null,12111,{"$f":"COUNTIF($L$7:$L$500,N15)","v":0},{"$f":"O15/$Q$4","v":0},{"$f":"IF(P15=0,0,(P15*((LOG(P15))/LOG(2))))","v":0},null,null,{"$f":"N15","v":12111},{"$f":"COUNTIF(L7:L30,T15)","v":0},{"$f":"U15/(W4-U25)","v":0},{"$f":"IF(V15=0,0,(V15*((LOG(V15))/LOG(2))))","v":0},null,{"$f":"N15","v":12111},{"$f":"COUNTIF(L31:L53,Y15)","v":0},{"$f":"Z15/(AB4-Z25)","v":0},{"$f":"IF(AA15=0,0,(AA15*((LOG(AA15))/LOG(2))))","v":0},null,{"$f":"N15","v":12111},{"$f":"COUNTIF(L54:L77,AD15)","v":0},{"$f":"AE15/(AG4-AE25)","v":0},{"$f":"IF(AF15=0,0,(AF15*((LOG(AF15))/LOG(2))))","v":0},null,{"$f":"N15","v":12111},{"$f":"COUNTIF(L78:L101,AI15)","v":0},{"$f":"AJ15/(AL4-AJ25)","v":0},{"$f":"IF(AK15=0,0,(AK15*((LOG(AK15))/LOG(2))))","v":0},null,{"$f":"N15","v":12111},{"$f":"COUNTIF(L102:L124,AN15)","v":0},{"$f":"AO15/(AQ4-AO25)","v":0},{"$f":"IF(AP15=0,0,(AP15*((LOG(AP15))/LOG(2))))","v":0},null,{"$f":"N15","v":12111},{"$f":"COUNTIF(L125:L148,AS15)","v":0},{"$f":"AT15/(AV4-AT25)","v":0},{"$f":"IF(AU15=0,0,(AU15*((LOG(AU15))/LOG(2))))","v":0}]
[12,1520,13,1532,13,1548,14,1557,24,1567,0,11112,null,12112,{"$f":"COUNTIF($L$7:$L$500,N16)","v":0},{"$f":"O16/$Q$4","v":0},{"$f":"IF(P16=0,0,(P16*((LOG(P16))/LOG(2))))","v":0},null,null,{"$f":"N16","v":12112},{"$f":"COUNTIF(L7:L30,T16)","v":0},{"$f":"U16/(W4-U25)","v":0},{"$f":"IF(V16=0,0,(V16*((LOG(V16))/LOG(2))))","v":0},null,{"$f":"N16","v":12112},{"$f":"COUNTIF(L31:L53,Y16)","v":0},{"$f":"Z16/(AB4-Z25)","v":0},{"$f":"IF(AA16=0,0,(AA16*((LOG(AA16))/LOG(2))))","v":0},null,{"$f":"N16","v":12112},{"$f":"COUNTIF(L54:L77,AD16)","v":0},{"$f":"AE16/(AG4-AE25)","v":0},{"$f":"IF(AF16=0,0,(AF16*((LOG(AF16))/LOG(2))))","v":0},null,{"$f":"N16","v":12112},{"$f":"COUNTIF(L78:L101,AI16)","v":0},{"$f":"AJ16/(AL4-AJ25)","v":0},{"$f":"IF(AK16=0,0,(AK16*((LOG(AK16))/LOG(2))))","v":0},null,{"$f":"N16","v":12112},{"$f":"COUNTIF(L102:L124,AN16)","v":0},{"$f":"AO16/(AQ4-AO25)","v":0},{"$f":"IF(AP16=0,0,(AP16*((LOG(AP16))/LOG(2))))","v":0},null,{"$f":"N16","v":12112},{"$f":"COUNTIF(L125:L148,AS16)","v":0},{"$f":"AT16/(AV4-AT25)","v":0},{"$f":"IF(AU16=0,0,(AU16*((LOG(AU16))/LOG(2))))","v":0}]
[21,1670,11,1679,11,1687,12,1709,24,1723,0,21112,null,12121,{"$f":"COUNTIF($L$7:$L$500,N17)","v":3},{"$f":"O17/$Q$4","v":2.1276595744680851E-2},{"$f":"IF(P17=0,0,(P17*((LOG(P17))/LOG(2))))","v":-0.11818274152505612},null,null,{"$f":"N17","v":12121},{"$f":"COUNTIF(L7:L30,T17)","v":0},{"$f":"U17/(W4-U25)","v":0},{"$f":"IF(V17=0,0,(V17*((LOG(V17))/LOG(2))))","v":0},null,{"$f":"N17","v":12121},{"$f":"COUNTIF(L31:L53,Y17)","v":0},{"$f":"Z17/(AB4-Z25)","v":0},{"$f":"IF(AA17=0,0,(AA17*((LOG(AA17))/LOG(2))))","v":0},null,{"$f":"N17","v":12121},{"$f":"COUNTIF(L54:L77,AD17)","v":2},{"$f":"AE17/(AG4-AE25)","v":0.10526315789473684},{"$f":"IF(AF17=0,0,(AF17*((LOG(AF17))/LOG(2))))","v":-0.34188710667827216},null,{"$f":"N17","v":12121},{"$f":"COUNTIF(L78:L101,AI17)","v":0},{"$f":"AJ17/(AL4-AJ25)","v":0},{"$f":"IF(AK17=0,0,(AK17*((LOG(AK17))/LOG(2))))","v":0},null,{"$f":"N17","v":12121},{"$f":"COUNTIF(L102:L124,AN17)","v":1},{"$f":"AO17/(AQ4-AO25)","v":6.25E-2},{"$f":"IF(AP17=0,0,(AP17*((LOG(AP17))/LOG(2))))","v":-0.25},null,{"$f":"N17","v":12121},{"$f":"COUNTIF(L125:L148,AS17)","v":0},{"$f":"AT17/(AV4-AT25)","v":0},{"$f":"IF(AU17=0,0,(AU17*((LOG(AU17))/LOG(2))))","v":0}]
[21,1823,11,1831,22,1852,14,1862,13,1866,0,21211,null,12122,{"$f":"COUNTIF($L$7:$L$500,N18)","v":0},{"$f":"O18/$Q$4","v":0},{"$f":"IF(P18=0,0,(P18*((LOG(P18))/LOG(2))))","v":0},null,null,{"$f":"N18","v":12122},{"$f":"COUNTIF(L7:L30,T18)","v":0},{"$f":"U18/(W4-U25)","v":0},{"$f":"IF(V18=0,0,(V18*((LOG(V18))/LOG(2))))","v":0},null,{"$f":"N18","v":12122},{"$f":"COUNTIF(L31:L53,Y18)","v":0},{"$f":"Z18/(AB4-Z25)","v":0},{"$f":"IF(AA18=0,0,(AA18*((LOG(AA18))/LOG(2))))","v":0},null,{"$f":"N18","v":12122},{"$f":"COUNTIF(L54:L77,AD18)","v":0},{"$f":"AE18/(AG4-AE25)","v":0},{"$f":"IF(AF18=0,0,(AF18*((LOG(AF18))/LOG(2))))","v":0},null,{"$f":"N18","v":12122},{"$f":"COUNTIF(L78:L101,AI18)","v":0},{"$f":"AJ18/(AL4-AJ25)","v":0},{"$f":"IF(AK18=0,0,(AK18*((LOG(AK18))/LOG(2))))","v":0},null,{"$f":"N18","v":12122},{"$f":"COUNTIF(L102:L124,AN18)","v":0},{"$f":"AO18/(AQ4-AO25)","v":0},{"$f":"IF(AP18=0,0,(AP18*((LOG(AP18))/LOG(2))))","v":0},null,{"$f":"N18","v":12122},{"$f":"COUNTIF(L125:L148,AS18)","v":0},{"$f":"AT18/(AV4-AT25)","v":0},{"$f":"IF(AU18=0,0,(AU18*((LOG(AU18))/LOG(2))))","v":0}]
[21,1976,11,1985,11,1997,21,2006,22,2035,0,21122,null,12211,{"$f":"COUNTIF($L$7:$L$500,N19)","v":0},{"$f":"O19/$Q$4","v":0},{"$f":"IF(P19=0,0,(P19*((LOG(P19))/LOG(2))))","v":0},null,null,{"$f":"N19","v":12211},{"$f":"COUNTIF(L7:L30,T19)","v":0},{"$f":"U19/(W4-U25)","v":0},{"$f":"IF(V19=0,0,(V19*((LOG(V19))/LOG(2))))","v":0},null,{"$f":"N19","v":12211},{"$f":"COUNTIF(L31:L53,Y19)","v":0},{"$f":"Z19/(AB4-Z25)","v":0},{"$f":"IF(AA19=0,0,(AA19*((LOG(AA19))/LOG(2))))","v":0},null,{"$f":"N19","v":12211},{"$f":"COUNTIF(L54:L77,AD19)","v":0},{"$f":"AE19/(AG4-AE25)","v":0},{"$f":"IF(AF19=0,0,(AF19*((LOG(AF19))/LOG(2))))","v":0},null,{"$f":"N19","v":12211},{"$f":"COUNTIF(L78:L101,AI19)","v":0},{"$f":"AJ19/(AL4-AJ25)","v":0},{"$f":"IF(AK19=0,0,(AK19*((LOG(AK19))/LOG(2))))","v":0},null,{"$f":"N19","v":12211},{"$f":"COUNTIF(L102:L124,AN19)","v":0},{"$f":"AO19/(AQ4-AO25)","v":0},{"$f":"IF(AP19=0,0,(AP19*((LOG(AP19))/LOG(2))))","v":0},null,{"$f":"N19","v":12211},{"$f":"COUNTIF(L125:L148,AS19)","v":0},{"$f":"AT19/(AV4-AT25)","v":0},{"$f":"IF(AU19=0,0,(AU19*((LOG(AU19))/LOG(2))))","v":0}]
[21,2135,11,2143,11,2155,12,2165,13,2195,0,21111,null,12212,{"$f":"COUNTIF($L$7:$L$500,N20)","v":1},{"$f":"O20/$Q$4","v":7.0921985815602835E-3},{"$f":"IF(P20=0,0,(P20*((LOG(P20))/LOG(2))))","v":-5.0635115974459535E-2},null,null,{"$f":"N20","v":12212},{"$f":"COUNTIF(L7:L30,T20)","v":0},{"$f":"U20/(W4-U25)","v":0},{"$f":"IF(V20=0,0,(V20*((LOG(V20))/LOG(2))))","v":0},null,{"$f":"N20","v":12212},{"$f":"COUNTIF(L31:L53,Y20)","v":0},{"$f":"Z20/(AB4-Z25)","v":0},{"$f":"IF(AA20=0,0,(AA20*((LOG(AA20))/LOG(2))))","v":0},null,{"$f":"N20","v":12212},{"$f":"COUNTIF(L54:L77,AD20)","v":0},{"$f":"AE20/(AG4-AE25)","v":0},{"$f":"IF(AF20=0,0,(AF20*((LOG(AF20))/LOG(2))))","v":0},null,{"$f":"N20","v":12212},{"$f":"COUNTIF(L78:L101,AI20)","v":0},{"$f":"AJ20/(AL4-AJ25)","v":0},{"$f":"IF(AK20=0,0,(AK20*((LOG(AK20))/LOG(2))))","v":0},null,{"$f":"N20","v":12212},{"$f":"COUNTIF(L102:L124,AN20)","v":0},{"$f":"AO20/(AQ4-AO25)","v":0},{"$f":"IF(AP20=0,0,(AP20*((LOG(AP20))/LOG(2))))","v":0},null,{"$f":"N20","v":12212},{"$f":"COUNTIF(L125:L148,AS20)","v":1},{"$f":"AT20/(AV4-AT25)","v":4.7619047619047616E-2},{"$f":"IF(AU20=0,0,(AU20*((LOG(AU20))/LOG(2))))","v":-0.20915797251327431}]
[12,2298,13,2318,24,2333,14,2349,24,2360,0,11212,null,12221,{"$f":"COUNTIF($L$7:$L$500,N21)","v":0},{"$f":"O21/$Q$4","v":0},{"$f":"IF(P21=0,0,(P21*((LOG(P21))/LOG(2))))","v":0},null,null,{"$f":"N21","v":12221},{"$f":"COUNTIF(L7:L30,T21)","v":0},{"$f":"U21/(W4-U25)","v":0},{"$f":"IF(V21=0,0,(V21*((LOG(V21))/LOG(2))))","v":0},null,{"$f":"N21","v":12221},{"$f":"COUNTIF(L31:L53,Y21)","v":0},{"$f":"Z21/(AB4-Z25)","v":0},{"$f":"IF(AA21=0,0,(AA21*((LOG(AA21))/LOG(2))))","v":0},null,{"$f":"N21","v":12221},{"$f":"COUNTIF(L54:L77,AD21)","v":0},{"$f":"AE21/(AG4-AE25)","v":0},{"$f":"IF(AF21=0,0,(AF21*((LOG(AF21))/LOG(2))))","v":0},null,{"$f":"N21","v":12221},{"$f":"COUNTIF(L78:L101,AI21)","v":0},{"$f":"AJ21/(AL4-AJ25)","v":0},{"$f":"IF(AK21=0,0,(AK21*((LOG(AK21))/LOG(2))))","v":0},null,{"$f":"N21","v":12221},{"$f":"COUNTIF(L102:L124,AN21)","v":0},{"$f":"AO21/(AQ4-AO25)","v":0},{"$f":"IF(AP21=0,0,(AP21*((LOG(AP21))/LOG(2))))","v":0},null,{"$f":"N21","v":12221},{"$f":"COUNTIF(L125:L148,AS21)","v":0},{"$f":"AT21/(AV4-AT25)","v":0},{"$f":"IF(AU21=0,0,(AU21*((LOG(AU21))/LOG(2))))","v":0}]
[21,2464,11,2473,22,2487,14,2495,24,2507,0,21212,null,12222,{"$f":"COUNTIF($L$7:$L$500,N22)","v":1},{"$f":"O22/$Q$4","v":7.0921985815602835E-3},{"$f":"IF(P22=0,0,(P22*((LOG(P22))/LOG(2))))","v":-5.0635115974459535E-2},null,null,{"$f":"N22","v":12222},{"$f":"COUNTIF(L7:L30,T22)","v":1},{"$f":"U22/(W4-U25)","v":4.7619047619047616E-2},{"$f":"IF(V22=0,0,(V22*((LOG(V22))/LOG(2))))","v":-0.20915797251327431},null,{"$f":"N22","v":12222},{"$f":"COUNTIF(L31:L53,Y22)","v":0},{"$f":"Z22/(AB4-Z25)","v":0},{"$f":"IF(AA22=0,0,(AA22*((LOG(AA22))/LOG(2))))","v":0},null,{"$f":"N22","v":12222},{"$f":"COUNTIF(L54:L77,AD22)","v":0},{"$f":"AE22/(AG4-AE25)","v":0},{"$f":"IF(AF22=0,0,(AF22*((LOG(AF22))/LOG(2))))","v":0},null,{"$f":"N22","v":12222},{"$f":"COUNTIF(L78:L101,AI22)","v":0},{"$f":"AJ22/(AL4-AJ25)","v":0},{"$f":"IF(AK22=0,0,(AK22*((LOG(AK22))/LOG(2))))","v":0},null,{"$f":"N22","v":12222},{"$f":"COUNTIF(L102:L124,AN22)","v":0},{"$f":"AO22/(AQ4-AO25)","v":0},{"$f":"IF(AP22=0,0,(AP22*((LOG(AP22))/LOG(2))))","v":0},null,{"$f":"N22","v":12222},{"$f":"COUNTIF(L125:L148,AS22)","v":0},{"$f":"AT22/(AV4-AT25)","v":0},{"$f":"IF(AU22=0,0,(AU22*((LOG(AU22))/LOG(2))))","v":0}]
[21,2620,11,2629,11,2640,12,2661,13,2670,0,21111,null,21111,{"$f":"COUNTIF($L$7:$L$500,N23)","v":3},{"$f":"O23/$Q$4","v":2.1276595744680851E-2},{"$f":"IF(P23=0,0,(P23*((LOG(P23))/LOG(2))))","v":-0.11818274152505612},null,null,{"$f":"N23","v":21111},{"$f":"COUNTIF(L7:L30,T23)","v":2},{"$f":"U23/(W4-U25)","v":9.5238095238095233E-2},{"$f":"IF(V23=0,0,(V23*((LOG(V23))/LOG(2))))","v":-0.32307784978845333},null,{"$f":"N23","v":21111},{"$f":"COUNTIF(L31:L53,Y23)","v":0},{"$f":"Z23/(AB4-Z25)","v":0},{"$f":"IF(AA23=0,0,(AA23*((LOG(AA23))/LOG(2))))","v":0},null,{"$f":"N23","v":21111},{"$f":"COUNTIF(L54:L77,AD23)","v":0},{"$f":"AE23/(AG4-AE25)","v":0},{"$f":"IF(AF23=0,0,(AF23*((LOG(AF23))/LOG(2))))","v":0},null,{"$f":"N23","v":21111},{"$f":"COUNTIF(L78:L101,AI23)","v":1},{"$f":"AJ23/(AL4-AJ25)","v":4.7619047619047616E-2},{"$f":"IF(AK23=0,0,(AK23*((LOG(AK23))/LOG(2))))","v":-0.20915797251327431},null,{"$f":"N23","v":21111},{"$f":"COUNTIF(L102:L124,AN23)","v":0},{"$f":"AO23/(AQ4-AO25)","v":0},{"$f":"IF(AP23=0,0,(AP23*((LOG(AP23))/LOG(2))))","v":0},null,{"$f":"N23","v":21111},{"$f":"COUNTIF(L125:L148,AS23)","v":0},{"$f":"AT23/(AV4-AT25)","v":0},{"$f":"IF(AU23=0,0,(AU23*((LOG(AU23))/LOG(2))))","v":0}]
[21,2770,22,2777,13,2791,14,2809,24,2821,0,22112,null,21112,{"$f":"COUNTIF($L$7:$L$500,N24)","v":3},{"$f":"O24/$Q$4","v":2.1276595744680851E-2},{"$f":"IF(P24=0,0,(P24*((LOG(P24))/LOG(2))))","v":-0.11818274152505612},null,null,{"$f":"N24","v":21112},{"$f":"COUNTIF(L7:L30,T24)","v":1},{"$f":"U24/(W4-U25)","v":4.7619047619047616E-2},{"$f":"IF(V24=0,0,(V24*((LOG(V24))/LOG(2))))","v":-0.20915797251327431},null,{"$f":"N24","v":21112},{"$f":"COUNTIF(L31:L53,Y24)","v":0},{"$f":"Z24/(AB4-Z25)","v":0},{"$f":"IF(AA24=0,0,(AA24*((LOG(AA24))/LOG(2))))","v":0},null,{"$f":"N24","v":21112},{"$f":"COUNTIF(L54:L77,AD24)","v":1},{"$f":"AE24/(AG4-AE25)","v":5.2631578947368418E-2},{"$f":"IF(AF24=0,0,(AF24*((LOG(AF24))/LOG(2))))","v":-0.22357513228650452},null,{"$f":"N24","v":21112},{"$f":"COUNTIF(L78:L101,AI24)","v":0},{"$f":"AJ24/(AL4-AJ25)","v":0},{"$f":"IF(AK24=0,0,(AK24*((LOG(AK24))/LOG(2))))","v":0},null,{"$f":"N24","v":21112},{"$f":"COUNTIF(L102:L124,AN24)","v":1},{"$f":"AO24/(AQ4-AO25)","v":6.25E-2},{"$f":"IF(AP24=0,0,(AP24*((LOG(AP24))/LOG(2))))","v":-0.25},null,{"$f":"N24","v":21112},{"$f":"COUNTIF(L125:L148,AS24)","v":0},{"$f":"AT24/(AV4-AT25)","v":0},{"$f":"IF(AU24=0,0,(AU24*((LOG(AU24))/LOG(2))))","v":0}]
[12,2922,13,2934,24,2946,14,2964,24,2976,0,11212,null,21121,{"$f":"COUNTIF($L$7:$L$500,N25)","v":25},{"$f":"O25/$Q$4","v":0.1773049645390071},{"$f":"IF(P25=0,0,(P25*((LOG(P25))/LOG(2))))","v":-0.4424991423092321},null,null,{"$f":"N25","v":21121},{"$f":"COUNTIF(L7:L30,T25)","v":3},null,null,null,{"$f":"N25","v":21121},{"$f":"COUNTIF(L31:L53,Y25)","v":5},null,null,null,{"$f":"N25","v":21121},{"$f":"COUNTIF(L54:L77,AD25)","v":5},null,null,null,{"$f":"N25","v":21121},{"$f":"COUNTIF(L78:L101,AI25)","v":3},null,null,null,{"$f":"N25","v":21121},{"$f":"COUNTIF(L102:L124,AN25)","v":7},null,null,null,{"$f":"N25","v":21121},{"$f":"COUNTIF(L125:L148,AS25)","v":2}]
[21,3075,11,3082,11,3107,21,3119,11,3134,1,21121,null,21122,{"$f":"COUNTIF($L$7:$L$500,N26)","v":4},{"$f":"O26/$Q$4","v":2.8368794326241134E-2},{"$f":"IF(P26=0,0,(P26*((LOG(P26))/LOG(2))))","v":-0.14580287524535585},null,null,{"$f":"N26","v":21122},{"$f":"COUNTIF(L7:L30,T26)","v":1},{"$f":"U26/(W4-U25)","v":4.7619047619047616E-2},{"$f":"IF(V26=0,0,(V26*((LOG(V26))/LOG(2))))","v":-0.20915797251327431},null,{"$f":"N26","v":21122},{"$f":"COUNTIF(L31:L53,Y26)","v":1},{"$f":"Z26/(AB4-Z25)","v":5.5555555555555552E-2},{"$f":"IF(AA26=0,0,(AA26*((LOG(AA26))/LOG(2))))","v":-0.23166250008012845},null,{"$f":"N26","v":21122},{"$f":"COUNTIF(L54:L77,AD26)","v":1},{"$f":"AE26/(AG4-AE25)","v":5.2631578947368418E-2},{"$f":"IF(AF26=0,0,(AF26*((LOG(AF26))/LOG(2))))","v":-0.22357513228650452},null,{"$f":"N26","v":21122},{"$f":"COUNTIF(L78:L101,AI26)","v":1},{"$f":"AJ26/(AL4-AJ25)","v":4.7619047619047616E-2},{"$f":"IF(AK26=0,0,(AK26*((LOG(AK26))/LOG(2))))","v":-0.20915797251327431},null,{"$f":"N26","v":21122},{"$f":"COUNTIF(L102:L124,AN26)","v":0},{"$f":"AO26/(AQ4-AO25)","v":0},{"$f":"IF(AP26=0,0,(AP26*((LOG(AP26))/LOG(2))))","v":0},null,{"$f":"N26","v":21122},{"$f":"COUNTIF(L125:L148,AS26)","v":0},{"$f":"AT26/(AV4-AT25)","v":0},{"$f":"IF(AU26=0,0,(AU26*((LOG(AU26))/LOG(2))))","v":0}]
[21,3305,11,3321,22,3330,23,3343,13,3354,0,21221,null,21211,{"$f":"COUNTIF($L$7:$L$500,N27)","v":14},{"$f":"O27/$Q$4","v":9.9290780141843976E-2},{"$f":"IF(P27=0,0,(P27*((LOG(P27))/LOG(2))))","v":-0.33085638315444438},null,null,{"$f":"N27","v":21211},{"$f":"COUNTIF(L7:L30,T27)","v":1},{"$f":"U27/(W4-U25)","v":4.7619047619047616E-2},{"$f":"IF(V27=0,0,(V27*((LOG(V27))/LOG(2))))","v":-0.20915797251327431},null,{"$f":"N27","v":21211},{"$f":"COUNTIF(L31:L53,Y27)","v":1},{"$f":"Z27/(AB4-Z25)","v":5.5555555555555552E-2},{"$f":"IF(AA27=0,0,(AA27*((LOG(AA27))/LOG(2))))","v":-0.23166250008012845},null,{"$f":"N27","v":21211},{"$f":"COUNTIF(L54:L77,AD27)","v":0},{"$f":"AE27/(AG4-AE25)","v":0},{"$f":"IF(AF27=0,0,(AF27*((LOG(AF27))/LOG(2))))","v":0},null,{"$f":"N27","v":21211},{"$f":"COUNTIF(L78:L101,AI27)","v":6},{"$f":"AJ27/(AL4-AJ25)","v":0.2857142857142857},{"$f":"IF(AK27=0,0,(AK27*((LOG(AK27))/LOG(2))))","v":-0.51638712058788683},null,{"$f":"N27","v":21211},{"$f":"COUNTIF(L102:L124,AN27)","v":2},{"$f":"AO27/(AQ4-AO25)","v":0.125},{"$f":"IF(AP27=0,0,(AP27*((LOG(AP27))/LOG(2))))","v":-0.375},null,{"$f":"N27","v":21211},{"$f":"COUNTIF(L125:L148,AS27)","v":4},{"$f":"AT27/(AV4-AT25)","v":0.19047619047619047},{"$f":"IF(AU27=0,0,(AU27*((LOG(AU27))/LOG(2))))","v":-0.4556795091007162}]
[21,3452,11,3460,11,3475,21,3487,11,3502,1,21121,null,21212,{"$f":"COUNTIF($L$7:$L$500,N28)","v":27},{"$f":"O28/$Q$4","v":0.19148936170212766},{"$f":"IF(P28=0,0,(P28*((LOG(P28))/LOG(2))))","v":-0.45663775855570055},null,null,{"$f":"N28","v":21212},{"$f":"COUNTIF(L7:L30,T28)","v":6},{"$f":"U28/(W4-U25)","v":0.2857142857142857},{"$f":"IF(V28=0,0,(V28*((LOG(V28))/LOG(2))))","v":-0.51638712058788683},null,{"$f":"N28","v":21212},{"$f":"COUNTIF(L31:L53,Y28)","v":3},{"$f":"Z28/(AB4-Z25)","v":0.16666666666666666},{"$f":"IF(AA28=0,0,(AA28*((LOG(AA28))/LOG(2))))","v":-0.43082708345352599},null,{"$f":"N28","v":21212},{"$f":"COUNTIF(L54:L77,AD28)","v":2},{"$f":"AE28/(AG4-AE25)","v":0.10526315789473684},{"$f":"IF(AF28=0,0,(AF28*((LOG(AF28))/LOG(2))))","v":-0.34188710667827216},null,{"$f":"N28","v":21212},{"$f":"COUNTIF(L78:L101,AI28)","v":6},{"$f":"AJ28/(AL4-AJ25)","v":0.2857142857142857},{"$f":"IF(AK28=0,0,(AK28*((LOG(AK28))/LOG(2))))","v":-0.51638712058788683},null,{"$f":"N28","v":21212},{"$f":"COUNTIF(L102:L124,AN28)","v":4},{"$f":"AO28/(AQ4-AO25)","v":0.25},{"$f":"IF(AP28=0,0,(AP28*((LOG(AP28))/LOG(2))))","v":-0.5},null,{"$f":"N28","v":21212},{"$f":"COUNTIF(L125:L148,AS28)","v":6},{"$f":"AT28/(AV4-AT25)","v":0.2857142857142857},{"$f":"IF(AU28=0,0,(AU28*((LOG(AU28))/LOG(2))))","v":-0.51638712058788683}]
[21,3740,22,3773,13,3791,23,3806,13,3818,0,22121,null,21221,{"$f":"COUNTIF($L$7:$L$500,N29)","v":9},{"$f":"O29/$Q$4","v":6.3829787234042548E-2},{"$f":"IF(P29=0,0,(P29*((LOG(P29))/LOG(2))))","v":-0.2533804053802009},null,null,{"$f":"N29","v":21221},{"$f":"COUNTIF(L7:L30,T29)","v":2},{"$f":"U29/(W4-U25)","v":9.5238095238095233E-2},{"$f":"IF(V29=0,0,(V29*((LOG(V29))/LOG(2))))","v":-0.32307784978845333},null,{"$f":"N29","v":21221},{"$f":"COUNTIF(L31:L53,Y29)","v":0},{"$f":"Z29/(AB4-Z25)","v":0},{"$f":"IF(AA29=0,0,(AA29*((LOG(AA29))/LOG(2))))","v":0},null,{"$f":"N29","v":21221},{"$f":"COUNTIF(L54:L77,AD29)","v":1},{"$f":"AE29/(AG4-AE25)","v":5.2631578947368418E-2},{"$f":"IF(AF29=0,0,(AF29*((LOG(AF29))/LOG(2))))","v":-0.22357513228650452},null,{"$f":"N29","v":21221},{"$f":"COUNTIF(L78:L101,AI29)","v":0},{"$f":"AJ29/(AL4-AJ25)","v":0},{"$f":"IF(AK29=0,0,(AK29*((LOG(AK29))/LOG(2))))","v":0},null,{"$f":"N29","v":21221},{"$f":"COUNTIF(L102:L124,AN29)","v":2},{"$f":"AO29/(AQ4-AO25)","v":0.125},{"$f":"IF(AP29=0,0,(AP29*((LOG(AP29))/LOG(2))))","v":-0.375},null,{"$f":"N29","v":21221},{"$f":"COUNTIF(L125:L148,AS29)","v":4},{"$f":"AT29/(AV4-AT25)","v":0.19047619047619047},{"$f":"IF(AU29=0,0,(AU29*((LOG(AU29))/LOG(2))))","v":-0.4556795091007162}]
[21,3920,11,3928,22,3939,14,3951,24,3965,0,21212,null,21222,{"$f":"COUNTIF($L$7:$L$500,N30)","v":0},{"$f":"O30/$Q$4","v":0},{"$f":"IF(P30=0,0,(P30*((LOG(P30))/LOG(2))))","v":0},null,null,{"$f":"N30","v":21222},{"$f":"COUNTIF(L7:L30,T30)","v":0},{"$f":"U30/(W4-U25)","v":0},{"$f":"IF(V30=0,0,(V30*((LOG(V30))/LOG(2))))","v":0},null,{"$f":"N30","v":21222},{"$f":"COUNTIF(L31:L53,Y30)","v":0},{"$f":"Z30/(AB4-Z25)","v":0},{"$f":"IF(AA30=0,0,(AA30*((LOG(AA30))/LOG(2))))","v":0},null,{"$f":"N30","v":21222},{"$f":"COUNTIF(L54:L77,AD30)","v":0},{"$f":"AE30/(AG4-AE25)","v":0},{"$f":"IF(AF30=0,0,(AF30*((LOG(AF30))/LOG(2))))","v":0},null,{"$f":"N30","v":21222},{"$f":"COUNTIF(L78:L101,AI30)","v":0},{"$f":"AJ30/(AL4-AJ25)","v":0},{"$f":"IF(AK30=0,0,(AK30*((LOG(AK30))/LOG(2))))","v":0},null,{"$f":"N30","v":21222},{"$f":"COUNTIF(L102:L124,AN30)","v":0},{"$f":"AO30/(AQ4-AO25)","v":0},{"$f":"IF(AP30=0,0,(AP30*((LOG(AP30))/LOG(2))))","v":0},null,{"$f":"N30","v":21222},{"$f":"COUNTIF(L125:L148,AS30)","v":0},{"$f":"AT30/(AV4-AT25)","v":0},{"$f":"IF(AU30=0,0,(AU30*((LOG(AU30))/LOG(2))))","v":0}]
[12,4066,13,4074,24,4086,14,4095,13,4104,0,11211,null,22111,{"$f":"COUNTIF($L$7:$L$500,N31)","v":0},{"$f":"O31/$Q$4","v":0},{"$f":"IF(P31=0,0,(P31*((LOG(P31))/LOG(2))))","v":0},null,null,{"$f":"N31","v":22111},{"$f":"COUNTIF(L7:L30,T31)","v":0},{"$f":"U31/(W4-U25)","v":0},{"$f":"IF(V31=0,0,(V31*((LOG(V31))/LOG(2))))","v":0},null,{"$f":"N31","v":22111},{"$f":"COUNTIF(L31:L53,Y31)","v":0},{"$f":"Z31/(AB4-Z25)","v":0},{"$f":"IF(AA31=0,0,(AA31*((LOG(AA31))/LOG(2))))","v":0},null,{"$f":"N31","v":22111},{"$f":"COUNTIF(L54:L77,AD31)","v":0},{"$f":"AE31/(AG4-AE25)","v":0},{"$f":"IF(AF31=0,0,(AF31*((LOG(AF31))/LOG(2))))","v":0},null,{"$f":"N31","v":22111},{"$f":"COUNTIF(L78:L101,AI31)","v":0},{"$f":"AJ31/(AL4-AJ25)","v":0},{"$f":"IF(AK31=0,0,(AK31*((LOG(AK31))/LOG(2))))","v":0},null,{"$f":"N31","v":22111},{"$f":"COUNTIF(L102:L124,AN31)","v":0},{"$f":"AO31/(AQ4-AO25)","v":0},{"$f":"IF(AP31=0,0,(AP31*((LOG(AP31))/LOG(2))))","v":0},null,{"$f":"N31","v":22111},{"$f":"COUNTIF(L125:L148,AS31)","v":0},{"$f":"AT31/(AV4-AT25)","v":0},{"$f":"IF(AU31=0,0,(AU31*((LOG(AU31))/LOG(2))))","v":0}]
[21,4224,11,4232,11,4245,21,4256,11,4277,1,21121,null,22112,{"$f":"COUNTIF($L$7:$L$500,N32)","v":4},{"$f":"O32/$Q$4","v":2.8368794326241134E-2},{"$f":"IF(P32=0,0,(P32*((LOG(P32))/LOG(2))))","v":-0.14580287524535585},null,null,{"$f":"N32","v":22112},{"$f":"COUNTIF(L7:L30,T32)","v":1},{"$f":"U32/(W4-U25)","v":4.7619047619047616E-2},{"$f":"IF(V32=0,0,(V32*((LOG(V32))/LOG(2))))","v":-0.20915797251327431},null,{"$f":"N32","v":22112},{"$f":"COUNTIF(L31:L53,Y32)","v":0},{"$f":"Z32/(AB4-Z25)","v":0},{"$f":"IF(AA32=0,0,(AA32*((LOG(AA32))/LOG(2))))","v":0},null,{"$f":"N32","v":22112},{"$f":"COUNTIF(L54:L77,AD32)","v":0},{"$f":"AE32/(AG4-AE25)","v":0},{"$f":"IF(AF32=0,0,(AF32*((LOG(AF32))/LOG(2))))","v":0},null,{"$f":"N32","v":22112},{"$f":"COUNTIF(L78:L101,AI32)","v":2},{"$f":"AJ32/(AL4-AJ25)","v":9.5238095238095233E-2},{"$f":"IF(AK32=0,0,(AK32*((LOG(AK32))/LOG(2))))","v":-0.32307784978845333},null,{"$f":"N32","v":22112},{"$f":"COUNTIF(L102:L124,AN32)","v":1},{"$f":"AO32/(AQ4-AO25)","v":6.25E-2},{"$f":"IF(AP32=0,0,(AP32*((LOG(AP32))/LOG(2))))","v":-0.25},null,{"$f":"N32","v":22112},{"$f":"COUNTIF(L125:L148,AS32)","v":0},{"$f":"AT32/(AV4-AT25)","v":0},{"$f":"IF(AU32=0,0,(AU32*((LOG(AU32))/LOG(2))))","v":0}]
[21,4367,11,4375,22,4384,14,4398,24,4410,0,21212,null,22121,{"$f":"COUNTIF($L$7:$L$500,N33)","v":8},{"$f":"O33/$Q$4","v":5.6737588652482268E-2},{"$f":"IF(P33=0,0,(P33*((LOG(P33))/LOG(2))))","v":-0.23486816183822942},null,null,{"$f":"N33","v":22121},{"$f":"COUNTIF(L7:L30,T33)","v":2},{"$f":"U33/(W4-U25)","v":9.5238095238095233E-2},{"$f":"IF(V33=0,0,(V33*((LOG(V33))/LOG(2))))","v":-0.32307784978845333},null,{"$f":"N33","v":22121},{"$f":"COUNTIF(L31:L53,Y33)","v":0},{"$f":"Z33/(AB4-Z25)","v":0},{"$f":"IF(AA33=0,0,(AA33*((LOG(AA33))/LOG(2))))","v":0},null,{"$f":"N33","v":22121},{"$f":"COUNTIF(L54:L77,AD33)","v":0},{"$f":"AE33/(AG4-AE25)","v":0},{"$f":"IF(AF33=0,0,(AF33*((LOG(AF33))/LOG(2))))","v":0},null,{"$f":"N33","v":22121},{"$f":"COUNTIF(L78:L101,AI33)","v":2},{"$f":"AJ33/(AL4-AJ25)","v":9.5238095238095233E-2},{"$f":"IF(AK33=0,0,(AK33*((LOG(AK33))/LOG(2))))","v":-0.32307784978845333},null,{"$f":"N33","v":22121},{"$f":"COUNTIF(L102:L124,AN33)","v":3},{"$f":"AO33/(AQ4-AO25)","v":0.1875},{"$f":"IF(AP33=0,0,(AP33*((LOG(AP33))/LOG(2))))","v":-0.45281953111478312},null,{"$f":"N33","v":22121},{"$f":"COUNTIF(L125:L148,AS33)","v":1},{"$f":"AT33/(AV4-AT25)","v":4.7619047619047616E-2},{"$f":"IF(AU33=0,0,(AU33*((LOG(AU33))/LOG(2))))","v":-0.20915797251327431}]
[21,4546,11,4554,22,4566,14,4578,24,4591,0,21212,null,22122,{"$f":"COUNTIF($L$7:$L$500,N34)","v":3},{"$f":"O34/$Q$4","v":2.1276595744680851E-2},{"$f":"IF(P34=0,0,(P34*((LOG(P34))/LOG(2))))","v":-0.11818274152505612},null,null,{"$f":"N34","v":22122},{"$f":"COUNTIF(L7:L30,T34)","v":0},{"$f":"U34/(W4-U25)","v":0},{"$f":"IF(V34=0,0,(V34*((LOG(V34))/LOG(2))))","v":0},null,{"$f":"N34","v":22122},{"$f":"COUNTIF(L31:L53,Y34)","v":2},{"$f":"Z34/(AB4-Z25)","v":0.1111111111111111},{"$f":"IF(AA34=0,0,(AA34*((LOG(AA34))/LOG(2))))","v":-0.3522138890491458},null,{"$f":"N34","v":22122},{"$f":"COUNTIF(L54:L77,AD34)","v":0},{"$f":"AE34/(AG4-AE25)","v":0},{"$f":"IF(AF34=0,0,(AF34*((LOG(AF34))/LOG(2))))","v":0},null,{"$f":"N34","v":22122},{"$f":"COUNTIF(L78:L101,AI34)","v":0},{"$f":"AJ34/(AL4-AJ25)","v":0},{"$f":"IF(AK34=0,0,(AK34*((LOG(AK34))/LOG(2))))","v":0},null,{"$f":"N34","v":22122},{"$f":"COUNTIF(L102:L124,AN34)","v":0},{"$f":"AO34/(AQ4-AO25)","v":0},{"$f":"IF(AP34=0,0,(AP34*((LOG(AP34))/LOG(2))))","v":0},null,{"$f":"N34","v":22122},{"$f":"COUNTIF(L125:L148,AS34)","v":1},{"$f":"AT34/(AV4-AT25)","v":4.7619047619047616E-2},{"$f":"IF(AU34=0,0,(AU34*((LOG(AU34))/LOG(2))))","v":-0.20915797251327431}]
[21,4688,11,4697,11,4710,21,4721,11,4729,1,21121,null,22211,{"$f":"COUNTIF($L$7:$L$500,N35)","v":0},{"$f":"O35/$Q$4","v":0},{"$f":"IF(P35=0,0,(P35*((LOG(P35))/LOG(2))))","v":0},null,null,{"$f":"N35","v":22211},{"$f":"COUNTIF(L7:L30,T35)","v":0},{"$f":"U35/(W4-U25)","v":0},{"$f":"IF(V35=0,0,(V35*((LOG(V35))/LOG(2))))","v":0},null,{"$f":"N35","v":22211},{"$f":"COUNTIF(L31:L53,Y35)","v":0},{"$f":"Z35/(AB4-Z25)","v":0},{"$f":"IF(AA35=0,0,(AA35*((LOG(AA35))/LOG(2))))","v":0},null,{"$f":"N35","v":22211},{"$f":"COUNTIF(L54:L77,AD35)","v":0},{"$f":"AE35/(AG4-AE25)","v":0},{"$f":"IF(AF35=0,0,(AF35*((LOG(AF35))/LOG(2))))","v":0},null,{"$f":"N35","v":22211},{"$f":"COUNTIF(L78:L101,AI35)","v":0},{"$f":"AJ35/(AL4-AJ25)","v":0},{"$f":"IF(AK35=0,0,(AK35*((LOG(AK35))/LOG(2))))","v":0},null,{"$f":"N35","v":22211},{"$f":"COUNTIF(L102:L124,AN35)","v":0},{"$f":"AO35/(AQ4-AO25)","v":0},{"$f":"IF(AP35=0,0,(AP35*((LOG(AP35))/LOG(2))))","v":0},null,{"$f":"N35","v":22211},{"$f":"COUNTIF(L125:L148,AS35)","v":0},{"$f":"AT35/(AV4-AT25)","v":0},{"$f":"IF(AU35=0,0,(AU35*((LOG(AU35))/LOG(2))))","v":0}]
[21,4829,11,4838,11,4853,21,4865,22,4897,0,21122,null,22212,{"$f":"COUNTIF($L$7:$L$500,N36)","v":0},{"$f":"O36/$Q$4","v":0},{"$f":"IF(P36=0,0,(P36*((LOG(P36))/LOG(2))))","v":0},null,null,{"$f":"N36","v":22212},{"$f":"COUNTIF(L7:L30,T36)","v":0},{"$f":"U36/(W4-U25)","v":0},{"$f":"IF(V36=0,0,(V36*((LOG(V36))/LOG(2))))","v":0},null,{"$f":"N36","v":22212},{"$f":"COUNTIF(L31:L53,Y36)","v":0},{"$f":"Z36/(AB4-Z25)","v":0},{"$f":"IF(AA36=0,0,(AA36*((LOG(AA36))/LOG(2))))","v":0},null,{"$f":"N36","v":22212},{"$f":"COUNTIF(L54:L77,AD36)","v":0},{"$f":"AE36/(AG4-AE25)","v":0},{"$f":"IF(AF36=0,0,(AF36*((LOG(AF36))/LOG(2))))","v":0},null,{"$f":"N36","v":22212},{"$f":"COUNTIF(L78:L101,AI36)","v":0},{"$f":"AJ36/(AL4-AJ25)","v":0},{"$f":"IF(AK36=0,0,(AK36*((LOG(AK36))/LOG(2))))","v":0},null,{"$f":"N36","v":22212},{"$f":"COUNTIF(L102:L124,AN36)","v":0},{"$f":"AO36/(AQ4-AO25)","v":0},{"$f":"IF(AP36=0,0,(AP36*((LOG(AP36))/LOG(2))))","v":0},null,{"$f":"N36","v":22212},{"$f":"COUNTIF(L125:L148,AS36)","v":0},{"$f":"AT36/(AV4-AT25)","v":0},{"$f":"IF(AU36=0,0,(AU36*((LOG(AU36))/LOG(2))))","v":0}]
[12,5010,13,5017,24,5032,14,5042,13,5046,0,11211,null,22221,{"$f":"COUNTIF($L$7:$L$500,N37)","v":0},{"$f":"O37/$Q$4","v":0},{"$f":"IF(P37=0,0,(P37*((LOG(P37))/LOG(2))))","v":0},null,null,{"$f":"N37","v":22221},{"$f":"COUNTIF(L7:L30,T37)","v":0},{"$f":"U37/(W4-U25)","v":0},{"$f":"IF(V37=0,0,(V37*((LOG(V37))/LOG(2))))","v":0},null,{"$f":"N37","v":22221},{"$f":"COUNTIF(L31:L53,Y37)","v":0},{"$f":"Z37/(AB4-Z25)","v":0},{"$f":"IF(AA37=0,0,(AA37*((LOG(AA37))/LOG(2))))","v":0},null,{"$f":"N37","v":22221},{"$f":"COUNTIF(L54:L77,AD37)","v":0},{"$f":"AE37/(AG4-AE25)","v":0},{"$f":"IF(AF37=0,0,(AF37*((LOG(AF37))/LOG(2))))","v":0},null,{"$f":"N37","v":22221},{"$f":"COUNTIF(L78:L101,AI37)","v":0},{"$f":"AJ37/(AL4-AJ25)","v":0},{"$f":"IF(AK37=0,0,(AK37*((LOG(AK37))/LOG(2))))","v":0},null,{"$f":"N37","v":22221},{"$f":"COUNTIF(L102:L124,AN37)","v":0},{"$f":"AO37/(AQ4-AO25)","v":0},{"$f":"IF(AP37=0,0,(AP37*((LOG(AP37))/LOG(2))))","v":0},null,{"$f":"N37","v":22221},{"$f":"COUNTIF(L125:L148,AS37)","v":0},{"$f":"AT37/(AV4-AT25)","v":0},{"$f":"IF(AU37=0,0,(AU37*((LOG(AU37))/LOG(2))))","v":0}]
[21,5150,11,5172,11,5179,21,5194,11,5210,1,21121,null,22222,{"$f":"COUNTIF($L$7:$L$500,N38)","v":0},{"$f":"O38/$Q$4","v":0},{"$f":"IF(P38=0,0,(P38*((LOG(P38))/LOG(2))))","v":0},null,null,{"$f":"N38","v":22222},{"$f":"COUNTIF(L7:L30,T38)","v":0},{"$f":"U38/(W4-U25)","v":0},{"$f":"IF(V38=0,0,(V38*((LOG(V38))/LOG(2))))","v":0},null,{"$f":"N38","v":22222},{"$f":"COUNTIF(L31:L53,Y38)","v":0},{"$f":"Z38/(AB4-Z25)","v":0},{"$f":"IF(AA38=0,0,(AA38*((LOG(AA38))/LOG(2))))","v":0},null,{"$f":"N38","v":22222},{"$f":"COUNTIF(L54:L77,AD38)","v":0},{"$f":"AE38/(AG4-AE25)","v":0},{"$f":"IF(AF38=0,0,(AF38*((LOG(AF38))/LOG(2))))","v":0},null,{"$f":"N38","v":22222},{"$f":"COUNTIF(L78:L101,AI38)","v":0},{"$f":"AJ38/(AL4-AJ25)","v":0},{"$f":"IF(AK38=0,0,(AK38*((LOG(AK38))/LOG(2))))","v":0},null,{"$f":"N38","v":22222},{"$f":"COUNTIF(L102:L124,AN38)","v":0},{"$f":"AO38/(AQ4-AO25)","v":0},{"$f":"IF(AP38=0,0,(AP38*((LOG(AP38))/LOG(2))))","v":0},null,{"$f":"N38","v":22222},{"$f":"COUNTIF(L125:L148,AS38)","v":0},{"$f":"AT38/(AV4-AT25)","v":0},{"$f":"IF(AU38=0,0,(AU38*((LOG(AU38))/LOG(2))))","v":0}]
[21,5331,22,5378,13,5398,23,5406,24,5426,0,22122,null,null,null,{"$f":"SUM(P7:P38)","v":1},{"$f":"-SUM(Q7:Q38)","v":3.698998748055637},null,null,null,null,{"$f":"SUM(V7:V38)","v":0.99999999999999989},{"$f":"-SUM(W7:W38)","v":3.1416192081839793},null,null,null,{"$f":"SUM(AA7:AA38)","v":1},{"$f":"-SUM(AB7:AB38)","v":2.7744019192887706},null,null,null,{"$f":"SUM(AF7:AF38)","v":1},{"$f":"-SUM(AG7:AG38)","v":3.4713544870139303},null,null,null,{"$f":"SUM(AK7:AK38)","v":0.99999999999999989},{"$f":"-SUM(AL7:AL38)","v":2.4982965889303155},null,null,null,{"$f":"SUM(AP7:AP38)","v":1},{"$f":"-SUM(AQ7:AQ38)","v":2.9528195311147831},null,null,null,{"$f":"SUM(AU7:AU38)","v":1},{"$f":"-SUM(AV7:AV38)","v":2.7966138511441438}]
[12,5537,13,5545,24,5556,14,5570,24,5580,0,11212,null,null,null,"U=",{"$f":"Q39/(LOG(Q4)/LOG(2))","v":0.51809960675089528},null,null,null,null,"U1=",{"$f":"W39/(LOG(W4)/LOG(2))","v":0.68520063308911305},null,null,null,"U2=",{"$f":"AB39/(LOG(AB4)/LOG(2))","v":0.61332240969395113},null,null,null,"U3=",{"$f":"AG39/(LOG(AG4)/LOG(2))","v":0.75711731262097137},null,null,null,"U4=",{"$f":"AL39/(LOG(AL4)/LOG(2))","v":0.54488920869851509},null,null,null,"U5=",{"$f":"AQ39/(LOG(AQ4)/LOG(2))","v":0.6527642507827226},null,null,null,"U6=",{"$f":"AV39/(LOG(AV4)/LOG(2))","v":0.61823268440028778}]
[12,5678,13,5685,24,5699,14,5717,13,5739,0,11211]
[12,5840,13,5847,13,5856,23,5867,13,5877,0,11121]
[12,5975,13,5985,13,5995,23,6003,13,6024,0,11121,null,"Total Target Seq"]
[21,6124,11,6133,22,6146,14,6159,24,6171,0,21212,null,{"$f":"COUNTIF(L7:L148,G3)","v":25},null,24,23,24,24,23,24]
[12,6273,13,6279,13,6290,23,6312,13,6325,0,11121,null,null,null,"% of reinforcement given in 6 equal intervals based on number of trials "]
[21,6433,11,6461,22,6474,14,6488,13,6496,0,21211,null,null,null,"%_1","%_2","%_3","%_4","%_5","%_6"]
[12,6599,13,6610,13,6621,23,6631,13,6640,0,11121,null,null,"target sequence",{"$f":"$G$3","v":21121},{"$f":"$G$3","v":21121},{"$f":"$G$3","v":21121},{"$f":"$G$3","v":21121},{"$f":"$G$3","v":21121},{"$f":"$G$3","v":21121}]
[12,6746,13,6756,13,6767,23,6783,13,6795,0,11121,null,null,"total reinforcement",{"$f":"U25","v":3},{"$f":"Z25","v":5},{"$f":"AE25","v":5},{"$f":"AJ25","v":3},{"$f":"AO25","v":7},{"$f":"AT25","v":2}]
[21,6898,11,6906,11,6915,21,6926,11,6941,1,21121,null,null,"% target"]
[21,7055,22,7068,13,7080,23,7089,24,7120,0,22122,null,null,"CCRF"]
[12,7223,13,7231,24,7244,23,7271,13,7281,0,11221,null,null,"% CCRf"]
[12,7388,13,7399,24,7410,14,7419,24,7431,0,11212,null,null,"average response rate",{"$f":"J30/P44","v":165.20833333333334},{"$f":"(J53-J30)/Q44","v":157.82608695652175},{"$f":"(J77-J53)/R44","v":171.16666666666666},{"$f":"(J101-J77)/S44","v":170.75},{"$f":"(J124-J101)/T44","v":176.60869565217391},{"$f":"(J148-J124)/U44","v":-827.625}]
[21,7535,11,7543,11,7574,21,7586,11,7595,1,21121]
[21,7702,11,7711,22,7720,14,7732,24,7744,0,21212]
[21,7850,11,7858,11,7865,21,7876,22,7902,0,21122]
[21,8015,11,8024,11,8054,21,8065,11,8080,1,21121]
[21,8175,11,8189,11,8206,21,8218,11,8230,1,21121]
[12,8339,13,8356,24,8368,14,8380,24,8392,0,11212]
[21,8503,11,8515,11,8527,21,8541,11,8555,1,21121]
[21,8698,11,8753,22,8765,14,8776,24,8789,0,21212]
[12,8908,13,8931,24,8941,23,8953,13,8971,0,11221]
[12,9085,13,9099,13,9107,23,9123,13,9134,0,11121]
[12,9254,24,9264,13,9303,23,9316,13,9328,0,12121]
[12,9433,13,9445,24,9455,14,9468,24,9484,0,11212]
[12,9587,13,9596,13,9607,23,9618,24,9660,0,11122]
[21,9757,11,9765,11,9773,21,9784,11,9802,1,21121]
[12,9904,13,9915,24,9930,23,9953,24,9983,0,11222]
[12,10103,13,10114,13,10137,14,10147,24,10160,0,11112]
[12,10265,13,10276,13,10292,23,10306,13,10319,0,11121]
[12,10427,13,10435,24,10450,14,10465,24,10493,0,11212]
[12,10598,13,10615,13,10645,14,10655,24,10669,0,11112]
[12,10780,13,10796,24,10808,14,10821,13,10831,0,11211]
[12,10931,13,10942,24,10982,14,10994,13,11002,0,11211]
[21,11105,11,11113,11,11149,12,11156,24,11169,0,21112]
[12,11287,24,11313,13,11325,23,11342,13,11350,0,12121]
[21,11454,11,11463,22,11480,23,11515,13,11536,0,21221]
[21,11646,11,11659,11,11681,21,11694,11,11703,1,21121]
[21,11816,11,11831,22,11841,14,11857,13,11867,0,21211]
[12,12019,13,12034,24,12048,14,12062,13,12086,0,11211]
[21,12190,11,12200,22,12245,14,12255,13,12263,0,21211]
[12,12369,13,12380,24,12394,14,12407,13,12415,0,11211]
[21,12515,11,12528,22,12537,14,12546,13,12568,0,21211]
[21,12673,22,12715,13,12727,14,12735,24,12747,0,22112]
[21,12851,11,12861,22,12876,14,12887,13,12895,0,21211]
[21,12996,11,13005,22,13020,14,13032,24,13043,0,21212]
[21,13145,11,13153,22,13163,14,13176,24,13192,0,21212]
[21,13292,11,13300,22,13311,14,13323,24,13336,0,21212]
[21,13433,11,13441,22,13451,14,13459,24,13487,0,21212]
[21,13596,11,13604,11,13625,12,13646,13,13657,0,21111]
[21,13756,11,13767,11,13778,21,13789,22,13804,0,21122]
[21,13908,11,13916,11,13938,21,13948,11,13969,1,21121]
[21,14093,22,14115,13,14130,23,14142,13,14162,0,22121]
[21,14274,11,14294,22,14303,14,14316,13,14327,0,21211]
[21,14431,11,14444,22,14455,14,14468,24,14487,0,21212]
[21,14591,11,14602,22,14614,14,14625,13,14639,0,21211]
[12,14752,13,14764,24,14794,14,14808,13,14816,0,11211]
[21,14920,11,14928,11,14949,21,14961,11,14974,1,21121]
[21,15132,22,15157,13,15170,23,15181,13,15203,0,22121]
[21,15305,22,15402,13,15417,14,15424,24,15434,0,22112]
[21,15537,11,15545,11,15569,21,15580,11,15592,1,21121]
[21,15749,11,15757,22,15779,14,15790,24,15801,0,21212]
[12,15946,13,15980,24,15993,14,16007,13,16018,0,11211]
[21,16118,11,16126,11,16139,21,16150,11,16172,1,21121]
[21,16267,11,16276,11,16298,21,16310,11,16318,1,21121]
[21,16440,11,16469,22,16478,14,16489,24,16501,0,21212]
[21,16604,22,16622,13,16638,23,16651,13,16661,0,22121]
[21,16760,11,16768,11,16780,12,16795,24,16804,0,21112]
[12,16949,24,16961,13,16970,23,16987,13,17010,0,12121]
[21,17123,11,17136,22,17149,23,17176,13,17188,0,21221]
[21,17292,11,17308,22,17316,14,17324,24,17339,0,21212]
[21,17441,22,17485,13,17534,14,17538,24,17565,0,22112]
[12,17681,13,17696,24,17710,14,17724,24,17737,0,11212]
[21,17844,11,17855,22,17864,14,17876,13,17886,0,21211]
[21,17990,11,18020,22,18029,14,18041,24,18057,0,21212]
[21,18162,11,18170,11,18189,21,18203,11,18224,1,21121]
[21,18361,11,18379,11,18409,21,18418,11,18438,1,21121]
[21,18615,11,18626,22,18634,23,18647,13,18659,0,21221]
[21,18761,22,18797,13,18808,23,18820,13,18838,0,22121]
[21,18937,11,18950,22,18960,14,18968,24,18980,0,21212]
[21,19087,11,19107,11,19115,21,19131,11,19145,1,21121]
[21,19269,11,19311,22,19323,14,19334,13,19364,0,21211]
[21,19467,11,19474,11,19494,21,19509,11,19522,1,21121]
[21,19629,11,19637,11,19654,21,19664,11,19686,1,21121]
[21,19786,22,19828,13,19841,23,19853,13,19863,0,22121]
[21,20006,11,20023,22,20034,14,20044,24,20054,0,21212]
[21,20162,11,20207,22,20221,14,20236,13,20244,0,21211]
[12,20353,13,20365,24,20377,23,20411,13,20423,0,11221]
[12,20525,13,20537,13,20565,23,20577,13,20591,0,11121]
[21,20705,11,20727,22,20741,23,20765,13,20786,0,21221]
[21,20894,11,20902,22,20914,23,20954,13,20976,0,21221]
[21,21084,11,21110,22,21147,14,21161,13,21169,0,21211]
[21,21270,11,21278,11,21294,21,21307,11,21339,1,21121]
[21,21442,11,21457,22,21470,14,21482,24,21494,0,21212]
[12,21593,24,21610,24,21641,14,21652,24,21672,0,12212]
[12,21779,13,21790,13,21804,23,21813,13,21827,0,11121]
[21,21931,11,21939,22,21951,23,21976,13,21989,0,21221]
[21,22092,11,22100,11,22112,21,22128,11,22144,1,21121]
[21,22240,11,22269,22,22280,14,22292,24,22313,0,21212]
[21,22418,11,22443,22,22454,14,22467,13,22474,0,21211]
[21,22654,22,22666,13,22685,23,22693,13,22711,0,22121]
[21,22815,22,22850,13,22868,23,22878,24,22888,0,22122]
[21,22985,11,22992,22,23003,23,23015,13,23023,0,21221]
[21,23126,11,23134,22,23165,14,23184,24,23192,0,21212]
[21,23290,11,23297,22,23308,14,23316,24,23331,0,21212]
[21,23447,11,23472,22,23483,14,23503,13,23512,0,21211]
[12,23632,13,23681,24,23695,14,23711,13,23726,0,11211]
[21,23826,11,23834,22,23849,14,23861,24,23873,0,21212]
[12,23996,null,null,null,null,null,null,null,null,null,1]

{"sheet":"!MA24A30.010","index":27,"n_rows":152,"n_cols":48,"rows_kept":152,"cut":false,"hidden":false,"merged":[[4,39,4,42],[5,39,5,40],[4,44,4,47],[5,44,5,45],[4,24,4,27],[5,24,5,25],[4,29,4,32],[5,29,5,30],[4,34,4,37],[5,34,5,35],[1,1,1,2],[5,13,5,14],[42,13,42,14],[43,13,43,14],[4,19,4,22],[5,19,5,20]]}
["Report for:!MA24A30.010"]
["Date:","<date>"]
["Hen:","<hen>",null,null,null,"Correct Sequence",{"$f":"Start!J2","v":21121},null,null,null,null,null,null,null,null,"Total Sequences in Data",{"$f":"4994-COUNTBLANK(L7:L5000)","v":146},null,null,null,null,"Total Sequences in Block Data",{"$f":"COUNTA(L7:L30)","v":24},null,null,null,"Total Sequences in Block Data",{"$f":"COUNTA(L31:L55)","v":25},null,null,null,"Total Sequences in Block Data",{"$f":"COUNTA(L56:L79)","v":24},null,null,null,"Total Sequences in Block Data",{"$f":"COUNTA(L80:L103)","v":24},null,null,null,"Total Sequences in Block Data",{"$f":"COUNTA(L104:L128)","v":25},null,null,null,"Total Sequences in Block Data",{"$f":"COUNTA(L129:L152)","v":24}]
[null,null,null,null,null,null,null,null,null,null,null,null,null,null,null,"Total Sequences in Summary",{"$f":"SUM(O7:O38)","v":146},null,null,null,null,"Total Sequences in Block Summary",{"$f":"SUM(U7:U38)","v":24},null,null,null,"Total Sequences in Block Summary",{"$f":"SUM(Z7:Z38)","v":25},null,null,null,"Total Sequences in Block Summary",{"$f":"SUM(AE7:AE38)","v":24},null,null,null,"Total Sequences in Block Summary",{"$f":"SUM(AJ7:AJ38)","v":24},null,null,null,"Total Sequences in Block Summary",{"$f":"SUM(AO7:AO38)","v":25},null,null,null,"Total Sequences in Block Summary",{"$f":"SUM(AT7:AT38)","v":24}]
[null,null,null,null,null,null,null,null,null,null,null,null,null,null,null,null,null,null,null,"Block 1",null,null,null,null,"Block 2",null,null,null,null,"Block 3",null,null,null,null,"Block 4",null,null,null,null,"Block 5",null,null,null,null,"Block 6"]
["Sequence\nComponent\n1","Time\n1","Sequence\nComponent\n2","Time\n2","Sequence\nComponent\n3","Time\n3","Sequence\nComponent\n4","Time\n4","Sequence\nComponent\n5","Time\n5","Correct?\n0=No 1=Yes","Sequence",null,"Frequency",null,"Relative Frequency","Variability",null,null,"Frequency",null,"Relative Frequency","Variability",null,"Frequency",null,"Relative Frequency","Variability",null,"Frequency",null,"Relative Frequency","Variability",null,"Frequency",null,"Relative Frequency","Variability",null,"Frequency",null,"Relative Frequency","Variability",null,"Frequency",null,"Relative Frequency","Variability"]
[21,21,22,55,24,94,23,143,24,171,0,22222,null,11111,{"$f":"COUNTIF($L$7:$L$500,N7)","v":1},{"$f":"O7/$Q$4","v":6.8493150684931503E-3},{"$f":"IF(P7=0,0,(P7*((LOG(P7))/LOG(2))))","v":-4.9245373690959021E-2},null,null,{"$f":"N7","v":11111},{"$f":"COUNTIF(L7:L30,T7)","v":0},{"$f":"U7/(W4-U25)","v":0},{"$f":"IF(V7=0,0,(V7*((LOG(V7))/LOG(2))))","v":0},null,{"$f":"N7","v":11111},{"$f":"COUNTIF(L31:L55,Y7)","v":0},{"$f":"Z7/(AB4-Z25)","v":0},{"$f":"IF(AA7=0,0,(AA7*((LOG(AA7))/LOG(2))))","v":0},null,{"$f":"N7","v":11111},{"$f":"COUNTIF(L56:L79,AD7)","v":0},{"$f":"AE7/(AG4-AE25)","v":0},{"$f":"IF(AF7=0,0,(AF7*((LOG(AF7))/LOG(2))))","v":0},null,{"$f":"N7","v":11111},{"$f":"COUNTIF(L80:L103,AI7)","v":0},{"$f":"AJ7/(AL4-AJ25)","v":0},{"$f":"IF(AK7=0,0,(AK7*((LOG(AK7))/LOG(2))))","v":0},null,{"$f":"N7","v":11111},{"$f":"COUNTIF(L104:L128,AN7)","v":0},{"$f":"AO7/(AQ4-AO25)","v":0},{"$f":"IF(AP7=0,0,(AP7*((LOG(AP7))/LOG(2))))","v":0},null,{"$f":"N7","v":11111},{"$f":"COUNTIF(L129:L152,AS7)","v":1},{"$f":"AT7/(AV4-AT25)","v":5.2631578947368418E-2},{"$f":"IF(AU7=0,0,(AU7*((LOG(AU7))/LOG(2))))","v":-0.22357513228650452}]
[21,275,11,291,22,307,14,318,24,332,0,21212,null,11112,{"$f":"COUNTIF($L$7:$L$500,N8)","v":1},{"$f":"O8/$Q$4","v":6.8493150684931503E-3},{"$f":"IF(P8=0,0,(P8*((LOG(P8))/LOG(2))))","v":-4.9245373690959021E-2},null,null,{"$f":"N8","v":11112},{"$f":"COUNTIF(L7:L30,T8)","v":0},{"$f":"U8/(W4-U25)","v":0},{"$f":"IF(V8=0,0,(V8*((LOG(V8))/LOG(2))))","v":0},null,{"$f":"N8","v":11112},{"$f":"COUNTIF(L31:L55,Y8)","v":0},{"$f":"Z8/(AB4-Z25)","v":0},{"$f":"IF(AA8=0,0,(AA8*((LOG(AA8))/LOG(2))))","v":0},null,{"$f":"N8","v":11112},{"$f":"COUNTIF(L56:L79,AD8)","v":0},{"$f":"AE8/(AG4-AE25)","v":0},{"$f":"IF(AF8=0,0,(AF8*((LOG(AF8))/LOG(2))))","v":0},null,{"$f":"N8","v":11112},{"$f":"COUNTIF(L80:L103,AI8)","v":0},{"$f":"AJ8/(AL4-AJ25)","v":0},{"$f":"IF(AK8=0,0,(AK8*((LOG(AK8))/LOG(2))))","v":0},null,{"$f":"N8","v":11112},{"$f":"COUNTIF(L104:L128,AN8)","v":0},{"$f":"AO8/(AQ4-AO25)","v":0},{"$f":"IF(AP8=0,0,(AP8*((LOG(AP8))/LOG(2))))","v":0},null,{"$f":"N8","v":11112},{"$f":"COUNTIF(L129:L152,AS8)","v":1},{"$f":"AT8/(AV4-AT25)","v":5.2631578947368418E-2},{"$f":"IF(AU8=0,0,(AU8*((LOG(AU8))/LOG(2))))","v":-0.22357513228650452}]
[21,434,11,442,22,454,14,466,13,487,0,21211,null,11121,{"$f":"COUNTIF($L$7:$L$500,N9)","v":11},{"$f":"O9/$Q$4","v":7.5342465753424653E-2},{"$f":"IF(P9=0,0,(P9*((LOG(P9))/LOG(2))))","v":-0.28105700234705422},null,null,{"$f":"N9","v":11121},{"$f":"COUNTIF(L7:L30,T9)","v":3},{"$f":"U9/(W4-U25)","v":0.14285714285714285},{"$f":"IF(V9=0,0,(V9*((LOG(V9))/LOG(2))))","v":-0.40105070315108626},null,{"$f":"N9","v":11121},{"$f":"COUNTIF(L31:L55,Y9)","v":5},{"$f":"Z9/(AB4-Z25)","v":0.26315789473684209},{"$f":"IF(AA9=0,0,(AA9*((LOG(AA9))/LOG(2))))","v":-0.50684195225163764},null,{"$f":"N9","v":11121},{"$f":"COUNTIF(L56:L79,AD9)","v":0},{"$f":"AE9/(AG4-AE25)","v":0},{"$f":"IF(AF9=0,0,(AF9*((LOG(AF9))/LOG(2))))","v":0},null,{"$f":"N9","v":11121},{"$f":"COUNTIF(L80:L103,AI9)","v":0},{"$f":"AJ9/(AL4-AJ25)","v":0},{"$f":"IF(AK9=0,0,(AK9*((LOG(AK9))/LOG(2))))","v":0},null,{"$f":"N9","v":11121},{"$f":"COUNTIF(L104:L128,AN9)","v":3},{"$f":"AO9/(AQ4-AO25)","v":0.14285714285714285},{"$f":"IF(AP9=0,0,(AP9*((LOG(AP9))/LOG(2))))","v":-0.40105070315108626},null,{"$f":"N9","v":11121},{"$f":"COUNTIF(L129:L152,AS9)","v":0},{"$f":"AT9/(AV4-AT25)","v":0},{"$f":"IF(AU9=0,0,(AU9*((LOG(AU9))/LOG(2))))","v":0}]
[21,589,11,598,22,610,14,622,24,634,0,21212,null,11122,{"$f":"COUNTIF($L$7:$L$500,N10)","v":2},{"$f":"O10/$Q$4","v":1.3698630136986301E-2},{"$f":"IF(P10=0,0,(P10*((LOG(P10))/LOG(2))))","v":-8.4792117244931728E-2},null,null,{"$f":"N10","v":11122},{"$f":"COUNTIF(L7:L30,T10)","v":1},{"$f":"U10/(W4-U25)","v":4.7619047619047616E-2},{"$f":"IF(V10=0,0,(V10*((LOG(V10))/LOG(2))))","v":-0.20915797251327431},null,{"$f":"N10","v":11122},{"$f":"COUNTIF(L31:L55,Y10)","v":1},{"$f":"Z10/(AB4-Z25)","v":5.2631578947368418E-2},{"$f":"IF(AA10=0,0,(AA10*((LOG(AA10))/LOG(2))))","v":-0.22357513228650452},null,{"$f":"N10","v":11122},{"$f":"COUNTIF(L56:L79,AD10)","v":0},{"$f":"AE10/(AG4-AE25)","v":0},{"$f":"IF(AF10=0,0,(AF10*((LOG(AF10))/LOG(2))))","v":0},null,{"$f":"N10","v":11122},{"$f":"COUNTIF(L80:L103,AI10)","v":0},{"$f":"AJ10/(AL4-AJ25)","v":0},{"$f":"IF(AK10=0,0,(AK10*((LOG(AK10))/LOG(2))))","v":0},null,{"$f":"N10","v":11122},{"$f":"COUNTIF(L104:L128,AN10)","v":0},{"$f":"AO10/(AQ4-AO25)","v":0},{"$f":"IF(AP10=0,0,(AP10*((LOG(AP10))/LOG(2))))","v":0},null,{"$f":"N10","v":11122},{"$f":"COUNTIF(L129:L152,AS10)","v":0},{"$f":"AT10/(AV4-AT25)","v":0},{"$f":"IF(AU10=0,0,(AU10*((LOG(AU10))/LOG(2))))","v":0}]
[21,735,11,743,22,752,23,773,13,787,0,21221,null,11211,{"$f":"COUNTIF($L$7:$L$500,N11)","v":3},{"$f":"O11/$Q$4","v":2.0547945205479451E-2},{"$f":"IF(P11=0,0,(P11*((LOG(P11))/LOG(2))))","v":-0.11516839845531907},null,null,{"$f":"N11","v":11211},{"$f":"COUNTIF(L7:L30,T11)","v":0},{"$f":"U11/(W4-U25)","v":0},{"$f":"IF(V11=0,0,(V11*((LOG(V11))/LOG(2))))","v":0},null,{"$f":"N11","v":11211},{"$f":"COUNTIF(L31:L55,Y11)","v":1},{"$f":"Z11/(AB4-Z25)","v":5.2631578947368418E-2},{"$f":"IF(AA11=0,0,(AA11*((LOG(AA11))/LOG(2))))","v":-0.22357513228650452},null,{"$f":"N11","v":11211},{"$f":"COUNTIF(L56:L79,AD11)","v":2},{"$f":"AE11/(AG4-AE25)","v":9.0909090909090912E-2},{"$f":"IF(AF11=0,0,(AF11*((LOG(AF11))/LOG(2))))","v":-0.31449378351248153},null,{"$f":"N11","v":11211},{"$f":"COUNTIF(L80:L103,AI11)","v":0},{"$f":"AJ11/(AL4-AJ25)","v":0},{"$f":"IF(AK11=0,0,(AK11*((LOG(AK11))/LOG(2))))","v":0},null,{"$f":"N11","v":11211},{"$f":"COUNTIF(L104:L128,AN11)","v":0},{"$f":"AO11/(AQ4-AO25)","v":0},{"$f":"IF(AP11=0,0,(AP11*((LOG(AP11))/LOG(2))))","v":0},null,{"$f":"N11","v":11211},{"$f":"COUNTIF(L129:L152,AS11)","v":0},{"$f":"AT11/(AV4-AT25)","v":0},{"$f":"IF(AU11=0,0,(AU11*((LOG(AU11))/LOG(2))))","v":0}]
[21,884,11,892,11,900,12,908,13,916,0,21111,null,11212,{"$f":"COUNTIF($L$7:$L$500,N12)","v":6},{"$f":"O12/$Q$4","v":4.1095890410958902E-2},{"$f":"IF(P12=0,0,(P12*((LOG(P12))/LOG(2))))","v":-0.18924090649967923},null,null,{"$f":"N12","v":11212},{"$f":"COUNTIF(L7:L30,T12)","v":4},{"$f":"U12/(W4-U25)","v":0.19047619047619047},{"$f":"IF(V12=0,0,(V12*((LOG(V12))/LOG(2))))","v":-0.4556795091007162},null,{"$f":"N12","v":11212},{"$f":"COUNTIF(L31:L55,Y12)","v":1},{"$f":"Z12/(AB4-Z25)","v":5.2631578947368418E-2},{"$f":"IF(AA12=0,0,(AA12*((LOG(AA12))/LOG(2))))","v":-0.22357513228650452},null,{"$f":"N12","v":11212},{"$f":"COUNTIF(L56:L79,AD12)","v":0},{"$f":"AE12/(AG4-AE25)","v":0},{"$f":"IF(AF12=0,0,(AF12*((LOG(AF12))/LOG(2))))","v":0},null,{"$f":"N12","v":11212},{"$f":"COUNTIF(L80:L103,AI12)","v":0},{"$f":"AJ12/(AL4-AJ25)","v":0},{"$f":"IF(AK12=0,0,(AK12*((LOG(AK12))/LOG(2))))","v":0},null,{"$f":"N12","v":11212},{"$f":"COUNTIF(L104:L128,AN12)","v":1},{"$f":"AO12/(AQ4-AO25)","v":4.7619047619047616E-2},{"$f":"IF(AP12=0,0,(AP12*((LOG(AP12))/LOG(2))))","v":-0.20915797251327431},null,{"$f":"N12","v":11212},{"$f":"COUNTIF(L129:L152,AS12)","v":0},{"$f":"AT12/(AV4-AT25)","v":0},{"$f":"IF(AU12=0,0,(AU12*((LOG(AU12))/LOG(2))))","v":0}]
[21,1026,11,1041,11,1059,21,1070,11,1082,1,21121,null,11221,{"$f":"COUNTIF($L$7:$L$500,N13)","v":1},{"$f":"O13/$Q$4","v":6.8493150684931503E-3},{"$f":"IF(P13=0,0,(P13*((LOG(P13))/LOG(2))))","v":-4.9245373690959021E-2},null,null,{"$f":"N13","v":11221},{"$f":"COUNTIF(L7:L30,T13)","v":0},{"$f":"U13/(W4-U25)","v":0},{"$f":"IF(V13=0,0,(V13*((LOG(V13))/LOG(2))))","v":0},null,{"$f":"N13","v":11221},{"$f":"COUNTIF(L31:L55,Y13)","v":1},{"$f":"Z13/(AB4-Z25)","v":5.2631578947368418E-2},{"$f":"IF(AA13=0,0,(AA13*((LOG(AA13))/LOG(2))))","v":-0.22357513228650452},null,{"$f":"N13","v":11221},{"$f":"COUNTIF(L56:L79,AD13)","v":0},{"$f":"AE13/(AG4-AE25)","v":0},{"$f":"IF(AF13=0,0,(AF13*((LOG(AF13))/LOG(2))))","v":0},null,{"$f":"N13","v":11221},{"$f":"COUNTIF(L80:L103,AI13)","v":0},{"$f":"AJ13/(AL4-AJ25)","v":0},{"$f":"IF(AK13=0,0,(AK13*((LOG(AK13))/LOG(2))))","v":0},null,{"$f":"N13","v":11221},{"$f":"COUNTIF(L104:L128,AN13)","v":0},{"$f":"AO13/(AQ4-AO25)","v":0},{"$f":"IF(AP13=0,0,(AP13*((LOG(AP13))/LOG(2))))","v":0},null,{"$f":"N13","v":11221},{"$f":"COUNTIF(L129:L152,AS13)","v":0},{"$f":"AT13/(AV4-AT25)","v":0},{"$f":"IF(AU13=0,0,(AU13*((LOG(AU13))/LOG(2))))","v":0}]
[12,1188,13,1199,24,1208,14,1221,24,1234,0,11212,null,11222,{"$f":"COUNTIF($L$7:$L$500,N14)","v":0},{"$f":"O14/$Q$4","v":0},{"$f":"IF(P14=0,0,(P14*((LOG(P14))/LOG(2))))","v":0},null,null,{"$f":"N14","v":11222},{"$f":"COUNTIF(L7:L30,T14)","v":0},{"$f":"U14/(W4-U25)","v":0},{"$f":"IF(V14=0,0,(V14*((LOG(V14))/LOG(2))))","v":0},null,{"$f":"N14","v":11222},{"$f":"COUNTIF(L31:L55,Y14)","v":0},{"$f":"Z14/(AB4-Z25)","v":0},{"$f":"IF(AA14=0,0,(AA14*((LOG(AA14))/LOG(2))))","v":0},null,{"$f":"N14","v":11222},{"$f":"COUNTIF(L56:L79,AD14)","v":0},{"$f":"AE14/(AG4-AE25)","v":0},{"$f":"IF(AF14=0,0,(AF14*((LOG(AF14))/LOG(2))))","v":0},null,{"$f":"N14","v":11222},{"$f":"COUNTIF(L80:L103,AI14)","v":0},{"$f":"AJ14/(AL4-AJ25)","v":0},{"$f":"IF(AK14=0,0,(AK14*((LOG(AK14))/LOG(2))))","v":0},null,{"$f":"N14","v":11222},{"$f":"COUNTIF(L104:L128,AN14)","v":0},{"$f":"AO14/(AQ4-AO25)","v":0},{"$f":"IF(AP14=0,0,(AP14*((LOG(AP14))/LOG(2))))","v":0},null,{"$f":"N14","v":11222},{"$f":"COUNTIF(L129:L152,AS14)","v":0},{"$f":"AT14/(AV4-AT25)","v":0},{"$f":"IF(AU14=0,0,(AU14*((LOG(AU14))/LOG(2))))","v":0}]
[21,1331,11,1340,11,1356,21,1366,22,1394,0,21122,null,12111,{"$f":"COUNTIF($L$7:$L$500,N15)","v":1},{"$f":"O15/$Q$4","v":6.8493150684931503E-3},{"$f":"IF(P15=0,0,(P15*((LOG(P15))/LOG(2))))","v":-4.9245373690959021E-2},null,null,{"$f":"N15","v":12111},{"$f":"COUNTIF(L7:L30,T15)","v":0},{"$f":"U15/(W4-U25)","v":0},{"$f":"IF(V15=0,0,(V15*((LOG(V15))/LOG(2))))","v":0},null,{"$f":"N15","v":12111},{"$f":"COUNTIF(L31:L55,Y15)","v":0},{"$f":"Z15/(AB4-Z25)","v":0},{"$f":"IF(AA15=0,0,(AA15*((LOG(AA15))/LOG(2))))","v":0},null,{"$f":"N15","v":12111},{"$f":"COUNTIF(L56:L79,AD15)","v":0},{"$f":"AE15/(AG4-AE25)","v":0},{"$f":"IF(AF15=0,0,(AF15*((LOG(AF15))/LOG(2))))","v":0},null,{"$f":"N15","v":12111},{"$f":"COUNTIF(L80:L103,AI15)","v":0},{"$f":"AJ15/(AL4-AJ25)","v":0},{"$f":"IF(AK15=0,0,(AK15*((LOG(AK15))/LOG(2))))","v":0},null,{"$f":"N15","v":12111},{"$f":"COUNTIF(L104:L128,AN15)","v":0},{"$f":"AO15/(AQ4-AO25)","v":0},{"$f":"IF(AP15=0,0,(AP15*((LOG(AP15))/LOG(2))))","v":0},null,{"$f":"N15","v":12111},{"$f":"COUNTIF(L129:L152,AS15)","v":1},{"$f":"AT15/(AV4-AT25)","v":5.2631578947368418E-2},{"$f":"IF(AU15=0,0,(AU15*((LOG(AU15))/LOG(2))))","v":-0.22357513228650452}]
[21,1494,22,1499,13,1515,23,1524,13,1536,0,22121,null,12112,{"$f":"COUNTIF($L$7:$L$500,N16)","v":0},{"$f":"O16/$Q$4","v":0},{"$f":"IF(P16=0,0,(P16*((LOG(P16))/LOG(2))))","v":0},null,null,{"$f":"N16","v":12112},{"$f":"COUNTIF(L7:L30,T16)","v":0},{"$f":"U16/(W4-U25)","v":0},{"$f":"IF(V16=0,0,(V16*((LOG(V16))/LOG(2))))","v":0},null,{"$f":"N16","v":12112},{"$f":"COUNTIF(L31:L55,Y16)","v":0},{"$f":"Z16/(AB4-Z25)","v":0},{"$f":"IF(AA16=0,0,(AA16*((LOG(AA16))/LOG(2))))","v":0},null,{"$f":"N16","v":12112},{"$f":"COUNTIF(L56:L79,AD16)","v":0},{"$f":"AE16/(AG4-AE25)","v":0},{"$f":"IF(AF16=0,0,(AF16*((LOG(AF16))/LOG(2))))","v":0},null,{"$f":"N16","v":12112},{"$f":"COUNTIF(L80:L103,AI16)","v":0},{"$f":"AJ16/(AL4-AJ25)","v":0},{"$f":"IF(AK16=0,0,(AK16*((LOG(AK16))/LOG(2))))","v":0},null,{"$f":"N16","v":12112},{"$f":"COUNTIF(L104:L128,AN16)","v":0},{"$f":"AO16/(AQ4-AO25)","v":0},{"$f":"IF(AP16=0,0,(AP16*((LOG(AP16))/LOG(2))))","v":0},null,{"$f":"N16","v":12112},{"$f":"COUNTIF(L129:L152,AS16)","v":0},{"$f":"AT16/(AV4-AT25)","v":0},{"$f":"IF(AU16=0,0,(AU16*((LOG(AU16))/LOG(2))))","v":0}]
[21,1635,22,1644,13,1664,23,1675,13,1687,0,22121,null,12121,{"$f":"COUNTIF($L$7:$L$500,N17)","v":7},{"$f":"O17/$Q$4","v":4.7945205479452052E-2},{"$f":"IF(P17=0,0,(P17*((LOG(P17))/LOG(2))))","v":-0.21011840724491021},null,null,{"$f":"N17","v":12121},{"$f":"COUNTIF(L7:L30,T17)","v":0},{"$f":"U17/(W4-U25)","v":0},{"$f":"IF(V17=0,0,(V17*((LOG(V17))/LOG(2))))","v":0},null,{"$f":"N17","v":12121},{"$f":"COUNTIF(L31:L55,Y17)","v":1},{"$f":"Z17/(AB4-Z25)","v":5.2631578947368418E-2},{"$f":"IF(AA17=0,0,(AA17*((LOG(AA17))/LOG(2))))","v":-0.22357513228650452},null,{"$f":"N17","v":12121},{"$f":"COUNTIF(L56:L79,AD17)","v":1},{"$f":"AE17/(AG4-AE25)","v":4.5454545454545456E-2},{"$f":"IF(AF17=0,0,(AF17*((LOG(AF17))/LOG(2))))","v":-0.20270143721078623},null,{"$f":"N17","v":12121},{"$f":"COUNTIF(L80:L103,AI17)","v":1},{"$f":"AJ17/(AL4-AJ25)","v":4.7619047619047616E-2},{"$f":"IF(AK17=0,0,(AK17*((LOG(AK17))/LOG(2))))","v":-0.20915797251327431},null,{"$f":"N17","v":12121},{"$f":"COUNTIF(L104:L128,AN17)","v":3},{"$f":"AO17/(AQ4-AO25)","v":0.14285714285714285},{"$f":"IF(AP17=0,0,(AP17*((LOG(AP17))/LOG(2))))","v":-0.40105070315108626},null,{"$f":"N17","v":12121},{"$f":"COUNTIF(L129:L152,AS17)","v":1},{"$f":"AT17/(AV4-AT25)","v":5.2631578947368418E-2},{"$f":"IF(AU17=0,0,(AU17*((LOG(AU17))/LOG(2))))","v":-0.22357513228650452}]
[21,1791,11,1807,22,1818,14,1827,13,1859,0,21211,null,12122,{"$f":"COUNTIF($L$7:$L$500,N18)","v":1},{"$f":"O18/$Q$4","v":6.8493150684931503E-3},{"$f":"IF(P18=0,0,(P18*((LOG(P18))/LOG(2))))","v":-4.9245373690959021E-2},null,null,{"$f":"N18","v":12122},{"$f":"COUNTIF(L7:L30,T18)","v":0},{"$f":"U18/(W4-U25)","v":0},{"$f":"IF(V18=0,0,(V18*((LOG(V18))/LOG(2))))","v":0},null,{"$f":"N18","v":12122},{"$f":"COUNTIF(L31:L55,Y18)","v":1},{"$f":"Z18/(AB4-Z25)","v":5.2631578947368418E-2},{"$f":"IF(AA18=0,0,(AA18*((LOG(AA18))/LOG(2))))","v":-0.22357513228650452},null,{"$f":"N18","v":12122},{"$f":"COUNTIF(L56:L79,AD18)","v":0},{"$f":"AE18/(AG4-AE25)","v":0},{"$f":"IF(AF18=0,0,(AF18*((LOG(AF18))/LOG(2))))","v":0},null,{"$f":"N18","v":12122},{"$f":"COUNTIF(L80:L103,AI18)","v":0},{"$f":"AJ18/(AL4-AJ25)","v":0},{"$f":"IF(AK18=0,0,(AK18*((LOG(AK18))/LOG(2))))","v":0},null,{"$f":"N18","v":12122},{"$f":"COUNTIF(L104:L128,AN18)","v":0},{"$f":"AO18/(AQ4-AO25)","v":0},{"$f":"IF(AP18=0,0,(AP18*((LOG(AP18))/LOG(2))))","v":0},null,{"$f":"N18","v":12122},{"$f":"COUNTIF(L129:L152,AS18)","v":0},{"$f":"AT18/(AV4-AT25)","v":0},{"$f":"IF(AU18=0,0,(AU18*((LOG(AU18))/LOG(2))))","v":0}]
[21,1967,11,1988,11,2001,21,2033,11,2044,1,21121,null,12211,{"$f":"COUNTIF($L$7:$L$500,N19)","v":0},{"$f":"O19/$Q$4","v":0},{"$f":"IF(P19=0,0,(P19*((LOG(P19))/LOG(2))))","v":0},null,null,{"$f":"N19","v":12211},{"$f":"COUNTIF(L7:L30,T19)","v":0},{"$f":"U19/(W4-U25)","v":0},{"$f":"IF(V19=0,0,(V19*((LOG(V19))/LOG(2))))","v":0},null,{"$f":"N19","v":12211},{"$f":"COUNTIF(L31:L55,Y19)","v":0},{"$f":"Z19/(AB4-Z25)","v":0},{"$f":"IF(AA19=0,0,(AA19*((LOG(AA19))/LOG(2))))","v":0},null,{"$f":"N19","v":12211},{"$f":"COUNTIF(L56:L79,AD19)","v":0},{"$f":"AE19/(AG4-AE25)","v":0},{"$f":"IF(AF19=0,0,(AF19*((LOG(AF19))/LOG(2))))","v":0},null,{"$f":"N19","v":12211},{"$f":"COUNTIF(L80:L103,AI19)","v":0},{"$f":"AJ19/(AL4-AJ25)","v":0},{"$f":"IF(AK19=0,0,(AK19*((LOG(AK19))/LOG(2))))","v":0},null,{"$f":"N19","v":12211},{"$f":"COUNTIF(L104:L128,AN19)","v":0},{"$f":"AO19/(AQ4-AO25)","v":0},{"$f":"IF(AP19=0,0,(AP19*((LOG(AP19))/LOG(2))))","v":0},null,{"$f":"N19","v":12211},{"$f":"COUNTIF(L129:L152,AS19)","v":0},{"$f":"AT19/(AV4-AT25)","v":0},{"$f":"IF(AU19=0,0,(AU19*((LOG(AU19))/LOG(2))))","v":0}]
[21,2139,22,2160,24,2192,23,2206,24,2226,0,22222,null,12212,{"$f":"COUNTIF($L$7:$L$500,N20)","v":0},{"$f":"O20/$Q$4","v":0},{"$f":"IF(P20=0,0,(P20*((LOG(P20))/LOG(2))))","v":0},null,null,{"$f":"N20","v":12212},{"$f":"COUNTIF(L7:L30,T20)","v":0},{"$f":"U20/(W4-U25)","v":0},{"$f":"IF(V20=0,0,(V20*((LOG(V20))/LOG(2))))","v":0},null,{"$f":"N20","v":12212},{"$f":"COUNTIF(L31:L55,Y20)","v":0},{"$f":"Z20/(AB4-Z25)","v":0},{"$f":"IF(AA20=0,0,(AA20*((LOG(AA20))/LOG(2))))","v":0},null,{"$f":"N20","v":12212},{"$f":"COUNTIF(L56:L79,AD20)","v":0},{"$f":"AE20/(AG4-AE25)","v":0},{"$f":"IF(AF20=0,0,(AF20*((LOG(AF20))/LOG(2))))","v":0},null,{"$f":"N20","v":12212},{"$f":"COUNTIF(L80:L103,AI20)","v":0},{"$f":"AJ20/(AL4-AJ25)","v":0},{"$f":"IF(AK20=0,0,(AK20*((LOG(AK20))/LOG(2))))","v":0},null,{"$f":"N20","v":12212},{"$f":"COUNTIF(L104:L128,AN20)","v":0},{"$f":"AO20/(AQ4-AO25)","v":0},{"$f":"IF(AP20=0,0,(AP20*((LOG(AP20))/LOG(2))))","v":0},null,{"$f":"N20","v":12212},{"$f":"COUNTIF(L129:L152,AS20)","v":0},{"$f":"AT20/(AV4-AT25)","v":0},{"$f":"IF(AU20=0,0,(AU20*((LOG(AU20))/LOG(2))))","v":0}]
[21,2337,11,2353,22,2363,14,2383,24,2392,0,21212,null,12221,{"$f":"COUNTIF($L$7:$L$500,N21)","v":0},{"$f":"O21/$Q$4","v":0},{"$f":"IF(P21=0,0,(P21*((LOG(P21))/LOG(2))))","v":0},null,null,{"$f":"N21","v":12221},{"$f":"COUNTIF(L7:L30,T21)","v":0},{"$f":"U21/(W4-U25)","v":0},{"$f":"IF(V21=0,0,(V21*((LOG(V21))/LOG(2))))","v":0},null,{"$f":"N21","v":12221},{"$f":"COUNTIF(L31:L55,Y21)","v":0},{"$f":"Z21/(AB4-Z25)","v":0},{"$f":"IF(AA21=0,0,(AA21*((LOG(AA21))/LOG(2))))","v":0},null,{"$f":"N21","v":12221},{"$f":"COUNTIF(L56:L79,AD21)","v":0},{"$f":"AE21/(AG4-AE25)","v":0},{"$f":"IF(AF21=0,0,(AF21*((LOG(AF21))/LOG(2))))","v":0},null,{"$f":"N21","v":12221},{"$f":"COUNTIF(L80:L103,AI21)","v":0},{"$f":"AJ21/(AL4-AJ25)","v":0},{"$f":"IF(AK21=0,0,(AK21*((LOG(AK21))/LOG(2))))","v":0},null,{"$f":"N21","v":12221},{"$f":"COUNTIF(L104:L128,AN21)","v":0},{"$f":"AO21/(AQ4-AO25)","v":0},{"$f":"IF(AP21=0,0,(AP21*((LOG(AP21))/LOG(2))))","v":0},null,{"$f":"N21","v":12221},{"$f":"COUNTIF(L129:L152,AS21)","v":0},{"$f":"AT21/(AV4-AT25)","v":0},{"$f":"IF(AU21=0,0,(AU21*((LOG(AU21))/LOG(2))))","v":0}]
[12,2500,13,2517,13,2527,23,2539,13,2549,0,11121,null,12222,{"$f":"COUNTIF($L$7:$L$500,N22)","v":0},{"$f":"O22/$Q$4","v":0},{"$f":"IF(P22=0,0,(P22*((LOG(P22))/LOG(2))))","v":0},null,null,{"$f":"N22","v":12222},{"$f":"COUNTIF(L7:L30,T22)","v":0},{"$f":"U22/(W4-U25)","v":0},{"$f":"IF(V22=0,0,(V22*((LOG(V22))/LOG(2))))","v":0},null,{"$f":"N22","v":12222},{"$f":"COUNTIF(L31:L55,Y22)","v":0},{"$f":"Z22/(AB4-Z25)","v":0},{"$f":"IF(AA22=0,0,(AA22*((LOG(AA22))/LOG(2))))","v":0},null,{"$f":"N22","v":12222},{"$f":"COUNTIF(L56:L79,AD22)","v":0},{"$f":"AE22/(AG4-AE25)","v":0},{"$f":"IF(AF22=0,0,(AF22*((LOG(AF22))/LOG(2))))","v":0},null,{"$f":"N22","v":12222},{"$f":"COUNTIF(L80:L103,AI22)","v":0},{"$f":"AJ22/(AL4-AJ25)","v":0},{"$f":"IF(AK22=0,0,(AK22*((LOG(AK22))/LOG(2))))","v":0},null,{"$f":"N22","v":12222},{"$f":"COUNTIF(L104:L128,AN22)","v":0},{"$f":"AO22/(AQ4-AO25)","v":0},{"$f":"IF(AP22=0,0,(AP22*((LOG(AP22))/LOG(2))))","v":0},null,{"$f":"N22","v":12222},{"$f":"COUNTIF(L129:L152,AS22)","v":0},{"$f":"AT22/(AV4-AT25)","v":0},{"$f":"IF(AU22=0,0,(AU22*((LOG(AU22))/LOG(2))))","v":0}]
[21,2667,11,2675,11,2691,12,2713,24,2726,0,21112,null,21111,{"$f":"COUNTIF($L$7:$L$500,N23)","v":5},{"$f":"O23/$Q$4","v":3.4246575342465752E-2},{"$f":"IF(P23=0,0,(P23*((LOG(P23))/LOG(2))))","v":-0.16670878301344708},null,null,{"$f":"N23","v":21111},{"$f":"COUNTIF(L7:L30,T23)","v":1},{"$f":"U23/(W4-U25)","v":4.7619047619047616E-2},{"$f":"IF(V23=0,0,(V23*((LOG(V23))/LOG(2))))","v":-0.20915797251327431},null,{"$f":"N23","v":21111},{"$f":"COUNTIF(L31:L55,Y23)","v":0},{"$f":"Z23/(AB4-Z25)","v":0},{"$f":"IF(AA23=0,0,(AA23*((LOG(AA23))/LOG(2))))","v":0},null,{"$f":"N23","v":21111},{"$f":"COUNTIF(L56:L79,AD23)","v":1},{"$f":"AE23/(AG4-AE25)","v":4.5454545454545456E-2},{"$f":"IF(AF23=0,0,(AF23*((LOG(AF23))/LOG(2))))","v":-0.20270143721078623},null,{"$f":"N23","v":21111},{"$f":"COUNTIF(L80:L103,AI23)","v":2},{"$f":"AJ23/(AL4-AJ25)","v":9.5238095238095233E-2},{"$f":"IF(AK23=0,0,(AK23*((LOG(AK23))/LOG(2))))","v":-0.32307784978845333},null,{"$f":"N23","v":21111},{"$f":"COUNTIF(L104:L128,AN23)","v":0},{"$f":"AO23/(AQ4-AO25)","v":0},{"$f":"IF(AP23=0,0,(AP23*((LOG(AP23))/LOG(2))))","v":0},null,{"$f":"N23","v":21111},{"$f":"COUNTIF(L129:L152,AS23)","v":1},{"$f":"AT23/(AV4-AT25)","v":5.2631578947368418E-2},{"$f":"IF(AU23=0,0,(AU23*((LOG(AU23))/LOG(2))))","v":-0.22357513228650452}]
[12,2837,13,2848,24,2857,14,2871,24,2884,0,11212,null,21112,{"$f":"COUNTIF($L$7:$L$500,N24)","v":6},{"$f":"O24/$Q$4","v":4.1095890410958902E-2},{"$f":"IF(P24=0,0,(P24*((LOG(P24))/LOG(2))))","v":-0.18924090649967923},null,null,{"$f":"N24","v":21112},{"$f":"COUNTIF(L7:L30,T24)","v":1},{"$f":"U24/(W4-U25)","v":4.7619047619047616E-2},{"$f":"IF(V24=0,0,(V24*((LOG(V24))/LOG(2))))","v":-0.20915797251327431},null,{"$f":"N24","v":21112},{"$f":"COUNTIF(L31:L55,Y24)","v":2},{"$f":"Z24/(AB4-Z25)","v":0.10526315789473684},{"$f":"IF(AA24=0,0,(AA24*((LOG(AA24))/LOG(2))))","v":-0.34188710667827216},null,{"$f":"N24","v":21112},{"$f":"COUNTIF(L56:L79,AD24)","v":2},{"$f":"AE24/(AG4-AE25)","v":9.0909090909090912E-2},{"$f":"IF(AF24=0,0,(AF24*((LOG(AF24))/LOG(2))))","v":-0.31449378351248153},null,{"$f":"N24","v":21112},{"$f":"COUNTIF(L80:L103,AI24)","v":0},{"$f":"AJ24/(AL4-AJ25)","v":0},{"$f":"IF(AK24=0,0,(AK24*((LOG(AK24))/LOG(2))))","v":0},null,{"$f":"N24","v":21112},{"$f":"COUNTIF(L104:L128,AN24)","v":0},{"$f":"AO24/(AQ4-AO25)","v":0},{"$f":"IF(AP24=0,0,(AP24*((LOG(AP24))/LOG(2))))","v":0},null,{"$f":"N24","v":21112},{"$f":"COUNTIF(L129:L152,AS24)","v":1},{"$f":"AT24/(AV4-AT25)","v":5.2631578947368418E-2},{"$f":"IF(AU24=0,0,(AU24*((LOG(AU24))/LOG(2))))","v":-0.22357513228650452}]
[12,2987,13,2995,13,3003,23,3012,24,3022,0,11122,null,21121,{"$f":"COUNTIF($L$7:$L$500,N25)","v":23},{"$f":"O25/$Q$4","v":0.15753424657534246},{"$f":"IF(P25=0,0,(P25*((LOG(P25))/LOG(2))))","v":-0.42002767030773352},null,null,{"$f":"N25","v":21121},{"$f":"COUNTIF(L7:L30,T25)","v":3},null,null,null,{"$f":"N25","v":21121},{"$f":"COUNTIF(L31:L55,Y25)","v":6},null,null,null,{"$f":"N25","v":21121},{"$f":"COUNTIF(L56:L79,AD25)","v":2},null,null,null,{"$f":"N25","v":21121},{"$f":"COUNTIF(L80:L103,AI25)","v":3},null,null,null,{"$f":"N25","v":21121},{"$f":"COUNTIF(L104:L128,AN25)","v":4},null,null,null,{"$f":"N25","v":21121},{"$f":"COUNTIF(L129:L152,AS25)","v":5}]
[12,3125,13,3135,13,3143,23,3153,13,3168,0,11121,null,21122,{"$f":"COUNTIF($L$7:$L$500,N26)","v":3},{"$f":"O26/$Q$4","v":2.0547945205479451E-2},{"$f":"IF(P26=0,0,(P26*((LOG(P26))/LOG(2))))","v":-0.11516839845531907},null,null,{"$f":"N26","v":21122},{"$f":"COUNTIF(L7:L30,T26)","v":1},{"$f":"U26/(W4-U25)","v":4.7619047619047616E-2},{"$f":"IF(V26=0,0,(V26*((LOG(V26))/LOG(2))))","v":-0.20915797251327431},null,{"$f":"N26","v":21122},{"$f":"COUNTIF(L31:L55,Y26)","v":0},{"$f":"Z26/(AB4-Z25)","v":0},{"$f":"IF(AA26=0,0,(AA26*((LOG(AA26))/LOG(2))))","v":0},null,{"$f":"N26","v":21122},{"$f":"COUNTIF(L56:L79,AD26)","v":0},{"$f":"AE26/(AG4-AE25)","v":0},{"$f":"IF(AF26=0,0,(AF26*((LOG(AF26))/LOG(2))))","v":0},null,{"$f":"N26","v":21122},{"$f":"COUNTIF(L80:L103,AI26)","v":1},{"$f":"AJ26/(AL4-AJ25)","v":4.7619047619047616E-2},{"$f":"IF(AK26=0,0,(AK26*((LOG(AK26))/LOG(2))))","v":-0.20915797251327431},null,{"$f":"N26","v":21122},{"$f":"COUNTIF(L104:L128,AN26)","v":1},{"$f":"AO26/(AQ4-AO25)","v":4.7619047619047616E-2},{"$f":"IF(AP26=0,0,(AP26*((LOG(AP26))/LOG(2))))","v":-0.20915797251327431},null,{"$f":"N26","v":21122},{"$f":"COUNTIF(L129:L152,AS26)","v":0},{"$f":"AT26/(AV4-AT25)","v":0},{"$f":"IF(AU26=0,0,(AU26*((LOG(AU26))/LOG(2))))","v":0}]
[12,3286,13,3293,24,3303,14,3326,24,3336,0,11212,null,21211,{"$f":"COUNTIF($L$7:$L$500,N27)","v":16},{"$f":"O27/$Q$4","v":0.1095890410958904},{"$f":"IF(P27=0,0,(P27*((LOG(P27))/LOG(2))))","v":-0.34956981467178266},null,null,{"$f":"N27","v":21211},{"$f":"COUNTIF(L7:L30,T27)","v":2},{"$f":"U27/(W4-U25)","v":9.5238095238095233E-2},{"$f":"IF(V27=0,0,(V27*((LOG(V27))/LOG(2))))","v":-0.32307784978845333},null,{"$f":"N27","v":21211},{"$f":"COUNTIF(L31:L55,Y27)","v":1},{"$f":"Z27/(AB4-Z25)","v":5.2631578947368418E-2},{"$f":"IF(AA27=0,0,(AA27*((LOG(AA27))/LOG(2))))","v":-0.22357513228650452},null,{"$f":"N27","v":21211},{"$f":"COUNTIF(L56:L79,AD27)","v":4},{"$f":"AE27/(AG4-AE25)","v":0.18181818181818182},{"$f":"IF(AF27=0,0,(AF27*((LOG(AF27))/LOG(2))))","v":-0.44716938520678134},null,{"$f":"N27","v":21211},{"$f":"COUNTIF(L80:L103,AI27)","v":1},{"$f":"AJ27/(AL4-AJ25)","v":4.7619047619047616E-2},{"$f":"IF(AK27=0,0,(AK27*((LOG(AK27))/LOG(2))))","v":-0.20915797251327431},null,{"$f":"N27","v":21211},{"$f":"COUNTIF(L104:L128,AN27)","v":3},{"$f":"AO27/(AQ4-AO25)","v":0.14285714285714285},{"$f":"IF(AP27=0,0,(AP27*((LOG(AP27))/LOG(2))))","v":-0.40105070315108626},null,{"$f":"N27","v":21211},{"$f":"COUNTIF(L129:L152,AS27)","v":5},{"$f":"AT27/(AV4-AT25)","v":0.26315789473684209},{"$f":"IF(AU27=0,0,(AU27*((LOG(AU27))/LOG(2))))","v":-0.50684195225163764}]
[21,3445,11,3453,11,3464,21,3476,11,3490,1,21121,null,21212,{"$f":"COUNTIF($L$7:$L$500,N28)","v":23},{"$f":"O28/$Q$4","v":0.15753424657534246},{"$f":"IF(P28=0,0,(P28*((LOG(P28))/LOG(2))))","v":-0.42002767030773352},null,null,{"$f":"N28","v":21212},{"$f":"COUNTIF(L7:L30,T28)","v":3},{"$f":"U28/(W4-U25)","v":0.14285714285714285},{"$f":"IF(V28=0,0,(V28*((LOG(V28))/LOG(2))))","v":-0.40105070315108626},null,{"$f":"N28","v":21212},{"$f":"COUNTIF(L31:L55,Y28)","v":1},{"$f":"Z28/(AB4-Z25)","v":5.2631578947368418E-2},{"$f":"IF(AA28=0,0,(AA28*((LOG(AA28))/LOG(2))))","v":-0.22357513228650452},null,{"$f":"N28","v":21212},{"$f":"COUNTIF(L56:L79,AD28)","v":5},{"$f":"AE28/(AG4-AE25)","v":0.22727272727272727},{"$f":"IF(AF28=0,0,(AF28*((LOG(AF28))/LOG(2))))","v":-0.48579625539771243},null,{"$f":"N28","v":21212},{"$f":"COUNTIF(L80:L103,AI28)","v":6},{"$f":"AJ28/(AL4-AJ25)","v":0.2857142857142857},{"$f":"IF(AK28=0,0,(AK28*((LOG(AK28))/LOG(2))))","v":-0.51638712058788683},null,{"$f":"N28","v":21212},{"$f":"COUNTIF(L104:L128,AN28)","v":5},{"$f":"AO28/(AQ4-AO25)","v":0.23809523809523808},{"$f":"IF(AP28=0,0,(AP28*((LOG(AP28))/LOG(2))))","v":-0.49294983997414238},null,{"$f":"N28","v":21212},{"$f":"COUNTIF(L129:L152,AS28)","v":3},{"$f":"AT28/(AV4-AT25)","v":0.15789473684210525},{"$f":"IF(AU28=0,0,(AU28*((LOG(AU28))/LOG(2))))","v":-0.42046815990354147}]
[12,3591,13,3605,13,3612,23,3623,13,3632,0,11121,null,21221,{"$f":"COUNTIF($L$7:$L$500,N29)","v":2},{"$f":"O29/$Q$4","v":1.3698630136986301E-2},{"$f":"IF(P29=0,0,(P29*((LOG(P29))/LOG(2))))","v":-8.4792117244931728E-2},null,null,{"$f":"N29","v":21221},{"$f":"COUNTIF(L7:L30,T29)","v":1},{"$f":"U29/(W4-U25)","v":4.7619047619047616E-2},{"$f":"IF(V29=0,0,(V29*((LOG(V29))/LOG(2))))","v":-0.20915797251327431},null,{"$f":"N29","v":21221},{"$f":"COUNTIF(L31:L55,Y29)","v":1},{"$f":"Z29/(AB4-Z25)","v":5.2631578947368418E-2},{"$f":"IF(AA29=0,0,(AA29*((LOG(AA29))/LOG(2))))","v":-0.22357513228650452},null,{"$f":"N29","v":21221},{"$f":"COUNTIF(L56:L79,AD29)","v":0},{"$f":"AE29/(AG4-AE25)","v":0},{"$f":"IF(AF29=0,0,(AF29*((LOG(AF29))/LOG(2))))","v":0},null,{"$f":"N29","v":21221},{"$f":"COUNTIF(L80:L103,AI29)","v":0},{"$f":"AJ29/(AL4-AJ25)","v":0},{"$f":"IF(AK29=0,0,(AK29*((LOG(AK29))/LOG(2))))","v":0},null,{"$f":"N29","v":21221},{"$f":"COUNTIF(L104:L128,AN29)","v":0},{"$f":"AO29/(AQ4-AO25)","v":0},{"$f":"IF(AP29=0,0,(AP29*((LOG(AP29))/LOG(2))))","v":0},null,{"$f":"N29","v":21221},{"$f":"COUNTIF(L129:L152,AS29)","v":0},{"$f":"AT29/(AV4-AT25)","v":0},{"$f":"IF(AU29=0,0,(AU29*((LOG(AU29))/LOG(2))))","v":0}]
[12,3738,13,3754,24,3761,14,3776,24,3788,0,11212,null,21222,{"$f":"COUNTIF($L$7:$L$500,N30)","v":1},{"$f":"O30/$Q$4","v":6.8493150684931503E-3},{"$f":"IF(P30=0,0,(P30*((LOG(P30))/LOG(2))))","v":-4.9245373690959021E-2},null,null,{"$f":"N30","v":21222},{"$f":"COUNTIF(L7:L30,T30)","v":0},{"$f":"U30/(W4-U25)","v":0},{"$f":"IF(V30=0,0,(V30*((LOG(V30))/LOG(2))))","v":0},null,{"$f":"N30","v":21222},{"$f":"COUNTIF(L31:L55,Y30)","v":0},{"$f":"Z30/(AB4-Z25)","v":0},{"$f":"IF(AA30=0,0,(AA30*((LOG(AA30))/LOG(2))))","v":0},null,{"$f":"N30","v":21222},{"$f":"COUNTIF(L56:L79,AD30)","v":0},{"$f":"AE30/(AG4-AE25)","v":0},{"$f":"IF(AF30=0,0,(AF30*((LOG(AF30))/LOG(2))))","v":0},null,{"$f":"N30","v":21222},{"$f":"COUNTIF(L80:L103,AI30)","v":0},{"$f":"AJ30/(AL4-AJ25)","v":0},{"$f":"IF(AK30=0,0,(AK30*((LOG(AK30))/LOG(2))))","v":0},null,{"$f":"N30","v":21222},{"$f":"COUNTIF(L104:L128,AN30)","v":1},{"$f":"AO30/(AQ4-AO25)","v":4.7619047619047616E-2},{"$f":"IF(AP30=0,0,(AP30*((LOG(AP30))/LOG(2))))","v":-0.20915797251327431},null,{"$f":"N30","v":21222},{"$f":"COUNTIF(L129:L152,AS30)","v":0},{"$f":"AT30/(AV4-AT25)","v":0},{"$f":"IF(AU30=0,0,(AU30*((LOG(AU30))/LOG(2))))","v":0}]
[21,3898,11,3916,22,3927,14,3936,13,3941,0,21211,null,22111,{"$f":"COUNTIF($L$7:$L$500,N31)","v":3},{"$f":"O31/$Q$4","v":2.0547945205479451E-2},{"$f":"IF(P31=0,0,(P31*((LOG(P31))/LOG(2))))","v":-0.11516839845531907},null,null,{"$f":"N31","v":22111},{"$f":"COUNTIF(L7:L30,T31)","v":0},{"$f":"U31/(W4-U25)","v":0},{"$f":"IF(V31=0,0,(V31*((LOG(V31))/LOG(2))))","v":0},null,{"$f":"N31","v":22111},{"$f":"COUNTIF(L31:L55,Y31)","v":0},{"$f":"Z31/(AB4-Z25)","v":0},{"$f":"IF(AA31=0,0,(AA31*((LOG(AA31))/LOG(2))))","v":0},null,{"$f":"N31","v":22111},{"$f":"COUNTIF(L56:L79,AD31)","v":0},{"$f":"AE31/(AG4-AE25)","v":0},{"$f":"IF(AF31=0,0,(AF31*((LOG(AF31))/LOG(2))))","v":0},null,{"$f":"N31","v":22111},{"$f":"COUNTIF(L80:L103,AI31)","v":1},{"$f":"AJ31/(AL4-AJ25)","v":4.7619047619047616E-2},{"$f":"IF(AK31=0,0,(AK31*((LOG(AK31))/LOG(2))))","v":-0.20915797251327431},null,{"$f":"N31","v":22111},{"$f":"COUNTIF(L104:L128,AN31)","v":1},{"$f":"AO31/(AQ4-AO25)","v":4.7619047619047616E-2},{"$f":"IF(AP31=0,0,(AP31*((LOG(AP31))/LOG(2))))","v":-0.20915797251327431},null,{"$f":"N31","v":22111},{"$f":"COUNTIF(L129:L152,AS31)","v":1},{"$f":"AT31/(AV4-AT25)","v":5.2631578947368418E-2},{"$f":"IF(AU31=0,0,(AU31*((LOG(AU31))/LOG(2))))","v":-0.22357513228650452}]
[12,4049,13,4063,13,4073,23,4084,24,4096,0,11122,null,22112,{"$f":"COUNTIF($L$7:$L$500,N32)","v":6},{"$f":"O32/$Q$4","v":4.1095890410958902E-2},{"$f":"IF(P32=0,0,(P32*((LOG(P32))/LOG(2))))","v":-0.18924090649967923},null,null,{"$f":"N32","v":22112},{"$f":"COUNTIF(L7:L30,T32)","v":0},{"$f":"U32/(W4-U25)","v":0},{"$f":"IF(V32=0,0,(V32*((LOG(V32))/LOG(2))))","v":0},null,{"$f":"N32","v":22112},{"$f":"COUNTIF(L31:L55,Y32)","v":1},{"$f":"Z32/(AB4-Z25)","v":5.2631578947368418E-2},{"$f":"IF(AA32=0,0,(AA32*((LOG(AA32))/LOG(2))))","v":-0.22357513228650452},null,{"$f":"N32","v":22112},{"$f":"COUNTIF(L56:L79,AD32)","v":1},{"$f":"AE32/(AG4-AE25)","v":4.5454545454545456E-2},{"$f":"IF(AF32=0,0,(AF32*((LOG(AF32))/LOG(2))))","v":-0.20270143721078623},null,{"$f":"N32","v":22112},{"$f":"COUNTIF(L80:L103,AI32)","v":1},{"$f":"AJ32/(AL4-AJ25)","v":4.7619047619047616E-2},{"$f":"IF(AK32=0,0,(AK32*((LOG(AK32))/LOG(2))))","v":-0.20915797251327431},null,{"$f":"N32","v":22112},{"$f":"COUNTIF(L104:L128,AN32)","v":1},{"$f":"AO32/(AQ4-AO25)","v":4.7619047619047616E-2},{"$f":"IF(AP32=0,0,(AP32*((LOG(AP32))/LOG(2))))","v":-0.20915797251327431},null,{"$f":"N32","v":22112},{"$f":"COUNTIF(L129:L152,AS32)","v":2},{"$f":"AT32/(AV4-AT25)","v":0.10526315789473684},{"$f":"IF(AU32=0,0,(AU32*((LOG(AU32))/LOG(2))))","v":-0.34188710667827216}]
[21,4200,11,4208,11,4222,12,4230,24,4242,0,21112,null,22121,{"$f":"COUNTIF($L$7:$L$500,N33)","v":15},{"$f":"O33/$Q$4","v":0.10273972602739725},{"$f":"IF(P33=0,0,(P33*((LOG(P33))/LOG(2))))","v":-0.33728773595255124},null,null,{"$f":"N33","v":22121},{"$f":"COUNTIF(L7:L30,T33)","v":2},{"$f":"U33/(W4-U25)","v":9.5238095238095233E-2},{"$f":"IF(V33=0,0,(V33*((LOG(V33))/LOG(2))))","v":-0.32307784978845333},null,{"$f":"N33","v":22121},{"$f":"COUNTIF(L31:L55,Y33)","v":1},{"$f":"Z33/(AB4-Z25)","v":5.2631578947368418E-2},{"$f":"IF(AA33=0,0,(AA33*((LOG(AA33))/LOG(2))))","v":-0.22357513228650452},null,{"$f":"N33","v":22121},{"$f":"COUNTIF(L56:L79,AD33)","v":4},{"$f":"AE33/(AG4-AE25)","v":0.18181818181818182},{"$f":"IF(AF33=0,0,(AF33*((LOG(AF33))/LOG(2))))","v":-0.44716938520678134},null,{"$f":"N33","v":22121},{"$f":"COUNTIF(L80:L103,AI33)","v":7},{"$f":"AJ33/(AL4-AJ25)","v":0.33333333333333331},{"$f":"IF(AK33=0,0,(AK33*((LOG(AK33))/LOG(2))))","v":-0.52832083357371862},null,{"$f":"N33","v":22121},{"$f":"COUNTIF(L104:L128,AN33)","v":1},{"$f":"AO33/(AQ4-AO25)","v":4.7619047619047616E-2},{"$f":"IF(AP33=0,0,(AP33*((LOG(AP33))/LOG(2))))","v":-0.20915797251327431},null,{"$f":"N33","v":22121},{"$f":"COUNTIF(L129:L152,AS33)","v":0},{"$f":"AT33/(AV4-AT25)","v":0},{"$f":"IF(AU33=0,0,(AU33*((LOG(AU33))/LOG(2))))","v":0}]
[21,4344,11,4355,22,4366,23,4392,13,4401,0,21221,null,22122,{"$f":"COUNTIF($L$7:$L$500,N34)","v":2},{"$f":"O34/$Q$4","v":1.3698630136986301E-2},{"$f":"IF(P34=0,0,(P34*((LOG(P34))/LOG(2))))","v":-8.4792117244931728E-2},null,null,{"$f":"N34","v":22122},{"$f":"COUNTIF(L7:L30,T34)","v":0},{"$f":"U34/(W4-U25)","v":0},{"$f":"IF(V34=0,0,(V34*((LOG(V34))/LOG(2))))","v":0},null,{"$f":"N34","v":22122},{"$f":"COUNTIF(L31:L55,Y34)","v":0},{"$f":"Z34/(AB4-Z25)","v":0},{"$f":"IF(AA34=0,0,(AA34*((LOG(AA34))/LOG(2))))","v":0},null,{"$f":"N34","v":22122},{"$f":"COUNTIF(L56:L79,AD34)","v":1},{"$f":"AE34/(AG4-AE25)","v":4.5454545454545456E-2},{"$f":"IF(AF34=0,0,(AF34*((LOG(AF34))/LOG(2))))","v":-0.20270143721078623},null,{"$f":"N34","v":22122},{"$f":"COUNTIF(L80:L103,AI34)","v":0},{"$f":"AJ34/(AL4-AJ25)","v":0},{"$f":"IF(AK34=0,0,(AK34*((LOG(AK34))/LOG(2))))","v":0},null,{"$f":"N34","v":22122},{"$f":"COUNTIF(L104:L128,AN34)","v":0},{"$f":"AO34/(AQ4-AO25)","v":0},{"$f":"IF(AP34=0,0,(AP34*((LOG(AP34))/LOG(2))))","v":0},null,{"$f":"N34","v":22122},{"$f":"COUNTIF(L129:L152,AS34)","v":1},{"$f":"AT34/(AV4-AT25)","v":5.2631578947368418E-2},{"$f":"IF(AU34=0,0,(AU34*((LOG(AU34))/LOG(2))))","v":-0.22357513228650452}]
[21,4513,11,4522,11,4536,21,4546,11,4560,1,21121,null,22211,{"$f":"COUNTIF($L$7:$L$500,N35)","v":3},{"$f":"O35/$Q$4","v":2.0547945205479451E-2},{"$f":"IF(P35=0,0,(P35*((LOG(P35))/LOG(2))))","v":-0.11516839845531907},null,null,{"$f":"N35","v":22211},{"$f":"COUNTIF(L7:L30,T35)","v":0},{"$f":"U35/(W4-U25)","v":0},{"$f":"IF(V35=0,0,(V35*((LOG(V35))/LOG(2))))","v":0},null,{"$f":"N35","v":22211},{"$f":"COUNTIF(L31:L55,Y35)","v":1},{"$f":"Z35/(AB4-Z25)","v":5.2631578947368418E-2},{"$f":"IF(AA35=0,0,(AA35*((LOG(AA35))/LOG(2))))","v":-0.22357513228650452},null,{"$f":"N35","v":22211},{"$f":"COUNTIF(L56:L79,AD35)","v":1},{"$f":"AE35/(AG4-AE25)","v":4.5454545454545456E-2},{"$f":"IF(AF35=0,0,(AF35*((LOG(AF35))/LOG(2))))","v":-0.20270143721078623},null,{"$f":"N35","v":22211},{"$f":"COUNTIF(L80:L103,AI35)","v":0},{"$f":"AJ35/(AL4-AJ25)","v":0},{"$f":"IF(AK35=0,0,(AK35*((LOG(AK35))/LOG(2))))","v":0},null,{"$f":"N35","v":22211},{"$f":"COUNTIF(L104:L128,AN35)","v":0},{"$f":"AO35/(AQ4-AO25)","v":0},{"$f":"IF(AP35=0,0,(AP35*((LOG(AP35))/LOG(2))))","v":0},null,{"$f":"N35","v":22211},{"$f":"COUNTIF(L129:L152,AS35)","v":1},{"$f":"AT35/(AV4-AT25)","v":5.2631578947368418E-2},{"$f":"IF(AU35=0,0,(AU35*((LOG(AU35))/LOG(2))))","v":-0.22357513228650452}]
[21,4676,11,4684,11,4698,21,4709,11,4722,1,21121,null,22212,{"$f":"COUNTIF($L$7:$L$500,N36)","v":1},{"$f":"O36/$Q$4","v":6.8493150684931503E-3},{"$f":"IF(P36=0,0,(P36*((LOG(P36))/LOG(2))))","v":-4.9245373690959021E-2},null,null,{"$f":"N36","v":22212},{"$f":"COUNTIF(L7:L30,T36)","v":0},{"$f":"U36/(W4-U25)","v":0},{"$f":"IF(V36=0,0,(V36*((LOG(V36))/LOG(2))))","v":0},null,{"$f":"N36","v":22212},{"$f":"COUNTIF(L31:L55,Y36)","v":0},{"$f":"Z36/(AB4-Z25)","v":0},{"$f":"IF(AA36=0,0,(AA36*((LOG(AA36))/LOG(2))))","v":0},null,{"$f":"N36","v":22212},{"$f":"COUNTIF(L56:L79,AD36)","v":0},{"$f":"AE36/(AG4-AE25)","v":0},{"$f":"IF(AF36=0,0,(AF36*((LOG(AF36))/LOG(2))))","v":0},null,{"$f":"N36","v":22212},{"$f":"COUNTIF(L80:L103,AI36)","v":1},{"$f":"AJ36/(AL4-AJ25)","v":4.7619047619047616E-2},{"$f":"IF(AK36=0,0,(AK36*((LOG(AK36))/LOG(2))))","v":-0.20915797251327431},null,{"$f":"N36","v":22212},{"$f":"COUNTIF(L104:L128,AN36)","v":0},{"$f":"AO36/(AQ4-AO25)","v":0},{"$f":"IF(AP36=0,0,(AP36*((LOG(AP36))/LOG(2))))","v":0},null,{"$f":"N36","v":22212},{"$f":"COUNTIF(L129:L152,AS36)","v":0},{"$f":"AT36/(AV4-AT25)","v":0},{"$f":"IF(AU36=0,0,(AU36*((LOG(AU36))/LOG(2))))","v":0}]
[21,4840,22,4854,13,4879,14,4896,24,4910,0,22112,null,22221,{"$f":"COUNTIF($L$7:$L$500,N37)","v":1},{"$f":"O37/$Q$4","v":6.8493150684931503E-3},{"$f":"IF(P37=0,0,(P37*((LOG(P37))/LOG(2))))","v":-4.9245373690959021E-2},null,null,{"$f":"N37","v":22221},{"$f":"COUNTIF(L7:L30,T37)","v":0},{"$f":"U37/(W4-U25)","v":0},{"$f":"IF(V37=0,0,(V37*((LOG(V37))/LOG(2))))","v":0},null,{"$f":"N37","v":22221},{"$f":"COUNTIF(L31:L55,Y37)","v":0},{"$f":"Z37/(AB4-Z25)","v":0},{"$f":"IF(AA37=0,0,(AA37*((LOG(AA37))/LOG(2))))","v":0},null,{"$f":"N37","v":22221},{"$f":"COUNTIF(L56:L79,AD37)","v":0},{"$f":"AE37/(AG4-AE25)","v":0},{"$f":"IF(AF37=0,0,(AF37*((LOG(AF37))/LOG(2))))","v":0},null,{"$f":"N37","v":22221},{"$f":"COUNTIF(L80:L103,AI37)","v":0},{"$f":"AJ37/(AL4-AJ25)","v":0},{"$f":"IF(AK37=0,0,(AK37*((LOG(AK37))/LOG(2))))","v":0},null,{"$f":"N37","v":22221},{"$f":"COUNTIF(L104:L128,AN37)","v":1},{"$f":"AO37/(AQ4-AO25)","v":4.7619047619047616E-2},{"$f":"IF(AP37=0,0,(AP37*((LOG(AP37))/LOG(2))))","v":-0.20915797251327431},null,{"$f":"N37","v":22221},{"$f":"COUNTIF(L129:L152,AS37)","v":0},{"$f":"AT37/(AV4-AT25)","v":0},{"$f":"IF(AU37=0,0,(AU37*((LOG(AU37))/LOG(2))))","v":0}]
[12,5031,24,5063,13,5072,23,5082,13,5093,0,12121,null,22222,{"$f":"COUNTIF($L$7:$L$500,N38)","v":2},{"$f":"O38/$Q$4","v":1.3698630136986301E-2},{"$f":"IF(P38=0,0,(P38*((LOG(P38))/LOG(2))))","v":-8.4792117244931728E-2},null,null,{"$f":"N38","v":22222},{"$f":"COUNTIF(L7:L30,T38)","v":2},{"$f":"U38/(W4-U25)","v":9.5238095238095233E-2},{"$f":"IF(V38=0,0,(V38*((LOG(V38))/LOG(2))))","v":-0.32307784978845333},null,{"$f":"N38","v":22222},{"$f":"COUNTIF(L31:L55,Y38)","v":0},{"$f":"Z38/(AB4-Z25)","v":0},{"$f":"IF(AA38=0,0,(AA38*((LOG(AA38))/LOG(2))))","v":0},null,{"$f":"N38","v":22222},{"$f":"COUNTIF(L56:L79,AD38)","v":0},{"$f":"AE38/(AG4-AE25)","v":0},{"$f":"IF(AF38=0,0,(AF38*((LOG(AF38))/LOG(2))))","v":0},null,{"$f":"N38","v":22222},{"$f":"COUNTIF(L80:L103,AI38)","v":0},{"$f":"AJ38/(AL4-AJ25)","v":0},{"$f":"IF(AK38=0,0,(AK38*((LOG(AK38))/LOG(2))))","v":0},null,{"$f":"N38","v":22222},{"$f":"COUNTIF(L104:L128,AN38)","v":0},{"$f":"AO38/(AQ4-AO25)","v":0},{"$f":"IF(AP38=0,0,(AP38*((LOG(AP38))/LOG(2))))","v":0},null,{"$f":"N38","v":22222},{"$f":"COUNTIF(L129:L152,AS38)","v":0},{"$f":"AT38/(AV4-AT25)","v":0},{"$f":"IF(AU38=0,0,(AU38*((LOG(AU38))/LOG(2))))","v":0}]
[21,5204,11,5220,11,5231,21,5243,11,5264,1,21121,null,null,null,{"$f":"SUM(P7:P38)","v":1},{"$f":"-SUM(Q7:Q38)","v":3.9463248556729256},null,null,null,null,{"$f":"SUM(V7:V38)","v":1},{"$f":"-SUM(W7:W38)","v":3.2728043273346206},null,null,null,{"$f":"SUM(AA7:AA38)","v":0.99999999999999978},{"$f":"-SUM(AB7:AB38)","v":3.5316306463679652},null,null,null,{"$f":"SUM(AF7:AF38)","v":0.99999999999999978},{"$f":"-SUM(AG7:AG38)","v":3.0226297788901686},null,null,null,{"$f":"SUM(AK7:AK38)","v":1},{"$f":"-SUM(AL7:AL38)","v":2.6227336390297045},null,null,null,{"$f":"SUM(AP7:AP38)","v":1.0000000000000002},{"$f":"-SUM(AQ7:AQ38)","v":3.1602077570203209},null,null,null,{"$f":"SUM(AU7:AU38)","v":1},{"$f":"-SUM(AV7:AV38)","v":3.2813734094119926}]
[21,5376,22,5392,13,5403,23,5413,13,5425,0,22121,null,null,null,"U=",{"$f":"Q39/(LOG(Q4)/LOG(2))","v":0.54887637707360937},null,null,null,null,"U1=",{"$f":"W39/(LOG(W4)/LOG(2))","v":0.71381267062050135},null,null,null,"U2=",{"$f":"AB39/(LOG(AB4)/LOG(2))","v":0.76049526558213376},null,null,null,"U3=",{"$f":"AG39/(LOG(AG4)/LOG(2))","v":0.65924852785922405},null,null,null,"U4=",{"$f":"AL39/(LOG(AL4)/LOG(2))","v":0.57202946340721039},null,null,null,"U5=",{"$f":"AQ39/(LOG(AQ4)/LOG(2))","v":0.68051369979517462},null,null,null,"U6=",{"$f":"AV39/(LOG(AV4)/LOG(2))","v":0.7156816241999524}]
[21,5524,11,5548,11,5554,12,5577,24,5589,0,21112]
[12,5692,13,5709,13,5722,23,5733,13,5759,0,11121]
[21,5860,11,5868,11,5878,21,5892,11,5907,1,21121,null,"Total Target Seq"]
[12,6009,13,6022,24,6041,23,6065,13,6076,0,11221,null,{"$f":"COUNTIF(L7:L152,G3)","v":23},null,24,25,24,24,25,24]
[12,6173,13,6184,13,6196,23,6211,13,6224,0,11121,null,null,null,"% of reinforcement given in 6 equal intervals based on number of trials "]
[12,6334,13,6343,24,6354,14,6366,24,6380,0,11212,null,null,null,"%_1","%_2","%_3","%_4","%_5","%_6"]
[21,6481,11,6489,11,6505,21,6518,11,6532,1,21121,null,null,"target sequence",{"$f":"$G$3","v":21121},{"$f":"$G$3","v":21121},{"$f":"$G$3","v":21121},{"$f":"$G$3","v":21121},{"$f":"$G$3","v":21121},{"$f":"$G$3","v":21121}]
[21,6628,11,6643,11,6654,21,6669,11,6683,1,21121,null,null,"total reinforcement",{"$f":"U25","v":3},{"$f":"Z25","v":6},{"$f":"AE25","v":2},{"$f":"AJ25","v":3},{"$f":"AO25","v":4},{"$f":"AT25","v":5}]
[12,6787,13,6805,13,6825,23,6837,13,6852,0,11121,null,null,"% target"]
[12,6951,13,6961,13,6968,23,6979,13,6990,0,11121,null,null,"CCRF"]
[21,7093,11,7109,22,7120,14,7143,24,7155,0,21212,null,null,"% CCRf"]
[12,7258,13,7278,24,7289,14,7299,13,7306,0,11211,null,null,"average response rate",{"$f":"J30/P44","v":157.83333333333334},{"$f":"(J55-J30)/Q44","v":162.12},{"$f":"(J79-J55)/R44","v":166.29166666666666},{"$f":"(J103-J79)/S44","v":157.5},{"$f":"(J128-J103)/T44","v":172.32},{"$f":"(J152-J128)/U44","v":169.5}]
[12,7417,13,7431,13,7442,23,7452,13,7467,0,11121]
[12,7610,24,7631,13,7642,23,7652,24,7683,0,12122]
[21,7781,22,7789,24,7813,14,7823,13,7841,0,22211]
[21,7947,11,7975,22,7983,14,7995,24,8014,0,21212]
[21,8134,11,8149,22,8160,14,8170,24,8183,0,21212]
[21,8292,22,8319,13,8335,23,8349,13,8361,0,22121]
[21,8462,11,8473,11,8487,21,8497,11,8511,1,21121]
[21,8647,22,8669,13,8687,23,8699,13,8714,0,22121]
[21,8824,11,8838,22,8849,14,8860,24,8872,0,21212]
[21,8979,22,8993,13,9001,23,9012,24,9022,0,22122]
[12,9125,24,9135,13,9143,23,9153,13,9167,0,12121]
[12,9280,13,9304,24,9314,14,9326,13,9333,0,11211]
[21,9441,11,9457,22,9467,14,9481,13,9489,0,21211]
[21,9589,11,9597,11,9613,12,9626,24,9638,0,21112]
[21,9769,11,9791,11,9809,12,9817,13,9825,0,21111]
[21,9931,11,9954,22,9970,14,9990,24,10002,0,21212]
[21,10113,11,10121,22,10132,14,10147,24,10163,0,21212]
[21,10261,22,10264,13,10272,23,10287,13,10296,0,22121]
[12,10418,13,10434,24,10446,14,10465,13,10472,0,11211]
[21,10577,11,10601,11,10616,21,10624,11,10661,1,21121]
[21,10757,11,10777,22,10786,14,10797,13,10805,0,21211]
[21,10906,11,10919,22,10929,14,10943,13,10950,0,21211]
[21,11071,11,11085,11,11109,12,11116,24,11131,0,21112]
[21,11235,11,11244,22,11255,14,11270,13,11278,0,21211]
[21,11375,22,11385,13,11393,14,11411,24,11419,0,22112]
[21,11523,22,11577,13,11587,23,11600,13,11612,0,22121]
[21,11730,22,11745,24,11808,14,11824,13,11832,0,22211]
[21,11931,22,11957,13,11972,23,11987,13,12000,0,22121]
[21,12099,11,12108,11,12137,21,12149,11,12159,1,21121]
[21,12250,11,12258,22,12270,14,12284,24,12295,0,21212]
[21,12391,11,12399,22,12429,14,12449,24,12461,0,21212]
[21,12558,22,12561,13,12568,23,12604,13,12617,0,22121]
[21,12725,11,12734,11,12754,12,12765,13,12780,0,21111]
[21,12880,22,12890,13,12898,23,12915,13,12928,0,22121]
[21,13024,22,13028,13,13036,14,13048,24,13060,0,22112]
[21,13157,22,13167,13,13175,23,13188,13,13201,0,22121]
[21,13298,22,13303,13,13311,23,13325,13,13334,0,22121]
[21,13432,11,13441,11,13464,21,13477,22,13488,0,21122]
[21,13586,22,13596,13,13604,23,13624,13,13643,0,22121]
[21,13744,11,13752,22,13764,14,13776,24,13787,0,21212]
[21,13887,11,13896,22,13906,14,13922,24,13945,0,21212]
[12,14051,24,14067,13,14084,23,14096,13,14110,0,12121]
[21,14221,11,14229,22,14240,14,14251,24,14275,0,21212]
[21,14397,11,14407,22,14418,14,14425,13,14448,0,21211]
[21,14550,22,14575,13,14586,23,14598,13,14609,0,22121]
[21,14707,11,14715,22,14725,14,14733,24,14745,0,21212]
[21,14842,11,14850,11,14869,21,14880,11,14906,1,21121]
[21,15046,22,15071,13,15082,14,15092,13,15100,0,22111]
[21,15196,22,15200,24,15229,14,15245,24,15256,0,22212]
[21,15358,11,15366,11,15380,12,15415,13,15425,0,21111]
[21,15523,11,15557,11,15584,21,15593,11,15612,1,21121]
[21,15702,22,15707,13,15721,23,15735,13,15756,0,22121]
[21,15857,11,15865,11,15882,21,15897,11,15909,1,21121]
[12,16089,24,16098,13,16109,23,16120,13,16136,0,12121]
[21,16244,11,16257,22,16277,14,16293,13,16312,0,21211]
[21,16438,11,16460,11,16477,21,16488,11,16499,1,21121]
[12,16633,24,16643,13,16668,23,16682,13,16704,0,12121]
[21,16812,11,16825,22,16835,14,16849,24,16872,0,21212]
[21,16969,22,16973,13,16982,14,17022,13,17034,0,22111]
[12,17146,13,17158,13,17169,23,17182,13,17223,0,11121]
[21,17321,22,17325,24,17350,23,17378,13,17391,0,22221]
[21,17497,11,17505,11,17525,21,17546,22,17585,0,21122]
[21,17690,11,17698,22,17709,14,17722,24,17736,0,21212]
[12,17846,13,17855,13,17867,23,17881,13,17891,0,11121]
[12,17994,13,18014,24,18043,14,18055,24,18066,0,11212]
[21,18168,11,18176,11,18188,21,18208,11,18237,1,21121]
[21,18329,11,18350,22,18363,23,18372,24,18401,0,21222]
[21,18511,11,18529,22,18538,14,18566,24,18580,0,21212]
[12,18693,13,18712,13,18727,23,18738,13,18749,0,11121]
[21,18851,11,18860,22,18876,14,18886,24,18898,0,21212]
[21,19027,11,19037,22,19048,14,19070,13,19077,0,21211]
[21,19180,11,19195,22,19216,14,19237,13,19245,0,21211]
[21,19345,22,19392,13,19405,14,19435,24,19448,0,22112]
[21,19551,11,19559,11,19588,21,19604,11,19625,1,21121]
[21,19716,11,19724,22,19735,14,19749,24,19770,0,21212]
[12,19866,24,19880,13,19894,23,19904,13,19920,0,12121]
[21,20019,11,20036,22,20047,14,20071,13,20078,0,21211]
[21,20178,11,20186,11,20211,21,20223,11,20243,1,21121]
[12,20341,13,20357,13,20377,14,20395,24,20422,0,11112]
[21,20525,11,20539,22,20552,14,20563,13,20571,0,21211]
[21,20672,11,20680,11,20696,21,20709,11,20742,1,21121]
[12,20848,24,20871,13,20883,23,20895,13,20914,0,12121]
[21,21010,11,21018,11,21028,12,21035,13,21049,0,21111]
[21,21156,11,21176,22,21187,14,21198,24,21211,0,21212]
[21,21338,11,21357,22,21371,14,21383,24,21411,0,21212]
[21,21511,11,21519,22,21530,14,21542,24,21554,0,21212]
[21,21656,11,21664,11,21683,21,21695,11,21706,1,21121]
[12,21810,24,21823,13,21844,14,21875,13,21897,0,12111]
[21,21998,22,22041,13,22053,14,22061,24,22080,0,22112]
[12,22188,13,22199,13,22223,14,22232,13,22260,0,11111]
[21,22363,11,22371,11,22389,21,22404,11,22414,1,21121]
[21,22547,22,22578,13,22589,14,22619,24,22661,0,22112]
[21,22766,11,22774,11,22792,21,22809,11,22826,1,21121]
[21,22916,11,22924,11,22932,12,22953,24,22964,0,21112]
[21,23061,22,23079,13,23091,23,23102,24,23140,0,22122]
[21,23238,22,23242,13,23253,14,23274,13,23297,0,22111]
[21,23398,22,23443,24,23474,14,23488,13,23521,0,22211]
[21,23629,11,23637,22,23648,14,23661,13,23676,0,21211]
[21,23780,11,23790,22,23821,14,23836,13,23844,0,21211]
[21,23946,11,23954,22,23968,14,23980,13,23988,null,21211]

{"sheet":"!MA25940.010","index":28,"n_rows":144,"n_cols":48,"rows_kept":144,"cut":false,"hidden":false,"merged":[[4,39,4,42],[5,39,5,40],[4,44,4,47],[5,44,5,45],[4,24,4,27],[5,24,5,25],[4,29,4,32],[5,29,5,30],[4,34,4,37],[5,34,5,35],[1,1,1,2],[5,13,5,14],[42,13,42,14],[43,13,43,14],[4,19,4,22],[5,19,5,20]]}
["Report for:!MA25940.010"]
["Date:","<date>"]
["Hen:","<hen>",null,null,null,"Correct Sequence",{"$f":"Start!J2","v":21121},null,null,null,null,null,null,null,null,"Total Sequences in Data",{"$f":"4994-COUNTBLANK(L7:L5000)","v":138},null,null,null,null,"Total Sequences in Block Data",{"$f":"COUNTA(L7:L29)","v":23},null,null,null,"Total Sequences in Block Data",{"$f":"COUNTA(L30:L52)","v":23},null,null,null,"Total Sequences in Block Data",{"$f":"COUNTA(L53:L75)","v":23},null,null,null,"Total Sequences in Block Data",{"$f":"COUNTA(L76:L98)","v":23},null,null,null,"Total Sequences in Block Data",{"$f":"COUNTA(L99:L121)","v":23},null,null,null,"Total Sequences in Block Data",{"$f":"COUNTA(L122:L144)","v":23}]
[null,null,null,null,null,null,null,null,null,null,null,null,null,null,null,"Total Sequences in Summary",{"$f":"SUM(O7:O38)","v":138},null,null,null,null,"Total Sequences in Block Summary",{"$f":"SUM(U7:U38)","v":23},null,null,null,"Total Sequences in Block Summary",{"$f":"SUM(Z7:Z38)","v":23},null,null,null,"Total Sequences in Block Summary",{"$f":"SUM(AE7:AE38)","v":23},null,null,null,"Total Sequences in Block Summary",{"$f":"SUM(AJ7:AJ38)","v":23},null,null,null,"Total Sequences in Block Summary",{"$f":"SUM(AO7:AO38)","v":23},null,null,null,"Total Sequences in Block Summary",{"$f":"SUM(AT7:AT38)","v":23}]
[null,null,null,null,null,null,null,null,null,null,null,null,null,null,null,null,null,null,null,"Block 1",null,null,null,null,"Block 2",null,null,null,null,"Block 3",null,null,null,null,"Block 4",null,null,null,null,"Block 5",null,null,null,null,"Block 6"]
["Sequence\nComponent\n1","Time\n1","Sequence\nComponent\n2","Time\n2","Sequence\nComponent\n3","Time\n3","Sequence\nComponent\n4","Time\n4","Sequence\nComponent\n5","Time\n5","Correct?\n0=No 1=Yes","Sequence",null,"Frequency",null,"Relative Frequency","Variability",null,null,"Frequency",null,"Relative Frequency","Variability",null,"Frequency",null,"Relative Frequency","Variability",null,"Frequency",null,"Relative Frequency","Variability",null,"Frequency",null,"Relative Frequency","Variability",null,"Frequency",null,"Relative Frequency","Variability",null,"Frequency",null,"Relative Frequency","Variability"]
[12,8,13,17,24,27,23,49,24,267,0,11222,null,11111,{"$f":"COUNTIF($L$7:$L$500,N7)","v":1},{"$f":"O7/$Q$4","v":7.246376811594203E-3},{"$f":"IF(P7=0,0,(P7*((LOG(P7))/LOG(2))))","v":-5.1511046788247604E-2},null,null,{"$f":"N7","v":11111},{"$f":"COUNTIF(L7:L29,T7)","v":1},{"$f":"U7/(W4-U25)","v":5.8823529411764705E-2},{"$f":"IF(V7=0,0,(V7*((LOG(V7))/LOG(2))))","v":-0.24043899066178465},null,{"$f":"N7","v":11111},{"$f":"COUNTIF(L30:L52,Y7)","v":0},{"$f":"Z7/(AB4-Z25)","v":0},{"$f":"IF(AA7=0,0,(AA7*((LOG(AA7))/LOG(2))))","v":0},null,{"$f":"N7","v":11111},{"$f":"COUNTIF(L53:L75,AD7)","v":0},{"$f":"AE7/(AG4-AE25)","v":0},{"$f":"IF(AF7=0,0,(AF7*((LOG(AF7))/LOG(2))))","v":0},null,{"$f":"N7","v":11111},{"$f":"COUNTIF(L76:L98,AI7)","v":0},{"$f":"AJ7/(AL4-AJ25)","v":0},{"$f":"IF(AK7=0,0,(AK7*((LOG(AK7))/LOG(2))))","v":0},null,{"$f":"N7","v":11111},{"$f":"COUNTIF(L99:L121,AN7)","v":0},{"$f":"AO7/(AQ4-AO25)","v":0},{"$f":"IF(AP7=0,0,(AP7*((LOG(AP7))/LOG(2))))","v":0},null,{"$f":"N7","v":11111},{"$f":"COUNTIF(L122:L144,AS7)","v":0},{"$f":"AT7/(AV4-AT25)","v":0},{"$f":"IF(AU7=0,0,(AU7*((LOG(AU7))/LOG(2))))","v":0}]
[12,395,24,406,13,420,14,450,24,465,0,12112,null,11112,{"$f":"COUNTIF($L$7:$L$500,N8)","v":3},{"$f":"O8/$Q$4","v":2.1739130434782608E-2},{"$f":"IF(P8=0,0,(P8*((LOG(P8))/LOG(2))))","v":-0.12007743382732637},null,null,{"$f":"N8","v":11112},{"$f":"COUNTIF(L7:L29,T8)","v":2},{"$f":"U8/(W4-U25)","v":0.11764705882352941},{"$f":"IF(V8=0,0,(V8*((LOG(V8))/LOG(2))))","v":-0.36323092250003997},null,{"$f":"N8","v":11112},{"$f":"COUNTIF(L30:L52,Y8)","v":0},{"$f":"Z8/(AB4-Z25)","v":0},{"$f":"IF(AA8=0,0,(AA8*((LOG(AA8))/LOG(2))))","v":0},null,{"$f":"N8","v":11112},{"$f":"COUNTIF(L53:L75,AD8)","v":1},{"$f":"AE8/(AG4-AE25)","v":5.5555555555555552E-2},{"$f":"IF(AF8=0,0,(AF8*((LOG(AF8))/LOG(2))))","v":-0.23166250008012845},null,{"$f":"N8","v":11112},{"$f":"COUNTIF(L76:L98,AI8)","v":0},{"$f":"AJ8/(AL4-AJ25)","v":0},{"$f":"IF(AK8=0,0,(AK8*((LOG(AK8))/LOG(2))))","v":0},null,{"$f":"N8","v":11112},{"$f":"COUNTIF(L99:L121,AN8)","v":0},{"$f":"AO8/(AQ4-AO25)","v":0},{"$f":"IF(AP8=0,0,(AP8*((LOG(AP8))/LOG(2))))","v":0},null,{"$f":"N8","v":11112},{"$f":"COUNTIF(L122:L144,AS8)","v":0},{"$f":"AT8/(AV4-AT25)","v":0},{"$f":"IF(AU8=0,0,(AU8*((LOG(AU8))/LOG(2))))","v":0}]
[21,615,11,647,22,661,14,676,24,688,0,21212,null,11121,{"$f":"COUNTIF($L$7:$L$500,N9)","v":4},{"$f":"O9/$Q$4","v":2.8985507246376812E-2},{"$f":"IF(P9=0,0,(P9*((LOG(P9))/LOG(2))))","v":-0.14807317266023678},null,null,{"$f":"N9","v":11121},{"$f":"COUNTIF(L7:L29,T9)","v":3},{"$f":"U9/(W4-U25)","v":0.17647058823529413},{"$f":"IF(V9=0,0,(V9*((LOG(V9))/LOG(2))))","v":-0.44161770715220888},null,{"$f":"N9","v":11121},{"$f":"COUNTIF(L30:L52,Y9)","v":0},{"$f":"Z9/(AB4-Z25)","v":0},{"$f":"IF(AA9=0,0,(AA9*((LOG(AA9))/LOG(2))))","v":0},null,{"$f":"N9","v":11121},{"$f":"COUNTIF(L53:L75,AD9)","v":0},{"$f":"AE9/(AG4-AE25)","v":0},{"$f":"IF(AF9=0,0,(AF9*((LOG(AF9))/LOG(2))))","v":0},null,{"$f":"N9","v":11121},{"$f":"COUNTIF(L76:L98,AI9)","v":0},{"$f":"AJ9/(AL4-AJ25)","v":0},{"$f":"IF(AK9=0,0,(AK9*((LOG(AK9))/LOG(2))))","v":0},null,{"$f":"N9","v":11121},{"$f":"COUNTIF(L99:L121,AN9)","v":0},{"$f":"AO9/(AQ4-AO25)","v":0},{"$f":"IF(AP9=0,0,(AP9*((LOG(AP9))/LOG(2))))","v":0},null,{"$f":"N9","v":11121},{"$f":"COUNTIF(L122:L144,AS9)","v":1},{"$f":"AT9/(AV4-AT25)","v":5.2631578947368418E-2},{"$f":"IF(AU9=0,0,(AU9*((LOG(AU9))/LOG(2))))","v":-0.22357513228650452}]
[21,789,11,797,11,810,12,880,13,888,0,21111,null,11122,{"$f":"COUNTIF($L$7:$L$500,N10)","v":0},{"$f":"O10/$Q$4","v":0},{"$f":"IF(P10=0,0,(P10*((LOG(P10))/LOG(2))))","v":0},null,null,{"$f":"N10","v":11122},{"$f":"COUNTIF(L7:L29,T10)","v":0},{"$f":"U10/(W4-U25)","v":0},{"$f":"IF(V10=0,0,(V10*((LOG(V10))/LOG(2))))","v":0},null,{"$f":"N10","v":11122},{"$f":"COUNTIF(L30:L52,Y10)","v":0},{"$f":"Z10/(AB4-Z25)","v":0},{"$f":"IF(AA10=0,0,(AA10*((LOG(AA10))/LOG(2))))","v":0},null,{"$f":"N10","v":11122},{"$f":"COUNTIF(L53:L75,AD10)","v":0},{"$f":"AE10/(AG4-AE25)","v":0},{"$f":"IF(AF10=0,0,(AF10*((LOG(AF10))/LOG(2))))","v":0},null,{"$f":"N10","v":11122},{"$f":"COUNTIF(L76:L98,AI10)","v":0},{"$f":"AJ10/(AL4-AJ25)","v":0},{"$f":"IF(AK10=0,0,(AK10*((LOG(AK10))/LOG(2))))","v":0},null,{"$f":"N10","v":11122},{"$f":"COUNTIF(L99:L121,AN10)","v":0},{"$f":"AO10/(AQ4-AO25)","v":0},{"$f":"IF(AP10=0,0,(AP10*((LOG(AP10))/LOG(2))))","v":0},null,{"$f":"N10","v":11122},{"$f":"COUNTIF(L122:L144,AS10)","v":0},{"$f":"AT10/(AV4-AT25)","v":0},{"$f":"IF(AU10=0,0,(AU10*((LOG(AU10))/LOG(2))))","v":0}]
[12,1009,24,1065,13,1083,23,1093,13,1107,0,12121,null,11211,{"$f":"COUNTIF($L$7:$L$500,N11)","v":4},{"$f":"O11/$Q$4","v":2.8985507246376812E-2},{"$f":"IF(P11=0,0,(P11*((LOG(P11))/LOG(2))))","v":-0.14807317266023678},null,null,{"$f":"N11","v":11211},{"$f":"COUNTIF(L7:L29,T11)","v":0},{"$f":"U11/(W4-U25)","v":0},{"$f":"IF(V11=0,0,(V11*((LOG(V11))/LOG(2))))","v":0},null,{"$f":"N11","v":11211},{"$f":"COUNTIF(L30:L52,Y11)","v":0},{"$f":"Z11/(AB4-Z25)","v":0},{"$f":"IF(AA11=0,0,(AA11*((LOG(AA11))/LOG(2))))","v":0},null,{"$f":"N11","v":11211},{"$f":"COUNTIF(L53:L75,AD11)","v":1},{"$f":"AE11/(AG4-AE25)","v":5.5555555555555552E-2},{"$f":"IF(AF11=0,0,(AF11*((LOG(AF11))/LOG(2))))","v":-0.23166250008012845},null,{"$f":"N11","v":11211},{"$f":"COUNTIF(L76:L98,AI11)","v":2},{"$f":"AJ11/(AL4-AJ25)","v":0.1},{"$f":"IF(AK11=0,0,(AK11*((LOG(AK11))/LOG(2))))","v":-0.33219280948873625},null,{"$f":"N11","v":11211},{"$f":"COUNTIF(L99:L121,AN11)","v":0},{"$f":"AO11/(AQ4-AO25)","v":0},{"$f":"IF(AP11=0,0,(AP11*((LOG(AP11))/LOG(2))))","v":0},null,{"$f":"N11","v":11211},{"$f":"COUNTIF(L122:L144,AS11)","v":1},{"$f":"AT11/(AV4-AT25)","v":5.2631578947368418E-2},{"$f":"IF(AU11=0,0,(AU11*((LOG(AU11))/LOG(2))))","v":-0.22357513228650452}]
[21,1224,11,1234,22,1245,14,1258,24,1271,0,21212,null,11212,{"$f":"COUNTIF($L$7:$L$500,N12)","v":3},{"$f":"O12/$Q$4","v":2.1739130434782608E-2},{"$f":"IF(P12=0,0,(P12*((LOG(P12))/LOG(2))))","v":-0.12007743382732637},null,null,{"$f":"N12","v":11212},{"$f":"COUNTIF(L7:L29,T12)","v":1},{"$f":"U12/(W4-U25)","v":5.8823529411764705E-2},{"$f":"IF(V12=0,0,(V12*((LOG(V12))/LOG(2))))","v":-0.24043899066178465},null,{"$f":"N12","v":11212},{"$f":"COUNTIF(L30:L52,Y12)","v":2},{"$f":"Z12/(AB4-Z25)","v":0.1},{"$f":"IF(AA12=0,0,(AA12*((LOG(AA12))/LOG(2))))","v":-0.33219280948873625},null,{"$f":"N12","v":11212},{"$f":"COUNTIF(L53:L75,AD12)","v":0},{"$f":"AE12/(AG4-AE25)","v":0},{"$f":"IF(AF12=0,0,(AF12*((LOG(AF12))/LOG(2))))","v":0},null,{"$f":"N12","v":11212},{"$f":"COUNTIF(L76:L98,AI12)","v":0},{"$f":"AJ12/(AL4-AJ25)","v":0},{"$f":"IF(AK12=0,0,(AK12*((LOG(AK12))/LOG(2))))","v":0},null,{"$f":"N12","v":11212},{"$f":"COUNTIF(L99:L121,AN12)","v":0},{"$f":"AO12/(AQ4-AO25)","v":0},{"$f":"IF(AP12=0,0,(AP12*((LOG(AP12))/LOG(2))))","v":0},null,{"$f":"N12","v":11212},{"$f":"COUNTIF(L122:L144,AS12)","v":0},{"$f":"AT12/(AV4-AT25)","v":0},{"$f":"IF(AU12=0,0,(AU12*((LOG(AU12))/LOG(2))))","v":0}]
[21,1374,11,1387,11,1400,21,1416,11,1426,1,21121,null,11221,{"$f":"COUNTIF($L$7:$L$500,N13)","v":2},{"$f":"O13/$Q$4","v":1.4492753623188406E-2},{"$f":"IF(P13=0,0,(P13*((LOG(P13))/LOG(2))))","v":-8.8529339953306793E-2},null,null,{"$f":"N13","v":11221},{"$f":"COUNTIF(L7:L29,T13)","v":0},{"$f":"U13/(W4-U25)","v":0},{"$f":"IF(V13=0,0,(V13*((LOG(V13))/LOG(2))))","v":0},null,{"$f":"N13","v":11221},{"$f":"COUNTIF(L30:L52,Y13)","v":1},{"$f":"Z13/(AB4-Z25)","v":0.05},{"$f":"IF(AA13=0,0,(AA13*((LOG(AA13))/LOG(2))))","v":-0.21609640474436814},null,{"$f":"N13","v":11221},{"$f":"COUNTIF(L53:L75,AD13)","v":1},{"$f":"AE13/(AG4-AE25)","v":5.5555555555555552E-2},{"$f":"IF(AF13=0,0,(AF13*((LOG(AF13))/LOG(2))))","v":-0.23166250008012845},null,{"$f":"N13","v":11221},{"$f":"COUNTIF(L76:L98,AI13)","v":0},{"$f":"AJ13/(AL4-AJ25)","v":0},{"$f":"IF(AK13=0,0,(AK13*((LOG(AK13))/LOG(2))))","v":0},null,{"$f":"N13","v":11221},{"$f":"COUNTIF(L99:L121,AN13)","v":0},{"$f":"AO13/(AQ4-AO25)","v":0},{"$f":"IF(AP13=0,0,(AP13*((LOG(AP13))/LOG(2))))","v":0},null,{"$f":"N13","v":11221},{"$f":"COUNTIF(L122:L144,AS13)","v":0},{"$f":"AT13/(AV4-AT25)","v":0},{"$f":"IF(AU13=0,0,(AU13*((LOG(AU13))/LOG(2))))","v":0}]
[21,1556,11,1564,11,1576,21,1591,11,1606,1,21121,null,11222,{"$f":"COUNTIF($L$7:$L$500,N14)","v":1},{"$f":"O14/$Q$4","v":7.246376811594203E-3},{"$f":"IF(P14=0,0,(P14*((LOG(P14))/LOG(2))))","v":-5.1511046788247604E-2},null,null,{"$f":"N14","v":11222},{"$f":"COUNTIF(L7:L29,T14)","v":1},{"$f":"U14/(W4-U25)","v":5.8823529411764705E-2},{"$f":"IF(V14=0,0,(V14*((LOG(V14))/LOG(2))))","v":-0.24043899066178465},null,{"$f":"N14","v":11222},{"$f":"COUNTIF(L30:L52,Y14)","v":0},{"$f":"Z14/(AB4-Z25)","v":0},{"$f":"IF(AA14=0,0,(AA14*((LOG(AA14))/LOG(2))))","v":0},null,{"$f":"N14","v":11222},{"$f":"COUNTIF(L53:L75,AD14)","v":0},{"$f":"AE14/(AG4-AE25)","v":0},{"$f":"IF(AF14=0,0,(AF14*((LOG(AF14))/LOG(2))))","v":0},null,{"$f":"N14","v":11222},{"$f":"COUNTIF(L76:L98,AI14)","v":0},{"$f":"AJ14/(AL4-AJ25)","v":0},{"$f":"IF(AK14=0,0,(AK14*((LOG(AK14))/LOG(2))))","v":0},null,{"$f":"N14","v":11222},{"$f":"COUNTIF(L99:L121,AN14)","v":0},{"$f":"AO14/(AQ4-AO25)","v":0},{"$f":"IF(AP14=0,0,(AP14*((LOG(AP14))/LOG(2))))","v":0},null,{"$f":"N14","v":11222},{"$f":"COUNTIF(L122:L144,AS14)","v":0},{"$f":"AT14/(AV4-AT25)","v":0},{"$f":"IF(AU14=0,0,(AU14*((LOG(AU14))/LOG(2))))","v":0}]
[12,1720,24,1763,13,1775,23,1785,13,1794,0,12121,null,12111,{"$f":"COUNTIF($L$7:$L$500,N15)","v":2},{"$f":"O15/$Q$4","v":1.4492753623188406E-2},{"$f":"IF(P15=0,0,(P15*((LOG(P15))/LOG(2))))","v":-8.8529339953306793E-2},null,null,{"$f":"N15","v":12111},{"$f":"COUNTIF(L7:L29,T15)","v":0},{"$f":"U15/(W4-U25)","v":0},{"$f":"IF(V15=0,0,(V15*((LOG(V15))/LOG(2))))","v":0},null,{"$f":"N15","v":12111},{"$f":"COUNTIF(L30:L52,Y15)","v":1},{"$f":"Z15/(AB4-Z25)","v":0.05},{"$f":"IF(AA15=0,0,(AA15*((LOG(AA15))/LOG(2))))","v":-0.21609640474436814},null,{"$f":"N15","v":12111},{"$f":"COUNTIF(L53:L75,AD15)","v":1},{"$f":"AE15/(AG4-AE25)","v":5.5555555555555552E-2},{"$f":"IF(AF15=0,0,(AF15*((LOG(AF15))/LOG(2))))","v":-0.23166250008012845},null,{"$f":"N15","v":12111},{"$f":"COUNTIF(L76:L98,AI15)","v":0},{"$f":"AJ15/(AL4-AJ25)","v":0},{"$f":"IF(AK15=0,0,(AK15*((LOG(AK15))/LOG(2))))","v":0},null,{"$f":"N15","v":12111},{"$f":"COUNTIF(L99:L121,AN15)","v":0},{"$f":"AO15/(AQ4-AO25)","v":0},{"$f":"IF(AP15=0,0,(AP15*((LOG(AP15))/LOG(2))))","v":0},null,{"$f":"N15","v":12111},{"$f":"COUNTIF(L122:L144,AS15)","v":0},{"$f":"AT15/(AV4-AT25)","v":0},{"$f":"IF(AU15=0,0,(AU15*((LOG(AU15))/LOG(2))))","v":0}]
[21,1901,11,1910,11,1921,21,1934,22,1961,0,21122,null,12112,{"$f":"COUNTIF($L$7:$L$500,N16)","v":3},{"$f":"O16/$Q$4","v":2.1739130434782608E-2},{"$f":"IF(P16=0,0,(P16*((LOG(P16))/LOG(2))))","v":-0.12007743382732637},null,null,{"$f":"N16","v":12112},{"$f":"COUNTIF(L7:L29,T16)","v":1},{"$f":"U16/(W4-U25)","v":5.8823529411764705E-2},{"$f":"IF(V16=0,0,(V16*((LOG(V16))/LOG(2))))","v":-0.24043899066178465},null,{"$f":"N16","v":12112},{"$f":"COUNTIF(L30:L52,Y16)","v":1},{"$f":"Z16/(AB4-Z25)","v":0.05},{"$f":"IF(AA16=0,0,(AA16*((LOG(AA16))/LOG(2))))","v":-0.21609640474436814},null,{"$f":"N16","v":12112},{"$f":"COUNTIF(L53:L75,AD16)","v":0},{"$f":"AE16/(AG4-AE25)","v":0},{"$f":"IF(AF16=0,0,(AF16*((LOG(AF16))/LOG(2))))","v":0},null,{"$f":"N16","v":12112},{"$f":"COUNTIF(L76:L98,AI16)","v":0},{"$f":"AJ16/(AL4-AJ25)","v":0},{"$f":"IF(AK16=0,0,(AK16*((LOG(AK16))/LOG(2))))","v":0},null,{"$f":"N16","v":12112},{"$f":"COUNTIF(L99:L121,AN16)","v":0},{"$f":"AO16/(AQ4-AO25)","v":0},{"$f":"IF(AP16=0,0,(AP16*((LOG(AP16))/LOG(2))))","v":0},null,{"$f":"N16","v":12112},{"$f":"COUNTIF(L122:L144,AS16)","v":1},{"$f":"AT16/(AV4-AT25)","v":5.2631578947368418E-2},{"$f":"IF(AU16=0,0,(AU16*((LOG(AU16))/LOG(2))))","v":-0.22357513228650452}]
[12,2079,24,2090,13,2102,23,2111,13,2119,0,12121,null,12121,{"$f":"COUNTIF($L$7:$L$500,N17)","v":10},{"$f":"O17/$Q$4","v":7.2463768115942032E-2},{"$f":"IF(P17=0,0,(P17*((LOG(P17))/LOG(2))))","v":-0.2743910407167251},null,null,{"$f":"N17","v":12121},{"$f":"COUNTIF(L7:L29,T17)","v":3},{"$f":"U17/(W4-U25)","v":0.17647058823529413},{"$f":"IF(V17=0,0,(V17*((LOG(V17))/LOG(2))))","v":-0.44161770715220888},null,{"$f":"N17","v":12121},{"$f":"COUNTIF(L30:L52,Y17)","v":4},{"$f":"Z17/(AB4-Z25)","v":0.2},{"$f":"IF(AA17=0,0,(AA17*((LOG(AA17))/LOG(2))))","v":-0.46438561897747244},null,{"$f":"N17","v":12121},{"$f":"COUNTIF(L53:L75,AD17)","v":0},{"$f":"AE17/(AG4-AE25)","v":0},{"$f":"IF(AF17=0,0,(AF17*((LOG(AF17))/LOG(2))))","v":0},null,{"$f":"N17","v":12121},{"$f":"COUNTIF(L76:L98,AI17)","v":3},{"$f":"AJ17/(AL4-AJ25)","v":0.15},{"$f":"IF(AK17=0,0,(AK17*((LOG(AK17))/LOG(2))))","v":-0.41054483912493089},null,{"$f":"N17","v":12121},{"$f":"COUNTIF(L99:L121,AN17)","v":0},{"$f":"AO17/(AQ4-AO25)","v":0},{"$f":"IF(AP17=0,0,(AP17*((LOG(AP17))/LOG(2))))","v":0},null,{"$f":"N17","v":12121},{"$f":"COUNTIF(L122:L144,AS17)","v":0},{"$f":"AT17/(AV4-AT25)","v":0},{"$f":"IF(AU17=0,0,(AU17*((LOG(AU17))/LOG(2))))","v":0}]
[21,2219,11,2227,11,2239,12,2261,24,2274,0,21112,null,12122,{"$f":"COUNTIF($L$7:$L$500,N18)","v":1},{"$f":"O18/$Q$4","v":7.246376811594203E-3},{"$f":"IF(P18=0,0,(P18*((LOG(P18))/LOG(2))))","v":-5.1511046788247604E-2},null,null,{"$f":"N18","v":12122},{"$f":"COUNTIF(L7:L29,T18)","v":0},{"$f":"U18/(W4-U25)","v":0},{"$f":"IF(V18=0,0,(V18*((LOG(V18))/LOG(2))))","v":0},null,{"$f":"N18","v":12122},{"$f":"COUNTIF(L30:L52,Y18)","v":0},{"$f":"Z18/(AB4-Z25)","v":0},{"$f":"IF(AA18=0,0,(AA18*((LOG(AA18))/LOG(2))))","v":0},null,{"$f":"N18","v":12122},{"$f":"COUNTIF(L53:L75,AD18)","v":0},{"$f":"AE18/(AG4-AE25)","v":0},{"$f":"IF(AF18=0,0,(AF18*((LOG(AF18))/LOG(2))))","v":0},null,{"$f":"N18","v":12122},{"$f":"COUNTIF(L76:L98,AI18)","v":0},{"$f":"AJ18/(AL4-AJ25)","v":0},{"$f":"IF(AK18=0,0,(AK18*((LOG(AK18))/LOG(2))))","v":0},null,{"$f":"N18","v":12122},{"$f":"COUNTIF(L99:L121,AN18)","v":1},{"$f":"AO18/(AQ4-AO25)","v":6.6666666666666666E-2},{"$f":"IF(AP18=0,0,(AP18*((LOG(AP18))/LOG(2))))","v":-0.26045937304056793},null,{"$f":"N18","v":12122},{"$f":"COUNTIF(L122:L144,AS18)","v":0},{"$f":"AT18/(AV4-AT25)","v":0},{"$f":"IF(AU18=0,0,(AU18*((LOG(AU18))/LOG(2))))","v":0}]
[12,2377,13,2388,13,2396,23,2407,13,2421,0,11121,null,12211,{"$f":"COUNTIF($L$7:$L$500,N19)","v":0},{"$f":"O19/$Q$4","v":0},{"$f":"IF(P19=0,0,(P19*((LOG(P19))/LOG(2))))","v":0},null,null,{"$f":"N19","v":12211},{"$f":"COUNTIF(L7:L29,T19)","v":0},{"$f":"U19/(W4-U25)","v":0},{"$f":"IF(V19=0,0,(V19*((LOG(V19))/LOG(2))))","v":0},null,{"$f":"N19","v":12211},{"$f":"COUNTIF(L30:L52,Y19)","v":0},{"$f":"Z19/(AB4-Z25)","v":0},{"$f":"IF(AA19=0,0,(AA19*((LOG(AA19))/LOG(2))))","v":0},null,{"$f":"N19","v":12211},{"$f":"COUNTIF(L53:L75,AD19)","v":0},{"$f":"AE19/(AG4-AE25)","v":0},{"$f":"IF(AF19=0,0,(AF19*((LOG(AF19))/LOG(2))))","v":0},null,{"$f":"N19","v":12211},{"$f":"COUNTIF(L76:L98,AI19)","v":0},{"$f":"AJ19/(AL4-AJ25)","v":0},{"$f":"IF(AK19=0,0,(AK19*((LOG(AK19))/LOG(2))))","v":0},null,{"$f":"N19","v":12211},{"$f":"COUNTIF(L99:L121,AN19)","v":0},{"$f":"AO19/(AQ4-AO25)","v":0},{"$f":"IF(AP19=0,0,(AP19*((LOG(AP19))/LOG(2))))","v":0},null,{"$f":"N19","v":12211},{"$f":"COUNTIF(L122:L144,AS19)","v":0},{"$f":"AT19/(AV4-AT25)","v":0},{"$f":"IF(AU19=0,0,(AU19*((LOG(AU19))/LOG(2))))","v":0}]
[12,2523,13,2540,13,2548,14,2564,24,2575,0,11112,null,12212,{"$f":"COUNTIF($L$7:$L$500,N20)","v":1},{"$f":"O20/$Q$4","v":7.246376811594203E-3},{"$f":"IF(P20=0,0,(P20*((LOG(P20))/LOG(2))))","v":-5.1511046788247604E-2},null,null,{"$f":"N20","v":12212},{"$f":"COUNTIF(L7:L29,T20)","v":0},{"$f":"U20/(W4-U25)","v":0},{"$f":"IF(V20=0,0,(V20*((LOG(V20))/LOG(2))))","v":0},null,{"$f":"N20","v":12212},{"$f":"COUNTIF(L30:L52,Y20)","v":0},{"$f":"Z20/(AB4-Z25)","v":0},{"$f":"IF(AA20=0,0,(AA20*((LOG(AA20))/LOG(2))))","v":0},null,{"$f":"N20","v":12212},{"$f":"COUNTIF(L53:L75,AD20)","v":0},{"$f":"AE20/(AG4-AE25)","v":0},{"$f":"IF(AF20=0,0,(AF20*((LOG(AF20))/LOG(2))))","v":0},null,{"$f":"N20","v":12212},{"$f":"COUNTIF(L76:L98,AI20)","v":0},{"$f":"AJ20/(AL4-AJ25)","v":0},{"$f":"IF(AK20=0,0,(AK20*((LOG(AK20))/LOG(2))))","v":0},null,{"$f":"N20","v":12212},{"$f":"COUNTIF(L99:L121,AN20)","v":0},{"$f":"AO20/(AQ4-AO25)","v":0},{"$f":"IF(AP20=0,0,(AP20*((LOG(AP20))/LOG(2))))","v":0},null,{"$f":"N20","v":12212},{"$f":"COUNTIF(L122:L144,AS20)","v":1},{"$f":"AT20/(AV4-AT25)","v":5.2631578947368418E-2},{"$f":"IF(AU20=0,0,(AU20*((LOG(AU20))/LOG(2))))","v":-0.22357513228650452}]
[12,2680,13,2688,13,2701,23,2712,13,2721,0,11121,null,12221,{"$f":"COUNTIF($L$7:$L$500,N21)","v":0},{"$f":"O21/$Q$4","v":0},{"$f":"IF(P21=0,0,(P21*((LOG(P21))/LOG(2))))","v":0},null,null,{"$f":"N21","v":12221},{"$f":"COUNTIF(L7:L29,T21)","v":0},{"$f":"U21/(W4-U25)","v":0},{"$f":"IF(V21=0,0,(V21*((LOG(V21))/LOG(2))))","v":0},null,{"$f":"N21","v":12221},{"$f":"COUNTIF(L30:L52,Y21)","v":0},{"$f":"Z21/(AB4-Z25)","v":0},{"$f":"IF(AA21=0,0,(AA21*((LOG(AA21))/LOG(2))))","v":0},null,{"$f":"N21","v":12221},{"$f":"COUNTIF(L53:L75,AD21)","v":0},{"$f":"AE21/(AG4-AE25)","v":0},{"$f":"IF(AF21=0,0,(AF21*((LOG(AF21))/LOG(2))))","v":0},null,{"$f":"N21","v":12221},{"$f":"COUNTIF(L76:L98,AI21)","v":0},{"$f":"AJ21/(AL4-AJ25)","v":0},{"$f":"IF(AK21=0,0,(AK21*((LOG(AK21))/LOG(2))))","v":0},null,{"$f":"N21","v":12221},{"$f":"COUNTIF(L99:L121,AN21)","v":0},{"$f":"AO21/(AQ4-AO25)","v":0},{"$f":"IF(AP21=0,0,(AP21*((LOG(AP21))/LOG(2))))","v":0},null,{"$f":"N21","v":12221},{"$f":"COUNTIF(L122:L144,AS21)","v":0},{"$f":"AT21/(AV4-AT25)","v":0},{"$f":"IF(AU21=0,0,(AU21*((LOG(AU21))/LOG(2))))","v":0}]
[12,2833,13,2850,13,2864,14,2882,13,2898,0,11111,null,12222,{"$f":"COUNTIF($L$7:$L$500,N22)","v":0},{"$f":"O22/$Q$4","v":0},{"$f":"IF(P22=0,0,(P22*((LOG(P22))/LOG(2))))","v":0},null,null,{"$f":"N22","v":12222},{"$f":"COUNTIF(L7:L29,T22)","v":0},{"$f":"U22/(W4-U25)","v":0},{"$f":"IF(V22=0,0,(V22*((LOG(V22))/LOG(2))))","v":0},null,{"$f":"N22","v":12222},{"$f":"COUNTIF(L30:L52,Y22)","v":0},{"$f":"Z22/(AB4-Z25)","v":0},{"$f":"IF(AA22=0,0,(AA22*((LOG(AA22))/LOG(2))))","v":0},null,{"$f":"N22","v":12222},{"$f":"COUNTIF(L53:L75,AD22)","v":0},{"$f":"AE22/(AG4-AE25)","v":0},{"$f":"IF(AF22=0,0,(AF22*((LOG(AF22))/LOG(2))))","v":0},null,{"$f":"N22","v":12222},{"$f":"COUNTIF(L76:L98,AI22)","v":0},{"$f":"AJ22/(AL4-AJ25)","v":0},{"$f":"IF(AK22=0,0,(AK22*((LOG(AK22))/LOG(2))))","v":0},null,{"$f":"N22","v":12222},{"$f":"COUNTIF(L99:L121,AN22)","v":0},{"$f":"AO22/(AQ4-AO25)","v":0},{"$f":"IF(AP22=0,0,(AP22*((LOG(AP22))/LOG(2))))","v":0},null,{"$f":"N22","v":12222},{"$f":"COUNTIF(L122:L144,AS22)","v":0},{"$f":"AT22/(AV4-AT25)","v":0},{"$f":"IF(AU22=0,0,(AU22*((LOG(AU22))/LOG(2))))","v":0}]
[21,3002,11,3010,11,3034,21,3045,11,3060,1,21121,null,21111,{"$f":"COUNTIF($L$7:$L$500,N23)","v":2},{"$f":"O23/$Q$4","v":1.4492753623188406E-2},{"$f":"IF(P23=0,0,(P23*((LOG(P23))/LOG(2))))","v":-8.8529339953306793E-2},null,null,{"$f":"N23","v":21111},{"$f":"COUNTIF(L7:L29,T23)","v":1},{"$f":"U23/(W4-U25)","v":5.8823529411764705E-2},{"$f":"IF(V23=0,0,(V23*((LOG(V23))/LOG(2))))","v":-0.24043899066178465},null,{"$f":"N23","v":21111},{"$f":"COUNTIF(L30:L52,Y23)","v":0},{"$f":"Z23/(AB4-Z25)","v":0},{"$f":"IF(AA23=0,0,(AA23*((LOG(AA23))/LOG(2))))","v":0},null,{"$f":"N23","v":21111},{"$f":"COUNTIF(L53:L75,AD23)","v":0},{"$f":"AE23/(AG4-AE25)","v":0},{"$f":"IF(AF23=0,0,(AF23*((LOG(AF23))/LOG(2))))","v":0},null,{"$f":"N23","v":21111},{"$f":"COUNTIF(L76:L98,AI23)","v":0},{"$f":"AJ23/(AL4-AJ25)","v":0},{"$f":"IF(AK23=0,0,(AK23*((LOG(AK23))/LOG(2))))","v":0},null,{"$f":"N23","v":21111},{"$f":"COUNTIF(L99:L121,AN23)","v":1},{"$f":"AO23/(AQ4-AO25)","v":6.6666666666666666E-2},{"$f":"IF(AP23=0,0,(AP23*((LOG(AP23))/LOG(2))))","v":-0.26045937304056793},null,{"$f":"N23","v":21111},{"$f":"COUNTIF(L122:L144,AS23)","v":0},{"$f":"AT23/(AV4-AT25)","v":0},{"$f":"IF(AU23=0,0,(AU23*((LOG(AU23))/LOG(2))))","v":0}]
[21,3165,11,3177,11,3189,21,3200,11,3209,1,21121,null,21112,{"$f":"COUNTIF($L$7:$L$500,N24)","v":7},{"$f":"O24/$Q$4","v":5.0724637681159424E-2},{"$f":"IF(P24=0,0,(P24*((LOG(P24))/LOG(2))))","v":-0.21817526625394168},null,null,{"$f":"N24","v":21112},{"$f":"COUNTIF(L7:L29,T24)","v":1},{"$f":"U24/(W4-U25)","v":5.8823529411764705E-2},{"$f":"IF(V24=0,0,(V24*((LOG(V24))/LOG(2))))","v":-0.24043899066178465},null,{"$f":"N24","v":21112},{"$f":"COUNTIF(L30:L52,Y24)","v":2},{"$f":"Z24/(AB4-Z25)","v":0.1},{"$f":"IF(AA24=0,0,(AA24*((LOG(AA24))/LOG(2))))","v":-0.33219280948873625},null,{"$f":"N24","v":21112},{"$f":"COUNTIF(L53:L75,AD24)","v":0},{"$f":"AE24/(AG4-AE25)","v":0},{"$f":"IF(AF24=0,0,(AF24*((LOG(AF24))/LOG(2))))","v":0},null,{"$f":"N24","v":21112},{"$f":"COUNTIF(L76:L98,AI24)","v":0},{"$f":"AJ24/(AL4-AJ25)","v":0},{"$f":"IF(AK24=0,0,(AK24*((LOG(AK24))/LOG(2))))","v":0},null,{"$f":"N24","v":21112},{"$f":"COUNTIF(L99:L121,AN24)","v":1},{"$f":"AO24/(AQ4-AO25)","v":6.6666666666666666E-2},{"$f":"IF(AP24=0,0,(AP24*((LOG(AP24))/LOG(2))))","v":-0.26045937304056793},null,{"$f":"N24","v":21112},{"$f":"COUNTIF(L122:L144,AS24)","v":3},{"$f":"AT24/(AV4-AT25)","v":0.15789473684210525},{"$f":"IF(AU24=0,0,(AU24*((LOG(AU24))/LOG(2))))","v":-0.42046815990354147}]
[12,3333,13,3344,24,3355,14,3370,24,3383,0,11212,null,21121,{"$f":"COUNTIF($L$7:$L$500,N25)","v":29},{"$f":"O25/$Q$4","v":0.21014492753623187},{"$f":"IF(P25=0,0,(P25*((LOG(P25))/LOG(2))))","v":-0.47294029266570509},null,null,{"$f":"N25","v":21121},{"$f":"COUNTIF(L7:L29,T25)","v":6},null,null,null,{"$f":"N25","v":21121},{"$f":"COUNTIF(L30:L52,Y25)","v":3},null,null,null,{"$f":"N25","v":21121},{"$f":"COUNTIF(L53:L75,AD25)","v":5},null,null,null,{"$f":"N25","v":21121},{"$f":"COUNTIF(L76:L98,AI25)","v":3},null,null,null,{"$f":"N25","v":21121},{"$f":"COUNTIF(L99:L121,AN25)","v":8},null,null,null,{"$f":"N25","v":21121},{"$f":"COUNTIF(L122:L144,AS25)","v":4}]
[12,3493,13,3504,13,3517,23,3527,13,3536,0,11121,null,21122,{"$f":"COUNTIF($L$7:$L$500,N26)","v":1},{"$f":"O26/$Q$4","v":7.246376811594203E-3},{"$f":"IF(P26=0,0,(P26*((LOG(P26))/LOG(2))))","v":-5.1511046788247604E-2},null,null,{"$f":"N26","v":21122},{"$f":"COUNTIF(L7:L29,T26)","v":1},{"$f":"U26/(W4-U25)","v":5.8823529411764705E-2},{"$f":"IF(V26=0,0,(V26*((LOG(V26))/LOG(2))))","v":-0.24043899066178465},null,{"$f":"N26","v":21122},{"$f":"COUNTIF(L30:L52,Y26)","v":0},{"$f":"Z26/(AB4-Z25)","v":0},{"$f":"IF(AA26=0,0,(AA26*((LOG(AA26))/LOG(2))))","v":0},null,{"$f":"N26","v":21122},{"$f":"COUNTIF(L53:L75,AD26)","v":0},{"$f":"AE26/(AG4-AE25)","v":0},{"$f":"IF(AF26=0,0,(AF26*((LOG(AF26))/LOG(2))))","v":0},null,{"$f":"N26","v":21122},{"$f":"COUNTIF(L76:L98,AI26)","v":0},{"$f":"AJ26/(AL4-AJ25)","v":0},{"$f":"IF(AK26=0,0,(AK26*((LOG(AK26))/LOG(2))))","v":0},null,{"$f":"N26","v":21122},{"$f":"COUNTIF(L99:L121,AN26)","v":0},{"$f":"AO26/(AQ4-AO25)","v":0},{"$f":"IF(AP26=0,0,(AP26*((LOG(AP26))/LOG(2))))","v":0},null,{"$f":"N26","v":21122},{"$f":"COUNTIF(L122:L144,AS26)","v":0},{"$f":"AT26/(AV4-AT25)","v":0},{"$f":"IF(AU26=0,0,(AU26*((LOG(AU26))/LOG(2))))","v":0}]
[21,3639,11,3647,11,3663,21,3678,11,3688,1,21121,null,21211,{"$f":"COUNTIF($L$7:$L$500,N27)","v":29},{"$f":"O27/$Q$4","v":0.21014492753623187},{"$f":"IF(P27=0,0,(P27*((LOG(P27))/LOG(2))))","v":-0.47294029266570509},null,null,{"$f":"N27","v":21211},{"$f":"COUNTIF(L7:L29,T27)","v":0},{"$f":"U27/(W4-U25)","v":0},{"$f":"IF(V27=0,0,(V27*((LOG(V27))/LOG(2))))","v":0},null,{"$f":"N27","v":21211},{"$f":"COUNTIF(L30:L52,Y27)","v":6},{"$f":"Z27/(AB4-Z25)","v":0.3},{"$f":"IF(AA27=0,0,(AA27*((LOG(AA27))/LOG(2))))","v":-0.52108967824986185},null,{"$f":"N27","v":21211},{"$f":"COUNTIF(L53:L75,AD27)","v":7},{"$f":"AE27/(AG4-AE25)","v":0.3888888888888889},{"$f":"IF(AF27=0,0,(AF27*((LOG(AF27))/LOG(2))))","v":-0.52988836420516428},null,{"$f":"N27","v":21211},{"$f":"COUNTIF(L76:L98,AI27)","v":7},{"$f":"AJ27/(AL4-AJ25)","v":0.35},{"$f":"IF(AK27=0,0,(AK27*((LOG(AK27))/LOG(2))))","v":-0.53010061049041535},null,{"$f":"N27","v":21211},{"$f":"COUNTIF(L99:L121,AN27)","v":4},{"$f":"AO27/(AQ4-AO25)","v":0.26666666666666666},{"$f":"IF(AP27=0,0,(AP27*((LOG(AP27))/LOG(2))))","v":-0.50850415882893829},null,{"$f":"N27","v":21211},{"$f":"COUNTIF(L122:L144,AS27)","v":5},{"$f":"AT27/(AV4-AT25)","v":0.26315789473684209},{"$f":"IF(AU27=0,0,(AU27*((LOG(AU27))/LOG(2))))","v":-0.50684195225163764}]
[12,3815,13,3825,13,3848,14,3863,24,3887,0,11112,null,21212,{"$f":"COUNTIF($L$7:$L$500,N28)","v":11},{"$f":"O28/$Q$4","v":7.9710144927536225E-2},{"$f":"IF(P28=0,0,(P28*((LOG(P28))/LOG(2))))","v":-0.2908697189822434},null,null,{"$f":"N28","v":21212},{"$f":"COUNTIF(L7:L29,T28)","v":2},{"$f":"U28/(W4-U25)","v":0.11764705882352941},{"$f":"IF(V28=0,0,(V28*((LOG(V28))/LOG(2))))","v":-0.36323092250003997},null,{"$f":"N28","v":21212},{"$f":"COUNTIF(L30:L52,Y28)","v":2},{"$f":"Z28/(AB4-Z25)","v":0.1},{"$f":"IF(AA28=0,0,(AA28*((LOG(AA28))/LOG(2))))","v":-0.33219280948873625},null,{"$f":"N28","v":21212},{"$f":"COUNTIF(L53:L75,AD28)","v":4},{"$f":"AE28/(AG4-AE25)","v":0.22222222222222221},{"$f":"IF(AF28=0,0,(AF28*((LOG(AF28))/LOG(2))))","v":-0.48220555587606945},null,{"$f":"N28","v":21212},{"$f":"COUNTIF(L76:L98,AI28)","v":1},{"$f":"AJ28/(AL4-AJ25)","v":0.05},{"$f":"IF(AK28=0,0,(AK28*((LOG(AK28))/LOG(2))))","v":-0.21609640474436814},null,{"$f":"N28","v":21212},{"$f":"COUNTIF(L99:L121,AN28)","v":0},{"$f":"AO28/(AQ4-AO25)","v":0},{"$f":"IF(AP28=0,0,(AP28*((LOG(AP28))/LOG(2))))","v":0},null,{"$f":"N28","v":21212},{"$f":"COUNTIF(L122:L144,AS28)","v":2},{"$f":"AT28/(AV4-AT25)","v":0.10526315789473684},{"$f":"IF(AU28=0,0,(AU28*((LOG(AU28))/LOG(2))))","v":-0.34188710667827216}]
[21,4017,11,4029,11,4067,21,4075,11,4083,1,21121,null,21221,{"$f":"COUNTIF($L$7:$L$500,N29)","v":4},{"$f":"O29/$Q$4","v":2.8985507246376812E-2},{"$f":"IF(P29=0,0,(P29*((LOG(P29))/LOG(2))))","v":-0.14807317266023678},null,null,{"$f":"N29","v":21221},{"$f":"COUNTIF(L7:L29,T29)","v":0},{"$f":"U29/(W4-U25)","v":0},{"$f":"IF(V29=0,0,(V29*((LOG(V29))/LOG(2))))","v":0},null,{"$f":"N29","v":21221},{"$f":"COUNTIF(L30:L52,Y29)","v":0},{"$f":"Z29/(AB4-Z25)","v":0},{"$f":"IF(AA29=0,0,(AA29*((LOG(AA29))/LOG(2))))","v":0},null,{"$f":"N29","v":21221},{"$f":"COUNTIF(L53:L75,AD29)","v":1},{"$f":"AE29/(AG4-AE25)","v":5.5555555555555552E-2},{"$f":"IF(AF29=0,0,(AF29*((LOG(AF29))/LOG(2))))","v":-0.23166250008012845},null,{"$f":"N29","v":21221},{"$f":"COUNTIF(L76:L98,AI29)","v":2},{"$f":"AJ29/(AL4-AJ25)","v":0.1},{"$f":"IF(AK29=0,0,(AK29*((LOG(AK29))/LOG(2))))","v":-0.33219280948873625},null,{"$f":"N29","v":21221},{"$f":"COUNTIF(L99:L121,AN29)","v":1},{"$f":"AO29/(AQ4-AO25)","v":6.6666666666666666E-2},{"$f":"IF(AP29=0,0,(AP29*((LOG(AP29))/LOG(2))))","v":-0.26045937304056793},null,{"$f":"N29","v":21221},{"$f":"COUNTIF(L122:L144,AS29)","v":0},{"$f":"AT29/(AV4-AT25)","v":0},{"$f":"IF(AU29=0,0,(AU29*((LOG(AU29))/LOG(2))))","v":0}]
[12,4203,13,4219,24,4229,23,4241,13,4258,0,11221,null,21222,{"$f":"COUNTIF($L$7:$L$500,N30)","v":2},{"$f":"O30/$Q$4","v":1.4492753623188406E-2},{"$f":"IF(P30=0,0,(P30*((LOG(P30))/LOG(2))))","v":-8.8529339953306793E-2},null,null,{"$f":"N30","v":21222},{"$f":"COUNTIF(L7:L29,T30)","v":0},{"$f":"U30/(W4-U25)","v":0},{"$f":"IF(V30=0,0,(V30*((LOG(V30))/LOG(2))))","v":0},null,{"$f":"N30","v":21222},{"$f":"COUNTIF(L30:L52,Y30)","v":0},{"$f":"Z30/(AB4-Z25)","v":0},{"$f":"IF(AA30=0,0,(AA30*((LOG(AA30))/LOG(2))))","v":0},null,{"$f":"N30","v":21222},{"$f":"COUNTIF(L53:L75,AD30)","v":0},{"$f":"AE30/(AG4-AE25)","v":0},{"$f":"IF(AF30=0,0,(AF30*((LOG(AF30))/LOG(2))))","v":0},null,{"$f":"N30","v":21222},{"$f":"COUNTIF(L76:L98,AI30)","v":1},{"$f":"AJ30/(AL4-AJ25)","v":0.05},{"$f":"IF(AK30=0,0,(AK30*((LOG(AK30))/LOG(2))))","v":-0.21609640474436814},null,{"$f":"N30","v":21222},{"$f":"COUNTIF(L99:L121,AN30)","v":1},{"$f":"AO30/(AQ4-AO25)","v":6.6666666666666666E-2},{"$f":"IF(AP30=0,0,(AP30*((LOG(AP30))/LOG(2))))","v":-0.26045937304056793},null,{"$f":"N30","v":21222},{"$f":"COUNTIF(L122:L144,AS30)","v":0},{"$f":"AT30/(AV4-AT25)","v":0},{"$f":"IF(AU30=0,0,(AU30*((LOG(AU30))/LOG(2))))","v":0}]
[21,4357,11,4365,11,4379,21,4390,11,4399,1,21121,null,22111,{"$f":"COUNTIF($L$7:$L$500,N31)","v":2},{"$f":"O31/$Q$4","v":1.4492753623188406E-2},{"$f":"IF(P31=0,0,(P31*((LOG(P31))/LOG(2))))","v":-8.8529339953306793E-2},null,null,{"$f":"N31","v":22111},{"$f":"COUNTIF(L7:L29,T31)","v":0},{"$f":"U31/(W4-U25)","v":0},{"$f":"IF(V31=0,0,(V31*((LOG(V31))/LOG(2))))","v":0},null,{"$f":"N31","v":22111},{"$f":"COUNTIF(L30:L52,Y31)","v":0},{"$f":"Z31/(AB4-Z25)","v":0},{"$f":"IF(AA31=0,0,(AA31*((LOG(AA31))/LOG(2))))","v":0},null,{"$f":"N31","v":22111},{"$f":"COUNTIF(L53:L75,AD31)","v":1},{"$f":"AE31/(AG4-AE25)","v":5.5555555555555552E-2},{"$f":"IF(AF31=0,0,(AF31*((LOG(AF31))/LOG(2))))","v":-0.23166250008012845},null,{"$f":"N31","v":22111},{"$f":"COUNTIF(L76:L98,AI31)","v":1},{"$f":"AJ31/(AL4-AJ25)","v":0.05},{"$f":"IF(AK31=0,0,(AK31*((LOG(AK31))/LOG(2))))","v":-0.21609640474436814},null,{"$f":"N31","v":22111},{"$f":"COUNTIF(L99:L121,AN31)","v":0},{"$f":"AO31/(AQ4-AO25)","v":0},{"$f":"IF(AP31=0,0,(AP31*((LOG(AP31))/LOG(2))))","v":0},null,{"$f":"N31","v":22111},{"$f":"COUNTIF(L122:L144,AS31)","v":0},{"$f":"AT31/(AV4-AT25)","v":0},{"$f":"IF(AU31=0,0,(AU31*((LOG(AU31))/LOG(2))))","v":0}]
[12,4533,24,4548,13,4560,14,4575,24,4588,0,12112,null,22112,{"$f":"COUNTIF($L$7:$L$500,N32)","v":2},{"$f":"O32/$Q$4","v":1.4492753623188406E-2},{"$f":"IF(P32=0,0,(P32*((LOG(P32))/LOG(2))))","v":-8.8529339953306793E-2},null,null,{"$f":"N32","v":22112},{"$f":"COUNTIF(L7:L29,T32)","v":0},{"$f":"U32/(W4-U25)","v":0},{"$f":"IF(V32=0,0,(V32*((LOG(V32))/LOG(2))))","v":0},null,{"$f":"N32","v":22112},{"$f":"COUNTIF(L30:L52,Y32)","v":0},{"$f":"Z32/(AB4-Z25)","v":0},{"$f":"IF(AA32=0,0,(AA32*((LOG(AA32))/LOG(2))))","v":0},null,{"$f":"N32","v":22112},{"$f":"COUNTIF(L53:L75,AD32)","v":0},{"$f":"AE32/(AG4-AE25)","v":0},{"$f":"IF(AF32=0,0,(AF32*((LOG(AF32))/LOG(2))))","v":0},null,{"$f":"N32","v":22112},{"$f":"COUNTIF(L76:L98,AI32)","v":0},{"$f":"AJ32/(AL4-AJ25)","v":0},{"$f":"IF(AK32=0,0,(AK32*((LOG(AK32))/LOG(2))))","v":0},null,{"$f":"N32","v":22112},{"$f":"COUNTIF(L99:L121,AN32)","v":2},{"$f":"AO32/(AQ4-AO25)","v":0.13333333333333333},{"$f":"IF(AP32=0,0,(AP32*((LOG(AP32))/LOG(2))))","v":-0.3875854127478025},null,{"$f":"N32","v":22112},{"$f":"COUNTIF(L122:L144,AS32)","v":0},{"$f":"AT32/(AV4-AT25)","v":0},{"$f":"IF(AU32=0,0,(AU32*((LOG(AU32))/LOG(2))))","v":0}]
[12,4695,13,4709,24,4717,14,4730,24,4744,0,11212,null,22121,{"$f":"COUNTIF($L$7:$L$500,N33)","v":11},{"$f":"O33/$Q$4","v":7.9710144927536225E-2},{"$f":"IF(P33=0,0,(P33*((LOG(P33))/LOG(2))))","v":-0.2908697189822434},null,null,{"$f":"N33","v":22121},{"$f":"COUNTIF(L7:L29,T33)","v":0},{"$f":"U33/(W4-U25)","v":0},{"$f":"IF(V33=0,0,(V33*((LOG(V33))/LOG(2))))","v":0},null,{"$f":"N33","v":22121},{"$f":"COUNTIF(L30:L52,Y33)","v":1},{"$f":"Z33/(AB4-Z25)","v":0.05},{"$f":"IF(AA33=0,0,(AA33*((LOG(AA33))/LOG(2))))","v":-0.21609640474436814},null,{"$f":"N33","v":22121},{"$f":"COUNTIF(L53:L75,AD33)","v":1},{"$f":"AE33/(AG4-AE25)","v":5.5555555555555552E-2},{"$f":"IF(AF33=0,0,(AF33*((LOG(AF33))/LOG(2))))","v":-0.23166250008012845},null,{"$f":"N33","v":22121},{"$f":"COUNTIF(L76:L98,AI33)","v":2},{"$f":"AJ33/(AL4-AJ25)","v":0.1},{"$f":"IF(AK33=0,0,(AK33*((LOG(AK33))/LOG(2))))","v":-0.33219280948873625},null,{"$f":"N33","v":22121},{"$f":"COUNTIF(L99:L121,AN33)","v":2},{"$f":"AO33/(AQ4-AO25)","v":0.13333333333333333},{"$f":"IF(AP33=0,0,(AP33*((LOG(AP33))/LOG(2))))","v":-0.3875854127478025},null,{"$f":"N33","v":22121},{"$f":"COUNTIF(L122:L144,AS33)","v":5},{"$f":"AT33/(AV4-AT25)","v":0.26315789473684209},{"$f":"IF(AU33=0,0,(AU33*((LOG(AU33))/LOG(2))))","v":-0.50684195225163764}]
[21,4843,11,4852,22,4863,14,4878,13,4886,0,21211,null,22122,{"$f":"COUNTIF($L$7:$L$500,N34)","v":1},{"$f":"O34/$Q$4","v":7.246376811594203E-3},{"$f":"IF(P34=0,0,(P34*((LOG(P34))/LOG(2))))","v":-5.1511046788247604E-2},null,null,{"$f":"N34","v":22122},{"$f":"COUNTIF(L7:L29,T34)","v":0},{"$f":"U34/(W4-U25)","v":0},{"$f":"IF(V34=0,0,(V34*((LOG(V34))/LOG(2))))","v":0},null,{"$f":"N34","v":22122},{"$f":"COUNTIF(L30:L52,Y34)","v":0},{"$f":"Z34/(AB4-Z25)","v":0},{"$f":"IF(AA34=0,0,(AA34*((LOG(AA34))/LOG(2))))","v":0},null,{"$f":"N34","v":22122},{"$f":"COUNTIF(L53:L75,AD34)","v":0},{"$f":"AE34/(AG4-AE25)","v":0},{"$f":"IF(AF34=0,0,(AF34*((LOG(AF34))/LOG(2))))","v":0},null,{"$f":"N34","v":22122},{"$f":"COUNTIF(L76:L98,AI34)","v":1},{"$f":"AJ34/(AL4-AJ25)","v":0.05},{"$f":"IF(AK34=0,0,(AK34*((LOG(AK34))/LOG(2))))","v":-0.21609640474436814},null,{"$f":"N34","v":22122},{"$f":"COUNTIF(L99:L121,AN34)","v":0},{"$f":"AO34/(AQ4-AO25)","v":0},{"$f":"IF(AP34=0,0,(AP34*((LOG(AP34))/LOG(2))))","v":0},null,{"$f":"N34","v":22122},{"$f":"COUNTIF(L122:L144,AS34)","v":0},{"$f":"AT34/(AV4-AT25)","v":0},{"$f":"IF(AU34=0,0,(AU34*((LOG(AU34))/LOG(2))))","v":0}]
[21,4984,11,4992,11,5003,12,5020,24,5029,0,21112,null,22211,{"$f":"COUNTIF($L$7:$L$500,N35)","v":0},{"$f":"O35/$Q$4","v":0},{"$f":"IF(P35=0,0,(P35*((LOG(P35))/LOG(2))))","v":0},null,null,{"$f":"N35","v":22211},{"$f":"COUNTIF(L7:L29,T35)","v":0},{"$f":"U35/(W4-U25)","v":0},{"$f":"IF(V35=0,0,(V35*((LOG(V35))/LOG(2))))","v":0},null,{"$f":"N35","v":22211},{"$f":"COUNTIF(L30:L52,Y35)","v":0},{"$f":"Z35/(AB4-Z25)","v":0},{"$f":"IF(AA35=0,0,(AA35*((LOG(AA35))/LOG(2))))","v":0},null,{"$f":"N35","v":22211},{"$f":"COUNTIF(L53:L75,AD35)","v":0},{"$f":"AE35/(AG4-AE25)","v":0},{"$f":"IF(AF35=0,0,(AF35*((LOG(AF35))/LOG(2))))","v":0},null,{"$f":"N35","v":22211},{"$f":"COUNTIF(L76:L98,AI35)","v":0},{"$f":"AJ35/(AL4-AJ25)","v":0},{"$f":"IF(AK35=0,0,(AK35*((LOG(AK35))/LOG(2))))","v":0},null,{"$f":"N35","v":22211},{"$f":"COUNTIF(L99:L121,AN35)","v":0},{"$f":"AO35/(AQ4-AO25)","v":0},{"$f":"IF(AP35=0,0,(AP35*((LOG(AP35))/LOG(2))))","v":0},null,{"$f":"N35","v":22211},{"$f":"COUNTIF(L122:L144,AS35)","v":0},{"$f":"AT35/(AV4-AT25)","v":0},{"$f":"IF(AU35=0,0,(AU35*((LOG(AU35))/LOG(2))))","v":0}]
[21,5127,22,5132,13,5140,23,5156,13,5164,0,22121,null,22212,{"$f":"COUNTIF($L$7:$L$500,N36)","v":2},{"$f":"O36/$Q$4","v":1.4492753623188406E-2},{"$f":"IF(P36=0,0,(P36*((LOG(P36))/LOG(2))))","v":-8.8529339953306793E-2},null,null,{"$f":"N36","v":22212},{"$f":"COUNTIF(L7:L29,T36)","v":0},{"$f":"U36/(W4-U25)","v":0},{"$f":"IF(V36=0,0,(V36*((LOG(V36))/LOG(2))))","v":0},null,{"$f":"N36","v":22212},{"$f":"COUNTIF(L30:L52,Y36)","v":0},{"$f":"Z36/(AB4-Z25)","v":0},{"$f":"IF(AA36=0,0,(AA36*((LOG(AA36))/LOG(2))))","v":0},null,{"$f":"N36","v":22212},{"$f":"COUNTIF(L53:L75,AD36)","v":0},{"$f":"AE36/(AG4-AE25)","v":0},{"$f":"IF(AF36=0,0,(AF36*((LOG(AF36))/LOG(2))))","v":0},null,{"$f":"N36","v":22212},{"$f":"COUNTIF(L76:L98,AI36)","v":0},{"$f":"AJ36/(AL4-AJ25)","v":0},{"$f":"IF(AK36=0,0,(AK36*((LOG(AK36))/LOG(2))))","v":0},null,{"$f":"N36","v":22212},{"$f":"COUNTIF(L99:L121,AN36)","v":2},{"$f":"AO36/(AQ4-AO25)","v":0.13333333333333333},{"$f":"IF(AP36=0,0,(AP36*((LOG(AP36))/LOG(2))))","v":-0.3875854127478025},null,{"$f":"N36","v":22212},{"$f":"COUNTIF(L122:L144,AS36)","v":0},{"$f":"AT36/(AV4-AT25)","v":0},{"$f":"IF(AU36=0,0,(AU36*((LOG(AU36))/LOG(2))))","v":0}]
[12,5294,24,5339,13,5347,23,5359,13,5370,0,12121,null,22221,{"$f":"COUNTIF($L$7:$L$500,N37)","v":0},{"$f":"O37/$Q$4","v":0},{"$f":"IF(P37=0,0,(P37*((LOG(P37))/LOG(2))))","v":0},null,null,{"$f":"N37","v":22221},{"$f":"COUNTIF(L7:L29,T37)","v":0},{"$f":"U37/(W4-U25)","v":0},{"$f":"IF(V37=0,0,(V37*((LOG(V37))/LOG(2))))","v":0},null,{"$f":"N37","v":22221},{"$f":"COUNTIF(L30:L52,Y37)","v":0},{"$f":"Z37/(AB4-Z25)","v":0},{"$f":"IF(AA37=0,0,(AA37*((LOG(AA37))/LOG(2))))","v":0},null,{"$f":"N37","v":22221},{"$f":"COUNTIF(L53:L75,AD37)","v":0},{"$f":"AE37/(AG4-AE25)","v":0},{"$f":"IF(AF37=0,0,(AF37*((LOG(AF37))/LOG(2))))","v":0},null,{"$f":"N37","v":22221},{"$f":"COUNTIF(L76:L98,AI37)","v":0},{"$f":"AJ37/(AL4-AJ25)","v":0},{"$f":"IF(AK37=0,0,(AK37*((LOG(AK37))/LOG(2))))","v":0},null,{"$f":"N37","v":22221},{"$f":"COUNTIF(L99:L121,AN37)","v":0},{"$f":"AO37/(AQ4-AO25)","v":0},{"$f":"IF(AP37=0,0,(AP37*((LOG(AP37))/LOG(2))))","v":0},null,{"$f":"N37","v":22221},{"$f":"COUNTIF(L122:L144,AS37)","v":0},{"$f":"AT37/(AV4-AT25)","v":0},{"$f":"IF(AU37=0,0,(AU37*((LOG(AU37))/LOG(2))))","v":0}]
[21,5474,11,5482,22,5495,14,5508,24,5522,0,21212,null,22222,{"$f":"COUNTIF($L$7:$L$500,N38)","v":0},{"$f":"O38/$Q$4","v":0},{"$f":"IF(P38=0,0,(P38*((LOG(P38))/LOG(2))))","v":0},null,null,{"$f":"N38","v":22222},{"$f":"COUNTIF(L7:L29,T38)","v":0},{"$f":"U38/(W4-U25)","v":0},{"$f":"IF(V38=0,0,(V38*((LOG(V38))/LOG(2))))","v":0},null,{"$f":"N38","v":22222},{"$f":"COUNTIF(L30:L52,Y38)","v":0},{"$f":"Z38/(AB4-Z25)","v":0},{"$f":"IF(AA38=0,0,(AA38*((LOG(AA38))/LOG(2))))","v":0},null,{"$f":"N38","v":22222},{"$f":"COUNTIF(L53:L75,AD38)","v":0},{"$f":"AE38/(AG4-AE25)","v":0},{"$f":"IF(AF38=0,0,(AF38*((LOG(AF38))/LOG(2))))","v":0},null,{"$f":"N38","v":22222},{"$f":"COUNTIF(L76:L98,AI38)","v":0},{"$f":"AJ38/(AL4-AJ25)","v":0},{"$f":"IF(AK38=0,0,(AK38*((LOG(AK38))/LOG(2))))","v":0},null,{"$f":"N38","v":22222},{"$f":"COUNTIF(L99:L121,AN38)","v":0},{"$f":"AO38/(AQ4-AO25)","v":0},{"$f":"IF(AP38=0,0,(AP38*((LOG(AP38))/LOG(2))))","v":0},null,{"$f":"N38","v":22222},{"$f":"COUNTIF(L122:L144,AS38)","v":0},{"$f":"AT38/(AV4-AT25)","v":0},{"$f":"IF(AU38=0,0,(AU38*((LOG(AU38))/LOG(2))))","v":0}]
[21,5623,11,5643,22,5654,14,5671,13,5687,0,21211,null,null,null,{"$f":"SUM(P7:P38)","v":0.99999999999999989},{"$f":"-SUM(Q7:Q38)","v":3.7534098101318856},null,null,null,null,{"$f":"SUM(V7:V38)","v":1},{"$f":"-SUM(W7:W38)","v":3.2927701939369909},null,null,null,{"$f":"SUM(AA7:AA38)","v":1},{"$f":"-SUM(AB7:AB38)","v":2.8464393446710154},null,null,null,{"$f":"SUM(AF7:AF38)","v":1},{"$f":"-SUM(AG7:AG38)","v":2.6337314206421327},null,null,null,{"$f":"SUM(AK7:AK38)","v":1},{"$f":"-SUM(AL7:AL38)","v":2.8016094970590273},null,null,null,{"$f":"SUM(AP7:AP38)","v":0.99999999999999989},{"$f":"-SUM(AQ7:AQ38)","v":2.973557262275186},null,null,null,{"$f":"SUM(AU7:AU38)","v":1},{"$f":"-SUM(AV7:AV38)","v":2.6703397002311071}]
[21,5785,11,5807,22,5835,14,5844,13,5873,0,21211,null,null,null,"U=",{"$f":"Q39/(LOG(Q4)/LOG(2))","v":0.52801531920635214},null,null,null,null,"U1=",{"$f":"W39/(LOG(W4)/LOG(2))","v":0.72791535208841296},null,null,null,"U2=",{"$f":"AB39/(LOG(AB4)/LOG(2))","v":0.62924734364689228},null,null,null,"U3=",{"$f":"AG39/(LOG(AG4)/LOG(2))","v":0.5822251239679801},null,null,null,"U4=",{"$f":"AL39/(LOG(AL4)/LOG(2))","v":0.61933704551292701},null,null,null,"U5=",{"$f":"AQ39/(LOG(AQ4)/LOG(2))","v":0.65734863171125946},null,null,null,"U6=",{"$f":"AV39/(LOG(AV4)/LOG(2))","v":0.59031792339122136}]
[12,5982,24,6005,13,6013,23,6022,13,6030,0,12121]
[12,6144,24,6160,13,6177,14,6185,13,6221,0,12111]
[12,6326,13,6341,24,6354,14,6366,24,6379,0,11212,null,"Total Target Seq"]
[12,6483,24,6499,13,6509,23,6519,13,6533,0,12121,null,{"$f":"COUNTIF(L7:L144,G3)","v":29},null,23,23,23,23,23,23]
[21,6632,11,6641,11,6658,21,6671,11,6681,1,21121,null,null,null,"% of reinforcement given in 6 equal intervals based on number of trials "]
[12,6787,24,6813,13,6828,23,6841,13,6849,0,12121,null,null,null,"%_1","%_2","%_3","%_4","%_5","%_6"]
[21,6953,11,6966,22,6978,14,6986,13,7001,0,21211,null,null,"target sequence",{"$f":"$G$3","v":21121},{"$f":"$G$3","v":21121},{"$f":"$G$3","v":21121},{"$f":"$G$3","v":21121},{"$f":"$G$3","v":21121},{"$f":"$G$3","v":21121}]
[21,7104,11,7127,11,7148,21,7177,11,7185,1,21121,null,null,"total reinforcement",{"$f":"U25","v":6},{"$f":"Z25","v":3},{"$f":"AE25","v":5},{"$f":"AJ25","v":3},{"$f":"AO25","v":8},{"$f":"AT25","v":4}]
[21,7281,11,7289,22,7300,14,7309,24,7332,0,21212,null,null,"% target"]
[21,7446,11,7473,22,7486,14,7494,13,7525,0,21211,null,null,"CCRF"]
[21,7626,11,7664,22,7677,14,7712,13,7720,0,21211,null,null,"% CCRf"]
[21,7821,11,7832,11,7926,12,7960,24,7989,0,21112,null,null,"average response rate",{"$f":"J29/P44","v":177.52173913043478},{"$f":"(J52-J29)/Q44","v":169.82608695652175},{"$f":"(J75-J52)/R44","v":174.34782608695653},{"$f":"(J98-J75)/S44","v":163.7391304347826},{"$f":"(J121-J98)/T44","v":174},{"$f":"(J144-J121)/U44","v":181.21739130434781}]
[21,8088,22,8132,13,8144,14,8163,13,8182,0,22111]
[21,8283,11,8294,22,8311,14,8326,13,8335,0,21211]
[21,8437,11,8446,22,8459,14,8473,13,8481,0,21211]
[21,8580,11,8589,22,8601,14,8610,13,8637,0,21211]
[21,8753,11,8760,22,8772,14,8787,24,8811,0,21212]
[21,8909,11,8917,22,8930,14,8939,13,8950,0,21211]
[21,9047,11,9055,11,9067,21,9078,11,9087,1,21121]
[21,9191,11,9204,22,9219,14,9228,13,9243,0,21211]
[21,9344,11,9363,22,9378,14,9392,13,9403,0,21211]
[12,9522,13,9539,24,9549,14,9586,13,9598,0,11211]
[21,9707,11,9715,11,9730,21,9741,11,9760,1,21121]
[21,9862,11,9884,22,9898,14,9910,24,9922,0,21212]
[12,10046,13,10057,13,10079,14,10103,24,10114,0,11112]
[21,10215,22,10234,13,10251,23,10262,13,10271,0,22121]
[21,10368,11,10390,22,10410,14,10432,24,10444,0,21212]
[21,10572,11,10587,22,10606,14,10619,24,10634,0,21212]
[21,10734,11,10749,11,10762,21,10774,11,10787,1,21121]
[12,10910,13,10923,24,10935,23,10944,13,10955,0,11221]
[21,11106,11,11123,11,11149,21,11160,11,11169,1,21121]
[21,11261,11,11268,22,11281,23,11294,13,11327,0,21221]
[21,11428,11,11448,11,11459,21,11472,11,11484,1,21121]
[21,11612,11,11637,22,11647,14,11659,13,11671,0,21211]
[12,11882,24,11953,13,11962,14,11970,13,11999,0,12111]
[12,12118,24,12144,13,12164,23,12174,13,12186,0,12121]
[21,12303,11,12314,22,12325,14,12337,13,12357,0,21211]
[12,12489,24,12500,13,12508,23,12519,13,12532,0,12121]
[21,12633,11,12642,11,12658,21,12669,11,12682,1,21121]
[21,12773,11,12783,22,12793,23,12821,13,12830,0,21221]
[12,12948,24,12963,13,12976,23,12987,13,12996,0,12121]
[21,13097,11,13107,11,13118,21,13129,11,13142,1,21121]
[12,13242,13,13255,24,13266,14,13280,13,13297,0,11211]
[21,13420,11,13428,22,13437,23,13455,24,13482,0,21222]
[21,13581,22,13584,13,13592,14,13629,13,13640,0,22111]
[21,13743,11,13765,22,13776,23,13785,13,13800,0,21221]
[21,13897,11,13952,11,13968,21,13982,11,13991,1,21121]
[21,14090,11,14119,22,14144,14,14158,13,14190,0,21211]
[21,14287,22,14290,13,14303,23,14316,24,14344,0,22122]
[21,14441,22,14446,13,14454,23,14465,13,14474,0,22121]
[21,14570,22,14577,13,14598,23,14610,13,14619,0,22121]
[12,14728,13,14755,24,14772,14,14781,13,14789,0,11211]
[21,14898,11,14911,22,14922,14,14935,13,14943,0,21211]
[21,15058,11,15071,22,15084,14,15093,13,15115,0,21211]
[21,15215,11,15222,22,15233,14,15242,24,15261,0,21212]
[21,15374,11,15392,22,15408,14,15417,13,15428,0,21211]
[21,15546,11,15555,22,15569,14,15578,13,15605,0,21211]
[21,15704,11,15724,22,15741,14,15750,13,15765,0,21211]
[21,15872,11,15880,11,15888,12,15907,24,15922,0,21112]
[21,16025,11,16032,11,16045,21,16060,11,16074,1,21121]
[21,16299,22,16323,24,16340,14,16369,24,16380,0,22212]
[21,16481,11,16490,11,16503,21,16513,11,16543,1,21121]
[21,16633,22,16637,13,16665,23,16682,13,16693,0,22121]
[21,16796,22,16830,13,16842,23,16852,13,16862,0,22121]
[21,16959,22,16963,13,16971,14,16982,24,16993,0,22112]
[21,17100,11,17114,22,17125,14,17145,13,17154,0,21211]
[21,17253,11,17280,11,17308,21,17322,11,17337,1,21121]
[21,17433,11,17444,11,17471,21,17486,11,17500,1,21121]
[21,17609,11,17617,22,17628,14,17640,13,17648,0,21211]
[21,17749,11,17758,11,17781,21,17794,11,17814,1,21121]
[21,17942,11,17950,11,17961,12,17990,13,18001,0,21111]
[21,18143,11,18154,22,18164,14,18171,13,18187,0,21211]
[21,18288,22,18346,24,18349,14,18365,24,18378,0,22212]
[21,18487,11,18495,11,18507,21,18518,11,18532,1,21121]
[21,18632,11,18644,11,18660,21,18672,11,18684,1,21121]
[21,18777,11,18785,11,18798,21,18812,11,18834,1,21121]
[21,18950,11,18983,22,18996,23,19019,24,19044,0,21222]
[12,19179,24,19194,13,19209,23,19227,24,19254,0,12122]
[21,19352,22,19355,13,19363,14,19376,24,19392,0,22112]
[21,19490,11,19524,22,19535,23,19563,13,19571,0,21221]
[21,19675,11,19683,22,19732,14,19748,13,19767,0,21211]
[21,19865,11,19873,11,19885,12,19892,24,19904,0,21112]
[12,20028,24,20051,24,20066,14,20082,24,20093,0,12212]
[12,20238,24,20264,13,20304,14,20330,24,20345,0,12112]
[21,20442,11,20449,11,20462,12,20473,24,20486,0,21112]
[12,20598,13,20609,13,20621,23,20635,13,20643,0,11121]
[21,20742,22,20753,13,20789,23,20798,13,20819,0,22121]
[21,20919,11,20928,11,20950,21,20964,11,20977,1,21121]
[21,21154,11,21168,11,21191,12,21202,24,21217,0,21112]
[21,21313,22,21343,13,21352,23,21364,13,21376,0,22121]
[21,21510,11,21524,22,21536,14,21548,13,21556,0,21211]
[21,21654,22,21669,13,21678,23,21689,13,21700,0,22121]
[21,21806,11,21819,11,21862,21,21876,11,21897,1,21121]
[21,22026,11,22040,11,22058,21,22091,11,22106,1,21121]
[21,22198,22,22220,13,22236,23,22246,13,22254,0,22121]
[21,22376,11,22392,22,22407,14,22419,13,22426,0,21211]
[21,22535,11,22543,22,22553,14,22573,24,22587,0,21212]
[21,22687,11,22702,22,22715,14,22730,13,22738,0,21211]
[21,22841,11,22851,22,22862,14,22874,13,22882,0,21211]
[12,23082,13,23099,24,23111,14,23121,13,23164,0,11211]
[21,23262,11,23270,11,23283,21,23294,11,23304,1,21121]
[21,23450,22,23563,13,23576,23,23587,13,23600,0,22121]
[21,23702,11,23709,22,23733,14,23751,24,23764,0,21212]
[21,23864,11,23879,22,23891,14,23903,13,23935,null,21211]

{"sheet":"!MA26A10.010","index":29,"n_rows":151,"n_cols":48,"rows_kept":151,"cut":false,"hidden":false,"merged":[[4,39,4,42],[5,39,5,40],[4,44,4,47],[5,44,5,45],[4,24,4,27],[5,24,5,25],[4,29,4,32],[5,29,5,30],[4,34,4,37],[5,34,5,35],[1,1,1,2],[5,13,5,14],[42,13,42,14],[43,13,43,14],[4,19,4,22],[5,19,5,20]]}
["Report for:!MA26A10.010"]
["Date:","<date>"]
["Hen:","<hen>",null,null,null,"Correct Sequence",{"$f":"Start!J2","v":21121},null,null,null,null,null,null,null,null,"Total Sequences in Data",{"$f":"4994-COUNTBLANK(L7:L5000)","v":145},null,null,null,null,"Total Sequences in Block Data",{"$f":"COUNTA(L7:L30)","v":24},null,null,null,"Total Sequences in Block Data",{"$f":"COUNTA(L31:L54)","v":24},null,null,null,"Total Sequences in Block Data",{"$f":"COUNTA(L55:L79)","v":25},null,null,null,"Total Sequences in Block Data",{"$f":"COUNTA(L80:L103)","v":24},null,null,null,"Total Sequences in Block Data",{"$f":"COUNTA(L104:L127)","v":24},null,null,null,"Total Sequences in Block Data",{"$f":"COUNTA(L128:L151)","v":24}]
[null,null,null,null,null,null,null,null,null,null,null,null,null,null,null,"Total Sequences in Summary",{"$f":"SUM(O7:O38)","v":144},null,null,null,null,"Total Sequences in Block Summary",{"$f":"SUM(U7:U38)","v":24},null,null,null,"Total Sequences in Block Summary",{"$f":"SUM(Z7:Z38)","v":24},null,null,null,"Total Sequences in Block Summary",{"$f":"SUM(AE7:AE38)","v":25},null,null,null,"Total Sequences in Block Summary",{"$f":"SUM(AJ7:AJ38)","v":24},null,null,null,"Total Sequences in Block Summary",{"$f":"SUM(AO7:AO38)","v":24},null,null,null,"Total Sequences in Block Summary",{"$f":"SUM(AT7:AT38)","v":23}]
[null,null,null,null,null,null,null,null,null,null,null,null,null,null,null,null,null,null,null,"Block 1",null,null,null,null,"Block 2",null,null,null,null,"Block 3",null,null,null,null,"Block 4",null,null,null,null,"Block 5",null,null,null,null,"Block 6"]
["Sequence\nComponent\n1","Time\n1","Sequence\nComponent\n2","Time\n2","Sequence\nComponent\n3","Time\n3","Sequence\nComponent\n4","Time\n4","Sequence\nComponent\n5","Time\n5","Correct?\n0=No 1=Yes","Sequence",null,"Frequency",null,"Relative Frequency","Variability",null,null,"Frequency",null,"Relative Frequency","Variability",null,"Frequency",null,"Relative Frequency","Variability",null,"Frequency",null,"Relative Frequency","Variability",null,"Frequency",null,"Relative Frequency","Variability",null,"Frequency",null,"Relative Frequency","Variability",null,"Frequency",null,"Relative Frequency","Variability"]
[12,12,24,32,24,182,14,196,24,212,0,12212,null,11111,{"$f":"COUNTIF($L$7:$L$500,N7)","v":0},{"$f":"O7/$Q$4","v":0},{"$f":"IF(P7=0,0,(P7*((LOG(P7))/LOG(2))))","v":0},null,null,{"$f":"N7","v":11111},{"$f":"COUNTIF(L7:L30,T7)","v":0},{"$f":"U7/(W4-U25)","v":0},{"$f":"IF(V7=0,0,(V7*((LOG(V7))/LOG(2))))","v":0},null,{"$f":"N7","v":11111},{"$f":"COUNTIF(L31:L54,Y7)","v":0},{"$f":"Z7/(AB4-Z25)","v":0},{"$f":"IF(AA7=0,0,(AA7*((LOG(AA7))/LOG(2))))","v":0},null,{"$f":"N7","v":11111},{"$f":"COUNTIF(L55:L79,AD7)","v":0},{"$f":"AE7/(AG4-AE25)","v":0},{"$f":"IF(AF7=0,0,(AF7*((LOG(AF7))/LOG(2))))","v":0},null,{"$f":"N7","v":11111},{"$f":"COUNTIF(L80:L103,AI7)","v":0},{"$f":"AJ7/(AL4-AJ25)","v":0},{"$f":"IF(AK7=0,0,(AK7*((LOG(AK7))/LOG(2))))","v":0},null,{"$f":"N7","v":11111},{"$f":"COUNTIF(L104:L127,AN7)","v":0},{"$f":"AO7/(AQ4-AO25)","v":0},{"$f":"IF(AP7=0,0,(AP7*((LOG(AP7))/LOG(2))))","v":0},null,{"$f":"N7","v":11111},{"$f":"COUNTIF(L128:L151,AS7)","v":0},{"$f":"AT7/(AV4-AT25)","v":0},{"$f":"IF(AU7=0,0,(AU7*((LOG(AU7))/LOG(2))))","v":0}]
[12,312,13,321,24,333,14,357,24,391,0,11212,null,11112,{"$f":"COUNTIF($L$7:$L$500,N8)","v":2},{"$f":"O8/$Q$4","v":1.3888888888888888E-2},{"$f":"IF(P8=0,0,(P8*((LOG(P8))/LOG(2))))","v":-8.5693402797809889E-2},null,null,{"$f":"N8","v":11112},{"$f":"COUNTIF(L7:L30,T8)","v":0},{"$f":"U8/(W4-U25)","v":0},{"$f":"IF(V8=0,0,(V8*((LOG(V8))/LOG(2))))","v":0},null,{"$f":"N8","v":11112},{"$f":"COUNTIF(L31:L54,Y8)","v":0},{"$f":"Z8/(AB4-Z25)","v":0},{"$f":"IF(AA8=0,0,(AA8*((LOG(AA8))/LOG(2))))","v":0},null,{"$f":"N8","v":11112},{"$f":"COUNTIF(L55:L79,AD8)","v":0},{"$f":"AE8/(AG4-AE25)","v":0},{"$f":"IF(AF8=0,0,(AF8*((LOG(AF8))/LOG(2))))","v":0},null,{"$f":"N8","v":11112},{"$f":"COUNTIF(L80:L103,AI8)","v":0},{"$f":"AJ8/(AL4-AJ25)","v":0},{"$f":"IF(AK8=0,0,(AK8*((LOG(AK8))/LOG(2))))","v":0},null,{"$f":"N8","v":11112},{"$f":"COUNTIF(L104:L127,AN8)","v":0},{"$f":"AO8/(AQ4-AO25)","v":0},{"$f":"IF(AP8=0,0,(AP8*((LOG(AP8))/LOG(2))))","v":0},null,{"$f":"N8","v":11112},{"$f":"COUNTIF(L128:L151,AS8)","v":2},{"$f":"AT8/(AV4-AT25)","v":0.1},{"$f":"IF(AU8=0,0,(AU8*((LOG(AU8))/LOG(2))))","v":-0.33219280948873625}]
[21,496,22,511,13,526,23,536,13,548,0,22121,null,11121,{"$f":"COUNTIF($L$7:$L$500,N9)","v":7},{"$f":"O9/$Q$4","v":4.8611111111111112E-2},{"$f":"IF(P9=0,0,(P9*((LOG(P9))/LOG(2))))","v":-0.21206937885897889},null,null,{"$f":"N9","v":11121},{"$f":"COUNTIF(L7:L30,T9)","v":0},{"$f":"U9/(W4-U25)","v":0},{"$f":"IF(V9=0,0,(V9*((LOG(V9))/LOG(2))))","v":0},null,{"$f":"N9","v":11121},{"$f":"COUNTIF(L31:L54,Y9)","v":1},{"$f":"Z9/(AB4-Z25)","v":0.05},{"$f":"IF(AA9=0,0,(AA9*((LOG(AA9))/LOG(2))))","v":-0.21609640474436814},null,{"$f":"N9","v":11121},{"$f":"COUNTIF(L55:L79,AD9)","v":4},{"$f":"AE9/(AG4-AE25)","v":0.21052631578947367},{"$f":"IF(AF9=0,0,(AF9*((LOG(AF9))/LOG(2))))","v":-0.47324789756707064},null,{"$f":"N9","v":11121},{"$f":"COUNTIF(L80:L103,AI9)","v":1},{"$f":"AJ9/(AL4-AJ25)","v":5.2631578947368418E-2},{"$f":"IF(AK9=0,0,(AK9*((LOG(AK9))/LOG(2))))","v":-0.22357513228650452},null,{"$f":"N9","v":11121},{"$f":"COUNTIF(L104:L127,AN9)","v":0},{"$f":"AO9/(AQ4-AO25)","v":0},{"$f":"IF(AP9=0,0,(AP9*((LOG(AP9))/LOG(2))))","v":0},null,{"$f":"N9","v":11121},{"$f":"COUNTIF(L128:L151,AS9)","v":1},{"$f":"AT9/(AV4-AT25)","v":0.05},{"$f":"IF(AU9=0,0,(AU9*((LOG(AU9))/LOG(2))))","v":-0.21609640474436814}]
[21,646,22,675,13,687,23,700,13,714,0,22121,null,11122,{"$f":"COUNTIF($L$7:$L$500,N10)","v":0},{"$f":"O10/$Q$4","v":0},{"$f":"IF(P10=0,0,(P10*((LOG(P10))/LOG(2))))","v":0},null,null,{"$f":"N10","v":11122},{"$f":"COUNTIF(L7:L30,T10)","v":0},{"$f":"U10/(W4-U25)","v":0},{"$f":"IF(V10=0,0,(V10*((LOG(V10))/LOG(2))))","v":0},null,{"$f":"N10","v":11122},{"$f":"COUNTIF(L31:L54,Y10)","v":0},{"$f":"Z10/(AB4-Z25)","v":0},{"$f":"IF(AA10=0,0,(AA10*((LOG(AA10))/LOG(2))))","v":0},null,{"$f":"N10","v":11122},{"$f":"COUNTIF(L55:L79,AD10)","v":0},{"$f":"AE10/(AG4-AE25)","v":0},{"$f":"IF(AF10=0,0,(AF10*((LOG(AF10))/LOG(2))))","v":0},null,{"$f":"N10","v":11122},{"$f":"COUNTIF(L80:L103,AI10)","v":0},{"$f":"AJ10/(AL4-AJ25)","v":0},{"$f":"IF(AK10=0,0,(AK10*((LOG(AK10))/LOG(2))))","v":0},null,{"$f":"N10","v":11122},{"$f":"COUNTIF(L104:L127,AN10)","v":0},{"$f":"AO10/(AQ4-AO25)","v":0},{"$f":"IF(AP10=0,0,(AP10*((LOG(AP10))/LOG(2))))","v":0},null,{"$f":"N10","v":11122},{"$f":"COUNTIF(L128:L151,AS10)","v":0},{"$f":"AT10/(AV4-AT25)","v":0},{"$f":"IF(AU10=0,0,(AU10*((LOG(AU10))/LOG(2))))","v":0}]
[21,813,11,821,22,831,14,841,13,865,0,21211,null,11211,{"$f":"COUNTIF($L$7:$L$500,N11)","v":11},{"$f":"O11/$Q$4","v":7.6388888888888895E-2},{"$f":"IF(P11=0,0,(P11*((LOG(P11))/LOG(2))))","v":-0.28344046674204981},null,null,{"$f":"N11","v":11211},{"$f":"COUNTIF(L7:L30,T11)","v":2},{"$f":"U11/(W4-U25)","v":9.0909090909090912E-2},{"$f":"IF(V11=0,0,(V11*((LOG(V11))/LOG(2))))","v":-0.31449378351248153},null,{"$f":"N11","v":11211},{"$f":"COUNTIF(L31:L54,Y11)","v":2},{"$f":"Z11/(AB4-Z25)","v":0.1},{"$f":"IF(AA11=0,0,(AA11*((LOG(AA11))/LOG(2))))","v":-0.33219280948873625},null,{"$f":"N11","v":11211},{"$f":"COUNTIF(L55:L79,AD11)","v":1},{"$f":"AE11/(AG4-AE25)","v":5.2631578947368418E-2},{"$f":"IF(AF11=0,0,(AF11*((LOG(AF11))/LOG(2))))","v":-0.22357513228650452},null,{"$f":"N11","v":11211},{"$f":"COUNTIF(L80:L103,AI11)","v":2},{"$f":"AJ11/(AL4-AJ25)","v":0.10526315789473684},{"$f":"IF(AK11=0,0,(AK11*((LOG(AK11))/LOG(2))))","v":-0.34188710667827216},null,{"$f":"N11","v":11211},{"$f":"COUNTIF(L104:L127,AN11)","v":2},{"$f":"AO11/(AQ4-AO25)","v":0.1},{"$f":"IF(AP11=0,0,(AP11*((LOG(AP11))/LOG(2))))","v":-0.33219280948873625},null,{"$f":"N11","v":11211},{"$f":"COUNTIF(L128:L151,AS11)","v":2},{"$f":"AT11/(AV4-AT25)","v":0.1},{"$f":"IF(AU11=0,0,(AU11*((LOG(AU11))/LOG(2))))","v":-0.33219280948873625}]
[21,965,11,983,22,998,14,1009,24,1025,0,21212,null,11212,{"$f":"COUNTIF($L$7:$L$500,N12)","v":4},{"$f":"O12/$Q$4","v":2.7777777777777776E-2},{"$f":"IF(P12=0,0,(P12*((LOG(P12))/LOG(2))))","v":-0.14360902781784199},null,null,{"$f":"N12","v":11212},{"$f":"COUNTIF(L7:L30,T12)","v":2},{"$f":"U12/(W4-U25)","v":9.0909090909090912E-2},{"$f":"IF(V12=0,0,(V12*((LOG(V12))/LOG(2))))","v":-0.31449378351248153},null,{"$f":"N12","v":11212},{"$f":"COUNTIF(L31:L54,Y12)","v":0},{"$f":"Z12/(AB4-Z25)","v":0},{"$f":"IF(AA12=0,0,(AA12*((LOG(AA12))/LOG(2))))","v":0},null,{"$f":"N12","v":11212},{"$f":"COUNTIF(L55:L79,AD12)","v":1},{"$f":"AE12/(AG4-AE25)","v":5.2631578947368418E-2},{"$f":"IF(AF12=0,0,(AF12*((LOG(AF12))/LOG(2))))","v":-0.22357513228650452},null,{"$f":"N12","v":11212},{"$f":"COUNTIF(L80:L103,AI12)","v":0},{"$f":"AJ12/(AL4-AJ25)","v":0},{"$f":"IF(AK12=0,0,(AK12*((LOG(AK12))/LOG(2))))","v":0},null,{"$f":"N12","v":11212},{"$f":"COUNTIF(L104:L127,AN12)","v":0},{"$f":"AO12/(AQ4-AO25)","v":0},{"$f":"IF(AP12=0,0,(AP12*((LOG(AP12))/LOG(2))))","v":0},null,{"$f":"N12","v":11212},{"$f":"COUNTIF(L128:L151,AS12)","v":1},{"$f":"AT12/(AV4-AT25)","v":0.05},{"$f":"IF(AU12=0,0,(AU12*((LOG(AU12))/LOG(2))))","v":-0.21609640474436814}]
[21,1132,11,1140,22,1151,14,1164,24,1177,0,21212,null,11221,{"$f":"COUNTIF($L$7:$L$500,N13)","v":3},{"$f":"O13/$Q$4","v":2.0833333333333332E-2},{"$f":"IF(P13=0,0,(P13*((LOG(P13))/LOG(2))))","v":-0.11635338543169074},null,null,{"$f":"N13","v":11221},{"$f":"COUNTIF(L7:L30,T13)","v":0},{"$f":"U13/(W4-U25)","v":0},{"$f":"IF(V13=0,0,(V13*((LOG(V13))/LOG(2))))","v":0},null,{"$f":"N13","v":11221},{"$f":"COUNTIF(L31:L54,Y13)","v":0},{"$f":"Z13/(AB4-Z25)","v":0},{"$f":"IF(AA13=0,0,(AA13*((LOG(AA13))/LOG(2))))","v":0},null,{"$f":"N13","v":11221},{"$f":"COUNTIF(L55:L79,AD13)","v":0},{"$f":"AE13/(AG4-AE25)","v":0},{"$f":"IF(AF13=0,0,(AF13*((LOG(AF13))/LOG(2))))","v":0},null,{"$f":"N13","v":11221},{"$f":"COUNTIF(L80:L103,AI13)","v":0},{"$f":"AJ13/(AL4-AJ25)","v":0},{"$f":"IF(AK13=0,0,(AK13*((LOG(AK13))/LOG(2))))","v":0},null,{"$f":"N13","v":11221},{"$f":"COUNTIF(L104:L127,AN13)","v":2},{"$f":"AO13/(AQ4-AO25)","v":0.1},{"$f":"IF(AP13=0,0,(AP13*((LOG(AP13))/LOG(2))))","v":-0.33219280948873625},null,{"$f":"N13","v":11221},{"$f":"COUNTIF(L128:L151,AS13)","v":1},{"$f":"AT13/(AV4-AT25)","v":0.05},{"$f":"IF(AU13=0,0,(AU13*((LOG(AU13))/LOG(2))))","v":-0.21609640474436814}]
[12,1305,13,1319,24,1331,14,1342,24,1351,0,11212,null,11222,{"$f":"COUNTIF($L$7:$L$500,N14)","v":0},{"$f":"O14/$Q$4","v":0},{"$f":"IF(P14=0,0,(P14*((LOG(P14))/LOG(2))))","v":0},null,null,{"$f":"N14","v":11222},{"$f":"COUNTIF(L7:L30,T14)","v":0},{"$f":"U14/(W4-U25)","v":0},{"$f":"IF(V14=0,0,(V14*((LOG(V14))/LOG(2))))","v":0},null,{"$f":"N14","v":11222},{"$f":"COUNTIF(L31:L54,Y14)","v":0},{"$f":"Z14/(AB4-Z25)","v":0},{"$f":"IF(AA14=0,0,(AA14*((LOG(AA14))/LOG(2))))","v":0},null,{"$f":"N14","v":11222},{"$f":"COUNTIF(L55:L79,AD14)","v":0},{"$f":"AE14/(AG4-AE25)","v":0},{"$f":"IF(AF14=0,0,(AF14*((LOG(AF14))/LOG(2))))","v":0},null,{"$f":"N14","v":11222},{"$f":"COUNTIF(L80:L103,AI14)","v":0},{"$f":"AJ14/(AL4-AJ25)","v":0},{"$f":"IF(AK14=0,0,(AK14*((LOG(AK14))/LOG(2))))","v":0},null,{"$f":"N14","v":11222},{"$f":"COUNTIF(L104:L127,AN14)","v":0},{"$f":"AO14/(AQ4-AO25)","v":0},{"$f":"IF(AP14=0,0,(AP14*((LOG(AP14))/LOG(2))))","v":0},null,{"$f":"N14","v":11222},{"$f":"COUNTIF(L128:L151,AS14)","v":0},{"$f":"AT14/(AV4-AT25)","v":0},{"$f":"IF(AU14=0,0,(AU14*((LOG(AU14))/LOG(2))))","v":0}]
[21,1458,11,1466,22,1476,14,1484,13,1489,0,21211,null,12111,{"$f":"COUNTIF($L$7:$L$500,N15)","v":1},{"$f":"O15/$Q$4","v":6.9444444444444441E-3},{"$f":"IF(P15=0,0,(P15*((LOG(P15))/LOG(2))))","v":-4.9791145843349392E-2},null,null,{"$f":"N15","v":12111},{"$f":"COUNTIF(L7:L30,T15)","v":0},{"$f":"U15/(W4-U25)","v":0},{"$f":"IF(V15=0,0,(V15*((LOG(V15))/LOG(2))))","v":0},null,{"$f":"N15","v":12111},{"$f":"COUNTIF(L31:L54,Y15)","v":0},{"$f":"Z15/(AB4-Z25)","v":0},{"$f":"IF(AA15=0,0,(AA15*((LOG(AA15))/LOG(2))))","v":0},null,{"$f":"N15","v":12111},{"$f":"COUNTIF(L55:L79,AD15)","v":0},{"$f":"AE15/(AG4-AE25)","v":0},{"$f":"IF(AF15=0,0,(AF15*((LOG(AF15))/LOG(2))))","v":0},null,{"$f":"N15","v":12111},{"$f":"COUNTIF(L80:L103,AI15)","v":0},{"$f":"AJ15/(AL4-AJ25)","v":0},{"$f":"IF(AK15=0,0,(AK15*((LOG(AK15))/LOG(2))))","v":0},null,{"$f":"N15","v":12111},{"$f":"COUNTIF(L104:L127,AN15)","v":0},{"$f":"AO15/(AQ4-AO25)","v":0},{"$f":"IF(AP15=0,0,(AP15*((LOG(AP15))/LOG(2))))","v":0},null,{"$f":"N15","v":12111},{"$f":"COUNTIF(L128:L151,AS15)","v":1},{"$f":"AT15/(AV4-AT25)","v":0.05},{"$f":"IF(AU15=0,0,(AU15*((LOG(AU15))/LOG(2))))","v":-0.21609640474436814}]
[21,1587,22,1591,13,1599,23,1611,13,1634,0,22121,null,12112,{"$f":"COUNTIF($L$7:$L$500,N16)","v":0},{"$f":"O16/$Q$4","v":0},{"$f":"IF(P16=0,0,(P16*((LOG(P16))/LOG(2))))","v":0},null,null,{"$f":"N16","v":12112},{"$f":"COUNTIF(L7:L30,T16)","v":0},{"$f":"U16/(W4-U25)","v":0},{"$f":"IF(V16=0,0,(V16*((LOG(V16))/LOG(2))))","v":0},null,{"$f":"N16","v":12112},{"$f":"COUNTIF(L31:L54,Y16)","v":0},{"$f":"Z16/(AB4-Z25)","v":0},{"$f":"IF(AA16=0,0,(AA16*((LOG(AA16))/LOG(2))))","v":0},null,{"$f":"N16","v":12112},{"$f":"COUNTIF(L55:L79,AD16)","v":0},{"$f":"AE16/(AG4-AE25)","v":0},{"$f":"IF(AF16=0,0,(AF16*((LOG(AF16))/LOG(2))))","v":0},null,{"$f":"N16","v":12112},{"$f":"COUNTIF(L80:L103,AI16)","v":0},{"$f":"AJ16/(AL4-AJ25)","v":0},{"$f":"IF(AK16=0,0,(AK16*((LOG(AK16))/LOG(2))))","v":0},null,{"$f":"N16","v":12112},{"$f":"COUNTIF(L104:L127,AN16)","v":0},{"$f":"AO16/(AQ4-AO25)","v":0},{"$f":"IF(AP16=0,0,(AP16*((LOG(AP16))/LOG(2))))","v":0},null,{"$f":"N16","v":12112},{"$f":"COUNTIF(L128:L151,AS16)","v":0},{"$f":"AT16/(AV4-AT25)","v":0},{"$f":"IF(AU16=0,0,(AU16*((LOG(AU16))/LOG(2))))","v":0}]
[21,1732,22,1735,13,1746,23,1758,13,1766,0,22121,null,12121,{"$f":"COUNTIF($L$7:$L$500,N17)","v":2},{"$f":"O17/$Q$4","v":1.3888888888888888E-2},{"$f":"IF(P17=0,0,(P17*((LOG(P17))/LOG(2))))","v":-8.5693402797809889E-2},null,null,{"$f":"N17","v":12121},{"$f":"COUNTIF(L7:L30,T17)","v":1},{"$f":"U17/(W4-U25)","v":4.5454545454545456E-2},{"$f":"IF(V17=0,0,(V17*((LOG(V17))/LOG(2))))","v":-0.20270143721078623},null,{"$f":"N17","v":12121},{"$f":"COUNTIF(L31:L54,Y17)","v":0},{"$f":"Z17/(AB4-Z25)","v":0},{"$f":"IF(AA17=0,0,(AA17*((LOG(AA17))/LOG(2))))","v":0},null,{"$f":"N17","v":12121},{"$f":"COUNTIF(L55:L79,AD17)","v":0},{"$f":"AE17/(AG4-AE25)","v":0},{"$f":"IF(AF17=0,0,(AF17*((LOG(AF17))/LOG(2))))","v":0},null,{"$f":"N17","v":12121},{"$f":"COUNTIF(L80:L103,AI17)","v":1},{"$f":"AJ17/(AL4-AJ25)","v":5.2631578947368418E-2},{"$f":"IF(AK17=0,0,(AK17*((LOG(AK17))/LOG(2))))","v":-0.22357513228650452},null,{"$f":"N17","v":12121},{"$f":"COUNTIF(L104:L127,AN17)","v":0},{"$f":"AO17/(AQ4-AO25)","v":0},{"$f":"IF(AP17=0,0,(AP17*((LOG(AP17))/LOG(2))))","v":0},null,{"$f":"N17","v":12121},{"$f":"COUNTIF(L128:L151,AS17)","v":0},{"$f":"AT17/(AV4-AT25)","v":0},{"$f":"IF(AU17=0,0,(AU17*((LOG(AU17))/LOG(2))))","v":0}]
[12,1867,24,1882,13,1892,23,1905,13,1920,0,12121,null,12122,{"$f":"COUNTIF($L$7:$L$500,N18)","v":0},{"$f":"O18/$Q$4","v":0},{"$f":"IF(P18=0,0,(P18*((LOG(P18))/LOG(2))))","v":0},null,null,{"$f":"N18","v":12122},{"$f":"COUNTIF(L7:L30,T18)","v":0},{"$f":"U18/(W4-U25)","v":0},{"$f":"IF(V18=0,0,(V18*((LOG(V18))/LOG(2))))","v":0},null,{"$f":"N18","v":12122},{"$f":"COUNTIF(L31:L54,Y18)","v":0},{"$f":"Z18/(AB4-Z25)","v":0},{"$f":"IF(AA18=0,0,(AA18*((LOG(AA18))/LOG(2))))","v":0},null,{"$f":"N18","v":12122},{"$f":"COUNTIF(L55:L79,AD18)","v":0},{"$f":"AE18/(AG4-AE25)","v":0},{"$f":"IF(AF18=0,0,(AF18*((LOG(AF18))/LOG(2))))","v":0},null,{"$f":"N18","v":12122},{"$f":"COUNTIF(L80:L103,AI18)","v":0},{"$f":"AJ18/(AL4-AJ25)","v":0},{"$f":"IF(AK18=0,0,(AK18*((LOG(AK18))/LOG(2))))","v":0},null,{"$f":"N18","v":12122},{"$f":"COUNTIF(L104:L127,AN18)","v":0},{"$f":"AO18/(AQ4-AO25)","v":0},{"$f":"IF(AP18=0,0,(AP18*((LOG(AP18))/LOG(2))))","v":0},null,{"$f":"N18","v":12122},{"$f":"COUNTIF(L128:L151,AS18)","v":0},{"$f":"AT18/(AV4-AT25)","v":0},{"$f":"IF(AU18=0,0,(AU18*((LOG(AU18))/LOG(2))))","v":0}]
[21,2020,11,2028,22,2039,14,2049,13,2057,0,21211,null,12211,{"$f":"COUNTIF($L$7:$L$500,N19)","v":0},{"$f":"O19/$Q$4","v":0},{"$f":"IF(P19=0,0,(P19*((LOG(P19))/LOG(2))))","v":0},null,null,{"$f":"N19","v":12211},{"$f":"COUNTIF(L7:L30,T19)","v":0},{"$f":"U19/(W4-U25)","v":0},{"$f":"IF(V19=0,0,(V19*((LOG(V19))/LOG(2))))","v":0},null,{"$f":"N19","v":12211},{"$f":"COUNTIF(L31:L54,Y19)","v":0},{"$f":"Z19/(AB4-Z25)","v":0},{"$f":"IF(AA19=0,0,(AA19*((LOG(AA19))/LOG(2))))","v":0},null,{"$f":"N19","v":12211},{"$f":"COUNTIF(L55:L79,AD19)","v":0},{"$f":"AE19/(AG4-AE25)","v":0},{"$f":"IF(AF19=0,0,(AF19*((LOG(AF19))/LOG(2))))","v":0},null,{"$f":"N19","v":12211},{"$f":"COUNTIF(L80:L103,AI19)","v":0},{"$f":"AJ19/(AL4-AJ25)","v":0},{"$f":"IF(AK19=0,0,(AK19*((LOG(AK19))/LOG(2))))","v":0},null,{"$f":"N19","v":12211},{"$f":"COUNTIF(L104:L127,AN19)","v":0},{"$f":"AO19/(AQ4-AO25)","v":0},{"$f":"IF(AP19=0,0,(AP19*((LOG(AP19))/LOG(2))))","v":0},null,{"$f":"N19","v":12211},{"$f":"COUNTIF(L128:L151,AS19)","v":0},{"$f":"AT19/(AV4-AT25)","v":0},{"$f":"IF(AU19=0,0,(AU19*((LOG(AU19))/LOG(2))))","v":0}]
[21,2154,11,2166,22,2175,14,2184,13,2209,0,21211,null,12212,{"$f":"COUNTIF($L$7:$L$500,N20)","v":2},{"$f":"O20/$Q$4","v":1.3888888888888888E-2},{"$f":"IF(P20=0,0,(P20*((LOG(P20))/LOG(2))))","v":-8.5693402797809889E-2},null,null,{"$f":"N20","v":12212},{"$f":"COUNTIF(L7:L30,T20)","v":1},{"$f":"U20/(W4-U25)","v":4.5454545454545456E-2},{"$f":"IF(V20=0,0,(V20*((LOG(V20))/LOG(2))))","v":-0.20270143721078623},null,{"$f":"N20","v":12212},{"$f":"COUNTIF(L31:L54,Y20)","v":0},{"$f":"Z20/(AB4-Z25)","v":0},{"$f":"IF(AA20=0,0,(AA20*((LOG(AA20))/LOG(2))))","v":0},null,{"$f":"N20","v":12212},{"$f":"COUNTIF(L55:L79,AD20)","v":0},{"$f":"AE20/(AG4-AE25)","v":0},{"$f":"IF(AF20=0,0,(AF20*((LOG(AF20))/LOG(2))))","v":0},null,{"$f":"N20","v":12212},{"$f":"COUNTIF(L80:L103,AI20)","v":0},{"$f":"AJ20/(AL4-AJ25)","v":0},{"$f":"IF(AK20=0,0,(AK20*((LOG(AK20))/LOG(2))))","v":0},null,{"$f":"N20","v":12212},{"$f":"COUNTIF(L104:L127,AN20)","v":1},{"$f":"AO20/(AQ4-AO25)","v":0.05},{"$f":"IF(AP20=0,0,(AP20*((LOG(AP20))/LOG(2))))","v":-0.21609640474436814},null,{"$f":"N20","v":12212},{"$f":"COUNTIF(L128:L151,AS20)","v":0},{"$f":"AT20/(AV4-AT25)","v":0},{"$f":"IF(AU20=0,0,(AU20*((LOG(AU20))/LOG(2))))","v":0}]
[21,2312,11,2320,11,2336,21,2353,11,2369,1,21121,null,12221,{"$f":"COUNTIF($L$7:$L$500,N21)","v":0},{"$f":"O21/$Q$4","v":0},{"$f":"IF(P21=0,0,(P21*((LOG(P21))/LOG(2))))","v":0},null,null,{"$f":"N21","v":12221},{"$f":"COUNTIF(L7:L30,T21)","v":0},{"$f":"U21/(W4-U25)","v":0},{"$f":"IF(V21=0,0,(V21*((LOG(V21))/LOG(2))))","v":0},null,{"$f":"N21","v":12221},{"$f":"COUNTIF(L31:L54,Y21)","v":0},{"$f":"Z21/(AB4-Z25)","v":0},{"$f":"IF(AA21=0,0,(AA21*((LOG(AA21))/LOG(2))))","v":0},null,{"$f":"N21","v":12221},{"$f":"COUNTIF(L55:L79,AD21)","v":0},{"$f":"AE21/(AG4-AE25)","v":0},{"$f":"IF(AF21=0,0,(AF21*((LOG(AF21))/LOG(2))))","v":0},null,{"$f":"N21","v":12221},{"$f":"COUNTIF(L80:L103,AI21)","v":0},{"$f":"AJ21/(AL4-AJ25)","v":0},{"$f":"IF(AK21=0,0,(AK21*((LOG(AK21))/LOG(2))))","v":0},null,{"$f":"N21","v":12221},{"$f":"COUNTIF(L104:L127,AN21)","v":0},{"$f":"AO21/(AQ4-AO25)","v":0},{"$f":"IF(AP21=0,0,(AP21*((LOG(AP21))/LOG(2))))","v":0},null,{"$f":"N21","v":12221},{"$f":"COUNTIF(L128:L151,AS21)","v":0},{"$f":"AT21/(AV4-AT25)","v":0},{"$f":"IF(AU21=0,0,(AU21*((LOG(AU21))/LOG(2))))","v":0}]
[21,2487,11,2499,22,2508,14,2519,24,2532,0,21212,null,12222,{"$f":"COUNTIF($L$7:$L$500,N22)","v":1},{"$f":"O22/$Q$4","v":6.9444444444444441E-3},{"$f":"IF(P22=0,0,(P22*((LOG(P22))/LOG(2))))","v":-4.9791145843349392E-2},null,null,{"$f":"N22","v":12222},{"$f":"COUNTIF(L7:L30,T22)","v":0},{"$f":"U22/(W4-U25)","v":0},{"$f":"IF(V22=0,0,(V22*((LOG(V22))/LOG(2))))","v":0},null,{"$f":"N22","v":12222},{"$f":"COUNTIF(L31:L54,Y22)","v":0},{"$f":"Z22/(AB4-Z25)","v":0},{"$f":"IF(AA22=0,0,(AA22*((LOG(AA22))/LOG(2))))","v":0},null,{"$f":"N22","v":12222},{"$f":"COUNTIF(L55:L79,AD22)","v":0},{"$f":"AE22/(AG4-AE25)","v":0},{"$f":"IF(AF22=0,0,(AF22*((LOG(AF22))/LOG(2))))","v":0},null,{"$f":"N22","v":12222},{"$f":"COUNTIF(L80:L103,AI22)","v":0},{"$f":"AJ22/(AL4-AJ25)","v":0},{"$f":"IF(AK22=0,0,(AK22*((LOG(AK22))/LOG(2))))","v":0},null,{"$f":"N22","v":12222},{"$f":"COUNTIF(L104:L127,AN22)","v":1},{"$f":"AO22/(AQ4-AO25)","v":0.05},{"$f":"IF(AP22=0,0,(AP22*((LOG(AP22))/LOG(2))))","v":-0.21609640474436814},null,{"$f":"N22","v":12222},{"$f":"COUNTIF(L128:L151,AS22)","v":0},{"$f":"AT22/(AV4-AT25)","v":0},{"$f":"IF(AU22=0,0,(AU22*((LOG(AU22))/LOG(2))))","v":0}]
[21,2631,22,2635,13,2644,23,2656,13,2668,0,22121,null,21111,{"$f":"COUNTIF($L$7:$L$500,N23)","v":8},{"$f":"O23/$Q$4","v":5.5555555555555552E-2},{"$f":"IF(P23=0,0,(P23*((LOG(P23))/LOG(2))))","v":-0.23166250008012845},null,null,{"$f":"N23","v":21111},{"$f":"COUNTIF(L7:L30,T23)","v":1},{"$f":"U23/(W4-U25)","v":4.5454545454545456E-2},{"$f":"IF(V23=0,0,(V23*((LOG(V23))/LOG(2))))","v":-0.20270143721078623},null,{"$f":"N23","v":21111},{"$f":"COUNTIF(L31:L54,Y23)","v":1},{"$f":"Z23/(AB4-Z25)","v":0.05},{"$f":"IF(AA23=0,0,(AA23*((LOG(AA23))/LOG(2))))","v":-0.21609640474436814},null,{"$f":"N23","v":21111},{"$f":"COUNTIF(L55:L79,AD23)","v":1},{"$f":"AE23/(AG4-AE25)","v":5.2631578947368418E-2},{"$f":"IF(AF23=0,0,(AF23*((LOG(AF23))/LOG(2))))","v":-0.22357513228650452},null,{"$f":"N23","v":21111},{"$f":"COUNTIF(L80:L103,AI23)","v":3},{"$f":"AJ23/(AL4-AJ25)","v":0.15789473684210525},{"$f":"IF(AK23=0,0,(AK23*((LOG(AK23))/LOG(2))))","v":-0.42046815990354147},null,{"$f":"N23","v":21111},{"$f":"COUNTIF(L104:L127,AN23)","v":1},{"$f":"AO23/(AQ4-AO25)","v":0.05},{"$f":"IF(AP23=0,0,(AP23*((LOG(AP23))/LOG(2))))","v":-0.21609640474436814},null,{"$f":"N23","v":21111},{"$f":"COUNTIF(L128:L151,AS23)","v":1},{"$f":"AT23/(AV4-AT25)","v":0.05},{"$f":"IF(AU23=0,0,(AU23*((LOG(AU23))/LOG(2))))","v":-0.21609640474436814}]
[21,2766,22,2769,13,2777,23,2788,13,2798,0,22121,null,21112,{"$f":"COUNTIF($L$7:$L$500,N24)","v":10},{"$f":"O24/$Q$4","v":6.9444444444444448E-2},{"$f":"IF(P24=0,0,(P24*((LOG(P24))/LOG(2))))","v":-0.2672220073996493},null,null,{"$f":"N24","v":21112},{"$f":"COUNTIF(L7:L30,T24)","v":1},{"$f":"U24/(W4-U25)","v":4.5454545454545456E-2},{"$f":"IF(V24=0,0,(V24*((LOG(V24))/LOG(2))))","v":-0.20270143721078623},null,{"$f":"N24","v":21112},{"$f":"COUNTIF(L31:L54,Y24)","v":2},{"$f":"Z24/(AB4-Z25)","v":0.1},{"$f":"IF(AA24=0,0,(AA24*((LOG(AA24))/LOG(2))))","v":-0.33219280948873625},null,{"$f":"N24","v":21112},{"$f":"COUNTIF(L55:L79,AD24)","v":2},{"$f":"AE24/(AG4-AE25)","v":0.10526315789473684},{"$f":"IF(AF24=0,0,(AF24*((LOG(AF24))/LOG(2))))","v":-0.34188710667827216},null,{"$f":"N24","v":21112},{"$f":"COUNTIF(L80:L103,AI24)","v":0},{"$f":"AJ24/(AL4-AJ25)","v":0},{"$f":"IF(AK24=0,0,(AK24*((LOG(AK24))/LOG(2))))","v":0},null,{"$f":"N24","v":21112},{"$f":"COUNTIF(L104:L127,AN24)","v":2},{"$f":"AO24/(AQ4-AO25)","v":0.1},{"$f":"IF(AP24=0,0,(AP24*((LOG(AP24))/LOG(2))))","v":-0.33219280948873625},null,{"$f":"N24","v":21112},{"$f":"COUNTIF(L128:L151,AS24)","v":3},{"$f":"AT24/(AV4-AT25)","v":0.15},{"$f":"IF(AU24=0,0,(AU24*((LOG(AU24))/LOG(2))))","v":-0.41054483912493089}]
[21,2895,22,2899,13,2906,14,2913,24,2923,0,22112,null,21121,{"$f":"COUNTIF($L$7:$L$500,N25)","v":24},{"$f":"O25/$Q$4","v":0.16666666666666666},{"$f":"IF(P25=0,0,(P25*((LOG(P25))/LOG(2))))","v":-0.43082708345352599},null,null,{"$f":"N25","v":21121},{"$f":"COUNTIF(L7:L30,T25)","v":2},null,null,null,{"$f":"N25","v":21121},{"$f":"COUNTIF(L31:L54,Y25)","v":4},null,null,null,{"$f":"N25","v":21121},{"$f":"COUNTIF(L55:L79,AD25)","v":6},null,null,null,{"$f":"N25","v":21121},{"$f":"COUNTIF(L80:L103,AI25)","v":5},null,null,null,{"$f":"N25","v":21121},{"$f":"COUNTIF(L104:L127,AN25)","v":4},null,null,null,{"$f":"N25","v":21121},{"$f":"COUNTIF(L128:L151,AS25)","v":3}]
[21,3021,11,3035,11,3042,21,3051,11,3064,1,21121,null,21122,{"$f":"COUNTIF($L$7:$L$500,N26)","v":0},{"$f":"O26/$Q$4","v":0},{"$f":"IF(P26=0,0,(P26*((LOG(P26))/LOG(2))))","v":0},null,null,{"$f":"N26","v":21122},{"$f":"COUNTIF(L7:L30,T26)","v":0},{"$f":"U26/(W4-U25)","v":0},{"$f":"IF(V26=0,0,(V26*((LOG(V26))/LOG(2))))","v":0},null,{"$f":"N26","v":21122},{"$f":"COUNTIF(L31:L54,Y26)","v":0},{"$f":"Z26/(AB4-Z25)","v":0},{"$f":"IF(AA26=0,0,(AA26*((LOG(AA26))/LOG(2))))","v":0},null,{"$f":"N26","v":21122},{"$f":"COUNTIF(L55:L79,AD26)","v":0},{"$f":"AE26/(AG4-AE25)","v":0},{"$f":"IF(AF26=0,0,(AF26*((LOG(AF26))/LOG(2))))","v":0},null,{"$f":"N26","v":21122},{"$f":"COUNTIF(L80:L103,AI26)","v":0},{"$f":"AJ26/(AL4-AJ25)","v":0},{"$f":"IF(AK26=0,0,(AK26*((LOG(AK26))/LOG(2))))","v":0},null,{"$f":"N26","v":21122},{"$f":"COUNTIF(L104:L127,AN26)","v":0},{"$f":"AO26/(AQ4-AO25)","v":0},{"$f":"IF(AP26=0,0,(AP26*((LOG(AP26))/LOG(2))))","v":0},null,{"$f":"N26","v":21122},{"$f":"COUNTIF(L128:L151,AS26)","v":0},{"$f":"AT26/(AV4-AT25)","v":0},{"$f":"IF(AU26=0,0,(AU26*((LOG(AU26))/LOG(2))))","v":0}]
[21,3160,11,3169,11,3179,12,3204,13,3212,0,21111,null,21211,{"$f":"COUNTIF($L$7:$L$500,N27)","v":16},{"$f":"O27/$Q$4","v":0.1111111111111111},{"$f":"IF(P27=0,0,(P27*((LOG(P27))/LOG(2))))","v":-0.3522138890491458},null,null,{"$f":"N27","v":21211},{"$f":"COUNTIF(L7:L30,T27)","v":4},{"$f":"U27/(W4-U25)","v":0.18181818181818182},{"$f":"IF(V27=0,0,(V27*((LOG(V27))/LOG(2))))","v":-0.44716938520678134},null,{"$f":"N27","v":21211},{"$f":"COUNTIF(L31:L54,Y27)","v":3},{"$f":"Z27/(AB4-Z25)","v":0.15},{"$f":"IF(AA27=0,0,(AA27*((LOG(AA27))/LOG(2))))","v":-0.41054483912493089},null,{"$f":"N27","v":21211},{"$f":"COUNTIF(L55:L79,AD27)","v":1},{"$f":"AE27/(AG4-AE25)","v":5.2631578947368418E-2},{"$f":"IF(AF27=0,0,(AF27*((LOG(AF27))/LOG(2))))","v":-0.22357513228650452},null,{"$f":"N27","v":21211},{"$f":"COUNTIF(L80:L103,AI27)","v":1},{"$f":"AJ27/(AL4-AJ25)","v":5.2631578947368418E-2},{"$f":"IF(AK27=0,0,(AK27*((LOG(AK27))/LOG(2))))","v":-0.22357513228650452},null,{"$f":"N27","v":21211},{"$f":"COUNTIF(L104:L127,AN27)","v":3},{"$f":"AO27/(AQ4-AO25)","v":0.15},{"$f":"IF(AP27=0,0,(AP27*((LOG(AP27))/LOG(2))))","v":-0.41054483912493089},null,{"$f":"N27","v":21211},{"$f":"COUNTIF(L128:L151,AS27)","v":4},{"$f":"AT27/(AV4-AT25)","v":0.2},{"$f":"IF(AU27=0,0,(AU27*((LOG(AU27))/LOG(2))))","v":-0.46438561897747244}]
[12,3321,13,3331,24,3341,14,3353,13,3360,0,11211,null,21212,{"$f":"COUNTIF($L$7:$L$500,N28)","v":6},{"$f":"O28/$Q$4","v":4.1666666666666664E-2},{"$f":"IF(P28=0,0,(P28*((LOG(P28))/LOG(2))))","v":-0.19104010419671485},null,null,{"$f":"N28","v":21212},{"$f":"COUNTIF(L7:L30,T28)","v":3},{"$f":"U28/(W4-U25)","v":0.13636363636363635},{"$f":"IF(V28=0,0,(V28*((LOG(V28))/LOG(2))))","v":-0.39197306153401923},null,{"$f":"N28","v":21212},{"$f":"COUNTIF(L31:L54,Y28)","v":2},{"$f":"Z28/(AB4-Z25)","v":0.1},{"$f":"IF(AA28=0,0,(AA28*((LOG(AA28))/LOG(2))))","v":-0.33219280948873625},null,{"$f":"N28","v":21212},{"$f":"COUNTIF(L55:L79,AD28)","v":0},{"$f":"AE28/(AG4-AE25)","v":0},{"$f":"IF(AF28=0,0,(AF28*((LOG(AF28))/LOG(2))))","v":0},null,{"$f":"N28","v":21212},{"$f":"COUNTIF(L80:L103,AI28)","v":1},{"$f":"AJ28/(AL4-AJ25)","v":5.2631578947368418E-2},{"$f":"IF(AK28=0,0,(AK28*((LOG(AK28))/LOG(2))))","v":-0.22357513228650452},null,{"$f":"N28","v":21212},{"$f":"COUNTIF(L104:L127,AN28)","v":0},{"$f":"AO28/(AQ4-AO25)","v":0},{"$f":"IF(AP28=0,0,(AP28*((LOG(AP28))/LOG(2))))","v":0},null,{"$f":"N28","v":21212},{"$f":"COUNTIF(L128:L151,AS28)","v":0},{"$f":"AT28/(AV4-AT25)","v":0},{"$f":"IF(AU28=0,0,(AU28*((LOG(AU28))/LOG(2))))","v":0}]
[12,3468,13,3475,24,3487,14,3501,13,3508,0,11211,null,21221,{"$f":"COUNTIF($L$7:$L$500,N29)","v":1},{"$f":"O29/$Q$4","v":6.9444444444444441E-3},{"$f":"IF(P29=0,0,(P29*((LOG(P29))/LOG(2))))","v":-4.9791145843349392E-2},null,null,{"$f":"N29","v":21221},{"$f":"COUNTIF(L7:L30,T29)","v":0},{"$f":"U29/(W4-U25)","v":0},{"$f":"IF(V29=0,0,(V29*((LOG(V29))/LOG(2))))","v":0},null,{"$f":"N29","v":21221},{"$f":"COUNTIF(L31:L54,Y29)","v":0},{"$f":"Z29/(AB4-Z25)","v":0},{"$f":"IF(AA29=0,0,(AA29*((LOG(AA29))/LOG(2))))","v":0},null,{"$f":"N29","v":21221},{"$f":"COUNTIF(L55:L79,AD29)","v":0},{"$f":"AE29/(AG4-AE25)","v":0},{"$f":"IF(AF29=0,0,(AF29*((LOG(AF29))/LOG(2))))","v":0},null,{"$f":"N29","v":21221},{"$f":"COUNTIF(L80:L103,AI29)","v":1},{"$f":"AJ29/(AL4-AJ25)","v":5.2631578947368418E-2},{"$f":"IF(AK29=0,0,(AK29*((LOG(AK29))/LOG(2))))","v":-0.22357513228650452},null,{"$f":"N29","v":21221},{"$f":"COUNTIF(L104:L127,AN29)","v":0},{"$f":"AO29/(AQ4-AO25)","v":0},{"$f":"IF(AP29=0,0,(AP29*((LOG(AP29))/LOG(2))))","v":0},null,{"$f":"N29","v":21221},{"$f":"COUNTIF(L128:L151,AS29)","v":0},{"$f":"AT29/(AV4-AT25)","v":0},{"$f":"IF(AU29=0,0,(AU29*((LOG(AU29))/LOG(2))))","v":0}]
[21,3607,11,3615,11,3622,12,3632,24,3643,0,21112,null,21222,{"$f":"COUNTIF($L$7:$L$500,N30)","v":1},{"$f":"O30/$Q$4","v":6.9444444444444441E-3},{"$f":"IF(P30=0,0,(P30*((LOG(P30))/LOG(2))))","v":-4.9791145843349392E-2},null,null,{"$f":"N30","v":21222},{"$f":"COUNTIF(L7:L30,T30)","v":0},{"$f":"U30/(W4-U25)","v":0},{"$f":"IF(V30=0,0,(V30*((LOG(V30))/LOG(2))))","v":0},null,{"$f":"N30","v":21222},{"$f":"COUNTIF(L31:L54,Y30)","v":0},{"$f":"Z30/(AB4-Z25)","v":0},{"$f":"IF(AA30=0,0,(AA30*((LOG(AA30))/LOG(2))))","v":0},null,{"$f":"N30","v":21222},{"$f":"COUNTIF(L55:L79,AD30)","v":1},{"$f":"AE30/(AG4-AE25)","v":5.2631578947368418E-2},{"$f":"IF(AF30=0,0,(AF30*((LOG(AF30))/LOG(2))))","v":-0.22357513228650452},null,{"$f":"N30","v":21222},{"$f":"COUNTIF(L80:L103,AI30)","v":0},{"$f":"AJ30/(AL4-AJ25)","v":0},{"$f":"IF(AK30=0,0,(AK30*((LOG(AK30))/LOG(2))))","v":0},null,{"$f":"N30","v":21222},{"$f":"COUNTIF(L104:L127,AN30)","v":0},{"$f":"AO30/(AQ4-AO25)","v":0},{"$f":"IF(AP30=0,0,(AP30*((LOG(AP30))/LOG(2))))","v":0},null,{"$f":"N30","v":21222},{"$f":"COUNTIF(L128:L151,AS30)","v":0},{"$f":"AT30/(AV4-AT25)","v":0},{"$f":"IF(AU30=0,0,(AU30*((LOG(AU30))/LOG(2))))","v":0}]
[21,3740,11,3749,11,3765,12,3776,24,3785,0,21112,null,22111,{"$f":"COUNTIF($L$7:$L$500,N31)","v":6},{"$f":"O31/$Q$4","v":4.1666666666666664E-2},{"$f":"IF(P31=0,0,(P31*((LOG(P31))/LOG(2))))","v":-0.19104010419671485},null,null,{"$f":"N31","v":22111},{"$f":"COUNTIF(L7:L30,T31)","v":0},{"$f":"U31/(W4-U25)","v":0},{"$f":"IF(V31=0,0,(V31*((LOG(V31))/LOG(2))))","v":0},null,{"$f":"N31","v":22111},{"$f":"COUNTIF(L31:L54,Y31)","v":1},{"$f":"Z31/(AB4-Z25)","v":0.05},{"$f":"IF(AA31=0,0,(AA31*((LOG(AA31))/LOG(2))))","v":-0.21609640474436814},null,{"$f":"N31","v":22111},{"$f":"COUNTIF(L55:L79,AD31)","v":0},{"$f":"AE31/(AG4-AE25)","v":0},{"$f":"IF(AF31=0,0,(AF31*((LOG(AF31))/LOG(2))))","v":0},null,{"$f":"N31","v":22111},{"$f":"COUNTIF(L80:L103,AI31)","v":1},{"$f":"AJ31/(AL4-AJ25)","v":5.2631578947368418E-2},{"$f":"IF(AK31=0,0,(AK31*((LOG(AK31))/LOG(2))))","v":-0.22357513228650452},null,{"$f":"N31","v":22111},{"$f":"COUNTIF(L104:L127,AN31)","v":3},{"$f":"AO31/(AQ4-AO25)","v":0.15},{"$f":"IF(AP31=0,0,(AP31*((LOG(AP31))/LOG(2))))","v":-0.41054483912493089},null,{"$f":"N31","v":22111},{"$f":"COUNTIF(L128:L151,AS31)","v":1},{"$f":"AT31/(AV4-AT25)","v":0.05},{"$f":"IF(AU31=0,0,(AU31*((LOG(AU31))/LOG(2))))","v":-0.21609640474436814}]
[21,3881,22,3889,13,3897,14,3910,24,3921,0,22112,null,22112,{"$f":"COUNTIF($L$7:$L$500,N32)","v":16},{"$f":"O32/$Q$4","v":0.1111111111111111},{"$f":"IF(P32=0,0,(P32*((LOG(P32))/LOG(2))))","v":-0.3522138890491458},null,null,{"$f":"N32","v":22112},{"$f":"COUNTIF(L7:L30,T32)","v":1},{"$f":"U32/(W4-U25)","v":4.5454545454545456E-2},{"$f":"IF(V32=0,0,(V32*((LOG(V32))/LOG(2))))","v":-0.20270143721078623},null,{"$f":"N32","v":22112},{"$f":"COUNTIF(L31:L54,Y32)","v":4},{"$f":"Z32/(AB4-Z25)","v":0.2},{"$f":"IF(AA32=0,0,(AA32*((LOG(AA32))/LOG(2))))","v":-0.46438561897747244},null,{"$f":"N32","v":22112},{"$f":"COUNTIF(L55:L79,AD32)","v":4},{"$f":"AE32/(AG4-AE25)","v":0.21052631578947367},{"$f":"IF(AF32=0,0,(AF32*((LOG(AF32))/LOG(2))))","v":-0.47324789756707064},null,{"$f":"N32","v":22112},{"$f":"COUNTIF(L80:L103,AI32)","v":3},{"$f":"AJ32/(AL4-AJ25)","v":0.15789473684210525},{"$f":"IF(AK32=0,0,(AK32*((LOG(AK32))/LOG(2))))","v":-0.42046815990354147},null,{"$f":"N32","v":22112},{"$f":"COUNTIF(L104:L127,AN32)","v":2},{"$f":"AO32/(AQ4-AO25)","v":0.1},{"$f":"IF(AP32=0,0,(AP32*((LOG(AP32))/LOG(2))))","v":-0.33219280948873625},null,{"$f":"N32","v":22112},{"$f":"COUNTIF(L128:L151,AS32)","v":2},{"$f":"AT32/(AV4-AT25)","v":0.1},{"$f":"IF(AU32=0,0,(AU32*((LOG(AU32))/LOG(2))))","v":-0.33219280948873625}]
[21,4019,22,4022,13,4030,14,4042,13,4069,0,22111,null,22121,{"$f":"COUNTIF($L$7:$L$500,N33)","v":13},{"$f":"O33/$Q$4","v":9.0277777777777776E-2},{"$f":"IF(P33=0,0,(P33*((LOG(P33))/LOG(2))))","v":-0.31321742140913789},null,null,{"$f":"N33","v":22121},{"$f":"COUNTIF(L7:L30,T33)","v":6},{"$f":"U33/(W4-U25)","v":0.27272727272727271},{"$f":"IF(V33=0,0,(V33*((LOG(V33))/LOG(2))))","v":-0.51121885034076575},null,{"$f":"N33","v":22121},{"$f":"COUNTIF(L31:L54,Y33)","v":3},{"$f":"Z33/(AB4-Z25)","v":0.15},{"$f":"IF(AA33=0,0,(AA33*((LOG(AA33))/LOG(2))))","v":-0.41054483912493089},null,{"$f":"N33","v":22121},{"$f":"COUNTIF(L55:L79,AD33)","v":1},{"$f":"AE33/(AG4-AE25)","v":5.2631578947368418E-2},{"$f":"IF(AF33=0,0,(AF33*((LOG(AF33))/LOG(2))))","v":-0.22357513228650452},null,{"$f":"N33","v":22121},{"$f":"COUNTIF(L80:L103,AI33)","v":1},{"$f":"AJ33/(AL4-AJ25)","v":5.2631578947368418E-2},{"$f":"IF(AK33=0,0,(AK33*((LOG(AK33))/LOG(2))))","v":-0.22357513228650452},null,{"$f":"N33","v":22121},{"$f":"COUNTIF(L104:L127,AN33)","v":1},{"$f":"AO33/(AQ4-AO25)","v":0.05},{"$f":"IF(AP33=0,0,(AP33*((LOG(AP33))/LOG(2))))","v":-0.21609640474436814},null,{"$f":"N33","v":22121},{"$f":"COUNTIF(L128:L151,AS33)","v":1},{"$f":"AT33/(AV4-AT25)","v":0.05},{"$f":"IF(AU33=0,0,(AU33*((LOG(AU33))/LOG(2))))","v":-0.21609640474436814}]
[12,4175,13,4187,13,4212,23,4222,13,4236,0,11121,null,22122,{"$f":"COUNTIF($L$7:$L$500,N34)","v":1},{"$f":"O34/$Q$4","v":6.9444444444444441E-3},{"$f":"IF(P34=0,0,(P34*((LOG(P34))/LOG(2))))","v":-4.9791145843349392E-2},null,null,{"$f":"N34","v":22122},{"$f":"COUNTIF(L7:L30,T34)","v":0},{"$f":"U34/(W4-U25)","v":0},{"$f":"IF(V34=0,0,(V34*((LOG(V34))/LOG(2))))","v":0},null,{"$f":"N34","v":22122},{"$f":"COUNTIF(L31:L54,Y34)","v":0},{"$f":"Z34/(AB4-Z25)","v":0},{"$f":"IF(AA34=0,0,(AA34*((LOG(AA34))/LOG(2))))","v":0},null,{"$f":"N34","v":22122},{"$f":"COUNTIF(L55:L79,AD34)","v":0},{"$f":"AE34/(AG4-AE25)","v":0},{"$f":"IF(AF34=0,0,(AF34*((LOG(AF34))/LOG(2))))","v":0},null,{"$f":"N34","v":22122},{"$f":"COUNTIF(L80:L103,AI34)","v":1},{"$f":"AJ34/(AL4-AJ25)","v":5.2631578947368418E-2},{"$f":"IF(AK34=0,0,(AK34*((LOG(AK34))/LOG(2))))","v":-0.22357513228650452},null,{"$f":"N34","v":22122},{"$f":"COUNTIF(L104:L127,AN34)","v":0},{"$f":"AO34/(AQ4-AO25)","v":0},{"$f":"IF(AP34=0,0,(AP34*((LOG(AP34))/LOG(2))))","v":0},null,{"$f":"N34","v":22122},{"$f":"COUNTIF(L128:L151,AS34)","v":0},{"$f":"AT34/(AV4-AT25)","v":0},{"$f":"IF(AU34=0,0,(AU34*((LOG(AU34))/LOG(2))))","v":0}]
[21,4335,11,4343,11,4376,21,4388,11,4402,1,21121,null,22211,{"$f":"COUNTIF($L$7:$L$500,N35)","v":3},{"$f":"O35/$Q$4","v":2.0833333333333332E-2},{"$f":"IF(P35=0,0,(P35*((LOG(P35))/LOG(2))))","v":-0.11635338543169074},null,null,{"$f":"N35","v":22211},{"$f":"COUNTIF(L7:L30,T35)","v":0},{"$f":"U35/(W4-U25)","v":0},{"$f":"IF(V35=0,0,(V35*((LOG(V35))/LOG(2))))","v":0},null,{"$f":"N35","v":22211},{"$f":"COUNTIF(L31:L54,Y35)","v":0},{"$f":"Z35/(AB4-Z25)","v":0},{"$f":"IF(AA35=0,0,(AA35*((LOG(AA35))/LOG(2))))","v":0},null,{"$f":"N35","v":22211},{"$f":"COUNTIF(L55:L79,AD35)","v":1},{"$f":"AE35/(AG4-AE25)","v":5.2631578947368418E-2},{"$f":"IF(AF35=0,0,(AF35*((LOG(AF35))/LOG(2))))","v":-0.22357513228650452},null,{"$f":"N35","v":22211},{"$f":"COUNTIF(L80:L103,AI35)","v":1},{"$f":"AJ35/(AL4-AJ25)","v":5.2631578947368418E-2},{"$f":"IF(AK35=0,0,(AK35*((LOG(AK35))/LOG(2))))","v":-0.22357513228650452},null,{"$f":"N35","v":22211},{"$f":"COUNTIF(L104:L127,AN35)","v":1},{"$f":"AO35/(AQ4-AO25)","v":0.05},{"$f":"IF(AP35=0,0,(AP35*((LOG(AP35))/LOG(2))))","v":-0.21609640474436814},null,{"$f":"N35","v":22211},{"$f":"COUNTIF(L128:L151,AS35)","v":0},{"$f":"AT35/(AV4-AT25)","v":0},{"$f":"IF(AU35=0,0,(AU35*((LOG(AU35))/LOG(2))))","v":0}]
[21,4522,11,4541,22,4550,14,4561,24,4576,0,21212,null,22212,{"$f":"COUNTIF($L$7:$L$500,N36)","v":3},{"$f":"O36/$Q$4","v":2.0833333333333332E-2},{"$f":"IF(P36=0,0,(P36*((LOG(P36))/LOG(2))))","v":-0.11635338543169074},null,null,{"$f":"N36","v":22212},{"$f":"COUNTIF(L7:L30,T36)","v":0},{"$f":"U36/(W4-U25)","v":0},{"$f":"IF(V36=0,0,(V36*((LOG(V36))/LOG(2))))","v":0},null,{"$f":"N36","v":22212},{"$f":"COUNTIF(L31:L54,Y36)","v":1},{"$f":"Z36/(AB4-Z25)","v":0.05},{"$f":"IF(AA36=0,0,(AA36*((LOG(AA36))/LOG(2))))","v":-0.21609640474436814},null,{"$f":"N36","v":22212},{"$f":"COUNTIF(L55:L79,AD36)","v":1},{"$f":"AE36/(AG4-AE25)","v":5.2631578947368418E-2},{"$f":"IF(AF36=0,0,(AF36*((LOG(AF36))/LOG(2))))","v":-0.22357513228650452},null,{"$f":"N36","v":22212},{"$f":"COUNTIF(L80:L103,AI36)","v":0},{"$f":"AJ36/(AL4-AJ25)","v":0},{"$f":"IF(AK36=0,0,(AK36*((LOG(AK36))/LOG(2))))","v":0},null,{"$f":"N36","v":22212},{"$f":"COUNTIF(L104:L127,AN36)","v":1},{"$f":"AO36/(AQ4-AO25)","v":0.05},{"$f":"IF(AP36=0,0,(AP36*((LOG(AP36))/LOG(2))))","v":-0.21609640474436814},null,{"$f":"N36","v":22212},{"$f":"COUNTIF(L128:L151,AS36)","v":0},{"$f":"AT36/(AV4-AT25)","v":0},{"$f":"IF(AU36=0,0,(AU36*((LOG(AU36))/LOG(2))))","v":0}]
[21,4677,11,4696,11,4704,21,4716,11,4726,1,21121,null,22221,{"$f":"COUNTIF($L$7:$L$500,N37)","v":3},{"$f":"O37/$Q$4","v":2.0833333333333332E-2},{"$f":"IF(P37=0,0,(P37*((LOG(P37))/LOG(2))))","v":-0.11635338543169074},null,null,{"$f":"N37","v":22221},{"$f":"COUNTIF(L7:L30,T37)","v":0},{"$f":"U37/(W4-U25)","v":0},{"$f":"IF(V37=0,0,(V37*((LOG(V37))/LOG(2))))","v":0},null,{"$f":"N37","v":22221},{"$f":"COUNTIF(L31:L54,Y37)","v":0},{"$f":"Z37/(AB4-Z25)","v":0},{"$f":"IF(AA37=0,0,(AA37*((LOG(AA37))/LOG(2))))","v":0},null,{"$f":"N37","v":22221},{"$f":"COUNTIF(L55:L79,AD37)","v":1},{"$f":"AE37/(AG4-AE25)","v":5.2631578947368418E-2},{"$f":"IF(AF37=0,0,(AF37*((LOG(AF37))/LOG(2))))","v":-0.22357513228650452},null,{"$f":"N37","v":22221},{"$f":"COUNTIF(L80:L103,AI37)","v":2},{"$f":"AJ37/(AL4-AJ25)","v":0.10526315789473684},{"$f":"IF(AK37=0,0,(AK37*((LOG(AK37))/LOG(2))))","v":-0.34188710667827216},null,{"$f":"N37","v":22221},{"$f":"COUNTIF(L104:L127,AN37)","v":0},{"$f":"AO37/(AQ4-AO25)","v":0},{"$f":"IF(AP37=0,0,(AP37*((LOG(AP37))/LOG(2))))","v":0},null,{"$f":"N37","v":22221},{"$f":"COUNTIF(L128:L151,AS37)","v":0},{"$f":"AT37/(AV4-AT25)","v":0},{"$f":"IF(AU37=0,0,(AU37*((LOG(AU37))/LOG(2))))","v":0}]
[12,4848,13,4858,24,4866,14,4877,13,4895,0,11211,null,22222,{"$f":"COUNTIF($L$7:$L$500,N38)","v":0},{"$f":"O38/$Q$4","v":0},{"$f":"IF(P38=0,0,(P38*((LOG(P38))/LOG(2))))","v":0},null,null,{"$f":"N38","v":22222},{"$f":"COUNTIF(L7:L30,T38)","v":0},{"$f":"U38/(W4-U25)","v":0},{"$f":"IF(V38=0,0,(V38*((LOG(V38))/LOG(2))))","v":0},null,{"$f":"N38","v":22222},{"$f":"COUNTIF(L31:L54,Y38)","v":0},{"$f":"Z38/(AB4-Z25)","v":0},{"$f":"IF(AA38=0,0,(AA38*((LOG(AA38))/LOG(2))))","v":0},null,{"$f":"N38","v":22222},{"$f":"COUNTIF(L55:L79,AD38)","v":0},{"$f":"AE38/(AG4-AE25)","v":0},{"$f":"IF(AF38=0,0,(AF38*((LOG(AF38))/LOG(2))))","v":0},null,{"$f":"N38","v":22222},{"$f":"COUNTIF(L80:L103,AI38)","v":0},{"$f":"AJ38/(AL4-AJ25)","v":0},{"$f":"IF(AK38=0,0,(AK38*((LOG(AK38))/LOG(2))))","v":0},null,{"$f":"N38","v":22222},{"$f":"COUNTIF(L104:L127,AN38)","v":0},{"$f":"AO38/(AQ4-AO25)","v":0},{"$f":"IF(AP38=0,0,(AP38*((LOG(AP38))/LOG(2))))","v":0},null,{"$f":"N38","v":22222},{"$f":"COUNTIF(L128:L151,AS38)","v":0},{"$f":"AT38/(AV4-AT25)","v":0},{"$f":"IF(AU38=0,0,(AU38*((LOG(AU38))/LOG(2))))","v":0}]
[21,5015,11,5029,22,5069,14,5080,13,5097,0,21211,null,null,null,{"$f":"SUM(P7:P38)","v":1},{"$f":"-SUM(Q7:Q38)","v":3.9400053515899733},null,null,null,null,{"$f":"SUM(V7:V38)","v":1},{"$f":"-SUM(W7:W38)","v":2.9928560501604604},null,null,null,{"$f":"SUM(AA7:AA38)","v":1},{"$f":"-SUM(AB7:AB38)","v":3.1464393446710153},null,null,null,{"$f":"SUM(AF7:AF38)","v":0.99999999999999978},{"$f":"-SUM(AG7:AG38)","v":3.3005590923909547},null,null,null,{"$f":"SUM(AK7:AK38)","v":0.99999999999999989},{"$f":"-SUM(AL7:AL38)","v":3.5368867237421688},null,null,null,{"$f":"SUM(AP7:AP38)","v":1},{"$f":"-SUM(AQ7:AQ38)","v":3.4464393446710155},null,null,null,{"$f":"SUM(AU7:AU38)","v":1},{"$f":"-SUM(AV7:AV38)","v":3.3841837197791884}]
[21,5195,22,5199,13,5211,23,5221,13,5232,0,22121,null,null,null,"U=",{"$f":"Q39/(LOG(Q4)/LOG(2))","v":0.54951834932686128},null,null,null,null,"U1=",{"$f":"W39/(LOG(W4)/LOG(2))","v":0.65275474983486181},null,null,null,"U2=",{"$f":"AB39/(LOG(AB4)/LOG(2))","v":0.68625192554489167},null,null,null,"U3=",{"$f":"AG39/(LOG(AG4)/LOG(2))","v":0.71073671481438916},null,null,null,"U4=",{"$f":"AL39/(LOG(AL4)/LOG(2))","v":0.7714101747148121},null,null,null,"U5=",{"$f":"AQ39/(LOG(AQ4)/LOG(2))","v":0.7516832131405512},null,null,null,"U6=",{"$f":"AV39/(LOG(AV4)/LOG(2))","v":0.74812365844747497}]
[21,5329,22,5333,13,5342,14,5352,24,5361,0,22112]
[21,5462,11,5470,11,5485,21,5499,11,5512,1,21121]
[21,5624,11,5631,22,5640,14,5654,24,5664,0,21212,null,"Total Target Seq"]
[21,5763,22,5765,13,5776,14,5808,24,5818,0,22112,null,{"$f":"COUNTIF(L7:L151,G3)","v":24},null,24,24,25,24,24,24]
[21,5935,22,5960,24,5974,14,5994,24,6008,0,22212,null,null,null,"% of reinforcement given in 6 equal intervals based on number of trials "]
[21,6106,22,6109,13,6119,14,6132,24,6145,0,22112,null,null,null,"%_1","%_2","%_3","%_4","%_5","%_6"]
[12,6251,13,6258,24,6268,14,6276,13,6288,0,11211,null,null,"target sequence",{"$f":"$G$3","v":21121},{"$f":"$G$3","v":21121},{"$f":"$G$3","v":21121},{"$f":"$G$3","v":21121},{"$f":"$G$3","v":21121},{"$f":"$G$3","v":21121}]
[21,6413,11,6421,22,6431,14,6439,13,6455,0,21211,null,null,"total reinforcement",{"$f":"U25","v":2},{"$f":"Z25","v":4},{"$f":"AE25","v":6},{"$f":"AJ25","v":5},{"$f":"AO25","v":4},{"$f":"AT25","v":3}]
[21,6552,22,6562,13,6591,23,6604,13,6615,0,22121,null,null,"% target"]
[21,6714,11,6727,11,6735,12,6759,13,6799,0,21111,null,null,"CCRF"]
[21,6902,11,6910,11,6927,12,6934,24,6948,0,21112,null,null,"% CCRf"]
[21,7045,22,7060,13,7096,23,7106,13,7115,0,22121,null,null,"average response rate",{"$f":"J30/P44","v":151.79166666666666},{"$f":"(J54-J30)/Q44","v":157.20833333333334},{"$f":"(J79-J54)/R44","v":159.63999999999999},{"$f":"(J103-J79)/S44","v":160.95833333333334},{"$f":"(J127-J103)/T44","v":182.41666666666666},{"$f":"(J151-J127)/U44","v":-818.66666666666663}]
[21,7219,11,7226,11,7239,21,7254,11,7265,1,21121]
[21,7359,11,7377,22,7388,14,7408,13,7416,0,21211]
[12,7520,13,7533,13,7544,23,7582,13,7596,0,11121]
[21,7699,11,7709,11,7720,21,7729,11,7743,1,21121]
[21,7839,22,7863,13,7871,14,7892,24,7907,0,22112]
[21,8014,11,8032,11,8052,12,8078,24,8101,0,21112]
[21,8200,22,8203,13,8213,14,8223,24,8234,0,22112]
[12,8347,13,8355,13,8368,23,8379,13,8393,0,11121]
[21,8496,11,8514,11,8528,12,8559,13,8567,0,21111]
[21,8668,11,8675,11,8686,12,8703,24,8717,0,21112]
[12,8832,13,8842,13,8853,23,8868,13,8889,0,11121]
[21,8986,22,8989,24,8992,14,9001,13,9020,0,22211]
[21,9123,11,9132,11,9145,21,9158,11,9172,1,21121]
[21,9264,11,9272,11,9283,21,9295,11,9311,1,21121]
[21,9449,22,9480,24,9499,14,9508,24,9519,0,22212]
[21,9621,11,9636,11,9645,21,9660,11,9674,1,21121]
[21,9777,11,9791,22,9803,14,9846,13,9856,0,21211]
[21,9953,22,9960,13,9968,23,10002,13,10014,0,22121]
[21,10117,11,10126,11,10142,21,10161,11,10175,1,21121]
[21,10275,11,10284,11,10304,21,10315,11,10329,1,21121]
[21,10427,11,10436,22,10451,23,10482,24,10497,0,21222]
[12,10612,13,10623,24,10637,14,10650,24,10671,0,11212]
[21,10769,22,10772,24,10776,23,10799,13,10814,0,22221]
[12,10916,13,10931,13,10938,23,10955,13,10970,0,11121]
[21,11066,22,11069,13,11083,14,11095,24,11106,0,22112]
[21,11207,22,11211,13,11221,14,11233,24,11244,0,22112]
[12,11352,13,11372,24,11384,14,11398,13,11407,0,11211]
[21,11520,11,11529,11,11555,12,11593,13,11616,0,21111]
[21,11713,22,11716,13,11725,14,11745,24,11757,0,22112]
[21,11855,11,11870,11,11884,12,11909,13,11916,0,21111]
[21,12019,11,12029,11,12040,21,12054,11,12071,1,21121]
[21,12168,22,12214,24,12254,23,12301,13,12317,0,22221]
[21,12417,11,12427,11,12440,21,12455,11,12469,1,21121]
[21,12560,22,12563,13,12574,23,12584,13,12605,0,22121]
[21,12704,11,12713,11,12726,21,12764,11,12778,1,21121]
[12,12880,24,12890,13,12906,23,12917,13,12928,0,12121]
[21,13026,22,13029,24,13056,23,13077,13,13095,0,22221]
[21,13202,11,13214,22,13225,14,13233,24,13253,0,21212]
[21,13352,11,13371,22,13383,14,13397,13,13409,0,21211]
[21,13517,22,13540,13,13554,23,13565,24,13587,0,22122]
[21,13686,22,13689,24,13692,14,13703,13,13729,0,22211]
[21,13830,11,13853,22,13862,23,13873,13,13887,0,21221]
[21,13983,11,13992,11,13999,12,14024,13,14034,0,21111]
[21,14132,22,14135,13,14145,14,14163,24,14179,0,22112]
[12,14297,13,14307,24,14323,14,14334,13,14342,0,11211]
[12,14462,13,14473,13,14484,23,14499,13,14520,0,11121]
[21,14619,22,14623,13,14632,14,14645,13,14656,0,22111]
[21,14757,11,14765,11,14797,21,14811,11,14826,1,21121]
[21,14915,22,14918,13,14936,14,14943,24,14957,0,22112]
[12,15067,13,15089,24,15101,14,15115,13,15122,0,11211]
[21,15229,11,15237,11,15245,21,15257,11,15270,1,21121]
[21,15508,11,15522,22,15538,14,15551,13,15570,0,21211]
[21,15669,22,15672,13,15680,14,15691,24,15705,0,22112]
[21,15812,11,15822,22,15840,14,15855,13,15877,0,21211]
[21,15974,22,15983,13,15991,14,16007,13,16018,0,22111]
[12,16142,13,16168,24,16180,23,16192,13,16206,0,11221]
[21,16307,22,16310,13,16323,14,16334,24,16359,0,22112]
[12,16467,13,16488,24,16500,23,16510,13,16543,0,11221]
[21,16641,22,16644,13,16658,14,16668,13,16705,0,22111]
[21,16805,11,16817,11,16827,12,16845,24,16862,0,21112]
[21,16960,22,16971,13,16989,23,17008,13,17023,0,22121]
[21,17125,11,17133,11,17149,12,17155,24,17173,0,21112]
[12,17300,13,17318,24,17327,14,17352,13,17360,0,11211]
[12,17490,24,17500,24,17566,23,17613,24,17641,0,12222]
[21,17741,11,17760,11,17768,12,17793,13,17813,0,21111]
[21,17911,22,17914,13,17923,14,17946,13,17980,0,22111]
[21,18079,22,18082,24,18126,14,18156,24,18170,0,22212]
[12,18283,13,18300,24,18310,14,18323,13,18330,0,11211]
[21,18430,22,18463,24,18466,14,18513,13,18529,0,22211]
[21,18630,11,18637,11,18669,21,18680,11,18701,1,21121]
[12,18828,24,18841,24,18933,14,18957,24,18971,0,12212]
[21,19075,11,19089,11,19107,21,19121,11,19136,1,21121]
[21,19229,11,19237,11,19252,21,19263,11,19289,1,21121]
[21,19379,11,19470,11,19479,21,19492,11,19503,1,21121]
[21,19598,11,19615,22,19628,14,19641,13,19648,0,21211]
[12,19783,13,19796,24,19810,23,19819,13,19834,0,11221]
[12,20007,24,20021,13,20035,14,20063,13,20074,0,12111]
[12,20218,13,20242,24,20254,14,20269,24,20283,0,11212]
[12,20385,13,20409,13,20434,23,20445,13,20459,0,11121]
[21,20610,11,20627,22,20638,14,20652,13,20692,0,21211]
[21,20791,22,20821,13,20838,23,20850,13,20865,0,22121]
[21,20964,11,20984,22,21037,14,21053,13,21064,0,21211]
[21,21163,22,21177,13,21222,14,21228,24,21240,0,22112]
[12,21339,13,21353,13,21366,14,21377,24,21388,0,11112]
[21,21486,11,21502,11,21549,12,21580,24,21593,0,21112]
[21,21700,11,21711,11,21763,21,21779,11,21794,1,21121]
[21,21886,11,21895,11,21922,21,21936,11,21952,1,21121]
[12,22138,13,22169,24,22181,14,22208,13,22227,0,11211]
[21,22326,22,22330,13,22337,14,22345,13,22356,0,22111]
[21,22453,11,22461,11,22472,12,22483,24,22497,0,21112]
[21,22617,11,22625,22,22643,14,22655,13,22662,0,21211]
[21,22759,22,22762,13,22776,14,22804,24,22816,0,22112]
[21,22912,11,22920,11,22941,12,22971,13,22996,0,21111]
[12,23157,13,23171,13,23189,14,23221,24,23236,0,11112]
[21,23339,11,23362,11,23369,21,23384,11,23398,1,21121]
[12,23542,13,23572,24,23583,14,23596,13,23605,0,11211]
[21,23705,11,23713,11,23724,12,23732,24,23742,0,21112]
[21,23845,11,23867,22,23880,14,23889,13,23897,0,21211]
[21,23995,null,null,null,null,null,null,null,null,null,2]

{"sheet":"!MA27930.010","index":30,"n_rows":138,"n_cols":48,"rows_kept":138,"cut":false,"hidden":false,"merged":[[4,39,4,42],[5,39,5,40],[4,44,4,47],[5,44,5,45],[4,24,4,27],[5,24,5,25],[4,29,4,32],[5,29,5,30],[4,34,4,37],[5,34,5,35],[1,1,1,2],[5,13,5,14],[42,13,42,14],[43,13,43,14],[4,19,4,22],[5,19,5,20]]}
["Report for:!MA27930.010"]
["Date:","<date>"]
["Hen:","<hen>",null,null,null,"Correct Sequence",{"$f":"Start!J2","v":21121},null,null,null,null,null,null,null,null,"Total Sequences in Data",{"$f":"4994-COUNTBLANK(L7:L5000)","v":132},null,null,null,null,"Total Sequences in Block Data",{"$f":"COUNTA(L7:L28)","v":22},null,null,null,"Total Sequences in Block Data",{"$f":"COUNTA(L29:L50)","v":22},null,null,null,"Total Sequences in Block Data",{"$f":"COUNTA(L51:L72)","v":22},null,null,null,"Total Sequences in Block Data",{"$f":"COUNTA(L73:L94)","v":22},null,null,null,"Total Sequences in Block Data",{"$f":"COUNTA(L95:L116)","v":22},null,null,null,"Total Sequences in Block Data",{"$f":"COUNTA(L117:L138)","v":22}]
[null,null,null,null,null,null,null,null,null,null,null,null,null,null,null,"Total Sequences in Summary",{"$f":"SUM(O7:O38)","v":132},null,null,null,null,"Total Sequences in Block Summary",{"$f":"SUM(U7:U38)","v":22},null,null,null,"Total Sequences in Block Summary",{"$f":"SUM(Z7:Z38)","v":22},null,null,null,"Total Sequences in Block Summary",{"$f":"SUM(AE7:AE38)","v":22},null,null,null,"Total Sequences in Block Summary",{"$f":"SUM(AJ7:AJ38)","v":22},null,null,null,"Total Sequences in Block Summary",{"$f":"SUM(AO7:AO38)","v":22},null,null,null,"Total Sequences in Block Summary",{"$f":"SUM(AT7:AT38)","v":22}]
[null,null,null,null,null,null,null,null,null,null,null,null,null,null,null,null,null,null,null,"Block 1",null,null,null,null,"Block 2",null,null,null,null,"Block 3",null,null,null,null,"Block 4",null,null,null,null,"Block 5",null,null,null,null,"Block 6"]
["Sequence\nComponent\n1","Time\n1","Sequence\nComponent\n2","Time\n2","Sequence\nComponent\n3","Time\n3","Sequence\nComponent\n4","Time\n4","Sequence\nComponent\n5","Time\n5","Correct?\n0=No 1=Yes","Sequence",null,"Frequency",null,"Relative Frequency","Variability",null,null,"Frequency",null,"Relative Frequency","Variability",null,"Frequency",null,"Relative Frequency","Variability",null,"Frequency",null,"Relative Frequency","Variability",null,"Frequency",null,"Relative Frequency","Variability",null,"Frequency",null,"Relative Frequency","Variability",null,"Frequency",null,"Relative Frequency","Variability"]
[21,102,22,197,13,213,23,224,13,237,0,22121,null,11111,{"$f":"COUNTIF($L$7:$L$500,N7)","v":4},{"$f":"O7/$Q$4","v":3.0303030303030304E-2},{"$f":"IF(P7=0,0,(P7*((LOG(P7))/LOG(2))))","v":-0.15286042785934709},null,null,{"$f":"N7","v":11111},{"$f":"COUNTIF(L7:L28,T7)","v":0},{"$f":"U7/(W4-U25)","v":0},{"$f":"IF(V7=0,0,(V7*((LOG(V7))/LOG(2))))","v":0},null,{"$f":"N7","v":11111},{"$f":"COUNTIF(L29:L50,Y7)","v":1},{"$f":"Z7/(AB4-Z25)","v":5.5555555555555552E-2},{"$f":"IF(AA7=0,0,(AA7*((LOG(AA7))/LOG(2))))","v":-0.23166250008012845},null,{"$f":"N7","v":11111},{"$f":"COUNTIF(L51:L72,AD7)","v":0},{"$f":"AE7/(AG4-AE25)","v":0},{"$f":"IF(AF7=0,0,(AF7*((LOG(AF7))/LOG(2))))","v":0},null,{"$f":"N7","v":11111},{"$f":"COUNTIF(L73:L94,AI7)","v":0},{"$f":"AJ7/(AL4-AJ25)","v":0},{"$f":"IF(AK7=0,0,(AK7*((LOG(AK7))/LOG(2))))","v":0},null,{"$f":"N7","v":11111},{"$f":"COUNTIF(L95:L116,AN7)","v":2},{"$f":"AO7/(AQ4-AO25)","v":0.11764705882352941},{"$f":"IF(AP7=0,0,(AP7*((LOG(AP7))/LOG(2))))","v":-0.36323092250003997},null,{"$f":"N7","v":11111},{"$f":"COUNTIF(L117:L138,AS7)","v":1},{"$f":"AT7/(AV4-AT25)","v":7.1428571428571425E-2},{"$f":"IF(AU7=0,0,(AU7*((LOG(AU7))/LOG(2))))","v":-0.27195392300411453}]
[21,340,11,354,11,363,21,375,11,390,1,21121,null,11112,{"$f":"COUNTIF($L$7:$L$500,N8)","v":2},{"$f":"O8/$Q$4","v":1.5151515151515152E-2},{"$f":"IF(P8=0,0,(P8*((LOG(P8))/LOG(2))))","v":-9.1581729081188695E-2},null,null,{"$f":"N8","v":11112},{"$f":"COUNTIF(L7:L28,T8)","v":0},{"$f":"U8/(W4-U25)","v":0},{"$f":"IF(V8=0,0,(V8*((LOG(V8))/LOG(2))))","v":0},null,{"$f":"N8","v":11112},{"$f":"COUNTIF(L29:L50,Y8)","v":1},{"$f":"Z8/(AB4-Z25)","v":5.5555555555555552E-2},{"$f":"IF(AA8=0,0,(AA8*((LOG(AA8))/LOG(2))))","v":-0.23166250008012845},null,{"$f":"N8","v":11112},{"$f":"COUNTIF(L51:L72,AD8)","v":1},{"$f":"AE8/(AG4-AE25)","v":5.8823529411764705E-2},{"$f":"IF(AF8=0,0,(AF8*((LOG(AF8))/LOG(2))))","v":-0.24043899066178465},null,{"$f":"N8","v":11112},{"$f":"COUNTIF(L73:L94,AI8)","v":0},{"$f":"AJ8/(AL4-AJ25)","v":0},{"$f":"IF(AK8=0,0,(AK8*((LOG(AK8))/LOG(2))))","v":0},null,{"$f":"N8","v":11112},{"$f":"COUNTIF(L95:L116,AN8)","v":0},{"$f":"AO8/(AQ4-AO25)","v":0},{"$f":"IF(AP8=0,0,(AP8*((LOG(AP8))/LOG(2))))","v":0},null,{"$f":"N8","v":11112},{"$f":"COUNTIF(L117:L138,AS8)","v":0},{"$f":"AT8/(AV4-AT25)","v":0},{"$f":"IF(AU8=0,0,(AU8*((LOG(AU8))/LOG(2))))","v":0}]
[21,485,11,493,22,506,14,515,24,527,0,21212,null,11121,{"$f":"COUNTIF($L$7:$L$500,N9)","v":18},{"$f":"O9/$Q$4","v":0.13636363636363635},{"$f":"IF(P9=0,0,(P9*((LOG(P9))/LOG(2))))","v":-0.39197306153401923},null,null,{"$f":"N9","v":11121},{"$f":"COUNTIF(L7:L28,T9)","v":3},{"$f":"U9/(W4-U25)","v":0.1875},{"$f":"IF(V9=0,0,(V9*((LOG(V9))/LOG(2))))","v":-0.45281953111478312},null,{"$f":"N9","v":11121},{"$f":"COUNTIF(L29:L50,Y9)","v":5},{"$f":"Z9/(AB4-Z25)","v":0.27777777777777779},{"$f":"IF(AA9=0,0,(AA9*((LOG(AA9))/LOG(2))))","v":-0.51333247404304172},null,{"$f":"N9","v":11121},{"$f":"COUNTIF(L51:L72,AD9)","v":5},{"$f":"AE9/(AG4-AE25)","v":0.29411764705882354},{"$f":"IF(AF9=0,0,(AF9*((LOG(AF9))/LOG(2))))","v":-0.51927492540087561},null,{"$f":"N9","v":11121},{"$f":"COUNTIF(L73:L94,AI9)","v":3},{"$f":"AJ9/(AL4-AJ25)","v":0.3},{"$f":"IF(AK9=0,0,(AK9*((LOG(AK9))/LOG(2))))","v":-0.52108967824986185},null,{"$f":"N9","v":11121},{"$f":"COUNTIF(L95:L116,AN9)","v":2},{"$f":"AO9/(AQ4-AO25)","v":0.11764705882352941},{"$f":"IF(AP9=0,0,(AP9*((LOG(AP9))/LOG(2))))","v":-0.36323092250003997},null,{"$f":"N9","v":11121},{"$f":"COUNTIF(L117:L138,AS9)","v":0},{"$f":"AT9/(AV4-AT25)","v":0},{"$f":"IF(AU9=0,0,(AU9*((LOG(AU9))/LOG(2))))","v":0}]
[21,625,11,633,11,642,12,657,24,669,0,21112,null,11122,{"$f":"COUNTIF($L$7:$L$500,N10)","v":2},{"$f":"O10/$Q$4","v":1.5151515151515152E-2},{"$f":"IF(P10=0,0,(P10*((LOG(P10))/LOG(2))))","v":-9.1581729081188695E-2},null,null,{"$f":"N10","v":11122},{"$f":"COUNTIF(L7:L28,T10)","v":0},{"$f":"U10/(W4-U25)","v":0},{"$f":"IF(V10=0,0,(V10*((LOG(V10))/LOG(2))))","v":0},null,{"$f":"N10","v":11122},{"$f":"COUNTIF(L29:L50,Y10)","v":2},{"$f":"Z10/(AB4-Z25)","v":0.1111111111111111},{"$f":"IF(AA10=0,0,(AA10*((LOG(AA10))/LOG(2))))","v":-0.3522138890491458},null,{"$f":"N10","v":11122},{"$f":"COUNTIF(L51:L72,AD10)","v":0},{"$f":"AE10/(AG4-AE25)","v":0},{"$f":"IF(AF10=0,0,(AF10*((LOG(AF10))/LOG(2))))","v":0},null,{"$f":"N10","v":11122},{"$f":"COUNTIF(L73:L94,AI10)","v":0},{"$f":"AJ10/(AL4-AJ25)","v":0},{"$f":"IF(AK10=0,0,(AK10*((LOG(AK10))/LOG(2))))","v":0},null,{"$f":"N10","v":11122},{"$f":"COUNTIF(L95:L116,AN10)","v":0},{"$f":"AO10/(AQ4-AO25)","v":0},{"$f":"IF(AP10=0,0,(AP10*((LOG(AP10))/LOG(2))))","v":0},null,{"$f":"N10","v":11122},{"$f":"COUNTIF(L117:L138,AS10)","v":0},{"$f":"AT10/(AV4-AT25)","v":0},{"$f":"IF(AU10=0,0,(AU10*((LOG(AU10))/LOG(2))))","v":0}]
[21,767,11,790,11,802,12,820,24,834,0,21112,null,11211,{"$f":"COUNTIF($L$7:$L$500,N11)","v":11},{"$f":"O11/$Q$4","v":8.3333333333333329E-2},{"$f":"IF(P11=0,0,(P11*((LOG(P11))/LOG(2))))","v":-0.29874687506009634},null,null,{"$f":"N11","v":11211},{"$f":"COUNTIF(L7:L28,T11)","v":1},{"$f":"U11/(W4-U25)","v":6.25E-2},{"$f":"IF(V11=0,0,(V11*((LOG(V11))/LOG(2))))","v":-0.25},null,{"$f":"N11","v":11211},{"$f":"COUNTIF(L29:L50,Y11)","v":4},{"$f":"Z11/(AB4-Z25)","v":0.22222222222222221},{"$f":"IF(AA11=0,0,(AA11*((LOG(AA11))/LOG(2))))","v":-0.48220555587606945},null,{"$f":"N11","v":11211},{"$f":"COUNTIF(L51:L72,AD11)","v":2},{"$f":"AE11/(AG4-AE25)","v":0.11764705882352941},{"$f":"IF(AF11=0,0,(AF11*((LOG(AF11))/LOG(2))))","v":-0.36323092250003997},null,{"$f":"N11","v":11211},{"$f":"COUNTIF(L73:L94,AI11)","v":1},{"$f":"AJ11/(AL4-AJ25)","v":0.1},{"$f":"IF(AK11=0,0,(AK11*((LOG(AK11))/LOG(2))))","v":-0.33219280948873625},null,{"$f":"N11","v":11211},{"$f":"COUNTIF(L95:L116,AN11)","v":0},{"$f":"AO11/(AQ4-AO25)","v":0},{"$f":"IF(AP11=0,0,(AP11*((LOG(AP11))/LOG(2))))","v":0},null,{"$f":"N11","v":11211},{"$f":"COUNTIF(L117:L138,AS11)","v":3},{"$f":"AT11/(AV4-AT25)","v":0.21428571428571427},{"$f":"IF(AU11=0,0,(AU11*((LOG(AU11))/LOG(2))))","v":-0.47622694742923877}]
[21,984,11,994,22,1006,14,1014,13,1032,0,21211,null,11212,{"$f":"COUNTIF($L$7:$L$500,N12)","v":3},{"$f":"O12/$Q$4","v":2.2727272727272728E-2},{"$f":"IF(P12=0,0,(P12*((LOG(P12))/LOG(2))))","v":-0.12407799133266585},null,null,{"$f":"N12","v":11212},{"$f":"COUNTIF(L7:L28,T12)","v":1},{"$f":"U12/(W4-U25)","v":6.25E-2},{"$f":"IF(V12=0,0,(V12*((LOG(V12))/LOG(2))))","v":-0.25},null,{"$f":"N12","v":11212},{"$f":"COUNTIF(L29:L50,Y12)","v":2},{"$f":"Z12/(AB4-Z25)","v":0.1111111111111111},{"$f":"IF(AA12=0,0,(AA12*((LOG(AA12))/LOG(2))))","v":-0.3522138890491458},null,{"$f":"N12","v":11212},{"$f":"COUNTIF(L51:L72,AD12)","v":0},{"$f":"AE12/(AG4-AE25)","v":0},{"$f":"IF(AF12=0,0,(AF12*((LOG(AF12))/LOG(2))))","v":0},null,{"$f":"N12","v":11212},{"$f":"COUNTIF(L73:L94,AI12)","v":0},{"$f":"AJ12/(AL4-AJ25)","v":0},{"$f":"IF(AK12=0,0,(AK12*((LOG(AK12))/LOG(2))))","v":0},null,{"$f":"N12","v":11212},{"$f":"COUNTIF(L95:L116,AN12)","v":0},{"$f":"AO12/(AQ4-AO25)","v":0},{"$f":"IF(AP12=0,0,(AP12*((LOG(AP12))/LOG(2))))","v":0},null,{"$f":"N12","v":11212},{"$f":"COUNTIF(L117:L138,AS12)","v":0},{"$f":"AT12/(AV4-AT25)","v":0},{"$f":"IF(AU12=0,0,(AU12*((LOG(AU12))/LOG(2))))","v":0}]
[21,1255,11,1283,11,1301,21,1313,11,1321,1,21121,null,11221,{"$f":"COUNTIF($L$7:$L$500,N13)","v":0},{"$f":"O13/$Q$4","v":0},{"$f":"IF(P13=0,0,(P13*((LOG(P13))/LOG(2))))","v":0},null,null,{"$f":"N13","v":11221},{"$f":"COUNTIF(L7:L28,T13)","v":0},{"$f":"U13/(W4-U25)","v":0},{"$f":"IF(V13=0,0,(V13*((LOG(V13))/LOG(2))))","v":0},null,{"$f":"N13","v":11221},{"$f":"COUNTIF(L29:L50,Y13)","v":0},{"$f":"Z13/(AB4-Z25)","v":0},{"$f":"IF(AA13=0,0,(AA13*((LOG(AA13))/LOG(2))))","v":0},null,{"$f":"N13","v":11221},{"$f":"COUNTIF(L51:L72,AD13)","v":0},{"$f":"AE13/(AG4-AE25)","v":0},{"$f":"IF(AF13=0,0,(AF13*((LOG(AF13))/LOG(2))))","v":0},null,{"$f":"N13","v":11221},{"$f":"COUNTIF(L73:L94,AI13)","v":0},{"$f":"AJ13/(AL4-AJ25)","v":0},{"$f":"IF(AK13=0,0,(AK13*((LOG(AK13))/LOG(2))))","v":0},null,{"$f":"N13","v":11221},{"$f":"COUNTIF(L95:L116,AN13)","v":0},{"$f":"AO13/(AQ4-AO25)","v":0},{"$f":"IF(AP13=0,0,(AP13*((LOG(AP13))/LOG(2))))","v":0},null,{"$f":"N13","v":11221},{"$f":"COUNTIF(L117:L138,AS13)","v":0},{"$f":"AT13/(AV4-AT25)","v":0},{"$f":"IF(AU13=0,0,(AU13*((LOG(AU13))/LOG(2))))","v":0}]
[21,1415,11,1429,11,1444,12,1463,24,1480,0,21112,null,11222,{"$f":"COUNTIF($L$7:$L$500,N14)","v":0},{"$f":"O14/$Q$4","v":0},{"$f":"IF(P14=0,0,(P14*((LOG(P14))/LOG(2))))","v":0},null,null,{"$f":"N14","v":11222},{"$f":"COUNTIF(L7:L28,T14)","v":0},{"$f":"U14/(W4-U25)","v":0},{"$f":"IF(V14=0,0,(V14*((LOG(V14))/LOG(2))))","v":0},null,{"$f":"N14","v":11222},{"$f":"COUNTIF(L29:L50,Y14)","v":0},{"$f":"Z14/(AB4-Z25)","v":0},{"$f":"IF(AA14=0,0,(AA14*((LOG(AA14))/LOG(2))))","v":0},null,{"$f":"N14","v":11222},{"$f":"COUNTIF(L51:L72,AD14)","v":0},{"$f":"AE14/(AG4-AE25)","v":0},{"$f":"IF(AF14=0,0,(AF14*((LOG(AF14))/LOG(2))))","v":0},null,{"$f":"N14","v":11222},{"$f":"COUNTIF(L73:L94,AI14)","v":0},{"$f":"AJ14/(AL4-AJ25)","v":0},{"$f":"IF(AK14=0,0,(AK14*((LOG(AK14))/LOG(2))))","v":0},null,{"$f":"N14","v":11222},{"$f":"COUNTIF(L95:L116,AN14)","v":0},{"$f":"AO14/(AQ4-AO25)","v":0},{"$f":"IF(AP14=0,0,(AP14*((LOG(AP14))/LOG(2))))","v":0},null,{"$f":"N14","v":11222},{"$f":"COUNTIF(L117:L138,AS14)","v":0},{"$f":"AT14/(AV4-AT25)","v":0},{"$f":"IF(AU14=0,0,(AU14*((LOG(AU14))/LOG(2))))","v":0}]
[21,1579,11,1598,11,1605,21,1617,11,1628,1,21121,null,12111,{"$f":"COUNTIF($L$7:$L$500,N15)","v":0},{"$f":"O15/$Q$4","v":0},{"$f":"IF(P15=0,0,(P15*((LOG(P15))/LOG(2))))","v":0},null,null,{"$f":"N15","v":12111},{"$f":"COUNTIF(L7:L28,T15)","v":0},{"$f":"U15/(W4-U25)","v":0},{"$f":"IF(V15=0,0,(V15*((LOG(V15))/LOG(2))))","v":0},null,{"$f":"N15","v":12111},{"$f":"COUNTIF(L29:L50,Y15)","v":0},{"$f":"Z15/(AB4-Z25)","v":0},{"$f":"IF(AA15=0,0,(AA15*((LOG(AA15))/LOG(2))))","v":0},null,{"$f":"N15","v":12111},{"$f":"COUNTIF(L51:L72,AD15)","v":0},{"$f":"AE15/(AG4-AE25)","v":0},{"$f":"IF(AF15=0,0,(AF15*((LOG(AF15))/LOG(2))))","v":0},null,{"$f":"N15","v":12111},{"$f":"COUNTIF(L73:L94,AI15)","v":0},{"$f":"AJ15/(AL4-AJ25)","v":0},{"$f":"IF(AK15=0,0,(AK15*((LOG(AK15))/LOG(2))))","v":0},null,{"$f":"N15","v":12111},{"$f":"COUNTIF(L95:L116,AN15)","v":0},{"$f":"AO15/(AQ4-AO25)","v":0},{"$f":"IF(AP15=0,0,(AP15*((LOG(AP15))/LOG(2))))","v":0},null,{"$f":"N15","v":12111},{"$f":"COUNTIF(L117:L138,AS15)","v":0},{"$f":"AT15/(AV4-AT25)","v":0},{"$f":"IF(AU15=0,0,(AU15*((LOG(AU15))/LOG(2))))","v":0}]
[21,1750,11,1777,22,1789,14,1806,13,1818,0,21211,null,12112,{"$f":"COUNTIF($L$7:$L$500,N16)","v":1},{"$f":"O16/$Q$4","v":7.575757575757576E-3},{"$f":"IF(P16=0,0,(P16*((LOG(P16))/LOG(2))))","v":-5.3366622116351931E-2},null,null,{"$f":"N16","v":12112},{"$f":"COUNTIF(L7:L28,T16)","v":0},{"$f":"U16/(W4-U25)","v":0},{"$f":"IF(V16=0,0,(V16*((LOG(V16))/LOG(2))))","v":0},null,{"$f":"N16","v":12112},{"$f":"COUNTIF(L29:L50,Y16)","v":0},{"$f":"Z16/(AB4-Z25)","v":0},{"$f":"IF(AA16=0,0,(AA16*((LOG(AA16))/LOG(2))))","v":0},null,{"$f":"N16","v":12112},{"$f":"COUNTIF(L51:L72,AD16)","v":0},{"$f":"AE16/(AG4-AE25)","v":0},{"$f":"IF(AF16=0,0,(AF16*((LOG(AF16))/LOG(2))))","v":0},null,{"$f":"N16","v":12112},{"$f":"COUNTIF(L73:L94,AI16)","v":1},{"$f":"AJ16/(AL4-AJ25)","v":0.1},{"$f":"IF(AK16=0,0,(AK16*((LOG(AK16))/LOG(2))))","v":-0.33219280948873625},null,{"$f":"N16","v":12112},{"$f":"COUNTIF(L95:L116,AN16)","v":0},{"$f":"AO16/(AQ4-AO25)","v":0},{"$f":"IF(AP16=0,0,(AP16*((LOG(AP16))/LOG(2))))","v":0},null,{"$f":"N16","v":12112},{"$f":"COUNTIF(L117:L138,AS16)","v":0},{"$f":"AT16/(AV4-AT25)","v":0},{"$f":"IF(AU16=0,0,(AU16*((LOG(AU16))/LOG(2))))","v":0}]
[21,1917,11,1925,11,1936,12,1945,24,1957,0,21112,null,12121,{"$f":"COUNTIF($L$7:$L$500,N17)","v":4},{"$f":"O17/$Q$4","v":3.0303030303030304E-2},{"$f":"IF(P17=0,0,(P17*((LOG(P17))/LOG(2))))","v":-0.15286042785934709},null,null,{"$f":"N17","v":12121},{"$f":"COUNTIF(L7:L28,T17)","v":0},{"$f":"U17/(W4-U25)","v":0},{"$f":"IF(V17=0,0,(V17*((LOG(V17))/LOG(2))))","v":0},null,{"$f":"N17","v":12121},{"$f":"COUNTIF(L29:L50,Y17)","v":0},{"$f":"Z17/(AB4-Z25)","v":0},{"$f":"IF(AA17=0,0,(AA17*((LOG(AA17))/LOG(2))))","v":0},null,{"$f":"N17","v":12121},{"$f":"COUNTIF(L51:L72,AD17)","v":1},{"$f":"AE17/(AG4-AE25)","v":5.8823529411764705E-2},{"$f":"IF(AF17=0,0,(AF17*((LOG(AF17))/LOG(2))))","v":-0.24043899066178465},null,{"$f":"N17","v":12121},{"$f":"COUNTIF(L73:L94,AI17)","v":1},{"$f":"AJ17/(AL4-AJ25)","v":0.1},{"$f":"IF(AK17=0,0,(AK17*((LOG(AK17))/LOG(2))))","v":-0.33219280948873625},null,{"$f":"N17","v":12121},{"$f":"COUNTIF(L95:L116,AN17)","v":2},{"$f":"AO17/(AQ4-AO25)","v":0.11764705882352941},{"$f":"IF(AP17=0,0,(AP17*((LOG(AP17))/LOG(2))))","v":-0.36323092250003997},null,{"$f":"N17","v":12121},{"$f":"COUNTIF(L117:L138,AS17)","v":0},{"$f":"AT17/(AV4-AT25)","v":0},{"$f":"IF(AU17=0,0,(AU17*((LOG(AU17))/LOG(2))))","v":0}]
[12,2075,13,2086,13,2097,23,2111,13,2125,0,11121,null,12122,{"$f":"COUNTIF($L$7:$L$500,N18)","v":1},{"$f":"O18/$Q$4","v":7.575757575757576E-3},{"$f":"IF(P18=0,0,(P18*((LOG(P18))/LOG(2))))","v":-5.3366622116351931E-2},null,null,{"$f":"N18","v":12122},{"$f":"COUNTIF(L7:L28,T18)","v":0},{"$f":"U18/(W4-U25)","v":0},{"$f":"IF(V18=0,0,(V18*((LOG(V18))/LOG(2))))","v":0},null,{"$f":"N18","v":12122},{"$f":"COUNTIF(L29:L50,Y18)","v":0},{"$f":"Z18/(AB4-Z25)","v":0},{"$f":"IF(AA18=0,0,(AA18*((LOG(AA18))/LOG(2))))","v":0},null,{"$f":"N18","v":12122},{"$f":"COUNTIF(L51:L72,AD18)","v":1},{"$f":"AE18/(AG4-AE25)","v":5.8823529411764705E-2},{"$f":"IF(AF18=0,0,(AF18*((LOG(AF18))/LOG(2))))","v":-0.24043899066178465},null,{"$f":"N18","v":12122},{"$f":"COUNTIF(L73:L94,AI18)","v":0},{"$f":"AJ18/(AL4-AJ25)","v":0},{"$f":"IF(AK18=0,0,(AK18*((LOG(AK18))/LOG(2))))","v":0},null,{"$f":"N18","v":12122},{"$f":"COUNTIF(L95:L116,AN18)","v":0},{"$f":"AO18/(AQ4-AO25)","v":0},{"$f":"IF(AP18=0,0,(AP18*((LOG(AP18))/LOG(2))))","v":0},null,{"$f":"N18","v":12122},{"$f":"COUNTIF(L117:L138,AS18)","v":0},{"$f":"AT18/(AV4-AT25)","v":0},{"$f":"IF(AU18=0,0,(AU18*((LOG(AU18))/LOG(2))))","v":0}]
[12,2234,13,2251,13,2259,23,2268,13,2276,0,11121,null,12211,{"$f":"COUNTIF($L$7:$L$500,N19)","v":2},{"$f":"O19/$Q$4","v":1.5151515151515152E-2},{"$f":"IF(P19=0,0,(P19*((LOG(P19))/LOG(2))))","v":-9.1581729081188695E-2},null,null,{"$f":"N19","v":12211},{"$f":"COUNTIF(L7:L28,T19)","v":0},{"$f":"U19/(W4-U25)","v":0},{"$f":"IF(V19=0,0,(V19*((LOG(V19))/LOG(2))))","v":0},null,{"$f":"N19","v":12211},{"$f":"COUNTIF(L29:L50,Y19)","v":0},{"$f":"Z19/(AB4-Z25)","v":0},{"$f":"IF(AA19=0,0,(AA19*((LOG(AA19))/LOG(2))))","v":0},null,{"$f":"N19","v":12211},{"$f":"COUNTIF(L51:L72,AD19)","v":0},{"$f":"AE19/(AG4-AE25)","v":0},{"$f":"IF(AF19=0,0,(AF19*((LOG(AF19))/LOG(2))))","v":0},null,{"$f":"N19","v":12211},{"$f":"COUNTIF(L73:L94,AI19)","v":0},{"$f":"AJ19/(AL4-AJ25)","v":0},{"$f":"IF(AK19=0,0,(AK19*((LOG(AK19))/LOG(2))))","v":0},null,{"$f":"N19","v":12211},{"$f":"COUNTIF(L95:L116,AN19)","v":1},{"$f":"AO19/(AQ4-AO25)","v":5.8823529411764705E-2},{"$f":"IF(AP19=0,0,(AP19*((LOG(AP19))/LOG(2))))","v":-0.24043899066178465},null,{"$f":"N19","v":12211},{"$f":"COUNTIF(L117:L138,AS19)","v":1},{"$f":"AT19/(AV4-AT25)","v":7.1428571428571425E-2},{"$f":"IF(AU19=0,0,(AU19*((LOG(AU19))/LOG(2))))","v":-0.27195392300411453}]
[21,2372,22,2382,13,2390,14,2403,24,2412,0,22112,null,12212,{"$f":"COUNTIF($L$7:$L$500,N20)","v":0},{"$f":"O20/$Q$4","v":0},{"$f":"IF(P20=0,0,(P20*((LOG(P20))/LOG(2))))","v":0},null,null,{"$f":"N20","v":12212},{"$f":"COUNTIF(L7:L28,T20)","v":0},{"$f":"U20/(W4-U25)","v":0},{"$f":"IF(V20=0,0,(V20*((LOG(V20))/LOG(2))))","v":0},null,{"$f":"N20","v":12212},{"$f":"COUNTIF(L29:L50,Y20)","v":0},{"$f":"Z20/(AB4-Z25)","v":0},{"$f":"IF(AA20=0,0,(AA20*((LOG(AA20))/LOG(2))))","v":0},null,{"$f":"N20","v":12212},{"$f":"COUNTIF(L51:L72,AD20)","v":0},{"$f":"AE20/(AG4-AE25)","v":0},{"$f":"IF(AF20=0,0,(AF20*((LOG(AF20))/LOG(2))))","v":0},null,{"$f":"N20","v":12212},{"$f":"COUNTIF(L73:L94,AI20)","v":0},{"$f":"AJ20/(AL4-AJ25)","v":0},{"$f":"IF(AK20=0,0,(AK20*((LOG(AK20))/LOG(2))))","v":0},null,{"$f":"N20","v":12212},{"$f":"COUNTIF(L95:L116,AN20)","v":0},{"$f":"AO20/(AQ4-AO25)","v":0},{"$f":"IF(AP20=0,0,(AP20*((LOG(AP20))/LOG(2))))","v":0},null,{"$f":"N20","v":12212},{"$f":"COUNTIF(L117:L138,AS20)","v":0},{"$f":"AT20/(AV4-AT25)","v":0},{"$f":"IF(AU20=0,0,(AU20*((LOG(AU20))/LOG(2))))","v":0}]
[12,2517,13,2528,13,2537,23,2548,13,2570,0,11121,null,12221,{"$f":"COUNTIF($L$7:$L$500,N21)","v":0},{"$f":"O21/$Q$4","v":0},{"$f":"IF(P21=0,0,(P21*((LOG(P21))/LOG(2))))","v":0},null,null,{"$f":"N21","v":12221},{"$f":"COUNTIF(L7:L28,T21)","v":0},{"$f":"U21/(W4-U25)","v":0},{"$f":"IF(V21=0,0,(V21*((LOG(V21))/LOG(2))))","v":0},null,{"$f":"N21","v":12221},{"$f":"COUNTIF(L29:L50,Y21)","v":0},{"$f":"Z21/(AB4-Z25)","v":0},{"$f":"IF(AA21=0,0,(AA21*((LOG(AA21))/LOG(2))))","v":0},null,{"$f":"N21","v":12221},{"$f":"COUNTIF(L51:L72,AD21)","v":0},{"$f":"AE21/(AG4-AE25)","v":0},{"$f":"IF(AF21=0,0,(AF21*((LOG(AF21))/LOG(2))))","v":0},null,{"$f":"N21","v":12221},{"$f":"COUNTIF(L73:L94,AI21)","v":0},{"$f":"AJ21/(AL4-AJ25)","v":0},{"$f":"IF(AK21=0,0,(AK21*((LOG(AK21))/LOG(2))))","v":0},null,{"$f":"N21","v":12221},{"$f":"COUNTIF(L95:L116,AN21)","v":0},{"$f":"AO21/(AQ4-AO25)","v":0},{"$f":"IF(AP21=0,0,(AP21*((LOG(AP21))/LOG(2))))","v":0},null,{"$f":"N21","v":12221},{"$f":"COUNTIF(L117:L138,AS21)","v":0},{"$f":"AT21/(AV4-AT25)","v":0},{"$f":"IF(AU21=0,0,(AU21*((LOG(AU21))/LOG(2))))","v":0}]
[21,2676,11,2684,11,2696,21,2707,11,2725,1,21121,null,12222,{"$f":"COUNTIF($L$7:$L$500,N22)","v":0},{"$f":"O22/$Q$4","v":0},{"$f":"IF(P22=0,0,(P22*((LOG(P22))/LOG(2))))","v":0},null,null,{"$f":"N22","v":12222},{"$f":"COUNTIF(L7:L28,T22)","v":0},{"$f":"U22/(W4-U25)","v":0},{"$f":"IF(V22=0,0,(V22*((LOG(V22))/LOG(2))))","v":0},null,{"$f":"N22","v":12222},{"$f":"COUNTIF(L29:L50,Y22)","v":0},{"$f":"Z22/(AB4-Z25)","v":0},{"$f":"IF(AA22=0,0,(AA22*((LOG(AA22))/LOG(2))))","v":0},null,{"$f":"N22","v":12222},{"$f":"COUNTIF(L51:L72,AD22)","v":0},{"$f":"AE22/(AG4-AE25)","v":0},{"$f":"IF(AF22=0,0,(AF22*((LOG(AF22))/LOG(2))))","v":0},null,{"$f":"N22","v":12222},{"$f":"COUNTIF(L73:L94,AI22)","v":0},{"$f":"AJ22/(AL4-AJ25)","v":0},{"$f":"IF(AK22=0,0,(AK22*((LOG(AK22))/LOG(2))))","v":0},null,{"$f":"N22","v":12222},{"$f":"COUNTIF(L95:L116,AN22)","v":0},{"$f":"AO22/(AQ4-AO25)","v":0},{"$f":"IF(AP22=0,0,(AP22*((LOG(AP22))/LOG(2))))","v":0},null,{"$f":"N22","v":12222},{"$f":"COUNTIF(L117:L138,AS22)","v":0},{"$f":"AT22/(AV4-AT25)","v":0},{"$f":"IF(AU22=0,0,(AU22*((LOG(AU22))/LOG(2))))","v":0}]
[21,2853,11,2861,22,2873,14,2886,13,2893,0,21211,null,21111,{"$f":"COUNTIF($L$7:$L$500,N23)","v":5},{"$f":"O23/$Q$4","v":3.787878787878788E-2},{"$f":"IF(P23=0,0,(P23*((LOG(P23))/LOG(2))))","v":-0.17888128880572313},null,null,{"$f":"N23","v":21111},{"$f":"COUNTIF(L7:L28,T23)","v":0},{"$f":"U23/(W4-U25)","v":0},{"$f":"IF(V23=0,0,(V23*((LOG(V23))/LOG(2))))","v":0},null,{"$f":"N23","v":21111},{"$f":"COUNTIF(L29:L50,Y23)","v":0},{"$f":"Z23/(AB4-Z25)","v":0},{"$f":"IF(AA23=0,0,(AA23*((LOG(AA23))/LOG(2))))","v":0},null,{"$f":"N23","v":21111},{"$f":"COUNTIF(L51:L72,AD23)","v":2},{"$f":"AE23/(AG4-AE25)","v":0.11764705882352941},{"$f":"IF(AF23=0,0,(AF23*((LOG(AF23))/LOG(2))))","v":-0.36323092250003997},null,{"$f":"N23","v":21111},{"$f":"COUNTIF(L73:L94,AI23)","v":1},{"$f":"AJ23/(AL4-AJ25)","v":0.1},{"$f":"IF(AK23=0,0,(AK23*((LOG(AK23))/LOG(2))))","v":-0.33219280948873625},null,{"$f":"N23","v":21111},{"$f":"COUNTIF(L95:L116,AN23)","v":2},{"$f":"AO23/(AQ4-AO25)","v":0.11764705882352941},{"$f":"IF(AP23=0,0,(AP23*((LOG(AP23))/LOG(2))))","v":-0.36323092250003997},null,{"$f":"N23","v":21111},{"$f":"COUNTIF(L117:L138,AS23)","v":0},{"$f":"AT23/(AV4-AT25)","v":0},{"$f":"IF(AU23=0,0,(AU23*((LOG(AU23))/LOG(2))))","v":0}]
[21,2992,11,3001,11,3012,21,3024,11,3033,1,21121,null,21112,{"$f":"COUNTIF($L$7:$L$500,N24)","v":13},{"$f":"O24/$Q$4","v":9.8484848484848481E-2},{"$f":"IF(P24=0,0,(P24*((LOG(P24))/LOG(2))))","v":-0.32932884254413403},null,null,{"$f":"N24","v":21112},{"$f":"COUNTIF(L7:L28,T24)","v":4},{"$f":"U24/(W4-U25)","v":0.25},{"$f":"IF(V24=0,0,(V24*((LOG(V24))/LOG(2))))","v":-0.5},null,{"$f":"N24","v":21112},{"$f":"COUNTIF(L29:L50,Y24)","v":2},{"$f":"Z24/(AB4-Z25)","v":0.1111111111111111},{"$f":"IF(AA24=0,0,(AA24*((LOG(AA24))/LOG(2))))","v":-0.3522138890491458},null,{"$f":"N24","v":21112},{"$f":"COUNTIF(L51:L72,AD24)","v":1},{"$f":"AE24/(AG4-AE25)","v":5.8823529411764705E-2},{"$f":"IF(AF24=0,0,(AF24*((LOG(AF24))/LOG(2))))","v":-0.24043899066178465},null,{"$f":"N24","v":21112},{"$f":"COUNTIF(L73:L94,AI24)","v":2},{"$f":"AJ24/(AL4-AJ25)","v":0.2},{"$f":"IF(AK24=0,0,(AK24*((LOG(AK24))/LOG(2))))","v":-0.46438561897747244},null,{"$f":"N24","v":21112},{"$f":"COUNTIF(L95:L116,AN24)","v":1},{"$f":"AO24/(AQ4-AO25)","v":5.8823529411764705E-2},{"$f":"IF(AP24=0,0,(AP24*((LOG(AP24))/LOG(2))))","v":-0.24043899066178465},null,{"$f":"N24","v":21112},{"$f":"COUNTIF(L117:L138,AS24)","v":3},{"$f":"AT24/(AV4-AT25)","v":0.21428571428571427},{"$f":"IF(AU24=0,0,(AU24*((LOG(AU24))/LOG(2))))","v":-0.47622694742923877}]
[12,3128,13,3136,24,3146,14,3157,13,3181,0,11211,null,21121,{"$f":"COUNTIF($L$7:$L$500,N25)","v":40},{"$f":"O25/$Q$4","v":0.30303030303030304},{"$f":"IF(P25=0,0,(P25*((LOG(P25))/LOG(2))))","v":-0.52195940135487617},null,null,{"$f":"N25","v":21121},{"$f":"COUNTIF(L7:L28,T25)","v":6},null,null,null,{"$f":"N25","v":21121},{"$f":"COUNTIF(L29:L50,Y25)","v":4},null,null,null,{"$f":"N25","v":21121},{"$f":"COUNTIF(L51:L72,AD25)","v":5},null,null,null,{"$f":"N25","v":21121},{"$f":"COUNTIF(L73:L94,AI25)","v":12},null,null,null,{"$f":"N25","v":21121},{"$f":"COUNTIF(L95:L116,AN25)","v":5},null,null,null,{"$f":"N25","v":21121},{"$f":"COUNTIF(L117:L138,AS25)","v":8}]
[21,3290,11,3305,11,3326,21,3339,11,3362,1,21121,null,21122,{"$f":"COUNTIF($L$7:$L$500,N26)","v":0},{"$f":"O26/$Q$4","v":0},{"$f":"IF(P26=0,0,(P26*((LOG(P26))/LOG(2))))","v":0},null,null,{"$f":"N26","v":21122},{"$f":"COUNTIF(L7:L28,T26)","v":0},{"$f":"U26/(W4-U25)","v":0},{"$f":"IF(V26=0,0,(V26*((LOG(V26))/LOG(2))))","v":0},null,{"$f":"N26","v":21122},{"$f":"COUNTIF(L29:L50,Y26)","v":0},{"$f":"Z26/(AB4-Z25)","v":0},{"$f":"IF(AA26=0,0,(AA26*((LOG(AA26))/LOG(2))))","v":0},null,{"$f":"N26","v":21122},{"$f":"COUNTIF(L51:L72,AD26)","v":0},{"$f":"AE26/(AG4-AE25)","v":0},{"$f":"IF(AF26=0,0,(AF26*((LOG(AF26))/LOG(2))))","v":0},null,{"$f":"N26","v":21122},{"$f":"COUNTIF(L73:L94,AI26)","v":0},{"$f":"AJ26/(AL4-AJ25)","v":0},{"$f":"IF(AK26=0,0,(AK26*((LOG(AK26))/LOG(2))))","v":0},null,{"$f":"N26","v":21122},{"$f":"COUNTIF(L95:L116,AN26)","v":0},{"$f":"AO26/(AQ4-AO25)","v":0},{"$f":"IF(AP26=0,0,(AP26*((LOG(AP26))/LOG(2))))","v":0},null,{"$f":"N26","v":21122},{"$f":"COUNTIF(L117:L138,AS26)","v":0},{"$f":"AT26/(AV4-AT25)","v":0},{"$f":"IF(AU26=0,0,(AU26*((LOG(AU26))/LOG(2))))","v":0}]
[21,3476,11,3488,22,3500,14,3514,24,3528,0,21212,null,21211,{"$f":"COUNTIF($L$7:$L$500,N27)","v":6},{"$f":"O27/$Q$4","v":4.5454545454545456E-2},{"$f":"IF(P27=0,0,(P27*((LOG(P27))/LOG(2))))","v":-0.20270143721078623},null,null,{"$f":"N27","v":21211},{"$f":"COUNTIF(L7:L28,T27)","v":3},{"$f":"U27/(W4-U25)","v":0.1875},{"$f":"IF(V27=0,0,(V27*((LOG(V27))/LOG(2))))","v":-0.45281953111478312},null,{"$f":"N27","v":21211},{"$f":"COUNTIF(L29:L50,Y27)","v":1},{"$f":"Z27/(AB4-Z25)","v":5.5555555555555552E-2},{"$f":"IF(AA27=0,0,(AA27*((LOG(AA27))/LOG(2))))","v":-0.23166250008012845},null,{"$f":"N27","v":21211},{"$f":"COUNTIF(L51:L72,AD27)","v":1},{"$f":"AE27/(AG4-AE25)","v":5.8823529411764705E-2},{"$f":"IF(AF27=0,0,(AF27*((LOG(AF27))/LOG(2))))","v":-0.24043899066178465},null,{"$f":"N27","v":21211},{"$f":"COUNTIF(L73:L94,AI27)","v":0},{"$f":"AJ27/(AL4-AJ25)","v":0},{"$f":"IF(AK27=0,0,(AK27*((LOG(AK27))/LOG(2))))","v":0},null,{"$f":"N27","v":21211},{"$f":"COUNTIF(L95:L116,AN27)","v":1},{"$f":"AO27/(AQ4-AO25)","v":5.8823529411764705E-2},{"$f":"IF(AP27=0,0,(AP27*((LOG(AP27))/LOG(2))))","v":-0.24043899066178465},null,{"$f":"N27","v":21211},{"$f":"COUNTIF(L117:L138,AS27)","v":0},{"$f":"AT27/(AV4-AT25)","v":0},{"$f":"IF(AU27=0,0,(AU27*((LOG(AU27))/LOG(2))))","v":0}]
[12,3627,13,3640,24,3649,14,3660,24,3673,0,11212,null,21212,{"$f":"COUNTIF($L$7:$L$500,N28)","v":5},{"$f":"O28/$Q$4","v":3.787878787878788E-2},{"$f":"IF(P28=0,0,(P28*((LOG(P28))/LOG(2))))","v":-0.17888128880572313},null,null,{"$f":"N28","v":21212},{"$f":"COUNTIF(L7:L28,T28)","v":2},{"$f":"U28/(W4-U25)","v":0.125},{"$f":"IF(V28=0,0,(V28*((LOG(V28))/LOG(2))))","v":-0.375},null,{"$f":"N28","v":21212},{"$f":"COUNTIF(L29:L50,Y28)","v":0},{"$f":"Z28/(AB4-Z25)","v":0},{"$f":"IF(AA28=0,0,(AA28*((LOG(AA28))/LOG(2))))","v":0},null,{"$f":"N28","v":21212},{"$f":"COUNTIF(L51:L72,AD28)","v":1},{"$f":"AE28/(AG4-AE25)","v":5.8823529411764705E-2},{"$f":"IF(AF28=0,0,(AF28*((LOG(AF28))/LOG(2))))","v":-0.24043899066178465},null,{"$f":"N28","v":21212},{"$f":"COUNTIF(L73:L94,AI28)","v":0},{"$f":"AJ28/(AL4-AJ25)","v":0},{"$f":"IF(AK28=0,0,(AK28*((LOG(AK28))/LOG(2))))","v":0},null,{"$f":"N28","v":21212},{"$f":"COUNTIF(L95:L116,AN28)","v":2},{"$f":"AO28/(AQ4-AO25)","v":0.11764705882352941},{"$f":"IF(AP28=0,0,(AP28*((LOG(AP28))/LOG(2))))","v":-0.36323092250003997},null,{"$f":"N28","v":21212},{"$f":"COUNTIF(L117:L138,AS28)","v":0},{"$f":"AT28/(AV4-AT25)","v":0},{"$f":"IF(AU28=0,0,(AU28*((LOG(AU28))/LOG(2))))","v":0}]
[12,3770,13,3777,24,3787,14,3803,13,3817,0,11211,null,21221,{"$f":"COUNTIF($L$7:$L$500,N29)","v":0},{"$f":"O29/$Q$4","v":0},{"$f":"IF(P29=0,0,(P29*((LOG(P29))/LOG(2))))","v":0},null,null,{"$f":"N29","v":21221},{"$f":"COUNTIF(L7:L28,T29)","v":0},{"$f":"U29/(W4-U25)","v":0},{"$f":"IF(V29=0,0,(V29*((LOG(V29))/LOG(2))))","v":0},null,{"$f":"N29","v":21221},{"$f":"COUNTIF(L29:L50,Y29)","v":0},{"$f":"Z29/(AB4-Z25)","v":0},{"$f":"IF(AA29=0,0,(AA29*((LOG(AA29))/LOG(2))))","v":0},null,{"$f":"N29","v":21221},{"$f":"COUNTIF(L51:L72,AD29)","v":0},{"$f":"AE29/(AG4-AE25)","v":0},{"$f":"IF(AF29=0,0,(AF29*((LOG(AF29))/LOG(2))))","v":0},null,{"$f":"N29","v":21221},{"$f":"COUNTIF(L73:L94,AI29)","v":0},{"$f":"AJ29/(AL4-AJ25)","v":0},{"$f":"IF(AK29=0,0,(AK29*((LOG(AK29))/LOG(2))))","v":0},null,{"$f":"N29","v":21221},{"$f":"COUNTIF(L95:L116,AN29)","v":0},{"$f":"AO29/(AQ4-AO25)","v":0},{"$f":"IF(AP29=0,0,(AP29*((LOG(AP29))/LOG(2))))","v":0},null,{"$f":"N29","v":21221},{"$f":"COUNTIF(L117:L138,AS29)","v":0},{"$f":"AT29/(AV4-AT25)","v":0},{"$f":"IF(AU29=0,0,(AU29*((LOG(AU29))/LOG(2))))","v":0}]
[12,3913,13,3923,13,3930,23,3947,13,3960,0,11121,null,21222,{"$f":"COUNTIF($L$7:$L$500,N30)","v":0},{"$f":"O30/$Q$4","v":0},{"$f":"IF(P30=0,0,(P30*((LOG(P30))/LOG(2))))","v":0},null,null,{"$f":"N30","v":21222},{"$f":"COUNTIF(L7:L28,T30)","v":0},{"$f":"U30/(W4-U25)","v":0},{"$f":"IF(V30=0,0,(V30*((LOG(V30))/LOG(2))))","v":0},null,{"$f":"N30","v":21222},{"$f":"COUNTIF(L29:L50,Y30)","v":0},{"$f":"Z30/(AB4-Z25)","v":0},{"$f":"IF(AA30=0,0,(AA30*((LOG(AA30))/LOG(2))))","v":0},null,{"$f":"N30","v":21222},{"$f":"COUNTIF(L51:L72,AD30)","v":0},{"$f":"AE30/(AG4-AE25)","v":0},{"$f":"IF(AF30=0,0,(AF30*((LOG(AF30))/LOG(2))))","v":0},null,{"$f":"N30","v":21222},{"$f":"COUNTIF(L73:L94,AI30)","v":0},{"$f":"AJ30/(AL4-AJ25)","v":0},{"$f":"IF(AK30=0,0,(AK30*((LOG(AK30))/LOG(2))))","v":0},null,{"$f":"N30","v":21222},{"$f":"COUNTIF(L95:L116,AN30)","v":0},{"$f":"AO30/(AQ4-AO25)","v":0},{"$f":"IF(AP30=0,0,(AP30*((LOG(AP30))/LOG(2))))","v":0},null,{"$f":"N30","v":21222},{"$f":"COUNTIF(L117:L138,AS30)","v":0},{"$f":"AT30/(AV4-AT25)","v":0},{"$f":"IF(AU30=0,0,(AU30*((LOG(AU30))/LOG(2))))","v":0}]
[12,4063,13,4070,13,4078,23,4088,13,4096,0,11121,null,22111,{"$f":"COUNTIF($L$7:$L$500,N31)","v":1},{"$f":"O31/$Q$4","v":7.575757575757576E-3},{"$f":"IF(P31=0,0,(P31*((LOG(P31))/LOG(2))))","v":-5.3366622116351931E-2},null,null,{"$f":"N31","v":22111},{"$f":"COUNTIF(L7:L28,T31)","v":0},{"$f":"U31/(W4-U25)","v":0},{"$f":"IF(V31=0,0,(V31*((LOG(V31))/LOG(2))))","v":0},null,{"$f":"N31","v":22111},{"$f":"COUNTIF(L29:L50,Y31)","v":0},{"$f":"Z31/(AB4-Z25)","v":0},{"$f":"IF(AA31=0,0,(AA31*((LOG(AA31))/LOG(2))))","v":0},null,{"$f":"N31","v":22111},{"$f":"COUNTIF(L51:L72,AD31)","v":0},{"$f":"AE31/(AG4-AE25)","v":0},{"$f":"IF(AF31=0,0,(AF31*((LOG(AF31))/LOG(2))))","v":0},null,{"$f":"N31","v":22111},{"$f":"COUNTIF(L73:L94,AI31)","v":1},{"$f":"AJ31/(AL4-AJ25)","v":0.1},{"$f":"IF(AK31=0,0,(AK31*((LOG(AK31))/LOG(2))))","v":-0.33219280948873625},null,{"$f":"N31","v":22111},{"$f":"COUNTIF(L95:L116,AN31)","v":0},{"$f":"AO31/(AQ4-AO25)","v":0},{"$f":"IF(AP31=0,0,(AP31*((LOG(AP31))/LOG(2))))","v":0},null,{"$f":"N31","v":22111},{"$f":"COUNTIF(L117:L138,AS31)","v":0},{"$f":"AT31/(AV4-AT25)","v":0},{"$f":"IF(AU31=0,0,(AU31*((LOG(AU31))/LOG(2))))","v":0}]
[12,4188,13,4195,13,4205,14,4212,24,4223,0,11112,null,22112,{"$f":"COUNTIF($L$7:$L$500,N32)","v":5},{"$f":"O32/$Q$4","v":3.787878787878788E-2},{"$f":"IF(P32=0,0,(P32*((LOG(P32))/LOG(2))))","v":-0.17888128880572313},null,null,{"$f":"N32","v":22112},{"$f":"COUNTIF(L7:L28,T32)","v":1},{"$f":"U32/(W4-U25)","v":6.25E-2},{"$f":"IF(V32=0,0,(V32*((LOG(V32))/LOG(2))))","v":-0.25},null,{"$f":"N32","v":22112},{"$f":"COUNTIF(L29:L50,Y32)","v":0},{"$f":"Z32/(AB4-Z25)","v":0},{"$f":"IF(AA32=0,0,(AA32*((LOG(AA32))/LOG(2))))","v":0},null,{"$f":"N32","v":22112},{"$f":"COUNTIF(L51:L72,AD32)","v":0},{"$f":"AE32/(AG4-AE25)","v":0},{"$f":"IF(AF32=0,0,(AF32*((LOG(AF32))/LOG(2))))","v":0},null,{"$f":"N32","v":22112},{"$f":"COUNTIF(L73:L94,AI32)","v":0},{"$f":"AJ32/(AL4-AJ25)","v":0},{"$f":"IF(AK32=0,0,(AK32*((LOG(AK32))/LOG(2))))","v":0},null,{"$f":"N32","v":22112},{"$f":"COUNTIF(L95:L116,AN32)","v":2},{"$f":"AO32/(AQ4-AO25)","v":0.11764705882352941},{"$f":"IF(AP32=0,0,(AP32*((LOG(AP32))/LOG(2))))","v":-0.36323092250003997},null,{"$f":"N32","v":22112},{"$f":"COUNTIF(L117:L138,AS32)","v":2},{"$f":"AT32/(AV4-AT25)","v":0.14285714285714285},{"$f":"IF(AU32=0,0,(AU32*((LOG(AU32))/LOG(2))))","v":-0.40105070315108626}]
[12,4335,13,4345,13,4353,23,4371,24,4383,0,11122,null,22121,{"$f":"COUNTIF($L$7:$L$500,N33)","v":6},{"$f":"O33/$Q$4","v":4.5454545454545456E-2},{"$f":"IF(P33=0,0,(P33*((LOG(P33))/LOG(2))))","v":-0.20270143721078623},null,null,{"$f":"N33","v":22121},{"$f":"COUNTIF(L7:L28,T33)","v":1},{"$f":"U33/(W4-U25)","v":6.25E-2},{"$f":"IF(V33=0,0,(V33*((LOG(V33))/LOG(2))))","v":-0.25},null,{"$f":"N33","v":22121},{"$f":"COUNTIF(L29:L50,Y33)","v":0},{"$f":"Z33/(AB4-Z25)","v":0},{"$f":"IF(AA33=0,0,(AA33*((LOG(AA33))/LOG(2))))","v":0},null,{"$f":"N33","v":22121},{"$f":"COUNTIF(L51:L72,AD33)","v":2},{"$f":"AE33/(AG4-AE25)","v":0.11764705882352941},{"$f":"IF(AF33=0,0,(AF33*((LOG(AF33))/LOG(2))))","v":-0.36323092250003997},null,{"$f":"N33","v":22121},{"$f":"COUNTIF(L73:L94,AI33)","v":0},{"$f":"AJ33/(AL4-AJ25)","v":0},{"$f":"IF(AK33=0,0,(AK33*((LOG(AK33))/LOG(2))))","v":0},null,{"$f":"N33","v":22121},{"$f":"COUNTIF(L95:L116,AN33)","v":1},{"$f":"AO33/(AQ4-AO25)","v":5.8823529411764705E-2},{"$f":"IF(AP33=0,0,(AP33*((LOG(AP33))/LOG(2))))","v":-0.24043899066178465},null,{"$f":"N33","v":22121},{"$f":"COUNTIF(L117:L138,AS33)","v":2},{"$f":"AT33/(AV4-AT25)","v":0.14285714285714285},{"$f":"IF(AU33=0,0,(AU33*((LOG(AU33))/LOG(2))))","v":-0.40105070315108626}]
[12,4489,13,4501,13,4512,23,4523,13,4535,0,11121,null,22122,{"$f":"COUNTIF($L$7:$L$500,N34)","v":1},{"$f":"O34/$Q$4","v":7.575757575757576E-3},{"$f":"IF(P34=0,0,(P34*((LOG(P34))/LOG(2))))","v":-5.3366622116351931E-2},null,null,{"$f":"N34","v":22122},{"$f":"COUNTIF(L7:L28,T34)","v":0},{"$f":"U34/(W4-U25)","v":0},{"$f":"IF(V34=0,0,(V34*((LOG(V34))/LOG(2))))","v":0},null,{"$f":"N34","v":22122},{"$f":"COUNTIF(L29:L50,Y34)","v":0},{"$f":"Z34/(AB4-Z25)","v":0},{"$f":"IF(AA34=0,0,(AA34*((LOG(AA34))/LOG(2))))","v":0},null,{"$f":"N34","v":22122},{"$f":"COUNTIF(L51:L72,AD34)","v":0},{"$f":"AE34/(AG4-AE25)","v":0},{"$f":"IF(AF34=0,0,(AF34*((LOG(AF34))/LOG(2))))","v":0},null,{"$f":"N34","v":22122},{"$f":"COUNTIF(L73:L94,AI34)","v":0},{"$f":"AJ34/(AL4-AJ25)","v":0},{"$f":"IF(AK34=0,0,(AK34*((LOG(AK34))/LOG(2))))","v":0},null,{"$f":"N34","v":22122},{"$f":"COUNTIF(L95:L116,AN34)","v":0},{"$f":"AO34/(AQ4-AO25)","v":0},{"$f":"IF(AP34=0,0,(AP34*((LOG(AP34))/LOG(2))))","v":0},null,{"$f":"N34","v":22122},{"$f":"COUNTIF(L117:L138,AS34)","v":1},{"$f":"AT34/(AV4-AT25)","v":7.1428571428571425E-2},{"$f":"IF(AU34=0,0,(AU34*((LOG(AU34))/LOG(2))))","v":-0.27195392300411453}]
[21,4633,11,4640,11,4651,21,4661,11,4675,1,21121,null,22211,{"$f":"COUNTIF($L$7:$L$500,N35)","v":1},{"$f":"O35/$Q$4","v":7.575757575757576E-3},{"$f":"IF(P35=0,0,(P35*((LOG(P35))/LOG(2))))","v":-5.3366622116351931E-2},null,null,{"$f":"N35","v":22211},{"$f":"COUNTIF(L7:L28,T35)","v":0},{"$f":"U35/(W4-U25)","v":0},{"$f":"IF(V35=0,0,(V35*((LOG(V35))/LOG(2))))","v":0},null,{"$f":"N35","v":22211},{"$f":"COUNTIF(L29:L50,Y35)","v":0},{"$f":"Z35/(AB4-Z25)","v":0},{"$f":"IF(AA35=0,0,(AA35*((LOG(AA35))/LOG(2))))","v":0},null,{"$f":"N35","v":22211},{"$f":"COUNTIF(L51:L72,AD35)","v":0},{"$f":"AE35/(AG4-AE25)","v":0},{"$f":"IF(AF35=0,0,(AF35*((LOG(AF35))/LOG(2))))","v":0},null,{"$f":"N35","v":22211},{"$f":"COUNTIF(L73:L94,AI35)","v":0},{"$f":"AJ35/(AL4-AJ25)","v":0},{"$f":"IF(AK35=0,0,(AK35*((LOG(AK35))/LOG(2))))","v":0},null,{"$f":"N35","v":22211},{"$f":"COUNTIF(L95:L116,AN35)","v":1},{"$f":"AO35/(AQ4-AO25)","v":5.8823529411764705E-2},{"$f":"IF(AP35=0,0,(AP35*((LOG(AP35))/LOG(2))))","v":-0.24043899066178465},null,{"$f":"N35","v":22211},{"$f":"COUNTIF(L117:L138,AS35)","v":0},{"$f":"AT35/(AV4-AT25)","v":0},{"$f":"IF(AU35=0,0,(AU35*((LOG(AU35))/LOG(2))))","v":0}]
[12,4780,13,4787,24,4798,14,4808,13,4825,0,11211,null,22212,{"$f":"COUNTIF($L$7:$L$500,N36)","v":1},{"$f":"O36/$Q$4","v":7.575757575757576E-3},{"$f":"IF(P36=0,0,(P36*((LOG(P36))/LOG(2))))","v":-5.3366622116351931E-2},null,null,{"$f":"N36","v":22212},{"$f":"COUNTIF(L7:L28,T36)","v":0},{"$f":"U36/(W4-U25)","v":0},{"$f":"IF(V36=0,0,(V36*((LOG(V36))/LOG(2))))","v":0},null,{"$f":"N36","v":22212},{"$f":"COUNTIF(L29:L50,Y36)","v":0},{"$f":"Z36/(AB4-Z25)","v":0},{"$f":"IF(AA36=0,0,(AA36*((LOG(AA36))/LOG(2))))","v":0},null,{"$f":"N36","v":22212},{"$f":"COUNTIF(L51:L72,AD36)","v":0},{"$f":"AE36/(AG4-AE25)","v":0},{"$f":"IF(AF36=0,0,(AF36*((LOG(AF36))/LOG(2))))","v":0},null,{"$f":"N36","v":22212},{"$f":"COUNTIF(L73:L94,AI36)","v":0},{"$f":"AJ36/(AL4-AJ25)","v":0},{"$f":"IF(AK36=0,0,(AK36*((LOG(AK36))/LOG(2))))","v":0},null,{"$f":"N36","v":22212},{"$f":"COUNTIF(L95:L116,AN36)","v":0},{"$f":"AO36/(AQ4-AO25)","v":0},{"$f":"IF(AP36=0,0,(AP36*((LOG(AP36))/LOG(2))))","v":0},null,{"$f":"N36","v":22212},{"$f":"COUNTIF(L117:L138,AS36)","v":1},{"$f":"AT36/(AV4-AT25)","v":7.1428571428571425E-2},{"$f":"IF(AU36=0,0,(AU36*((LOG(AU36))/LOG(2))))","v":-0.27195392300411453}]
[21,4920,11,4927,11,4939,12,4947,24,4958,0,21112,null,22221,{"$f":"COUNTIF($L$7:$L$500,N37)","v":0},{"$f":"O37/$Q$4","v":0},{"$f":"IF(P37=0,0,(P37*((LOG(P37))/LOG(2))))","v":0},null,null,{"$f":"N37","v":22221},{"$f":"COUNTIF(L7:L28,T37)","v":0},{"$f":"U37/(W4-U25)","v":0},{"$f":"IF(V37=0,0,(V37*((LOG(V37))/LOG(2))))","v":0},null,{"$f":"N37","v":22221},{"$f":"COUNTIF(L29:L50,Y37)","v":0},{"$f":"Z37/(AB4-Z25)","v":0},{"$f":"IF(AA37=0,0,(AA37*((LOG(AA37))/LOG(2))))","v":0},null,{"$f":"N37","v":22221},{"$f":"COUNTIF(L51:L72,AD37)","v":0},{"$f":"AE37/(AG4-AE25)","v":0},{"$f":"IF(AF37=0,0,(AF37*((LOG(AF37))/LOG(2))))","v":0},null,{"$f":"N37","v":22221},{"$f":"COUNTIF(L73:L94,AI37)","v":0},{"$f":"AJ37/(AL4-AJ25)","v":0},{"$f":"IF(AK37=0,0,(AK37*((LOG(AK37))/LOG(2))))","v":0},null,{"$f":"N37","v":22221},{"$f":"COUNTIF(L95:L116,AN37)","v":0},{"$f":"AO37/(AQ4-AO25)","v":0},{"$f":"IF(AP37=0,0,(AP37*((LOG(AP37))/LOG(2))))","v":0},null,{"$f":"N37","v":22221},{"$f":"COUNTIF(L117:L138,AS37)","v":0},{"$f":"AT37/(AV4-AT25)","v":0},{"$f":"IF(AU37=0,0,(AU37*((LOG(AU37))/LOG(2))))","v":0}]
[12,5053,13,5067,13,5074,14,5088,13,5109,0,11111,null,22222,{"$f":"COUNTIF($L$7:$L$500,N38)","v":0},{"$f":"O38/$Q$4","v":0},{"$f":"IF(P38=0,0,(P38*((LOG(P38))/LOG(2))))","v":0},null,null,{"$f":"N38","v":22222},{"$f":"COUNTIF(L7:L28,T38)","v":0},{"$f":"U38/(W4-U25)","v":0},{"$f":"IF(V38=0,0,(V38*((LOG(V38))/LOG(2))))","v":0},null,{"$f":"N38","v":22222},{"$f":"COUNTIF(L29:L50,Y38)","v":0},{"$f":"Z38/(AB4-Z25)","v":0},{"$f":"IF(AA38=0,0,(AA38*((LOG(AA38))/LOG(2))))","v":0},null,{"$f":"N38","v":22222},{"$f":"COUNTIF(L51:L72,AD38)","v":0},{"$f":"AE38/(AG4-AE25)","v":0},{"$f":"IF(AF38=0,0,(AF38*((LOG(AF38))/LOG(2))))","v":0},null,{"$f":"N38","v":22222},{"$f":"COUNTIF(L73:L94,AI38)","v":0},{"$f":"AJ38/(AL4-AJ25)","v":0},{"$f":"IF(AK38=0,0,(AK38*((LOG(AK38))/LOG(2))))","v":0},null,{"$f":"N38","v":22222},{"$f":"COUNTIF(L95:L116,AN38)","v":0},{"$f":"AO38/(AQ4-AO25)","v":0},{"$f":"IF(AP38=0,0,(AP38*((LOG(AP38))/LOG(2))))","v":0},null,{"$f":"N38","v":22222},{"$f":"COUNTIF(L117:L138,AS38)","v":0},{"$f":"AT38/(AV4-AT25)","v":0},{"$f":"IF(AU38=0,0,(AU38*((LOG(AU38))/LOG(2))))","v":0}]
[21,5205,11,5213,11,5236,21,5247,11,5260,1,21121,null,null,null,{"$f":"SUM(P7:P38)","v":0.99999999999999978},{"$f":"-SUM(Q7:Q38)","v":3.5087986883249043},null,null,null,null,{"$f":"SUM(V7:V38)","v":1},{"$f":"-SUM(W7:W38)","v":2.7806390622295662},null,null,null,{"$f":"SUM(AA7:AA38)","v":1},{"$f":"-SUM(AB7:AB38)","v":2.747167197306934},null,null,null,{"$f":"SUM(AF7:AF38)","v":1},{"$f":"-SUM(AG7:AG38)","v":3.051601636871704},null,null,null,{"$f":"SUM(AK7:AK38)","v":0.99999999999999989},{"$f":"-SUM(AL7:AL38)","v":2.6464393446710157},null,null,null,{"$f":"SUM(AP7:AP38)","v":1},{"$f":"-SUM(AQ7:AQ38)","v":3.3815804883091638},null,null,null,{"$f":"SUM(AU7:AU38)","v":0.99999999999999978},{"$f":"-SUM(AV7:AV38)","v":2.842370993177108}]
[12,5370,13,5400,24,5418,14,5431,13,5446,0,11211,null,null,null,"U=",{"$f":"Q39/(LOG(Q4)/LOG(2))","v":0.49809800940615984},null,null,null,null,"U1=",{"$f":"W39/(LOG(W4)/LOG(2))","v":0.62354113708313064},null,null,null,"U2=",{"$f":"AB39/(LOG(AB4)/LOG(2))","v":0.61603527808918546},null,null,null,"U3=",{"$f":"AG39/(LOG(AG4)/LOG(2))","v":0.68430282104072382},null,null,null,"U4=",{"$f":"AL39/(LOG(AL4)/LOG(2))","v":0.59344767920888275},null,null,null,"U5=",{"$f":"AQ39/(LOG(AQ4)/LOG(2))","v":0.75829854059798307},null,null,null,"U6=",{"$f":"AV39/(LOG(AV4)/LOG(2))","v":0.63738414135514265}]
[12,5544,13,5555,24,5565,14,5582,24,5593,0,11212]
[12,5689,13,5700,13,5707,23,5716,13,5724,0,11121]
[21,5821,11,5829,11,5840,12,5859,24,5871,0,21112,null,"Total Target Seq"]
[21,5967,11,5975,11,5987,21,6004,11,6018,1,21121,null,{"$f":"COUNTIF(L7:L138,G3)","v":40},null,22,22,22,22,22,22]
[12,6119,13,6129,13,6143,23,6154,24,6163,0,11122,null,null,null,"% of reinforcement given in 6 equal intervals based on number of trials "]
[12,6263,13,6273,13,6290,23,6300,13,6313,0,11121,null,null,null,"%_1","%_2","%_3","%_4","%_5","%_6"]
[12,6434,13,6451,24,6462,14,6472,13,6480,0,11211,null,null,"target sequence",{"$f":"$G$3","v":21121},{"$f":"$G$3","v":21121},{"$f":"$G$3","v":21121},{"$f":"$G$3","v":21121},{"$f":"$G$3","v":21121},{"$f":"$G$3","v":21121}]
[12,6599,13,6610,24,6621,14,6633,24,6647,0,11212,null,null,"total reinforcement",{"$f":"U25","v":6},{"$f":"Z25","v":4},{"$f":"AE25","v":5},{"$f":"AJ25","v":12},{"$f":"AO25","v":5},{"$f":"AT25","v":8}]
[21,6768,11,6780,22,6791,14,6804,13,6812,0,21211,null,null,"% target"]
[21,6908,11,6917,11,6929,21,6939,11,6960,1,21121,null,null,"CCRF"]
[21,7049,11,7056,22,7070,14,7081,24,7096,0,21212,null,null,"% CCRf"]
[21,7193,11,7200,11,7211,21,7226,11,7253,1,21121,null,null,"average response rate",{"$f":"J28/P44","v":166.95454545454547},{"$f":"(J50-J28)/Q44","v":149.40909090909091},{"$f":"(J72-J50)/R44","v":161},{"$f":"(J94-J72)/S44","v":152.59090909090909},{"$f":"(J116-J94)/T44","v":150.90909090909091},{"$f":"(J138-J116)/U44","v":147.86363636363637}]
[21,7374,22,7414,13,7428,23,7439,13,7451,0,22121]
[12,7554,13,7561,13,7573,23,7585,13,7598,0,11121]
[12,7705,24,7721,13,7729,23,7740,13,7747,0,12121]
[12,7855,24,7876,13,7884,23,7895,24,7905,0,12122]
[21,8002,11,8010,11,8018,12,8029,24,8044,0,21112]
[21,8177,11,8192,11,8213,21,8226,11,8237,1,21121]
[21,8336,11,8345,22,8358,14,8372,13,8379,0,21211]
[21,8477,11,8485,11,8492,21,8503,11,8514,1,21121]
[21,8663,11,8682,11,8694,21,8703,11,8712,1,21121]
[12,8858,13,8874,24,8883,14,8895,13,8903,0,11211]
[12,8999,13,9020,13,9037,23,9049,13,9059,0,11121]
[21,9156,11,9163,11,9200,21,9211,11,9228,1,21121]
[12,9325,13,9341,13,9355,23,9367,13,9415,0,11121]
[12,9520,13,9527,13,9539,23,9555,13,9579,0,11121]
[12,9682,13,9698,13,9705,14,9722,24,9733,0,11112]
[12,9838,13,9860,24,9870,14,9885,13,9893,0,11211]
[21,9992,11,10000,11,10013,12,10027,13,10057,0,21111]
[21,10153,11,10161,11,10172,12,10179,13,10188,0,21111]
[12,10296,13,10304,13,10323,23,10334,13,10344,0,11121]
[21,10440,22,10465,13,10482,23,10493,13,10502,0,22121]
[21,10603,11,10612,11,10630,21,10643,11,10657,1,21121]
[21,10746,11,10753,11,10761,12,10772,24,10782,0,21112]
[21,10879,11,10886,11,10901,21,10916,11,10937,1,21121]
[21,11025,11,11032,11,11053,12,11075,13,11083,0,21111]
[12,11196,13,11203,13,11230,23,11242,13,11256,0,11121]
[12,11359,13,11367,13,11387,23,11398,13,11408,0,11121]
[21,11542,11,11555,11,11568,21,11578,11,11588,1,21121]
[12,11689,13,11696,13,11713,23,11724,13,11737,0,11121]
[12,11840,24,11853,13,11860,14,11868,24,11894,0,12112]
[21,11994,11,12005,11,12012,12,12026,24,12036,0,21112]
[21,12132,11,12140,11,12156,21,12168,11,12177,1,21121]
[12,12299,13,12316,24,12324,14,12344,13,12351,0,11211]
[21,12447,22,12455,13,12462,14,12469,13,12496,0,22111]
[21,12599,11,12607,11,12633,21,12644,11,12655,1,21121]
[21,12743,11,12751,11,12763,21,12773,11,12788,1,21121]
[21,12884,11,12910,11,12919,21,12930,11,12944,1,21121]
[21,13033,11,13048,11,13063,21,13073,11,13084,1,21121]
[21,13173,11,13180,11,13200,21,13211,11,13225,1,21121]
[12,13327,24,13343,13,13361,23,13371,13,13405,0,12121]
[21,13501,11,13508,11,13520,21,13530,11,13542,1,21121]
[21,13631,11,13639,11,13657,21,13667,11,13681,1,21121]
[21,13807,11,13815,11,13834,21,13846,11,13859,1,21121]
[21,13948,11,13956,11,13972,21,13983,11,13993,1,21121]
[21,14086,11,14096,11,14115,21,14126,11,14179,1,21121]
[12,14274,13,14284,13,14298,23,14310,13,14323,0,11121]
[12,14427,13,14446,13,14459,23,14470,13,14484,0,11121]
[21,14586,11,14601,22,14612,14,14623,13,14631,0,21211]
[12,14728,13,14739,13,14764,14,14775,13,14785,0,11111]
[12,14890,24,14903,13,14911,23,14922,13,14940,0,12121]
[21,15039,11,15047,22,15059,14,15068,24,15079,0,21212]
[12,15191,24,15200,24,15208,14,15230,13,15262,0,12211]
[21,15358,22,15368,13,15376,14,15385,24,15398,0,22112]
[21,15494,11,15502,22,15511,14,15519,24,15533,0,21212]
[21,15631,22,15644,13,15665,23,15673,13,15685,0,22121]
[21,15780,11,15789,11,15796,21,15806,11,15825,1,21121]
[21,15912,11,15920,11,15931,21,15943,11,15956,1,21121]
[21,16044,22,16050,24,16083,14,16097,13,16108,0,22211]
[21,16207,11,16215,11,16227,12,16243,24,16255,0,21112]
[12,16374,24,16392,13,16409,23,16419,13,16427,0,12121]
[21,16529,11,16538,11,16561,12,16580,13,16588,0,21111]
[12,16701,13,16708,13,16731,14,16742,13,16750,0,11111]
[21,16850,22,16853,13,16861,14,16873,24,16887,0,22112]
[21,16986,11,16996,11,17014,21,17027,11,17040,1,21121]
[21,17141,11,17150,11,17164,12,17172,13,17179,0,21111]
[21,17275,22,17282,13,17300,23,17311,13,17323,0,22121]
[21,17419,11,17426,11,17433,21,17445,11,17460,1,21121]
[21,17549,11,17559,11,17576,21,17586,11,17600,1,21121]
[12,17690,24,17703,24,17712,14,17724,13,17740,0,12211]
[21,17839,11,17849,11,17865,12,17889,24,17904,0,21112]
[21,18001,22,18007,24,18030,14,18038,24,18049,0,22212]
[21,18147,11,18158,11,18166,21,18180,11,18200,1,21121]
[21,18292,11,18301,11,18312,21,18324,11,18337,1,21121]
[12,18439,13,18453,24,18463,14,18475,13,18483,0,11211]
[21,18578,11,18590,11,18602,12,18622,24,18635,0,21112]
[21,18734,22,18737,13,18748,14,18762,24,18777,0,22112]
[21,18879,11,18888,11,18899,21,18914,11,18924,1,21121]
[12,19031,13,19052,13,19079,14,19086,13,19093,0,11111]
[21,19188,11,19202,11,19209,12,19220,24,19235,0,21112]
[21,19330,11,19340,11,19351,21,19366,11,19380,1,21121]
[12,19486,13,19498,24,19512,14,19527,13,19535,0,11211]
[21,19633,22,19636,13,19653,14,19664,24,19675,0,22112]
[12,19779,13,19812,24,19823,14,19836,13,19845,0,11211]
[21,19941,22,19945,13,19961,23,19976,24,19980,0,22122]
[21,20082,22,20088,13,20098,23,20108,13,20116,0,22121]
[21,20213,11,20221,11,20259,21,20271,11,20285,1,21121]
[21,20374,11,20384,11,20397,21,20409,11,20432,1,21121]

{"sheet":"!MA28A20.010","index":31,"n_rows":113,"n_cols":48,"rows_kept":113,"cut":false,"hidden":false,"merged":[[4,39,4,42],[5,39,5,40],[4,44,4,47],[5,44,5,45],[4,24,4,27],[5,24,5,25],[4,29,4,32],[5,29,5,30],[4,34,4,37],[5,34,5,35],[1,1,1,2],[5,13,5,14],[42,13,42,14],[43,13,43,14],[4,19,4,22],[5,19,5,20]]}
["Report for:!MA28A20.010"]
["Date:","<date>"]
["Hen:","<hen>",null,null,null,"Correct Sequence",{"$f":"Start!J2","v":21121},null,null,null,null,null,null,null,null,"Total Sequences in Data",{"$f":"4994-COUNTBLANK(L7:L5000)","v":107},null,null,null,null,"Total Sequences in Block Data",{"$f":"COUNTA(L7:L24)","v":18},null,null,null,"Total Sequences in Block Data",{"$f":"COUNTA(L25:L42)","v":18},null,null,null,"Total Sequences in Block Data",{"$f":"COUNTA(L43:L59)","v":17},null,null,null,"Total Sequences in Block Data",{"$f":"COUNTA(L60:L77)","v":18},null,null,null,"Total Sequences in Block Data",{"$f":"COUNTA(L78:L95)","v":18},null,null,null,"Total Sequences in Block Data",{"$f":"COUNTA(L96:L113)","v":18}]
[null,null,null,null,null,null,null,null,null,null,null,null,null,null,null,"Total Sequences in Summary",{"$f":"SUM(O7:O38)","v":107},null,null,null,null,"Total Sequences in Block Summary",{"$f":"SUM(U7:U38)","v":18},null,null,null,"Total Sequences in Block Summary",{"$f":"SUM(Z7:Z38)","v":18},null,null,null,"Total Sequences in Block Summary",{"$f":"SUM(AE7:AE38)","v":17},null,null,null,"Total Sequences in Block Summary",{"$f":"SUM(AJ7:AJ38)","v":18},null,null,null,"Total Sequences in Block Summary",{"$f":"SUM(AO7:AO38)","v":18},null,null,null,"Total Sequences in Block Summary",{"$f":"SUM(AT7:AT38)","v":18}]
[null,null,null,null,null,null,null,null,null,null,null,null,null,null,null,null,null,null,null,"Block 1",null,null,null,null,"Block 2",null,null,null,null,"Block 3",null,null,null,null,"Block 4",null,null,null,null,"Block 5",null,null,null,null,"Block 6"]
["Sequence\nComponent\n1","Time\n1","Sequence\nComponent\n2","Time\n2","Sequence\nComponent\n3","Time\n3","Sequence\nComponent\n4","Time\n4","Sequence\nComponent\n5","Time\n5","Correct?\n0=No 1=Yes","Sequence",null,"Frequency",null,"Relative Frequency","Variability",null,null,"Frequency",null,"Relative Frequency","Variability",null,"Frequency",null,"Relative Frequency","Variability",null,"Frequency",null,"Relative Frequency","Variability",null,"Frequency",null,"Relative Frequency","Variability",null,"Frequency",null,"Relative Frequency","Variability",null,"Frequency",null,"Relative Frequency","Variability"]
[21,47,22,70,13,93,23,104,13,115,0,22121,null,11111,{"$f":"COUNTIF($L$7:$L$500,N7)","v":0},{"$f":"O7/$Q$4","v":0},{"$f":"IF(P7=0,0,(P7*((LOG(P7))/LOG(2))))","v":0},null,null,{"$f":"N7","v":11111},{"$f":"COUNTIF(L7:L24,T7)","v":0},{"$f":"U7/(W4-U25)","v":0},{"$f":"IF(V7=0,0,(V7*((LOG(V7))/LOG(2))))","v":0},null,{"$f":"N7","v":11111},{"$f":"COUNTIF(L25:L42,Y7)","v":0},{"$f":"Z7/(AB4-Z25)","v":0},{"$f":"IF(AA7=0,0,(AA7*((LOG(AA7))/LOG(2))))","v":0},null,{"$f":"N7","v":11111},{"$f":"COUNTIF(L43:L59,AD7)","v":0},{"$f":"AE7/(AG4-AE25)","v":0},{"$f":"IF(AF7=0,0,(AF7*((LOG(AF7))/LOG(2))))","v":0},null,{"$f":"N7","v":11111},{"$f":"COUNTIF(L60:L77,AI7)","v":0},{"$f":"AJ7/(AL4-AJ25)","v":0},{"$f":"IF(AK7=0,0,(AK7*((LOG(AK7))/LOG(2))))","v":0},null,{"$f":"N7","v":11111},{"$f":"COUNTIF(L78:L95,AN7)","v":0},{"$f":"AO7/(AQ4-AO25)","v":0},{"$f":"IF(AP7=0,0,(AP7*((LOG(AP7))/LOG(2))))","v":0},null,{"$f":"N7","v":11111},{"$f":"COUNTIF(L96:L113,AS7)","v":0},{"$f":"AT7/(AV4-AT25)","v":0},{"$f":"IF(AU7=0,0,(AU7*((LOG(AU7))/LOG(2))))","v":0}]
[12,219,13,227,13,237,23,251,13,269,0,11121,null,11112,{"$f":"COUNTIF($L$7:$L$500,N8)","v":0},{"$f":"O8/$Q$4","v":0},{"$f":"IF(P8=0,0,(P8*((LOG(P8))/LOG(2))))","v":0},null,null,{"$f":"N8","v":11112},{"$f":"COUNTIF(L7:L24,T8)","v":0},{"$f":"U8/(W4-U25)","v":0},{"$f":"IF(V8=0,0,(V8*((LOG(V8))/LOG(2))))","v":0},null,{"$f":"N8","v":11112},{"$f":"COUNTIF(L25:L42,Y8)","v":0},{"$f":"Z8/(AB4-Z25)","v":0},{"$f":"IF(AA8=0,0,(AA8*((LOG(AA8))/LOG(2))))","v":0},null,{"$f":"N8","v":11112},{"$f":"COUNTIF(L43:L59,AD8)","v":0},{"$f":"AE8/(AG4-AE25)","v":0},{"$f":"IF(AF8=0,0,(AF8*((LOG(AF8))/LOG(2))))","v":0},null,{"$f":"N8","v":11112},{"$f":"COUNTIF(L60:L77,AI8)","v":0},{"$f":"AJ8/(AL4-AJ25)","v":0},{"$f":"IF(AK8=0,0,(AK8*((LOG(AK8))/LOG(2))))","v":0},null,{"$f":"N8","v":11112},{"$f":"COUNTIF(L78:L95,AN8)","v":0},{"$f":"AO8/(AQ4-AO25)","v":0},{"$f":"IF(AP8=0,0,(AP8*((LOG(AP8))/LOG(2))))","v":0},null,{"$f":"N8","v":11112},{"$f":"COUNTIF(L96:L113,AS8)","v":0},{"$f":"AT8/(AV4-AT25)","v":0},{"$f":"IF(AU8=0,0,(AU8*((LOG(AU8))/LOG(2))))","v":0}]
[21,367,11,375,11,383,21,396,11,408,1,21121,null,11121,{"$f":"COUNTIF($L$7:$L$500,N9)","v":6},{"$f":"O9/$Q$4","v":5.6074766355140186E-2},{"$f":"IF(P9=0,0,(P9*((LOG(P9))/LOG(2))))","v":-0.23307501788859764},null,null,{"$f":"N9","v":11121},{"$f":"COUNTIF(L7:L24,T9)","v":2},{"$f":"U9/(W4-U25)","v":0.13333333333333333},{"$f":"IF(V9=0,0,(V9*((LOG(V9))/LOG(2))))","v":-0.3875854127478025},null,{"$f":"N9","v":11121},{"$f":"COUNTIF(L25:L42,Y9)","v":1},{"$f":"Z9/(AB4-Z25)","v":8.3333333333333329E-2},{"$f":"IF(AA9=0,0,(AA9*((LOG(AA9))/LOG(2))))","v":-0.29874687506009634},null,{"$f":"N9","v":11121},{"$f":"COUNTIF(L43:L59,AD9)","v":0},{"$f":"AE9/(AG4-AE25)","v":0},{"$f":"IF(AF9=0,0,(AF9*((LOG(AF9))/LOG(2))))","v":0},null,{"$f":"N9","v":11121},{"$f":"COUNTIF(L60:L77,AI9)","v":2},{"$f":"AJ9/(AL4-AJ25)","v":0.2},{"$f":"IF(AK9=0,0,(AK9*((LOG(AK9))/LOG(2))))","v":-0.46438561897747244},null,{"$f":"N9","v":11121},{"$f":"COUNTIF(L78:L95,AN9)","v":1},{"$f":"AO9/(AQ4-AO25)","v":9.0909090909090912E-2},{"$f":"IF(AP9=0,0,(AP9*((LOG(AP9))/LOG(2))))","v":-0.31449378351248153},null,{"$f":"N9","v":11121},{"$f":"COUNTIF(L96:L113,AS9)","v":0},{"$f":"AT9/(AV4-AT25)","v":0},{"$f":"IF(AU9=0,0,(AU9*((LOG(AU9))/LOG(2))))","v":0}]
[12,501,13,526,24,536,14,547,24,559,0,11212,null,11122,{"$f":"COUNTIF($L$7:$L$500,N10)","v":0},{"$f":"O10/$Q$4","v":0},{"$f":"IF(P10=0,0,(P10*((LOG(P10))/LOG(2))))","v":0},null,null,{"$f":"N10","v":11122},{"$f":"COUNTIF(L7:L24,T10)","v":0},{"$f":"U10/(W4-U25)","v":0},{"$f":"IF(V10=0,0,(V10*((LOG(V10))/LOG(2))))","v":0},null,{"$f":"N10","v":11122},{"$f":"COUNTIF(L25:L42,Y10)","v":0},{"$f":"Z10/(AB4-Z25)","v":0},{"$f":"IF(AA10=0,0,(AA10*((LOG(AA10))/LOG(2))))","v":0},null,{"$f":"N10","v":11122},{"$f":"COUNTIF(L43:L59,AD10)","v":0},{"$f":"AE10/(AG4-AE25)","v":0},{"$f":"IF(AF10=0,0,(AF10*((LOG(AF10))/LOG(2))))","v":0},null,{"$f":"N10","v":11122},{"$f":"COUNTIF(L60:L77,AI10)","v":0},{"$f":"AJ10/(AL4-AJ25)","v":0},{"$f":"IF(AK10=0,0,(AK10*((LOG(AK10))/LOG(2))))","v":0},null,{"$f":"N10","v":11122},{"$f":"COUNTIF(L78:L95,AN10)","v":0},{"$f":"AO10/(AQ4-AO25)","v":0},{"$f":"IF(AP10=0,0,(AP10*((LOG(AP10))/LOG(2))))","v":0},null,{"$f":"N10","v":11122},{"$f":"COUNTIF(L96:L113,AS10)","v":0},{"$f":"AT10/(AV4-AT25)","v":0},{"$f":"IF(AU10=0,0,(AU10*((LOG(AU10))/LOG(2))))","v":0}]
[21,656,11,665,22,675,14,689,13,699,0,21211,null,11211,{"$f":"COUNTIF($L$7:$L$500,N11)","v":7},{"$f":"O11/$Q$4","v":6.5420560747663545E-2},{"$f":"IF(P11=0,0,(P11*((LOG(P11))/LOG(2))))","v":-0.25737181729350278},null,null,{"$f":"N11","v":11211},{"$f":"COUNTIF(L7:L24,T11)","v":2},{"$f":"U11/(W4-U25)","v":0.13333333333333333},{"$f":"IF(V11=0,0,(V11*((LOG(V11))/LOG(2))))","v":-0.3875854127478025},null,{"$f":"N11","v":11211},{"$f":"COUNTIF(L25:L42,Y11)","v":0},{"$f":"Z11/(AB4-Z25)","v":0},{"$f":"IF(AA11=0,0,(AA11*((LOG(AA11))/LOG(2))))","v":0},null,{"$f":"N11","v":11211},{"$f":"COUNTIF(L43:L59,AD11)","v":1},{"$f":"AE11/(AG4-AE25)","v":0.1111111111111111},{"$f":"IF(AF11=0,0,(AF11*((LOG(AF11))/LOG(2))))","v":-0.3522138890491458},null,{"$f":"N11","v":11211},{"$f":"COUNTIF(L60:L77,AI11)","v":1},{"$f":"AJ11/(AL4-AJ25)","v":0.1},{"$f":"IF(AK11=0,0,(AK11*((LOG(AK11))/LOG(2))))","v":-0.33219280948873625},null,{"$f":"N11","v":11211},{"$f":"COUNTIF(L78:L95,AN11)","v":2},{"$f":"AO11/(AQ4-AO25)","v":0.18181818181818182},{"$f":"IF(AP11=0,0,(AP11*((LOG(AP11))/LOG(2))))","v":-0.44716938520678134},null,{"$f":"N11","v":11211},{"$f":"COUNTIF(L96:L113,AS11)","v":1},{"$f":"AT11/(AV4-AT25)","v":0.1},{"$f":"IF(AU11=0,0,(AU11*((LOG(AU11))/LOG(2))))","v":-0.33219280948873625}]
[12,802,13,815,24,824,14,838,13,846,0,11211,null,11212,{"$f":"COUNTIF($L$7:$L$500,N12)","v":2},{"$f":"O12/$Q$4","v":1.8691588785046728E-2},{"$f":"IF(P12=0,0,(P12*((LOG(P12))/LOG(2))))","v":-0.10731713993273172},null,null,{"$f":"N12","v":11212},{"$f":"COUNTIF(L7:L24,T12)","v":1},{"$f":"U12/(W4-U25)","v":6.6666666666666666E-2},{"$f":"IF(V12=0,0,(V12*((LOG(V12))/LOG(2))))","v":-0.26045937304056793},null,{"$f":"N12","v":11212},{"$f":"COUNTIF(L25:L42,Y12)","v":1},{"$f":"Z12/(AB4-Z25)","v":8.3333333333333329E-2},{"$f":"IF(AA12=0,0,(AA12*((LOG(AA12))/LOG(2))))","v":-0.29874687506009634},null,{"$f":"N12","v":11212},{"$f":"COUNTIF(L43:L59,AD12)","v":0},{"$f":"AE12/(AG4-AE25)","v":0},{"$f":"IF(AF12=0,0,(AF12*((LOG(AF12))/LOG(2))))","v":0},null,{"$f":"N12","v":11212},{"$f":"COUNTIF(L60:L77,AI12)","v":0},{"$f":"AJ12/(AL4-AJ25)","v":0},{"$f":"IF(AK12=0,0,(AK12*((LOG(AK12))/LOG(2))))","v":0},null,{"$f":"N12","v":11212},{"$f":"COUNTIF(L78:L95,AN12)","v":0},{"$f":"AO12/(AQ4-AO25)","v":0},{"$f":"IF(AP12=0,0,(AP12*((LOG(AP12))/LOG(2))))","v":0},null,{"$f":"N12","v":11212},{"$f":"COUNTIF(L96:L113,AS12)","v":0},{"$f":"AT12/(AV4-AT25)","v":0},{"$f":"IF(AU12=0,0,(AU12*((LOG(AU12))/LOG(2))))","v":0}]
[12,953,13,965,24,982,14,993,13,1004,0,11211,null,11221,{"$f":"COUNTIF($L$7:$L$500,N13)","v":0},{"$f":"O13/$Q$4","v":0},{"$f":"IF(P13=0,0,(P13*((LOG(P13))/LOG(2))))","v":0},null,null,{"$f":"N13","v":11221},{"$f":"COUNTIF(L7:L24,T13)","v":0},{"$f":"U13/(W4-U25)","v":0},{"$f":"IF(V13=0,0,(V13*((LOG(V13))/LOG(2))))","v":0},null,{"$f":"N13","v":11221},{"$f":"COUNTIF(L25:L42,Y13)","v":0},{"$f":"Z13/(AB4-Z25)","v":0},{"$f":"IF(AA13=0,0,(AA13*((LOG(AA13))/LOG(2))))","v":0},null,{"$f":"N13","v":11221},{"$f":"COUNTIF(L43:L59,AD13)","v":0},{"$f":"AE13/(AG4-AE25)","v":0},{"$f":"IF(AF13=0,0,(AF13*((LOG(AF13))/LOG(2))))","v":0},null,{"$f":"N13","v":11221},{"$f":"COUNTIF(L60:L77,AI13)","v":0},{"$f":"AJ13/(AL4-AJ25)","v":0},{"$f":"IF(AK13=0,0,(AK13*((LOG(AK13))/LOG(2))))","v":0},null,{"$f":"N13","v":11221},{"$f":"COUNTIF(L78:L95,AN13)","v":0},{"$f":"AO13/(AQ4-AO25)","v":0},{"$f":"IF(AP13=0,0,(AP13*((LOG(AP13))/LOG(2))))","v":0},null,{"$f":"N13","v":11221},{"$f":"COUNTIF(L96:L113,AS13)","v":0},{"$f":"AT13/(AV4-AT25)","v":0},{"$f":"IF(AU13=0,0,(AU13*((LOG(AU13))/LOG(2))))","v":0}]
[21,1100,11,1108,11,1117,21,1128,11,1142,1,21121,null,11222,{"$f":"COUNTIF($L$7:$L$500,N14)","v":1},{"$f":"O14/$Q$4","v":9.3457943925233638E-3},{"$f":"IF(P14=0,0,(P14*((LOG(P14))/LOG(2))))","v":-6.3004364358889217E-2},null,null,{"$f":"N14","v":11222},{"$f":"COUNTIF(L7:L24,T14)","v":0},{"$f":"U14/(W4-U25)","v":0},{"$f":"IF(V14=0,0,(V14*((LOG(V14))/LOG(2))))","v":0},null,{"$f":"N14","v":11222},{"$f":"COUNTIF(L25:L42,Y14)","v":0},{"$f":"Z14/(AB4-Z25)","v":0},{"$f":"IF(AA14=0,0,(AA14*((LOG(AA14))/LOG(2))))","v":0},null,{"$f":"N14","v":11222},{"$f":"COUNTIF(L43:L59,AD14)","v":0},{"$f":"AE14/(AG4-AE25)","v":0},{"$f":"IF(AF14=0,0,(AF14*((LOG(AF14))/LOG(2))))","v":0},null,{"$f":"N14","v":11222},{"$f":"COUNTIF(L60:L77,AI14)","v":1},{"$f":"AJ14/(AL4-AJ25)","v":0.1},{"$f":"IF(AK14=0,0,(AK14*((LOG(AK14))/LOG(2))))","v":-0.33219280948873625},null,{"$f":"N14","v":11222},{"$f":"COUNTIF(L78:L95,AN14)","v":0},{"$f":"AO14/(AQ4-AO25)","v":0},{"$f":"IF(AP14=0,0,(AP14*((LOG(AP14))/LOG(2))))","v":0},null,{"$f":"N14","v":11222},{"$f":"COUNTIF(L96:L113,AS14)","v":0},{"$f":"AT14/(AV4-AT25)","v":0},{"$f":"IF(AU14=0,0,(AU14*((LOG(AU14))/LOG(2))))","v":0}]
[21,1255,11,1270,22,1278,14,1290,24,1304,0,21212,null,12111,{"$f":"COUNTIF($L$7:$L$500,N15)","v":1},{"$f":"O15/$Q$4","v":9.3457943925233638E-3},{"$f":"IF(P15=0,0,(P15*((LOG(P15))/LOG(2))))","v":-6.3004364358889217E-2},null,null,{"$f":"N15","v":12111},{"$f":"COUNTIF(L7:L24,T15)","v":0},{"$f":"U15/(W4-U25)","v":0},{"$f":"IF(V15=0,0,(V15*((LOG(V15))/LOG(2))))","v":0},null,{"$f":"N15","v":12111},{"$f":"COUNTIF(L25:L42,Y15)","v":0},{"$f":"Z15/(AB4-Z25)","v":0},{"$f":"IF(AA15=0,0,(AA15*((LOG(AA15))/LOG(2))))","v":0},null,{"$f":"N15","v":12111},{"$f":"COUNTIF(L43:L59,AD15)","v":1},{"$f":"AE15/(AG4-AE25)","v":0.1111111111111111},{"$f":"IF(AF15=0,0,(AF15*((LOG(AF15))/LOG(2))))","v":-0.3522138890491458},null,{"$f":"N15","v":12111},{"$f":"COUNTIF(L60:L77,AI15)","v":0},{"$f":"AJ15/(AL4-AJ25)","v":0},{"$f":"IF(AK15=0,0,(AK15*((LOG(AK15))/LOG(2))))","v":0},null,{"$f":"N15","v":12111},{"$f":"COUNTIF(L78:L95,AN15)","v":0},{"$f":"AO15/(AQ4-AO25)","v":0},{"$f":"IF(AP15=0,0,(AP15*((LOG(AP15))/LOG(2))))","v":0},null,{"$f":"N15","v":12111},{"$f":"COUNTIF(L96:L113,AS15)","v":0},{"$f":"AT15/(AV4-AT25)","v":0},{"$f":"IF(AU15=0,0,(AU15*((LOG(AU15))/LOG(2))))","v":0}]
[21,1407,11,1419,11,1426,21,1435,11,1450,1,21121,null,12112,{"$f":"COUNTIF($L$7:$L$500,N16)","v":2},{"$f":"O16/$Q$4","v":1.8691588785046728E-2},{"$f":"IF(P16=0,0,(P16*((LOG(P16))/LOG(2))))","v":-0.10731713993273172},null,null,{"$f":"N16","v":12112},{"$f":"COUNTIF(L7:L24,T16)","v":0},{"$f":"U16/(W4-U25)","v":0},{"$f":"IF(V16=0,0,(V16*((LOG(V16))/LOG(2))))","v":0},null,{"$f":"N16","v":12112},{"$f":"COUNTIF(L25:L42,Y16)","v":1},{"$f":"Z16/(AB4-Z25)","v":8.3333333333333329E-2},{"$f":"IF(AA16=0,0,(AA16*((LOG(AA16))/LOG(2))))","v":-0.29874687506009634},null,{"$f":"N16","v":12112},{"$f":"COUNTIF(L43:L59,AD16)","v":0},{"$f":"AE16/(AG4-AE25)","v":0},{"$f":"IF(AF16=0,0,(AF16*((LOG(AF16))/LOG(2))))","v":0},null,{"$f":"N16","v":12112},{"$f":"COUNTIF(L60:L77,AI16)","v":1},{"$f":"AJ16/(AL4-AJ25)","v":0.1},{"$f":"IF(AK16=0,0,(AK16*((LOG(AK16))/LOG(2))))","v":-0.33219280948873625},null,{"$f":"N16","v":12112},{"$f":"COUNTIF(L78:L95,AN16)","v":0},{"$f":"AO16/(AQ4-AO25)","v":0},{"$f":"IF(AP16=0,0,(AP16*((LOG(AP16))/LOG(2))))","v":0},null,{"$f":"N16","v":12112},{"$f":"COUNTIF(L96:L113,AS16)","v":0},{"$f":"AT16/(AV4-AT25)","v":0},{"$f":"IF(AU16=0,0,(AU16*((LOG(AU16))/LOG(2))))","v":0}]
[21,1546,11,1554,11,1565,21,1577,22,1607,0,21122,null,12121,{"$f":"COUNTIF($L$7:$L$500,N17)","v":1},{"$f":"O17/$Q$4","v":9.3457943925233638E-3},{"$f":"IF(P17=0,0,(P17*((LOG(P17))/LOG(2))))","v":-6.3004364358889217E-2},null,null,{"$f":"N17","v":12121},{"$f":"COUNTIF(L7:L24,T17)","v":0},{"$f":"U17/(W4-U25)","v":0},{"$f":"IF(V17=0,0,(V17*((LOG(V17))/LOG(2))))","v":0},null,{"$f":"N17","v":12121},{"$f":"COUNTIF(L25:L42,Y17)","v":0},{"$f":"Z17/(AB4-Z25)","v":0},{"$f":"IF(AA17=0,0,(AA17*((LOG(AA17))/LOG(2))))","v":0},null,{"$f":"N17","v":12121},{"$f":"COUNTIF(L43:L59,AD17)","v":0},{"$f":"AE17/(AG4-AE25)","v":0},{"$f":"IF(AF17=0,0,(AF17*((LOG(AF17))/LOG(2))))","v":0},null,{"$f":"N17","v":12121},{"$f":"COUNTIF(L60:L77,AI17)","v":1},{"$f":"AJ17/(AL4-AJ25)","v":0.1},{"$f":"IF(AK17=0,0,(AK17*((LOG(AK17))/LOG(2))))","v":-0.33219280948873625},null,{"$f":"N17","v":12121},{"$f":"COUNTIF(L78:L95,AN17)","v":0},{"$f":"AO17/(AQ4-AO25)","v":0},{"$f":"IF(AP17=0,0,(AP17*((LOG(AP17))/LOG(2))))","v":0},null,{"$f":"N17","v":12121},{"$f":"COUNTIF(L96:L113,AS17)","v":0},{"$f":"AT17/(AV4-AT25)","v":0},{"$f":"IF(AU17=0,0,(AU17*((LOG(AU17))/LOG(2))))","v":0}]
[21,1703,11,1717,22,1727,14,1738,13,1747,0,21211,null,12122,{"$f":"COUNTIF($L$7:$L$500,N18)","v":0},{"$f":"O18/$Q$4","v":0},{"$f":"IF(P18=0,0,(P18*((LOG(P18))/LOG(2))))","v":0},null,null,{"$f":"N18","v":12122},{"$f":"COUNTIF(L7:L24,T18)","v":0},{"$f":"U18/(W4-U25)","v":0},{"$f":"IF(V18=0,0,(V18*((LOG(V18))/LOG(2))))","v":0},null,{"$f":"N18","v":12122},{"$f":"COUNTIF(L25:L42,Y18)","v":0},{"$f":"Z18/(AB4-Z25)","v":0},{"$f":"IF(AA18=0,0,(AA18*((LOG(AA18))/LOG(2))))","v":0},null,{"$f":"N18","v":12122},{"$f":"COUNTIF(L43:L59,AD18)","v":0},{"$f":"AE18/(AG4-AE25)","v":0},{"$f":"IF(AF18=0,0,(AF18*((LOG(AF18))/LOG(2))))","v":0},null,{"$f":"N18","v":12122},{"$f":"COUNTIF(L60:L77,AI18)","v":0},{"$f":"AJ18/(AL4-AJ25)","v":0},{"$f":"IF(AK18=0,0,(AK18*((LOG(AK18))/LOG(2))))","v":0},null,{"$f":"N18","v":12122},{"$f":"COUNTIF(L78:L95,AN18)","v":0},{"$f":"AO18/(AQ4-AO25)","v":0},{"$f":"IF(AP18=0,0,(AP18*((LOG(AP18))/LOG(2))))","v":0},null,{"$f":"N18","v":12122},{"$f":"COUNTIF(L96:L113,AS18)","v":0},{"$f":"AT18/(AV4-AT25)","v":0},{"$f":"IF(AU18=0,0,(AU18*((LOG(AU18))/LOG(2))))","v":0}]
[21,1842,11,1850,11,1861,12,1878,24,1887,0,21112,null,12211,{"$f":"COUNTIF($L$7:$L$500,N19)","v":0},{"$f":"O19/$Q$4","v":0},{"$f":"IF(P19=0,0,(P19*((LOG(P19))/LOG(2))))","v":0},null,null,{"$f":"N19","v":12211},{"$f":"COUNTIF(L7:L24,T19)","v":0},{"$f":"U19/(W4-U25)","v":0},{"$f":"IF(V19=0,0,(V19*((LOG(V19))/LOG(2))))","v":0},null,{"$f":"N19","v":12211},{"$f":"COUNTIF(L25:L42,Y19)","v":0},{"$f":"Z19/(AB4-Z25)","v":0},{"$f":"IF(AA19=0,0,(AA19*((LOG(AA19))/LOG(2))))","v":0},null,{"$f":"N19","v":12211},{"$f":"COUNTIF(L43:L59,AD19)","v":0},{"$f":"AE19/(AG4-AE25)","v":0},{"$f":"IF(AF19=0,0,(AF19*((LOG(AF19))/LOG(2))))","v":0},null,{"$f":"N19","v":12211},{"$f":"COUNTIF(L60:L77,AI19)","v":0},{"$f":"AJ19/(AL4-AJ25)","v":0},{"$f":"IF(AK19=0,0,(AK19*((LOG(AK19))/LOG(2))))","v":0},null,{"$f":"N19","v":12211},{"$f":"COUNTIF(L78:L95,AN19)","v":0},{"$f":"AO19/(AQ4-AO25)","v":0},{"$f":"IF(AP19=0,0,(AP19*((LOG(AP19))/LOG(2))))","v":0},null,{"$f":"N19","v":12211},{"$f":"COUNTIF(L96:L113,AS19)","v":0},{"$f":"AT19/(AV4-AT25)","v":0},{"$f":"IF(AU19=0,0,(AU19*((LOG(AU19))/LOG(2))))","v":0}]
[21,1982,22,1990,13,2025,23,2034,24,2062,0,22122,null,12212,{"$f":"COUNTIF($L$7:$L$500,N20)","v":1},{"$f":"O20/$Q$4","v":9.3457943925233638E-3},{"$f":"IF(P20=0,0,(P20*((LOG(P20))/LOG(2))))","v":-6.3004364358889217E-2},null,null,{"$f":"N20","v":12212},{"$f":"COUNTIF(L7:L24,T20)","v":0},{"$f":"U20/(W4-U25)","v":0},{"$f":"IF(V20=0,0,(V20*((LOG(V20))/LOG(2))))","v":0},null,{"$f":"N20","v":12212},{"$f":"COUNTIF(L25:L42,Y20)","v":1},{"$f":"Z20/(AB4-Z25)","v":8.3333333333333329E-2},{"$f":"IF(AA20=0,0,(AA20*((LOG(AA20))/LOG(2))))","v":-0.29874687506009634},null,{"$f":"N20","v":12212},{"$f":"COUNTIF(L43:L59,AD20)","v":0},{"$f":"AE20/(AG4-AE25)","v":0},{"$f":"IF(AF20=0,0,(AF20*((LOG(AF20))/LOG(2))))","v":0},null,{"$f":"N20","v":12212},{"$f":"COUNTIF(L60:L77,AI20)","v":0},{"$f":"AJ20/(AL4-AJ25)","v":0},{"$f":"IF(AK20=0,0,(AK20*((LOG(AK20))/LOG(2))))","v":0},null,{"$f":"N20","v":12212},{"$f":"COUNTIF(L78:L95,AN20)","v":0},{"$f":"AO20/(AQ4-AO25)","v":0},{"$f":"IF(AP20=0,0,(AP20*((LOG(AP20))/LOG(2))))","v":0},null,{"$f":"N20","v":12212},{"$f":"COUNTIF(L96:L113,AS20)","v":0},{"$f":"AT20/(AV4-AT25)","v":0},{"$f":"IF(AU20=0,0,(AU20*((LOG(AU20))/LOG(2))))","v":0}]
[21,2158,11,2167,11,2175,12,2183,24,2193,0,21112,null,12221,{"$f":"COUNTIF($L$7:$L$500,N21)","v":0},{"$f":"O21/$Q$4","v":0},{"$f":"IF(P21=0,0,(P21*((LOG(P21))/LOG(2))))","v":0},null,null,{"$f":"N21","v":12221},{"$f":"COUNTIF(L7:L24,T21)","v":0},{"$f":"U21/(W4-U25)","v":0},{"$f":"IF(V21=0,0,(V21*((LOG(V21))/LOG(2))))","v":0},null,{"$f":"N21","v":12221},{"$f":"COUNTIF(L25:L42,Y21)","v":0},{"$f":"Z21/(AB4-Z25)","v":0},{"$f":"IF(AA21=0,0,(AA21*((LOG(AA21))/LOG(2))))","v":0},null,{"$f":"N21","v":12221},{"$f":"COUNTIF(L43:L59,AD21)","v":0},{"$f":"AE21/(AG4-AE25)","v":0},{"$f":"IF(AF21=0,0,(AF21*((LOG(AF21))/LOG(2))))","v":0},null,{"$f":"N21","v":12221},{"$f":"COUNTIF(L60:L77,AI21)","v":0},{"$f":"AJ21/(AL4-AJ25)","v":0},{"$f":"IF(AK21=0,0,(AK21*((LOG(AK21))/LOG(2))))","v":0},null,{"$f":"N21","v":12221},{"$f":"COUNTIF(L78:L95,AN21)","v":0},{"$f":"AO21/(AQ4-AO25)","v":0},{"$f":"IF(AP21=0,0,(AP21*((LOG(AP21))/LOG(2))))","v":0},null,{"$f":"N21","v":12221},{"$f":"COUNTIF(L96:L113,AS21)","v":0},{"$f":"AT21/(AV4-AT25)","v":0},{"$f":"IF(AU21=0,0,(AU21*((LOG(AU21))/LOG(2))))","v":0}]
[21,2290,22,2311,13,2318,14,2326,24,2336,0,22112,null,12222,{"$f":"COUNTIF($L$7:$L$500,N22)","v":0},{"$f":"O22/$Q$4","v":0},{"$f":"IF(P22=0,0,(P22*((LOG(P22))/LOG(2))))","v":0},null,null,{"$f":"N22","v":12222},{"$f":"COUNTIF(L7:L24,T22)","v":0},{"$f":"U22/(W4-U25)","v":0},{"$f":"IF(V22=0,0,(V22*((LOG(V22))/LOG(2))))","v":0},null,{"$f":"N22","v":12222},{"$f":"COUNTIF(L25:L42,Y22)","v":0},{"$f":"Z22/(AB4-Z25)","v":0},{"$f":"IF(AA22=0,0,(AA22*((LOG(AA22))/LOG(2))))","v":0},null,{"$f":"N22","v":12222},{"$f":"COUNTIF(L43:L59,AD22)","v":0},{"$f":"AE22/(AG4-AE25)","v":0},{"$f":"IF(AF22=0,0,(AF22*((LOG(AF22))/LOG(2))))","v":0},null,{"$f":"N22","v":12222},{"$f":"COUNTIF(L60:L77,AI22)","v":0},{"$f":"AJ22/(AL4-AJ25)","v":0},{"$f":"IF(AK22=0,0,(AK22*((LOG(AK22))/LOG(2))))","v":0},null,{"$f":"N22","v":12222},{"$f":"COUNTIF(L78:L95,AN22)","v":0},{"$f":"AO22/(AQ4-AO25)","v":0},{"$f":"IF(AP22=0,0,(AP22*((LOG(AP22))/LOG(2))))","v":0},null,{"$f":"N22","v":12222},{"$f":"COUNTIF(L96:L113,AS22)","v":0},{"$f":"AT22/(AV4-AT25)","v":0},{"$f":"IF(AU22=0,0,(AU22*((LOG(AU22))/LOG(2))))","v":0}]
[12,2440,13,2461,13,2469,23,2478,13,2488,0,11121,null,21111,{"$f":"COUNTIF($L$7:$L$500,N23)","v":2},{"$f":"O23/$Q$4","v":1.8691588785046728E-2},{"$f":"IF(P23=0,0,(P23*((LOG(P23))/LOG(2))))","v":-0.10731713993273172},null,null,{"$f":"N23","v":21111},{"$f":"COUNTIF(L7:L24,T23)","v":0},{"$f":"U23/(W4-U25)","v":0},{"$f":"IF(V23=0,0,(V23*((LOG(V23))/LOG(2))))","v":0},null,{"$f":"N23","v":21111},{"$f":"COUNTIF(L25:L42,Y23)","v":0},{"$f":"Z23/(AB4-Z25)","v":0},{"$f":"IF(AA23=0,0,(AA23*((LOG(AA23))/LOG(2))))","v":0},null,{"$f":"N23","v":21111},{"$f":"COUNTIF(L43:L59,AD23)","v":1},{"$f":"AE23/(AG4-AE25)","v":0.1111111111111111},{"$f":"IF(AF23=0,0,(AF23*((LOG(AF23))/LOG(2))))","v":-0.3522138890491458},null,{"$f":"N23","v":21111},{"$f":"COUNTIF(L60:L77,AI23)","v":0},{"$f":"AJ23/(AL4-AJ25)","v":0},{"$f":"IF(AK23=0,0,(AK23*((LOG(AK23))/LOG(2))))","v":0},null,{"$f":"N23","v":21111},{"$f":"COUNTIF(L78:L95,AN23)","v":0},{"$f":"AO23/(AQ4-AO25)","v":0},{"$f":"IF(AP23=0,0,(AP23*((LOG(AP23))/LOG(2))))","v":0},null,{"$f":"N23","v":21111},{"$f":"COUNTIF(L96:L113,AS23)","v":1},{"$f":"AT23/(AV4-AT25)","v":0.1},{"$f":"IF(AU23=0,0,(AU23*((LOG(AU23))/LOG(2))))","v":-0.33219280948873625}]
[21,2583,11,2598,22,2606,14,2616,24,2631,0,21212,null,21112,{"$f":"COUNTIF($L$7:$L$500,N24)","v":8},{"$f":"O24/$Q$4","v":7.476635514018691E-2},{"$f":"IF(P24=0,0,(P24*((LOG(P24))/LOG(2))))","v":-0.27973584945055308},null,null,{"$f":"N24","v":21112},{"$f":"COUNTIF(L7:L24,T24)","v":2},{"$f":"U24/(W4-U25)","v":0.13333333333333333},{"$f":"IF(V24=0,0,(V24*((LOG(V24))/LOG(2))))","v":-0.3875854127478025},null,{"$f":"N24","v":21112},{"$f":"COUNTIF(L25:L42,Y24)","v":1},{"$f":"Z24/(AB4-Z25)","v":8.3333333333333329E-2},{"$f":"IF(AA24=0,0,(AA24*((LOG(AA24))/LOG(2))))","v":-0.29874687506009634},null,{"$f":"N24","v":21112},{"$f":"COUNTIF(L43:L59,AD24)","v":0},{"$f":"AE24/(AG4-AE25)","v":0},{"$f":"IF(AF24=0,0,(AF24*((LOG(AF24))/LOG(2))))","v":0},null,{"$f":"N24","v":21112},{"$f":"COUNTIF(L60:L77,AI24)","v":2},{"$f":"AJ24/(AL4-AJ25)","v":0.2},{"$f":"IF(AK24=0,0,(AK24*((LOG(AK24))/LOG(2))))","v":-0.46438561897747244},null,{"$f":"N24","v":21112},{"$f":"COUNTIF(L78:L95,AN24)","v":1},{"$f":"AO24/(AQ4-AO25)","v":9.0909090909090912E-2},{"$f":"IF(AP24=0,0,(AP24*((LOG(AP24))/LOG(2))))","v":-0.31449378351248153},null,{"$f":"N24","v":21112},{"$f":"COUNTIF(L96:L113,AS24)","v":2},{"$f":"AT24/(AV4-AT25)","v":0.2},{"$f":"IF(AU24=0,0,(AU24*((LOG(AU24))/LOG(2))))","v":-0.46438561897747244}]
[21,2726,11,2733,11,2741,21,2753,11,2763,1,21121,null,21121,{"$f":"COUNTIF($L$7:$L$500,N25)","v":40},{"$f":"O25/$Q$4","v":0.37383177570093457},{"$f":"IF(P25=0,0,(P25*((LOG(P25))/LOG(2))))","v":-0.53066874449113444},null,null,{"$f":"N25","v":21121},{"$f":"COUNTIF(L7:L24,T25)","v":3},null,null,null,{"$f":"N25","v":21121},{"$f":"COUNTIF(L25:L42,Y25)","v":6},null,null,null,{"$f":"N25","v":21121},{"$f":"COUNTIF(L43:L59,AD25)","v":8},null,null,null,{"$f":"N25","v":21121},{"$f":"COUNTIF(L60:L77,AI25)","v":8},null,null,null,{"$f":"N25","v":21121},{"$f":"COUNTIF(L78:L95,AN25)","v":7},null,null,null,{"$f":"N25","v":21121},{"$f":"COUNTIF(L96:L113,AS25)","v":8}]
[21,2850,11,2863,11,2871,21,2881,11,2897,1,21121,null,21122,{"$f":"COUNTIF($L$7:$L$500,N26)","v":4},{"$f":"O26/$Q$4","v":3.7383177570093455E-2},{"$f":"IF(P26=0,0,(P26*((LOG(P26))/LOG(2))))","v":-0.17725110229536994},null,null,{"$f":"N26","v":21122},{"$f":"COUNTIF(L7:L24,T26)","v":1},{"$f":"U26/(W4-U25)","v":6.6666666666666666E-2},{"$f":"IF(V26=0,0,(V26*((LOG(V26))/LOG(2))))","v":-0.26045937304056793},null,{"$f":"N26","v":21122},{"$f":"COUNTIF(L25:L42,Y26)","v":1},{"$f":"Z26/(AB4-Z25)","v":8.3333333333333329E-2},{"$f":"IF(AA26=0,0,(AA26*((LOG(AA26))/LOG(2))))","v":-0.29874687506009634},null,{"$f":"N26","v":21122},{"$f":"COUNTIF(L43:L59,AD26)","v":1},{"$f":"AE26/(AG4-AE25)","v":0.1111111111111111},{"$f":"IF(AF26=0,0,(AF26*((LOG(AF26))/LOG(2))))","v":-0.3522138890491458},null,{"$f":"N26","v":21122},{"$f":"COUNTIF(L60:L77,AI26)","v":1},{"$f":"AJ26/(AL4-AJ25)","v":0.1},{"$f":"IF(AK26=0,0,(AK26*((LOG(AK26))/LOG(2))))","v":-0.33219280948873625},null,{"$f":"N26","v":21122},{"$f":"COUNTIF(L78:L95,AN26)","v":0},{"$f":"AO26/(AQ4-AO25)","v":0},{"$f":"IF(AP26=0,0,(AP26*((LOG(AP26))/LOG(2))))","v":0},null,{"$f":"N26","v":21122},{"$f":"COUNTIF(L96:L113,AS26)","v":0},{"$f":"AT26/(AV4-AT25)","v":0},{"$f":"IF(AU26=0,0,(AU26*((LOG(AU26))/LOG(2))))","v":0}]
[12,2997,13,3012,24,3024,14,3052,24,3071,0,11212,null,21211,{"$f":"COUNTIF($L$7:$L$500,N27)","v":7},{"$f":"O27/$Q$4","v":6.5420560747663545E-2},{"$f":"IF(P27=0,0,(P27*((LOG(P27))/LOG(2))))","v":-0.25737181729350278},null,null,{"$f":"N27","v":21211},{"$f":"COUNTIF(L7:L24,T27)","v":2},{"$f":"U27/(W4-U25)","v":0.13333333333333333},{"$f":"IF(V27=0,0,(V27*((LOG(V27))/LOG(2))))","v":-0.3875854127478025},null,{"$f":"N27","v":21211},{"$f":"COUNTIF(L25:L42,Y27)","v":1},{"$f":"Z27/(AB4-Z25)","v":8.3333333333333329E-2},{"$f":"IF(AA27=0,0,(AA27*((LOG(AA27))/LOG(2))))","v":-0.29874687506009634},null,{"$f":"N27","v":21211},{"$f":"COUNTIF(L43:L59,AD27)","v":0},{"$f":"AE27/(AG4-AE25)","v":0},{"$f":"IF(AF27=0,0,(AF27*((LOG(AF27))/LOG(2))))","v":0},null,{"$f":"N27","v":21211},{"$f":"COUNTIF(L60:L77,AI27)","v":1},{"$f":"AJ27/(AL4-AJ25)","v":0.1},{"$f":"IF(AK27=0,0,(AK27*((LOG(AK27))/LOG(2))))","v":-0.33219280948873625},null,{"$f":"N27","v":21211},{"$f":"COUNTIF(L78:L95,AN27)","v":3},{"$f":"AO27/(AQ4-AO25)","v":0.27272727272727271},{"$f":"IF(AP27=0,0,(AP27*((LOG(AP27))/LOG(2))))","v":-0.51121885034076575},null,{"$f":"N27","v":21211},{"$f":"COUNTIF(L96:L113,AS27)","v":0},{"$f":"AT27/(AV4-AT25)","v":0},{"$f":"IF(AU27=0,0,(AU27*((LOG(AU27))/LOG(2))))","v":0}]
[21,3167,22,3173,13,3196,14,3210,24,3219,0,22112,null,21212,{"$f":"COUNTIF($L$7:$L$500,N28)","v":5},{"$f":"O28/$Q$4","v":4.6728971962616821E-2},{"$f":"IF(P28=0,0,(P28*((LOG(P28))/LOG(2))))","v":-0.20652050894924223},null,null,{"$f":"N28","v":21212},{"$f":"COUNTIF(L7:L24,T28)","v":2},{"$f":"U28/(W4-U25)","v":0.13333333333333333},{"$f":"IF(V28=0,0,(V28*((LOG(V28))/LOG(2))))","v":-0.3875854127478025},null,{"$f":"N28","v":21212},{"$f":"COUNTIF(L25:L42,Y28)","v":1},{"$f":"Z28/(AB4-Z25)","v":8.3333333333333329E-2},{"$f":"IF(AA28=0,0,(AA28*((LOG(AA28))/LOG(2))))","v":-0.29874687506009634},null,{"$f":"N28","v":21212},{"$f":"COUNTIF(L43:L59,AD28)","v":1},{"$f":"AE28/(AG4-AE25)","v":0.1111111111111111},{"$f":"IF(AF28=0,0,(AF28*((LOG(AF28))/LOG(2))))","v":-0.3522138890491458},null,{"$f":"N28","v":21212},{"$f":"COUNTIF(L60:L77,AI28)","v":0},{"$f":"AJ28/(AL4-AJ25)","v":0},{"$f":"IF(AK28=0,0,(AK28*((LOG(AK28))/LOG(2))))","v":0},null,{"$f":"N28","v":21212},{"$f":"COUNTIF(L78:L95,AN28)","v":0},{"$f":"AO28/(AQ4-AO25)","v":0},{"$f":"IF(AP28=0,0,(AP28*((LOG(AP28))/LOG(2))))","v":0},null,{"$f":"N28","v":21212},{"$f":"COUNTIF(L96:L113,AS28)","v":1},{"$f":"AT28/(AV4-AT25)","v":0.1},{"$f":"IF(AU28=0,0,(AU28*((LOG(AU28))/LOG(2))))","v":-0.33219280948873625}]
[21,3320,11,3327,11,3335,21,3346,11,3360,1,21121,null,21221,{"$f":"COUNTIF($L$7:$L$500,N29)","v":2},{"$f":"O29/$Q$4","v":1.8691588785046728E-2},{"$f":"IF(P29=0,0,(P29*((LOG(P29))/LOG(2))))","v":-0.10731713993273172},null,null,{"$f":"N29","v":21221},{"$f":"COUNTIF(L7:L24,T29)","v":0},{"$f":"U29/(W4-U25)","v":0},{"$f":"IF(V29=0,0,(V29*((LOG(V29))/LOG(2))))","v":0},null,{"$f":"N29","v":21221},{"$f":"COUNTIF(L25:L42,Y29)","v":0},{"$f":"Z29/(AB4-Z25)","v":0},{"$f":"IF(AA29=0,0,(AA29*((LOG(AA29))/LOG(2))))","v":0},null,{"$f":"N29","v":21221},{"$f":"COUNTIF(L43:L59,AD29)","v":1},{"$f":"AE29/(AG4-AE25)","v":0.1111111111111111},{"$f":"IF(AF29=0,0,(AF29*((LOG(AF29))/LOG(2))))","v":-0.3522138890491458},null,{"$f":"N29","v":21221},{"$f":"COUNTIF(L60:L77,AI29)","v":0},{"$f":"AJ29/(AL4-AJ25)","v":0},{"$f":"IF(AK29=0,0,(AK29*((LOG(AK29))/LOG(2))))","v":0},null,{"$f":"N29","v":21221},{"$f":"COUNTIF(L78:L95,AN29)","v":0},{"$f":"AO29/(AQ4-AO25)","v":0},{"$f":"IF(AP29=0,0,(AP29*((LOG(AP29))/LOG(2))))","v":0},null,{"$f":"N29","v":21221},{"$f":"COUNTIF(L96:L113,AS29)","v":1},{"$f":"AT29/(AV4-AT25)","v":0.1},{"$f":"IF(AU29=0,0,(AU29*((LOG(AU29))/LOG(2))))","v":-0.33219280948873625}]
[21,3453,11,3461,11,3473,21,3481,11,3497,1,21121,null,21222,{"$f":"COUNTIF($L$7:$L$500,N30)","v":0},{"$f":"O30/$Q$4","v":0},{"$f":"IF(P30=0,0,(P30*((LOG(P30))/LOG(2))))","v":0},null,null,{"$f":"N30","v":21222},{"$f":"COUNTIF(L7:L24,T30)","v":0},{"$f":"U30/(W4-U25)","v":0},{"$f":"IF(V30=0,0,(V30*((LOG(V30))/LOG(2))))","v":0},null,{"$f":"N30","v":21222},{"$f":"COUNTIF(L25:L42,Y30)","v":0},{"$f":"Z30/(AB4-Z25)","v":0},{"$f":"IF(AA30=0,0,(AA30*((LOG(AA30))/LOG(2))))","v":0},null,{"$f":"N30","v":21222},{"$f":"COUNTIF(L43:L59,AD30)","v":0},{"$f":"AE30/(AG4-AE25)","v":0},{"$f":"IF(AF30=0,0,(AF30*((LOG(AF30))/LOG(2))))","v":0},null,{"$f":"N30","v":21222},{"$f":"COUNTIF(L60:L77,AI30)","v":0},{"$f":"AJ30/(AL4-AJ25)","v":0},{"$f":"IF(AK30=0,0,(AK30*((LOG(AK30))/LOG(2))))","v":0},null,{"$f":"N30","v":21222},{"$f":"COUNTIF(L78:L95,AN30)","v":0},{"$f":"AO30/(AQ4-AO25)","v":0},{"$f":"IF(AP30=0,0,(AP30*((LOG(AP30))/LOG(2))))","v":0},null,{"$f":"N30","v":21222},{"$f":"COUNTIF(L96:L113,AS30)","v":0},{"$f":"AT30/(AV4-AT25)","v":0},{"$f":"IF(AU30=0,0,(AU30*((LOG(AU30))/LOG(2))))","v":0}]
[12,3592,24,3600,13,3611,14,3623,24,3634,0,12112,null,22111,{"$f":"COUNTIF($L$7:$L$500,N31)","v":2},{"$f":"O31/$Q$4","v":1.8691588785046728E-2},{"$f":"IF(P31=0,0,(P31*((LOG(P31))/LOG(2))))","v":-0.10731713993273172},null,null,{"$f":"N31","v":22111},{"$f":"COUNTIF(L7:L24,T31)","v":0},{"$f":"U31/(W4-U25)","v":0},{"$f":"IF(V31=0,0,(V31*((LOG(V31))/LOG(2))))","v":0},null,{"$f":"N31","v":22111},{"$f":"COUNTIF(L25:L42,Y31)","v":0},{"$f":"Z31/(AB4-Z25)","v":0},{"$f":"IF(AA31=0,0,(AA31*((LOG(AA31))/LOG(2))))","v":0},null,{"$f":"N31","v":22111},{"$f":"COUNTIF(L43:L59,AD31)","v":0},{"$f":"AE31/(AG4-AE25)","v":0},{"$f":"IF(AF31=0,0,(AF31*((LOG(AF31))/LOG(2))))","v":0},null,{"$f":"N31","v":22111},{"$f":"COUNTIF(L60:L77,AI31)","v":0},{"$f":"AJ31/(AL4-AJ25)","v":0},{"$f":"IF(AK31=0,0,(AK31*((LOG(AK31))/LOG(2))))","v":0},null,{"$f":"N31","v":22111},{"$f":"COUNTIF(L78:L95,AN31)","v":1},{"$f":"AO31/(AQ4-AO25)","v":9.0909090909090912E-2},{"$f":"IF(AP31=0,0,(AP31*((LOG(AP31))/LOG(2))))","v":-0.31449378351248153},null,{"$f":"N31","v":22111},{"$f":"COUNTIF(L96:L113,AS31)","v":1},{"$f":"AT31/(AV4-AT25)","v":0.1},{"$f":"IF(AU31=0,0,(AU31*((LOG(AU31))/LOG(2))))","v":-0.33219280948873625}]
[21,3738,11,3753,11,3762,21,3772,11,3784,1,21121,null,22112,{"$f":"COUNTIF($L$7:$L$500,N32)","v":9},{"$f":"O32/$Q$4","v":8.4112149532710276E-2},{"$f":"IF(P32=0,0,(P32*((LOG(P32))/LOG(2))))","v":-0.30041007350121035},null,null,{"$f":"N32","v":22112},{"$f":"COUNTIF(L7:L24,T32)","v":1},{"$f":"U32/(W4-U25)","v":6.6666666666666666E-2},{"$f":"IF(V32=0,0,(V32*((LOG(V32))/LOG(2))))","v":-0.26045937304056793},null,{"$f":"N32","v":22112},{"$f":"COUNTIF(L25:L42,Y32)","v":2},{"$f":"Z32/(AB4-Z25)","v":0.16666666666666666},{"$f":"IF(AA32=0,0,(AA32*((LOG(AA32))/LOG(2))))","v":-0.43082708345352599},null,{"$f":"N32","v":22112},{"$f":"COUNTIF(L43:L59,AD32)","v":2},{"$f":"AE32/(AG4-AE25)","v":0.22222222222222221},{"$f":"IF(AF32=0,0,(AF32*((LOG(AF32))/LOG(2))))","v":-0.48220555587606945},null,{"$f":"N32","v":22112},{"$f":"COUNTIF(L60:L77,AI32)","v":0},{"$f":"AJ32/(AL4-AJ25)","v":0},{"$f":"IF(AK32=0,0,(AK32*((LOG(AK32))/LOG(2))))","v":0},null,{"$f":"N32","v":22112},{"$f":"COUNTIF(L78:L95,AN32)","v":1},{"$f":"AO32/(AQ4-AO25)","v":9.0909090909090912E-2},{"$f":"IF(AP32=0,0,(AP32*((LOG(AP32))/LOG(2))))","v":-0.31449378351248153},null,{"$f":"N32","v":22112},{"$f":"COUNTIF(L96:L113,AS32)","v":3},{"$f":"AT32/(AV4-AT25)","v":0.3},{"$f":"IF(AU32=0,0,(AU32*((LOG(AU32))/LOG(2))))","v":-0.52108967824986185}]
[12,3879,24,3894,24,3916,14,3932,24,3943,0,12212,null,22121,{"$f":"COUNTIF($L$7:$L$500,N33)","v":2},{"$f":"O33/$Q$4","v":1.8691588785046728E-2},{"$f":"IF(P33=0,0,(P33*((LOG(P33))/LOG(2))))","v":-0.10731713993273172},null,null,{"$f":"N33","v":22121},{"$f":"COUNTIF(L7:L24,T33)","v":1},{"$f":"U33/(W4-U25)","v":6.6666666666666666E-2},{"$f":"IF(V33=0,0,(V33*((LOG(V33))/LOG(2))))","v":-0.26045937304056793},null,{"$f":"N33","v":22121},{"$f":"COUNTIF(L25:L42,Y33)","v":1},{"$f":"Z33/(AB4-Z25)","v":8.3333333333333329E-2},{"$f":"IF(AA33=0,0,(AA33*((LOG(AA33))/LOG(2))))","v":-0.29874687506009634},null,{"$f":"N33","v":22121},{"$f":"COUNTIF(L43:L59,AD33)","v":0},{"$f":"AE33/(AG4-AE25)","v":0},{"$f":"IF(AF33=0,0,(AF33*((LOG(AF33))/LOG(2))))","v":0},null,{"$f":"N33","v":22121},{"$f":"COUNTIF(L60:L77,AI33)","v":0},{"$f":"AJ33/(AL4-AJ25)","v":0},{"$f":"IF(AK33=0,0,(AK33*((LOG(AK33))/LOG(2))))","v":0},null,{"$f":"N33","v":22121},{"$f":"COUNTIF(L78:L95,AN33)","v":0},{"$f":"AO33/(AQ4-AO25)","v":0},{"$f":"IF(AP33=0,0,(AP33*((LOG(AP33))/LOG(2))))","v":0},null,{"$f":"N33","v":22121},{"$f":"COUNTIF(L96:L113,AS33)","v":0},{"$f":"AT33/(AV4-AT25)","v":0},{"$f":"IF(AU33=0,0,(AU33*((LOG(AU33))/LOG(2))))","v":0}]
[21,4039,11,4047,11,4054,21,4065,11,4080,1,21121,null,22122,{"$f":"COUNTIF($L$7:$L$500,N34)","v":1},{"$f":"O34/$Q$4","v":9.3457943925233638E-3},{"$f":"IF(P34=0,0,(P34*((LOG(P34))/LOG(2))))","v":-6.3004364358889217E-2},null,null,{"$f":"N34","v":22122},{"$f":"COUNTIF(L7:L24,T34)","v":1},{"$f":"U34/(W4-U25)","v":6.6666666666666666E-2},{"$f":"IF(V34=0,0,(V34*((LOG(V34))/LOG(2))))","v":-0.26045937304056793},null,{"$f":"N34","v":22122},{"$f":"COUNTIF(L25:L42,Y34)","v":0},{"$f":"Z34/(AB4-Z25)","v":0},{"$f":"IF(AA34=0,0,(AA34*((LOG(AA34))/LOG(2))))","v":0},null,{"$f":"N34","v":22122},{"$f":"COUNTIF(L43:L59,AD34)","v":0},{"$f":"AE34/(AG4-AE25)","v":0},{"$f":"IF(AF34=0,0,(AF34*((LOG(AF34))/LOG(2))))","v":0},null,{"$f":"N34","v":22122},{"$f":"COUNTIF(L60:L77,AI34)","v":0},{"$f":"AJ34/(AL4-AJ25)","v":0},{"$f":"IF(AK34=0,0,(AK34*((LOG(AK34))/LOG(2))))","v":0},null,{"$f":"N34","v":22122},{"$f":"COUNTIF(L78:L95,AN34)","v":0},{"$f":"AO34/(AQ4-AO25)","v":0},{"$f":"IF(AP34=0,0,(AP34*((LOG(AP34))/LOG(2))))","v":0},null,{"$f":"N34","v":22122},{"$f":"COUNTIF(L96:L113,AS34)","v":0},{"$f":"AT34/(AV4-AT25)","v":0},{"$f":"IF(AU34=0,0,(AU34*((LOG(AU34))/LOG(2))))","v":0}]
[21,4166,11,4180,22,4190,14,4233,13,4241,0,21211,null,22211,{"$f":"COUNTIF($L$7:$L$500,N35)","v":2},{"$f":"O35/$Q$4","v":1.8691588785046728E-2},{"$f":"IF(P35=0,0,(P35*((LOG(P35))/LOG(2))))","v":-0.10731713993273172},null,null,{"$f":"N35","v":22211},{"$f":"COUNTIF(L7:L24,T35)","v":0},{"$f":"U35/(W4-U25)","v":0},{"$f":"IF(V35=0,0,(V35*((LOG(V35))/LOG(2))))","v":0},null,{"$f":"N35","v":22211},{"$f":"COUNTIF(L25:L42,Y35)","v":0},{"$f":"Z35/(AB4-Z25)","v":0},{"$f":"IF(AA35=0,0,(AA35*((LOG(AA35))/LOG(2))))","v":0},null,{"$f":"N35","v":22211},{"$f":"COUNTIF(L43:L59,AD35)","v":0},{"$f":"AE35/(AG4-AE25)","v":0},{"$f":"IF(AF35=0,0,(AF35*((LOG(AF35))/LOG(2))))","v":0},null,{"$f":"N35","v":22211},{"$f":"COUNTIF(L60:L77,AI35)","v":0},{"$f":"AJ35/(AL4-AJ25)","v":0},{"$f":"IF(AK35=0,0,(AK35*((LOG(AK35))/LOG(2))))","v":0},null,{"$f":"N35","v":22211},{"$f":"COUNTIF(L78:L95,AN35)","v":2},{"$f":"AO35/(AQ4-AO25)","v":0.18181818181818182},{"$f":"IF(AP35=0,0,(AP35*((LOG(AP35))/LOG(2))))","v":-0.44716938520678134},null,{"$f":"N35","v":22211},{"$f":"COUNTIF(L96:L113,AS35)","v":0},{"$f":"AT35/(AV4-AT25)","v":0},{"$f":"IF(AU35=0,0,(AU35*((LOG(AU35))/LOG(2))))","v":0}]
[21,4341,22,4352,24,4378,23,4392,24,4415,0,22222,null,22212,{"$f":"COUNTIF($L$7:$L$500,N36)","v":0},{"$f":"O36/$Q$4","v":0},{"$f":"IF(P36=0,0,(P36*((LOG(P36))/LOG(2))))","v":0},null,null,{"$f":"N36","v":22212},{"$f":"COUNTIF(L7:L24,T36)","v":0},{"$f":"U36/(W4-U25)","v":0},{"$f":"IF(V36=0,0,(V36*((LOG(V36))/LOG(2))))","v":0},null,{"$f":"N36","v":22212},{"$f":"COUNTIF(L25:L42,Y36)","v":0},{"$f":"Z36/(AB4-Z25)","v":0},{"$f":"IF(AA36=0,0,(AA36*((LOG(AA36))/LOG(2))))","v":0},null,{"$f":"N36","v":22212},{"$f":"COUNTIF(L43:L59,AD36)","v":0},{"$f":"AE36/(AG4-AE25)","v":0},{"$f":"IF(AF36=0,0,(AF36*((LOG(AF36))/LOG(2))))","v":0},null,{"$f":"N36","v":22212},{"$f":"COUNTIF(L60:L77,AI36)","v":0},{"$f":"AJ36/(AL4-AJ25)","v":0},{"$f":"IF(AK36=0,0,(AK36*((LOG(AK36))/LOG(2))))","v":0},null,{"$f":"N36","v":22212},{"$f":"COUNTIF(L78:L95,AN36)","v":0},{"$f":"AO36/(AQ4-AO25)","v":0},{"$f":"IF(AP36=0,0,(AP36*((LOG(AP36))/LOG(2))))","v":0},null,{"$f":"N36","v":22212},{"$f":"COUNTIF(L96:L113,AS36)","v":0},{"$f":"AT36/(AV4-AT25)","v":0},{"$f":"IF(AU36=0,0,(AU36*((LOG(AU36))/LOG(2))))","v":0}]
[21,4514,11,4522,11,4543,21,4553,22,4566,0,21122,null,22221,{"$f":"COUNTIF($L$7:$L$500,N37)","v":1},{"$f":"O37/$Q$4","v":9.3457943925233638E-3},{"$f":"IF(P37=0,0,(P37*((LOG(P37))/LOG(2))))","v":-6.3004364358889217E-2},null,null,{"$f":"N37","v":22221},{"$f":"COUNTIF(L7:L24,T37)","v":0},{"$f":"U37/(W4-U25)","v":0},{"$f":"IF(V37=0,0,(V37*((LOG(V37))/LOG(2))))","v":0},null,{"$f":"N37","v":22221},{"$f":"COUNTIF(L25:L42,Y37)","v":0},{"$f":"Z37/(AB4-Z25)","v":0},{"$f":"IF(AA37=0,0,(AA37*((LOG(AA37))/LOG(2))))","v":0},null,{"$f":"N37","v":22221},{"$f":"COUNTIF(L43:L59,AD37)","v":1},{"$f":"AE37/(AG4-AE25)","v":0.1111111111111111},{"$f":"IF(AF37=0,0,(AF37*((LOG(AF37))/LOG(2))))","v":-0.3522138890491458},null,{"$f":"N37","v":22221},{"$f":"COUNTIF(L60:L77,AI37)","v":0},{"$f":"AJ37/(AL4-AJ25)","v":0},{"$f":"IF(AK37=0,0,(AK37*((LOG(AK37))/LOG(2))))","v":0},null,{"$f":"N37","v":22221},{"$f":"COUNTIF(L78:L95,AN37)","v":0},{"$f":"AO37/(AQ4-AO25)","v":0},{"$f":"IF(AP37=0,0,(AP37*((LOG(AP37))/LOG(2))))","v":0},null,{"$f":"N37","v":22221},{"$f":"COUNTIF(L96:L113,AS37)","v":0},{"$f":"AT37/(AV4-AT25)","v":0},{"$f":"IF(AU37=0,0,(AU37*((LOG(AU37))/LOG(2))))","v":0}]
[21,4662,11,4679,22,4689,14,4697,24,4711,0,21212,null,22222,{"$f":"COUNTIF($L$7:$L$500,N38)","v":1},{"$f":"O38/$Q$4","v":9.3457943925233638E-3},{"$f":"IF(P38=0,0,(P38*((LOG(P38))/LOG(2))))","v":-6.3004364358889217E-2},null,null,{"$f":"N38","v":22222},{"$f":"COUNTIF(L7:L24,T38)","v":0},{"$f":"U38/(W4-U25)","v":0},{"$f":"IF(V38=0,0,(V38*((LOG(V38))/LOG(2))))","v":0},null,{"$f":"N38","v":22222},{"$f":"COUNTIF(L25:L42,Y38)","v":1},{"$f":"Z38/(AB4-Z25)","v":8.3333333333333329E-2},{"$f":"IF(AA38=0,0,(AA38*((LOG(AA38))/LOG(2))))","v":-0.29874687506009634},null,{"$f":"N38","v":22222},{"$f":"COUNTIF(L43:L59,AD38)","v":0},{"$f":"AE38/(AG4-AE25)","v":0},{"$f":"IF(AF38=0,0,(AF38*((LOG(AF38))/LOG(2))))","v":0},null,{"$f":"N38","v":22222},{"$f":"COUNTIF(L60:L77,AI38)","v":0},{"$f":"AJ38/(AL4-AJ25)","v":0},{"$f":"IF(AK38=0,0,(AK38*((LOG(AK38))/LOG(2))))","v":0},null,{"$f":"N38","v":22222},{"$f":"COUNTIF(L78:L95,AN38)","v":0},{"$f":"AO38/(AQ4-AO25)","v":0},{"$f":"IF(AP38=0,0,(AP38*((LOG(AP38))/LOG(2))))","v":0},null,{"$f":"N38","v":22222},{"$f":"COUNTIF(L96:L113,AS38)","v":0},{"$f":"AT38/(AV4-AT25)","v":0},{"$f":"IF(AU38=0,0,(AU38*((LOG(AU38))/LOG(2))))","v":0}]
[12,4810,13,4820,13,4827,23,4836,13,4850,0,11121,null,null,null,{"$f":"SUM(P7:P38)","v":1},{"$f":"-SUM(Q7:Q38)","v":3.4346554612044593},null,null,null,null,{"$f":"SUM(V7:V38)","v":0.99999999999999989},{"$f":"-SUM(W7:W38)","v":3.2402239289418517},null,null,null,{"$f":"SUM(AA7:AA38)","v":1},{"$f":"-SUM(AB7:AB38)","v":3.4182958340544896},null,null,null,{"$f":"SUM(AF7:AF38)","v":1},{"$f":"-SUM(AG7:AG38)","v":2.9477027792200903},null,null,null,{"$f":"SUM(AK7:AK38)","v":1},{"$f":"-SUM(AL7:AL38)","v":2.9219280948873623},null,null,null,{"$f":"SUM(AP7:AP38)","v":1},{"$f":"-SUM(AQ7:AQ38)","v":2.6635327548042547},null,null,null,{"$f":"SUM(AU7:AU38)","v":1},{"$f":"-SUM(AV7:AV38)","v":2.6464393446710157}]
[21,4945,22,4950,13,4960,14,4967,24,4978,0,22112,null,null,null,"U=",{"$f":"Q39/(LOG(Q4)/LOG(2))","v":0.50948190774097513},null,null,null,null,"U1=",{"$f":"W39/(LOG(W4)/LOG(2))","v":0.77704609263262736},null,null,null,"U2=",{"$f":"AB39/(LOG(AB4)/LOG(2))","v":0.81974995542417528},null,null,null,"U3=",{"$f":"AG39/(LOG(AG4)/LOG(2))","v":0.72115708293959668},null,null,null,"U4=",{"$f":"AL39/(LOG(AL4)/LOG(2))","v":0.70071478356965955},null,null,null,"U5=",{"$f":"AQ39/(LOG(AQ4)/LOG(2))","v":0.63874835971461841},null,null,null,"U6=",{"$f":"AV39/(LOG(AV4)/LOG(2))","v":0.63464914686850571}]
[21,5073,22,5079,13,5109,23,5120,13,5131,0,22121]
[21,5230,11,5238,11,5245,12,5257,24,5268,0,21112]
[21,5364,11,5371,11,5382,12,5397,13,5404,0,21111,null,"Total Target Seq"]
[21,5503,11,5511,11,5522,21,5533,11,5547,1,21121,null,{"$f":"COUNTIF(L7:L113,G3)","v":40},null,18,18,17,18,18,18]
[21,5635,11,5642,11,5653,21,5664,11,5674,1,21121,null,null,null,"% of reinforcement given in 6 equal intervals based on number of trials "]
[21,5760,11,5768,22,5793,23,5801,13,5812,0,21221,null,null,null,"%_1","%_2","%_3","%_4","%_5","%_6"]
[21,5911,22,5919,24,5944,23,5983,13,5990,0,22221,null,null,"target sequence",{"$f":"$G$3","v":21121},{"$f":"$G$3","v":21121},{"$f":"$G$3","v":21121},{"$f":"$G$3","v":21121},{"$f":"$G$3","v":21121},{"$f":"$G$3","v":21121}]
[21,6092,11,6111,11,6122,21,6132,11,6159,1,21121,null,null,"total reinforcement",{"$f":"U25","v":3},{"$f":"Z25","v":6},{"$f":"AE25","v":8},{"$f":"AJ25","v":8},{"$f":"AO25","v":7},{"$f":"AT25","v":8}]
[21,6249,11,6269,22,6279,14,6288,24,6299,0,21212,null,null,"% target"]
[12,6423,13,6430,24,6440,14,6450,13,6460,0,11211,null,null,"CCRF"]
[21,6556,11,6564,11,6580,21,6591,11,6613,1,21121,null,null,"% CCRf"]
[21,6701,11,6709,11,6720,21,6731,11,6746,1,21121,null,null,"average response rate",{"$f":"J24/P44","v":146.16666666666666},{"$f":"(J42-J24)/Q44","v":146.5},{"$f":"(J59-J42)/R44","v":144.94117647058823},{"$f":"(J77-J59)/S44","v":157.11111111111111},{"$f":"(J95-J77)/T44","v":141.83333333333334},{"$f":"(J113-J95)/U44","v":141.05555555555554}]
[21,6842,11,6852,11,6863,21,6876,11,6888,1,21121]
[12,6995,24,7005,13,7015,14,7022,13,7036,0,12111]
[21,7132,22,7135,13,7143,14,7159,24,7169,0,22112]
[21,7265,11,7273,11,7286,21,7296,11,7314,1,21121]
[21,7403,22,7420,13,7435,14,7448,24,7457,0,22112]
[21,7553,11,7560,11,7568,21,7579,22,7590,0,21122]
[21,7685,11,7697,11,7709,21,7719,11,7732,1,21121]
[21,7820,11,7828,22,7838,14,7853,13,7860,0,21211]
[21,7957,11,7964,11,7977,21,7985,22,7994,0,21122]
[21,8090,11,8097,11,8104,21,8115,11,8138,1,21121]
[12,8231,24,8242,13,8252,23,8263,13,8275,0,12121]
[21,8372,11,8379,11,8391,21,8402,11,8424,1,21121]
[12,8516,13,8532,24,8546,14,8560,13,8570,0,11211]
[21,8666,11,8673,11,8680,21,8691,11,8705,1,21121]
[21,8792,11,8808,11,8815,21,8826,11,8845,1,21121]
[12,9219,24,9230,13,9244,14,9254,24,9273,0,12112]
[21,9366,11,9374,11,9399,12,9406,24,9414,0,21112]
[21,9509,11,9517,11,9528,12,9543,24,9559,0,21112]
[12,9655,13,9666,13,9676,23,9686,13,9699,0,11121]
[21,9799,11,9807,11,9818,21,9829,11,9848,1,21121]
[12,9936,13,9943,13,9954,23,9966,13,9986,0,11121]
[21,10089,11,10096,11,10106,21,10116,11,10128,1,21121]
[21,10215,11,10224,11,10239,21,10253,11,10267,1,21121]
[12,10358,13,10372,24,10381,23,10389,24,10396,0,11222]
[21,10492,11,10499,11,10509,21,10523,11,10560,1,21121]
[12,10661,13,10677,24,10688,14,10696,13,10704,0,11211]
[21,10800,11,10807,11,10817,21,10826,11,10837,1,21121]
[21,10926,22,10930,24,10962,14,10976,13,10984,0,22211]
[21,11082,11,11092,11,11103,21,11114,11,11128,1,21121]
[21,11215,11,11233,22,11242,14,11255,13,11262,0,21211]
[21,11357,22,11361,13,11385,14,11395,24,11405,0,22112]
[21,11501,22,11505,24,11509,14,11519,13,11545,0,22211]
[21,11641,11,11650,11,11660,21,11671,11,11682,1,21121]
[12,11775,13,11785,24,11796,14,11809,13,11819,0,11211]
[21,11917,22,11921,13,11929,14,11940,13,11950,0,22111]
[12,12046,13,12057,13,12070,23,12081,13,12093,0,11121]
[21,12195,11,12213,11,12229,21,12239,11,12253,1,21121]
[21,12343,11,12361,22,12372,14,12385,13,12392,0,21211]
[21,12488,11,12495,11,12505,21,12518,11,12535,1,21121]
[21,12624,11,12634,11,12659,21,12672,11,12686,1,21121]
[21,12773,11,12799,22,12811,14,12824,13,12831,0,21211]
[21,12927,11,12934,11,12945,12,12959,24,12973,0,21112]
[21,13069,11,13076,11,13086,21,13098,11,13113,1,21121]
[12,13202,13,13217,24,13227,14,13241,13,13249,0,11211]
[21,13346,11,13354,11,13374,21,13385,11,13399,1,21121]
[21,13486,11,13494,11,13520,21,13531,11,13546,1,21121]
[21,13633,11,13640,22,13649,23,13657,13,13668,0,21221]
[21,13764,11,13772,11,13782,12,13789,24,13799,0,21112]
[21,13895,22,13898,13,13907,14,13919,24,13933,0,22112]
[21,14029,11,14037,11,14044,21,14058,11,14073,1,21121]
[21,14161,11,14185,22,14195,14,14209,24,14244,0,21212]
[21,14339,11,14346,11,14361,21,14373,11,14389,1,21121]
[21,14477,22,14481,13,14494,14,14504,13,14511,0,22111]
[21,14608,11,14626,11,14637,21,14649,11,14658,1,21121]
[21,14750,11,14762,11,14776,12,14785,13,14804,0,21111]
[21,14899,11,14908,11,14919,12,14942,24,14957,0,21112]
[21,15057,22,15061,13,15068,14,15080,24,15094,0,22112]
[21,15189,11,15197,11,15205,21,15216,11,15238,1,21121]
[21,15325,22,15329,13,15338,14,15349,24,15362,0,22112]
[21,15457,11,15465,11,15476,21,15490,11,15515,1,21121]
[21,15602,11,15612,11,15624,21,15638,11,15652,1,21121]