{"text_format":"1","workbook":"xlsx","n_sheets":32,"sheets":["Sample Report","Summary","Start","!MB30A30.010","!MC01A10.010","!MC02A20.010","!MC03810.010","!MC04A00.010","!MC05840.010","!MC06930.010","!MC07940.010","!MC08950.010","!MC09940.010","!MC10A30.010","!MC11930.010","!MC12840.010","!MC13A00.010","!MC14930.010","!MC16850.010","!MC17820.010","!MC18940.010","!MC19940.010","!MC20A20.010","!MC21A00.010","!MC22900.010","!MC23910.010","!MC24930.010","!MC27940.010","!MC28910.010","!MC29900.010","!MC30820.010","!MC31900.010"],"not_rendered":{"charts":0,"images":0,"macros":1,"external_links":0,"defined_names":0,"comments":0,"pivot_tables":0},"unopened":[],"bounds":{"document_bytes":16777216,"sheet_cells":100000,"rows_first":2000,"rows_last":500,"rows_between":2000,"halvings":0,"cell_chars":16384,"cell_head_chars":4096},"cells_cut":0,"cells_raw":0,"read":"whole","date_system":"1900"}

{"sheet":"Sample Report","index":0,"n_rows":12,"n_cols":11,"rows_kept":12,"cut":false,"hidden":true,"merged":[[7,0,7,6]]}
[]
["Date"]
["Hen"]
["Program"]
["Start at 999999"]
["Sequence component 1","Time 1","Seqeunce Component 2","Time 2","Seqeunce Component 3","Time 3","Correct   0 = No 1=Yes",null,null,"Seqeunce","Time"]
[12,7,12,42,13,18,"if 77 new line,                                  if 31 or 41 = yes new line on 77, ",null,null,"=string of Seqeunce compponent 1, 2 & 3","=time 3"]
["This continues until ther is a 1 on its own to indicate start of summary data"]
[null,null,null,null,null,null,null,null,null,"10-19 =1"]
["Summary Data ",null,null,null,null,null,null,null,null,"20-29 =2"]
["Correct","Incorrect","Rft","total","Av Correct","Av Incorrect","Percent correct","Time",null,"in this example the seqeunce would be 111"]
[40,33,40,73,23.95,15,54,806]

{"sheet":"Summary","index":1,"n_rows":32,"n_cols":24,"rows_kept":32,"cut":false,"hidden":false,"merged":[]}
[]
["Day","Date","Average Response Rate","Target %","RF for non correct sequence","U Value",null,null,null,null,"Block 1","Block 2","Block 3","Block 4","Block 5","Block 6"]
[1,{"$f":"'!MB30A30.010'!B2:C2","v":"<date>"},{"$f":"('!MB30A30.010'!J159/60)/'!MB30A30.010'!Q3","v":2.5832251082251081},{"$f":"'!MB30A30.010'!N44/'!MB30A30.010'!Q3","v":0},{"$f":"SUM('!MB30A30.010'!L44:Q44)/'!MB30A30.010'!Q3","v":79.694805194805198},{"$f":"'!MB30A30.010'!Q40","v":0.38165199504915687},null,null,null,"Average Response Rate",{"$f":"AVERAGE(C3:C7)","v":2.2997041378081877},{"$f":"AVERAGE(C8:C12)","v":1.7686520074623426},{"$f":"AVERAGE(C13:C17)","v":2.1217726187417414},{"$f":"AVERAGE(C18:C22)","v":1.6524914147674956},{"$f":"AVERAGE(C23:C27)","v":2.0759799934304626},{"$f":"AVERAGE(C28:C32)","v":2.1046477007916331}]
[2,{"$f":"'!MC01A10.010'!B2:C2","v":"<date>"},{"$f":"('!MC01A10.010'!J182/60)/'!MC01A10.010'!Q3","v":2.2694128787878789},{"$f":"'!MC01A10.010'!N44/'!MC01A10.010'!Q3","v":0},{"$f":"SUM('!MC01A10.010'!L44:Q44)/'!MC01A10.010'!Q3","v":63.465909090909093},{"$f":"'!MC01A10.010'!Q40","v":0.1753105779010595},null,null,null,"Target %",{"$f":"AVERAGE(D3:D7)","v":0},{"$f":"AVERAGE(D8:D12)","v":0},{"$f":"AVERAGE(D13:D17)","v":0},{"$f":"AVERAGE(D18:D22)","v":3.787878787878788E-2},{"$f":"AVERAGE(D23:D27)","v":0},{"$f":"AVERAGE(D28:D32)","v":0}]
[3,{"$f":"'!MC02A20.010'!B2:C2","v":"<date>"},{"$f":"('!MC02A20.010'!J188/60)/'!MC02A20.010'!Q3","v":2.1901098901098903},{"$f":"'!MC02A20.010'!N44/'!MC02A20.010'!Q3","v":0},{"$f":"SUM('!MC02A20.010'!L44:Q44)/'!MC02A20.010'!Q3","v":61.384615384615387},{"$f":"'!MC02A20.010'!Q40","v":6.1808341858815369E-2},null,null,null,"CCRF",{"$f":"AVERAGE(E3:E7)","v":65.872194425686047},{"$f":"AVERAGE(E8:E12)","v":61.55102641914764},{"$f":"AVERAGE(E13:E17)","v":59.457036711625321},{"$f":"AVERAGE(E18:E22)","v":78.360351040241653},{"$f":"AVERAGE(E23:E27)","v":58.103487421372293},{"$f":"AVERAGE(E28:E32)","v":58.98080874471691}]
[4,{"$f":"'!MC03810.010'!B2:C2","v":"<date>"},{"$f":"('!MC03810.010'!J185/60)/'!MC03810.010'!Q3","v":2.2278398510242088},{"$f":"'!MC03810.010'!N44/'!MC03810.010'!Q3","v":0},{"$f":"SUM('!MC03810.010'!L44:Q44)/'!MC03810.010'!Q3","v":62.407821229050278},{"$f":"'!MC03810.010'!Q40","v":7.7791409838319614E-2},null,null,null,"U Value",{"$f":"AVERAGE(F3:F7)","v":0.14995019509299945},{"$f":"AVERAGE(F8:F12)","v":3.8314131741151308E-2},{"$f":"AVERAGE(F13:F17)","v":1.9673957858658046E-2},{"$f":"AVERAGE(F18:F22)","v":0.12536915344375849},{"$f":"AVERAGE(F23:F27)","v":1.7250364790229029E-2},{"$f":"AVERAGE(F28:F32)","v":3.8130428650000062E-2}]
[5,{"$f":"'!MC04A00.010'!B2:C2","v":"<date>"},{"$f":"('!MC04A00.010'!J185/60)/'!MC04A00.010'!Q3","v":2.2279329608938547},{"$f":"'!MC04A00.010'!N44/'!MC04A00.010'!Q3","v":0},{"$f":"SUM('!MC04A00.010'!L44:Q44)/'!MC04A00.010'!Q3","v":62.407821229050278},{"$f":"'!MC04A00.010'!Q40","v":5.3188650817645927E-2}]
[6,{"$f":"'!MC05840.010'!B2:C2","v":"<date>"},{"$f":"('!MC05840.010'!J182/60)/'!MC05840.010'!Q3","v":2.266003787878788},{"$f":"'!MC05840.010'!N44/'!MC05840.010'!Q3","v":0},{"$f":"SUM('!MC05840.010'!L44:Q44)/'!MC05840.010'!Q3","v":63.465909090909093},{"$f":"'!MC05840.010'!Q40","v":6.9125889783905478E-2}]
[7,{"$f":"'!MC06930.010'!B2:C2","v":"<date>"},{"$f":"('!MC06930.010'!J190/60)/'!MC06930.010'!Q3","v":2.1682065217391302},{"$f":"'!MC06930.010'!N44/'!MC06930.010'!Q3","v":0},{"$f":"SUM('!MC06930.010'!L44:Q44)/'!MC06930.010'!Q3","v":60.717391304347828},{"$f":"'!MC06930.010'!Q40","v":3.5366846125864597E-2},{"$f":"K3","v":2.2997041378081877},1.7686520074623426,2.1217726187417414,1.6524914147674956,2.0759799934304626,2.1046477007916331,{"$f":"K4","v":0},0,0,3.787878787878788E-2,0,0,{"$f":"K6","v":0.14995019509299945},3.8314131741151308E-2,1.9673957858658046E-2,0.12536915344375849,1.7250364790229029E-2,3.8130428650000062E-2]
[8,{"$f":"'!MC07940.010'!B2:C2","v":"<date>"},{"$f":"('!MC07940.010'!J191/60)/'!MC07940.010'!Q3","v":2.1581081081081082},{"$f":"'!MC07940.010'!N44/'!MC07940.010'!Q3","v":0},{"$f":"SUM('!MC07940.010'!L44:Q44)/'!MC07940.010'!Q3","v":60.394594594594594},{"$f":"'!MC07940.010'!Q40","v":2.2847439437847433E-2}]
[9,{"$f":"'!MC08950.010'!B2:C2","v":"<date>"},{"$f":"('!MC08950.010'!J183/60)/'!MC08950.010'!Q3","v":2.2509416195856873},{"$f":"'!MC08950.010'!N44/'!MC08950.010'!Q3","v":0},{"$f":"SUM('!MC08950.010'!L44:Q44)/'!MC08950.010'!Q3","v":63.10734463276836},{"$f":"'!MC08950.010'!Q40","v":4.1924840004590298E-2}]
[10,{"$f":"'!MC09940.010'!B2:C2","v":"<date>"},{"$f":"('!MC09940.010'!J192/60)/'!MC09940.010'!Q3","v":0},{"$f":"'!MC09940.010'!N44/'!MC09940.010'!Q3","v":0},{"$f":"SUM('!MC09940.010'!L44:Q44)/'!MC09940.010'!Q3","v":60.06989247311828},{"$f":"'!MC09940.010'!Q40","v":2.2305643353548753E-2}]
[11,{"$f":"'!MC10A30.010'!B2:C2","v":"<date>"},{"$f":"('!MC10A30.010'!J192/60)/'!MC10A30.010'!Q3","v":2.1405017921146952},{"$f":"'!MC10A30.010'!N44/'!MC10A30.010'!Q3","v":0},{"$f":"SUM('!MC10A30.010'!L44:Q44)/'!MC10A30.010'!Q3","v":60.06989247311828},{"$f":"'!MC10A30.010'!Q40","v":1.7764216557984425E-2}]
[12,{"$f":"'!MC11930.010'!B2:C2","v":"<date>"},{"$f":"('!MC11930.010'!J189/60)/'!MC11930.010'!Q3","v":2.185063752276867},{"$f":"'!MC11930.010'!N44/'!MC11930.010'!Q3","v":0},{"$f":"SUM('!MC11930.010'!L44:Q44)/'!MC11930.010'!Q3","v":61.049180327868854},{"$f":"'!MC11930.010'!Q40","v":3.4064939576936813E-2}]
[13,{"$f":"'!MC12840.010'!B2:C2","v":"<date>"},{"$f":"('!MC12840.010'!J194/60)/'!MC12840.010'!Q3","v":2.1202127659574468},{"$f":"'!MC12840.010'!N44/'!MC12840.010'!Q3","v":0},{"$f":"SUM('!MC12840.010'!L44:Q44)/'!MC12840.010'!Q3","v":59.436170212765958},{"$f":"'!MC12840.010'!Q40","v":6.3322370504753219E-3}]
[14,{"$f":"'!MC13A00.010'!B2:C2","v":"<date>"},{"$f":"('!MC13A00.010'!J195/60)/'!MC13A00.010'!Q3","v":2.1110229276895947},{"$f":"'!MC13A00.010'!N44/'!MC13A00.010'!Q3","v":0},{"$f":"SUM('!MC13A00.010'!L44:Q44)/'!MC13A00.010'!Q3","v":59.12169312169312},{"$f":"'!MC13A00.010'!Q40","v":2.1831771072106022E-2}]
[15,{"$f":"'!MC14930.010'!B2:C2","v":"<date>"},{"$f":"('!MC14930.010'!J200/60)/'!MC14930.010'!Q3","v":2.0520618556701034},{"$f":"'!MC14930.010'!N44/'!MC14930.010'!Q3","v":0},{"$f":"SUM('!MC14930.010'!L44:Q44)/'!MC14930.010'!Q3","v":57.608247422680414},{"$f":"'!MC14930.010'!Q40","v":1.8376625035787641E-2}]
[16,{"$f":"'!MC16850.010'!B2:C2","v":"<date>"},{"$f":"('!MC16850.010'!J197/60)/'!MC16850.010'!Q3","v":2.0735243055555554},{"$f":"'!MC16850.010'!N44/'!MC16850.010'!Q3","v":0},{"$f":"SUM('!MC16850.010'!L44:Q44)/'!MC16850.010'!Q3","v":58.203125},{"$f":"'!MC16850.010'!Q40","v":3.8383012220992732E-2}]
[17,{"$f":"'!MC17820.010'!B2:C2","v":"<date>"},{"$f":"('!MC17820.010'!J197/60)/'!MC17820.010'!Q3","v":2.0919720767888306},{"$f":"'!MC17820.010'!N44/'!MC17820.010'!Q3","v":0},{"$f":"SUM('!MC17820.010'!L44:Q44)/'!MC17820.010'!Q3","v":58.507853403141361},{"$f":"'!MC17820.010'!Q40","v":2.3505771384805044E-2}]
[18,{"$f":"'!MC18940.010'!B2:C2","v":"<date>"},{"$f":"('!MC18940.010'!J202/60)/'!MC18940.010'!Q3","v":2.0364795918367347},{"$f":"'!MC18940.010'!N44/'!MC18940.010'!Q3","v":0},{"$f":"SUM('!MC18940.010'!L44:Q44)/'!MC18940.010'!Q3","v":57.020408163265309},{"$f":"'!MC18940.010'!Q40","v":6.0662114611398452E-3}]
[19,{"$f":"'!MC19940.010'!B2:C2","v":"<date>"},{"$f":"('!MC19940.010'!J200/60)/'!MC19940.010'!Q3","v":2.0604810996563576},{"$f":"'!MC19940.010'!N44/'!MC19940.010'!Q3","v":0},{"$f":"SUM('!MC19940.010'!L44:Q44)/'!MC19940.010'!Q3","v":57.608247422680414},{"$f":"'!MC19940.010'!Q40","v":1.7020125485781138E-2}]
[20,{"$f":"'!MC20A20.010'!B2:C2","v":"<date>"},{"$f":"('!MC20A20.010'!J138/60)/'!MC20A20.010'!Q3","v":0},{"$f":"'!MC20A20.010'!N44/'!MC20A20.010'!Q3","v":0.18939393939393939},{"$f":"SUM('!MC20A20.010'!L44:Q44)/'!MC20A20.010'!Q3","v":160.46212121212122},{"$f":"'!MC20A20.010'!Q40","v":0.54187064666607376}]
[21,{"$f":"'!MC21A00.010'!B2:C2","v":"<date>"},{"$f":"('!MC21A00.010'!J202/60)/'!MC21A00.010'!Q3","v":2.0372448979591837},{"$f":"'!MC21A00.010'!N44/'!MC21A00.010'!Q3","v":0},{"$f":"SUM('!MC21A00.010'!L44:Q44)/'!MC21A00.010'!Q3","v":57.020408163265309},{"$f":"'!MC21A00.010'!Q40","v":6.0662114611398452E-3}]
[22,{"$f":"'!MC22900.010'!B2:C2","v":"<date>"},{"$f":"('!MC22900.010'!J195/60)/'!MC22900.010'!Q3","v":2.1120811287477954},{"$f":"'!MC22900.010'!N44/'!MC22900.010'!Q3","v":0},{"$f":"SUM('!MC22900.010'!L44:Q44)/'!MC22900.010'!Q3","v":59.12169312169312},{"$f":"'!MC22900.010'!Q40","v":2.6853665697917986E-2}]
[23,{"$f":"'!MC23910.010'!B2:C2","v":"<date>"},{"$f":"('!MC23910.010'!J198/60)/'!MC23910.010'!Q3","v":2.0815104166666667},{"$f":"'!MC23910.010'!N44/'!MC23910.010'!Q3","v":0},{"$f":"SUM('!MC23910.010'!L44:Q44)/'!MC23910.010'!Q3","v":58.203125},{"$f":"'!MC23910.010'!Q40","v":2.2957908261094947E-2}]
[24,{"$f":"'!MC24930.010'!B2:C2","v":"<date>"},{"$f":"('!MC24930.010'!J203/60)/'!MC24930.010'!Q3","v":2.0232656514382401},{"$f":"'!MC24930.010'!N44/'!MC24930.010'!Q3","v":0},{"$f":"SUM('!MC24930.010'!L44:Q44)/'!MC24930.010'!Q3","v":56.736040609137056},{"$f":"'!MC24930.010'!Q40","v":0}]
[25,{"$f":"'!MC27940.010'!B2:C2","v":"<date>"},{"$f":"('!MC27940.010'!J194/60)/'!MC27940.010'!Q3","v":2.1257978723404256},{"$f":"'!MC27940.010'!N44/'!MC27940.010'!Q3","v":0},{"$f":"SUM('!MC27940.010'!L44:Q44)/'!MC27940.010'!Q3","v":59.436170212765958},{"$f":"'!MC27940.010'!Q40","v":3.0374038530992364E-2}]
[26,{"$f":"'!MC28910.010'!B2:C2","v":"<date>"},{"$f":"('!MC28910.010'!J197/60)/'!MC28910.010'!Q3","v":2.0723090277777776},{"$f":"'!MC28910.010'!N44/'!MC28910.010'!Q3","v":0},{"$f":"SUM('!MC28910.010'!L44:Q44)/'!MC28910.010'!Q3","v":58.203125},{"$f":"'!MC28910.010'!Q40","v":2.9919404205881503E-2}]
[27,{"$f":"'!MC29900.010'!B2:C2","v":"<date>"},{"$f":"('!MC29900.010'!J199/60)/'!MC29900.010'!Q3","v":2.0723661485319513},{"$f":"'!MC29900.010'!N44/'!MC29900.010'!Q3","v":0},{"$f":"SUM('!MC29900.010'!L44:Q44)/'!MC29900.010'!Q3","v":57.901554404145081},{"$f":"'!MC29900.010'!Q40","v":1.0956676218561029E-2}]
[28,{"$f":"'!MC30820.010'!B2:C2","v":"<date>"},{"$f":"('!MC30820.010'!J191/60)/'!MC30820.010'!Q3","v":2.1388888888888888},{"$f":"'!MC30820.010'!N44/'!MC30820.010'!Q3","v":0},{"$f":"SUM('!MC30820.010'!L44:Q44)/'!MC30820.010'!Q3","v":60.06989247311828},{"$f":"'!MC30820.010'!Q40","v":5.4499376307733438E-2}]
[29,{"$f":"'!MC31900.010'!B2:C2","v":"<date>"},{"$f":"('!MC31900.010'!J193/60)/'!MC31900.010'!Q3","v":2.1350267379679146},{"$f":"'!MC31900.010'!N44/'!MC31900.010'!Q3","v":0},{"$f":"SUM('!MC31900.010'!L44:Q44)/'!MC31900.010'!Q3","v":59.748663101604279},{"$f":"'!MC31900.010'!Q40","v":5.7146257867824284E-2}]
[30]

{"sheet":"Start","index":2,"n_rows":35,"n_cols":10,"rows_kept":35,"cut":false,"hidden":false,"merged":[]}
[null,null,null,null,null,"Use Folder 51",null,"Auto Clean Up",null,"Correct sequence"]
[null,null,null,null,null,false,null,true,null,21121]
[]
["Working with Folder",null,null,null,null,null,"Process All/Or Pick A number: ALL or an integer"]
["E:\\Hen Data\\Raw Data\\102_182\\phase 5 any\\",null,null,null,null,null,"ALL"]
["Filenames:"]
["!MB30A30.010",null,null,null,null,null,"Paint Cells"]
["!MC01A10.010",null,null,null,null,null,false]
["!MC02A20.010"]
["!MC03810.010"]
["!MC04A00.010"]
["!MC05840.010"]
["!MC06930.010"]
["!MC07940.010"]
["!MC08950.010"]
["!MC09940.010"]
["!MC10A30.010"]
["!MC11930.010"]
["!MC12840.010"]
["!MC13A00.010"]
["!MC14930.010"]
["!MC16850.010"]
["!MC17820.010"]
["!MC18940.010"]
["!MC19940.010"]
["!MC20A20.010"]
["!MC21A00.010"]
["!MC22900.010"]
["!MC23910.010"]
["!MC24930.010"]
["!MC27940.010"]
["!MC28910.010"]
["!MC29900.010"]
["!MC30820.010"]
["!MC31900.010"]

{"sheet":"!MB30A30.010","index":3,"n_rows":160,"n_cols":48,"rows_kept":160,"cut":false,"hidden":false,"merged":[[4,39,4,42],[5,39,5,40],[4,44,4,47],[5,44,5,45],[4,24,4,27],[5,24,5,25],[4,29,4,32],[5,29,5,30],[4,34,4,37],[5,34,5,35],[1,1,1,2],[5,13,5,14],[42,13,42,14],[43,13,43,14],[4,19,4,22],[5,19,5,20]]}
["Report for:!MB30A30.010"]
["Date:","<date>"]
["Hen:","<hen>",null,null,null,"Correct Sequence",{"$f":"Start!J2","v":21121},null,null,null,null,null,null,null,null,"Total Sequences in Data",{"$f":"4994-COUNTBLANK(L7:L5000)","v":154},null,null,null,null,"Total Sequences in Block Data",{"$f":"COUNTA(L7:L32)","v":26},null,null,null,"Total Sequences in Block Data",{"$f":"COUNTA(L33:L57)","v":25},null,null,null,"Total Sequences in Block Data",{"$f":"COUNTA(L58:L83)","v":26},null,null,null,"Total Sequences in Block Data",{"$f":"COUNTA(L84:L109)","v":26},null,null,null,"Total Sequences in Block Data",{"$f":"COUNTA(L110:L134)","v":25},null,null,null,"Total Sequences in Block Data",{"$f":"COUNTA(L135:L160)","v":26}]
[null,null,null,null,null,null,null,null,null,null,null,null,null,null,null,"Total Sequences in Summary",{"$f":"SUM(O7:O38)","v":153},null,null,null,null,"Total Sequences in Block Summary",{"$f":"SUM(U7:U38)","v":26},null,null,null,"Total Sequences in Block Summary",{"$f":"SUM(Z7:Z38)","v":25},null,null,null,"Total Sequences in Block Summary",{"$f":"SUM(AE7:AE38)","v":26},null,null,null,"Total Sequences in Block Summary",{"$f":"SUM(AJ7:AJ38)","v":26},null,null,null,"Total Sequences in Block Summary",{"$f":"SUM(AO7:AO38)","v":25},null,null,null,"Total Sequences in Block Summary",{"$f":"SUM(AT7:AT38)","v":25}]
[null,null,null,null,null,null,null,null,null,null,null,null,null,null,null,null,null,null,null,"Block 1",null,null,null,null,"Block 2",null,null,null,null,"Block 3",null,null,null,null,"Block 4",null,null,null,null,"Block 5",null,null,null,null,"Block 6"]
["Sequence\nComponent\n1","Time\n1","Sequence\nComponent\n2","Time\n2","Sequence\nComponent\n3","Time\n3","Sequence\nComponent\n4","Time\n4","Sequence\nComponent\n5","Time\n5","Correct?\n0=No 1=Yes","Sequence",null,"Frequency",null,"Relative Frequency","Variability",null,null,"Frequency",null,"Relative Frequency","Variability",null,"Frequency",null,"Relative Frequency","Variability",null,"Frequency",null,"Relative Frequency","Variability",null,"Frequency",null,"Relative Frequency","Variability",null,"Frequency",null,"Relative Frequency","Variability",null,"Frequency",null,"Relative Frequency","Variability"]
[12,14,24,25,24,42,23,48,24,53,0,12222,null,11111,{"$f":"COUNTIF($L$7:$L$500,N7)","v":29},{"$f":"O7/$Q$4","v":0.18954248366013071},{"$f":"IF(P7=0,0,(P7*((LOG(P7))/LOG(2))))","v":-0.45478953319860987},null,null,{"$f":"N7","v":11111},{"$f":"COUNTIF(L7:L32,T7)","v":0},{"$f":"U7/(W4-U25)","v":0},{"$f":"IF(V7=0,0,(V7*((LOG(V7))/LOG(2))))","v":0},null,{"$f":"N7","v":11111},{"$f":"COUNTIF(L33:L57,Y7)","v":1},{"$f":"Z7/(AB4-Z25)","v":0.04},{"$f":"IF(AA7=0,0,(AA7*((LOG(AA7))/LOG(2))))","v":-0.18575424759098899},null,{"$f":"N7","v":11111},{"$f":"COUNTIF(L58:L83,AD7)","v":2},{"$f":"AE7/(AG4-AE25)","v":7.6923076923076927E-2},{"$f":"IF(AF7=0,0,(AF7*((LOG(AF7))/LOG(2))))","v":-0.28464920908777636},null,{"$f":"N7","v":11111},{"$f":"COUNTIF(L84:L109,AI7)","v":10},{"$f":"AJ7/(AL4-AJ25)","v":0.38461538461538464},{"$f":"IF(AK7=0,0,(AK7*((LOG(AK7))/LOG(2))))","v":-0.53019677817451139},null,{"$f":"N7","v":11111},{"$f":"COUNTIF(L110:L134,AN7)","v":5},{"$f":"AO7/(AQ4-AO25)","v":0.2},{"$f":"IF(AP7=0,0,(AP7*((LOG(AP7))/LOG(2))))","v":-0.46438561897747244},null,{"$f":"N7","v":11111},{"$f":"COUNTIF(L135:L160,AS7)","v":11},{"$f":"AT7/(AV4-AT25)","v":0.44},{"$f":"IF(AU7=0,0,(AU7*((LOG(AU7))/LOG(2))))","v":-0.52114681130046814}]
[12,160,24,173,24,189,14,239,24,249,0,12212,null,11112,{"$f":"COUNTIF($L$7:$L$500,N8)","v":16},{"$f":"O8/$Q$4","v":0.10457516339869281},{"$f":"IF(P8=0,0,(P8*((LOG(P8))/LOG(2))))","v":-0.34064186590249951},null,null,{"$f":"N8","v":11112},{"$f":"COUNTIF(L7:L32,T8)","v":0},{"$f":"U8/(W4-U25)","v":0},{"$f":"IF(V8=0,0,(V8*((LOG(V8))/LOG(2))))","v":0},null,{"$f":"N8","v":11112},{"$f":"COUNTIF(L33:L57,Y8)","v":1},{"$f":"Z8/(AB4-Z25)","v":0.04},{"$f":"IF(AA8=0,0,(AA8*((LOG(AA8))/LOG(2))))","v":-0.18575424759098899},null,{"$f":"N8","v":11112},{"$f":"COUNTIF(L58:L83,AD8)","v":2},{"$f":"AE8/(AG4-AE25)","v":7.6923076923076927E-2},{"$f":"IF(AF8=0,0,(AF8*((LOG(AF8))/LOG(2))))","v":-0.28464920908777636},null,{"$f":"N8","v":11112},{"$f":"COUNTIF(L84:L109,AI8)","v":4},{"$f":"AJ8/(AL4-AJ25)","v":0.15384615384615385},{"$f":"IF(AK8=0,0,(AK8*((LOG(AK8))/LOG(2))))","v":-0.4154522643293988},null,{"$f":"N8","v":11112},{"$f":"COUNTIF(L110:L134,AN8)","v":5},{"$f":"AO8/(AQ4-AO25)","v":0.2},{"$f":"IF(AP8=0,0,(AP8*((LOG(AP8))/LOG(2))))","v":-0.46438561897747244},null,{"$f":"N8","v":11112},{"$f":"COUNTIF(L135:L160,AS8)","v":4},{"$f":"AT8/(AV4-AT25)","v":0.16},{"$f":"IF(AU8=0,0,(AU8*((LOG(AU8))/LOG(2))))","v":-0.42301699036395596}]
[12,349,24,363,24,377,23,388,13,425,0,12221,null,11121,{"$f":"COUNTIF($L$7:$L$500,N9)","v":0},{"$f":"O9/$Q$4","v":0},{"$f":"IF(P9=0,0,(P9*((LOG(P9))/LOG(2))))","v":0},null,null,{"$f":"N9","v":11121},{"$f":"COUNTIF(L7:L32,T9)","v":0},{"$f":"U9/(W4-U25)","v":0},{"$f":"IF(V9=0,0,(V9*((LOG(V9))/LOG(2))))","v":0},null,{"$f":"N9","v":11121},{"$f":"COUNTIF(L33:L57,Y9)","v":0},{"$f":"Z9/(AB4-Z25)","v":0},{"$f":"IF(AA9=0,0,(AA9*((LOG(AA9))/LOG(2))))","v":0},null,{"$f":"N9","v":11121},{"$f":"COUNTIF(L58:L83,AD9)","v":0},{"$f":"AE9/(AG4-AE25)","v":0},{"$f":"IF(AF9=0,0,(AF9*((LOG(AF9))/LOG(2))))","v":0},null,{"$f":"N9","v":11121},{"$f":"COUNTIF(L84:L109,AI9)","v":0},{"$f":"AJ9/(AL4-AJ25)","v":0},{"$f":"IF(AK9=0,0,(AK9*((LOG(AK9))/LOG(2))))","v":0},null,{"$f":"N9","v":11121},{"$f":"COUNTIF(L110:L134,AN9)","v":0},{"$f":"AO9/(AQ4-AO25)","v":0},{"$f":"IF(AP9=0,0,(AP9*((LOG(AP9))/LOG(2))))","v":0},null,{"$f":"N9","v":11121},{"$f":"COUNTIF(L135:L160,AS9)","v":0},{"$f":"AT9/(AV4-AT25)","v":0},{"$f":"IF(AU9=0,0,(AU9*((LOG(AU9))/LOG(2))))","v":0}]
[12,533,24,551,24,565,23,574,13,604,0,12221,null,11122,{"$f":"COUNTIF($L$7:$L$500,N10)","v":25},{"$f":"O10/$Q$4","v":0.16339869281045752},{"$f":"IF(P10=0,0,(P10*((LOG(P10))/LOG(2))))","v":-0.42704765570554359},null,null,{"$f":"N10","v":11122},{"$f":"COUNTIF(L7:L32,T10)","v":0},{"$f":"U10/(W4-U25)","v":0},{"$f":"IF(V10=0,0,(V10*((LOG(V10))/LOG(2))))","v":0},null,{"$f":"N10","v":11122},{"$f":"COUNTIF(L33:L57,Y10)","v":3},{"$f":"Z10/(AB4-Z25)","v":0.12},{"$f":"IF(AA10=0,0,(AA10*((LOG(AA10))/LOG(2))))","v":-0.36706724268642821},null,{"$f":"N10","v":11122},{"$f":"COUNTIF(L58:L83,AD10)","v":7},{"$f":"AE10/(AG4-AE25)","v":0.26923076923076922},{"$f":"IF(AF10=0,0,(AF10*((LOG(AF10))/LOG(2))))","v":-0.50967667586863141},null,{"$f":"N10","v":11122},{"$f":"COUNTIF(L84:L109,AI10)","v":6},{"$f":"AJ10/(AL4-AJ25)","v":0.23076923076923078},{"$f":"IF(AK10=0,0,(AK10*((LOG(AK10))/LOG(2))))","v":-0.48818705017383146},null,{"$f":"N10","v":11122},{"$f":"COUNTIF(L110:L134,AN10)","v":5},{"$f":"AO10/(AQ4-AO25)","v":0.2},{"$f":"IF(AP10=0,0,(AP10*((LOG(AP10))/LOG(2))))","v":-0.46438561897747244},null,{"$f":"N10","v":11122},{"$f":"COUNTIF(L135:L160,AS10)","v":4},{"$f":"AT10/(AV4-AT25)","v":0.16},{"$f":"IF(AU10=0,0,(AU10*((LOG(AU10))/LOG(2))))","v":-0.42301699036395596}]
[12,708,24,719,24,733,14,753,24,768,1,12212,null,11211,{"$f":"COUNTIF($L$7:$L$500,N11)","v":0},{"$f":"O11/$Q$4","v":0},{"$f":"IF(P11=0,0,(P11*((LOG(P11))/LOG(2))))","v":0},null,null,{"$f":"N11","v":11211},{"$f":"COUNTIF(L7:L32,T11)","v":0},{"$f":"U11/(W4-U25)","v":0},{"$f":"IF(V11=0,0,(V11*((LOG(V11))/LOG(2))))","v":0},null,{"$f":"N11","v":11211},{"$f":"COUNTIF(L33:L57,Y11)","v":0},{"$f":"Z11/(AB4-Z25)","v":0},{"$f":"IF(AA11=0,0,(AA11*((LOG(AA11))/LOG(2))))","v":0},null,{"$f":"N11","v":11211},{"$f":"COUNTIF(L58:L83,AD11)","v":0},{"$f":"AE11/(AG4-AE25)","v":0},{"$f":"IF(AF11=0,0,(AF11*((LOG(AF11))/LOG(2))))","v":0},null,{"$f":"N11","v":11211},{"$f":"COUNTIF(L84:L109,AI11)","v":0},{"$f":"AJ11/(AL4-AJ25)","v":0},{"$f":"IF(AK11=0,0,(AK11*((LOG(AK11))/LOG(2))))","v":0},null,{"$f":"N11","v":11211},{"$f":"COUNTIF(L110:L134,AN11)","v":0},{"$f":"AO11/(AQ4-AO25)","v":0},{"$f":"IF(AP11=0,0,(AP11*((LOG(AP11))/LOG(2))))","v":0},null,{"$f":"N11","v":11211},{"$f":"COUNTIF(L135:L160,AS11)","v":0},{"$f":"AT11/(AV4-AT25)","v":0},{"$f":"IF(AU11=0,0,(AU11*((LOG(AU11))/LOG(2))))","v":0}]
[12,869,24,879,24,887,14,906,24,917,0,12212,null,11212,{"$f":"COUNTIF($L$7:$L$500,N12)","v":0},{"$f":"O12/$Q$4","v":0},{"$f":"IF(P12=0,0,(P12*((LOG(P12))/LOG(2))))","v":0},null,null,{"$f":"N12","v":11212},{"$f":"COUNTIF(L7:L32,T12)","v":0},{"$f":"U12/(W4-U25)","v":0},{"$f":"IF(V12=0,0,(V12*((LOG(V12))/LOG(2))))","v":0},null,{"$f":"N12","v":11212},{"$f":"COUNTIF(L33:L57,Y12)","v":0},{"$f":"Z12/(AB4-Z25)","v":0},{"$f":"IF(AA12=0,0,(AA12*((LOG(AA12))/LOG(2))))","v":0},null,{"$f":"N12","v":11212},{"$f":"COUNTIF(L58:L83,AD12)","v":0},{"$f":"AE12/(AG4-AE25)","v":0},{"$f":"IF(AF12=0,0,(AF12*((LOG(AF12))/LOG(2))))","v":0},null,{"$f":"N12","v":11212},{"$f":"COUNTIF(L84:L109,AI12)","v":0},{"$f":"AJ12/(AL4-AJ25)","v":0},{"$f":"IF(AK12=0,0,(AK12*((LOG(AK12))/LOG(2))))","v":0},null,{"$f":"N12","v":11212},{"$f":"COUNTIF(L110:L134,AN12)","v":0},{"$f":"AO12/(AQ4-AO25)","v":0},{"$f":"IF(AP12=0,0,(AP12*((LOG(AP12))/LOG(2))))","v":0},null,{"$f":"N12","v":11212},{"$f":"COUNTIF(L135:L160,AS12)","v":0},{"$f":"AT12/(AV4-AT25)","v":0},{"$f":"IF(AU12=0,0,(AU12*((LOG(AU12))/LOG(2))))","v":0}]
[21,1031,22,1039,24,1075,23,1084,24,1092,0,22222,null,11221,{"$f":"COUNTIF($L$7:$L$500,N13)","v":0},{"$f":"O13/$Q$4","v":0},{"$f":"IF(P13=0,0,(P13*((LOG(P13))/LOG(2))))","v":0},null,null,{"$f":"N13","v":11221},{"$f":"COUNTIF(L7:L32,T13)","v":0},{"$f":"U13/(W4-U25)","v":0},{"$f":"IF(V13=0,0,(V13*((LOG(V13))/LOG(2))))","v":0},null,{"$f":"N13","v":11221},{"$f":"COUNTIF(L33:L57,Y13)","v":0},{"$f":"Z13/(AB4-Z25)","v":0},{"$f":"IF(AA13=0,0,(AA13*((LOG(AA13))/LOG(2))))","v":0},null,{"$f":"N13","v":11221},{"$f":"COUNTIF(L58:L83,AD13)","v":0},{"$f":"AE13/(AG4-AE25)","v":0},{"$f":"IF(AF13=0,0,(AF13*((LOG(AF13))/LOG(2))))","v":0},null,{"$f":"N13","v":11221},{"$f":"COUNTIF(L84:L109,AI13)","v":0},{"$f":"AJ13/(AL4-AJ25)","v":0},{"$f":"IF(AK13=0,0,(AK13*((LOG(AK13))/LOG(2))))","v":0},null,{"$f":"N13","v":11221},{"$f":"COUNTIF(L110:L134,AN13)","v":0},{"$f":"AO13/(AQ4-AO25)","v":0},{"$f":"IF(AP13=0,0,(AP13*((LOG(AP13))/LOG(2))))","v":0},null,{"$f":"N13","v":11221},{"$f":"COUNTIF(L135:L160,AS13)","v":0},{"$f":"AT13/(AV4-AT25)","v":0},{"$f":"IF(AU13=0,0,(AU13*((LOG(AU13))/LOG(2))))","v":0}]
[12,1198,24,1212,24,1228,14,1255,24,1286,0,12212,null,11222,{"$f":"COUNTIF($L$7:$L$500,N14)","v":40},{"$f":"O14/$Q$4","v":0.26143790849673204},{"$f":"IF(P14=0,0,(P14*((LOG(P14))/LOG(2))))","v":-0.50600254844582726},null,null,{"$f":"N14","v":11222},{"$f":"COUNTIF(L7:L32,T14)","v":2},{"$f":"U14/(W4-U25)","v":7.6923076923076927E-2},{"$f":"IF(V14=0,0,(V14*((LOG(V14))/LOG(2))))","v":-0.28464920908777636},null,{"$f":"N14","v":11222},{"$f":"COUNTIF(L33:L57,Y14)","v":7},{"$f":"Z14/(AB4-Z25)","v":0.28000000000000003},{"$f":"IF(AA14=0,0,(AA14*((LOG(AA14))/LOG(2))))","v":-0.51422035496079388},null,{"$f":"N14","v":11222},{"$f":"COUNTIF(L58:L83,AD14)","v":12},{"$f":"AE14/(AG4-AE25)","v":0.46153846153846156},{"$f":"IF(AF14=0,0,(AF14*((LOG(AF14))/LOG(2))))","v":-0.51483563880920125},null,{"$f":"N14","v":11222},{"$f":"COUNTIF(L84:L109,AI14)","v":6},{"$f":"AJ14/(AL4-AJ25)","v":0.23076923076923078},{"$f":"IF(AK14=0,0,(AK14*((LOG(AK14))/LOG(2))))","v":-0.48818705017383146},null,{"$f":"N14","v":11222},{"$f":"COUNTIF(L110:L134,AN14)","v":9},{"$f":"AO14/(AQ4-AO25)","v":0.36},{"$f":"IF(AP14=0,0,(AP14*((LOG(AP14))/LOG(2))))","v":-0.53061522779966841},null,{"$f":"N14","v":11222},{"$f":"COUNTIF(L135:L160,AS14)","v":4},{"$f":"AT14/(AV4-AT25)","v":0.16},{"$f":"IF(AU14=0,0,(AU14*((LOG(AU14))/LOG(2))))","v":-0.42301699036395596}]
[12,1389,24,1398,24,1412,23,1420,13,1437,0,12221,null,12111,{"$f":"COUNTIF($L$7:$L$500,N15)","v":1},{"$f":"O15/$Q$4","v":6.5359477124183009E-3},{"$f":"IF(P15=0,0,(P15*((LOG(P15))/LOG(2))))","v":-4.743390746857943E-2},null,null,{"$f":"N15","v":12111},{"$f":"COUNTIF(L7:L32,T15)","v":1},{"$f":"U15/(W4-U25)","v":3.8461538461538464E-2},{"$f":"IF(V15=0,0,(V15*((LOG(V15))/LOG(2))))","v":-0.18078614300542661},null,{"$f":"N15","v":12111},{"$f":"COUNTIF(L33:L57,Y15)","v":0},{"$f":"Z15/(AB4-Z25)","v":0},{"$f":"IF(AA15=0,0,(AA15*((LOG(AA15))/LOG(2))))","v":0},null,{"$f":"N15","v":12111},{"$f":"COUNTIF(L58:L83,AD15)","v":0},{"$f":"AE15/(AG4-AE25)","v":0},{"$f":"IF(AF15=0,0,(AF15*((LOG(AF15))/LOG(2))))","v":0},null,{"$f":"N15","v":12111},{"$f":"COUNTIF(L84:L109,AI15)","v":0},{"$f":"AJ15/(AL4-AJ25)","v":0},{"$f":"IF(AK15=0,0,(AK15*((LOG(AK15))/LOG(2))))","v":0},null,{"$f":"N15","v":12111},{"$f":"COUNTIF(L110:L134,AN15)","v":0},{"$f":"AO15/(AQ4-AO25)","v":0},{"$f":"IF(AP15=0,0,(AP15*((LOG(AP15))/LOG(2))))","v":0},null,{"$f":"N15","v":12111},{"$f":"COUNTIF(L135:L160,AS15)","v":0},{"$f":"AT15/(AV4-AT25)","v":0},{"$f":"IF(AU15=0,0,(AU15*((LOG(AU15))/LOG(2))))","v":0}]
[12,1538,24,1548,24,1556,23,1564,24,1578,1,12222,null,12112,{"$f":"COUNTIF($L$7:$L$500,N16)","v":1},{"$f":"O16/$Q$4","v":6.5359477124183009E-3},{"$f":"IF(P16=0,0,(P16*((LOG(P16))/LOG(2))))","v":-4.743390746857943E-2},null,null,{"$f":"N16","v":12112},{"$f":"COUNTIF(L7:L32,T16)","v":1},{"$f":"U16/(W4-U25)","v":3.8461538461538464E-2},{"$f":"IF(V16=0,0,(V16*((LOG(V16))/LOG(2))))","v":-0.18078614300542661},null,{"$f":"N16","v":12112},{"$f":"COUNTIF(L33:L57,Y16)","v":0},{"$f":"Z16/(AB4-Z25)","v":0},{"$f":"IF(AA16=0,0,(AA16*((LOG(AA16))/LOG(2))))","v":0},null,{"$f":"N16","v":12112},{"$f":"COUNTIF(L58:L83,AD16)","v":0},{"$f":"AE16/(AG4-AE25)","v":0},{"$f":"IF(AF16=0,0,(AF16*((LOG(AF16))/LOG(2))))","v":0},null,{"$f":"N16","v":12112},{"$f":"COUNTIF(L84:L109,AI16)","v":0},{"$f":"AJ16/(AL4-AJ25)","v":0},{"$f":"IF(AK16=0,0,(AK16*((LOG(AK16))/LOG(2))))","v":0},null,{"$f":"N16","v":12112},{"$f":"COUNTIF(L110:L134,AN16)","v":0},{"$f":"AO16/(AQ4-AO25)","v":0},{"$f":"IF(AP16=0,0,(AP16*((LOG(AP16))/LOG(2))))","v":0},null,{"$f":"N16","v":12112},{"$f":"COUNTIF(L135:L160,AS16)","v":0},{"$f":"AT16/(AV4-AT25)","v":0},{"$f":"IF(AU16=0,0,(AU16*((LOG(AU16))/LOG(2))))","v":0}]
[21,1683,22,1696,13,1715,23,1742,13,1771,0,22121,null,12121,{"$f":"COUNTIF($L$7:$L$500,N17)","v":0},{"$f":"O17/$Q$4","v":0},{"$f":"IF(P17=0,0,(P17*((LOG(P17))/LOG(2))))","v":0},null,null,{"$f":"N17","v":12121},{"$f":"COUNTIF(L7:L32,T17)","v":0},{"$f":"U17/(W4-U25)","v":0},{"$f":"IF(V17=0,0,(V17*((LOG(V17))/LOG(2))))","v":0},null,{"$f":"N17","v":12121},{"$f":"COUNTIF(L33:L57,Y17)","v":0},{"$f":"Z17/(AB4-Z25)","v":0},{"$f":"IF(AA17=0,0,(AA17*((LOG(AA17))/LOG(2))))","v":0},null,{"$f":"N17","v":12121},{"$f":"COUNTIF(L58:L83,AD17)","v":0},{"$f":"AE17/(AG4-AE25)","v":0},{"$f":"IF(AF17=0,0,(AF17*((LOG(AF17))/LOG(2))))","v":0},null,{"$f":"N17","v":12121},{"$f":"COUNTIF(L84:L109,AI17)","v":0},{"$f":"AJ17/(AL4-AJ25)","v":0},{"$f":"IF(AK17=0,0,(AK17*((LOG(AK17))/LOG(2))))","v":0},null,{"$f":"N17","v":12121},{"$f":"COUNTIF(L110:L134,AN17)","v":0},{"$f":"AO17/(AQ4-AO25)","v":0},{"$f":"IF(AP17=0,0,(AP17*((LOG(AP17))/LOG(2))))","v":0},null,{"$f":"N17","v":12121},{"$f":"COUNTIF(L135:L160,AS17)","v":0},{"$f":"AT17/(AV4-AT25)","v":0},{"$f":"IF(AU17=0,0,(AU17*((LOG(AU17))/LOG(2))))","v":0}]
[12,1878,24,1891,24,1904,14,1948,24,1960,0,12212,null,12122,{"$f":"COUNTIF($L$7:$L$500,N18)","v":1},{"$f":"O18/$Q$4","v":6.5359477124183009E-3},{"$f":"IF(P18=0,0,(P18*((LOG(P18))/LOG(2))))","v":-4.743390746857943E-2},null,null,{"$f":"N18","v":12122},{"$f":"COUNTIF(L7:L32,T18)","v":1},{"$f":"U18/(W4-U25)","v":3.8461538461538464E-2},{"$f":"IF(V18=0,0,(V18*((LOG(V18))/LOG(2))))","v":-0.18078614300542661},null,{"$f":"N18","v":12122},{"$f":"COUNTIF(L33:L57,Y18)","v":0},{"$f":"Z18/(AB4-Z25)","v":0},{"$f":"IF(AA18=0,0,(AA18*((LOG(AA18))/LOG(2))))","v":0},null,{"$f":"N18","v":12122},{"$f":"COUNTIF(L58:L83,AD18)","v":0},{"$f":"AE18/(AG4-AE25)","v":0},{"$f":"IF(AF18=0,0,(AF18*((LOG(AF18))/LOG(2))))","v":0},null,{"$f":"N18","v":12122},{"$f":"COUNTIF(L84:L109,AI18)","v":0},{"$f":"AJ18/(AL4-AJ25)","v":0},{"$f":"IF(AK18=0,0,(AK18*((LOG(AK18))/LOG(2))))","v":0},null,{"$f":"N18","v":12122},{"$f":"COUNTIF(L110:L134,AN18)","v":0},{"$f":"AO18/(AQ4-AO25)","v":0},{"$f":"IF(AP18=0,0,(AP18*((LOG(AP18))/LOG(2))))","v":0},null,{"$f":"N18","v":12122},{"$f":"COUNTIF(L135:L160,AS18)","v":0},{"$f":"AT18/(AV4-AT25)","v":0},{"$f":"IF(AU18=0,0,(AU18*((LOG(AU18))/LOG(2))))","v":0}]
[12,2067,24,2081,13,2117,23,2138,24,2156,0,12122,null,12211,{"$f":"COUNTIF($L$7:$L$500,N19)","v":0},{"$f":"O19/$Q$4","v":0},{"$f":"IF(P19=0,0,(P19*((LOG(P19))/LOG(2))))","v":0},null,null,{"$f":"N19","v":12211},{"$f":"COUNTIF(L7:L32,T19)","v":0},{"$f":"U19/(W4-U25)","v":0},{"$f":"IF(V19=0,0,(V19*((LOG(V19))/LOG(2))))","v":0},null,{"$f":"N19","v":12211},{"$f":"COUNTIF(L33:L57,Y19)","v":0},{"$f":"Z19/(AB4-Z25)","v":0},{"$f":"IF(AA19=0,0,(AA19*((LOG(AA19))/LOG(2))))","v":0},null,{"$f":"N19","v":12211},{"$f":"COUNTIF(L58:L83,AD19)","v":0},{"$f":"AE19/(AG4-AE25)","v":0},{"$f":"IF(AF19=0,0,(AF19*((LOG(AF19))/LOG(2))))","v":0},null,{"$f":"N19","v":12211},{"$f":"COUNTIF(L84:L109,AI19)","v":0},{"$f":"AJ19/(AL4-AJ25)","v":0},{"$f":"IF(AK19=0,0,(AK19*((LOG(AK19))/LOG(2))))","v":0},null,{"$f":"N19","v":12211},{"$f":"COUNTIF(L110:L134,AN19)","v":0},{"$f":"AO19/(AQ4-AO25)","v":0},{"$f":"IF(AP19=0,0,(AP19*((LOG(AP19))/LOG(2))))","v":0},null,{"$f":"N19","v":12211},{"$f":"COUNTIF(L135:L160,AS19)","v":0},{"$f":"AT19/(AV4-AT25)","v":0},{"$f":"IF(AU19=0,0,(AU19*((LOG(AU19))/LOG(2))))","v":0}]
[12,2261,24,2274,24,2289,23,2308,24,2313,1,12222,null,12212,{"$f":"COUNTIF($L$7:$L$500,N20)","v":5},{"$f":"O20/$Q$4","v":3.2679738562091505E-2},{"$f":"IF(P20=0,0,(P20*((LOG(P20))/LOG(2))))","v":-0.1612895342420029},null,null,{"$f":"N20","v":12212},{"$f":"COUNTIF(L7:L32,T20)","v":5},{"$f":"U20/(W4-U25)","v":0.19230769230769232},{"$f":"IF(V20=0,0,(V20*((LOG(V20))/LOG(2))))","v":-0.45740608139494804},null,{"$f":"N20","v":12212},{"$f":"COUNTIF(L33:L57,Y20)","v":0},{"$f":"Z20/(AB4-Z25)","v":0},{"$f":"IF(AA20=0,0,(AA20*((LOG(AA20))/LOG(2))))","v":0},null,{"$f":"N20","v":12212},{"$f":"COUNTIF(L58:L83,AD20)","v":0},{"$f":"AE20/(AG4-AE25)","v":0},{"$f":"IF(AF20=0,0,(AF20*((LOG(AF20))/LOG(2))))","v":0},null,{"$f":"N20","v":12212},{"$f":"COUNTIF(L84:L109,AI20)","v":0},{"$f":"AJ20/(AL4-AJ25)","v":0},{"$f":"IF(AK20=0,0,(AK20*((LOG(AK20))/LOG(2))))","v":0},null,{"$f":"N20","v":12212},{"$f":"COUNTIF(L110:L134,AN20)","v":0},{"$f":"AO20/(AQ4-AO25)","v":0},{"$f":"IF(AP20=0,0,(AP20*((LOG(AP20))/LOG(2))))","v":0},null,{"$f":"N20","v":12212},{"$f":"COUNTIF(L135:L160,AS20)","v":0},{"$f":"AT20/(AV4-AT25)","v":0},{"$f":"IF(AU20=0,0,(AU20*((LOG(AU20))/LOG(2))))","v":0}]
[12,2422,24,2444,24,2456,23,2464,24,2485,0,12222,null,12221,{"$f":"COUNTIF($L$7:$L$500,N21)","v":4},{"$f":"O21/$Q$4","v":2.6143790849673203E-2},{"$f":"IF(P21=0,0,(P21*((LOG(P21))/LOG(2))))","v":-0.13744804817497128},null,null,{"$f":"N21","v":12221},{"$f":"COUNTIF(L7:L32,T21)","v":3},{"$f":"U21/(W4-U25)","v":0.11538461538461539},{"$f":"IF(V21=0,0,(V21*((LOG(V21))/LOG(2))))","v":-0.35947814047153104},null,{"$f":"N21","v":12221},{"$f":"COUNTIF(L33:L57,Y21)","v":1},{"$f":"Z21/(AB4-Z25)","v":0.04},{"$f":"IF(AA21=0,0,(AA21*((LOG(AA21))/LOG(2))))","v":-0.18575424759098899},null,{"$f":"N21","v":12221},{"$f":"COUNTIF(L58:L83,AD21)","v":0},{"$f":"AE21/(AG4-AE25)","v":0},{"$f":"IF(AF21=0,0,(AF21*((LOG(AF21))/LOG(2))))","v":0},null,{"$f":"N21","v":12221},{"$f":"COUNTIF(L84:L109,AI21)","v":0},{"$f":"AJ21/(AL4-AJ25)","v":0},{"$f":"IF(AK21=0,0,(AK21*((LOG(AK21))/LOG(2))))","v":0},null,{"$f":"N21","v":12221},{"$f":"COUNTIF(L110:L134,AN21)","v":0},{"$f":"AO21/(AQ4-AO25)","v":0},{"$f":"IF(AP21=0,0,(AP21*((LOG(AP21))/LOG(2))))","v":0},null,{"$f":"N21","v":12221},{"$f":"COUNTIF(L135:L160,AS21)","v":0},{"$f":"AT21/(AV4-AT25)","v":0},{"$f":"IF(AU21=0,0,(AU21*((LOG(AU21))/LOG(2))))","v":0}]
[12,2586,24,2597,24,2604,23,2613,24,2622,0,12222,null,12222,{"$f":"COUNTIF($L$7:$L$500,N22)","v":27},{"$f":"O22/$Q$4","v":0.17647058823529413},{"$f":"IF(P22=0,0,(P22*((LOG(P22))/LOG(2))))","v":-0.44161770715220888},null,null,{"$f":"N22","v":12222},{"$f":"COUNTIF(L7:L32,T22)","v":11},{"$f":"U22/(W4-U25)","v":0.42307692307692307},{"$f":"IF(V22=0,0,(V22*((LOG(V22))/LOG(2))))","v":-0.52504188825160547},null,{"$f":"N22","v":12222},{"$f":"COUNTIF(L33:L57,Y22)","v":11},{"$f":"Z22/(AB4-Z25)","v":0.44},{"$f":"IF(AA22=0,0,(AA22*((LOG(AA22))/LOG(2))))","v":-0.52114681130046814},null,{"$f":"N22","v":12222},{"$f":"COUNTIF(L58:L83,AD22)","v":3},{"$f":"AE22/(AG4-AE25)","v":0.11538461538461539},{"$f":"IF(AF22=0,0,(AF22*((LOG(AF22))/LOG(2))))","v":-0.35947814047153104},null,{"$f":"N22","v":12222},{"$f":"COUNTIF(L84:L109,AI22)","v":0},{"$f":"AJ22/(AL4-AJ25)","v":0},{"$f":"IF(AK22=0,0,(AK22*((LOG(AK22))/LOG(2))))","v":0},null,{"$f":"N22","v":12222},{"$f":"COUNTIF(L110:L134,AN22)","v":1},{"$f":"AO22/(AQ4-AO25)","v":0.04},{"$f":"IF(AP22=0,0,(AP22*((LOG(AP22))/LOG(2))))","v":-0.18575424759098899},null,{"$f":"N22","v":12222},{"$f":"COUNTIF(L135:L160,AS22)","v":1},{"$f":"AT22/(AV4-AT25)","v":0.04},{"$f":"IF(AU22=0,0,(AU22*((LOG(AU22))/LOG(2))))","v":-0.18575424759098899}]
[12,2748,24,2766,13,2791,14,2799,13,2813,0,12111,null,21111,{"$f":"COUNTIF($L$7:$L$500,N23)","v":0},{"$f":"O23/$Q$4","v":0},{"$f":"IF(P23=0,0,(P23*((LOG(P23))/LOG(2))))","v":0},null,null,{"$f":"N23","v":21111},{"$f":"COUNTIF(L7:L32,T23)","v":0},{"$f":"U23/(W4-U25)","v":0},{"$f":"IF(V23=0,0,(V23*((LOG(V23))/LOG(2))))","v":0},null,{"$f":"N23","v":21111},{"$f":"COUNTIF(L33:L57,Y23)","v":0},{"$f":"Z23/(AB4-Z25)","v":0},{"$f":"IF(AA23=0,0,(AA23*((LOG(AA23))/LOG(2))))","v":0},null,{"$f":"N23","v":21111},{"$f":"COUNTIF(L58:L83,AD23)","v":0},{"$f":"AE23/(AG4-AE25)","v":0},{"$f":"IF(AF23=0,0,(AF23*((LOG(AF23))/LOG(2))))","v":0},null,{"$f":"N23","v":21111},{"$f":"COUNTIF(L84:L109,AI23)","v":0},{"$f":"AJ23/(AL4-AJ25)","v":0},{"$f":"IF(AK23=0,0,(AK23*((LOG(AK23))/LOG(2))))","v":0},null,{"$f":"N23","v":21111},{"$f":"COUNTIF(L110:L134,AN23)","v":0},{"$f":"AO23/(AQ4-AO25)","v":0},{"$f":"IF(AP23=0,0,(AP23*((LOG(AP23))/LOG(2))))","v":0},null,{"$f":"N23","v":21111},{"$f":"COUNTIF(L135:L160,AS23)","v":0},{"$f":"AT23/(AV4-AT25)","v":0},{"$f":"IF(AU23=0,0,(AU23*((LOG(AU23))/LOG(2))))","v":0}]
[12,2913,24,2924,24,2937,23,2946,24,2953,0,12222,null,21112,{"$f":"COUNTIF($L$7:$L$500,N24)","v":0},{"$f":"O24/$Q$4","v":0},{"$f":"IF(P24=0,0,(P24*((LOG(P24))/LOG(2))))","v":0},null,null,{"$f":"N24","v":21112},{"$f":"COUNTIF(L7:L32,T24)","v":0},{"$f":"U24/(W4-U25)","v":0},{"$f":"IF(V24=0,0,(V24*((LOG(V24))/LOG(2))))","v":0},null,{"$f":"N24","v":21112},{"$f":"COUNTIF(L33:L57,Y24)","v":0},{"$f":"Z24/(AB4-Z25)","v":0},{"$f":"IF(AA24=0,0,(AA24*((LOG(AA24))/LOG(2))))","v":0},null,{"$f":"N24","v":21112},{"$f":"COUNTIF(L58:L83,AD24)","v":0},{"$f":"AE24/(AG4-AE25)","v":0},{"$f":"IF(AF24=0,0,(AF24*((LOG(AF24))/LOG(2))))","v":0},null,{"$f":"N24","v":21112},{"$f":"COUNTIF(L84:L109,AI24)","v":0},{"$f":"AJ24/(AL4-AJ25)","v":0},{"$f":"IF(AK24=0,0,(AK24*((LOG(AK24))/LOG(2))))","v":0},null,{"$f":"N24","v":21112},{"$f":"COUNTIF(L110:L134,AN24)","v":0},{"$f":"AO24/(AQ4-AO25)","v":0},{"$f":"IF(AP24=0,0,(AP24*((LOG(AP24))/LOG(2))))","v":0},null,{"$f":"N24","v":21112},{"$f":"COUNTIF(L135:L160,AS24)","v":0},{"$f":"AT24/(AV4-AT25)","v":0},{"$f":"IF(AU24=0,0,(AU24*((LOG(AU24))/LOG(2))))","v":0}]
[12,3078,24,3092,24,3101,23,3114,24,3124,0,12222,null,21121,{"$f":"COUNTIF($L$7:$L$500,N25)","v":0},{"$f":"O25/$Q$4","v":0},{"$f":"IF(P25=0,0,(P25*((LOG(P25))/LOG(2))))","v":0},null,null,{"$f":"N25","v":21121},{"$f":"COUNTIF(L7:L32,T25)","v":0},null,null,null,{"$f":"N25","v":21121},{"$f":"COUNTIF(L33:L57,Y25)","v":0},null,null,null,{"$f":"N25","v":21121},{"$f":"COUNTIF(L58:L83,AD25)","v":0},null,null,null,{"$f":"N25","v":21121},{"$f":"COUNTIF(L84:L109,AI25)","v":0},null,null,null,{"$f":"N25","v":21121},{"$f":"COUNTIF(L110:L134,AN25)","v":0},null,null,null,{"$f":"N25","v":21121},{"$f":"COUNTIF(L135:L160,AS25)","v":0}]
[12,3227,24,3242,24,3254,23,3263,24,3272,1,12222,null,21122,{"$f":"COUNTIF($L$7:$L$500,N26)","v":0},{"$f":"O26/$Q$4","v":0},{"$f":"IF(P26=0,0,(P26*((LOG(P26))/LOG(2))))","v":0},null,null,{"$f":"N26","v":21122},{"$f":"COUNTIF(L7:L32,T26)","v":0},{"$f":"U26/(W4-U25)","v":0},{"$f":"IF(V26=0,0,(V26*((LOG(V26))/LOG(2))))","v":0},null,{"$f":"N26","v":21122},{"$f":"COUNTIF(L33:L57,Y26)","v":0},{"$f":"Z26/(AB4-Z25)","v":0},{"$f":"IF(AA26=0,0,(AA26*((LOG(AA26))/LOG(2))))","v":0},null,{"$f":"N26","v":21122},{"$f":"COUNTIF(L58:L83,AD26)","v":0},{"$f":"AE26/(AG4-AE25)","v":0},{"$f":"IF(AF26=0,0,(AF26*((LOG(AF26))/LOG(2))))","v":0},null,{"$f":"N26","v":21122},{"$f":"COUNTIF(L84:L109,AI26)","v":0},{"$f":"AJ26/(AL4-AJ25)","v":0},{"$f":"IF(AK26=0,0,(AK26*((LOG(AK26))/LOG(2))))","v":0},null,{"$f":"N26","v":21122},{"$f":"COUNTIF(L110:L134,AN26)","v":0},{"$f":"AO26/(AQ4-AO25)","v":0},{"$f":"IF(AP26=0,0,(AP26*((LOG(AP26))/LOG(2))))","v":0},null,{"$f":"N26","v":21122},{"$f":"COUNTIF(L135:L160,AS26)","v":0},{"$f":"AT26/(AV4-AT25)","v":0},{"$f":"IF(AU26=0,0,(AU26*((LOG(AU26))/LOG(2))))","v":0}]
[12,3386,24,3401,13,3469,14,3479,24,3496,0,12112,null,21211,{"$f":"COUNTIF($L$7:$L$500,N27)","v":0},{"$f":"O27/$Q$4","v":0},{"$f":"IF(P27=0,0,(P27*((LOG(P27))/LOG(2))))","v":0},null,null,{"$f":"N27","v":21211},{"$f":"COUNTIF(L7:L32,T27)","v":0},{"$f":"U27/(W4-U25)","v":0},{"$f":"IF(V27=0,0,(V27*((LOG(V27))/LOG(2))))","v":0},null,{"$f":"N27","v":21211},{"$f":"COUNTIF(L33:L57,Y27)","v":0},{"$f":"Z27/(AB4-Z25)","v":0},{"$f":"IF(AA27=0,0,(AA27*((LOG(AA27))/LOG(2))))","v":0},null,{"$f":"N27","v":21211},{"$f":"COUNTIF(L58:L83,AD27)","v":0},{"$f":"AE27/(AG4-AE25)","v":0},{"$f":"IF(AF27=0,0,(AF27*((LOG(AF27))/LOG(2))))","v":0},null,{"$f":"N27","v":21211},{"$f":"COUNTIF(L84:L109,AI27)","v":0},{"$f":"AJ27/(AL4-AJ25)","v":0},{"$f":"IF(AK27=0,0,(AK27*((LOG(AK27))/LOG(2))))","v":0},null,{"$f":"N27","v":21211},{"$f":"COUNTIF(L110:L134,AN27)","v":0},{"$f":"AO27/(AQ4-AO25)","v":0},{"$f":"IF(AP27=0,0,(AP27*((LOG(AP27))/LOG(2))))","v":0},null,{"$f":"N27","v":21211},{"$f":"COUNTIF(L135:L160,AS27)","v":0},{"$f":"AT27/(AV4-AT25)","v":0},{"$f":"IF(AU27=0,0,(AU27*((LOG(AU27))/LOG(2))))","v":0}]
[12,3599,13,3609,24,3629,23,3652,24,3659,0,11222,null,21212,{"$f":"COUNTIF($L$7:$L$500,N28)","v":0},{"$f":"O28/$Q$4","v":0},{"$f":"IF(P28=0,0,(P28*((LOG(P28))/LOG(2))))","v":0},null,null,{"$f":"N28","v":21212},{"$f":"COUNTIF(L7:L32,T28)","v":0},{"$f":"U28/(W4-U25)","v":0},{"$f":"IF(V28=0,0,(V28*((LOG(V28))/LOG(2))))","v":0},null,{"$f":"N28","v":21212},{"$f":"COUNTIF(L33:L57,Y28)","v":0},{"$f":"Z28/(AB4-Z25)","v":0},{"$f":"IF(AA28=0,0,(AA28*((LOG(AA28))/LOG(2))))","v":0},null,{"$f":"N28","v":21212},{"$f":"COUNTIF(L58:L83,AD28)","v":0},{"$f":"AE28/(AG4-AE25)","v":0},{"$f":"IF(AF28=0,0,(AF28*((LOG(AF28))/LOG(2))))","v":0},null,{"$f":"N28","v":21212},{"$f":"COUNTIF(L84:L109,AI28)","v":0},{"$f":"AJ28/(AL4-AJ25)","v":0},{"$f":"IF(AK28=0,0,(AK28*((LOG(AK28))/LOG(2))))","v":0},null,{"$f":"N28","v":21212},{"$f":"COUNTIF(L110:L134,AN28)","v":0},{"$f":"AO28/(AQ4-AO25)","v":0},{"$f":"IF(AP28=0,0,(AP28*((LOG(AP28))/LOG(2))))","v":0},null,{"$f":"N28","v":21212},{"$f":"COUNTIF(L135:L160,AS28)","v":0},{"$f":"AT28/(AV4-AT25)","v":0},{"$f":"IF(AU28=0,0,(AU28*((LOG(AU28))/LOG(2))))","v":0}]
[12,3761,13,3773,24,3797,23,3807,24,3815,0,11222,null,21221,{"$f":"COUNTIF($L$7:$L$500,N29)","v":0},{"$f":"O29/$Q$4","v":0},{"$f":"IF(P29=0,0,(P29*((LOG(P29))/LOG(2))))","v":0},null,null,{"$f":"N29","v":21221},{"$f":"COUNTIF(L7:L32,T29)","v":0},{"$f":"U29/(W4-U25)","v":0},{"$f":"IF(V29=0,0,(V29*((LOG(V29))/LOG(2))))","v":0},null,{"$f":"N29","v":21221},{"$f":"COUNTIF(L33:L57,Y29)","v":0},{"$f":"Z29/(AB4-Z25)","v":0},{"$f":"IF(AA29=0,0,(AA29*((LOG(AA29))/LOG(2))))","v":0},null,{"$f":"N29","v":21221},{"$f":"COUNTIF(L58:L83,AD29)","v":0},{"$f":"AE29/(AG4-AE25)","v":0},{"$f":"IF(AF29=0,0,(AF29*((LOG(AF29))/LOG(2))))","v":0},null,{"$f":"N29","v":21221},{"$f":"COUNTIF(L84:L109,AI29)","v":0},{"$f":"AJ29/(AL4-AJ25)","v":0},{"$f":"IF(AK29=0,0,(AK29*((LOG(AK29))/LOG(2))))","v":0},null,{"$f":"N29","v":21221},{"$f":"COUNTIF(L110:L134,AN29)","v":0},{"$f":"AO29/(AQ4-AO25)","v":0},{"$f":"IF(AP29=0,0,(AP29*((LOG(AP29))/LOG(2))))","v":0},null,{"$f":"N29","v":21221},{"$f":"COUNTIF(L135:L160,AS29)","v":0},{"$f":"AT29/(AV4-AT25)","v":0},{"$f":"IF(AU29=0,0,(AU29*((LOG(AU29))/LOG(2))))","v":0}]
[12,3916,24,3932,24,3939,23,3948,24,3956,0,12222,null,21222,{"$f":"COUNTIF($L$7:$L$500,N30)","v":0},{"$f":"O30/$Q$4","v":0},{"$f":"IF(P30=0,0,(P30*((LOG(P30))/LOG(2))))","v":0},null,null,{"$f":"N30","v":21222},{"$f":"COUNTIF(L7:L32,T30)","v":0},{"$f":"U30/(W4-U25)","v":0},{"$f":"IF(V30=0,0,(V30*((LOG(V30))/LOG(2))))","v":0},null,{"$f":"N30","v":21222},{"$f":"COUNTIF(L33:L57,Y30)","v":0},{"$f":"Z30/(AB4-Z25)","v":0},{"$f":"IF(AA30=0,0,(AA30*((LOG(AA30))/LOG(2))))","v":0},null,{"$f":"N30","v":21222},{"$f":"COUNTIF(L58:L83,AD30)","v":0},{"$f":"AE30/(AG4-AE25)","v":0},{"$f":"IF(AF30=0,0,(AF30*((LOG(AF30))/LOG(2))))","v":0},null,{"$f":"N30","v":21222},{"$f":"COUNTIF(L84:L109,AI30)","v":0},{"$f":"AJ30/(AL4-AJ25)","v":0},{"$f":"IF(AK30=0,0,(AK30*((LOG(AK30))/LOG(2))))","v":0},null,{"$f":"N30","v":21222},{"$f":"COUNTIF(L110:L134,AN30)","v":0},{"$f":"AO30/(AQ4-AO25)","v":0},{"$f":"IF(AP30=0,0,(AP30*((LOG(AP30))/LOG(2))))","v":0},null,{"$f":"N30","v":21222},{"$f":"COUNTIF(L135:L160,AS30)","v":0},{"$f":"AT30/(AV4-AT25)","v":0},{"$f":"IF(AU30=0,0,(AU30*((LOG(AU30))/LOG(2))))","v":0}]
[12,4063,24,4079,24,4100,23,4108,24,4119,0,12222,null,22111,{"$f":"COUNTIF($L$7:$L$500,N31)","v":0},{"$f":"O31/$Q$4","v":0},{"$f":"IF(P31=0,0,(P31*((LOG(P31))/LOG(2))))","v":0},null,null,{"$f":"N31","v":22111},{"$f":"COUNTIF(L7:L32,T31)","v":0},{"$f":"U31/(W4-U25)","v":0},{"$f":"IF(V31=0,0,(V31*((LOG(V31))/LOG(2))))","v":0},null,{"$f":"N31","v":22111},{"$f":"COUNTIF(L33:L57,Y31)","v":0},{"$f":"Z31/(AB4-Z25)","v":0},{"$f":"IF(AA31=0,0,(AA31*((LOG(AA31))/LOG(2))))","v":0},null,{"$f":"N31","v":22111},{"$f":"COUNTIF(L58:L83,AD31)","v":0},{"$f":"AE31/(AG4-AE25)","v":0},{"$f":"IF(AF31=0,0,(AF31*((LOG(AF31))/LOG(2))))","v":0},null,{"$f":"N31","v":22111},{"$f":"COUNTIF(L84:L109,AI31)","v":0},{"$f":"AJ31/(AL4-AJ25)","v":0},{"$f":"IF(AK31=0,0,(AK31*((LOG(AK31))/LOG(2))))","v":0},null,{"$f":"N31","v":22111},{"$f":"COUNTIF(L110:L134,AN31)","v":0},{"$f":"AO31/(AQ4-AO25)","v":0},{"$f":"IF(AP31=0,0,(AP31*((LOG(AP31))/LOG(2))))","v":0},null,{"$f":"N31","v":22111},{"$f":"COUNTIF(L135:L160,AS31)","v":0},{"$f":"AT31/(AV4-AT25)","v":0},{"$f":"IF(AU31=0,0,(AU31*((LOG(AU31))/LOG(2))))","v":0}]
[12,4230,24,4243,24,4261,23,4269,24,4281,1,12222,null,22112,{"$f":"COUNTIF($L$7:$L$500,N32)","v":0},{"$f":"O32/$Q$4","v":0},{"$f":"IF(P32=0,0,(P32*((LOG(P32))/LOG(2))))","v":0},null,null,{"$f":"N32","v":22112},{"$f":"COUNTIF(L7:L32,T32)","v":0},{"$f":"U32/(W4-U25)","v":0},{"$f":"IF(V32=0,0,(V32*((LOG(V32))/LOG(2))))","v":0},null,{"$f":"N32","v":22112},{"$f":"COUNTIF(L33:L57,Y32)","v":0},{"$f":"Z32/(AB4-Z25)","v":0},{"$f":"IF(AA32=0,0,(AA32*((LOG(AA32))/LOG(2))))","v":0},null,{"$f":"N32","v":22112},{"$f":"COUNTIF(L58:L83,AD32)","v":0},{"$f":"AE32/(AG4-AE25)","v":0},{"$f":"IF(AF32=0,0,(AF32*((LOG(AF32))/LOG(2))))","v":0},null,{"$f":"N32","v":22112},{"$f":"COUNTIF(L84:L109,AI32)","v":0},{"$f":"AJ32/(AL4-AJ25)","v":0},{"$f":"IF(AK32=0,0,(AK32*((LOG(AK32))/LOG(2))))","v":0},null,{"$f":"N32","v":22112},{"$f":"COUNTIF(L110:L134,AN32)","v":0},{"$f":"AO32/(AQ4-AO25)","v":0},{"$f":"IF(AP32=0,0,(AP32*((LOG(AP32))/LOG(2))))","v":0},null,{"$f":"N32","v":22112},{"$f":"COUNTIF(L135:L160,AS32)","v":0},{"$f":"AT32/(AV4-AT25)","v":0},{"$f":"IF(AU32=0,0,(AU32*((LOG(AU32))/LOG(2))))","v":0}]
[12,4378,24,4392,24,4400,23,4404,24,4414,0,12222,null,22121,{"$f":"COUNTIF($L$7:$L$500,N33)","v":1},{"$f":"O33/$Q$4","v":6.5359477124183009E-3},{"$f":"IF(P33=0,0,(P33*((LOG(P33))/LOG(2))))","v":-4.743390746857943E-2},null,null,{"$f":"N33","v":22121},{"$f":"COUNTIF(L7:L32,T33)","v":1},{"$f":"U33/(W4-U25)","v":3.8461538461538464E-2},{"$f":"IF(V33=0,0,(V33*((LOG(V33))/LOG(2))))","v":-0.18078614300542661},null,{"$f":"N33","v":22121},{"$f":"COUNTIF(L33:L57,Y33)","v":0},{"$f":"Z33/(AB4-Z25)","v":0},{"$f":"IF(AA33=0,0,(AA33*((LOG(AA33))/LOG(2))))","v":0},null,{"$f":"N33","v":22121},{"$f":"COUNTIF(L58:L83,AD33)","v":0},{"$f":"AE33/(AG4-AE25)","v":0},{"$f":"IF(AF33=0,0,(AF33*((LOG(AF33))/LOG(2))))","v":0},null,{"$f":"N33","v":22121},{"$f":"COUNTIF(L84:L109,AI33)","v":0},{"$f":"AJ33/(AL4-AJ25)","v":0},{"$f":"IF(AK33=0,0,(AK33*((LOG(AK33))/LOG(2))))","v":0},null,{"$f":"N33","v":22121},{"$f":"COUNTIF(L110:L134,AN33)","v":0},{"$f":"AO33/(AQ4-AO25)","v":0},{"$f":"IF(AP33=0,0,(AP33*((LOG(AP33))/LOG(2))))","v":0},null,{"$f":"N33","v":22121},{"$f":"COUNTIF(L135:L160,AS33)","v":0},{"$f":"AT33/(AV4-AT25)","v":0},{"$f":"IF(AU33=0,0,(AU33*((LOG(AU33))/LOG(2))))","v":0}]
[12,4529,13,4541,24,4562,23,4567,24,4579,0,11222,null,22122,{"$f":"COUNTIF($L$7:$L$500,N34)","v":0},{"$f":"O34/$Q$4","v":0},{"$f":"IF(P34=0,0,(P34*((LOG(P34))/LOG(2))))","v":0},null,null,{"$f":"N34","v":22122},{"$f":"COUNTIF(L7:L32,T34)","v":0},{"$f":"U34/(W4-U25)","v":0},{"$f":"IF(V34=0,0,(V34*((LOG(V34))/LOG(2))))","v":0},null,{"$f":"N34","v":22122},{"$f":"COUNTIF(L33:L57,Y34)","v":0},{"$f":"Z34/(AB4-Z25)","v":0},{"$f":"IF(AA34=0,0,(AA34*((LOG(AA34))/LOG(2))))","v":0},null,{"$f":"N34","v":22122},{"$f":"COUNTIF(L58:L83,AD34)","v":0},{"$f":"AE34/(AG4-AE25)","v":0},{"$f":"IF(AF34=0,0,(AF34*((LOG(AF34))/LOG(2))))","v":0},null,{"$f":"N34","v":22122},{"$f":"COUNTIF(L84:L109,AI34)","v":0},{"$f":"AJ34/(AL4-AJ25)","v":0},{"$f":"IF(AK34=0,0,(AK34*((LOG(AK34))/LOG(2))))","v":0},null,{"$f":"N34","v":22122},{"$f":"COUNTIF(L110:L134,AN34)","v":0},{"$f":"AO34/(AQ4-AO25)","v":0},{"$f":"IF(AP34=0,0,(AP34*((LOG(AP34))/LOG(2))))","v":0},null,{"$f":"N34","v":22122},{"$f":"COUNTIF(L135:L160,AS34)","v":0},{"$f":"AT34/(AV4-AT25)","v":0},{"$f":"IF(AU34=0,0,(AU34*((LOG(AU34))/LOG(2))))","v":0}]
[12,4687,13,4709,13,4718,23,4744,24,4761,0,11122,null,22211,{"$f":"COUNTIF($L$7:$L$500,N35)","v":0},{"$f":"O35/$Q$4","v":0},{"$f":"IF(P35=0,0,(P35*((LOG(P35))/LOG(2))))","v":0},null,null,{"$f":"N35","v":22211},{"$f":"COUNTIF(L7:L32,T35)","v":0},{"$f":"U35/(W4-U25)","v":0},{"$f":"IF(V35=0,0,(V35*((LOG(V35))/LOG(2))))","v":0},null,{"$f":"N35","v":22211},{"$f":"COUNTIF(L33:L57,Y35)","v":0},{"$f":"Z35/(AB4-Z25)","v":0},{"$f":"IF(AA35=0,0,(AA35*((LOG(AA35))/LOG(2))))","v":0},null,{"$f":"N35","v":22211},{"$f":"COUNTIF(L58:L83,AD35)","v":0},{"$f":"AE35/(AG4-AE25)","v":0},{"$f":"IF(AF35=0,0,(AF35*((LOG(AF35))/LOG(2))))","v":0},null,{"$f":"N35","v":22211},{"$f":"COUNTIF(L84:L109,AI35)","v":0},{"$f":"AJ35/(AL4-AJ25)","v":0},{"$f":"IF(AK35=0,0,(AK35*((LOG(AK35))/LOG(2))))","v":0},null,{"$f":"N35","v":22211},{"$f":"COUNTIF(L110:L134,AN35)","v":0},{"$f":"AO35/(AQ4-AO25)","v":0},{"$f":"IF(AP35=0,0,(AP35*((LOG(AP35))/LOG(2))))","v":0},null,{"$f":"N35","v":22211},{"$f":"COUNTIF(L135:L160,AS35)","v":0},{"$f":"AT35/(AV4-AT25)","v":0},{"$f":"IF(AU35=0,0,(AU35*((LOG(AU35))/LOG(2))))","v":0}]
[12,4878,24,4896,24,4903,23,4942,24,4950,0,12222,null,22212,{"$f":"COUNTIF($L$7:$L$500,N36)","v":0},{"$f":"O36/$Q$4","v":0},{"$f":"IF(P36=0,0,(P36*((LOG(P36))/LOG(2))))","v":0},null,null,{"$f":"N36","v":22212},{"$f":"COUNTIF(L7:L32,T36)","v":0},{"$f":"U36/(W4-U25)","v":0},{"$f":"IF(V36=0,0,(V36*((LOG(V36))/LOG(2))))","v":0},null,{"$f":"N36","v":22212},{"$f":"COUNTIF(L33:L57,Y36)","v":0},{"$f":"Z36/(AB4-Z25)","v":0},{"$f":"IF(AA36=0,0,(AA36*((LOG(AA36))/LOG(2))))","v":0},null,{"$f":"N36","v":22212},{"$f":"COUNTIF(L58:L83,AD36)","v":0},{"$f":"AE36/(AG4-AE25)","v":0},{"$f":"IF(AF36=0,0,(AF36*((LOG(AF36))/LOG(2))))","v":0},null,{"$f":"N36","v":22212},{"$f":"COUNTIF(L84:L109,AI36)","v":0},{"$f":"AJ36/(AL4-AJ25)","v":0},{"$f":"IF(AK36=0,0,(AK36*((LOG(AK36))/LOG(2))))","v":0},null,{"$f":"N36","v":22212},{"$f":"COUNTIF(L110:L134,AN36)","v":0},{"$f":"AO36/(AQ4-AO25)","v":0},{"$f":"IF(AP36=0,0,(AP36*((LOG(AP36))/LOG(2))))","v":0},null,{"$f":"N36","v":22212},{"$f":"COUNTIF(L135:L160,AS36)","v":0},{"$f":"AT36/(AV4-AT25)","v":0},{"$f":"IF(AU36=0,0,(AU36*((LOG(AU36))/LOG(2))))","v":0}]
[12,5062,13,5091,13,5100,23,5115,24,5127,0,11122,null,22221,{"$f":"COUNTIF($L$7:$L$500,N37)","v":0},{"$f":"O37/$Q$4","v":0},{"$f":"IF(P37=0,0,(P37*((LOG(P37))/LOG(2))))","v":0},null,null,{"$f":"N37","v":22221},{"$f":"COUNTIF(L7:L32,T37)","v":0},{"$f":"U37/(W4-U25)","v":0},{"$f":"IF(V37=0,0,(V37*((LOG(V37))/LOG(2))))","v":0},null,{"$f":"N37","v":22221},{"$f":"COUNTIF(L33:L57,Y37)","v":0},{"$f":"Z37/(AB4-Z25)","v":0},{"$f":"IF(AA37=0,0,(AA37*((LOG(AA37))/LOG(2))))","v":0},null,{"$f":"N37","v":22221},{"$f":"COUNTIF(L58:L83,AD37)","v":0},{"$f":"AE37/(AG4-AE25)","v":0},{"$f":"IF(AF37=0,0,(AF37*((LOG(AF37))/LOG(2))))","v":0},null,{"$f":"N37","v":22221},{"$f":"COUNTIF(L84:L109,AI37)","v":0},{"$f":"AJ37/(AL4-AJ25)","v":0},{"$f":"IF(AK37=0,0,(AK37*((LOG(AK37))/LOG(2))))","v":0},null,{"$f":"N37","v":22221},{"$f":"COUNTIF(L110:L134,AN37)","v":0},{"$f":"AO37/(AQ4-AO25)","v":0},{"$f":"IF(AP37=0,0,(AP37*((LOG(AP37))/LOG(2))))","v":0},null,{"$f":"N37","v":22221},{"$f":"COUNTIF(L135:L160,AS37)","v":0},{"$f":"AT37/(AV4-AT25)","v":0},{"$f":"IF(AU37=0,0,(AU37*((LOG(AU37))/LOG(2))))","v":0}]
[12,5234,13,5241,24,5257,23,5263,24,5276,0,11222,null,22222,{"$f":"COUNTIF($L$7:$L$500,N38)","v":3},{"$f":"O38/$Q$4","v":1.9607843137254902E-2},{"$f":"IF(P38=0,0,(P38*((LOG(P38))/LOG(2))))","v":-0.11122402631316657},null,null,{"$f":"N38","v":22222},{"$f":"COUNTIF(L7:L32,T38)","v":1},{"$f":"U38/(W4-U25)","v":3.8461538461538464E-2},{"$f":"IF(V38=0,0,(V38*((LOG(V38))/LOG(2))))","v":-0.18078614300542661},null,{"$f":"N38","v":22222},{"$f":"COUNTIF(L33:L57,Y38)","v":1},{"$f":"Z38/(AB4-Z25)","v":0.04},{"$f":"IF(AA38=0,0,(AA38*((LOG(AA38))/LOG(2))))","v":-0.18575424759098899},null,{"$f":"N38","v":22222},{"$f":"COUNTIF(L58:L83,AD38)","v":0},{"$f":"AE38/(AG4-AE25)","v":0},{"$f":"IF(AF38=0,0,(AF38*((LOG(AF38))/LOG(2))))","v":0},null,{"$f":"N38","v":22222},{"$f":"COUNTIF(L84:L109,AI38)","v":0},{"$f":"AJ38/(AL4-AJ25)","v":0},{"$f":"IF(AK38=0,0,(AK38*((LOG(AK38))/LOG(2))))","v":0},null,{"$f":"N38","v":22222},{"$f":"COUNTIF(L110:L134,AN38)","v":0},{"$f":"AO38/(AQ4-AO25)","v":0},{"$f":"IF(AP38=0,0,(AP38*((LOG(AP38))/LOG(2))))","v":0},null,{"$f":"N38","v":22222},{"$f":"COUNTIF(L135:L160,AS38)","v":1},{"$f":"AT38/(AV4-AT25)","v":0.04},{"$f":"IF(AU38=0,0,(AU38*((LOG(AU38))/LOG(2))))","v":-0.18575424759098899}]
[12,5377,13,5382,13,5390,14,5400,24,5417,1,11112,null,null,null,{"$f":"SUM(P7:P38)","v":1},{"$f":"-SUM(Q7:Q38)","v":2.7697965490091474},null,null,null,null,{"$f":"SUM(V7:V38)","v":1},{"$f":"-SUM(W7:W38)","v":2.5305060342329937},null,null,null,{"$f":"SUM(AA7:AA38)","v":1},{"$f":"-SUM(AB7:AB38)","v":2.145451399311646},null,null,null,{"$f":"SUM(AF7:AF38)","v":1},{"$f":"-SUM(AG7:AG38)","v":1.9532888733249165},null,null,null,{"$f":"SUM(AK7:AK38)","v":1.0000000000000002},{"$f":"-SUM(AL7:AL38)","v":1.9220231428515731},null,null,null,{"$f":"SUM(AP7:AP38)","v":1},{"$f":"-SUM(AQ7:AQ38)","v":2.1095263323230746},null,null,null,{"$f":"SUM(AU7:AU38)","v":1},{"$f":"-SUM(AV7:AV38)","v":2.1617062775743139}]
[12,5514,24,5546,24,5555,23,5567,24,5575,0,12222,null,null,null,"U=",{"$f":"Q39/(LOG(Q4)/LOG(2))","v":0.38165199504915687},null,null,null,null,"U1=",{"$f":"W39/(LOG(W4)/LOG(2))","v":0.53835517227604113},null,null,null,"U2=",{"$f":"AB39/(LOG(AB4)/LOG(2))","v":0.46199781208464219},null,null,null,"U3=",{"$f":"AG39/(LOG(AG4)/LOG(2))","v":0.41555449924957111},null,null,null,"U4=",{"$f":"AL39/(LOG(AL4)/LOG(2))","v":0.40890283847990416},null,null,null,"U5=",{"$f":"AQ39/(LOG(AQ4)/LOG(2))","v":0.45426176998504519},null,null,null,"U6=",{"$f":"AV39/(LOG(AV4)/LOG(2))","v":0.46549810959567611}]
[12,5681,24,5704,24,5712,23,5721,24,5727,0,12222]
[12,5828,13,5837,24,5850,23,5869,24,5878,0,11222]
[12,5982,24,6002,24,6017,23,6026,24,6035,0,12222,null,"Total Target Seq"]
[12,6137,24,6160,24,6170,23,6178,24,6182,0,12222,null,{"$f":"COUNTIF(L7:L160,G3)","v":0},null,26,25,26,26,25,26]
[12,6282,13,6287,24,6299,23,6311,24,6318,0,11222,null,null,null,"% of reinforcement given in 6 equal intervals based on number of trials "]
[12,6430,24,6455,24,6465,23,6474,13,6488,0,12221,null,null,null,"%_1","%_2","%_3","%_4","%_5","%_6"]
[12,6628,13,6646,24,6677,23,6685,24,6693,0,11222,null,null,"target sequence",{"$f":"$G$3","v":21121},{"$f":"$G$3","v":21121},{"$f":"$G$3","v":21121},{"$f":"$G$3","v":21121},{"$f":"$G$3","v":21121},{"$f":"$G$3","v":21121}]
[12,6804,13,6817,24,6836,23,6863,24,6871,1,11222,null,null,"total reinforcement",{"$f":"U25","v":0},{"$f":"Z25","v":0},{"$f":"AE25","v":0},{"$f":"AJ25","v":0},{"$f":"AO25","v":0},{"$f":"AT25","v":0}]
[12,6982,24,6996,24,7001,23,7011,24,7018,0,12222,null,null,"% target"]
[12,7120,13,7137,13,7169,14,7182,13,7191,0,11111,null,null,"CCRF"]
[21,7318,22,7323,24,7333,23,7339,24,7347,0,22222,null,null,"% CCRf"]
[12,7447,13,7459,13,7465,23,7478,24,7484,1,11122,null,null,"average response rate",{"$f":"J32/P44","v":164.65384615384616},{"$f":"(J57-J32)/Q44","v":160.52000000000001},{"$f":"(J83-J57)/R44","v":153.76923076923077},{"$f":"(J109-J83)/S44","v":151.26923076923077},{"$f":"(J134-J109)/T44","v":154.4},{"$f":"(J160-J134)/U44","v":-772.5}]
[12,7599,24,7631,24,7641,23,7648,24,7657,0,12222]
[12,7768,24,7786,24,7799,23,7807,24,7814,1,12222]
[12,7910,24,7930,24,7942,23,7951,24,7969,0,12222]
[12,8074,13,8088,24,8106,23,8115,24,8123,0,11222]
[12,8235,24,8269,24,8278,23,8286,24,8294,0,12222]
[12,8415,13,8421,24,8434,23,8441,24,8447,0,11222]
[12,8556,13,8565,24,8589,23,8597,24,8605,0,11222]
[12,8711,13,8719,24,8741,23,8749,24,8759,0,11222]
[12,8859,13,8870,13,8882,23,8909,24,8913,0,11122]
[12,9021,13,9030,24,9053,23,9061,24,9069,0,11222]
[12,9170,13,9181,24,9230,23,9239,24,9247,1,11222]
[12,9357,24,9374,24,9383,23,9395,24,9402,0,12222]
[12,9502,13,9518,24,9544,23,9556,24,9564,0,11222]
[12,9663,13,9672,13,9681,23,9700,24,9706,0,11122]
[12,9814,13,9831,13,9839,23,9853,24,9858,1,11122]
[12,9957,24,9991,24,10001,23,10010,24,10019,1,12222]
[12,10111,13,10136,24,10154,23,10159,24,10172,0,11222]
[12,10277,13,10286,13,10328,23,10340,24,10354,0,11122]
[12,10457,13,10467,24,10500,23,10510,24,10519,0,11222]
[12,10621,13,10626,13,10639,14,10644,24,10658,0,11112]
[12,10758,13,10767,13,10772,23,10791,24,10802,1,11122]
[12,10901,24,10915,24,10922,23,10931,24,10935,0,12222]
[12,11041,13,11053,13,11067,23,11085,24,11092,0,11122]
[12,11195,13,11207,24,11221,23,11233,24,11243,0,11222]
[12,11345,13,11354,24,11390,23,11399,24,11407,0,11222]
[12,11506,13,11515,24,11536,23,11546,24,11554,0,11222]
[12,11661,13,11676,13,11681,14,11690,13,11700,1,11111]
[12,11798,13,11803,13,11808,14,11827,24,11858,0,11112]
[12,11963,13,11968,13,11977,23,11997,24,12003,0,11122]
[12,12104,13,12109,24,12127,23,12134,24,12143,0,11222]
[12,12251,13,12259,13,12266,14,12284,13,12292,1,11111]
[12,12391,13,12396,13,12402,23,12423,24,12432,1,11122]
[12,12531,13,12551,13,12568,14,12572,13,12577,0,11111]
[12,12676,13,12682,13,12691,14,12699,13,12705,0,11111]
[12,12807,13,12815,13,12825,23,12879,24,12888,1,11122]
[12,12991,13,13000,24,13019,23,13025,24,13032,0,11222]
[12,13132,13,13141,13,13169,23,13197,24,13207,1,11122]
[12,13303,13,13312,24,13336,23,13344,24,13353,0,11222]
[12,13453,13,13463,13,13467,23,13484,24,13498,0,11122]
[12,13602,13,13611,13,13617,14,13622,13,13627,1,11111]
[12,13721,13,13735,24,13759,23,13771,24,13779,1,11222]
[12,13877,13,13886,13,13898,14,13904,24,13926,0,11112]
[12,14035,13,14047,13,14052,14,14066,13,14079,0,11111]
[12,14180,13,14185,13,14194,14,14220,24,14239,1,11112]
[12,14339,13,14348,13,14353,14,14366,13,14374,0,11111]
[12,14475,13,14485,13,14490,23,14525,24,14531,0,11122]
[12,14635,13,14640,13,14646,14,14659,13,14667,0,11111]
[12,14796,13,14805,24,14825,23,14830,24,14834,0,11222]
[12,14937,13,14942,13,14946,14,14951,24,14986,0,11112]
[12,15096,13,15110,13,15123,14,15128,13,15137,0,11111]
[12,15249,13,15254,13,15261,14,15271,13,15276,0,11111]
[12,15376,13,15386,13,15392,14,15397,24,15421,1,11112]
[12,15516,13,15521,13,15534,23,15597,24,15604,0,11122]
[12,15716,13,15730,13,15740,14,15745,13,15750,0,11111]
[12,15850,13,15859,13,15865,14,15869,13,15880,0,11111]
[12,15982,13,16001,24,16026,23,16034,24,16044,1,11222]
[12,16147,13,16157,24,16172,23,16216,24,16225,0,11222]
[12,16329,13,16334,24,16357,23,16368,24,16375,0,11222]
[12,16482,13,16492,13,16497,23,16512,24,16524,0,11122]
[12,16632,13,16642,13,16653,14,16665,24,16693,0,11112]
[12,16796,13,16802,13,16806,14,16816,13,16821,0,11111]
[12,16922,13,16927,13,16936,14,16941,13,16947,0,11111]
[12,17052,13,17057,13,17061,14,17077,13,17082,0,11111]
[12,17182,24,17222,24,17231,23,17239,24,17248,0,12222]
[12,17369,13,17375,13,17384,14,17396,24,17418,1,11112]
[12,17523,13,17542,24,17558,23,17586,24,17602,1,11222]
[12,17704,13,17722,13,17727,14,17733,24,17753,1,11112]
[12,17874,13,17882,24,17911,23,17917,24,17925,0,11222]
[12,18031,13,18041,24,18087,23,18100,24,18108,1,11222]
[12,18215,13,18220,13,18224,23,18240,24,18251,0,11122]
[12,18351,13,18355,13,18360,14,18369,13,18374,0,11111]
[12,18491,13,18497,13,18502,23,18528,24,18532,0,11122]
[12,18642,13,18669,24,18687,23,18695,24,18699,1,11222]
[12,18800,13,18819,24,18840,23,18863,24,18872,1,11222]
[12,18969,13,18976,24,18990,23,19001,24,19009,0,11222]
[12,19118,13,19127,13,19135,14,19146,24,19160,0,11112]
[12,19269,13,19283,24,19313,23,19328,24,19337,1,11222]
[12,19441,13,19446,24,19461,23,19469,24,19480,0,11222]
[12,19581,13,19590,13,19602,23,19625,24,19633,0,11122]
[12,19731,13,19736,13,19741,14,19749,13,19754,0,11111]
[12,19853,13,19858,13,19862,14,19875,24,19904,1,11112]
[12,20013,13,20022,13,20032,23,20067,24,20085,0,11122]
[12,20185,13,20189,13,20193,14,20201,24,20223,0,11112]
[12,20322,13,20330,13,20335,23,20363,24,20368,0,11122]
[12,20468,13,20473,13,20478,14,20488,13,20494,0,11111]
[12,20598,13,20609,13,20618,14,20622,24,20636,1,11112]
[12,20736,13,20745,24,20768,23,20776,24,20786,0,11222]
[12,20891,13,20899,13,20910,14,20915,13,20919,0,11111]
[12,21025,13,21037,13,21046,14,21060,24,21085,0,11112]
[12,21184,13,21189,13,21194,14,21203,24,21227,0,11112]
[12,21333,13,21338,13,21343,14,21354,13,21366,1,11111]
[21,21606,22,21615,24,21625,23,21633,24,21641,0,22222]
[12,21743,24,21782,24,21810,23,21817,24,21825,0,12222]
[12,21933,13,21950,24,21977,23,21986,24,21998,0,11222]
[12,22104,13,22118,24,22138,23,22143,24,22156,1,11222]
[12,22260,13,22270,13,22283,14,22296,13,22303,0,11111]
[12,22405,13,22411,13,22421,14,22431,13,22443,0,11111]
[12,22550,13,22560,13,22572,23,22615,24,22622,0,11122]
[12,22721,13,22726,13,22730,14,22735,13,22746,0,11111]
[12,22848,13,22853,13,22858,14,22864,13,22874,1,11111]
[12,22991,13,23004,24,23029,23,23040,24,23052,0,11222]
[12,23157,13,23165,13,23170,14,23176,13,23186,0,11111]
[12,23288,13,23298,13,23314,23,23340,24,23347,0,11122]
[12,23451,13,23455,13,23461,14,23465,13,23470,0,11111]
[12,23570,13,23575,13,23584,14,23588,13,23600,0,11111]
[12,23700,13,23708,13,23712,23,23728,24,23736,0,11122]
[12,23836,13,23841,13,23846,14,23861,13,23869,1,11111]
[12,23972,13,23982,null,null,null,null,null,null,null,11]

{"sheet":"!MC01A10.010","index":4,"n_rows":182,"n_cols":48,"rows_kept":182,"cut":false,"hidden":false,"merged":[[4,39,4,42],[5,39,5,40],[4,44,4,47],[5,44,5,45],[4,24,4,27],[5,24,5,25],[4,29,4,32],[5,29,5,30],[4,34,4,37],[5,34,5,35],[1,1,1,2],[5,13,5,14],[42,13,42,14],[43,13,43,14],[4,19,4,22],[5,19,5,20]]}
["Report for:!MC01A10.010"]
["Date:","<date>"]
["Hen:","<hen>",null,null,null,"Correct Sequence",{"$f":"Start!J2","v":21121},null,null,null,null,null,null,null,null,"Total Sequences in Data",{"$f":"4994-COUNTBLANK(L7:L5000)","v":176},null,null,null,null,"Total Sequences in Block Data",{"$f":"COUNTA(L7:L35)","v":29},null,null,null,"Total Sequences in Block Data",{"$f":"COUNTA(L36:L65)","v":30},null,null,null,"Total Sequences in Block Data",{"$f":"COUNTA(L66:L94)","v":29},null,null,null,"Total Sequences in Block Data",{"$f":"COUNTA(L95:L123)","v":29},null,null,null,"Total Sequences in Block Data",{"$f":"COUNTA(L124:L153)","v":30},null,null,null,"Total Sequences in Block Data",{"$f":"COUNTA(L154:L182)","v":29}]
[null,null,null,null,null,null,null,null,null,null,null,null,null,null,null,"Total Sequences in Summary",{"$f":"SUM(O7:O38)","v":176},null,null,null,null,"Total Sequences in Block Summary",{"$f":"SUM(U7:U38)","v":29},null,null,null,"Total Sequences in Block Summary",{"$f":"SUM(Z7:Z38)","v":30},null,null,null,"Total Sequences in Block Summary",{"$f":"SUM(AE7:AE38)","v":29},null,null,null,"Total Sequences in Block Summary",{"$f":"SUM(AJ7:AJ38)","v":29},null,null,null,"Total Sequences in Block Summary",{"$f":"SUM(AO7:AO38)","v":30},null,null,null,"Total Sequences in Block Summary",{"$f":"SUM(AT7:AT38)","v":29}]
[null,null,null,null,null,null,null,null,null,null,null,null,null,null,null,null,null,null,null,"Block 1",null,null,null,null,"Block 2",null,null,null,null,"Block 3",null,null,null,null,"Block 4",null,null,null,null,"Block 5",null,null,null,null,"Block 6"]
["Sequence\nComponent\n1","Time\n1","Sequence\nComponent\n2","Time\n2","Sequence\nComponent\n3","Time\n3","Sequence\nComponent\n4","Time\n4","Sequence\nComponent\n5","Time\n5","Correct?\n0=No 1=Yes","Sequence",null,"Frequency",null,"Relative Frequency","Variability",null,null,"Frequency",null,"Relative Frequency","Variability",null,"Frequency",null,"Relative Frequency","Variability",null,"Frequency",null,"Relative Frequency","Variability",null,"Frequency",null,"Relative Frequency","Variability",null,"Frequency",null,"Relative Frequency","Variability",null,"Frequency",null,"Relative Frequency","Variability"]
[12,15,24,47,24,68,23,74,24,84,0,12222,null,11111,{"$f":"COUNTIF($L$7:$L$500,N7)","v":131},{"$f":"O7/$Q$4","v":0.74431818181818177},{"$f":"IF(P7=0,0,(P7*((LOG(P7))/LOG(2))))","v":-0.3170859593186362},null,null,{"$f":"N7","v":11111},{"$f":"COUNTIF(L7:L35,T7)","v":7},{"$f":"U7/(W4-U25)","v":0.2413793103448276},{"$f":"IF(V7=0,0,(V7*((LOG(V7))/LOG(2))))","v":-0.49497870729275095},null,{"$f":"N7","v":11111},{"$f":"COUNTIF(L36:L65,Y7)","v":21},{"$f":"Z7/(AB4-Z25)","v":0.7},{"$f":"IF(AA7=0,0,(AA7*((LOG(AA7))/LOG(2))))","v":-0.36020122098083079},null,{"$f":"N7","v":11111},{"$f":"COUNTIF(L66:L94,AD7)","v":22},{"$f":"AE7/(AG4-AE25)","v":0.75862068965517238},{"$f":"IF(AF7=0,0,(AF7*((LOG(AF7))/LOG(2))))","v":-0.30234780285469132},null,{"$f":"N7","v":11111},{"$f":"COUNTIF(L95:L123,AI7)","v":25},{"$f":"AJ7/(AL4-AJ25)","v":0.86206896551724133},{"$f":"IF(AK7=0,0,(AK7*((LOG(AK7))/LOG(2))))","v":-0.18459034944210989},null,{"$f":"N7","v":11111},{"$f":"COUNTIF(L124:L153,AN7)","v":28},{"$f":"AO7/(AQ4-AO25)","v":0.93333333333333335},{"$f":"IF(AP7=0,0,(AP7*((LOG(AP7))/LOG(2))))","v":-9.2899961980853443E-2},null,{"$f":"N7","v":11111},{"$f":"COUNTIF(L154:L182,AS7)","v":28},{"$f":"AT7/(AV4-AT25)","v":0.96551724137931039},{"$f":"IF(AU7=0,0,(AU7*((LOG(AU7))/LOG(2))))","v":-4.8880346412382848E-2}]
[12,190,13,201,24,211,23,225,24,230,0,11222,null,11112,{"$f":"COUNTIF($L$7:$L$500,N8)","v":16},{"$f":"O8/$Q$4","v":9.0909090909090912E-2},{"$f":"IF(P8=0,0,(P8*((LOG(P8))/LOG(2))))","v":-0.31449378351248153},null,null,{"$f":"N8","v":11112},{"$f":"COUNTIF(L7:L35,T8)","v":5},{"$f":"U8/(W4-U25)","v":0.17241379310344829},{"$f":"IF(V8=0,0,(V8*((LOG(V8))/LOG(2))))","v":-0.43725050004141547},null,{"$f":"N8","v":11112},{"$f":"COUNTIF(L36:L65,Y8)","v":5},{"$f":"Z8/(AB4-Z25)","v":0.16666666666666666},{"$f":"IF(AA8=0,0,(AA8*((LOG(AA8))/LOG(2))))","v":-0.43082708345352599},null,{"$f":"N8","v":11112},{"$f":"COUNTIF(L66:L94,AD8)","v":4},{"$f":"AE8/(AG4-AE25)","v":0.13793103448275862},{"$f":"IF(AF8=0,0,(AF8*((LOG(AF8))/LOG(2))))","v":-0.39420427519000989},null,{"$f":"N8","v":11112},{"$f":"COUNTIF(L95:L123,AI8)","v":1},{"$f":"AJ8/(AL4-AJ25)","v":3.4482758620689655E-2},{"$f":"IF(AK8=0,0,(AK8*((LOG(AK8))/LOG(2))))","v":-0.16751658603888178},null,{"$f":"N8","v":11112},{"$f":"COUNTIF(L124:L153,AN8)","v":1},{"$f":"AO8/(AQ4-AO25)","v":3.3333333333333333E-2},{"$f":"IF(AP8=0,0,(AP8*((LOG(AP8))/LOG(2))))","v":-0.16356301985361729},null,{"$f":"N8","v":11112},{"$f":"COUNTIF(L154:L182,AS8)","v":0},{"$f":"AT8/(AV4-AT25)","v":0},{"$f":"IF(AU8=0,0,(AU8*((LOG(AU8))/LOG(2))))","v":0}]
[21,369,22,384,24,388,23,394,24,404,0,22222,null,11121,{"$f":"COUNTIF($L$7:$L$500,N9)","v":0},{"$f":"O9/$Q$4","v":0},{"$f":"IF(P9=0,0,(P9*((LOG(P9))/LOG(2))))","v":0},null,null,{"$f":"N9","v":11121},{"$f":"COUNTIF(L7:L35,T9)","v":0},{"$f":"U9/(W4-U25)","v":0},{"$f":"IF(V9=0,0,(V9*((LOG(V9))/LOG(2))))","v":0},null,{"$f":"N9","v":11121},{"$f":"COUNTIF(L36:L65,Y9)","v":0},{"$f":"Z9/(AB4-Z25)","v":0},{"$f":"IF(AA9=0,0,(AA9*((LOG(AA9))/LOG(2))))","v":0},null,{"$f":"N9","v":11121},{"$f":"COUNTIF(L66:L94,AD9)","v":0},{"$f":"AE9/(AG4-AE25)","v":0},{"$f":"IF(AF9=0,0,(AF9*((LOG(AF9))/LOG(2))))","v":0},null,{"$f":"N9","v":11121},{"$f":"COUNTIF(L95:L123,AI9)","v":0},{"$f":"AJ9/(AL4-AJ25)","v":0},{"$f":"IF(AK9=0,0,(AK9*((LOG(AK9))/LOG(2))))","v":0},null,{"$f":"N9","v":11121},{"$f":"COUNTIF(L124:L153,AN9)","v":0},{"$f":"AO9/(AQ4-AO25)","v":0},{"$f":"IF(AP9=0,0,(AP9*((LOG(AP9))/LOG(2))))","v":0},null,{"$f":"N9","v":11121},{"$f":"COUNTIF(L154:L182,AS9)","v":0},{"$f":"AT9/(AV4-AT25)","v":0},{"$f":"IF(AU9=0,0,(AU9*((LOG(AU9))/LOG(2))))","v":0}]
[12,508,13,528,13,535,23,549,24,561,0,11122,null,11122,{"$f":"COUNTIF($L$7:$L$500,N10)","v":18},{"$f":"O10/$Q$4","v":0.10227272727272728},{"$f":"IF(P10=0,0,(P10*((LOG(P10))/LOG(2))))","v":-0.33642681312221434},null,null,{"$f":"N10","v":11122},{"$f":"COUNTIF(L7:L35,T10)","v":9},{"$f":"U10/(W4-U25)","v":0.31034482758620691},{"$f":"IF(V10=0,0,(V10*((LOG(V10))/LOG(2))))","v":-0.52387944631611505},null,{"$f":"N10","v":11122},{"$f":"COUNTIF(L36:L65,Y10)","v":2},{"$f":"Z10/(AB4-Z25)","v":6.6666666666666666E-2},{"$f":"IF(AA10=0,0,(AA10*((LOG(AA10))/LOG(2))))","v":-0.26045937304056793},null,{"$f":"N10","v":11122},{"$f":"COUNTIF(L66:L94,AD10)","v":2},{"$f":"AE10/(AG4-AE25)","v":6.8965517241379309E-2},{"$f":"IF(AF10=0,0,(AF10*((LOG(AF10))/LOG(2))))","v":-0.26606765483638428},null,{"$f":"N10","v":11122},{"$f":"COUNTIF(L95:L123,AI10)","v":3},{"$f":"AJ10/(AL4-AJ25)","v":0.10344827586206896},{"$f":"IF(AK10=0,0,(AK10*((LOG(AK10))/LOG(2))))","v":-0.33858812011100858},null,{"$f":"N10","v":11122},{"$f":"COUNTIF(L124:L153,AN10)","v":1},{"$f":"AO10/(AQ4-AO25)","v":3.3333333333333333E-2},{"$f":"IF(AP10=0,0,(AP10*((LOG(AP10))/LOG(2))))","v":-0.16356301985361729},null,{"$f":"N10","v":11122},{"$f":"COUNTIF(L154:L182,AS10)","v":1},{"$f":"AT10/(AV4-AT25)","v":3.4482758620689655E-2},{"$f":"IF(AU10=0,0,(AU10*((LOG(AU10))/LOG(2))))","v":-0.16751658603888178}]
[12,663,13,673,13,680,23,703,24,717,1,11122,null,11211,{"$f":"COUNTIF($L$7:$L$500,N11)","v":0},{"$f":"O11/$Q$4","v":0},{"$f":"IF(P11=0,0,(P11*((LOG(P11))/LOG(2))))","v":0},null,null,{"$f":"N11","v":11211},{"$f":"COUNTIF(L7:L35,T11)","v":0},{"$f":"U11/(W4-U25)","v":0},{"$f":"IF(V11=0,0,(V11*((LOG(V11))/LOG(2))))","v":0},null,{"$f":"N11","v":11211},{"$f":"COUNTIF(L36:L65,Y11)","v":0},{"$f":"Z11/(AB4-Z25)","v":0},{"$f":"IF(AA11=0,0,(AA11*((LOG(AA11))/LOG(2))))","v":0},null,{"$f":"N11","v":11211},{"$f":"COUNTIF(L66:L94,AD11)","v":0},{"$f":"AE11/(AG4-AE25)","v":0},{"$f":"IF(AF11=0,0,(AF11*((LOG(AF11))/LOG(2))))","v":0},null,{"$f":"N11","v":11211},{"$f":"COUNTIF(L95:L123,AI11)","v":0},{"$f":"AJ11/(AL4-AJ25)","v":0},{"$f":"IF(AK11=0,0,(AK11*((LOG(AK11))/LOG(2))))","v":0},null,{"$f":"N11","v":11211},{"$f":"COUNTIF(L124:L153,AN11)","v":0},{"$f":"AO11/(AQ4-AO25)","v":0},{"$f":"IF(AP11=0,0,(AP11*((LOG(AP11))/LOG(2))))","v":0},null,{"$f":"N11","v":11211},{"$f":"COUNTIF(L154:L182,AS11)","v":0},{"$f":"AT11/(AV4-AT25)","v":0},{"$f":"IF(AU11=0,0,(AU11*((LOG(AU11))/LOG(2))))","v":0}]
[12,818,24,844,24,852,23,863,24,872,0,12222,null,11212,{"$f":"COUNTIF($L$7:$L$500,N12)","v":0},{"$f":"O12/$Q$4","v":0},{"$f":"IF(P12=0,0,(P12*((LOG(P12))/LOG(2))))","v":0},null,null,{"$f":"N12","v":11212},{"$f":"COUNTIF(L7:L35,T12)","v":0},{"$f":"U12/(W4-U25)","v":0},{"$f":"IF(V12=0,0,(V12*((LOG(V12))/LOG(2))))","v":0},null,{"$f":"N12","v":11212},{"$f":"COUNTIF(L36:L65,Y12)","v":0},{"$f":"Z12/(AB4-Z25)","v":0},{"$f":"IF(AA12=0,0,(AA12*((LOG(AA12))/LOG(2))))","v":0},null,{"$f":"N12","v":11212},{"$f":"COUNTIF(L66:L94,AD12)","v":0},{"$f":"AE12/(AG4-AE25)","v":0},{"$f":"IF(AF12=0,0,(AF12*((LOG(AF12))/LOG(2))))","v":0},null,{"$f":"N12","v":11212},{"$f":"COUNTIF(L95:L123,AI12)","v":0},{"$f":"AJ12/(AL4-AJ25)","v":0},{"$f":"IF(AK12=0,0,(AK12*((LOG(AK12))/LOG(2))))","v":0},null,{"$f":"N12","v":11212},{"$f":"COUNTIF(L124:L153,AN12)","v":0},{"$f":"AO12/(AQ4-AO25)","v":0},{"$f":"IF(AP12=0,0,(AP12*((LOG(AP12))/LOG(2))))","v":0},null,{"$f":"N12","v":11212},{"$f":"COUNTIF(L154:L182,AS12)","v":0},{"$f":"AT12/(AV4-AT25)","v":0},{"$f":"IF(AU12=0,0,(AU12*((LOG(AU12))/LOG(2))))","v":0}]
[12,977,13,983,24,1003,23,1019,24,1023,0,11222,null,11221,{"$f":"COUNTIF($L$7:$L$500,N13)","v":0},{"$f":"O13/$Q$4","v":0},{"$f":"IF(P13=0,0,(P13*((LOG(P13))/LOG(2))))","v":0},null,null,{"$f":"N13","v":11221},{"$f":"COUNTIF(L7:L35,T13)","v":0},{"$f":"U13/(W4-U25)","v":0},{"$f":"IF(V13=0,0,(V13*((LOG(V13))/LOG(2))))","v":0},null,{"$f":"N13","v":11221},{"$f":"COUNTIF(L36:L65,Y13)","v":0},{"$f":"Z13/(AB4-Z25)","v":0},{"$f":"IF(AA13=0,0,(AA13*((LOG(AA13))/LOG(2))))","v":0},null,{"$f":"N13","v":11221},{"$f":"COUNTIF(L66:L94,AD13)","v":0},{"$f":"AE13/(AG4-AE25)","v":0},{"$f":"IF(AF13=0,0,(AF13*((LOG(AF13))/LOG(2))))","v":0},null,{"$f":"N13","v":11221},{"$f":"COUNTIF(L95:L123,AI13)","v":0},{"$f":"AJ13/(AL4-AJ25)","v":0},{"$f":"IF(AK13=0,0,(AK13*((LOG(AK13))/LOG(2))))","v":0},null,{"$f":"N13","v":11221},{"$f":"COUNTIF(L124:L153,AN13)","v":0},{"$f":"AO13/(AQ4-AO25)","v":0},{"$f":"IF(AP13=0,0,(AP13*((LOG(AP13))/LOG(2))))","v":0},null,{"$f":"N13","v":11221},{"$f":"COUNTIF(L154:L182,AS13)","v":0},{"$f":"AT13/(AV4-AT25)","v":0},{"$f":"IF(AU13=0,0,(AU13*((LOG(AU13))/LOG(2))))","v":0}]
[12,1125,13,1135,24,1161,23,1169,24,1183,0,11222,null,11222,{"$f":"COUNTIF($L$7:$L$500,N14)","v":6},{"$f":"O14/$Q$4","v":3.4090909090909088E-2},{"$f":"IF(P14=0,0,(P14*((LOG(P14))/LOG(2))))","v":-0.16617508356532298},null,null,{"$f":"N14","v":11222},{"$f":"COUNTIF(L7:L35,T14)","v":4},{"$f":"U14/(W4-U25)","v":0.13793103448275862},{"$f":"IF(V14=0,0,(V14*((LOG(V14))/LOG(2))))","v":-0.39420427519000989},null,{"$f":"N14","v":11222},{"$f":"COUNTIF(L36:L65,Y14)","v":1},{"$f":"Z14/(AB4-Z25)","v":3.3333333333333333E-2},{"$f":"IF(AA14=0,0,(AA14*((LOG(AA14))/LOG(2))))","v":-0.16356301985361729},null,{"$f":"N14","v":11222},{"$f":"COUNTIF(L66:L94,AD14)","v":1},{"$f":"AE14/(AG4-AE25)","v":3.4482758620689655E-2},{"$f":"IF(AF14=0,0,(AF14*((LOG(AF14))/LOG(2))))","v":-0.16751658603888178},null,{"$f":"N14","v":11222},{"$f":"COUNTIF(L95:L123,AI14)","v":0},{"$f":"AJ14/(AL4-AJ25)","v":0},{"$f":"IF(AK14=0,0,(AK14*((LOG(AK14))/LOG(2))))","v":0},null,{"$f":"N14","v":11222},{"$f":"COUNTIF(L124:L153,AN14)","v":0},{"$f":"AO14/(AQ4-AO25)","v":0},{"$f":"IF(AP14=0,0,(AP14*((LOG(AP14))/LOG(2))))","v":0},null,{"$f":"N14","v":11222},{"$f":"COUNTIF(L154:L182,AS14)","v":0},{"$f":"AT14/(AV4-AT25)","v":0},{"$f":"IF(AU14=0,0,(AU14*((LOG(AU14))/LOG(2))))","v":0}]
[12,1284,13,1294,24,1309,23,1324,24,1332,0,11222,null,12111,{"$f":"COUNTIF($L$7:$L$500,N15)","v":0},{"$f":"O15/$Q$4","v":0},{"$f":"IF(P15=0,0,(P15*((LOG(P15))/LOG(2))))","v":0},null,null,{"$f":"N15","v":12111},{"$f":"COUNTIF(L7:L35,T15)","v":0},{"$f":"U15/(W4-U25)","v":0},{"$f":"IF(V15=0,0,(V15*((LOG(V15))/LOG(2))))","v":0},null,{"$f":"N15","v":12111},{"$f":"COUNTIF(L36:L65,Y15)","v":0},{"$f":"Z15/(AB4-Z25)","v":0},{"$f":"IF(AA15=0,0,(AA15*((LOG(AA15))/LOG(2))))","v":0},null,{"$f":"N15","v":12111},{"$f":"COUNTIF(L66:L94,AD15)","v":0},{"$f":"AE15/(AG4-AE25)","v":0},{"$f":"IF(AF15=0,0,(AF15*((LOG(AF15))/LOG(2))))","v":0},null,{"$f":"N15","v":12111},{"$f":"COUNTIF(L95:L123,AI15)","v":0},{"$f":"AJ15/(AL4-AJ25)","v":0},{"$f":"IF(AK15=0,0,(AK15*((LOG(AK15))/LOG(2))))","v":0},null,{"$f":"N15","v":12111},{"$f":"COUNTIF(L124:L153,AN15)","v":0},{"$f":"AO15/(AQ4-AO25)","v":0},{"$f":"IF(AP15=0,0,(AP15*((LOG(AP15))/LOG(2))))","v":0},null,{"$f":"N15","v":12111},{"$f":"COUNTIF(L154:L182,AS15)","v":0},{"$f":"AT15/(AV4-AT25)","v":0},{"$f":"IF(AU15=0,0,(AU15*((LOG(AU15))/LOG(2))))","v":0}]
[12,1440,13,1449,13,1455,14,1462,13,1470,0,11111,null,12112,{"$f":"COUNTIF($L$7:$L$500,N16)","v":0},{"$f":"O16/$Q$4","v":0},{"$f":"IF(P16=0,0,(P16*((LOG(P16))/LOG(2))))","v":0},null,null,{"$f":"N16","v":12112},{"$f":"COUNTIF(L7:L35,T16)","v":0},{"$f":"U16/(W4-U25)","v":0},{"$f":"IF(V16=0,0,(V16*((LOG(V16))/LOG(2))))","v":0},null,{"$f":"N16","v":12112},{"$f":"COUNTIF(L36:L65,Y16)","v":0},{"$f":"Z16/(AB4-Z25)","v":0},{"$f":"IF(AA16=0,0,(AA16*((LOG(AA16))/LOG(2))))","v":0},null,{"$f":"N16","v":12112},{"$f":"COUNTIF(L66:L94,AD16)","v":0},{"$f":"AE16/(AG4-AE25)","v":0},{"$f":"IF(AF16=0,0,(AF16*((LOG(AF16))/LOG(2))))","v":0},null,{"$f":"N16","v":12112},{"$f":"COUNTIF(L95:L123,AI16)","v":0},{"$f":"AJ16/(AL4-AJ25)","v":0},{"$f":"IF(AK16=0,0,(AK16*((LOG(AK16))/LOG(2))))","v":0},null,{"$f":"N16","v":12112},{"$f":"COUNTIF(L124:L153,AN16)","v":0},{"$f":"AO16/(AQ4-AO25)","v":0},{"$f":"IF(AP16=0,0,(AP16*((LOG(AP16))/LOG(2))))","v":0},null,{"$f":"N16","v":12112},{"$f":"COUNTIF(L154:L182,AS16)","v":0},{"$f":"AT16/(AV4-AT25)","v":0},{"$f":"IF(AU16=0,0,(AU16*((LOG(AU16))/LOG(2))))","v":0}]
[12,1577,13,1583,13,1593,14,1598,13,1606,0,11111,null,12121,{"$f":"COUNTIF($L$7:$L$500,N17)","v":0},{"$f":"O17/$Q$4","v":0},{"$f":"IF(P17=0,0,(P17*((LOG(P17))/LOG(2))))","v":0},null,null,{"$f":"N17","v":12121},{"$f":"COUNTIF(L7:L35,T17)","v":0},{"$f":"U17/(W4-U25)","v":0},{"$f":"IF(V17=0,0,(V17*((LOG(V17))/LOG(2))))","v":0},null,{"$f":"N17","v":12121},{"$f":"COUNTIF(L36:L65,Y17)","v":0},{"$f":"Z17/(AB4-Z25)","v":0},{"$f":"IF(AA17=0,0,(AA17*((LOG(AA17))/LOG(2))))","v":0},null,{"$f":"N17","v":12121},{"$f":"COUNTIF(L66:L94,AD17)","v":0},{"$f":"AE17/(AG4-AE25)","v":0},{"$f":"IF(AF17=0,0,(AF17*((LOG(AF17))/LOG(2))))","v":0},null,{"$f":"N17","v":12121},{"$f":"COUNTIF(L95:L123,AI17)","v":0},{"$f":"AJ17/(AL4-AJ25)","v":0},{"$f":"IF(AK17=0,0,(AK17*((LOG(AK17))/LOG(2))))","v":0},null,{"$f":"N17","v":12121},{"$f":"COUNTIF(L124:L153,AN17)","v":0},{"$f":"AO17/(AQ4-AO25)","v":0},{"$f":"IF(AP17=0,0,(AP17*((LOG(AP17))/LOG(2))))","v":0},null,{"$f":"N17","v":12121},{"$f":"COUNTIF(L154:L182,AS17)","v":0},{"$f":"AT17/(AV4-AT25)","v":0},{"$f":"IF(AU17=0,0,(AU17*((LOG(AU17))/LOG(2))))","v":0}]
[12,1710,13,1715,13,1722,23,1736,24,1746,1,11122,null,12122,{"$f":"COUNTIF($L$7:$L$500,N18)","v":0},{"$f":"O18/$Q$4","v":0},{"$f":"IF(P18=0,0,(P18*((LOG(P18))/LOG(2))))","v":0},null,null,{"$f":"N18","v":12122},{"$f":"COUNTIF(L7:L35,T18)","v":0},{"$f":"U18/(W4-U25)","v":0},{"$f":"IF(V18=0,0,(V18*((LOG(V18))/LOG(2))))","v":0},null,{"$f":"N18","v":12122},{"$f":"COUNTIF(L36:L65,Y18)","v":0},{"$f":"Z18/(AB4-Z25)","v":0},{"$f":"IF(AA18=0,0,(AA18*((LOG(AA18))/LOG(2))))","v":0},null,{"$f":"N18","v":12122},{"$f":"COUNTIF(L66:L94,AD18)","v":0},{"$f":"AE18/(AG4-AE25)","v":0},{"$f":"IF(AF18=0,0,(AF18*((LOG(AF18))/LOG(2))))","v":0},null,{"$f":"N18","v":12122},{"$f":"COUNTIF(L95:L123,AI18)","v":0},{"$f":"AJ18/(AL4-AJ25)","v":0},{"$f":"IF(AK18=0,0,(AK18*((LOG(AK18))/LOG(2))))","v":0},null,{"$f":"N18","v":12122},{"$f":"COUNTIF(L124:L153,AN18)","v":0},{"$f":"AO18/(AQ4-AO25)","v":0},{"$f":"IF(AP18=0,0,(AP18*((LOG(AP18))/LOG(2))))","v":0},null,{"$f":"N18","v":12122},{"$f":"COUNTIF(L154:L182,AS18)","v":0},{"$f":"AT18/(AV4-AT25)","v":0},{"$f":"IF(AU18=0,0,(AU18*((LOG(AU18))/LOG(2))))","v":0}]
[12,1864,24,1890,24,1922,23,1928,24,1970,0,12222,null,12211,{"$f":"COUNTIF($L$7:$L$500,N19)","v":0},{"$f":"O19/$Q$4","v":0},{"$f":"IF(P19=0,0,(P19*((LOG(P19))/LOG(2))))","v":0},null,null,{"$f":"N19","v":12211},{"$f":"COUNTIF(L7:L35,T19)","v":0},{"$f":"U19/(W4-U25)","v":0},{"$f":"IF(V19=0,0,(V19*((LOG(V19))/LOG(2))))","v":0},null,{"$f":"N19","v":12211},{"$f":"COUNTIF(L36:L65,Y19)","v":0},{"$f":"Z19/(AB4-Z25)","v":0},{"$f":"IF(AA19=0,0,(AA19*((LOG(AA19))/LOG(2))))","v":0},null,{"$f":"N19","v":12211},{"$f":"COUNTIF(L66:L94,AD19)","v":0},{"$f":"AE19/(AG4-AE25)","v":0},{"$f":"IF(AF19=0,0,(AF19*((LOG(AF19))/LOG(2))))","v":0},null,{"$f":"N19","v":12211},{"$f":"COUNTIF(L95:L123,AI19)","v":0},{"$f":"AJ19/(AL4-AJ25)","v":0},{"$f":"IF(AK19=0,0,(AK19*((LOG(AK19))/LOG(2))))","v":0},null,{"$f":"N19","v":12211},{"$f":"COUNTIF(L124:L153,AN19)","v":0},{"$f":"AO19/(AQ4-AO25)","v":0},{"$f":"IF(AP19=0,0,(AP19*((LOG(AP19))/LOG(2))))","v":0},null,{"$f":"N19","v":12211},{"$f":"COUNTIF(L154:L182,AS19)","v":0},{"$f":"AT19/(AV4-AT25)","v":0},{"$f":"IF(AU19=0,0,(AU19*((LOG(AU19))/LOG(2))))","v":0}]
[12,2074,13,2079,13,2084,14,2090,13,2095,0,11111,null,12212,{"$f":"COUNTIF($L$7:$L$500,N20)","v":0},{"$f":"O20/$Q$4","v":0},{"$f":"IF(P20=0,0,(P20*((LOG(P20))/LOG(2))))","v":0},null,null,{"$f":"N20","v":12212},{"$f":"COUNTIF(L7:L35,T20)","v":0},{"$f":"U20/(W4-U25)","v":0},{"$f":"IF(V20=0,0,(V20*((LOG(V20))/LOG(2))))","v":0},null,{"$f":"N20","v":12212},{"$f":"COUNTIF(L36:L65,Y20)","v":0},{"$f":"Z20/(AB4-Z25)","v":0},{"$f":"IF(AA20=0,0,(AA20*((LOG(AA20))/LOG(2))))","v":0},null,{"$f":"N20","v":12212},{"$f":"COUNTIF(L66:L94,AD20)","v":0},{"$f":"AE20/(AG4-AE25)","v":0},{"$f":"IF(AF20=0,0,(AF20*((LOG(AF20))/LOG(2))))","v":0},null,{"$f":"N20","v":12212},{"$f":"COUNTIF(L95:L123,AI20)","v":0},{"$f":"AJ20/(AL4-AJ25)","v":0},{"$f":"IF(AK20=0,0,(AK20*((LOG(AK20))/LOG(2))))","v":0},null,{"$f":"N20","v":12212},{"$f":"COUNTIF(L124:L153,AN20)","v":0},{"$f":"AO20/(AQ4-AO25)","v":0},{"$f":"IF(AP20=0,0,(AP20*((LOG(AP20))/LOG(2))))","v":0},null,{"$f":"N20","v":12212},{"$f":"COUNTIF(L154:L182,AS20)","v":0},{"$f":"AT20/(AV4-AT25)","v":0},{"$f":"IF(AU20=0,0,(AU20*((LOG(AU20))/LOG(2))))","v":0}]
[12,2195,13,2200,13,2205,14,2210,24,2229,1,11112,null,12221,{"$f":"COUNTIF($L$7:$L$500,N21)","v":0},{"$f":"O21/$Q$4","v":0},{"$f":"IF(P21=0,0,(P21*((LOG(P21))/LOG(2))))","v":0},null,null,{"$f":"N21","v":12221},{"$f":"COUNTIF(L7:L35,T21)","v":0},{"$f":"U21/(W4-U25)","v":0},{"$f":"IF(V21=0,0,(V21*((LOG(V21))/LOG(2))))","v":0},null,{"$f":"N21","v":12221},{"$f":"COUNTIF(L36:L65,Y21)","v":0},{"$f":"Z21/(AB4-Z25)","v":0},{"$f":"IF(AA21=0,0,(AA21*((LOG(AA21))/LOG(2))))","v":0},null,{"$f":"N21","v":12221},{"$f":"COUNTIF(L66:L94,AD21)","v":0},{"$f":"AE21/(AG4-AE25)","v":0},{"$f":"IF(AF21=0,0,(AF21*((LOG(AF21))/LOG(2))))","v":0},null,{"$f":"N21","v":12221},{"$f":"COUNTIF(L95:L123,AI21)","v":0},{"$f":"AJ21/(AL4-AJ25)","v":0},{"$f":"IF(AK21=0,0,(AK21*((LOG(AK21))/LOG(2))))","v":0},null,{"$f":"N21","v":12221},{"$f":"COUNTIF(L124:L153,AN21)","v":0},{"$f":"AO21/(AQ4-AO25)","v":0},{"$f":"IF(AP21=0,0,(AP21*((LOG(AP21))/LOG(2))))","v":0},null,{"$f":"N21","v":12221},{"$f":"COUNTIF(L154:L182,AS21)","v":0},{"$f":"AT21/(AV4-AT25)","v":0},{"$f":"IF(AU21=0,0,(AU21*((LOG(AU21))/LOG(2))))","v":0}]
[12,2344,13,2349,13,2354,23,2384,24,2395,0,11122,null,12222,{"$f":"COUNTIF($L$7:$L$500,N22)","v":3},{"$f":"O22/$Q$4","v":1.7045454545454544E-2},{"$f":"IF(P22=0,0,(P22*((LOG(P22))/LOG(2))))","v":-0.10013299632811604},null,null,{"$f":"N22","v":12222},{"$f":"COUNTIF(L7:L35,T22)","v":3},{"$f":"U22/(W4-U25)","v":0.10344827586206896},{"$f":"IF(V22=0,0,(V22*((LOG(V22))/LOG(2))))","v":-0.33858812011100858},null,{"$f":"N22","v":12222},{"$f":"COUNTIF(L36:L65,Y22)","v":0},{"$f":"Z22/(AB4-Z25)","v":0},{"$f":"IF(AA22=0,0,(AA22*((LOG(AA22))/LOG(2))))","v":0},null,{"$f":"N22","v":12222},{"$f":"COUNTIF(L66:L94,AD22)","v":0},{"$f":"AE22/(AG4-AE25)","v":0},{"$f":"IF(AF22=0,0,(AF22*((LOG(AF22))/LOG(2))))","v":0},null,{"$f":"N22","v":12222},{"$f":"COUNTIF(L95:L123,AI22)","v":0},{"$f":"AJ22/(AL4-AJ25)","v":0},{"$f":"IF(AK22=0,0,(AK22*((LOG(AK22))/LOG(2))))","v":0},null,{"$f":"N22","v":12222},{"$f":"COUNTIF(L124:L153,AN22)","v":0},{"$f":"AO22/(AQ4-AO25)","v":0},{"$f":"IF(AP22=0,0,(AP22*((LOG(AP22))/LOG(2))))","v":0},null,{"$f":"N22","v":12222},{"$f":"COUNTIF(L154:L182,AS22)","v":0},{"$f":"AT22/(AV4-AT25)","v":0},{"$f":"IF(AU22=0,0,(AU22*((LOG(AU22))/LOG(2))))","v":0}]
[12,2497,13,2501,13,2511,23,2523,24,2540,0,11122,null,21111,{"$f":"COUNTIF($L$7:$L$500,N23)","v":0},{"$f":"O23/$Q$4","v":0},{"$f":"IF(P23=0,0,(P23*((LOG(P23))/LOG(2))))","v":0},null,null,{"$f":"N23","v":21111},{"$f":"COUNTIF(L7:L35,T23)","v":0},{"$f":"U23/(W4-U25)","v":0},{"$f":"IF(V23=0,0,(V23*((LOG(V23))/LOG(2))))","v":0},null,{"$f":"N23","v":21111},{"$f":"COUNTIF(L36:L65,Y23)","v":0},{"$f":"Z23/(AB4-Z25)","v":0},{"$f":"IF(AA23=0,0,(AA23*((LOG(AA23))/LOG(2))))","v":0},null,{"$f":"N23","v":21111},{"$f":"COUNTIF(L66:L94,AD23)","v":0},{"$f":"AE23/(AG4-AE25)","v":0},{"$f":"IF(AF23=0,0,(AF23*((LOG(AF23))/LOG(2))))","v":0},null,{"$f":"N23","v":21111},{"$f":"COUNTIF(L95:L123,AI23)","v":0},{"$f":"AJ23/(AL4-AJ25)","v":0},{"$f":"IF(AK23=0,0,(AK23*((LOG(AK23))/LOG(2))))","v":0},null,{"$f":"N23","v":21111},{"$f":"COUNTIF(L124:L153,AN23)","v":0},{"$f":"AO23/(AQ4-AO25)","v":0},{"$f":"IF(AP23=0,0,(AP23*((LOG(AP23))/LOG(2))))","v":0},null,{"$f":"N23","v":21111},{"$f":"COUNTIF(L154:L182,AS23)","v":0},{"$f":"AT23/(AV4-AT25)","v":0},{"$f":"IF(AU23=0,0,(AU23*((LOG(AU23))/LOG(2))))","v":0}]
[12,2648,13,2654,13,2662,14,2668,13,2673,0,11111,null,21112,{"$f":"COUNTIF($L$7:$L$500,N24)","v":0},{"$f":"O24/$Q$4","v":0},{"$f":"IF(P24=0,0,(P24*((LOG(P24))/LOG(2))))","v":0},null,null,{"$f":"N24","v":21112},{"$f":"COUNTIF(L7:L35,T24)","v":0},{"$f":"U24/(W4-U25)","v":0},{"$f":"IF(V24=0,0,(V24*((LOG(V24))/LOG(2))))","v":0},null,{"$f":"N24","v":21112},{"$f":"COUNTIF(L36:L65,Y24)","v":0},{"$f":"Z24/(AB4-Z25)","v":0},{"$f":"IF(AA24=0,0,(AA24*((LOG(AA24))/LOG(2))))","v":0},null,{"$f":"N24","v":21112},{"$f":"COUNTIF(L66:L94,AD24)","v":0},{"$f":"AE24/(AG4-AE25)","v":0},{"$f":"IF(AF24=0,0,(AF24*((LOG(AF24))/LOG(2))))","v":0},null,{"$f":"N24","v":21112},{"$f":"COUNTIF(L95:L123,AI24)","v":0},{"$f":"AJ24/(AL4-AJ25)","v":0},{"$f":"IF(AK24=0,0,(AK24*((LOG(AK24))/LOG(2))))","v":0},null,{"$f":"N24","v":21112},{"$f":"COUNTIF(L124:L153,AN24)","v":0},{"$f":"AO24/(AQ4-AO25)","v":0},{"$f":"IF(AP24=0,0,(AP24*((LOG(AP24))/LOG(2))))","v":0},null,{"$f":"N24","v":21112},{"$f":"COUNTIF(L154:L182,AS24)","v":0},{"$f":"AT24/(AV4-AT25)","v":0},{"$f":"IF(AU24=0,0,(AU24*((LOG(AU24))/LOG(2))))","v":0}]
[12,2781,13,2786,13,2793,14,2800,13,2806,1,11111,null,21121,{"$f":"COUNTIF($L$7:$L$500,N25)","v":0},{"$f":"O25/$Q$4","v":0},{"$f":"IF(P25=0,0,(P25*((LOG(P25))/LOG(2))))","v":0},null,null,{"$f":"N25","v":21121},{"$f":"COUNTIF(L7:L35,T25)","v":0},null,null,null,{"$f":"N25","v":21121},{"$f":"COUNTIF(L36:L65,Y25)","v":0},null,null,null,{"$f":"N25","v":21121},{"$f":"COUNTIF(L66:L94,AD25)","v":0},null,null,null,{"$f":"N25","v":21121},{"$f":"COUNTIF(L95:L123,AI25)","v":0},null,null,null,{"$f":"N25","v":21121},{"$f":"COUNTIF(L124:L153,AN25)","v":0},null,null,null,{"$f":"N25","v":21121},{"$f":"COUNTIF(L154:L182,AS25)","v":0}]
[12,2904,13,2929,13,2939,23,2955,24,2969,0,11122,null,21122,{"$f":"COUNTIF($L$7:$L$500,N26)","v":0},{"$f":"O26/$Q$4","v":0},{"$f":"IF(P26=0,0,(P26*((LOG(P26))/LOG(2))))","v":0},null,null,{"$f":"N26","v":21122},{"$f":"COUNTIF(L7:L35,T26)","v":0},{"$f":"U26/(W4-U25)","v":0},{"$f":"IF(V26=0,0,(V26*((LOG(V26))/LOG(2))))","v":0},null,{"$f":"N26","v":21122},{"$f":"COUNTIF(L36:L65,Y26)","v":0},{"$f":"Z26/(AB4-Z25)","v":0},{"$f":"IF(AA26=0,0,(AA26*((LOG(AA26))/LOG(2))))","v":0},null,{"$f":"N26","v":21122},{"$f":"COUNTIF(L66:L94,AD26)","v":0},{"$f":"AE26/(AG4-AE25)","v":0},{"$f":"IF(AF26=0,0,(AF26*((LOG(AF26))/LOG(2))))","v":0},null,{"$f":"N26","v":21122},{"$f":"COUNTIF(L95:L123,AI26)","v":0},{"$f":"AJ26/(AL4-AJ25)","v":0},{"$f":"IF(AK26=0,0,(AK26*((LOG(AK26))/LOG(2))))","v":0},null,{"$f":"N26","v":21122},{"$f":"COUNTIF(L124:L153,AN26)","v":0},{"$f":"AO26/(AQ4-AO25)","v":0},{"$f":"IF(AP26=0,0,(AP26*((LOG(AP26))/LOG(2))))","v":0},null,{"$f":"N26","v":21122},{"$f":"COUNTIF(L154:L182,AS26)","v":0},{"$f":"AT26/(AV4-AT25)","v":0},{"$f":"IF(AU26=0,0,(AU26*((LOG(AU26))/LOG(2))))","v":0}]
[12,3071,13,3076,13,3081,23,3096,24,3101,0,11122,null,21211,{"$f":"COUNTIF($L$7:$L$500,N27)","v":0},{"$f":"O27/$Q$4","v":0},{"$f":"IF(P27=0,0,(P27*((LOG(P27))/LOG(2))))","v":0},null,null,{"$f":"N27","v":21211},{"$f":"COUNTIF(L7:L35,T27)","v":0},{"$f":"U27/(W4-U25)","v":0},{"$f":"IF(V27=0,0,(V27*((LOG(V27))/LOG(2))))","v":0},null,{"$f":"N27","v":21211},{"$f":"COUNTIF(L36:L65,Y27)","v":0},{"$f":"Z27/(AB4-Z25)","v":0},{"$f":"IF(AA27=0,0,(AA27*((LOG(AA27))/LOG(2))))","v":0},null,{"$f":"N27","v":21211},{"$f":"COUNTIF(L66:L94,AD27)","v":0},{"$f":"AE27/(AG4-AE25)","v":0},{"$f":"IF(AF27=0,0,(AF27*((LOG(AF27))/LOG(2))))","v":0},null,{"$f":"N27","v":21211},{"$f":"COUNTIF(L95:L123,AI27)","v":0},{"$f":"AJ27/(AL4-AJ25)","v":0},{"$f":"IF(AK27=0,0,(AK27*((LOG(AK27))/LOG(2))))","v":0},null,{"$f":"N27","v":21211},{"$f":"COUNTIF(L124:L153,AN27)","v":0},{"$f":"AO27/(AQ4-AO25)","v":0},{"$f":"IF(AP27=0,0,(AP27*((LOG(AP27))/LOG(2))))","v":0},null,{"$f":"N27","v":21211},{"$f":"COUNTIF(L154:L182,AS27)","v":0},{"$f":"AT27/(AV4-AT25)","v":0},{"$f":"IF(AU27=0,0,(AU27*((LOG(AU27))/LOG(2))))","v":0}]
[12,3203,13,3208,13,3213,14,3219,24,3235,1,11112,null,21212,{"$f":"COUNTIF($L$7:$L$500,N28)","v":0},{"$f":"O28/$Q$4","v":0},{"$f":"IF(P28=0,0,(P28*((LOG(P28))/LOG(2))))","v":0},null,null,{"$f":"N28","v":21212},{"$f":"COUNTIF(L7:L35,T28)","v":0},{"$f":"U28/(W4-U25)","v":0},{"$f":"IF(V28=0,0,(V28*((LOG(V28))/LOG(2))))","v":0},null,{"$f":"N28","v":21212},{"$f":"COUNTIF(L36:L65,Y28)","v":0},{"$f":"Z28/(AB4-Z25)","v":0},{"$f":"IF(AA28=0,0,(AA28*((LOG(AA28))/LOG(2))))","v":0},null,{"$f":"N28","v":21212},{"$f":"COUNTIF(L66:L94,AD28)","v":0},{"$f":"AE28/(AG4-AE25)","v":0},{"$f":"IF(AF28=0,0,(AF28*((LOG(AF28))/LOG(2))))","v":0},null,{"$f":"N28","v":21212},{"$f":"COUNTIF(L95:L123,AI28)","v":0},{"$f":"AJ28/(AL4-AJ25)","v":0},{"$f":"IF(AK28=0,0,(AK28*((LOG(AK28))/LOG(2))))","v":0},null,{"$f":"N28","v":21212},{"$f":"COUNTIF(L124:L153,AN28)","v":0},{"$f":"AO28/(AQ4-AO25)","v":0},{"$f":"IF(AP28=0,0,(AP28*((LOG(AP28))/LOG(2))))","v":0},null,{"$f":"N28","v":21212},{"$f":"COUNTIF(L154:L182,AS28)","v":0},{"$f":"AT28/(AV4-AT25)","v":0},{"$f":"IF(AU28=0,0,(AU28*((LOG(AU28))/LOG(2))))","v":0}]
[12,3331,13,3336,13,3341,23,3371,24,3389,0,11122,null,21221,{"$f":"COUNTIF($L$7:$L$500,N29)","v":0},{"$f":"O29/$Q$4","v":0},{"$f":"IF(P29=0,0,(P29*((LOG(P29))/LOG(2))))","v":0},null,null,{"$f":"N29","v":21221},{"$f":"COUNTIF(L7:L35,T29)","v":0},{"$f":"U29/(W4-U25)","v":0},{"$f":"IF(V29=0,0,(V29*((LOG(V29))/LOG(2))))","v":0},null,{"$f":"N29","v":21221},{"$f":"COUNTIF(L36:L65,Y29)","v":0},{"$f":"Z29/(AB4-Z25)","v":0},{"$f":"IF(AA29=0,0,(AA29*((LOG(AA29))/LOG(2))))","v":0},null,{"$f":"N29","v":21221},{"$f":"COUNTIF(L66:L94,AD29)","v":0},{"$f":"AE29/(AG4-AE25)","v":0},{"$f":"IF(AF29=0,0,(AF29*((LOG(AF29))/LOG(2))))","v":0},null,{"$f":"N29","v":21221},{"$f":"COUNTIF(L95:L123,AI29)","v":0},{"$f":"AJ29/(AL4-AJ25)","v":0},{"$f":"IF(AK29=0,0,(AK29*((LOG(AK29))/LOG(2))))","v":0},null,{"$f":"N29","v":21221},{"$f":"COUNTIF(L124:L153,AN29)","v":0},{"$f":"AO29/(AQ4-AO25)","v":0},{"$f":"IF(AP29=0,0,(AP29*((LOG(AP29))/LOG(2))))","v":0},null,{"$f":"N29","v":21221},{"$f":"COUNTIF(L154:L182,AS29)","v":0},{"$f":"AT29/(AV4-AT25)","v":0},{"$f":"IF(AU29=0,0,(AU29*((LOG(AU29))/LOG(2))))","v":0}]
[12,3498,13,3504,13,3523,14,3532,13,3541,0,11111,null,21222,{"$f":"COUNTIF($L$7:$L$500,N30)","v":0},{"$f":"O30/$Q$4","v":0},{"$f":"IF(P30=0,0,(P30*((LOG(P30))/LOG(2))))","v":0},null,null,{"$f":"N30","v":21222},{"$f":"COUNTIF(L7:L35,T30)","v":0},{"$f":"U30/(W4-U25)","v":0},{"$f":"IF(V30=0,0,(V30*((LOG(V30))/LOG(2))))","v":0},null,{"$f":"N30","v":21222},{"$f":"COUNTIF(L36:L65,Y30)","v":0},{"$f":"Z30/(AB4-Z25)","v":0},{"$f":"IF(AA30=0,0,(AA30*((LOG(AA30))/LOG(2))))","v":0},null,{"$f":"N30","v":21222},{"$f":"COUNTIF(L66:L94,AD30)","v":0},{"$f":"AE30/(AG4-AE25)","v":0},{"$f":"IF(AF30=0,0,(AF30*((LOG(AF30))/LOG(2))))","v":0},null,{"$f":"N30","v":21222},{"$f":"COUNTIF(L95:L123,AI30)","v":0},{"$f":"AJ30/(AL4-AJ25)","v":0},{"$f":"IF(AK30=0,0,(AK30*((LOG(AK30))/LOG(2))))","v":0},null,{"$f":"N30","v":21222},{"$f":"COUNTIF(L124:L153,AN30)","v":0},{"$f":"AO30/(AQ4-AO25)","v":0},{"$f":"IF(AP30=0,0,(AP30*((LOG(AP30))/LOG(2))))","v":0},null,{"$f":"N30","v":21222},{"$f":"COUNTIF(L154:L182,AS30)","v":0},{"$f":"AT30/(AV4-AT25)","v":0},{"$f":"IF(AU30=0,0,(AU30*((LOG(AU30))/LOG(2))))","v":0}]
[12,3644,13,3649,13,3659,14,3673,24,3693,0,11112,null,22111,{"$f":"COUNTIF($L$7:$L$500,N31)","v":0},{"$f":"O31/$Q$4","v":0},{"$f":"IF(P31=0,0,(P31*((LOG(P31))/LOG(2))))","v":0},null,null,{"$f":"N31","v":22111},{"$f":"COUNTIF(L7:L35,T31)","v":0},{"$f":"U31/(W4-U25)","v":0},{"$f":"IF(V31=0,0,(V31*((LOG(V31))/LOG(2))))","v":0},null,{"$f":"N31","v":22111},{"$f":"COUNTIF(L36:L65,Y31)","v":0},{"$f":"Z31/(AB4-Z25)","v":0},{"$f":"IF(AA31=0,0,(AA31*((LOG(AA31))/LOG(2))))","v":0},null,{"$f":"N31","v":22111},{"$f":"COUNTIF(L66:L94,AD31)","v":0},{"$f":"AE31/(AG4-AE25)","v":0},{"$f":"IF(AF31=0,0,(AF31*((LOG(AF31))/LOG(2))))","v":0},null,{"$f":"N31","v":22111},{"$f":"COUNTIF(L95:L123,AI31)","v":0},{"$f":"AJ31/(AL4-AJ25)","v":0},{"$f":"IF(AK31=0,0,(AK31*((LOG(AK31))/LOG(2))))","v":0},null,{"$f":"N31","v":22111},{"$f":"COUNTIF(L124:L153,AN31)","v":0},{"$f":"AO31/(AQ4-AO25)","v":0},{"$f":"IF(AP31=0,0,(AP31*((LOG(AP31))/LOG(2))))","v":0},null,{"$f":"N31","v":22111},{"$f":"COUNTIF(L154:L182,AS31)","v":0},{"$f":"AT31/(AV4-AT25)","v":0},{"$f":"IF(AU31=0,0,(AU31*((LOG(AU31))/LOG(2))))","v":0}]
[12,3793,13,3798,13,3803,14,3809,24,3834,0,11112,null,22112,{"$f":"COUNTIF($L$7:$L$500,N32)","v":0},{"$f":"O32/$Q$4","v":0},{"$f":"IF(P32=0,0,(P32*((LOG(P32))/LOG(2))))","v":0},null,null,{"$f":"N32","v":22112},{"$f":"COUNTIF(L7:L35,T32)","v":0},{"$f":"U32/(W4-U25)","v":0},{"$f":"IF(V32=0,0,(V32*((LOG(V32))/LOG(2))))","v":0},null,{"$f":"N32","v":22112},{"$f":"COUNTIF(L36:L65,Y32)","v":0},{"$f":"Z32/(AB4-Z25)","v":0},{"$f":"IF(AA32=0,0,(AA32*((LOG(AA32))/LOG(2))))","v":0},null,{"$f":"N32","v":22112},{"$f":"COUNTIF(L66:L94,AD32)","v":0},{"$f":"AE32/(AG4-AE25)","v":0},{"$f":"IF(AF32=0,0,(AF32*((LOG(AF32))/LOG(2))))","v":0},null,{"$f":"N32","v":22112},{"$f":"COUNTIF(L95:L123,AI32)","v":0},{"$f":"AJ32/(AL4-AJ25)","v":0},{"$f":"IF(AK32=0,0,(AK32*((LOG(AK32))/LOG(2))))","v":0},null,{"$f":"N32","v":22112},{"$f":"COUNTIF(L124:L153,AN32)","v":0},{"$f":"AO32/(AQ4-AO25)","v":0},{"$f":"IF(AP32=0,0,(AP32*((LOG(AP32))/LOG(2))))","v":0},null,{"$f":"N32","v":22112},{"$f":"COUNTIF(L154:L182,AS32)","v":0},{"$f":"AT32/(AV4-AT25)","v":0},{"$f":"IF(AU32=0,0,(AU32*((LOG(AU32))/LOG(2))))","v":0}]
[12,3938,13,3943,13,3948,23,3972,24,3977,0,11122,null,22121,{"$f":"COUNTIF($L$7:$L$500,N33)","v":0},{"$f":"O33/$Q$4","v":0},{"$f":"IF(P33=0,0,(P33*((LOG(P33))/LOG(2))))","v":0},null,null,{"$f":"N33","v":22121},{"$f":"COUNTIF(L7:L35,T33)","v":0},{"$f":"U33/(W4-U25)","v":0},{"$f":"IF(V33=0,0,(V33*((LOG(V33))/LOG(2))))","v":0},null,{"$f":"N33","v":22121},{"$f":"COUNTIF(L36:L65,Y33)","v":0},{"$f":"Z33/(AB4-Z25)","v":0},{"$f":"IF(AA33=0,0,(AA33*((LOG(AA33))/LOG(2))))","v":0},null,{"$f":"N33","v":22121},{"$f":"COUNTIF(L66:L94,AD33)","v":0},{"$f":"AE33/(AG4-AE25)","v":0},{"$f":"IF(AF33=0,0,(AF33*((LOG(AF33))/LOG(2))))","v":0},null,{"$f":"N33","v":22121},{"$f":"COUNTIF(L95:L123,AI33)","v":0},{"$f":"AJ33/(AL4-AJ25)","v":0},{"$f":"IF(AK33=0,0,(AK33*((LOG(AK33))/LOG(2))))","v":0},null,{"$f":"N33","v":22121},{"$f":"COUNTIF(L124:L153,AN33)","v":0},{"$f":"AO33/(AQ4-AO25)","v":0},{"$f":"IF(AP33=0,0,(AP33*((LOG(AP33))/LOG(2))))","v":0},null,{"$f":"N33","v":22121},{"$f":"COUNTIF(L154:L182,AS33)","v":0},{"$f":"AT33/(AV4-AT25)","v":0},{"$f":"IF(AU33=0,0,(AU33*((LOG(AU33))/LOG(2))))","v":0}]
[12,4077,13,4082,13,4087,14,4092,24,4107,0,11112,null,22122,{"$f":"COUNTIF($L$7:$L$500,N34)","v":0},{"$f":"O34/$Q$4","v":0},{"$f":"IF(P34=0,0,(P34*((LOG(P34))/LOG(2))))","v":0},null,null,{"$f":"N34","v":22122},{"$f":"COUNTIF(L7:L35,T34)","v":0},{"$f":"U34/(W4-U25)","v":0},{"$f":"IF(V34=0,0,(V34*((LOG(V34))/LOG(2))))","v":0},null,{"$f":"N34","v":22122},{"$f":"COUNTIF(L36:L65,Y34)","v":0},{"$f":"Z34/(AB4-Z25)","v":0},{"$f":"IF(AA34=0,0,(AA34*((LOG(AA34))/LOG(2))))","v":0},null,{"$f":"N34","v":22122},{"$f":"COUNTIF(L66:L94,AD34)","v":0},{"$f":"AE34/(AG4-AE25)","v":0},{"$f":"IF(AF34=0,0,(AF34*((LOG(AF34))/LOG(2))))","v":0},null,{"$f":"N34","v":22122},{"$f":"COUNTIF(L95:L123,AI34)","v":0},{"$f":"AJ34/(AL4-AJ25)","v":0},{"$f":"IF(AK34=0,0,(AK34*((LOG(AK34))/LOG(2))))","v":0},null,{"$f":"N34","v":22122},{"$f":"COUNTIF(L124:L153,AN34)","v":0},{"$f":"AO34/(AQ4-AO25)","v":0},{"$f":"IF(AP34=0,0,(AP34*((LOG(AP34))/LOG(2))))","v":0},null,{"$f":"N34","v":22122},{"$f":"COUNTIF(L154:L182,AS34)","v":0},{"$f":"AT34/(AV4-AT25)","v":0},{"$f":"IF(AU34=0,0,(AU34*((LOG(AU34))/LOG(2))))","v":0}]
[12,4208,13,4212,13,4218,14,4224,13,4229,1,11111,null,22211,{"$f":"COUNTIF($L$7:$L$500,N35)","v":0},{"$f":"O35/$Q$4","v":0},{"$f":"IF(P35=0,0,(P35*((LOG(P35))/LOG(2))))","v":0},null,null,{"$f":"N35","v":22211},{"$f":"COUNTIF(L7:L35,T35)","v":0},{"$f":"U35/(W4-U25)","v":0},{"$f":"IF(V35=0,0,(V35*((LOG(V35))/LOG(2))))","v":0},null,{"$f":"N35","v":22211},{"$f":"COUNTIF(L36:L65,Y35)","v":0},{"$f":"Z35/(AB4-Z25)","v":0},{"$f":"IF(AA35=0,0,(AA35*((LOG(AA35))/LOG(2))))","v":0},null,{"$f":"N35","v":22211},{"$f":"COUNTIF(L66:L94,AD35)","v":0},{"$f":"AE35/(AG4-AE25)","v":0},{"$f":"IF(AF35=0,0,(AF35*((LOG(AF35))/LOG(2))))","v":0},null,{"$f":"N35","v":22211},{"$f":"COUNTIF(L95:L123,AI35)","v":0},{"$f":"AJ35/(AL4-AJ25)","v":0},{"$f":"IF(AK35=0,0,(AK35*((LOG(AK35))/LOG(2))))","v":0},null,{"$f":"N35","v":22211},{"$f":"COUNTIF(L124:L153,AN35)","v":0},{"$f":"AO35/(AQ4-AO25)","v":0},{"$f":"IF(AP35=0,0,(AP35*((LOG(AP35))/LOG(2))))","v":0},null,{"$f":"N35","v":22211},{"$f":"COUNTIF(L154:L182,AS35)","v":0},{"$f":"AT35/(AV4-AT25)","v":0},{"$f":"IF(AU35=0,0,(AU35*((LOG(AU35))/LOG(2))))","v":0}]
[12,4323,13,4327,13,4332,14,4337,13,4341,0,11111,null,22212,{"$f":"COUNTIF($L$7:$L$500,N36)","v":0},{"$f":"O36/$Q$4","v":0},{"$f":"IF(P36=0,0,(P36*((LOG(P36))/LOG(2))))","v":0},null,null,{"$f":"N36","v":22212},{"$f":"COUNTIF(L7:L35,T36)","v":0},{"$f":"U36/(W4-U25)","v":0},{"$f":"IF(V36=0,0,(V36*((LOG(V36))/LOG(2))))","v":0},null,{"$f":"N36","v":22212},{"$f":"COUNTIF(L36:L65,Y36)","v":0},{"$f":"Z36/(AB4-Z25)","v":0},{"$f":"IF(AA36=0,0,(AA36*((LOG(AA36))/LOG(2))))","v":0},null,{"$f":"N36","v":22212},{"$f":"COUNTIF(L66:L94,AD36)","v":0},{"$f":"AE36/(AG4-AE25)","v":0},{"$f":"IF(AF36=0,0,(AF36*((LOG(AF36))/LOG(2))))","v":0},null,{"$f":"N36","v":22212},{"$f":"COUNTIF(L95:L123,AI36)","v":0},{"$f":"AJ36/(AL4-AJ25)","v":0},{"$f":"IF(AK36=0,0,(AK36*((LOG(AK36))/LOG(2))))","v":0},null,{"$f":"N36","v":22212},{"$f":"COUNTIF(L124:L153,AN36)","v":0},{"$f":"AO36/(AQ4-AO25)","v":0},{"$f":"IF(AP36=0,0,(AP36*((LOG(AP36))/LOG(2))))","v":0},null,{"$f":"N36","v":22212},{"$f":"COUNTIF(L154:L182,AS36)","v":0},{"$f":"AT36/(AV4-AT25)","v":0},{"$f":"IF(AU36=0,0,(AU36*((LOG(AU36))/LOG(2))))","v":0}]
[12,4445,13,4451,24,4468,23,4484,24,4492,1,11222,null,22221,{"$f":"COUNTIF($L$7:$L$500,N37)","v":0},{"$f":"O37/$Q$4","v":0},{"$f":"IF(P37=0,0,(P37*((LOG(P37))/LOG(2))))","v":0},null,null,{"$f":"N37","v":22221},{"$f":"COUNTIF(L7:L35,T37)","v":0},{"$f":"U37/(W4-U25)","v":0},{"$f":"IF(V37=0,0,(V37*((LOG(V37))/LOG(2))))","v":0},null,{"$f":"N37","v":22221},{"$f":"COUNTIF(L36:L65,Y37)","v":0},{"$f":"Z37/(AB4-Z25)","v":0},{"$f":"IF(AA37=0,0,(AA37*((LOG(AA37))/LOG(2))))","v":0},null,{"$f":"N37","v":22221},{"$f":"COUNTIF(L66:L94,AD37)","v":0},{"$f":"AE37/(AG4-AE25)","v":0},{"$f":"IF(AF37=0,0,(AF37*((LOG(AF37))/LOG(2))))","v":0},null,{"$f":"N37","v":22221},{"$f":"COUNTIF(L95:L123,AI37)","v":0},{"$f":"AJ37/(AL4-AJ25)","v":0},{"$f":"IF(AK37=0,0,(AK37*((LOG(AK37))/LOG(2))))","v":0},null,{"$f":"N37","v":22221},{"$f":"COUNTIF(L124:L153,AN37)","v":0},{"$f":"AO37/(AQ4-AO25)","v":0},{"$f":"IF(AP37=0,0,(AP37*((LOG(AP37))/LOG(2))))","v":0},null,{"$f":"N37","v":22221},{"$f":"COUNTIF(L154:L182,AS37)","v":0},{"$f":"AT37/(AV4-AT25)","v":0},{"$f":"IF(AU37=0,0,(AU37*((LOG(AU37))/LOG(2))))","v":0}]
[12,4601,13,4613,13,4626,14,4634,24,4669,0,11112,null,22222,{"$f":"COUNTIF($L$7:$L$500,N38)","v":2},{"$f":"O38/$Q$4","v":1.1363636363636364E-2},{"$f":"IF(P38=0,0,(P38*((LOG(P38))/LOG(2))))","v":-7.3402632029969286E-2},null,null,{"$f":"N38","v":22222},{"$f":"COUNTIF(L7:L35,T38)","v":1},{"$f":"U38/(W4-U25)","v":3.4482758620689655E-2},{"$f":"IF(V38=0,0,(V38*((LOG(V38))/LOG(2))))","v":-0.16751658603888178},null,{"$f":"N38","v":22222},{"$f":"COUNTIF(L36:L65,Y38)","v":1},{"$f":"Z38/(AB4-Z25)","v":3.3333333333333333E-2},{"$f":"IF(AA38=0,0,(AA38*((LOG(AA38))/LOG(2))))","v":-0.16356301985361729},null,{"$f":"N38","v":22222},{"$f":"COUNTIF(L66:L94,AD38)","v":0},{"$f":"AE38/(AG4-AE25)","v":0},{"$f":"IF(AF38=0,0,(AF38*((LOG(AF38))/LOG(2))))","v":0},null,{"$f":"N38","v":22222},{"$f":"COUNTIF(L95:L123,AI38)","v":0},{"$f":"AJ38/(AL4-AJ25)","v":0},{"$f":"IF(AK38=0,0,(AK38*((LOG(AK38))/LOG(2))))","v":0},null,{"$f":"N38","v":22222},{"$f":"COUNTIF(L124:L153,AN38)","v":0},{"$f":"AO38/(AQ4-AO25)","v":0},{"$f":"IF(AP38=0,0,(AP38*((LOG(AP38))/LOG(2))))","v":0},null,{"$f":"N38","v":22222},{"$f":"COUNTIF(L154:L182,AS38)","v":0},{"$f":"AT38/(AV4-AT25)","v":0},{"$f":"IF(AU38=0,0,(AU38*((LOG(AU38))/LOG(2))))","v":0}]
[12,4776,13,4780,13,4789,14,4795,13,4807,1,11111,null,null,null,{"$f":"SUM(P7:P38)","v":1},{"$f":"-SUM(Q7:Q38)","v":1.3077172678767404},null,null,null,null,{"$f":"SUM(V7:V38)","v":1.0000000000000002},{"$f":"-SUM(W7:W38)","v":2.3564176349901818},null,null,null,{"$f":"SUM(AA7:AA38)","v":0.99999999999999989},{"$f":"-SUM(AB7:AB38)","v":1.3786137171821593},null,null,null,{"$f":"SUM(AF7:AF38)","v":1},{"$f":"-SUM(AG7:AG38)","v":1.1301363189199674},null,null,null,{"$f":"SUM(AK7:AK38)","v":0.99999999999999989},{"$f":"-SUM(AL7:AL38)","v":0.69069505559200028},null,null,null,{"$f":"SUM(AP7:AP38)","v":1},{"$f":"-SUM(AQ7:AQ38)","v":0.42002600168808801},null,null,null,{"$f":"SUM(AU7:AU38)","v":1},{"$f":"-SUM(AV7:AV38)","v":0.21639693245126462}]
[12,4902,13,4907,13,4913,14,4923,24,4941,0,11112,null,null,null,"U=",{"$f":"Q39/(LOG(Q4)/LOG(2))","v":0.1753105779010595},null,null,null,null,"U1=",{"$f":"W39/(LOG(W4)/LOG(2))","v":0.48506110611663716},null,null,null,"U2=",{"$f":"AB39/(LOG(AB4)/LOG(2))","v":0.28095464741275594},null,null,null,"U3=",{"$f":"AG39/(LOG(AG4)/LOG(2))","v":0.23263498149817066},null,null,null,"U4=",{"$f":"AL39/(LOG(AL4)/LOG(2))","v":0.14217738938969696},null,null,null,"U5=",{"$f":"AQ39/(LOG(AQ4)/LOG(2))","v":8.559921879326092E-2},null,null,null,"U6=",{"$f":"AV39/(LOG(AV4)/LOG(2))","v":4.4544623099247421E-2}]
[12,5044,13,5048,13,5054,14,5059,13,5074,0,11111]
[12,5178,13,5183,13,5188,14,5194,24,5221,0,11112]
[12,5323,13,5328,13,5333,14,5338,13,5345,0,11111,null,"Total Target Seq"]
[12,5445,13,5450,13,5455,14,5460,13,5465,1,11111,null,{"$f":"COUNTIF(L7:L182,G3)","v":0},null,29,30,29,29,30,29]
[12,5580,13,5586,13,5599,14,5604,13,5609,0,11111,null,null,null,"% of reinforcement given in 6 equal intervals based on number of trials "]
[12,5713,13,5719,13,5723,14,5729,24,5744,0,11112,null,null,null,"%_1","%_2","%_3","%_4","%_5","%_6"]
[12,5844,13,5849,13,5854,14,5859,13,5863,0,11111,null,null,"target sequence",{"$f":"$G$3","v":21121},{"$f":"$G$3","v":21121},{"$f":"$G$3","v":21121},{"$f":"$G$3","v":21121},{"$f":"$G$3","v":21121},{"$f":"$G$3","v":21121}]
[12,5971,13,5981,13,5986,14,5996,13,6001,0,11111,null,null,"total reinforcement",{"$f":"U25","v":0},{"$f":"Z25","v":0},{"$f":"AE25","v":0},{"$f":"AJ25","v":0},{"$f":"AO25","v":0},{"$f":"AT25","v":0}]
[12,6103,13,6109,13,6113,14,6119,13,6123,1,11111,null,null,"% target"]
[12,6218,13,6223,13,6228,14,6233,13,6238,0,11111,null,null,"CCRF"]
[12,6334,13,6339,13,6344,14,6350,13,6360,0,11111,null,null,"% CCRf"]
[12,6462,13,6467,13,6477,14,6481,13,6490,0,11111,null,null,"average response rate",{"$f":"J35/P44","v":145.82758620689654},{"$f":"(J65-J35)/Q44","v":137.53333333333333},{"$f":"(J94-J65)/R44","v":133.48275862068965},{"$f":"(J123-J94)/S44","v":134.20689655172413},{"$f":"(J153-J123)/T44","v":133.63333333333333},{"$f":"(J182-J153)/U44","v":132.34482758620689}]
[12,6591,13,6596,13,6605,14,6610,13,6620,0,11111]
[12,6722,13,6737,13,6742,23,6765,24,6770,0,11122]
[12,6879,13,6889,13,6895,14,6902,13,6907,0,11111]
[21,7022,22,7034,24,7043,23,7051,24,7059,0,22222]
[12,7197,13,7213,13,7226,14,7238,13,7243,0,11111]
[12,7349,13,7354,13,7359,14,7374,24,7393,0,11112]
[12,7502,13,7508,13,7513,14,7519,13,7524,1,11111]
[12,7628,13,7632,13,7638,14,7643,13,7655,0,11111]
[12,7759,13,7773,13,7779,14,7784,13,7796,0,11111]
[12,7898,13,7903,13,7910,14,7914,13,7920,0,11111]
[12,8028,13,8034,13,8039,14,8043,13,8055,0,11111]
[12,8157,13,8161,13,8168,14,8173,13,8177,0,11111]
[12,8301,13,8307,13,8312,23,8331,24,8355,0,11122]
[12,8458,13,8465,13,8469,14,8478,13,8482,0,11111]
[12,8586,13,8591,13,8595,14,8600,13,8605,0,11111]
[12,8706,13,8710,13,8715,14,8720,13,8725,0,11111]
[12,8830,13,8841,13,8851,14,8856,13,8863,0,11111]
[12,8968,13,8975,13,8980,14,8984,13,8990,1,11111]
[12,9088,13,9093,13,9101,14,9105,13,9111,0,11111]
[12,9208,13,9213,13,9218,14,9222,13,9230,0,11111]
[12,9332,13,9338,13,9343,14,9351,13,9366,0,11111]
[12,9465,13,9474,13,9478,14,9483,13,9488,0,11111]
[12,9593,13,9605,13,9614,14,9620,13,9624,0,11111]
[12,9726,13,9730,13,9735,14,9739,13,9751,1,11111]
[12,9854,13,9859,13,9864,14,9871,13,9877,1,11111]
[12,9990,13,9995,24,10021,23,10027,24,10044,1,11222]
[12,10162,13,10171,13,10178,14,10189,13,10199,0,11111]
[12,10300,13,10305,13,10323,23,10350,24,10371,0,11122]
[12,10473,13,10477,13,10481,14,10486,13,10492,0,11111]
[12,10592,13,10596,13,10601,14,10605,24,10629,1,11112]
[12,10729,13,10739,13,10744,14,10757,13,10762,0,11111]
[12,10861,13,10866,13,10871,14,10876,13,10884,0,11111]
[12,10983,13,10988,13,10993,14,10999,13,11004,0,11111]
[12,11104,13,11108,13,11113,14,11118,13,11126,0,11111]
[12,11225,13,11230,13,11235,14,11239,13,11245,0,11111]
[12,11344,13,11350,13,11367,14,11373,13,11379,1,11111]
[12,11474,13,11479,13,11484,14,11490,13,11495,0,11111]
[12,11600,13,11605,13,11610,14,11615,24,11634,0,11112]
[12,11740,13,11745,13,11754,14,11759,24,11780,0,11112]
[12,11903,13,11922,13,11927,23,11941,24,11949,0,11122]
[12,12052,13,12057,13,12062,14,12076,13,12085,0,11111]
[12,12184,13,12194,13,12198,14,12203,24,12226,0,11112]
[12,12332,13,12336,13,12341,14,12346,13,12352,1,11111]
[12,12448,13,12462,13,12467,23,12497,24,12504,0,11122]
[12,12603,13,12607,13,12612,14,12617,24,12641,0,11112]
[12,12749,13,12754,13,12763,14,12768,13,12781,0,11111]
[12,12875,13,12879,13,12883,14,12887,13,12891,0,11111]
[12,12990,13,12995,13,13000,14,13005,13,13010,0,11111]
[12,13110,13,13114,13,13119,14,13125,13,13130,0,11111]
[12,13229,13,13234,13,13239,14,13243,13,13248,0,11111]
[12,13356,13,13366,13,13370,23,13386,24,13399,0,11122]
[12,13511,13,13516,13,13524,14,13530,13,13539,1,11111]
[12,13641,13,13646,13,13656,14,13661,13,13666,0,11111]
[12,13770,13,13782,13,13788,14,13793,13,13799,0,11111]
[12,13898,13,13903,13,13908,14,13914,13,13927,1,11111]
[12,14020,13,14025,13,14030,14,14034,13,14039,0,11111]
[12,14146,13,14152,13,14157,14,14166,13,14171,0,11111]
[12,14278,13,14283,13,14288,14,14294,13,14311,0,11111]
[12,14427,13,14433,13,14440,14,14452,13,14465,0,11111]
[12,14575,13,14580,13,14586,14,14595,13,14600,0,11111]
[12,14700,13,14706,13,14711,14,14715,13,14725,0,11111]
[12,14834,13,14839,13,14844,14,14851,13,14857,1,11111]
[12,14962,13,14967,13,14978,14,14994,13,15005,0,11111]
[12,15113,13,15117,13,15123,14,15127,13,15135,0,11111]
[12,15247,13,15251,13,15261,14,15272,13,15277,0,11111]
[12,15379,13,15389,13,15395,14,15399,13,15411,0,11111]
[12,15511,13,15516,13,15523,14,15533,13,15539,0,11111]
[12,15647,13,15654,13,15659,14,15670,13,15674,1,11111]
[12,15798,13,15803,13,15810,14,15824,13,15829,1,11111]
[12,15927,13,15941,13,15947,23,15988,24,15995,1,11122]
[12,16095,13,16100,13,16109,14,16114,13,16118,0,11111]
[12,16220,13,16226,13,16231,14,16236,13,16241,0,11111]
[12,16341,13,16345,13,16349,14,16357,13,16361,1,11111]
[12,16467,13,16477,13,16482,14,16489,13,16494,0,11111]
[12,16595,13,16599,13,16604,14,16609,13,16614,0,11111]
[12,16711,13,16717,13,16722,14,16726,13,16730,0,11111]
[12,16841,13,16849,13,16853,14,16858,13,16871,0,11111]
[12,16979,13,16992,13,16998,14,17003,13,17011,0,11111]
[12,17110,13,17116,13,17121,14,17125,13,17130,0,11111]
[12,17230,13,17235,13,17239,14,17244,13,17252,0,11111]
[12,17355,13,17361,13,17366,14,17372,13,17381,1,11111]
[12,17484,13,17492,13,17498,14,17503,13,17508,0,11111]
[12,17609,13,17617,13,17622,14,17626,13,17636,0,11111]
[12,17741,13,17746,13,17751,14,17756,13,17762,0,11111]
[12,17868,13,17874,13,17878,14,17883,13,17888,0,11111]
[12,17996,13,18001,13,18013,14,18021,13,18036,0,11111]
[12,18139,13,18143,13,18147,14,18158,13,18179,0,11111]
[12,18279,13,18283,13,18288,14,18295,13,18300,0,11111]
[12,18407,13,18411,13,18417,14,18422,13,18432,0,11111]
[12,18537,13,18548,13,18565,14,18586,13,18598,1,11111]
[12,18705,13,18714,13,18720,14,18734,13,18739,0,11111]
[12,18842,13,18852,13,18857,14,18863,13,18874,0,11111]
[12,18979,13,18983,13,18994,14,18998,13,19007,1,11111]
[12,19100,13,19105,13,19118,14,19122,13,19138,0,11111]
[12,19236,13,19241,13,19246,14,19258,13,19273,0,11111]
[12,19380,13,19385,13,19389,14,19398,13,19403,0,11111]
[12,19519,13,19532,13,19537,23,19559,24,19578,1,11122]
[12,19675,13,19685,13,19690,14,19695,24,19717,0,11112]
[12,19833,13,19848,13,19853,14,19868,13,19873,0,11111]
[12,19973,13,19978,13,19987,14,19992,13,19996,0,11111]
[12,20108,13,20113,13,20117,14,20122,13,20127,0,11111]
[12,20235,13,20240,13,20255,14,20264,13,20277,0,11111]
[12,20376,13,20380,13,20384,14,20389,13,20393,0,11111]
[12,20498,13,20508,13,20519,14,20537,13,20541,0,11111]
[12,20646,13,20651,13,20655,14,20660,13,20664,1,11111]
[12,20759,13,20764,13,20768,14,20773,13,20778,0,11111]
[12,20878,13,20882,13,20894,14,20902,13,20908,0,11111]
[12,21023,13,21035,13,21045,14,21049,13,21053,0,11111]
[12,21159,13,21164,13,21174,14,21184,13,21191,1,11111]
[12,21292,13,21303,13,21307,14,21312,13,21321,0,11111]
[12,21424,13,21434,13,21444,14,21455,13,21463,0,11111]
[12,21574,13,21579,13,21591,14,21596,13,21601,0,11111]
[12,21701,13,21706,13,21711,14,21716,13,21727,1,11111]
[12,21826,13,21832,13,21842,14,21849,13,21857,0,11111]
[12,21960,13,21969,13,21974,14,21981,13,21985,0,11111]
[12,22092,13,22098,13,22102,14,22108,13,22114,0,11111]
[12,22222,13,22227,13,22233,14,22238,13,22243,0,11111]
[12,22343,13,22348,13,22353,14,22358,13,22366,1,11111]
[12,22470,13,22485,13,22490,23,22513,24,22519,0,11122]
[12,22624,13,22629,13,22634,14,22649,13,22654,0,11111]
[12,22753,13,22757,13,22762,14,22767,13,22771,0,11111]
[12,22872,13,22877,13,22887,14,22896,13,22907,0,11111]
[12,23014,13,23020,13,23024,14,23046,13,23062,1,11111]
[12,23161,13,23165,13,23170,14,23175,13,23190,0,11111]
[12,23297,13,23302,13,23306,14,23311,13,23316,1,11111]
[12,23411,13,23420,13,23425,14,23430,13,23435,1,11111]
[12,23534,13,23539,13,23544,14,23550,13,23556,0,11111]
[12,23662,13,23671,13,23679,14,23692,13,23711,0,11111]
[12,23820,13,23827,13,23831,14,23837,13,23843,0,11111]
[12,23946,13,23951,13,23956,14,23960,13,23965,null,11111]

{"sheet":"!MC02A20.010","index":5,"n_rows":188,"n_cols":48,"rows_kept":188,"cut":false,"hidden":false,"merged":[[4,39,4,42],[5,39,5,40],[4,44,4,47],[5,44,5,45],[4,24,4,27],[5,24,5,25],[4,29,4,32],[5,29,5,30],[4,34,4,37],[5,34,5,35],[1,1,1,2],[5,13,5,14],[42,13,42,14],[43,13,43,14],[4,19,4,22],[5,19,5,20]]}
["Report for:!MC02A20.010"]
["Date:","<date>"]
["Hen:","<hen>",null,null,null,"Correct Sequence",{"$f":"Start!J2","v":21121},null,null,null,null,null,null,null,null,"Total Sequences in Data",{"$f":"4994-COUNTBLANK(L7:L5000)","v":182},null,null,null,null,"Total Sequences in Block Data",{"$f":"COUNTA(L7:L36)","v":30},null,null,null,"Total Sequences in Block Data",{"$f":"COUNTA(L37:L67)","v":31},null,null,null,"Total Sequences in Block Data",{"$f":"COUNTA(L68:L97)","v":30},null,null,null,"Total Sequences in Block Data",{"$f":"COUNTA(L98:L127)","v":30},null,null,null,"Total Sequences in Block Data",{"$f":"COUNTA(L128:L158)","v":31},null,null,null,"Total Sequences in Block Data",{"$f":"COUNTA(L159:L188)","v":30}]
[null,null,null,null,null,null,null,null,null,null,null,null,null,null,null,"Total Sequences in Summary",{"$f":"SUM(O7:O38)","v":182},null,null,null,null,"Total Sequences in Block Summary",{"$f":"SUM(U7:U38)","v":30},null,null,null,"Total Sequences in Block Summary",{"$f":"SUM(Z7:Z38)","v":31},null,null,null,"Total Sequences in Block Summary",{"$f":"SUM(AE7:AE38)","v":30},null,null,null,"Total Sequences in Block Summary",{"$f":"SUM(AJ7:AJ38)","v":30},null,null,null,"Total Sequences in Block Summary",{"$f":"SUM(AO7:AO38)","v":31},null,null,null,"Total Sequences in Block Summary",{"$f":"SUM(AT7:AT38)","v":30}]
[null,null,null,null,null,null,null,null,null,null,null,null,null,null,null,null,null,null,null,"Block 1",null,null,null,null,"Block 2",null,null,null,null,"Block 3",null,null,null,null,"Block 4",null,null,null,null,"Block 5",null,null,null,null,"Block 6"]
["Sequence\nComponent\n1","Time\n1","Sequence\nComponent\n2","Time\n2","Sequence\nComponent\n3","Time\n3","Sequence\nComponent\n4","Time\n4","Sequence\nComponent\n5","Time\n5","Correct?\n0=No 1=Yes","Sequence",null,"Frequency",null,"Relative Frequency","Variability",null,null,"Frequency",null,"Relative Frequency","Variability",null,"Frequency",null,"Relative Frequency","Variability",null,"Frequency",null,"Relative Frequency","Variability",null,"Frequency",null,"Relative Frequency","Variability",null,"Frequency",null,"Relative Frequency","Variability",null,"Frequency",null,"Relative Frequency","Variability"]
[12,18,13,30,13,57,14,64,13,69,0,11111,null,11111,{"$f":"COUNTIF($L$7:$L$500,N7)","v":171},{"$f":"O7/$Q$4","v":0.93956043956043955},{"$f":"IF(P7=0,0,(P7*((LOG(P7))/LOG(2))))","v":-8.4506062793893028E-2},null,null,{"$f":"N7","v":11111},{"$f":"COUNTIF(L7:L36,T7)","v":25},{"$f":"U7/(W4-U25)","v":0.83333333333333337},{"$f":"IF(V7=0,0,(V7*((LOG(V7))/LOG(2))))","v":-0.21919533819482812},null,{"$f":"N7","v":11111},{"$f":"COUNTIF(L37:L67,Y7)","v":30},{"$f":"Z7/(AB4-Z25)","v":0.967741935483871},{"$f":"IF(AA7=0,0,(AA7*((LOG(AA7))/LOG(2))))","v":-4.5779723979054811E-2},null,{"$f":"N7","v":11111},{"$f":"COUNTIF(L68:L97,AD7)","v":28},{"$f":"AE7/(AG4-AE25)","v":0.93333333333333335},{"$f":"IF(AF7=0,0,(AF7*((LOG(AF7))/LOG(2))))","v":-9.2899961980853443E-2},null,{"$f":"N7","v":11111},{"$f":"COUNTIF(L98:L127,AI7)","v":29},{"$f":"AJ7/(AL4-AJ25)","v":0.96666666666666667},{"$f":"IF(AK7=0,0,(AK7*((LOG(AK7))/LOG(2))))","v":-4.727928046491485E-2},null,{"$f":"N7","v":11111},{"$f":"COUNTIF(L128:L158,AN7)","v":30},{"$f":"AO7/(AQ4-AO25)","v":0.967741935483871},{"$f":"IF(AP7=0,0,(AP7*((LOG(AP7))/LOG(2))))","v":-4.5779723979054811E-2},null,{"$f":"N7","v":11111},{"$f":"COUNTIF(L159:L188,AS7)","v":29},{"$f":"AT7/(AV4-AT25)","v":0.96666666666666667},{"$f":"IF(AU7=0,0,(AU7*((LOG(AU7))/LOG(2))))","v":-4.727928046491485E-2}]
[12,168,13,174,13,179,14,185,13,192,0,11111,null,11112,{"$f":"COUNTIF($L$7:$L$500,N8)","v":2},{"$f":"O8/$Q$4","v":1.098901098901099E-2},{"$f":"IF(P8=0,0,(P8*((LOG(P8))/LOG(2))))","v":-7.1514226815370299E-2},null,null,{"$f":"N8","v":11112},{"$f":"COUNTIF(L7:L36,T8)","v":1},{"$f":"U8/(W4-U25)","v":3.3333333333333333E-2},{"$f":"IF(V8=0,0,(V8*((LOG(V8))/LOG(2))))","v":-0.16356301985361729},null,{"$f":"N8","v":11112},{"$f":"COUNTIF(L37:L67,Y8)","v":0},{"$f":"Z8/(AB4-Z25)","v":0},{"$f":"IF(AA8=0,0,(AA8*((LOG(AA8))/LOG(2))))","v":0},null,{"$f":"N8","v":11112},{"$f":"COUNTIF(L68:L97,AD8)","v":1},{"$f":"AE8/(AG4-AE25)","v":3.3333333333333333E-2},{"$f":"IF(AF8=0,0,(AF8*((LOG(AF8))/LOG(2))))","v":-0.16356301985361729},null,{"$f":"N8","v":11112},{"$f":"COUNTIF(L98:L127,AI8)","v":0},{"$f":"AJ8/(AL4-AJ25)","v":0},{"$f":"IF(AK8=0,0,(AK8*((LOG(AK8))/LOG(2))))","v":0},null,{"$f":"N8","v":11112},{"$f":"COUNTIF(L128:L158,AN8)","v":0},{"$f":"AO8/(AQ4-AO25)","v":0},{"$f":"IF(AP8=0,0,(AP8*((LOG(AP8))/LOG(2))))","v":0},null,{"$f":"N8","v":11112},{"$f":"COUNTIF(L159:L188,AS8)","v":0},{"$f":"AT8/(AV4-AT25)","v":0},{"$f":"IF(AU8=0,0,(AU8*((LOG(AU8))/LOG(2))))","v":0}]
[12,291,13,297,13,303,23,315,24,324,0,11122,null,11121,{"$f":"COUNTIF($L$7:$L$500,N9)","v":0},{"$f":"O9/$Q$4","v":0},{"$f":"IF(P9=0,0,(P9*((LOG(P9))/LOG(2))))","v":0},null,null,{"$f":"N9","v":11121},{"$f":"COUNTIF(L7:L36,T9)","v":0},{"$f":"U9/(W4-U25)","v":0},{"$f":"IF(V9=0,0,(V9*((LOG(V9))/LOG(2))))","v":0},null,{"$f":"N9","v":11121},{"$f":"COUNTIF(L37:L67,Y9)","v":0},{"$f":"Z9/(AB4-Z25)","v":0},{"$f":"IF(AA9=0,0,(AA9*((LOG(AA9))/LOG(2))))","v":0},null,{"$f":"N9","v":11121},{"$f":"COUNTIF(L68:L97,AD9)","v":0},{"$f":"AE9/(AG4-AE25)","v":0},{"$f":"IF(AF9=0,0,(AF9*((LOG(AF9))/LOG(2))))","v":0},null,{"$f":"N9","v":11121},{"$f":"COUNTIF(L98:L127,AI9)","v":0},{"$f":"AJ9/(AL4-AJ25)","v":0},{"$f":"IF(AK9=0,0,(AK9*((LOG(AK9))/LOG(2))))","v":0},null,{"$f":"N9","v":11121},{"$f":"COUNTIF(L128:L158,AN9)","v":0},{"$f":"AO9/(AQ4-AO25)","v":0},{"$f":"IF(AP9=0,0,(AP9*((LOG(AP9))/LOG(2))))","v":0},null,{"$f":"N9","v":11121},{"$f":"COUNTIF(L159:L188,AS9)","v":0},{"$f":"AT9/(AV4-AT25)","v":0},{"$f":"IF(AU9=0,0,(AU9*((LOG(AU9))/LOG(2))))","v":0}]
[12,447,13,467,13,479,14,489,13,494,0,11111,null,11122,{"$f":"COUNTIF($L$7:$L$500,N10)","v":3},{"$f":"O10/$Q$4","v":1.6483516483516484E-2},{"$f":"IF(P10=0,0,(P10*((LOG(P10))/LOG(2))))","v":-9.7629101200179216E-2},null,null,{"$f":"N10","v":11122},{"$f":"COUNTIF(L7:L36,T10)","v":2},{"$f":"U10/(W4-U25)","v":6.6666666666666666E-2},{"$f":"IF(V10=0,0,(V10*((LOG(V10))/LOG(2))))","v":-0.26045937304056793},null,{"$f":"N10","v":11122},{"$f":"COUNTIF(L37:L67,Y10)","v":0},{"$f":"Z10/(AB4-Z25)","v":0},{"$f":"IF(AA10=0,0,(AA10*((LOG(AA10))/LOG(2))))","v":0},null,{"$f":"N10","v":11122},{"$f":"COUNTIF(L68:L97,AD10)","v":0},{"$f":"AE10/(AG4-AE25)","v":0},{"$f":"IF(AF10=0,0,(AF10*((LOG(AF10))/LOG(2))))","v":0},null,{"$f":"N10","v":11122},{"$f":"COUNTIF(L98:L127,AI10)","v":0},{"$f":"AJ10/(AL4-AJ25)","v":0},{"$f":"IF(AK10=0,0,(AK10*((LOG(AK10))/LOG(2))))","v":0},null,{"$f":"N10","v":11122},{"$f":"COUNTIF(L128:L158,AN10)","v":1},{"$f":"AO10/(AQ4-AO25)","v":3.2258064516129031E-2},{"$f":"IF(AP10=0,0,(AP10*((LOG(AP10))/LOG(2))))","v":-0.15981278420602821},null,{"$f":"N10","v":11122},{"$f":"COUNTIF(L159:L188,AS10)","v":0},{"$f":"AT10/(AV4-AT25)","v":0},{"$f":"IF(AU10=0,0,(AU10*((LOG(AU10))/LOG(2))))","v":0}]
[12,595,13,601,13,609,23,624,24,633,0,11122,null,11211,{"$f":"COUNTIF($L$7:$L$500,N11)","v":0},{"$f":"O11/$Q$4","v":0},{"$f":"IF(P11=0,0,(P11*((LOG(P11))/LOG(2))))","v":0},null,null,{"$f":"N11","v":11211},{"$f":"COUNTIF(L7:L36,T11)","v":0},{"$f":"U11/(W4-U25)","v":0},{"$f":"IF(V11=0,0,(V11*((LOG(V11))/LOG(2))))","v":0},null,{"$f":"N11","v":11211},{"$f":"COUNTIF(L37:L67,Y11)","v":0},{"$f":"Z11/(AB4-Z25)","v":0},{"$f":"IF(AA11=0,0,(AA11*((LOG(AA11))/LOG(2))))","v":0},null,{"$f":"N11","v":11211},{"$f":"COUNTIF(L68:L97,AD11)","v":0},{"$f":"AE11/(AG4-AE25)","v":0},{"$f":"IF(AF11=0,0,(AF11*((LOG(AF11))/LOG(2))))","v":0},null,{"$f":"N11","v":11211},{"$f":"COUNTIF(L98:L127,AI11)","v":0},{"$f":"AJ11/(AL4-AJ25)","v":0},{"$f":"IF(AK11=0,0,(AK11*((LOG(AK11))/LOG(2))))","v":0},null,{"$f":"N11","v":11211},{"$f":"COUNTIF(L128:L158,AN11)","v":0},{"$f":"AO11/(AQ4-AO25)","v":0},{"$f":"IF(AP11=0,0,(AP11*((LOG(AP11))/LOG(2))))","v":0},null,{"$f":"N11","v":11211},{"$f":"COUNTIF(L159:L188,AS11)","v":0},{"$f":"AT11/(AV4-AT25)","v":0},{"$f":"IF(AU11=0,0,(AU11*((LOG(AU11))/LOG(2))))","v":0}]
[12,742,13,765,13,772,14,783,13,788,1,11111,null,11212,{"$f":"COUNTIF($L$7:$L$500,N12)","v":0},{"$f":"O12/$Q$4","v":0},{"$f":"IF(P12=0,0,(P12*((LOG(P12))/LOG(2))))","v":0},null,null,{"$f":"N12","v":11212},{"$f":"COUNTIF(L7:L36,T12)","v":0},{"$f":"U12/(W4-U25)","v":0},{"$f":"IF(V12=0,0,(V12*((LOG(V12))/LOG(2))))","v":0},null,{"$f":"N12","v":11212},{"$f":"COUNTIF(L37:L67,Y12)","v":0},{"$f":"Z12/(AB4-Z25)","v":0},{"$f":"IF(AA12=0,0,(AA12*((LOG(AA12))/LOG(2))))","v":0},null,{"$f":"N12","v":11212},{"$f":"COUNTIF(L68:L97,AD12)","v":0},{"$f":"AE12/(AG4-AE25)","v":0},{"$f":"IF(AF12=0,0,(AF12*((LOG(AF12))/LOG(2))))","v":0},null,{"$f":"N12","v":11212},{"$f":"COUNTIF(L98:L127,AI12)","v":0},{"$f":"AJ12/(AL4-AJ25)","v":0},{"$f":"IF(AK12=0,0,(AK12*((LOG(AK12))/LOG(2))))","v":0},null,{"$f":"N12","v":11212},{"$f":"COUNTIF(L128:L158,AN12)","v":0},{"$f":"AO12/(AQ4-AO25)","v":0},{"$f":"IF(AP12=0,0,(AP12*((LOG(AP12))/LOG(2))))","v":0},null,{"$f":"N12","v":11212},{"$f":"COUNTIF(L159:L188,AS12)","v":0},{"$f":"AT12/(AV4-AT25)","v":0},{"$f":"IF(AU12=0,0,(AU12*((LOG(AU12))/LOG(2))))","v":0}]
[12,886,13,896,24,912,23,918,24,924,0,11222,null,11221,{"$f":"COUNTIF($L$7:$L$500,N13)","v":1},{"$f":"O13/$Q$4","v":5.4945054945054949E-3},{"$f":"IF(P13=0,0,(P13*((LOG(P13))/LOG(2))))","v":-4.1251618902190638E-2},null,null,{"$f":"N13","v":11221},{"$f":"COUNTIF(L7:L36,T13)","v":1},{"$f":"U13/(W4-U25)","v":3.3333333333333333E-2},{"$f":"IF(V13=0,0,(V13*((LOG(V13))/LOG(2))))","v":-0.16356301985361729},null,{"$f":"N13","v":11221},{"$f":"COUNTIF(L37:L67,Y13)","v":0},{"$f":"Z13/(AB4-Z25)","v":0},{"$f":"IF(AA13=0,0,(AA13*((LOG(AA13))/LOG(2))))","v":0},null,{"$f":"N13","v":11221},{"$f":"COUNTIF(L68:L97,AD13)","v":0},{"$f":"AE13/(AG4-AE25)","v":0},{"$f":"IF(AF13=0,0,(AF13*((LOG(AF13))/LOG(2))))","v":0},null,{"$f":"N13","v":11221},{"$f":"COUNTIF(L98:L127,AI13)","v":0},{"$f":"AJ13/(AL4-AJ25)","v":0},{"$f":"IF(AK13=0,0,(AK13*((LOG(AK13))/LOG(2))))","v":0},null,{"$f":"N13","v":11221},{"$f":"COUNTIF(L128:L158,AN13)","v":0},{"$f":"AO13/(AQ4-AO25)","v":0},{"$f":"IF(AP13=0,0,(AP13*((LOG(AP13))/LOG(2))))","v":0},null,{"$f":"N13","v":11221},{"$f":"COUNTIF(L159:L188,AS13)","v":0},{"$f":"AT13/(AV4-AT25)","v":0},{"$f":"IF(AU13=0,0,(AU13*((LOG(AU13))/LOG(2))))","v":0}]
[12,1025,13,1040,24,1055,23,1063,13,1083,0,11221,null,11222,{"$f":"COUNTIF($L$7:$L$500,N14)","v":3},{"$f":"O14/$Q$4","v":1.6483516483516484E-2},{"$f":"IF(P14=0,0,(P14*((LOG(P14))/LOG(2))))","v":-9.7629101200179216E-2},null,null,{"$f":"N14","v":11222},{"$f":"COUNTIF(L7:L36,T14)","v":1},{"$f":"U14/(W4-U25)","v":3.3333333333333333E-2},{"$f":"IF(V14=0,0,(V14*((LOG(V14))/LOG(2))))","v":-0.16356301985361729},null,{"$f":"N14","v":11222},{"$f":"COUNTIF(L37:L67,Y14)","v":1},{"$f":"Z14/(AB4-Z25)","v":3.2258064516129031E-2},{"$f":"IF(AA14=0,0,(AA14*((LOG(AA14))/LOG(2))))","v":-0.15981278420602821},null,{"$f":"N14","v":11222},{"$f":"COUNTIF(L68:L97,AD14)","v":0},{"$f":"AE14/(AG4-AE25)","v":0},{"$f":"IF(AF14=0,0,(AF14*((LOG(AF14))/LOG(2))))","v":0},null,{"$f":"N14","v":11222},{"$f":"COUNTIF(L98:L127,AI14)","v":1},{"$f":"AJ14/(AL4-AJ25)","v":3.3333333333333333E-2},{"$f":"IF(AK14=0,0,(AK14*((LOG(AK14))/LOG(2))))","v":-0.16356301985361729},null,{"$f":"N14","v":11222},{"$f":"COUNTIF(L128:L158,AN14)","v":0},{"$f":"AO14/(AQ4-AO25)","v":0},{"$f":"IF(AP14=0,0,(AP14*((LOG(AP14))/LOG(2))))","v":0},null,{"$f":"N14","v":11222},{"$f":"COUNTIF(L159:L188,AS14)","v":0},{"$f":"AT14/(AV4-AT25)","v":0},{"$f":"IF(AU14=0,0,(AU14*((LOG(AU14))/LOG(2))))","v":0}]
[12,1186,13,1196,13,1201,14,1207,13,1216,0,11111,null,12111,{"$f":"COUNTIF($L$7:$L$500,N15)","v":0},{"$f":"O15/$Q$4","v":0},{"$f":"IF(P15=0,0,(P15*((LOG(P15))/LOG(2))))","v":0},null,null,{"$f":"N15","v":12111},{"$f":"COUNTIF(L7:L36,T15)","v":0},{"$f":"U15/(W4-U25)","v":0},{"$f":"IF(V15=0,0,(V15*((LOG(V15))/LOG(2))))","v":0},null,{"$f":"N15","v":12111},{"$f":"COUNTIF(L37:L67,Y15)","v":0},{"$f":"Z15/(AB4-Z25)","v":0},{"$f":"IF(AA15=0,0,(AA15*((LOG(AA15))/LOG(2))))","v":0},null,{"$f":"N15","v":12111},{"$f":"COUNTIF(L68:L97,AD15)","v":0},{"$f":"AE15/(AG4-AE25)","v":0},{"$f":"IF(AF15=0,0,(AF15*((LOG(AF15))/LOG(2))))","v":0},null,{"$f":"N15","v":12111},{"$f":"COUNTIF(L98:L127,AI15)","v":0},{"$f":"AJ15/(AL4-AJ25)","v":0},{"$f":"IF(AK15=0,0,(AK15*((LOG(AK15))/LOG(2))))","v":0},null,{"$f":"N15","v":12111},{"$f":"COUNTIF(L128:L158,AN15)","v":0},{"$f":"AO15/(AQ4-AO25)","v":0},{"$f":"IF(AP15=0,0,(AP15*((LOG(AP15))/LOG(2))))","v":0},null,{"$f":"N15","v":12111},{"$f":"COUNTIF(L159:L188,AS15)","v":0},{"$f":"AT15/(AV4-AT25)","v":0},{"$f":"IF(AU15=0,0,(AU15*((LOG(AU15))/LOG(2))))","v":0}]
[12,1322,13,1327,13,1332,14,1341,24,1357,0,11112,null,12112,{"$f":"COUNTIF($L$7:$L$500,N16)","v":0},{"$f":"O16/$Q$4","v":0},{"$f":"IF(P16=0,0,(P16*((LOG(P16))/LOG(2))))","v":0},null,null,{"$f":"N16","v":12112},{"$f":"COUNTIF(L7:L36,T16)","v":0},{"$f":"U16/(W4-U25)","v":0},{"$f":"IF(V16=0,0,(V16*((LOG(V16))/LOG(2))))","v":0},null,{"$f":"N16","v":12112},{"$f":"COUNTIF(L37:L67,Y16)","v":0},{"$f":"Z16/(AB4-Z25)","v":0},{"$f":"IF(AA16=0,0,(AA16*((LOG(AA16))/LOG(2))))","v":0},null,{"$f":"N16","v":12112},{"$f":"COUNTIF(L68:L97,AD16)","v":0},{"$f":"AE16/(AG4-AE25)","v":0},{"$f":"IF(AF16=0,0,(AF16*((LOG(AF16))/LOG(2))))","v":0},null,{"$f":"N16","v":12112},{"$f":"COUNTIF(L98:L127,AI16)","v":0},{"$f":"AJ16/(AL4-AJ25)","v":0},{"$f":"IF(AK16=0,0,(AK16*((LOG(AK16))/LOG(2))))","v":0},null,{"$f":"N16","v":12112},{"$f":"COUNTIF(L128:L158,AN16)","v":0},{"$f":"AO16/(AQ4-AO25)","v":0},{"$f":"IF(AP16=0,0,(AP16*((LOG(AP16))/LOG(2))))","v":0},null,{"$f":"N16","v":12112},{"$f":"COUNTIF(L159:L188,AS16)","v":0},{"$f":"AT16/(AV4-AT25)","v":0},{"$f":"IF(AU16=0,0,(AU16*((LOG(AU16))/LOG(2))))","v":0}]
[12,1458,13,1462,13,1468,14,1473,13,1480,0,11111,null,12121,{"$f":"COUNTIF($L$7:$L$500,N17)","v":0},{"$f":"O17/$Q$4","v":0},{"$f":"IF(P17=0,0,(P17*((LOG(P17))/LOG(2))))","v":0},null,null,{"$f":"N17","v":12121},{"$f":"COUNTIF(L7:L36,T17)","v":0},{"$f":"U17/(W4-U25)","v":0},{"$f":"IF(V17=0,0,(V17*((LOG(V17))/LOG(2))))","v":0},null,{"$f":"N17","v":12121},{"$f":"COUNTIF(L37:L67,Y17)","v":0},{"$f":"Z17/(AB4-Z25)","v":0},{"$f":"IF(AA17=0,0,(AA17*((LOG(AA17))/LOG(2))))","v":0},null,{"$f":"N17","v":12121},{"$f":"COUNTIF(L68:L97,AD17)","v":0},{"$f":"AE17/(AG4-AE25)","v":0},{"$f":"IF(AF17=0,0,(AF17*((LOG(AF17))/LOG(2))))","v":0},null,{"$f":"N17","v":12121},{"$f":"COUNTIF(L98:L127,AI17)","v":0},{"$f":"AJ17/(AL4-AJ25)","v":0},{"$f":"IF(AK17=0,0,(AK17*((LOG(AK17))/LOG(2))))","v":0},null,{"$f":"N17","v":12121},{"$f":"COUNTIF(L128:L158,AN17)","v":0},{"$f":"AO17/(AQ4-AO25)","v":0},{"$f":"IF(AP17=0,0,(AP17*((LOG(AP17))/LOG(2))))","v":0},null,{"$f":"N17","v":12121},{"$f":"COUNTIF(L159:L188,AS17)","v":0},{"$f":"AT17/(AV4-AT25)","v":0},{"$f":"IF(AU17=0,0,(AU17*((LOG(AU17))/LOG(2))))","v":0}]
[12,1600,13,1614,13,1619,14,1628,13,1633,0,11111,null,12122,{"$f":"COUNTIF($L$7:$L$500,N18)","v":0},{"$f":"O18/$Q$4","v":0},{"$f":"IF(P18=0,0,(P18*((LOG(P18))/LOG(2))))","v":0},null,null,{"$f":"N18","v":12122},{"$f":"COUNTIF(L7:L36,T18)","v":0},{"$f":"U18/(W4-U25)","v":0},{"$f":"IF(V18=0,0,(V18*((LOG(V18))/LOG(2))))","v":0},null,{"$f":"N18","v":12122},{"$f":"COUNTIF(L37:L67,Y18)","v":0},{"$f":"Z18/(AB4-Z25)","v":0},{"$f":"IF(AA18=0,0,(AA18*((LOG(AA18))/LOG(2))))","v":0},null,{"$f":"N18","v":12122},{"$f":"COUNTIF(L68:L97,AD18)","v":0},{"$f":"AE18/(AG4-AE25)","v":0},{"$f":"IF(AF18=0,0,(AF18*((LOG(AF18))/LOG(2))))","v":0},null,{"$f":"N18","v":12122},{"$f":"COUNTIF(L98:L127,AI18)","v":0},{"$f":"AJ18/(AL4-AJ25)","v":0},{"$f":"IF(AK18=0,0,(AK18*((LOG(AK18))/LOG(2))))","v":0},null,{"$f":"N18","v":12122},{"$f":"COUNTIF(L128:L158,AN18)","v":0},{"$f":"AO18/(AQ4-AO25)","v":0},{"$f":"IF(AP18=0,0,(AP18*((LOG(AP18))/LOG(2))))","v":0},null,{"$f":"N18","v":12122},{"$f":"COUNTIF(L159:L188,AS18)","v":0},{"$f":"AT18/(AV4-AT25)","v":0},{"$f":"IF(AU18=0,0,(AU18*((LOG(AU18))/LOG(2))))","v":0}]
[12,1732,13,1737,13,1741,14,1752,13,1758,0,11111,null,12211,{"$f":"COUNTIF($L$7:$L$500,N19)","v":0},{"$f":"O19/$Q$4","v":0},{"$f":"IF(P19=0,0,(P19*((LOG(P19))/LOG(2))))","v":0},null,null,{"$f":"N19","v":12211},{"$f":"COUNTIF(L7:L36,T19)","v":0},{"$f":"U19/(W4-U25)","v":0},{"$f":"IF(V19=0,0,(V19*((LOG(V19))/LOG(2))))","v":0},null,{"$f":"N19","v":12211},{"$f":"COUNTIF(L37:L67,Y19)","v":0},{"$f":"Z19/(AB4-Z25)","v":0},{"$f":"IF(AA19=0,0,(AA19*((LOG(AA19))/LOG(2))))","v":0},null,{"$f":"N19","v":12211},{"$f":"COUNTIF(L68:L97,AD19)","v":0},{"$f":"AE19/(AG4-AE25)","v":0},{"$f":"IF(AF19=0,0,(AF19*((LOG(AF19))/LOG(2))))","v":0},null,{"$f":"N19","v":12211},{"$f":"COUNTIF(L98:L127,AI19)","v":0},{"$f":"AJ19/(AL4-AJ25)","v":0},{"$f":"IF(AK19=0,0,(AK19*((LOG(AK19))/LOG(2))))","v":0},null,{"$f":"N19","v":12211},{"$f":"COUNTIF(L128:L158,AN19)","v":0},{"$f":"AO19/(AQ4-AO25)","v":0},{"$f":"IF(AP19=0,0,(AP19*((LOG(AP19))/LOG(2))))","v":0},null,{"$f":"N19","v":12211},{"$f":"COUNTIF(L159:L188,AS19)","v":0},{"$f":"AT19/(AV4-AT25)","v":0},{"$f":"IF(AU19=0,0,(AU19*((LOG(AU19))/LOG(2))))","v":0}]
[12,1858,13,1862,13,1867,14,1872,13,1878,1,11111,null,12212,{"$f":"COUNTIF($L$7:$L$500,N20)","v":0},{"$f":"O20/$Q$4","v":0},{"$f":"IF(P20=0,0,(P20*((LOG(P20))/LOG(2))))","v":0},null,null,{"$f":"N20","v":12212},{"$f":"COUNTIF(L7:L36,T20)","v":0},{"$f":"U20/(W4-U25)","v":0},{"$f":"IF(V20=0,0,(V20*((LOG(V20))/LOG(2))))","v":0},null,{"$f":"N20","v":12212},{"$f":"COUNTIF(L37:L67,Y20)","v":0},{"$f":"Z20/(AB4-Z25)","v":0},{"$f":"IF(AA20=0,0,(AA20*((LOG(AA20))/LOG(2))))","v":0},null,{"$f":"N20","v":12212},{"$f":"COUNTIF(L68:L97,AD20)","v":0},{"$f":"AE20/(AG4-AE25)","v":0},{"$f":"IF(AF20=0,0,(AF20*((LOG(AF20))/LOG(2))))","v":0},null,{"$f":"N20","v":12212},{"$f":"COUNTIF(L98:L127,AI20)","v":0},{"$f":"AJ20/(AL4-AJ25)","v":0},{"$f":"IF(AK20=0,0,(AK20*((LOG(AK20))/LOG(2))))","v":0},null,{"$f":"N20","v":12212},{"$f":"COUNTIF(L128:L158,AN20)","v":0},{"$f":"AO20/(AQ4-AO25)","v":0},{"$f":"IF(AP20=0,0,(AP20*((LOG(AP20))/LOG(2))))","v":0},null,{"$f":"N20","v":12212},{"$f":"COUNTIF(L159:L188,AS20)","v":0},{"$f":"AT20/(AV4-AT25)","v":0},{"$f":"IF(AU20=0,0,(AU20*((LOG(AU20))/LOG(2))))","v":0}]
[12,1973,13,1978,13,1989,14,2001,13,2010,1,11111,null,12221,{"$f":"COUNTIF($L$7:$L$500,N21)","v":0},{"$f":"O21/$Q$4","v":0},{"$f":"IF(P21=0,0,(P21*((LOG(P21))/LOG(2))))","v":0},null,null,{"$f":"N21","v":12221},{"$f":"COUNTIF(L7:L36,T21)","v":0},{"$f":"U21/(W4-U25)","v":0},{"$f":"IF(V21=0,0,(V21*((LOG(V21))/LOG(2))))","v":0},null,{"$f":"N21","v":12221},{"$f":"COUNTIF(L37:L67,Y21)","v":0},{"$f":"Z21/(AB4-Z25)","v":0},{"$f":"IF(AA21=0,0,(AA21*((LOG(AA21))/LOG(2))))","v":0},null,{"$f":"N21","v":12221},{"$f":"COUNTIF(L68:L97,AD21)","v":0},{"$f":"AE21/(AG4-AE25)","v":0},{"$f":"IF(AF21=0,0,(AF21*((LOG(AF21))/LOG(2))))","v":0},null,{"$f":"N21","v":12221},{"$f":"COUNTIF(L98:L127,AI21)","v":0},{"$f":"AJ21/(AL4-AJ25)","v":0},{"$f":"IF(AK21=0,0,(AK21*((LOG(AK21))/LOG(2))))","v":0},null,{"$f":"N21","v":12221},{"$f":"COUNTIF(L128:L158,AN21)","v":0},{"$f":"AO21/(AQ4-AO25)","v":0},{"$f":"IF(AP21=0,0,(AP21*((LOG(AP21))/LOG(2))))","v":0},null,{"$f":"N21","v":12221},{"$f":"COUNTIF(L159:L188,AS21)","v":0},{"$f":"AT21/(AV4-AT25)","v":0},{"$f":"IF(AU21=0,0,(AU21*((LOG(AU21))/LOG(2))))","v":0}]
[12,2109,13,2114,13,2119,14,2125,13,2130,0,11111,null,12222,{"$f":"COUNTIF($L$7:$L$500,N22)","v":0},{"$f":"O22/$Q$4","v":0},{"$f":"IF(P22=0,0,(P22*((LOG(P22))/LOG(2))))","v":0},null,null,{"$f":"N22","v":12222},{"$f":"COUNTIF(L7:L36,T22)","v":0},{"$f":"U22/(W4-U25)","v":0},{"$f":"IF(V22=0,0,(V22*((LOG(V22))/LOG(2))))","v":0},null,{"$f":"N22","v":12222},{"$f":"COUNTIF(L37:L67,Y22)","v":0},{"$f":"Z22/(AB4-Z25)","v":0},{"$f":"IF(AA22=0,0,(AA22*((LOG(AA22))/LOG(2))))","v":0},null,{"$f":"N22","v":12222},{"$f":"COUNTIF(L68:L97,AD22)","v":0},{"$f":"AE22/(AG4-AE25)","v":0},{"$f":"IF(AF22=0,0,(AF22*((LOG(AF22))/LOG(2))))","v":0},null,{"$f":"N22","v":12222},{"$f":"COUNTIF(L98:L127,AI22)","v":0},{"$f":"AJ22/(AL4-AJ25)","v":0},{"$f":"IF(AK22=0,0,(AK22*((LOG(AK22))/LOG(2))))","v":0},null,{"$f":"N22","v":12222},{"$f":"COUNTIF(L128:L158,AN22)","v":0},{"$f":"AO22/(AQ4-AO25)","v":0},{"$f":"IF(AP22=0,0,(AP22*((LOG(AP22))/LOG(2))))","v":0},null,{"$f":"N22","v":12222},{"$f":"COUNTIF(L159:L188,AS22)","v":0},{"$f":"AT22/(AV4-AT25)","v":0},{"$f":"IF(AU22=0,0,(AU22*((LOG(AU22))/LOG(2))))","v":0}]
[12,2244,13,2249,13,2254,14,2259,13,2264,0,11111,null,21111,{"$f":"COUNTIF($L$7:$L$500,N23)","v":0},{"$f":"O23/$Q$4","v":0},{"$f":"IF(P23=0,0,(P23*((LOG(P23))/LOG(2))))","v":0},null,null,{"$f":"N23","v":21111},{"$f":"COUNTIF(L7:L36,T23)","v":0},{"$f":"U23/(W4-U25)","v":0},{"$f":"IF(V23=0,0,(V23*((LOG(V23))/LOG(2))))","v":0},null,{"$f":"N23","v":21111},{"$f":"COUNTIF(L37:L67,Y23)","v":0},{"$f":"Z23/(AB4-Z25)","v":0},{"$f":"IF(AA23=0,0,(AA23*((LOG(AA23))/LOG(2))))","v":0},null,{"$f":"N23","v":21111},{"$f":"COUNTIF(L68:L97,AD23)","v":0},{"$f":"AE23/(AG4-AE25)","v":0},{"$f":"IF(AF23=0,0,(AF23*((LOG(AF23))/LOG(2))))","v":0},null,{"$f":"N23","v":21111},{"$f":"COUNTIF(L98:L127,AI23)","v":0},{"$f":"AJ23/(AL4-AJ25)","v":0},{"$f":"IF(AK23=0,0,(AK23*((LOG(AK23))/LOG(2))))","v":0},null,{"$f":"N23","v":21111},{"$f":"COUNTIF(L128:L158,AN23)","v":0},{"$f":"AO23/(AQ4-AO25)","v":0},{"$f":"IF(AP23=0,0,(AP23*((LOG(AP23))/LOG(2))))","v":0},null,{"$f":"N23","v":21111},{"$f":"COUNTIF(L159:L188,AS23)","v":0},{"$f":"AT23/(AV4-AT25)","v":0},{"$f":"IF(AU23=0,0,(AU23*((LOG(AU23))/LOG(2))))","v":0}]
[12,2375,13,2381,13,2387,14,2393,13,2398,0,11111,null,21112,{"$f":"COUNTIF($L$7:$L$500,N24)","v":0},{"$f":"O24/$Q$4","v":0},{"$f":"IF(P24=0,0,(P24*((LOG(P24))/LOG(2))))","v":0},null,null,{"$f":"N24","v":21112},{"$f":"COUNTIF(L7:L36,T24)","v":0},{"$f":"U24/(W4-U25)","v":0},{"$f":"IF(V24=0,0,(V24*((LOG(V24))/LOG(2))))","v":0},null,{"$f":"N24","v":21112},{"$f":"COUNTIF(L37:L67,Y24)","v":0},{"$f":"Z24/(AB4-Z25)","v":0},{"$f":"IF(AA24=0,0,(AA24*((LOG(AA24))/LOG(2))))","v":0},null,{"$f":"N24","v":21112},{"$f":"COUNTIF(L68:L97,AD24)","v":0},{"$f":"AE24/(AG4-AE25)","v":0},{"$f":"IF(AF24=0,0,(AF24*((LOG(AF24))/LOG(2))))","v":0},null,{"$f":"N24","v":21112},{"$f":"COUNTIF(L98:L127,AI24)","v":0},{"$f":"AJ24/(AL4-AJ25)","v":0},{"$f":"IF(AK24=0,0,(AK24*((LOG(AK24))/LOG(2))))","v":0},null,{"$f":"N24","v":21112},{"$f":"COUNTIF(L128:L158,AN24)","v":0},{"$f":"AO24/(AQ4-AO25)","v":0},{"$f":"IF(AP24=0,0,(AP24*((LOG(AP24))/LOG(2))))","v":0},null,{"$f":"N24","v":21112},{"$f":"COUNTIF(L159:L188,AS24)","v":0},{"$f":"AT24/(AV4-AT25)","v":0},{"$f":"IF(AU24=0,0,(AU24*((LOG(AU24))/LOG(2))))","v":0}]
[12,2502,13,2507,13,2512,14,2518,13,2523,0,11111,null,21121,{"$f":"COUNTIF($L$7:$L$500,N25)","v":0},{"$f":"O25/$Q$4","v":0},{"$f":"IF(P25=0,0,(P25*((LOG(P25))/LOG(2))))","v":0},null,null,{"$f":"N25","v":21121},{"$f":"COUNTIF(L7:L36,T25)","v":0},null,null,null,{"$f":"N25","v":21121},{"$f":"COUNTIF(L37:L67,Y25)","v":0},null,null,null,{"$f":"N25","v":21121},{"$f":"COUNTIF(L68:L97,AD25)","v":0},null,null,null,{"$f":"N25","v":21121},{"$f":"COUNTIF(L98:L127,AI25)","v":0},null,null,null,{"$f":"N25","v":21121},{"$f":"COUNTIF(L128:L158,AN25)","v":0},null,null,null,{"$f":"N25","v":21121},{"$f":"COUNTIF(L159:L188,AS25)","v":0}]
[12,2625,13,2630,13,2634,14,2639,13,2643,1,11111,null,21122,{"$f":"COUNTIF($L$7:$L$500,N26)","v":0},{"$f":"O26/$Q$4","v":0},{"$f":"IF(P26=0,0,(P26*((LOG(P26))/LOG(2))))","v":0},null,null,{"$f":"N26","v":21122},{"$f":"COUNTIF(L7:L36,T26)","v":0},{"$f":"U26/(W4-U25)","v":0},{"$f":"IF(V26=0,0,(V26*((LOG(V26))/LOG(2))))","v":0},null,{"$f":"N26","v":21122},{"$f":"COUNTIF(L37:L67,Y26)","v":0},{"$f":"Z26/(AB4-Z25)","v":0},{"$f":"IF(AA26=0,0,(AA26*((LOG(AA26))/LOG(2))))","v":0},null,{"$f":"N26","v":21122},{"$f":"COUNTIF(L68:L97,AD26)","v":0},{"$f":"AE26/(AG4-AE25)","v":0},{"$f":"IF(AF26=0,0,(AF26*((LOG(AF26))/LOG(2))))","v":0},null,{"$f":"N26","v":21122},{"$f":"COUNTIF(L98:L127,AI26)","v":0},{"$f":"AJ26/(AL4-AJ25)","v":0},{"$f":"IF(AK26=0,0,(AK26*((LOG(AK26))/LOG(2))))","v":0},null,{"$f":"N26","v":21122},{"$f":"COUNTIF(L128:L158,AN26)","v":0},{"$f":"AO26/(AQ4-AO25)","v":0},{"$f":"IF(AP26=0,0,(AP26*((LOG(AP26))/LOG(2))))","v":0},null,{"$f":"N26","v":21122},{"$f":"COUNTIF(L159:L188,AS26)","v":0},{"$f":"AT26/(AV4-AT25)","v":0},{"$f":"IF(AU26=0,0,(AU26*((LOG(AU26))/LOG(2))))","v":0}]
[12,2738,13,2742,13,2747,14,2754,13,2759,1,11111,null,21211,{"$f":"COUNTIF($L$7:$L$500,N27)","v":0},{"$f":"O27/$Q$4","v":0},{"$f":"IF(P27=0,0,(P27*((LOG(P27))/LOG(2))))","v":0},null,null,{"$f":"N27","v":21211},{"$f":"COUNTIF(L7:L36,T27)","v":0},{"$f":"U27/(W4-U25)","v":0},{"$f":"IF(V27=0,0,(V27*((LOG(V27))/LOG(2))))","v":0},null,{"$f":"N27","v":21211},{"$f":"COUNTIF(L37:L67,Y27)","v":0},{"$f":"Z27/(AB4-Z25)","v":0},{"$f":"IF(AA27=0,0,(AA27*((LOG(AA27))/LOG(2))))","v":0},null,{"$f":"N27","v":21211},{"$f":"COUNTIF(L68:L97,AD27)","v":0},{"$f":"AE27/(AG4-AE25)","v":0},{"$f":"IF(AF27=0,0,(AF27*((LOG(AF27))/LOG(2))))","v":0},null,{"$f":"N27","v":21211},{"$f":"COUNTIF(L98:L127,AI27)","v":0},{"$f":"AJ27/(AL4-AJ25)","v":0},{"$f":"IF(AK27=0,0,(AK27*((LOG(AK27))/LOG(2))))","v":0},null,{"$f":"N27","v":21211},{"$f":"COUNTIF(L128:L158,AN27)","v":0},{"$f":"AO27/(AQ4-AO25)","v":0},{"$f":"IF(AP27=0,0,(AP27*((LOG(AP27))/LOG(2))))","v":0},null,{"$f":"N27","v":21211},{"$f":"COUNTIF(L159:L188,AS27)","v":0},{"$f":"AT27/(AV4-AT25)","v":0},{"$f":"IF(AU27=0,0,(AU27*((LOG(AU27))/LOG(2))))","v":0}]
[12,2854,13,2860,13,2865,14,2869,13,2874,1,11111,null,21212,{"$f":"COUNTIF($L$7:$L$500,N28)","v":0},{"$f":"O28/$Q$4","v":0},{"$f":"IF(P28=0,0,(P28*((LOG(P28))/LOG(2))))","v":0},null,null,{"$f":"N28","v":21212},{"$f":"COUNTIF(L7:L36,T28)","v":0},{"$f":"U28/(W4-U25)","v":0},{"$f":"IF(V28=0,0,(V28*((LOG(V28))/LOG(2))))","v":0},null,{"$f":"N28","v":21212},{"$f":"COUNTIF(L37:L67,Y28)","v":0},{"$f":"Z28/(AB4-Z25)","v":0},{"$f":"IF(AA28=0,0,(AA28*((LOG(AA28))/LOG(2))))","v":0},null,{"$f":"N28","v":21212},{"$f":"COUNTIF(L68:L97,AD28)","v":0},{"$f":"AE28/(AG4-AE25)","v":0},{"$f":"IF(AF28=0,0,(AF28*((LOG(AF28))/LOG(2))))","v":0},null,{"$f":"N28","v":21212},{"$f":"COUNTIF(L98:L127,AI28)","v":0},{"$f":"AJ28/(AL4-AJ25)","v":0},{"$f":"IF(AK28=0,0,(AK28*((LOG(AK28))/LOG(2))))","v":0},null,{"$f":"N28","v":21212},{"$f":"COUNTIF(L128:L158,AN28)","v":0},{"$f":"AO28/(AQ4-AO25)","v":0},{"$f":"IF(AP28=0,0,(AP28*((LOG(AP28))/LOG(2))))","v":0},null,{"$f":"N28","v":21212},{"$f":"COUNTIF(L159:L188,AS28)","v":0},{"$f":"AT28/(AV4-AT25)","v":0},{"$f":"IF(AU28=0,0,(AU28*((LOG(AU28))/LOG(2))))","v":0}]
[12,2973,13,2984,13,2988,14,2994,13,2999,0,11111,null,21221,{"$f":"COUNTIF($L$7:$L$500,N29)","v":0},{"$f":"O29/$Q$4","v":0},{"$f":"IF(P29=0,0,(P29*((LOG(P29))/LOG(2))))","v":0},null,null,{"$f":"N29","v":21221},{"$f":"COUNTIF(L7:L36,T29)","v":0},{"$f":"U29/(W4-U25)","v":0},{"$f":"IF(V29=0,0,(V29*((LOG(V29))/LOG(2))))","v":0},null,{"$f":"N29","v":21221},{"$f":"COUNTIF(L37:L67,Y29)","v":0},{"$f":"Z29/(AB4-Z25)","v":0},{"$f":"IF(AA29=0,0,(AA29*((LOG(AA29))/LOG(2))))","v":0},null,{"$f":"N29","v":21221},{"$f":"COUNTIF(L68:L97,AD29)","v":0},{"$f":"AE29/(AG4-AE25)","v":0},{"$f":"IF(AF29=0,0,(AF29*((LOG(AF29))/LOG(2))))","v":0},null,{"$f":"N29","v":21221},{"$f":"COUNTIF(L98:L127,AI29)","v":0},{"$f":"AJ29/(AL4-AJ25)","v":0},{"$f":"IF(AK29=0,0,(AK29*((LOG(AK29))/LOG(2))))","v":0},null,{"$f":"N29","v":21221},{"$f":"COUNTIF(L128:L158,AN29)","v":0},{"$f":"AO29/(AQ4-AO25)","v":0},{"$f":"IF(AP29=0,0,(AP29*((LOG(AP29))/LOG(2))))","v":0},null,{"$f":"N29","v":21221},{"$f":"COUNTIF(L159:L188,AS29)","v":0},{"$f":"AT29/(AV4-AT25)","v":0},{"$f":"IF(AU29=0,0,(AU29*((LOG(AU29))/LOG(2))))","v":0}]
[12,3105,13,3110,13,3120,14,3126,13,3131,0,11111,null,21222,{"$f":"COUNTIF($L$7:$L$500,N30)","v":0},{"$f":"O30/$Q$4","v":0},{"$f":"IF(P30=0,0,(P30*((LOG(P30))/LOG(2))))","v":0},null,null,{"$f":"N30","v":21222},{"$f":"COUNTIF(L7:L36,T30)","v":0},{"$f":"U30/(W4-U25)","v":0},{"$f":"IF(V30=0,0,(V30*((LOG(V30))/LOG(2))))","v":0},null,{"$f":"N30","v":21222},{"$f":"COUNTIF(L37:L67,Y30)","v":0},{"$f":"Z30/(AB4-Z25)","v":0},{"$f":"IF(AA30=0,0,(AA30*((LOG(AA30))/LOG(2))))","v":0},null,{"$f":"N30","v":21222},{"$f":"COUNTIF(L68:L97,AD30)","v":0},{"$f":"AE30/(AG4-AE25)","v":0},{"$f":"IF(AF30=0,0,(AF30*((LOG(AF30))/LOG(2))))","v":0},null,{"$f":"N30","v":21222},{"$f":"COUNTIF(L98:L127,AI30)","v":0},{"$f":"AJ30/(AL4-AJ25)","v":0},{"$f":"IF(AK30=0,0,(AK30*((LOG(AK30))/LOG(2))))","v":0},null,{"$f":"N30","v":21222},{"$f":"COUNTIF(L128:L158,AN30)","v":0},{"$f":"AO30/(AQ4-AO25)","v":0},{"$f":"IF(AP30=0,0,(AP30*((LOG(AP30))/LOG(2))))","v":0},null,{"$f":"N30","v":21222},{"$f":"COUNTIF(L159:L188,AS30)","v":0},{"$f":"AT30/(AV4-AT25)","v":0},{"$f":"IF(AU30=0,0,(AU30*((LOG(AU30))/LOG(2))))","v":0}]
[12,3231,13,3235,13,3240,14,3246,13,3250,0,11111,null,22111,{"$f":"COUNTIF($L$7:$L$500,N31)","v":0},{"$f":"O31/$Q$4","v":0},{"$f":"IF(P31=0,0,(P31*((LOG(P31))/LOG(2))))","v":0},null,null,{"$f":"N31","v":22111},{"$f":"COUNTIF(L7:L36,T31)","v":0},{"$f":"U31/(W4-U25)","v":0},{"$f":"IF(V31=0,0,(V31*((LOG(V31))/LOG(2))))","v":0},null,{"$f":"N31","v":22111},{"$f":"COUNTIF(L37:L67,Y31)","v":0},{"$f":"Z31/(AB4-Z25)","v":0},{"$f":"IF(AA31=0,0,(AA31*((LOG(AA31))/LOG(2))))","v":0},null,{"$f":"N31","v":22111},{"$f":"COUNTIF(L68:L97,AD31)","v":0},{"$f":"AE31/(AG4-AE25)","v":0},{"$f":"IF(AF31=0,0,(AF31*((LOG(AF31))/LOG(2))))","v":0},null,{"$f":"N31","v":22111},{"$f":"COUNTIF(L98:L127,AI31)","v":0},{"$f":"AJ31/(AL4-AJ25)","v":0},{"$f":"IF(AK31=0,0,(AK31*((LOG(AK31))/LOG(2))))","v":0},null,{"$f":"N31","v":22111},{"$f":"COUNTIF(L128:L158,AN31)","v":0},{"$f":"AO31/(AQ4-AO25)","v":0},{"$f":"IF(AP31=0,0,(AP31*((LOG(AP31))/LOG(2))))","v":0},null,{"$f":"N31","v":22111},{"$f":"COUNTIF(L159:L188,AS31)","v":0},{"$f":"AT31/(AV4-AT25)","v":0},{"$f":"IF(AU31=0,0,(AU31*((LOG(AU31))/LOG(2))))","v":0}]
[12,3353,13,3357,13,3362,14,3367,13,3371,0,11111,null,22112,{"$f":"COUNTIF($L$7:$L$500,N32)","v":0},{"$f":"O32/$Q$4","v":0},{"$f":"IF(P32=0,0,(P32*((LOG(P32))/LOG(2))))","v":0},null,null,{"$f":"N32","v":22112},{"$f":"COUNTIF(L7:L36,T32)","v":0},{"$f":"U32/(W4-U25)","v":0},{"$f":"IF(V32=0,0,(V32*((LOG(V32))/LOG(2))))","v":0},null,{"$f":"N32","v":22112},{"$f":"COUNTIF(L37:L67,Y32)","v":0},{"$f":"Z32/(AB4-Z25)","v":0},{"$f":"IF(AA32=0,0,(AA32*((LOG(AA32))/LOG(2))))","v":0},null,{"$f":"N32","v":22112},{"$f":"COUNTIF(L68:L97,AD32)","v":0},{"$f":"AE32/(AG4-AE25)","v":0},{"$f":"IF(AF32=0,0,(AF32*((LOG(AF32))/LOG(2))))","v":0},null,{"$f":"N32","v":22112},{"$f":"COUNTIF(L98:L127,AI32)","v":0},{"$f":"AJ32/(AL4-AJ25)","v":0},{"$f":"IF(AK32=0,0,(AK32*((LOG(AK32))/LOG(2))))","v":0},null,{"$f":"N32","v":22112},{"$f":"COUNTIF(L128:L158,AN32)","v":0},{"$f":"AO32/(AQ4-AO25)","v":0},{"$f":"IF(AP32=0,0,(AP32*((LOG(AP32))/LOG(2))))","v":0},null,{"$f":"N32","v":22112},{"$f":"COUNTIF(L159:L188,AS32)","v":0},{"$f":"AT32/(AV4-AT25)","v":0},{"$f":"IF(AU32=0,0,(AU32*((LOG(AU32))/LOG(2))))","v":0}]
[12,3471,13,3480,13,3488,14,3500,13,3505,0,11111,null,22121,{"$f":"COUNTIF($L$7:$L$500,N33)","v":0},{"$f":"O33/$Q$4","v":0},{"$f":"IF(P33=0,0,(P33*((LOG(P33))/LOG(2))))","v":0},null,null,{"$f":"N33","v":22121},{"$f":"COUNTIF(L7:L36,T33)","v":0},{"$f":"U33/(W4-U25)","v":0},{"$f":"IF(V33=0,0,(V33*((LOG(V33))/LOG(2))))","v":0},null,{"$f":"N33","v":22121},{"$f":"COUNTIF(L37:L67,Y33)","v":0},{"$f":"Z33/(AB4-Z25)","v":0},{"$f":"IF(AA33=0,0,(AA33*((LOG(AA33))/LOG(2))))","v":0},null,{"$f":"N33","v":22121},{"$f":"COUNTIF(L68:L97,AD33)","v":0},{"$f":"AE33/(AG4-AE25)","v":0},{"$f":"IF(AF33=0,0,(AF33*((LOG(AF33))/LOG(2))))","v":0},null,{"$f":"N33","v":22121},{"$f":"COUNTIF(L98:L127,AI33)","v":0},{"$f":"AJ33/(AL4-AJ25)","v":0},{"$f":"IF(AK33=0,0,(AK33*((LOG(AK33))/LOG(2))))","v":0},null,{"$f":"N33","v":22121},{"$f":"COUNTIF(L128:L158,AN33)","v":0},{"$f":"AO33/(AQ4-AO25)","v":0},{"$f":"IF(AP33=0,0,(AP33*((LOG(AP33))/LOG(2))))","v":0},null,{"$f":"N33","v":22121},{"$f":"COUNTIF(L159:L188,AS33)","v":0},{"$f":"AT33/(AV4-AT25)","v":0},{"$f":"IF(AU33=0,0,(AU33*((LOG(AU33))/LOG(2))))","v":0}]
[12,3628,13,3633,13,3637,14,3644,13,3650,0,11111,null,22122,{"$f":"COUNTIF($L$7:$L$500,N34)","v":0},{"$f":"O34/$Q$4","v":0},{"$f":"IF(P34=0,0,(P34*((LOG(P34))/LOG(2))))","v":0},null,null,{"$f":"N34","v":22122},{"$f":"COUNTIF(L7:L36,T34)","v":0},{"$f":"U34/(W4-U25)","v":0},{"$f":"IF(V34=0,0,(V34*((LOG(V34))/LOG(2))))","v":0},null,{"$f":"N34","v":22122},{"$f":"COUNTIF(L37:L67,Y34)","v":0},{"$f":"Z34/(AB4-Z25)","v":0},{"$f":"IF(AA34=0,0,(AA34*((LOG(AA34))/LOG(2))))","v":0},null,{"$f":"N34","v":22122},{"$f":"COUNTIF(L68:L97,AD34)","v":0},{"$f":"AE34/(AG4-AE25)","v":0},{"$f":"IF(AF34=0,0,(AF34*((LOG(AF34))/LOG(2))))","v":0},null,{"$f":"N34","v":22122},{"$f":"COUNTIF(L98:L127,AI34)","v":0},{"$f":"AJ34/(AL4-AJ25)","v":0},{"$f":"IF(AK34=0,0,(AK34*((LOG(AK34))/LOG(2))))","v":0},null,{"$f":"N34","v":22122},{"$f":"COUNTIF(L128:L158,AN34)","v":0},{"$f":"AO34/(AQ4-AO25)","v":0},{"$f":"IF(AP34=0,0,(AP34*((LOG(AP34))/LOG(2))))","v":0},null,{"$f":"N34","v":22122},{"$f":"COUNTIF(L159:L188,AS34)","v":0},{"$f":"AT34/(AV4-AT25)","v":0},{"$f":"IF(AU34=0,0,(AU34*((LOG(AU34))/LOG(2))))","v":0}]
[12,3760,13,3771,13,3776,14,3782,13,3787,0,11111,null,22211,{"$f":"COUNTIF($L$7:$L$500,N35)","v":0},{"$f":"O35/$Q$4","v":0},{"$f":"IF(P35=0,0,(P35*((LOG(P35))/LOG(2))))","v":0},null,null,{"$f":"N35","v":22211},{"$f":"COUNTIF(L7:L36,T35)","v":0},{"$f":"U35/(W4-U25)","v":0},{"$f":"IF(V35=0,0,(V35*((LOG(V35))/LOG(2))))","v":0},null,{"$f":"N35","v":22211},{"$f":"COUNTIF(L37:L67,Y35)","v":0},{"$f":"Z35/(AB4-Z25)","v":0},{"$f":"IF(AA35=0,0,(AA35*((LOG(AA35))/LOG(2))))","v":0},null,{"$f":"N35","v":22211},{"$f":"COUNTIF(L68:L97,AD35)","v":0},{"$f":"AE35/(AG4-AE25)","v":0},{"$f":"IF(AF35=0,0,(AF35*((LOG(AF35))/LOG(2))))","v":0},null,{"$f":"N35","v":22211},{"$f":"COUNTIF(L98:L127,AI35)","v":0},{"$f":"AJ35/(AL4-AJ25)","v":0},{"$f":"IF(AK35=0,0,(AK35*((LOG(AK35))/LOG(2))))","v":0},null,{"$f":"N35","v":22211},{"$f":"COUNTIF(L128:L158,AN35)","v":0},{"$f":"AO35/(AQ4-AO25)","v":0},{"$f":"IF(AP35=0,0,(AP35*((LOG(AP35))/LOG(2))))","v":0},null,{"$f":"N35","v":22211},{"$f":"COUNTIF(L159:L188,AS35)","v":0},{"$f":"AT35/(AV4-AT25)","v":0},{"$f":"IF(AU35=0,0,(AU35*((LOG(AU35))/LOG(2))))","v":0}]
[12,3891,13,3897,13,3901,14,3907,13,3911,1,11111,null,22212,{"$f":"COUNTIF($L$7:$L$500,N36)","v":0},{"$f":"O36/$Q$4","v":0},{"$f":"IF(P36=0,0,(P36*((LOG(P36))/LOG(2))))","v":0},null,null,{"$f":"N36","v":22212},{"$f":"COUNTIF(L7:L36,T36)","v":0},{"$f":"U36/(W4-U25)","v":0},{"$f":"IF(V36=0,0,(V36*((LOG(V36))/LOG(2))))","v":0},null,{"$f":"N36","v":22212},{"$f":"COUNTIF(L37:L67,Y36)","v":0},{"$f":"Z36/(AB4-Z25)","v":0},{"$f":"IF(AA36=0,0,(AA36*((LOG(AA36))/LOG(2))))","v":0},null,{"$f":"N36","v":22212},{"$f":"COUNTIF(L68:L97,AD36)","v":0},{"$f":"AE36/(AG4-AE25)","v":0},{"$f":"IF(AF36=0,0,(AF36*((LOG(AF36))/LOG(2))))","v":0},null,{"$f":"N36","v":22212},{"$f":"COUNTIF(L98:L127,AI36)","v":0},{"$f":"AJ36/(AL4-AJ25)","v":0},{"$f":"IF(AK36=0,0,(AK36*((LOG(AK36))/LOG(2))))","v":0},null,{"$f":"N36","v":22212},{"$f":"COUNTIF(L128:L158,AN36)","v":0},{"$f":"AO36/(AQ4-AO25)","v":0},{"$f":"IF(AP36=0,0,(AP36*((LOG(AP36))/LOG(2))))","v":0},null,{"$f":"N36","v":22212},{"$f":"COUNTIF(L159:L188,AS36)","v":0},{"$f":"AT36/(AV4-AT25)","v":0},{"$f":"IF(AU36=0,0,(AU36*((LOG(AU36))/LOG(2))))","v":0}]
[12,4011,13,4017,13,4026,14,4031,13,4036,0,11111,null,22221,{"$f":"COUNTIF($L$7:$L$500,N37)","v":0},{"$f":"O37/$Q$4","v":0},{"$f":"IF(P37=0,0,(P37*((LOG(P37))/LOG(2))))","v":0},null,null,{"$f":"N37","v":22221},{"$f":"COUNTIF(L7:L36,T37)","v":0},{"$f":"U37/(W4-U25)","v":0},{"$f":"IF(V37=0,0,(V37*((LOG(V37))/LOG(2))))","v":0},null,{"$f":"N37","v":22221},{"$f":"COUNTIF(L37:L67,Y37)","v":0},{"$f":"Z37/(AB4-Z25)","v":0},{"$f":"IF(AA37=0,0,(AA37*((LOG(AA37))/LOG(2))))","v":0},null,{"$f":"N37","v":22221},{"$f":"COUNTIF(L68:L97,AD37)","v":0},{"$f":"AE37/(AG4-AE25)","v":0},{"$f":"IF(AF37=0,0,(AF37*((LOG(AF37))/LOG(2))))","v":0},null,{"$f":"N37","v":22221},{"$f":"COUNTIF(L98:L127,AI37)","v":0},{"$f":"AJ37/(AL4-AJ25)","v":0},{"$f":"IF(AK37=0,0,(AK37*((LOG(AK37))/LOG(2))))","v":0},null,{"$f":"N37","v":22221},{"$f":"COUNTIF(L128:L158,AN37)","v":0},{"$f":"AO37/(AQ4-AO25)","v":0},{"$f":"IF(AP37=0,0,(AP37*((LOG(AP37))/LOG(2))))","v":0},null,{"$f":"N37","v":22221},{"$f":"COUNTIF(L159:L188,AS37)","v":0},{"$f":"AT37/(AV4-AT25)","v":0},{"$f":"IF(AU37=0,0,(AU37*((LOG(AU37))/LOG(2))))","v":0}]
[12,4135,13,4140,13,4147,14,4153,13,4158,0,11111,null,22222,{"$f":"COUNTIF($L$7:$L$500,N38)","v":2},{"$f":"O38/$Q$4","v":1.098901098901099E-2},{"$f":"IF(P38=0,0,(P38*((LOG(P38))/LOG(2))))","v":-7.1514226815370299E-2},null,null,{"$f":"N38","v":22222},{"$f":"COUNTIF(L7:L36,T38)","v":0},{"$f":"U38/(W4-U25)","v":0},{"$f":"IF(V38=0,0,(V38*((LOG(V38))/LOG(2))))","v":0},null,{"$f":"N38","v":22222},{"$f":"COUNTIF(L37:L67,Y38)","v":0},{"$f":"Z38/(AB4-Z25)","v":0},{"$f":"IF(AA38=0,0,(AA38*((LOG(AA38))/LOG(2))))","v":0},null,{"$f":"N38","v":22222},{"$f":"COUNTIF(L68:L97,AD38)","v":1},{"$f":"AE38/(AG4-AE25)","v":3.3333333333333333E-2},{"$f":"IF(AF38=0,0,(AF38*((LOG(AF38))/LOG(2))))","v":-0.16356301985361729},null,{"$f":"N38","v":22222},{"$f":"COUNTIF(L98:L127,AI38)","v":0},{"$f":"AJ38/(AL4-AJ25)","v":0},{"$f":"IF(AK38=0,0,(AK38*((LOG(AK38))/LOG(2))))","v":0},null,{"$f":"N38","v":22222},{"$f":"COUNTIF(L128:L158,AN38)","v":0},{"$f":"AO38/(AQ4-AO25)","v":0},{"$f":"IF(AP38=0,0,(AP38*((LOG(AP38))/LOG(2))))","v":0},null,{"$f":"N38","v":22222},{"$f":"COUNTIF(L159:L188,AS38)","v":1},{"$f":"AT38/(AV4-AT25)","v":3.3333333333333333E-2},{"$f":"IF(AU38=0,0,(AU38*((LOG(AU38))/LOG(2))))","v":-0.16356301985361729}]
[12,4267,13,4272,13,4285,14,4292,13,4297,0,11111,null,null,null,{"$f":"SUM(P7:P38)","v":1},{"$f":"-SUM(Q7:Q38)","v":0.46404433772718268},null,null,null,null,{"$f":"SUM(V7:V38)","v":1},{"$f":"-SUM(W7:W38)","v":0.9703437707962479},null,null,null,{"$f":"SUM(AA7:AA38)","v":1},{"$f":"-SUM(AB7:AB38)","v":0.20559250818508301},null,null,null,{"$f":"SUM(AF7:AF38)","v":1},{"$f":"-SUM(AG7:AG38)","v":0.42002600168808801},null,null,null,{"$f":"SUM(AK7:AK38)","v":1},{"$f":"-SUM(AL7:AL38)","v":0.21084230031853213},null,null,null,{"$f":"SUM(AP7:AP38)","v":1},{"$f":"-SUM(AQ7:AQ38)","v":0.20559250818508301},null,null,null,{"$f":"SUM(AU7:AU38)","v":1},{"$f":"-SUM(AV7:AV38)","v":0.21084230031853213}]
[12,4404,13,4408,13,4412,14,4417,13,4422,0,11111,null,null,null,"U=",{"$f":"Q39/(LOG(Q4)/LOG(2))","v":6.1808341858815369E-2},null,null,null,null,"U1=",{"$f":"W39/(LOG(W4)/LOG(2))","v":0.19775125446340067},null,null,null,"U2=",{"$f":"AB39/(LOG(AB4)/LOG(2))","v":4.1498659985281898E-2},null,null,null,"U3=",{"$f":"AG39/(LOG(AG4)/LOG(2))","v":8.559921879326092E-2},null,null,null,"U4=",{"$f":"AL39/(LOG(AL4)/LOG(2))","v":4.2968616522085903E-2},null,null,null,"U5=",{"$f":"AQ39/(LOG(AQ4)/LOG(2))","v":4.1498659985281898E-2},null,null,null,"U6=",{"$f":"AV39/(LOG(AV4)/LOG(2))","v":4.2968616522085903E-2}]
[12,4521,13,4527,13,4533,14,4539,13,4545,0,11111]
[12,4647,13,4651,13,4656,14,4662,13,4667,0,11111]
[12,4767,13,4772,13,4778,14,4783,13,4787,0,11111,null,"Total Target Seq"]
[12,4890,13,4895,13,4902,14,4907,13,4914,0,11111,null,{"$f":"COUNTIF(L7:L188,G3)","v":0},null,30,31,30,30,31,30]
[12,5015,13,5021,13,5026,14,5030,13,5035,0,11111,null,null,null,"% of reinforcement given in 6 equal intervals based on number of trials "]
[12,5148,13,5159,13,5165,14,5174,13,5179,0,11111,null,null,null,"%_1","%_2","%_3","%_4","%_5","%_6"]
[12,5284,13,5288,13,5292,14,5297,13,5303,1,11111,null,null,"target sequence",{"$f":"$G$3","v":21121},{"$f":"$G$3","v":21121},{"$f":"$G$3","v":21121},{"$f":"$G$3","v":21121},{"$f":"$G$3","v":21121},{"$f":"$G$3","v":21121}]
[12,5411,13,5422,13,5427,14,5432,13,5437,0,11111,null,null,"total reinforcement",{"$f":"U25","v":0},{"$f":"Z25","v":0},{"$f":"AE25","v":0},{"$f":"AJ25","v":0},{"$f":"AO25","v":0},{"$f":"AT25","v":0}]
[12,5540,13,5544,13,5549,14,5554,13,5561,0,11111,null,null,"% target"]
[12,5660,13,5665,13,5669,14,5674,13,5678,1,11111,null,null,"CCRF"]
[12,5773,13,5777,13,5782,14,5786,13,5792,0,11111,null,null,"% CCRf"]
[12,5900,13,5905,13,5913,14,5927,13,5935,0,11111,null,null,"average response rate",{"$f":"J36/P44","v":130.36666666666667},{"$f":"(J67-J36)/Q44","v":128.29032258064515},{"$f":"(J97-J67)/R44","v":127.56666666666666},{"$f":"(J127-J97)/S44","v":130.96666666666667},{"$f":"(J158-J127)/T44","v":133.35483870967741},{"$f":"(J188-J158)/U44","v":137.93333333333334}]
[12,6039,13,6043,13,6048,14,6061,13,6073,0,11111]
[12,6172,13,6178,13,6183,14,6188,13,6194,0,11111]
[12,6299,13,6304,13,6308,14,6313,13,6318,0,11111]
[12,6429,13,6437,13,6442,14,6449,13,6454,0,11111]
[12,6558,13,6564,13,6568,14,6577,13,6586,0,11111]
[12,6686,13,6691,13,6697,14,6701,13,6712,0,11111]
[12,6812,13,6817,13,6822,14,6827,13,6841,0,11111]
[12,6943,13,6948,13,6953,14,6958,13,6963,0,11111]
[12,7063,13,7067,13,7075,14,7079,13,7083,0,11111]
[12,7186,13,7191,13,7197,14,7201,13,7210,1,11111]
[12,7317,13,7322,24,7349,23,7354,24,7365,0,11222]
[12,7467,13,7473,13,7478,14,7484,13,7489,0,11111]
[12,7587,13,7592,13,7596,14,7600,13,7607,0,11111]
[12,7713,13,7719,13,7725,14,7730,13,7738,0,11111]
[12,7853,13,7870,13,7875,14,7880,13,7888,0,11111]
[12,7988,13,7993,13,7998,14,8002,13,8012,1,11111]
[12,8115,13,8125,13,8130,14,8140,24,8161,0,11112]
[12,8262,13,8267,13,8271,14,8276,13,8280,0,11111]
[12,8392,13,8397,13,8402,14,8408,13,8413,0,11111]
[12,8517,13,8522,13,8527,14,8532,13,8538,0,11111]
[21,8645,22,8654,24,8658,23,8666,24,8673,1,22222]
[12,8770,13,8775,13,8780,14,8784,13,8793,0,11111]
[12,8912,13,8917,13,8922,14,8928,13,8935,0,11111]
[12,9035,13,9039,13,9044,14,9051,13,9060,0,11111]
[12,9165,13,9169,13,9174,14,9180,13,9188,0,11111]
[12,9288,13,9293,13,9297,14,9302,13,9306,1,11111]
[12,9407,13,9411,13,9417,14,9421,13,9429,0,11111]
[12,9527,13,9532,13,9536,14,9540,13,9545,0,11111]
[12,9649,13,9654,13,9660,14,9664,13,9670,0,11111]
[12,9770,13,9775,13,9780,14,9784,13,9792,1,11111]
[12,9886,13,9890,13,9894,14,9900,13,9905,0,11111]
[12,10022,13,10027,13,10032,14,10039,13,10046,0,11111]
[12,10145,13,10149,13,10153,14,10157,13,10162,0,11111]
[12,10262,13,10267,13,10276,14,10286,13,10292,0,11111]
[12,10398,13,10411,13,10416,14,10422,13,10428,0,11111]
[12,10535,13,10543,13,10548,14,10553,13,10563,1,11111]
[12,10662,13,10668,13,10673,14,10678,13,10683,0,11111]
[12,10790,13,10795,13,10801,14,10805,13,10811,0,11111]
[12,10913,13,10917,13,10922,14,10927,13,10931,0,11111]
[12,11038,13,11048,13,11054,14,11064,13,11068,1,11111]
[12,11166,13,11175,13,11180,14,11189,13,11194,0,11111]
[12,11300,13,11315,13,11321,14,11327,13,11332,0,11111]
[12,11440,13,11449,13,11455,14,11464,13,11469,0,11111]
[12,11573,13,11578,13,11583,14,11588,13,11592,0,11111]
[12,11696,13,11701,13,11705,14,11710,13,11715,0,11111]
[12,11815,13,11825,13,11830,14,11835,13,11839,0,11111]
[12,11939,13,11944,13,11948,14,11958,13,11963,1,11111]
[12,12067,13,12082,24,12105,23,12115,24,12125,0,11222]
[12,12227,13,12232,13,12237,14,12242,13,12246,0,11111]
[12,12345,13,12350,13,12359,14,12364,13,12369,0,11111]
[12,12476,13,12481,13,12486,14,12491,13,12502,0,11111]
[12,12602,13,12606,13,12612,14,12616,13,12622,0,11111]
[12,12729,13,12738,13,12743,14,12756,13,12761,0,11111]
[12,12864,13,12869,13,12874,14,12878,13,12883,0,11111]
[12,12991,13,12999,13,13005,14,13009,13,13015,1,11111]
[12,13111,13,13121,13,13130,14,13135,13,13149,0,11111]
[12,13252,13,13263,13,13268,14,13273,13,13278,1,11111]
[12,13375,13,13382,13,13392,14,13398,13,13411,0,11111]
[12,13514,13,13519,13,13524,14,13528,13,13533,0,11111]
[12,13634,13,13643,13,13652,14,13658,13,13664,1,11111]
[12,13768,13,13772,13,13782,14,13795,13,13804,0,11111]
[12,13912,13,13917,13,13927,14,13939,13,13948,0,11111]
[12,14063,13,14068,13,14086,14,14090,13,14102,0,11111]
[12,14204,13,14208,13,14218,14,14223,13,14228,0,11111]
[12,14331,13,14341,13,14347,14,14352,13,14357,0,11111]
[12,14456,13,14461,13,14466,14,14470,13,14475,0,11111]
[12,14577,13,14581,13,14586,14,14590,13,14596,1,11111]
[12,14697,13,14703,13,14708,14,14713,13,14719,0,11111]
[12,14824,13,14829,13,14839,14,14844,13,14861,0,11111]
[12,14968,13,14973,13,14979,14,14994,13,15003,0,11111]
[12,15105,13,15116,13,15122,14,15126,13,15131,0,11111]
[12,15234,13,15240,13,15245,14,15256,13,15261,0,11111]
[12,15363,13,15367,13,15371,14,15380,13,15391,0,11111]
[12,15493,13,15498,13,15503,14,15508,13,15512,0,11111]
[12,15615,13,15620,13,15626,14,15637,13,15644,1,11111]
[12,15740,13,15760,13,15766,14,15776,13,15781,0,11111]
[12,15885,13,15890,13,15894,14,15898,13,15903,0,11111]
[12,16003,13,16012,13,16017,14,16022,13,16031,0,11111]
[12,16134,13,16139,13,16144,14,16148,13,16153,0,11111]
[12,16266,13,16276,13,16284,14,16296,13,16305,0,11111]
[12,16403,13,16407,13,16411,14,16415,13,16419,1,11111]
[12,16521,13,16549,13,16555,14,16571,13,16583,0,11111]
[12,16692,13,16701,13,16706,14,16711,13,16720,0,11111]
[12,16824,13,16829,13,16834,14,16843,13,16848,0,11111]
[12,16958,13,16969,13,16974,14,16980,13,16984,0,11111]
[12,17079,13,17088,13,17093,14,17097,13,17102,0,11111]
[12,17206,13,17211,13,17220,14,17229,13,17234,0,11111]
[12,17328,13,17332,13,17341,14,17350,13,17359,0,11111]
[12,17458,13,17462,13,17467,14,17471,13,17480,0,11111]
[12,17586,13,17591,13,17596,14,17605,13,17612,1,11111]
[12,17726,13,17737,13,17742,14,17747,13,17757,0,11111]
[12,17850,13,17859,13,17864,14,17868,13,17877,0,11111]
[12,17978,13,17982,13,17986,14,17991,13,17995,0,11111]
[12,18101,13,18106,13,18111,14,18115,13,18120,0,11111]
[12,18229,13,18234,13,18247,14,18257,13,18262,0,11111]
[12,18360,13,18365,13,18370,14,18375,13,18384,0,11111]
[12,18489,13,18498,13,18508,14,18515,13,18524,0,11111]
[12,18628,13,18633,13,18638,14,18643,13,18648,0,11111]
[12,18754,13,18758,13,18764,14,18768,13,18779,0,11111]
[12,18879,13,18892,13,18901,14,18905,13,18912,0,11111]
[12,19024,13,19028,13,19033,14,19038,13,19043,1,11111]
[12,19144,13,19165,13,19170,23,19210,24,19243,0,11122]
[12,19351,13,19364,13,19368,14,19374,13,19383,0,11111]
[12,19477,13,19489,13,19495,14,19499,13,19504,0,11111]
[12,19603,13,19607,13,19612,14,19617,13,19622,0,11111]
[12,19738,13,19743,13,19759,14,19766,13,19778,0,11111]
[12,19882,13,19886,13,19890,14,19900,13,19905,0,11111]
[12,20008,13,20025,13,20030,14,20035,13,20042,0,11111]
[12,20149,13,20154,13,20167,14,20180,13,20188,0,11111]
[21,20302,22,20310,24,20319,23,20328,24,20337,0,22222]
[12,20456,13,20469,13,20475,14,20483,13,20493,1,11111]
[12,20608,13,20615,13,20622,14,20627,13,20643,0,11111]
[12,20748,13,20757,13,20766,14,20774,13,20786,1,11111]
[12,20892,13,20902,13,20912,14,20916,13,20926,1,11111]
[12,21033,13,21038,13,21046,14,21055,13,21060,0,11111]
[12,21165,13,21180,13,21184,14,21196,13,21205,0,11111]
[12,21311,13,21316,13,21326,14,21331,13,21346,1,11111]
[12,21445,13,21449,13,21454,14,21459,13,21464,1,11111]
[12,21581,13,21600,13,21608,14,21616,13,21621,0,11111]
[12,21726,13,21734,13,21739,14,21744,13,21752,0,11111]
[12,21852,13,21856,13,21861,14,21865,13,21870,1,11111]
[12,21976,13,21980,13,21990,14,21999,13,22014,0,11111]
[12,22129,13,22138,13,22147,14,22160,13,22166,0,11111]
[12,22275,13,22284,13,22292,14,22303,13,22309,0,11111]
[12,22420,13,22425,13,22429,14,22434,13,22439,1,11111]
[12,22540,13,22559,13,22565,14,22573,13,22590,0,11111]
[12,22691,13,22700,13,22713,14,22725,13,22730,0,11111]
[12,22835,13,22844,13,22850,14,22859,13,22865,0,11111]
[12,22970,13,22974,13,22979,14,22984,13,22989,1,11111]
[12,23093,13,23098,13,23103,14,23109,13,23114,1,11111]
[12,23213,13,23218,13,23226,14,23236,13,23242,0,11111]
[12,23336,13,23341,13,23345,14,23350,13,23355,0,11111]
[12,23459,13,23469,13,23477,14,23483,13,23499,0,11111]
[12,23603,13,23617,13,23622,14,23627,13,23633,0,11111]
[12,23734,13,23739,13,23743,14,23748,13,23752,1,11111]
[12,23858,13,23889,13,23898,14,23908,13,23916,null,11111]

{"sheet":"!MC03810.010","index":6,"n_rows":185,"n_cols":48,"rows_kept":185,"cut":false,"hidden":false,"merged":[[4,39,4,42],[5,39,5,40],[4,44,4,47],[5,44,5,45],[4,24,4,27],[5,24,5,25],[4,29,4,32],[5,29,5,30],[4,34,4,37],[5,34,5,35],[1,1,1,2],[5,13,5,14],[42,13,42,14],[43,13,43,14],[4,19,4,22],[5,19,5,20]]}
["Report for:!MC03810.010"]
["Date:","<date>"]
["Hen:","<hen>",null,null,null,"Correct Sequence",{"$f":"Start!J2","v":21121},null,null,null,null,null,null,null,null,"Total Sequences in Data",{"$f":"4994-COUNTBLANK(L7:L5000)","v":179},null,null,null,null,"Total Sequences in Block Data",{"$f":"COUNTA(L7:L36)","v":30},null,null,null,"Total Sequences in Block Data",{"$f":"COUNTA(L37:L66)","v":30},null,null,null,"Total Sequences in Block Data",{"$f":"COUNTA(L67:L95)","v":29},null,null,null,"Total Sequences in Block Data",{"$f":"COUNTA(L96:L125)","v":30},null,null,null,"Total Sequences in Block Data",{"$f":"COUNTA(L126:L155)","v":30},null,null,null,"Total Sequences in Block Data",{"$f":"COUNTA(L156:L185)","v":30}]
[null,null,null,null,null,null,null,null,null,null,null,null,null,null,null,"Total Sequences in Summary",{"$f":"SUM(O7:O38)","v":179},null,null,null,null,"Total Sequences in Block Summary",{"$f":"SUM(U7:U38)","v":30},null,null,null,"Total Sequences in Block Summary",{"$f":"SUM(Z7:Z38)","v":30},null,null,null,"Total Sequences in Block Summary",{"$f":"SUM(AE7:AE38)","v":29},null,null,null,"Total Sequences in Block Summary",{"$f":"SUM(AJ7:AJ38)","v":30},null,null,null,"Total Sequences in Block Summary",{"$f":"SUM(AO7:AO38)","v":30},null,null,null,"Total Sequences in Block Summary",{"$f":"SUM(AT7:AT38)","v":30}]
[null,null,null,null,null,null,null,null,null,null,null,null,null,null,null,null,null,null,null,"Block 1",null,null,null,null,"Block 2",null,null,null,null,"Block 3",null,null,null,null,"Block 4",null,null,null,null,"Block 5",null,null,null,null,"Block 6"]
["Sequence\nComponent\n1","Time\n1","Sequence\nComponent\n2","Time\n2","Sequence\nComponent\n3","Time\n3","Sequence\nComponent\n4","Time\n4","Sequence\nComponent\n5","Time\n5","Correct?\n0=No 1=Yes","Sequence",null,"Frequency",null,"Relative Frequency","Variability",null,null,"Frequency",null,"Relative Frequency","Variability",null,"Frequency",null,"Relative Frequency","Variability",null,"Frequency",null,"Relative Frequency","Variability",null,"Frequency",null,"Relative Frequency","Variability",null,"Frequency",null,"Relative Frequency","Variability",null,"Frequency",null,"Relative Frequency","Variability"]
[21,26,11,43,11,49,12,56,24,71,0,21112,null,11111,{"$f":"COUNTIF($L$7:$L$500,N7)","v":164},{"$f":"O7/$Q$4","v":0.91620111731843579},{"$f":"IF(P7=0,0,(P7*((LOG(P7))/LOG(2))))","v":-0.11568300957526435},null,null,{"$f":"N7","v":11111},{"$f":"COUNTIF(L7:L36,T7)","v":28},{"$f":"U7/(W4-U25)","v":0.93333333333333335},{"$f":"IF(V7=0,0,(V7*((LOG(V7))/LOG(2))))","v":-9.2899961980853443E-2},null,{"$f":"N7","v":11111},{"$f":"COUNTIF(L37:L66,Y7)","v":29},{"$f":"Z7/(AB4-Z25)","v":0.96666666666666667},{"$f":"IF(AA7=0,0,(AA7*((LOG(AA7))/LOG(2))))","v":-4.727928046491485E-2},null,{"$f":"N7","v":11111},{"$f":"COUNTIF(L67:L95,AD7)","v":26},{"$f":"AE7/(AG4-AE25)","v":0.89655172413793105},{"$f":"IF(AF7=0,0,(AF7*((LOG(AF7))/LOG(2))))","v":-0.14124390350511995},null,{"$f":"N7","v":11111},{"$f":"COUNTIF(L96:L125,AI7)","v":29},{"$f":"AJ7/(AL4-AJ25)","v":0.96666666666666667},{"$f":"IF(AK7=0,0,(AK7*((LOG(AK7))/LOG(2))))","v":-4.727928046491485E-2},null,{"$f":"N7","v":11111},{"$f":"COUNTIF(L126:L155,AN7)","v":28},{"$f":"AO7/(AQ4-AO25)","v":0.93333333333333335},{"$f":"IF(AP7=0,0,(AP7*((LOG(AP7))/LOG(2))))","v":-9.2899961980853443E-2},null,{"$f":"N7","v":11111},{"$f":"COUNTIF(L156:L185,AS7)","v":24},{"$f":"AT7/(AV4-AT25)","v":0.8},{"$f":"IF(AU7=0,0,(AU7*((LOG(AU7))/LOG(2))))","v":-0.25754247590988982}]
[12,166,13,176,13,182,14,187,13,192,0,11111,null,11112,{"$f":"COUNTIF($L$7:$L$500,N8)","v":1},{"$f":"O8/$Q$4","v":5.5865921787709499E-3},{"$f":"IF(P8=0,0,(P8*((LOG(P8))/LOG(2))))","v":-4.1809026688627134E-2},null,null,{"$f":"N8","v":11112},{"$f":"COUNTIF(L7:L36,T8)","v":1},{"$f":"U8/(W4-U25)","v":3.3333333333333333E-2},{"$f":"IF(V8=0,0,(V8*((LOG(V8))/LOG(2))))","v":-0.16356301985361729},null,{"$f":"N8","v":11112},{"$f":"COUNTIF(L37:L66,Y8)","v":0},{"$f":"Z8/(AB4-Z25)","v":0},{"$f":"IF(AA8=0,0,(AA8*((LOG(AA8))/LOG(2))))","v":0},null,{"$f":"N8","v":11112},{"$f":"COUNTIF(L67:L95,AD8)","v":0},{"$f":"AE8/(AG4-AE25)","v":0},{"$f":"IF(AF8=0,0,(AF8*((LOG(AF8))/LOG(2))))","v":0},null,{"$f":"N8","v":11112},{"$f":"COUNTIF(L96:L125,AI8)","v":0},{"$f":"AJ8/(AL4-AJ25)","v":0},{"$f":"IF(AK8=0,0,(AK8*((LOG(AK8))/LOG(2))))","v":0},null,{"$f":"N8","v":11112},{"$f":"COUNTIF(L126:L155,AN8)","v":0},{"$f":"AO8/(AQ4-AO25)","v":0},{"$f":"IF(AP8=0,0,(AP8*((LOG(AP8))/LOG(2))))","v":0},null,{"$f":"N8","v":11112},{"$f":"COUNTIF(L156:L185,AS8)","v":0},{"$f":"AT8/(AV4-AT25)","v":0},{"$f":"IF(AU8=0,0,(AU8*((LOG(AU8))/LOG(2))))","v":0}]
[12,295,13,300,13,306,14,311,13,317,0,11111,null,11121,{"$f":"COUNTIF($L$7:$L$500,N9)","v":0},{"$f":"O9/$Q$4","v":0},{"$f":"IF(P9=0,0,(P9*((LOG(P9))/LOG(2))))","v":0},null,null,{"$f":"N9","v":11121},{"$f":"COUNTIF(L7:L36,T9)","v":0},{"$f":"U9/(W4-U25)","v":0},{"$f":"IF(V9=0,0,(V9*((LOG(V9))/LOG(2))))","v":0},null,{"$f":"N9","v":11121},{"$f":"COUNTIF(L37:L66,Y9)","v":0},{"$f":"Z9/(AB4-Z25)","v":0},{"$f":"IF(AA9=0,0,(AA9*((LOG(AA9))/LOG(2))))","v":0},null,{"$f":"N9","v":11121},{"$f":"COUNTIF(L67:L95,AD9)","v":0},{"$f":"AE9/(AG4-AE25)","v":0},{"$f":"IF(AF9=0,0,(AF9*((LOG(AF9))/LOG(2))))","v":0},null,{"$f":"N9","v":11121},{"$f":"COUNTIF(L96:L125,AI9)","v":0},{"$f":"AJ9/(AL4-AJ25)","v":0},{"$f":"IF(AK9=0,0,(AK9*((LOG(AK9))/LOG(2))))","v":0},null,{"$f":"N9","v":11121},{"$f":"COUNTIF(L126:L155,AN9)","v":0},{"$f":"AO9/(AQ4-AO25)","v":0},{"$f":"IF(AP9=0,0,(AP9*((LOG(AP9))/LOG(2))))","v":0},null,{"$f":"N9","v":11121},{"$f":"COUNTIF(L156:L185,AS9)","v":0},{"$f":"AT9/(AV4-AT25)","v":0},{"$f":"IF(AU9=0,0,(AU9*((LOG(AU9))/LOG(2))))","v":0}]
[12,417,13,422,13,427,14,437,13,441,1,11111,null,11122,{"$f":"COUNTIF($L$7:$L$500,N10)","v":1},{"$f":"O10/$Q$4","v":5.5865921787709499E-3},{"$f":"IF(P10=0,0,(P10*((LOG(P10))/LOG(2))))","v":-4.1809026688627134E-2},null,null,{"$f":"N10","v":11122},{"$f":"COUNTIF(L7:L36,T10)","v":0},{"$f":"U10/(W4-U25)","v":0},{"$f":"IF(V10=0,0,(V10*((LOG(V10))/LOG(2))))","v":0},null,{"$f":"N10","v":11122},{"$f":"COUNTIF(L37:L66,Y10)","v":0},{"$f":"Z10/(AB4-Z25)","v":0},{"$f":"IF(AA10=0,0,(AA10*((LOG(AA10))/LOG(2))))","v":0},null,{"$f":"N10","v":11122},{"$f":"COUNTIF(L67:L95,AD10)","v":1},{"$f":"AE10/(AG4-AE25)","v":3.4482758620689655E-2},{"$f":"IF(AF10=0,0,(AF10*((LOG(AF10))/LOG(2))))","v":-0.16751658603888178},null,{"$f":"N10","v":11122},{"$f":"COUNTIF(L96:L125,AI10)","v":0},{"$f":"AJ10/(AL4-AJ25)","v":0},{"$f":"IF(AK10=0,0,(AK10*((LOG(AK10))/LOG(2))))","v":0},null,{"$f":"N10","v":11122},{"$f":"COUNTIF(L126:L155,AN10)","v":0},{"$f":"AO10/(AQ4-AO25)","v":0},{"$f":"IF(AP10=0,0,(AP10*((LOG(AP10))/LOG(2))))","v":0},null,{"$f":"N10","v":11122},{"$f":"COUNTIF(L156:L185,AS10)","v":0},{"$f":"AT10/(AV4-AT25)","v":0},{"$f":"IF(AU10=0,0,(AU10*((LOG(AU10))/LOG(2))))","v":0}]
[12,539,13,549,13,555,14,577,13,587,1,11111,null,11211,{"$f":"COUNTIF($L$7:$L$500,N11)","v":0},{"$f":"O11/$Q$4","v":0},{"$f":"IF(P11=0,0,(P11*((LOG(P11))/LOG(2))))","v":0},null,null,{"$f":"N11","v":11211},{"$f":"COUNTIF(L7:L36,T11)","v":0},{"$f":"U11/(W4-U25)","v":0},{"$f":"IF(V11=0,0,(V11*((LOG(V11))/LOG(2))))","v":0},null,{"$f":"N11","v":11211},{"$f":"COUNTIF(L37:L66,Y11)","v":0},{"$f":"Z11/(AB4-Z25)","v":0},{"$f":"IF(AA11=0,0,(AA11*((LOG(AA11))/LOG(2))))","v":0},null,{"$f":"N11","v":11211},{"$f":"COUNTIF(L67:L95,AD11)","v":0},{"$f":"AE11/(AG4-AE25)","v":0},{"$f":"IF(AF11=0,0,(AF11*((LOG(AF11))/LOG(2))))","v":0},null,{"$f":"N11","v":11211},{"$f":"COUNTIF(L96:L125,AI11)","v":0},{"$f":"AJ11/(AL4-AJ25)","v":0},{"$f":"IF(AK11=0,0,(AK11*((LOG(AK11))/LOG(2))))","v":0},null,{"$f":"N11","v":11211},{"$f":"COUNTIF(L126:L155,AN11)","v":0},{"$f":"AO11/(AQ4-AO25)","v":0},{"$f":"IF(AP11=0,0,(AP11*((LOG(AP11))/LOG(2))))","v":0},null,{"$f":"N11","v":11211},{"$f":"COUNTIF(L156:L185,AS11)","v":0},{"$f":"AT11/(AV4-AT25)","v":0},{"$f":"IF(AU11=0,0,(AU11*((LOG(AU11))/LOG(2))))","v":0}]
[12,686,13,693,13,698,14,704,24,728,0,11112,null,11212,{"$f":"COUNTIF($L$7:$L$500,N12)","v":0},{"$f":"O12/$Q$4","v":0},{"$f":"IF(P12=0,0,(P12*((LOG(P12))/LOG(2))))","v":0},null,null,{"$f":"N12","v":11212},{"$f":"COUNTIF(L7:L36,T12)","v":0},{"$f":"U12/(W4-U25)","v":0},{"$f":"IF(V12=0,0,(V12*((LOG(V12))/LOG(2))))","v":0},null,{"$f":"N12","v":11212},{"$f":"COUNTIF(L37:L66,Y12)","v":0},{"$f":"Z12/(AB4-Z25)","v":0},{"$f":"IF(AA12=0,0,(AA12*((LOG(AA12))/LOG(2))))","v":0},null,{"$f":"N12","v":11212},{"$f":"COUNTIF(L67:L95,AD12)","v":0},{"$f":"AE12/(AG4-AE25)","v":0},{"$f":"IF(AF12=0,0,(AF12*((LOG(AF12))/LOG(2))))","v":0},null,{"$f":"N12","v":11212},{"$f":"COUNTIF(L96:L125,AI12)","v":0},{"$f":"AJ12/(AL4-AJ25)","v":0},{"$f":"IF(AK12=0,0,(AK12*((LOG(AK12))/LOG(2))))","v":0},null,{"$f":"N12","v":11212},{"$f":"COUNTIF(L126:L155,AN12)","v":0},{"$f":"AO12/(AQ4-AO25)","v":0},{"$f":"IF(AP12=0,0,(AP12*((LOG(AP12))/LOG(2))))","v":0},null,{"$f":"N12","v":11212},{"$f":"COUNTIF(L156:L185,AS12)","v":0},{"$f":"AT12/(AV4-AT25)","v":0},{"$f":"IF(AU12=0,0,(AU12*((LOG(AU12))/LOG(2))))","v":0}]
[12,829,13,839,13,844,14,850,13,855,0,11111,null,11221,{"$f":"COUNTIF($L$7:$L$500,N13)","v":0},{"$f":"O13/$Q$4","v":0},{"$f":"IF(P13=0,0,(P13*((LOG(P13))/LOG(2))))","v":0},null,null,{"$f":"N13","v":11221},{"$f":"COUNTIF(L7:L36,T13)","v":0},{"$f":"U13/(W4-U25)","v":0},{"$f":"IF(V13=0,0,(V13*((LOG(V13))/LOG(2))))","v":0},null,{"$f":"N13","v":11221},{"$f":"COUNTIF(L37:L66,Y13)","v":0},{"$f":"Z13/(AB4-Z25)","v":0},{"$f":"IF(AA13=0,0,(AA13*((LOG(AA13))/LOG(2))))","v":0},null,{"$f":"N13","v":11221},{"$f":"COUNTIF(L67:L95,AD13)","v":0},{"$f":"AE13/(AG4-AE25)","v":0},{"$f":"IF(AF13=0,0,(AF13*((LOG(AF13))/LOG(2))))","v":0},null,{"$f":"N13","v":11221},{"$f":"COUNTIF(L96:L125,AI13)","v":0},{"$f":"AJ13/(AL4-AJ25)","v":0},{"$f":"IF(AK13=0,0,(AK13*((LOG(AK13))/LOG(2))))","v":0},null,{"$f":"N13","v":11221},{"$f":"COUNTIF(L126:L155,AN13)","v":0},{"$f":"AO13/(AQ4-AO25)","v":0},{"$f":"IF(AP13=0,0,(AP13*((LOG(AP13))/LOG(2))))","v":0},null,{"$f":"N13","v":11221},{"$f":"COUNTIF(L156:L185,AS13)","v":0},{"$f":"AT13/(AV4-AT25)","v":0},{"$f":"IF(AU13=0,0,(AU13*((LOG(AU13))/LOG(2))))","v":0}]
[12,963,13,971,13,975,14,980,13,985,0,11111,null,11222,{"$f":"COUNTIF($L$7:$L$500,N14)","v":1},{"$f":"O14/$Q$4","v":5.5865921787709499E-3},{"$f":"IF(P14=0,0,(P14*((LOG(P14))/LOG(2))))","v":-4.1809026688627134E-2},null,null,{"$f":"N14","v":11222},{"$f":"COUNTIF(L7:L36,T14)","v":0},{"$f":"U14/(W4-U25)","v":0},{"$f":"IF(V14=0,0,(V14*((LOG(V14))/LOG(2))))","v":0},null,{"$f":"N14","v":11222},{"$f":"COUNTIF(L37:L66,Y14)","v":0},{"$f":"Z14/(AB4-Z25)","v":0},{"$f":"IF(AA14=0,0,(AA14*((LOG(AA14))/LOG(2))))","v":0},null,{"$f":"N14","v":11222},{"$f":"COUNTIF(L67:L95,AD14)","v":1},{"$f":"AE14/(AG4-AE25)","v":3.4482758620689655E-2},{"$f":"IF(AF14=0,0,(AF14*((LOG(AF14))/LOG(2))))","v":-0.16751658603888178},null,{"$f":"N14","v":11222},{"$f":"COUNTIF(L96:L125,AI14)","v":0},{"$f":"AJ14/(AL4-AJ25)","v":0},{"$f":"IF(AK14=0,0,(AK14*((LOG(AK14))/LOG(2))))","v":0},null,{"$f":"N14","v":11222},{"$f":"COUNTIF(L126:L155,AN14)","v":0},{"$f":"AO14/(AQ4-AO25)","v":0},{"$f":"IF(AP14=0,0,(AP14*((LOG(AP14))/LOG(2))))","v":0},null,{"$f":"N14","v":11222},{"$f":"COUNTIF(L156:L185,AS14)","v":0},{"$f":"AT14/(AV4-AT25)","v":0},{"$f":"IF(AU14=0,0,(AU14*((LOG(AU14))/LOG(2))))","v":0}]
[12,1101,13,1114,13,1122,14,1127,13,1136,0,11111,null,12111,{"$f":"COUNTIF($L$7:$L$500,N15)","v":0},{"$f":"O15/$Q$4","v":0},{"$f":"IF(P15=0,0,(P15*((LOG(P15))/LOG(2))))","v":0},null,null,{"$f":"N15","v":12111},{"$f":"COUNTIF(L7:L36,T15)","v":0},{"$f":"U15/(W4-U25)","v":0},{"$f":"IF(V15=0,0,(V15*((LOG(V15))/LOG(2))))","v":0},null,{"$f":"N15","v":12111},{"$f":"COUNTIF(L37:L66,Y15)","v":0},{"$f":"Z15/(AB4-Z25)","v":0},{"$f":"IF(AA15=0,0,(AA15*((LOG(AA15))/LOG(2))))","v":0},null,{"$f":"N15","v":12111},{"$f":"COUNTIF(L67:L95,AD15)","v":0},{"$f":"AE15/(AG4-AE25)","v":0},{"$f":"IF(AF15=0,0,(AF15*((LOG(AF15))/LOG(2))))","v":0},null,{"$f":"N15","v":12111},{"$f":"COUNTIF(L96:L125,AI15)","v":0},{"$f":"AJ15/(AL4-AJ25)","v":0},{"$f":"IF(AK15=0,0,(AK15*((LOG(AK15))/LOG(2))))","v":0},null,{"$f":"N15","v":12111},{"$f":"COUNTIF(L126:L155,AN15)","v":0},{"$f":"AO15/(AQ4-AO25)","v":0},{"$f":"IF(AP15=0,0,(AP15*((LOG(AP15))/LOG(2))))","v":0},null,{"$f":"N15","v":12111},{"$f":"COUNTIF(L156:L185,AS15)","v":0},{"$f":"AT15/(AV4-AT25)","v":0},{"$f":"IF(AU15=0,0,(AU15*((LOG(AU15))/LOG(2))))","v":0}]
[12,1237,13,1242,13,1251,14,1255,13,1260,1,11111,null,12112,{"$f":"COUNTIF($L$7:$L$500,N16)","v":0},{"$f":"O16/$Q$4","v":0},{"$f":"IF(P16=0,0,(P16*((LOG(P16))/LOG(2))))","v":0},null,null,{"$f":"N16","v":12112},{"$f":"COUNTIF(L7:L36,T16)","v":0},{"$f":"U16/(W4-U25)","v":0},{"$f":"IF(V16=0,0,(V16*((LOG(V16))/LOG(2))))","v":0},null,{"$f":"N16","v":12112},{"$f":"COUNTIF(L37:L66,Y16)","v":0},{"$f":"Z16/(AB4-Z25)","v":0},{"$f":"IF(AA16=0,0,(AA16*((LOG(AA16))/LOG(2))))","v":0},null,{"$f":"N16","v":12112},{"$f":"COUNTIF(L67:L95,AD16)","v":0},{"$f":"AE16/(AG4-AE25)","v":0},{"$f":"IF(AF16=0,0,(AF16*((LOG(AF16))/LOG(2))))","v":0},null,{"$f":"N16","v":12112},{"$f":"COUNTIF(L96:L125,AI16)","v":0},{"$f":"AJ16/(AL4-AJ25)","v":0},{"$f":"IF(AK16=0,0,(AK16*((LOG(AK16))/LOG(2))))","v":0},null,{"$f":"N16","v":12112},{"$f":"COUNTIF(L126:L155,AN16)","v":0},{"$f":"AO16/(AQ4-AO25)","v":0},{"$f":"IF(AP16=0,0,(AP16*((LOG(AP16))/LOG(2))))","v":0},null,{"$f":"N16","v":12112},{"$f":"COUNTIF(L156:L185,AS16)","v":0},{"$f":"AT16/(AV4-AT25)","v":0},{"$f":"IF(AU16=0,0,(AU16*((LOG(AU16))/LOG(2))))","v":0}]
[12,1368,13,1375,13,1383,14,1395,13,1400,0,11111,null,12121,{"$f":"COUNTIF($L$7:$L$500,N17)","v":0},{"$f":"O17/$Q$4","v":0},{"$f":"IF(P17=0,0,(P17*((LOG(P17))/LOG(2))))","v":0},null,null,{"$f":"N17","v":12121},{"$f":"COUNTIF(L7:L36,T17)","v":0},{"$f":"U17/(W4-U25)","v":0},{"$f":"IF(V17=0,0,(V17*((LOG(V17))/LOG(2))))","v":0},null,{"$f":"N17","v":12121},{"$f":"COUNTIF(L37:L66,Y17)","v":0},{"$f":"Z17/(AB4-Z25)","v":0},{"$f":"IF(AA17=0,0,(AA17*((LOG(AA17))/LOG(2))))","v":0},null,{"$f":"N17","v":12121},{"$f":"COUNTIF(L67:L95,AD17)","v":0},{"$f":"AE17/(AG4-AE25)","v":0},{"$f":"IF(AF17=0,0,(AF17*((LOG(AF17))/LOG(2))))","v":0},null,{"$f":"N17","v":12121},{"$f":"COUNTIF(L96:L125,AI17)","v":0},{"$f":"AJ17/(AL4-AJ25)","v":0},{"$f":"IF(AK17=0,0,(AK17*((LOG(AK17))/LOG(2))))","v":0},null,{"$f":"N17","v":12121},{"$f":"COUNTIF(L126:L155,AN17)","v":0},{"$f":"AO17/(AQ4-AO25)","v":0},{"$f":"IF(AP17=0,0,(AP17*((LOG(AP17))/LOG(2))))","v":0},null,{"$f":"N17","v":12121},{"$f":"COUNTIF(L156:L185,AS17)","v":0},{"$f":"AT17/(AV4-AT25)","v":0},{"$f":"IF(AU17=0,0,(AU17*((LOG(AU17))/LOG(2))))","v":0}]
[12,1500,13,1504,13,1511,14,1520,13,1524,0,11111,null,12122,{"$f":"COUNTIF($L$7:$L$500,N18)","v":0},{"$f":"O18/$Q$4","v":0},{"$f":"IF(P18=0,0,(P18*((LOG(P18))/LOG(2))))","v":0},null,null,{"$f":"N18","v":12122},{"$f":"COUNTIF(L7:L36,T18)","v":0},{"$f":"U18/(W4-U25)","v":0},{"$f":"IF(V18=0,0,(V18*((LOG(V18))/LOG(2))))","v":0},null,{"$f":"N18","v":12122},{"$f":"COUNTIF(L37:L66,Y18)","v":0},{"$f":"Z18/(AB4-Z25)","v":0},{"$f":"IF(AA18=0,0,(AA18*((LOG(AA18))/LOG(2))))","v":0},null,{"$f":"N18","v":12122},{"$f":"COUNTIF(L67:L95,AD18)","v":0},{"$f":"AE18/(AG4-AE25)","v":0},{"$f":"IF(AF18=0,0,(AF18*((LOG(AF18))/LOG(2))))","v":0},null,{"$f":"N18","v":12122},{"$f":"COUNTIF(L96:L125,AI18)","v":0},{"$f":"AJ18/(AL4-AJ25)","v":0},{"$f":"IF(AK18=0,0,(AK18*((LOG(AK18))/LOG(2))))","v":0},null,{"$f":"N18","v":12122},{"$f":"COUNTIF(L126:L155,AN18)","v":0},{"$f":"AO18/(AQ4-AO25)","v":0},{"$f":"IF(AP18=0,0,(AP18*((LOG(AP18))/LOG(2))))","v":0},null,{"$f":"N18","v":12122},{"$f":"COUNTIF(L156:L185,AS18)","v":0},{"$f":"AT18/(AV4-AT25)","v":0},{"$f":"IF(AU18=0,0,(AU18*((LOG(AU18))/LOG(2))))","v":0}]
[12,1627,13,1631,13,1636,14,1640,13,1644,0,11111,null,12211,{"$f":"COUNTIF($L$7:$L$500,N19)","v":0},{"$f":"O19/$Q$4","v":0},{"$f":"IF(P19=0,0,(P19*((LOG(P19))/LOG(2))))","v":0},null,null,{"$f":"N19","v":12211},{"$f":"COUNTIF(L7:L36,T19)","v":0},{"$f":"U19/(W4-U25)","v":0},{"$f":"IF(V19=0,0,(V19*((LOG(V19))/LOG(2))))","v":0},null,{"$f":"N19","v":12211},{"$f":"COUNTIF(L37:L66,Y19)","v":0},{"$f":"Z19/(AB4-Z25)","v":0},{"$f":"IF(AA19=0,0,(AA19*((LOG(AA19))/LOG(2))))","v":0},null,{"$f":"N19","v":12211},{"$f":"COUNTIF(L67:L95,AD19)","v":0},{"$f":"AE19/(AG4-AE25)","v":0},{"$f":"IF(AF19=0,0,(AF19*((LOG(AF19))/LOG(2))))","v":0},null,{"$f":"N19","v":12211},{"$f":"COUNTIF(L96:L125,AI19)","v":0},{"$f":"AJ19/(AL4-AJ25)","v":0},{"$f":"IF(AK19=0,0,(AK19*((LOG(AK19))/LOG(2))))","v":0},null,{"$f":"N19","v":12211},{"$f":"COUNTIF(L126:L155,AN19)","v":0},{"$f":"AO19/(AQ4-AO25)","v":0},{"$f":"IF(AP19=0,0,(AP19*((LOG(AP19))/LOG(2))))","v":0},null,{"$f":"N19","v":12211},{"$f":"COUNTIF(L156:L185,AS19)","v":0},{"$f":"AT19/(AV4-AT25)","v":0},{"$f":"IF(AU19=0,0,(AU19*((LOG(AU19))/LOG(2))))","v":0}]
[12,1749,13,1759,13,1763,14,1768,13,1773,0,11111,null,12212,{"$f":"COUNTIF($L$7:$L$500,N20)","v":0},{"$f":"O20/$Q$4","v":0},{"$f":"IF(P20=0,0,(P20*((LOG(P20))/LOG(2))))","v":0},null,null,{"$f":"N20","v":12212},{"$f":"COUNTIF(L7:L36,T20)","v":0},{"$f":"U20/(W4-U25)","v":0},{"$f":"IF(V20=0,0,(V20*((LOG(V20))/LOG(2))))","v":0},null,{"$f":"N20","v":12212},{"$f":"COUNTIF(L37:L66,Y20)","v":0},{"$f":"Z20/(AB4-Z25)","v":0},{"$f":"IF(AA20=0,0,(AA20*((LOG(AA20))/LOG(2))))","v":0},null,{"$f":"N20","v":12212},{"$f":"COUNTIF(L67:L95,AD20)","v":0},{"$f":"AE20/(AG4-AE25)","v":0},{"$f":"IF(AF20=0,0,(AF20*((LOG(AF20))/LOG(2))))","v":0},null,{"$f":"N20","v":12212},{"$f":"COUNTIF(L96:L125,AI20)","v":0},{"$f":"AJ20/(AL4-AJ25)","v":0},{"$f":"IF(AK20=0,0,(AK20*((LOG(AK20))/LOG(2))))","v":0},null,{"$f":"N20","v":12212},{"$f":"COUNTIF(L126:L155,AN20)","v":0},{"$f":"AO20/(AQ4-AO25)","v":0},{"$f":"IF(AP20=0,0,(AP20*((LOG(AP20))/LOG(2))))","v":0},null,{"$f":"N20","v":12212},{"$f":"COUNTIF(L156:L185,AS20)","v":0},{"$f":"AT20/(AV4-AT25)","v":0},{"$f":"IF(AU20=0,0,(AU20*((LOG(AU20))/LOG(2))))","v":0}]
[12,1873,13,1877,13,1882,14,1887,13,1891,0,11111,null,12221,{"$f":"COUNTIF($L$7:$L$500,N21)","v":0},{"$f":"O21/$Q$4","v":0},{"$f":"IF(P21=0,0,(P21*((LOG(P21))/LOG(2))))","v":0},null,null,{"$f":"N21","v":12221},{"$f":"COUNTIF(L7:L36,T21)","v":0},{"$f":"U21/(W4-U25)","v":0},{"$f":"IF(V21=0,0,(V21*((LOG(V21))/LOG(2))))","v":0},null,{"$f":"N21","v":12221},{"$f":"COUNTIF(L37:L66,Y21)","v":0},{"$f":"Z21/(AB4-Z25)","v":0},{"$f":"IF(AA21=0,0,(AA21*((LOG(AA21))/LOG(2))))","v":0},null,{"$f":"N21","v":12221},{"$f":"COUNTIF(L67:L95,AD21)","v":0},{"$f":"AE21/(AG4-AE25)","v":0},{"$f":"IF(AF21=0,0,(AF21*((LOG(AF21))/LOG(2))))","v":0},null,{"$f":"N21","v":12221},{"$f":"COUNTIF(L96:L125,AI21)","v":0},{"$f":"AJ21/(AL4-AJ25)","v":0},{"$f":"IF(AK21=0,0,(AK21*((LOG(AK21))/LOG(2))))","v":0},null,{"$f":"N21","v":12221},{"$f":"COUNTIF(L126:L155,AN21)","v":0},{"$f":"AO21/(AQ4-AO25)","v":0},{"$f":"IF(AP21=0,0,(AP21*((LOG(AP21))/LOG(2))))","v":0},null,{"$f":"N21","v":12221},{"$f":"COUNTIF(L156:L185,AS21)","v":0},{"$f":"AT21/(AV4-AT25)","v":0},{"$f":"IF(AU21=0,0,(AU21*((LOG(AU21))/LOG(2))))","v":0}]
[12,1994,13,1999,13,2004,14,2008,13,2013,1,11111,null,12222,{"$f":"COUNTIF($L$7:$L$500,N22)","v":3},{"$f":"O22/$Q$4","v":1.6759776536312849E-2},{"$f":"IF(P22=0,0,(P22*((LOG(P22))/LOG(2))))","v":-9.8863462735359217E-2},null,null,{"$f":"N22","v":12222},{"$f":"COUNTIF(L7:L36,T22)","v":0},{"$f":"U22/(W4-U25)","v":0},{"$f":"IF(V22=0,0,(V22*((LOG(V22))/LOG(2))))","v":0},null,{"$f":"N22","v":12222},{"$f":"COUNTIF(L37:L66,Y22)","v":1},{"$f":"Z22/(AB4-Z25)","v":3.3333333333333333E-2},{"$f":"IF(AA22=0,0,(AA22*((LOG(AA22))/LOG(2))))","v":-0.16356301985361729},null,{"$f":"N22","v":12222},{"$f":"COUNTIF(L67:L95,AD22)","v":0},{"$f":"AE22/(AG4-AE25)","v":0},{"$f":"IF(AF22=0,0,(AF22*((LOG(AF22))/LOG(2))))","v":0},null,{"$f":"N22","v":12222},{"$f":"COUNTIF(L96:L125,AI22)","v":1},{"$f":"AJ22/(AL4-AJ25)","v":3.3333333333333333E-2},{"$f":"IF(AK22=0,0,(AK22*((LOG(AK22))/LOG(2))))","v":-0.16356301985361729},null,{"$f":"N22","v":12222},{"$f":"COUNTIF(L126:L155,AN22)","v":0},{"$f":"AO22/(AQ4-AO25)","v":0},{"$f":"IF(AP22=0,0,(AP22*((LOG(AP22))/LOG(2))))","v":0},null,{"$f":"N22","v":12222},{"$f":"COUNTIF(L156:L185,AS22)","v":1},{"$f":"AT22/(AV4-AT25)","v":3.3333333333333333E-2},{"$f":"IF(AU22=0,0,(AU22*((LOG(AU22))/LOG(2))))","v":-0.16356301985361729}]
[12,2126,13,2132,13,2136,14,2142,13,2148,1,11111,null,21111,{"$f":"COUNTIF($L$7:$L$500,N23)","v":0},{"$f":"O23/$Q$4","v":0},{"$f":"IF(P23=0,0,(P23*((LOG(P23))/LOG(2))))","v":0},null,null,{"$f":"N23","v":21111},{"$f":"COUNTIF(L7:L36,T23)","v":0},{"$f":"U23/(W4-U25)","v":0},{"$f":"IF(V23=0,0,(V23*((LOG(V23))/LOG(2))))","v":0},null,{"$f":"N23","v":21111},{"$f":"COUNTIF(L37:L66,Y23)","v":0},{"$f":"Z23/(AB4-Z25)","v":0},{"$f":"IF(AA23=0,0,(AA23*((LOG(AA23))/LOG(2))))","v":0},null,{"$f":"N23","v":21111},{"$f":"COUNTIF(L67:L95,AD23)","v":0},{"$f":"AE23/(AG4-AE25)","v":0},{"$f":"IF(AF23=0,0,(AF23*((LOG(AF23))/LOG(2))))","v":0},null,{"$f":"N23","v":21111},{"$f":"COUNTIF(L96:L125,AI23)","v":0},{"$f":"AJ23/(AL4-AJ25)","v":0},{"$f":"IF(AK23=0,0,(AK23*((LOG(AK23))/LOG(2))))","v":0},null,{"$f":"N23","v":21111},{"$f":"COUNTIF(L126:L155,AN23)","v":0},{"$f":"AO23/(AQ4-AO25)","v":0},{"$f":"IF(AP23=0,0,(AP23*((LOG(AP23))/LOG(2))))","v":0},null,{"$f":"N23","v":21111},{"$f":"COUNTIF(L156:L185,AS23)","v":0},{"$f":"AT23/(AV4-AT25)","v":0},{"$f":"IF(AU23=0,0,(AU23*((LOG(AU23))/LOG(2))))","v":0}]
[12,2248,13,2256,13,2264,14,2269,13,2276,0,11111,null,21112,{"$f":"COUNTIF($L$7:$L$500,N24)","v":1},{"$f":"O24/$Q$4","v":5.5865921787709499E-3},{"$f":"IF(P24=0,0,(P24*((LOG(P24))/LOG(2))))","v":-4.1809026688627134E-2},null,null,{"$f":"N24","v":21112},{"$f":"COUNTIF(L7:L36,T24)","v":1},{"$f":"U24/(W4-U25)","v":3.3333333333333333E-2},{"$f":"IF(V24=0,0,(V24*((LOG(V24))/LOG(2))))","v":-0.16356301985361729},null,{"$f":"N24","v":21112},{"$f":"COUNTIF(L37:L66,Y24)","v":0},{"$f":"Z24/(AB4-Z25)","v":0},{"$f":"IF(AA24=0,0,(AA24*((LOG(AA24))/LOG(2))))","v":0},null,{"$f":"N24","v":21112},{"$f":"COUNTIF(L67:L95,AD24)","v":0},{"$f":"AE24/(AG4-AE25)","v":0},{"$f":"IF(AF24=0,0,(AF24*((LOG(AF24))/LOG(2))))","v":0},null,{"$f":"N24","v":21112},{"$f":"COUNTIF(L96:L125,AI24)","v":0},{"$f":"AJ24/(AL4-AJ25)","v":0},{"$f":"IF(AK24=0,0,(AK24*((LOG(AK24))/LOG(2))))","v":0},null,{"$f":"N24","v":21112},{"$f":"COUNTIF(L126:L155,AN24)","v":0},{"$f":"AO24/(AQ4-AO25)","v":0},{"$f":"IF(AP24=0,0,(AP24*((LOG(AP24))/LOG(2))))","v":0},null,{"$f":"N24","v":21112},{"$f":"COUNTIF(L156:L185,AS24)","v":0},{"$f":"AT24/(AV4-AT25)","v":0},{"$f":"IF(AU24=0,0,(AU24*((LOG(AU24))/LOG(2))))","v":0}]
[12,2382,13,2387,13,2392,14,2399,13,2403,0,11111,null,21121,{"$f":"COUNTIF($L$7:$L$500,N25)","v":0},{"$f":"O25/$Q$4","v":0},{"$f":"IF(P25=0,0,(P25*((LOG(P25))/LOG(2))))","v":0},null,null,{"$f":"N25","v":21121},{"$f":"COUNTIF(L7:L36,T25)","v":0},null,null,null,{"$f":"N25","v":21121},{"$f":"COUNTIF(L37:L66,Y25)","v":0},null,null,null,{"$f":"N25","v":21121},{"$f":"COUNTIF(L67:L95,AD25)","v":0},null,null,null,{"$f":"N25","v":21121},{"$f":"COUNTIF(L96:L125,AI25)","v":0},null,null,null,{"$f":"N25","v":21121},{"$f":"COUNTIF(L126:L155,AN25)","v":0},null,null,null,{"$f":"N25","v":21121},{"$f":"COUNTIF(L156:L185,AS25)","v":0}]
[12,2503,13,2508,13,2515,14,2519,13,2529,0,11111,null,21122,{"$f":"COUNTIF($L$7:$L$500,N26)","v":0},{"$f":"O26/$Q$4","v":0},{"$f":"IF(P26=0,0,(P26*((LOG(P26))/LOG(2))))","v":0},null,null,{"$f":"N26","v":21122},{"$f":"COUNTIF(L7:L36,T26)","v":0},{"$f":"U26/(W4-U25)","v":0},{"$f":"IF(V26=0,0,(V26*((LOG(V26))/LOG(2))))","v":0},null,{"$f":"N26","v":21122},{"$f":"COUNTIF(L37:L66,Y26)","v":0},{"$f":"Z26/(AB4-Z25)","v":0},{"$f":"IF(AA26=0,0,(AA26*((LOG(AA26))/LOG(2))))","v":0},null,{"$f":"N26","v":21122},{"$f":"COUNTIF(L67:L95,AD26)","v":0},{"$f":"AE26/(AG4-AE25)","v":0},{"$f":"IF(AF26=0,0,(AF26*((LOG(AF26))/LOG(2))))","v":0},null,{"$f":"N26","v":21122},{"$f":"COUNTIF(L96:L125,AI26)","v":0},{"$f":"AJ26/(AL4-AJ25)","v":0},{"$f":"IF(AK26=0,0,(AK26*((LOG(AK26))/LOG(2))))","v":0},null,{"$f":"N26","v":21122},{"$f":"COUNTIF(L126:L155,AN26)","v":0},{"$f":"AO26/(AQ4-AO25)","v":0},{"$f":"IF(AP26=0,0,(AP26*((LOG(AP26))/LOG(2))))","v":0},null,{"$f":"N26","v":21122},{"$f":"COUNTIF(L156:L185,AS26)","v":0},{"$f":"AT26/(AV4-AT25)","v":0},{"$f":"IF(AU26=0,0,(AU26*((LOG(AU26))/LOG(2))))","v":0}]
[12,2631,13,2635,13,2640,14,2645,13,2650,0,11111,null,21211,{"$f":"COUNTIF($L$7:$L$500,N27)","v":0},{"$f":"O27/$Q$4","v":0},{"$f":"IF(P27=0,0,(P27*((LOG(P27))/LOG(2))))","v":0},null,null,{"$f":"N27","v":21211},{"$f":"COUNTIF(L7:L36,T27)","v":0},{"$f":"U27/(W4-U25)","v":0},{"$f":"IF(V27=0,0,(V27*((LOG(V27))/LOG(2))))","v":0},null,{"$f":"N27","v":21211},{"$f":"COUNTIF(L37:L66,Y27)","v":0},{"$f":"Z27/(AB4-Z25)","v":0},{"$f":"IF(AA27=0,0,(AA27*((LOG(AA27))/LOG(2))))","v":0},null,{"$f":"N27","v":21211},{"$f":"COUNTIF(L67:L95,AD27)","v":0},{"$f":"AE27/(AG4-AE25)","v":0},{"$f":"IF(AF27=0,0,(AF27*((LOG(AF27))/LOG(2))))","v":0},null,{"$f":"N27","v":21211},{"$f":"COUNTIF(L96:L125,AI27)","v":0},{"$f":"AJ27/(AL4-AJ25)","v":0},{"$f":"IF(AK27=0,0,(AK27*((LOG(AK27))/LOG(2))))","v":0},null,{"$f":"N27","v":21211},{"$f":"COUNTIF(L126:L155,AN27)","v":0},{"$f":"AO27/(AQ4-AO25)","v":0},{"$f":"IF(AP27=0,0,(AP27*((LOG(AP27))/LOG(2))))","v":0},null,{"$f":"N27","v":21211},{"$f":"COUNTIF(L156:L185,AS27)","v":0},{"$f":"AT27/(AV4-AT25)","v":0},{"$f":"IF(AU27=0,0,(AU27*((LOG(AU27))/LOG(2))))","v":0}]
[12,2752,13,2756,13,2762,14,2766,13,2771,0,11111,null,21212,{"$f":"COUNTIF($L$7:$L$500,N28)","v":0},{"$f":"O28/$Q$4","v":0},{"$f":"IF(P28=0,0,(P28*((LOG(P28))/LOG(2))))","v":0},null,null,{"$f":"N28","v":21212},{"$f":"COUNTIF(L7:L36,T28)","v":0},{"$f":"U28/(W4-U25)","v":0},{"$f":"IF(V28=0,0,(V28*((LOG(V28))/LOG(2))))","v":0},null,{"$f":"N28","v":21212},{"$f":"COUNTIF(L37:L66,Y28)","v":0},{"$f":"Z28/(AB4-Z25)","v":0},{"$f":"IF(AA28=0,0,(AA28*((LOG(AA28))/LOG(2))))","v":0},null,{"$f":"N28","v":21212},{"$f":"COUNTIF(L67:L95,AD28)","v":0},{"$f":"AE28/(AG4-AE25)","v":0},{"$f":"IF(AF28=0,0,(AF28*((LOG(AF28))/LOG(2))))","v":0},null,{"$f":"N28","v":21212},{"$f":"COUNTIF(L96:L125,AI28)","v":0},{"$f":"AJ28/(AL4-AJ25)","v":0},{"$f":"IF(AK28=0,0,(AK28*((LOG(AK28))/LOG(2))))","v":0},null,{"$f":"N28","v":21212},{"$f":"COUNTIF(L126:L155,AN28)","v":0},{"$f":"AO28/(AQ4-AO25)","v":0},{"$f":"IF(AP28=0,0,(AP28*((LOG(AP28))/LOG(2))))","v":0},null,{"$f":"N28","v":21212},{"$f":"COUNTIF(L156:L185,AS28)","v":0},{"$f":"AT28/(AV4-AT25)","v":0},{"$f":"IF(AU28=0,0,(AU28*((LOG(AU28))/LOG(2))))","v":0}]
[12,2871,13,2875,13,2879,14,2884,13,2893,1,11111,null,21221,{"$f":"COUNTIF($L$7:$L$500,N29)","v":0},{"$f":"O29/$Q$4","v":0},{"$f":"IF(P29=0,0,(P29*((LOG(P29))/LOG(2))))","v":0},null,null,{"$f":"N29","v":21221},{"$f":"COUNTIF(L7:L36,T29)","v":0},{"$f":"U29/(W4-U25)","v":0},{"$f":"IF(V29=0,0,(V29*((LOG(V29))/LOG(2))))","v":0},null,{"$f":"N29","v":21221},{"$f":"COUNTIF(L37:L66,Y29)","v":0},{"$f":"Z29/(AB4-Z25)","v":0},{"$f":"IF(AA29=0,0,(AA29*((LOG(AA29))/LOG(2))))","v":0},null,{"$f":"N29","v":21221},{"$f":"COUNTIF(L67:L95,AD29)","v":0},{"$f":"AE29/(AG4-AE25)","v":0},{"$f":"IF(AF29=0,0,(AF29*((LOG(AF29))/LOG(2))))","v":0},null,{"$f":"N29","v":21221},{"$f":"COUNTIF(L96:L125,AI29)","v":0},{"$f":"AJ29/(AL4-AJ25)","v":0},{"$f":"IF(AK29=0,0,(AK29*((LOG(AK29))/LOG(2))))","v":0},null,{"$f":"N29","v":21221},{"$f":"COUNTIF(L126:L155,AN29)","v":0},{"$f":"AO29/(AQ4-AO25)","v":0},{"$f":"IF(AP29=0,0,(AP29*((LOG(AP29))/LOG(2))))","v":0},null,{"$f":"N29","v":21221},{"$f":"COUNTIF(L156:L185,AS29)","v":0},{"$f":"AT29/(AV4-AT25)","v":0},{"$f":"IF(AU29=0,0,(AU29*((LOG(AU29))/LOG(2))))","v":0}]
[12,2987,13,2992,13,2998,14,3002,13,3010,0,11111,null,21222,{"$f":"COUNTIF($L$7:$L$500,N30)","v":0},{"$f":"O30/$Q$4","v":0},{"$f":"IF(P30=0,0,(P30*((LOG(P30))/LOG(2))))","v":0},null,null,{"$f":"N30","v":21222},{"$f":"COUNTIF(L7:L36,T30)","v":0},{"$f":"U30/(W4-U25)","v":0},{"$f":"IF(V30=0,0,(V30*((LOG(V30))/LOG(2))))","v":0},null,{"$f":"N30","v":21222},{"$f":"COUNTIF(L37:L66,Y30)","v":0},{"$f":"Z30/(AB4-Z25)","v":0},{"$f":"IF(AA30=0,0,(AA30*((LOG(AA30))/LOG(2))))","v":0},null,{"$f":"N30","v":21222},{"$f":"COUNTIF(L67:L95,AD30)","v":0},{"$f":"AE30/(AG4-AE25)","v":0},{"$f":"IF(AF30=0,0,(AF30*((LOG(AF30))/LOG(2))))","v":0},null,{"$f":"N30","v":21222},{"$f":"COUNTIF(L96:L125,AI30)","v":0},{"$f":"AJ30/(AL4-AJ25)","v":0},{"$f":"IF(AK30=0,0,(AK30*((LOG(AK30))/LOG(2))))","v":0},null,{"$f":"N30","v":21222},{"$f":"COUNTIF(L126:L155,AN30)","v":0},{"$f":"AO30/(AQ4-AO25)","v":0},{"$f":"IF(AP30=0,0,(AP30*((LOG(AP30))/LOG(2))))","v":0},null,{"$f":"N30","v":21222},{"$f":"COUNTIF(L156:L185,AS30)","v":0},{"$f":"AT30/(AV4-AT25)","v":0},{"$f":"IF(AU30=0,0,(AU30*((LOG(AU30))/LOG(2))))","v":0}]
[12,3109,13,3113,13,3118,14,3122,13,3127,0,11111,null,22111,{"$f":"COUNTIF($L$7:$L$500,N31)","v":0},{"$f":"O31/$Q$4","v":0},{"$f":"IF(P31=0,0,(P31*((LOG(P31))/LOG(2))))","v":0},null,null,{"$f":"N31","v":22111},{"$f":"COUNTIF(L7:L36,T31)","v":0},{"$f":"U31/(W4-U25)","v":0},{"$f":"IF(V31=0,0,(V31*((LOG(V31))/LOG(2))))","v":0},null,{"$f":"N31","v":22111},{"$f":"COUNTIF(L37:L66,Y31)","v":0},{"$f":"Z31/(AB4-Z25)","v":0},{"$f":"IF(AA31=0,0,(AA31*((LOG(AA31))/LOG(2))))","v":0},null,{"$f":"N31","v":22111},{"$f":"COUNTIF(L67:L95,AD31)","v":0},{"$f":"AE31/(AG4-AE25)","v":0},{"$f":"IF(AF31=0,0,(AF31*((LOG(AF31))/LOG(2))))","v":0},null,{"$f":"N31","v":22111},{"$f":"COUNTIF(L96:L125,AI31)","v":0},{"$f":"AJ31/(AL4-AJ25)","v":0},{"$f":"IF(AK31=0,0,(AK31*((LOG(AK31))/LOG(2))))","v":0},null,{"$f":"N31","v":22111},{"$f":"COUNTIF(L126:L155,AN31)","v":0},{"$f":"AO31/(AQ4-AO25)","v":0},{"$f":"IF(AP31=0,0,(AP31*((LOG(AP31))/LOG(2))))","v":0},null,{"$f":"N31","v":22111},{"$f":"COUNTIF(L156:L185,AS31)","v":0},{"$f":"AT31/(AV4-AT25)","v":0},{"$f":"IF(AU31=0,0,(AU31*((LOG(AU31))/LOG(2))))","v":0}]
[12,3233,13,3237,13,3249,14,3253,13,3258,0,11111,null,22112,{"$f":"COUNTIF($L$7:$L$500,N32)","v":0},{"$f":"O32/$Q$4","v":0},{"$f":"IF(P32=0,0,(P32*((LOG(P32))/LOG(2))))","v":0},null,null,{"$f":"N32","v":22112},{"$f":"COUNTIF(L7:L36,T32)","v":0},{"$f":"U32/(W4-U25)","v":0},{"$f":"IF(V32=0,0,(V32*((LOG(V32))/LOG(2))))","v":0},null,{"$f":"N32","v":22112},{"$f":"COUNTIF(L37:L66,Y32)","v":0},{"$f":"Z32/(AB4-Z25)","v":0},{"$f":"IF(AA32=0,0,(AA32*((LOG(AA32))/LOG(2))))","v":0},null,{"$f":"N32","v":22112},{"$f":"COUNTIF(L67:L95,AD32)","v":0},{"$f":"AE32/(AG4-AE25)","v":0},{"$f":"IF(AF32=0,0,(AF32*((LOG(AF32))/LOG(2))))","v":0},null,{"$f":"N32","v":22112},{"$f":"COUNTIF(L96:L125,AI32)","v":0},{"$f":"AJ32/(AL4-AJ25)","v":0},{"$f":"IF(AK32=0,0,(AK32*((LOG(AK32))/LOG(2))))","v":0},null,{"$f":"N32","v":22112},{"$f":"COUNTIF(L126:L155,AN32)","v":0},{"$f":"AO32/(AQ4-AO25)","v":0},{"$f":"IF(AP32=0,0,(AP32*((LOG(AP32))/LOG(2))))","v":0},null,{"$f":"N32","v":22112},{"$f":"COUNTIF(L156:L185,AS32)","v":0},{"$f":"AT32/(AV4-AT25)","v":0},{"$f":"IF(AU32=0,0,(AU32*((LOG(AU32))/LOG(2))))","v":0}]
[12,3356,13,3364,13,3368,14,3376,13,3381,0,11111,null,22121,{"$f":"COUNTIF($L$7:$L$500,N33)","v":0},{"$f":"O33/$Q$4","v":0},{"$f":"IF(P33=0,0,(P33*((LOG(P33))/LOG(2))))","v":0},null,null,{"$f":"N33","v":22121},{"$f":"COUNTIF(L7:L36,T33)","v":0},{"$f":"U33/(W4-U25)","v":0},{"$f":"IF(V33=0,0,(V33*((LOG(V33))/LOG(2))))","v":0},null,{"$f":"N33","v":22121},{"$f":"COUNTIF(L37:L66,Y33)","v":0},{"$f":"Z33/(AB4-Z25)","v":0},{"$f":"IF(AA33=0,0,(AA33*((LOG(AA33))/LOG(2))))","v":0},null,{"$f":"N33","v":22121},{"$f":"COUNTIF(L67:L95,AD33)","v":0},{"$f":"AE33/(AG4-AE25)","v":0},{"$f":"IF(AF33=0,0,(AF33*((LOG(AF33))/LOG(2))))","v":0},null,{"$f":"N33","v":22121},{"$f":"COUNTIF(L96:L125,AI33)","v":0},{"$f":"AJ33/(AL4-AJ25)","v":0},{"$f":"IF(AK33=0,0,(AK33*((LOG(AK33))/LOG(2))))","v":0},null,{"$f":"N33","v":22121},{"$f":"COUNTIF(L126:L155,AN33)","v":0},{"$f":"AO33/(AQ4-AO25)","v":0},{"$f":"IF(AP33=0,0,(AP33*((LOG(AP33))/LOG(2))))","v":0},null,{"$f":"N33","v":22121},{"$f":"COUNTIF(L156:L185,AS33)","v":0},{"$f":"AT33/(AV4-AT25)","v":0},{"$f":"IF(AU33=0,0,(AU33*((LOG(AU33))/LOG(2))))","v":0}]
[12,3478,13,3482,13,3486,14,3490,13,3496,1,11111,null,22122,{"$f":"COUNTIF($L$7:$L$500,N34)","v":0},{"$f":"O34/$Q$4","v":0},{"$f":"IF(P34=0,0,(P34*((LOG(P34))/LOG(2))))","v":0},null,null,{"$f":"N34","v":22122},{"$f":"COUNTIF(L7:L36,T34)","v":0},{"$f":"U34/(W4-U25)","v":0},{"$f":"IF(V34=0,0,(V34*((LOG(V34))/LOG(2))))","v":0},null,{"$f":"N34","v":22122},{"$f":"COUNTIF(L37:L66,Y34)","v":0},{"$f":"Z34/(AB4-Z25)","v":0},{"$f":"IF(AA34=0,0,(AA34*((LOG(AA34))/LOG(2))))","v":0},null,{"$f":"N34","v":22122},{"$f":"COUNTIF(L67:L95,AD34)","v":0},{"$f":"AE34/(AG4-AE25)","v":0},{"$f":"IF(AF34=0,0,(AF34*((LOG(AF34))/LOG(2))))","v":0},null,{"$f":"N34","v":22122},{"$f":"COUNTIF(L96:L125,AI34)","v":0},{"$f":"AJ34/(AL4-AJ25)","v":0},{"$f":"IF(AK34=0,0,(AK34*((LOG(AK34))/LOG(2))))","v":0},null,{"$f":"N34","v":22122},{"$f":"COUNTIF(L126:L155,AN34)","v":0},{"$f":"AO34/(AQ4-AO25)","v":0},{"$f":"IF(AP34=0,0,(AP34*((LOG(AP34))/LOG(2))))","v":0},null,{"$f":"N34","v":22122},{"$f":"COUNTIF(L156:L185,AS34)","v":0},{"$f":"AT34/(AV4-AT25)","v":0},{"$f":"IF(AU34=0,0,(AU34*((LOG(AU34))/LOG(2))))","v":0}]
[12,3590,13,3594,13,3608,14,3613,13,3621,0,11111,null,22211,{"$f":"COUNTIF($L$7:$L$500,N35)","v":0},{"$f":"O35/$Q$4","v":0},{"$f":"IF(P35=0,0,(P35*((LOG(P35))/LOG(2))))","v":0},null,null,{"$f":"N35","v":22211},{"$f":"COUNTIF(L7:L36,T35)","v":0},{"$f":"U35/(W4-U25)","v":0},{"$f":"IF(V35=0,0,(V35*((LOG(V35))/LOG(2))))","v":0},null,{"$f":"N35","v":22211},{"$f":"COUNTIF(L37:L66,Y35)","v":0},{"$f":"Z35/(AB4-Z25)","v":0},{"$f":"IF(AA35=0,0,(AA35*((LOG(AA35))/LOG(2))))","v":0},null,{"$f":"N35","v":22211},{"$f":"COUNTIF(L67:L95,AD35)","v":0},{"$f":"AE35/(AG4-AE25)","v":0},{"$f":"IF(AF35=0,0,(AF35*((LOG(AF35))/LOG(2))))","v":0},null,{"$f":"N35","v":22211},{"$f":"COUNTIF(L96:L125,AI35)","v":0},{"$f":"AJ35/(AL4-AJ25)","v":0},{"$f":"IF(AK35=0,0,(AK35*((LOG(AK35))/LOG(2))))","v":0},null,{"$f":"N35","v":22211},{"$f":"COUNTIF(L126:L155,AN35)","v":0},{"$f":"AO35/(AQ4-AO25)","v":0},{"$f":"IF(AP35=0,0,(AP35*((LOG(AP35))/LOG(2))))","v":0},null,{"$f":"N35","v":22211},{"$f":"COUNTIF(L156:L185,AS35)","v":0},{"$f":"AT35/(AV4-AT25)","v":0},{"$f":"IF(AU35=0,0,(AU35*((LOG(AU35))/LOG(2))))","v":0}]
[12,3729,13,3735,13,3740,14,3745,13,3751,0,11111,null,22212,{"$f":"COUNTIF($L$7:$L$500,N36)","v":0},{"$f":"O36/$Q$4","v":0},{"$f":"IF(P36=0,0,(P36*((LOG(P36))/LOG(2))))","v":0},null,null,{"$f":"N36","v":22212},{"$f":"COUNTIF(L7:L36,T36)","v":0},{"$f":"U36/(W4-U25)","v":0},{"$f":"IF(V36=0,0,(V36*((LOG(V36))/LOG(2))))","v":0},null,{"$f":"N36","v":22212},{"$f":"COUNTIF(L37:L66,Y36)","v":0},{"$f":"Z36/(AB4-Z25)","v":0},{"$f":"IF(AA36=0,0,(AA36*((LOG(AA36))/LOG(2))))","v":0},null,{"$f":"N36","v":22212},{"$f":"COUNTIF(L67:L95,AD36)","v":0},{"$f":"AE36/(AG4-AE25)","v":0},{"$f":"IF(AF36=0,0,(AF36*((LOG(AF36))/LOG(2))))","v":0},null,{"$f":"N36","v":22212},{"$f":"COUNTIF(L96:L125,AI36)","v":0},{"$f":"AJ36/(AL4-AJ25)","v":0},{"$f":"IF(AK36=0,0,(AK36*((LOG(AK36))/LOG(2))))","v":0},null,{"$f":"N36","v":22212},{"$f":"COUNTIF(L126:L155,AN36)","v":0},{"$f":"AO36/(AQ4-AO25)","v":0},{"$f":"IF(AP36=0,0,(AP36*((LOG(AP36))/LOG(2))))","v":0},null,{"$f":"N36","v":22212},{"$f":"COUNTIF(L156:L185,AS36)","v":0},{"$f":"AT36/(AV4-AT25)","v":0},{"$f":"IF(AU36=0,0,(AU36*((LOG(AU36))/LOG(2))))","v":0}]
[12,3850,13,3855,13,3860,14,3864,13,3872,1,11111,null,22221,{"$f":"COUNTIF($L$7:$L$500,N37)","v":0},{"$f":"O37/$Q$4","v":0},{"$f":"IF(P37=0,0,(P37*((LOG(P37))/LOG(2))))","v":0},null,null,{"$f":"N37","v":22221},{"$f":"COUNTIF(L7:L36,T37)","v":0},{"$f":"U37/(W4-U25)","v":0},{"$f":"IF(V37=0,0,(V37*((LOG(V37))/LOG(2))))","v":0},null,{"$f":"N37","v":22221},{"$f":"COUNTIF(L37:L66,Y37)","v":0},{"$f":"Z37/(AB4-Z25)","v":0},{"$f":"IF(AA37=0,0,(AA37*((LOG(AA37))/LOG(2))))","v":0},null,{"$f":"N37","v":22221},{"$f":"COUNTIF(L67:L95,AD37)","v":0},{"$f":"AE37/(AG4-AE25)","v":0},{"$f":"IF(AF37=0,0,(AF37*((LOG(AF37))/LOG(2))))","v":0},null,{"$f":"N37","v":22221},{"$f":"COUNTIF(L96:L125,AI37)","v":0},{"$f":"AJ37/(AL4-AJ25)","v":0},{"$f":"IF(AK37=0,0,(AK37*((LOG(AK37))/LOG(2))))","v":0},null,{"$f":"N37","v":22221},{"$f":"COUNTIF(L126:L155,AN37)","v":0},{"$f":"AO37/(AQ4-AO25)","v":0},{"$f":"IF(AP37=0,0,(AP37*((LOG(AP37))/LOG(2))))","v":0},null,{"$f":"N37","v":22221},{"$f":"COUNTIF(L156:L185,AS37)","v":0},{"$f":"AT37/(AV4-AT25)","v":0},{"$f":"IF(AU37=0,0,(AU37*((LOG(AU37))/LOG(2))))","v":0}]
[12,3971,13,3975,13,3979,14,3984,13,3995,0,11111,null,22222,{"$f":"COUNTIF($L$7:$L$500,N38)","v":8},{"$f":"O38/$Q$4","v":4.4692737430167599E-2},{"$f":"IF(P38=0,0,(P38*((LOG(P38))/LOG(2))))","v":-0.20039400121851425},null,null,{"$f":"N38","v":22222},{"$f":"COUNTIF(L7:L36,T38)","v":0},{"$f":"U38/(W4-U25)","v":0},{"$f":"IF(V38=0,0,(V38*((LOG(V38))/LOG(2))))","v":0},null,{"$f":"N38","v":22222},{"$f":"COUNTIF(L37:L66,Y38)","v":0},{"$f":"Z38/(AB4-Z25)","v":0},{"$f":"IF(AA38=0,0,(AA38*((LOG(AA38))/LOG(2))))","v":0},null,{"$f":"N38","v":22222},{"$f":"COUNTIF(L67:L95,AD38)","v":1},{"$f":"AE38/(AG4-AE25)","v":3.4482758620689655E-2},{"$f":"IF(AF38=0,0,(AF38*((LOG(AF38))/LOG(2))))","v":-0.16751658603888178},null,{"$f":"N38","v":22222},{"$f":"COUNTIF(L96:L125,AI38)","v":0},{"$f":"AJ38/(AL4-AJ25)","v":0},{"$f":"IF(AK38=0,0,(AK38*((LOG(AK38))/LOG(2))))","v":0},null,{"$f":"N38","v":22222},{"$f":"COUNTIF(L126:L155,AN38)","v":2},{"$f":"AO38/(AQ4-AO25)","v":6.6666666666666666E-2},{"$f":"IF(AP38=0,0,(AP38*((LOG(AP38))/LOG(2))))","v":-0.26045937304056793},null,{"$f":"N38","v":22222},{"$f":"COUNTIF(L156:L185,AS38)","v":5},{"$f":"AT38/(AV4-AT25)","v":0.16666666666666666},{"$f":"IF(AU38=0,0,(AU38*((LOG(AU38))/LOG(2))))","v":-0.43082708345352599}]
[12,4099,13,4103,13,4107,14,4117,13,4123,0,11111,null,null,null,{"$f":"SUM(P7:P38)","v":1.0000000000000002},{"$f":"-SUM(Q7:Q38)","v":0.58217658028364627},null,null,null,null,{"$f":"SUM(V7:V38)","v":1},{"$f":"-SUM(W7:W38)","v":0.42002600168808801},null,null,null,{"$f":"SUM(AA7:AA38)","v":1},{"$f":"-SUM(AB7:AB38)","v":0.21084230031853213},null,null,null,{"$f":"SUM(AF7:AF38)","v":0.99999999999999989},{"$f":"-SUM(AG7:AG38)","v":0.64379366162176521},null,null,null,{"$f":"SUM(AK7:AK38)","v":1},{"$f":"-SUM(AL7:AL38)","v":0.21084230031853213},null,null,null,{"$f":"SUM(AP7:AP38)","v":1},{"$f":"-SUM(AQ7:AQ38)","v":0.35335933502142136},null,null,null,{"$f":"SUM(AU7:AU38)","v":1},{"$f":"-SUM(AV7:AV38)","v":0.85193257921703314}]
[12,4224,13,4229,13,4233,14,4238,13,4242,0,11111,null,null,null,"U=",{"$f":"Q39/(LOG(Q4)/LOG(2))","v":7.7791409838319614E-2},null,null,null,null,"U1=",{"$f":"W39/(LOG(W4)/LOG(2))","v":8.559921879326092E-2},null,null,null,"U2=",{"$f":"AB39/(LOG(AB4)/LOG(2))","v":4.2968616522085903E-2},null,null,null,"U3=",{"$f":"AG39/(LOG(AG4)/LOG(2))","v":0.13252288600294515},null,null,null,"U4=",{"$f":"AL39/(LOG(AL4)/LOG(2))","v":4.2968616522085903E-2},null,null,null,"U5=",{"$f":"AQ39/(LOG(AQ4)/LOG(2))","v":7.2012882320560523E-2},null,null,null,"U6=",{"$f":"AV39/(LOG(AV4)/LOG(2))","v":0.17361964009947164}]
[12,4347,13,4351,13,4356,14,4362,13,4367,0,11111]
[12,4471,13,4475,13,4480,14,4486,13,4490,0,11111]
[12,4597,13,4602,13,4614,14,4619,13,4628,1,11111,null,"Total Target Seq"]
[12,4724,13,4732,13,4738,14,4750,13,4754,0,11111,null,{"$f":"COUNTIF(L7:L185,G3)","v":0},null,30,30,29,30,30,30]
[12,4861,13,4875,13,4885,14,4890,13,4896,0,11111,null,null,null,"% of reinforcement given in 6 equal intervals based on number of trials "]
[12,4997,13,5001,13,5005,14,5009,13,5015,0,11111,null,null,null,"%_1","%_2","%_3","%_4","%_5","%_6"]
[12,5116,13,5125,13,5134,14,5150,13,5164,1,11111,null,null,"target sequence",{"$f":"$G$3","v":21121},{"$f":"$G$3","v":21121},{"$f":"$G$3","v":21121},{"$f":"$G$3","v":21121},{"$f":"$G$3","v":21121},{"$f":"$G$3","v":21121}]
[12,5259,13,5273,13,5284,14,5288,13,5296,0,11111,null,null,"total reinforcement",{"$f":"U25","v":0},{"$f":"Z25","v":0},{"$f":"AE25","v":0},{"$f":"AJ25","v":0},{"$f":"AO25","v":0},{"$f":"AT25","v":0}]
[12,5397,13,5402,13,5407,14,5411,13,5415,0,11111,null,null,"% target"]
[12,5519,13,5528,13,5532,14,5537,13,5541,0,11111,null,null,"CCRF"]
[12,5641,13,5646,13,5650,14,5656,13,5661,0,11111,null,null,"% CCRf"]
[12,5762,13,5767,13,5771,14,5775,13,5784,0,11111,null,null,"average response rate",{"$f":"J36/P44","v":125.03333333333333},{"$f":"(J66-J36)/Q44","v":128.4},{"$f":"(J95-J66)/R44","v":131.68965517241378},{"$f":"(J125-J95)/S44","v":141.1},{"$f":"(J155-J125)/T44","v":135.30000000000001},{"$f":"(J185-J155)/U44","v":140.43333333333334}]
[12,5884,13,5890,13,5894,14,5898,13,5903,0,11111]
[12,6005,13,6009,13,6014,14,6018,13,6022,0,11111]
[12,6122,13,6128,13,6132,14,6137,13,6142,1,11111]
[12,6260,24,6285,24,6298,23,6310,24,6319,0,12222]
[12,6425,13,6438,13,6442,14,6454,13,6459,0,11111]
[12,6563,13,6568,13,6573,14,6577,13,6582,0,11111]
[12,6683,13,6687,13,6695,14,6700,13,6704,0,11111]
[12,6806,13,6810,13,6814,14,6819,13,6824,0,11111]
[12,6929,13,6938,13,6943,14,6951,13,6955,0,11111]
[12,7070,13,7080,13,7085,14,7091,13,7095,1,11111]
[12,7188,13,7214,13,7219,14,7224,13,7229,0,11111]
[12,7327,13,7331,13,7343,14,7348,13,7356,0,11111]
[12,7455,13,7464,13,7474,14,7479,13,7484,0,11111]
[12,7583,13,7587,13,7595,14,7599,13,7603,0,11111]
[12,7703,13,7707,13,7711,14,7715,13,7719,0,11111]
[12,7826,13,7830,13,7834,14,7842,13,7846,0,11111]
[12,7946,13,7955,13,7959,14,7964,13,7968,0,11111]
[12,8068,13,8080,13,8085,23,8107,24,8116,0,11122]
[12,8216,13,8220,13,8228,14,8232,13,8237,1,11111]
[12,8342,13,8362,13,8367,14,8373,13,8385,0,11111]
[12,8495,13,8517,13,8527,14,8531,13,8539,0,11111]
[12,8646,13,8660,13,8665,14,8669,13,8677,0,11111]
[12,8782,13,8786,13,8791,14,8796,13,8801,0,11111]
[12,8916,13,8923,24,8942,23,8948,24,8956,0,11222]
[12,9055,13,9059,13,9066,14,9071,13,9083,0,11111]
[12,9179,13,9183,13,9197,14,9206,13,9212,0,11111]
[12,9317,13,9322,13,9327,14,9331,13,9340,1,11111]
[12,9440,13,9453,13,9457,14,9468,13,9475,0,11111]
[12,9576,13,9581,13,9589,14,9599,13,9603,0,11111]
[12,9705,13,9709,13,9713,14,9721,13,9729,0,11111]
[12,9832,13,9837,13,9841,14,9846,13,9851,0,11111]
[12,9950,13,9955,13,9959,14,9963,13,9967,0,11111]
[12,10071,13,10075,13,10080,14,10084,13,10089,0,11111]
[12,10199,13,10203,13,10209,14,10213,13,10221,0,11111]
[12,10324,13,10329,13,10334,14,10339,13,10343,0,11111]
[12,10449,13,10454,13,10458,14,10473,13,10478,0,11111]
[12,10585,13,10594,13,10598,14,10603,13,10611,0,11111]
[12,10716,13,10721,13,10725,14,10734,13,10739,1,11111]
[21,10891,22,10895,24,10900,23,10907,24,10916,0,22222]
[12,11027,13,11033,13,11042,14,11047,13,11053,0,11111]
[12,11152,13,11159,13,11164,14,11168,13,11172,0,11111]
[12,11279,13,11283,13,11290,14,11295,13,11304,0,11111]
[12,11405,13,11409,13,11413,14,11418,13,11422,0,11111]
[12,11527,13,11531,13,11535,14,11539,13,11544,0,11111]
[12,11651,13,11660,13,11667,14,11671,13,11676,0,11111]
[12,11783,13,11787,13,11794,14,11799,13,11803,0,11111]
[12,11913,13,11922,13,11932,14,11937,13,11950,0,11111]
[12,12058,13,12062,13,12067,14,12071,13,12076,0,11111]
[12,12181,13,12189,13,12194,14,12203,13,12212,1,11111]
[12,12335,13,12344,13,12354,14,12358,13,12367,0,11111]
[12,12476,13,12481,13,12490,14,12503,13,12511,0,11111]
[12,12615,13,12620,13,12624,14,12628,13,12637,1,11111]
[12,12757,13,12764,13,12769,14,12774,13,12791,0,11111]
[12,12903,13,12920,13,12929,14,12935,13,12940,0,11111]
[12,13044,13,13049,13,13054,14,13059,13,13064,0,11111]
[12,13163,13,13167,13,13171,14,13176,13,13180,1,11111]
[12,13299,13,13304,13,13314,14,13326,13,13338,1,11111]
[12,13528,13,13543,13,13548,14,13561,13,13565,0,11111]
[12,13689,24,13713,24,13757,23,13762,24,13769,1,12222]
[12,13869,13,13877,13,13886,14,13891,13,13895,0,11111]
[12,14009,13,14021,13,14026,14,14030,13,14035,0,11111]
[12,14146,13,14150,13,14158,14,14163,13,14167,0,11111]
[12,14270,13,14275,13,14279,14,14285,13,14290,0,11111]
[12,14396,13,14401,13,14406,14,14411,13,14416,0,11111]
[12,14532,13,14541,13,14546,14,14558,13,14563,0,11111]
[12,14663,13,14667,13,14671,14,14675,13,14680,0,11111]
[12,14797,13,14808,13,14812,14,14825,13,14830,1,11111]
[12,14940,13,14953,13,14963,14,14969,13,14983,1,11111]
[12,15094,13,15106,13,15113,14,15118,13,15130,0,11111]
[12,15231,13,15238,13,15245,14,15249,13,15258,0,11111]
[12,15364,13,15373,13,15377,14,15385,13,15390,1,11111]
[12,15495,13,15499,13,15503,14,15515,13,15523,0,11111]
[12,15633,13,15637,13,15642,14,15650,13,15655,1,11111]
[12,15754,13,15758,13,15767,14,15781,13,15785,0,11111]
[12,15889,13,15894,13,15903,14,15907,13,15914,0,11111]
[12,16017,13,16028,13,16037,14,16049,13,16053,0,11111]
[12,16153,13,16157,13,16161,14,16169,13,16179,1,11111]
[12,16293,13,16297,13,16315,14,16322,13,16327,0,11111]
[12,16433,13,16441,13,16450,14,16463,13,16468,0,11111]
[12,16581,13,16590,13,16595,14,16600,13,16604,0,11111]
[12,16707,13,16711,13,16715,14,16720,13,16725,1,11111]
[12,16834,13,16838,13,16843,14,16852,13,16857,0,11111]
[12,16974,13,16993,13,17006,14,17019,13,17027,0,11111]
[12,17136,13,17140,13,17150,14,17155,13,17160,0,11111]
[12,17267,13,17278,13,17282,14,17287,13,17296,1,11111]
[21,17414,22,17427,24,17432,23,17437,24,17448,0,22222]
[12,17551,13,17556,13,17563,14,17570,13,17576,0,11111]
[12,17679,13,17687,13,17695,14,17699,13,17707,0,11111]
[12,17813,13,17818,13,17822,14,17826,13,17832,0,11111]
[12,17936,13,17945,13,17950,14,17957,13,17963,0,11111]
[12,18080,13,18093,13,18107,14,18111,13,18116,1,11111]
[21,18235,22,18240,24,18245,23,18253,24,18260,0,22222]
[12,18376,13,18380,13,18384,14,18389,13,18396,0,11111]
[12,18504,13,18508,13,18513,14,18517,13,18522,0,11111]
[12,18634,13,18638,13,18652,14,18656,13,18660,0,11111]
[12,18767,13,18771,13,18775,14,18781,13,18789,0,11111]
[12,18895,13,18899,13,18903,14,18907,13,18913,1,11111]
[12,19021,13,19028,13,19033,14,19037,13,19045,0,11111]
[12,19149,13,19154,13,19158,14,19163,13,19186,0,11111]
[12,19307,13,19321,13,19326,14,19334,13,19338,0,11111]
[12,19436,13,19440,13,19452,14,19456,13,19467,0,11111]
[12,19568,13,19578,13,19582,14,19586,13,19591,0,11111]
[12,19689,13,19693,13,19697,14,19709,13,19714,0,11111]
[12,19818,13,19822,13,19827,14,19831,13,19839,0,11111]
[12,19964,13,19973,13,19987,14,19992,13,20003,1,11111]
[12,20102,13,20110,13,20114,14,20125,13,20129,1,11111]
[12,20233,13,20243,13,20247,14,20252,13,20264,0,11111]
[12,20369,13,20374,13,20379,14,20387,13,20395,0,11111]
[12,20497,13,20504,13,20509,14,20512,13,20517,0,11111]
[12,20625,13,20629,13,20634,14,20646,13,20654,0,11111]
[21,20774,22,20778,24,20784,23,20788,24,20794,0,22222]
[21,20907,22,20915,24,20927,23,20935,24,20943,0,22222]
[12,21053,13,21061,13,21065,14,21079,13,21092,0,11111]
[12,21217,13,21229,13,21233,14,21242,13,21251,1,11111]
[12,21354,24,21375,24,21384,23,21392,24,21406,0,12222]
[12,21531,13,21541,13,21554,14,21559,13,21570,0,11111]
[12,21677,13,21681,13,21685,14,21689,13,21694,0,11111]
[21,21800,22,21804,24,21810,23,21818,24,21824,0,22222]
[12,21928,13,21939,13,21946,14,21951,13,21964,0,11111]
[12,22072,13,22076,13,22084,14,22089,13,22093,0,11111]
[12,22200,13,22209,13,22213,14,22228,13,22232,0,11111]
[21,22346,22,22350,24,22355,23,22362,24,22369,0,22222]
[12,22471,13,22479,13,22484,14,22488,13,22503,0,11111]
[12,22618,13,22623,13,22628,14,22637,13,22642,1,11111]
[21,22783,22,22787,24,22791,23,22805,24,22810,0,22222]
[12,22931,13,22945,13,22952,14,22960,13,22968,0,11111]
[12,23081,13,23086,13,23090,14,23095,13,23112,0,11111]
[12,23214,13,23219,13,23223,14,23230,13,23236,0,11111]
[12,23344,13,23351,13,23361,14,23366,13,23378,1,11111]
[12,23492,13,23500,13,23518,14,23524,13,23532,0,11111]
[12,23656,13,23661,13,23667,14,23676,13,23685,0,11111]
[12,23790,13,23795,13,23800,14,23804,13,23809,0,11111]
[12,23910,13,23914,13,23918,14,23922,13,23927,null,11111]

{"sheet":"!MC04A00.010","index":7,"n_rows":185,"n_cols":48,"rows_kept":185,"cut":false,"hidden":false,"merged":[[4,39,4,42],[5,39,5,40],[4,44,4,47],[5,44,5,45],[4,24,4,27],[5,24,5,25],[4,29,4,32],[5,29,5,30],[4,34,4,37],[5,34,5,35],[1,1,1,2],[5,13,5,14],[42,13,42,14],[43,13,43,14],[4,19,4,22],[5,19,5,20]]}
["Report for:!MC04A00.010"]
["Date:","<date>"]
["Hen:","<hen>",null,null,null,"Correct Sequence",{"$f":"Start!J2","v":21121},null,null,null,null,null,null,null,null,"Total Sequences in Data",{"$f":"4994-COUNTBLANK(L7:L5000)","v":179},null,null,null,null,"Total Sequences in Block Data",{"$f":"COUNTA(L7:L36)","v":30},null,null,null,"Total Sequences in Block Data",{"$f":"COUNTA(L37:L66)","v":30},null,null,null,"Total Sequences in Block Data",{"$f":"COUNTA(L67:L95)","v":29},null,null,null,"Total Sequences in Block Data",{"$f":"COUNTA(L96:L125)","v":30},null,null,null,"Total Sequences in Block Data",{"$f":"COUNTA(L126:L155)","v":30},null,null,null,"Total Sequences in Block Data",{"$f":"COUNTA(L156:L185)","v":30}]
[null,null,null,null,null,null,null,null,null,null,null,null,null,null,null,"Total Sequences in Summary",{"$f":"SUM(O7:O38)","v":179},null,null,null,null,"Total Sequences in Block Summary",{"$f":"SUM(U7:U38)","v":30},null,null,null,"Total Sequences in Block Summary",{"$f":"SUM(Z7:Z38)","v":30},null,null,null,"Total Sequences in Block Summary",{"$f":"SUM(AE7:AE38)","v":29},null,null,null,"Total Sequences in Block Summary",{"$f":"SUM(AJ7:AJ38)","v":30},null,null,null,"Total Sequences in Block Summary",{"$f":"SUM(AO7:AO38)","v":30},null,null,null,"Total Sequences in Block Summary",{"$f":"SUM(AT7:AT38)","v":30}]
[null,null,null,null,null,null,null,null,null,null,null,null,null,null,null,null,null,null,null,"Block 1",null,null,null,null,"Block 2",null,null,null,null,"Block 3",null,null,null,null,"Block 4",null,null,null,null,"Block 5",null,null,null,null,"Block 6"]
["Sequence\nComponent\n1","Time\n1","Sequence\nComponent\n2","Time\n2","Sequence\nComponent\n3","Time\n3","Sequence\nComponent\n4","Time\n4","Sequence\nComponent\n5","Time\n5","Correct?\n0=No 1=Yes","Sequence",null,"Frequency",null,"Relative Frequency","Variability",null,null,"Frequency",null,"Relative Frequency","Variability",null,"Frequency",null,"Relative Frequency","Variability",null,"Frequency",null,"Relative Frequency","Variability",null,"Frequency",null,"Relative Frequency","Variability",null,"Frequency",null,"Relative Frequency","Variability",null,"Frequency",null,"Relative Frequency","Variability"]
[12,35,13,41,13,46,14,52,13,58,0,11111,null,11111,{"$f":"COUNTIF($L$7:$L$500,N7)","v":170},{"$f":"O7/$Q$4","v":0.94972067039106145},{"$f":"IF(P7=0,0,(P7*((LOG(P7))/LOG(2))))","v":-7.0682810008459745E-2},null,null,{"$f":"N7","v":11111},{"$f":"COUNTIF(L7:L36,T7)","v":29},{"$f":"U7/(W4-U25)","v":0.96666666666666667},{"$f":"IF(V7=0,0,(V7*((LOG(V7))/LOG(2))))","v":-4.727928046491485E-2},null,{"$f":"N7","v":11111},{"$f":"COUNTIF(L37:L66,Y7)","v":30},{"$f":"Z7/(AB4-Z25)","v":1},{"$f":"IF(AA7=0,0,(AA7*((LOG(AA7))/LOG(2))))","v":0},null,{"$f":"N7","v":11111},{"$f":"COUNTIF(L67:L95,AD7)","v":26},{"$f":"AE7/(AG4-AE25)","v":0.89655172413793105},{"$f":"IF(AF7=0,0,(AF7*((LOG(AF7))/LOG(2))))","v":-0.14124390350511995},null,{"$f":"N7","v":11111},{"$f":"COUNTIF(L96:L125,AI7)","v":28},{"$f":"AJ7/(AL4-AJ25)","v":0.93333333333333335},{"$f":"IF(AK7=0,0,(AK7*((LOG(AK7))/LOG(2))))","v":-9.2899961980853443E-2},null,{"$f":"N7","v":11111},{"$f":"COUNTIF(L126:L155,AN7)","v":29},{"$f":"AO7/(AQ4-AO25)","v":0.96666666666666667},{"$f":"IF(AP7=0,0,(AP7*((LOG(AP7))/LOG(2))))","v":-4.727928046491485E-2},null,{"$f":"N7","v":11111},{"$f":"COUNTIF(L156:L185,AS7)","v":28},{"$f":"AT7/(AV4-AT25)","v":0.93333333333333335},{"$f":"IF(AU7=0,0,(AU7*((LOG(AU7))/LOG(2))))","v":-9.2899961980853443E-2}]
[12,183,13,189,13,194,14,200,13,209,0,11111,null,11112,{"$f":"COUNTIF($L$7:$L$500,N8)","v":2},{"$f":"O8/$Q$4","v":1.11731843575419E-2},{"$f":"IF(P8=0,0,(P8*((LOG(P8))/LOG(2))))","v":-7.2444869019712366E-2},null,null,{"$f":"N8","v":11112},{"$f":"COUNTIF(L7:L36,T8)","v":0},{"$f":"U8/(W4-U25)","v":0},{"$f":"IF(V8=0,0,(V8*((LOG(V8))/LOG(2))))","v":0},null,{"$f":"N8","v":11112},{"$f":"COUNTIF(L37:L66,Y8)","v":0},{"$f":"Z8/(AB4-Z25)","v":0},{"$f":"IF(AA8=0,0,(AA8*((LOG(AA8))/LOG(2))))","v":0},null,{"$f":"N8","v":11112},{"$f":"COUNTIF(L67:L95,AD8)","v":0},{"$f":"AE8/(AG4-AE25)","v":0},{"$f":"IF(AF8=0,0,(AF8*((LOG(AF8))/LOG(2))))","v":0},null,{"$f":"N8","v":11112},{"$f":"COUNTIF(L96:L125,AI8)","v":1},{"$f":"AJ8/(AL4-AJ25)","v":3.3333333333333333E-2},{"$f":"IF(AK8=0,0,(AK8*((LOG(AK8))/LOG(2))))","v":-0.16356301985361729},null,{"$f":"N8","v":11112},{"$f":"COUNTIF(L126:L155,AN8)","v":0},{"$f":"AO8/(AQ4-AO25)","v":0},{"$f":"IF(AP8=0,0,(AP8*((LOG(AP8))/LOG(2))))","v":0},null,{"$f":"N8","v":11112},{"$f":"COUNTIF(L156:L185,AS8)","v":1},{"$f":"AT8/(AV4-AT25)","v":3.3333333333333333E-2},{"$f":"IF(AU8=0,0,(AU8*((LOG(AU8))/LOG(2))))","v":-0.16356301985361729}]
[12,311,13,315,13,320,14,325,13,333,1,11111,null,11121,{"$f":"COUNTIF($L$7:$L$500,N9)","v":0},{"$f":"O9/$Q$4","v":0},{"$f":"IF(P9=0,0,(P9*((LOG(P9))/LOG(2))))","v":0},null,null,{"$f":"N9","v":11121},{"$f":"COUNTIF(L7:L36,T9)","v":0},{"$f":"U9/(W4-U25)","v":0},{"$f":"IF(V9=0,0,(V9*((LOG(V9))/LOG(2))))","v":0},null,{"$f":"N9","v":11121},{"$f":"COUNTIF(L37:L66,Y9)","v":0},{"$f":"Z9/(AB4-Z25)","v":0},{"$f":"IF(AA9=0,0,(AA9*((LOG(AA9))/LOG(2))))","v":0},null,{"$f":"N9","v":11121},{"$f":"COUNTIF(L67:L95,AD9)","v":0},{"$f":"AE9/(AG4-AE25)","v":0},{"$f":"IF(AF9=0,0,(AF9*((LOG(AF9))/LOG(2))))","v":0},null,{"$f":"N9","v":11121},{"$f":"COUNTIF(L96:L125,AI9)","v":0},{"$f":"AJ9/(AL4-AJ25)","v":0},{"$f":"IF(AK9=0,0,(AK9*((LOG(AK9))/LOG(2))))","v":0},null,{"$f":"N9","v":11121},{"$f":"COUNTIF(L126:L155,AN9)","v":0},{"$f":"AO9/(AQ4-AO25)","v":0},{"$f":"IF(AP9=0,0,(AP9*((LOG(AP9))/LOG(2))))","v":0},null,{"$f":"N9","v":11121},{"$f":"COUNTIF(L156:L185,AS9)","v":0},{"$f":"AT9/(AV4-AT25)","v":0},{"$f":"IF(AU9=0,0,(AU9*((LOG(AU9))/LOG(2))))","v":0}]
[12,429,13,437,13,459,14,465,13,470,0,11111,null,11122,{"$f":"COUNTIF($L$7:$L$500,N10)","v":2},{"$f":"O10/$Q$4","v":1.11731843575419E-2},{"$f":"IF(P10=0,0,(P10*((LOG(P10))/LOG(2))))","v":-7.2444869019712366E-2},null,null,{"$f":"N10","v":11122},{"$f":"COUNTIF(L7:L36,T10)","v":1},{"$f":"U10/(W4-U25)","v":3.3333333333333333E-2},{"$f":"IF(V10=0,0,(V10*((LOG(V10))/LOG(2))))","v":-0.16356301985361729},null,{"$f":"N10","v":11122},{"$f":"COUNTIF(L37:L66,Y10)","v":0},{"$f":"Z10/(AB4-Z25)","v":0},{"$f":"IF(AA10=0,0,(AA10*((LOG(AA10))/LOG(2))))","v":0},null,{"$f":"N10","v":11122},{"$f":"COUNTIF(L67:L95,AD10)","v":1},{"$f":"AE10/(AG4-AE25)","v":3.4482758620689655E-2},{"$f":"IF(AF10=0,0,(AF10*((LOG(AF10))/LOG(2))))","v":-0.16751658603888178},null,{"$f":"N10","v":11122},{"$f":"COUNTIF(L96:L125,AI10)","v":0},{"$f":"AJ10/(AL4-AJ25)","v":0},{"$f":"IF(AK10=0,0,(AK10*((LOG(AK10))/LOG(2))))","v":0},null,{"$f":"N10","v":11122},{"$f":"COUNTIF(L126:L155,AN10)","v":0},{"$f":"AO10/(AQ4-AO25)","v":0},{"$f":"IF(AP10=0,0,(AP10*((LOG(AP10))/LOG(2))))","v":0},null,{"$f":"N10","v":11122},{"$f":"COUNTIF(L156:L185,AS10)","v":0},{"$f":"AT10/(AV4-AT25)","v":0},{"$f":"IF(AU10=0,0,(AU10*((LOG(AU10))/LOG(2))))","v":0}]
[12,569,13,574,13,579,14,584,13,589,0,11111,null,11211,{"$f":"COUNTIF($L$7:$L$500,N11)","v":0},{"$f":"O11/$Q$4","v":0},{"$f":"IF(P11=0,0,(P11*((LOG(P11))/LOG(2))))","v":0},null,null,{"$f":"N11","v":11211},{"$f":"COUNTIF(L7:L36,T11)","v":0},{"$f":"U11/(W4-U25)","v":0},{"$f":"IF(V11=0,0,(V11*((LOG(V11))/LOG(2))))","v":0},null,{"$f":"N11","v":11211},{"$f":"COUNTIF(L37:L66,Y11)","v":0},{"$f":"Z11/(AB4-Z25)","v":0},{"$f":"IF(AA11=0,0,(AA11*((LOG(AA11))/LOG(2))))","v":0},null,{"$f":"N11","v":11211},{"$f":"COUNTIF(L67:L95,AD11)","v":0},{"$f":"AE11/(AG4-AE25)","v":0},{"$f":"IF(AF11=0,0,(AF11*((LOG(AF11))/LOG(2))))","v":0},null,{"$f":"N11","v":11211},{"$f":"COUNTIF(L96:L125,AI11)","v":0},{"$f":"AJ11/(AL4-AJ25)","v":0},{"$f":"IF(AK11=0,0,(AK11*((LOG(AK11))/LOG(2))))","v":0},null,{"$f":"N11","v":11211},{"$f":"COUNTIF(L126:L155,AN11)","v":0},{"$f":"AO11/(AQ4-AO25)","v":0},{"$f":"IF(AP11=0,0,(AP11*((LOG(AP11))/LOG(2))))","v":0},null,{"$f":"N11","v":11211},{"$f":"COUNTIF(L156:L185,AS11)","v":0},{"$f":"AT11/(AV4-AT25)","v":0},{"$f":"IF(AU11=0,0,(AU11*((LOG(AU11))/LOG(2))))","v":0}]
[12,691,13,696,13,701,14,706,13,711,0,11111,null,11212,{"$f":"COUNTIF($L$7:$L$500,N12)","v":0},{"$f":"O12/$Q$4","v":0},{"$f":"IF(P12=0,0,(P12*((LOG(P12))/LOG(2))))","v":0},null,null,{"$f":"N12","v":11212},{"$f":"COUNTIF(L7:L36,T12)","v":0},{"$f":"U12/(W4-U25)","v":0},{"$f":"IF(V12=0,0,(V12*((LOG(V12))/LOG(2))))","v":0},null,{"$f":"N12","v":11212},{"$f":"COUNTIF(L37:L66,Y12)","v":0},{"$f":"Z12/(AB4-Z25)","v":0},{"$f":"IF(AA12=0,0,(AA12*((LOG(AA12))/LOG(2))))","v":0},null,{"$f":"N12","v":11212},{"$f":"COUNTIF(L67:L95,AD12)","v":0},{"$f":"AE12/(AG4-AE25)","v":0},{"$f":"IF(AF12=0,0,(AF12*((LOG(AF12))/LOG(2))))","v":0},null,{"$f":"N12","v":11212},{"$f":"COUNTIF(L96:L125,AI12)","v":0},{"$f":"AJ12/(AL4-AJ25)","v":0},{"$f":"IF(AK12=0,0,(AK12*((LOG(AK12))/LOG(2))))","v":0},null,{"$f":"N12","v":11212},{"$f":"COUNTIF(L126:L155,AN12)","v":0},{"$f":"AO12/(AQ4-AO25)","v":0},{"$f":"IF(AP12=0,0,(AP12*((LOG(AP12))/LOG(2))))","v":0},null,{"$f":"N12","v":11212},{"$f":"COUNTIF(L156:L185,AS12)","v":0},{"$f":"AT12/(AV4-AT25)","v":0},{"$f":"IF(AU12=0,0,(AU12*((LOG(AU12))/LOG(2))))","v":0}]
[12,811,13,820,13,825,14,831,13,837,0,11111,null,11221,{"$f":"COUNTIF($L$7:$L$500,N13)","v":0},{"$f":"O13/$Q$4","v":0},{"$f":"IF(P13=0,0,(P13*((LOG(P13))/LOG(2))))","v":0},null,null,{"$f":"N13","v":11221},{"$f":"COUNTIF(L7:L36,T13)","v":0},{"$f":"U13/(W4-U25)","v":0},{"$f":"IF(V13=0,0,(V13*((LOG(V13))/LOG(2))))","v":0},null,{"$f":"N13","v":11221},{"$f":"COUNTIF(L37:L66,Y13)","v":0},{"$f":"Z13/(AB4-Z25)","v":0},{"$f":"IF(AA13=0,0,(AA13*((LOG(AA13))/LOG(2))))","v":0},null,{"$f":"N13","v":11221},{"$f":"COUNTIF(L67:L95,AD13)","v":0},{"$f":"AE13/(AG4-AE25)","v":0},{"$f":"IF(AF13=0,0,(AF13*((LOG(AF13))/LOG(2))))","v":0},null,{"$f":"N13","v":11221},{"$f":"COUNTIF(L96:L125,AI13)","v":0},{"$f":"AJ13/(AL4-AJ25)","v":0},{"$f":"IF(AK13=0,0,(AK13*((LOG(AK13))/LOG(2))))","v":0},null,{"$f":"N13","v":11221},{"$f":"COUNTIF(L126:L155,AN13)","v":0},{"$f":"AO13/(AQ4-AO25)","v":0},{"$f":"IF(AP13=0,0,(AP13*((LOG(AP13))/LOG(2))))","v":0},null,{"$f":"N13","v":11221},{"$f":"COUNTIF(L156:L185,AS13)","v":0},{"$f":"AT13/(AV4-AT25)","v":0},{"$f":"IF(AU13=0,0,(AU13*((LOG(AU13))/LOG(2))))","v":0}]
[12,947,13,952,13,957,14,963,13,969,0,11111,null,11222,{"$f":"COUNTIF($L$7:$L$500,N14)","v":1},{"$f":"O14/$Q$4","v":5.5865921787709499E-3},{"$f":"IF(P14=0,0,(P14*((LOG(P14))/LOG(2))))","v":-4.1809026688627134E-2},null,null,{"$f":"N14","v":11222},{"$f":"COUNTIF(L7:L36,T14)","v":0},{"$f":"U14/(W4-U25)","v":0},{"$f":"IF(V14=0,0,(V14*((LOG(V14))/LOG(2))))","v":0},null,{"$f":"N14","v":11222},{"$f":"COUNTIF(L37:L66,Y14)","v":0},{"$f":"Z14/(AB4-Z25)","v":0},{"$f":"IF(AA14=0,0,(AA14*((LOG(AA14))/LOG(2))))","v":0},null,{"$f":"N14","v":11222},{"$f":"COUNTIF(L67:L95,AD14)","v":0},{"$f":"AE14/(AG4-AE25)","v":0},{"$f":"IF(AF14=0,0,(AF14*((LOG(AF14))/LOG(2))))","v":0},null,{"$f":"N14","v":11222},{"$f":"COUNTIF(L96:L125,AI14)","v":1},{"$f":"AJ14/(AL4-AJ25)","v":3.3333333333333333E-2},{"$f":"IF(AK14=0,0,(AK14*((LOG(AK14))/LOG(2))))","v":-0.16356301985361729},null,{"$f":"N14","v":11222},{"$f":"COUNTIF(L126:L155,AN14)","v":0},{"$f":"AO14/(AQ4-AO25)","v":0},{"$f":"IF(AP14=0,0,(AP14*((LOG(AP14))/LOG(2))))","v":0},null,{"$f":"N14","v":11222},{"$f":"COUNTIF(L156:L185,AS14)","v":0},{"$f":"AT14/(AV4-AT25)","v":0},{"$f":"IF(AU14=0,0,(AU14*((LOG(AU14))/LOG(2))))","v":0}]
[12,1077,13,1086,13,1094,14,1101,13,1105,1,11111,null,12111,{"$f":"COUNTIF($L$7:$L$500,N15)","v":0},{"$f":"O15/$Q$4","v":0},{"$f":"IF(P15=0,0,(P15*((LOG(P15))/LOG(2))))","v":0},null,null,{"$f":"N15","v":12111},{"$f":"COUNTIF(L7:L36,T15)","v":0},{"$f":"U15/(W4-U25)","v":0},{"$f":"IF(V15=0,0,(V15*((LOG(V15))/LOG(2))))","v":0},null,{"$f":"N15","v":12111},{"$f":"COUNTIF(L37:L66,Y15)","v":0},{"$f":"Z15/(AB4-Z25)","v":0},{"$f":"IF(AA15=0,0,(AA15*((LOG(AA15))/LOG(2))))","v":0},null,{"$f":"N15","v":12111},{"$f":"COUNTIF(L67:L95,AD15)","v":0},{"$f":"AE15/(AG4-AE25)","v":0},{"$f":"IF(AF15=0,0,(AF15*((LOG(AF15))/LOG(2))))","v":0},null,{"$f":"N15","v":12111},{"$f":"COUNTIF(L96:L125,AI15)","v":0},{"$f":"AJ15/(AL4-AJ25)","v":0},{"$f":"IF(AK15=0,0,(AK15*((LOG(AK15))/LOG(2))))","v":0},null,{"$f":"N15","v":12111},{"$f":"COUNTIF(L126:L155,AN15)","v":0},{"$f":"AO15/(AQ4-AO25)","v":0},{"$f":"IF(AP15=0,0,(AP15*((LOG(AP15))/LOG(2))))","v":0},null,{"$f":"N15","v":12111},{"$f":"COUNTIF(L156:L185,AS15)","v":0},{"$f":"AT15/(AV4-AT25)","v":0},{"$f":"IF(AU15=0,0,(AU15*((LOG(AU15))/LOG(2))))","v":0}]
[12,1209,13,1213,13,1218,14,1222,13,1227,0,11111,null,12112,{"$f":"COUNTIF($L$7:$L$500,N16)","v":0},{"$f":"O16/$Q$4","v":0},{"$f":"IF(P16=0,0,(P16*((LOG(P16))/LOG(2))))","v":0},null,null,{"$f":"N16","v":12112},{"$f":"COUNTIF(L7:L36,T16)","v":0},{"$f":"U16/(W4-U25)","v":0},{"$f":"IF(V16=0,0,(V16*((LOG(V16))/LOG(2))))","v":0},null,{"$f":"N16","v":12112},{"$f":"COUNTIF(L37:L66,Y16)","v":0},{"$f":"Z16/(AB4-Z25)","v":0},{"$f":"IF(AA16=0,0,(AA16*((LOG(AA16))/LOG(2))))","v":0},null,{"$f":"N16","v":12112},{"$f":"COUNTIF(L67:L95,AD16)","v":0},{"$f":"AE16/(AG4-AE25)","v":0},{"$f":"IF(AF16=0,0,(AF16*((LOG(AF16))/LOG(2))))","v":0},null,{"$f":"N16","v":12112},{"$f":"COUNTIF(L96:L125,AI16)","v":0},{"$f":"AJ16/(AL4-AJ25)","v":0},{"$f":"IF(AK16=0,0,(AK16*((LOG(AK16))/LOG(2))))","v":0},null,{"$f":"N16","v":12112},{"$f":"COUNTIF(L126:L155,AN16)","v":0},{"$f":"AO16/(AQ4-AO25)","v":0},{"$f":"IF(AP16=0,0,(AP16*((LOG(AP16))/LOG(2))))","v":0},null,{"$f":"N16","v":12112},{"$f":"COUNTIF(L156:L185,AS16)","v":0},{"$f":"AT16/(AV4-AT25)","v":0},{"$f":"IF(AU16=0,0,(AU16*((LOG(AU16))/LOG(2))))","v":0}]
[12,1326,13,1331,13,1336,14,1341,13,1347,0,11111,null,12121,{"$f":"COUNTIF($L$7:$L$500,N17)","v":0},{"$f":"O17/$Q$4","v":0},{"$f":"IF(P17=0,0,(P17*((LOG(P17))/LOG(2))))","v":0},null,null,{"$f":"N17","v":12121},{"$f":"COUNTIF(L7:L36,T17)","v":0},{"$f":"U17/(W4-U25)","v":0},{"$f":"IF(V17=0,0,(V17*((LOG(V17))/LOG(2))))","v":0},null,{"$f":"N17","v":12121},{"$f":"COUNTIF(L37:L66,Y17)","v":0},{"$f":"Z17/(AB4-Z25)","v":0},{"$f":"IF(AA17=0,0,(AA17*((LOG(AA17))/LOG(2))))","v":0},null,{"$f":"N17","v":12121},{"$f":"COUNTIF(L67:L95,AD17)","v":0},{"$f":"AE17/(AG4-AE25)","v":0},{"$f":"IF(AF17=0,0,(AF17*((LOG(AF17))/LOG(2))))","v":0},null,{"$f":"N17","v":12121},{"$f":"COUNTIF(L96:L125,AI17)","v":0},{"$f":"AJ17/(AL4-AJ25)","v":0},{"$f":"IF(AK17=0,0,(AK17*((LOG(AK17))/LOG(2))))","v":0},null,{"$f":"N17","v":12121},{"$f":"COUNTIF(L126:L155,AN17)","v":0},{"$f":"AO17/(AQ4-AO25)","v":0},{"$f":"IF(AP17=0,0,(AP17*((LOG(AP17))/LOG(2))))","v":0},null,{"$f":"N17","v":12121},{"$f":"COUNTIF(L156:L185,AS17)","v":0},{"$f":"AT17/(AV4-AT25)","v":0},{"$f":"IF(AU17=0,0,(AU17*((LOG(AU17))/LOG(2))))","v":0}]
[12,1451,13,1460,13,1466,14,1471,13,1476,1,11111,null,12122,{"$f":"COUNTIF($L$7:$L$500,N18)","v":0},{"$f":"O18/$Q$4","v":0},{"$f":"IF(P18=0,0,(P18*((LOG(P18))/LOG(2))))","v":0},null,null,{"$f":"N18","v":12122},{"$f":"COUNTIF(L7:L36,T18)","v":0},{"$f":"U18/(W4-U25)","v":0},{"$f":"IF(V18=0,0,(V18*((LOG(V18))/LOG(2))))","v":0},null,{"$f":"N18","v":12122},{"$f":"COUNTIF(L37:L66,Y18)","v":0},{"$f":"Z18/(AB4-Z25)","v":0},{"$f":"IF(AA18=0,0,(AA18*((LOG(AA18))/LOG(2))))","v":0},null,{"$f":"N18","v":12122},{"$f":"COUNTIF(L67:L95,AD18)","v":0},{"$f":"AE18/(AG4-AE25)","v":0},{"$f":"IF(AF18=0,0,(AF18*((LOG(AF18))/LOG(2))))","v":0},null,{"$f":"N18","v":12122},{"$f":"COUNTIF(L96:L125,AI18)","v":0},{"$f":"AJ18/(AL4-AJ25)","v":0},{"$f":"IF(AK18=0,0,(AK18*((LOG(AK18))/LOG(2))))","v":0},null,{"$f":"N18","v":12122},{"$f":"COUNTIF(L126:L155,AN18)","v":0},{"$f":"AO18/(AQ4-AO25)","v":0},{"$f":"IF(AP18=0,0,(AP18*((LOG(AP18))/LOG(2))))","v":0},null,{"$f":"N18","v":12122},{"$f":"COUNTIF(L156:L185,AS18)","v":0},{"$f":"AT18/(AV4-AT25)","v":0},{"$f":"IF(AU18=0,0,(AU18*((LOG(AU18))/LOG(2))))","v":0}]
[12,1572,13,1577,13,1582,14,1586,13,1592,0,11111,null,12211,{"$f":"COUNTIF($L$7:$L$500,N19)","v":0},{"$f":"O19/$Q$4","v":0},{"$f":"IF(P19=0,0,(P19*((LOG(P19))/LOG(2))))","v":0},null,null,{"$f":"N19","v":12211},{"$f":"COUNTIF(L7:L36,T19)","v":0},{"$f":"U19/(W4-U25)","v":0},{"$f":"IF(V19=0,0,(V19*((LOG(V19))/LOG(2))))","v":0},null,{"$f":"N19","v":12211},{"$f":"COUNTIF(L37:L66,Y19)","v":0},{"$f":"Z19/(AB4-Z25)","v":0},{"$f":"IF(AA19=0,0,(AA19*((LOG(AA19))/LOG(2))))","v":0},null,{"$f":"N19","v":12211},{"$f":"COUNTIF(L67:L95,AD19)","v":0},{"$f":"AE19/(AG4-AE25)","v":0},{"$f":"IF(AF19=0,0,(AF19*((LOG(AF19))/LOG(2))))","v":0},null,{"$f":"N19","v":12211},{"$f":"COUNTIF(L96:L125,AI19)","v":0},{"$f":"AJ19/(AL4-AJ25)","v":0},{"$f":"IF(AK19=0,0,(AK19*((LOG(AK19))/LOG(2))))","v":0},null,{"$f":"N19","v":12211},{"$f":"COUNTIF(L126:L155,AN19)","v":0},{"$f":"AO19/(AQ4-AO25)","v":0},{"$f":"IF(AP19=0,0,(AP19*((LOG(AP19))/LOG(2))))","v":0},null,{"$f":"N19","v":12211},{"$f":"COUNTIF(L156:L185,AS19)","v":0},{"$f":"AT19/(AV4-AT25)","v":0},{"$f":"IF(AU19=0,0,(AU19*((LOG(AU19))/LOG(2))))","v":0}]
[12,1707,13,1712,13,1718,14,1724,13,1729,0,11111,null,12212,{"$f":"COUNTIF($L$7:$L$500,N20)","v":0},{"$f":"O20/$Q$4","v":0},{"$f":"IF(P20=0,0,(P20*((LOG(P20))/LOG(2))))","v":0},null,null,{"$f":"N20","v":12212},{"$f":"COUNTIF(L7:L36,T20)","v":0},{"$f":"U20/(W4-U25)","v":0},{"$f":"IF(V20=0,0,(V20*((LOG(V20))/LOG(2))))","v":0},null,{"$f":"N20","v":12212},{"$f":"COUNTIF(L37:L66,Y20)","v":0},{"$f":"Z20/(AB4-Z25)","v":0},{"$f":"IF(AA20=0,0,(AA20*((LOG(AA20))/LOG(2))))","v":0},null,{"$f":"N20","v":12212},{"$f":"COUNTIF(L67:L95,AD20)","v":0},{"$f":"AE20/(AG4-AE25)","v":0},{"$f":"IF(AF20=0,0,(AF20*((LOG(AF20))/LOG(2))))","v":0},null,{"$f":"N20","v":12212},{"$f":"COUNTIF(L96:L125,AI20)","v":0},{"$f":"AJ20/(AL4-AJ25)","v":0},{"$f":"IF(AK20=0,0,(AK20*((LOG(AK20))/LOG(2))))","v":0},null,{"$f":"N20","v":12212},{"$f":"COUNTIF(L126:L155,AN20)","v":0},{"$f":"AO20/(AQ4-AO25)","v":0},{"$f":"IF(AP20=0,0,(AP20*((LOG(AP20))/LOG(2))))","v":0},null,{"$f":"N20","v":12212},{"$f":"COUNTIF(L156:L185,AS20)","v":0},{"$f":"AT20/(AV4-AT25)","v":0},{"$f":"IF(AU20=0,0,(AU20*((LOG(AU20))/LOG(2))))","v":0}]
[12,1835,13,1840,13,1845,14,1850,13,1855,0,11111,null,12221,{"$f":"COUNTIF($L$7:$L$500,N21)","v":0},{"$f":"O21/$Q$4","v":0},{"$f":"IF(P21=0,0,(P21*((LOG(P21))/LOG(2))))","v":0},null,null,{"$f":"N21","v":12221},{"$f":"COUNTIF(L7:L36,T21)","v":0},{"$f":"U21/(W4-U25)","v":0},{"$f":"IF(V21=0,0,(V21*((LOG(V21))/LOG(2))))","v":0},null,{"$f":"N21","v":12221},{"$f":"COUNTIF(L37:L66,Y21)","v":0},{"$f":"Z21/(AB4-Z25)","v":0},{"$f":"IF(AA21=0,0,(AA21*((LOG(AA21))/LOG(2))))","v":0},null,{"$f":"N21","v":12221},{"$f":"COUNTIF(L67:L95,AD21)","v":0},{"$f":"AE21/(AG4-AE25)","v":0},{"$f":"IF(AF21=0,0,(AF21*((LOG(AF21))/LOG(2))))","v":0},null,{"$f":"N21","v":12221},{"$f":"COUNTIF(L96:L125,AI21)","v":0},{"$f":"AJ21/(AL4-AJ25)","v":0},{"$f":"IF(AK21=0,0,(AK21*((LOG(AK21))/LOG(2))))","v":0},null,{"$f":"N21","v":12221},{"$f":"COUNTIF(L126:L155,AN21)","v":0},{"$f":"AO21/(AQ4-AO25)","v":0},{"$f":"IF(AP21=0,0,(AP21*((LOG(AP21))/LOG(2))))","v":0},null,{"$f":"N21","v":12221},{"$f":"COUNTIF(L156:L185,AS21)","v":0},{"$f":"AT21/(AV4-AT25)","v":0},{"$f":"IF(AU21=0,0,(AU21*((LOG(AU21))/LOG(2))))","v":0}]
[12,1964,13,1979,13,1984,14,1990,13,1995,0,11111,null,12222,{"$f":"COUNTIF($L$7:$L$500,N22)","v":3},{"$f":"O22/$Q$4","v":1.6759776536312849E-2},{"$f":"IF(P22=0,0,(P22*((LOG(P22))/LOG(2))))","v":-9.8863462735359217E-2},null,null,{"$f":"N22","v":12222},{"$f":"COUNTIF(L7:L36,T22)","v":0},{"$f":"U22/(W4-U25)","v":0},{"$f":"IF(V22=0,0,(V22*((LOG(V22))/LOG(2))))","v":0},null,{"$f":"N22","v":12222},{"$f":"COUNTIF(L37:L66,Y22)","v":0},{"$f":"Z22/(AB4-Z25)","v":0},{"$f":"IF(AA22=0,0,(AA22*((LOG(AA22))/LOG(2))))","v":0},null,{"$f":"N22","v":12222},{"$f":"COUNTIF(L67:L95,AD22)","v":2},{"$f":"AE22/(AG4-AE25)","v":6.8965517241379309E-2},{"$f":"IF(AF22=0,0,(AF22*((LOG(AF22))/LOG(2))))","v":-0.26606765483638428},null,{"$f":"N22","v":12222},{"$f":"COUNTIF(L96:L125,AI22)","v":0},{"$f":"AJ22/(AL4-AJ25)","v":0},{"$f":"IF(AK22=0,0,(AK22*((LOG(AK22))/LOG(2))))","v":0},null,{"$f":"N22","v":12222},{"$f":"COUNTIF(L126:L155,AN22)","v":1},{"$f":"AO22/(AQ4-AO25)","v":3.3333333333333333E-2},{"$f":"IF(AP22=0,0,(AP22*((LOG(AP22))/LOG(2))))","v":-0.16356301985361729},null,{"$f":"N22","v":12222},{"$f":"COUNTIF(L156:L185,AS22)","v":0},{"$f":"AT22/(AV4-AT25)","v":0},{"$f":"IF(AU22=0,0,(AU22*((LOG(AU22))/LOG(2))))","v":0}]
[12,2109,13,2113,13,2119,14,2123,13,2129,1,11111,null,21111,{"$f":"COUNTIF($L$7:$L$500,N23)","v":0},{"$f":"O23/$Q$4","v":0},{"$f":"IF(P23=0,0,(P23*((LOG(P23))/LOG(2))))","v":0},null,null,{"$f":"N23","v":21111},{"$f":"COUNTIF(L7:L36,T23)","v":0},{"$f":"U23/(W4-U25)","v":0},{"$f":"IF(V23=0,0,(V23*((LOG(V23))/LOG(2))))","v":0},null,{"$f":"N23","v":21111},{"$f":"COUNTIF(L37:L66,Y23)","v":0},{"$f":"Z23/(AB4-Z25)","v":0},{"$f":"IF(AA23=0,0,(AA23*((LOG(AA23))/LOG(2))))","v":0},null,{"$f":"N23","v":21111},{"$f":"COUNTIF(L67:L95,AD23)","v":0},{"$f":"AE23/(AG4-AE25)","v":0},{"$f":"IF(AF23=0,0,(AF23*((LOG(AF23))/LOG(2))))","v":0},null,{"$f":"N23","v":21111},{"$f":"COUNTIF(L96:L125,AI23)","v":0},{"$f":"AJ23/(AL4-AJ25)","v":0},{"$f":"IF(AK23=0,0,(AK23*((LOG(AK23))/LOG(2))))","v":0},null,{"$f":"N23","v":21111},{"$f":"COUNTIF(L126:L155,AN23)","v":0},{"$f":"AO23/(AQ4-AO25)","v":0},{"$f":"IF(AP23=0,0,(AP23*((LOG(AP23))/LOG(2))))","v":0},null,{"$f":"N23","v":21111},{"$f":"COUNTIF(L156:L185,AS23)","v":0},{"$f":"AT23/(AV4-AT25)","v":0},{"$f":"IF(AU23=0,0,(AU23*((LOG(AU23))/LOG(2))))","v":0}]
[12,2268,13,2273,13,2290,14,2302,13,2307,0,11111,null,21112,{"$f":"COUNTIF($L$7:$L$500,N24)","v":0},{"$f":"O24/$Q$4","v":0},{"$f":"IF(P24=0,0,(P24*((LOG(P24))/LOG(2))))","v":0},null,null,{"$f":"N24","v":21112},{"$f":"COUNTIF(L7:L36,T24)","v":0},{"$f":"U24/(W4-U25)","v":0},{"$f":"IF(V24=0,0,(V24*((LOG(V24))/LOG(2))))","v":0},null,{"$f":"N24","v":21112},{"$f":"COUNTIF(L37:L66,Y24)","v":0},{"$f":"Z24/(AB4-Z25)","v":0},{"$f":"IF(AA24=0,0,(AA24*((LOG(AA24))/LOG(2))))","v":0},null,{"$f":"N24","v":21112},{"$f":"COUNTIF(L67:L95,AD24)","v":0},{"$f":"AE24/(AG4-AE25)","v":0},{"$f":"IF(AF24=0,0,(AF24*((LOG(AF24))/LOG(2))))","v":0},null,{"$f":"N24","v":21112},{"$f":"COUNTIF(L96:L125,AI24)","v":0},{"$f":"AJ24/(AL4-AJ25)","v":0},{"$f":"IF(AK24=0,0,(AK24*((LOG(AK24))/LOG(2))))","v":0},null,{"$f":"N24","v":21112},{"$f":"COUNTIF(L126:L155,AN24)","v":0},{"$f":"AO24/(AQ4-AO25)","v":0},{"$f":"IF(AP24=0,0,(AP24*((LOG(AP24))/LOG(2))))","v":0},null,{"$f":"N24","v":21112},{"$f":"COUNTIF(L156:L185,AS24)","v":0},{"$f":"AT24/(AV4-AT25)","v":0},{"$f":"IF(AU24=0,0,(AU24*((LOG(AU24))/LOG(2))))","v":0}]
[12,2414,13,2419,13,2424,14,2429,13,2435,0,11111,null,21121,{"$f":"COUNTIF($L$7:$L$500,N25)","v":0},{"$f":"O25/$Q$4","v":0},{"$f":"IF(P25=0,0,(P25*((LOG(P25))/LOG(2))))","v":0},null,null,{"$f":"N25","v":21121},{"$f":"COUNTIF(L7:L36,T25)","v":0},null,null,null,{"$f":"N25","v":21121},{"$f":"COUNTIF(L37:L66,Y25)","v":0},null,null,null,{"$f":"N25","v":21121},{"$f":"COUNTIF(L67:L95,AD25)","v":0},null,null,null,{"$f":"N25","v":21121},{"$f":"COUNTIF(L96:L125,AI25)","v":0},null,null,null,{"$f":"N25","v":21121},{"$f":"COUNTIF(L126:L155,AN25)","v":0},null,null,null,{"$f":"N25","v":21121},{"$f":"COUNTIF(L156:L185,AS25)","v":0}]
[12,2535,13,2539,13,2544,14,2548,13,2554,0,11111,null,21122,{"$f":"COUNTIF($L$7:$L$500,N26)","v":0},{"$f":"O26/$Q$4","v":0},{"$f":"IF(P26=0,0,(P26*((LOG(P26))/LOG(2))))","v":0},null,null,{"$f":"N26","v":21122},{"$f":"COUNTIF(L7:L36,T26)","v":0},{"$f":"U26/(W4-U25)","v":0},{"$f":"IF(V26=0,0,(V26*((LOG(V26))/LOG(2))))","v":0},null,{"$f":"N26","v":21122},{"$f":"COUNTIF(L37:L66,Y26)","v":0},{"$f":"Z26/(AB4-Z25)","v":0},{"$f":"IF(AA26=0,0,(AA26*((LOG(AA26))/LOG(2))))","v":0},null,{"$f":"N26","v":21122},{"$f":"COUNTIF(L67:L95,AD26)","v":0},{"$f":"AE26/(AG4-AE25)","v":0},{"$f":"IF(AF26=0,0,(AF26*((LOG(AF26))/LOG(2))))","v":0},null,{"$f":"N26","v":21122},{"$f":"COUNTIF(L96:L125,AI26)","v":0},{"$f":"AJ26/(AL4-AJ25)","v":0},{"$f":"IF(AK26=0,0,(AK26*((LOG(AK26))/LOG(2))))","v":0},null,{"$f":"N26","v":21122},{"$f":"COUNTIF(L126:L155,AN26)","v":0},{"$f":"AO26/(AQ4-AO25)","v":0},{"$f":"IF(AP26=0,0,(AP26*((LOG(AP26))/LOG(2))))","v":0},null,{"$f":"N26","v":21122},{"$f":"COUNTIF(L156:L185,AS26)","v":0},{"$f":"AT26/(AV4-AT25)","v":0},{"$f":"IF(AU26=0,0,(AU26*((LOG(AU26))/LOG(2))))","v":0}]
[12,2655,13,2659,13,2664,14,2669,13,2674,1,11111,null,21211,{"$f":"COUNTIF($L$7:$L$500,N27)","v":0},{"$f":"O27/$Q$4","v":0},{"$f":"IF(P27=0,0,(P27*((LOG(P27))/LOG(2))))","v":0},null,null,{"$f":"N27","v":21211},{"$f":"COUNTIF(L7:L36,T27)","v":0},{"$f":"U27/(W4-U25)","v":0},{"$f":"IF(V27=0,0,(V27*((LOG(V27))/LOG(2))))","v":0},null,{"$f":"N27","v":21211},{"$f":"COUNTIF(L37:L66,Y27)","v":0},{"$f":"Z27/(AB4-Z25)","v":0},{"$f":"IF(AA27=0,0,(AA27*((LOG(AA27))/LOG(2))))","v":0},null,{"$f":"N27","v":21211},{"$f":"COUNTIF(L67:L95,AD27)","v":0},{"$f":"AE27/(AG4-AE25)","v":0},{"$f":"IF(AF27=0,0,(AF27*((LOG(AF27))/LOG(2))))","v":0},null,{"$f":"N27","v":21211},{"$f":"COUNTIF(L96:L125,AI27)","v":0},{"$f":"AJ27/(AL4-AJ25)","v":0},{"$f":"IF(AK27=0,0,(AK27*((LOG(AK27))/LOG(2))))","v":0},null,{"$f":"N27","v":21211},{"$f":"COUNTIF(L126:L155,AN27)","v":0},{"$f":"AO27/(AQ4-AO25)","v":0},{"$f":"IF(AP27=0,0,(AP27*((LOG(AP27))/LOG(2))))","v":0},null,{"$f":"N27","v":21211},{"$f":"COUNTIF(L156:L185,AS27)","v":0},{"$f":"AT27/(AV4-AT25)","v":0},{"$f":"IF(AU27=0,0,(AU27*((LOG(AU27))/LOG(2))))","v":0}]
[12,2780,13,2784,13,2790,14,2794,13,2799,0,11111,null,21212,{"$f":"COUNTIF($L$7:$L$500,N28)","v":0},{"$f":"O28/$Q$4","v":0},{"$f":"IF(P28=0,0,(P28*((LOG(P28))/LOG(2))))","v":0},null,null,{"$f":"N28","v":21212},{"$f":"COUNTIF(L7:L36,T28)","v":0},{"$f":"U28/(W4-U25)","v":0},{"$f":"IF(V28=0,0,(V28*((LOG(V28))/LOG(2))))","v":0},null,{"$f":"N28","v":21212},{"$f":"COUNTIF(L37:L66,Y28)","v":0},{"$f":"Z28/(AB4-Z25)","v":0},{"$f":"IF(AA28=0,0,(AA28*((LOG(AA28))/LOG(2))))","v":0},null,{"$f":"N28","v":21212},{"$f":"COUNTIF(L67:L95,AD28)","v":0},{"$f":"AE28/(AG4-AE25)","v":0},{"$f":"IF(AF28=0,0,(AF28*((LOG(AF28))/LOG(2))))","v":0},null,{"$f":"N28","v":21212},{"$f":"COUNTIF(L96:L125,AI28)","v":0},{"$f":"AJ28/(AL4-AJ25)","v":0},{"$f":"IF(AK28=0,0,(AK28*((LOG(AK28))/LOG(2))))","v":0},null,{"$f":"N28","v":21212},{"$f":"COUNTIF(L126:L155,AN28)","v":0},{"$f":"AO28/(AQ4-AO25)","v":0},{"$f":"IF(AP28=0,0,(AP28*((LOG(AP28))/LOG(2))))","v":0},null,{"$f":"N28","v":21212},{"$f":"COUNTIF(L156:L185,AS28)","v":0},{"$f":"AT28/(AV4-AT25)","v":0},{"$f":"IF(AU28=0,0,(AU28*((LOG(AU28))/LOG(2))))","v":0}]
[12,2899,13,2904,13,2909,14,2914,13,2918,0,11111,null,21221,{"$f":"COUNTIF($L$7:$L$500,N29)","v":0},{"$f":"O29/$Q$4","v":0},{"$f":"IF(P29=0,0,(P29*((LOG(P29))/LOG(2))))","v":0},null,null,{"$f":"N29","v":21221},{"$f":"COUNTIF(L7:L36,T29)","v":0},{"$f":"U29/(W4-U25)","v":0},{"$f":"IF(V29=0,0,(V29*((LOG(V29))/LOG(2))))","v":0},null,{"$f":"N29","v":21221},{"$f":"COUNTIF(L37:L66,Y29)","v":0},{"$f":"Z29/(AB4-Z25)","v":0},{"$f":"IF(AA29=0,0,(AA29*((LOG(AA29))/LOG(2))))","v":0},null,{"$f":"N29","v":21221},{"$f":"COUNTIF(L67:L95,AD29)","v":0},{"$f":"AE29/(AG4-AE25)","v":0},{"$f":"IF(AF29=0,0,(AF29*((LOG(AF29))/LOG(2))))","v":0},null,{"$f":"N29","v":21221},{"$f":"COUNTIF(L96:L125,AI29)","v":0},{"$f":"AJ29/(AL4-AJ25)","v":0},{"$f":"IF(AK29=0,0,(AK29*((LOG(AK29))/LOG(2))))","v":0},null,{"$f":"N29","v":21221},{"$f":"COUNTIF(L126:L155,AN29)","v":0},{"$f":"AO29/(AQ4-AO25)","v":0},{"$f":"IF(AP29=0,0,(AP29*((LOG(AP29))/LOG(2))))","v":0},null,{"$f":"N29","v":21221},{"$f":"COUNTIF(L156:L185,AS29)","v":0},{"$f":"AT29/(AV4-AT25)","v":0},{"$f":"IF(AU29=0,0,(AU29*((LOG(AU29))/LOG(2))))","v":0}]
[12,3015,13,3035,13,3047,14,3064,13,3080,0,11111,null,21222,{"$f":"COUNTIF($L$7:$L$500,N30)","v":0},{"$f":"O30/$Q$4","v":0},{"$f":"IF(P30=0,0,(P30*((LOG(P30))/LOG(2))))","v":0},null,null,{"$f":"N30","v":21222},{"$f":"COUNTIF(L7:L36,T30)","v":0},{"$f":"U30/(W4-U25)","v":0},{"$f":"IF(V30=0,0,(V30*((LOG(V30))/LOG(2))))","v":0},null,{"$f":"N30","v":21222},{"$f":"COUNTIF(L37:L66,Y30)","v":0},{"$f":"Z30/(AB4-Z25)","v":0},{"$f":"IF(AA30=0,0,(AA30*((LOG(AA30))/LOG(2))))","v":0},null,{"$f":"N30","v":21222},{"$f":"COUNTIF(L67:L95,AD30)","v":0},{"$f":"AE30/(AG4-AE25)","v":0},{"$f":"IF(AF30=0,0,(AF30*((LOG(AF30))/LOG(2))))","v":0},null,{"$f":"N30","v":21222},{"$f":"COUNTIF(L96:L125,AI30)","v":0},{"$f":"AJ30/(AL4-AJ25)","v":0},{"$f":"IF(AK30=0,0,(AK30*((LOG(AK30))/LOG(2))))","v":0},null,{"$f":"N30","v":21222},{"$f":"COUNTIF(L126:L155,AN30)","v":0},{"$f":"AO30/(AQ4-AO25)","v":0},{"$f":"IF(AP30=0,0,(AP30*((LOG(AP30))/LOG(2))))","v":0},null,{"$f":"N30","v":21222},{"$f":"COUNTIF(L156:L185,AS30)","v":0},{"$f":"AT30/(AV4-AT25)","v":0},{"$f":"IF(AU30=0,0,(AU30*((LOG(AU30))/LOG(2))))","v":0}]
[12,3181,13,3191,13,3196,14,3201,13,3206,0,11111,null,22111,{"$f":"COUNTIF($L$7:$L$500,N31)","v":0},{"$f":"O31/$Q$4","v":0},{"$f":"IF(P31=0,0,(P31*((LOG(P31))/LOG(2))))","v":0},null,null,{"$f":"N31","v":22111},{"$f":"COUNTIF(L7:L36,T31)","v":0},{"$f":"U31/(W4-U25)","v":0},{"$f":"IF(V31=0,0,(V31*((LOG(V31))/LOG(2))))","v":0},null,{"$f":"N31","v":22111},{"$f":"COUNTIF(L37:L66,Y31)","v":0},{"$f":"Z31/(AB4-Z25)","v":0},{"$f":"IF(AA31=0,0,(AA31*((LOG(AA31))/LOG(2))))","v":0},null,{"$f":"N31","v":22111},{"$f":"COUNTIF(L67:L95,AD31)","v":0},{"$f":"AE31/(AG4-AE25)","v":0},{"$f":"IF(AF31=0,0,(AF31*((LOG(AF31))/LOG(2))))","v":0},null,{"$f":"N31","v":22111},{"$f":"COUNTIF(L96:L125,AI31)","v":0},{"$f":"AJ31/(AL4-AJ25)","v":0},{"$f":"IF(AK31=0,0,(AK31*((LOG(AK31))/LOG(2))))","v":0},null,{"$f":"N31","v":22111},{"$f":"COUNTIF(L126:L155,AN31)","v":0},{"$f":"AO31/(AQ4-AO25)","v":0},{"$f":"IF(AP31=0,0,(AP31*((LOG(AP31))/LOG(2))))","v":0},null,{"$f":"N31","v":22111},{"$f":"COUNTIF(L156:L185,AS31)","v":0},{"$f":"AT31/(AV4-AT25)","v":0},{"$f":"IF(AU31=0,0,(AU31*((LOG(AU31))/LOG(2))))","v":0}]
[12,3299,13,3315,13,3319,14,3324,13,3329,0,11111,null,22112,{"$f":"COUNTIF($L$7:$L$500,N32)","v":0},{"$f":"O32/$Q$4","v":0},{"$f":"IF(P32=0,0,(P32*((LOG(P32))/LOG(2))))","v":0},null,null,{"$f":"N32","v":22112},{"$f":"COUNTIF(L7:L36,T32)","v":0},{"$f":"U32/(W4-U25)","v":0},{"$f":"IF(V32=0,0,(V32*((LOG(V32))/LOG(2))))","v":0},null,{"$f":"N32","v":22112},{"$f":"COUNTIF(L37:L66,Y32)","v":0},{"$f":"Z32/(AB4-Z25)","v":0},{"$f":"IF(AA32=0,0,(AA32*((LOG(AA32))/LOG(2))))","v":0},null,{"$f":"N32","v":22112},{"$f":"COUNTIF(L67:L95,AD32)","v":0},{"$f":"AE32/(AG4-AE25)","v":0},{"$f":"IF(AF32=0,0,(AF32*((LOG(AF32))/LOG(2))))","v":0},null,{"$f":"N32","v":22112},{"$f":"COUNTIF(L96:L125,AI32)","v":0},{"$f":"AJ32/(AL4-AJ25)","v":0},{"$f":"IF(AK32=0,0,(AK32*((LOG(AK32))/LOG(2))))","v":0},null,{"$f":"N32","v":22112},{"$f":"COUNTIF(L126:L155,AN32)","v":0},{"$f":"AO32/(AQ4-AO25)","v":0},{"$f":"IF(AP32=0,0,(AP32*((LOG(AP32))/LOG(2))))","v":0},null,{"$f":"N32","v":22112},{"$f":"COUNTIF(L156:L185,AS32)","v":0},{"$f":"AT32/(AV4-AT25)","v":0},{"$f":"IF(AU32=0,0,(AU32*((LOG(AU32))/LOG(2))))","v":0}]
[12,3438,13,3442,13,3448,14,3452,13,3457,1,11111,null,22121,{"$f":"COUNTIF($L$7:$L$500,N33)","v":0},{"$f":"O33/$Q$4","v":0},{"$f":"IF(P33=0,0,(P33*((LOG(P33))/LOG(2))))","v":0},null,null,{"$f":"N33","v":22121},{"$f":"COUNTIF(L7:L36,T33)","v":0},{"$f":"U33/(W4-U25)","v":0},{"$f":"IF(V33=0,0,(V33*((LOG(V33))/LOG(2))))","v":0},null,{"$f":"N33","v":22121},{"$f":"COUNTIF(L37:L66,Y33)","v":0},{"$f":"Z33/(AB4-Z25)","v":0},{"$f":"IF(AA33=0,0,(AA33*((LOG(AA33))/LOG(2))))","v":0},null,{"$f":"N33","v":22121},{"$f":"COUNTIF(L67:L95,AD33)","v":0},{"$f":"AE33/(AG4-AE25)","v":0},{"$f":"IF(AF33=0,0,(AF33*((LOG(AF33))/LOG(2))))","v":0},null,{"$f":"N33","v":22121},{"$f":"COUNTIF(L96:L125,AI33)","v":0},{"$f":"AJ33/(AL4-AJ25)","v":0},{"$f":"IF(AK33=0,0,(AK33*((LOG(AK33))/LOG(2))))","v":0},null,{"$f":"N33","v":22121},{"$f":"COUNTIF(L126:L155,AN33)","v":0},{"$f":"AO33/(AQ4-AO25)","v":0},{"$f":"IF(AP33=0,0,(AP33*((LOG(AP33))/LOG(2))))","v":0},null,{"$f":"N33","v":22121},{"$f":"COUNTIF(L156:L185,AS33)","v":0},{"$f":"AT33/(AV4-AT25)","v":0},{"$f":"IF(AU33=0,0,(AU33*((LOG(AU33))/LOG(2))))","v":0}]
[12,3557,13,3572,13,3577,23,3610,24,3632,0,11122,null,22122,{"$f":"COUNTIF($L$7:$L$500,N34)","v":0},{"$f":"O34/$Q$4","v":0},{"$f":"IF(P34=0,0,(P34*((LOG(P34))/LOG(2))))","v":0},null,null,{"$f":"N34","v":22122},{"$f":"COUNTIF(L7:L36,T34)","v":0},{"$f":"U34/(W4-U25)","v":0},{"$f":"IF(V34=0,0,(V34*((LOG(V34))/LOG(2))))","v":0},null,{"$f":"N34","v":22122},{"$f":"COUNTIF(L37:L66,Y34)","v":0},{"$f":"Z34/(AB4-Z25)","v":0},{"$f":"IF(AA34=0,0,(AA34*((LOG(AA34))/LOG(2))))","v":0},null,{"$f":"N34","v":22122},{"$f":"COUNTIF(L67:L95,AD34)","v":0},{"$f":"AE34/(AG4-AE25)","v":0},{"$f":"IF(AF34=0,0,(AF34*((LOG(AF34))/LOG(2))))","v":0},null,{"$f":"N34","v":22122},{"$f":"COUNTIF(L96:L125,AI34)","v":0},{"$f":"AJ34/(AL4-AJ25)","v":0},{"$f":"IF(AK34=0,0,(AK34*((LOG(AK34))/LOG(2))))","v":0},null,{"$f":"N34","v":22122},{"$f":"COUNTIF(L126:L155,AN34)","v":0},{"$f":"AO34/(AQ4-AO25)","v":0},{"$f":"IF(AP34=0,0,(AP34*((LOG(AP34))/LOG(2))))","v":0},null,{"$f":"N34","v":22122},{"$f":"COUNTIF(L156:L185,AS34)","v":0},{"$f":"AT34/(AV4-AT25)","v":0},{"$f":"IF(AU34=0,0,(AU34*((LOG(AU34))/LOG(2))))","v":0}]
[12,3735,13,3739,13,3744,14,3748,13,3752,0,11111,null,22211,{"$f":"COUNTIF($L$7:$L$500,N35)","v":0},{"$f":"O35/$Q$4","v":0},{"$f":"IF(P35=0,0,(P35*((LOG(P35))/LOG(2))))","v":0},null,null,{"$f":"N35","v":22211},{"$f":"COUNTIF(L7:L36,T35)","v":0},{"$f":"U35/(W4-U25)","v":0},{"$f":"IF(V35=0,0,(V35*((LOG(V35))/LOG(2))))","v":0},null,{"$f":"N35","v":22211},{"$f":"COUNTIF(L37:L66,Y35)","v":0},{"$f":"Z35/(AB4-Z25)","v":0},{"$f":"IF(AA35=0,0,(AA35*((LOG(AA35))/LOG(2))))","v":0},null,{"$f":"N35","v":22211},{"$f":"COUNTIF(L67:L95,AD35)","v":0},{"$f":"AE35/(AG4-AE25)","v":0},{"$f":"IF(AF35=0,0,(AF35*((LOG(AF35))/LOG(2))))","v":0},null,{"$f":"N35","v":22211},{"$f":"COUNTIF(L96:L125,AI35)","v":0},{"$f":"AJ35/(AL4-AJ25)","v":0},{"$f":"IF(AK35=0,0,(AK35*((LOG(AK35))/LOG(2))))","v":0},null,{"$f":"N35","v":22211},{"$f":"COUNTIF(L126:L155,AN35)","v":0},{"$f":"AO35/(AQ4-AO25)","v":0},{"$f":"IF(AP35=0,0,(AP35*((LOG(AP35))/LOG(2))))","v":0},null,{"$f":"N35","v":22211},{"$f":"COUNTIF(L156:L185,AS35)","v":0},{"$f":"AT35/(AV4-AT25)","v":0},{"$f":"IF(AU35=0,0,(AU35*((LOG(AU35))/LOG(2))))","v":0}]
[12,3856,13,3861,13,3865,14,3870,13,3874,0,11111,null,22212,{"$f":"COUNTIF($L$7:$L$500,N36)","v":0},{"$f":"O36/$Q$4","v":0},{"$f":"IF(P36=0,0,(P36*((LOG(P36))/LOG(2))))","v":0},null,null,{"$f":"N36","v":22212},{"$f":"COUNTIF(L7:L36,T36)","v":0},{"$f":"U36/(W4-U25)","v":0},{"$f":"IF(V36=0,0,(V36*((LOG(V36))/LOG(2))))","v":0},null,{"$f":"N36","v":22212},{"$f":"COUNTIF(L37:L66,Y36)","v":0},{"$f":"Z36/(AB4-Z25)","v":0},{"$f":"IF(AA36=0,0,(AA36*((LOG(AA36))/LOG(2))))","v":0},null,{"$f":"N36","v":22212},{"$f":"COUNTIF(L67:L95,AD36)","v":0},{"$f":"AE36/(AG4-AE25)","v":0},{"$f":"IF(AF36=0,0,(AF36*((LOG(AF36))/LOG(2))))","v":0},null,{"$f":"N36","v":22212},{"$f":"COUNTIF(L96:L125,AI36)","v":0},{"$f":"AJ36/(AL4-AJ25)","v":0},{"$f":"IF(AK36=0,0,(AK36*((LOG(AK36))/LOG(2))))","v":0},null,{"$f":"N36","v":22212},{"$f":"COUNTIF(L126:L155,AN36)","v":0},{"$f":"AO36/(AQ4-AO25)","v":0},{"$f":"IF(AP36=0,0,(AP36*((LOG(AP36))/LOG(2))))","v":0},null,{"$f":"N36","v":22212},{"$f":"COUNTIF(L156:L185,AS36)","v":0},{"$f":"AT36/(AV4-AT25)","v":0},{"$f":"IF(AU36=0,0,(AU36*((LOG(AU36))/LOG(2))))","v":0}]
[12,3983,13,3988,13,3992,14,3997,13,4001,1,11111,null,22221,{"$f":"COUNTIF($L$7:$L$500,N37)","v":0},{"$f":"O37/$Q$4","v":0},{"$f":"IF(P37=0,0,(P37*((LOG(P37))/LOG(2))))","v":0},null,null,{"$f":"N37","v":22221},{"$f":"COUNTIF(L7:L36,T37)","v":0},{"$f":"U37/(W4-U25)","v":0},{"$f":"IF(V37=0,0,(V37*((LOG(V37))/LOG(2))))","v":0},null,{"$f":"N37","v":22221},{"$f":"COUNTIF(L37:L66,Y37)","v":0},{"$f":"Z37/(AB4-Z25)","v":0},{"$f":"IF(AA37=0,0,(AA37*((LOG(AA37))/LOG(2))))","v":0},null,{"$f":"N37","v":22221},{"$f":"COUNTIF(L67:L95,AD37)","v":0},{"$f":"AE37/(AG4-AE25)","v":0},{"$f":"IF(AF37=0,0,(AF37*((LOG(AF37))/LOG(2))))","v":0},null,{"$f":"N37","v":22221},{"$f":"COUNTIF(L96:L125,AI37)","v":0},{"$f":"AJ37/(AL4-AJ25)","v":0},{"$f":"IF(AK37=0,0,(AK37*((LOG(AK37))/LOG(2))))","v":0},null,{"$f":"N37","v":22221},{"$f":"COUNTIF(L126:L155,AN37)","v":0},{"$f":"AO37/(AQ4-AO25)","v":0},{"$f":"IF(AP37=0,0,(AP37*((LOG(AP37))/LOG(2))))","v":0},null,{"$f":"N37","v":22221},{"$f":"COUNTIF(L156:L185,AS37)","v":0},{"$f":"AT37/(AV4-AT25)","v":0},{"$f":"IF(AU37=0,0,(AU37*((LOG(AU37))/LOG(2))))","v":0}]
[12,4103,13,4108,13,4113,14,4127,13,4133,0,11111,null,22222,{"$f":"COUNTIF($L$7:$L$500,N38)","v":1},{"$f":"O38/$Q$4","v":5.5865921787709499E-3},{"$f":"IF(P38=0,0,(P38*((LOG(P38))/LOG(2))))","v":-4.1809026688627134E-2},null,null,{"$f":"N38","v":22222},{"$f":"COUNTIF(L7:L36,T38)","v":0},{"$f":"U38/(W4-U25)","v":0},{"$f":"IF(V38=0,0,(V38*((LOG(V38))/LOG(2))))","v":0},null,{"$f":"N38","v":22222},{"$f":"COUNTIF(L37:L66,Y38)","v":0},{"$f":"Z38/(AB4-Z25)","v":0},{"$f":"IF(AA38=0,0,(AA38*((LOG(AA38))/LOG(2))))","v":0},null,{"$f":"N38","v":22222},{"$f":"COUNTIF(L67:L95,AD38)","v":0},{"$f":"AE38/(AG4-AE25)","v":0},{"$f":"IF(AF38=0,0,(AF38*((LOG(AF38))/LOG(2))))","v":0},null,{"$f":"N38","v":22222},{"$f":"COUNTIF(L96:L125,AI38)","v":0},{"$f":"AJ38/(AL4-AJ25)","v":0},{"$f":"IF(AK38=0,0,(AK38*((LOG(AK38))/LOG(2))))","v":0},null,{"$f":"N38","v":22222},{"$f":"COUNTIF(L126:L155,AN38)","v":0},{"$f":"AO38/(AQ4-AO25)","v":0},{"$f":"IF(AP38=0,0,(AP38*((LOG(AP38))/LOG(2))))","v":0},null,{"$f":"N38","v":22222},{"$f":"COUNTIF(L156:L185,AS38)","v":1},{"$f":"AT38/(AV4-AT25)","v":3.3333333333333333E-2},{"$f":"IF(AU38=0,0,(AU38*((LOG(AU38))/LOG(2))))","v":-0.16356301985361729}]
[12,4233,13,4238,13,4243,14,4247,13,4252,0,11111,null,null,null,{"$f":"SUM(P7:P38)","v":1},{"$f":"-SUM(Q7:Q38)","v":0.39805406416049799},null,null,null,null,{"$f":"SUM(V7:V38)","v":1},{"$f":"-SUM(W7:W38)","v":0.21084230031853213},null,null,null,{"$f":"SUM(AA7:AA38)","v":1},{"$f":"-SUM(AB7:AB38)","v":0},null,null,null,{"$f":"SUM(AF7:AF38)","v":1},{"$f":"-SUM(AG7:AG38)","v":0.57482814438038599},null,null,null,{"$f":"SUM(AK7:AK38)","v":1},{"$f":"-SUM(AL7:AL38)","v":0.42002600168808801},null,null,null,{"$f":"SUM(AP7:AP38)","v":1},{"$f":"-SUM(AQ7:AQ38)","v":0.21084230031853213},null,null,null,{"$f":"SUM(AU7:AU38)","v":1},{"$f":"-SUM(AV7:AV38)","v":0.42002600168808801}]
[12,4358,13,4363,13,4368,14,4373,13,4378,0,11111,null,null,null,"U=",{"$f":"Q39/(LOG(Q4)/LOG(2))","v":5.3188650817645927E-2},null,null,null,null,"U1=",{"$f":"W39/(LOG(W4)/LOG(2))","v":4.2968616522085903E-2},null,null,null,"U2=",{"$f":"AB39/(LOG(AB4)/LOG(2))","v":0},null,null,null,"U3=",{"$f":"AG39/(LOG(AG4)/LOG(2))","v":0.11832655272981175},null,null,null,"U4=",{"$f":"AL39/(LOG(AL4)/LOG(2))","v":8.559921879326092E-2},null,null,null,"U5=",{"$f":"AQ39/(LOG(AQ4)/LOG(2))","v":4.2968616522085903E-2},null,null,null,"U6=",{"$f":"AV39/(LOG(AV4)/LOG(2))","v":8.559921879326092E-2}]
[12,4495,13,4500,13,4506,14,4511,13,4516,0,11111]
[12,4619,13,4624,13,4628,14,4633,13,4639,0,11111]
[12,4738,13,4742,13,4746,14,4751,13,4755,0,11111,null,"Total Target Seq"]
[12,4860,13,4864,13,4869,14,4875,13,4891,1,11111,null,{"$f":"COUNTIF(L7:L185,G3)","v":0},null,30,30,29,30,30,30]
[12,5018,13,5027,13,5032,14,5037,13,5043,0,11111,null,null,null,"% of reinforcement given in 6 equal intervals based on number of trials "]
[12,5147,13,5152,13,5156,14,5161,13,5166,0,11111,null,null,null,"%_1","%_2","%_3","%_4","%_5","%_6"]
[12,5266,13,5270,13,5277,14,5285,13,5290,0,11111,null,null,"target sequence",{"$f":"$G$3","v":21121},{"$f":"$G$3","v":21121},{"$f":"$G$3","v":21121},{"$f":"$G$3","v":21121},{"$f":"$G$3","v":21121},{"$f":"$G$3","v":21121}]
[12,5396,13,5400,13,5405,14,5411,13,5415,0,11111,null,null,"total reinforcement",{"$f":"U25","v":0},{"$f":"Z25","v":0},{"$f":"AE25","v":0},{"$f":"AJ25","v":0},{"$f":"AO25","v":0},{"$f":"AT25","v":0}]
[12,5525,13,5534,13,5538,14,5552,13,5566,0,11111,null,null,"% target"]
[12,5666,13,5671,13,5676,14,5680,13,5685,0,11111,null,null,"CCRF"]
[12,5796,13,5800,13,5804,14,5809,13,5814,0,11111,null,null,"% CCRf"]
[12,5915,13,5920,13,5924,14,5929,13,5934,1,11111,null,null,"average response rate",{"$f":"J36/P44","v":129.13333333333333},{"$f":"(J66-J36)/Q44","v":129.36666666666667},{"$f":"(J95-J66)/R44","v":134.24137931034483},{"$f":"(J125-J95)/S44","v":135.03333333333333},{"$f":"(J155-J125)/T44","v":134.93333333333334},{"$f":"(J185-J155)/U44","v":139.36666666666667}]
[12,6048,13,6058,13,6062,14,6069,13,6078,1,11111]
[12,6176,13,6190,13,6195,14,6200,13,6205,1,11111]
[12,6305,13,6313,13,6317,14,6322,13,6327,0,11111]
[12,6431,13,6435,13,6440,14,6444,13,6449,1,11111]
[12,6559,13,6564,13,6569,14,6573,13,6589,0,11111]
[12,6689,13,6693,13,6697,14,6702,13,6706,0,11111]
[12,6806,13,6810,13,6815,14,6820,13,6825,0,11111]
[12,6933,13,6938,13,6943,14,6947,13,6957,0,11111]
[12,7069,13,7073,13,7082,14,7091,13,7098,1,11111]
[12,7198,13,7207,13,7211,14,7224,13,7232,0,11111]
[12,7331,13,7335,13,7339,14,7347,13,7352,0,11111]
[12,7461,13,7466,13,7475,14,7481,13,7486,0,11111]
[12,7606,13,7614,13,7622,14,7627,13,7632,0,11111]
[12,7733,13,7737,13,7742,14,7746,13,7755,0,11111]
[12,7858,13,7863,13,7868,14,7873,13,7887,0,11111]
[12,7992,13,7996,13,8010,14,8022,13,8027,0,11111]
[12,8135,13,8145,13,8155,23,8177,24,8204,1,11122]
[12,8311,13,8316,13,8327,14,8331,13,8341,0,11111]
[12,8443,13,8452,13,8461,14,8466,13,8482,0,11111]
[12,8589,13,8593,13,8602,14,8606,13,8620,0,11111]
[12,8732,24,8742,24,8750,23,8755,24,8759,0,12222]
[12,8860,13,8865,13,8870,14,8874,13,8879,0,11111]
[12,8980,13,8984,13,8988,14,8993,13,8997,0,11111]
[12,9101,13,9109,13,9118,14,9125,13,9134,0,11111]
[12,9239,13,9243,13,9247,14,9251,13,9256,0,11111]
[12,9362,13,9366,13,9371,14,9376,13,9380,0,11111]
[12,9485,13,9489,13,9493,14,9498,13,9502,0,11111]
[12,9602,13,9607,13,9612,14,9616,13,9621,1,11111]
[12,9722,13,9726,13,9731,14,9736,13,9740,0,11111]
[12,9844,13,9848,13,9852,14,9856,13,9861,0,11111]
[12,9966,13,9970,13,9974,14,9987,13,10000,0,11111]
[12,10110,13,10119,13,10127,14,10140,13,10148,0,11111]
[12,10251,13,10265,13,10278,14,10287,13,10293,0,11111]
[12,10397,13,10404,13,10409,14,10413,13,10418,1,11111]
[12,10535,24,10560,24,10568,23,10587,24,10603,0,12222]
[12,10732,13,10736,13,10754,14,10763,13,10773,0,11111]
[12,10875,13,10879,13,10884,14,10888,13,10897,0,11111]
[12,10997,13,11001,13,11005,14,11009,13,11013,0,11111]
[12,11114,13,11117,13,11121,14,11128,13,11132,1,11111]
[12,11230,13,11234,13,11238,14,11243,13,11248,0,11111]
[12,11360,13,11364,13,11369,14,11373,13,11382,0,11111]
[12,11483,13,11488,13,11493,14,11506,13,11510,0,11111]
[12,11624,13,11629,13,11634,14,11639,13,11648,0,11111]
[12,11748,13,11757,13,11762,14,11767,13,11773,0,11111]
[12,11875,13,11883,13,11887,14,11891,13,11895,0,11111]
[12,11996,13,12000,13,12004,14,12008,13,12016,0,11111]
[12,12127,13,12132,13,12136,14,12144,13,12162,0,11111]
[12,12274,13,12279,13,12283,14,12296,13,12301,1,11111]
[12,12400,13,12404,13,12408,14,12412,13,12421,0,11111]
[12,12522,13,12526,13,12531,14,12536,13,12544,0,11111]
[12,12656,13,12660,13,12664,14,12668,13,12672,0,11111]
[12,12782,13,12787,13,12791,14,12800,13,12808,0,11111]
[12,12915,13,12919,13,12923,14,12928,13,12937,0,11111]
[12,13045,13,13049,13,13054,14,13059,13,13068,0,11111]
[12,13177,13,13181,13,13193,14,13198,13,13207,0,11111]
[12,13316,13,13320,13,13331,14,13338,13,13343,0,11111]
[12,13457,13,13461,13,13466,14,13478,13,13488,0,11111]
[12,13599,13,13603,13,13608,14,13613,13,13617,0,11111]
[12,13733,13,13743,13,13747,14,13751,13,13755,1,11111]
[12,13864,13,13877,13,13881,14,13886,13,13895,0,11111]
[12,14004,13,14008,13,14012,14,14020,13,14025,0,11111]
[12,14131,13,14146,13,14150,14,14155,13,14161,1,11111]
[12,14270,13,14274,24,14300,23,14308,24,14322,0,11222]
[12,14435,13,14439,13,14444,14,14448,13,14452,0,11111]
[12,14557,13,14571,13,14577,14,14581,13,14596,0,11111]
[12,14708,13,14712,13,14717,14,14721,13,14731,1,11111]
[12,14842,13,14847,13,14852,14,14859,24,14882,1,11112]
[12,14984,13,14993,13,15003,14,15008,13,15026,1,11111]
[12,15154,13,15159,13,15164,14,15168,13,15177,0,11111]
[12,15286,13,15291,13,15295,14,15299,13,15308,0,11111]
[12,15417,13,15421,13,15426,14,15435,13,15440,0,11111]
[12,15546,13,15551,13,15555,14,15559,13,15568,0,11111]
[12,15673,13,15677,13,15681,14,15686,13,15699,0,11111]
[12,15804,13,15808,13,15817,14,15826,13,15831,1,11111]
[12,15944,13,15957,13,15967,14,15972,13,15977,0,11111]
[12,16088,13,16093,13,16098,14,16103,13,16108,0,11111]
[12,16211,13,16216,13,16221,14,16225,13,16235,0,11111]
[12,16342,13,16346,13,16351,14,16356,13,16365,1,11111]
[12,16482,13,16490,13,16495,14,16499,13,16509,0,11111]
[12,16609,13,16613,13,16617,14,16621,13,16626,0,11111]
[12,16731,13,16735,13,16743,14,16748,13,16753,0,11111]
[12,16852,13,16860,13,16865,14,16869,13,16873,0,11111]
[12,16980,13,16985,13,16989,14,16994,13,16998,0,11111]
[12,17108,13,17112,13,17116,14,17125,13,17130,0,11111]
[12,17242,13,17250,13,17258,14,17269,13,17283,0,11111]
[12,17386,13,17390,13,17395,14,17399,13,17403,1,11111]
[12,17511,13,17520,13,17525,14,17536,13,17541,0,11111]
[12,17655,13,17664,13,17669,14,17675,13,17688,0,11111]
[12,17802,13,17810,13,17819,14,17831,13,17840,0,11111]
[12,17952,13,17957,13,17961,14,17966,13,17970,0,11111]
[12,18074,13,18079,13,18083,14,18087,13,18091,0,11111]
[12,18202,13,18206,13,18211,14,18220,13,18225,0,11111]
[12,18333,13,18341,13,18350,14,18359,13,18378,1,11111]
[12,18477,13,18481,13,18494,14,18499,13,18508,1,11111]
[12,18607,13,18612,13,18616,14,18642,13,18647,0,11111]
[12,18755,24,18770,24,18779,23,18788,24,18821,0,12222]
[12,18933,13,18937,13,18946,14,18951,13,18959,0,11111]
[12,19063,13,19067,13,19075,14,19080,13,19085,0,11111]
[12,19187,13,19190,13,19194,14,19200,13,19209,1,11111]
[12,19315,13,19323,13,19328,14,19340,13,19345,0,11111]
[12,19454,13,19458,13,19462,14,19466,13,19474,0,11111]
[12,19578,13,19582,13,19590,14,19595,13,19601,0,11111]
[12,19713,13,19718,13,19726,14,19739,13,19747,0,11111]
[12,19854,13,19863,13,19868,14,19873,13,19879,0,11111]
[12,19988,13,19997,13,20016,14,20021,13,20026,0,11111]
[12,20148,13,20161,13,20173,14,20186,13,20196,1,11111]
[12,20301,13,20309,13,20314,14,20321,13,20336,0,11111]
[12,20444,13,20448,13,20453,14,20462,13,20470,0,11111]
[12,20585,13,20590,13,20599,14,20614,24,20636,0,11112]
[12,20743,13,20752,13,20756,14,20761,13,20766,1,11111]
[12,20873,13,20877,13,20887,14,20891,13,20895,0,11111]
[12,20993,13,21002,13,21006,14,21010,13,21017,0,11111]
[12,21121,13,21129,13,21134,14,21142,13,21151,1,11111]
[12,21256,13,21270,13,21275,14,21295,13,21313,0,11111]
[12,21417,13,21422,13,21437,14,21444,13,21448,0,11111]
[12,21563,13,21567,13,21572,14,21576,13,21581,0,11111]
[12,21695,13,21708,13,21713,14,21726,13,21751,0,11111]
[12,21857,13,21866,13,21871,14,21875,13,21880,0,11111]
[12,21984,13,21992,13,21996,14,22009,13,22018,0,11111]
[12,22126,13,22130,13,22134,14,22139,13,22144,0,11111]
[12,22244,13,22248,13,22252,14,22256,13,22260,1,11111]
[12,22367,13,22376,13,22389,14,22393,13,22406,0,11111]
[12,22517,13,22527,13,22532,14,22540,13,22545,0,11111]
[21,22662,22,22670,24,22682,23,22689,24,22704,0,22222]
[12,22811,13,22815,13,22819,14,22824,13,22831,0,11111]
[12,22935,13,22940,13,22944,14,22948,13,22957,1,11111]
[12,23066,13,23070,13,23075,14,23079,13,23091,0,11111]
[12,23203,13,23210,13,23215,14,23228,13,23233,0,11111]
[12,23342,13,23347,13,23351,14,23365,13,23370,1,11111]
[12,23484,13,23488,13,23493,14,23502,13,23507,0,11111]
[12,23615,13,23620,13,23625,14,23635,13,23640,0,11111]
[12,23756,13,23777,13,23789,14,23793,13,23798,0,11111]
[12,23898,13,23906,13,23914,14,23919,13,23928,null,11111]

{"sheet":"!MC05840.010","index":8,"n_rows":182,"n_cols":48,"rows_kept":182,"cut":false,"hidden":false,"merged":[[4,39,4,42],[5,39,5,40],[4,44,4,47],[5,44,5,45],[4,24,4,27],[5,24,5,25],[4,29,4,32],[5,29,5,30],[4,34,4,37],[5,34,5,35],[1,1,1,2],[5,13,5,14],[42,13,42,14],[43,13,43,14],[4,19,4,22],[5,19,5,20]]}
["Report for:!MC05840.010"]
["Date:","<date>"]
["Hen:","<hen>",null,null,null,"Correct Sequence",{"$f":"Start!J2","v":21121},null,null,null,null,null,null,null,null,"Total Sequences in Data",{"$f":"4994-COUNTBLANK(L7:L5000)","v":176},null,null,null,null,"Total Sequences in Block Data",{"$f":"COUNTA(L7:L35)","v":29},null,null,null,"Total Sequences in Block Data",{"$f":"COUNTA(L36:L65)","v":30},null,null,null,"Total Sequences in Block Data",{"$f":"COUNTA(L66:L94)","v":29},null,null,null,"Total Sequences in Block Data",{"$f":"COUNTA(L95:L123)","v":29},null,null,null,"Total Sequences in Block Data",{"$f":"COUNTA(L124:L153)","v":30},null,null,null,"Total Sequences in Block Data",{"$f":"COUNTA(L154:L182)","v":29}]
[null,null,null,null,null,null,null,null,null,null,null,null,null,null,null,"Total Sequences in Summary",{"$f":"SUM(O7:O38)","v":176},null,null,null,null,"Total Sequences in Block Summary",{"$f":"SUM(U7:U38)","v":29},null,null,null,"Total Sequences in Block Summary",{"$f":"SUM(Z7:Z38)","v":30},null,null,null,"Total Sequences in Block Summary",{"$f":"SUM(AE7:AE38)","v":29},null,null,null,"Total Sequences in Block Summary",{"$f":"SUM(AJ7:AJ38)","v":29},null,null,null,"Total Sequences in Block Summary",{"$f":"SUM(AO7:AO38)","v":30},null,null,null,"Total Sequences in Block Summary",{"$f":"SUM(AT7:AT38)","v":29}]
[null,null,null,null,null,null,null,null,null,null,null,null,null,null,null,null,null,null,null,"Block 1",null,null,null,null,"Block 2",null,null,null,null,"Block 3",null,null,null,null,"Block 4",null,null,null,null,"Block 5",null,null,null,null,"Block 6"]
["Sequence\nComponent\n1","Time\n1","Sequence\nComponent\n2","Time\n2","Sequence\nComponent\n3","Time\n3","Sequence\nComponent\n4","Time\n4","Sequence\nComponent\n5","Time\n5","Correct?\n0=No 1=Yes","Sequence",null,"Frequency",null,"Relative Frequency","Variability",null,null,"Frequency",null,"Relative Frequency","Variability",null,"Frequency",null,"Relative Frequency","Variability",null,"Frequency",null,"Relative Frequency","Variability",null,"Frequency",null,"Relative Frequency","Variability",null,"Frequency",null,"Relative Frequency","Variability",null,"Frequency",null,"Relative Frequency","Variability"]
[12,26,13,32,13,36,14,41,13,46,0,11111,null,11111,{"$f":"COUNTIF($L$7:$L$500,N7)","v":163},{"$f":"O7/$Q$4","v":0.92613636363636365},{"$f":"IF(P7=0,0,(P7*((LOG(P7))/LOG(2))))","v":-0.10252650396712391},null,null,{"$f":"N7","v":11111},{"$f":"COUNTIF(L7:L35,T7)","v":28},{"$f":"U7/(W4-U25)","v":0.96551724137931039},{"$f":"IF(V7=0,0,(V7*((LOG(V7))/LOG(2))))","v":-4.8880346412382848E-2},null,{"$f":"N7","v":11111},{"$f":"COUNTIF(L36:L65,Y7)","v":26},{"$f":"Z7/(AB4-Z25)","v":0.8666666666666667},{"$f":"IF(AA7=0,0,(AA7*((LOG(AA7))/LOG(2))))","v":-0.17892409380510282},null,{"$f":"N7","v":11111},{"$f":"COUNTIF(L66:L94,AD7)","v":26},{"$f":"AE7/(AG4-AE25)","v":0.89655172413793105},{"$f":"IF(AF7=0,0,(AF7*((LOG(AF7))/LOG(2))))","v":-0.14124390350511995},null,{"$f":"N7","v":11111},{"$f":"COUNTIF(L95:L123,AI7)","v":29},{"$f":"AJ7/(AL4-AJ25)","v":1},{"$f":"IF(AK7=0,0,(AK7*((LOG(AK7))/LOG(2))))","v":0},null,{"$f":"N7","v":11111},{"$f":"COUNTIF(L124:L153,AN7)","v":27},{"$f":"AO7/(AQ4-AO25)","v":0.9},{"$f":"IF(AP7=0,0,(AP7*((LOG(AP7))/LOG(2))))","v":-0.13680278410054494},null,{"$f":"N7","v":11111},{"$f":"COUNTIF(L154:L182,AS7)","v":27},{"$f":"AT7/(AV4-AT25)","v":0.93103448275862066},{"$f":"IF(AU7=0,0,(AU7*((LOG(AU7))/LOG(2))))","v":-9.5983596897613724E-2}]
[12,169,13,174,13,179,14,184,13,192,0,11111,null,11112,{"$f":"COUNTIF($L$7:$L$500,N8)","v":3},{"$f":"O8/$Q$4","v":1.7045454545454544E-2},{"$f":"IF(P8=0,0,(P8*((LOG(P8))/LOG(2))))","v":-0.10013299632811604},null,null,{"$f":"N8","v":11112},{"$f":"COUNTIF(L7:L35,T8)","v":1},{"$f":"U8/(W4-U25)","v":3.4482758620689655E-2},{"$f":"IF(V8=0,0,(V8*((LOG(V8))/LOG(2))))","v":-0.16751658603888178},null,{"$f":"N8","v":11112},{"$f":"COUNTIF(L36:L65,Y8)","v":1},{"$f":"Z8/(AB4-Z25)","v":3.3333333333333333E-2},{"$f":"IF(AA8=0,0,(AA8*((LOG(AA8))/LOG(2))))","v":-0.16356301985361729},null,{"$f":"N8","v":11112},{"$f":"COUNTIF(L66:L94,AD8)","v":0},{"$f":"AE8/(AG4-AE25)","v":0},{"$f":"IF(AF8=0,0,(AF8*((LOG(AF8))/LOG(2))))","v":0},null,{"$f":"N8","v":11112},{"$f":"COUNTIF(L95:L123,AI8)","v":0},{"$f":"AJ8/(AL4-AJ25)","v":0},{"$f":"IF(AK8=0,0,(AK8*((LOG(AK8))/LOG(2))))","v":0},null,{"$f":"N8","v":11112},{"$f":"COUNTIF(L124:L153,AN8)","v":1},{"$f":"AO8/(AQ4-AO25)","v":3.3333333333333333E-2},{"$f":"IF(AP8=0,0,(AP8*((LOG(AP8))/LOG(2))))","v":-0.16356301985361729},null,{"$f":"N8","v":11112},{"$f":"COUNTIF(L154:L182,AS8)","v":0},{"$f":"AT8/(AV4-AT25)","v":0},{"$f":"IF(AU8=0,0,(AU8*((LOG(AU8))/LOG(2))))","v":0}]
[12,295,13,304,13,311,14,316,13,341,1,11111,null,11121,{"$f":"COUNTIF($L$7:$L$500,N9)","v":0},{"$f":"O9/$Q$4","v":0},{"$f":"IF(P9=0,0,(P9*((LOG(P9))/LOG(2))))","v":0},null,null,{"$f":"N9","v":11121},{"$f":"COUNTIF(L7:L35,T9)","v":0},{"$f":"U9/(W4-U25)","v":0},{"$f":"IF(V9=0,0,(V9*((LOG(V9))/LOG(2))))","v":0},null,{"$f":"N9","v":11121},{"$f":"COUNTIF(L36:L65,Y9)","v":0},{"$f":"Z9/(AB4-Z25)","v":0},{"$f":"IF(AA9=0,0,(AA9*((LOG(AA9))/LOG(2))))","v":0},null,{"$f":"N9","v":11121},{"$f":"COUNTIF(L66:L94,AD9)","v":0},{"$f":"AE9/(AG4-AE25)","v":0},{"$f":"IF(AF9=0,0,(AF9*((LOG(AF9))/LOG(2))))","v":0},null,{"$f":"N9","v":11121},{"$f":"COUNTIF(L95:L123,AI9)","v":0},{"$f":"AJ9/(AL4-AJ25)","v":0},{"$f":"IF(AK9=0,0,(AK9*((LOG(AK9))/LOG(2))))","v":0},null,{"$f":"N9","v":11121},{"$f":"COUNTIF(L124:L153,AN9)","v":0},{"$f":"AO9/(AQ4-AO25)","v":0},{"$f":"IF(AP9=0,0,(AP9*((LOG(AP9))/LOG(2))))","v":0},null,{"$f":"N9","v":11121},{"$f":"COUNTIF(L154:L182,AS9)","v":0},{"$f":"AT9/(AV4-AT25)","v":0},{"$f":"IF(AU9=0,0,(AU9*((LOG(AU9))/LOG(2))))","v":0}]
[12,447,13,455,13,460,14,465,13,470,0,11111,null,11122,{"$f":"COUNTIF($L$7:$L$500,N10)","v":0},{"$f":"O10/$Q$4","v":0},{"$f":"IF(P10=0,0,(P10*((LOG(P10))/LOG(2))))","v":0},null,null,{"$f":"N10","v":11122},{"$f":"COUNTIF(L7:L35,T10)","v":0},{"$f":"U10/(W4-U25)","v":0},{"$f":"IF(V10=0,0,(V10*((LOG(V10))/LOG(2))))","v":0},null,{"$f":"N10","v":11122},{"$f":"COUNTIF(L36:L65,Y10)","v":0},{"$f":"Z10/(AB4-Z25)","v":0},{"$f":"IF(AA10=0,0,(AA10*((LOG(AA10))/LOG(2))))","v":0},null,{"$f":"N10","v":11122},{"$f":"COUNTIF(L66:L94,AD10)","v":0},{"$f":"AE10/(AG4-AE25)","v":0},{"$f":"IF(AF10=0,0,(AF10*((LOG(AF10))/LOG(2))))","v":0},null,{"$f":"N10","v":11122},{"$f":"COUNTIF(L95:L123,AI10)","v":0},{"$f":"AJ10/(AL4-AJ25)","v":0},{"$f":"IF(AK10=0,0,(AK10*((LOG(AK10))/LOG(2))))","v":0},null,{"$f":"N10","v":11122},{"$f":"COUNTIF(L124:L153,AN10)","v":0},{"$f":"AO10/(AQ4-AO25)","v":0},{"$f":"IF(AP10=0,0,(AP10*((LOG(AP10))/LOG(2))))","v":0},null,{"$f":"N10","v":11122},{"$f":"COUNTIF(L154:L182,AS10)","v":0},{"$f":"AT10/(AV4-AT25)","v":0},{"$f":"IF(AU10=0,0,(AU10*((LOG(AU10))/LOG(2))))","v":0}]
[12,580,13,585,13,591,14,597,24,629,0,11112,null,11211,{"$f":"COUNTIF($L$7:$L$500,N11)","v":0},{"$f":"O11/$Q$4","v":0},{"$f":"IF(P11=0,0,(P11*((LOG(P11))/LOG(2))))","v":0},null,null,{"$f":"N11","v":11211},{"$f":"COUNTIF(L7:L35,T11)","v":0},{"$f":"U11/(W4-U25)","v":0},{"$f":"IF(V11=0,0,(V11*((LOG(V11))/LOG(2))))","v":0},null,{"$f":"N11","v":11211},{"$f":"COUNTIF(L36:L65,Y11)","v":0},{"$f":"Z11/(AB4-Z25)","v":0},{"$f":"IF(AA11=0,0,(AA11*((LOG(AA11))/LOG(2))))","v":0},null,{"$f":"N11","v":11211},{"$f":"COUNTIF(L66:L94,AD11)","v":0},{"$f":"AE11/(AG4-AE25)","v":0},{"$f":"IF(AF11=0,0,(AF11*((LOG(AF11))/LOG(2))))","v":0},null,{"$f":"N11","v":11211},{"$f":"COUNTIF(L95:L123,AI11)","v":0},{"$f":"AJ11/(AL4-AJ25)","v":0},{"$f":"IF(AK11=0,0,(AK11*((LOG(AK11))/LOG(2))))","v":0},null,{"$f":"N11","v":11211},{"$f":"COUNTIF(L124:L153,AN11)","v":0},{"$f":"AO11/(AQ4-AO25)","v":0},{"$f":"IF(AP11=0,0,(AP11*((LOG(AP11))/LOG(2))))","v":0},null,{"$f":"N11","v":11211},{"$f":"COUNTIF(L154:L182,AS11)","v":0},{"$f":"AT11/(AV4-AT25)","v":0},{"$f":"IF(AU11=0,0,(AU11*((LOG(AU11))/LOG(2))))","v":0}]
[12,735,13,740,13,744,14,749,13,754,1,11111,null,11212,{"$f":"COUNTIF($L$7:$L$500,N12)","v":0},{"$f":"O12/$Q$4","v":0},{"$f":"IF(P12=0,0,(P12*((LOG(P12))/LOG(2))))","v":0},null,null,{"$f":"N12","v":11212},{"$f":"COUNTIF(L7:L35,T12)","v":0},{"$f":"U12/(W4-U25)","v":0},{"$f":"IF(V12=0,0,(V12*((LOG(V12))/LOG(2))))","v":0},null,{"$f":"N12","v":11212},{"$f":"COUNTIF(L36:L65,Y12)","v":0},{"$f":"Z12/(AB4-Z25)","v":0},{"$f":"IF(AA12=0,0,(AA12*((LOG(AA12))/LOG(2))))","v":0},null,{"$f":"N12","v":11212},{"$f":"COUNTIF(L66:L94,AD12)","v":0},{"$f":"AE12/(AG4-AE25)","v":0},{"$f":"IF(AF12=0,0,(AF12*((LOG(AF12))/LOG(2))))","v":0},null,{"$f":"N12","v":11212},{"$f":"COUNTIF(L95:L123,AI12)","v":0},{"$f":"AJ12/(AL4-AJ25)","v":0},{"$f":"IF(AK12=0,0,(AK12*((LOG(AK12))/LOG(2))))","v":0},null,{"$f":"N12","v":11212},{"$f":"COUNTIF(L124:L153,AN12)","v":0},{"$f":"AO12/(AQ4-AO25)","v":0},{"$f":"IF(AP12=0,0,(AP12*((LOG(AP12))/LOG(2))))","v":0},null,{"$f":"N12","v":11212},{"$f":"COUNTIF(L154:L182,AS12)","v":0},{"$f":"AT12/(AV4-AT25)","v":0},{"$f":"IF(AU12=0,0,(AU12*((LOG(AU12))/LOG(2))))","v":0}]
[12,860,13,865,13,872,14,882,13,887,0,11111,null,11221,{"$f":"COUNTIF($L$7:$L$500,N13)","v":0},{"$f":"O13/$Q$4","v":0},{"$f":"IF(P13=0,0,(P13*((LOG(P13))/LOG(2))))","v":0},null,null,{"$f":"N13","v":11221},{"$f":"COUNTIF(L7:L35,T13)","v":0},{"$f":"U13/(W4-U25)","v":0},{"$f":"IF(V13=0,0,(V13*((LOG(V13))/LOG(2))))","v":0},null,{"$f":"N13","v":11221},{"$f":"COUNTIF(L36:L65,Y13)","v":0},{"$f":"Z13/(AB4-Z25)","v":0},{"$f":"IF(AA13=0,0,(AA13*((LOG(AA13))/LOG(2))))","v":0},null,{"$f":"N13","v":11221},{"$f":"COUNTIF(L66:L94,AD13)","v":0},{"$f":"AE13/(AG4-AE25)","v":0},{"$f":"IF(AF13=0,0,(AF13*((LOG(AF13))/LOG(2))))","v":0},null,{"$f":"N13","v":11221},{"$f":"COUNTIF(L95:L123,AI13)","v":0},{"$f":"AJ13/(AL4-AJ25)","v":0},{"$f":"IF(AK13=0,0,(AK13*((LOG(AK13))/LOG(2))))","v":0},null,{"$f":"N13","v":11221},{"$f":"COUNTIF(L124:L153,AN13)","v":0},{"$f":"AO13/(AQ4-AO25)","v":0},{"$f":"IF(AP13=0,0,(AP13*((LOG(AP13))/LOG(2))))","v":0},null,{"$f":"N13","v":11221},{"$f":"COUNTIF(L154:L182,AS13)","v":0},{"$f":"AT13/(AV4-AT25)","v":0},{"$f":"IF(AU13=0,0,(AU13*((LOG(AU13))/LOG(2))))","v":0}]
[12,999,13,1004,13,1009,14,1014,13,1019,0,11111,null,11222,{"$f":"COUNTIF($L$7:$L$500,N14)","v":2},{"$f":"O14/$Q$4","v":1.1363636363636364E-2},{"$f":"IF(P14=0,0,(P14*((LOG(P14))/LOG(2))))","v":-7.3402632029969286E-2},null,null,{"$f":"N14","v":11222},{"$f":"COUNTIF(L7:L35,T14)","v":0},{"$f":"U14/(W4-U25)","v":0},{"$f":"IF(V14=0,0,(V14*((LOG(V14))/LOG(2))))","v":0},null,{"$f":"N14","v":11222},{"$f":"COUNTIF(L36:L65,Y14)","v":1},{"$f":"Z14/(AB4-Z25)","v":3.3333333333333333E-2},{"$f":"IF(AA14=0,0,(AA14*((LOG(AA14))/LOG(2))))","v":-0.16356301985361729},null,{"$f":"N14","v":11222},{"$f":"COUNTIF(L66:L94,AD14)","v":1},{"$f":"AE14/(AG4-AE25)","v":3.4482758620689655E-2},{"$f":"IF(AF14=0,0,(AF14*((LOG(AF14))/LOG(2))))","v":-0.16751658603888178},null,{"$f":"N14","v":11222},{"$f":"COUNTIF(L95:L123,AI14)","v":0},{"$f":"AJ14/(AL4-AJ25)","v":0},{"$f":"IF(AK14=0,0,(AK14*((LOG(AK14))/LOG(2))))","v":0},null,{"$f":"N14","v":11222},{"$f":"COUNTIF(L124:L153,AN14)","v":0},{"$f":"AO14/(AQ4-AO25)","v":0},{"$f":"IF(AP14=0,0,(AP14*((LOG(AP14))/LOG(2))))","v":0},null,{"$f":"N14","v":11222},{"$f":"COUNTIF(L154:L182,AS14)","v":0},{"$f":"AT14/(AV4-AT25)","v":0},{"$f":"IF(AU14=0,0,(AU14*((LOG(AU14))/LOG(2))))","v":0}]
[12,1120,13,1125,13,1130,14,1135,13,1140,0,11111,null,12111,{"$f":"COUNTIF($L$7:$L$500,N15)","v":0},{"$f":"O15/$Q$4","v":0},{"$f":"IF(P15=0,0,(P15*((LOG(P15))/LOG(2))))","v":0},null,null,{"$f":"N15","v":12111},{"$f":"COUNTIF(L7:L35,T15)","v":0},{"$f":"U15/(W4-U25)","v":0},{"$f":"IF(V15=0,0,(V15*((LOG(V15))/LOG(2))))","v":0},null,{"$f":"N15","v":12111},{"$f":"COUNTIF(L36:L65,Y15)","v":0},{"$f":"Z15/(AB4-Z25)","v":0},{"$f":"IF(AA15=0,0,(AA15*((LOG(AA15))/LOG(2))))","v":0},null,{"$f":"N15","v":12111},{"$f":"COUNTIF(L66:L94,AD15)","v":0},{"$f":"AE15/(AG4-AE25)","v":0},{"$f":"IF(AF15=0,0,(AF15*((LOG(AF15))/LOG(2))))","v":0},null,{"$f":"N15","v":12111},{"$f":"COUNTIF(L95:L123,AI15)","v":0},{"$f":"AJ15/(AL4-AJ25)","v":0},{"$f":"IF(AK15=0,0,(AK15*((LOG(AK15))/LOG(2))))","v":0},null,{"$f":"N15","v":12111},{"$f":"COUNTIF(L124:L153,AN15)","v":0},{"$f":"AO15/(AQ4-AO25)","v":0},{"$f":"IF(AP15=0,0,(AP15*((LOG(AP15))/LOG(2))))","v":0},null,{"$f":"N15","v":12111},{"$f":"COUNTIF(L154:L182,AS15)","v":0},{"$f":"AT15/(AV4-AT25)","v":0},{"$f":"IF(AU15=0,0,(AU15*((LOG(AU15))/LOG(2))))","v":0}]
[12,1250,13,1255,13,1260,14,1265,13,1270,1,11111,null,12112,{"$f":"COUNTIF($L$7:$L$500,N16)","v":0},{"$f":"O16/$Q$4","v":0},{"$f":"IF(P16=0,0,(P16*((LOG(P16))/LOG(2))))","v":0},null,null,{"$f":"N16","v":12112},{"$f":"COUNTIF(L7:L35,T16)","v":0},{"$f":"U16/(W4-U25)","v":0},{"$f":"IF(V16=0,0,(V16*((LOG(V16))/LOG(2))))","v":0},null,{"$f":"N16","v":12112},{"$f":"COUNTIF(L36:L65,Y16)","v":0},{"$f":"Z16/(AB4-Z25)","v":0},{"$f":"IF(AA16=0,0,(AA16*((LOG(AA16))/LOG(2))))","v":0},null,{"$f":"N16","v":12112},{"$f":"COUNTIF(L66:L94,AD16)","v":0},{"$f":"AE16/(AG4-AE25)","v":0},{"$f":"IF(AF16=0,0,(AF16*((LOG(AF16))/LOG(2))))","v":0},null,{"$f":"N16","v":12112},{"$f":"COUNTIF(L95:L123,AI16)","v":0},{"$f":"AJ16/(AL4-AJ25)","v":0},{"$f":"IF(AK16=0,0,(AK16*((LOG(AK16))/LOG(2))))","v":0},null,{"$f":"N16","v":12112},{"$f":"COUNTIF(L124:L153,AN16)","v":0},{"$f":"AO16/(AQ4-AO25)","v":0},{"$f":"IF(AP16=0,0,(AP16*((LOG(AP16))/LOG(2))))","v":0},null,{"$f":"N16","v":12112},{"$f":"COUNTIF(L154:L182,AS16)","v":0},{"$f":"AT16/(AV4-AT25)","v":0},{"$f":"IF(AU16=0,0,(AU16*((LOG(AU16))/LOG(2))))","v":0}]
[12,1373,13,1388,13,1397,14,1403,13,1409,1,11111,null,12121,{"$f":"COUNTIF($L$7:$L$500,N17)","v":0},{"$f":"O17/$Q$4","v":0},{"$f":"IF(P17=0,0,(P17*((LOG(P17))/LOG(2))))","v":0},null,null,{"$f":"N17","v":12121},{"$f":"COUNTIF(L7:L35,T17)","v":0},{"$f":"U17/(W4-U25)","v":0},{"$f":"IF(V17=0,0,(V17*((LOG(V17))/LOG(2))))","v":0},null,{"$f":"N17","v":12121},{"$f":"COUNTIF(L36:L65,Y17)","v":0},{"$f":"Z17/(AB4-Z25)","v":0},{"$f":"IF(AA17=0,0,(AA17*((LOG(AA17))/LOG(2))))","v":0},null,{"$f":"N17","v":12121},{"$f":"COUNTIF(L66:L94,AD17)","v":0},{"$f":"AE17/(AG4-AE25)","v":0},{"$f":"IF(AF17=0,0,(AF17*((LOG(AF17))/LOG(2))))","v":0},null,{"$f":"N17","v":12121},{"$f":"COUNTIF(L95:L123,AI17)","v":0},{"$f":"AJ17/(AL4-AJ25)","v":0},{"$f":"IF(AK17=0,0,(AK17*((LOG(AK17))/LOG(2))))","v":0},null,{"$f":"N17","v":12121},{"$f":"COUNTIF(L124:L153,AN17)","v":0},{"$f":"AO17/(AQ4-AO25)","v":0},{"$f":"IF(AP17=0,0,(AP17*((LOG(AP17))/LOG(2))))","v":0},null,{"$f":"N17","v":12121},{"$f":"COUNTIF(L154:L182,AS17)","v":0},{"$f":"AT17/(AV4-AT25)","v":0},{"$f":"IF(AU17=0,0,(AU17*((LOG(AU17))/LOG(2))))","v":0}]
[12,1505,13,1514,13,1520,14,1525,13,1531,0,11111,null,12122,{"$f":"COUNTIF($L$7:$L$500,N18)","v":0},{"$f":"O18/$Q$4","v":0},{"$f":"IF(P18=0,0,(P18*((LOG(P18))/LOG(2))))","v":0},null,null,{"$f":"N18","v":12122},{"$f":"COUNTIF(L7:L35,T18)","v":0},{"$f":"U18/(W4-U25)","v":0},{"$f":"IF(V18=0,0,(V18*((LOG(V18))/LOG(2))))","v":0},null,{"$f":"N18","v":12122},{"$f":"COUNTIF(L36:L65,Y18)","v":0},{"$f":"Z18/(AB4-Z25)","v":0},{"$f":"IF(AA18=0,0,(AA18*((LOG(AA18))/LOG(2))))","v":0},null,{"$f":"N18","v":12122},{"$f":"COUNTIF(L66:L94,AD18)","v":0},{"$f":"AE18/(AG4-AE25)","v":0},{"$f":"IF(AF18=0,0,(AF18*((LOG(AF18))/LOG(2))))","v":0},null,{"$f":"N18","v":12122},{"$f":"COUNTIF(L95:L123,AI18)","v":0},{"$f":"AJ18/(AL4-AJ25)","v":0},{"$f":"IF(AK18=0,0,(AK18*((LOG(AK18))/LOG(2))))","v":0},null,{"$f":"N18","v":12122},{"$f":"COUNTIF(L124:L153,AN18)","v":0},{"$f":"AO18/(AQ4-AO25)","v":0},{"$f":"IF(AP18=0,0,(AP18*((LOG(AP18))/LOG(2))))","v":0},null,{"$f":"N18","v":12122},{"$f":"COUNTIF(L154:L182,AS18)","v":0},{"$f":"AT18/(AV4-AT25)","v":0},{"$f":"IF(AU18=0,0,(AU18*((LOG(AU18))/LOG(2))))","v":0}]
[12,1636,13,1641,13,1646,14,1651,13,1656,0,11111,null,12211,{"$f":"COUNTIF($L$7:$L$500,N19)","v":0},{"$f":"O19/$Q$4","v":0},{"$f":"IF(P19=0,0,(P19*((LOG(P19))/LOG(2))))","v":0},null,null,{"$f":"N19","v":12211},{"$f":"COUNTIF(L7:L35,T19)","v":0},{"$f":"U19/(W4-U25)","v":0},{"$f":"IF(V19=0,0,(V19*((LOG(V19))/LOG(2))))","v":0},null,{"$f":"N19","v":12211},{"$f":"COUNTIF(L36:L65,Y19)","v":0},{"$f":"Z19/(AB4-Z25)","v":0},{"$f":"IF(AA19=0,0,(AA19*((LOG(AA19))/LOG(2))))","v":0},null,{"$f":"N19","v":12211},{"$f":"COUNTIF(L66:L94,AD19)","v":0},{"$f":"AE19/(AG4-AE25)","v":0},{"$f":"IF(AF19=0,0,(AF19*((LOG(AF19))/LOG(2))))","v":0},null,{"$f":"N19","v":12211},{"$f":"COUNTIF(L95:L123,AI19)","v":0},{"$f":"AJ19/(AL4-AJ25)","v":0},{"$f":"IF(AK19=0,0,(AK19*((LOG(AK19))/LOG(2))))","v":0},null,{"$f":"N19","v":12211},{"$f":"COUNTIF(L124:L153,AN19)","v":0},{"$f":"AO19/(AQ4-AO25)","v":0},{"$f":"IF(AP19=0,0,(AP19*((LOG(AP19))/LOG(2))))","v":0},null,{"$f":"N19","v":12211},{"$f":"COUNTIF(L154:L182,AS19)","v":0},{"$f":"AT19/(AV4-AT25)","v":0},{"$f":"IF(AU19=0,0,(AU19*((LOG(AU19))/LOG(2))))","v":0}]
[12,1761,13,1766,13,1771,14,1776,13,1781,0,11111,null,12212,{"$f":"COUNTIF($L$7:$L$500,N20)","v":0},{"$f":"O20/$Q$4","v":0},{"$f":"IF(P20=0,0,(P20*((LOG(P20))/LOG(2))))","v":0},null,null,{"$f":"N20","v":12212},{"$f":"COUNTIF(L7:L35,T20)","v":0},{"$f":"U20/(W4-U25)","v":0},{"$f":"IF(V20=0,0,(V20*((LOG(V20))/LOG(2))))","v":0},null,{"$f":"N20","v":12212},{"$f":"COUNTIF(L36:L65,Y20)","v":0},{"$f":"Z20/(AB4-Z25)","v":0},{"$f":"IF(AA20=0,0,(AA20*((LOG(AA20))/LOG(2))))","v":0},null,{"$f":"N20","v":12212},{"$f":"COUNTIF(L66:L94,AD20)","v":0},{"$f":"AE20/(AG4-AE25)","v":0},{"$f":"IF(AF20=0,0,(AF20*((LOG(AF20))/LOG(2))))","v":0},null,{"$f":"N20","v":12212},{"$f":"COUNTIF(L95:L123,AI20)","v":0},{"$f":"AJ20/(AL4-AJ25)","v":0},{"$f":"IF(AK20=0,0,(AK20*((LOG(AK20))/LOG(2))))","v":0},null,{"$f":"N20","v":12212},{"$f":"COUNTIF(L124:L153,AN20)","v":0},{"$f":"AO20/(AQ4-AO25)","v":0},{"$f":"IF(AP20=0,0,(AP20*((LOG(AP20))/LOG(2))))","v":0},null,{"$f":"N20","v":12212},{"$f":"COUNTIF(L154:L182,AS20)","v":0},{"$f":"AT20/(AV4-AT25)","v":0},{"$f":"IF(AU20=0,0,(AU20*((LOG(AU20))/LOG(2))))","v":0}]
[12,1890,13,1895,13,1899,14,1904,13,1909,0,11111,null,12221,{"$f":"COUNTIF($L$7:$L$500,N21)","v":0},{"$f":"O21/$Q$4","v":0},{"$f":"IF(P21=0,0,(P21*((LOG(P21))/LOG(2))))","v":0},null,null,{"$f":"N21","v":12221},{"$f":"COUNTIF(L7:L35,T21)","v":0},{"$f":"U21/(W4-U25)","v":0},{"$f":"IF(V21=0,0,(V21*((LOG(V21))/LOG(2))))","v":0},null,{"$f":"N21","v":12221},{"$f":"COUNTIF(L36:L65,Y21)","v":0},{"$f":"Z21/(AB4-Z25)","v":0},{"$f":"IF(AA21=0,0,(AA21*((LOG(AA21))/LOG(2))))","v":0},null,{"$f":"N21","v":12221},{"$f":"COUNTIF(L66:L94,AD21)","v":0},{"$f":"AE21/(AG4-AE25)","v":0},{"$f":"IF(AF21=0,0,(AF21*((LOG(AF21))/LOG(2))))","v":0},null,{"$f":"N21","v":12221},{"$f":"COUNTIF(L95:L123,AI21)","v":0},{"$f":"AJ21/(AL4-AJ25)","v":0},{"$f":"IF(AK21=0,0,(AK21*((LOG(AK21))/LOG(2))))","v":0},null,{"$f":"N21","v":12221},{"$f":"COUNTIF(L124:L153,AN21)","v":0},{"$f":"AO21/(AQ4-AO25)","v":0},{"$f":"IF(AP21=0,0,(AP21*((LOG(AP21))/LOG(2))))","v":0},null,{"$f":"N21","v":12221},{"$f":"COUNTIF(L154:L182,AS21)","v":0},{"$f":"AT21/(AV4-AT25)","v":0},{"$f":"IF(AU21=0,0,(AU21*((LOG(AU21))/LOG(2))))","v":0}]
[12,2009,13,2014,13,2018,14,2023,13,2027,0,11111,null,12222,{"$f":"COUNTIF($L$7:$L$500,N22)","v":2},{"$f":"O22/$Q$4","v":1.1363636363636364E-2},{"$f":"IF(P22=0,0,(P22*((LOG(P22))/LOG(2))))","v":-7.3402632029969286E-2},null,null,{"$f":"N22","v":12222},{"$f":"COUNTIF(L7:L35,T22)","v":0},{"$f":"U22/(W4-U25)","v":0},{"$f":"IF(V22=0,0,(V22*((LOG(V22))/LOG(2))))","v":0},null,{"$f":"N22","v":12222},{"$f":"COUNTIF(L36:L65,Y22)","v":0},{"$f":"Z22/(AB4-Z25)","v":0},{"$f":"IF(AA22=0,0,(AA22*((LOG(AA22))/LOG(2))))","v":0},null,{"$f":"N22","v":12222},{"$f":"COUNTIF(L66:L94,AD22)","v":1},{"$f":"AE22/(AG4-AE25)","v":3.4482758620689655E-2},{"$f":"IF(AF22=0,0,(AF22*((LOG(AF22))/LOG(2))))","v":-0.16751658603888178},null,{"$f":"N22","v":12222},{"$f":"COUNTIF(L95:L123,AI22)","v":0},{"$f":"AJ22/(AL4-AJ25)","v":0},{"$f":"IF(AK22=0,0,(AK22*((LOG(AK22))/LOG(2))))","v":0},null,{"$f":"N22","v":12222},{"$f":"COUNTIF(L124:L153,AN22)","v":0},{"$f":"AO22/(AQ4-AO25)","v":0},{"$f":"IF(AP22=0,0,(AP22*((LOG(AP22))/LOG(2))))","v":0},null,{"$f":"N22","v":12222},{"$f":"COUNTIF(L154:L182,AS22)","v":1},{"$f":"AT22/(AV4-AT25)","v":3.4482758620689655E-2},{"$f":"IF(AU22=0,0,(AU22*((LOG(AU22))/LOG(2))))","v":-0.16751658603888178}]
[12,2127,13,2131,13,2136,14,2140,13,2146,0,11111,null,21111,{"$f":"COUNTIF($L$7:$L$500,N23)","v":0},{"$f":"O23/$Q$4","v":0},{"$f":"IF(P23=0,0,(P23*((LOG(P23))/LOG(2))))","v":0},null,null,{"$f":"N23","v":21111},{"$f":"COUNTIF(L7:L35,T23)","v":0},{"$f":"U23/(W4-U25)","v":0},{"$f":"IF(V23=0,0,(V23*((LOG(V23))/LOG(2))))","v":0},null,{"$f":"N23","v":21111},{"$f":"COUNTIF(L36:L65,Y23)","v":0},{"$f":"Z23/(AB4-Z25)","v":0},{"$f":"IF(AA23=0,0,(AA23*((LOG(AA23))/LOG(2))))","v":0},null,{"$f":"N23","v":21111},{"$f":"COUNTIF(L66:L94,AD23)","v":0},{"$f":"AE23/(AG4-AE25)","v":0},{"$f":"IF(AF23=0,0,(AF23*((LOG(AF23))/LOG(2))))","v":0},null,{"$f":"N23","v":21111},{"$f":"COUNTIF(L95:L123,AI23)","v":0},{"$f":"AJ23/(AL4-AJ25)","v":0},{"$f":"IF(AK23=0,0,(AK23*((LOG(AK23))/LOG(2))))","v":0},null,{"$f":"N23","v":21111},{"$f":"COUNTIF(L124:L153,AN23)","v":0},{"$f":"AO23/(AQ4-AO25)","v":0},{"$f":"IF(AP23=0,0,(AP23*((LOG(AP23))/LOG(2))))","v":0},null,{"$f":"N23","v":21111},{"$f":"COUNTIF(L154:L182,AS23)","v":0},{"$f":"AT23/(AV4-AT25)","v":0},{"$f":"IF(AU23=0,0,(AU23*((LOG(AU23))/LOG(2))))","v":0}]
[12,2253,13,2258,13,2263,14,2268,13,2273,0,11111,null,21112,{"$f":"COUNTIF($L$7:$L$500,N24)","v":0},{"$f":"O24/$Q$4","v":0},{"$f":"IF(P24=0,0,(P24*((LOG(P24))/LOG(2))))","v":0},null,null,{"$f":"N24","v":21112},{"$f":"COUNTIF(L7:L35,T24)","v":0},{"$f":"U24/(W4-U25)","v":0},{"$f":"IF(V24=0,0,(V24*((LOG(V24))/LOG(2))))","v":0},null,{"$f":"N24","v":21112},{"$f":"COUNTIF(L36:L65,Y24)","v":0},{"$f":"Z24/(AB4-Z25)","v":0},{"$f":"IF(AA24=0,0,(AA24*((LOG(AA24))/LOG(2))))","v":0},null,{"$f":"N24","v":21112},{"$f":"COUNTIF(L66:L94,AD24)","v":0},{"$f":"AE24/(AG4-AE25)","v":0},{"$f":"IF(AF24=0,0,(AF24*((LOG(AF24))/LOG(2))))","v":0},null,{"$f":"N24","v":21112},{"$f":"COUNTIF(L95:L123,AI24)","v":0},{"$f":"AJ24/(AL4-AJ25)","v":0},{"$f":"IF(AK24=0,0,(AK24*((LOG(AK24))/LOG(2))))","v":0},null,{"$f":"N24","v":21112},{"$f":"COUNTIF(L124:L153,AN24)","v":0},{"$f":"AO24/(AQ4-AO25)","v":0},{"$f":"IF(AP24=0,0,(AP24*((LOG(AP24))/LOG(2))))","v":0},null,{"$f":"N24","v":21112},{"$f":"COUNTIF(L154:L182,AS24)","v":0},{"$f":"AT24/(AV4-AT25)","v":0},{"$f":"IF(AU24=0,0,(AU24*((LOG(AU24))/LOG(2))))","v":0}]
[12,2387,13,2392,13,2397,14,2401,13,2406,0,11111,null,21121,{"$f":"COUNTIF($L$7:$L$500,N25)","v":0},{"$f":"O25/$Q$4","v":0},{"$f":"IF(P25=0,0,(P25*((LOG(P25))/LOG(2))))","v":0},null,null,{"$f":"N25","v":21121},{"$f":"COUNTIF(L7:L35,T25)","v":0},null,null,null,{"$f":"N25","v":21121},{"$f":"COUNTIF(L36:L65,Y25)","v":0},null,null,null,{"$f":"N25","v":21121},{"$f":"COUNTIF(L66:L94,AD25)","v":0},null,null,null,{"$f":"N25","v":21121},{"$f":"COUNTIF(L95:L123,AI25)","v":0},null,null,null,{"$f":"N25","v":21121},{"$f":"COUNTIF(L124:L153,AN25)","v":0},null,null,null,{"$f":"N25","v":21121},{"$f":"COUNTIF(L154:L182,AS25)","v":0}]
[12,2512,13,2530,13,2535,14,2542,13,2548,0,11111,null,21122,{"$f":"COUNTIF($L$7:$L$500,N26)","v":0},{"$f":"O26/$Q$4","v":0},{"$f":"IF(P26=0,0,(P26*((LOG(P26))/LOG(2))))","v":0},null,null,{"$f":"N26","v":21122},{"$f":"COUNTIF(L7:L35,T26)","v":0},{"$f":"U26/(W4-U25)","v":0},{"$f":"IF(V26=0,0,(V26*((LOG(V26))/LOG(2))))","v":0},null,{"$f":"N26","v":21122},{"$f":"COUNTIF(L36:L65,Y26)","v":0},{"$f":"Z26/(AB4-Z25)","v":0},{"$f":"IF(AA26=0,0,(AA26*((LOG(AA26))/LOG(2))))","v":0},null,{"$f":"N26","v":21122},{"$f":"COUNTIF(L66:L94,AD26)","v":0},{"$f":"AE26/(AG4-AE25)","v":0},{"$f":"IF(AF26=0,0,(AF26*((LOG(AF26))/LOG(2))))","v":0},null,{"$f":"N26","v":21122},{"$f":"COUNTIF(L95:L123,AI26)","v":0},{"$f":"AJ26/(AL4-AJ25)","v":0},{"$f":"IF(AK26=0,0,(AK26*((LOG(AK26))/LOG(2))))","v":0},null,{"$f":"N26","v":21122},{"$f":"COUNTIF(L124:L153,AN26)","v":0},{"$f":"AO26/(AQ4-AO25)","v":0},{"$f":"IF(AP26=0,0,(AP26*((LOG(AP26))/LOG(2))))","v":0},null,{"$f":"N26","v":21122},{"$f":"COUNTIF(L154:L182,AS26)","v":0},{"$f":"AT26/(AV4-AT25)","v":0},{"$f":"IF(AU26=0,0,(AU26*((LOG(AU26))/LOG(2))))","v":0}]
[12,2662,13,2679,13,2702,14,2714,13,2726,0,11111,null,21211,{"$f":"COUNTIF($L$7:$L$500,N27)","v":0},{"$f":"O27/$Q$4","v":0},{"$f":"IF(P27=0,0,(P27*((LOG(P27))/LOG(2))))","v":0},null,null,{"$f":"N27","v":21211},{"$f":"COUNTIF(L7:L35,T27)","v":0},{"$f":"U27/(W4-U25)","v":0},{"$f":"IF(V27=0,0,(V27*((LOG(V27))/LOG(2))))","v":0},null,{"$f":"N27","v":21211},{"$f":"COUNTIF(L36:L65,Y27)","v":0},{"$f":"Z27/(AB4-Z25)","v":0},{"$f":"IF(AA27=0,0,(AA27*((LOG(AA27))/LOG(2))))","v":0},null,{"$f":"N27","v":21211},{"$f":"COUNTIF(L66:L94,AD27)","v":0},{"$f":"AE27/(AG4-AE25)","v":0},{"$f":"IF(AF27=0,0,(AF27*((LOG(AF27))/LOG(2))))","v":0},null,{"$f":"N27","v":21211},{"$f":"COUNTIF(L95:L123,AI27)","v":0},{"$f":"AJ27/(AL4-AJ25)","v":0},{"$f":"IF(AK27=0,0,(AK27*((LOG(AK27))/LOG(2))))","v":0},null,{"$f":"N27","v":21211},{"$f":"COUNTIF(L124:L153,AN27)","v":0},{"$f":"AO27/(AQ4-AO25)","v":0},{"$f":"IF(AP27=0,0,(AP27*((LOG(AP27))/LOG(2))))","v":0},null,{"$f":"N27","v":21211},{"$f":"COUNTIF(L154:L182,AS27)","v":0},{"$f":"AT27/(AV4-AT25)","v":0},{"$f":"IF(AU27=0,0,(AU27*((LOG(AU27))/LOG(2))))","v":0}]
[12,2841,13,2846,13,2850,14,2855,13,2874,1,11111,null,21212,{"$f":"COUNTIF($L$7:$L$500,N28)","v":0},{"$f":"O28/$Q$4","v":0},{"$f":"IF(P28=0,0,(P28*((LOG(P28))/LOG(2))))","v":0},null,null,{"$f":"N28","v":21212},{"$f":"COUNTIF(L7:L35,T28)","v":0},{"$f":"U28/(W4-U25)","v":0},{"$f":"IF(V28=0,0,(V28*((LOG(V28))/LOG(2))))","v":0},null,{"$f":"N28","v":21212},{"$f":"COUNTIF(L36:L65,Y28)","v":0},{"$f":"Z28/(AB4-Z25)","v":0},{"$f":"IF(AA28=0,0,(AA28*((LOG(AA28))/LOG(2))))","v":0},null,{"$f":"N28","v":21212},{"$f":"COUNTIF(L66:L94,AD28)","v":0},{"$f":"AE28/(AG4-AE25)","v":0},{"$f":"IF(AF28=0,0,(AF28*((LOG(AF28))/LOG(2))))","v":0},null,{"$f":"N28","v":21212},{"$f":"COUNTIF(L95:L123,AI28)","v":0},{"$f":"AJ28/(AL4-AJ25)","v":0},{"$f":"IF(AK28=0,0,(AK28*((LOG(AK28))/LOG(2))))","v":0},null,{"$f":"N28","v":21212},{"$f":"COUNTIF(L124:L153,AN28)","v":0},{"$f":"AO28/(AQ4-AO25)","v":0},{"$f":"IF(AP28=0,0,(AP28*((LOG(AP28))/LOG(2))))","v":0},null,{"$f":"N28","v":21212},{"$f":"COUNTIF(L154:L182,AS28)","v":0},{"$f":"AT28/(AV4-AT25)","v":0},{"$f":"IF(AU28=0,0,(AU28*((LOG(AU28))/LOG(2))))","v":0}]
[12,2976,13,2980,13,2985,14,2990,13,2995,0,11111,null,21221,{"$f":"COUNTIF($L$7:$L$500,N29)","v":0},{"$f":"O29/$Q$4","v":0},{"$f":"IF(P29=0,0,(P29*((LOG(P29))/LOG(2))))","v":0},null,null,{"$f":"N29","v":21221},{"$f":"COUNTIF(L7:L35,T29)","v":0},{"$f":"U29/(W4-U25)","v":0},{"$f":"IF(V29=0,0,(V29*((LOG(V29))/LOG(2))))","v":0},null,{"$f":"N29","v":21221},{"$f":"COUNTIF(L36:L65,Y29)","v":0},{"$f":"Z29/(AB4-Z25)","v":0},{"$f":"IF(AA29=0,0,(AA29*((LOG(AA29))/LOG(2))))","v":0},null,{"$f":"N29","v":21221},{"$f":"COUNTIF(L66:L94,AD29)","v":0},{"$f":"AE29/(AG4-AE25)","v":0},{"$f":"IF(AF29=0,0,(AF29*((LOG(AF29))/LOG(2))))","v":0},null,{"$f":"N29","v":21221},{"$f":"COUNTIF(L95:L123,AI29)","v":0},{"$f":"AJ29/(AL4-AJ25)","v":0},{"$f":"IF(AK29=0,0,(AK29*((LOG(AK29))/LOG(2))))","v":0},null,{"$f":"N29","v":21221},{"$f":"COUNTIF(L124:L153,AN29)","v":0},{"$f":"AO29/(AQ4-AO25)","v":0},{"$f":"IF(AP29=0,0,(AP29*((LOG(AP29))/LOG(2))))","v":0},null,{"$f":"N29","v":21221},{"$f":"COUNTIF(L154:L182,AS29)","v":0},{"$f":"AT29/(AV4-AT25)","v":0},{"$f":"IF(AU29=0,0,(AU29*((LOG(AU29))/LOG(2))))","v":0}]
[12,3096,13,3100,13,3105,14,3110,13,3114,0,11111,null,21222,{"$f":"COUNTIF($L$7:$L$500,N30)","v":0},{"$f":"O30/$Q$4","v":0},{"$f":"IF(P30=0,0,(P30*((LOG(P30))/LOG(2))))","v":0},null,null,{"$f":"N30","v":21222},{"$f":"COUNTIF(L7:L35,T30)","v":0},{"$f":"U30/(W4-U25)","v":0},{"$f":"IF(V30=0,0,(V30*((LOG(V30))/LOG(2))))","v":0},null,{"$f":"N30","v":21222},{"$f":"COUNTIF(L36:L65,Y30)","v":0},{"$f":"Z30/(AB4-Z25)","v":0},{"$f":"IF(AA30=0,0,(AA30*((LOG(AA30))/LOG(2))))","v":0},null,{"$f":"N30","v":21222},{"$f":"COUNTIF(L66:L94,AD30)","v":0},{"$f":"AE30/(AG4-AE25)","v":0},{"$f":"IF(AF30=0,0,(AF30*((LOG(AF30))/LOG(2))))","v":0},null,{"$f":"N30","v":21222},{"$f":"COUNTIF(L95:L123,AI30)","v":0},{"$f":"AJ30/(AL4-AJ25)","v":0},{"$f":"IF(AK30=0,0,(AK30*((LOG(AK30))/LOG(2))))","v":0},null,{"$f":"N30","v":21222},{"$f":"COUNTIF(L124:L153,AN30)","v":0},{"$f":"AO30/(AQ4-AO25)","v":0},{"$f":"IF(AP30=0,0,(AP30*((LOG(AP30))/LOG(2))))","v":0},null,{"$f":"N30","v":21222},{"$f":"COUNTIF(L154:L182,AS30)","v":0},{"$f":"AT30/(AV4-AT25)","v":0},{"$f":"IF(AU30=0,0,(AU30*((LOG(AU30))/LOG(2))))","v":0}]
[12,3218,13,3222,13,3227,14,3232,13,3238,0,11111,null,22111,{"$f":"COUNTIF($L$7:$L$500,N31)","v":0},{"$f":"O31/$Q$4","v":0},{"$f":"IF(P31=0,0,(P31*((LOG(P31))/LOG(2))))","v":0},null,null,{"$f":"N31","v":22111},{"$f":"COUNTIF(L7:L35,T31)","v":0},{"$f":"U31/(W4-U25)","v":0},{"$f":"IF(V31=0,0,(V31*((LOG(V31))/LOG(2))))","v":0},null,{"$f":"N31","v":22111},{"$f":"COUNTIF(L36:L65,Y31)","v":0},{"$f":"Z31/(AB4-Z25)","v":0},{"$f":"IF(AA31=0,0,(AA31*((LOG(AA31))/LOG(2))))","v":0},null,{"$f":"N31","v":22111},{"$f":"COUNTIF(L66:L94,AD31)","v":0},{"$f":"AE31/(AG4-AE25)","v":0},{"$f":"IF(AF31=0,0,(AF31*((LOG(AF31))/LOG(2))))","v":0},null,{"$f":"N31","v":22111},{"$f":"COUNTIF(L95:L123,AI31)","v":0},{"$f":"AJ31/(AL4-AJ25)","v":0},{"$f":"IF(AK31=0,0,(AK31*((LOG(AK31))/LOG(2))))","v":0},null,{"$f":"N31","v":22111},{"$f":"COUNTIF(L124:L153,AN31)","v":0},{"$f":"AO31/(AQ4-AO25)","v":0},{"$f":"IF(AP31=0,0,(AP31*((LOG(AP31))/LOG(2))))","v":0},null,{"$f":"N31","v":22111},{"$f":"COUNTIF(L154:L182,AS31)","v":0},{"$f":"AT31/(AV4-AT25)","v":0},{"$f":"IF(AU31=0,0,(AU31*((LOG(AU31))/LOG(2))))","v":0}]
[12,3380,13,3385,13,3389,14,3394,13,3399,0,11111,null,22112,{"$f":"COUNTIF($L$7:$L$500,N32)","v":0},{"$f":"O32/$Q$4","v":0},{"$f":"IF(P32=0,0,(P32*((LOG(P32))/LOG(2))))","v":0},null,null,{"$f":"N32","v":22112},{"$f":"COUNTIF(L7:L35,T32)","v":0},{"$f":"U32/(W4-U25)","v":0},{"$f":"IF(V32=0,0,(V32*((LOG(V32))/LOG(2))))","v":0},null,{"$f":"N32","v":22112},{"$f":"COUNTIF(L36:L65,Y32)","v":0},{"$f":"Z32/(AB4-Z25)","v":0},{"$f":"IF(AA32=0,0,(AA32*((LOG(AA32))/LOG(2))))","v":0},null,{"$f":"N32","v":22112},{"$f":"COUNTIF(L66:L94,AD32)","v":0},{"$f":"AE32/(AG4-AE25)","v":0},{"$f":"IF(AF32=0,0,(AF32*((LOG(AF32))/LOG(2))))","v":0},null,{"$f":"N32","v":22112},{"$f":"COUNTIF(L95:L123,AI32)","v":0},{"$f":"AJ32/(AL4-AJ25)","v":0},{"$f":"IF(AK32=0,0,(AK32*((LOG(AK32))/LOG(2))))","v":0},null,{"$f":"N32","v":22112},{"$f":"COUNTIF(L124:L153,AN32)","v":0},{"$f":"AO32/(AQ4-AO25)","v":0},{"$f":"IF(AP32=0,0,(AP32*((LOG(AP32))/LOG(2))))","v":0},null,{"$f":"N32","v":22112},{"$f":"COUNTIF(L154:L182,AS32)","v":0},{"$f":"AT32/(AV4-AT25)","v":0},{"$f":"IF(AU32=0,0,(AU32*((LOG(AU32))/LOG(2))))","v":0}]
[12,3499,13,3504,13,3508,14,3513,13,3518,0,11111,null,22121,{"$f":"COUNTIF($L$7:$L$500,N33)","v":0},{"$f":"O33/$Q$4","v":0},{"$f":"IF(P33=0,0,(P33*((LOG(P33))/LOG(2))))","v":0},null,null,{"$f":"N33","v":22121},{"$f":"COUNTIF(L7:L35,T33)","v":0},{"$f":"U33/(W4-U25)","v":0},{"$f":"IF(V33=0,0,(V33*((LOG(V33))/LOG(2))))","v":0},null,{"$f":"N33","v":22121},{"$f":"COUNTIF(L36:L65,Y33)","v":0},{"$f":"Z33/(AB4-Z25)","v":0},{"$f":"IF(AA33=0,0,(AA33*((LOG(AA33))/LOG(2))))","v":0},null,{"$f":"N33","v":22121},{"$f":"COUNTIF(L66:L94,AD33)","v":0},{"$f":"AE33/(AG4-AE25)","v":0},{"$f":"IF(AF33=0,0,(AF33*((LOG(AF33))/LOG(2))))","v":0},null,{"$f":"N33","v":22121},{"$f":"COUNTIF(L95:L123,AI33)","v":0},{"$f":"AJ33/(AL4-AJ25)","v":0},{"$f":"IF(AK33=0,0,(AK33*((LOG(AK33))/LOG(2))))","v":0},null,{"$f":"N33","v":22121},{"$f":"COUNTIF(L124:L153,AN33)","v":0},{"$f":"AO33/(AQ4-AO25)","v":0},{"$f":"IF(AP33=0,0,(AP33*((LOG(AP33))/LOG(2))))","v":0},null,{"$f":"N33","v":22121},{"$f":"COUNTIF(L154:L182,AS33)","v":0},{"$f":"AT33/(AV4-AT25)","v":0},{"$f":"IF(AU33=0,0,(AU33*((LOG(AU33))/LOG(2))))","v":0}]
[12,3619,13,3624,13,3628,14,3633,13,3642,0,11111,null,22122,{"$f":"COUNTIF($L$7:$L$500,N34)","v":0},{"$f":"O34/$Q$4","v":0},{"$f":"IF(P34=0,0,(P34*((LOG(P34))/LOG(2))))","v":0},null,null,{"$f":"N34","v":22122},{"$f":"COUNTIF(L7:L35,T34)","v":0},{"$f":"U34/(W4-U25)","v":0},{"$f":"IF(V34=0,0,(V34*((LOG(V34))/LOG(2))))","v":0},null,{"$f":"N34","v":22122},{"$f":"COUNTIF(L36:L65,Y34)","v":0},{"$f":"Z34/(AB4-Z25)","v":0},{"$f":"IF(AA34=0,0,(AA34*((LOG(AA34))/LOG(2))))","v":0},null,{"$f":"N34","v":22122},{"$f":"COUNTIF(L66:L94,AD34)","v":0},{"$f":"AE34/(AG4-AE25)","v":0},{"$f":"IF(AF34=0,0,(AF34*((LOG(AF34))/LOG(2))))","v":0},null,{"$f":"N34","v":22122},{"$f":"COUNTIF(L95:L123,AI34)","v":0},{"$f":"AJ34/(AL4-AJ25)","v":0},{"$f":"IF(AK34=0,0,(AK34*((LOG(AK34))/LOG(2))))","v":0},null,{"$f":"N34","v":22122},{"$f":"COUNTIF(L124:L153,AN34)","v":0},{"$f":"AO34/(AQ4-AO25)","v":0},{"$f":"IF(AP34=0,0,(AP34*((LOG(AP34))/LOG(2))))","v":0},null,{"$f":"N34","v":22122},{"$f":"COUNTIF(L154:L182,AS34)","v":0},{"$f":"AT34/(AV4-AT25)","v":0},{"$f":"IF(AU34=0,0,(AU34*((LOG(AU34))/LOG(2))))","v":0}]
[12,3746,13,3751,13,3755,14,3760,13,3764,0,11111,null,22211,{"$f":"COUNTIF($L$7:$L$500,N35)","v":0},{"$f":"O35/$Q$4","v":0},{"$f":"IF(P35=0,0,(P35*((LOG(P35))/LOG(2))))","v":0},null,null,{"$f":"N35","v":22211},{"$f":"COUNTIF(L7:L35,T35)","v":0},{"$f":"U35/(W4-U25)","v":0},{"$f":"IF(V35=0,0,(V35*((LOG(V35))/LOG(2))))","v":0},null,{"$f":"N35","v":22211},{"$f":"COUNTIF(L36:L65,Y35)","v":0},{"$f":"Z35/(AB4-Z25)","v":0},{"$f":"IF(AA35=0,0,(AA35*((LOG(AA35))/LOG(2))))","v":0},null,{"$f":"N35","v":22211},{"$f":"COUNTIF(L66:L94,AD35)","v":0},{"$f":"AE35/(AG4-AE25)","v":0},{"$f":"IF(AF35=0,0,(AF35*((LOG(AF35))/LOG(2))))","v":0},null,{"$f":"N35","v":22211},{"$f":"COUNTIF(L95:L123,AI35)","v":0},{"$f":"AJ35/(AL4-AJ25)","v":0},{"$f":"IF(AK35=0,0,(AK35*((LOG(AK35))/LOG(2))))","v":0},null,{"$f":"N35","v":22211},{"$f":"COUNTIF(L124:L153,AN35)","v":0},{"$f":"AO35/(AQ4-AO25)","v":0},{"$f":"IF(AP35=0,0,(AP35*((LOG(AP35))/LOG(2))))","v":0},null,{"$f":"N35","v":22211},{"$f":"COUNTIF(L154:L182,AS35)","v":0},{"$f":"AT35/(AV4-AT25)","v":0},{"$f":"IF(AU35=0,0,(AU35*((LOG(AU35))/LOG(2))))","v":0}]
[12,3887,13,3892,13,3902,14,3908,13,3917,0,11111,null,22212,{"$f":"COUNTIF($L$7:$L$500,N36)","v":0},{"$f":"O36/$Q$4","v":0},{"$f":"IF(P36=0,0,(P36*((LOG(P36))/LOG(2))))","v":0},null,null,{"$f":"N36","v":22212},{"$f":"COUNTIF(L7:L35,T36)","v":0},{"$f":"U36/(W4-U25)","v":0},{"$f":"IF(V36=0,0,(V36*((LOG(V36))/LOG(2))))","v":0},null,{"$f":"N36","v":22212},{"$f":"COUNTIF(L36:L65,Y36)","v":0},{"$f":"Z36/(AB4-Z25)","v":0},{"$f":"IF(AA36=0,0,(AA36*((LOG(AA36))/LOG(2))))","v":0},null,{"$f":"N36","v":22212},{"$f":"COUNTIF(L66:L94,AD36)","v":0},{"$f":"AE36/(AG4-AE25)","v":0},{"$f":"IF(AF36=0,0,(AF36*((LOG(AF36))/LOG(2))))","v":0},null,{"$f":"N36","v":22212},{"$f":"COUNTIF(L95:L123,AI36)","v":0},{"$f":"AJ36/(AL4-AJ25)","v":0},{"$f":"IF(AK36=0,0,(AK36*((LOG(AK36))/LOG(2))))","v":0},null,{"$f":"N36","v":22212},{"$f":"COUNTIF(L124:L153,AN36)","v":0},{"$f":"AO36/(AQ4-AO25)","v":0},{"$f":"IF(AP36=0,0,(AP36*((LOG(AP36))/LOG(2))))","v":0},null,{"$f":"N36","v":22212},{"$f":"COUNTIF(L154:L182,AS36)","v":0},{"$f":"AT36/(AV4-AT25)","v":0},{"$f":"IF(AU36=0,0,(AU36*((LOG(AU36))/LOG(2))))","v":0}]
[12,4032,13,4037,13,4047,14,4051,13,4056,1,11111,null,22221,{"$f":"COUNTIF($L$7:$L$500,N37)","v":0},{"$f":"O37/$Q$4","v":0},{"$f":"IF(P37=0,0,(P37*((LOG(P37))/LOG(2))))","v":0},null,null,{"$f":"N37","v":22221},{"$f":"COUNTIF(L7:L35,T37)","v":0},{"$f":"U37/(W4-U25)","v":0},{"$f":"IF(V37=0,0,(V37*((LOG(V37))/LOG(2))))","v":0},null,{"$f":"N37","v":22221},{"$f":"COUNTIF(L36:L65,Y37)","v":0},{"$f":"Z37/(AB4-Z25)","v":0},{"$f":"IF(AA37=0,0,(AA37*((LOG(AA37))/LOG(2))))","v":0},null,{"$f":"N37","v":22221},{"$f":"COUNTIF(L66:L94,AD37)","v":0},{"$f":"AE37/(AG4-AE25)","v":0},{"$f":"IF(AF37=0,0,(AF37*((LOG(AF37))/LOG(2))))","v":0},null,{"$f":"N37","v":22221},{"$f":"COUNTIF(L95:L123,AI37)","v":0},{"$f":"AJ37/(AL4-AJ25)","v":0},{"$f":"IF(AK37=0,0,(AK37*((LOG(AK37))/LOG(2))))","v":0},null,{"$f":"N37","v":22221},{"$f":"COUNTIF(L124:L153,AN37)","v":0},{"$f":"AO37/(AQ4-AO25)","v":0},{"$f":"IF(AP37=0,0,(AP37*((LOG(AP37))/LOG(2))))","v":0},null,{"$f":"N37","v":22221},{"$f":"COUNTIF(L154:L182,AS37)","v":0},{"$f":"AT37/(AV4-AT25)","v":0},{"$f":"IF(AU37=0,0,(AU37*((LOG(AU37))/LOG(2))))","v":0}]
[12,4170,13,4179,13,4183,14,4188,13,4209,0,11111,null,22222,{"$f":"COUNTIF($L$7:$L$500,N38)","v":6},{"$f":"O38/$Q$4","v":3.4090909090909088E-2},{"$f":"IF(P38=0,0,(P38*((LOG(P38))/LOG(2))))","v":-0.16617508356532298},null,null,{"$f":"N38","v":22222},{"$f":"COUNTIF(L7:L35,T38)","v":0},{"$f":"U38/(W4-U25)","v":0},{"$f":"IF(V38=0,0,(V38*((LOG(V38))/LOG(2))))","v":0},null,{"$f":"N38","v":22222},{"$f":"COUNTIF(L36:L65,Y38)","v":2},{"$f":"Z38/(AB4-Z25)","v":6.6666666666666666E-2},{"$f":"IF(AA38=0,0,(AA38*((LOG(AA38))/LOG(2))))","v":-0.26045937304056793},null,{"$f":"N38","v":22222},{"$f":"COUNTIF(L66:L94,AD38)","v":1},{"$f":"AE38/(AG4-AE25)","v":3.4482758620689655E-2},{"$f":"IF(AF38=0,0,(AF38*((LOG(AF38))/LOG(2))))","v":-0.16751658603888178},null,{"$f":"N38","v":22222},{"$f":"COUNTIF(L95:L123,AI38)","v":0},{"$f":"AJ38/(AL4-AJ25)","v":0},{"$f":"IF(AK38=0,0,(AK38*((LOG(AK38))/LOG(2))))","v":0},null,{"$f":"N38","v":22222},{"$f":"COUNTIF(L124:L153,AN38)","v":2},{"$f":"AO38/(AQ4-AO25)","v":6.6666666666666666E-2},{"$f":"IF(AP38=0,0,(AP38*((LOG(AP38))/LOG(2))))","v":-0.26045937304056793},null,{"$f":"N38","v":22222},{"$f":"COUNTIF(L154:L182,AS38)","v":1},{"$f":"AT38/(AV4-AT25)","v":3.4482758620689655E-2},{"$f":"IF(AU38=0,0,(AU38*((LOG(AU38))/LOG(2))))","v":-0.16751658603888178}]
[12,4314,13,4318,13,4322,14,4327,13,4332,0,11111,null,null,null,{"$f":"SUM(P7:P38)","v":1},{"$f":"-SUM(Q7:Q38)","v":0.51563984792050144},null,null,null,null,{"$f":"SUM(V7:V38)","v":1},{"$f":"-SUM(W7:W38)","v":0.21639693245126462},null,null,null,{"$f":"SUM(AA7:AA38)","v":1},{"$f":"-SUM(AB7:AB38)","v":0.76650950655290528},null,null,null,{"$f":"SUM(AF7:AF38)","v":0.99999999999999989},{"$f":"-SUM(AG7:AG38)","v":0.64379366162176521},null,null,null,{"$f":"SUM(AK7:AK38)","v":1},{"$f":"-SUM(AL7:AL38)","v":0},null,null,null,{"$f":"SUM(AP7:AP38)","v":1},{"$f":"-SUM(AQ7:AQ38)","v":0.56082517699473011},null,null,null,{"$f":"SUM(AU7:AU38)","v":0.99999999999999989},{"$f":"-SUM(AV7:AV38)","v":0.43101676897537733}]
[12,4436,13,4441,13,4445,14,4450,13,4454,0,11111,null,null,null,"U=",{"$f":"Q39/(LOG(Q4)/LOG(2))","v":6.9125889783905478E-2},null,null,null,null,"U1=",{"$f":"W39/(LOG(W4)/LOG(2))","v":4.4544623099247421E-2},null,null,null,"U2=",{"$f":"AB39/(LOG(AB4)/LOG(2))","v":0.15621084098326998},null,null,null,"U3=",{"$f":"AG39/(LOG(AG4)/LOG(2))","v":0.13252288600294515},null,null,null,"U4=",{"$f":"AL39/(LOG(AL4)/LOG(2))","v":0},null,null,null,"U5=",{"$f":"AQ39/(LOG(AQ4)/LOG(2))","v":0.11429339335518249},null,null,null,"U6=",{"$f":"AV39/(LOG(AV4)/LOG(2))","v":8.8723436630912283E-2}]
[12,4555,13,4560,13,4564,14,4569,13,4574,0,11111]
[21,4702,22,4712,24,4722,23,4729,24,4743,0,22222]
[12,4854,13,4859,13,4863,14,4868,13,4872,0,11111,null,"Total Target Seq"]
[12,4977,13,4981,13,4986,14,4991,13,4995,0,11111,null,{"$f":"COUNTIF(L7:L182,G3)","v":0},null,29,30,29,29,30,29]
[12,5106,13,5110,13,5114,14,5119,13,5124,0,11111,null,null,null,"% of reinforcement given in 6 equal intervals based on number of trials "]
[12,5239,13,5244,13,5249,14,5254,13,5258,0,11111,null,null,null,"%_1","%_2","%_3","%_4","%_5","%_6"]
[12,5367,13,5372,13,5377,14,5383,13,5402,0,11111,null,null,"target sequence",{"$f":"$G$3","v":21121},{"$f":"$G$3","v":21121},{"$f":"$G$3","v":21121},{"$f":"$G$3","v":21121},{"$f":"$G$3","v":21121},{"$f":"$G$3","v":21121}]
[12,5513,13,5519,13,5523,14,5529,24,5546,1,11112,null,null,"total reinforcement",{"$f":"U25","v":0},{"$f":"Z25","v":0},{"$f":"AE25","v":0},{"$f":"AJ25","v":0},{"$f":"AO25","v":0},{"$f":"AT25","v":0}]
[12,5649,13,5653,13,5658,14,5662,13,5667,0,11111,null,null,"% target"]
[12,5778,13,5783,13,5788,14,5793,13,5798,0,11111,null,null,"CCRF"]
[12,5902,13,5907,13,5912,14,5917,13,5921,0,11111,null,null,"% CCRf"]
[12,6031,13,6035,13,6045,14,6049,13,6054,0,11111,null,null,"average response rate",{"$f":"J35/P44","v":129.79310344827587},{"$f":"(J65-J35)/Q44","v":139.46666666666667},{"$f":"(J94-J65)/R44","v":140.37931034482759},{"$f":"(J123-J94)/S44","v":132.68965517241378},{"$f":"(J153-J123)/T44","v":136.80000000000001},{"$f":"(J182-J153)/U44","v":136.48275862068965}]
[12,6168,13,6173,13,6188,14,6198,13,6207,0,11111]
[12,6334,13,6339,13,6349,14,6356,13,6361,0,11111]
[12,6476,13,6496,13,6513,14,6526,13,6535,1,11111]
[12,6635,13,6640,13,6644,14,6652,13,6657,0,11111]
[12,6761,13,6766,13,6770,14,6774,13,6785,0,11111]
[12,6903,13,6915,13,6920,14,6930,13,6947,0,11111]
[21,7077,22,7085,24,7094,23,7101,24,7109,1,22222]
[12,7218,13,7224,24,7254,23,7276,24,7281,0,11222]
[12,7386,13,7391,13,7408,14,7413,13,7426,0,11111]
[12,7525,13,7535,13,7540,14,7545,13,7549,0,11111]
[12,7647,13,7656,13,7661,14,7665,13,7671,0,11111]
[12,7788,13,7793,13,7798,14,7803,13,7808,1,11111]
[12,7911,13,7921,13,7925,14,7930,13,7948,0,11111]
[21,8071,22,8081,24,8089,23,8102,24,8110,0,22222]
[12,8228,13,8233,13,8238,14,8243,13,8257,1,11111]
[12,8415,13,8432,13,8446,14,8451,13,8456,1,11111]
[12,8570,13,8575,24,8599,23,8609,24,8621,0,11222]
[12,8726,13,8735,13,8740,14,8744,13,8748,0,11111]
[12,8865,13,8870,13,8875,14,8880,13,8889,0,11111]
[12,9009,13,9014,13,9019,14,9024,13,9037,0,11111]
[12,9146,13,9150,13,9154,14,9159,13,9176,1,11111]
[12,9276,13,9282,13,9286,14,9292,13,9310,0,11111]
[12,9430,13,9435,13,9440,14,9445,13,9458,0,11111]
[12,9566,13,9571,13,9576,14,9581,13,9595,0,11111]
[12,9704,13,9713,13,9727,14,9740,13,9758,0,11111]
[12,9863,13,9867,13,9871,14,9877,13,9882,1,11111]
[12,9989,13,9997,13,10002,14,10011,13,10016,0,11111]
[12,10120,13,10125,13,10129,14,10137,13,10147,0,11111]
[12,10257,13,10262,13,10267,14,10272,13,10277,0,11111]
[12,10383,13,10388,13,10392,14,10397,13,10402,0,11111]
[12,10511,13,10518,13,10523,14,10528,13,10538,0,11111]
[12,10658,13,10663,13,10669,14,10674,13,10684,0,11111]
[12,10794,13,10799,13,10804,14,10813,13,10822,0,11111]
[12,10925,13,10930,13,10934,14,10939,13,10943,1,11111]
[12,11049,13,11053,13,11058,14,11062,13,11067,0,11111]
[12,11184,13,11188,13,11193,14,11198,13,11211,0,11111]
[12,11311,13,11316,13,11320,14,11325,13,11330,0,11111]
[12,11434,13,11443,13,11461,14,11479,13,11485,0,11111]
[12,11594,13,11598,13,11603,14,11607,13,11611,0,11111]
[12,11712,13,11716,13,11723,14,11728,13,11732,1,11111]
[12,11836,24,11856,24,11864,23,11873,24,11887,0,12222]
[12,11989,13,11994,13,11999,14,12004,13,12019,0,11111]
[12,12125,13,12130,13,12139,14,12144,13,12148,0,11111]
[12,12261,13,12265,13,12270,14,12276,13,12284,0,11111]
[12,12395,13,12400,13,12405,14,12414,13,12423,1,11111]
[12,12535,13,12540,13,12545,14,12554,13,12560,0,11111]
[12,12661,13,12670,13,12676,14,12685,13,12690,0,11111]
[12,12802,13,12806,13,12815,14,12828,13,12837,0,11111]
[12,12942,13,12946,13,12951,14,12959,13,12964,0,11111]
[12,13064,13,13072,13,13076,14,13081,13,13085,0,11111]
[12,13191,13,13195,13,13199,14,13204,13,13208,0,11111]
[12,13318,13,13322,13,13327,14,13335,13,13340,1,11111]
[12,13455,13,13459,13,13463,14,13468,13,13472,0,11111]
[12,13573,13,13577,13,13586,14,13594,13,13605,0,11111]
[12,13706,13,13717,13,13722,14,13726,13,13731,0,11111]
[12,13837,13,13841,13,13845,14,13853,13,13858,0,11111]
[12,13961,13,13966,13,13970,14,13978,13,13982,1,11111]
[12,14089,13,14094,13,14099,14,14105,13,14111,1,11111]
[12,14208,13,14212,13,14217,14,14222,13,14227,0,11111]
[12,14344,13,14354,13,14363,14,14372,13,14377,0,11111]
[12,14476,13,14483,13,14488,14,14492,13,14502,0,11111]
[12,14620,13,14630,13,14634,14,14639,13,14644,0,11111]
[12,14759,13,14769,13,14775,14,14784,13,14795,0,11111]
[12,14911,13,14915,13,14920,14,14924,13,14929,1,11111]
[12,15046,13,15051,13,15059,14,15063,13,15067,0,11111]
[12,15169,13,15177,13,15181,14,15186,13,15191,0,11111]
[12,15296,13,15300,13,15305,14,15310,13,15314,0,11111]
[12,15432,13,15437,13,15446,14,15455,13,15460,0,11111]
[12,15568,13,15573,13,15580,14,15585,13,15593,0,11111]
[12,15694,13,15699,13,15704,14,15709,13,15713,0,11111]
[12,15830,13,15839,13,15844,14,15862,13,15867,0,11111]
[12,16007,13,16016,13,16021,14,16026,13,16035,1,11111]
[21,16225,22,16233,24,16238,23,16243,24,16252,0,22222]
[12,16357,13,16368,13,16372,14,16377,13,16391,0,11111]
[12,16493,13,16498,13,16514,14,16519,13,16524,1,11111]
[12,16639,13,16643,13,16648,14,16657,13,16662,0,11111]
[12,16766,13,16770,13,16774,14,16783,13,16787,0,11111]
[12,16897,13,16902,13,16907,14,16911,13,16915,0,11111]
[12,17022,13,17030,13,17035,14,17040,13,17045,0,11111]
[12,17150,13,17156,13,17166,14,17170,13,17187,1,11111]
[12,17288,13,17293,13,17298,14,17303,13,17320,0,11111]
[12,17418,13,17422,13,17427,14,17435,13,17440,0,11111]
[12,17548,13,17557,13,17565,14,17570,13,17575,0,11111]
[12,17690,13,17695,13,17700,14,17705,13,17710,0,11111]
[12,17821,13,17825,13,17830,14,17834,13,17839,0,11111]
[12,17948,13,17958,13,17967,14,17972,13,17978,0,11111]
[12,18087,13,18091,13,18103,14,18108,24,18121,0,11112]
[12,18225,13,18230,13,18234,14,18239,13,18250,0,11111]
[12,18359,13,18363,13,18371,14,18378,13,18383,1,11111]
[12,18489,13,18499,13,18504,14,18509,13,18514,0,11111]
[12,18617,13,18624,13,18628,14,18633,13,18645,0,11111]
[12,18748,13,18753,13,18757,14,18761,13,18769,0,11111]
[12,18868,13,18872,13,18880,14,18884,13,18890,0,11111]
[12,18994,13,19003,13,19008,14,19013,13,19018,0,11111]
[12,19138,13,19146,13,19153,14,19158,13,19163,0,11111]
[12,19268,13,19272,13,19277,14,19281,13,19285,0,11111]
[12,19403,13,19413,13,19419,14,19423,13,19428,0,11111]
[12,19546,13,19555,13,19565,14,19580,13,19594,0,11111]
[21,19704,22,19712,24,19717,23,19721,24,19727,0,22222]
[12,19827,13,19832,13,19836,14,19840,13,19844,1,11111]
[12,19950,13,19958,13,19962,14,19967,13,19971,0,11111]
[12,20085,24,20104,24,20111,23,20123,24,20135,0,12222]
[12,20236,13,20241,13,20246,14,20259,13,20263,0,11111]
[12,20372,13,20377,13,20381,14,20389,13,20402,1,11111]
[12,20511,13,20515,13,20519,14,20523,13,20528,0,11111]
[12,20639,13,20647,13,20652,14,20661,13,20670,0,11111]
[12,20783,13,20787,13,20792,14,20797,13,20801,0,11111]
[12,20912,13,20916,13,20921,14,20925,13,20930,0,11111]
[12,21039,13,21043,13,21052,14,21060,13,21065,0,11111]
[12,21174,13,21179,13,21183,14,21191,13,21196,0,11111]
[12,21309,13,21314,13,21323,14,21332,13,21338,0,11111]
[21,21458,22,21464,24,21469,23,21477,24,21485,0,22222]
[12,21589,13,21594,13,21599,14,21603,13,21609,0,11111]
[12,21718,13,21723,13,21733,14,21742,13,21747,0,11111]
[12,21847,13,21851,13,21860,14,21864,13,21872,1,11111]
[12,22010,13,22020,13,22029,14,22035,13,22041,0,11111]
[12,22146,13,22150,13,22155,14,22159,13,22164,0,11111]
[12,22263,13,22274,13,22284,14,22293,13,22297,0,11111]
[12,22402,13,22407,13,22411,14,22422,13,22427,1,11111]
[12,22539,13,22545,13,22551,14,22557,13,22562,0,11111]
[12,22675,13,22680,13,22684,14,22689,13,22694,1,11111]
[12,22799,13,22804,13,22816,14,22822,13,22832,1,11111]
[12,22946,13,22951,13,22956,14,22960,13,22969,0,11111]
[12,23070,13,23077,13,23081,14,23094,13,23098,0,11111]
[12,23198,13,23202,13,23206,14,23210,13,23218,1,11111]
[12,23327,13,23331,13,23336,14,23340,13,23350,1,11111]
[12,23459,13,23468,13,23473,14,23478,13,23483,0,11111]
[12,23594,13,23602,13,23611,14,23615,13,23624,0,11111]
[12,23745,13,23758,13,23765,14,23770,13,23782,1,11111]
[12,23885,13,23893,13,23902,14,23916,13,23929,null,11111]

{"sheet":"!MC06930.010","index":9,"n_rows":190,"n_cols":48,"rows_kept":190,"cut":false,"hidden":false,"merged":[[4,39,4,42],[5,39,5,40],[4,44,4,47],[5,44,5,45],[4,24,4,27],[5,24,5,25],[4,29,4,32],[5,29,5,30],[4,34,4,37],[5,34,5,35],[1,1,1,2],[5,13,5,14],[42,13,42,14],[43,13,43,14],[4,19,4,22],[5,19,5,20]]}
["Report for:!MC06930.010"]
["Date:","<date>"]
["Hen:","<hen>",null,null,null,"Correct Sequence",{"$f":"Start!J2","v":21121},null,null,null,null,null,null,null,null,"Total Sequences in Data",{"$f":"4994-COUNTBLANK(L7:L5000)","v":184},null,null,null,null,"Total Sequences in Block Data",{"$f":"COUNTA(L7:L37)","v":31},null,null,null,"Total Sequences in Block Data",{"$f":"COUNTA(L38:L67)","v":30},null,null,null,"Total Sequences in Block Data",{"$f":"COUNTA(L68:L98)","v":31},null,null,null,"Total Sequences in Block Data",{"$f":"COUNTA(L99:L129)","v":31},null,null,null,"Total Sequences in Block Data",{"$f":"COUNTA(L130:L159)","v":30},null,null,null,"Total Sequences in Block Data",{"$f":"COUNTA(L160:L190)","v":31}]
[null,null,null,null,null,null,null,null,null,null,null,null,null,null,null,"Total Sequences in Summary",{"$f":"SUM(O7:O38)","v":184},null,null,null,null,"Total Sequences in Block Summary",{"$f":"SUM(U7:U38)","v":31},null,null,null,"Total Sequences in Block Summary",{"$f":"SUM(Z7:Z38)","v":30},null,null,null,"Total Sequences in Block Summary",{"$f":"SUM(AE7:AE38)","v":31},null,null,null,"Total Sequences in Block Summary",{"$f":"SUM(AJ7:AJ38)","v":31},null,null,null,"Total Sequences in Block Summary",{"$f":"SUM(AO7:AO38)","v":30},null,null,null,"Total Sequences in Block Summary",{"$f":"SUM(AT7:AT38)","v":31}]
[null,null,null,null,null,null,null,null,null,null,null,null,null,null,null,null,null,null,null,"Block 1",null,null,null,null,"Block 2",null,null,null,null,"Block 3",null,null,null,null,"Block 4",null,null,null,null,"Block 5",null,null,null,null,"Block 6"]
["Sequence\nComponent\n1","Time\n1","Sequence\nComponent\n2","Time\n2","Sequence\nComponent\n3","Time\n3","Sequence\nComponent\n4","Time\n4","Sequence\nComponent\n5","Time\n5","Correct?\n0=No 1=Yes","Sequence",null,"Frequency",null,"Relative Frequency","Variability",null,null,"Frequency",null,"Relative Frequency","Variability",null,"Frequency",null,"Relative Frequency","Variability",null,"Frequency",null,"Relative Frequency","Variability",null,"Frequency",null,"Relative Frequency","Variability",null,"Frequency",null,"Relative Frequency","Variability",null,"Frequency",null,"Relative Frequency","Variability"]
[12,45,13,54,13,59,14,64,13,70,0,11111,null,11111,{"$f":"COUNTIF($L$7:$L$500,N7)","v":177},{"$f":"O7/$Q$4","v":0.96195652173913049},{"$f":"IF(P7=0,0,(P7*((LOG(P7))/LOG(2))))","v":-5.3827629659786512E-2},null,null,{"$f":"N7","v":11111},{"$f":"COUNTIF(L7:L37,T7)","v":29},{"$f":"U7/(W4-U25)","v":0.93548387096774188},{"$f":"IF(V7=0,0,(V7*((LOG(V7))/LOG(2))))","v":-9.0007875565154577E-2},null,{"$f":"N7","v":11111},{"$f":"COUNTIF(L38:L67,Y7)","v":30},{"$f":"Z7/(AB4-Z25)","v":1},{"$f":"IF(AA7=0,0,(AA7*((LOG(AA7))/LOG(2))))","v":0},null,{"$f":"N7","v":11111},{"$f":"COUNTIF(L68:L98,AD7)","v":28},{"$f":"AE7/(AG4-AE25)","v":0.90322580645161288},{"$f":"IF(AF7=0,0,(AF7*((LOG(AF7))/LOG(2))))","v":-0.13263093139418039},null,{"$f":"N7","v":11111},{"$f":"COUNTIF(L99:L129,AI7)","v":30},{"$f":"AJ7/(AL4-AJ25)","v":0.967741935483871},{"$f":"IF(AK7=0,0,(AK7*((LOG(AK7))/LOG(2))))","v":-4.5779723979054811E-2},null,{"$f":"N7","v":11111},{"$f":"COUNTIF(L130:L159,AN7)","v":30},{"$f":"AO7/(AQ4-AO25)","v":1},{"$f":"IF(AP7=0,0,(AP7*((LOG(AP7))/LOG(2))))","v":0},null,{"$f":"N7","v":11111},{"$f":"COUNTIF(L160:L190,AS7)","v":30},{"$f":"AT7/(AV4-AT25)","v":0.967741935483871},{"$f":"IF(AU7=0,0,(AU7*((LOG(AU7))/LOG(2))))","v":-4.5779723979054811E-2}]
[12,187,13,192,13,202,14,206,13,215,1,11111,null,11112,{"$f":"COUNTIF($L$7:$L$500,N8)","v":0},{"$f":"O8/$Q$4","v":0},{"$f":"IF(P8=0,0,(P8*((LOG(P8))/LOG(2))))","v":0},null,null,{"$f":"N8","v":11112},{"$f":"COUNTIF(L7:L37,T8)","v":0},{"$f":"U8/(W4-U25)","v":0},{"$f":"IF(V8=0,0,(V8*((LOG(V8))/LOG(2))))","v":0},null,{"$f":"N8","v":11112},{"$f":"COUNTIF(L38:L67,Y8)","v":0},{"$f":"Z8/(AB4-Z25)","v":0},{"$f":"IF(AA8=0,0,(AA8*((LOG(AA8))/LOG(2))))","v":0},null,{"$f":"N8","v":11112},{"$f":"COUNTIF(L68:L98,AD8)","v":0},{"$f":"AE8/(AG4-AE25)","v":0},{"$f":"IF(AF8=0,0,(AF8*((LOG(AF8))/LOG(2))))","v":0},null,{"$f":"N8","v":11112},{"$f":"COUNTIF(L99:L129,AI8)","v":0},{"$f":"AJ8/(AL4-AJ25)","v":0},{"$f":"IF(AK8=0,0,(AK8*((LOG(AK8))/LOG(2))))","v":0},null,{"$f":"N8","v":11112},{"$f":"COUNTIF(L130:L159,AN8)","v":0},{"$f":"AO8/(AQ4-AO25)","v":0},{"$f":"IF(AP8=0,0,(AP8*((LOG(AP8))/LOG(2))))","v":0},null,{"$f":"N8","v":11112},{"$f":"COUNTIF(L160:L190,AS8)","v":0},{"$f":"AT8/(AV4-AT25)","v":0},{"$f":"IF(AU8=0,0,(AU8*((LOG(AU8))/LOG(2))))","v":0}]
[12,307,13,315,13,320,14,325,13,330,0,11111,null,11121,{"$f":"COUNTIF($L$7:$L$500,N9)","v":0},{"$f":"O9/$Q$4","v":0},{"$f":"IF(P9=0,0,(P9*((LOG(P9))/LOG(2))))","v":0},null,null,{"$f":"N9","v":11121},{"$f":"COUNTIF(L7:L37,T9)","v":0},{"$f":"U9/(W4-U25)","v":0},{"$f":"IF(V9=0,0,(V9*((LOG(V9))/LOG(2))))","v":0},null,{"$f":"N9","v":11121},{"$f":"COUNTIF(L38:L67,Y9)","v":0},{"$f":"Z9/(AB4-Z25)","v":0},{"$f":"IF(AA9=0,0,(AA9*((LOG(AA9))/LOG(2))))","v":0},null,{"$f":"N9","v":11121},{"$f":"COUNTIF(L68:L98,AD9)","v":0},{"$f":"AE9/(AG4-AE25)","v":0},{"$f":"IF(AF9=0,0,(AF9*((LOG(AF9))/LOG(2))))","v":0},null,{"$f":"N9","v":11121},{"$f":"COUNTIF(L99:L129,AI9)","v":0},{"$f":"AJ9/(AL4-AJ25)","v":0},{"$f":"IF(AK9=0,0,(AK9*((LOG(AK9))/LOG(2))))","v":0},null,{"$f":"N9","v":11121},{"$f":"COUNTIF(L130:L159,AN9)","v":0},{"$f":"AO9/(AQ4-AO25)","v":0},{"$f":"IF(AP9=0,0,(AP9*((LOG(AP9))/LOG(2))))","v":0},null,{"$f":"N9","v":11121},{"$f":"COUNTIF(L160:L190,AS9)","v":0},{"$f":"AT9/(AV4-AT25)","v":0},{"$f":"IF(AU9=0,0,(AU9*((LOG(AU9))/LOG(2))))","v":0}]
[21,437,22,451,24,455,23,460,24,464,0,22222,null,11122,{"$f":"COUNTIF($L$7:$L$500,N10)","v":2},{"$f":"O10/$Q$4","v":1.0869565217391304E-2},{"$f":"IF(P10=0,0,(P10*((LOG(P10))/LOG(2))))","v":-7.090828213105449E-2},null,null,{"$f":"N10","v":11122},{"$f":"COUNTIF(L7:L37,T10)","v":1},{"$f":"U10/(W4-U25)","v":3.2258064516129031E-2},{"$f":"IF(V10=0,0,(V10*((LOG(V10))/LOG(2))))","v":-0.15981278420602821},null,{"$f":"N10","v":11122},{"$f":"COUNTIF(L38:L67,Y10)","v":0},{"$f":"Z10/(AB4-Z25)","v":0},{"$f":"IF(AA10=0,0,(AA10*((LOG(AA10))/LOG(2))))","v":0},null,{"$f":"N10","v":11122},{"$f":"COUNTIF(L68:L98,AD10)","v":1},{"$f":"AE10/(AG4-AE25)","v":3.2258064516129031E-2},{"$f":"IF(AF10=0,0,(AF10*((LOG(AF10))/LOG(2))))","v":-0.15981278420602821},null,{"$f":"N10","v":11122},{"$f":"COUNTIF(L99:L129,AI10)","v":0},{"$f":"AJ10/(AL4-AJ25)","v":0},{"$f":"IF(AK10=0,0,(AK10*((LOG(AK10))/LOG(2))))","v":0},null,{"$f":"N10","v":11122},{"$f":"COUNTIF(L130:L159,AN10)","v":0},{"$f":"AO10/(AQ4-AO25)","v":0},{"$f":"IF(AP10=0,0,(AP10*((LOG(AP10))/LOG(2))))","v":0},null,{"$f":"N10","v":11122},{"$f":"COUNTIF(L160:L190,AS10)","v":0},{"$f":"AT10/(AV4-AT25)","v":0},{"$f":"IF(AU10=0,0,(AU10*((LOG(AU10))/LOG(2))))","v":0}]
[12,571,13,579,13,591,23,616,24,627,1,11122,null,11211,{"$f":"COUNTIF($L$7:$L$500,N11)","v":0},{"$f":"O11/$Q$4","v":0},{"$f":"IF(P11=0,0,(P11*((LOG(P11))/LOG(2))))","v":0},null,null,{"$f":"N11","v":11211},{"$f":"COUNTIF(L7:L37,T11)","v":0},{"$f":"U11/(W4-U25)","v":0},{"$f":"IF(V11=0,0,(V11*((LOG(V11))/LOG(2))))","v":0},null,{"$f":"N11","v":11211},{"$f":"COUNTIF(L38:L67,Y11)","v":0},{"$f":"Z11/(AB4-Z25)","v":0},{"$f":"IF(AA11=0,0,(AA11*((LOG(AA11))/LOG(2))))","v":0},null,{"$f":"N11","v":11211},{"$f":"COUNTIF(L68:L98,AD11)","v":0},{"$f":"AE11/(AG4-AE25)","v":0},{"$f":"IF(AF11=0,0,(AF11*((LOG(AF11))/LOG(2))))","v":0},null,{"$f":"N11","v":11211},{"$f":"COUNTIF(L99:L129,AI11)","v":0},{"$f":"AJ11/(AL4-AJ25)","v":0},{"$f":"IF(AK11=0,0,(AK11*((LOG(AK11))/LOG(2))))","v":0},null,{"$f":"N11","v":11211},{"$f":"COUNTIF(L130:L159,AN11)","v":0},{"$f":"AO11/(AQ4-AO25)","v":0},{"$f":"IF(AP11=0,0,(AP11*((LOG(AP11))/LOG(2))))","v":0},null,{"$f":"N11","v":11211},{"$f":"COUNTIF(L160:L190,AS11)","v":0},{"$f":"AT11/(AV4-AT25)","v":0},{"$f":"IF(AU11=0,0,(AU11*((LOG(AU11))/LOG(2))))","v":0}]
[12,732,13,737,13,742,14,747,13,753,0,11111,null,11212,{"$f":"COUNTIF($L$7:$L$500,N12)","v":0},{"$f":"O12/$Q$4","v":0},{"$f":"IF(P12=0,0,(P12*((LOG(P12))/LOG(2))))","v":0},null,null,{"$f":"N12","v":11212},{"$f":"COUNTIF(L7:L37,T12)","v":0},{"$f":"U12/(W4-U25)","v":0},{"$f":"IF(V12=0,0,(V12*((LOG(V12))/LOG(2))))","v":0},null,{"$f":"N12","v":11212},{"$f":"COUNTIF(L38:L67,Y12)","v":0},{"$f":"Z12/(AB4-Z25)","v":0},{"$f":"IF(AA12=0,0,(AA12*((LOG(AA12))/LOG(2))))","v":0},null,{"$f":"N12","v":11212},{"$f":"COUNTIF(L68:L98,AD12)","v":0},{"$f":"AE12/(AG4-AE25)","v":0},{"$f":"IF(AF12=0,0,(AF12*((LOG(AF12))/LOG(2))))","v":0},null,{"$f":"N12","v":11212},{"$f":"COUNTIF(L99:L129,AI12)","v":0},{"$f":"AJ12/(AL4-AJ25)","v":0},{"$f":"IF(AK12=0,0,(AK12*((LOG(AK12))/LOG(2))))","v":0},null,{"$f":"N12","v":11212},{"$f":"COUNTIF(L130:L159,AN12)","v":0},{"$f":"AO12/(AQ4-AO25)","v":0},{"$f":"IF(AP12=0,0,(AP12*((LOG(AP12))/LOG(2))))","v":0},null,{"$f":"N12","v":11212},{"$f":"COUNTIF(L160:L190,AS12)","v":0},{"$f":"AT12/(AV4-AT25)","v":0},{"$f":"IF(AU12=0,0,(AU12*((LOG(AU12))/LOG(2))))","v":0}]
[12,853,13,858,13,867,14,872,13,877,0,11111,null,11221,{"$f":"COUNTIF($L$7:$L$500,N13)","v":0},{"$f":"O13/$Q$4","v":0},{"$f":"IF(P13=0,0,(P13*((LOG(P13))/LOG(2))))","v":0},null,null,{"$f":"N13","v":11221},{"$f":"COUNTIF(L7:L37,T13)","v":0},{"$f":"U13/(W4-U25)","v":0},{"$f":"IF(V13=0,0,(V13*((LOG(V13))/LOG(2))))","v":0},null,{"$f":"N13","v":11221},{"$f":"COUNTIF(L38:L67,Y13)","v":0},{"$f":"Z13/(AB4-Z25)","v":0},{"$f":"IF(AA13=0,0,(AA13*((LOG(AA13))/LOG(2))))","v":0},null,{"$f":"N13","v":11221},{"$f":"COUNTIF(L68:L98,AD13)","v":0},{"$f":"AE13/(AG4-AE25)","v":0},{"$f":"IF(AF13=0,0,(AF13*((LOG(AF13))/LOG(2))))","v":0},null,{"$f":"N13","v":11221},{"$f":"COUNTIF(L99:L129,AI13)","v":0},{"$f":"AJ13/(AL4-AJ25)","v":0},{"$f":"IF(AK13=0,0,(AK13*((LOG(AK13))/LOG(2))))","v":0},null,{"$f":"N13","v":11221},{"$f":"COUNTIF(L130:L159,AN13)","v":0},{"$f":"AO13/(AQ4-AO25)","v":0},{"$f":"IF(AP13=0,0,(AP13*((LOG(AP13))/LOG(2))))","v":0},null,{"$f":"N13","v":11221},{"$f":"COUNTIF(L160:L190,AS13)","v":0},{"$f":"AT13/(AV4-AT25)","v":0},{"$f":"IF(AU13=0,0,(AU13*((LOG(AU13))/LOG(2))))","v":0}]
[12,987,13,991,13,996,14,1001,13,1006,0,11111,null,11222,{"$f":"COUNTIF($L$7:$L$500,N14)","v":0},{"$f":"O14/$Q$4","v":0},{"$f":"IF(P14=0,0,(P14*((LOG(P14))/LOG(2))))","v":0},null,null,{"$f":"N14","v":11222},{"$f":"COUNTIF(L7:L37,T14)","v":0},{"$f":"U14/(W4-U25)","v":0},{"$f":"IF(V14=0,0,(V14*((LOG(V14))/LOG(2))))","v":0},null,{"$f":"N14","v":11222},{"$f":"COUNTIF(L38:L67,Y14)","v":0},{"$f":"Z14/(AB4-Z25)","v":0},{"$f":"IF(AA14=0,0,(AA14*((LOG(AA14))/LOG(2))))","v":0},null,{"$f":"N14","v":11222},{"$f":"COUNTIF(L68:L98,AD14)","v":0},{"$f":"AE14/(AG4-AE25)","v":0},{"$f":"IF(AF14=0,0,(AF14*((LOG(AF14))/LOG(2))))","v":0},null,{"$f":"N14","v":11222},{"$f":"COUNTIF(L99:L129,AI14)","v":0},{"$f":"AJ14/(AL4-AJ25)","v":0},{"$f":"IF(AK14=0,0,(AK14*((LOG(AK14))/LOG(2))))","v":0},null,{"$f":"N14","v":11222},{"$f":"COUNTIF(L130:L159,AN14)","v":0},{"$f":"AO14/(AQ4-AO25)","v":0},{"$f":"IF(AP14=0,0,(AP14*((LOG(AP14))/LOG(2))))","v":0},null,{"$f":"N14","v":11222},{"$f":"COUNTIF(L160:L190,AS14)","v":0},{"$f":"AT14/(AV4-AT25)","v":0},{"$f":"IF(AU14=0,0,(AU14*((LOG(AU14))/LOG(2))))","v":0}]
[12,1107,13,1112,13,1119,14,1125,13,1130,1,11111,null,12111,{"$f":"COUNTIF($L$7:$L$500,N15)","v":0},{"$f":"O15/$Q$4","v":0},{"$f":"IF(P15=0,0,(P15*((LOG(P15))/LOG(2))))","v":0},null,null,{"$f":"N15","v":12111},{"$f":"COUNTIF(L7:L37,T15)","v":0},{"$f":"U15/(W4-U25)","v":0},{"$f":"IF(V15=0,0,(V15*((LOG(V15))/LOG(2))))","v":0},null,{"$f":"N15","v":12111},{"$f":"COUNTIF(L38:L67,Y15)","v":0},{"$f":"Z15/(AB4-Z25)","v":0},{"$f":"IF(AA15=0,0,(AA15*((LOG(AA15))/LOG(2))))","v":0},null,{"$f":"N15","v":12111},{"$f":"COUNTIF(L68:L98,AD15)","v":0},{"$f":"AE15/(AG4-AE25)","v":0},{"$f":"IF(AF15=0,0,(AF15*((LOG(AF15))/LOG(2))))","v":0},null,{"$f":"N15","v":12111},{"$f":"COUNTIF(L99:L129,AI15)","v":0},{"$f":"AJ15/(AL4-AJ25)","v":0},{"$f":"IF(AK15=0,0,(AK15*((LOG(AK15))/LOG(2))))","v":0},null,{"$f":"N15","v":12111},{"$f":"COUNTIF(L130:L159,AN15)","v":0},{"$f":"AO15/(AQ4-AO25)","v":0},{"$f":"IF(AP15=0,0,(AP15*((LOG(AP15))/LOG(2))))","v":0},null,{"$f":"N15","v":12111},{"$f":"COUNTIF(L160:L190,AS15)","v":0},{"$f":"AT15/(AV4-AT25)","v":0},{"$f":"IF(AU15=0,0,(AU15*((LOG(AU15))/LOG(2))))","v":0}]
[12,1245,13,1250,13,1255,14,1265,13,1289,0,11111,null,12112,{"$f":"COUNTIF($L$7:$L$500,N16)","v":0},{"$f":"O16/$Q$4","v":0},{"$f":"IF(P16=0,0,(P16*((LOG(P16))/LOG(2))))","v":0},null,null,{"$f":"N16","v":12112},{"$f":"COUNTIF(L7:L37,T16)","v":0},{"$f":"U16/(W4-U25)","v":0},{"$f":"IF(V16=0,0,(V16*((LOG(V16))/LOG(2))))","v":0},null,{"$f":"N16","v":12112},{"$f":"COUNTIF(L38:L67,Y16)","v":0},{"$f":"Z16/(AB4-Z25)","v":0},{"$f":"IF(AA16=0,0,(AA16*((LOG(AA16))/LOG(2))))","v":0},null,{"$f":"N16","v":12112},{"$f":"COUNTIF(L68:L98,AD16)","v":0},{"$f":"AE16/(AG4-AE25)","v":0},{"$f":"IF(AF16=0,0,(AF16*((LOG(AF16))/LOG(2))))","v":0},null,{"$f":"N16","v":12112},{"$f":"COUNTIF(L99:L129,AI16)","v":0},{"$f":"AJ16/(AL4-AJ25)","v":0},{"$f":"IF(AK16=0,0,(AK16*((LOG(AK16))/LOG(2))))","v":0},null,{"$f":"N16","v":12112},{"$f":"COUNTIF(L130:L159,AN16)","v":0},{"$f":"AO16/(AQ4-AO25)","v":0},{"$f":"IF(AP16=0,0,(AP16*((LOG(AP16))/LOG(2))))","v":0},null,{"$f":"N16","v":12112},{"$f":"COUNTIF(L160:L190,AS16)","v":0},{"$f":"AT16/(AV4-AT25)","v":0},{"$f":"IF(AU16=0,0,(AU16*((LOG(AU16))/LOG(2))))","v":0}]
[12,1393,13,1408,13,1417,14,1426,13,1441,0,11111,null,12121,{"$f":"COUNTIF($L$7:$L$500,N17)","v":0},{"$f":"O17/$Q$4","v":0},{"$f":"IF(P17=0,0,(P17*((LOG(P17))/LOG(2))))","v":0},null,null,{"$f":"N17","v":12121},{"$f":"COUNTIF(L7:L37,T17)","v":0},{"$f":"U17/(W4-U25)","v":0},{"$f":"IF(V17=0,0,(V17*((LOG(V17))/LOG(2))))","v":0},null,{"$f":"N17","v":12121},{"$f":"COUNTIF(L38:L67,Y17)","v":0},{"$f":"Z17/(AB4-Z25)","v":0},{"$f":"IF(AA17=0,0,(AA17*((LOG(AA17))/LOG(2))))","v":0},null,{"$f":"N17","v":12121},{"$f":"COUNTIF(L68:L98,AD17)","v":0},{"$f":"AE17/(AG4-AE25)","v":0},{"$f":"IF(AF17=0,0,(AF17*((LOG(AF17))/LOG(2))))","v":0},null,{"$f":"N17","v":12121},{"$f":"COUNTIF(L99:L129,AI17)","v":0},{"$f":"AJ17/(AL4-AJ25)","v":0},{"$f":"IF(AK17=0,0,(AK17*((LOG(AK17))/LOG(2))))","v":0},null,{"$f":"N17","v":12121},{"$f":"COUNTIF(L130:L159,AN17)","v":0},{"$f":"AO17/(AQ4-AO25)","v":0},{"$f":"IF(AP17=0,0,(AP17*((LOG(AP17))/LOG(2))))","v":0},null,{"$f":"N17","v":12121},{"$f":"COUNTIF(L160:L190,AS17)","v":0},{"$f":"AT17/(AV4-AT25)","v":0},{"$f":"IF(AU17=0,0,(AU17*((LOG(AU17))/LOG(2))))","v":0}]
[12,1552,13,1563,13,1567,14,1576,13,1581,0,11111,null,12122,{"$f":"COUNTIF($L$7:$L$500,N18)","v":0},{"$f":"O18/$Q$4","v":0},{"$f":"IF(P18=0,0,(P18*((LOG(P18))/LOG(2))))","v":0},null,null,{"$f":"N18","v":12122},{"$f":"COUNTIF(L7:L37,T18)","v":0},{"$f":"U18/(W4-U25)","v":0},{"$f":"IF(V18=0,0,(V18*((LOG(V18))/LOG(2))))","v":0},null,{"$f":"N18","v":12122},{"$f":"COUNTIF(L38:L67,Y18)","v":0},{"$f":"Z18/(AB4-Z25)","v":0},{"$f":"IF(AA18=0,0,(AA18*((LOG(AA18))/LOG(2))))","v":0},null,{"$f":"N18","v":12122},{"$f":"COUNTIF(L68:L98,AD18)","v":0},{"$f":"AE18/(AG4-AE25)","v":0},{"$f":"IF(AF18=0,0,(AF18*((LOG(AF18))/LOG(2))))","v":0},null,{"$f":"N18","v":12122},{"$f":"COUNTIF(L99:L129,AI18)","v":0},{"$f":"AJ18/(AL4-AJ25)","v":0},{"$f":"IF(AK18=0,0,(AK18*((LOG(AK18))/LOG(2))))","v":0},null,{"$f":"N18","v":12122},{"$f":"COUNTIF(L130:L159,AN18)","v":0},{"$f":"AO18/(AQ4-AO25)","v":0},{"$f":"IF(AP18=0,0,(AP18*((LOG(AP18))/LOG(2))))","v":0},null,{"$f":"N18","v":12122},{"$f":"COUNTIF(L160:L190,AS18)","v":0},{"$f":"AT18/(AV4-AT25)","v":0},{"$f":"IF(AU18=0,0,(AU18*((LOG(AU18))/LOG(2))))","v":0}]
[12,1688,13,1694,13,1703,14,1708,13,1713,0,11111,null,12211,{"$f":"COUNTIF($L$7:$L$500,N19)","v":0},{"$f":"O19/$Q$4","v":0},{"$f":"IF(P19=0,0,(P19*((LOG(P19))/LOG(2))))","v":0},null,null,{"$f":"N19","v":12211},{"$f":"COUNTIF(L7:L37,T19)","v":0},{"$f":"U19/(W4-U25)","v":0},{"$f":"IF(V19=0,0,(V19*((LOG(V19))/LOG(2))))","v":0},null,{"$f":"N19","v":12211},{"$f":"COUNTIF(L38:L67,Y19)","v":0},{"$f":"Z19/(AB4-Z25)","v":0},{"$f":"IF(AA19=0,0,(AA19*((LOG(AA19))/LOG(2))))","v":0},null,{"$f":"N19","v":12211},{"$f":"COUNTIF(L68:L98,AD19)","v":0},{"$f":"AE19/(AG4-AE25)","v":0},{"$f":"IF(AF19=0,0,(AF19*((LOG(AF19))/LOG(2))))","v":0},null,{"$f":"N19","v":12211},{"$f":"COUNTIF(L99:L129,AI19)","v":0},{"$f":"AJ19/(AL4-AJ25)","v":0},{"$f":"IF(AK19=0,0,(AK19*((LOG(AK19))/LOG(2))))","v":0},null,{"$f":"N19","v":12211},{"$f":"COUNTIF(L130:L159,AN19)","v":0},{"$f":"AO19/(AQ4-AO25)","v":0},{"$f":"IF(AP19=0,0,(AP19*((LOG(AP19))/LOG(2))))","v":0},null,{"$f":"N19","v":12211},{"$f":"COUNTIF(L160:L190,AS19)","v":0},{"$f":"AT19/(AV4-AT25)","v":0},{"$f":"IF(AU19=0,0,(AU19*((LOG(AU19))/LOG(2))))","v":0}]
[12,1826,13,1831,13,1835,14,1843,13,1848,0,11111,null,12212,{"$f":"COUNTIF($L$7:$L$500,N20)","v":0},{"$f":"O20/$Q$4","v":0},{"$f":"IF(P20=0,0,(P20*((LOG(P20))/LOG(2))))","v":0},null,null,{"$f":"N20","v":12212},{"$f":"COUNTIF(L7:L37,T20)","v":0},{"$f":"U20/(W4-U25)","v":0},{"$f":"IF(V20=0,0,(V20*((LOG(V20))/LOG(2))))","v":0},null,{"$f":"N20","v":12212},{"$f":"COUNTIF(L38:L67,Y20)","v":0},{"$f":"Z20/(AB4-Z25)","v":0},{"$f":"IF(AA20=0,0,(AA20*((LOG(AA20))/LOG(2))))","v":0},null,{"$f":"N20","v":12212},{"$f":"COUNTIF(L68:L98,AD20)","v":0},{"$f":"AE20/(AG4-AE25)","v":0},{"$f":"IF(AF20=0,0,(AF20*((LOG(AF20))/LOG(2))))","v":0},null,{"$f":"N20","v":12212},{"$f":"COUNTIF(L99:L129,AI20)","v":0},{"$f":"AJ20/(AL4-AJ25)","v":0},{"$f":"IF(AK20=0,0,(AK20*((LOG(AK20))/LOG(2))))","v":0},null,{"$f":"N20","v":12212},{"$f":"COUNTIF(L130:L159,AN20)","v":0},{"$f":"AO20/(AQ4-AO25)","v":0},{"$f":"IF(AP20=0,0,(AP20*((LOG(AP20))/LOG(2))))","v":0},null,{"$f":"N20","v":12212},{"$f":"COUNTIF(L160:L190,AS20)","v":0},{"$f":"AT20/(AV4-AT25)","v":0},{"$f":"IF(AU20=0,0,(AU20*((LOG(AU20))/LOG(2))))","v":0}]
[12,1954,13,1958,13,1963,14,1968,13,1972,0,11111,null,12221,{"$f":"COUNTIF($L$7:$L$500,N21)","v":0},{"$f":"O21/$Q$4","v":0},{"$f":"IF(P21=0,0,(P21*((LOG(P21))/LOG(2))))","v":0},null,null,{"$f":"N21","v":12221},{"$f":"COUNTIF(L7:L37,T21)","v":0},{"$f":"U21/(W4-U25)","v":0},{"$f":"IF(V21=0,0,(V21*((LOG(V21))/LOG(2))))","v":0},null,{"$f":"N21","v":12221},{"$f":"COUNTIF(L38:L67,Y21)","v":0},{"$f":"Z21/(AB4-Z25)","v":0},{"$f":"IF(AA21=0,0,(AA21*((LOG(AA21))/LOG(2))))","v":0},null,{"$f":"N21","v":12221},{"$f":"COUNTIF(L68:L98,AD21)","v":0},{"$f":"AE21/(AG4-AE25)","v":0},{"$f":"IF(AF21=0,0,(AF21*((LOG(AF21))/LOG(2))))","v":0},null,{"$f":"N21","v":12221},{"$f":"COUNTIF(L99:L129,AI21)","v":0},{"$f":"AJ21/(AL4-AJ25)","v":0},{"$f":"IF(AK21=0,0,(AK21*((LOG(AK21))/LOG(2))))","v":0},null,{"$f":"N21","v":12221},{"$f":"COUNTIF(L130:L159,AN21)","v":0},{"$f":"AO21/(AQ4-AO25)","v":0},{"$f":"IF(AP21=0,0,(AP21*((LOG(AP21))/LOG(2))))","v":0},null,{"$f":"N21","v":12221},{"$f":"COUNTIF(L160:L190,AS21)","v":0},{"$f":"AT21/(AV4-AT25)","v":0},{"$f":"IF(AU21=0,0,(AU21*((LOG(AU21))/LOG(2))))","v":0}]
[12,2077,13,2082,13,2086,14,2092,13,2097,1,11111,null,12222,{"$f":"COUNTIF($L$7:$L$500,N22)","v":0},{"$f":"O22/$Q$4","v":0},{"$f":"IF(P22=0,0,(P22*((LOG(P22))/LOG(2))))","v":0},null,null,{"$f":"N22","v":12222},{"$f":"COUNTIF(L7:L37,T22)","v":0},{"$f":"U22/(W4-U25)","v":0},{"$f":"IF(V22=0,0,(V22*((LOG(V22))/LOG(2))))","v":0},null,{"$f":"N22","v":12222},{"$f":"COUNTIF(L38:L67,Y22)","v":0},{"$f":"Z22/(AB4-Z25)","v":0},{"$f":"IF(AA22=0,0,(AA22*((LOG(AA22))/LOG(2))))","v":0},null,{"$f":"N22","v":12222},{"$f":"COUNTIF(L68:L98,AD22)","v":0},{"$f":"AE22/(AG4-AE25)","v":0},{"$f":"IF(AF22=0,0,(AF22*((LOG(AF22))/LOG(2))))","v":0},null,{"$f":"N22","v":12222},{"$f":"COUNTIF(L99:L129,AI22)","v":0},{"$f":"AJ22/(AL4-AJ25)","v":0},{"$f":"IF(AK22=0,0,(AK22*((LOG(AK22))/LOG(2))))","v":0},null,{"$f":"N22","v":12222},{"$f":"COUNTIF(L130:L159,AN22)","v":0},{"$f":"AO22/(AQ4-AO25)","v":0},{"$f":"IF(AP22=0,0,(AP22*((LOG(AP22))/LOG(2))))","v":0},null,{"$f":"N22","v":12222},{"$f":"COUNTIF(L160:L190,AS22)","v":0},{"$f":"AT22/(AV4-AT25)","v":0},{"$f":"IF(AU22=0,0,(AU22*((LOG(AU22))/LOG(2))))","v":0}]
[12,2196,13,2201,13,2205,14,2214,13,2219,0,11111,null,21111,{"$f":"COUNTIF($L$7:$L$500,N23)","v":0},{"$f":"O23/$Q$4","v":0},{"$f":"IF(P23=0,0,(P23*((LOG(P23))/LOG(2))))","v":0},null,null,{"$f":"N23","v":21111},{"$f":"COUNTIF(L7:L37,T23)","v":0},{"$f":"U23/(W4-U25)","v":0},{"$f":"IF(V23=0,0,(V23*((LOG(V23))/LOG(2))))","v":0},null,{"$f":"N23","v":21111},{"$f":"COUNTIF(L38:L67,Y23)","v":0},{"$f":"Z23/(AB4-Z25)","v":0},{"$f":"IF(AA23=0,0,(AA23*((LOG(AA23))/LOG(2))))","v":0},null,{"$f":"N23","v":21111},{"$f":"COUNTIF(L68:L98,AD23)","v":0},{"$f":"AE23/(AG4-AE25)","v":0},{"$f":"IF(AF23=0,0,(AF23*((LOG(AF23))/LOG(2))))","v":0},null,{"$f":"N23","v":21111},{"$f":"COUNTIF(L99:L129,AI23)","v":0},{"$f":"AJ23/(AL4-AJ25)","v":0},{"$f":"IF(AK23=0,0,(AK23*((LOG(AK23))/LOG(2))))","v":0},null,{"$f":"N23","v":21111},{"$f":"COUNTIF(L130:L159,AN23)","v":0},{"$f":"AO23/(AQ4-AO25)","v":0},{"$f":"IF(AP23=0,0,(AP23*((LOG(AP23))/LOG(2))))","v":0},null,{"$f":"N23","v":21111},{"$f":"COUNTIF(L160:L190,AS23)","v":0},{"$f":"AT23/(AV4-AT25)","v":0},{"$f":"IF(AU23=0,0,(AU23*((LOG(AU23))/LOG(2))))","v":0}]
[12,2334,13,2339,13,2344,14,2350,13,2355,0,11111,null,21112,{"$f":"COUNTIF($L$7:$L$500,N24)","v":0},{"$f":"O24/$Q$4","v":0},{"$f":"IF(P24=0,0,(P24*((LOG(P24))/LOG(2))))","v":0},null,null,{"$f":"N24","v":21112},{"$f":"COUNTIF(L7:L37,T24)","v":0},{"$f":"U24/(W4-U25)","v":0},{"$f":"IF(V24=0,0,(V24*((LOG(V24))/LOG(2))))","v":0},null,{"$f":"N24","v":21112},{"$f":"COUNTIF(L38:L67,Y24)","v":0},{"$f":"Z24/(AB4-Z25)","v":0},{"$f":"IF(AA24=0,0,(AA24*((LOG(AA24))/LOG(2))))","v":0},null,{"$f":"N24","v":21112},{"$f":"COUNTIF(L68:L98,AD24)","v":0},{"$f":"AE24/(AG4-AE25)","v":0},{"$f":"IF(AF24=0,0,(AF24*((LOG(AF24))/LOG(2))))","v":0},null,{"$f":"N24","v":21112},{"$f":"COUNTIF(L99:L129,AI24)","v":0},{"$f":"AJ24/(AL4-AJ25)","v":0},{"$f":"IF(AK24=0,0,(AK24*((LOG(AK24))/LOG(2))))","v":0},null,{"$f":"N24","v":21112},{"$f":"COUNTIF(L130:L159,AN24)","v":0},{"$f":"AO24/(AQ4-AO25)","v":0},{"$f":"IF(AP24=0,0,(AP24*((LOG(AP24))/LOG(2))))","v":0},null,{"$f":"N24","v":21112},{"$f":"COUNTIF(L160:L190,AS24)","v":0},{"$f":"AT24/(AV4-AT25)","v":0},{"$f":"IF(AU24=0,0,(AU24*((LOG(AU24))/LOG(2))))","v":0}]
[12,2473,13,2477,13,2482,14,2487,13,2492,0,11111,null,21121,{"$f":"COUNTIF($L$7:$L$500,N25)","v":0},{"$f":"O25/$Q$4","v":0},{"$f":"IF(P25=0,0,(P25*((LOG(P25))/LOG(2))))","v":0},null,null,{"$f":"N25","v":21121},{"$f":"COUNTIF(L7:L37,T25)","v":0},null,null,null,{"$f":"N25","v":21121},{"$f":"COUNTIF(L38:L67,Y25)","v":0},null,null,null,{"$f":"N25","v":21121},{"$f":"COUNTIF(L68:L98,AD25)","v":0},null,null,null,{"$f":"N25","v":21121},{"$f":"COUNTIF(L99:L129,AI25)","v":0},null,null,null,{"$f":"N25","v":21121},{"$f":"COUNTIF(L130:L159,AN25)","v":0},null,null,null,{"$f":"N25","v":21121},{"$f":"COUNTIF(L160:L190,AS25)","v":0}]
[12,2594,13,2599,13,2603,14,2607,13,2617,0,11111,null,21122,{"$f":"COUNTIF($L$7:$L$500,N26)","v":0},{"$f":"O26/$Q$4","v":0},{"$f":"IF(P26=0,0,(P26*((LOG(P26))/LOG(2))))","v":0},null,null,{"$f":"N26","v":21122},{"$f":"COUNTIF(L7:L37,T26)","v":0},{"$f":"U26/(W4-U25)","v":0},{"$f":"IF(V26=0,0,(V26*((LOG(V26))/LOG(2))))","v":0},null,{"$f":"N26","v":21122},{"$f":"COUNTIF(L38:L67,Y26)","v":0},{"$f":"Z26/(AB4-Z25)","v":0},{"$f":"IF(AA26=0,0,(AA26*((LOG(AA26))/LOG(2))))","v":0},null,{"$f":"N26","v":21122},{"$f":"COUNTIF(L68:L98,AD26)","v":0},{"$f":"AE26/(AG4-AE25)","v":0},{"$f":"IF(AF26=0,0,(AF26*((LOG(AF26))/LOG(2))))","v":0},null,{"$f":"N26","v":21122},{"$f":"COUNTIF(L99:L129,AI26)","v":0},{"$f":"AJ26/(AL4-AJ25)","v":0},{"$f":"IF(AK26=0,0,(AK26*((LOG(AK26))/LOG(2))))","v":0},null,{"$f":"N26","v":21122},{"$f":"COUNTIF(L130:L159,AN26)","v":0},{"$f":"AO26/(AQ4-AO25)","v":0},{"$f":"IF(AP26=0,0,(AP26*((LOG(AP26))/LOG(2))))","v":0},null,{"$f":"N26","v":21122},{"$f":"COUNTIF(L160:L190,AS26)","v":0},{"$f":"AT26/(AV4-AT25)","v":0},{"$f":"IF(AU26=0,0,(AU26*((LOG(AU26))/LOG(2))))","v":0}]
[12,2729,13,2737,13,2751,14,2757,13,2762,0,11111,null,21211,{"$f":"COUNTIF($L$7:$L$500,N27)","v":0},{"$f":"O27/$Q$4","v":0},{"$f":"IF(P27=0,0,(P27*((LOG(P27))/LOG(2))))","v":0},null,null,{"$f":"N27","v":21211},{"$f":"COUNTIF(L7:L37,T27)","v":0},{"$f":"U27/(W4-U25)","v":0},{"$f":"IF(V27=0,0,(V27*((LOG(V27))/LOG(2))))","v":0},null,{"$f":"N27","v":21211},{"$f":"COUNTIF(L38:L67,Y27)","v":0},{"$f":"Z27/(AB4-Z25)","v":0},{"$f":"IF(AA27=0,0,(AA27*((LOG(AA27))/LOG(2))))","v":0},null,{"$f":"N27","v":21211},{"$f":"COUNTIF(L68:L98,AD27)","v":0},{"$f":"AE27/(AG4-AE25)","v":0},{"$f":"IF(AF27=0,0,(AF27*((LOG(AF27))/LOG(2))))","v":0},null,{"$f":"N27","v":21211},{"$f":"COUNTIF(L99:L129,AI27)","v":0},{"$f":"AJ27/(AL4-AJ25)","v":0},{"$f":"IF(AK27=0,0,(AK27*((LOG(AK27))/LOG(2))))","v":0},null,{"$f":"N27","v":21211},{"$f":"COUNTIF(L130:L159,AN27)","v":0},{"$f":"AO27/(AQ4-AO25)","v":0},{"$f":"IF(AP27=0,0,(AP27*((LOG(AP27))/LOG(2))))","v":0},null,{"$f":"N27","v":21211},{"$f":"COUNTIF(L160:L190,AS27)","v":0},{"$f":"AT27/(AV4-AT25)","v":0},{"$f":"IF(AU27=0,0,(AU27*((LOG(AU27))/LOG(2))))","v":0}]
[12,2876,13,2880,13,2888,14,2893,13,2902,0,11111,null,21212,{"$f":"COUNTIF($L$7:$L$500,N28)","v":0},{"$f":"O28/$Q$4","v":0},{"$f":"IF(P28=0,0,(P28*((LOG(P28))/LOG(2))))","v":0},null,null,{"$f":"N28","v":21212},{"$f":"COUNTIF(L7:L37,T28)","v":0},{"$f":"U28/(W4-U25)","v":0},{"$f":"IF(V28=0,0,(V28*((LOG(V28))/LOG(2))))","v":0},null,{"$f":"N28","v":21212},{"$f":"COUNTIF(L38:L67,Y28)","v":0},{"$f":"Z28/(AB4-Z25)","v":0},{"$f":"IF(AA28=0,0,(AA28*((LOG(AA28))/LOG(2))))","v":0},null,{"$f":"N28","v":21212},{"$f":"COUNTIF(L68:L98,AD28)","v":0},{"$f":"AE28/(AG4-AE25)","v":0},{"$f":"IF(AF28=0,0,(AF28*((LOG(AF28))/LOG(2))))","v":0},null,{"$f":"N28","v":21212},{"$f":"COUNTIF(L99:L129,AI28)","v":0},{"$f":"AJ28/(AL4-AJ25)","v":0},{"$f":"IF(AK28=0,0,(AK28*((LOG(AK28))/LOG(2))))","v":0},null,{"$f":"N28","v":21212},{"$f":"COUNTIF(L130:L159,AN28)","v":0},{"$f":"AO28/(AQ4-AO25)","v":0},{"$f":"IF(AP28=0,0,(AP28*((LOG(AP28))/LOG(2))))","v":0},null,{"$f":"N28","v":21212},{"$f":"COUNTIF(L160:L190,AS28)","v":0},{"$f":"AT28/(AV4-AT25)","v":0},{"$f":"IF(AU28=0,0,(AU28*((LOG(AU28))/LOG(2))))","v":0}]
[12,3008,13,3012,13,3017,14,3022,13,3026,0,11111,null,21221,{"$f":"COUNTIF($L$7:$L$500,N29)","v":0},{"$f":"O29/$Q$4","v":0},{"$f":"IF(P29=0,0,(P29*((LOG(P29))/LOG(2))))","v":0},null,null,{"$f":"N29","v":21221},{"$f":"COUNTIF(L7:L37,T29)","v":0},{"$f":"U29/(W4-U25)","v":0},{"$f":"IF(V29=0,0,(V29*((LOG(V29))/LOG(2))))","v":0},null,{"$f":"N29","v":21221},{"$f":"COUNTIF(L38:L67,Y29)","v":0},{"$f":"Z29/(AB4-Z25)","v":0},{"$f":"IF(AA29=0,0,(AA29*((LOG(AA29))/LOG(2))))","v":0},null,{"$f":"N29","v":21221},{"$f":"COUNTIF(L68:L98,AD29)","v":0},{"$f":"AE29/(AG4-AE25)","v":0},{"$f":"IF(AF29=0,0,(AF29*((LOG(AF29))/LOG(2))))","v":0},null,{"$f":"N29","v":21221},{"$f":"COUNTIF(L99:L129,AI29)","v":0},{"$f":"AJ29/(AL4-AJ25)","v":0},{"$f":"IF(AK29=0,0,(AK29*((LOG(AK29))/LOG(2))))","v":0},null,{"$f":"N29","v":21221},{"$f":"COUNTIF(L130:L159,AN29)","v":0},{"$f":"AO29/(AQ4-AO25)","v":0},{"$f":"IF(AP29=0,0,(AP29*((LOG(AP29))/LOG(2))))","v":0},null,{"$f":"N29","v":21221},{"$f":"COUNTIF(L160:L190,AS29)","v":0},{"$f":"AT29/(AV4-AT25)","v":0},{"$f":"IF(AU29=0,0,(AU29*((LOG(AU29))/LOG(2))))","v":0}]
[12,3129,13,3133,13,3138,14,3143,13,3147,0,11111,null,21222,{"$f":"COUNTIF($L$7:$L$500,N30)","v":0},{"$f":"O30/$Q$4","v":0},{"$f":"IF(P30=0,0,(P30*((LOG(P30))/LOG(2))))","v":0},null,null,{"$f":"N30","v":21222},{"$f":"COUNTIF(L7:L37,T30)","v":0},{"$f":"U30/(W4-U25)","v":0},{"$f":"IF(V30=0,0,(V30*((LOG(V30))/LOG(2))))","v":0},null,{"$f":"N30","v":21222},{"$f":"COUNTIF(L38:L67,Y30)","v":0},{"$f":"Z30/(AB4-Z25)","v":0},{"$f":"IF(AA30=0,0,(AA30*((LOG(AA30))/LOG(2))))","v":0},null,{"$f":"N30","v":21222},{"$f":"COUNTIF(L68:L98,AD30)","v":0},{"$f":"AE30/(AG4-AE25)","v":0},{"$f":"IF(AF30=0,0,(AF30*((LOG(AF30))/LOG(2))))","v":0},null,{"$f":"N30","v":21222},{"$f":"COUNTIF(L99:L129,AI30)","v":0},{"$f":"AJ30/(AL4-AJ25)","v":0},{"$f":"IF(AK30=0,0,(AK30*((LOG(AK30))/LOG(2))))","v":0},null,{"$f":"N30","v":21222},{"$f":"COUNTIF(L130:L159,AN30)","v":0},{"$f":"AO30/(AQ4-AO25)","v":0},{"$f":"IF(AP30=0,0,(AP30*((LOG(AP30))/LOG(2))))","v":0},null,{"$f":"N30","v":21222},{"$f":"COUNTIF(L160:L190,AS30)","v":0},{"$f":"AT30/(AV4-AT25)","v":0},{"$f":"IF(AU30=0,0,(AU30*((LOG(AU30))/LOG(2))))","v":0}]
[12,3249,13,3254,13,3259,14,3267,13,3275,1,11111,null,22111,{"$f":"COUNTIF($L$7:$L$500,N31)","v":0},{"$f":"O31/$Q$4","v":0},{"$f":"IF(P31=0,0,(P31*((LOG(P31))/LOG(2))))","v":0},null,null,{"$f":"N31","v":22111},{"$f":"COUNTIF(L7:L37,T31)","v":0},{"$f":"U31/(W4-U25)","v":0},{"$f":"IF(V31=0,0,(V31*((LOG(V31))/LOG(2))))","v":0},null,{"$f":"N31","v":22111},{"$f":"COUNTIF(L38:L67,Y31)","v":0},{"$f":"Z31/(AB4-Z25)","v":0},{"$f":"IF(AA31=0,0,(AA31*((LOG(AA31))/LOG(2))))","v":0},null,{"$f":"N31","v":22111},{"$f":"COUNTIF(L68:L98,AD31)","v":0},{"$f":"AE31/(AG4-AE25)","v":0},{"$f":"IF(AF31=0,0,(AF31*((LOG(AF31))/LOG(2))))","v":0},null,{"$f":"N31","v":22111},{"$f":"COUNTIF(L99:L129,AI31)","v":0},{"$f":"AJ31/(AL4-AJ25)","v":0},{"$f":"IF(AK31=0,0,(AK31*((LOG(AK31))/LOG(2))))","v":0},null,{"$f":"N31","v":22111},{"$f":"COUNTIF(L130:L159,AN31)","v":0},{"$f":"AO31/(AQ4-AO25)","v":0},{"$f":"IF(AP31=0,0,(AP31*((LOG(AP31))/LOG(2))))","v":0},null,{"$f":"N31","v":22111},{"$f":"COUNTIF(L160:L190,AS31)","v":0},{"$f":"AT31/(AV4-AT25)","v":0},{"$f":"IF(AU31=0,0,(AU31*((LOG(AU31))/LOG(2))))","v":0}]
[12,3394,13,3403,13,3407,14,3419,13,3433,0,11111,null,22112,{"$f":"COUNTIF($L$7:$L$500,N32)","v":0},{"$f":"O32/$Q$4","v":0},{"$f":"IF(P32=0,0,(P32*((LOG(P32))/LOG(2))))","v":0},null,null,{"$f":"N32","v":22112},{"$f":"COUNTIF(L7:L37,T32)","v":0},{"$f":"U32/(W4-U25)","v":0},{"$f":"IF(V32=0,0,(V32*((LOG(V32))/LOG(2))))","v":0},null,{"$f":"N32","v":22112},{"$f":"COUNTIF(L38:L67,Y32)","v":0},{"$f":"Z32/(AB4-Z25)","v":0},{"$f":"IF(AA32=0,0,(AA32*((LOG(AA32))/LOG(2))))","v":0},null,{"$f":"N32","v":22112},{"$f":"COUNTIF(L68:L98,AD32)","v":0},{"$f":"AE32/(AG4-AE25)","v":0},{"$f":"IF(AF32=0,0,(AF32*((LOG(AF32))/LOG(2))))","v":0},null,{"$f":"N32","v":22112},{"$f":"COUNTIF(L99:L129,AI32)","v":0},{"$f":"AJ32/(AL4-AJ25)","v":0},{"$f":"IF(AK32=0,0,(AK32*((LOG(AK32))/LOG(2))))","v":0},null,{"$f":"N32","v":22112},{"$f":"COUNTIF(L130:L159,AN32)","v":0},{"$f":"AO32/(AQ4-AO25)","v":0},{"$f":"IF(AP32=0,0,(AP32*((LOG(AP32))/LOG(2))))","v":0},null,{"$f":"N32","v":22112},{"$f":"COUNTIF(L160:L190,AS32)","v":0},{"$f":"AT32/(AV4-AT25)","v":0},{"$f":"IF(AU32=0,0,(AU32*((LOG(AU32))/LOG(2))))","v":0}]
[12,3537,13,3551,13,3570,14,3582,13,3592,0,11111,null,22121,{"$f":"COUNTIF($L$7:$L$500,N33)","v":0},{"$f":"O33/$Q$4","v":0},{"$f":"IF(P33=0,0,(P33*((LOG(P33))/LOG(2))))","v":0},null,null,{"$f":"N33","v":22121},{"$f":"COUNTIF(L7:L37,T33)","v":0},{"$f":"U33/(W4-U25)","v":0},{"$f":"IF(V33=0,0,(V33*((LOG(V33))/LOG(2))))","v":0},null,{"$f":"N33","v":22121},{"$f":"COUNTIF(L38:L67,Y33)","v":0},{"$f":"Z33/(AB4-Z25)","v":0},{"$f":"IF(AA33=0,0,(AA33*((LOG(AA33))/LOG(2))))","v":0},null,{"$f":"N33","v":22121},{"$f":"COUNTIF(L68:L98,AD33)","v":0},{"$f":"AE33/(AG4-AE25)","v":0},{"$f":"IF(AF33=0,0,(AF33*((LOG(AF33))/LOG(2))))","v":0},null,{"$f":"N33","v":22121},{"$f":"COUNTIF(L99:L129,AI33)","v":0},{"$f":"AJ33/(AL4-AJ25)","v":0},{"$f":"IF(AK33=0,0,(AK33*((LOG(AK33))/LOG(2))))","v":0},null,{"$f":"N33","v":22121},{"$f":"COUNTIF(L130:L159,AN33)","v":0},{"$f":"AO33/(AQ4-AO25)","v":0},{"$f":"IF(AP33=0,0,(AP33*((LOG(AP33))/LOG(2))))","v":0},null,{"$f":"N33","v":22121},{"$f":"COUNTIF(L160:L190,AS33)","v":0},{"$f":"AT33/(AV4-AT25)","v":0},{"$f":"IF(AU33=0,0,(AU33*((LOG(AU33))/LOG(2))))","v":0}]
[12,3689,13,3706,13,3715,14,3719,13,3725,0,11111,null,22122,{"$f":"COUNTIF($L$7:$L$500,N34)","v":0},{"$f":"O34/$Q$4","v":0},{"$f":"IF(P34=0,0,(P34*((LOG(P34))/LOG(2))))","v":0},null,null,{"$f":"N34","v":22122},{"$f":"COUNTIF(L7:L37,T34)","v":0},{"$f":"U34/(W4-U25)","v":0},{"$f":"IF(V34=0,0,(V34*((LOG(V34))/LOG(2))))","v":0},null,{"$f":"N34","v":22122},{"$f":"COUNTIF(L38:L67,Y34)","v":0},{"$f":"Z34/(AB4-Z25)","v":0},{"$f":"IF(AA34=0,0,(AA34*((LOG(AA34))/LOG(2))))","v":0},null,{"$f":"N34","v":22122},{"$f":"COUNTIF(L68:L98,AD34)","v":0},{"$f":"AE34/(AG4-AE25)","v":0},{"$f":"IF(AF34=0,0,(AF34*((LOG(AF34))/LOG(2))))","v":0},null,{"$f":"N34","v":22122},{"$f":"COUNTIF(L99:L129,AI34)","v":0},{"$f":"AJ34/(AL4-AJ25)","v":0},{"$f":"IF(AK34=0,0,(AK34*((LOG(AK34))/LOG(2))))","v":0},null,{"$f":"N34","v":22122},{"$f":"COUNTIF(L130:L159,AN34)","v":0},{"$f":"AO34/(AQ4-AO25)","v":0},{"$f":"IF(AP34=0,0,(AP34*((LOG(AP34))/LOG(2))))","v":0},null,{"$f":"N34","v":22122},{"$f":"COUNTIF(L160:L190,AS34)","v":0},{"$f":"AT34/(AV4-AT25)","v":0},{"$f":"IF(AU34=0,0,(AU34*((LOG(AU34))/LOG(2))))","v":0}]
[12,3825,13,3829,13,3833,14,3837,13,3842,0,11111,null,22211,{"$f":"COUNTIF($L$7:$L$500,N35)","v":0},{"$f":"O35/$Q$4","v":0},{"$f":"IF(P35=0,0,(P35*((LOG(P35))/LOG(2))))","v":0},null,null,{"$f":"N35","v":22211},{"$f":"COUNTIF(L7:L37,T35)","v":0},{"$f":"U35/(W4-U25)","v":0},{"$f":"IF(V35=0,0,(V35*((LOG(V35))/LOG(2))))","v":0},null,{"$f":"N35","v":22211},{"$f":"COUNTIF(L38:L67,Y35)","v":0},{"$f":"Z35/(AB4-Z25)","v":0},{"$f":"IF(AA35=0,0,(AA35*((LOG(AA35))/LOG(2))))","v":0},null,{"$f":"N35","v":22211},{"$f":"COUNTIF(L68:L98,AD35)","v":0},{"$f":"AE35/(AG4-AE25)","v":0},{"$f":"IF(AF35=0,0,(AF35*((LOG(AF35))/LOG(2))))","v":0},null,{"$f":"N35","v":22211},{"$f":"COUNTIF(L99:L129,AI35)","v":0},{"$f":"AJ35/(AL4-AJ25)","v":0},{"$f":"IF(AK35=0,0,(AK35*((LOG(AK35))/LOG(2))))","v":0},null,{"$f":"N35","v":22211},{"$f":"COUNTIF(L130:L159,AN35)","v":0},{"$f":"AO35/(AQ4-AO25)","v":0},{"$f":"IF(AP35=0,0,(AP35*((LOG(AP35))/LOG(2))))","v":0},null,{"$f":"N35","v":22211},{"$f":"COUNTIF(L160:L190,AS35)","v":0},{"$f":"AT35/(AV4-AT25)","v":0},{"$f":"IF(AU35=0,0,(AU35*((LOG(AU35))/LOG(2))))","v":0}]
[12,3967,13,3972,13,3981,14,3988,13,4003,0,11111,null,22212,{"$f":"COUNTIF($L$7:$L$500,N36)","v":0},{"$f":"O36/$Q$4","v":0},{"$f":"IF(P36=0,0,(P36*((LOG(P36))/LOG(2))))","v":0},null,null,{"$f":"N36","v":22212},{"$f":"COUNTIF(L7:L37,T36)","v":0},{"$f":"U36/(W4-U25)","v":0},{"$f":"IF(V36=0,0,(V36*((LOG(V36))/LOG(2))))","v":0},null,{"$f":"N36","v":22212},{"$f":"COUNTIF(L38:L67,Y36)","v":0},{"$f":"Z36/(AB4-Z25)","v":0},{"$f":"IF(AA36=0,0,(AA36*((LOG(AA36))/LOG(2))))","v":0},null,{"$f":"N36","v":22212},{"$f":"COUNTIF(L68:L98,AD36)","v":0},{"$f":"AE36/(AG4-AE25)","v":0},{"$f":"IF(AF36=0,0,(AF36*((LOG(AF36))/LOG(2))))","v":0},null,{"$f":"N36","v":22212},{"$f":"COUNTIF(L99:L129,AI36)","v":0},{"$f":"AJ36/(AL4-AJ25)","v":0},{"$f":"IF(AK36=0,0,(AK36*((LOG(AK36))/LOG(2))))","v":0},null,{"$f":"N36","v":22212},{"$f":"COUNTIF(L130:L159,AN36)","v":0},{"$f":"AO36/(AQ4-AO25)","v":0},{"$f":"IF(AP36=0,0,(AP36*((LOG(AP36))/LOG(2))))","v":0},null,{"$f":"N36","v":22212},{"$f":"COUNTIF(L160:L190,AS36)","v":0},{"$f":"AT36/(AV4-AT25)","v":0},{"$f":"IF(AU36=0,0,(AU36*((LOG(AU36))/LOG(2))))","v":0}]
[12,4120,13,4125,13,4129,14,4134,13,4139,0,11111,null,22221,{"$f":"COUNTIF($L$7:$L$500,N37)","v":0},{"$f":"O37/$Q$4","v":0},{"$f":"IF(P37=0,0,(P37*((LOG(P37))/LOG(2))))","v":0},null,null,{"$f":"N37","v":22221},{"$f":"COUNTIF(L7:L37,T37)","v":0},{"$f":"U37/(W4-U25)","v":0},{"$f":"IF(V37=0,0,(V37*((LOG(V37))/LOG(2))))","v":0},null,{"$f":"N37","v":22221},{"$f":"COUNTIF(L38:L67,Y37)","v":0},{"$f":"Z37/(AB4-Z25)","v":0},{"$f":"IF(AA37=0,0,(AA37*((LOG(AA37))/LOG(2))))","v":0},null,{"$f":"N37","v":22221},{"$f":"COUNTIF(L68:L98,AD37)","v":0},{"$f":"AE37/(AG4-AE25)","v":0},{"$f":"IF(AF37=0,0,(AF37*((LOG(AF37))/LOG(2))))","v":0},null,{"$f":"N37","v":22221},{"$f":"COUNTIF(L99:L129,AI37)","v":0},{"$f":"AJ37/(AL4-AJ25)","v":0},{"$f":"IF(AK37=0,0,(AK37*((LOG(AK37))/LOG(2))))","v":0},null,{"$f":"N37","v":22221},{"$f":"COUNTIF(L130:L159,AN37)","v":0},{"$f":"AO37/(AQ4-AO25)","v":0},{"$f":"IF(AP37=0,0,(AP37*((LOG(AP37))/LOG(2))))","v":0},null,{"$f":"N37","v":22221},{"$f":"COUNTIF(L160:L190,AS37)","v":0},{"$f":"AT37/(AV4-AT25)","v":0},{"$f":"IF(AU37=0,0,(AU37*((LOG(AU37))/LOG(2))))","v":0}]
[12,4251,13,4255,13,4260,14,4269,13,4273,0,11111,null,22222,{"$f":"COUNTIF($L$7:$L$500,N38)","v":5},{"$f":"O38/$Q$4","v":2.717391304347826E-2},{"$f":"IF(P38=0,0,(P38*((LOG(P38))/LOG(2))))","v":-0.14134874622743615},null,null,{"$f":"N38","v":22222},{"$f":"COUNTIF(L7:L37,T38)","v":1},{"$f":"U38/(W4-U25)","v":3.2258064516129031E-2},{"$f":"IF(V38=0,0,(V38*((LOG(V38))/LOG(2))))","v":-0.15981278420602821},null,{"$f":"N38","v":22222},{"$f":"COUNTIF(L38:L67,Y38)","v":0},{"$f":"Z38/(AB4-Z25)","v":0},{"$f":"IF(AA38=0,0,(AA38*((LOG(AA38))/LOG(2))))","v":0},null,{"$f":"N38","v":22222},{"$f":"COUNTIF(L68:L98,AD38)","v":2},{"$f":"AE38/(AG4-AE25)","v":6.4516129032258063E-2},{"$f":"IF(AF38=0,0,(AF38*((LOG(AF38))/LOG(2))))","v":-0.25510943937979835},null,{"$f":"N38","v":22222},{"$f":"COUNTIF(L99:L129,AI38)","v":1},{"$f":"AJ38/(AL4-AJ25)","v":3.2258064516129031E-2},{"$f":"IF(AK38=0,0,(AK38*((LOG(AK38))/LOG(2))))","v":-0.15981278420602821},null,{"$f":"N38","v":22222},{"$f":"COUNTIF(L130:L159,AN38)","v":0},{"$f":"AO38/(AQ4-AO25)","v":0},{"$f":"IF(AP38=0,0,(AP38*((LOG(AP38))/LOG(2))))","v":0},null,{"$f":"N38","v":22222},{"$f":"COUNTIF(L160:L190,AS38)","v":1},{"$f":"AT38/(AV4-AT25)","v":3.2258064516129031E-2},{"$f":"IF(AU38=0,0,(AU38*((LOG(AU38))/LOG(2))))","v":-0.15981278420602821}]
[12,4379,13,4383,13,4388,14,4393,13,4402,0,11111,null,null,null,{"$f":"SUM(P7:P38)","v":1},{"$f":"-SUM(Q7:Q38)","v":0.26608465801827719},null,null,null,null,{"$f":"SUM(V7:V38)","v":0.99999999999999989},{"$f":"-SUM(W7:W38)","v":0.40963344397721102},null,null,null,{"$f":"SUM(AA7:AA38)","v":1},{"$f":"-SUM(AB7:AB38)","v":0},null,null,null,{"$f":"SUM(AF7:AF38)","v":1},{"$f":"-SUM(AG7:AG38)","v":0.54755315498000701},null,null,null,{"$f":"SUM(AK7:AK38)","v":1},{"$f":"-SUM(AL7:AL38)","v":0.20559250818508301},null,null,null,{"$f":"SUM(AP7:AP38)","v":1},{"$f":"-SUM(AQ7:AQ38)","v":0},null,null,null,{"$f":"SUM(AU7:AU38)","v":1},{"$f":"-SUM(AV7:AV38)","v":0.20559250818508301}]
[12,4513,13,4522,13,4527,14,4533,13,4545,0,11111,null,null,null,"U=",{"$f":"Q39/(LOG(Q4)/LOG(2))","v":3.5366846125864597E-2},null,null,null,null,"U1=",{"$f":"W39/(LOG(W4)/LOG(2))","v":8.2684136500279823E-2},null,null,null,"U2=",{"$f":"AB39/(LOG(AB4)/LOG(2))","v":0},null,null,null,"U3=",{"$f":"AG39/(LOG(AG4)/LOG(2))","v":0.11052310418786138},null,null,null,"U4=",{"$f":"AL39/(LOG(AL4)/LOG(2))","v":4.1498659985281898E-2},null,null,null,"U5=",{"$f":"AQ39/(LOG(AQ4)/LOG(2))","v":0},null,null,null,"U6=",{"$f":"AV39/(LOG(AV4)/LOG(2))","v":4.1498659985281898E-2}]
[12,4650,13,4654,13,4659,14,4663,13,4672,1,11111]
[12,4767,13,4772,13,4779,14,4785,13,4794,0,11111]
[12,4894,13,4899,13,4904,14,4908,13,4913,0,11111,null,"Total Target Seq"]
[12,5023,13,5027,13,5032,14,5037,13,5041,0,11111,null,{"$f":"COUNTIF(L7:L190,G3)","v":0},null,31,30,31,31,30,31]
[12,5156,13,5164,13,5173,14,5186,13,5191,0,11111,null,null,null,"% of reinforcement given in 6 equal intervals based on number of trials "]
[12,5298,13,5303,13,5308,14,5313,13,5322,0,11111,null,null,null,"%_1","%_2","%_3","%_4","%_5","%_6"]
[12,5438,13,5443,13,5448,14,5454,13,5465,0,11111,null,null,"target sequence",{"$f":"$G$3","v":21121},{"$f":"$G$3","v":21121},{"$f":"$G$3","v":21121},{"$f":"$G$3","v":21121},{"$f":"$G$3","v":21121},{"$f":"$G$3","v":21121}]
[12,5566,13,5572,13,5579,14,5584,13,5590,0,11111,null,null,"total reinforcement",{"$f":"U25","v":0},{"$f":"Z25","v":0},{"$f":"AE25","v":0},{"$f":"AJ25","v":0},{"$f":"AO25","v":0},{"$f":"AT25","v":0}]
[12,5690,13,5695,13,5699,14,5704,13,5708,0,11111,null,null,"% target"]
[12,5810,13,5819,13,5823,14,5828,13,5834,0,11111,null,null,"CCRF"]
[12,5939,13,5944,13,5949,14,5954,13,5958,0,11111,null,null,"% CCRf"]
[12,6064,13,6070,13,6075,14,6080,13,6085,0,11111,null,null,"average response rate",{"$f":"J37/P44","v":133.51612903225808},{"$f":"(J67-J37)/Q44","v":128.03333333333333},{"$f":"(J98-J67)/R44","v":128.80645161290323},{"$f":"(J129-J98)/S44","v":129.87096774193549},{"$f":"(J159-J129)/T44","v":129.23333333333332},{"$f":"(J190-J159)/U44","v":131}]
[12,6187,13,6196,13,6200,14,6204,13,6209,1,11111]
[12,6304,13,6308,13,6313,14,6321,13,6326,0,11111]
[12,6433,13,6437,13,6443,14,6448,13,6465,0,11111]
[12,6575,13,6580,13,6585,14,6590,13,6603,0,11111]
[12,6703,13,6709,13,6713,14,6717,13,6722,0,11111]
[12,6828,13,6832,13,6840,14,6845,13,6850,0,11111]
[12,6950,13,6954,13,6958,14,6962,13,6967,1,11111]
[12,7067,13,7071,13,7075,14,7080,13,7086,0,11111]
[12,7187,13,7191,13,7196,14,7200,13,7204,0,11111]
[12,7316,13,7320,13,7324,14,7329,13,7335,1,11111]
[12,7437,13,7442,13,7447,14,7461,13,7471,0,11111]
[12,7571,13,7576,13,7581,14,7585,13,7593,0,11111]
[12,7692,13,7697,13,7701,14,7706,13,7711,0,11111]
[12,7824,13,7829,13,7838,14,7848,13,7853,1,11111]
[12,7956,13,7960,13,7965,14,7970,13,7980,0,11111]
[12,8085,13,8090,13,8095,14,8104,13,8109,0,11111]
[12,8209,13,8214,13,8222,14,8226,13,8231,1,11111]
[12,8326,13,8330,13,8335,14,8339,13,8348,0,11111]
[12,8451,13,8455,13,8460,14,8464,13,8468,0,11111]
[12,8572,13,8576,13,8585,14,8594,13,8599,0,11111]
[12,8700,13,8704,13,8708,14,8712,13,8717,0,11111]
[12,8828,13,8837,13,8843,23,8864,24,8877,1,11122]
[12,8982,13,8987,13,9005,14,9020,13,9025,0,11111]
[12,9129,13,9133,13,9137,14,9142,13,9154,0,11111]
[12,9260,13,9268,13,9276,14,9285,13,9298,0,11111]
[12,9403,13,9407,13,9411,14,9415,13,9419,0,11111]
[12,9522,13,9527,13,9532,14,9537,13,9542,0,11111]
[12,9650,13,9654,13,9659,14,9663,13,9669,1,11111]
[12,9763,13,9768,13,9776,14,9780,13,9785,0,11111]
[12,9885,13,9892,13,9896,14,9904,13,9909,0,11111]
[12,10015,13,10020,13,10025,14,10029,13,10034,0,11111]
[12,10140,13,10151,13,10155,14,10159,13,10166,0,11111]
[12,10270,13,10274,13,10278,14,10292,13,10302,0,11111]
[12,10413,13,10421,13,10425,14,10430,13,10434,1,11111]
[12,10538,13,10546,13,10550,14,10556,13,10561,0,11111]
[12,10660,13,10665,13,10669,14,10673,13,10677,0,11111]
[12,10780,13,10785,13,10790,14,10794,13,10799,0,11111]
[21,10908,22,10916,24,10925,23,10932,24,10940,0,22222]
[21,11047,22,11051,24,11059,23,11066,24,11073,0,22222]
[12,11182,13,11186,13,11191,14,11195,13,11200,0,11111]
[12,11305,13,11310,13,11314,14,11318,13,11323,1,11111]
[12,11425,13,11430,13,11438,14,11443,13,11448,0,11111]
[12,11546,13,11551,13,11555,14,11559,13,11563,0,11111]
[12,11661,13,11666,13,11670,14,11674,13,11678,0,11111]
[12,11804,13,11813,13,11823,14,11829,13,11834,0,11111]
[12,11941,13,11950,13,11955,14,11964,13,11973,1,11111]
[12,12078,13,12087,13,12091,14,12095,13,12112,0,11111]
[12,12217,13,12221,13,12225,14,12230,13,12239,0,11111]
[12,12338,13,12342,13,12346,14,12350,13,12354,0,11111]
[12,12452,13,12456,13,12461,14,12465,13,12469,0,11111]
[12,12579,13,12587,13,12591,14,12605,13,12618,0,11111]
[12,12724,13,12729,13,12737,14,12750,13,12755,0,11111]
[21,12862,22,12867,24,12873,23,12886,24,12891,0,22222]
[12,13006,13,13010,13,13015,14,13028,13,13043,1,11111]
[12,13149,13,13154,13,13159,14,13163,13,13180,0,11111]
[12,13291,13,13298,13,13303,14,13311,13,13315,0,11111]
[12,13416,13,13420,13,13425,14,13430,13,13438,0,11111]
[12,13544,13,13553,13,13566,14,13574,13,13578,0,11111]
[12,13682,13,13686,13,13691,14,13695,13,13699,1,11111]
[12,13798,13,13802,13,13810,14,13814,13,13819,1,11111]
[12,13916,13,13925,13,13930,14,13935,13,13940,1,11111]
[12,14041,13,14046,13,14050,14,14054,13,14059,0,11111]
[12,14155,13,14160,13,14164,14,14172,13,14177,0,11111]
[12,14277,13,14281,13,14286,14,14293,13,14298,1,11111]
[12,14397,13,14402,13,14406,14,14414,13,14419,0,11111]
[12,14518,13,14523,13,14527,14,14531,13,14535,0,11111]
[12,14642,13,14646,13,14651,14,14673,13,14687,0,11111]
[12,14798,13,14802,13,14810,14,14818,13,14822,0,11111]
[12,14923,13,14927,13,14932,14,14936,13,14940,0,11111]
[12,15044,13,15052,13,15056,14,15066,13,15076,1,11111]
[12,15176,13,15185,13,15189,14,15198,13,15203,0,11111]
[12,15318,13,15323,13,15327,14,15339,13,15348,0,11111]
[12,15449,13,15454,13,15458,14,15463,13,15467,0,11111]
[12,15571,13,15576,13,15581,14,15593,13,15601,0,11111]
[12,15710,13,15714,13,15718,14,15722,13,15731,0,11111]
[12,15836,13,15840,13,15845,14,15849,13,15854,0,11111]
[12,15963,13,15975,13,15983,14,15988,13,15999,1,11111]
[12,16105,13,16113,13,16117,14,16121,13,16125,0,11111]
[12,16232,13,16237,13,16242,14,16246,13,16251,0,11111]
[12,16359,13,16367,13,16371,14,16377,13,16382,0,11111]
[12,16480,13,16485,13,16488,14,16494,13,16502,0,11111]
[12,16600,13,16617,13,16622,14,16626,13,16635,1,11111]
[12,16740,13,16749,13,16758,14,16768,13,16773,0,11111]
[12,16883,13,16890,13,16895,14,16899,13,16903,0,11111]
[12,17012,13,17016,13,17020,14,17026,13,17031,1,11111]
[12,17130,13,17138,13,17143,14,17159,13,17173,0,11111]
[12,17278,13,17285,13,17290,14,17296,13,17305,0,11111]
[12,17406,13,17413,13,17417,14,17432,13,17439,0,11111]
[12,17541,13,17545,13,17549,14,17553,13,17558,1,11111]
[12,17652,13,17664,13,17668,14,17673,13,17694,0,11111]
[12,17813,13,17818,13,17822,14,17831,13,17840,0,11111]
[12,17947,13,17952,13,17956,14,17961,13,17965,0,11111]
[12,18065,13,18073,13,18077,14,18081,13,18086,0,11111]
[12,18192,13,18201,13,18205,14,18210,13,18231,1,11111]
[12,18337,13,18344,13,18366,14,18371,13,18376,0,11111]
[12,18475,13,18480,13,18484,14,18488,13,18492,0,11111]
[12,18593,13,18597,13,18601,14,18605,13,18609,0,11111]
[12,18720,13,18725,13,18729,14,18733,13,18737,0,11111]
[12,18837,13,18841,13,18845,14,18850,13,18854,0,11111]
[12,18964,13,18976,13,18982,14,18988,13,19001,1,11111]
[12,19100,13,19105,13,19113,14,19117,13,19122,0,11111]
[12,19222,13,19226,13,19230,14,19235,13,19239,0,11111]
[12,19342,13,19346,13,19350,14,19361,13,19366,1,11111]
[12,19460,13,19465,13,19469,14,19473,13,19477,1,11111]
[12,19581,13,19585,13,19590,14,19599,13,19604,0,11111]
[12,19705,13,19712,13,19717,14,19729,13,19734,0,11111]
[12,19841,13,19845,13,19850,14,19867,13,19876,0,11111]
[12,19983,13,19987,13,19995,14,20004,13,20012,1,11111]
[12,20111,13,20115,13,20120,14,20128,13,20133,0,11111]
[12,20238,13,20248,13,20257,14,20265,13,20270,0,11111]
[21,20376,22,20381,24,20385,23,20395,24,20403,0,22222]
[12,20506,13,20511,13,20516,14,20527,13,20543,0,11111]
[12,20648,13,20658,13,20663,14,20670,13,20675,0,11111]
[12,20779,13,20783,13,20787,14,20791,13,20799,0,11111]
[12,20900,13,20910,13,20914,14,20923,13,20928,0,11111]
[12,21032,13,21036,13,21039,14,21044,13,21049,1,11111]
[12,21155,13,21164,13,21169,14,21175,13,21180,0,11111]
[12,21284,13,21288,13,21294,14,21301,13,21317,0,11111]
[12,21423,13,21440,13,21444,14,21453,13,21457,0,11111]
[12,21564,13,21569,13,21573,14,21577,13,21582,0,11111]
[12,21676,13,21690,13,21695,14,21699,13,21703,0,11111]
[12,21807,13,21811,13,21815,14,21819,13,21824,0,11111]
[12,21927,13,21935,13,21939,14,21943,13,21947,0,11111]
[12,22046,13,22051,13,22058,14,22063,13,22068,1,11111]
[12,22173,13,22178,13,22190,14,22198,13,22208,0,11111]
[12,22314,13,22319,13,22332,14,22338,13,22346,0,11111]
[12,22464,13,22468,13,22473,14,22478,13,22485,0,11111]
[12,22590,13,22597,13,22602,14,22606,13,22618,0,11111]
[12,22731,13,22735,13,22740,14,22745,13,22757,0,11111]
[12,22859,13,22867,13,22875,14,22880,13,22891,0,11111]
[12,22998,13,23002,13,23006,14,23010,13,23018,0,11111]
[12,23130,13,23135,13,23140,14,23149,13,23154,1,11111]
[12,23253,13,23257,13,23262,14,23272,13,23285,0,11111]
[12,23390,13,23394,13,23398,14,23406,13,23415,0,11111]
[12,23519,13,23523,13,23528,14,23532,13,23544,0,11111]
[12,23650,13,23654,13,23658,14,23666,13,23670,0,11111]
[12,23779,13,23784,13,23788,14,23796,13,23805,0,11111]
[12,23906,13,23910,13,23921,14,23932,13,23937,null,11111]

{"sheet":"!MC07940.010","index":10,"n_rows":191,"n_cols":48,"rows_kept":191,"cut":false,"hidden":false,"merged":[[4,39,4,42],[5,39,5,40],[4,44,4,47],[5,44,5,45],[4,24,4,27],[5,24,5,25],[4,29,4,32],[5,29,5,30],[4,34,4,37],[5,34,5,35],[1,1,1,2],[5,13,5,14],[42,13,42,14],[43,13,43,14],[4,19,4,22],[5,19,5,20]]}
["Report for:!MC07940.010"]
["Date:","<date>"]
["Hen:","<hen>",null,null,null,"Correct Sequence",{"$f":"Start!J2","v":21121},null,null,null,null,null,null,null,null,"Total Sequences in Data",{"$f":"4994-COUNTBLANK(L7:L5000)","v":185},null,null,null,null,"Total Sequences in Block Data",{"$f":"COUNTA(L7:L37)","v":31},null,null,null,"Total Sequences in Block Data",{"$f":"COUNTA(L38:L68)","v":31},null,null,null,"Total Sequences in Block Data",{"$f":"COUNTA(L69:L98)","v":30},null,null,null,"Total Sequences in Block Data",{"$f":"COUNTA(L99:L129)","v":31},null,null,null,"Total Sequences in Block Data",{"$f":"COUNTA(L130:L160)","v":31},null,null,null,"Total Sequences in Block Data",{"$f":"COUNTA(L161:L191)","v":31}]
[null,null,null,null,null,null,null,null,null,null,null,null,null,null,null,"Total Sequences in Summary",{"$f":"SUM(O7:O38)","v":185},null,null,null,null,"Total Sequences in Block Summary",{"$f":"SUM(U7:U38)","v":31},null,null,null,"Total Sequences in Block Summary",{"$f":"SUM(Z7:Z38)","v":31},null,null,null,"Total Sequences in Block Summary",{"$f":"SUM(AE7:AE38)","v":30},null,null,null,"Total Sequences in Block Summary",{"$f":"SUM(AJ7:AJ38)","v":31},null,null,null,"Total Sequences in Block Summary",{"$f":"SUM(AO7:AO38)","v":31},null,null,null,"Total Sequences in Block Summary",{"$f":"SUM(AT7:AT38)","v":31}]
[null,null,null,null,null,null,null,null,null,null,null,null,null,null,null,null,null,null,null,"Block 1",null,null,null,null,"Block 2",null,null,null,null,"Block 3",null,null,null,null,"Block 4",null,null,null,null,"Block 5",null,null,null,null,"Block 6"]
["Sequence\nComponent\n1","Time\n1","Sequence\nComponent\n2","Time\n2","Sequence\nComponent\n3","Time\n3","Sequence\nComponent\n4","Time\n4","Sequence\nComponent\n5","Time\n5","Correct?\n0=No 1=Yes","Sequence",null,"Frequency",null,"Relative Frequency","Variability",null,null,"Frequency",null,"Relative Frequency","Variability",null,"Frequency",null,"Relative Frequency","Variability",null,"Frequency",null,"Relative Frequency","Variability",null,"Frequency",null,"Relative Frequency","Variability",null,"Frequency",null,"Relative Frequency","Variability",null,"Frequency",null,"Relative Frequency","Variability"]
[12,18,13,22,13,27,14,32,13,36,0,11111,null,11111,{"$f":"COUNTIF($L$7:$L$500,N7)","v":181},{"$f":"O7/$Q$4","v":0.97837837837837838},{"$f":"IF(P7=0,0,(P7*((LOG(P7))/LOG(2))))","v":-3.0853723196715272E-2},null,null,{"$f":"N7","v":11111},{"$f":"COUNTIF(L7:L37,T7)","v":30},{"$f":"U7/(W4-U25)","v":0.967741935483871},{"$f":"IF(V7=0,0,(V7*((LOG(V7))/LOG(2))))","v":-4.5779723979054811E-2},null,{"$f":"N7","v":11111},{"$f":"COUNTIF(L38:L68,Y7)","v":31},{"$f":"Z7/(AB4-Z25)","v":1},{"$f":"IF(AA7=0,0,(AA7*((LOG(AA7))/LOG(2))))","v":0},null,{"$f":"N7","v":11111},{"$f":"COUNTIF(L69:L98,AD7)","v":30},{"$f":"AE7/(AG4-AE25)","v":1},{"$f":"IF(AF7=0,0,(AF7*((LOG(AF7))/LOG(2))))","v":0},null,{"$f":"N7","v":11111},{"$f":"COUNTIF(L99:L129,AI7)","v":30},{"$f":"AJ7/(AL4-AJ25)","v":0.967741935483871},{"$f":"IF(AK7=0,0,(AK7*((LOG(AK7))/LOG(2))))","v":-4.5779723979054811E-2},null,{"$f":"N7","v":11111},{"$f":"COUNTIF(L130:L160,AN7)","v":30},{"$f":"AO7/(AQ4-AO25)","v":0.967741935483871},{"$f":"IF(AP7=0,0,(AP7*((LOG(AP7))/LOG(2))))","v":-4.5779723979054811E-2},null,{"$f":"N7","v":11111},{"$f":"COUNTIF(L161:L191,AS7)","v":30},{"$f":"AT7/(AV4-AT25)","v":0.967741935483871},{"$f":"IF(AU7=0,0,(AU7*((LOG(AU7))/LOG(2))))","v":-4.5779723979054811E-2}]
[12,139,13,152,13,158,14,163,13,174,1,11111,null,11112,{"$f":"COUNTIF($L$7:$L$500,N8)","v":0},{"$f":"O8/$Q$4","v":0},{"$f":"IF(P8=0,0,(P8*((LOG(P8))/LOG(2))))","v":0},null,null,{"$f":"N8","v":11112},{"$f":"COUNTIF(L7:L37,T8)","v":0},{"$f":"U8/(W4-U25)","v":0},{"$f":"IF(V8=0,0,(V8*((LOG(V8))/LOG(2))))","v":0},null,{"$f":"N8","v":11112},{"$f":"COUNTIF(L38:L68,Y8)","v":0},{"$f":"Z8/(AB4-Z25)","v":0},{"$f":"IF(AA8=0,0,(AA8*((LOG(AA8))/LOG(2))))","v":0},null,{"$f":"N8","v":11112},{"$f":"COUNTIF(L69:L98,AD8)","v":0},{"$f":"AE8/(AG4-AE25)","v":0},{"$f":"IF(AF8=0,0,(AF8*((LOG(AF8))/LOG(2))))","v":0},null,{"$f":"N8","v":11112},{"$f":"COUNTIF(L99:L129,AI8)","v":0},{"$f":"AJ8/(AL4-AJ25)","v":0},{"$f":"IF(AK8=0,0,(AK8*((LOG(AK8))/LOG(2))))","v":0},null,{"$f":"N8","v":11112},{"$f":"COUNTIF(L130:L160,AN8)","v":0},{"$f":"AO8/(AQ4-AO25)","v":0},{"$f":"IF(AP8=0,0,(AP8*((LOG(AP8))/LOG(2))))","v":0},null,{"$f":"N8","v":11112},{"$f":"COUNTIF(L161:L191,AS8)","v":0},{"$f":"AT8/(AV4-AT25)","v":0},{"$f":"IF(AU8=0,0,(AU8*((LOG(AU8))/LOG(2))))","v":0}]
[12,276,13,284,13,289,14,294,13,298,0,11111,null,11121,{"$f":"COUNTIF($L$7:$L$500,N9)","v":0},{"$f":"O9/$Q$4","v":0},{"$f":"IF(P9=0,0,(P9*((LOG(P9))/LOG(2))))","v":0},null,null,{"$f":"N9","v":11121},{"$f":"COUNTIF(L7:L37,T9)","v":0},{"$f":"U9/(W4-U25)","v":0},{"$f":"IF(V9=0,0,(V9*((LOG(V9))/LOG(2))))","v":0},null,{"$f":"N9","v":11121},{"$f":"COUNTIF(L38:L68,Y9)","v":0},{"$f":"Z9/(AB4-Z25)","v":0},{"$f":"IF(AA9=0,0,(AA9*((LOG(AA9))/LOG(2))))","v":0},null,{"$f":"N9","v":11121},{"$f":"COUNTIF(L69:L98,AD9)","v":0},{"$f":"AE9/(AG4-AE25)","v":0},{"$f":"IF(AF9=0,0,(AF9*((LOG(AF9))/LOG(2))))","v":0},null,{"$f":"N9","v":11121},{"$f":"COUNTIF(L99:L129,AI9)","v":0},{"$f":"AJ9/(AL4-AJ25)","v":0},{"$f":"IF(AK9=0,0,(AK9*((LOG(AK9))/LOG(2))))","v":0},null,{"$f":"N9","v":11121},{"$f":"COUNTIF(L130:L160,AN9)","v":0},{"$f":"AO9/(AQ4-AO25)","v":0},{"$f":"IF(AP9=0,0,(AP9*((LOG(AP9))/LOG(2))))","v":0},null,{"$f":"N9","v":11121},{"$f":"COUNTIF(L161:L191,AS9)","v":0},{"$f":"AT9/(AV4-AT25)","v":0},{"$f":"IF(AU9=0,0,(AU9*((LOG(AU9))/LOG(2))))","v":0}]
[12,402,13,407,13,415,14,420,13,424,0,11111,null,11122,{"$f":"COUNTIF($L$7:$L$500,N10)","v":0},{"$f":"O10/$Q$4","v":0},{"$f":"IF(P10=0,0,(P10*((LOG(P10))/LOG(2))))","v":0},null,null,{"$f":"N10","v":11122},{"$f":"COUNTIF(L7:L37,T10)","v":0},{"$f":"U10/(W4-U25)","v":0},{"$f":"IF(V10=0,0,(V10*((LOG(V10))/LOG(2))))","v":0},null,{"$f":"N10","v":11122},{"$f":"COUNTIF(L38:L68,Y10)","v":0},{"$f":"Z10/(AB4-Z25)","v":0},{"$f":"IF(AA10=0,0,(AA10*((LOG(AA10))/LOG(2))))","v":0},null,{"$f":"N10","v":11122},{"$f":"COUNTIF(L69:L98,AD10)","v":0},{"$f":"AE10/(AG4-AE25)","v":0},{"$f":"IF(AF10=0,0,(AF10*((LOG(AF10))/LOG(2))))","v":0},null,{"$f":"N10","v":11122},{"$f":"COUNTIF(L99:L129,AI10)","v":0},{"$f":"AJ10/(AL4-AJ25)","v":0},{"$f":"IF(AK10=0,0,(AK10*((LOG(AK10))/LOG(2))))","v":0},null,{"$f":"N10","v":11122},{"$f":"COUNTIF(L130:L160,AN10)","v":0},{"$f":"AO10/(AQ4-AO25)","v":0},{"$f":"IF(AP10=0,0,(AP10*((LOG(AP10))/LOG(2))))","v":0},null,{"$f":"N10","v":11122},{"$f":"COUNTIF(L161:L191,AS10)","v":0},{"$f":"AT10/(AV4-AT25)","v":0},{"$f":"IF(AU10=0,0,(AU10*((LOG(AU10))/LOG(2))))","v":0}]
[12,531,13,537,13,544,14,548,13,553,0,11111,null,11211,{"$f":"COUNTIF($L$7:$L$500,N11)","v":0},{"$f":"O11/$Q$4","v":0},{"$f":"IF(P11=0,0,(P11*((LOG(P11))/LOG(2))))","v":0},null,null,{"$f":"N11","v":11211},{"$f":"COUNTIF(L7:L37,T11)","v":0},{"$f":"U11/(W4-U25)","v":0},{"$f":"IF(V11=0,0,(V11*((LOG(V11))/LOG(2))))","v":0},null,{"$f":"N11","v":11211},{"$f":"COUNTIF(L38:L68,Y11)","v":0},{"$f":"Z11/(AB4-Z25)","v":0},{"$f":"IF(AA11=0,0,(AA11*((LOG(AA11))/LOG(2))))","v":0},null,{"$f":"N11","v":11211},{"$f":"COUNTIF(L69:L98,AD11)","v":0},{"$f":"AE11/(AG4-AE25)","v":0},{"$f":"IF(AF11=0,0,(AF11*((LOG(AF11))/LOG(2))))","v":0},null,{"$f":"N11","v":11211},{"$f":"COUNTIF(L99:L129,AI11)","v":0},{"$f":"AJ11/(AL4-AJ25)","v":0},{"$f":"IF(AK11=0,0,(AK11*((LOG(AK11))/LOG(2))))","v":0},null,{"$f":"N11","v":11211},{"$f":"COUNTIF(L130:L160,AN11)","v":0},{"$f":"AO11/(AQ4-AO25)","v":0},{"$f":"IF(AP11=0,0,(AP11*((LOG(AP11))/LOG(2))))","v":0},null,{"$f":"N11","v":11211},{"$f":"COUNTIF(L161:L191,AS11)","v":0},{"$f":"AT11/(AV4-AT25)","v":0},{"$f":"IF(AU11=0,0,(AU11*((LOG(AU11))/LOG(2))))","v":0}]
[12,653,13,657,13,661,14,666,13,671,0,11111,null,11212,{"$f":"COUNTIF($L$7:$L$500,N12)","v":0},{"$f":"O12/$Q$4","v":0},{"$f":"IF(P12=0,0,(P12*((LOG(P12))/LOG(2))))","v":0},null,null,{"$f":"N12","v":11212},{"$f":"COUNTIF(L7:L37,T12)","v":0},{"$f":"U12/(W4-U25)","v":0},{"$f":"IF(V12=0,0,(V12*((LOG(V12))/LOG(2))))","v":0},null,{"$f":"N12","v":11212},{"$f":"COUNTIF(L38:L68,Y12)","v":0},{"$f":"Z12/(AB4-Z25)","v":0},{"$f":"IF(AA12=0,0,(AA12*((LOG(AA12))/LOG(2))))","v":0},null,{"$f":"N12","v":11212},{"$f":"COUNTIF(L69:L98,AD12)","v":0},{"$f":"AE12/(AG4-AE25)","v":0},{"$f":"IF(AF12=0,0,(AF12*((LOG(AF12))/LOG(2))))","v":0},null,{"$f":"N12","v":11212},{"$f":"COUNTIF(L99:L129,AI12)","v":0},{"$f":"AJ12/(AL4-AJ25)","v":0},{"$f":"IF(AK12=0,0,(AK12*((LOG(AK12))/LOG(2))))","v":0},null,{"$f":"N12","v":11212},{"$f":"COUNTIF(L130:L160,AN12)","v":0},{"$f":"AO12/(AQ4-AO25)","v":0},{"$f":"IF(AP12=0,0,(AP12*((LOG(AP12))/LOG(2))))","v":0},null,{"$f":"N12","v":11212},{"$f":"COUNTIF(L161:L191,AS12)","v":0},{"$f":"AT12/(AV4-AT25)","v":0},{"$f":"IF(AU12=0,0,(AU12*((LOG(AU12))/LOG(2))))","v":0}]
[12,772,13,781,13,785,14,790,13,795,0,11111,null,11221,{"$f":"COUNTIF($L$7:$L$500,N13)","v":0},{"$f":"O13/$Q$4","v":0},{"$f":"IF(P13=0,0,(P13*((LOG(P13))/LOG(2))))","v":0},null,null,{"$f":"N13","v":11221},{"$f":"COUNTIF(L7:L37,T13)","v":0},{"$f":"U13/(W4-U25)","v":0},{"$f":"IF(V13=0,0,(V13*((LOG(V13))/LOG(2))))","v":0},null,{"$f":"N13","v":11221},{"$f":"COUNTIF(L38:L68,Y13)","v":0},{"$f":"Z13/(AB4-Z25)","v":0},{"$f":"IF(AA13=0,0,(AA13*((LOG(AA13))/LOG(2))))","v":0},null,{"$f":"N13","v":11221},{"$f":"COUNTIF(L69:L98,AD13)","v":0},{"$f":"AE13/(AG4-AE25)","v":0},{"$f":"IF(AF13=0,0,(AF13*((LOG(AF13))/LOG(2))))","v":0},null,{"$f":"N13","v":11221},{"$f":"COUNTIF(L99:L129,AI13)","v":0},{"$f":"AJ13/(AL4-AJ25)","v":0},{"$f":"IF(AK13=0,0,(AK13*((LOG(AK13))/LOG(2))))","v":0},null,{"$f":"N13","v":11221},{"$f":"COUNTIF(L130:L160,AN13)","v":0},{"$f":"AO13/(AQ4-AO25)","v":0},{"$f":"IF(AP13=0,0,(AP13*((LOG(AP13))/LOG(2))))","v":0},null,{"$f":"N13","v":11221},{"$f":"COUNTIF(L161:L191,AS13)","v":0},{"$f":"AT13/(AV4-AT25)","v":0},{"$f":"IF(AU13=0,0,(AU13*((LOG(AU13))/LOG(2))))","v":0}]
[12,896,13,900,13,904,14,909,13,924,0,11111,null,11222,{"$f":"COUNTIF($L$7:$L$500,N14)","v":0},{"$f":"O14/$Q$4","v":0},{"$f":"IF(P14=0,0,(P14*((LOG(P14))/LOG(2))))","v":0},null,null,{"$f":"N14","v":11222},{"$f":"COUNTIF(L7:L37,T14)","v":0},{"$f":"U14/(W4-U25)","v":0},{"$f":"IF(V14=0,0,(V14*((LOG(V14))/LOG(2))))","v":0},null,{"$f":"N14","v":11222},{"$f":"COUNTIF(L38:L68,Y14)","v":0},{"$f":"Z14/(AB4-Z25)","v":0},{"$f":"IF(AA14=0,0,(AA14*((LOG(AA14))/LOG(2))))","v":0},null,{"$f":"N14","v":11222},{"$f":"COUNTIF(L69:L98,AD14)","v":0},{"$f":"AE14/(AG4-AE25)","v":0},{"$f":"IF(AF14=0,0,(AF14*((LOG(AF14))/LOG(2))))","v":0},null,{"$f":"N14","v":11222},{"$f":"COUNTIF(L99:L129,AI14)","v":0},{"$f":"AJ14/(AL4-AJ25)","v":0},{"$f":"IF(AK14=0,0,(AK14*((LOG(AK14))/LOG(2))))","v":0},null,{"$f":"N14","v":11222},{"$f":"COUNTIF(L130:L160,AN14)","v":0},{"$f":"AO14/(AQ4-AO25)","v":0},{"$f":"IF(AP14=0,0,(AP14*((LOG(AP14))/LOG(2))))","v":0},null,{"$f":"N14","v":11222},{"$f":"COUNTIF(L161:L191,AS14)","v":0},{"$f":"AT14/(AV4-AT25)","v":0},{"$f":"IF(AU14=0,0,(AU14*((LOG(AU14))/LOG(2))))","v":0}]
[12,1039,13,1044,13,1049,14,1053,13,1058,0,11111,null,12111,{"$f":"COUNTIF($L$7:$L$500,N15)","v":0},{"$f":"O15/$Q$4","v":0},{"$f":"IF(P15=0,0,(P15*((LOG(P15))/LOG(2))))","v":0},null,null,{"$f":"N15","v":12111},{"$f":"COUNTIF(L7:L37,T15)","v":0},{"$f":"U15/(W4-U25)","v":0},{"$f":"IF(V15=0,0,(V15*((LOG(V15))/LOG(2))))","v":0},null,{"$f":"N15","v":12111},{"$f":"COUNTIF(L38:L68,Y15)","v":0},{"$f":"Z15/(AB4-Z25)","v":0},{"$f":"IF(AA15=0,0,(AA15*((LOG(AA15))/LOG(2))))","v":0},null,{"$f":"N15","v":12111},{"$f":"COUNTIF(L69:L98,AD15)","v":0},{"$f":"AE15/(AG4-AE25)","v":0},{"$f":"IF(AF15=0,0,(AF15*((LOG(AF15))/LOG(2))))","v":0},null,{"$f":"N15","v":12111},{"$f":"COUNTIF(L99:L129,AI15)","v":0},{"$f":"AJ15/(AL4-AJ25)","v":0},{"$f":"IF(AK15=0,0,(AK15*((LOG(AK15))/LOG(2))))","v":0},null,{"$f":"N15","v":12111},{"$f":"COUNTIF(L130:L160,AN15)","v":0},{"$f":"AO15/(AQ4-AO25)","v":0},{"$f":"IF(AP15=0,0,(AP15*((LOG(AP15))/LOG(2))))","v":0},null,{"$f":"N15","v":12111},{"$f":"COUNTIF(L161:L191,AS15)","v":0},{"$f":"AT15/(AV4-AT25)","v":0},{"$f":"IF(AU15=0,0,(AU15*((LOG(AU15))/LOG(2))))","v":0}]
[12,1181,13,1190,13,1204,14,1209,13,1214,0,11111,null,12112,{"$f":"COUNTIF($L$7:$L$500,N16)","v":0},{"$f":"O16/$Q$4","v":0},{"$f":"IF(P16=0,0,(P16*((LOG(P16))/LOG(2))))","v":0},null,null,{"$f":"N16","v":12112},{"$f":"COUNTIF(L7:L37,T16)","v":0},{"$f":"U16/(W4-U25)","v":0},{"$f":"IF(V16=0,0,(V16*((LOG(V16))/LOG(2))))","v":0},null,{"$f":"N16","v":12112},{"$f":"COUNTIF(L38:L68,Y16)","v":0},{"$f":"Z16/(AB4-Z25)","v":0},{"$f":"IF(AA16=0,0,(AA16*((LOG(AA16))/LOG(2))))","v":0},null,{"$f":"N16","v":12112},{"$f":"COUNTIF(L69:L98,AD16)","v":0},{"$f":"AE16/(AG4-AE25)","v":0},{"$f":"IF(AF16=0,0,(AF16*((LOG(AF16))/LOG(2))))","v":0},null,{"$f":"N16","v":12112},{"$f":"COUNTIF(L99:L129,AI16)","v":0},{"$f":"AJ16/(AL4-AJ25)","v":0},{"$f":"IF(AK16=0,0,(AK16*((LOG(AK16))/LOG(2))))","v":0},null,{"$f":"N16","v":12112},{"$f":"COUNTIF(L130:L160,AN16)","v":0},{"$f":"AO16/(AQ4-AO25)","v":0},{"$f":"IF(AP16=0,0,(AP16*((LOG(AP16))/LOG(2))))","v":0},null,{"$f":"N16","v":12112},{"$f":"COUNTIF(L161:L191,AS16)","v":0},{"$f":"AT16/(AV4-AT25)","v":0},{"$f":"IF(AU16=0,0,(AU16*((LOG(AU16))/LOG(2))))","v":0}]
[21,1318,22,1323,24,1335,23,1342,24,1350,1,22222,null,12121,{"$f":"COUNTIF($L$7:$L$500,N17)","v":0},{"$f":"O17/$Q$4","v":0},{"$f":"IF(P17=0,0,(P17*((LOG(P17))/LOG(2))))","v":0},null,null,{"$f":"N17","v":12121},{"$f":"COUNTIF(L7:L37,T17)","v":0},{"$f":"U17/(W4-U25)","v":0},{"$f":"IF(V17=0,0,(V17*((LOG(V17))/LOG(2))))","v":0},null,{"$f":"N17","v":12121},{"$f":"COUNTIF(L38:L68,Y17)","v":0},{"$f":"Z17/(AB4-Z25)","v":0},{"$f":"IF(AA17=0,0,(AA17*((LOG(AA17))/LOG(2))))","v":0},null,{"$f":"N17","v":12121},{"$f":"COUNTIF(L69:L98,AD17)","v":0},{"$f":"AE17/(AG4-AE25)","v":0},{"$f":"IF(AF17=0,0,(AF17*((LOG(AF17))/LOG(2))))","v":0},null,{"$f":"N17","v":12121},{"$f":"COUNTIF(L99:L129,AI17)","v":0},{"$f":"AJ17/(AL4-AJ25)","v":0},{"$f":"IF(AK17=0,0,(AK17*((LOG(AK17))/LOG(2))))","v":0},null,{"$f":"N17","v":12121},{"$f":"COUNTIF(L130:L160,AN17)","v":0},{"$f":"AO17/(AQ4-AO25)","v":0},{"$f":"IF(AP17=0,0,(AP17*((LOG(AP17))/LOG(2))))","v":0},null,{"$f":"N17","v":12121},{"$f":"COUNTIF(L161:L191,AS17)","v":0},{"$f":"AT17/(AV4-AT25)","v":0},{"$f":"IF(AU17=0,0,(AU17*((LOG(AU17))/LOG(2))))","v":0}]
[12,1456,13,1461,13,1465,14,1470,13,1476,0,11111,null,12122,{"$f":"COUNTIF($L$7:$L$500,N18)","v":0},{"$f":"O18/$Q$4","v":0},{"$f":"IF(P18=0,0,(P18*((LOG(P18))/LOG(2))))","v":0},null,null,{"$f":"N18","v":12122},{"$f":"COUNTIF(L7:L37,T18)","v":0},{"$f":"U18/(W4-U25)","v":0},{"$f":"IF(V18=0,0,(V18*((LOG(V18))/LOG(2))))","v":0},null,{"$f":"N18","v":12122},{"$f":"COUNTIF(L38:L68,Y18)","v":0},{"$f":"Z18/(AB4-Z25)","v":0},{"$f":"IF(AA18=0,0,(AA18*((LOG(AA18))/LOG(2))))","v":0},null,{"$f":"N18","v":12122},{"$f":"COUNTIF(L69:L98,AD18)","v":0},{"$f":"AE18/(AG4-AE25)","v":0},{"$f":"IF(AF18=0,0,(AF18*((LOG(AF18))/LOG(2))))","v":0},null,{"$f":"N18","v":12122},{"$f":"COUNTIF(L99:L129,AI18)","v":0},{"$f":"AJ18/(AL4-AJ25)","v":0},{"$f":"IF(AK18=0,0,(AK18*((LOG(AK18))/LOG(2))))","v":0},null,{"$f":"N18","v":12122},{"$f":"COUNTIF(L130:L160,AN18)","v":0},{"$f":"AO18/(AQ4-AO25)","v":0},{"$f":"IF(AP18=0,0,(AP18*((LOG(AP18))/LOG(2))))","v":0},null,{"$f":"N18","v":12122},{"$f":"COUNTIF(L161:L191,AS18)","v":0},{"$f":"AT18/(AV4-AT25)","v":0},{"$f":"IF(AU18=0,0,(AU18*((LOG(AU18))/LOG(2))))","v":0}]
[12,1579,13,1583,13,1587,14,1595,13,1600,0,11111,null,12211,{"$f":"COUNTIF($L$7:$L$500,N19)","v":0},{"$f":"O19/$Q$4","v":0},{"$f":"IF(P19=0,0,(P19*((LOG(P19))/LOG(2))))","v":0},null,null,{"$f":"N19","v":12211},{"$f":"COUNTIF(L7:L37,T19)","v":0},{"$f":"U19/(W4-U25)","v":0},{"$f":"IF(V19=0,0,(V19*((LOG(V19))/LOG(2))))","v":0},null,{"$f":"N19","v":12211},{"$f":"COUNTIF(L38:L68,Y19)","v":0},{"$f":"Z19/(AB4-Z25)","v":0},{"$f":"IF(AA19=0,0,(AA19*((LOG(AA19))/LOG(2))))","v":0},null,{"$f":"N19","v":12211},{"$f":"COUNTIF(L69:L98,AD19)","v":0},{"$f":"AE19/(AG4-AE25)","v":0},{"$f":"IF(AF19=0,0,(AF19*((LOG(AF19))/LOG(2))))","v":0},null,{"$f":"N19","v":12211},{"$f":"COUNTIF(L99:L129,AI19)","v":0},{"$f":"AJ19/(AL4-AJ25)","v":0},{"$f":"IF(AK19=0,0,(AK19*((LOG(AK19))/LOG(2))))","v":0},null,{"$f":"N19","v":12211},{"$f":"COUNTIF(L130:L160,AN19)","v":0},{"$f":"AO19/(AQ4-AO25)","v":0},{"$f":"IF(AP19=0,0,(AP19*((LOG(AP19))/LOG(2))))","v":0},null,{"$f":"N19","v":12211},{"$f":"COUNTIF(L161:L191,AS19)","v":0},{"$f":"AT19/(AV4-AT25)","v":0},{"$f":"IF(AU19=0,0,(AU19*((LOG(AU19))/LOG(2))))","v":0}]
[12,1700,13,1704,13,1709,14,1713,13,1718,0,11111,null,12212,{"$f":"COUNTIF($L$7:$L$500,N20)","v":0},{"$f":"O20/$Q$4","v":0},{"$f":"IF(P20=0,0,(P20*((LOG(P20))/LOG(2))))","v":0},null,null,{"$f":"N20","v":12212},{"$f":"COUNTIF(L7:L37,T20)","v":0},{"$f":"U20/(W4-U25)","v":0},{"$f":"IF(V20=0,0,(V20*((LOG(V20))/LOG(2))))","v":0},null,{"$f":"N20","v":12212},{"$f":"COUNTIF(L38:L68,Y20)","v":0},{"$f":"Z20/(AB4-Z25)","v":0},{"$f":"IF(AA20=0,0,(AA20*((LOG(AA20))/LOG(2))))","v":0},null,{"$f":"N20","v":12212},{"$f":"COUNTIF(L69:L98,AD20)","v":0},{"$f":"AE20/(AG4-AE25)","v":0},{"$f":"IF(AF20=0,0,(AF20*((LOG(AF20))/LOG(2))))","v":0},null,{"$f":"N20","v":12212},{"$f":"COUNTIF(L99:L129,AI20)","v":0},{"$f":"AJ20/(AL4-AJ25)","v":0},{"$f":"IF(AK20=0,0,(AK20*((LOG(AK20))/LOG(2))))","v":0},null,{"$f":"N20","v":12212},{"$f":"COUNTIF(L130:L160,AN20)","v":0},{"$f":"AO20/(AQ4-AO25)","v":0},{"$f":"IF(AP20=0,0,(AP20*((LOG(AP20))/LOG(2))))","v":0},null,{"$f":"N20","v":12212},{"$f":"COUNTIF(L161:L191,AS20)","v":0},{"$f":"AT20/(AV4-AT25)","v":0},{"$f":"IF(AU20=0,0,(AU20*((LOG(AU20))/LOG(2))))","v":0}]
[12,1836,13,1841,13,1846,14,1850,13,1860,0,11111,null,12221,{"$f":"COUNTIF($L$7:$L$500,N21)","v":0},{"$f":"O21/$Q$4","v":0},{"$f":"IF(P21=0,0,(P21*((LOG(P21))/LOG(2))))","v":0},null,null,{"$f":"N21","v":12221},{"$f":"COUNTIF(L7:L37,T21)","v":0},{"$f":"U21/(W4-U25)","v":0},{"$f":"IF(V21=0,0,(V21*((LOG(V21))/LOG(2))))","v":0},null,{"$f":"N21","v":12221},{"$f":"COUNTIF(L38:L68,Y21)","v":0},{"$f":"Z21/(AB4-Z25)","v":0},{"$f":"IF(AA21=0,0,(AA21*((LOG(AA21))/LOG(2))))","v":0},null,{"$f":"N21","v":12221},{"$f":"COUNTIF(L69:L98,AD21)","v":0},{"$f":"AE21/(AG4-AE25)","v":0},{"$f":"IF(AF21=0,0,(AF21*((LOG(AF21))/LOG(2))))","v":0},null,{"$f":"N21","v":12221},{"$f":"COUNTIF(L99:L129,AI21)","v":0},{"$f":"AJ21/(AL4-AJ25)","v":0},{"$f":"IF(AK21=0,0,(AK21*((LOG(AK21))/LOG(2))))","v":0},null,{"$f":"N21","v":12221},{"$f":"COUNTIF(L130:L160,AN21)","v":0},{"$f":"AO21/(AQ4-AO25)","v":0},{"$f":"IF(AP21=0,0,(AP21*((LOG(AP21))/LOG(2))))","v":0},null,{"$f":"N21","v":12221},{"$f":"COUNTIF(L161:L191,AS21)","v":0},{"$f":"AT21/(AV4-AT25)","v":0},{"$f":"IF(AU21=0,0,(AU21*((LOG(AU21))/LOG(2))))","v":0}]
[12,1967,13,1971,13,1975,14,1979,13,1983,0,11111,null,12222,{"$f":"COUNTIF($L$7:$L$500,N22)","v":2},{"$f":"O22/$Q$4","v":1.0810810810810811E-2},{"$f":"IF(P22=0,0,(P22*((LOG(P22))/LOG(2))))","v":-7.0609529302879045E-2},null,null,{"$f":"N22","v":12222},{"$f":"COUNTIF(L7:L37,T22)","v":0},{"$f":"U22/(W4-U25)","v":0},{"$f":"IF(V22=0,0,(V22*((LOG(V22))/LOG(2))))","v":0},null,{"$f":"N22","v":12222},{"$f":"COUNTIF(L38:L68,Y22)","v":0},{"$f":"Z22/(AB4-Z25)","v":0},{"$f":"IF(AA22=0,0,(AA22*((LOG(AA22))/LOG(2))))","v":0},null,{"$f":"N22","v":12222},{"$f":"COUNTIF(L69:L98,AD22)","v":0},{"$f":"AE22/(AG4-AE25)","v":0},{"$f":"IF(AF22=0,0,(AF22*((LOG(AF22))/LOG(2))))","v":0},null,{"$f":"N22","v":12222},{"$f":"COUNTIF(L99:L129,AI22)","v":1},{"$f":"AJ22/(AL4-AJ25)","v":3.2258064516129031E-2},{"$f":"IF(AK22=0,0,(AK22*((LOG(AK22))/LOG(2))))","v":-0.15981278420602821},null,{"$f":"N22","v":12222},{"$f":"COUNTIF(L130:L160,AN22)","v":0},{"$f":"AO22/(AQ4-AO25)","v":0},{"$f":"IF(AP22=0,0,(AP22*((LOG(AP22))/LOG(2))))","v":0},null,{"$f":"N22","v":12222},{"$f":"COUNTIF(L161:L191,AS22)","v":1},{"$f":"AT22/(AV4-AT25)","v":3.2258064516129031E-2},{"$f":"IF(AU22=0,0,(AU22*((LOG(AU22))/LOG(2))))","v":-0.15981278420602821}]
[12,2091,13,2096,13,2101,14,2105,13,2109,1,11111,null,21111,{"$f":"COUNTIF($L$7:$L$500,N23)","v":0},{"$f":"O23/$Q$4","v":0},{"$f":"IF(P23=0,0,(P23*((LOG(P23))/LOG(2))))","v":0},null,null,{"$f":"N23","v":21111},{"$f":"COUNTIF(L7:L37,T23)","v":0},{"$f":"U23/(W4-U25)","v":0},{"$f":"IF(V23=0,0,(V23*((LOG(V23))/LOG(2))))","v":0},null,{"$f":"N23","v":21111},{"$f":"COUNTIF(L38:L68,Y23)","v":0},{"$f":"Z23/(AB4-Z25)","v":0},{"$f":"IF(AA23=0,0,(AA23*((LOG(AA23))/LOG(2))))","v":0},null,{"$f":"N23","v":21111},{"$f":"COUNTIF(L69:L98,AD23)","v":0},{"$f":"AE23/(AG4-AE25)","v":0},{"$f":"IF(AF23=0,0,(AF23*((LOG(AF23))/LOG(2))))","v":0},null,{"$f":"N23","v":21111},{"$f":"COUNTIF(L99:L129,AI23)","v":0},{"$f":"AJ23/(AL4-AJ25)","v":0},{"$f":"IF(AK23=0,0,(AK23*((LOG(AK23))/LOG(2))))","v":0},null,{"$f":"N23","v":21111},{"$f":"COUNTIF(L130:L160,AN23)","v":0},{"$f":"AO23/(AQ4-AO25)","v":0},{"$f":"IF(AP23=0,0,(AP23*((LOG(AP23))/LOG(2))))","v":0},null,{"$f":"N23","v":21111},{"$f":"COUNTIF(L161:L191,AS23)","v":0},{"$f":"AT23/(AV4-AT25)","v":0},{"$f":"IF(AU23=0,0,(AU23*((LOG(AU23))/LOG(2))))","v":0}]
[12,2208,13,2213,13,2221,14,2225,13,2237,0,11111,null,21112,{"$f":"COUNTIF($L$7:$L$500,N24)","v":0},{"$f":"O24/$Q$4","v":0},{"$f":"IF(P24=0,0,(P24*((LOG(P24))/LOG(2))))","v":0},null,null,{"$f":"N24","v":21112},{"$f":"COUNTIF(L7:L37,T24)","v":0},{"$f":"U24/(W4-U25)","v":0},{"$f":"IF(V24=0,0,(V24*((LOG(V24))/LOG(2))))","v":0},null,{"$f":"N24","v":21112},{"$f":"COUNTIF(L38:L68,Y24)","v":0},{"$f":"Z24/(AB4-Z25)","v":0},{"$f":"IF(AA24=0,0,(AA24*((LOG(AA24))/LOG(2))))","v":0},null,{"$f":"N24","v":21112},{"$f":"COUNTIF(L69:L98,AD24)","v":0},{"$f":"AE24/(AG4-AE25)","v":0},{"$f":"IF(AF24=0,0,(AF24*((LOG(AF24))/LOG(2))))","v":0},null,{"$f":"N24","v":21112},{"$f":"COUNTIF(L99:L129,AI24)","v":0},{"$f":"AJ24/(AL4-AJ25)","v":0},{"$f":"IF(AK24=0,0,(AK24*((LOG(AK24))/LOG(2))))","v":0},null,{"$f":"N24","v":21112},{"$f":"COUNTIF(L130:L160,AN24)","v":0},{"$f":"AO24/(AQ4-AO25)","v":0},{"$f":"IF(AP24=0,0,(AP24*((LOG(AP24))/LOG(2))))","v":0},null,{"$f":"N24","v":21112},{"$f":"COUNTIF(L161:L191,AS24)","v":0},{"$f":"AT24/(AV4-AT25)","v":0},{"$f":"IF(AU24=0,0,(AU24*((LOG(AU24))/LOG(2))))","v":0}]
[12,2359,13,2381,13,2385,14,2389,13,2398,0,11111,null,21121,{"$f":"COUNTIF($L$7:$L$500,N25)","v":0},{"$f":"O25/$Q$4","v":0},{"$f":"IF(P25=0,0,(P25*((LOG(P25))/LOG(2))))","v":0},null,null,{"$f":"N25","v":21121},{"$f":"COUNTIF(L7:L37,T25)","v":0},null,null,null,{"$f":"N25","v":21121},{"$f":"COUNTIF(L38:L68,Y25)","v":0},null,null,null,{"$f":"N25","v":21121},{"$f":"COUNTIF(L69:L98,AD25)","v":0},null,null,null,{"$f":"N25","v":21121},{"$f":"COUNTIF(L99:L129,AI25)","v":0},null,null,null,{"$f":"N25","v":21121},{"$f":"COUNTIF(L130:L160,AN25)","v":0},null,null,null,{"$f":"N25","v":21121},{"$f":"COUNTIF(L161:L191,AS25)","v":0}]
[12,2501,13,2506,13,2513,14,2517,13,2521,0,11111,null,21122,{"$f":"COUNTIF($L$7:$L$500,N26)","v":0},{"$f":"O26/$Q$4","v":0},{"$f":"IF(P26=0,0,(P26*((LOG(P26))/LOG(2))))","v":0},null,null,{"$f":"N26","v":21122},{"$f":"COUNTIF(L7:L37,T26)","v":0},{"$f":"U26/(W4-U25)","v":0},{"$f":"IF(V26=0,0,(V26*((LOG(V26))/LOG(2))))","v":0},null,{"$f":"N26","v":21122},{"$f":"COUNTIF(L38:L68,Y26)","v":0},{"$f":"Z26/(AB4-Z25)","v":0},{"$f":"IF(AA26=0,0,(AA26*((LOG(AA26))/LOG(2))))","v":0},null,{"$f":"N26","v":21122},{"$f":"COUNTIF(L69:L98,AD26)","v":0},{"$f":"AE26/(AG4-AE25)","v":0},{"$f":"IF(AF26=0,0,(AF26*((LOG(AF26))/LOG(2))))","v":0},null,{"$f":"N26","v":21122},{"$f":"COUNTIF(L99:L129,AI26)","v":0},{"$f":"AJ26/(AL4-AJ25)","v":0},{"$f":"IF(AK26=0,0,(AK26*((LOG(AK26))/LOG(2))))","v":0},null,{"$f":"N26","v":21122},{"$f":"COUNTIF(L130:L160,AN26)","v":0},{"$f":"AO26/(AQ4-AO25)","v":0},{"$f":"IF(AP26=0,0,(AP26*((LOG(AP26))/LOG(2))))","v":0},null,{"$f":"N26","v":21122},{"$f":"COUNTIF(L161:L191,AS26)","v":0},{"$f":"AT26/(AV4-AT25)","v":0},{"$f":"IF(AU26=0,0,(AU26*((LOG(AU26))/LOG(2))))","v":0}]
[12,2624,13,2628,13,2631,14,2635,13,2639,1,11111,null,21211,{"$f":"COUNTIF($L$7:$L$500,N27)","v":0},{"$f":"O27/$Q$4","v":0},{"$f":"IF(P27=0,0,(P27*((LOG(P27))/LOG(2))))","v":0},null,null,{"$f":"N27","v":21211},{"$f":"COUNTIF(L7:L37,T27)","v":0},{"$f":"U27/(W4-U25)","v":0},{"$f":"IF(V27=0,0,(V27*((LOG(V27))/LOG(2))))","v":0},null,{"$f":"N27","v":21211},{"$f":"COUNTIF(L38:L68,Y27)","v":0},{"$f":"Z27/(AB4-Z25)","v":0},{"$f":"IF(AA27=0,0,(AA27*((LOG(AA27))/LOG(2))))","v":0},null,{"$f":"N27","v":21211},{"$f":"COUNTIF(L69:L98,AD27)","v":0},{"$f":"AE27/(AG4-AE25)","v":0},{"$f":"IF(AF27=0,0,(AF27*((LOG(AF27))/LOG(2))))","v":0},null,{"$f":"N27","v":21211},{"$f":"COUNTIF(L99:L129,AI27)","v":0},{"$f":"AJ27/(AL4-AJ25)","v":0},{"$f":"IF(AK27=0,0,(AK27*((LOG(AK27))/LOG(2))))","v":0},null,{"$f":"N27","v":21211},{"$f":"COUNTIF(L130:L160,AN27)","v":0},{"$f":"AO27/(AQ4-AO25)","v":0},{"$f":"IF(AP27=0,0,(AP27*((LOG(AP27))/LOG(2))))","v":0},null,{"$f":"N27","v":21211},{"$f":"COUNTIF(L161:L191,AS27)","v":0},{"$f":"AT27/(AV4-AT25)","v":0},{"$f":"IF(AU27=0,0,(AU27*((LOG(AU27))/LOG(2))))","v":0}]
[12,2738,13,2755,13,2759,14,2772,13,2777,1,11111,null,21212,{"$f":"COUNTIF($L$7:$L$500,N28)","v":0},{"$f":"O28/$Q$4","v":0},{"$f":"IF(P28=0,0,(P28*((LOG(P28))/LOG(2))))","v":0},null,null,{"$f":"N28","v":21212},{"$f":"COUNTIF(L7:L37,T28)","v":0},{"$f":"U28/(W4-U25)","v":0},{"$f":"IF(V28=0,0,(V28*((LOG(V28))/LOG(2))))","v":0},null,{"$f":"N28","v":21212},{"$f":"COUNTIF(L38:L68,Y28)","v":0},{"$f":"Z28/(AB4-Z25)","v":0},{"$f":"IF(AA28=0,0,(AA28*((LOG(AA28))/LOG(2))))","v":0},null,{"$f":"N28","v":21212},{"$f":"COUNTIF(L69:L98,AD28)","v":0},{"$f":"AE28/(AG4-AE25)","v":0},{"$f":"IF(AF28=0,0,(AF28*((LOG(AF28))/LOG(2))))","v":0},null,{"$f":"N28","v":21212},{"$f":"COUNTIF(L99:L129,AI28)","v":0},{"$f":"AJ28/(AL4-AJ25)","v":0},{"$f":"IF(AK28=0,0,(AK28*((LOG(AK28))/LOG(2))))","v":0},null,{"$f":"N28","v":21212},{"$f":"COUNTIF(L130:L160,AN28)","v":0},{"$f":"AO28/(AQ4-AO25)","v":0},{"$f":"IF(AP28=0,0,(AP28*((LOG(AP28))/LOG(2))))","v":0},null,{"$f":"N28","v":21212},{"$f":"COUNTIF(L161:L191,AS28)","v":0},{"$f":"AT28/(AV4-AT25)","v":0},{"$f":"IF(AU28=0,0,(AU28*((LOG(AU28))/LOG(2))))","v":0}]
[12,2886,13,2894,13,2899,14,2903,13,2908,0,11111,null,21221,{"$f":"COUNTIF($L$7:$L$500,N29)","v":0},{"$f":"O29/$Q$4","v":0},{"$f":"IF(P29=0,0,(P29*((LOG(P29))/LOG(2))))","v":0},null,null,{"$f":"N29","v":21221},{"$f":"COUNTIF(L7:L37,T29)","v":0},{"$f":"U29/(W4-U25)","v":0},{"$f":"IF(V29=0,0,(V29*((LOG(V29))/LOG(2))))","v":0},null,{"$f":"N29","v":21221},{"$f":"COUNTIF(L38:L68,Y29)","v":0},{"$f":"Z29/(AB4-Z25)","v":0},{"$f":"IF(AA29=0,0,(AA29*((LOG(AA29))/LOG(2))))","v":0},null,{"$f":"N29","v":21221},{"$f":"COUNTIF(L69:L98,AD29)","v":0},{"$f":"AE29/(AG4-AE25)","v":0},{"$f":"IF(AF29=0,0,(AF29*((LOG(AF29))/LOG(2))))","v":0},null,{"$f":"N29","v":21221},{"$f":"COUNTIF(L99:L129,AI29)","v":0},{"$f":"AJ29/(AL4-AJ25)","v":0},{"$f":"IF(AK29=0,0,(AK29*((LOG(AK29))/LOG(2))))","v":0},null,{"$f":"N29","v":21221},{"$f":"COUNTIF(L130:L160,AN29)","v":0},{"$f":"AO29/(AQ4-AO25)","v":0},{"$f":"IF(AP29=0,0,(AP29*((LOG(AP29))/LOG(2))))","v":0},null,{"$f":"N29","v":21221},{"$f":"COUNTIF(L161:L191,AS29)","v":0},{"$f":"AT29/(AV4-AT25)","v":0},{"$f":"IF(AU29=0,0,(AU29*((LOG(AU29))/LOG(2))))","v":0}]
[12,3014,13,3019,13,3023,14,3028,13,3038,0,11111,null,21222,{"$f":"COUNTIF($L$7:$L$500,N30)","v":0},{"$f":"O30/$Q$4","v":0},{"$f":"IF(P30=0,0,(P30*((LOG(P30))/LOG(2))))","v":0},null,null,{"$f":"N30","v":21222},{"$f":"COUNTIF(L7:L37,T30)","v":0},{"$f":"U30/(W4-U25)","v":0},{"$f":"IF(V30=0,0,(V30*((LOG(V30))/LOG(2))))","v":0},null,{"$f":"N30","v":21222},{"$f":"COUNTIF(L38:L68,Y30)","v":0},{"$f":"Z30/(AB4-Z25)","v":0},{"$f":"IF(AA30=0,0,(AA30*((LOG(AA30))/LOG(2))))","v":0},null,{"$f":"N30","v":21222},{"$f":"COUNTIF(L69:L98,AD30)","v":0},{"$f":"AE30/(AG4-AE25)","v":0},{"$f":"IF(AF30=0,0,(AF30*((LOG(AF30))/LOG(2))))","v":0},null,{"$f":"N30","v":21222},{"$f":"COUNTIF(L99:L129,AI30)","v":0},{"$f":"AJ30/(AL4-AJ25)","v":0},{"$f":"IF(AK30=0,0,(AK30*((LOG(AK30))/LOG(2))))","v":0},null,{"$f":"N30","v":21222},{"$f":"COUNTIF(L130:L160,AN30)","v":0},{"$f":"AO30/(AQ4-AO25)","v":0},{"$f":"IF(AP30=0,0,(AP30*((LOG(AP30))/LOG(2))))","v":0},null,{"$f":"N30","v":21222},{"$f":"COUNTIF(L161:L191,AS30)","v":0},{"$f":"AT30/(AV4-AT25)","v":0},{"$f":"IF(AU30=0,0,(AU30*((LOG(AU30))/LOG(2))))","v":0}]
[12,3141,13,3145,13,3151,14,3159,13,3168,0,11111,null,22111,{"$f":"COUNTIF($L$7:$L$500,N31)","v":0},{"$f":"O31/$Q$4","v":0},{"$f":"IF(P31=0,0,(P31*((LOG(P31))/LOG(2))))","v":0},null,null,{"$f":"N31","v":22111},{"$f":"COUNTIF(L7:L37,T31)","v":0},{"$f":"U31/(W4-U25)","v":0},{"$f":"IF(V31=0,0,(V31*((LOG(V31))/LOG(2))))","v":0},null,{"$f":"N31","v":22111},{"$f":"COUNTIF(L38:L68,Y31)","v":0},{"$f":"Z31/(AB4-Z25)","v":0},{"$f":"IF(AA31=0,0,(AA31*((LOG(AA31))/LOG(2))))","v":0},null,{"$f":"N31","v":22111},{"$f":"COUNTIF(L69:L98,AD31)","v":0},{"$f":"AE31/(AG4-AE25)","v":0},{"$f":"IF(AF31=0,0,(AF31*((LOG(AF31))/LOG(2))))","v":0},null,{"$f":"N31","v":22111},{"$f":"COUNTIF(L99:L129,AI31)","v":0},{"$f":"AJ31/(AL4-AJ25)","v":0},{"$f":"IF(AK31=0,0,(AK31*((LOG(AK31))/LOG(2))))","v":0},null,{"$f":"N31","v":22111},{"$f":"COUNTIF(L130:L160,AN31)","v":0},{"$f":"AO31/(AQ4-AO25)","v":0},{"$f":"IF(AP31=0,0,(AP31*((LOG(AP31))/LOG(2))))","v":0},null,{"$f":"N31","v":22111},{"$f":"COUNTIF(L161:L191,AS31)","v":0},{"$f":"AT31/(AV4-AT25)","v":0},{"$f":"IF(AU31=0,0,(AU31*((LOG(AU31))/LOG(2))))","v":0}]
[12,3270,13,3279,13,3283,14,3292,13,3297,0,11111,null,22112,{"$f":"COUNTIF($L$7:$L$500,N32)","v":0},{"$f":"O32/$Q$4","v":0},{"$f":"IF(P32=0,0,(P32*((LOG(P32))/LOG(2))))","v":0},null,null,{"$f":"N32","v":22112},{"$f":"COUNTIF(L7:L37,T32)","v":0},{"$f":"U32/(W4-U25)","v":0},{"$f":"IF(V32=0,0,(V32*((LOG(V32))/LOG(2))))","v":0},null,{"$f":"N32","v":22112},{"$f":"COUNTIF(L38:L68,Y32)","v":0},{"$f":"Z32/(AB4-Z25)","v":0},{"$f":"IF(AA32=0,0,(AA32*((LOG(AA32))/LOG(2))))","v":0},null,{"$f":"N32","v":22112},{"$f":"COUNTIF(L69:L98,AD32)","v":0},{"$f":"AE32/(AG4-AE25)","v":0},{"$f":"IF(AF32=0,0,(AF32*((LOG(AF32))/LOG(2))))","v":0},null,{"$f":"N32","v":22112},{"$f":"COUNTIF(L99:L129,AI32)","v":0},{"$f":"AJ32/(AL4-AJ25)","v":0},{"$f":"IF(AK32=0,0,(AK32*((LOG(AK32))/LOG(2))))","v":0},null,{"$f":"N32","v":22112},{"$f":"COUNTIF(L130:L160,AN32)","v":0},{"$f":"AO32/(AQ4-AO25)","v":0},{"$f":"IF(AP32=0,0,(AP32*((LOG(AP32))/LOG(2))))","v":0},null,{"$f":"N32","v":22112},{"$f":"COUNTIF(L161:L191,AS32)","v":0},{"$f":"AT32/(AV4-AT25)","v":0},{"$f":"IF(AU32=0,0,(AU32*((LOG(AU32))/LOG(2))))","v":0}]
[12,3399,13,3406,13,3411,14,3415,13,3432,0,11111,null,22121,{"$f":"COUNTIF($L$7:$L$500,N33)","v":0},{"$f":"O33/$Q$4","v":0},{"$f":"IF(P33=0,0,(P33*((LOG(P33))/LOG(2))))","v":0},null,null,{"$f":"N33","v":22121},{"$f":"COUNTIF(L7:L37,T33)","v":0},{"$f":"U33/(W4-U25)","v":0},{"$f":"IF(V33=0,0,(V33*((LOG(V33))/LOG(2))))","v":0},null,{"$f":"N33","v":22121},{"$f":"COUNTIF(L38:L68,Y33)","v":0},{"$f":"Z33/(AB4-Z25)","v":0},{"$f":"IF(AA33=0,0,(AA33*((LOG(AA33))/LOG(2))))","v":0},null,{"$f":"N33","v":22121},{"$f":"COUNTIF(L69:L98,AD33)","v":0},{"$f":"AE33/(AG4-AE25)","v":0},{"$f":"IF(AF33=0,0,(AF33*((LOG(AF33))/LOG(2))))","v":0},null,{"$f":"N33","v":22121},{"$f":"COUNTIF(L99:L129,AI33)","v":0},{"$f":"AJ33/(AL4-AJ25)","v":0},{"$f":"IF(AK33=0,0,(AK33*((LOG(AK33))/LOG(2))))","v":0},null,{"$f":"N33","v":22121},{"$f":"COUNTIF(L130:L160,AN33)","v":0},{"$f":"AO33/(AQ4-AO25)","v":0},{"$f":"IF(AP33=0,0,(AP33*((LOG(AP33))/LOG(2))))","v":0},null,{"$f":"N33","v":22121},{"$f":"COUNTIF(L161:L191,AS33)","v":0},{"$f":"AT33/(AV4-AT25)","v":0},{"$f":"IF(AU33=0,0,(AU33*((LOG(AU33))/LOG(2))))","v":0}]
[12,3536,13,3540,13,3544,14,3548,13,3559,0,11111,null,22122,{"$f":"COUNTIF($L$7:$L$500,N34)","v":0},{"$f":"O34/$Q$4","v":0},{"$f":"IF(P34=0,0,(P34*((LOG(P34))/LOG(2))))","v":0},null,null,{"$f":"N34","v":22122},{"$f":"COUNTIF(L7:L37,T34)","v":0},{"$f":"U34/(W4-U25)","v":0},{"$f":"IF(V34=0,0,(V34*((LOG(V34))/LOG(2))))","v":0},null,{"$f":"N34","v":22122},{"$f":"COUNTIF(L38:L68,Y34)","v":0},{"$f":"Z34/(AB4-Z25)","v":0},{"$f":"IF(AA34=0,0,(AA34*((LOG(AA34))/LOG(2))))","v":0},null,{"$f":"N34","v":22122},{"$f":"COUNTIF(L69:L98,AD34)","v":0},{"$f":"AE34/(AG4-AE25)","v":0},{"$f":"IF(AF34=0,0,(AF34*((LOG(AF34))/LOG(2))))","v":0},null,{"$f":"N34","v":22122},{"$f":"COUNTIF(L99:L129,AI34)","v":0},{"$f":"AJ34/(AL4-AJ25)","v":0},{"$f":"IF(AK34=0,0,(AK34*((LOG(AK34))/LOG(2))))","v":0},null,{"$f":"N34","v":22122},{"$f":"COUNTIF(L130:L160,AN34)","v":0},{"$f":"AO34/(AQ4-AO25)","v":0},{"$f":"IF(AP34=0,0,(AP34*((LOG(AP34))/LOG(2))))","v":0},null,{"$f":"N34","v":22122},{"$f":"COUNTIF(L161:L191,AS34)","v":0},{"$f":"AT34/(AV4-AT25)","v":0},{"$f":"IF(AU34=0,0,(AU34*((LOG(AU34))/LOG(2))))","v":0}]
[12,3675,13,3679,13,3683,14,3690,13,3702,0,11111,null,22211,{"$f":"COUNTIF($L$7:$L$500,N35)","v":0},{"$f":"O35/$Q$4","v":0},{"$f":"IF(P35=0,0,(P35*((LOG(P35))/LOG(2))))","v":0},null,null,{"$f":"N35","v":22211},{"$f":"COUNTIF(L7:L37,T35)","v":0},{"$f":"U35/(W4-U25)","v":0},{"$f":"IF(V35=0,0,(V35*((LOG(V35))/LOG(2))))","v":0},null,{"$f":"N35","v":22211},{"$f":"COUNTIF(L38:L68,Y35)","v":0},{"$f":"Z35/(AB4-Z25)","v":0},{"$f":"IF(AA35=0,0,(AA35*((LOG(AA35))/LOG(2))))","v":0},null,{"$f":"N35","v":22211},{"$f":"COUNTIF(L69:L98,AD35)","v":0},{"$f":"AE35/(AG4-AE25)","v":0},{"$f":"IF(AF35=0,0,(AF35*((LOG(AF35))/LOG(2))))","v":0},null,{"$f":"N35","v":22211},{"$f":"COUNTIF(L99:L129,AI35)","v":0},{"$f":"AJ35/(AL4-AJ25)","v":0},{"$f":"IF(AK35=0,0,(AK35*((LOG(AK35))/LOG(2))))","v":0},null,{"$f":"N35","v":22211},{"$f":"COUNTIF(L130:L160,AN35)","v":0},{"$f":"AO35/(AQ4-AO25)","v":0},{"$f":"IF(AP35=0,0,(AP35*((LOG(AP35))/LOG(2))))","v":0},null,{"$f":"N35","v":22211},{"$f":"COUNTIF(L161:L191,AS35)","v":0},{"$f":"AT35/(AV4-AT25)","v":0},{"$f":"IF(AU35=0,0,(AU35*((LOG(AU35))/LOG(2))))","v":0}]
[12,3806,13,3816,13,3820,14,3824,13,3832,1,11111,null,22212,{"$f":"COUNTIF($L$7:$L$500,N36)","v":0},{"$f":"O36/$Q$4","v":0},{"$f":"IF(P36=0,0,(P36*((LOG(P36))/LOG(2))))","v":0},null,null,{"$f":"N36","v":22212},{"$f":"COUNTIF(L7:L37,T36)","v":0},{"$f":"U36/(W4-U25)","v":0},{"$f":"IF(V36=0,0,(V36*((LOG(V36))/LOG(2))))","v":0},null,{"$f":"N36","v":22212},{"$f":"COUNTIF(L38:L68,Y36)","v":0},{"$f":"Z36/(AB4-Z25)","v":0},{"$f":"IF(AA36=0,0,(AA36*((LOG(AA36))/LOG(2))))","v":0},null,{"$f":"N36","v":22212},{"$f":"COUNTIF(L69:L98,AD36)","v":0},{"$f":"AE36/(AG4-AE25)","v":0},{"$f":"IF(AF36=0,0,(AF36*((LOG(AF36))/LOG(2))))","v":0},null,{"$f":"N36","v":22212},{"$f":"COUNTIF(L99:L129,AI36)","v":0},{"$f":"AJ36/(AL4-AJ25)","v":0},{"$f":"IF(AK36=0,0,(AK36*((LOG(AK36))/LOG(2))))","v":0},null,{"$f":"N36","v":22212},{"$f":"COUNTIF(L130:L160,AN36)","v":0},{"$f":"AO36/(AQ4-AO25)","v":0},{"$f":"IF(AP36=0,0,(AP36*((LOG(AP36))/LOG(2))))","v":0},null,{"$f":"N36","v":22212},{"$f":"COUNTIF(L161:L191,AS36)","v":0},{"$f":"AT36/(AV4-AT25)","v":0},{"$f":"IF(AU36=0,0,(AU36*((LOG(AU36))/LOG(2))))","v":0}]
[12,3938,13,3947,13,3951,14,3956,13,3964,0,11111,null,22221,{"$f":"COUNTIF($L$7:$L$500,N37)","v":0},{"$f":"O37/$Q$4","v":0},{"$f":"IF(P37=0,0,(P37*((LOG(P37))/LOG(2))))","v":0},null,null,{"$f":"N37","v":22221},{"$f":"COUNTIF(L7:L37,T37)","v":0},{"$f":"U37/(W4-U25)","v":0},{"$f":"IF(V37=0,0,(V37*((LOG(V37))/LOG(2))))","v":0},null,{"$f":"N37","v":22221},{"$f":"COUNTIF(L38:L68,Y37)","v":0},{"$f":"Z37/(AB4-Z25)","v":0},{"$f":"IF(AA37=0,0,(AA37*((LOG(AA37))/LOG(2))))","v":0},null,{"$f":"N37","v":22221},{"$f":"COUNTIF(L69:L98,AD37)","v":0},{"$f":"AE37/(AG4-AE25)","v":0},{"$f":"IF(AF37=0,0,(AF37*((LOG(AF37))/LOG(2))))","v":0},null,{"$f":"N37","v":22221},{"$f":"COUNTIF(L99:L129,AI37)","v":0},{"$f":"AJ37/(AL4-AJ25)","v":0},{"$f":"IF(AK37=0,0,(AK37*((LOG(AK37))/LOG(2))))","v":0},null,{"$f":"N37","v":22221},{"$f":"COUNTIF(L130:L160,AN37)","v":0},{"$f":"AO37/(AQ4-AO25)","v":0},{"$f":"IF(AP37=0,0,(AP37*((LOG(AP37))/LOG(2))))","v":0},null,{"$f":"N37","v":22221},{"$f":"COUNTIF(L161:L191,AS37)","v":0},{"$f":"AT37/(AV4-AT25)","v":0},{"$f":"IF(AU37=0,0,(AU37*((LOG(AU37))/LOG(2))))","v":0}]
[12,4064,13,4068,13,4072,14,4076,13,4080,0,11111,null,22222,{"$f":"COUNTIF($L$7:$L$500,N38)","v":2},{"$f":"O38/$Q$4","v":1.0810810810810811E-2},{"$f":"IF(P38=0,0,(P38*((LOG(P38))/LOG(2))))","v":-7.0609529302879045E-2},null,null,{"$f":"N38","v":22222},{"$f":"COUNTIF(L7:L37,T38)","v":1},{"$f":"U38/(W4-U25)","v":3.2258064516129031E-2},{"$f":"IF(V38=0,0,(V38*((LOG(V38))/LOG(2))))","v":-0.15981278420602821},null,{"$f":"N38","v":22222},{"$f":"COUNTIF(L38:L68,Y38)","v":0},{"$f":"Z38/(AB4-Z25)","v":0},{"$f":"IF(AA38=0,0,(AA38*((LOG(AA38))/LOG(2))))","v":0},null,{"$f":"N38","v":22222},{"$f":"COUNTIF(L69:L98,AD38)","v":0},{"$f":"AE38/(AG4-AE25)","v":0},{"$f":"IF(AF38=0,0,(AF38*((LOG(AF38))/LOG(2))))","v":0},null,{"$f":"N38","v":22222},{"$f":"COUNTIF(L99:L129,AI38)","v":0},{"$f":"AJ38/(AL4-AJ25)","v":0},{"$f":"IF(AK38=0,0,(AK38*((LOG(AK38))/LOG(2))))","v":0},null,{"$f":"N38","v":22222},{"$f":"COUNTIF(L130:L160,AN38)","v":1},{"$f":"AO38/(AQ4-AO25)","v":3.2258064516129031E-2},{"$f":"IF(AP38=0,0,(AP38*((LOG(AP38))/LOG(2))))","v":-0.15981278420602821},null,{"$f":"N38","v":22222},{"$f":"COUNTIF(L161:L191,AS38)","v":0},{"$f":"AT38/(AV4-AT25)","v":0},{"$f":"IF(AU38=0,0,(AU38*((LOG(AU38))/LOG(2))))","v":0}]
[12,4180,13,4185,13,4189,14,4193,13,4197,0,11111,null,null,null,{"$f":"SUM(P7:P38)","v":1},{"$f":"-SUM(Q7:Q38)","v":0.17207278180247337},null,null,null,null,{"$f":"SUM(V7:V38)","v":1},{"$f":"-SUM(W7:W38)","v":0.20559250818508301},null,null,null,{"$f":"SUM(AA7:AA38)","v":1},{"$f":"-SUM(AB7:AB38)","v":0},null,null,null,{"$f":"SUM(AF7:AF38)","v":1},{"$f":"-SUM(AG7:AG38)","v":0},null,null,null,{"$f":"SUM(AK7:AK38)","v":1},{"$f":"-SUM(AL7:AL38)","v":0.20559250818508301},null,null,null,{"$f":"SUM(AP7:AP38)","v":1},{"$f":"-SUM(AQ7:AQ38)","v":0.20559250818508301},null,null,null,{"$f":"SUM(AU7:AU38)","v":1},{"$f":"-SUM(AV7:AV38)","v":0.20559250818508301}]
[12,4299,13,4314,13,4322,14,4332,13,4346,0,11111,null,null,null,"U=",{"$f":"Q39/(LOG(Q4)/LOG(2))","v":2.2847439437847433E-2},null,null,null,null,"U1=",{"$f":"W39/(LOG(W4)/LOG(2))","v":4.1498659985281898E-2},null,null,null,"U2=",{"$f":"AB39/(LOG(AB4)/LOG(2))","v":0},null,null,null,"U3=",{"$f":"AG39/(LOG(AG4)/LOG(2))","v":0},null,null,null,"U4=",{"$f":"AL39/(LOG(AL4)/LOG(2))","v":4.1498659985281898E-2},null,null,null,"U5=",{"$f":"AQ39/(LOG(AQ4)/LOG(2))","v":4.1498659985281898E-2},null,null,null,"U6=",{"$f":"AV39/(LOG(AV4)/LOG(2))","v":4.1498659985281898E-2}]
[12,4464,13,4480,13,4484,14,4493,13,4504,0,11111]
[12,4605,13,4610,13,4614,14,4623,13,4628,0,11111]
[12,4730,13,4734,13,4739,14,4742,13,4747,0,11111,null,"Total Target Seq"]
[12,4846,13,4850,13,4854,14,4858,13,4862,0,11111,null,{"$f":"COUNTIF(L7:L191,G3)","v":0},null,31,31,30,31,31,31]
[12,4963,13,4967,13,4972,14,4977,13,4981,0,11111,null,null,null,"% of reinforcement given in 6 equal intervals based on number of trials "]
[12,5083,13,5091,13,5095,14,5099,13,5104,0,11111,null,null,null,"%_1","%_2","%_3","%_4","%_5","%_6"]
[12,5210,13,5214,13,5218,14,5223,13,5232,0,11111,null,null,"target sequence",{"$f":"$G$3","v":21121},{"$f":"$G$3","v":21121},{"$f":"$G$3","v":21121},{"$f":"$G$3","v":21121},{"$f":"$G$3","v":21121},{"$f":"$G$3","v":21121}]
[12,5337,13,5341,13,5345,14,5349,13,5353,1,11111,null,null,"total reinforcement",{"$f":"U25","v":0},{"$f":"Z25","v":0},{"$f":"AE25","v":0},{"$f":"AJ25","v":0},{"$f":"AO25","v":0},{"$f":"AT25","v":0}]
[12,5451,13,5466,13,5471,14,5476,13,5484,0,11111,null,null,"% target"]
[12,5585,13,5590,13,5599,14,5610,13,5615,1,11111,null,null,"CCRF"]
[12,5714,13,5718,13,5722,14,5727,13,5735,0,11111,null,null,"% CCRf"]
[12,5835,13,5840,13,5844,14,5848,13,5852,0,11111,null,null,"average response rate",{"$f":"J37/P44","v":127.87096774193549},{"$f":"(J68-J37)/Q44","v":127.87096774193549},{"$f":"(J98-J68)/R44","v":124.8},{"$f":"(J129-J98)/S44","v":133.96774193548387},{"$f":"(J160-J129)/T44","v":132.09677419354838},{"$f":"(J191-J160)/U44","v":130.16129032258064}]
[12,5970,13,5975,13,5979,14,5985,13,5990,0,11111]
[12,6098,13,6103,13,6107,14,6112,13,6125,0,11111]
[12,6227,13,6234,13,6239,14,6243,13,6248,0,11111]
[12,6354,13,6360,13,6365,14,6374,13,6379,0,11111]
[12,6489,13,6493,13,6498,14,6504,13,6513,0,11111]
[12,6619,13,6623,13,6627,14,6631,13,6641,0,11111]
[12,6745,13,6750,13,6754,14,6760,13,6765,0,11111]
[12,6881,13,6886,13,6891,14,6905,13,6910,0,11111]
[12,7019,13,7024,13,7030,14,7035,13,7053,1,11111]
[12,7157,13,7164,13,7168,14,7172,13,7176,0,11111]
[12,7276,13,7280,13,7288,14,7295,13,7299,0,11111]
[12,7409,13,7413,13,7419,14,7423,13,7429,0,11111]
[12,7532,13,7538,13,7547,14,7552,13,7565,0,11111]
[12,7669,13,7673,13,7677,14,7684,13,7688,0,11111]
[12,7792,13,7796,13,7800,14,7804,13,7813,1,11111]
[12,7910,13,7914,13,7919,14,7924,13,7928,0,11111]
[12,8029,13,8033,13,8038,14,8042,13,8046,0,11111]
[12,8145,13,8153,13,8157,14,8162,13,8171,0,11111]
[12,8273,13,8282,13,8286,14,8290,13,8300,0,11111]
[12,8407,13,8412,13,8416,14,8420,13,8424,1,11111]
[12,8523,13,8532,13,8536,14,8544,13,8549,0,11111]
[12,8647,13,8651,13,8656,14,8660,13,8664,0,11111]
[12,8777,13,8782,13,8786,14,8790,13,8795,1,11111]
[12,8890,13,8897,13,8905,14,8910,13,8925,0,11111]
[12,9028,13,9032,13,9036,14,9040,13,9052,0,11111]
[12,9157,13,9160,13,9164,14,9168,13,9173,0,11111]
[12,9281,13,9285,13,9289,14,9293,13,9297,1,11111]
[12,9398,13,9406,13,9410,14,9418,13,9434,0,11111]
[12,9541,13,9545,13,9553,14,9558,13,9563,0,11111]
[12,9666,13,9670,13,9674,14,9686,13,9693,0,11111]
[12,9798,13,9803,13,9807,14,9815,13,9820,0,11111]
[12,9922,13,9926,13,9930,14,9934,13,9938,1,11111]
[12,10036,13,10041,13,10045,14,10049,13,10054,0,11111]
[12,10161,13,10169,13,10173,14,10177,13,10185,1,11111]
[12,10287,13,10295,13,10300,14,10310,13,10318,0,11111]
[12,10428,13,10437,13,10444,14,10449,13,10454,0,11111]
[12,10557,13,10561,13,10565,14,10570,13,10575,0,11111]
[12,10680,13,10686,13,10694,14,10699,13,10708,0,11111]
[12,10808,13,10812,13,10816,14,10821,13,10825,0,11111]
[12,10923,13,10928,13,10936,14,10944,13,10952,1,11111]
[12,11048,13,11053,13,11057,14,11062,13,11067,0,11111]
[12,11174,13,11178,13,11182,14,11186,13,11196,0,11111]
[12,11294,13,11298,13,11302,14,11306,13,11311,0,11111]
[12,11418,13,11422,13,11427,14,11430,13,11435,0,11111]
[12,11535,13,11540,13,11544,14,11548,13,11552,0,11111]
[12,11655,13,11659,13,11663,14,11668,13,11672,1,11111]
[12,11786,13,11790,13,11795,14,11799,13,11803,0,11111]
[12,11906,13,11910,13,11914,14,11921,13,11930,0,11111]
[12,12045,13,12055,13,12063,14,12068,13,12077,1,11111]
[12,12183,13,12190,13,12195,14,12200,13,12213,0,11111]
[12,12315,13,12319,13,12328,14,12340,13,12346,0,11111]
[12,12446,13,12450,13,12457,14,12461,13,12469,0,11111]
[12,12575,13,12579,13,12584,14,12588,13,12592,0,11111]
[12,12711,13,12717,13,12722,14,12726,13,12733,0,11111]
[12,12846,13,12851,13,12856,14,12865,13,12877,0,11111]
[12,12987,13,12994,13,12999,14,13008,13,13012,1,11111]
[12,13115,13,13119,13,13123,14,13128,13,13133,0,11111]
[12,13239,13,13243,13,13247,14,13252,13,13264,0,11111]
[12,13366,13,13372,13,13376,14,13380,13,13384,0,11111]
[12,13495,13,13503,13,13511,14,13516,13,13533,0,11111]
[12,13648,13,13652,13,13660,14,13668,13,13673,0,11111]
[12,13795,13,13800,13,13804,14,13818,13,13823,0,11111]
[12,13927,13,13931,13,13935,14,13939,13,13951,0,11111]
[12,14063,13,14067,13,14071,14,14075,13,14080,1,11111]
[12,14182,13,14190,13,14199,14,14214,13,14218,0,11111]
[12,14326,13,14338,13,14343,14,14358,13,14363,0,11111]
[12,14463,13,14470,13,14474,14,14479,13,14483,0,11111]
[12,14581,13,14585,13,14588,14,14593,13,14596,0,11111]
[12,14706,13,14715,13,14729,14,14749,13,14754,0,11111]
[12,14865,13,14869,13,14873,14,14878,13,14886,0,11111]
[12,14989,13,14994,13,14998,14,15002,13,15007,0,11111]
[12,15109,13,15113,13,15129,14,15139,13,15148,1,11111]
[12,15266,24,15289,24,15294,23,15300,24,15315,0,12222]
[12,15419,13,15425,13,15430,14,15434,13,15438,0,11111]
[12,15552,13,15556,13,15561,14,15566,13,15584,0,11111]
[12,15683,13,15691,13,15695,14,15699,13,15703,1,11111]
[12,15809,13,15813,13,15817,14,15821,13,15825,0,11111]
[12,15924,13,15932,13,15936,14,15940,13,15944,0,11111]
[12,16048,13,16055,13,16064,14,16069,13,16078,0,11111]
[12,16192,13,16196,13,16201,14,16206,13,16210,0,11111]
[12,16319,13,16324,13,16332,14,16337,13,16343,0,11111]
[12,16456,13,16474,13,16479,14,16485,13,16492,0,11111]
[12,16596,13,16600,13,16604,14,16608,13,16613,0,11111]
[12,16712,13,16720,13,16728,14,16735,13,16739,0,11111]
[12,16843,13,16847,13,16852,14,16856,13,16860,1,11111]
[12,16960,13,16965,13,16969,14,16973,13,16987,1,11111]
[12,17089,13,17094,13,17104,14,17109,13,17114,0,11111]
[12,17221,13,17225,13,17233,14,17241,13,17249,0,11111]
[12,17358,13,17362,13,17367,14,17372,13,17376,0,11111]
[12,17481,13,17485,13,17492,14,17496,13,17500,0,11111]
[12,17613,13,17618,13,17627,14,17641,13,17646,0,11111]
[12,17745,13,17749,13,17752,14,17756,13,17765,0,11111]
[12,17869,13,17873,13,17880,14,17884,13,17889,0,11111]
[12,18002,13,18006,13,18011,14,18016,13,18028,0,11111]
[12,18131,13,18139,13,18144,14,18149,13,18157,0,11111]
[12,18262,13,18266,13,18270,14,18274,13,18279,0,11111]
[12,18381,13,18385,13,18390,14,18398,13,18403,1,11111]
[21,18565,22,18572,24,18583,23,18587,24,18591,1,22222]
[12,18712,13,18716,13,18720,14,18725,13,18729,0,11111]
[12,18829,13,18833,13,18847,14,18852,13,18856,0,11111]
[12,18960,13,18964,13,18968,14,18972,13,18977,1,11111]
[12,19078,13,19088,13,19093,14,19097,13,19102,0,11111]
[12,19211,13,19216,13,19221,14,19226,13,19236,0,11111]
[12,19343,13,19347,13,19353,14,19358,13,19363,0,11111]
[12,19463,13,19466,13,19470,14,19474,13,19478,0,11111]
[12,19604,13,19610,13,19619,14,19624,13,19637,0,11111]
[12,19745,13,19750,13,19757,14,19762,13,19771,0,11111]
[12,19874,13,19883,13,19888,14,19915,13,19920,0,11111]
[12,20020,13,20026,13,20030,14,20034,13,20038,0,11111]
[12,20139,13,20147,13,20154,14,20162,13,20166,0,11111]
[12,20277,13,20281,13,20285,14,20290,13,20294,0,11111]
[12,20396,13,20401,13,20405,14,20409,13,20414,1,11111]
[12,20530,13,20534,13,20539,14,20543,13,20548,1,11111]
[12,20661,24,20680,24,20696,23,20742,24,20748,0,12222]
[12,20857,13,20866,13,20875,14,20880,13,20884,1,11111]
[12,20984,13,20988,13,20992,14,20996,13,21001,0,11111]
[12,21100,13,21104,13,21108,14,21116,13,21120,0,11111]
[12,21220,13,21224,13,21228,14,21233,13,21237,1,11111]
[12,21343,13,21347,13,21353,14,21364,13,21369,0,11111]
[12,21487,13,21491,13,21496,14,21501,13,21505,0,11111]
[12,21603,13,21612,13,21620,14,21624,13,21629,0,11111]
[12,21731,13,21736,13,21740,14,21744,13,21748,1,11111]
[12,21849,13,21857,13,21864,14,21870,13,21875,0,11111]
[12,21980,13,21988,13,21992,14,21996,13,22001,0,11111]
[12,22111,13,22115,13,22119,14,22124,13,22133,0,11111]
[12,22231,13,22235,13,22243,14,22250,13,22255,1,11111]
[12,22361,13,22366,13,22370,14,22382,13,22388,0,11111]
[12,22500,13,22508,13,22513,14,22521,13,22525,0,11111]
[12,22624,13,22629,13,22636,14,22641,13,22651,0,11111]
[12,22762,13,22766,13,22771,14,22775,13,22781,0,11111]
[12,22884,13,22888,13,22892,14,22897,13,22908,1,11111]
[12,23011,13,23015,13,23021,14,23025,13,23030,0,11111]
[12,23127,13,23131,13,23139,14,23143,13,23149,0,11111]
[12,23256,13,23263,13,23268,14,23281,13,23286,0,11111]
[12,23385,13,23389,13,23397,14,23402,13,23406,0,11111]
[12,23510,13,23514,13,23518,14,23522,13,23531,0,11111]
[12,23634,13,23646,13,23659,14,23667,13,23676,1,11111]
[12,23772,13,23785,13,23789,14,23793,13,23797,0,11111]
[12,23917,13,23926,13,23933,14,23937,13,23955,null,11111]

{"sheet":"!MC08950.010","index":11,"n_rows":183,"n_cols":48,"rows_kept":183,"cut":false,"hidden":false,"merged":[[4,39,4,42],[5,39,5,40],[4,44,4,47],[5,44,5,45],[4,24,4,27],[5,24,5,25],[4,29,4,32],[5,29,5,30],[4,34,4,37],[5,34,5,35],[1,1,1,2],[5,13,5,14],[42,13,42,14],[43,13,43,14],[4,19,4,22],[5,19,5,20]]}
["Report for:!MC08950.010"]
["Date:","<date>"]
["Hen:","<hen>",null,null,null,"Correct Sequence",{"$f":"Start!J2","v":21121},null,null,null,null,null,null,null,null,"Total Sequences in Data",{"$f":"4994-COUNTBLANK(L7:L5000)","v":177},null,null,null,null,"Total Sequences in Block Data",{"$f":"COUNTA(L7:L36)","v":30},null,null,null,"Total Sequences in Block Data",{"$f":"COUNTA(L37:L65)","v":29},null,null,null,"Total Sequences in Block Data",{"$f":"COUNTA(L66:L95)","v":30},null,null,null,"Total Sequences in Block Data",{"$f":"COUNTA(L96:L124)","v":29},null,null,null,"Total Sequences in Block Data",{"$f":"COUNTA(L125:L154)","v":30},null,null,null,"Total Sequences in Block Data",{"$f":"COUNTA(L155:L183)","v":29}]
[null,null,null,null,null,null,null,null,null,null,null,null,null,null,null,"Total Sequences in Summary",{"$f":"SUM(O7:O38)","v":177},null,null,null,null,"Total Sequences in Block Summary",{"$f":"SUM(U7:U38)","v":30},null,null,null,"Total Sequences in Block Summary",{"$f":"SUM(Z7:Z38)","v":29},null,null,null,"Total Sequences in Block Summary",{"$f":"SUM(AE7:AE38)","v":30},null,null,null,"Total Sequences in Block Summary",{"$f":"SUM(AJ7:AJ38)","v":29},null,null,null,"Total Sequences in Block Summary",{"$f":"SUM(AO7:AO38)","v":30},null,null,null,"Total Sequences in Block Summary",{"$f":"SUM(AT7:AT38)","v":29}]
[null,null,null,null,null,null,null,null,null,null,null,null,null,null,null,null,null,null,null,"Block 1",null,null,null,null,"Block 2",null,null,null,null,"Block 3",null,null,null,null,"Block 4",null,null,null,null,"Block 5",null,null,null,null,"Block 6"]
["Sequence\nComponent\n1","Time\n1","Sequence\nComponent\n2","Time\n2","Sequence\nComponent\n3","Time\n3","Sequence\nComponent\n4","Time\n4","Sequence\nComponent\n5","Time\n5","Correct?\n0=No 1=Yes","Sequence",null,"Frequency",null,"Relative Frequency","Variability",null,null,"Frequency",null,"Relative Frequency","Variability",null,"Frequency",null,"Relative Frequency","Variability",null,"Frequency",null,"Relative Frequency","Variability",null,"Frequency",null,"Relative Frequency","Variability",null,"Frequency",null,"Relative Frequency","Variability",null,"Frequency",null,"Relative Frequency","Variability"]
[12,23,13,28,13,33,14,38,13,42,0,11111,null,11111,{"$f":"COUNTIF($L$7:$L$500,N7)","v":170},{"$f":"O7/$Q$4","v":0.96045197740112997},{"$f":"IF(P7=0,0,(P7*((LOG(P7))/LOG(2))))","v":-5.5912341077402589E-2},null,null,{"$f":"N7","v":11111},{"$f":"COUNTIF(L7:L36,T7)","v":30},{"$f":"U7/(W4-U25)","v":1},{"$f":"IF(V7=0,0,(V7*((LOG(V7))/LOG(2))))","v":0},null,{"$f":"N7","v":11111},{"$f":"COUNTIF(L37:L65,Y7)","v":27},{"$f":"Z7/(AB4-Z25)","v":0.93103448275862066},{"$f":"IF(AA7=0,0,(AA7*((LOG(AA7))/LOG(2))))","v":-9.5983596897613724E-2},null,{"$f":"N7","v":11111},{"$f":"COUNTIF(L66:L95,AD7)","v":27},{"$f":"AE7/(AG4-AE25)","v":0.9},{"$f":"IF(AF7=0,0,(AF7*((LOG(AF7))/LOG(2))))","v":-0.13680278410054494},null,{"$f":"N7","v":11111},{"$f":"COUNTIF(L96:L124,AI7)","v":29},{"$f":"AJ7/(AL4-AJ25)","v":1},{"$f":"IF(AK7=0,0,(AK7*((LOG(AK7))/LOG(2))))","v":0},null,{"$f":"N7","v":11111},{"$f":"COUNTIF(L125:L154,AN7)","v":28},{"$f":"AO7/(AQ4-AO25)","v":0.93333333333333335},{"$f":"IF(AP7=0,0,(AP7*((LOG(AP7))/LOG(2))))","v":-9.2899961980853443E-2},null,{"$f":"N7","v":11111},{"$f":"COUNTIF(L155:L183,AS7)","v":29},{"$f":"AT7/(AV4-AT25)","v":1},{"$f":"IF(AU7=0,0,(AU7*((LOG(AU7))/LOG(2))))","v":0}]
[12,147,13,152,13,157,14,162,13,167,0,11111,null,11112,{"$f":"COUNTIF($L$7:$L$500,N8)","v":1},{"$f":"O8/$Q$4","v":5.6497175141242938E-3},{"$f":"IF(P8=0,0,(P8*((LOG(P8))/LOG(2))))","v":-4.2189861864875694E-2},null,null,{"$f":"N8","v":11112},{"$f":"COUNTIF(L7:L36,T8)","v":0},{"$f":"U8/(W4-U25)","v":0},{"$f":"IF(V8=0,0,(V8*((LOG(V8))/LOG(2))))","v":0},null,{"$f":"N8","v":11112},{"$f":"COUNTIF(L37:L65,Y8)","v":0},{"$f":"Z8/(AB4-Z25)","v":0},{"$f":"IF(AA8=0,0,(AA8*((LOG(AA8))/LOG(2))))","v":0},null,{"$f":"N8","v":11112},{"$f":"COUNTIF(L66:L95,AD8)","v":1},{"$f":"AE8/(AG4-AE25)","v":3.3333333333333333E-2},{"$f":"IF(AF8=0,0,(AF8*((LOG(AF8))/LOG(2))))","v":-0.16356301985361729},null,{"$f":"N8","v":11112},{"$f":"COUNTIF(L96:L124,AI8)","v":0},{"$f":"AJ8/(AL4-AJ25)","v":0},{"$f":"IF(AK8=0,0,(AK8*((LOG(AK8))/LOG(2))))","v":0},null,{"$f":"N8","v":11112},{"$f":"COUNTIF(L125:L154,AN8)","v":0},{"$f":"AO8/(AQ4-AO25)","v":0},{"$f":"IF(AP8=0,0,(AP8*((LOG(AP8))/LOG(2))))","v":0},null,{"$f":"N8","v":11112},{"$f":"COUNTIF(L155:L183,AS8)","v":0},{"$f":"AT8/(AV4-AT25)","v":0},{"$f":"IF(AU8=0,0,(AU8*((LOG(AU8))/LOG(2))))","v":0}]
[12,281,13,285,13,290,14,298,13,316,0,11111,null,11121,{"$f":"COUNTIF($L$7:$L$500,N9)","v":0},{"$f":"O9/$Q$4","v":0},{"$f":"IF(P9=0,0,(P9*((LOG(P9))/LOG(2))))","v":0},null,null,{"$f":"N9","v":11121},{"$f":"COUNTIF(L7:L36,T9)","v":0},{"$f":"U9/(W4-U25)","v":0},{"$f":"IF(V9=0,0,(V9*((LOG(V9))/LOG(2))))","v":0},null,{"$f":"N9","v":11121},{"$f":"COUNTIF(L37:L65,Y9)","v":0},{"$f":"Z9/(AB4-Z25)","v":0},{"$f":"IF(AA9=0,0,(AA9*((LOG(AA9))/LOG(2))))","v":0},null,{"$f":"N9","v":11121},{"$f":"COUNTIF(L66:L95,AD9)","v":0},{"$f":"AE9/(AG4-AE25)","v":0},{"$f":"IF(AF9=0,0,(AF9*((LOG(AF9))/LOG(2))))","v":0},null,{"$f":"N9","v":11121},{"$f":"COUNTIF(L96:L124,AI9)","v":0},{"$f":"AJ9/(AL4-AJ25)","v":0},{"$f":"IF(AK9=0,0,(AK9*((LOG(AK9))/LOG(2))))","v":0},null,{"$f":"N9","v":11121},{"$f":"COUNTIF(L125:L154,AN9)","v":0},{"$f":"AO9/(AQ4-AO25)","v":0},{"$f":"IF(AP9=0,0,(AP9*((LOG(AP9))/LOG(2))))","v":0},null,{"$f":"N9","v":11121},{"$f":"COUNTIF(L155:L183,AS9)","v":0},{"$f":"AT9/(AV4-AT25)","v":0},{"$f":"IF(AU9=0,0,(AU9*((LOG(AU9))/LOG(2))))","v":0}]
[12,420,13,425,13,430,14,434,13,439,0,11111,null,11122,{"$f":"COUNTIF($L$7:$L$500,N10)","v":1},{"$f":"O10/$Q$4","v":5.6497175141242938E-3},{"$f":"IF(P10=0,0,(P10*((LOG(P10))/LOG(2))))","v":-4.2189861864875694E-2},null,null,{"$f":"N10","v":11122},{"$f":"COUNTIF(L7:L36,T10)","v":0},{"$f":"U10/(W4-U25)","v":0},{"$f":"IF(V10=0,0,(V10*((LOG(V10))/LOG(2))))","v":0},null,{"$f":"N10","v":11122},{"$f":"COUNTIF(L37:L65,Y10)","v":1},{"$f":"Z10/(AB4-Z25)","v":3.4482758620689655E-2},{"$f":"IF(AA10=0,0,(AA10*((LOG(AA10))/LOG(2))))","v":-0.16751658603888178},null,{"$f":"N10","v":11122},{"$f":"COUNTIF(L66:L95,AD10)","v":0},{"$f":"AE10/(AG4-AE25)","v":0},{"$f":"IF(AF10=0,0,(AF10*((LOG(AF10))/LOG(2))))","v":0},null,{"$f":"N10","v":11122},{"$f":"COUNTIF(L96:L124,AI10)","v":0},{"$f":"AJ10/(AL4-AJ25)","v":0},{"$f":"IF(AK10=0,0,(AK10*((LOG(AK10))/LOG(2))))","v":0},null,{"$f":"N10","v":11122},{"$f":"COUNTIF(L125:L154,AN10)","v":0},{"$f":"AO10/(AQ4-AO25)","v":0},{"$f":"IF(AP10=0,0,(AP10*((LOG(AP10))/LOG(2))))","v":0},null,{"$f":"N10","v":11122},{"$f":"COUNTIF(L155:L183,AS10)","v":0},{"$f":"AT10/(AV4-AT25)","v":0},{"$f":"IF(AU10=0,0,(AU10*((LOG(AU10))/LOG(2))))","v":0}]
[12,548,13,552,13,557,14,566,13,575,0,11111,null,11211,{"$f":"COUNTIF($L$7:$L$500,N11)","v":0},{"$f":"O11/$Q$4","v":0},{"$f":"IF(P11=0,0,(P11*((LOG(P11))/LOG(2))))","v":0},null,null,{"$f":"N11","v":11211},{"$f":"COUNTIF(L7:L36,T11)","v":0},{"$f":"U11/(W4-U25)","v":0},{"$f":"IF(V11=0,0,(V11*((LOG(V11))/LOG(2))))","v":0},null,{"$f":"N11","v":11211},{"$f":"COUNTIF(L37:L65,Y11)","v":0},{"$f":"Z11/(AB4-Z25)","v":0},{"$f":"IF(AA11=0,0,(AA11*((LOG(AA11))/LOG(2))))","v":0},null,{"$f":"N11","v":11211},{"$f":"COUNTIF(L66:L95,AD11)","v":0},{"$f":"AE11/(AG4-AE25)","v":0},{"$f":"IF(AF11=0,0,(AF11*((LOG(AF11))/LOG(2))))","v":0},null,{"$f":"N11","v":11211},{"$f":"COUNTIF(L96:L124,AI11)","v":0},{"$f":"AJ11/(AL4-AJ25)","v":0},{"$f":"IF(AK11=0,0,(AK11*((LOG(AK11))/LOG(2))))","v":0},null,{"$f":"N11","v":11211},{"$f":"COUNTIF(L125:L154,AN11)","v":0},{"$f":"AO11/(AQ4-AO25)","v":0},{"$f":"IF(AP11=0,0,(AP11*((LOG(AP11))/LOG(2))))","v":0},null,{"$f":"N11","v":11211},{"$f":"COUNTIF(L155:L183,AS11)","v":0},{"$f":"AT11/(AV4-AT25)","v":0},{"$f":"IF(AU11=0,0,(AU11*((LOG(AU11))/LOG(2))))","v":0}]
[12,678,13,682,13,686,14,690,13,698,0,11111,null,11212,{"$f":"COUNTIF($L$7:$L$500,N12)","v":0},{"$f":"O12/$Q$4","v":0},{"$f":"IF(P12=0,0,(P12*((LOG(P12))/LOG(2))))","v":0},null,null,{"$f":"N12","v":11212},{"$f":"COUNTIF(L7:L36,T12)","v":0},{"$f":"U12/(W4-U25)","v":0},{"$f":"IF(V12=0,0,(V12*((LOG(V12))/LOG(2))))","v":0},null,{"$f":"N12","v":11212},{"$f":"COUNTIF(L37:L65,Y12)","v":0},{"$f":"Z12/(AB4-Z25)","v":0},{"$f":"IF(AA12=0,0,(AA12*((LOG(AA12))/LOG(2))))","v":0},null,{"$f":"N12","v":11212},{"$f":"COUNTIF(L66:L95,AD12)","v":0},{"$f":"AE12/(AG4-AE25)","v":0},{"$f":"IF(AF12=0,0,(AF12*((LOG(AF12))/LOG(2))))","v":0},null,{"$f":"N12","v":11212},{"$f":"COUNTIF(L96:L124,AI12)","v":0},{"$f":"AJ12/(AL4-AJ25)","v":0},{"$f":"IF(AK12=0,0,(AK12*((LOG(AK12))/LOG(2))))","v":0},null,{"$f":"N12","v":11212},{"$f":"COUNTIF(L125:L154,AN12)","v":0},{"$f":"AO12/(AQ4-AO25)","v":0},{"$f":"IF(AP12=0,0,(AP12*((LOG(AP12))/LOG(2))))","v":0},null,{"$f":"N12","v":11212},{"$f":"COUNTIF(L155:L183,AS12)","v":0},{"$f":"AT12/(AV4-AT25)","v":0},{"$f":"IF(AU12=0,0,(AU12*((LOG(AU12))/LOG(2))))","v":0}]
[12,815,13,819,13,823,14,833,13,843,0,11111,null,11221,{"$f":"COUNTIF($L$7:$L$500,N13)","v":0},{"$f":"O13/$Q$4","v":0},{"$f":"IF(P13=0,0,(P13*((LOG(P13))/LOG(2))))","v":0},null,null,{"$f":"N13","v":11221},{"$f":"COUNTIF(L7:L36,T13)","v":0},{"$f":"U13/(W4-U25)","v":0},{"$f":"IF(V13=0,0,(V13*((LOG(V13))/LOG(2))))","v":0},null,{"$f":"N13","v":11221},{"$f":"COUNTIF(L37:L65,Y13)","v":0},{"$f":"Z13/(AB4-Z25)","v":0},{"$f":"IF(AA13=0,0,(AA13*((LOG(AA13))/LOG(2))))","v":0},null,{"$f":"N13","v":11221},{"$f":"COUNTIF(L66:L95,AD13)","v":0},{"$f":"AE13/(AG4-AE25)","v":0},{"$f":"IF(AF13=0,0,(AF13*((LOG(AF13))/LOG(2))))","v":0},null,{"$f":"N13","v":11221},{"$f":"COUNTIF(L96:L124,AI13)","v":0},{"$f":"AJ13/(AL4-AJ25)","v":0},{"$f":"IF(AK13=0,0,(AK13*((LOG(AK13))/LOG(2))))","v":0},null,{"$f":"N13","v":11221},{"$f":"COUNTIF(L125:L154,AN13)","v":0},{"$f":"AO13/(AQ4-AO25)","v":0},{"$f":"IF(AP13=0,0,(AP13*((LOG(AP13))/LOG(2))))","v":0},null,{"$f":"N13","v":11221},{"$f":"COUNTIF(L155:L183,AS13)","v":0},{"$f":"AT13/(AV4-AT25)","v":0},{"$f":"IF(AU13=0,0,(AU13*((LOG(AU13))/LOG(2))))","v":0}]
[12,943,13,947,13,951,14,955,13,960,0,11111,null,11222,{"$f":"COUNTIF($L$7:$L$500,N14)","v":0},{"$f":"O14/$Q$4","v":0},{"$f":"IF(P14=0,0,(P14*((LOG(P14))/LOG(2))))","v":0},null,null,{"$f":"N14","v":11222},{"$f":"COUNTIF(L7:L36,T14)","v":0},{"$f":"U14/(W4-U25)","v":0},{"$f":"IF(V14=0,0,(V14*((LOG(V14))/LOG(2))))","v":0},null,{"$f":"N14","v":11222},{"$f":"COUNTIF(L37:L65,Y14)","v":0},{"$f":"Z14/(AB4-Z25)","v":0},{"$f":"IF(AA14=0,0,(AA14*((LOG(AA14))/LOG(2))))","v":0},null,{"$f":"N14","v":11222},{"$f":"COUNTIF(L66:L95,AD14)","v":0},{"$f":"AE14/(AG4-AE25)","v":0},{"$f":"IF(AF14=0,0,(AF14*((LOG(AF14))/LOG(2))))","v":0},null,{"$f":"N14","v":11222},{"$f":"COUNTIF(L96:L124,AI14)","v":0},{"$f":"AJ14/(AL4-AJ25)","v":0},{"$f":"IF(AK14=0,0,(AK14*((LOG(AK14))/LOG(2))))","v":0},null,{"$f":"N14","v":11222},{"$f":"COUNTIF(L125:L154,AN14)","v":0},{"$f":"AO14/(AQ4-AO25)","v":0},{"$f":"IF(AP14=0,0,(AP14*((LOG(AP14))/LOG(2))))","v":0},null,{"$f":"N14","v":11222},{"$f":"COUNTIF(L155:L183,AS14)","v":0},{"$f":"AT14/(AV4-AT25)","v":0},{"$f":"IF(AU14=0,0,(AU14*((LOG(AU14))/LOG(2))))","v":0}]
[12,1066,13,1079,13,1084,14,1088,13,1095,0,11111,null,12111,{"$f":"COUNTIF($L$7:$L$500,N15)","v":0},{"$f":"O15/$Q$4","v":0},{"$f":"IF(P15=0,0,(P15*((LOG(P15))/LOG(2))))","v":0},null,null,{"$f":"N15","v":12111},{"$f":"COUNTIF(L7:L36,T15)","v":0},{"$f":"U15/(W4-U25)","v":0},{"$f":"IF(V15=0,0,(V15*((LOG(V15))/LOG(2))))","v":0},null,{"$f":"N15","v":12111},{"$f":"COUNTIF(L37:L65,Y15)","v":0},{"$f":"Z15/(AB4-Z25)","v":0},{"$f":"IF(AA15=0,0,(AA15*((LOG(AA15))/LOG(2))))","v":0},null,{"$f":"N15","v":12111},{"$f":"COUNTIF(L66:L95,AD15)","v":0},{"$f":"AE15/(AG4-AE25)","v":0},{"$f":"IF(AF15=0,0,(AF15*((LOG(AF15))/LOG(2))))","v":0},null,{"$f":"N15","v":12111},{"$f":"COUNTIF(L96:L124,AI15)","v":0},{"$f":"AJ15/(AL4-AJ25)","v":0},{"$f":"IF(AK15=0,0,(AK15*((LOG(AK15))/LOG(2))))","v":0},null,{"$f":"N15","v":12111},{"$f":"COUNTIF(L125:L154,AN15)","v":0},{"$f":"AO15/(AQ4-AO25)","v":0},{"$f":"IF(AP15=0,0,(AP15*((LOG(AP15))/LOG(2))))","v":0},null,{"$f":"N15","v":12111},{"$f":"COUNTIF(L155:L183,AS15)","v":0},{"$f":"AT15/(AV4-AT25)","v":0},{"$f":"IF(AU15=0,0,(AU15*((LOG(AU15))/LOG(2))))","v":0}]
[12,1195,13,1199,13,1203,14,1208,13,1212,0,11111,null,12112,{"$f":"COUNTIF($L$7:$L$500,N16)","v":0},{"$f":"O16/$Q$4","v":0},{"$f":"IF(P16=0,0,(P16*((LOG(P16))/LOG(2))))","v":0},null,null,{"$f":"N16","v":12112},{"$f":"COUNTIF(L7:L36,T16)","v":0},{"$f":"U16/(W4-U25)","v":0},{"$f":"IF(V16=0,0,(V16*((LOG(V16))/LOG(2))))","v":0},null,{"$f":"N16","v":12112},{"$f":"COUNTIF(L37:L65,Y16)","v":0},{"$f":"Z16/(AB4-Z25)","v":0},{"$f":"IF(AA16=0,0,(AA16*((LOG(AA16))/LOG(2))))","v":0},null,{"$f":"N16","v":12112},{"$f":"COUNTIF(L66:L95,AD16)","v":0},{"$f":"AE16/(AG4-AE25)","v":0},{"$f":"IF(AF16=0,0,(AF16*((LOG(AF16))/LOG(2))))","v":0},null,{"$f":"N16","v":12112},{"$f":"COUNTIF(L96:L124,AI16)","v":0},{"$f":"AJ16/(AL4-AJ25)","v":0},{"$f":"IF(AK16=0,0,(AK16*((LOG(AK16))/LOG(2))))","v":0},null,{"$f":"N16","v":12112},{"$f":"COUNTIF(L125:L154,AN16)","v":0},{"$f":"AO16/(AQ4-AO25)","v":0},{"$f":"IF(AP16=0,0,(AP16*((LOG(AP16))/LOG(2))))","v":0},null,{"$f":"N16","v":12112},{"$f":"COUNTIF(L155:L183,AS16)","v":0},{"$f":"AT16/(AV4-AT25)","v":0},{"$f":"IF(AU16=0,0,(AU16*((LOG(AU16))/LOG(2))))","v":0}]
[12,1318,13,1322,13,1327,14,1338,13,1347,1,11111,null,12121,{"$f":"COUNTIF($L$7:$L$500,N17)","v":0},{"$f":"O17/$Q$4","v":0},{"$f":"IF(P17=0,0,(P17*((LOG(P17))/LOG(2))))","v":0},null,null,{"$f":"N17","v":12121},{"$f":"COUNTIF(L7:L36,T17)","v":0},{"$f":"U17/(W4-U25)","v":0},{"$f":"IF(V17=0,0,(V17*((LOG(V17))/LOG(2))))","v":0},null,{"$f":"N17","v":12121},{"$f":"COUNTIF(L37:L65,Y17)","v":0},{"$f":"Z17/(AB4-Z25)","v":0},{"$f":"IF(AA17=0,0,(AA17*((LOG(AA17))/LOG(2))))","v":0},null,{"$f":"N17","v":12121},{"$f":"COUNTIF(L66:L95,AD17)","v":0},{"$f":"AE17/(AG4-AE25)","v":0},{"$f":"IF(AF17=0,0,(AF17*((LOG(AF17))/LOG(2))))","v":0},null,{"$f":"N17","v":12121},{"$f":"COUNTIF(L96:L124,AI17)","v":0},{"$f":"AJ17/(AL4-AJ25)","v":0},{"$f":"IF(AK17=0,0,(AK17*((LOG(AK17))/LOG(2))))","v":0},null,{"$f":"N17","v":12121},{"$f":"COUNTIF(L125:L154,AN17)","v":0},{"$f":"AO17/(AQ4-AO25)","v":0},{"$f":"IF(AP17=0,0,(AP17*((LOG(AP17))/LOG(2))))","v":0},null,{"$f":"N17","v":12121},{"$f":"COUNTIF(L155:L183,AS17)","v":0},{"$f":"AT17/(AV4-AT25)","v":0},{"$f":"IF(AU17=0,0,(AU17*((LOG(AU17))/LOG(2))))","v":0}]
[12,1445,13,1450,13,1454,14,1459,13,1464,1,11111,null,12122,{"$f":"COUNTIF($L$7:$L$500,N18)","v":0},{"$f":"O18/$Q$4","v":0},{"$f":"IF(P18=0,0,(P18*((LOG(P18))/LOG(2))))","v":0},null,null,{"$f":"N18","v":12122},{"$f":"COUNTIF(L7:L36,T18)","v":0},{"$f":"U18/(W4-U25)","v":0},{"$f":"IF(V18=0,0,(V18*((LOG(V18))/LOG(2))))","v":0},null,{"$f":"N18","v":12122},{"$f":"COUNTIF(L37:L65,Y18)","v":0},{"$f":"Z18/(AB4-Z25)","v":0},{"$f":"IF(AA18=0,0,(AA18*((LOG(AA18))/LOG(2))))","v":0},null,{"$f":"N18","v":12122},{"$f":"COUNTIF(L66:L95,AD18)","v":0},{"$f":"AE18/(AG4-AE25)","v":0},{"$f":"IF(AF18=0,0,(AF18*((LOG(AF18))/LOG(2))))","v":0},null,{"$f":"N18","v":12122},{"$f":"COUNTIF(L96:L124,AI18)","v":0},{"$f":"AJ18/(AL4-AJ25)","v":0},{"$f":"IF(AK18=0,0,(AK18*((LOG(AK18))/LOG(2))))","v":0},null,{"$f":"N18","v":12122},{"$f":"COUNTIF(L125:L154,AN18)","v":0},{"$f":"AO18/(AQ4-AO25)","v":0},{"$f":"IF(AP18=0,0,(AP18*((LOG(AP18))/LOG(2))))","v":0},null,{"$f":"N18","v":12122},{"$f":"COUNTIF(L155:L183,AS18)","v":0},{"$f":"AT18/(AV4-AT25)","v":0},{"$f":"IF(AU18=0,0,(AU18*((LOG(AU18))/LOG(2))))","v":0}]
[12,1573,13,1578,13,1582,14,1587,13,1592,0,11111,null,12211,{"$f":"COUNTIF($L$7:$L$500,N19)","v":0},{"$f":"O19/$Q$4","v":0},{"$f":"IF(P19=0,0,(P19*((LOG(P19))/LOG(2))))","v":0},null,null,{"$f":"N19","v":12211},{"$f":"COUNTIF(L7:L36,T19)","v":0},{"$f":"U19/(W4-U25)","v":0},{"$f":"IF(V19=0,0,(V19*((LOG(V19))/LOG(2))))","v":0},null,{"$f":"N19","v":12211},{"$f":"COUNTIF(L37:L65,Y19)","v":0},{"$f":"Z19/(AB4-Z25)","v":0},{"$f":"IF(AA19=0,0,(AA19*((LOG(AA19))/LOG(2))))","v":0},null,{"$f":"N19","v":12211},{"$f":"COUNTIF(L66:L95,AD19)","v":0},{"$f":"AE19/(AG4-AE25)","v":0},{"$f":"IF(AF19=0,0,(AF19*((LOG(AF19))/LOG(2))))","v":0},null,{"$f":"N19","v":12211},{"$f":"COUNTIF(L96:L124,AI19)","v":0},{"$f":"AJ19/(AL4-AJ25)","v":0},{"$f":"IF(AK19=0,0,(AK19*((LOG(AK19))/LOG(2))))","v":0},null,{"$f":"N19","v":12211},{"$f":"COUNTIF(L125:L154,AN19)","v":0},{"$f":"AO19/(AQ4-AO25)","v":0},{"$f":"IF(AP19=0,0,(AP19*((LOG(AP19))/LOG(2))))","v":0},null,{"$f":"N19","v":12211},{"$f":"COUNTIF(L155:L183,AS19)","v":0},{"$f":"AT19/(AV4-AT25)","v":0},{"$f":"IF(AU19=0,0,(AU19*((LOG(AU19))/LOG(2))))","v":0}]
[12,1696,13,1700,13,1705,14,1721,13,1732,0,11111,null,12212,{"$f":"COUNTIF($L$7:$L$500,N20)","v":0},{"$f":"O20/$Q$4","v":0},{"$f":"IF(P20=0,0,(P20*((LOG(P20))/LOG(2))))","v":0},null,null,{"$f":"N20","v":12212},{"$f":"COUNTIF(L7:L36,T20)","v":0},{"$f":"U20/(W4-U25)","v":0},{"$f":"IF(V20=0,0,(V20*((LOG(V20))/LOG(2))))","v":0},null,{"$f":"N20","v":12212},{"$f":"COUNTIF(L37:L65,Y20)","v":0},{"$f":"Z20/(AB4-Z25)","v":0},{"$f":"IF(AA20=0,0,(AA20*((LOG(AA20))/LOG(2))))","v":0},null,{"$f":"N20","v":12212},{"$f":"COUNTIF(L66:L95,AD20)","v":0},{"$f":"AE20/(AG4-AE25)","v":0},{"$f":"IF(AF20=0,0,(AF20*((LOG(AF20))/LOG(2))))","v":0},null,{"$f":"N20","v":12212},{"$f":"COUNTIF(L96:L124,AI20)","v":0},{"$f":"AJ20/(AL4-AJ25)","v":0},{"$f":"IF(AK20=0,0,(AK20*((LOG(AK20))/LOG(2))))","v":0},null,{"$f":"N20","v":12212},{"$f":"COUNTIF(L125:L154,AN20)","v":0},{"$f":"AO20/(AQ4-AO25)","v":0},{"$f":"IF(AP20=0,0,(AP20*((LOG(AP20))/LOG(2))))","v":0},null,{"$f":"N20","v":12212},{"$f":"COUNTIF(L155:L183,AS20)","v":0},{"$f":"AT20/(AV4-AT25)","v":0},{"$f":"IF(AU20=0,0,(AU20*((LOG(AU20))/LOG(2))))","v":0}]
[12,1838,13,1843,13,1847,14,1851,13,1858,0,11111,null,12221,{"$f":"COUNTIF($L$7:$L$500,N21)","v":0},{"$f":"O21/$Q$4","v":0},{"$f":"IF(P21=0,0,(P21*((LOG(P21))/LOG(2))))","v":0},null,null,{"$f":"N21","v":12221},{"$f":"COUNTIF(L7:L36,T21)","v":0},{"$f":"U21/(W4-U25)","v":0},{"$f":"IF(V21=0,0,(V21*((LOG(V21))/LOG(2))))","v":0},null,{"$f":"N21","v":12221},{"$f":"COUNTIF(L37:L65,Y21)","v":0},{"$f":"Z21/(AB4-Z25)","v":0},{"$f":"IF(AA21=0,0,(AA21*((LOG(AA21))/LOG(2))))","v":0},null,{"$f":"N21","v":12221},{"$f":"COUNTIF(L66:L95,AD21)","v":0},{"$f":"AE21/(AG4-AE25)","v":0},{"$f":"IF(AF21=0,0,(AF21*((LOG(AF21))/LOG(2))))","v":0},null,{"$f":"N21","v":12221},{"$f":"COUNTIF(L96:L124,AI21)","v":0},{"$f":"AJ21/(AL4-AJ25)","v":0},{"$f":"IF(AK21=0,0,(AK21*((LOG(AK21))/LOG(2))))","v":0},null,{"$f":"N21","v":12221},{"$f":"COUNTIF(L125:L154,AN21)","v":0},{"$f":"AO21/(AQ4-AO25)","v":0},{"$f":"IF(AP21=0,0,(AP21*((LOG(AP21))/LOG(2))))","v":0},null,{"$f":"N21","v":12221},{"$f":"COUNTIF(L155:L183,AS21)","v":0},{"$f":"AT21/(AV4-AT25)","v":0},{"$f":"IF(AU21=0,0,(AU21*((LOG(AU21))/LOG(2))))","v":0}]
[12,1981,13,1986,13,1997,14,2014,13,2026,1,11111,null,12222,{"$f":"COUNTIF($L$7:$L$500,N22)","v":2},{"$f":"O22/$Q$4","v":1.1299435028248588E-2},{"$f":"IF(P22=0,0,(P22*((LOG(P22))/LOG(2))))","v":-7.3080288701502794E-2},null,null,{"$f":"N22","v":12222},{"$f":"COUNTIF(L7:L36,T22)","v":0},{"$f":"U22/(W4-U25)","v":0},{"$f":"IF(V22=0,0,(V22*((LOG(V22))/LOG(2))))","v":0},null,{"$f":"N22","v":12222},{"$f":"COUNTIF(L37:L65,Y22)","v":1},{"$f":"Z22/(AB4-Z25)","v":3.4482758620689655E-2},{"$f":"IF(AA22=0,0,(AA22*((LOG(AA22))/LOG(2))))","v":-0.16751658603888178},null,{"$f":"N22","v":12222},{"$f":"COUNTIF(L66:L95,AD22)","v":1},{"$f":"AE22/(AG4-AE25)","v":3.3333333333333333E-2},{"$f":"IF(AF22=0,0,(AF22*((LOG(AF22))/LOG(2))))","v":-0.16356301985361729},null,{"$f":"N22","v":12222},{"$f":"COUNTIF(L96:L124,AI22)","v":0},{"$f":"AJ22/(AL4-AJ25)","v":0},{"$f":"IF(AK22=0,0,(AK22*((LOG(AK22))/LOG(2))))","v":0},null,{"$f":"N22","v":12222},{"$f":"COUNTIF(L125:L154,AN22)","v":0},{"$f":"AO22/(AQ4-AO25)","v":0},{"$f":"IF(AP22=0,0,(AP22*((LOG(AP22))/LOG(2))))","v":0},null,{"$f":"N22","v":12222},{"$f":"COUNTIF(L155:L183,AS22)","v":0},{"$f":"AT22/(AV4-AT25)","v":0},{"$f":"IF(AU22=0,0,(AU22*((LOG(AU22))/LOG(2))))","v":0}]
[12,2122,13,2126,13,2138,14,2142,13,2147,0,11111,null,21111,{"$f":"COUNTIF($L$7:$L$500,N23)","v":0},{"$f":"O23/$Q$4","v":0},{"$f":"IF(P23=0,0,(P23*((LOG(P23))/LOG(2))))","v":0},null,null,{"$f":"N23","v":21111},{"$f":"COUNTIF(L7:L36,T23)","v":0},{"$f":"U23/(W4-U25)","v":0},{"$f":"IF(V23=0,0,(V23*((LOG(V23))/LOG(2))))","v":0},null,{"$f":"N23","v":21111},{"$f":"COUNTIF(L37:L65,Y23)","v":0},{"$f":"Z23/(AB4-Z25)","v":0},{"$f":"IF(AA23=0,0,(AA23*((LOG(AA23))/LOG(2))))","v":0},null,{"$f":"N23","v":21111},{"$f":"COUNTIF(L66:L95,AD23)","v":0},{"$f":"AE23/(AG4-AE25)","v":0},{"$f":"IF(AF23=0,0,(AF23*((LOG(AF23))/LOG(2))))","v":0},null,{"$f":"N23","v":21111},{"$f":"COUNTIF(L96:L124,AI23)","v":0},{"$f":"AJ23/(AL4-AJ25)","v":0},{"$f":"IF(AK23=0,0,(AK23*((LOG(AK23))/LOG(2))))","v":0},null,{"$f":"N23","v":21111},{"$f":"COUNTIF(L125:L154,AN23)","v":0},{"$f":"AO23/(AQ4-AO25)","v":0},{"$f":"IF(AP23=0,0,(AP23*((LOG(AP23))/LOG(2))))","v":0},null,{"$f":"N23","v":21111},{"$f":"COUNTIF(L155:L183,AS23)","v":0},{"$f":"AT23/(AV4-AT25)","v":0},{"$f":"IF(AU23=0,0,(AU23*((LOG(AU23))/LOG(2))))","v":0}]
[12,2259,13,2263,13,2267,14,2272,13,2277,0,11111,null,21112,{"$f":"COUNTIF($L$7:$L$500,N24)","v":0},{"$f":"O24/$Q$4","v":0},{"$f":"IF(P24=0,0,(P24*((LOG(P24))/LOG(2))))","v":0},null,null,{"$f":"N24","v":21112},{"$f":"COUNTIF(L7:L36,T24)","v":0},{"$f":"U24/(W4-U25)","v":0},{"$f":"IF(V24=0,0,(V24*((LOG(V24))/LOG(2))))","v":0},null,{"$f":"N24","v":21112},{"$f":"COUNTIF(L37:L65,Y24)","v":0},{"$f":"Z24/(AB4-Z25)","v":0},{"$f":"IF(AA24=0,0,(AA24*((LOG(AA24))/LOG(2))))","v":0},null,{"$f":"N24","v":21112},{"$f":"COUNTIF(L66:L95,AD24)","v":0},{"$f":"AE24/(AG4-AE25)","v":0},{"$f":"IF(AF24=0,0,(AF24*((LOG(AF24))/LOG(2))))","v":0},null,{"$f":"N24","v":21112},{"$f":"COUNTIF(L96:L124,AI24)","v":0},{"$f":"AJ24/(AL4-AJ25)","v":0},{"$f":"IF(AK24=0,0,(AK24*((LOG(AK24))/LOG(2))))","v":0},null,{"$f":"N24","v":21112},{"$f":"COUNTIF(L125:L154,AN24)","v":0},{"$f":"AO24/(AQ4-AO25)","v":0},{"$f":"IF(AP24=0,0,(AP24*((LOG(AP24))/LOG(2))))","v":0},null,{"$f":"N24","v":21112},{"$f":"COUNTIF(L155:L183,AS24)","v":0},{"$f":"AT24/(AV4-AT25)","v":0},{"$f":"IF(AU24=0,0,(AU24*((LOG(AU24))/LOG(2))))","v":0}]
[12,2386,13,2395,13,2400,14,2410,13,2416,0,11111,null,21121,{"$f":"COUNTIF($L$7:$L$500,N25)","v":0},{"$f":"O25/$Q$4","v":0},{"$f":"IF(P25=0,0,(P25*((LOG(P25))/LOG(2))))","v":0},null,null,{"$f":"N25","v":21121},{"$f":"COUNTIF(L7:L36,T25)","v":0},null,null,null,{"$f":"N25","v":21121},{"$f":"COUNTIF(L37:L65,Y25)","v":0},null,null,null,{"$f":"N25","v":21121},{"$f":"COUNTIF(L66:L95,AD25)","v":0},null,null,null,{"$f":"N25","v":21121},{"$f":"COUNTIF(L96:L124,AI25)","v":0},null,null,null,{"$f":"N25","v":21121},{"$f":"COUNTIF(L125:L154,AN25)","v":0},null,null,null,{"$f":"N25","v":21121},{"$f":"COUNTIF(L155:L183,AS25)","v":0}]
[12,2522,13,2527,13,2535,14,2542,13,2550,0,11111,null,21122,{"$f":"COUNTIF($L$7:$L$500,N26)","v":0},{"$f":"O26/$Q$4","v":0},{"$f":"IF(P26=0,0,(P26*((LOG(P26))/LOG(2))))","v":0},null,null,{"$f":"N26","v":21122},{"$f":"COUNTIF(L7:L36,T26)","v":0},{"$f":"U26/(W4-U25)","v":0},{"$f":"IF(V26=0,0,(V26*((LOG(V26))/LOG(2))))","v":0},null,{"$f":"N26","v":21122},{"$f":"COUNTIF(L37:L65,Y26)","v":0},{"$f":"Z26/(AB4-Z25)","v":0},{"$f":"IF(AA26=0,0,(AA26*((LOG(AA26))/LOG(2))))","v":0},null,{"$f":"N26","v":21122},{"$f":"COUNTIF(L66:L95,AD26)","v":0},{"$f":"AE26/(AG4-AE25)","v":0},{"$f":"IF(AF26=0,0,(AF26*((LOG(AF26))/LOG(2))))","v":0},null,{"$f":"N26","v":21122},{"$f":"COUNTIF(L96:L124,AI26)","v":0},{"$f":"AJ26/(AL4-AJ25)","v":0},{"$f":"IF(AK26=0,0,(AK26*((LOG(AK26))/LOG(2))))","v":0},null,{"$f":"N26","v":21122},{"$f":"COUNTIF(L125:L154,AN26)","v":0},{"$f":"AO26/(AQ4-AO25)","v":0},{"$f":"IF(AP26=0,0,(AP26*((LOG(AP26))/LOG(2))))","v":0},null,{"$f":"N26","v":21122},{"$f":"COUNTIF(L155:L183,AS26)","v":0},{"$f":"AT26/(AV4-AT25)","v":0},{"$f":"IF(AU26=0,0,(AU26*((LOG(AU26))/LOG(2))))","v":0}]
[12,2653,13,2658,13,2672,14,2677,13,2681,0,11111,null,21211,{"$f":"COUNTIF($L$7:$L$500,N27)","v":0},{"$f":"O27/$Q$4","v":0},{"$f":"IF(P27=0,0,(P27*((LOG(P27))/LOG(2))))","v":0},null,null,{"$f":"N27","v":21211},{"$f":"COUNTIF(L7:L36,T27)","v":0},{"$f":"U27/(W4-U25)","v":0},{"$f":"IF(V27=0,0,(V27*((LOG(V27))/LOG(2))))","v":0},null,{"$f":"N27","v":21211},{"$f":"COUNTIF(L37:L65,Y27)","v":0},{"$f":"Z27/(AB4-Z25)","v":0},{"$f":"IF(AA27=0,0,(AA27*((LOG(AA27))/LOG(2))))","v":0},null,{"$f":"N27","v":21211},{"$f":"COUNTIF(L66:L95,AD27)","v":0},{"$f":"AE27/(AG4-AE25)","v":0},{"$f":"IF(AF27=0,0,(AF27*((LOG(AF27))/LOG(2))))","v":0},null,{"$f":"N27","v":21211},{"$f":"COUNTIF(L96:L124,AI27)","v":0},{"$f":"AJ27/(AL4-AJ25)","v":0},{"$f":"IF(AK27=0,0,(AK27*((LOG(AK27))/LOG(2))))","v":0},null,{"$f":"N27","v":21211},{"$f":"COUNTIF(L125:L154,AN27)","v":0},{"$f":"AO27/(AQ4-AO25)","v":0},{"$f":"IF(AP27=0,0,(AP27*((LOG(AP27))/LOG(2))))","v":0},null,{"$f":"N27","v":21211},{"$f":"COUNTIF(L155:L183,AS27)","v":0},{"$f":"AT27/(AV4-AT25)","v":0},{"$f":"IF(AU27=0,0,(AU27*((LOG(AU27))/LOG(2))))","v":0}]
[12,2792,13,2796,13,2800,14,2804,13,2808,0,11111,null,21212,{"$f":"COUNTIF($L$7:$L$500,N28)","v":0},{"$f":"O28/$Q$4","v":0},{"$f":"IF(P28=0,0,(P28*((LOG(P28))/LOG(2))))","v":0},null,null,{"$f":"N28","v":21212},{"$f":"COUNTIF(L7:L36,T28)","v":0},{"$f":"U28/(W4-U25)","v":0},{"$f":"IF(V28=0,0,(V28*((LOG(V28))/LOG(2))))","v":0},null,{"$f":"N28","v":21212},{"$f":"COUNTIF(L37:L65,Y28)","v":0},{"$f":"Z28/(AB4-Z25)","v":0},{"$f":"IF(AA28=0,0,(AA28*((LOG(AA28))/LOG(2))))","v":0},null,{"$f":"N28","v":21212},{"$f":"COUNTIF(L66:L95,AD28)","v":0},{"$f":"AE28/(AG4-AE25)","v":0},{"$f":"IF(AF28=0,0,(AF28*((LOG(AF28))/LOG(2))))","v":0},null,{"$f":"N28","v":21212},{"$f":"COUNTIF(L96:L124,AI28)","v":0},{"$f":"AJ28/(AL4-AJ25)","v":0},{"$f":"IF(AK28=0,0,(AK28*((LOG(AK28))/LOG(2))))","v":0},null,{"$f":"N28","v":21212},{"$f":"COUNTIF(L125:L154,AN28)","v":0},{"$f":"AO28/(AQ4-AO25)","v":0},{"$f":"IF(AP28=0,0,(AP28*((LOG(AP28))/LOG(2))))","v":0},null,{"$f":"N28","v":21212},{"$f":"COUNTIF(L155:L183,AS28)","v":0},{"$f":"AT28/(AV4-AT25)","v":0},{"$f":"IF(AU28=0,0,(AU28*((LOG(AU28))/LOG(2))))","v":0}]
[12,2915,13,2920,13,2925,14,2929,13,2934,0,11111,null,21221,{"$f":"COUNTIF($L$7:$L$500,N29)","v":0},{"$f":"O29/$Q$4","v":0},{"$f":"IF(P29=0,0,(P29*((LOG(P29))/LOG(2))))","v":0},null,null,{"$f":"N29","v":21221},{"$f":"COUNTIF(L7:L36,T29)","v":0},{"$f":"U29/(W4-U25)","v":0},{"$f":"IF(V29=0,0,(V29*((LOG(V29))/LOG(2))))","v":0},null,{"$f":"N29","v":21221},{"$f":"COUNTIF(L37:L65,Y29)","v":0},{"$f":"Z29/(AB4-Z25)","v":0},{"$f":"IF(AA29=0,0,(AA29*((LOG(AA29))/LOG(2))))","v":0},null,{"$f":"N29","v":21221},{"$f":"COUNTIF(L66:L95,AD29)","v":0},{"$f":"AE29/(AG4-AE25)","v":0},{"$f":"IF(AF29=0,0,(AF29*((LOG(AF29))/LOG(2))))","v":0},null,{"$f":"N29","v":21221},{"$f":"COUNTIF(L96:L124,AI29)","v":0},{"$f":"AJ29/(AL4-AJ25)","v":0},{"$f":"IF(AK29=0,0,(AK29*((LOG(AK29))/LOG(2))))","v":0},null,{"$f":"N29","v":21221},{"$f":"COUNTIF(L125:L154,AN29)","v":0},{"$f":"AO29/(AQ4-AO25)","v":0},{"$f":"IF(AP29=0,0,(AP29*((LOG(AP29))/LOG(2))))","v":0},null,{"$f":"N29","v":21221},{"$f":"COUNTIF(L155:L183,AS29)","v":0},{"$f":"AT29/(AV4-AT25)","v":0},{"$f":"IF(AU29=0,0,(AU29*((LOG(AU29))/LOG(2))))","v":0}]
[12,3041,13,3045,13,3050,14,3055,13,3067,0,11111,null,21222,{"$f":"COUNTIF($L$7:$L$500,N30)","v":0},{"$f":"O30/$Q$4","v":0},{"$f":"IF(P30=0,0,(P30*((LOG(P30))/LOG(2))))","v":0},null,null,{"$f":"N30","v":21222},{"$f":"COUNTIF(L7:L36,T30)","v":0},{"$f":"U30/(W4-U25)","v":0},{"$f":"IF(V30=0,0,(V30*((LOG(V30))/LOG(2))))","v":0},null,{"$f":"N30","v":21222},{"$f":"COUNTIF(L37:L65,Y30)","v":0},{"$f":"Z30/(AB4-Z25)","v":0},{"$f":"IF(AA30=0,0,(AA30*((LOG(AA30))/LOG(2))))","v":0},null,{"$f":"N30","v":21222},{"$f":"COUNTIF(L66:L95,AD30)","v":0},{"$f":"AE30/(AG4-AE25)","v":0},{"$f":"IF(AF30=0,0,(AF30*((LOG(AF30))/LOG(2))))","v":0},null,{"$f":"N30","v":21222},{"$f":"COUNTIF(L96:L124,AI30)","v":0},{"$f":"AJ30/(AL4-AJ25)","v":0},{"$f":"IF(AK30=0,0,(AK30*((LOG(AK30))/LOG(2))))","v":0},null,{"$f":"N30","v":21222},{"$f":"COUNTIF(L125:L154,AN30)","v":0},{"$f":"AO30/(AQ4-AO25)","v":0},{"$f":"IF(AP30=0,0,(AP30*((LOG(AP30))/LOG(2))))","v":0},null,{"$f":"N30","v":21222},{"$f":"COUNTIF(L155:L183,AS30)","v":0},{"$f":"AT30/(AV4-AT25)","v":0},{"$f":"IF(AU30=0,0,(AU30*((LOG(AU30))/LOG(2))))","v":0}]
[12,3169,13,3181,13,3189,14,3194,13,3210,0,11111,null,22111,{"$f":"COUNTIF($L$7:$L$500,N31)","v":0},{"$f":"O31/$Q$4","v":0},{"$f":"IF(P31=0,0,(P31*((LOG(P31))/LOG(2))))","v":0},null,null,{"$f":"N31","v":22111},{"$f":"COUNTIF(L7:L36,T31)","v":0},{"$f":"U31/(W4-U25)","v":0},{"$f":"IF(V31=0,0,(V31*((LOG(V31))/LOG(2))))","v":0},null,{"$f":"N31","v":22111},{"$f":"COUNTIF(L37:L65,Y31)","v":0},{"$f":"Z31/(AB4-Z25)","v":0},{"$f":"IF(AA31=0,0,(AA31*((LOG(AA31))/LOG(2))))","v":0},null,{"$f":"N31","v":22111},{"$f":"COUNTIF(L66:L95,AD31)","v":0},{"$f":"AE31/(AG4-AE25)","v":0},{"$f":"IF(AF31=0,0,(AF31*((LOG(AF31))/LOG(2))))","v":0},null,{"$f":"N31","v":22111},{"$f":"COUNTIF(L96:L124,AI31)","v":0},{"$f":"AJ31/(AL4-AJ25)","v":0},{"$f":"IF(AK31=0,0,(AK31*((LOG(AK31))/LOG(2))))","v":0},null,{"$f":"N31","v":22111},{"$f":"COUNTIF(L125:L154,AN31)","v":0},{"$f":"AO31/(AQ4-AO25)","v":0},{"$f":"IF(AP31=0,0,(AP31*((LOG(AP31))/LOG(2))))","v":0},null,{"$f":"N31","v":22111},{"$f":"COUNTIF(L155:L183,AS31)","v":0},{"$f":"AT31/(AV4-AT25)","v":0},{"$f":"IF(AU31=0,0,(AU31*((LOG(AU31))/LOG(2))))","v":0}]
[12,3344,13,3349,13,3358,14,3362,13,3371,0,11111,null,22112,{"$f":"COUNTIF($L$7:$L$500,N32)","v":0},{"$f":"O32/$Q$4","v":0},{"$f":"IF(P32=0,0,(P32*((LOG(P32))/LOG(2))))","v":0},null,null,{"$f":"N32","v":22112},{"$f":"COUNTIF(L7:L36,T32)","v":0},{"$f":"U32/(W4-U25)","v":0},{"$f":"IF(V32=0,0,(V32*((LOG(V32))/LOG(2))))","v":0},null,{"$f":"N32","v":22112},{"$f":"COUNTIF(L37:L65,Y32)","v":0},{"$f":"Z32/(AB4-Z25)","v":0},{"$f":"IF(AA32=0,0,(AA32*((LOG(AA32))/LOG(2))))","v":0},null,{"$f":"N32","v":22112},{"$f":"COUNTIF(L66:L95,AD32)","v":0},{"$f":"AE32/(AG4-AE25)","v":0},{"$f":"IF(AF32=0,0,(AF32*((LOG(AF32))/LOG(2))))","v":0},null,{"$f":"N32","v":22112},{"$f":"COUNTIF(L96:L124,AI32)","v":0},{"$f":"AJ32/(AL4-AJ25)","v":0},{"$f":"IF(AK32=0,0,(AK32*((LOG(AK32))/LOG(2))))","v":0},null,{"$f":"N32","v":22112},{"$f":"COUNTIF(L125:L154,AN32)","v":0},{"$f":"AO32/(AQ4-AO25)","v":0},{"$f":"IF(AP32=0,0,(AP32*((LOG(AP32))/LOG(2))))","v":0},null,{"$f":"N32","v":22112},{"$f":"COUNTIF(L155:L183,AS32)","v":0},{"$f":"AT32/(AV4-AT25)","v":0},{"$f":"IF(AU32=0,0,(AU32*((LOG(AU32))/LOG(2))))","v":0}]
[12,3493,13,3497,13,3502,14,3506,13,3510,1,11111,null,22121,{"$f":"COUNTIF($L$7:$L$500,N33)","v":0},{"$f":"O33/$Q$4","v":0},{"$f":"IF(P33=0,0,(P33*((LOG(P33))/LOG(2))))","v":0},null,null,{"$f":"N33","v":22121},{"$f":"COUNTIF(L7:L36,T33)","v":0},{"$f":"U33/(W4-U25)","v":0},{"$f":"IF(V33=0,0,(V33*((LOG(V33))/LOG(2))))","v":0},null,{"$f":"N33","v":22121},{"$f":"COUNTIF(L37:L65,Y33)","v":0},{"$f":"Z33/(AB4-Z25)","v":0},{"$f":"IF(AA33=0,0,(AA33*((LOG(AA33))/LOG(2))))","v":0},null,{"$f":"N33","v":22121},{"$f":"COUNTIF(L66:L95,AD33)","v":0},{"$f":"AE33/(AG4-AE25)","v":0},{"$f":"IF(AF33=0,0,(AF33*((LOG(AF33))/LOG(2))))","v":0},null,{"$f":"N33","v":22121},{"$f":"COUNTIF(L96:L124,AI33)","v":0},{"$f":"AJ33/(AL4-AJ25)","v":0},{"$f":"IF(AK33=0,0,(AK33*((LOG(AK33))/LOG(2))))","v":0},null,{"$f":"N33","v":22121},{"$f":"COUNTIF(L125:L154,AN33)","v":0},{"$f":"AO33/(AQ4-AO25)","v":0},{"$f":"IF(AP33=0,0,(AP33*((LOG(AP33))/LOG(2))))","v":0},null,{"$f":"N33","v":22121},{"$f":"COUNTIF(L155:L183,AS33)","v":0},{"$f":"AT33/(AV4-AT25)","v":0},{"$f":"IF(AU33=0,0,(AU33*((LOG(AU33))/LOG(2))))","v":0}]
[12,3616,13,3640,13,3648,14,3665,13,3670,1,11111,null,22122,{"$f":"COUNTIF($L$7:$L$500,N34)","v":0},{"$f":"O34/$Q$4","v":0},{"$f":"IF(P34=0,0,(P34*((LOG(P34))/LOG(2))))","v":0},null,null,{"$f":"N34","v":22122},{"$f":"COUNTIF(L7:L36,T34)","v":0},{"$f":"U34/(W4-U25)","v":0},{"$f":"IF(V34=0,0,(V34*((LOG(V34))/LOG(2))))","v":0},null,{"$f":"N34","v":22122},{"$f":"COUNTIF(L37:L65,Y34)","v":0},{"$f":"Z34/(AB4-Z25)","v":0},{"$f":"IF(AA34=0,0,(AA34*((LOG(AA34))/LOG(2))))","v":0},null,{"$f":"N34","v":22122},{"$f":"COUNTIF(L66:L95,AD34)","v":0},{"$f":"AE34/(AG4-AE25)","v":0},{"$f":"IF(AF34=0,0,(AF34*((LOG(AF34))/LOG(2))))","v":0},null,{"$f":"N34","v":22122},{"$f":"COUNTIF(L96:L124,AI34)","v":0},{"$f":"AJ34/(AL4-AJ25)","v":0},{"$f":"IF(AK34=0,0,(AK34*((LOG(AK34))/LOG(2))))","v":0},null,{"$f":"N34","v":22122},{"$f":"COUNTIF(L125:L154,AN34)","v":0},{"$f":"AO34/(AQ4-AO25)","v":0},{"$f":"IF(AP34=0,0,(AP34*((LOG(AP34))/LOG(2))))","v":0},null,{"$f":"N34","v":22122},{"$f":"COUNTIF(L155:L183,AS34)","v":0},{"$f":"AT34/(AV4-AT25)","v":0},{"$f":"IF(AU34=0,0,(AU34*((LOG(AU34))/LOG(2))))","v":0}]
[12,3773,13,3781,13,3793,14,3798,13,3802,0,11111,null,22211,{"$f":"COUNTIF($L$7:$L$500,N35)","v":0},{"$f":"O35/$Q$4","v":0},{"$f":"IF(P35=0,0,(P35*((LOG(P35))/LOG(2))))","v":0},null,null,{"$f":"N35","v":22211},{"$f":"COUNTIF(L7:L36,T35)","v":0},{"$f":"U35/(W4-U25)","v":0},{"$f":"IF(V35=0,0,(V35*((LOG(V35))/LOG(2))))","v":0},null,{"$f":"N35","v":22211},{"$f":"COUNTIF(L37:L65,Y35)","v":0},{"$f":"Z35/(AB4-Z25)","v":0},{"$f":"IF(AA35=0,0,(AA35*((LOG(AA35))/LOG(2))))","v":0},null,{"$f":"N35","v":22211},{"$f":"COUNTIF(L66:L95,AD35)","v":0},{"$f":"AE35/(AG4-AE25)","v":0},{"$f":"IF(AF35=0,0,(AF35*((LOG(AF35))/LOG(2))))","v":0},null,{"$f":"N35","v":22211},{"$f":"COUNTIF(L96:L124,AI35)","v":0},{"$f":"AJ35/(AL4-AJ25)","v":0},{"$f":"IF(AK35=0,0,(AK35*((LOG(AK35))/LOG(2))))","v":0},null,{"$f":"N35","v":22211},{"$f":"COUNTIF(L125:L154,AN35)","v":0},{"$f":"AO35/(AQ4-AO25)","v":0},{"$f":"IF(AP35=0,0,(AP35*((LOG(AP35))/LOG(2))))","v":0},null,{"$f":"N35","v":22211},{"$f":"COUNTIF(L155:L183,AS35)","v":0},{"$f":"AT35/(AV4-AT25)","v":0},{"$f":"IF(AU35=0,0,(AU35*((LOG(AU35))/LOG(2))))","v":0}]
[12,3906,13,3910,13,3913,14,3918,13,3926,1,11111,null,22212,{"$f":"COUNTIF($L$7:$L$500,N36)","v":0},{"$f":"O36/$Q$4","v":0},{"$f":"IF(P36=0,0,(P36*((LOG(P36))/LOG(2))))","v":0},null,null,{"$f":"N36","v":22212},{"$f":"COUNTIF(L7:L36,T36)","v":0},{"$f":"U36/(W4-U25)","v":0},{"$f":"IF(V36=0,0,(V36*((LOG(V36))/LOG(2))))","v":0},null,{"$f":"N36","v":22212},{"$f":"COUNTIF(L37:L65,Y36)","v":0},{"$f":"Z36/(AB4-Z25)","v":0},{"$f":"IF(AA36=0,0,(AA36*((LOG(AA36))/LOG(2))))","v":0},null,{"$f":"N36","v":22212},{"$f":"COUNTIF(L66:L95,AD36)","v":0},{"$f":"AE36/(AG4-AE25)","v":0},{"$f":"IF(AF36=0,0,(AF36*((LOG(AF36))/LOG(2))))","v":0},null,{"$f":"N36","v":22212},{"$f":"COUNTIF(L96:L124,AI36)","v":0},{"$f":"AJ36/(AL4-AJ25)","v":0},{"$f":"IF(AK36=0,0,(AK36*((LOG(AK36))/LOG(2))))","v":0},null,{"$f":"N36","v":22212},{"$f":"COUNTIF(L125:L154,AN36)","v":0},{"$f":"AO36/(AQ4-AO25)","v":0},{"$f":"IF(AP36=0,0,(AP36*((LOG(AP36))/LOG(2))))","v":0},null,{"$f":"N36","v":22212},{"$f":"COUNTIF(L155:L183,AS36)","v":0},{"$f":"AT36/(AV4-AT25)","v":0},{"$f":"IF(AU36=0,0,(AU36*((LOG(AU36))/LOG(2))))","v":0}]
[12,4033,13,4041,13,4045,14,4050,13,4063,0,11111,null,22221,{"$f":"COUNTIF($L$7:$L$500,N37)","v":0},{"$f":"O37/$Q$4","v":0},{"$f":"IF(P37=0,0,(P37*((LOG(P37))/LOG(2))))","v":0},null,null,{"$f":"N37","v":22221},{"$f":"COUNTIF(L7:L36,T37)","v":0},{"$f":"U37/(W4-U25)","v":0},{"$f":"IF(V37=0,0,(V37*((LOG(V37))/LOG(2))))","v":0},null,{"$f":"N37","v":22221},{"$f":"COUNTIF(L37:L65,Y37)","v":0},{"$f":"Z37/(AB4-Z25)","v":0},{"$f":"IF(AA37=0,0,(AA37*((LOG(AA37))/LOG(2))))","v":0},null,{"$f":"N37","v":22221},{"$f":"COUNTIF(L66:L95,AD37)","v":0},{"$f":"AE37/(AG4-AE25)","v":0},{"$f":"IF(AF37=0,0,(AF37*((LOG(AF37))/LOG(2))))","v":0},null,{"$f":"N37","v":22221},{"$f":"COUNTIF(L96:L124,AI37)","v":0},{"$f":"AJ37/(AL4-AJ25)","v":0},{"$f":"IF(AK37=0,0,(AK37*((LOG(AK37))/LOG(2))))","v":0},null,{"$f":"N37","v":22221},{"$f":"COUNTIF(L125:L154,AN37)","v":0},{"$f":"AO37/(AQ4-AO25)","v":0},{"$f":"IF(AP37=0,0,(AP37*((LOG(AP37))/LOG(2))))","v":0},null,{"$f":"N37","v":22221},{"$f":"COUNTIF(L155:L183,AS37)","v":0},{"$f":"AT37/(AV4-AT25)","v":0},{"$f":"IF(AU37=0,0,(AU37*((LOG(AU37))/LOG(2))))","v":0}]
[12,4163,13,4170,13,4195,14,4207,13,4212,0,11111,null,22222,{"$f":"COUNTIF($L$7:$L$500,N38)","v":3},{"$f":"O38/$Q$4","v":1.6949152542372881E-2},{"$f":"IF(P38=0,0,(P38*((LOG(P38))/LOG(2))))","v":-9.9705814395963419E-2},null,null,{"$f":"N38","v":22222},{"$f":"COUNTIF(L7:L36,T38)","v":0},{"$f":"U38/(W4-U25)","v":0},{"$f":"IF(V38=0,0,(V38*((LOG(V38))/LOG(2))))","v":0},null,{"$f":"N38","v":22222},{"$f":"COUNTIF(L37:L65,Y38)","v":0},{"$f":"Z38/(AB4-Z25)","v":0},{"$f":"IF(AA38=0,0,(AA38*((LOG(AA38))/LOG(2))))","v":0},null,{"$f":"N38","v":22222},{"$f":"COUNTIF(L66:L95,AD38)","v":1},{"$f":"AE38/(AG4-AE25)","v":3.3333333333333333E-2},{"$f":"IF(AF38=0,0,(AF38*((LOG(AF38))/LOG(2))))","v":-0.16356301985361729},null,{"$f":"N38","v":22222},{"$f":"COUNTIF(L96:L124,AI38)","v":0},{"$f":"AJ38/(AL4-AJ25)","v":0},{"$f":"IF(AK38=0,0,(AK38*((LOG(AK38))/LOG(2))))","v":0},null,{"$f":"N38","v":22222},{"$f":"COUNTIF(L125:L154,AN38)","v":2},{"$f":"AO38/(AQ4-AO25)","v":6.6666666666666666E-2},{"$f":"IF(AP38=0,0,(AP38*((LOG(AP38))/LOG(2))))","v":-0.26045937304056793},null,{"$f":"N38","v":22222},{"$f":"COUNTIF(L155:L183,AS38)","v":0},{"$f":"AT38/(AV4-AT25)","v":0},{"$f":"IF(AU38=0,0,(AU38*((LOG(AU38))/LOG(2))))","v":0}]
[12,4322,13,4331,13,4335,14,4343,13,4347,0,11111,null,null,null,{"$f":"SUM(P7:P38)","v":0.99999999999999989},{"$f":"-SUM(Q7:Q38)","v":0.31307816790462017},null,null,null,null,{"$f":"SUM(V7:V38)","v":1},{"$f":"-SUM(W7:W38)","v":0},null,null,null,{"$f":"SUM(AA7:AA38)","v":0.99999999999999989},{"$f":"-SUM(AB7:AB38)","v":0.43101676897537733},null,null,null,{"$f":"SUM(AF7:AF38)","v":1},{"$f":"-SUM(AG7:AG38)","v":0.62749184366139688},null,null,null,{"$f":"SUM(AK7:AK38)","v":1},{"$f":"-SUM(AL7:AL38)","v":0},null,null,null,{"$f":"SUM(AP7:AP38)","v":1},{"$f":"-SUM(AQ7:AQ38)","v":0.35335933502142136},null,null,null,{"$f":"SUM(AU7:AU38)","v":1},{"$f":"-SUM(AV7:AV38)","v":0}]
[12,4453,13,4457,13,4461,14,4469,13,4474,0,11111,null,null,null,"U=",{"$f":"Q39/(LOG(Q4)/LOG(2))","v":4.1924840004590298E-2},null,null,null,null,"U1=",{"$f":"W39/(LOG(W4)/LOG(2))","v":0},null,null,null,"U2=",{"$f":"AB39/(LOG(AB4)/LOG(2))","v":8.8723436630912283E-2},null,null,null,"U3=",{"$f":"AG39/(LOG(AG4)/LOG(2))","v":0.12787972982788293},null,null,null,"U4=",{"$f":"AL39/(LOG(AL4)/LOG(2))","v":0},null,null,null,"U5=",{"$f":"AQ39/(LOG(AQ4)/LOG(2))","v":7.2012882320560523E-2},null,null,null,"U6=",{"$f":"AV39/(LOG(AV4)/LOG(2))","v":0}]
[12,4594,13,4598,13,4606,14,4610,13,4619,1,11111]
[12,4734,13,4738,13,4743,14,4747,13,4756,1,11111]
[12,4861,13,4871,13,4879,14,4884,13,4888,0,11111,null,"Total Target Seq"]
[12,4992,13,4996,13,5001,14,5005,13,5009,0,11111,null,{"$f":"COUNTIF(L7:L183,G3)","v":0},null,30,29,30,29,30,29]
[12,5114,13,5118,13,5122,14,5126,13,5139,0,11111,null,null,null,"% of reinforcement given in 6 equal intervals based on number of trials "]
[12,5250,13,5254,13,5258,14,5262,13,5266,0,11111,null,null,null,"%_1","%_2","%_3","%_4","%_5","%_6"]
[12,5379,13,5383,13,5387,14,5391,13,5396,0,11111,null,null,"target sequence",{"$f":"$G$3","v":21121},{"$f":"$G$3","v":21121},{"$f":"$G$3","v":21121},{"$f":"$G$3","v":21121},{"$f":"$G$3","v":21121},{"$f":"$G$3","v":21121}]
[12,5498,13,5506,13,5511,14,5515,13,5522,1,11111,null,null,"total reinforcement",{"$f":"U25","v":0},{"$f":"Z25","v":0},{"$f":"AE25","v":0},{"$f":"AJ25","v":0},{"$f":"AO25","v":0},{"$f":"AT25","v":0}]
[12,5645,13,5659,13,5675,14,5681,13,5687,0,11111,null,null,"% target"]
[12,5813,13,5824,13,5828,14,5833,13,5858,0,11111,null,null,"CCRF"]
[12,5961,13,5965,13,5969,14,5973,13,5983,1,11111,null,null,"% CCRf"]
[12,6092,13,6098,13,6105,14,6111,13,6121,0,11111,null,null,"average response rate",{"$f":"J36/P44","v":130.86666666666667},{"$f":"(J65-J36)/Q44","v":141.17241379310346},{"$f":"(J95-J65)/R44","v":139.1},{"$f":"(J124-J95)/S44","v":133.75862068965517},{"$f":"(J154-J124)/T44","v":133.30000000000001},{"$f":"(J183-J154)/U44","v":132.20689655172413}]
[12,6237,13,6240,13,6244,14,6252,13,6275,0,11111]
[12,6381,13,6394,13,6401,14,6405,13,6414,0,11111]
[12,6521,13,6525,13,6529,14,6537,13,6541,1,11111]
[12,6643,13,6656,13,6660,14,6668,13,6677,0,11111]
[12,6784,13,6792,13,6797,14,6806,13,6813,0,11111]
[12,6925,13,6929,13,6934,14,6939,13,6948,0,11111]
[12,7054,13,7058,13,7066,14,7074,13,7090,0,11111]
[12,7193,24,7212,24,7226,23,7243,24,7247,1,12222]
[12,7353,13,7365,13,7369,14,7374,13,7381,0,11111]
[12,7482,13,7494,13,7498,14,7502,13,7510,0,11111]
[12,7621,13,7625,13,7629,14,7634,13,7646,1,11111]
[12,7744,13,7763,13,7778,23,7872,24,7881,0,11122]
[12,7992,13,7996,13,8000,14,8012,13,8020,0,11111]
[12,8122,13,8127,13,8131,14,8135,13,8143,0,11111]
[12,8267,13,8272,13,8276,14,8280,13,8285,0,11111]
[12,8388,13,8393,13,8397,14,8401,13,8405,1,11111]
[12,8506,13,8511,13,8515,14,8523,13,8528,0,11111]
[12,8647,13,8652,13,8656,14,8668,24,8715,0,11112]
[12,8821,13,8829,13,8833,14,8841,13,8854,0,11111]
[12,8964,13,8968,13,8972,14,8976,13,8982,0,11111]
[12,9099,13,9103,13,9108,14,9116,13,9122,1,11111]
[12,9231,13,9239,13,9254,14,9261,13,9267,0,11111]
[12,9380,13,9384,13,9388,14,9398,13,9406,0,11111]
[12,9512,13,9516,13,9524,14,9532,13,9536,0,11111]
[12,9647,13,9651,13,9656,14,9659,13,9668,0,11111]
[12,9789,13,9798,13,9802,14,9806,13,9814,0,11111]
[12,9927,13,9931,13,9940,14,9947,13,9973,0,11111]
[12,10094,24,10119,24,10124,23,10139,24,10148,1,12222]
[12,10268,13,10277,13,10284,14,10296,13,10314,0,11111]
[12,10425,13,10429,13,10434,14,10438,13,10447,0,11111]
[12,10553,13,10557,13,10561,14,10566,13,10570,0,11111]
[12,10676,13,10689,13,10693,14,10698,13,10703,0,11111]
[12,10830,13,10834,13,10838,14,10847,13,10851,0,11111]
[12,10956,13,10965,13,10969,14,10973,13,10978,0,11111]
[12,11078,13,11083,13,11092,14,11096,13,11100,1,11111]
[12,11211,13,11216,13,11220,14,11224,13,11233,0,11111]
[12,11338,13,11342,13,11348,14,11352,13,11357,0,11111]
[12,11465,13,11470,13,11475,14,11480,13,11484,0,11111]
[12,11594,13,11599,13,11604,14,11608,13,11613,0,11111]
[12,11717,13,11721,13,11725,14,11734,13,11751,0,11111]
[21,11886,22,11891,24,11900,23,11904,24,11911,0,22222]
[12,12026,13,12031,13,12035,14,12043,13,12051,0,11111]
[12,12163,13,12171,13,12176,14,12180,13,12193,1,11111]
[12,12337,13,12346,13,12351,14,12355,13,12360,0,11111]
[12,12465,13,12473,13,12477,14,12485,13,12494,0,11111]
[12,12605,13,12609,13,12616,14,12624,13,12629,1,11111]
[12,12724,13,12738,13,12743,14,12755,13,12763,0,11111]
[12,12876,13,12880,13,12888,14,12892,13,12896,0,11111]
[12,13004,13,13008,13,13012,14,13019,13,13024,0,11111]
[12,13136,13,13140,13,13149,14,13154,13,13159,0,11111]
[12,13262,13,13268,13,13276,14,13281,13,13285,0,11111]
[12,13392,13,13396,13,13400,14,13404,13,13412,0,11111]
[12,13511,13,13520,13,13524,14,13528,13,13532,0,11111]
[12,13633,13,13637,13,13641,14,13645,13,13650,0,11111]
[12,13756,13,13760,13,13764,14,13768,13,13778,1,11111]
[12,13884,13,13888,13,13892,14,13896,13,13901,1,11111]
[12,14012,13,14021,13,14026,14,14030,13,14041,0,11111]
[12,14165,13,14174,13,14178,14,14190,13,14195,0,11111]
[12,14308,13,14313,13,14317,14,14321,13,14326,1,11111]
[12,14442,13,14451,13,14455,14,14460,13,14464,0,11111]
[12,14581,13,14585,13,14590,14,14599,13,14605,0,11111]
[12,14713,13,14721,13,14729,14,14734,13,14743,1,11111]
[12,14855,13,14863,13,14872,14,14880,13,14885,0,11111]
[12,14989,13,14998,13,15002,14,15016,13,15021,0,11111]
[12,15127,13,15139,13,15147,14,15156,13,15165,0,11111]
[12,15267,13,15271,13,15275,14,15279,13,15283,1,11111]
[12,15416,13,15424,13,15429,14,15433,13,15437,0,11111]
[12,15543,13,15547,13,15552,14,15556,13,15560,0,11111]
[12,15661,13,15666,13,15669,14,15673,13,15677,0,11111]
[12,15783,13,15787,13,15791,14,15796,13,15800,0,11111]
[12,15912,13,15916,13,15921,14,15925,13,15933,1,11111]
[12,16051,13,16056,13,16060,14,16068,13,16072,1,11111]
[21,16211,22,16216,24,16220,23,16225,24,16234,0,22222]
[12,16335,13,16343,13,16347,14,16354,13,16358,0,11111]
[12,16457,13,16462,13,16465,14,16469,13,16478,0,11111]
[12,16584,13,16588,13,16592,14,16596,13,16601,1,11111]
[12,16709,13,16713,13,16717,14,16724,13,16733,0,11111]
[12,16833,13,16837,13,16841,14,16844,13,16848,0,11111]
[12,16956,13,16960,13,16964,14,16968,13,16973,0,11111]
[12,17076,13,17080,13,17084,14,17088,13,17097,0,11111]
[12,17208,13,17212,13,17218,14,17226,13,17234,1,11111]
[12,17336,13,17344,13,17353,14,17358,13,17367,0,11111]
[12,17481,13,17485,13,17489,14,17493,13,17498,0,11111]
[12,17613,13,17620,13,17630,14,17635,13,17644,0,11111]
[12,17761,13,17765,13,17769,14,17774,13,17787,0,11111]
[12,17904,13,17908,13,17912,14,17919,13,17935,1,11111]
[12,18088,13,18093,13,18101,14,18106,13,18112,0,11111]
[12,18221,13,18226,13,18234,14,18239,13,18243,0,11111]
[12,18346,13,18353,13,18357,14,18365,13,18374,0,11111]
[21,18480,22,18485,24,18490,23,18498,24,18505,0,22222]
[12,18607,13,18612,13,18619,14,18624,13,18628,0,11111]
[12,18732,13,18736,13,18740,14,18745,13,18749,0,11111]
[12,18856,13,18860,13,18868,14,18877,13,18891,1,11111]
[12,18991,13,18995,13,19000,14,19010,13,19030,0,11111]
[12,19138,13,19142,13,19146,14,19150,13,19154,0,11111]
[12,19254,13,19258,13,19262,14,19266,13,19270,0,11111]
[12,19377,13,19386,13,19390,14,19398,13,19402,0,11111]
[12,19505,13,19509,13,19516,14,19520,13,19523,0,11111]
[12,19628,13,19636,13,19641,14,19646,13,19650,0,11111]
[12,19774,13,19778,13,19783,14,19787,13,19799,0,11111]
[12,19910,13,19918,13,19922,14,19927,13,19934,1,11111]
[12,20051,13,20056,13,20060,14,20066,13,20071,0,11111]
[12,20179,13,20186,13,20190,14,20194,13,20205,0,11111]
[12,20307,13,20315,13,20319,14,20331,13,20335,0,11111]
[12,20436,13,20444,13,20447,14,20451,13,20460,0,11111]
[12,20567,13,20576,13,20584,14,20588,13,20593,0,11111]
[12,20698,13,20706,13,20710,14,20718,13,20722,0,11111]
[12,20834,13,20838,13,20842,14,20846,13,20850,0,11111]
[12,20954,13,20967,13,20972,14,20976,13,20981,0,11111]
[12,21098,13,21102,13,21106,14,21110,13,21115,0,11111]
[12,21223,13,21231,13,21235,14,21239,13,21253,0,11111]
[12,21367,13,21371,13,21376,14,21380,13,21384,1,11111]
[12,21495,13,21504,13,21512,14,21516,13,21521,1,11111]
[12,21624,13,21629,13,21634,14,21654,13,21661,0,11111]
[12,21763,13,21767,13,21771,14,21776,13,21779,0,11111]
[12,21885,13,21889,13,21893,14,21897,13,21905,0,11111]
[12,22017,13,22024,13,22028,14,22033,13,22037,0,11111]
[12,22145,13,22165,13,22169,14,22178,13,22183,1,11111]
[12,22282,13,22291,13,22296,14,22316,13,22323,0,11111]
[12,22430,13,22434,13,22438,14,22443,13,22451,0,11111]
[12,22559,13,22568,13,22573,14,22578,13,22583,0,11111]
[12,22687,13,22695,13,22699,14,22703,13,22708,0,11111]
[12,22811,13,22815,13,22819,14,22824,13,22844,0,11111]
[12,22944,13,22948,13,22952,14,22960,13,22981,1,11111]
[12,23085,13,23089,13,23093,14,23101,13,23114,0,11111]
[12,23227,13,23238,13,23243,14,23254,13,23262,0,11111]
[12,23369,13,23378,13,23383,14,23387,13,23394,0,11111]
[12,23502,13,23506,13,23510,14,23518,13,23522,0,11111]
[12,23629,13,23633,13,23637,14,23641,13,23646,0,11111]
[12,23758,13,23766,13,23770,14,23774,13,23778,0,11111]
[12,23882,13,23886,13,23893,14,23897,13,23905,0,11111]

{"sheet":"!MC09940.010","index":12,"n_rows":192,"n_cols":48,"rows_kept":192,"cut":false,"hidden":false,"merged":[[4,39,4,42],[5,39,5,40],[4,44,4,47],[5,44,5,45],[4,24,4,27],[5,24,5,25],[4,29,4,32],[5,29,5,30],[4,34,4,37],[5,34,5,35],[1,1,1,2],[5,13,5,14],[42,13,42,14],[43,13,43,14],[4,19,4,22],[5,19,5,20]]}
["Report for:!MC09940.010"]
["Date:","<date>"]
["Hen:","<hen>",null,null,null,"Correct Sequence",{"$f":"Start!J2","v":21121},null,null,null,null,null,null,null,null,"Total Sequences in Data",{"$f":"4994-COUNTBLANK(L7:L5000)","v":186},null,null,null,null,"Total Sequences in Block Data",{"$f":"COUNTA(L7:L37)","v":31},null,null,null,"Total Sequences in Block Data",{"$f":"COUNTA(L38:L68)","v":31},null,null,null,"Total Sequences in Block Data",{"$f":"COUNTA(L69:L99)","v":31},null,null,null,"Total Sequences in Block Data",{"$f":"COUNTA(L100:L130)","v":31},null,null,null,"Total Sequences in Block Data",{"$f":"COUNTA(L131:L161)","v":31},null,null,null,"Total Sequences in Block Data",{"$f":"COUNTA(L162:L192)","v":31}]
[null,null,null,null,null,null,null,null,null,null,null,null,null,null,null,"Total Sequences in Summary",{"$f":"SUM(O7:O38)","v":185},null,null,null,null,"Total Sequences in Block Summary",{"$f":"SUM(U7:U38)","v":31},null,null,null,"Total Sequences in Block Summary",{"$f":"SUM(Z7:Z38)","v":31},null,null,null,"Total Sequences in Block Summary",{"$f":"SUM(AE7:AE38)","v":31},null,null,null,"Total Sequences in Block Summary",{"$f":"SUM(AJ7:AJ38)","v":31},null,null,null,"Total Sequences in Block Summary",{"$f":"SUM(AO7:AO38)","v":31},null,null,null,"Total Sequences in Block Summary",{"$f":"SUM(AT7:AT38)","v":30}]
[null,null,null,null,null,null,null,null,null,null,null,null,null,null,null,null,null,null,null,"Block 1",null,null,null,null,"Block 2",null,null,null,null,"Block 3",null,null,null,null,"Block 4",null,null,null,null,"Block 5",null,null,null,null,"Block 6"]
["Sequence\nComponent\n1","Time\n1","Sequence\nComponent\n2","Time\n2","Sequence\nComponent\n3","Time\n3","Sequence\nComponent\n4","Time\n4","Sequence\nComponent\n5","Time\n5","Correct?\n0=No 1=Yes","Sequence",null,"Frequency",null,"Relative Frequency","Variability",null,null,"Frequency",null,"Relative Frequency","Variability",null,"Frequency",null,"Relative Frequency","Variability",null,"Frequency",null,"Relative Frequency","Variability",null,"Frequency",null,"Relative Frequency","Variability",null,"Frequency",null,"Relative Frequency","Variability",null,"Frequency",null,"Relative Frequency","Variability"]
[12,22,13,26,13,31,14,35,13,39,0,11111,null,11111,{"$f":"COUNTIF($L$7:$L$500,N7)","v":181},{"$f":"O7/$Q$4","v":0.97837837837837838},{"$f":"IF(P7=0,0,(P7*((LOG(P7))/LOG(2))))","v":-3.0853723196715272E-2},null,null,{"$f":"N7","v":11111},{"$f":"COUNTIF(L7:L37,T7)","v":30},{"$f":"U7/(W4-U25)","v":0.967741935483871},{"$f":"IF(V7=0,0,(V7*((LOG(V7))/LOG(2))))","v":-4.5779723979054811E-2},null,{"$f":"N7","v":11111},{"$f":"COUNTIF(L38:L68,Y7)","v":31},{"$f":"Z7/(AB4-Z25)","v":1},{"$f":"IF(AA7=0,0,(AA7*((LOG(AA7))/LOG(2))))","v":0},null,{"$f":"N7","v":11111},{"$f":"COUNTIF(L69:L99,AD7)","v":31},{"$f":"AE7/(AG4-AE25)","v":1},{"$f":"IF(AF7=0,0,(AF7*((LOG(AF7))/LOG(2))))","v":0},null,{"$f":"N7","v":11111},{"$f":"COUNTIF(L100:L130,AI7)","v":31},{"$f":"AJ7/(AL4-AJ25)","v":1},{"$f":"IF(AK7=0,0,(AK7*((LOG(AK7))/LOG(2))))","v":0},null,{"$f":"N7","v":11111},{"$f":"COUNTIF(L131:L161,AN7)","v":30},{"$f":"AO7/(AQ4-AO25)","v":0.967741935483871},{"$f":"IF(AP7=0,0,(AP7*((LOG(AP7))/LOG(2))))","v":-4.5779723979054811E-2},null,{"$f":"N7","v":11111},{"$f":"COUNTIF(L162:L192,AS7)","v":28},{"$f":"AT7/(AV4-AT25)","v":0.93333333333333335},{"$f":"IF(AU7=0,0,(AU7*((LOG(AU7))/LOG(2))))","v":-9.2899961980853443E-2}]
[12,157,13,162,13,183,14,188,13,193,0,11111,null,11112,{"$f":"COUNTIF($L$7:$L$500,N8)","v":1},{"$f":"O8/$Q$4","v":5.4054054054054057E-3},{"$f":"IF(P8=0,0,(P8*((LOG(P8))/LOG(2))))","v":-4.0710170056844928E-2},null,null,{"$f":"N8","v":11112},{"$f":"COUNTIF(L7:L37,T8)","v":1},{"$f":"U8/(W4-U25)","v":3.2258064516129031E-2},{"$f":"IF(V8=0,0,(V8*((LOG(V8))/LOG(2))))","v":-0.15981278420602821},null,{"$f":"N8","v":11112},{"$f":"COUNTIF(L38:L68,Y8)","v":0},{"$f":"Z8/(AB4-Z25)","v":0},{"$f":"IF(AA8=0,0,(AA8*((LOG(AA8))/LOG(2))))","v":0},null,{"$f":"N8","v":11112},{"$f":"COUNTIF(L69:L99,AD8)","v":0},{"$f":"AE8/(AG4-AE25)","v":0},{"$f":"IF(AF8=0,0,(AF8*((LOG(AF8))/LOG(2))))","v":0},null,{"$f":"N8","v":11112},{"$f":"COUNTIF(L100:L130,AI8)","v":0},{"$f":"AJ8/(AL4-AJ25)","v":0},{"$f":"IF(AK8=0,0,(AK8*((LOG(AK8))/LOG(2))))","v":0},null,{"$f":"N8","v":11112},{"$f":"COUNTIF(L131:L161,AN8)","v":0},{"$f":"AO8/(AQ4-AO25)","v":0},{"$f":"IF(AP8=0,0,(AP8*((LOG(AP8))/LOG(2))))","v":0},null,{"$f":"N8","v":11112},{"$f":"COUNTIF(L162:L192,AS8)","v":0},{"$f":"AT8/(AV4-AT25)","v":0},{"$f":"IF(AU8=0,0,(AU8*((LOG(AU8))/LOG(2))))","v":0}]
[12,304,13,309,13,313,14,318,13,323,1,11111,null,11121,{"$f":"COUNTIF($L$7:$L$500,N9)","v":0},{"$f":"O9/$Q$4","v":0},{"$f":"IF(P9=0,0,(P9*((LOG(P9))/LOG(2))))","v":0},null,null,{"$f":"N9","v":11121},{"$f":"COUNTIF(L7:L37,T9)","v":0},{"$f":"U9/(W4-U25)","v":0},{"$f":"IF(V9=0,0,(V9*((LOG(V9))/LOG(2))))","v":0},null,{"$f":"N9","v":11121},{"$f":"COUNTIF(L38:L68,Y9)","v":0},{"$f":"Z9/(AB4-Z25)","v":0},{"$f":"IF(AA9=0,0,(AA9*((LOG(AA9))/LOG(2))))","v":0},null,{"$f":"N9","v":11121},{"$f":"COUNTIF(L69:L99,AD9)","v":0},{"$f":"AE9/(AG4-AE25)","v":0},{"$f":"IF(AF9=0,0,(AF9*((LOG(AF9))/LOG(2))))","v":0},null,{"$f":"N9","v":11121},{"$f":"COUNTIF(L100:L130,AI9)","v":0},{"$f":"AJ9/(AL4-AJ25)","v":0},{"$f":"IF(AK9=0,0,(AK9*((LOG(AK9))/LOG(2))))","v":0},null,{"$f":"N9","v":11121},{"$f":"COUNTIF(L131:L161,AN9)","v":0},{"$f":"AO9/(AQ4-AO25)","v":0},{"$f":"IF(AP9=0,0,(AP9*((LOG(AP9))/LOG(2))))","v":0},null,{"$f":"N9","v":11121},{"$f":"COUNTIF(L162:L192,AS9)","v":0},{"$f":"AT9/(AV4-AT25)","v":0},{"$f":"IF(AU9=0,0,(AU9*((LOG(AU9))/LOG(2))))","v":0}]
[12,418,13,422,13,427,14,431,13,435,0,11111,null,11122,{"$f":"COUNTIF($L$7:$L$500,N10)","v":0},{"$f":"O10/$Q$4","v":0},{"$f":"IF(P10=0,0,(P10*((LOG(P10))/LOG(2))))","v":0},null,null,{"$f":"N10","v":11122},{"$f":"COUNTIF(L7:L37,T10)","v":0},{"$f":"U10/(W4-U25)","v":0},{"$f":"IF(V10=0,0,(V10*((LOG(V10))/LOG(2))))","v":0},null,{"$f":"N10","v":11122},{"$f":"COUNTIF(L38:L68,Y10)","v":0},{"$f":"Z10/(AB4-Z25)","v":0},{"$f":"IF(AA10=0,0,(AA10*((LOG(AA10))/LOG(2))))","v":0},null,{"$f":"N10","v":11122},{"$f":"COUNTIF(L69:L99,AD10)","v":0},{"$f":"AE10/(AG4-AE25)","v":0},{"$f":"IF(AF10=0,0,(AF10*((LOG(AF10))/LOG(2))))","v":0},null,{"$f":"N10","v":11122},{"$f":"COUNTIF(L100:L130,AI10)","v":0},{"$f":"AJ10/(AL4-AJ25)","v":0},{"$f":"IF(AK10=0,0,(AK10*((LOG(AK10))/LOG(2))))","v":0},null,{"$f":"N10","v":11122},{"$f":"COUNTIF(L131:L161,AN10)","v":0},{"$f":"AO10/(AQ4-AO25)","v":0},{"$f":"IF(AP10=0,0,(AP10*((LOG(AP10))/LOG(2))))","v":0},null,{"$f":"N10","v":11122},{"$f":"COUNTIF(L162:L192,AS10)","v":0},{"$f":"AT10/(AV4-AT25)","v":0},{"$f":"IF(AU10=0,0,(AU10*((LOG(AU10))/LOG(2))))","v":0}]
[12,541,13,545,13,549,14,553,13,559,0,11111,null,11211,{"$f":"COUNTIF($L$7:$L$500,N11)","v":0},{"$f":"O11/$Q$4","v":0},{"$f":"IF(P11=0,0,(P11*((LOG(P11))/LOG(2))))","v":0},null,null,{"$f":"N11","v":11211},{"$f":"COUNTIF(L7:L37,T11)","v":0},{"$f":"U11/(W4-U25)","v":0},{"$f":"IF(V11=0,0,(V11*((LOG(V11))/LOG(2))))","v":0},null,{"$f":"N11","v":11211},{"$f":"COUNTIF(L38:L68,Y11)","v":0},{"$f":"Z11/(AB4-Z25)","v":0},{"$f":"IF(AA11=0,0,(AA11*((LOG(AA11))/LOG(2))))","v":0},null,{"$f":"N11","v":11211},{"$f":"COUNTIF(L69:L99,AD11)","v":0},{"$f":"AE11/(AG4-AE25)","v":0},{"$f":"IF(AF11=0,0,(AF11*((LOG(AF11))/LOG(2))))","v":0},null,{"$f":"N11","v":11211},{"$f":"COUNTIF(L100:L130,AI11)","v":0},{"$f":"AJ11/(AL4-AJ25)","v":0},{"$f":"IF(AK11=0,0,(AK11*((LOG(AK11))/LOG(2))))","v":0},null,{"$f":"N11","v":11211},{"$f":"COUNTIF(L131:L161,AN11)","v":0},{"$f":"AO11/(AQ4-AO25)","v":0},{"$f":"IF(AP11=0,0,(AP11*((LOG(AP11))/LOG(2))))","v":0},null,{"$f":"N11","v":11211},{"$f":"COUNTIF(L162:L192,AS11)","v":0},{"$f":"AT11/(AV4-AT25)","v":0},{"$f":"IF(AU11=0,0,(AU11*((LOG(AU11))/LOG(2))))","v":0}]
[12,662,13,667,13,671,14,675,13,681,0,11111,null,11212,{"$f":"COUNTIF($L$7:$L$500,N12)","v":0},{"$f":"O12/$Q$4","v":0},{"$f":"IF(P12=0,0,(P12*((LOG(P12))/LOG(2))))","v":0},null,null,{"$f":"N12","v":11212},{"$f":"COUNTIF(L7:L37,T12)","v":0},{"$f":"U12/(W4-U25)","v":0},{"$f":"IF(V12=0,0,(V12*((LOG(V12))/LOG(2))))","v":0},null,{"$f":"N12","v":11212},{"$f":"COUNTIF(L38:L68,Y12)","v":0},{"$f":"Z12/(AB4-Z25)","v":0},{"$f":"IF(AA12=0,0,(AA12*((LOG(AA12))/LOG(2))))","v":0},null,{"$f":"N12","v":11212},{"$f":"COUNTIF(L69:L99,AD12)","v":0},{"$f":"AE12/(AG4-AE25)","v":0},{"$f":"IF(AF12=0,0,(AF12*((LOG(AF12))/LOG(2))))","v":0},null,{"$f":"N12","v":11212},{"$f":"COUNTIF(L100:L130,AI12)","v":0},{"$f":"AJ12/(AL4-AJ25)","v":0},{"$f":"IF(AK12=0,0,(AK12*((LOG(AK12))/LOG(2))))","v":0},null,{"$f":"N12","v":11212},{"$f":"COUNTIF(L131:L161,AN12)","v":0},{"$f":"AO12/(AQ4-AO25)","v":0},{"$f":"IF(AP12=0,0,(AP12*((LOG(AP12))/LOG(2))))","v":0},null,{"$f":"N12","v":11212},{"$f":"COUNTIF(L162:L192,AS12)","v":0},{"$f":"AT12/(AV4-AT25)","v":0},{"$f":"IF(AU12=0,0,(AU12*((LOG(AU12))/LOG(2))))","v":0}]
[12,784,13,789,13,793,14,797,13,802,0,11111,null,11221,{"$f":"COUNTIF($L$7:$L$500,N13)","v":0},{"$f":"O13/$Q$4","v":0},{"$f":"IF(P13=0,0,(P13*((LOG(P13))/LOG(2))))","v":0},null,null,{"$f":"N13","v":11221},{"$f":"COUNTIF(L7:L37,T13)","v":0},{"$f":"U13/(W4-U25)","v":0},{"$f":"IF(V13=0,0,(V13*((LOG(V13))/LOG(2))))","v":0},null,{"$f":"N13","v":11221},{"$f":"COUNTIF(L38:L68,Y13)","v":0},{"$f":"Z13/(AB4-Z25)","v":0},{"$f":"IF(AA13=0,0,(AA13*((LOG(AA13))/LOG(2))))","v":0},null,{"$f":"N13","v":11221},{"$f":"COUNTIF(L69:L99,AD13)","v":0},{"$f":"AE13/(AG4-AE25)","v":0},{"$f":"IF(AF13=0,0,(AF13*((LOG(AF13))/LOG(2))))","v":0},null,{"$f":"N13","v":11221},{"$f":"COUNTIF(L100:L130,AI13)","v":0},{"$f":"AJ13/(AL4-AJ25)","v":0},{"$f":"IF(AK13=0,0,(AK13*((LOG(AK13))/LOG(2))))","v":0},null,{"$f":"N13","v":11221},{"$f":"COUNTIF(L131:L161,AN13)","v":0},{"$f":"AO13/(AQ4-AO25)","v":0},{"$f":"IF(AP13=0,0,(AP13*((LOG(AP13))/LOG(2))))","v":0},null,{"$f":"N13","v":11221},{"$f":"COUNTIF(L162:L192,AS13)","v":0},{"$f":"AT13/(AV4-AT25)","v":0},{"$f":"IF(AU13=0,0,(AU13*((LOG(AU13))/LOG(2))))","v":0}]
[12,926,13,930,13,934,14,938,13,943,0,11111,null,11222,{"$f":"COUNTIF($L$7:$L$500,N14)","v":0},{"$f":"O14/$Q$4","v":0},{"$f":"IF(P14=0,0,(P14*((LOG(P14))/LOG(2))))","v":0},null,null,{"$f":"N14","v":11222},{"$f":"COUNTIF(L7:L37,T14)","v":0},{"$f":"U14/(W4-U25)","v":0},{"$f":"IF(V14=0,0,(V14*((LOG(V14))/LOG(2))))","v":0},null,{"$f":"N14","v":11222},{"$f":"COUNTIF(L38:L68,Y14)","v":0},{"$f":"Z14/(AB4-Z25)","v":0},{"$f":"IF(AA14=0,0,(AA14*((LOG(AA14))/LOG(2))))","v":0},null,{"$f":"N14","v":11222},{"$f":"COUNTIF(L69:L99,AD14)","v":0},{"$f":"AE14/(AG4-AE25)","v":0},{"$f":"IF(AF14=0,0,(AF14*((LOG(AF14))/LOG(2))))","v":0},null,{"$f":"N14","v":11222},{"$f":"COUNTIF(L100:L130,AI14)","v":0},{"$f":"AJ14/(AL4-AJ25)","v":0},{"$f":"IF(AK14=0,0,(AK14*((LOG(AK14))/LOG(2))))","v":0},null,{"$f":"N14","v":11222},{"$f":"COUNTIF(L131:L161,AN14)","v":0},{"$f":"AO14/(AQ4-AO25)","v":0},{"$f":"IF(AP14=0,0,(AP14*((LOG(AP14))/LOG(2))))","v":0},null,{"$f":"N14","v":11222},{"$f":"COUNTIF(L162:L192,AS14)","v":0},{"$f":"AT14/(AV4-AT25)","v":0},{"$f":"IF(AU14=0,0,(AU14*((LOG(AU14))/LOG(2))))","v":0}]
[12,1053,13,1056,13,1061,14,1065,13,1070,0,11111,null,12111,{"$f":"COUNTIF($L$7:$L$500,N15)","v":0},{"$f":"O15/$Q$4","v":0},{"$f":"IF(P15=0,0,(P15*((LOG(P15))/LOG(2))))","v":0},null,null,{"$f":"N15","v":12111},{"$f":"COUNTIF(L7:L37,T15)","v":0},{"$f":"U15/(W4-U25)","v":0},{"$f":"IF(V15=0,0,(V15*((LOG(V15))/LOG(2))))","v":0},null,{"$f":"N15","v":12111},{"$f":"COUNTIF(L38:L68,Y15)","v":0},{"$f":"Z15/(AB4-Z25)","v":0},{"$f":"IF(AA15=0,0,(AA15*((LOG(AA15))/LOG(2))))","v":0},null,{"$f":"N15","v":12111},{"$f":"COUNTIF(L69:L99,AD15)","v":0},{"$f":"AE15/(AG4-AE25)","v":0},{"$f":"IF(AF15=0,0,(AF15*((LOG(AF15))/LOG(2))))","v":0},null,{"$f":"N15","v":12111},{"$f":"COUNTIF(L100:L130,AI15)","v":0},{"$f":"AJ15/(AL4-AJ25)","v":0},{"$f":"IF(AK15=0,0,(AK15*((LOG(AK15))/LOG(2))))","v":0},null,{"$f":"N15","v":12111},{"$f":"COUNTIF(L131:L161,AN15)","v":0},{"$f":"AO15/(AQ4-AO25)","v":0},{"$f":"IF(AP15=0,0,(AP15*((LOG(AP15))/LOG(2))))","v":0},null,{"$f":"N15","v":12111},{"$f":"COUNTIF(L162:L192,AS15)","v":0},{"$f":"AT15/(AV4-AT25)","v":0},{"$f":"IF(AU15=0,0,(AU15*((LOG(AU15))/LOG(2))))","v":0}]
[12,1176,13,1180,13,1187,14,1192,13,1197,0,11111,null,12112,{"$f":"COUNTIF($L$7:$L$500,N16)","v":0},{"$f":"O16/$Q$4","v":0},{"$f":"IF(P16=0,0,(P16*((LOG(P16))/LOG(2))))","v":0},null,null,{"$f":"N16","v":12112},{"$f":"COUNTIF(L7:L37,T16)","v":0},{"$f":"U16/(W4-U25)","v":0},{"$f":"IF(V16=0,0,(V16*((LOG(V16))/LOG(2))))","v":0},null,{"$f":"N16","v":12112},{"$f":"COUNTIF(L38:L68,Y16)","v":0},{"$f":"Z16/(AB4-Z25)","v":0},{"$f":"IF(AA16=0,0,(AA16*((LOG(AA16))/LOG(2))))","v":0},null,{"$f":"N16","v":12112},{"$f":"COUNTIF(L69:L99,AD16)","v":0},{"$f":"AE16/(AG4-AE25)","v":0},{"$f":"IF(AF16=0,0,(AF16*((LOG(AF16))/LOG(2))))","v":0},null,{"$f":"N16","v":12112},{"$f":"COUNTIF(L100:L130,AI16)","v":0},{"$f":"AJ16/(AL4-AJ25)","v":0},{"$f":"IF(AK16=0,0,(AK16*((LOG(AK16))/LOG(2))))","v":0},null,{"$f":"N16","v":12112},{"$f":"COUNTIF(L131:L161,AN16)","v":0},{"$f":"AO16/(AQ4-AO25)","v":0},{"$f":"IF(AP16=0,0,(AP16*((LOG(AP16))/LOG(2))))","v":0},null,{"$f":"N16","v":12112},{"$f":"COUNTIF(L162:L192,AS16)","v":0},{"$f":"AT16/(AV4-AT25)","v":0},{"$f":"IF(AU16=0,0,(AU16*((LOG(AU16))/LOG(2))))","v":0}]
[12,1300,13,1304,13,1308,14,1312,13,1317,1,11111,null,12121,{"$f":"COUNTIF($L$7:$L$500,N17)","v":0},{"$f":"O17/$Q$4","v":0},{"$f":"IF(P17=0,0,(P17*((LOG(P17))/LOG(2))))","v":0},null,null,{"$f":"N17","v":12121},{"$f":"COUNTIF(L7:L37,T17)","v":0},{"$f":"U17/(W4-U25)","v":0},{"$f":"IF(V17=0,0,(V17*((LOG(V17))/LOG(2))))","v":0},null,{"$f":"N17","v":12121},{"$f":"COUNTIF(L38:L68,Y17)","v":0},{"$f":"Z17/(AB4-Z25)","v":0},{"$f":"IF(AA17=0,0,(AA17*((LOG(AA17))/LOG(2))))","v":0},null,{"$f":"N17","v":12121},{"$f":"COUNTIF(L69:L99,AD17)","v":0},{"$f":"AE17/(AG4-AE25)","v":0},{"$f":"IF(AF17=0,0,(AF17*((LOG(AF17))/LOG(2))))","v":0},null,{"$f":"N17","v":12121},{"$f":"COUNTIF(L100:L130,AI17)","v":0},{"$f":"AJ17/(AL4-AJ25)","v":0},{"$f":"IF(AK17=0,0,(AK17*((LOG(AK17))/LOG(2))))","v":0},null,{"$f":"N17","v":12121},{"$f":"COUNTIF(L131:L161,AN17)","v":0},{"$f":"AO17/(AQ4-AO25)","v":0},{"$f":"IF(AP17=0,0,(AP17*((LOG(AP17))/LOG(2))))","v":0},null,{"$f":"N17","v":12121},{"$f":"COUNTIF(L162:L192,AS17)","v":0},{"$f":"AT17/(AV4-AT25)","v":0},{"$f":"IF(AU17=0,0,(AU17*((LOG(AU17))/LOG(2))))","v":0}]
[12,1424,13,1428,13,1440,14,1454,13,1459,0,11111,null,12122,{"$f":"COUNTIF($L$7:$L$500,N18)","v":0},{"$f":"O18/$Q$4","v":0},{"$f":"IF(P18=0,0,(P18*((LOG(P18))/LOG(2))))","v":0},null,null,{"$f":"N18","v":12122},{"$f":"COUNTIF(L7:L37,T18)","v":0},{"$f":"U18/(W4-U25)","v":0},{"$f":"IF(V18=0,0,(V18*((LOG(V18))/LOG(2))))","v":0},null,{"$f":"N18","v":12122},{"$f":"COUNTIF(L38:L68,Y18)","v":0},{"$f":"Z18/(AB4-Z25)","v":0},{"$f":"IF(AA18=0,0,(AA18*((LOG(AA18))/LOG(2))))","v":0},null,{"$f":"N18","v":12122},{"$f":"COUNTIF(L69:L99,AD18)","v":0},{"$f":"AE18/(AG4-AE25)","v":0},{"$f":"IF(AF18=0,0,(AF18*((LOG(AF18))/LOG(2))))","v":0},null,{"$f":"N18","v":12122},{"$f":"COUNTIF(L100:L130,AI18)","v":0},{"$f":"AJ18/(AL4-AJ25)","v":0},{"$f":"IF(AK18=0,0,(AK18*((LOG(AK18))/LOG(2))))","v":0},null,{"$f":"N18","v":12122},{"$f":"COUNTIF(L131:L161,AN18)","v":0},{"$f":"AO18/(AQ4-AO25)","v":0},{"$f":"IF(AP18=0,0,(AP18*((LOG(AP18))/LOG(2))))","v":0},null,{"$f":"N18","v":12122},{"$f":"COUNTIF(L162:L192,AS18)","v":0},{"$f":"AT18/(AV4-AT25)","v":0},{"$f":"IF(AU18=0,0,(AU18*((LOG(AU18))/LOG(2))))","v":0}]
[12,1564,13,1578,13,1583,14,1589,24,1614,0,11112,null,12211,{"$f":"COUNTIF($L$7:$L$500,N19)","v":0},{"$f":"O19/$Q$4","v":0},{"$f":"IF(P19=0,0,(P19*((LOG(P19))/LOG(2))))","v":0},null,null,{"$f":"N19","v":12211},{"$f":"COUNTIF(L7:L37,T19)","v":0},{"$f":"U19/(W4-U25)","v":0},{"$f":"IF(V19=0,0,(V19*((LOG(V19))/LOG(2))))","v":0},null,{"$f":"N19","v":12211},{"$f":"COUNTIF(L38:L68,Y19)","v":0},{"$f":"Z19/(AB4-Z25)","v":0},{"$f":"IF(AA19=0,0,(AA19*((LOG(AA19))/LOG(2))))","v":0},null,{"$f":"N19","v":12211},{"$f":"COUNTIF(L69:L99,AD19)","v":0},{"$f":"AE19/(AG4-AE25)","v":0},{"$f":"IF(AF19=0,0,(AF19*((LOG(AF19))/LOG(2))))","v":0},null,{"$f":"N19","v":12211},{"$f":"COUNTIF(L100:L130,AI19)","v":0},{"$f":"AJ19/(AL4-AJ25)","v":0},{"$f":"IF(AK19=0,0,(AK19*((LOG(AK19))/LOG(2))))","v":0},null,{"$f":"N19","v":12211},{"$f":"COUNTIF(L131:L161,AN19)","v":0},{"$f":"AO19/(AQ4-AO25)","v":0},{"$f":"IF(AP19=0,0,(AP19*((LOG(AP19))/LOG(2))))","v":0},null,{"$f":"N19","v":12211},{"$f":"COUNTIF(L162:L192,AS19)","v":0},{"$f":"AT19/(AV4-AT25)","v":0},{"$f":"IF(AU19=0,0,(AU19*((LOG(AU19))/LOG(2))))","v":0}]
[12,1720,13,1723,13,1728,14,1732,13,1736,0,11111,null,12212,{"$f":"COUNTIF($L$7:$L$500,N20)","v":0},{"$f":"O20/$Q$4","v":0},{"$f":"IF(P20=0,0,(P20*((LOG(P20))/LOG(2))))","v":0},null,null,{"$f":"N20","v":12212},{"$f":"COUNTIF(L7:L37,T20)","v":0},{"$f":"U20/(W4-U25)","v":0},{"$f":"IF(V20=0,0,(V20*((LOG(V20))/LOG(2))))","v":0},null,{"$f":"N20","v":12212},{"$f":"COUNTIF(L38:L68,Y20)","v":0},{"$f":"Z20/(AB4-Z25)","v":0},{"$f":"IF(AA20=0,0,(AA20*((LOG(AA20))/LOG(2))))","v":0},null,{"$f":"N20","v":12212},{"$f":"COUNTIF(L69:L99,AD20)","v":0},{"$f":"AE20/(AG4-AE25)","v":0},{"$f":"IF(AF20=0,0,(AF20*((LOG(AF20))/LOG(2))))","v":0},null,{"$f":"N20","v":12212},{"$f":"COUNTIF(L100:L130,AI20)","v":0},{"$f":"AJ20/(AL4-AJ25)","v":0},{"$f":"IF(AK20=0,0,(AK20*((LOG(AK20))/LOG(2))))","v":0},null,{"$f":"N20","v":12212},{"$f":"COUNTIF(L131:L161,AN20)","v":0},{"$f":"AO20/(AQ4-AO25)","v":0},{"$f":"IF(AP20=0,0,(AP20*((LOG(AP20))/LOG(2))))","v":0},null,{"$f":"N20","v":12212},{"$f":"COUNTIF(L162:L192,AS20)","v":0},{"$f":"AT20/(AV4-AT25)","v":0},{"$f":"IF(AU20=0,0,(AU20*((LOG(AU20))/LOG(2))))","v":0}]
[12,1844,13,1855,13,1862,14,1867,13,1872,0,11111,null,12221,{"$f":"COUNTIF($L$7:$L$500,N21)","v":0},{"$f":"O21/$Q$4","v":0},{"$f":"IF(P21=0,0,(P21*((LOG(P21))/LOG(2))))","v":0},null,null,{"$f":"N21","v":12221},{"$f":"COUNTIF(L7:L37,T21)","v":0},{"$f":"U21/(W4-U25)","v":0},{"$f":"IF(V21=0,0,(V21*((LOG(V21))/LOG(2))))","v":0},null,{"$f":"N21","v":12221},{"$f":"COUNTIF(L38:L68,Y21)","v":0},{"$f":"Z21/(AB4-Z25)","v":0},{"$f":"IF(AA21=0,0,(AA21*((LOG(AA21))/LOG(2))))","v":0},null,{"$f":"N21","v":12221},{"$f":"COUNTIF(L69:L99,AD21)","v":0},{"$f":"AE21/(AG4-AE25)","v":0},{"$f":"IF(AF21=0,0,(AF21*((LOG(AF21))/LOG(2))))","v":0},null,{"$f":"N21","v":12221},{"$f":"COUNTIF(L100:L130,AI21)","v":0},{"$f":"AJ21/(AL4-AJ25)","v":0},{"$f":"IF(AK21=0,0,(AK21*((LOG(AK21))/LOG(2))))","v":0},null,{"$f":"N21","v":12221},{"$f":"COUNTIF(L131:L161,AN21)","v":0},{"$f":"AO21/(AQ4-AO25)","v":0},{"$f":"IF(AP21=0,0,(AP21*((LOG(AP21))/LOG(2))))","v":0},null,{"$f":"N21","v":12221},{"$f":"COUNTIF(L162:L192,AS21)","v":0},{"$f":"AT21/(AV4-AT25)","v":0},{"$f":"IF(AU21=0,0,(AU21*((LOG(AU21))/LOG(2))))","v":0}]
[12,2005,13,2009,13,2014,14,2019,13,2033,0,11111,null,12222,{"$f":"COUNTIF($L$7:$L$500,N22)","v":0},{"$f":"O22/$Q$4","v":0},{"$f":"IF(P22=0,0,(P22*((LOG(P22))/LOG(2))))","v":0},null,null,{"$f":"N22","v":12222},{"$f":"COUNTIF(L7:L37,T22)","v":0},{"$f":"U22/(W4-U25)","v":0},{"$f":"IF(V22=0,0,(V22*((LOG(V22))/LOG(2))))","v":0},null,{"$f":"N22","v":12222},{"$f":"COUNTIF(L38:L68,Y22)","v":0},{"$f":"Z22/(AB4-Z25)","v":0},{"$f":"IF(AA22=0,0,(AA22*((LOG(AA22))/LOG(2))))","v":0},null,{"$f":"N22","v":12222},{"$f":"COUNTIF(L69:L99,AD22)","v":0},{"$f":"AE22/(AG4-AE25)","v":0},{"$f":"IF(AF22=0,0,(AF22*((LOG(AF22))/LOG(2))))","v":0},null,{"$f":"N22","v":12222},{"$f":"COUNTIF(L100:L130,AI22)","v":0},{"$f":"AJ22/(AL4-AJ25)","v":0},{"$f":"IF(AK22=0,0,(AK22*((LOG(AK22))/LOG(2))))","v":0},null,{"$f":"N22","v":12222},{"$f":"COUNTIF(L131:L161,AN22)","v":0},{"$f":"AO22/(AQ4-AO25)","v":0},{"$f":"IF(AP22=0,0,(AP22*((LOG(AP22))/LOG(2))))","v":0},null,{"$f":"N22","v":12222},{"$f":"COUNTIF(L162:L192,AS22)","v":0},{"$f":"AT22/(AV4-AT25)","v":0},{"$f":"IF(AU22=0,0,(AU22*((LOG(AU22))/LOG(2))))","v":0}]
[12,2161,13,2171,13,2176,14,2188,13,2192,0,11111,null,21111,{"$f":"COUNTIF($L$7:$L$500,N23)","v":0},{"$f":"O23/$Q$4","v":0},{"$f":"IF(P23=0,0,(P23*((LOG(P23))/LOG(2))))","v":0},null,null,{"$f":"N23","v":21111},{"$f":"COUNTIF(L7:L37,T23)","v":0},{"$f":"U23/(W4-U25)","v":0},{"$f":"IF(V23=0,0,(V23*((LOG(V23))/LOG(2))))","v":0},null,{"$f":"N23","v":21111},{"$f":"COUNTIF(L38:L68,Y23)","v":0},{"$f":"Z23/(AB4-Z25)","v":0},{"$f":"IF(AA23=0,0,(AA23*((LOG(AA23))/LOG(2))))","v":0},null,{"$f":"N23","v":21111},{"$f":"COUNTIF(L69:L99,AD23)","v":0},{"$f":"AE23/(AG4-AE25)","v":0},{"$f":"IF(AF23=0,0,(AF23*((LOG(AF23))/LOG(2))))","v":0},null,{"$f":"N23","v":21111},{"$f":"COUNTIF(L100:L130,AI23)","v":0},{"$f":"AJ23/(AL4-AJ25)","v":0},{"$f":"IF(AK23=0,0,(AK23*((LOG(AK23))/LOG(2))))","v":0},null,{"$f":"N23","v":21111},{"$f":"COUNTIF(L131:L161,AN23)","v":0},{"$f":"AO23/(AQ4-AO25)","v":0},{"$f":"IF(AP23=0,0,(AP23*((LOG(AP23))/LOG(2))))","v":0},null,{"$f":"N23","v":21111},{"$f":"COUNTIF(L162:L192,AS23)","v":0},{"$f":"AT23/(AV4-AT25)","v":0},{"$f":"IF(AU23=0,0,(AU23*((LOG(AU23))/LOG(2))))","v":0}]
[12,2286,13,2299,13,2305,14,2309,13,2313,1,11111,null,21112,{"$f":"COUNTIF($L$7:$L$500,N24)","v":0},{"$f":"O24/$Q$4","v":0},{"$f":"IF(P24=0,0,(P24*((LOG(P24))/LOG(2))))","v":0},null,null,{"$f":"N24","v":21112},{"$f":"COUNTIF(L7:L37,T24)","v":0},{"$f":"U24/(W4-U25)","v":0},{"$f":"IF(V24=0,0,(V24*((LOG(V24))/LOG(2))))","v":0},null,{"$f":"N24","v":21112},{"$f":"COUNTIF(L38:L68,Y24)","v":0},{"$f":"Z24/(AB4-Z25)","v":0},{"$f":"IF(AA24=0,0,(AA24*((LOG(AA24))/LOG(2))))","v":0},null,{"$f":"N24","v":21112},{"$f":"COUNTIF(L69:L99,AD24)","v":0},{"$f":"AE24/(AG4-AE25)","v":0},{"$f":"IF(AF24=0,0,(AF24*((LOG(AF24))/LOG(2))))","v":0},null,{"$f":"N24","v":21112},{"$f":"COUNTIF(L100:L130,AI24)","v":0},{"$f":"AJ24/(AL4-AJ25)","v":0},{"$f":"IF(AK24=0,0,(AK24*((LOG(AK24))/LOG(2))))","v":0},null,{"$f":"N24","v":21112},{"$f":"COUNTIF(L131:L161,AN24)","v":0},{"$f":"AO24/(AQ4-AO25)","v":0},{"$f":"IF(AP24=0,0,(AP24*((LOG(AP24))/LOG(2))))","v":0},null,{"$f":"N24","v":21112},{"$f":"COUNTIF(L162:L192,AS24)","v":0},{"$f":"AT24/(AV4-AT25)","v":0},{"$f":"IF(AU24=0,0,(AU24*((LOG(AU24))/LOG(2))))","v":0}]
[12,2411,13,2419,13,2428,14,2439,13,2444,1,11111,null,21121,{"$f":"COUNTIF($L$7:$L$500,N25)","v":0},{"$f":"O25/$Q$4","v":0},{"$f":"IF(P25=0,0,(P25*((LOG(P25))/LOG(2))))","v":0},null,null,{"$f":"N25","v":21121},{"$f":"COUNTIF(L7:L37,T25)","v":0},null,null,null,{"$f":"N25","v":21121},{"$f":"COUNTIF(L38:L68,Y25)","v":0},null,null,null,{"$f":"N25","v":21121},{"$f":"COUNTIF(L69:L99,AD25)","v":0},null,null,null,{"$f":"N25","v":21121},{"$f":"COUNTIF(L100:L130,AI25)","v":0},null,null,null,{"$f":"N25","v":21121},{"$f":"COUNTIF(L131:L161,AN25)","v":0},null,null,null,{"$f":"N25","v":21121},{"$f":"COUNTIF(L162:L192,AS25)","v":0}]
[12,2546,13,2555,13,2560,14,2565,13,2582,0,11111,null,21122,{"$f":"COUNTIF($L$7:$L$500,N26)","v":0},{"$f":"O26/$Q$4","v":0},{"$f":"IF(P26=0,0,(P26*((LOG(P26))/LOG(2))))","v":0},null,null,{"$f":"N26","v":21122},{"$f":"COUNTIF(L7:L37,T26)","v":0},{"$f":"U26/(W4-U25)","v":0},{"$f":"IF(V26=0,0,(V26*((LOG(V26))/LOG(2))))","v":0},null,{"$f":"N26","v":21122},{"$f":"COUNTIF(L38:L68,Y26)","v":0},{"$f":"Z26/(AB4-Z25)","v":0},{"$f":"IF(AA26=0,0,(AA26*((LOG(AA26))/LOG(2))))","v":0},null,{"$f":"N26","v":21122},{"$f":"COUNTIF(L69:L99,AD26)","v":0},{"$f":"AE26/(AG4-AE25)","v":0},{"$f":"IF(AF26=0,0,(AF26*((LOG(AF26))/LOG(2))))","v":0},null,{"$f":"N26","v":21122},{"$f":"COUNTIF(L100:L130,AI26)","v":0},{"$f":"AJ26/(AL4-AJ25)","v":0},{"$f":"IF(AK26=0,0,(AK26*((LOG(AK26))/LOG(2))))","v":0},null,{"$f":"N26","v":21122},{"$f":"COUNTIF(L131:L161,AN26)","v":0},{"$f":"AO26/(AQ4-AO25)","v":0},{"$f":"IF(AP26=0,0,(AP26*((LOG(AP26))/LOG(2))))","v":0},null,{"$f":"N26","v":21122},{"$f":"COUNTIF(L162:L192,AS26)","v":0},{"$f":"AT26/(AV4-AT25)","v":0},{"$f":"IF(AU26=0,0,(AU26*((LOG(AU26))/LOG(2))))","v":0}]
[12,2692,13,2696,13,2700,14,2704,13,2709,0,11111,null,21211,{"$f":"COUNTIF($L$7:$L$500,N27)","v":0},{"$f":"O27/$Q$4","v":0},{"$f":"IF(P27=0,0,(P27*((LOG(P27))/LOG(2))))","v":0},null,null,{"$f":"N27","v":21211},{"$f":"COUNTIF(L7:L37,T27)","v":0},{"$f":"U27/(W4-U25)","v":0},{"$f":"IF(V27=0,0,(V27*((LOG(V27))/LOG(2))))","v":0},null,{"$f":"N27","v":21211},{"$f":"COUNTIF(L38:L68,Y27)","v":0},{"$f":"Z27/(AB4-Z25)","v":0},{"$f":"IF(AA27=0,0,(AA27*((LOG(AA27))/LOG(2))))","v":0},null,{"$f":"N27","v":21211},{"$f":"COUNTIF(L69:L99,AD27)","v":0},{"$f":"AE27/(AG4-AE25)","v":0},{"$f":"IF(AF27=0,0,(AF27*((LOG(AF27))/LOG(2))))","v":0},null,{"$f":"N27","v":21211},{"$f":"COUNTIF(L100:L130,AI27)","v":0},{"$f":"AJ27/(AL4-AJ25)","v":0},{"$f":"IF(AK27=0,0,(AK27*((LOG(AK27))/LOG(2))))","v":0},null,{"$f":"N27","v":21211},{"$f":"COUNTIF(L131:L161,AN27)","v":0},{"$f":"AO27/(AQ4-AO25)","v":0},{"$f":"IF(AP27=0,0,(AP27*((LOG(AP27))/LOG(2))))","v":0},null,{"$f":"N27","v":21211},{"$f":"COUNTIF(L162:L192,AS27)","v":0},{"$f":"AT27/(AV4-AT25)","v":0},{"$f":"IF(AU27=0,0,(AU27*((LOG(AU27))/LOG(2))))","v":0}]
[12,2809,13,2813,13,2817,14,2825,13,2842,0,11111,null,21212,{"$f":"COUNTIF($L$7:$L$500,N28)","v":0},{"$f":"O28/$Q$4","v":0},{"$f":"IF(P28=0,0,(P28*((LOG(P28))/LOG(2))))","v":0},null,null,{"$f":"N28","v":21212},{"$f":"COUNTIF(L7:L37,T28)","v":0},{"$f":"U28/(W4-U25)","v":0},{"$f":"IF(V28=0,0,(V28*((LOG(V28))/LOG(2))))","v":0},null,{"$f":"N28","v":21212},{"$f":"COUNTIF(L38:L68,Y28)","v":0},{"$f":"Z28/(AB4-Z25)","v":0},{"$f":"IF(AA28=0,0,(AA28*((LOG(AA28))/LOG(2))))","v":0},null,{"$f":"N28","v":21212},{"$f":"COUNTIF(L69:L99,AD28)","v":0},{"$f":"AE28/(AG4-AE25)","v":0},{"$f":"IF(AF28=0,0,(AF28*((LOG(AF28))/LOG(2))))","v":0},null,{"$f":"N28","v":21212},{"$f":"COUNTIF(L100:L130,AI28)","v":0},{"$f":"AJ28/(AL4-AJ25)","v":0},{"$f":"IF(AK28=0,0,(AK28*((LOG(AK28))/LOG(2))))","v":0},null,{"$f":"N28","v":21212},{"$f":"COUNTIF(L131:L161,AN28)","v":0},{"$f":"AO28/(AQ4-AO25)","v":0},{"$f":"IF(AP28=0,0,(AP28*((LOG(AP28))/LOG(2))))","v":0},null,{"$f":"N28","v":21212},{"$f":"COUNTIF(L162:L192,AS28)","v":0},{"$f":"AT28/(AV4-AT25)","v":0},{"$f":"IF(AU28=0,0,(AU28*((LOG(AU28))/LOG(2))))","v":0}]
[12,2951,13,2957,13,2961,14,2964,13,2970,0,11111,null,21221,{"$f":"COUNTIF($L$7:$L$500,N29)","v":0},{"$f":"O29/$Q$4","v":0},{"$f":"IF(P29=0,0,(P29*((LOG(P29))/LOG(2))))","v":0},null,null,{"$f":"N29","v":21221},{"$f":"COUNTIF(L7:L37,T29)","v":0},{"$f":"U29/(W4-U25)","v":0},{"$f":"IF(V29=0,0,(V29*((LOG(V29))/LOG(2))))","v":0},null,{"$f":"N29","v":21221},{"$f":"COUNTIF(L38:L68,Y29)","v":0},{"$f":"Z29/(AB4-Z25)","v":0},{"$f":"IF(AA29=0,0,(AA29*((LOG(AA29))/LOG(2))))","v":0},null,{"$f":"N29","v":21221},{"$f":"COUNTIF(L69:L99,AD29)","v":0},{"$f":"AE29/(AG4-AE25)","v":0},{"$f":"IF(AF29=0,0,(AF29*((LOG(AF29))/LOG(2))))","v":0},null,{"$f":"N29","v":21221},{"$f":"COUNTIF(L100:L130,AI29)","v":0},{"$f":"AJ29/(AL4-AJ25)","v":0},{"$f":"IF(AK29=0,0,(AK29*((LOG(AK29))/LOG(2))))","v":0},null,{"$f":"N29","v":21221},{"$f":"COUNTIF(L131:L161,AN29)","v":0},{"$f":"AO29/(AQ4-AO25)","v":0},{"$f":"IF(AP29=0,0,(AP29*((LOG(AP29))/LOG(2))))","v":0},null,{"$f":"N29","v":21221},{"$f":"COUNTIF(L162:L192,AS29)","v":0},{"$f":"AT29/(AV4-AT25)","v":0},{"$f":"IF(AU29=0,0,(AU29*((LOG(AU29))/LOG(2))))","v":0}]
[12,3075,13,3088,13,3094,14,3099,13,3103,0,11111,null,21222,{"$f":"COUNTIF($L$7:$L$500,N30)","v":0},{"$f":"O30/$Q$4","v":0},{"$f":"IF(P30=0,0,(P30*((LOG(P30))/LOG(2))))","v":0},null,null,{"$f":"N30","v":21222},{"$f":"COUNTIF(L7:L37,T30)","v":0},{"$f":"U30/(W4-U25)","v":0},{"$f":"IF(V30=0,0,(V30*((LOG(V30))/LOG(2))))","v":0},null,{"$f":"N30","v":21222},{"$f":"COUNTIF(L38:L68,Y30)","v":0},{"$f":"Z30/(AB4-Z25)","v":0},{"$f":"IF(AA30=0,0,(AA30*((LOG(AA30))/LOG(2))))","v":0},null,{"$f":"N30","v":21222},{"$f":"COUNTIF(L69:L99,AD30)","v":0},{"$f":"AE30/(AG4-AE25)","v":0},{"$f":"IF(AF30=0,0,(AF30*((LOG(AF30))/LOG(2))))","v":0},null,{"$f":"N30","v":21222},{"$f":"COUNTIF(L100:L130,AI30)","v":0},{"$f":"AJ30/(AL4-AJ25)","v":0},{"$f":"IF(AK30=0,0,(AK30*((LOG(AK30))/LOG(2))))","v":0},null,{"$f":"N30","v":21222},{"$f":"COUNTIF(L131:L161,AN30)","v":0},{"$f":"AO30/(AQ4-AO25)","v":0},{"$f":"IF(AP30=0,0,(AP30*((LOG(AP30))/LOG(2))))","v":0},null,{"$f":"N30","v":21222},{"$f":"COUNTIF(L162:L192,AS30)","v":0},{"$f":"AT30/(AV4-AT25)","v":0},{"$f":"IF(AU30=0,0,(AU30*((LOG(AU30))/LOG(2))))","v":0}]
[12,3206,13,3216,13,3220,14,3224,13,3228,0,11111,null,22111,{"$f":"COUNTIF($L$7:$L$500,N31)","v":0},{"$f":"O31/$Q$4","v":0},{"$f":"IF(P31=0,0,(P31*((LOG(P31))/LOG(2))))","v":0},null,null,{"$f":"N31","v":22111},{"$f":"COUNTIF(L7:L37,T31)","v":0},{"$f":"U31/(W4-U25)","v":0},{"$f":"IF(V31=0,0,(V31*((LOG(V31))/LOG(2))))","v":0},null,{"$f":"N31","v":22111},{"$f":"COUNTIF(L38:L68,Y31)","v":0},{"$f":"Z31/(AB4-Z25)","v":0},{"$f":"IF(AA31=0,0,(AA31*((LOG(AA31))/LOG(2))))","v":0},null,{"$f":"N31","v":22111},{"$f":"COUNTIF(L69:L99,AD31)","v":0},{"$f":"AE31/(AG4-AE25)","v":0},{"$f":"IF(AF31=0,0,(AF31*((LOG(AF31))/LOG(2))))","v":0},null,{"$f":"N31","v":22111},{"$f":"COUNTIF(L100:L130,AI31)","v":0},{"$f":"AJ31/(AL4-AJ25)","v":0},{"$f":"IF(AK31=0,0,(AK31*((LOG(AK31))/LOG(2))))","v":0},null,{"$f":"N31","v":22111},{"$f":"COUNTIF(L131:L161,AN31)","v":0},{"$f":"AO31/(AQ4-AO25)","v":0},{"$f":"IF(AP31=0,0,(AP31*((LOG(AP31))/LOG(2))))","v":0},null,{"$f":"N31","v":22111},{"$f":"COUNTIF(L162:L192,AS31)","v":0},{"$f":"AT31/(AV4-AT25)","v":0},{"$f":"IF(AU31=0,0,(AU31*((LOG(AU31))/LOG(2))))","v":0}]
[12,3338,13,3343,13,3348,14,3352,13,3357,0,11111,null,22112,{"$f":"COUNTIF($L$7:$L$500,N32)","v":0},{"$f":"O32/$Q$4","v":0},{"$f":"IF(P32=0,0,(P32*((LOG(P32))/LOG(2))))","v":0},null,null,{"$f":"N32","v":22112},{"$f":"COUNTIF(L7:L37,T32)","v":0},{"$f":"U32/(W4-U25)","v":0},{"$f":"IF(V32=0,0,(V32*((LOG(V32))/LOG(2))))","v":0},null,{"$f":"N32","v":22112},{"$f":"COUNTIF(L38:L68,Y32)","v":0},{"$f":"Z32/(AB4-Z25)","v":0},{"$f":"IF(AA32=0,0,(AA32*((LOG(AA32))/LOG(2))))","v":0},null,{"$f":"N32","v":22112},{"$f":"COUNTIF(L69:L99,AD32)","v":0},{"$f":"AE32/(AG4-AE25)","v":0},{"$f":"IF(AF32=0,0,(AF32*((LOG(AF32))/LOG(2))))","v":0},null,{"$f":"N32","v":22112},{"$f":"COUNTIF(L100:L130,AI32)","v":0},{"$f":"AJ32/(AL4-AJ25)","v":0},{"$f":"IF(AK32=0,0,(AK32*((LOG(AK32))/LOG(2))))","v":0},null,{"$f":"N32","v":22112},{"$f":"COUNTIF(L131:L161,AN32)","v":0},{"$f":"AO32/(AQ4-AO25)","v":0},{"$f":"IF(AP32=0,0,(AP32*((LOG(AP32))/LOG(2))))","v":0},null,{"$f":"N32","v":22112},{"$f":"COUNTIF(L162:L192,AS32)","v":0},{"$f":"AT32/(AV4-AT25)","v":0},{"$f":"IF(AU32=0,0,(AU32*((LOG(AU32))/LOG(2))))","v":0}]
[12,3457,13,3461,13,3465,14,3469,13,3481,1,11111,null,22121,{"$f":"COUNTIF($L$7:$L$500,N33)","v":0},{"$f":"O33/$Q$4","v":0},{"$f":"IF(P33=0,0,(P33*((LOG(P33))/LOG(2))))","v":0},null,null,{"$f":"N33","v":22121},{"$f":"COUNTIF(L7:L37,T33)","v":0},{"$f":"U33/(W4-U25)","v":0},{"$f":"IF(V33=0,0,(V33*((LOG(V33))/LOG(2))))","v":0},null,{"$f":"N33","v":22121},{"$f":"COUNTIF(L38:L68,Y33)","v":0},{"$f":"Z33/(AB4-Z25)","v":0},{"$f":"IF(AA33=0,0,(AA33*((LOG(AA33))/LOG(2))))","v":0},null,{"$f":"N33","v":22121},{"$f":"COUNTIF(L69:L99,AD33)","v":0},{"$f":"AE33/(AG4-AE25)","v":0},{"$f":"IF(AF33=0,0,(AF33*((LOG(AF33))/LOG(2))))","v":0},null,{"$f":"N33","v":22121},{"$f":"COUNTIF(L100:L130,AI33)","v":0},{"$f":"AJ33/(AL4-AJ25)","v":0},{"$f":"IF(AK33=0,0,(AK33*((LOG(AK33))/LOG(2))))","v":0},null,{"$f":"N33","v":22121},{"$f":"COUNTIF(L131:L161,AN33)","v":0},{"$f":"AO33/(AQ4-AO25)","v":0},{"$f":"IF(AP33=0,0,(AP33*((LOG(AP33))/LOG(2))))","v":0},null,{"$f":"N33","v":22121},{"$f":"COUNTIF(L162:L192,AS33)","v":0},{"$f":"AT33/(AV4-AT25)","v":0},{"$f":"IF(AU33=0,0,(AU33*((LOG(AU33))/LOG(2))))","v":0}]
[12,3585,13,3589,13,3593,14,3601,13,3605,0,11111,null,22122,{"$f":"COUNTIF($L$7:$L$500,N34)","v":0},{"$f":"O34/$Q$4","v":0},{"$f":"IF(P34=0,0,(P34*((LOG(P34))/LOG(2))))","v":0},null,null,{"$f":"N34","v":22122},{"$f":"COUNTIF(L7:L37,T34)","v":0},{"$f":"U34/(W4-U25)","v":0},{"$f":"IF(V34=0,0,(V34*((LOG(V34))/LOG(2))))","v":0},null,{"$f":"N34","v":22122},{"$f":"COUNTIF(L38:L68,Y34)","v":0},{"$f":"Z34/(AB4-Z25)","v":0},{"$f":"IF(AA34=0,0,(AA34*((LOG(AA34))/LOG(2))))","v":0},null,{"$f":"N34","v":22122},{"$f":"COUNTIF(L69:L99,AD34)","v":0},{"$f":"AE34/(AG4-AE25)","v":0},{"$f":"IF(AF34=0,0,(AF34*((LOG(AF34))/LOG(2))))","v":0},null,{"$f":"N34","v":22122},{"$f":"COUNTIF(L100:L130,AI34)","v":0},{"$f":"AJ34/(AL4-AJ25)","v":0},{"$f":"IF(AK34=0,0,(AK34*((LOG(AK34))/LOG(2))))","v":0},null,{"$f":"N34","v":22122},{"$f":"COUNTIF(L131:L161,AN34)","v":0},{"$f":"AO34/(AQ4-AO25)","v":0},{"$f":"IF(AP34=0,0,(AP34*((LOG(AP34))/LOG(2))))","v":0},null,{"$f":"N34","v":22122},{"$f":"COUNTIF(L162:L192,AS34)","v":0},{"$f":"AT34/(AV4-AT25)","v":0},{"$f":"IF(AU34=0,0,(AU34*((LOG(AU34))/LOG(2))))","v":0}]
[12,3706,13,3717,13,3721,14,3725,13,3729,0,11111,null,22211,{"$f":"COUNTIF($L$7:$L$500,N35)","v":0},{"$f":"O35/$Q$4","v":0},{"$f":"IF(P35=0,0,(P35*((LOG(P35))/LOG(2))))","v":0},null,null,{"$f":"N35","v":22211},{"$f":"COUNTIF(L7:L37,T35)","v":0},{"$f":"U35/(W4-U25)","v":0},{"$f":"IF(V35=0,0,(V35*((LOG(V35))/LOG(2))))","v":0},null,{"$f":"N35","v":22211},{"$f":"COUNTIF(L38:L68,Y35)","v":0},{"$f":"Z35/(AB4-Z25)","v":0},{"$f":"IF(AA35=0,0,(AA35*((LOG(AA35))/LOG(2))))","v":0},null,{"$f":"N35","v":22211},{"$f":"COUNTIF(L69:L99,AD35)","v":0},{"$f":"AE35/(AG4-AE25)","v":0},{"$f":"IF(AF35=0,0,(AF35*((LOG(AF35))/LOG(2))))","v":0},null,{"$f":"N35","v":22211},{"$f":"COUNTIF(L100:L130,AI35)","v":0},{"$f":"AJ35/(AL4-AJ25)","v":0},{"$f":"IF(AK35=0,0,(AK35*((LOG(AK35))/LOG(2))))","v":0},null,{"$f":"N35","v":22211},{"$f":"COUNTIF(L131:L161,AN35)","v":0},{"$f":"AO35/(AQ4-AO25)","v":0},{"$f":"IF(AP35=0,0,(AP35*((LOG(AP35))/LOG(2))))","v":0},null,{"$f":"N35","v":22211},{"$f":"COUNTIF(L162:L192,AS35)","v":0},{"$f":"AT35/(AV4-AT25)","v":0},{"$f":"IF(AU35=0,0,(AU35*((LOG(AU35))/LOG(2))))","v":0}]
[12,3829,13,3833,13,3837,14,3840,13,3846,0,11111,null,22212,{"$f":"COUNTIF($L$7:$L$500,N36)","v":0},{"$f":"O36/$Q$4","v":0},{"$f":"IF(P36=0,0,(P36*((LOG(P36))/LOG(2))))","v":0},null,null,{"$f":"N36","v":22212},{"$f":"COUNTIF(L7:L37,T36)","v":0},{"$f":"U36/(W4-U25)","v":0},{"$f":"IF(V36=0,0,(V36*((LOG(V36))/LOG(2))))","v":0},null,{"$f":"N36","v":22212},{"$f":"COUNTIF(L38:L68,Y36)","v":0},{"$f":"Z36/(AB4-Z25)","v":0},{"$f":"IF(AA36=0,0,(AA36*((LOG(AA36))/LOG(2))))","v":0},null,{"$f":"N36","v":22212},{"$f":"COUNTIF(L69:L99,AD36)","v":0},{"$f":"AE36/(AG4-AE25)","v":0},{"$f":"IF(AF36=0,0,(AF36*((LOG(AF36))/LOG(2))))","v":0},null,{"$f":"N36","v":22212},{"$f":"COUNTIF(L100:L130,AI36)","v":0},{"$f":"AJ36/(AL4-AJ25)","v":0},{"$f":"IF(AK36=0,0,(AK36*((LOG(AK36))/LOG(2))))","v":0},null,{"$f":"N36","v":22212},{"$f":"COUNTIF(L131:L161,AN36)","v":0},{"$f":"AO36/(AQ4-AO25)","v":0},{"$f":"IF(AP36=0,0,(AP36*((LOG(AP36))/LOG(2))))","v":0},null,{"$f":"N36","v":22212},{"$f":"COUNTIF(L162:L192,AS36)","v":0},{"$f":"AT36/(AV4-AT25)","v":0},{"$f":"IF(AU36=0,0,(AU36*((LOG(AU36))/LOG(2))))","v":0}]
[12,3947,13,3951,13,3956,14,3960,13,3964,0,11111,null,22221,{"$f":"COUNTIF($L$7:$L$500,N37)","v":0},{"$f":"O37/$Q$4","v":0},{"$f":"IF(P37=0,0,(P37*((LOG(P37))/LOG(2))))","v":0},null,null,{"$f":"N37","v":22221},{"$f":"COUNTIF(L7:L37,T37)","v":0},{"$f":"U37/(W4-U25)","v":0},{"$f":"IF(V37=0,0,(V37*((LOG(V37))/LOG(2))))","v":0},null,{"$f":"N37","v":22221},{"$f":"COUNTIF(L38:L68,Y37)","v":0},{"$f":"Z37/(AB4-Z25)","v":0},{"$f":"IF(AA37=0,0,(AA37*((LOG(AA37))/LOG(2))))","v":0},null,{"$f":"N37","v":22221},{"$f":"COUNTIF(L69:L99,AD37)","v":0},{"$f":"AE37/(AG4-AE25)","v":0},{"$f":"IF(AF37=0,0,(AF37*((LOG(AF37))/LOG(2))))","v":0},null,{"$f":"N37","v":22221},{"$f":"COUNTIF(L100:L130,AI37)","v":0},{"$f":"AJ37/(AL4-AJ25)","v":0},{"$f":"IF(AK37=0,0,(AK37*((LOG(AK37))/LOG(2))))","v":0},null,{"$f":"N37","v":22221},{"$f":"COUNTIF(L131:L161,AN37)","v":0},{"$f":"AO37/(AQ4-AO25)","v":0},{"$f":"IF(AP37=0,0,(AP37*((LOG(AP37))/LOG(2))))","v":0},null,{"$f":"N37","v":22221},{"$f":"COUNTIF(L162:L192,AS37)","v":0},{"$f":"AT37/(AV4-AT25)","v":0},{"$f":"IF(AU37=0,0,(AU37*((LOG(AU37))/LOG(2))))","v":0}]
[12,4067,13,4073,13,4078,14,4082,13,4086,0,11111,null,22222,{"$f":"COUNTIF($L$7:$L$500,N38)","v":3},{"$f":"O38/$Q$4","v":1.6216216216216217E-2},{"$f":"IF(P38=0,0,(P38*((LOG(P38))/LOG(2))))","v":-9.6428415564245779E-2},null,null,{"$f":"N38","v":22222},{"$f":"COUNTIF(L7:L37,T38)","v":0},{"$f":"U38/(W4-U25)","v":0},{"$f":"IF(V38=0,0,(V38*((LOG(V38))/LOG(2))))","v":0},null,{"$f":"N38","v":22222},{"$f":"COUNTIF(L38:L68,Y38)","v":0},{"$f":"Z38/(AB4-Z25)","v":0},{"$f":"IF(AA38=0,0,(AA38*((LOG(AA38))/LOG(2))))","v":0},null,{"$f":"N38","v":22222},{"$f":"COUNTIF(L69:L99,AD38)","v":0},{"$f":"AE38/(AG4-AE25)","v":0},{"$f":"IF(AF38=0,0,(AF38*((LOG(AF38))/LOG(2))))","v":0},null,{"$f":"N38","v":22222},{"$f":"COUNTIF(L100:L130,AI38)","v":0},{"$f":"AJ38/(AL4-AJ25)","v":0},{"$f":"IF(AK38=0,0,(AK38*((LOG(AK38))/LOG(2))))","v":0},null,{"$f":"N38","v":22222},{"$f":"COUNTIF(L131:L161,AN38)","v":1},{"$f":"AO38/(AQ4-AO25)","v":3.2258064516129031E-2},{"$f":"IF(AP38=0,0,(AP38*((LOG(AP38))/LOG(2))))","v":-0.15981278420602821},null,{"$f":"N38","v":22222},{"$f":"COUNTIF(L162:L192,AS38)","v":2},{"$f":"AT38/(AV4-AT25)","v":6.6666666666666666E-2},{"$f":"IF(AU38=0,0,(AU38*((LOG(AU38))/LOG(2))))","v":-0.26045937304056793}]
[12,4198,13,4203,13,4207,14,4211,13,4215,0,11111,null,null,null,{"$f":"SUM(P7:P38)","v":1},{"$f":"-SUM(Q7:Q38)","v":0.16799230881780597},null,null,null,null,{"$f":"SUM(V7:V38)","v":1},{"$f":"-SUM(W7:W38)","v":0.20559250818508301},null,null,null,{"$f":"SUM(AA7:AA38)","v":1},{"$f":"-SUM(AB7:AB38)","v":0},null,null,null,{"$f":"SUM(AF7:AF38)","v":1},{"$f":"-SUM(AG7:AG38)","v":0},null,null,null,{"$f":"SUM(AK7:AK38)","v":1},{"$f":"-SUM(AL7:AL38)","v":0},null,null,null,{"$f":"SUM(AP7:AP38)","v":1},{"$f":"-SUM(AQ7:AQ38)","v":0.20559250818508301},null,null,null,{"$f":"SUM(AU7:AU38)","v":1},{"$f":"-SUM(AV7:AV38)","v":0.35335933502142136}]
[12,4330,13,4339,13,4343,14,4348,13,4356,0,11111,null,null,null,"U=",{"$f":"Q39/(LOG(Q4)/LOG(2))","v":2.2305643353548753E-2},null,null,null,null,"U1=",{"$f":"W39/(LOG(W4)/LOG(2))","v":4.1498659985281898E-2},null,null,null,"U2=",{"$f":"AB39/(LOG(AB4)/LOG(2))","v":0},null,null,null,"U3=",{"$f":"AG39/(LOG(AG4)/LOG(2))","v":0},null,null,null,"U4=",{"$f":"AL39/(LOG(AL4)/LOG(2))","v":0},null,null,null,"U5=",{"$f":"AQ39/(LOG(AQ4)/LOG(2))","v":4.1498659985281898E-2},null,null,null,"U6=",{"$f":"AV39/(LOG(AV4)/LOG(2))","v":7.2012882320560523E-2}]
[12,4459,13,4467,13,4471,14,4475,13,4479,0,11111]
[12,4589,13,4593,13,4597,14,4604,13,4609,0,11111]
[12,4708,13,4712,13,4717,14,4721,13,4725,0,11111,null,"Total Target Seq"]
[12,4840,13,4845,13,4849,14,4853,13,4858,0,11111,null,{"$f":"COUNTIF(L7:L192,G3)","v":0},null,31,31,31,31,31,31]
[12,4970,13,4978,13,4982,14,4986,13,4991,1,11111,null,null,null,"% of reinforcement given in 6 equal intervals based on number of trials "]
[12,5104,13,5108,13,5119,14,5123,13,5132,1,11111,null,null,null,"%_1","%_2","%_3","%_4","%_5","%_6"]
[12,5232,13,5237,13,5242,14,5246,13,5264,0,11111,null,null,"target sequence",{"$f":"$G$3","v":21121},{"$f":"$G$3","v":21121},{"$f":"$G$3","v":21121},{"$f":"$G$3","v":21121},{"$f":"$G$3","v":21121},{"$f":"$G$3","v":21121}]
[12,5408,13,5412,13,5417,14,5426,13,5435,0,11111,null,null,"total reinforcement",{"$f":"U25","v":0},{"$f":"Z25","v":0},{"$f":"AE25","v":0},{"$f":"AJ25","v":0},{"$f":"AO25","v":0},{"$f":"AT25","v":0}]
[12,5538,13,5542,13,5547,14,5551,13,5555,1,11111,null,null,"% target"]
[12,5661,13,5665,13,5670,14,5674,13,5679,0,11111,null,null,"CCRF"]
[12,5793,13,5799,13,5811,14,5816,13,5821,0,11111,null,null,"% CCRf"]
[12,5931,13,5935,13,5942,14,5951,13,5956,0,11111,null,null,"average response rate",{"$f":"J37/P44","v":127.87096774193549},{"$f":"(J68-J37)/Q44","v":129.58064516129033},{"$f":"(J99-J68)/R44","v":131.19354838709677},{"$f":"(J130-J99)/S44","v":127.83870967741936},{"$f":"(J161-J130)/T44","v":130.03225806451613},{"$f":"(J192-J161)/U44","v":-646.51612903225805}]
[12,6059,13,6067,13,6072,14,6080,13,6085,1,11111]
[12,6188,13,6202,13,6206,14,6210,13,6214,0,11111]
[12,6317,13,6322,13,6326,14,6330,13,6334,0,11111]
[12,6442,13,6449,13,6453,14,6458,13,6462,0,11111]
[12,6563,13,6567,13,6571,14,6578,13,6583,1,11111]
[12,6684,13,6690,13,6701,14,6709,13,6717,0,11111]
[12,6828,13,6832,13,6836,14,6852,13,6857,0,11111]
[12,6966,13,6970,13,6974,14,6986,13,6997,0,11111]
[12,7104,13,7108,13,7112,14,7117,13,7121,1,11111]
[12,7218,13,7226,13,7234,14,7238,13,7247,0,11111]
[12,7346,13,7351,13,7355,14,7359,13,7363,0,11111]
[12,7464,13,7468,13,7472,14,7481,13,7485,0,11111]
[12,7588,13,7592,13,7596,14,7601,13,7605,0,11111]
[12,7704,13,7712,13,7716,14,7720,13,7727,0,11111]
[12,7846,13,7850,13,7854,14,7858,13,7863,1,11111]
[12,7964,13,7968,13,7972,14,7976,13,7981,0,11111]
[12,8083,13,8087,13,8092,14,8100,13,8112,0,11111]
[12,8223,13,8227,13,8231,14,8237,13,8242,0,11111]
[12,8349,13,8357,13,8361,14,8365,13,8369,0,11111]
[12,8475,13,8482,13,8486,14,8496,13,8500,0,11111]
[12,8604,13,8609,13,8613,14,8617,13,8621,1,11111]
[12,8719,13,8723,13,8727,14,8731,13,8735,0,11111]
[12,8847,13,8855,13,8858,14,8869,13,8876,0,11111]
[12,8981,13,8989,13,8993,14,8997,13,9002,0,11111]
[12,9101,13,9105,13,9111,14,9115,13,9120,0,11111]
[12,9230,13,9235,13,9240,14,9244,13,9251,0,11111]
[12,9360,13,9364,13,9369,14,9373,13,9378,1,11111]
[12,9489,13,9494,13,9498,14,9502,13,9514,0,11111]
[12,9618,13,9625,13,9629,14,9633,13,9637,0,11111]
[12,9744,13,9752,13,9756,14,9760,13,9774,0,11111]
[12,9904,13,9924,13,9929,14,9934,13,9947,0,11111]
[12,10062,13,10066,13,10071,14,10080,13,10086,0,11111]
[12,10198,13,10207,13,10211,14,10216,13,10224,0,11111]
[12,10327,13,10331,13,10336,14,10341,13,10350,0,11111]
[12,10470,13,10474,13,10483,14,10487,13,10495,1,11111]
[12,10604,13,10609,13,10614,14,10618,13,10622,0,11111]
[12,10733,13,10738,13,10743,14,10748,13,10752,0,11111]
[12,10860,13,10865,13,10873,14,10878,13,10887,0,11111]
[12,11007,13,11011,13,11017,14,11023,13,11034,0,11111]
[12,11138,13,11143,13,11146,14,11150,13,11154,0,11111]
[12,11275,13,11280,13,11284,14,11288,13,11292,1,11111]
[12,11398,13,11405,13,11410,14,11414,13,11419,1,11111]
[12,11546,13,11550,13,11554,14,11558,13,11563,0,11111]
[12,11672,13,11677,13,11681,14,11686,13,11691,0,11111]
[12,11791,13,11795,13,11799,14,11803,13,11810,0,11111]
[12,11912,13,11916,13,11920,14,11925,13,11929,0,11111]
[12,12032,13,12036,13,12040,14,12044,13,12048,0,11111]
[12,12156,13,12162,13,12166,14,12172,13,12178,0,11111]
[12,12287,13,12291,13,12295,14,12300,13,12304,0,11111]
[12,12408,13,12412,13,12420,14,12425,13,12429,0,11111]
[12,12532,13,12536,13,12540,14,12547,13,12552,0,11111]
[12,12660,13,12664,13,12668,14,12676,13,12681,0,11111]
[12,12789,13,12796,13,12800,14,12804,13,12810,1,11111]
[12,12905,13,12914,13,12918,14,12922,13,12927,0,11111]
[12,13027,13,13034,13,13039,14,13042,13,13046,0,11111]
[12,13147,13,13151,13,13156,14,13160,13,13165,1,11111]
[12,13270,13,13274,13,13282,14,13289,13,13298,0,11111]
[12,13400,13,13404,13,13408,14,13413,13,13421,0,11111]
[12,13541,13,13546,13,13551,14,13555,13,13559,0,11111]
[12,13699,13,13704,13,13709,14,13713,13,13718,0,11111]
[12,13822,13,13826,13,13831,14,13835,13,13849,1,11111]
[12,13951,13,13954,13,13959,14,13963,13,13972,0,11111]
[12,14080,13,14084,13,14089,14,14094,13,14102,1,11111]
[12,14216,13,14220,13,14227,14,14231,13,14240,0,11111]
[12,14333,13,14340,13,14344,14,14348,13,14352,0,11111]
[12,14452,13,14456,13,14466,14,14474,13,14483,0,11111]
[12,14588,13,14596,13,14600,14,14605,13,14609,1,11111]
[12,14722,13,14731,13,14736,14,14740,13,14745,1,11111]
[12,14861,13,14870,13,14874,14,14879,13,14891,0,11111]
[12,14991,13,14996,13,15000,14,15003,13,15008,0,11111]
[12,15107,13,15111,13,15116,14,15150,13,15160,0,11111]
[12,15260,13,15264,13,15268,14,15272,13,15277,0,11111]
[12,15376,13,15383,13,15386,14,15390,13,15394,0,11111]
[12,15506,13,15516,13,15527,14,15531,13,15536,0,11111]
[12,15637,13,15642,13,15645,14,15650,13,15654,0,11111]
[12,15754,13,15758,13,15761,14,15765,13,15769,1,11111]
[12,15871,13,15879,13,15885,14,15890,13,15894,0,11111]
[12,15993,13,15996,13,16003,14,16007,13,16011,0,11111]
[12,16122,13,16126,13,16131,14,16135,13,16139,0,11111]
[12,16248,13,16253,13,16257,14,16262,13,16267,0,11111]
[12,16367,13,16372,13,16376,14,16386,13,16393,0,11111]
[12,16495,13,16499,13,16507,14,16511,13,16516,1,11111]
[21,16660,22,16672,24,16697,23,16704,24,16713,0,22222]
[12,16817,13,16822,13,16826,14,16831,13,16835,0,11111]
[12,16939,13,16943,13,16947,14,16952,13,16956,0,11111]
[12,17064,13,17068,13,17076,14,17080,13,17086,0,11111]
[12,17185,13,17189,13,17193,14,17196,13,17200,0,11111]
[12,17301,13,17305,13,17309,14,17313,13,17317,0,11111]
[12,17420,13,17424,13,17428,14,17433,13,17438,0,11111]
[12,17546,13,17551,13,17561,14,17571,13,17576,1,11111]
[12,17675,13,17683,13,17687,14,17692,13,17696,1,11111]
[12,17813,13,17818,13,17823,14,17827,13,17835,0,11111]
[12,17942,13,17967,13,17972,14,17979,13,17991,0,11111]
[12,18091,13,18094,13,18098,14,18103,13,18107,1,11111]
[12,18210,13,18214,13,18220,14,18224,13,18229,0,11111]
[12,18341,13,18354,13,18358,14,18362,13,18366,1,11111]
[12,18473,13,18477,13,18481,14,18486,13,18491,0,11111]
[12,18593,13,18598,13,18602,14,18606,13,18613,0,11111]
[12,18718,13,18723,13,18727,14,18736,13,18741,0,11111]
[12,18847,13,18851,13,18855,14,18859,13,18864,0,11111]
[12,18971,13,18975,13,18983,14,18988,13,18996,0,11111]
[12,19104,13,19109,13,19114,14,19119,13,19124,0,11111]
[12,19231,13,19235,13,19239,14,19244,13,19249,0,11111]
[12,19348,13,19352,13,19355,14,19359,13,19367,0,11111]
[12,19483,13,19488,13,19493,14,19507,13,19516,0,11111]
[12,19624,13,19628,13,19633,14,19643,13,19648,0,11111]
[12,19758,13,19763,13,19767,14,19772,13,19781,1,11111]
[12,19876,13,19880,13,19885,14,19889,13,19894,0,11111]
[12,20008,13,20025,13,20033,14,20038,13,20042,0,11111]
[12,20152,13,20156,13,20160,14,20164,13,20169,0,11111]
[12,20272,13,20276,13,20280,14,20288,13,20293,0,11111]
[12,20399,13,20403,13,20412,14,20417,13,20423,0,11111]
[12,20528,13,20536,13,20540,14,20544,13,20549,0,11111]
[21,20655,22,20662,24,20671,23,20676,24,20689,0,22222]
[12,20805,13,20809,13,20814,14,20818,13,20822,0,11111]
[12,20929,13,20934,13,20938,14,20942,13,20947,0,11111]
[12,21060,13,21065,13,21074,14,21079,13,21089,0,11111]
[12,21192,13,21200,13,21210,14,21214,13,21221,1,11111]
[12,21321,13,21325,13,21330,14,21335,13,21339,0,11111]
[12,21442,13,21447,13,21452,14,21456,13,21461,0,11111]
[12,21563,13,21567,13,21572,14,21576,13,21582,1,11111]
[12,21683,13,21691,13,21695,14,21700,13,21709,0,11111]
[12,21820,13,21829,13,21836,14,21849,13,21854,0,11111]
[12,21953,13,21957,13,21961,14,21965,13,21970,0,11111]
[21,22075,22,22080,24,22084,23,22089,24,22100,1,22222]
[12,22198,13,22203,13,22208,14,22213,13,22218,0,11111]
[12,22328,13,22336,13,22340,14,22349,13,22353,0,11111]
[12,22462,13,22466,13,22470,14,22474,13,22483,0,11111]
[12,22588,13,22592,13,22596,14,22601,13,22605,0,11111]
[12,22722,13,22727,13,22731,14,22736,13,22746,1,11111]
[12,22845,13,22849,13,22853,14,22862,13,22869,0,11111]
[12,22972,13,22976,13,22980,14,22984,13,22988,0,11111]
[12,23094,13,23102,13,23106,14,23111,13,23116,0,11111]
[12,23223,13,23228,13,23232,14,23236,13,23240,0,11111]
[12,23339,13,23343,13,23348,14,23353,13,23361,0,11111]
[12,23470,13,23475,13,23480,14,23484,13,23489,1,11111]
[12,23591,13,23598,13,23602,14,23606,13,23610,0,11111]
[12,23714,13,23724,13,23729,14,23733,13,23738,0,11111]
[12,23854,13,23858,13,23866,14,23878,13,23883,0,11111]
[12,23987,13,23991,13,23995,null,null,null,null,null,111]

{"sheet":"!MC10A30.010","index":13,"n_rows":192,"n_cols":48,"rows_kept":192,"cut":false,"hidden":false,"merged":[[4,39,4,42],[5,39,5,40],[4,44,4,47],[5,44,5,45],[4,24,4,27],[5,24,5,25],[4,29,4,32],[5,29,5,30],[4,34,4,37],[5,34,5,35],[1,1,1,2],[5,13,5,14],[42,13,42,14],[43,13,43,14],[4,19,4,22],[5,19,5,20]]}
["Report for:!MC10A30.010"]
["Date:","<date>"]
["Hen:","<hen>",null,null,null,"Correct Sequence",{"$f":"Start!J2","v":21121},null,null,null,null,null,null,null,null,"Total Sequences in Data",{"$f":"4994-COUNTBLANK(L7:L5000)","v":186},null,null,null,null,"Total Sequences in Block Data",{"$f":"COUNTA(L7:L37)","v":31},null,null,null,"Total Sequences in Block Data",{"$f":"COUNTA(L38:L68)","v":31},null,null,null,"Total Sequences in Block Data",{"$f":"COUNTA(L69:L99)","v":31},null,null,null,"Total Sequences in Block Data",{"$f":"COUNTA(L100:L130)","v":31},null,null,null,"Total Sequences in Block Data",{"$f":"COUNTA(L131:L161)","v":31},null,null,null,"Total Sequences in Block Data",{"$f":"COUNTA(L162:L192)","v":31}]
[null,null,null,null,null,null,null,null,null,null,null,null,null,null,null,"Total Sequences in Summary",{"$f":"SUM(O7:O38)","v":186},null,null,null,null,"Total Sequences in Block Summary",{"$f":"SUM(U7:U38)","v":31},null,null,null,"Total Sequences in Block Summary",{"$f":"SUM(Z7:Z38)","v":31},null,null,null,"Total Sequences in Block Summary",{"$f":"SUM(AE7:AE38)","v":31},null,null,null,"Total Sequences in Block Summary",{"$f":"SUM(AJ7:AJ38)","v":31},null,null,null,"Total Sequences in Block Summary",{"$f":"SUM(AO7:AO38)","v":31},null,null,null,"Total Sequences in Block Summary",{"$f":"SUM(AT7:AT38)","v":31}]
[null,null,null,null,null,null,null,null,null,null,null,null,null,null,null,null,null,null,null,"Block 1",null,null,null,null,"Block 2",null,null,null,null,"Block 3",null,null,null,null,"Block 4",null,null,null,null,"Block 5",null,null,null,null,"Block 6"]
["Sequence\nComponent\n1","Time\n1","Sequence\nComponent\n2","Time\n2","Sequence\nComponent\n3","Time\n3","Sequence\nComponent\n4","Time\n4","Sequence\nComponent\n5","Time\n5","Correct?\n0=No 1=Yes","Sequence",null,"Frequency",null,"Relative Frequency","Variability",null,null,"Frequency",null,"Relative Frequency","Variability",null,"Frequency",null,"Relative Frequency","Variability",null,"Frequency",null,"Relative Frequency","Variability",null,"Frequency",null,"Relative Frequency","Variability",null,"Frequency",null,"Relative Frequency","Variability",null,"Frequency",null,"Relative Frequency","Variability"]
[12,24,13,54,13,59,14,64,13,68,0,11111,null,11111,{"$f":"COUNTIF($L$7:$L$500,N7)","v":183},{"$f":"O7/$Q$4","v":0.9838709677419355},{"$f":"IF(P7=0,0,(P7*((LOG(P7))/LOG(2))))","v":-2.3080602294569739E-2},null,null,{"$f":"N7","v":11111},{"$f":"COUNTIF(L7:L37,T7)","v":31},{"$f":"U7/(W4-U25)","v":1},{"$f":"IF(V7=0,0,(V7*((LOG(V7))/LOG(2))))","v":0},null,{"$f":"N7","v":11111},{"$f":"COUNTIF(L38:L68,Y7)","v":31},{"$f":"Z7/(AB4-Z25)","v":1},{"$f":"IF(AA7=0,0,(AA7*((LOG(AA7))/LOG(2))))","v":0},null,{"$f":"N7","v":11111},{"$f":"COUNTIF(L69:L99,AD7)","v":31},{"$f":"AE7/(AG4-AE25)","v":1},{"$f":"IF(AF7=0,0,(AF7*((LOG(AF7))/LOG(2))))","v":0},null,{"$f":"N7","v":11111},{"$f":"COUNTIF(L100:L130,AI7)","v":31},{"$f":"AJ7/(AL4-AJ25)","v":1},{"$f":"IF(AK7=0,0,(AK7*((LOG(AK7))/LOG(2))))","v":0},null,{"$f":"N7","v":11111},{"$f":"COUNTIF(L131:L161,AN7)","v":31},{"$f":"AO7/(AQ4-AO25)","v":1},{"$f":"IF(AP7=0,0,(AP7*((LOG(AP7))/LOG(2))))","v":0},null,{"$f":"N7","v":11111},{"$f":"COUNTIF(L162:L192,AS7)","v":28},{"$f":"AT7/(AV4-AT25)","v":0.90322580645161288},{"$f":"IF(AU7=0,0,(AU7*((LOG(AU7))/LOG(2))))","v":-0.13263093139418039}]
[12,182,13,187,13,191,14,199,13,210,0,11111,null,11112,{"$f":"COUNTIF($L$7:$L$500,N8)","v":0},{"$f":"O8/$Q$4","v":0},{"$f":"IF(P8=0,0,(P8*((LOG(P8))/LOG(2))))","v":0},null,null,{"$f":"N8","v":11112},{"$f":"COUNTIF(L7:L37,T8)","v":0},{"$f":"U8/(W4-U25)","v":0},{"$f":"IF(V8=0,0,(V8*((LOG(V8))/LOG(2))))","v":0},null,{"$f":"N8","v":11112},{"$f":"COUNTIF(L38:L68,Y8)","v":0},{"$f":"Z8/(AB4-Z25)","v":0},{"$f":"IF(AA8=0,0,(AA8*((LOG(AA8))/LOG(2))))","v":0},null,{"$f":"N8","v":11112},{"$f":"COUNTIF(L69:L99,AD8)","v":0},{"$f":"AE8/(AG4-AE25)","v":0},{"$f":"IF(AF8=0,0,(AF8*((LOG(AF8))/LOG(2))))","v":0},null,{"$f":"N8","v":11112},{"$f":"COUNTIF(L100:L130,AI8)","v":0},{"$f":"AJ8/(AL4-AJ25)","v":0},{"$f":"IF(AK8=0,0,(AK8*((LOG(AK8))/LOG(2))))","v":0},null,{"$f":"N8","v":11112},{"$f":"COUNTIF(L131:L161,AN8)","v":0},{"$f":"AO8/(AQ4-AO25)","v":0},{"$f":"IF(AP8=0,0,(AP8*((LOG(AP8))/LOG(2))))","v":0},null,{"$f":"N8","v":11112},{"$f":"COUNTIF(L162:L192,AS8)","v":0},{"$f":"AT8/(AV4-AT25)","v":0},{"$f":"IF(AU8=0,0,(AU8*((LOG(AU8))/LOG(2))))","v":0}]
[12,314,13,319,13,323,14,333,13,342,0,11111,null,11121,{"$f":"COUNTIF($L$7:$L$500,N9)","v":0},{"$f":"O9/$Q$4","v":0},{"$f":"IF(P9=0,0,(P9*((LOG(P9))/LOG(2))))","v":0},null,null,{"$f":"N9","v":11121},{"$f":"COUNTIF(L7:L37,T9)","v":0},{"$f":"U9/(W4-U25)","v":0},{"$f":"IF(V9=0,0,(V9*((LOG(V9))/LOG(2))))","v":0},null,{"$f":"N9","v":11121},{"$f":"COUNTIF(L38:L68,Y9)","v":0},{"$f":"Z9/(AB4-Z25)","v":0},{"$f":"IF(AA9=0,0,(AA9*((LOG(AA9))/LOG(2))))","v":0},null,{"$f":"N9","v":11121},{"$f":"COUNTIF(L69:L99,AD9)","v":0},{"$f":"AE9/(AG4-AE25)","v":0},{"$f":"IF(AF9=0,0,(AF9*((LOG(AF9))/LOG(2))))","v":0},null,{"$f":"N9","v":11121},{"$f":"COUNTIF(L100:L130,AI9)","v":0},{"$f":"AJ9/(AL4-AJ25)","v":0},{"$f":"IF(AK9=0,0,(AK9*((LOG(AK9))/LOG(2))))","v":0},null,{"$f":"N9","v":11121},{"$f":"COUNTIF(L131:L161,AN9)","v":0},{"$f":"AO9/(AQ4-AO25)","v":0},{"$f":"IF(AP9=0,0,(AP9*((LOG(AP9))/LOG(2))))","v":0},null,{"$f":"N9","v":11121},{"$f":"COUNTIF(L162:L192,AS9)","v":0},{"$f":"AT9/(AV4-AT25)","v":0},{"$f":"IF(AU9=0,0,(AU9*((LOG(AU9))/LOG(2))))","v":0}]
[12,443,13,449,13,461,14,467,13,471,0,11111,null,11122,{"$f":"COUNTIF($L$7:$L$500,N10)","v":0},{"$f":"O10/$Q$4","v":0},{"$f":"IF(P10=0,0,(P10*((LOG(P10))/LOG(2))))","v":0},null,null,{"$f":"N10","v":11122},{"$f":"COUNTIF(L7:L37,T10)","v":0},{"$f":"U10/(W4-U25)","v":0},{"$f":"IF(V10=0,0,(V10*((LOG(V10))/LOG(2))))","v":0},null,{"$f":"N10","v":11122},{"$f":"COUNTIF(L38:L68,Y10)","v":0},{"$f":"Z10/(AB4-Z25)","v":0},{"$f":"IF(AA10=0,0,(AA10*((LOG(AA10))/LOG(2))))","v":0},null,{"$f":"N10","v":11122},{"$f":"COUNTIF(L69:L99,AD10)","v":0},{"$f":"AE10/(AG4-AE25)","v":0},{"$f":"IF(AF10=0,0,(AF10*((LOG(AF10))/LOG(2))))","v":0},null,{"$f":"N10","v":11122},{"$f":"COUNTIF(L100:L130,AI10)","v":0},{"$f":"AJ10/(AL4-AJ25)","v":0},{"$f":"IF(AK10=0,0,(AK10*((LOG(AK10))/LOG(2))))","v":0},null,{"$f":"N10","v":11122},{"$f":"COUNTIF(L131:L161,AN10)","v":0},{"$f":"AO10/(AQ4-AO25)","v":0},{"$f":"IF(AP10=0,0,(AP10*((LOG(AP10))/LOG(2))))","v":0},null,{"$f":"N10","v":11122},{"$f":"COUNTIF(L162:L192,AS10)","v":0},{"$f":"AT10/(AV4-AT25)","v":0},{"$f":"IF(AU10=0,0,(AU10*((LOG(AU10))/LOG(2))))","v":0}]
[12,579,13,584,13,589,14,593,13,599,1,11111,null,11211,{"$f":"COUNTIF($L$7:$L$500,N11)","v":0},{"$f":"O11/$Q$4","v":0},{"$f":"IF(P11=0,0,(P11*((LOG(P11))/LOG(2))))","v":0},null,null,{"$f":"N11","v":11211},{"$f":"COUNTIF(L7:L37,T11)","v":0},{"$f":"U11/(W4-U25)","v":0},{"$f":"IF(V11=0,0,(V11*((LOG(V11))/LOG(2))))","v":0},null,{"$f":"N11","v":11211},{"$f":"COUNTIF(L38:L68,Y11)","v":0},{"$f":"Z11/(AB4-Z25)","v":0},{"$f":"IF(AA11=0,0,(AA11*((LOG(AA11))/LOG(2))))","v":0},null,{"$f":"N11","v":11211},{"$f":"COUNTIF(L69:L99,AD11)","v":0},{"$f":"AE11/(AG4-AE25)","v":0},{"$f":"IF(AF11=0,0,(AF11*((LOG(AF11))/LOG(2))))","v":0},null,{"$f":"N11","v":11211},{"$f":"COUNTIF(L100:L130,AI11)","v":0},{"$f":"AJ11/(AL4-AJ25)","v":0},{"$f":"IF(AK11=0,0,(AK11*((LOG(AK11))/LOG(2))))","v":0},null,{"$f":"N11","v":11211},{"$f":"COUNTIF(L131:L161,AN11)","v":0},{"$f":"AO11/(AQ4-AO25)","v":0},{"$f":"IF(AP11=0,0,(AP11*((LOG(AP11))/LOG(2))))","v":0},null,{"$f":"N11","v":11211},{"$f":"COUNTIF(L162:L192,AS11)","v":0},{"$f":"AT11/(AV4-AT25)","v":0},{"$f":"IF(AU11=0,0,(AU11*((LOG(AU11))/LOG(2))))","v":0}]
[12,714,13,719,13,724,14,729,13,734,0,11111,null,11212,{"$f":"COUNTIF($L$7:$L$500,N12)","v":0},{"$f":"O12/$Q$4","v":0},{"$f":"IF(P12=0,0,(P12*((LOG(P12))/LOG(2))))","v":0},null,null,{"$f":"N12","v":11212},{"$f":"COUNTIF(L7:L37,T12)","v":0},{"$f":"U12/(W4-U25)","v":0},{"$f":"IF(V12=0,0,(V12*((LOG(V12))/LOG(2))))","v":0},null,{"$f":"N12","v":11212},{"$f":"COUNTIF(L38:L68,Y12)","v":0},{"$f":"Z12/(AB4-Z25)","v":0},{"$f":"IF(AA12=0,0,(AA12*((LOG(AA12))/LOG(2))))","v":0},null,{"$f":"N12","v":11212},{"$f":"COUNTIF(L69:L99,AD12)","v":0},{"$f":"AE12/(AG4-AE25)","v":0},{"$f":"IF(AF12=0,0,(AF12*((LOG(AF12))/LOG(2))))","v":0},null,{"$f":"N12","v":11212},{"$f":"COUNTIF(L100:L130,AI12)","v":0},{"$f":"AJ12/(AL4-AJ25)","v":0},{"$f":"IF(AK12=0,0,(AK12*((LOG(AK12))/LOG(2))))","v":0},null,{"$f":"N12","v":11212},{"$f":"COUNTIF(L131:L161,AN12)","v":0},{"$f":"AO12/(AQ4-AO25)","v":0},{"$f":"IF(AP12=0,0,(AP12*((LOG(AP12))/LOG(2))))","v":0},null,{"$f":"N12","v":11212},{"$f":"COUNTIF(L162:L192,AS12)","v":0},{"$f":"AT12/(AV4-AT25)","v":0},{"$f":"IF(AU12=0,0,(AU12*((LOG(AU12))/LOG(2))))","v":0}]
[12,838,13,843,13,849,14,854,13,871,0,11111,null,11221,{"$f":"COUNTIF($L$7:$L$500,N13)","v":0},{"$f":"O13/$Q$4","v":0},{"$f":"IF(P13=0,0,(P13*((LOG(P13))/LOG(2))))","v":0},null,null,{"$f":"N13","v":11221},{"$f":"COUNTIF(L7:L37,T13)","v":0},{"$f":"U13/(W4-U25)","v":0},{"$f":"IF(V13=0,0,(V13*((LOG(V13))/LOG(2))))","v":0},null,{"$f":"N13","v":11221},{"$f":"COUNTIF(L38:L68,Y13)","v":0},{"$f":"Z13/(AB4-Z25)","v":0},{"$f":"IF(AA13=0,0,(AA13*((LOG(AA13))/LOG(2))))","v":0},null,{"$f":"N13","v":11221},{"$f":"COUNTIF(L69:L99,AD13)","v":0},{"$f":"AE13/(AG4-AE25)","v":0},{"$f":"IF(AF13=0,0,(AF13*((LOG(AF13))/LOG(2))))","v":0},null,{"$f":"N13","v":11221},{"$f":"COUNTIF(L100:L130,AI13)","v":0},{"$f":"AJ13/(AL4-AJ25)","v":0},{"$f":"IF(AK13=0,0,(AK13*((LOG(AK13))/LOG(2))))","v":0},null,{"$f":"N13","v":11221},{"$f":"COUNTIF(L131:L161,AN13)","v":0},{"$f":"AO13/(AQ4-AO25)","v":0},{"$f":"IF(AP13=0,0,(AP13*((LOG(AP13))/LOG(2))))","v":0},null,{"$f":"N13","v":11221},{"$f":"COUNTIF(L162:L192,AS13)","v":0},{"$f":"AT13/(AV4-AT25)","v":0},{"$f":"IF(AU13=0,0,(AU13*((LOG(AU13))/LOG(2))))","v":0}]
[12,972,13,977,13,982,14,986,13,990,0,11111,null,11222,{"$f":"COUNTIF($L$7:$L$500,N14)","v":0},{"$f":"O14/$Q$4","v":0},{"$f":"IF(P14=0,0,(P14*((LOG(P14))/LOG(2))))","v":0},null,null,{"$f":"N14","v":11222},{"$f":"COUNTIF(L7:L37,T14)","v":0},{"$f":"U14/(W4-U25)","v":0},{"$f":"IF(V14=0,0,(V14*((LOG(V14))/LOG(2))))","v":0},null,{"$f":"N14","v":11222},{"$f":"COUNTIF(L38:L68,Y14)","v":0},{"$f":"Z14/(AB4-Z25)","v":0},{"$f":"IF(AA14=0,0,(AA14*((LOG(AA14))/LOG(2))))","v":0},null,{"$f":"N14","v":11222},{"$f":"COUNTIF(L69:L99,AD14)","v":0},{"$f":"AE14/(AG4-AE25)","v":0},{"$f":"IF(AF14=0,0,(AF14*((LOG(AF14))/LOG(2))))","v":0},null,{"$f":"N14","v":11222},{"$f":"COUNTIF(L100:L130,AI14)","v":0},{"$f":"AJ14/(AL4-AJ25)","v":0},{"$f":"IF(AK14=0,0,(AK14*((LOG(AK14))/LOG(2))))","v":0},null,{"$f":"N14","v":11222},{"$f":"COUNTIF(L131:L161,AN14)","v":0},{"$f":"AO14/(AQ4-AO25)","v":0},{"$f":"IF(AP14=0,0,(AP14*((LOG(AP14))/LOG(2))))","v":0},null,{"$f":"N14","v":11222},{"$f":"COUNTIF(L162:L192,AS14)","v":0},{"$f":"AT14/(AV4-AT25)","v":0},{"$f":"IF(AU14=0,0,(AU14*((LOG(AU14))/LOG(2))))","v":0}]
[12,1096,13,1101,13,1106,14,1111,13,1116,0,11111,null,12111,{"$f":"COUNTIF($L$7:$L$500,N15)","v":0},{"$f":"O15/$Q$4","v":0},{"$f":"IF(P15=0,0,(P15*((LOG(P15))/LOG(2))))","v":0},null,null,{"$f":"N15","v":12111},{"$f":"COUNTIF(L7:L37,T15)","v":0},{"$f":"U15/(W4-U25)","v":0},{"$f":"IF(V15=0,0,(V15*((LOG(V15))/LOG(2))))","v":0},null,{"$f":"N15","v":12111},{"$f":"COUNTIF(L38:L68,Y15)","v":0},{"$f":"Z15/(AB4-Z25)","v":0},{"$f":"IF(AA15=0,0,(AA15*((LOG(AA15))/LOG(2))))","v":0},null,{"$f":"N15","v":12111},{"$f":"COUNTIF(L69:L99,AD15)","v":0},{"$f":"AE15/(AG4-AE25)","v":0},{"$f":"IF(AF15=0,0,(AF15*((LOG(AF15))/LOG(2))))","v":0},null,{"$f":"N15","v":12111},{"$f":"COUNTIF(L100:L130,AI15)","v":0},{"$f":"AJ15/(AL4-AJ25)","v":0},{"$f":"IF(AK15=0,0,(AK15*((LOG(AK15))/LOG(2))))","v":0},null,{"$f":"N15","v":12111},{"$f":"COUNTIF(L131:L161,AN15)","v":0},{"$f":"AO15/(AQ4-AO25)","v":0},{"$f":"IF(AP15=0,0,(AP15*((LOG(AP15))/LOG(2))))","v":0},null,{"$f":"N15","v":12111},{"$f":"COUNTIF(L162:L192,AS15)","v":0},{"$f":"AT15/(AV4-AT25)","v":0},{"$f":"IF(AU15=0,0,(AU15*((LOG(AU15))/LOG(2))))","v":0}]
[12,1223,13,1228,13,1232,14,1237,13,1242,0,11111,null,12112,{"$f":"COUNTIF($L$7:$L$500,N16)","v":0},{"$f":"O16/$Q$4","v":0},{"$f":"IF(P16=0,0,(P16*((LOG(P16))/LOG(2))))","v":0},null,null,{"$f":"N16","v":12112},{"$f":"COUNTIF(L7:L37,T16)","v":0},{"$f":"U16/(W4-U25)","v":0},{"$f":"IF(V16=0,0,(V16*((LOG(V16))/LOG(2))))","v":0},null,{"$f":"N16","v":12112},{"$f":"COUNTIF(L38:L68,Y16)","v":0},{"$f":"Z16/(AB4-Z25)","v":0},{"$f":"IF(AA16=0,0,(AA16*((LOG(AA16))/LOG(2))))","v":0},null,{"$f":"N16","v":12112},{"$f":"COUNTIF(L69:L99,AD16)","v":0},{"$f":"AE16/(AG4-AE25)","v":0},{"$f":"IF(AF16=0,0,(AF16*((LOG(AF16))/LOG(2))))","v":0},null,{"$f":"N16","v":12112},{"$f":"COUNTIF(L100:L130,AI16)","v":0},{"$f":"AJ16/(AL4-AJ25)","v":0},{"$f":"IF(AK16=0,0,(AK16*((LOG(AK16))/LOG(2))))","v":0},null,{"$f":"N16","v":12112},{"$f":"COUNTIF(L131:L161,AN16)","v":0},{"$f":"AO16/(AQ4-AO25)","v":0},{"$f":"IF(AP16=0,0,(AP16*((LOG(AP16))/LOG(2))))","v":0},null,{"$f":"N16","v":12112},{"$f":"COUNTIF(L162:L192,AS16)","v":0},{"$f":"AT16/(AV4-AT25)","v":0},{"$f":"IF(AU16=0,0,(AU16*((LOG(AU16))/LOG(2))))","v":0}]
[12,1346,13,1350,13,1354,14,1358,13,1363,0,11111,null,12121,{"$f":"COUNTIF($L$7:$L$500,N17)","v":0},{"$f":"O17/$Q$4","v":0},{"$f":"IF(P17=0,0,(P17*((LOG(P17))/LOG(2))))","v":0},null,null,{"$f":"N17","v":12121},{"$f":"COUNTIF(L7:L37,T17)","v":0},{"$f":"U17/(W4-U25)","v":0},{"$f":"IF(V17=0,0,(V17*((LOG(V17))/LOG(2))))","v":0},null,{"$f":"N17","v":12121},{"$f":"COUNTIF(L38:L68,Y17)","v":0},{"$f":"Z17/(AB4-Z25)","v":0},{"$f":"IF(AA17=0,0,(AA17*((LOG(AA17))/LOG(2))))","v":0},null,{"$f":"N17","v":12121},{"$f":"COUNTIF(L69:L99,AD17)","v":0},{"$f":"AE17/(AG4-AE25)","v":0},{"$f":"IF(AF17=0,0,(AF17*((LOG(AF17))/LOG(2))))","v":0},null,{"$f":"N17","v":12121},{"$f":"COUNTIF(L100:L130,AI17)","v":0},{"$f":"AJ17/(AL4-AJ25)","v":0},{"$f":"IF(AK17=0,0,(AK17*((LOG(AK17))/LOG(2))))","v":0},null,{"$f":"N17","v":12121},{"$f":"COUNTIF(L131:L161,AN17)","v":0},{"$f":"AO17/(AQ4-AO25)","v":0},{"$f":"IF(AP17=0,0,(AP17*((LOG(AP17))/LOG(2))))","v":0},null,{"$f":"N17","v":12121},{"$f":"COUNTIF(L162:L192,AS17)","v":0},{"$f":"AT17/(AV4-AT25)","v":0},{"$f":"IF(AU17=0,0,(AU17*((LOG(AU17))/LOG(2))))","v":0}]
[12,1477,13,1481,13,1486,14,1503,13,1520,0,11111,null,12122,{"$f":"COUNTIF($L$7:$L$500,N18)","v":0},{"$f":"O18/$Q$4","v":0},{"$f":"IF(P18=0,0,(P18*((LOG(P18))/LOG(2))))","v":0},null,null,{"$f":"N18","v":12122},{"$f":"COUNTIF(L7:L37,T18)","v":0},{"$f":"U18/(W4-U25)","v":0},{"$f":"IF(V18=0,0,(V18*((LOG(V18))/LOG(2))))","v":0},null,{"$f":"N18","v":12122},{"$f":"COUNTIF(L38:L68,Y18)","v":0},{"$f":"Z18/(AB4-Z25)","v":0},{"$f":"IF(AA18=0,0,(AA18*((LOG(AA18))/LOG(2))))","v":0},null,{"$f":"N18","v":12122},{"$f":"COUNTIF(L69:L99,AD18)","v":0},{"$f":"AE18/(AG4-AE25)","v":0},{"$f":"IF(AF18=0,0,(AF18*((LOG(AF18))/LOG(2))))","v":0},null,{"$f":"N18","v":12122},{"$f":"COUNTIF(L100:L130,AI18)","v":0},{"$f":"AJ18/(AL4-AJ25)","v":0},{"$f":"IF(AK18=0,0,(AK18*((LOG(AK18))/LOG(2))))","v":0},null,{"$f":"N18","v":12122},{"$f":"COUNTIF(L131:L161,AN18)","v":0},{"$f":"AO18/(AQ4-AO25)","v":0},{"$f":"IF(AP18=0,0,(AP18*((LOG(AP18))/LOG(2))))","v":0},null,{"$f":"N18","v":12122},{"$f":"COUNTIF(L162:L192,AS18)","v":0},{"$f":"AT18/(AV4-AT25)","v":0},{"$f":"IF(AU18=0,0,(AU18*((LOG(AU18))/LOG(2))))","v":0}]
[12,1626,13,1630,13,1634,14,1638,13,1643,0,11111,null,12211,{"$f":"COUNTIF($L$7:$L$500,N19)","v":0},{"$f":"O19/$Q$4","v":0},{"$f":"IF(P19=0,0,(P19*((LOG(P19))/LOG(2))))","v":0},null,null,{"$f":"N19","v":12211},{"$f":"COUNTIF(L7:L37,T19)","v":0},{"$f":"U19/(W4-U25)","v":0},{"$f":"IF(V19=0,0,(V19*((LOG(V19))/LOG(2))))","v":0},null,{"$f":"N19","v":12211},{"$f":"COUNTIF(L38:L68,Y19)","v":0},{"$f":"Z19/(AB4-Z25)","v":0},{"$f":"IF(AA19=0,0,(AA19*((LOG(AA19))/LOG(2))))","v":0},null,{"$f":"N19","v":12211},{"$f":"COUNTIF(L69:L99,AD19)","v":0},{"$f":"AE19/(AG4-AE25)","v":0},{"$f":"IF(AF19=0,0,(AF19*((LOG(AF19))/LOG(2))))","v":0},null,{"$f":"N19","v":12211},{"$f":"COUNTIF(L100:L130,AI19)","v":0},{"$f":"AJ19/(AL4-AJ25)","v":0},{"$f":"IF(AK19=0,0,(AK19*((LOG(AK19))/LOG(2))))","v":0},null,{"$f":"N19","v":12211},{"$f":"COUNTIF(L131:L161,AN19)","v":0},{"$f":"AO19/(AQ4-AO25)","v":0},{"$f":"IF(AP19=0,0,(AP19*((LOG(AP19))/LOG(2))))","v":0},null,{"$f":"N19","v":12211},{"$f":"COUNTIF(L162:L192,AS19)","v":0},{"$f":"AT19/(AV4-AT25)","v":0},{"$f":"IF(AU19=0,0,(AU19*((LOG(AU19))/LOG(2))))","v":0}]
[12,1745,13,1750,13,1754,14,1758,13,1763,0,11111,null,12212,{"$f":"COUNTIF($L$7:$L$500,N20)","v":0},{"$f":"O20/$Q$4","v":0},{"$f":"IF(P20=0,0,(P20*((LOG(P20))/LOG(2))))","v":0},null,null,{"$f":"N20","v":12212},{"$f":"COUNTIF(L7:L37,T20)","v":0},{"$f":"U20/(W4-U25)","v":0},{"$f":"IF(V20=0,0,(V20*((LOG(V20))/LOG(2))))","v":0},null,{"$f":"N20","v":12212},{"$f":"COUNTIF(L38:L68,Y20)","v":0},{"$f":"Z20/(AB4-Z25)","v":0},{"$f":"IF(AA20=0,0,(AA20*((LOG(AA20))/LOG(2))))","v":0},null,{"$f":"N20","v":12212},{"$f":"COUNTIF(L69:L99,AD20)","v":0},{"$f":"AE20/(AG4-AE25)","v":0},{"$f":"IF(AF20=0,0,(AF20*((LOG(AF20))/LOG(2))))","v":0},null,{"$f":"N20","v":12212},{"$f":"COUNTIF(L100:L130,AI20)","v":0},{"$f":"AJ20/(AL4-AJ25)","v":0},{"$f":"IF(AK20=0,0,(AK20*((LOG(AK20))/LOG(2))))","v":0},null,{"$f":"N20","v":12212},{"$f":"COUNTIF(L131:L161,AN20)","v":0},{"$f":"AO20/(AQ4-AO25)","v":0},{"$f":"IF(AP20=0,0,(AP20*((LOG(AP20))/LOG(2))))","v":0},null,{"$f":"N20","v":12212},{"$f":"COUNTIF(L162:L192,AS20)","v":0},{"$f":"AT20/(AV4-AT25)","v":0},{"$f":"IF(AU20=0,0,(AU20*((LOG(AU20))/LOG(2))))","v":0}]
[12,1864,13,1868,13,1873,14,1877,13,1882,0,11111,null,12221,{"$f":"COUNTIF($L$7:$L$500,N21)","v":0},{"$f":"O21/$Q$4","v":0},{"$f":"IF(P21=0,0,(P21*((LOG(P21))/LOG(2))))","v":0},null,null,{"$f":"N21","v":12221},{"$f":"COUNTIF(L7:L37,T21)","v":0},{"$f":"U21/(W4-U25)","v":0},{"$f":"IF(V21=0,0,(V21*((LOG(V21))/LOG(2))))","v":0},null,{"$f":"N21","v":12221},{"$f":"COUNTIF(L38:L68,Y21)","v":0},{"$f":"Z21/(AB4-Z25)","v":0},{"$f":"IF(AA21=0,0,(AA21*((LOG(AA21))/LOG(2))))","v":0},null,{"$f":"N21","v":12221},{"$f":"COUNTIF(L69:L99,AD21)","v":0},{"$f":"AE21/(AG4-AE25)","v":0},{"$f":"IF(AF21=0,0,(AF21*((LOG(AF21))/LOG(2))))","v":0},null,{"$f":"N21","v":12221},{"$f":"COUNTIF(L100:L130,AI21)","v":0},{"$f":"AJ21/(AL4-AJ25)","v":0},{"$f":"IF(AK21=0,0,(AK21*((LOG(AK21))/LOG(2))))","v":0},null,{"$f":"N21","v":12221},{"$f":"COUNTIF(L131:L161,AN21)","v":0},{"$f":"AO21/(AQ4-AO25)","v":0},{"$f":"IF(AP21=0,0,(AP21*((LOG(AP21))/LOG(2))))","v":0},null,{"$f":"N21","v":12221},{"$f":"COUNTIF(L162:L192,AS21)","v":0},{"$f":"AT21/(AV4-AT25)","v":0},{"$f":"IF(AU21=0,0,(AU21*((LOG(AU21))/LOG(2))))","v":0}]
[12,2010,13,2014,13,2019,14,2024,13,2029,1,11111,null,12222,{"$f":"COUNTIF($L$7:$L$500,N22)","v":1},{"$f":"O22/$Q$4","v":5.3763440860215058E-3},{"$f":"IF(P22=0,0,(P22*((LOG(P22))/LOG(2))))","v":-4.0533111887677595E-2},null,null,{"$f":"N22","v":12222},{"$f":"COUNTIF(L7:L37,T22)","v":0},{"$f":"U22/(W4-U25)","v":0},{"$f":"IF(V22=0,0,(V22*((LOG(V22))/LOG(2))))","v":0},null,{"$f":"N22","v":12222},{"$f":"COUNTIF(L38:L68,Y22)","v":0},{"$f":"Z22/(AB4-Z25)","v":0},{"$f":"IF(AA22=0,0,(AA22*((LOG(AA22))/LOG(2))))","v":0},null,{"$f":"N22","v":12222},{"$f":"COUNTIF(L69:L99,AD22)","v":0},{"$f":"AE22/(AG4-AE25)","v":0},{"$f":"IF(AF22=0,0,(AF22*((LOG(AF22))/LOG(2))))","v":0},null,{"$f":"N22","v":12222},{"$f":"COUNTIF(L100:L130,AI22)","v":0},{"$f":"AJ22/(AL4-AJ25)","v":0},{"$f":"IF(AK22=0,0,(AK22*((LOG(AK22))/LOG(2))))","v":0},null,{"$f":"N22","v":12222},{"$f":"COUNTIF(L131:L161,AN22)","v":0},{"$f":"AO22/(AQ4-AO25)","v":0},{"$f":"IF(AP22=0,0,(AP22*((LOG(AP22))/LOG(2))))","v":0},null,{"$f":"N22","v":12222},{"$f":"COUNTIF(L162:L192,AS22)","v":1},{"$f":"AT22/(AV4-AT25)","v":3.2258064516129031E-2},{"$f":"IF(AU22=0,0,(AU22*((LOG(AU22))/LOG(2))))","v":-0.15981278420602821}]
[12,2125,13,2129,13,2147,14,2152,13,2157,0,11111,null,21111,{"$f":"COUNTIF($L$7:$L$500,N23)","v":0},{"$f":"O23/$Q$4","v":0},{"$f":"IF(P23=0,0,(P23*((LOG(P23))/LOG(2))))","v":0},null,null,{"$f":"N23","v":21111},{"$f":"COUNTIF(L7:L37,T23)","v":0},{"$f":"U23/(W4-U25)","v":0},{"$f":"IF(V23=0,0,(V23*((LOG(V23))/LOG(2))))","v":0},null,{"$f":"N23","v":21111},{"$f":"COUNTIF(L38:L68,Y23)","v":0},{"$f":"Z23/(AB4-Z25)","v":0},{"$f":"IF(AA23=0,0,(AA23*((LOG(AA23))/LOG(2))))","v":0},null,{"$f":"N23","v":21111},{"$f":"COUNTIF(L69:L99,AD23)","v":0},{"$f":"AE23/(AG4-AE25)","v":0},{"$f":"IF(AF23=0,0,(AF23*((LOG(AF23))/LOG(2))))","v":0},null,{"$f":"N23","v":21111},{"$f":"COUNTIF(L100:L130,AI23)","v":0},{"$f":"AJ23/(AL4-AJ25)","v":0},{"$f":"IF(AK23=0,0,(AK23*((LOG(AK23))/LOG(2))))","v":0},null,{"$f":"N23","v":21111},{"$f":"COUNTIF(L131:L161,AN23)","v":0},{"$f":"AO23/(AQ4-AO25)","v":0},{"$f":"IF(AP23=0,0,(AP23*((LOG(AP23))/LOG(2))))","v":0},null,{"$f":"N23","v":21111},{"$f":"COUNTIF(L162:L192,AS23)","v":0},{"$f":"AT23/(AV4-AT25)","v":0},{"$f":"IF(AU23=0,0,(AU23*((LOG(AU23))/LOG(2))))","v":0}]
[12,2271,13,2275,13,2280,14,2284,13,2290,0,11111,null,21112,{"$f":"COUNTIF($L$7:$L$500,N24)","v":0},{"$f":"O24/$Q$4","v":0},{"$f":"IF(P24=0,0,(P24*((LOG(P24))/LOG(2))))","v":0},null,null,{"$f":"N24","v":21112},{"$f":"COUNTIF(L7:L37,T24)","v":0},{"$f":"U24/(W4-U25)","v":0},{"$f":"IF(V24=0,0,(V24*((LOG(V24))/LOG(2))))","v":0},null,{"$f":"N24","v":21112},{"$f":"COUNTIF(L38:L68,Y24)","v":0},{"$f":"Z24/(AB4-Z25)","v":0},{"$f":"IF(AA24=0,0,(AA24*((LOG(AA24))/LOG(2))))","v":0},null,{"$f":"N24","v":21112},{"$f":"COUNTIF(L69:L99,AD24)","v":0},{"$f":"AE24/(AG4-AE25)","v":0},{"$f":"IF(AF24=0,0,(AF24*((LOG(AF24))/LOG(2))))","v":0},null,{"$f":"N24","v":21112},{"$f":"COUNTIF(L100:L130,AI24)","v":0},{"$f":"AJ24/(AL4-AJ25)","v":0},{"$f":"IF(AK24=0,0,(AK24*((LOG(AK24))/LOG(2))))","v":0},null,{"$f":"N24","v":21112},{"$f":"COUNTIF(L131:L161,AN24)","v":0},{"$f":"AO24/(AQ4-AO25)","v":0},{"$f":"IF(AP24=0,0,(AP24*((LOG(AP24))/LOG(2))))","v":0},null,{"$f":"N24","v":21112},{"$f":"COUNTIF(L162:L192,AS24)","v":0},{"$f":"AT24/(AV4-AT25)","v":0},{"$f":"IF(AU24=0,0,(AU24*((LOG(AU24))/LOG(2))))","v":0}]
[12,2421,13,2425,13,2433,14,2438,13,2449,0,11111,null,21121,{"$f":"COUNTIF($L$7:$L$500,N25)","v":0},{"$f":"O25/$Q$4","v":0},{"$f":"IF(P25=0,0,(P25*((LOG(P25))/LOG(2))))","v":0},null,null,{"$f":"N25","v":21121},{"$f":"COUNTIF(L7:L37,T25)","v":0},null,null,null,{"$f":"N25","v":21121},{"$f":"COUNTIF(L38:L68,Y25)","v":0},null,null,null,{"$f":"N25","v":21121},{"$f":"COUNTIF(L69:L99,AD25)","v":0},null,null,null,{"$f":"N25","v":21121},{"$f":"COUNTIF(L100:L130,AI25)","v":0},null,null,null,{"$f":"N25","v":21121},{"$f":"COUNTIF(L131:L161,AN25)","v":0},null,null,null,{"$f":"N25","v":21121},{"$f":"COUNTIF(L162:L192,AS25)","v":0}]
[12,2549,13,2554,13,2558,14,2562,13,2571,0,11111,null,21122,{"$f":"COUNTIF($L$7:$L$500,N26)","v":0},{"$f":"O26/$Q$4","v":0},{"$f":"IF(P26=0,0,(P26*((LOG(P26))/LOG(2))))","v":0},null,null,{"$f":"N26","v":21122},{"$f":"COUNTIF(L7:L37,T26)","v":0},{"$f":"U26/(W4-U25)","v":0},{"$f":"IF(V26=0,0,(V26*((LOG(V26))/LOG(2))))","v":0},null,{"$f":"N26","v":21122},{"$f":"COUNTIF(L38:L68,Y26)","v":0},{"$f":"Z26/(AB4-Z25)","v":0},{"$f":"IF(AA26=0,0,(AA26*((LOG(AA26))/LOG(2))))","v":0},null,{"$f":"N26","v":21122},{"$f":"COUNTIF(L69:L99,AD26)","v":0},{"$f":"AE26/(AG4-AE25)","v":0},{"$f":"IF(AF26=0,0,(AF26*((LOG(AF26))/LOG(2))))","v":0},null,{"$f":"N26","v":21122},{"$f":"COUNTIF(L100:L130,AI26)","v":0},{"$f":"AJ26/(AL4-AJ25)","v":0},{"$f":"IF(AK26=0,0,(AK26*((LOG(AK26))/LOG(2))))","v":0},null,{"$f":"N26","v":21122},{"$f":"COUNTIF(L131:L161,AN26)","v":0},{"$f":"AO26/(AQ4-AO25)","v":0},{"$f":"IF(AP26=0,0,(AP26*((LOG(AP26))/LOG(2))))","v":0},null,{"$f":"N26","v":21122},{"$f":"COUNTIF(L162:L192,AS26)","v":0},{"$f":"AT26/(AV4-AT25)","v":0},{"$f":"IF(AU26=0,0,(AU26*((LOG(AU26))/LOG(2))))","v":0}]
[12,2686,13,2691,13,2695,14,2709,13,2719,0,11111,null,21211,{"$f":"COUNTIF($L$7:$L$500,N27)","v":0},{"$f":"O27/$Q$4","v":0},{"$f":"IF(P27=0,0,(P27*((LOG(P27))/LOG(2))))","v":0},null,null,{"$f":"N27","v":21211},{"$f":"COUNTIF(L7:L37,T27)","v":0},{"$f":"U27/(W4-U25)","v":0},{"$f":"IF(V27=0,0,(V27*((LOG(V27))/LOG(2))))","v":0},null,{"$f":"N27","v":21211},{"$f":"COUNTIF(L38:L68,Y27)","v":0},{"$f":"Z27/(AB4-Z25)","v":0},{"$f":"IF(AA27=0,0,(AA27*((LOG(AA27))/LOG(2))))","v":0},null,{"$f":"N27","v":21211},{"$f":"COUNTIF(L69:L99,AD27)","v":0},{"$f":"AE27/(AG4-AE25)","v":0},{"$f":"IF(AF27=0,0,(AF27*((LOG(AF27))/LOG(2))))","v":0},null,{"$f":"N27","v":21211},{"$f":"COUNTIF(L100:L130,AI27)","v":0},{"$f":"AJ27/(AL4-AJ25)","v":0},{"$f":"IF(AK27=0,0,(AK27*((LOG(AK27))/LOG(2))))","v":0},null,{"$f":"N27","v":21211},{"$f":"COUNTIF(L131:L161,AN27)","v":0},{"$f":"AO27/(AQ4-AO25)","v":0},{"$f":"IF(AP27=0,0,(AP27*((LOG(AP27))/LOG(2))))","v":0},null,{"$f":"N27","v":21211},{"$f":"COUNTIF(L162:L192,AS27)","v":0},{"$f":"AT27/(AV4-AT25)","v":0},{"$f":"IF(AU27=0,0,(AU27*((LOG(AU27))/LOG(2))))","v":0}]
[12,2824,13,2828,13,2832,14,2837,13,2861,0,11111,null,21212,{"$f":"COUNTIF($L$7:$L$500,N28)","v":0},{"$f":"O28/$Q$4","v":0},{"$f":"IF(P28=0,0,(P28*((LOG(P28))/LOG(2))))","v":0},null,null,{"$f":"N28","v":21212},{"$f":"COUNTIF(L7:L37,T28)","v":0},{"$f":"U28/(W4-U25)","v":0},{"$f":"IF(V28=0,0,(V28*((LOG(V28))/LOG(2))))","v":0},null,{"$f":"N28","v":21212},{"$f":"COUNTIF(L38:L68,Y28)","v":0},{"$f":"Z28/(AB4-Z25)","v":0},{"$f":"IF(AA28=0,0,(AA28*((LOG(AA28))/LOG(2))))","v":0},null,{"$f":"N28","v":21212},{"$f":"COUNTIF(L69:L99,AD28)","v":0},{"$f":"AE28/(AG4-AE25)","v":0},{"$f":"IF(AF28=0,0,(AF28*((LOG(AF28))/LOG(2))))","v":0},null,{"$f":"N28","v":21212},{"$f":"COUNTIF(L100:L130,AI28)","v":0},{"$f":"AJ28/(AL4-AJ25)","v":0},{"$f":"IF(AK28=0,0,(AK28*((LOG(AK28))/LOG(2))))","v":0},null,{"$f":"N28","v":21212},{"$f":"COUNTIF(L131:L161,AN28)","v":0},{"$f":"AO28/(AQ4-AO25)","v":0},{"$f":"IF(AP28=0,0,(AP28*((LOG(AP28))/LOG(2))))","v":0},null,{"$f":"N28","v":21212},{"$f":"COUNTIF(L162:L192,AS28)","v":0},{"$f":"AT28/(AV4-AT25)","v":0},{"$f":"IF(AU28=0,0,(AU28*((LOG(AU28))/LOG(2))))","v":0}]
[12,2975,13,2979,13,2983,14,2987,13,2992,0,11111,null,21221,{"$f":"COUNTIF($L$7:$L$500,N29)","v":0},{"$f":"O29/$Q$4","v":0},{"$f":"IF(P29=0,0,(P29*((LOG(P29))/LOG(2))))","v":0},null,null,{"$f":"N29","v":21221},{"$f":"COUNTIF(L7:L37,T29)","v":0},{"$f":"U29/(W4-U25)","v":0},{"$f":"IF(V29=0,0,(V29*((LOG(V29))/LOG(2))))","v":0},null,{"$f":"N29","v":21221},{"$f":"COUNTIF(L38:L68,Y29)","v":0},{"$f":"Z29/(AB4-Z25)","v":0},{"$f":"IF(AA29=0,0,(AA29*((LOG(AA29))/LOG(2))))","v":0},null,{"$f":"N29","v":21221},{"$f":"COUNTIF(L69:L99,AD29)","v":0},{"$f":"AE29/(AG4-AE25)","v":0},{"$f":"IF(AF29=0,0,(AF29*((LOG(AF29))/LOG(2))))","v":0},null,{"$f":"N29","v":21221},{"$f":"COUNTIF(L100:L130,AI29)","v":0},{"$f":"AJ29/(AL4-AJ25)","v":0},{"$f":"IF(AK29=0,0,(AK29*((LOG(AK29))/LOG(2))))","v":0},null,{"$f":"N29","v":21221},{"$f":"COUNTIF(L131:L161,AN29)","v":0},{"$f":"AO29/(AQ4-AO25)","v":0},{"$f":"IF(AP29=0,0,(AP29*((LOG(AP29))/LOG(2))))","v":0},null,{"$f":"N29","v":21221},{"$f":"COUNTIF(L162:L192,AS29)","v":0},{"$f":"AT29/(AV4-AT25)","v":0},{"$f":"IF(AU29=0,0,(AU29*((LOG(AU29))/LOG(2))))","v":0}]
[12,3095,13,3100,13,3105,14,3109,13,3115,1,11111,null,21222,{"$f":"COUNTIF($L$7:$L$500,N30)","v":0},{"$f":"O30/$Q$4","v":0},{"$f":"IF(P30=0,0,(P30*((LOG(P30))/LOG(2))))","v":0},null,null,{"$f":"N30","v":21222},{"$f":"COUNTIF(L7:L37,T30)","v":0},{"$f":"U30/(W4-U25)","v":0},{"$f":"IF(V30=0,0,(V30*((LOG(V30))/LOG(2))))","v":0},null,{"$f":"N30","v":21222},{"$f":"COUNTIF(L38:L68,Y30)","v":0},{"$f":"Z30/(AB4-Z25)","v":0},{"$f":"IF(AA30=0,0,(AA30*((LOG(AA30))/LOG(2))))","v":0},null,{"$f":"N30","v":21222},{"$f":"COUNTIF(L69:L99,AD30)","v":0},{"$f":"AE30/(AG4-AE25)","v":0},{"$f":"IF(AF30=0,0,(AF30*((LOG(AF30))/LOG(2))))","v":0},null,{"$f":"N30","v":21222},{"$f":"COUNTIF(L100:L130,AI30)","v":0},{"$f":"AJ30/(AL4-AJ25)","v":0},{"$f":"IF(AK30=0,0,(AK30*((LOG(AK30))/LOG(2))))","v":0},null,{"$f":"N30","v":21222},{"$f":"COUNTIF(L131:L161,AN30)","v":0},{"$f":"AO30/(AQ4-AO25)","v":0},{"$f":"IF(AP30=0,0,(AP30*((LOG(AP30))/LOG(2))))","v":0},null,{"$f":"N30","v":21222},{"$f":"COUNTIF(L162:L192,AS30)","v":0},{"$f":"AT30/(AV4-AT25)","v":0},{"$f":"IF(AU30=0,0,(AU30*((LOG(AU30))/LOG(2))))","v":0}]
[12,3215,13,3229,13,3233,14,3243,13,3251,0,11111,null,22111,{"$f":"COUNTIF($L$7:$L$500,N31)","v":0},{"$f":"O31/$Q$4","v":0},{"$f":"IF(P31=0,0,(P31*((LOG(P31))/LOG(2))))","v":0},null,null,{"$f":"N31","v":22111},{"$f":"COUNTIF(L7:L37,T31)","v":0},{"$f":"U31/(W4-U25)","v":0},{"$f":"IF(V31=0,0,(V31*((LOG(V31))/LOG(2))))","v":0},null,{"$f":"N31","v":22111},{"$f":"COUNTIF(L38:L68,Y31)","v":0},{"$f":"Z31/(AB4-Z25)","v":0},{"$f":"IF(AA31=0,0,(AA31*((LOG(AA31))/LOG(2))))","v":0},null,{"$f":"N31","v":22111},{"$f":"COUNTIF(L69:L99,AD31)","v":0},{"$f":"AE31/(AG4-AE25)","v":0},{"$f":"IF(AF31=0,0,(AF31*((LOG(AF31))/LOG(2))))","v":0},null,{"$f":"N31","v":22111},{"$f":"COUNTIF(L100:L130,AI31)","v":0},{"$f":"AJ31/(AL4-AJ25)","v":0},{"$f":"IF(AK31=0,0,(AK31*((LOG(AK31))/LOG(2))))","v":0},null,{"$f":"N31","v":22111},{"$f":"COUNTIF(L131:L161,AN31)","v":0},{"$f":"AO31/(AQ4-AO25)","v":0},{"$f":"IF(AP31=0,0,(AP31*((LOG(AP31))/LOG(2))))","v":0},null,{"$f":"N31","v":22111},{"$f":"COUNTIF(L162:L192,AS31)","v":0},{"$f":"AT31/(AV4-AT25)","v":0},{"$f":"IF(AU31=0,0,(AU31*((LOG(AU31))/LOG(2))))","v":0}]
[12,3352,13,3357,13,3361,14,3365,13,3370,0,11111,null,22112,{"$f":"COUNTIF($L$7:$L$500,N32)","v":0},{"$f":"O32/$Q$4","v":0},{"$f":"IF(P32=0,0,(P32*((LOG(P32))/LOG(2))))","v":0},null,null,{"$f":"N32","v":22112},{"$f":"COUNTIF(L7:L37,T32)","v":0},{"$f":"U32/(W4-U25)","v":0},{"$f":"IF(V32=0,0,(V32*((LOG(V32))/LOG(2))))","v":0},null,{"$f":"N32","v":22112},{"$f":"COUNTIF(L38:L68,Y32)","v":0},{"$f":"Z32/(AB4-Z25)","v":0},{"$f":"IF(AA32=0,0,(AA32*((LOG(AA32))/LOG(2))))","v":0},null,{"$f":"N32","v":22112},{"$f":"COUNTIF(L69:L99,AD32)","v":0},{"$f":"AE32/(AG4-AE25)","v":0},{"$f":"IF(AF32=0,0,(AF32*((LOG(AF32))/LOG(2))))","v":0},null,{"$f":"N32","v":22112},{"$f":"COUNTIF(L100:L130,AI32)","v":0},{"$f":"AJ32/(AL4-AJ25)","v":0},{"$f":"IF(AK32=0,0,(AK32*((LOG(AK32))/LOG(2))))","v":0},null,{"$f":"N32","v":22112},{"$f":"COUNTIF(L131:L161,AN32)","v":0},{"$f":"AO32/(AQ4-AO25)","v":0},{"$f":"IF(AP32=0,0,(AP32*((LOG(AP32))/LOG(2))))","v":0},null,{"$f":"N32","v":22112},{"$f":"COUNTIF(L162:L192,AS32)","v":0},{"$f":"AT32/(AV4-AT25)","v":0},{"$f":"IF(AU32=0,0,(AU32*((LOG(AU32))/LOG(2))))","v":0}]
[12,3482,13,3487,13,3491,14,3496,13,3500,0,11111,null,22121,{"$f":"COUNTIF($L$7:$L$500,N33)","v":0},{"$f":"O33/$Q$4","v":0},{"$f":"IF(P33=0,0,(P33*((LOG(P33))/LOG(2))))","v":0},null,null,{"$f":"N33","v":22121},{"$f":"COUNTIF(L7:L37,T33)","v":0},{"$f":"U33/(W4-U25)","v":0},{"$f":"IF(V33=0,0,(V33*((LOG(V33))/LOG(2))))","v":0},null,{"$f":"N33","v":22121},{"$f":"COUNTIF(L38:L68,Y33)","v":0},{"$f":"Z33/(AB4-Z25)","v":0},{"$f":"IF(AA33=0,0,(AA33*((LOG(AA33))/LOG(2))))","v":0},null,{"$f":"N33","v":22121},{"$f":"COUNTIF(L69:L99,AD33)","v":0},{"$f":"AE33/(AG4-AE25)","v":0},{"$f":"IF(AF33=0,0,(AF33*((LOG(AF33))/LOG(2))))","v":0},null,{"$f":"N33","v":22121},{"$f":"COUNTIF(L100:L130,AI33)","v":0},{"$f":"AJ33/(AL4-AJ25)","v":0},{"$f":"IF(AK33=0,0,(AK33*((LOG(AK33))/LOG(2))))","v":0},null,{"$f":"N33","v":22121},{"$f":"COUNTIF(L131:L161,AN33)","v":0},{"$f":"AO33/(AQ4-AO25)","v":0},{"$f":"IF(AP33=0,0,(AP33*((LOG(AP33))/LOG(2))))","v":0},null,{"$f":"N33","v":22121},{"$f":"COUNTIF(L162:L192,AS33)","v":0},{"$f":"AT33/(AV4-AT25)","v":0},{"$f":"IF(AU33=0,0,(AU33*((LOG(AU33))/LOG(2))))","v":0}]
[12,3609,13,3614,13,3618,14,3623,13,3628,1,11111,null,22122,{"$f":"COUNTIF($L$7:$L$500,N34)","v":0},{"$f":"O34/$Q$4","v":0},{"$f":"IF(P34=0,0,(P34*((LOG(P34))/LOG(2))))","v":0},null,null,{"$f":"N34","v":22122},{"$f":"COUNTIF(L7:L37,T34)","v":0},{"$f":"U34/(W4-U25)","v":0},{"$f":"IF(V34=0,0,(V34*((LOG(V34))/LOG(2))))","v":0},null,{"$f":"N34","v":22122},{"$f":"COUNTIF(L38:L68,Y34)","v":0},{"$f":"Z34/(AB4-Z25)","v":0},{"$f":"IF(AA34=0,0,(AA34*((LOG(AA34))/LOG(2))))","v":0},null,{"$f":"N34","v":22122},{"$f":"COUNTIF(L69:L99,AD34)","v":0},{"$f":"AE34/(AG4-AE25)","v":0},{"$f":"IF(AF34=0,0,(AF34*((LOG(AF34))/LOG(2))))","v":0},null,{"$f":"N34","v":22122},{"$f":"COUNTIF(L100:L130,AI34)","v":0},{"$f":"AJ34/(AL4-AJ25)","v":0},{"$f":"IF(AK34=0,0,(AK34*((LOG(AK34))/LOG(2))))","v":0},null,{"$f":"N34","v":22122},{"$f":"COUNTIF(L131:L161,AN34)","v":0},{"$f":"AO34/(AQ4-AO25)","v":0},{"$f":"IF(AP34=0,0,(AP34*((LOG(AP34))/LOG(2))))","v":0},null,{"$f":"N34","v":22122},{"$f":"COUNTIF(L162:L192,AS34)","v":0},{"$f":"AT34/(AV4-AT25)","v":0},{"$f":"IF(AU34=0,0,(AU34*((LOG(AU34))/LOG(2))))","v":0}]
[12,3725,13,3730,13,3740,14,3744,13,3753,0,11111,null,22211,{"$f":"COUNTIF($L$7:$L$500,N35)","v":0},{"$f":"O35/$Q$4","v":0},{"$f":"IF(P35=0,0,(P35*((LOG(P35))/LOG(2))))","v":0},null,null,{"$f":"N35","v":22211},{"$f":"COUNTIF(L7:L37,T35)","v":0},{"$f":"U35/(W4-U25)","v":0},{"$f":"IF(V35=0,0,(V35*((LOG(V35))/LOG(2))))","v":0},null,{"$f":"N35","v":22211},{"$f":"COUNTIF(L38:L68,Y35)","v":0},{"$f":"Z35/(AB4-Z25)","v":0},{"$f":"IF(AA35=0,0,(AA35*((LOG(AA35))/LOG(2))))","v":0},null,{"$f":"N35","v":22211},{"$f":"COUNTIF(L69:L99,AD35)","v":0},{"$f":"AE35/(AG4-AE25)","v":0},{"$f":"IF(AF35=0,0,(AF35*((LOG(AF35))/LOG(2))))","v":0},null,{"$f":"N35","v":22211},{"$f":"COUNTIF(L100:L130,AI35)","v":0},{"$f":"AJ35/(AL4-AJ25)","v":0},{"$f":"IF(AK35=0,0,(AK35*((LOG(AK35))/LOG(2))))","v":0},null,{"$f":"N35","v":22211},{"$f":"COUNTIF(L131:L161,AN35)","v":0},{"$f":"AO35/(AQ4-AO25)","v":0},{"$f":"IF(AP35=0,0,(AP35*((LOG(AP35))/LOG(2))))","v":0},null,{"$f":"N35","v":22211},{"$f":"COUNTIF(L162:L192,AS35)","v":0},{"$f":"AT35/(AV4-AT25)","v":0},{"$f":"IF(AU35=0,0,(AU35*((LOG(AU35))/LOG(2))))","v":0}]
[12,3863,13,3868,13,3872,14,3877,13,3881,0,11111,null,22212,{"$f":"COUNTIF($L$7:$L$500,N36)","v":0},{"$f":"O36/$Q$4","v":0},{"$f":"IF(P36=0,0,(P36*((LOG(P36))/LOG(2))))","v":0},null,null,{"$f":"N36","v":22212},{"$f":"COUNTIF(L7:L37,T36)","v":0},{"$f":"U36/(W4-U25)","v":0},{"$f":"IF(V36=0,0,(V36*((LOG(V36))/LOG(2))))","v":0},null,{"$f":"N36","v":22212},{"$f":"COUNTIF(L38:L68,Y36)","v":0},{"$f":"Z36/(AB4-Z25)","v":0},{"$f":"IF(AA36=0,0,(AA36*((LOG(AA36))/LOG(2))))","v":0},null,{"$f":"N36","v":22212},{"$f":"COUNTIF(L69:L99,AD36)","v":0},{"$f":"AE36/(AG4-AE25)","v":0},{"$f":"IF(AF36=0,0,(AF36*((LOG(AF36))/LOG(2))))","v":0},null,{"$f":"N36","v":22212},{"$f":"COUNTIF(L100:L130,AI36)","v":0},{"$f":"AJ36/(AL4-AJ25)","v":0},{"$f":"IF(AK36=0,0,(AK36*((LOG(AK36))/LOG(2))))","v":0},null,{"$f":"N36","v":22212},{"$f":"COUNTIF(L131:L161,AN36)","v":0},{"$f":"AO36/(AQ4-AO25)","v":0},{"$f":"IF(AP36=0,0,(AP36*((LOG(AP36))/LOG(2))))","v":0},null,{"$f":"N36","v":22212},{"$f":"COUNTIF(L162:L192,AS36)","v":0},{"$f":"AT36/(AV4-AT25)","v":0},{"$f":"IF(AU36=0,0,(AU36*((LOG(AU36))/LOG(2))))","v":0}]
[12,3988,13,3992,13,3997,14,4001,13,4006,0,11111,null,22221,{"$f":"COUNTIF($L$7:$L$500,N37)","v":0},{"$f":"O37/$Q$4","v":0},{"$f":"IF(P37=0,0,(P37*((LOG(P37))/LOG(2))))","v":0},null,null,{"$f":"N37","v":22221},{"$f":"COUNTIF(L7:L37,T37)","v":0},{"$f":"U37/(W4-U25)","v":0},{"$f":"IF(V37=0,0,(V37*((LOG(V37))/LOG(2))))","v":0},null,{"$f":"N37","v":22221},{"$f":"COUNTIF(L38:L68,Y37)","v":0},{"$f":"Z37/(AB4-Z25)","v":0},{"$f":"IF(AA37=0,0,(AA37*((LOG(AA37))/LOG(2))))","v":0},null,{"$f":"N37","v":22221},{"$f":"COUNTIF(L69:L99,AD37)","v":0},{"$f":"AE37/(AG4-AE25)","v":0},{"$f":"IF(AF37=0,0,(AF37*((LOG(AF37))/LOG(2))))","v":0},null,{"$f":"N37","v":22221},{"$f":"COUNTIF(L100:L130,AI37)","v":0},{"$f":"AJ37/(AL4-AJ25)","v":0},{"$f":"IF(AK37=0,0,(AK37*((LOG(AK37))/LOG(2))))","v":0},null,{"$f":"N37","v":22221},{"$f":"COUNTIF(L131:L161,AN37)","v":0},{"$f":"AO37/(AQ4-AO25)","v":0},{"$f":"IF(AP37=0,0,(AP37*((LOG(AP37))/LOG(2))))","v":0},null,{"$f":"N37","v":22221},{"$f":"COUNTIF(L162:L192,AS37)","v":0},{"$f":"AT37/(AV4-AT25)","v":0},{"$f":"IF(AU37=0,0,(AU37*((LOG(AU37))/LOG(2))))","v":0}]
[12,4108,13,4114,13,4118,14,4123,13,4145,0,11111,null,22222,{"$f":"COUNTIF($L$7:$L$500,N38)","v":2},{"$f":"O38/$Q$4","v":1.0752688172043012E-2},{"$f":"IF(P38=0,0,(P38*((LOG(P38))/LOG(2))))","v":-7.0313535603312161E-2},null,null,{"$f":"N38","v":22222},{"$f":"COUNTIF(L7:L37,T38)","v":0},{"$f":"U38/(W4-U25)","v":0},{"$f":"IF(V38=0,0,(V38*((LOG(V38))/LOG(2))))","v":0},null,{"$f":"N38","v":22222},{"$f":"COUNTIF(L38:L68,Y38)","v":0},{"$f":"Z38/(AB4-Z25)","v":0},{"$f":"IF(AA38=0,0,(AA38*((LOG(AA38))/LOG(2))))","v":0},null,{"$f":"N38","v":22222},{"$f":"COUNTIF(L69:L99,AD38)","v":0},{"$f":"AE38/(AG4-AE25)","v":0},{"$f":"IF(AF38=0,0,(AF38*((LOG(AF38))/LOG(2))))","v":0},null,{"$f":"N38","v":22222},{"$f":"COUNTIF(L100:L130,AI38)","v":0},{"$f":"AJ38/(AL4-AJ25)","v":0},{"$f":"IF(AK38=0,0,(AK38*((LOG(AK38))/LOG(2))))","v":0},null,{"$f":"N38","v":22222},{"$f":"COUNTIF(L131:L161,AN38)","v":0},{"$f":"AO38/(AQ4-AO25)","v":0},{"$f":"IF(AP38=0,0,(AP38*((LOG(AP38))/LOG(2))))","v":0},null,{"$f":"N38","v":22222},{"$f":"COUNTIF(L162:L192,AS38)","v":2},{"$f":"AT38/(AV4-AT25)","v":6.4516129032258063E-2},{"$f":"IF(AU38=0,0,(AU38*((LOG(AU38))/LOG(2))))","v":-0.25510943937979835}]
[12,4249,13,4253,13,4257,14,4262,13,4267,0,11111,null,null,null,{"$f":"SUM(P7:P38)","v":1},{"$f":"-SUM(Q7:Q38)","v":0.13392724978555948},null,null,null,null,{"$f":"SUM(V7:V38)","v":1},{"$f":"-SUM(W7:W38)","v":0},null,null,null,{"$f":"SUM(AA7:AA38)","v":1},{"$f":"-SUM(AB7:AB38)","v":0},null,null,null,{"$f":"SUM(AF7:AF38)","v":1},{"$f":"-SUM(AG7:AG38)","v":0},null,null,null,{"$f":"SUM(AK7:AK38)","v":1},{"$f":"-SUM(AL7:AL38)","v":0},null,null,null,{"$f":"SUM(AP7:AP38)","v":1},{"$f":"-SUM(AQ7:AQ38)","v":0},null,null,null,{"$f":"SUM(AU7:AU38)","v":1},{"$f":"-SUM(AV7:AV38)","v":0.54755315498000701}]
[12,4380,13,4384,13,4389,14,4398,13,4403,0,11111,null,null,null,"U=",{"$f":"Q39/(LOG(Q4)/LOG(2))","v":1.7764216557984425E-2},null,null,null,null,"U1=",{"$f":"W39/(LOG(W4)/LOG(2))","v":0},null,null,null,"U2=",{"$f":"AB39/(LOG(AB4)/LOG(2))","v":0},null,null,null,"U3=",{"$f":"AG39/(LOG(AG4)/LOG(2))","v":0},null,null,null,"U4=",{"$f":"AL39/(LOG(AL4)/LOG(2))","v":0},null,null,null,"U5=",{"$f":"AQ39/(LOG(AQ4)/LOG(2))","v":0},null,null,null,"U6=",{"$f":"AV39/(LOG(AV4)/LOG(2))","v":0.11052310418786138}]
[12,4506,13,4511,13,4515,14,4520,13,4528,0,11111]
[12,4646,13,4651,13,4655,14,4660,13,4666,0,11111]
[12,4768,13,4776,13,4781,14,4785,13,4810,0,11111,null,"Total Target Seq"]
[12,4912,13,4916,13,4920,14,4925,13,4934,0,11111,null,{"$f":"COUNTIF(L7:L192,G3)","v":0},null,31,31,31,31,31,31]
[12,5047,13,5051,13,5055,14,5059,13,5064,1,11111,null,null,null,"% of reinforcement given in 6 equal intervals based on number of trials "]
[12,5179,13,5183,13,5188,14,5192,13,5197,0,11111,null,null,null,"%_1","%_2","%_3","%_4","%_5","%_6"]
[12,5302,13,5306,13,5310,14,5315,13,5323,0,11111,null,null,"target sequence",{"$f":"$G$3","v":21121},{"$f":"$G$3","v":21121},{"$f":"$G$3","v":21121},{"$f":"$G$3","v":21121},{"$f":"$G$3","v":21121},{"$f":"$G$3","v":21121}]
[12,5431,13,5435,13,5440,14,5445,13,5450,0,11111,null,null,"total reinforcement",{"$f":"U25","v":0},{"$f":"Z25","v":0},{"$f":"AE25","v":0},{"$f":"AJ25","v":0},{"$f":"AO25","v":0},{"$f":"AT25","v":0}]
[12,5561,13,5565,13,5570,14,5574,13,5578,0,11111,null,null,"% target"]
[12,5679,13,5684,13,5689,14,5694,13,5698,0,11111,null,null,"CCRF"]
[12,5810,13,5814,13,5827,14,5840,13,5845,0,11111,null,null,"% CCRf"]
[12,5959,13,5965,13,5969,14,5974,13,5979,0,11111,null,null,"average response rate",{"$f":"J37/P44","v":129.2258064516129},{"$f":"(J68-J37)/Q44","v":132.96774193548387},{"$f":"(J99-J68)/R44","v":126.51612903225806},{"$f":"(J130-J99)/S44","v":122.48387096774194},{"$f":"(J161-J130)/T44","v":126.90322580645162},{"$f":"(J192-J161)/U44","v":132.48387096774192}]
[12,6078,13,6083,13,6087,14,6091,13,6096,0,11111]
[12,6206,13,6220,13,6224,14,6230,13,6235,1,11111]
[12,6348,13,6353,13,6362,14,6367,13,6372,0,11111]
[12,6473,13,6482,13,6495,14,6508,13,6515,0,11111]
[12,6615,13,6620,13,6624,14,6632,13,6638,0,11111]
[12,6745,13,6749,13,6754,14,6758,13,6771,1,11111]
[12,6873,13,6878,13,6890,14,6895,13,6900,0,11111]
[12,7023,13,7027,13,7032,14,7046,13,7058,0,11111]
[12,7163,13,7168,13,7173,14,7177,13,7182,0,11111]
[12,7283,13,7291,13,7295,14,7300,13,7305,0,11111]
[12,7415,13,7419,13,7424,14,7433,13,7444,1,11111]
[12,7550,13,7554,13,7559,14,7563,13,7572,1,11111]
[12,7672,13,7676,13,7685,14,7694,13,7704,0,11111]
[12,7810,13,7815,13,7829,14,7846,13,7855,0,11111]
[12,7962,13,7966,13,7971,14,7983,13,7990,0,11111]
[12,8093,13,8106,13,8110,14,8123,13,8128,0,11111]
[12,8234,13,8239,13,8243,14,8251,13,8260,1,11111]
[12,8365,13,8369,13,8374,14,8386,13,8391,1,11111]
[12,8501,13,8506,13,8510,14,8515,13,8521,0,11111]
[12,8623,13,8628,13,8632,14,8642,13,8651,0,11111]
[12,8752,13,8756,13,8760,14,8764,13,8768,1,11111]
[12,8870,13,8882,13,8886,14,8890,13,8900,0,11111]
[12,9005,13,9009,13,9013,14,9018,13,9024,1,11111]
[12,9120,13,9133,13,9142,14,9151,13,9169,0,11111]
[12,9273,13,9277,13,9282,14,9286,13,9295,0,11111]
[12,9397,13,9401,13,9406,14,9411,13,9415,0,11111]
[12,9515,13,9519,13,9524,14,9528,13,9532,1,11111]
[12,9635,13,9639,13,9647,14,9657,13,9665,0,11111]
[12,9772,13,9783,13,9803,14,9811,13,9819,0,11111]
[12,9928,13,9933,13,9937,14,9941,13,9945,0,11111]
[12,10051,13,10055,13,10059,14,10063,13,10071,0,11111]
[12,10174,13,10178,13,10182,14,10187,13,10191,0,11111]
[12,10295,13,10299,13,10303,14,10307,13,10312,1,11111]
[12,10413,13,10417,13,10421,14,10429,13,10433,1,11111]
[12,10532,13,10536,13,10540,14,10545,13,10549,0,11111]
[12,10651,13,10655,13,10659,14,10663,13,10668,0,11111]
[12,10773,13,10778,13,10784,14,10792,13,10801,0,11111]
[12,10906,13,10909,13,10916,14,10920,13,10929,0,11111]
[12,11040,13,11049,13,11053,14,11058,13,11063,0,11111]
[12,11167,13,11171,13,11175,14,11180,13,11188,1,11111]
[12,11287,13,11291,13,11296,14,11300,13,11304,0,11111]
[12,11409,13,11414,13,11418,14,11423,13,11427,0,11111]
[12,11527,13,11531,13,11535,14,11548,13,11556,0,11111]
[12,11661,13,11666,13,11670,14,11674,13,11682,0,11111]
[12,11785,13,11790,13,11794,14,11798,13,11806,0,11111]
[12,11910,13,11919,13,11923,14,11928,13,11933,0,11111]
[12,12034,13,12038,13,12042,14,12046,13,12050,0,11111]
[12,12151,13,12155,13,12159,14,12164,13,12169,1,11111]
[12,12268,13,12272,13,12277,14,12281,13,12286,0,11111]
[12,12390,13,12398,13,12403,14,12407,13,12412,0,11111]
[12,12516,13,12521,13,12525,14,12530,13,12535,1,11111]
[12,12630,13,12635,13,12639,14,12648,13,12656,0,11111]
[12,12755,13,12760,13,12764,14,12774,13,12778,0,11111]
[12,12887,13,12891,13,12896,14,12900,13,12909,0,11111]
[12,13013,13,13017,13,13022,14,13030,13,13034,0,11111]
[12,13137,13,13141,13,13145,14,13149,13,13154,0,11111]
[12,13265,13,13269,13,13276,14,13281,13,13285,0,11111]
[12,13386,13,13395,13,13399,14,13403,13,13407,0,11111]
[12,13507,13,13511,13,13515,14,13520,13,13524,1,11111]
[12,13622,13,13627,13,13635,14,13640,13,13644,0,11111]
[12,13746,13,13750,13,13755,14,13759,13,13764,0,11111]
[12,13868,13,13872,13,13876,14,13881,13,13887,0,11111]
[12,13995,13,14000,13,14004,14,14009,13,14013,1,11111]
[12,14113,13,14118,13,14122,14,14130,13,14135,0,11111]
[12,14244,13,14247,13,14252,14,14261,13,14270,0,11111]
[12,14372,13,14376,13,14380,14,14384,13,14388,0,11111]
[12,14488,13,14492,13,14496,14,14500,13,14504,0,11111]
[12,14616,13,14620,13,14624,14,14629,13,14636,0,11111]
[12,14740,13,14744,13,14748,14,14752,13,14757,1,11111]
[12,14862,13,14867,13,14871,14,14876,13,14882,1,11111]
[12,14980,13,14984,13,14988,14,14993,13,14997,0,11111]
[12,15097,13,15102,13,15107,14,15111,13,15116,0,11111]
[12,15222,13,15233,13,15237,14,15241,13,15246,0,11111]
[12,15345,13,15349,13,15357,14,15361,13,15366,1,11111]
[12,15461,13,15465,13,15470,14,15475,13,15483,0,11111]
[12,15592,13,15596,13,15600,14,15604,13,15612,0,11111]
[12,15713,13,15718,13,15722,14,15726,13,15730,0,11111]
[12,15830,13,15834,13,15838,14,15842,13,15847,0,11111]
[12,15951,13,15955,13,15960,14,15964,13,15968,0,11111]
[12,16069,13,16078,13,16082,14,16091,13,16095,1,11111]
[12,16190,13,16194,13,16203,14,16209,13,16223,0,11111]
[12,16326,13,16330,13,16334,14,16338,13,16348,0,11111]
[12,16459,13,16467,13,16476,14,16481,13,16492,0,11111]
[12,16592,13,16597,13,16601,14,16605,13,16609,0,11111]
[12,16711,13,16715,13,16719,14,16723,13,16727,0,11111]
[12,16838,13,16843,13,16847,14,16856,13,16862,1,11111]
[12,16964,13,16968,13,16973,14,16981,13,16985,0,11111]
[12,17088,13,17092,13,17097,14,17102,13,17107,0,11111]
[12,17214,13,17222,13,17226,14,17231,13,17235,0,11111]
[12,17370,13,17375,13,17383,14,17392,13,17396,0,11111]
[12,17496,13,17504,13,17512,14,17517,13,17525,1,11111]
[12,17622,13,17627,13,17631,14,17636,13,17640,0,11111]
[12,17740,13,17745,13,17750,14,17754,13,17758,0,11111]
[12,17862,13,17866,13,17870,14,17874,13,17883,1,11111]
[12,17979,13,17985,13,17994,14,17998,13,18005,0,11111]
[12,18105,13,18109,13,18113,14,18117,13,18121,0,11111]
[12,18225,13,18238,13,18242,14,18248,13,18260,1,11111]
[12,18359,13,18364,13,18370,14,18374,13,18378,0,11111]
[12,18487,13,18491,13,18503,14,18507,13,18511,0,11111]
[12,18615,13,18619,13,18624,14,18628,13,18632,0,11111]
[12,18732,13,18736,13,18740,14,18744,13,18748,0,11111]
[12,18851,13,18856,13,18865,14,18871,13,18877,0,11111]
[12,18975,13,18979,13,18984,14,18991,13,18996,0,11111]
[12,19109,13,19113,13,19117,14,19122,13,19129,0,11111]
[12,19229,13,19233,13,19237,14,19241,13,19246,1,11111]
[12,19361,13,19370,13,19374,14,19379,13,19384,0,11111]
[12,19500,13,19504,13,19509,14,19517,13,19526,0,11111]
[12,19632,13,19636,13,19641,14,19645,13,19650,0,11111]
[12,19750,13,19754,13,19759,14,19772,13,19781,0,11111]
[12,19882,13,19886,13,19890,14,19894,13,19898,0,11111]
[12,20001,13,20005,13,20010,14,20014,13,20019,0,11111]
[12,20124,13,20128,13,20132,14,20136,13,20140,0,11111]
[12,20240,13,20244,13,20249,14,20261,13,20266,0,11111]
[21,20390,22,20408,24,20416,23,20424,24,20439,1,22222]
[12,20555,13,20560,13,20564,14,20574,13,20578,0,11111]
[12,20697,13,20701,13,20706,14,20719,13,20728,0,11111]
[12,20829,13,20833,13,20837,14,20841,13,20846,0,11111]
[12,20946,13,20950,13,20954,14,20958,13,20963,0,11111]
[12,21064,13,21068,13,21072,14,21076,13,21080,1,11111]
[12,21190,13,21202,13,21218,14,21223,13,21233,0,11111]
[12,21333,13,21338,13,21342,14,21346,13,21350,0,11111]
[12,21450,13,21454,13,21458,14,21462,13,21466,0,11111]
[12,21570,13,21574,13,21579,14,21583,13,21598,0,11111]
[12,21712,13,21717,13,21726,14,21734,13,21747,0,11111]
[12,21846,13,21851,13,21855,14,21859,13,21863,0,11111]
[12,21971,13,21979,13,21983,14,21988,13,21996,0,11111]
[12,22104,13,22108,13,22113,14,22118,13,22123,0,11111]
[12,22224,13,22229,13,22233,14,22237,13,22247,0,11111]
[12,22361,13,22373,13,22379,14,22388,13,22393,0,11111]
[12,22496,13,22501,13,22510,14,22514,13,22518,1,11111]
[12,22615,13,22621,13,22625,14,22629,13,22633,0,11111]
[12,22734,13,22743,13,22752,14,22756,13,22762,0,11111]
[12,22862,13,22866,13,22870,14,22874,13,22878,0,11111]
[12,22997,24,23025,24,23035,23,23055,24,23063,0,12222]
[12,23166,13,23176,13,23183,14,23191,13,23196,0,11111]
[12,23299,13,23303,13,23311,14,23326,13,23331,0,11111]
[21,23458,22,23462,24,23473,23,23478,24,23491,0,22222]
[12,23596,13,23609,13,23613,14,23617,13,23626,0,11111]
[12,23732,13,23736,13,23741,14,23750,13,23754,0,11111]
[12,23872,13,23876,13,23880,14,23884,13,23888,0,11111]

{"sheet":"!MC11930.010","index":14,"n_rows":189,"n_cols":48,"rows_kept":189,"cut":false,"hidden":false,"merged":[[4,39,4,42],[5,39,5,40],[4,44,4,47],[5,44,5,45],[4,24,4,27],[5,24,5,25],[4,29,4,32],[5,29,5,30],[4,34,4,37],[5,34,5,35],[1,1,1,2],[5,13,5,14],[42,13,42,14],[43,13,43,14],[4,19,4,22],[5,19,5,20]]}
["Report for:!MC11930.010"]
["Date:","<date>"]
["Hen:","<hen>",null,null,null,"Correct Sequence",{"$f":"Start!J2","v":21121},null,null,null,null,null,null,null,null,"Total Sequences in Data",{"$f":"4994-COUNTBLANK(L7:L5000)","v":183},null,null,null,null,"Total Sequences in Block Data",{"$f":"COUNTA(L7:L37)","v":31},null,null,null,"Total Sequences in Block Data",{"$f":"COUNTA(L38:L67)","v":30},null,null,null,"Total Sequences in Block Data",{"$f":"COUNTA(L68:L98)","v":31},null,null,null,"Total Sequences in Block Data",{"$f":"COUNTA(L99:L128)","v":30},null,null,null,"Total Sequences in Block Data",{"$f":"COUNTA(L129:L159)","v":31},null,null,null,"Total Sequences in Block Data",{"$f":"COUNTA(L160:L189)","v":30}]
[null,null,null,null,null,null,null,null,null,null,null,null,null,null,null,"Total Sequences in Summary",{"$f":"SUM(O7:O38)","v":183},null,null,null,null,"Total Sequences in Block Summary",{"$f":"SUM(U7:U38)","v":31},null,null,null,"Total Sequences in Block Summary",{"$f":"SUM(Z7:Z38)","v":30},null,null,null,"Total Sequences in Block Summary",{"$f":"SUM(AE7:AE38)","v":31},null,null,null,"Total Sequences in Block Summary",{"$f":"SUM(AJ7:AJ38)","v":30},null,null,null,"Total Sequences in Block Summary",{"$f":"SUM(AO7:AO38)","v":31},null,null,null,"Total Sequences in Block Summary",{"$f":"SUM(AT7:AT38)","v":30}]
[null,null,null,null,null,null,null,null,null,null,null,null,null,null,null,null,null,null,null,"Block 1",null,null,null,null,"Block 2",null,null,null,null,"Block 3",null,null,null,null,"Block 4",null,null,null,null,"Block 5",null,null,null,null,"Block 6"]
["Sequence\nComponent\n1","Time\n1","Sequence\nComponent\n2","Time\n2","Sequence\nComponent\n3","Time\n3","Sequence\nComponent\n4","Time\n4","Sequence\nComponent\n5","Time\n5","Correct?\n0=No 1=Yes","Sequence",null,"Frequency",null,"Relative Frequency","Variability",null,null,"Frequency",null,"Relative Frequency","Variability",null,"Frequency",null,"Relative Frequency","Variability",null,"Frequency",null,"Relative Frequency","Variability",null,"Frequency",null,"Relative Frequency","Variability",null,"Frequency",null,"Relative Frequency","Variability",null,"Frequency",null,"Relative Frequency","Variability"]
[12,17,13,22,13,26,14,32,13,36,0,11111,null,11111,{"$f":"COUNTIF($L$7:$L$500,N7)","v":177},{"$f":"O7/$Q$4","v":0.96721311475409832},{"$f":"IF(P7=0,0,(P7*((LOG(P7))/LOG(2))))","v":-4.6517426292814086E-2},null,null,{"$f":"N7","v":11111},{"$f":"COUNTIF(L7:L37,T7)","v":31},{"$f":"U7/(W4-U25)","v":1},{"$f":"IF(V7=0,0,(V7*((LOG(V7))/LOG(2))))","v":0},null,{"$f":"N7","v":11111},{"$f":"COUNTIF(L38:L67,Y7)","v":29},{"$f":"Z7/(AB4-Z25)","v":0.96666666666666667},{"$f":"IF(AA7=0,0,(AA7*((LOG(AA7))/LOG(2))))","v":-4.727928046491485E-2},null,{"$f":"N7","v":11111},{"$f":"COUNTIF(L68:L98,AD7)","v":30},{"$f":"AE7/(AG4-AE25)","v":0.967741935483871},{"$f":"IF(AF7=0,0,(AF7*((LOG(AF7))/LOG(2))))","v":-4.5779723979054811E-2},null,{"$f":"N7","v":11111},{"$f":"COUNTIF(L99:L128,AI7)","v":30},{"$f":"AJ7/(AL4-AJ25)","v":1},{"$f":"IF(AK7=0,0,(AK7*((LOG(AK7))/LOG(2))))","v":0},null,{"$f":"N7","v":11111},{"$f":"COUNTIF(L129:L159,AN7)","v":30},{"$f":"AO7/(AQ4-AO25)","v":0.967741935483871},{"$f":"IF(AP7=0,0,(AP7*((LOG(AP7))/LOG(2))))","v":-4.5779723979054811E-2},null,{"$f":"N7","v":11111},{"$f":"COUNTIF(L160:L189,AS7)","v":27},{"$f":"AT7/(AV4-AT25)","v":0.9},{"$f":"IF(AU7=0,0,(AU7*((LOG(AU7))/LOG(2))))","v":-0.13680278410054494}]
[12,142,13,147,13,152,14,157,13,162,0,11111,null,11112,{"$f":"COUNTIF($L$7:$L$500,N8)","v":2},{"$f":"O8/$Q$4","v":1.092896174863388E-2},{"$f":"IF(P8=0,0,(P8*((LOG(P8))/LOG(2))))","v":-7.1209834298186253E-2},null,null,{"$f":"N8","v":11112},{"$f":"COUNTIF(L7:L37,T8)","v":0},{"$f":"U8/(W4-U25)","v":0},{"$f":"IF(V8=0,0,(V8*((LOG(V8))/LOG(2))))","v":0},null,{"$f":"N8","v":11112},{"$f":"COUNTIF(L38:L67,Y8)","v":1},{"$f":"Z8/(AB4-Z25)","v":3.3333333333333333E-2},{"$f":"IF(AA8=0,0,(AA8*((LOG(AA8))/LOG(2))))","v":-0.16356301985361729},null,{"$f":"N8","v":11112},{"$f":"COUNTIF(L68:L98,AD8)","v":0},{"$f":"AE8/(AG4-AE25)","v":0},{"$f":"IF(AF8=0,0,(AF8*((LOG(AF8))/LOG(2))))","v":0},null,{"$f":"N8","v":11112},{"$f":"COUNTIF(L99:L128,AI8)","v":0},{"$f":"AJ8/(AL4-AJ25)","v":0},{"$f":"IF(AK8=0,0,(AK8*((LOG(AK8))/LOG(2))))","v":0},null,{"$f":"N8","v":11112},{"$f":"COUNTIF(L129:L159,AN8)","v":1},{"$f":"AO8/(AQ4-AO25)","v":3.2258064516129031E-2},{"$f":"IF(AP8=0,0,(AP8*((LOG(AP8))/LOG(2))))","v":-0.15981278420602821},null,{"$f":"N8","v":11112},{"$f":"COUNTIF(L160:L189,AS8)","v":0},{"$f":"AT8/(AV4-AT25)","v":0},{"$f":"IF(AU8=0,0,(AU8*((LOG(AU8))/LOG(2))))","v":0}]
[12,274,13,278,13,283,14,288,13,304,0,11111,null,11121,{"$f":"COUNTIF($L$7:$L$500,N9)","v":0},{"$f":"O9/$Q$4","v":0},{"$f":"IF(P9=0,0,(P9*((LOG(P9))/LOG(2))))","v":0},null,null,{"$f":"N9","v":11121},{"$f":"COUNTIF(L7:L37,T9)","v":0},{"$f":"U9/(W4-U25)","v":0},{"$f":"IF(V9=0,0,(V9*((LOG(V9))/LOG(2))))","v":0},null,{"$f":"N9","v":11121},{"$f":"COUNTIF(L38:L67,Y9)","v":0},{"$f":"Z9/(AB4-Z25)","v":0},{"$f":"IF(AA9=0,0,(AA9*((LOG(AA9))/LOG(2))))","v":0},null,{"$f":"N9","v":11121},{"$f":"COUNTIF(L68:L98,AD9)","v":0},{"$f":"AE9/(AG4-AE25)","v":0},{"$f":"IF(AF9=0,0,(AF9*((LOG(AF9))/LOG(2))))","v":0},null,{"$f":"N9","v":11121},{"$f":"COUNTIF(L99:L128,AI9)","v":0},{"$f":"AJ9/(AL4-AJ25)","v":0},{"$f":"IF(AK9=0,0,(AK9*((LOG(AK9))/LOG(2))))","v":0},null,{"$f":"N9","v":11121},{"$f":"COUNTIF(L129:L159,AN9)","v":0},{"$f":"AO9/(AQ4-AO25)","v":0},{"$f":"IF(AP9=0,0,(AP9*((LOG(AP9))/LOG(2))))","v":0},null,{"$f":"N9","v":11121},{"$f":"COUNTIF(L160:L189,AS9)","v":0},{"$f":"AT9/(AV4-AT25)","v":0},{"$f":"IF(AU9=0,0,(AU9*((LOG(AU9))/LOG(2))))","v":0}]
[12,419,13,423,13,428,14,437,13,442,0,11111,null,11122,{"$f":"COUNTIF($L$7:$L$500,N10)","v":0},{"$f":"O10/$Q$4","v":0},{"$f":"IF(P10=0,0,(P10*((LOG(P10))/LOG(2))))","v":0},null,null,{"$f":"N10","v":11122},{"$f":"COUNTIF(L7:L37,T10)","v":0},{"$f":"U10/(W4-U25)","v":0},{"$f":"IF(V10=0,0,(V10*((LOG(V10))/LOG(2))))","v":0},null,{"$f":"N10","v":11122},{"$f":"COUNTIF(L38:L67,Y10)","v":0},{"$f":"Z10/(AB4-Z25)","v":0},{"$f":"IF(AA10=0,0,(AA10*((LOG(AA10))/LOG(2))))","v":0},null,{"$f":"N10","v":11122},{"$f":"COUNTIF(L68:L98,AD10)","v":0},{"$f":"AE10/(AG4-AE25)","v":0},{"$f":"IF(AF10=0,0,(AF10*((LOG(AF10))/LOG(2))))","v":0},null,{"$f":"N10","v":11122},{"$f":"COUNTIF(L99:L128,AI10)","v":0},{"$f":"AJ10/(AL4-AJ25)","v":0},{"$f":"IF(AK10=0,0,(AK10*((LOG(AK10))/LOG(2))))","v":0},null,{"$f":"N10","v":11122},{"$f":"COUNTIF(L129:L159,AN10)","v":0},{"$f":"AO10/(AQ4-AO25)","v":0},{"$f":"IF(AP10=0,0,(AP10*((LOG(AP10))/LOG(2))))","v":0},null,{"$f":"N10","v":11122},{"$f":"COUNTIF(L160:L189,AS10)","v":0},{"$f":"AT10/(AV4-AT25)","v":0},{"$f":"IF(AU10=0,0,(AU10*((LOG(AU10))/LOG(2))))","v":0}]
[12,548,13,553,13,571,14,575,13,579,0,11111,null,11211,{"$f":"COUNTIF($L$7:$L$500,N11)","v":0},{"$f":"O11/$Q$4","v":0},{"$f":"IF(P11=0,0,(P11*((LOG(P11))/LOG(2))))","v":0},null,null,{"$f":"N11","v":11211},{"$f":"COUNTIF(L7:L37,T11)","v":0},{"$f":"U11/(W4-U25)","v":0},{"$f":"IF(V11=0,0,(V11*((LOG(V11))/LOG(2))))","v":0},null,{"$f":"N11","v":11211},{"$f":"COUNTIF(L38:L67,Y11)","v":0},{"$f":"Z11/(AB4-Z25)","v":0},{"$f":"IF(AA11=0,0,(AA11*((LOG(AA11))/LOG(2))))","v":0},null,{"$f":"N11","v":11211},{"$f":"COUNTIF(L68:L98,AD11)","v":0},{"$f":"AE11/(AG4-AE25)","v":0},{"$f":"IF(AF11=0,0,(AF11*((LOG(AF11))/LOG(2))))","v":0},null,{"$f":"N11","v":11211},{"$f":"COUNTIF(L99:L128,AI11)","v":0},{"$f":"AJ11/(AL4-AJ25)","v":0},{"$f":"IF(AK11=0,0,(AK11*((LOG(AK11))/LOG(2))))","v":0},null,{"$f":"N11","v":11211},{"$f":"COUNTIF(L129:L159,AN11)","v":0},{"$f":"AO11/(AQ4-AO25)","v":0},{"$f":"IF(AP11=0,0,(AP11*((LOG(AP11))/LOG(2))))","v":0},null,{"$f":"N11","v":11211},{"$f":"COUNTIF(L160:L189,AS11)","v":0},{"$f":"AT11/(AV4-AT25)","v":0},{"$f":"IF(AU11=0,0,(AU11*((LOG(AU11))/LOG(2))))","v":0}]
[12,687,13,696,13,700,14,705,13,710,0,11111,null,11212,{"$f":"COUNTIF($L$7:$L$500,N12)","v":0},{"$f":"O12/$Q$4","v":0},{"$f":"IF(P12=0,0,(P12*((LOG(P12))/LOG(2))))","v":0},null,null,{"$f":"N12","v":11212},{"$f":"COUNTIF(L7:L37,T12)","v":0},{"$f":"U12/(W4-U25)","v":0},{"$f":"IF(V12=0,0,(V12*((LOG(V12))/LOG(2))))","v":0},null,{"$f":"N12","v":11212},{"$f":"COUNTIF(L38:L67,Y12)","v":0},{"$f":"Z12/(AB4-Z25)","v":0},{"$f":"IF(AA12=0,0,(AA12*((LOG(AA12))/LOG(2))))","v":0},null,{"$f":"N12","v":11212},{"$f":"COUNTIF(L68:L98,AD12)","v":0},{"$f":"AE12/(AG4-AE25)","v":0},{"$f":"IF(AF12=0,0,(AF12*((LOG(AF12))/LOG(2))))","v":0},null,{"$f":"N12","v":11212},{"$f":"COUNTIF(L99:L128,AI12)","v":0},{"$f":"AJ12/(AL4-AJ25)","v":0},{"$f":"IF(AK12=0,0,(AK12*((LOG(AK12))/LOG(2))))","v":0},null,{"$f":"N12","v":11212},{"$f":"COUNTIF(L129:L159,AN12)","v":0},{"$f":"AO12/(AQ4-AO25)","v":0},{"$f":"IF(AP12=0,0,(AP12*((LOG(AP12))/LOG(2))))","v":0},null,{"$f":"N12","v":11212},{"$f":"COUNTIF(L160:L189,AS12)","v":0},{"$f":"AT12/(AV4-AT25)","v":0},{"$f":"IF(AU12=0,0,(AU12*((LOG(AU12))/LOG(2))))","v":0}]
[12,821,13,825,13,831,14,836,13,850,0,11111,null,11221,{"$f":"COUNTIF($L$7:$L$500,N13)","v":0},{"$f":"O13/$Q$4","v":0},{"$f":"IF(P13=0,0,(P13*((LOG(P13))/LOG(2))))","v":0},null,null,{"$f":"N13","v":11221},{"$f":"COUNTIF(L7:L37,T13)","v":0},{"$f":"U13/(W4-U25)","v":0},{"$f":"IF(V13=0,0,(V13*((LOG(V13))/LOG(2))))","v":0},null,{"$f":"N13","v":11221},{"$f":"COUNTIF(L38:L67,Y13)","v":0},{"$f":"Z13/(AB4-Z25)","v":0},{"$f":"IF(AA13=0,0,(AA13*((LOG(AA13))/LOG(2))))","v":0},null,{"$f":"N13","v":11221},{"$f":"COUNTIF(L68:L98,AD13)","v":0},{"$f":"AE13/(AG4-AE25)","v":0},{"$f":"IF(AF13=0,0,(AF13*((LOG(AF13))/LOG(2))))","v":0},null,{"$f":"N13","v":11221},{"$f":"COUNTIF(L99:L128,AI13)","v":0},{"$f":"AJ13/(AL4-AJ25)","v":0},{"$f":"IF(AK13=0,0,(AK13*((LOG(AK13))/LOG(2))))","v":0},null,{"$f":"N13","v":11221},{"$f":"COUNTIF(L129:L159,AN13)","v":0},{"$f":"AO13/(AQ4-AO25)","v":0},{"$f":"IF(AP13=0,0,(AP13*((LOG(AP13))/LOG(2))))","v":0},null,{"$f":"N13","v":11221},{"$f":"COUNTIF(L160:L189,AS13)","v":0},{"$f":"AT13/(AV4-AT25)","v":0},{"$f":"IF(AU13=0,0,(AU13*((LOG(AU13))/LOG(2))))","v":0}]
[12,954,13,963,13,968,14,973,13,990,1,11111,null,11222,{"$f":"COUNTIF($L$7:$L$500,N14)","v":1},{"$f":"O14/$Q$4","v":5.4644808743169399E-3},{"$f":"IF(P14=0,0,(P14*((LOG(P14))/LOG(2))))","v":-4.1069398023410066E-2},null,null,{"$f":"N14","v":11222},{"$f":"COUNTIF(L7:L37,T14)","v":0},{"$f":"U14/(W4-U25)","v":0},{"$f":"IF(V14=0,0,(V14*((LOG(V14))/LOG(2))))","v":0},null,{"$f":"N14","v":11222},{"$f":"COUNTIF(L38:L67,Y14)","v":0},{"$f":"Z14/(AB4-Z25)","v":0},{"$f":"IF(AA14=0,0,(AA14*((LOG(AA14))/LOG(2))))","v":0},null,{"$f":"N14","v":11222},{"$f":"COUNTIF(L68:L98,AD14)","v":1},{"$f":"AE14/(AG4-AE25)","v":3.2258064516129031E-2},{"$f":"IF(AF14=0,0,(AF14*((LOG(AF14))/LOG(2))))","v":-0.15981278420602821},null,{"$f":"N14","v":11222},{"$f":"COUNTIF(L99:L128,AI14)","v":0},{"$f":"AJ14/(AL4-AJ25)","v":0},{"$f":"IF(AK14=0,0,(AK14*((LOG(AK14))/LOG(2))))","v":0},null,{"$f":"N14","v":11222},{"$f":"COUNTIF(L129:L159,AN14)","v":0},{"$f":"AO14/(AQ4-AO25)","v":0},{"$f":"IF(AP14=0,0,(AP14*((LOG(AP14))/LOG(2))))","v":0},null,{"$f":"N14","v":11222},{"$f":"COUNTIF(L160:L189,AS14)","v":0},{"$f":"AT14/(AV4-AT25)","v":0},{"$f":"IF(AU14=0,0,(AU14*((LOG(AU14))/LOG(2))))","v":0}]
[12,1120,13,1124,13,1128,14,1132,13,1137,0,11111,null,12111,{"$f":"COUNTIF($L$7:$L$500,N15)","v":0},{"$f":"O15/$Q$4","v":0},{"$f":"IF(P15=0,0,(P15*((LOG(P15))/LOG(2))))","v":0},null,null,{"$f":"N15","v":12111},{"$f":"COUNTIF(L7:L37,T15)","v":0},{"$f":"U15/(W4-U25)","v":0},{"$f":"IF(V15=0,0,(V15*((LOG(V15))/LOG(2))))","v":0},null,{"$f":"N15","v":12111},{"$f":"COUNTIF(L38:L67,Y15)","v":0},{"$f":"Z15/(AB4-Z25)","v":0},{"$f":"IF(AA15=0,0,(AA15*((LOG(AA15))/LOG(2))))","v":0},null,{"$f":"N15","v":12111},{"$f":"COUNTIF(L68:L98,AD15)","v":0},{"$f":"AE15/(AG4-AE25)","v":0},{"$f":"IF(AF15=0,0,(AF15*((LOG(AF15))/LOG(2))))","v":0},null,{"$f":"N15","v":12111},{"$f":"COUNTIF(L99:L128,AI15)","v":0},{"$f":"AJ15/(AL4-AJ25)","v":0},{"$f":"IF(AK15=0,0,(AK15*((LOG(AK15))/LOG(2))))","v":0},null,{"$f":"N15","v":12111},{"$f":"COUNTIF(L129:L159,AN15)","v":0},{"$f":"AO15/(AQ4-AO25)","v":0},{"$f":"IF(AP15=0,0,(AP15*((LOG(AP15))/LOG(2))))","v":0},null,{"$f":"N15","v":12111},{"$f":"COUNTIF(L160:L189,AS15)","v":0},{"$f":"AT15/(AV4-AT25)","v":0},{"$f":"IF(AU15=0,0,(AU15*((LOG(AU15))/LOG(2))))","v":0}]
[12,1240,13,1245,13,1249,14,1254,13,1258,0,11111,null,12112,{"$f":"COUNTIF($L$7:$L$500,N16)","v":0},{"$f":"O16/$Q$4","v":0},{"$f":"IF(P16=0,0,(P16*((LOG(P16))/LOG(2))))","v":0},null,null,{"$f":"N16","v":12112},{"$f":"COUNTIF(L7:L37,T16)","v":0},{"$f":"U16/(W4-U25)","v":0},{"$f":"IF(V16=0,0,(V16*((LOG(V16))/LOG(2))))","v":0},null,{"$f":"N16","v":12112},{"$f":"COUNTIF(L38:L67,Y16)","v":0},{"$f":"Z16/(AB4-Z25)","v":0},{"$f":"IF(AA16=0,0,(AA16*((LOG(AA16))/LOG(2))))","v":0},null,{"$f":"N16","v":12112},{"$f":"COUNTIF(L68:L98,AD16)","v":0},{"$f":"AE16/(AG4-AE25)","v":0},{"$f":"IF(AF16=0,0,(AF16*((LOG(AF16))/LOG(2))))","v":0},null,{"$f":"N16","v":12112},{"$f":"COUNTIF(L99:L128,AI16)","v":0},{"$f":"AJ16/(AL4-AJ25)","v":0},{"$f":"IF(AK16=0,0,(AK16*((LOG(AK16))/LOG(2))))","v":0},null,{"$f":"N16","v":12112},{"$f":"COUNTIF(L129:L159,AN16)","v":0},{"$f":"AO16/(AQ4-AO25)","v":0},{"$f":"IF(AP16=0,0,(AP16*((LOG(AP16))/LOG(2))))","v":0},null,{"$f":"N16","v":12112},{"$f":"COUNTIF(L160:L189,AS16)","v":0},{"$f":"AT16/(AV4-AT25)","v":0},{"$f":"IF(AU16=0,0,(AU16*((LOG(AU16))/LOG(2))))","v":0}]
[12,1364,13,1369,13,1374,14,1378,13,1383,0,11111,null,12121,{"$f":"COUNTIF($L$7:$L$500,N17)","v":0},{"$f":"O17/$Q$4","v":0},{"$f":"IF(P17=0,0,(P17*((LOG(P17))/LOG(2))))","v":0},null,null,{"$f":"N17","v":12121},{"$f":"COUNTIF(L7:L37,T17)","v":0},{"$f":"U17/(W4-U25)","v":0},{"$f":"IF(V17=0,0,(V17*((LOG(V17))/LOG(2))))","v":0},null,{"$f":"N17","v":12121},{"$f":"COUNTIF(L38:L67,Y17)","v":0},{"$f":"Z17/(AB4-Z25)","v":0},{"$f":"IF(AA17=0,0,(AA17*((LOG(AA17))/LOG(2))))","v":0},null,{"$f":"N17","v":12121},{"$f":"COUNTIF(L68:L98,AD17)","v":0},{"$f":"AE17/(AG4-AE25)","v":0},{"$f":"IF(AF17=0,0,(AF17*((LOG(AF17))/LOG(2))))","v":0},null,{"$f":"N17","v":12121},{"$f":"COUNTIF(L99:L128,AI17)","v":0},{"$f":"AJ17/(AL4-AJ25)","v":0},{"$f":"IF(AK17=0,0,(AK17*((LOG(AK17))/LOG(2))))","v":0},null,{"$f":"N17","v":12121},{"$f":"COUNTIF(L129:L159,AN17)","v":0},{"$f":"AO17/(AQ4-AO25)","v":0},{"$f":"IF(AP17=0,0,(AP17*((LOG(AP17))/LOG(2))))","v":0},null,{"$f":"N17","v":12121},{"$f":"COUNTIF(L160:L189,AS17)","v":0},{"$f":"AT17/(AV4-AT25)","v":0},{"$f":"IF(AU17=0,0,(AU17*((LOG(AU17))/LOG(2))))","v":0}]
[12,1495,13,1499,13,1503,14,1508,13,1512,0,11111,null,12122,{"$f":"COUNTIF($L$7:$L$500,N18)","v":0},{"$f":"O18/$Q$4","v":0},{"$f":"IF(P18=0,0,(P18*((LOG(P18))/LOG(2))))","v":0},null,null,{"$f":"N18","v":12122},{"$f":"COUNTIF(L7:L37,T18)","v":0},{"$f":"U18/(W4-U25)","v":0},{"$f":"IF(V18=0,0,(V18*((LOG(V18))/LOG(2))))","v":0},null,{"$f":"N18","v":12122},{"$f":"COUNTIF(L38:L67,Y18)","v":0},{"$f":"Z18/(AB4-Z25)","v":0},{"$f":"IF(AA18=0,0,(AA18*((LOG(AA18))/LOG(2))))","v":0},null,{"$f":"N18","v":12122},{"$f":"COUNTIF(L68:L98,AD18)","v":0},{"$f":"AE18/(AG4-AE25)","v":0},{"$f":"IF(AF18=0,0,(AF18*((LOG(AF18))/LOG(2))))","v":0},null,{"$f":"N18","v":12122},{"$f":"COUNTIF(L99:L128,AI18)","v":0},{"$f":"AJ18/(AL4-AJ25)","v":0},{"$f":"IF(AK18=0,0,(AK18*((LOG(AK18))/LOG(2))))","v":0},null,{"$f":"N18","v":12122},{"$f":"COUNTIF(L129:L159,AN18)","v":0},{"$f":"AO18/(AQ4-AO25)","v":0},{"$f":"IF(AP18=0,0,(AP18*((LOG(AP18))/LOG(2))))","v":0},null,{"$f":"N18","v":12122},{"$f":"COUNTIF(L160:L189,AS18)","v":0},{"$f":"AT18/(AV4-AT25)","v":0},{"$f":"IF(AU18=0,0,(AU18*((LOG(AU18))/LOG(2))))","v":0}]
[12,1621,13,1625,13,1630,14,1634,13,1639,1,11111,null,12211,{"$f":"COUNTIF($L$7:$L$500,N19)","v":0},{"$f":"O19/$Q$4","v":0},{"$f":"IF(P19=0,0,(P19*((LOG(P19))/LOG(2))))","v":0},null,null,{"$f":"N19","v":12211},{"$f":"COUNTIF(L7:L37,T19)","v":0},{"$f":"U19/(W4-U25)","v":0},{"$f":"IF(V19=0,0,(V19*((LOG(V19))/LOG(2))))","v":0},null,{"$f":"N19","v":12211},{"$f":"COUNTIF(L38:L67,Y19)","v":0},{"$f":"Z19/(AB4-Z25)","v":0},{"$f":"IF(AA19=0,0,(AA19*((LOG(AA19))/LOG(2))))","v":0},null,{"$f":"N19","v":12211},{"$f":"COUNTIF(L68:L98,AD19)","v":0},{"$f":"AE19/(AG4-AE25)","v":0},{"$f":"IF(AF19=0,0,(AF19*((LOG(AF19))/LOG(2))))","v":0},null,{"$f":"N19","v":12211},{"$f":"COUNTIF(L99:L128,AI19)","v":0},{"$f":"AJ19/(AL4-AJ25)","v":0},{"$f":"IF(AK19=0,0,(AK19*((LOG(AK19))/LOG(2))))","v":0},null,{"$f":"N19","v":12211},{"$f":"COUNTIF(L129:L159,AN19)","v":0},{"$f":"AO19/(AQ4-AO25)","v":0},{"$f":"IF(AP19=0,0,(AP19*((LOG(AP19))/LOG(2))))","v":0},null,{"$f":"N19","v":12211},{"$f":"COUNTIF(L160:L189,AS19)","v":0},{"$f":"AT19/(AV4-AT25)","v":0},{"$f":"IF(AU19=0,0,(AU19*((LOG(AU19))/LOG(2))))","v":0}]
[12,1753,13,1763,13,1768,14,1783,13,1791,0,11111,null,12212,{"$f":"COUNTIF($L$7:$L$500,N20)","v":0},{"$f":"O20/$Q$4","v":0},{"$f":"IF(P20=0,0,(P20*((LOG(P20))/LOG(2))))","v":0},null,null,{"$f":"N20","v":12212},{"$f":"COUNTIF(L7:L37,T20)","v":0},{"$f":"U20/(W4-U25)","v":0},{"$f":"IF(V20=0,0,(V20*((LOG(V20))/LOG(2))))","v":0},null,{"$f":"N20","v":12212},{"$f":"COUNTIF(L38:L67,Y20)","v":0},{"$f":"Z20/(AB4-Z25)","v":0},{"$f":"IF(AA20=0,0,(AA20*((LOG(AA20))/LOG(2))))","v":0},null,{"$f":"N20","v":12212},{"$f":"COUNTIF(L68:L98,AD20)","v":0},{"$f":"AE20/(AG4-AE25)","v":0},{"$f":"IF(AF20=0,0,(AF20*((LOG(AF20))/LOG(2))))","v":0},null,{"$f":"N20","v":12212},{"$f":"COUNTIF(L99:L128,AI20)","v":0},{"$f":"AJ20/(AL4-AJ25)","v":0},{"$f":"IF(AK20=0,0,(AK20*((LOG(AK20))/LOG(2))))","v":0},null,{"$f":"N20","v":12212},{"$f":"COUNTIF(L129:L159,AN20)","v":0},{"$f":"AO20/(AQ4-AO25)","v":0},{"$f":"IF(AP20=0,0,(AP20*((LOG(AP20))/LOG(2))))","v":0},null,{"$f":"N20","v":12212},{"$f":"COUNTIF(L160:L189,AS20)","v":0},{"$f":"AT20/(AV4-AT25)","v":0},{"$f":"IF(AU20=0,0,(AU20*((LOG(AU20))/LOG(2))))","v":0}]
[12,1892,13,1900,13,1905,14,1909,13,1914,0,11111,null,12221,{"$f":"COUNTIF($L$7:$L$500,N21)","v":0},{"$f":"O21/$Q$4","v":0},{"$f":"IF(P21=0,0,(P21*((LOG(P21))/LOG(2))))","v":0},null,null,{"$f":"N21","v":12221},{"$f":"COUNTIF(L7:L37,T21)","v":0},{"$f":"U21/(W4-U25)","v":0},{"$f":"IF(V21=0,0,(V21*((LOG(V21))/LOG(2))))","v":0},null,{"$f":"N21","v":12221},{"$f":"COUNTIF(L38:L67,Y21)","v":0},{"$f":"Z21/(AB4-Z25)","v":0},{"$f":"IF(AA21=0,0,(AA21*((LOG(AA21))/LOG(2))))","v":0},null,{"$f":"N21","v":12221},{"$f":"COUNTIF(L68:L98,AD21)","v":0},{"$f":"AE21/(AG4-AE25)","v":0},{"$f":"IF(AF21=0,0,(AF21*((LOG(AF21))/LOG(2))))","v":0},null,{"$f":"N21","v":12221},{"$f":"COUNTIF(L99:L128,AI21)","v":0},{"$f":"AJ21/(AL4-AJ25)","v":0},{"$f":"IF(AK21=0,0,(AK21*((LOG(AK21))/LOG(2))))","v":0},null,{"$f":"N21","v":12221},{"$f":"COUNTIF(L129:L159,AN21)","v":0},{"$f":"AO21/(AQ4-AO25)","v":0},{"$f":"IF(AP21=0,0,(AP21*((LOG(AP21))/LOG(2))))","v":0},null,{"$f":"N21","v":12221},{"$f":"COUNTIF(L160:L189,AS21)","v":0},{"$f":"AT21/(AV4-AT25)","v":0},{"$f":"IF(AU21=0,0,(AU21*((LOG(AU21))/LOG(2))))","v":0}]
[12,2014,13,2019,13,2023,14,2027,13,2033,0,11111,null,12222,{"$f":"COUNTIF($L$7:$L$500,N22)","v":0},{"$f":"O22/$Q$4","v":0},{"$f":"IF(P22=0,0,(P22*((LOG(P22))/LOG(2))))","v":0},null,null,{"$f":"N22","v":12222},{"$f":"COUNTIF(L7:L37,T22)","v":0},{"$f":"U22/(W4-U25)","v":0},{"$f":"IF(V22=0,0,(V22*((LOG(V22))/LOG(2))))","v":0},null,{"$f":"N22","v":12222},{"$f":"COUNTIF(L38:L67,Y22)","v":0},{"$f":"Z22/(AB4-Z25)","v":0},{"$f":"IF(AA22=0,0,(AA22*((LOG(AA22))/LOG(2))))","v":0},null,{"$f":"N22","v":12222},{"$f":"COUNTIF(L68:L98,AD22)","v":0},{"$f":"AE22/(AG4-AE25)","v":0},{"$f":"IF(AF22=0,0,(AF22*((LOG(AF22))/LOG(2))))","v":0},null,{"$f":"N22","v":12222},{"$f":"COUNTIF(L99:L128,AI22)","v":0},{"$f":"AJ22/(AL4-AJ25)","v":0},{"$f":"IF(AK22=0,0,(AK22*((LOG(AK22))/LOG(2))))","v":0},null,{"$f":"N22","v":12222},{"$f":"COUNTIF(L129:L159,AN22)","v":0},{"$f":"AO22/(AQ4-AO25)","v":0},{"$f":"IF(AP22=0,0,(AP22*((LOG(AP22))/LOG(2))))","v":0},null,{"$f":"N22","v":12222},{"$f":"COUNTIF(L160:L189,AS22)","v":0},{"$f":"AT22/(AV4-AT25)","v":0},{"$f":"IF(AU22=0,0,(AU22*((LOG(AU22))/LOG(2))))","v":0}]
[12,2135,13,2139,13,2143,14,2148,13,2161,1,11111,null,21111,{"$f":"COUNTIF($L$7:$L$500,N23)","v":0},{"$f":"O23/$Q$4","v":0},{"$f":"IF(P23=0,0,(P23*((LOG(P23))/LOG(2))))","v":0},null,null,{"$f":"N23","v":21111},{"$f":"COUNTIF(L7:L37,T23)","v":0},{"$f":"U23/(W4-U25)","v":0},{"$f":"IF(V23=0,0,(V23*((LOG(V23))/LOG(2))))","v":0},null,{"$f":"N23","v":21111},{"$f":"COUNTIF(L38:L67,Y23)","v":0},{"$f":"Z23/(AB4-Z25)","v":0},{"$f":"IF(AA23=0,0,(AA23*((LOG(AA23))/LOG(2))))","v":0},null,{"$f":"N23","v":21111},{"$f":"COUNTIF(L68:L98,AD23)","v":0},{"$f":"AE23/(AG4-AE25)","v":0},{"$f":"IF(AF23=0,0,(AF23*((LOG(AF23))/LOG(2))))","v":0},null,{"$f":"N23","v":21111},{"$f":"COUNTIF(L99:L128,AI23)","v":0},{"$f":"AJ23/(AL4-AJ25)","v":0},{"$f":"IF(AK23=0,0,(AK23*((LOG(AK23))/LOG(2))))","v":0},null,{"$f":"N23","v":21111},{"$f":"COUNTIF(L129:L159,AN23)","v":0},{"$f":"AO23/(AQ4-AO25)","v":0},{"$f":"IF(AP23=0,0,(AP23*((LOG(AP23))/LOG(2))))","v":0},null,{"$f":"N23","v":21111},{"$f":"COUNTIF(L160:L189,AS23)","v":0},{"$f":"AT23/(AV4-AT25)","v":0},{"$f":"IF(AU23=0,0,(AU23*((LOG(AU23))/LOG(2))))","v":0}]
[12,2267,13,2277,13,2281,14,2295,13,2299,1,11111,null,21112,{"$f":"COUNTIF($L$7:$L$500,N24)","v":0},{"$f":"O24/$Q$4","v":0},{"$f":"IF(P24=0,0,(P24*((LOG(P24))/LOG(2))))","v":0},null,null,{"$f":"N24","v":21112},{"$f":"COUNTIF(L7:L37,T24)","v":0},{"$f":"U24/(W4-U25)","v":0},{"$f":"IF(V24=0,0,(V24*((LOG(V24))/LOG(2))))","v":0},null,{"$f":"N24","v":21112},{"$f":"COUNTIF(L38:L67,Y24)","v":0},{"$f":"Z24/(AB4-Z25)","v":0},{"$f":"IF(AA24=0,0,(AA24*((LOG(AA24))/LOG(2))))","v":0},null,{"$f":"N24","v":21112},{"$f":"COUNTIF(L68:L98,AD24)","v":0},{"$f":"AE24/(AG4-AE25)","v":0},{"$f":"IF(AF24=0,0,(AF24*((LOG(AF24))/LOG(2))))","v":0},null,{"$f":"N24","v":21112},{"$f":"COUNTIF(L99:L128,AI24)","v":0},{"$f":"AJ24/(AL4-AJ25)","v":0},{"$f":"IF(AK24=0,0,(AK24*((LOG(AK24))/LOG(2))))","v":0},null,{"$f":"N24","v":21112},{"$f":"COUNTIF(L129:L159,AN24)","v":0},{"$f":"AO24/(AQ4-AO25)","v":0},{"$f":"IF(AP24=0,0,(AP24*((LOG(AP24))/LOG(2))))","v":0},null,{"$f":"N24","v":21112},{"$f":"COUNTIF(L160:L189,AS24)","v":0},{"$f":"AT24/(AV4-AT25)","v":0},{"$f":"IF(AU24=0,0,(AU24*((LOG(AU24))/LOG(2))))","v":0}]
[12,2411,13,2419,13,2424,14,2428,13,2433,0,11111,null,21121,{"$f":"COUNTIF($L$7:$L$500,N25)","v":0},{"$f":"O25/$Q$4","v":0},{"$f":"IF(P25=0,0,(P25*((LOG(P25))/LOG(2))))","v":0},null,null,{"$f":"N25","v":21121},{"$f":"COUNTIF(L7:L37,T25)","v":0},null,null,null,{"$f":"N25","v":21121},{"$f":"COUNTIF(L38:L67,Y25)","v":0},null,null,null,{"$f":"N25","v":21121},{"$f":"COUNTIF(L68:L98,AD25)","v":0},null,null,null,{"$f":"N25","v":21121},{"$f":"COUNTIF(L99:L128,AI25)","v":0},null,null,null,{"$f":"N25","v":21121},{"$f":"COUNTIF(L129:L159,AN25)","v":0},null,null,null,{"$f":"N25","v":21121},{"$f":"COUNTIF(L160:L189,AS25)","v":0}]
[12,2542,13,2547,13,2551,14,2560,13,2568,1,11111,null,21122,{"$f":"COUNTIF($L$7:$L$500,N26)","v":0},{"$f":"O26/$Q$4","v":0},{"$f":"IF(P26=0,0,(P26*((LOG(P26))/LOG(2))))","v":0},null,null,{"$f":"N26","v":21122},{"$f":"COUNTIF(L7:L37,T26)","v":0},{"$f":"U26/(W4-U25)","v":0},{"$f":"IF(V26=0,0,(V26*((LOG(V26))/LOG(2))))","v":0},null,{"$f":"N26","v":21122},{"$f":"COUNTIF(L38:L67,Y26)","v":0},{"$f":"Z26/(AB4-Z25)","v":0},{"$f":"IF(AA26=0,0,(AA26*((LOG(AA26))/LOG(2))))","v":0},null,{"$f":"N26","v":21122},{"$f":"COUNTIF(L68:L98,AD26)","v":0},{"$f":"AE26/(AG4-AE25)","v":0},{"$f":"IF(AF26=0,0,(AF26*((LOG(AF26))/LOG(2))))","v":0},null,{"$f":"N26","v":21122},{"$f":"COUNTIF(L99:L128,AI26)","v":0},{"$f":"AJ26/(AL4-AJ25)","v":0},{"$f":"IF(AK26=0,0,(AK26*((LOG(AK26))/LOG(2))))","v":0},null,{"$f":"N26","v":21122},{"$f":"COUNTIF(L129:L159,AN26)","v":0},{"$f":"AO26/(AQ4-AO25)","v":0},{"$f":"IF(AP26=0,0,(AP26*((LOG(AP26))/LOG(2))))","v":0},null,{"$f":"N26","v":21122},{"$f":"COUNTIF(L160:L189,AS26)","v":0},{"$f":"AT26/(AV4-AT25)","v":0},{"$f":"IF(AU26=0,0,(AU26*((LOG(AU26))/LOG(2))))","v":0}]
[12,2676,13,2684,13,2689,14,2693,13,2707,0,11111,null,21211,{"$f":"COUNTIF($L$7:$L$500,N27)","v":0},{"$f":"O27/$Q$4","v":0},{"$f":"IF(P27=0,0,(P27*((LOG(P27))/LOG(2))))","v":0},null,null,{"$f":"N27","v":21211},{"$f":"COUNTIF(L7:L37,T27)","v":0},{"$f":"U27/(W4-U25)","v":0},{"$f":"IF(V27=0,0,(V27*((LOG(V27))/LOG(2))))","v":0},null,{"$f":"N27","v":21211},{"$f":"COUNTIF(L38:L67,Y27)","v":0},{"$f":"Z27/(AB4-Z25)","v":0},{"$f":"IF(AA27=0,0,(AA27*((LOG(AA27))/LOG(2))))","v":0},null,{"$f":"N27","v":21211},{"$f":"COUNTIF(L68:L98,AD27)","v":0},{"$f":"AE27/(AG4-AE25)","v":0},{"$f":"IF(AF27=0,0,(AF27*((LOG(AF27))/LOG(2))))","v":0},null,{"$f":"N27","v":21211},{"$f":"COUNTIF(L99:L128,AI27)","v":0},{"$f":"AJ27/(AL4-AJ25)","v":0},{"$f":"IF(AK27=0,0,(AK27*((LOG(AK27))/LOG(2))))","v":0},null,{"$f":"N27","v":21211},{"$f":"COUNTIF(L129:L159,AN27)","v":0},{"$f":"AO27/(AQ4-AO25)","v":0},{"$f":"IF(AP27=0,0,(AP27*((LOG(AP27))/LOG(2))))","v":0},null,{"$f":"N27","v":21211},{"$f":"COUNTIF(L160:L189,AS27)","v":0},{"$f":"AT27/(AV4-AT25)","v":0},{"$f":"IF(AU27=0,0,(AU27*((LOG(AU27))/LOG(2))))","v":0}]
[12,2824,13,2833,13,2837,14,2841,13,2850,0,11111,null,21212,{"$f":"COUNTIF($L$7:$L$500,N28)","v":0},{"$f":"O28/$Q$4","v":0},{"$f":"IF(P28=0,0,(P28*((LOG(P28))/LOG(2))))","v":0},null,null,{"$f":"N28","v":21212},{"$f":"COUNTIF(L7:L37,T28)","v":0},{"$f":"U28/(W4-U25)","v":0},{"$f":"IF(V28=0,0,(V28*((LOG(V28))/LOG(2))))","v":0},null,{"$f":"N28","v":21212},{"$f":"COUNTIF(L38:L67,Y28)","v":0},{"$f":"Z28/(AB4-Z25)","v":0},{"$f":"IF(AA28=0,0,(AA28*((LOG(AA28))/LOG(2))))","v":0},null,{"$f":"N28","v":21212},{"$f":"COUNTIF(L68:L98,AD28)","v":0},{"$f":"AE28/(AG4-AE25)","v":0},{"$f":"IF(AF28=0,0,(AF28*((LOG(AF28))/LOG(2))))","v":0},null,{"$f":"N28","v":21212},{"$f":"COUNTIF(L99:L128,AI28)","v":0},{"$f":"AJ28/(AL4-AJ25)","v":0},{"$f":"IF(AK28=0,0,(AK28*((LOG(AK28))/LOG(2))))","v":0},null,{"$f":"N28","v":21212},{"$f":"COUNTIF(L129:L159,AN28)","v":0},{"$f":"AO28/(AQ4-AO25)","v":0},{"$f":"IF(AP28=0,0,(AP28*((LOG(AP28))/LOG(2))))","v":0},null,{"$f":"N28","v":21212},{"$f":"COUNTIF(L160:L189,AS28)","v":0},{"$f":"AT28/(AV4-AT25)","v":0},{"$f":"IF(AU28=0,0,(AU28*((LOG(AU28))/LOG(2))))","v":0}]
[12,2961,13,2966,13,2970,14,2978,13,2989,1,11111,null,21221,{"$f":"COUNTIF($L$7:$L$500,N29)","v":0},{"$f":"O29/$Q$4","v":0},{"$f":"IF(P29=0,0,(P29*((LOG(P29))/LOG(2))))","v":0},null,null,{"$f":"N29","v":21221},{"$f":"COUNTIF(L7:L37,T29)","v":0},{"$f":"U29/(W4-U25)","v":0},{"$f":"IF(V29=0,0,(V29*((LOG(V29))/LOG(2))))","v":0},null,{"$f":"N29","v":21221},{"$f":"COUNTIF(L38:L67,Y29)","v":0},{"$f":"Z29/(AB4-Z25)","v":0},{"$f":"IF(AA29=0,0,(AA29*((LOG(AA29))/LOG(2))))","v":0},null,{"$f":"N29","v":21221},{"$f":"COUNTIF(L68:L98,AD29)","v":0},{"$f":"AE29/(AG4-AE25)","v":0},{"$f":"IF(AF29=0,0,(AF29*((LOG(AF29))/LOG(2))))","v":0},null,{"$f":"N29","v":21221},{"$f":"COUNTIF(L99:L128,AI29)","v":0},{"$f":"AJ29/(AL4-AJ25)","v":0},{"$f":"IF(AK29=0,0,(AK29*((LOG(AK29))/LOG(2))))","v":0},null,{"$f":"N29","v":21221},{"$f":"COUNTIF(L129:L159,AN29)","v":0},{"$f":"AO29/(AQ4-AO25)","v":0},{"$f":"IF(AP29=0,0,(AP29*((LOG(AP29))/LOG(2))))","v":0},null,{"$f":"N29","v":21221},{"$f":"COUNTIF(L160:L189,AS29)","v":0},{"$f":"AT29/(AV4-AT25)","v":0},{"$f":"IF(AU29=0,0,(AU29*((LOG(AU29))/LOG(2))))","v":0}]
[12,3089,13,3103,13,3111,14,3116,13,3125,0,11111,null,21222,{"$f":"COUNTIF($L$7:$L$500,N30)","v":0},{"$f":"O30/$Q$4","v":0},{"$f":"IF(P30=0,0,(P30*((LOG(P30))/LOG(2))))","v":0},null,null,{"$f":"N30","v":21222},{"$f":"COUNTIF(L7:L37,T30)","v":0},{"$f":"U30/(W4-U25)","v":0},{"$f":"IF(V30=0,0,(V30*((LOG(V30))/LOG(2))))","v":0},null,{"$f":"N30","v":21222},{"$f":"COUNTIF(L38:L67,Y30)","v":0},{"$f":"Z30/(AB4-Z25)","v":0},{"$f":"IF(AA30=0,0,(AA30*((LOG(AA30))/LOG(2))))","v":0},null,{"$f":"N30","v":21222},{"$f":"COUNTIF(L68:L98,AD30)","v":0},{"$f":"AE30/(AG4-AE25)","v":0},{"$f":"IF(AF30=0,0,(AF30*((LOG(AF30))/LOG(2))))","v":0},null,{"$f":"N30","v":21222},{"$f":"COUNTIF(L99:L128,AI30)","v":0},{"$f":"AJ30/(AL4-AJ25)","v":0},{"$f":"IF(AK30=0,0,(AK30*((LOG(AK30))/LOG(2))))","v":0},null,{"$f":"N30","v":21222},{"$f":"COUNTIF(L129:L159,AN30)","v":0},{"$f":"AO30/(AQ4-AO25)","v":0},{"$f":"IF(AP30=0,0,(AP30*((LOG(AP30))/LOG(2))))","v":0},null,{"$f":"N30","v":21222},{"$f":"COUNTIF(L160:L189,AS30)","v":0},{"$f":"AT30/(AV4-AT25)","v":0},{"$f":"IF(AU30=0,0,(AU30*((LOG(AU30))/LOG(2))))","v":0}]
[12,3226,13,3230,13,3235,14,3239,13,3244,0,11111,null,22111,{"$f":"COUNTIF($L$7:$L$500,N31)","v":0},{"$f":"O31/$Q$4","v":0},{"$f":"IF(P31=0,0,(P31*((LOG(P31))/LOG(2))))","v":0},null,null,{"$f":"N31","v":22111},{"$f":"COUNTIF(L7:L37,T31)","v":0},{"$f":"U31/(W4-U25)","v":0},{"$f":"IF(V31=0,0,(V31*((LOG(V31))/LOG(2))))","v":0},null,{"$f":"N31","v":22111},{"$f":"COUNTIF(L38:L67,Y31)","v":0},{"$f":"Z31/(AB4-Z25)","v":0},{"$f":"IF(AA31=0,0,(AA31*((LOG(AA31))/LOG(2))))","v":0},null,{"$f":"N31","v":22111},{"$f":"COUNTIF(L68:L98,AD31)","v":0},{"$f":"AE31/(AG4-AE25)","v":0},{"$f":"IF(AF31=0,0,(AF31*((LOG(AF31))/LOG(2))))","v":0},null,{"$f":"N31","v":22111},{"$f":"COUNTIF(L99:L128,AI31)","v":0},{"$f":"AJ31/(AL4-AJ25)","v":0},{"$f":"IF(AK31=0,0,(AK31*((LOG(AK31))/LOG(2))))","v":0},null,{"$f":"N31","v":22111},{"$f":"COUNTIF(L129:L159,AN31)","v":0},{"$f":"AO31/(AQ4-AO25)","v":0},{"$f":"IF(AP31=0,0,(AP31*((LOG(AP31))/LOG(2))))","v":0},null,{"$f":"N31","v":22111},{"$f":"COUNTIF(L160:L189,AS31)","v":0},{"$f":"AT31/(AV4-AT25)","v":0},{"$f":"IF(AU31=0,0,(AU31*((LOG(AU31))/LOG(2))))","v":0}]
[12,3349,13,3368,13,3372,14,3376,13,3381,0,11111,null,22112,{"$f":"COUNTIF($L$7:$L$500,N32)","v":0},{"$f":"O32/$Q$4","v":0},{"$f":"IF(P32=0,0,(P32*((LOG(P32))/LOG(2))))","v":0},null,null,{"$f":"N32","v":22112},{"$f":"COUNTIF(L7:L37,T32)","v":0},{"$f":"U32/(W4-U25)","v":0},{"$f":"IF(V32=0,0,(V32*((LOG(V32))/LOG(2))))","v":0},null,{"$f":"N32","v":22112},{"$f":"COUNTIF(L38:L67,Y32)","v":0},{"$f":"Z32/(AB4-Z25)","v":0},{"$f":"IF(AA32=0,0,(AA32*((LOG(AA32))/LOG(2))))","v":0},null,{"$f":"N32","v":22112},{"$f":"COUNTIF(L68:L98,AD32)","v":0},{"$f":"AE32/(AG4-AE25)","v":0},{"$f":"IF(AF32=0,0,(AF32*((LOG(AF32))/LOG(2))))","v":0},null,{"$f":"N32","v":22112},{"$f":"COUNTIF(L99:L128,AI32)","v":0},{"$f":"AJ32/(AL4-AJ25)","v":0},{"$f":"IF(AK32=0,0,(AK32*((LOG(AK32))/LOG(2))))","v":0},null,{"$f":"N32","v":22112},{"$f":"COUNTIF(L129:L159,AN32)","v":0},{"$f":"AO32/(AQ4-AO25)","v":0},{"$f":"IF(AP32=0,0,(AP32*((LOG(AP32))/LOG(2))))","v":0},null,{"$f":"N32","v":22112},{"$f":"COUNTIF(L160:L189,AS32)","v":0},{"$f":"AT32/(AV4-AT25)","v":0},{"$f":"IF(AU32=0,0,(AU32*((LOG(AU32))/LOG(2))))","v":0}]
[12,3488,13,3492,13,3504,14,3517,13,3531,0,11111,null,22121,{"$f":"COUNTIF($L$7:$L$500,N33)","v":0},{"$f":"O33/$Q$4","v":0},{"$f":"IF(P33=0,0,(P33*((LOG(P33))/LOG(2))))","v":0},null,null,{"$f":"N33","v":22121},{"$f":"COUNTIF(L7:L37,T33)","v":0},{"$f":"U33/(W4-U25)","v":0},{"$f":"IF(V33=0,0,(V33*((LOG(V33))/LOG(2))))","v":0},null,{"$f":"N33","v":22121},{"$f":"COUNTIF(L38:L67,Y33)","v":0},{"$f":"Z33/(AB4-Z25)","v":0},{"$f":"IF(AA33=0,0,(AA33*((LOG(AA33))/LOG(2))))","v":0},null,{"$f":"N33","v":22121},{"$f":"COUNTIF(L68:L98,AD33)","v":0},{"$f":"AE33/(AG4-AE25)","v":0},{"$f":"IF(AF33=0,0,(AF33*((LOG(AF33))/LOG(2))))","v":0},null,{"$f":"N33","v":22121},{"$f":"COUNTIF(L99:L128,AI33)","v":0},{"$f":"AJ33/(AL4-AJ25)","v":0},{"$f":"IF(AK33=0,0,(AK33*((LOG(AK33))/LOG(2))))","v":0},null,{"$f":"N33","v":22121},{"$f":"COUNTIF(L129:L159,AN33)","v":0},{"$f":"AO33/(AQ4-AO25)","v":0},{"$f":"IF(AP33=0,0,(AP33*((LOG(AP33))/LOG(2))))","v":0},null,{"$f":"N33","v":22121},{"$f":"COUNTIF(L160:L189,AS33)","v":0},{"$f":"AT33/(AV4-AT25)","v":0},{"$f":"IF(AU33=0,0,(AU33*((LOG(AU33))/LOG(2))))","v":0}]
[12,3644,13,3656,13,3661,14,3665,13,3670,0,11111,null,22122,{"$f":"COUNTIF($L$7:$L$500,N34)","v":0},{"$f":"O34/$Q$4","v":0},{"$f":"IF(P34=0,0,(P34*((LOG(P34))/LOG(2))))","v":0},null,null,{"$f":"N34","v":22122},{"$f":"COUNTIF(L7:L37,T34)","v":0},{"$f":"U34/(W4-U25)","v":0},{"$f":"IF(V34=0,0,(V34*((LOG(V34))/LOG(2))))","v":0},null,{"$f":"N34","v":22122},{"$f":"COUNTIF(L38:L67,Y34)","v":0},{"$f":"Z34/(AB4-Z25)","v":0},{"$f":"IF(AA34=0,0,(AA34*((LOG(AA34))/LOG(2))))","v":0},null,{"$f":"N34","v":22122},{"$f":"COUNTIF(L68:L98,AD34)","v":0},{"$f":"AE34/(AG4-AE25)","v":0},{"$f":"IF(AF34=0,0,(AF34*((LOG(AF34))/LOG(2))))","v":0},null,{"$f":"N34","v":22122},{"$f":"COUNTIF(L99:L128,AI34)","v":0},{"$f":"AJ34/(AL4-AJ25)","v":0},{"$f":"IF(AK34=0,0,(AK34*((LOG(AK34))/LOG(2))))","v":0},null,{"$f":"N34","v":22122},{"$f":"COUNTIF(L129:L159,AN34)","v":0},{"$f":"AO34/(AQ4-AO25)","v":0},{"$f":"IF(AP34=0,0,(AP34*((LOG(AP34))/LOG(2))))","v":0},null,{"$f":"N34","v":22122},{"$f":"COUNTIF(L160:L189,AS34)","v":0},{"$f":"AT34/(AV4-AT25)","v":0},{"$f":"IF(AU34=0,0,(AU34*((LOG(AU34))/LOG(2))))","v":0}]
[12,3782,13,3787,13,3792,14,3796,13,3802,0,11111,null,22211,{"$f":"COUNTIF($L$7:$L$500,N35)","v":0},{"$f":"O35/$Q$4","v":0},{"$f":"IF(P35=0,0,(P35*((LOG(P35))/LOG(2))))","v":0},null,null,{"$f":"N35","v":22211},{"$f":"COUNTIF(L7:L37,T35)","v":0},{"$f":"U35/(W4-U25)","v":0},{"$f":"IF(V35=0,0,(V35*((LOG(V35))/LOG(2))))","v":0},null,{"$f":"N35","v":22211},{"$f":"COUNTIF(L38:L67,Y35)","v":0},{"$f":"Z35/(AB4-Z25)","v":0},{"$f":"IF(AA35=0,0,(AA35*((LOG(AA35))/LOG(2))))","v":0},null,{"$f":"N35","v":22211},{"$f":"COUNTIF(L68:L98,AD35)","v":0},{"$f":"AE35/(AG4-AE25)","v":0},{"$f":"IF(AF35=0,0,(AF35*((LOG(AF35))/LOG(2))))","v":0},null,{"$f":"N35","v":22211},{"$f":"COUNTIF(L99:L128,AI35)","v":0},{"$f":"AJ35/(AL4-AJ25)","v":0},{"$f":"IF(AK35=0,0,(AK35*((LOG(AK35))/LOG(2))))","v":0},null,{"$f":"N35","v":22211},{"$f":"COUNTIF(L129:L159,AN35)","v":0},{"$f":"AO35/(AQ4-AO25)","v":0},{"$f":"IF(AP35=0,0,(AP35*((LOG(AP35))/LOG(2))))","v":0},null,{"$f":"N35","v":22211},{"$f":"COUNTIF(L160:L189,AS35)","v":0},{"$f":"AT35/(AV4-AT25)","v":0},{"$f":"IF(AU35=0,0,(AU35*((LOG(AU35))/LOG(2))))","v":0}]
[12,3937,13,3941,13,3946,14,3955,13,3960,0,11111,null,22212,{"$f":"COUNTIF($L$7:$L$500,N36)","v":0},{"$f":"O36/$Q$4","v":0},{"$f":"IF(P36=0,0,(P36*((LOG(P36))/LOG(2))))","v":0},null,null,{"$f":"N36","v":22212},{"$f":"COUNTIF(L7:L37,T36)","v":0},{"$f":"U36/(W4-U25)","v":0},{"$f":"IF(V36=0,0,(V36*((LOG(V36))/LOG(2))))","v":0},null,{"$f":"N36","v":22212},{"$f":"COUNTIF(L38:L67,Y36)","v":0},{"$f":"Z36/(AB4-Z25)","v":0},{"$f":"IF(AA36=0,0,(AA36*((LOG(AA36))/LOG(2))))","v":0},null,{"$f":"N36","v":22212},{"$f":"COUNTIF(L68:L98,AD36)","v":0},{"$f":"AE36/(AG4-AE25)","v":0},{"$f":"IF(AF36=0,0,(AF36*((LOG(AF36))/LOG(2))))","v":0},null,{"$f":"N36","v":22212},{"$f":"COUNTIF(L99:L128,AI36)","v":0},{"$f":"AJ36/(AL4-AJ25)","v":0},{"$f":"IF(AK36=0,0,(AK36*((LOG(AK36))/LOG(2))))","v":0},null,{"$f":"N36","v":22212},{"$f":"COUNTIF(L129:L159,AN36)","v":0},{"$f":"AO36/(AQ4-AO25)","v":0},{"$f":"IF(AP36=0,0,(AP36*((LOG(AP36))/LOG(2))))","v":0},null,{"$f":"N36","v":22212},{"$f":"COUNTIF(L160:L189,AS36)","v":0},{"$f":"AT36/(AV4-AT25)","v":0},{"$f":"IF(AU36=0,0,(AU36*((LOG(AU36))/LOG(2))))","v":0}]
[12,4074,13,4086,13,4091,14,4096,13,4111,0,11111,null,22221,{"$f":"COUNTIF($L$7:$L$500,N37)","v":0},{"$f":"O37/$Q$4","v":0},{"$f":"IF(P37=0,0,(P37*((LOG(P37))/LOG(2))))","v":0},null,null,{"$f":"N37","v":22221},{"$f":"COUNTIF(L7:L37,T37)","v":0},{"$f":"U37/(W4-U25)","v":0},{"$f":"IF(V37=0,0,(V37*((LOG(V37))/LOG(2))))","v":0},null,{"$f":"N37","v":22221},{"$f":"COUNTIF(L38:L67,Y37)","v":0},{"$f":"Z37/(AB4-Z25)","v":0},{"$f":"IF(AA37=0,0,(AA37*((LOG(AA37))/LOG(2))))","v":0},null,{"$f":"N37","v":22221},{"$f":"COUNTIF(L68:L98,AD37)","v":0},{"$f":"AE37/(AG4-AE25)","v":0},{"$f":"IF(AF37=0,0,(AF37*((LOG(AF37))/LOG(2))))","v":0},null,{"$f":"N37","v":22221},{"$f":"COUNTIF(L99:L128,AI37)","v":0},{"$f":"AJ37/(AL4-AJ25)","v":0},{"$f":"IF(AK37=0,0,(AK37*((LOG(AK37))/LOG(2))))","v":0},null,{"$f":"N37","v":22221},{"$f":"COUNTIF(L129:L159,AN37)","v":0},{"$f":"AO37/(AQ4-AO25)","v":0},{"$f":"IF(AP37=0,0,(AP37*((LOG(AP37))/LOG(2))))","v":0},null,{"$f":"N37","v":22221},{"$f":"COUNTIF(L160:L189,AS37)","v":0},{"$f":"AT37/(AV4-AT25)","v":0},{"$f":"IF(AU37=0,0,(AU37*((LOG(AU37))/LOG(2))))","v":0}]
[12,4236,13,4240,13,4244,14,4249,13,4253,0,11111,null,22222,{"$f":"COUNTIF($L$7:$L$500,N38)","v":3},{"$f":"O38/$Q$4","v":1.6393442622950821E-2},{"$f":"IF(P38=0,0,(P38*((LOG(P38))/LOG(2))))","v":-9.7225202255129275E-2},null,null,{"$f":"N38","v":22222},{"$f":"COUNTIF(L7:L37,T38)","v":0},{"$f":"U38/(W4-U25)","v":0},{"$f":"IF(V38=0,0,(V38*((LOG(V38))/LOG(2))))","v":0},null,{"$f":"N38","v":22222},{"$f":"COUNTIF(L38:L67,Y38)","v":0},{"$f":"Z38/(AB4-Z25)","v":0},{"$f":"IF(AA38=0,0,(AA38*((LOG(AA38))/LOG(2))))","v":0},null,{"$f":"N38","v":22222},{"$f":"COUNTIF(L68:L98,AD38)","v":0},{"$f":"AE38/(AG4-AE25)","v":0},{"$f":"IF(AF38=0,0,(AF38*((LOG(AF38))/LOG(2))))","v":0},null,{"$f":"N38","v":22222},{"$f":"COUNTIF(L99:L128,AI38)","v":0},{"$f":"AJ38/(AL4-AJ25)","v":0},{"$f":"IF(AK38=0,0,(AK38*((LOG(AK38))/LOG(2))))","v":0},null,{"$f":"N38","v":22222},{"$f":"COUNTIF(L129:L159,AN38)","v":0},{"$f":"AO38/(AQ4-AO25)","v":0},{"$f":"IF(AP38=0,0,(AP38*((LOG(AP38))/LOG(2))))","v":0},null,{"$f":"N38","v":22222},{"$f":"COUNTIF(L160:L189,AS38)","v":3},{"$f":"AT38/(AV4-AT25)","v":0.1},{"$f":"IF(AU38=0,0,(AU38*((LOG(AU38))/LOG(2))))","v":-0.33219280948873625}]
[12,4366,13,4371,13,4375,14,4380,13,4385,0,11111,null,null,null,{"$f":"SUM(P7:P38)","v":1},{"$f":"-SUM(Q7:Q38)","v":0.25602186086953965},null,null,null,null,{"$f":"SUM(V7:V38)","v":1},{"$f":"-SUM(W7:W38)","v":0},null,null,null,{"$f":"SUM(AA7:AA38)","v":1},{"$f":"-SUM(AB7:AB38)","v":0.21084230031853213},null,null,null,{"$f":"SUM(AF7:AF38)","v":1},{"$f":"-SUM(AG7:AG38)","v":0.20559250818508301},null,null,null,{"$f":"SUM(AK7:AK38)","v":1},{"$f":"-SUM(AL7:AL38)","v":0},null,null,null,{"$f":"SUM(AP7:AP38)","v":1},{"$f":"-SUM(AQ7:AQ38)","v":0.20559250818508301},null,null,null,{"$f":"SUM(AU7:AU38)","v":1},{"$f":"-SUM(AV7:AV38)","v":0.46899559358928122}]
[12,4489,13,4494,13,4498,14,4502,13,4507,1,11111,null,null,null,"U=",{"$f":"Q39/(LOG(Q4)/LOG(2))","v":3.4064939576936813E-2},null,null,null,null,"U1=",{"$f":"W39/(LOG(W4)/LOG(2))","v":0},null,null,null,"U2=",{"$f":"AB39/(LOG(AB4)/LOG(2))","v":4.2968616522085903E-2},null,null,null,"U3=",{"$f":"AG39/(LOG(AG4)/LOG(2))","v":4.1498659985281898E-2},null,null,null,"U4=",{"$f":"AL39/(LOG(AL4)/LOG(2))","v":0},null,null,null,"U5=",{"$f":"AQ39/(LOG(AQ4)/LOG(2))","v":4.1498659985281898E-2},null,null,null,"U6=",{"$f":"AV39/(LOG(AV4)/LOG(2))","v":9.5578979080767471E-2}]
[12,4604,13,4608,13,4613,14,4618,13,4622,0,11111]
[12,4723,13,4728,13,4736,14,4740,13,4744,0,11111]
[12,4850,13,4854,13,4858,14,4863,13,4867,0,11111,null,"Total Target Seq"]
[12,4966,13,4975,13,4979,14,4984,13,5005,0,11111,null,{"$f":"COUNTIF(L7:L189,G3)","v":0},null,31,30,31,30,31,30]
[12,5109,13,5113,13,5117,14,5121,13,5126,0,11111,null,null,null,"% of reinforcement given in 6 equal intervals based on number of trials "]
[12,5231,13,5235,13,5240,14,5244,13,5249,1,11111,null,null,null,"%_1","%_2","%_3","%_4","%_5","%_6"]
[12,5343,13,5347,13,5351,14,5356,13,5360,0,11111,null,null,"target sequence",{"$f":"$G$3","v":21121},{"$f":"$G$3","v":21121},{"$f":"$G$3","v":21121},{"$f":"$G$3","v":21121},{"$f":"$G$3","v":21121},{"$f":"$G$3","v":21121}]
[12,5460,13,5464,13,5468,14,5473,13,5483,0,11111,null,null,"total reinforcement",{"$f":"U25","v":0},{"$f":"Z25","v":0},{"$f":"AE25","v":0},{"$f":"AJ25","v":0},{"$f":"AO25","v":0},{"$f":"AT25","v":0}]
[12,5586,13,5590,13,5595,14,5600,13,5605,0,11111,null,null,"% target"]
[12,5718,13,5722,13,5732,14,5736,13,5741,0,11111,null,null,"CCRF"]
[12,5845,13,5849,13,5857,14,5861,13,5876,0,11111,null,null,"% CCRf"]
[12,5995,13,5999,13,6004,14,6008,13,6013,1,11111,null,null,"average response rate",{"$f":"J37/P44","v":132.61290322580646},{"$f":"(J67-J37)/Q44","v":131.26666666666668},{"$f":"(J98-J67)/R44","v":130.96774193548387},{"$f":"(J128-J98)/S44","v":128.53333333333333},{"$f":"(J159-J128)/T44","v":131.70967741935485},{"$f":"(J189-J159)/U44","v":131.46666666666667}]
[12,6112,13,6116,13,6121,14,6125,13,6135,0,11111]
[12,6249,13,6258,13,6263,14,6267,13,6272,0,11111]
[12,6370,13,6375,13,6379,14,6384,13,6389,0,11111]
[12,6490,13,6494,13,6499,14,6503,13,6507,1,11111]
[12,6615,13,6619,13,6624,14,6628,13,6644,0,11111]
[12,6752,13,6757,13,6761,14,6765,13,6774,0,11111]
[12,6898,13,6903,13,6925,14,6930,13,6935,0,11111]
[12,7040,13,7044,13,7048,14,7057,13,7061,0,11111]
[12,7166,13,7171,13,7179,14,7184,13,7190,0,11111]
[12,7303,13,7312,13,7316,14,7321,13,7326,1,11111]
[12,7425,13,7448,13,7454,14,7463,24,7489,1,11112]
[12,7599,13,7603,13,7611,14,7620,13,7637,0,11111]
[12,7765,13,7770,13,7780,14,7784,13,7789,0,11111]
[12,7891,13,7895,13,7900,14,7904,13,7908,0,11111]
[12,8026,13,8031,13,8035,14,8044,13,8049,0,11111]
[12,8152,13,8156,13,8160,14,8168,13,8173,0,11111]
[12,8285,13,8292,13,8296,14,8301,13,8313,0,11111]
[12,8415,13,8419,13,8423,14,8427,13,8431,1,11111]
[12,8537,13,8542,13,8555,14,8564,13,8569,0,11111]
[12,8675,13,8683,13,8687,14,8691,13,8709,0,11111]
[12,8817,13,8821,13,8826,14,8830,13,8840,0,11111]
[12,8956,13,8960,13,8964,14,8971,13,8982,0,11111]
[12,9086,13,9090,13,9094,14,9105,13,9110,0,11111]
[12,9211,13,9215,13,9222,14,9227,13,9231,1,11111]
[12,9348,13,9353,13,9357,14,9366,13,9371,0,11111]
[12,9487,13,9491,13,9495,14,9500,13,9504,0,11111]
[12,9605,13,9609,13,9614,14,9618,13,9631,1,11111]
[12,9727,13,9732,13,9736,14,9740,13,9745,0,11111]
[12,9851,13,9855,13,9859,14,9863,13,9868,0,11111]
[12,9980,13,9988,13,9992,14,9997,13,10006,0,11111]
[12,10117,13,10121,13,10126,14,10130,13,10134,0,11111]
[12,10252,13,10264,13,10269,14,10283,13,10296,1,11111]
[12,10411,13,10416,13,10421,14,10426,13,10431,1,11111]
[12,10531,13,10539,13,10544,14,10548,13,10554,0,11111]
[12,10662,13,10666,13,10670,14,10674,13,10684,0,11111]
[12,10784,13,10788,13,10792,14,10796,13,10800,0,11111]
[12,10907,13,10912,13,10916,14,10921,13,10925,0,11111]
[12,11029,13,11033,13,11041,14,11045,13,11051,0,11111]
[12,11164,13,11169,13,11173,14,11177,13,11182,0,11111]
[12,11295,13,11301,13,11305,14,11309,13,11314,0,11111]
[12,11424,13,11432,13,11436,14,11449,13,11454,1,11111]
[12,11556,13,11561,24,11588,23,11601,24,11606,0,11222]
[12,11713,13,11717,13,11721,14,11726,13,11735,0,11111]
[12,11840,13,11845,13,11849,14,11854,13,11859,0,11111]
[12,11967,13,11972,13,11976,14,11981,13,11989,0,11111]
[12,12090,13,12094,13,12099,14,12104,13,12109,0,11111]
[12,12222,13,12226,13,12231,14,12235,13,12240,0,11111]
[12,12349,13,12358,13,12363,14,12367,13,12372,0,11111]
[12,12478,13,12483,13,12487,14,12502,13,12507,0,11111]
[12,12622,13,12627,13,12631,14,12636,13,12640,1,11111]
[12,12746,13,12751,13,12760,14,12765,13,12770,0,11111]
[12,12880,13,12890,13,12895,14,12899,13,12904,0,11111]
[12,13015,13,13019,13,13024,14,13028,13,13037,0,11111]
[12,13141,13,13145,13,13150,14,13154,13,13162,0,11111]
[12,13264,13,13268,13,13273,14,13283,13,13293,0,11111]
[12,13394,13,13399,13,13403,14,13407,13,13419,0,11111]
[12,13524,13,13533,13,13537,14,13541,13,13546,0,11111]
[12,13648,13,13653,13,13658,14,13663,13,13667,0,11111]
[12,13767,13,13776,13,13780,14,13785,13,13790,0,11111]
[12,13890,13,13896,13,13900,14,13906,13,13914,0,11111]
[12,14019,13,14023,13,14027,14,14032,13,14041,1,11111]
[12,14153,13,14158,13,14162,14,14167,13,14172,0,11111]
[12,14277,13,14281,13,14286,14,14290,13,14294,0,11111]
[12,14400,13,14405,13,14410,14,14414,13,14419,1,11111]
[12,14523,13,14527,13,14532,14,14536,13,14540,0,11111]
[12,14652,13,14657,13,14665,14,14669,13,14679,1,11111]
[12,14778,13,14782,13,14787,14,14795,13,14804,0,11111]
[12,14915,13,14919,13,14929,14,14933,13,14938,0,11111]
[12,15039,13,15048,13,15052,14,15059,13,15064,0,11111]
[12,15175,13,15184,13,15188,14,15192,13,15202,0,11111]
[12,15318,13,15323,13,15328,14,15334,13,15342,0,11111]
[12,15450,13,15459,13,15463,14,15468,13,15472,0,11111]
[12,15577,13,15581,13,15585,14,15589,13,15598,1,11111]
[12,15698,13,15702,13,15707,14,15719,13,15723,0,11111]
[12,15828,13,15832,13,15837,14,15842,13,15846,0,11111]
[12,15947,13,15951,13,15956,14,15960,13,15965,1,11111]
[12,16174,13,16179,13,16192,14,16196,13,16202,0,11111]
[12,16327,13,16336,13,16340,14,16349,13,16353,0,11111]
[12,16453,13,16462,13,16476,14,16481,13,16486,0,11111]
[12,16585,13,16590,13,16594,14,16598,13,16603,1,11111]
[12,16700,13,16705,13,16709,14,16714,13,16718,0,11111]
[12,16822,13,16826,13,16830,14,16835,13,16839,0,11111]
[12,16941,13,16945,13,16950,14,16954,13,16959,0,11111]
[12,17059,13,17063,13,17067,14,17071,13,17075,0,11111]
[12,17175,13,17182,13,17187,14,17191,13,17196,0,11111]
[12,17309,13,17323,13,17329,14,17340,13,17345,1,11111]
[12,17458,13,17462,13,17467,14,17481,13,17486,0,11111]
[12,17600,13,17604,13,17609,14,17613,13,17622,0,11111]
[12,17727,13,17732,13,17737,14,17741,13,17746,0,11111]
[12,17849,13,17854,13,17858,14,17863,13,17867,0,11111]
[12,17967,13,17972,13,17976,14,17980,13,17988,0,11111]
[12,18088,13,18093,13,18097,14,18101,13,18106,1,11111]
[12,18202,13,18206,13,18211,14,18216,13,18226,0,11111]
[12,18329,13,18333,13,18337,14,18342,13,18346,0,11111]
[12,18446,13,18455,13,18460,14,18465,13,18469,0,11111]
[12,18578,13,18583,13,18588,14,18593,13,18600,1,11111]
[12,18701,13,18717,13,18722,14,18729,13,18734,0,11111]
[12,18841,13,18846,13,18851,14,18855,13,18859,0,11111]
[12,18963,13,18967,13,18971,14,18975,13,18980,0,11111]
[12,19089,13,19093,13,19108,14,19113,13,19121,0,11111]
[12,19223,13,19227,13,19232,14,19237,24,19259,0,11112]
[12,19362,13,19366,13,19371,14,19375,13,19380,0,11111]
[12,19483,13,19495,13,19500,14,19505,13,19510,0,11111]
[12,19610,13,19619,13,19623,14,19632,13,19638,1,11111]
[12,19757,13,19767,13,19772,14,19777,13,19781,0,11111]
[12,19894,13,19900,13,19905,14,19910,13,19915,0,11111]
[12,20022,13,20027,13,20031,14,20035,13,20048,0,11111]
[12,20147,13,20162,13,20168,14,20172,13,20181,0,11111]
[12,20287,13,20292,13,20296,14,20302,13,20307,0,11111]
[12,20407,13,20411,13,20415,14,20423,13,20428,0,11111]
[12,20531,13,20536,13,20541,14,20547,13,20557,0,11111]
[12,20664,13,20669,13,20673,14,20677,13,20682,1,11111]
[12,20786,13,20796,13,20801,14,20806,13,20811,0,11111]
[12,20911,13,20916,13,20920,14,20924,13,20933,0,11111]
[21,21053,22,21067,24,21076,23,21081,24,21089,0,22222]
[12,21189,13,21194,13,21203,14,21208,13,21213,1,11111]
[12,21312,13,21316,13,21321,14,21325,13,21338,0,11111]
[12,21443,13,21448,13,21456,14,21461,13,21466,0,11111]
[12,21572,13,21576,13,21580,14,21584,13,21589,0,11111]
[12,21699,13,21705,13,21715,14,21723,13,21738,0,11111]
[12,21854,13,21858,13,21862,14,21867,13,21871,0,11111]
[12,21987,13,21991,13,22000,14,22005,13,22009,0,11111]
[12,22109,13,22114,13,22122,14,22129,13,22134,0,11111]
[12,22251,13,22263,13,22271,14,22276,13,22281,0,11111]
[12,22399,13,22404,13,22408,14,22413,13,22418,1,11111]
[21,22547,22,22556,24,22565,23,22570,24,22579,1,22222]
[21,22685,22,22694,24,22698,23,22704,24,22713,0,22222]
[12,22813,13,22817,13,22821,14,22825,13,22830,0,11111]
[12,22940,13,22953,13,22962,14,22968,13,22977,0,11111]
[12,23077,13,23081,13,23085,14,23093,13,23103,0,11111]
[12,23208,13,23215,13,23220,14,23224,13,23229,1,11111]
[12,23325,13,23330,13,23334,14,23339,13,23353,1,11111]
[12,23450,13,23457,13,23463,14,23468,13,23477,0,11111]
[12,23577,13,23581,13,23585,14,23589,13,23594,0,11111]
[12,23702,13,23706,13,23711,14,23715,13,23729,0,11111]
[12,23832,13,23841,13,23847,14,23851,13,23856,0,11111]
[12,23969,13,23974,13,23979,14,23988,13,23992,null,11111]

{"sheet":"!MC12840.010","index":15,"n_rows":194,"n_cols":48,"rows_kept":194,"cut":false,"hidden":false,"merged":[[4,39,4,42],[5,39,5,40],[4,44,4,47],[5,44,5,45],[4,24,4,27],[5,24,5,25],[4,29,4,32],[5,29,5,30],[4,34,4,37],[5,34,5,35],[1,1,1,2],[5,13,5,14],[42,13,42,14],[43,13,43,14],[4,19,4,22],[5,19,5,20]]}
["Report for:!MC12840.010"]
["Date:","<date>"]
["Hen:","<hen>",null,null,null,"Correct Sequence",{"$f":"Start!J2","v":21121},null,null,null,null,null,null,null,null,"Total Sequences in Data",{"$f":"4994-COUNTBLANK(L7:L5000)","v":188},null,null,null,null,"Total Sequences in Block Data",{"$f":"COUNTA(L7:L37)","v":31},null,null,null,"Total Sequences in Block Data",{"$f":"COUNTA(L38:L69)","v":32},null,null,null,"Total Sequences in Block Data",{"$f":"COUNTA(L70:L100)","v":31},null,null,null,"Total Sequences in Block Data",{"$f":"COUNTA(L101:L131)","v":31},null,null,null,"Total Sequences in Block Data",{"$f":"COUNTA(L132:L163)","v":32},null,null,null,"Total Sequences in Block Data",{"$f":"COUNTA(L164:L194)","v":31}]
[null,null,null,null,null,null,null,null,null,null,null,null,null,null,null,"Total Sequences in Summary",{"$f":"SUM(O7:O38)","v":188},null,null,null,null,"Total Sequences in Block Summary",{"$f":"SUM(U7:U38)","v":31},null,null,null,"Total Sequences in Block Summary",{"$f":"SUM(Z7:Z38)","v":32},null,null,null,"Total Sequences in Block Summary",{"$f":"SUM(AE7:AE38)","v":31},null,null,null,"Total Sequences in Block Summary",{"$f":"SUM(AJ7:AJ38)","v":31},null,null,null,"Total Sequences in Block Summary",{"$f":"SUM(AO7:AO38)","v":32},null,null,null,"Total Sequences in Block Summary",{"$f":"SUM(AT7:AT38)","v":31}]
[null,null,null,null,null,null,null,null,null,null,null,null,null,null,null,null,null,null,null,"Block 1",null,null,null,null,"Block 2",null,null,null,null,"Block 3",null,null,null,null,"Block 4",null,null,null,null,"Block 5",null,null,null,null,"Block 6"]
["Sequence\nComponent\n1","Time\n1","Sequence\nComponent\n2","Time\n2","Sequence\nComponent\n3","Time\n3","Sequence\nComponent\n4","Time\n4","Sequence\nComponent\n5","Time\n5","Correct?\n0=No 1=Yes","Sequence",null,"Frequency",null,"Relative Frequency","Variability",null,null,"Frequency",null,"Relative Frequency","Variability",null,"Frequency",null,"Relative Frequency","Variability",null,"Frequency",null,"Relative Frequency","Variability",null,"Frequency",null,"Relative Frequency","Variability",null,"Frequency",null,"Relative Frequency","Variability",null,"Frequency",null,"Relative Frequency","Variability"]
[12,40,13,44,13,48,14,53,13,57,0,11111,null,11111,{"$f":"COUNTIF($L$7:$L$500,N7)","v":187},{"$f":"O7/$Q$4","v":0.99468085106382975},{"$f":"IF(P7=0,0,(P7*((LOG(P7))/LOG(2))))","v":-7.6534641740964998E-3},null,null,{"$f":"N7","v":11111},{"$f":"COUNTIF(L7:L37,T7)","v":31},{"$f":"U7/(W4-U25)","v":1},{"$f":"IF(V7=0,0,(V7*((LOG(V7))/LOG(2))))","v":0},null,{"$f":"N7","v":11111},{"$f":"COUNTIF(L38:L69,Y7)","v":32},{"$f":"Z7/(AB4-Z25)","v":1},{"$f":"IF(AA7=0,0,(AA7*((LOG(AA7))/LOG(2))))","v":0},null,{"$f":"N7","v":11111},{"$f":"COUNTIF(L70:L100,AD7)","v":31},{"$f":"AE7/(AG4-AE25)","v":1},{"$f":"IF(AF7=0,0,(AF7*((LOG(AF7))/LOG(2))))","v":0},null,{"$f":"N7","v":11111},{"$f":"COUNTIF(L101:L131,AI7)","v":31},{"$f":"AJ7/(AL4-AJ25)","v":1},{"$f":"IF(AK7=0,0,(AK7*((LOG(AK7))/LOG(2))))","v":0},null,{"$f":"N7","v":11111},{"$f":"COUNTIF(L132:L163,AN7)","v":32},{"$f":"AO7/(AQ4-AO25)","v":1},{"$f":"IF(AP7=0,0,(AP7*((LOG(AP7))/LOG(2))))","v":0},null,{"$f":"N7","v":11111},{"$f":"COUNTIF(L164:L194,AS7)","v":30},{"$f":"AT7/(AV4-AT25)","v":0.967741935483871},{"$f":"IF(AU7=0,0,(AU7*((LOG(AU7))/LOG(2))))","v":-4.5779723979054811E-2}]
[12,157,13,162,13,166,14,170,13,174,0,11111,null,11112,{"$f":"COUNTIF($L$7:$L$500,N8)","v":0},{"$f":"O8/$Q$4","v":0},{"$f":"IF(P8=0,0,(P8*((LOG(P8))/LOG(2))))","v":0},null,null,{"$f":"N8","v":11112},{"$f":"COUNTIF(L7:L37,T8)","v":0},{"$f":"U8/(W4-U25)","v":0},{"$f":"IF(V8=0,0,(V8*((LOG(V8))/LOG(2))))","v":0},null,{"$f":"N8","v":11112},{"$f":"COUNTIF(L38:L69,Y8)","v":0},{"$f":"Z8/(AB4-Z25)","v":0},{"$f":"IF(AA8=0,0,(AA8*((LOG(AA8))/LOG(2))))","v":0},null,{"$f":"N8","v":11112},{"$f":"COUNTIF(L70:L100,AD8)","v":0},{"$f":"AE8/(AG4-AE25)","v":0},{"$f":"IF(AF8=0,0,(AF8*((LOG(AF8))/LOG(2))))","v":0},null,{"$f":"N8","v":11112},{"$f":"COUNTIF(L101:L131,AI8)","v":0},{"$f":"AJ8/(AL4-AJ25)","v":0},{"$f":"IF(AK8=0,0,(AK8*((LOG(AK8))/LOG(2))))","v":0},null,{"$f":"N8","v":11112},{"$f":"COUNTIF(L132:L163,AN8)","v":0},{"$f":"AO8/(AQ4-AO25)","v":0},{"$f":"IF(AP8=0,0,(AP8*((LOG(AP8))/LOG(2))))","v":0},null,{"$f":"N8","v":11112},{"$f":"COUNTIF(L164:L194,AS8)","v":0},{"$f":"AT8/(AV4-AT25)","v":0},{"$f":"IF(AU8=0,0,(AU8*((LOG(AU8))/LOG(2))))","v":0}]
[12,282,13,287,13,292,14,297,13,301,0,11111,null,11121,{"$f":"COUNTIF($L$7:$L$500,N9)","v":0},{"$f":"O9/$Q$4","v":0},{"$f":"IF(P9=0,0,(P9*((LOG(P9))/LOG(2))))","v":0},null,null,{"$f":"N9","v":11121},{"$f":"COUNTIF(L7:L37,T9)","v":0},{"$f":"U9/(W4-U25)","v":0},{"$f":"IF(V9=0,0,(V9*((LOG(V9))/LOG(2))))","v":0},null,{"$f":"N9","v":11121},{"$f":"COUNTIF(L38:L69,Y9)","v":0},{"$f":"Z9/(AB4-Z25)","v":0},{"$f":"IF(AA9=0,0,(AA9*((LOG(AA9))/LOG(2))))","v":0},null,{"$f":"N9","v":11121},{"$f":"COUNTIF(L70:L100,AD9)","v":0},{"$f":"AE9/(AG4-AE25)","v":0},{"$f":"IF(AF9=0,0,(AF9*((LOG(AF9))/LOG(2))))","v":0},null,{"$f":"N9","v":11121},{"$f":"COUNTIF(L101:L131,AI9)","v":0},{"$f":"AJ9/(AL4-AJ25)","v":0},{"$f":"IF(AK9=0,0,(AK9*((LOG(AK9))/LOG(2))))","v":0},null,{"$f":"N9","v":11121},{"$f":"COUNTIF(L132:L163,AN9)","v":0},{"$f":"AO9/(AQ4-AO25)","v":0},{"$f":"IF(AP9=0,0,(AP9*((LOG(AP9))/LOG(2))))","v":0},null,{"$f":"N9","v":11121},{"$f":"COUNTIF(L164:L194,AS9)","v":0},{"$f":"AT9/(AV4-AT25)","v":0},{"$f":"IF(AU9=0,0,(AU9*((LOG(AU9))/LOG(2))))","v":0}]
[12,403,13,408,13,412,14,416,13,421,0,11111,null,11122,{"$f":"COUNTIF($L$7:$L$500,N10)","v":0},{"$f":"O10/$Q$4","v":0},{"$f":"IF(P10=0,0,(P10*((LOG(P10))/LOG(2))))","v":0},null,null,{"$f":"N10","v":11122},{"$f":"COUNTIF(L7:L37,T10)","v":0},{"$f":"U10/(W4-U25)","v":0},{"$f":"IF(V10=0,0,(V10*((LOG(V10))/LOG(2))))","v":0},null,{"$f":"N10","v":11122},{"$f":"COUNTIF(L38:L69,Y10)","v":0},{"$f":"Z10/(AB4-Z25)","v":0},{"$f":"IF(AA10=0,0,(AA10*((LOG(AA10))/LOG(2))))","v":0},null,{"$f":"N10","v":11122},{"$f":"COUNTIF(L70:L100,AD10)","v":0},{"$f":"AE10/(AG4-AE25)","v":0},{"$f":"IF(AF10=0,0,(AF10*((LOG(AF10))/LOG(2))))","v":0},null,{"$f":"N10","v":11122},{"$f":"COUNTIF(L101:L131,AI10)","v":0},{"$f":"AJ10/(AL4-AJ25)","v":0},{"$f":"IF(AK10=0,0,(AK10*((LOG(AK10))/LOG(2))))","v":0},null,{"$f":"N10","v":11122},{"$f":"COUNTIF(L132:L163,AN10)","v":0},{"$f":"AO10/(AQ4-AO25)","v":0},{"$f":"IF(AP10=0,0,(AP10*((LOG(AP10))/LOG(2))))","v":0},null,{"$f":"N10","v":11122},{"$f":"COUNTIF(L164:L194,AS10)","v":0},{"$f":"AT10/(AV4-AT25)","v":0},{"$f":"IF(AU10=0,0,(AU10*((LOG(AU10))/LOG(2))))","v":0}]
[12,521,13,526,13,530,14,534,13,540,0,11111,null,11211,{"$f":"COUNTIF($L$7:$L$500,N11)","v":0},{"$f":"O11/$Q$4","v":0},{"$f":"IF(P11=0,0,(P11*((LOG(P11))/LOG(2))))","v":0},null,null,{"$f":"N11","v":11211},{"$f":"COUNTIF(L7:L37,T11)","v":0},{"$f":"U11/(W4-U25)","v":0},{"$f":"IF(V11=0,0,(V11*((LOG(V11))/LOG(2))))","v":0},null,{"$f":"N11","v":11211},{"$f":"COUNTIF(L38:L69,Y11)","v":0},{"$f":"Z11/(AB4-Z25)","v":0},{"$f":"IF(AA11=0,0,(AA11*((LOG(AA11))/LOG(2))))","v":0},null,{"$f":"N11","v":11211},{"$f":"COUNTIF(L70:L100,AD11)","v":0},{"$f":"AE11/(AG4-AE25)","v":0},{"$f":"IF(AF11=0,0,(AF11*((LOG(AF11))/LOG(2))))","v":0},null,{"$f":"N11","v":11211},{"$f":"COUNTIF(L101:L131,AI11)","v":0},{"$f":"AJ11/(AL4-AJ25)","v":0},{"$f":"IF(AK11=0,0,(AK11*((LOG(AK11))/LOG(2))))","v":0},null,{"$f":"N11","v":11211},{"$f":"COUNTIF(L132:L163,AN11)","v":0},{"$f":"AO11/(AQ4-AO25)","v":0},{"$f":"IF(AP11=0,0,(AP11*((LOG(AP11))/LOG(2))))","v":0},null,{"$f":"N11","v":11211},{"$f":"COUNTIF(L164:L194,AS11)","v":0},{"$f":"AT11/(AV4-AT25)","v":0},{"$f":"IF(AU11=0,0,(AU11*((LOG(AU11))/LOG(2))))","v":0}]
[12,641,13,645,13,649,14,653,13,658,1,11111,null,11212,{"$f":"COUNTIF($L$7:$L$500,N12)","v":0},{"$f":"O12/$Q$4","v":0},{"$f":"IF(P12=0,0,(P12*((LOG(P12))/LOG(2))))","v":0},null,null,{"$f":"N12","v":11212},{"$f":"COUNTIF(L7:L37,T12)","v":0},{"$f":"U12/(W4-U25)","v":0},{"$f":"IF(V12=0,0,(V12*((LOG(V12))/LOG(2))))","v":0},null,{"$f":"N12","v":11212},{"$f":"COUNTIF(L38:L69,Y12)","v":0},{"$f":"Z12/(AB4-Z25)","v":0},{"$f":"IF(AA12=0,0,(AA12*((LOG(AA12))/LOG(2))))","v":0},null,{"$f":"N12","v":11212},{"$f":"COUNTIF(L70:L100,AD12)","v":0},{"$f":"AE12/(AG4-AE25)","v":0},{"$f":"IF(AF12=0,0,(AF12*((LOG(AF12))/LOG(2))))","v":0},null,{"$f":"N12","v":11212},{"$f":"COUNTIF(L101:L131,AI12)","v":0},{"$f":"AJ12/(AL4-AJ25)","v":0},{"$f":"IF(AK12=0,0,(AK12*((LOG(AK12))/LOG(2))))","v":0},null,{"$f":"N12","v":11212},{"$f":"COUNTIF(L132:L163,AN12)","v":0},{"$f":"AO12/(AQ4-AO25)","v":0},{"$f":"IF(AP12=0,0,(AP12*((LOG(AP12))/LOG(2))))","v":0},null,{"$f":"N12","v":11212},{"$f":"COUNTIF(L164:L194,AS12)","v":0},{"$f":"AT12/(AV4-AT25)","v":0},{"$f":"IF(AU12=0,0,(AU12*((LOG(AU12))/LOG(2))))","v":0}]
[12,764,13,768,13,772,14,776,13,781,0,11111,null,11221,{"$f":"COUNTIF($L$7:$L$500,N13)","v":0},{"$f":"O13/$Q$4","v":0},{"$f":"IF(P13=0,0,(P13*((LOG(P13))/LOG(2))))","v":0},null,null,{"$f":"N13","v":11221},{"$f":"COUNTIF(L7:L37,T13)","v":0},{"$f":"U13/(W4-U25)","v":0},{"$f":"IF(V13=0,0,(V13*((LOG(V13))/LOG(2))))","v":0},null,{"$f":"N13","v":11221},{"$f":"COUNTIF(L38:L69,Y13)","v":0},{"$f":"Z13/(AB4-Z25)","v":0},{"$f":"IF(AA13=0,0,(AA13*((LOG(AA13))/LOG(2))))","v":0},null,{"$f":"N13","v":11221},{"$f":"COUNTIF(L70:L100,AD13)","v":0},{"$f":"AE13/(AG4-AE25)","v":0},{"$f":"IF(AF13=0,0,(AF13*((LOG(AF13))/LOG(2))))","v":0},null,{"$f":"N13","v":11221},{"$f":"COUNTIF(L101:L131,AI13)","v":0},{"$f":"AJ13/(AL4-AJ25)","v":0},{"$f":"IF(AK13=0,0,(AK13*((LOG(AK13))/LOG(2))))","v":0},null,{"$f":"N13","v":11221},{"$f":"COUNTIF(L132:L163,AN13)","v":0},{"$f":"AO13/(AQ4-AO25)","v":0},{"$f":"IF(AP13=0,0,(AP13*((LOG(AP13))/LOG(2))))","v":0},null,{"$f":"N13","v":11221},{"$f":"COUNTIF(L164:L194,AS13)","v":0},{"$f":"AT13/(AV4-AT25)","v":0},{"$f":"IF(AU13=0,0,(AU13*((LOG(AU13))/LOG(2))))","v":0}]
[12,885,13,889,13,896,14,901,13,919,0,11111,null,11222,{"$f":"COUNTIF($L$7:$L$500,N14)","v":0},{"$f":"O14/$Q$4","v":0},{"$f":"IF(P14=0,0,(P14*((LOG(P14))/LOG(2))))","v":0},null,null,{"$f":"N14","v":11222},{"$f":"COUNTIF(L7:L37,T14)","v":0},{"$f":"U14/(W4-U25)","v":0},{"$f":"IF(V14=0,0,(V14*((LOG(V14))/LOG(2))))","v":0},null,{"$f":"N14","v":11222},{"$f":"COUNTIF(L38:L69,Y14)","v":0},{"$f":"Z14/(AB4-Z25)","v":0},{"$f":"IF(AA14=0,0,(AA14*((LOG(AA14))/LOG(2))))","v":0},null,{"$f":"N14","v":11222},{"$f":"COUNTIF(L70:L100,AD14)","v":0},{"$f":"AE14/(AG4-AE25)","v":0},{"$f":"IF(AF14=0,0,(AF14*((LOG(AF14))/LOG(2))))","v":0},null,{"$f":"N14","v":11222},{"$f":"COUNTIF(L101:L131,AI14)","v":0},{"$f":"AJ14/(AL4-AJ25)","v":0},{"$f":"IF(AK14=0,0,(AK14*((LOG(AK14))/LOG(2))))","v":0},null,{"$f":"N14","v":11222},{"$f":"COUNTIF(L132:L163,AN14)","v":0},{"$f":"AO14/(AQ4-AO25)","v":0},{"$f":"IF(AP14=0,0,(AP14*((LOG(AP14))/LOG(2))))","v":0},null,{"$f":"N14","v":11222},{"$f":"COUNTIF(L164:L194,AS14)","v":0},{"$f":"AT14/(AV4-AT25)","v":0},{"$f":"IF(AU14=0,0,(AU14*((LOG(AU14))/LOG(2))))","v":0}]
[12,1019,13,1023,13,1027,14,1032,13,1037,0,11111,null,12111,{"$f":"COUNTIF($L$7:$L$500,N15)","v":0},{"$f":"O15/$Q$4","v":0},{"$f":"IF(P15=0,0,(P15*((LOG(P15))/LOG(2))))","v":0},null,null,{"$f":"N15","v":12111},{"$f":"COUNTIF(L7:L37,T15)","v":0},{"$f":"U15/(W4-U25)","v":0},{"$f":"IF(V15=0,0,(V15*((LOG(V15))/LOG(2))))","v":0},null,{"$f":"N15","v":12111},{"$f":"COUNTIF(L38:L69,Y15)","v":0},{"$f":"Z15/(AB4-Z25)","v":0},{"$f":"IF(AA15=0,0,(AA15*((LOG(AA15))/LOG(2))))","v":0},null,{"$f":"N15","v":12111},{"$f":"COUNTIF(L70:L100,AD15)","v":0},{"$f":"AE15/(AG4-AE25)","v":0},{"$f":"IF(AF15=0,0,(AF15*((LOG(AF15))/LOG(2))))","v":0},null,{"$f":"N15","v":12111},{"$f":"COUNTIF(L101:L131,AI15)","v":0},{"$f":"AJ15/(AL4-AJ25)","v":0},{"$f":"IF(AK15=0,0,(AK15*((LOG(AK15))/LOG(2))))","v":0},null,{"$f":"N15","v":12111},{"$f":"COUNTIF(L132:L163,AN15)","v":0},{"$f":"AO15/(AQ4-AO25)","v":0},{"$f":"IF(AP15=0,0,(AP15*((LOG(AP15))/LOG(2))))","v":0},null,{"$f":"N15","v":12111},{"$f":"COUNTIF(L164:L194,AS15)","v":0},{"$f":"AT15/(AV4-AT25)","v":0},{"$f":"IF(AU15=0,0,(AU15*((LOG(AU15))/LOG(2))))","v":0}]
[12,1136,13,1141,13,1146,14,1150,13,1154,0,11111,null,12112,{"$f":"COUNTIF($L$7:$L$500,N16)","v":0},{"$f":"O16/$Q$4","v":0},{"$f":"IF(P16=0,0,(P16*((LOG(P16))/LOG(2))))","v":0},null,null,{"$f":"N16","v":12112},{"$f":"COUNTIF(L7:L37,T16)","v":0},{"$f":"U16/(W4-U25)","v":0},{"$f":"IF(V16=0,0,(V16*((LOG(V16))/LOG(2))))","v":0},null,{"$f":"N16","v":12112},{"$f":"COUNTIF(L38:L69,Y16)","v":0},{"$f":"Z16/(AB4-Z25)","v":0},{"$f":"IF(AA16=0,0,(AA16*((LOG(AA16))/LOG(2))))","v":0},null,{"$f":"N16","v":12112},{"$f":"COUNTIF(L70:L100,AD16)","v":0},{"$f":"AE16/(AG4-AE25)","v":0},{"$f":"IF(AF16=0,0,(AF16*((LOG(AF16))/LOG(2))))","v":0},null,{"$f":"N16","v":12112},{"$f":"COUNTIF(L101:L131,AI16)","v":0},{"$f":"AJ16/(AL4-AJ25)","v":0},{"$f":"IF(AK16=0,0,(AK16*((LOG(AK16))/LOG(2))))","v":0},null,{"$f":"N16","v":12112},{"$f":"COUNTIF(L132:L163,AN16)","v":0},{"$f":"AO16/(AQ4-AO25)","v":0},{"$f":"IF(AP16=0,0,(AP16*((LOG(AP16))/LOG(2))))","v":0},null,{"$f":"N16","v":12112},{"$f":"COUNTIF(L164:L194,AS16)","v":0},{"$f":"AT16/(AV4-AT25)","v":0},{"$f":"IF(AU16=0,0,(AU16*((LOG(AU16))/LOG(2))))","v":0}]
[12,1265,13,1269,13,1273,14,1278,13,1283,0,11111,null,12121,{"$f":"COUNTIF($L$7:$L$500,N17)","v":0},{"$f":"O17/$Q$4","v":0},{"$f":"IF(P17=0,0,(P17*((LOG(P17))/LOG(2))))","v":0},null,null,{"$f":"N17","v":12121},{"$f":"COUNTIF(L7:L37,T17)","v":0},{"$f":"U17/(W4-U25)","v":0},{"$f":"IF(V17=0,0,(V17*((LOG(V17))/LOG(2))))","v":0},null,{"$f":"N17","v":12121},{"$f":"COUNTIF(L38:L69,Y17)","v":0},{"$f":"Z17/(AB4-Z25)","v":0},{"$f":"IF(AA17=0,0,(AA17*((LOG(AA17))/LOG(2))))","v":0},null,{"$f":"N17","v":12121},{"$f":"COUNTIF(L70:L100,AD17)","v":0},{"$f":"AE17/(AG4-AE25)","v":0},{"$f":"IF(AF17=0,0,(AF17*((LOG(AF17))/LOG(2))))","v":0},null,{"$f":"N17","v":12121},{"$f":"COUNTIF(L101:L131,AI17)","v":0},{"$f":"AJ17/(AL4-AJ25)","v":0},{"$f":"IF(AK17=0,0,(AK17*((LOG(AK17))/LOG(2))))","v":0},null,{"$f":"N17","v":12121},{"$f":"COUNTIF(L132:L163,AN17)","v":0},{"$f":"AO17/(AQ4-AO25)","v":0},{"$f":"IF(AP17=0,0,(AP17*((LOG(AP17))/LOG(2))))","v":0},null,{"$f":"N17","v":12121},{"$f":"COUNTIF(L164:L194,AS17)","v":0},{"$f":"AT17/(AV4-AT25)","v":0},{"$f":"IF(AU17=0,0,(AU17*((LOG(AU17))/LOG(2))))","v":0}]
[12,1387,13,1391,13,1396,14,1400,13,1404,1,11111,null,12122,{"$f":"COUNTIF($L$7:$L$500,N18)","v":0},{"$f":"O18/$Q$4","v":0},{"$f":"IF(P18=0,0,(P18*((LOG(P18))/LOG(2))))","v":0},null,null,{"$f":"N18","v":12122},{"$f":"COUNTIF(L7:L37,T18)","v":0},{"$f":"U18/(W4-U25)","v":0},{"$f":"IF(V18=0,0,(V18*((LOG(V18))/LOG(2))))","v":0},null,{"$f":"N18","v":12122},{"$f":"COUNTIF(L38:L69,Y18)","v":0},{"$f":"Z18/(AB4-Z25)","v":0},{"$f":"IF(AA18=0,0,(AA18*((LOG(AA18))/LOG(2))))","v":0},null,{"$f":"N18","v":12122},{"$f":"COUNTIF(L70:L100,AD18)","v":0},{"$f":"AE18/(AG4-AE25)","v":0},{"$f":"IF(AF18=0,0,(AF18*((LOG(AF18))/LOG(2))))","v":0},null,{"$f":"N18","v":12122},{"$f":"COUNTIF(L101:L131,AI18)","v":0},{"$f":"AJ18/(AL4-AJ25)","v":0},{"$f":"IF(AK18=0,0,(AK18*((LOG(AK18))/LOG(2))))","v":0},null,{"$f":"N18","v":12122},{"$f":"COUNTIF(L132:L163,AN18)","v":0},{"$f":"AO18/(AQ4-AO25)","v":0},{"$f":"IF(AP18=0,0,(AP18*((LOG(AP18))/LOG(2))))","v":0},null,{"$f":"N18","v":12122},{"$f":"COUNTIF(L164:L194,AS18)","v":0},{"$f":"AT18/(AV4-AT25)","v":0},{"$f":"IF(AU18=0,0,(AU18*((LOG(AU18))/LOG(2))))","v":0}]
[12,1509,13,1514,13,1518,14,1522,13,1527,0,11111,null,12211,{"$f":"COUNTIF($L$7:$L$500,N19)","v":0},{"$f":"O19/$Q$4","v":0},{"$f":"IF(P19=0,0,(P19*((LOG(P19))/LOG(2))))","v":0},null,null,{"$f":"N19","v":12211},{"$f":"COUNTIF(L7:L37,T19)","v":0},{"$f":"U19/(W4-U25)","v":0},{"$f":"IF(V19=0,0,(V19*((LOG(V19))/LOG(2))))","v":0},null,{"$f":"N19","v":12211},{"$f":"COUNTIF(L38:L69,Y19)","v":0},{"$f":"Z19/(AB4-Z25)","v":0},{"$f":"IF(AA19=0,0,(AA19*((LOG(AA19))/LOG(2))))","v":0},null,{"$f":"N19","v":12211},{"$f":"COUNTIF(L70:L100,AD19)","v":0},{"$f":"AE19/(AG4-AE25)","v":0},{"$f":"IF(AF19=0,0,(AF19*((LOG(AF19))/LOG(2))))","v":0},null,{"$f":"N19","v":12211},{"$f":"COUNTIF(L101:L131,AI19)","v":0},{"$f":"AJ19/(AL4-AJ25)","v":0},{"$f":"IF(AK19=0,0,(AK19*((LOG(AK19))/LOG(2))))","v":0},null,{"$f":"N19","v":12211},{"$f":"COUNTIF(L132:L163,AN19)","v":0},{"$f":"AO19/(AQ4-AO25)","v":0},{"$f":"IF(AP19=0,0,(AP19*((LOG(AP19))/LOG(2))))","v":0},null,{"$f":"N19","v":12211},{"$f":"COUNTIF(L164:L194,AS19)","v":0},{"$f":"AT19/(AV4-AT25)","v":0},{"$f":"IF(AU19=0,0,(AU19*((LOG(AU19))/LOG(2))))","v":0}]
[12,1626,13,1631,13,1635,14,1639,13,1644,0,11111,null,12212,{"$f":"COUNTIF($L$7:$L$500,N20)","v":0},{"$f":"O20/$Q$4","v":0},{"$f":"IF(P20=0,0,(P20*((LOG(P20))/LOG(2))))","v":0},null,null,{"$f":"N20","v":12212},{"$f":"COUNTIF(L7:L37,T20)","v":0},{"$f":"U20/(W4-U25)","v":0},{"$f":"IF(V20=0,0,(V20*((LOG(V20))/LOG(2))))","v":0},null,{"$f":"N20","v":12212},{"$f":"COUNTIF(L38:L69,Y20)","v":0},{"$f":"Z20/(AB4-Z25)","v":0},{"$f":"IF(AA20=0,0,(AA20*((LOG(AA20))/LOG(2))))","v":0},null,{"$f":"N20","v":12212},{"$f":"COUNTIF(L70:L100,AD20)","v":0},{"$f":"AE20/(AG4-AE25)","v":0},{"$f":"IF(AF20=0,0,(AF20*((LOG(AF20))/LOG(2))))","v":0},null,{"$f":"N20","v":12212},{"$f":"COUNTIF(L101:L131,AI20)","v":0},{"$f":"AJ20/(AL4-AJ25)","v":0},{"$f":"IF(AK20=0,0,(AK20*((LOG(AK20))/LOG(2))))","v":0},null,{"$f":"N20","v":12212},{"$f":"COUNTIF(L132:L163,AN20)","v":0},{"$f":"AO20/(AQ4-AO25)","v":0},{"$f":"IF(AP20=0,0,(AP20*((LOG(AP20))/LOG(2))))","v":0},null,{"$f":"N20","v":12212},{"$f":"COUNTIF(L164:L194,AS20)","v":0},{"$f":"AT20/(AV4-AT25)","v":0},{"$f":"IF(AU20=0,0,(AU20*((LOG(AU20))/LOG(2))))","v":0}]
[12,1755,13,1760,13,1771,14,1775,13,1782,1,11111,null,12221,{"$f":"COUNTIF($L$7:$L$500,N21)","v":0},{"$f":"O21/$Q$4","v":0},{"$f":"IF(P21=0,0,(P21*((LOG(P21))/LOG(2))))","v":0},null,null,{"$f":"N21","v":12221},{"$f":"COUNTIF(L7:L37,T21)","v":0},{"$f":"U21/(W4-U25)","v":0},{"$f":"IF(V21=0,0,(V21*((LOG(V21))/LOG(2))))","v":0},null,{"$f":"N21","v":12221},{"$f":"COUNTIF(L38:L69,Y21)","v":0},{"$f":"Z21/(AB4-Z25)","v":0},{"$f":"IF(AA21=0,0,(AA21*((LOG(AA21))/LOG(2))))","v":0},null,{"$f":"N21","v":12221},{"$f":"COUNTIF(L70:L100,AD21)","v":0},{"$f":"AE21/(AG4-AE25)","v":0},{"$f":"IF(AF21=0,0,(AF21*((LOG(AF21))/LOG(2))))","v":0},null,{"$f":"N21","v":12221},{"$f":"COUNTIF(L101:L131,AI21)","v":0},{"$f":"AJ21/(AL4-AJ25)","v":0},{"$f":"IF(AK21=0,0,(AK21*((LOG(AK21))/LOG(2))))","v":0},null,{"$f":"N21","v":12221},{"$f":"COUNTIF(L132:L163,AN21)","v":0},{"$f":"AO21/(AQ4-AO25)","v":0},{"$f":"IF(AP21=0,0,(AP21*((LOG(AP21))/LOG(2))))","v":0},null,{"$f":"N21","v":12221},{"$f":"COUNTIF(L164:L194,AS21)","v":0},{"$f":"AT21/(AV4-AT25)","v":0},{"$f":"IF(AU21=0,0,(AU21*((LOG(AU21))/LOG(2))))","v":0}]
[12,1882,13,1899,13,1903,14,1911,13,1917,0,11111,null,12222,{"$f":"COUNTIF($L$7:$L$500,N22)","v":0},{"$f":"O22/$Q$4","v":0},{"$f":"IF(P22=0,0,(P22*((LOG(P22))/LOG(2))))","v":0},null,null,{"$f":"N22","v":12222},{"$f":"COUNTIF(L7:L37,T22)","v":0},{"$f":"U22/(W4-U25)","v":0},{"$f":"IF(V22=0,0,(V22*((LOG(V22))/LOG(2))))","v":0},null,{"$f":"N22","v":12222},{"$f":"COUNTIF(L38:L69,Y22)","v":0},{"$f":"Z22/(AB4-Z25)","v":0},{"$f":"IF(AA22=0,0,(AA22*((LOG(AA22))/LOG(2))))","v":0},null,{"$f":"N22","v":12222},{"$f":"COUNTIF(L70:L100,AD22)","v":0},{"$f":"AE22/(AG4-AE25)","v":0},{"$f":"IF(AF22=0,0,(AF22*((LOG(AF22))/LOG(2))))","v":0},null,{"$f":"N22","v":12222},{"$f":"COUNTIF(L101:L131,AI22)","v":0},{"$f":"AJ22/(AL4-AJ25)","v":0},{"$f":"IF(AK22=0,0,(AK22*((LOG(AK22))/LOG(2))))","v":0},null,{"$f":"N22","v":12222},{"$f":"COUNTIF(L132:L163,AN22)","v":0},{"$f":"AO22/(AQ4-AO25)","v":0},{"$f":"IF(AP22=0,0,(AP22*((LOG(AP22))/LOG(2))))","v":0},null,{"$f":"N22","v":12222},{"$f":"COUNTIF(L164:L194,AS22)","v":0},{"$f":"AT22/(AV4-AT25)","v":0},{"$f":"IF(AU22=0,0,(AU22*((LOG(AU22))/LOG(2))))","v":0}]
[12,2017,13,2021,13,2026,14,2030,13,2038,0,11111,null,21111,{"$f":"COUNTIF($L$7:$L$500,N23)","v":0},{"$f":"O23/$Q$4","v":0},{"$f":"IF(P23=0,0,(P23*((LOG(P23))/LOG(2))))","v":0},null,null,{"$f":"N23","v":21111},{"$f":"COUNTIF(L7:L37,T23)","v":0},{"$f":"U23/(W4-U25)","v":0},{"$f":"IF(V23=0,0,(V23*((LOG(V23))/LOG(2))))","v":0},null,{"$f":"N23","v":21111},{"$f":"COUNTIF(L38:L69,Y23)","v":0},{"$f":"Z23/(AB4-Z25)","v":0},{"$f":"IF(AA23=0,0,(AA23*((LOG(AA23))/LOG(2))))","v":0},null,{"$f":"N23","v":21111},{"$f":"COUNTIF(L70:L100,AD23)","v":0},{"$f":"AE23/(AG4-AE25)","v":0},{"$f":"IF(AF23=0,0,(AF23*((LOG(AF23))/LOG(2))))","v":0},null,{"$f":"N23","v":21111},{"$f":"COUNTIF(L101:L131,AI23)","v":0},{"$f":"AJ23/(AL4-AJ25)","v":0},{"$f":"IF(AK23=0,0,(AK23*((LOG(AK23))/LOG(2))))","v":0},null,{"$f":"N23","v":21111},{"$f":"COUNTIF(L132:L163,AN23)","v":0},{"$f":"AO23/(AQ4-AO25)","v":0},{"$f":"IF(AP23=0,0,(AP23*((LOG(AP23))/LOG(2))))","v":0},null,{"$f":"N23","v":21111},{"$f":"COUNTIF(L164:L194,AS23)","v":0},{"$f":"AT23/(AV4-AT25)","v":0},{"$f":"IF(AU23=0,0,(AU23*((LOG(AU23))/LOG(2))))","v":0}]
[12,2165,13,2169,13,2174,14,2179,13,2185,0,11111,null,21112,{"$f":"COUNTIF($L$7:$L$500,N24)","v":0},{"$f":"O24/$Q$4","v":0},{"$f":"IF(P24=0,0,(P24*((LOG(P24))/LOG(2))))","v":0},null,null,{"$f":"N24","v":21112},{"$f":"COUNTIF(L7:L37,T24)","v":0},{"$f":"U24/(W4-U25)","v":0},{"$f":"IF(V24=0,0,(V24*((LOG(V24))/LOG(2))))","v":0},null,{"$f":"N24","v":21112},{"$f":"COUNTIF(L38:L69,Y24)","v":0},{"$f":"Z24/(AB4-Z25)","v":0},{"$f":"IF(AA24=0,0,(AA24*((LOG(AA24))/LOG(2))))","v":0},null,{"$f":"N24","v":21112},{"$f":"COUNTIF(L70:L100,AD24)","v":0},{"$f":"AE24/(AG4-AE25)","v":0},{"$f":"IF(AF24=0,0,(AF24*((LOG(AF24))/LOG(2))))","v":0},null,{"$f":"N24","v":21112},{"$f":"COUNTIF(L101:L131,AI24)","v":0},{"$f":"AJ24/(AL4-AJ25)","v":0},{"$f":"IF(AK24=0,0,(AK24*((LOG(AK24))/LOG(2))))","v":0},null,{"$f":"N24","v":21112},{"$f":"COUNTIF(L132:L163,AN24)","v":0},{"$f":"AO24/(AQ4-AO25)","v":0},{"$f":"IF(AP24=0,0,(AP24*((LOG(AP24))/LOG(2))))","v":0},null,{"$f":"N24","v":21112},{"$f":"COUNTIF(L164:L194,AS24)","v":0},{"$f":"AT24/(AV4-AT25)","v":0},{"$f":"IF(AU24=0,0,(AU24*((LOG(AU24))/LOG(2))))","v":0}]
[12,2286,13,2291,13,2295,14,2303,13,2311,0,11111,null,21121,{"$f":"COUNTIF($L$7:$L$500,N25)","v":0},{"$f":"O25/$Q$4","v":0},{"$f":"IF(P25=0,0,(P25*((LOG(P25))/LOG(2))))","v":0},null,null,{"$f":"N25","v":21121},{"$f":"COUNTIF(L7:L37,T25)","v":0},null,null,null,{"$f":"N25","v":21121},{"$f":"COUNTIF(L38:L69,Y25)","v":0},null,null,null,{"$f":"N25","v":21121},{"$f":"COUNTIF(L70:L100,AD25)","v":0},null,null,null,{"$f":"N25","v":21121},{"$f":"COUNTIF(L101:L131,AI25)","v":0},null,null,null,{"$f":"N25","v":21121},{"$f":"COUNTIF(L132:L163,AN25)","v":0},null,null,null,{"$f":"N25","v":21121},{"$f":"COUNTIF(L164:L194,AS25)","v":0}]
[12,2432,13,2437,13,2441,14,2445,13,2453,0,11111,null,21122,{"$f":"COUNTIF($L$7:$L$500,N26)","v":0},{"$f":"O26/$Q$4","v":0},{"$f":"IF(P26=0,0,(P26*((LOG(P26))/LOG(2))))","v":0},null,null,{"$f":"N26","v":21122},{"$f":"COUNTIF(L7:L37,T26)","v":0},{"$f":"U26/(W4-U25)","v":0},{"$f":"IF(V26=0,0,(V26*((LOG(V26))/LOG(2))))","v":0},null,{"$f":"N26","v":21122},{"$f":"COUNTIF(L38:L69,Y26)","v":0},{"$f":"Z26/(AB4-Z25)","v":0},{"$f":"IF(AA26=0,0,(AA26*((LOG(AA26))/LOG(2))))","v":0},null,{"$f":"N26","v":21122},{"$f":"COUNTIF(L70:L100,AD26)","v":0},{"$f":"AE26/(AG4-AE25)","v":0},{"$f":"IF(AF26=0,0,(AF26*((LOG(AF26))/LOG(2))))","v":0},null,{"$f":"N26","v":21122},{"$f":"COUNTIF(L101:L131,AI26)","v":0},{"$f":"AJ26/(AL4-AJ25)","v":0},{"$f":"IF(AK26=0,0,(AK26*((LOG(AK26))/LOG(2))))","v":0},null,{"$f":"N26","v":21122},{"$f":"COUNTIF(L132:L163,AN26)","v":0},{"$f":"AO26/(AQ4-AO25)","v":0},{"$f":"IF(AP26=0,0,(AP26*((LOG(AP26))/LOG(2))))","v":0},null,{"$f":"N26","v":21122},{"$f":"COUNTIF(L164:L194,AS26)","v":0},{"$f":"AT26/(AV4-AT25)","v":0},{"$f":"IF(AU26=0,0,(AU26*((LOG(AU26))/LOG(2))))","v":0}]
[12,2564,13,2568,13,2572,14,2579,13,2584,1,11111,null,21211,{"$f":"COUNTIF($L$7:$L$500,N27)","v":0},{"$f":"O27/$Q$4","v":0},{"$f":"IF(P27=0,0,(P27*((LOG(P27))/LOG(2))))","v":0},null,null,{"$f":"N27","v":21211},{"$f":"COUNTIF(L7:L37,T27)","v":0},{"$f":"U27/(W4-U25)","v":0},{"$f":"IF(V27=0,0,(V27*((LOG(V27))/LOG(2))))","v":0},null,{"$f":"N27","v":21211},{"$f":"COUNTIF(L38:L69,Y27)","v":0},{"$f":"Z27/(AB4-Z25)","v":0},{"$f":"IF(AA27=0,0,(AA27*((LOG(AA27))/LOG(2))))","v":0},null,{"$f":"N27","v":21211},{"$f":"COUNTIF(L70:L100,AD27)","v":0},{"$f":"AE27/(AG4-AE25)","v":0},{"$f":"IF(AF27=0,0,(AF27*((LOG(AF27))/LOG(2))))","v":0},null,{"$f":"N27","v":21211},{"$f":"COUNTIF(L101:L131,AI27)","v":0},{"$f":"AJ27/(AL4-AJ25)","v":0},{"$f":"IF(AK27=0,0,(AK27*((LOG(AK27))/LOG(2))))","v":0},null,{"$f":"N27","v":21211},{"$f":"COUNTIF(L132:L163,AN27)","v":0},{"$f":"AO27/(AQ4-AO25)","v":0},{"$f":"IF(AP27=0,0,(AP27*((LOG(AP27))/LOG(2))))","v":0},null,{"$f":"N27","v":21211},{"$f":"COUNTIF(L164:L194,AS27)","v":0},{"$f":"AT27/(AV4-AT25)","v":0},{"$f":"IF(AU27=0,0,(AU27*((LOG(AU27))/LOG(2))))","v":0}]
[12,2681,13,2686,13,2690,14,2694,13,2702,0,11111,null,21212,{"$f":"COUNTIF($L$7:$L$500,N28)","v":0},{"$f":"O28/$Q$4","v":0},{"$f":"IF(P28=0,0,(P28*((LOG(P28))/LOG(2))))","v":0},null,null,{"$f":"N28","v":21212},{"$f":"COUNTIF(L7:L37,T28)","v":0},{"$f":"U28/(W4-U25)","v":0},{"$f":"IF(V28=0,0,(V28*((LOG(V28))/LOG(2))))","v":0},null,{"$f":"N28","v":21212},{"$f":"COUNTIF(L38:L69,Y28)","v":0},{"$f":"Z28/(AB4-Z25)","v":0},{"$f":"IF(AA28=0,0,(AA28*((LOG(AA28))/LOG(2))))","v":0},null,{"$f":"N28","v":21212},{"$f":"COUNTIF(L70:L100,AD28)","v":0},{"$f":"AE28/(AG4-AE25)","v":0},{"$f":"IF(AF28=0,0,(AF28*((LOG(AF28))/LOG(2))))","v":0},null,{"$f":"N28","v":21212},{"$f":"COUNTIF(L101:L131,AI28)","v":0},{"$f":"AJ28/(AL4-AJ25)","v":0},{"$f":"IF(AK28=0,0,(AK28*((LOG(AK28))/LOG(2))))","v":0},null,{"$f":"N28","v":21212},{"$f":"COUNTIF(L132:L163,AN28)","v":0},{"$f":"AO28/(AQ4-AO25)","v":0},{"$f":"IF(AP28=0,0,(AP28*((LOG(AP28))/LOG(2))))","v":0},null,{"$f":"N28","v":21212},{"$f":"COUNTIF(L164:L194,AS28)","v":0},{"$f":"AT28/(AV4-AT25)","v":0},{"$f":"IF(AU28=0,0,(AU28*((LOG(AU28))/LOG(2))))","v":0}]
[12,2808,13,2813,13,2817,14,2821,13,2825,0,11111,null,21221,{"$f":"COUNTIF($L$7:$L$500,N29)","v":0},{"$f":"O29/$Q$4","v":0},{"$f":"IF(P29=0,0,(P29*((LOG(P29))/LOG(2))))","v":0},null,null,{"$f":"N29","v":21221},{"$f":"COUNTIF(L7:L37,T29)","v":0},{"$f":"U29/(W4-U25)","v":0},{"$f":"IF(V29=0,0,(V29*((LOG(V29))/LOG(2))))","v":0},null,{"$f":"N29","v":21221},{"$f":"COUNTIF(L38:L69,Y29)","v":0},{"$f":"Z29/(AB4-Z25)","v":0},{"$f":"IF(AA29=0,0,(AA29*((LOG(AA29))/LOG(2))))","v":0},null,{"$f":"N29","v":21221},{"$f":"COUNTIF(L70:L100,AD29)","v":0},{"$f":"AE29/(AG4-AE25)","v":0},{"$f":"IF(AF29=0,0,(AF29*((LOG(AF29))/LOG(2))))","v":0},null,{"$f":"N29","v":21221},{"$f":"COUNTIF(L101:L131,AI29)","v":0},{"$f":"AJ29/(AL4-AJ25)","v":0},{"$f":"IF(AK29=0,0,(AK29*((LOG(AK29))/LOG(2))))","v":0},null,{"$f":"N29","v":21221},{"$f":"COUNTIF(L132:L163,AN29)","v":0},{"$f":"AO29/(AQ4-AO25)","v":0},{"$f":"IF(AP29=0,0,(AP29*((LOG(AP29))/LOG(2))))","v":0},null,{"$f":"N29","v":21221},{"$f":"COUNTIF(L164:L194,AS29)","v":0},{"$f":"AT29/(AV4-AT25)","v":0},{"$f":"IF(AU29=0,0,(AU29*((LOG(AU29))/LOG(2))))","v":0}]
[12,2932,13,2936,13,2940,14,2944,13,2949,0,11111,null,21222,{"$f":"COUNTIF($L$7:$L$500,N30)","v":0},{"$f":"O30/$Q$4","v":0},{"$f":"IF(P30=0,0,(P30*((LOG(P30))/LOG(2))))","v":0},null,null,{"$f":"N30","v":21222},{"$f":"COUNTIF(L7:L37,T30)","v":0},{"$f":"U30/(W4-U25)","v":0},{"$f":"IF(V30=0,0,(V30*((LOG(V30))/LOG(2))))","v":0},null,{"$f":"N30","v":21222},{"$f":"COUNTIF(L38:L69,Y30)","v":0},{"$f":"Z30/(AB4-Z25)","v":0},{"$f":"IF(AA30=0,0,(AA30*((LOG(AA30))/LOG(2))))","v":0},null,{"$f":"N30","v":21222},{"$f":"COUNTIF(L70:L100,AD30)","v":0},{"$f":"AE30/(AG4-AE25)","v":0},{"$f":"IF(AF30=0,0,(AF30*((LOG(AF30))/LOG(2))))","v":0},null,{"$f":"N30","v":21222},{"$f":"COUNTIF(L101:L131,AI30)","v":0},{"$f":"AJ30/(AL4-AJ25)","v":0},{"$f":"IF(AK30=0,0,(AK30*((LOG(AK30))/LOG(2))))","v":0},null,{"$f":"N30","v":21222},{"$f":"COUNTIF(L132:L163,AN30)","v":0},{"$f":"AO30/(AQ4-AO25)","v":0},{"$f":"IF(AP30=0,0,(AP30*((LOG(AP30))/LOG(2))))","v":0},null,{"$f":"N30","v":21222},{"$f":"COUNTIF(L164:L194,AS30)","v":0},{"$f":"AT30/(AV4-AT25)","v":0},{"$f":"IF(AU30=0,0,(AU30*((LOG(AU30))/LOG(2))))","v":0}]
[12,3051,13,3056,13,3060,14,3064,13,3069,0,11111,null,22111,{"$f":"COUNTIF($L$7:$L$500,N31)","v":0},{"$f":"O31/$Q$4","v":0},{"$f":"IF(P31=0,0,(P31*((LOG(P31))/LOG(2))))","v":0},null,null,{"$f":"N31","v":22111},{"$f":"COUNTIF(L7:L37,T31)","v":0},{"$f":"U31/(W4-U25)","v":0},{"$f":"IF(V31=0,0,(V31*((LOG(V31))/LOG(2))))","v":0},null,{"$f":"N31","v":22111},{"$f":"COUNTIF(L38:L69,Y31)","v":0},{"$f":"Z31/(AB4-Z25)","v":0},{"$f":"IF(AA31=0,0,(AA31*((LOG(AA31))/LOG(2))))","v":0},null,{"$f":"N31","v":22111},{"$f":"COUNTIF(L70:L100,AD31)","v":0},{"$f":"AE31/(AG4-AE25)","v":0},{"$f":"IF(AF31=0,0,(AF31*((LOG(AF31))/LOG(2))))","v":0},null,{"$f":"N31","v":22111},{"$f":"COUNTIF(L101:L131,AI31)","v":0},{"$f":"AJ31/(AL4-AJ25)","v":0},{"$f":"IF(AK31=0,0,(AK31*((LOG(AK31))/LOG(2))))","v":0},null,{"$f":"N31","v":22111},{"$f":"COUNTIF(L132:L163,AN31)","v":0},{"$f":"AO31/(AQ4-AO25)","v":0},{"$f":"IF(AP31=0,0,(AP31*((LOG(AP31))/LOG(2))))","v":0},null,{"$f":"N31","v":22111},{"$f":"COUNTIF(L164:L194,AS31)","v":0},{"$f":"AT31/(AV4-AT25)","v":0},{"$f":"IF(AU31=0,0,(AU31*((LOG(AU31))/LOG(2))))","v":0}]
[12,3172,13,3180,13,3184,14,3188,13,3209,0,11111,null,22112,{"$f":"COUNTIF($L$7:$L$500,N32)","v":0},{"$f":"O32/$Q$4","v":0},{"$f":"IF(P32=0,0,(P32*((LOG(P32))/LOG(2))))","v":0},null,null,{"$f":"N32","v":22112},{"$f":"COUNTIF(L7:L37,T32)","v":0},{"$f":"U32/(W4-U25)","v":0},{"$f":"IF(V32=0,0,(V32*((LOG(V32))/LOG(2))))","v":0},null,{"$f":"N32","v":22112},{"$f":"COUNTIF(L38:L69,Y32)","v":0},{"$f":"Z32/(AB4-Z25)","v":0},{"$f":"IF(AA32=0,0,(AA32*((LOG(AA32))/LOG(2))))","v":0},null,{"$f":"N32","v":22112},{"$f":"COUNTIF(L70:L100,AD32)","v":0},{"$f":"AE32/(AG4-AE25)","v":0},{"$f":"IF(AF32=0,0,(AF32*((LOG(AF32))/LOG(2))))","v":0},null,{"$f":"N32","v":22112},{"$f":"COUNTIF(L101:L131,AI32)","v":0},{"$f":"AJ32/(AL4-AJ25)","v":0},{"$f":"IF(AK32=0,0,(AK32*((LOG(AK32))/LOG(2))))","v":0},null,{"$f":"N32","v":22112},{"$f":"COUNTIF(L132:L163,AN32)","v":0},{"$f":"AO32/(AQ4-AO25)","v":0},{"$f":"IF(AP32=0,0,(AP32*((LOG(AP32))/LOG(2))))","v":0},null,{"$f":"N32","v":22112},{"$f":"COUNTIF(L164:L194,AS32)","v":0},{"$f":"AT32/(AV4-AT25)","v":0},{"$f":"IF(AU32=0,0,(AU32*((LOG(AU32))/LOG(2))))","v":0}]
[12,3316,13,3320,13,3324,14,3332,13,3337,0,11111,null,22121,{"$f":"COUNTIF($L$7:$L$500,N33)","v":0},{"$f":"O33/$Q$4","v":0},{"$f":"IF(P33=0,0,(P33*((LOG(P33))/LOG(2))))","v":0},null,null,{"$f":"N33","v":22121},{"$f":"COUNTIF(L7:L37,T33)","v":0},{"$f":"U33/(W4-U25)","v":0},{"$f":"IF(V33=0,0,(V33*((LOG(V33))/LOG(2))))","v":0},null,{"$f":"N33","v":22121},{"$f":"COUNTIF(L38:L69,Y33)","v":0},{"$f":"Z33/(AB4-Z25)","v":0},{"$f":"IF(AA33=0,0,(AA33*((LOG(AA33))/LOG(2))))","v":0},null,{"$f":"N33","v":22121},{"$f":"COUNTIF(L70:L100,AD33)","v":0},{"$f":"AE33/(AG4-AE25)","v":0},{"$f":"IF(AF33=0,0,(AF33*((LOG(AF33))/LOG(2))))","v":0},null,{"$f":"N33","v":22121},{"$f":"COUNTIF(L101:L131,AI33)","v":0},{"$f":"AJ33/(AL4-AJ25)","v":0},{"$f":"IF(AK33=0,0,(AK33*((LOG(AK33))/LOG(2))))","v":0},null,{"$f":"N33","v":22121},{"$f":"COUNTIF(L132:L163,AN33)","v":0},{"$f":"AO33/(AQ4-AO25)","v":0},{"$f":"IF(AP33=0,0,(AP33*((LOG(AP33))/LOG(2))))","v":0},null,{"$f":"N33","v":22121},{"$f":"COUNTIF(L164:L194,AS33)","v":0},{"$f":"AT33/(AV4-AT25)","v":0},{"$f":"IF(AU33=0,0,(AU33*((LOG(AU33))/LOG(2))))","v":0}]
[12,3437,13,3442,13,3446,14,3459,13,3463,1,11111,null,22122,{"$f":"COUNTIF($L$7:$L$500,N34)","v":0},{"$f":"O34/$Q$4","v":0},{"$f":"IF(P34=0,0,(P34*((LOG(P34))/LOG(2))))","v":0},null,null,{"$f":"N34","v":22122},{"$f":"COUNTIF(L7:L37,T34)","v":0},{"$f":"U34/(W4-U25)","v":0},{"$f":"IF(V34=0,0,(V34*((LOG(V34))/LOG(2))))","v":0},null,{"$f":"N34","v":22122},{"$f":"COUNTIF(L38:L69,Y34)","v":0},{"$f":"Z34/(AB4-Z25)","v":0},{"$f":"IF(AA34=0,0,(AA34*((LOG(AA34))/LOG(2))))","v":0},null,{"$f":"N34","v":22122},{"$f":"COUNTIF(L70:L100,AD34)","v":0},{"$f":"AE34/(AG4-AE25)","v":0},{"$f":"IF(AF34=0,0,(AF34*((LOG(AF34))/LOG(2))))","v":0},null,{"$f":"N34","v":22122},{"$f":"COUNTIF(L101:L131,AI34)","v":0},{"$f":"AJ34/(AL4-AJ25)","v":0},{"$f":"IF(AK34=0,0,(AK34*((LOG(AK34))/LOG(2))))","v":0},null,{"$f":"N34","v":22122},{"$f":"COUNTIF(L132:L163,AN34)","v":0},{"$f":"AO34/(AQ4-AO25)","v":0},{"$f":"IF(AP34=0,0,(AP34*((LOG(AP34))/LOG(2))))","v":0},null,{"$f":"N34","v":22122},{"$f":"COUNTIF(L164:L194,AS34)","v":0},{"$f":"AT34/(AV4-AT25)","v":0},{"$f":"IF(AU34=0,0,(AU34*((LOG(AU34))/LOG(2))))","v":0}]
[12,3557,13,3561,13,3565,14,3570,13,3588,0,11111,null,22211,{"$f":"COUNTIF($L$7:$L$500,N35)","v":0},{"$f":"O35/$Q$4","v":0},{"$f":"IF(P35=0,0,(P35*((LOG(P35))/LOG(2))))","v":0},null,null,{"$f":"N35","v":22211},{"$f":"COUNTIF(L7:L37,T35)","v":0},{"$f":"U35/(W4-U25)","v":0},{"$f":"IF(V35=0,0,(V35*((LOG(V35))/LOG(2))))","v":0},null,{"$f":"N35","v":22211},{"$f":"COUNTIF(L38:L69,Y35)","v":0},{"$f":"Z35/(AB4-Z25)","v":0},{"$f":"IF(AA35=0,0,(AA35*((LOG(AA35))/LOG(2))))","v":0},null,{"$f":"N35","v":22211},{"$f":"COUNTIF(L70:L100,AD35)","v":0},{"$f":"AE35/(AG4-AE25)","v":0},{"$f":"IF(AF35=0,0,(AF35*((LOG(AF35))/LOG(2))))","v":0},null,{"$f":"N35","v":22211},{"$f":"COUNTIF(L101:L131,AI35)","v":0},{"$f":"AJ35/(AL4-AJ25)","v":0},{"$f":"IF(AK35=0,0,(AK35*((LOG(AK35))/LOG(2))))","v":0},null,{"$f":"N35","v":22211},{"$f":"COUNTIF(L132:L163,AN35)","v":0},{"$f":"AO35/(AQ4-AO25)","v":0},{"$f":"IF(AP35=0,0,(AP35*((LOG(AP35))/LOG(2))))","v":0},null,{"$f":"N35","v":22211},{"$f":"COUNTIF(L164:L194,AS35)","v":0},{"$f":"AT35/(AV4-AT25)","v":0},{"$f":"IF(AU35=0,0,(AU35*((LOG(AU35))/LOG(2))))","v":0}]
[12,3689,13,3693,13,3697,14,3707,13,3711,0,11111,null,22212,{"$f":"COUNTIF($L$7:$L$500,N36)","v":0},{"$f":"O36/$Q$4","v":0},{"$f":"IF(P36=0,0,(P36*((LOG(P36))/LOG(2))))","v":0},null,null,{"$f":"N36","v":22212},{"$f":"COUNTIF(L7:L37,T36)","v":0},{"$f":"U36/(W4-U25)","v":0},{"$f":"IF(V36=0,0,(V36*((LOG(V36))/LOG(2))))","v":0},null,{"$f":"N36","v":22212},{"$f":"COUNTIF(L38:L69,Y36)","v":0},{"$f":"Z36/(AB4-Z25)","v":0},{"$f":"IF(AA36=0,0,(AA36*((LOG(AA36))/LOG(2))))","v":0},null,{"$f":"N36","v":22212},{"$f":"COUNTIF(L70:L100,AD36)","v":0},{"$f":"AE36/(AG4-AE25)","v":0},{"$f":"IF(AF36=0,0,(AF36*((LOG(AF36))/LOG(2))))","v":0},null,{"$f":"N36","v":22212},{"$f":"COUNTIF(L101:L131,AI36)","v":0},{"$f":"AJ36/(AL4-AJ25)","v":0},{"$f":"IF(AK36=0,0,(AK36*((LOG(AK36))/LOG(2))))","v":0},null,{"$f":"N36","v":22212},{"$f":"COUNTIF(L132:L163,AN36)","v":0},{"$f":"AO36/(AQ4-AO25)","v":0},{"$f":"IF(AP36=0,0,(AP36*((LOG(AP36))/LOG(2))))","v":0},null,{"$f":"N36","v":22212},{"$f":"COUNTIF(L164:L194,AS36)","v":0},{"$f":"AT36/(AV4-AT25)","v":0},{"$f":"IF(AU36=0,0,(AU36*((LOG(AU36))/LOG(2))))","v":0}]
[12,3812,13,3817,13,3821,14,3825,13,3829,1,11111,null,22221,{"$f":"COUNTIF($L$7:$L$500,N37)","v":0},{"$f":"O37/$Q$4","v":0},{"$f":"IF(P37=0,0,(P37*((LOG(P37))/LOG(2))))","v":0},null,null,{"$f":"N37","v":22221},{"$f":"COUNTIF(L7:L37,T37)","v":0},{"$f":"U37/(W4-U25)","v":0},{"$f":"IF(V37=0,0,(V37*((LOG(V37))/LOG(2))))","v":0},null,{"$f":"N37","v":22221},{"$f":"COUNTIF(L38:L69,Y37)","v":0},{"$f":"Z37/(AB4-Z25)","v":0},{"$f":"IF(AA37=0,0,(AA37*((LOG(AA37))/LOG(2))))","v":0},null,{"$f":"N37","v":22221},{"$f":"COUNTIF(L70:L100,AD37)","v":0},{"$f":"AE37/(AG4-AE25)","v":0},{"$f":"IF(AF37=0,0,(AF37*((LOG(AF37))/LOG(2))))","v":0},null,{"$f":"N37","v":22221},{"$f":"COUNTIF(L101:L131,AI37)","v":0},{"$f":"AJ37/(AL4-AJ25)","v":0},{"$f":"IF(AK37=0,0,(AK37*((LOG(AK37))/LOG(2))))","v":0},null,{"$f":"N37","v":22221},{"$f":"COUNTIF(L132:L163,AN37)","v":0},{"$f":"AO37/(AQ4-AO25)","v":0},{"$f":"IF(AP37=0,0,(AP37*((LOG(AP37))/LOG(2))))","v":0},null,{"$f":"N37","v":22221},{"$f":"COUNTIF(L164:L194,AS37)","v":0},{"$f":"AT37/(AV4-AT25)","v":0},{"$f":"IF(AU37=0,0,(AU37*((LOG(AU37))/LOG(2))))","v":0}]
[12,3941,13,3946,13,3950,14,3954,13,3959,0,11111,null,22222,{"$f":"COUNTIF($L$7:$L$500,N38)","v":1},{"$f":"O38/$Q$4","v":5.3191489361702126E-3},{"$f":"IF(P38=0,0,(P38*((LOG(P38))/LOG(2))))","v":-4.0183983253604456E-2},null,null,{"$f":"N38","v":22222},{"$f":"COUNTIF(L7:L37,T38)","v":0},{"$f":"U38/(W4-U25)","v":0},{"$f":"IF(V38=0,0,(V38*((LOG(V38))/LOG(2))))","v":0},null,{"$f":"N38","v":22222},{"$f":"COUNTIF(L38:L69,Y38)","v":0},{"$f":"Z38/(AB4-Z25)","v":0},{"$f":"IF(AA38=0,0,(AA38*((LOG(AA38))/LOG(2))))","v":0},null,{"$f":"N38","v":22222},{"$f":"COUNTIF(L70:L100,AD38)","v":0},{"$f":"AE38/(AG4-AE25)","v":0},{"$f":"IF(AF38=0,0,(AF38*((LOG(AF38))/LOG(2))))","v":0},null,{"$f":"N38","v":22222},{"$f":"COUNTIF(L101:L131,AI38)","v":0},{"$f":"AJ38/(AL4-AJ25)","v":0},{"$f":"IF(AK38=0,0,(AK38*((LOG(AK38))/LOG(2))))","v":0},null,{"$f":"N38","v":22222},{"$f":"COUNTIF(L132:L163,AN38)","v":0},{"$f":"AO38/(AQ4-AO25)","v":0},{"$f":"IF(AP38=0,0,(AP38*((LOG(AP38))/LOG(2))))","v":0},null,{"$f":"N38","v":22222},{"$f":"COUNTIF(L164:L194,AS38)","v":1},{"$f":"AT38/(AV4-AT25)","v":3.2258064516129031E-2},{"$f":"IF(AU38=0,0,(AU38*((LOG(AU38))/LOG(2))))","v":-0.15981278420602821}]
[12,4065,13,4070,13,4074,14,4079,13,4083,0,11111,null,null,null,{"$f":"SUM(P7:P38)","v":1},{"$f":"-SUM(Q7:Q38)","v":4.7837447427700956E-2},null,null,null,null,{"$f":"SUM(V7:V38)","v":1},{"$f":"-SUM(W7:W38)","v":0},null,null,null,{"$f":"SUM(AA7:AA38)","v":1},{"$f":"-SUM(AB7:AB38)","v":0},null,null,null,{"$f":"SUM(AF7:AF38)","v":1},{"$f":"-SUM(AG7:AG38)","v":0},null,null,null,{"$f":"SUM(AK7:AK38)","v":1},{"$f":"-SUM(AL7:AL38)","v":0},null,null,null,{"$f":"SUM(AP7:AP38)","v":1},{"$f":"-SUM(AQ7:AQ38)","v":0},null,null,null,{"$f":"SUM(AU7:AU38)","v":1},{"$f":"-SUM(AV7:AV38)","v":0.20559250818508301}]
[12,4185,13,4189,13,4194,14,4199,13,4203,0,11111,null,null,null,"U=",{"$f":"Q39/(LOG(Q4)/LOG(2))","v":6.3322370504753219E-3},null,null,null,null,"U1=",{"$f":"W39/(LOG(W4)/LOG(2))","v":0},null,null,null,"U2=",{"$f":"AB39/(LOG(AB4)/LOG(2))","v":0},null,null,null,"U3=",{"$f":"AG39/(LOG(AG4)/LOG(2))","v":0},null,null,null,"U4=",{"$f":"AL39/(LOG(AL4)/LOG(2))","v":0},null,null,null,"U5=",{"$f":"AQ39/(LOG(AQ4)/LOG(2))","v":0},null,null,null,"U6=",{"$f":"AV39/(LOG(AV4)/LOG(2))","v":4.1498659985281898E-2}]
[12,4305,13,4310,13,4314,14,4318,13,4322,0,11111]
[12,4427,13,4432,13,4443,14,4448,13,4454,0,11111]
[12,4553,13,4557,13,4561,14,4565,13,4569,0,11111,null,"Total Target Seq"]
[12,4673,13,4678,13,4682,14,4686,13,4693,0,11111,null,{"$f":"COUNTIF(L7:L194,G3)","v":0},null,31,32,31,31,32,31]
[12,4789,13,4798,13,4802,14,4806,13,4810,1,11111,null,null,null,"% of reinforcement given in 6 equal intervals based on number of trials "]
[12,4918,13,4922,13,4927,14,4931,13,4936,0,11111,null,null,null,"%_1","%_2","%_3","%_4","%_5","%_6"]
[12,5044,13,5048,13,5052,14,5057,13,5065,0,11111,null,null,"target sequence",{"$f":"$G$3","v":21121},{"$f":"$G$3","v":21121},{"$f":"$G$3","v":21121},{"$f":"$G$3","v":21121},{"$f":"$G$3","v":21121},{"$f":"$G$3","v":21121}]
[12,5167,13,5171,13,5179,14,5189,13,5193,0,11111,null,null,"total reinforcement",{"$f":"U25","v":0},{"$f":"Z25","v":0},{"$f":"AE25","v":0},{"$f":"AJ25","v":0},{"$f":"AO25","v":0},{"$f":"AT25","v":0}]
[12,5296,13,5301,13,5305,14,5309,13,5313,0,11111,null,null,"% target"]
[12,5417,13,5421,13,5425,14,5429,13,5433,0,11111,null,null,"CCRF"]
[12,5532,13,5536,13,5540,14,5544,13,5548,1,11111,null,null,"% CCRf"]
[12,5651,13,5660,13,5671,14,5680,13,5685,1,11111,null,null,"average response rate",{"$f":"J37/P44","v":123.51612903225806},{"$f":"(J69-J37)/Q44","v":123.5625},{"$f":"(J100-J69)/R44","v":129.90322580645162},{"$f":"(J131-J100)/S44","v":132.41935483870967},{"$f":"(J163-J131)/T44","v":127.9375},{"$f":"(J194-J163)/U44","v":126.03225806451613}]
[12,5784,13,5788,13,5793,14,5800,13,5805,0,11111]
[12,5905,13,5909,13,5914,14,5921,13,5926,0,11111]
[12,6029,13,6033,13,6041,14,6046,13,6051,0,11111]
[12,6158,13,6162,13,6166,14,6170,13,6174,0,11111]
[12,6277,13,6281,13,6286,14,6293,13,6297,0,11111]
[12,6414,13,6422,13,6426,14,6431,13,6443,0,11111]
[12,6557,13,6561,13,6566,14,6570,13,6578,0,11111]
[12,6679,13,6683,13,6687,14,6691,13,6695,0,11111]
[12,6799,13,6802,13,6806,14,6810,13,6814,1,11111]
[12,6922,13,6926,13,6933,14,6938,13,6942,0,11111]
[12,7043,13,7047,13,7051,14,7055,13,7060,0,11111]
[12,7159,13,7163,13,7168,14,7171,13,7175,0,11111]
[12,7280,13,7285,13,7289,14,7293,13,7297,0,11111]
[12,7398,13,7402,13,7406,14,7410,13,7414,0,11111]
[12,7522,13,7526,13,7530,14,7539,13,7547,0,11111]
[12,7644,13,7648,13,7652,14,7657,13,7661,0,11111]
[12,7762,13,7768,13,7773,14,7778,13,7783,0,11111]
[12,7882,13,7886,13,7894,14,7898,13,7902,0,11111]
[12,8002,13,8006,13,8010,14,8014,13,8018,0,11111]
[12,8126,13,8134,13,8138,14,8143,13,8147,0,11111]
[12,8249,13,8253,13,8257,14,8265,13,8270,1,11111]
[12,8369,13,8373,13,8386,14,8390,13,8394,0,11111]
[12,8499,13,8504,13,8507,14,8512,13,8516,1,11111]
[12,8624,13,8629,13,8637,14,8654,13,8659,0,11111]
[12,8764,13,8771,13,8775,14,8780,13,8785,1,11111]
[12,8881,13,8885,13,8892,14,8896,13,8900,0,11111]
[12,9004,13,9008,13,9020,14,9024,13,9029,0,11111]
[12,9142,13,9146,13,9151,14,9155,13,9161,0,11111]
[12,9280,13,9284,13,9288,14,9292,13,9302,0,11111]
[12,9412,13,9416,13,9420,14,9430,13,9438,0,11111]
[12,9550,13,9554,13,9558,14,9570,13,9583,1,11111]
[12,9698,13,9708,13,9716,14,9730,13,9734,0,11111]
[12,9841,13,9852,13,9856,14,9861,13,9865,0,11111]
[12,9969,13,9973,13,9977,14,9981,13,9989,0,11111]
[12,10094,13,10098,13,10107,14,10111,13,10116,1,11111]
[12,10226,13,10230,13,10234,14,10242,13,10247,0,11111]
[12,10350,13,10354,13,10358,14,10363,13,10367,0,11111]
[12,10470,13,10474,13,10478,14,10482,13,10487,0,11111]
[12,10591,13,10595,13,10599,14,10603,13,10608,0,11111]
[12,10713,13,10717,13,10721,14,10725,13,10733,0,11111]
[12,10834,13,10838,13,10842,14,10846,13,10851,0,11111]
[12,10963,13,10971,13,10975,14,10979,13,10983,0,11111]
[12,11088,13,11092,13,11096,14,11100,13,11124,1,11111]
[12,11226,13,11230,13,11254,14,11259,13,11268,0,11111]
[12,11372,13,11381,13,11385,14,11389,13,11394,0,11111]
[12,11508,13,11512,13,11518,14,11523,13,11529,0,11111]
[12,11634,13,11639,13,11642,14,11647,13,11652,0,11111]
[12,11777,13,11781,13,11801,14,11805,13,11810,0,11111]
[12,11922,13,11926,13,11930,14,11936,13,11941,0,11111]
[12,12045,13,12049,13,12053,14,12058,13,12062,0,11111]
[12,12172,13,12185,13,12189,14,12194,13,12199,0,11111]
[12,12305,13,12309,13,12314,14,12318,13,12322,0,11111]
[12,12439,13,12447,13,12452,14,12456,13,12461,0,11111]
[12,12562,13,12566,13,12570,14,12574,13,12579,1,11111]
[12,12695,13,12699,13,12703,14,12721,13,12729,0,11111]
[12,12844,13,12852,13,12860,14,12869,13,12874,0,11111]
[12,12995,13,12999,13,13003,14,13011,13,13016,0,11111]
[12,13120,13,13125,13,13132,14,13141,13,13146,1,11111]
[12,13256,13,13261,13,13266,14,13271,13,13276,0,11111]
[12,13378,13,13382,13,13386,14,13390,13,13394,0,11111]
[12,13496,13,13500,13,13504,14,13508,13,13513,0,11111]
[12,13645,13,13649,13,13660,14,13664,13,13669,1,11111]
[12,13771,13,13780,13,13788,14,13793,13,13797,1,11111]
[12,13924,13,13933,13,13937,14,13942,13,13967,0,11111]
[12,14092,13,14096,13,14101,14,14109,13,14115,0,11111]
[12,14215,13,14219,13,14227,14,14232,13,14238,0,11111]
[12,14343,13,14347,13,14356,14,14369,13,14374,0,11111]
[12,14497,13,14502,13,14506,14,14515,13,14524,0,11111]
[12,14628,13,14632,13,14636,14,14640,13,14644,0,11111]
[12,14753,13,14757,13,14765,14,14769,13,14774,1,11111]
[12,14881,13,14885,13,14894,14,14898,13,14903,1,11111]
[12,15015,13,15019,13,15031,14,15039,13,15043,0,11111]
[12,15143,13,15147,13,15151,14,15155,13,15163,0,11111]
[12,15268,13,15272,13,15276,14,15285,13,15290,0,11111]
[12,15391,13,15395,13,15399,14,15403,13,15408,0,11111]
[12,15509,13,15514,13,15518,14,15522,13,15527,0,11111]
[12,15631,13,15635,13,15639,14,15644,13,15653,0,11111]
[12,15752,13,15756,13,15760,14,15765,13,15773,0,11111]
[12,15886,13,15894,13,15899,14,15904,13,15915,0,11111]
[12,16015,13,16019,13,16023,14,16027,13,16035,0,11111]
[12,16134,13,16148,13,16152,14,16161,13,16166,0,11111]
[12,16271,13,16275,13,16279,14,16283,13,16288,1,11111]
[12,16393,13,16401,13,16408,14,16421,13,16435,1,11111]
[12,16536,13,16541,13,16545,14,16553,13,16557,0,11111]
[12,16679,13,16683,13,16687,14,16692,13,16697,0,11111]
[12,16800,13,16804,13,16807,14,16811,13,16815,0,11111]
[12,16935,13,16939,13,16944,14,16948,13,16953,0,11111]
[12,17056,13,17061,13,17065,14,17069,13,17074,1,11111]
[12,17188,13,17196,13,17213,14,17218,13,17224,0,11111]
[12,17325,13,17329,13,17334,14,17338,13,17342,0,11111]
[12,17442,13,17446,13,17450,14,17458,13,17463,0,11111]
[12,17565,13,17569,13,17574,14,17578,13,17586,0,11111]
[12,17686,13,17690,13,17694,14,17699,13,17704,0,11111]
[12,17812,13,17816,13,17824,14,17834,13,17842,1,11111]
[12,17948,13,17953,13,17961,14,17966,13,17970,1,11111]
[12,18079,13,18084,13,18088,14,18096,13,18100,0,11111]
[12,18204,13,18209,13,18213,14,18221,13,18233,0,11111]
[12,18345,13,18349,13,18353,14,18358,13,18371,1,11111]
[12,18474,13,18479,13,18483,14,18488,13,18492,0,11111]
[12,18608,13,18612,13,18620,14,18624,13,18632,0,11111]
[12,18741,13,18745,13,18749,14,18754,13,18758,0,11111]
[12,18862,13,18866,13,18870,14,18875,13,18879,1,11111]
[12,18980,13,18986,13,18991,14,19003,13,19009,0,11111]
[12,19116,13,19123,13,19127,14,19131,13,19136,0,11111]
[12,19248,13,19252,13,19256,14,19261,13,19270,0,11111]
[12,19370,13,19374,13,19382,14,19387,13,19392,0,11111]
[12,19507,13,19512,13,19516,14,19520,13,19524,1,11111]
[12,19632,13,19636,13,19640,14,19645,13,19649,0,11111]
[12,19752,13,19756,13,19760,14,19764,13,19768,0,11111]
[12,19868,13,19872,13,19876,14,19881,13,19884,0,11111]
[12,19991,13,19996,13,20000,14,20004,13,20009,0,11111]
[12,20113,13,20118,13,20122,14,20126,13,20131,0,11111]
[12,20232,13,20237,13,20241,14,20245,13,20249,1,11111]
[12,20346,13,20350,13,20355,14,20359,13,20368,0,11111]
[12,20468,13,20472,13,20476,14,20480,13,20487,0,11111]
[12,20587,13,20591,13,20595,14,20599,13,20604,0,11111]
[12,20707,13,20711,13,20715,14,20720,13,20733,0,11111]
[12,20839,13,20843,13,20848,14,20852,13,20856,0,11111]
[12,20959,13,20963,13,20967,14,20974,13,20979,1,11111]
[12,21086,13,21091,13,21095,14,21100,13,21104,0,11111]
[12,21218,13,21222,13,21226,14,21231,13,21237,0,11111]
[12,21341,13,21345,13,21349,14,21354,13,21359,0,11111]
[12,21463,13,21467,13,21471,14,21475,13,21480,0,11111]
[12,21586,13,21590,13,21594,14,21605,13,21610,0,11111]
[12,21728,13,21733,13,21737,14,21741,13,21745,0,11111]
[12,21849,13,21853,13,21857,14,21865,13,21869,0,11111]
[12,21969,13,21973,13,21977,14,21981,13,21985,1,11111]
[12,22093,13,22098,13,22102,14,22111,13,22119,0,11111]
[12,22221,13,22225,13,22229,14,22234,13,22243,0,11111]
[12,22342,13,22347,13,22351,14,22355,13,22359,0,11111]
[12,22468,13,22473,13,22477,14,22481,13,22486,0,11111]
[12,22590,13,22594,13,22598,14,22602,13,22606,0,11111]
[12,22728,13,22733,13,22737,14,22742,13,22747,0,11111]
[12,22855,13,22863,13,22867,14,22872,13,22877,1,11111]
[12,23001,13,23005,13,23010,14,23015,13,23019,0,11111]
[12,23121,13,23125,13,23129,14,23134,13,23138,0,11111]
[12,23239,13,23243,13,23248,14,23261,13,23267,0,11111]
[12,23368,13,23375,13,23379,14,23383,13,23388,0,11111]
[21,23511,22,23521,24,23536,23,23544,24,23555,0,22222]
[12,23657,13,23661,13,23665,14,23672,13,23681,0,11111]
[12,23786,13,23789,13,23793,14,23797,13,23801,0,11111]
[12,23900,13,23904,13,23908,14,23912,13,23916,null,11111]

{"sheet":"!MC13A00.010","index":16,"n_rows":195,"n_cols":48,"rows_kept":195,"cut":false,"hidden":false,"merged":[[4,39,4,42],[5,39,5,40],[4,44,4,47],[5,44,5,45],[4,24,4,27],[5,24,5,25],[4,29,4,32],[5,29,5,30],[4,34,4,37],[5,34,5,35],[1,1,1,2],[5,13,5,14],[42,13,42,14],[43,13,43,14],[4,19,4,22],[5,19,5,20]]}
["Report for:!MC13A00.010"]
["Date:","<date>"]
["Hen:","<hen>",null,null,null,"Correct Sequence",{"$f":"Start!J2","v":21121},null,null,null,null,null,null,null,null,"Total Sequences in Data",{"$f":"4994-COUNTBLANK(L7:L5000)","v":189},null,null,null,null,"Total Sequences in Block Data",{"$f":"COUNTA(L7:L38)","v":32},null,null,null,"Total Sequences in Block Data",{"$f":"COUNTA(L39:L69)","v":31},null,null,null,"Total Sequences in Block Data",{"$f":"COUNTA(L70:L101)","v":32},null,null,null,"Total Sequences in Block Data",{"$f":"COUNTA(L102:L132)","v":31},null,null,null,"Total Sequences in Block Data",{"$f":"COUNTA(L133:L164)","v":32},null,null,null,"Total Sequences in Block Data",{"$f":"COUNTA(L165:L195)","v":31}]
[null,null,null,null,null,null,null,null,null,null,null,null,null,null,null,"Total Sequences in Summary",{"$f":"SUM(O7:O38)","v":189},null,null,null,null,"Total Sequences in Block Summary",{"$f":"SUM(U7:U38)","v":32},null,null,null,"Total Sequences in Block Summary",{"$f":"SUM(Z7:Z38)","v":31},null,null,null,"Total Sequences in Block Summary",{"$f":"SUM(AE7:AE38)","v":32},null,null,null,"Total Sequences in Block Summary",{"$f":"SUM(AJ7:AJ38)","v":31},null,null,null,"Total Sequences in Block Summary",{"$f":"SUM(AO7:AO38)","v":32},null,null,null,"Total Sequences in Block Summary",{"$f":"SUM(AT7:AT38)","v":31}]
[null,null,null,null,null,null,null,null,null,null,null,null,null,null,null,null,null,null,null,"Block 1",null,null,null,null,"Block 2",null,null,null,null,"Block 3",null,null,null,null,"Block 4",null,null,null,null,"Block 5",null,null,null,null,"Block 6"]
["Sequence\nComponent\n1","Time\n1","Sequence\nComponent\n2","Time\n2","Sequence\nComponent\n3","Time\n3","Sequence\nComponent\n4","Time\n4","Sequence\nComponent\n5","Time\n5","Correct?\n0=No 1=Yes","Sequence",null,"Frequency",null,"Relative Frequency","Variability",null,null,"Frequency",null,"Relative Frequency","Variability",null,"Frequency",null,"Relative Frequency","Variability",null,"Frequency",null,"Relative Frequency","Variability",null,"Frequency",null,"Relative Frequency","Variability",null,"Frequency",null,"Relative Frequency","Variability",null,"Frequency",null,"Relative Frequency","Variability"]
[12,17,13,22,13,26,14,31,13,40,0,11111,null,11111,{"$f":"COUNTIF($L$7:$L$500,N7)","v":185},{"$f":"O7/$Q$4","v":0.97883597883597884},{"$f":"IF(P7=0,0,(P7*((LOG(P7))/LOG(2))))","v":-3.0207821615770878E-2},null,null,{"$f":"N7","v":11111},{"$f":"COUNTIF(L7:L38,T7)","v":31},{"$f":"U7/(W4-U25)","v":0.96875},{"$f":"IF(V7=0,0,(V7*((LOG(V7))/LOG(2))))","v":-4.4372324312714644E-2},null,{"$f":"N7","v":11111},{"$f":"COUNTIF(L39:L69,Y7)","v":31},{"$f":"Z7/(AB4-Z25)","v":1},{"$f":"IF(AA7=0,0,(AA7*((LOG(AA7))/LOG(2))))","v":0},null,{"$f":"N7","v":11111},{"$f":"COUNTIF(L70:L101,AD7)","v":31},{"$f":"AE7/(AG4-AE25)","v":0.96875},{"$f":"IF(AF7=0,0,(AF7*((LOG(AF7))/LOG(2))))","v":-4.4372324312714644E-2},null,{"$f":"N7","v":11111},{"$f":"COUNTIF(L102:L132,AI7)","v":29},{"$f":"AJ7/(AL4-AJ25)","v":0.93548387096774188},{"$f":"IF(AK7=0,0,(AK7*((LOG(AK7))/LOG(2))))","v":-9.0007875565154577E-2},null,{"$f":"N7","v":11111},{"$f":"COUNTIF(L133:L164,AN7)","v":32},{"$f":"AO7/(AQ4-AO25)","v":1},{"$f":"IF(AP7=0,0,(AP7*((LOG(AP7))/LOG(2))))","v":0},null,{"$f":"N7","v":11111},{"$f":"COUNTIF(L165:L195,AS7)","v":31},{"$f":"AT7/(AV4-AT25)","v":1},{"$f":"IF(AU7=0,0,(AU7*((LOG(AU7))/LOG(2))))","v":0}]
[12,157,13,161,13,165,14,170,13,176,0,11111,null,11112,{"$f":"COUNTIF($L$7:$L$500,N8)","v":0},{"$f":"O8/$Q$4","v":0},{"$f":"IF(P8=0,0,(P8*((LOG(P8))/LOG(2))))","v":0},null,null,{"$f":"N8","v":11112},{"$f":"COUNTIF(L7:L38,T8)","v":0},{"$f":"U8/(W4-U25)","v":0},{"$f":"IF(V8=0,0,(V8*((LOG(V8))/LOG(2))))","v":0},null,{"$f":"N8","v":11112},{"$f":"COUNTIF(L39:L69,Y8)","v":0},{"$f":"Z8/(AB4-Z25)","v":0},{"$f":"IF(AA8=0,0,(AA8*((LOG(AA8))/LOG(2))))","v":0},null,{"$f":"N8","v":11112},{"$f":"COUNTIF(L70:L101,AD8)","v":0},{"$f":"AE8/(AG4-AE25)","v":0},{"$f":"IF(AF8=0,0,(AF8*((LOG(AF8))/LOG(2))))","v":0},null,{"$f":"N8","v":11112},{"$f":"COUNTIF(L102:L132,AI8)","v":0},{"$f":"AJ8/(AL4-AJ25)","v":0},{"$f":"IF(AK8=0,0,(AK8*((LOG(AK8))/LOG(2))))","v":0},null,{"$f":"N8","v":11112},{"$f":"COUNTIF(L133:L164,AN8)","v":0},{"$f":"AO8/(AQ4-AO25)","v":0},{"$f":"IF(AP8=0,0,(AP8*((LOG(AP8))/LOG(2))))","v":0},null,{"$f":"N8","v":11112},{"$f":"COUNTIF(L165:L195,AS8)","v":0},{"$f":"AT8/(AV4-AT25)","v":0},{"$f":"IF(AU8=0,0,(AU8*((LOG(AU8))/LOG(2))))","v":0}]
[12,278,13,283,13,287,14,291,13,296,0,11111,null,11121,{"$f":"COUNTIF($L$7:$L$500,N9)","v":0},{"$f":"O9/$Q$4","v":0},{"$f":"IF(P9=0,0,(P9*((LOG(P9))/LOG(2))))","v":0},null,null,{"$f":"N9","v":11121},{"$f":"COUNTIF(L7:L38,T9)","v":0},{"$f":"U9/(W4-U25)","v":0},{"$f":"IF(V9=0,0,(V9*((LOG(V9))/LOG(2))))","v":0},null,{"$f":"N9","v":11121},{"$f":"COUNTIF(L39:L69,Y9)","v":0},{"$f":"Z9/(AB4-Z25)","v":0},{"$f":"IF(AA9=0,0,(AA9*((LOG(AA9))/LOG(2))))","v":0},null,{"$f":"N9","v":11121},{"$f":"COUNTIF(L70:L101,AD9)","v":0},{"$f":"AE9/(AG4-AE25)","v":0},{"$f":"IF(AF9=0,0,(AF9*((LOG(AF9))/LOG(2))))","v":0},null,{"$f":"N9","v":11121},{"$f":"COUNTIF(L102:L132,AI9)","v":0},{"$f":"AJ9/(AL4-AJ25)","v":0},{"$f":"IF(AK9=0,0,(AK9*((LOG(AK9))/LOG(2))))","v":0},null,{"$f":"N9","v":11121},{"$f":"COUNTIF(L133:L164,AN9)","v":0},{"$f":"AO9/(AQ4-AO25)","v":0},{"$f":"IF(AP9=0,0,(AP9*((LOG(AP9))/LOG(2))))","v":0},null,{"$f":"N9","v":11121},{"$f":"COUNTIF(L165:L195,AS9)","v":0},{"$f":"AT9/(AV4-AT25)","v":0},{"$f":"IF(AU9=0,0,(AU9*((LOG(AU9))/LOG(2))))","v":0}]
[12,401,13,405,13,409,14,416,13,421,1,11111,null,11122,{"$f":"COUNTIF($L$7:$L$500,N10)","v":1},{"$f":"O10/$Q$4","v":5.2910052910052907E-3},{"$f":"IF(P10=0,0,(P10*((LOG(P10))/LOG(2))))","v":-4.0011864678418371E-2},null,null,{"$f":"N10","v":11122},{"$f":"COUNTIF(L7:L38,T10)","v":1},{"$f":"U10/(W4-U25)","v":3.125E-2},{"$f":"IF(V10=0,0,(V10*((LOG(V10))/LOG(2))))","v":-0.15625},null,{"$f":"N10","v":11122},{"$f":"COUNTIF(L39:L69,Y10)","v":0},{"$f":"Z10/(AB4-Z25)","v":0},{"$f":"IF(AA10=0,0,(AA10*((LOG(AA10))/LOG(2))))","v":0},null,{"$f":"N10","v":11122},{"$f":"COUNTIF(L70:L101,AD10)","v":0},{"$f":"AE10/(AG4-AE25)","v":0},{"$f":"IF(AF10=0,0,(AF10*((LOG(AF10))/LOG(2))))","v":0},null,{"$f":"N10","v":11122},{"$f":"COUNTIF(L102:L132,AI10)","v":0},{"$f":"AJ10/(AL4-AJ25)","v":0},{"$f":"IF(AK10=0,0,(AK10*((LOG(AK10))/LOG(2))))","v":0},null,{"$f":"N10","v":11122},{"$f":"COUNTIF(L133:L164,AN10)","v":0},{"$f":"AO10/(AQ4-AO25)","v":0},{"$f":"IF(AP10=0,0,(AP10*((LOG(AP10))/LOG(2))))","v":0},null,{"$f":"N10","v":11122},{"$f":"COUNTIF(L165:L195,AS10)","v":0},{"$f":"AT10/(AV4-AT25)","v":0},{"$f":"IF(AU10=0,0,(AU10*((LOG(AU10))/LOG(2))))","v":0}]
[12,525,13,530,13,534,14,539,13,544,0,11111,null,11211,{"$f":"COUNTIF($L$7:$L$500,N11)","v":0},{"$f":"O11/$Q$4","v":0},{"$f":"IF(P11=0,0,(P11*((LOG(P11))/LOG(2))))","v":0},null,null,{"$f":"N11","v":11211},{"$f":"COUNTIF(L7:L38,T11)","v":0},{"$f":"U11/(W4-U25)","v":0},{"$f":"IF(V11=0,0,(V11*((LOG(V11))/LOG(2))))","v":0},null,{"$f":"N11","v":11211},{"$f":"COUNTIF(L39:L69,Y11)","v":0},{"$f":"Z11/(AB4-Z25)","v":0},{"$f":"IF(AA11=0,0,(AA11*((LOG(AA11))/LOG(2))))","v":0},null,{"$f":"N11","v":11211},{"$f":"COUNTIF(L70:L101,AD11)","v":0},{"$f":"AE11/(AG4-AE25)","v":0},{"$f":"IF(AF11=0,0,(AF11*((LOG(AF11))/LOG(2))))","v":0},null,{"$f":"N11","v":11211},{"$f":"COUNTIF(L102:L132,AI11)","v":0},{"$f":"AJ11/(AL4-AJ25)","v":0},{"$f":"IF(AK11=0,0,(AK11*((LOG(AK11))/LOG(2))))","v":0},null,{"$f":"N11","v":11211},{"$f":"COUNTIF(L133:L164,AN11)","v":0},{"$f":"AO11/(AQ4-AO25)","v":0},{"$f":"IF(AP11=0,0,(AP11*((LOG(AP11))/LOG(2))))","v":0},null,{"$f":"N11","v":11211},{"$f":"COUNTIF(L165:L195,AS11)","v":0},{"$f":"AT11/(AV4-AT25)","v":0},{"$f":"IF(AU11=0,0,(AU11*((LOG(AU11))/LOG(2))))","v":0}]
[12,646,13,651,13,656,14,660,13,684,0,11111,null,11212,{"$f":"COUNTIF($L$7:$L$500,N12)","v":0},{"$f":"O12/$Q$4","v":0},{"$f":"IF(P12=0,0,(P12*((LOG(P12))/LOG(2))))","v":0},null,null,{"$f":"N12","v":11212},{"$f":"COUNTIF(L7:L38,T12)","v":0},{"$f":"U12/(W4-U25)","v":0},{"$f":"IF(V12=0,0,(V12*((LOG(V12))/LOG(2))))","v":0},null,{"$f":"N12","v":11212},{"$f":"COUNTIF(L39:L69,Y12)","v":0},{"$f":"Z12/(AB4-Z25)","v":0},{"$f":"IF(AA12=0,0,(AA12*((LOG(AA12))/LOG(2))))","v":0},null,{"$f":"N12","v":11212},{"$f":"COUNTIF(L70:L101,AD12)","v":0},{"$f":"AE12/(AG4-AE25)","v":0},{"$f":"IF(AF12=0,0,(AF12*((LOG(AF12))/LOG(2))))","v":0},null,{"$f":"N12","v":11212},{"$f":"COUNTIF(L102:L132,AI12)","v":0},{"$f":"AJ12/(AL4-AJ25)","v":0},{"$f":"IF(AK12=0,0,(AK12*((LOG(AK12))/LOG(2))))","v":0},null,{"$f":"N12","v":11212},{"$f":"COUNTIF(L133:L164,AN12)","v":0},{"$f":"AO12/(AQ4-AO25)","v":0},{"$f":"IF(AP12=0,0,(AP12*((LOG(AP12))/LOG(2))))","v":0},null,{"$f":"N12","v":11212},{"$f":"COUNTIF(L165:L195,AS12)","v":0},{"$f":"AT12/(AV4-AT25)","v":0},{"$f":"IF(AU12=0,0,(AU12*((LOG(AU12))/LOG(2))))","v":0}]
[12,790,13,794,13,798,14,803,13,812,0,11111,null,11221,{"$f":"COUNTIF($L$7:$L$500,N13)","v":0},{"$f":"O13/$Q$4","v":0},{"$f":"IF(P13=0,0,(P13*((LOG(P13))/LOG(2))))","v":0},null,null,{"$f":"N13","v":11221},{"$f":"COUNTIF(L7:L38,T13)","v":0},{"$f":"U13/(W4-U25)","v":0},{"$f":"IF(V13=0,0,(V13*((LOG(V13))/LOG(2))))","v":0},null,{"$f":"N13","v":11221},{"$f":"COUNTIF(L39:L69,Y13)","v":0},{"$f":"Z13/(AB4-Z25)","v":0},{"$f":"IF(AA13=0,0,(AA13*((LOG(AA13))/LOG(2))))","v":0},null,{"$f":"N13","v":11221},{"$f":"COUNTIF(L70:L101,AD13)","v":0},{"$f":"AE13/(AG4-AE25)","v":0},{"$f":"IF(AF13=0,0,(AF13*((LOG(AF13))/LOG(2))))","v":0},null,{"$f":"N13","v":11221},{"$f":"COUNTIF(L102:L132,AI13)","v":0},{"$f":"AJ13/(AL4-AJ25)","v":0},{"$f":"IF(AK13=0,0,(AK13*((LOG(AK13))/LOG(2))))","v":0},null,{"$f":"N13","v":11221},{"$f":"COUNTIF(L133:L164,AN13)","v":0},{"$f":"AO13/(AQ4-AO25)","v":0},{"$f":"IF(AP13=0,0,(AP13*((LOG(AP13))/LOG(2))))","v":0},null,{"$f":"N13","v":11221},{"$f":"COUNTIF(L165:L195,AS13)","v":0},{"$f":"AT13/(AV4-AT25)","v":0},{"$f":"IF(AU13=0,0,(AU13*((LOG(AU13))/LOG(2))))","v":0}]
[12,916,13,921,13,925,14,930,13,935,0,11111,null,11222,{"$f":"COUNTIF($L$7:$L$500,N14)","v":0},{"$f":"O14/$Q$4","v":0},{"$f":"IF(P14=0,0,(P14*((LOG(P14))/LOG(2))))","v":0},null,null,{"$f":"N14","v":11222},{"$f":"COUNTIF(L7:L38,T14)","v":0},{"$f":"U14/(W4-U25)","v":0},{"$f":"IF(V14=0,0,(V14*((LOG(V14))/LOG(2))))","v":0},null,{"$f":"N14","v":11222},{"$f":"COUNTIF(L39:L69,Y14)","v":0},{"$f":"Z14/(AB4-Z25)","v":0},{"$f":"IF(AA14=0,0,(AA14*((LOG(AA14))/LOG(2))))","v":0},null,{"$f":"N14","v":11222},{"$f":"COUNTIF(L70:L101,AD14)","v":0},{"$f":"AE14/(AG4-AE25)","v":0},{"$f":"IF(AF14=0,0,(AF14*((LOG(AF14))/LOG(2))))","v":0},null,{"$f":"N14","v":11222},{"$f":"COUNTIF(L102:L132,AI14)","v":0},{"$f":"AJ14/(AL4-AJ25)","v":0},{"$f":"IF(AK14=0,0,(AK14*((LOG(AK14))/LOG(2))))","v":0},null,{"$f":"N14","v":11222},{"$f":"COUNTIF(L133:L164,AN14)","v":0},{"$f":"AO14/(AQ4-AO25)","v":0},{"$f":"IF(AP14=0,0,(AP14*((LOG(AP14))/LOG(2))))","v":0},null,{"$f":"N14","v":11222},{"$f":"COUNTIF(L165:L195,AS14)","v":0},{"$f":"AT14/(AV4-AT25)","v":0},{"$f":"IF(AU14=0,0,(AU14*((LOG(AU14))/LOG(2))))","v":0}]
[12,1038,13,1043,13,1047,14,1051,13,1056,0,11111,null,12111,{"$f":"COUNTIF($L$7:$L$500,N15)","v":0},{"$f":"O15/$Q$4","v":0},{"$f":"IF(P15=0,0,(P15*((LOG(P15))/LOG(2))))","v":0},null,null,{"$f":"N15","v":12111},{"$f":"COUNTIF(L7:L38,T15)","v":0},{"$f":"U15/(W4-U25)","v":0},{"$f":"IF(V15=0,0,(V15*((LOG(V15))/LOG(2))))","v":0},null,{"$f":"N15","v":12111},{"$f":"COUNTIF(L39:L69,Y15)","v":0},{"$f":"Z15/(AB4-Z25)","v":0},{"$f":"IF(AA15=0,0,(AA15*((LOG(AA15))/LOG(2))))","v":0},null,{"$f":"N15","v":12111},{"$f":"COUNTIF(L70:L101,AD15)","v":0},{"$f":"AE15/(AG4-AE25)","v":0},{"$f":"IF(AF15=0,0,(AF15*((LOG(AF15))/LOG(2))))","v":0},null,{"$f":"N15","v":12111},{"$f":"COUNTIF(L102:L132,AI15)","v":0},{"$f":"AJ15/(AL4-AJ25)","v":0},{"$f":"IF(AK15=0,0,(AK15*((LOG(AK15))/LOG(2))))","v":0},null,{"$f":"N15","v":12111},{"$f":"COUNTIF(L133:L164,AN15)","v":0},{"$f":"AO15/(AQ4-AO25)","v":0},{"$f":"IF(AP15=0,0,(AP15*((LOG(AP15))/LOG(2))))","v":0},null,{"$f":"N15","v":12111},{"$f":"COUNTIF(L165:L195,AS15)","v":0},{"$f":"AT15/(AV4-AT25)","v":0},{"$f":"IF(AU15=0,0,(AU15*((LOG(AU15))/LOG(2))))","v":0}]
[12,1155,13,1159,13,1164,14,1169,13,1174,1,11111,null,12112,{"$f":"COUNTIF($L$7:$L$500,N16)","v":0},{"$f":"O16/$Q$4","v":0},{"$f":"IF(P16=0,0,(P16*((LOG(P16))/LOG(2))))","v":0},null,null,{"$f":"N16","v":12112},{"$f":"COUNTIF(L7:L38,T16)","v":0},{"$f":"U16/(W4-U25)","v":0},{"$f":"IF(V16=0,0,(V16*((LOG(V16))/LOG(2))))","v":0},null,{"$f":"N16","v":12112},{"$f":"COUNTIF(L39:L69,Y16)","v":0},{"$f":"Z16/(AB4-Z25)","v":0},{"$f":"IF(AA16=0,0,(AA16*((LOG(AA16))/LOG(2))))","v":0},null,{"$f":"N16","v":12112},{"$f":"COUNTIF(L70:L101,AD16)","v":0},{"$f":"AE16/(AG4-AE25)","v":0},{"$f":"IF(AF16=0,0,(AF16*((LOG(AF16))/LOG(2))))","v":0},null,{"$f":"N16","v":12112},{"$f":"COUNTIF(L102:L132,AI16)","v":0},{"$f":"AJ16/(AL4-AJ25)","v":0},{"$f":"IF(AK16=0,0,(AK16*((LOG(AK16))/LOG(2))))","v":0},null,{"$f":"N16","v":12112},{"$f":"COUNTIF(L133:L164,AN16)","v":0},{"$f":"AO16/(AQ4-AO25)","v":0},{"$f":"IF(AP16=0,0,(AP16*((LOG(AP16))/LOG(2))))","v":0},null,{"$f":"N16","v":12112},{"$f":"COUNTIF(L165:L195,AS16)","v":0},{"$f":"AT16/(AV4-AT25)","v":0},{"$f":"IF(AU16=0,0,(AU16*((LOG(AU16))/LOG(2))))","v":0}]
[12,1292,13,1300,13,1304,14,1313,13,1335,0,11111,null,12121,{"$f":"COUNTIF($L$7:$L$500,N17)","v":0},{"$f":"O17/$Q$4","v":0},{"$f":"IF(P17=0,0,(P17*((LOG(P17))/LOG(2))))","v":0},null,null,{"$f":"N17","v":12121},{"$f":"COUNTIF(L7:L38,T17)","v":0},{"$f":"U17/(W4-U25)","v":0},{"$f":"IF(V17=0,0,(V17*((LOG(V17))/LOG(2))))","v":0},null,{"$f":"N17","v":12121},{"$f":"COUNTIF(L39:L69,Y17)","v":0},{"$f":"Z17/(AB4-Z25)","v":0},{"$f":"IF(AA17=0,0,(AA17*((LOG(AA17))/LOG(2))))","v":0},null,{"$f":"N17","v":12121},{"$f":"COUNTIF(L70:L101,AD17)","v":0},{"$f":"AE17/(AG4-AE25)","v":0},{"$f":"IF(AF17=0,0,(AF17*((LOG(AF17))/LOG(2))))","v":0},null,{"$f":"N17","v":12121},{"$f":"COUNTIF(L102:L132,AI17)","v":0},{"$f":"AJ17/(AL4-AJ25)","v":0},{"$f":"IF(AK17=0,0,(AK17*((LOG(AK17))/LOG(2))))","v":0},null,{"$f":"N17","v":12121},{"$f":"COUNTIF(L133:L164,AN17)","v":0},{"$f":"AO17/(AQ4-AO25)","v":0},{"$f":"IF(AP17=0,0,(AP17*((LOG(AP17))/LOG(2))))","v":0},null,{"$f":"N17","v":12121},{"$f":"COUNTIF(L165:L195,AS17)","v":0},{"$f":"AT17/(AV4-AT25)","v":0},{"$f":"IF(AU17=0,0,(AU17*((LOG(AU17))/LOG(2))))","v":0}]
[12,1437,13,1441,13,1446,14,1450,13,1454,0,11111,null,12122,{"$f":"COUNTIF($L$7:$L$500,N18)","v":0},{"$f":"O18/$Q$4","v":0},{"$f":"IF(P18=0,0,(P18*((LOG(P18))/LOG(2))))","v":0},null,null,{"$f":"N18","v":12122},{"$f":"COUNTIF(L7:L38,T18)","v":0},{"$f":"U18/(W4-U25)","v":0},{"$f":"IF(V18=0,0,(V18*((LOG(V18))/LOG(2))))","v":0},null,{"$f":"N18","v":12122},{"$f":"COUNTIF(L39:L69,Y18)","v":0},{"$f":"Z18/(AB4-Z25)","v":0},{"$f":"IF(AA18=0,0,(AA18*((LOG(AA18))/LOG(2))))","v":0},null,{"$f":"N18","v":12122},{"$f":"COUNTIF(L70:L101,AD18)","v":0},{"$f":"AE18/(AG4-AE25)","v":0},{"$f":"IF(AF18=0,0,(AF18*((LOG(AF18))/LOG(2))))","v":0},null,{"$f":"N18","v":12122},{"$f":"COUNTIF(L102:L132,AI18)","v":0},{"$f":"AJ18/(AL4-AJ25)","v":0},{"$f":"IF(AK18=0,0,(AK18*((LOG(AK18))/LOG(2))))","v":0},null,{"$f":"N18","v":12122},{"$f":"COUNTIF(L133:L164,AN18)","v":0},{"$f":"AO18/(AQ4-AO25)","v":0},{"$f":"IF(AP18=0,0,(AP18*((LOG(AP18))/LOG(2))))","v":0},null,{"$f":"N18","v":12122},{"$f":"COUNTIF(L165:L195,AS18)","v":0},{"$f":"AT18/(AV4-AT25)","v":0},{"$f":"IF(AU18=0,0,(AU18*((LOG(AU18))/LOG(2))))","v":0}]
[12,1563,13,1568,13,1572,14,1578,13,1587,0,11111,null,12211,{"$f":"COUNTIF($L$7:$L$500,N19)","v":0},{"$f":"O19/$Q$4","v":0},{"$f":"IF(P19=0,0,(P19*((LOG(P19))/LOG(2))))","v":0},null,null,{"$f":"N19","v":12211},{"$f":"COUNTIF(L7:L38,T19)","v":0},{"$f":"U19/(W4-U25)","v":0},{"$f":"IF(V19=0,0,(V19*((LOG(V19))/LOG(2))))","v":0},null,{"$f":"N19","v":12211},{"$f":"COUNTIF(L39:L69,Y19)","v":0},{"$f":"Z19/(AB4-Z25)","v":0},{"$f":"IF(AA19=0,0,(AA19*((LOG(AA19))/LOG(2))))","v":0},null,{"$f":"N19","v":12211},{"$f":"COUNTIF(L70:L101,AD19)","v":0},{"$f":"AE19/(AG4-AE25)","v":0},{"$f":"IF(AF19=0,0,(AF19*((LOG(AF19))/LOG(2))))","v":0},null,{"$f":"N19","v":12211},{"$f":"COUNTIF(L102:L132,AI19)","v":0},{"$f":"AJ19/(AL4-AJ25)","v":0},{"$f":"IF(AK19=0,0,(AK19*((LOG(AK19))/LOG(2))))","v":0},null,{"$f":"N19","v":12211},{"$f":"COUNTIF(L133:L164,AN19)","v":0},{"$f":"AO19/(AQ4-AO25)","v":0},{"$f":"IF(AP19=0,0,(AP19*((LOG(AP19))/LOG(2))))","v":0},null,{"$f":"N19","v":12211},{"$f":"COUNTIF(L165:L195,AS19)","v":0},{"$f":"AT19/(AV4-AT25)","v":0},{"$f":"IF(AU19=0,0,(AU19*((LOG(AU19))/LOG(2))))","v":0}]
[12,1687,13,1691,13,1696,14,1700,13,1705,0,11111,null,12212,{"$f":"COUNTIF($L$7:$L$500,N20)","v":0},{"$f":"O20/$Q$4","v":0},{"$f":"IF(P20=0,0,(P20*((LOG(P20))/LOG(2))))","v":0},null,null,{"$f":"N20","v":12212},{"$f":"COUNTIF(L7:L38,T20)","v":0},{"$f":"U20/(W4-U25)","v":0},{"$f":"IF(V20=0,0,(V20*((LOG(V20))/LOG(2))))","v":0},null,{"$f":"N20","v":12212},{"$f":"COUNTIF(L39:L69,Y20)","v":0},{"$f":"Z20/(AB4-Z25)","v":0},{"$f":"IF(AA20=0,0,(AA20*((LOG(AA20))/LOG(2))))","v":0},null,{"$f":"N20","v":12212},{"$f":"COUNTIF(L70:L101,AD20)","v":0},{"$f":"AE20/(AG4-AE25)","v":0},{"$f":"IF(AF20=0,0,(AF20*((LOG(AF20))/LOG(2))))","v":0},null,{"$f":"N20","v":12212},{"$f":"COUNTIF(L102:L132,AI20)","v":0},{"$f":"AJ20/(AL4-AJ25)","v":0},{"$f":"IF(AK20=0,0,(AK20*((LOG(AK20))/LOG(2))))","v":0},null,{"$f":"N20","v":12212},{"$f":"COUNTIF(L133:L164,AN20)","v":0},{"$f":"AO20/(AQ4-AO25)","v":0},{"$f":"IF(AP20=0,0,(AP20*((LOG(AP20))/LOG(2))))","v":0},null,{"$f":"N20","v":12212},{"$f":"COUNTIF(L165:L195,AS20)","v":0},{"$f":"AT20/(AV4-AT25)","v":0},{"$f":"IF(AU20=0,0,(AU20*((LOG(AU20))/LOG(2))))","v":0}]
[12,1808,13,1813,13,1817,14,1821,13,1826,0,11111,null,12221,{"$f":"COUNTIF($L$7:$L$500,N21)","v":0},{"$f":"O21/$Q$4","v":0},{"$f":"IF(P21=0,0,(P21*((LOG(P21))/LOG(2))))","v":0},null,null,{"$f":"N21","v":12221},{"$f":"COUNTIF(L7:L38,T21)","v":0},{"$f":"U21/(W4-U25)","v":0},{"$f":"IF(V21=0,0,(V21*((LOG(V21))/LOG(2))))","v":0},null,{"$f":"N21","v":12221},{"$f":"COUNTIF(L39:L69,Y21)","v":0},{"$f":"Z21/(AB4-Z25)","v":0},{"$f":"IF(AA21=0,0,(AA21*((LOG(AA21))/LOG(2))))","v":0},null,{"$f":"N21","v":12221},{"$f":"COUNTIF(L70:L101,AD21)","v":0},{"$f":"AE21/(AG4-AE25)","v":0},{"$f":"IF(AF21=0,0,(AF21*((LOG(AF21))/LOG(2))))","v":0},null,{"$f":"N21","v":12221},{"$f":"COUNTIF(L102:L132,AI21)","v":0},{"$f":"AJ21/(AL4-AJ25)","v":0},{"$f":"IF(AK21=0,0,(AK21*((LOG(AK21))/LOG(2))))","v":0},null,{"$f":"N21","v":12221},{"$f":"COUNTIF(L133:L164,AN21)","v":0},{"$f":"AO21/(AQ4-AO25)","v":0},{"$f":"IF(AP21=0,0,(AP21*((LOG(AP21))/LOG(2))))","v":0},null,{"$f":"N21","v":12221},{"$f":"COUNTIF(L165:L195,AS21)","v":0},{"$f":"AT21/(AV4-AT25)","v":0},{"$f":"IF(AU21=0,0,(AU21*((LOG(AU21))/LOG(2))))","v":0}]
[12,1928,13,1932,13,1937,14,1941,13,1946,1,11111,null,12222,{"$f":"COUNTIF($L$7:$L$500,N22)","v":0},{"$f":"O22/$Q$4","v":0},{"$f":"IF(P22=0,0,(P22*((LOG(P22))/LOG(2))))","v":0},null,null,{"$f":"N22","v":12222},{"$f":"COUNTIF(L7:L38,T22)","v":0},{"$f":"U22/(W4-U25)","v":0},{"$f":"IF(V22=0,0,(V22*((LOG(V22))/LOG(2))))","v":0},null,{"$f":"N22","v":12222},{"$f":"COUNTIF(L39:L69,Y22)","v":0},{"$f":"Z22/(AB4-Z25)","v":0},{"$f":"IF(AA22=0,0,(AA22*((LOG(AA22))/LOG(2))))","v":0},null,{"$f":"N22","v":12222},{"$f":"COUNTIF(L70:L101,AD22)","v":0},{"$f":"AE22/(AG4-AE25)","v":0},{"$f":"IF(AF22=0,0,(AF22*((LOG(AF22))/LOG(2))))","v":0},null,{"$f":"N22","v":12222},{"$f":"COUNTIF(L102:L132,AI22)","v":0},{"$f":"AJ22/(AL4-AJ25)","v":0},{"$f":"IF(AK22=0,0,(AK22*((LOG(AK22))/LOG(2))))","v":0},null,{"$f":"N22","v":12222},{"$f":"COUNTIF(L133:L164,AN22)","v":0},{"$f":"AO22/(AQ4-AO25)","v":0},{"$f":"IF(AP22=0,0,(AP22*((LOG(AP22))/LOG(2))))","v":0},null,{"$f":"N22","v":12222},{"$f":"COUNTIF(L165:L195,AS22)","v":0},{"$f":"AT22/(AV4-AT25)","v":0},{"$f":"IF(AU22=0,0,(AU22*((LOG(AU22))/LOG(2))))","v":0}]
[12,2109,13,2117,13,2122,14,2126,13,2139,0,11111,null,21111,{"$f":"COUNTIF($L$7:$L$500,N23)","v":0},{"$f":"O23/$Q$4","v":0},{"$f":"IF(P23=0,0,(P23*((LOG(P23))/LOG(2))))","v":0},null,null,{"$f":"N23","v":21111},{"$f":"COUNTIF(L7:L38,T23)","v":0},{"$f":"U23/(W4-U25)","v":0},{"$f":"IF(V23=0,0,(V23*((LOG(V23))/LOG(2))))","v":0},null,{"$f":"N23","v":21111},{"$f":"COUNTIF(L39:L69,Y23)","v":0},{"$f":"Z23/(AB4-Z25)","v":0},{"$f":"IF(AA23=0,0,(AA23*((LOG(AA23))/LOG(2))))","v":0},null,{"$f":"N23","v":21111},{"$f":"COUNTIF(L70:L101,AD23)","v":0},{"$f":"AE23/(AG4-AE25)","v":0},{"$f":"IF(AF23=0,0,(AF23*((LOG(AF23))/LOG(2))))","v":0},null,{"$f":"N23","v":21111},{"$f":"COUNTIF(L102:L132,AI23)","v":0},{"$f":"AJ23/(AL4-AJ25)","v":0},{"$f":"IF(AK23=0,0,(AK23*((LOG(AK23))/LOG(2))))","v":0},null,{"$f":"N23","v":21111},{"$f":"COUNTIF(L133:L164,AN23)","v":0},{"$f":"AO23/(AQ4-AO25)","v":0},{"$f":"IF(AP23=0,0,(AP23*((LOG(AP23))/LOG(2))))","v":0},null,{"$f":"N23","v":21111},{"$f":"COUNTIF(L165:L195,AS23)","v":0},{"$f":"AT23/(AV4-AT25)","v":0},{"$f":"IF(AU23=0,0,(AU23*((LOG(AU23))/LOG(2))))","v":0}]
[12,2245,13,2255,13,2263,23,2288,24,2296,0,11122,null,21112,{"$f":"COUNTIF($L$7:$L$500,N24)","v":0},{"$f":"O24/$Q$4","v":0},{"$f":"IF(P24=0,0,(P24*((LOG(P24))/LOG(2))))","v":0},null,null,{"$f":"N24","v":21112},{"$f":"COUNTIF(L7:L38,T24)","v":0},{"$f":"U24/(W4-U25)","v":0},{"$f":"IF(V24=0,0,(V24*((LOG(V24))/LOG(2))))","v":0},null,{"$f":"N24","v":21112},{"$f":"COUNTIF(L39:L69,Y24)","v":0},{"$f":"Z24/(AB4-Z25)","v":0},{"$f":"IF(AA24=0,0,(AA24*((LOG(AA24))/LOG(2))))","v":0},null,{"$f":"N24","v":21112},{"$f":"COUNTIF(L70:L101,AD24)","v":0},{"$f":"AE24/(AG4-AE25)","v":0},{"$f":"IF(AF24=0,0,(AF24*((LOG(AF24))/LOG(2))))","v":0},null,{"$f":"N24","v":21112},{"$f":"COUNTIF(L102:L132,AI24)","v":0},{"$f":"AJ24/(AL4-AJ25)","v":0},{"$f":"IF(AK24=0,0,(AK24*((LOG(AK24))/LOG(2))))","v":0},null,{"$f":"N24","v":21112},{"$f":"COUNTIF(L133:L164,AN24)","v":0},{"$f":"AO24/(AQ4-AO25)","v":0},{"$f":"IF(AP24=0,0,(AP24*((LOG(AP24))/LOG(2))))","v":0},null,{"$f":"N24","v":21112},{"$f":"COUNTIF(L165:L195,AS24)","v":0},{"$f":"AT24/(AV4-AT25)","v":0},{"$f":"IF(AU24=0,0,(AU24*((LOG(AU24))/LOG(2))))","v":0}]
[12,2409,13,2414,13,2418,14,2423,13,2428,0,11111,null,21121,{"$f":"COUNTIF($L$7:$L$500,N25)","v":0},{"$f":"O25/$Q$4","v":0},{"$f":"IF(P25=0,0,(P25*((LOG(P25))/LOG(2))))","v":0},null,null,{"$f":"N25","v":21121},{"$f":"COUNTIF(L7:L38,T25)","v":0},null,null,null,{"$f":"N25","v":21121},{"$f":"COUNTIF(L39:L69,Y25)","v":0},null,null,null,{"$f":"N25","v":21121},{"$f":"COUNTIF(L70:L101,AD25)","v":0},null,null,null,{"$f":"N25","v":21121},{"$f":"COUNTIF(L102:L132,AI25)","v":0},null,null,null,{"$f":"N25","v":21121},{"$f":"COUNTIF(L133:L164,AN25)","v":0},null,null,null,{"$f":"N25","v":21121},{"$f":"COUNTIF(L165:L195,AS25)","v":0}]
[12,2546,13,2549,13,2554,14,2562,13,2567,0,11111,null,21122,{"$f":"COUNTIF($L$7:$L$500,N26)","v":0},{"$f":"O26/$Q$4","v":0},{"$f":"IF(P26=0,0,(P26*((LOG(P26))/LOG(2))))","v":0},null,null,{"$f":"N26","v":21122},{"$f":"COUNTIF(L7:L38,T26)","v":0},{"$f":"U26/(W4-U25)","v":0},{"$f":"IF(V26=0,0,(V26*((LOG(V26))/LOG(2))))","v":0},null,{"$f":"N26","v":21122},{"$f":"COUNTIF(L39:L69,Y26)","v":0},{"$f":"Z26/(AB4-Z25)","v":0},{"$f":"IF(AA26=0,0,(AA26*((LOG(AA26))/LOG(2))))","v":0},null,{"$f":"N26","v":21122},{"$f":"COUNTIF(L70:L101,AD26)","v":0},{"$f":"AE26/(AG4-AE25)","v":0},{"$f":"IF(AF26=0,0,(AF26*((LOG(AF26))/LOG(2))))","v":0},null,{"$f":"N26","v":21122},{"$f":"COUNTIF(L102:L132,AI26)","v":0},{"$f":"AJ26/(AL4-AJ25)","v":0},{"$f":"IF(AK26=0,0,(AK26*((LOG(AK26))/LOG(2))))","v":0},null,{"$f":"N26","v":21122},{"$f":"COUNTIF(L133:L164,AN26)","v":0},{"$f":"AO26/(AQ4-AO25)","v":0},{"$f":"IF(AP26=0,0,(AP26*((LOG(AP26))/LOG(2))))","v":0},null,{"$f":"N26","v":21122},{"$f":"COUNTIF(L165:L195,AS26)","v":0},{"$f":"AT26/(AV4-AT25)","v":0},{"$f":"IF(AU26=0,0,(AU26*((LOG(AU26))/LOG(2))))","v":0}]
[12,2671,13,2688,13,2696,14,2701,13,2707,1,11111,null,21211,{"$f":"COUNTIF($L$7:$L$500,N27)","v":0},{"$f":"O27/$Q$4","v":0},{"$f":"IF(P27=0,0,(P27*((LOG(P27))/LOG(2))))","v":0},null,null,{"$f":"N27","v":21211},{"$f":"COUNTIF(L7:L38,T27)","v":0},{"$f":"U27/(W4-U25)","v":0},{"$f":"IF(V27=0,0,(V27*((LOG(V27))/LOG(2))))","v":0},null,{"$f":"N27","v":21211},{"$f":"COUNTIF(L39:L69,Y27)","v":0},{"$f":"Z27/(AB4-Z25)","v":0},{"$f":"IF(AA27=0,0,(AA27*((LOG(AA27))/LOG(2))))","v":0},null,{"$f":"N27","v":21211},{"$f":"COUNTIF(L70:L101,AD27)","v":0},{"$f":"AE27/(AG4-AE25)","v":0},{"$f":"IF(AF27=0,0,(AF27*((LOG(AF27))/LOG(2))))","v":0},null,{"$f":"N27","v":21211},{"$f":"COUNTIF(L102:L132,AI27)","v":0},{"$f":"AJ27/(AL4-AJ25)","v":0},{"$f":"IF(AK27=0,0,(AK27*((LOG(AK27))/LOG(2))))","v":0},null,{"$f":"N27","v":21211},{"$f":"COUNTIF(L133:L164,AN27)","v":0},{"$f":"AO27/(AQ4-AO25)","v":0},{"$f":"IF(AP27=0,0,(AP27*((LOG(AP27))/LOG(2))))","v":0},null,{"$f":"N27","v":21211},{"$f":"COUNTIF(L165:L195,AS27)","v":0},{"$f":"AT27/(AV4-AT25)","v":0},{"$f":"IF(AU27=0,0,(AU27*((LOG(AU27))/LOG(2))))","v":0}]
[12,2809,13,2814,13,2818,14,2822,13,2829,1,11111,null,21212,{"$f":"COUNTIF($L$7:$L$500,N28)","v":0},{"$f":"O28/$Q$4","v":0},{"$f":"IF(P28=0,0,(P28*((LOG(P28))/LOG(2))))","v":0},null,null,{"$f":"N28","v":21212},{"$f":"COUNTIF(L7:L38,T28)","v":0},{"$f":"U28/(W4-U25)","v":0},{"$f":"IF(V28=0,0,(V28*((LOG(V28))/LOG(2))))","v":0},null,{"$f":"N28","v":21212},{"$f":"COUNTIF(L39:L69,Y28)","v":0},{"$f":"Z28/(AB4-Z25)","v":0},{"$f":"IF(AA28=0,0,(AA28*((LOG(AA28))/LOG(2))))","v":0},null,{"$f":"N28","v":21212},{"$f":"COUNTIF(L70:L101,AD28)","v":0},{"$f":"AE28/(AG4-AE25)","v":0},{"$f":"IF(AF28=0,0,(AF28*((LOG(AF28))/LOG(2))))","v":0},null,{"$f":"N28","v":21212},{"$f":"COUNTIF(L102:L132,AI28)","v":0},{"$f":"AJ28/(AL4-AJ25)","v":0},{"$f":"IF(AK28=0,0,(AK28*((LOG(AK28))/LOG(2))))","v":0},null,{"$f":"N28","v":21212},{"$f":"COUNTIF(L133:L164,AN28)","v":0},{"$f":"AO28/(AQ4-AO25)","v":0},{"$f":"IF(AP28=0,0,(AP28*((LOG(AP28))/LOG(2))))","v":0},null,{"$f":"N28","v":21212},{"$f":"COUNTIF(L165:L195,AS28)","v":0},{"$f":"AT28/(AV4-AT25)","v":0},{"$f":"IF(AU28=0,0,(AU28*((LOG(AU28))/LOG(2))))","v":0}]
[12,2924,13,2928,13,2933,14,2937,13,2942,0,11111,null,21221,{"$f":"COUNTIF($L$7:$L$500,N29)","v":0},{"$f":"O29/$Q$4","v":0},{"$f":"IF(P29=0,0,(P29*((LOG(P29))/LOG(2))))","v":0},null,null,{"$f":"N29","v":21221},{"$f":"COUNTIF(L7:L38,T29)","v":0},{"$f":"U29/(W4-U25)","v":0},{"$f":"IF(V29=0,0,(V29*((LOG(V29))/LOG(2))))","v":0},null,{"$f":"N29","v":21221},{"$f":"COUNTIF(L39:L69,Y29)","v":0},{"$f":"Z29/(AB4-Z25)","v":0},{"$f":"IF(AA29=0,0,(AA29*((LOG(AA29))/LOG(2))))","v":0},null,{"$f":"N29","v":21221},{"$f":"COUNTIF(L70:L101,AD29)","v":0},{"$f":"AE29/(AG4-AE25)","v":0},{"$f":"IF(AF29=0,0,(AF29*((LOG(AF29))/LOG(2))))","v":0},null,{"$f":"N29","v":21221},{"$f":"COUNTIF(L102:L132,AI29)","v":0},{"$f":"AJ29/(AL4-AJ25)","v":0},{"$f":"IF(AK29=0,0,(AK29*((LOG(AK29))/LOG(2))))","v":0},null,{"$f":"N29","v":21221},{"$f":"COUNTIF(L133:L164,AN29)","v":0},{"$f":"AO29/(AQ4-AO25)","v":0},{"$f":"IF(AP29=0,0,(AP29*((LOG(AP29))/LOG(2))))","v":0},null,{"$f":"N29","v":21221},{"$f":"COUNTIF(L165:L195,AS29)","v":0},{"$f":"AT29/(AV4-AT25)","v":0},{"$f":"IF(AU29=0,0,(AU29*((LOG(AU29))/LOG(2))))","v":0}]
[12,3042,13,3046,13,3051,14,3055,13,3060,1,11111,null,21222,{"$f":"COUNTIF($L$7:$L$500,N30)","v":0},{"$f":"O30/$Q$4","v":0},{"$f":"IF(P30=0,0,(P30*((LOG(P30))/LOG(2))))","v":0},null,null,{"$f":"N30","v":21222},{"$f":"COUNTIF(L7:L38,T30)","v":0},{"$f":"U30/(W4-U25)","v":0},{"$f":"IF(V30=0,0,(V30*((LOG(V30))/LOG(2))))","v":0},null,{"$f":"N30","v":21222},{"$f":"COUNTIF(L39:L69,Y30)","v":0},{"$f":"Z30/(AB4-Z25)","v":0},{"$f":"IF(AA30=0,0,(AA30*((LOG(AA30))/LOG(2))))","v":0},null,{"$f":"N30","v":21222},{"$f":"COUNTIF(L70:L101,AD30)","v":0},{"$f":"AE30/(AG4-AE25)","v":0},{"$f":"IF(AF30=0,0,(AF30*((LOG(AF30))/LOG(2))))","v":0},null,{"$f":"N30","v":21222},{"$f":"COUNTIF(L102:L132,AI30)","v":0},{"$f":"AJ30/(AL4-AJ25)","v":0},{"$f":"IF(AK30=0,0,(AK30*((LOG(AK30))/LOG(2))))","v":0},null,{"$f":"N30","v":21222},{"$f":"COUNTIF(L133:L164,AN30)","v":0},{"$f":"AO30/(AQ4-AO25)","v":0},{"$f":"IF(AP30=0,0,(AP30*((LOG(AP30))/LOG(2))))","v":0},null,{"$f":"N30","v":21222},{"$f":"COUNTIF(L165:L195,AS30)","v":0},{"$f":"AT30/(AV4-AT25)","v":0},{"$f":"IF(AU30=0,0,(AU30*((LOG(AU30))/LOG(2))))","v":0}]
[12,3179,13,3184,13,3189,14,3196,13,3202,0,11111,null,22111,{"$f":"COUNTIF($L$7:$L$500,N31)","v":0},{"$f":"O31/$Q$4","v":0},{"$f":"IF(P31=0,0,(P31*((LOG(P31))/LOG(2))))","v":0},null,null,{"$f":"N31","v":22111},{"$f":"COUNTIF(L7:L38,T31)","v":0},{"$f":"U31/(W4-U25)","v":0},{"$f":"IF(V31=0,0,(V31*((LOG(V31))/LOG(2))))","v":0},null,{"$f":"N31","v":22111},{"$f":"COUNTIF(L39:L69,Y31)","v":0},{"$f":"Z31/(AB4-Z25)","v":0},{"$f":"IF(AA31=0,0,(AA31*((LOG(AA31))/LOG(2))))","v":0},null,{"$f":"N31","v":22111},{"$f":"COUNTIF(L70:L101,AD31)","v":0},{"$f":"AE31/(AG4-AE25)","v":0},{"$f":"IF(AF31=0,0,(AF31*((LOG(AF31))/LOG(2))))","v":0},null,{"$f":"N31","v":22111},{"$f":"COUNTIF(L102:L132,AI31)","v":0},{"$f":"AJ31/(AL4-AJ25)","v":0},{"$f":"IF(AK31=0,0,(AK31*((LOG(AK31))/LOG(2))))","v":0},null,{"$f":"N31","v":22111},{"$f":"COUNTIF(L133:L164,AN31)","v":0},{"$f":"AO31/(AQ4-AO25)","v":0},{"$f":"IF(AP31=0,0,(AP31*((LOG(AP31))/LOG(2))))","v":0},null,{"$f":"N31","v":22111},{"$f":"COUNTIF(L165:L195,AS31)","v":0},{"$f":"AT31/(AV4-AT25)","v":0},{"$f":"IF(AU31=0,0,(AU31*((LOG(AU31))/LOG(2))))","v":0}]
[12,3313,13,3317,13,3321,14,3337,13,3342,0,11111,null,22112,{"$f":"COUNTIF($L$7:$L$500,N32)","v":0},{"$f":"O32/$Q$4","v":0},{"$f":"IF(P32=0,0,(P32*((LOG(P32))/LOG(2))))","v":0},null,null,{"$f":"N32","v":22112},{"$f":"COUNTIF(L7:L38,T32)","v":0},{"$f":"U32/(W4-U25)","v":0},{"$f":"IF(V32=0,0,(V32*((LOG(V32))/LOG(2))))","v":0},null,{"$f":"N32","v":22112},{"$f":"COUNTIF(L39:L69,Y32)","v":0},{"$f":"Z32/(AB4-Z25)","v":0},{"$f":"IF(AA32=0,0,(AA32*((LOG(AA32))/LOG(2))))","v":0},null,{"$f":"N32","v":22112},{"$f":"COUNTIF(L70:L101,AD32)","v":0},{"$f":"AE32/(AG4-AE25)","v":0},{"$f":"IF(AF32=0,0,(AF32*((LOG(AF32))/LOG(2))))","v":0},null,{"$f":"N32","v":22112},{"$f":"COUNTIF(L102:L132,AI32)","v":0},{"$f":"AJ32/(AL4-AJ25)","v":0},{"$f":"IF(AK32=0,0,(AK32*((LOG(AK32))/LOG(2))))","v":0},null,{"$f":"N32","v":22112},{"$f":"COUNTIF(L133:L164,AN32)","v":0},{"$f":"AO32/(AQ4-AO25)","v":0},{"$f":"IF(AP32=0,0,(AP32*((LOG(AP32))/LOG(2))))","v":0},null,{"$f":"N32","v":22112},{"$f":"COUNTIF(L165:L195,AS32)","v":0},{"$f":"AT32/(AV4-AT25)","v":0},{"$f":"IF(AU32=0,0,(AU32*((LOG(AU32))/LOG(2))))","v":0}]
[12,3470,13,3475,13,3480,14,3484,13,3488,0,11111,null,22121,{"$f":"COUNTIF($L$7:$L$500,N33)","v":0},{"$f":"O33/$Q$4","v":0},{"$f":"IF(P33=0,0,(P33*((LOG(P33))/LOG(2))))","v":0},null,null,{"$f":"N33","v":22121},{"$f":"COUNTIF(L7:L38,T33)","v":0},{"$f":"U33/(W4-U25)","v":0},{"$f":"IF(V33=0,0,(V33*((LOG(V33))/LOG(2))))","v":0},null,{"$f":"N33","v":22121},{"$f":"COUNTIF(L39:L69,Y33)","v":0},{"$f":"Z33/(AB4-Z25)","v":0},{"$f":"IF(AA33=0,0,(AA33*((LOG(AA33))/LOG(2))))","v":0},null,{"$f":"N33","v":22121},{"$f":"COUNTIF(L70:L101,AD33)","v":0},{"$f":"AE33/(AG4-AE25)","v":0},{"$f":"IF(AF33=0,0,(AF33*((LOG(AF33))/LOG(2))))","v":0},null,{"$f":"N33","v":22121},{"$f":"COUNTIF(L102:L132,AI33)","v":0},{"$f":"AJ33/(AL4-AJ25)","v":0},{"$f":"IF(AK33=0,0,(AK33*((LOG(AK33))/LOG(2))))","v":0},null,{"$f":"N33","v":22121},{"$f":"COUNTIF(L133:L164,AN33)","v":0},{"$f":"AO33/(AQ4-AO25)","v":0},{"$f":"IF(AP33=0,0,(AP33*((LOG(AP33))/LOG(2))))","v":0},null,{"$f":"N33","v":22121},{"$f":"COUNTIF(L165:L195,AS33)","v":0},{"$f":"AT33/(AV4-AT25)","v":0},{"$f":"IF(AU33=0,0,(AU33*((LOG(AU33))/LOG(2))))","v":0}]
[12,3590,13,3594,13,3599,14,3603,13,3610,1,11111,null,22122,{"$f":"COUNTIF($L$7:$L$500,N34)","v":0},{"$f":"O34/$Q$4","v":0},{"$f":"IF(P34=0,0,(P34*((LOG(P34))/LOG(2))))","v":0},null,null,{"$f":"N34","v":22122},{"$f":"COUNTIF(L7:L38,T34)","v":0},{"$f":"U34/(W4-U25)","v":0},{"$f":"IF(V34=0,0,(V34*((LOG(V34))/LOG(2))))","v":0},null,{"$f":"N34","v":22122},{"$f":"COUNTIF(L39:L69,Y34)","v":0},{"$f":"Z34/(AB4-Z25)","v":0},{"$f":"IF(AA34=0,0,(AA34*((LOG(AA34))/LOG(2))))","v":0},null,{"$f":"N34","v":22122},{"$f":"COUNTIF(L70:L101,AD34)","v":0},{"$f":"AE34/(AG4-AE25)","v":0},{"$f":"IF(AF34=0,0,(AF34*((LOG(AF34))/LOG(2))))","v":0},null,{"$f":"N34","v":22122},{"$f":"COUNTIF(L102:L132,AI34)","v":0},{"$f":"AJ34/(AL4-AJ25)","v":0},{"$f":"IF(AK34=0,0,(AK34*((LOG(AK34))/LOG(2))))","v":0},null,{"$f":"N34","v":22122},{"$f":"COUNTIF(L133:L164,AN34)","v":0},{"$f":"AO34/(AQ4-AO25)","v":0},{"$f":"IF(AP34=0,0,(AP34*((LOG(AP34))/LOG(2))))","v":0},null,{"$f":"N34","v":22122},{"$f":"COUNTIF(L165:L195,AS34)","v":0},{"$f":"AT34/(AV4-AT25)","v":0},{"$f":"IF(AU34=0,0,(AU34*((LOG(AU34))/LOG(2))))","v":0}]
[12,3705,13,3715,13,3719,14,3723,13,3732,0,11111,null,22211,{"$f":"COUNTIF($L$7:$L$500,N35)","v":0},{"$f":"O35/$Q$4","v":0},{"$f":"IF(P35=0,0,(P35*((LOG(P35))/LOG(2))))","v":0},null,null,{"$f":"N35","v":22211},{"$f":"COUNTIF(L7:L38,T35)","v":0},{"$f":"U35/(W4-U25)","v":0},{"$f":"IF(V35=0,0,(V35*((LOG(V35))/LOG(2))))","v":0},null,{"$f":"N35","v":22211},{"$f":"COUNTIF(L39:L69,Y35)","v":0},{"$f":"Z35/(AB4-Z25)","v":0},{"$f":"IF(AA35=0,0,(AA35*((LOG(AA35))/LOG(2))))","v":0},null,{"$f":"N35","v":22211},{"$f":"COUNTIF(L70:L101,AD35)","v":0},{"$f":"AE35/(AG4-AE25)","v":0},{"$f":"IF(AF35=0,0,(AF35*((LOG(AF35))/LOG(2))))","v":0},null,{"$f":"N35","v":22211},{"$f":"COUNTIF(L102:L132,AI35)","v":0},{"$f":"AJ35/(AL4-AJ25)","v":0},{"$f":"IF(AK35=0,0,(AK35*((LOG(AK35))/LOG(2))))","v":0},null,{"$f":"N35","v":22211},{"$f":"COUNTIF(L133:L164,AN35)","v":0},{"$f":"AO35/(AQ4-AO25)","v":0},{"$f":"IF(AP35=0,0,(AP35*((LOG(AP35))/LOG(2))))","v":0},null,{"$f":"N35","v":22211},{"$f":"COUNTIF(L165:L195,AS35)","v":0},{"$f":"AT35/(AV4-AT25)","v":0},{"$f":"IF(AU35=0,0,(AU35*((LOG(AU35))/LOG(2))))","v":0}]
[12,3831,13,3835,13,3839,14,3843,13,3847,0,11111,null,22212,{"$f":"COUNTIF($L$7:$L$500,N36)","v":0},{"$f":"O36/$Q$4","v":0},{"$f":"IF(P36=0,0,(P36*((LOG(P36))/LOG(2))))","v":0},null,null,{"$f":"N36","v":22212},{"$f":"COUNTIF(L7:L38,T36)","v":0},{"$f":"U36/(W4-U25)","v":0},{"$f":"IF(V36=0,0,(V36*((LOG(V36))/LOG(2))))","v":0},null,{"$f":"N36","v":22212},{"$f":"COUNTIF(L39:L69,Y36)","v":0},{"$f":"Z36/(AB4-Z25)","v":0},{"$f":"IF(AA36=0,0,(AA36*((LOG(AA36))/LOG(2))))","v":0},null,{"$f":"N36","v":22212},{"$f":"COUNTIF(L70:L101,AD36)","v":0},{"$f":"AE36/(AG4-AE25)","v":0},{"$f":"IF(AF36=0,0,(AF36*((LOG(AF36))/LOG(2))))","v":0},null,{"$f":"N36","v":22212},{"$f":"COUNTIF(L102:L132,AI36)","v":0},{"$f":"AJ36/(AL4-AJ25)","v":0},{"$f":"IF(AK36=0,0,(AK36*((LOG(AK36))/LOG(2))))","v":0},null,{"$f":"N36","v":22212},{"$f":"COUNTIF(L133:L164,AN36)","v":0},{"$f":"AO36/(AQ4-AO25)","v":0},{"$f":"IF(AP36=0,0,(AP36*((LOG(AP36))/LOG(2))))","v":0},null,{"$f":"N36","v":22212},{"$f":"COUNTIF(L165:L195,AS36)","v":0},{"$f":"AT36/(AV4-AT25)","v":0},{"$f":"IF(AU36=0,0,(AU36*((LOG(AU36))/LOG(2))))","v":0}]
[12,3952,13,3956,13,3961,14,3966,13,3971,0,11111,null,22221,{"$f":"COUNTIF($L$7:$L$500,N37)","v":0},{"$f":"O37/$Q$4","v":0},{"$f":"IF(P37=0,0,(P37*((LOG(P37))/LOG(2))))","v":0},null,null,{"$f":"N37","v":22221},{"$f":"COUNTIF(L7:L38,T37)","v":0},{"$f":"U37/(W4-U25)","v":0},{"$f":"IF(V37=0,0,(V37*((LOG(V37))/LOG(2))))","v":0},null,{"$f":"N37","v":22221},{"$f":"COUNTIF(L39:L69,Y37)","v":0},{"$f":"Z37/(AB4-Z25)","v":0},{"$f":"IF(AA37=0,0,(AA37*((LOG(AA37))/LOG(2))))","v":0},null,{"$f":"N37","v":22221},{"$f":"COUNTIF(L70:L101,AD37)","v":0},{"$f":"AE37/(AG4-AE25)","v":0},{"$f":"IF(AF37=0,0,(AF37*((LOG(AF37))/LOG(2))))","v":0},null,{"$f":"N37","v":22221},{"$f":"COUNTIF(L102:L132,AI37)","v":0},{"$f":"AJ37/(AL4-AJ25)","v":0},{"$f":"IF(AK37=0,0,(AK37*((LOG(AK37))/LOG(2))))","v":0},null,{"$f":"N37","v":22221},{"$f":"COUNTIF(L133:L164,AN37)","v":0},{"$f":"AO37/(AQ4-AO25)","v":0},{"$f":"IF(AP37=0,0,(AP37*((LOG(AP37))/LOG(2))))","v":0},null,{"$f":"N37","v":22221},{"$f":"COUNTIF(L165:L195,AS37)","v":0},{"$f":"AT37/(AV4-AT25)","v":0},{"$f":"IF(AU37=0,0,(AU37*((LOG(AU37))/LOG(2))))","v":0}]
[12,4073,13,4078,13,4086,14,4090,13,4095,0,11111,null,22222,{"$f":"COUNTIF($L$7:$L$500,N38)","v":3},{"$f":"O38/$Q$4","v":1.5873015873015872E-2},{"$f":"IF(P38=0,0,(P38*((LOG(P38))/LOG(2))))","v":-9.4877459103173273E-2},null,null,{"$f":"N38","v":22222},{"$f":"COUNTIF(L7:L38,T38)","v":0},{"$f":"U38/(W4-U25)","v":0},{"$f":"IF(V38=0,0,(V38*((LOG(V38))/LOG(2))))","v":0},null,{"$f":"N38","v":22222},{"$f":"COUNTIF(L39:L69,Y38)","v":0},{"$f":"Z38/(AB4-Z25)","v":0},{"$f":"IF(AA38=0,0,(AA38*((LOG(AA38))/LOG(2))))","v":0},null,{"$f":"N38","v":22222},{"$f":"COUNTIF(L70:L101,AD38)","v":1},{"$f":"AE38/(AG4-AE25)","v":3.125E-2},{"$f":"IF(AF38=0,0,(AF38*((LOG(AF38))/LOG(2))))","v":-0.15625},null,{"$f":"N38","v":22222},{"$f":"COUNTIF(L102:L132,AI38)","v":2},{"$f":"AJ38/(AL4-AJ25)","v":6.4516129032258063E-2},{"$f":"IF(AK38=0,0,(AK38*((LOG(AK38))/LOG(2))))","v":-0.25510943937979835},null,{"$f":"N38","v":22222},{"$f":"COUNTIF(L133:L164,AN38)","v":0},{"$f":"AO38/(AQ4-AO25)","v":0},{"$f":"IF(AP38=0,0,(AP38*((LOG(AP38))/LOG(2))))","v":0},null,{"$f":"N38","v":22222},{"$f":"COUNTIF(L165:L195,AS38)","v":0},{"$f":"AT38/(AV4-AT25)","v":0},{"$f":"IF(AU38=0,0,(AU38*((LOG(AU38))/LOG(2))))","v":0}]
[12,4199,13,4203,13,4207,14,4223,13,4234,0,11111,null,null,null,{"$f":"SUM(P7:P38)","v":1},{"$f":"-SUM(Q7:Q38)","v":0.16509714539736253},null,null,null,null,{"$f":"SUM(V7:V38)","v":1},{"$f":"-SUM(W7:W38)","v":0.20062232431271465},null,null,null,{"$f":"SUM(AA7:AA38)","v":1},{"$f":"-SUM(AB7:AB38)","v":0},null,null,null,{"$f":"SUM(AF7:AF38)","v":1},{"$f":"-SUM(AG7:AG38)","v":0.20062232431271465},null,null,null,{"$f":"SUM(AK7:AK38)","v":1},{"$f":"-SUM(AL7:AL38)","v":0.3451173149449529},null,null,null,{"$f":"SUM(AP7:AP38)","v":1},{"$f":"-SUM(AQ7:AQ38)","v":0},null,null,null,{"$f":"SUM(AU7:AU38)","v":1},{"$f":"-SUM(AV7:AV38)","v":0}]
[12,4334,13,4343,13,4347,14,4351,13,4359,0,11111,null,null,null,"U=",{"$f":"Q39/(LOG(Q4)/LOG(2))","v":2.1831771072106022E-2},null,null,null,null,"U1=",{"$f":"W39/(LOG(W4)/LOG(2))","v":4.0124464862542931E-2},null,null,null,"U2=",{"$f":"AB39/(LOG(AB4)/LOG(2))","v":0},null,null,null,"U3=",{"$f":"AG39/(LOG(AG4)/LOG(2))","v":4.0124464862542931E-2},null,null,null,"U4=",{"$f":"AL39/(LOG(AL4)/LOG(2))","v":6.9661614785305623E-2},null,null,null,"U5=",{"$f":"AQ39/(LOG(AQ4)/LOG(2))","v":0},null,null,null,"U6=",{"$f":"AV39/(LOG(AV4)/LOG(2))","v":0}]
[12,4460,13,4464,13,4468,14,4472,13,4476,0,11111]
[12,4576,13,4581,13,4585,14,4590,13,4604,1,11111]
[12,4707,13,4711,13,4715,14,4719,13,4724,0,11111,null,"Total Target Seq"]
[12,4830,13,4834,13,4838,14,4846,13,4851,0,11111,null,{"$f":"COUNTIF(L7:L195,G3)","v":0},null,32,31,32,31,32,31]
[12,4949,13,4953,13,4957,14,4961,13,4965,1,11111,null,null,null,"% of reinforcement given in 6 equal intervals based on number of trials "]
[12,5065,13,5070,13,5074,14,5079,13,5104,0,11111,null,null,null,"%_1","%_2","%_3","%_4","%_5","%_6"]
[12,5227,13,5236,13,5240,14,5245,13,5249,0,11111,null,null,"target sequence",{"$f":"$G$3","v":21121},{"$f":"$G$3","v":21121},{"$f":"$G$3","v":21121},{"$f":"$G$3","v":21121},{"$f":"$G$3","v":21121},{"$f":"$G$3","v":21121}]
[12,5350,13,5354,13,5358,14,5362,13,5375,0,11111,null,null,"total reinforcement",{"$f":"U25","v":0},{"$f":"Z25","v":0},{"$f":"AE25","v":0},{"$f":"AJ25","v":0},{"$f":"AO25","v":0},{"$f":"AT25","v":0}]
[12,5474,13,5479,13,5483,14,5487,13,5492,0,11111,null,null,"% target"]
[12,5597,13,5602,13,5606,14,5634,13,5644,0,11111,null,null,"CCRF"]
[12,5774,13,5779,13,5783,14,5787,13,5791,0,11111,null,null,"% CCRf"]
[12,5891,13,5895,13,5898,14,5902,13,5911,0,11111,null,null,"average response rate",{"$f":"J38/P44","v":127.96875},{"$f":"(J69-J38)/Q44","v":130.45161290322579},{"$f":"(J101-J69)/R44","v":125.75},{"$f":"(J132-J101)/S44","v":125.70967741935483},{"$f":"(J164-J132)/T44","v":125.4375},{"$f":"(J195-J164)/U44","v":124.6774193548387}]
[12,6010,13,6014,13,6019,14,6024,13,6028,0,11111]
[12,6149,13,6157,13,6161,14,6177,13,6181,1,11111]
[12,6281,13,6285,13,6289,14,6294,13,6298,1,11111]
[12,6445,13,6450,13,6455,14,6459,13,6463,0,11111]
[12,6574,13,6578,13,6582,14,6587,13,6596,0,11111]
[12,6701,13,6707,13,6716,14,6721,13,6726,0,11111]
[12,6825,13,6834,13,6838,14,6842,13,6851,0,11111]
[12,6953,13,6956,13,6961,14,6975,13,6986,0,11111]
[12,7094,13,7106,13,7110,14,7115,13,7129,0,11111]
[12,7243,13,7247,13,7254,14,7259,13,7264,0,11111]
[12,7365,13,7370,13,7374,14,7378,13,7382,1,11111]
[12,7478,13,7487,13,7492,14,7497,13,7501,0,11111]
[12,7600,13,7604,13,7608,14,7612,13,7617,0,11111]
[12,7727,13,7731,13,7735,14,7740,13,7744,0,11111]
[12,7845,13,7850,13,7855,14,7864,13,7879,0,11111]
[12,8003,13,8007,13,8012,14,8016,13,8022,0,11111]
[12,8123,13,8126,13,8131,14,8135,13,8139,0,11111]
[12,8239,13,8247,13,8251,14,8255,13,8261,0,11111]
[12,8360,13,8370,13,8374,14,8379,13,8384,0,11111]
[12,8489,13,8494,13,8498,14,8502,13,8523,0,11111]
[12,8625,13,8629,13,8634,14,8638,13,8643,0,11111]
[12,8743,13,8748,13,8751,14,8756,13,8763,1,11111]
[12,8881,13,8889,13,8894,14,8901,13,8906,0,11111]
[12,9011,13,9015,13,9021,14,9025,13,9030,0,11111]
[12,9133,13,9140,13,9145,14,9149,13,9159,0,11111]
[12,9273,13,9282,13,9286,14,9291,13,9298,0,11111]
[12,9403,13,9410,13,9415,14,9419,13,9424,0,11111]
[12,9523,13,9527,13,9532,14,9535,13,9544,0,11111]
[12,9645,13,9649,13,9653,14,9657,13,9661,0,11111]
[12,9764,13,9768,13,9773,14,9777,13,9781,0,11111]
[12,9883,13,9887,13,9891,14,9895,13,9899,0,11111]
[12,9999,13,10004,13,10008,14,10012,13,10016,0,11111]
[12,10115,13,10119,13,10123,14,10127,13,10131,0,11111]
[12,10240,13,10244,13,10248,14,10255,13,10259,1,11111]
[12,10364,13,10368,13,10373,14,10377,13,10386,0,11111]
[12,10505,13,10509,13,10514,14,10518,13,10523,0,11111]
[12,10624,13,10629,13,10633,14,10637,13,10645,1,11111]
[21,10749,22,10754,24,10759,23,10764,24,10769,0,22222]
[12,10874,13,10879,13,10884,14,10893,13,10900,0,11111]
[12,11010,13,11014,13,11018,14,11022,13,11027,0,11111]
[12,11134,13,11139,13,11143,14,11148,13,11153,0,11111]
[12,11260,13,11265,13,11269,14,11274,13,11283,1,11111]
[12,11402,13,11407,13,11412,14,11416,13,11420,0,11111]
[12,11524,13,11529,13,11533,14,11541,13,11545,0,11111]
[12,11658,13,11662,13,11666,14,11670,13,11675,0,11111]
[12,11775,13,11789,13,11792,14,11797,13,11801,0,11111]
[12,11900,13,11904,13,11910,14,11914,13,11918,0,11111]
[12,12018,13,12023,13,12028,14,12032,13,12037,1,11111]
[12,12143,13,12148,13,12152,14,12158,13,12163,0,11111]
[12,12261,13,12265,13,12269,14,12273,13,12277,0,11111]
[12,12383,13,12387,13,12395,14,12399,13,12404,1,11111]
[12,12502,13,12507,13,12512,14,12516,13,12520,0,11111]
[12,12613,13,12617,13,12622,14,12634,13,12638,0,11111]
[12,12739,13,12745,13,12749,14,12753,13,12758,0,11111]
[12,12854,13,12859,13,12863,14,12867,13,12871,0,11111]
[12,12970,13,12974,13,12980,14,12984,13,12992,0,11111]
[12,13095,13,13099,13,13103,14,13107,13,13111,0,11111]
[12,13218,13,13223,13,13227,14,13231,13,13236,0,11111]
[12,13344,13,13349,13,13353,14,13357,13,13367,1,11111]
[12,13462,13,13468,13,13473,14,13478,13,13483,0,11111]
[12,13586,13,13591,13,13596,14,13600,13,13610,0,11111]
[12,13719,13,13728,13,13733,14,13737,13,13756,0,11111]
[12,13856,13,13860,13,13865,14,13870,13,13874,0,11111]
[12,13979,13,13984,13,13989,14,13993,13,14002,1,11111]
[21,14134,22,14139,24,14149,23,14157,24,14166,0,22222]
[12,14266,13,14271,13,14275,14,14280,13,14284,0,11111]
[12,14383,13,14388,13,14392,14,14400,13,14406,0,11111]
[12,14510,13,14514,13,14518,14,14523,13,14527,0,11111]
[12,14624,13,14628,13,14633,14,14637,13,14642,0,11111]
[12,14742,13,14747,13,14751,14,14759,13,14764,1,11111]
[12,14861,13,14865,13,14870,14,14874,13,14879,0,11111]
[12,14979,13,14984,13,14989,14,14992,13,14997,0,11111]
[12,15101,13,15106,13,15110,14,15114,13,15125,1,11111]
[12,15236,13,15241,13,15245,14,15250,13,15255,1,11111]
[12,15353,13,15358,13,15362,14,15367,13,15372,0,11111]
[12,15472,13,15476,13,15480,14,15490,13,15494,0,11111]
[12,15609,13,15614,13,15619,14,15623,13,15628,0,11111]
[21,15794,22,15802,24,15811,23,15820,24,15826,0,22222]
[12,15925,13,15929,13,15933,14,15937,13,15941,0,11111]
[12,16042,13,16046,13,16051,14,16055,13,16060,0,11111]
[12,16163,13,16167,13,16171,14,16175,13,16179,1,11111]
[12,16296,13,16301,13,16307,14,16313,13,16317,0,11111]
[12,16415,13,16423,13,16427,14,16432,13,16437,0,11111]
[12,16536,13,16540,13,16544,14,16548,13,16552,0,11111]
[12,16652,13,16657,13,16661,14,16666,13,16673,0,11111]
[12,16771,13,16775,13,16779,14,16783,13,16788,0,11111]
[12,16896,13,16901,13,16905,14,16910,13,16916,0,11111]
[12,17019,13,17024,13,17033,14,17037,13,17042,0,11111]
[12,17141,13,17145,13,17150,14,17154,13,17163,1,11111]
[12,17259,13,17263,13,17268,14,17273,13,17278,1,11111]
[12,17387,13,17391,13,17395,14,17400,13,17404,0,11111]
[12,17507,13,17514,13,17518,14,17525,13,17530,0,11111]
[12,17634,13,17640,13,17649,14,17653,13,17658,0,11111]
[12,17756,13,17761,13,17765,14,17770,13,17777,0,11111]
[12,17875,13,17880,13,17884,14,17892,13,17896,1,11111]
[12,18000,13,18005,13,18017,14,18022,13,18031,0,11111]
[12,18130,13,18135,13,18139,14,18143,13,18148,0,11111]
[12,18247,13,18251,13,18255,14,18259,13,18265,0,11111]
[12,18365,13,18391,13,18400,14,18405,13,18409,0,11111]
[12,18514,13,18519,13,18523,14,18528,13,18533,0,11111]
[12,18635,13,18639,13,18643,14,18647,13,18652,0,11111]
[12,18752,13,18758,13,18768,14,18773,13,18777,0,11111]
[12,18880,13,18885,13,18890,14,18897,13,18902,0,11111]
[12,19002,13,19010,13,19020,14,19024,13,19029,1,11111]
[12,19133,13,19137,13,19141,14,19145,13,19150,0,11111]
[12,19250,13,19254,13,19258,14,19262,13,19266,0,11111]
[12,19372,13,19377,13,19382,14,19386,13,19397,1,11111]
[12,19493,13,19498,13,19502,14,19510,13,19518,0,11111]
[12,19618,13,19623,13,19627,14,19632,13,19639,0,11111]
[12,19745,13,19749,13,19754,14,19758,13,19766,0,11111]
[12,19868,13,19873,13,19881,14,19891,13,19926,1,11111]
[12,20046,13,20052,13,20056,14,20064,13,20074,0,11111]
[12,20185,13,20202,13,20210,14,20215,13,20227,0,11111]
[12,20328,13,20332,13,20335,14,20339,13,20344,0,11111]
[12,20442,13,20448,13,20453,14,20457,13,20462,0,11111]
[12,20566,13,20570,13,20574,14,20578,13,20582,1,11111]
[12,20683,13,20689,13,20693,14,20698,13,20711,0,11111]
[12,20811,13,20816,13,20820,14,20824,13,20828,0,11111]
[12,20944,13,20949,13,20954,14,20962,13,20967,0,11111]
[12,21067,13,21071,13,21075,14,21079,13,21083,0,11111]
[12,21186,13,21189,13,21196,14,21201,13,21215,0,11111]
[12,21319,13,21328,13,21333,14,21339,13,21344,0,11111]
[12,21457,13,21461,13,21467,14,21471,13,21476,0,11111]
[12,21575,13,21579,13,21583,14,21588,13,21596,1,11111]
[12,21697,13,21701,13,21705,14,21710,13,21714,0,11111]
[12,21814,13,21818,13,21823,14,21828,13,21833,0,11111]
[12,21931,13,21935,13,21940,14,21944,13,21948,0,11111]
[12,22047,13,22052,13,22056,14,22060,13,22065,0,11111]
[12,22164,13,22168,13,22172,14,22176,13,22181,0,11111]
[12,22279,13,22302,13,22307,14,22312,13,22318,0,11111]
[12,22422,13,22427,13,22433,14,22438,13,22443,0,11111]
[12,22546,13,22550,13,22554,14,22565,13,22573,0,11111]
[12,22678,13,22682,13,22686,14,22690,13,22695,0,11111]
[12,22796,13,22800,13,22804,14,22809,13,22813,0,11111]
[12,22914,13,22917,13,22921,14,22925,13,22929,0,11111]
[12,23033,13,23038,13,23042,14,23047,13,23052,1,11111]
[12,23166,13,23178,13,23184,14,23190,13,23195,0,11111]
[12,23299,13,23303,13,23307,14,23311,13,23316,0,11111]
[12,23419,13,23423,13,23437,14,23442,13,23456,0,11111]
[12,23560,13,23564,13,23568,14,23572,13,23577,0,11111]
[12,23676,13,23681,13,23686,14,23690,13,23695,0,11111]
[12,23802,13,23806,13,23811,14,23815,13,23820,0,11111]
[12,23921,13,23925,13,23930,14,23935,13,23939,null,11111]

{"sheet":"!MC14930.010","index":17,"n_rows":200,"n_cols":48,"rows_kept":200,"cut":false,"hidden":false,"merged":[[4,39,4,42],[5,39,5,40],[4,44,4,47],[5,44,5,45],[4,24,4,27],[5,24,5,25],[4,29,4,32],[5,29,5,30],[4,34,4,37],[5,34,5,35],[1,1,1,2],[5,13,5,14],[42,13,42,14],[43,13,43,14],[4,19,4,22],[5,19,5,20]]}
["Report for:!MC14930.010"]
["Date:","<date>"]
["Hen:","<hen>",null,null,null,"Correct Sequence",{"$f":"Start!J2","v":21121},null,null,null,null,null,null,null,null,"Total Sequences in Data",{"$f":"4994-COUNTBLANK(L7:L5000)","v":194},null,null,null,null,"Total Sequences in Block Data",{"$f":"COUNTA(L7:L38)","v":32},null,null,null,"Total Sequences in Block Data",{"$f":"COUNTA(L39:L71)","v":33},null,null,null,"Total Sequences in Block Data",{"$f":"COUNTA(L72:L103)","v":32},null,null,null,"Total Sequences in Block Data",{"$f":"COUNTA(L104:L135)","v":32},null,null,null,"Total Sequences in Block Data",{"$f":"COUNTA(L136:L168)","v":33},null,null,null,"Total Sequences in Block Data",{"$f":"COUNTA(L169:L200)","v":32}]
[null,null,null,null,null,null,null,null,null,null,null,null,null,null,null,"Total Sequences in Summary",{"$f":"SUM(O7:O38)","v":194},null,null,null,null,"Total Sequences in Block Summary",{"$f":"SUM(U7:U38)","v":32},null,null,null,"Total Sequences in Block Summary",{"$f":"SUM(Z7:Z38)","v":33},null,null,null,"Total Sequences in Block Summary",{"$f":"SUM(AE7:AE38)","v":32},null,null,null,"Total Sequences in Block Summary",{"$f":"SUM(AJ7:AJ38)","v":32},null,null,null,"Total Sequences in Block Summary",{"$f":"SUM(AO7:AO38)","v":33},null,null,null,"Total Sequences in Block Summary",{"$f":"SUM(AT7:AT38)","v":32}]
[null,null,null,null,null,null,null,null,null,null,null,null,null,null,null,null,null,null,null,"Block 1",null,null,null,null,"Block 2",null,null,null,null,"Block 3",null,null,null,null,"Block 4",null,null,null,null,"Block 5",null,null,null,null,"Block 6"]
["Sequence\nComponent\n1","Time\n1","Sequence\nComponent\n2","Time\n2","Sequence\nComponent\n3","Time\n3","Sequence\nComponent\n4","Time\n4","Sequence\nComponent\n5","Time\n5","Correct?\n0=No 1=Yes","Sequence",null,"Frequency",null,"Relative Frequency","Variability",null,null,"Frequency",null,"Relative Frequency","Variability",null,"Frequency",null,"Relative Frequency","Variability",null,"Frequency",null,"Relative Frequency","Variability",null,"Frequency",null,"Relative Frequency","Variability",null,"Frequency",null,"Relative Frequency","Variability",null,"Frequency",null,"Relative Frequency","Variability"]
[12,17,13,32,13,37,14,41,13,46,0,11111,null,11111,{"$f":"COUNTIF($L$7:$L$500,N7)","v":191},{"$f":"O7/$Q$4","v":0.98453608247422686},{"$f":"IF(P7=0,0,(P7*((LOG(P7))/LOG(2))))","v":-2.213632321089367E-2},null,null,{"$f":"N7","v":11111},{"$f":"COUNTIF(L7:L38,T7)","v":31},{"$f":"U7/(W4-U25)","v":0.96875},{"$f":"IF(V7=0,0,(V7*((LOG(V7))/LOG(2))))","v":-4.4372324312714644E-2},null,{"$f":"N7","v":11111},{"$f":"COUNTIF(L39:L71,Y7)","v":33},{"$f":"Z7/(AB4-Z25)","v":1},{"$f":"IF(AA7=0,0,(AA7*((LOG(AA7))/LOG(2))))","v":0},null,{"$f":"N7","v":11111},{"$f":"COUNTIF(L72:L103,AD7)","v":32},{"$f":"AE7/(AG4-AE25)","v":1},{"$f":"IF(AF7=0,0,(AF7*((LOG(AF7))/LOG(2))))","v":0},null,{"$f":"N7","v":11111},{"$f":"COUNTIF(L104:L135,AI7)","v":31},{"$f":"AJ7/(AL4-AJ25)","v":0.96875},{"$f":"IF(AK7=0,0,(AK7*((LOG(AK7))/LOG(2))))","v":-4.4372324312714644E-2},null,{"$f":"N7","v":11111},{"$f":"COUNTIF(L136:L168,AN7)","v":33},{"$f":"AO7/(AQ4-AO25)","v":1},{"$f":"IF(AP7=0,0,(AP7*((LOG(AP7))/LOG(2))))","v":0},null,{"$f":"N7","v":11111},{"$f":"COUNTIF(L169:L200,AS7)","v":31},{"$f":"AT7/(AV4-AT25)","v":0.96875},{"$f":"IF(AU7=0,0,(AU7*((LOG(AU7))/LOG(2))))","v":-4.4372324312714644E-2}]
[12,155,13,159,13,163,14,168,13,173,0,11111,null,11112,{"$f":"COUNTIF($L$7:$L$500,N8)","v":0},{"$f":"O8/$Q$4","v":0},{"$f":"IF(P8=0,0,(P8*((LOG(P8))/LOG(2))))","v":0},null,null,{"$f":"N8","v":11112},{"$f":"COUNTIF(L7:L38,T8)","v":0},{"$f":"U8/(W4-U25)","v":0},{"$f":"IF(V8=0,0,(V8*((LOG(V8))/LOG(2))))","v":0},null,{"$f":"N8","v":11112},{"$f":"COUNTIF(L39:L71,Y8)","v":0},{"$f":"Z8/(AB4-Z25)","v":0},{"$f":"IF(AA8=0,0,(AA8*((LOG(AA8))/LOG(2))))","v":0},null,{"$f":"N8","v":11112},{"$f":"COUNTIF(L72:L103,AD8)","v":0},{"$f":"AE8/(AG4-AE25)","v":0},{"$f":"IF(AF8=0,0,(AF8*((LOG(AF8))/LOG(2))))","v":0},null,{"$f":"N8","v":11112},{"$f":"COUNTIF(L104:L135,AI8)","v":0},{"$f":"AJ8/(AL4-AJ25)","v":0},{"$f":"IF(AK8=0,0,(AK8*((LOG(AK8))/LOG(2))))","v":0},null,{"$f":"N8","v":11112},{"$f":"COUNTIF(L136:L168,AN8)","v":0},{"$f":"AO8/(AQ4-AO25)","v":0},{"$f":"IF(AP8=0,0,(AP8*((LOG(AP8))/LOG(2))))","v":0},null,{"$f":"N8","v":11112},{"$f":"COUNTIF(L169:L200,AS8)","v":0},{"$f":"AT8/(AV4-AT25)","v":0},{"$f":"IF(AU8=0,0,(AU8*((LOG(AU8))/LOG(2))))","v":0}]
[12,272,13,277,13,282,14,286,13,291,0,11111,null,11121,{"$f":"COUNTIF($L$7:$L$500,N9)","v":0},{"$f":"O9/$Q$4","v":0},{"$f":"IF(P9=0,0,(P9*((LOG(P9))/LOG(2))))","v":0},null,null,{"$f":"N9","v":11121},{"$f":"COUNTIF(L7:L38,T9)","v":0},{"$f":"U9/(W4-U25)","v":0},{"$f":"IF(V9=0,0,(V9*((LOG(V9))/LOG(2))))","v":0},null,{"$f":"N9","v":11121},{"$f":"COUNTIF(L39:L71,Y9)","v":0},{"$f":"Z9/(AB4-Z25)","v":0},{"$f":"IF(AA9=0,0,(AA9*((LOG(AA9))/LOG(2))))","v":0},null,{"$f":"N9","v":11121},{"$f":"COUNTIF(L72:L103,AD9)","v":0},{"$f":"AE9/(AG4-AE25)","v":0},{"$f":"IF(AF9=0,0,(AF9*((LOG(AF9))/LOG(2))))","v":0},null,{"$f":"N9","v":11121},{"$f":"COUNTIF(L104:L135,AI9)","v":0},{"$f":"AJ9/(AL4-AJ25)","v":0},{"$f":"IF(AK9=0,0,(AK9*((LOG(AK9))/LOG(2))))","v":0},null,{"$f":"N9","v":11121},{"$f":"COUNTIF(L136:L168,AN9)","v":0},{"$f":"AO9/(AQ4-AO25)","v":0},{"$f":"IF(AP9=0,0,(AP9*((LOG(AP9))/LOG(2))))","v":0},null,{"$f":"N9","v":11121},{"$f":"COUNTIF(L169:L200,AS9)","v":0},{"$f":"AT9/(AV4-AT25)","v":0},{"$f":"IF(AU9=0,0,(AU9*((LOG(AU9))/LOG(2))))","v":0}]
[12,404,13,408,13,413,14,417,13,422,1,11111,null,11122,{"$f":"COUNTIF($L$7:$L$500,N10)","v":0},{"$f":"O10/$Q$4","v":0},{"$f":"IF(P10=0,0,(P10*((LOG(P10))/LOG(2))))","v":0},null,null,{"$f":"N10","v":11122},{"$f":"COUNTIF(L7:L38,T10)","v":0},{"$f":"U10/(W4-U25)","v":0},{"$f":"IF(V10=0,0,(V10*((LOG(V10))/LOG(2))))","v":0},null,{"$f":"N10","v":11122},{"$f":"COUNTIF(L39:L71,Y10)","v":0},{"$f":"Z10/(AB4-Z25)","v":0},{"$f":"IF(AA10=0,0,(AA10*((LOG(AA10))/LOG(2))))","v":0},null,{"$f":"N10","v":11122},{"$f":"COUNTIF(L72:L103,AD10)","v":0},{"$f":"AE10/(AG4-AE25)","v":0},{"$f":"IF(AF10=0,0,(AF10*((LOG(AF10))/LOG(2))))","v":0},null,{"$f":"N10","v":11122},{"$f":"COUNTIF(L104:L135,AI10)","v":0},{"$f":"AJ10/(AL4-AJ25)","v":0},{"$f":"IF(AK10=0,0,(AK10*((LOG(AK10))/LOG(2))))","v":0},null,{"$f":"N10","v":11122},{"$f":"COUNTIF(L136:L168,AN10)","v":0},{"$f":"AO10/(AQ4-AO25)","v":0},{"$f":"IF(AP10=0,0,(AP10*((LOG(AP10))/LOG(2))))","v":0},null,{"$f":"N10","v":11122},{"$f":"COUNTIF(L169:L200,AS10)","v":0},{"$f":"AT10/(AV4-AT25)","v":0},{"$f":"IF(AU10=0,0,(AU10*((LOG(AU10))/LOG(2))))","v":0}]
[12,527,13,532,13,536,14,541,13,546,1,11111,null,11211,{"$f":"COUNTIF($L$7:$L$500,N11)","v":0},{"$f":"O11/$Q$4","v":0},{"$f":"IF(P11=0,0,(P11*((LOG(P11))/LOG(2))))","v":0},null,null,{"$f":"N11","v":11211},{"$f":"COUNTIF(L7:L38,T11)","v":0},{"$f":"U11/(W4-U25)","v":0},{"$f":"IF(V11=0,0,(V11*((LOG(V11))/LOG(2))))","v":0},null,{"$f":"N11","v":11211},{"$f":"COUNTIF(L39:L71,Y11)","v":0},{"$f":"Z11/(AB4-Z25)","v":0},{"$f":"IF(AA11=0,0,(AA11*((LOG(AA11))/LOG(2))))","v":0},null,{"$f":"N11","v":11211},{"$f":"COUNTIF(L72:L103,AD11)","v":0},{"$f":"AE11/(AG4-AE25)","v":0},{"$f":"IF(AF11=0,0,(AF11*((LOG(AF11))/LOG(2))))","v":0},null,{"$f":"N11","v":11211},{"$f":"COUNTIF(L104:L135,AI11)","v":0},{"$f":"AJ11/(AL4-AJ25)","v":0},{"$f":"IF(AK11=0,0,(AK11*((LOG(AK11))/LOG(2))))","v":0},null,{"$f":"N11","v":11211},{"$f":"COUNTIF(L136:L168,AN11)","v":0},{"$f":"AO11/(AQ4-AO25)","v":0},{"$f":"IF(AP11=0,0,(AP11*((LOG(AP11))/LOG(2))))","v":0},null,{"$f":"N11","v":11211},{"$f":"COUNTIF(L169:L200,AS11)","v":0},{"$f":"AT11/(AV4-AT25)","v":0},{"$f":"IF(AU11=0,0,(AU11*((LOG(AU11))/LOG(2))))","v":0}]
[12,647,24,671,24,677,14,709,13,713,0,12211,null,11212,{"$f":"COUNTIF($L$7:$L$500,N12)","v":0},{"$f":"O12/$Q$4","v":0},{"$f":"IF(P12=0,0,(P12*((LOG(P12))/LOG(2))))","v":0},null,null,{"$f":"N12","v":11212},{"$f":"COUNTIF(L7:L38,T12)","v":0},{"$f":"U12/(W4-U25)","v":0},{"$f":"IF(V12=0,0,(V12*((LOG(V12))/LOG(2))))","v":0},null,{"$f":"N12","v":11212},{"$f":"COUNTIF(L39:L71,Y12)","v":0},{"$f":"Z12/(AB4-Z25)","v":0},{"$f":"IF(AA12=0,0,(AA12*((LOG(AA12))/LOG(2))))","v":0},null,{"$f":"N12","v":11212},{"$f":"COUNTIF(L72:L103,AD12)","v":0},{"$f":"AE12/(AG4-AE25)","v":0},{"$f":"IF(AF12=0,0,(AF12*((LOG(AF12))/LOG(2))))","v":0},null,{"$f":"N12","v":11212},{"$f":"COUNTIF(L104:L135,AI12)","v":0},{"$f":"AJ12/(AL4-AJ25)","v":0},{"$f":"IF(AK12=0,0,(AK12*((LOG(AK12))/LOG(2))))","v":0},null,{"$f":"N12","v":11212},{"$f":"COUNTIF(L136:L168,AN12)","v":0},{"$f":"AO12/(AQ4-AO25)","v":0},{"$f":"IF(AP12=0,0,(AP12*((LOG(AP12))/LOG(2))))","v":0},null,{"$f":"N12","v":11212},{"$f":"COUNTIF(L169:L200,AS12)","v":0},{"$f":"AT12/(AV4-AT25)","v":0},{"$f":"IF(AU12=0,0,(AU12*((LOG(AU12))/LOG(2))))","v":0}]
[12,813,13,818,13,823,14,828,13,834,0,11111,null,11221,{"$f":"COUNTIF($L$7:$L$500,N13)","v":0},{"$f":"O13/$Q$4","v":0},{"$f":"IF(P13=0,0,(P13*((LOG(P13))/LOG(2))))","v":0},null,null,{"$f":"N13","v":11221},{"$f":"COUNTIF(L7:L38,T13)","v":0},{"$f":"U13/(W4-U25)","v":0},{"$f":"IF(V13=0,0,(V13*((LOG(V13))/LOG(2))))","v":0},null,{"$f":"N13","v":11221},{"$f":"COUNTIF(L39:L71,Y13)","v":0},{"$f":"Z13/(AB4-Z25)","v":0},{"$f":"IF(AA13=0,0,(AA13*((LOG(AA13))/LOG(2))))","v":0},null,{"$f":"N13","v":11221},{"$f":"COUNTIF(L72:L103,AD13)","v":0},{"$f":"AE13/(AG4-AE25)","v":0},{"$f":"IF(AF13=0,0,(AF13*((LOG(AF13))/LOG(2))))","v":0},null,{"$f":"N13","v":11221},{"$f":"COUNTIF(L104:L135,AI13)","v":0},{"$f":"AJ13/(AL4-AJ25)","v":0},{"$f":"IF(AK13=0,0,(AK13*((LOG(AK13))/LOG(2))))","v":0},null,{"$f":"N13","v":11221},{"$f":"COUNTIF(L136:L168,AN13)","v":0},{"$f":"AO13/(AQ4-AO25)","v":0},{"$f":"IF(AP13=0,0,(AP13*((LOG(AP13))/LOG(2))))","v":0},null,{"$f":"N13","v":11221},{"$f":"COUNTIF(L169:L200,AS13)","v":0},{"$f":"AT13/(AV4-AT25)","v":0},{"$f":"IF(AU13=0,0,(AU13*((LOG(AU13))/LOG(2))))","v":0}]
[12,932,13,937,13,942,14,946,13,952,0,11111,null,11222,{"$f":"COUNTIF($L$7:$L$500,N14)","v":1},{"$f":"O14/$Q$4","v":5.1546391752577319E-3},{"$f":"IF(P14=0,0,(P14*((LOG(P14))/LOG(2))))","v":-3.9174808464882103E-2},null,null,{"$f":"N14","v":11222},{"$f":"COUNTIF(L7:L38,T14)","v":0},{"$f":"U14/(W4-U25)","v":0},{"$f":"IF(V14=0,0,(V14*((LOG(V14))/LOG(2))))","v":0},null,{"$f":"N14","v":11222},{"$f":"COUNTIF(L39:L71,Y14)","v":0},{"$f":"Z14/(AB4-Z25)","v":0},{"$f":"IF(AA14=0,0,(AA14*((LOG(AA14))/LOG(2))))","v":0},null,{"$f":"N14","v":11222},{"$f":"COUNTIF(L72:L103,AD14)","v":0},{"$f":"AE14/(AG4-AE25)","v":0},{"$f":"IF(AF14=0,0,(AF14*((LOG(AF14))/LOG(2))))","v":0},null,{"$f":"N14","v":11222},{"$f":"COUNTIF(L104:L135,AI14)","v":0},{"$f":"AJ14/(AL4-AJ25)","v":0},{"$f":"IF(AK14=0,0,(AK14*((LOG(AK14))/LOG(2))))","v":0},null,{"$f":"N14","v":11222},{"$f":"COUNTIF(L136:L168,AN14)","v":0},{"$f":"AO14/(AQ4-AO25)","v":0},{"$f":"IF(AP14=0,0,(AP14*((LOG(AP14))/LOG(2))))","v":0},null,{"$f":"N14","v":11222},{"$f":"COUNTIF(L169:L200,AS14)","v":1},{"$f":"AT14/(AV4-AT25)","v":3.125E-2},{"$f":"IF(AU14=0,0,(AU14*((LOG(AU14))/LOG(2))))","v":-0.15625}]
[12,1056,13,1060,13,1065,14,1070,13,1076,1,11111,null,12111,{"$f":"COUNTIF($L$7:$L$500,N15)","v":0},{"$f":"O15/$Q$4","v":0},{"$f":"IF(P15=0,0,(P15*((LOG(P15))/LOG(2))))","v":0},null,null,{"$f":"N15","v":12111},{"$f":"COUNTIF(L7:L38,T15)","v":0},{"$f":"U15/(W4-U25)","v":0},{"$f":"IF(V15=0,0,(V15*((LOG(V15))/LOG(2))))","v":0},null,{"$f":"N15","v":12111},{"$f":"COUNTIF(L39:L71,Y15)","v":0},{"$f":"Z15/(AB4-Z25)","v":0},{"$f":"IF(AA15=0,0,(AA15*((LOG(AA15))/LOG(2))))","v":0},null,{"$f":"N15","v":12111},{"$f":"COUNTIF(L72:L103,AD15)","v":0},{"$f":"AE15/(AG4-AE25)","v":0},{"$f":"IF(AF15=0,0,(AF15*((LOG(AF15))/LOG(2))))","v":0},null,{"$f":"N15","v":12111},{"$f":"COUNTIF(L104:L135,AI15)","v":0},{"$f":"AJ15/(AL4-AJ25)","v":0},{"$f":"IF(AK15=0,0,(AK15*((LOG(AK15))/LOG(2))))","v":0},null,{"$f":"N15","v":12111},{"$f":"COUNTIF(L136:L168,AN15)","v":0},{"$f":"AO15/(AQ4-AO25)","v":0},{"$f":"IF(AP15=0,0,(AP15*((LOG(AP15))/LOG(2))))","v":0},null,{"$f":"N15","v":12111},{"$f":"COUNTIF(L169:L200,AS15)","v":0},{"$f":"AT15/(AV4-AT25)","v":0},{"$f":"IF(AU15=0,0,(AU15*((LOG(AU15))/LOG(2))))","v":0}]
[12,1175,13,1182,13,1187,14,1191,13,1196,0,11111,null,12112,{"$f":"COUNTIF($L$7:$L$500,N16)","v":0},{"$f":"O16/$Q$4","v":0},{"$f":"IF(P16=0,0,(P16*((LOG(P16))/LOG(2))))","v":0},null,null,{"$f":"N16","v":12112},{"$f":"COUNTIF(L7:L38,T16)","v":0},{"$f":"U16/(W4-U25)","v":0},{"$f":"IF(V16=0,0,(V16*((LOG(V16))/LOG(2))))","v":0},null,{"$f":"N16","v":12112},{"$f":"COUNTIF(L39:L71,Y16)","v":0},{"$f":"Z16/(AB4-Z25)","v":0},{"$f":"IF(AA16=0,0,(AA16*((LOG(AA16))/LOG(2))))","v":0},null,{"$f":"N16","v":12112},{"$f":"COUNTIF(L72:L103,AD16)","v":0},{"$f":"AE16/(AG4-AE25)","v":0},{"$f":"IF(AF16=0,0,(AF16*((LOG(AF16))/LOG(2))))","v":0},null,{"$f":"N16","v":12112},{"$f":"COUNTIF(L104:L135,AI16)","v":0},{"$f":"AJ16/(AL4-AJ25)","v":0},{"$f":"IF(AK16=0,0,(AK16*((LOG(AK16))/LOG(2))))","v":0},null,{"$f":"N16","v":12112},{"$f":"COUNTIF(L136:L168,AN16)","v":0},{"$f":"AO16/(AQ4-AO25)","v":0},{"$f":"IF(AP16=0,0,(AP16*((LOG(AP16))/LOG(2))))","v":0},null,{"$f":"N16","v":12112},{"$f":"COUNTIF(L169:L200,AS16)","v":0},{"$f":"AT16/(AV4-AT25)","v":0},{"$f":"IF(AU16=0,0,(AU16*((LOG(AU16))/LOG(2))))","v":0}]
[12,1296,13,1301,13,1305,14,1310,13,1314,0,11111,null,12121,{"$f":"COUNTIF($L$7:$L$500,N17)","v":0},{"$f":"O17/$Q$4","v":0},{"$f":"IF(P17=0,0,(P17*((LOG(P17))/LOG(2))))","v":0},null,null,{"$f":"N17","v":12121},{"$f":"COUNTIF(L7:L38,T17)","v":0},{"$f":"U17/(W4-U25)","v":0},{"$f":"IF(V17=0,0,(V17*((LOG(V17))/LOG(2))))","v":0},null,{"$f":"N17","v":12121},{"$f":"COUNTIF(L39:L71,Y17)","v":0},{"$f":"Z17/(AB4-Z25)","v":0},{"$f":"IF(AA17=0,0,(AA17*((LOG(AA17))/LOG(2))))","v":0},null,{"$f":"N17","v":12121},{"$f":"COUNTIF(L72:L103,AD17)","v":0},{"$f":"AE17/(AG4-AE25)","v":0},{"$f":"IF(AF17=0,0,(AF17*((LOG(AF17))/LOG(2))))","v":0},null,{"$f":"N17","v":12121},{"$f":"COUNTIF(L104:L135,AI17)","v":0},{"$f":"AJ17/(AL4-AJ25)","v":0},{"$f":"IF(AK17=0,0,(AK17*((LOG(AK17))/LOG(2))))","v":0},null,{"$f":"N17","v":12121},{"$f":"COUNTIF(L136:L168,AN17)","v":0},{"$f":"AO17/(AQ4-AO25)","v":0},{"$f":"IF(AP17=0,0,(AP17*((LOG(AP17))/LOG(2))))","v":0},null,{"$f":"N17","v":12121},{"$f":"COUNTIF(L169:L200,AS17)","v":0},{"$f":"AT17/(AV4-AT25)","v":0},{"$f":"IF(AU17=0,0,(AU17*((LOG(AU17))/LOG(2))))","v":0}]
[12,1417,13,1422,13,1426,14,1430,13,1435,0,11111,null,12122,{"$f":"COUNTIF($L$7:$L$500,N18)","v":0},{"$f":"O18/$Q$4","v":0},{"$f":"IF(P18=0,0,(P18*((LOG(P18))/LOG(2))))","v":0},null,null,{"$f":"N18","v":12122},{"$f":"COUNTIF(L7:L38,T18)","v":0},{"$f":"U18/(W4-U25)","v":0},{"$f":"IF(V18=0,0,(V18*((LOG(V18))/LOG(2))))","v":0},null,{"$f":"N18","v":12122},{"$f":"COUNTIF(L39:L71,Y18)","v":0},{"$f":"Z18/(AB4-Z25)","v":0},{"$f":"IF(AA18=0,0,(AA18*((LOG(AA18))/LOG(2))))","v":0},null,{"$f":"N18","v":12122},{"$f":"COUNTIF(L72:L103,AD18)","v":0},{"$f":"AE18/(AG4-AE25)","v":0},{"$f":"IF(AF18=0,0,(AF18*((LOG(AF18))/LOG(2))))","v":0},null,{"$f":"N18","v":12122},{"$f":"COUNTIF(L104:L135,AI18)","v":0},{"$f":"AJ18/(AL4-AJ25)","v":0},{"$f":"IF(AK18=0,0,(AK18*((LOG(AK18))/LOG(2))))","v":0},null,{"$f":"N18","v":12122},{"$f":"COUNTIF(L136:L168,AN18)","v":0},{"$f":"AO18/(AQ4-AO25)","v":0},{"$f":"IF(AP18=0,0,(AP18*((LOG(AP18))/LOG(2))))","v":0},null,{"$f":"N18","v":12122},{"$f":"COUNTIF(L169:L200,AS18)","v":0},{"$f":"AT18/(AV4-AT25)","v":0},{"$f":"IF(AU18=0,0,(AU18*((LOG(AU18))/LOG(2))))","v":0}]
[12,1534,13,1538,13,1543,14,1548,13,1553,0,11111,null,12211,{"$f":"COUNTIF($L$7:$L$500,N19)","v":1},{"$f":"O19/$Q$4","v":5.1546391752577319E-3},{"$f":"IF(P19=0,0,(P19*((LOG(P19))/LOG(2))))","v":-3.9174808464882103E-2},null,null,{"$f":"N19","v":12211},{"$f":"COUNTIF(L7:L38,T19)","v":1},{"$f":"U19/(W4-U25)","v":3.125E-2},{"$f":"IF(V19=0,0,(V19*((LOG(V19))/LOG(2))))","v":-0.15625},null,{"$f":"N19","v":12211},{"$f":"COUNTIF(L39:L71,Y19)","v":0},{"$f":"Z19/(AB4-Z25)","v":0},{"$f":"IF(AA19=0,0,(AA19*((LOG(AA19))/LOG(2))))","v":0},null,{"$f":"N19","v":12211},{"$f":"COUNTIF(L72:L103,AD19)","v":0},{"$f":"AE19/(AG4-AE25)","v":0},{"$f":"IF(AF19=0,0,(AF19*((LOG(AF19))/LOG(2))))","v":0},null,{"$f":"N19","v":12211},{"$f":"COUNTIF(L104:L135,AI19)","v":0},{"$f":"AJ19/(AL4-AJ25)","v":0},{"$f":"IF(AK19=0,0,(AK19*((LOG(AK19))/LOG(2))))","v":0},null,{"$f":"N19","v":12211},{"$f":"COUNTIF(L136:L168,AN19)","v":0},{"$f":"AO19/(AQ4-AO25)","v":0},{"$f":"IF(AP19=0,0,(AP19*((LOG(AP19))/LOG(2))))","v":0},null,{"$f":"N19","v":12211},{"$f":"COUNTIF(L169:L200,AS19)","v":0},{"$f":"AT19/(AV4-AT25)","v":0},{"$f":"IF(AU19=0,0,(AU19*((LOG(AU19))/LOG(2))))","v":0}]
[12,1664,13,1668,13,1673,14,1677,13,1681,0,11111,null,12212,{"$f":"COUNTIF($L$7:$L$500,N20)","v":0},{"$f":"O20/$Q$4","v":0},{"$f":"IF(P20=0,0,(P20*((LOG(P20))/LOG(2))))","v":0},null,null,{"$f":"N20","v":12212},{"$f":"COUNTIF(L7:L38,T20)","v":0},{"$f":"U20/(W4-U25)","v":0},{"$f":"IF(V20=0,0,(V20*((LOG(V20))/LOG(2))))","v":0},null,{"$f":"N20","v":12212},{"$f":"COUNTIF(L39:L71,Y20)","v":0},{"$f":"Z20/(AB4-Z25)","v":0},{"$f":"IF(AA20=0,0,(AA20*((LOG(AA20))/LOG(2))))","v":0},null,{"$f":"N20","v":12212},{"$f":"COUNTIF(L72:L103,AD20)","v":0},{"$f":"AE20/(AG4-AE25)","v":0},{"$f":"IF(AF20=0,0,(AF20*((LOG(AF20))/LOG(2))))","v":0},null,{"$f":"N20","v":12212},{"$f":"COUNTIF(L104:L135,AI20)","v":0},{"$f":"AJ20/(AL4-AJ25)","v":0},{"$f":"IF(AK20=0,0,(AK20*((LOG(AK20))/LOG(2))))","v":0},null,{"$f":"N20","v":12212},{"$f":"COUNTIF(L136:L168,AN20)","v":0},{"$f":"AO20/(AQ4-AO25)","v":0},{"$f":"IF(AP20=0,0,(AP20*((LOG(AP20))/LOG(2))))","v":0},null,{"$f":"N20","v":12212},{"$f":"COUNTIF(L169:L200,AS20)","v":0},{"$f":"AT20/(AV4-AT25)","v":0},{"$f":"IF(AU20=0,0,(AU20*((LOG(AU20))/LOG(2))))","v":0}]
[12,1792,13,1796,13,1801,14,1805,13,1818,1,11111,null,12221,{"$f":"COUNTIF($L$7:$L$500,N21)","v":0},{"$f":"O21/$Q$4","v":0},{"$f":"IF(P21=0,0,(P21*((LOG(P21))/LOG(2))))","v":0},null,null,{"$f":"N21","v":12221},{"$f":"COUNTIF(L7:L38,T21)","v":0},{"$f":"U21/(W4-U25)","v":0},{"$f":"IF(V21=0,0,(V21*((LOG(V21))/LOG(2))))","v":0},null,{"$f":"N21","v":12221},{"$f":"COUNTIF(L39:L71,Y21)","v":0},{"$f":"Z21/(AB4-Z25)","v":0},{"$f":"IF(AA21=0,0,(AA21*((LOG(AA21))/LOG(2))))","v":0},null,{"$f":"N21","v":12221},{"$f":"COUNTIF(L72:L103,AD21)","v":0},{"$f":"AE21/(AG4-AE25)","v":0},{"$f":"IF(AF21=0,0,(AF21*((LOG(AF21))/LOG(2))))","v":0},null,{"$f":"N21","v":12221},{"$f":"COUNTIF(L104:L135,AI21)","v":0},{"$f":"AJ21/(AL4-AJ25)","v":0},{"$f":"IF(AK21=0,0,(AK21*((LOG(AK21))/LOG(2))))","v":0},null,{"$f":"N21","v":12221},{"$f":"COUNTIF(L136:L168,AN21)","v":0},{"$f":"AO21/(AQ4-AO25)","v":0},{"$f":"IF(AP21=0,0,(AP21*((LOG(AP21))/LOG(2))))","v":0},null,{"$f":"N21","v":12221},{"$f":"COUNTIF(L169:L200,AS21)","v":0},{"$f":"AT21/(AV4-AT25)","v":0},{"$f":"IF(AU21=0,0,(AU21*((LOG(AU21))/LOG(2))))","v":0}]
[12,1918,13,1923,13,1927,14,1932,13,1937,0,11111,null,12222,{"$f":"COUNTIF($L$7:$L$500,N22)","v":1},{"$f":"O22/$Q$4","v":5.1546391752577319E-3},{"$f":"IF(P22=0,0,(P22*((LOG(P22))/LOG(2))))","v":-3.9174808464882103E-2},null,null,{"$f":"N22","v":12222},{"$f":"COUNTIF(L7:L38,T22)","v":0},{"$f":"U22/(W4-U25)","v":0},{"$f":"IF(V22=0,0,(V22*((LOG(V22))/LOG(2))))","v":0},null,{"$f":"N22","v":12222},{"$f":"COUNTIF(L39:L71,Y22)","v":0},{"$f":"Z22/(AB4-Z25)","v":0},{"$f":"IF(AA22=0,0,(AA22*((LOG(AA22))/LOG(2))))","v":0},null,{"$f":"N22","v":12222},{"$f":"COUNTIF(L72:L103,AD22)","v":0},{"$f":"AE22/(AG4-AE25)","v":0},{"$f":"IF(AF22=0,0,(AF22*((LOG(AF22))/LOG(2))))","v":0},null,{"$f":"N22","v":12222},{"$f":"COUNTIF(L104:L135,AI22)","v":1},{"$f":"AJ22/(AL4-AJ25)","v":3.125E-2},{"$f":"IF(AK22=0,0,(AK22*((LOG(AK22))/LOG(2))))","v":-0.15625},null,{"$f":"N22","v":12222},{"$f":"COUNTIF(L136:L168,AN22)","v":0},{"$f":"AO22/(AQ4-AO25)","v":0},{"$f":"IF(AP22=0,0,(AP22*((LOG(AP22))/LOG(2))))","v":0},null,{"$f":"N22","v":12222},{"$f":"COUNTIF(L169:L200,AS22)","v":0},{"$f":"AT22/(AV4-AT25)","v":0},{"$f":"IF(AU22=0,0,(AU22*((LOG(AU22))/LOG(2))))","v":0}]
[12,2037,13,2042,13,2046,14,2050,13,2054,0,11111,null,21111,{"$f":"COUNTIF($L$7:$L$500,N23)","v":0},{"$f":"O23/$Q$4","v":0},{"$f":"IF(P23=0,0,(P23*((LOG(P23))/LOG(2))))","v":0},null,null,{"$f":"N23","v":21111},{"$f":"COUNTIF(L7:L38,T23)","v":0},{"$f":"U23/(W4-U25)","v":0},{"$f":"IF(V23=0,0,(V23*((LOG(V23))/LOG(2))))","v":0},null,{"$f":"N23","v":21111},{"$f":"COUNTIF(L39:L71,Y23)","v":0},{"$f":"Z23/(AB4-Z25)","v":0},{"$f":"IF(AA23=0,0,(AA23*((LOG(AA23))/LOG(2))))","v":0},null,{"$f":"N23","v":21111},{"$f":"COUNTIF(L72:L103,AD23)","v":0},{"$f":"AE23/(AG4-AE25)","v":0},{"$f":"IF(AF23=0,0,(AF23*((LOG(AF23))/LOG(2))))","v":0},null,{"$f":"N23","v":21111},{"$f":"COUNTIF(L104:L135,AI23)","v":0},{"$f":"AJ23/(AL4-AJ25)","v":0},{"$f":"IF(AK23=0,0,(AK23*((LOG(AK23))/LOG(2))))","v":0},null,{"$f":"N23","v":21111},{"$f":"COUNTIF(L136:L168,AN23)","v":0},{"$f":"AO23/(AQ4-AO25)","v":0},{"$f":"IF(AP23=0,0,(AP23*((LOG(AP23))/LOG(2))))","v":0},null,{"$f":"N23","v":21111},{"$f":"COUNTIF(L169:L200,AS23)","v":0},{"$f":"AT23/(AV4-AT25)","v":0},{"$f":"IF(AU23=0,0,(AU23*((LOG(AU23))/LOG(2))))","v":0}]
[12,2154,13,2158,13,2162,14,2167,13,2176,0,11111,null,21112,{"$f":"COUNTIF($L$7:$L$500,N24)","v":0},{"$f":"O24/$Q$4","v":0},{"$f":"IF(P24=0,0,(P24*((LOG(P24))/LOG(2))))","v":0},null,null,{"$f":"N24","v":21112},{"$f":"COUNTIF(L7:L38,T24)","v":0},{"$f":"U24/(W4-U25)","v":0},{"$f":"IF(V24=0,0,(V24*((LOG(V24))/LOG(2))))","v":0},null,{"$f":"N24","v":21112},{"$f":"COUNTIF(L39:L71,Y24)","v":0},{"$f":"Z24/(AB4-Z25)","v":0},{"$f":"IF(AA24=0,0,(AA24*((LOG(AA24))/LOG(2))))","v":0},null,{"$f":"N24","v":21112},{"$f":"COUNTIF(L72:L103,AD24)","v":0},{"$f":"AE24/(AG4-AE25)","v":0},{"$f":"IF(AF24=0,0,(AF24*((LOG(AF24))/LOG(2))))","v":0},null,{"$f":"N24","v":21112},{"$f":"COUNTIF(L104:L135,AI24)","v":0},{"$f":"AJ24/(AL4-AJ25)","v":0},{"$f":"IF(AK24=0,0,(AK24*((LOG(AK24))/LOG(2))))","v":0},null,{"$f":"N24","v":21112},{"$f":"COUNTIF(L136:L168,AN24)","v":0},{"$f":"AO24/(AQ4-AO25)","v":0},{"$f":"IF(AP24=0,0,(AP24*((LOG(AP24))/LOG(2))))","v":0},null,{"$f":"N24","v":21112},{"$f":"COUNTIF(L169:L200,AS24)","v":0},{"$f":"AT24/(AV4-AT25)","v":0},{"$f":"IF(AU24=0,0,(AU24*((LOG(AU24))/LOG(2))))","v":0}]
[12,2279,13,2283,13,2288,14,2293,13,2298,1,11111,null,21121,{"$f":"COUNTIF($L$7:$L$500,N25)","v":0},{"$f":"O25/$Q$4","v":0},{"$f":"IF(P25=0,0,(P25*((LOG(P25))/LOG(2))))","v":0},null,null,{"$f":"N25","v":21121},{"$f":"COUNTIF(L7:L38,T25)","v":0},null,null,null,{"$f":"N25","v":21121},{"$f":"COUNTIF(L39:L71,Y25)","v":0},null,null,null,{"$f":"N25","v":21121},{"$f":"COUNTIF(L72:L103,AD25)","v":0},null,null,null,{"$f":"N25","v":21121},{"$f":"COUNTIF(L104:L135,AI25)","v":0},null,null,null,{"$f":"N25","v":21121},{"$f":"COUNTIF(L136:L168,AN25)","v":0},null,null,null,{"$f":"N25","v":21121},{"$f":"COUNTIF(L169:L200,AS25)","v":0}]
[12,2403,13,2408,13,2412,14,2417,13,2422,0,11111,null,21122,{"$f":"COUNTIF($L$7:$L$500,N26)","v":0},{"$f":"O26/$Q$4","v":0},{"$f":"IF(P26=0,0,(P26*((LOG(P26))/LOG(2))))","v":0},null,null,{"$f":"N26","v":21122},{"$f":"COUNTIF(L7:L38,T26)","v":0},{"$f":"U26/(W4-U25)","v":0},{"$f":"IF(V26=0,0,(V26*((LOG(V26))/LOG(2))))","v":0},null,{"$f":"N26","v":21122},{"$f":"COUNTIF(L39:L71,Y26)","v":0},{"$f":"Z26/(AB4-Z25)","v":0},{"$f":"IF(AA26=0,0,(AA26*((LOG(AA26))/LOG(2))))","v":0},null,{"$f":"N26","v":21122},{"$f":"COUNTIF(L72:L103,AD26)","v":0},{"$f":"AE26/(AG4-AE25)","v":0},{"$f":"IF(AF26=0,0,(AF26*((LOG(AF26))/LOG(2))))","v":0},null,{"$f":"N26","v":21122},{"$f":"COUNTIF(L104:L135,AI26)","v":0},{"$f":"AJ26/(AL4-AJ25)","v":0},{"$f":"IF(AK26=0,0,(AK26*((LOG(AK26))/LOG(2))))","v":0},null,{"$f":"N26","v":21122},{"$f":"COUNTIF(L136:L168,AN26)","v":0},{"$f":"AO26/(AQ4-AO25)","v":0},{"$f":"IF(AP26=0,0,(AP26*((LOG(AP26))/LOG(2))))","v":0},null,{"$f":"N26","v":21122},{"$f":"COUNTIF(L169:L200,AS26)","v":0},{"$f":"AT26/(AV4-AT25)","v":0},{"$f":"IF(AU26=0,0,(AU26*((LOG(AU26))/LOG(2))))","v":0}]
[12,2523,13,2527,13,2532,14,2537,13,2541,0,11111,null,21211,{"$f":"COUNTIF($L$7:$L$500,N27)","v":0},{"$f":"O27/$Q$4","v":0},{"$f":"IF(P27=0,0,(P27*((LOG(P27))/LOG(2))))","v":0},null,null,{"$f":"N27","v":21211},{"$f":"COUNTIF(L7:L38,T27)","v":0},{"$f":"U27/(W4-U25)","v":0},{"$f":"IF(V27=0,0,(V27*((LOG(V27))/LOG(2))))","v":0},null,{"$f":"N27","v":21211},{"$f":"COUNTIF(L39:L71,Y27)","v":0},{"$f":"Z27/(AB4-Z25)","v":0},{"$f":"IF(AA27=0,0,(AA27*((LOG(AA27))/LOG(2))))","v":0},null,{"$f":"N27","v":21211},{"$f":"COUNTIF(L72:L103,AD27)","v":0},{"$f":"AE27/(AG4-AE25)","v":0},{"$f":"IF(AF27=0,0,(AF27*((LOG(AF27))/LOG(2))))","v":0},null,{"$f":"N27","v":21211},{"$f":"COUNTIF(L104:L135,AI27)","v":0},{"$f":"AJ27/(AL4-AJ25)","v":0},{"$f":"IF(AK27=0,0,(AK27*((LOG(AK27))/LOG(2))))","v":0},null,{"$f":"N27","v":21211},{"$f":"COUNTIF(L136:L168,AN27)","v":0},{"$f":"AO27/(AQ4-AO25)","v":0},{"$f":"IF(AP27=0,0,(AP27*((LOG(AP27))/LOG(2))))","v":0},null,{"$f":"N27","v":21211},{"$f":"COUNTIF(L169:L200,AS27)","v":0},{"$f":"AT27/(AV4-AT25)","v":0},{"$f":"IF(AU27=0,0,(AU27*((LOG(AU27))/LOG(2))))","v":0}]
[12,2641,13,2645,13,2650,14,2655,13,2661,0,11111,null,21212,{"$f":"COUNTIF($L$7:$L$500,N28)","v":0},{"$f":"O28/$Q$4","v":0},{"$f":"IF(P28=0,0,(P28*((LOG(P28))/LOG(2))))","v":0},null,null,{"$f":"N28","v":21212},{"$f":"COUNTIF(L7:L38,T28)","v":0},{"$f":"U28/(W4-U25)","v":0},{"$f":"IF(V28=0,0,(V28*((LOG(V28))/LOG(2))))","v":0},null,{"$f":"N28","v":21212},{"$f":"COUNTIF(L39:L71,Y28)","v":0},{"$f":"Z28/(AB4-Z25)","v":0},{"$f":"IF(AA28=0,0,(AA28*((LOG(AA28))/LOG(2))))","v":0},null,{"$f":"N28","v":21212},{"$f":"COUNTIF(L72:L103,AD28)","v":0},{"$f":"AE28/(AG4-AE25)","v":0},{"$f":"IF(AF28=0,0,(AF28*((LOG(AF28))/LOG(2))))","v":0},null,{"$f":"N28","v":21212},{"$f":"COUNTIF(L104:L135,AI28)","v":0},{"$f":"AJ28/(AL4-AJ25)","v":0},{"$f":"IF(AK28=0,0,(AK28*((LOG(AK28))/LOG(2))))","v":0},null,{"$f":"N28","v":21212},{"$f":"COUNTIF(L136:L168,AN28)","v":0},{"$f":"AO28/(AQ4-AO25)","v":0},{"$f":"IF(AP28=0,0,(AP28*((LOG(AP28))/LOG(2))))","v":0},null,{"$f":"N28","v":21212},{"$f":"COUNTIF(L169:L200,AS28)","v":0},{"$f":"AT28/(AV4-AT25)","v":0},{"$f":"IF(AU28=0,0,(AU28*((LOG(AU28))/LOG(2))))","v":0}]
[12,2771,13,2775,13,2779,14,2784,13,2790,0,11111,null,21221,{"$f":"COUNTIF($L$7:$L$500,N29)","v":0},{"$f":"O29/$Q$4","v":0},{"$f":"IF(P29=0,0,(P29*((LOG(P29))/LOG(2))))","v":0},null,null,{"$f":"N29","v":21221},{"$f":"COUNTIF(L7:L38,T29)","v":0},{"$f":"U29/(W4-U25)","v":0},{"$f":"IF(V29=0,0,(V29*((LOG(V29))/LOG(2))))","v":0},null,{"$f":"N29","v":21221},{"$f":"COUNTIF(L39:L71,Y29)","v":0},{"$f":"Z29/(AB4-Z25)","v":0},{"$f":"IF(AA29=0,0,(AA29*((LOG(AA29))/LOG(2))))","v":0},null,{"$f":"N29","v":21221},{"$f":"COUNTIF(L72:L103,AD29)","v":0},{"$f":"AE29/(AG4-AE25)","v":0},{"$f":"IF(AF29=0,0,(AF29*((LOG(AF29))/LOG(2))))","v":0},null,{"$f":"N29","v":21221},{"$f":"COUNTIF(L104:L135,AI29)","v":0},{"$f":"AJ29/(AL4-AJ25)","v":0},{"$f":"IF(AK29=0,0,(AK29*((LOG(AK29))/LOG(2))))","v":0},null,{"$f":"N29","v":21221},{"$f":"COUNTIF(L136:L168,AN29)","v":0},{"$f":"AO29/(AQ4-AO25)","v":0},{"$f":"IF(AP29=0,0,(AP29*((LOG(AP29))/LOG(2))))","v":0},null,{"$f":"N29","v":21221},{"$f":"COUNTIF(L169:L200,AS29)","v":0},{"$f":"AT29/(AV4-AT25)","v":0},{"$f":"IF(AU29=0,0,(AU29*((LOG(AU29))/LOG(2))))","v":0}]
[12,2896,13,2902,13,2906,14,2911,13,2916,0,11111,null,21222,{"$f":"COUNTIF($L$7:$L$500,N30)","v":0},{"$f":"O30/$Q$4","v":0},{"$f":"IF(P30=0,0,(P30*((LOG(P30))/LOG(2))))","v":0},null,null,{"$f":"N30","v":21222},{"$f":"COUNTIF(L7:L38,T30)","v":0},{"$f":"U30/(W4-U25)","v":0},{"$f":"IF(V30=0,0,(V30*((LOG(V30))/LOG(2))))","v":0},null,{"$f":"N30","v":21222},{"$f":"COUNTIF(L39:L71,Y30)","v":0},{"$f":"Z30/(AB4-Z25)","v":0},{"$f":"IF(AA30=0,0,(AA30*((LOG(AA30))/LOG(2))))","v":0},null,{"$f":"N30","v":21222},{"$f":"COUNTIF(L72:L103,AD30)","v":0},{"$f":"AE30/(AG4-AE25)","v":0},{"$f":"IF(AF30=0,0,(AF30*((LOG(AF30))/LOG(2))))","v":0},null,{"$f":"N30","v":21222},{"$f":"COUNTIF(L104:L135,AI30)","v":0},{"$f":"AJ30/(AL4-AJ25)","v":0},{"$f":"IF(AK30=0,0,(AK30*((LOG(AK30))/LOG(2))))","v":0},null,{"$f":"N30","v":21222},{"$f":"COUNTIF(L136:L168,AN30)","v":0},{"$f":"AO30/(AQ4-AO25)","v":0},{"$f":"IF(AP30=0,0,(AP30*((LOG(AP30))/LOG(2))))","v":0},null,{"$f":"N30","v":21222},{"$f":"COUNTIF(L169:L200,AS30)","v":0},{"$f":"AT30/(AV4-AT25)","v":0},{"$f":"IF(AU30=0,0,(AU30*((LOG(AU30))/LOG(2))))","v":0}]
[12,3022,13,3033,13,3038,14,3047,13,3052,0,11111,null,22111,{"$f":"COUNTIF($L$7:$L$500,N31)","v":0},{"$f":"O31/$Q$4","v":0},{"$f":"IF(P31=0,0,(P31*((LOG(P31))/LOG(2))))","v":0},null,null,{"$f":"N31","v":22111},{"$f":"COUNTIF(L7:L38,T31)","v":0},{"$f":"U31/(W4-U25)","v":0},{"$f":"IF(V31=0,0,(V31*((LOG(V31))/LOG(2))))","v":0},null,{"$f":"N31","v":22111},{"$f":"COUNTIF(L39:L71,Y31)","v":0},{"$f":"Z31/(AB4-Z25)","v":0},{"$f":"IF(AA31=0,0,(AA31*((LOG(AA31))/LOG(2))))","v":0},null,{"$f":"N31","v":22111},{"$f":"COUNTIF(L72:L103,AD31)","v":0},{"$f":"AE31/(AG4-AE25)","v":0},{"$f":"IF(AF31=0,0,(AF31*((LOG(AF31))/LOG(2))))","v":0},null,{"$f":"N31","v":22111},{"$f":"COUNTIF(L104:L135,AI31)","v":0},{"$f":"AJ31/(AL4-AJ25)","v":0},{"$f":"IF(AK31=0,0,(AK31*((LOG(AK31))/LOG(2))))","v":0},null,{"$f":"N31","v":22111},{"$f":"COUNTIF(L136:L168,AN31)","v":0},{"$f":"AO31/(AQ4-AO25)","v":0},{"$f":"IF(AP31=0,0,(AP31*((LOG(AP31))/LOG(2))))","v":0},null,{"$f":"N31","v":22111},{"$f":"COUNTIF(L169:L200,AS31)","v":0},{"$f":"AT31/(AV4-AT25)","v":0},{"$f":"IF(AU31=0,0,(AU31*((LOG(AU31))/LOG(2))))","v":0}]
[12,3161,13,3165,13,3169,14,3174,13,3178,1,11111,null,22112,{"$f":"COUNTIF($L$7:$L$500,N32)","v":0},{"$f":"O32/$Q$4","v":0},{"$f":"IF(P32=0,0,(P32*((LOG(P32))/LOG(2))))","v":0},null,null,{"$f":"N32","v":22112},{"$f":"COUNTIF(L7:L38,T32)","v":0},{"$f":"U32/(W4-U25)","v":0},{"$f":"IF(V32=0,0,(V32*((LOG(V32))/LOG(2))))","v":0},null,{"$f":"N32","v":22112},{"$f":"COUNTIF(L39:L71,Y32)","v":0},{"$f":"Z32/(AB4-Z25)","v":0},{"$f":"IF(AA32=0,0,(AA32*((LOG(AA32))/LOG(2))))","v":0},null,{"$f":"N32","v":22112},{"$f":"COUNTIF(L72:L103,AD32)","v":0},{"$f":"AE32/(AG4-AE25)","v":0},{"$f":"IF(AF32=0,0,(AF32*((LOG(AF32))/LOG(2))))","v":0},null,{"$f":"N32","v":22112},{"$f":"COUNTIF(L104:L135,AI32)","v":0},{"$f":"AJ32/(AL4-AJ25)","v":0},{"$f":"IF(AK32=0,0,(AK32*((LOG(AK32))/LOG(2))))","v":0},null,{"$f":"N32","v":22112},{"$f":"COUNTIF(L136:L168,AN32)","v":0},{"$f":"AO32/(AQ4-AO25)","v":0},{"$f":"IF(AP32=0,0,(AP32*((LOG(AP32))/LOG(2))))","v":0},null,{"$f":"N32","v":22112},{"$f":"COUNTIF(L169:L200,AS32)","v":0},{"$f":"AT32/(AV4-AT25)","v":0},{"$f":"IF(AU32=0,0,(AU32*((LOG(AU32))/LOG(2))))","v":0}]
[12,3279,13,3283,13,3287,14,3291,13,3296,0,11111,null,22121,{"$f":"COUNTIF($L$7:$L$500,N33)","v":0},{"$f":"O33/$Q$4","v":0},{"$f":"IF(P33=0,0,(P33*((LOG(P33))/LOG(2))))","v":0},null,null,{"$f":"N33","v":22121},{"$f":"COUNTIF(L7:L38,T33)","v":0},{"$f":"U33/(W4-U25)","v":0},{"$f":"IF(V33=0,0,(V33*((LOG(V33))/LOG(2))))","v":0},null,{"$f":"N33","v":22121},{"$f":"COUNTIF(L39:L71,Y33)","v":0},{"$f":"Z33/(AB4-Z25)","v":0},{"$f":"IF(AA33=0,0,(AA33*((LOG(AA33))/LOG(2))))","v":0},null,{"$f":"N33","v":22121},{"$f":"COUNTIF(L72:L103,AD33)","v":0},{"$f":"AE33/(AG4-AE25)","v":0},{"$f":"IF(AF33=0,0,(AF33*((LOG(AF33))/LOG(2))))","v":0},null,{"$f":"N33","v":22121},{"$f":"COUNTIF(L104:L135,AI33)","v":0},{"$f":"AJ33/(AL4-AJ25)","v":0},{"$f":"IF(AK33=0,0,(AK33*((LOG(AK33))/LOG(2))))","v":0},null,{"$f":"N33","v":22121},{"$f":"COUNTIF(L136:L168,AN33)","v":0},{"$f":"AO33/(AQ4-AO25)","v":0},{"$f":"IF(AP33=0,0,(AP33*((LOG(AP33))/LOG(2))))","v":0},null,{"$f":"N33","v":22121},{"$f":"COUNTIF(L169:L200,AS33)","v":0},{"$f":"AT33/(AV4-AT25)","v":0},{"$f":"IF(AU33=0,0,(AU33*((LOG(AU33))/LOG(2))))","v":0}]
[12,3401,13,3405,13,3409,14,3413,13,3419,0,11111,null,22122,{"$f":"COUNTIF($L$7:$L$500,N34)","v":0},{"$f":"O34/$Q$4","v":0},{"$f":"IF(P34=0,0,(P34*((LOG(P34))/LOG(2))))","v":0},null,null,{"$f":"N34","v":22122},{"$f":"COUNTIF(L7:L38,T34)","v":0},{"$f":"U34/(W4-U25)","v":0},{"$f":"IF(V34=0,0,(V34*((LOG(V34))/LOG(2))))","v":0},null,{"$f":"N34","v":22122},{"$f":"COUNTIF(L39:L71,Y34)","v":0},{"$f":"Z34/(AB4-Z25)","v":0},{"$f":"IF(AA34=0,0,(AA34*((LOG(AA34))/LOG(2))))","v":0},null,{"$f":"N34","v":22122},{"$f":"COUNTIF(L72:L103,AD34)","v":0},{"$f":"AE34/(AG4-AE25)","v":0},{"$f":"IF(AF34=0,0,(AF34*((LOG(AF34))/LOG(2))))","v":0},null,{"$f":"N34","v":22122},{"$f":"COUNTIF(L104:L135,AI34)","v":0},{"$f":"AJ34/(AL4-AJ25)","v":0},{"$f":"IF(AK34=0,0,(AK34*((LOG(AK34))/LOG(2))))","v":0},null,{"$f":"N34","v":22122},{"$f":"COUNTIF(L136:L168,AN34)","v":0},{"$f":"AO34/(AQ4-AO25)","v":0},{"$f":"IF(AP34=0,0,(AP34*((LOG(AP34))/LOG(2))))","v":0},null,{"$f":"N34","v":22122},{"$f":"COUNTIF(L169:L200,AS34)","v":0},{"$f":"AT34/(AV4-AT25)","v":0},{"$f":"IF(AU34=0,0,(AU34*((LOG(AU34))/LOG(2))))","v":0}]
[12,3525,13,3529,13,3534,14,3538,13,3543,0,11111,null,22211,{"$f":"COUNTIF($L$7:$L$500,N35)","v":0},{"$f":"O35/$Q$4","v":0},{"$f":"IF(P35=0,0,(P35*((LOG(P35))/LOG(2))))","v":0},null,null,{"$f":"N35","v":22211},{"$f":"COUNTIF(L7:L38,T35)","v":0},{"$f":"U35/(W4-U25)","v":0},{"$f":"IF(V35=0,0,(V35*((LOG(V35))/LOG(2))))","v":0},null,{"$f":"N35","v":22211},{"$f":"COUNTIF(L39:L71,Y35)","v":0},{"$f":"Z35/(AB4-Z25)","v":0},{"$f":"IF(AA35=0,0,(AA35*((LOG(AA35))/LOG(2))))","v":0},null,{"$f":"N35","v":22211},{"$f":"COUNTIF(L72:L103,AD35)","v":0},{"$f":"AE35/(AG4-AE25)","v":0},{"$f":"IF(AF35=0,0,(AF35*((LOG(AF35))/LOG(2))))","v":0},null,{"$f":"N35","v":22211},{"$f":"COUNTIF(L104:L135,AI35)","v":0},{"$f":"AJ35/(AL4-AJ25)","v":0},{"$f":"IF(AK35=0,0,(AK35*((LOG(AK35))/LOG(2))))","v":0},null,{"$f":"N35","v":22211},{"$f":"COUNTIF(L136:L168,AN35)","v":0},{"$f":"AO35/(AQ4-AO25)","v":0},{"$f":"IF(AP35=0,0,(AP35*((LOG(AP35))/LOG(2))))","v":0},null,{"$f":"N35","v":22211},{"$f":"COUNTIF(L169:L200,AS35)","v":0},{"$f":"AT35/(AV4-AT25)","v":0},{"$f":"IF(AU35=0,0,(AU35*((LOG(AU35))/LOG(2))))","v":0}]
[12,3649,13,3653,13,3658,14,3662,13,3667,0,11111,null,22212,{"$f":"COUNTIF($L$7:$L$500,N36)","v":0},{"$f":"O36/$Q$4","v":0},{"$f":"IF(P36=0,0,(P36*((LOG(P36))/LOG(2))))","v":0},null,null,{"$f":"N36","v":22212},{"$f":"COUNTIF(L7:L38,T36)","v":0},{"$f":"U36/(W4-U25)","v":0},{"$f":"IF(V36=0,0,(V36*((LOG(V36))/LOG(2))))","v":0},null,{"$f":"N36","v":22212},{"$f":"COUNTIF(L39:L71,Y36)","v":0},{"$f":"Z36/(AB4-Z25)","v":0},{"$f":"IF(AA36=0,0,(AA36*((LOG(AA36))/LOG(2))))","v":0},null,{"$f":"N36","v":22212},{"$f":"COUNTIF(L72:L103,AD36)","v":0},{"$f":"AE36/(AG4-AE25)","v":0},{"$f":"IF(AF36=0,0,(AF36*((LOG(AF36))/LOG(2))))","v":0},null,{"$f":"N36","v":22212},{"$f":"COUNTIF(L104:L135,AI36)","v":0},{"$f":"AJ36/(AL4-AJ25)","v":0},{"$f":"IF(AK36=0,0,(AK36*((LOG(AK36))/LOG(2))))","v":0},null,{"$f":"N36","v":22212},{"$f":"COUNTIF(L136:L168,AN36)","v":0},{"$f":"AO36/(AQ4-AO25)","v":0},{"$f":"IF(AP36=0,0,(AP36*((LOG(AP36))/LOG(2))))","v":0},null,{"$f":"N36","v":22212},{"$f":"COUNTIF(L169:L200,AS36)","v":0},{"$f":"AT36/(AV4-AT25)","v":0},{"$f":"IF(AU36=0,0,(AU36*((LOG(AU36))/LOG(2))))","v":0}]
[12,3768,13,3772,13,3777,14,3781,13,3786,0,11111,null,22221,{"$f":"COUNTIF($L$7:$L$500,N37)","v":0},{"$f":"O37/$Q$4","v":0},{"$f":"IF(P37=0,0,(P37*((LOG(P37))/LOG(2))))","v":0},null,null,{"$f":"N37","v":22221},{"$f":"COUNTIF(L7:L38,T37)","v":0},{"$f":"U37/(W4-U25)","v":0},{"$f":"IF(V37=0,0,(V37*((LOG(V37))/LOG(2))))","v":0},null,{"$f":"N37","v":22221},{"$f":"COUNTIF(L39:L71,Y37)","v":0},{"$f":"Z37/(AB4-Z25)","v":0},{"$f":"IF(AA37=0,0,(AA37*((LOG(AA37))/LOG(2))))","v":0},null,{"$f":"N37","v":22221},{"$f":"COUNTIF(L72:L103,AD37)","v":0},{"$f":"AE37/(AG4-AE25)","v":0},{"$f":"IF(AF37=0,0,(AF37*((LOG(AF37))/LOG(2))))","v":0},null,{"$f":"N37","v":22221},{"$f":"COUNTIF(L104:L135,AI37)","v":0},{"$f":"AJ37/(AL4-AJ25)","v":0},{"$f":"IF(AK37=0,0,(AK37*((LOG(AK37))/LOG(2))))","v":0},null,{"$f":"N37","v":22221},{"$f":"COUNTIF(L136:L168,AN37)","v":0},{"$f":"AO37/(AQ4-AO25)","v":0},{"$f":"IF(AP37=0,0,(AP37*((LOG(AP37))/LOG(2))))","v":0},null,{"$f":"N37","v":22221},{"$f":"COUNTIF(L169:L200,AS37)","v":0},{"$f":"AT37/(AV4-AT25)","v":0},{"$f":"IF(AU37=0,0,(AU37*((LOG(AU37))/LOG(2))))","v":0}]
[12,3889,13,3893,13,3898,14,3903,13,3911,0,11111,null,22222,{"$f":"COUNTIF($L$7:$L$500,N38)","v":0},{"$f":"O38/$Q$4","v":0},{"$f":"IF(P38=0,0,(P38*((LOG(P38))/LOG(2))))","v":0},null,null,{"$f":"N38","v":22222},{"$f":"COUNTIF(L7:L38,T38)","v":0},{"$f":"U38/(W4-U25)","v":0},{"$f":"IF(V38=0,0,(V38*((LOG(V38))/LOG(2))))","v":0},null,{"$f":"N38","v":22222},{"$f":"COUNTIF(L39:L71,Y38)","v":0},{"$f":"Z38/(AB4-Z25)","v":0},{"$f":"IF(AA38=0,0,(AA38*((LOG(AA38))/LOG(2))))","v":0},null,{"$f":"N38","v":22222},{"$f":"COUNTIF(L72:L103,AD38)","v":0},{"$f":"AE38/(AG4-AE25)","v":0},{"$f":"IF(AF38=0,0,(AF38*((LOG(AF38))/LOG(2))))","v":0},null,{"$f":"N38","v":22222},{"$f":"COUNTIF(L104:L135,AI38)","v":0},{"$f":"AJ38/(AL4-AJ25)","v":0},{"$f":"IF(AK38=0,0,(AK38*((LOG(AK38))/LOG(2))))","v":0},null,{"$f":"N38","v":22222},{"$f":"COUNTIF(L136:L168,AN38)","v":0},{"$f":"AO38/(AQ4-AO25)","v":0},{"$f":"IF(AP38=0,0,(AP38*((LOG(AP38))/LOG(2))))","v":0},null,{"$f":"N38","v":22222},{"$f":"COUNTIF(L169:L200,AS38)","v":0},{"$f":"AT38/(AV4-AT25)","v":0},{"$f":"IF(AU38=0,0,(AU38*((LOG(AU38))/LOG(2))))","v":0}]
[12,4016,13,4020,13,4024,14,4030,13,4035,0,11111,null,null,null,{"$f":"SUM(P7:P38)","v":1},{"$f":"-SUM(Q7:Q38)","v":0.13966074860553998},null,null,null,null,{"$f":"SUM(V7:V38)","v":1},{"$f":"-SUM(W7:W38)","v":0.20062232431271465},null,null,null,{"$f":"SUM(AA7:AA38)","v":1},{"$f":"-SUM(AB7:AB38)","v":0},null,null,null,{"$f":"SUM(AF7:AF38)","v":1},{"$f":"-SUM(AG7:AG38)","v":0},null,null,null,{"$f":"SUM(AK7:AK38)","v":1},{"$f":"-SUM(AL7:AL38)","v":0.20062232431271465},null,null,null,{"$f":"SUM(AP7:AP38)","v":1},{"$f":"-SUM(AQ7:AQ38)","v":0},null,null,null,{"$f":"SUM(AU7:AU38)","v":1},{"$f":"-SUM(AV7:AV38)","v":0.20062232431271465}]
[12,4138,13,4142,13,4147,14,4151,13,4156,1,11111,null,null,null,"U=",{"$f":"Q39/(LOG(Q4)/LOG(2))","v":1.8376625035787641E-2},null,null,null,null,"U1=",{"$f":"W39/(LOG(W4)/LOG(2))","v":4.0124464862542931E-2},null,null,null,"U2=",{"$f":"AB39/(LOG(AB4)/LOG(2))","v":0},null,null,null,"U3=",{"$f":"AG39/(LOG(AG4)/LOG(2))","v":0},null,null,null,"U4=",{"$f":"AL39/(LOG(AL4)/LOG(2))","v":4.0124464862542931E-2},null,null,null,"U5=",{"$f":"AQ39/(LOG(AQ4)/LOG(2))","v":0},null,null,null,"U6=",{"$f":"AV39/(LOG(AV4)/LOG(2))","v":4.0124464862542931E-2}]
[12,4252,13,4256,13,4260,14,4269,13,4274,0,11111]
[12,4375,13,4380,13,4383,14,4388,13,4396,0,11111]
[12,4501,13,4505,13,4509,14,4514,13,4518,0,11111,null,"Total Target Seq"]
[12,4622,13,4626,13,4635,14,4642,13,4650,0,11111,null,{"$f":"COUNTIF(L7:L200,G3)","v":0},null,32,33,32,32,33,32]
[12,4750,13,4755,13,4759,14,4763,13,4768,1,11111,null,null,null,"% of reinforcement given in 6 equal intervals based on number of trials "]
[12,4872,13,4876,13,4881,14,4886,13,4891,0,11111,null,null,null,"%_1","%_2","%_3","%_4","%_5","%_6"]
[12,5006,13,5010,13,5014,14,5019,13,5027,0,11111,null,null,"target sequence",{"$f":"$G$3","v":21121},{"$f":"$G$3","v":21121},{"$f":"$G$3","v":21121},{"$f":"$G$3","v":21121},{"$f":"$G$3","v":21121},{"$f":"$G$3","v":21121}]
[12,5130,13,5135,13,5139,14,5144,13,5149,0,11111,null,null,"total reinforcement",{"$f":"U25","v":0},{"$f":"Z25","v":0},{"$f":"AE25","v":0},{"$f":"AJ25","v":0},{"$f":"AO25","v":0},{"$f":"AT25","v":0}]
[12,5246,13,5265,13,5270,14,5275,13,5280,0,11111,null,null,"% target"]
[12,5386,13,5391,13,5395,14,5399,13,5403,0,11111,null,null,"CCRF"]
[12,5502,13,5506,13,5511,14,5515,13,5520,0,11111,null,null,"% CCRf"]
[12,5623,13,5627,13,5631,14,5636,13,5641,0,11111,null,null,"average response rate",{"$f":"J38/P44","v":122.21875},{"$f":"(J71-J38)/Q44","v":121.84848484848484},{"$f":"(J103-J71)/R44","v":121.46875},{"$f":"(J135-J103)/S44","v":122.125},{"$f":"(J168-J135)/T44","v":125.09090909090909},{"$f":"(J200-J168)/U44","v":125.96875}]
[12,5741,13,5746,13,5750,14,5754,13,5759,0,11111]
[12,5864,13,5868,13,5872,14,5877,13,5882,1,11111]
[12,5976,13,5985,13,5989,14,5993,13,5997,0,11111]
[12,6108,13,6113,13,6117,14,6121,13,6125,0,11111]
[12,6227,13,6231,13,6235,14,6240,13,6245,1,11111]
[12,6347,13,6355,13,6359,14,6363,13,6368,0,11111]
[12,6468,13,6473,13,6478,14,6482,13,6489,1,11111]
[12,6587,13,6591,13,6595,14,6599,13,6604,0,11111]
[12,6707,13,6711,13,6715,14,6719,13,6723,0,11111]
[12,6825,13,6829,13,6833,14,6838,13,6843,0,11111]
[12,6964,13,6968,13,6972,14,6977,13,6985,0,11111]
[12,7088,13,7092,13,7100,14,7104,13,7109,0,11111]
[12,7207,13,7211,13,7216,14,7220,13,7224,1,11111]
[12,7319,13,7323,13,7327,14,7331,13,7340,1,11111]
[12,7435,13,7440,13,7444,14,7449,13,7453,0,11111]
[12,7554,13,7558,13,7562,14,7566,13,7571,0,11111]
[12,7671,13,7678,13,7682,14,7695,13,7699,1,11111]
[12,7796,13,7800,13,7805,14,7809,13,7813,0,11111]
[12,7914,13,7918,13,7923,14,7927,13,7932,0,11111]
[12,8036,13,8040,13,8044,14,8048,13,8053,0,11111]
[12,8155,13,8161,13,8165,14,8169,13,8173,0,11111]
[12,8272,13,8277,13,8281,14,8285,13,8289,0,11111]
[12,8388,13,8393,13,8397,14,8401,13,8405,1,11111]
[12,8507,13,8511,13,8516,14,8520,13,8528,0,11111]
[12,8629,13,8633,13,8637,14,8641,13,8646,0,11111]
[12,8749,13,8753,13,8757,14,8761,13,8765,0,11111]
[12,8865,13,8871,13,8876,14,8880,13,8884,0,11111]
[12,8984,13,8992,13,8999,14,9004,13,9014,0,11111]
[12,9139,13,9144,13,9154,14,9169,13,9175,1,11111]
[12,9275,13,9279,13,9284,14,9288,13,9293,0,11111]
[12,9395,13,9399,13,9403,14,9406,13,9410,0,11111]
[12,9506,13,9510,13,9514,14,9518,13,9522,0,11111]
[12,9622,13,9626,13,9630,14,9634,13,9642,0,11111]
[12,9743,13,9747,13,9751,14,9755,13,9759,0,11111]
[12,9858,13,9862,13,9866,14,9870,13,9874,0,11111]
[12,9977,13,9981,13,9987,14,9991,13,9996,0,11111]
[12,10099,13,10103,13,10107,14,10111,13,10115,1,11111]
[12,10210,13,10214,13,10218,14,10222,13,10229,0,11111]
[12,10328,13,10333,13,10336,14,10341,13,10345,0,11111]
[12,10446,13,10456,13,10460,14,10464,13,10477,0,11111]
[12,10579,13,10583,13,10587,14,10591,13,10596,0,11111]
[12,10695,13,10699,13,10703,14,10707,13,10711,0,11111]
[12,10813,13,10817,13,10821,14,10826,13,10834,0,11111]
[12,10938,13,10943,13,10948,14,10952,13,10956,0,11111]
[12,11057,13,11061,13,11066,14,11070,13,11074,0,11111]
[12,11174,13,11178,13,11181,14,11186,13,11194,0,11111]
[12,11293,13,11296,13,11301,14,11309,13,11313,0,11111]
[12,11415,13,11419,13,11423,14,11427,13,11431,0,11111]
[12,11538,13,11542,13,11547,14,11556,13,11561,1,11111]
[12,11674,13,11678,13,11682,14,11686,13,11691,0,11111]
[12,11799,13,11804,13,11808,14,11813,13,11819,0,11111]
[12,11922,13,11926,13,11931,14,11935,13,11939,0,11111]
[12,12045,13,12049,13,12053,14,12058,13,12062,0,11111]
[12,12182,13,12187,13,12192,14,12198,13,12203,0,11111]
[12,12310,13,12314,13,12318,14,12322,13,12327,0,11111]
[12,12430,13,12434,13,12438,14,12442,13,12450,0,11111]
[12,12555,13,12560,13,12564,14,12568,13,12572,0,11111]
[12,12671,13,12675,13,12679,14,12687,13,12692,0,11111]
[12,12791,13,12795,13,12798,14,12802,13,12807,0,11111]
[12,12914,13,12918,13,12922,14,12927,13,12932,0,11111]
[12,13032,13,13036,13,13040,14,13044,13,13048,1,11111]
[12,13143,13,13147,13,13151,14,13155,13,13161,0,11111]
[12,13263,13,13267,13,13271,14,13275,13,13280,0,11111]
[12,13401,13,13405,13,13410,14,13415,13,13420,1,11111]
[12,13516,13,13522,13,13526,14,13530,13,13536,0,11111]
[12,13628,13,13641,13,13645,14,13649,13,13657,0,11111]
[12,13757,13,13761,13,13765,14,13769,13,13773,0,11111]
[12,13880,13,13885,13,13890,14,13895,13,13900,1,11111]
[12,13996,13,14000,13,14004,14,14008,13,14017,1,11111]
[12,14114,13,14119,13,14123,14,14127,13,14131,0,11111]
[12,14234,13,14238,13,14243,14,14247,13,14253,0,11111]
[12,14354,13,14358,13,14363,14,14367,13,14371,0,11111]
[12,14471,13,14475,13,14479,14,14484,13,14488,1,11111]
[12,14583,13,14587,13,14591,14,14595,13,14600,0,11111]
[12,14695,13,14700,13,14704,14,14707,13,14712,0,11111]
[12,14818,13,14826,13,14831,14,14838,13,14843,1,11111]
[12,14939,13,14953,13,14962,14,14967,13,14971,0,11111]
[12,15071,13,15075,13,15079,14,15083,13,15087,0,11111]
[12,15188,13,15192,13,15196,14,15199,13,15203,1,11111]
[12,15314,13,15318,13,15327,14,15332,13,15337,0,11111]
[12,15437,13,15441,13,15445,14,15449,13,15454,0,11111]
[12,15559,24,15577,24,15581,23,15589,24,15604,0,12222]
[12,15704,13,15708,13,15712,14,15722,13,15727,0,11111]
[12,15830,13,15838,13,15844,14,15856,13,15869,1,11111]
[12,15972,13,15977,13,15982,14,15991,13,15996,0,11111]
[12,16093,13,16097,13,16101,14,16105,13,16109,0,11111]
[12,16206,13,16211,13,16215,14,16219,13,16223,0,11111]
[12,16321,13,16325,13,16328,14,16333,13,16337,0,11111]
[12,16438,13,16442,13,16446,14,16450,13,16455,0,11111]
[12,16562,13,16569,13,16572,14,16576,13,16587,1,11111]
[12,16707,13,16715,13,16720,14,16732,13,16739,0,11111]
[12,16839,13,16851,13,16858,14,16866,13,16874,0,11111]
[12,16977,13,16982,13,16986,14,16990,13,16995,0,11111]
[12,17092,13,17096,13,17100,14,17104,13,17108,0,11111]
[12,17207,13,17211,13,17215,14,17219,13,17222,0,11111]
[12,17322,13,17326,13,17330,14,17333,13,17341,0,11111]
[12,17448,13,17452,13,17456,14,17461,13,17472,0,11111]
[12,17581,13,17589,13,17594,14,17601,13,17605,1,11111]
[12,17710,13,17714,13,17718,14,17724,13,17732,0,11111]
[12,17833,13,17837,13,17841,14,17846,13,17850,0,11111]
[12,17958,13,17962,13,17967,14,17971,13,17975,0,11111]
[12,18075,13,18082,13,18086,14,18090,13,18098,0,11111]
[12,18208,13,18212,13,18217,14,18226,13,18232,0,11111]
[12,18334,13,18338,13,18342,14,18346,13,18351,0,11111]
[12,18458,13,18467,13,18472,14,18476,13,18485,0,11111]
[12,18585,13,18589,13,18594,14,18598,13,18601,0,11111]
[12,18717,13,18721,13,18727,14,18731,13,18736,0,11111]
[12,18837,13,18841,13,18845,14,18849,13,18853,0,11111]
[12,18961,13,18966,13,18970,14,18974,13,18978,0,11111]
[12,19077,13,19081,13,19085,14,19089,13,19093,1,11111]
[12,19194,13,19199,13,19203,14,19208,13,19221,0,11111]
[12,19320,13,19324,13,19328,14,19332,13,19336,0,11111]
[12,19436,13,19441,13,19444,14,19459,13,19474,0,11111]
[12,19573,13,19580,13,19584,14,19588,13,19596,0,11111]
[12,19707,13,19715,13,19719,14,19722,13,19731,0,11111]
[12,19838,13,19843,13,19847,14,19851,13,19855,0,11111]
[12,19955,13,19959,13,19962,14,19966,13,19974,0,11111]
[12,20081,13,20085,13,20089,14,20093,13,20098,0,11111]
[12,20208,13,20213,13,20216,14,20220,13,20224,1,11111]
[12,20319,13,20323,13,20327,14,20330,13,20334,0,11111]
[12,20439,13,20443,13,20452,14,20456,13,20463,0,11111]
[12,20570,13,20574,13,20579,14,20583,13,20587,0,11111]
[12,20688,13,20692,13,20696,14,20700,13,20704,0,11111]
[12,20811,13,20816,24,20840,23,20845,24,20853,0,11222]
[12,20952,13,20957,13,20961,14,20974,13,20978,0,11111]
[12,21079,13,21083,13,21087,14,21091,13,21095,0,11111]
[12,21193,13,21197,13,21201,14,21207,13,21211,1,11111]
[12,21322,13,21326,13,21330,14,21334,13,21338,0,11111]
[12,21463,13,21467,13,21472,14,21478,13,21483,0,11111]
[12,21599,13,21606,13,21611,14,21615,13,21622,0,11111]
[12,21732,13,21736,13,21740,14,21748,13,21752,0,11111]
[12,21851,13,21855,13,21859,14,21863,13,21867,0,11111]
[12,21965,13,21969,13,21973,14,21977,13,21981,0,11111]
[12,22098,13,22102,13,22107,14,22112,13,22120,0,11111]
[12,22233,13,22238,13,22242,14,22246,13,22250,0,11111]
[12,22350,13,22353,13,22357,14,22361,13,22365,0,11111]
[12,22465,13,22469,13,22478,14,22482,13,22487,0,11111]
[12,22590,13,22594,13,22598,14,22602,13,22607,1,11111]
[12,22717,13,22721,13,22725,14,22729,13,22733,1,11111]
[12,22834,13,22843,13,22853,14,22857,13,22862,0,11111]
[12,22963,13,22968,13,22972,14,22976,13,22981,0,11111]
[12,23091,13,23095,13,23099,14,23104,13,23111,0,11111]
[12,23214,13,23222,13,23227,14,23231,13,23240,0,11111]
[12,23346,13,23350,13,23354,14,23360,13,23373,1,11111]
[12,23488,13,23492,13,23496,14,23501,13,23506,0,11111]
[12,23615,13,23620,13,23627,14,23631,13,23636,0,11111]
[12,23738,13,23742,13,23746,14,23750,13,23754,0,11111]
[12,23852,13,23863,13,23867,14,23872,13,23886,0,11111]

{"sheet":"!MC16850.010","index":18,"n_rows":198,"n_cols":48,"rows_kept":198,"cut":false,"hidden":false,"merged":[[4,39,4,42],[5,39,5,40],[4,44,4,47],[5,44,5,45],[4,24,4,27],[5,24,5,25],[4,29,4,32],[5,29,5,30],[4,34,4,37],[5,34,5,35],[1,1,1,2],[5,13,5,14],[42,13,42,14],[43,13,43,14],[4,19,4,22],[5,19,5,20]]}
["Report for:!MC16850.010"]
["Date:","<date>"]
["Hen:","<hen>",null,null,null,"Correct Sequence",{"$f":"Start!J2","v":21121},null,null,null,null,null,null,null,null,"Total Sequences in Data",{"$f":"4994-COUNTBLANK(L7:L5000)","v":192},null,null,null,null,"Total Sequences in Block Data",{"$f":"COUNTA(L7:L38)","v":32},null,null,null,"Total Sequences in Block Data",{"$f":"COUNTA(L39:L70)","v":32},null,null,null,"Total Sequences in Block Data",{"$f":"COUNTA(L71:L102)","v":32},null,null,null,"Total Sequences in Block Data",{"$f":"COUNTA(L103:L134)","v":32},null,null,null,"Total Sequences in Block Data",{"$f":"COUNTA(L135:L166)","v":32},null,null,null,"Total Sequences in Block Data",{"$f":"COUNTA(L167:L198)","v":32}]
[null,null,null,null,null,null,null,null,null,null,null,null,null,null,null,"Total Sequences in Summary",{"$f":"SUM(O7:O38)","v":191},null,null,null,null,"Total Sequences in Block Summary",{"$f":"SUM(U7:U38)","v":32},null,null,null,"Total Sequences in Block Summary",{"$f":"SUM(Z7:Z38)","v":32},null,null,null,"Total Sequences in Block Summary",{"$f":"SUM(AE7:AE38)","v":32},null,null,null,"Total Sequences in Block Summary",{"$f":"SUM(AJ7:AJ38)","v":32},null,null,null,"Total Sequences in Block Summary",{"$f":"SUM(AO7:AO38)","v":32},null,null,null,"Total Sequences in Block Summary",{"$f":"SUM(AT7:AT38)","v":31}]
[null,null,null,null,null,null,null,null,null,null,null,null,null,null,null,null,null,null,null,"Block 1",null,null,null,null,"Block 2",null,null,null,null,"Block 3",null,null,null,null,"Block 4",null,null,null,null,"Block 5",null,null,null,null,"Block 6"]
["Sequence\nComponent\n1","Time\n1","Sequence\nComponent\n2","Time\n2","Sequence\nComponent\n3","Time\n3","Sequence\nComponent\n4","Time\n4","Sequence\nComponent\n5","Time\n5","Correct?\n0=No 1=Yes","Sequence",null,"Frequency",null,"Relative Frequency","Variability",null,null,"Frequency",null,"Relative Frequency","Variability",null,"Frequency",null,"Relative Frequency","Variability",null,"Frequency",null,"Relative Frequency","Variability",null,"Frequency",null,"Relative Frequency","Variability",null,"Frequency",null,"Relative Frequency","Variability",null,"Frequency",null,"Relative Frequency","Variability"]
[12,13,13,17,13,24,14,28,13,32,0,11111,null,11111,{"$f":"COUNTIF($L$7:$L$500,N7)","v":183},{"$f":"O7/$Q$4","v":0.95811518324607325},{"$f":"IF(P7=0,0,(P7*((LOG(P7))/LOG(2))))","v":-5.914348232755106E-2},null,null,{"$f":"N7","v":11111},{"$f":"COUNTIF(L7:L38,T7)","v":32},{"$f":"U7/(W4-U25)","v":1},{"$f":"IF(V7=0,0,(V7*((LOG(V7))/LOG(2))))","v":0},null,{"$f":"N7","v":11111},{"$f":"COUNTIF(L39:L70,Y7)","v":32},{"$f":"Z7/(AB4-Z25)","v":1},{"$f":"IF(AA7=0,0,(AA7*((LOG(AA7))/LOG(2))))","v":0},null,{"$f":"N7","v":11111},{"$f":"COUNTIF(L71:L102,AD7)","v":31},{"$f":"AE7/(AG4-AE25)","v":0.96875},{"$f":"IF(AF7=0,0,(AF7*((LOG(AF7))/LOG(2))))","v":-4.4372324312714644E-2},null,{"$f":"N7","v":11111},{"$f":"COUNTIF(L103:L134,AI7)","v":31},{"$f":"AJ7/(AL4-AJ25)","v":0.96875},{"$f":"IF(AK7=0,0,(AK7*((LOG(AK7))/LOG(2))))","v":-4.4372324312714644E-2},null,{"$f":"N7","v":11111},{"$f":"COUNTIF(L135:L166,AN7)","v":31},{"$f":"AO7/(AQ4-AO25)","v":0.96875},{"$f":"IF(AP7=0,0,(AP7*((LOG(AP7))/LOG(2))))","v":-4.4372324312714644E-2},null,{"$f":"N7","v":11111},{"$f":"COUNTIF(L167:L198,AS7)","v":26},{"$f":"AT7/(AV4-AT25)","v":0.83870967741935487},{"$f":"IF(AU7=0,0,(AU7*((LOG(AU7))/LOG(2))))","v":-0.21282810962549539}]
[12,131,13,140,13,144,14,148,13,153,0,11111,null,11112,{"$f":"COUNTIF($L$7:$L$500,N8)","v":0},{"$f":"O8/$Q$4","v":0},{"$f":"IF(P8=0,0,(P8*((LOG(P8))/LOG(2))))","v":0},null,null,{"$f":"N8","v":11112},{"$f":"COUNTIF(L7:L38,T8)","v":0},{"$f":"U8/(W4-U25)","v":0},{"$f":"IF(V8=0,0,(V8*((LOG(V8))/LOG(2))))","v":0},null,{"$f":"N8","v":11112},{"$f":"COUNTIF(L39:L70,Y8)","v":0},{"$f":"Z8/(AB4-Z25)","v":0},{"$f":"IF(AA8=0,0,(AA8*((LOG(AA8))/LOG(2))))","v":0},null,{"$f":"N8","v":11112},{"$f":"COUNTIF(L71:L102,AD8)","v":0},{"$f":"AE8/(AG4-AE25)","v":0},{"$f":"IF(AF8=0,0,(AF8*((LOG(AF8))/LOG(2))))","v":0},null,{"$f":"N8","v":11112},{"$f":"COUNTIF(L103:L134,AI8)","v":0},{"$f":"AJ8/(AL4-AJ25)","v":0},{"$f":"IF(AK8=0,0,(AK8*((LOG(AK8))/LOG(2))))","v":0},null,{"$f":"N8","v":11112},{"$f":"COUNTIF(L135:L166,AN8)","v":0},{"$f":"AO8/(AQ4-AO25)","v":0},{"$f":"IF(AP8=0,0,(AP8*((LOG(AP8))/LOG(2))))","v":0},null,{"$f":"N8","v":11112},{"$f":"COUNTIF(L167:L198,AS8)","v":0},{"$f":"AT8/(AV4-AT25)","v":0},{"$f":"IF(AU8=0,0,(AU8*((LOG(AU8))/LOG(2))))","v":0}]
[12,253,13,257,13,261,14,265,13,273,0,11111,null,11121,{"$f":"COUNTIF($L$7:$L$500,N9)","v":0},{"$f":"O9/$Q$4","v":0},{"$f":"IF(P9=0,0,(P9*((LOG(P9))/LOG(2))))","v":0},null,null,{"$f":"N9","v":11121},{"$f":"COUNTIF(L7:L38,T9)","v":0},{"$f":"U9/(W4-U25)","v":0},{"$f":"IF(V9=0,0,(V9*((LOG(V9))/LOG(2))))","v":0},null,{"$f":"N9","v":11121},{"$f":"COUNTIF(L39:L70,Y9)","v":0},{"$f":"Z9/(AB4-Z25)","v":0},{"$f":"IF(AA9=0,0,(AA9*((LOG(AA9))/LOG(2))))","v":0},null,{"$f":"N9","v":11121},{"$f":"COUNTIF(L71:L102,AD9)","v":0},{"$f":"AE9/(AG4-AE25)","v":0},{"$f":"IF(AF9=0,0,(AF9*((LOG(AF9))/LOG(2))))","v":0},null,{"$f":"N9","v":11121},{"$f":"COUNTIF(L103:L134,AI9)","v":0},{"$f":"AJ9/(AL4-AJ25)","v":0},{"$f":"IF(AK9=0,0,(AK9*((LOG(AK9))/LOG(2))))","v":0},null,{"$f":"N9","v":11121},{"$f":"COUNTIF(L135:L166,AN9)","v":0},{"$f":"AO9/(AQ4-AO25)","v":0},{"$f":"IF(AP9=0,0,(AP9*((LOG(AP9))/LOG(2))))","v":0},null,{"$f":"N9","v":11121},{"$f":"COUNTIF(L167:L198,AS9)","v":0},{"$f":"AT9/(AV4-AT25)","v":0},{"$f":"IF(AU9=0,0,(AU9*((LOG(AU9))/LOG(2))))","v":0}]
[12,373,13,377,13,382,14,386,13,391,1,11111,null,11122,{"$f":"COUNTIF($L$7:$L$500,N10)","v":0},{"$f":"O10/$Q$4","v":0},{"$f":"IF(P10=0,0,(P10*((LOG(P10))/LOG(2))))","v":0},null,null,{"$f":"N10","v":11122},{"$f":"COUNTIF(L7:L38,T10)","v":0},{"$f":"U10/(W4-U25)","v":0},{"$f":"IF(V10=0,0,(V10*((LOG(V10))/LOG(2))))","v":0},null,{"$f":"N10","v":11122},{"$f":"COUNTIF(L39:L70,Y10)","v":0},{"$f":"Z10/(AB4-Z25)","v":0},{"$f":"IF(AA10=0,0,(AA10*((LOG(AA10))/LOG(2))))","v":0},null,{"$f":"N10","v":11122},{"$f":"COUNTIF(L71:L102,AD10)","v":0},{"$f":"AE10/(AG4-AE25)","v":0},{"$f":"IF(AF10=0,0,(AF10*((LOG(AF10))/LOG(2))))","v":0},null,{"$f":"N10","v":11122},{"$f":"COUNTIF(L103:L134,AI10)","v":0},{"$f":"AJ10/(AL4-AJ25)","v":0},{"$f":"IF(AK10=0,0,(AK10*((LOG(AK10))/LOG(2))))","v":0},null,{"$f":"N10","v":11122},{"$f":"COUNTIF(L135:L166,AN10)","v":0},{"$f":"AO10/(AQ4-AO25)","v":0},{"$f":"IF(AP10=0,0,(AP10*((LOG(AP10))/LOG(2))))","v":0},null,{"$f":"N10","v":11122},{"$f":"COUNTIF(L167:L198,AS10)","v":0},{"$f":"AT10/(AV4-AT25)","v":0},{"$f":"IF(AU10=0,0,(AU10*((LOG(AU10))/LOG(2))))","v":0}]
[12,490,13,497,13,505,14,516,13,526,0,11111,null,11211,{"$f":"COUNTIF($L$7:$L$500,N11)","v":0},{"$f":"O11/$Q$4","v":0},{"$f":"IF(P11=0,0,(P11*((LOG(P11))/LOG(2))))","v":0},null,null,{"$f":"N11","v":11211},{"$f":"COUNTIF(L7:L38,T11)","v":0},{"$f":"U11/(W4-U25)","v":0},{"$f":"IF(V11=0,0,(V11*((LOG(V11))/LOG(2))))","v":0},null,{"$f":"N11","v":11211},{"$f":"COUNTIF(L39:L70,Y11)","v":0},{"$f":"Z11/(AB4-Z25)","v":0},{"$f":"IF(AA11=0,0,(AA11*((LOG(AA11))/LOG(2))))","v":0},null,{"$f":"N11","v":11211},{"$f":"COUNTIF(L71:L102,AD11)","v":0},{"$f":"AE11/(AG4-AE25)","v":0},{"$f":"IF(AF11=0,0,(AF11*((LOG(AF11))/LOG(2))))","v":0},null,{"$f":"N11","v":11211},{"$f":"COUNTIF(L103:L134,AI11)","v":0},{"$f":"AJ11/(AL4-AJ25)","v":0},{"$f":"IF(AK11=0,0,(AK11*((LOG(AK11))/LOG(2))))","v":0},null,{"$f":"N11","v":11211},{"$f":"COUNTIF(L135:L166,AN11)","v":0},{"$f":"AO11/(AQ4-AO25)","v":0},{"$f":"IF(AP11=0,0,(AP11*((LOG(AP11))/LOG(2))))","v":0},null,{"$f":"N11","v":11211},{"$f":"COUNTIF(L167:L198,AS11)","v":0},{"$f":"AT11/(AV4-AT25)","v":0},{"$f":"IF(AU11=0,0,(AU11*((LOG(AU11))/LOG(2))))","v":0}]
[12,631,13,635,13,639,14,643,13,647,0,11111,null,11212,{"$f":"COUNTIF($L$7:$L$500,N12)","v":0},{"$f":"O12/$Q$4","v":0},{"$f":"IF(P12=0,0,(P12*((LOG(P12))/LOG(2))))","v":0},null,null,{"$f":"N12","v":11212},{"$f":"COUNTIF(L7:L38,T12)","v":0},{"$f":"U12/(W4-U25)","v":0},{"$f":"IF(V12=0,0,(V12*((LOG(V12))/LOG(2))))","v":0},null,{"$f":"N12","v":11212},{"$f":"COUNTIF(L39:L70,Y12)","v":0},{"$f":"Z12/(AB4-Z25)","v":0},{"$f":"IF(AA12=0,0,(AA12*((LOG(AA12))/LOG(2))))","v":0},null,{"$f":"N12","v":11212},{"$f":"COUNTIF(L71:L102,AD12)","v":0},{"$f":"AE12/(AG4-AE25)","v":0},{"$f":"IF(AF12=0,0,(AF12*((LOG(AF12))/LOG(2))))","v":0},null,{"$f":"N12","v":11212},{"$f":"COUNTIF(L103:L134,AI12)","v":0},{"$f":"AJ12/(AL4-AJ25)","v":0},{"$f":"IF(AK12=0,0,(AK12*((LOG(AK12))/LOG(2))))","v":0},null,{"$f":"N12","v":11212},{"$f":"COUNTIF(L135:L166,AN12)","v":0},{"$f":"AO12/(AQ4-AO25)","v":0},{"$f":"IF(AP12=0,0,(AP12*((LOG(AP12))/LOG(2))))","v":0},null,{"$f":"N12","v":11212},{"$f":"COUNTIF(L167:L198,AS12)","v":0},{"$f":"AT12/(AV4-AT25)","v":0},{"$f":"IF(AU12=0,0,(AU12*((LOG(AU12))/LOG(2))))","v":0}]
[12,742,13,747,13,752,14,757,13,762,0,11111,null,11221,{"$f":"COUNTIF($L$7:$L$500,N13)","v":0},{"$f":"O13/$Q$4","v":0},{"$f":"IF(P13=0,0,(P13*((LOG(P13))/LOG(2))))","v":0},null,null,{"$f":"N13","v":11221},{"$f":"COUNTIF(L7:L38,T13)","v":0},{"$f":"U13/(W4-U25)","v":0},{"$f":"IF(V13=0,0,(V13*((LOG(V13))/LOG(2))))","v":0},null,{"$f":"N13","v":11221},{"$f":"COUNTIF(L39:L70,Y13)","v":0},{"$f":"Z13/(AB4-Z25)","v":0},{"$f":"IF(AA13=0,0,(AA13*((LOG(AA13))/LOG(2))))","v":0},null,{"$f":"N13","v":11221},{"$f":"COUNTIF(L71:L102,AD13)","v":0},{"$f":"AE13/(AG4-AE25)","v":0},{"$f":"IF(AF13=0,0,(AF13*((LOG(AF13))/LOG(2))))","v":0},null,{"$f":"N13","v":11221},{"$f":"COUNTIF(L103:L134,AI13)","v":0},{"$f":"AJ13/(AL4-AJ25)","v":0},{"$f":"IF(AK13=0,0,(AK13*((LOG(AK13))/LOG(2))))","v":0},null,{"$f":"N13","v":11221},{"$f":"COUNTIF(L135:L166,AN13)","v":0},{"$f":"AO13/(AQ4-AO25)","v":0},{"$f":"IF(AP13=0,0,(AP13*((LOG(AP13))/LOG(2))))","v":0},null,{"$f":"N13","v":11221},{"$f":"COUNTIF(L167:L198,AS13)","v":0},{"$f":"AT13/(AV4-AT25)","v":0},{"$f":"IF(AU13=0,0,(AU13*((LOG(AU13))/LOG(2))))","v":0}]
[12,861,13,869,13,873,14,880,13,885,1,11111,null,11222,{"$f":"COUNTIF($L$7:$L$500,N14)","v":0},{"$f":"O14/$Q$4","v":0},{"$f":"IF(P14=0,0,(P14*((LOG(P14))/LOG(2))))","v":0},null,null,{"$f":"N14","v":11222},{"$f":"COUNTIF(L7:L38,T14)","v":0},{"$f":"U14/(W4-U25)","v":0},{"$f":"IF(V14=0,0,(V14*((LOG(V14))/LOG(2))))","v":0},null,{"$f":"N14","v":11222},{"$f":"COUNTIF(L39:L70,Y14)","v":0},{"$f":"Z14/(AB4-Z25)","v":0},{"$f":"IF(AA14=0,0,(AA14*((LOG(AA14))/LOG(2))))","v":0},null,{"$f":"N14","v":11222},{"$f":"COUNTIF(L71:L102,AD14)","v":0},{"$f":"AE14/(AG4-AE25)","v":0},{"$f":"IF(AF14=0,0,(AF14*((LOG(AF14))/LOG(2))))","v":0},null,{"$f":"N14","v":11222},{"$f":"COUNTIF(L103:L134,AI14)","v":0},{"$f":"AJ14/(AL4-AJ25)","v":0},{"$f":"IF(AK14=0,0,(AK14*((LOG(AK14))/LOG(2))))","v":0},null,{"$f":"N14","v":11222},{"$f":"COUNTIF(L135:L166,AN14)","v":0},{"$f":"AO14/(AQ4-AO25)","v":0},{"$f":"IF(AP14=0,0,(AP14*((LOG(AP14))/LOG(2))))","v":0},null,{"$f":"N14","v":11222},{"$f":"COUNTIF(L167:L198,AS14)","v":0},{"$f":"AT14/(AV4-AT25)","v":0},{"$f":"IF(AU14=0,0,(AU14*((LOG(AU14))/LOG(2))))","v":0}]
[12,991,13,995,13,999,14,1003,13,1008,0,11111,null,12111,{"$f":"COUNTIF($L$7:$L$500,N15)","v":0},{"$f":"O15/$Q$4","v":0},{"$f":"IF(P15=0,0,(P15*((LOG(P15))/LOG(2))))","v":0},null,null,{"$f":"N15","v":12111},{"$f":"COUNTIF(L7:L38,T15)","v":0},{"$f":"U15/(W4-U25)","v":0},{"$f":"IF(V15=0,0,(V15*((LOG(V15))/LOG(2))))","v":0},null,{"$f":"N15","v":12111},{"$f":"COUNTIF(L39:L70,Y15)","v":0},{"$f":"Z15/(AB4-Z25)","v":0},{"$f":"IF(AA15=0,0,(AA15*((LOG(AA15))/LOG(2))))","v":0},null,{"$f":"N15","v":12111},{"$f":"COUNTIF(L71:L102,AD15)","v":0},{"$f":"AE15/(AG4-AE25)","v":0},{"$f":"IF(AF15=0,0,(AF15*((LOG(AF15))/LOG(2))))","v":0},null,{"$f":"N15","v":12111},{"$f":"COUNTIF(L103:L134,AI15)","v":0},{"$f":"AJ15/(AL4-AJ25)","v":0},{"$f":"IF(AK15=0,0,(AK15*((LOG(AK15))/LOG(2))))","v":0},null,{"$f":"N15","v":12111},{"$f":"COUNTIF(L135:L166,AN15)","v":0},{"$f":"AO15/(AQ4-AO25)","v":0},{"$f":"IF(AP15=0,0,(AP15*((LOG(AP15))/LOG(2))))","v":0},null,{"$f":"N15","v":12111},{"$f":"COUNTIF(L167:L198,AS15)","v":0},{"$f":"AT15/(AV4-AT25)","v":0},{"$f":"IF(AU15=0,0,(AU15*((LOG(AU15))/LOG(2))))","v":0}]
[12,1108,13,1113,13,1117,14,1121,13,1126,0,11111,null,12112,{"$f":"COUNTIF($L$7:$L$500,N16)","v":0},{"$f":"O16/$Q$4","v":0},{"$f":"IF(P16=0,0,(P16*((LOG(P16))/LOG(2))))","v":0},null,null,{"$f":"N16","v":12112},{"$f":"COUNTIF(L7:L38,T16)","v":0},{"$f":"U16/(W4-U25)","v":0},{"$f":"IF(V16=0,0,(V16*((LOG(V16))/LOG(2))))","v":0},null,{"$f":"N16","v":12112},{"$f":"COUNTIF(L39:L70,Y16)","v":0},{"$f":"Z16/(AB4-Z25)","v":0},{"$f":"IF(AA16=0,0,(AA16*((LOG(AA16))/LOG(2))))","v":0},null,{"$f":"N16","v":12112},{"$f":"COUNTIF(L71:L102,AD16)","v":0},{"$f":"AE16/(AG4-AE25)","v":0},{"$f":"IF(AF16=0,0,(AF16*((LOG(AF16))/LOG(2))))","v":0},null,{"$f":"N16","v":12112},{"$f":"COUNTIF(L103:L134,AI16)","v":0},{"$f":"AJ16/(AL4-AJ25)","v":0},{"$f":"IF(AK16=0,0,(AK16*((LOG(AK16))/LOG(2))))","v":0},null,{"$f":"N16","v":12112},{"$f":"COUNTIF(L135:L166,AN16)","v":0},{"$f":"AO16/(AQ4-AO25)","v":0},{"$f":"IF(AP16=0,0,(AP16*((LOG(AP16))/LOG(2))))","v":0},null,{"$f":"N16","v":12112},{"$f":"COUNTIF(L167:L198,AS16)","v":0},{"$f":"AT16/(AV4-AT25)","v":0},{"$f":"IF(AU16=0,0,(AU16*((LOG(AU16))/LOG(2))))","v":0}]
[12,1232,13,1240,13,1245,14,1259,13,1264,0,11111,null,12121,{"$f":"COUNTIF($L$7:$L$500,N17)","v":0},{"$f":"O17/$Q$4","v":0},{"$f":"IF(P17=0,0,(P17*((LOG(P17))/LOG(2))))","v":0},null,null,{"$f":"N17","v":12121},{"$f":"COUNTIF(L7:L38,T17)","v":0},{"$f":"U17/(W4-U25)","v":0},{"$f":"IF(V17=0,0,(V17*((LOG(V17))/LOG(2))))","v":0},null,{"$f":"N17","v":12121},{"$f":"COUNTIF(L39:L70,Y17)","v":0},{"$f":"Z17/(AB4-Z25)","v":0},{"$f":"IF(AA17=0,0,(AA17*((LOG(AA17))/LOG(2))))","v":0},null,{"$f":"N17","v":12121},{"$f":"COUNTIF(L71:L102,AD17)","v":0},{"$f":"AE17/(AG4-AE25)","v":0},{"$f":"IF(AF17=0,0,(AF17*((LOG(AF17))/LOG(2))))","v":0},null,{"$f":"N17","v":12121},{"$f":"COUNTIF(L103:L134,AI17)","v":0},{"$f":"AJ17/(AL4-AJ25)","v":0},{"$f":"IF(AK17=0,0,(AK17*((LOG(AK17))/LOG(2))))","v":0},null,{"$f":"N17","v":12121},{"$f":"COUNTIF(L135:L166,AN17)","v":0},{"$f":"AO17/(AQ4-AO25)","v":0},{"$f":"IF(AP17=0,0,(AP17*((LOG(AP17))/LOG(2))))","v":0},null,{"$f":"N17","v":12121},{"$f":"COUNTIF(L167:L198,AS17)","v":0},{"$f":"AT17/(AV4-AT25)","v":0},{"$f":"IF(AU17=0,0,(AU17*((LOG(AU17))/LOG(2))))","v":0}]
[12,1381,13,1385,13,1388,14,1393,13,1401,1,11111,null,12122,{"$f":"COUNTIF($L$7:$L$500,N18)","v":0},{"$f":"O18/$Q$4","v":0},{"$f":"IF(P18=0,0,(P18*((LOG(P18))/LOG(2))))","v":0},null,null,{"$f":"N18","v":12122},{"$f":"COUNTIF(L7:L38,T18)","v":0},{"$f":"U18/(W4-U25)","v":0},{"$f":"IF(V18=0,0,(V18*((LOG(V18))/LOG(2))))","v":0},null,{"$f":"N18","v":12122},{"$f":"COUNTIF(L39:L70,Y18)","v":0},{"$f":"Z18/(AB4-Z25)","v":0},{"$f":"IF(AA18=0,0,(AA18*((LOG(AA18))/LOG(2))))","v":0},null,{"$f":"N18","v":12122},{"$f":"COUNTIF(L71:L102,AD18)","v":0},{"$f":"AE18/(AG4-AE25)","v":0},{"$f":"IF(AF18=0,0,(AF18*((LOG(AF18))/LOG(2))))","v":0},null,{"$f":"N18","v":12122},{"$f":"COUNTIF(L103:L134,AI18)","v":0},{"$f":"AJ18/(AL4-AJ25)","v":0},{"$f":"IF(AK18=0,0,(AK18*((LOG(AK18))/LOG(2))))","v":0},null,{"$f":"N18","v":12122},{"$f":"COUNTIF(L135:L166,AN18)","v":0},{"$f":"AO18/(AQ4-AO25)","v":0},{"$f":"IF(AP18=0,0,(AP18*((LOG(AP18))/LOG(2))))","v":0},null,{"$f":"N18","v":12122},{"$f":"COUNTIF(L167:L198,AS18)","v":0},{"$f":"AT18/(AV4-AT25)","v":0},{"$f":"IF(AU18=0,0,(AU18*((LOG(AU18))/LOG(2))))","v":0}]
[12,1496,13,1500,13,1504,14,1518,13,1522,0,11111,null,12211,{"$f":"COUNTIF($L$7:$L$500,N19)","v":0},{"$f":"O19/$Q$4","v":0},{"$f":"IF(P19=0,0,(P19*((LOG(P19))/LOG(2))))","v":0},null,null,{"$f":"N19","v":12211},{"$f":"COUNTIF(L7:L38,T19)","v":0},{"$f":"U19/(W4-U25)","v":0},{"$f":"IF(V19=0,0,(V19*((LOG(V19))/LOG(2))))","v":0},null,{"$f":"N19","v":12211},{"$f":"COUNTIF(L39:L70,Y19)","v":0},{"$f":"Z19/(AB4-Z25)","v":0},{"$f":"IF(AA19=0,0,(AA19*((LOG(AA19))/LOG(2))))","v":0},null,{"$f":"N19","v":12211},{"$f":"COUNTIF(L71:L102,AD19)","v":0},{"$f":"AE19/(AG4-AE25)","v":0},{"$f":"IF(AF19=0,0,(AF19*((LOG(AF19))/LOG(2))))","v":0},null,{"$f":"N19","v":12211},{"$f":"COUNTIF(L103:L134,AI19)","v":0},{"$f":"AJ19/(AL4-AJ25)","v":0},{"$f":"IF(AK19=0,0,(AK19*((LOG(AK19))/LOG(2))))","v":0},null,{"$f":"N19","v":12211},{"$f":"COUNTIF(L135:L166,AN19)","v":0},{"$f":"AO19/(AQ4-AO25)","v":0},{"$f":"IF(AP19=0,0,(AP19*((LOG(AP19))/LOG(2))))","v":0},null,{"$f":"N19","v":12211},{"$f":"COUNTIF(L167:L198,AS19)","v":0},{"$f":"AT19/(AV4-AT25)","v":0},{"$f":"IF(AU19=0,0,(AU19*((LOG(AU19))/LOG(2))))","v":0}]
[12,1627,13,1631,13,1638,14,1642,13,1646,0,11111,null,12212,{"$f":"COUNTIF($L$7:$L$500,N20)","v":0},{"$f":"O20/$Q$4","v":0},{"$f":"IF(P20=0,0,(P20*((LOG(P20))/LOG(2))))","v":0},null,null,{"$f":"N20","v":12212},{"$f":"COUNTIF(L7:L38,T20)","v":0},{"$f":"U20/(W4-U25)","v":0},{"$f":"IF(V20=0,0,(V20*((LOG(V20))/LOG(2))))","v":0},null,{"$f":"N20","v":12212},{"$f":"COUNTIF(L39:L70,Y20)","v":0},{"$f":"Z20/(AB4-Z25)","v":0},{"$f":"IF(AA20=0,0,(AA20*((LOG(AA20))/LOG(2))))","v":0},null,{"$f":"N20","v":12212},{"$f":"COUNTIF(L71:L102,AD20)","v":0},{"$f":"AE20/(AG4-AE25)","v":0},{"$f":"IF(AF20=0,0,(AF20*((LOG(AF20))/LOG(2))))","v":0},null,{"$f":"N20","v":12212},{"$f":"COUNTIF(L103:L134,AI20)","v":0},{"$f":"AJ20/(AL4-AJ25)","v":0},{"$f":"IF(AK20=0,0,(AK20*((LOG(AK20))/LOG(2))))","v":0},null,{"$f":"N20","v":12212},{"$f":"COUNTIF(L135:L166,AN20)","v":0},{"$f":"AO20/(AQ4-AO25)","v":0},{"$f":"IF(AP20=0,0,(AP20*((LOG(AP20))/LOG(2))))","v":0},null,{"$f":"N20","v":12212},{"$f":"COUNTIF(L167:L198,AS20)","v":0},{"$f":"AT20/(AV4-AT25)","v":0},{"$f":"IF(AU20=0,0,(AU20*((LOG(AU20))/LOG(2))))","v":0}]
[12,1746,13,1750,13,1753,14,1758,13,1766,0,11111,null,12221,{"$f":"COUNTIF($L$7:$L$500,N21)","v":0},{"$f":"O21/$Q$4","v":0},{"$f":"IF(P21=0,0,(P21*((LOG(P21))/LOG(2))))","v":0},null,null,{"$f":"N21","v":12221},{"$f":"COUNTIF(L7:L38,T21)","v":0},{"$f":"U21/(W4-U25)","v":0},{"$f":"IF(V21=0,0,(V21*((LOG(V21))/LOG(2))))","v":0},null,{"$f":"N21","v":12221},{"$f":"COUNTIF(L39:L70,Y21)","v":0},{"$f":"Z21/(AB4-Z25)","v":0},{"$f":"IF(AA21=0,0,(AA21*((LOG(AA21))/LOG(2))))","v":0},null,{"$f":"N21","v":12221},{"$f":"COUNTIF(L71:L102,AD21)","v":0},{"$f":"AE21/(AG4-AE25)","v":0},{"$f":"IF(AF21=0,0,(AF21*((LOG(AF21))/LOG(2))))","v":0},null,{"$f":"N21","v":12221},{"$f":"COUNTIF(L103:L134,AI21)","v":0},{"$f":"AJ21/(AL4-AJ25)","v":0},{"$f":"IF(AK21=0,0,(AK21*((LOG(AK21))/LOG(2))))","v":0},null,{"$f":"N21","v":12221},{"$f":"COUNTIF(L135:L166,AN21)","v":0},{"$f":"AO21/(AQ4-AO25)","v":0},{"$f":"IF(AP21=0,0,(AP21*((LOG(AP21))/LOG(2))))","v":0},null,{"$f":"N21","v":12221},{"$f":"COUNTIF(L167:L198,AS21)","v":0},{"$f":"AT21/(AV4-AT25)","v":0},{"$f":"IF(AU21=0,0,(AU21*((LOG(AU21))/LOG(2))))","v":0}]
[12,1869,13,1873,13,1877,14,1881,13,1894,0,11111,null,12222,{"$f":"COUNTIF($L$7:$L$500,N22)","v":5},{"$f":"O22/$Q$4","v":2.6178010471204188E-2},{"$f":"IF(P22=0,0,(P22*((LOG(P22))/LOG(2))))","v":-0.13757855322377974},null,null,{"$f":"N22","v":12222},{"$f":"COUNTIF(L7:L38,T22)","v":0},{"$f":"U22/(W4-U25)","v":0},{"$f":"IF(V22=0,0,(V22*((LOG(V22))/LOG(2))))","v":0},null,{"$f":"N22","v":12222},{"$f":"COUNTIF(L39:L70,Y22)","v":0},{"$f":"Z22/(AB4-Z25)","v":0},{"$f":"IF(AA22=0,0,(AA22*((LOG(AA22))/LOG(2))))","v":0},null,{"$f":"N22","v":12222},{"$f":"COUNTIF(L71:L102,AD22)","v":1},{"$f":"AE22/(AG4-AE25)","v":3.125E-2},{"$f":"IF(AF22=0,0,(AF22*((LOG(AF22))/LOG(2))))","v":-0.15625},null,{"$f":"N22","v":12222},{"$f":"COUNTIF(L103:L134,AI22)","v":1},{"$f":"AJ22/(AL4-AJ25)","v":3.125E-2},{"$f":"IF(AK22=0,0,(AK22*((LOG(AK22))/LOG(2))))","v":-0.15625},null,{"$f":"N22","v":12222},{"$f":"COUNTIF(L135:L166,AN22)","v":1},{"$f":"AO22/(AQ4-AO25)","v":3.125E-2},{"$f":"IF(AP22=0,0,(AP22*((LOG(AP22))/LOG(2))))","v":-0.15625},null,{"$f":"N22","v":12222},{"$f":"COUNTIF(L167:L198,AS22)","v":2},{"$f":"AT22/(AV4-AT25)","v":6.4516129032258063E-2},{"$f":"IF(AU22=0,0,(AU22*((LOG(AU22))/LOG(2))))","v":-0.25510943937979835}]
[12,2001,13,2005,13,2009,14,2014,13,2018,1,11111,null,21111,{"$f":"COUNTIF($L$7:$L$500,N23)","v":0},{"$f":"O23/$Q$4","v":0},{"$f":"IF(P23=0,0,(P23*((LOG(P23))/LOG(2))))","v":0},null,null,{"$f":"N23","v":21111},{"$f":"COUNTIF(L7:L38,T23)","v":0},{"$f":"U23/(W4-U25)","v":0},{"$f":"IF(V23=0,0,(V23*((LOG(V23))/LOG(2))))","v":0},null,{"$f":"N23","v":21111},{"$f":"COUNTIF(L39:L70,Y23)","v":0},{"$f":"Z23/(AB4-Z25)","v":0},{"$f":"IF(AA23=0,0,(AA23*((LOG(AA23))/LOG(2))))","v":0},null,{"$f":"N23","v":21111},{"$f":"COUNTIF(L71:L102,AD23)","v":0},{"$f":"AE23/(AG4-AE25)","v":0},{"$f":"IF(AF23=0,0,(AF23*((LOG(AF23))/LOG(2))))","v":0},null,{"$f":"N23","v":21111},{"$f":"COUNTIF(L103:L134,AI23)","v":0},{"$f":"AJ23/(AL4-AJ25)","v":0},{"$f":"IF(AK23=0,0,(AK23*((LOG(AK23))/LOG(2))))","v":0},null,{"$f":"N23","v":21111},{"$f":"COUNTIF(L135:L166,AN23)","v":0},{"$f":"AO23/(AQ4-AO25)","v":0},{"$f":"IF(AP23=0,0,(AP23*((LOG(AP23))/LOG(2))))","v":0},null,{"$f":"N23","v":21111},{"$f":"COUNTIF(L167:L198,AS23)","v":0},{"$f":"AT23/(AV4-AT25)","v":0},{"$f":"IF(AU23=0,0,(AU23*((LOG(AU23))/LOG(2))))","v":0}]
[12,2114,13,2118,13,2123,14,2127,13,2131,0,11111,null,21112,{"$f":"COUNTIF($L$7:$L$500,N24)","v":0},{"$f":"O24/$Q$4","v":0},{"$f":"IF(P24=0,0,(P24*((LOG(P24))/LOG(2))))","v":0},null,null,{"$f":"N24","v":21112},{"$f":"COUNTIF(L7:L38,T24)","v":0},{"$f":"U24/(W4-U25)","v":0},{"$f":"IF(V24=0,0,(V24*((LOG(V24))/LOG(2))))","v":0},null,{"$f":"N24","v":21112},{"$f":"COUNTIF(L39:L70,Y24)","v":0},{"$f":"Z24/(AB4-Z25)","v":0},{"$f":"IF(AA24=0,0,(AA24*((LOG(AA24))/LOG(2))))","v":0},null,{"$f":"N24","v":21112},{"$f":"COUNTIF(L71:L102,AD24)","v":0},{"$f":"AE24/(AG4-AE25)","v":0},{"$f":"IF(AF24=0,0,(AF24*((LOG(AF24))/LOG(2))))","v":0},null,{"$f":"N24","v":21112},{"$f":"COUNTIF(L103:L134,AI24)","v":0},{"$f":"AJ24/(AL4-AJ25)","v":0},{"$f":"IF(AK24=0,0,(AK24*((LOG(AK24))/LOG(2))))","v":0},null,{"$f":"N24","v":21112},{"$f":"COUNTIF(L135:L166,AN24)","v":0},{"$f":"AO24/(AQ4-AO25)","v":0},{"$f":"IF(AP24=0,0,(AP24*((LOG(AP24))/LOG(2))))","v":0},null,{"$f":"N24","v":21112},{"$f":"COUNTIF(L167:L198,AS24)","v":0},{"$f":"AT24/(AV4-AT25)","v":0},{"$f":"IF(AU24=0,0,(AU24*((LOG(AU24))/LOG(2))))","v":0}]
[12,2242,13,2246,13,2251,14,2255,13,2260,0,11111,null,21121,{"$f":"COUNTIF($L$7:$L$500,N25)","v":0},{"$f":"O25/$Q$4","v":0},{"$f":"IF(P25=0,0,(P25*((LOG(P25))/LOG(2))))","v":0},null,null,{"$f":"N25","v":21121},{"$f":"COUNTIF(L7:L38,T25)","v":0},null,null,null,{"$f":"N25","v":21121},{"$f":"COUNTIF(L39:L70,Y25)","v":0},null,null,null,{"$f":"N25","v":21121},{"$f":"COUNTIF(L71:L102,AD25)","v":0},null,null,null,{"$f":"N25","v":21121},{"$f":"COUNTIF(L103:L134,AI25)","v":0},null,null,null,{"$f":"N25","v":21121},{"$f":"COUNTIF(L135:L166,AN25)","v":0},null,null,null,{"$f":"N25","v":21121},{"$f":"COUNTIF(L167:L198,AS25)","v":0}]
[12,2364,13,2369,13,2372,14,2377,13,2382,0,11111,null,21122,{"$f":"COUNTIF($L$7:$L$500,N26)","v":0},{"$f":"O26/$Q$4","v":0},{"$f":"IF(P26=0,0,(P26*((LOG(P26))/LOG(2))))","v":0},null,null,{"$f":"N26","v":21122},{"$f":"COUNTIF(L7:L38,T26)","v":0},{"$f":"U26/(W4-U25)","v":0},{"$f":"IF(V26=0,0,(V26*((LOG(V26))/LOG(2))))","v":0},null,{"$f":"N26","v":21122},{"$f":"COUNTIF(L39:L70,Y26)","v":0},{"$f":"Z26/(AB4-Z25)","v":0},{"$f":"IF(AA26=0,0,(AA26*((LOG(AA26))/LOG(2))))","v":0},null,{"$f":"N26","v":21122},{"$f":"COUNTIF(L71:L102,AD26)","v":0},{"$f":"AE26/(AG4-AE25)","v":0},{"$f":"IF(AF26=0,0,(AF26*((LOG(AF26))/LOG(2))))","v":0},null,{"$f":"N26","v":21122},{"$f":"COUNTIF(L103:L134,AI26)","v":0},{"$f":"AJ26/(AL4-AJ25)","v":0},{"$f":"IF(AK26=0,0,(AK26*((LOG(AK26))/LOG(2))))","v":0},null,{"$f":"N26","v":21122},{"$f":"COUNTIF(L135:L166,AN26)","v":0},{"$f":"AO26/(AQ4-AO25)","v":0},{"$f":"IF(AP26=0,0,(AP26*((LOG(AP26))/LOG(2))))","v":0},null,{"$f":"N26","v":21122},{"$f":"COUNTIF(L167:L198,AS26)","v":0},{"$f":"AT26/(AV4-AT25)","v":0},{"$f":"IF(AU26=0,0,(AU26*((LOG(AU26))/LOG(2))))","v":0}]
[12,2486,13,2490,13,2494,14,2501,13,2505,0,11111,null,21211,{"$f":"COUNTIF($L$7:$L$500,N27)","v":0},{"$f":"O27/$Q$4","v":0},{"$f":"IF(P27=0,0,(P27*((LOG(P27))/LOG(2))))","v":0},null,null,{"$f":"N27","v":21211},{"$f":"COUNTIF(L7:L38,T27)","v":0},{"$f":"U27/(W4-U25)","v":0},{"$f":"IF(V27=0,0,(V27*((LOG(V27))/LOG(2))))","v":0},null,{"$f":"N27","v":21211},{"$f":"COUNTIF(L39:L70,Y27)","v":0},{"$f":"Z27/(AB4-Z25)","v":0},{"$f":"IF(AA27=0,0,(AA27*((LOG(AA27))/LOG(2))))","v":0},null,{"$f":"N27","v":21211},{"$f":"COUNTIF(L71:L102,AD27)","v":0},{"$f":"AE27/(AG4-AE25)","v":0},{"$f":"IF(AF27=0,0,(AF27*((LOG(AF27))/LOG(2))))","v":0},null,{"$f":"N27","v":21211},{"$f":"COUNTIF(L103:L134,AI27)","v":0},{"$f":"AJ27/(AL4-AJ25)","v":0},{"$f":"IF(AK27=0,0,(AK27*((LOG(AK27))/LOG(2))))","v":0},null,{"$f":"N27","v":21211},{"$f":"COUNTIF(L135:L166,AN27)","v":0},{"$f":"AO27/(AQ4-AO25)","v":0},{"$f":"IF(AP27=0,0,(AP27*((LOG(AP27))/LOG(2))))","v":0},null,{"$f":"N27","v":21211},{"$f":"COUNTIF(L167:L198,AS27)","v":0},{"$f":"AT27/(AV4-AT25)","v":0},{"$f":"IF(AU27=0,0,(AU27*((LOG(AU27))/LOG(2))))","v":0}]
[12,2617,13,2627,13,2631,14,2635,13,2639,0,11111,null,21212,{"$f":"COUNTIF($L$7:$L$500,N28)","v":0},{"$f":"O28/$Q$4","v":0},{"$f":"IF(P28=0,0,(P28*((LOG(P28))/LOG(2))))","v":0},null,null,{"$f":"N28","v":21212},{"$f":"COUNTIF(L7:L38,T28)","v":0},{"$f":"U28/(W4-U25)","v":0},{"$f":"IF(V28=0,0,(V28*((LOG(V28))/LOG(2))))","v":0},null,{"$f":"N28","v":21212},{"$f":"COUNTIF(L39:L70,Y28)","v":0},{"$f":"Z28/(AB4-Z25)","v":0},{"$f":"IF(AA28=0,0,(AA28*((LOG(AA28))/LOG(2))))","v":0},null,{"$f":"N28","v":21212},{"$f":"COUNTIF(L71:L102,AD28)","v":0},{"$f":"AE28/(AG4-AE25)","v":0},{"$f":"IF(AF28=0,0,(AF28*((LOG(AF28))/LOG(2))))","v":0},null,{"$f":"N28","v":21212},{"$f":"COUNTIF(L103:L134,AI28)","v":0},{"$f":"AJ28/(AL4-AJ25)","v":0},{"$f":"IF(AK28=0,0,(AK28*((LOG(AK28))/LOG(2))))","v":0},null,{"$f":"N28","v":21212},{"$f":"COUNTIF(L135:L166,AN28)","v":0},{"$f":"AO28/(AQ4-AO25)","v":0},{"$f":"IF(AP28=0,0,(AP28*((LOG(AP28))/LOG(2))))","v":0},null,{"$f":"N28","v":21212},{"$f":"COUNTIF(L167:L198,AS28)","v":0},{"$f":"AT28/(AV4-AT25)","v":0},{"$f":"IF(AU28=0,0,(AU28*((LOG(AU28))/LOG(2))))","v":0}]
[12,2745,13,2749,13,2754,14,2758,13,2762,1,11111,null,21221,{"$f":"COUNTIF($L$7:$L$500,N29)","v":0},{"$f":"O29/$Q$4","v":0},{"$f":"IF(P29=0,0,(P29*((LOG(P29))/LOG(2))))","v":0},null,null,{"$f":"N29","v":21221},{"$f":"COUNTIF(L7:L38,T29)","v":0},{"$f":"U29/(W4-U25)","v":0},{"$f":"IF(V29=0,0,(V29*((LOG(V29))/LOG(2))))","v":0},null,{"$f":"N29","v":21221},{"$f":"COUNTIF(L39:L70,Y29)","v":0},{"$f":"Z29/(AB4-Z25)","v":0},{"$f":"IF(AA29=0,0,(AA29*((LOG(AA29))/LOG(2))))","v":0},null,{"$f":"N29","v":21221},{"$f":"COUNTIF(L71:L102,AD29)","v":0},{"$f":"AE29/(AG4-AE25)","v":0},{"$f":"IF(AF29=0,0,(AF29*((LOG(AF29))/LOG(2))))","v":0},null,{"$f":"N29","v":21221},{"$f":"COUNTIF(L103:L134,AI29)","v":0},{"$f":"AJ29/(AL4-AJ25)","v":0},{"$f":"IF(AK29=0,0,(AK29*((LOG(AK29))/LOG(2))))","v":0},null,{"$f":"N29","v":21221},{"$f":"COUNTIF(L135:L166,AN29)","v":0},{"$f":"AO29/(AQ4-AO25)","v":0},{"$f":"IF(AP29=0,0,(AP29*((LOG(AP29))/LOG(2))))","v":0},null,{"$f":"N29","v":21221},{"$f":"COUNTIF(L167:L198,AS29)","v":0},{"$f":"AT29/(AV4-AT25)","v":0},{"$f":"IF(AU29=0,0,(AU29*((LOG(AU29))/LOG(2))))","v":0}]
[12,2857,13,2863,13,2867,14,2871,13,2876,0,11111,null,21222,{"$f":"COUNTIF($L$7:$L$500,N30)","v":0},{"$f":"O30/$Q$4","v":0},{"$f":"IF(P30=0,0,(P30*((LOG(P30))/LOG(2))))","v":0},null,null,{"$f":"N30","v":21222},{"$f":"COUNTIF(L7:L38,T30)","v":0},{"$f":"U30/(W4-U25)","v":0},{"$f":"IF(V30=0,0,(V30*((LOG(V30))/LOG(2))))","v":0},null,{"$f":"N30","v":21222},{"$f":"COUNTIF(L39:L70,Y30)","v":0},{"$f":"Z30/(AB4-Z25)","v":0},{"$f":"IF(AA30=0,0,(AA30*((LOG(AA30))/LOG(2))))","v":0},null,{"$f":"N30","v":21222},{"$f":"COUNTIF(L71:L102,AD30)","v":0},{"$f":"AE30/(AG4-AE25)","v":0},{"$f":"IF(AF30=0,0,(AF30*((LOG(AF30))/LOG(2))))","v":0},null,{"$f":"N30","v":21222},{"$f":"COUNTIF(L103:L134,AI30)","v":0},{"$f":"AJ30/(AL4-AJ25)","v":0},{"$f":"IF(AK30=0,0,(AK30*((LOG(AK30))/LOG(2))))","v":0},null,{"$f":"N30","v":21222},{"$f":"COUNTIF(L135:L166,AN30)","v":0},{"$f":"AO30/(AQ4-AO25)","v":0},{"$f":"IF(AP30=0,0,(AP30*((LOG(AP30))/LOG(2))))","v":0},null,{"$f":"N30","v":21222},{"$f":"COUNTIF(L167:L198,AS30)","v":0},{"$f":"AT30/(AV4-AT25)","v":0},{"$f":"IF(AU30=0,0,(AU30*((LOG(AU30))/LOG(2))))","v":0}]
[12,2975,13,2980,13,2989,14,2993,13,2998,1,11111,null,22111,{"$f":"COUNTIF($L$7:$L$500,N31)","v":0},{"$f":"O31/$Q$4","v":0},{"$f":"IF(P31=0,0,(P31*((LOG(P31))/LOG(2))))","v":0},null,null,{"$f":"N31","v":22111},{"$f":"COUNTIF(L7:L38,T31)","v":0},{"$f":"U31/(W4-U25)","v":0},{"$f":"IF(V31=0,0,(V31*((LOG(V31))/LOG(2))))","v":0},null,{"$f":"N31","v":22111},{"$f":"COUNTIF(L39:L70,Y31)","v":0},{"$f":"Z31/(AB4-Z25)","v":0},{"$f":"IF(AA31=0,0,(AA31*((LOG(AA31))/LOG(2))))","v":0},null,{"$f":"N31","v":22111},{"$f":"COUNTIF(L71:L102,AD31)","v":0},{"$f":"AE31/(AG4-AE25)","v":0},{"$f":"IF(AF31=0,0,(AF31*((LOG(AF31))/LOG(2))))","v":0},null,{"$f":"N31","v":22111},{"$f":"COUNTIF(L103:L134,AI31)","v":0},{"$f":"AJ31/(AL4-AJ25)","v":0},{"$f":"IF(AK31=0,0,(AK31*((LOG(AK31))/LOG(2))))","v":0},null,{"$f":"N31","v":22111},{"$f":"COUNTIF(L135:L166,AN31)","v":0},{"$f":"AO31/(AQ4-AO25)","v":0},{"$f":"IF(AP31=0,0,(AP31*((LOG(AP31))/LOG(2))))","v":0},null,{"$f":"N31","v":22111},{"$f":"COUNTIF(L167:L198,AS31)","v":0},{"$f":"AT31/(AV4-AT25)","v":0},{"$f":"IF(AU31=0,0,(AU31*((LOG(AU31))/LOG(2))))","v":0}]
[12,3112,13,3120,13,3125,14,3135,13,3140,0,11111,null,22112,{"$f":"COUNTIF($L$7:$L$500,N32)","v":0},{"$f":"O32/$Q$4","v":0},{"$f":"IF(P32=0,0,(P32*((LOG(P32))/LOG(2))))","v":0},null,null,{"$f":"N32","v":22112},{"$f":"COUNTIF(L7:L38,T32)","v":0},{"$f":"U32/(W4-U25)","v":0},{"$f":"IF(V32=0,0,(V32*((LOG(V32))/LOG(2))))","v":0},null,{"$f":"N32","v":22112},{"$f":"COUNTIF(L39:L70,Y32)","v":0},{"$f":"Z32/(AB4-Z25)","v":0},{"$f":"IF(AA32=0,0,(AA32*((LOG(AA32))/LOG(2))))","v":0},null,{"$f":"N32","v":22112},{"$f":"COUNTIF(L71:L102,AD32)","v":0},{"$f":"AE32/(AG4-AE25)","v":0},{"$f":"IF(AF32=0,0,(AF32*((LOG(AF32))/LOG(2))))","v":0},null,{"$f":"N32","v":22112},{"$f":"COUNTIF(L103:L134,AI32)","v":0},{"$f":"AJ32/(AL4-AJ25)","v":0},{"$f":"IF(AK32=0,0,(AK32*((LOG(AK32))/LOG(2))))","v":0},null,{"$f":"N32","v":22112},{"$f":"COUNTIF(L135:L166,AN32)","v":0},{"$f":"AO32/(AQ4-AO25)","v":0},{"$f":"IF(AP32=0,0,(AP32*((LOG(AP32))/LOG(2))))","v":0},null,{"$f":"N32","v":22112},{"$f":"COUNTIF(L167:L198,AS32)","v":0},{"$f":"AT32/(AV4-AT25)","v":0},{"$f":"IF(AU32=0,0,(AU32*((LOG(AU32))/LOG(2))))","v":0}]
[12,3240,13,3244,13,3248,14,3251,13,3256,0,11111,null,22121,{"$f":"COUNTIF($L$7:$L$500,N33)","v":0},{"$f":"O33/$Q$4","v":0},{"$f":"IF(P33=0,0,(P33*((LOG(P33))/LOG(2))))","v":0},null,null,{"$f":"N33","v":22121},{"$f":"COUNTIF(L7:L38,T33)","v":0},{"$f":"U33/(W4-U25)","v":0},{"$f":"IF(V33=0,0,(V33*((LOG(V33))/LOG(2))))","v":0},null,{"$f":"N33","v":22121},{"$f":"COUNTIF(L39:L70,Y33)","v":0},{"$f":"Z33/(AB4-Z25)","v":0},{"$f":"IF(AA33=0,0,(AA33*((LOG(AA33))/LOG(2))))","v":0},null,{"$f":"N33","v":22121},{"$f":"COUNTIF(L71:L102,AD33)","v":0},{"$f":"AE33/(AG4-AE25)","v":0},{"$f":"IF(AF33=0,0,(AF33*((LOG(AF33))/LOG(2))))","v":0},null,{"$f":"N33","v":22121},{"$f":"COUNTIF(L103:L134,AI33)","v":0},{"$f":"AJ33/(AL4-AJ25)","v":0},{"$f":"IF(AK33=0,0,(AK33*((LOG(AK33))/LOG(2))))","v":0},null,{"$f":"N33","v":22121},{"$f":"COUNTIF(L135:L166,AN33)","v":0},{"$f":"AO33/(AQ4-AO25)","v":0},{"$f":"IF(AP33=0,0,(AP33*((LOG(AP33))/LOG(2))))","v":0},null,{"$f":"N33","v":22121},{"$f":"COUNTIF(L167:L198,AS33)","v":0},{"$f":"AT33/(AV4-AT25)","v":0},{"$f":"IF(AU33=0,0,(AU33*((LOG(AU33))/LOG(2))))","v":0}]
[12,3366,13,3369,13,3377,14,3382,13,3387,0,11111,null,22122,{"$f":"COUNTIF($L$7:$L$500,N34)","v":0},{"$f":"O34/$Q$4","v":0},{"$f":"IF(P34=0,0,(P34*((LOG(P34))/LOG(2))))","v":0},null,null,{"$f":"N34","v":22122},{"$f":"COUNTIF(L7:L38,T34)","v":0},{"$f":"U34/(W4-U25)","v":0},{"$f":"IF(V34=0,0,(V34*((LOG(V34))/LOG(2))))","v":0},null,{"$f":"N34","v":22122},{"$f":"COUNTIF(L39:L70,Y34)","v":0},{"$f":"Z34/(AB4-Z25)","v":0},{"$f":"IF(AA34=0,0,(AA34*((LOG(AA34))/LOG(2))))","v":0},null,{"$f":"N34","v":22122},{"$f":"COUNTIF(L71:L102,AD34)","v":0},{"$f":"AE34/(AG4-AE25)","v":0},{"$f":"IF(AF34=0,0,(AF34*((LOG(AF34))/LOG(2))))","v":0},null,{"$f":"N34","v":22122},{"$f":"COUNTIF(L103:L134,AI34)","v":0},{"$f":"AJ34/(AL4-AJ25)","v":0},{"$f":"IF(AK34=0,0,(AK34*((LOG(AK34))/LOG(2))))","v":0},null,{"$f":"N34","v":22122},{"$f":"COUNTIF(L135:L166,AN34)","v":0},{"$f":"AO34/(AQ4-AO25)","v":0},{"$f":"IF(AP34=0,0,(AP34*((LOG(AP34))/LOG(2))))","v":0},null,{"$f":"N34","v":22122},{"$f":"COUNTIF(L167:L198,AS34)","v":0},{"$f":"AT34/(AV4-AT25)","v":0},{"$f":"IF(AU34=0,0,(AU34*((LOG(AU34))/LOG(2))))","v":0}]
[12,3488,13,3493,13,3497,14,3504,13,3508,0,11111,null,22211,{"$f":"COUNTIF($L$7:$L$500,N35)","v":0},{"$f":"O35/$Q$4","v":0},{"$f":"IF(P35=0,0,(P35*((LOG(P35))/LOG(2))))","v":0},null,null,{"$f":"N35","v":22211},{"$f":"COUNTIF(L7:L38,T35)","v":0},{"$f":"U35/(W4-U25)","v":0},{"$f":"IF(V35=0,0,(V35*((LOG(V35))/LOG(2))))","v":0},null,{"$f":"N35","v":22211},{"$f":"COUNTIF(L39:L70,Y35)","v":0},{"$f":"Z35/(AB4-Z25)","v":0},{"$f":"IF(AA35=0,0,(AA35*((LOG(AA35))/LOG(2))))","v":0},null,{"$f":"N35","v":22211},{"$f":"COUNTIF(L71:L102,AD35)","v":0},{"$f":"AE35/(AG4-AE25)","v":0},{"$f":"IF(AF35=0,0,(AF35*((LOG(AF35))/LOG(2))))","v":0},null,{"$f":"N35","v":22211},{"$f":"COUNTIF(L103:L134,AI35)","v":0},{"$f":"AJ35/(AL4-AJ25)","v":0},{"$f":"IF(AK35=0,0,(AK35*((LOG(AK35))/LOG(2))))","v":0},null,{"$f":"N35","v":22211},{"$f":"COUNTIF(L135:L166,AN35)","v":0},{"$f":"AO35/(AQ4-AO25)","v":0},{"$f":"IF(AP35=0,0,(AP35*((LOG(AP35))/LOG(2))))","v":0},null,{"$f":"N35","v":22211},{"$f":"COUNTIF(L167:L198,AS35)","v":0},{"$f":"AT35/(AV4-AT25)","v":0},{"$f":"IF(AU35=0,0,(AU35*((LOG(AU35))/LOG(2))))","v":0}]
[12,3632,13,3643,13,3648,14,3656,13,3660,0,11111,null,22212,{"$f":"COUNTIF($L$7:$L$500,N36)","v":0},{"$f":"O36/$Q$4","v":0},{"$f":"IF(P36=0,0,(P36*((LOG(P36))/LOG(2))))","v":0},null,null,{"$f":"N36","v":22212},{"$f":"COUNTIF(L7:L38,T36)","v":0},{"$f":"U36/(W4-U25)","v":0},{"$f":"IF(V36=0,0,(V36*((LOG(V36))/LOG(2))))","v":0},null,{"$f":"N36","v":22212},{"$f":"COUNTIF(L39:L70,Y36)","v":0},{"$f":"Z36/(AB4-Z25)","v":0},{"$f":"IF(AA36=0,0,(AA36*((LOG(AA36))/LOG(2))))","v":0},null,{"$f":"N36","v":22212},{"$f":"COUNTIF(L71:L102,AD36)","v":0},{"$f":"AE36/(AG4-AE25)","v":0},{"$f":"IF(AF36=0,0,(AF36*((LOG(AF36))/LOG(2))))","v":0},null,{"$f":"N36","v":22212},{"$f":"COUNTIF(L103:L134,AI36)","v":0},{"$f":"AJ36/(AL4-AJ25)","v":0},{"$f":"IF(AK36=0,0,(AK36*((LOG(AK36))/LOG(2))))","v":0},null,{"$f":"N36","v":22212},{"$f":"COUNTIF(L135:L166,AN36)","v":0},{"$f":"AO36/(AQ4-AO25)","v":0},{"$f":"IF(AP36=0,0,(AP36*((LOG(AP36))/LOG(2))))","v":0},null,{"$f":"N36","v":22212},{"$f":"COUNTIF(L167:L198,AS36)","v":0},{"$f":"AT36/(AV4-AT25)","v":0},{"$f":"IF(AU36=0,0,(AU36*((LOG(AU36))/LOG(2))))","v":0}]
[12,3760,13,3764,13,3768,14,3773,13,3781,1,11111,null,22221,{"$f":"COUNTIF($L$7:$L$500,N37)","v":0},{"$f":"O37/$Q$4","v":0},{"$f":"IF(P37=0,0,(P37*((LOG(P37))/LOG(2))))","v":0},null,null,{"$f":"N37","v":22221},{"$f":"COUNTIF(L7:L38,T37)","v":0},{"$f":"U37/(W4-U25)","v":0},{"$f":"IF(V37=0,0,(V37*((LOG(V37))/LOG(2))))","v":0},null,{"$f":"N37","v":22221},{"$f":"COUNTIF(L39:L70,Y37)","v":0},{"$f":"Z37/(AB4-Z25)","v":0},{"$f":"IF(AA37=0,0,(AA37*((LOG(AA37))/LOG(2))))","v":0},null,{"$f":"N37","v":22221},{"$f":"COUNTIF(L71:L102,AD37)","v":0},{"$f":"AE37/(AG4-AE25)","v":0},{"$f":"IF(AF37=0,0,(AF37*((LOG(AF37))/LOG(2))))","v":0},null,{"$f":"N37","v":22221},{"$f":"COUNTIF(L103:L134,AI37)","v":0},{"$f":"AJ37/(AL4-AJ25)","v":0},{"$f":"IF(AK37=0,0,(AK37*((LOG(AK37))/LOG(2))))","v":0},null,{"$f":"N37","v":22221},{"$f":"COUNTIF(L135:L166,AN37)","v":0},{"$f":"AO37/(AQ4-AO25)","v":0},{"$f":"IF(AP37=0,0,(AP37*((LOG(AP37))/LOG(2))))","v":0},null,{"$f":"N37","v":22221},{"$f":"COUNTIF(L167:L198,AS37)","v":0},{"$f":"AT37/(AV4-AT25)","v":0},{"$f":"IF(AU37=0,0,(AU37*((LOG(AU37))/LOG(2))))","v":0}]
[12,3884,13,3889,13,3893,14,3898,13,3903,0,11111,null,22222,{"$f":"COUNTIF($L$7:$L$500,N38)","v":3},{"$f":"O38/$Q$4","v":1.5706806282722512E-2},{"$f":"IF(P38=0,0,(P38*((LOG(P38))/LOG(2))))","v":-9.4122507758867949E-2},null,null,{"$f":"N38","v":22222},{"$f":"COUNTIF(L7:L38,T38)","v":0},{"$f":"U38/(W4-U25)","v":0},{"$f":"IF(V38=0,0,(V38*((LOG(V38))/LOG(2))))","v":0},null,{"$f":"N38","v":22222},{"$f":"COUNTIF(L39:L70,Y38)","v":0},{"$f":"Z38/(AB4-Z25)","v":0},{"$f":"IF(AA38=0,0,(AA38*((LOG(AA38))/LOG(2))))","v":0},null,{"$f":"N38","v":22222},{"$f":"COUNTIF(L71:L102,AD38)","v":0},{"$f":"AE38/(AG4-AE25)","v":0},{"$f":"IF(AF38=0,0,(AF38*((LOG(AF38))/LOG(2))))","v":0},null,{"$f":"N38","v":22222},{"$f":"COUNTIF(L103:L134,AI38)","v":0},{"$f":"AJ38/(AL4-AJ25)","v":0},{"$f":"IF(AK38=0,0,(AK38*((LOG(AK38))/LOG(2))))","v":0},null,{"$f":"N38","v":22222},{"$f":"COUNTIF(L135:L166,AN38)","v":0},{"$f":"AO38/(AQ4-AO25)","v":0},{"$f":"IF(AP38=0,0,(AP38*((LOG(AP38))/LOG(2))))","v":0},null,{"$f":"N38","v":22222},{"$f":"COUNTIF(L167:L198,AS38)","v":3},{"$f":"AT38/(AV4-AT25)","v":9.6774193548387094E-2},{"$f":"IF(AU38=0,0,(AU38*((LOG(AU38))/LOG(2))))","v":-0.32605488480635986}]
[12,4006,13,4010,13,4014,14,4018,13,4023,0,11111,null,null,null,{"$f":"SUM(P7:P38)","v":0.99999999999999989},{"$f":"-SUM(Q7:Q38)","v":0.29084454331019877},null,null,null,null,{"$f":"SUM(V7:V38)","v":1},{"$f":"-SUM(W7:W38)","v":0},null,null,null,{"$f":"SUM(AA7:AA38)","v":1},{"$f":"-SUM(AB7:AB38)","v":0},null,null,null,{"$f":"SUM(AF7:AF38)","v":1},{"$f":"-SUM(AG7:AG38)","v":0.20062232431271465},null,null,null,{"$f":"SUM(AK7:AK38)","v":1},{"$f":"-SUM(AL7:AL38)","v":0.20062232431271465},null,null,null,{"$f":"SUM(AP7:AP38)","v":1},{"$f":"-SUM(AQ7:AQ38)","v":0.20062232431271465},null,null,null,{"$f":"SUM(AU7:AU38)","v":1},{"$f":"-SUM(AV7:AV38)","v":0.79399243381165352}]
[12,4124,13,4128,13,4132,14,4136,13,4144,0,11111,null,null,null,"U=",{"$f":"Q39/(LOG(Q4)/LOG(2))","v":3.8383012220992732E-2},null,null,null,null,"U1=",{"$f":"W39/(LOG(W4)/LOG(2))","v":0},null,null,null,"U2=",{"$f":"AB39/(LOG(AB4)/LOG(2))","v":0},null,null,null,"U3=",{"$f":"AG39/(LOG(AG4)/LOG(2))","v":4.0124464862542931E-2},null,null,null,"U4=",{"$f":"AL39/(LOG(AL4)/LOG(2))","v":4.0124464862542931E-2},null,null,null,"U5=",{"$f":"AQ39/(LOG(AQ4)/LOG(2))","v":4.0124464862542931E-2},null,null,null,"U6=",{"$f":"AV39/(LOG(AV4)/LOG(2))","v":0.16026664751798064}]
[12,4247,13,4251,13,4255,14,4259,13,4264,0,11111]
[12,4364,13,4368,13,4376,14,4381,13,4386,0,11111]
[12,4489,13,4493,13,4497,14,4501,13,4505,0,11111,null,"Total Target Seq"]
[12,4619,13,4628,13,4632,14,4645,13,4652,0,11111,null,{"$f":"COUNTIF(L7:L198,G3)","v":0},null,32,32,32,32,32,32]
[12,4756,13,4767,13,4775,14,4780,13,4784,0,11111,null,null,null,"% of reinforcement given in 6 equal intervals based on number of trials "]
[12,4883,13,4888,13,4891,14,4896,13,4900,1,11111,null,null,null,"%_1","%_2","%_3","%_4","%_5","%_6"]
[12,4997,13,5001,13,5005,14,5009,13,5013,0,11111,null,null,"target sequence",{"$f":"$G$3","v":21121},{"$f":"$G$3","v":21121},{"$f":"$G$3","v":21121},{"$f":"$G$3","v":21121},{"$f":"$G$3","v":21121},{"$f":"$G$3","v":21121}]
[12,5114,13,5117,13,5121,14,5126,13,5130,0,11111,null,null,"total reinforcement",{"$f":"U25","v":0},{"$f":"Z25","v":0},{"$f":"AE25","v":0},{"$f":"AJ25","v":0},{"$f":"AO25","v":0},{"$f":"AT25","v":0}]
[12,5232,13,5241,13,5245,14,5249,13,5258,0,11111,null,null,"% target"]
[12,5373,13,5377,13,5382,14,5386,13,5391,0,11111,null,null,"CCRF"]
[12,5492,13,5496,13,5500,14,5504,13,5509,0,11111,null,null,"% CCRf"]
[12,5619,13,5623,13,5627,14,5631,13,5635,0,11111,null,null,"average response rate",{"$f":"J38/P44","v":121.96875},{"$f":"(J70-J38)/Q44","v":122.125},{"$f":"(J102-J70)/R44","v":125.28125},{"$f":"(J134-J102)/S44","v":127.53125},{"$f":"(J166-J134)/T44","v":125.59375},{"$f":"(J198-J166)/U44","v":-622.5}]
[12,5740,13,5745,13,5748,14,5752,13,5757,0,11111]
[12,5857,13,5861,13,5867,14,5871,13,5875,0,11111]
[12,5975,13,5980,13,5986,14,5990,13,5994,1,11111]
[12,6095,13,6101,13,6105,14,6109,13,6116,0,11111]
[12,6230,13,6234,13,6238,14,6242,13,6248,0,11111]
[12,6351,13,6356,13,6360,14,6365,13,6370,0,11111]
[12,6474,13,6479,13,6483,14,6487,13,6498,0,11111]
[12,6598,13,6602,13,6606,14,6610,13,6614,0,11111]
[12,6715,13,6719,13,6723,14,6727,13,6732,0,11111]
[12,6833,13,6837,13,6841,14,6845,13,6856,0,11111]
[12,6954,13,6959,13,6963,14,6967,13,6971,0,11111]
[12,7071,13,7075,13,7079,14,7083,13,7087,0,11111]
[12,7187,13,7192,13,7196,14,7200,13,7204,0,11111]
[12,7305,13,7309,13,7312,14,7317,13,7321,0,11111]
[12,7428,13,7433,13,7436,14,7440,13,7444,1,11111]
[12,7546,13,7559,13,7571,14,7575,13,7580,0,11111]
[12,7679,13,7683,13,7687,14,7690,13,7694,0,11111]
[12,7795,13,7799,13,7803,14,7807,13,7811,0,11111]
[12,7911,13,7915,13,7919,14,7923,13,7928,0,11111]
[12,8041,13,8045,13,8049,14,8057,13,8065,0,11111]
[12,8169,13,8172,13,8176,14,8180,13,8184,0,11111]
[12,8289,13,8293,13,8297,14,8301,13,8310,0,11111]
[12,8419,13,8423,13,8427,14,8443,13,8457,1,11111]
[12,8553,13,8557,13,8561,14,8566,13,8570,0,11111]
[12,8673,13,8683,13,8696,14,8700,13,8704,1,11111]
[12,8803,13,8808,13,8811,14,8819,13,8823,0,11111]
[12,8932,13,8936,13,8941,14,8945,13,8949,0,11111]
[12,9049,13,9058,13,9062,14,9066,13,9070,1,11111]
[12,9176,13,9181,13,9185,14,9190,13,9200,0,11111]
[12,9300,13,9305,13,9308,14,9312,13,9316,0,11111]
[12,9416,13,9421,13,9425,14,9429,13,9434,0,11111]
[12,9532,13,9537,13,9541,14,9545,13,9549,0,11111]
[12,9650,13,9654,13,9664,14,9668,13,9672,0,11111]
[12,9782,13,9786,13,9791,14,9795,13,9799,1,11111]
[12,9908,13,9912,13,9917,14,9921,13,9926,0,11111]
[12,10026,13,10030,13,10034,14,10038,13,10043,0,11111]
[12,10145,13,10149,13,10153,14,10157,13,10161,0,11111]
[12,10276,13,10280,13,10284,14,10288,13,10293,0,11111]
[12,10392,13,10396,13,10400,14,10404,13,10409,0,11111]
[12,10517,13,10521,13,10525,14,10540,13,10549,0,11111]
[12,10649,13,10653,13,10656,14,10660,13,10664,0,11111]
[12,10789,13,10794,13,10798,14,10804,13,10810,0,11111]
[12,10910,13,10914,13,10918,14,10922,13,10926,0,11111]
[12,11029,13,11033,13,11037,14,11041,13,11050,0,11111]
[12,11148,13,11155,13,11159,14,11166,13,11170,1,11111]
[12,11280,24,11302,24,11311,23,11318,24,11325,1,12222]
[12,11423,13,11428,13,11432,14,11441,13,11445,0,11111]
[12,11545,13,11549,13,11552,14,11557,13,11561,0,11111]
[12,11673,13,11680,13,11684,14,11689,13,11699,0,11111]
[12,11802,13,11806,13,11809,14,11813,13,11820,0,11111]
[12,11919,13,11923,13,11927,14,11932,13,11936,1,11111]
[12,12046,13,12060,13,12074,14,12087,13,12091,0,11111]
[12,12195,13,12198,13,12202,14,12212,13,12216,0,11111]
[12,12329,13,12333,13,12343,14,12347,13,12351,0,11111]
[12,12451,13,12455,13,12459,14,12462,13,12466,0,11111]
[12,12588,13,12592,13,12596,14,12600,13,12605,0,11111]
[12,12708,13,12714,13,12717,14,12724,13,12728,1,11111]
[12,12842,13,12852,13,12863,14,12868,13,12875,0,11111]
[12,12979,13,12984,13,12988,14,12992,13,13003,0,11111]
[12,13110,13,13114,13,13118,14,13122,13,13126,0,11111]
[12,13227,13,13231,13,13235,14,13239,13,13243,0,11111]
[12,13346,24,13369,24,13376,23,13382,24,13407,0,12222]
[12,13526,13,13530,13,13535,14,13539,13,13546,0,11111]
[12,13650,13,13654,13,13658,14,13662,13,13671,1,11111]
[12,13785,13,13790,13,13795,14,13799,13,13803,1,11111]
[12,13905,13,13913,13,13918,14,13922,13,13928,0,11111]
[12,14029,13,14033,13,14037,14,14041,13,14046,0,11111]
[12,14156,13,14160,13,14163,14,14168,13,14172,0,11111]
[12,14276,13,14285,13,14289,14,14294,13,14298,0,11111]
[12,14398,13,14404,13,14408,14,14415,13,14419,0,11111]
[12,14522,13,14526,13,14533,14,14537,13,14541,0,11111]
[12,14651,13,14660,13,14665,14,14669,13,14678,0,11111]
[12,14804,13,14809,13,14814,14,14819,13,14827,1,11111]
[12,14925,13,14929,13,14934,14,14938,13,14943,0,11111]
[12,15049,13,15053,13,15058,14,15062,13,15066,0,11111]
[12,15168,13,15172,13,15176,14,15180,13,15184,0,11111]
[12,15286,13,15290,13,15295,14,15299,13,15304,0,11111]
[12,15407,13,15412,13,15416,14,15420,13,15429,0,11111]
[12,15530,13,15534,13,15538,14,15542,13,15546,0,11111]
[12,15647,13,15651,13,15655,14,15659,13,15663,0,11111]
[12,15765,13,15769,13,15773,14,15777,13,15782,1,11111]
[12,15880,13,15885,13,15890,14,15896,13,15901,0,11111]
[12,16001,13,16005,13,16009,14,16012,13,16016,0,11111]
[12,16117,13,16121,13,16128,14,16133,13,16138,0,11111]
[12,16241,13,16245,13,16250,14,16254,13,16258,0,11111]
[12,16358,13,16362,13,16367,14,16373,13,16378,0,11111]
[12,16478,13,16482,13,16486,14,16490,13,16494,0,11111]
[12,16600,13,16604,13,16609,14,16614,13,16619,0,11111]
[12,16720,13,16724,13,16727,14,16731,13,16735,0,11111]
[12,16843,13,16847,13,16851,14,16855,13,16859,1,11111]
[12,16981,13,16985,13,16990,14,16996,13,17004,0,11111]
[12,17105,13,17109,13,17113,14,17119,13,17123,0,11111]
[12,17234,13,17238,13,17242,14,17246,13,17255,0,11111]
[12,17359,13,17363,13,17370,14,17373,13,17378,0,11111]
[12,17499,13,17503,13,17507,14,17512,13,17517,0,11111]
[12,17616,13,17620,13,17624,14,17628,13,17632,1,11111]
[12,17729,13,17733,13,17738,14,17742,13,17747,0,11111]
[12,17863,13,17872,13,17876,14,17880,13,17896,0,11111]
[12,17996,13,18000,13,18004,14,18008,13,18014,0,11111]
[12,18128,13,18132,13,18135,14,18140,13,18144,0,11111]
[12,18247,13,18251,13,18255,14,18259,13,18263,0,11111]
[12,18386,13,18390,13,18394,14,18398,13,18402,0,11111]
[12,18509,13,18513,13,18517,14,18521,13,18529,0,11111]
[12,18630,13,18635,13,18639,14,18642,13,18646,0,11111]
[12,18761,13,18765,13,18774,14,18783,13,18788,1,11111]
[12,18883,13,18887,13,18891,14,18895,13,18899,0,11111]
[12,18997,24,19022,24,19030,23,19038,24,19046,0,12222]
[12,19150,13,19154,13,19158,14,19167,13,19171,0,11111]
[12,19274,13,19283,13,19289,14,19293,13,19298,0,11111]
[12,19399,13,19403,13,19407,14,19411,13,19416,0,11111]
[12,19521,13,19524,13,19528,14,19532,13,19536,0,11111]
[12,19643,13,19647,13,19652,14,19656,13,19662,0,11111]
[12,19770,13,19774,13,19781,14,19792,13,19796,0,11111]
[12,19895,13,19899,13,19903,14,19912,13,19920,0,11111]
[12,20026,13,20030,13,20034,14,20038,13,20042,0,11111]
[12,20153,13,20158,13,20163,14,20167,13,20172,1,11111]
[12,20270,13,20275,13,20279,14,20285,13,20290,0,11111]
[12,20389,13,20394,13,20397,14,20402,13,20406,0,11111]
[12,20522,13,20534,13,20538,14,20542,13,20549,0,11111]
[12,20659,13,20664,13,20669,14,20673,13,20677,0,11111]
[21,20789,22,20794,24,20798,23,20803,24,20808,0,22222]
[21,20933,22,20938,24,20944,23,20952,24,20959,0,22222]
[12,21061,13,21065,13,21069,14,21074,13,21083,0,11111]
[12,21183,13,21187,13,21191,14,21194,13,21198,0,11111]
[12,21299,13,21302,13,21306,14,21310,13,21314,0,11111]
[12,21417,24,21439,24,21450,23,21457,24,21466,0,12222]
[12,21567,13,21571,13,21575,14,21580,13,21584,0,11111]
[12,21684,13,21688,13,21695,14,21699,13,21703,1,11111]
[12,21824,13,21828,13,21832,14,21837,13,21841,0,11111]
[12,21941,13,21945,13,21951,14,21955,13,21959,0,11111]
[12,22061,13,22066,13,22069,14,22077,13,22086,0,11111]
[12,22189,13,22193,13,22201,14,22204,13,22211,0,11111]
[12,22320,13,22324,13,22327,14,22332,13,22336,0,11111]
[12,22439,13,22443,13,22447,14,22451,13,22456,1,11111]
[12,22556,13,22560,13,22564,14,22569,13,22574,1,11111]
[12,22691,13,22695,13,22700,14,22704,13,22713,1,11111]
[12,22810,13,22815,13,22819,14,22826,13,22833,0,11111]
[12,22947,13,22951,13,22955,14,22959,13,22964,1,11111]
[12,23068,13,23073,13,23077,14,23082,13,23088,0,11111]
[21,23202,22,23207,24,23214,23,23222,24,23226,0,22222]
[12,23325,13,23329,13,23333,14,23337,13,23353,1,11111]
[12,23453,24,23472,24,23476,23,23481,24,23490,0,12222]
[12,23599,13,23604,13,23608,14,23612,13,23617,0,11111]
[12,23756,13,23760,13,23764,14,23768,13,23772,1,11111]
[12,23868,13,23872,13,23878,14,23882,13,23887,0,11111]
[12,23988,13,23993,null,null,null,null,null,null,null,11]

{"sheet":"!MC17820.010","index":19,"n_rows":197,"n_cols":48,"rows_kept":197,"cut":false,"hidden":false,"merged":[[4,39,4,42],[5,39,5,40],[4,44,4,47],[5,44,5,45],[4,24,4,27],[5,24,5,25],[4,29,4,32],[5,29,5,30],[4,34,4,37],[5,34,5,35],[1,1,1,2],[5,13,5,14],[42,13,42,14],[43,13,43,14],[4,19,4,22],[5,19,5,20]]}
["Report for:!MC17820.010"]
["Date:","<date>"]
["Hen:","<hen>",null,null,null,"Correct Sequence",{"$f":"Start!J2","v":21121},null,null,null,null,null,null,null,null,"Total Sequences in Data",{"$f":"4994-COUNTBLANK(L7:L5000)","v":191},null,null,null,null,"Total Sequences in Block Data",{"$f":"COUNTA(L7:L38)","v":32},null,null,null,"Total Sequences in Block Data",{"$f":"COUNTA(L39:L70)","v":32},null,null,null,"Total Sequences in Block Data",{"$f":"COUNTA(L71:L101)","v":31},null,null,null,"Total Sequences in Block Data",{"$f":"COUNTA(L102:L133)","v":32},null,null,null,"Total Sequences in Block Data",{"$f":"COUNTA(L134:L165)","v":32},null,null,null,"Total Sequences in Block Data",{"$f":"COUNTA(L166:L197)","v":32}]
[null,null,null,null,null,null,null,null,null,null,null,null,null,null,null,"Total Sequences in Summary",{"$f":"SUM(O7:O38)","v":191},null,null,null,null,"Total Sequences in Block Summary",{"$f":"SUM(U7:U38)","v":32},null,null,null,"Total Sequences in Block Summary",{"$f":"SUM(Z7:Z38)","v":32},null,null,null,"Total Sequences in Block Summary",{"$f":"SUM(AE7:AE38)","v":31},null,null,null,"Total Sequences in Block Summary",{"$f":"SUM(AJ7:AJ38)","v":32},null,null,null,"Total Sequences in Block Summary",{"$f":"SUM(AO7:AO38)","v":32},null,null,null,"Total Sequences in Block Summary",{"$f":"SUM(AT7:AT38)","v":32}]
[null,null,null,null,null,null,null,null,null,null,null,null,null,null,null,null,null,null,null,"Block 1",null,null,null,null,"Block 2",null,null,null,null,"Block 3",null,null,null,null,"Block 4",null,null,null,null,"Block 5",null,null,null,null,"Block 6"]
["Sequence\nComponent\n1","Time\n1","Sequence\nComponent\n2","Time\n2","Sequence\nComponent\n3","Time\n3","Sequence\nComponent\n4","Time\n4","Sequence\nComponent\n5","Time\n5","Correct?\n0=No 1=Yes","Sequence",null,"Frequency",null,"Relative Frequency","Variability",null,null,"Frequency",null,"Relative Frequency","Variability",null,"Frequency",null,"Relative Frequency","Variability",null,"Frequency",null,"Relative Frequency","Variability",null,"Frequency",null,"Relative Frequency","Variability",null,"Frequency",null,"Relative Frequency","Variability",null,"Frequency",null,"Relative Frequency","Variability"]
[12,17,13,22,13,26,14,30,13,37,0,11111,null,11111,{"$f":"COUNTIF($L$7:$L$500,N7)","v":187},{"$f":"O7/$Q$4","v":0.97905759162303663},{"$f":"IF(P7=0,0,(P7*((LOG(P7))/LOG(2))))","v":-2.989490494082175E-2},null,null,{"$f":"N7","v":11111},{"$f":"COUNTIF(L7:L38,T7)","v":31},{"$f":"U7/(W4-U25)","v":0.96875},{"$f":"IF(V7=0,0,(V7*((LOG(V7))/LOG(2))))","v":-4.4372324312714644E-2},null,{"$f":"N7","v":11111},{"$f":"COUNTIF(L39:L70,Y7)","v":32},{"$f":"Z7/(AB4-Z25)","v":1},{"$f":"IF(AA7=0,0,(AA7*((LOG(AA7))/LOG(2))))","v":0},null,{"$f":"N7","v":11111},{"$f":"COUNTIF(L71:L101,AD7)","v":29},{"$f":"AE7/(AG4-AE25)","v":0.93548387096774188},{"$f":"IF(AF7=0,0,(AF7*((LOG(AF7))/LOG(2))))","v":-9.0007875565154577E-2},null,{"$f":"N7","v":11111},{"$f":"COUNTIF(L102:L133,AI7)","v":32},{"$f":"AJ7/(AL4-AJ25)","v":1},{"$f":"IF(AK7=0,0,(AK7*((LOG(AK7))/LOG(2))))","v":0},null,{"$f":"N7","v":11111},{"$f":"COUNTIF(L134:L165,AN7)","v":32},{"$f":"AO7/(AQ4-AO25)","v":1},{"$f":"IF(AP7=0,0,(AP7*((LOG(AP7))/LOG(2))))","v":0},null,{"$f":"N7","v":11111},{"$f":"COUNTIF(L166:L197,AS7)","v":31},{"$f":"AT7/(AV4-AT25)","v":0.96875},{"$f":"IF(AU7=0,0,(AU7*((LOG(AU7))/LOG(2))))","v":-4.4372324312714644E-2}]
[12,147,13,151,13,155,14,159,13,163,0,11111,null,11112,{"$f":"COUNTIF($L$7:$L$500,N8)","v":2},{"$f":"O8/$Q$4","v":1.0471204188481676E-2},{"$f":"IF(P8=0,0,(P8*((LOG(P8))/LOG(2))))","v":-6.8873600293568052E-2},null,null,{"$f":"N8","v":11112},{"$f":"COUNTIF(L7:L38,T8)","v":0},{"$f":"U8/(W4-U25)","v":0},{"$f":"IF(V8=0,0,(V8*((LOG(V8))/LOG(2))))","v":0},null,{"$f":"N8","v":11112},{"$f":"COUNTIF(L39:L70,Y8)","v":0},{"$f":"Z8/(AB4-Z25)","v":0},{"$f":"IF(AA8=0,0,(AA8*((LOG(AA8))/LOG(2))))","v":0},null,{"$f":"N8","v":11112},{"$f":"COUNTIF(L71:L101,AD8)","v":1},{"$f":"AE8/(AG4-AE25)","v":3.2258064516129031E-2},{"$f":"IF(AF8=0,0,(AF8*((LOG(AF8))/LOG(2))))","v":-0.15981278420602821},null,{"$f":"N8","v":11112},{"$f":"COUNTIF(L102:L133,AI8)","v":0},{"$f":"AJ8/(AL4-AJ25)","v":0},{"$f":"IF(AK8=0,0,(AK8*((LOG(AK8))/LOG(2))))","v":0},null,{"$f":"N8","v":11112},{"$f":"COUNTIF(L134:L165,AN8)","v":0},{"$f":"AO8/(AQ4-AO25)","v":0},{"$f":"IF(AP8=0,0,(AP8*((LOG(AP8))/LOG(2))))","v":0},null,{"$f":"N8","v":11112},{"$f":"COUNTIF(L166:L197,AS8)","v":1},{"$f":"AT8/(AV4-AT25)","v":3.125E-2},{"$f":"IF(AU8=0,0,(AU8*((LOG(AU8))/LOG(2))))","v":-0.15625}]
[12,263,13,268,13,272,14,276,13,281,0,11111,null,11121,{"$f":"COUNTIF($L$7:$L$500,N9)","v":0},{"$f":"O9/$Q$4","v":0},{"$f":"IF(P9=0,0,(P9*((LOG(P9))/LOG(2))))","v":0},null,null,{"$f":"N9","v":11121},{"$f":"COUNTIF(L7:L38,T9)","v":0},{"$f":"U9/(W4-U25)","v":0},{"$f":"IF(V9=0,0,(V9*((LOG(V9))/LOG(2))))","v":0},null,{"$f":"N9","v":11121},{"$f":"COUNTIF(L39:L70,Y9)","v":0},{"$f":"Z9/(AB4-Z25)","v":0},{"$f":"IF(AA9=0,0,(AA9*((LOG(AA9))/LOG(2))))","v":0},null,{"$f":"N9","v":11121},{"$f":"COUNTIF(L71:L101,AD9)","v":0},{"$f":"AE9/(AG4-AE25)","v":0},{"$f":"IF(AF9=0,0,(AF9*((LOG(AF9))/LOG(2))))","v":0},null,{"$f":"N9","v":11121},{"$f":"COUNTIF(L102:L133,AI9)","v":0},{"$f":"AJ9/(AL4-AJ25)","v":0},{"$f":"IF(AK9=0,0,(AK9*((LOG(AK9))/LOG(2))))","v":0},null,{"$f":"N9","v":11121},{"$f":"COUNTIF(L134:L165,AN9)","v":0},{"$f":"AO9/(AQ4-AO25)","v":0},{"$f":"IF(AP9=0,0,(AP9*((LOG(AP9))/LOG(2))))","v":0},null,{"$f":"N9","v":11121},{"$f":"COUNTIF(L166:L197,AS9)","v":0},{"$f":"AT9/(AV4-AT25)","v":0},{"$f":"IF(AU9=0,0,(AU9*((LOG(AU9))/LOG(2))))","v":0}]
[12,387,13,392,13,396,14,401,13,405,0,11111,null,11122,{"$f":"COUNTIF($L$7:$L$500,N10)","v":0},{"$f":"O10/$Q$4","v":0},{"$f":"IF(P10=0,0,(P10*((LOG(P10))/LOG(2))))","v":0},null,null,{"$f":"N10","v":11122},{"$f":"COUNTIF(L7:L38,T10)","v":0},{"$f":"U10/(W4-U25)","v":0},{"$f":"IF(V10=0,0,(V10*((LOG(V10))/LOG(2))))","v":0},null,{"$f":"N10","v":11122},{"$f":"COUNTIF(L39:L70,Y10)","v":0},{"$f":"Z10/(AB4-Z25)","v":0},{"$f":"IF(AA10=0,0,(AA10*((LOG(AA10))/LOG(2))))","v":0},null,{"$f":"N10","v":11122},{"$f":"COUNTIF(L71:L101,AD10)","v":0},{"$f":"AE10/(AG4-AE25)","v":0},{"$f":"IF(AF10=0,0,(AF10*((LOG(AF10))/LOG(2))))","v":0},null,{"$f":"N10","v":11122},{"$f":"COUNTIF(L102:L133,AI10)","v":0},{"$f":"AJ10/(AL4-AJ25)","v":0},{"$f":"IF(AK10=0,0,(AK10*((LOG(AK10))/LOG(2))))","v":0},null,{"$f":"N10","v":11122},{"$f":"COUNTIF(L134:L165,AN10)","v":0},{"$f":"AO10/(AQ4-AO25)","v":0},{"$f":"IF(AP10=0,0,(AP10*((LOG(AP10))/LOG(2))))","v":0},null,{"$f":"N10","v":11122},{"$f":"COUNTIF(L166:L197,AS10)","v":0},{"$f":"AT10/(AV4-AT25)","v":0},{"$f":"IF(AU10=0,0,(AU10*((LOG(AU10))/LOG(2))))","v":0}]
[12,512,13,516,13,521,14,525,13,530,0,11111,null,11211,{"$f":"COUNTIF($L$7:$L$500,N11)","v":0},{"$f":"O11/$Q$4","v":0},{"$f":"IF(P11=0,0,(P11*((LOG(P11))/LOG(2))))","v":0},null,null,{"$f":"N11","v":11211},{"$f":"COUNTIF(L7:L38,T11)","v":0},{"$f":"U11/(W4-U25)","v":0},{"$f":"IF(V11=0,0,(V11*((LOG(V11))/LOG(2))))","v":0},null,{"$f":"N11","v":11211},{"$f":"COUNTIF(L39:L70,Y11)","v":0},{"$f":"Z11/(AB4-Z25)","v":0},{"$f":"IF(AA11=0,0,(AA11*((LOG(AA11))/LOG(2))))","v":0},null,{"$f":"N11","v":11211},{"$f":"COUNTIF(L71:L101,AD11)","v":0},{"$f":"AE11/(AG4-AE25)","v":0},{"$f":"IF(AF11=0,0,(AF11*((LOG(AF11))/LOG(2))))","v":0},null,{"$f":"N11","v":11211},{"$f":"COUNTIF(L102:L133,AI11)","v":0},{"$f":"AJ11/(AL4-AJ25)","v":0},{"$f":"IF(AK11=0,0,(AK11*((LOG(AK11))/LOG(2))))","v":0},null,{"$f":"N11","v":11211},{"$f":"COUNTIF(L134:L165,AN11)","v":0},{"$f":"AO11/(AQ4-AO25)","v":0},{"$f":"IF(AP11=0,0,(AP11*((LOG(AP11))/LOG(2))))","v":0},null,{"$f":"N11","v":11211},{"$f":"COUNTIF(L166:L197,AS11)","v":0},{"$f":"AT11/(AV4-AT25)","v":0},{"$f":"IF(AU11=0,0,(AU11*((LOG(AU11))/LOG(2))))","v":0}]
[12,629,13,633,13,637,14,640,13,645,0,11111,null,11212,{"$f":"COUNTIF($L$7:$L$500,N12)","v":0},{"$f":"O12/$Q$4","v":0},{"$f":"IF(P12=0,0,(P12*((LOG(P12))/LOG(2))))","v":0},null,null,{"$f":"N12","v":11212},{"$f":"COUNTIF(L7:L38,T12)","v":0},{"$f":"U12/(W4-U25)","v":0},{"$f":"IF(V12=0,0,(V12*((LOG(V12))/LOG(2))))","v":0},null,{"$f":"N12","v":11212},{"$f":"COUNTIF(L39:L70,Y12)","v":0},{"$f":"Z12/(AB4-Z25)","v":0},{"$f":"IF(AA12=0,0,(AA12*((LOG(AA12))/LOG(2))))","v":0},null,{"$f":"N12","v":11212},{"$f":"COUNTIF(L71:L101,AD12)","v":0},{"$f":"AE12/(AG4-AE25)","v":0},{"$f":"IF(AF12=0,0,(AF12*((LOG(AF12))/LOG(2))))","v":0},null,{"$f":"N12","v":11212},{"$f":"COUNTIF(L102:L133,AI12)","v":0},{"$f":"AJ12/(AL4-AJ25)","v":0},{"$f":"IF(AK12=0,0,(AK12*((LOG(AK12))/LOG(2))))","v":0},null,{"$f":"N12","v":11212},{"$f":"COUNTIF(L134:L165,AN12)","v":0},{"$f":"AO12/(AQ4-AO25)","v":0},{"$f":"IF(AP12=0,0,(AP12*((LOG(AP12))/LOG(2))))","v":0},null,{"$f":"N12","v":11212},{"$f":"COUNTIF(L166:L197,AS12)","v":0},{"$f":"AT12/(AV4-AT25)","v":0},{"$f":"IF(AU12=0,0,(AU12*((LOG(AU12))/LOG(2))))","v":0}]
[12,745,13,752,13,756,14,761,13,765,1,11111,null,11221,{"$f":"COUNTIF($L$7:$L$500,N13)","v":0},{"$f":"O13/$Q$4","v":0},{"$f":"IF(P13=0,0,(P13*((LOG(P13))/LOG(2))))","v":0},null,null,{"$f":"N13","v":11221},{"$f":"COUNTIF(L7:L38,T13)","v":0},{"$f":"U13/(W4-U25)","v":0},{"$f":"IF(V13=0,0,(V13*((LOG(V13))/LOG(2))))","v":0},null,{"$f":"N13","v":11221},{"$f":"COUNTIF(L39:L70,Y13)","v":0},{"$f":"Z13/(AB4-Z25)","v":0},{"$f":"IF(AA13=0,0,(AA13*((LOG(AA13))/LOG(2))))","v":0},null,{"$f":"N13","v":11221},{"$f":"COUNTIF(L71:L101,AD13)","v":0},{"$f":"AE13/(AG4-AE25)","v":0},{"$f":"IF(AF13=0,0,(AF13*((LOG(AF13))/LOG(2))))","v":0},null,{"$f":"N13","v":11221},{"$f":"COUNTIF(L102:L133,AI13)","v":0},{"$f":"AJ13/(AL4-AJ25)","v":0},{"$f":"IF(AK13=0,0,(AK13*((LOG(AK13))/LOG(2))))","v":0},null,{"$f":"N13","v":11221},{"$f":"COUNTIF(L134:L165,AN13)","v":0},{"$f":"AO13/(AQ4-AO25)","v":0},{"$f":"IF(AP13=0,0,(AP13*((LOG(AP13))/LOG(2))))","v":0},null,{"$f":"N13","v":11221},{"$f":"COUNTIF(L166:L197,AS13)","v":0},{"$f":"AT13/(AV4-AT25)","v":0},{"$f":"IF(AU13=0,0,(AU13*((LOG(AU13))/LOG(2))))","v":0}]
[12,866,13,870,13,875,14,879,13,884,0,11111,null,11222,{"$f":"COUNTIF($L$7:$L$500,N14)","v":0},{"$f":"O14/$Q$4","v":0},{"$f":"IF(P14=0,0,(P14*((LOG(P14))/LOG(2))))","v":0},null,null,{"$f":"N14","v":11222},{"$f":"COUNTIF(L7:L38,T14)","v":0},{"$f":"U14/(W4-U25)","v":0},{"$f":"IF(V14=0,0,(V14*((LOG(V14))/LOG(2))))","v":0},null,{"$f":"N14","v":11222},{"$f":"COUNTIF(L39:L70,Y14)","v":0},{"$f":"Z14/(AB4-Z25)","v":0},{"$f":"IF(AA14=0,0,(AA14*((LOG(AA14))/LOG(2))))","v":0},null,{"$f":"N14","v":11222},{"$f":"COUNTIF(L71:L101,AD14)","v":0},{"$f":"AE14/(AG4-AE25)","v":0},{"$f":"IF(AF14=0,0,(AF14*((LOG(AF14))/LOG(2))))","v":0},null,{"$f":"N14","v":11222},{"$f":"COUNTIF(L102:L133,AI14)","v":0},{"$f":"AJ14/(AL4-AJ25)","v":0},{"$f":"IF(AK14=0,0,(AK14*((LOG(AK14))/LOG(2))))","v":0},null,{"$f":"N14","v":11222},{"$f":"COUNTIF(L134:L165,AN14)","v":0},{"$f":"AO14/(AQ4-AO25)","v":0},{"$f":"IF(AP14=0,0,(AP14*((LOG(AP14))/LOG(2))))","v":0},null,{"$f":"N14","v":11222},{"$f":"COUNTIF(L166:L197,AS14)","v":0},{"$f":"AT14/(AV4-AT25)","v":0},{"$f":"IF(AU14=0,0,(AU14*((LOG(AU14))/LOG(2))))","v":0}]
[12,978,13,982,13,987,14,991,13,995,0,11111,null,12111,{"$f":"COUNTIF($L$7:$L$500,N15)","v":0},{"$f":"O15/$Q$4","v":0},{"$f":"IF(P15=0,0,(P15*((LOG(P15))/LOG(2))))","v":0},null,null,{"$f":"N15","v":12111},{"$f":"COUNTIF(L7:L38,T15)","v":0},{"$f":"U15/(W4-U25)","v":0},{"$f":"IF(V15=0,0,(V15*((LOG(V15))/LOG(2))))","v":0},null,{"$f":"N15","v":12111},{"$f":"COUNTIF(L39:L70,Y15)","v":0},{"$f":"Z15/(AB4-Z25)","v":0},{"$f":"IF(AA15=0,0,(AA15*((LOG(AA15))/LOG(2))))","v":0},null,{"$f":"N15","v":12111},{"$f":"COUNTIF(L71:L101,AD15)","v":0},{"$f":"AE15/(AG4-AE25)","v":0},{"$f":"IF(AF15=0,0,(AF15*((LOG(AF15))/LOG(2))))","v":0},null,{"$f":"N15","v":12111},{"$f":"COUNTIF(L102:L133,AI15)","v":0},{"$f":"AJ15/(AL4-AJ25)","v":0},{"$f":"IF(AK15=0,0,(AK15*((LOG(AK15))/LOG(2))))","v":0},null,{"$f":"N15","v":12111},{"$f":"COUNTIF(L134:L165,AN15)","v":0},{"$f":"AO15/(AQ4-AO25)","v":0},{"$f":"IF(AP15=0,0,(AP15*((LOG(AP15))/LOG(2))))","v":0},null,{"$f":"N15","v":12111},{"$f":"COUNTIF(L166:L197,AS15)","v":0},{"$f":"AT15/(AV4-AT25)","v":0},{"$f":"IF(AU15=0,0,(AU15*((LOG(AU15))/LOG(2))))","v":0}]
[12,1094,13,1098,13,1103,14,1106,13,1110,0,11111,null,12112,{"$f":"COUNTIF($L$7:$L$500,N16)","v":0},{"$f":"O16/$Q$4","v":0},{"$f":"IF(P16=0,0,(P16*((LOG(P16))/LOG(2))))","v":0},null,null,{"$f":"N16","v":12112},{"$f":"COUNTIF(L7:L38,T16)","v":0},{"$f":"U16/(W4-U25)","v":0},{"$f":"IF(V16=0,0,(V16*((LOG(V16))/LOG(2))))","v":0},null,{"$f":"N16","v":12112},{"$f":"COUNTIF(L39:L70,Y16)","v":0},{"$f":"Z16/(AB4-Z25)","v":0},{"$f":"IF(AA16=0,0,(AA16*((LOG(AA16))/LOG(2))))","v":0},null,{"$f":"N16","v":12112},{"$f":"COUNTIF(L71:L101,AD16)","v":0},{"$f":"AE16/(AG4-AE25)","v":0},{"$f":"IF(AF16=0,0,(AF16*((LOG(AF16))/LOG(2))))","v":0},null,{"$f":"N16","v":12112},{"$f":"COUNTIF(L102:L133,AI16)","v":0},{"$f":"AJ16/(AL4-AJ25)","v":0},{"$f":"IF(AK16=0,0,(AK16*((LOG(AK16))/LOG(2))))","v":0},null,{"$f":"N16","v":12112},{"$f":"COUNTIF(L134:L165,AN16)","v":0},{"$f":"AO16/(AQ4-AO25)","v":0},{"$f":"IF(AP16=0,0,(AP16*((LOG(AP16))/LOG(2))))","v":0},null,{"$f":"N16","v":12112},{"$f":"COUNTIF(L166:L197,AS16)","v":0},{"$f":"AT16/(AV4-AT25)","v":0},{"$f":"IF(AU16=0,0,(AU16*((LOG(AU16))/LOG(2))))","v":0}]
[12,1211,13,1215,13,1219,14,1224,13,1232,0,11111,null,12121,{"$f":"COUNTIF($L$7:$L$500,N17)","v":0},{"$f":"O17/$Q$4","v":0},{"$f":"IF(P17=0,0,(P17*((LOG(P17))/LOG(2))))","v":0},null,null,{"$f":"N17","v":12121},{"$f":"COUNTIF(L7:L38,T17)","v":0},{"$f":"U17/(W4-U25)","v":0},{"$f":"IF(V17=0,0,(V17*((LOG(V17))/LOG(2))))","v":0},null,{"$f":"N17","v":12121},{"$f":"COUNTIF(L39:L70,Y17)","v":0},{"$f":"Z17/(AB4-Z25)","v":0},{"$f":"IF(AA17=0,0,(AA17*((LOG(AA17))/LOG(2))))","v":0},null,{"$f":"N17","v":12121},{"$f":"COUNTIF(L71:L101,AD17)","v":0},{"$f":"AE17/(AG4-AE25)","v":0},{"$f":"IF(AF17=0,0,(AF17*((LOG(AF17))/LOG(2))))","v":0},null,{"$f":"N17","v":12121},{"$f":"COUNTIF(L102:L133,AI17)","v":0},{"$f":"AJ17/(AL4-AJ25)","v":0},{"$f":"IF(AK17=0,0,(AK17*((LOG(AK17))/LOG(2))))","v":0},null,{"$f":"N17","v":12121},{"$f":"COUNTIF(L134:L165,AN17)","v":0},{"$f":"AO17/(AQ4-AO25)","v":0},{"$f":"IF(AP17=0,0,(AP17*((LOG(AP17))/LOG(2))))","v":0},null,{"$f":"N17","v":12121},{"$f":"COUNTIF(L166:L197,AS17)","v":0},{"$f":"AT17/(AV4-AT25)","v":0},{"$f":"IF(AU17=0,0,(AU17*((LOG(AU17))/LOG(2))))","v":0}]
[12,1338,13,1343,13,1347,14,1351,13,1355,0,11111,null,12122,{"$f":"COUNTIF($L$7:$L$500,N18)","v":0},{"$f":"O18/$Q$4","v":0},{"$f":"IF(P18=0,0,(P18*((LOG(P18))/LOG(2))))","v":0},null,null,{"$f":"N18","v":12122},{"$f":"COUNTIF(L7:L38,T18)","v":0},{"$f":"U18/(W4-U25)","v":0},{"$f":"IF(V18=0,0,(V18*((LOG(V18))/LOG(2))))","v":0},null,{"$f":"N18","v":12122},{"$f":"COUNTIF(L39:L70,Y18)","v":0},{"$f":"Z18/(AB4-Z25)","v":0},{"$f":"IF(AA18=0,0,(AA18*((LOG(AA18))/LOG(2))))","v":0},null,{"$f":"N18","v":12122},{"$f":"COUNTIF(L71:L101,AD18)","v":0},{"$f":"AE18/(AG4-AE25)","v":0},{"$f":"IF(AF18=0,0,(AF18*((LOG(AF18))/LOG(2))))","v":0},null,{"$f":"N18","v":12122},{"$f":"COUNTIF(L102:L133,AI18)","v":0},{"$f":"AJ18/(AL4-AJ25)","v":0},{"$f":"IF(AK18=0,0,(AK18*((LOG(AK18))/LOG(2))))","v":0},null,{"$f":"N18","v":12122},{"$f":"COUNTIF(L134:L165,AN18)","v":0},{"$f":"AO18/(AQ4-AO25)","v":0},{"$f":"IF(AP18=0,0,(AP18*((LOG(AP18))/LOG(2))))","v":0},null,{"$f":"N18","v":12122},{"$f":"COUNTIF(L166:L197,AS18)","v":0},{"$f":"AT18/(AV4-AT25)","v":0},{"$f":"IF(AU18=0,0,(AU18*((LOG(AU18))/LOG(2))))","v":0}]
[12,1456,13,1460,13,1463,14,1467,13,1471,0,11111,null,12211,{"$f":"COUNTIF($L$7:$L$500,N19)","v":0},{"$f":"O19/$Q$4","v":0},{"$f":"IF(P19=0,0,(P19*((LOG(P19))/LOG(2))))","v":0},null,null,{"$f":"N19","v":12211},{"$f":"COUNTIF(L7:L38,T19)","v":0},{"$f":"U19/(W4-U25)","v":0},{"$f":"IF(V19=0,0,(V19*((LOG(V19))/LOG(2))))","v":0},null,{"$f":"N19","v":12211},{"$f":"COUNTIF(L39:L70,Y19)","v":0},{"$f":"Z19/(AB4-Z25)","v":0},{"$f":"IF(AA19=0,0,(AA19*((LOG(AA19))/LOG(2))))","v":0},null,{"$f":"N19","v":12211},{"$f":"COUNTIF(L71:L101,AD19)","v":0},{"$f":"AE19/(AG4-AE25)","v":0},{"$f":"IF(AF19=0,0,(AF19*((LOG(AF19))/LOG(2))))","v":0},null,{"$f":"N19","v":12211},{"$f":"COUNTIF(L102:L133,AI19)","v":0},{"$f":"AJ19/(AL4-AJ25)","v":0},{"$f":"IF(AK19=0,0,(AK19*((LOG(AK19))/LOG(2))))","v":0},null,{"$f":"N19","v":12211},{"$f":"COUNTIF(L134:L165,AN19)","v":0},{"$f":"AO19/(AQ4-AO25)","v":0},{"$f":"IF(AP19=0,0,(AP19*((LOG(AP19))/LOG(2))))","v":0},null,{"$f":"N19","v":12211},{"$f":"COUNTIF(L166:L197,AS19)","v":0},{"$f":"AT19/(AV4-AT25)","v":0},{"$f":"IF(AU19=0,0,(AU19*((LOG(AU19))/LOG(2))))","v":0}]
[12,1571,13,1575,13,1579,14,1584,13,1588,0,11111,null,12212,{"$f":"COUNTIF($L$7:$L$500,N20)","v":0},{"$f":"O20/$Q$4","v":0},{"$f":"IF(P20=0,0,(P20*((LOG(P20))/LOG(2))))","v":0},null,null,{"$f":"N20","v":12212},{"$f":"COUNTIF(L7:L38,T20)","v":0},{"$f":"U20/(W4-U25)","v":0},{"$f":"IF(V20=0,0,(V20*((LOG(V20))/LOG(2))))","v":0},null,{"$f":"N20","v":12212},{"$f":"COUNTIF(L39:L70,Y20)","v":0},{"$f":"Z20/(AB4-Z25)","v":0},{"$f":"IF(AA20=0,0,(AA20*((LOG(AA20))/LOG(2))))","v":0},null,{"$f":"N20","v":12212},{"$f":"COUNTIF(L71:L101,AD20)","v":0},{"$f":"AE20/(AG4-AE25)","v":0},{"$f":"IF(AF20=0,0,(AF20*((LOG(AF20))/LOG(2))))","v":0},null,{"$f":"N20","v":12212},{"$f":"COUNTIF(L102:L133,AI20)","v":0},{"$f":"AJ20/(AL4-AJ25)","v":0},{"$f":"IF(AK20=0,0,(AK20*((LOG(AK20))/LOG(2))))","v":0},null,{"$f":"N20","v":12212},{"$f":"COUNTIF(L134:L165,AN20)","v":0},{"$f":"AO20/(AQ4-AO25)","v":0},{"$f":"IF(AP20=0,0,(AP20*((LOG(AP20))/LOG(2))))","v":0},null,{"$f":"N20","v":12212},{"$f":"COUNTIF(L166:L197,AS20)","v":0},{"$f":"AT20/(AV4-AT25)","v":0},{"$f":"IF(AU20=0,0,(AU20*((LOG(AU20))/LOG(2))))","v":0}]
[12,1690,13,1695,13,1699,14,1703,13,1713,1,11111,null,12221,{"$f":"COUNTIF($L$7:$L$500,N21)","v":0},{"$f":"O21/$Q$4","v":0},{"$f":"IF(P21=0,0,(P21*((LOG(P21))/LOG(2))))","v":0},null,null,{"$f":"N21","v":12221},{"$f":"COUNTIF(L7:L38,T21)","v":0},{"$f":"U21/(W4-U25)","v":0},{"$f":"IF(V21=0,0,(V21*((LOG(V21))/LOG(2))))","v":0},null,{"$f":"N21","v":12221},{"$f":"COUNTIF(L39:L70,Y21)","v":0},{"$f":"Z21/(AB4-Z25)","v":0},{"$f":"IF(AA21=0,0,(AA21*((LOG(AA21))/LOG(2))))","v":0},null,{"$f":"N21","v":12221},{"$f":"COUNTIF(L71:L101,AD21)","v":0},{"$f":"AE21/(AG4-AE25)","v":0},{"$f":"IF(AF21=0,0,(AF21*((LOG(AF21))/LOG(2))))","v":0},null,{"$f":"N21","v":12221},{"$f":"COUNTIF(L102:L133,AI21)","v":0},{"$f":"AJ21/(AL4-AJ25)","v":0},{"$f":"IF(AK21=0,0,(AK21*((LOG(AK21))/LOG(2))))","v":0},null,{"$f":"N21","v":12221},{"$f":"COUNTIF(L134:L165,AN21)","v":0},{"$f":"AO21/(AQ4-AO25)","v":0},{"$f":"IF(AP21=0,0,(AP21*((LOG(AP21))/LOG(2))))","v":0},null,{"$f":"N21","v":12221},{"$f":"COUNTIF(L166:L197,AS21)","v":0},{"$f":"AT21/(AV4-AT25)","v":0},{"$f":"IF(AU21=0,0,(AU21*((LOG(AU21))/LOG(2))))","v":0}]
[12,1825,13,1830,13,1834,14,1847,13,1857,0,11111,null,12222,{"$f":"COUNTIF($L$7:$L$500,N22)","v":1},{"$f":"O22/$Q$4","v":5.235602094240838E-3},{"$f":"IF(P22=0,0,(P22*((LOG(P22))/LOG(2))))","v":-3.9672402241024862E-2},null,null,{"$f":"N22","v":12222},{"$f":"COUNTIF(L7:L38,T22)","v":1},{"$f":"U22/(W4-U25)","v":3.125E-2},{"$f":"IF(V22=0,0,(V22*((LOG(V22))/LOG(2))))","v":-0.15625},null,{"$f":"N22","v":12222},{"$f":"COUNTIF(L39:L70,Y22)","v":0},{"$f":"Z22/(AB4-Z25)","v":0},{"$f":"IF(AA22=0,0,(AA22*((LOG(AA22))/LOG(2))))","v":0},null,{"$f":"N22","v":12222},{"$f":"COUNTIF(L71:L101,AD22)","v":0},{"$f":"AE22/(AG4-AE25)","v":0},{"$f":"IF(AF22=0,0,(AF22*((LOG(AF22))/LOG(2))))","v":0},null,{"$f":"N22","v":12222},{"$f":"COUNTIF(L102:L133,AI22)","v":0},{"$f":"AJ22/(AL4-AJ25)","v":0},{"$f":"IF(AK22=0,0,(AK22*((LOG(AK22))/LOG(2))))","v":0},null,{"$f":"N22","v":12222},{"$f":"COUNTIF(L134:L165,AN22)","v":0},{"$f":"AO22/(AQ4-AO25)","v":0},{"$f":"IF(AP22=0,0,(AP22*((LOG(AP22))/LOG(2))))","v":0},null,{"$f":"N22","v":12222},{"$f":"COUNTIF(L166:L197,AS22)","v":0},{"$f":"AT22/(AV4-AT25)","v":0},{"$f":"IF(AU22=0,0,(AU22*((LOG(AU22))/LOG(2))))","v":0}]
[12,1956,13,1961,13,1964,14,1969,13,1973,0,11111,null,21111,{"$f":"COUNTIF($L$7:$L$500,N23)","v":0},{"$f":"O23/$Q$4","v":0},{"$f":"IF(P23=0,0,(P23*((LOG(P23))/LOG(2))))","v":0},null,null,{"$f":"N23","v":21111},{"$f":"COUNTIF(L7:L38,T23)","v":0},{"$f":"U23/(W4-U25)","v":0},{"$f":"IF(V23=0,0,(V23*((LOG(V23))/LOG(2))))","v":0},null,{"$f":"N23","v":21111},{"$f":"COUNTIF(L39:L70,Y23)","v":0},{"$f":"Z23/(AB4-Z25)","v":0},{"$f":"IF(AA23=0,0,(AA23*((LOG(AA23))/LOG(2))))","v":0},null,{"$f":"N23","v":21111},{"$f":"COUNTIF(L71:L101,AD23)","v":0},{"$f":"AE23/(AG4-AE25)","v":0},{"$f":"IF(AF23=0,0,(AF23*((LOG(AF23))/LOG(2))))","v":0},null,{"$f":"N23","v":21111},{"$f":"COUNTIF(L102:L133,AI23)","v":0},{"$f":"AJ23/(AL4-AJ25)","v":0},{"$f":"IF(AK23=0,0,(AK23*((LOG(AK23))/LOG(2))))","v":0},null,{"$f":"N23","v":21111},{"$f":"COUNTIF(L134:L165,AN23)","v":0},{"$f":"AO23/(AQ4-AO25)","v":0},{"$f":"IF(AP23=0,0,(AP23*((LOG(AP23))/LOG(2))))","v":0},null,{"$f":"N23","v":21111},{"$f":"COUNTIF(L166:L197,AS23)","v":0},{"$f":"AT23/(AV4-AT25)","v":0},{"$f":"IF(AU23=0,0,(AU23*((LOG(AU23))/LOG(2))))","v":0}]
[12,2074,13,2079,13,2085,14,2097,13,2101,0,11111,null,21112,{"$f":"COUNTIF($L$7:$L$500,N24)","v":0},{"$f":"O24/$Q$4","v":0},{"$f":"IF(P24=0,0,(P24*((LOG(P24))/LOG(2))))","v":0},null,null,{"$f":"N24","v":21112},{"$f":"COUNTIF(L7:L38,T24)","v":0},{"$f":"U24/(W4-U25)","v":0},{"$f":"IF(V24=0,0,(V24*((LOG(V24))/LOG(2))))","v":0},null,{"$f":"N24","v":21112},{"$f":"COUNTIF(L39:L70,Y24)","v":0},{"$f":"Z24/(AB4-Z25)","v":0},{"$f":"IF(AA24=0,0,(AA24*((LOG(AA24))/LOG(2))))","v":0},null,{"$f":"N24","v":21112},{"$f":"COUNTIF(L71:L101,AD24)","v":0},{"$f":"AE24/(AG4-AE25)","v":0},{"$f":"IF(AF24=0,0,(AF24*((LOG(AF24))/LOG(2))))","v":0},null,{"$f":"N24","v":21112},{"$f":"COUNTIF(L102:L133,AI24)","v":0},{"$f":"AJ24/(AL4-AJ25)","v":0},{"$f":"IF(AK24=0,0,(AK24*((LOG(AK24))/LOG(2))))","v":0},null,{"$f":"N24","v":21112},{"$f":"COUNTIF(L134:L165,AN24)","v":0},{"$f":"AO24/(AQ4-AO25)","v":0},{"$f":"IF(AP24=0,0,(AP24*((LOG(AP24))/LOG(2))))","v":0},null,{"$f":"N24","v":21112},{"$f":"COUNTIF(L166:L197,AS24)","v":0},{"$f":"AT24/(AV4-AT25)","v":0},{"$f":"IF(AU24=0,0,(AU24*((LOG(AU24))/LOG(2))))","v":0}]
[12,2207,13,2212,13,2216,14,2229,13,2237,0,11111,null,21121,{"$f":"COUNTIF($L$7:$L$500,N25)","v":0},{"$f":"O25/$Q$4","v":0},{"$f":"IF(P25=0,0,(P25*((LOG(P25))/LOG(2))))","v":0},null,null,{"$f":"N25","v":21121},{"$f":"COUNTIF(L7:L38,T25)","v":0},null,null,null,{"$f":"N25","v":21121},{"$f":"COUNTIF(L39:L70,Y25)","v":0},null,null,null,{"$f":"N25","v":21121},{"$f":"COUNTIF(L71:L101,AD25)","v":0},null,null,null,{"$f":"N25","v":21121},{"$f":"COUNTIF(L102:L133,AI25)","v":0},null,null,null,{"$f":"N25","v":21121},{"$f":"COUNTIF(L134:L165,AN25)","v":0},null,null,null,{"$f":"N25","v":21121},{"$f":"COUNTIF(L166:L197,AS25)","v":0}]
[12,2347,13,2351,13,2355,14,2359,13,2363,0,11111,null,21122,{"$f":"COUNTIF($L$7:$L$500,N26)","v":0},{"$f":"O26/$Q$4","v":0},{"$f":"IF(P26=0,0,(P26*((LOG(P26))/LOG(2))))","v":0},null,null,{"$f":"N26","v":21122},{"$f":"COUNTIF(L7:L38,T26)","v":0},{"$f":"U26/(W4-U25)","v":0},{"$f":"IF(V26=0,0,(V26*((LOG(V26))/LOG(2))))","v":0},null,{"$f":"N26","v":21122},{"$f":"COUNTIF(L39:L70,Y26)","v":0},{"$f":"Z26/(AB4-Z25)","v":0},{"$f":"IF(AA26=0,0,(AA26*((LOG(AA26))/LOG(2))))","v":0},null,{"$f":"N26","v":21122},{"$f":"COUNTIF(L71:L101,AD26)","v":0},{"$f":"AE26/(AG4-AE25)","v":0},{"$f":"IF(AF26=0,0,(AF26*((LOG(AF26))/LOG(2))))","v":0},null,{"$f":"N26","v":21122},{"$f":"COUNTIF(L102:L133,AI26)","v":0},{"$f":"AJ26/(AL4-AJ25)","v":0},{"$f":"IF(AK26=0,0,(AK26*((LOG(AK26))/LOG(2))))","v":0},null,{"$f":"N26","v":21122},{"$f":"COUNTIF(L134:L165,AN26)","v":0},{"$f":"AO26/(AQ4-AO25)","v":0},{"$f":"IF(AP26=0,0,(AP26*((LOG(AP26))/LOG(2))))","v":0},null,{"$f":"N26","v":21122},{"$f":"COUNTIF(L166:L197,AS26)","v":0},{"$f":"AT26/(AV4-AT25)","v":0},{"$f":"IF(AU26=0,0,(AU26*((LOG(AU26))/LOG(2))))","v":0}]
[12,2468,13,2473,13,2477,14,2482,13,2486,0,11111,null,21211,{"$f":"COUNTIF($L$7:$L$500,N27)","v":0},{"$f":"O27/$Q$4","v":0},{"$f":"IF(P27=0,0,(P27*((LOG(P27))/LOG(2))))","v":0},null,null,{"$f":"N27","v":21211},{"$f":"COUNTIF(L7:L38,T27)","v":0},{"$f":"U27/(W4-U25)","v":0},{"$f":"IF(V27=0,0,(V27*((LOG(V27))/LOG(2))))","v":0},null,{"$f":"N27","v":21211},{"$f":"COUNTIF(L39:L70,Y27)","v":0},{"$f":"Z27/(AB4-Z25)","v":0},{"$f":"IF(AA27=0,0,(AA27*((LOG(AA27))/LOG(2))))","v":0},null,{"$f":"N27","v":21211},{"$f":"COUNTIF(L71:L101,AD27)","v":0},{"$f":"AE27/(AG4-AE25)","v":0},{"$f":"IF(AF27=0,0,(AF27*((LOG(AF27))/LOG(2))))","v":0},null,{"$f":"N27","v":21211},{"$f":"COUNTIF(L102:L133,AI27)","v":0},{"$f":"AJ27/(AL4-AJ25)","v":0},{"$f":"IF(AK27=0,0,(AK27*((LOG(AK27))/LOG(2))))","v":0},null,{"$f":"N27","v":21211},{"$f":"COUNTIF(L134:L165,AN27)","v":0},{"$f":"AO27/(AQ4-AO25)","v":0},{"$f":"IF(AP27=0,0,(AP27*((LOG(AP27))/LOG(2))))","v":0},null,{"$f":"N27","v":21211},{"$f":"COUNTIF(L166:L197,AS27)","v":0},{"$f":"AT27/(AV4-AT25)","v":0},{"$f":"IF(AU27=0,0,(AU27*((LOG(AU27))/LOG(2))))","v":0}]
[12,2588,13,2592,13,2596,14,2600,13,2604,0,11111,null,21212,{"$f":"COUNTIF($L$7:$L$500,N28)","v":0},{"$f":"O28/$Q$4","v":0},{"$f":"IF(P28=0,0,(P28*((LOG(P28))/LOG(2))))","v":0},null,null,{"$f":"N28","v":21212},{"$f":"COUNTIF(L7:L38,T28)","v":0},{"$f":"U28/(W4-U25)","v":0},{"$f":"IF(V28=0,0,(V28*((LOG(V28))/LOG(2))))","v":0},null,{"$f":"N28","v":21212},{"$f":"COUNTIF(L39:L70,Y28)","v":0},{"$f":"Z28/(AB4-Z25)","v":0},{"$f":"IF(AA28=0,0,(AA28*((LOG(AA28))/LOG(2))))","v":0},null,{"$f":"N28","v":21212},{"$f":"COUNTIF(L71:L101,AD28)","v":0},{"$f":"AE28/(AG4-AE25)","v":0},{"$f":"IF(AF28=0,0,(AF28*((LOG(AF28))/LOG(2))))","v":0},null,{"$f":"N28","v":21212},{"$f":"COUNTIF(L102:L133,AI28)","v":0},{"$f":"AJ28/(AL4-AJ25)","v":0},{"$f":"IF(AK28=0,0,(AK28*((LOG(AK28))/LOG(2))))","v":0},null,{"$f":"N28","v":21212},{"$f":"COUNTIF(L134:L165,AN28)","v":0},{"$f":"AO28/(AQ4-AO25)","v":0},{"$f":"IF(AP28=0,0,(AP28*((LOG(AP28))/LOG(2))))","v":0},null,{"$f":"N28","v":21212},{"$f":"COUNTIF(L166:L197,AS28)","v":0},{"$f":"AT28/(AV4-AT25)","v":0},{"$f":"IF(AU28=0,0,(AU28*((LOG(AU28))/LOG(2))))","v":0}]
[12,2717,13,2721,13,2725,14,2729,13,2733,1,11111,null,21221,{"$f":"COUNTIF($L$7:$L$500,N29)","v":0},{"$f":"O29/$Q$4","v":0},{"$f":"IF(P29=0,0,(P29*((LOG(P29))/LOG(2))))","v":0},null,null,{"$f":"N29","v":21221},{"$f":"COUNTIF(L7:L38,T29)","v":0},{"$f":"U29/(W4-U25)","v":0},{"$f":"IF(V29=0,0,(V29*((LOG(V29))/LOG(2))))","v":0},null,{"$f":"N29","v":21221},{"$f":"COUNTIF(L39:L70,Y29)","v":0},{"$f":"Z29/(AB4-Z25)","v":0},{"$f":"IF(AA29=0,0,(AA29*((LOG(AA29))/LOG(2))))","v":0},null,{"$f":"N29","v":21221},{"$f":"COUNTIF(L71:L101,AD29)","v":0},{"$f":"AE29/(AG4-AE25)","v":0},{"$f":"IF(AF29=0,0,(AF29*((LOG(AF29))/LOG(2))))","v":0},null,{"$f":"N29","v":21221},{"$f":"COUNTIF(L102:L133,AI29)","v":0},{"$f":"AJ29/(AL4-AJ25)","v":0},{"$f":"IF(AK29=0,0,(AK29*((LOG(AK29))/LOG(2))))","v":0},null,{"$f":"N29","v":21221},{"$f":"COUNTIF(L134:L165,AN29)","v":0},{"$f":"AO29/(AQ4-AO25)","v":0},{"$f":"IF(AP29=0,0,(AP29*((LOG(AP29))/LOG(2))))","v":0},null,{"$f":"N29","v":21221},{"$f":"COUNTIF(L166:L197,AS29)","v":0},{"$f":"AT29/(AV4-AT25)","v":0},{"$f":"IF(AU29=0,0,(AU29*((LOG(AU29))/LOG(2))))","v":0}]
[12,2828,13,2833,13,2846,14,2850,13,2855,0,11111,null,21222,{"$f":"COUNTIF($L$7:$L$500,N30)","v":0},{"$f":"O30/$Q$4","v":0},{"$f":"IF(P30=0,0,(P30*((LOG(P30))/LOG(2))))","v":0},null,null,{"$f":"N30","v":21222},{"$f":"COUNTIF(L7:L38,T30)","v":0},{"$f":"U30/(W4-U25)","v":0},{"$f":"IF(V30=0,0,(V30*((LOG(V30))/LOG(2))))","v":0},null,{"$f":"N30","v":21222},{"$f":"COUNTIF(L39:L70,Y30)","v":0},{"$f":"Z30/(AB4-Z25)","v":0},{"$f":"IF(AA30=0,0,(AA30*((LOG(AA30))/LOG(2))))","v":0},null,{"$f":"N30","v":21222},{"$f":"COUNTIF(L71:L101,AD30)","v":0},{"$f":"AE30/(AG4-AE25)","v":0},{"$f":"IF(AF30=0,0,(AF30*((LOG(AF30))/LOG(2))))","v":0},null,{"$f":"N30","v":21222},{"$f":"COUNTIF(L102:L133,AI30)","v":0},{"$f":"AJ30/(AL4-AJ25)","v":0},{"$f":"IF(AK30=0,0,(AK30*((LOG(AK30))/LOG(2))))","v":0},null,{"$f":"N30","v":21222},{"$f":"COUNTIF(L134:L165,AN30)","v":0},{"$f":"AO30/(AQ4-AO25)","v":0},{"$f":"IF(AP30=0,0,(AP30*((LOG(AP30))/LOG(2))))","v":0},null,{"$f":"N30","v":21222},{"$f":"COUNTIF(L166:L197,AS30)","v":0},{"$f":"AT30/(AV4-AT25)","v":0},{"$f":"IF(AU30=0,0,(AU30*((LOG(AU30))/LOG(2))))","v":0}]
[12,2968,13,2972,13,2976,14,2980,13,2988,0,11111,null,22111,{"$f":"COUNTIF($L$7:$L$500,N31)","v":0},{"$f":"O31/$Q$4","v":0},{"$f":"IF(P31=0,0,(P31*((LOG(P31))/LOG(2))))","v":0},null,null,{"$f":"N31","v":22111},{"$f":"COUNTIF(L7:L38,T31)","v":0},{"$f":"U31/(W4-U25)","v":0},{"$f":"IF(V31=0,0,(V31*((LOG(V31))/LOG(2))))","v":0},null,{"$f":"N31","v":22111},{"$f":"COUNTIF(L39:L70,Y31)","v":0},{"$f":"Z31/(AB4-Z25)","v":0},{"$f":"IF(AA31=0,0,(AA31*((LOG(AA31))/LOG(2))))","v":0},null,{"$f":"N31","v":22111},{"$f":"COUNTIF(L71:L101,AD31)","v":0},{"$f":"AE31/(AG4-AE25)","v":0},{"$f":"IF(AF31=0,0,(AF31*((LOG(AF31))/LOG(2))))","v":0},null,{"$f":"N31","v":22111},{"$f":"COUNTIF(L102:L133,AI31)","v":0},{"$f":"AJ31/(AL4-AJ25)","v":0},{"$f":"IF(AK31=0,0,(AK31*((LOG(AK31))/LOG(2))))","v":0},null,{"$f":"N31","v":22111},{"$f":"COUNTIF(L134:L165,AN31)","v":0},{"$f":"AO31/(AQ4-AO25)","v":0},{"$f":"IF(AP31=0,0,(AP31*((LOG(AP31))/LOG(2))))","v":0},null,{"$f":"N31","v":22111},{"$f":"COUNTIF(L166:L197,AS31)","v":0},{"$f":"AT31/(AV4-AT25)","v":0},{"$f":"IF(AU31=0,0,(AU31*((LOG(AU31))/LOG(2))))","v":0}]
[12,3113,24,3134,24,3149,23,3160,24,3164,0,12222,null,22112,{"$f":"COUNTIF($L$7:$L$500,N32)","v":0},{"$f":"O32/$Q$4","v":0},{"$f":"IF(P32=0,0,(P32*((LOG(P32))/LOG(2))))","v":0},null,null,{"$f":"N32","v":22112},{"$f":"COUNTIF(L7:L38,T32)","v":0},{"$f":"U32/(W4-U25)","v":0},{"$f":"IF(V32=0,0,(V32*((LOG(V32))/LOG(2))))","v":0},null,{"$f":"N32","v":22112},{"$f":"COUNTIF(L39:L70,Y32)","v":0},{"$f":"Z32/(AB4-Z25)","v":0},{"$f":"IF(AA32=0,0,(AA32*((LOG(AA32))/LOG(2))))","v":0},null,{"$f":"N32","v":22112},{"$f":"COUNTIF(L71:L101,AD32)","v":0},{"$f":"AE32/(AG4-AE25)","v":0},{"$f":"IF(AF32=0,0,(AF32*((LOG(AF32))/LOG(2))))","v":0},null,{"$f":"N32","v":22112},{"$f":"COUNTIF(L102:L133,AI32)","v":0},{"$f":"AJ32/(AL4-AJ25)","v":0},{"$f":"IF(AK32=0,0,(AK32*((LOG(AK32))/LOG(2))))","v":0},null,{"$f":"N32","v":22112},{"$f":"COUNTIF(L134:L165,AN32)","v":0},{"$f":"AO32/(AQ4-AO25)","v":0},{"$f":"IF(AP32=0,0,(AP32*((LOG(AP32))/LOG(2))))","v":0},null,{"$f":"N32","v":22112},{"$f":"COUNTIF(L166:L197,AS32)","v":0},{"$f":"AT32/(AV4-AT25)","v":0},{"$f":"IF(AU32=0,0,(AU32*((LOG(AU32))/LOG(2))))","v":0}]
[12,3263,13,3269,13,3273,14,3277,13,3282,0,11111,null,22121,{"$f":"COUNTIF($L$7:$L$500,N33)","v":0},{"$f":"O33/$Q$4","v":0},{"$f":"IF(P33=0,0,(P33*((LOG(P33))/LOG(2))))","v":0},null,null,{"$f":"N33","v":22121},{"$f":"COUNTIF(L7:L38,T33)","v":0},{"$f":"U33/(W4-U25)","v":0},{"$f":"IF(V33=0,0,(V33*((LOG(V33))/LOG(2))))","v":0},null,{"$f":"N33","v":22121},{"$f":"COUNTIF(L39:L70,Y33)","v":0},{"$f":"Z33/(AB4-Z25)","v":0},{"$f":"IF(AA33=0,0,(AA33*((LOG(AA33))/LOG(2))))","v":0},null,{"$f":"N33","v":22121},{"$f":"COUNTIF(L71:L101,AD33)","v":0},{"$f":"AE33/(AG4-AE25)","v":0},{"$f":"IF(AF33=0,0,(AF33*((LOG(AF33))/LOG(2))))","v":0},null,{"$f":"N33","v":22121},{"$f":"COUNTIF(L102:L133,AI33)","v":0},{"$f":"AJ33/(AL4-AJ25)","v":0},{"$f":"IF(AK33=0,0,(AK33*((LOG(AK33))/LOG(2))))","v":0},null,{"$f":"N33","v":22121},{"$f":"COUNTIF(L134:L165,AN33)","v":0},{"$f":"AO33/(AQ4-AO25)","v":0},{"$f":"IF(AP33=0,0,(AP33*((LOG(AP33))/LOG(2))))","v":0},null,{"$f":"N33","v":22121},{"$f":"COUNTIF(L166:L197,AS33)","v":0},{"$f":"AT33/(AV4-AT25)","v":0},{"$f":"IF(AU33=0,0,(AU33*((LOG(AU33))/LOG(2))))","v":0}]
[12,3392,13,3400,13,3405,14,3413,13,3418,0,11111,null,22122,{"$f":"COUNTIF($L$7:$L$500,N34)","v":0},{"$f":"O34/$Q$4","v":0},{"$f":"IF(P34=0,0,(P34*((LOG(P34))/LOG(2))))","v":0},null,null,{"$f":"N34","v":22122},{"$f":"COUNTIF(L7:L38,T34)","v":0},{"$f":"U34/(W4-U25)","v":0},{"$f":"IF(V34=0,0,(V34*((LOG(V34))/LOG(2))))","v":0},null,{"$f":"N34","v":22122},{"$f":"COUNTIF(L39:L70,Y34)","v":0},{"$f":"Z34/(AB4-Z25)","v":0},{"$f":"IF(AA34=0,0,(AA34*((LOG(AA34))/LOG(2))))","v":0},null,{"$f":"N34","v":22122},{"$f":"COUNTIF(L71:L101,AD34)","v":0},{"$f":"AE34/(AG4-AE25)","v":0},{"$f":"IF(AF34=0,0,(AF34*((LOG(AF34))/LOG(2))))","v":0},null,{"$f":"N34","v":22122},{"$f":"COUNTIF(L102:L133,AI34)","v":0},{"$f":"AJ34/(AL4-AJ25)","v":0},{"$f":"IF(AK34=0,0,(AK34*((LOG(AK34))/LOG(2))))","v":0},null,{"$f":"N34","v":22122},{"$f":"COUNTIF(L134:L165,AN34)","v":0},{"$f":"AO34/(AQ4-AO25)","v":0},{"$f":"IF(AP34=0,0,(AP34*((LOG(AP34))/LOG(2))))","v":0},null,{"$f":"N34","v":22122},{"$f":"COUNTIF(L166:L197,AS34)","v":0},{"$f":"AT34/(AV4-AT25)","v":0},{"$f":"IF(AU34=0,0,(AU34*((LOG(AU34))/LOG(2))))","v":0}]
[12,3530,13,3534,13,3543,14,3547,13,3554,0,11111,null,22211,{"$f":"COUNTIF($L$7:$L$500,N35)","v":0},{"$f":"O35/$Q$4","v":0},{"$f":"IF(P35=0,0,(P35*((LOG(P35))/LOG(2))))","v":0},null,null,{"$f":"N35","v":22211},{"$f":"COUNTIF(L7:L38,T35)","v":0},{"$f":"U35/(W4-U25)","v":0},{"$f":"IF(V35=0,0,(V35*((LOG(V35))/LOG(2))))","v":0},null,{"$f":"N35","v":22211},{"$f":"COUNTIF(L39:L70,Y35)","v":0},{"$f":"Z35/(AB4-Z25)","v":0},{"$f":"IF(AA35=0,0,(AA35*((LOG(AA35))/LOG(2))))","v":0},null,{"$f":"N35","v":22211},{"$f":"COUNTIF(L71:L101,AD35)","v":0},{"$f":"AE35/(AG4-AE25)","v":0},{"$f":"IF(AF35=0,0,(AF35*((LOG(AF35))/LOG(2))))","v":0},null,{"$f":"N35","v":22211},{"$f":"COUNTIF(L102:L133,AI35)","v":0},{"$f":"AJ35/(AL4-AJ25)","v":0},{"$f":"IF(AK35=0,0,(AK35*((LOG(AK35))/LOG(2))))","v":0},null,{"$f":"N35","v":22211},{"$f":"COUNTIF(L134:L165,AN35)","v":0},{"$f":"AO35/(AQ4-AO25)","v":0},{"$f":"IF(AP35=0,0,(AP35*((LOG(AP35))/LOG(2))))","v":0},null,{"$f":"N35","v":22211},{"$f":"COUNTIF(L166:L197,AS35)","v":0},{"$f":"AT35/(AV4-AT25)","v":0},{"$f":"IF(AU35=0,0,(AU35*((LOG(AU35))/LOG(2))))","v":0}]
[12,3655,13,3660,13,3663,14,3668,13,3672,0,11111,null,22212,{"$f":"COUNTIF($L$7:$L$500,N36)","v":0},{"$f":"O36/$Q$4","v":0},{"$f":"IF(P36=0,0,(P36*((LOG(P36))/LOG(2))))","v":0},null,null,{"$f":"N36","v":22212},{"$f":"COUNTIF(L7:L38,T36)","v":0},{"$f":"U36/(W4-U25)","v":0},{"$f":"IF(V36=0,0,(V36*((LOG(V36))/LOG(2))))","v":0},null,{"$f":"N36","v":22212},{"$f":"COUNTIF(L39:L70,Y36)","v":0},{"$f":"Z36/(AB4-Z25)","v":0},{"$f":"IF(AA36=0,0,(AA36*((LOG(AA36))/LOG(2))))","v":0},null,{"$f":"N36","v":22212},{"$f":"COUNTIF(L71:L101,AD36)","v":0},{"$f":"AE36/(AG4-AE25)","v":0},{"$f":"IF(AF36=0,0,(AF36*((LOG(AF36))/LOG(2))))","v":0},null,{"$f":"N36","v":22212},{"$f":"COUNTIF(L102:L133,AI36)","v":0},{"$f":"AJ36/(AL4-AJ25)","v":0},{"$f":"IF(AK36=0,0,(AK36*((LOG(AK36))/LOG(2))))","v":0},null,{"$f":"N36","v":22212},{"$f":"COUNTIF(L134:L165,AN36)","v":0},{"$f":"AO36/(AQ4-AO25)","v":0},{"$f":"IF(AP36=0,0,(AP36*((LOG(AP36))/LOG(2))))","v":0},null,{"$f":"N36","v":22212},{"$f":"COUNTIF(L166:L197,AS36)","v":0},{"$f":"AT36/(AV4-AT25)","v":0},{"$f":"IF(AU36=0,0,(AU36*((LOG(AU36))/LOG(2))))","v":0}]
[12,3782,13,3786,13,3791,14,3796,13,3801,0,11111,null,22221,{"$f":"COUNTIF($L$7:$L$500,N37)","v":0},{"$f":"O37/$Q$4","v":0},{"$f":"IF(P37=0,0,(P37*((LOG(P37))/LOG(2))))","v":0},null,null,{"$f":"N37","v":22221},{"$f":"COUNTIF(L7:L38,T37)","v":0},{"$f":"U37/(W4-U25)","v":0},{"$f":"IF(V37=0,0,(V37*((LOG(V37))/LOG(2))))","v":0},null,{"$f":"N37","v":22221},{"$f":"COUNTIF(L39:L70,Y37)","v":0},{"$f":"Z37/(AB4-Z25)","v":0},{"$f":"IF(AA37=0,0,(AA37*((LOG(AA37))/LOG(2))))","v":0},null,{"$f":"N37","v":22221},{"$f":"COUNTIF(L71:L101,AD37)","v":0},{"$f":"AE37/(AG4-AE25)","v":0},{"$f":"IF(AF37=0,0,(AF37*((LOG(AF37))/LOG(2))))","v":0},null,{"$f":"N37","v":22221},{"$f":"COUNTIF(L102:L133,AI37)","v":0},{"$f":"AJ37/(AL4-AJ25)","v":0},{"$f":"IF(AK37=0,0,(AK37*((LOG(AK37))/LOG(2))))","v":0},null,{"$f":"N37","v":22221},{"$f":"COUNTIF(L134:L165,AN37)","v":0},{"$f":"AO37/(AQ4-AO25)","v":0},{"$f":"IF(AP37=0,0,(AP37*((LOG(AP37))/LOG(2))))","v":0},null,{"$f":"N37","v":22221},{"$f":"COUNTIF(L166:L197,AS37)","v":0},{"$f":"AT37/(AV4-AT25)","v":0},{"$f":"IF(AU37=0,0,(AU37*((LOG(AU37))/LOG(2))))","v":0}]
[12,3900,13,3904,13,3908,14,3911,13,3916,1,11111,null,22222,{"$f":"COUNTIF($L$7:$L$500,N38)","v":1},{"$f":"O38/$Q$4","v":5.235602094240838E-3},{"$f":"IF(P38=0,0,(P38*((LOG(P38))/LOG(2))))","v":-3.9672402241024862E-2},null,null,{"$f":"N38","v":22222},{"$f":"COUNTIF(L7:L38,T38)","v":0},{"$f":"U38/(W4-U25)","v":0},{"$f":"IF(V38=0,0,(V38*((LOG(V38))/LOG(2))))","v":0},null,{"$f":"N38","v":22222},{"$f":"COUNTIF(L39:L70,Y38)","v":0},{"$f":"Z38/(AB4-Z25)","v":0},{"$f":"IF(AA38=0,0,(AA38*((LOG(AA38))/LOG(2))))","v":0},null,{"$f":"N38","v":22222},{"$f":"COUNTIF(L71:L101,AD38)","v":1},{"$f":"AE38/(AG4-AE25)","v":3.2258064516129031E-2},{"$f":"IF(AF38=0,0,(AF38*((LOG(AF38))/LOG(2))))","v":-0.15981278420602821},null,{"$f":"N38","v":22222},{"$f":"COUNTIF(L102:L133,AI38)","v":0},{"$f":"AJ38/(AL4-AJ25)","v":0},{"$f":"IF(AK38=0,0,(AK38*((LOG(AK38))/LOG(2))))","v":0},null,{"$f":"N38","v":22222},{"$f":"COUNTIF(L134:L165,AN38)","v":0},{"$f":"AO38/(AQ4-AO25)","v":0},{"$f":"IF(AP38=0,0,(AP38*((LOG(AP38))/LOG(2))))","v":0},null,{"$f":"N38","v":22222},{"$f":"COUNTIF(L166:L197,AS38)","v":0},{"$f":"AT38/(AV4-AT25)","v":0},{"$f":"IF(AU38=0,0,(AU38*((LOG(AU38))/LOG(2))))","v":0}]
[12,4023,13,4028,13,4032,14,4036,13,4040,0,11111,null,null,null,{"$f":"SUM(P7:P38)","v":0.99999999999999989},{"$f":"-SUM(Q7:Q38)","v":0.17811330971643952},null,null,null,null,{"$f":"SUM(V7:V38)","v":1},{"$f":"-SUM(W7:W38)","v":0.20062232431271465},null,null,null,{"$f":"SUM(AA7:AA38)","v":1},{"$f":"-SUM(AB7:AB38)","v":0},null,null,null,{"$f":"SUM(AF7:AF38)","v":0.99999999999999989},{"$f":"-SUM(AG7:AG38)","v":0.40963344397721102},null,null,null,{"$f":"SUM(AK7:AK38)","v":1},{"$f":"-SUM(AL7:AL38)","v":0},null,null,null,{"$f":"SUM(AP7:AP38)","v":1},{"$f":"-SUM(AQ7:AQ38)","v":0},null,null,null,{"$f":"SUM(AU7:AU38)","v":1},{"$f":"-SUM(AV7:AV38)","v":0.20062232431271465}]
[12,4145,13,4150,13,4154,14,4158,13,4163,0,11111,null,null,null,"U=",{"$f":"Q39/(LOG(Q4)/LOG(2))","v":2.3505771384805044E-2},null,null,null,null,"U1=",{"$f":"W39/(LOG(W4)/LOG(2))","v":4.0124464862542931E-2},null,null,null,"U2=",{"$f":"AB39/(LOG(AB4)/LOG(2))","v":0},null,null,null,"U3=",{"$f":"AG39/(LOG(AG4)/LOG(2))","v":8.2684136500279823E-2},null,null,null,"U4=",{"$f":"AL39/(LOG(AL4)/LOG(2))","v":0},null,null,null,"U5=",{"$f":"AQ39/(LOG(AQ4)/LOG(2))","v":0},null,null,null,"U6=",{"$f":"AV39/(LOG(AV4)/LOG(2))","v":4.0124464862542931E-2}]
[12,4266,13,4270,13,4274,14,4278,13,4282,0,11111]
[12,4381,13,4386,13,4390,14,4394,13,4398,0,11111]
[12,4524,13,4528,13,4536,14,4552,13,4557,0,11111,null,"Total Target Seq"]
[12,4663,13,4668,13,4672,14,4676,13,4680,0,11111,null,{"$f":"COUNTIF(L7:L197,G3)","v":0},null,32,32,31,32,32,32]
[12,4786,13,4790,13,4794,14,4799,13,4803,0,11111,null,null,null,"% of reinforcement given in 6 equal intervals based on number of trials "]
[12,4902,13,4907,13,4910,14,4914,13,4918,0,11111,null,null,null,"%_1","%_2","%_3","%_4","%_5","%_6"]
[12,5029,13,5033,13,5037,14,5041,13,5045,0,11111,null,null,"target sequence",{"$f":"$G$3","v":21121},{"$f":"$G$3","v":21121},{"$f":"$G$3","v":21121},{"$f":"$G$3","v":21121},{"$f":"$G$3","v":21121},{"$f":"$G$3","v":21121}]
[12,5145,13,5149,13,5153,14,5157,13,5161,0,11111,null,null,"total reinforcement",{"$f":"U25","v":0},{"$f":"Z25","v":0},{"$f":"AE25","v":0},{"$f":"AJ25","v":0},{"$f":"AO25","v":0},{"$f":"AT25","v":0}]
[12,5260,13,5267,13,5271,14,5277,13,5281,0,11111,null,null,"% target"]
[12,5383,13,5387,13,5391,14,5395,13,5399,1,11111,null,null,"CCRF"]
[12,5497,13,5501,13,5506,14,5509,13,5513,0,11111,null,null,"% CCRf"]
[12,5613,13,5617,13,5621,14,5625,13,5630,0,11111,null,null,"average response rate",{"$f":"J38/P44","v":122.375},{"$f":"(J70-J38)/Q44","v":124.78125},{"$f":"(J101-J70)/R44","v":129.45161290322579},{"$f":"(J133-J101)/S44","v":127.5625},{"$f":"(J165-J133)/T44","v":123.59375},{"$f":"(J197-J165)/U44","v":125.46875}]
[12,5730,13,5735,13,5740,14,5745,13,5754,0,11111]
[12,5858,13,5862,13,5867,14,5871,13,5875,0,11111]
[12,5980,13,5985,13,5992,14,6000,13,6005,0,11111]
[12,6109,13,6113,13,6117,14,6121,13,6126,0,11111]
[12,6230,13,6234,13,6238,14,6245,13,6249,0,11111]
[12,6350,13,6354,13,6358,14,6361,13,6366,0,11111]
[12,6477,13,6481,13,6485,14,6489,13,6494,0,11111]
[12,6594,13,6598,13,6602,14,6606,13,6610,0,11111]
[12,6716,13,6720,13,6724,14,6734,13,6741,0,11111]
[12,6849,13,6853,13,6858,14,6862,13,6866,1,11111]
[12,6964,13,6969,13,6974,14,6978,13,6983,0,11111]
[12,7082,13,7086,13,7092,14,7100,13,7104,0,11111]
[12,7227,13,7234,13,7238,14,7243,13,7252,0,11111]
[12,7354,13,7358,13,7363,14,7367,13,7372,0,11111]
[12,7487,13,7491,13,7495,14,7500,13,7504,0,11111]
[12,7611,13,7615,13,7620,14,7623,13,7627,1,11111]
[12,7728,13,7736,13,7741,14,7751,13,7756,0,11111]
[12,7878,13,7883,13,7892,14,7900,13,7909,0,11111]
[12,8016,13,8020,13,8024,14,8028,13,8032,0,11111]
[12,8154,13,8157,13,8162,14,8170,13,8183,0,11111]
[12,8282,13,8286,13,8290,14,8294,13,8299,0,11111]
[12,8426,13,8430,13,8439,14,8443,13,8447,0,11111]
[12,8550,13,8553,13,8563,14,8567,13,8572,1,11111]
[12,8679,13,8688,13,8693,14,8697,13,8709,0,11111]
[12,8815,13,8819,13,8823,14,8827,13,8831,0,11111]
[12,8941,13,8945,13,8949,14,8955,13,8960,0,11111]
[12,9066,13,9070,13,9074,14,9078,13,9083,1,11111]
[12,9180,13,9184,13,9188,14,9192,13,9196,1,11111]
[12,9304,13,9308,13,9312,14,9317,13,9321,0,11111]
[12,9437,13,9441,13,9448,14,9452,13,9476,1,11111]
[12,9584,13,9589,13,9593,14,9598,13,9602,1,11111]
[21,9718,22,9722,24,9729,23,9737,24,9750,0,22222]
[12,9855,13,9863,13,9867,14,9877,13,9882,0,11111]
[12,9982,13,9990,13,9994,14,9998,13,10005,1,11111]
[12,10115,13,10119,13,10123,14,10128,13,10133,0,11111]
[12,10244,13,10249,13,10252,14,10257,13,10261,0,11111]
[12,10359,13,10363,13,10370,14,10374,13,10378,1,11111]
[12,10480,13,10484,13,10489,14,10493,13,10499,0,11111]
[12,10596,13,10600,13,10604,14,10607,13,10611,1,11111]
[12,10709,13,10719,13,10724,14,10728,13,10733,0,11111]
[12,10864,13,10868,13,10873,14,10877,13,10886,0,11111]
[12,10996,13,11000,13,11004,14,11009,24,11052,0,11112]
[12,11153,13,11157,13,11161,14,11165,13,11170,1,11111]
[12,11273,13,11276,13,11280,14,11284,13,11288,0,11111]
[12,11383,13,11387,13,11390,14,11395,13,11399,0,11111]
[12,11505,13,11508,13,11517,14,11533,13,11544,0,11111]
[12,11645,13,11651,13,11655,14,11660,13,11668,0,11111]
[12,11785,13,11788,13,11793,14,11797,13,11802,1,11111]
[12,11904,13,11909,13,11913,14,11917,13,11922,0,11111]
[12,12021,13,12024,13,12029,14,12033,13,12038,0,11111]
[12,12137,13,12141,13,12145,14,12151,13,12159,0,11111]
[12,12251,13,12261,13,12265,14,12269,13,12273,0,11111]
[12,12377,13,12381,13,12385,14,12389,13,12394,1,11111]
[12,12506,13,12510,13,12514,14,12519,13,12526,0,11111]
[12,12630,13,12634,13,12641,14,12649,13,12656,0,11111]
[12,12761,13,12765,13,12769,14,12782,13,12787,0,11111]
[12,12894,13,12898,13,12902,14,12906,13,12911,0,11111]
[12,13038,13,13042,13,13051,14,13056,13,13062,1,11111]
[12,13165,13,13174,13,13180,14,13184,13,13189,0,11111]
[12,13297,13,13301,13,13305,14,13309,13,13315,0,11111]
[12,13418,13,13426,13,13431,14,13435,13,13440,0,11111]
[12,13538,13,13542,13,13546,14,13553,13,13563,0,11111]
[12,13670,13,13678,13,13686,14,13693,13,13704,0,11111]
[12,13803,13,13807,13,13814,14,13818,13,13822,1,11111]
[12,13931,13,13935,13,13939,14,13943,13,13948,0,11111]
[12,14057,13,14061,13,14071,14,14081,13,14088,0,11111]
[12,14184,13,14188,13,14192,14,14196,13,14200,0,11111]
[12,14300,13,14304,13,14308,14,14312,13,14321,0,11111]
[12,14425,13,14430,13,14434,14,14438,13,14443,0,11111]
[12,14546,13,14551,13,14555,14,14573,13,14578,1,11111]
[12,14688,13,14693,13,14697,14,14701,13,14705,0,11111]
[12,14807,13,14811,13,14816,14,14833,13,14839,1,11111]
[12,14935,13,14940,13,14944,14,14953,13,14965,0,11111]
[12,15072,13,15075,13,15079,14,15084,13,15088,0,11111]
[12,15204,13,15208,13,15212,14,15218,13,15223,0,11111]
[12,15326,13,15330,13,15334,14,15337,13,15342,1,11111]
[12,15455,13,15460,13,15464,14,15468,13,15472,1,11111]
[12,15587,13,15595,13,15606,14,15619,13,15635,0,11111]
[12,15733,13,15737,13,15741,14,15745,13,15749,0,11111]
[12,15854,13,15858,13,15862,14,15866,13,15871,0,11111]
[12,15970,13,15974,13,15979,14,15985,13,16004,1,11111]
[12,16100,13,16104,13,16108,14,16112,13,16116,0,11111]
[12,16216,13,16220,13,16224,14,16228,13,16249,0,11111]
[12,16353,13,16357,13,16361,14,16366,13,16376,0,11111]
[12,16478,13,16483,13,16486,14,16490,13,16495,0,11111]
[12,16603,13,16607,13,16612,14,16616,13,16621,1,11111]
[12,16715,13,16728,13,16732,14,16744,13,16751,0,11111]
[12,16851,13,16855,13,16859,14,16863,13,16874,0,11111]
[12,16970,13,16974,13,16978,14,16982,13,16986,0,11111]
[12,17096,13,17114,13,17132,14,17140,13,17144,0,11111]
[12,17250,13,17254,13,17259,14,17268,13,17272,1,11111]
[12,17382,13,17386,13,17391,14,17407,13,17424,0,11111]
[12,17525,13,17529,13,17533,14,17537,13,17546,0,11111]
[12,17650,13,17654,13,17658,14,17662,13,17667,0,11111]
[12,17764,13,17767,13,17771,14,17775,13,17780,0,11111]
[12,17882,13,17886,13,17890,14,17894,13,17898,0,11111]
[12,17998,13,18002,13,18006,14,18010,13,18013,0,11111]
[12,18113,13,18117,13,18122,14,18126,13,18130,0,11111]
[12,18235,13,18239,13,18243,14,18248,13,18256,1,11111]
[12,18360,13,18365,13,18369,14,18373,13,18378,0,11111]
[12,18486,13,18490,13,18494,14,18499,13,18512,0,11111]
[12,18612,13,18616,13,18622,14,18626,13,18634,0,11111]
[12,18734,13,18738,13,18743,14,18746,13,18751,0,11111]
[12,18849,13,18853,13,18857,14,18861,13,18869,0,11111]
[12,18976,13,18980,13,18985,14,18988,13,18993,0,11111]
[12,19101,13,19105,13,19110,14,19114,13,19118,0,11111]
[12,19241,13,19245,13,19249,14,19253,13,19257,1,11111]
[12,19353,13,19358,13,19362,14,19367,13,19371,0,11111]
[12,19474,13,19477,13,19482,14,19486,13,19493,0,11111]
[12,19592,13,19596,13,19600,14,19605,13,19609,0,11111]
[12,19708,13,19713,13,19716,14,19721,13,19725,0,11111]
[12,19824,13,19828,13,19831,14,19835,13,19839,0,11111]
[12,19942,13,19946,13,19950,14,19954,13,19959,0,11111]
[12,20072,13,20076,13,20085,14,20089,13,20096,0,11111]
[12,20196,13,20200,13,20204,14,20208,13,20212,0,11111]
[12,20322,13,20326,13,20330,14,20334,13,20341,1,11111]
[12,20442,13,20450,13,20455,14,20460,13,20465,0,11111]
[12,20563,13,20567,13,20571,14,20575,13,20597,0,11111]
[12,20697,13,20700,13,20704,14,20708,13,20713,0,11111]
[12,20812,13,20822,13,20827,14,20834,13,20838,1,11111]
[12,20936,13,20940,13,20945,14,20949,13,20954,0,11111]
[12,21055,13,21059,13,21063,14,21067,13,21071,0,11111]
[12,21179,13,21184,13,21188,14,21199,13,21206,0,11111]
[12,21307,13,21311,13,21315,14,21319,13,21323,0,11111]
[12,21423,13,21427,13,21431,14,21435,13,21443,0,11111]
[12,21546,13,21550,13,21565,14,21572,13,21577,0,11111]
[12,21674,13,21678,13,21682,14,21686,13,21689,0,11111]
[12,21793,13,21797,13,21801,14,21805,13,21809,0,11111]
[12,21909,13,21912,13,21919,14,21923,13,21927,0,11111]
[12,22034,13,22038,13,22042,14,22047,13,22051,0,11111]
[12,22153,13,22157,13,22173,14,22180,24,22231,1,11112]
[12,22350,13,22356,13,22361,14,22367,13,22375,0,11111]
[12,22476,13,22481,13,22486,14,22490,13,22496,0,11111]
[12,22597,13,22601,13,22605,14,22609,13,22613,0,11111]
[12,22715,13,22719,13,22723,14,22728,13,22733,0,11111]
[12,22833,13,22837,13,22841,14,22844,13,22851,0,11111]
[12,22960,13,22964,13,22968,14,22980,13,22989,1,11111]
[12,23086,13,23090,13,23098,14,23104,13,23112,0,11111]
[12,23209,13,23213,13,23217,14,23221,13,23225,0,11111]
[12,23325,13,23334,13,23338,14,23343,13,23348,0,11111]
[12,23465,13,23470,13,23474,14,23479,13,23483,0,11111]
[12,23584,13,23589,13,23594,14,23598,13,23605,0,11111]
[12,23715,13,23719,13,23724,14,23731,13,23739,0,11111]
[12,23838,13,23842,13,23847,14,23851,13,23855,0,11111]
[12,23951,13,23956,13,23960,14,23965,13,23974,null,11111]

{"sheet":"!MC18940.010","index":20,"n_rows":202,"n_cols":48,"rows_kept":202,"cut":false,"hidden":false,"merged":[[4,39,4,42],[5,39,5,40],[4,44,4,47],[5,44,5,45],[4,24,4,27],[5,24,5,25],[4,29,4,32],[5,29,5,30],[4,34,4,37],[5,34,5,35],[1,1,1,2],[5,13,5,14],[42,13,42,14],[43,13,43,14],[4,19,4,22],[5,19,5,20]]}
["Report for:!MC18940.010"]
["Date:","<date>"]
["Hen:","<hen>",null,null,null,"Correct Sequence",{"$f":"Start!J2","v":21121},null,null,null,null,null,null,null,null,"Total Sequences in Data",{"$f":"4994-COUNTBLANK(L7:L5000)","v":196},null,null,null,null,"Total Sequences in Block Data",{"$f":"COUNTA(L7:L39)","v":33},null,null,null,"Total Sequences in Block Data",{"$f":"COUNTA(L40:L71)","v":32},null,null,null,"Total Sequences in Block Data",{"$f":"COUNTA(L72:L104)","v":33},null,null,null,"Total Sequences in Block Data",{"$f":"COUNTA(L105:L137)","v":33},null,null,null,"Total Sequences in Block Data",{"$f":"COUNTA(L138:L169)","v":32},null,null,null,"Total Sequences in Block Data",{"$f":"COUNTA(L170:L202)","v":33}]
[null,null,null,null,null,null,null,null,null,null,null,null,null,null,null,"Total Sequences in Summary",{"$f":"SUM(O7:O38)","v":196},null,null,null,null,"Total Sequences in Block Summary",{"$f":"SUM(U7:U38)","v":33},null,null,null,"Total Sequences in Block Summary",{"$f":"SUM(Z7:Z38)","v":32},null,null,null,"Total Sequences in Block Summary",{"$f":"SUM(AE7:AE38)","v":33},null,null,null,"Total Sequences in Block Summary",{"$f":"SUM(AJ7:AJ38)","v":33},null,null,null,"Total Sequences in Block Summary",{"$f":"SUM(AO7:AO38)","v":32},null,null,null,"Total Sequences in Block Summary",{"$f":"SUM(AT7:AT38)","v":33}]
[null,null,null,null,null,null,null,null,null,null,null,null,null,null,null,null,null,null,null,"Block 1",null,null,null,null,"Block 2",null,null,null,null,"Block 3",null,null,null,null,"Block 4",null,null,null,null,"Block 5",null,null,null,null,"Block 6"]
["Sequence\nComponent\n1","Time\n1","Sequence\nComponent\n2","Time\n2","Sequence\nComponent\n3","Time\n3","Sequence\nComponent\n4","Time\n4","Sequence\nComponent\n5","Time\n5","Correct?\n0=No 1=Yes","Sequence",null,"Frequency",null,"Relative Frequency","Variability",null,null,"Frequency",null,"Relative Frequency","Variability",null,"Frequency",null,"Relative Frequency","Variability",null,"Frequency",null,"Relative Frequency","Variability",null,"Frequency",null,"Relative Frequency","Variability",null,"Frequency",null,"Relative Frequency","Variability",null,"Frequency",null,"Relative Frequency","Variability"]
[12,31,13,35,13,40,14,44,13,48,0,11111,null,11111,{"$f":"COUNTIF($L$7:$L$500,N7)","v":195},{"$f":"O7/$Q$4","v":0.99489795918367352},{"$f":"IF(P7=0,0,(P7*((LOG(P7))/LOG(2))))","v":-7.3418797004668529E-3},null,null,{"$f":"N7","v":11111},{"$f":"COUNTIF(L7:L39,T7)","v":33},{"$f":"U7/(W4-U25)","v":1},{"$f":"IF(V7=0,0,(V7*((LOG(V7))/LOG(2))))","v":0},null,{"$f":"N7","v":11111},{"$f":"COUNTIF(L40:L71,Y7)","v":31},{"$f":"Z7/(AB4-Z25)","v":0.96875},{"$f":"IF(AA7=0,0,(AA7*((LOG(AA7))/LOG(2))))","v":-4.4372324312714644E-2},null,{"$f":"N7","v":11111},{"$f":"COUNTIF(L72:L104,AD7)","v":33},{"$f":"AE7/(AG4-AE25)","v":1},{"$f":"IF(AF7=0,0,(AF7*((LOG(AF7))/LOG(2))))","v":0},null,{"$f":"N7","v":11111},{"$f":"COUNTIF(L105:L137,AI7)","v":33},{"$f":"AJ7/(AL4-AJ25)","v":1},{"$f":"IF(AK7=0,0,(AK7*((LOG(AK7))/LOG(2))))","v":0},null,{"$f":"N7","v":11111},{"$f":"COUNTIF(L138:L169,AN7)","v":32},{"$f":"AO7/(AQ4-AO25)","v":1},{"$f":"IF(AP7=0,0,(AP7*((LOG(AP7))/LOG(2))))","v":0},null,{"$f":"N7","v":11111},{"$f":"COUNTIF(L170:L202,AS7)","v":33},{"$f":"AT7/(AV4-AT25)","v":1},{"$f":"IF(AU7=0,0,(AU7*((LOG(AU7))/LOG(2))))","v":0}]
[12,152,13,156,13,160,14,166,13,171,0,11111,null,11112,{"$f":"COUNTIF($L$7:$L$500,N8)","v":0},{"$f":"O8/$Q$4","v":0},{"$f":"IF(P8=0,0,(P8*((LOG(P8))/LOG(2))))","v":0},null,null,{"$f":"N8","v":11112},{"$f":"COUNTIF(L7:L39,T8)","v":0},{"$f":"U8/(W4-U25)","v":0},{"$f":"IF(V8=0,0,(V8*((LOG(V8))/LOG(2))))","v":0},null,{"$f":"N8","v":11112},{"$f":"COUNTIF(L40:L71,Y8)","v":0},{"$f":"Z8/(AB4-Z25)","v":0},{"$f":"IF(AA8=0,0,(AA8*((LOG(AA8))/LOG(2))))","v":0},null,{"$f":"N8","v":11112},{"$f":"COUNTIF(L72:L104,AD8)","v":0},{"$f":"AE8/(AG4-AE25)","v":0},{"$f":"IF(AF8=0,0,(AF8*((LOG(AF8))/LOG(2))))","v":0},null,{"$f":"N8","v":11112},{"$f":"COUNTIF(L105:L137,AI8)","v":0},{"$f":"AJ8/(AL4-AJ25)","v":0},{"$f":"IF(AK8=0,0,(AK8*((LOG(AK8))/LOG(2))))","v":0},null,{"$f":"N8","v":11112},{"$f":"COUNTIF(L138:L169,AN8)","v":0},{"$f":"AO8/(AQ4-AO25)","v":0},{"$f":"IF(AP8=0,0,(AP8*((LOG(AP8))/LOG(2))))","v":0},null,{"$f":"N8","v":11112},{"$f":"COUNTIF(L170:L202,AS8)","v":0},{"$f":"AT8/(AV4-AT25)","v":0},{"$f":"IF(AU8=0,0,(AU8*((LOG(AU8))/LOG(2))))","v":0}]
[12,274,13,280,13,284,14,289,13,294,0,11111,null,11121,{"$f":"COUNTIF($L$7:$L$500,N9)","v":0},{"$f":"O9/$Q$4","v":0},{"$f":"IF(P9=0,0,(P9*((LOG(P9))/LOG(2))))","v":0},null,null,{"$f":"N9","v":11121},{"$f":"COUNTIF(L7:L39,T9)","v":0},{"$f":"U9/(W4-U25)","v":0},{"$f":"IF(V9=0,0,(V9*((LOG(V9))/LOG(2))))","v":0},null,{"$f":"N9","v":11121},{"$f":"COUNTIF(L40:L71,Y9)","v":0},{"$f":"Z9/(AB4-Z25)","v":0},{"$f":"IF(AA9=0,0,(AA9*((LOG(AA9))/LOG(2))))","v":0},null,{"$f":"N9","v":11121},{"$f":"COUNTIF(L72:L104,AD9)","v":0},{"$f":"AE9/(AG4-AE25)","v":0},{"$f":"IF(AF9=0,0,(AF9*((LOG(AF9))/LOG(2))))","v":0},null,{"$f":"N9","v":11121},{"$f":"COUNTIF(L105:L137,AI9)","v":0},{"$f":"AJ9/(AL4-AJ25)","v":0},{"$f":"IF(AK9=0,0,(AK9*((LOG(AK9))/LOG(2))))","v":0},null,{"$f":"N9","v":11121},{"$f":"COUNTIF(L138:L169,AN9)","v":0},{"$f":"AO9/(AQ4-AO25)","v":0},{"$f":"IF(AP9=0,0,(AP9*((LOG(AP9))/LOG(2))))","v":0},null,{"$f":"N9","v":11121},{"$f":"COUNTIF(L170:L202,AS9)","v":0},{"$f":"AT9/(AV4-AT25)","v":0},{"$f":"IF(AU9=0,0,(AU9*((LOG(AU9))/LOG(2))))","v":0}]
[12,396,13,401,13,405,14,409,13,416,0,11111,null,11122,{"$f":"COUNTIF($L$7:$L$500,N10)","v":1},{"$f":"O10/$Q$4","v":5.1020408163265302E-3},{"$f":"IF(P10=0,0,(P10*((LOG(P10))/LOG(2))))","v":-3.8850560429159221E-2},null,null,{"$f":"N10","v":11122},{"$f":"COUNTIF(L7:L39,T10)","v":0},{"$f":"U10/(W4-U25)","v":0},{"$f":"IF(V10=0,0,(V10*((LOG(V10))/LOG(2))))","v":0},null,{"$f":"N10","v":11122},{"$f":"COUNTIF(L40:L71,Y10)","v":1},{"$f":"Z10/(AB4-Z25)","v":3.125E-2},{"$f":"IF(AA10=0,0,(AA10*((LOG(AA10))/LOG(2))))","v":-0.15625},null,{"$f":"N10","v":11122},{"$f":"COUNTIF(L72:L104,AD10)","v":0},{"$f":"AE10/(AG4-AE25)","v":0},{"$f":"IF(AF10=0,0,(AF10*((LOG(AF10))/LOG(2))))","v":0},null,{"$f":"N10","v":11122},{"$f":"COUNTIF(L105:L137,AI10)","v":0},{"$f":"AJ10/(AL4-AJ25)","v":0},{"$f":"IF(AK10=0,0,(AK10*((LOG(AK10))/LOG(2))))","v":0},null,{"$f":"N10","v":11122},{"$f":"COUNTIF(L138:L169,AN10)","v":0},{"$f":"AO10/(AQ4-AO25)","v":0},{"$f":"IF(AP10=0,0,(AP10*((LOG(AP10))/LOG(2))))","v":0},null,{"$f":"N10","v":11122},{"$f":"COUNTIF(L170:L202,AS10)","v":0},{"$f":"AT10/(AV4-AT25)","v":0},{"$f":"IF(AU10=0,0,(AU10*((LOG(AU10))/LOG(2))))","v":0}]
[12,516,13,521,13,525,14,529,13,539,0,11111,null,11211,{"$f":"COUNTIF($L$7:$L$500,N11)","v":0},{"$f":"O11/$Q$4","v":0},{"$f":"IF(P11=0,0,(P11*((LOG(P11))/LOG(2))))","v":0},null,null,{"$f":"N11","v":11211},{"$f":"COUNTIF(L7:L39,T11)","v":0},{"$f":"U11/(W4-U25)","v":0},{"$f":"IF(V11=0,0,(V11*((LOG(V11))/LOG(2))))","v":0},null,{"$f":"N11","v":11211},{"$f":"COUNTIF(L40:L71,Y11)","v":0},{"$f":"Z11/(AB4-Z25)","v":0},{"$f":"IF(AA11=0,0,(AA11*((LOG(AA11))/LOG(2))))","v":0},null,{"$f":"N11","v":11211},{"$f":"COUNTIF(L72:L104,AD11)","v":0},{"$f":"AE11/(AG4-AE25)","v":0},{"$f":"IF(AF11=0,0,(AF11*((LOG(AF11))/LOG(2))))","v":0},null,{"$f":"N11","v":11211},{"$f":"COUNTIF(L105:L137,AI11)","v":0},{"$f":"AJ11/(AL4-AJ25)","v":0},{"$f":"IF(AK11=0,0,(AK11*((LOG(AK11))/LOG(2))))","v":0},null,{"$f":"N11","v":11211},{"$f":"COUNTIF(L138:L169,AN11)","v":0},{"$f":"AO11/(AQ4-AO25)","v":0},{"$f":"IF(AP11=0,0,(AP11*((LOG(AP11))/LOG(2))))","v":0},null,{"$f":"N11","v":11211},{"$f":"COUNTIF(L170:L202,AS11)","v":0},{"$f":"AT11/(AV4-AT25)","v":0},{"$f":"IF(AU11=0,0,(AU11*((LOG(AU11))/LOG(2))))","v":0}]
[12,638,13,642,13,646,14,650,13,654,0,11111,null,11212,{"$f":"COUNTIF($L$7:$L$500,N12)","v":0},{"$f":"O12/$Q$4","v":0},{"$f":"IF(P12=0,0,(P12*((LOG(P12))/LOG(2))))","v":0},null,null,{"$f":"N12","v":11212},{"$f":"COUNTIF(L7:L39,T12)","v":0},{"$f":"U12/(W4-U25)","v":0},{"$f":"IF(V12=0,0,(V12*((LOG(V12))/LOG(2))))","v":0},null,{"$f":"N12","v":11212},{"$f":"COUNTIF(L40:L71,Y12)","v":0},{"$f":"Z12/(AB4-Z25)","v":0},{"$f":"IF(AA12=0,0,(AA12*((LOG(AA12))/LOG(2))))","v":0},null,{"$f":"N12","v":11212},{"$f":"COUNTIF(L72:L104,AD12)","v":0},{"$f":"AE12/(AG4-AE25)","v":0},{"$f":"IF(AF12=0,0,(AF12*((LOG(AF12))/LOG(2))))","v":0},null,{"$f":"N12","v":11212},{"$f":"COUNTIF(L105:L137,AI12)","v":0},{"$f":"AJ12/(AL4-AJ25)","v":0},{"$f":"IF(AK12=0,0,(AK12*((LOG(AK12))/LOG(2))))","v":0},null,{"$f":"N12","v":11212},{"$f":"COUNTIF(L138:L169,AN12)","v":0},{"$f":"AO12/(AQ4-AO25)","v":0},{"$f":"IF(AP12=0,0,(AP12*((LOG(AP12))/LOG(2))))","v":0},null,{"$f":"N12","v":11212},{"$f":"COUNTIF(L170:L202,AS12)","v":0},{"$f":"AT12/(AV4-AT25)","v":0},{"$f":"IF(AU12=0,0,(AU12*((LOG(AU12))/LOG(2))))","v":0}]
[12,758,13,763,13,767,14,771,13,776,0,11111,null,11221,{"$f":"COUNTIF($L$7:$L$500,N13)","v":0},{"$f":"O13/$Q$4","v":0},{"$f":"IF(P13=0,0,(P13*((LOG(P13))/LOG(2))))","v":0},null,null,{"$f":"N13","v":11221},{"$f":"COUNTIF(L7:L39,T13)","v":0},{"$f":"U13/(W4-U25)","v":0},{"$f":"IF(V13=0,0,(V13*((LOG(V13))/LOG(2))))","v":0},null,{"$f":"N13","v":11221},{"$f":"COUNTIF(L40:L71,Y13)","v":0},{"$f":"Z13/(AB4-Z25)","v":0},{"$f":"IF(AA13=0,0,(AA13*((LOG(AA13))/LOG(2))))","v":0},null,{"$f":"N13","v":11221},{"$f":"COUNTIF(L72:L104,AD13)","v":0},{"$f":"AE13/(AG4-AE25)","v":0},{"$f":"IF(AF13=0,0,(AF13*((LOG(AF13))/LOG(2))))","v":0},null,{"$f":"N13","v":11221},{"$f":"COUNTIF(L105:L137,AI13)","v":0},{"$f":"AJ13/(AL4-AJ25)","v":0},{"$f":"IF(AK13=0,0,(AK13*((LOG(AK13))/LOG(2))))","v":0},null,{"$f":"N13","v":11221},{"$f":"COUNTIF(L138:L169,AN13)","v":0},{"$f":"AO13/(AQ4-AO25)","v":0},{"$f":"IF(AP13=0,0,(AP13*((LOG(AP13))/LOG(2))))","v":0},null,{"$f":"N13","v":11221},{"$f":"COUNTIF(L170:L202,AS13)","v":0},{"$f":"AT13/(AV4-AT25)","v":0},{"$f":"IF(AU13=0,0,(AU13*((LOG(AU13))/LOG(2))))","v":0}]
[12,876,13,885,13,889,14,894,13,898,0,11111,null,11222,{"$f":"COUNTIF($L$7:$L$500,N14)","v":0},{"$f":"O14/$Q$4","v":0},{"$f":"IF(P14=0,0,(P14*((LOG(P14))/LOG(2))))","v":0},null,null,{"$f":"N14","v":11222},{"$f":"COUNTIF(L7:L39,T14)","v":0},{"$f":"U14/(W4-U25)","v":0},{"$f":"IF(V14=0,0,(V14*((LOG(V14))/LOG(2))))","v":0},null,{"$f":"N14","v":11222},{"$f":"COUNTIF(L40:L71,Y14)","v":0},{"$f":"Z14/(AB4-Z25)","v":0},{"$f":"IF(AA14=0,0,(AA14*((LOG(AA14))/LOG(2))))","v":0},null,{"$f":"N14","v":11222},{"$f":"COUNTIF(L72:L104,AD14)","v":0},{"$f":"AE14/(AG4-AE25)","v":0},{"$f":"IF(AF14=0,0,(AF14*((LOG(AF14))/LOG(2))))","v":0},null,{"$f":"N14","v":11222},{"$f":"COUNTIF(L105:L137,AI14)","v":0},{"$f":"AJ14/(AL4-AJ25)","v":0},{"$f":"IF(AK14=0,0,(AK14*((LOG(AK14))/LOG(2))))","v":0},null,{"$f":"N14","v":11222},{"$f":"COUNTIF(L138:L169,AN14)","v":0},{"$f":"AO14/(AQ4-AO25)","v":0},{"$f":"IF(AP14=0,0,(AP14*((LOG(AP14))/LOG(2))))","v":0},null,{"$f":"N14","v":11222},{"$f":"COUNTIF(L170:L202,AS14)","v":0},{"$f":"AT14/(AV4-AT25)","v":0},{"$f":"IF(AU14=0,0,(AU14*((LOG(AU14))/LOG(2))))","v":0}]
[12,1001,13,1006,13,1010,14,1014,13,1018,0,11111,null,12111,{"$f":"COUNTIF($L$7:$L$500,N15)","v":0},{"$f":"O15/$Q$4","v":0},{"$f":"IF(P15=0,0,(P15*((LOG(P15))/LOG(2))))","v":0},null,null,{"$f":"N15","v":12111},{"$f":"COUNTIF(L7:L39,T15)","v":0},{"$f":"U15/(W4-U25)","v":0},{"$f":"IF(V15=0,0,(V15*((LOG(V15))/LOG(2))))","v":0},null,{"$f":"N15","v":12111},{"$f":"COUNTIF(L40:L71,Y15)","v":0},{"$f":"Z15/(AB4-Z25)","v":0},{"$f":"IF(AA15=0,0,(AA15*((LOG(AA15))/LOG(2))))","v":0},null,{"$f":"N15","v":12111},{"$f":"COUNTIF(L72:L104,AD15)","v":0},{"$f":"AE15/(AG4-AE25)","v":0},{"$f":"IF(AF15=0,0,(AF15*((LOG(AF15))/LOG(2))))","v":0},null,{"$f":"N15","v":12111},{"$f":"COUNTIF(L105:L137,AI15)","v":0},{"$f":"AJ15/(AL4-AJ25)","v":0},{"$f":"IF(AK15=0,0,(AK15*((LOG(AK15))/LOG(2))))","v":0},null,{"$f":"N15","v":12111},{"$f":"COUNTIF(L138:L169,AN15)","v":0},{"$f":"AO15/(AQ4-AO25)","v":0},{"$f":"IF(AP15=0,0,(AP15*((LOG(AP15))/LOG(2))))","v":0},null,{"$f":"N15","v":12111},{"$f":"COUNTIF(L170:L202,AS15)","v":0},{"$f":"AT15/(AV4-AT25)","v":0},{"$f":"IF(AU15=0,0,(AU15*((LOG(AU15))/LOG(2))))","v":0}]
[12,1118,13,1122,13,1127,14,1131,13,1135,0,11111,null,12112,{"$f":"COUNTIF($L$7:$L$500,N16)","v":0},{"$f":"O16/$Q$4","v":0},{"$f":"IF(P16=0,0,(P16*((LOG(P16))/LOG(2))))","v":0},null,null,{"$f":"N16","v":12112},{"$f":"COUNTIF(L7:L39,T16)","v":0},{"$f":"U16/(W4-U25)","v":0},{"$f":"IF(V16=0,0,(V16*((LOG(V16))/LOG(2))))","v":0},null,{"$f":"N16","v":12112},{"$f":"COUNTIF(L40:L71,Y16)","v":0},{"$f":"Z16/(AB4-Z25)","v":0},{"$f":"IF(AA16=0,0,(AA16*((LOG(AA16))/LOG(2))))","v":0},null,{"$f":"N16","v":12112},{"$f":"COUNTIF(L72:L104,AD16)","v":0},{"$f":"AE16/(AG4-AE25)","v":0},{"$f":"IF(AF16=0,0,(AF16*((LOG(AF16))/LOG(2))))","v":0},null,{"$f":"N16","v":12112},{"$f":"COUNTIF(L105:L137,AI16)","v":0},{"$f":"AJ16/(AL4-AJ25)","v":0},{"$f":"IF(AK16=0,0,(AK16*((LOG(AK16))/LOG(2))))","v":0},null,{"$f":"N16","v":12112},{"$f":"COUNTIF(L138:L169,AN16)","v":0},{"$f":"AO16/(AQ4-AO25)","v":0},{"$f":"IF(AP16=0,0,(AP16*((LOG(AP16))/LOG(2))))","v":0},null,{"$f":"N16","v":12112},{"$f":"COUNTIF(L170:L202,AS16)","v":0},{"$f":"AT16/(AV4-AT25)","v":0},{"$f":"IF(AU16=0,0,(AU16*((LOG(AU16))/LOG(2))))","v":0}]
[12,1234,13,1239,13,1243,14,1247,13,1251,0,11111,null,12121,{"$f":"COUNTIF($L$7:$L$500,N17)","v":0},{"$f":"O17/$Q$4","v":0},{"$f":"IF(P17=0,0,(P17*((LOG(P17))/LOG(2))))","v":0},null,null,{"$f":"N17","v":12121},{"$f":"COUNTIF(L7:L39,T17)","v":0},{"$f":"U17/(W4-U25)","v":0},{"$f":"IF(V17=0,0,(V17*((LOG(V17))/LOG(2))))","v":0},null,{"$f":"N17","v":12121},{"$f":"COUNTIF(L40:L71,Y17)","v":0},{"$f":"Z17/(AB4-Z25)","v":0},{"$f":"IF(AA17=0,0,(AA17*((LOG(AA17))/LOG(2))))","v":0},null,{"$f":"N17","v":12121},{"$f":"COUNTIF(L72:L104,AD17)","v":0},{"$f":"AE17/(AG4-AE25)","v":0},{"$f":"IF(AF17=0,0,(AF17*((LOG(AF17))/LOG(2))))","v":0},null,{"$f":"N17","v":12121},{"$f":"COUNTIF(L105:L137,AI17)","v":0},{"$f":"AJ17/(AL4-AJ25)","v":0},{"$f":"IF(AK17=0,0,(AK17*((LOG(AK17))/LOG(2))))","v":0},null,{"$f":"N17","v":12121},{"$f":"COUNTIF(L138:L169,AN17)","v":0},{"$f":"AO17/(AQ4-AO25)","v":0},{"$f":"IF(AP17=0,0,(AP17*((LOG(AP17))/LOG(2))))","v":0},null,{"$f":"N17","v":12121},{"$f":"COUNTIF(L170:L202,AS17)","v":0},{"$f":"AT17/(AV4-AT25)","v":0},{"$f":"IF(AU17=0,0,(AU17*((LOG(AU17))/LOG(2))))","v":0}]
[12,1368,13,1372,13,1377,14,1381,13,1394,0,11111,null,12122,{"$f":"COUNTIF($L$7:$L$500,N18)","v":0},{"$f":"O18/$Q$4","v":0},{"$f":"IF(P18=0,0,(P18*((LOG(P18))/LOG(2))))","v":0},null,null,{"$f":"N18","v":12122},{"$f":"COUNTIF(L7:L39,T18)","v":0},{"$f":"U18/(W4-U25)","v":0},{"$f":"IF(V18=0,0,(V18*((LOG(V18))/LOG(2))))","v":0},null,{"$f":"N18","v":12122},{"$f":"COUNTIF(L40:L71,Y18)","v":0},{"$f":"Z18/(AB4-Z25)","v":0},{"$f":"IF(AA18=0,0,(AA18*((LOG(AA18))/LOG(2))))","v":0},null,{"$f":"N18","v":12122},{"$f":"COUNTIF(L72:L104,AD18)","v":0},{"$f":"AE18/(AG4-AE25)","v":0},{"$f":"IF(AF18=0,0,(AF18*((LOG(AF18))/LOG(2))))","v":0},null,{"$f":"N18","v":12122},{"$f":"COUNTIF(L105:L137,AI18)","v":0},{"$f":"AJ18/(AL4-AJ25)","v":0},{"$f":"IF(AK18=0,0,(AK18*((LOG(AK18))/LOG(2))))","v":0},null,{"$f":"N18","v":12122},{"$f":"COUNTIF(L138:L169,AN18)","v":0},{"$f":"AO18/(AQ4-AO25)","v":0},{"$f":"IF(AP18=0,0,(AP18*((LOG(AP18))/LOG(2))))","v":0},null,{"$f":"N18","v":12122},{"$f":"COUNTIF(L170:L202,AS18)","v":0},{"$f":"AT18/(AV4-AT25)","v":0},{"$f":"IF(AU18=0,0,(AU18*((LOG(AU18))/LOG(2))))","v":0}]
[12,1501,13,1506,13,1510,14,1515,13,1519,1,11111,null,12211,{"$f":"COUNTIF($L$7:$L$500,N19)","v":0},{"$f":"O19/$Q$4","v":0},{"$f":"IF(P19=0,0,(P19*((LOG(P19))/LOG(2))))","v":0},null,null,{"$f":"N19","v":12211},{"$f":"COUNTIF(L7:L39,T19)","v":0},{"$f":"U19/(W4-U25)","v":0},{"$f":"IF(V19=0,0,(V19*((LOG(V19))/LOG(2))))","v":0},null,{"$f":"N19","v":12211},{"$f":"COUNTIF(L40:L71,Y19)","v":0},{"$f":"Z19/(AB4-Z25)","v":0},{"$f":"IF(AA19=0,0,(AA19*((LOG(AA19))/LOG(2))))","v":0},null,{"$f":"N19","v":12211},{"$f":"COUNTIF(L72:L104,AD19)","v":0},{"$f":"AE19/(AG4-AE25)","v":0},{"$f":"IF(AF19=0,0,(AF19*((LOG(AF19))/LOG(2))))","v":0},null,{"$f":"N19","v":12211},{"$f":"COUNTIF(L105:L137,AI19)","v":0},{"$f":"AJ19/(AL4-AJ25)","v":0},{"$f":"IF(AK19=0,0,(AK19*((LOG(AK19))/LOG(2))))","v":0},null,{"$f":"N19","v":12211},{"$f":"COUNTIF(L138:L169,AN19)","v":0},{"$f":"AO19/(AQ4-AO25)","v":0},{"$f":"IF(AP19=0,0,(AP19*((LOG(AP19))/LOG(2))))","v":0},null,{"$f":"N19","v":12211},{"$f":"COUNTIF(L170:L202,AS19)","v":0},{"$f":"AT19/(AV4-AT25)","v":0},{"$f":"IF(AU19=0,0,(AU19*((LOG(AU19))/LOG(2))))","v":0}]
[12,1624,13,1628,13,1633,14,1637,13,1642,0,11111,null,12212,{"$f":"COUNTIF($L$7:$L$500,N20)","v":0},{"$f":"O20/$Q$4","v":0},{"$f":"IF(P20=0,0,(P20*((LOG(P20))/LOG(2))))","v":0},null,null,{"$f":"N20","v":12212},{"$f":"COUNTIF(L7:L39,T20)","v":0},{"$f":"U20/(W4-U25)","v":0},{"$f":"IF(V20=0,0,(V20*((LOG(V20))/LOG(2))))","v":0},null,{"$f":"N20","v":12212},{"$f":"COUNTIF(L40:L71,Y20)","v":0},{"$f":"Z20/(AB4-Z25)","v":0},{"$f":"IF(AA20=0,0,(AA20*((LOG(AA20))/LOG(2))))","v":0},null,{"$f":"N20","v":12212},{"$f":"COUNTIF(L72:L104,AD20)","v":0},{"$f":"AE20/(AG4-AE25)","v":0},{"$f":"IF(AF20=0,0,(AF20*((LOG(AF20))/LOG(2))))","v":0},null,{"$f":"N20","v":12212},{"$f":"COUNTIF(L105:L137,AI20)","v":0},{"$f":"AJ20/(AL4-AJ25)","v":0},{"$f":"IF(AK20=0,0,(AK20*((LOG(AK20))/LOG(2))))","v":0},null,{"$f":"N20","v":12212},{"$f":"COUNTIF(L138:L169,AN20)","v":0},{"$f":"AO20/(AQ4-AO25)","v":0},{"$f":"IF(AP20=0,0,(AP20*((LOG(AP20))/LOG(2))))","v":0},null,{"$f":"N20","v":12212},{"$f":"COUNTIF(L170:L202,AS20)","v":0},{"$f":"AT20/(AV4-AT25)","v":0},{"$f":"IF(AU20=0,0,(AU20*((LOG(AU20))/LOG(2))))","v":0}]
[12,1741,13,1746,13,1750,14,1754,13,1758,0,11111,null,12221,{"$f":"COUNTIF($L$7:$L$500,N21)","v":0},{"$f":"O21/$Q$4","v":0},{"$f":"IF(P21=0,0,(P21*((LOG(P21))/LOG(2))))","v":0},null,null,{"$f":"N21","v":12221},{"$f":"COUNTIF(L7:L39,T21)","v":0},{"$f":"U21/(W4-U25)","v":0},{"$f":"IF(V21=0,0,(V21*((LOG(V21))/LOG(2))))","v":0},null,{"$f":"N21","v":12221},{"$f":"COUNTIF(L40:L71,Y21)","v":0},{"$f":"Z21/(AB4-Z25)","v":0},{"$f":"IF(AA21=0,0,(AA21*((LOG(AA21))/LOG(2))))","v":0},null,{"$f":"N21","v":12221},{"$f":"COUNTIF(L72:L104,AD21)","v":0},{"$f":"AE21/(AG4-AE25)","v":0},{"$f":"IF(AF21=0,0,(AF21*((LOG(AF21))/LOG(2))))","v":0},null,{"$f":"N21","v":12221},{"$f":"COUNTIF(L105:L137,AI21)","v":0},{"$f":"AJ21/(AL4-AJ25)","v":0},{"$f":"IF(AK21=0,0,(AK21*((LOG(AK21))/LOG(2))))","v":0},null,{"$f":"N21","v":12221},{"$f":"COUNTIF(L138:L169,AN21)","v":0},{"$f":"AO21/(AQ4-AO25)","v":0},{"$f":"IF(AP21=0,0,(AP21*((LOG(AP21))/LOG(2))))","v":0},null,{"$f":"N21","v":12221},{"$f":"COUNTIF(L170:L202,AS21)","v":0},{"$f":"AT21/(AV4-AT25)","v":0},{"$f":"IF(AU21=0,0,(AU21*((LOG(AU21))/LOG(2))))","v":0}]
[12,1858,13,1863,13,1866,14,1870,13,1875,0,11111,null,12222,{"$f":"COUNTIF($L$7:$L$500,N22)","v":0},{"$f":"O22/$Q$4","v":0},{"$f":"IF(P22=0,0,(P22*((LOG(P22))/LOG(2))))","v":0},null,null,{"$f":"N22","v":12222},{"$f":"COUNTIF(L7:L39,T22)","v":0},{"$f":"U22/(W4-U25)","v":0},{"$f":"IF(V22=0,0,(V22*((LOG(V22))/LOG(2))))","v":0},null,{"$f":"N22","v":12222},{"$f":"COUNTIF(L40:L71,Y22)","v":0},{"$f":"Z22/(AB4-Z25)","v":0},{"$f":"IF(AA22=0,0,(AA22*((LOG(AA22))/LOG(2))))","v":0},null,{"$f":"N22","v":12222},{"$f":"COUNTIF(L72:L104,AD22)","v":0},{"$f":"AE22/(AG4-AE25)","v":0},{"$f":"IF(AF22=0,0,(AF22*((LOG(AF22))/LOG(2))))","v":0},null,{"$f":"N22","v":12222},{"$f":"COUNTIF(L105:L137,AI22)","v":0},{"$f":"AJ22/(AL4-AJ25)","v":0},{"$f":"IF(AK22=0,0,(AK22*((LOG(AK22))/LOG(2))))","v":0},null,{"$f":"N22","v":12222},{"$f":"COUNTIF(L138:L169,AN22)","v":0},{"$f":"AO22/(AQ4-AO25)","v":0},{"$f":"IF(AP22=0,0,(AP22*((LOG(AP22))/LOG(2))))","v":0},null,{"$f":"N22","v":12222},{"$f":"COUNTIF(L170:L202,AS22)","v":0},{"$f":"AT22/(AV4-AT25)","v":0},{"$f":"IF(AU22=0,0,(AU22*((LOG(AU22))/LOG(2))))","v":0}]
[12,1975,13,1979,13,1984,14,1988,13,1992,0,11111,null,21111,{"$f":"COUNTIF($L$7:$L$500,N23)","v":0},{"$f":"O23/$Q$4","v":0},{"$f":"IF(P23=0,0,(P23*((LOG(P23))/LOG(2))))","v":0},null,null,{"$f":"N23","v":21111},{"$f":"COUNTIF(L7:L39,T23)","v":0},{"$f":"U23/(W4-U25)","v":0},{"$f":"IF(V23=0,0,(V23*((LOG(V23))/LOG(2))))","v":0},null,{"$f":"N23","v":21111},{"$f":"COUNTIF(L40:L71,Y23)","v":0},{"$f":"Z23/(AB4-Z25)","v":0},{"$f":"IF(AA23=0,0,(AA23*((LOG(AA23))/LOG(2))))","v":0},null,{"$f":"N23","v":21111},{"$f":"COUNTIF(L72:L104,AD23)","v":0},{"$f":"AE23/(AG4-AE25)","v":0},{"$f":"IF(AF23=0,0,(AF23*((LOG(AF23))/LOG(2))))","v":0},null,{"$f":"N23","v":21111},{"$f":"COUNTIF(L105:L137,AI23)","v":0},{"$f":"AJ23/(AL4-AJ25)","v":0},{"$f":"IF(AK23=0,0,(AK23*((LOG(AK23))/LOG(2))))","v":0},null,{"$f":"N23","v":21111},{"$f":"COUNTIF(L138:L169,AN23)","v":0},{"$f":"AO23/(AQ4-AO25)","v":0},{"$f":"IF(AP23=0,0,(AP23*((LOG(AP23))/LOG(2))))","v":0},null,{"$f":"N23","v":21111},{"$f":"COUNTIF(L170:L202,AS23)","v":0},{"$f":"AT23/(AV4-AT25)","v":0},{"$f":"IF(AU23=0,0,(AU23*((LOG(AU23))/LOG(2))))","v":0}]
[12,2091,13,2096,13,2100,14,2104,13,2108,0,11111,null,21112,{"$f":"COUNTIF($L$7:$L$500,N24)","v":0},{"$f":"O24/$Q$4","v":0},{"$f":"IF(P24=0,0,(P24*((LOG(P24))/LOG(2))))","v":0},null,null,{"$f":"N24","v":21112},{"$f":"COUNTIF(L7:L39,T24)","v":0},{"$f":"U24/(W4-U25)","v":0},{"$f":"IF(V24=0,0,(V24*((LOG(V24))/LOG(2))))","v":0},null,{"$f":"N24","v":21112},{"$f":"COUNTIF(L40:L71,Y24)","v":0},{"$f":"Z24/(AB4-Z25)","v":0},{"$f":"IF(AA24=0,0,(AA24*((LOG(AA24))/LOG(2))))","v":0},null,{"$f":"N24","v":21112},{"$f":"COUNTIF(L72:L104,AD24)","v":0},{"$f":"AE24/(AG4-AE25)","v":0},{"$f":"IF(AF24=0,0,(AF24*((LOG(AF24))/LOG(2))))","v":0},null,{"$f":"N24","v":21112},{"$f":"COUNTIF(L105:L137,AI24)","v":0},{"$f":"AJ24/(AL4-AJ25)","v":0},{"$f":"IF(AK24=0,0,(AK24*((LOG(AK24))/LOG(2))))","v":0},null,{"$f":"N24","v":21112},{"$f":"COUNTIF(L138:L169,AN24)","v":0},{"$f":"AO24/(AQ4-AO25)","v":0},{"$f":"IF(AP24=0,0,(AP24*((LOG(AP24))/LOG(2))))","v":0},null,{"$f":"N24","v":21112},{"$f":"COUNTIF(L170:L202,AS24)","v":0},{"$f":"AT24/(AV4-AT25)","v":0},{"$f":"IF(AU24=0,0,(AU24*((LOG(AU24))/LOG(2))))","v":0}]
[12,2221,13,2226,13,2230,14,2235,13,2243,0,11111,null,21121,{"$f":"COUNTIF($L$7:$L$500,N25)","v":0},{"$f":"O25/$Q$4","v":0},{"$f":"IF(P25=0,0,(P25*((LOG(P25))/LOG(2))))","v":0},null,null,{"$f":"N25","v":21121},{"$f":"COUNTIF(L7:L39,T25)","v":0},null,null,null,{"$f":"N25","v":21121},{"$f":"COUNTIF(L40:L71,Y25)","v":0},null,null,null,{"$f":"N25","v":21121},{"$f":"COUNTIF(L72:L104,AD25)","v":0},null,null,null,{"$f":"N25","v":21121},{"$f":"COUNTIF(L105:L137,AI25)","v":0},null,null,null,{"$f":"N25","v":21121},{"$f":"COUNTIF(L138:L169,AN25)","v":0},null,null,null,{"$f":"N25","v":21121},{"$f":"COUNTIF(L170:L202,AS25)","v":0}]
[12,2350,13,2354,13,2359,14,2368,13,2373,0,11111,null,21122,{"$f":"COUNTIF($L$7:$L$500,N26)","v":0},{"$f":"O26/$Q$4","v":0},{"$f":"IF(P26=0,0,(P26*((LOG(P26))/LOG(2))))","v":0},null,null,{"$f":"N26","v":21122},{"$f":"COUNTIF(L7:L39,T26)","v":0},{"$f":"U26/(W4-U25)","v":0},{"$f":"IF(V26=0,0,(V26*((LOG(V26))/LOG(2))))","v":0},null,{"$f":"N26","v":21122},{"$f":"COUNTIF(L40:L71,Y26)","v":0},{"$f":"Z26/(AB4-Z25)","v":0},{"$f":"IF(AA26=0,0,(AA26*((LOG(AA26))/LOG(2))))","v":0},null,{"$f":"N26","v":21122},{"$f":"COUNTIF(L72:L104,AD26)","v":0},{"$f":"AE26/(AG4-AE25)","v":0},{"$f":"IF(AF26=0,0,(AF26*((LOG(AF26))/LOG(2))))","v":0},null,{"$f":"N26","v":21122},{"$f":"COUNTIF(L105:L137,AI26)","v":0},{"$f":"AJ26/(AL4-AJ25)","v":0},{"$f":"IF(AK26=0,0,(AK26*((LOG(AK26))/LOG(2))))","v":0},null,{"$f":"N26","v":21122},{"$f":"COUNTIF(L138:L169,AN26)","v":0},{"$f":"AO26/(AQ4-AO25)","v":0},{"$f":"IF(AP26=0,0,(AP26*((LOG(AP26))/LOG(2))))","v":0},null,{"$f":"N26","v":21122},{"$f":"COUNTIF(L170:L202,AS26)","v":0},{"$f":"AT26/(AV4-AT25)","v":0},{"$f":"IF(AU26=0,0,(AU26*((LOG(AU26))/LOG(2))))","v":0}]
[12,2481,13,2486,13,2490,14,2494,13,2499,1,11111,null,21211,{"$f":"COUNTIF($L$7:$L$500,N27)","v":0},{"$f":"O27/$Q$4","v":0},{"$f":"IF(P27=0,0,(P27*((LOG(P27))/LOG(2))))","v":0},null,null,{"$f":"N27","v":21211},{"$f":"COUNTIF(L7:L39,T27)","v":0},{"$f":"U27/(W4-U25)","v":0},{"$f":"IF(V27=0,0,(V27*((LOG(V27))/LOG(2))))","v":0},null,{"$f":"N27","v":21211},{"$f":"COUNTIF(L40:L71,Y27)","v":0},{"$f":"Z27/(AB4-Z25)","v":0},{"$f":"IF(AA27=0,0,(AA27*((LOG(AA27))/LOG(2))))","v":0},null,{"$f":"N27","v":21211},{"$f":"COUNTIF(L72:L104,AD27)","v":0},{"$f":"AE27/(AG4-AE25)","v":0},{"$f":"IF(AF27=0,0,(AF27*((LOG(AF27))/LOG(2))))","v":0},null,{"$f":"N27","v":21211},{"$f":"COUNTIF(L105:L137,AI27)","v":0},{"$f":"AJ27/(AL4-AJ25)","v":0},{"$f":"IF(AK27=0,0,(AK27*((LOG(AK27))/LOG(2))))","v":0},null,{"$f":"N27","v":21211},{"$f":"COUNTIF(L138:L169,AN27)","v":0},{"$f":"AO27/(AQ4-AO25)","v":0},{"$f":"IF(AP27=0,0,(AP27*((LOG(AP27))/LOG(2))))","v":0},null,{"$f":"N27","v":21211},{"$f":"COUNTIF(L170:L202,AS27)","v":0},{"$f":"AT27/(AV4-AT25)","v":0},{"$f":"IF(AU27=0,0,(AU27*((LOG(AU27))/LOG(2))))","v":0}]
[12,2609,13,2613,13,2618,14,2623,13,2628,0,11111,null,21212,{"$f":"COUNTIF($L$7:$L$500,N28)","v":0},{"$f":"O28/$Q$4","v":0},{"$f":"IF(P28=0,0,(P28*((LOG(P28))/LOG(2))))","v":0},null,null,{"$f":"N28","v":21212},{"$f":"COUNTIF(L7:L39,T28)","v":0},{"$f":"U28/(W4-U25)","v":0},{"$f":"IF(V28=0,0,(V28*((LOG(V28))/LOG(2))))","v":0},null,{"$f":"N28","v":21212},{"$f":"COUNTIF(L40:L71,Y28)","v":0},{"$f":"Z28/(AB4-Z25)","v":0},{"$f":"IF(AA28=0,0,(AA28*((LOG(AA28))/LOG(2))))","v":0},null,{"$f":"N28","v":21212},{"$f":"COUNTIF(L72:L104,AD28)","v":0},{"$f":"AE28/(AG4-AE25)","v":0},{"$f":"IF(AF28=0,0,(AF28*((LOG(AF28))/LOG(2))))","v":0},null,{"$f":"N28","v":21212},{"$f":"COUNTIF(L105:L137,AI28)","v":0},{"$f":"AJ28/(AL4-AJ25)","v":0},{"$f":"IF(AK28=0,0,(AK28*((LOG(AK28))/LOG(2))))","v":0},null,{"$f":"N28","v":21212},{"$f":"COUNTIF(L138:L169,AN28)","v":0},{"$f":"AO28/(AQ4-AO25)","v":0},{"$f":"IF(AP28=0,0,(AP28*((LOG(AP28))/LOG(2))))","v":0},null,{"$f":"N28","v":21212},{"$f":"COUNTIF(L170:L202,AS28)","v":0},{"$f":"AT28/(AV4-AT25)","v":0},{"$f":"IF(AU28=0,0,(AU28*((LOG(AU28))/LOG(2))))","v":0}]
[12,2728,13,2732,13,2736,14,2740,13,2745,0,11111,null,21221,{"$f":"COUNTIF($L$7:$L$500,N29)","v":0},{"$f":"O29/$Q$4","v":0},{"$f":"IF(P29=0,0,(P29*((LOG(P29))/LOG(2))))","v":0},null,null,{"$f":"N29","v":21221},{"$f":"COUNTIF(L7:L39,T29)","v":0},{"$f":"U29/(W4-U25)","v":0},{"$f":"IF(V29=0,0,(V29*((LOG(V29))/LOG(2))))","v":0},null,{"$f":"N29","v":21221},{"$f":"COUNTIF(L40:L71,Y29)","v":0},{"$f":"Z29/(AB4-Z25)","v":0},{"$f":"IF(AA29=0,0,(AA29*((LOG(AA29))/LOG(2))))","v":0},null,{"$f":"N29","v":21221},{"$f":"COUNTIF(L72:L104,AD29)","v":0},{"$f":"AE29/(AG4-AE25)","v":0},{"$f":"IF(AF29=0,0,(AF29*((LOG(AF29))/LOG(2))))","v":0},null,{"$f":"N29","v":21221},{"$f":"COUNTIF(L105:L137,AI29)","v":0},{"$f":"AJ29/(AL4-AJ25)","v":0},{"$f":"IF(AK29=0,0,(AK29*((LOG(AK29))/LOG(2))))","v":0},null,{"$f":"N29","v":21221},{"$f":"COUNTIF(L138:L169,AN29)","v":0},{"$f":"AO29/(AQ4-AO25)","v":0},{"$f":"IF(AP29=0,0,(AP29*((LOG(AP29))/LOG(2))))","v":0},null,{"$f":"N29","v":21221},{"$f":"COUNTIF(L170:L202,AS29)","v":0},{"$f":"AT29/(AV4-AT25)","v":0},{"$f":"IF(AU29=0,0,(AU29*((LOG(AU29))/LOG(2))))","v":0}]
[12,2847,13,2852,13,2856,14,2861,13,2871,0,11111,null,21222,{"$f":"COUNTIF($L$7:$L$500,N30)","v":0},{"$f":"O30/$Q$4","v":0},{"$f":"IF(P30=0,0,(P30*((LOG(P30))/LOG(2))))","v":0},null,null,{"$f":"N30","v":21222},{"$f":"COUNTIF(L7:L39,T30)","v":0},{"$f":"U30/(W4-U25)","v":0},{"$f":"IF(V30=0,0,(V30*((LOG(V30))/LOG(2))))","v":0},null,{"$f":"N30","v":21222},{"$f":"COUNTIF(L40:L71,Y30)","v":0},{"$f":"Z30/(AB4-Z25)","v":0},{"$f":"IF(AA30=0,0,(AA30*((LOG(AA30))/LOG(2))))","v":0},null,{"$f":"N30","v":21222},{"$f":"COUNTIF(L72:L104,AD30)","v":0},{"$f":"AE30/(AG4-AE25)","v":0},{"$f":"IF(AF30=0,0,(AF30*((LOG(AF30))/LOG(2))))","v":0},null,{"$f":"N30","v":21222},{"$f":"COUNTIF(L105:L137,AI30)","v":0},{"$f":"AJ30/(AL4-AJ25)","v":0},{"$f":"IF(AK30=0,0,(AK30*((LOG(AK30))/LOG(2))))","v":0},null,{"$f":"N30","v":21222},{"$f":"COUNTIF(L138:L169,AN30)","v":0},{"$f":"AO30/(AQ4-AO25)","v":0},{"$f":"IF(AP30=0,0,(AP30*((LOG(AP30))/LOG(2))))","v":0},null,{"$f":"N30","v":21222},{"$f":"COUNTIF(L170:L202,AS30)","v":0},{"$f":"AT30/(AV4-AT25)","v":0},{"$f":"IF(AU30=0,0,(AU30*((LOG(AU30))/LOG(2))))","v":0}]
[12,2977,13,2981,13,2988,14,2993,13,2999,0,11111,null,22111,{"$f":"COUNTIF($L$7:$L$500,N31)","v":0},{"$f":"O31/$Q$4","v":0},{"$f":"IF(P31=0,0,(P31*((LOG(P31))/LOG(2))))","v":0},null,null,{"$f":"N31","v":22111},{"$f":"COUNTIF(L7:L39,T31)","v":0},{"$f":"U31/(W4-U25)","v":0},{"$f":"IF(V31=0,0,(V31*((LOG(V31))/LOG(2))))","v":0},null,{"$f":"N31","v":22111},{"$f":"COUNTIF(L40:L71,Y31)","v":0},{"$f":"Z31/(AB4-Z25)","v":0},{"$f":"IF(AA31=0,0,(AA31*((LOG(AA31))/LOG(2))))","v":0},null,{"$f":"N31","v":22111},{"$f":"COUNTIF(L72:L104,AD31)","v":0},{"$f":"AE31/(AG4-AE25)","v":0},{"$f":"IF(AF31=0,0,(AF31*((LOG(AF31))/LOG(2))))","v":0},null,{"$f":"N31","v":22111},{"$f":"COUNTIF(L105:L137,AI31)","v":0},{"$f":"AJ31/(AL4-AJ25)","v":0},{"$f":"IF(AK31=0,0,(AK31*((LOG(AK31))/LOG(2))))","v":0},null,{"$f":"N31","v":22111},{"$f":"COUNTIF(L138:L169,AN31)","v":0},{"$f":"AO31/(AQ4-AO25)","v":0},{"$f":"IF(AP31=0,0,(AP31*((LOG(AP31))/LOG(2))))","v":0},null,{"$f":"N31","v":22111},{"$f":"COUNTIF(L170:L202,AS31)","v":0},{"$f":"AT31/(AV4-AT25)","v":0},{"$f":"IF(AU31=0,0,(AU31*((LOG(AU31))/LOG(2))))","v":0}]
[12,3099,13,3104,13,3109,14,3114,13,3118,0,11111,null,22112,{"$f":"COUNTIF($L$7:$L$500,N32)","v":0},{"$f":"O32/$Q$4","v":0},{"$f":"IF(P32=0,0,(P32*((LOG(P32))/LOG(2))))","v":0},null,null,{"$f":"N32","v":22112},{"$f":"COUNTIF(L7:L39,T32)","v":0},{"$f":"U32/(W4-U25)","v":0},{"$f":"IF(V32=0,0,(V32*((LOG(V32))/LOG(2))))","v":0},null,{"$f":"N32","v":22112},{"$f":"COUNTIF(L40:L71,Y32)","v":0},{"$f":"Z32/(AB4-Z25)","v":0},{"$f":"IF(AA32=0,0,(AA32*((LOG(AA32))/LOG(2))))","v":0},null,{"$f":"N32","v":22112},{"$f":"COUNTIF(L72:L104,AD32)","v":0},{"$f":"AE32/(AG4-AE25)","v":0},{"$f":"IF(AF32=0,0,(AF32*((LOG(AF32))/LOG(2))))","v":0},null,{"$f":"N32","v":22112},{"$f":"COUNTIF(L105:L137,AI32)","v":0},{"$f":"AJ32/(AL4-AJ25)","v":0},{"$f":"IF(AK32=0,0,(AK32*((LOG(AK32))/LOG(2))))","v":0},null,{"$f":"N32","v":22112},{"$f":"COUNTIF(L138:L169,AN32)","v":0},{"$f":"AO32/(AQ4-AO25)","v":0},{"$f":"IF(AP32=0,0,(AP32*((LOG(AP32))/LOG(2))))","v":0},null,{"$f":"N32","v":22112},{"$f":"COUNTIF(L170:L202,AS32)","v":0},{"$f":"AT32/(AV4-AT25)","v":0},{"$f":"IF(AU32=0,0,(AU32*((LOG(AU32))/LOG(2))))","v":0}]
[12,3221,13,3225,13,3228,14,3235,13,3239,1,11111,null,22121,{"$f":"COUNTIF($L$7:$L$500,N33)","v":0},{"$f":"O33/$Q$4","v":0},{"$f":"IF(P33=0,0,(P33*((LOG(P33))/LOG(2))))","v":0},null,null,{"$f":"N33","v":22121},{"$f":"COUNTIF(L7:L39,T33)","v":0},{"$f":"U33/(W4-U25)","v":0},{"$f":"IF(V33=0,0,(V33*((LOG(V33))/LOG(2))))","v":0},null,{"$f":"N33","v":22121},{"$f":"COUNTIF(L40:L71,Y33)","v":0},{"$f":"Z33/(AB4-Z25)","v":0},{"$f":"IF(AA33=0,0,(AA33*((LOG(AA33))/LOG(2))))","v":0},null,{"$f":"N33","v":22121},{"$f":"COUNTIF(L72:L104,AD33)","v":0},{"$f":"AE33/(AG4-AE25)","v":0},{"$f":"IF(AF33=0,0,(AF33*((LOG(AF33))/LOG(2))))","v":0},null,{"$f":"N33","v":22121},{"$f":"COUNTIF(L105:L137,AI33)","v":0},{"$f":"AJ33/(AL4-AJ25)","v":0},{"$f":"IF(AK33=0,0,(AK33*((LOG(AK33))/LOG(2))))","v":0},null,{"$f":"N33","v":22121},{"$f":"COUNTIF(L138:L169,AN33)","v":0},{"$f":"AO33/(AQ4-AO25)","v":0},{"$f":"IF(AP33=0,0,(AP33*((LOG(AP33))/LOG(2))))","v":0},null,{"$f":"N33","v":22121},{"$f":"COUNTIF(L170:L202,AS33)","v":0},{"$f":"AT33/(AV4-AT25)","v":0},{"$f":"IF(AU33=0,0,(AU33*((LOG(AU33))/LOG(2))))","v":0}]
[12,3336,13,3341,13,3346,14,3350,13,3354,0,11111,null,22122,{"$f":"COUNTIF($L$7:$L$500,N34)","v":0},{"$f":"O34/$Q$4","v":0},{"$f":"IF(P34=0,0,(P34*((LOG(P34))/LOG(2))))","v":0},null,null,{"$f":"N34","v":22122},{"$f":"COUNTIF(L7:L39,T34)","v":0},{"$f":"U34/(W4-U25)","v":0},{"$f":"IF(V34=0,0,(V34*((LOG(V34))/LOG(2))))","v":0},null,{"$f":"N34","v":22122},{"$f":"COUNTIF(L40:L71,Y34)","v":0},{"$f":"Z34/(AB4-Z25)","v":0},{"$f":"IF(AA34=0,0,(AA34*((LOG(AA34))/LOG(2))))","v":0},null,{"$f":"N34","v":22122},{"$f":"COUNTIF(L72:L104,AD34)","v":0},{"$f":"AE34/(AG4-AE25)","v":0},{"$f":"IF(AF34=0,0,(AF34*((LOG(AF34))/LOG(2))))","v":0},null,{"$f":"N34","v":22122},{"$f":"COUNTIF(L105:L137,AI34)","v":0},{"$f":"AJ34/(AL4-AJ25)","v":0},{"$f":"IF(AK34=0,0,(AK34*((LOG(AK34))/LOG(2))))","v":0},null,{"$f":"N34","v":22122},{"$f":"COUNTIF(L138:L169,AN34)","v":0},{"$f":"AO34/(AQ4-AO25)","v":0},{"$f":"IF(AP34=0,0,(AP34*((LOG(AP34))/LOG(2))))","v":0},null,{"$f":"N34","v":22122},{"$f":"COUNTIF(L170:L202,AS34)","v":0},{"$f":"AT34/(AV4-AT25)","v":0},{"$f":"IF(AU34=0,0,(AU34*((LOG(AU34))/LOG(2))))","v":0}]
[12,3455,13,3459,13,3463,14,3467,13,3471,1,11111,null,22211,{"$f":"COUNTIF($L$7:$L$500,N35)","v":0},{"$f":"O35/$Q$4","v":0},{"$f":"IF(P35=0,0,(P35*((LOG(P35))/LOG(2))))","v":0},null,null,{"$f":"N35","v":22211},{"$f":"COUNTIF(L7:L39,T35)","v":0},{"$f":"U35/(W4-U25)","v":0},{"$f":"IF(V35=0,0,(V35*((LOG(V35))/LOG(2))))","v":0},null,{"$f":"N35","v":22211},{"$f":"COUNTIF(L40:L71,Y35)","v":0},{"$f":"Z35/(AB4-Z25)","v":0},{"$f":"IF(AA35=0,0,(AA35*((LOG(AA35))/LOG(2))))","v":0},null,{"$f":"N35","v":22211},{"$f":"COUNTIF(L72:L104,AD35)","v":0},{"$f":"AE35/(AG4-AE25)","v":0},{"$f":"IF(AF35=0,0,(AF35*((LOG(AF35))/LOG(2))))","v":0},null,{"$f":"N35","v":22211},{"$f":"COUNTIF(L105:L137,AI35)","v":0},{"$f":"AJ35/(AL4-AJ25)","v":0},{"$f":"IF(AK35=0,0,(AK35*((LOG(AK35))/LOG(2))))","v":0},null,{"$f":"N35","v":22211},{"$f":"COUNTIF(L138:L169,AN35)","v":0},{"$f":"AO35/(AQ4-AO25)","v":0},{"$f":"IF(AP35=0,0,(AP35*((LOG(AP35))/LOG(2))))","v":0},null,{"$f":"N35","v":22211},{"$f":"COUNTIF(L170:L202,AS35)","v":0},{"$f":"AT35/(AV4-AT25)","v":0},{"$f":"IF(AU35=0,0,(AU35*((LOG(AU35))/LOG(2))))","v":0}]
[12,3570,13,3575,13,3579,14,3584,13,3594,0,11111,null,22212,{"$f":"COUNTIF($L$7:$L$500,N36)","v":0},{"$f":"O36/$Q$4","v":0},{"$f":"IF(P36=0,0,(P36*((LOG(P36))/LOG(2))))","v":0},null,null,{"$f":"N36","v":22212},{"$f":"COUNTIF(L7:L39,T36)","v":0},{"$f":"U36/(W4-U25)","v":0},{"$f":"IF(V36=0,0,(V36*((LOG(V36))/LOG(2))))","v":0},null,{"$f":"N36","v":22212},{"$f":"COUNTIF(L40:L71,Y36)","v":0},{"$f":"Z36/(AB4-Z25)","v":0},{"$f":"IF(AA36=0,0,(AA36*((LOG(AA36))/LOG(2))))","v":0},null,{"$f":"N36","v":22212},{"$f":"COUNTIF(L72:L104,AD36)","v":0},{"$f":"AE36/(AG4-AE25)","v":0},{"$f":"IF(AF36=0,0,(AF36*((LOG(AF36))/LOG(2))))","v":0},null,{"$f":"N36","v":22212},{"$f":"COUNTIF(L105:L137,AI36)","v":0},{"$f":"AJ36/(AL4-AJ25)","v":0},{"$f":"IF(AK36=0,0,(AK36*((LOG(AK36))/LOG(2))))","v":0},null,{"$f":"N36","v":22212},{"$f":"COUNTIF(L138:L169,AN36)","v":0},{"$f":"AO36/(AQ4-AO25)","v":0},{"$f":"IF(AP36=0,0,(AP36*((LOG(AP36))/LOG(2))))","v":0},null,{"$f":"N36","v":22212},{"$f":"COUNTIF(L170:L202,AS36)","v":0},{"$f":"AT36/(AV4-AT25)","v":0},{"$f":"IF(AU36=0,0,(AU36*((LOG(AU36))/LOG(2))))","v":0}]
[12,3693,13,3697,13,3701,14,3708,13,3713,0,11111,null,22221,{"$f":"COUNTIF($L$7:$L$500,N37)","v":0},{"$f":"O37/$Q$4","v":0},{"$f":"IF(P37=0,0,(P37*((LOG(P37))/LOG(2))))","v":0},null,null,{"$f":"N37","v":22221},{"$f":"COUNTIF(L7:L39,T37)","v":0},{"$f":"U37/(W4-U25)","v":0},{"$f":"IF(V37=0,0,(V37*((LOG(V37))/LOG(2))))","v":0},null,{"$f":"N37","v":22221},{"$f":"COUNTIF(L40:L71,Y37)","v":0},{"$f":"Z37/(AB4-Z25)","v":0},{"$f":"IF(AA37=0,0,(AA37*((LOG(AA37))/LOG(2))))","v":0},null,{"$f":"N37","v":22221},{"$f":"COUNTIF(L72:L104,AD37)","v":0},{"$f":"AE37/(AG4-AE25)","v":0},{"$f":"IF(AF37=0,0,(AF37*((LOG(AF37))/LOG(2))))","v":0},null,{"$f":"N37","v":22221},{"$f":"COUNTIF(L105:L137,AI37)","v":0},{"$f":"AJ37/(AL4-AJ25)","v":0},{"$f":"IF(AK37=0,0,(AK37*((LOG(AK37))/LOG(2))))","v":0},null,{"$f":"N37","v":22221},{"$f":"COUNTIF(L138:L169,AN37)","v":0},{"$f":"AO37/(AQ4-AO25)","v":0},{"$f":"IF(AP37=0,0,(AP37*((LOG(AP37))/LOG(2))))","v":0},null,{"$f":"N37","v":22221},{"$f":"COUNTIF(L170:L202,AS37)","v":0},{"$f":"AT37/(AV4-AT25)","v":0},{"$f":"IF(AU37=0,0,(AU37*((LOG(AU37))/LOG(2))))","v":0}]
[12,3812,13,3816,13,3821,14,3826,13,3834,0,11111,null,22222,{"$f":"COUNTIF($L$7:$L$500,N38)","v":0},{"$f":"O38/$Q$4","v":0},{"$f":"IF(P38=0,0,(P38*((LOG(P38))/LOG(2))))","v":0},null,null,{"$f":"N38","v":22222},{"$f":"COUNTIF(L7:L39,T38)","v":0},{"$f":"U38/(W4-U25)","v":0},{"$f":"IF(V38=0,0,(V38*((LOG(V38))/LOG(2))))","v":0},null,{"$f":"N38","v":22222},{"$f":"COUNTIF(L40:L71,Y38)","v":0},{"$f":"Z38/(AB4-Z25)","v":0},{"$f":"IF(AA38=0,0,(AA38*((LOG(AA38))/LOG(2))))","v":0},null,{"$f":"N38","v":22222},{"$f":"COUNTIF(L72:L104,AD38)","v":0},{"$f":"AE38/(AG4-AE25)","v":0},{"$f":"IF(AF38=0,0,(AF38*((LOG(AF38))/LOG(2))))","v":0},null,{"$f":"N38","v":22222},{"$f":"COUNTIF(L105:L137,AI38)","v":0},{"$f":"AJ38/(AL4-AJ25)","v":0},{"$f":"IF(AK38=0,0,(AK38*((LOG(AK38))/LOG(2))))","v":0},null,{"$f":"N38","v":22222},{"$f":"COUNTIF(L138:L169,AN38)","v":0},{"$f":"AO38/(AQ4-AO25)","v":0},{"$f":"IF(AP38=0,0,(AP38*((LOG(AP38))/LOG(2))))","v":0},null,{"$f":"N38","v":22222},{"$f":"COUNTIF(L170:L202,AS38)","v":0},{"$f":"AT38/(AV4-AT25)","v":0},{"$f":"IF(AU38=0,0,(AU38*((LOG(AU38))/LOG(2))))","v":0}]
[12,3939,13,3942,13,3947,14,3951,13,3956,0,11111,null,null,null,{"$f":"SUM(P7:P38)","v":1},{"$f":"-SUM(Q7:Q38)","v":4.6192440129626075E-2},null,null,null,null,{"$f":"SUM(V7:V38)","v":1},{"$f":"-SUM(W7:W38)","v":0},null,null,null,{"$f":"SUM(AA7:AA38)","v":1},{"$f":"-SUM(AB7:AB38)","v":0.20062232431271465},null,null,null,{"$f":"SUM(AF7:AF38)","v":1},{"$f":"-SUM(AG7:AG38)","v":0},null,null,null,{"$f":"SUM(AK7:AK38)","v":1},{"$f":"-SUM(AL7:AL38)","v":0},null,null,null,{"$f":"SUM(AP7:AP38)","v":1},{"$f":"-SUM(AQ7:AQ38)","v":0},null,null,null,{"$f":"SUM(AU7:AU38)","v":1},{"$f":"-SUM(AV7:AV38)","v":0}]
[12,4060,13,4064,13,4069,14,4073,13,4077,0,11111,null,null,null,"U=",{"$f":"Q39/(LOG(Q4)/LOG(2))","v":6.0662114611398452E-3},null,null,null,null,"U1=",{"$f":"W39/(LOG(W4)/LOG(2))","v":0},null,null,null,"U2=",{"$f":"AB39/(LOG(AB4)/LOG(2))","v":4.0124464862542931E-2},null,null,null,"U3=",{"$f":"AG39/(LOG(AG4)/LOG(2))","v":0},null,null,null,"U4=",{"$f":"AL39/(LOG(AL4)/LOG(2))","v":0},null,null,null,"U5=",{"$f":"AQ39/(LOG(AQ4)/LOG(2))","v":0},null,null,null,"U6=",{"$f":"AV39/(LOG(AV4)/LOG(2))","v":0}]
[12,4183,13,4188,13,4191,14,4195,13,4200,1,11111]
[12,4319,13,4323,13,4328,14,4332,13,4341,0,11111]
[12,4455,13,4459,13,4463,14,4468,13,4473,1,11111,null,"Total Target Seq"]
[12,4572,13,4576,13,4580,14,4584,13,4589,0,11111,null,{"$f":"COUNTIF(L7:L202,G3)","v":0},null,33,32,33,33,32,33]
[12,4690,13,4694,13,4698,14,4702,13,4708,0,11111,null,null,null,"% of reinforcement given in 6 equal intervals based on number of trials "]
[12,4808,13,4813,13,4816,14,4820,13,4824,1,11111,null,null,null,"%_1","%_2","%_3","%_4","%_5","%_6"]
[12,4919,13,4923,13,4927,14,4931,13,4935,0,11111,null,null,"target sequence",{"$f":"$G$3","v":21121},{"$f":"$G$3","v":21121},{"$f":"$G$3","v":21121},{"$f":"$G$3","v":21121},{"$f":"$G$3","v":21121},{"$f":"$G$3","v":21121}]
[12,5035,13,5039,13,5043,14,5047,13,5051,0,11111,null,null,"total reinforcement",{"$f":"U25","v":0},{"$f":"Z25","v":0},{"$f":"AE25","v":0},{"$f":"AJ25","v":0},{"$f":"AO25","v":0},{"$f":"AT25","v":0}]
[12,5151,13,5155,13,5159,14,5164,13,5169,0,11111,null,null,"% target"]
[12,5268,13,5271,13,5275,14,5279,13,5283,0,11111,null,null,"CCRF"]
[12,5390,13,5394,13,5398,14,5404,13,5413,1,11111,null,null,"% CCRf"]
[12,5509,13,5513,13,5517,14,5521,13,5525,0,11111,null,null,"average response rate",{"$f":"J39/P44","v":119.87878787878788},{"$f":"(J71-J39)/Q44","v":122.75},{"$f":"(J104-J71)/R44","v":121.66666666666667},{"$f":"(J137-J104)/S44","v":123.93939393939394},{"$f":"(J169-J137)/T44","v":121.4375},{"$f":"(J202-J169)/U44","v":123.45454545454545}]
[12,5632,13,5641,13,5646,14,5656,13,5675,0,11111]
[12,5781,13,5785,13,5790,23,5809,24,5829,0,11122]
[12,5931,13,5935,13,5939,14,5943,13,5947,1,11111]
[12,6049,13,6054,13,6058,14,6062,13,6067,1,11111]
[12,6170,13,6175,13,6179,14,6184,13,6192,0,11111]
[12,6301,13,6306,13,6310,14,6314,13,6319,0,11111]
[12,6412,13,6424,13,6429,14,6433,13,6437,0,11111]
[12,6540,13,6544,13,6549,14,6553,13,6559,0,11111]
[12,6664,13,6668,13,6672,14,6677,13,6683,1,11111]
[12,6781,13,6785,13,6789,14,6799,13,6803,0,11111]
[12,6904,13,6910,13,6915,14,6920,13,6925,0,11111]
[12,7044,13,7047,13,7052,14,7056,13,7060,0,11111]
[12,7159,13,7163,13,7167,14,7172,13,7177,0,11111]
[12,7281,13,7285,13,7290,14,7294,13,7304,0,11111]
[12,7403,13,7407,13,7411,14,7416,13,7420,1,11111]
[12,7514,13,7518,13,7523,14,7527,13,7539,0,11111]
[12,7640,13,7644,13,7648,14,7652,13,7656,0,11111]
[12,7755,13,7759,13,7762,14,7766,13,7771,1,11111]
[12,7866,13,7871,13,7875,14,7879,13,7884,0,11111]
[12,7984,13,7991,13,7995,14,8000,13,8006,0,11111]
[12,8105,13,8109,13,8113,14,8117,13,8122,0,11111]
[12,8224,13,8229,13,8233,14,8238,13,8243,1,11111]
[12,8341,13,8346,13,8350,14,8355,13,8361,0,11111]
[12,8467,13,8471,13,8475,14,8479,13,8483,0,11111]
[12,8587,13,8592,13,8596,14,8601,13,8605,0,11111]
[12,8710,13,8714,13,8718,14,8731,13,8736,0,11111]
[12,8835,13,8839,13,8843,14,8847,13,8852,0,11111]
[12,8955,13,8959,13,8963,14,8967,13,8973,0,11111]
[12,9073,13,9077,13,9081,14,9088,13,9092,0,11111]
[12,9198,13,9202,13,9207,14,9211,13,9216,1,11111]
[12,9316,13,9320,13,9325,14,9329,13,9334,0,11111]
[12,9442,13,9446,13,9450,14,9455,13,9460,0,11111]
[12,9567,13,9571,13,9575,14,9579,13,9584,0,11111]
[12,9683,13,9687,13,9691,14,9694,13,9698,0,11111]
[12,9814,13,9820,13,9834,14,9841,13,9861,0,11111]
[12,9961,13,9964,13,9972,14,9976,13,9980,0,11111]
[12,10079,13,10083,13,10087,14,10091,13,10095,0,11111]
[12,10196,13,10200,13,10204,14,10208,13,10212,1,11111]
[12,10310,13,10314,13,10318,14,10323,13,10328,1,11111]
[12,10448,13,10452,13,10457,14,10462,13,10467,0,11111]
[12,10567,13,10571,13,10575,14,10579,13,10583,0,11111]
[12,10687,13,10691,13,10695,14,10700,13,10705,0,11111]
[12,10804,13,10809,13,10813,14,10817,13,10822,0,11111]
[12,10931,13,10936,13,10941,14,10951,13,10955,0,11111]
[12,11056,13,11060,13,11064,14,11068,13,11072,1,11111]
[12,11171,13,11175,13,11179,14,11184,13,11188,0,11111]
[12,11287,13,11292,13,11296,14,11300,13,11305,0,11111]
[12,11405,13,11410,13,11414,14,11419,13,11424,0,11111]
[12,11530,13,11534,13,11538,14,11543,13,11548,0,11111]
[12,11646,13,11650,13,11654,14,11659,13,11663,0,11111]
[12,11767,13,11771,13,11775,14,11779,13,11783,0,11111]
[12,11883,13,11887,13,11891,14,11895,13,11899,0,11111]
[12,11998,13,12002,13,12006,14,12010,13,12015,0,11111]
[12,12117,13,12132,13,12137,14,12142,13,12147,0,11111]
[12,12247,13,12251,13,12255,14,12260,13,12264,1,11111]
[12,12361,13,12366,13,12370,14,12377,13,12381,0,11111]
[12,12490,13,12494,13,12498,14,12505,13,12511,0,11111]
[12,12614,13,12618,13,12622,14,12628,13,12635,0,11111]
[12,12757,13,12761,13,12767,14,12781,13,12810,0,11111]
[12,12910,13,12914,13,12919,14,12923,13,12927,0,11111]
[12,13027,13,13032,13,13035,14,13040,13,13044,0,11111]
[12,13143,13,13147,13,13151,14,13156,13,13160,0,11111]
[12,13257,13,13261,13,13265,14,13270,13,13274,0,11111]
[12,13376,13,13380,13,13386,14,13396,13,13411,0,11111]
[12,13514,13,13517,13,13521,14,13525,13,13530,0,11111]
[12,13630,13,13634,13,13638,14,13642,13,13646,1,11111]
[12,13753,13,13758,13,13763,14,13767,13,13776,0,11111]
[12,13880,13,13897,13,13905,14,13909,13,13914,0,11111]
[12,14017,13,14021,13,14024,14,14030,13,14035,0,11111]
[12,14135,13,14139,13,14143,14,14149,13,14153,0,11111]
[12,14257,13,14261,13,14265,14,14269,13,14274,0,11111]
[12,14385,13,14389,13,14397,14,14402,13,14407,1,11111]
[12,14507,13,14511,13,14515,14,14525,13,14530,0,11111]
[12,14642,13,14647,13,14651,14,14655,13,14660,0,11111]
[12,14758,13,14762,13,14767,14,14771,13,14776,0,11111]
[12,14877,13,14881,13,14885,14,14889,13,14899,0,11111]
[12,14999,13,15002,13,15006,14,15011,13,15015,0,11111]
[12,15116,13,15120,13,15124,14,15128,13,15132,1,11111]
[12,15239,13,15243,13,15247,14,15252,13,15256,0,11111]
[12,15358,13,15362,13,15366,14,15370,13,15374,0,11111]
[12,15473,13,15477,13,15481,14,15485,13,15489,0,11111]
[12,15590,13,15597,13,15601,14,15606,13,15614,0,11111]
[12,15715,13,15719,13,15723,14,15727,13,15731,0,11111]
[12,15835,13,15839,13,15843,14,15853,13,15858,0,11111]
[12,15973,13,15977,13,15981,14,15985,13,15989,0,11111]
[12,16092,13,16096,13,16100,14,16105,13,16109,1,11111]
[12,16204,13,16209,13,16214,14,16218,13,16223,0,11111]
[12,16325,13,16330,13,16334,14,16338,13,16342,0,11111]
[12,16439,13,16443,13,16447,14,16451,13,16455,0,11111]
[12,16555,13,16558,13,16562,14,16566,13,16574,0,11111]
[12,16676,13,16680,13,16684,14,16688,13,16693,0,11111]
[12,16789,13,16794,13,16797,14,16801,13,16805,0,11111]
[12,16904,13,16910,13,16914,14,16918,13,16925,0,11111]
[12,17025,13,17030,13,17037,14,17042,13,17047,1,11111]
[12,17150,13,17155,13,17159,14,17170,13,17175,1,11111]
[12,17284,13,17295,13,17299,14,17304,13,17308,0,11111]
[12,17409,13,17413,13,17417,14,17421,13,17425,0,11111]
[12,17527,13,17532,13,17535,14,17542,13,17547,0,11111]
[12,17654,13,17658,13,17662,14,17666,13,17672,0,11111]
[12,17775,13,17779,13,17787,14,17794,13,17799,1,11111]
[12,17903,13,17907,13,17915,14,17920,13,17927,1,11111]
[12,18021,13,18030,13,18035,14,18040,13,18045,0,11111]
[12,18144,13,18148,13,18152,14,18156,13,18171,0,11111]
[12,18270,13,18274,13,18278,14,18281,13,18285,1,11111]
[12,18398,13,18404,13,18409,14,18418,13,18431,0,11111]
[12,18531,13,18539,13,18544,14,18548,13,18552,0,11111]
[12,18652,13,18656,13,18660,14,18664,13,18674,0,11111]
[12,18772,13,18777,13,18781,14,18785,13,18789,1,11111]
[12,18884,13,18888,13,18895,14,18899,13,18904,0,11111]
[12,19016,13,19028,13,19032,14,19036,13,19040,0,11111]
[12,19143,13,19147,13,19151,14,19156,13,19160,0,11111]
[12,19260,13,19264,13,19268,14,19271,13,19275,0,11111]
[12,19376,13,19380,13,19384,14,19387,13,19393,0,11111]
[12,19493,13,19497,13,19501,14,19505,13,19510,1,11111]
[12,19606,13,19611,13,19615,14,19619,13,19624,0,11111]
[12,19724,13,19727,13,19731,14,19735,13,19740,0,11111]
[12,19850,13,19860,13,19864,14,19869,13,19875,0,11111]
[12,19986,13,19994,13,19998,14,20003,13,20011,0,11111]
[12,20157,13,20162,13,20166,14,20170,13,20175,0,11111]
[12,20276,13,20280,13,20283,14,20288,13,20292,0,11111]
[12,20385,13,20390,13,20395,14,20399,13,20403,0,11111]
[12,20508,13,20512,13,20517,14,20521,13,20541,1,11111]
[12,20650,13,20655,13,20659,14,20664,13,20672,0,11111]
[12,20771,13,20776,13,20781,14,20786,13,20792,0,11111]
[12,20892,13,20898,13,20902,14,20907,13,20911,0,11111]
[12,21012,13,21016,13,21020,14,21025,13,21033,0,11111]
[12,21137,13,21142,13,21146,14,21150,13,21155,0,11111]
[12,21254,13,21259,13,21263,14,21267,13,21272,0,11111]
[12,21372,13,21376,13,21380,14,21385,13,21389,0,11111]
[12,21492,13,21496,13,21501,14,21505,13,21509,0,11111]
[12,21617,13,21621,13,21626,14,21630,13,21636,0,11111]
[12,21736,13,21739,13,21744,14,21749,13,21754,0,11111]
[12,21853,13,21857,13,21861,14,21865,13,21869,0,11111]
[12,21972,13,21976,13,21980,14,21985,13,21989,1,11111]
[12,22085,13,22089,13,22093,14,22097,13,22101,0,11111]
[12,22201,13,22205,13,22209,14,22213,13,22217,0,11111]
[12,22323,13,22327,13,22331,14,22336,13,22340,0,11111]
[12,22443,13,22447,13,22451,14,22455,13,22460,0,11111]
[12,22569,13,22573,13,22577,14,22586,13,22591,0,11111]
[12,22694,13,22702,13,22706,14,22710,13,22715,0,11111]
[12,22813,13,22817,13,22821,14,22824,13,22829,0,11111]
[12,22930,13,22933,13,22938,14,22942,13,22946,0,11111]
[12,23061,13,23065,13,23069,14,23074,13,23080,0,11111]
[12,23202,13,23206,13,23211,14,23215,13,23222,0,11111]
[12,23322,13,23326,13,23330,14,23334,13,23339,0,11111]
[12,23441,13,23445,13,23449,14,23454,13,23462,1,11111]
[12,23568,13,23574,13,23578,14,23582,13,23586,0,11111]
[12,23690,13,23693,13,23697,14,23701,13,23705,0,11111]
[12,23811,13,23816,13,23820,14,23824,13,23830,0,11111]
[12,23929,13,23933,13,23942,14,23945,13,23949,1,11111]

{"sheet":"!MC19940.010","index":21,"n_rows":200,"n_cols":48,"rows_kept":200,"cut":false,"hidden":false,"merged":[[4,39,4,42],[5,39,5,40],[4,44,4,47],[5,44,5,45],[4,24,4,27],[5,24,5,25],[4,29,4,32],[5,29,5,30],[4,34,4,37],[5,34,5,35],[1,1,1,2],[5,13,5,14],[42,13,42,14],[43,13,43,14],[4,19,4,22],[5,19,5,20]]}
["Report for:!MC19940.010"]
["Date:","<date>"]
["Hen:","<hen>",null,null,null,"Correct Sequence",{"$f":"Start!J2","v":21121},null,null,null,null,null,null,null,null,"Total Sequences in Data",{"$f":"4994-COUNTBLANK(L7:L5000)","v":194},null,null,null,null,"Total Sequences in Block Data",{"$f":"COUNTA(L7:L38)","v":32},null,null,null,"Total Sequences in Block Data",{"$f":"COUNTA(L39:L71)","v":33},null,null,null,"Total Sequences in Block Data",{"$f":"COUNTA(L72:L103)","v":32},null,null,null,"Total Sequences in Block Data",{"$f":"COUNTA(L104:L135)","v":32},null,null,null,"Total Sequences in Block Data",{"$f":"COUNTA(L136:L168)","v":33},null,null,null,"Total Sequences in Block Data",{"$f":"COUNTA(L169:L200)","v":32}]
[null,null,null,null,null,null,null,null,null,null,null,null,null,null,null,"Total Sequences in Summary",{"$f":"SUM(O7:O38)","v":194},null,null,null,null,"Total Sequences in Block Summary",{"$f":"SUM(U7:U38)","v":32},null,null,null,"Total Sequences in Block Summary",{"$f":"SUM(Z7:Z38)","v":33},null,null,null,"Total Sequences in Block Summary",{"$f":"SUM(AE7:AE38)","v":32},null,null,null,"Total Sequences in Block Summary",{"$f":"SUM(AJ7:AJ38)","v":32},null,null,null,"Total Sequences in Block Summary",{"$f":"SUM(AO7:AO38)","v":33},null,null,null,"Total Sequences in Block Summary",{"$f":"SUM(AT7:AT38)","v":32}]
[null,null,null,null,null,null,null,null,null,null,null,null,null,null,null,null,null,null,null,"Block 1",null,null,null,null,"Block 2",null,null,null,null,"Block 3",null,null,null,null,"Block 4",null,null,null,null,"Block 5",null,null,null,null,"Block 6"]
["Sequence\nComponent\n1","Time\n1","Sequence\nComponent\n2","Time\n2","Sequence\nComponent\n3","Time\n3","Sequence\nComponent\n4","Time\n4","Sequence\nComponent\n5","Time\n5","Correct?\n0=No 1=Yes","Sequence",null,"Frequency",null,"Relative Frequency","Variability",null,null,"Frequency",null,"Relative Frequency","Variability",null,"Frequency",null,"Relative Frequency","Variability",null,"Frequency",null,"Relative Frequency","Variability",null,"Frequency",null,"Relative Frequency","Variability",null,"Frequency",null,"Relative Frequency","Variability",null,"Frequency",null,"Relative Frequency","Variability"]
[12,60,13,64,13,70,14,75,13,79,0,11111,null,11111,{"$f":"COUNTIF($L$7:$L$500,N7)","v":191},{"$f":"O7/$Q$4","v":0.98453608247422686},{"$f":"IF(P7=0,0,(P7*((LOG(P7))/LOG(2))))","v":-2.213632321089367E-2},null,null,{"$f":"N7","v":11111},{"$f":"COUNTIF(L7:L38,T7)","v":30},{"$f":"U7/(W4-U25)","v":0.9375},{"$f":"IF(V7=0,0,(V7*((LOG(V7))/LOG(2))))","v":-8.729006661701387E-2},null,{"$f":"N7","v":11111},{"$f":"COUNTIF(L39:L71,Y7)","v":33},{"$f":"Z7/(AB4-Z25)","v":1},{"$f":"IF(AA7=0,0,(AA7*((LOG(AA7))/LOG(2))))","v":0},null,{"$f":"N7","v":11111},{"$f":"COUNTIF(L72:L103,AD7)","v":32},{"$f":"AE7/(AG4-AE25)","v":1},{"$f":"IF(AF7=0,0,(AF7*((LOG(AF7))/LOG(2))))","v":0},null,{"$f":"N7","v":11111},{"$f":"COUNTIF(L104:L135,AI7)","v":32},{"$f":"AJ7/(AL4-AJ25)","v":1},{"$f":"IF(AK7=0,0,(AK7*((LOG(AK7))/LOG(2))))","v":0},null,{"$f":"N7","v":11111},{"$f":"COUNTIF(L136:L168,AN7)","v":33},{"$f":"AO7/(AQ4-AO25)","v":1},{"$f":"IF(AP7=0,0,(AP7*((LOG(AP7))/LOG(2))))","v":0},null,{"$f":"N7","v":11111},{"$f":"COUNTIF(L169:L200,AS7)","v":31},{"$f":"AT7/(AV4-AT25)","v":0.96875},{"$f":"IF(AU7=0,0,(AU7*((LOG(AU7))/LOG(2))))","v":-4.4372324312714644E-2}]
[12,219,13,224,13,229,14,234,13,239,0,11111,null,11112,{"$f":"COUNTIF($L$7:$L$500,N8)","v":0},{"$f":"O8/$Q$4","v":0},{"$f":"IF(P8=0,0,(P8*((LOG(P8))/LOG(2))))","v":0},null,null,{"$f":"N8","v":11112},{"$f":"COUNTIF(L7:L38,T8)","v":0},{"$f":"U8/(W4-U25)","v":0},{"$f":"IF(V8=0,0,(V8*((LOG(V8))/LOG(2))))","v":0},null,{"$f":"N8","v":11112},{"$f":"COUNTIF(L39:L71,Y8)","v":0},{"$f":"Z8/(AB4-Z25)","v":0},{"$f":"IF(AA8=0,0,(AA8*((LOG(AA8))/LOG(2))))","v":0},null,{"$f":"N8","v":11112},{"$f":"COUNTIF(L72:L103,AD8)","v":0},{"$f":"AE8/(AG4-AE25)","v":0},{"$f":"IF(AF8=0,0,(AF8*((LOG(AF8))/LOG(2))))","v":0},null,{"$f":"N8","v":11112},{"$f":"COUNTIF(L104:L135,AI8)","v":0},{"$f":"AJ8/(AL4-AJ25)","v":0},{"$f":"IF(AK8=0,0,(AK8*((LOG(AK8))/LOG(2))))","v":0},null,{"$f":"N8","v":11112},{"$f":"COUNTIF(L136:L168,AN8)","v":0},{"$f":"AO8/(AQ4-AO25)","v":0},{"$f":"IF(AP8=0,0,(AP8*((LOG(AP8))/LOG(2))))","v":0},null,{"$f":"N8","v":11112},{"$f":"COUNTIF(L169:L200,AS8)","v":0},{"$f":"AT8/(AV4-AT25)","v":0},{"$f":"IF(AU8=0,0,(AU8*((LOG(AU8))/LOG(2))))","v":0}]
[12,344,13,348,13,352,14,357,13,363,1,11111,null,11121,{"$f":"COUNTIF($L$7:$L$500,N9)","v":0},{"$f":"O9/$Q$4","v":0},{"$f":"IF(P9=0,0,(P9*((LOG(P9))/LOG(2))))","v":0},null,null,{"$f":"N9","v":11121},{"$f":"COUNTIF(L7:L38,T9)","v":0},{"$f":"U9/(W4-U25)","v":0},{"$f":"IF(V9=0,0,(V9*((LOG(V9))/LOG(2))))","v":0},null,{"$f":"N9","v":11121},{"$f":"COUNTIF(L39:L71,Y9)","v":0},{"$f":"Z9/(AB4-Z25)","v":0},{"$f":"IF(AA9=0,0,(AA9*((LOG(AA9))/LOG(2))))","v":0},null,{"$f":"N9","v":11121},{"$f":"COUNTIF(L72:L103,AD9)","v":0},{"$f":"AE9/(AG4-AE25)","v":0},{"$f":"IF(AF9=0,0,(AF9*((LOG(AF9))/LOG(2))))","v":0},null,{"$f":"N9","v":11121},{"$f":"COUNTIF(L104:L135,AI9)","v":0},{"$f":"AJ9/(AL4-AJ25)","v":0},{"$f":"IF(AK9=0,0,(AK9*((LOG(AK9))/LOG(2))))","v":0},null,{"$f":"N9","v":11121},{"$f":"COUNTIF(L136:L168,AN9)","v":0},{"$f":"AO9/(AQ4-AO25)","v":0},{"$f":"IF(AP9=0,0,(AP9*((LOG(AP9))/LOG(2))))","v":0},null,{"$f":"N9","v":11121},{"$f":"COUNTIF(L169:L200,AS9)","v":0},{"$f":"AT9/(AV4-AT25)","v":0},{"$f":"IF(AU9=0,0,(AU9*((LOG(AU9))/LOG(2))))","v":0}]
[12,569,13,583,24,610,23,620,24,635,0,11222,null,11122,{"$f":"COUNTIF($L$7:$L$500,N10)","v":0},{"$f":"O10/$Q$4","v":0},{"$f":"IF(P10=0,0,(P10*((LOG(P10))/LOG(2))))","v":0},null,null,{"$f":"N10","v":11122},{"$f":"COUNTIF(L7:L38,T10)","v":0},{"$f":"U10/(W4-U25)","v":0},{"$f":"IF(V10=0,0,(V10*((LOG(V10))/LOG(2))))","v":0},null,{"$f":"N10","v":11122},{"$f":"COUNTIF(L39:L71,Y10)","v":0},{"$f":"Z10/(AB4-Z25)","v":0},{"$f":"IF(AA10=0,0,(AA10*((LOG(AA10))/LOG(2))))","v":0},null,{"$f":"N10","v":11122},{"$f":"COUNTIF(L72:L103,AD10)","v":0},{"$f":"AE10/(AG4-AE25)","v":0},{"$f":"IF(AF10=0,0,(AF10*((LOG(AF10))/LOG(2))))","v":0},null,{"$f":"N10","v":11122},{"$f":"COUNTIF(L104:L135,AI10)","v":0},{"$f":"AJ10/(AL4-AJ25)","v":0},{"$f":"IF(AK10=0,0,(AK10*((LOG(AK10))/LOG(2))))","v":0},null,{"$f":"N10","v":11122},{"$f":"COUNTIF(L136:L168,AN10)","v":0},{"$f":"AO10/(AQ4-AO25)","v":0},{"$f":"IF(AP10=0,0,(AP10*((LOG(AP10))/LOG(2))))","v":0},null,{"$f":"N10","v":11122},{"$f":"COUNTIF(L169:L200,AS10)","v":0},{"$f":"AT10/(AV4-AT25)","v":0},{"$f":"IF(AU10=0,0,(AU10*((LOG(AU10))/LOG(2))))","v":0}]
[12,745,13,749,13,754,14,759,13,765,0,11111,null,11211,{"$f":"COUNTIF($L$7:$L$500,N11)","v":0},{"$f":"O11/$Q$4","v":0},{"$f":"IF(P11=0,0,(P11*((LOG(P11))/LOG(2))))","v":0},null,null,{"$f":"N11","v":11211},{"$f":"COUNTIF(L7:L38,T11)","v":0},{"$f":"U11/(W4-U25)","v":0},{"$f":"IF(V11=0,0,(V11*((LOG(V11))/LOG(2))))","v":0},null,{"$f":"N11","v":11211},{"$f":"COUNTIF(L39:L71,Y11)","v":0},{"$f":"Z11/(AB4-Z25)","v":0},{"$f":"IF(AA11=0,0,(AA11*((LOG(AA11))/LOG(2))))","v":0},null,{"$f":"N11","v":11211},{"$f":"COUNTIF(L72:L103,AD11)","v":0},{"$f":"AE11/(AG4-AE25)","v":0},{"$f":"IF(AF11=0,0,(AF11*((LOG(AF11))/LOG(2))))","v":0},null,{"$f":"N11","v":11211},{"$f":"COUNTIF(L104:L135,AI11)","v":0},{"$f":"AJ11/(AL4-AJ25)","v":0},{"$f":"IF(AK11=0,0,(AK11*((LOG(AK11))/LOG(2))))","v":0},null,{"$f":"N11","v":11211},{"$f":"COUNTIF(L136:L168,AN11)","v":0},{"$f":"AO11/(AQ4-AO25)","v":0},{"$f":"IF(AP11=0,0,(AP11*((LOG(AP11))/LOG(2))))","v":0},null,{"$f":"N11","v":11211},{"$f":"COUNTIF(L169:L200,AS11)","v":0},{"$f":"AT11/(AV4-AT25)","v":0},{"$f":"IF(AU11=0,0,(AU11*((LOG(AU11))/LOG(2))))","v":0}]
[12,874,13,878,13,882,14,886,13,891,0,11111,null,11212,{"$f":"COUNTIF($L$7:$L$500,N12)","v":0},{"$f":"O12/$Q$4","v":0},{"$f":"IF(P12=0,0,(P12*((LOG(P12))/LOG(2))))","v":0},null,null,{"$f":"N12","v":11212},{"$f":"COUNTIF(L7:L38,T12)","v":0},{"$f":"U12/(W4-U25)","v":0},{"$f":"IF(V12=0,0,(V12*((LOG(V12))/LOG(2))))","v":0},null,{"$f":"N12","v":11212},{"$f":"COUNTIF(L39:L71,Y12)","v":0},{"$f":"Z12/(AB4-Z25)","v":0},{"$f":"IF(AA12=0,0,(AA12*((LOG(AA12))/LOG(2))))","v":0},null,{"$f":"N12","v":11212},{"$f":"COUNTIF(L72:L103,AD12)","v":0},{"$f":"AE12/(AG4-AE25)","v":0},{"$f":"IF(AF12=0,0,(AF12*((LOG(AF12))/LOG(2))))","v":0},null,{"$f":"N12","v":11212},{"$f":"COUNTIF(L104:L135,AI12)","v":0},{"$f":"AJ12/(AL4-AJ25)","v":0},{"$f":"IF(AK12=0,0,(AK12*((LOG(AK12))/LOG(2))))","v":0},null,{"$f":"N12","v":11212},{"$f":"COUNTIF(L136:L168,AN12)","v":0},{"$f":"AO12/(AQ4-AO25)","v":0},{"$f":"IF(AP12=0,0,(AP12*((LOG(AP12))/LOG(2))))","v":0},null,{"$f":"N12","v":11212},{"$f":"COUNTIF(L169:L200,AS12)","v":0},{"$f":"AT12/(AV4-AT25)","v":0},{"$f":"IF(AU12=0,0,(AU12*((LOG(AU12))/LOG(2))))","v":0}]
[12,991,13,995,13,1000,14,1005,13,1010,0,11111,null,11221,{"$f":"COUNTIF($L$7:$L$500,N13)","v":0},{"$f":"O13/$Q$4","v":0},{"$f":"IF(P13=0,0,(P13*((LOG(P13))/LOG(2))))","v":0},null,null,{"$f":"N13","v":11221},{"$f":"COUNTIF(L7:L38,T13)","v":0},{"$f":"U13/(W4-U25)","v":0},{"$f":"IF(V13=0,0,(V13*((LOG(V13))/LOG(2))))","v":0},null,{"$f":"N13","v":11221},{"$f":"COUNTIF(L39:L71,Y13)","v":0},{"$f":"Z13/(AB4-Z25)","v":0},{"$f":"IF(AA13=0,0,(AA13*((LOG(AA13))/LOG(2))))","v":0},null,{"$f":"N13","v":11221},{"$f":"COUNTIF(L72:L103,AD13)","v":0},{"$f":"AE13/(AG4-AE25)","v":0},{"$f":"IF(AF13=0,0,(AF13*((LOG(AF13))/LOG(2))))","v":0},null,{"$f":"N13","v":11221},{"$f":"COUNTIF(L104:L135,AI13)","v":0},{"$f":"AJ13/(AL4-AJ25)","v":0},{"$f":"IF(AK13=0,0,(AK13*((LOG(AK13))/LOG(2))))","v":0},null,{"$f":"N13","v":11221},{"$f":"COUNTIF(L136:L168,AN13)","v":0},{"$f":"AO13/(AQ4-AO25)","v":0},{"$f":"IF(AP13=0,0,(AP13*((LOG(AP13))/LOG(2))))","v":0},null,{"$f":"N13","v":11221},{"$f":"COUNTIF(L169:L200,AS13)","v":0},{"$f":"AT13/(AV4-AT25)","v":0},{"$f":"IF(AU13=0,0,(AU13*((LOG(AU13))/LOG(2))))","v":0}]
[12,1114,13,1119,13,1124,14,1128,13,1133,0,11111,null,11222,{"$f":"COUNTIF($L$7:$L$500,N14)","v":1},{"$f":"O14/$Q$4","v":5.1546391752577319E-3},{"$f":"IF(P14=0,0,(P14*((LOG(P14))/LOG(2))))","v":-3.9174808464882103E-2},null,null,{"$f":"N14","v":11222},{"$f":"COUNTIF(L7:L38,T14)","v":1},{"$f":"U14/(W4-U25)","v":3.125E-2},{"$f":"IF(V14=0,0,(V14*((LOG(V14))/LOG(2))))","v":-0.15625},null,{"$f":"N14","v":11222},{"$f":"COUNTIF(L39:L71,Y14)","v":0},{"$f":"Z14/(AB4-Z25)","v":0},{"$f":"IF(AA14=0,0,(AA14*((LOG(AA14))/LOG(2))))","v":0},null,{"$f":"N14","v":11222},{"$f":"COUNTIF(L72:L103,AD14)","v":0},{"$f":"AE14/(AG4-AE25)","v":0},{"$f":"IF(AF14=0,0,(AF14*((LOG(AF14))/LOG(2))))","v":0},null,{"$f":"N14","v":11222},{"$f":"COUNTIF(L104:L135,AI14)","v":0},{"$f":"AJ14/(AL4-AJ25)","v":0},{"$f":"IF(AK14=0,0,(AK14*((LOG(AK14))/LOG(2))))","v":0},null,{"$f":"N14","v":11222},{"$f":"COUNTIF(L136:L168,AN14)","v":0},{"$f":"AO14/(AQ4-AO25)","v":0},{"$f":"IF(AP14=0,0,(AP14*((LOG(AP14))/LOG(2))))","v":0},null,{"$f":"N14","v":11222},{"$f":"COUNTIF(L169:L200,AS14)","v":0},{"$f":"AT14/(AV4-AT25)","v":0},{"$f":"IF(AU14=0,0,(AU14*((LOG(AU14))/LOG(2))))","v":0}]
[12,1243,13,1247,13,1251,14,1256,13,1263,0,11111,null,12111,{"$f":"COUNTIF($L$7:$L$500,N15)","v":0},{"$f":"O15/$Q$4","v":0},{"$f":"IF(P15=0,0,(P15*((LOG(P15))/LOG(2))))","v":0},null,null,{"$f":"N15","v":12111},{"$f":"COUNTIF(L7:L38,T15)","v":0},{"$f":"U15/(W4-U25)","v":0},{"$f":"IF(V15=0,0,(V15*((LOG(V15))/LOG(2))))","v":0},null,{"$f":"N15","v":12111},{"$f":"COUNTIF(L39:L71,Y15)","v":0},{"$f":"Z15/(AB4-Z25)","v":0},{"$f":"IF(AA15=0,0,(AA15*((LOG(AA15))/LOG(2))))","v":0},null,{"$f":"N15","v":12111},{"$f":"COUNTIF(L72:L103,AD15)","v":0},{"$f":"AE15/(AG4-AE25)","v":0},{"$f":"IF(AF15=0,0,(AF15*((LOG(AF15))/LOG(2))))","v":0},null,{"$f":"N15","v":12111},{"$f":"COUNTIF(L104:L135,AI15)","v":0},{"$f":"AJ15/(AL4-AJ25)","v":0},{"$f":"IF(AK15=0,0,(AK15*((LOG(AK15))/LOG(2))))","v":0},null,{"$f":"N15","v":12111},{"$f":"COUNTIF(L136:L168,AN15)","v":0},{"$f":"AO15/(AQ4-AO25)","v":0},{"$f":"IF(AP15=0,0,(AP15*((LOG(AP15))/LOG(2))))","v":0},null,{"$f":"N15","v":12111},{"$f":"COUNTIF(L169:L200,AS15)","v":0},{"$f":"AT15/(AV4-AT25)","v":0},{"$f":"IF(AU15=0,0,(AU15*((LOG(AU15))/LOG(2))))","v":0}]
[12,1372,13,1376,13,1380,14,1385,13,1389,0,11111,null,12112,{"$f":"COUNTIF($L$7:$L$500,N16)","v":0},{"$f":"O16/$Q$4","v":0},{"$f":"IF(P16=0,0,(P16*((LOG(P16))/LOG(2))))","v":0},null,null,{"$f":"N16","v":12112},{"$f":"COUNTIF(L7:L38,T16)","v":0},{"$f":"U16/(W4-U25)","v":0},{"$f":"IF(V16=0,0,(V16*((LOG(V16))/LOG(2))))","v":0},null,{"$f":"N16","v":12112},{"$f":"COUNTIF(L39:L71,Y16)","v":0},{"$f":"Z16/(AB4-Z25)","v":0},{"$f":"IF(AA16=0,0,(AA16*((LOG(AA16))/LOG(2))))","v":0},null,{"$f":"N16","v":12112},{"$f":"COUNTIF(L72:L103,AD16)","v":0},{"$f":"AE16/(AG4-AE25)","v":0},{"$f":"IF(AF16=0,0,(AF16*((LOG(AF16))/LOG(2))))","v":0},null,{"$f":"N16","v":12112},{"$f":"COUNTIF(L104:L135,AI16)","v":0},{"$f":"AJ16/(AL4-AJ25)","v":0},{"$f":"IF(AK16=0,0,(AK16*((LOG(AK16))/LOG(2))))","v":0},null,{"$f":"N16","v":12112},{"$f":"COUNTIF(L136:L168,AN16)","v":0},{"$f":"AO16/(AQ4-AO25)","v":0},{"$f":"IF(AP16=0,0,(AP16*((LOG(AP16))/LOG(2))))","v":0},null,{"$f":"N16","v":12112},{"$f":"COUNTIF(L169:L200,AS16)","v":0},{"$f":"AT16/(AV4-AT25)","v":0},{"$f":"IF(AU16=0,0,(AU16*((LOG(AU16))/LOG(2))))","v":0}]
[12,1489,13,1494,13,1498,14,1503,13,1508,0,11111,null,12121,{"$f":"COUNTIF($L$7:$L$500,N17)","v":0},{"$f":"O17/$Q$4","v":0},{"$f":"IF(P17=0,0,(P17*((LOG(P17))/LOG(2))))","v":0},null,null,{"$f":"N17","v":12121},{"$f":"COUNTIF(L7:L38,T17)","v":0},{"$f":"U17/(W4-U25)","v":0},{"$f":"IF(V17=0,0,(V17*((LOG(V17))/LOG(2))))","v":0},null,{"$f":"N17","v":12121},{"$f":"COUNTIF(L39:L71,Y17)","v":0},{"$f":"Z17/(AB4-Z25)","v":0},{"$f":"IF(AA17=0,0,(AA17*((LOG(AA17))/LOG(2))))","v":0},null,{"$f":"N17","v":12121},{"$f":"COUNTIF(L72:L103,AD17)","v":0},{"$f":"AE17/(AG4-AE25)","v":0},{"$f":"IF(AF17=0,0,(AF17*((LOG(AF17))/LOG(2))))","v":0},null,{"$f":"N17","v":12121},{"$f":"COUNTIF(L104:L135,AI17)","v":0},{"$f":"AJ17/(AL4-AJ25)","v":0},{"$f":"IF(AK17=0,0,(AK17*((LOG(AK17))/LOG(2))))","v":0},null,{"$f":"N17","v":12121},{"$f":"COUNTIF(L136:L168,AN17)","v":0},{"$f":"AO17/(AQ4-AO25)","v":0},{"$f":"IF(AP17=0,0,(AP17*((LOG(AP17))/LOG(2))))","v":0},null,{"$f":"N17","v":12121},{"$f":"COUNTIF(L169:L200,AS17)","v":0},{"$f":"AT17/(AV4-AT25)","v":0},{"$f":"IF(AU17=0,0,(AU17*((LOG(AU17))/LOG(2))))","v":0}]
[12,1610,13,1615,13,1619,14,1624,13,1633,0,11111,null,12122,{"$f":"COUNTIF($L$7:$L$500,N18)","v":0},{"$f":"O18/$Q$4","v":0},{"$f":"IF(P18=0,0,(P18*((LOG(P18))/LOG(2))))","v":0},null,null,{"$f":"N18","v":12122},{"$f":"COUNTIF(L7:L38,T18)","v":0},{"$f":"U18/(W4-U25)","v":0},{"$f":"IF(V18=0,0,(V18*((LOG(V18))/LOG(2))))","v":0},null,{"$f":"N18","v":12122},{"$f":"COUNTIF(L39:L71,Y18)","v":0},{"$f":"Z18/(AB4-Z25)","v":0},{"$f":"IF(AA18=0,0,(AA18*((LOG(AA18))/LOG(2))))","v":0},null,{"$f":"N18","v":12122},{"$f":"COUNTIF(L72:L103,AD18)","v":0},{"$f":"AE18/(AG4-AE25)","v":0},{"$f":"IF(AF18=0,0,(AF18*((LOG(AF18))/LOG(2))))","v":0},null,{"$f":"N18","v":12122},{"$f":"COUNTIF(L104:L135,AI18)","v":0},{"$f":"AJ18/(AL4-AJ25)","v":0},{"$f":"IF(AK18=0,0,(AK18*((LOG(AK18))/LOG(2))))","v":0},null,{"$f":"N18","v":12122},{"$f":"COUNTIF(L136:L168,AN18)","v":0},{"$f":"AO18/(AQ4-AO25)","v":0},{"$f":"IF(AP18=0,0,(AP18*((LOG(AP18))/LOG(2))))","v":0},null,{"$f":"N18","v":12122},{"$f":"COUNTIF(L169:L200,AS18)","v":0},{"$f":"AT18/(AV4-AT25)","v":0},{"$f":"IF(AU18=0,0,(AU18*((LOG(AU18))/LOG(2))))","v":0}]
[12,1741,13,1746,13,1751,14,1756,13,1761,1,11111,null,12211,{"$f":"COUNTIF($L$7:$L$500,N19)","v":0},{"$f":"O19/$Q$4","v":0},{"$f":"IF(P19=0,0,(P19*((LOG(P19))/LOG(2))))","v":0},null,null,{"$f":"N19","v":12211},{"$f":"COUNTIF(L7:L38,T19)","v":0},{"$f":"U19/(W4-U25)","v":0},{"$f":"IF(V19=0,0,(V19*((LOG(V19))/LOG(2))))","v":0},null,{"$f":"N19","v":12211},{"$f":"COUNTIF(L39:L71,Y19)","v":0},{"$f":"Z19/(AB4-Z25)","v":0},{"$f":"IF(AA19=0,0,(AA19*((LOG(AA19))/LOG(2))))","v":0},null,{"$f":"N19","v":12211},{"$f":"COUNTIF(L72:L103,AD19)","v":0},{"$f":"AE19/(AG4-AE25)","v":0},{"$f":"IF(AF19=0,0,(AF19*((LOG(AF19))/LOG(2))))","v":0},null,{"$f":"N19","v":12211},{"$f":"COUNTIF(L104:L135,AI19)","v":0},{"$f":"AJ19/(AL4-AJ25)","v":0},{"$f":"IF(AK19=0,0,(AK19*((LOG(AK19))/LOG(2))))","v":0},null,{"$f":"N19","v":12211},{"$f":"COUNTIF(L136:L168,AN19)","v":0},{"$f":"AO19/(AQ4-AO25)","v":0},{"$f":"IF(AP19=0,0,(AP19*((LOG(AP19))/LOG(2))))","v":0},null,{"$f":"N19","v":12211},{"$f":"COUNTIF(L169:L200,AS19)","v":0},{"$f":"AT19/(AV4-AT25)","v":0},{"$f":"IF(AU19=0,0,(AU19*((LOG(AU19))/LOG(2))))","v":0}]
[12,1869,13,1874,13,1878,14,1882,13,1887,0,11111,null,12212,{"$f":"COUNTIF($L$7:$L$500,N20)","v":0},{"$f":"O20/$Q$4","v":0},{"$f":"IF(P20=0,0,(P20*((LOG(P20))/LOG(2))))","v":0},null,null,{"$f":"N20","v":12212},{"$f":"COUNTIF(L7:L38,T20)","v":0},{"$f":"U20/(W4-U25)","v":0},{"$f":"IF(V20=0,0,(V20*((LOG(V20))/LOG(2))))","v":0},null,{"$f":"N20","v":12212},{"$f":"COUNTIF(L39:L71,Y20)","v":0},{"$f":"Z20/(AB4-Z25)","v":0},{"$f":"IF(AA20=0,0,(AA20*((LOG(AA20))/LOG(2))))","v":0},null,{"$f":"N20","v":12212},{"$f":"COUNTIF(L72:L103,AD20)","v":0},{"$f":"AE20/(AG4-AE25)","v":0},{"$f":"IF(AF20=0,0,(AF20*((LOG(AF20))/LOG(2))))","v":0},null,{"$f":"N20","v":12212},{"$f":"COUNTIF(L104:L135,AI20)","v":0},{"$f":"AJ20/(AL4-AJ25)","v":0},{"$f":"IF(AK20=0,0,(AK20*((LOG(AK20))/LOG(2))))","v":0},null,{"$f":"N20","v":12212},{"$f":"COUNTIF(L136:L168,AN20)","v":0},{"$f":"AO20/(AQ4-AO25)","v":0},{"$f":"IF(AP20=0,0,(AP20*((LOG(AP20))/LOG(2))))","v":0},null,{"$f":"N20","v":12212},{"$f":"COUNTIF(L169:L200,AS20)","v":0},{"$f":"AT20/(AV4-AT25)","v":0},{"$f":"IF(AU20=0,0,(AU20*((LOG(AU20))/LOG(2))))","v":0}]
[12,1986,13,1990,13,1995,14,1999,13,2008,0,11111,null,12221,{"$f":"COUNTIF($L$7:$L$500,N21)","v":0},{"$f":"O21/$Q$4","v":0},{"$f":"IF(P21=0,0,(P21*((LOG(P21))/LOG(2))))","v":0},null,null,{"$f":"N21","v":12221},{"$f":"COUNTIF(L7:L38,T21)","v":0},{"$f":"U21/(W4-U25)","v":0},{"$f":"IF(V21=0,0,(V21*((LOG(V21))/LOG(2))))","v":0},null,{"$f":"N21","v":12221},{"$f":"COUNTIF(L39:L71,Y21)","v":0},{"$f":"Z21/(AB4-Z25)","v":0},{"$f":"IF(AA21=0,0,(AA21*((LOG(AA21))/LOG(2))))","v":0},null,{"$f":"N21","v":12221},{"$f":"COUNTIF(L72:L103,AD21)","v":0},{"$f":"AE21/(AG4-AE25)","v":0},{"$f":"IF(AF21=0,0,(AF21*((LOG(AF21))/LOG(2))))","v":0},null,{"$f":"N21","v":12221},{"$f":"COUNTIF(L104:L135,AI21)","v":0},{"$f":"AJ21/(AL4-AJ25)","v":0},{"$f":"IF(AK21=0,0,(AK21*((LOG(AK21))/LOG(2))))","v":0},null,{"$f":"N21","v":12221},{"$f":"COUNTIF(L136:L168,AN21)","v":0},{"$f":"AO21/(AQ4-AO25)","v":0},{"$f":"IF(AP21=0,0,(AP21*((LOG(AP21))/LOG(2))))","v":0},null,{"$f":"N21","v":12221},{"$f":"COUNTIF(L169:L200,AS21)","v":0},{"$f":"AT21/(AV4-AT25)","v":0},{"$f":"IF(AU21=0,0,(AU21*((LOG(AU21))/LOG(2))))","v":0}]
[12,2108,13,2112,13,2116,14,2120,13,2124,0,11111,null,12222,{"$f":"COUNTIF($L$7:$L$500,N22)","v":0},{"$f":"O22/$Q$4","v":0},{"$f":"IF(P22=0,0,(P22*((LOG(P22))/LOG(2))))","v":0},null,null,{"$f":"N22","v":12222},{"$f":"COUNTIF(L7:L38,T22)","v":0},{"$f":"U22/(W4-U25)","v":0},{"$f":"IF(V22=0,0,(V22*((LOG(V22))/LOG(2))))","v":0},null,{"$f":"N22","v":12222},{"$f":"COUNTIF(L39:L71,Y22)","v":0},{"$f":"Z22/(AB4-Z25)","v":0},{"$f":"IF(AA22=0,0,(AA22*((LOG(AA22))/LOG(2))))","v":0},null,{"$f":"N22","v":12222},{"$f":"COUNTIF(L72:L103,AD22)","v":0},{"$f":"AE22/(AG4-AE25)","v":0},{"$f":"IF(AF22=0,0,(AF22*((LOG(AF22))/LOG(2))))","v":0},null,{"$f":"N22","v":12222},{"$f":"COUNTIF(L104:L135,AI22)","v":0},{"$f":"AJ22/(AL4-AJ25)","v":0},{"$f":"IF(AK22=0,0,(AK22*((LOG(AK22))/LOG(2))))","v":0},null,{"$f":"N22","v":12222},{"$f":"COUNTIF(L136:L168,AN22)","v":0},{"$f":"AO22/(AQ4-AO25)","v":0},{"$f":"IF(AP22=0,0,(AP22*((LOG(AP22))/LOG(2))))","v":0},null,{"$f":"N22","v":12222},{"$f":"COUNTIF(L169:L200,AS22)","v":0},{"$f":"AT22/(AV4-AT25)","v":0},{"$f":"IF(AU22=0,0,(AU22*((LOG(AU22))/LOG(2))))","v":0}]
[12,2224,13,2228,13,2232,14,2237,13,2241,0,11111,null,21111,{"$f":"COUNTIF($L$7:$L$500,N23)","v":0},{"$f":"O23/$Q$4","v":0},{"$f":"IF(P23=0,0,(P23*((LOG(P23))/LOG(2))))","v":0},null,null,{"$f":"N23","v":21111},{"$f":"COUNTIF(L7:L38,T23)","v":0},{"$f":"U23/(W4-U25)","v":0},{"$f":"IF(V23=0,0,(V23*((LOG(V23))/LOG(2))))","v":0},null,{"$f":"N23","v":21111},{"$f":"COUNTIF(L39:L71,Y23)","v":0},{"$f":"Z23/(AB4-Z25)","v":0},{"$f":"IF(AA23=0,0,(AA23*((LOG(AA23))/LOG(2))))","v":0},null,{"$f":"N23","v":21111},{"$f":"COUNTIF(L72:L103,AD23)","v":0},{"$f":"AE23/(AG4-AE25)","v":0},{"$f":"IF(AF23=0,0,(AF23*((LOG(AF23))/LOG(2))))","v":0},null,{"$f":"N23","v":21111},{"$f":"COUNTIF(L104:L135,AI23)","v":0},{"$f":"AJ23/(AL4-AJ25)","v":0},{"$f":"IF(AK23=0,0,(AK23*((LOG(AK23))/LOG(2))))","v":0},null,{"$f":"N23","v":21111},{"$f":"COUNTIF(L136:L168,AN23)","v":0},{"$f":"AO23/(AQ4-AO25)","v":0},{"$f":"IF(AP23=0,0,(AP23*((LOG(AP23))/LOG(2))))","v":0},null,{"$f":"N23","v":21111},{"$f":"COUNTIF(L169:L200,AS23)","v":0},{"$f":"AT23/(AV4-AT25)","v":0},{"$f":"IF(AU23=0,0,(AU23*((LOG(AU23))/LOG(2))))","v":0}]
[12,2349,13,2353,13,2358,14,2362,13,2368,0,11111,null,21112,{"$f":"COUNTIF($L$7:$L$500,N24)","v":0},{"$f":"O24/$Q$4","v":0},{"$f":"IF(P24=0,0,(P24*((LOG(P24))/LOG(2))))","v":0},null,null,{"$f":"N24","v":21112},{"$f":"COUNTIF(L7:L38,T24)","v":0},{"$f":"U24/(W4-U25)","v":0},{"$f":"IF(V24=0,0,(V24*((LOG(V24))/LOG(2))))","v":0},null,{"$f":"N24","v":21112},{"$f":"COUNTIF(L39:L71,Y24)","v":0},{"$f":"Z24/(AB4-Z25)","v":0},{"$f":"IF(AA24=0,0,(AA24*((LOG(AA24))/LOG(2))))","v":0},null,{"$f":"N24","v":21112},{"$f":"COUNTIF(L72:L103,AD24)","v":0},{"$f":"AE24/(AG4-AE25)","v":0},{"$f":"IF(AF24=0,0,(AF24*((LOG(AF24))/LOG(2))))","v":0},null,{"$f":"N24","v":21112},{"$f":"COUNTIF(L104:L135,AI24)","v":0},{"$f":"AJ24/(AL4-AJ25)","v":0},{"$f":"IF(AK24=0,0,(AK24*((LOG(AK24))/LOG(2))))","v":0},null,{"$f":"N24","v":21112},{"$f":"COUNTIF(L136:L168,AN24)","v":0},{"$f":"AO24/(AQ4-AO25)","v":0},{"$f":"IF(AP24=0,0,(AP24*((LOG(AP24))/LOG(2))))","v":0},null,{"$f":"N24","v":21112},{"$f":"COUNTIF(L169:L200,AS24)","v":0},{"$f":"AT24/(AV4-AT25)","v":0},{"$f":"IF(AU24=0,0,(AU24*((LOG(AU24))/LOG(2))))","v":0}]
[12,2466,13,2471,13,2475,14,2479,13,2484,0,11111,null,21121,{"$f":"COUNTIF($L$7:$L$500,N25)","v":0},{"$f":"O25/$Q$4","v":0},{"$f":"IF(P25=0,0,(P25*((LOG(P25))/LOG(2))))","v":0},null,null,{"$f":"N25","v":21121},{"$f":"COUNTIF(L7:L38,T25)","v":0},null,null,null,{"$f":"N25","v":21121},{"$f":"COUNTIF(L39:L71,Y25)","v":0},null,null,null,{"$f":"N25","v":21121},{"$f":"COUNTIF(L72:L103,AD25)","v":0},null,null,null,{"$f":"N25","v":21121},{"$f":"COUNTIF(L104:L135,AI25)","v":0},null,null,null,{"$f":"N25","v":21121},{"$f":"COUNTIF(L136:L168,AN25)","v":0},null,null,null,{"$f":"N25","v":21121},{"$f":"COUNTIF(L169:L200,AS25)","v":0}]
[12,2586,13,2591,13,2595,14,2600,13,2605,0,11111,null,21122,{"$f":"COUNTIF($L$7:$L$500,N26)","v":0},{"$f":"O26/$Q$4","v":0},{"$f":"IF(P26=0,0,(P26*((LOG(P26))/LOG(2))))","v":0},null,null,{"$f":"N26","v":21122},{"$f":"COUNTIF(L7:L38,T26)","v":0},{"$f":"U26/(W4-U25)","v":0},{"$f":"IF(V26=0,0,(V26*((LOG(V26))/LOG(2))))","v":0},null,{"$f":"N26","v":21122},{"$f":"COUNTIF(L39:L71,Y26)","v":0},{"$f":"Z26/(AB4-Z25)","v":0},{"$f":"IF(AA26=0,0,(AA26*((LOG(AA26))/LOG(2))))","v":0},null,{"$f":"N26","v":21122},{"$f":"COUNTIF(L72:L103,AD26)","v":0},{"$f":"AE26/(AG4-AE25)","v":0},{"$f":"IF(AF26=0,0,(AF26*((LOG(AF26))/LOG(2))))","v":0},null,{"$f":"N26","v":21122},{"$f":"COUNTIF(L104:L135,AI26)","v":0},{"$f":"AJ26/(AL4-AJ25)","v":0},{"$f":"IF(AK26=0,0,(AK26*((LOG(AK26))/LOG(2))))","v":0},null,{"$f":"N26","v":21122},{"$f":"COUNTIF(L136:L168,AN26)","v":0},{"$f":"AO26/(AQ4-AO25)","v":0},{"$f":"IF(AP26=0,0,(AP26*((LOG(AP26))/LOG(2))))","v":0},null,{"$f":"N26","v":21122},{"$f":"COUNTIF(L169:L200,AS26)","v":0},{"$f":"AT26/(AV4-AT25)","v":0},{"$f":"IF(AU26=0,0,(AU26*((LOG(AU26))/LOG(2))))","v":0}]
[12,2704,13,2708,13,2712,14,2717,13,2721,0,11111,null,21211,{"$f":"COUNTIF($L$7:$L$500,N27)","v":0},{"$f":"O27/$Q$4","v":0},{"$f":"IF(P27=0,0,(P27*((LOG(P27))/LOG(2))))","v":0},null,null,{"$f":"N27","v":21211},{"$f":"COUNTIF(L7:L38,T27)","v":0},{"$f":"U27/(W4-U25)","v":0},{"$f":"IF(V27=0,0,(V27*((LOG(V27))/LOG(2))))","v":0},null,{"$f":"N27","v":21211},{"$f":"COUNTIF(L39:L71,Y27)","v":0},{"$f":"Z27/(AB4-Z25)","v":0},{"$f":"IF(AA27=0,0,(AA27*((LOG(AA27))/LOG(2))))","v":0},null,{"$f":"N27","v":21211},{"$f":"COUNTIF(L72:L103,AD27)","v":0},{"$f":"AE27/(AG4-AE25)","v":0},{"$f":"IF(AF27=0,0,(AF27*((LOG(AF27))/LOG(2))))","v":0},null,{"$f":"N27","v":21211},{"$f":"COUNTIF(L104:L135,AI27)","v":0},{"$f":"AJ27/(AL4-AJ25)","v":0},{"$f":"IF(AK27=0,0,(AK27*((LOG(AK27))/LOG(2))))","v":0},null,{"$f":"N27","v":21211},{"$f":"COUNTIF(L136:L168,AN27)","v":0},{"$f":"AO27/(AQ4-AO25)","v":0},{"$f":"IF(AP27=0,0,(AP27*((LOG(AP27))/LOG(2))))","v":0},null,{"$f":"N27","v":21211},{"$f":"COUNTIF(L169:L200,AS27)","v":0},{"$f":"AT27/(AV4-AT25)","v":0},{"$f":"IF(AU27=0,0,(AU27*((LOG(AU27))/LOG(2))))","v":0}]
[12,2822,13,2826,13,2830,14,2834,13,2839,0,11111,null,21212,{"$f":"COUNTIF($L$7:$L$500,N28)","v":0},{"$f":"O28/$Q$4","v":0},{"$f":"IF(P28=0,0,(P28*((LOG(P28))/LOG(2))))","v":0},null,null,{"$f":"N28","v":21212},{"$f":"COUNTIF(L7:L38,T28)","v":0},{"$f":"U28/(W4-U25)","v":0},{"$f":"IF(V28=0,0,(V28*((LOG(V28))/LOG(2))))","v":0},null,{"$f":"N28","v":21212},{"$f":"COUNTIF(L39:L71,Y28)","v":0},{"$f":"Z28/(AB4-Z25)","v":0},{"$f":"IF(AA28=0,0,(AA28*((LOG(AA28))/LOG(2))))","v":0},null,{"$f":"N28","v":21212},{"$f":"COUNTIF(L72:L103,AD28)","v":0},{"$f":"AE28/(AG4-AE25)","v":0},{"$f":"IF(AF28=0,0,(AF28*((LOG(AF28))/LOG(2))))","v":0},null,{"$f":"N28","v":21212},{"$f":"COUNTIF(L104:L135,AI28)","v":0},{"$f":"AJ28/(AL4-AJ25)","v":0},{"$f":"IF(AK28=0,0,(AK28*((LOG(AK28))/LOG(2))))","v":0},null,{"$f":"N28","v":21212},{"$f":"COUNTIF(L136:L168,AN28)","v":0},{"$f":"AO28/(AQ4-AO25)","v":0},{"$f":"IF(AP28=0,0,(AP28*((LOG(AP28))/LOG(2))))","v":0},null,{"$f":"N28","v":21212},{"$f":"COUNTIF(L169:L200,AS28)","v":0},{"$f":"AT28/(AV4-AT25)","v":0},{"$f":"IF(AU28=0,0,(AU28*((LOG(AU28))/LOG(2))))","v":0}]
[12,2942,13,2946,13,2951,14,2956,13,2960,0,11111,null,21221,{"$f":"COUNTIF($L$7:$L$500,N29)","v":0},{"$f":"O29/$Q$4","v":0},{"$f":"IF(P29=0,0,(P29*((LOG(P29))/LOG(2))))","v":0},null,null,{"$f":"N29","v":21221},{"$f":"COUNTIF(L7:L38,T29)","v":0},{"$f":"U29/(W4-U25)","v":0},{"$f":"IF(V29=0,0,(V29*((LOG(V29))/LOG(2))))","v":0},null,{"$f":"N29","v":21221},{"$f":"COUNTIF(L39:L71,Y29)","v":0},{"$f":"Z29/(AB4-Z25)","v":0},{"$f":"IF(AA29=0,0,(AA29*((LOG(AA29))/LOG(2))))","v":0},null,{"$f":"N29","v":21221},{"$f":"COUNTIF(L72:L103,AD29)","v":0},{"$f":"AE29/(AG4-AE25)","v":0},{"$f":"IF(AF29=0,0,(AF29*((LOG(AF29))/LOG(2))))","v":0},null,{"$f":"N29","v":21221},{"$f":"COUNTIF(L104:L135,AI29)","v":0},{"$f":"AJ29/(AL4-AJ25)","v":0},{"$f":"IF(AK29=0,0,(AK29*((LOG(AK29))/LOG(2))))","v":0},null,{"$f":"N29","v":21221},{"$f":"COUNTIF(L136:L168,AN29)","v":0},{"$f":"AO29/(AQ4-AO25)","v":0},{"$f":"IF(AP29=0,0,(AP29*((LOG(AP29))/LOG(2))))","v":0},null,{"$f":"N29","v":21221},{"$f":"COUNTIF(L169:L200,AS29)","v":0},{"$f":"AT29/(AV4-AT25)","v":0},{"$f":"IF(AU29=0,0,(AU29*((LOG(AU29))/LOG(2))))","v":0}]
[12,3067,13,3071,13,3076,14,3080,13,3085,0,11111,null,21222,{"$f":"COUNTIF($L$7:$L$500,N30)","v":0},{"$f":"O30/$Q$4","v":0},{"$f":"IF(P30=0,0,(P30*((LOG(P30))/LOG(2))))","v":0},null,null,{"$f":"N30","v":21222},{"$f":"COUNTIF(L7:L38,T30)","v":0},{"$f":"U30/(W4-U25)","v":0},{"$f":"IF(V30=0,0,(V30*((LOG(V30))/LOG(2))))","v":0},null,{"$f":"N30","v":21222},{"$f":"COUNTIF(L39:L71,Y30)","v":0},{"$f":"Z30/(AB4-Z25)","v":0},{"$f":"IF(AA30=0,0,(AA30*((LOG(AA30))/LOG(2))))","v":0},null,{"$f":"N30","v":21222},{"$f":"COUNTIF(L72:L103,AD30)","v":0},{"$f":"AE30/(AG4-AE25)","v":0},{"$f":"IF(AF30=0,0,(AF30*((LOG(AF30))/LOG(2))))","v":0},null,{"$f":"N30","v":21222},{"$f":"COUNTIF(L104:L135,AI30)","v":0},{"$f":"AJ30/(AL4-AJ25)","v":0},{"$f":"IF(AK30=0,0,(AK30*((LOG(AK30))/LOG(2))))","v":0},null,{"$f":"N30","v":21222},{"$f":"COUNTIF(L136:L168,AN30)","v":0},{"$f":"AO30/(AQ4-AO25)","v":0},{"$f":"IF(AP30=0,0,(AP30*((LOG(AP30))/LOG(2))))","v":0},null,{"$f":"N30","v":21222},{"$f":"COUNTIF(L169:L200,AS30)","v":0},{"$f":"AT30/(AV4-AT25)","v":0},{"$f":"IF(AU30=0,0,(AU30*((LOG(AU30))/LOG(2))))","v":0}]
[12,3189,13,3194,13,3199,14,3203,13,3208,1,11111,null,22111,{"$f":"COUNTIF($L$7:$L$500,N31)","v":0},{"$f":"O31/$Q$4","v":0},{"$f":"IF(P31=0,0,(P31*((LOG(P31))/LOG(2))))","v":0},null,null,{"$f":"N31","v":22111},{"$f":"COUNTIF(L7:L38,T31)","v":0},{"$f":"U31/(W4-U25)","v":0},{"$f":"IF(V31=0,0,(V31*((LOG(V31))/LOG(2))))","v":0},null,{"$f":"N31","v":22111},{"$f":"COUNTIF(L39:L71,Y31)","v":0},{"$f":"Z31/(AB4-Z25)","v":0},{"$f":"IF(AA31=0,0,(AA31*((LOG(AA31))/LOG(2))))","v":0},null,{"$f":"N31","v":22111},{"$f":"COUNTIF(L72:L103,AD31)","v":0},{"$f":"AE31/(AG4-AE25)","v":0},{"$f":"IF(AF31=0,0,(AF31*((LOG(AF31))/LOG(2))))","v":0},null,{"$f":"N31","v":22111},{"$f":"COUNTIF(L104:L135,AI31)","v":0},{"$f":"AJ31/(AL4-AJ25)","v":0},{"$f":"IF(AK31=0,0,(AK31*((LOG(AK31))/LOG(2))))","v":0},null,{"$f":"N31","v":22111},{"$f":"COUNTIF(L136:L168,AN31)","v":0},{"$f":"AO31/(AQ4-AO25)","v":0},{"$f":"IF(AP31=0,0,(AP31*((LOG(AP31))/LOG(2))))","v":0},null,{"$f":"N31","v":22111},{"$f":"COUNTIF(L169:L200,AS31)","v":0},{"$f":"AT31/(AV4-AT25)","v":0},{"$f":"IF(AU31=0,0,(AU31*((LOG(AU31))/LOG(2))))","v":0}]
[12,3324,13,3330,13,3334,14,3338,13,3343,0,11111,null,22112,{"$f":"COUNTIF($L$7:$L$500,N32)","v":0},{"$f":"O32/$Q$4","v":0},{"$f":"IF(P32=0,0,(P32*((LOG(P32))/LOG(2))))","v":0},null,null,{"$f":"N32","v":22112},{"$f":"COUNTIF(L7:L38,T32)","v":0},{"$f":"U32/(W4-U25)","v":0},{"$f":"IF(V32=0,0,(V32*((LOG(V32))/LOG(2))))","v":0},null,{"$f":"N32","v":22112},{"$f":"COUNTIF(L39:L71,Y32)","v":0},{"$f":"Z32/(AB4-Z25)","v":0},{"$f":"IF(AA32=0,0,(AA32*((LOG(AA32))/LOG(2))))","v":0},null,{"$f":"N32","v":22112},{"$f":"COUNTIF(L72:L103,AD32)","v":0},{"$f":"AE32/(AG4-AE25)","v":0},{"$f":"IF(AF32=0,0,(AF32*((LOG(AF32))/LOG(2))))","v":0},null,{"$f":"N32","v":22112},{"$f":"COUNTIF(L104:L135,AI32)","v":0},{"$f":"AJ32/(AL4-AJ25)","v":0},{"$f":"IF(AK32=0,0,(AK32*((LOG(AK32))/LOG(2))))","v":0},null,{"$f":"N32","v":22112},{"$f":"COUNTIF(L136:L168,AN32)","v":0},{"$f":"AO32/(AQ4-AO25)","v":0},{"$f":"IF(AP32=0,0,(AP32*((LOG(AP32))/LOG(2))))","v":0},null,{"$f":"N32","v":22112},{"$f":"COUNTIF(L169:L200,AS32)","v":0},{"$f":"AT32/(AV4-AT25)","v":0},{"$f":"IF(AU32=0,0,(AU32*((LOG(AU32))/LOG(2))))","v":0}]
[12,3453,13,3460,13,3464,14,3468,13,3472,0,11111,null,22121,{"$f":"COUNTIF($L$7:$L$500,N33)","v":0},{"$f":"O33/$Q$4","v":0},{"$f":"IF(P33=0,0,(P33*((LOG(P33))/LOG(2))))","v":0},null,null,{"$f":"N33","v":22121},{"$f":"COUNTIF(L7:L38,T33)","v":0},{"$f":"U33/(W4-U25)","v":0},{"$f":"IF(V33=0,0,(V33*((LOG(V33))/LOG(2))))","v":0},null,{"$f":"N33","v":22121},{"$f":"COUNTIF(L39:L71,Y33)","v":0},{"$f":"Z33/(AB4-Z25)","v":0},{"$f":"IF(AA33=0,0,(AA33*((LOG(AA33))/LOG(2))))","v":0},null,{"$f":"N33","v":22121},{"$f":"COUNTIF(L72:L103,AD33)","v":0},{"$f":"AE33/(AG4-AE25)","v":0},{"$f":"IF(AF33=0,0,(AF33*((LOG(AF33))/LOG(2))))","v":0},null,{"$f":"N33","v":22121},{"$f":"COUNTIF(L104:L135,AI33)","v":0},{"$f":"AJ33/(AL4-AJ25)","v":0},{"$f":"IF(AK33=0,0,(AK33*((LOG(AK33))/LOG(2))))","v":0},null,{"$f":"N33","v":22121},{"$f":"COUNTIF(L136:L168,AN33)","v":0},{"$f":"AO33/(AQ4-AO25)","v":0},{"$f":"IF(AP33=0,0,(AP33*((LOG(AP33))/LOG(2))))","v":0},null,{"$f":"N33","v":22121},{"$f":"COUNTIF(L169:L200,AS33)","v":0},{"$f":"AT33/(AV4-AT25)","v":0},{"$f":"IF(AU33=0,0,(AU33*((LOG(AU33))/LOG(2))))","v":0}]
[12,3578,13,3582,13,3586,14,3591,13,3596,0,11111,null,22122,{"$f":"COUNTIF($L$7:$L$500,N34)","v":0},{"$f":"O34/$Q$4","v":0},{"$f":"IF(P34=0,0,(P34*((LOG(P34))/LOG(2))))","v":0},null,null,{"$f":"N34","v":22122},{"$f":"COUNTIF(L7:L38,T34)","v":0},{"$f":"U34/(W4-U25)","v":0},{"$f":"IF(V34=0,0,(V34*((LOG(V34))/LOG(2))))","v":0},null,{"$f":"N34","v":22122},{"$f":"COUNTIF(L39:L71,Y34)","v":0},{"$f":"Z34/(AB4-Z25)","v":0},{"$f":"IF(AA34=0,0,(AA34*((LOG(AA34))/LOG(2))))","v":0},null,{"$f":"N34","v":22122},{"$f":"COUNTIF(L72:L103,AD34)","v":0},{"$f":"AE34/(AG4-AE25)","v":0},{"$f":"IF(AF34=0,0,(AF34*((LOG(AF34))/LOG(2))))","v":0},null,{"$f":"N34","v":22122},{"$f":"COUNTIF(L104:L135,AI34)","v":0},{"$f":"AJ34/(AL4-AJ25)","v":0},{"$f":"IF(AK34=0,0,(AK34*((LOG(AK34))/LOG(2))))","v":0},null,{"$f":"N34","v":22122},{"$f":"COUNTIF(L136:L168,AN34)","v":0},{"$f":"AO34/(AQ4-AO25)","v":0},{"$f":"IF(AP34=0,0,(AP34*((LOG(AP34))/LOG(2))))","v":0},null,{"$f":"N34","v":22122},{"$f":"COUNTIF(L169:L200,AS34)","v":0},{"$f":"AT34/(AV4-AT25)","v":0},{"$f":"IF(AU34=0,0,(AU34*((LOG(AU34))/LOG(2))))","v":0}]
[12,3696,13,3700,13,3704,14,3708,13,3713,1,11111,null,22211,{"$f":"COUNTIF($L$7:$L$500,N35)","v":0},{"$f":"O35/$Q$4","v":0},{"$f":"IF(P35=0,0,(P35*((LOG(P35))/LOG(2))))","v":0},null,null,{"$f":"N35","v":22211},{"$f":"COUNTIF(L7:L38,T35)","v":0},{"$f":"U35/(W4-U25)","v":0},{"$f":"IF(V35=0,0,(V35*((LOG(V35))/LOG(2))))","v":0},null,{"$f":"N35","v":22211},{"$f":"COUNTIF(L39:L71,Y35)","v":0},{"$f":"Z35/(AB4-Z25)","v":0},{"$f":"IF(AA35=0,0,(AA35*((LOG(AA35))/LOG(2))))","v":0},null,{"$f":"N35","v":22211},{"$f":"COUNTIF(L72:L103,AD35)","v":0},{"$f":"AE35/(AG4-AE25)","v":0},{"$f":"IF(AF35=0,0,(AF35*((LOG(AF35))/LOG(2))))","v":0},null,{"$f":"N35","v":22211},{"$f":"COUNTIF(L104:L135,AI35)","v":0},{"$f":"AJ35/(AL4-AJ25)","v":0},{"$f":"IF(AK35=0,0,(AK35*((LOG(AK35))/LOG(2))))","v":0},null,{"$f":"N35","v":22211},{"$f":"COUNTIF(L136:L168,AN35)","v":0},{"$f":"AO35/(AQ4-AO25)","v":0},{"$f":"IF(AP35=0,0,(AP35*((LOG(AP35))/LOG(2))))","v":0},null,{"$f":"N35","v":22211},{"$f":"COUNTIF(L169:L200,AS35)","v":0},{"$f":"AT35/(AV4-AT25)","v":0},{"$f":"IF(AU35=0,0,(AU35*((LOG(AU35))/LOG(2))))","v":0}]
[12,3811,13,3815,13,3827,14,3832,13,3837,0,11111,null,22212,{"$f":"COUNTIF($L$7:$L$500,N36)","v":0},{"$f":"O36/$Q$4","v":0},{"$f":"IF(P36=0,0,(P36*((LOG(P36))/LOG(2))))","v":0},null,null,{"$f":"N36","v":22212},{"$f":"COUNTIF(L7:L38,T36)","v":0},{"$f":"U36/(W4-U25)","v":0},{"$f":"IF(V36=0,0,(V36*((LOG(V36))/LOG(2))))","v":0},null,{"$f":"N36","v":22212},{"$f":"COUNTIF(L39:L71,Y36)","v":0},{"$f":"Z36/(AB4-Z25)","v":0},{"$f":"IF(AA36=0,0,(AA36*((LOG(AA36))/LOG(2))))","v":0},null,{"$f":"N36","v":22212},{"$f":"COUNTIF(L72:L103,AD36)","v":0},{"$f":"AE36/(AG4-AE25)","v":0},{"$f":"IF(AF36=0,0,(AF36*((LOG(AF36))/LOG(2))))","v":0},null,{"$f":"N36","v":22212},{"$f":"COUNTIF(L104:L135,AI36)","v":0},{"$f":"AJ36/(AL4-AJ25)","v":0},{"$f":"IF(AK36=0,0,(AK36*((LOG(AK36))/LOG(2))))","v":0},null,{"$f":"N36","v":22212},{"$f":"COUNTIF(L136:L168,AN36)","v":0},{"$f":"AO36/(AQ4-AO25)","v":0},{"$f":"IF(AP36=0,0,(AP36*((LOG(AP36))/LOG(2))))","v":0},null,{"$f":"N36","v":22212},{"$f":"COUNTIF(L169:L200,AS36)","v":0},{"$f":"AT36/(AV4-AT25)","v":0},{"$f":"IF(AU36=0,0,(AU36*((LOG(AU36))/LOG(2))))","v":0}]
[12,3939,13,3944,13,3948,14,3957,13,3962,0,11111,null,22221,{"$f":"COUNTIF($L$7:$L$500,N37)","v":0},{"$f":"O37/$Q$4","v":0},{"$f":"IF(P37=0,0,(P37*((LOG(P37))/LOG(2))))","v":0},null,null,{"$f":"N37","v":22221},{"$f":"COUNTIF(L7:L38,T37)","v":0},{"$f":"U37/(W4-U25)","v":0},{"$f":"IF(V37=0,0,(V37*((LOG(V37))/LOG(2))))","v":0},null,{"$f":"N37","v":22221},{"$f":"COUNTIF(L39:L71,Y37)","v":0},{"$f":"Z37/(AB4-Z25)","v":0},{"$f":"IF(AA37=0,0,(AA37*((LOG(AA37))/LOG(2))))","v":0},null,{"$f":"N37","v":22221},{"$f":"COUNTIF(L72:L103,AD37)","v":0},{"$f":"AE37/(AG4-AE25)","v":0},{"$f":"IF(AF37=0,0,(AF37*((LOG(AF37))/LOG(2))))","v":0},null,{"$f":"N37","v":22221},{"$f":"COUNTIF(L104:L135,AI37)","v":0},{"$f":"AJ37/(AL4-AJ25)","v":0},{"$f":"IF(AK37=0,0,(AK37*((LOG(AK37))/LOG(2))))","v":0},null,{"$f":"N37","v":22221},{"$f":"COUNTIF(L136:L168,AN37)","v":0},{"$f":"AO37/(AQ4-AO25)","v":0},{"$f":"IF(AP37=0,0,(AP37*((LOG(AP37))/LOG(2))))","v":0},null,{"$f":"N37","v":22221},{"$f":"COUNTIF(L169:L200,AS37)","v":0},{"$f":"AT37/(AV4-AT25)","v":0},{"$f":"IF(AU37=0,0,(AU37*((LOG(AU37))/LOG(2))))","v":0}]
[21,4078,22,4082,24,4087,23,4095,24,4113,0,22222,null,22222,{"$f":"COUNTIF($L$7:$L$500,N38)","v":2},{"$f":"O38/$Q$4","v":1.0309278350515464E-2},{"$f":"IF(P38=0,0,(P38*((LOG(P38))/LOG(2))))","v":-6.8040338579248724E-2},null,null,{"$f":"N38","v":22222},{"$f":"COUNTIF(L7:L38,T38)","v":1},{"$f":"U38/(W4-U25)","v":3.125E-2},{"$f":"IF(V38=0,0,(V38*((LOG(V38))/LOG(2))))","v":-0.15625},null,{"$f":"N38","v":22222},{"$f":"COUNTIF(L39:L71,Y38)","v":0},{"$f":"Z38/(AB4-Z25)","v":0},{"$f":"IF(AA38=0,0,(AA38*((LOG(AA38))/LOG(2))))","v":0},null,{"$f":"N38","v":22222},{"$f":"COUNTIF(L72:L103,AD38)","v":0},{"$f":"AE38/(AG4-AE25)","v":0},{"$f":"IF(AF38=0,0,(AF38*((LOG(AF38))/LOG(2))))","v":0},null,{"$f":"N38","v":22222},{"$f":"COUNTIF(L104:L135,AI38)","v":0},{"$f":"AJ38/(AL4-AJ25)","v":0},{"$f":"IF(AK38=0,0,(AK38*((LOG(AK38))/LOG(2))))","v":0},null,{"$f":"N38","v":22222},{"$f":"COUNTIF(L136:L168,AN38)","v":0},{"$f":"AO38/(AQ4-AO25)","v":0},{"$f":"IF(AP38=0,0,(AP38*((LOG(AP38))/LOG(2))))","v":0},null,{"$f":"N38","v":22222},{"$f":"COUNTIF(L169:L200,AS38)","v":1},{"$f":"AT38/(AV4-AT25)","v":3.125E-2},{"$f":"IF(AU38=0,0,(AU38*((LOG(AU38))/LOG(2))))","v":-0.15625}]
[12,4213,13,4217,13,4222,14,4226,13,4231,0,11111,null,null,null,{"$f":"SUM(P7:P38)","v":1},{"$f":"-SUM(Q7:Q38)","v":0.1293514702550245},null,null,null,null,{"$f":"SUM(V7:V38)","v":1},{"$f":"-SUM(W7:W38)","v":0.39979006661701388},null,null,null,{"$f":"SUM(AA7:AA38)","v":1},{"$f":"-SUM(AB7:AB38)","v":0},null,null,null,{"$f":"SUM(AF7:AF38)","v":1},{"$f":"-SUM(AG7:AG38)","v":0},null,null,null,{"$f":"SUM(AK7:AK38)","v":1},{"$f":"-SUM(AL7:AL38)","v":0},null,null,null,{"$f":"SUM(AP7:AP38)","v":1},{"$f":"-SUM(AQ7:AQ38)","v":0},null,null,null,{"$f":"SUM(AU7:AU38)","v":1},{"$f":"-SUM(AV7:AV38)","v":0.20062232431271465}]
[12,4331,13,4336,13,4343,14,4347,13,4353,1,11111,null,null,null,"U=",{"$f":"Q39/(LOG(Q4)/LOG(2))","v":1.7020125485781138E-2},null,null,null,null,"U1=",{"$f":"W39/(LOG(W4)/LOG(2))","v":7.9958013323402771E-2},null,null,null,"U2=",{"$f":"AB39/(LOG(AB4)/LOG(2))","v":0},null,null,null,"U3=",{"$f":"AG39/(LOG(AG4)/LOG(2))","v":0},null,null,null,"U4=",{"$f":"AL39/(LOG(AL4)/LOG(2))","v":0},null,null,null,"U5=",{"$f":"AQ39/(LOG(AQ4)/LOG(2))","v":0},null,null,null,"U6=",{"$f":"AV39/(LOG(AV4)/LOG(2))","v":4.0124464862542931E-2}]
[12,4455,13,4459,13,4464,14,4469,13,4473,0,11111]
[12,4582,13,4586,13,4591,14,4595,13,4600,1,11111]
[12,4702,13,4706,13,4710,14,4715,13,4719,0,11111,null,"Total Target Seq"]
[12,4820,13,4824,13,4829,14,4834,13,4843,0,11111,null,{"$f":"COUNTIF(L7:L200,G3)","v":0},null,32,33,32,32,33,32]
[12,4942,13,4946,13,4951,14,4955,13,4960,0,11111,null,null,null,"% of reinforcement given in 6 equal intervals based on number of trials "]
[12,5060,13,5065,13,5069,14,5073,13,5077,0,11111,null,null,null,"%_1","%_2","%_3","%_4","%_5","%_6"]
[12,5177,13,5182,13,5186,14,5190,13,5195,0,11111,null,null,"target sequence",{"$f":"$G$3","v":21121},{"$f":"$G$3","v":21121},{"$f":"$G$3","v":21121},{"$f":"$G$3","v":21121},{"$f":"$G$3","v":21121},{"$f":"$G$3","v":21121}]
[12,5305,13,5310,13,5313,14,5318,13,5322,1,11111,null,null,"total reinforcement",{"$f":"U25","v":0},{"$f":"Z25","v":0},{"$f":"AE25","v":0},{"$f":"AJ25","v":0},{"$f":"AO25","v":0},{"$f":"AT25","v":0}]
[12,5416,13,5420,13,5424,14,5428,13,5432,0,11111,null,null,"% target"]
[12,5533,13,5537,13,5541,14,5545,13,5550,0,11111,null,null,"CCRF"]
[12,5650,13,5654,13,5658,14,5662,13,5666,0,11111,null,null,"% CCRf"]
[12,5770,13,5774,13,5778,14,5782,13,5787,0,11111,null,null,"average response rate",{"$f":"J38/P44","v":128.53125},{"$f":"(J71-J38)/Q44","v":119.90909090909091},{"$f":"(J103-J71)/R44","v":121.375},{"$f":"(J135-J103)/S44","v":123.09375},{"$f":"(J168-J135)/T44","v":125.06060606060606},{"$f":"(J200-J168)/U44","v":123.875}]
[12,5889,13,5894,13,5898,14,5902,13,5913,0,11111]
[12,6017,13,6021,13,6025,14,6030,13,6041,1,11111]
[12,6137,13,6141,13,6145,14,6149,13,6153,1,11111]
[12,6254,13,6258,13,6262,14,6267,13,6275,0,11111]
[12,6373,13,6377,13,6381,14,6385,13,6390,0,11111]
[12,6496,13,6500,13,6504,14,6509,13,6513,0,11111]
[12,6612,13,6616,13,6620,14,6624,13,6628,0,11111]
[12,6727,13,6735,13,6739,14,6743,13,6748,0,11111]
[12,6860,13,6864,13,6868,14,6872,13,6877,0,11111]
[12,6979,13,6983,13,6987,14,6991,13,6995,0,11111]
[12,7095,13,7106,13,7111,14,7116,13,7124,0,11111]
[12,7225,13,7229,13,7234,14,7238,13,7243,1,11111]
[12,7350,13,7355,13,7359,14,7364,13,7368,0,11111]
[12,7470,13,7474,13,7478,14,7482,13,7487,0,11111]
[12,7587,13,7591,13,7595,14,7600,13,7604,0,11111]
[12,7704,13,7709,13,7712,14,7716,13,7721,1,11111]
[12,7815,13,7819,13,7823,14,7827,13,7831,0,11111]
[12,7937,13,7941,13,7945,14,7949,13,7954,1,11111]
[12,8049,13,8054,13,8062,14,8066,13,8070,0,11111]
[12,8178,13,8182,13,8186,14,8190,13,8195,0,11111]
[12,8295,13,8300,13,8305,14,8309,13,8313,0,11111]
[12,8414,13,8418,13,8422,14,8427,13,8432,0,11111]
[12,8532,13,8536,13,8540,14,8544,13,8548,0,11111]
[12,8648,13,8653,13,8657,14,8661,13,8666,1,11111]
[12,8763,13,8766,13,8770,14,8775,13,8779,0,11111]
[12,8878,13,8885,13,8889,14,8894,13,8899,0,11111]
[12,8999,13,9003,13,9008,14,9012,13,9016,0,11111]
[12,9117,13,9122,13,9126,14,9130,13,9134,0,11111]
[12,9240,13,9245,13,9250,14,9255,13,9277,0,11111]
[12,9377,13,9382,13,9386,14,9391,13,9395,0,11111]
[12,9494,13,9499,13,9503,14,9507,13,9511,0,11111]
[12,9618,13,9623,13,9627,14,9635,13,9643,1,11111]
[12,9737,13,9741,13,9749,14,9754,13,9764,0,11111]
[12,9866,13,9871,13,9875,14,9881,13,9894,0,11111]
[12,9994,13,9999,13,10003,14,10007,13,10012,0,11111]
[12,10113,13,10118,13,10122,14,10127,13,10132,0,11111]
[12,10238,13,10242,13,10247,14,10251,13,10255,0,11111]
[12,10352,13,10357,13,10361,14,10364,13,10369,0,11111]
[12,10471,13,10475,13,10479,14,10483,13,10487,0,11111]
[12,10589,13,10593,13,10597,14,10601,13,10606,1,11111]
[12,10715,13,10719,13,10723,14,10728,13,10733,0,11111]
[12,10833,13,10837,13,10840,14,10845,13,10849,0,11111]
[12,10951,13,10956,13,10960,14,10964,13,10970,0,11111]
[12,11069,13,11073,13,11077,14,11081,13,11085,0,11111]
[12,11185,13,11189,13,11193,14,11205,13,11210,1,11111]
[12,11306,13,11311,13,11315,14,11320,13,11324,0,11111]
[12,11423,13,11428,13,11432,14,11436,13,11440,0,11111]
[12,11542,13,11546,13,11556,14,11580,13,11585,0,11111]
[12,11685,13,11689,13,11694,14,11698,13,11703,0,11111]
[12,11805,13,11809,13,11814,14,11819,13,11823,0,11111]
[12,11926,13,11940,13,11945,14,11949,13,11954,1,11111]
[12,12076,13,12081,13,12085,14,12089,13,12095,1,11111]
[12,12190,13,12195,13,12199,14,12203,13,12208,0,11111]
[12,12311,13,12315,13,12320,14,12324,13,12330,0,11111]
[12,12436,13,12440,13,12444,14,12449,13,12454,1,11111]
[12,12564,13,12568,13,12573,14,12577,13,12581,0,11111]
[12,12684,13,12688,13,12693,14,12697,13,12706,0,11111]
[12,12822,13,12826,13,12831,14,12835,13,12841,0,11111]
[12,12941,13,12946,13,12950,14,12955,13,12959,0,11111]
[12,13058,13,13062,13,13066,14,13071,13,13075,0,11111]
[12,13176,13,13181,13,13185,14,13189,13,13199,0,11111]
[12,13296,13,13300,13,13303,14,13307,13,13312,0,11111]
[12,13412,13,13416,13,13420,14,13424,13,13428,0,11111]
[12,13528,13,13532,13,13537,14,13541,13,13545,1,11111]
[12,13640,13,13645,13,13649,14,13653,13,13658,1,11111]
[12,13763,13,13768,13,13772,14,13777,13,13792,1,11111]
[12,13897,13,13901,13,13905,14,13910,13,13915,0,11111]
[12,14016,13,14020,13,14024,14,14029,13,14039,0,11111]
[12,14139,13,14144,13,14148,14,14152,13,14156,0,11111]
[12,14258,13,14262,13,14266,14,14271,13,14275,0,11111]
[12,14379,13,14384,13,14389,14,14393,13,14398,1,11111]
[12,14504,13,14509,13,14514,14,14518,13,14523,0,11111]
[12,14622,13,14627,13,14631,14,14635,13,14639,0,11111]
[12,14757,13,14773,13,14777,14,14782,13,14790,0,11111]
[12,14890,13,14894,13,14897,14,14902,13,14906,0,11111]
[12,15006,13,15010,13,15014,14,15018,13,15023,0,11111]
[12,15121,13,15126,13,15130,14,15134,13,15139,0,11111]
[12,15245,13,15249,13,15253,14,15258,13,15263,0,11111]
[12,15373,13,15377,13,15381,14,15386,13,15391,1,11111]
[12,15493,13,15499,13,15504,14,15509,13,15513,0,11111]
[12,15612,13,15616,13,15620,14,15625,13,15629,0,11111]
[12,15735,13,15740,13,15744,14,15748,13,15752,0,11111]
[12,15874,13,15879,13,15883,14,15887,13,15893,0,11111]
[12,15993,13,15999,13,16003,14,16009,13,16023,1,11111]
[12,16125,13,16130,13,16134,14,16138,13,16144,0,11111]
[12,16248,13,16252,13,16256,14,16260,13,16268,0,11111]
[12,16368,13,16372,13,16376,14,16380,13,16384,0,11111]
[12,16485,13,16492,13,16497,14,16501,13,16510,0,11111]
[12,16611,13,16618,13,16627,14,16631,13,16636,0,11111]
[12,16742,13,16746,13,16750,14,16755,13,16763,1,11111]
[12,16858,13,16862,13,16866,14,16870,13,16875,0,11111]
[12,16981,13,16986,13,16990,14,16994,13,17000,0,11111]
[12,17100,13,17104,13,17108,14,17112,13,17117,0,11111]
[12,17213,13,17219,13,17225,14,17229,13,17236,0,11111]
[12,17336,13,17341,13,17345,14,17349,13,17354,0,11111]
[12,17477,13,17482,13,17486,14,17491,13,17497,0,11111]
[12,17597,13,17601,13,17605,14,17610,13,17618,0,11111]
[12,17717,13,17721,13,17725,14,17729,13,17734,0,11111]
[12,17832,13,17836,13,17840,14,17844,13,17849,1,11111]
[12,17998,13,18003,13,18008,14,18012,13,18022,0,11111]
[12,18122,13,18126,13,18130,14,18135,13,18140,0,11111]
[12,18240,13,18244,13,18248,14,18252,13,18256,1,11111]
[12,18364,13,18368,13,18373,14,18379,13,18383,0,11111]
[12,18487,13,18491,13,18495,14,18500,13,18504,0,11111]
[12,18608,13,18612,13,18617,14,18621,13,18646,0,11111]
[12,18754,13,18759,13,18763,14,18768,13,18772,0,11111]
[12,18878,13,18882,13,18886,14,18890,13,18894,0,11111]
[12,18997,13,19005,13,19010,14,19019,13,19024,0,11111]
[12,19141,13,19145,13,19150,14,19154,13,19159,0,11111]
[12,19272,13,19277,13,19281,14,19285,13,19293,0,11111]
[12,19392,13,19396,13,19401,14,19405,13,19409,0,11111]
[12,19511,13,19515,13,19519,14,19523,13,19528,0,11111]
[12,19628,13,19634,13,19638,14,19643,13,19648,1,11111]
[12,19748,13,19752,13,19757,14,19761,13,19765,0,11111]
[12,19873,13,19877,13,19885,14,19890,13,19894,0,11111]
[12,19994,13,20002,13,20006,14,20011,13,20020,0,11111]
[12,20119,13,20123,13,20127,14,20131,13,20140,0,11111]
[12,20248,13,20256,13,20261,14,20266,13,20271,0,11111]
[12,20370,13,20374,13,20379,14,20383,13,20387,0,11111]
[12,20497,13,20501,13,20505,14,20510,13,20526,1,11111]
[12,20625,13,20630,13,20635,14,20639,13,20644,0,11111]
[12,20754,13,20758,13,20762,14,20767,13,20780,0,11111]
[12,20882,13,20886,13,20890,14,20894,13,20899,0,11111]
[12,20998,13,21002,13,21006,14,21010,13,21014,0,11111]
[12,21115,13,21119,13,21123,14,21127,13,21131,0,11111]
[12,21233,13,21238,13,21244,14,21248,13,21253,0,11111]
[12,21363,13,21368,13,21373,14,21383,13,21394,0,11111]
[12,21497,13,21502,13,21507,14,21511,13,21521,0,11111]
[12,21632,13,21636,13,21640,14,21645,13,21650,0,11111]
[12,21755,13,21759,13,21763,14,21768,13,21773,0,11111]
[12,21886,13,21890,13,21895,14,21903,13,21907,0,11111]
[12,22007,13,22011,13,22016,14,22020,13,22025,1,11111]
[12,22126,13,22134,13,22139,14,22143,13,22148,0,11111]
[12,22249,13,22253,13,22257,14,22262,13,22267,0,11111]
[12,22367,13,22371,13,22375,14,22379,13,22383,0,11111]
[12,22484,13,22488,13,22492,14,22496,13,22501,1,11111]
[12,22601,13,22614,13,22618,14,22623,13,22632,0,11111]
[12,22730,13,22734,13,22738,14,22742,13,22746,0,11111]
[12,22846,13,22850,13,22854,14,22858,13,22863,0,11111]
[12,22969,13,22973,13,22980,14,22985,13,22989,0,11111]
[12,23090,13,23094,13,23097,14,23101,13,23105,0,11111]
[12,23212,13,23216,13,23220,14,23224,13,23229,1,11111]
[21,23349,22,23358,24,23364,23,23368,24,23373,1,22222]
[12,23479,13,23483,13,23487,14,23498,13,23502,0,11111]
[12,23599,13,23603,13,23607,14,23611,13,23617,0,11111]
[12,23732,13,23736,13,23740,14,23744,13,23749,0,11111]
[12,23849,13,23853,13,23857,14,23861,13,23866,0,11111]
[12,23966,13,23970,13,23975,14,23979,13,23984,null,11111]

{"sheet":"!MC20A20.010","index":22,"n_rows":138,"n_cols":48,"rows_kept":138,"cut":false,"hidden":false,"merged":[[4,39,4,42],[5,39,5,40],[4,44,4,47],[5,44,5,45],[4,24,4,27],[5,24,5,25],[4,29,4,32],[5,29,5,30],[4,34,4,37],[5,34,5,35],[1,1,1,2],[5,13,5,14],[42,13,42,14],[43,13,43,14],[4,19,4,22],[5,19,5,20]]}
["Report for:!MC20A20.010"]
["Date:","<date>"]
["Hen:","<hen>",null,null,null,"Correct Sequence",{"$f":"Start!J2","v":21121},null,null,null,null,null,null,null,null,"Total Sequences in Data",{"$f":"4994-COUNTBLANK(L7:L5000)","v":132},null,null,null,null,"Total Sequences in Block Data",{"$f":"COUNTA(L7:L28)","v":22},null,null,null,"Total Sequences in Block Data",{"$f":"COUNTA(L29:L50)","v":22},null,null,null,"Total Sequences in Block Data",{"$f":"COUNTA(L51:L72)","v":22},null,null,null,"Total Sequences in Block Data",{"$f":"COUNTA(L73:L94)","v":22},null,null,null,"Total Sequences in Block Data",{"$f":"COUNTA(L95:L116)","v":22},null,null,null,"Total Sequences in Block Data",{"$f":"COUNTA(L117:L138)","v":22}]
[null,null,null,null,null,null,null,null,null,null,null,null,null,null,null,"Total Sequences in Summary",{"$f":"SUM(O7:O38)","v":131},null,null,null,null,"Total Sequences in Block Summary",{"$f":"SUM(U7:U38)","v":22},null,null,null,"Total Sequences in Block Summary",{"$f":"SUM(Z7:Z38)","v":22},null,null,null,"Total Sequences in Block Summary",{"$f":"SUM(AE7:AE38)","v":22},null,null,null,"Total Sequences in Block Summary",{"$f":"SUM(AJ7:AJ38)","v":22},null,null,null,"Total Sequences in Block Summary",{"$f":"SUM(AO7:AO38)","v":22},null,null,null,"Total Sequences in Block Summary",{"$f":"SUM(AT7:AT38)","v":21}]
[null,null,null,null,null,null,null,null,null,null,null,null,null,null,null,null,null,null,null,"Block 1",null,null,null,null,"Block 2",null,null,null,null,"Block 3",null,null,null,null,"Block 4",null,null,null,null,"Block 5",null,null,null,null,"Block 6"]
["Sequence\nComponent\n1","Time\n1","Sequence\nComponent\n2","Time\n2","Sequence\nComponent\n3","Time\n3","Sequence\nComponent\n4","Time\n4","Sequence\nComponent\n5","Time\n5","Correct?\n0=No 1=Yes","Sequence",null,"Frequency",null,"Relative Frequency","Variability",null,null,"Frequency",null,"Relative Frequency","Variability",null,"Frequency",null,"Relative Frequency","Variability",null,"Frequency",null,"Relative Frequency","Variability",null,"Frequency",null,"Relative Frequency","Variability",null,"Frequency",null,"Relative Frequency","Variability",null,"Frequency",null,"Relative Frequency","Variability"]
[21,10,22,18,24,40,14,52,13,61,0,22211,null,11111,{"$f":"COUNTIF($L$7:$L$500,N7)","v":1},{"$f":"O7/$Q$4","v":7.6335877862595417E-3},{"$f":"IF(P7=0,0,(P7*((LOG(P7))/LOG(2))))","v":-5.3690251920133214E-2},null,null,{"$f":"N7","v":11111},{"$f":"COUNTIF(L7:L28,T7)","v":1},{"$f":"U7/(W4-U25)","v":5.8823529411764705E-2},{"$f":"IF(V7=0,0,(V7*((LOG(V7))/LOG(2))))","v":-0.24043899066178465},null,{"$f":"N7","v":11111},{"$f":"COUNTIF(L29:L50,Y7)","v":0},{"$f":"Z7/(AB4-Z25)","v":0},{"$f":"IF(AA7=0,0,(AA7*((LOG(AA7))/LOG(2))))","v":0},null,{"$f":"N7","v":11111},{"$f":"COUNTIF(L51:L72,AD7)","v":0},{"$f":"AE7/(AG4-AE25)","v":0},{"$f":"IF(AF7=0,0,(AF7*((LOG(AF7))/LOG(2))))","v":0},null,{"$f":"N7","v":11111},{"$f":"COUNTIF(L73:L94,AI7)","v":0},{"$f":"AJ7/(AL4-AJ25)","v":0},{"$f":"IF(AK7=0,0,(AK7*((LOG(AK7))/LOG(2))))","v":0},null,{"$f":"N7","v":11111},{"$f":"COUNTIF(L95:L116,AN7)","v":0},{"$f":"AO7/(AQ4-AO25)","v":0},{"$f":"IF(AP7=0,0,(AP7*((LOG(AP7))/LOG(2))))","v":0},null,{"$f":"N7","v":11111},{"$f":"COUNTIF(L117:L138,AS7)","v":0},{"$f":"AT7/(AV4-AT25)","v":0},{"$f":"IF(AU7=0,0,(AU7*((LOG(AU7))/LOG(2))))","v":0}]
[21,177,11,188,22,197,14,208,24,224,0,21212,null,11112,{"$f":"COUNTIF($L$7:$L$500,N8)","v":2},{"$f":"O8/$Q$4","v":1.5267175572519083E-2},{"$f":"IF(P8=0,0,(P8*((LOG(P8))/LOG(2))))","v":-9.2113328267747346E-2},null,null,{"$f":"N8","v":11112},{"$f":"COUNTIF(L7:L28,T8)","v":0},{"$f":"U8/(W4-U25)","v":0},{"$f":"IF(V8=0,0,(V8*((LOG(V8))/LOG(2))))","v":0},null,{"$f":"N8","v":11112},{"$f":"COUNTIF(L29:L50,Y8)","v":1},{"$f":"Z8/(AB4-Z25)","v":5.8823529411764705E-2},{"$f":"IF(AA8=0,0,(AA8*((LOG(AA8))/LOG(2))))","v":-0.24043899066178465},null,{"$f":"N8","v":11112},{"$f":"COUNTIF(L51:L72,AD8)","v":0},{"$f":"AE8/(AG4-AE25)","v":0},{"$f":"IF(AF8=0,0,(AF8*((LOG(AF8))/LOG(2))))","v":0},null,{"$f":"N8","v":11112},{"$f":"COUNTIF(L73:L94,AI8)","v":0},{"$f":"AJ8/(AL4-AJ25)","v":0},{"$f":"IF(AK8=0,0,(AK8*((LOG(AK8))/LOG(2))))","v":0},null,{"$f":"N8","v":11112},{"$f":"COUNTIF(L95:L116,AN8)","v":0},{"$f":"AO8/(AQ4-AO25)","v":0},{"$f":"IF(AP8=0,0,(AP8*((LOG(AP8))/LOG(2))))","v":0},null,{"$f":"N8","v":11112},{"$f":"COUNTIF(L117:L138,AS8)","v":1},{"$f":"AT8/(AV4-AT25)","v":5.8823529411764705E-2},{"$f":"IF(AU8=0,0,(AU8*((LOG(AU8))/LOG(2))))","v":-0.24043899066178465}]
[21,368,11,381,22,412,14,425,13,434,0,21211,null,11121,{"$f":"COUNTIF($L$7:$L$500,N9)","v":3},{"$f":"O9/$Q$4","v":2.2900763358778626E-2},{"$f":"IF(P9=0,0,(P9*((LOG(P9))/LOG(2))))","v":-0.12477390459884644},null,null,{"$f":"N9","v":11121},{"$f":"COUNTIF(L7:L28,T9)","v":0},{"$f":"U9/(W4-U25)","v":0},{"$f":"IF(V9=0,0,(V9*((LOG(V9))/LOG(2))))","v":0},null,{"$f":"N9","v":11121},{"$f":"COUNTIF(L29:L50,Y9)","v":1},{"$f":"Z9/(AB4-Z25)","v":5.8823529411764705E-2},{"$f":"IF(AA9=0,0,(AA9*((LOG(AA9))/LOG(2))))","v":-0.24043899066178465},null,{"$f":"N9","v":11121},{"$f":"COUNTIF(L51:L72,AD9)","v":0},{"$f":"AE9/(AG4-AE25)","v":0},{"$f":"IF(AF9=0,0,(AF9*((LOG(AF9))/LOG(2))))","v":0},null,{"$f":"N9","v":11121},{"$f":"COUNTIF(L73:L94,AI9)","v":0},{"$f":"AJ9/(AL4-AJ25)","v":0},{"$f":"IF(AK9=0,0,(AK9*((LOG(AK9))/LOG(2))))","v":0},null,{"$f":"N9","v":11121},{"$f":"COUNTIF(L95:L116,AN9)","v":1},{"$f":"AO9/(AQ4-AO25)","v":0.05},{"$f":"IF(AP9=0,0,(AP9*((LOG(AP9))/LOG(2))))","v":-0.21609640474436814},null,{"$f":"N9","v":11121},{"$f":"COUNTIF(L117:L138,AS9)","v":1},{"$f":"AT9/(AV4-AT25)","v":5.8823529411764705E-2},{"$f":"IF(AU9=0,0,(AU9*((LOG(AU9))/LOG(2))))","v":-0.24043899066178465}]
[12,636,24,654,13,667,14,677,24,705,0,12112,null,11122,{"$f":"COUNTIF($L$7:$L$500,N10)","v":0},{"$f":"O10/$Q$4","v":0},{"$f":"IF(P10=0,0,(P10*((LOG(P10))/LOG(2))))","v":0},null,null,{"$f":"N10","v":11122},{"$f":"COUNTIF(L7:L28,T10)","v":0},{"$f":"U10/(W4-U25)","v":0},{"$f":"IF(V10=0,0,(V10*((LOG(V10))/LOG(2))))","v":0},null,{"$f":"N10","v":11122},{"$f":"COUNTIF(L29:L50,Y10)","v":0},{"$f":"Z10/(AB4-Z25)","v":0},{"$f":"IF(AA10=0,0,(AA10*((LOG(AA10))/LOG(2))))","v":0},null,{"$f":"N10","v":11122},{"$f":"COUNTIF(L51:L72,AD10)","v":0},{"$f":"AE10/(AG4-AE25)","v":0},{"$f":"IF(AF10=0,0,(AF10*((LOG(AF10))/LOG(2))))","v":0},null,{"$f":"N10","v":11122},{"$f":"COUNTIF(L73:L94,AI10)","v":0},{"$f":"AJ10/(AL4-AJ25)","v":0},{"$f":"IF(AK10=0,0,(AK10*((LOG(AK10))/LOG(2))))","v":0},null,{"$f":"N10","v":11122},{"$f":"COUNTIF(L95:L116,AN10)","v":0},{"$f":"AO10/(AQ4-AO25)","v":0},{"$f":"IF(AP10=0,0,(AP10*((LOG(AP10))/LOG(2))))","v":0},null,{"$f":"N10","v":11122},{"$f":"COUNTIF(L117:L138,AS10)","v":0},{"$f":"AT10/(AV4-AT25)","v":0},{"$f":"IF(AU10=0,0,(AU10*((LOG(AU10))/LOG(2))))","v":0}]
[21,899,11,918,11,926,12,940,24,961,0,21112,null,11211,{"$f":"COUNTIF($L$7:$L$500,N11)","v":3},{"$f":"O11/$Q$4","v":2.2900763358778626E-2},{"$f":"IF(P11=0,0,(P11*((LOG(P11))/LOG(2))))","v":-0.12477390459884644},null,null,{"$f":"N11","v":11211},{"$f":"COUNTIF(L7:L28,T11)","v":1},{"$f":"U11/(W4-U25)","v":5.8823529411764705E-2},{"$f":"IF(V11=0,0,(V11*((LOG(V11))/LOG(2))))","v":-0.24043899066178465},null,{"$f":"N11","v":11211},{"$f":"COUNTIF(L29:L50,Y11)","v":0},{"$f":"Z11/(AB4-Z25)","v":0},{"$f":"IF(AA11=0,0,(AA11*((LOG(AA11))/LOG(2))))","v":0},null,{"$f":"N11","v":11211},{"$f":"COUNTIF(L51:L72,AD11)","v":0},{"$f":"AE11/(AG4-AE25)","v":0},{"$f":"IF(AF11=0,0,(AF11*((LOG(AF11))/LOG(2))))","v":0},null,{"$f":"N11","v":11211},{"$f":"COUNTIF(L73:L94,AI11)","v":0},{"$f":"AJ11/(AL4-AJ25)","v":0},{"$f":"IF(AK11=0,0,(AK11*((LOG(AK11))/LOG(2))))","v":0},null,{"$f":"N11","v":11211},{"$f":"COUNTIF(L95:L116,AN11)","v":2},{"$f":"AO11/(AQ4-AO25)","v":0.1},{"$f":"IF(AP11=0,0,(AP11*((LOG(AP11))/LOG(2))))","v":-0.33219280948873625},null,{"$f":"N11","v":11211},{"$f":"COUNTIF(L117:L138,AS11)","v":0},{"$f":"AT11/(AV4-AT25)","v":0},{"$f":"IF(AU11=0,0,(AU11*((LOG(AU11))/LOG(2))))","v":0}]
[21,1075,11,1087,11,1100,21,1116,11,1129,1,21121,null,11212,{"$f":"COUNTIF($L$7:$L$500,N12)","v":5},{"$f":"O12/$Q$4","v":3.8167938931297711E-2},{"$f":"IF(P12=0,0,(P12*((LOG(P12))/LOG(2))))","v":-0.17982804987214074},null,null,{"$f":"N12","v":11212},{"$f":"COUNTIF(L7:L28,T12)","v":0},{"$f":"U12/(W4-U25)","v":0},{"$f":"IF(V12=0,0,(V12*((LOG(V12))/LOG(2))))","v":0},null,{"$f":"N12","v":11212},{"$f":"COUNTIF(L29:L50,Y12)","v":3},{"$f":"Z12/(AB4-Z25)","v":0.17647058823529413},{"$f":"IF(AA12=0,0,(AA12*((LOG(AA12))/LOG(2))))","v":-0.44161770715220888},null,{"$f":"N12","v":11212},{"$f":"COUNTIF(L51:L72,AD12)","v":1},{"$f":"AE12/(AG4-AE25)","v":5.2631578947368418E-2},{"$f":"IF(AF12=0,0,(AF12*((LOG(AF12))/LOG(2))))","v":-0.22357513228650452},null,{"$f":"N12","v":11212},{"$f":"COUNTIF(L73:L94,AI12)","v":0},{"$f":"AJ12/(AL4-AJ25)","v":0},{"$f":"IF(AK12=0,0,(AK12*((LOG(AK12))/LOG(2))))","v":0},null,{"$f":"N12","v":11212},{"$f":"COUNTIF(L95:L116,AN12)","v":1},{"$f":"AO12/(AQ4-AO25)","v":0.05},{"$f":"IF(AP12=0,0,(AP12*((LOG(AP12))/LOG(2))))","v":-0.21609640474436814},null,{"$f":"N12","v":11212},{"$f":"COUNTIF(L117:L138,AS12)","v":0},{"$f":"AT12/(AV4-AT25)","v":0},{"$f":"IF(AU12=0,0,(AU12*((LOG(AU12))/LOG(2))))","v":0}]
[12,1221,24,1239,13,1266,23,1275,13,1284,0,12121,null,11221,{"$f":"COUNTIF($L$7:$L$500,N13)","v":1},{"$f":"O13/$Q$4","v":7.6335877862595417E-3},{"$f":"IF(P13=0,0,(P13*((LOG(P13))/LOG(2))))","v":-5.3690251920133214E-2},null,null,{"$f":"N13","v":11221},{"$f":"COUNTIF(L7:L28,T13)","v":0},{"$f":"U13/(W4-U25)","v":0},{"$f":"IF(V13=0,0,(V13*((LOG(V13))/LOG(2))))","v":0},null,{"$f":"N13","v":11221},{"$f":"COUNTIF(L29:L50,Y13)","v":0},{"$f":"Z13/(AB4-Z25)","v":0},{"$f":"IF(AA13=0,0,(AA13*((LOG(AA13))/LOG(2))))","v":0},null,{"$f":"N13","v":11221},{"$f":"COUNTIF(L51:L72,AD13)","v":1},{"$f":"AE13/(AG4-AE25)","v":5.2631578947368418E-2},{"$f":"IF(AF13=0,0,(AF13*((LOG(AF13))/LOG(2))))","v":-0.22357513228650452},null,{"$f":"N13","v":11221},{"$f":"COUNTIF(L73:L94,AI13)","v":0},{"$f":"AJ13/(AL4-AJ25)","v":0},{"$f":"IF(AK13=0,0,(AK13*((LOG(AK13))/LOG(2))))","v":0},null,{"$f":"N13","v":11221},{"$f":"COUNTIF(L95:L116,AN13)","v":0},{"$f":"AO13/(AQ4-AO25)","v":0},{"$f":"IF(AP13=0,0,(AP13*((LOG(AP13))/LOG(2))))","v":0},null,{"$f":"N13","v":11221},{"$f":"COUNTIF(L117:L138,AS13)","v":0},{"$f":"AT13/(AV4-AT25)","v":0},{"$f":"IF(AU13=0,0,(AU13*((LOG(AU13))/LOG(2))))","v":0}]
[12,1422,13,1440,13,1471,14,1498,13,1523,0,11111,null,11222,{"$f":"COUNTIF($L$7:$L$500,N14)","v":0},{"$f":"O14/$Q$4","v":0},{"$f":"IF(P14=0,0,(P14*((LOG(P14))/LOG(2))))","v":0},null,null,{"$f":"N14","v":11222},{"$f":"COUNTIF(L7:L28,T14)","v":0},{"$f":"U14/(W4-U25)","v":0},{"$f":"IF(V14=0,0,(V14*((LOG(V14))/LOG(2))))","v":0},null,{"$f":"N14","v":11222},{"$f":"COUNTIF(L29:L50,Y14)","v":0},{"$f":"Z14/(AB4-Z25)","v":0},{"$f":"IF(AA14=0,0,(AA14*((LOG(AA14))/LOG(2))))","v":0},null,{"$f":"N14","v":11222},{"$f":"COUNTIF(L51:L72,AD14)","v":0},{"$f":"AE14/(AG4-AE25)","v":0},{"$f":"IF(AF14=0,0,(AF14*((LOG(AF14))/LOG(2))))","v":0},null,{"$f":"N14","v":11222},{"$f":"COUNTIF(L73:L94,AI14)","v":0},{"$f":"AJ14/(AL4-AJ25)","v":0},{"$f":"IF(AK14=0,0,(AK14*((LOG(AK14))/LOG(2))))","v":0},null,{"$f":"N14","v":11222},{"$f":"COUNTIF(L95:L116,AN14)","v":0},{"$f":"AO14/(AQ4-AO25)","v":0},{"$f":"IF(AP14=0,0,(AP14*((LOG(AP14))/LOG(2))))","v":0},null,{"$f":"N14","v":11222},{"$f":"COUNTIF(L117:L138,AS14)","v":0},{"$f":"AT14/(AV4-AT25)","v":0},{"$f":"IF(AU14=0,0,(AU14*((LOG(AU14))/LOG(2))))","v":0}]
[21,1634,11,1656,11,1662,21,1671,11,1683,1,21121,null,12111,{"$f":"COUNTIF($L$7:$L$500,N15)","v":5},{"$f":"O15/$Q$4","v":3.8167938931297711E-2},{"$f":"IF(P15=0,0,(P15*((LOG(P15))/LOG(2))))","v":-0.17982804987214074},null,null,{"$f":"N15","v":12111},{"$f":"COUNTIF(L7:L28,T15)","v":0},{"$f":"U15/(W4-U25)","v":0},{"$f":"IF(V15=0,0,(V15*((LOG(V15))/LOG(2))))","v":0},null,{"$f":"N15","v":12111},{"$f":"COUNTIF(L29:L50,Y15)","v":0},{"$f":"Z15/(AB4-Z25)","v":0},{"$f":"IF(AA15=0,0,(AA15*((LOG(AA15))/LOG(2))))","v":0},null,{"$f":"N15","v":12111},{"$f":"COUNTIF(L51:L72,AD15)","v":1},{"$f":"AE15/(AG4-AE25)","v":5.2631578947368418E-2},{"$f":"IF(AF15=0,0,(AF15*((LOG(AF15))/LOG(2))))","v":-0.22357513228650452},null,{"$f":"N15","v":12111},{"$f":"COUNTIF(L73:L94,AI15)","v":1},{"$f":"AJ15/(AL4-AJ25)","v":6.25E-2},{"$f":"IF(AK15=0,0,(AK15*((LOG(AK15))/LOG(2))))","v":-0.25},null,{"$f":"N15","v":12111},{"$f":"COUNTIF(L95:L116,AN15)","v":1},{"$f":"AO15/(AQ4-AO25)","v":0.05},{"$f":"IF(AP15=0,0,(AP15*((LOG(AP15))/LOG(2))))","v":-0.21609640474436814},null,{"$f":"N15","v":12111},{"$f":"COUNTIF(L117:L138,AS15)","v":2},{"$f":"AT15/(AV4-AT25)","v":0.11764705882352941},{"$f":"IF(AU15=0,0,(AU15*((LOG(AU15))/LOG(2))))","v":-0.36323092250003997}]
[21,1798,11,1811,11,1816,21,1824,11,1833,1,21121,null,12112,{"$f":"COUNTIF($L$7:$L$500,N16)","v":6},{"$f":"O16/$Q$4","v":4.5801526717557252E-2},{"$f":"IF(P16=0,0,(P16*((LOG(P16))/LOG(2))))","v":-0.2037462824801356},null,null,{"$f":"N16","v":12112},{"$f":"COUNTIF(L7:L28,T16)","v":1},{"$f":"U16/(W4-U25)","v":5.8823529411764705E-2},{"$f":"IF(V16=0,0,(V16*((LOG(V16))/LOG(2))))","v":-0.24043899066178465},null,{"$f":"N16","v":12112},{"$f":"COUNTIF(L29:L50,Y16)","v":3},{"$f":"Z16/(AB4-Z25)","v":0.17647058823529413},{"$f":"IF(AA16=0,0,(AA16*((LOG(AA16))/LOG(2))))","v":-0.44161770715220888},null,{"$f":"N16","v":12112},{"$f":"COUNTIF(L51:L72,AD16)","v":0},{"$f":"AE16/(AG4-AE25)","v":0},{"$f":"IF(AF16=0,0,(AF16*((LOG(AF16))/LOG(2))))","v":0},null,{"$f":"N16","v":12112},{"$f":"COUNTIF(L73:L94,AI16)","v":1},{"$f":"AJ16/(AL4-AJ25)","v":6.25E-2},{"$f":"IF(AK16=0,0,(AK16*((LOG(AK16))/LOG(2))))","v":-0.25},null,{"$f":"N16","v":12112},{"$f":"COUNTIF(L95:L116,AN16)","v":1},{"$f":"AO16/(AQ4-AO25)","v":0.05},{"$f":"IF(AP16=0,0,(AP16*((LOG(AP16))/LOG(2))))","v":-0.21609640474436814},null,{"$f":"N16","v":12112},{"$f":"COUNTIF(L117:L138,AS16)","v":0},{"$f":"AT16/(AV4-AT25)","v":0},{"$f":"IF(AU16=0,0,(AU16*((LOG(AU16))/LOG(2))))","v":0}]
[21,1958,11,1971,22,1999,14,2010,24,2026,0,21212,null,12121,{"$f":"COUNTIF($L$7:$L$500,N17)","v":10},{"$f":"O17/$Q$4","v":7.6335877862595422E-2},{"$f":"IF(P17=0,0,(P17*((LOG(P17))/LOG(2))))","v":-0.2833202218816861},null,null,{"$f":"N17","v":12121},{"$f":"COUNTIF(L7:L28,T17)","v":2},{"$f":"U17/(W4-U25)","v":0.11764705882352941},{"$f":"IF(V17=0,0,(V17*((LOG(V17))/LOG(2))))","v":-0.36323092250003997},null,{"$f":"N17","v":12121},{"$f":"COUNTIF(L29:L50,Y17)","v":1},{"$f":"Z17/(AB4-Z25)","v":5.8823529411764705E-2},{"$f":"IF(AA17=0,0,(AA17*((LOG(AA17))/LOG(2))))","v":-0.24043899066178465},null,{"$f":"N17","v":12121},{"$f":"COUNTIF(L51:L72,AD17)","v":3},{"$f":"AE17/(AG4-AE25)","v":0.15789473684210525},{"$f":"IF(AF17=0,0,(AF17*((LOG(AF17))/LOG(2))))","v":-0.42046815990354147},null,{"$f":"N17","v":12121},{"$f":"COUNTIF(L73:L94,AI17)","v":3},{"$f":"AJ17/(AL4-AJ25)","v":0.1875},{"$f":"IF(AK17=0,0,(AK17*((LOG(AK17))/LOG(2))))","v":-0.45281953111478312},null,{"$f":"N17","v":12121},{"$f":"COUNTIF(L95:L116,AN17)","v":1},{"$f":"AO17/(AQ4-AO25)","v":0.05},{"$f":"IF(AP17=0,0,(AP17*((LOG(AP17))/LOG(2))))","v":-0.21609640474436814},null,{"$f":"N17","v":12121},{"$f":"COUNTIF(L117:L138,AS17)","v":0},{"$f":"AT17/(AV4-AT25)","v":0},{"$f":"IF(AU17=0,0,(AU17*((LOG(AU17))/LOG(2))))","v":0}]
[21,2150,11,2176,11,2181,21,2190,11,2199,1,21121,null,12122,{"$f":"COUNTIF($L$7:$L$500,N18)","v":0},{"$f":"O18/$Q$4","v":0},{"$f":"IF(P18=0,0,(P18*((LOG(P18))/LOG(2))))","v":0},null,null,{"$f":"N18","v":12122},{"$f":"COUNTIF(L7:L28,T18)","v":0},{"$f":"U18/(W4-U25)","v":0},{"$f":"IF(V18=0,0,(V18*((LOG(V18))/LOG(2))))","v":0},null,{"$f":"N18","v":12122},{"$f":"COUNTIF(L29:L50,Y18)","v":0},{"$f":"Z18/(AB4-Z25)","v":0},{"$f":"IF(AA18=0,0,(AA18*((LOG(AA18))/LOG(2))))","v":0},null,{"$f":"N18","v":12122},{"$f":"COUNTIF(L51:L72,AD18)","v":0},{"$f":"AE18/(AG4-AE25)","v":0},{"$f":"IF(AF18=0,0,(AF18*((LOG(AF18))/LOG(2))))","v":0},null,{"$f":"N18","v":12122},{"$f":"COUNTIF(L73:L94,AI18)","v":0},{"$f":"AJ18/(AL4-AJ25)","v":0},{"$f":"IF(AK18=0,0,(AK18*((LOG(AK18))/LOG(2))))","v":0},null,{"$f":"N18","v":12122},{"$f":"COUNTIF(L95:L116,AN18)","v":0},{"$f":"AO18/(AQ4-AO25)","v":0},{"$f":"IF(AP18=0,0,(AP18*((LOG(AP18))/LOG(2))))","v":0},null,{"$f":"N18","v":12122},{"$f":"COUNTIF(L117:L138,AS18)","v":0},{"$f":"AT18/(AV4-AT25)","v":0},{"$f":"IF(AU18=0,0,(AU18*((LOG(AU18))/LOG(2))))","v":0}]
[21,2289,11,2302,22,2311,14,2359,24,2381,0,21212,null,12211,{"$f":"COUNTIF($L$7:$L$500,N19)","v":1},{"$f":"O19/$Q$4","v":7.6335877862595417E-3},{"$f":"IF(P19=0,0,(P19*((LOG(P19))/LOG(2))))","v":-5.3690251920133214E-2},null,null,{"$f":"N19","v":12211},{"$f":"COUNTIF(L7:L28,T19)","v":0},{"$f":"U19/(W4-U25)","v":0},{"$f":"IF(V19=0,0,(V19*((LOG(V19))/LOG(2))))","v":0},null,{"$f":"N19","v":12211},{"$f":"COUNTIF(L29:L50,Y19)","v":0},{"$f":"Z19/(AB4-Z25)","v":0},{"$f":"IF(AA19=0,0,(AA19*((LOG(AA19))/LOG(2))))","v":0},null,{"$f":"N19","v":12211},{"$f":"COUNTIF(L51:L72,AD19)","v":1},{"$f":"AE19/(AG4-AE25)","v":5.2631578947368418E-2},{"$f":"IF(AF19=0,0,(AF19*((LOG(AF19))/LOG(2))))","v":-0.22357513228650452},null,{"$f":"N19","v":12211},{"$f":"COUNTIF(L73:L94,AI19)","v":0},{"$f":"AJ19/(AL4-AJ25)","v":0},{"$f":"IF(AK19=0,0,(AK19*((LOG(AK19))/LOG(2))))","v":0},null,{"$f":"N19","v":12211},{"$f":"COUNTIF(L95:L116,AN19)","v":0},{"$f":"AO19/(AQ4-AO25)","v":0},{"$f":"IF(AP19=0,0,(AP19*((LOG(AP19))/LOG(2))))","v":0},null,{"$f":"N19","v":12211},{"$f":"COUNTIF(L117:L138,AS19)","v":0},{"$f":"AT19/(AV4-AT25)","v":0},{"$f":"IF(AU19=0,0,(AU19*((LOG(AU19))/LOG(2))))","v":0}]
[21,2494,11,2504,22,2513,14,2524,13,2553,0,21211,null,12212,{"$f":"COUNTIF($L$7:$L$500,N20)","v":3},{"$f":"O20/$Q$4","v":2.2900763358778626E-2},{"$f":"IF(P20=0,0,(P20*((LOG(P20))/LOG(2))))","v":-0.12477390459884644},null,null,{"$f":"N20","v":12212},{"$f":"COUNTIF(L7:L28,T20)","v":0},{"$f":"U20/(W4-U25)","v":0},{"$f":"IF(V20=0,0,(V20*((LOG(V20))/LOG(2))))","v":0},null,{"$f":"N20","v":12212},{"$f":"COUNTIF(L29:L50,Y20)","v":0},{"$f":"Z20/(AB4-Z25)","v":0},{"$f":"IF(AA20=0,0,(AA20*((LOG(AA20))/LOG(2))))","v":0},null,{"$f":"N20","v":12212},{"$f":"COUNTIF(L51:L72,AD20)","v":0},{"$f":"AE20/(AG4-AE25)","v":0},{"$f":"IF(AF20=0,0,(AF20*((LOG(AF20))/LOG(2))))","v":0},null,{"$f":"N20","v":12212},{"$f":"COUNTIF(L73:L94,AI20)","v":0},{"$f":"AJ20/(AL4-AJ25)","v":0},{"$f":"IF(AK20=0,0,(AK20*((LOG(AK20))/LOG(2))))","v":0},null,{"$f":"N20","v":12212},{"$f":"COUNTIF(L95:L116,AN20)","v":1},{"$f":"AO20/(AQ4-AO25)","v":0.05},{"$f":"IF(AP20=0,0,(AP20*((LOG(AP20))/LOG(2))))","v":-0.21609640474436814},null,{"$f":"N20","v":12212},{"$f":"COUNTIF(L117:L138,AS20)","v":2},{"$f":"AT20/(AV4-AT25)","v":0.11764705882352941},{"$f":"IF(AU20=0,0,(AU20*((LOG(AU20))/LOG(2))))","v":-0.36323092250003997}]
[21,2678,11,2687,11,2705,21,2717,11,2727,1,21121,null,12221,{"$f":"COUNTIF($L$7:$L$500,N21)","v":0},{"$f":"O21/$Q$4","v":0},{"$f":"IF(P21=0,0,(P21*((LOG(P21))/LOG(2))))","v":0},null,null,{"$f":"N21","v":12221},{"$f":"COUNTIF(L7:L28,T21)","v":0},{"$f":"U21/(W4-U25)","v":0},{"$f":"IF(V21=0,0,(V21*((LOG(V21))/LOG(2))))","v":0},null,{"$f":"N21","v":12221},{"$f":"COUNTIF(L29:L50,Y21)","v":0},{"$f":"Z21/(AB4-Z25)","v":0},{"$f":"IF(AA21=0,0,(AA21*((LOG(AA21))/LOG(2))))","v":0},null,{"$f":"N21","v":12221},{"$f":"COUNTIF(L51:L72,AD21)","v":0},{"$f":"AE21/(AG4-AE25)","v":0},{"$f":"IF(AF21=0,0,(AF21*((LOG(AF21))/LOG(2))))","v":0},null,{"$f":"N21","v":12221},{"$f":"COUNTIF(L73:L94,AI21)","v":0},{"$f":"AJ21/(AL4-AJ25)","v":0},{"$f":"IF(AK21=0,0,(AK21*((LOG(AK21))/LOG(2))))","v":0},null,{"$f":"N21","v":12221},{"$f":"COUNTIF(L95:L116,AN21)","v":0},{"$f":"AO21/(AQ4-AO25)","v":0},{"$f":"IF(AP21=0,0,(AP21*((LOG(AP21))/LOG(2))))","v":0},null,{"$f":"N21","v":12221},{"$f":"COUNTIF(L117:L138,AS21)","v":0},{"$f":"AT21/(AV4-AT25)","v":0},{"$f":"IF(AU21=0,0,(AU21*((LOG(AU21))/LOG(2))))","v":0}]
[21,2825,11,2838,22,2846,14,2855,13,2880,0,21211,null,12222,{"$f":"COUNTIF($L$7:$L$500,N22)","v":0},{"$f":"O22/$Q$4","v":0},{"$f":"IF(P22=0,0,(P22*((LOG(P22))/LOG(2))))","v":0},null,null,{"$f":"N22","v":12222},{"$f":"COUNTIF(L7:L28,T22)","v":0},{"$f":"U22/(W4-U25)","v":0},{"$f":"IF(V22=0,0,(V22*((LOG(V22))/LOG(2))))","v":0},null,{"$f":"N22","v":12222},{"$f":"COUNTIF(L29:L50,Y22)","v":0},{"$f":"Z22/(AB4-Z25)","v":0},{"$f":"IF(AA22=0,0,(AA22*((LOG(AA22))/LOG(2))))","v":0},null,{"$f":"N22","v":12222},{"$f":"COUNTIF(L51:L72,AD22)","v":0},{"$f":"AE22/(AG4-AE25)","v":0},{"$f":"IF(AF22=0,0,(AF22*((LOG(AF22))/LOG(2))))","v":0},null,{"$f":"N22","v":12222},{"$f":"COUNTIF(L73:L94,AI22)","v":0},{"$f":"AJ22/(AL4-AJ25)","v":0},{"$f":"IF(AK22=0,0,(AK22*((LOG(AK22))/LOG(2))))","v":0},null,{"$f":"N22","v":12222},{"$f":"COUNTIF(L95:L116,AN22)","v":0},{"$f":"AO22/(AQ4-AO25)","v":0},{"$f":"IF(AP22=0,0,(AP22*((LOG(AP22))/LOG(2))))","v":0},null,{"$f":"N22","v":12222},{"$f":"COUNTIF(L117:L138,AS22)","v":0},{"$f":"AT22/(AV4-AT25)","v":0},{"$f":"IF(AU22=0,0,(AU22*((LOG(AU22))/LOG(2))))","v":0}]
[21,2995,22,3011,13,3023,23,3037,13,3049,0,22121,null,21111,{"$f":"COUNTIF($L$7:$L$500,N23)","v":3},{"$f":"O23/$Q$4","v":2.2900763358778626E-2},{"$f":"IF(P23=0,0,(P23*((LOG(P23))/LOG(2))))","v":-0.12477390459884644},null,null,{"$f":"N23","v":21111},{"$f":"COUNTIF(L7:L28,T23)","v":1},{"$f":"U23/(W4-U25)","v":5.8823529411764705E-2},{"$f":"IF(V23=0,0,(V23*((LOG(V23))/LOG(2))))","v":-0.24043899066178465},null,{"$f":"N23","v":21111},{"$f":"COUNTIF(L29:L50,Y23)","v":1},{"$f":"Z23/(AB4-Z25)","v":5.8823529411764705E-2},{"$f":"IF(AA23=0,0,(AA23*((LOG(AA23))/LOG(2))))","v":-0.24043899066178465},null,{"$f":"N23","v":21111},{"$f":"COUNTIF(L51:L72,AD23)","v":0},{"$f":"AE23/(AG4-AE25)","v":0},{"$f":"IF(AF23=0,0,(AF23*((LOG(AF23))/LOG(2))))","v":0},null,{"$f":"N23","v":21111},{"$f":"COUNTIF(L73:L94,AI23)","v":0},{"$f":"AJ23/(AL4-AJ25)","v":0},{"$f":"IF(AK23=0,0,(AK23*((LOG(AK23))/LOG(2))))","v":0},null,{"$f":"N23","v":21111},{"$f":"COUNTIF(L95:L116,AN23)","v":0},{"$f":"AO23/(AQ4-AO25)","v":0},{"$f":"IF(AP23=0,0,(AP23*((LOG(AP23))/LOG(2))))","v":0},null,{"$f":"N23","v":21111},{"$f":"COUNTIF(L117:L138,AS23)","v":1},{"$f":"AT23/(AV4-AT25)","v":5.8823529411764705E-2},{"$f":"IF(AU23=0,0,(AU23*((LOG(AU23))/LOG(2))))","v":-0.24043899066178465}]
[12,3185,24,3197,13,3207,23,3219,13,3254,0,12121,null,21112,{"$f":"COUNTIF($L$7:$L$500,N24)","v":6},{"$f":"O24/$Q$4","v":4.5801526717557252E-2},{"$f":"IF(P24=0,0,(P24*((LOG(P24))/LOG(2))))","v":-0.2037462824801356},null,null,{"$f":"N24","v":21112},{"$f":"COUNTIF(L7:L28,T24)","v":1},{"$f":"U24/(W4-U25)","v":5.8823529411764705E-2},{"$f":"IF(V24=0,0,(V24*((LOG(V24))/LOG(2))))","v":-0.24043899066178465},null,{"$f":"N24","v":21112},{"$f":"COUNTIF(L29:L50,Y24)","v":3},{"$f":"Z24/(AB4-Z25)","v":0.17647058823529413},{"$f":"IF(AA24=0,0,(AA24*((LOG(AA24))/LOG(2))))","v":-0.44161770715220888},null,{"$f":"N24","v":21112},{"$f":"COUNTIF(L51:L72,AD24)","v":0},{"$f":"AE24/(AG4-AE25)","v":0},{"$f":"IF(AF24=0,0,(AF24*((LOG(AF24))/LOG(2))))","v":0},null,{"$f":"N24","v":21112},{"$f":"COUNTIF(L73:L94,AI24)","v":0},{"$f":"AJ24/(AL4-AJ25)","v":0},{"$f":"IF(AK24=0,0,(AK24*((LOG(AK24))/LOG(2))))","v":0},null,{"$f":"N24","v":21112},{"$f":"COUNTIF(L95:L116,AN24)","v":1},{"$f":"AO24/(AQ4-AO25)","v":0.05},{"$f":"IF(AP24=0,0,(AP24*((LOG(AP24))/LOG(2))))","v":-0.21609640474436814},null,{"$f":"N24","v":21112},{"$f":"COUNTIF(L117:L138,AS24)","v":1},{"$f":"AT24/(AV4-AT25)","v":5.8823529411764705E-2},{"$f":"IF(AU24=0,0,(AU24*((LOG(AU24))/LOG(2))))","v":-0.24043899066178465}]
[12,3364,13,3393,24,3414,14,3426,13,3453,0,11211,null,21121,{"$f":"COUNTIF($L$7:$L$500,N25)","v":25},{"$f":"O25/$Q$4","v":0.19083969465648856},{"$f":"IF(P25=0,0,(P25*((LOG(P25))/LOG(2))))","v":-0.45602420071807737},null,null,{"$f":"N25","v":21121},{"$f":"COUNTIF(L7:L28,T25)","v":5},null,null,null,{"$f":"N25","v":21121},{"$f":"COUNTIF(L29:L50,Y25)","v":5},null,null,null,{"$f":"N25","v":21121},{"$f":"COUNTIF(L51:L72,AD25)","v":3},null,null,null,{"$f":"N25","v":21121},{"$f":"COUNTIF(L73:L94,AI25)","v":6},null,null,null,{"$f":"N25","v":21121},{"$f":"COUNTIF(L95:L116,AN25)","v":2},null,null,null,{"$f":"N25","v":21121},{"$f":"COUNTIF(L117:L138,AS25)","v":4}]
[21,3568,11,3577,11,3581,21,3590,22,3617,0,21122,null,21122,{"$f":"COUNTIF($L$7:$L$500,N26)","v":2},{"$f":"O26/$Q$4","v":1.5267175572519083E-2},{"$f":"IF(P26=0,0,(P26*((LOG(P26))/LOG(2))))","v":-9.2113328267747346E-2},null,null,{"$f":"N26","v":21122},{"$f":"COUNTIF(L7:L28,T26)","v":1},{"$f":"U26/(W4-U25)","v":5.8823529411764705E-2},{"$f":"IF(V26=0,0,(V26*((LOG(V26))/LOG(2))))","v":-0.24043899066178465},null,{"$f":"N26","v":21122},{"$f":"COUNTIF(L29:L50,Y26)","v":0},{"$f":"Z26/(AB4-Z25)","v":0},{"$f":"IF(AA26=0,0,(AA26*((LOG(AA26))/LOG(2))))","v":0},null,{"$f":"N26","v":21122},{"$f":"COUNTIF(L51:L72,AD26)","v":0},{"$f":"AE26/(AG4-AE25)","v":0},{"$f":"IF(AF26=0,0,(AF26*((LOG(AF26))/LOG(2))))","v":0},null,{"$f":"N26","v":21122},{"$f":"COUNTIF(L73:L94,AI26)","v":1},{"$f":"AJ26/(AL4-AJ25)","v":6.25E-2},{"$f":"IF(AK26=0,0,(AK26*((LOG(AK26))/LOG(2))))","v":-0.25},null,{"$f":"N26","v":21122},{"$f":"COUNTIF(L95:L116,AN26)","v":0},{"$f":"AO26/(AQ4-AO25)","v":0},{"$f":"IF(AP26=0,0,(AP26*((LOG(AP26))/LOG(2))))","v":0},null,{"$f":"N26","v":21122},{"$f":"COUNTIF(L117:L138,AS26)","v":0},{"$f":"AT26/(AV4-AT25)","v":0},{"$f":"IF(AU26=0,0,(AU26*((LOG(AU26))/LOG(2))))","v":0}]
[21,3715,11,3727,22,3735,14,3750,24,3762,0,21212,null,21211,{"$f":"COUNTIF($L$7:$L$500,N27)","v":13},{"$f":"O27/$Q$4","v":9.9236641221374045E-2},{"$f":"IF(P27=0,0,(P27*((LOG(P27))/LOG(2))))","v":-0.3307540662912416},null,null,{"$f":"N27","v":21211},{"$f":"COUNTIF(L7:L28,T27)","v":3},{"$f":"U27/(W4-U25)","v":0.17647058823529413},{"$f":"IF(V27=0,0,(V27*((LOG(V27))/LOG(2))))","v":-0.44161770715220888},null,{"$f":"N27","v":21211},{"$f":"COUNTIF(L29:L50,Y27)","v":2},{"$f":"Z27/(AB4-Z25)","v":0.11764705882352941},{"$f":"IF(AA27=0,0,(AA27*((LOG(AA27))/LOG(2))))","v":-0.36323092250003997},null,{"$f":"N27","v":21211},{"$f":"COUNTIF(L51:L72,AD27)","v":1},{"$f":"AE27/(AG4-AE25)","v":5.2631578947368418E-2},{"$f":"IF(AF27=0,0,(AF27*((LOG(AF27))/LOG(2))))","v":-0.22357513228650452},null,{"$f":"N27","v":21211},{"$f":"COUNTIF(L73:L94,AI27)","v":4},{"$f":"AJ27/(AL4-AJ25)","v":0.25},{"$f":"IF(AK27=0,0,(AK27*((LOG(AK27))/LOG(2))))","v":-0.5},null,{"$f":"N27","v":21211},{"$f":"COUNTIF(L95:L116,AN27)","v":2},{"$f":"AO27/(AQ4-AO25)","v":0.1},{"$f":"IF(AP27=0,0,(AP27*((LOG(AP27))/LOG(2))))","v":-0.33219280948873625},null,{"$f":"N27","v":21211},{"$f":"COUNTIF(L117:L138,AS27)","v":1},{"$f":"AT27/(AV4-AT25)","v":5.8823529411764705E-2},{"$f":"IF(AU27=0,0,(AU27*((LOG(AU27))/LOG(2))))","v":-0.24043899066178465}]
[21,3867,11,3879,11,3883,12,3889,13,3909,0,21111,null,21212,{"$f":"COUNTIF($L$7:$L$500,N28)","v":26},{"$f":"O28/$Q$4","v":0.19847328244274809},{"$f":"IF(P28=0,0,(P28*((LOG(P28))/LOG(2))))","v":-0.46303485013973528},null,null,{"$f":"N28","v":21212},{"$f":"COUNTIF(L7:L28,T28)","v":4},{"$f":"U28/(W4-U25)","v":0.23529411764705882},{"$f":"IF(V28=0,0,(V28*((LOG(V28))/LOG(2))))","v":-0.49116772735302094},null,{"$f":"N28","v":21212},{"$f":"COUNTIF(L29:L50,Y28)","v":1},{"$f":"Z28/(AB4-Z25)","v":5.8823529411764705E-2},{"$f":"IF(AA28=0,0,(AA28*((LOG(AA28))/LOG(2))))","v":-0.24043899066178465},null,{"$f":"N28","v":21212},{"$f":"COUNTIF(L51:L72,AD28)","v":6},{"$f":"AE28/(AG4-AE25)","v":0.31578947368421051},{"$f":"IF(AF28=0,0,(AF28*((LOG(AF28))/LOG(2))))","v":-0.52514684612287243},null,{"$f":"N28","v":21212},{"$f":"COUNTIF(L73:L94,AI28)","v":5},{"$f":"AJ28/(AL4-AJ25)","v":0.3125},{"$f":"IF(AK28=0,0,(AK28*((LOG(AK28))/LOG(2))))","v":-0.52439747034769923},null,{"$f":"N28","v":21212},{"$f":"COUNTIF(L95:L116,AN28)","v":7},{"$f":"AO28/(AQ4-AO25)","v":0.35},{"$f":"IF(AP28=0,0,(AP28*((LOG(AP28))/LOG(2))))","v":-0.53010061049041535},null,{"$f":"N28","v":21212},{"$f":"COUNTIF(L117:L138,AS28)","v":3},{"$f":"AT28/(AV4-AT25)","v":0.17647058823529413},{"$f":"IF(AU28=0,0,(AU28*((LOG(AU28))/LOG(2))))","v":-0.44161770715220888}]
[12,4034,13,4063,13,4083,23,4102,13,4113,0,11121,null,21221,{"$f":"COUNTIF($L$7:$L$500,N29)","v":2},{"$f":"O29/$Q$4","v":1.5267175572519083E-2},{"$f":"IF(P29=0,0,(P29*((LOG(P29))/LOG(2))))","v":-9.2113328267747346E-2},null,null,{"$f":"N29","v":21221},{"$f":"COUNTIF(L7:L28,T29)","v":0},{"$f":"U29/(W4-U25)","v":0},{"$f":"IF(V29=0,0,(V29*((LOG(V29))/LOG(2))))","v":0},null,{"$f":"N29","v":21221},{"$f":"COUNTIF(L29:L50,Y29)","v":0},{"$f":"Z29/(AB4-Z25)","v":0},{"$f":"IF(AA29=0,0,(AA29*((LOG(AA29))/LOG(2))))","v":0},null,{"$f":"N29","v":21221},{"$f":"COUNTIF(L51:L72,AD29)","v":1},{"$f":"AE29/(AG4-AE25)","v":5.2631578947368418E-2},{"$f":"IF(AF29=0,0,(AF29*((LOG(AF29))/LOG(2))))","v":-0.22357513228650452},null,{"$f":"N29","v":21221},{"$f":"COUNTIF(L73:L94,AI29)","v":0},{"$f":"AJ29/(AL4-AJ25)","v":0},{"$f":"IF(AK29=0,0,(AK29*((LOG(AK29))/LOG(2))))","v":0},null,{"$f":"N29","v":21221},{"$f":"COUNTIF(L95:L116,AN29)","v":0},{"$f":"AO29/(AQ4-AO25)","v":0},{"$f":"IF(AP29=0,0,(AP29*((LOG(AP29))/LOG(2))))","v":0},null,{"$f":"N29","v":21221},{"$f":"COUNTIF(L117:L138,AS29)","v":1},{"$f":"AT29/(AV4-AT25)","v":5.8823529411764705E-2},{"$f":"IF(AU29=0,0,(AU29*((LOG(AU29))/LOG(2))))","v":-0.24043899066178465}]
[21,4213,11,4224,11,4234,12,4255,13,4288,0,21111,null,21222,{"$f":"COUNTIF($L$7:$L$500,N30)","v":1},{"$f":"O30/$Q$4","v":7.6335877862595417E-3},{"$f":"IF(P30=0,0,(P30*((LOG(P30))/LOG(2))))","v":-5.3690251920133214E-2},null,null,{"$f":"N30","v":21222},{"$f":"COUNTIF(L7:L28,T30)","v":0},{"$f":"U30/(W4-U25)","v":0},{"$f":"IF(V30=0,0,(V30*((LOG(V30))/LOG(2))))","v":0},null,{"$f":"N30","v":21222},{"$f":"COUNTIF(L29:L50,Y30)","v":0},{"$f":"Z30/(AB4-Z25)","v":0},{"$f":"IF(AA30=0,0,(AA30*((LOG(AA30))/LOG(2))))","v":0},null,{"$f":"N30","v":21222},{"$f":"COUNTIF(L51:L72,AD30)","v":0},{"$f":"AE30/(AG4-AE25)","v":0},{"$f":"IF(AF30=0,0,(AF30*((LOG(AF30))/LOG(2))))","v":0},null,{"$f":"N30","v":21222},{"$f":"COUNTIF(L73:L94,AI30)","v":0},{"$f":"AJ30/(AL4-AJ25)","v":0},{"$f":"IF(AK30=0,0,(AK30*((LOG(AK30))/LOG(2))))","v":0},null,{"$f":"N30","v":21222},{"$f":"COUNTIF(L95:L116,AN30)","v":1},{"$f":"AO30/(AQ4-AO25)","v":0.05},{"$f":"IF(AP30=0,0,(AP30*((LOG(AP30))/LOG(2))))","v":-0.21609640474436814},null,{"$f":"N30","v":21222},{"$f":"COUNTIF(L117:L138,AS30)","v":0},{"$f":"AT30/(AV4-AT25)","v":0},{"$f":"IF(AU30=0,0,(AU30*((LOG(AU30))/LOG(2))))","v":0}]
[21,4387,11,4400,11,4408,21,4416,11,4427,1,21121,null,22111,{"$f":"COUNTIF($L$7:$L$500,N31)","v":1},{"$f":"O31/$Q$4","v":7.6335877862595417E-3},{"$f":"IF(P31=0,0,(P31*((LOG(P31))/LOG(2))))","v":-5.3690251920133214E-2},null,null,{"$f":"N31","v":22111},{"$f":"COUNTIF(L7:L28,T31)","v":0},{"$f":"U31/(W4-U25)","v":0},{"$f":"IF(V31=0,0,(V31*((LOG(V31))/LOG(2))))","v":0},null,{"$f":"N31","v":22111},{"$f":"COUNTIF(L29:L50,Y31)","v":0},{"$f":"Z31/(AB4-Z25)","v":0},{"$f":"IF(AA31=0,0,(AA31*((LOG(AA31))/LOG(2))))","v":0},null,{"$f":"N31","v":22111},{"$f":"COUNTIF(L51:L72,AD31)","v":0},{"$f":"AE31/(AG4-AE25)","v":0},{"$f":"IF(AF31=0,0,(AF31*((LOG(AF31))/LOG(2))))","v":0},null,{"$f":"N31","v":22111},{"$f":"COUNTIF(L73:L94,AI31)","v":0},{"$f":"AJ31/(AL4-AJ25)","v":0},{"$f":"IF(AK31=0,0,(AK31*((LOG(AK31))/LOG(2))))","v":0},null,{"$f":"N31","v":22111},{"$f":"COUNTIF(L95:L116,AN31)","v":0},{"$f":"AO31/(AQ4-AO25)","v":0},{"$f":"IF(AP31=0,0,(AP31*((LOG(AP31))/LOG(2))))","v":0},null,{"$f":"N31","v":22111},{"$f":"COUNTIF(L117:L138,AS31)","v":1},{"$f":"AT31/(AV4-AT25)","v":5.8823529411764705E-2},{"$f":"IF(AU31=0,0,(AU31*((LOG(AU31))/LOG(2))))","v":-0.24043899066178465}]
[21,4552,11,4568,11,4572,12,4592,24,4603,0,21112,null,22112,{"$f":"COUNTIF($L$7:$L$500,N32)","v":5},{"$f":"O32/$Q$4","v":3.8167938931297711E-2},{"$f":"IF(P32=0,0,(P32*((LOG(P32))/LOG(2))))","v":-0.17982804987214074},null,null,{"$f":"N32","v":22112},{"$f":"COUNTIF(L7:L28,T32)","v":0},{"$f":"U32/(W4-U25)","v":0},{"$f":"IF(V32=0,0,(V32*((LOG(V32))/LOG(2))))","v":0},null,{"$f":"N32","v":22112},{"$f":"COUNTIF(L29:L50,Y32)","v":1},{"$f":"Z32/(AB4-Z25)","v":5.8823529411764705E-2},{"$f":"IF(AA32=0,0,(AA32*((LOG(AA32))/LOG(2))))","v":-0.24043899066178465},null,{"$f":"N32","v":22112},{"$f":"COUNTIF(L51:L72,AD32)","v":2},{"$f":"AE32/(AG4-AE25)","v":0.10526315789473684},{"$f":"IF(AF32=0,0,(AF32*((LOG(AF32))/LOG(2))))","v":-0.34188710667827216},null,{"$f":"N32","v":22112},{"$f":"COUNTIF(L73:L94,AI32)","v":0},{"$f":"AJ32/(AL4-AJ25)","v":0},{"$f":"IF(AK32=0,0,(AK32*((LOG(AK32))/LOG(2))))","v":0},null,{"$f":"N32","v":22112},{"$f":"COUNTIF(L95:L116,AN32)","v":0},{"$f":"AO32/(AQ4-AO25)","v":0},{"$f":"IF(AP32=0,0,(AP32*((LOG(AP32))/LOG(2))))","v":0},null,{"$f":"N32","v":22112},{"$f":"COUNTIF(L117:L138,AS32)","v":2},{"$f":"AT32/(AV4-AT25)","v":0.11764705882352941},{"$f":"IF(AU32=0,0,(AU32*((LOG(AU32))/LOG(2))))","v":-0.36323092250003997}]
[12,4722,13,4746,24,4797,14,4808,24,4827,0,11212,null,22121,{"$f":"COUNTIF($L$7:$L$500,N33)","v":5},{"$f":"O33/$Q$4","v":3.8167938931297711E-2},{"$f":"IF(P33=0,0,(P33*((LOG(P33))/LOG(2))))","v":-0.17982804987214074},null,null,{"$f":"N33","v":22121},{"$f":"COUNTIF(L7:L28,T33)","v":1},{"$f":"U33/(W4-U25)","v":5.8823529411764705E-2},{"$f":"IF(V33=0,0,(V33*((LOG(V33))/LOG(2))))","v":-0.24043899066178465},null,{"$f":"N33","v":22121},{"$f":"COUNTIF(L29:L50,Y33)","v":0},{"$f":"Z33/(AB4-Z25)","v":0},{"$f":"IF(AA33=0,0,(AA33*((LOG(AA33))/LOG(2))))","v":0},null,{"$f":"N33","v":22121},{"$f":"COUNTIF(L51:L72,AD33)","v":2},{"$f":"AE33/(AG4-AE25)","v":0.10526315789473684},{"$f":"IF(AF33=0,0,(AF33*((LOG(AF33))/LOG(2))))","v":-0.34188710667827216},null,{"$f":"N33","v":22121},{"$f":"COUNTIF(L73:L94,AI33)","v":1},{"$f":"AJ33/(AL4-AJ25)","v":6.25E-2},{"$f":"IF(AK33=0,0,(AK33*((LOG(AK33))/LOG(2))))","v":-0.25},null,{"$f":"N33","v":22121},{"$f":"COUNTIF(L95:L116,AN33)","v":0},{"$f":"AO33/(AQ4-AO25)","v":0},{"$f":"IF(AP33=0,0,(AP33*((LOG(AP33))/LOG(2))))","v":0},null,{"$f":"N33","v":22121},{"$f":"COUNTIF(L117:L138,AS33)","v":1},{"$f":"AT33/(AV4-AT25)","v":5.8823529411764705E-2},{"$f":"IF(AU33=0,0,(AU33*((LOG(AU33))/LOG(2))))","v":-0.24043899066178465}]
[21,4937,11,4951,11,4956,21,4965,11,4975,1,21121,null,22122,{"$f":"COUNTIF($L$7:$L$500,N34)","v":0},{"$f":"O34/$Q$4","v":0},{"$f":"IF(P34=0,0,(P34*((LOG(P34))/LOG(2))))","v":0},null,null,{"$f":"N34","v":22122},{"$f":"COUNTIF(L7:L28,T34)","v":0},{"$f":"U34/(W4-U25)","v":0},{"$f":"IF(V34=0,0,(V34*((LOG(V34))/LOG(2))))","v":0},null,{"$f":"N34","v":22122},{"$f":"COUNTIF(L29:L50,Y34)","v":0},{"$f":"Z34/(AB4-Z25)","v":0},{"$f":"IF(AA34=0,0,(AA34*((LOG(AA34))/LOG(2))))","v":0},null,{"$f":"N34","v":22122},{"$f":"COUNTIF(L51:L72,AD34)","v":0},{"$f":"AE34/(AG4-AE25)","v":0},{"$f":"IF(AF34=0,0,(AF34*((LOG(AF34))/LOG(2))))","v":0},null,{"$f":"N34","v":22122},{"$f":"COUNTIF(L73:L94,AI34)","v":0},{"$f":"AJ34/(AL4-AJ25)","v":0},{"$f":"IF(AK34=0,0,(AK34*((LOG(AK34))/LOG(2))))","v":0},null,{"$f":"N34","v":22122},{"$f":"COUNTIF(L95:L116,AN34)","v":0},{"$f":"AO34/(AQ4-AO25)","v":0},{"$f":"IF(AP34=0,0,(AP34*((LOG(AP34))/LOG(2))))","v":0},null,{"$f":"N34","v":22122},{"$f":"COUNTIF(L117:L138,AS34)","v":0},{"$f":"AT34/(AV4-AT25)","v":0},{"$f":"IF(AU34=0,0,(AU34*((LOG(AU34))/LOG(2))))","v":0}]
[21,5077,11,5089,11,5095,21,5111,11,5122,1,21121,null,22211,{"$f":"COUNTIF($L$7:$L$500,N35)","v":1},{"$f":"O35/$Q$4","v":7.6335877862595417E-3},{"$f":"IF(P35=0,0,(P35*((LOG(P35))/LOG(2))))","v":-5.3690251920133214E-2},null,null,{"$f":"N35","v":22211},{"$f":"COUNTIF(L7:L28,T35)","v":1},{"$f":"U35/(W4-U25)","v":5.8823529411764705E-2},{"$f":"IF(V35=0,0,(V35*((LOG(V35))/LOG(2))))","v":-0.24043899066178465},null,{"$f":"N35","v":22211},{"$f":"COUNTIF(L29:L50,Y35)","v":0},{"$f":"Z35/(AB4-Z25)","v":0},{"$f":"IF(AA35=0,0,(AA35*((LOG(AA35))/LOG(2))))","v":0},null,{"$f":"N35","v":22211},{"$f":"COUNTIF(L51:L72,AD35)","v":0},{"$f":"AE35/(AG4-AE25)","v":0},{"$f":"IF(AF35=0,0,(AF35*((LOG(AF35))/LOG(2))))","v":0},null,{"$f":"N35","v":22211},{"$f":"COUNTIF(L73:L94,AI35)","v":0},{"$f":"AJ35/(AL4-AJ25)","v":0},{"$f":"IF(AK35=0,0,(AK35*((LOG(AK35))/LOG(2))))","v":0},null,{"$f":"N35","v":22211},{"$f":"COUNTIF(L95:L116,AN35)","v":0},{"$f":"AO35/(AQ4-AO25)","v":0},{"$f":"IF(AP35=0,0,(AP35*((LOG(AP35))/LOG(2))))","v":0},null,{"$f":"N35","v":22211},{"$f":"COUNTIF(L117:L138,AS35)","v":0},{"$f":"AT35/(AV4-AT25)","v":0},{"$f":"IF(AU35=0,0,(AU35*((LOG(AU35))/LOG(2))))","v":0}]
[21,5228,11,5240,22,5255,14,5266,24,5285,0,21212,null,22212,{"$f":"COUNTIF($L$7:$L$500,N36)","v":1},{"$f":"O36/$Q$4","v":7.6335877862595417E-3},{"$f":"IF(P36=0,0,(P36*((LOG(P36))/LOG(2))))","v":-5.3690251920133214E-2},null,null,{"$f":"N36","v":22212},{"$f":"COUNTIF(L7:L28,T36)","v":0},{"$f":"U36/(W4-U25)","v":0},{"$f":"IF(V36=0,0,(V36*((LOG(V36))/LOG(2))))","v":0},null,{"$f":"N36","v":22212},{"$f":"COUNTIF(L29:L50,Y36)","v":0},{"$f":"Z36/(AB4-Z25)","v":0},{"$f":"IF(AA36=0,0,(AA36*((LOG(AA36))/LOG(2))))","v":0},null,{"$f":"N36","v":22212},{"$f":"COUNTIF(L51:L72,AD36)","v":0},{"$f":"AE36/(AG4-AE25)","v":0},{"$f":"IF(AF36=0,0,(AF36*((LOG(AF36))/LOG(2))))","v":0},null,{"$f":"N36","v":22212},{"$f":"COUNTIF(L73:L94,AI36)","v":0},{"$f":"AJ36/(AL4-AJ25)","v":0},{"$f":"IF(AK36=0,0,(AK36*((LOG(AK36))/LOG(2))))","v":0},null,{"$f":"N36","v":22212},{"$f":"COUNTIF(L95:L116,AN36)","v":1},{"$f":"AO36/(AQ4-AO25)","v":0.05},{"$f":"IF(AP36=0,0,(AP36*((LOG(AP36))/LOG(2))))","v":-0.21609640474436814},null,{"$f":"N36","v":22212},{"$f":"COUNTIF(L117:L138,AS36)","v":0},{"$f":"AT36/(AV4-AT25)","v":0},{"$f":"IF(AU36=0,0,(AU36*((LOG(AU36))/LOG(2))))","v":0}]
[21,5392,11,5405,11,5426,21,5449,11,5461,1,21121,null,22221,{"$f":"COUNTIF($L$7:$L$500,N37)","v":0},{"$f":"O37/$Q$4","v":0},{"$f":"IF(P37=0,0,(P37*((LOG(P37))/LOG(2))))","v":0},null,null,{"$f":"N37","v":22221},{"$f":"COUNTIF(L7:L28,T37)","v":0},{"$f":"U37/(W4-U25)","v":0},{"$f":"IF(V37=0,0,(V37*((LOG(V37))/LOG(2))))","v":0},null,{"$f":"N37","v":22221},{"$f":"COUNTIF(L29:L50,Y37)","v":0},{"$f":"Z37/(AB4-Z25)","v":0},{"$f":"IF(AA37=0,0,(AA37*((LOG(AA37))/LOG(2))))","v":0},null,{"$f":"N37","v":22221},{"$f":"COUNTIF(L51:L72,AD37)","v":0},{"$f":"AE37/(AG4-AE25)","v":0},{"$f":"IF(AF37=0,0,(AF37*((LOG(AF37))/LOG(2))))","v":0},null,{"$f":"N37","v":22221},{"$f":"COUNTIF(L73:L94,AI37)","v":0},{"$f":"AJ37/(AL4-AJ25)","v":0},{"$f":"IF(AK37=0,0,(AK37*((LOG(AK37))/LOG(2))))","v":0},null,{"$f":"N37","v":22221},{"$f":"COUNTIF(L95:L116,AN37)","v":0},{"$f":"AO37/(AQ4-AO25)","v":0},{"$f":"IF(AP37=0,0,(AP37*((LOG(AP37))/LOG(2))))","v":0},null,{"$f":"N37","v":22221},{"$f":"COUNTIF(L117:L138,AS37)","v":0},{"$f":"AT37/(AV4-AT25)","v":0},{"$f":"IF(AU37=0,0,(AU37*((LOG(AU37))/LOG(2))))","v":0}]
[21,5553,11,5566,11,5575,12,5597,24,5613,0,21112,null,22222,{"$f":"COUNTIF($L$7:$L$500,N38)","v":0},{"$f":"O38/$Q$4","v":0},{"$f":"IF(P38=0,0,(P38*((LOG(P38))/LOG(2))))","v":0},null,null,{"$f":"N38","v":22222},{"$f":"COUNTIF(L7:L28,T38)","v":0},{"$f":"U38/(W4-U25)","v":0},{"$f":"IF(V38=0,0,(V38*((LOG(V38))/LOG(2))))","v":0},null,{"$f":"N38","v":22222},{"$f":"COUNTIF(L29:L50,Y38)","v":0},{"$f":"Z38/(AB4-Z25)","v":0},{"$f":"IF(AA38=0,0,(AA38*((LOG(AA38))/LOG(2))))","v":0},null,{"$f":"N38","v":22222},{"$f":"COUNTIF(L51:L72,AD38)","v":0},{"$f":"AE38/(AG4-AE25)","v":0},{"$f":"IF(AF38=0,0,(AF38*((LOG(AF38))/LOG(2))))","v":0},null,{"$f":"N38","v":22222},{"$f":"COUNTIF(L73:L94,AI38)","v":0},{"$f":"AJ38/(AL4-AJ25)","v":0},{"$f":"IF(AK38=0,0,(AK38*((LOG(AK38))/LOG(2))))","v":0},null,{"$f":"N38","v":22222},{"$f":"COUNTIF(L95:L116,AN38)","v":0},{"$f":"AO38/(AQ4-AO25)","v":0},{"$f":"IF(AP38=0,0,(AP38*((LOG(AP38))/LOG(2))))","v":0},null,{"$f":"N38","v":22222},{"$f":"COUNTIF(L117:L138,AS38)","v":0},{"$f":"AT38/(AV4-AT25)","v":0},{"$f":"IF(AU38=0,0,(AU38*((LOG(AU38))/LOG(2))))","v":0}]
[21,5718,11,5727,22,5752,14,5762,13,5794,0,21211,null,null,null,{"$f":"SUM(P7:P38)","v":1},{"$f":"-SUM(Q7:Q38)","v":3.8112054701191358},null,null,null,null,{"$f":"SUM(V7:V38)","v":1},{"$f":"-SUM(W7:W38)","v":3.2195282822995472},null,null,null,{"$f":"SUM(AA7:AA38)","v":1},{"$f":"-SUM(AB7:AB38)","v":3.1307179879273748},null,null,null,{"$f":"SUM(AF7:AF38)","v":1},{"$f":"-SUM(AG7:AG38)","v":2.9708400131019856},null,null,null,{"$f":"SUM(AK7:AK38)","v":1},{"$f":"-SUM(AL7:AL38)","v":2.4772170014624821},null,null,null,{"$f":"SUM(AP7:AP38)","v":1},{"$f":"-SUM(AQ7:AQ38)","v":3.1393538721672005},null,null,null,{"$f":"SUM(AU7:AU38)","v":1},{"$f":"-SUM(AV7:AV38)","v":3.4548223999466066}]
[21,5944,11,5971,22,5986,14,5995,13,6021,0,21211,null,null,null,"U=",{"$f":"Q39/(LOG(Q4)/LOG(2))","v":0.54187064666607376},null,null,null,null,"U1=",{"$f":"W39/(LOG(W4)/LOG(2))","v":0.72195933419949221},null,null,null,"U2=",{"$f":"AB39/(LOG(AB4)/LOG(2))","v":0.70204417415958764},null,null,null,"U3=",{"$f":"AG39/(LOG(AG4)/LOG(2))","v":0.66619252567658116},null,null,null,"U4=",{"$f":"AL39/(LOG(AL4)/LOG(2))","v":0.55550061382474214},null,null,null,"U5=",{"$f":"AQ39/(LOG(AQ4)/LOG(2))","v":0.70398071786702654},null,null,null,"U6=",{"$f":"AV39/(LOG(AV4)/LOG(2))","v":0.78656027499964787}]
[21,6126,22,6163,13,6173,14,6185,24,6194,0,22112]
[12,6290,13,6298,24,6314,14,6327,24,6345,0,11212]
[12,6445,24,6453,13,6464,14,6468,24,6509,0,12112,null,"Total Target Seq"]
[21,6611,11,6624,11,6628,12,6659,24,6679,0,21112,null,{"$f":"COUNTIF(L7:L138,G3)","v":25},null,22,22,22,22,22,22]
[12,6796,24,6809,13,6820,14,6843,24,6852,0,12112,null,null,null,"% of reinforcement given in 6 equal intervals based on number of trials "]
[21,6953,11,6974,11,6978,21,6988,11,6998,1,21121,null,null,null,"%_1","%_2","%_3","%_4","%_5","%_6"]
[12,7107,24,7115,13,7127,14,7148,24,7169,0,12112,null,null,"target sequence",{"$f":"$G$3","v":21121},{"$f":"$G$3","v":21121},{"$f":"$G$3","v":21121},{"$f":"$G$3","v":21121},{"$f":"$G$3","v":21121},{"$f":"$G$3","v":21121}]
[12,7293,13,7315,24,7325,14,7336,24,7369,0,11212,null,null,"total reinforcement",{"$f":"U25","v":5},{"$f":"Z25","v":5},{"$f":"AE25","v":3},{"$f":"AJ25","v":6},{"$f":"AO25","v":2},{"$f":"AT25","v":4}]
[12,7480,24,7493,13,7503,23,7617,13,7625,0,12121,null,null,"% target"]
[12,7748,13,7769,13,7776,14,7800,24,7820,0,11112,null,null,"CCRF"]
[21,7919,11,7930,22,7938,14,7948,24,7961,0,21212,null,null,"% CCRf"]
[21,8065,11,8075,11,8082,21,8094,11,8106,1,21121,null,null,"average response rate",{"$f":"J28/P44","v":177.68181818181819},{"$f":"(J50-J28)/Q44","v":177.77272727272728},{"$f":"(J72-J50)/R44","v":176.04545454545453},{"$f":"(J94-J72)/S44","v":173.54545454545453},{"$f":"(J116-J94)/T44","v":176.27272727272728},{"$f":"(J138-J116)/U44","v":-881.31818181818187}]
[21,8194,11,8206,11,8209,21,8253,11,8265,1,21121]
[12,8367,24,8375,13,8385,23,8399,13,8410,0,12121]
[12,8528,24,8546,13,8556,14,8565,13,8574,0,12111]
[21,8688,11,8700,22,8717,14,8727,24,8746,0,21212]
[12,8856,13,8864,24,8883,23,8887,13,8899,0,11221]
[21,9026,22,9045,13,9056,14,9089,24,9108,0,22112]
[12,9234,13,9273,24,9286,14,9298,24,9319,0,11212]
[21,9423,11,9449,22,9461,14,9472,13,9543,0,21211]
[21,9647,11,9659,22,9676,14,9686,24,9810,0,21212]
[21,9915,11,9927,11,9936,21,9951,11,9961,1,21121]
[21,10068,11,10078,22,10090,23,10094,13,10103,0,21221]
[21,10203,11,10219,22,10230,14,10241,24,10256,0,21212]
[12,10378,24,10390,13,10401,23,10419,13,10428,0,12121]
[21,10543,22,10562,13,10573,23,10590,13,10601,0,22121]
[21,10705,22,10724,13,10735,14,10784,24,10797,0,22112]
[21,10897,11,10916,22,10924,14,10935,24,10950,0,21212]
[12,11106,24,11115,24,11141,14,11153,13,11181,0,12211]
[21,11289,11,11300,22,11310,14,11319,24,11346,0,21212]
[21,11458,22,11477,13,11488,23,11505,13,11516,0,22121]
[12,11648,24,11657,13,11667,23,11683,13,11693,0,12121]
[21,11793,11,11806,22,11825,14,11836,13,11862,0,21211]
[21,11961,11,11973,11,11977,21,11991,22,11999,0,21122]
[21,12098,11,12110,11,12118,21,12130,11,12143,1,21121]
[12,12264,24,12287,13,12299,23,12312,13,12323,0,12121]
[21,12455,11,12466,11,12486,21,12500,11,12541,1,21121]
[21,12632,11,12645,11,12650,21,12659,11,12668,1,21121]
[21,12782,11,12793,11,12826,21,12847,11,12861,1,21121]
[12,12974,24,13009,13,13022,23,13038,13,13048,0,12121]
[21,13157,11,13170,22,13177,14,13237,24,13251,0,21212]
[21,13372,11,13381,22,13394,14,13405,24,13422,0,21212]
[21,13560,22,13599,13,13611,23,13632,13,13645,0,22121]
[21,13765,11,13775,22,13790,14,13799,24,13814,0,21212]
[12,13927,24,13945,13,13958,14,13980,13,14010,0,12111]
[21,14117,11,14128,11,14136,21,14149,11,14159,1,21121]
[21,14266,11,14278,22,14289,14,14300,13,14326,0,21211]
[12,14434,24,14474,13,14485,14,14512,24,14525,0,12112]
[21,14627,11,14636,11,14646,21,14661,11,14674,1,21121]
[12,14810,24,14820,13,14829,23,14845,13,14856,0,12121]
[21,14960,11,14974,22,14994,14,15004,24,15047,0,21212]
[21,15158,11,15169,22,15180,14,15190,13,15213,0,21211]
[21,15316,11,15332,22,15341,14,15353,13,15371,0,21211]
[21,15471,11,15483,22,15491,14,15503,24,15511,0,21212]
[21,15615,11,15624,11,15631,21,15639,11,15651,1,21121]
[21,15748,11,15759,22,15769,14,15779,24,15792,0,21212]
[12,15909,13,15915,13,15934,23,15980,13,15991,0,11121]
[21,16089,11,16102,22,16110,14,16119,13,16140,0,21211]
[12,16335,24,16353,24,16375,14,16386,24,16402,0,12212]
[21,16503,11,16517,22,16536,14,16547,24,16560,0,21212]
[21,16661,11,16674,22,16690,14,16701,24,16714,0,21212]
[21,16817,11,16829,22,16838,14,16850,24,16870,0,21212]
[12,16966,24,16978,13,16990,23,17005,13,17016,0,12121]
[21,17119,11,17143,22,17160,14,17171,24,17186,0,21212]
[12,17296,13,17305,24,17313,14,17324,13,17364,0,11211]
[21,17464,11,17475,11,17483,12,17492,24,17509,0,21112]
[21,17613,11,17640,22,17657,23,17691,24,17725,0,21222]
[12,17852,13,17860,24,17877,14,17888,24,17906,0,11212]
[21,18013,11,18023,22,18035,14,18046,24,18116,0,21212]
[12,18213,13,18220,24,18229,14,18239,13,18251,0,11211]
[21,18353,22,18375,24,18404,14,18420,24,18516,0,22212]
[21,18626,11,18637,22,18660,14,18671,13,18743,0,21211]
[21,18846,11,18857,11,18865,21,18882,11,18894,1,21121]
[12,18997,24,19006,13,19016,14,19025,24,19040,0,12112]
[21,19142,11,19154,22,19164,14,19174,24,19188,0,21212]
[12,19310,24,19326,13,19339,14,19375,13,19389,0,12111]
[12,19523,13,19529,13,19553,14,19562,24,19574,0,11112]
[12,19688,24,19705,13,19717,14,19748,13,19758,0,12111]
[21,19869,11,19885,22,19904,14,19916,24,19941,0,21212]
[21,20041,22,20061,13,20072,14,20080,24,20095,0,22112]
[21,20211,11,20228,11,20236,21,20249,11,20260,1,21121]
[21,20369,22,20390,13,20399,23,20419,13,20432,0,22121]
[12,21429,24,21446,13,21460,14,21472,13,21480,0,12111]
[12,21618,24,21634,24,21661,14,21679,24,21697,0,12212]
[21,21799,11,21817,22,21830,23,21880,13,21888,0,21221]
[21,21996,11,22007,22,22022,14,22034,24,22056,0,21212]
[21,22165,11,22175,22,22187,14,22198,13,22244,0,21211]
[12,22361,24,22372,24,22379,14,22392,24,22406,0,12212]
[21,22503,11,22516,11,22520,12,22529,13,22537,0,21111]
[21,22637,22,22652,13,22666,14,22671,13,22676,0,22111]
[21,22772,11,22783,11,22790,12,22798,24,22807,0,21112]
[12,22952,13,22961,13,22968,23,23014,13,23027,0,11121]
[21,23127,11,23139,11,23144,21,23183,11,23196,1,21121]
[21,23331,11,23343,11,23350,21,23366,11,23377,1,21121]
[21,23470,22,23499,13,23508,14,23537,24,23556,0,22112]
[21,23660,11,23675,11,23683,21,23716,11,23726,1,21121]
[21,23820,11,23833,22,23841,14,23853,24,23872,0,21212]
[21,23974,11,23984,11,23993,null,null,null,null,null,211]

{"sheet":"!MC21A00.010","index":23,"n_rows":202,"n_cols":48,"rows_kept":202,"cut":false,"hidden":false,"merged":[[4,39,4,42],[5,39,5,40],[4,44,4,47],[5,44,5,45],[4,24,4,27],[5,24,5,25],[4,29,4,32],[5,29,5,30],[4,34,4,37],[5,34,5,35],[1,1,1,2],[5,13,5,14],[42,13,42,14],[43,13,43,14],[4,19,4,22],[5,19,5,20]]}
["Report for:!MC21A00.010"]
["Date:","<date>"]
["Hen:","<hen>",null,null,null,"Correct Sequence",{"$f":"Start!J2","v":21121},null,null,null,null,null,null,null,null,"Total Sequences in Data",{"$f":"4994-COUNTBLANK(L7:L5000)","v":196},null,null,null,null,"Total Sequences in Block Data",{"$f":"COUNTA(L7:L39)","v":33},null,null,null,"Total Sequences in Block Data",{"$f":"COUNTA(L40:L71)","v":32},null,null,null,"Total Sequences in Block Data",{"$f":"COUNTA(L72:L104)","v":33},null,null,null,"Total Sequences in Block Data",{"$f":"COUNTA(L105:L137)","v":33},null,null,null,"Total Sequences in Block Data",{"$f":"COUNTA(L138:L169)","v":32},null,null,null,"Total Sequences in Block Data",{"$f":"COUNTA(L170:L202)","v":33}]
[null,null,null,null,null,null,null,null,null,null,null,null,null,null,null,"Total Sequences in Summary",{"$f":"SUM(O7:O38)","v":196},null,null,null,null,"Total Sequences in Block Summary",{"$f":"SUM(U7:U38)","v":33},null,null,null,"Total Sequences in Block Summary",{"$f":"SUM(Z7:Z38)","v":32},null,null,null,"Total Sequences in Block Summary",{"$f":"SUM(AE7:AE38)","v":33},null,null,null,"Total Sequences in Block Summary",{"$f":"SUM(AJ7:AJ38)","v":33},null,null,null,"Total Sequences in Block Summary",{"$f":"SUM(AO7:AO38)","v":32},null,null,null,"Total Sequences in Block Summary",{"$f":"SUM(AT7:AT38)","v":33}]
[null,null,null,null,null,null,null,null,null,null,null,null,null,null,null,null,null,null,null,"Block 1",null,null,null,null,"Block 2",null,null,null,null,"Block 3",null,null,null,null,"Block 4",null,null,null,null,"Block 5",null,null,null,null,"Block 6"]
["Sequence\nComponent\n1","Time\n1","Sequence\nComponent\n2","Time\n2","Sequence\nComponent\n3","Time\n3","Sequence\nComponent\n4","Time\n4","Sequence\nComponent\n5","Time\n5","Correct?\n0=No 1=Yes","Sequence",null,"Frequency",null,"Relative Frequency","Variability",null,null,"Frequency",null,"Relative Frequency","Variability",null,"Frequency",null,"Relative Frequency","Variability",null,"Frequency",null,"Relative Frequency","Variability",null,"Frequency",null,"Relative Frequency","Variability",null,"Frequency",null,"Relative Frequency","Variability",null,"Frequency",null,"Relative Frequency","Variability"]
[12,78,13,83,13,88,14,92,13,96,0,11111,null,11111,{"$f":"COUNTIF($L$7:$L$500,N7)","v":195},{"$f":"O7/$Q$4","v":0.99489795918367352},{"$f":"IF(P7=0,0,(P7*((LOG(P7))/LOG(2))))","v":-7.3418797004668529E-3},null,null,{"$f":"N7","v":11111},{"$f":"COUNTIF(L7:L39,T7)","v":33},{"$f":"U7/(W4-U25)","v":1},{"$f":"IF(V7=0,0,(V7*((LOG(V7))/LOG(2))))","v":0},null,{"$f":"N7","v":11111},{"$f":"COUNTIF(L40:L71,Y7)","v":32},{"$f":"Z7/(AB4-Z25)","v":1},{"$f":"IF(AA7=0,0,(AA7*((LOG(AA7))/LOG(2))))","v":0},null,{"$f":"N7","v":11111},{"$f":"COUNTIF(L72:L104,AD7)","v":33},{"$f":"AE7/(AG4-AE25)","v":1},{"$f":"IF(AF7=0,0,(AF7*((LOG(AF7))/LOG(2))))","v":0},null,{"$f":"N7","v":11111},{"$f":"COUNTIF(L105:L137,AI7)","v":33},{"$f":"AJ7/(AL4-AJ25)","v":1},{"$f":"IF(AK7=0,0,(AK7*((LOG(AK7))/LOG(2))))","v":0},null,{"$f":"N7","v":11111},{"$f":"COUNTIF(L138:L169,AN7)","v":31},{"$f":"AO7/(AQ4-AO25)","v":0.96875},{"$f":"IF(AP7=0,0,(AP7*((LOG(AP7))/LOG(2))))","v":-4.4372324312714644E-2},null,{"$f":"N7","v":11111},{"$f":"COUNTIF(L170:L202,AS7)","v":33},{"$f":"AT7/(AV4-AT25)","v":1},{"$f":"IF(AU7=0,0,(AU7*((LOG(AU7))/LOG(2))))","v":0}]
[12,197,13,202,13,207,14,211,13,216,1,11111,null,11112,{"$f":"COUNTIF($L$7:$L$500,N8)","v":0},{"$f":"O8/$Q$4","v":0},{"$f":"IF(P8=0,0,(P8*((LOG(P8))/LOG(2))))","v":0},null,null,{"$f":"N8","v":11112},{"$f":"COUNTIF(L7:L39,T8)","v":0},{"$f":"U8/(W4-U25)","v":0},{"$f":"IF(V8=0,0,(V8*((LOG(V8))/LOG(2))))","v":0},null,{"$f":"N8","v":11112},{"$f":"COUNTIF(L40:L71,Y8)","v":0},{"$f":"Z8/(AB4-Z25)","v":0},{"$f":"IF(AA8=0,0,(AA8*((LOG(AA8))/LOG(2))))","v":0},null,{"$f":"N8","v":11112},{"$f":"COUNTIF(L72:L104,AD8)","v":0},{"$f":"AE8/(AG4-AE25)","v":0},{"$f":"IF(AF8=0,0,(AF8*((LOG(AF8))/LOG(2))))","v":0},null,{"$f":"N8","v":11112},{"$f":"COUNTIF(L105:L137,AI8)","v":0},{"$f":"AJ8/(AL4-AJ25)","v":0},{"$f":"IF(AK8=0,0,(AK8*((LOG(AK8))/LOG(2))))","v":0},null,{"$f":"N8","v":11112},{"$f":"COUNTIF(L138:L169,AN8)","v":0},{"$f":"AO8/(AQ4-AO25)","v":0},{"$f":"IF(AP8=0,0,(AP8*((LOG(AP8))/LOG(2))))","v":0},null,{"$f":"N8","v":11112},{"$f":"COUNTIF(L170:L202,AS8)","v":0},{"$f":"AT8/(AV4-AT25)","v":0},{"$f":"IF(AU8=0,0,(AU8*((LOG(AU8))/LOG(2))))","v":0}]
[12,323,13,328,13,332,14,336,13,340,0,11111,null,11121,{"$f":"COUNTIF($L$7:$L$500,N9)","v":0},{"$f":"O9/$Q$4","v":0},{"$f":"IF(P9=0,0,(P9*((LOG(P9))/LOG(2))))","v":0},null,null,{"$f":"N9","v":11121},{"$f":"COUNTIF(L7:L39,T9)","v":0},{"$f":"U9/(W4-U25)","v":0},{"$f":"IF(V9=0,0,(V9*((LOG(V9))/LOG(2))))","v":0},null,{"$f":"N9","v":11121},{"$f":"COUNTIF(L40:L71,Y9)","v":0},{"$f":"Z9/(AB4-Z25)","v":0},{"$f":"IF(AA9=0,0,(AA9*((LOG(AA9))/LOG(2))))","v":0},null,{"$f":"N9","v":11121},{"$f":"COUNTIF(L72:L104,AD9)","v":0},{"$f":"AE9/(AG4-AE25)","v":0},{"$f":"IF(AF9=0,0,(AF9*((LOG(AF9))/LOG(2))))","v":0},null,{"$f":"N9","v":11121},{"$f":"COUNTIF(L105:L137,AI9)","v":0},{"$f":"AJ9/(AL4-AJ25)","v":0},{"$f":"IF(AK9=0,0,(AK9*((LOG(AK9))/LOG(2))))","v":0},null,{"$f":"N9","v":11121},{"$f":"COUNTIF(L138:L169,AN9)","v":0},{"$f":"AO9/(AQ4-AO25)","v":0},{"$f":"IF(AP9=0,0,(AP9*((LOG(AP9))/LOG(2))))","v":0},null,{"$f":"N9","v":11121},{"$f":"COUNTIF(L170:L202,AS9)","v":0},{"$f":"AT9/(AV4-AT25)","v":0},{"$f":"IF(AU9=0,0,(AU9*((LOG(AU9))/LOG(2))))","v":0}]
[12,449,13,453,13,458,14,463,13,468,0,11111,null,11122,{"$f":"COUNTIF($L$7:$L$500,N10)","v":1},{"$f":"O10/$Q$4","v":5.1020408163265302E-3},{"$f":"IF(P10=0,0,(P10*((LOG(P10))/LOG(2))))","v":-3.8850560429159221E-2},null,null,{"$f":"N10","v":11122},{"$f":"COUNTIF(L7:L39,T10)","v":0},{"$f":"U10/(W4-U25)","v":0},{"$f":"IF(V10=0,0,(V10*((LOG(V10))/LOG(2))))","v":0},null,{"$f":"N10","v":11122},{"$f":"COUNTIF(L40:L71,Y10)","v":0},{"$f":"Z10/(AB4-Z25)","v":0},{"$f":"IF(AA10=0,0,(AA10*((LOG(AA10))/LOG(2))))","v":0},null,{"$f":"N10","v":11122},{"$f":"COUNTIF(L72:L104,AD10)","v":0},{"$f":"AE10/(AG4-AE25)","v":0},{"$f":"IF(AF10=0,0,(AF10*((LOG(AF10))/LOG(2))))","v":0},null,{"$f":"N10","v":11122},{"$f":"COUNTIF(L105:L137,AI10)","v":0},{"$f":"AJ10/(AL4-AJ25)","v":0},{"$f":"IF(AK10=0,0,(AK10*((LOG(AK10))/LOG(2))))","v":0},null,{"$f":"N10","v":11122},{"$f":"COUNTIF(L138:L169,AN10)","v":1},{"$f":"AO10/(AQ4-AO25)","v":3.125E-2},{"$f":"IF(AP10=0,0,(AP10*((LOG(AP10))/LOG(2))))","v":-0.15625},null,{"$f":"N10","v":11122},{"$f":"COUNTIF(L170:L202,AS10)","v":0},{"$f":"AT10/(AV4-AT25)","v":0},{"$f":"IF(AU10=0,0,(AU10*((LOG(AU10))/LOG(2))))","v":0}]
[12,570,13,575,13,579,14,584,13,590,0,11111,null,11211,{"$f":"COUNTIF($L$7:$L$500,N11)","v":0},{"$f":"O11/$Q$4","v":0},{"$f":"IF(P11=0,0,(P11*((LOG(P11))/LOG(2))))","v":0},null,null,{"$f":"N11","v":11211},{"$f":"COUNTIF(L7:L39,T11)","v":0},{"$f":"U11/(W4-U25)","v":0},{"$f":"IF(V11=0,0,(V11*((LOG(V11))/LOG(2))))","v":0},null,{"$f":"N11","v":11211},{"$f":"COUNTIF(L40:L71,Y11)","v":0},{"$f":"Z11/(AB4-Z25)","v":0},{"$f":"IF(AA11=0,0,(AA11*((LOG(AA11))/LOG(2))))","v":0},null,{"$f":"N11","v":11211},{"$f":"COUNTIF(L72:L104,AD11)","v":0},{"$f":"AE11/(AG4-AE25)","v":0},{"$f":"IF(AF11=0,0,(AF11*((LOG(AF11))/LOG(2))))","v":0},null,{"$f":"N11","v":11211},{"$f":"COUNTIF(L105:L137,AI11)","v":0},{"$f":"AJ11/(AL4-AJ25)","v":0},{"$f":"IF(AK11=0,0,(AK11*((LOG(AK11))/LOG(2))))","v":0},null,{"$f":"N11","v":11211},{"$f":"COUNTIF(L138:L169,AN11)","v":0},{"$f":"AO11/(AQ4-AO25)","v":0},{"$f":"IF(AP11=0,0,(AP11*((LOG(AP11))/LOG(2))))","v":0},null,{"$f":"N11","v":11211},{"$f":"COUNTIF(L170:L202,AS11)","v":0},{"$f":"AT11/(AV4-AT25)","v":0},{"$f":"IF(AU11=0,0,(AU11*((LOG(AU11))/LOG(2))))","v":0}]
[12,689,13,694,13,698,14,702,13,707,0,11111,null,11212,{"$f":"COUNTIF($L$7:$L$500,N12)","v":0},{"$f":"O12/$Q$4","v":0},{"$f":"IF(P12=0,0,(P12*((LOG(P12))/LOG(2))))","v":0},null,null,{"$f":"N12","v":11212},{"$f":"COUNTIF(L7:L39,T12)","v":0},{"$f":"U12/(W4-U25)","v":0},{"$f":"IF(V12=0,0,(V12*((LOG(V12))/LOG(2))))","v":0},null,{"$f":"N12","v":11212},{"$f":"COUNTIF(L40:L71,Y12)","v":0},{"$f":"Z12/(AB4-Z25)","v":0},{"$f":"IF(AA12=0,0,(AA12*((LOG(AA12))/LOG(2))))","v":0},null,{"$f":"N12","v":11212},{"$f":"COUNTIF(L72:L104,AD12)","v":0},{"$f":"AE12/(AG4-AE25)","v":0},{"$f":"IF(AF12=0,0,(AF12*((LOG(AF12))/LOG(2))))","v":0},null,{"$f":"N12","v":11212},{"$f":"COUNTIF(L105:L137,AI12)","v":0},{"$f":"AJ12/(AL4-AJ25)","v":0},{"$f":"IF(AK12=0,0,(AK12*((LOG(AK12))/LOG(2))))","v":0},null,{"$f":"N12","v":11212},{"$f":"COUNTIF(L138:L169,AN12)","v":0},{"$f":"AO12/(AQ4-AO25)","v":0},{"$f":"IF(AP12=0,0,(AP12*((LOG(AP12))/LOG(2))))","v":0},null,{"$f":"N12","v":11212},{"$f":"COUNTIF(L170:L202,AS12)","v":0},{"$f":"AT12/(AV4-AT25)","v":0},{"$f":"IF(AU12=0,0,(AU12*((LOG(AU12))/LOG(2))))","v":0}]
[12,806,13,813,13,817,14,821,13,826,1,11111,null,11221,{"$f":"COUNTIF($L$7:$L$500,N13)","v":0},{"$f":"O13/$Q$4","v":0},{"$f":"IF(P13=0,0,(P13*((LOG(P13))/LOG(2))))","v":0},null,null,{"$f":"N13","v":11221},{"$f":"COUNTIF(L7:L39,T13)","v":0},{"$f":"U13/(W4-U25)","v":0},{"$f":"IF(V13=0,0,(V13*((LOG(V13))/LOG(2))))","v":0},null,{"$f":"N13","v":11221},{"$f":"COUNTIF(L40:L71,Y13)","v":0},{"$f":"Z13/(AB4-Z25)","v":0},{"$f":"IF(AA13=0,0,(AA13*((LOG(AA13))/LOG(2))))","v":0},null,{"$f":"N13","v":11221},{"$f":"COUNTIF(L72:L104,AD13)","v":0},{"$f":"AE13/(AG4-AE25)","v":0},{"$f":"IF(AF13=0,0,(AF13*((LOG(AF13))/LOG(2))))","v":0},null,{"$f":"N13","v":11221},{"$f":"COUNTIF(L105:L137,AI13)","v":0},{"$f":"AJ13/(AL4-AJ25)","v":0},{"$f":"IF(AK13=0,0,(AK13*((LOG(AK13))/LOG(2))))","v":0},null,{"$f":"N13","v":11221},{"$f":"COUNTIF(L138:L169,AN13)","v":0},{"$f":"AO13/(AQ4-AO25)","v":0},{"$f":"IF(AP13=0,0,(AP13*((LOG(AP13))/LOG(2))))","v":0},null,{"$f":"N13","v":11221},{"$f":"COUNTIF(L170:L202,AS13)","v":0},{"$f":"AT13/(AV4-AT25)","v":0},{"$f":"IF(AU13=0,0,(AU13*((LOG(AU13))/LOG(2))))","v":0}]
[12,922,13,927,13,931,14,935,13,940,0,11111,null,11222,{"$f":"COUNTIF($L$7:$L$500,N14)","v":0},{"$f":"O14/$Q$4","v":0},{"$f":"IF(P14=0,0,(P14*((LOG(P14))/LOG(2))))","v":0},null,null,{"$f":"N14","v":11222},{"$f":"COUNTIF(L7:L39,T14)","v":0},{"$f":"U14/(W4-U25)","v":0},{"$f":"IF(V14=0,0,(V14*((LOG(V14))/LOG(2))))","v":0},null,{"$f":"N14","v":11222},{"$f":"COUNTIF(L40:L71,Y14)","v":0},{"$f":"Z14/(AB4-Z25)","v":0},{"$f":"IF(AA14=0,0,(AA14*((LOG(AA14))/LOG(2))))","v":0},null,{"$f":"N14","v":11222},{"$f":"COUNTIF(L72:L104,AD14)","v":0},{"$f":"AE14/(AG4-AE25)","v":0},{"$f":"IF(AF14=0,0,(AF14*((LOG(AF14))/LOG(2))))","v":0},null,{"$f":"N14","v":11222},{"$f":"COUNTIF(L105:L137,AI14)","v":0},{"$f":"AJ14/(AL4-AJ25)","v":0},{"$f":"IF(AK14=0,0,(AK14*((LOG(AK14))/LOG(2))))","v":0},null,{"$f":"N14","v":11222},{"$f":"COUNTIF(L138:L169,AN14)","v":0},{"$f":"AO14/(AQ4-AO25)","v":0},{"$f":"IF(AP14=0,0,(AP14*((LOG(AP14))/LOG(2))))","v":0},null,{"$f":"N14","v":11222},{"$f":"COUNTIF(L170:L202,AS14)","v":0},{"$f":"AT14/(AV4-AT25)","v":0},{"$f":"IF(AU14=0,0,(AU14*((LOG(AU14))/LOG(2))))","v":0}]
[12,1043,13,1047,13,1051,14,1055,13,1059,0,11111,null,12111,{"$f":"COUNTIF($L$7:$L$500,N15)","v":0},{"$f":"O15/$Q$4","v":0},{"$f":"IF(P15=0,0,(P15*((LOG(P15))/LOG(2))))","v":0},null,null,{"$f":"N15","v":12111},{"$f":"COUNTIF(L7:L39,T15)","v":0},{"$f":"U15/(W4-U25)","v":0},{"$f":"IF(V15=0,0,(V15*((LOG(V15))/LOG(2))))","v":0},null,{"$f":"N15","v":12111},{"$f":"COUNTIF(L40:L71,Y15)","v":0},{"$f":"Z15/(AB4-Z25)","v":0},{"$f":"IF(AA15=0,0,(AA15*((LOG(AA15))/LOG(2))))","v":0},null,{"$f":"N15","v":12111},{"$f":"COUNTIF(L72:L104,AD15)","v":0},{"$f":"AE15/(AG4-AE25)","v":0},{"$f":"IF(AF15=0,0,(AF15*((LOG(AF15))/LOG(2))))","v":0},null,{"$f":"N15","v":12111},{"$f":"COUNTIF(L105:L137,AI15)","v":0},{"$f":"AJ15/(AL4-AJ25)","v":0},{"$f":"IF(AK15=0,0,(AK15*((LOG(AK15))/LOG(2))))","v":0},null,{"$f":"N15","v":12111},{"$f":"COUNTIF(L138:L169,AN15)","v":0},{"$f":"AO15/(AQ4-AO25)","v":0},{"$f":"IF(AP15=0,0,(AP15*((LOG(AP15))/LOG(2))))","v":0},null,{"$f":"N15","v":12111},{"$f":"COUNTIF(L170:L202,AS15)","v":0},{"$f":"AT15/(AV4-AT25)","v":0},{"$f":"IF(AU15=0,0,(AU15*((LOG(AU15))/LOG(2))))","v":0}]
[12,1159,13,1163,13,1168,14,1172,13,1176,1,11111,null,12112,{"$f":"COUNTIF($L$7:$L$500,N16)","v":0},{"$f":"O16/$Q$4","v":0},{"$f":"IF(P16=0,0,(P16*((LOG(P16))/LOG(2))))","v":0},null,null,{"$f":"N16","v":12112},{"$f":"COUNTIF(L7:L39,T16)","v":0},{"$f":"U16/(W4-U25)","v":0},{"$f":"IF(V16=0,0,(V16*((LOG(V16))/LOG(2))))","v":0},null,{"$f":"N16","v":12112},{"$f":"COUNTIF(L40:L71,Y16)","v":0},{"$f":"Z16/(AB4-Z25)","v":0},{"$f":"IF(AA16=0,0,(AA16*((LOG(AA16))/LOG(2))))","v":0},null,{"$f":"N16","v":12112},{"$f":"COUNTIF(L72:L104,AD16)","v":0},{"$f":"AE16/(AG4-AE25)","v":0},{"$f":"IF(AF16=0,0,(AF16*((LOG(AF16))/LOG(2))))","v":0},null,{"$f":"N16","v":12112},{"$f":"COUNTIF(L105:L137,AI16)","v":0},{"$f":"AJ16/(AL4-AJ25)","v":0},{"$f":"IF(AK16=0,0,(AK16*((LOG(AK16))/LOG(2))))","v":0},null,{"$f":"N16","v":12112},{"$f":"COUNTIF(L138:L169,AN16)","v":0},{"$f":"AO16/(AQ4-AO25)","v":0},{"$f":"IF(AP16=0,0,(AP16*((LOG(AP16))/LOG(2))))","v":0},null,{"$f":"N16","v":12112},{"$f":"COUNTIF(L170:L202,AS16)","v":0},{"$f":"AT16/(AV4-AT25)","v":0},{"$f":"IF(AU16=0,0,(AU16*((LOG(AU16))/LOG(2))))","v":0}]
[12,1272,13,1277,13,1281,14,1290,13,1295,0,11111,null,12121,{"$f":"COUNTIF($L$7:$L$500,N17)","v":0},{"$f":"O17/$Q$4","v":0},{"$f":"IF(P17=0,0,(P17*((LOG(P17))/LOG(2))))","v":0},null,null,{"$f":"N17","v":12121},{"$f":"COUNTIF(L7:L39,T17)","v":0},{"$f":"U17/(W4-U25)","v":0},{"$f":"IF(V17=0,0,(V17*((LOG(V17))/LOG(2))))","v":0},null,{"$f":"N17","v":12121},{"$f":"COUNTIF(L40:L71,Y17)","v":0},{"$f":"Z17/(AB4-Z25)","v":0},{"$f":"IF(AA17=0,0,(AA17*((LOG(AA17))/LOG(2))))","v":0},null,{"$f":"N17","v":12121},{"$f":"COUNTIF(L72:L104,AD17)","v":0},{"$f":"AE17/(AG4-AE25)","v":0},{"$f":"IF(AF17=0,0,(AF17*((LOG(AF17))/LOG(2))))","v":0},null,{"$f":"N17","v":12121},{"$f":"COUNTIF(L105:L137,AI17)","v":0},{"$f":"AJ17/(AL4-AJ25)","v":0},{"$f":"IF(AK17=0,0,(AK17*((LOG(AK17))/LOG(2))))","v":0},null,{"$f":"N17","v":12121},{"$f":"COUNTIF(L138:L169,AN17)","v":0},{"$f":"AO17/(AQ4-AO25)","v":0},{"$f":"IF(AP17=0,0,(AP17*((LOG(AP17))/LOG(2))))","v":0},null,{"$f":"N17","v":12121},{"$f":"COUNTIF(L170:L202,AS17)","v":0},{"$f":"AT17/(AV4-AT25)","v":0},{"$f":"IF(AU17=0,0,(AU17*((LOG(AU17))/LOG(2))))","v":0}]
[12,1393,13,1398,13,1409,14,1414,13,1420,0,11111,null,12122,{"$f":"COUNTIF($L$7:$L$500,N18)","v":0},{"$f":"O18/$Q$4","v":0},{"$f":"IF(P18=0,0,(P18*((LOG(P18))/LOG(2))))","v":0},null,null,{"$f":"N18","v":12122},{"$f":"COUNTIF(L7:L39,T18)","v":0},{"$f":"U18/(W4-U25)","v":0},{"$f":"IF(V18=0,0,(V18*((LOG(V18))/LOG(2))))","v":0},null,{"$f":"N18","v":12122},{"$f":"COUNTIF(L40:L71,Y18)","v":0},{"$f":"Z18/(AB4-Z25)","v":0},{"$f":"IF(AA18=0,0,(AA18*((LOG(AA18))/LOG(2))))","v":0},null,{"$f":"N18","v":12122},{"$f":"COUNTIF(L72:L104,AD18)","v":0},{"$f":"AE18/(AG4-AE25)","v":0},{"$f":"IF(AF18=0,0,(AF18*((LOG(AF18))/LOG(2))))","v":0},null,{"$f":"N18","v":12122},{"$f":"COUNTIF(L105:L137,AI18)","v":0},{"$f":"AJ18/(AL4-AJ25)","v":0},{"$f":"IF(AK18=0,0,(AK18*((LOG(AK18))/LOG(2))))","v":0},null,{"$f":"N18","v":12122},{"$f":"COUNTIF(L138:L169,AN18)","v":0},{"$f":"AO18/(AQ4-AO25)","v":0},{"$f":"IF(AP18=0,0,(AP18*((LOG(AP18))/LOG(2))))","v":0},null,{"$f":"N18","v":12122},{"$f":"COUNTIF(L170:L202,AS18)","v":0},{"$f":"AT18/(AV4-AT25)","v":0},{"$f":"IF(AU18=0,0,(AU18*((LOG(AU18))/LOG(2))))","v":0}]
[12,1520,13,1527,13,1532,14,1536,13,1540,0,11111,null,12211,{"$f":"COUNTIF($L$7:$L$500,N19)","v":0},{"$f":"O19/$Q$4","v":0},{"$f":"IF(P19=0,0,(P19*((LOG(P19))/LOG(2))))","v":0},null,null,{"$f":"N19","v":12211},{"$f":"COUNTIF(L7:L39,T19)","v":0},{"$f":"U19/(W4-U25)","v":0},{"$f":"IF(V19=0,0,(V19*((LOG(V19))/LOG(2))))","v":0},null,{"$f":"N19","v":12211},{"$f":"COUNTIF(L40:L71,Y19)","v":0},{"$f":"Z19/(AB4-Z25)","v":0},{"$f":"IF(AA19=0,0,(AA19*((LOG(AA19))/LOG(2))))","v":0},null,{"$f":"N19","v":12211},{"$f":"COUNTIF(L72:L104,AD19)","v":0},{"$f":"AE19/(AG4-AE25)","v":0},{"$f":"IF(AF19=0,0,(AF19*((LOG(AF19))/LOG(2))))","v":0},null,{"$f":"N19","v":12211},{"$f":"COUNTIF(L105:L137,AI19)","v":0},{"$f":"AJ19/(AL4-AJ25)","v":0},{"$f":"IF(AK19=0,0,(AK19*((LOG(AK19))/LOG(2))))","v":0},null,{"$f":"N19","v":12211},{"$f":"COUNTIF(L138:L169,AN19)","v":0},{"$f":"AO19/(AQ4-AO25)","v":0},{"$f":"IF(AP19=0,0,(AP19*((LOG(AP19))/LOG(2))))","v":0},null,{"$f":"N19","v":12211},{"$f":"COUNTIF(L170:L202,AS19)","v":0},{"$f":"AT19/(AV4-AT25)","v":0},{"$f":"IF(AU19=0,0,(AU19*((LOG(AU19))/LOG(2))))","v":0}]
[12,1652,13,1656,13,1661,14,1665,13,1679,0,11111,null,12212,{"$f":"COUNTIF($L$7:$L$500,N20)","v":0},{"$f":"O20/$Q$4","v":0},{"$f":"IF(P20=0,0,(P20*((LOG(P20))/LOG(2))))","v":0},null,null,{"$f":"N20","v":12212},{"$f":"COUNTIF(L7:L39,T20)","v":0},{"$f":"U20/(W4-U25)","v":0},{"$f":"IF(V20=0,0,(V20*((LOG(V20))/LOG(2))))","v":0},null,{"$f":"N20","v":12212},{"$f":"COUNTIF(L40:L71,Y20)","v":0},{"$f":"Z20/(AB4-Z25)","v":0},{"$f":"IF(AA20=0,0,(AA20*((LOG(AA20))/LOG(2))))","v":0},null,{"$f":"N20","v":12212},{"$f":"COUNTIF(L72:L104,AD20)","v":0},{"$f":"AE20/(AG4-AE25)","v":0},{"$f":"IF(AF20=0,0,(AF20*((LOG(AF20))/LOG(2))))","v":0},null,{"$f":"N20","v":12212},{"$f":"COUNTIF(L105:L137,AI20)","v":0},{"$f":"AJ20/(AL4-AJ25)","v":0},{"$f":"IF(AK20=0,0,(AK20*((LOG(AK20))/LOG(2))))","v":0},null,{"$f":"N20","v":12212},{"$f":"COUNTIF(L138:L169,AN20)","v":0},{"$f":"AO20/(AQ4-AO25)","v":0},{"$f":"IF(AP20=0,0,(AP20*((LOG(AP20))/LOG(2))))","v":0},null,{"$f":"N20","v":12212},{"$f":"COUNTIF(L170:L202,AS20)","v":0},{"$f":"AT20/(AV4-AT25)","v":0},{"$f":"IF(AU20=0,0,(AU20*((LOG(AU20))/LOG(2))))","v":0}]
[12,1779,13,1783,13,1791,14,1795,13,1799,0,11111,null,12221,{"$f":"COUNTIF($L$7:$L$500,N21)","v":0},{"$f":"O21/$Q$4","v":0},{"$f":"IF(P21=0,0,(P21*((LOG(P21))/LOG(2))))","v":0},null,null,{"$f":"N21","v":12221},{"$f":"COUNTIF(L7:L39,T21)","v":0},{"$f":"U21/(W4-U25)","v":0},{"$f":"IF(V21=0,0,(V21*((LOG(V21))/LOG(2))))","v":0},null,{"$f":"N21","v":12221},{"$f":"COUNTIF(L40:L71,Y21)","v":0},{"$f":"Z21/(AB4-Z25)","v":0},{"$f":"IF(AA21=0,0,(AA21*((LOG(AA21))/LOG(2))))","v":0},null,{"$f":"N21","v":12221},{"$f":"COUNTIF(L72:L104,AD21)","v":0},{"$f":"AE21/(AG4-AE25)","v":0},{"$f":"IF(AF21=0,0,(AF21*((LOG(AF21))/LOG(2))))","v":0},null,{"$f":"N21","v":12221},{"$f":"COUNTIF(L105:L137,AI21)","v":0},{"$f":"AJ21/(AL4-AJ25)","v":0},{"$f":"IF(AK21=0,0,(AK21*((LOG(AK21))/LOG(2))))","v":0},null,{"$f":"N21","v":12221},{"$f":"COUNTIF(L138:L169,AN21)","v":0},{"$f":"AO21/(AQ4-AO25)","v":0},{"$f":"IF(AP21=0,0,(AP21*((LOG(AP21))/LOG(2))))","v":0},null,{"$f":"N21","v":12221},{"$f":"COUNTIF(L170:L202,AS21)","v":0},{"$f":"AT21/(AV4-AT25)","v":0},{"$f":"IF(AU21=0,0,(AU21*((LOG(AU21))/LOG(2))))","v":0}]
[12,1900,13,1904,13,1908,14,1912,13,1916,0,11111,null,12222,{"$f":"COUNTIF($L$7:$L$500,N22)","v":0},{"$f":"O22/$Q$4","v":0},{"$f":"IF(P22=0,0,(P22*((LOG(P22))/LOG(2))))","v":0},null,null,{"$f":"N22","v":12222},{"$f":"COUNTIF(L7:L39,T22)","v":0},{"$f":"U22/(W4-U25)","v":0},{"$f":"IF(V22=0,0,(V22*((LOG(V22))/LOG(2))))","v":0},null,{"$f":"N22","v":12222},{"$f":"COUNTIF(L40:L71,Y22)","v":0},{"$f":"Z22/(AB4-Z25)","v":0},{"$f":"IF(AA22=0,0,(AA22*((LOG(AA22))/LOG(2))))","v":0},null,{"$f":"N22","v":12222},{"$f":"COUNTIF(L72:L104,AD22)","v":0},{"$f":"AE22/(AG4-AE25)","v":0},{"$f":"IF(AF22=0,0,(AF22*((LOG(AF22))/LOG(2))))","v":0},null,{"$f":"N22","v":12222},{"$f":"COUNTIF(L105:L137,AI22)","v":0},{"$f":"AJ22/(AL4-AJ25)","v":0},{"$f":"IF(AK22=0,0,(AK22*((LOG(AK22))/LOG(2))))","v":0},null,{"$f":"N22","v":12222},{"$f":"COUNTIF(L138:L169,AN22)","v":0},{"$f":"AO22/(AQ4-AO25)","v":0},{"$f":"IF(AP22=0,0,(AP22*((LOG(AP22))/LOG(2))))","v":0},null,{"$f":"N22","v":12222},{"$f":"COUNTIF(L170:L202,AS22)","v":0},{"$f":"AT22/(AV4-AT25)","v":0},{"$f":"IF(AU22=0,0,(AU22*((LOG(AU22))/LOG(2))))","v":0}]
[12,2018,13,2023,13,2027,14,2031,13,2036,0,11111,null,21111,{"$f":"COUNTIF($L$7:$L$500,N23)","v":0},{"$f":"O23/$Q$4","v":0},{"$f":"IF(P23=0,0,(P23*((LOG(P23))/LOG(2))))","v":0},null,null,{"$f":"N23","v":21111},{"$f":"COUNTIF(L7:L39,T23)","v":0},{"$f":"U23/(W4-U25)","v":0},{"$f":"IF(V23=0,0,(V23*((LOG(V23))/LOG(2))))","v":0},null,{"$f":"N23","v":21111},{"$f":"COUNTIF(L40:L71,Y23)","v":0},{"$f":"Z23/(AB4-Z25)","v":0},{"$f":"IF(AA23=0,0,(AA23*((LOG(AA23))/LOG(2))))","v":0},null,{"$f":"N23","v":21111},{"$f":"COUNTIF(L72:L104,AD23)","v":0},{"$f":"AE23/(AG4-AE25)","v":0},{"$f":"IF(AF23=0,0,(AF23*((LOG(AF23))/LOG(2))))","v":0},null,{"$f":"N23","v":21111},{"$f":"COUNTIF(L105:L137,AI23)","v":0},{"$f":"AJ23/(AL4-AJ25)","v":0},{"$f":"IF(AK23=0,0,(AK23*((LOG(AK23))/LOG(2))))","v":0},null,{"$f":"N23","v":21111},{"$f":"COUNTIF(L138:L169,AN23)","v":0},{"$f":"AO23/(AQ4-AO25)","v":0},{"$f":"IF(AP23=0,0,(AP23*((LOG(AP23))/LOG(2))))","v":0},null,{"$f":"N23","v":21111},{"$f":"COUNTIF(L170:L202,AS23)","v":0},{"$f":"AT23/(AV4-AT25)","v":0},{"$f":"IF(AU23=0,0,(AU23*((LOG(AU23))/LOG(2))))","v":0}]
[12,2136,13,2144,13,2149,14,2154,13,2159,1,11111,null,21112,{"$f":"COUNTIF($L$7:$L$500,N24)","v":0},{"$f":"O24/$Q$4","v":0},{"$f":"IF(P24=0,0,(P24*((LOG(P24))/LOG(2))))","v":0},null,null,{"$f":"N24","v":21112},{"$f":"COUNTIF(L7:L39,T24)","v":0},{"$f":"U24/(W4-U25)","v":0},{"$f":"IF(V24=0,0,(V24*((LOG(V24))/LOG(2))))","v":0},null,{"$f":"N24","v":21112},{"$f":"COUNTIF(L40:L71,Y24)","v":0},{"$f":"Z24/(AB4-Z25)","v":0},{"$f":"IF(AA24=0,0,(AA24*((LOG(AA24))/LOG(2))))","v":0},null,{"$f":"N24","v":21112},{"$f":"COUNTIF(L72:L104,AD24)","v":0},{"$f":"AE24/(AG4-AE25)","v":0},{"$f":"IF(AF24=0,0,(AF24*((LOG(AF24))/LOG(2))))","v":0},null,{"$f":"N24","v":21112},{"$f":"COUNTIF(L105:L137,AI24)","v":0},{"$f":"AJ24/(AL4-AJ25)","v":0},{"$f":"IF(AK24=0,0,(AK24*((LOG(AK24))/LOG(2))))","v":0},null,{"$f":"N24","v":21112},{"$f":"COUNTIF(L138:L169,AN24)","v":0},{"$f":"AO24/(AQ4-AO25)","v":0},{"$f":"IF(AP24=0,0,(AP24*((LOG(AP24))/LOG(2))))","v":0},null,{"$f":"N24","v":21112},{"$f":"COUNTIF(L170:L202,AS24)","v":0},{"$f":"AT24/(AV4-AT25)","v":0},{"$f":"IF(AU24=0,0,(AU24*((LOG(AU24))/LOG(2))))","v":0}]
[12,2254,13,2258,13,2262,14,2266,13,2270,0,11111,null,21121,{"$f":"COUNTIF($L$7:$L$500,N25)","v":0},{"$f":"O25/$Q$4","v":0},{"$f":"IF(P25=0,0,(P25*((LOG(P25))/LOG(2))))","v":0},null,null,{"$f":"N25","v":21121},{"$f":"COUNTIF(L7:L39,T25)","v":0},null,null,null,{"$f":"N25","v":21121},{"$f":"COUNTIF(L40:L71,Y25)","v":0},null,null,null,{"$f":"N25","v":21121},{"$f":"COUNTIF(L72:L104,AD25)","v":0},null,null,null,{"$f":"N25","v":21121},{"$f":"COUNTIF(L105:L137,AI25)","v":0},null,null,null,{"$f":"N25","v":21121},{"$f":"COUNTIF(L138:L169,AN25)","v":0},null,null,null,{"$f":"N25","v":21121},{"$f":"COUNTIF(L170:L202,AS25)","v":0}]
[12,2379,13,2384,13,2388,14,2392,13,2401,0,11111,null,21122,{"$f":"COUNTIF($L$7:$L$500,N26)","v":0},{"$f":"O26/$Q$4","v":0},{"$f":"IF(P26=0,0,(P26*((LOG(P26))/LOG(2))))","v":0},null,null,{"$f":"N26","v":21122},{"$f":"COUNTIF(L7:L39,T26)","v":0},{"$f":"U26/(W4-U25)","v":0},{"$f":"IF(V26=0,0,(V26*((LOG(V26))/LOG(2))))","v":0},null,{"$f":"N26","v":21122},{"$f":"COUNTIF(L40:L71,Y26)","v":0},{"$f":"Z26/(AB4-Z25)","v":0},{"$f":"IF(AA26=0,0,(AA26*((LOG(AA26))/LOG(2))))","v":0},null,{"$f":"N26","v":21122},{"$f":"COUNTIF(L72:L104,AD26)","v":0},{"$f":"AE26/(AG4-AE25)","v":0},{"$f":"IF(AF26=0,0,(AF26*((LOG(AF26))/LOG(2))))","v":0},null,{"$f":"N26","v":21122},{"$f":"COUNTIF(L105:L137,AI26)","v":0},{"$f":"AJ26/(AL4-AJ25)","v":0},{"$f":"IF(AK26=0,0,(AK26*((LOG(AK26))/LOG(2))))","v":0},null,{"$f":"N26","v":21122},{"$f":"COUNTIF(L138:L169,AN26)","v":0},{"$f":"AO26/(AQ4-AO25)","v":0},{"$f":"IF(AP26=0,0,(AP26*((LOG(AP26))/LOG(2))))","v":0},null,{"$f":"N26","v":21122},{"$f":"COUNTIF(L170:L202,AS26)","v":0},{"$f":"AT26/(AV4-AT25)","v":0},{"$f":"IF(AU26=0,0,(AU26*((LOG(AU26))/LOG(2))))","v":0}]
[12,2501,13,2508,13,2513,14,2517,13,2522,0,11111,null,21211,{"$f":"COUNTIF($L$7:$L$500,N27)","v":0},{"$f":"O27/$Q$4","v":0},{"$f":"IF(P27=0,0,(P27*((LOG(P27))/LOG(2))))","v":0},null,null,{"$f":"N27","v":21211},{"$f":"COUNTIF(L7:L39,T27)","v":0},{"$f":"U27/(W4-U25)","v":0},{"$f":"IF(V27=0,0,(V27*((LOG(V27))/LOG(2))))","v":0},null,{"$f":"N27","v":21211},{"$f":"COUNTIF(L40:L71,Y27)","v":0},{"$f":"Z27/(AB4-Z25)","v":0},{"$f":"IF(AA27=0,0,(AA27*((LOG(AA27))/LOG(2))))","v":0},null,{"$f":"N27","v":21211},{"$f":"COUNTIF(L72:L104,AD27)","v":0},{"$f":"AE27/(AG4-AE25)","v":0},{"$f":"IF(AF27=0,0,(AF27*((LOG(AF27))/LOG(2))))","v":0},null,{"$f":"N27","v":21211},{"$f":"COUNTIF(L105:L137,AI27)","v":0},{"$f":"AJ27/(AL4-AJ25)","v":0},{"$f":"IF(AK27=0,0,(AK27*((LOG(AK27))/LOG(2))))","v":0},null,{"$f":"N27","v":21211},{"$f":"COUNTIF(L138:L169,AN27)","v":0},{"$f":"AO27/(AQ4-AO25)","v":0},{"$f":"IF(AP27=0,0,(AP27*((LOG(AP27))/LOG(2))))","v":0},null,{"$f":"N27","v":21211},{"$f":"COUNTIF(L170:L202,AS27)","v":0},{"$f":"AT27/(AV4-AT25)","v":0},{"$f":"IF(AU27=0,0,(AU27*((LOG(AU27))/LOG(2))))","v":0}]
[12,2626,13,2630,13,2634,14,2638,13,2643,0,11111,null,21212,{"$f":"COUNTIF($L$7:$L$500,N28)","v":0},{"$f":"O28/$Q$4","v":0},{"$f":"IF(P28=0,0,(P28*((LOG(P28))/LOG(2))))","v":0},null,null,{"$f":"N28","v":21212},{"$f":"COUNTIF(L7:L39,T28)","v":0},{"$f":"U28/(W4-U25)","v":0},{"$f":"IF(V28=0,0,(V28*((LOG(V28))/LOG(2))))","v":0},null,{"$f":"N28","v":21212},{"$f":"COUNTIF(L40:L71,Y28)","v":0},{"$f":"Z28/(AB4-Z25)","v":0},{"$f":"IF(AA28=0,0,(AA28*((LOG(AA28))/LOG(2))))","v":0},null,{"$f":"N28","v":21212},{"$f":"COUNTIF(L72:L104,AD28)","v":0},{"$f":"AE28/(AG4-AE25)","v":0},{"$f":"IF(AF28=0,0,(AF28*((LOG(AF28))/LOG(2))))","v":0},null,{"$f":"N28","v":21212},{"$f":"COUNTIF(L105:L137,AI28)","v":0},{"$f":"AJ28/(AL4-AJ25)","v":0},{"$f":"IF(AK28=0,0,(AK28*((LOG(AK28))/LOG(2))))","v":0},null,{"$f":"N28","v":21212},{"$f":"COUNTIF(L138:L169,AN28)","v":0},{"$f":"AO28/(AQ4-AO25)","v":0},{"$f":"IF(AP28=0,0,(AP28*((LOG(AP28))/LOG(2))))","v":0},null,{"$f":"N28","v":21212},{"$f":"COUNTIF(L170:L202,AS28)","v":0},{"$f":"AT28/(AV4-AT25)","v":0},{"$f":"IF(AU28=0,0,(AU28*((LOG(AU28))/LOG(2))))","v":0}]
[12,2743,13,2747,13,2751,14,2755,13,2759,0,11111,null,21221,{"$f":"COUNTIF($L$7:$L$500,N29)","v":0},{"$f":"O29/$Q$4","v":0},{"$f":"IF(P29=0,0,(P29*((LOG(P29))/LOG(2))))","v":0},null,null,{"$f":"N29","v":21221},{"$f":"COUNTIF(L7:L39,T29)","v":0},{"$f":"U29/(W4-U25)","v":0},{"$f":"IF(V29=0,0,(V29*((LOG(V29))/LOG(2))))","v":0},null,{"$f":"N29","v":21221},{"$f":"COUNTIF(L40:L71,Y29)","v":0},{"$f":"Z29/(AB4-Z25)","v":0},{"$f":"IF(AA29=0,0,(AA29*((LOG(AA29))/LOG(2))))","v":0},null,{"$f":"N29","v":21221},{"$f":"COUNTIF(L72:L104,AD29)","v":0},{"$f":"AE29/(AG4-AE25)","v":0},{"$f":"IF(AF29=0,0,(AF29*((LOG(AF29))/LOG(2))))","v":0},null,{"$f":"N29","v":21221},{"$f":"COUNTIF(L105:L137,AI29)","v":0},{"$f":"AJ29/(AL4-AJ25)","v":0},{"$f":"IF(AK29=0,0,(AK29*((LOG(AK29))/LOG(2))))","v":0},null,{"$f":"N29","v":21221},{"$f":"COUNTIF(L138:L169,AN29)","v":0},{"$f":"AO29/(AQ4-AO25)","v":0},{"$f":"IF(AP29=0,0,(AP29*((LOG(AP29))/LOG(2))))","v":0},null,{"$f":"N29","v":21221},{"$f":"COUNTIF(L170:L202,AS29)","v":0},{"$f":"AT29/(AV4-AT25)","v":0},{"$f":"IF(AU29=0,0,(AU29*((LOG(AU29))/LOG(2))))","v":0}]
[12,2859,13,2864,13,2868,14,2872,13,2877,1,11111,null,21222,{"$f":"COUNTIF($L$7:$L$500,N30)","v":0},{"$f":"O30/$Q$4","v":0},{"$f":"IF(P30=0,0,(P30*((LOG(P30))/LOG(2))))","v":0},null,null,{"$f":"N30","v":21222},{"$f":"COUNTIF(L7:L39,T30)","v":0},{"$f":"U30/(W4-U25)","v":0},{"$f":"IF(V30=0,0,(V30*((LOG(V30))/LOG(2))))","v":0},null,{"$f":"N30","v":21222},{"$f":"COUNTIF(L40:L71,Y30)","v":0},{"$f":"Z30/(AB4-Z25)","v":0},{"$f":"IF(AA30=0,0,(AA30*((LOG(AA30))/LOG(2))))","v":0},null,{"$f":"N30","v":21222},{"$f":"COUNTIF(L72:L104,AD30)","v":0},{"$f":"AE30/(AG4-AE25)","v":0},{"$f":"IF(AF30=0,0,(AF30*((LOG(AF30))/LOG(2))))","v":0},null,{"$f":"N30","v":21222},{"$f":"COUNTIF(L105:L137,AI30)","v":0},{"$f":"AJ30/(AL4-AJ25)","v":0},{"$f":"IF(AK30=0,0,(AK30*((LOG(AK30))/LOG(2))))","v":0},null,{"$f":"N30","v":21222},{"$f":"COUNTIF(L138:L169,AN30)","v":0},{"$f":"AO30/(AQ4-AO25)","v":0},{"$f":"IF(AP30=0,0,(AP30*((LOG(AP30))/LOG(2))))","v":0},null,{"$f":"N30","v":21222},{"$f":"COUNTIF(L170:L202,AS30)","v":0},{"$f":"AT30/(AV4-AT25)","v":0},{"$f":"IF(AU30=0,0,(AU30*((LOG(AU30))/LOG(2))))","v":0}]
[12,2976,13,2981,13,2986,14,2990,13,2994,0,11111,null,22111,{"$f":"COUNTIF($L$7:$L$500,N31)","v":0},{"$f":"O31/$Q$4","v":0},{"$f":"IF(P31=0,0,(P31*((LOG(P31))/LOG(2))))","v":0},null,null,{"$f":"N31","v":22111},{"$f":"COUNTIF(L7:L39,T31)","v":0},{"$f":"U31/(W4-U25)","v":0},{"$f":"IF(V31=0,0,(V31*((LOG(V31))/LOG(2))))","v":0},null,{"$f":"N31","v":22111},{"$f":"COUNTIF(L40:L71,Y31)","v":0},{"$f":"Z31/(AB4-Z25)","v":0},{"$f":"IF(AA31=0,0,(AA31*((LOG(AA31))/LOG(2))))","v":0},null,{"$f":"N31","v":22111},{"$f":"COUNTIF(L72:L104,AD31)","v":0},{"$f":"AE31/(AG4-AE25)","v":0},{"$f":"IF(AF31=0,0,(AF31*((LOG(AF31))/LOG(2))))","v":0},null,{"$f":"N31","v":22111},{"$f":"COUNTIF(L105:L137,AI31)","v":0},{"$f":"AJ31/(AL4-AJ25)","v":0},{"$f":"IF(AK31=0,0,(AK31*((LOG(AK31))/LOG(2))))","v":0},null,{"$f":"N31","v":22111},{"$f":"COUNTIF(L138:L169,AN31)","v":0},{"$f":"AO31/(AQ4-AO25)","v":0},{"$f":"IF(AP31=0,0,(AP31*((LOG(AP31))/LOG(2))))","v":0},null,{"$f":"N31","v":22111},{"$f":"COUNTIF(L170:L202,AS31)","v":0},{"$f":"AT31/(AV4-AT25)","v":0},{"$f":"IF(AU31=0,0,(AU31*((LOG(AU31))/LOG(2))))","v":0}]
[12,3093,13,3097,13,3102,14,3106,13,3110,0,11111,null,22112,{"$f":"COUNTIF($L$7:$L$500,N32)","v":0},{"$f":"O32/$Q$4","v":0},{"$f":"IF(P32=0,0,(P32*((LOG(P32))/LOG(2))))","v":0},null,null,{"$f":"N32","v":22112},{"$f":"COUNTIF(L7:L39,T32)","v":0},{"$f":"U32/(W4-U25)","v":0},{"$f":"IF(V32=0,0,(V32*((LOG(V32))/LOG(2))))","v":0},null,{"$f":"N32","v":22112},{"$f":"COUNTIF(L40:L71,Y32)","v":0},{"$f":"Z32/(AB4-Z25)","v":0},{"$f":"IF(AA32=0,0,(AA32*((LOG(AA32))/LOG(2))))","v":0},null,{"$f":"N32","v":22112},{"$f":"COUNTIF(L72:L104,AD32)","v":0},{"$f":"AE32/(AG4-AE25)","v":0},{"$f":"IF(AF32=0,0,(AF32*((LOG(AF32))/LOG(2))))","v":0},null,{"$f":"N32","v":22112},{"$f":"COUNTIF(L105:L137,AI32)","v":0},{"$f":"AJ32/(AL4-AJ25)","v":0},{"$f":"IF(AK32=0,0,(AK32*((LOG(AK32))/LOG(2))))","v":0},null,{"$f":"N32","v":22112},{"$f":"COUNTIF(L138:L169,AN32)","v":0},{"$f":"AO32/(AQ4-AO25)","v":0},{"$f":"IF(AP32=0,0,(AP32*((LOG(AP32))/LOG(2))))","v":0},null,{"$f":"N32","v":22112},{"$f":"COUNTIF(L170:L202,AS32)","v":0},{"$f":"AT32/(AV4-AT25)","v":0},{"$f":"IF(AU32=0,0,(AU32*((LOG(AU32))/LOG(2))))","v":0}]
[12,3209,13,3214,13,3218,14,3222,13,3226,0,11111,null,22121,{"$f":"COUNTIF($L$7:$L$500,N33)","v":0},{"$f":"O33/$Q$4","v":0},{"$f":"IF(P33=0,0,(P33*((LOG(P33))/LOG(2))))","v":0},null,null,{"$f":"N33","v":22121},{"$f":"COUNTIF(L7:L39,T33)","v":0},{"$f":"U33/(W4-U25)","v":0},{"$f":"IF(V33=0,0,(V33*((LOG(V33))/LOG(2))))","v":0},null,{"$f":"N33","v":22121},{"$f":"COUNTIF(L40:L71,Y33)","v":0},{"$f":"Z33/(AB4-Z25)","v":0},{"$f":"IF(AA33=0,0,(AA33*((LOG(AA33))/LOG(2))))","v":0},null,{"$f":"N33","v":22121},{"$f":"COUNTIF(L72:L104,AD33)","v":0},{"$f":"AE33/(AG4-AE25)","v":0},{"$f":"IF(AF33=0,0,(AF33*((LOG(AF33))/LOG(2))))","v":0},null,{"$f":"N33","v":22121},{"$f":"COUNTIF(L105:L137,AI33)","v":0},{"$f":"AJ33/(AL4-AJ25)","v":0},{"$f":"IF(AK33=0,0,(AK33*((LOG(AK33))/LOG(2))))","v":0},null,{"$f":"N33","v":22121},{"$f":"COUNTIF(L138:L169,AN33)","v":0},{"$f":"AO33/(AQ4-AO25)","v":0},{"$f":"IF(AP33=0,0,(AP33*((LOG(AP33))/LOG(2))))","v":0},null,{"$f":"N33","v":22121},{"$f":"COUNTIF(L170:L202,AS33)","v":0},{"$f":"AT33/(AV4-AT25)","v":0},{"$f":"IF(AU33=0,0,(AU33*((LOG(AU33))/LOG(2))))","v":0}]
[12,3332,13,3336,13,3340,14,3344,13,3349,0,11111,null,22122,{"$f":"COUNTIF($L$7:$L$500,N34)","v":0},{"$f":"O34/$Q$4","v":0},{"$f":"IF(P34=0,0,(P34*((LOG(P34))/LOG(2))))","v":0},null,null,{"$f":"N34","v":22122},{"$f":"COUNTIF(L7:L39,T34)","v":0},{"$f":"U34/(W4-U25)","v":0},{"$f":"IF(V34=0,0,(V34*((LOG(V34))/LOG(2))))","v":0},null,{"$f":"N34","v":22122},{"$f":"COUNTIF(L40:L71,Y34)","v":0},{"$f":"Z34/(AB4-Z25)","v":0},{"$f":"IF(AA34=0,0,(AA34*((LOG(AA34))/LOG(2))))","v":0},null,{"$f":"N34","v":22122},{"$f":"COUNTIF(L72:L104,AD34)","v":0},{"$f":"AE34/(AG4-AE25)","v":0},{"$f":"IF(AF34=0,0,(AF34*((LOG(AF34))/LOG(2))))","v":0},null,{"$f":"N34","v":22122},{"$f":"COUNTIF(L105:L137,AI34)","v":0},{"$f":"AJ34/(AL4-AJ25)","v":0},{"$f":"IF(AK34=0,0,(AK34*((LOG(AK34))/LOG(2))))","v":0},null,{"$f":"N34","v":22122},{"$f":"COUNTIF(L138:L169,AN34)","v":0},{"$f":"AO34/(AQ4-AO25)","v":0},{"$f":"IF(AP34=0,0,(AP34*((LOG(AP34))/LOG(2))))","v":0},null,{"$f":"N34","v":22122},{"$f":"COUNTIF(L170:L202,AS34)","v":0},{"$f":"AT34/(AV4-AT25)","v":0},{"$f":"IF(AU34=0,0,(AU34*((LOG(AU34))/LOG(2))))","v":0}]
[12,3452,13,3457,13,3462,14,3466,13,3471,0,11111,null,22211,{"$f":"COUNTIF($L$7:$L$500,N35)","v":0},{"$f":"O35/$Q$4","v":0},{"$f":"IF(P35=0,0,(P35*((LOG(P35))/LOG(2))))","v":0},null,null,{"$f":"N35","v":22211},{"$f":"COUNTIF(L7:L39,T35)","v":0},{"$f":"U35/(W4-U25)","v":0},{"$f":"IF(V35=0,0,(V35*((LOG(V35))/LOG(2))))","v":0},null,{"$f":"N35","v":22211},{"$f":"COUNTIF(L40:L71,Y35)","v":0},{"$f":"Z35/(AB4-Z25)","v":0},{"$f":"IF(AA35=0,0,(AA35*((LOG(AA35))/LOG(2))))","v":0},null,{"$f":"N35","v":22211},{"$f":"COUNTIF(L72:L104,AD35)","v":0},{"$f":"AE35/(AG4-AE25)","v":0},{"$f":"IF(AF35=0,0,(AF35*((LOG(AF35))/LOG(2))))","v":0},null,{"$f":"N35","v":22211},{"$f":"COUNTIF(L105:L137,AI35)","v":0},{"$f":"AJ35/(AL4-AJ25)","v":0},{"$f":"IF(AK35=0,0,(AK35*((LOG(AK35))/LOG(2))))","v":0},null,{"$f":"N35","v":22211},{"$f":"COUNTIF(L138:L169,AN35)","v":0},{"$f":"AO35/(AQ4-AO25)","v":0},{"$f":"IF(AP35=0,0,(AP35*((LOG(AP35))/LOG(2))))","v":0},null,{"$f":"N35","v":22211},{"$f":"COUNTIF(L170:L202,AS35)","v":0},{"$f":"AT35/(AV4-AT25)","v":0},{"$f":"IF(AU35=0,0,(AU35*((LOG(AU35))/LOG(2))))","v":0}]
[12,3572,13,3576,13,3580,14,3583,13,3587,0,11111,null,22212,{"$f":"COUNTIF($L$7:$L$500,N36)","v":0},{"$f":"O36/$Q$4","v":0},{"$f":"IF(P36=0,0,(P36*((LOG(P36))/LOG(2))))","v":0},null,null,{"$f":"N36","v":22212},{"$f":"COUNTIF(L7:L39,T36)","v":0},{"$f":"U36/(W4-U25)","v":0},{"$f":"IF(V36=0,0,(V36*((LOG(V36))/LOG(2))))","v":0},null,{"$f":"N36","v":22212},{"$f":"COUNTIF(L40:L71,Y36)","v":0},{"$f":"Z36/(AB4-Z25)","v":0},{"$f":"IF(AA36=0,0,(AA36*((LOG(AA36))/LOG(2))))","v":0},null,{"$f":"N36","v":22212},{"$f":"COUNTIF(L72:L104,AD36)","v":0},{"$f":"AE36/(AG4-AE25)","v":0},{"$f":"IF(AF36=0,0,(AF36*((LOG(AF36))/LOG(2))))","v":0},null,{"$f":"N36","v":22212},{"$f":"COUNTIF(L105:L137,AI36)","v":0},{"$f":"AJ36/(AL4-AJ25)","v":0},{"$f":"IF(AK36=0,0,(AK36*((LOG(AK36))/LOG(2))))","v":0},null,{"$f":"N36","v":22212},{"$f":"COUNTIF(L138:L169,AN36)","v":0},{"$f":"AO36/(AQ4-AO25)","v":0},{"$f":"IF(AP36=0,0,(AP36*((LOG(AP36))/LOG(2))))","v":0},null,{"$f":"N36","v":22212},{"$f":"COUNTIF(L170:L202,AS36)","v":0},{"$f":"AT36/(AV4-AT25)","v":0},{"$f":"IF(AU36=0,0,(AU36*((LOG(AU36))/LOG(2))))","v":0}]
[12,3688,13,3692,13,3696,14,3700,13,3705,0,11111,null,22221,{"$f":"COUNTIF($L$7:$L$500,N37)","v":0},{"$f":"O37/$Q$4","v":0},{"$f":"IF(P37=0,0,(P37*((LOG(P37))/LOG(2))))","v":0},null,null,{"$f":"N37","v":22221},{"$f":"COUNTIF(L7:L39,T37)","v":0},{"$f":"U37/(W4-U25)","v":0},{"$f":"IF(V37=0,0,(V37*((LOG(V37))/LOG(2))))","v":0},null,{"$f":"N37","v":22221},{"$f":"COUNTIF(L40:L71,Y37)","v":0},{"$f":"Z37/(AB4-Z25)","v":0},{"$f":"IF(AA37=0,0,(AA37*((LOG(AA37))/LOG(2))))","v":0},null,{"$f":"N37","v":22221},{"$f":"COUNTIF(L72:L104,AD37)","v":0},{"$f":"AE37/(AG4-AE25)","v":0},{"$f":"IF(AF37=0,0,(AF37*((LOG(AF37))/LOG(2))))","v":0},null,{"$f":"N37","v":22221},{"$f":"COUNTIF(L105:L137,AI37)","v":0},{"$f":"AJ37/(AL4-AJ25)","v":0},{"$f":"IF(AK37=0,0,(AK37*((LOG(AK37))/LOG(2))))","v":0},null,{"$f":"N37","v":22221},{"$f":"COUNTIF(L138:L169,AN37)","v":0},{"$f":"AO37/(AQ4-AO25)","v":0},{"$f":"IF(AP37=0,0,(AP37*((LOG(AP37))/LOG(2))))","v":0},null,{"$f":"N37","v":22221},{"$f":"COUNTIF(L170:L202,AS37)","v":0},{"$f":"AT37/(AV4-AT25)","v":0},{"$f":"IF(AU37=0,0,(AU37*((LOG(AU37))/LOG(2))))","v":0}]
[12,3820,13,3824,13,3828,14,3834,13,3843,0,11111,null,22222,{"$f":"COUNTIF($L$7:$L$500,N38)","v":0},{"$f":"O38/$Q$4","v":0},{"$f":"IF(P38=0,0,(P38*((LOG(P38))/LOG(2))))","v":0},null,null,{"$f":"N38","v":22222},{"$f":"COUNTIF(L7:L39,T38)","v":0},{"$f":"U38/(W4-U25)","v":0},{"$f":"IF(V38=0,0,(V38*((LOG(V38))/LOG(2))))","v":0},null,{"$f":"N38","v":22222},{"$f":"COUNTIF(L40:L71,Y38)","v":0},{"$f":"Z38/(AB4-Z25)","v":0},{"$f":"IF(AA38=0,0,(AA38*((LOG(AA38))/LOG(2))))","v":0},null,{"$f":"N38","v":22222},{"$f":"COUNTIF(L72:L104,AD38)","v":0},{"$f":"AE38/(AG4-AE25)","v":0},{"$f":"IF(AF38=0,0,(AF38*((LOG(AF38))/LOG(2))))","v":0},null,{"$f":"N38","v":22222},{"$f":"COUNTIF(L105:L137,AI38)","v":0},{"$f":"AJ38/(AL4-AJ25)","v":0},{"$f":"IF(AK38=0,0,(AK38*((LOG(AK38))/LOG(2))))","v":0},null,{"$f":"N38","v":22222},{"$f":"COUNTIF(L138:L169,AN38)","v":0},{"$f":"AO38/(AQ4-AO25)","v":0},{"$f":"IF(AP38=0,0,(AP38*((LOG(AP38))/LOG(2))))","v":0},null,{"$f":"N38","v":22222},{"$f":"COUNTIF(L170:L202,AS38)","v":0},{"$f":"AT38/(AV4-AT25)","v":0},{"$f":"IF(AU38=0,0,(AU38*((LOG(AU38))/LOG(2))))","v":0}]
[12,3946,13,3950,13,3954,14,3959,13,3964,1,11111,null,null,null,{"$f":"SUM(P7:P38)","v":1},{"$f":"-SUM(Q7:Q38)","v":4.6192440129626075E-2},null,null,null,null,{"$f":"SUM(V7:V38)","v":1},{"$f":"-SUM(W7:W38)","v":0},null,null,null,{"$f":"SUM(AA7:AA38)","v":1},{"$f":"-SUM(AB7:AB38)","v":0},null,null,null,{"$f":"SUM(AF7:AF38)","v":1},{"$f":"-SUM(AG7:AG38)","v":0},null,null,null,{"$f":"SUM(AK7:AK38)","v":1},{"$f":"-SUM(AL7:AL38)","v":0},null,null,null,{"$f":"SUM(AP7:AP38)","v":1},{"$f":"-SUM(AQ7:AQ38)","v":0.20062232431271465},null,null,null,{"$f":"SUM(AU7:AU38)","v":1},{"$f":"-SUM(AV7:AV38)","v":0}]
[12,4059,13,4064,13,4068,14,4072,13,4077,0,11111,null,null,null,"U=",{"$f":"Q39/(LOG(Q4)/LOG(2))","v":6.0662114611398452E-3},null,null,null,null,"U1=",{"$f":"W39/(LOG(W4)/LOG(2))","v":0},null,null,null,"U2=",{"$f":"AB39/(LOG(AB4)/LOG(2))","v":0},null,null,null,"U3=",{"$f":"AG39/(LOG(AG4)/LOG(2))","v":0},null,null,null,"U4=",{"$f":"AL39/(LOG(AL4)/LOG(2))","v":0},null,null,null,"U5=",{"$f":"AQ39/(LOG(AQ4)/LOG(2))","v":4.0124464862542931E-2},null,null,null,"U6=",{"$f":"AV39/(LOG(AV4)/LOG(2))","v":0}]
[12,4179,13,4184,13,4188,14,4192,13,4198,0,11111]
[12,4305,13,4309,13,4314,14,4319,13,4324,0,11111]
[12,4424,13,4430,13,4434,14,4438,13,4445,0,11111,null,"Total Target Seq"]
[12,4546,13,4550,13,4554,14,4558,13,4562,0,11111,null,{"$f":"COUNTIF(L7:L202,G3)","v":0},null,33,32,33,33,32,33]
[12,4667,13,4671,13,4675,14,4680,13,4688,0,11111,null,null,null,"% of reinforcement given in 6 equal intervals based on number of trials "]
[12,4794,13,4798,13,4803,14,4807,13,4812,0,11111,null,null,null,"%_1","%_2","%_3","%_4","%_5","%_6"]
[12,4915,13,4919,13,4923,14,4928,13,4932,0,11111,null,null,"target sequence",{"$f":"$G$3","v":21121},{"$f":"$G$3","v":21121},{"$f":"$G$3","v":21121},{"$f":"$G$3","v":21121},{"$f":"$G$3","v":21121},{"$f":"$G$3","v":21121}]
[12,5042,13,5046,13,5050,14,5055,13,5065,0,11111,null,null,"total reinforcement",{"$f":"U25","v":0},{"$f":"Z25","v":0},{"$f":"AE25","v":0},{"$f":"AJ25","v":0},{"$f":"AO25","v":0},{"$f":"AT25","v":0}]
[12,5177,13,5181,13,5185,14,5189,13,5193,0,11111,null,null,"% target"]
[12,5295,13,5299,13,5303,14,5307,13,5311,0,11111,null,null,"CCRF"]
[12,5413,13,5417,13,5421,14,5426,13,5430,1,11111,null,null,"% CCRf"]
[12,5531,13,5538,13,5542,14,5546,13,5551,0,11111,null,null,"average response rate",{"$f":"J39/P44","v":120.12121212121212},{"$f":"(J71-J39)/Q44","v":123.5625},{"$f":"(J104-J71)/R44","v":120.72727272727273},{"$f":"(J137-J104)/S44","v":121.93939393939394},{"$f":"(J169-J137)/T44","v":127.0625},{"$f":"(J202-J169)/U44","v":120.18181818181819}]
[12,5661,13,5672,13,5677,14,5690,13,5695,0,11111]
[12,5803,13,5807,13,5811,14,5815,13,5819,0,11111]
[12,5928,13,5932,13,5936,14,5940,13,5944,0,11111]
[12,6044,13,6048,13,6052,14,6056,13,6065,0,11111]
[12,6171,13,6176,13,6180,14,6185,13,6191,0,11111]
[12,6291,13,6295,13,6299,14,6303,13,6308,0,11111]
[12,6409,13,6415,13,6420,14,6424,13,6428,0,11111]
[12,6538,13,6543,13,6547,14,6552,13,6561,0,11111]
[12,6663,13,6667,13,6672,14,6676,13,6685,0,11111]
[12,6789,13,6793,13,6797,14,6801,13,6805,0,11111]
[12,6904,13,6911,13,6915,14,6919,13,6924,1,11111]
[12,7024,13,7029,13,7033,14,7041,13,7051,1,11111]
[12,7147,13,7151,13,7155,14,7160,13,7164,0,11111]
[12,7264,13,7268,13,7272,14,7276,13,7280,0,11111]
[12,7380,13,7387,13,7391,14,7395,13,7399,0,11111]
[12,7500,13,7507,13,7511,14,7515,13,7519,0,11111]
[12,7619,13,7624,13,7628,14,7632,13,7635,1,11111]
[12,7759,13,7763,13,7776,14,7785,13,7797,0,11111]
[12,7901,13,7905,13,7909,14,7913,13,7918,0,11111]
[12,8017,13,8021,13,8025,14,8029,13,8036,0,11111]
[12,8138,13,8141,13,8145,14,8149,13,8153,0,11111]
[12,8257,13,8261,13,8265,14,8269,13,8273,1,11111]
[12,8371,13,8377,13,8382,14,8387,13,8398,0,11111]
[12,8501,13,8506,13,8510,14,8514,13,8518,0,11111]
[12,8622,13,8626,13,8630,14,8634,13,8639,0,11111]
[12,8740,13,8745,13,8749,14,8753,13,8757,0,11111]
[12,8858,13,8862,13,8866,14,8870,13,8875,0,11111]
[12,8974,13,8979,13,8983,14,8987,13,8992,1,11111]
[12,9100,13,9104,13,9112,14,9116,13,9123,0,11111]
[12,9230,13,9234,13,9237,14,9241,13,9246,0,11111]
[12,9347,13,9355,13,9358,14,9362,13,9367,0,11111]
[12,9466,13,9470,13,9474,14,9478,13,9482,1,11111]
[12,9580,13,9584,13,9588,14,9593,13,9597,0,11111]
[12,9697,13,9701,13,9705,14,9709,13,9713,0,11111]
[12,9817,13,9821,13,9825,14,9830,13,9845,1,11111]
[12,9942,13,9946,13,9950,14,9954,13,9959,0,11111]
[12,10059,13,10063,13,10072,14,10076,13,10081,0,11111]
[12,10181,13,10185,13,10189,14,10193,13,10197,1,11111]
[12,10299,13,10304,13,10308,14,10313,13,10318,0,11111]
[12,10420,13,10424,13,10428,14,10432,13,10436,0,11111]
[12,10539,13,10544,13,10548,14,10552,13,10556,0,11111]
[12,10657,13,10666,13,10670,14,10676,13,10687,0,11111]
[12,10791,13,10795,13,10799,14,10803,13,10808,0,11111]
[12,10910,13,10914,13,10918,14,10922,13,10927,1,11111]
[12,11022,13,11026,13,11030,14,11034,13,11038,0,11111]
[12,11140,13,11145,13,11149,14,11153,13,11161,0,11111]
[12,11266,13,11270,13,11274,14,11278,13,11288,0,11111]
[12,11391,13,11397,13,11401,14,11405,13,11409,0,11111]
[12,11509,13,11513,13,11518,14,11523,13,11528,0,11111]
[12,11628,13,11632,13,11635,14,11640,13,11644,1,11111]
[12,11742,13,11746,13,11750,14,11760,13,11766,0,11111]
[12,11875,13,11880,13,11892,14,11898,13,11902,0,11111]
[12,12003,13,12010,13,12014,14,12018,13,12023,0,11111]
[12,12122,13,12125,13,12132,14,12136,13,12141,0,11111]
[12,12243,13,12247,13,12251,14,12255,13,12259,0,11111]
[12,12381,13,12385,13,12390,14,12395,13,12400,0,11111]
[12,12511,13,12516,13,12520,14,12524,13,12529,0,11111]
[12,12630,13,12634,13,12638,14,12642,13,12646,1,11111]
[12,12741,13,12745,13,12749,14,12753,13,12758,0,11111]
[12,12857,13,12862,13,12866,14,12870,13,12874,0,11111]
[12,12973,13,12977,13,12981,14,12985,13,12989,0,11111]
[12,13092,13,13096,13,13100,14,13105,13,13110,0,11111]
[12,13210,13,13214,13,13218,14,13222,13,13226,0,11111]
[12,13326,13,13330,13,13334,14,13339,13,13343,0,11111]
[12,13445,13,13451,13,13456,14,13460,13,13467,0,11111]
[12,13567,13,13572,13,13576,14,13580,13,13584,0,11111]
[12,13688,13,13695,13,13702,14,13714,13,13719,1,11111]
[12,13816,13,13820,13,13824,14,13828,13,13832,1,11111]
[12,13928,13,13935,13,13939,14,13944,13,13948,0,11111]
[12,14049,13,14053,13,14057,14,14061,13,14065,0,11111]
[12,14163,13,14171,13,14175,14,14179,13,14184,0,11111]
[12,14285,13,14305,13,14310,14,14318,13,14324,0,11111]
[12,14428,13,14432,13,14436,14,14440,13,14447,1,11111]
[12,14543,13,14547,13,14552,14,14556,13,14561,0,11111]
[12,14661,13,14665,13,14669,14,14674,13,14680,0,11111]
[12,14780,13,14784,13,14787,14,14791,13,14796,0,11111]
[12,14898,13,14902,13,14907,14,14912,13,14917,0,11111]
[12,15019,13,15022,13,15026,14,15031,13,15035,0,11111]
[12,15136,13,15140,13,15144,14,15148,13,15153,0,11111]
[12,15260,13,15278,13,15283,14,15288,13,15295,0,11111]
[12,15395,13,15403,13,15410,14,15415,13,15424,1,11111]
[12,15518,13,15527,13,15532,14,15536,13,15547,0,11111]
[12,15648,13,15653,13,15657,14,15661,13,15665,0,11111]
[12,15767,13,15770,13,15774,14,15778,13,15782,0,11111]
[12,15885,13,15889,13,15893,14,15920,13,15926,0,11111]
[12,16026,13,16031,13,16035,14,16039,13,16043,0,11111]
[12,16147,13,16152,13,16156,14,16160,13,16164,0,11111]
[12,16264,13,16268,13,16271,14,16275,13,16280,0,11111]
[12,16381,13,16385,13,16390,14,16394,13,16402,0,11111]
[12,16504,13,16508,13,16513,14,16517,13,16523,1,11111]
[12,16619,13,16623,13,16627,14,16631,13,16635,0,11111]
[12,16735,13,16739,13,16742,14,16746,13,16751,1,11111]
[12,16850,13,16908,13,16912,14,16917,13,16925,0,11111]
[12,17048,13,17052,13,17057,14,17064,13,17069,1,11111]
[12,17171,13,17176,13,17180,14,17184,13,17188,0,11111]
[12,17290,13,17294,13,17298,23,17385,24,17395,0,11122]
[12,17497,13,17502,13,17506,14,17510,13,17522,0,11111]
[12,17622,13,17627,13,17631,14,17635,13,17639,0,11111]
[12,17742,13,17746,13,17750,14,17754,13,17771,0,11111]
[12,17873,13,17878,13,17882,14,17887,13,17892,0,11111]
[12,17992,13,17996,13,18004,14,18008,13,18013,0,11111]
[12,18113,13,18117,13,18121,14,18125,13,18129,0,11111]
[12,18230,13,18234,13,18238,14,18243,13,18248,0,11111]
[12,18349,13,18357,13,18361,14,18378,13,18388,0,11111]
[12,18488,13,18492,13,18496,14,18500,13,18506,1,11111]
[12,18606,13,18610,13,18619,14,18624,13,18638,0,11111]
[12,18737,13,18740,13,18744,14,18749,13,18753,0,11111]
[12,18855,13,18860,13,18865,14,18870,13,18875,0,11111]
[12,18977,13,18981,13,18985,14,18990,13,18996,0,11111]
[12,19097,13,19102,13,19106,14,19111,13,19123,0,11111]
[12,19223,13,19227,13,19231,14,19235,13,19239,0,11111]
[12,19343,13,19347,13,19352,14,19360,13,19365,0,11111]
[12,19464,13,19471,13,19475,14,19479,13,19487,1,11111]
[12,19587,13,19592,13,19602,14,19610,13,19615,1,11111]
[12,19718,13,19722,13,19726,14,19735,13,19741,0,11111]
[12,19843,13,19848,13,19852,14,19856,13,19861,0,11111]
[12,19968,13,19972,13,19982,14,19987,13,19992,0,11111]
[12,20095,13,20099,13,20103,14,20107,13,20112,0,11111]
[12,20213,13,20218,13,20221,14,20226,13,20232,0,11111]
[12,20331,13,20338,13,20341,14,20345,13,20350,1,11111]
[12,20449,13,20454,13,20458,14,20462,13,20472,0,11111]
[12,20573,13,20580,13,20586,14,20595,13,20600,0,11111]
[12,20699,13,20704,13,20707,14,20712,13,20717,0,11111]
[12,20818,13,20822,13,20826,14,20830,13,20834,0,11111]
[12,20938,13,20942,13,20946,14,20950,13,20955,0,11111]
[12,21055,13,21064,13,21068,14,21074,13,21078,0,11111]
[12,21178,13,21182,13,21186,14,21189,13,21195,0,11111]
[12,21294,13,21299,13,21303,14,21310,13,21315,0,11111]
[12,21417,13,21421,13,21428,14,21433,13,21438,0,11111]
[12,21538,13,21542,13,21546,14,21550,13,21554,0,11111]
[12,21659,13,21663,13,21668,14,21672,13,21676,0,11111]
[12,21777,13,21781,13,21786,14,21790,13,21794,1,11111]
[12,21896,13,21902,13,21906,14,21910,13,21915,1,11111]
[12,22011,13,22015,13,22020,14,22024,13,22028,0,11111]
[12,22127,13,22131,13,22135,14,22139,13,22147,0,11111]
[12,22250,13,22259,13,22263,14,22277,13,22282,1,11111]
[12,22386,13,22389,13,22393,14,22398,13,22403,0,11111]
[12,22509,13,22514,13,22518,14,22522,13,22529,0,11111]
[12,22629,13,22634,13,22637,14,22641,13,22645,1,11111]
[12,22747,13,22753,13,22757,14,22762,13,22766,0,11111]
[12,22871,13,22875,13,22879,14,22884,13,22889,0,11111]
[12,22997,13,23001,13,23006,14,23010,13,23017,0,11111]
[12,23118,13,23122,13,23126,14,23130,13,23134,1,11111]
[12,23229,13,23234,13,23238,14,23243,13,23247,0,11111]
[12,23348,13,23352,13,23356,14,23360,13,23370,0,11111]
[12,23469,13,23473,13,23477,14,23481,13,23485,0,11111]
[12,23588,13,23594,13,23598,14,23602,13,23607,0,11111]
[12,23708,13,23711,13,23716,14,23721,13,23726,0,11111]
[12,23825,13,23829,13,23833,14,23837,13,23841,1,11111]
[12,23936,13,23940,13,23944,14,23948,13,23958,null,11111]

{"sheet":"!MC22900.010","index":24,"n_rows":195,"n_cols":48,"rows_kept":195,"cut":false,"hidden":false,"merged":[[4,39,4,42],[5,39,5,40],[4,44,4,47],[5,44,5,45],[4,24,4,27],[5,24,5,25],[4,29,4,32],[5,29,5,30],[4,34,4,37],[5,34,5,35],[1,1,1,2],[5,13,5,14],[42,13,42,14],[43,13,43,14],[4,19,4,22],[5,19,5,20]]}
["Report for:!MC22900.010"]
["Date:","<date>"]
["Hen:","<hen>",null,null,null,"Correct Sequence",{"$f":"Start!J2","v":21121},null,null,null,null,null,null,null,null,"Total Sequences in Data",{"$f":"4994-COUNTBLANK(L7:L5000)","v":189},null,null,null,null,"Total Sequences in Block Data",{"$f":"COUNTA(L7:L38)","v":32},null,null,null,"Total Sequences in Block Data",{"$f":"COUNTA(L39:L69)","v":31},null,null,null,"Total Sequences in Block Data",{"$f":"COUNTA(L70:L101)","v":32},null,null,null,"Total Sequences in Block Data",{"$f":"COUNTA(L102:L132)","v":31},null,null,null,"Total Sequences in Block Data",{"$f":"COUNTA(L133:L164)","v":32},null,null,null,"Total Sequences in Block Data",{"$f":"COUNTA(L165:L195)","v":31}]
[null,null,null,null,null,null,null,null,null,null,null,null,null,null,null,"Total Sequences in Summary",{"$f":"SUM(O7:O38)","v":189},null,null,null,null,"Total Sequences in Block Summary",{"$f":"SUM(U7:U38)","v":32},null,null,null,"Total Sequences in Block Summary",{"$f":"SUM(Z7:Z38)","v":31},null,null,null,"Total Sequences in Block Summary",{"$f":"SUM(AE7:AE38)","v":32},null,null,null,"Total Sequences in Block Summary",{"$f":"SUM(AJ7:AJ38)","v":31},null,null,null,"Total Sequences in Block Summary",{"$f":"SUM(AO7:AO38)","v":32},null,null,null,"Total Sequences in Block Summary",{"$f":"SUM(AT7:AT38)","v":31}]
[null,null,null,null,null,null,null,null,null,null,null,null,null,null,null,null,null,null,null,"Block 1",null,null,null,null,"Block 2",null,null,null,null,"Block 3",null,null,null,null,"Block 4",null,null,null,null,"Block 5",null,null,null,null,"Block 6"]
["Sequence\nComponent\n1","Time\n1","Sequence\nComponent\n2","Time\n2","Sequence\nComponent\n3","Time\n3","Sequence\nComponent\n4","Time\n4","Sequence\nComponent\n5","Time\n5","Correct?\n0=No 1=Yes","Sequence",null,"Frequency",null,"Relative Frequency","Variability",null,null,"Frequency",null,"Relative Frequency","Variability",null,"Frequency",null,"Relative Frequency","Variability",null,"Frequency",null,"Relative Frequency","Variability",null,"Frequency",null,"Relative Frequency","Variability",null,"Frequency",null,"Relative Frequency","Variability",null,"Frequency",null,"Relative Frequency","Variability"]
[12,44,13,53,13,57,14,62,13,67,0,11111,null,11111,{"$f":"COUNTIF($L$7:$L$500,N7)","v":183},{"$f":"O7/$Q$4","v":0.96825396825396826},{"$f":"IF(P7=0,0,(P7*((LOG(P7))/LOG(2))))","v":-4.5065043526330825E-2},null,null,{"$f":"N7","v":11111},{"$f":"COUNTIF(L7:L38,T7)","v":32},{"$f":"U7/(W4-U25)","v":1},{"$f":"IF(V7=0,0,(V7*((LOG(V7))/LOG(2))))","v":0},null,{"$f":"N7","v":11111},{"$f":"COUNTIF(L39:L69,Y7)","v":31},{"$f":"Z7/(AB4-Z25)","v":1},{"$f":"IF(AA7=0,0,(AA7*((LOG(AA7))/LOG(2))))","v":0},null,{"$f":"N7","v":11111},{"$f":"COUNTIF(L70:L101,AD7)","v":32},{"$f":"AE7/(AG4-AE25)","v":1},{"$f":"IF(AF7=0,0,(AF7*((LOG(AF7))/LOG(2))))","v":0},null,{"$f":"N7","v":11111},{"$f":"COUNTIF(L102:L132,AI7)","v":28},{"$f":"AJ7/(AL4-AJ25)","v":0.90322580645161288},{"$f":"IF(AK7=0,0,(AK7*((LOG(AK7))/LOG(2))))","v":-0.13263093139418039},null,{"$f":"N7","v":11111},{"$f":"COUNTIF(L133:L164,AN7)","v":30},{"$f":"AO7/(AQ4-AO25)","v":0.9375},{"$f":"IF(AP7=0,0,(AP7*((LOG(AP7))/LOG(2))))","v":-8.729006661701387E-2},null,{"$f":"N7","v":11111},{"$f":"COUNTIF(L165:L195,AS7)","v":30},{"$f":"AT7/(AV4-AT25)","v":0.967741935483871},{"$f":"IF(AU7=0,0,(AU7*((LOG(AU7))/LOG(2))))","v":-4.5779723979054811E-2}]
[12,168,13,172,13,177,14,182,13,186,0,11111,null,11112,{"$f":"COUNTIF($L$7:$L$500,N8)","v":0},{"$f":"O8/$Q$4","v":0},{"$f":"IF(P8=0,0,(P8*((LOG(P8))/LOG(2))))","v":0},null,null,{"$f":"N8","v":11112},{"$f":"COUNTIF(L7:L38,T8)","v":0},{"$f":"U8/(W4-U25)","v":0},{"$f":"IF(V8=0,0,(V8*((LOG(V8))/LOG(2))))","v":0},null,{"$f":"N8","v":11112},{"$f":"COUNTIF(L39:L69,Y8)","v":0},{"$f":"Z8/(AB4-Z25)","v":0},{"$f":"IF(AA8=0,0,(AA8*((LOG(AA8))/LOG(2))))","v":0},null,{"$f":"N8","v":11112},{"$f":"COUNTIF(L70:L101,AD8)","v":0},{"$f":"AE8/(AG4-AE25)","v":0},{"$f":"IF(AF8=0,0,(AF8*((LOG(AF8))/LOG(2))))","v":0},null,{"$f":"N8","v":11112},{"$f":"COUNTIF(L102:L132,AI8)","v":0},{"$f":"AJ8/(AL4-AJ25)","v":0},{"$f":"IF(AK8=0,0,(AK8*((LOG(AK8))/LOG(2))))","v":0},null,{"$f":"N8","v":11112},{"$f":"COUNTIF(L133:L164,AN8)","v":0},{"$f":"AO8/(AQ4-AO25)","v":0},{"$f":"IF(AP8=0,0,(AP8*((LOG(AP8))/LOG(2))))","v":0},null,{"$f":"N8","v":11112},{"$f":"COUNTIF(L165:L195,AS8)","v":0},{"$f":"AT8/(AV4-AT25)","v":0},{"$f":"IF(AU8=0,0,(AU8*((LOG(AU8))/LOG(2))))","v":0}]
[12,287,13,292,13,296,14,300,13,305,0,11111,null,11121,{"$f":"COUNTIF($L$7:$L$500,N9)","v":0},{"$f":"O9/$Q$4","v":0},{"$f":"IF(P9=0,0,(P9*((LOG(P9))/LOG(2))))","v":0},null,null,{"$f":"N9","v":11121},{"$f":"COUNTIF(L7:L38,T9)","v":0},{"$f":"U9/(W4-U25)","v":0},{"$f":"IF(V9=0,0,(V9*((LOG(V9))/LOG(2))))","v":0},null,{"$f":"N9","v":11121},{"$f":"COUNTIF(L39:L69,Y9)","v":0},{"$f":"Z9/(AB4-Z25)","v":0},{"$f":"IF(AA9=0,0,(AA9*((LOG(AA9))/LOG(2))))","v":0},null,{"$f":"N9","v":11121},{"$f":"COUNTIF(L70:L101,AD9)","v":0},{"$f":"AE9/(AG4-AE25)","v":0},{"$f":"IF(AF9=0,0,(AF9*((LOG(AF9))/LOG(2))))","v":0},null,{"$f":"N9","v":11121},{"$f":"COUNTIF(L102:L132,AI9)","v":0},{"$f":"AJ9/(AL4-AJ25)","v":0},{"$f":"IF(AK9=0,0,(AK9*((LOG(AK9))/LOG(2))))","v":0},null,{"$f":"N9","v":11121},{"$f":"COUNTIF(L133:L164,AN9)","v":0},{"$f":"AO9/(AQ4-AO25)","v":0},{"$f":"IF(AP9=0,0,(AP9*((LOG(AP9))/LOG(2))))","v":0},null,{"$f":"N9","v":11121},{"$f":"COUNTIF(L165:L195,AS9)","v":0},{"$f":"AT9/(AV4-AT25)","v":0},{"$f":"IF(AU9=0,0,(AU9*((LOG(AU9))/LOG(2))))","v":0}]
[12,409,13,414,13,418,14,422,13,427,0,11111,null,11122,{"$f":"COUNTIF($L$7:$L$500,N10)","v":0},{"$f":"O10/$Q$4","v":0},{"$f":"IF(P10=0,0,(P10*((LOG(P10))/LOG(2))))","v":0},null,null,{"$f":"N10","v":11122},{"$f":"COUNTIF(L7:L38,T10)","v":0},{"$f":"U10/(W4-U25)","v":0},{"$f":"IF(V10=0,0,(V10*((LOG(V10))/LOG(2))))","v":0},null,{"$f":"N10","v":11122},{"$f":"COUNTIF(L39:L69,Y10)","v":0},{"$f":"Z10/(AB4-Z25)","v":0},{"$f":"IF(AA10=0,0,(AA10*((LOG(AA10))/LOG(2))))","v":0},null,{"$f":"N10","v":11122},{"$f":"COUNTIF(L70:L101,AD10)","v":0},{"$f":"AE10/(AG4-AE25)","v":0},{"$f":"IF(AF10=0,0,(AF10*((LOG(AF10))/LOG(2))))","v":0},null,{"$f":"N10","v":11122},{"$f":"COUNTIF(L102:L132,AI10)","v":0},{"$f":"AJ10/(AL4-AJ25)","v":0},{"$f":"IF(AK10=0,0,(AK10*((LOG(AK10))/LOG(2))))","v":0},null,{"$f":"N10","v":11122},{"$f":"COUNTIF(L133:L164,AN10)","v":0},{"$f":"AO10/(AQ4-AO25)","v":0},{"$f":"IF(AP10=0,0,(AP10*((LOG(AP10))/LOG(2))))","v":0},null,{"$f":"N10","v":11122},{"$f":"COUNTIF(L165:L195,AS10)","v":0},{"$f":"AT10/(AV4-AT25)","v":0},{"$f":"IF(AU10=0,0,(AU10*((LOG(AU10))/LOG(2))))","v":0}]
[12,532,13,536,13,540,14,545,13,550,0,11111,null,11211,{"$f":"COUNTIF($L$7:$L$500,N11)","v":0},{"$f":"O11/$Q$4","v":0},{"$f":"IF(P11=0,0,(P11*((LOG(P11))/LOG(2))))","v":0},null,null,{"$f":"N11","v":11211},{"$f":"COUNTIF(L7:L38,T11)","v":0},{"$f":"U11/(W4-U25)","v":0},{"$f":"IF(V11=0,0,(V11*((LOG(V11))/LOG(2))))","v":0},null,{"$f":"N11","v":11211},{"$f":"COUNTIF(L39:L69,Y11)","v":0},{"$f":"Z11/(AB4-Z25)","v":0},{"$f":"IF(AA11=0,0,(AA11*((LOG(AA11))/LOG(2))))","v":0},null,{"$f":"N11","v":11211},{"$f":"COUNTIF(L70:L101,AD11)","v":0},{"$f":"AE11/(AG4-AE25)","v":0},{"$f":"IF(AF11=0,0,(AF11*((LOG(AF11))/LOG(2))))","v":0},null,{"$f":"N11","v":11211},{"$f":"COUNTIF(L102:L132,AI11)","v":0},{"$f":"AJ11/(AL4-AJ25)","v":0},{"$f":"IF(AK11=0,0,(AK11*((LOG(AK11))/LOG(2))))","v":0},null,{"$f":"N11","v":11211},{"$f":"COUNTIF(L133:L164,AN11)","v":0},{"$f":"AO11/(AQ4-AO25)","v":0},{"$f":"IF(AP11=0,0,(AP11*((LOG(AP11))/LOG(2))))","v":0},null,{"$f":"N11","v":11211},{"$f":"COUNTIF(L165:L195,AS11)","v":0},{"$f":"AT11/(AV4-AT25)","v":0},{"$f":"IF(AU11=0,0,(AU11*((LOG(AU11))/LOG(2))))","v":0}]
[12,663,13,668,13,672,14,677,13,687,0,11111,null,11212,{"$f":"COUNTIF($L$7:$L$500,N12)","v":0},{"$f":"O12/$Q$4","v":0},{"$f":"IF(P12=0,0,(P12*((LOG(P12))/LOG(2))))","v":0},null,null,{"$f":"N12","v":11212},{"$f":"COUNTIF(L7:L38,T12)","v":0},{"$f":"U12/(W4-U25)","v":0},{"$f":"IF(V12=0,0,(V12*((LOG(V12))/LOG(2))))","v":0},null,{"$f":"N12","v":11212},{"$f":"COUNTIF(L39:L69,Y12)","v":0},{"$f":"Z12/(AB4-Z25)","v":0},{"$f":"IF(AA12=0,0,(AA12*((LOG(AA12))/LOG(2))))","v":0},null,{"$f":"N12","v":11212},{"$f":"COUNTIF(L70:L101,AD12)","v":0},{"$f":"AE12/(AG4-AE25)","v":0},{"$f":"IF(AF12=0,0,(AF12*((LOG(AF12))/LOG(2))))","v":0},null,{"$f":"N12","v":11212},{"$f":"COUNTIF(L102:L132,AI12)","v":0},{"$f":"AJ12/(AL4-AJ25)","v":0},{"$f":"IF(AK12=0,0,(AK12*((LOG(AK12))/LOG(2))))","v":0},null,{"$f":"N12","v":11212},{"$f":"COUNTIF(L133:L164,AN12)","v":0},{"$f":"AO12/(AQ4-AO25)","v":0},{"$f":"IF(AP12=0,0,(AP12*((LOG(AP12))/LOG(2))))","v":0},null,{"$f":"N12","v":11212},{"$f":"COUNTIF(L165:L195,AS12)","v":0},{"$f":"AT12/(AV4-AT25)","v":0},{"$f":"IF(AU12=0,0,(AU12*((LOG(AU12))/LOG(2))))","v":0}]
[12,800,13,804,13,808,14,812,13,817,0,11111,null,11221,{"$f":"COUNTIF($L$7:$L$500,N13)","v":0},{"$f":"O13/$Q$4","v":0},{"$f":"IF(P13=0,0,(P13*((LOG(P13))/LOG(2))))","v":0},null,null,{"$f":"N13","v":11221},{"$f":"COUNTIF(L7:L38,T13)","v":0},{"$f":"U13/(W4-U25)","v":0},{"$f":"IF(V13=0,0,(V13*((LOG(V13))/LOG(2))))","v":0},null,{"$f":"N13","v":11221},{"$f":"COUNTIF(L39:L69,Y13)","v":0},{"$f":"Z13/(AB4-Z25)","v":0},{"$f":"IF(AA13=0,0,(AA13*((LOG(AA13))/LOG(2))))","v":0},null,{"$f":"N13","v":11221},{"$f":"COUNTIF(L70:L101,AD13)","v":0},{"$f":"AE13/(AG4-AE25)","v":0},{"$f":"IF(AF13=0,0,(AF13*((LOG(AF13))/LOG(2))))","v":0},null,{"$f":"N13","v":11221},{"$f":"COUNTIF(L102:L132,AI13)","v":0},{"$f":"AJ13/(AL4-AJ25)","v":0},{"$f":"IF(AK13=0,0,(AK13*((LOG(AK13))/LOG(2))))","v":0},null,{"$f":"N13","v":11221},{"$f":"COUNTIF(L133:L164,AN13)","v":0},{"$f":"AO13/(AQ4-AO25)","v":0},{"$f":"IF(AP13=0,0,(AP13*((LOG(AP13))/LOG(2))))","v":0},null,{"$f":"N13","v":11221},{"$f":"COUNTIF(L165:L195,AS13)","v":0},{"$f":"AT13/(AV4-AT25)","v":0},{"$f":"IF(AU13=0,0,(AU13*((LOG(AU13))/LOG(2))))","v":0}]
[12,918,13,922,13,927,14,931,13,936,0,11111,null,11222,{"$f":"COUNTIF($L$7:$L$500,N14)","v":0},{"$f":"O14/$Q$4","v":0},{"$f":"IF(P14=0,0,(P14*((LOG(P14))/LOG(2))))","v":0},null,null,{"$f":"N14","v":11222},{"$f":"COUNTIF(L7:L38,T14)","v":0},{"$f":"U14/(W4-U25)","v":0},{"$f":"IF(V14=0,0,(V14*((LOG(V14))/LOG(2))))","v":0},null,{"$f":"N14","v":11222},{"$f":"COUNTIF(L39:L69,Y14)","v":0},{"$f":"Z14/(AB4-Z25)","v":0},{"$f":"IF(AA14=0,0,(AA14*((LOG(AA14))/LOG(2))))","v":0},null,{"$f":"N14","v":11222},{"$f":"COUNTIF(L70:L101,AD14)","v":0},{"$f":"AE14/(AG4-AE25)","v":0},{"$f":"IF(AF14=0,0,(AF14*((LOG(AF14))/LOG(2))))","v":0},null,{"$f":"N14","v":11222},{"$f":"COUNTIF(L102:L132,AI14)","v":0},{"$f":"AJ14/(AL4-AJ25)","v":0},{"$f":"IF(AK14=0,0,(AK14*((LOG(AK14))/LOG(2))))","v":0},null,{"$f":"N14","v":11222},{"$f":"COUNTIF(L133:L164,AN14)","v":0},{"$f":"AO14/(AQ4-AO25)","v":0},{"$f":"IF(AP14=0,0,(AP14*((LOG(AP14))/LOG(2))))","v":0},null,{"$f":"N14","v":11222},{"$f":"COUNTIF(L165:L195,AS14)","v":0},{"$f":"AT14/(AV4-AT25)","v":0},{"$f":"IF(AU14=0,0,(AU14*((LOG(AU14))/LOG(2))))","v":0}]
[12,1037,13,1041,13,1045,14,1050,13,1054,1,11111,null,12111,{"$f":"COUNTIF($L$7:$L$500,N15)","v":0},{"$f":"O15/$Q$4","v":0},{"$f":"IF(P15=0,0,(P15*((LOG(P15))/LOG(2))))","v":0},null,null,{"$f":"N15","v":12111},{"$f":"COUNTIF(L7:L38,T15)","v":0},{"$f":"U15/(W4-U25)","v":0},{"$f":"IF(V15=0,0,(V15*((LOG(V15))/LOG(2))))","v":0},null,{"$f":"N15","v":12111},{"$f":"COUNTIF(L39:L69,Y15)","v":0},{"$f":"Z15/(AB4-Z25)","v":0},{"$f":"IF(AA15=0,0,(AA15*((LOG(AA15))/LOG(2))))","v":0},null,{"$f":"N15","v":12111},{"$f":"COUNTIF(L70:L101,AD15)","v":0},{"$f":"AE15/(AG4-AE25)","v":0},{"$f":"IF(AF15=0,0,(AF15*((LOG(AF15))/LOG(2))))","v":0},null,{"$f":"N15","v":12111},{"$f":"COUNTIF(L102:L132,AI15)","v":0},{"$f":"AJ15/(AL4-AJ25)","v":0},{"$f":"IF(AK15=0,0,(AK15*((LOG(AK15))/LOG(2))))","v":0},null,{"$f":"N15","v":12111},{"$f":"COUNTIF(L133:L164,AN15)","v":0},{"$f":"AO15/(AQ4-AO25)","v":0},{"$f":"IF(AP15=0,0,(AP15*((LOG(AP15))/LOG(2))))","v":0},null,{"$f":"N15","v":12111},{"$f":"COUNTIF(L165:L195,AS15)","v":0},{"$f":"AT15/(AV4-AT25)","v":0},{"$f":"IF(AU15=0,0,(AU15*((LOG(AU15))/LOG(2))))","v":0}]
[12,1155,13,1159,13,1164,14,1168,13,1174,0,11111,null,12112,{"$f":"COUNTIF($L$7:$L$500,N16)","v":0},{"$f":"O16/$Q$4","v":0},{"$f":"IF(P16=0,0,(P16*((LOG(P16))/LOG(2))))","v":0},null,null,{"$f":"N16","v":12112},{"$f":"COUNTIF(L7:L38,T16)","v":0},{"$f":"U16/(W4-U25)","v":0},{"$f":"IF(V16=0,0,(V16*((LOG(V16))/LOG(2))))","v":0},null,{"$f":"N16","v":12112},{"$f":"COUNTIF(L39:L69,Y16)","v":0},{"$f":"Z16/(AB4-Z25)","v":0},{"$f":"IF(AA16=0,0,(AA16*((LOG(AA16))/LOG(2))))","v":0},null,{"$f":"N16","v":12112},{"$f":"COUNTIF(L70:L101,AD16)","v":0},{"$f":"AE16/(AG4-AE25)","v":0},{"$f":"IF(AF16=0,0,(AF16*((LOG(AF16))/LOG(2))))","v":0},null,{"$f":"N16","v":12112},{"$f":"COUNTIF(L102:L132,AI16)","v":0},{"$f":"AJ16/(AL4-AJ25)","v":0},{"$f":"IF(AK16=0,0,(AK16*((LOG(AK16))/LOG(2))))","v":0},null,{"$f":"N16","v":12112},{"$f":"COUNTIF(L133:L164,AN16)","v":0},{"$f":"AO16/(AQ4-AO25)","v":0},{"$f":"IF(AP16=0,0,(AP16*((LOG(AP16))/LOG(2))))","v":0},null,{"$f":"N16","v":12112},{"$f":"COUNTIF(L165:L195,AS16)","v":0},{"$f":"AT16/(AV4-AT25)","v":0},{"$f":"IF(AU16=0,0,(AU16*((LOG(AU16))/LOG(2))))","v":0}]
[12,1279,13,1283,13,1288,14,1292,13,1297,0,11111,null,12121,{"$f":"COUNTIF($L$7:$L$500,N17)","v":0},{"$f":"O17/$Q$4","v":0},{"$f":"IF(P17=0,0,(P17*((LOG(P17))/LOG(2))))","v":0},null,null,{"$f":"N17","v":12121},{"$f":"COUNTIF(L7:L38,T17)","v":0},{"$f":"U17/(W4-U25)","v":0},{"$f":"IF(V17=0,0,(V17*((LOG(V17))/LOG(2))))","v":0},null,{"$f":"N17","v":12121},{"$f":"COUNTIF(L39:L69,Y17)","v":0},{"$f":"Z17/(AB4-Z25)","v":0},{"$f":"IF(AA17=0,0,(AA17*((LOG(AA17))/LOG(2))))","v":0},null,{"$f":"N17","v":12121},{"$f":"COUNTIF(L70:L101,AD17)","v":0},{"$f":"AE17/(AG4-AE25)","v":0},{"$f":"IF(AF17=0,0,(AF17*((LOG(AF17))/LOG(2))))","v":0},null,{"$f":"N17","v":12121},{"$f":"COUNTIF(L102:L132,AI17)","v":0},{"$f":"AJ17/(AL4-AJ25)","v":0},{"$f":"IF(AK17=0,0,(AK17*((LOG(AK17))/LOG(2))))","v":0},null,{"$f":"N17","v":12121},{"$f":"COUNTIF(L133:L164,AN17)","v":0},{"$f":"AO17/(AQ4-AO25)","v":0},{"$f":"IF(AP17=0,0,(AP17*((LOG(AP17))/LOG(2))))","v":0},null,{"$f":"N17","v":12121},{"$f":"COUNTIF(L165:L195,AS17)","v":0},{"$f":"AT17/(AV4-AT25)","v":0},{"$f":"IF(AU17=0,0,(AU17*((LOG(AU17))/LOG(2))))","v":0}]
[12,1398,13,1403,13,1408,14,1412,13,1417,0,11111,null,12122,{"$f":"COUNTIF($L$7:$L$500,N18)","v":0},{"$f":"O18/$Q$4","v":0},{"$f":"IF(P18=0,0,(P18*((LOG(P18))/LOG(2))))","v":0},null,null,{"$f":"N18","v":12122},{"$f":"COUNTIF(L7:L38,T18)","v":0},{"$f":"U18/(W4-U25)","v":0},{"$f":"IF(V18=0,0,(V18*((LOG(V18))/LOG(2))))","v":0},null,{"$f":"N18","v":12122},{"$f":"COUNTIF(L39:L69,Y18)","v":0},{"$f":"Z18/(AB4-Z25)","v":0},{"$f":"IF(AA18=0,0,(AA18*((LOG(AA18))/LOG(2))))","v":0},null,{"$f":"N18","v":12122},{"$f":"COUNTIF(L70:L101,AD18)","v":0},{"$f":"AE18/(AG4-AE25)","v":0},{"$f":"IF(AF18=0,0,(AF18*((LOG(AF18))/LOG(2))))","v":0},null,{"$f":"N18","v":12122},{"$f":"COUNTIF(L102:L132,AI18)","v":0},{"$f":"AJ18/(AL4-AJ25)","v":0},{"$f":"IF(AK18=0,0,(AK18*((LOG(AK18))/LOG(2))))","v":0},null,{"$f":"N18","v":12122},{"$f":"COUNTIF(L133:L164,AN18)","v":0},{"$f":"AO18/(AQ4-AO25)","v":0},{"$f":"IF(AP18=0,0,(AP18*((LOG(AP18))/LOG(2))))","v":0},null,{"$f":"N18","v":12122},{"$f":"COUNTIF(L165:L195,AS18)","v":0},{"$f":"AT18/(AV4-AT25)","v":0},{"$f":"IF(AU18=0,0,(AU18*((LOG(AU18))/LOG(2))))","v":0}]
[12,1517,13,1521,13,1529,14,1534,13,1544,0,11111,null,12211,{"$f":"COUNTIF($L$7:$L$500,N19)","v":0},{"$f":"O19/$Q$4","v":0},{"$f":"IF(P19=0,0,(P19*((LOG(P19))/LOG(2))))","v":0},null,null,{"$f":"N19","v":12211},{"$f":"COUNTIF(L7:L38,T19)","v":0},{"$f":"U19/(W4-U25)","v":0},{"$f":"IF(V19=0,0,(V19*((LOG(V19))/LOG(2))))","v":0},null,{"$f":"N19","v":12211},{"$f":"COUNTIF(L39:L69,Y19)","v":0},{"$f":"Z19/(AB4-Z25)","v":0},{"$f":"IF(AA19=0,0,(AA19*((LOG(AA19))/LOG(2))))","v":0},null,{"$f":"N19","v":12211},{"$f":"COUNTIF(L70:L101,AD19)","v":0},{"$f":"AE19/(AG4-AE25)","v":0},{"$f":"IF(AF19=0,0,(AF19*((LOG(AF19))/LOG(2))))","v":0},null,{"$f":"N19","v":12211},{"$f":"COUNTIF(L102:L132,AI19)","v":0},{"$f":"AJ19/(AL4-AJ25)","v":0},{"$f":"IF(AK19=0,0,(AK19*((LOG(AK19))/LOG(2))))","v":0},null,{"$f":"N19","v":12211},{"$f":"COUNTIF(L133:L164,AN19)","v":0},{"$f":"AO19/(AQ4-AO25)","v":0},{"$f":"IF(AP19=0,0,(AP19*((LOG(AP19))/LOG(2))))","v":0},null,{"$f":"N19","v":12211},{"$f":"COUNTIF(L165:L195,AS19)","v":0},{"$f":"AT19/(AV4-AT25)","v":0},{"$f":"IF(AU19=0,0,(AU19*((LOG(AU19))/LOG(2))))","v":0}]
[12,1647,13,1652,13,1656,14,1660,13,1664,0,11111,null,12212,{"$f":"COUNTIF($L$7:$L$500,N20)","v":0},{"$f":"O20/$Q$4","v":0},{"$f":"IF(P20=0,0,(P20*((LOG(P20))/LOG(2))))","v":0},null,null,{"$f":"N20","v":12212},{"$f":"COUNTIF(L7:L38,T20)","v":0},{"$f":"U20/(W4-U25)","v":0},{"$f":"IF(V20=0,0,(V20*((LOG(V20))/LOG(2))))","v":0},null,{"$f":"N20","v":12212},{"$f":"COUNTIF(L39:L69,Y20)","v":0},{"$f":"Z20/(AB4-Z25)","v":0},{"$f":"IF(AA20=0,0,(AA20*((LOG(AA20))/LOG(2))))","v":0},null,{"$f":"N20","v":12212},{"$f":"COUNTIF(L70:L101,AD20)","v":0},{"$f":"AE20/(AG4-AE25)","v":0},{"$f":"IF(AF20=0,0,(AF20*((LOG(AF20))/LOG(2))))","v":0},null,{"$f":"N20","v":12212},{"$f":"COUNTIF(L102:L132,AI20)","v":0},{"$f":"AJ20/(AL4-AJ25)","v":0},{"$f":"IF(AK20=0,0,(AK20*((LOG(AK20))/LOG(2))))","v":0},null,{"$f":"N20","v":12212},{"$f":"COUNTIF(L133:L164,AN20)","v":0},{"$f":"AO20/(AQ4-AO25)","v":0},{"$f":"IF(AP20=0,0,(AP20*((LOG(AP20))/LOG(2))))","v":0},null,{"$f":"N20","v":12212},{"$f":"COUNTIF(L165:L195,AS20)","v":0},{"$f":"AT20/(AV4-AT25)","v":0},{"$f":"IF(AU20=0,0,(AU20*((LOG(AU20))/LOG(2))))","v":0}]
[12,1764,13,1768,13,1772,14,1779,13,1783,0,11111,null,12221,{"$f":"COUNTIF($L$7:$L$500,N21)","v":0},{"$f":"O21/$Q$4","v":0},{"$f":"IF(P21=0,0,(P21*((LOG(P21))/LOG(2))))","v":0},null,null,{"$f":"N21","v":12221},{"$f":"COUNTIF(L7:L38,T21)","v":0},{"$f":"U21/(W4-U25)","v":0},{"$f":"IF(V21=0,0,(V21*((LOG(V21))/LOG(2))))","v":0},null,{"$f":"N21","v":12221},{"$f":"COUNTIF(L39:L69,Y21)","v":0},{"$f":"Z21/(AB4-Z25)","v":0},{"$f":"IF(AA21=0,0,(AA21*((LOG(AA21))/LOG(2))))","v":0},null,{"$f":"N21","v":12221},{"$f":"COUNTIF(L70:L101,AD21)","v":0},{"$f":"AE21/(AG4-AE25)","v":0},{"$f":"IF(AF21=0,0,(AF21*((LOG(AF21))/LOG(2))))","v":0},null,{"$f":"N21","v":12221},{"$f":"COUNTIF(L102:L132,AI21)","v":0},{"$f":"AJ21/(AL4-AJ25)","v":0},{"$f":"IF(AK21=0,0,(AK21*((LOG(AK21))/LOG(2))))","v":0},null,{"$f":"N21","v":12221},{"$f":"COUNTIF(L133:L164,AN21)","v":0},{"$f":"AO21/(AQ4-AO25)","v":0},{"$f":"IF(AP21=0,0,(AP21*((LOG(AP21))/LOG(2))))","v":0},null,{"$f":"N21","v":12221},{"$f":"COUNTIF(L165:L195,AS21)","v":0},{"$f":"AT21/(AV4-AT25)","v":0},{"$f":"IF(AU21=0,0,(AU21*((LOG(AU21))/LOG(2))))","v":0}]
[12,1883,13,1888,13,1895,14,1900,13,1905,0,11111,null,12222,{"$f":"COUNTIF($L$7:$L$500,N22)","v":0},{"$f":"O22/$Q$4","v":0},{"$f":"IF(P22=0,0,(P22*((LOG(P22))/LOG(2))))","v":0},null,null,{"$f":"N22","v":12222},{"$f":"COUNTIF(L7:L38,T22)","v":0},{"$f":"U22/(W4-U25)","v":0},{"$f":"IF(V22=0,0,(V22*((LOG(V22))/LOG(2))))","v":0},null,{"$f":"N22","v":12222},{"$f":"COUNTIF(L39:L69,Y22)","v":0},{"$f":"Z22/(AB4-Z25)","v":0},{"$f":"IF(AA22=0,0,(AA22*((LOG(AA22))/LOG(2))))","v":0},null,{"$f":"N22","v":12222},{"$f":"COUNTIF(L70:L101,AD22)","v":0},{"$f":"AE22/(AG4-AE25)","v":0},{"$f":"IF(AF22=0,0,(AF22*((LOG(AF22))/LOG(2))))","v":0},null,{"$f":"N22","v":12222},{"$f":"COUNTIF(L102:L132,AI22)","v":0},{"$f":"AJ22/(AL4-AJ25)","v":0},{"$f":"IF(AK22=0,0,(AK22*((LOG(AK22))/LOG(2))))","v":0},null,{"$f":"N22","v":12222},{"$f":"COUNTIF(L133:L164,AN22)","v":0},{"$f":"AO22/(AQ4-AO25)","v":0},{"$f":"IF(AP22=0,0,(AP22*((LOG(AP22))/LOG(2))))","v":0},null,{"$f":"N22","v":12222},{"$f":"COUNTIF(L165:L195,AS22)","v":0},{"$f":"AT22/(AV4-AT25)","v":0},{"$f":"IF(AU22=0,0,(AU22*((LOG(AU22))/LOG(2))))","v":0}]
[12,2008,13,2012,13,2016,14,2020,13,2024,0,11111,null,21111,{"$f":"COUNTIF($L$7:$L$500,N23)","v":0},{"$f":"O23/$Q$4","v":0},{"$f":"IF(P23=0,0,(P23*((LOG(P23))/LOG(2))))","v":0},null,null,{"$f":"N23","v":21111},{"$f":"COUNTIF(L7:L38,T23)","v":0},{"$f":"U23/(W4-U25)","v":0},{"$f":"IF(V23=0,0,(V23*((LOG(V23))/LOG(2))))","v":0},null,{"$f":"N23","v":21111},{"$f":"COUNTIF(L39:L69,Y23)","v":0},{"$f":"Z23/(AB4-Z25)","v":0},{"$f":"IF(AA23=0,0,(AA23*((LOG(AA23))/LOG(2))))","v":0},null,{"$f":"N23","v":21111},{"$f":"COUNTIF(L70:L101,AD23)","v":0},{"$f":"AE23/(AG4-AE25)","v":0},{"$f":"IF(AF23=0,0,(AF23*((LOG(AF23))/LOG(2))))","v":0},null,{"$f":"N23","v":21111},{"$f":"COUNTIF(L102:L132,AI23)","v":0},{"$f":"AJ23/(AL4-AJ25)","v":0},{"$f":"IF(AK23=0,0,(AK23*((LOG(AK23))/LOG(2))))","v":0},null,{"$f":"N23","v":21111},{"$f":"COUNTIF(L133:L164,AN23)","v":0},{"$f":"AO23/(AQ4-AO25)","v":0},{"$f":"IF(AP23=0,0,(AP23*((LOG(AP23))/LOG(2))))","v":0},null,{"$f":"N23","v":21111},{"$f":"COUNTIF(L165:L195,AS23)","v":0},{"$f":"AT23/(AV4-AT25)","v":0},{"$f":"IF(AU23=0,0,(AU23*((LOG(AU23))/LOG(2))))","v":0}]
[12,2124,13,2130,13,2134,14,2138,13,2142,1,11111,null,21112,{"$f":"COUNTIF($L$7:$L$500,N24)","v":0},{"$f":"O24/$Q$4","v":0},{"$f":"IF(P24=0,0,(P24*((LOG(P24))/LOG(2))))","v":0},null,null,{"$f":"N24","v":21112},{"$f":"COUNTIF(L7:L38,T24)","v":0},{"$f":"U24/(W4-U25)","v":0},{"$f":"IF(V24=0,0,(V24*((LOG(V24))/LOG(2))))","v":0},null,{"$f":"N24","v":21112},{"$f":"COUNTIF(L39:L69,Y24)","v":0},{"$f":"Z24/(AB4-Z25)","v":0},{"$f":"IF(AA24=0,0,(AA24*((LOG(AA24))/LOG(2))))","v":0},null,{"$f":"N24","v":21112},{"$f":"COUNTIF(L70:L101,AD24)","v":0},{"$f":"AE24/(AG4-AE25)","v":0},{"$f":"IF(AF24=0,0,(AF24*((LOG(AF24))/LOG(2))))","v":0},null,{"$f":"N24","v":21112},{"$f":"COUNTIF(L102:L132,AI24)","v":0},{"$f":"AJ24/(AL4-AJ25)","v":0},{"$f":"IF(AK24=0,0,(AK24*((LOG(AK24))/LOG(2))))","v":0},null,{"$f":"N24","v":21112},{"$f":"COUNTIF(L133:L164,AN24)","v":0},{"$f":"AO24/(AQ4-AO25)","v":0},{"$f":"IF(AP24=0,0,(AP24*((LOG(AP24))/LOG(2))))","v":0},null,{"$f":"N24","v":21112},{"$f":"COUNTIF(L165:L195,AS24)","v":0},{"$f":"AT24/(AV4-AT25)","v":0},{"$f":"IF(AU24=0,0,(AU24*((LOG(AU24))/LOG(2))))","v":0}]
[12,2250,13,2255,13,2259,14,2264,13,2268,0,11111,null,21121,{"$f":"COUNTIF($L$7:$L$500,N25)","v":0},{"$f":"O25/$Q$4","v":0},{"$f":"IF(P25=0,0,(P25*((LOG(P25))/LOG(2))))","v":0},null,null,{"$f":"N25","v":21121},{"$f":"COUNTIF(L7:L38,T25)","v":0},null,null,null,{"$f":"N25","v":21121},{"$f":"COUNTIF(L39:L69,Y25)","v":0},null,null,null,{"$f":"N25","v":21121},{"$f":"COUNTIF(L70:L101,AD25)","v":0},null,null,null,{"$f":"N25","v":21121},{"$f":"COUNTIF(L102:L132,AI25)","v":0},null,null,null,{"$f":"N25","v":21121},{"$f":"COUNTIF(L133:L164,AN25)","v":0},null,null,null,{"$f":"N25","v":21121},{"$f":"COUNTIF(L165:L195,AS25)","v":0}]
[12,2368,13,2372,13,2376,14,2380,13,2385,0,11111,null,21122,{"$f":"COUNTIF($L$7:$L$500,N26)","v":0},{"$f":"O26/$Q$4","v":0},{"$f":"IF(P26=0,0,(P26*((LOG(P26))/LOG(2))))","v":0},null,null,{"$f":"N26","v":21122},{"$f":"COUNTIF(L7:L38,T26)","v":0},{"$f":"U26/(W4-U25)","v":0},{"$f":"IF(V26=0,0,(V26*((LOG(V26))/LOG(2))))","v":0},null,{"$f":"N26","v":21122},{"$f":"COUNTIF(L39:L69,Y26)","v":0},{"$f":"Z26/(AB4-Z25)","v":0},{"$f":"IF(AA26=0,0,(AA26*((LOG(AA26))/LOG(2))))","v":0},null,{"$f":"N26","v":21122},{"$f":"COUNTIF(L70:L101,AD26)","v":0},{"$f":"AE26/(AG4-AE25)","v":0},{"$f":"IF(AF26=0,0,(AF26*((LOG(AF26))/LOG(2))))","v":0},null,{"$f":"N26","v":21122},{"$f":"COUNTIF(L102:L132,AI26)","v":0},{"$f":"AJ26/(AL4-AJ25)","v":0},{"$f":"IF(AK26=0,0,(AK26*((LOG(AK26))/LOG(2))))","v":0},null,{"$f":"N26","v":21122},{"$f":"COUNTIF(L133:L164,AN26)","v":0},{"$f":"AO26/(AQ4-AO25)","v":0},{"$f":"IF(AP26=0,0,(AP26*((LOG(AP26))/LOG(2))))","v":0},null,{"$f":"N26","v":21122},{"$f":"COUNTIF(L165:L195,AS26)","v":0},{"$f":"AT26/(AV4-AT25)","v":0},{"$f":"IF(AU26=0,0,(AU26*((LOG(AU26))/LOG(2))))","v":0}]
[12,2485,13,2490,13,2494,14,2499,13,2503,0,11111,null,21211,{"$f":"COUNTIF($L$7:$L$500,N27)","v":0},{"$f":"O27/$Q$4","v":0},{"$f":"IF(P27=0,0,(P27*((LOG(P27))/LOG(2))))","v":0},null,null,{"$f":"N27","v":21211},{"$f":"COUNTIF(L7:L38,T27)","v":0},{"$f":"U27/(W4-U25)","v":0},{"$f":"IF(V27=0,0,(V27*((LOG(V27))/LOG(2))))","v":0},null,{"$f":"N27","v":21211},{"$f":"COUNTIF(L39:L69,Y27)","v":0},{"$f":"Z27/(AB4-Z25)","v":0},{"$f":"IF(AA27=0,0,(AA27*((LOG(AA27))/LOG(2))))","v":0},null,{"$f":"N27","v":21211},{"$f":"COUNTIF(L70:L101,AD27)","v":0},{"$f":"AE27/(AG4-AE25)","v":0},{"$f":"IF(AF27=0,0,(AF27*((LOG(AF27))/LOG(2))))","v":0},null,{"$f":"N27","v":21211},{"$f":"COUNTIF(L102:L132,AI27)","v":0},{"$f":"AJ27/(AL4-AJ25)","v":0},{"$f":"IF(AK27=0,0,(AK27*((LOG(AK27))/LOG(2))))","v":0},null,{"$f":"N27","v":21211},{"$f":"COUNTIF(L133:L164,AN27)","v":0},{"$f":"AO27/(AQ4-AO25)","v":0},{"$f":"IF(AP27=0,0,(AP27*((LOG(AP27))/LOG(2))))","v":0},null,{"$f":"N27","v":21211},{"$f":"COUNTIF(L165:L195,AS27)","v":0},{"$f":"AT27/(AV4-AT25)","v":0},{"$f":"IF(AU27=0,0,(AU27*((LOG(AU27))/LOG(2))))","v":0}]
[12,2615,13,2620,13,2624,14,2629,13,2638,0,11111,null,21212,{"$f":"COUNTIF($L$7:$L$500,N28)","v":0},{"$f":"O28/$Q$4","v":0},{"$f":"IF(P28=0,0,(P28*((LOG(P28))/LOG(2))))","v":0},null,null,{"$f":"N28","v":21212},{"$f":"COUNTIF(L7:L38,T28)","v":0},{"$f":"U28/(W4-U25)","v":0},{"$f":"IF(V28=0,0,(V28*((LOG(V28))/LOG(2))))","v":0},null,{"$f":"N28","v":21212},{"$f":"COUNTIF(L39:L69,Y28)","v":0},{"$f":"Z28/(AB4-Z25)","v":0},{"$f":"IF(AA28=0,0,(AA28*((LOG(AA28))/LOG(2))))","v":0},null,{"$f":"N28","v":21212},{"$f":"COUNTIF(L70:L101,AD28)","v":0},{"$f":"AE28/(AG4-AE25)","v":0},{"$f":"IF(AF28=0,0,(AF28*((LOG(AF28))/LOG(2))))","v":0},null,{"$f":"N28","v":21212},{"$f":"COUNTIF(L102:L132,AI28)","v":0},{"$f":"AJ28/(AL4-AJ25)","v":0},{"$f":"IF(AK28=0,0,(AK28*((LOG(AK28))/LOG(2))))","v":0},null,{"$f":"N28","v":21212},{"$f":"COUNTIF(L133:L164,AN28)","v":0},{"$f":"AO28/(AQ4-AO25)","v":0},{"$f":"IF(AP28=0,0,(AP28*((LOG(AP28))/LOG(2))))","v":0},null,{"$f":"N28","v":21212},{"$f":"COUNTIF(L165:L195,AS28)","v":0},{"$f":"AT28/(AV4-AT25)","v":0},{"$f":"IF(AU28=0,0,(AU28*((LOG(AU28))/LOG(2))))","v":0}]
[12,2744,13,2749,13,2753,14,2757,13,2763,0,11111,null,21221,{"$f":"COUNTIF($L$7:$L$500,N29)","v":0},{"$f":"O29/$Q$4","v":0},{"$f":"IF(P29=0,0,(P29*((LOG(P29))/LOG(2))))","v":0},null,null,{"$f":"N29","v":21221},{"$f":"COUNTIF(L7:L38,T29)","v":0},{"$f":"U29/(W4-U25)","v":0},{"$f":"IF(V29=0,0,(V29*((LOG(V29))/LOG(2))))","v":0},null,{"$f":"N29","v":21221},{"$f":"COUNTIF(L39:L69,Y29)","v":0},{"$f":"Z29/(AB4-Z25)","v":0},{"$f":"IF(AA29=0,0,(AA29*((LOG(AA29))/LOG(2))))","v":0},null,{"$f":"N29","v":21221},{"$f":"COUNTIF(L70:L101,AD29)","v":0},{"$f":"AE29/(AG4-AE25)","v":0},{"$f":"IF(AF29=0,0,(AF29*((LOG(AF29))/LOG(2))))","v":0},null,{"$f":"N29","v":21221},{"$f":"COUNTIF(L102:L132,AI29)","v":0},{"$f":"AJ29/(AL4-AJ25)","v":0},{"$f":"IF(AK29=0,0,(AK29*((LOG(AK29))/LOG(2))))","v":0},null,{"$f":"N29","v":21221},{"$f":"COUNTIF(L133:L164,AN29)","v":0},{"$f":"AO29/(AQ4-AO25)","v":0},{"$f":"IF(AP29=0,0,(AP29*((LOG(AP29))/LOG(2))))","v":0},null,{"$f":"N29","v":21221},{"$f":"COUNTIF(L165:L195,AS29)","v":0},{"$f":"AT29/(AV4-AT25)","v":0},{"$f":"IF(AU29=0,0,(AU29*((LOG(AU29))/LOG(2))))","v":0}]
[12,2872,13,2876,13,2880,14,2884,13,2889,0,11111,null,21222,{"$f":"COUNTIF($L$7:$L$500,N30)","v":0},{"$f":"O30/$Q$4","v":0},{"$f":"IF(P30=0,0,(P30*((LOG(P30))/LOG(2))))","v":0},null,null,{"$f":"N30","v":21222},{"$f":"COUNTIF(L7:L38,T30)","v":0},{"$f":"U30/(W4-U25)","v":0},{"$f":"IF(V30=0,0,(V30*((LOG(V30))/LOG(2))))","v":0},null,{"$f":"N30","v":21222},{"$f":"COUNTIF(L39:L69,Y30)","v":0},{"$f":"Z30/(AB4-Z25)","v":0},{"$f":"IF(AA30=0,0,(AA30*((LOG(AA30))/LOG(2))))","v":0},null,{"$f":"N30","v":21222},{"$f":"COUNTIF(L70:L101,AD30)","v":0},{"$f":"AE30/(AG4-AE25)","v":0},{"$f":"IF(AF30=0,0,(AF30*((LOG(AF30))/LOG(2))))","v":0},null,{"$f":"N30","v":21222},{"$f":"COUNTIF(L102:L132,AI30)","v":0},{"$f":"AJ30/(AL4-AJ25)","v":0},{"$f":"IF(AK30=0,0,(AK30*((LOG(AK30))/LOG(2))))","v":0},null,{"$f":"N30","v":21222},{"$f":"COUNTIF(L133:L164,AN30)","v":0},{"$f":"AO30/(AQ4-AO25)","v":0},{"$f":"IF(AP30=0,0,(AP30*((LOG(AP30))/LOG(2))))","v":0},null,{"$f":"N30","v":21222},{"$f":"COUNTIF(L165:L195,AS30)","v":0},{"$f":"AT30/(AV4-AT25)","v":0},{"$f":"IF(AU30=0,0,(AU30*((LOG(AU30))/LOG(2))))","v":0}]
[12,2989,13,2993,13,2997,14,3001,13,3005,0,11111,null,22111,{"$f":"COUNTIF($L$7:$L$500,N31)","v":0},{"$f":"O31/$Q$4","v":0},{"$f":"IF(P31=0,0,(P31*((LOG(P31))/LOG(2))))","v":0},null,null,{"$f":"N31","v":22111},{"$f":"COUNTIF(L7:L38,T31)","v":0},{"$f":"U31/(W4-U25)","v":0},{"$f":"IF(V31=0,0,(V31*((LOG(V31))/LOG(2))))","v":0},null,{"$f":"N31","v":22111},{"$f":"COUNTIF(L39:L69,Y31)","v":0},{"$f":"Z31/(AB4-Z25)","v":0},{"$f":"IF(AA31=0,0,(AA31*((LOG(AA31))/LOG(2))))","v":0},null,{"$f":"N31","v":22111},{"$f":"COUNTIF(L70:L101,AD31)","v":0},{"$f":"AE31/(AG4-AE25)","v":0},{"$f":"IF(AF31=0,0,(AF31*((LOG(AF31))/LOG(2))))","v":0},null,{"$f":"N31","v":22111},{"$f":"COUNTIF(L102:L132,AI31)","v":0},{"$f":"AJ31/(AL4-AJ25)","v":0},{"$f":"IF(AK31=0,0,(AK31*((LOG(AK31))/LOG(2))))","v":0},null,{"$f":"N31","v":22111},{"$f":"COUNTIF(L133:L164,AN31)","v":0},{"$f":"AO31/(AQ4-AO25)","v":0},{"$f":"IF(AP31=0,0,(AP31*((LOG(AP31))/LOG(2))))","v":0},null,{"$f":"N31","v":22111},{"$f":"COUNTIF(L165:L195,AS31)","v":0},{"$f":"AT31/(AV4-AT25)","v":0},{"$f":"IF(AU31=0,0,(AU31*((LOG(AU31))/LOG(2))))","v":0}]
[12,3110,13,3114,13,3118,14,3123,13,3127,0,11111,null,22112,{"$f":"COUNTIF($L$7:$L$500,N32)","v":0},{"$f":"O32/$Q$4","v":0},{"$f":"IF(P32=0,0,(P32*((LOG(P32))/LOG(2))))","v":0},null,null,{"$f":"N32","v":22112},{"$f":"COUNTIF(L7:L38,T32)","v":0},{"$f":"U32/(W4-U25)","v":0},{"$f":"IF(V32=0,0,(V32*((LOG(V32))/LOG(2))))","v":0},null,{"$f":"N32","v":22112},{"$f":"COUNTIF(L39:L69,Y32)","v":0},{"$f":"Z32/(AB4-Z25)","v":0},{"$f":"IF(AA32=0,0,(AA32*((LOG(AA32))/LOG(2))))","v":0},null,{"$f":"N32","v":22112},{"$f":"COUNTIF(L70:L101,AD32)","v":0},{"$f":"AE32/(AG4-AE25)","v":0},{"$f":"IF(AF32=0,0,(AF32*((LOG(AF32))/LOG(2))))","v":0},null,{"$f":"N32","v":22112},{"$f":"COUNTIF(L102:L132,AI32)","v":0},{"$f":"AJ32/(AL4-AJ25)","v":0},{"$f":"IF(AK32=0,0,(AK32*((LOG(AK32))/LOG(2))))","v":0},null,{"$f":"N32","v":22112},{"$f":"COUNTIF(L133:L164,AN32)","v":0},{"$f":"AO32/(AQ4-AO25)","v":0},{"$f":"IF(AP32=0,0,(AP32*((LOG(AP32))/LOG(2))))","v":0},null,{"$f":"N32","v":22112},{"$f":"COUNTIF(L165:L195,AS32)","v":0},{"$f":"AT32/(AV4-AT25)","v":0},{"$f":"IF(AU32=0,0,(AU32*((LOG(AU32))/LOG(2))))","v":0}]
[12,3248,13,3252,13,3256,14,3261,13,3266,0,11111,null,22121,{"$f":"COUNTIF($L$7:$L$500,N33)","v":0},{"$f":"O33/$Q$4","v":0},{"$f":"IF(P33=0,0,(P33*((LOG(P33))/LOG(2))))","v":0},null,null,{"$f":"N33","v":22121},{"$f":"COUNTIF(L7:L38,T33)","v":0},{"$f":"U33/(W4-U25)","v":0},{"$f":"IF(V33=0,0,(V33*((LOG(V33))/LOG(2))))","v":0},null,{"$f":"N33","v":22121},{"$f":"COUNTIF(L39:L69,Y33)","v":0},{"$f":"Z33/(AB4-Z25)","v":0},{"$f":"IF(AA33=0,0,(AA33*((LOG(AA33))/LOG(2))))","v":0},null,{"$f":"N33","v":22121},{"$f":"COUNTIF(L70:L101,AD33)","v":0},{"$f":"AE33/(AG4-AE25)","v":0},{"$f":"IF(AF33=0,0,(AF33*((LOG(AF33))/LOG(2))))","v":0},null,{"$f":"N33","v":22121},{"$f":"COUNTIF(L102:L132,AI33)","v":0},{"$f":"AJ33/(AL4-AJ25)","v":0},{"$f":"IF(AK33=0,0,(AK33*((LOG(AK33))/LOG(2))))","v":0},null,{"$f":"N33","v":22121},{"$f":"COUNTIF(L133:L164,AN33)","v":0},{"$f":"AO33/(AQ4-AO25)","v":0},{"$f":"IF(AP33=0,0,(AP33*((LOG(AP33))/LOG(2))))","v":0},null,{"$f":"N33","v":22121},{"$f":"COUNTIF(L165:L195,AS33)","v":0},{"$f":"AT33/(AV4-AT25)","v":0},{"$f":"IF(AU33=0,0,(AU33*((LOG(AU33))/LOG(2))))","v":0}]
[12,3382,13,3387,13,3391,14,3396,13,3405,0,11111,null,22122,{"$f":"COUNTIF($L$7:$L$500,N34)","v":0},{"$f":"O34/$Q$4","v":0},{"$f":"IF(P34=0,0,(P34*((LOG(P34))/LOG(2))))","v":0},null,null,{"$f":"N34","v":22122},{"$f":"COUNTIF(L7:L38,T34)","v":0},{"$f":"U34/(W4-U25)","v":0},{"$f":"IF(V34=0,0,(V34*((LOG(V34))/LOG(2))))","v":0},null,{"$f":"N34","v":22122},{"$f":"COUNTIF(L39:L69,Y34)","v":0},{"$f":"Z34/(AB4-Z25)","v":0},{"$f":"IF(AA34=0,0,(AA34*((LOG(AA34))/LOG(2))))","v":0},null,{"$f":"N34","v":22122},{"$f":"COUNTIF(L70:L101,AD34)","v":0},{"$f":"AE34/(AG4-AE25)","v":0},{"$f":"IF(AF34=0,0,(AF34*((LOG(AF34))/LOG(2))))","v":0},null,{"$f":"N34","v":22122},{"$f":"COUNTIF(L102:L132,AI34)","v":0},{"$f":"AJ34/(AL4-AJ25)","v":0},{"$f":"IF(AK34=0,0,(AK34*((LOG(AK34))/LOG(2))))","v":0},null,{"$f":"N34","v":22122},{"$f":"COUNTIF(L133:L164,AN34)","v":0},{"$f":"AO34/(AQ4-AO25)","v":0},{"$f":"IF(AP34=0,0,(AP34*((LOG(AP34))/LOG(2))))","v":0},null,{"$f":"N34","v":22122},{"$f":"COUNTIF(L165:L195,AS34)","v":0},{"$f":"AT34/(AV4-AT25)","v":0},{"$f":"IF(AU34=0,0,(AU34*((LOG(AU34))/LOG(2))))","v":0}]
[12,3509,13,3514,13,3518,14,3523,13,3528,1,11111,null,22211,{"$f":"COUNTIF($L$7:$L$500,N35)","v":0},{"$f":"O35/$Q$4","v":0},{"$f":"IF(P35=0,0,(P35*((LOG(P35))/LOG(2))))","v":0},null,null,{"$f":"N35","v":22211},{"$f":"COUNTIF(L7:L38,T35)","v":0},{"$f":"U35/(W4-U25)","v":0},{"$f":"IF(V35=0,0,(V35*((LOG(V35))/LOG(2))))","v":0},null,{"$f":"N35","v":22211},{"$f":"COUNTIF(L39:L69,Y35)","v":0},{"$f":"Z35/(AB4-Z25)","v":0},{"$f":"IF(AA35=0,0,(AA35*((LOG(AA35))/LOG(2))))","v":0},null,{"$f":"N35","v":22211},{"$f":"COUNTIF(L70:L101,AD35)","v":0},{"$f":"AE35/(AG4-AE25)","v":0},{"$f":"IF(AF35=0,0,(AF35*((LOG(AF35))/LOG(2))))","v":0},null,{"$f":"N35","v":22211},{"$f":"COUNTIF(L102:L132,AI35)","v":0},{"$f":"AJ35/(AL4-AJ25)","v":0},{"$f":"IF(AK35=0,0,(AK35*((LOG(AK35))/LOG(2))))","v":0},null,{"$f":"N35","v":22211},{"$f":"COUNTIF(L133:L164,AN35)","v":0},{"$f":"AO35/(AQ4-AO25)","v":0},{"$f":"IF(AP35=0,0,(AP35*((LOG(AP35))/LOG(2))))","v":0},null,{"$f":"N35","v":22211},{"$f":"COUNTIF(L165:L195,AS35)","v":0},{"$f":"AT35/(AV4-AT25)","v":0},{"$f":"IF(AU35=0,0,(AU35*((LOG(AU35))/LOG(2))))","v":0}]
[12,3637,13,3645,13,3650,14,3655,13,3659,0,11111,null,22212,{"$f":"COUNTIF($L$7:$L$500,N36)","v":0},{"$f":"O36/$Q$4","v":0},{"$f":"IF(P36=0,0,(P36*((LOG(P36))/LOG(2))))","v":0},null,null,{"$f":"N36","v":22212},{"$f":"COUNTIF(L7:L38,T36)","v":0},{"$f":"U36/(W4-U25)","v":0},{"$f":"IF(V36=0,0,(V36*((LOG(V36))/LOG(2))))","v":0},null,{"$f":"N36","v":22212},{"$f":"COUNTIF(L39:L69,Y36)","v":0},{"$f":"Z36/(AB4-Z25)","v":0},{"$f":"IF(AA36=0,0,(AA36*((LOG(AA36))/LOG(2))))","v":0},null,{"$f":"N36","v":22212},{"$f":"COUNTIF(L70:L101,AD36)","v":0},{"$f":"AE36/(AG4-AE25)","v":0},{"$f":"IF(AF36=0,0,(AF36*((LOG(AF36))/LOG(2))))","v":0},null,{"$f":"N36","v":22212},{"$f":"COUNTIF(L102:L132,AI36)","v":0},{"$f":"AJ36/(AL4-AJ25)","v":0},{"$f":"IF(AK36=0,0,(AK36*((LOG(AK36))/LOG(2))))","v":0},null,{"$f":"N36","v":22212},{"$f":"COUNTIF(L133:L164,AN36)","v":0},{"$f":"AO36/(AQ4-AO25)","v":0},{"$f":"IF(AP36=0,0,(AP36*((LOG(AP36))/LOG(2))))","v":0},null,{"$f":"N36","v":22212},{"$f":"COUNTIF(L165:L195,AS36)","v":0},{"$f":"AT36/(AV4-AT25)","v":0},{"$f":"IF(AU36=0,0,(AU36*((LOG(AU36))/LOG(2))))","v":0}]
[12,3769,13,3773,13,3781,14,3786,13,3791,0,11111,null,22221,{"$f":"COUNTIF($L$7:$L$500,N37)","v":0},{"$f":"O37/$Q$4","v":0},{"$f":"IF(P37=0,0,(P37*((LOG(P37))/LOG(2))))","v":0},null,null,{"$f":"N37","v":22221},{"$f":"COUNTIF(L7:L38,T37)","v":0},{"$f":"U37/(W4-U25)","v":0},{"$f":"IF(V37=0,0,(V37*((LOG(V37))/LOG(2))))","v":0},null,{"$f":"N37","v":22221},{"$f":"COUNTIF(L39:L69,Y37)","v":0},{"$f":"Z37/(AB4-Z25)","v":0},{"$f":"IF(AA37=0,0,(AA37*((LOG(AA37))/LOG(2))))","v":0},null,{"$f":"N37","v":22221},{"$f":"COUNTIF(L70:L101,AD37)","v":0},{"$f":"AE37/(AG4-AE25)","v":0},{"$f":"IF(AF37=0,0,(AF37*((LOG(AF37))/LOG(2))))","v":0},null,{"$f":"N37","v":22221},{"$f":"COUNTIF(L102:L132,AI37)","v":0},{"$f":"AJ37/(AL4-AJ25)","v":0},{"$f":"IF(AK37=0,0,(AK37*((LOG(AK37))/LOG(2))))","v":0},null,{"$f":"N37","v":22221},{"$f":"COUNTIF(L133:L164,AN37)","v":0},{"$f":"AO37/(AQ4-AO25)","v":0},{"$f":"IF(AP37=0,0,(AP37*((LOG(AP37))/LOG(2))))","v":0},null,{"$f":"N37","v":22221},{"$f":"COUNTIF(L165:L195,AS37)","v":0},{"$f":"AT37/(AV4-AT25)","v":0},{"$f":"IF(AU37=0,0,(AU37*((LOG(AU37))/LOG(2))))","v":0}]
[12,3896,13,3900,13,3905,14,3909,13,3913,0,11111,null,22222,{"$f":"COUNTIF($L$7:$L$500,N38)","v":6},{"$f":"O38/$Q$4","v":3.1746031746031744E-2},{"$f":"IF(P38=0,0,(P38*((LOG(P38))/LOG(2))))","v":-0.15800888646031477},null,null,{"$f":"N38","v":22222},{"$f":"COUNTIF(L7:L38,T38)","v":0},{"$f":"U38/(W4-U25)","v":0},{"$f":"IF(V38=0,0,(V38*((LOG(V38))/LOG(2))))","v":0},null,{"$f":"N38","v":22222},{"$f":"COUNTIF(L39:L69,Y38)","v":0},{"$f":"Z38/(AB4-Z25)","v":0},{"$f":"IF(AA38=0,0,(AA38*((LOG(AA38))/LOG(2))))","v":0},null,{"$f":"N38","v":22222},{"$f":"COUNTIF(L70:L101,AD38)","v":0},{"$f":"AE38/(AG4-AE25)","v":0},{"$f":"IF(AF38=0,0,(AF38*((LOG(AF38))/LOG(2))))","v":0},null,{"$f":"N38","v":22222},{"$f":"COUNTIF(L102:L132,AI38)","v":3},{"$f":"AJ38/(AL4-AJ25)","v":9.6774193548387094E-2},{"$f":"IF(AK38=0,0,(AK38*((LOG(AK38))/LOG(2))))","v":-0.32605488480635986},null,{"$f":"N38","v":22222},{"$f":"COUNTIF(L133:L164,AN38)","v":2},{"$f":"AO38/(AQ4-AO25)","v":6.25E-2},{"$f":"IF(AP38=0,0,(AP38*((LOG(AP38))/LOG(2))))","v":-0.25},null,{"$f":"N38","v":22222},{"$f":"COUNTIF(L165:L195,AS38)","v":1},{"$f":"AT38/(AV4-AT25)","v":3.2258064516129031E-2},{"$f":"IF(AU38=0,0,(AU38*((LOG(AU38))/LOG(2))))","v":-0.15981278420602821}]
[12,4013,13,4020,13,4024,14,4029,13,4038,0,11111,null,null,null,{"$f":"SUM(P7:P38)","v":1},{"$f":"-SUM(Q7:Q38)","v":0.20307392998664558},null,null,null,null,{"$f":"SUM(V7:V38)","v":1},{"$f":"-SUM(W7:W38)","v":0},null,null,null,{"$f":"SUM(AA7:AA38)","v":1},{"$f":"-SUM(AB7:AB38)","v":0},null,null,null,{"$f":"SUM(AF7:AF38)","v":1},{"$f":"-SUM(AG7:AG38)","v":0},null,null,null,{"$f":"SUM(AK7:AK38)","v":1},{"$f":"-SUM(AL7:AL38)","v":0.45868581620054028},null,null,null,{"$f":"SUM(AP7:AP38)","v":1},{"$f":"-SUM(AQ7:AQ38)","v":0.33729006661701388},null,null,null,{"$f":"SUM(AU7:AU38)","v":1},{"$f":"-SUM(AV7:AV38)","v":0.20559250818508301}]
[12,4138,13,4146,13,4151,14,4155,13,4183,0,11111,null,null,null,"U=",{"$f":"Q39/(LOG(Q4)/LOG(2))","v":2.6853665697917986E-2},null,null,null,null,"U1=",{"$f":"W39/(LOG(W4)/LOG(2))","v":0},null,null,null,"U2=",{"$f":"AB39/(LOG(AB4)/LOG(2))","v":0},null,null,null,"U3=",{"$f":"AG39/(LOG(AG4)/LOG(2))","v":0},null,null,null,"U4=",{"$f":"AL39/(LOG(AL4)/LOG(2))","v":9.2585313028243993E-2},null,null,null,"U5=",{"$f":"AQ39/(LOG(AQ4)/LOG(2))","v":6.7458013323402774E-2},null,null,null,"U6=",{"$f":"AV39/(LOG(AV4)/LOG(2))","v":4.1498659985281898E-2}]
[12,4293,13,4298,13,4301,14,4305,13,4309,0,11111]
[12,4411,13,4415,13,4419,14,4424,13,4427,0,11111]
[12,4530,13,4534,13,4542,14,4546,13,4556,0,11111,null,"Total Target Seq"]
[12,4660,13,4664,13,4668,14,4672,13,4676,0,11111,null,{"$f":"COUNTIF(L7:L195,G3)","v":0},null,32,31,32,31,32,31]
[12,4777,13,4781,13,4785,14,4789,13,4793,0,11111,null,null,null,"% of reinforcement given in 6 equal intervals based on number of trials "]
[12,4897,13,4902,13,4906,14,4910,13,4915,0,11111,null,null,null,"%_1","%_2","%_3","%_4","%_5","%_6"]
[12,5020,13,5025,13,5029,14,5033,13,5048,1,11111,null,null,"target sequence",{"$f":"$G$3","v":21121},{"$f":"$G$3","v":21121},{"$f":"$G$3","v":21121},{"$f":"$G$3","v":21121},{"$f":"$G$3","v":21121},{"$f":"$G$3","v":21121}]
[12,5161,13,5165,13,5169,14,5177,13,5182,1,11111,null,null,"total reinforcement",{"$f":"U25","v":0},{"$f":"Z25","v":0},{"$f":"AE25","v":0},{"$f":"AJ25","v":0},{"$f":"AO25","v":0},{"$f":"AT25","v":0}]
[12,5293,13,5303,13,5308,14,5313,13,5332,0,11111,null,null,"% target"]
[12,5448,13,5452,13,5457,14,5461,13,5465,0,11111,null,null,"CCRF"]
[12,5567,13,5573,13,5577,14,5591,13,5596,1,11111,null,null,"% CCRf"]
[12,5699,13,5712,13,5717,14,5722,13,5728,0,11111,null,null,"average response rate",{"$f":"J38/P44","v":122.28125},{"$f":"(J69-J38)/Q44","v":128},{"$f":"(J101-J69)/R44","v":129.125},{"$f":"(J132-J101)/S44","v":127.51612903225806},{"$f":"(J164-J132)/T44","v":127.375},{"$f":"(J195-J164)/U44","v":126.09677419354838}]
[12,5836,13,5841,13,5845,14,5852,13,5857,0,11111]
[12,5960,13,5969,13,5974,14,5984,13,6005,0,11111]
[12,6110,13,6114,13,6121,14,6126,13,6131,1,11111]
[12,6227,13,6232,13,6236,14,6240,13,6244,0,11111]
[12,6350,13,6355,13,6360,14,6368,13,6373,0,11111]
[12,6483,13,6487,13,6491,14,6495,13,6499,0,11111]
[12,6600,13,6604,13,6608,14,6611,13,6620,0,11111]
[12,6727,13,6731,13,6735,14,6740,13,6745,0,11111]
[12,6850,13,6854,13,6858,14,6862,13,6866,1,11111]
[12,6969,13,6973,13,6982,14,6987,13,7002,0,11111]
[12,7102,13,7108,13,7112,14,7116,13,7120,0,11111]
[12,7222,13,7227,13,7231,14,7235,13,7239,0,11111]
[12,7344,13,7349,13,7353,14,7357,13,7362,0,11111]
[12,7480,13,7488,13,7494,14,7499,13,7504,1,11111]
[12,7611,13,7615,13,7623,14,7628,13,7637,0,11111]
[12,7739,13,7743,13,7747,14,7752,13,7757,0,11111]
[12,7864,13,7868,13,7872,14,7876,13,7881,0,11111]
[12,8000,13,8004,13,8009,14,8019,13,8025,1,11111]
[12,8120,13,8125,13,8129,14,8133,13,8138,0,11111]
[12,8242,13,8246,13,8250,14,8254,13,8258,0,11111]
[12,8364,13,8368,13,8372,14,8376,13,8380,0,11111]
[12,8482,13,8488,13,8492,14,8496,13,8500,0,11111]
[12,8604,13,8608,13,8615,14,8621,13,8627,0,11111]
[12,8734,13,8738,13,8743,14,8748,13,8763,1,11111]
[12,8862,13,8867,13,8872,14,8876,13,8881,0,11111]
[12,8990,13,8994,13,8998,14,9002,13,9007,0,11111]
[12,9111,13,9116,13,9120,14,9124,13,9128,0,11111]
[12,9244,13,9248,13,9252,14,9256,13,9262,0,11111]
[12,9368,13,9373,13,9378,14,9382,13,9386,0,11111]
[12,9490,13,9499,13,9504,14,9513,13,9518,0,11111]
[12,9627,13,9631,13,9635,14,9639,13,9643,1,11111]
[12,9741,13,9745,13,9749,14,9753,13,9758,0,11111]
[12,9861,13,9865,13,9870,14,9874,13,9902,0,11111]
[12,10011,13,10019,13,10024,14,10028,13,10033,0,11111]
[12,10146,13,10151,13,10155,14,10160,13,10165,0,11111]
[12,10280,13,10285,13,10289,14,10293,13,10298,0,11111]
[12,10403,13,10411,13,10416,14,10425,13,10440,1,11111]
[12,10547,13,10552,13,10559,14,10564,13,10569,0,11111]
[12,10670,13,10688,13,10693,14,10698,13,10712,0,11111]
[12,10813,13,10817,13,10821,14,10825,13,10830,0,11111]
[12,10932,13,10937,13,10941,14,10945,13,10950,0,11111]
[12,11051,13,11055,13,11058,14,11062,13,11066,0,11111]
[12,11168,13,11172,13,11187,14,11192,13,11197,0,11111]
[12,11302,13,11306,13,11310,14,11318,13,11323,0,11111]
[12,11470,13,11474,13,11483,14,11488,13,11493,1,11111]
[12,11620,13,11626,13,11630,14,11634,13,11639,0,11111]
[12,11747,13,11751,13,11759,14,11763,13,11767,1,11111]
[12,11874,13,11879,13,11887,14,11891,13,11896,0,11111]
[12,11996,13,12001,13,12005,14,12009,13,12013,0,11111]
[12,12112,13,12118,13,12122,14,12126,13,12130,0,11111]
[12,12245,13,12250,13,12258,14,12263,13,12273,0,11111]
[12,12377,13,12381,13,12386,14,12390,13,12394,0,11111]
[12,12509,13,12513,13,12518,14,12524,13,12530,1,11111]
[12,12630,13,12639,13,12644,14,12649,13,12655,1,11111]
[21,12794,22,12801,24,12806,23,12812,24,12819,0,22222]
[21,12942,22,12950,24,12955,23,12960,24,12968,0,22222]
[12,13080,13,13089,13,13094,14,13099,13,13104,1,11111]
[12,13214,13,13219,13,13224,14,13228,13,13233,1,11111]
[12,13329,13,13334,13,13339,14,13343,13,13348,0,11111]
[12,13465,13,13470,13,13474,14,13478,13,13482,0,11111]
[12,13600,13,13606,13,13611,14,13615,13,13619,0,11111]
[12,13719,13,13724,13,13728,14,13733,13,13737,0,11111]
[12,13845,13,13850,13,13854,14,13858,13,13863,1,11111]
[12,13967,13,13972,13,13981,14,13986,13,13992,1,11111]
[12,14102,13,14107,13,14111,14,14116,13,14120,0,11111]
[12,14220,13,14224,13,14229,14,14233,13,14238,1,11111]
[21,14346,22,14351,24,14357,23,14362,24,14370,0,22222]
[12,14489,13,14493,13,14497,14,14501,13,14505,0,11111]
[12,14606,13,14612,13,14617,14,14621,13,14626,0,11111]
[12,14734,13,14738,13,14742,14,14746,13,14751,0,11111]
[12,14851,13,14854,13,14858,14,14862,13,14867,1,11111]
[12,14963,13,14968,13,14972,14,14977,13,14983,1,11111]
[12,15085,13,15089,13,15093,14,15098,13,15102,1,11111]
[12,15201,13,15206,13,15210,14,15214,13,15219,0,11111]
[12,15324,13,15331,13,15336,14,15341,13,15351,0,11111]
[12,15451,13,15455,13,15463,14,15467,13,15473,0,11111]
[12,15573,13,15577,13,15585,14,15589,13,15594,0,11111]
[12,15699,13,15703,13,15707,14,15712,13,15727,0,11111]
[12,15832,13,15837,13,15841,14,15845,13,15849,0,11111]
[12,15949,13,15954,13,15957,14,15962,13,15966,0,11111]
[12,16067,13,16072,13,16077,14,16081,13,16086,1,11111]
[21,16199,22,16204,24,16211,23,16216,24,16236,0,22222]
[12,16341,13,16345,13,16350,14,16355,13,16360,0,11111]
[12,16471,13,16477,13,16486,14,16491,13,16530,1,11111]
[12,16632,13,16637,13,16641,14,16650,13,16655,0,11111]
[12,16755,13,16759,13,16763,14,16768,13,16772,0,11111]
[12,16873,13,16877,13,16881,14,16886,13,16890,0,11111]
[12,16991,13,16996,13,17000,14,17005,13,17010,0,11111]
[12,17110,13,17114,13,17118,14,17122,13,17126,0,11111]
[12,17236,13,17240,13,17256,14,17266,13,17281,0,11111]
[12,17386,13,17390,13,17394,14,17398,13,17403,0,11111]
[12,17505,13,17509,13,17513,14,17517,13,17521,0,11111]
[12,17622,13,17626,13,17630,14,17634,13,17639,1,11111]
[21,17746,22,17751,24,17756,23,17763,24,17772,0,22222]
[12,17873,13,17877,13,17881,14,17885,13,17889,0,11111]
[12,17990,13,17995,13,17999,14,18003,13,18007,0,11111]
[12,18121,13,18125,13,18130,14,18137,13,18143,0,11111]
[12,18246,13,18250,13,18254,14,18258,13,18262,0,11111]
[12,18360,13,18364,13,18373,14,18377,13,18382,1,11111]
[12,18486,13,18491,13,18499,14,18503,13,18513,0,11111]
[12,18613,13,18617,13,18621,14,18625,13,18630,0,11111]
[12,18745,13,18749,13,18754,14,18764,13,18778,0,11111]
[12,18877,13,18881,13,18885,14,18889,13,18893,0,11111]
[12,18993,13,19001,13,19005,14,19009,13,19013,0,11111]
[12,19123,13,19128,13,19132,14,19136,13,19141,0,11111]
[12,19246,13,19252,13,19256,14,19265,13,19279,1,11111]
[12,19377,13,19381,13,19398,14,19409,13,19426,0,11111]
[12,19526,13,19530,13,19534,14,19544,13,19554,0,11111]
[12,19655,13,19659,13,19663,14,19671,13,19675,0,11111]
[12,19775,13,19779,13,19783,14,19787,13,19791,1,11111]
[12,19888,13,19893,13,19897,14,19902,13,19911,0,11111]
[12,20020,13,20028,13,20032,14,20037,13,20042,0,11111]
[12,20149,13,20153,13,20157,14,20162,13,20167,0,11111]
[12,20267,13,20271,13,20275,14,20280,13,20284,1,11111]
[12,20388,13,20392,13,20404,14,20424,13,20430,0,11111]
[12,20534,13,20537,13,20545,14,20550,13,20555,0,11111]
[21,20666,22,20671,24,20676,23,20683,24,20692,0,22222]
[12,20793,13,20797,13,20801,14,20804,13,20808,0,11111]
[12,20909,13,20913,13,20920,14,20925,13,20931,0,11111]
[12,21030,13,21035,13,21038,14,21043,13,21047,1,11111]
[12,21152,13,21156,13,21164,14,21169,13,21179,0,11111]
[12,21279,13,21283,13,21287,14,21291,13,21295,0,11111]
[12,21399,13,21403,13,21407,14,21411,13,21416,1,11111]
[12,21526,13,21531,13,21536,14,21541,13,21545,0,11111]
[12,21645,13,21649,13,21654,14,21658,13,21662,0,11111]
[12,21780,13,21785,13,21789,14,21794,13,21803,0,11111]
[12,21913,13,21920,13,21924,14,21929,13,21933,0,11111]
[12,22037,13,22042,13,22046,14,22050,13,22060,0,11111]
[12,22162,13,22167,13,22171,14,22176,13,22180,1,11111]
[12,22276,13,22286,13,22290,14,22294,13,22300,0,11111]
[12,22401,13,22405,13,22409,14,22413,13,22418,0,11111]
[12,22519,13,22527,13,22531,14,22535,13,22541,0,11111]
[12,22642,13,22646,13,22650,14,22654,13,22659,0,11111]
[12,22763,13,22767,13,22770,14,22775,13,22784,0,11111]
[12,22889,13,22894,13,22902,14,22911,13,22924,1,11111]
[12,23027,13,23035,13,23040,14,23049,13,23055,0,11111]
[12,23158,13,23162,13,23167,14,23177,13,23191,0,11111]
[12,23292,13,23301,13,23305,14,23310,13,23315,0,11111]
[12,23416,13,23420,13,23424,14,23428,13,23432,0,11111]
[12,23533,13,23542,13,23546,14,23550,13,23560,1,11111]
[12,23673,13,23677,13,23681,14,23691,13,23705,0,11111]
[12,23801,13,23811,13,23820,14,23824,13,23829,0,11111]
[12,23929,13,23934,13,23941,14,23946,13,23951,null,11111]

{"sheet":"!MC23910.010","index":25,"n_rows":198,"n_cols":48,"rows_kept":198,"cut":false,"hidden":false,"merged":[[4,39,4,42],[5,39,5,40],[4,44,4,47],[5,44,5,45],[4,24,4,27],[5,24,5,25],[4,29,4,32],[5,29,5,30],[4,34,4,37],[5,34,5,35],[1,1,1,2],[5,13,5,14],[42,13,42,14],[43,13,43,14],[4,19,4,22],[5,19,5,20]]}
["Report for:!MC23910.010"]
["Date:","<date>"]
["Hen:","<hen>",null,null,null,"Correct Sequence",{"$f":"Start!J2","v":21121},null,null,null,null,null,null,null,null,"Total Sequences in Data",{"$f":"4994-COUNTBLANK(L7:L5000)","v":192},null,null,null,null,"Total Sequences in Block Data",{"$f":"COUNTA(L7:L38)","v":32},null,null,null,"Total Sequences in Block Data",{"$f":"COUNTA(L39:L70)","v":32},null,null,null,"Total Sequences in Block Data",{"$f":"COUNTA(L71:L102)","v":32},null,null,null,"Total Sequences in Block Data",{"$f":"COUNTA(L103:L134)","v":32},null,null,null,"Total Sequences in Block Data",{"$f":"COUNTA(L135:L166)","v":32},null,null,null,"Total Sequences in Block Data",{"$f":"COUNTA(L167:L198)","v":32}]
[null,null,null,null,null,null,null,null,null,null,null,null,null,null,null,"Total Sequences in Summary",{"$f":"SUM(O7:O38)","v":192},null,null,null,null,"Total Sequences in Block Summary",{"$f":"SUM(U7:U38)","v":32},null,null,null,"Total Sequences in Block Summary",{"$f":"SUM(Z7:Z38)","v":32},null,null,null,"Total Sequences in Block Summary",{"$f":"SUM(AE7:AE38)","v":32},null,null,null,"Total Sequences in Block Summary",{"$f":"SUM(AJ7:AJ38)","v":32},null,null,null,"Total Sequences in Block Summary",{"$f":"SUM(AO7:AO38)","v":32},null,null,null,"Total Sequences in Block Summary",{"$f":"SUM(AT7:AT38)","v":32}]
[null,null,null,null,null,null,null,null,null,null,null,null,null,null,null,null,null,null,null,"Block 1",null,null,null,null,"Block 2",null,null,null,null,"Block 3",null,null,null,null,"Block 4",null,null,null,null,"Block 5",null,null,null,null,"Block 6"]
["Sequence\nComponent\n1","Time\n1","Sequence\nComponent\n2","Time\n2","Sequence\nComponent\n3","Time\n3","Sequence\nComponent\n4","Time\n4","Sequence\nComponent\n5","Time\n5","Correct?\n0=No 1=Yes","Sequence",null,"Frequency",null,"Relative Frequency","Variability",null,null,"Frequency",null,"Relative Frequency","Variability",null,"Frequency",null,"Relative Frequency","Variability",null,"Frequency",null,"Relative Frequency","Variability",null,"Frequency",null,"Relative Frequency","Variability",null,"Frequency",null,"Relative Frequency","Variability",null,"Frequency",null,"Relative Frequency","Variability"]
[12,12,13,18,13,22,14,26,13,30,0,11111,null,11111,{"$f":"COUNTIF($L$7:$L$500,N7)","v":187},{"$f":"O7/$Q$4","v":0.97395833333333337},{"$f":"IF(P7=0,0,(P7*((LOG(P7))/LOG(2))))","v":-3.7076685603479889E-2},null,null,{"$f":"N7","v":11111},{"$f":"COUNTIF(L7:L38,T7)","v":32},{"$f":"U7/(W4-U25)","v":1},{"$f":"IF(V7=0,0,(V7*((LOG(V7))/LOG(2))))","v":0},null,{"$f":"N7","v":11111},{"$f":"COUNTIF(L39:L70,Y7)","v":32},{"$f":"Z7/(AB4-Z25)","v":1},{"$f":"IF(AA7=0,0,(AA7*((LOG(AA7))/LOG(2))))","v":0},null,{"$f":"N7","v":11111},{"$f":"COUNTIF(L71:L102,AD7)","v":32},{"$f":"AE7/(AG4-AE25)","v":1},{"$f":"IF(AF7=0,0,(AF7*((LOG(AF7))/LOG(2))))","v":0},null,{"$f":"N7","v":11111},{"$f":"COUNTIF(L103:L134,AI7)","v":32},{"$f":"AJ7/(AL4-AJ25)","v":1},{"$f":"IF(AK7=0,0,(AK7*((LOG(AK7))/LOG(2))))","v":0},null,{"$f":"N7","v":11111},{"$f":"COUNTIF(L135:L166,AN7)","v":29},{"$f":"AO7/(AQ4-AO25)","v":0.90625},{"$f":"IF(AP7=0,0,(AP7*((LOG(AP7))/LOG(2))))","v":-0.12870472316563777},null,{"$f":"N7","v":11111},{"$f":"COUNTIF(L167:L198,AS7)","v":30},{"$f":"AT7/(AV4-AT25)","v":0.9375},{"$f":"IF(AU7=0,0,(AU7*((LOG(AU7))/LOG(2))))","v":-8.729006661701387E-2}]
[12,135,13,150,13,154,14,159,13,163,0,11111,null,11112,{"$f":"COUNTIF($L$7:$L$500,N8)","v":0},{"$f":"O8/$Q$4","v":0},{"$f":"IF(P8=0,0,(P8*((LOG(P8))/LOG(2))))","v":0},null,null,{"$f":"N8","v":11112},{"$f":"COUNTIF(L7:L38,T8)","v":0},{"$f":"U8/(W4-U25)","v":0},{"$f":"IF(V8=0,0,(V8*((LOG(V8))/LOG(2))))","v":0},null,{"$f":"N8","v":11112},{"$f":"COUNTIF(L39:L70,Y8)","v":0},{"$f":"Z8/(AB4-Z25)","v":0},{"$f":"IF(AA8=0,0,(AA8*((LOG(AA8))/LOG(2))))","v":0},null,{"$f":"N8","v":11112},{"$f":"COUNTIF(L71:L102,AD8)","v":0},{"$f":"AE8/(AG4-AE25)","v":0},{"$f":"IF(AF8=0,0,(AF8*((LOG(AF8))/LOG(2))))","v":0},null,{"$f":"N8","v":11112},{"$f":"COUNTIF(L103:L134,AI8)","v":0},{"$f":"AJ8/(AL4-AJ25)","v":0},{"$f":"IF(AK8=0,0,(AK8*((LOG(AK8))/LOG(2))))","v":0},null,{"$f":"N8","v":11112},{"$f":"COUNTIF(L135:L166,AN8)","v":0},{"$f":"AO8/(AQ4-AO25)","v":0},{"$f":"IF(AP8=0,0,(AP8*((LOG(AP8))/LOG(2))))","v":0},null,{"$f":"N8","v":11112},{"$f":"COUNTIF(L167:L198,AS8)","v":0},{"$f":"AT8/(AV4-AT25)","v":0},{"$f":"IF(AU8=0,0,(AU8*((LOG(AU8))/LOG(2))))","v":0}]
[12,267,13,272,13,276,14,280,13,285,0,11111,null,11121,{"$f":"COUNTIF($L$7:$L$500,N9)","v":0},{"$f":"O9/$Q$4","v":0},{"$f":"IF(P9=0,0,(P9*((LOG(P9))/LOG(2))))","v":0},null,null,{"$f":"N9","v":11121},{"$f":"COUNTIF(L7:L38,T9)","v":0},{"$f":"U9/(W4-U25)","v":0},{"$f":"IF(V9=0,0,(V9*((LOG(V9))/LOG(2))))","v":0},null,{"$f":"N9","v":11121},{"$f":"COUNTIF(L39:L70,Y9)","v":0},{"$f":"Z9/(AB4-Z25)","v":0},{"$f":"IF(AA9=0,0,(AA9*((LOG(AA9))/LOG(2))))","v":0},null,{"$f":"N9","v":11121},{"$f":"COUNTIF(L71:L102,AD9)","v":0},{"$f":"AE9/(AG4-AE25)","v":0},{"$f":"IF(AF9=0,0,(AF9*((LOG(AF9))/LOG(2))))","v":0},null,{"$f":"N9","v":11121},{"$f":"COUNTIF(L103:L134,AI9)","v":0},{"$f":"AJ9/(AL4-AJ25)","v":0},{"$f":"IF(AK9=0,0,(AK9*((LOG(AK9))/LOG(2))))","v":0},null,{"$f":"N9","v":11121},{"$f":"COUNTIF(L135:L166,AN9)","v":0},{"$f":"AO9/(AQ4-AO25)","v":0},{"$f":"IF(AP9=0,0,(AP9*((LOG(AP9))/LOG(2))))","v":0},null,{"$f":"N9","v":11121},{"$f":"COUNTIF(L167:L198,AS9)","v":0},{"$f":"AT9/(AV4-AT25)","v":0},{"$f":"IF(AU9=0,0,(AU9*((LOG(AU9))/LOG(2))))","v":0}]
[12,385,13,390,13,394,14,398,13,403,0,11111,null,11122,{"$f":"COUNTIF($L$7:$L$500,N10)","v":0},{"$f":"O10/$Q$4","v":0},{"$f":"IF(P10=0,0,(P10*((LOG(P10))/LOG(2))))","v":0},null,null,{"$f":"N10","v":11122},{"$f":"COUNTIF(L7:L38,T10)","v":0},{"$f":"U10/(W4-U25)","v":0},{"$f":"IF(V10=0,0,(V10*((LOG(V10))/LOG(2))))","v":0},null,{"$f":"N10","v":11122},{"$f":"COUNTIF(L39:L70,Y10)","v":0},{"$f":"Z10/(AB4-Z25)","v":0},{"$f":"IF(AA10=0,0,(AA10*((LOG(AA10))/LOG(2))))","v":0},null,{"$f":"N10","v":11122},{"$f":"COUNTIF(L71:L102,AD10)","v":0},{"$f":"AE10/(AG4-AE25)","v":0},{"$f":"IF(AF10=0,0,(AF10*((LOG(AF10))/LOG(2))))","v":0},null,{"$f":"N10","v":11122},{"$f":"COUNTIF(L103:L134,AI10)","v":0},{"$f":"AJ10/(AL4-AJ25)","v":0},{"$f":"IF(AK10=0,0,(AK10*((LOG(AK10))/LOG(2))))","v":0},null,{"$f":"N10","v":11122},{"$f":"COUNTIF(L135:L166,AN10)","v":0},{"$f":"AO10/(AQ4-AO25)","v":0},{"$f":"IF(AP10=0,0,(AP10*((LOG(AP10))/LOG(2))))","v":0},null,{"$f":"N10","v":11122},{"$f":"COUNTIF(L167:L198,AS10)","v":0},{"$f":"AT10/(AV4-AT25)","v":0},{"$f":"IF(AU10=0,0,(AU10*((LOG(AU10))/LOG(2))))","v":0}]
[12,512,13,516,13,524,14,528,13,533,0,11111,null,11211,{"$f":"COUNTIF($L$7:$L$500,N11)","v":0},{"$f":"O11/$Q$4","v":0},{"$f":"IF(P11=0,0,(P11*((LOG(P11))/LOG(2))))","v":0},null,null,{"$f":"N11","v":11211},{"$f":"COUNTIF(L7:L38,T11)","v":0},{"$f":"U11/(W4-U25)","v":0},{"$f":"IF(V11=0,0,(V11*((LOG(V11))/LOG(2))))","v":0},null,{"$f":"N11","v":11211},{"$f":"COUNTIF(L39:L70,Y11)","v":0},{"$f":"Z11/(AB4-Z25)","v":0},{"$f":"IF(AA11=0,0,(AA11*((LOG(AA11))/LOG(2))))","v":0},null,{"$f":"N11","v":11211},{"$f":"COUNTIF(L71:L102,AD11)","v":0},{"$f":"AE11/(AG4-AE25)","v":0},{"$f":"IF(AF11=0,0,(AF11*((LOG(AF11))/LOG(2))))","v":0},null,{"$f":"N11","v":11211},{"$f":"COUNTIF(L103:L134,AI11)","v":0},{"$f":"AJ11/(AL4-AJ25)","v":0},{"$f":"IF(AK11=0,0,(AK11*((LOG(AK11))/LOG(2))))","v":0},null,{"$f":"N11","v":11211},{"$f":"COUNTIF(L135:L166,AN11)","v":0},{"$f":"AO11/(AQ4-AO25)","v":0},{"$f":"IF(AP11=0,0,(AP11*((LOG(AP11))/LOG(2))))","v":0},null,{"$f":"N11","v":11211},{"$f":"COUNTIF(L167:L198,AS11)","v":0},{"$f":"AT11/(AV4-AT25)","v":0},{"$f":"IF(AU11=0,0,(AU11*((LOG(AU11))/LOG(2))))","v":0}]
[12,636,13,641,13,645,14,649,13,653,1,11111,null,11212,{"$f":"COUNTIF($L$7:$L$500,N12)","v":0},{"$f":"O12/$Q$4","v":0},{"$f":"IF(P12=0,0,(P12*((LOG(P12))/LOG(2))))","v":0},null,null,{"$f":"N12","v":11212},{"$f":"COUNTIF(L7:L38,T12)","v":0},{"$f":"U12/(W4-U25)","v":0},{"$f":"IF(V12=0,0,(V12*((LOG(V12))/LOG(2))))","v":0},null,{"$f":"N12","v":11212},{"$f":"COUNTIF(L39:L70,Y12)","v":0},{"$f":"Z12/(AB4-Z25)","v":0},{"$f":"IF(AA12=0,0,(AA12*((LOG(AA12))/LOG(2))))","v":0},null,{"$f":"N12","v":11212},{"$f":"COUNTIF(L71:L102,AD12)","v":0},{"$f":"AE12/(AG4-AE25)","v":0},{"$f":"IF(AF12=0,0,(AF12*((LOG(AF12))/LOG(2))))","v":0},null,{"$f":"N12","v":11212},{"$f":"COUNTIF(L103:L134,AI12)","v":0},{"$f":"AJ12/(AL4-AJ25)","v":0},{"$f":"IF(AK12=0,0,(AK12*((LOG(AK12))/LOG(2))))","v":0},null,{"$f":"N12","v":11212},{"$f":"COUNTIF(L135:L166,AN12)","v":0},{"$f":"AO12/(AQ4-AO25)","v":0},{"$f":"IF(AP12=0,0,(AP12*((LOG(AP12))/LOG(2))))","v":0},null,{"$f":"N12","v":11212},{"$f":"COUNTIF(L167:L198,AS12)","v":0},{"$f":"AT12/(AV4-AT25)","v":0},{"$f":"IF(AU12=0,0,(AU12*((LOG(AU12))/LOG(2))))","v":0}]
[12,754,13,758,13,763,14,767,13,772,0,11111,null,11221,{"$f":"COUNTIF($L$7:$L$500,N13)","v":0},{"$f":"O13/$Q$4","v":0},{"$f":"IF(P13=0,0,(P13*((LOG(P13))/LOG(2))))","v":0},null,null,{"$f":"N13","v":11221},{"$f":"COUNTIF(L7:L38,T13)","v":0},{"$f":"U13/(W4-U25)","v":0},{"$f":"IF(V13=0,0,(V13*((LOG(V13))/LOG(2))))","v":0},null,{"$f":"N13","v":11221},{"$f":"COUNTIF(L39:L70,Y13)","v":0},{"$f":"Z13/(AB4-Z25)","v":0},{"$f":"IF(AA13=0,0,(AA13*((LOG(AA13))/LOG(2))))","v":0},null,{"$f":"N13","v":11221},{"$f":"COUNTIF(L71:L102,AD13)","v":0},{"$f":"AE13/(AG4-AE25)","v":0},{"$f":"IF(AF13=0,0,(AF13*((LOG(AF13))/LOG(2))))","v":0},null,{"$f":"N13","v":11221},{"$f":"COUNTIF(L103:L134,AI13)","v":0},{"$f":"AJ13/(AL4-AJ25)","v":0},{"$f":"IF(AK13=0,0,(AK13*((LOG(AK13))/LOG(2))))","v":0},null,{"$f":"N13","v":11221},{"$f":"COUNTIF(L135:L166,AN13)","v":0},{"$f":"AO13/(AQ4-AO25)","v":0},{"$f":"IF(AP13=0,0,(AP13*((LOG(AP13))/LOG(2))))","v":0},null,{"$f":"N13","v":11221},{"$f":"COUNTIF(L167:L198,AS13)","v":0},{"$f":"AT13/(AV4-AT25)","v":0},{"$f":"IF(AU13=0,0,(AU13*((LOG(AU13))/LOG(2))))","v":0}]
[12,874,13,878,13,883,14,887,13,891,0,11111,null,11222,{"$f":"COUNTIF($L$7:$L$500,N14)","v":0},{"$f":"O14/$Q$4","v":0},{"$f":"IF(P14=0,0,(P14*((LOG(P14))/LOG(2))))","v":0},null,null,{"$f":"N14","v":11222},{"$f":"COUNTIF(L7:L38,T14)","v":0},{"$f":"U14/(W4-U25)","v":0},{"$f":"IF(V14=0,0,(V14*((LOG(V14))/LOG(2))))","v":0},null,{"$f":"N14","v":11222},{"$f":"COUNTIF(L39:L70,Y14)","v":0},{"$f":"Z14/(AB4-Z25)","v":0},{"$f":"IF(AA14=0,0,(AA14*((LOG(AA14))/LOG(2))))","v":0},null,{"$f":"N14","v":11222},{"$f":"COUNTIF(L71:L102,AD14)","v":0},{"$f":"AE14/(AG4-AE25)","v":0},{"$f":"IF(AF14=0,0,(AF14*((LOG(AF14))/LOG(2))))","v":0},null,{"$f":"N14","v":11222},{"$f":"COUNTIF(L103:L134,AI14)","v":0},{"$f":"AJ14/(AL4-AJ25)","v":0},{"$f":"IF(AK14=0,0,(AK14*((LOG(AK14))/LOG(2))))","v":0},null,{"$f":"N14","v":11222},{"$f":"COUNTIF(L135:L166,AN14)","v":0},{"$f":"AO14/(AQ4-AO25)","v":0},{"$f":"IF(AP14=0,0,(AP14*((LOG(AP14))/LOG(2))))","v":0},null,{"$f":"N14","v":11222},{"$f":"COUNTIF(L167:L198,AS14)","v":0},{"$f":"AT14/(AV4-AT25)","v":0},{"$f":"IF(AU14=0,0,(AU14*((LOG(AU14))/LOG(2))))","v":0}]
[12,993,13,999,13,1002,14,1006,13,1011,0,11111,null,12111,{"$f":"COUNTIF($L$7:$L$500,N15)","v":0},{"$f":"O15/$Q$4","v":0},{"$f":"IF(P15=0,0,(P15*((LOG(P15))/LOG(2))))","v":0},null,null,{"$f":"N15","v":12111},{"$f":"COUNTIF(L7:L38,T15)","v":0},{"$f":"U15/(W4-U25)","v":0},{"$f":"IF(V15=0,0,(V15*((LOG(V15))/LOG(2))))","v":0},null,{"$f":"N15","v":12111},{"$f":"COUNTIF(L39:L70,Y15)","v":0},{"$f":"Z15/(AB4-Z25)","v":0},{"$f":"IF(AA15=0,0,(AA15*((LOG(AA15))/LOG(2))))","v":0},null,{"$f":"N15","v":12111},{"$f":"COUNTIF(L71:L102,AD15)","v":0},{"$f":"AE15/(AG4-AE25)","v":0},{"$f":"IF(AF15=0,0,(AF15*((LOG(AF15))/LOG(2))))","v":0},null,{"$f":"N15","v":12111},{"$f":"COUNTIF(L103:L134,AI15)","v":0},{"$f":"AJ15/(AL4-AJ25)","v":0},{"$f":"IF(AK15=0,0,(AK15*((LOG(AK15))/LOG(2))))","v":0},null,{"$f":"N15","v":12111},{"$f":"COUNTIF(L135:L166,AN15)","v":0},{"$f":"AO15/(AQ4-AO25)","v":0},{"$f":"IF(AP15=0,0,(AP15*((LOG(AP15))/LOG(2))))","v":0},null,{"$f":"N15","v":12111},{"$f":"COUNTIF(L167:L198,AS15)","v":0},{"$f":"AT15/(AV4-AT25)","v":0},{"$f":"IF(AU15=0,0,(AU15*((LOG(AU15))/LOG(2))))","v":0}]
[12,1114,13,1118,13,1122,14,1126,13,1131,0,11111,null,12112,{"$f":"COUNTIF($L$7:$L$500,N16)","v":0},{"$f":"O16/$Q$4","v":0},{"$f":"IF(P16=0,0,(P16*((LOG(P16))/LOG(2))))","v":0},null,null,{"$f":"N16","v":12112},{"$f":"COUNTIF(L7:L38,T16)","v":0},{"$f":"U16/(W4-U25)","v":0},{"$f":"IF(V16=0,0,(V16*((LOG(V16))/LOG(2))))","v":0},null,{"$f":"N16","v":12112},{"$f":"COUNTIF(L39:L70,Y16)","v":0},{"$f":"Z16/(AB4-Z25)","v":0},{"$f":"IF(AA16=0,0,(AA16*((LOG(AA16))/LOG(2))))","v":0},null,{"$f":"N16","v":12112},{"$f":"COUNTIF(L71:L102,AD16)","v":0},{"$f":"AE16/(AG4-AE25)","v":0},{"$f":"IF(AF16=0,0,(AF16*((LOG(AF16))/LOG(2))))","v":0},null,{"$f":"N16","v":12112},{"$f":"COUNTIF(L103:L134,AI16)","v":0},{"$f":"AJ16/(AL4-AJ25)","v":0},{"$f":"IF(AK16=0,0,(AK16*((LOG(AK16))/LOG(2))))","v":0},null,{"$f":"N16","v":12112},{"$f":"COUNTIF(L135:L166,AN16)","v":0},{"$f":"AO16/(AQ4-AO25)","v":0},{"$f":"IF(AP16=0,0,(AP16*((LOG(AP16))/LOG(2))))","v":0},null,{"$f":"N16","v":12112},{"$f":"COUNTIF(L167:L198,AS16)","v":0},{"$f":"AT16/(AV4-AT25)","v":0},{"$f":"IF(AU16=0,0,(AU16*((LOG(AU16))/LOG(2))))","v":0}]
[12,1267,13,1271,13,1275,14,1279,13,1284,0,11111,null,12121,{"$f":"COUNTIF($L$7:$L$500,N17)","v":0},{"$f":"O17/$Q$4","v":0},{"$f":"IF(P17=0,0,(P17*((LOG(P17))/LOG(2))))","v":0},null,null,{"$f":"N17","v":12121},{"$f":"COUNTIF(L7:L38,T17)","v":0},{"$f":"U17/(W4-U25)","v":0},{"$f":"IF(V17=0,0,(V17*((LOG(V17))/LOG(2))))","v":0},null,{"$f":"N17","v":12121},{"$f":"COUNTIF(L39:L70,Y17)","v":0},{"$f":"Z17/(AB4-Z25)","v":0},{"$f":"IF(AA17=0,0,(AA17*((LOG(AA17))/LOG(2))))","v":0},null,{"$f":"N17","v":12121},{"$f":"COUNTIF(L71:L102,AD17)","v":0},{"$f":"AE17/(AG4-AE25)","v":0},{"$f":"IF(AF17=0,0,(AF17*((LOG(AF17))/LOG(2))))","v":0},null,{"$f":"N17","v":12121},{"$f":"COUNTIF(L103:L134,AI17)","v":0},{"$f":"AJ17/(AL4-AJ25)","v":0},{"$f":"IF(AK17=0,0,(AK17*((LOG(AK17))/LOG(2))))","v":0},null,{"$f":"N17","v":12121},{"$f":"COUNTIF(L135:L166,AN17)","v":0},{"$f":"AO17/(AQ4-AO25)","v":0},{"$f":"IF(AP17=0,0,(AP17*((LOG(AP17))/LOG(2))))","v":0},null,{"$f":"N17","v":12121},{"$f":"COUNTIF(L167:L198,AS17)","v":0},{"$f":"AT17/(AV4-AT25)","v":0},{"$f":"IF(AU17=0,0,(AU17*((LOG(AU17))/LOG(2))))","v":0}]
[12,1385,13,1390,13,1395,14,1399,13,1404,0,11111,null,12122,{"$f":"COUNTIF($L$7:$L$500,N18)","v":0},{"$f":"O18/$Q$4","v":0},{"$f":"IF(P18=0,0,(P18*((LOG(P18))/LOG(2))))","v":0},null,null,{"$f":"N18","v":12122},{"$f":"COUNTIF(L7:L38,T18)","v":0},{"$f":"U18/(W4-U25)","v":0},{"$f":"IF(V18=0,0,(V18*((LOG(V18))/LOG(2))))","v":0},null,{"$f":"N18","v":12122},{"$f":"COUNTIF(L39:L70,Y18)","v":0},{"$f":"Z18/(AB4-Z25)","v":0},{"$f":"IF(AA18=0,0,(AA18*((LOG(AA18))/LOG(2))))","v":0},null,{"$f":"N18","v":12122},{"$f":"COUNTIF(L71:L102,AD18)","v":0},{"$f":"AE18/(AG4-AE25)","v":0},{"$f":"IF(AF18=0,0,(AF18*((LOG(AF18))/LOG(2))))","v":0},null,{"$f":"N18","v":12122},{"$f":"COUNTIF(L103:L134,AI18)","v":0},{"$f":"AJ18/(AL4-AJ25)","v":0},{"$f":"IF(AK18=0,0,(AK18*((LOG(AK18))/LOG(2))))","v":0},null,{"$f":"N18","v":12122},{"$f":"COUNTIF(L135:L166,AN18)","v":0},{"$f":"AO18/(AQ4-AO25)","v":0},{"$f":"IF(AP18=0,0,(AP18*((LOG(AP18))/LOG(2))))","v":0},null,{"$f":"N18","v":12122},{"$f":"COUNTIF(L167:L198,AS18)","v":0},{"$f":"AT18/(AV4-AT25)","v":0},{"$f":"IF(AU18=0,0,(AU18*((LOG(AU18))/LOG(2))))","v":0}]
[12,1505,13,1510,13,1514,14,1518,13,1523,0,11111,null,12211,{"$f":"COUNTIF($L$7:$L$500,N19)","v":0},{"$f":"O19/$Q$4","v":0},{"$f":"IF(P19=0,0,(P19*((LOG(P19))/LOG(2))))","v":0},null,null,{"$f":"N19","v":12211},{"$f":"COUNTIF(L7:L38,T19)","v":0},{"$f":"U19/(W4-U25)","v":0},{"$f":"IF(V19=0,0,(V19*((LOG(V19))/LOG(2))))","v":0},null,{"$f":"N19","v":12211},{"$f":"COUNTIF(L39:L70,Y19)","v":0},{"$f":"Z19/(AB4-Z25)","v":0},{"$f":"IF(AA19=0,0,(AA19*((LOG(AA19))/LOG(2))))","v":0},null,{"$f":"N19","v":12211},{"$f":"COUNTIF(L71:L102,AD19)","v":0},{"$f":"AE19/(AG4-AE25)","v":0},{"$f":"IF(AF19=0,0,(AF19*((LOG(AF19))/LOG(2))))","v":0},null,{"$f":"N19","v":12211},{"$f":"COUNTIF(L103:L134,AI19)","v":0},{"$f":"AJ19/(AL4-AJ25)","v":0},{"$f":"IF(AK19=0,0,(AK19*((LOG(AK19))/LOG(2))))","v":0},null,{"$f":"N19","v":12211},{"$f":"COUNTIF(L135:L166,AN19)","v":0},{"$f":"AO19/(AQ4-AO25)","v":0},{"$f":"IF(AP19=0,0,(AP19*((LOG(AP19))/LOG(2))))","v":0},null,{"$f":"N19","v":12211},{"$f":"COUNTIF(L167:L198,AS19)","v":0},{"$f":"AT19/(AV4-AT25)","v":0},{"$f":"IF(AU19=0,0,(AU19*((LOG(AU19))/LOG(2))))","v":0}]
[12,1626,13,1631,13,1635,14,1640,13,1646,1,11111,null,12212,{"$f":"COUNTIF($L$7:$L$500,N20)","v":0},{"$f":"O20/$Q$4","v":0},{"$f":"IF(P20=0,0,(P20*((LOG(P20))/LOG(2))))","v":0},null,null,{"$f":"N20","v":12212},{"$f":"COUNTIF(L7:L38,T20)","v":0},{"$f":"U20/(W4-U25)","v":0},{"$f":"IF(V20=0,0,(V20*((LOG(V20))/LOG(2))))","v":0},null,{"$f":"N20","v":12212},{"$f":"COUNTIF(L39:L70,Y20)","v":0},{"$f":"Z20/(AB4-Z25)","v":0},{"$f":"IF(AA20=0,0,(AA20*((LOG(AA20))/LOG(2))))","v":0},null,{"$f":"N20","v":12212},{"$f":"COUNTIF(L71:L102,AD20)","v":0},{"$f":"AE20/(AG4-AE25)","v":0},{"$f":"IF(AF20=0,0,(AF20*((LOG(AF20))/LOG(2))))","v":0},null,{"$f":"N20","v":12212},{"$f":"COUNTIF(L103:L134,AI20)","v":0},{"$f":"AJ20/(AL4-AJ25)","v":0},{"$f":"IF(AK20=0,0,(AK20*((LOG(AK20))/LOG(2))))","v":0},null,{"$f":"N20","v":12212},{"$f":"COUNTIF(L135:L166,AN20)","v":0},{"$f":"AO20/(AQ4-AO25)","v":0},{"$f":"IF(AP20=0,0,(AP20*((LOG(AP20))/LOG(2))))","v":0},null,{"$f":"N20","v":12212},{"$f":"COUNTIF(L167:L198,AS20)","v":0},{"$f":"AT20/(AV4-AT25)","v":0},{"$f":"IF(AU20=0,0,(AU20*((LOG(AU20))/LOG(2))))","v":0}]
[12,1785,13,1792,13,1799,14,1804,13,1808,0,11111,null,12221,{"$f":"COUNTIF($L$7:$L$500,N21)","v":0},{"$f":"O21/$Q$4","v":0},{"$f":"IF(P21=0,0,(P21*((LOG(P21))/LOG(2))))","v":0},null,null,{"$f":"N21","v":12221},{"$f":"COUNTIF(L7:L38,T21)","v":0},{"$f":"U21/(W4-U25)","v":0},{"$f":"IF(V21=0,0,(V21*((LOG(V21))/LOG(2))))","v":0},null,{"$f":"N21","v":12221},{"$f":"COUNTIF(L39:L70,Y21)","v":0},{"$f":"Z21/(AB4-Z25)","v":0},{"$f":"IF(AA21=0,0,(AA21*((LOG(AA21))/LOG(2))))","v":0},null,{"$f":"N21","v":12221},{"$f":"COUNTIF(L71:L102,AD21)","v":0},{"$f":"AE21/(AG4-AE25)","v":0},{"$f":"IF(AF21=0,0,(AF21*((LOG(AF21))/LOG(2))))","v":0},null,{"$f":"N21","v":12221},{"$f":"COUNTIF(L103:L134,AI21)","v":0},{"$f":"AJ21/(AL4-AJ25)","v":0},{"$f":"IF(AK21=0,0,(AK21*((LOG(AK21))/LOG(2))))","v":0},null,{"$f":"N21","v":12221},{"$f":"COUNTIF(L135:L166,AN21)","v":0},{"$f":"AO21/(AQ4-AO25)","v":0},{"$f":"IF(AP21=0,0,(AP21*((LOG(AP21))/LOG(2))))","v":0},null,{"$f":"N21","v":12221},{"$f":"COUNTIF(L167:L198,AS21)","v":0},{"$f":"AT21/(AV4-AT25)","v":0},{"$f":"IF(AU21=0,0,(AU21*((LOG(AU21))/LOG(2))))","v":0}]
[12,1909,13,1914,13,1918,14,1926,13,1931,0,11111,null,12222,{"$f":"COUNTIF($L$7:$L$500,N22)","v":0},{"$f":"O22/$Q$4","v":0},{"$f":"IF(P22=0,0,(P22*((LOG(P22))/LOG(2))))","v":0},null,null,{"$f":"N22","v":12222},{"$f":"COUNTIF(L7:L38,T22)","v":0},{"$f":"U22/(W4-U25)","v":0},{"$f":"IF(V22=0,0,(V22*((LOG(V22))/LOG(2))))","v":0},null,{"$f":"N22","v":12222},{"$f":"COUNTIF(L39:L70,Y22)","v":0},{"$f":"Z22/(AB4-Z25)","v":0},{"$f":"IF(AA22=0,0,(AA22*((LOG(AA22))/LOG(2))))","v":0},null,{"$f":"N22","v":12222},{"$f":"COUNTIF(L71:L102,AD22)","v":0},{"$f":"AE22/(AG4-AE25)","v":0},{"$f":"IF(AF22=0,0,(AF22*((LOG(AF22))/LOG(2))))","v":0},null,{"$f":"N22","v":12222},{"$f":"COUNTIF(L103:L134,AI22)","v":0},{"$f":"AJ22/(AL4-AJ25)","v":0},{"$f":"IF(AK22=0,0,(AK22*((LOG(AK22))/LOG(2))))","v":0},null,{"$f":"N22","v":12222},{"$f":"COUNTIF(L135:L166,AN22)","v":0},{"$f":"AO22/(AQ4-AO25)","v":0},{"$f":"IF(AP22=0,0,(AP22*((LOG(AP22))/LOG(2))))","v":0},null,{"$f":"N22","v":12222},{"$f":"COUNTIF(L167:L198,AS22)","v":0},{"$f":"AT22/(AV4-AT25)","v":0},{"$f":"IF(AU22=0,0,(AU22*((LOG(AU22))/LOG(2))))","v":0}]
[12,2037,13,2041,13,2046,14,2050,13,2054,0,11111,null,21111,{"$f":"COUNTIF($L$7:$L$500,N23)","v":0},{"$f":"O23/$Q$4","v":0},{"$f":"IF(P23=0,0,(P23*((LOG(P23))/LOG(2))))","v":0},null,null,{"$f":"N23","v":21111},{"$f":"COUNTIF(L7:L38,T23)","v":0},{"$f":"U23/(W4-U25)","v":0},{"$f":"IF(V23=0,0,(V23*((LOG(V23))/LOG(2))))","v":0},null,{"$f":"N23","v":21111},{"$f":"COUNTIF(L39:L70,Y23)","v":0},{"$f":"Z23/(AB4-Z25)","v":0},{"$f":"IF(AA23=0,0,(AA23*((LOG(AA23))/LOG(2))))","v":0},null,{"$f":"N23","v":21111},{"$f":"COUNTIF(L71:L102,AD23)","v":0},{"$f":"AE23/(AG4-AE25)","v":0},{"$f":"IF(AF23=0,0,(AF23*((LOG(AF23))/LOG(2))))","v":0},null,{"$f":"N23","v":21111},{"$f":"COUNTIF(L103:L134,AI23)","v":0},{"$f":"AJ23/(AL4-AJ25)","v":0},{"$f":"IF(AK23=0,0,(AK23*((LOG(AK23))/LOG(2))))","v":0},null,{"$f":"N23","v":21111},{"$f":"COUNTIF(L135:L166,AN23)","v":0},{"$f":"AO23/(AQ4-AO25)","v":0},{"$f":"IF(AP23=0,0,(AP23*((LOG(AP23))/LOG(2))))","v":0},null,{"$f":"N23","v":21111},{"$f":"COUNTIF(L167:L198,AS23)","v":0},{"$f":"AT23/(AV4-AT25)","v":0},{"$f":"IF(AU23=0,0,(AU23*((LOG(AU23))/LOG(2))))","v":0}]
[12,2159,13,2163,13,2167,14,2181,13,2186,0,11111,null,21112,{"$f":"COUNTIF($L$7:$L$500,N24)","v":0},{"$f":"O24/$Q$4","v":0},{"$f":"IF(P24=0,0,(P24*((LOG(P24))/LOG(2))))","v":0},null,null,{"$f":"N24","v":21112},{"$f":"COUNTIF(L7:L38,T24)","v":0},{"$f":"U24/(W4-U25)","v":0},{"$f":"IF(V24=0,0,(V24*((LOG(V24))/LOG(2))))","v":0},null,{"$f":"N24","v":21112},{"$f":"COUNTIF(L39:L70,Y24)","v":0},{"$f":"Z24/(AB4-Z25)","v":0},{"$f":"IF(AA24=0,0,(AA24*((LOG(AA24))/LOG(2))))","v":0},null,{"$f":"N24","v":21112},{"$f":"COUNTIF(L71:L102,AD24)","v":0},{"$f":"AE24/(AG4-AE25)","v":0},{"$f":"IF(AF24=0,0,(AF24*((LOG(AF24))/LOG(2))))","v":0},null,{"$f":"N24","v":21112},{"$f":"COUNTIF(L103:L134,AI24)","v":0},{"$f":"AJ24/(AL4-AJ25)","v":0},{"$f":"IF(AK24=0,0,(AK24*((LOG(AK24))/LOG(2))))","v":0},null,{"$f":"N24","v":21112},{"$f":"COUNTIF(L135:L166,AN24)","v":0},{"$f":"AO24/(AQ4-AO25)","v":0},{"$f":"IF(AP24=0,0,(AP24*((LOG(AP24))/LOG(2))))","v":0},null,{"$f":"N24","v":21112},{"$f":"COUNTIF(L167:L198,AS24)","v":0},{"$f":"AT24/(AV4-AT25)","v":0},{"$f":"IF(AU24=0,0,(AU24*((LOG(AU24))/LOG(2))))","v":0}]
[12,2286,13,2291,13,2295,14,2299,13,2303,0,11111,null,21121,{"$f":"COUNTIF($L$7:$L$500,N25)","v":0},{"$f":"O25/$Q$4","v":0},{"$f":"IF(P25=0,0,(P25*((LOG(P25))/LOG(2))))","v":0},null,null,{"$f":"N25","v":21121},{"$f":"COUNTIF(L7:L38,T25)","v":0},null,null,null,{"$f":"N25","v":21121},{"$f":"COUNTIF(L39:L70,Y25)","v":0},null,null,null,{"$f":"N25","v":21121},{"$f":"COUNTIF(L71:L102,AD25)","v":0},null,null,null,{"$f":"N25","v":21121},{"$f":"COUNTIF(L103:L134,AI25)","v":0},null,null,null,{"$f":"N25","v":21121},{"$f":"COUNTIF(L135:L166,AN25)","v":0},null,null,null,{"$f":"N25","v":21121},{"$f":"COUNTIF(L167:L198,AS25)","v":0}]
[12,2403,13,2408,13,2412,14,2417,13,2433,0,11111,null,21122,{"$f":"COUNTIF($L$7:$L$500,N26)","v":0},{"$f":"O26/$Q$4","v":0},{"$f":"IF(P26=0,0,(P26*((LOG(P26))/LOG(2))))","v":0},null,null,{"$f":"N26","v":21122},{"$f":"COUNTIF(L7:L38,T26)","v":0},{"$f":"U26/(W4-U25)","v":0},{"$f":"IF(V26=0,0,(V26*((LOG(V26))/LOG(2))))","v":0},null,{"$f":"N26","v":21122},{"$f":"COUNTIF(L39:L70,Y26)","v":0},{"$f":"Z26/(AB4-Z25)","v":0},{"$f":"IF(AA26=0,0,(AA26*((LOG(AA26))/LOG(2))))","v":0},null,{"$f":"N26","v":21122},{"$f":"COUNTIF(L71:L102,AD26)","v":0},{"$f":"AE26/(AG4-AE25)","v":0},{"$f":"IF(AF26=0,0,(AF26*((LOG(AF26))/LOG(2))))","v":0},null,{"$f":"N26","v":21122},{"$f":"COUNTIF(L103:L134,AI26)","v":0},{"$f":"AJ26/(AL4-AJ25)","v":0},{"$f":"IF(AK26=0,0,(AK26*((LOG(AK26))/LOG(2))))","v":0},null,{"$f":"N26","v":21122},{"$f":"COUNTIF(L135:L166,AN26)","v":0},{"$f":"AO26/(AQ4-AO25)","v":0},{"$f":"IF(AP26=0,0,(AP26*((LOG(AP26))/LOG(2))))","v":0},null,{"$f":"N26","v":21122},{"$f":"COUNTIF(L167:L198,AS26)","v":0},{"$f":"AT26/(AV4-AT25)","v":0},{"$f":"IF(AU26=0,0,(AU26*((LOG(AU26))/LOG(2))))","v":0}]
[12,2535,13,2539,13,2543,14,2547,13,2551,0,11111,null,21211,{"$f":"COUNTIF($L$7:$L$500,N27)","v":0},{"$f":"O27/$Q$4","v":0},{"$f":"IF(P27=0,0,(P27*((LOG(P27))/LOG(2))))","v":0},null,null,{"$f":"N27","v":21211},{"$f":"COUNTIF(L7:L38,T27)","v":0},{"$f":"U27/(W4-U25)","v":0},{"$f":"IF(V27=0,0,(V27*((LOG(V27))/LOG(2))))","v":0},null,{"$f":"N27","v":21211},{"$f":"COUNTIF(L39:L70,Y27)","v":0},{"$f":"Z27/(AB4-Z25)","v":0},{"$f":"IF(AA27=0,0,(AA27*((LOG(AA27))/LOG(2))))","v":0},null,{"$f":"N27","v":21211},{"$f":"COUNTIF(L71:L102,AD27)","v":0},{"$f":"AE27/(AG4-AE25)","v":0},{"$f":"IF(AF27=0,0,(AF27*((LOG(AF27))/LOG(2))))","v":0},null,{"$f":"N27","v":21211},{"$f":"COUNTIF(L103:L134,AI27)","v":0},{"$f":"AJ27/(AL4-AJ25)","v":0},{"$f":"IF(AK27=0,0,(AK27*((LOG(AK27))/LOG(2))))","v":0},null,{"$f":"N27","v":21211},{"$f":"COUNTIF(L135:L166,AN27)","v":0},{"$f":"AO27/(AQ4-AO25)","v":0},{"$f":"IF(AP27=0,0,(AP27*((LOG(AP27))/LOG(2))))","v":0},null,{"$f":"N27","v":21211},{"$f":"COUNTIF(L167:L198,AS27)","v":0},{"$f":"AT27/(AV4-AT25)","v":0},{"$f":"IF(AU27=0,0,(AU27*((LOG(AU27))/LOG(2))))","v":0}]
[12,2652,13,2656,13,2660,14,2664,13,2668,0,11111,null,21212,{"$f":"COUNTIF($L$7:$L$500,N28)","v":0},{"$f":"O28/$Q$4","v":0},{"$f":"IF(P28=0,0,(P28*((LOG(P28))/LOG(2))))","v":0},null,null,{"$f":"N28","v":21212},{"$f":"COUNTIF(L7:L38,T28)","v":0},{"$f":"U28/(W4-U25)","v":0},{"$f":"IF(V28=0,0,(V28*((LOG(V28))/LOG(2))))","v":0},null,{"$f":"N28","v":21212},{"$f":"COUNTIF(L39:L70,Y28)","v":0},{"$f":"Z28/(AB4-Z25)","v":0},{"$f":"IF(AA28=0,0,(AA28*((LOG(AA28))/LOG(2))))","v":0},null,{"$f":"N28","v":21212},{"$f":"COUNTIF(L71:L102,AD28)","v":0},{"$f":"AE28/(AG4-AE25)","v":0},{"$f":"IF(AF28=0,0,(AF28*((LOG(AF28))/LOG(2))))","v":0},null,{"$f":"N28","v":21212},{"$f":"COUNTIF(L103:L134,AI28)","v":0},{"$f":"AJ28/(AL4-AJ25)","v":0},{"$f":"IF(AK28=0,0,(AK28*((LOG(AK28))/LOG(2))))","v":0},null,{"$f":"N28","v":21212},{"$f":"COUNTIF(L135:L166,AN28)","v":0},{"$f":"AO28/(AQ4-AO25)","v":0},{"$f":"IF(AP28=0,0,(AP28*((LOG(AP28))/LOG(2))))","v":0},null,{"$f":"N28","v":21212},{"$f":"COUNTIF(L167:L198,AS28)","v":0},{"$f":"AT28/(AV4-AT25)","v":0},{"$f":"IF(AU28=0,0,(AU28*((LOG(AU28))/LOG(2))))","v":0}]
[12,2777,13,2781,13,2786,14,2790,13,2795,1,11111,null,21221,{"$f":"COUNTIF($L$7:$L$500,N29)","v":0},{"$f":"O29/$Q$4","v":0},{"$f":"IF(P29=0,0,(P29*((LOG(P29))/LOG(2))))","v":0},null,null,{"$f":"N29","v":21221},{"$f":"COUNTIF(L7:L38,T29)","v":0},{"$f":"U29/(W4-U25)","v":0},{"$f":"IF(V29=0,0,(V29*((LOG(V29))/LOG(2))))","v":0},null,{"$f":"N29","v":21221},{"$f":"COUNTIF(L39:L70,Y29)","v":0},{"$f":"Z29/(AB4-Z25)","v":0},{"$f":"IF(AA29=0,0,(AA29*((LOG(AA29))/LOG(2))))","v":0},null,{"$f":"N29","v":21221},{"$f":"COUNTIF(L71:L102,AD29)","v":0},{"$f":"AE29/(AG4-AE25)","v":0},{"$f":"IF(AF29=0,0,(AF29*((LOG(AF29))/LOG(2))))","v":0},null,{"$f":"N29","v":21221},{"$f":"COUNTIF(L103:L134,AI29)","v":0},{"$f":"AJ29/(AL4-AJ25)","v":0},{"$f":"IF(AK29=0,0,(AK29*((LOG(AK29))/LOG(2))))","v":0},null,{"$f":"N29","v":21221},{"$f":"COUNTIF(L135:L166,AN29)","v":0},{"$f":"AO29/(AQ4-AO25)","v":0},{"$f":"IF(AP29=0,0,(AP29*((LOG(AP29))/LOG(2))))","v":0},null,{"$f":"N29","v":21221},{"$f":"COUNTIF(L167:L198,AS29)","v":0},{"$f":"AT29/(AV4-AT25)","v":0},{"$f":"IF(AU29=0,0,(AU29*((LOG(AU29))/LOG(2))))","v":0}]
[12,2911,13,2915,13,2919,14,2927,13,2932,0,11111,null,21222,{"$f":"COUNTIF($L$7:$L$500,N30)","v":0},{"$f":"O30/$Q$4","v":0},{"$f":"IF(P30=0,0,(P30*((LOG(P30))/LOG(2))))","v":0},null,null,{"$f":"N30","v":21222},{"$f":"COUNTIF(L7:L38,T30)","v":0},{"$f":"U30/(W4-U25)","v":0},{"$f":"IF(V30=0,0,(V30*((LOG(V30))/LOG(2))))","v":0},null,{"$f":"N30","v":21222},{"$f":"COUNTIF(L39:L70,Y30)","v":0},{"$f":"Z30/(AB4-Z25)","v":0},{"$f":"IF(AA30=0,0,(AA30*((LOG(AA30))/LOG(2))))","v":0},null,{"$f":"N30","v":21222},{"$f":"COUNTIF(L71:L102,AD30)","v":0},{"$f":"AE30/(AG4-AE25)","v":0},{"$f":"IF(AF30=0,0,(AF30*((LOG(AF30))/LOG(2))))","v":0},null,{"$f":"N30","v":21222},{"$f":"COUNTIF(L103:L134,AI30)","v":0},{"$f":"AJ30/(AL4-AJ25)","v":0},{"$f":"IF(AK30=0,0,(AK30*((LOG(AK30))/LOG(2))))","v":0},null,{"$f":"N30","v":21222},{"$f":"COUNTIF(L135:L166,AN30)","v":0},{"$f":"AO30/(AQ4-AO25)","v":0},{"$f":"IF(AP30=0,0,(AP30*((LOG(AP30))/LOG(2))))","v":0},null,{"$f":"N30","v":21222},{"$f":"COUNTIF(L167:L198,AS30)","v":0},{"$f":"AT30/(AV4-AT25)","v":0},{"$f":"IF(AU30=0,0,(AU30*((LOG(AU30))/LOG(2))))","v":0}]
[12,3055,13,3059,13,3063,14,3072,13,3081,0,11111,null,22111,{"$f":"COUNTIF($L$7:$L$500,N31)","v":0},{"$f":"O31/$Q$4","v":0},{"$f":"IF(P31=0,0,(P31*((LOG(P31))/LOG(2))))","v":0},null,null,{"$f":"N31","v":22111},{"$f":"COUNTIF(L7:L38,T31)","v":0},{"$f":"U31/(W4-U25)","v":0},{"$f":"IF(V31=0,0,(V31*((LOG(V31))/LOG(2))))","v":0},null,{"$f":"N31","v":22111},{"$f":"COUNTIF(L39:L70,Y31)","v":0},{"$f":"Z31/(AB4-Z25)","v":0},{"$f":"IF(AA31=0,0,(AA31*((LOG(AA31))/LOG(2))))","v":0},null,{"$f":"N31","v":22111},{"$f":"COUNTIF(L71:L102,AD31)","v":0},{"$f":"AE31/(AG4-AE25)","v":0},{"$f":"IF(AF31=0,0,(AF31*((LOG(AF31))/LOG(2))))","v":0},null,{"$f":"N31","v":22111},{"$f":"COUNTIF(L103:L134,AI31)","v":0},{"$f":"AJ31/(AL4-AJ25)","v":0},{"$f":"IF(AK31=0,0,(AK31*((LOG(AK31))/LOG(2))))","v":0},null,{"$f":"N31","v":22111},{"$f":"COUNTIF(L135:L166,AN31)","v":0},{"$f":"AO31/(AQ4-AO25)","v":0},{"$f":"IF(AP31=0,0,(AP31*((LOG(AP31))/LOG(2))))","v":0},null,{"$f":"N31","v":22111},{"$f":"COUNTIF(L167:L198,AS31)","v":0},{"$f":"AT31/(AV4-AT25)","v":0},{"$f":"IF(AU31=0,0,(AU31*((LOG(AU31))/LOG(2))))","v":0}]
[12,3184,13,3188,13,3192,14,3196,13,3204,1,11111,null,22112,{"$f":"COUNTIF($L$7:$L$500,N32)","v":0},{"$f":"O32/$Q$4","v":0},{"$f":"IF(P32=0,0,(P32*((LOG(P32))/LOG(2))))","v":0},null,null,{"$f":"N32","v":22112},{"$f":"COUNTIF(L7:L38,T32)","v":0},{"$f":"U32/(W4-U25)","v":0},{"$f":"IF(V32=0,0,(V32*((LOG(V32))/LOG(2))))","v":0},null,{"$f":"N32","v":22112},{"$f":"COUNTIF(L39:L70,Y32)","v":0},{"$f":"Z32/(AB4-Z25)","v":0},{"$f":"IF(AA32=0,0,(AA32*((LOG(AA32))/LOG(2))))","v":0},null,{"$f":"N32","v":22112},{"$f":"COUNTIF(L71:L102,AD32)","v":0},{"$f":"AE32/(AG4-AE25)","v":0},{"$f":"IF(AF32=0,0,(AF32*((LOG(AF32))/LOG(2))))","v":0},null,{"$f":"N32","v":22112},{"$f":"COUNTIF(L103:L134,AI32)","v":0},{"$f":"AJ32/(AL4-AJ25)","v":0},{"$f":"IF(AK32=0,0,(AK32*((LOG(AK32))/LOG(2))))","v":0},null,{"$f":"N32","v":22112},{"$f":"COUNTIF(L135:L166,AN32)","v":0},{"$f":"AO32/(AQ4-AO25)","v":0},{"$f":"IF(AP32=0,0,(AP32*((LOG(AP32))/LOG(2))))","v":0},null,{"$f":"N32","v":22112},{"$f":"COUNTIF(L167:L198,AS32)","v":0},{"$f":"AT32/(AV4-AT25)","v":0},{"$f":"IF(AU32=0,0,(AU32*((LOG(AU32))/LOG(2))))","v":0}]
[12,3304,13,3308,13,3312,14,3335,13,3341,0,11111,null,22121,{"$f":"COUNTIF($L$7:$L$500,N33)","v":0},{"$f":"O33/$Q$4","v":0},{"$f":"IF(P33=0,0,(P33*((LOG(P33))/LOG(2))))","v":0},null,null,{"$f":"N33","v":22121},{"$f":"COUNTIF(L7:L38,T33)","v":0},{"$f":"U33/(W4-U25)","v":0},{"$f":"IF(V33=0,0,(V33*((LOG(V33))/LOG(2))))","v":0},null,{"$f":"N33","v":22121},{"$f":"COUNTIF(L39:L70,Y33)","v":0},{"$f":"Z33/(AB4-Z25)","v":0},{"$f":"IF(AA33=0,0,(AA33*((LOG(AA33))/LOG(2))))","v":0},null,{"$f":"N33","v":22121},{"$f":"COUNTIF(L71:L102,AD33)","v":0},{"$f":"AE33/(AG4-AE25)","v":0},{"$f":"IF(AF33=0,0,(AF33*((LOG(AF33))/LOG(2))))","v":0},null,{"$f":"N33","v":22121},{"$f":"COUNTIF(L103:L134,AI33)","v":0},{"$f":"AJ33/(AL4-AJ25)","v":0},{"$f":"IF(AK33=0,0,(AK33*((LOG(AK33))/LOG(2))))","v":0},null,{"$f":"N33","v":22121},{"$f":"COUNTIF(L135:L166,AN33)","v":0},{"$f":"AO33/(AQ4-AO25)","v":0},{"$f":"IF(AP33=0,0,(AP33*((LOG(AP33))/LOG(2))))","v":0},null,{"$f":"N33","v":22121},{"$f":"COUNTIF(L167:L198,AS33)","v":0},{"$f":"AT33/(AV4-AT25)","v":0},{"$f":"IF(AU33=0,0,(AU33*((LOG(AU33))/LOG(2))))","v":0}]
[12,3450,13,3455,13,3459,14,3464,13,3469,0,11111,null,22122,{"$f":"COUNTIF($L$7:$L$500,N34)","v":0},{"$f":"O34/$Q$4","v":0},{"$f":"IF(P34=0,0,(P34*((LOG(P34))/LOG(2))))","v":0},null,null,{"$f":"N34","v":22122},{"$f":"COUNTIF(L7:L38,T34)","v":0},{"$f":"U34/(W4-U25)","v":0},{"$f":"IF(V34=0,0,(V34*((LOG(V34))/LOG(2))))","v":0},null,{"$f":"N34","v":22122},{"$f":"COUNTIF(L39:L70,Y34)","v":0},{"$f":"Z34/(AB4-Z25)","v":0},{"$f":"IF(AA34=0,0,(AA34*((LOG(AA34))/LOG(2))))","v":0},null,{"$f":"N34","v":22122},{"$f":"COUNTIF(L71:L102,AD34)","v":0},{"$f":"AE34/(AG4-AE25)","v":0},{"$f":"IF(AF34=0,0,(AF34*((LOG(AF34))/LOG(2))))","v":0},null,{"$f":"N34","v":22122},{"$f":"COUNTIF(L103:L134,AI34)","v":0},{"$f":"AJ34/(AL4-AJ25)","v":0},{"$f":"IF(AK34=0,0,(AK34*((LOG(AK34))/LOG(2))))","v":0},null,{"$f":"N34","v":22122},{"$f":"COUNTIF(L135:L166,AN34)","v":0},{"$f":"AO34/(AQ4-AO25)","v":0},{"$f":"IF(AP34=0,0,(AP34*((LOG(AP34))/LOG(2))))","v":0},null,{"$f":"N34","v":22122},{"$f":"COUNTIF(L167:L198,AS34)","v":0},{"$f":"AT34/(AV4-AT25)","v":0},{"$f":"IF(AU34=0,0,(AU34*((LOG(AU34))/LOG(2))))","v":0}]
[12,3568,13,3573,13,3577,14,3585,13,3590,0,11111,null,22211,{"$f":"COUNTIF($L$7:$L$500,N35)","v":0},{"$f":"O35/$Q$4","v":0},{"$f":"IF(P35=0,0,(P35*((LOG(P35))/LOG(2))))","v":0},null,null,{"$f":"N35","v":22211},{"$f":"COUNTIF(L7:L38,T35)","v":0},{"$f":"U35/(W4-U25)","v":0},{"$f":"IF(V35=0,0,(V35*((LOG(V35))/LOG(2))))","v":0},null,{"$f":"N35","v":22211},{"$f":"COUNTIF(L39:L70,Y35)","v":0},{"$f":"Z35/(AB4-Z25)","v":0},{"$f":"IF(AA35=0,0,(AA35*((LOG(AA35))/LOG(2))))","v":0},null,{"$f":"N35","v":22211},{"$f":"COUNTIF(L71:L102,AD35)","v":0},{"$f":"AE35/(AG4-AE25)","v":0},{"$f":"IF(AF35=0,0,(AF35*((LOG(AF35))/LOG(2))))","v":0},null,{"$f":"N35","v":22211},{"$f":"COUNTIF(L103:L134,AI35)","v":0},{"$f":"AJ35/(AL4-AJ25)","v":0},{"$f":"IF(AK35=0,0,(AK35*((LOG(AK35))/LOG(2))))","v":0},null,{"$f":"N35","v":22211},{"$f":"COUNTIF(L135:L166,AN35)","v":0},{"$f":"AO35/(AQ4-AO25)","v":0},{"$f":"IF(AP35=0,0,(AP35*((LOG(AP35))/LOG(2))))","v":0},null,{"$f":"N35","v":22211},{"$f":"COUNTIF(L167:L198,AS35)","v":0},{"$f":"AT35/(AV4-AT25)","v":0},{"$f":"IF(AU35=0,0,(AU35*((LOG(AU35))/LOG(2))))","v":0}]
[12,3690,13,3694,13,3698,14,3702,13,3706,0,11111,null,22212,{"$f":"COUNTIF($L$7:$L$500,N36)","v":0},{"$f":"O36/$Q$4","v":0},{"$f":"IF(P36=0,0,(P36*((LOG(P36))/LOG(2))))","v":0},null,null,{"$f":"N36","v":22212},{"$f":"COUNTIF(L7:L38,T36)","v":0},{"$f":"U36/(W4-U25)","v":0},{"$f":"IF(V36=0,0,(V36*((LOG(V36))/LOG(2))))","v":0},null,{"$f":"N36","v":22212},{"$f":"COUNTIF(L39:L70,Y36)","v":0},{"$f":"Z36/(AB4-Z25)","v":0},{"$f":"IF(AA36=0,0,(AA36*((LOG(AA36))/LOG(2))))","v":0},null,{"$f":"N36","v":22212},{"$f":"COUNTIF(L71:L102,AD36)","v":0},{"$f":"AE36/(AG4-AE25)","v":0},{"$f":"IF(AF36=0,0,(AF36*((LOG(AF36))/LOG(2))))","v":0},null,{"$f":"N36","v":22212},{"$f":"COUNTIF(L103:L134,AI36)","v":0},{"$f":"AJ36/(AL4-AJ25)","v":0},{"$f":"IF(AK36=0,0,(AK36*((LOG(AK36))/LOG(2))))","v":0},null,{"$f":"N36","v":22212},{"$f":"COUNTIF(L135:L166,AN36)","v":0},{"$f":"AO36/(AQ4-AO25)","v":0},{"$f":"IF(AP36=0,0,(AP36*((LOG(AP36))/LOG(2))))","v":0},null,{"$f":"N36","v":22212},{"$f":"COUNTIF(L167:L198,AS36)","v":0},{"$f":"AT36/(AV4-AT25)","v":0},{"$f":"IF(AU36=0,0,(AU36*((LOG(AU36))/LOG(2))))","v":0}]
[12,3806,13,3810,13,3814,14,3817,13,3822,0,11111,null,22221,{"$f":"COUNTIF($L$7:$L$500,N37)","v":0},{"$f":"O37/$Q$4","v":0},{"$f":"IF(P37=0,0,(P37*((LOG(P37))/LOG(2))))","v":0},null,null,{"$f":"N37","v":22221},{"$f":"COUNTIF(L7:L38,T37)","v":0},{"$f":"U37/(W4-U25)","v":0},{"$f":"IF(V37=0,0,(V37*((LOG(V37))/LOG(2))))","v":0},null,{"$f":"N37","v":22221},{"$f":"COUNTIF(L39:L70,Y37)","v":0},{"$f":"Z37/(AB4-Z25)","v":0},{"$f":"IF(AA37=0,0,(AA37*((LOG(AA37))/LOG(2))))","v":0},null,{"$f":"N37","v":22221},{"$f":"COUNTIF(L71:L102,AD37)","v":0},{"$f":"AE37/(AG4-AE25)","v":0},{"$f":"IF(AF37=0,0,(AF37*((LOG(AF37))/LOG(2))))","v":0},null,{"$f":"N37","v":22221},{"$f":"COUNTIF(L103:L134,AI37)","v":0},{"$f":"AJ37/(AL4-AJ25)","v":0},{"$f":"IF(AK37=0,0,(AK37*((LOG(AK37))/LOG(2))))","v":0},null,{"$f":"N37","v":22221},{"$f":"COUNTIF(L135:L166,AN37)","v":0},{"$f":"AO37/(AQ4-AO25)","v":0},{"$f":"IF(AP37=0,0,(AP37*((LOG(AP37))/LOG(2))))","v":0},null,{"$f":"N37","v":22221},{"$f":"COUNTIF(L167:L198,AS37)","v":0},{"$f":"AT37/(AV4-AT25)","v":0},{"$f":"IF(AU37=0,0,(AU37*((LOG(AU37))/LOG(2))))","v":0}]
[12,3926,13,3930,13,3934,14,3938,13,3946,1,11111,null,22222,{"$f":"COUNTIF($L$7:$L$500,N38)","v":5},{"$f":"O38/$Q$4","v":2.6041666666666668E-2},{"$f":"IF(P38=0,0,(P38*((LOG(P38))/LOG(2))))","v":-0.13705818765192171},null,null,{"$f":"N38","v":22222},{"$f":"COUNTIF(L7:L38,T38)","v":0},{"$f":"U38/(W4-U25)","v":0},{"$f":"IF(V38=0,0,(V38*((LOG(V38))/LOG(2))))","v":0},null,{"$f":"N38","v":22222},{"$f":"COUNTIF(L39:L70,Y38)","v":0},{"$f":"Z38/(AB4-Z25)","v":0},{"$f":"IF(AA38=0,0,(AA38*((LOG(AA38))/LOG(2))))","v":0},null,{"$f":"N38","v":22222},{"$f":"COUNTIF(L71:L102,AD38)","v":0},{"$f":"AE38/(AG4-AE25)","v":0},{"$f":"IF(AF38=0,0,(AF38*((LOG(AF38))/LOG(2))))","v":0},null,{"$f":"N38","v":22222},{"$f":"COUNTIF(L103:L134,AI38)","v":0},{"$f":"AJ38/(AL4-AJ25)","v":0},{"$f":"IF(AK38=0,0,(AK38*((LOG(AK38))/LOG(2))))","v":0},null,{"$f":"N38","v":22222},{"$f":"COUNTIF(L135:L166,AN38)","v":3},{"$f":"AO38/(AQ4-AO25)","v":9.375E-2},{"$f":"IF(AP38=0,0,(AP38*((LOG(AP38))/LOG(2))))","v":-0.32015976555739156},null,{"$f":"N38","v":22222},{"$f":"COUNTIF(L167:L198,AS38)","v":2},{"$f":"AT38/(AV4-AT25)","v":6.25E-2},{"$f":"IF(AU38=0,0,(AU38*((LOG(AU38))/LOG(2))))","v":-0.25}]
[12,4064,13,4068,13,4072,14,4077,13,4082,1,11111,null,null,null,{"$f":"SUM(P7:P38)","v":1},{"$f":"-SUM(Q7:Q38)","v":0.17413487325540161},null,null,null,null,{"$f":"SUM(V7:V38)","v":1},{"$f":"-SUM(W7:W38)","v":0},null,null,null,{"$f":"SUM(AA7:AA38)","v":1},{"$f":"-SUM(AB7:AB38)","v":0},null,null,null,{"$f":"SUM(AF7:AF38)","v":1},{"$f":"-SUM(AG7:AG38)","v":0},null,null,null,{"$f":"SUM(AK7:AK38)","v":1},{"$f":"-SUM(AL7:AL38)","v":0},null,null,null,{"$f":"SUM(AP7:AP38)","v":1},{"$f":"-SUM(AQ7:AQ38)","v":0.44886448872302931},null,null,null,{"$f":"SUM(AU7:AU38)","v":1},{"$f":"-SUM(AV7:AV38)","v":0.33729006661701388}]
[12,4180,13,4184,13,4188,14,4196,13,4200,0,11111,null,null,null,"U=",{"$f":"Q39/(LOG(Q4)/LOG(2))","v":2.2957908261094947E-2},null,null,null,null,"U1=",{"$f":"W39/(LOG(W4)/LOG(2))","v":0},null,null,null,"U2=",{"$f":"AB39/(LOG(AB4)/LOG(2))","v":0},null,null,null,"U3=",{"$f":"AG39/(LOG(AG4)/LOG(2))","v":0},null,null,null,"U4=",{"$f":"AL39/(LOG(AL4)/LOG(2))","v":0},null,null,null,"U5=",{"$f":"AQ39/(LOG(AQ4)/LOG(2))","v":8.9772897744605867E-2},null,null,null,"U6=",{"$f":"AV39/(LOG(AV4)/LOG(2))","v":6.7458013323402774E-2}]
[12,4302,13,4307,13,4311,14,4316,13,4320,0,11111]
[12,4425,13,4429,13,4433,14,4437,13,4442,1,11111]
[12,4548,13,4553,13,4557,14,4562,13,4566,0,11111,null,"Total Target Seq"]
[12,4667,13,4671,13,4676,14,4680,13,4686,0,11111,null,{"$f":"COUNTIF(L7:L198,G3)","v":0},null,32,32,32,32,32,32]
[12,4793,13,4797,13,4801,14,4806,13,4810,0,11111,null,null,null,"% of reinforcement given in 6 equal intervals based on number of trials "]
[12,4917,13,4921,13,4925,14,4930,13,4938,0,11111,null,null,null,"%_1","%_2","%_3","%_4","%_5","%_6"]
[12,5041,13,5045,13,5049,14,5053,13,5057,1,11111,null,null,"target sequence",{"$f":"$G$3","v":21121},{"$f":"$G$3","v":21121},{"$f":"$G$3","v":21121},{"$f":"$G$3","v":21121},{"$f":"$G$3","v":21121},{"$f":"$G$3","v":21121}]
[12,5156,13,5164,13,5168,14,5173,13,5179,0,11111,null,null,"total reinforcement",{"$f":"U25","v":0},{"$f":"Z25","v":0},{"$f":"AE25","v":0},{"$f":"AJ25","v":0},{"$f":"AO25","v":0},{"$f":"AT25","v":0}]
[12,5278,13,5283,13,5287,14,5290,13,5295,0,11111,null,null,"% target"]
[12,5396,13,5401,13,5405,14,5409,13,5413,0,11111,null,null,"CCRF"]
[12,5513,13,5518,13,5522,14,5526,13,5530,0,11111,null,null,"% CCRf"]
[12,5634,13,5640,13,5645,14,5650,13,5657,0,11111,null,null,"average response rate",{"$f":"J38/P44","v":123.3125},{"$f":"(J70-J38)/Q44","v":122.21875},{"$f":"(J102-J70)/R44","v":123.9375},{"$f":"(J134-J102)/S44","v":124.34375},{"$f":"(J166-J134)/T44","v":131.28125},{"$f":"(J198-J166)/U44","v":124.25}]
[12,5758,13,5763,13,5767,14,5771,13,5780,0,11111]
[12,5885,13,5890,13,5894,14,5899,13,5903,0,11111]
[12,6003,13,6007,13,6011,14,6015,13,6019,1,11111]
[12,6124,13,6128,13,6132,14,6136,13,6140,0,11111]
[12,6241,13,6245,13,6250,14,6255,13,6265,0,11111]
[12,6364,13,6368,13,6373,14,6376,13,6396,0,11111]
[12,6497,13,6502,13,6505,14,6509,13,6514,0,11111]
[12,6613,13,6617,13,6624,14,6628,13,6632,0,11111]
[12,6731,13,6739,13,6743,14,6747,13,6752,0,11111]
[12,6858,13,6862,13,6867,14,6871,13,6877,0,11111]
[12,6977,13,6983,13,6987,14,6992,13,7001,0,11111]
[12,7102,13,7106,13,7110,14,7114,13,7118,0,11111]
[12,7219,13,7224,13,7227,14,7231,13,7235,0,11111]
[12,7335,13,7342,13,7346,14,7351,13,7355,0,11111]
[12,7463,13,7467,13,7472,14,7477,13,7482,1,11111]
[12,7594,13,7598,13,7603,14,7608,13,7613,0,11111]
[12,7714,13,7724,13,7728,14,7732,13,7738,0,11111]
[12,7837,13,7841,13,7849,14,7852,13,7857,0,11111]
[12,7962,13,7966,13,7970,14,7973,13,7978,0,11111]
[12,8084,13,8089,13,8093,14,8097,13,8101,0,11111]
[12,8204,13,8208,13,8212,14,8216,13,8220,0,11111]
[12,8327,13,8331,13,8336,14,8340,13,8347,0,11111]
[12,8449,13,8453,13,8456,14,8460,13,8469,1,11111]
[12,8579,13,8584,13,8592,14,8598,13,8605,0,11111]
[12,8740,13,8744,13,8750,14,8755,13,8759,0,11111]
[12,8860,13,8863,13,8867,14,8871,13,8875,0,11111]
[12,8975,13,8979,13,8984,14,8988,13,8992,0,11111]
[12,9103,13,9110,13,9114,14,9118,13,9123,0,11111]
[12,9225,13,9230,13,9234,14,9238,13,9241,0,11111]
[12,9342,13,9348,13,9355,14,9360,13,9364,0,11111]
[12,9486,13,9489,13,9493,14,9497,13,9504,0,11111]
[12,9605,13,9609,13,9612,14,9616,13,9621,0,11111]
[12,9721,13,9725,13,9729,14,9733,13,9738,0,11111]
[12,9839,13,9844,13,9848,14,9852,13,9856,0,11111]
[12,9960,13,9964,13,9968,14,9976,13,9999,1,11111]
[12,10094,13,10098,13,10102,14,10106,13,10110,0,11111]
[12,10209,13,10215,13,10218,14,10222,13,10226,0,11111]
[12,10328,13,10332,13,10335,14,10339,13,10364,1,11111]
[12,10462,13,10470,13,10474,14,10479,13,10485,0,11111]
[12,10586,13,10590,13,10594,14,10598,13,10602,0,11111]
[12,10710,13,10714,13,10717,14,10721,13,10725,0,11111]
[12,10827,13,10833,13,10837,14,10840,13,10844,1,11111]
[12,10949,13,10953,13,10958,14,10963,13,10977,1,11111]
[12,11072,13,11076,13,11080,14,11084,13,11088,0,11111]
[12,11188,13,11192,13,11196,14,11199,13,11203,0,11111]
[12,11304,13,11308,13,11315,14,11319,13,11323,0,11111]
[12,11446,13,11453,13,11458,14,11463,13,11475,0,11111]
[12,11577,13,11581,13,11585,14,11589,13,11593,1,11111]
[12,11693,13,11697,13,11701,14,11707,13,11712,1,11111]
[12,11807,13,11811,13,11815,14,11819,13,11823,0,11111]
[12,11923,13,11927,13,11931,14,11935,13,11940,0,11111]
[12,12040,13,12044,13,12048,14,12052,13,12057,0,11111]
[12,12157,13,12161,13,12165,14,12169,13,12174,0,11111]
[12,12273,13,12277,13,12282,14,12286,13,12290,0,11111]
[12,12391,13,12395,13,12399,14,12402,13,12406,1,11111]
[12,12506,13,12514,13,12519,14,12529,13,12535,0,11111]
[12,12635,13,12640,13,12644,14,12648,13,12652,0,11111]
[12,12756,13,12761,13,12765,14,12769,13,12774,0,11111]
[12,12886,13,12895,13,12900,14,12905,13,12911,0,11111]
[12,13013,13,13018,13,13022,14,13027,13,13032,0,11111]
[12,13133,13,13137,13,13140,14,13144,13,13148,1,11111]
[12,13250,13,13254,13,13259,14,13274,13,13302,0,11111]
[12,13403,13,13406,13,13410,14,13414,13,13418,0,11111]
[12,13520,13,13523,13,13527,14,13535,13,13549,0,11111]
[12,13653,13,13660,13,13665,14,13673,13,13679,1,11111]
[12,13786,13,13793,13,13797,14,13802,13,13813,0,11111]
[12,13915,13,13921,13,13925,14,13929,13,13933,0,11111]
[12,14034,13,14041,13,14045,14,14053,13,14071,0,11111]
[12,14175,13,14180,13,14183,14,14187,13,14191,0,11111]
[12,14294,13,14302,13,14306,14,14324,13,14329,0,11111]
[12,14432,13,14436,13,14440,14,14443,13,14447,0,11111]
[12,14552,13,14556,13,14560,14,14564,13,14568,0,11111]
[12,14673,13,14677,13,14681,14,14685,13,14689,0,11111]
[12,14790,13,14794,13,14798,14,14803,13,14811,0,11111]
[12,14928,13,14932,13,14938,14,14942,13,14947,0,11111]
[12,15051,13,15055,13,15058,14,15063,13,15071,0,11111]
[12,15171,13,15176,13,15179,14,15183,13,15195,1,11111]
[12,15290,13,15295,13,15298,14,15302,13,15307,0,11111]
[12,15417,13,15421,13,15425,14,15434,13,15439,0,11111]
[12,15545,13,15548,13,15552,14,15557,13,15566,0,11111]
[12,15668,13,15672,13,15677,14,15681,13,15685,0,11111]
[12,15786,13,15790,13,15794,14,15798,13,15802,0,11111]
[12,15906,13,15911,13,15915,14,15920,13,15928,1,11111]
[12,16023,13,16028,13,16032,14,16036,13,16045,0,11111]
[12,16150,13,16155,13,16159,14,16167,13,16171,0,11111]
[12,16277,13,16281,13,16289,14,16295,13,16300,0,11111]
[12,16401,13,16405,13,16408,14,16412,13,16416,1,11111]
[12,16516,13,16524,13,16529,14,16537,13,16546,0,11111]
[12,16647,13,16651,13,16654,14,16658,13,16662,0,11111]
[12,16766,13,16770,13,16773,14,16777,13,16782,1,11111]
[12,16880,13,16888,13,16892,14,16897,13,16902,0,11111]
[12,17010,13,17014,13,17017,14,17021,13,17026,0,11111]
[12,17127,13,17131,13,17134,14,17139,13,17142,0,11111]
[12,17245,13,17249,13,17253,14,17257,13,17264,0,11111]
[12,17365,13,17369,13,17373,14,17376,13,17380,1,11111]
[12,17497,13,17502,13,17506,14,17512,13,17521,0,11111]
[12,17622,13,17626,13,17630,14,17635,13,17639,0,11111]
[12,17739,13,17743,13,17747,14,17751,13,17755,1,11111]
[12,17859,13,17863,13,17867,14,17872,13,17877,0,11111]
[12,17977,13,17981,13,17984,14,17988,13,17992,0,11111]
[12,18125,13,18131,13,18136,14,18141,13,18150,0,11111]
[21,18290,22,18297,24,18304,23,18311,24,18320,0,22222]
[12,18437,13,18441,13,18449,14,18457,13,18461,0,11111]
[21,18570,22,18575,24,18579,23,18589,24,18597,0,22222]
[21,18862,22,18867,24,18871,23,18876,24,18881,1,22222]
[12,18981,13,18986,13,18990,14,18999,13,19006,0,11111]
[12,19125,13,19129,13,19133,14,19137,13,19142,1,11111]
[12,19241,13,19245,13,19249,14,19253,13,19257,1,11111]
[12,19360,13,19365,13,19369,14,19376,13,19381,0,11111]
[12,19490,13,19494,13,19498,14,19503,13,19507,1,11111]
[12,19613,13,19621,13,19625,14,19639,13,19645,0,11111]
[12,19747,13,19751,13,19755,14,19760,13,19765,0,11111]
[12,19865,13,19869,13,19872,14,19877,13,19881,0,11111]
[12,19983,13,19987,13,19995,14,19999,13,20003,0,11111]
[12,20107,13,20115,13,20119,14,20123,13,20129,0,11111]
[12,20231,13,20235,13,20239,14,20243,13,20247,1,11111]
[12,20352,13,20361,13,20365,14,20371,13,20378,0,11111]
[12,20487,13,20490,13,20494,14,20498,13,20503,0,11111]
[12,20615,13,20620,13,20624,14,20628,13,20633,0,11111]
[12,20735,13,20739,13,20742,14,20747,13,20752,0,11111]
[12,20855,13,20860,13,20864,14,20869,13,20874,0,11111]
[12,20974,13,20978,13,20983,14,20987,13,20993,0,11111]
[12,21094,13,21098,13,21102,14,21107,13,21112,0,11111]
[21,21216,22,21224,24,21228,23,21235,24,21243,1,22222]
[12,21340,13,21344,13,21348,14,21352,13,21357,0,11111]
[12,21466,13,21471,13,21475,14,21479,13,21483,0,11111]
[12,21590,13,21598,13,21603,14,21606,13,21611,0,11111]
[12,21714,13,21717,13,21721,14,21725,13,21733,0,11111]
[12,21837,13,21842,13,21847,14,21851,13,21855,0,11111]
[12,21955,13,21959,13,21963,14,21967,13,21972,1,11111]
[12,22073,13,22077,13,22081,14,22087,13,22091,0,11111]
[12,22191,13,22195,13,22199,14,22203,13,22207,0,11111]
[12,22314,13,22319,13,22323,14,22327,13,22333,0,11111]
[12,22436,13,22440,13,22444,14,22449,13,22453,0,11111]
[12,22570,13,22574,13,22579,14,22585,13,22593,0,11111]
[12,22692,13,22702,13,22706,14,22719,13,22728,0,11111]
[12,22836,13,22848,13,22852,14,22857,13,22866,0,11111]
[12,22968,13,22972,13,22975,14,22979,13,22984,1,11111]
[21,23095,22,23103,24,23107,23,23116,24,23125,0,22222]
[12,23231,13,23235,13,23239,14,23243,13,23248,0,11111]
[12,23353,13,23358,13,23366,14,23370,13,23374,0,11111]
[12,23476,13,23480,13,23484,14,23488,13,23492,0,11111]
[12,23605,13,23609,13,23613,14,23618,13,23623,0,11111]
[12,23726,13,23730,13,23734,14,23738,13,23743,0,11111]
[12,23845,13,23849,13,23853,14,23857,13,23862,0,11111]
[12,23962,13,23966,13,23970,14,23974,13,23979,null,11111]

{"sheet":"!MC24930.010","index":26,"n_rows":203,"n_cols":48,"rows_kept":203,"cut":false,"hidden":false,"merged":[[4,39,4,42],[5,39,5,40],[4,44,4,47],[5,44,5,45],[4,24,4,27],[5,24,5,25],[4,29,4,32],[5,29,5,30],[4,34,4,37],[5,34,5,35],[1,1,1,2],[5,13,5,14],[42,13,42,14],[43,13,43,14],[4,19,4,22],[5,19,5,20]]}
["Report for:!MC24930.010"]
["Date:","<date>"]
["Hen:","<hen>",null,null,null,"Correct Sequence",{"$f":"Start!J2","v":21121},null,null,null,null,null,null,null,null,"Total Sequences in Data",{"$f":"4994-COUNTBLANK(L7:L5000)","v":197},null,null,null,null,"Total Sequences in Block Data",{"$f":"COUNTA(L7:L39)","v":33},null,null,null,"Total Sequences in Block Data",{"$f":"COUNTA(L40:L72)","v":33},null,null,null,"Total Sequences in Block Data",{"$f":"COUNTA(L73:L104)","v":32},null,null,null,"Total Sequences in Block Data",{"$f":"COUNTA(L105:L137)","v":33},null,null,null,"Total Sequences in Block Data",{"$f":"COUNTA(L138:L170)","v":33},null,null,null,"Total Sequences in Block Data",{"$f":"COUNTA(L171:L203)","v":33}]
[null,null,null,null,null,null,null,null,null,null,null,null,null,null,null,"Total Sequences in Summary",{"$f":"SUM(O7:O38)","v":197},null,null,null,null,"Total Sequences in Block Summary",{"$f":"SUM(U7:U38)","v":33},null,null,null,"Total Sequences in Block Summary",{"$f":"SUM(Z7:Z38)","v":33},null,null,null,"Total Sequences in Block Summary",{"$f":"SUM(AE7:AE38)","v":32},null,null,null,"Total Sequences in Block Summary",{"$f":"SUM(AJ7:AJ38)","v":33},null,null,null,"Total Sequences in Block Summary",{"$f":"SUM(AO7:AO38)","v":33},null,null,null,"Total Sequences in Block Summary",{"$f":"SUM(AT7:AT38)","v":33}]
[null,null,null,null,null,null,null,null,null,null,null,null,null,null,null,null,null,null,null,"Block 1",null,null,null,null,"Block 2",null,null,null,null,"Block 3",null,null,null,null,"Block 4",null,null,null,null,"Block 5",null,null,null,null,"Block 6"]
["Sequence\nComponent\n1","Time\n1","Sequence\nComponent\n2","Time\n2","Sequence\nComponent\n3","Time\n3","Sequence\nComponent\n4","Time\n4","Sequence\nComponent\n5","Time\n5","Correct?\n0=No 1=Yes","Sequence",null,"Frequency",null,"Relative Frequency","Variability",null,null,"Frequency",null,"Relative Frequency","Variability",null,"Frequency",null,"Relative Frequency","Variability",null,"Frequency",null,"Relative Frequency","Variability",null,"Frequency",null,"Relative Frequency","Variability",null,"Frequency",null,"Relative Frequency","Variability",null,"Frequency",null,"Relative Frequency","Variability"]
[12,94,13,99,13,103,14,108,13,112,0,11111,null,11111,{"$f":"COUNTIF($L$7:$L$500,N7)","v":197},{"$f":"O7/$Q$4","v":1},{"$f":"IF(P7=0,0,(P7*((LOG(P7))/LOG(2))))","v":0},null,null,{"$f":"N7","v":11111},{"$f":"COUNTIF(L7:L39,T7)","v":33},{"$f":"U7/(W4-U25)","v":1},{"$f":"IF(V7=0,0,(V7*((LOG(V7))/LOG(2))))","v":0},null,{"$f":"N7","v":11111},{"$f":"COUNTIF(L40:L72,Y7)","v":33},{"$f":"Z7/(AB4-Z25)","v":1},{"$f":"IF(AA7=0,0,(AA7*((LOG(AA7))/LOG(2))))","v":0},null,{"$f":"N7","v":11111},{"$f":"COUNTIF(L73:L104,AD7)","v":32},{"$f":"AE7/(AG4-AE25)","v":1},{"$f":"IF(AF7=0,0,(AF7*((LOG(AF7))/LOG(2))))","v":0},null,{"$f":"N7","v":11111},{"$f":"COUNTIF(L105:L137,AI7)","v":33},{"$f":"AJ7/(AL4-AJ25)","v":1},{"$f":"IF(AK7=0,0,(AK7*((LOG(AK7))/LOG(2))))","v":0},null,{"$f":"N7","v":11111},{"$f":"COUNTIF(L138:L170,AN7)","v":33},{"$f":"AO7/(AQ4-AO25)","v":1},{"$f":"IF(AP7=0,0,(AP7*((LOG(AP7))/LOG(2))))","v":0},null,{"$f":"N7","v":11111},{"$f":"COUNTIF(L171:L203,AS7)","v":33},{"$f":"AT7/(AV4-AT25)","v":1},{"$f":"IF(AU7=0,0,(AU7*((LOG(AU7))/LOG(2))))","v":0}]
[12,219,13,224,13,228,14,233,13,237,0,11111,null,11112,{"$f":"COUNTIF($L$7:$L$500,N8)","v":0},{"$f":"O8/$Q$4","v":0},{"$f":"IF(P8=0,0,(P8*((LOG(P8))/LOG(2))))","v":0},null,null,{"$f":"N8","v":11112},{"$f":"COUNTIF(L7:L39,T8)","v":0},{"$f":"U8/(W4-U25)","v":0},{"$f":"IF(V8=0,0,(V8*((LOG(V8))/LOG(2))))","v":0},null,{"$f":"N8","v":11112},{"$f":"COUNTIF(L40:L72,Y8)","v":0},{"$f":"Z8/(AB4-Z25)","v":0},{"$f":"IF(AA8=0,0,(AA8*((LOG(AA8))/LOG(2))))","v":0},null,{"$f":"N8","v":11112},{"$f":"COUNTIF(L73:L104,AD8)","v":0},{"$f":"AE8/(AG4-AE25)","v":0},{"$f":"IF(AF8=0,0,(AF8*((LOG(AF8))/LOG(2))))","v":0},null,{"$f":"N8","v":11112},{"$f":"COUNTIF(L105:L137,AI8)","v":0},{"$f":"AJ8/(AL4-AJ25)","v":0},{"$f":"IF(AK8=0,0,(AK8*((LOG(AK8))/LOG(2))))","v":0},null,{"$f":"N8","v":11112},{"$f":"COUNTIF(L138:L170,AN8)","v":0},{"$f":"AO8/(AQ4-AO25)","v":0},{"$f":"IF(AP8=0,0,(AP8*((LOG(AP8))/LOG(2))))","v":0},null,{"$f":"N8","v":11112},{"$f":"COUNTIF(L171:L203,AS8)","v":0},{"$f":"AT8/(AV4-AT25)","v":0},{"$f":"IF(AU8=0,0,(AU8*((LOG(AU8))/LOG(2))))","v":0}]
[12,345,13,350,13,354,14,358,13,362,0,11111,null,11121,{"$f":"COUNTIF($L$7:$L$500,N9)","v":0},{"$f":"O9/$Q$4","v":0},{"$f":"IF(P9=0,0,(P9*((LOG(P9))/LOG(2))))","v":0},null,null,{"$f":"N9","v":11121},{"$f":"COUNTIF(L7:L39,T9)","v":0},{"$f":"U9/(W4-U25)","v":0},{"$f":"IF(V9=0,0,(V9*((LOG(V9))/LOG(2))))","v":0},null,{"$f":"N9","v":11121},{"$f":"COUNTIF(L40:L72,Y9)","v":0},{"$f":"Z9/(AB4-Z25)","v":0},{"$f":"IF(AA9=0,0,(AA9*((LOG(AA9))/LOG(2))))","v":0},null,{"$f":"N9","v":11121},{"$f":"COUNTIF(L73:L104,AD9)","v":0},{"$f":"AE9/(AG4-AE25)","v":0},{"$f":"IF(AF9=0,0,(AF9*((LOG(AF9))/LOG(2))))","v":0},null,{"$f":"N9","v":11121},{"$f":"COUNTIF(L105:L137,AI9)","v":0},{"$f":"AJ9/(AL4-AJ25)","v":0},{"$f":"IF(AK9=0,0,(AK9*((LOG(AK9))/LOG(2))))","v":0},null,{"$f":"N9","v":11121},{"$f":"COUNTIF(L138:L170,AN9)","v":0},{"$f":"AO9/(AQ4-AO25)","v":0},{"$f":"IF(AP9=0,0,(AP9*((LOG(AP9))/LOG(2))))","v":0},null,{"$f":"N9","v":11121},{"$f":"COUNTIF(L171:L203,AS9)","v":0},{"$f":"AT9/(AV4-AT25)","v":0},{"$f":"IF(AU9=0,0,(AU9*((LOG(AU9))/LOG(2))))","v":0}]
[12,466,13,471,13,479,14,483,13,489,0,11111,null,11122,{"$f":"COUNTIF($L$7:$L$500,N10)","v":0},{"$f":"O10/$Q$4","v":0},{"$f":"IF(P10=0,0,(P10*((LOG(P10))/LOG(2))))","v":0},null,null,{"$f":"N10","v":11122},{"$f":"COUNTIF(L7:L39,T10)","v":0},{"$f":"U10/(W4-U25)","v":0},{"$f":"IF(V10=0,0,(V10*((LOG(V10))/LOG(2))))","v":0},null,{"$f":"N10","v":11122},{"$f":"COUNTIF(L40:L72,Y10)","v":0},{"$f":"Z10/(AB4-Z25)","v":0},{"$f":"IF(AA10=0,0,(AA10*((LOG(AA10))/LOG(2))))","v":0},null,{"$f":"N10","v":11122},{"$f":"COUNTIF(L73:L104,AD10)","v":0},{"$f":"AE10/(AG4-AE25)","v":0},{"$f":"IF(AF10=0,0,(AF10*((LOG(AF10))/LOG(2))))","v":0},null,{"$f":"N10","v":11122},{"$f":"COUNTIF(L105:L137,AI10)","v":0},{"$f":"AJ10/(AL4-AJ25)","v":0},{"$f":"IF(AK10=0,0,(AK10*((LOG(AK10))/LOG(2))))","v":0},null,{"$f":"N10","v":11122},{"$f":"COUNTIF(L138:L170,AN10)","v":0},{"$f":"AO10/(AQ4-AO25)","v":0},{"$f":"IF(AP10=0,0,(AP10*((LOG(AP10))/LOG(2))))","v":0},null,{"$f":"N10","v":11122},{"$f":"COUNTIF(L171:L203,AS10)","v":0},{"$f":"AT10/(AV4-AT25)","v":0},{"$f":"IF(AU10=0,0,(AU10*((LOG(AU10))/LOG(2))))","v":0}]
[12,602,13,606,13,610,14,614,13,618,0,11111,null,11211,{"$f":"COUNTIF($L$7:$L$500,N11)","v":0},{"$f":"O11/$Q$4","v":0},{"$f":"IF(P11=0,0,(P11*((LOG(P11))/LOG(2))))","v":0},null,null,{"$f":"N11","v":11211},{"$f":"COUNTIF(L7:L39,T11)","v":0},{"$f":"U11/(W4-U25)","v":0},{"$f":"IF(V11=0,0,(V11*((LOG(V11))/LOG(2))))","v":0},null,{"$f":"N11","v":11211},{"$f":"COUNTIF(L40:L72,Y11)","v":0},{"$f":"Z11/(AB4-Z25)","v":0},{"$f":"IF(AA11=0,0,(AA11*((LOG(AA11))/LOG(2))))","v":0},null,{"$f":"N11","v":11211},{"$f":"COUNTIF(L73:L104,AD11)","v":0},{"$f":"AE11/(AG4-AE25)","v":0},{"$f":"IF(AF11=0,0,(AF11*((LOG(AF11))/LOG(2))))","v":0},null,{"$f":"N11","v":11211},{"$f":"COUNTIF(L105:L137,AI11)","v":0},{"$f":"AJ11/(AL4-AJ25)","v":0},{"$f":"IF(AK11=0,0,(AK11*((LOG(AK11))/LOG(2))))","v":0},null,{"$f":"N11","v":11211},{"$f":"COUNTIF(L138:L170,AN11)","v":0},{"$f":"AO11/(AQ4-AO25)","v":0},{"$f":"IF(AP11=0,0,(AP11*((LOG(AP11))/LOG(2))))","v":0},null,{"$f":"N11","v":11211},{"$f":"COUNTIF(L171:L203,AS11)","v":0},{"$f":"AT11/(AV4-AT25)","v":0},{"$f":"IF(AU11=0,0,(AU11*((LOG(AU11))/LOG(2))))","v":0}]
[12,718,13,723,13,727,14,731,13,735,1,11111,null,11212,{"$f":"COUNTIF($L$7:$L$500,N12)","v":0},{"$f":"O12/$Q$4","v":0},{"$f":"IF(P12=0,0,(P12*((LOG(P12))/LOG(2))))","v":0},null,null,{"$f":"N12","v":11212},{"$f":"COUNTIF(L7:L39,T12)","v":0},{"$f":"U12/(W4-U25)","v":0},{"$f":"IF(V12=0,0,(V12*((LOG(V12))/LOG(2))))","v":0},null,{"$f":"N12","v":11212},{"$f":"COUNTIF(L40:L72,Y12)","v":0},{"$f":"Z12/(AB4-Z25)","v":0},{"$f":"IF(AA12=0,0,(AA12*((LOG(AA12))/LOG(2))))","v":0},null,{"$f":"N12","v":11212},{"$f":"COUNTIF(L73:L104,AD12)","v":0},{"$f":"AE12/(AG4-AE25)","v":0},{"$f":"IF(AF12=0,0,(AF12*((LOG(AF12))/LOG(2))))","v":0},null,{"$f":"N12","v":11212},{"$f":"COUNTIF(L105:L137,AI12)","v":0},{"$f":"AJ12/(AL4-AJ25)","v":0},{"$f":"IF(AK12=0,0,(AK12*((LOG(AK12))/LOG(2))))","v":0},null,{"$f":"N12","v":11212},{"$f":"COUNTIF(L138:L170,AN12)","v":0},{"$f":"AO12/(AQ4-AO25)","v":0},{"$f":"IF(AP12=0,0,(AP12*((LOG(AP12))/LOG(2))))","v":0},null,{"$f":"N12","v":11212},{"$f":"COUNTIF(L171:L203,AS12)","v":0},{"$f":"AT12/(AV4-AT25)","v":0},{"$f":"IF(AU12=0,0,(AU12*((LOG(AU12))/LOG(2))))","v":0}]
[12,835,13,843,13,851,14,856,13,861,0,11111,null,11221,{"$f":"COUNTIF($L$7:$L$500,N13)","v":0},{"$f":"O13/$Q$4","v":0},{"$f":"IF(P13=0,0,(P13*((LOG(P13))/LOG(2))))","v":0},null,null,{"$f":"N13","v":11221},{"$f":"COUNTIF(L7:L39,T13)","v":0},{"$f":"U13/(W4-U25)","v":0},{"$f":"IF(V13=0,0,(V13*((LOG(V13))/LOG(2))))","v":0},null,{"$f":"N13","v":11221},{"$f":"COUNTIF(L40:L72,Y13)","v":0},{"$f":"Z13/(AB4-Z25)","v":0},{"$f":"IF(AA13=0,0,(AA13*((LOG(AA13))/LOG(2))))","v":0},null,{"$f":"N13","v":11221},{"$f":"COUNTIF(L73:L104,AD13)","v":0},{"$f":"AE13/(AG4-AE25)","v":0},{"$f":"IF(AF13=0,0,(AF13*((LOG(AF13))/LOG(2))))","v":0},null,{"$f":"N13","v":11221},{"$f":"COUNTIF(L105:L137,AI13)","v":0},{"$f":"AJ13/(AL4-AJ25)","v":0},{"$f":"IF(AK13=0,0,(AK13*((LOG(AK13))/LOG(2))))","v":0},null,{"$f":"N13","v":11221},{"$f":"COUNTIF(L138:L170,AN13)","v":0},{"$f":"AO13/(AQ4-AO25)","v":0},{"$f":"IF(AP13=0,0,(AP13*((LOG(AP13))/LOG(2))))","v":0},null,{"$f":"N13","v":11221},{"$f":"COUNTIF(L171:L203,AS13)","v":0},{"$f":"AT13/(AV4-AT25)","v":0},{"$f":"IF(AU13=0,0,(AU13*((LOG(AU13))/LOG(2))))","v":0}]
[12,964,13,969,13,973,14,978,13,985,0,11111,null,11222,{"$f":"COUNTIF($L$7:$L$500,N14)","v":0},{"$f":"O14/$Q$4","v":0},{"$f":"IF(P14=0,0,(P14*((LOG(P14))/LOG(2))))","v":0},null,null,{"$f":"N14","v":11222},{"$f":"COUNTIF(L7:L39,T14)","v":0},{"$f":"U14/(W4-U25)","v":0},{"$f":"IF(V14=0,0,(V14*((LOG(V14))/LOG(2))))","v":0},null,{"$f":"N14","v":11222},{"$f":"COUNTIF(L40:L72,Y14)","v":0},{"$f":"Z14/(AB4-Z25)","v":0},{"$f":"IF(AA14=0,0,(AA14*((LOG(AA14))/LOG(2))))","v":0},null,{"$f":"N14","v":11222},{"$f":"COUNTIF(L73:L104,AD14)","v":0},{"$f":"AE14/(AG4-AE25)","v":0},{"$f":"IF(AF14=0,0,(AF14*((LOG(AF14))/LOG(2))))","v":0},null,{"$f":"N14","v":11222},{"$f":"COUNTIF(L105:L137,AI14)","v":0},{"$f":"AJ14/(AL4-AJ25)","v":0},{"$f":"IF(AK14=0,0,(AK14*((LOG(AK14))/LOG(2))))","v":0},null,{"$f":"N14","v":11222},{"$f":"COUNTIF(L138:L170,AN14)","v":0},{"$f":"AO14/(AQ4-AO25)","v":0},{"$f":"IF(AP14=0,0,(AP14*((LOG(AP14))/LOG(2))))","v":0},null,{"$f":"N14","v":11222},{"$f":"COUNTIF(L171:L203,AS14)","v":0},{"$f":"AT14/(AV4-AT25)","v":0},{"$f":"IF(AU14=0,0,(AU14*((LOG(AU14))/LOG(2))))","v":0}]
[12,1084,13,1093,13,1112,14,1118,13,1135,0,11111,null,12111,{"$f":"COUNTIF($L$7:$L$500,N15)","v":0},{"$f":"O15/$Q$4","v":0},{"$f":"IF(P15=0,0,(P15*((LOG(P15))/LOG(2))))","v":0},null,null,{"$f":"N15","v":12111},{"$f":"COUNTIF(L7:L39,T15)","v":0},{"$f":"U15/(W4-U25)","v":0},{"$f":"IF(V15=0,0,(V15*((LOG(V15))/LOG(2))))","v":0},null,{"$f":"N15","v":12111},{"$f":"COUNTIF(L40:L72,Y15)","v":0},{"$f":"Z15/(AB4-Z25)","v":0},{"$f":"IF(AA15=0,0,(AA15*((LOG(AA15))/LOG(2))))","v":0},null,{"$f":"N15","v":12111},{"$f":"COUNTIF(L73:L104,AD15)","v":0},{"$f":"AE15/(AG4-AE25)","v":0},{"$f":"IF(AF15=0,0,(AF15*((LOG(AF15))/LOG(2))))","v":0},null,{"$f":"N15","v":12111},{"$f":"COUNTIF(L105:L137,AI15)","v":0},{"$f":"AJ15/(AL4-AJ25)","v":0},{"$f":"IF(AK15=0,0,(AK15*((LOG(AK15))/LOG(2))))","v":0},null,{"$f":"N15","v":12111},{"$f":"COUNTIF(L138:L170,AN15)","v":0},{"$f":"AO15/(AQ4-AO25)","v":0},{"$f":"IF(AP15=0,0,(AP15*((LOG(AP15))/LOG(2))))","v":0},null,{"$f":"N15","v":12111},{"$f":"COUNTIF(L171:L203,AS15)","v":0},{"$f":"AT15/(AV4-AT25)","v":0},{"$f":"IF(AU15=0,0,(AU15*((LOG(AU15))/LOG(2))))","v":0}]
[12,1240,13,1244,13,1248,14,1252,13,1257,1,11111,null,12112,{"$f":"COUNTIF($L$7:$L$500,N16)","v":0},{"$f":"O16/$Q$4","v":0},{"$f":"IF(P16=0,0,(P16*((LOG(P16))/LOG(2))))","v":0},null,null,{"$f":"N16","v":12112},{"$f":"COUNTIF(L7:L39,T16)","v":0},{"$f":"U16/(W4-U25)","v":0},{"$f":"IF(V16=0,0,(V16*((LOG(V16))/LOG(2))))","v":0},null,{"$f":"N16","v":12112},{"$f":"COUNTIF(L40:L72,Y16)","v":0},{"$f":"Z16/(AB4-Z25)","v":0},{"$f":"IF(AA16=0,0,(AA16*((LOG(AA16))/LOG(2))))","v":0},null,{"$f":"N16","v":12112},{"$f":"COUNTIF(L73:L104,AD16)","v":0},{"$f":"AE16/(AG4-AE25)","v":0},{"$f":"IF(AF16=0,0,(AF16*((LOG(AF16))/LOG(2))))","v":0},null,{"$f":"N16","v":12112},{"$f":"COUNTIF(L105:L137,AI16)","v":0},{"$f":"AJ16/(AL4-AJ25)","v":0},{"$f":"IF(AK16=0,0,(AK16*((LOG(AK16))/LOG(2))))","v":0},null,{"$f":"N16","v":12112},{"$f":"COUNTIF(L138:L170,AN16)","v":0},{"$f":"AO16/(AQ4-AO25)","v":0},{"$f":"IF(AP16=0,0,(AP16*((LOG(AP16))/LOG(2))))","v":0},null,{"$f":"N16","v":12112},{"$f":"COUNTIF(L171:L203,AS16)","v":0},{"$f":"AT16/(AV4-AT25)","v":0},{"$f":"IF(AU16=0,0,(AU16*((LOG(AU16))/LOG(2))))","v":0}]
[12,1352,13,1361,13,1368,14,1372,13,1380,0,11111,null,12121,{"$f":"COUNTIF($L$7:$L$500,N17)","v":0},{"$f":"O17/$Q$4","v":0},{"$f":"IF(P17=0,0,(P17*((LOG(P17))/LOG(2))))","v":0},null,null,{"$f":"N17","v":12121},{"$f":"COUNTIF(L7:L39,T17)","v":0},{"$f":"U17/(W4-U25)","v":0},{"$f":"IF(V17=0,0,(V17*((LOG(V17))/LOG(2))))","v":0},null,{"$f":"N17","v":12121},{"$f":"COUNTIF(L40:L72,Y17)","v":0},{"$f":"Z17/(AB4-Z25)","v":0},{"$f":"IF(AA17=0,0,(AA17*((LOG(AA17))/LOG(2))))","v":0},null,{"$f":"N17","v":12121},{"$f":"COUNTIF(L73:L104,AD17)","v":0},{"$f":"AE17/(AG4-AE25)","v":0},{"$f":"IF(AF17=0,0,(AF17*((LOG(AF17))/LOG(2))))","v":0},null,{"$f":"N17","v":12121},{"$f":"COUNTIF(L105:L137,AI17)","v":0},{"$f":"AJ17/(AL4-AJ25)","v":0},{"$f":"IF(AK17=0,0,(AK17*((LOG(AK17))/LOG(2))))","v":0},null,{"$f":"N17","v":12121},{"$f":"COUNTIF(L138:L170,AN17)","v":0},{"$f":"AO17/(AQ4-AO25)","v":0},{"$f":"IF(AP17=0,0,(AP17*((LOG(AP17))/LOG(2))))","v":0},null,{"$f":"N17","v":12121},{"$f":"COUNTIF(L171:L203,AS17)","v":0},{"$f":"AT17/(AV4-AT25)","v":0},{"$f":"IF(AU17=0,0,(AU17*((LOG(AU17))/LOG(2))))","v":0}]
[12,1485,13,1489,13,1493,14,1498,13,1502,1,11111,null,12122,{"$f":"COUNTIF($L$7:$L$500,N18)","v":0},{"$f":"O18/$Q$4","v":0},{"$f":"IF(P18=0,0,(P18*((LOG(P18))/LOG(2))))","v":0},null,null,{"$f":"N18","v":12122},{"$f":"COUNTIF(L7:L39,T18)","v":0},{"$f":"U18/(W4-U25)","v":0},{"$f":"IF(V18=0,0,(V18*((LOG(V18))/LOG(2))))","v":0},null,{"$f":"N18","v":12122},{"$f":"COUNTIF(L40:L72,Y18)","v":0},{"$f":"Z18/(AB4-Z25)","v":0},{"$f":"IF(AA18=0,0,(AA18*((LOG(AA18))/LOG(2))))","v":0},null,{"$f":"N18","v":12122},{"$f":"COUNTIF(L73:L104,AD18)","v":0},{"$f":"AE18/(AG4-AE25)","v":0},{"$f":"IF(AF18=0,0,(AF18*((LOG(AF18))/LOG(2))))","v":0},null,{"$f":"N18","v":12122},{"$f":"COUNTIF(L105:L137,AI18)","v":0},{"$f":"AJ18/(AL4-AJ25)","v":0},{"$f":"IF(AK18=0,0,(AK18*((LOG(AK18))/LOG(2))))","v":0},null,{"$f":"N18","v":12122},{"$f":"COUNTIF(L138:L170,AN18)","v":0},{"$f":"AO18/(AQ4-AO25)","v":0},{"$f":"IF(AP18=0,0,(AP18*((LOG(AP18))/LOG(2))))","v":0},null,{"$f":"N18","v":12122},{"$f":"COUNTIF(L171:L203,AS18)","v":0},{"$f":"AT18/(AV4-AT25)","v":0},{"$f":"IF(AU18=0,0,(AU18*((LOG(AU18))/LOG(2))))","v":0}]
[12,1614,13,1625,13,1630,14,1639,13,1644,0,11111,null,12211,{"$f":"COUNTIF($L$7:$L$500,N19)","v":0},{"$f":"O19/$Q$4","v":0},{"$f":"IF(P19=0,0,(P19*((LOG(P19))/LOG(2))))","v":0},null,null,{"$f":"N19","v":12211},{"$f":"COUNTIF(L7:L39,T19)","v":0},{"$f":"U19/(W4-U25)","v":0},{"$f":"IF(V19=0,0,(V19*((LOG(V19))/LOG(2))))","v":0},null,{"$f":"N19","v":12211},{"$f":"COUNTIF(L40:L72,Y19)","v":0},{"$f":"Z19/(AB4-Z25)","v":0},{"$f":"IF(AA19=0,0,(AA19*((LOG(AA19))/LOG(2))))","v":0},null,{"$f":"N19","v":12211},{"$f":"COUNTIF(L73:L104,AD19)","v":0},{"$f":"AE19/(AG4-AE25)","v":0},{"$f":"IF(AF19=0,0,(AF19*((LOG(AF19))/LOG(2))))","v":0},null,{"$f":"N19","v":12211},{"$f":"COUNTIF(L105:L137,AI19)","v":0},{"$f":"AJ19/(AL4-AJ25)","v":0},{"$f":"IF(AK19=0,0,(AK19*((LOG(AK19))/LOG(2))))","v":0},null,{"$f":"N19","v":12211},{"$f":"COUNTIF(L138:L170,AN19)","v":0},{"$f":"AO19/(AQ4-AO25)","v":0},{"$f":"IF(AP19=0,0,(AP19*((LOG(AP19))/LOG(2))))","v":0},null,{"$f":"N19","v":12211},{"$f":"COUNTIF(L171:L203,AS19)","v":0},{"$f":"AT19/(AV4-AT25)","v":0},{"$f":"IF(AU19=0,0,(AU19*((LOG(AU19))/LOG(2))))","v":0}]
[12,1755,13,1759,13,1763,14,1767,13,1772,0,11111,null,12212,{"$f":"COUNTIF($L$7:$L$500,N20)","v":0},{"$f":"O20/$Q$4","v":0},{"$f":"IF(P20=0,0,(P20*((LOG(P20))/LOG(2))))","v":0},null,null,{"$f":"N20","v":12212},{"$f":"COUNTIF(L7:L39,T20)","v":0},{"$f":"U20/(W4-U25)","v":0},{"$f":"IF(V20=0,0,(V20*((LOG(V20))/LOG(2))))","v":0},null,{"$f":"N20","v":12212},{"$f":"COUNTIF(L40:L72,Y20)","v":0},{"$f":"Z20/(AB4-Z25)","v":0},{"$f":"IF(AA20=0,0,(AA20*((LOG(AA20))/LOG(2))))","v":0},null,{"$f":"N20","v":12212},{"$f":"COUNTIF(L73:L104,AD20)","v":0},{"$f":"AE20/(AG4-AE25)","v":0},{"$f":"IF(AF20=0,0,(AF20*((LOG(AF20))/LOG(2))))","v":0},null,{"$f":"N20","v":12212},{"$f":"COUNTIF(L105:L137,AI20)","v":0},{"$f":"AJ20/(AL4-AJ25)","v":0},{"$f":"IF(AK20=0,0,(AK20*((LOG(AK20))/LOG(2))))","v":0},null,{"$f":"N20","v":12212},{"$f":"COUNTIF(L138:L170,AN20)","v":0},{"$f":"AO20/(AQ4-AO25)","v":0},{"$f":"IF(AP20=0,0,(AP20*((LOG(AP20))/LOG(2))))","v":0},null,{"$f":"N20","v":12212},{"$f":"COUNTIF(L171:L203,AS20)","v":0},{"$f":"AT20/(AV4-AT25)","v":0},{"$f":"IF(AU20=0,0,(AU20*((LOG(AU20))/LOG(2))))","v":0}]
[12,1876,13,1879,13,1884,14,1888,13,1894,0,11111,null,12221,{"$f":"COUNTIF($L$7:$L$500,N21)","v":0},{"$f":"O21/$Q$4","v":0},{"$f":"IF(P21=0,0,(P21*((LOG(P21))/LOG(2))))","v":0},null,null,{"$f":"N21","v":12221},{"$f":"COUNTIF(L7:L39,T21)","v":0},{"$f":"U21/(W4-U25)","v":0},{"$f":"IF(V21=0,0,(V21*((LOG(V21))/LOG(2))))","v":0},null,{"$f":"N21","v":12221},{"$f":"COUNTIF(L40:L72,Y21)","v":0},{"$f":"Z21/(AB4-Z25)","v":0},{"$f":"IF(AA21=0,0,(AA21*((LOG(AA21))/LOG(2))))","v":0},null,{"$f":"N21","v":12221},{"$f":"COUNTIF(L73:L104,AD21)","v":0},{"$f":"AE21/(AG4-AE25)","v":0},{"$f":"IF(AF21=0,0,(AF21*((LOG(AF21))/LOG(2))))","v":0},null,{"$f":"N21","v":12221},{"$f":"COUNTIF(L105:L137,AI21)","v":0},{"$f":"AJ21/(AL4-AJ25)","v":0},{"$f":"IF(AK21=0,0,(AK21*((LOG(AK21))/LOG(2))))","v":0},null,{"$f":"N21","v":12221},{"$f":"COUNTIF(L138:L170,AN21)","v":0},{"$f":"AO21/(AQ4-AO25)","v":0},{"$f":"IF(AP21=0,0,(AP21*((LOG(AP21))/LOG(2))))","v":0},null,{"$f":"N21","v":12221},{"$f":"COUNTIF(L171:L203,AS21)","v":0},{"$f":"AT21/(AV4-AT25)","v":0},{"$f":"IF(AU21=0,0,(AU21*((LOG(AU21))/LOG(2))))","v":0}]
[12,2006,13,2010,13,2015,14,2019,13,2026,0,11111,null,12222,{"$f":"COUNTIF($L$7:$L$500,N22)","v":0},{"$f":"O22/$Q$4","v":0},{"$f":"IF(P22=0,0,(P22*((LOG(P22))/LOG(2))))","v":0},null,null,{"$f":"N22","v":12222},{"$f":"COUNTIF(L7:L39,T22)","v":0},{"$f":"U22/(W4-U25)","v":0},{"$f":"IF(V22=0,0,(V22*((LOG(V22))/LOG(2))))","v":0},null,{"$f":"N22","v":12222},{"$f":"COUNTIF(L40:L72,Y22)","v":0},{"$f":"Z22/(AB4-Z25)","v":0},{"$f":"IF(AA22=0,0,(AA22*((LOG(AA22))/LOG(2))))","v":0},null,{"$f":"N22","v":12222},{"$f":"COUNTIF(L73:L104,AD22)","v":0},{"$f":"AE22/(AG4-AE25)","v":0},{"$f":"IF(AF22=0,0,(AF22*((LOG(AF22))/LOG(2))))","v":0},null,{"$f":"N22","v":12222},{"$f":"COUNTIF(L105:L137,AI22)","v":0},{"$f":"AJ22/(AL4-AJ25)","v":0},{"$f":"IF(AK22=0,0,(AK22*((LOG(AK22))/LOG(2))))","v":0},null,{"$f":"N22","v":12222},{"$f":"COUNTIF(L138:L170,AN22)","v":0},{"$f":"AO22/(AQ4-AO25)","v":0},{"$f":"IF(AP22=0,0,(AP22*((LOG(AP22))/LOG(2))))","v":0},null,{"$f":"N22","v":12222},{"$f":"COUNTIF(L171:L203,AS22)","v":0},{"$f":"AT22/(AV4-AT25)","v":0},{"$f":"IF(AU22=0,0,(AU22*((LOG(AU22))/LOG(2))))","v":0}]
[12,2130,13,2135,13,2139,14,2147,13,2151,1,11111,null,21111,{"$f":"COUNTIF($L$7:$L$500,N23)","v":0},{"$f":"O23/$Q$4","v":0},{"$f":"IF(P23=0,0,(P23*((LOG(P23))/LOG(2))))","v":0},null,null,{"$f":"N23","v":21111},{"$f":"COUNTIF(L7:L39,T23)","v":0},{"$f":"U23/(W4-U25)","v":0},{"$f":"IF(V23=0,0,(V23*((LOG(V23))/LOG(2))))","v":0},null,{"$f":"N23","v":21111},{"$f":"COUNTIF(L40:L72,Y23)","v":0},{"$f":"Z23/(AB4-Z25)","v":0},{"$f":"IF(AA23=0,0,(AA23*((LOG(AA23))/LOG(2))))","v":0},null,{"$f":"N23","v":21111},{"$f":"COUNTIF(L73:L104,AD23)","v":0},{"$f":"AE23/(AG4-AE25)","v":0},{"$f":"IF(AF23=0,0,(AF23*((LOG(AF23))/LOG(2))))","v":0},null,{"$f":"N23","v":21111},{"$f":"COUNTIF(L105:L137,AI23)","v":0},{"$f":"AJ23/(AL4-AJ25)","v":0},{"$f":"IF(AK23=0,0,(AK23*((LOG(AK23))/LOG(2))))","v":0},null,{"$f":"N23","v":21111},{"$f":"COUNTIF(L138:L170,AN23)","v":0},{"$f":"AO23/(AQ4-AO25)","v":0},{"$f":"IF(AP23=0,0,(AP23*((LOG(AP23))/LOG(2))))","v":0},null,{"$f":"N23","v":21111},{"$f":"COUNTIF(L171:L203,AS23)","v":0},{"$f":"AT23/(AV4-AT25)","v":0},{"$f":"IF(AU23=0,0,(AU23*((LOG(AU23))/LOG(2))))","v":0}]
[12,2250,13,2254,13,2258,14,2262,13,2267,0,11111,null,21112,{"$f":"COUNTIF($L$7:$L$500,N24)","v":0},{"$f":"O24/$Q$4","v":0},{"$f":"IF(P24=0,0,(P24*((LOG(P24))/LOG(2))))","v":0},null,null,{"$f":"N24","v":21112},{"$f":"COUNTIF(L7:L39,T24)","v":0},{"$f":"U24/(W4-U25)","v":0},{"$f":"IF(V24=0,0,(V24*((LOG(V24))/LOG(2))))","v":0},null,{"$f":"N24","v":21112},{"$f":"COUNTIF(L40:L72,Y24)","v":0},{"$f":"Z24/(AB4-Z25)","v":0},{"$f":"IF(AA24=0,0,(AA24*((LOG(AA24))/LOG(2))))","v":0},null,{"$f":"N24","v":21112},{"$f":"COUNTIF(L73:L104,AD24)","v":0},{"$f":"AE24/(AG4-AE25)","v":0},{"$f":"IF(AF24=0,0,(AF24*((LOG(AF24))/LOG(2))))","v":0},null,{"$f":"N24","v":21112},{"$f":"COUNTIF(L105:L137,AI24)","v":0},{"$f":"AJ24/(AL4-AJ25)","v":0},{"$f":"IF(AK24=0,0,(AK24*((LOG(AK24))/LOG(2))))","v":0},null,{"$f":"N24","v":21112},{"$f":"COUNTIF(L138:L170,AN24)","v":0},{"$f":"AO24/(AQ4-AO25)","v":0},{"$f":"IF(AP24=0,0,(AP24*((LOG(AP24))/LOG(2))))","v":0},null,{"$f":"N24","v":21112},{"$f":"COUNTIF(L171:L203,AS24)","v":0},{"$f":"AT24/(AV4-AT25)","v":0},{"$f":"IF(AU24=0,0,(AU24*((LOG(AU24))/LOG(2))))","v":0}]
[12,2373,13,2381,13,2385,14,2389,13,2395,0,11111,null,21121,{"$f":"COUNTIF($L$7:$L$500,N25)","v":0},{"$f":"O25/$Q$4","v":0},{"$f":"IF(P25=0,0,(P25*((LOG(P25))/LOG(2))))","v":0},null,null,{"$f":"N25","v":21121},{"$f":"COUNTIF(L7:L39,T25)","v":0},null,null,null,{"$f":"N25","v":21121},{"$f":"COUNTIF(L40:L72,Y25)","v":0},null,null,null,{"$f":"N25","v":21121},{"$f":"COUNTIF(L73:L104,AD25)","v":0},null,null,null,{"$f":"N25","v":21121},{"$f":"COUNTIF(L105:L137,AI25)","v":0},null,null,null,{"$f":"N25","v":21121},{"$f":"COUNTIF(L138:L170,AN25)","v":0},null,null,null,{"$f":"N25","v":21121},{"$f":"COUNTIF(L171:L203,AS25)","v":0}]
[12,2495,13,2499,13,2503,14,2507,13,2512,0,11111,null,21122,{"$f":"COUNTIF($L$7:$L$500,N26)","v":0},{"$f":"O26/$Q$4","v":0},{"$f":"IF(P26=0,0,(P26*((LOG(P26))/LOG(2))))","v":0},null,null,{"$f":"N26","v":21122},{"$f":"COUNTIF(L7:L39,T26)","v":0},{"$f":"U26/(W4-U25)","v":0},{"$f":"IF(V26=0,0,(V26*((LOG(V26))/LOG(2))))","v":0},null,{"$f":"N26","v":21122},{"$f":"COUNTIF(L40:L72,Y26)","v":0},{"$f":"Z26/(AB4-Z25)","v":0},{"$f":"IF(AA26=0,0,(AA26*((LOG(AA26))/LOG(2))))","v":0},null,{"$f":"N26","v":21122},{"$f":"COUNTIF(L73:L104,AD26)","v":0},{"$f":"AE26/(AG4-AE25)","v":0},{"$f":"IF(AF26=0,0,(AF26*((LOG(AF26))/LOG(2))))","v":0},null,{"$f":"N26","v":21122},{"$f":"COUNTIF(L105:L137,AI26)","v":0},{"$f":"AJ26/(AL4-AJ25)","v":0},{"$f":"IF(AK26=0,0,(AK26*((LOG(AK26))/LOG(2))))","v":0},null,{"$f":"N26","v":21122},{"$f":"COUNTIF(L138:L170,AN26)","v":0},{"$f":"AO26/(AQ4-AO25)","v":0},{"$f":"IF(AP26=0,0,(AP26*((LOG(AP26))/LOG(2))))","v":0},null,{"$f":"N26","v":21122},{"$f":"COUNTIF(L171:L203,AS26)","v":0},{"$f":"AT26/(AV4-AT25)","v":0},{"$f":"IF(AU26=0,0,(AU26*((LOG(AU26))/LOG(2))))","v":0}]
[12,2610,13,2614,13,2618,14,2622,13,2626,0,11111,null,21211,{"$f":"COUNTIF($L$7:$L$500,N27)","v":0},{"$f":"O27/$Q$4","v":0},{"$f":"IF(P27=0,0,(P27*((LOG(P27))/LOG(2))))","v":0},null,null,{"$f":"N27","v":21211},{"$f":"COUNTIF(L7:L39,T27)","v":0},{"$f":"U27/(W4-U25)","v":0},{"$f":"IF(V27=0,0,(V27*((LOG(V27))/LOG(2))))","v":0},null,{"$f":"N27","v":21211},{"$f":"COUNTIF(L40:L72,Y27)","v":0},{"$f":"Z27/(AB4-Z25)","v":0},{"$f":"IF(AA27=0,0,(AA27*((LOG(AA27))/LOG(2))))","v":0},null,{"$f":"N27","v":21211},{"$f":"COUNTIF(L73:L104,AD27)","v":0},{"$f":"AE27/(AG4-AE25)","v":0},{"$f":"IF(AF27=0,0,(AF27*((LOG(AF27))/LOG(2))))","v":0},null,{"$f":"N27","v":21211},{"$f":"COUNTIF(L105:L137,AI27)","v":0},{"$f":"AJ27/(AL4-AJ25)","v":0},{"$f":"IF(AK27=0,0,(AK27*((LOG(AK27))/LOG(2))))","v":0},null,{"$f":"N27","v":21211},{"$f":"COUNTIF(L138:L170,AN27)","v":0},{"$f":"AO27/(AQ4-AO25)","v":0},{"$f":"IF(AP27=0,0,(AP27*((LOG(AP27))/LOG(2))))","v":0},null,{"$f":"N27","v":21211},{"$f":"COUNTIF(L171:L203,AS27)","v":0},{"$f":"AT27/(AV4-AT25)","v":0},{"$f":"IF(AU27=0,0,(AU27*((LOG(AU27))/LOG(2))))","v":0}]
[12,2733,13,2737,13,2741,14,2745,13,2750,0,11111,null,21212,{"$f":"COUNTIF($L$7:$L$500,N28)","v":0},{"$f":"O28/$Q$4","v":0},{"$f":"IF(P28=0,0,(P28*((LOG(P28))/LOG(2))))","v":0},null,null,{"$f":"N28","v":21212},{"$f":"COUNTIF(L7:L39,T28)","v":0},{"$f":"U28/(W4-U25)","v":0},{"$f":"IF(V28=0,0,(V28*((LOG(V28))/LOG(2))))","v":0},null,{"$f":"N28","v":21212},{"$f":"COUNTIF(L40:L72,Y28)","v":0},{"$f":"Z28/(AB4-Z25)","v":0},{"$f":"IF(AA28=0,0,(AA28*((LOG(AA28))/LOG(2))))","v":0},null,{"$f":"N28","v":21212},{"$f":"COUNTIF(L73:L104,AD28)","v":0},{"$f":"AE28/(AG4-AE25)","v":0},{"$f":"IF(AF28=0,0,(AF28*((LOG(AF28))/LOG(2))))","v":0},null,{"$f":"N28","v":21212},{"$f":"COUNTIF(L105:L137,AI28)","v":0},{"$f":"AJ28/(AL4-AJ25)","v":0},{"$f":"IF(AK28=0,0,(AK28*((LOG(AK28))/LOG(2))))","v":0},null,{"$f":"N28","v":21212},{"$f":"COUNTIF(L138:L170,AN28)","v":0},{"$f":"AO28/(AQ4-AO25)","v":0},{"$f":"IF(AP28=0,0,(AP28*((LOG(AP28))/LOG(2))))","v":0},null,{"$f":"N28","v":21212},{"$f":"COUNTIF(L171:L203,AS28)","v":0},{"$f":"AT28/(AV4-AT25)","v":0},{"$f":"IF(AU28=0,0,(AU28*((LOG(AU28))/LOG(2))))","v":0}]
[12,2851,13,2861,13,2865,14,2868,13,2873,1,11111,null,21221,{"$f":"COUNTIF($L$7:$L$500,N29)","v":0},{"$f":"O29/$Q$4","v":0},{"$f":"IF(P29=0,0,(P29*((LOG(P29))/LOG(2))))","v":0},null,null,{"$f":"N29","v":21221},{"$f":"COUNTIF(L7:L39,T29)","v":0},{"$f":"U29/(W4-U25)","v":0},{"$f":"IF(V29=0,0,(V29*((LOG(V29))/LOG(2))))","v":0},null,{"$f":"N29","v":21221},{"$f":"COUNTIF(L40:L72,Y29)","v":0},{"$f":"Z29/(AB4-Z25)","v":0},{"$f":"IF(AA29=0,0,(AA29*((LOG(AA29))/LOG(2))))","v":0},null,{"$f":"N29","v":21221},{"$f":"COUNTIF(L73:L104,AD29)","v":0},{"$f":"AE29/(AG4-AE25)","v":0},{"$f":"IF(AF29=0,0,(AF29*((LOG(AF29))/LOG(2))))","v":0},null,{"$f":"N29","v":21221},{"$f":"COUNTIF(L105:L137,AI29)","v":0},{"$f":"AJ29/(AL4-AJ25)","v":0},{"$f":"IF(AK29=0,0,(AK29*((LOG(AK29))/LOG(2))))","v":0},null,{"$f":"N29","v":21221},{"$f":"COUNTIF(L138:L170,AN29)","v":0},{"$f":"AO29/(AQ4-AO25)","v":0},{"$f":"IF(AP29=0,0,(AP29*((LOG(AP29))/LOG(2))))","v":0},null,{"$f":"N29","v":21221},{"$f":"COUNTIF(L171:L203,AS29)","v":0},{"$f":"AT29/(AV4-AT25)","v":0},{"$f":"IF(AU29=0,0,(AU29*((LOG(AU29))/LOG(2))))","v":0}]
[12,2976,13,2984,13,2988,14,2992,13,2997,0,11111,null,21222,{"$f":"COUNTIF($L$7:$L$500,N30)","v":0},{"$f":"O30/$Q$4","v":0},{"$f":"IF(P30=0,0,(P30*((LOG(P30))/LOG(2))))","v":0},null,null,{"$f":"N30","v":21222},{"$f":"COUNTIF(L7:L39,T30)","v":0},{"$f":"U30/(W4-U25)","v":0},{"$f":"IF(V30=0,0,(V30*((LOG(V30))/LOG(2))))","v":0},null,{"$f":"N30","v":21222},{"$f":"COUNTIF(L40:L72,Y30)","v":0},{"$f":"Z30/(AB4-Z25)","v":0},{"$f":"IF(AA30=0,0,(AA30*((LOG(AA30))/LOG(2))))","v":0},null,{"$f":"N30","v":21222},{"$f":"COUNTIF(L73:L104,AD30)","v":0},{"$f":"AE30/(AG4-AE25)","v":0},{"$f":"IF(AF30=0,0,(AF30*((LOG(AF30))/LOG(2))))","v":0},null,{"$f":"N30","v":21222},{"$f":"COUNTIF(L105:L137,AI30)","v":0},{"$f":"AJ30/(AL4-AJ25)","v":0},{"$f":"IF(AK30=0,0,(AK30*((LOG(AK30))/LOG(2))))","v":0},null,{"$f":"N30","v":21222},{"$f":"COUNTIF(L138:L170,AN30)","v":0},{"$f":"AO30/(AQ4-AO25)","v":0},{"$f":"IF(AP30=0,0,(AP30*((LOG(AP30))/LOG(2))))","v":0},null,{"$f":"N30","v":21222},{"$f":"COUNTIF(L171:L203,AS30)","v":0},{"$f":"AT30/(AV4-AT25)","v":0},{"$f":"IF(AU30=0,0,(AU30*((LOG(AU30))/LOG(2))))","v":0}]
[12,3097,13,3109,13,3113,14,3117,13,3121,0,11111,null,22111,{"$f":"COUNTIF($L$7:$L$500,N31)","v":0},{"$f":"O31/$Q$4","v":0},{"$f":"IF(P31=0,0,(P31*((LOG(P31))/LOG(2))))","v":0},null,null,{"$f":"N31","v":22111},{"$f":"COUNTIF(L7:L39,T31)","v":0},{"$f":"U31/(W4-U25)","v":0},{"$f":"IF(V31=0,0,(V31*((LOG(V31))/LOG(2))))","v":0},null,{"$f":"N31","v":22111},{"$f":"COUNTIF(L40:L72,Y31)","v":0},{"$f":"Z31/(AB4-Z25)","v":0},{"$f":"IF(AA31=0,0,(AA31*((LOG(AA31))/LOG(2))))","v":0},null,{"$f":"N31","v":22111},{"$f":"COUNTIF(L73:L104,AD31)","v":0},{"$f":"AE31/(AG4-AE25)","v":0},{"$f":"IF(AF31=0,0,(AF31*((LOG(AF31))/LOG(2))))","v":0},null,{"$f":"N31","v":22111},{"$f":"COUNTIF(L105:L137,AI31)","v":0},{"$f":"AJ31/(AL4-AJ25)","v":0},{"$f":"IF(AK31=0,0,(AK31*((LOG(AK31))/LOG(2))))","v":0},null,{"$f":"N31","v":22111},{"$f":"COUNTIF(L138:L170,AN31)","v":0},{"$f":"AO31/(AQ4-AO25)","v":0},{"$f":"IF(AP31=0,0,(AP31*((LOG(AP31))/LOG(2))))","v":0},null,{"$f":"N31","v":22111},{"$f":"COUNTIF(L171:L203,AS31)","v":0},{"$f":"AT31/(AV4-AT25)","v":0},{"$f":"IF(AU31=0,0,(AU31*((LOG(AU31))/LOG(2))))","v":0}]
[12,3224,13,3228,13,3232,14,3237,13,3244,0,11111,null,22112,{"$f":"COUNTIF($L$7:$L$500,N32)","v":0},{"$f":"O32/$Q$4","v":0},{"$f":"IF(P32=0,0,(P32*((LOG(P32))/LOG(2))))","v":0},null,null,{"$f":"N32","v":22112},{"$f":"COUNTIF(L7:L39,T32)","v":0},{"$f":"U32/(W4-U25)","v":0},{"$f":"IF(V32=0,0,(V32*((LOG(V32))/LOG(2))))","v":0},null,{"$f":"N32","v":22112},{"$f":"COUNTIF(L40:L72,Y32)","v":0},{"$f":"Z32/(AB4-Z25)","v":0},{"$f":"IF(AA32=0,0,(AA32*((LOG(AA32))/LOG(2))))","v":0},null,{"$f":"N32","v":22112},{"$f":"COUNTIF(L73:L104,AD32)","v":0},{"$f":"AE32/(AG4-AE25)","v":0},{"$f":"IF(AF32=0,0,(AF32*((LOG(AF32))/LOG(2))))","v":0},null,{"$f":"N32","v":22112},{"$f":"COUNTIF(L105:L137,AI32)","v":0},{"$f":"AJ32/(AL4-AJ25)","v":0},{"$f":"IF(AK32=0,0,(AK32*((LOG(AK32))/LOG(2))))","v":0},null,{"$f":"N32","v":22112},{"$f":"COUNTIF(L138:L170,AN32)","v":0},{"$f":"AO32/(AQ4-AO25)","v":0},{"$f":"IF(AP32=0,0,(AP32*((LOG(AP32))/LOG(2))))","v":0},null,{"$f":"N32","v":22112},{"$f":"COUNTIF(L171:L203,AS32)","v":0},{"$f":"AT32/(AV4-AT25)","v":0},{"$f":"IF(AU32=0,0,(AU32*((LOG(AU32))/LOG(2))))","v":0}]
[12,3349,13,3352,13,3360,14,3364,13,3373,0,11111,null,22121,{"$f":"COUNTIF($L$7:$L$500,N33)","v":0},{"$f":"O33/$Q$4","v":0},{"$f":"IF(P33=0,0,(P33*((LOG(P33))/LOG(2))))","v":0},null,null,{"$f":"N33","v":22121},{"$f":"COUNTIF(L7:L39,T33)","v":0},{"$f":"U33/(W4-U25)","v":0},{"$f":"IF(V33=0,0,(V33*((LOG(V33))/LOG(2))))","v":0},null,{"$f":"N33","v":22121},{"$f":"COUNTIF(L40:L72,Y33)","v":0},{"$f":"Z33/(AB4-Z25)","v":0},{"$f":"IF(AA33=0,0,(AA33*((LOG(AA33))/LOG(2))))","v":0},null,{"$f":"N33","v":22121},{"$f":"COUNTIF(L73:L104,AD33)","v":0},{"$f":"AE33/(AG4-AE25)","v":0},{"$f":"IF(AF33=0,0,(AF33*((LOG(AF33))/LOG(2))))","v":0},null,{"$f":"N33","v":22121},{"$f":"COUNTIF(L105:L137,AI33)","v":0},{"$f":"AJ33/(AL4-AJ25)","v":0},{"$f":"IF(AK33=0,0,(AK33*((LOG(AK33))/LOG(2))))","v":0},null,{"$f":"N33","v":22121},{"$f":"COUNTIF(L138:L170,AN33)","v":0},{"$f":"AO33/(AQ4-AO25)","v":0},{"$f":"IF(AP33=0,0,(AP33*((LOG(AP33))/LOG(2))))","v":0},null,{"$f":"N33","v":22121},{"$f":"COUNTIF(L171:L203,AS33)","v":0},{"$f":"AT33/(AV4-AT25)","v":0},{"$f":"IF(AU33=0,0,(AU33*((LOG(AU33))/LOG(2))))","v":0}]
[12,3474,13,3478,13,3482,14,3486,13,3490,0,11111,null,22122,{"$f":"COUNTIF($L$7:$L$500,N34)","v":0},{"$f":"O34/$Q$4","v":0},{"$f":"IF(P34=0,0,(P34*((LOG(P34))/LOG(2))))","v":0},null,null,{"$f":"N34","v":22122},{"$f":"COUNTIF(L7:L39,T34)","v":0},{"$f":"U34/(W4-U25)","v":0},{"$f":"IF(V34=0,0,(V34*((LOG(V34))/LOG(2))))","v":0},null,{"$f":"N34","v":22122},{"$f":"COUNTIF(L40:L72,Y34)","v":0},{"$f":"Z34/(AB4-Z25)","v":0},{"$f":"IF(AA34=0,0,(AA34*((LOG(AA34))/LOG(2))))","v":0},null,{"$f":"N34","v":22122},{"$f":"COUNTIF(L73:L104,AD34)","v":0},{"$f":"AE34/(AG4-AE25)","v":0},{"$f":"IF(AF34=0,0,(AF34*((LOG(AF34))/LOG(2))))","v":0},null,{"$f":"N34","v":22122},{"$f":"COUNTIF(L105:L137,AI34)","v":0},{"$f":"AJ34/(AL4-AJ25)","v":0},{"$f":"IF(AK34=0,0,(AK34*((LOG(AK34))/LOG(2))))","v":0},null,{"$f":"N34","v":22122},{"$f":"COUNTIF(L138:L170,AN34)","v":0},{"$f":"AO34/(AQ4-AO25)","v":0},{"$f":"IF(AP34=0,0,(AP34*((LOG(AP34))/LOG(2))))","v":0},null,{"$f":"N34","v":22122},{"$f":"COUNTIF(L171:L203,AS34)","v":0},{"$f":"AT34/(AV4-AT25)","v":0},{"$f":"IF(AU34=0,0,(AU34*((LOG(AU34))/LOG(2))))","v":0}]
[12,3594,13,3598,13,3602,14,3606,13,3610,0,11111,null,22211,{"$f":"COUNTIF($L$7:$L$500,N35)","v":0},{"$f":"O35/$Q$4","v":0},{"$f":"IF(P35=0,0,(P35*((LOG(P35))/LOG(2))))","v":0},null,null,{"$f":"N35","v":22211},{"$f":"COUNTIF(L7:L39,T35)","v":0},{"$f":"U35/(W4-U25)","v":0},{"$f":"IF(V35=0,0,(V35*((LOG(V35))/LOG(2))))","v":0},null,{"$f":"N35","v":22211},{"$f":"COUNTIF(L40:L72,Y35)","v":0},{"$f":"Z35/(AB4-Z25)","v":0},{"$f":"IF(AA35=0,0,(AA35*((LOG(AA35))/LOG(2))))","v":0},null,{"$f":"N35","v":22211},{"$f":"COUNTIF(L73:L104,AD35)","v":0},{"$f":"AE35/(AG4-AE25)","v":0},{"$f":"IF(AF35=0,0,(AF35*((LOG(AF35))/LOG(2))))","v":0},null,{"$f":"N35","v":22211},{"$f":"COUNTIF(L105:L137,AI35)","v":0},{"$f":"AJ35/(AL4-AJ25)","v":0},{"$f":"IF(AK35=0,0,(AK35*((LOG(AK35))/LOG(2))))","v":0},null,{"$f":"N35","v":22211},{"$f":"COUNTIF(L138:L170,AN35)","v":0},{"$f":"AO35/(AQ4-AO25)","v":0},{"$f":"IF(AP35=0,0,(AP35*((LOG(AP35))/LOG(2))))","v":0},null,{"$f":"N35","v":22211},{"$f":"COUNTIF(L171:L203,AS35)","v":0},{"$f":"AT35/(AV4-AT25)","v":0},{"$f":"IF(AU35=0,0,(AU35*((LOG(AU35))/LOG(2))))","v":0}]
[12,3713,13,3717,13,3721,14,3725,13,3729,0,11111,null,22212,{"$f":"COUNTIF($L$7:$L$500,N36)","v":0},{"$f":"O36/$Q$4","v":0},{"$f":"IF(P36=0,0,(P36*((LOG(P36))/LOG(2))))","v":0},null,null,{"$f":"N36","v":22212},{"$f":"COUNTIF(L7:L39,T36)","v":0},{"$f":"U36/(W4-U25)","v":0},{"$f":"IF(V36=0,0,(V36*((LOG(V36))/LOG(2))))","v":0},null,{"$f":"N36","v":22212},{"$f":"COUNTIF(L40:L72,Y36)","v":0},{"$f":"Z36/(AB4-Z25)","v":0},{"$f":"IF(AA36=0,0,(AA36*((LOG(AA36))/LOG(2))))","v":0},null,{"$f":"N36","v":22212},{"$f":"COUNTIF(L73:L104,AD36)","v":0},{"$f":"AE36/(AG4-AE25)","v":0},{"$f":"IF(AF36=0,0,(AF36*((LOG(AF36))/LOG(2))))","v":0},null,{"$f":"N36","v":22212},{"$f":"COUNTIF(L105:L137,AI36)","v":0},{"$f":"AJ36/(AL4-AJ25)","v":0},{"$f":"IF(AK36=0,0,(AK36*((LOG(AK36))/LOG(2))))","v":0},null,{"$f":"N36","v":22212},{"$f":"COUNTIF(L138:L170,AN36)","v":0},{"$f":"AO36/(AQ4-AO25)","v":0},{"$f":"IF(AP36=0,0,(AP36*((LOG(AP36))/LOG(2))))","v":0},null,{"$f":"N36","v":22212},{"$f":"COUNTIF(L171:L203,AS36)","v":0},{"$f":"AT36/(AV4-AT25)","v":0},{"$f":"IF(AU36=0,0,(AU36*((LOG(AU36))/LOG(2))))","v":0}]
[12,3830,13,3834,13,3838,14,3842,13,3846,0,11111,null,22221,{"$f":"COUNTIF($L$7:$L$500,N37)","v":0},{"$f":"O37/$Q$4","v":0},{"$f":"IF(P37=0,0,(P37*((LOG(P37))/LOG(2))))","v":0},null,null,{"$f":"N37","v":22221},{"$f":"COUNTIF(L7:L39,T37)","v":0},{"$f":"U37/(W4-U25)","v":0},{"$f":"IF(V37=0,0,(V37*((LOG(V37))/LOG(2))))","v":0},null,{"$f":"N37","v":22221},{"$f":"COUNTIF(L40:L72,Y37)","v":0},{"$f":"Z37/(AB4-Z25)","v":0},{"$f":"IF(AA37=0,0,(AA37*((LOG(AA37))/LOG(2))))","v":0},null,{"$f":"N37","v":22221},{"$f":"COUNTIF(L73:L104,AD37)","v":0},{"$f":"AE37/(AG4-AE25)","v":0},{"$f":"IF(AF37=0,0,(AF37*((LOG(AF37))/LOG(2))))","v":0},null,{"$f":"N37","v":22221},{"$f":"COUNTIF(L105:L137,AI37)","v":0},{"$f":"AJ37/(AL4-AJ25)","v":0},{"$f":"IF(AK37=0,0,(AK37*((LOG(AK37))/LOG(2))))","v":0},null,{"$f":"N37","v":22221},{"$f":"COUNTIF(L138:L170,AN37)","v":0},{"$f":"AO37/(AQ4-AO25)","v":0},{"$f":"IF(AP37=0,0,(AP37*((LOG(AP37))/LOG(2))))","v":0},null,{"$f":"N37","v":22221},{"$f":"COUNTIF(L171:L203,AS37)","v":0},{"$f":"AT37/(AV4-AT25)","v":0},{"$f":"IF(AU37=0,0,(AU37*((LOG(AU37))/LOG(2))))","v":0}]
[12,3947,13,3951,13,3955,14,3958,13,3963,1,11111,null,22222,{"$f":"COUNTIF($L$7:$L$500,N38)","v":0},{"$f":"O38/$Q$4","v":0},{"$f":"IF(P38=0,0,(P38*((LOG(P38))/LOG(2))))","v":0},null,null,{"$f":"N38","v":22222},{"$f":"COUNTIF(L7:L39,T38)","v":0},{"$f":"U38/(W4-U25)","v":0},{"$f":"IF(V38=0,0,(V38*((LOG(V38))/LOG(2))))","v":0},null,{"$f":"N38","v":22222},{"$f":"COUNTIF(L40:L72,Y38)","v":0},{"$f":"Z38/(AB4-Z25)","v":0},{"$f":"IF(AA38=0,0,(AA38*((LOG(AA38))/LOG(2))))","v":0},null,{"$f":"N38","v":22222},{"$f":"COUNTIF(L73:L104,AD38)","v":0},{"$f":"AE38/(AG4-AE25)","v":0},{"$f":"IF(AF38=0,0,(AF38*((LOG(AF38))/LOG(2))))","v":0},null,{"$f":"N38","v":22222},{"$f":"COUNTIF(L105:L137,AI38)","v":0},{"$f":"AJ38/(AL4-AJ25)","v":0},{"$f":"IF(AK38=0,0,(AK38*((LOG(AK38))/LOG(2))))","v":0},null,{"$f":"N38","v":22222},{"$f":"COUNTIF(L138:L170,AN38)","v":0},{"$f":"AO38/(AQ4-AO25)","v":0},{"$f":"IF(AP38=0,0,(AP38*((LOG(AP38))/LOG(2))))","v":0},null,{"$f":"N38","v":22222},{"$f":"COUNTIF(L171:L203,AS38)","v":0},{"$f":"AT38/(AV4-AT25)","v":0},{"$f":"IF(AU38=0,0,(AU38*((LOG(AU38))/LOG(2))))","v":0}]
[12,4062,13,4066,13,4070,14,4074,13,4079,0,11111,null,null,null,{"$f":"SUM(P7:P38)","v":1},{"$f":"-SUM(Q7:Q38)","v":0},null,null,null,null,{"$f":"SUM(V7:V38)","v":1},{"$f":"-SUM(W7:W38)","v":0},null,null,null,{"$f":"SUM(AA7:AA38)","v":1},{"$f":"-SUM(AB7:AB38)","v":0},null,null,null,{"$f":"SUM(AF7:AF38)","v":1},{"$f":"-SUM(AG7:AG38)","v":0},null,null,null,{"$f":"SUM(AK7:AK38)","v":1},{"$f":"-SUM(AL7:AL38)","v":0},null,null,null,{"$f":"SUM(AP7:AP38)","v":1},{"$f":"-SUM(AQ7:AQ38)","v":0},null,null,null,{"$f":"SUM(AU7:AU38)","v":1},{"$f":"-SUM(AV7:AV38)","v":0}]
[12,4191,13,4195,13,4199,14,4203,13,4208,0,11111,null,null,null,"U=",{"$f":"Q39/(LOG(Q4)/LOG(2))","v":0},null,null,null,null,"U1=",{"$f":"W39/(LOG(W4)/LOG(2))","v":0},null,null,null,"U2=",{"$f":"AB39/(LOG(AB4)/LOG(2))","v":0},null,null,null,"U3=",{"$f":"AG39/(LOG(AG4)/LOG(2))","v":0},null,null,null,"U4=",{"$f":"AL39/(LOG(AL4)/LOG(2))","v":0},null,null,null,"U5=",{"$f":"AQ39/(LOG(AQ4)/LOG(2))","v":0},null,null,null,"U6=",{"$f":"AV39/(LOG(AV4)/LOG(2))","v":0}]
[12,4312,13,4316,13,4320,14,4324,13,4328,0,11111]
[12,4428,13,4432,13,4435,14,4439,13,4443,0,11111]
[12,4547,13,4552,13,4556,14,4560,13,4565,0,11111,null,"Total Target Seq"]
[12,4669,13,4673,13,4677,14,4681,13,4685,0,11111,null,{"$f":"COUNTIF(L7:L203,G3)","v":0},null,33,33,32,33,33,33]
[12,4795,13,4804,13,4808,14,4813,13,4823,0,11111,null,null,null,"% of reinforcement given in 6 equal intervals based on number of trials "]
[12,4932,13,4935,13,4939,14,4944,13,4949,0,11111,null,null,null,"%_1","%_2","%_3","%_4","%_5","%_6"]
[12,5063,13,5067,13,5072,14,5081,13,5095,1,11111,null,null,"target sequence",{"$f":"$G$3","v":21121},{"$f":"$G$3","v":21121},{"$f":"$G$3","v":21121},{"$f":"$G$3","v":21121},{"$f":"$G$3","v":21121},{"$f":"$G$3","v":21121}]
[12,5203,13,5207,13,5211,14,5232,13,5236,1,11111,null,null,"total reinforcement",{"$f":"U25","v":0},{"$f":"Z25","v":0},{"$f":"AE25","v":0},{"$f":"AJ25","v":0},{"$f":"AO25","v":0},{"$f":"AT25","v":0}]
[12,5334,13,5339,13,5343,14,5347,13,5352,0,11111,null,null,"% target"]
[12,5458,13,5463,13,5466,14,5470,13,5475,0,11111,null,null,"CCRF"]
[12,5576,13,5580,13,5584,14,5589,13,5593,0,11111,null,null,"% CCRf"]
[12,5698,13,5702,13,5706,14,5710,13,5714,0,11111,null,null,"average response rate",{"$f":"J39/P44","v":123.60606060606061},{"$f":"(J72-J39)/Q44","v":122.54545454545455},{"$f":"(J104-J72)/R44","v":121.4375},{"$f":"(J137-J104)/S44","v":121.24242424242425},{"$f":"(J170-J137)/T44","v":119.27272727272727},{"$f":"(J203-J170)/U44","v":120.27272727272727}]
[12,5819,13,5823,13,5827,14,5831,13,5836,0,11111]
[12,5937,13,5941,13,5945,14,5949,13,5953,0,11111]
[12,6056,13,6061,13,6065,14,6069,13,6073,0,11111]
[12,6176,13,6180,13,6183,14,6187,13,6191,0,11111]
[12,6302,13,6306,13,6310,14,6315,13,6323,0,11111]
[12,6425,13,6429,13,6433,14,6438,13,6446,0,11111]
[12,6545,13,6549,13,6553,14,6559,13,6563,0,11111]
[12,6662,13,6666,13,6670,14,6674,13,6679,1,11111]
[12,6778,13,6782,13,6786,14,6790,13,6794,0,11111]
[12,6897,13,6900,13,6904,14,6908,13,6913,0,11111]
[12,7014,13,7017,13,7021,14,7025,13,7035,0,11111]
[12,7137,13,7141,13,7145,14,7149,13,7154,0,11111]
[12,7260,13,7264,13,7268,14,7273,13,7277,0,11111]
[12,7376,13,7380,13,7384,14,7388,13,7391,0,11111]
[12,7492,13,7496,13,7500,14,7504,13,7508,0,11111]
[12,7613,13,7627,13,7633,14,7638,13,7648,0,11111]
[12,7749,13,7752,13,7757,14,7761,13,7765,0,11111]
[12,7868,13,7871,13,7875,14,7878,13,7882,0,11111]
[12,7987,13,7994,13,7998,14,8002,13,8007,0,11111]
[12,8107,13,8111,13,8115,14,8119,13,8123,1,11111]
[12,8218,13,8222,13,8226,14,8232,13,8237,0,11111]
[12,8339,13,8343,13,8351,14,8355,13,8359,0,11111]
[12,8458,13,8462,13,8466,14,8469,13,8473,1,11111]
[12,8570,13,8573,13,8578,14,8582,13,8587,0,11111]
[12,8691,13,8696,13,8700,14,8704,13,8709,0,11111]
[12,8808,13,8815,13,8819,14,8823,13,8828,0,11111]
[12,8927,13,8931,13,8935,14,8939,13,8943,0,11111]
[12,9040,13,9053,13,9057,14,9061,13,9066,0,11111]
[12,9167,13,9171,13,9175,14,9179,13,9183,0,11111]
[12,9283,13,9287,13,9290,14,9294,13,9298,0,11111]
[12,9408,13,9412,13,9416,14,9422,13,9427,1,11111]
[12,9538,13,9543,13,9547,14,9551,13,9556,0,11111]
[12,9656,13,9663,13,9667,14,9671,13,9675,0,11111]
[12,9775,13,9779,13,9783,14,9789,13,9794,0,11111]
[12,9894,13,9898,13,9902,14,9910,13,9914,0,11111]
[12,10023,13,10027,13,10034,14,10042,13,10051,0,11111]
[12,10151,13,10155,13,10159,14,10163,13,10167,0,11111]
[12,10271,13,10276,13,10279,14,10283,13,10288,0,11111]
[12,10389,13,10393,13,10396,14,10400,13,10404,1,11111]
[12,10503,13,10508,13,10512,14,10516,13,10521,0,11111]
[12,10626,13,10630,13,10634,14,10643,13,10647,0,11111]
[12,10747,13,10754,13,10758,14,10762,13,10766,0,11111]
[12,10871,13,10875,13,10879,14,10883,13,10888,0,11111]
[12,10988,13,10992,13,10996,14,11000,13,11004,1,11111]
[12,11116,13,11123,13,11127,14,11133,13,11140,0,11111]
[12,11240,13,11244,13,11248,14,11251,13,11255,0,11111]
[12,11357,13,11361,13,11369,14,11374,13,11380,1,11111]
[12,11477,13,11485,13,11489,14,11494,13,11499,0,11111]
[12,11608,13,11612,13,11616,14,11619,13,11643,0,11111]
[12,11743,13,11748,13,11751,14,11755,13,11759,1,11111]
[12,11857,13,11863,13,11866,14,11874,13,11879,0,11111]
[12,11978,13,11987,13,11997,14,12001,13,12009,0,11111]
[12,12112,13,12116,13,12121,14,12124,13,12129,0,11111]
[12,12230,13,12234,13,12238,14,12242,13,12247,0,11111]
[12,12347,13,12352,13,12356,14,12360,13,12364,1,11111]
[12,12466,13,12470,13,12474,14,12478,13,12482,1,11111]
[12,12581,13,12585,13,12589,14,12593,13,12598,0,11111]
[12,12698,13,12701,13,12705,14,12708,13,12712,0,11111]
[12,12814,13,12822,13,12826,14,12830,13,12837,0,11111]
[12,12939,13,12943,13,12948,14,12952,13,12956,0,11111]
[12,13054,13,13058,13,13062,14,13066,13,13070,1,11111]
[12,13164,13,13169,13,13172,14,13176,13,13181,0,11111]
[12,13282,13,13286,13,13290,14,13294,13,13299,0,11111]
[12,13427,13,13431,13,13436,14,13440,13,13446,0,11111]
[12,13550,13,13554,13,13557,14,13565,13,13569,0,11111]
[12,13674,13,13678,13,13682,14,13689,13,13693,0,11111]
[12,13793,13,13797,13,13801,14,13804,13,13809,1,11111]
[12,13910,13,13914,13,13918,14,13929,13,13938,1,11111]
[12,14036,13,14043,13,14052,14,14058,13,14063,0,11111]
[12,14165,13,14169,13,14172,14,14180,13,14185,0,11111]
[12,14285,13,14289,13,14293,14,14297,13,14301,0,11111]
[12,14408,13,14413,13,14417,14,14421,13,14431,0,11111]
[12,14541,13,14546,13,14549,14,14553,13,14557,0,11111]
[12,14659,13,14667,13,14671,14,14675,13,14679,0,11111]
[12,14779,13,14783,13,14786,14,14790,13,14797,0,11111]
[12,14900,13,14903,13,14907,14,14911,13,14915,0,11111]
[12,15014,13,15020,13,15035,14,15039,13,15043,1,11111]
[12,15142,13,15146,13,15150,14,15154,13,15160,0,11111]
[12,15261,13,15265,13,15269,14,15273,13,15282,1,11111]
[12,15384,13,15388,13,15393,14,15397,13,15403,0,11111]
[12,15514,13,15518,13,15522,14,15535,13,15541,0,11111]
[12,15641,13,15645,13,15649,14,15653,13,15657,0,11111]
[12,15759,13,15763,13,15767,14,15771,13,15775,0,11111]
[12,15874,13,15879,13,15883,14,15887,13,15892,0,11111]
[12,15994,13,15998,13,16002,14,16006,13,16010,1,11111]
[12,16106,13,16110,13,16113,14,16118,13,16127,0,11111]
[12,16229,13,16233,13,16238,14,16242,13,16246,0,11111]
[12,16344,13,16348,13,16353,14,16358,13,16367,1,11111]
[12,16469,13,16473,13,16477,14,16486,13,16491,1,11111]
[12,16586,13,16590,13,16595,14,16600,13,16605,0,11111]
[12,16706,13,16710,13,16714,14,16718,13,16723,0,11111]
[12,16825,13,16830,13,16838,14,16843,13,16858,0,11111]
[12,16955,13,16959,13,16963,14,16967,13,16971,1,11111]
[12,17070,13,17074,13,17078,14,17082,13,17087,0,11111]
[12,17187,13,17191,13,17195,14,17198,13,17203,0,11111]
[12,17305,13,17309,13,17313,14,17317,13,17321,0,11111]
[12,17435,13,17445,13,17452,14,17458,13,17462,1,11111]
[12,17558,13,17562,13,17566,14,17570,13,17574,0,11111]
[12,17675,13,17680,13,17684,14,17688,13,17693,0,11111]
[12,17792,13,17795,13,17799,14,17803,13,17807,0,11111]
[12,17910,13,17914,13,17919,14,17928,13,17932,0,11111]
[12,18037,13,18041,13,18044,14,18049,13,18061,1,11111]
[12,18157,13,18162,13,18166,14,18170,13,18174,0,11111]
[12,18272,13,18276,13,18280,14,18284,13,18289,0,11111]
[12,18388,13,18393,13,18396,14,18405,13,18409,0,11111]
[12,18509,13,18513,13,18517,14,18521,13,18526,0,11111]
[12,18628,13,18632,13,18636,14,18640,13,18645,0,11111]
[12,18738,13,18743,13,18747,14,18751,13,18755,1,11111]
[12,18849,13,18853,13,18857,14,18861,13,18865,0,11111]
[12,18967,13,18971,13,18975,14,18979,13,18988,0,11111]
[12,19087,13,19091,13,19095,14,19099,13,19107,0,11111]
[12,19212,13,19216,13,19225,14,19230,13,19239,0,11111]
[12,19337,13,19341,13,19345,14,19349,13,19354,0,11111]
[12,19454,13,19457,13,19461,14,19465,13,19470,1,11111]
[12,19571,13,19576,13,19580,14,19584,13,19588,0,11111]
[12,19688,13,19692,13,19696,14,19700,13,19704,0,11111]
[12,19806,13,19810,13,19814,14,19818,13,19832,0,11111]
[12,19930,13,19933,13,19937,14,19941,13,19946,0,11111]
[12,20045,13,20049,13,20053,14,20057,13,20061,0,11111]
[12,20159,13,20163,13,20166,14,20170,13,20174,0,11111]
[12,20274,13,20277,13,20281,14,20285,13,20289,0,11111]
[12,20390,13,20395,13,20402,14,20407,13,20414,1,11111]
[12,20524,13,20532,13,20536,14,20543,13,20552,0,11111]
[12,20652,13,20656,13,20660,14,20666,13,20681,0,11111]
[12,20781,13,20784,13,20788,14,20792,13,20797,0,11111]
[12,20898,13,20901,13,20905,14,20909,13,20913,0,11111]
[12,21019,13,21023,13,21027,14,21031,13,21036,0,11111]
[12,21137,13,21141,13,21144,14,21148,13,21153,1,11111]
[12,21248,13,21252,13,21257,14,21261,13,21266,0,11111]
[12,21365,13,21369,13,21373,14,21377,13,21390,0,11111]
[12,21499,13,21506,13,21510,14,21514,13,21522,0,11111]
[12,21623,13,21628,13,21632,14,21640,13,21644,0,11111]
[12,21747,13,21751,13,21756,14,21760,13,21764,0,11111]
[12,21870,13,21874,13,21879,14,21888,13,21893,0,11111]
[12,21988,13,21992,13,21996,14,22000,13,22003,0,11111]
[12,22112,13,22116,13,22120,14,22123,13,22128,1,11111]
[12,22223,13,22227,13,22231,14,22235,13,22248,0,11111]
[12,22348,13,22352,13,22355,14,22359,13,22369,0,11111]
[12,22468,13,22472,13,22476,14,22480,13,22485,1,11111]
[12,22580,13,22584,13,22588,14,22591,13,22595,0,11111]
[12,22694,13,22698,13,22702,14,22706,13,22710,0,11111]
[12,22807,13,22811,13,22815,14,22819,13,22827,0,11111]
[12,22926,13,22929,13,22933,14,22937,13,22941,0,11111]
[12,23039,13,23043,13,23047,14,23051,13,23055,1,11111]
[12,23150,13,23154,13,23158,14,23163,13,23168,0,11111]
[12,23274,13,23279,13,23287,14,23294,13,23309,0,11111]
[12,23411,13,23419,13,23424,14,23429,13,23437,0,11111]
[12,23531,13,23539,13,23543,14,23547,13,23555,0,11111]
[12,23657,13,23661,13,23665,14,23669,13,23673,0,11111]
[12,23779,13,23783,13,23787,14,23791,13,23796,0,11111]
[12,23896,13,23900,13,23904,14,23909,13,23915,null,11111]

{"sheet":"!MC27940.010","index":27,"n_rows":194,"n_cols":48,"rows_kept":194,"cut":false,"hidden":false,"merged":[[4,39,4,42],[5,39,5,40],[4,44,4,47],[5,44,5,45],[4,24,4,27],[5,24,5,25],[4,29,4,32],[5,29,5,30],[4,34,4,37],[5,34,5,35],[1,1,1,2],[5,13,5,14],[42,13,42,14],[43,13,43,14],[4,19,4,22],[5,19,5,20]]}
["Report for:!MC27940.010"]
["Date:","<date>"]
["Hen:","<hen>",null,null,null,"Correct Sequence",{"$f":"Start!J2","v":21121},null,null,null,null,null,null,null,null,"Total Sequences in Data",{"$f":"4994-COUNTBLANK(L7:L5000)","v":188},null,null,null,null,"Total Sequences in Block Data",{"$f":"COUNTA(L7:L37)","v":31},null,null,null,"Total Sequences in Block Data",{"$f":"COUNTA(L38:L69)","v":32},null,null,null,"Total Sequences in Block Data",{"$f":"COUNTA(L70:L100)","v":31},null,null,null,"Total Sequences in Block Data",{"$f":"COUNTA(L101:L131)","v":31},null,null,null,"Total Sequences in Block Data",{"$f":"COUNTA(L132:L163)","v":32},null,null,null,"Total Sequences in Block Data",{"$f":"COUNTA(L164:L194)","v":31}]
[null,null,null,null,null,null,null,null,null,null,null,null,null,null,null,"Total Sequences in Summary",{"$f":"SUM(O7:O38)","v":188},null,null,null,null,"Total Sequences in Block Summary",{"$f":"SUM(U7:U38)","v":31},null,null,null,"Total Sequences in Block Summary",{"$f":"SUM(Z7:Z38)","v":32},null,null,null,"Total Sequences in Block Summary",{"$f":"SUM(AE7:AE38)","v":31},null,null,null,"Total Sequences in Block Summary",{"$f":"SUM(AJ7:AJ38)","v":31},null,null,null,"Total Sequences in Block Summary",{"$f":"SUM(AO7:AO38)","v":32},null,null,null,"Total Sequences in Block Summary",{"$f":"SUM(AT7:AT38)","v":31}]
[null,null,null,null,null,null,null,null,null,null,null,null,null,null,null,null,null,null,null,"Block 1",null,null,null,null,"Block 2",null,null,null,null,"Block 3",null,null,null,null,"Block 4",null,null,null,null,"Block 5",null,null,null,null,"Block 6"]
["Sequence\nComponent\n1","Time\n1","Sequence\nComponent\n2","Time\n2","Sequence\nComponent\n3","Time\n3","Sequence\nComponent\n4","Time\n4","Sequence\nComponent\n5","Time\n5","Correct?\n0=No 1=Yes","Sequence",null,"Frequency",null,"Relative Frequency","Variability",null,null,"Frequency",null,"Relative Frequency","Variability",null,"Frequency",null,"Relative Frequency","Variability",null,"Frequency",null,"Relative Frequency","Variability",null,"Frequency",null,"Relative Frequency","Variability",null,"Frequency",null,"Relative Frequency","Variability",null,"Frequency",null,"Relative Frequency","Variability"]
[12,82,13,86,13,91,14,95,13,105,0,11111,null,11111,{"$f":"COUNTIF($L$7:$L$500,N7)","v":181},{"$f":"O7/$Q$4","v":0.96276595744680848},{"$f":"IF(P7=0,0,(P7*((LOG(P7))/LOG(2))))","v":-5.2704662721235106E-2},null,null,{"$f":"N7","v":11111},{"$f":"COUNTIF(L7:L37,T7)","v":28},{"$f":"U7/(W4-U25)","v":0.90322580645161288},{"$f":"IF(V7=0,0,(V7*((LOG(V7))/LOG(2))))","v":-0.13263093139418039},null,{"$f":"N7","v":11111},{"$f":"COUNTIF(L38:L69,Y7)","v":32},{"$f":"Z7/(AB4-Z25)","v":1},{"$f":"IF(AA7=0,0,(AA7*((LOG(AA7))/LOG(2))))","v":0},null,{"$f":"N7","v":11111},{"$f":"COUNTIF(L70:L100,AD7)","v":30},{"$f":"AE7/(AG4-AE25)","v":0.967741935483871},{"$f":"IF(AF7=0,0,(AF7*((LOG(AF7))/LOG(2))))","v":-4.5779723979054811E-2},null,{"$f":"N7","v":11111},{"$f":"COUNTIF(L101:L131,AI7)","v":29},{"$f":"AJ7/(AL4-AJ25)","v":0.93548387096774188},{"$f":"IF(AK7=0,0,(AK7*((LOG(AK7))/LOG(2))))","v":-9.0007875565154577E-2},null,{"$f":"N7","v":11111},{"$f":"COUNTIF(L132:L163,AN7)","v":31},{"$f":"AO7/(AQ4-AO25)","v":0.96875},{"$f":"IF(AP7=0,0,(AP7*((LOG(AP7))/LOG(2))))","v":-4.4372324312714644E-2},null,{"$f":"N7","v":11111},{"$f":"COUNTIF(L164:L194,AS7)","v":31},{"$f":"AT7/(AV4-AT25)","v":1},{"$f":"IF(AU7=0,0,(AU7*((LOG(AU7))/LOG(2))))","v":0}]
[12,223,13,227,13,232,14,236,13,241,0,11111,null,11112,{"$f":"COUNTIF($L$7:$L$500,N8)","v":0},{"$f":"O8/$Q$4","v":0},{"$f":"IF(P8=0,0,(P8*((LOG(P8))/LOG(2))))","v":0},null,null,{"$f":"N8","v":11112},{"$f":"COUNTIF(L7:L37,T8)","v":0},{"$f":"U8/(W4-U25)","v":0},{"$f":"IF(V8=0,0,(V8*((LOG(V8))/LOG(2))))","v":0},null,{"$f":"N8","v":11112},{"$f":"COUNTIF(L38:L69,Y8)","v":0},{"$f":"Z8/(AB4-Z25)","v":0},{"$f":"IF(AA8=0,0,(AA8*((LOG(AA8))/LOG(2))))","v":0},null,{"$f":"N8","v":11112},{"$f":"COUNTIF(L70:L100,AD8)","v":0},{"$f":"AE8/(AG4-AE25)","v":0},{"$f":"IF(AF8=0,0,(AF8*((LOG(AF8))/LOG(2))))","v":0},null,{"$f":"N8","v":11112},{"$f":"COUNTIF(L101:L131,AI8)","v":0},{"$f":"AJ8/(AL4-AJ25)","v":0},{"$f":"IF(AK8=0,0,(AK8*((LOG(AK8))/LOG(2))))","v":0},null,{"$f":"N8","v":11112},{"$f":"COUNTIF(L132:L163,AN8)","v":0},{"$f":"AO8/(AQ4-AO25)","v":0},{"$f":"IF(AP8=0,0,(AP8*((LOG(AP8))/LOG(2))))","v":0},null,{"$f":"N8","v":11112},{"$f":"COUNTIF(L164:L194,AS8)","v":0},{"$f":"AT8/(AV4-AT25)","v":0},{"$f":"IF(AU8=0,0,(AU8*((LOG(AU8))/LOG(2))))","v":0}]
[21,364,22,368,24,373,23,381,24,390,0,22222,null,11121,{"$f":"COUNTIF($L$7:$L$500,N9)","v":0},{"$f":"O9/$Q$4","v":0},{"$f":"IF(P9=0,0,(P9*((LOG(P9))/LOG(2))))","v":0},null,null,{"$f":"N9","v":11121},{"$f":"COUNTIF(L7:L37,T9)","v":0},{"$f":"U9/(W4-U25)","v":0},{"$f":"IF(V9=0,0,(V9*((LOG(V9))/LOG(2))))","v":0},null,{"$f":"N9","v":11121},{"$f":"COUNTIF(L38:L69,Y9)","v":0},{"$f":"Z9/(AB4-Z25)","v":0},{"$f":"IF(AA9=0,0,(AA9*((LOG(AA9))/LOG(2))))","v":0},null,{"$f":"N9","v":11121},{"$f":"COUNTIF(L70:L100,AD9)","v":0},{"$f":"AE9/(AG4-AE25)","v":0},{"$f":"IF(AF9=0,0,(AF9*((LOG(AF9))/LOG(2))))","v":0},null,{"$f":"N9","v":11121},{"$f":"COUNTIF(L101:L131,AI9)","v":0},{"$f":"AJ9/(AL4-AJ25)","v":0},{"$f":"IF(AK9=0,0,(AK9*((LOG(AK9))/LOG(2))))","v":0},null,{"$f":"N9","v":11121},{"$f":"COUNTIF(L132:L163,AN9)","v":0},{"$f":"AO9/(AQ4-AO25)","v":0},{"$f":"IF(AP9=0,0,(AP9*((LOG(AP9))/LOG(2))))","v":0},null,{"$f":"N9","v":11121},{"$f":"COUNTIF(L164:L194,AS9)","v":0},{"$f":"AT9/(AV4-AT25)","v":0},{"$f":"IF(AU9=0,0,(AU9*((LOG(AU9))/LOG(2))))","v":0}]
[12,490,13,494,13,499,14,503,13,508,1,11111,null,11122,{"$f":"COUNTIF($L$7:$L$500,N10)","v":0},{"$f":"O10/$Q$4","v":0},{"$f":"IF(P10=0,0,(P10*((LOG(P10))/LOG(2))))","v":0},null,null,{"$f":"N10","v":11122},{"$f":"COUNTIF(L7:L37,T10)","v":0},{"$f":"U10/(W4-U25)","v":0},{"$f":"IF(V10=0,0,(V10*((LOG(V10))/LOG(2))))","v":0},null,{"$f":"N10","v":11122},{"$f":"COUNTIF(L38:L69,Y10)","v":0},{"$f":"Z10/(AB4-Z25)","v":0},{"$f":"IF(AA10=0,0,(AA10*((LOG(AA10))/LOG(2))))","v":0},null,{"$f":"N10","v":11122},{"$f":"COUNTIF(L70:L100,AD10)","v":0},{"$f":"AE10/(AG4-AE25)","v":0},{"$f":"IF(AF10=0,0,(AF10*((LOG(AF10))/LOG(2))))","v":0},null,{"$f":"N10","v":11122},{"$f":"COUNTIF(L101:L131,AI10)","v":0},{"$f":"AJ10/(AL4-AJ25)","v":0},{"$f":"IF(AK10=0,0,(AK10*((LOG(AK10))/LOG(2))))","v":0},null,{"$f":"N10","v":11122},{"$f":"COUNTIF(L132:L163,AN10)","v":0},{"$f":"AO10/(AQ4-AO25)","v":0},{"$f":"IF(AP10=0,0,(AP10*((LOG(AP10))/LOG(2))))","v":0},null,{"$f":"N10","v":11122},{"$f":"COUNTIF(L164:L194,AS10)","v":0},{"$f":"AT10/(AV4-AT25)","v":0},{"$f":"IF(AU10=0,0,(AU10*((LOG(AU10))/LOG(2))))","v":0}]
[12,615,13,620,13,624,14,629,13,639,0,11111,null,11211,{"$f":"COUNTIF($L$7:$L$500,N11)","v":0},{"$f":"O11/$Q$4","v":0},{"$f":"IF(P11=0,0,(P11*((LOG(P11))/LOG(2))))","v":0},null,null,{"$f":"N11","v":11211},{"$f":"COUNTIF(L7:L37,T11)","v":0},{"$f":"U11/(W4-U25)","v":0},{"$f":"IF(V11=0,0,(V11*((LOG(V11))/LOG(2))))","v":0},null,{"$f":"N11","v":11211},{"$f":"COUNTIF(L38:L69,Y11)","v":0},{"$f":"Z11/(AB4-Z25)","v":0},{"$f":"IF(AA11=0,0,(AA11*((LOG(AA11))/LOG(2))))","v":0},null,{"$f":"N11","v":11211},{"$f":"COUNTIF(L70:L100,AD11)","v":0},{"$f":"AE11/(AG4-AE25)","v":0},{"$f":"IF(AF11=0,0,(AF11*((LOG(AF11))/LOG(2))))","v":0},null,{"$f":"N11","v":11211},{"$f":"COUNTIF(L101:L131,AI11)","v":0},{"$f":"AJ11/(AL4-AJ25)","v":0},{"$f":"IF(AK11=0,0,(AK11*((LOG(AK11))/LOG(2))))","v":0},null,{"$f":"N11","v":11211},{"$f":"COUNTIF(L132:L163,AN11)","v":0},{"$f":"AO11/(AQ4-AO25)","v":0},{"$f":"IF(AP11=0,0,(AP11*((LOG(AP11))/LOG(2))))","v":0},null,{"$f":"N11","v":11211},{"$f":"COUNTIF(L164:L194,AS11)","v":0},{"$f":"AT11/(AV4-AT25)","v":0},{"$f":"IF(AU11=0,0,(AU11*((LOG(AU11))/LOG(2))))","v":0}]
[12,751,13,756,13,761,14,765,13,770,1,11111,null,11212,{"$f":"COUNTIF($L$7:$L$500,N12)","v":0},{"$f":"O12/$Q$4","v":0},{"$f":"IF(P12=0,0,(P12*((LOG(P12))/LOG(2))))","v":0},null,null,{"$f":"N12","v":11212},{"$f":"COUNTIF(L7:L37,T12)","v":0},{"$f":"U12/(W4-U25)","v":0},{"$f":"IF(V12=0,0,(V12*((LOG(V12))/LOG(2))))","v":0},null,{"$f":"N12","v":11212},{"$f":"COUNTIF(L38:L69,Y12)","v":0},{"$f":"Z12/(AB4-Z25)","v":0},{"$f":"IF(AA12=0,0,(AA12*((LOG(AA12))/LOG(2))))","v":0},null,{"$f":"N12","v":11212},{"$f":"COUNTIF(L70:L100,AD12)","v":0},{"$f":"AE12/(AG4-AE25)","v":0},{"$f":"IF(AF12=0,0,(AF12*((LOG(AF12))/LOG(2))))","v":0},null,{"$f":"N12","v":11212},{"$f":"COUNTIF(L101:L131,AI12)","v":0},{"$f":"AJ12/(AL4-AJ25)","v":0},{"$f":"IF(AK12=0,0,(AK12*((LOG(AK12))/LOG(2))))","v":0},null,{"$f":"N12","v":11212},{"$f":"COUNTIF(L132:L163,AN12)","v":0},{"$f":"AO12/(AQ4-AO25)","v":0},{"$f":"IF(AP12=0,0,(AP12*((LOG(AP12))/LOG(2))))","v":0},null,{"$f":"N12","v":11212},{"$f":"COUNTIF(L164:L194,AS12)","v":0},{"$f":"AT12/(AV4-AT25)","v":0},{"$f":"IF(AU12=0,0,(AU12*((LOG(AU12))/LOG(2))))","v":0}]
[12,880,13,884,13,889,14,893,13,898,1,11111,null,11221,{"$f":"COUNTIF($L$7:$L$500,N13)","v":0},{"$f":"O13/$Q$4","v":0},{"$f":"IF(P13=0,0,(P13*((LOG(P13))/LOG(2))))","v":0},null,null,{"$f":"N13","v":11221},{"$f":"COUNTIF(L7:L37,T13)","v":0},{"$f":"U13/(W4-U25)","v":0},{"$f":"IF(V13=0,0,(V13*((LOG(V13))/LOG(2))))","v":0},null,{"$f":"N13","v":11221},{"$f":"COUNTIF(L38:L69,Y13)","v":0},{"$f":"Z13/(AB4-Z25)","v":0},{"$f":"IF(AA13=0,0,(AA13*((LOG(AA13))/LOG(2))))","v":0},null,{"$f":"N13","v":11221},{"$f":"COUNTIF(L70:L100,AD13)","v":0},{"$f":"AE13/(AG4-AE25)","v":0},{"$f":"IF(AF13=0,0,(AF13*((LOG(AF13))/LOG(2))))","v":0},null,{"$f":"N13","v":11221},{"$f":"COUNTIF(L101:L131,AI13)","v":0},{"$f":"AJ13/(AL4-AJ25)","v":0},{"$f":"IF(AK13=0,0,(AK13*((LOG(AK13))/LOG(2))))","v":0},null,{"$f":"N13","v":11221},{"$f":"COUNTIF(L132:L163,AN13)","v":0},{"$f":"AO13/(AQ4-AO25)","v":0},{"$f":"IF(AP13=0,0,(AP13*((LOG(AP13))/LOG(2))))","v":0},null,{"$f":"N13","v":11221},{"$f":"COUNTIF(L164:L194,AS13)","v":0},{"$f":"AT13/(AV4-AT25)","v":0},{"$f":"IF(AU13=0,0,(AU13*((LOG(AU13))/LOG(2))))","v":0}]
[12,1018,13,1023,13,1042,14,1052,13,1057,0,11111,null,11222,{"$f":"COUNTIF($L$7:$L$500,N14)","v":0},{"$f":"O14/$Q$4","v":0},{"$f":"IF(P14=0,0,(P14*((LOG(P14))/LOG(2))))","v":0},null,null,{"$f":"N14","v":11222},{"$f":"COUNTIF(L7:L37,T14)","v":0},{"$f":"U14/(W4-U25)","v":0},{"$f":"IF(V14=0,0,(V14*((LOG(V14))/LOG(2))))","v":0},null,{"$f":"N14","v":11222},{"$f":"COUNTIF(L38:L69,Y14)","v":0},{"$f":"Z14/(AB4-Z25)","v":0},{"$f":"IF(AA14=0,0,(AA14*((LOG(AA14))/LOG(2))))","v":0},null,{"$f":"N14","v":11222},{"$f":"COUNTIF(L70:L100,AD14)","v":0},{"$f":"AE14/(AG4-AE25)","v":0},{"$f":"IF(AF14=0,0,(AF14*((LOG(AF14))/LOG(2))))","v":0},null,{"$f":"N14","v":11222},{"$f":"COUNTIF(L101:L131,AI14)","v":0},{"$f":"AJ14/(AL4-AJ25)","v":0},{"$f":"IF(AK14=0,0,(AK14*((LOG(AK14))/LOG(2))))","v":0},null,{"$f":"N14","v":11222},{"$f":"COUNTIF(L132:L163,AN14)","v":0},{"$f":"AO14/(AQ4-AO25)","v":0},{"$f":"IF(AP14=0,0,(AP14*((LOG(AP14))/LOG(2))))","v":0},null,{"$f":"N14","v":11222},{"$f":"COUNTIF(L164:L194,AS14)","v":0},{"$f":"AT14/(AV4-AT25)","v":0},{"$f":"IF(AU14=0,0,(AU14*((LOG(AU14))/LOG(2))))","v":0}]
[12,1241,13,1246,13,1250,14,1254,13,1262,1,11111,null,12111,{"$f":"COUNTIF($L$7:$L$500,N15)","v":0},{"$f":"O15/$Q$4","v":0},{"$f":"IF(P15=0,0,(P15*((LOG(P15))/LOG(2))))","v":0},null,null,{"$f":"N15","v":12111},{"$f":"COUNTIF(L7:L37,T15)","v":0},{"$f":"U15/(W4-U25)","v":0},{"$f":"IF(V15=0,0,(V15*((LOG(V15))/LOG(2))))","v":0},null,{"$f":"N15","v":12111},{"$f":"COUNTIF(L38:L69,Y15)","v":0},{"$f":"Z15/(AB4-Z25)","v":0},{"$f":"IF(AA15=0,0,(AA15*((LOG(AA15))/LOG(2))))","v":0},null,{"$f":"N15","v":12111},{"$f":"COUNTIF(L70:L100,AD15)","v":0},{"$f":"AE15/(AG4-AE25)","v":0},{"$f":"IF(AF15=0,0,(AF15*((LOG(AF15))/LOG(2))))","v":0},null,{"$f":"N15","v":12111},{"$f":"COUNTIF(L101:L131,AI15)","v":0},{"$f":"AJ15/(AL4-AJ25)","v":0},{"$f":"IF(AK15=0,0,(AK15*((LOG(AK15))/LOG(2))))","v":0},null,{"$f":"N15","v":12111},{"$f":"COUNTIF(L132:L163,AN15)","v":0},{"$f":"AO15/(AQ4-AO25)","v":0},{"$f":"IF(AP15=0,0,(AP15*((LOG(AP15))/LOG(2))))","v":0},null,{"$f":"N15","v":12111},{"$f":"COUNTIF(L164:L194,AS15)","v":0},{"$f":"AT15/(AV4-AT25)","v":0},{"$f":"IF(AU15=0,0,(AU15*((LOG(AU15))/LOG(2))))","v":0}]
[21,1402,22,1410,24,1420,23,1429,24,1435,0,22222,null,12112,{"$f":"COUNTIF($L$7:$L$500,N16)","v":0},{"$f":"O16/$Q$4","v":0},{"$f":"IF(P16=0,0,(P16*((LOG(P16))/LOG(2))))","v":0},null,null,{"$f":"N16","v":12112},{"$f":"COUNTIF(L7:L37,T16)","v":0},{"$f":"U16/(W4-U25)","v":0},{"$f":"IF(V16=0,0,(V16*((LOG(V16))/LOG(2))))","v":0},null,{"$f":"N16","v":12112},{"$f":"COUNTIF(L38:L69,Y16)","v":0},{"$f":"Z16/(AB4-Z25)","v":0},{"$f":"IF(AA16=0,0,(AA16*((LOG(AA16))/LOG(2))))","v":0},null,{"$f":"N16","v":12112},{"$f":"COUNTIF(L70:L100,AD16)","v":0},{"$f":"AE16/(AG4-AE25)","v":0},{"$f":"IF(AF16=0,0,(AF16*((LOG(AF16))/LOG(2))))","v":0},null,{"$f":"N16","v":12112},{"$f":"COUNTIF(L101:L131,AI16)","v":0},{"$f":"AJ16/(AL4-AJ25)","v":0},{"$f":"IF(AK16=0,0,(AK16*((LOG(AK16))/LOG(2))))","v":0},null,{"$f":"N16","v":12112},{"$f":"COUNTIF(L132:L163,AN16)","v":0},{"$f":"AO16/(AQ4-AO25)","v":0},{"$f":"IF(AP16=0,0,(AP16*((LOG(AP16))/LOG(2))))","v":0},null,{"$f":"N16","v":12112},{"$f":"COUNTIF(L164:L194,AS16)","v":0},{"$f":"AT16/(AV4-AT25)","v":0},{"$f":"IF(AU16=0,0,(AU16*((LOG(AU16))/LOG(2))))","v":0}]
[12,1537,13,1542,13,1547,14,1557,13,1563,0,11111,null,12121,{"$f":"COUNTIF($L$7:$L$500,N17)","v":0},{"$f":"O17/$Q$4","v":0},{"$f":"IF(P17=0,0,(P17*((LOG(P17))/LOG(2))))","v":0},null,null,{"$f":"N17","v":12121},{"$f":"COUNTIF(L7:L37,T17)","v":0},{"$f":"U17/(W4-U25)","v":0},{"$f":"IF(V17=0,0,(V17*((LOG(V17))/LOG(2))))","v":0},null,{"$f":"N17","v":12121},{"$f":"COUNTIF(L38:L69,Y17)","v":0},{"$f":"Z17/(AB4-Z25)","v":0},{"$f":"IF(AA17=0,0,(AA17*((LOG(AA17))/LOG(2))))","v":0},null,{"$f":"N17","v":12121},{"$f":"COUNTIF(L70:L100,AD17)","v":0},{"$f":"AE17/(AG4-AE25)","v":0},{"$f":"IF(AF17=0,0,(AF17*((LOG(AF17))/LOG(2))))","v":0},null,{"$f":"N17","v":12121},{"$f":"COUNTIF(L101:L131,AI17)","v":0},{"$f":"AJ17/(AL4-AJ25)","v":0},{"$f":"IF(AK17=0,0,(AK17*((LOG(AK17))/LOG(2))))","v":0},null,{"$f":"N17","v":12121},{"$f":"COUNTIF(L132:L163,AN17)","v":0},{"$f":"AO17/(AQ4-AO25)","v":0},{"$f":"IF(AP17=0,0,(AP17*((LOG(AP17))/LOG(2))))","v":0},null,{"$f":"N17","v":12121},{"$f":"COUNTIF(L164:L194,AS17)","v":0},{"$f":"AT17/(AV4-AT25)","v":0},{"$f":"IF(AU17=0,0,(AU17*((LOG(AU17))/LOG(2))))","v":0}]
[12,1673,13,1678,13,1684,14,1688,13,1693,0,11111,null,12122,{"$f":"COUNTIF($L$7:$L$500,N18)","v":0},{"$f":"O18/$Q$4","v":0},{"$f":"IF(P18=0,0,(P18*((LOG(P18))/LOG(2))))","v":0},null,null,{"$f":"N18","v":12122},{"$f":"COUNTIF(L7:L37,T18)","v":0},{"$f":"U18/(W4-U25)","v":0},{"$f":"IF(V18=0,0,(V18*((LOG(V18))/LOG(2))))","v":0},null,{"$f":"N18","v":12122},{"$f":"COUNTIF(L38:L69,Y18)","v":0},{"$f":"Z18/(AB4-Z25)","v":0},{"$f":"IF(AA18=0,0,(AA18*((LOG(AA18))/LOG(2))))","v":0},null,{"$f":"N18","v":12122},{"$f":"COUNTIF(L70:L100,AD18)","v":0},{"$f":"AE18/(AG4-AE25)","v":0},{"$f":"IF(AF18=0,0,(AF18*((LOG(AF18))/LOG(2))))","v":0},null,{"$f":"N18","v":12122},{"$f":"COUNTIF(L101:L131,AI18)","v":0},{"$f":"AJ18/(AL4-AJ25)","v":0},{"$f":"IF(AK18=0,0,(AK18*((LOG(AK18))/LOG(2))))","v":0},null,{"$f":"N18","v":12122},{"$f":"COUNTIF(L132:L163,AN18)","v":0},{"$f":"AO18/(AQ4-AO25)","v":0},{"$f":"IF(AP18=0,0,(AP18*((LOG(AP18))/LOG(2))))","v":0},null,{"$f":"N18","v":12122},{"$f":"COUNTIF(L164:L194,AS18)","v":0},{"$f":"AT18/(AV4-AT25)","v":0},{"$f":"IF(AU18=0,0,(AU18*((LOG(AU18))/LOG(2))))","v":0}]
[12,1800,13,1805,13,1810,14,1815,13,1820,1,11111,null,12211,{"$f":"COUNTIF($L$7:$L$500,N19)","v":0},{"$f":"O19/$Q$4","v":0},{"$f":"IF(P19=0,0,(P19*((LOG(P19))/LOG(2))))","v":0},null,null,{"$f":"N19","v":12211},{"$f":"COUNTIF(L7:L37,T19)","v":0},{"$f":"U19/(W4-U25)","v":0},{"$f":"IF(V19=0,0,(V19*((LOG(V19))/LOG(2))))","v":0},null,{"$f":"N19","v":12211},{"$f":"COUNTIF(L38:L69,Y19)","v":0},{"$f":"Z19/(AB4-Z25)","v":0},{"$f":"IF(AA19=0,0,(AA19*((LOG(AA19))/LOG(2))))","v":0},null,{"$f":"N19","v":12211},{"$f":"COUNTIF(L70:L100,AD19)","v":0},{"$f":"AE19/(AG4-AE25)","v":0},{"$f":"IF(AF19=0,0,(AF19*((LOG(AF19))/LOG(2))))","v":0},null,{"$f":"N19","v":12211},{"$f":"COUNTIF(L101:L131,AI19)","v":0},{"$f":"AJ19/(AL4-AJ25)","v":0},{"$f":"IF(AK19=0,0,(AK19*((LOG(AK19))/LOG(2))))","v":0},null,{"$f":"N19","v":12211},{"$f":"COUNTIF(L132:L163,AN19)","v":0},{"$f":"AO19/(AQ4-AO25)","v":0},{"$f":"IF(AP19=0,0,(AP19*((LOG(AP19))/LOG(2))))","v":0},null,{"$f":"N19","v":12211},{"$f":"COUNTIF(L164:L194,AS19)","v":0},{"$f":"AT19/(AV4-AT25)","v":0},{"$f":"IF(AU19=0,0,(AU19*((LOG(AU19))/LOG(2))))","v":0}]
[12,1925,13,1929,13,1934,14,1938,13,1947,0,11111,null,12212,{"$f":"COUNTIF($L$7:$L$500,N20)","v":0},{"$f":"O20/$Q$4","v":0},{"$f":"IF(P20=0,0,(P20*((LOG(P20))/LOG(2))))","v":0},null,null,{"$f":"N20","v":12212},{"$f":"COUNTIF(L7:L37,T20)","v":0},{"$f":"U20/(W4-U25)","v":0},{"$f":"IF(V20=0,0,(V20*((LOG(V20))/LOG(2))))","v":0},null,{"$f":"N20","v":12212},{"$f":"COUNTIF(L38:L69,Y20)","v":0},{"$f":"Z20/(AB4-Z25)","v":0},{"$f":"IF(AA20=0,0,(AA20*((LOG(AA20))/LOG(2))))","v":0},null,{"$f":"N20","v":12212},{"$f":"COUNTIF(L70:L100,AD20)","v":0},{"$f":"AE20/(AG4-AE25)","v":0},{"$f":"IF(AF20=0,0,(AF20*((LOG(AF20))/LOG(2))))","v":0},null,{"$f":"N20","v":12212},{"$f":"COUNTIF(L101:L131,AI20)","v":0},{"$f":"AJ20/(AL4-AJ25)","v":0},{"$f":"IF(AK20=0,0,(AK20*((LOG(AK20))/LOG(2))))","v":0},null,{"$f":"N20","v":12212},{"$f":"COUNTIF(L132:L163,AN20)","v":0},{"$f":"AO20/(AQ4-AO25)","v":0},{"$f":"IF(AP20=0,0,(AP20*((LOG(AP20))/LOG(2))))","v":0},null,{"$f":"N20","v":12212},{"$f":"COUNTIF(L164:L194,AS20)","v":0},{"$f":"AT20/(AV4-AT25)","v":0},{"$f":"IF(AU20=0,0,(AU20*((LOG(AU20))/LOG(2))))","v":0}]
[12,2053,13,2057,13,2062,14,2066,13,2080,0,11111,null,12221,{"$f":"COUNTIF($L$7:$L$500,N21)","v":0},{"$f":"O21/$Q$4","v":0},{"$f":"IF(P21=0,0,(P21*((LOG(P21))/LOG(2))))","v":0},null,null,{"$f":"N21","v":12221},{"$f":"COUNTIF(L7:L37,T21)","v":0},{"$f":"U21/(W4-U25)","v":0},{"$f":"IF(V21=0,0,(V21*((LOG(V21))/LOG(2))))","v":0},null,{"$f":"N21","v":12221},{"$f":"COUNTIF(L38:L69,Y21)","v":0},{"$f":"Z21/(AB4-Z25)","v":0},{"$f":"IF(AA21=0,0,(AA21*((LOG(AA21))/LOG(2))))","v":0},null,{"$f":"N21","v":12221},{"$f":"COUNTIF(L70:L100,AD21)","v":0},{"$f":"AE21/(AG4-AE25)","v":0},{"$f":"IF(AF21=0,0,(AF21*((LOG(AF21))/LOG(2))))","v":0},null,{"$f":"N21","v":12221},{"$f":"COUNTIF(L101:L131,AI21)","v":0},{"$f":"AJ21/(AL4-AJ25)","v":0},{"$f":"IF(AK21=0,0,(AK21*((LOG(AK21))/LOG(2))))","v":0},null,{"$f":"N21","v":12221},{"$f":"COUNTIF(L132:L163,AN21)","v":0},{"$f":"AO21/(AQ4-AO25)","v":0},{"$f":"IF(AP21=0,0,(AP21*((LOG(AP21))/LOG(2))))","v":0},null,{"$f":"N21","v":12221},{"$f":"COUNTIF(L164:L194,AS21)","v":0},{"$f":"AT21/(AV4-AT25)","v":0},{"$f":"IF(AU21=0,0,(AU21*((LOG(AU21))/LOG(2))))","v":0}]
[12,2187,13,2192,13,2197,14,2205,13,2210,0,11111,null,12222,{"$f":"COUNTIF($L$7:$L$500,N22)","v":0},{"$f":"O22/$Q$4","v":0},{"$f":"IF(P22=0,0,(P22*((LOG(P22))/LOG(2))))","v":0},null,null,{"$f":"N22","v":12222},{"$f":"COUNTIF(L7:L37,T22)","v":0},{"$f":"U22/(W4-U25)","v":0},{"$f":"IF(V22=0,0,(V22*((LOG(V22))/LOG(2))))","v":0},null,{"$f":"N22","v":12222},{"$f":"COUNTIF(L38:L69,Y22)","v":0},{"$f":"Z22/(AB4-Z25)","v":0},{"$f":"IF(AA22=0,0,(AA22*((LOG(AA22))/LOG(2))))","v":0},null,{"$f":"N22","v":12222},{"$f":"COUNTIF(L70:L100,AD22)","v":0},{"$f":"AE22/(AG4-AE25)","v":0},{"$f":"IF(AF22=0,0,(AF22*((LOG(AF22))/LOG(2))))","v":0},null,{"$f":"N22","v":12222},{"$f":"COUNTIF(L101:L131,AI22)","v":0},{"$f":"AJ22/(AL4-AJ25)","v":0},{"$f":"IF(AK22=0,0,(AK22*((LOG(AK22))/LOG(2))))","v":0},null,{"$f":"N22","v":12222},{"$f":"COUNTIF(L132:L163,AN22)","v":0},{"$f":"AO22/(AQ4-AO25)","v":0},{"$f":"IF(AP22=0,0,(AP22*((LOG(AP22))/LOG(2))))","v":0},null,{"$f":"N22","v":12222},{"$f":"COUNTIF(L164:L194,AS22)","v":0},{"$f":"AT22/(AV4-AT25)","v":0},{"$f":"IF(AU22=0,0,(AU22*((LOG(AU22))/LOG(2))))","v":0}]
[21,2398,22,2411,24,2419,23,2426,24,2435,0,22222,null,21111,{"$f":"COUNTIF($L$7:$L$500,N23)","v":0},{"$f":"O23/$Q$4","v":0},{"$f":"IF(P23=0,0,(P23*((LOG(P23))/LOG(2))))","v":0},null,null,{"$f":"N23","v":21111},{"$f":"COUNTIF(L7:L37,T23)","v":0},{"$f":"U23/(W4-U25)","v":0},{"$f":"IF(V23=0,0,(V23*((LOG(V23))/LOG(2))))","v":0},null,{"$f":"N23","v":21111},{"$f":"COUNTIF(L38:L69,Y23)","v":0},{"$f":"Z23/(AB4-Z25)","v":0},{"$f":"IF(AA23=0,0,(AA23*((LOG(AA23))/LOG(2))))","v":0},null,{"$f":"N23","v":21111},{"$f":"COUNTIF(L70:L100,AD23)","v":0},{"$f":"AE23/(AG4-AE25)","v":0},{"$f":"IF(AF23=0,0,(AF23*((LOG(AF23))/LOG(2))))","v":0},null,{"$f":"N23","v":21111},{"$f":"COUNTIF(L101:L131,AI23)","v":0},{"$f":"AJ23/(AL4-AJ25)","v":0},{"$f":"IF(AK23=0,0,(AK23*((LOG(AK23))/LOG(2))))","v":0},null,{"$f":"N23","v":21111},{"$f":"COUNTIF(L132:L163,AN23)","v":0},{"$f":"AO23/(AQ4-AO25)","v":0},{"$f":"IF(AP23=0,0,(AP23*((LOG(AP23))/LOG(2))))","v":0},null,{"$f":"N23","v":21111},{"$f":"COUNTIF(L164:L194,AS23)","v":0},{"$f":"AT23/(AV4-AT25)","v":0},{"$f":"IF(AU23=0,0,(AU23*((LOG(AU23))/LOG(2))))","v":0}]
[12,2542,13,2546,13,2550,14,2554,13,2559,1,11111,null,21112,{"$f":"COUNTIF($L$7:$L$500,N24)","v":0},{"$f":"O24/$Q$4","v":0},{"$f":"IF(P24=0,0,(P24*((LOG(P24))/LOG(2))))","v":0},null,null,{"$f":"N24","v":21112},{"$f":"COUNTIF(L7:L37,T24)","v":0},{"$f":"U24/(W4-U25)","v":0},{"$f":"IF(V24=0,0,(V24*((LOG(V24))/LOG(2))))","v":0},null,{"$f":"N24","v":21112},{"$f":"COUNTIF(L38:L69,Y24)","v":0},{"$f":"Z24/(AB4-Z25)","v":0},{"$f":"IF(AA24=0,0,(AA24*((LOG(AA24))/LOG(2))))","v":0},null,{"$f":"N24","v":21112},{"$f":"COUNTIF(L70:L100,AD24)","v":0},{"$f":"AE24/(AG4-AE25)","v":0},{"$f":"IF(AF24=0,0,(AF24*((LOG(AF24))/LOG(2))))","v":0},null,{"$f":"N24","v":21112},{"$f":"COUNTIF(L101:L131,AI24)","v":0},{"$f":"AJ24/(AL4-AJ25)","v":0},{"$f":"IF(AK24=0,0,(AK24*((LOG(AK24))/LOG(2))))","v":0},null,{"$f":"N24","v":21112},{"$f":"COUNTIF(L132:L163,AN24)","v":0},{"$f":"AO24/(AQ4-AO25)","v":0},{"$f":"IF(AP24=0,0,(AP24*((LOG(AP24))/LOG(2))))","v":0},null,{"$f":"N24","v":21112},{"$f":"COUNTIF(L164:L194,AS24)","v":0},{"$f":"AT24/(AV4-AT25)","v":0},{"$f":"IF(AU24=0,0,(AU24*((LOG(AU24))/LOG(2))))","v":0}]
[12,2663,13,2667,13,2671,14,2676,13,2681,0,11111,null,21121,{"$f":"COUNTIF($L$7:$L$500,N25)","v":0},{"$f":"O25/$Q$4","v":0},{"$f":"IF(P25=0,0,(P25*((LOG(P25))/LOG(2))))","v":0},null,null,{"$f":"N25","v":21121},{"$f":"COUNTIF(L7:L37,T25)","v":0},null,null,null,{"$f":"N25","v":21121},{"$f":"COUNTIF(L38:L69,Y25)","v":0},null,null,null,{"$f":"N25","v":21121},{"$f":"COUNTIF(L70:L100,AD25)","v":0},null,null,null,{"$f":"N25","v":21121},{"$f":"COUNTIF(L101:L131,AI25)","v":0},null,null,null,{"$f":"N25","v":21121},{"$f":"COUNTIF(L132:L163,AN25)","v":0},null,null,null,{"$f":"N25","v":21121},{"$f":"COUNTIF(L164:L194,AS25)","v":0}]
[12,2783,13,2787,13,2792,14,2796,13,2800,0,11111,null,21122,{"$f":"COUNTIF($L$7:$L$500,N26)","v":0},{"$f":"O26/$Q$4","v":0},{"$f":"IF(P26=0,0,(P26*((LOG(P26))/LOG(2))))","v":0},null,null,{"$f":"N26","v":21122},{"$f":"COUNTIF(L7:L37,T26)","v":0},{"$f":"U26/(W4-U25)","v":0},{"$f":"IF(V26=0,0,(V26*((LOG(V26))/LOG(2))))","v":0},null,{"$f":"N26","v":21122},{"$f":"COUNTIF(L38:L69,Y26)","v":0},{"$f":"Z26/(AB4-Z25)","v":0},{"$f":"IF(AA26=0,0,(AA26*((LOG(AA26))/LOG(2))))","v":0},null,{"$f":"N26","v":21122},{"$f":"COUNTIF(L70:L100,AD26)","v":0},{"$f":"AE26/(AG4-AE25)","v":0},{"$f":"IF(AF26=0,0,(AF26*((LOG(AF26))/LOG(2))))","v":0},null,{"$f":"N26","v":21122},{"$f":"COUNTIF(L101:L131,AI26)","v":0},{"$f":"AJ26/(AL4-AJ25)","v":0},{"$f":"IF(AK26=0,0,(AK26*((LOG(AK26))/LOG(2))))","v":0},null,{"$f":"N26","v":21122},{"$f":"COUNTIF(L132:L163,AN26)","v":0},{"$f":"AO26/(AQ4-AO25)","v":0},{"$f":"IF(AP26=0,0,(AP26*((LOG(AP26))/LOG(2))))","v":0},null,{"$f":"N26","v":21122},{"$f":"COUNTIF(L164:L194,AS26)","v":0},{"$f":"AT26/(AV4-AT25)","v":0},{"$f":"IF(AU26=0,0,(AU26*((LOG(AU26))/LOG(2))))","v":0}]
[12,2909,13,2914,13,2928,14,2933,13,2938,0,11111,null,21211,{"$f":"COUNTIF($L$7:$L$500,N27)","v":0},{"$f":"O27/$Q$4","v":0},{"$f":"IF(P27=0,0,(P27*((LOG(P27))/LOG(2))))","v":0},null,null,{"$f":"N27","v":21211},{"$f":"COUNTIF(L7:L37,T27)","v":0},{"$f":"U27/(W4-U25)","v":0},{"$f":"IF(V27=0,0,(V27*((LOG(V27))/LOG(2))))","v":0},null,{"$f":"N27","v":21211},{"$f":"COUNTIF(L38:L69,Y27)","v":0},{"$f":"Z27/(AB4-Z25)","v":0},{"$f":"IF(AA27=0,0,(AA27*((LOG(AA27))/LOG(2))))","v":0},null,{"$f":"N27","v":21211},{"$f":"COUNTIF(L70:L100,AD27)","v":0},{"$f":"AE27/(AG4-AE25)","v":0},{"$f":"IF(AF27=0,0,(AF27*((LOG(AF27))/LOG(2))))","v":0},null,{"$f":"N27","v":21211},{"$f":"COUNTIF(L101:L131,AI27)","v":0},{"$f":"AJ27/(AL4-AJ25)","v":0},{"$f":"IF(AK27=0,0,(AK27*((LOG(AK27))/LOG(2))))","v":0},null,{"$f":"N27","v":21211},{"$f":"COUNTIF(L132:L163,AN27)","v":0},{"$f":"AO27/(AQ4-AO25)","v":0},{"$f":"IF(AP27=0,0,(AP27*((LOG(AP27))/LOG(2))))","v":0},null,{"$f":"N27","v":21211},{"$f":"COUNTIF(L164:L194,AS27)","v":0},{"$f":"AT27/(AV4-AT25)","v":0},{"$f":"IF(AU27=0,0,(AU27*((LOG(AU27))/LOG(2))))","v":0}]
[12,3042,13,3046,13,3050,14,3054,13,3060,0,11111,null,21212,{"$f":"COUNTIF($L$7:$L$500,N28)","v":0},{"$f":"O28/$Q$4","v":0},{"$f":"IF(P28=0,0,(P28*((LOG(P28))/LOG(2))))","v":0},null,null,{"$f":"N28","v":21212},{"$f":"COUNTIF(L7:L37,T28)","v":0},{"$f":"U28/(W4-U25)","v":0},{"$f":"IF(V28=0,0,(V28*((LOG(V28))/LOG(2))))","v":0},null,{"$f":"N28","v":21212},{"$f":"COUNTIF(L38:L69,Y28)","v":0},{"$f":"Z28/(AB4-Z25)","v":0},{"$f":"IF(AA28=0,0,(AA28*((LOG(AA28))/LOG(2))))","v":0},null,{"$f":"N28","v":21212},{"$f":"COUNTIF(L70:L100,AD28)","v":0},{"$f":"AE28/(AG4-AE25)","v":0},{"$f":"IF(AF28=0,0,(AF28*((LOG(AF28))/LOG(2))))","v":0},null,{"$f":"N28","v":21212},{"$f":"COUNTIF(L101:L131,AI28)","v":0},{"$f":"AJ28/(AL4-AJ25)","v":0},{"$f":"IF(AK28=0,0,(AK28*((LOG(AK28))/LOG(2))))","v":0},null,{"$f":"N28","v":21212},{"$f":"COUNTIF(L132:L163,AN28)","v":0},{"$f":"AO28/(AQ4-AO25)","v":0},{"$f":"IF(AP28=0,0,(AP28*((LOG(AP28))/LOG(2))))","v":0},null,{"$f":"N28","v":21212},{"$f":"COUNTIF(L164:L194,AS28)","v":0},{"$f":"AT28/(AV4-AT25)","v":0},{"$f":"IF(AU28=0,0,(AU28*((LOG(AU28))/LOG(2))))","v":0}]
[12,3160,13,3164,13,3169,14,3173,13,3178,0,11111,null,21221,{"$f":"COUNTIF($L$7:$L$500,N29)","v":0},{"$f":"O29/$Q$4","v":0},{"$f":"IF(P29=0,0,(P29*((LOG(P29))/LOG(2))))","v":0},null,null,{"$f":"N29","v":21221},{"$f":"COUNTIF(L7:L37,T29)","v":0},{"$f":"U29/(W4-U25)","v":0},{"$f":"IF(V29=0,0,(V29*((LOG(V29))/LOG(2))))","v":0},null,{"$f":"N29","v":21221},{"$f":"COUNTIF(L38:L69,Y29)","v":0},{"$f":"Z29/(AB4-Z25)","v":0},{"$f":"IF(AA29=0,0,(AA29*((LOG(AA29))/LOG(2))))","v":0},null,{"$f":"N29","v":21221},{"$f":"COUNTIF(L70:L100,AD29)","v":0},{"$f":"AE29/(AG4-AE25)","v":0},{"$f":"IF(AF29=0,0,(AF29*((LOG(AF29))/LOG(2))))","v":0},null,{"$f":"N29","v":21221},{"$f":"COUNTIF(L101:L131,AI29)","v":0},{"$f":"AJ29/(AL4-AJ25)","v":0},{"$f":"IF(AK29=0,0,(AK29*((LOG(AK29))/LOG(2))))","v":0},null,{"$f":"N29","v":21221},{"$f":"COUNTIF(L132:L163,AN29)","v":0},{"$f":"AO29/(AQ4-AO25)","v":0},{"$f":"IF(AP29=0,0,(AP29*((LOG(AP29))/LOG(2))))","v":0},null,{"$f":"N29","v":21221},{"$f":"COUNTIF(L164:L194,AS29)","v":0},{"$f":"AT29/(AV4-AT25)","v":0},{"$f":"IF(AU29=0,0,(AU29*((LOG(AU29))/LOG(2))))","v":0}]
[12,3277,13,3282,13,3290,14,3294,13,3299,1,11111,null,21222,{"$f":"COUNTIF($L$7:$L$500,N30)","v":0},{"$f":"O30/$Q$4","v":0},{"$f":"IF(P30=0,0,(P30*((LOG(P30))/LOG(2))))","v":0},null,null,{"$f":"N30","v":21222},{"$f":"COUNTIF(L7:L37,T30)","v":0},{"$f":"U30/(W4-U25)","v":0},{"$f":"IF(V30=0,0,(V30*((LOG(V30))/LOG(2))))","v":0},null,{"$f":"N30","v":21222},{"$f":"COUNTIF(L38:L69,Y30)","v":0},{"$f":"Z30/(AB4-Z25)","v":0},{"$f":"IF(AA30=0,0,(AA30*((LOG(AA30))/LOG(2))))","v":0},null,{"$f":"N30","v":21222},{"$f":"COUNTIF(L70:L100,AD30)","v":0},{"$f":"AE30/(AG4-AE25)","v":0},{"$f":"IF(AF30=0,0,(AF30*((LOG(AF30))/LOG(2))))","v":0},null,{"$f":"N30","v":21222},{"$f":"COUNTIF(L101:L131,AI30)","v":0},{"$f":"AJ30/(AL4-AJ25)","v":0},{"$f":"IF(AK30=0,0,(AK30*((LOG(AK30))/LOG(2))))","v":0},null,{"$f":"N30","v":21222},{"$f":"COUNTIF(L132:L163,AN30)","v":0},{"$f":"AO30/(AQ4-AO25)","v":0},{"$f":"IF(AP30=0,0,(AP30*((LOG(AP30))/LOG(2))))","v":0},null,{"$f":"N30","v":21222},{"$f":"COUNTIF(L164:L194,AS30)","v":0},{"$f":"AT30/(AV4-AT25)","v":0},{"$f":"IF(AU30=0,0,(AU30*((LOG(AU30))/LOG(2))))","v":0}]
[12,3395,13,3399,13,3403,14,3407,13,3411,0,11111,null,22111,{"$f":"COUNTIF($L$7:$L$500,N31)","v":0},{"$f":"O31/$Q$4","v":0},{"$f":"IF(P31=0,0,(P31*((LOG(P31))/LOG(2))))","v":0},null,null,{"$f":"N31","v":22111},{"$f":"COUNTIF(L7:L37,T31)","v":0},{"$f":"U31/(W4-U25)","v":0},{"$f":"IF(V31=0,0,(V31*((LOG(V31))/LOG(2))))","v":0},null,{"$f":"N31","v":22111},{"$f":"COUNTIF(L38:L69,Y31)","v":0},{"$f":"Z31/(AB4-Z25)","v":0},{"$f":"IF(AA31=0,0,(AA31*((LOG(AA31))/LOG(2))))","v":0},null,{"$f":"N31","v":22111},{"$f":"COUNTIF(L70:L100,AD31)","v":0},{"$f":"AE31/(AG4-AE25)","v":0},{"$f":"IF(AF31=0,0,(AF31*((LOG(AF31))/LOG(2))))","v":0},null,{"$f":"N31","v":22111},{"$f":"COUNTIF(L101:L131,AI31)","v":0},{"$f":"AJ31/(AL4-AJ25)","v":0},{"$f":"IF(AK31=0,0,(AK31*((LOG(AK31))/LOG(2))))","v":0},null,{"$f":"N31","v":22111},{"$f":"COUNTIF(L132:L163,AN31)","v":0},{"$f":"AO31/(AQ4-AO25)","v":0},{"$f":"IF(AP31=0,0,(AP31*((LOG(AP31))/LOG(2))))","v":0},null,{"$f":"N31","v":22111},{"$f":"COUNTIF(L164:L194,AS31)","v":0},{"$f":"AT31/(AV4-AT25)","v":0},{"$f":"IF(AU31=0,0,(AU31*((LOG(AU31))/LOG(2))))","v":0}]
[12,3522,13,3527,13,3531,14,3537,13,3553,0,11111,null,22112,{"$f":"COUNTIF($L$7:$L$500,N32)","v":0},{"$f":"O32/$Q$4","v":0},{"$f":"IF(P32=0,0,(P32*((LOG(P32))/LOG(2))))","v":0},null,null,{"$f":"N32","v":22112},{"$f":"COUNTIF(L7:L37,T32)","v":0},{"$f":"U32/(W4-U25)","v":0},{"$f":"IF(V32=0,0,(V32*((LOG(V32))/LOG(2))))","v":0},null,{"$f":"N32","v":22112},{"$f":"COUNTIF(L38:L69,Y32)","v":0},{"$f":"Z32/(AB4-Z25)","v":0},{"$f":"IF(AA32=0,0,(AA32*((LOG(AA32))/LOG(2))))","v":0},null,{"$f":"N32","v":22112},{"$f":"COUNTIF(L70:L100,AD32)","v":0},{"$f":"AE32/(AG4-AE25)","v":0},{"$f":"IF(AF32=0,0,(AF32*((LOG(AF32))/LOG(2))))","v":0},null,{"$f":"N32","v":22112},{"$f":"COUNTIF(L101:L131,AI32)","v":0},{"$f":"AJ32/(AL4-AJ25)","v":0},{"$f":"IF(AK32=0,0,(AK32*((LOG(AK32))/LOG(2))))","v":0},null,{"$f":"N32","v":22112},{"$f":"COUNTIF(L132:L163,AN32)","v":0},{"$f":"AO32/(AQ4-AO25)","v":0},{"$f":"IF(AP32=0,0,(AP32*((LOG(AP32))/LOG(2))))","v":0},null,{"$f":"N32","v":22112},{"$f":"COUNTIF(L164:L194,AS32)","v":0},{"$f":"AT32/(AV4-AT25)","v":0},{"$f":"IF(AU32=0,0,(AU32*((LOG(AU32))/LOG(2))))","v":0}]
[12,3660,13,3665,13,3669,14,3674,13,3689,0,11111,null,22121,{"$f":"COUNTIF($L$7:$L$500,N33)","v":0},{"$f":"O33/$Q$4","v":0},{"$f":"IF(P33=0,0,(P33*((LOG(P33))/LOG(2))))","v":0},null,null,{"$f":"N33","v":22121},{"$f":"COUNTIF(L7:L37,T33)","v":0},{"$f":"U33/(W4-U25)","v":0},{"$f":"IF(V33=0,0,(V33*((LOG(V33))/LOG(2))))","v":0},null,{"$f":"N33","v":22121},{"$f":"COUNTIF(L38:L69,Y33)","v":0},{"$f":"Z33/(AB4-Z25)","v":0},{"$f":"IF(AA33=0,0,(AA33*((LOG(AA33))/LOG(2))))","v":0},null,{"$f":"N33","v":22121},{"$f":"COUNTIF(L70:L100,AD33)","v":0},{"$f":"AE33/(AG4-AE25)","v":0},{"$f":"IF(AF33=0,0,(AF33*((LOG(AF33))/LOG(2))))","v":0},null,{"$f":"N33","v":22121},{"$f":"COUNTIF(L101:L131,AI33)","v":0},{"$f":"AJ33/(AL4-AJ25)","v":0},{"$f":"IF(AK33=0,0,(AK33*((LOG(AK33))/LOG(2))))","v":0},null,{"$f":"N33","v":22121},{"$f":"COUNTIF(L132:L163,AN33)","v":0},{"$f":"AO33/(AQ4-AO25)","v":0},{"$f":"IF(AP33=0,0,(AP33*((LOG(AP33))/LOG(2))))","v":0},null,{"$f":"N33","v":22121},{"$f":"COUNTIF(L164:L194,AS33)","v":0},{"$f":"AT33/(AV4-AT25)","v":0},{"$f":"IF(AU33=0,0,(AU33*((LOG(AU33))/LOG(2))))","v":0}]
[12,3792,13,3801,13,3805,14,3810,13,3815,0,11111,null,22122,{"$f":"COUNTIF($L$7:$L$500,N34)","v":0},{"$f":"O34/$Q$4","v":0},{"$f":"IF(P34=0,0,(P34*((LOG(P34))/LOG(2))))","v":0},null,null,{"$f":"N34","v":22122},{"$f":"COUNTIF(L7:L37,T34)","v":0},{"$f":"U34/(W4-U25)","v":0},{"$f":"IF(V34=0,0,(V34*((LOG(V34))/LOG(2))))","v":0},null,{"$f":"N34","v":22122},{"$f":"COUNTIF(L38:L69,Y34)","v":0},{"$f":"Z34/(AB4-Z25)","v":0},{"$f":"IF(AA34=0,0,(AA34*((LOG(AA34))/LOG(2))))","v":0},null,{"$f":"N34","v":22122},{"$f":"COUNTIF(L70:L100,AD34)","v":0},{"$f":"AE34/(AG4-AE25)","v":0},{"$f":"IF(AF34=0,0,(AF34*((LOG(AF34))/LOG(2))))","v":0},null,{"$f":"N34","v":22122},{"$f":"COUNTIF(L101:L131,AI34)","v":0},{"$f":"AJ34/(AL4-AJ25)","v":0},{"$f":"IF(AK34=0,0,(AK34*((LOG(AK34))/LOG(2))))","v":0},null,{"$f":"N34","v":22122},{"$f":"COUNTIF(L132:L163,AN34)","v":0},{"$f":"AO34/(AQ4-AO25)","v":0},{"$f":"IF(AP34=0,0,(AP34*((LOG(AP34))/LOG(2))))","v":0},null,{"$f":"N34","v":22122},{"$f":"COUNTIF(L164:L194,AS34)","v":0},{"$f":"AT34/(AV4-AT25)","v":0},{"$f":"IF(AU34=0,0,(AU34*((LOG(AU34))/LOG(2))))","v":0}]
[12,3920,13,3924,13,3928,14,3933,13,3941,0,11111,null,22211,{"$f":"COUNTIF($L$7:$L$500,N35)","v":0},{"$f":"O35/$Q$4","v":0},{"$f":"IF(P35=0,0,(P35*((LOG(P35))/LOG(2))))","v":0},null,null,{"$f":"N35","v":22211},{"$f":"COUNTIF(L7:L37,T35)","v":0},{"$f":"U35/(W4-U25)","v":0},{"$f":"IF(V35=0,0,(V35*((LOG(V35))/LOG(2))))","v":0},null,{"$f":"N35","v":22211},{"$f":"COUNTIF(L38:L69,Y35)","v":0},{"$f":"Z35/(AB4-Z25)","v":0},{"$f":"IF(AA35=0,0,(AA35*((LOG(AA35))/LOG(2))))","v":0},null,{"$f":"N35","v":22211},{"$f":"COUNTIF(L70:L100,AD35)","v":0},{"$f":"AE35/(AG4-AE25)","v":0},{"$f":"IF(AF35=0,0,(AF35*((LOG(AF35))/LOG(2))))","v":0},null,{"$f":"N35","v":22211},{"$f":"COUNTIF(L101:L131,AI35)","v":0},{"$f":"AJ35/(AL4-AJ25)","v":0},{"$f":"IF(AK35=0,0,(AK35*((LOG(AK35))/LOG(2))))","v":0},null,{"$f":"N35","v":22211},{"$f":"COUNTIF(L132:L163,AN35)","v":0},{"$f":"AO35/(AQ4-AO25)","v":0},{"$f":"IF(AP35=0,0,(AP35*((LOG(AP35))/LOG(2))))","v":0},null,{"$f":"N35","v":22211},{"$f":"COUNTIF(L164:L194,AS35)","v":0},{"$f":"AT35/(AV4-AT25)","v":0},{"$f":"IF(AU35=0,0,(AU35*((LOG(AU35))/LOG(2))))","v":0}]
[12,4042,13,4046,13,4050,14,4054,13,4058,0,11111,null,22212,{"$f":"COUNTIF($L$7:$L$500,N36)","v":0},{"$f":"O36/$Q$4","v":0},{"$f":"IF(P36=0,0,(P36*((LOG(P36))/LOG(2))))","v":0},null,null,{"$f":"N36","v":22212},{"$f":"COUNTIF(L7:L37,T36)","v":0},{"$f":"U36/(W4-U25)","v":0},{"$f":"IF(V36=0,0,(V36*((LOG(V36))/LOG(2))))","v":0},null,{"$f":"N36","v":22212},{"$f":"COUNTIF(L38:L69,Y36)","v":0},{"$f":"Z36/(AB4-Z25)","v":0},{"$f":"IF(AA36=0,0,(AA36*((LOG(AA36))/LOG(2))))","v":0},null,{"$f":"N36","v":22212},{"$f":"COUNTIF(L70:L100,AD36)","v":0},{"$f":"AE36/(AG4-AE25)","v":0},{"$f":"IF(AF36=0,0,(AF36*((LOG(AF36))/LOG(2))))","v":0},null,{"$f":"N36","v":22212},{"$f":"COUNTIF(L101:L131,AI36)","v":0},{"$f":"AJ36/(AL4-AJ25)","v":0},{"$f":"IF(AK36=0,0,(AK36*((LOG(AK36))/LOG(2))))","v":0},null,{"$f":"N36","v":22212},{"$f":"COUNTIF(L132:L163,AN36)","v":0},{"$f":"AO36/(AQ4-AO25)","v":0},{"$f":"IF(AP36=0,0,(AP36*((LOG(AP36))/LOG(2))))","v":0},null,{"$f":"N36","v":22212},{"$f":"COUNTIF(L164:L194,AS36)","v":0},{"$f":"AT36/(AV4-AT25)","v":0},{"$f":"IF(AU36=0,0,(AU36*((LOG(AU36))/LOG(2))))","v":0}]
[12,4159,13,4163,13,4167,14,4171,13,4176,0,11111,null,22221,{"$f":"COUNTIF($L$7:$L$500,N37)","v":0},{"$f":"O37/$Q$4","v":0},{"$f":"IF(P37=0,0,(P37*((LOG(P37))/LOG(2))))","v":0},null,null,{"$f":"N37","v":22221},{"$f":"COUNTIF(L7:L37,T37)","v":0},{"$f":"U37/(W4-U25)","v":0},{"$f":"IF(V37=0,0,(V37*((LOG(V37))/LOG(2))))","v":0},null,{"$f":"N37","v":22221},{"$f":"COUNTIF(L38:L69,Y37)","v":0},{"$f":"Z37/(AB4-Z25)","v":0},{"$f":"IF(AA37=0,0,(AA37*((LOG(AA37))/LOG(2))))","v":0},null,{"$f":"N37","v":22221},{"$f":"COUNTIF(L70:L100,AD37)","v":0},{"$f":"AE37/(AG4-AE25)","v":0},{"$f":"IF(AF37=0,0,(AF37*((LOG(AF37))/LOG(2))))","v":0},null,{"$f":"N37","v":22221},{"$f":"COUNTIF(L101:L131,AI37)","v":0},{"$f":"AJ37/(AL4-AJ25)","v":0},{"$f":"IF(AK37=0,0,(AK37*((LOG(AK37))/LOG(2))))","v":0},null,{"$f":"N37","v":22221},{"$f":"COUNTIF(L132:L163,AN37)","v":0},{"$f":"AO37/(AQ4-AO25)","v":0},{"$f":"IF(AP37=0,0,(AP37*((LOG(AP37))/LOG(2))))","v":0},null,{"$f":"N37","v":22221},{"$f":"COUNTIF(L164:L194,AS37)","v":0},{"$f":"AT37/(AV4-AT25)","v":0},{"$f":"IF(AU37=0,0,(AU37*((LOG(AU37))/LOG(2))))","v":0}]
[12,4277,13,4281,13,4285,14,4289,13,4293,1,11111,null,22222,{"$f":"COUNTIF($L$7:$L$500,N38)","v":7},{"$f":"O38/$Q$4","v":3.7234042553191488E-2},{"$f":"IF(P38=0,0,(P38*((LOG(P38))/LOG(2))))","v":-0.1767587101454268},null,null,{"$f":"N38","v":22222},{"$f":"COUNTIF(L7:L37,T38)","v":3},{"$f":"U38/(W4-U25)","v":9.6774193548387094E-2},{"$f":"IF(V38=0,0,(V38*((LOG(V38))/LOG(2))))","v":-0.32605488480635986},null,{"$f":"N38","v":22222},{"$f":"COUNTIF(L38:L69,Y38)","v":0},{"$f":"Z38/(AB4-Z25)","v":0},{"$f":"IF(AA38=0,0,(AA38*((LOG(AA38))/LOG(2))))","v":0},null,{"$f":"N38","v":22222},{"$f":"COUNTIF(L70:L100,AD38)","v":1},{"$f":"AE38/(AG4-AE25)","v":3.2258064516129031E-2},{"$f":"IF(AF38=0,0,(AF38*((LOG(AF38))/LOG(2))))","v":-0.15981278420602821},null,{"$f":"N38","v":22222},{"$f":"COUNTIF(L101:L131,AI38)","v":2},{"$f":"AJ38/(AL4-AJ25)","v":6.4516129032258063E-2},{"$f":"IF(AK38=0,0,(AK38*((LOG(AK38))/LOG(2))))","v":-0.25510943937979835},null,{"$f":"N38","v":22222},{"$f":"COUNTIF(L132:L163,AN38)","v":1},{"$f":"AO38/(AQ4-AO25)","v":3.125E-2},{"$f":"IF(AP38=0,0,(AP38*((LOG(AP38))/LOG(2))))","v":-0.15625},null,{"$f":"N38","v":22222},{"$f":"COUNTIF(L164:L194,AS38)","v":0},{"$f":"AT38/(AV4-AT25)","v":0},{"$f":"IF(AU38=0,0,(AU38*((LOG(AU38))/LOG(2))))","v":0}]
[12,4396,13,4401,13,4405,14,4409,13,4418,1,11111,null,null,null,{"$f":"SUM(P7:P38)","v":1},{"$f":"-SUM(Q7:Q38)","v":0.22946337286666191},null,null,null,null,{"$f":"SUM(V7:V38)","v":1},{"$f":"-SUM(W7:W38)","v":0.45868581620054028},null,null,null,{"$f":"SUM(AA7:AA38)","v":1},{"$f":"-SUM(AB7:AB38)","v":0},null,null,null,{"$f":"SUM(AF7:AF38)","v":1},{"$f":"-SUM(AG7:AG38)","v":0.20559250818508301},null,null,null,{"$f":"SUM(AK7:AK38)","v":1},{"$f":"-SUM(AL7:AL38)","v":0.3451173149449529},null,null,null,{"$f":"SUM(AP7:AP38)","v":1},{"$f":"-SUM(AQ7:AQ38)","v":0.20062232431271465},null,null,null,{"$f":"SUM(AU7:AU38)","v":1},{"$f":"-SUM(AV7:AV38)","v":0}]
[12,4516,13,4521,13,4525,14,4530,13,4535,0,11111,null,null,null,"U=",{"$f":"Q39/(LOG(Q4)/LOG(2))","v":3.0374038530992364E-2},null,null,null,null,"U1=",{"$f":"W39/(LOG(W4)/LOG(2))","v":9.2585313028243993E-2},null,null,null,"U2=",{"$f":"AB39/(LOG(AB4)/LOG(2))","v":0},null,null,null,"U3=",{"$f":"AG39/(LOG(AG4)/LOG(2))","v":4.1498659985281898E-2},null,null,null,"U4=",{"$f":"AL39/(LOG(AL4)/LOG(2))","v":6.9661614785305623E-2},null,null,null,"U5=",{"$f":"AQ39/(LOG(AQ4)/LOG(2))","v":4.0124464862542931E-2},null,null,null,"U6=",{"$f":"AV39/(LOG(AV4)/LOG(2))","v":0}]
[12,4646,13,4654,13,4659,14,4669,13,4674,0,11111]
[12,4776,13,4789,13,4793,14,4797,13,4802,0,11111]
[12,4902,13,4906,13,4910,14,4914,13,4928,0,11111,null,"Total Target Seq"]
[12,5028,13,5032,13,5036,14,5040,13,5044,0,11111,null,{"$f":"COUNTIF(L7:L194,G3)","v":0},null,31,32,31,31,32,31]
[12,5150,13,5154,13,5158,14,5172,13,5177,0,11111,null,null,null,"% of reinforcement given in 6 equal intervals based on number of trials "]
[12,5277,13,5281,13,5285,14,5289,13,5294,0,11111,null,null,null,"%_1","%_2","%_3","%_4","%_5","%_6"]
[12,5398,13,5406,13,5410,14,5415,13,5430,0,11111,null,null,"target sequence",{"$f":"$G$3","v":21121},{"$f":"$G$3","v":21121},{"$f":"$G$3","v":21121},{"$f":"$G$3","v":21121},{"$f":"$G$3","v":21121},{"$f":"$G$3","v":21121}]
[12,5544,13,5552,13,5556,14,5560,13,5567,1,11111,null,null,"total reinforcement",{"$f":"U25","v":0},{"$f":"Z25","v":0},{"$f":"AE25","v":0},{"$f":"AJ25","v":0},{"$f":"AO25","v":0},{"$f":"AT25","v":0}]
[12,5666,13,5674,13,5679,14,5690,13,5696,0,11111,null,null,"% target"]
[12,5803,13,5807,13,5811,14,5815,13,5819,0,11111,null,null,"CCRF"]
[12,5922,13,5926,13,5930,14,5934,13,5942,0,11111,null,null,"% CCRf"]
[12,6047,13,6053,13,6057,14,6061,13,6065,0,11111,null,null,"average response rate",{"$f":"J37/P44","v":134.70967741935485},{"$f":"(J69-J37)/Q44","v":126.625},{"$f":"(J100-J69)/R44","v":125.64516129032258},{"$f":"(J131-J100)/S44","v":126.03225806451613},{"$f":"(J163-J131)/T44","v":126.875},{"$f":"(J194-J163)/U44","v":125.45161290322581}]
[12,6165,13,6169,13,6173,14,6177,13,6182,0,11111]
[12,6283,13,6287,13,6291,14,6303,13,6313,0,11111]
[12,6409,13,6414,13,6418,14,6421,13,6426,0,11111]
[12,6527,13,6532,13,6537,14,6541,13,6546,0,11111]
[12,6648,13,6652,13,6656,14,6660,13,6665,0,11111]
[12,6768,13,6773,13,6777,14,6781,13,6786,0,11111]
[12,6888,13,6895,13,6913,14,6918,13,6924,0,11111]
[12,7026,13,7032,13,7036,14,7041,13,7046,1,11111]
[12,7142,13,7153,13,7157,14,7161,13,7166,0,11111]
[12,7268,13,7272,13,7276,14,7280,13,7287,0,11111]
[12,7414,13,7419,13,7423,14,7427,13,7433,0,11111]
[12,7557,13,7561,13,7565,14,7569,13,7574,0,11111]
[12,7683,13,7688,13,7692,14,7696,13,7700,0,11111]
[12,7804,13,7808,13,7812,14,7816,13,7827,0,11111]
[12,7928,13,7932,13,7936,14,7944,13,7953,0,11111]
[12,8058,13,8062,13,8071,14,8075,13,8079,0,11111]
[12,8189,13,8194,13,8203,14,8222,13,8228,0,11111]
[12,8333,13,8341,13,8345,14,8350,13,8355,0,11111]
[12,8458,13,8462,13,8465,14,8469,13,8473,1,11111]
[12,8567,13,8571,13,8575,14,8579,13,8583,0,11111]
[12,8694,13,8702,13,8707,14,8711,13,8716,0,11111]
[12,8819,13,8824,13,8831,14,8835,13,8839,0,11111]
[12,8954,13,8958,13,8962,14,8966,13,8971,0,11111]
[12,9074,13,9079,13,9083,14,9087,13,9092,1,11111]
[12,9190,13,9194,13,9199,14,9207,13,9220,1,11111]
[12,9333,13,9341,13,9345,14,9349,13,9357,0,11111]
[12,9462,13,9466,13,9471,14,9475,13,9488,0,11111]
[12,9585,13,9590,13,9595,14,9600,13,9603,1,11111]
[12,9699,13,9703,13,9707,14,9711,13,9716,0,11111]
[12,9821,13,9825,13,9829,14,9834,13,9839,0,11111]
[12,9938,13,9942,13,9950,14,9954,13,9959,0,11111]
[12,10064,13,10068,13,10072,14,10076,13,10080,1,11111]
[12,10178,13,10186,13,10190,14,10195,13,10204,0,11111]
[12,10333,13,10337,13,10341,14,10349,13,10357,0,11111]
[12,10462,13,10466,13,10470,14,10473,13,10478,0,11111]
[12,10603,13,10608,13,10612,14,10618,13,10623,0,11111]
[12,10728,13,10732,13,10736,14,10741,13,10745,1,11111]
[12,10848,13,10853,13,10857,14,10861,13,10865,0,11111]
[12,10968,13,10972,13,10976,14,10981,13,10985,0,11111]
[12,11085,13,11090,13,11094,14,11098,13,11103,0,11111]
[12,11205,13,11209,13,11213,14,11217,13,11222,0,11111]
[12,11324,13,11328,13,11333,14,11339,13,11345,0,11111]
[21,11451,22,11455,24,11461,23,11481,24,11488,1,22222]
[12,11594,13,11600,13,11603,14,11613,13,11618,0,11111]
[12,11720,13,11724,13,11728,14,11732,13,11736,0,11111]
[12,11840,13,11848,13,11862,14,11872,13,11878,0,11111]
[12,11984,13,11988,13,11992,14,11996,13,12001,0,11111]
[12,12103,13,12107,13,12114,14,12119,13,12123,0,11111]
[12,12231,13,12235,13,12239,14,12243,13,12248,0,11111]
[12,12349,13,12353,13,12357,14,12361,13,12371,1,11111]
[21,12494,22,12499,24,12507,23,12514,24,12521,0,22222]
[12,12623,13,12627,13,12631,14,12635,13,12641,0,11111]
[12,12746,13,12753,13,12757,14,12762,13,12771,0,11111]
[12,12871,13,12878,13,12886,14,12896,13,12900,0,11111]
[12,13012,13,13016,13,13020,14,13025,13,13030,0,11111]
[12,13135,13,13138,13,13142,14,13147,13,13154,0,11111]
[12,13260,13,13264,13,13268,14,13276,13,13281,0,11111]
[12,13382,13,13386,13,13391,14,13403,13,13408,1,11111]
[12,13507,13,13511,13,13514,14,13519,13,13525,0,11111]
[12,13622,13,13627,13,13631,14,13635,13,13639,1,11111]
[12,13740,13,13744,13,13748,14,13753,13,13761,0,11111]
[12,13866,13,13870,13,13874,14,13878,13,13886,0,11111]
[12,13985,13,13989,13,13993,14,13999,13,14011,0,11111]
[12,14111,13,14115,13,14119,14,14123,13,14127,0,11111]
[12,14230,13,14243,13,14248,14,14257,13,14267,0,11111]
[12,14382,13,14386,13,14391,14,14395,13,14401,1,11111]
[12,14495,13,14499,13,14503,14,14507,13,14519,0,11111]
[12,14621,13,14626,13,14630,14,14633,13,14647,0,11111]
[12,14745,13,14749,13,14753,14,14757,13,14761,0,11111]
[12,14865,13,14869,13,14873,14,14877,13,14887,0,11111]
[12,14988,13,14992,13,14995,14,14999,13,15004,0,11111]
[12,15107,13,15115,13,15120,14,15128,13,15137,0,11111]
[21,15252,22,15257,24,15263,23,15267,24,15275,0,22222]
[12,15381,13,15385,13,15389,14,15393,13,15397,1,11111]
[12,15506,13,15510,13,15514,14,15522,13,15528,1,11111]
[12,15624,13,15628,13,15632,14,15645,13,15655,0,11111]
[12,15755,13,15759,13,15763,14,15767,13,15771,0,11111]
[12,15873,13,15881,13,15886,14,15890,13,15894,1,11111]
[12,16003,13,16007,13,16015,14,16024,13,16030,0,11111]
[12,16136,13,16140,13,16145,14,16150,13,16154,0,11111]
[12,16254,13,16258,13,16262,14,16266,13,16276,0,11111]
[12,16377,13,16381,13,16385,14,16389,13,16398,1,11111]
[12,16504,13,16513,13,16517,14,16522,13,16530,0,11111]
[12,16631,13,16635,13,16640,14,16647,13,16653,0,11111]
[12,16760,13,16772,13,16776,14,16785,13,16803,0,11111]
[12,16905,13,16913,13,16924,14,16931,13,16940,1,11111]
[12,17038,13,17047,13,17052,14,17057,13,17066,0,11111]
[12,17165,13,17169,13,17173,14,17177,13,17181,0,11111]
[12,17280,13,17287,13,17291,14,17295,13,17299,1,11111]
[12,17396,13,17400,13,17404,14,17408,13,17420,0,11111]
[12,17518,13,17522,13,17525,14,17529,13,17533,0,11111]
[12,17633,13,17641,13,17646,14,17650,13,17654,0,11111]
[12,17767,13,17771,13,17775,14,17779,13,17784,0,11111]
[12,17887,13,17891,13,17898,14,17902,13,17907,0,11111]
[12,18006,13,18017,13,18022,14,18026,13,18048,1,11111]
[12,18144,13,18152,13,18155,14,18159,13,18164,0,11111]
[12,18267,13,18271,13,18275,14,18287,13,18297,0,11111]
[12,18397,13,18401,13,18405,14,18409,13,18413,0,11111]
[12,18516,13,18520,13,18532,14,18537,13,18546,0,11111]
[12,18647,13,18652,13,18656,14,18660,13,18664,0,11111]
[12,18777,13,18781,13,18786,14,18790,13,18798,0,11111]
[12,18912,13,18916,13,18920,14,18929,13,18934,0,11111]
[12,19034,13,19038,13,19042,14,19047,13,19052,0,11111]
[12,19153,13,19157,13,19161,14,19169,13,19174,1,11111]
[12,19270,13,19278,13,19283,14,19288,13,19298,0,11111]
[12,19400,13,19405,13,19409,14,19413,13,19417,0,11111]
[12,19522,13,19526,13,19530,14,19535,13,19549,0,11111]
[12,19653,13,19660,13,19664,14,19675,13,19680,1,11111]
[12,19786,13,19794,13,19798,14,19811,13,19816,0,11111]
[12,19926,13,19933,13,19937,14,19955,13,19963,0,11111]
[21,20069,22,20075,24,20079,23,20084,24,20090,0,22222]
[12,20210,13,20214,13,20218,14,20224,13,20232,0,11111]
[12,20334,13,20338,13,20342,14,20346,13,20350,0,11111]
[12,20464,13,20467,13,20472,14,20476,13,20485,0,11111]
[12,20591,13,20595,13,20599,14,20604,13,20609,0,11111]
[12,20713,13,20717,13,20721,14,20725,13,20729,1,11111]
[12,20825,13,20830,13,20834,14,20851,13,20864,1,11111]
[12,20964,13,20969,13,20972,14,20977,13,20986,0,11111]
[12,21093,13,21097,13,21101,14,21105,13,21110,1,11111]
[12,21217,13,21222,13,21226,14,21230,13,21234,0,11111]
[12,21342,13,21345,13,21349,14,21355,13,21380,0,11111]
[12,21483,13,21490,13,21497,14,21506,13,21516,0,11111]
[12,21619,13,21623,13,21631,14,21635,13,21640,0,11111]
[12,21740,13,21744,13,21748,14,21752,13,21766,0,11111]
[12,21872,13,21876,13,21883,14,21888,13,21893,0,11111]
[12,21997,13,22001,13,22005,14,22009,13,22014,0,11111]
[12,22115,13,22119,13,22124,14,22129,13,22136,0,11111]
[12,22240,13,22244,13,22248,14,22253,13,22262,0,11111]
[12,22361,13,22366,13,22369,14,22373,13,22381,0,11111]
[12,22485,13,22489,13,22493,14,22497,13,22506,1,11111]
[12,22601,13,22606,13,22610,14,22614,13,22627,0,11111]
[12,22727,13,22730,13,22735,14,22740,13,22744,0,11111]
[12,22841,13,22845,13,22853,14,22857,13,22872,0,11111]
[12,22977,13,22982,13,22986,14,22990,13,23001,0,11111]
[12,23101,13,23104,13,23108,14,23112,13,23116,1,11111]
[12,23215,13,23219,13,23223,14,23228,13,23235,0,11111]
[12,23328,13,23337,13,23341,14,23345,13,23349,0,11111]
[12,23454,13,23458,13,23462,14,23466,13,23479,0,11111]
[12,23587,13,23594,13,23603,14,23611,13,23616,0,11111]
[12,23719,13,23723,13,23727,14,23731,13,23735,0,11111]
[12,23834,13,23838,13,23842,14,23846,13,23850,1,11111]
[12,23953,13,23957,13,23960,14,23964,13,23979,null,11111]

{"sheet":"!MC28910.010","index":28,"n_rows":198,"n_cols":48,"rows_kept":198,"cut":false,"hidden":false,"merged":[[4,39,4,42],[5,39,5,40],[4,44,4,47],[5,44,5,45],[4,24,4,27],[5,24,5,25],[4,29,4,32],[5,29,5,30],[4,34,4,37],[5,34,5,35],[1,1,1,2],[5,13,5,14],[42,13,42,14],[43,13,43,14],[4,19,4,22],[5,19,5,20]]}
["Report for:!MC28910.010"]
["Date:","<date>"]
["Hen:","<hen>",null,null,null,"Correct Sequence",{"$f":"Start!J2","v":21121},null,null,null,null,null,null,null,null,"Total Sequences in Data",{"$f":"4994-COUNTBLANK(L7:L5000)","v":192},null,null,null,null,"Total Sequences in Block Data",{"$f":"COUNTA(L7:L38)","v":32},null,null,null,"Total Sequences in Block Data",{"$f":"COUNTA(L39:L70)","v":32},null,null,null,"Total Sequences in Block Data",{"$f":"COUNTA(L71:L102)","v":32},null,null,null,"Total Sequences in Block Data",{"$f":"COUNTA(L103:L134)","v":32},null,null,null,"Total Sequences in Block Data",{"$f":"COUNTA(L135:L166)","v":32},null,null,null,"Total Sequences in Block Data",{"$f":"COUNTA(L167:L198)","v":32}]
[null,null,null,null,null,null,null,null,null,null,null,null,null,null,null,"Total Sequences in Summary",{"$f":"SUM(O7:O38)","v":191},null,null,null,null,"Total Sequences in Block Summary",{"$f":"SUM(U7:U38)","v":32},null,null,null,"Total Sequences in Block Summary",{"$f":"SUM(Z7:Z38)","v":32},null,null,null,"Total Sequences in Block Summary",{"$f":"SUM(AE7:AE38)","v":32},null,null,null,"Total Sequences in Block Summary",{"$f":"SUM(AJ7:AJ38)","v":32},null,null,null,"Total Sequences in Block Summary",{"$f":"SUM(AO7:AO38)","v":32},null,null,null,"Total Sequences in Block Summary",{"$f":"SUM(AT7:AT38)","v":31}]
[null,null,null,null,null,null,null,null,null,null,null,null,null,null,null,null,null,null,null,"Block 1",null,null,null,null,"Block 2",null,null,null,null,"Block 3",null,null,null,null,"Block 4",null,null,null,null,"Block 5",null,null,null,null,"Block 6"]
["Sequence\nComponent\n1","Time\n1","Sequence\nComponent\n2","Time\n2","Sequence\nComponent\n3","Time\n3","Sequence\nComponent\n4","Time\n4","Sequence\nComponent\n5","Time\n5","Correct?\n0=No 1=Yes","Sequence",null,"Frequency",null,"Relative Frequency","Variability",null,null,"Frequency",null,"Relative Frequency","Variability",null,"Frequency",null,"Relative Frequency","Variability",null,"Frequency",null,"Relative Frequency","Variability",null,"Frequency",null,"Relative Frequency","Variability",null,"Frequency",null,"Relative Frequency","Variability",null,"Frequency",null,"Relative Frequency","Variability"]
[12,14,13,18,13,23,14,27,13,32,0,11111,null,11111,{"$f":"COUNTIF($L$7:$L$500,N7)","v":184},{"$f":"O7/$Q$4","v":0.96335078534031415},{"$f":"IF(P7=0,0,(P7*((LOG(P7))/LOG(2))))","v":-5.1892693424541288E-2},null,null,{"$f":"N7","v":11111},{"$f":"COUNTIF(L7:L38,T7)","v":32},{"$f":"U7/(W4-U25)","v":1},{"$f":"IF(V7=0,0,(V7*((LOG(V7))/LOG(2))))","v":0},null,{"$f":"N7","v":11111},{"$f":"COUNTIF(L39:L70,Y7)","v":32},{"$f":"Z7/(AB4-Z25)","v":1},{"$f":"IF(AA7=0,0,(AA7*((LOG(AA7))/LOG(2))))","v":0},null,{"$f":"N7","v":11111},{"$f":"COUNTIF(L71:L102,AD7)","v":31},{"$f":"AE7/(AG4-AE25)","v":0.96875},{"$f":"IF(AF7=0,0,(AF7*((LOG(AF7))/LOG(2))))","v":-4.4372324312714644E-2},null,{"$f":"N7","v":11111},{"$f":"COUNTIF(L103:L134,AI7)","v":32},{"$f":"AJ7/(AL4-AJ25)","v":1},{"$f":"IF(AK7=0,0,(AK7*((LOG(AK7))/LOG(2))))","v":0},null,{"$f":"N7","v":11111},{"$f":"COUNTIF(L135:L166,AN7)","v":28},{"$f":"AO7/(AQ4-AO25)","v":0.875},{"$f":"IF(AP7=0,0,(AP7*((LOG(AP7))/LOG(2))))","v":-0.1685644431995964},null,{"$f":"N7","v":11111},{"$f":"COUNTIF(L167:L198,AS7)","v":29},{"$f":"AT7/(AV4-AT25)","v":0.93548387096774188},{"$f":"IF(AU7=0,0,(AU7*((LOG(AU7))/LOG(2))))","v":-9.0007875565154577E-2}]
[12,142,13,150,13,157,14,161,13,165,0,11111,null,11112,{"$f":"COUNTIF($L$7:$L$500,N8)","v":0},{"$f":"O8/$Q$4","v":0},{"$f":"IF(P8=0,0,(P8*((LOG(P8))/LOG(2))))","v":0},null,null,{"$f":"N8","v":11112},{"$f":"COUNTIF(L7:L38,T8)","v":0},{"$f":"U8/(W4-U25)","v":0},{"$f":"IF(V8=0,0,(V8*((LOG(V8))/LOG(2))))","v":0},null,{"$f":"N8","v":11112},{"$f":"COUNTIF(L39:L70,Y8)","v":0},{"$f":"Z8/(AB4-Z25)","v":0},{"$f":"IF(AA8=0,0,(AA8*((LOG(AA8))/LOG(2))))","v":0},null,{"$f":"N8","v":11112},{"$f":"COUNTIF(L71:L102,AD8)","v":0},{"$f":"AE8/(AG4-AE25)","v":0},{"$f":"IF(AF8=0,0,(AF8*((LOG(AF8))/LOG(2))))","v":0},null,{"$f":"N8","v":11112},{"$f":"COUNTIF(L103:L134,AI8)","v":0},{"$f":"AJ8/(AL4-AJ25)","v":0},{"$f":"IF(AK8=0,0,(AK8*((LOG(AK8))/LOG(2))))","v":0},null,{"$f":"N8","v":11112},{"$f":"COUNTIF(L135:L166,AN8)","v":0},{"$f":"AO8/(AQ4-AO25)","v":0},{"$f":"IF(AP8=0,0,(AP8*((LOG(AP8))/LOG(2))))","v":0},null,{"$f":"N8","v":11112},{"$f":"COUNTIF(L167:L198,AS8)","v":0},{"$f":"AT8/(AV4-AT25)","v":0},{"$f":"IF(AU8=0,0,(AU8*((LOG(AU8))/LOG(2))))","v":0}]
[12,270,13,274,13,279,14,288,13,293,0,11111,null,11121,{"$f":"COUNTIF($L$7:$L$500,N9)","v":0},{"$f":"O9/$Q$4","v":0},{"$f":"IF(P9=0,0,(P9*((LOG(P9))/LOG(2))))","v":0},null,null,{"$f":"N9","v":11121},{"$f":"COUNTIF(L7:L38,T9)","v":0},{"$f":"U9/(W4-U25)","v":0},{"$f":"IF(V9=0,0,(V9*((LOG(V9))/LOG(2))))","v":0},null,{"$f":"N9","v":11121},{"$f":"COUNTIF(L39:L70,Y9)","v":0},{"$f":"Z9/(AB4-Z25)","v":0},{"$f":"IF(AA9=0,0,(AA9*((LOG(AA9))/LOG(2))))","v":0},null,{"$f":"N9","v":11121},{"$f":"COUNTIF(L71:L102,AD9)","v":0},{"$f":"AE9/(AG4-AE25)","v":0},{"$f":"IF(AF9=0,0,(AF9*((LOG(AF9))/LOG(2))))","v":0},null,{"$f":"N9","v":11121},{"$f":"COUNTIF(L103:L134,AI9)","v":0},{"$f":"AJ9/(AL4-AJ25)","v":0},{"$f":"IF(AK9=0,0,(AK9*((LOG(AK9))/LOG(2))))","v":0},null,{"$f":"N9","v":11121},{"$f":"COUNTIF(L135:L166,AN9)","v":0},{"$f":"AO9/(AQ4-AO25)","v":0},{"$f":"IF(AP9=0,0,(AP9*((LOG(AP9))/LOG(2))))","v":0},null,{"$f":"N9","v":11121},{"$f":"COUNTIF(L167:L198,AS9)","v":0},{"$f":"AT9/(AV4-AT25)","v":0},{"$f":"IF(AU9=0,0,(AU9*((LOG(AU9))/LOG(2))))","v":0}]
[12,399,13,403,13,407,14,411,13,416,0,11111,null,11122,{"$f":"COUNTIF($L$7:$L$500,N10)","v":0},{"$f":"O10/$Q$4","v":0},{"$f":"IF(P10=0,0,(P10*((LOG(P10))/LOG(2))))","v":0},null,null,{"$f":"N10","v":11122},{"$f":"COUNTIF(L7:L38,T10)","v":0},{"$f":"U10/(W4-U25)","v":0},{"$f":"IF(V10=0,0,(V10*((LOG(V10))/LOG(2))))","v":0},null,{"$f":"N10","v":11122},{"$f":"COUNTIF(L39:L70,Y10)","v":0},{"$f":"Z10/(AB4-Z25)","v":0},{"$f":"IF(AA10=0,0,(AA10*((LOG(AA10))/LOG(2))))","v":0},null,{"$f":"N10","v":11122},{"$f":"COUNTIF(L71:L102,AD10)","v":0},{"$f":"AE10/(AG4-AE25)","v":0},{"$f":"IF(AF10=0,0,(AF10*((LOG(AF10))/LOG(2))))","v":0},null,{"$f":"N10","v":11122},{"$f":"COUNTIF(L103:L134,AI10)","v":0},{"$f":"AJ10/(AL4-AJ25)","v":0},{"$f":"IF(AK10=0,0,(AK10*((LOG(AK10))/LOG(2))))","v":0},null,{"$f":"N10","v":11122},{"$f":"COUNTIF(L135:L166,AN10)","v":0},{"$f":"AO10/(AQ4-AO25)","v":0},{"$f":"IF(AP10=0,0,(AP10*((LOG(AP10))/LOG(2))))","v":0},null,{"$f":"N10","v":11122},{"$f":"COUNTIF(L167:L198,AS10)","v":0},{"$f":"AT10/(AV4-AT25)","v":0},{"$f":"IF(AU10=0,0,(AU10*((LOG(AU10))/LOG(2))))","v":0}]
[12,525,13,529,13,533,14,539,13,560,0,11111,null,11211,{"$f":"COUNTIF($L$7:$L$500,N11)","v":0},{"$f":"O11/$Q$4","v":0},{"$f":"IF(P11=0,0,(P11*((LOG(P11))/LOG(2))))","v":0},null,null,{"$f":"N11","v":11211},{"$f":"COUNTIF(L7:L38,T11)","v":0},{"$f":"U11/(W4-U25)","v":0},{"$f":"IF(V11=0,0,(V11*((LOG(V11))/LOG(2))))","v":0},null,{"$f":"N11","v":11211},{"$f":"COUNTIF(L39:L70,Y11)","v":0},{"$f":"Z11/(AB4-Z25)","v":0},{"$f":"IF(AA11=0,0,(AA11*((LOG(AA11))/LOG(2))))","v":0},null,{"$f":"N11","v":11211},{"$f":"COUNTIF(L71:L102,AD11)","v":0},{"$f":"AE11/(AG4-AE25)","v":0},{"$f":"IF(AF11=0,0,(AF11*((LOG(AF11))/LOG(2))))","v":0},null,{"$f":"N11","v":11211},{"$f":"COUNTIF(L103:L134,AI11)","v":0},{"$f":"AJ11/(AL4-AJ25)","v":0},{"$f":"IF(AK11=0,0,(AK11*((LOG(AK11))/LOG(2))))","v":0},null,{"$f":"N11","v":11211},{"$f":"COUNTIF(L135:L166,AN11)","v":0},{"$f":"AO11/(AQ4-AO25)","v":0},{"$f":"IF(AP11=0,0,(AP11*((LOG(AP11))/LOG(2))))","v":0},null,{"$f":"N11","v":11211},{"$f":"COUNTIF(L167:L198,AS11)","v":0},{"$f":"AT11/(AV4-AT25)","v":0},{"$f":"IF(AU11=0,0,(AU11*((LOG(AU11))/LOG(2))))","v":0}]
[12,670,13,675,13,679,14,683,13,687,0,11111,null,11212,{"$f":"COUNTIF($L$7:$L$500,N12)","v":0},{"$f":"O12/$Q$4","v":0},{"$f":"IF(P12=0,0,(P12*((LOG(P12))/LOG(2))))","v":0},null,null,{"$f":"N12","v":11212},{"$f":"COUNTIF(L7:L38,T12)","v":0},{"$f":"U12/(W4-U25)","v":0},{"$f":"IF(V12=0,0,(V12*((LOG(V12))/LOG(2))))","v":0},null,{"$f":"N12","v":11212},{"$f":"COUNTIF(L39:L70,Y12)","v":0},{"$f":"Z12/(AB4-Z25)","v":0},{"$f":"IF(AA12=0,0,(AA12*((LOG(AA12))/LOG(2))))","v":0},null,{"$f":"N12","v":11212},{"$f":"COUNTIF(L71:L102,AD12)","v":0},{"$f":"AE12/(AG4-AE25)","v":0},{"$f":"IF(AF12=0,0,(AF12*((LOG(AF12))/LOG(2))))","v":0},null,{"$f":"N12","v":11212},{"$f":"COUNTIF(L103:L134,AI12)","v":0},{"$f":"AJ12/(AL4-AJ25)","v":0},{"$f":"IF(AK12=0,0,(AK12*((LOG(AK12))/LOG(2))))","v":0},null,{"$f":"N12","v":11212},{"$f":"COUNTIF(L135:L166,AN12)","v":0},{"$f":"AO12/(AQ4-AO25)","v":0},{"$f":"IF(AP12=0,0,(AP12*((LOG(AP12))/LOG(2))))","v":0},null,{"$f":"N12","v":11212},{"$f":"COUNTIF(L167:L198,AS12)","v":0},{"$f":"AT12/(AV4-AT25)","v":0},{"$f":"IF(AU12=0,0,(AU12*((LOG(AU12))/LOG(2))))","v":0}]
[12,790,13,794,13,798,14,802,13,807,0,11111,null,11221,{"$f":"COUNTIF($L$7:$L$500,N13)","v":0},{"$f":"O13/$Q$4","v":0},{"$f":"IF(P13=0,0,(P13*((LOG(P13))/LOG(2))))","v":0},null,null,{"$f":"N13","v":11221},{"$f":"COUNTIF(L7:L38,T13)","v":0},{"$f":"U13/(W4-U25)","v":0},{"$f":"IF(V13=0,0,(V13*((LOG(V13))/LOG(2))))","v":0},null,{"$f":"N13","v":11221},{"$f":"COUNTIF(L39:L70,Y13)","v":0},{"$f":"Z13/(AB4-Z25)","v":0},{"$f":"IF(AA13=0,0,(AA13*((LOG(AA13))/LOG(2))))","v":0},null,{"$f":"N13","v":11221},{"$f":"COUNTIF(L71:L102,AD13)","v":0},{"$f":"AE13/(AG4-AE25)","v":0},{"$f":"IF(AF13=0,0,(AF13*((LOG(AF13))/LOG(2))))","v":0},null,{"$f":"N13","v":11221},{"$f":"COUNTIF(L103:L134,AI13)","v":0},{"$f":"AJ13/(AL4-AJ25)","v":0},{"$f":"IF(AK13=0,0,(AK13*((LOG(AK13))/LOG(2))))","v":0},null,{"$f":"N13","v":11221},{"$f":"COUNTIF(L135:L166,AN13)","v":0},{"$f":"AO13/(AQ4-AO25)","v":0},{"$f":"IF(AP13=0,0,(AP13*((LOG(AP13))/LOG(2))))","v":0},null,{"$f":"N13","v":11221},{"$f":"COUNTIF(L167:L198,AS13)","v":0},{"$f":"AT13/(AV4-AT25)","v":0},{"$f":"IF(AU13=0,0,(AU13*((LOG(AU13))/LOG(2))))","v":0}]
[12,908,13,915,13,918,14,922,13,926,0,11111,null,11222,{"$f":"COUNTIF($L$7:$L$500,N14)","v":0},{"$f":"O14/$Q$4","v":0},{"$f":"IF(P14=0,0,(P14*((LOG(P14))/LOG(2))))","v":0},null,null,{"$f":"N14","v":11222},{"$f":"COUNTIF(L7:L38,T14)","v":0},{"$f":"U14/(W4-U25)","v":0},{"$f":"IF(V14=0,0,(V14*((LOG(V14))/LOG(2))))","v":0},null,{"$f":"N14","v":11222},{"$f":"COUNTIF(L39:L70,Y14)","v":0},{"$f":"Z14/(AB4-Z25)","v":0},{"$f":"IF(AA14=0,0,(AA14*((LOG(AA14))/LOG(2))))","v":0},null,{"$f":"N14","v":11222},{"$f":"COUNTIF(L71:L102,AD14)","v":0},{"$f":"AE14/(AG4-AE25)","v":0},{"$f":"IF(AF14=0,0,(AF14*((LOG(AF14))/LOG(2))))","v":0},null,{"$f":"N14","v":11222},{"$f":"COUNTIF(L103:L134,AI14)","v":0},{"$f":"AJ14/(AL4-AJ25)","v":0},{"$f":"IF(AK14=0,0,(AK14*((LOG(AK14))/LOG(2))))","v":0},null,{"$f":"N14","v":11222},{"$f":"COUNTIF(L135:L166,AN14)","v":0},{"$f":"AO14/(AQ4-AO25)","v":0},{"$f":"IF(AP14=0,0,(AP14*((LOG(AP14))/LOG(2))))","v":0},null,{"$f":"N14","v":11222},{"$f":"COUNTIF(L167:L198,AS14)","v":0},{"$f":"AT14/(AV4-AT25)","v":0},{"$f":"IF(AU14=0,0,(AU14*((LOG(AU14))/LOG(2))))","v":0}]
[12,1033,13,1038,13,1042,14,1046,13,1051,1,11111,null,12111,{"$f":"COUNTIF($L$7:$L$500,N15)","v":0},{"$f":"O15/$Q$4","v":0},{"$f":"IF(P15=0,0,(P15*((LOG(P15))/LOG(2))))","v":0},null,null,{"$f":"N15","v":12111},{"$f":"COUNTIF(L7:L38,T15)","v":0},{"$f":"U15/(W4-U25)","v":0},{"$f":"IF(V15=0,0,(V15*((LOG(V15))/LOG(2))))","v":0},null,{"$f":"N15","v":12111},{"$f":"COUNTIF(L39:L70,Y15)","v":0},{"$f":"Z15/(AB4-Z25)","v":0},{"$f":"IF(AA15=0,0,(AA15*((LOG(AA15))/LOG(2))))","v":0},null,{"$f":"N15","v":12111},{"$f":"COUNTIF(L71:L102,AD15)","v":0},{"$f":"AE15/(AG4-AE25)","v":0},{"$f":"IF(AF15=0,0,(AF15*((LOG(AF15))/LOG(2))))","v":0},null,{"$f":"N15","v":12111},{"$f":"COUNTIF(L103:L134,AI15)","v":0},{"$f":"AJ15/(AL4-AJ25)","v":0},{"$f":"IF(AK15=0,0,(AK15*((LOG(AK15))/LOG(2))))","v":0},null,{"$f":"N15","v":12111},{"$f":"COUNTIF(L135:L166,AN15)","v":0},{"$f":"AO15/(AQ4-AO25)","v":0},{"$f":"IF(AP15=0,0,(AP15*((LOG(AP15))/LOG(2))))","v":0},null,{"$f":"N15","v":12111},{"$f":"COUNTIF(L167:L198,AS15)","v":0},{"$f":"AT15/(AV4-AT25)","v":0},{"$f":"IF(AU15=0,0,(AU15*((LOG(AU15))/LOG(2))))","v":0}]
[12,1151,13,1155,13,1160,14,1164,13,1167,0,11111,null,12112,{"$f":"COUNTIF($L$7:$L$500,N16)","v":0},{"$f":"O16/$Q$4","v":0},{"$f":"IF(P16=0,0,(P16*((LOG(P16))/LOG(2))))","v":0},null,null,{"$f":"N16","v":12112},{"$f":"COUNTIF(L7:L38,T16)","v":0},{"$f":"U16/(W4-U25)","v":0},{"$f":"IF(V16=0,0,(V16*((LOG(V16))/LOG(2))))","v":0},null,{"$f":"N16","v":12112},{"$f":"COUNTIF(L39:L70,Y16)","v":0},{"$f":"Z16/(AB4-Z25)","v":0},{"$f":"IF(AA16=0,0,(AA16*((LOG(AA16))/LOG(2))))","v":0},null,{"$f":"N16","v":12112},{"$f":"COUNTIF(L71:L102,AD16)","v":0},{"$f":"AE16/(AG4-AE25)","v":0},{"$f":"IF(AF16=0,0,(AF16*((LOG(AF16))/LOG(2))))","v":0},null,{"$f":"N16","v":12112},{"$f":"COUNTIF(L103:L134,AI16)","v":0},{"$f":"AJ16/(AL4-AJ25)","v":0},{"$f":"IF(AK16=0,0,(AK16*((LOG(AK16))/LOG(2))))","v":0},null,{"$f":"N16","v":12112},{"$f":"COUNTIF(L135:L166,AN16)","v":0},{"$f":"AO16/(AQ4-AO25)","v":0},{"$f":"IF(AP16=0,0,(AP16*((LOG(AP16))/LOG(2))))","v":0},null,{"$f":"N16","v":12112},{"$f":"COUNTIF(L167:L198,AS16)","v":0},{"$f":"AT16/(AV4-AT25)","v":0},{"$f":"IF(AU16=0,0,(AU16*((LOG(AU16))/LOG(2))))","v":0}]
[12,1272,13,1276,13,1281,14,1285,13,1289,0,11111,null,12121,{"$f":"COUNTIF($L$7:$L$500,N17)","v":0},{"$f":"O17/$Q$4","v":0},{"$f":"IF(P17=0,0,(P17*((LOG(P17))/LOG(2))))","v":0},null,null,{"$f":"N17","v":12121},{"$f":"COUNTIF(L7:L38,T17)","v":0},{"$f":"U17/(W4-U25)","v":0},{"$f":"IF(V17=0,0,(V17*((LOG(V17))/LOG(2))))","v":0},null,{"$f":"N17","v":12121},{"$f":"COUNTIF(L39:L70,Y17)","v":0},{"$f":"Z17/(AB4-Z25)","v":0},{"$f":"IF(AA17=0,0,(AA17*((LOG(AA17))/LOG(2))))","v":0},null,{"$f":"N17","v":12121},{"$f":"COUNTIF(L71:L102,AD17)","v":0},{"$f":"AE17/(AG4-AE25)","v":0},{"$f":"IF(AF17=0,0,(AF17*((LOG(AF17))/LOG(2))))","v":0},null,{"$f":"N17","v":12121},{"$f":"COUNTIF(L103:L134,AI17)","v":0},{"$f":"AJ17/(AL4-AJ25)","v":0},{"$f":"IF(AK17=0,0,(AK17*((LOG(AK17))/LOG(2))))","v":0},null,{"$f":"N17","v":12121},{"$f":"COUNTIF(L135:L166,AN17)","v":0},{"$f":"AO17/(AQ4-AO25)","v":0},{"$f":"IF(AP17=0,0,(AP17*((LOG(AP17))/LOG(2))))","v":0},null,{"$f":"N17","v":12121},{"$f":"COUNTIF(L167:L198,AS17)","v":0},{"$f":"AT17/(AV4-AT25)","v":0},{"$f":"IF(AU17=0,0,(AU17*((LOG(AU17))/LOG(2))))","v":0}]
[12,1392,13,1396,13,1400,14,1404,13,1408,0,11111,null,12122,{"$f":"COUNTIF($L$7:$L$500,N18)","v":0},{"$f":"O18/$Q$4","v":0},{"$f":"IF(P18=0,0,(P18*((LOG(P18))/LOG(2))))","v":0},null,null,{"$f":"N18","v":12122},{"$f":"COUNTIF(L7:L38,T18)","v":0},{"$f":"U18/(W4-U25)","v":0},{"$f":"IF(V18=0,0,(V18*((LOG(V18))/LOG(2))))","v":0},null,{"$f":"N18","v":12122},{"$f":"COUNTIF(L39:L70,Y18)","v":0},{"$f":"Z18/(AB4-Z25)","v":0},{"$f":"IF(AA18=0,0,(AA18*((LOG(AA18))/LOG(2))))","v":0},null,{"$f":"N18","v":12122},{"$f":"COUNTIF(L71:L102,AD18)","v":0},{"$f":"AE18/(AG4-AE25)","v":0},{"$f":"IF(AF18=0,0,(AF18*((LOG(AF18))/LOG(2))))","v":0},null,{"$f":"N18","v":12122},{"$f":"COUNTIF(L103:L134,AI18)","v":0},{"$f":"AJ18/(AL4-AJ25)","v":0},{"$f":"IF(AK18=0,0,(AK18*((LOG(AK18))/LOG(2))))","v":0},null,{"$f":"N18","v":12122},{"$f":"COUNTIF(L135:L166,AN18)","v":0},{"$f":"AO18/(AQ4-AO25)","v":0},{"$f":"IF(AP18=0,0,(AP18*((LOG(AP18))/LOG(2))))","v":0},null,{"$f":"N18","v":12122},{"$f":"COUNTIF(L167:L198,AS18)","v":0},{"$f":"AT18/(AV4-AT25)","v":0},{"$f":"IF(AU18=0,0,(AU18*((LOG(AU18))/LOG(2))))","v":0}]
[12,1514,13,1518,13,1523,14,1527,13,1532,0,11111,null,12211,{"$f":"COUNTIF($L$7:$L$500,N19)","v":0},{"$f":"O19/$Q$4","v":0},{"$f":"IF(P19=0,0,(P19*((LOG(P19))/LOG(2))))","v":0},null,null,{"$f":"N19","v":12211},{"$f":"COUNTIF(L7:L38,T19)","v":0},{"$f":"U19/(W4-U25)","v":0},{"$f":"IF(V19=0,0,(V19*((LOG(V19))/LOG(2))))","v":0},null,{"$f":"N19","v":12211},{"$f":"COUNTIF(L39:L70,Y19)","v":0},{"$f":"Z19/(AB4-Z25)","v":0},{"$f":"IF(AA19=0,0,(AA19*((LOG(AA19))/LOG(2))))","v":0},null,{"$f":"N19","v":12211},{"$f":"COUNTIF(L71:L102,AD19)","v":0},{"$f":"AE19/(AG4-AE25)","v":0},{"$f":"IF(AF19=0,0,(AF19*((LOG(AF19))/LOG(2))))","v":0},null,{"$f":"N19","v":12211},{"$f":"COUNTIF(L103:L134,AI19)","v":0},{"$f":"AJ19/(AL4-AJ25)","v":0},{"$f":"IF(AK19=0,0,(AK19*((LOG(AK19))/LOG(2))))","v":0},null,{"$f":"N19","v":12211},{"$f":"COUNTIF(L135:L166,AN19)","v":0},{"$f":"AO19/(AQ4-AO25)","v":0},{"$f":"IF(AP19=0,0,(AP19*((LOG(AP19))/LOG(2))))","v":0},null,{"$f":"N19","v":12211},{"$f":"COUNTIF(L167:L198,AS19)","v":0},{"$f":"AT19/(AV4-AT25)","v":0},{"$f":"IF(AU19=0,0,(AU19*((LOG(AU19))/LOG(2))))","v":0}]
[12,1634,13,1638,13,1642,14,1646,13,1652,0,11111,null,12212,{"$f":"COUNTIF($L$7:$L$500,N20)","v":0},{"$f":"O20/$Q$4","v":0},{"$f":"IF(P20=0,0,(P20*((LOG(P20))/LOG(2))))","v":0},null,null,{"$f":"N20","v":12212},{"$f":"COUNTIF(L7:L38,T20)","v":0},{"$f":"U20/(W4-U25)","v":0},{"$f":"IF(V20=0,0,(V20*((LOG(V20))/LOG(2))))","v":0},null,{"$f":"N20","v":12212},{"$f":"COUNTIF(L39:L70,Y20)","v":0},{"$f":"Z20/(AB4-Z25)","v":0},{"$f":"IF(AA20=0,0,(AA20*((LOG(AA20))/LOG(2))))","v":0},null,{"$f":"N20","v":12212},{"$f":"COUNTIF(L71:L102,AD20)","v":0},{"$f":"AE20/(AG4-AE25)","v":0},{"$f":"IF(AF20=0,0,(AF20*((LOG(AF20))/LOG(2))))","v":0},null,{"$f":"N20","v":12212},{"$f":"COUNTIF(L103:L134,AI20)","v":0},{"$f":"AJ20/(AL4-AJ25)","v":0},{"$f":"IF(AK20=0,0,(AK20*((LOG(AK20))/LOG(2))))","v":0},null,{"$f":"N20","v":12212},{"$f":"COUNTIF(L135:L166,AN20)","v":0},{"$f":"AO20/(AQ4-AO25)","v":0},{"$f":"IF(AP20=0,0,(AP20*((LOG(AP20))/LOG(2))))","v":0},null,{"$f":"N20","v":12212},{"$f":"COUNTIF(L167:L198,AS20)","v":0},{"$f":"AT20/(AV4-AT25)","v":0},{"$f":"IF(AU20=0,0,(AU20*((LOG(AU20))/LOG(2))))","v":0}]
[12,1751,13,1755,13,1759,14,1763,13,1768,0,11111,null,12221,{"$f":"COUNTIF($L$7:$L$500,N21)","v":0},{"$f":"O21/$Q$4","v":0},{"$f":"IF(P21=0,0,(P21*((LOG(P21))/LOG(2))))","v":0},null,null,{"$f":"N21","v":12221},{"$f":"COUNTIF(L7:L38,T21)","v":0},{"$f":"U21/(W4-U25)","v":0},{"$f":"IF(V21=0,0,(V21*((LOG(V21))/LOG(2))))","v":0},null,{"$f":"N21","v":12221},{"$f":"COUNTIF(L39:L70,Y21)","v":0},{"$f":"Z21/(AB4-Z25)","v":0},{"$f":"IF(AA21=0,0,(AA21*((LOG(AA21))/LOG(2))))","v":0},null,{"$f":"N21","v":12221},{"$f":"COUNTIF(L71:L102,AD21)","v":0},{"$f":"AE21/(AG4-AE25)","v":0},{"$f":"IF(AF21=0,0,(AF21*((LOG(AF21))/LOG(2))))","v":0},null,{"$f":"N21","v":12221},{"$f":"COUNTIF(L103:L134,AI21)","v":0},{"$f":"AJ21/(AL4-AJ25)","v":0},{"$f":"IF(AK21=0,0,(AK21*((LOG(AK21))/LOG(2))))","v":0},null,{"$f":"N21","v":12221},{"$f":"COUNTIF(L135:L166,AN21)","v":0},{"$f":"AO21/(AQ4-AO25)","v":0},{"$f":"IF(AP21=0,0,(AP21*((LOG(AP21))/LOG(2))))","v":0},null,{"$f":"N21","v":12221},{"$f":"COUNTIF(L167:L198,AS21)","v":0},{"$f":"AT21/(AV4-AT25)","v":0},{"$f":"IF(AU21=0,0,(AU21*((LOG(AU21))/LOG(2))))","v":0}]
[12,1868,13,1873,13,1877,14,1882,13,1887,0,11111,null,12222,{"$f":"COUNTIF($L$7:$L$500,N22)","v":0},{"$f":"O22/$Q$4","v":0},{"$f":"IF(P22=0,0,(P22*((LOG(P22))/LOG(2))))","v":0},null,null,{"$f":"N22","v":12222},{"$f":"COUNTIF(L7:L38,T22)","v":0},{"$f":"U22/(W4-U25)","v":0},{"$f":"IF(V22=0,0,(V22*((LOG(V22))/LOG(2))))","v":0},null,{"$f":"N22","v":12222},{"$f":"COUNTIF(L39:L70,Y22)","v":0},{"$f":"Z22/(AB4-Z25)","v":0},{"$f":"IF(AA22=0,0,(AA22*((LOG(AA22))/LOG(2))))","v":0},null,{"$f":"N22","v":12222},{"$f":"COUNTIF(L71:L102,AD22)","v":0},{"$f":"AE22/(AG4-AE25)","v":0},{"$f":"IF(AF22=0,0,(AF22*((LOG(AF22))/LOG(2))))","v":0},null,{"$f":"N22","v":12222},{"$f":"COUNTIF(L103:L134,AI22)","v":0},{"$f":"AJ22/(AL4-AJ25)","v":0},{"$f":"IF(AK22=0,0,(AK22*((LOG(AK22))/LOG(2))))","v":0},null,{"$f":"N22","v":12222},{"$f":"COUNTIF(L135:L166,AN22)","v":0},{"$f":"AO22/(AQ4-AO25)","v":0},{"$f":"IF(AP22=0,0,(AP22*((LOG(AP22))/LOG(2))))","v":0},null,{"$f":"N22","v":12222},{"$f":"COUNTIF(L167:L198,AS22)","v":0},{"$f":"AT22/(AV4-AT25)","v":0},{"$f":"IF(AU22=0,0,(AU22*((LOG(AU22))/LOG(2))))","v":0}]
[12,1989,13,1993,13,1997,14,2011,13,2016,0,11111,null,21111,{"$f":"COUNTIF($L$7:$L$500,N23)","v":0},{"$f":"O23/$Q$4","v":0},{"$f":"IF(P23=0,0,(P23*((LOG(P23))/LOG(2))))","v":0},null,null,{"$f":"N23","v":21111},{"$f":"COUNTIF(L7:L38,T23)","v":0},{"$f":"U23/(W4-U25)","v":0},{"$f":"IF(V23=0,0,(V23*((LOG(V23))/LOG(2))))","v":0},null,{"$f":"N23","v":21111},{"$f":"COUNTIF(L39:L70,Y23)","v":0},{"$f":"Z23/(AB4-Z25)","v":0},{"$f":"IF(AA23=0,0,(AA23*((LOG(AA23))/LOG(2))))","v":0},null,{"$f":"N23","v":21111},{"$f":"COUNTIF(L71:L102,AD23)","v":0},{"$f":"AE23/(AG4-AE25)","v":0},{"$f":"IF(AF23=0,0,(AF23*((LOG(AF23))/LOG(2))))","v":0},null,{"$f":"N23","v":21111},{"$f":"COUNTIF(L103:L134,AI23)","v":0},{"$f":"AJ23/(AL4-AJ25)","v":0},{"$f":"IF(AK23=0,0,(AK23*((LOG(AK23))/LOG(2))))","v":0},null,{"$f":"N23","v":21111},{"$f":"COUNTIF(L135:L166,AN23)","v":0},{"$f":"AO23/(AQ4-AO25)","v":0},{"$f":"IF(AP23=0,0,(AP23*((LOG(AP23))/LOG(2))))","v":0},null,{"$f":"N23","v":21111},{"$f":"COUNTIF(L167:L198,AS23)","v":0},{"$f":"AT23/(AV4-AT25)","v":0},{"$f":"IF(AU23=0,0,(AU23*((LOG(AU23))/LOG(2))))","v":0}]
[12,2118,13,2123,13,2128,14,2133,13,2138,1,11111,null,21112,{"$f":"COUNTIF($L$7:$L$500,N24)","v":0},{"$f":"O24/$Q$4","v":0},{"$f":"IF(P24=0,0,(P24*((LOG(P24))/LOG(2))))","v":0},null,null,{"$f":"N24","v":21112},{"$f":"COUNTIF(L7:L38,T24)","v":0},{"$f":"U24/(W4-U25)","v":0},{"$f":"IF(V24=0,0,(V24*((LOG(V24))/LOG(2))))","v":0},null,{"$f":"N24","v":21112},{"$f":"COUNTIF(L39:L70,Y24)","v":0},{"$f":"Z24/(AB4-Z25)","v":0},{"$f":"IF(AA24=0,0,(AA24*((LOG(AA24))/LOG(2))))","v":0},null,{"$f":"N24","v":21112},{"$f":"COUNTIF(L71:L102,AD24)","v":0},{"$f":"AE24/(AG4-AE25)","v":0},{"$f":"IF(AF24=0,0,(AF24*((LOG(AF24))/LOG(2))))","v":0},null,{"$f":"N24","v":21112},{"$f":"COUNTIF(L103:L134,AI24)","v":0},{"$f":"AJ24/(AL4-AJ25)","v":0},{"$f":"IF(AK24=0,0,(AK24*((LOG(AK24))/LOG(2))))","v":0},null,{"$f":"N24","v":21112},{"$f":"COUNTIF(L135:L166,AN24)","v":0},{"$f":"AO24/(AQ4-AO25)","v":0},{"$f":"IF(AP24=0,0,(AP24*((LOG(AP24))/LOG(2))))","v":0},null,{"$f":"N24","v":21112},{"$f":"COUNTIF(L167:L198,AS24)","v":0},{"$f":"AT24/(AV4-AT25)","v":0},{"$f":"IF(AU24=0,0,(AU24*((LOG(AU24))/LOG(2))))","v":0}]
[12,2237,13,2241,13,2246,14,2250,13,2255,0,11111,null,21121,{"$f":"COUNTIF($L$7:$L$500,N25)","v":0},{"$f":"O25/$Q$4","v":0},{"$f":"IF(P25=0,0,(P25*((LOG(P25))/LOG(2))))","v":0},null,null,{"$f":"N25","v":21121},{"$f":"COUNTIF(L7:L38,T25)","v":0},null,null,null,{"$f":"N25","v":21121},{"$f":"COUNTIF(L39:L70,Y25)","v":0},null,null,null,{"$f":"N25","v":21121},{"$f":"COUNTIF(L71:L102,AD25)","v":0},null,null,null,{"$f":"N25","v":21121},{"$f":"COUNTIF(L103:L134,AI25)","v":0},null,null,null,{"$f":"N25","v":21121},{"$f":"COUNTIF(L135:L166,AN25)","v":0},null,null,null,{"$f":"N25","v":21121},{"$f":"COUNTIF(L167:L198,AS25)","v":0}]
[12,2353,13,2363,13,2368,14,2374,13,2380,1,11111,null,21122,{"$f":"COUNTIF($L$7:$L$500,N26)","v":0},{"$f":"O26/$Q$4","v":0},{"$f":"IF(P26=0,0,(P26*((LOG(P26))/LOG(2))))","v":0},null,null,{"$f":"N26","v":21122},{"$f":"COUNTIF(L7:L38,T26)","v":0},{"$f":"U26/(W4-U25)","v":0},{"$f":"IF(V26=0,0,(V26*((LOG(V26))/LOG(2))))","v":0},null,{"$f":"N26","v":21122},{"$f":"COUNTIF(L39:L70,Y26)","v":0},{"$f":"Z26/(AB4-Z25)","v":0},{"$f":"IF(AA26=0,0,(AA26*((LOG(AA26))/LOG(2))))","v":0},null,{"$f":"N26","v":21122},{"$f":"COUNTIF(L71:L102,AD26)","v":0},{"$f":"AE26/(AG4-AE25)","v":0},{"$f":"IF(AF26=0,0,(AF26*((LOG(AF26))/LOG(2))))","v":0},null,{"$f":"N26","v":21122},{"$f":"COUNTIF(L103:L134,AI26)","v":0},{"$f":"AJ26/(AL4-AJ25)","v":0},{"$f":"IF(AK26=0,0,(AK26*((LOG(AK26))/LOG(2))))","v":0},null,{"$f":"N26","v":21122},{"$f":"COUNTIF(L135:L166,AN26)","v":0},{"$f":"AO26/(AQ4-AO25)","v":0},{"$f":"IF(AP26=0,0,(AP26*((LOG(AP26))/LOG(2))))","v":0},null,{"$f":"N26","v":21122},{"$f":"COUNTIF(L167:L198,AS26)","v":0},{"$f":"AT26/(AV4-AT25)","v":0},{"$f":"IF(AU26=0,0,(AU26*((LOG(AU26))/LOG(2))))","v":0}]
[12,2498,13,2502,13,2507,14,2511,13,2516,0,11111,null,21211,{"$f":"COUNTIF($L$7:$L$500,N27)","v":0},{"$f":"O27/$Q$4","v":0},{"$f":"IF(P27=0,0,(P27*((LOG(P27))/LOG(2))))","v":0},null,null,{"$f":"N27","v":21211},{"$f":"COUNTIF(L7:L38,T27)","v":0},{"$f":"U27/(W4-U25)","v":0},{"$f":"IF(V27=0,0,(V27*((LOG(V27))/LOG(2))))","v":0},null,{"$f":"N27","v":21211},{"$f":"COUNTIF(L39:L70,Y27)","v":0},{"$f":"Z27/(AB4-Z25)","v":0},{"$f":"IF(AA27=0,0,(AA27*((LOG(AA27))/LOG(2))))","v":0},null,{"$f":"N27","v":21211},{"$f":"COUNTIF(L71:L102,AD27)","v":0},{"$f":"AE27/(AG4-AE25)","v":0},{"$f":"IF(AF27=0,0,(AF27*((LOG(AF27))/LOG(2))))","v":0},null,{"$f":"N27","v":21211},{"$f":"COUNTIF(L103:L134,AI27)","v":0},{"$f":"AJ27/(AL4-AJ25)","v":0},{"$f":"IF(AK27=0,0,(AK27*((LOG(AK27))/LOG(2))))","v":0},null,{"$f":"N27","v":21211},{"$f":"COUNTIF(L135:L166,AN27)","v":0},{"$f":"AO27/(AQ4-AO25)","v":0},{"$f":"IF(AP27=0,0,(AP27*((LOG(AP27))/LOG(2))))","v":0},null,{"$f":"N27","v":21211},{"$f":"COUNTIF(L167:L198,AS27)","v":0},{"$f":"AT27/(AV4-AT25)","v":0},{"$f":"IF(AU27=0,0,(AU27*((LOG(AU27))/LOG(2))))","v":0}]
[12,2616,13,2620,13,2624,14,2629,13,2633,0,11111,null,21212,{"$f":"COUNTIF($L$7:$L$500,N28)","v":0},{"$f":"O28/$Q$4","v":0},{"$f":"IF(P28=0,0,(P28*((LOG(P28))/LOG(2))))","v":0},null,null,{"$f":"N28","v":21212},{"$f":"COUNTIF(L7:L38,T28)","v":0},{"$f":"U28/(W4-U25)","v":0},{"$f":"IF(V28=0,0,(V28*((LOG(V28))/LOG(2))))","v":0},null,{"$f":"N28","v":21212},{"$f":"COUNTIF(L39:L70,Y28)","v":0},{"$f":"Z28/(AB4-Z25)","v":0},{"$f":"IF(AA28=0,0,(AA28*((LOG(AA28))/LOG(2))))","v":0},null,{"$f":"N28","v":21212},{"$f":"COUNTIF(L71:L102,AD28)","v":0},{"$f":"AE28/(AG4-AE25)","v":0},{"$f":"IF(AF28=0,0,(AF28*((LOG(AF28))/LOG(2))))","v":0},null,{"$f":"N28","v":21212},{"$f":"COUNTIF(L103:L134,AI28)","v":0},{"$f":"AJ28/(AL4-AJ25)","v":0},{"$f":"IF(AK28=0,0,(AK28*((LOG(AK28))/LOG(2))))","v":0},null,{"$f":"N28","v":21212},{"$f":"COUNTIF(L135:L166,AN28)","v":0},{"$f":"AO28/(AQ4-AO25)","v":0},{"$f":"IF(AP28=0,0,(AP28*((LOG(AP28))/LOG(2))))","v":0},null,{"$f":"N28","v":21212},{"$f":"COUNTIF(L167:L198,AS28)","v":0},{"$f":"AT28/(AV4-AT25)","v":0},{"$f":"IF(AU28=0,0,(AU28*((LOG(AU28))/LOG(2))))","v":0}]
[12,2739,13,2743,13,2747,14,2751,13,2757,0,11111,null,21221,{"$f":"COUNTIF($L$7:$L$500,N29)","v":0},{"$f":"O29/$Q$4","v":0},{"$f":"IF(P29=0,0,(P29*((LOG(P29))/LOG(2))))","v":0},null,null,{"$f":"N29","v":21221},{"$f":"COUNTIF(L7:L38,T29)","v":0},{"$f":"U29/(W4-U25)","v":0},{"$f":"IF(V29=0,0,(V29*((LOG(V29))/LOG(2))))","v":0},null,{"$f":"N29","v":21221},{"$f":"COUNTIF(L39:L70,Y29)","v":0},{"$f":"Z29/(AB4-Z25)","v":0},{"$f":"IF(AA29=0,0,(AA29*((LOG(AA29))/LOG(2))))","v":0},null,{"$f":"N29","v":21221},{"$f":"COUNTIF(L71:L102,AD29)","v":0},{"$f":"AE29/(AG4-AE25)","v":0},{"$f":"IF(AF29=0,0,(AF29*((LOG(AF29))/LOG(2))))","v":0},null,{"$f":"N29","v":21221},{"$f":"COUNTIF(L103:L134,AI29)","v":0},{"$f":"AJ29/(AL4-AJ25)","v":0},{"$f":"IF(AK29=0,0,(AK29*((LOG(AK29))/LOG(2))))","v":0},null,{"$f":"N29","v":21221},{"$f":"COUNTIF(L135:L166,AN29)","v":0},{"$f":"AO29/(AQ4-AO25)","v":0},{"$f":"IF(AP29=0,0,(AP29*((LOG(AP29))/LOG(2))))","v":0},null,{"$f":"N29","v":21221},{"$f":"COUNTIF(L167:L198,AS29)","v":0},{"$f":"AT29/(AV4-AT25)","v":0},{"$f":"IF(AU29=0,0,(AU29*((LOG(AU29))/LOG(2))))","v":0}]
[12,2865,13,2870,13,2874,14,2878,13,2883,0,11111,null,21222,{"$f":"COUNTIF($L$7:$L$500,N30)","v":0},{"$f":"O30/$Q$4","v":0},{"$f":"IF(P30=0,0,(P30*((LOG(P30))/LOG(2))))","v":0},null,null,{"$f":"N30","v":21222},{"$f":"COUNTIF(L7:L38,T30)","v":0},{"$f":"U30/(W4-U25)","v":0},{"$f":"IF(V30=0,0,(V30*((LOG(V30))/LOG(2))))","v":0},null,{"$f":"N30","v":21222},{"$f":"COUNTIF(L39:L70,Y30)","v":0},{"$f":"Z30/(AB4-Z25)","v":0},{"$f":"IF(AA30=0,0,(AA30*((LOG(AA30))/LOG(2))))","v":0},null,{"$f":"N30","v":21222},{"$f":"COUNTIF(L71:L102,AD30)","v":0},{"$f":"AE30/(AG4-AE25)","v":0},{"$f":"IF(AF30=0,0,(AF30*((LOG(AF30))/LOG(2))))","v":0},null,{"$f":"N30","v":21222},{"$f":"COUNTIF(L103:L134,AI30)","v":0},{"$f":"AJ30/(AL4-AJ25)","v":0},{"$f":"IF(AK30=0,0,(AK30*((LOG(AK30))/LOG(2))))","v":0},null,{"$f":"N30","v":21222},{"$f":"COUNTIF(L135:L166,AN30)","v":0},{"$f":"AO30/(AQ4-AO25)","v":0},{"$f":"IF(AP30=0,0,(AP30*((LOG(AP30))/LOG(2))))","v":0},null,{"$f":"N30","v":21222},{"$f":"COUNTIF(L167:L198,AS30)","v":0},{"$f":"AT30/(AV4-AT25)","v":0},{"$f":"IF(AU30=0,0,(AU30*((LOG(AU30))/LOG(2))))","v":0}]
[12,2983,13,2987,13,2991,14,2996,13,3002,0,11111,null,22111,{"$f":"COUNTIF($L$7:$L$500,N31)","v":0},{"$f":"O31/$Q$4","v":0},{"$f":"IF(P31=0,0,(P31*((LOG(P31))/LOG(2))))","v":0},null,null,{"$f":"N31","v":22111},{"$f":"COUNTIF(L7:L38,T31)","v":0},{"$f":"U31/(W4-U25)","v":0},{"$f":"IF(V31=0,0,(V31*((LOG(V31))/LOG(2))))","v":0},null,{"$f":"N31","v":22111},{"$f":"COUNTIF(L39:L70,Y31)","v":0},{"$f":"Z31/(AB4-Z25)","v":0},{"$f":"IF(AA31=0,0,(AA31*((LOG(AA31))/LOG(2))))","v":0},null,{"$f":"N31","v":22111},{"$f":"COUNTIF(L71:L102,AD31)","v":0},{"$f":"AE31/(AG4-AE25)","v":0},{"$f":"IF(AF31=0,0,(AF31*((LOG(AF31))/LOG(2))))","v":0},null,{"$f":"N31","v":22111},{"$f":"COUNTIF(L103:L134,AI31)","v":0},{"$f":"AJ31/(AL4-AJ25)","v":0},{"$f":"IF(AK31=0,0,(AK31*((LOG(AK31))/LOG(2))))","v":0},null,{"$f":"N31","v":22111},{"$f":"COUNTIF(L135:L166,AN31)","v":0},{"$f":"AO31/(AQ4-AO25)","v":0},{"$f":"IF(AP31=0,0,(AP31*((LOG(AP31))/LOG(2))))","v":0},null,{"$f":"N31","v":22111},{"$f":"COUNTIF(L167:L198,AS31)","v":0},{"$f":"AT31/(AV4-AT25)","v":0},{"$f":"IF(AU31=0,0,(AU31*((LOG(AU31))/LOG(2))))","v":0}]
[12,3103,13,3107,13,3111,14,3116,13,3120,0,11111,null,22112,{"$f":"COUNTIF($L$7:$L$500,N32)","v":0},{"$f":"O32/$Q$4","v":0},{"$f":"IF(P32=0,0,(P32*((LOG(P32))/LOG(2))))","v":0},null,null,{"$f":"N32","v":22112},{"$f":"COUNTIF(L7:L38,T32)","v":0},{"$f":"U32/(W4-U25)","v":0},{"$f":"IF(V32=0,0,(V32*((LOG(V32))/LOG(2))))","v":0},null,{"$f":"N32","v":22112},{"$f":"COUNTIF(L39:L70,Y32)","v":0},{"$f":"Z32/(AB4-Z25)","v":0},{"$f":"IF(AA32=0,0,(AA32*((LOG(AA32))/LOG(2))))","v":0},null,{"$f":"N32","v":22112},{"$f":"COUNTIF(L71:L102,AD32)","v":0},{"$f":"AE32/(AG4-AE25)","v":0},{"$f":"IF(AF32=0,0,(AF32*((LOG(AF32))/LOG(2))))","v":0},null,{"$f":"N32","v":22112},{"$f":"COUNTIF(L103:L134,AI32)","v":0},{"$f":"AJ32/(AL4-AJ25)","v":0},{"$f":"IF(AK32=0,0,(AK32*((LOG(AK32))/LOG(2))))","v":0},null,{"$f":"N32","v":22112},{"$f":"COUNTIF(L135:L166,AN32)","v":0},{"$f":"AO32/(AQ4-AO25)","v":0},{"$f":"IF(AP32=0,0,(AP32*((LOG(AP32))/LOG(2))))","v":0},null,{"$f":"N32","v":22112},{"$f":"COUNTIF(L167:L198,AS32)","v":0},{"$f":"AT32/(AV4-AT25)","v":0},{"$f":"IF(AU32=0,0,(AU32*((LOG(AU32))/LOG(2))))","v":0}]
[12,3234,13,3238,13,3243,14,3249,13,3254,0,11111,null,22121,{"$f":"COUNTIF($L$7:$L$500,N33)","v":0},{"$f":"O33/$Q$4","v":0},{"$f":"IF(P33=0,0,(P33*((LOG(P33))/LOG(2))))","v":0},null,null,{"$f":"N33","v":22121},{"$f":"COUNTIF(L7:L38,T33)","v":0},{"$f":"U33/(W4-U25)","v":0},{"$f":"IF(V33=0,0,(V33*((LOG(V33))/LOG(2))))","v":0},null,{"$f":"N33","v":22121},{"$f":"COUNTIF(L39:L70,Y33)","v":0},{"$f":"Z33/(AB4-Z25)","v":0},{"$f":"IF(AA33=0,0,(AA33*((LOG(AA33))/LOG(2))))","v":0},null,{"$f":"N33","v":22121},{"$f":"COUNTIF(L71:L102,AD33)","v":0},{"$f":"AE33/(AG4-AE25)","v":0},{"$f":"IF(AF33=0,0,(AF33*((LOG(AF33))/LOG(2))))","v":0},null,{"$f":"N33","v":22121},{"$f":"COUNTIF(L103:L134,AI33)","v":0},{"$f":"AJ33/(AL4-AJ25)","v":0},{"$f":"IF(AK33=0,0,(AK33*((LOG(AK33))/LOG(2))))","v":0},null,{"$f":"N33","v":22121},{"$f":"COUNTIF(L135:L166,AN33)","v":0},{"$f":"AO33/(AQ4-AO25)","v":0},{"$f":"IF(AP33=0,0,(AP33*((LOG(AP33))/LOG(2))))","v":0},null,{"$f":"N33","v":22121},{"$f":"COUNTIF(L167:L198,AS33)","v":0},{"$f":"AT33/(AV4-AT25)","v":0},{"$f":"IF(AU33=0,0,(AU33*((LOG(AU33))/LOG(2))))","v":0}]
[12,3354,13,3358,13,3362,14,3371,13,3375,0,11111,null,22122,{"$f":"COUNTIF($L$7:$L$500,N34)","v":0},{"$f":"O34/$Q$4","v":0},{"$f":"IF(P34=0,0,(P34*((LOG(P34))/LOG(2))))","v":0},null,null,{"$f":"N34","v":22122},{"$f":"COUNTIF(L7:L38,T34)","v":0},{"$f":"U34/(W4-U25)","v":0},{"$f":"IF(V34=0,0,(V34*((LOG(V34))/LOG(2))))","v":0},null,{"$f":"N34","v":22122},{"$f":"COUNTIF(L39:L70,Y34)","v":0},{"$f":"Z34/(AB4-Z25)","v":0},{"$f":"IF(AA34=0,0,(AA34*((LOG(AA34))/LOG(2))))","v":0},null,{"$f":"N34","v":22122},{"$f":"COUNTIF(L71:L102,AD34)","v":0},{"$f":"AE34/(AG4-AE25)","v":0},{"$f":"IF(AF34=0,0,(AF34*((LOG(AF34))/LOG(2))))","v":0},null,{"$f":"N34","v":22122},{"$f":"COUNTIF(L103:L134,AI34)","v":0},{"$f":"AJ34/(AL4-AJ25)","v":0},{"$f":"IF(AK34=0,0,(AK34*((LOG(AK34))/LOG(2))))","v":0},null,{"$f":"N34","v":22122},{"$f":"COUNTIF(L135:L166,AN34)","v":0},{"$f":"AO34/(AQ4-AO25)","v":0},{"$f":"IF(AP34=0,0,(AP34*((LOG(AP34))/LOG(2))))","v":0},null,{"$f":"N34","v":22122},{"$f":"COUNTIF(L167:L198,AS34)","v":0},{"$f":"AT34/(AV4-AT25)","v":0},{"$f":"IF(AU34=0,0,(AU34*((LOG(AU34))/LOG(2))))","v":0}]
[12,3480,13,3484,13,3488,14,3493,13,3498,0,11111,null,22211,{"$f":"COUNTIF($L$7:$L$500,N35)","v":0},{"$f":"O35/$Q$4","v":0},{"$f":"IF(P35=0,0,(P35*((LOG(P35))/LOG(2))))","v":0},null,null,{"$f":"N35","v":22211},{"$f":"COUNTIF(L7:L38,T35)","v":0},{"$f":"U35/(W4-U25)","v":0},{"$f":"IF(V35=0,0,(V35*((LOG(V35))/LOG(2))))","v":0},null,{"$f":"N35","v":22211},{"$f":"COUNTIF(L39:L70,Y35)","v":0},{"$f":"Z35/(AB4-Z25)","v":0},{"$f":"IF(AA35=0,0,(AA35*((LOG(AA35))/LOG(2))))","v":0},null,{"$f":"N35","v":22211},{"$f":"COUNTIF(L71:L102,AD35)","v":0},{"$f":"AE35/(AG4-AE25)","v":0},{"$f":"IF(AF35=0,0,(AF35*((LOG(AF35))/LOG(2))))","v":0},null,{"$f":"N35","v":22211},{"$f":"COUNTIF(L103:L134,AI35)","v":0},{"$f":"AJ35/(AL4-AJ25)","v":0},{"$f":"IF(AK35=0,0,(AK35*((LOG(AK35))/LOG(2))))","v":0},null,{"$f":"N35","v":22211},{"$f":"COUNTIF(L135:L166,AN35)","v":0},{"$f":"AO35/(AQ4-AO25)","v":0},{"$f":"IF(AP35=0,0,(AP35*((LOG(AP35))/LOG(2))))","v":0},null,{"$f":"N35","v":22211},{"$f":"COUNTIF(L167:L198,AS35)","v":0},{"$f":"AT35/(AV4-AT25)","v":0},{"$f":"IF(AU35=0,0,(AU35*((LOG(AU35))/LOG(2))))","v":0}]
[12,3600,13,3604,13,3608,14,3613,13,3618,0,11111,null,22212,{"$f":"COUNTIF($L$7:$L$500,N36)","v":0},{"$f":"O36/$Q$4","v":0},{"$f":"IF(P36=0,0,(P36*((LOG(P36))/LOG(2))))","v":0},null,null,{"$f":"N36","v":22212},{"$f":"COUNTIF(L7:L38,T36)","v":0},{"$f":"U36/(W4-U25)","v":0},{"$f":"IF(V36=0,0,(V36*((LOG(V36))/LOG(2))))","v":0},null,{"$f":"N36","v":22212},{"$f":"COUNTIF(L39:L70,Y36)","v":0},{"$f":"Z36/(AB4-Z25)","v":0},{"$f":"IF(AA36=0,0,(AA36*((LOG(AA36))/LOG(2))))","v":0},null,{"$f":"N36","v":22212},{"$f":"COUNTIF(L71:L102,AD36)","v":0},{"$f":"AE36/(AG4-AE25)","v":0},{"$f":"IF(AF36=0,0,(AF36*((LOG(AF36))/LOG(2))))","v":0},null,{"$f":"N36","v":22212},{"$f":"COUNTIF(L103:L134,AI36)","v":0},{"$f":"AJ36/(AL4-AJ25)","v":0},{"$f":"IF(AK36=0,0,(AK36*((LOG(AK36))/LOG(2))))","v":0},null,{"$f":"N36","v":22212},{"$f":"COUNTIF(L135:L166,AN36)","v":0},{"$f":"AO36/(AQ4-AO25)","v":0},{"$f":"IF(AP36=0,0,(AP36*((LOG(AP36))/LOG(2))))","v":0},null,{"$f":"N36","v":22212},{"$f":"COUNTIF(L167:L198,AS36)","v":0},{"$f":"AT36/(AV4-AT25)","v":0},{"$f":"IF(AU36=0,0,(AU36*((LOG(AU36))/LOG(2))))","v":0}]
[12,3725,13,3729,13,3733,14,3742,13,3747,1,11111,null,22221,{"$f":"COUNTIF($L$7:$L$500,N37)","v":0},{"$f":"O37/$Q$4","v":0},{"$f":"IF(P37=0,0,(P37*((LOG(P37))/LOG(2))))","v":0},null,null,{"$f":"N37","v":22221},{"$f":"COUNTIF(L7:L38,T37)","v":0},{"$f":"U37/(W4-U25)","v":0},{"$f":"IF(V37=0,0,(V37*((LOG(V37))/LOG(2))))","v":0},null,{"$f":"N37","v":22221},{"$f":"COUNTIF(L39:L70,Y37)","v":0},{"$f":"Z37/(AB4-Z25)","v":0},{"$f":"IF(AA37=0,0,(AA37*((LOG(AA37))/LOG(2))))","v":0},null,{"$f":"N37","v":22221},{"$f":"COUNTIF(L71:L102,AD37)","v":0},{"$f":"AE37/(AG4-AE25)","v":0},{"$f":"IF(AF37=0,0,(AF37*((LOG(AF37))/LOG(2))))","v":0},null,{"$f":"N37","v":22221},{"$f":"COUNTIF(L103:L134,AI37)","v":0},{"$f":"AJ37/(AL4-AJ25)","v":0},{"$f":"IF(AK37=0,0,(AK37*((LOG(AK37))/LOG(2))))","v":0},null,{"$f":"N37","v":22221},{"$f":"COUNTIF(L135:L166,AN37)","v":0},{"$f":"AO37/(AQ4-AO25)","v":0},{"$f":"IF(AP37=0,0,(AP37*((LOG(AP37))/LOG(2))))","v":0},null,{"$f":"N37","v":22221},{"$f":"COUNTIF(L167:L198,AS37)","v":0},{"$f":"AT37/(AV4-AT25)","v":0},{"$f":"IF(AU37=0,0,(AU37*((LOG(AU37))/LOG(2))))","v":0}]
[12,3841,13,3846,13,3850,14,3854,13,3858,0,11111,null,22222,{"$f":"COUNTIF($L$7:$L$500,N38)","v":7},{"$f":"O38/$Q$4","v":3.6649214659685861E-2},{"$f":"IF(P38=0,0,(P38*((LOG(P38))/LOG(2))))","v":-0.17481946252275923},null,null,{"$f":"N38","v":22222},{"$f":"COUNTIF(L7:L38,T38)","v":0},{"$f":"U38/(W4-U25)","v":0},{"$f":"IF(V38=0,0,(V38*((LOG(V38))/LOG(2))))","v":0},null,{"$f":"N38","v":22222},{"$f":"COUNTIF(L39:L70,Y38)","v":0},{"$f":"Z38/(AB4-Z25)","v":0},{"$f":"IF(AA38=0,0,(AA38*((LOG(AA38))/LOG(2))))","v":0},null,{"$f":"N38","v":22222},{"$f":"COUNTIF(L71:L102,AD38)","v":1},{"$f":"AE38/(AG4-AE25)","v":3.125E-2},{"$f":"IF(AF38=0,0,(AF38*((LOG(AF38))/LOG(2))))","v":-0.15625},null,{"$f":"N38","v":22222},{"$f":"COUNTIF(L103:L134,AI38)","v":0},{"$f":"AJ38/(AL4-AJ25)","v":0},{"$f":"IF(AK38=0,0,(AK38*((LOG(AK38))/LOG(2))))","v":0},null,{"$f":"N38","v":22222},{"$f":"COUNTIF(L135:L166,AN38)","v":4},{"$f":"AO38/(AQ4-AO25)","v":0.125},{"$f":"IF(AP38=0,0,(AP38*((LOG(AP38))/LOG(2))))","v":-0.375},null,{"$f":"N38","v":22222},{"$f":"COUNTIF(L167:L198,AS38)","v":2},{"$f":"AT38/(AV4-AT25)","v":6.4516129032258063E-2},{"$f":"IF(AU38=0,0,(AU38*((LOG(AU38))/LOG(2))))","v":-0.25510943937979835}]
[12,3960,13,3964,13,3968,14,3972,13,3981,0,11111,null,null,null,{"$f":"SUM(P7:P38)","v":1},{"$f":"-SUM(Q7:Q38)","v":0.22671215594730051},null,null,null,null,{"$f":"SUM(V7:V38)","v":1},{"$f":"-SUM(W7:W38)","v":0},null,null,null,{"$f":"SUM(AA7:AA38)","v":1},{"$f":"-SUM(AB7:AB38)","v":0},null,null,null,{"$f":"SUM(AF7:AF38)","v":1},{"$f":"-SUM(AG7:AG38)","v":0.20062232431271465},null,null,null,{"$f":"SUM(AK7:AK38)","v":1},{"$f":"-SUM(AL7:AL38)","v":0},null,null,null,{"$f":"SUM(AP7:AP38)","v":1},{"$f":"-SUM(AQ7:AQ38)","v":0.5435644431995964},null,null,null,{"$f":"SUM(AU7:AU38)","v":1},{"$f":"-SUM(AV7:AV38)","v":0.3451173149449529}]
[12,4098,13,4102,13,4107,14,4117,13,4123,0,11111,null,null,null,"U=",{"$f":"Q39/(LOG(Q4)/LOG(2))","v":2.9919404205881503E-2},null,null,null,null,"U1=",{"$f":"W39/(LOG(W4)/LOG(2))","v":0},null,null,null,"U2=",{"$f":"AB39/(LOG(AB4)/LOG(2))","v":0},null,null,null,"U3=",{"$f":"AG39/(LOG(AG4)/LOG(2))","v":4.0124464862542931E-2},null,null,null,"U4=",{"$f":"AL39/(LOG(AL4)/LOG(2))","v":0},null,null,null,"U5=",{"$f":"AQ39/(LOG(AQ4)/LOG(2))","v":0.10871288863991928},null,null,null,"U6=",{"$f":"AV39/(LOG(AV4)/LOG(2))","v":6.9661614785305623E-2}]
[12,4227,13,4231,13,4236,14,4240,13,4245,0,11111]
[12,4346,13,4351,13,4355,14,4360,13,4364,0,11111]
[12,4464,13,4468,13,4472,14,4476,13,4481,0,11111,null,"Total Target Seq"]
[12,4580,13,4585,13,4589,14,4593,13,4598,0,11111,null,{"$f":"COUNTIF(L7:L198,G3)","v":0},null,32,32,32,32,32,32]
[12,4709,13,4721,13,4725,14,4730,13,4737,0,11111,null,null,null,"% of reinforcement given in 6 equal intervals based on number of trials "]
[12,4844,13,4848,13,4852,14,4856,13,4861,0,11111,null,null,null,"%_1","%_2","%_3","%_4","%_5","%_6"]
[12,4961,13,4965,13,4969,14,4973,13,4978,0,11111,null,null,"target sequence",{"$f":"$G$3","v":21121},{"$f":"$G$3","v":21121},{"$f":"$G$3","v":21121},{"$f":"$G$3","v":21121},{"$f":"$G$3","v":21121},{"$f":"$G$3","v":21121}]
[12,5081,13,5091,13,5095,14,5102,13,5107,0,11111,null,null,"total reinforcement",{"$f":"U25","v":0},{"$f":"Z25","v":0},{"$f":"AE25","v":0},{"$f":"AJ25","v":0},{"$f":"AO25","v":0},{"$f":"AT25","v":0}]
[12,5208,13,5212,13,5216,14,5221,13,5225,1,11111,null,null,"% target"]
[12,5332,13,5336,13,5341,14,5346,13,5352,1,11111,null,null,"CCRF"]
[12,5450,13,5454,13,5458,14,5462,13,5466,0,11111,null,null,"% CCRf"]
[12,5568,13,5572,13,5580,14,5585,13,5589,0,11111,null,null,"average response rate",{"$f":"J38/P44","v":120.5625},{"$f":"(J70-J38)/Q44","v":124.4375},{"$f":"(J102-J70)/R44","v":125.1875},{"$f":"(J134-J102)/S44","v":125.5},{"$f":"(J166-J134)/T44","v":124.65625},{"$f":"(J198-J166)/U44","v":-620.34375}]
[12,5690,13,5694,13,5698,14,5706,13,5716,1,11111]
[12,5823,13,5827,13,5835,14,5845,13,5851,0,11111]
[12,5964,13,5968,13,5973,14,5977,13,5982,0,11111]
[12,6086,13,6091,13,6095,14,6099,13,6103,1,11111]
[12,6206,13,6210,13,6214,14,6220,13,6230,0,11111]
[12,6333,13,6337,13,6341,14,6347,13,6355,0,11111]
[12,6455,13,6460,13,6464,14,6469,13,6479,1,11111]
[12,6579,13,6584,13,6588,14,6592,13,6597,0,11111]
[12,6701,13,6705,13,6709,14,6714,13,6718,0,11111]
[12,6818,13,6823,13,6827,14,6832,13,6836,0,11111]
[12,6961,13,6965,13,6970,14,6978,13,6984,1,11111]
[12,7079,13,7083,13,7087,14,7092,13,7096,0,11111]
[12,7203,13,7208,13,7212,14,7217,13,7231,0,11111]
[12,7339,13,7343,13,7347,14,7352,13,7357,0,11111]
[12,7458,13,7463,13,7467,14,7471,13,7476,0,11111]
[12,7576,13,7580,13,7584,14,7589,13,7594,1,11111]
[12,7698,13,7702,13,7707,14,7711,13,7717,0,11111]
[12,7814,13,7819,13,7824,14,7834,13,7840,0,11111]
[12,7940,13,7944,13,7948,14,7952,13,7962,0,11111]
[12,8064,13,8069,13,8074,14,8078,13,8085,0,11111]
[12,8189,13,8192,13,8197,14,8211,13,8216,0,11111]
[12,8321,13,8326,13,8330,14,8336,13,8345,1,11111]
[12,8446,13,8450,13,8454,14,8459,13,8463,0,11111]
[12,8565,13,8569,13,8573,14,8591,13,8596,0,11111]
[12,8699,13,8704,13,8710,14,8714,13,8719,0,11111]
[12,8820,13,8824,13,8828,14,8837,13,8842,0,11111]
[12,8943,13,8948,13,8952,14,8956,13,8962,0,11111]
[12,9067,13,9085,13,9096,14,9103,13,9108,1,11111]
[12,9204,13,9208,13,9212,14,9220,13,9225,1,11111]
[12,9321,13,9328,13,9333,14,9336,13,9341,0,11111]
[12,9444,13,9448,13,9452,14,9457,13,9461,0,11111]
[12,9569,13,9573,13,9578,14,9582,13,9588,0,11111]
[12,9688,13,9691,13,9695,14,9699,13,9705,0,11111]
[12,9815,13,9825,13,9837,14,9843,13,9849,1,11111]
[12,9943,13,9948,13,9952,14,9956,13,9965,0,11111]
[12,10066,13,10070,13,10074,14,10079,13,10084,0,11111]
[12,10200,13,10205,13,10214,14,10219,13,10229,0,11111]
[12,10329,13,10333,13,10337,14,10351,13,10356,0,11111]
[12,10457,13,10461,13,10465,14,10469,13,10475,0,11111]
[12,10575,13,10580,13,10589,14,10595,13,10600,1,11111]
[12,10699,13,10703,13,10707,14,10712,13,10719,0,11111]
[12,10816,13,10822,13,10826,14,10835,13,10839,0,11111]
[12,10944,13,10948,13,10955,14,10959,13,10964,0,11111]
[12,11064,13,11069,13,11073,14,11077,13,11082,0,11111]
[12,11185,13,11189,13,11193,14,11197,13,11201,0,11111]
[12,11306,13,11311,13,11319,14,11324,13,11329,0,11111]
[12,11436,13,11440,13,11444,14,11448,13,11457,0,11111]
[21,11577,22,11585,24,11591,23,11597,24,11607,1,22222]
[12,11703,13,11707,13,11711,14,11715,13,11722,0,11111]
[12,11823,13,11829,13,11835,14,11839,13,11846,0,11111]
[12,11946,13,11949,13,11959,14,11963,13,11967,0,11111]
[12,12070,13,12073,13,12077,14,12081,13,12086,0,11111]
[12,12187,13,12191,13,12195,14,12199,13,12203,0,11111]
[12,12303,13,12307,13,12311,14,12315,13,12320,1,11111]
[12,12419,13,12424,13,12428,14,12436,13,12442,0,11111]
[12,12544,13,12549,13,12553,14,12558,13,12563,0,11111]
[12,12669,13,12673,13,12677,14,12697,13,12706,0,11111]
[12,12813,13,12817,13,12821,14,12825,13,12832,0,11111]
[12,12941,13,12963,13,12968,14,12974,13,12980,0,11111]
[12,13087,13,13092,13,13097,14,13101,13,13107,0,11111]
[12,13228,13,13233,13,13237,14,13243,13,13248,1,11111]
[12,13354,13,13358,13,13362,14,13366,13,13371,0,11111]
[12,13488,13,13492,13,13502,14,13508,13,13515,0,11111]
[12,13616,13,13620,13,13623,14,13627,13,13632,0,11111]
[12,13738,13,13742,13,13746,14,13760,13,13768,1,11111]
[12,13865,13,13869,13,13873,14,13877,13,13882,0,11111]
[12,13986,13,13990,13,13995,14,13999,13,14003,0,11111]
[12,14103,13,14110,13,14121,14,14129,13,14136,0,11111]
[12,14236,13,14240,13,14245,14,14249,13,14255,0,11111]
[12,14355,13,14359,13,14363,14,14367,13,14371,0,11111]
[12,14475,13,14479,13,14483,14,14487,13,14491,1,11111]
[12,14586,13,14590,13,14598,14,14607,13,14611,0,11111]
[12,14709,13,14713,13,14717,14,14721,13,14725,0,11111]
[12,14827,13,14831,13,14835,14,14842,13,14850,0,11111]
[12,14950,13,14954,13,14962,14,14969,13,14974,0,11111]
[12,15085,13,15089,13,15093,14,15098,13,15113,0,11111]
[12,15213,13,15218,13,15221,14,15225,13,15229,0,11111]
[12,15330,13,15334,13,15338,14,15342,13,15346,0,11111]
[12,15451,13,15460,13,15464,14,15470,13,15491,1,11111]
[12,15585,13,15590,13,15594,14,15598,13,15603,0,11111]
[12,15713,13,15720,13,15727,14,15734,13,15740,0,11111]
[12,15841,13,15844,13,15848,14,15852,13,15862,0,11111]
[12,15963,13,15967,13,15971,14,15983,13,15988,0,11111]
[12,16090,13,16096,13,16099,14,16104,13,16108,0,11111]
[12,16212,13,16215,13,16219,14,16224,13,16234,0,11111]
[12,16344,13,16348,13,16354,14,16358,13,16364,0,11111]
[12,16464,13,16468,13,16472,14,16476,13,16482,1,11111]
[12,16584,13,16588,13,16592,14,16596,13,16600,0,11111]
[12,16700,13,16704,13,16708,14,16712,13,16716,0,11111]
[12,16817,13,16821,13,16826,14,16830,13,16834,0,11111]
[12,16938,13,16942,13,16946,14,16950,13,16955,0,11111]
[12,17058,13,17063,13,17067,14,17071,13,17094,0,11111]
[21,17218,22,17227,24,17232,23,17240,24,17248,0,22222]
[12,17346,13,17350,13,17354,14,17358,13,17366,0,11111]
[12,17470,13,17474,13,17478,14,17482,13,17487,1,11111]
[12,17582,13,17588,13,17592,14,17621,13,17629,1,11111]
[12,17726,13,17734,13,17740,14,17744,13,17750,0,11111]
[21,17858,22,17863,24,17873,23,17877,24,17885,0,22222]
[12,17990,13,17994,13,17998,14,18004,13,18012,0,11111]
[12,18112,13,18115,13,18119,14,18123,13,18127,0,11111]
[12,18230,13,18234,13,18238,14,18247,13,18251,0,11111]
[12,18357,13,18361,13,18370,14,18375,13,18381,1,11111]
[21,18481,22,18485,24,18490,23,18495,24,18503,0,22222]
[12,18602,13,18611,13,18615,14,18619,13,18624,0,11111]
[12,18725,13,18730,13,18734,14,18738,13,18744,0,11111]
[12,18845,13,18849,13,18853,14,18857,13,18866,0,11111]
[12,18968,13,18973,13,18976,14,18981,13,18992,1,11111]
[12,19088,13,19092,13,19100,14,19104,13,19108,0,11111]
[12,19210,13,19214,13,19218,14,19222,13,19227,0,11111]
[12,19327,13,19331,13,19339,14,19344,13,19349,0,11111]
[21,19462,22,19469,24,19474,23,19478,24,19483,0,22222]
[12,19585,13,19589,13,19601,14,19606,13,19620,0,11111]
[12,19721,13,19725,13,19729,14,19734,13,19738,0,11111]
[12,19835,13,19839,13,19843,14,19847,13,19851,0,11111]
[12,19954,13,19957,13,19967,14,19971,13,19979,0,11111]
[12,20079,13,20083,13,20087,14,20091,13,20098,1,11111]
[12,20200,13,20204,13,20208,14,20212,13,20218,0,11111]
[12,20325,13,20329,13,20333,14,20337,13,20344,0,11111]
[12,20446,13,20449,13,20453,14,20461,13,20474,0,11111]
[12,20578,13,20582,13,20586,14,20591,13,20600,0,11111]
[12,20703,13,20707,13,20711,14,20716,13,20727,0,11111]
[12,20828,13,20832,13,20836,14,20841,13,20849,0,11111]
[12,20947,13,20951,13,20956,14,20960,13,20964,0,11111]
[12,21072,13,21077,13,21082,14,21086,13,21090,0,11111]
[12,21190,13,21194,13,21198,14,21202,13,21206,0,11111]
[12,21310,13,21314,13,21324,14,21329,13,21334,0,11111]
[21,21441,22,21446,24,21451,23,21456,24,21460,0,22222]
[12,21557,13,21561,13,21565,14,21568,13,21572,1,11111]
[12,21691,13,21718,13,21723,14,21733,13,21737,0,11111]
[12,21841,13,21846,13,21850,14,21854,13,21859,0,11111]
[12,21959,13,21963,13,21970,14,21974,13,21978,0,11111]
[12,22081,13,22085,13,22089,14,22093,13,22098,0,11111]
[12,22202,13,22206,13,22210,14,22215,13,22219,0,11111]
[12,22324,13,22328,13,22337,14,22341,13,22346,0,11111]
[12,22449,13,22472,13,22477,14,22485,13,22495,0,11111]
[12,22597,13,22603,13,22606,14,22610,13,22615,0,11111]
[12,22721,13,22725,13,22729,14,22737,13,22742,0,11111]
[12,22858,13,22862,13,22904,14,22913,13,22925,0,11111]
[12,23029,13,23033,13,23037,14,23041,13,23045,1,11111]
[12,23152,13,23157,13,23161,14,23166,13,23170,0,11111]
[12,23267,13,23274,13,23279,14,23283,13,23289,0,11111]
[12,23393,13,23397,13,23401,14,23414,13,23424,1,11111]
[12,23525,13,23531,13,23535,14,23539,13,23549,0,11111]
[12,23662,13,23670,13,23674,14,23679,13,23694,0,11111]
[21,23846,22,23851,24,23856,23,23867,24,23873,0,22222]
[12,24001,null,null,null,null,null,null,null,null,null,1]

{"sheet":"!MC29900.010","index":29,"n_rows":199,"n_cols":48,"rows_kept":199,"cut":false,"hidden":false,"merged":[[4,39,4,42],[5,39,5,40],[4,44,4,47],[5,44,5,45],[4,24,4,27],[5,24,5,25],[4,29,4,32],[5,29,5,30],[4,34,4,37],[5,34,5,35],[1,1,1,2],[5,13,5,14],[42,13,42,14],[43,13,43,14],[4,19,4,22],[5,19,5,20]]}
["Report for:!MC29900.010"]
["Date:","<date>"]
["Hen:","<hen>",null,null,null,"Correct Sequence",{"$f":"Start!J2","v":21121},null,null,null,null,null,null,null,null,"Total Sequences in Data",{"$f":"4994-COUNTBLANK(L7:L5000)","v":193},null,null,null,null,"Total Sequences in Block Data",{"$f":"COUNTA(L7:L38)","v":32},null,null,null,"Total Sequences in Block Data",{"$f":"COUNTA(L39:L70)","v":32},null,null,null,"Total Sequences in Block Data",{"$f":"COUNTA(L71:L103)","v":33},null,null,null,"Total Sequences in Block Data",{"$f":"COUNTA(L104:L135)","v":32},null,null,null,"Total Sequences in Block Data",{"$f":"COUNTA(L136:L167)","v":32},null,null,null,"Total Sequences in Block Data",{"$f":"COUNTA(L168:L199)","v":32}]
[null,null,null,null,null,null,null,null,null,null,null,null,null,null,null,"Total Sequences in Summary",{"$f":"SUM(O7:O38)","v":193},null,null,null,null,"Total Sequences in Block Summary",{"$f":"SUM(U7:U38)","v":32},null,null,null,"Total Sequences in Block Summary",{"$f":"SUM(Z7:Z38)","v":32},null,null,null,"Total Sequences in Block Summary",{"$f":"SUM(AE7:AE38)","v":33},null,null,null,"Total Sequences in Block Summary",{"$f":"SUM(AJ7:AJ38)","v":32},null,null,null,"Total Sequences in Block Summary",{"$f":"SUM(AO7:AO38)","v":32},null,null,null,"Total Sequences in Block Summary",{"$f":"SUM(AT7:AT38)","v":32}]
[null,null,null,null,null,null,null,null,null,null,null,null,null,null,null,null,null,null,null,"Block 1",null,null,null,null,"Block 2",null,null,null,null,"Block 3",null,null,null,null,"Block 4",null,null,null,null,"Block 5",null,null,null,null,"Block 6"]
["Sequence\nComponent\n1","Time\n1","Sequence\nComponent\n2","Time\n2","Sequence\nComponent\n3","Time\n3","Sequence\nComponent\n4","Time\n4","Sequence\nComponent\n5","Time\n5","Correct?\n0=No 1=Yes","Sequence",null,"Frequency",null,"Relative Frequency","Variability",null,null,"Frequency",null,"Relative Frequency","Variability",null,"Frequency",null,"Relative Frequency","Variability",null,"Frequency",null,"Relative Frequency","Variability",null,"Frequency",null,"Relative Frequency","Variability",null,"Frequency",null,"Relative Frequency","Variability",null,"Frequency",null,"Relative Frequency","Variability"]
[12,27,13,37,13,41,14,49,13,53,0,11111,null,11111,{"$f":"COUNTIF($L$7:$L$500,N7)","v":191},{"$f":"O7/$Q$4","v":0.98963730569948183},{"$f":"IF(P7=0,0,(P7*((LOG(P7))/LOG(2))))","v":-1.4872476494172903E-2},null,null,{"$f":"N7","v":11111},{"$f":"COUNTIF(L7:L38,T7)","v":32},{"$f":"U7/(W4-U25)","v":1},{"$f":"IF(V7=0,0,(V7*((LOG(V7))/LOG(2))))","v":0},null,{"$f":"N7","v":11111},{"$f":"COUNTIF(L39:L70,Y7)","v":32},{"$f":"Z7/(AB4-Z25)","v":1},{"$f":"IF(AA7=0,0,(AA7*((LOG(AA7))/LOG(2))))","v":0},null,{"$f":"N7","v":11111},{"$f":"COUNTIF(L71:L103,AD7)","v":33},{"$f":"AE7/(AG4-AE25)","v":1},{"$f":"IF(AF7=0,0,(AF7*((LOG(AF7))/LOG(2))))","v":0},null,{"$f":"N7","v":11111},{"$f":"COUNTIF(L104:L135,AI7)","v":31},{"$f":"AJ7/(AL4-AJ25)","v":0.96875},{"$f":"IF(AK7=0,0,(AK7*((LOG(AK7))/LOG(2))))","v":-4.4372324312714644E-2},null,{"$f":"N7","v":11111},{"$f":"COUNTIF(L136:L167,AN7)","v":32},{"$f":"AO7/(AQ4-AO25)","v":1},{"$f":"IF(AP7=0,0,(AP7*((LOG(AP7))/LOG(2))))","v":0},null,{"$f":"N7","v":11111},{"$f":"COUNTIF(L168:L199,AS7)","v":31},{"$f":"AT7/(AV4-AT25)","v":0.96875},{"$f":"IF(AU7=0,0,(AU7*((LOG(AU7))/LOG(2))))","v":-4.4372324312714644E-2}]
[12,149,13,154,13,162,14,166,13,170,0,11111,null,11112,{"$f":"COUNTIF($L$7:$L$500,N8)","v":0},{"$f":"O8/$Q$4","v":0},{"$f":"IF(P8=0,0,(P8*((LOG(P8))/LOG(2))))","v":0},null,null,{"$f":"N8","v":11112},{"$f":"COUNTIF(L7:L38,T8)","v":0},{"$f":"U8/(W4-U25)","v":0},{"$f":"IF(V8=0,0,(V8*((LOG(V8))/LOG(2))))","v":0},null,{"$f":"N8","v":11112},{"$f":"COUNTIF(L39:L70,Y8)","v":0},{"$f":"Z8/(AB4-Z25)","v":0},{"$f":"IF(AA8=0,0,(AA8*((LOG(AA8))/LOG(2))))","v":0},null,{"$f":"N8","v":11112},{"$f":"COUNTIF(L71:L103,AD8)","v":0},{"$f":"AE8/(AG4-AE25)","v":0},{"$f":"IF(AF8=0,0,(AF8*((LOG(AF8))/LOG(2))))","v":0},null,{"$f":"N8","v":11112},{"$f":"COUNTIF(L104:L135,AI8)","v":0},{"$f":"AJ8/(AL4-AJ25)","v":0},{"$f":"IF(AK8=0,0,(AK8*((LOG(AK8))/LOG(2))))","v":0},null,{"$f":"N8","v":11112},{"$f":"COUNTIF(L136:L167,AN8)","v":0},{"$f":"AO8/(AQ4-AO25)","v":0},{"$f":"IF(AP8=0,0,(AP8*((LOG(AP8))/LOG(2))))","v":0},null,{"$f":"N8","v":11112},{"$f":"COUNTIF(L168:L199,AS8)","v":0},{"$f":"AT8/(AV4-AT25)","v":0},{"$f":"IF(AU8=0,0,(AU8*((LOG(AU8))/LOG(2))))","v":0}]
[12,274,13,280,13,284,14,288,13,292,0,11111,null,11121,{"$f":"COUNTIF($L$7:$L$500,N9)","v":0},{"$f":"O9/$Q$4","v":0},{"$f":"IF(P9=0,0,(P9*((LOG(P9))/LOG(2))))","v":0},null,null,{"$f":"N9","v":11121},{"$f":"COUNTIF(L7:L38,T9)","v":0},{"$f":"U9/(W4-U25)","v":0},{"$f":"IF(V9=0,0,(V9*((LOG(V9))/LOG(2))))","v":0},null,{"$f":"N9","v":11121},{"$f":"COUNTIF(L39:L70,Y9)","v":0},{"$f":"Z9/(AB4-Z25)","v":0},{"$f":"IF(AA9=0,0,(AA9*((LOG(AA9))/LOG(2))))","v":0},null,{"$f":"N9","v":11121},{"$f":"COUNTIF(L71:L103,AD9)","v":0},{"$f":"AE9/(AG4-AE25)","v":0},{"$f":"IF(AF9=0,0,(AF9*((LOG(AF9))/LOG(2))))","v":0},null,{"$f":"N9","v":11121},{"$f":"COUNTIF(L104:L135,AI9)","v":0},{"$f":"AJ9/(AL4-AJ25)","v":0},{"$f":"IF(AK9=0,0,(AK9*((LOG(AK9))/LOG(2))))","v":0},null,{"$f":"N9","v":11121},{"$f":"COUNTIF(L136:L167,AN9)","v":0},{"$f":"AO9/(AQ4-AO25)","v":0},{"$f":"IF(AP9=0,0,(AP9*((LOG(AP9))/LOG(2))))","v":0},null,{"$f":"N9","v":11121},{"$f":"COUNTIF(L168:L199,AS9)","v":0},{"$f":"AT9/(AV4-AT25)","v":0},{"$f":"IF(AU9=0,0,(AU9*((LOG(AU9))/LOG(2))))","v":0}]
[12,397,13,401,13,405,14,409,13,413,0,11111,null,11122,{"$f":"COUNTIF($L$7:$L$500,N10)","v":0},{"$f":"O10/$Q$4","v":0},{"$f":"IF(P10=0,0,(P10*((LOG(P10))/LOG(2))))","v":0},null,null,{"$f":"N10","v":11122},{"$f":"COUNTIF(L7:L38,T10)","v":0},{"$f":"U10/(W4-U25)","v":0},{"$f":"IF(V10=0,0,(V10*((LOG(V10))/LOG(2))))","v":0},null,{"$f":"N10","v":11122},{"$f":"COUNTIF(L39:L70,Y10)","v":0},{"$f":"Z10/(AB4-Z25)","v":0},{"$f":"IF(AA10=0,0,(AA10*((LOG(AA10))/LOG(2))))","v":0},null,{"$f":"N10","v":11122},{"$f":"COUNTIF(L71:L103,AD10)","v":0},{"$f":"AE10/(AG4-AE25)","v":0},{"$f":"IF(AF10=0,0,(AF10*((LOG(AF10))/LOG(2))))","v":0},null,{"$f":"N10","v":11122},{"$f":"COUNTIF(L104:L135,AI10)","v":0},{"$f":"AJ10/(AL4-AJ25)","v":0},{"$f":"IF(AK10=0,0,(AK10*((LOG(AK10))/LOG(2))))","v":0},null,{"$f":"N10","v":11122},{"$f":"COUNTIF(L136:L167,AN10)","v":0},{"$f":"AO10/(AQ4-AO25)","v":0},{"$f":"IF(AP10=0,0,(AP10*((LOG(AP10))/LOG(2))))","v":0},null,{"$f":"N10","v":11122},{"$f":"COUNTIF(L168:L199,AS10)","v":0},{"$f":"AT10/(AV4-AT25)","v":0},{"$f":"IF(AU10=0,0,(AU10*((LOG(AU10))/LOG(2))))","v":0}]
[12,516,13,521,13,526,14,530,13,535,0,11111,null,11211,{"$f":"COUNTIF($L$7:$L$500,N11)","v":0},{"$f":"O11/$Q$4","v":0},{"$f":"IF(P11=0,0,(P11*((LOG(P11))/LOG(2))))","v":0},null,null,{"$f":"N11","v":11211},{"$f":"COUNTIF(L7:L38,T11)","v":0},{"$f":"U11/(W4-U25)","v":0},{"$f":"IF(V11=0,0,(V11*((LOG(V11))/LOG(2))))","v":0},null,{"$f":"N11","v":11211},{"$f":"COUNTIF(L39:L70,Y11)","v":0},{"$f":"Z11/(AB4-Z25)","v":0},{"$f":"IF(AA11=0,0,(AA11*((LOG(AA11))/LOG(2))))","v":0},null,{"$f":"N11","v":11211},{"$f":"COUNTIF(L71:L103,AD11)","v":0},{"$f":"AE11/(AG4-AE25)","v":0},{"$f":"IF(AF11=0,0,(AF11*((LOG(AF11))/LOG(2))))","v":0},null,{"$f":"N11","v":11211},{"$f":"COUNTIF(L104:L135,AI11)","v":0},{"$f":"AJ11/(AL4-AJ25)","v":0},{"$f":"IF(AK11=0,0,(AK11*((LOG(AK11))/LOG(2))))","v":0},null,{"$f":"N11","v":11211},{"$f":"COUNTIF(L136:L167,AN11)","v":0},{"$f":"AO11/(AQ4-AO25)","v":0},{"$f":"IF(AP11=0,0,(AP11*((LOG(AP11))/LOG(2))))","v":0},null,{"$f":"N11","v":11211},{"$f":"COUNTIF(L168:L199,AS11)","v":0},{"$f":"AT11/(AV4-AT25)","v":0},{"$f":"IF(AU11=0,0,(AU11*((LOG(AU11))/LOG(2))))","v":0}]
[12,638,13,642,13,646,14,650,13,660,1,11111,null,11212,{"$f":"COUNTIF($L$7:$L$500,N12)","v":0},{"$f":"O12/$Q$4","v":0},{"$f":"IF(P12=0,0,(P12*((LOG(P12))/LOG(2))))","v":0},null,null,{"$f":"N12","v":11212},{"$f":"COUNTIF(L7:L38,T12)","v":0},{"$f":"U12/(W4-U25)","v":0},{"$f":"IF(V12=0,0,(V12*((LOG(V12))/LOG(2))))","v":0},null,{"$f":"N12","v":11212},{"$f":"COUNTIF(L39:L70,Y12)","v":0},{"$f":"Z12/(AB4-Z25)","v":0},{"$f":"IF(AA12=0,0,(AA12*((LOG(AA12))/LOG(2))))","v":0},null,{"$f":"N12","v":11212},{"$f":"COUNTIF(L71:L103,AD12)","v":0},{"$f":"AE12/(AG4-AE25)","v":0},{"$f":"IF(AF12=0,0,(AF12*((LOG(AF12))/LOG(2))))","v":0},null,{"$f":"N12","v":11212},{"$f":"COUNTIF(L104:L135,AI12)","v":0},{"$f":"AJ12/(AL4-AJ25)","v":0},{"$f":"IF(AK12=0,0,(AK12*((LOG(AK12))/LOG(2))))","v":0},null,{"$f":"N12","v":11212},{"$f":"COUNTIF(L136:L167,AN12)","v":0},{"$f":"AO12/(AQ4-AO25)","v":0},{"$f":"IF(AP12=0,0,(AP12*((LOG(AP12))/LOG(2))))","v":0},null,{"$f":"N12","v":11212},{"$f":"COUNTIF(L168:L199,AS12)","v":0},{"$f":"AT12/(AV4-AT25)","v":0},{"$f":"IF(AU12=0,0,(AU12*((LOG(AU12))/LOG(2))))","v":0}]
[12,760,13,764,13,769,14,773,13,777,0,11111,null,11221,{"$f":"COUNTIF($L$7:$L$500,N13)","v":0},{"$f":"O13/$Q$4","v":0},{"$f":"IF(P13=0,0,(P13*((LOG(P13))/LOG(2))))","v":0},null,null,{"$f":"N13","v":11221},{"$f":"COUNTIF(L7:L38,T13)","v":0},{"$f":"U13/(W4-U25)","v":0},{"$f":"IF(V13=0,0,(V13*((LOG(V13))/LOG(2))))","v":0},null,{"$f":"N13","v":11221},{"$f":"COUNTIF(L39:L70,Y13)","v":0},{"$f":"Z13/(AB4-Z25)","v":0},{"$f":"IF(AA13=0,0,(AA13*((LOG(AA13))/LOG(2))))","v":0},null,{"$f":"N13","v":11221},{"$f":"COUNTIF(L71:L103,AD13)","v":0},{"$f":"AE13/(AG4-AE25)","v":0},{"$f":"IF(AF13=0,0,(AF13*((LOG(AF13))/LOG(2))))","v":0},null,{"$f":"N13","v":11221},{"$f":"COUNTIF(L104:L135,AI13)","v":0},{"$f":"AJ13/(AL4-AJ25)","v":0},{"$f":"IF(AK13=0,0,(AK13*((LOG(AK13))/LOG(2))))","v":0},null,{"$f":"N13","v":11221},{"$f":"COUNTIF(L136:L167,AN13)","v":0},{"$f":"AO13/(AQ4-AO25)","v":0},{"$f":"IF(AP13=0,0,(AP13*((LOG(AP13))/LOG(2))))","v":0},null,{"$f":"N13","v":11221},{"$f":"COUNTIF(L168:L199,AS13)","v":0},{"$f":"AT13/(AV4-AT25)","v":0},{"$f":"IF(AU13=0,0,(AU13*((LOG(AU13))/LOG(2))))","v":0}]
[12,894,13,898,13,903,14,913,13,922,0,11111,null,11222,{"$f":"COUNTIF($L$7:$L$500,N14)","v":0},{"$f":"O14/$Q$4","v":0},{"$f":"IF(P14=0,0,(P14*((LOG(P14))/LOG(2))))","v":0},null,null,{"$f":"N14","v":11222},{"$f":"COUNTIF(L7:L38,T14)","v":0},{"$f":"U14/(W4-U25)","v":0},{"$f":"IF(V14=0,0,(V14*((LOG(V14))/LOG(2))))","v":0},null,{"$f":"N14","v":11222},{"$f":"COUNTIF(L39:L70,Y14)","v":0},{"$f":"Z14/(AB4-Z25)","v":0},{"$f":"IF(AA14=0,0,(AA14*((LOG(AA14))/LOG(2))))","v":0},null,{"$f":"N14","v":11222},{"$f":"COUNTIF(L71:L103,AD14)","v":0},{"$f":"AE14/(AG4-AE25)","v":0},{"$f":"IF(AF14=0,0,(AF14*((LOG(AF14))/LOG(2))))","v":0},null,{"$f":"N14","v":11222},{"$f":"COUNTIF(L104:L135,AI14)","v":0},{"$f":"AJ14/(AL4-AJ25)","v":0},{"$f":"IF(AK14=0,0,(AK14*((LOG(AK14))/LOG(2))))","v":0},null,{"$f":"N14","v":11222},{"$f":"COUNTIF(L136:L167,AN14)","v":0},{"$f":"AO14/(AQ4-AO25)","v":0},{"$f":"IF(AP14=0,0,(AP14*((LOG(AP14))/LOG(2))))","v":0},null,{"$f":"N14","v":11222},{"$f":"COUNTIF(L168:L199,AS14)","v":0},{"$f":"AT14/(AV4-AT25)","v":0},{"$f":"IF(AU14=0,0,(AU14*((LOG(AU14))/LOG(2))))","v":0}]
[12,1023,13,1027,13,1031,14,1035,13,1044,0,11111,null,12111,{"$f":"COUNTIF($L$7:$L$500,N15)","v":0},{"$f":"O15/$Q$4","v":0},{"$f":"IF(P15=0,0,(P15*((LOG(P15))/LOG(2))))","v":0},null,null,{"$f":"N15","v":12111},{"$f":"COUNTIF(L7:L38,T15)","v":0},{"$f":"U15/(W4-U25)","v":0},{"$f":"IF(V15=0,0,(V15*((LOG(V15))/LOG(2))))","v":0},null,{"$f":"N15","v":12111},{"$f":"COUNTIF(L39:L70,Y15)","v":0},{"$f":"Z15/(AB4-Z25)","v":0},{"$f":"IF(AA15=0,0,(AA15*((LOG(AA15))/LOG(2))))","v":0},null,{"$f":"N15","v":12111},{"$f":"COUNTIF(L71:L103,AD15)","v":0},{"$f":"AE15/(AG4-AE25)","v":0},{"$f":"IF(AF15=0,0,(AF15*((LOG(AF15))/LOG(2))))","v":0},null,{"$f":"N15","v":12111},{"$f":"COUNTIF(L104:L135,AI15)","v":0},{"$f":"AJ15/(AL4-AJ25)","v":0},{"$f":"IF(AK15=0,0,(AK15*((LOG(AK15))/LOG(2))))","v":0},null,{"$f":"N15","v":12111},{"$f":"COUNTIF(L136:L167,AN15)","v":0},{"$f":"AO15/(AQ4-AO25)","v":0},{"$f":"IF(AP15=0,0,(AP15*((LOG(AP15))/LOG(2))))","v":0},null,{"$f":"N15","v":12111},{"$f":"COUNTIF(L168:L199,AS15)","v":0},{"$f":"AT15/(AV4-AT25)","v":0},{"$f":"IF(AU15=0,0,(AU15*((LOG(AU15))/LOG(2))))","v":0}]
[12,1144,13,1150,13,1154,14,1160,13,1164,0,11111,null,12112,{"$f":"COUNTIF($L$7:$L$500,N16)","v":0},{"$f":"O16/$Q$4","v":0},{"$f":"IF(P16=0,0,(P16*((LOG(P16))/LOG(2))))","v":0},null,null,{"$f":"N16","v":12112},{"$f":"COUNTIF(L7:L38,T16)","v":0},{"$f":"U16/(W4-U25)","v":0},{"$f":"IF(V16=0,0,(V16*((LOG(V16))/LOG(2))))","v":0},null,{"$f":"N16","v":12112},{"$f":"COUNTIF(L39:L70,Y16)","v":0},{"$f":"Z16/(AB4-Z25)","v":0},{"$f":"IF(AA16=0,0,(AA16*((LOG(AA16))/LOG(2))))","v":0},null,{"$f":"N16","v":12112},{"$f":"COUNTIF(L71:L103,AD16)","v":0},{"$f":"AE16/(AG4-AE25)","v":0},{"$f":"IF(AF16=0,0,(AF16*((LOG(AF16))/LOG(2))))","v":0},null,{"$f":"N16","v":12112},{"$f":"COUNTIF(L104:L135,AI16)","v":0},{"$f":"AJ16/(AL4-AJ25)","v":0},{"$f":"IF(AK16=0,0,(AK16*((LOG(AK16))/LOG(2))))","v":0},null,{"$f":"N16","v":12112},{"$f":"COUNTIF(L136:L167,AN16)","v":0},{"$f":"AO16/(AQ4-AO25)","v":0},{"$f":"IF(AP16=0,0,(AP16*((LOG(AP16))/LOG(2))))","v":0},null,{"$f":"N16","v":12112},{"$f":"COUNTIF(L168:L199,AS16)","v":0},{"$f":"AT16/(AV4-AT25)","v":0},{"$f":"IF(AU16=0,0,(AU16*((LOG(AU16))/LOG(2))))","v":0}]
[12,1270,13,1275,13,1279,14,1284,13,1288,0,11111,null,12121,{"$f":"COUNTIF($L$7:$L$500,N17)","v":0},{"$f":"O17/$Q$4","v":0},{"$f":"IF(P17=0,0,(P17*((LOG(P17))/LOG(2))))","v":0},null,null,{"$f":"N17","v":12121},{"$f":"COUNTIF(L7:L38,T17)","v":0},{"$f":"U17/(W4-U25)","v":0},{"$f":"IF(V17=0,0,(V17*((LOG(V17))/LOG(2))))","v":0},null,{"$f":"N17","v":12121},{"$f":"COUNTIF(L39:L70,Y17)","v":0},{"$f":"Z17/(AB4-Z25)","v":0},{"$f":"IF(AA17=0,0,(AA17*((LOG(AA17))/LOG(2))))","v":0},null,{"$f":"N17","v":12121},{"$f":"COUNTIF(L71:L103,AD17)","v":0},{"$f":"AE17/(AG4-AE25)","v":0},{"$f":"IF(AF17=0,0,(AF17*((LOG(AF17))/LOG(2))))","v":0},null,{"$f":"N17","v":12121},{"$f":"COUNTIF(L104:L135,AI17)","v":0},{"$f":"AJ17/(AL4-AJ25)","v":0},{"$f":"IF(AK17=0,0,(AK17*((LOG(AK17))/LOG(2))))","v":0},null,{"$f":"N17","v":12121},{"$f":"COUNTIF(L136:L167,AN17)","v":0},{"$f":"AO17/(AQ4-AO25)","v":0},{"$f":"IF(AP17=0,0,(AP17*((LOG(AP17))/LOG(2))))","v":0},null,{"$f":"N17","v":12121},{"$f":"COUNTIF(L168:L199,AS17)","v":0},{"$f":"AT17/(AV4-AT25)","v":0},{"$f":"IF(AU17=0,0,(AU17*((LOG(AU17))/LOG(2))))","v":0}]
[12,1390,13,1394,13,1398,14,1402,13,1411,0,11111,null,12122,{"$f":"COUNTIF($L$7:$L$500,N18)","v":0},{"$f":"O18/$Q$4","v":0},{"$f":"IF(P18=0,0,(P18*((LOG(P18))/LOG(2))))","v":0},null,null,{"$f":"N18","v":12122},{"$f":"COUNTIF(L7:L38,T18)","v":0},{"$f":"U18/(W4-U25)","v":0},{"$f":"IF(V18=0,0,(V18*((LOG(V18))/LOG(2))))","v":0},null,{"$f":"N18","v":12122},{"$f":"COUNTIF(L39:L70,Y18)","v":0},{"$f":"Z18/(AB4-Z25)","v":0},{"$f":"IF(AA18=0,0,(AA18*((LOG(AA18))/LOG(2))))","v":0},null,{"$f":"N18","v":12122},{"$f":"COUNTIF(L71:L103,AD18)","v":0},{"$f":"AE18/(AG4-AE25)","v":0},{"$f":"IF(AF18=0,0,(AF18*((LOG(AF18))/LOG(2))))","v":0},null,{"$f":"N18","v":12122},{"$f":"COUNTIF(L104:L135,AI18)","v":0},{"$f":"AJ18/(AL4-AJ25)","v":0},{"$f":"IF(AK18=0,0,(AK18*((LOG(AK18))/LOG(2))))","v":0},null,{"$f":"N18","v":12122},{"$f":"COUNTIF(L136:L167,AN18)","v":0},{"$f":"AO18/(AQ4-AO25)","v":0},{"$f":"IF(AP18=0,0,(AP18*((LOG(AP18))/LOG(2))))","v":0},null,{"$f":"N18","v":12122},{"$f":"COUNTIF(L168:L199,AS18)","v":0},{"$f":"AT18/(AV4-AT25)","v":0},{"$f":"IF(AU18=0,0,(AU18*((LOG(AU18))/LOG(2))))","v":0}]
[12,1514,13,1519,13,1524,14,1528,13,1532,0,11111,null,12211,{"$f":"COUNTIF($L$7:$L$500,N19)","v":0},{"$f":"O19/$Q$4","v":0},{"$f":"IF(P19=0,0,(P19*((LOG(P19))/LOG(2))))","v":0},null,null,{"$f":"N19","v":12211},{"$f":"COUNTIF(L7:L38,T19)","v":0},{"$f":"U19/(W4-U25)","v":0},{"$f":"IF(V19=0,0,(V19*((LOG(V19))/LOG(2))))","v":0},null,{"$f":"N19","v":12211},{"$f":"COUNTIF(L39:L70,Y19)","v":0},{"$f":"Z19/(AB4-Z25)","v":0},{"$f":"IF(AA19=0,0,(AA19*((LOG(AA19))/LOG(2))))","v":0},null,{"$f":"N19","v":12211},{"$f":"COUNTIF(L71:L103,AD19)","v":0},{"$f":"AE19/(AG4-AE25)","v":0},{"$f":"IF(AF19=0,0,(AF19*((LOG(AF19))/LOG(2))))","v":0},null,{"$f":"N19","v":12211},{"$f":"COUNTIF(L104:L135,AI19)","v":0},{"$f":"AJ19/(AL4-AJ25)","v":0},{"$f":"IF(AK19=0,0,(AK19*((LOG(AK19))/LOG(2))))","v":0},null,{"$f":"N19","v":12211},{"$f":"COUNTIF(L136:L167,AN19)","v":0},{"$f":"AO19/(AQ4-AO25)","v":0},{"$f":"IF(AP19=0,0,(AP19*((LOG(AP19))/LOG(2))))","v":0},null,{"$f":"N19","v":12211},{"$f":"COUNTIF(L168:L199,AS19)","v":0},{"$f":"AT19/(AV4-AT25)","v":0},{"$f":"IF(AU19=0,0,(AU19*((LOG(AU19))/LOG(2))))","v":0}]
[12,1637,13,1641,13,1645,14,1650,13,1659,1,11111,null,12212,{"$f":"COUNTIF($L$7:$L$500,N20)","v":0},{"$f":"O20/$Q$4","v":0},{"$f":"IF(P20=0,0,(P20*((LOG(P20))/LOG(2))))","v":0},null,null,{"$f":"N20","v":12212},{"$f":"COUNTIF(L7:L38,T20)","v":0},{"$f":"U20/(W4-U25)","v":0},{"$f":"IF(V20=0,0,(V20*((LOG(V20))/LOG(2))))","v":0},null,{"$f":"N20","v":12212},{"$f":"COUNTIF(L39:L70,Y20)","v":0},{"$f":"Z20/(AB4-Z25)","v":0},{"$f":"IF(AA20=0,0,(AA20*((LOG(AA20))/LOG(2))))","v":0},null,{"$f":"N20","v":12212},{"$f":"COUNTIF(L71:L103,AD20)","v":0},{"$f":"AE20/(AG4-AE25)","v":0},{"$f":"IF(AF20=0,0,(AF20*((LOG(AF20))/LOG(2))))","v":0},null,{"$f":"N20","v":12212},{"$f":"COUNTIF(L104:L135,AI20)","v":0},{"$f":"AJ20/(AL4-AJ25)","v":0},{"$f":"IF(AK20=0,0,(AK20*((LOG(AK20))/LOG(2))))","v":0},null,{"$f":"N20","v":12212},{"$f":"COUNTIF(L136:L167,AN20)","v":0},{"$f":"AO20/(AQ4-AO25)","v":0},{"$f":"IF(AP20=0,0,(AP20*((LOG(AP20))/LOG(2))))","v":0},null,{"$f":"N20","v":12212},{"$f":"COUNTIF(L168:L199,AS20)","v":0},{"$f":"AT20/(AV4-AT25)","v":0},{"$f":"IF(AU20=0,0,(AU20*((LOG(AU20))/LOG(2))))","v":0}]
[12,1760,13,1765,13,1769,14,1773,13,1783,1,11111,null,12221,{"$f":"COUNTIF($L$7:$L$500,N21)","v":0},{"$f":"O21/$Q$4","v":0},{"$f":"IF(P21=0,0,(P21*((LOG(P21))/LOG(2))))","v":0},null,null,{"$f":"N21","v":12221},{"$f":"COUNTIF(L7:L38,T21)","v":0},{"$f":"U21/(W4-U25)","v":0},{"$f":"IF(V21=0,0,(V21*((LOG(V21))/LOG(2))))","v":0},null,{"$f":"N21","v":12221},{"$f":"COUNTIF(L39:L70,Y21)","v":0},{"$f":"Z21/(AB4-Z25)","v":0},{"$f":"IF(AA21=0,0,(AA21*((LOG(AA21))/LOG(2))))","v":0},null,{"$f":"N21","v":12221},{"$f":"COUNTIF(L71:L103,AD21)","v":0},{"$f":"AE21/(AG4-AE25)","v":0},{"$f":"IF(AF21=0,0,(AF21*((LOG(AF21))/LOG(2))))","v":0},null,{"$f":"N21","v":12221},{"$f":"COUNTIF(L104:L135,AI21)","v":0},{"$f":"AJ21/(AL4-AJ25)","v":0},{"$f":"IF(AK21=0,0,(AK21*((LOG(AK21))/LOG(2))))","v":0},null,{"$f":"N21","v":12221},{"$f":"COUNTIF(L136:L167,AN21)","v":0},{"$f":"AO21/(AQ4-AO25)","v":0},{"$f":"IF(AP21=0,0,(AP21*((LOG(AP21))/LOG(2))))","v":0},null,{"$f":"N21","v":12221},{"$f":"COUNTIF(L168:L199,AS21)","v":0},{"$f":"AT21/(AV4-AT25)","v":0},{"$f":"IF(AU21=0,0,(AU21*((LOG(AU21))/LOG(2))))","v":0}]
[12,1887,13,1891,13,1895,14,1900,13,1904,0,11111,null,12222,{"$f":"COUNTIF($L$7:$L$500,N22)","v":0},{"$f":"O22/$Q$4","v":0},{"$f":"IF(P22=0,0,(P22*((LOG(P22))/LOG(2))))","v":0},null,null,{"$f":"N22","v":12222},{"$f":"COUNTIF(L7:L38,T22)","v":0},{"$f":"U22/(W4-U25)","v":0},{"$f":"IF(V22=0,0,(V22*((LOG(V22))/LOG(2))))","v":0},null,{"$f":"N22","v":12222},{"$f":"COUNTIF(L39:L70,Y22)","v":0},{"$f":"Z22/(AB4-Z25)","v":0},{"$f":"IF(AA22=0,0,(AA22*((LOG(AA22))/LOG(2))))","v":0},null,{"$f":"N22","v":12222},{"$f":"COUNTIF(L71:L103,AD22)","v":0},{"$f":"AE22/(AG4-AE25)","v":0},{"$f":"IF(AF22=0,0,(AF22*((LOG(AF22))/LOG(2))))","v":0},null,{"$f":"N22","v":12222},{"$f":"COUNTIF(L104:L135,AI22)","v":0},{"$f":"AJ22/(AL4-AJ25)","v":0},{"$f":"IF(AK22=0,0,(AK22*((LOG(AK22))/LOG(2))))","v":0},null,{"$f":"N22","v":12222},{"$f":"COUNTIF(L136:L167,AN22)","v":0},{"$f":"AO22/(AQ4-AO25)","v":0},{"$f":"IF(AP22=0,0,(AP22*((LOG(AP22))/LOG(2))))","v":0},null,{"$f":"N22","v":12222},{"$f":"COUNTIF(L168:L199,AS22)","v":0},{"$f":"AT22/(AV4-AT25)","v":0},{"$f":"IF(AU22=0,0,(AU22*((LOG(AU22))/LOG(2))))","v":0}]
[12,2016,13,2020,13,2025,14,2029,13,2033,0,11111,null,21111,{"$f":"COUNTIF($L$7:$L$500,N23)","v":0},{"$f":"O23/$Q$4","v":0},{"$f":"IF(P23=0,0,(P23*((LOG(P23))/LOG(2))))","v":0},null,null,{"$f":"N23","v":21111},{"$f":"COUNTIF(L7:L38,T23)","v":0},{"$f":"U23/(W4-U25)","v":0},{"$f":"IF(V23=0,0,(V23*((LOG(V23))/LOG(2))))","v":0},null,{"$f":"N23","v":21111},{"$f":"COUNTIF(L39:L70,Y23)","v":0},{"$f":"Z23/(AB4-Z25)","v":0},{"$f":"IF(AA23=0,0,(AA23*((LOG(AA23))/LOG(2))))","v":0},null,{"$f":"N23","v":21111},{"$f":"COUNTIF(L71:L103,AD23)","v":0},{"$f":"AE23/(AG4-AE25)","v":0},{"$f":"IF(AF23=0,0,(AF23*((LOG(AF23))/LOG(2))))","v":0},null,{"$f":"N23","v":21111},{"$f":"COUNTIF(L104:L135,AI23)","v":0},{"$f":"AJ23/(AL4-AJ25)","v":0},{"$f":"IF(AK23=0,0,(AK23*((LOG(AK23))/LOG(2))))","v":0},null,{"$f":"N23","v":21111},{"$f":"COUNTIF(L136:L167,AN23)","v":0},{"$f":"AO23/(AQ4-AO25)","v":0},{"$f":"IF(AP23=0,0,(AP23*((LOG(AP23))/LOG(2))))","v":0},null,{"$f":"N23","v":21111},{"$f":"COUNTIF(L168:L199,AS23)","v":0},{"$f":"AT23/(AV4-AT25)","v":0},{"$f":"IF(AU23=0,0,(AU23*((LOG(AU23))/LOG(2))))","v":0}]
[12,2143,13,2148,13,2152,14,2156,13,2161,0,11111,null,21112,{"$f":"COUNTIF($L$7:$L$500,N24)","v":0},{"$f":"O24/$Q$4","v":0},{"$f":"IF(P24=0,0,(P24*((LOG(P24))/LOG(2))))","v":0},null,null,{"$f":"N24","v":21112},{"$f":"COUNTIF(L7:L38,T24)","v":0},{"$f":"U24/(W4-U25)","v":0},{"$f":"IF(V24=0,0,(V24*((LOG(V24))/LOG(2))))","v":0},null,{"$f":"N24","v":21112},{"$f":"COUNTIF(L39:L70,Y24)","v":0},{"$f":"Z24/(AB4-Z25)","v":0},{"$f":"IF(AA24=0,0,(AA24*((LOG(AA24))/LOG(2))))","v":0},null,{"$f":"N24","v":21112},{"$f":"COUNTIF(L71:L103,AD24)","v":0},{"$f":"AE24/(AG4-AE25)","v":0},{"$f":"IF(AF24=0,0,(AF24*((LOG(AF24))/LOG(2))))","v":0},null,{"$f":"N24","v":21112},{"$f":"COUNTIF(L104:L135,AI24)","v":0},{"$f":"AJ24/(AL4-AJ25)","v":0},{"$f":"IF(AK24=0,0,(AK24*((LOG(AK24))/LOG(2))))","v":0},null,{"$f":"N24","v":21112},{"$f":"COUNTIF(L136:L167,AN24)","v":0},{"$f":"AO24/(AQ4-AO25)","v":0},{"$f":"IF(AP24=0,0,(AP24*((LOG(AP24))/LOG(2))))","v":0},null,{"$f":"N24","v":21112},{"$f":"COUNTIF(L168:L199,AS24)","v":0},{"$f":"AT24/(AV4-AT25)","v":0},{"$f":"IF(AU24=0,0,(AU24*((LOG(AU24))/LOG(2))))","v":0}]
[12,2262,13,2267,13,2271,14,2275,13,2280,0,11111,null,21121,{"$f":"COUNTIF($L$7:$L$500,N25)","v":0},{"$f":"O25/$Q$4","v":0},{"$f":"IF(P25=0,0,(P25*((LOG(P25))/LOG(2))))","v":0},null,null,{"$f":"N25","v":21121},{"$f":"COUNTIF(L7:L38,T25)","v":0},null,null,null,{"$f":"N25","v":21121},{"$f":"COUNTIF(L39:L70,Y25)","v":0},null,null,null,{"$f":"N25","v":21121},{"$f":"COUNTIF(L71:L103,AD25)","v":0},null,null,null,{"$f":"N25","v":21121},{"$f":"COUNTIF(L104:L135,AI25)","v":0},null,null,null,{"$f":"N25","v":21121},{"$f":"COUNTIF(L136:L167,AN25)","v":0},null,null,null,{"$f":"N25","v":21121},{"$f":"COUNTIF(L168:L199,AS25)","v":0}]
[12,2385,13,2389,13,2393,14,2398,13,2414,0,11111,null,21122,{"$f":"COUNTIF($L$7:$L$500,N26)","v":0},{"$f":"O26/$Q$4","v":0},{"$f":"IF(P26=0,0,(P26*((LOG(P26))/LOG(2))))","v":0},null,null,{"$f":"N26","v":21122},{"$f":"COUNTIF(L7:L38,T26)","v":0},{"$f":"U26/(W4-U25)","v":0},{"$f":"IF(V26=0,0,(V26*((LOG(V26))/LOG(2))))","v":0},null,{"$f":"N26","v":21122},{"$f":"COUNTIF(L39:L70,Y26)","v":0},{"$f":"Z26/(AB4-Z25)","v":0},{"$f":"IF(AA26=0,0,(AA26*((LOG(AA26))/LOG(2))))","v":0},null,{"$f":"N26","v":21122},{"$f":"COUNTIF(L71:L103,AD26)","v":0},{"$f":"AE26/(AG4-AE25)","v":0},{"$f":"IF(AF26=0,0,(AF26*((LOG(AF26))/LOG(2))))","v":0},null,{"$f":"N26","v":21122},{"$f":"COUNTIF(L104:L135,AI26)","v":0},{"$f":"AJ26/(AL4-AJ25)","v":0},{"$f":"IF(AK26=0,0,(AK26*((LOG(AK26))/LOG(2))))","v":0},null,{"$f":"N26","v":21122},{"$f":"COUNTIF(L136:L167,AN26)","v":0},{"$f":"AO26/(AQ4-AO25)","v":0},{"$f":"IF(AP26=0,0,(AP26*((LOG(AP26))/LOG(2))))","v":0},null,{"$f":"N26","v":21122},{"$f":"COUNTIF(L168:L199,AS26)","v":0},{"$f":"AT26/(AV4-AT25)","v":0},{"$f":"IF(AU26=0,0,(AU26*((LOG(AU26))/LOG(2))))","v":0}]
[12,2514,13,2519,13,2523,14,2527,13,2531,1,11111,null,21211,{"$f":"COUNTIF($L$7:$L$500,N27)","v":0},{"$f":"O27/$Q$4","v":0},{"$f":"IF(P27=0,0,(P27*((LOG(P27))/LOG(2))))","v":0},null,null,{"$f":"N27","v":21211},{"$f":"COUNTIF(L7:L38,T27)","v":0},{"$f":"U27/(W4-U25)","v":0},{"$f":"IF(V27=0,0,(V27*((LOG(V27))/LOG(2))))","v":0},null,{"$f":"N27","v":21211},{"$f":"COUNTIF(L39:L70,Y27)","v":0},{"$f":"Z27/(AB4-Z25)","v":0},{"$f":"IF(AA27=0,0,(AA27*((LOG(AA27))/LOG(2))))","v":0},null,{"$f":"N27","v":21211},{"$f":"COUNTIF(L71:L103,AD27)","v":0},{"$f":"AE27/(AG4-AE25)","v":0},{"$f":"IF(AF27=0,0,(AF27*((LOG(AF27))/LOG(2))))","v":0},null,{"$f":"N27","v":21211},{"$f":"COUNTIF(L104:L135,AI27)","v":0},{"$f":"AJ27/(AL4-AJ25)","v":0},{"$f":"IF(AK27=0,0,(AK27*((LOG(AK27))/LOG(2))))","v":0},null,{"$f":"N27","v":21211},{"$f":"COUNTIF(L136:L167,AN27)","v":0},{"$f":"AO27/(AQ4-AO25)","v":0},{"$f":"IF(AP27=0,0,(AP27*((LOG(AP27))/LOG(2))))","v":0},null,{"$f":"N27","v":21211},{"$f":"COUNTIF(L168:L199,AS27)","v":0},{"$f":"AT27/(AV4-AT25)","v":0},{"$f":"IF(AU27=0,0,(AU27*((LOG(AU27))/LOG(2))))","v":0}]
[12,2636,13,2640,13,2648,14,2656,13,2671,0,11111,null,21212,{"$f":"COUNTIF($L$7:$L$500,N28)","v":0},{"$f":"O28/$Q$4","v":0},{"$f":"IF(P28=0,0,(P28*((LOG(P28))/LOG(2))))","v":0},null,null,{"$f":"N28","v":21212},{"$f":"COUNTIF(L7:L38,T28)","v":0},{"$f":"U28/(W4-U25)","v":0},{"$f":"IF(V28=0,0,(V28*((LOG(V28))/LOG(2))))","v":0},null,{"$f":"N28","v":21212},{"$f":"COUNTIF(L39:L70,Y28)","v":0},{"$f":"Z28/(AB4-Z25)","v":0},{"$f":"IF(AA28=0,0,(AA28*((LOG(AA28))/LOG(2))))","v":0},null,{"$f":"N28","v":21212},{"$f":"COUNTIF(L71:L103,AD28)","v":0},{"$f":"AE28/(AG4-AE25)","v":0},{"$f":"IF(AF28=0,0,(AF28*((LOG(AF28))/LOG(2))))","v":0},null,{"$f":"N28","v":21212},{"$f":"COUNTIF(L104:L135,AI28)","v":0},{"$f":"AJ28/(AL4-AJ25)","v":0},{"$f":"IF(AK28=0,0,(AK28*((LOG(AK28))/LOG(2))))","v":0},null,{"$f":"N28","v":21212},{"$f":"COUNTIF(L136:L167,AN28)","v":0},{"$f":"AO28/(AQ4-AO25)","v":0},{"$f":"IF(AP28=0,0,(AP28*((LOG(AP28))/LOG(2))))","v":0},null,{"$f":"N28","v":21212},{"$f":"COUNTIF(L168:L199,AS28)","v":0},{"$f":"AT28/(AV4-AT25)","v":0},{"$f":"IF(AU28=0,0,(AU28*((LOG(AU28))/LOG(2))))","v":0}]
[12,2776,13,2781,13,2785,14,2789,13,2793,0,11111,null,21221,{"$f":"COUNTIF($L$7:$L$500,N29)","v":0},{"$f":"O29/$Q$4","v":0},{"$f":"IF(P29=0,0,(P29*((LOG(P29))/LOG(2))))","v":0},null,null,{"$f":"N29","v":21221},{"$f":"COUNTIF(L7:L38,T29)","v":0},{"$f":"U29/(W4-U25)","v":0},{"$f":"IF(V29=0,0,(V29*((LOG(V29))/LOG(2))))","v":0},null,{"$f":"N29","v":21221},{"$f":"COUNTIF(L39:L70,Y29)","v":0},{"$f":"Z29/(AB4-Z25)","v":0},{"$f":"IF(AA29=0,0,(AA29*((LOG(AA29))/LOG(2))))","v":0},null,{"$f":"N29","v":21221},{"$f":"COUNTIF(L71:L103,AD29)","v":0},{"$f":"AE29/(AG4-AE25)","v":0},{"$f":"IF(AF29=0,0,(AF29*((LOG(AF29))/LOG(2))))","v":0},null,{"$f":"N29","v":21221},{"$f":"COUNTIF(L104:L135,AI29)","v":0},{"$f":"AJ29/(AL4-AJ25)","v":0},{"$f":"IF(AK29=0,0,(AK29*((LOG(AK29))/LOG(2))))","v":0},null,{"$f":"N29","v":21221},{"$f":"COUNTIF(L136:L167,AN29)","v":0},{"$f":"AO29/(AQ4-AO25)","v":0},{"$f":"IF(AP29=0,0,(AP29*((LOG(AP29))/LOG(2))))","v":0},null,{"$f":"N29","v":21221},{"$f":"COUNTIF(L168:L199,AS29)","v":0},{"$f":"AT29/(AV4-AT25)","v":0},{"$f":"IF(AU29=0,0,(AU29*((LOG(AU29))/LOG(2))))","v":0}]
[12,2901,13,2905,13,2909,14,2913,13,2917,0,11111,null,21222,{"$f":"COUNTIF($L$7:$L$500,N30)","v":0},{"$f":"O30/$Q$4","v":0},{"$f":"IF(P30=0,0,(P30*((LOG(P30))/LOG(2))))","v":0},null,null,{"$f":"N30","v":21222},{"$f":"COUNTIF(L7:L38,T30)","v":0},{"$f":"U30/(W4-U25)","v":0},{"$f":"IF(V30=0,0,(V30*((LOG(V30))/LOG(2))))","v":0},null,{"$f":"N30","v":21222},{"$f":"COUNTIF(L39:L70,Y30)","v":0},{"$f":"Z30/(AB4-Z25)","v":0},{"$f":"IF(AA30=0,0,(AA30*((LOG(AA30))/LOG(2))))","v":0},null,{"$f":"N30","v":21222},{"$f":"COUNTIF(L71:L103,AD30)","v":0},{"$f":"AE30/(AG4-AE25)","v":0},{"$f":"IF(AF30=0,0,(AF30*((LOG(AF30))/LOG(2))))","v":0},null,{"$f":"N30","v":21222},{"$f":"COUNTIF(L104:L135,AI30)","v":0},{"$f":"AJ30/(AL4-AJ25)","v":0},{"$f":"IF(AK30=0,0,(AK30*((LOG(AK30))/LOG(2))))","v":0},null,{"$f":"N30","v":21222},{"$f":"COUNTIF(L136:L167,AN30)","v":0},{"$f":"AO30/(AQ4-AO25)","v":0},{"$f":"IF(AP30=0,0,(AP30*((LOG(AP30))/LOG(2))))","v":0},null,{"$f":"N30","v":21222},{"$f":"COUNTIF(L168:L199,AS30)","v":0},{"$f":"AT30/(AV4-AT25)","v":0},{"$f":"IF(AU30=0,0,(AU30*((LOG(AU30))/LOG(2))))","v":0}]
[12,3019,13,3024,13,3028,14,3032,13,3036,0,11111,null,22111,{"$f":"COUNTIF($L$7:$L$500,N31)","v":0},{"$f":"O31/$Q$4","v":0},{"$f":"IF(P31=0,0,(P31*((LOG(P31))/LOG(2))))","v":0},null,null,{"$f":"N31","v":22111},{"$f":"COUNTIF(L7:L38,T31)","v":0},{"$f":"U31/(W4-U25)","v":0},{"$f":"IF(V31=0,0,(V31*((LOG(V31))/LOG(2))))","v":0},null,{"$f":"N31","v":22111},{"$f":"COUNTIF(L39:L70,Y31)","v":0},{"$f":"Z31/(AB4-Z25)","v":0},{"$f":"IF(AA31=0,0,(AA31*((LOG(AA31))/LOG(2))))","v":0},null,{"$f":"N31","v":22111},{"$f":"COUNTIF(L71:L103,AD31)","v":0},{"$f":"AE31/(AG4-AE25)","v":0},{"$f":"IF(AF31=0,0,(AF31*((LOG(AF31))/LOG(2))))","v":0},null,{"$f":"N31","v":22111},{"$f":"COUNTIF(L104:L135,AI31)","v":0},{"$f":"AJ31/(AL4-AJ25)","v":0},{"$f":"IF(AK31=0,0,(AK31*((LOG(AK31))/LOG(2))))","v":0},null,{"$f":"N31","v":22111},{"$f":"COUNTIF(L136:L167,AN31)","v":0},{"$f":"AO31/(AQ4-AO25)","v":0},{"$f":"IF(AP31=0,0,(AP31*((LOG(AP31))/LOG(2))))","v":0},null,{"$f":"N31","v":22111},{"$f":"COUNTIF(L168:L199,AS31)","v":0},{"$f":"AT31/(AV4-AT25)","v":0},{"$f":"IF(AU31=0,0,(AU31*((LOG(AU31))/LOG(2))))","v":0}]
[12,3137,13,3141,13,3146,14,3150,13,3155,0,11111,null,22112,{"$f":"COUNTIF($L$7:$L$500,N32)","v":0},{"$f":"O32/$Q$4","v":0},{"$f":"IF(P32=0,0,(P32*((LOG(P32))/LOG(2))))","v":0},null,null,{"$f":"N32","v":22112},{"$f":"COUNTIF(L7:L38,T32)","v":0},{"$f":"U32/(W4-U25)","v":0},{"$f":"IF(V32=0,0,(V32*((LOG(V32))/LOG(2))))","v":0},null,{"$f":"N32","v":22112},{"$f":"COUNTIF(L39:L70,Y32)","v":0},{"$f":"Z32/(AB4-Z25)","v":0},{"$f":"IF(AA32=0,0,(AA32*((LOG(AA32))/LOG(2))))","v":0},null,{"$f":"N32","v":22112},{"$f":"COUNTIF(L71:L103,AD32)","v":0},{"$f":"AE32/(AG4-AE25)","v":0},{"$f":"IF(AF32=0,0,(AF32*((LOG(AF32))/LOG(2))))","v":0},null,{"$f":"N32","v":22112},{"$f":"COUNTIF(L104:L135,AI32)","v":0},{"$f":"AJ32/(AL4-AJ25)","v":0},{"$f":"IF(AK32=0,0,(AK32*((LOG(AK32))/LOG(2))))","v":0},null,{"$f":"N32","v":22112},{"$f":"COUNTIF(L136:L167,AN32)","v":0},{"$f":"AO32/(AQ4-AO25)","v":0},{"$f":"IF(AP32=0,0,(AP32*((LOG(AP32))/LOG(2))))","v":0},null,{"$f":"N32","v":22112},{"$f":"COUNTIF(L168:L199,AS32)","v":0},{"$f":"AT32/(AV4-AT25)","v":0},{"$f":"IF(AU32=0,0,(AU32*((LOG(AU32))/LOG(2))))","v":0}]
[12,3256,13,3261,13,3265,14,3273,13,3277,1,11111,null,22121,{"$f":"COUNTIF($L$7:$L$500,N33)","v":0},{"$f":"O33/$Q$4","v":0},{"$f":"IF(P33=0,0,(P33*((LOG(P33))/LOG(2))))","v":0},null,null,{"$f":"N33","v":22121},{"$f":"COUNTIF(L7:L38,T33)","v":0},{"$f":"U33/(W4-U25)","v":0},{"$f":"IF(V33=0,0,(V33*((LOG(V33))/LOG(2))))","v":0},null,{"$f":"N33","v":22121},{"$f":"COUNTIF(L39:L70,Y33)","v":0},{"$f":"Z33/(AB4-Z25)","v":0},{"$f":"IF(AA33=0,0,(AA33*((LOG(AA33))/LOG(2))))","v":0},null,{"$f":"N33","v":22121},{"$f":"COUNTIF(L71:L103,AD33)","v":0},{"$f":"AE33/(AG4-AE25)","v":0},{"$f":"IF(AF33=0,0,(AF33*((LOG(AF33))/LOG(2))))","v":0},null,{"$f":"N33","v":22121},{"$f":"COUNTIF(L104:L135,AI33)","v":0},{"$f":"AJ33/(AL4-AJ25)","v":0},{"$f":"IF(AK33=0,0,(AK33*((LOG(AK33))/LOG(2))))","v":0},null,{"$f":"N33","v":22121},{"$f":"COUNTIF(L136:L167,AN33)","v":0},{"$f":"AO33/(AQ4-AO25)","v":0},{"$f":"IF(AP33=0,0,(AP33*((LOG(AP33))/LOG(2))))","v":0},null,{"$f":"N33","v":22121},{"$f":"COUNTIF(L168:L199,AS33)","v":0},{"$f":"AT33/(AV4-AT25)","v":0},{"$f":"IF(AU33=0,0,(AU33*((LOG(AU33))/LOG(2))))","v":0}]
[12,3379,13,3383,13,3392,14,3396,13,3401,0,11111,null,22122,{"$f":"COUNTIF($L$7:$L$500,N34)","v":0},{"$f":"O34/$Q$4","v":0},{"$f":"IF(P34=0,0,(P34*((LOG(P34))/LOG(2))))","v":0},null,null,{"$f":"N34","v":22122},{"$f":"COUNTIF(L7:L38,T34)","v":0},{"$f":"U34/(W4-U25)","v":0},{"$f":"IF(V34=0,0,(V34*((LOG(V34))/LOG(2))))","v":0},null,{"$f":"N34","v":22122},{"$f":"COUNTIF(L39:L70,Y34)","v":0},{"$f":"Z34/(AB4-Z25)","v":0},{"$f":"IF(AA34=0,0,(AA34*((LOG(AA34))/LOG(2))))","v":0},null,{"$f":"N34","v":22122},{"$f":"COUNTIF(L71:L103,AD34)","v":0},{"$f":"AE34/(AG4-AE25)","v":0},{"$f":"IF(AF34=0,0,(AF34*((LOG(AF34))/LOG(2))))","v":0},null,{"$f":"N34","v":22122},{"$f":"COUNTIF(L104:L135,AI34)","v":0},{"$f":"AJ34/(AL4-AJ25)","v":0},{"$f":"IF(AK34=0,0,(AK34*((LOG(AK34))/LOG(2))))","v":0},null,{"$f":"N34","v":22122},{"$f":"COUNTIF(L136:L167,AN34)","v":0},{"$f":"AO34/(AQ4-AO25)","v":0},{"$f":"IF(AP34=0,0,(AP34*((LOG(AP34))/LOG(2))))","v":0},null,{"$f":"N34","v":22122},{"$f":"COUNTIF(L168:L199,AS34)","v":0},{"$f":"AT34/(AV4-AT25)","v":0},{"$f":"IF(AU34=0,0,(AU34*((LOG(AU34))/LOG(2))))","v":0}]
[12,3509,13,3514,13,3518,14,3521,13,3529,0,11111,null,22211,{"$f":"COUNTIF($L$7:$L$500,N35)","v":0},{"$f":"O35/$Q$4","v":0},{"$f":"IF(P35=0,0,(P35*((LOG(P35))/LOG(2))))","v":0},null,null,{"$f":"N35","v":22211},{"$f":"COUNTIF(L7:L38,T35)","v":0},{"$f":"U35/(W4-U25)","v":0},{"$f":"IF(V35=0,0,(V35*((LOG(V35))/LOG(2))))","v":0},null,{"$f":"N35","v":22211},{"$f":"COUNTIF(L39:L70,Y35)","v":0},{"$f":"Z35/(AB4-Z25)","v":0},{"$f":"IF(AA35=0,0,(AA35*((LOG(AA35))/LOG(2))))","v":0},null,{"$f":"N35","v":22211},{"$f":"COUNTIF(L71:L103,AD35)","v":0},{"$f":"AE35/(AG4-AE25)","v":0},{"$f":"IF(AF35=0,0,(AF35*((LOG(AF35))/LOG(2))))","v":0},null,{"$f":"N35","v":22211},{"$f":"COUNTIF(L104:L135,AI35)","v":0},{"$f":"AJ35/(AL4-AJ25)","v":0},{"$f":"IF(AK35=0,0,(AK35*((LOG(AK35))/LOG(2))))","v":0},null,{"$f":"N35","v":22211},{"$f":"COUNTIF(L136:L167,AN35)","v":0},{"$f":"AO35/(AQ4-AO25)","v":0},{"$f":"IF(AP35=0,0,(AP35*((LOG(AP35))/LOG(2))))","v":0},null,{"$f":"N35","v":22211},{"$f":"COUNTIF(L168:L199,AS35)","v":0},{"$f":"AT35/(AV4-AT25)","v":0},{"$f":"IF(AU35=0,0,(AU35*((LOG(AU35))/LOG(2))))","v":0}]
[12,3634,13,3639,13,3643,14,3647,13,3652,0,11111,null,22212,{"$f":"COUNTIF($L$7:$L$500,N36)","v":0},{"$f":"O36/$Q$4","v":0},{"$f":"IF(P36=0,0,(P36*((LOG(P36))/LOG(2))))","v":0},null,null,{"$f":"N36","v":22212},{"$f":"COUNTIF(L7:L38,T36)","v":0},{"$f":"U36/(W4-U25)","v":0},{"$f":"IF(V36=0,0,(V36*((LOG(V36))/LOG(2))))","v":0},null,{"$f":"N36","v":22212},{"$f":"COUNTIF(L39:L70,Y36)","v":0},{"$f":"Z36/(AB4-Z25)","v":0},{"$f":"IF(AA36=0,0,(AA36*((LOG(AA36))/LOG(2))))","v":0},null,{"$f":"N36","v":22212},{"$f":"COUNTIF(L71:L103,AD36)","v":0},{"$f":"AE36/(AG4-AE25)","v":0},{"$f":"IF(AF36=0,0,(AF36*((LOG(AF36))/LOG(2))))","v":0},null,{"$f":"N36","v":22212},{"$f":"COUNTIF(L104:L135,AI36)","v":0},{"$f":"AJ36/(AL4-AJ25)","v":0},{"$f":"IF(AK36=0,0,(AK36*((LOG(AK36))/LOG(2))))","v":0},null,{"$f":"N36","v":22212},{"$f":"COUNTIF(L136:L167,AN36)","v":0},{"$f":"AO36/(AQ4-AO25)","v":0},{"$f":"IF(AP36=0,0,(AP36*((LOG(AP36))/LOG(2))))","v":0},null,{"$f":"N36","v":22212},{"$f":"COUNTIF(L168:L199,AS36)","v":0},{"$f":"AT36/(AV4-AT25)","v":0},{"$f":"IF(AU36=0,0,(AU36*((LOG(AU36))/LOG(2))))","v":0}]
[12,3759,13,3763,13,3769,14,3778,13,3788,0,11111,null,22221,{"$f":"COUNTIF($L$7:$L$500,N37)","v":0},{"$f":"O37/$Q$4","v":0},{"$f":"IF(P37=0,0,(P37*((LOG(P37))/LOG(2))))","v":0},null,null,{"$f":"N37","v":22221},{"$f":"COUNTIF(L7:L38,T37)","v":0},{"$f":"U37/(W4-U25)","v":0},{"$f":"IF(V37=0,0,(V37*((LOG(V37))/LOG(2))))","v":0},null,{"$f":"N37","v":22221},{"$f":"COUNTIF(L39:L70,Y37)","v":0},{"$f":"Z37/(AB4-Z25)","v":0},{"$f":"IF(AA37=0,0,(AA37*((LOG(AA37))/LOG(2))))","v":0},null,{"$f":"N37","v":22221},{"$f":"COUNTIF(L71:L103,AD37)","v":0},{"$f":"AE37/(AG4-AE25)","v":0},{"$f":"IF(AF37=0,0,(AF37*((LOG(AF37))/LOG(2))))","v":0},null,{"$f":"N37","v":22221},{"$f":"COUNTIF(L104:L135,AI37)","v":0},{"$f":"AJ37/(AL4-AJ25)","v":0},{"$f":"IF(AK37=0,0,(AK37*((LOG(AK37))/LOG(2))))","v":0},null,{"$f":"N37","v":22221},{"$f":"COUNTIF(L136:L167,AN37)","v":0},{"$f":"AO37/(AQ4-AO25)","v":0},{"$f":"IF(AP37=0,0,(AP37*((LOG(AP37))/LOG(2))))","v":0},null,{"$f":"N37","v":22221},{"$f":"COUNTIF(L168:L199,AS37)","v":0},{"$f":"AT37/(AV4-AT25)","v":0},{"$f":"IF(AU37=0,0,(AU37*((LOG(AU37))/LOG(2))))","v":0}]
[12,3894,13,3899,13,3903,14,3908,13,3913,0,11111,null,22222,{"$f":"COUNTIF($L$7:$L$500,N38)","v":2},{"$f":"O38/$Q$4","v":1.0362694300518135E-2},{"$f":"IF(P38=0,0,(P38*((LOG(P38))/LOG(2))))","v":-6.8315616966508605E-2},null,null,{"$f":"N38","v":22222},{"$f":"COUNTIF(L7:L38,T38)","v":0},{"$f":"U38/(W4-U25)","v":0},{"$f":"IF(V38=0,0,(V38*((LOG(V38))/LOG(2))))","v":0},null,{"$f":"N38","v":22222},{"$f":"COUNTIF(L39:L70,Y38)","v":0},{"$f":"Z38/(AB4-Z25)","v":0},{"$f":"IF(AA38=0,0,(AA38*((LOG(AA38))/LOG(2))))","v":0},null,{"$f":"N38","v":22222},{"$f":"COUNTIF(L71:L103,AD38)","v":0},{"$f":"AE38/(AG4-AE25)","v":0},{"$f":"IF(AF38=0,0,(AF38*((LOG(AF38))/LOG(2))))","v":0},null,{"$f":"N38","v":22222},{"$f":"COUNTIF(L104:L135,AI38)","v":1},{"$f":"AJ38/(AL4-AJ25)","v":3.125E-2},{"$f":"IF(AK38=0,0,(AK38*((LOG(AK38))/LOG(2))))","v":-0.15625},null,{"$f":"N38","v":22222},{"$f":"COUNTIF(L136:L167,AN38)","v":0},{"$f":"AO38/(AQ4-AO25)","v":0},{"$f":"IF(AP38=0,0,(AP38*((LOG(AP38))/LOG(2))))","v":0},null,{"$f":"N38","v":22222},{"$f":"COUNTIF(L168:L199,AS38)","v":1},{"$f":"AT38/(AV4-AT25)","v":3.125E-2},{"$f":"IF(AU38=0,0,(AU38*((LOG(AU38))/LOG(2))))","v":-0.15625}]
[12,4017,13,4021,13,4025,14,4030,13,4039,0,11111,null,null,null,{"$f":"SUM(P7:P38)","v":1},{"$f":"-SUM(Q7:Q38)","v":8.3188093460681511E-2},null,null,null,null,{"$f":"SUM(V7:V38)","v":1},{"$f":"-SUM(W7:W38)","v":0},null,null,null,{"$f":"SUM(AA7:AA38)","v":1},{"$f":"-SUM(AB7:AB38)","v":0},null,null,null,{"$f":"SUM(AF7:AF38)","v":1},{"$f":"-SUM(AG7:AG38)","v":0},null,null,null,{"$f":"SUM(AK7:AK38)","v":1},{"$f":"-SUM(AL7:AL38)","v":0.20062232431271465},null,null,null,{"$f":"SUM(AP7:AP38)","v":1},{"$f":"-SUM(AQ7:AQ38)","v":0},null,null,null,{"$f":"SUM(AU7:AU38)","v":1},{"$f":"-SUM(AV7:AV38)","v":0.20062232431271465}]
[12,4139,13,4143,13,4147,14,4151,13,4154,0,11111,null,null,null,"U=",{"$f":"Q39/(LOG(Q4)/LOG(2))","v":1.0956676218561029E-2},null,null,null,null,"U1=",{"$f":"W39/(LOG(W4)/LOG(2))","v":0},null,null,null,"U2=",{"$f":"AB39/(LOG(AB4)/LOG(2))","v":0},null,null,null,"U3=",{"$f":"AG39/(LOG(AG4)/LOG(2))","v":0},null,null,null,"U4=",{"$f":"AL39/(LOG(AL4)/LOG(2))","v":4.0124464862542931E-2},null,null,null,"U5=",{"$f":"AQ39/(LOG(AQ4)/LOG(2))","v":0},null,null,null,"U6=",{"$f":"AV39/(LOG(AV4)/LOG(2))","v":4.0124464862542931E-2}]
[12,4255,13,4259,13,4263,14,4267,13,4272,0,11111]
[12,4375,13,4379,13,4383,14,4387,13,4391,1,11111]
[12,4490,13,4494,13,4498,14,4503,13,4507,0,11111,null,"Total Target Seq"]
[12,4619,13,4625,13,4631,14,4645,13,4650,0,11111,null,{"$f":"COUNTIF(L7:L199,G3)","v":0},null,32,32,33,32,32,32]
[12,4751,13,4755,13,4759,14,4763,13,4768,1,11111,null,null,null,"% of reinforcement given in 6 equal intervals based on number of trials "]
[12,4876,13,4880,13,4885,14,4889,13,4898,0,11111,null,null,null,"%_1","%_2","%_3","%_4","%_5","%_6"]
[12,5012,13,5016,13,5020,14,5024,13,5029,0,11111,null,null,"target sequence",{"$f":"$G$3","v":21121},{"$f":"$G$3","v":21121},{"$f":"$G$3","v":21121},{"$f":"$G$3","v":21121},{"$f":"$G$3","v":21121},{"$f":"$G$3","v":21121}]
[12,5130,13,5140,13,5144,14,5148,13,5153,0,11111,null,null,"total reinforcement",{"$f":"U25","v":0},{"$f":"Z25","v":0},{"$f":"AE25","v":0},{"$f":"AJ25","v":0},{"$f":"AO25","v":0},{"$f":"AT25","v":0}]
[12,5254,13,5258,13,5262,14,5266,13,5275,0,11111,null,null,"% target"]
[12,5377,13,5382,13,5386,14,5391,13,5395,0,11111,null,null,"CCRF"]
[12,5517,13,5522,13,5531,14,5540,13,5550,1,11111,null,null,"% CCRf"]
[12,5649,13,5654,13,5662,14,5666,13,5671,0,11111,null,null,"average response rate",{"$f":"J38/P44","v":122.28125},{"$f":"(J70-J38)/Q44","v":127.5625},{"$f":"(J103-J70)/R44","v":123.72727272727273},{"$f":"(J135-J103)/S44","v":123.4375},{"$f":"(J167-J135)/T44","v":122.78125},{"$f":"(J199-J167)/U44","v":126.28125}]
[12,5778,13,5783,13,5787,14,5795,13,5799,0,11111]
[12,5903,13,5907,13,5917,14,5922,13,5936,0,11111]
[12,6036,13,6040,13,6044,14,6048,13,6052,1,11111]
[12,6149,13,6160,13,6165,14,6169,13,6173,0,11111]
[12,6276,13,6280,13,6285,14,6289,13,6298,0,11111]
[12,6398,13,6403,13,6408,14,6411,13,6416,0,11111]
[12,6522,13,6526,13,6530,14,6539,13,6549,0,11111]
[12,6654,13,6658,13,6662,14,6667,13,6671,0,11111]
[12,6789,13,6797,13,6800,14,6809,13,6814,0,11111]
[12,6914,13,6918,13,6922,14,6926,13,6930,0,11111]
[12,7033,13,7037,13,7041,14,7048,13,7053,0,11111]
[12,7157,13,7161,13,7165,14,7170,13,7177,0,11111]
[12,7290,13,7294,13,7299,14,7304,13,7311,0,11111]
[12,7420,13,7425,13,7430,14,7435,13,7440,1,11111]
[12,7550,13,7558,13,7567,14,7590,13,7594,1,11111]
[12,7706,13,7710,13,7714,14,7718,13,7732,0,11111]
[12,7833,13,7837,13,7841,14,7845,13,7859,0,11111]
[12,7964,13,7968,13,7972,14,7980,13,7995,0,11111]
[12,8103,13,8107,13,8111,14,8115,13,8120,0,11111]
[12,8230,13,8234,13,8238,14,8242,13,8247,0,11111]
[12,8351,13,8355,13,8359,14,8363,13,8367,0,11111]
[12,8468,13,8473,13,8476,14,8480,13,8484,0,11111]
[12,8586,13,8590,13,8594,14,8598,13,8602,1,11111]
[12,8701,13,8706,13,8720,14,8726,13,8733,0,11111]
[12,8839,13,8843,13,8847,14,8851,13,8855,0,11111]
[12,8955,13,8960,13,8964,14,8968,13,8971,0,11111]
[12,9072,13,9077,13,9081,14,9085,13,9089,1,11111]
[12,9191,13,9195,13,9199,14,9202,13,9207,0,11111]
[12,9312,13,9316,13,9321,14,9325,13,9329,0,11111]
[12,9436,13,9440,13,9444,14,9449,13,9453,1,11111]
[12,9563,13,9567,13,9571,14,9575,13,9579,0,11111]
[12,9680,13,9684,13,9688,14,9694,13,9698,0,11111]
[12,9814,13,9818,13,9822,14,9826,13,9830,0,11111]
[12,9930,13,9934,13,9938,14,9942,13,9947,0,11111]
[12,10048,13,10052,13,10056,14,10060,13,10065,0,11111]
[12,10166,13,10170,13,10174,14,10182,13,10187,1,11111]
[12,10285,13,10289,13,10293,14,10297,13,10302,0,11111]
[12,10421,13,10426,13,10430,14,10435,13,10440,0,11111]
[12,10544,13,10548,13,10553,14,10557,13,10561,0,11111]
[12,10668,13,10675,13,10679,14,10683,13,10694,0,11111]
[12,10806,13,10810,13,10818,14,10822,13,10831,0,11111]
[12,10934,13,10937,13,10941,14,10948,13,10953,0,11111]
[12,11062,13,11067,13,11080,14,11084,13,11099,0,11111]
[12,11201,13,11205,13,11208,14,11213,13,11217,0,11111]
[12,11318,13,11322,13,11325,14,11329,13,11334,0,11111]
[12,11442,13,11445,13,11449,14,11453,13,11459,0,11111]
[12,11561,13,11565,13,11569,14,11573,13,11577,0,11111]
[12,11684,13,11688,13,11697,14,11703,13,11709,1,11111]
[12,11806,13,11811,13,11815,14,11819,13,11824,0,11111]
[12,11928,13,11932,13,11936,14,11941,13,11950,0,11111]
[12,12051,13,12059,13,12064,14,12068,13,12078,0,11111]
[12,12186,13,12190,13,12194,14,12199,13,12204,0,11111]
[12,12309,13,12314,13,12323,14,12329,13,12333,0,11111]
[12,12434,13,12438,13,12442,14,12447,13,12451,0,11111]
[12,12551,13,12555,13,12559,14,12563,13,12567,0,11111]
[12,12679,13,12684,13,12687,14,12692,13,12697,1,11111]
[12,12794,13,12798,13,12803,14,12807,13,12811,0,11111]
[12,12921,13,12925,13,12929,14,12933,13,12937,0,11111]
[12,13040,13,13044,13,13048,14,13052,13,13056,0,11111]
[12,13168,13,13172,13,13177,14,13186,13,13191,0,11111]
[12,13292,13,13297,13,13300,14,13307,13,13311,1,11111]
[12,13410,13,13415,13,13419,14,13423,13,13452,1,11111]
[12,13564,13,13568,13,13572,14,13576,13,13580,0,11111]
[12,13680,13,13684,13,13688,14,13692,13,13696,0,11111]
[12,13795,13,13799,13,13803,14,13807,13,13815,1,11111]
[21,13931,22,13936,24,13942,23,13949,24,13957,0,22222]
[12,14056,13,14060,13,14064,14,14068,13,14078,0,11111]
[12,14177,13,14181,13,14185,14,14189,13,14193,0,11111]
[12,14294,13,14301,13,14306,14,14310,13,14320,0,11111]
[12,14421,13,14424,13,14428,14,14432,13,14437,1,11111]
[12,14532,13,14537,13,14541,14,14545,13,14551,0,11111]
[12,14650,13,14659,13,14667,14,14672,13,14677,0,11111]
[12,14780,13,14784,13,14788,14,14792,13,14797,0,11111]
[12,14899,13,14903,13,14907,14,14911,13,14925,0,11111]
[12,15033,13,15038,13,15042,14,15046,13,15051,1,11111]
[12,15150,13,15155,13,15166,14,15170,13,15176,0,11111]
[12,15279,13,15283,13,15287,14,15291,13,15295,0,11111]
[12,15395,13,15399,13,15404,14,15408,13,15412,0,11111]
[12,15516,13,15521,13,15525,14,15529,13,15539,0,11111]
[12,15642,13,15646,13,15651,14,15655,13,15659,0,11111]
[12,15760,13,15764,13,15768,14,15777,13,15782,1,11111]
[12,15883,13,15887,13,15891,14,15899,13,15904,0,11111]
[12,16007,13,16011,13,16014,14,16019,13,16028,0,11111]
[12,16128,13,16132,13,16136,14,16140,13,16144,1,11111]
[12,16239,13,16243,13,16247,14,16251,13,16255,0,11111]
[12,16355,13,16359,13,16363,14,16368,13,16373,0,11111]
[12,16472,13,16477,13,16480,14,16485,13,16490,1,11111]
[12,16597,13,16601,13,16605,14,16610,13,16614,0,11111]
[12,16712,13,16717,13,16721,14,16725,13,16728,0,11111]
[12,16831,13,16836,13,16839,14,16844,13,16848,1,11111]
[12,16956,13,16964,13,16968,14,16973,13,16987,0,11111]
[12,17088,13,17093,13,17097,14,17101,13,17105,0,11111]
[12,17214,13,17217,13,17222,14,17234,13,17238,0,11111]
[12,17339,13,17343,13,17352,14,17357,13,17362,0,11111]
[12,17465,13,17468,13,17472,14,17476,13,17482,0,11111]
[12,17584,13,17587,13,17591,14,17600,13,17604,0,11111]
[12,17705,13,17709,13,17718,14,17723,13,17736,0,11111]
[12,17836,13,17840,13,17844,14,17849,13,17854,1,11111]
[12,17952,13,17956,13,17961,14,17965,13,17975,0,11111]
[12,18077,13,18080,13,18085,14,18089,13,18098,0,11111]
[12,18200,13,18204,13,18208,14,18212,13,18216,0,11111]
[12,18329,13,18333,13,18337,14,18341,13,18345,0,11111]
[12,18460,13,18465,13,18469,14,18475,13,18480,0,11111]
[12,18577,13,18581,13,18587,14,18591,13,18595,1,11111]
[12,18695,13,18699,13,18703,14,18708,13,18721,0,11111]
[12,18822,13,18826,13,18830,14,18834,13,18839,0,11111]
[12,18939,13,18942,13,18947,14,18951,13,18955,0,11111]
[12,19056,13,19061,13,19065,14,19074,13,19083,0,11111]
[12,19184,13,19188,13,19192,14,19195,13,19200,0,11111]
[12,19303,13,19307,13,19311,14,19315,13,19320,0,11111]
[12,19426,13,19429,13,19434,14,19438,13,19443,0,11111]
[12,19543,13,19547,13,19551,14,19555,13,19560,0,11111]
[12,19674,13,19678,13,19687,14,19698,13,19703,1,11111]
[12,19804,13,19809,13,19813,14,19821,13,19830,1,11111]
[12,19934,13,19938,13,19947,14,19952,13,19957,0,11111]
[12,20057,13,20061,13,20065,14,20069,13,20073,0,11111]
[12,20199,13,20204,13,20208,14,20213,13,20223,0,11111]
[12,20337,13,20341,13,20345,14,20349,13,20353,1,11111]
[12,20452,13,20456,13,20460,14,20464,13,20469,0,11111]
[12,20572,13,20576,13,20580,14,20585,13,20594,0,11111]
[12,20694,13,20698,13,20702,14,20706,13,20710,0,11111]
[12,20825,13,20830,13,20834,14,20838,13,20842,1,11111]
[12,20938,13,20942,13,20946,14,20955,13,20959,0,11111]
[12,21066,13,21070,13,21079,14,21083,13,21089,1,11111]
[12,21192,13,21196,13,21204,14,21213,13,21224,0,11111]
[21,21328,22,21333,24,21338,23,21343,24,21348,0,22222]
[12,21448,13,21453,13,21457,14,21462,13,21466,0,11111]
[12,21573,13,21577,13,21581,14,21585,13,21591,0,11111]
[12,21703,13,21707,13,21711,14,21720,13,21730,0,11111]
[12,21846,13,21851,13,21860,14,21865,13,21871,1,11111]
[12,21978,13,21982,13,21986,14,21991,13,21996,0,11111]
[12,22101,13,22105,13,22109,14,22114,13,22119,0,11111]
[12,22219,13,22224,13,22227,14,22231,13,22235,0,11111]
[12,22340,13,22344,13,22349,14,22355,13,22360,0,11111]
[12,22461,13,22465,13,22469,14,22473,13,22478,0,11111]
[12,22583,13,22587,13,22592,14,22601,13,22607,1,11111]
[12,22717,13,22721,13,22741,14,22749,13,22759,0,11111]
[12,22860,13,22866,13,22870,14,22880,13,22890,0,11111]
[12,22989,13,22993,13,22997,14,23001,13,23005,0,11111]
[12,23106,13,23110,13,23114,14,23118,13,23123,0,11111]
[12,23233,13,23239,13,23247,14,23252,13,23258,0,11111]
[12,23364,13,23368,13,23373,14,23377,13,23381,0,11111]
[12,23483,13,23487,13,23491,14,23496,13,23510,1,11111]
[12,23614,13,23619,13,23623,14,23628,13,23633,0,11111]
[12,23733,13,23737,13,23745,14,23749,13,23756,0,11111]
[12,23856,13,23860,13,23864,14,23868,13,23872,0,11111]
[12,23976,13,23980,13,23984,14,23993,13,23998,null,11111]

{"sheet":"!MC30820.010","index":30,"n_rows":192,"n_cols":48,"rows_kept":192,"cut":false,"hidden":false,"merged":[[4,39,4,42],[5,39,5,40],[4,44,4,47],[5,44,5,45],[4,24,4,27],[5,24,5,25],[4,29,4,32],[5,29,5,30],[4,34,4,37],[5,34,5,35],[1,1,1,2],[5,13,5,14],[42,13,42,14],[43,13,43,14],[4,19,4,22],[5,19,5,20]]}
["Report for:!MC30820.010"]
["Date:","<date>"]
["Hen:","<hen>",null,null,null,"Correct Sequence",{"$f":"Start!J2","v":21121},null,null,null,null,null,null,null,null,"Total Sequences in Data",{"$f":"4994-COUNTBLANK(L7:L5000)","v":186},null,null,null,null,"Total Sequences in Block Data",{"$f":"COUNTA(L7:L37)","v":31},null,null,null,"Total Sequences in Block Data",{"$f":"COUNTA(L38:L68)","v":31},null,null,null,"Total Sequences in Block Data",{"$f":"COUNTA(L69:L99)","v":31},null,null,null,"Total Sequences in Block Data",{"$f":"COUNTA(L100:L130)","v":31},null,null,null,"Total Sequences in Block Data",{"$f":"COUNTA(L131:L161)","v":31},null,null,null,"Total Sequences in Block Data",{"$f":"COUNTA(L162:L192)","v":31}]
[null,null,null,null,null,null,null,null,null,null,null,null,null,null,null,"Total Sequences in Summary",{"$f":"SUM(O7:O38)","v":185},null,null,null,null,"Total Sequences in Block Summary",{"$f":"SUM(U7:U38)","v":31},null,null,null,"Total Sequences in Block Summary",{"$f":"SUM(Z7:Z38)","v":31},null,null,null,"Total Sequences in Block Summary",{"$f":"SUM(AE7:AE38)","v":31},null,null,null,"Total Sequences in Block Summary",{"$f":"SUM(AJ7:AJ38)","v":31},null,null,null,"Total Sequences in Block Summary",{"$f":"SUM(AO7:AO38)","v":31},null,null,null,"Total Sequences in Block Summary",{"$f":"SUM(AT7:AT38)","v":30}]
[null,null,null,null,null,null,null,null,null,null,null,null,null,null,null,null,null,null,null,"Block 1",null,null,null,null,"Block 2",null,null,null,null,"Block 3",null,null,null,null,"Block 4",null,null,null,null,"Block 5",null,null,null,null,"Block 6"]
["Sequence\nComponent\n1","Time\n1","Sequence\nComponent\n2","Time\n2","Sequence\nComponent\n3","Time\n3","Sequence\nComponent\n4","Time\n4","Sequence\nComponent\n5","Time\n5","Correct?\n0=No 1=Yes","Sequence",null,"Frequency",null,"Relative Frequency","Variability",null,null,"Frequency",null,"Relative Frequency","Variability",null,"Frequency",null,"Relative Frequency","Variability",null,"Frequency",null,"Relative Frequency","Variability",null,"Frequency",null,"Relative Frequency","Variability",null,"Frequency",null,"Relative Frequency","Variability",null,"Frequency",null,"Relative Frequency","Variability"]
[12,21,13,29,13,34,14,39,13,48,0,11111,null,11111,{"$f":"COUNTIF($L$7:$L$500,N7)","v":172},{"$f":"O7/$Q$4","v":0.92972972972972978},{"$f":"IF(P7=0,0,(P7*((LOG(P7))/LOG(2))))","v":-9.7730126486728797E-2},null,null,{"$f":"N7","v":11111},{"$f":"COUNTIF(L7:L37,T7)","v":25},{"$f":"U7/(W4-U25)","v":0.80645161290322576},{"$f":"IF(V7=0,0,(V7*((LOG(V7))/LOG(2))))","v":-0.25027429081625047},null,{"$f":"N7","v":11111},{"$f":"COUNTIF(L38:L68,Y7)","v":30},{"$f":"Z7/(AB4-Z25)","v":0.967741935483871},{"$f":"IF(AA7=0,0,(AA7*((LOG(AA7))/LOG(2))))","v":-4.5779723979054811E-2},null,{"$f":"N7","v":11111},{"$f":"COUNTIF(L69:L99,AD7)","v":29},{"$f":"AE7/(AG4-AE25)","v":0.93548387096774188},{"$f":"IF(AF7=0,0,(AF7*((LOG(AF7))/LOG(2))))","v":-9.0007875565154577E-2},null,{"$f":"N7","v":11111},{"$f":"COUNTIF(L100:L130,AI7)","v":31},{"$f":"AJ7/(AL4-AJ25)","v":1},{"$f":"IF(AK7=0,0,(AK7*((LOG(AK7))/LOG(2))))","v":0},null,{"$f":"N7","v":11111},{"$f":"COUNTIF(L131:L161,AN7)","v":30},{"$f":"AO7/(AQ4-AO25)","v":0.967741935483871},{"$f":"IF(AP7=0,0,(AP7*((LOG(AP7))/LOG(2))))","v":-4.5779723979054811E-2},null,{"$f":"N7","v":11111},{"$f":"COUNTIF(L162:L192,AS7)","v":27},{"$f":"AT7/(AV4-AT25)","v":0.9},{"$f":"IF(AU7=0,0,(AU7*((LOG(AU7))/LOG(2))))","v":-0.13680278410054494}]
[12,153,13,166,13,170,14,175,13,180,0,11111,null,11112,{"$f":"COUNTIF($L$7:$L$500,N8)","v":0},{"$f":"O8/$Q$4","v":0},{"$f":"IF(P8=0,0,(P8*((LOG(P8))/LOG(2))))","v":0},null,null,{"$f":"N8","v":11112},{"$f":"COUNTIF(L7:L37,T8)","v":0},{"$f":"U8/(W4-U25)","v":0},{"$f":"IF(V8=0,0,(V8*((LOG(V8))/LOG(2))))","v":0},null,{"$f":"N8","v":11112},{"$f":"COUNTIF(L38:L68,Y8)","v":0},{"$f":"Z8/(AB4-Z25)","v":0},{"$f":"IF(AA8=0,0,(AA8*((LOG(AA8))/LOG(2))))","v":0},null,{"$f":"N8","v":11112},{"$f":"COUNTIF(L69:L99,AD8)","v":0},{"$f":"AE8/(AG4-AE25)","v":0},{"$f":"IF(AF8=0,0,(AF8*((LOG(AF8))/LOG(2))))","v":0},null,{"$f":"N8","v":11112},{"$f":"COUNTIF(L100:L130,AI8)","v":0},{"$f":"AJ8/(AL4-AJ25)","v":0},{"$f":"IF(AK8=0,0,(AK8*((LOG(AK8))/LOG(2))))","v":0},null,{"$f":"N8","v":11112},{"$f":"COUNTIF(L131:L161,AN8)","v":0},{"$f":"AO8/(AQ4-AO25)","v":0},{"$f":"IF(AP8=0,0,(AP8*((LOG(AP8))/LOG(2))))","v":0},null,{"$f":"N8","v":11112},{"$f":"COUNTIF(L162:L192,AS8)","v":0},{"$f":"AT8/(AV4-AT25)","v":0},{"$f":"IF(AU8=0,0,(AU8*((LOG(AU8))/LOG(2))))","v":0}]
[21,288,22,293,24,298,23,303,24,314,0,22222,null,11121,{"$f":"COUNTIF($L$7:$L$500,N9)","v":0},{"$f":"O9/$Q$4","v":0},{"$f":"IF(P9=0,0,(P9*((LOG(P9))/LOG(2))))","v":0},null,null,{"$f":"N9","v":11121},{"$f":"COUNTIF(L7:L37,T9)","v":0},{"$f":"U9/(W4-U25)","v":0},{"$f":"IF(V9=0,0,(V9*((LOG(V9))/LOG(2))))","v":0},null,{"$f":"N9","v":11121},{"$f":"COUNTIF(L38:L68,Y9)","v":0},{"$f":"Z9/(AB4-Z25)","v":0},{"$f":"IF(AA9=0,0,(AA9*((LOG(AA9))/LOG(2))))","v":0},null,{"$f":"N9","v":11121},{"$f":"COUNTIF(L69:L99,AD9)","v":0},{"$f":"AE9/(AG4-AE25)","v":0},{"$f":"IF(AF9=0,0,(AF9*((LOG(AF9))/LOG(2))))","v":0},null,{"$f":"N9","v":11121},{"$f":"COUNTIF(L100:L130,AI9)","v":0},{"$f":"AJ9/(AL4-AJ25)","v":0},{"$f":"IF(AK9=0,0,(AK9*((LOG(AK9))/LOG(2))))","v":0},null,{"$f":"N9","v":11121},{"$f":"COUNTIF(L131:L161,AN9)","v":0},{"$f":"AO9/(AQ4-AO25)","v":0},{"$f":"IF(AP9=0,0,(AP9*((LOG(AP9))/LOG(2))))","v":0},null,{"$f":"N9","v":11121},{"$f":"COUNTIF(L162:L192,AS9)","v":0},{"$f":"AT9/(AV4-AT25)","v":0},{"$f":"IF(AU9=0,0,(AU9*((LOG(AU9))/LOG(2))))","v":0}]
[21,419,22,439,24,455,23,466,24,480,0,22222,null,11122,{"$f":"COUNTIF($L$7:$L$500,N10)","v":0},{"$f":"O10/$Q$4","v":0},{"$f":"IF(P10=0,0,(P10*((LOG(P10))/LOG(2))))","v":0},null,null,{"$f":"N10","v":11122},{"$f":"COUNTIF(L7:L37,T10)","v":0},{"$f":"U10/(W4-U25)","v":0},{"$f":"IF(V10=0,0,(V10*((LOG(V10))/LOG(2))))","v":0},null,{"$f":"N10","v":11122},{"$f":"COUNTIF(L38:L68,Y10)","v":0},{"$f":"Z10/(AB4-Z25)","v":0},{"$f":"IF(AA10=0,0,(AA10*((LOG(AA10))/LOG(2))))","v":0},null,{"$f":"N10","v":11122},{"$f":"COUNTIF(L69:L99,AD10)","v":0},{"$f":"AE10/(AG4-AE25)","v":0},{"$f":"IF(AF10=0,0,(AF10*((LOG(AF10))/LOG(2))))","v":0},null,{"$f":"N10","v":11122},{"$f":"COUNTIF(L100:L130,AI10)","v":0},{"$f":"AJ10/(AL4-AJ25)","v":0},{"$f":"IF(AK10=0,0,(AK10*((LOG(AK10))/LOG(2))))","v":0},null,{"$f":"N10","v":11122},{"$f":"COUNTIF(L131:L161,AN10)","v":0},{"$f":"AO10/(AQ4-AO25)","v":0},{"$f":"IF(AP10=0,0,(AP10*((LOG(AP10))/LOG(2))))","v":0},null,{"$f":"N10","v":11122},{"$f":"COUNTIF(L162:L192,AS10)","v":0},{"$f":"AT10/(AV4-AT25)","v":0},{"$f":"IF(AU10=0,0,(AU10*((LOG(AU10))/LOG(2))))","v":0}]
[12,593,13,600,13,610,14,616,13,621,0,11111,null,11211,{"$f":"COUNTIF($L$7:$L$500,N11)","v":0},{"$f":"O11/$Q$4","v":0},{"$f":"IF(P11=0,0,(P11*((LOG(P11))/LOG(2))))","v":0},null,null,{"$f":"N11","v":11211},{"$f":"COUNTIF(L7:L37,T11)","v":0},{"$f":"U11/(W4-U25)","v":0},{"$f":"IF(V11=0,0,(V11*((LOG(V11))/LOG(2))))","v":0},null,{"$f":"N11","v":11211},{"$f":"COUNTIF(L38:L68,Y11)","v":0},{"$f":"Z11/(AB4-Z25)","v":0},{"$f":"IF(AA11=0,0,(AA11*((LOG(AA11))/LOG(2))))","v":0},null,{"$f":"N11","v":11211},{"$f":"COUNTIF(L69:L99,AD11)","v":0},{"$f":"AE11/(AG4-AE25)","v":0},{"$f":"IF(AF11=0,0,(AF11*((LOG(AF11))/LOG(2))))","v":0},null,{"$f":"N11","v":11211},{"$f":"COUNTIF(L100:L130,AI11)","v":0},{"$f":"AJ11/(AL4-AJ25)","v":0},{"$f":"IF(AK11=0,0,(AK11*((LOG(AK11))/LOG(2))))","v":0},null,{"$f":"N11","v":11211},{"$f":"COUNTIF(L131:L161,AN11)","v":0},{"$f":"AO11/(AQ4-AO25)","v":0},{"$f":"IF(AP11=0,0,(AP11*((LOG(AP11))/LOG(2))))","v":0},null,{"$f":"N11","v":11211},{"$f":"COUNTIF(L162:L192,AS11)","v":0},{"$f":"AT11/(AV4-AT25)","v":0},{"$f":"IF(AU11=0,0,(AU11*((LOG(AU11))/LOG(2))))","v":0}]
[12,722,13,728,13,733,14,738,13,743,1,11111,null,11212,{"$f":"COUNTIF($L$7:$L$500,N12)","v":0},{"$f":"O12/$Q$4","v":0},{"$f":"IF(P12=0,0,(P12*((LOG(P12))/LOG(2))))","v":0},null,null,{"$f":"N12","v":11212},{"$f":"COUNTIF(L7:L37,T12)","v":0},{"$f":"U12/(W4-U25)","v":0},{"$f":"IF(V12=0,0,(V12*((LOG(V12))/LOG(2))))","v":0},null,{"$f":"N12","v":11212},{"$f":"COUNTIF(L38:L68,Y12)","v":0},{"$f":"Z12/(AB4-Z25)","v":0},{"$f":"IF(AA12=0,0,(AA12*((LOG(AA12))/LOG(2))))","v":0},null,{"$f":"N12","v":11212},{"$f":"COUNTIF(L69:L99,AD12)","v":0},{"$f":"AE12/(AG4-AE25)","v":0},{"$f":"IF(AF12=0,0,(AF12*((LOG(AF12))/LOG(2))))","v":0},null,{"$f":"N12","v":11212},{"$f":"COUNTIF(L100:L130,AI12)","v":0},{"$f":"AJ12/(AL4-AJ25)","v":0},{"$f":"IF(AK12=0,0,(AK12*((LOG(AK12))/LOG(2))))","v":0},null,{"$f":"N12","v":11212},{"$f":"COUNTIF(L131:L161,AN12)","v":0},{"$f":"AO12/(AQ4-AO25)","v":0},{"$f":"IF(AP12=0,0,(AP12*((LOG(AP12))/LOG(2))))","v":0},null,{"$f":"N12","v":11212},{"$f":"COUNTIF(L162:L192,AS12)","v":0},{"$f":"AT12/(AV4-AT25)","v":0},{"$f":"IF(AU12=0,0,(AU12*((LOG(AU12))/LOG(2))))","v":0}]
[12,840,13,853,13,857,14,862,13,867,0,11111,null,11221,{"$f":"COUNTIF($L$7:$L$500,N13)","v":0},{"$f":"O13/$Q$4","v":0},{"$f":"IF(P13=0,0,(P13*((LOG(P13))/LOG(2))))","v":0},null,null,{"$f":"N13","v":11221},{"$f":"COUNTIF(L7:L37,T13)","v":0},{"$f":"U13/(W4-U25)","v":0},{"$f":"IF(V13=0,0,(V13*((LOG(V13))/LOG(2))))","v":0},null,{"$f":"N13","v":11221},{"$f":"COUNTIF(L38:L68,Y13)","v":0},{"$f":"Z13/(AB4-Z25)","v":0},{"$f":"IF(AA13=0,0,(AA13*((LOG(AA13))/LOG(2))))","v":0},null,{"$f":"N13","v":11221},{"$f":"COUNTIF(L69:L99,AD13)","v":0},{"$f":"AE13/(AG4-AE25)","v":0},{"$f":"IF(AF13=0,0,(AF13*((LOG(AF13))/LOG(2))))","v":0},null,{"$f":"N13","v":11221},{"$f":"COUNTIF(L100:L130,AI13)","v":0},{"$f":"AJ13/(AL4-AJ25)","v":0},{"$f":"IF(AK13=0,0,(AK13*((LOG(AK13))/LOG(2))))","v":0},null,{"$f":"N13","v":11221},{"$f":"COUNTIF(L131:L161,AN13)","v":0},{"$f":"AO13/(AQ4-AO25)","v":0},{"$f":"IF(AP13=0,0,(AP13*((LOG(AP13))/LOG(2))))","v":0},null,{"$f":"N13","v":11221},{"$f":"COUNTIF(L162:L192,AS13)","v":0},{"$f":"AT13/(AV4-AT25)","v":0},{"$f":"IF(AU13=0,0,(AU13*((LOG(AU13))/LOG(2))))","v":0}]
[12,976,24,986,24,995,23,1000,24,1005,0,12222,null,11222,{"$f":"COUNTIF($L$7:$L$500,N14)","v":0},{"$f":"O14/$Q$4","v":0},{"$f":"IF(P14=0,0,(P14*((LOG(P14))/LOG(2))))","v":0},null,null,{"$f":"N14","v":11222},{"$f":"COUNTIF(L7:L37,T14)","v":0},{"$f":"U14/(W4-U25)","v":0},{"$f":"IF(V14=0,0,(V14*((LOG(V14))/LOG(2))))","v":0},null,{"$f":"N14","v":11222},{"$f":"COUNTIF(L38:L68,Y14)","v":0},{"$f":"Z14/(AB4-Z25)","v":0},{"$f":"IF(AA14=0,0,(AA14*((LOG(AA14))/LOG(2))))","v":0},null,{"$f":"N14","v":11222},{"$f":"COUNTIF(L69:L99,AD14)","v":0},{"$f":"AE14/(AG4-AE25)","v":0},{"$f":"IF(AF14=0,0,(AF14*((LOG(AF14))/LOG(2))))","v":0},null,{"$f":"N14","v":11222},{"$f":"COUNTIF(L100:L130,AI14)","v":0},{"$f":"AJ14/(AL4-AJ25)","v":0},{"$f":"IF(AK14=0,0,(AK14*((LOG(AK14))/LOG(2))))","v":0},null,{"$f":"N14","v":11222},{"$f":"COUNTIF(L131:L161,AN14)","v":0},{"$f":"AO14/(AQ4-AO25)","v":0},{"$f":"IF(AP14=0,0,(AP14*((LOG(AP14))/LOG(2))))","v":0},null,{"$f":"N14","v":11222},{"$f":"COUNTIF(L162:L192,AS14)","v":0},{"$f":"AT14/(AV4-AT25)","v":0},{"$f":"IF(AU14=0,0,(AU14*((LOG(AU14))/LOG(2))))","v":0}]
[12,1109,13,1113,13,1118,14,1123,13,1128,0,11111,null,12111,{"$f":"COUNTIF($L$7:$L$500,N15)","v":0},{"$f":"O15/$Q$4","v":0},{"$f":"IF(P15=0,0,(P15*((LOG(P15))/LOG(2))))","v":0},null,null,{"$f":"N15","v":12111},{"$f":"COUNTIF(L7:L37,T15)","v":0},{"$f":"U15/(W4-U25)","v":0},{"$f":"IF(V15=0,0,(V15*((LOG(V15))/LOG(2))))","v":0},null,{"$f":"N15","v":12111},{"$f":"COUNTIF(L38:L68,Y15)","v":0},{"$f":"Z15/(AB4-Z25)","v":0},{"$f":"IF(AA15=0,0,(AA15*((LOG(AA15))/LOG(2))))","v":0},null,{"$f":"N15","v":12111},{"$f":"COUNTIF(L69:L99,AD15)","v":0},{"$f":"AE15/(AG4-AE25)","v":0},{"$f":"IF(AF15=0,0,(AF15*((LOG(AF15))/LOG(2))))","v":0},null,{"$f":"N15","v":12111},{"$f":"COUNTIF(L100:L130,AI15)","v":0},{"$f":"AJ15/(AL4-AJ25)","v":0},{"$f":"IF(AK15=0,0,(AK15*((LOG(AK15))/LOG(2))))","v":0},null,{"$f":"N15","v":12111},{"$f":"COUNTIF(L131:L161,AN15)","v":0},{"$f":"AO15/(AQ4-AO25)","v":0},{"$f":"IF(AP15=0,0,(AP15*((LOG(AP15))/LOG(2))))","v":0},null,{"$f":"N15","v":12111},{"$f":"COUNTIF(L162:L192,AS15)","v":0},{"$f":"AT15/(AV4-AT25)","v":0},{"$f":"IF(AU15=0,0,(AU15*((LOG(AU15))/LOG(2))))","v":0}]
[12,1234,13,1239,13,1244,14,1249,13,1257,0,11111,null,12112,{"$f":"COUNTIF($L$7:$L$500,N16)","v":0},{"$f":"O16/$Q$4","v":0},{"$f":"IF(P16=0,0,(P16*((LOG(P16))/LOG(2))))","v":0},null,null,{"$f":"N16","v":12112},{"$f":"COUNTIF(L7:L37,T16)","v":0},{"$f":"U16/(W4-U25)","v":0},{"$f":"IF(V16=0,0,(V16*((LOG(V16))/LOG(2))))","v":0},null,{"$f":"N16","v":12112},{"$f":"COUNTIF(L38:L68,Y16)","v":0},{"$f":"Z16/(AB4-Z25)","v":0},{"$f":"IF(AA16=0,0,(AA16*((LOG(AA16))/LOG(2))))","v":0},null,{"$f":"N16","v":12112},{"$f":"COUNTIF(L69:L99,AD16)","v":0},{"$f":"AE16/(AG4-AE25)","v":0},{"$f":"IF(AF16=0,0,(AF16*((LOG(AF16))/LOG(2))))","v":0},null,{"$f":"N16","v":12112},{"$f":"COUNTIF(L100:L130,AI16)","v":0},{"$f":"AJ16/(AL4-AJ25)","v":0},{"$f":"IF(AK16=0,0,(AK16*((LOG(AK16))/LOG(2))))","v":0},null,{"$f":"N16","v":12112},{"$f":"COUNTIF(L131:L161,AN16)","v":0},{"$f":"AO16/(AQ4-AO25)","v":0},{"$f":"IF(AP16=0,0,(AP16*((LOG(AP16))/LOG(2))))","v":0},null,{"$f":"N16","v":12112},{"$f":"COUNTIF(L162:L192,AS16)","v":0},{"$f":"AT16/(AV4-AT25)","v":0},{"$f":"IF(AU16=0,0,(AU16*((LOG(AU16))/LOG(2))))","v":0}]
[12,1364,13,1369,13,1373,14,1378,13,1383,1,11111,null,12121,{"$f":"COUNTIF($L$7:$L$500,N17)","v":0},{"$f":"O17/$Q$4","v":0},{"$f":"IF(P17=0,0,(P17*((LOG(P17))/LOG(2))))","v":0},null,null,{"$f":"N17","v":12121},{"$f":"COUNTIF(L7:L37,T17)","v":0},{"$f":"U17/(W4-U25)","v":0},{"$f":"IF(V17=0,0,(V17*((LOG(V17))/LOG(2))))","v":0},null,{"$f":"N17","v":12121},{"$f":"COUNTIF(L38:L68,Y17)","v":0},{"$f":"Z17/(AB4-Z25)","v":0},{"$f":"IF(AA17=0,0,(AA17*((LOG(AA17))/LOG(2))))","v":0},null,{"$f":"N17","v":12121},{"$f":"COUNTIF(L69:L99,AD17)","v":0},{"$f":"AE17/(AG4-AE25)","v":0},{"$f":"IF(AF17=0,0,(AF17*((LOG(AF17))/LOG(2))))","v":0},null,{"$f":"N17","v":12121},{"$f":"COUNTIF(L100:L130,AI17)","v":0},{"$f":"AJ17/(AL4-AJ25)","v":0},{"$f":"IF(AK17=0,0,(AK17*((LOG(AK17))/LOG(2))))","v":0},null,{"$f":"N17","v":12121},{"$f":"COUNTIF(L131:L161,AN17)","v":0},{"$f":"AO17/(AQ4-AO25)","v":0},{"$f":"IF(AP17=0,0,(AP17*((LOG(AP17))/LOG(2))))","v":0},null,{"$f":"N17","v":12121},{"$f":"COUNTIF(L162:L192,AS17)","v":0},{"$f":"AT17/(AV4-AT25)","v":0},{"$f":"IF(AU17=0,0,(AU17*((LOG(AU17))/LOG(2))))","v":0}]
[12,1492,13,1503,13,1508,14,1546,13,1570,0,11111,null,12122,{"$f":"COUNTIF($L$7:$L$500,N18)","v":0},{"$f":"O18/$Q$4","v":0},{"$f":"IF(P18=0,0,(P18*((LOG(P18))/LOG(2))))","v":0},null,null,{"$f":"N18","v":12122},{"$f":"COUNTIF(L7:L37,T18)","v":0},{"$f":"U18/(W4-U25)","v":0},{"$f":"IF(V18=0,0,(V18*((LOG(V18))/LOG(2))))","v":0},null,{"$f":"N18","v":12122},{"$f":"COUNTIF(L38:L68,Y18)","v":0},{"$f":"Z18/(AB4-Z25)","v":0},{"$f":"IF(AA18=0,0,(AA18*((LOG(AA18))/LOG(2))))","v":0},null,{"$f":"N18","v":12122},{"$f":"COUNTIF(L69:L99,AD18)","v":0},{"$f":"AE18/(AG4-AE25)","v":0},{"$f":"IF(AF18=0,0,(AF18*((LOG(AF18))/LOG(2))))","v":0},null,{"$f":"N18","v":12122},{"$f":"COUNTIF(L100:L130,AI18)","v":0},{"$f":"AJ18/(AL4-AJ25)","v":0},{"$f":"IF(AK18=0,0,(AK18*((LOG(AK18))/LOG(2))))","v":0},null,{"$f":"N18","v":12122},{"$f":"COUNTIF(L131:L161,AN18)","v":0},{"$f":"AO18/(AQ4-AO25)","v":0},{"$f":"IF(AP18=0,0,(AP18*((LOG(AP18))/LOG(2))))","v":0},null,{"$f":"N18","v":12122},{"$f":"COUNTIF(L162:L192,AS18)","v":0},{"$f":"AT18/(AV4-AT25)","v":0},{"$f":"IF(AU18=0,0,(AU18*((LOG(AU18))/LOG(2))))","v":0}]
[12,1670,13,1676,13,1686,14,1700,13,1711,1,11111,null,12211,{"$f":"COUNTIF($L$7:$L$500,N19)","v":0},{"$f":"O19/$Q$4","v":0},{"$f":"IF(P19=0,0,(P19*((LOG(P19))/LOG(2))))","v":0},null,null,{"$f":"N19","v":12211},{"$f":"COUNTIF(L7:L37,T19)","v":0},{"$f":"U19/(W4-U25)","v":0},{"$f":"IF(V19=0,0,(V19*((LOG(V19))/LOG(2))))","v":0},null,{"$f":"N19","v":12211},{"$f":"COUNTIF(L38:L68,Y19)","v":0},{"$f":"Z19/(AB4-Z25)","v":0},{"$f":"IF(AA19=0,0,(AA19*((LOG(AA19))/LOG(2))))","v":0},null,{"$f":"N19","v":12211},{"$f":"COUNTIF(L69:L99,AD19)","v":0},{"$f":"AE19/(AG4-AE25)","v":0},{"$f":"IF(AF19=0,0,(AF19*((LOG(AF19))/LOG(2))))","v":0},null,{"$f":"N19","v":12211},{"$f":"COUNTIF(L100:L130,AI19)","v":0},{"$f":"AJ19/(AL4-AJ25)","v":0},{"$f":"IF(AK19=0,0,(AK19*((LOG(AK19))/LOG(2))))","v":0},null,{"$f":"N19","v":12211},{"$f":"COUNTIF(L131:L161,AN19)","v":0},{"$f":"AO19/(AQ4-AO25)","v":0},{"$f":"IF(AP19=0,0,(AP19*((LOG(AP19))/LOG(2))))","v":0},null,{"$f":"N19","v":12211},{"$f":"COUNTIF(L162:L192,AS19)","v":0},{"$f":"AT19/(AV4-AT25)","v":0},{"$f":"IF(AU19=0,0,(AU19*((LOG(AU19))/LOG(2))))","v":0}]
[12,1812,24,1833,24,1877,23,1882,24,1913,0,12222,null,12212,{"$f":"COUNTIF($L$7:$L$500,N20)","v":0},{"$f":"O20/$Q$4","v":0},{"$f":"IF(P20=0,0,(P20*((LOG(P20))/LOG(2))))","v":0},null,null,{"$f":"N20","v":12212},{"$f":"COUNTIF(L7:L37,T20)","v":0},{"$f":"U20/(W4-U25)","v":0},{"$f":"IF(V20=0,0,(V20*((LOG(V20))/LOG(2))))","v":0},null,{"$f":"N20","v":12212},{"$f":"COUNTIF(L38:L68,Y20)","v":0},{"$f":"Z20/(AB4-Z25)","v":0},{"$f":"IF(AA20=0,0,(AA20*((LOG(AA20))/LOG(2))))","v":0},null,{"$f":"N20","v":12212},{"$f":"COUNTIF(L69:L99,AD20)","v":0},{"$f":"AE20/(AG4-AE25)","v":0},{"$f":"IF(AF20=0,0,(AF20*((LOG(AF20))/LOG(2))))","v":0},null,{"$f":"N20","v":12212},{"$f":"COUNTIF(L100:L130,AI20)","v":0},{"$f":"AJ20/(AL4-AJ25)","v":0},{"$f":"IF(AK20=0,0,(AK20*((LOG(AK20))/LOG(2))))","v":0},null,{"$f":"N20","v":12212},{"$f":"COUNTIF(L131:L161,AN20)","v":0},{"$f":"AO20/(AQ4-AO25)","v":0},{"$f":"IF(AP20=0,0,(AP20*((LOG(AP20))/LOG(2))))","v":0},null,{"$f":"N20","v":12212},{"$f":"COUNTIF(L162:L192,AS20)","v":0},{"$f":"AT20/(AV4-AT25)","v":0},{"$f":"IF(AU20=0,0,(AU20*((LOG(AU20))/LOG(2))))","v":0}]
[21,2056,22,2128,24,2141,23,2145,24,2150,0,22222,null,12221,{"$f":"COUNTIF($L$7:$L$500,N21)","v":0},{"$f":"O21/$Q$4","v":0},{"$f":"IF(P21=0,0,(P21*((LOG(P21))/LOG(2))))","v":0},null,null,{"$f":"N21","v":12221},{"$f":"COUNTIF(L7:L37,T21)","v":0},{"$f":"U21/(W4-U25)","v":0},{"$f":"IF(V21=0,0,(V21*((LOG(V21))/LOG(2))))","v":0},null,{"$f":"N21","v":12221},{"$f":"COUNTIF(L38:L68,Y21)","v":0},{"$f":"Z21/(AB4-Z25)","v":0},{"$f":"IF(AA21=0,0,(AA21*((LOG(AA21))/LOG(2))))","v":0},null,{"$f":"N21","v":12221},{"$f":"COUNTIF(L69:L99,AD21)","v":0},{"$f":"AE21/(AG4-AE25)","v":0},{"$f":"IF(AF21=0,0,(AF21*((LOG(AF21))/LOG(2))))","v":0},null,{"$f":"N21","v":12221},{"$f":"COUNTIF(L100:L130,AI21)","v":0},{"$f":"AJ21/(AL4-AJ25)","v":0},{"$f":"IF(AK21=0,0,(AK21*((LOG(AK21))/LOG(2))))","v":0},null,{"$f":"N21","v":12221},{"$f":"COUNTIF(L131:L161,AN21)","v":0},{"$f":"AO21/(AQ4-AO25)","v":0},{"$f":"IF(AP21=0,0,(AP21*((LOG(AP21))/LOG(2))))","v":0},null,{"$f":"N21","v":12221},{"$f":"COUNTIF(L162:L192,AS21)","v":0},{"$f":"AT21/(AV4-AT25)","v":0},{"$f":"IF(AU21=0,0,(AU21*((LOG(AU21))/LOG(2))))","v":0}]
[12,2260,13,2264,13,2276,14,2284,13,2289,0,11111,null,12222,{"$f":"COUNTIF($L$7:$L$500,N22)","v":2},{"$f":"O22/$Q$4","v":1.0810810810810811E-2},{"$f":"IF(P22=0,0,(P22*((LOG(P22))/LOG(2))))","v":-7.0609529302879045E-2},null,null,{"$f":"N22","v":12222},{"$f":"COUNTIF(L7:L37,T22)","v":2},{"$f":"U22/(W4-U25)","v":6.4516129032258063E-2},{"$f":"IF(V22=0,0,(V22*((LOG(V22))/LOG(2))))","v":-0.25510943937979835},null,{"$f":"N22","v":12222},{"$f":"COUNTIF(L38:L68,Y22)","v":0},{"$f":"Z22/(AB4-Z25)","v":0},{"$f":"IF(AA22=0,0,(AA22*((LOG(AA22))/LOG(2))))","v":0},null,{"$f":"N22","v":12222},{"$f":"COUNTIF(L69:L99,AD22)","v":0},{"$f":"AE22/(AG4-AE25)","v":0},{"$f":"IF(AF22=0,0,(AF22*((LOG(AF22))/LOG(2))))","v":0},null,{"$f":"N22","v":12222},{"$f":"COUNTIF(L100:L130,AI22)","v":0},{"$f":"AJ22/(AL4-AJ25)","v":0},{"$f":"IF(AK22=0,0,(AK22*((LOG(AK22))/LOG(2))))","v":0},null,{"$f":"N22","v":12222},{"$f":"COUNTIF(L131:L161,AN22)","v":0},{"$f":"AO22/(AQ4-AO25)","v":0},{"$f":"IF(AP22=0,0,(AP22*((LOG(AP22))/LOG(2))))","v":0},null,{"$f":"N22","v":12222},{"$f":"COUNTIF(L162:L192,AS22)","v":0},{"$f":"AT22/(AV4-AT25)","v":0},{"$f":"IF(AU22=0,0,(AU22*((LOG(AU22))/LOG(2))))","v":0}]
[12,2392,13,2397,13,2403,14,2414,13,2420,0,11111,null,21111,{"$f":"COUNTIF($L$7:$L$500,N23)","v":0},{"$f":"O23/$Q$4","v":0},{"$f":"IF(P23=0,0,(P23*((LOG(P23))/LOG(2))))","v":0},null,null,{"$f":"N23","v":21111},{"$f":"COUNTIF(L7:L37,T23)","v":0},{"$f":"U23/(W4-U25)","v":0},{"$f":"IF(V23=0,0,(V23*((LOG(V23))/LOG(2))))","v":0},null,{"$f":"N23","v":21111},{"$f":"COUNTIF(L38:L68,Y23)","v":0},{"$f":"Z23/(AB4-Z25)","v":0},{"$f":"IF(AA23=0,0,(AA23*((LOG(AA23))/LOG(2))))","v":0},null,{"$f":"N23","v":21111},{"$f":"COUNTIF(L69:L99,AD23)","v":0},{"$f":"AE23/(AG4-AE25)","v":0},{"$f":"IF(AF23=0,0,(AF23*((LOG(AF23))/LOG(2))))","v":0},null,{"$f":"N23","v":21111},{"$f":"COUNTIF(L100:L130,AI23)","v":0},{"$f":"AJ23/(AL4-AJ25)","v":0},{"$f":"IF(AK23=0,0,(AK23*((LOG(AK23))/LOG(2))))","v":0},null,{"$f":"N23","v":21111},{"$f":"COUNTIF(L131:L161,AN23)","v":0},{"$f":"AO23/(AQ4-AO25)","v":0},{"$f":"IF(AP23=0,0,(AP23*((LOG(AP23))/LOG(2))))","v":0},null,{"$f":"N23","v":21111},{"$f":"COUNTIF(L162:L192,AS23)","v":0},{"$f":"AT23/(AV4-AT25)","v":0},{"$f":"IF(AU23=0,0,(AU23*((LOG(AU23))/LOG(2))))","v":0}]
[12,2526,13,2530,13,2538,14,2548,13,2556,0,11111,null,21112,{"$f":"COUNTIF($L$7:$L$500,N24)","v":0},{"$f":"O24/$Q$4","v":0},{"$f":"IF(P24=0,0,(P24*((LOG(P24))/LOG(2))))","v":0},null,null,{"$f":"N24","v":21112},{"$f":"COUNTIF(L7:L37,T24)","v":0},{"$f":"U24/(W4-U25)","v":0},{"$f":"IF(V24=0,0,(V24*((LOG(V24))/LOG(2))))","v":0},null,{"$f":"N24","v":21112},{"$f":"COUNTIF(L38:L68,Y24)","v":0},{"$f":"Z24/(AB4-Z25)","v":0},{"$f":"IF(AA24=0,0,(AA24*((LOG(AA24))/LOG(2))))","v":0},null,{"$f":"N24","v":21112},{"$f":"COUNTIF(L69:L99,AD24)","v":0},{"$f":"AE24/(AG4-AE25)","v":0},{"$f":"IF(AF24=0,0,(AF24*((LOG(AF24))/LOG(2))))","v":0},null,{"$f":"N24","v":21112},{"$f":"COUNTIF(L100:L130,AI24)","v":0},{"$f":"AJ24/(AL4-AJ25)","v":0},{"$f":"IF(AK24=0,0,(AK24*((LOG(AK24))/LOG(2))))","v":0},null,{"$f":"N24","v":21112},{"$f":"COUNTIF(L131:L161,AN24)","v":0},{"$f":"AO24/(AQ4-AO25)","v":0},{"$f":"IF(AP24=0,0,(AP24*((LOG(AP24))/LOG(2))))","v":0},null,{"$f":"N24","v":21112},{"$f":"COUNTIF(L162:L192,AS24)","v":0},{"$f":"AT24/(AV4-AT25)","v":0},{"$f":"IF(AU24=0,0,(AU24*((LOG(AU24))/LOG(2))))","v":0}]
[12,2666,13,2676,13,2680,14,2685,13,2689,1,11111,null,21121,{"$f":"COUNTIF($L$7:$L$500,N25)","v":0},{"$f":"O25/$Q$4","v":0},{"$f":"IF(P25=0,0,(P25*((LOG(P25))/LOG(2))))","v":0},null,null,{"$f":"N25","v":21121},{"$f":"COUNTIF(L7:L37,T25)","v":0},null,null,null,{"$f":"N25","v":21121},{"$f":"COUNTIF(L38:L68,Y25)","v":0},null,null,null,{"$f":"N25","v":21121},{"$f":"COUNTIF(L69:L99,AD25)","v":0},null,null,null,{"$f":"N25","v":21121},{"$f":"COUNTIF(L100:L130,AI25)","v":0},null,null,null,{"$f":"N25","v":21121},{"$f":"COUNTIF(L131:L161,AN25)","v":0},null,null,null,{"$f":"N25","v":21121},{"$f":"COUNTIF(L162:L192,AS25)","v":0}]
[21,2838,22,2851,24,2855,23,2865,24,2870,0,22222,null,21122,{"$f":"COUNTIF($L$7:$L$500,N26)","v":0},{"$f":"O26/$Q$4","v":0},{"$f":"IF(P26=0,0,(P26*((LOG(P26))/LOG(2))))","v":0},null,null,{"$f":"N26","v":21122},{"$f":"COUNTIF(L7:L37,T26)","v":0},{"$f":"U26/(W4-U25)","v":0},{"$f":"IF(V26=0,0,(V26*((LOG(V26))/LOG(2))))","v":0},null,{"$f":"N26","v":21122},{"$f":"COUNTIF(L38:L68,Y26)","v":0},{"$f":"Z26/(AB4-Z25)","v":0},{"$f":"IF(AA26=0,0,(AA26*((LOG(AA26))/LOG(2))))","v":0},null,{"$f":"N26","v":21122},{"$f":"COUNTIF(L69:L99,AD26)","v":0},{"$f":"AE26/(AG4-AE25)","v":0},{"$f":"IF(AF26=0,0,(AF26*((LOG(AF26))/LOG(2))))","v":0},null,{"$f":"N26","v":21122},{"$f":"COUNTIF(L100:L130,AI26)","v":0},{"$f":"AJ26/(AL4-AJ25)","v":0},{"$f":"IF(AK26=0,0,(AK26*((LOG(AK26))/LOG(2))))","v":0},null,{"$f":"N26","v":21122},{"$f":"COUNTIF(L131:L161,AN26)","v":0},{"$f":"AO26/(AQ4-AO25)","v":0},{"$f":"IF(AP26=0,0,(AP26*((LOG(AP26))/LOG(2))))","v":0},null,{"$f":"N26","v":21122},{"$f":"COUNTIF(L162:L192,AS26)","v":0},{"$f":"AT26/(AV4-AT25)","v":0},{"$f":"IF(AU26=0,0,(AU26*((LOG(AU26))/LOG(2))))","v":0}]
[12,2974,13,2984,13,2993,14,2998,13,3002,0,11111,null,21211,{"$f":"COUNTIF($L$7:$L$500,N27)","v":0},{"$f":"O27/$Q$4","v":0},{"$f":"IF(P27=0,0,(P27*((LOG(P27))/LOG(2))))","v":0},null,null,{"$f":"N27","v":21211},{"$f":"COUNTIF(L7:L37,T27)","v":0},{"$f":"U27/(W4-U25)","v":0},{"$f":"IF(V27=0,0,(V27*((LOG(V27))/LOG(2))))","v":0},null,{"$f":"N27","v":21211},{"$f":"COUNTIF(L38:L68,Y27)","v":0},{"$f":"Z27/(AB4-Z25)","v":0},{"$f":"IF(AA27=0,0,(AA27*((LOG(AA27))/LOG(2))))","v":0},null,{"$f":"N27","v":21211},{"$f":"COUNTIF(L69:L99,AD27)","v":0},{"$f":"AE27/(AG4-AE25)","v":0},{"$f":"IF(AF27=0,0,(AF27*((LOG(AF27))/LOG(2))))","v":0},null,{"$f":"N27","v":21211},{"$f":"COUNTIF(L100:L130,AI27)","v":0},{"$f":"AJ27/(AL4-AJ25)","v":0},{"$f":"IF(AK27=0,0,(AK27*((LOG(AK27))/LOG(2))))","v":0},null,{"$f":"N27","v":21211},{"$f":"COUNTIF(L131:L161,AN27)","v":0},{"$f":"AO27/(AQ4-AO25)","v":0},{"$f":"IF(AP27=0,0,(AP27*((LOG(AP27))/LOG(2))))","v":0},null,{"$f":"N27","v":21211},{"$f":"COUNTIF(L162:L192,AS27)","v":0},{"$f":"AT27/(AV4-AT25)","v":0},{"$f":"IF(AU27=0,0,(AU27*((LOG(AU27))/LOG(2))))","v":0}]
[12,3106,13,3120,13,3125,14,3138,13,3152,0,11111,null,21212,{"$f":"COUNTIF($L$7:$L$500,N28)","v":0},{"$f":"O28/$Q$4","v":0},{"$f":"IF(P28=0,0,(P28*((LOG(P28))/LOG(2))))","v":0},null,null,{"$f":"N28","v":21212},{"$f":"COUNTIF(L7:L37,T28)","v":0},{"$f":"U28/(W4-U25)","v":0},{"$f":"IF(V28=0,0,(V28*((LOG(V28))/LOG(2))))","v":0},null,{"$f":"N28","v":21212},{"$f":"COUNTIF(L38:L68,Y28)","v":0},{"$f":"Z28/(AB4-Z25)","v":0},{"$f":"IF(AA28=0,0,(AA28*((LOG(AA28))/LOG(2))))","v":0},null,{"$f":"N28","v":21212},{"$f":"COUNTIF(L69:L99,AD28)","v":0},{"$f":"AE28/(AG4-AE25)","v":0},{"$f":"IF(AF28=0,0,(AF28*((LOG(AF28))/LOG(2))))","v":0},null,{"$f":"N28","v":21212},{"$f":"COUNTIF(L100:L130,AI28)","v":0},{"$f":"AJ28/(AL4-AJ25)","v":0},{"$f":"IF(AK28=0,0,(AK28*((LOG(AK28))/LOG(2))))","v":0},null,{"$f":"N28","v":21212},{"$f":"COUNTIF(L131:L161,AN28)","v":0},{"$f":"AO28/(AQ4-AO25)","v":0},{"$f":"IF(AP28=0,0,(AP28*((LOG(AP28))/LOG(2))))","v":0},null,{"$f":"N28","v":21212},{"$f":"COUNTIF(L162:L192,AS28)","v":0},{"$f":"AT28/(AV4-AT25)","v":0},{"$f":"IF(AU28=0,0,(AU28*((LOG(AU28))/LOG(2))))","v":0}]
[12,3271,13,3276,13,3291,14,3313,13,3327,0,11111,null,21221,{"$f":"COUNTIF($L$7:$L$500,N29)","v":0},{"$f":"O29/$Q$4","v":0},{"$f":"IF(P29=0,0,(P29*((LOG(P29))/LOG(2))))","v":0},null,null,{"$f":"N29","v":21221},{"$f":"COUNTIF(L7:L37,T29)","v":0},{"$f":"U29/(W4-U25)","v":0},{"$f":"IF(V29=0,0,(V29*((LOG(V29))/LOG(2))))","v":0},null,{"$f":"N29","v":21221},{"$f":"COUNTIF(L38:L68,Y29)","v":0},{"$f":"Z29/(AB4-Z25)","v":0},{"$f":"IF(AA29=0,0,(AA29*((LOG(AA29))/LOG(2))))","v":0},null,{"$f":"N29","v":21221},{"$f":"COUNTIF(L69:L99,AD29)","v":0},{"$f":"AE29/(AG4-AE25)","v":0},{"$f":"IF(AF29=0,0,(AF29*((LOG(AF29))/LOG(2))))","v":0},null,{"$f":"N29","v":21221},{"$f":"COUNTIF(L100:L130,AI29)","v":0},{"$f":"AJ29/(AL4-AJ25)","v":0},{"$f":"IF(AK29=0,0,(AK29*((LOG(AK29))/LOG(2))))","v":0},null,{"$f":"N29","v":21221},{"$f":"COUNTIF(L131:L161,AN29)","v":0},{"$f":"AO29/(AQ4-AO25)","v":0},{"$f":"IF(AP29=0,0,(AP29*((LOG(AP29))/LOG(2))))","v":0},null,{"$f":"N29","v":21221},{"$f":"COUNTIF(L162:L192,AS29)","v":0},{"$f":"AT29/(AV4-AT25)","v":0},{"$f":"IF(AU29=0,0,(AU29*((LOG(AU29))/LOG(2))))","v":0}]
[12,3434,13,3444,13,3449,14,3454,13,3459,0,11111,null,21222,{"$f":"COUNTIF($L$7:$L$500,N30)","v":0},{"$f":"O30/$Q$4","v":0},{"$f":"IF(P30=0,0,(P30*((LOG(P30))/LOG(2))))","v":0},null,null,{"$f":"N30","v":21222},{"$f":"COUNTIF(L7:L37,T30)","v":0},{"$f":"U30/(W4-U25)","v":0},{"$f":"IF(V30=0,0,(V30*((LOG(V30))/LOG(2))))","v":0},null,{"$f":"N30","v":21222},{"$f":"COUNTIF(L38:L68,Y30)","v":0},{"$f":"Z30/(AB4-Z25)","v":0},{"$f":"IF(AA30=0,0,(AA30*((LOG(AA30))/LOG(2))))","v":0},null,{"$f":"N30","v":21222},{"$f":"COUNTIF(L69:L99,AD30)","v":0},{"$f":"AE30/(AG4-AE25)","v":0},{"$f":"IF(AF30=0,0,(AF30*((LOG(AF30))/LOG(2))))","v":0},null,{"$f":"N30","v":21222},{"$f":"COUNTIF(L100:L130,AI30)","v":0},{"$f":"AJ30/(AL4-AJ25)","v":0},{"$f":"IF(AK30=0,0,(AK30*((LOG(AK30))/LOG(2))))","v":0},null,{"$f":"N30","v":21222},{"$f":"COUNTIF(L131:L161,AN30)","v":0},{"$f":"AO30/(AQ4-AO25)","v":0},{"$f":"IF(AP30=0,0,(AP30*((LOG(AP30))/LOG(2))))","v":0},null,{"$f":"N30","v":21222},{"$f":"COUNTIF(L162:L192,AS30)","v":0},{"$f":"AT30/(AV4-AT25)","v":0},{"$f":"IF(AU30=0,0,(AU30*((LOG(AU30))/LOG(2))))","v":0}]
[12,3570,13,3576,13,3580,14,3585,13,3590,0,11111,null,22111,{"$f":"COUNTIF($L$7:$L$500,N31)","v":0},{"$f":"O31/$Q$4","v":0},{"$f":"IF(P31=0,0,(P31*((LOG(P31))/LOG(2))))","v":0},null,null,{"$f":"N31","v":22111},{"$f":"COUNTIF(L7:L37,T31)","v":0},{"$f":"U31/(W4-U25)","v":0},{"$f":"IF(V31=0,0,(V31*((LOG(V31))/LOG(2))))","v":0},null,{"$f":"N31","v":22111},{"$f":"COUNTIF(L38:L68,Y31)","v":0},{"$f":"Z31/(AB4-Z25)","v":0},{"$f":"IF(AA31=0,0,(AA31*((LOG(AA31))/LOG(2))))","v":0},null,{"$f":"N31","v":22111},{"$f":"COUNTIF(L69:L99,AD31)","v":0},{"$f":"AE31/(AG4-AE25)","v":0},{"$f":"IF(AF31=0,0,(AF31*((LOG(AF31))/LOG(2))))","v":0},null,{"$f":"N31","v":22111},{"$f":"COUNTIF(L100:L130,AI31)","v":0},{"$f":"AJ31/(AL4-AJ25)","v":0},{"$f":"IF(AK31=0,0,(AK31*((LOG(AK31))/LOG(2))))","v":0},null,{"$f":"N31","v":22111},{"$f":"COUNTIF(L131:L161,AN31)","v":0},{"$f":"AO31/(AQ4-AO25)","v":0},{"$f":"IF(AP31=0,0,(AP31*((LOG(AP31))/LOG(2))))","v":0},null,{"$f":"N31","v":22111},{"$f":"COUNTIF(L162:L192,AS31)","v":0},{"$f":"AT31/(AV4-AT25)","v":0},{"$f":"IF(AU31=0,0,(AU31*((LOG(AU31))/LOG(2))))","v":0}]
[12,3690,13,3697,13,3702,14,3706,13,3710,1,11111,null,22112,{"$f":"COUNTIF($L$7:$L$500,N32)","v":0},{"$f":"O32/$Q$4","v":0},{"$f":"IF(P32=0,0,(P32*((LOG(P32))/LOG(2))))","v":0},null,null,{"$f":"N32","v":22112},{"$f":"COUNTIF(L7:L37,T32)","v":0},{"$f":"U32/(W4-U25)","v":0},{"$f":"IF(V32=0,0,(V32*((LOG(V32))/LOG(2))))","v":0},null,{"$f":"N32","v":22112},{"$f":"COUNTIF(L38:L68,Y32)","v":0},{"$f":"Z32/(AB4-Z25)","v":0},{"$f":"IF(AA32=0,0,(AA32*((LOG(AA32))/LOG(2))))","v":0},null,{"$f":"N32","v":22112},{"$f":"COUNTIF(L69:L99,AD32)","v":0},{"$f":"AE32/(AG4-AE25)","v":0},{"$f":"IF(AF32=0,0,(AF32*((LOG(AF32))/LOG(2))))","v":0},null,{"$f":"N32","v":22112},{"$f":"COUNTIF(L100:L130,AI32)","v":0},{"$f":"AJ32/(AL4-AJ25)","v":0},{"$f":"IF(AK32=0,0,(AK32*((LOG(AK32))/LOG(2))))","v":0},null,{"$f":"N32","v":22112},{"$f":"COUNTIF(L131:L161,AN32)","v":0},{"$f":"AO32/(AQ4-AO25)","v":0},{"$f":"IF(AP32=0,0,(AP32*((LOG(AP32))/LOG(2))))","v":0},null,{"$f":"N32","v":22112},{"$f":"COUNTIF(L162:L192,AS32)","v":0},{"$f":"AT32/(AV4-AT25)","v":0},{"$f":"IF(AU32=0,0,(AU32*((LOG(AU32))/LOG(2))))","v":0}]
[12,3815,13,3824,13,3829,14,3835,13,3846,0,11111,null,22121,{"$f":"COUNTIF($L$7:$L$500,N33)","v":0},{"$f":"O33/$Q$4","v":0},{"$f":"IF(P33=0,0,(P33*((LOG(P33))/LOG(2))))","v":0},null,null,{"$f":"N33","v":22121},{"$f":"COUNTIF(L7:L37,T33)","v":0},{"$f":"U33/(W4-U25)","v":0},{"$f":"IF(V33=0,0,(V33*((LOG(V33))/LOG(2))))","v":0},null,{"$f":"N33","v":22121},{"$f":"COUNTIF(L38:L68,Y33)","v":0},{"$f":"Z33/(AB4-Z25)","v":0},{"$f":"IF(AA33=0,0,(AA33*((LOG(AA33))/LOG(2))))","v":0},null,{"$f":"N33","v":22121},{"$f":"COUNTIF(L69:L99,AD33)","v":0},{"$f":"AE33/(AG4-AE25)","v":0},{"$f":"IF(AF33=0,0,(AF33*((LOG(AF33))/LOG(2))))","v":0},null,{"$f":"N33","v":22121},{"$f":"COUNTIF(L100:L130,AI33)","v":0},{"$f":"AJ33/(AL4-AJ25)","v":0},{"$f":"IF(AK33=0,0,(AK33*((LOG(AK33))/LOG(2))))","v":0},null,{"$f":"N33","v":22121},{"$f":"COUNTIF(L131:L161,AN33)","v":0},{"$f":"AO33/(AQ4-AO25)","v":0},{"$f":"IF(AP33=0,0,(AP33*((LOG(AP33))/LOG(2))))","v":0},null,{"$f":"N33","v":22121},{"$f":"COUNTIF(L162:L192,AS33)","v":0},{"$f":"AT33/(AV4-AT25)","v":0},{"$f":"IF(AU33=0,0,(AU33*((LOG(AU33))/LOG(2))))","v":0}]
[12,3959,13,3963,13,3967,14,3971,13,3979,0,11111,null,22122,{"$f":"COUNTIF($L$7:$L$500,N34)","v":0},{"$f":"O34/$Q$4","v":0},{"$f":"IF(P34=0,0,(P34*((LOG(P34))/LOG(2))))","v":0},null,null,{"$f":"N34","v":22122},{"$f":"COUNTIF(L7:L37,T34)","v":0},{"$f":"U34/(W4-U25)","v":0},{"$f":"IF(V34=0,0,(V34*((LOG(V34))/LOG(2))))","v":0},null,{"$f":"N34","v":22122},{"$f":"COUNTIF(L38:L68,Y34)","v":0},{"$f":"Z34/(AB4-Z25)","v":0},{"$f":"IF(AA34=0,0,(AA34*((LOG(AA34))/LOG(2))))","v":0},null,{"$f":"N34","v":22122},{"$f":"COUNTIF(L69:L99,AD34)","v":0},{"$f":"AE34/(AG4-AE25)","v":0},{"$f":"IF(AF34=0,0,(AF34*((LOG(AF34))/LOG(2))))","v":0},null,{"$f":"N34","v":22122},{"$f":"COUNTIF(L100:L130,AI34)","v":0},{"$f":"AJ34/(AL4-AJ25)","v":0},{"$f":"IF(AK34=0,0,(AK34*((LOG(AK34))/LOG(2))))","v":0},null,{"$f":"N34","v":22122},{"$f":"COUNTIF(L131:L161,AN34)","v":0},{"$f":"AO34/(AQ4-AO25)","v":0},{"$f":"IF(AP34=0,0,(AP34*((LOG(AP34))/LOG(2))))","v":0},null,{"$f":"N34","v":22122},{"$f":"COUNTIF(L162:L192,AS34)","v":0},{"$f":"AT34/(AV4-AT25)","v":0},{"$f":"IF(AU34=0,0,(AU34*((LOG(AU34))/LOG(2))))","v":0}]
[12,4086,13,4091,13,4095,14,4100,13,4108,0,11111,null,22211,{"$f":"COUNTIF($L$7:$L$500,N35)","v":0},{"$f":"O35/$Q$4","v":0},{"$f":"IF(P35=0,0,(P35*((LOG(P35))/LOG(2))))","v":0},null,null,{"$f":"N35","v":22211},{"$f":"COUNTIF(L7:L37,T35)","v":0},{"$f":"U35/(W4-U25)","v":0},{"$f":"IF(V35=0,0,(V35*((LOG(V35))/LOG(2))))","v":0},null,{"$f":"N35","v":22211},{"$f":"COUNTIF(L38:L68,Y35)","v":0},{"$f":"Z35/(AB4-Z25)","v":0},{"$f":"IF(AA35=0,0,(AA35*((LOG(AA35))/LOG(2))))","v":0},null,{"$f":"N35","v":22211},{"$f":"COUNTIF(L69:L99,AD35)","v":0},{"$f":"AE35/(AG4-AE25)","v":0},{"$f":"IF(AF35=0,0,(AF35*((LOG(AF35))/LOG(2))))","v":0},null,{"$f":"N35","v":22211},{"$f":"COUNTIF(L100:L130,AI35)","v":0},{"$f":"AJ35/(AL4-AJ25)","v":0},{"$f":"IF(AK35=0,0,(AK35*((LOG(AK35))/LOG(2))))","v":0},null,{"$f":"N35","v":22211},{"$f":"COUNTIF(L131:L161,AN35)","v":0},{"$f":"AO35/(AQ4-AO25)","v":0},{"$f":"IF(AP35=0,0,(AP35*((LOG(AP35))/LOG(2))))","v":0},null,{"$f":"N35","v":22211},{"$f":"COUNTIF(L162:L192,AS35)","v":0},{"$f":"AT35/(AV4-AT25)","v":0},{"$f":"IF(AU35=0,0,(AU35*((LOG(AU35))/LOG(2))))","v":0}]
[12,4214,13,4219,13,4224,14,4228,13,4235,0,11111,null,22212,{"$f":"COUNTIF($L$7:$L$500,N36)","v":0},{"$f":"O36/$Q$4","v":0},{"$f":"IF(P36=0,0,(P36*((LOG(P36))/LOG(2))))","v":0},null,null,{"$f":"N36","v":22212},{"$f":"COUNTIF(L7:L37,T36)","v":0},{"$f":"U36/(W4-U25)","v":0},{"$f":"IF(V36=0,0,(V36*((LOG(V36))/LOG(2))))","v":0},null,{"$f":"N36","v":22212},{"$f":"COUNTIF(L38:L68,Y36)","v":0},{"$f":"Z36/(AB4-Z25)","v":0},{"$f":"IF(AA36=0,0,(AA36*((LOG(AA36))/LOG(2))))","v":0},null,{"$f":"N36","v":22212},{"$f":"COUNTIF(L69:L99,AD36)","v":0},{"$f":"AE36/(AG4-AE25)","v":0},{"$f":"IF(AF36=0,0,(AF36*((LOG(AF36))/LOG(2))))","v":0},null,{"$f":"N36","v":22212},{"$f":"COUNTIF(L100:L130,AI36)","v":0},{"$f":"AJ36/(AL4-AJ25)","v":0},{"$f":"IF(AK36=0,0,(AK36*((LOG(AK36))/LOG(2))))","v":0},null,{"$f":"N36","v":22212},{"$f":"COUNTIF(L131:L161,AN36)","v":0},{"$f":"AO36/(AQ4-AO25)","v":0},{"$f":"IF(AP36=0,0,(AP36*((LOG(AP36))/LOG(2))))","v":0},null,{"$f":"N36","v":22212},{"$f":"COUNTIF(L162:L192,AS36)","v":0},{"$f":"AT36/(AV4-AT25)","v":0},{"$f":"IF(AU36=0,0,(AU36*((LOG(AU36))/LOG(2))))","v":0}]
[12,4337,13,4349,13,4353,14,4357,13,4365,0,11111,null,22221,{"$f":"COUNTIF($L$7:$L$500,N37)","v":0},{"$f":"O37/$Q$4","v":0},{"$f":"IF(P37=0,0,(P37*((LOG(P37))/LOG(2))))","v":0},null,null,{"$f":"N37","v":22221},{"$f":"COUNTIF(L7:L37,T37)","v":0},{"$f":"U37/(W4-U25)","v":0},{"$f":"IF(V37=0,0,(V37*((LOG(V37))/LOG(2))))","v":0},null,{"$f":"N37","v":22221},{"$f":"COUNTIF(L38:L68,Y37)","v":0},{"$f":"Z37/(AB4-Z25)","v":0},{"$f":"IF(AA37=0,0,(AA37*((LOG(AA37))/LOG(2))))","v":0},null,{"$f":"N37","v":22221},{"$f":"COUNTIF(L69:L99,AD37)","v":0},{"$f":"AE37/(AG4-AE25)","v":0},{"$f":"IF(AF37=0,0,(AF37*((LOG(AF37))/LOG(2))))","v":0},null,{"$f":"N37","v":22221},{"$f":"COUNTIF(L100:L130,AI37)","v":0},{"$f":"AJ37/(AL4-AJ25)","v":0},{"$f":"IF(AK37=0,0,(AK37*((LOG(AK37))/LOG(2))))","v":0},null,{"$f":"N37","v":22221},{"$f":"COUNTIF(L131:L161,AN37)","v":0},{"$f":"AO37/(AQ4-AO25)","v":0},{"$f":"IF(AP37=0,0,(AP37*((LOG(AP37))/LOG(2))))","v":0},null,{"$f":"N37","v":22221},{"$f":"COUNTIF(L162:L192,AS37)","v":0},{"$f":"AT37/(AV4-AT25)","v":0},{"$f":"IF(AU37=0,0,(AU37*((LOG(AU37))/LOG(2))))","v":0}]
[12,4474,13,4478,13,4483,14,4487,13,4494,0,11111,null,22222,{"$f":"COUNTIF($L$7:$L$500,N38)","v":11},{"$f":"O38/$Q$4","v":5.9459459459459463E-2},{"$f":"IF(P38=0,0,(P38*((LOG(P38))/LOG(2))))","v":-0.24211593654415769},null,null,{"$f":"N38","v":22222},{"$f":"COUNTIF(L7:L37,T38)","v":4},{"$f":"U38/(W4-U25)","v":0.12903225806451613},{"$f":"IF(V38=0,0,(V38*((LOG(V38))/LOG(2))))","v":-0.38118662069508069},null,{"$f":"N38","v":22222},{"$f":"COUNTIF(L38:L68,Y38)","v":1},{"$f":"Z38/(AB4-Z25)","v":3.2258064516129031E-2},{"$f":"IF(AA38=0,0,(AA38*((LOG(AA38))/LOG(2))))","v":-0.15981278420602821},null,{"$f":"N38","v":22222},{"$f":"COUNTIF(L69:L99,AD38)","v":2},{"$f":"AE38/(AG4-AE25)","v":6.4516129032258063E-2},{"$f":"IF(AF38=0,0,(AF38*((LOG(AF38))/LOG(2))))","v":-0.25510943937979835},null,{"$f":"N38","v":22222},{"$f":"COUNTIF(L100:L130,AI38)","v":0},{"$f":"AJ38/(AL4-AJ25)","v":0},{"$f":"IF(AK38=0,0,(AK38*((LOG(AK38))/LOG(2))))","v":0},null,{"$f":"N38","v":22222},{"$f":"COUNTIF(L131:L161,AN38)","v":1},{"$f":"AO38/(AQ4-AO25)","v":3.2258064516129031E-2},{"$f":"IF(AP38=0,0,(AP38*((LOG(AP38))/LOG(2))))","v":-0.15981278420602821},null,{"$f":"N38","v":22222},{"$f":"COUNTIF(L162:L192,AS38)","v":3},{"$f":"AT38/(AV4-AT25)","v":0.1},{"$f":"IF(AU38=0,0,(AU38*((LOG(AU38))/LOG(2))))","v":-0.33219280948873625}]
[12,4593,13,4598,13,4602,14,4612,13,4621,0,11111,null,null,null,{"$f":"SUM(P7:P38)","v":1},{"$f":"-SUM(Q7:Q38)","v":0.41045559233376555},null,null,null,null,{"$f":"SUM(V7:V38)","v":0.99999999999999989},{"$f":"-SUM(W7:W38)","v":0.88657035089112957},null,null,null,{"$f":"SUM(AA7:AA38)","v":1},{"$f":"-SUM(AB7:AB38)","v":0.20559250818508301},null,null,null,{"$f":"SUM(AF7:AF38)","v":1},{"$f":"-SUM(AG7:AG38)","v":0.3451173149449529},null,null,null,{"$f":"SUM(AK7:AK38)","v":1},{"$f":"-SUM(AL7:AL38)","v":0},null,null,null,{"$f":"SUM(AP7:AP38)","v":1},{"$f":"-SUM(AQ7:AQ38)","v":0.20559250818508301},null,null,null,{"$f":"SUM(AU7:AU38)","v":1},{"$f":"-SUM(AV7:AV38)","v":0.46899559358928122}]
[12,4724,13,4729,13,4733,14,4740,13,4744,0,11111,null,null,null,"U=",{"$f":"Q39/(LOG(Q4)/LOG(2))","v":5.4499376307733438E-2},null,null,null,null,"U1=",{"$f":"W39/(LOG(W4)/LOG(2))","v":0.17895341551814628},null,null,null,"U2=",{"$f":"AB39/(LOG(AB4)/LOG(2))","v":4.1498659985281898E-2},null,null,null,"U3=",{"$f":"AG39/(LOG(AG4)/LOG(2))","v":6.9661614785305623E-2},null,null,null,"U4=",{"$f":"AL39/(LOG(AL4)/LOG(2))","v":0},null,null,null,"U5=",{"$f":"AQ39/(LOG(AQ4)/LOG(2))","v":4.1498659985281898E-2},null,null,null,"U6=",{"$f":"AV39/(LOG(AV4)/LOG(2))","v":9.5578979080767471E-2}]
[12,4845,13,4849,13,4853,14,4857,13,4862,1,11111]
[12,4961,13,4968,13,4972,14,4976,13,4980,0,11111]
[12,5084,13,5091,13,5098,14,5107,13,5113,0,11111,null,"Total Target Seq"]
[12,5228,13,5232,13,5236,14,5241,13,5248,0,11111,null,{"$f":"COUNTIF(L7:L192,G3)","v":0},null,31,31,31,31,31,31]
[12,5352,13,5357,13,5362,14,5366,13,5372,0,11111,null,null,null,"% of reinforcement given in 6 equal intervals based on number of trials "]
[12,5481,13,5485,13,5496,14,5511,13,5518,0,11111,null,null,null,"%_1","%_2","%_3","%_4","%_5","%_6"]
[12,5631,13,5635,13,5643,14,5647,13,5652,0,11111,null,null,"target sequence",{"$f":"$G$3","v":21121},{"$f":"$G$3","v":21121},{"$f":"$G$3","v":21121},{"$f":"$G$3","v":21121},{"$f":"$G$3","v":21121},{"$f":"$G$3","v":21121}]
[21,5756,22,5761,24,5765,23,5772,24,5778,0,22222,null,null,"total reinforcement",{"$f":"U25","v":0},{"$f":"Z25","v":0},{"$f":"AE25","v":0},{"$f":"AJ25","v":0},{"$f":"AO25","v":0},{"$f":"AT25","v":0}]
[12,5887,13,5891,13,5895,14,5899,13,5905,0,11111,null,null,"% target"]
[12,6013,13,6020,13,6024,14,6029,13,6035,0,11111,null,null,"CCRF"]
[12,6136,13,6145,13,6149,14,6154,13,6161,0,11111,null,null,"% CCRf"]
[12,6261,13,6266,13,6276,14,6281,13,6285,1,11111,null,null,"average response rate",{"$f":"J37/P44","v":140.80645161290323},{"$f":"(J68-J37)/Q44","v":123.93548387096774},{"$f":"(J99-J68)/R44","v":126.90322580645162},{"$f":"(J130-J99)/S44","v":128.80645161290323},{"$f":"(J161-J130)/T44","v":125.16129032258064},{"$f":"(J192-J161)/U44","v":-645.61290322580646}]
[12,6383,13,6387,13,6392,14,6396,13,6400,0,11111]
[12,6499,13,6504,13,6508,14,6513,13,6518,0,11111]
[12,6624,13,6628,13,6632,14,6637,13,6647,0,11111]
[12,6748,13,6756,13,6760,14,6764,13,6768,0,11111]
[12,6870,13,6877,13,6880,14,6884,13,6889,0,11111]
[12,6988,13,6992,13,6997,14,7001,13,7005,1,11111]
[12,7106,13,7110,13,7115,14,7119,13,7123,0,11111]
[12,7225,13,7229,13,7232,14,7236,13,7241,0,11111]
[12,7354,13,7359,13,7363,14,7368,13,7372,0,11111]
[12,7471,13,7478,13,7482,14,7486,13,7490,0,11111]
[12,7597,13,7601,13,7605,14,7610,13,7615,0,11111]
[12,7717,13,7721,13,7725,14,7729,13,7733,0,11111]
[12,7835,13,7839,13,7843,14,7847,13,7851,0,11111]
[12,7959,13,7963,13,7966,14,7971,13,7975,0,11111]
[12,8074,13,8078,13,8082,14,8086,13,8090,0,11111]
[12,8192,13,8195,13,8199,14,8203,13,8207,0,11111]
[12,8311,13,8315,13,8319,14,8323,13,8329,0,11111]
[12,8431,13,8435,13,8439,14,8442,13,8456,1,11111]
[12,8553,13,8557,13,8561,14,8565,13,8573,0,11111]
[12,8677,13,8684,13,8688,14,8693,13,8702,0,11111]
[12,8802,13,8807,13,8811,14,8815,13,8819,0,11111]
[12,8918,13,8923,13,8927,14,8932,13,8937,0,11111]
[12,9042,13,9046,13,9051,14,9055,13,9059,0,11111]
[12,9170,13,9174,13,9179,14,9183,13,9188,0,11111]
[12,9293,13,9297,13,9302,14,9310,13,9315,0,11111]
[21,9428,22,9433,24,9437,23,9441,24,9446,1,22222]
[12,9542,13,9546,13,9551,14,9574,13,9583,1,11111]
[12,9688,13,9693,13,9697,14,9702,13,9707,0,11111]
[12,9818,13,9826,13,9830,14,9836,13,9846,0,11111]
[12,9947,13,9951,13,9955,14,9959,13,9964,1,11111]
[12,10064,13,10068,13,10073,14,10077,13,10081,0,11111]
[12,10175,13,10184,13,10188,14,10193,13,10197,0,11111]
[12,10298,13,10327,13,10337,14,10345,13,10350,1,11111]
[12,10456,13,10461,13,10465,14,10469,13,10473,0,11111]
[12,10584,13,10588,13,10597,14,10602,13,10606,0,11111]
[12,10713,13,10717,13,10725,14,10734,13,10739,0,11111]
[12,10839,13,10843,13,10854,14,10858,13,10863,1,11111]
[21,10967,22,10972,24,10976,23,10980,24,10985,0,22222]
[12,11086,13,11093,13,11098,14,11103,13,11108,0,11111]
[12,11215,13,11223,13,11228,14,11242,13,11247,0,11111]
[12,11348,13,11352,13,11356,14,11360,13,11364,1,11111]
[12,11472,13,11484,13,11489,14,11494,13,11512,0,11111]
[12,11613,13,11618,13,11621,14,11625,13,11629,0,11111]
[12,11744,13,11749,13,11753,14,11758,13,11763,0,11111]
[12,11866,13,11870,13,11873,14,11878,13,11882,0,11111]
[12,11983,13,11986,13,11993,14,11997,13,12001,0,11111]
[12,12106,13,12125,13,12131,14,12136,13,12141,1,11111]
[12,12244,13,12248,13,12252,14,12256,13,12261,0,11111]
[12,12357,13,12361,13,12365,14,12369,13,12374,0,11111]
[12,12483,13,12487,13,12492,14,12497,13,12507,0,11111]
[12,12607,13,12616,13,12623,14,12628,13,12638,0,11111]
[12,12745,13,12750,13,12754,14,12764,13,12769,1,11111]
[12,12872,13,12877,13,12889,14,12897,13,12904,1,11111]
[12,13013,13,13020,13,13025,14,13036,13,13041,0,11111]
[12,13147,13,13154,13,13158,14,13163,13,13171,0,11111]
[12,13269,13,13274,13,13278,14,13283,13,13292,0,11111]
[12,13393,13,13396,13,13405,14,13409,13,13414,0,11111]
[12,13515,13,13524,13,13529,14,13542,13,13551,1,11111]
[12,13650,13,13654,13,13658,14,13672,13,13677,1,11111]
[12,13775,13,13780,13,13784,14,13788,13,13798,0,11111]
[12,13903,13,13907,13,13911,14,13916,13,13920,0,11111]
[12,14018,13,14026,13,14031,14,14038,13,14047,0,11111]
[12,14152,13,14156,13,14161,14,14172,13,14178,0,11111]
[12,14281,13,14285,13,14290,14,14294,13,14306,0,11111]
[12,14407,13,14411,13,14415,14,14424,13,14428,0,11111]
[12,14531,13,14540,13,14544,14,14549,13,14560,0,11111]
[12,14663,13,14667,13,14672,14,14676,13,14681,0,11111]
[12,14789,13,14794,13,14798,14,14805,13,14815,0,11111]
[12,14908,13,14916,13,14920,14,14924,13,14928,0,11111]
[12,15037,13,15041,13,15050,14,15069,13,15083,0,11111]
[12,15189,13,15193,13,15200,14,15213,13,15223,1,11111]
[12,15324,13,15331,13,15347,14,15351,13,15359,0,11111]
[12,15460,13,15475,13,15480,14,15489,13,15493,0,11111]
[12,15597,13,15601,13,15605,14,15609,13,15614,0,11111]
[12,15718,13,15722,13,15727,14,15740,13,15744,0,11111]
[12,15843,13,15848,13,15855,14,15864,13,15868,1,11111]
[12,15974,13,15978,13,15993,14,16006,13,16011,0,11111]
[12,16110,13,16118,13,16122,14,16126,13,16134,0,11111]
[12,16236,13,16240,13,16244,14,16248,13,16252,0,11111]
[12,16358,13,16362,13,16366,14,16370,13,16378,0,11111]
[12,16477,13,16480,13,16484,14,16488,13,16491,0,11111]
[21,16597,22,16602,24,16606,23,16611,24,16619,0,22222]
[12,16721,13,16729,13,16733,14,16737,13,16741,0,11111]
[12,16846,13,16850,13,16854,14,16859,13,16863,1,11111]
[12,16967,13,16971,13,16975,14,16980,13,16985,0,11111]
[12,17090,13,17094,13,17098,14,17103,13,17107,0,11111]
[12,17206,13,17214,13,17219,14,17224,13,17231,0,11111]
[12,17338,13,17342,13,17347,14,17351,13,17355,0,11111]
[12,17465,13,17469,13,17473,14,17477,13,17482,0,11111]
[12,17589,13,17593,13,17597,14,17605,13,17614,1,11111]
[12,17714,13,17727,13,17731,14,17741,13,17751,0,11111]
[12,17856,13,17860,13,17864,14,17868,13,17873,0,11111]
[12,17980,13,17988,13,17992,14,17998,13,18007,1,11111]
[12,18103,13,18107,13,18115,14,18119,13,18125,1,11111]
[12,18230,13,18238,13,18242,14,18246,13,18251,0,11111]
[12,18351,13,18359,13,18365,14,18379,13,18384,0,11111]
[12,18491,13,18495,13,18500,14,18507,13,18516,0,11111]
[12,18620,13,18625,13,18633,14,18637,13,18642,1,11111]
[12,18741,13,18745,13,18749,14,18753,13,18757,0,11111]
[12,18855,13,18859,13,18863,14,18874,13,18878,0,11111]
[12,18978,13,18983,13,18988,14,18992,13,18996,0,11111]
[12,19100,13,19108,13,19113,14,19122,13,19132,0,11111]
[12,19233,13,19237,13,19242,14,19246,13,19250,1,11111]
[12,19353,13,19360,13,19365,14,19369,13,19384,0,11111]
[12,19485,13,19489,13,19494,14,19497,13,19507,0,11111]
[12,19606,13,19611,13,19615,14,19619,13,19624,0,11111]
[12,19723,13,19727,13,19731,14,19736,13,19740,0,11111]
[12,19839,13,19853,13,19857,14,19866,13,19879,0,11111]
[12,19991,13,19998,13,20006,14,20010,13,20014,0,11111]
[12,20113,13,20117,13,20121,14,20126,13,20130,1,11111]
[21,20238,22,20242,24,20247,23,20251,24,20256,1,22222]
[12,20361,13,20365,13,20370,14,20375,13,20381,1,11111]
[12,20480,13,20484,13,20489,14,20493,13,20497,0,11111]
[12,20596,13,20600,13,20607,14,20612,13,20620,0,11111]
[12,20725,13,20729,13,20733,14,20738,13,20747,1,11111]
[12,20849,13,20854,13,20858,14,20867,13,20877,0,11111]
[12,20979,13,20983,13,20987,14,20992,13,20996,0,11111]
[12,21093,13,21097,13,21102,14,21110,13,21114,1,11111]
[12,21214,13,21226,13,21235,14,21240,13,21248,0,11111]
[12,21352,13,21360,13,21364,14,21373,13,21380,0,11111]
[12,21488,13,21492,13,21496,14,21500,13,21504,0,11111]
[12,21616,13,21625,13,21630,14,21635,13,21640,0,11111]
[12,21739,13,21747,13,21750,14,21755,13,21759,0,11111]
[21,21861,22,21866,24,21871,23,21876,24,21882,1,22222]
[12,21992,13,22004,13,22024,14,22035,13,22049,0,11111]
[12,22148,13,22155,13,22159,14,22168,13,22175,0,11111]
[12,22274,13,22278,13,22282,14,22285,13,22292,0,11111]
[12,22395,13,22399,13,22403,14,22407,13,22411,0,11111]
[21,22516,22,22520,24,22524,23,22528,24,22533,0,22222]
[12,22642,13,22646,13,22651,14,22656,13,22664,1,11111]
[12,22769,13,22774,13,22782,14,22795,13,22804,0,11111]
[12,22931,13,22939,13,22948,14,22953,13,22958,0,11111]
[12,23063,13,23074,13,23085,14,23089,13,23094,0,11111]
[12,23199,13,23207,13,23211,14,23216,13,23220,0,11111]
[12,23327,13,23332,13,23339,14,23344,13,23348,0,11111]
[12,23455,13,23459,13,23463,14,23472,13,23476,0,11111]
[12,23583,13,23587,13,23591,14,23596,13,23611,0,11111]
[12,23715,13,23719,13,23724,14,23728,13,23736,1,11111]
[12,23839,13,23844,13,23857,14,23862,13,23870,0,11111]
[12,23987,13,24000,null,null,null,null,null,null,null,11]

{"sheet":"!MC31900.010","index":31,"n_rows":193,"n_cols":48,"rows_kept":193,"cut":false,"hidden":false,"merged":[[4,39,4,42],[5,39,5,40],[4,44,4,47],[5,44,5,45],[4,24,4,27],[5,24,5,25],[4,29,4,32],[5,29,5,30],[4,34,4,37],[5,34,5,35],[1,1,1,2],[5,13,5,14],[42,13,42,14],[43,13,43,14],[4,19,4,22],[5,19,5,20]]}
["Report for:!MC31900.010"]
["Date:","<date>"]
["Hen:","<hen>",null,null,null,"Correct Sequence",{"$f":"Start!J2","v":21121},null,null,null,null,null,null,null,null,"Total Sequences in Data",{"$f":"4994-COUNTBLANK(L7:L5000)","v":187},null,null,null,null,"Total Sequences in Block Data",{"$f":"COUNTA(L7:L37)","v":31},null,null,null,"Total Sequences in Block Data",{"$f":"COUNTA(L38:L68)","v":31},null,null,null,"Total Sequences in Block Data",{"$f":"COUNTA(L69:L100)","v":32},null,null,null,"Total Sequences in Block Data",{"$f":"COUNTA(L101:L131)","v":31},null,null,null,"Total Sequences in Block Data",{"$f":"COUNTA(L132:L162)","v":31},null,null,null,"Total Sequences in Block Data",{"$f":"COUNTA(L163:L193)","v":31}]
[null,null,null,null,null,null,null,null,null,null,null,null,null,null,null,"Total Sequences in Summary",{"$f":"SUM(O7:O38)","v":187},null,null,null,null,"Total Sequences in Block Summary",{"$f":"SUM(U7:U38)","v":31},null,null,null,"Total Sequences in Block Summary",{"$f":"SUM(Z7:Z38)","v":31},null,null,null,"Total Sequences in Block Summary",{"$f":"SUM(AE7:AE38)","v":32},null,null,null,"Total Sequences in Block Summary",{"$f":"SUM(AJ7:AJ38)","v":31},null,null,null,"Total Sequences in Block Summary",{"$f":"SUM(AO7:AO38)","v":31},null,null,null,"Total Sequences in Block Summary",{"$f":"SUM(AT7:AT38)","v":31}]
[null,null,null,null,null,null,null,null,null,null,null,null,null,null,null,null,null,null,null,"Block 1",null,null,null,null,"Block 2",null,null,null,null,"Block 3",null,null,null,null,"Block 4",null,null,null,null,"Block 5",null,null,null,null,"Block 6"]
["Sequence\nComponent\n1","Time\n1","Sequence\nComponent\n2","Time\n2","Sequence\nComponent\n3","Time\n3","Sequence\nComponent\n4","Time\n4","Sequence\nComponent\n5","Time\n5","Correct?\n0=No 1=Yes","Sequence",null,"Frequency",null,"Relative Frequency","Variability",null,null,"Frequency",null,"Relative Frequency","Variability",null,"Frequency",null,"Relative Frequency","Variability",null,"Frequency",null,"Relative Frequency","Variability",null,"Frequency",null,"Relative Frequency","Variability",null,"Frequency",null,"Relative Frequency","Variability",null,"Frequency",null,"Relative Frequency","Variability"]
[21,46,11,71,11,86,12,91,13,96,0,21111,null,11111,{"$f":"COUNTIF($L$7:$L$500,N7)","v":172},{"$f":"O7/$Q$4","v":0.9197860962566845},{"$f":"IF(P7=0,0,(P7*((LOG(P7))/LOG(2))))","v":-0.11095352562520139},null,null,{"$f":"N7","v":11111},{"$f":"COUNTIF(L7:L37,T7)","v":29},{"$f":"U7/(W4-U25)","v":0.93548387096774188},{"$f":"IF(V7=0,0,(V7*((LOG(V7))/LOG(2))))","v":-9.0007875565154577E-2},null,{"$f":"N7","v":11111},{"$f":"COUNTIF(L38:L68,Y7)","v":30},{"$f":"Z7/(AB4-Z25)","v":0.967741935483871},{"$f":"IF(AA7=0,0,(AA7*((LOG(AA7))/LOG(2))))","v":-4.5779723979054811E-2},null,{"$f":"N7","v":11111},{"$f":"COUNTIF(L69:L100,AD7)","v":29},{"$f":"AE7/(AG4-AE25)","v":0.90625},{"$f":"IF(AF7=0,0,(AF7*((LOG(AF7))/LOG(2))))","v":-0.12870472316563777},null,{"$f":"N7","v":11111},{"$f":"COUNTIF(L101:L131,AI7)","v":25},{"$f":"AJ7/(AL4-AJ25)","v":0.80645161290322576},{"$f":"IF(AK7=0,0,(AK7*((LOG(AK7))/LOG(2))))","v":-0.25027429081625047},null,{"$f":"N7","v":11111},{"$f":"COUNTIF(L132:L162,AN7)","v":30},{"$f":"AO7/(AQ4-AO25)","v":0.967741935483871},{"$f":"IF(AP7=0,0,(AP7*((LOG(AP7))/LOG(2))))","v":-4.5779723979054811E-2},null,{"$f":"N7","v":11111},{"$f":"COUNTIF(L163:L193,AS7)","v":29},{"$f":"AT7/(AV4-AT25)","v":0.93548387096774188},{"$f":"IF(AU7=0,0,(AU7*((LOG(AU7))/LOG(2))))","v":-9.0007875565154577E-2}]
[21,214,22,218,24,223,23,227,24,232,0,22222,null,11112,{"$f":"COUNTIF($L$7:$L$500,N8)","v":0},{"$f":"O8/$Q$4","v":0},{"$f":"IF(P8=0,0,(P8*((LOG(P8))/LOG(2))))","v":0},null,null,{"$f":"N8","v":11112},{"$f":"COUNTIF(L7:L37,T8)","v":0},{"$f":"U8/(W4-U25)","v":0},{"$f":"IF(V8=0,0,(V8*((LOG(V8))/LOG(2))))","v":0},null,{"$f":"N8","v":11112},{"$f":"COUNTIF(L38:L68,Y8)","v":0},{"$f":"Z8/(AB4-Z25)","v":0},{"$f":"IF(AA8=0,0,(AA8*((LOG(AA8))/LOG(2))))","v":0},null,{"$f":"N8","v":11112},{"$f":"COUNTIF(L69:L100,AD8)","v":0},{"$f":"AE8/(AG4-AE25)","v":0},{"$f":"IF(AF8=0,0,(AF8*((LOG(AF8))/LOG(2))))","v":0},null,{"$f":"N8","v":11112},{"$f":"COUNTIF(L101:L131,AI8)","v":0},{"$f":"AJ8/(AL4-AJ25)","v":0},{"$f":"IF(AK8=0,0,(AK8*((LOG(AK8))/LOG(2))))","v":0},null,{"$f":"N8","v":11112},{"$f":"COUNTIF(L132:L162,AN8)","v":0},{"$f":"AO8/(AQ4-AO25)","v":0},{"$f":"IF(AP8=0,0,(AP8*((LOG(AP8))/LOG(2))))","v":0},null,{"$f":"N8","v":11112},{"$f":"COUNTIF(L163:L193,AS8)","v":0},{"$f":"AT8/(AV4-AT25)","v":0},{"$f":"IF(AU8=0,0,(AU8*((LOG(AU8))/LOG(2))))","v":0}]
[12,345,13,354,13,363,14,368,13,376,0,11111,null,11121,{"$f":"COUNTIF($L$7:$L$500,N9)","v":0},{"$f":"O9/$Q$4","v":0},{"$f":"IF(P9=0,0,(P9*((LOG(P9))/LOG(2))))","v":0},null,null,{"$f":"N9","v":11121},{"$f":"COUNTIF(L7:L37,T9)","v":0},{"$f":"U9/(W4-U25)","v":0},{"$f":"IF(V9=0,0,(V9*((LOG(V9))/LOG(2))))","v":0},null,{"$f":"N9","v":11121},{"$f":"COUNTIF(L38:L68,Y9)","v":0},{"$f":"Z9/(AB4-Z25)","v":0},{"$f":"IF(AA9=0,0,(AA9*((LOG(AA9))/LOG(2))))","v":0},null,{"$f":"N9","v":11121},{"$f":"COUNTIF(L69:L100,AD9)","v":0},{"$f":"AE9/(AG4-AE25)","v":0},{"$f":"IF(AF9=0,0,(AF9*((LOG(AF9))/LOG(2))))","v":0},null,{"$f":"N9","v":11121},{"$f":"COUNTIF(L101:L131,AI9)","v":0},{"$f":"AJ9/(AL4-AJ25)","v":0},{"$f":"IF(AK9=0,0,(AK9*((LOG(AK9))/LOG(2))))","v":0},null,{"$f":"N9","v":11121},{"$f":"COUNTIF(L132:L162,AN9)","v":0},{"$f":"AO9/(AQ4-AO25)","v":0},{"$f":"IF(AP9=0,0,(AP9*((LOG(AP9))/LOG(2))))","v":0},null,{"$f":"N9","v":11121},{"$f":"COUNTIF(L163:L193,AS9)","v":0},{"$f":"AT9/(AV4-AT25)","v":0},{"$f":"IF(AU9=0,0,(AU9*((LOG(AU9))/LOG(2))))","v":0}]
[12,478,13,483,13,487,14,496,13,501,0,11111,null,11122,{"$f":"COUNTIF($L$7:$L$500,N10)","v":0},{"$f":"O10/$Q$4","v":0},{"$f":"IF(P10=0,0,(P10*((LOG(P10))/LOG(2))))","v":0},null,null,{"$f":"N10","v":11122},{"$f":"COUNTIF(L7:L37,T10)","v":0},{"$f":"U10/(W4-U25)","v":0},{"$f":"IF(V10=0,0,(V10*((LOG(V10))/LOG(2))))","v":0},null,{"$f":"N10","v":11122},{"$f":"COUNTIF(L38:L68,Y10)","v":0},{"$f":"Z10/(AB4-Z25)","v":0},{"$f":"IF(AA10=0,0,(AA10*((LOG(AA10))/LOG(2))))","v":0},null,{"$f":"N10","v":11122},{"$f":"COUNTIF(L69:L100,AD10)","v":0},{"$f":"AE10/(AG4-AE25)","v":0},{"$f":"IF(AF10=0,0,(AF10*((LOG(AF10))/LOG(2))))","v":0},null,{"$f":"N10","v":11122},{"$f":"COUNTIF(L101:L131,AI10)","v":0},{"$f":"AJ10/(AL4-AJ25)","v":0},{"$f":"IF(AK10=0,0,(AK10*((LOG(AK10))/LOG(2))))","v":0},null,{"$f":"N10","v":11122},{"$f":"COUNTIF(L132:L162,AN10)","v":0},{"$f":"AO10/(AQ4-AO25)","v":0},{"$f":"IF(AP10=0,0,(AP10*((LOG(AP10))/LOG(2))))","v":0},null,{"$f":"N10","v":11122},{"$f":"COUNTIF(L163:L193,AS10)","v":0},{"$f":"AT10/(AV4-AT25)","v":0},{"$f":"IF(AU10=0,0,(AU10*((LOG(AU10))/LOG(2))))","v":0}]
[12,606,13,611,13,615,14,620,13,637,1,11111,null,11211,{"$f":"COUNTIF($L$7:$L$500,N11)","v":0},{"$f":"O11/$Q$4","v":0},{"$f":"IF(P11=0,0,(P11*((LOG(P11))/LOG(2))))","v":0},null,null,{"$f":"N11","v":11211},{"$f":"COUNTIF(L7:L37,T11)","v":0},{"$f":"U11/(W4-U25)","v":0},{"$f":"IF(V11=0,0,(V11*((LOG(V11))/LOG(2))))","v":0},null,{"$f":"N11","v":11211},{"$f":"COUNTIF(L38:L68,Y11)","v":0},{"$f":"Z11/(AB4-Z25)","v":0},{"$f":"IF(AA11=0,0,(AA11*((LOG(AA11))/LOG(2))))","v":0},null,{"$f":"N11","v":11211},{"$f":"COUNTIF(L69:L100,AD11)","v":0},{"$f":"AE11/(AG4-AE25)","v":0},{"$f":"IF(AF11=0,0,(AF11*((LOG(AF11))/LOG(2))))","v":0},null,{"$f":"N11","v":11211},{"$f":"COUNTIF(L101:L131,AI11)","v":0},{"$f":"AJ11/(AL4-AJ25)","v":0},{"$f":"IF(AK11=0,0,(AK11*((LOG(AK11))/LOG(2))))","v":0},null,{"$f":"N11","v":11211},{"$f":"COUNTIF(L132:L162,AN11)","v":0},{"$f":"AO11/(AQ4-AO25)","v":0},{"$f":"IF(AP11=0,0,(AP11*((LOG(AP11))/LOG(2))))","v":0},null,{"$f":"N11","v":11211},{"$f":"COUNTIF(L163:L193,AS11)","v":0},{"$f":"AT11/(AV4-AT25)","v":0},{"$f":"IF(AU11=0,0,(AU11*((LOG(AU11))/LOG(2))))","v":0}]
[12,740,13,746,13,750,14,754,13,759,0,11111,null,11212,{"$f":"COUNTIF($L$7:$L$500,N12)","v":0},{"$f":"O12/$Q$4","v":0},{"$f":"IF(P12=0,0,(P12*((LOG(P12))/LOG(2))))","v":0},null,null,{"$f":"N12","v":11212},{"$f":"COUNTIF(L7:L37,T12)","v":0},{"$f":"U12/(W4-U25)","v":0},{"$f":"IF(V12=0,0,(V12*((LOG(V12))/LOG(2))))","v":0},null,{"$f":"N12","v":11212},{"$f":"COUNTIF(L38:L68,Y12)","v":0},{"$f":"Z12/(AB4-Z25)","v":0},{"$f":"IF(AA12=0,0,(AA12*((LOG(AA12))/LOG(2))))","v":0},null,{"$f":"N12","v":11212},{"$f":"COUNTIF(L69:L100,AD12)","v":0},{"$f":"AE12/(AG4-AE25)","v":0},{"$f":"IF(AF12=0,0,(AF12*((LOG(AF12))/LOG(2))))","v":0},null,{"$f":"N12","v":11212},{"$f":"COUNTIF(L101:L131,AI12)","v":0},{"$f":"AJ12/(AL4-AJ25)","v":0},{"$f":"IF(AK12=0,0,(AK12*((LOG(AK12))/LOG(2))))","v":0},null,{"$f":"N12","v":11212},{"$f":"COUNTIF(L132:L162,AN12)","v":0},{"$f":"AO12/(AQ4-AO25)","v":0},{"$f":"IF(AP12=0,0,(AP12*((LOG(AP12))/LOG(2))))","v":0},null,{"$f":"N12","v":11212},{"$f":"COUNTIF(L163:L193,AS12)","v":0},{"$f":"AT12/(AV4-AT25)","v":0},{"$f":"IF(AU12=0,0,(AU12*((LOG(AU12))/LOG(2))))","v":0}]
[12,860,13,865,13,869,14,875,13,892,0,11111,null,11221,{"$f":"COUNTIF($L$7:$L$500,N13)","v":0},{"$f":"O13/$Q$4","v":0},{"$f":"IF(P13=0,0,(P13*((LOG(P13))/LOG(2))))","v":0},null,null,{"$f":"N13","v":11221},{"$f":"COUNTIF(L7:L37,T13)","v":0},{"$f":"U13/(W4-U25)","v":0},{"$f":"IF(V13=0,0,(V13*((LOG(V13))/LOG(2))))","v":0},null,{"$f":"N13","v":11221},{"$f":"COUNTIF(L38:L68,Y13)","v":0},{"$f":"Z13/(AB4-Z25)","v":0},{"$f":"IF(AA13=0,0,(AA13*((LOG(AA13))/LOG(2))))","v":0},null,{"$f":"N13","v":11221},{"$f":"COUNTIF(L69:L100,AD13)","v":0},{"$f":"AE13/(AG4-AE25)","v":0},{"$f":"IF(AF13=0,0,(AF13*((LOG(AF13))/LOG(2))))","v":0},null,{"$f":"N13","v":11221},{"$f":"COUNTIF(L101:L131,AI13)","v":0},{"$f":"AJ13/(AL4-AJ25)","v":0},{"$f":"IF(AK13=0,0,(AK13*((LOG(AK13))/LOG(2))))","v":0},null,{"$f":"N13","v":11221},{"$f":"COUNTIF(L132:L162,AN13)","v":0},{"$f":"AO13/(AQ4-AO25)","v":0},{"$f":"IF(AP13=0,0,(AP13*((LOG(AP13))/LOG(2))))","v":0},null,{"$f":"N13","v":11221},{"$f":"COUNTIF(L163:L193,AS13)","v":0},{"$f":"AT13/(AV4-AT25)","v":0},{"$f":"IF(AU13=0,0,(AU13*((LOG(AU13))/LOG(2))))","v":0}]
[12,993,13,998,13,1002,14,1007,13,1011,0,11111,null,11222,{"$f":"COUNTIF($L$7:$L$500,N14)","v":0},{"$f":"O14/$Q$4","v":0},{"$f":"IF(P14=0,0,(P14*((LOG(P14))/LOG(2))))","v":0},null,null,{"$f":"N14","v":11222},{"$f":"COUNTIF(L7:L37,T14)","v":0},{"$f":"U14/(W4-U25)","v":0},{"$f":"IF(V14=0,0,(V14*((LOG(V14))/LOG(2))))","v":0},null,{"$f":"N14","v":11222},{"$f":"COUNTIF(L38:L68,Y14)","v":0},{"$f":"Z14/(AB4-Z25)","v":0},{"$f":"IF(AA14=0,0,(AA14*((LOG(AA14))/LOG(2))))","v":0},null,{"$f":"N14","v":11222},{"$f":"COUNTIF(L69:L100,AD14)","v":0},{"$f":"AE14/(AG4-AE25)","v":0},{"$f":"IF(AF14=0,0,(AF14*((LOG(AF14))/LOG(2))))","v":0},null,{"$f":"N14","v":11222},{"$f":"COUNTIF(L101:L131,AI14)","v":0},{"$f":"AJ14/(AL4-AJ25)","v":0},{"$f":"IF(AK14=0,0,(AK14*((LOG(AK14))/LOG(2))))","v":0},null,{"$f":"N14","v":11222},{"$f":"COUNTIF(L132:L162,AN14)","v":0},{"$f":"AO14/(AQ4-AO25)","v":0},{"$f":"IF(AP14=0,0,(AP14*((LOG(AP14))/LOG(2))))","v":0},null,{"$f":"N14","v":11222},{"$f":"COUNTIF(L163:L193,AS14)","v":0},{"$f":"AT14/(AV4-AT25)","v":0},{"$f":"IF(AU14=0,0,(AU14*((LOG(AU14))/LOG(2))))","v":0}]
[12,1112,13,1116,13,1121,14,1125,13,1129,0,11111,null,12111,{"$f":"COUNTIF($L$7:$L$500,N15)","v":0},{"$f":"O15/$Q$4","v":0},{"$f":"IF(P15=0,0,(P15*((LOG(P15))/LOG(2))))","v":0},null,null,{"$f":"N15","v":12111},{"$f":"COUNTIF(L7:L37,T15)","v":0},{"$f":"U15/(W4-U25)","v":0},{"$f":"IF(V15=0,0,(V15*((LOG(V15))/LOG(2))))","v":0},null,{"$f":"N15","v":12111},{"$f":"COUNTIF(L38:L68,Y15)","v":0},{"$f":"Z15/(AB4-Z25)","v":0},{"$f":"IF(AA15=0,0,(AA15*((LOG(AA15))/LOG(2))))","v":0},null,{"$f":"N15","v":12111},{"$f":"COUNTIF(L69:L100,AD15)","v":0},{"$f":"AE15/(AG4-AE25)","v":0},{"$f":"IF(AF15=0,0,(AF15*((LOG(AF15))/LOG(2))))","v":0},null,{"$f":"N15","v":12111},{"$f":"COUNTIF(L101:L131,AI15)","v":0},{"$f":"AJ15/(AL4-AJ25)","v":0},{"$f":"IF(AK15=0,0,(AK15*((LOG(AK15))/LOG(2))))","v":0},null,{"$f":"N15","v":12111},{"$f":"COUNTIF(L132:L162,AN15)","v":0},{"$f":"AO15/(AQ4-AO25)","v":0},{"$f":"IF(AP15=0,0,(AP15*((LOG(AP15))/LOG(2))))","v":0},null,{"$f":"N15","v":12111},{"$f":"COUNTIF(L163:L193,AS15)","v":0},{"$f":"AT15/(AV4-AT25)","v":0},{"$f":"IF(AU15=0,0,(AU15*((LOG(AU15))/LOG(2))))","v":0}]
[12,1240,13,1245,13,1249,14,1254,13,1258,0,11111,null,12112,{"$f":"COUNTIF($L$7:$L$500,N16)","v":0},{"$f":"O16/$Q$4","v":0},{"$f":"IF(P16=0,0,(P16*((LOG(P16))/LOG(2))))","v":0},null,null,{"$f":"N16","v":12112},{"$f":"COUNTIF(L7:L37,T16)","v":0},{"$f":"U16/(W4-U25)","v":0},{"$f":"IF(V16=0,0,(V16*((LOG(V16))/LOG(2))))","v":0},null,{"$f":"N16","v":12112},{"$f":"COUNTIF(L38:L68,Y16)","v":0},{"$f":"Z16/(AB4-Z25)","v":0},{"$f":"IF(AA16=0,0,(AA16*((LOG(AA16))/LOG(2))))","v":0},null,{"$f":"N16","v":12112},{"$f":"COUNTIF(L69:L100,AD16)","v":0},{"$f":"AE16/(AG4-AE25)","v":0},{"$f":"IF(AF16=0,0,(AF16*((LOG(AF16))/LOG(2))))","v":0},null,{"$f":"N16","v":12112},{"$f":"COUNTIF(L101:L131,AI16)","v":0},{"$f":"AJ16/(AL4-AJ25)","v":0},{"$f":"IF(AK16=0,0,(AK16*((LOG(AK16))/LOG(2))))","v":0},null,{"$f":"N16","v":12112},{"$f":"COUNTIF(L132:L162,AN16)","v":0},{"$f":"AO16/(AQ4-AO25)","v":0},{"$f":"IF(AP16=0,0,(AP16*((LOG(AP16))/LOG(2))))","v":0},null,{"$f":"N16","v":12112},{"$f":"COUNTIF(L163:L193,AS16)","v":0},{"$f":"AT16/(AV4-AT25)","v":0},{"$f":"IF(AU16=0,0,(AU16*((LOG(AU16))/LOG(2))))","v":0}]
[12,1365,13,1370,13,1381,14,1400,13,1407,0,11111,null,12121,{"$f":"COUNTIF($L$7:$L$500,N17)","v":0},{"$f":"O17/$Q$4","v":0},{"$f":"IF(P17=0,0,(P17*((LOG(P17))/LOG(2))))","v":0},null,null,{"$f":"N17","v":12121},{"$f":"COUNTIF(L7:L37,T17)","v":0},{"$f":"U17/(W4-U25)","v":0},{"$f":"IF(V17=0,0,(V17*((LOG(V17))/LOG(2))))","v":0},null,{"$f":"N17","v":12121},{"$f":"COUNTIF(L38:L68,Y17)","v":0},{"$f":"Z17/(AB4-Z25)","v":0},{"$f":"IF(AA17=0,0,(AA17*((LOG(AA17))/LOG(2))))","v":0},null,{"$f":"N17","v":12121},{"$f":"COUNTIF(L69:L100,AD17)","v":0},{"$f":"AE17/(AG4-AE25)","v":0},{"$f":"IF(AF17=0,0,(AF17*((LOG(AF17))/LOG(2))))","v":0},null,{"$f":"N17","v":12121},{"$f":"COUNTIF(L101:L131,AI17)","v":0},{"$f":"AJ17/(AL4-AJ25)","v":0},{"$f":"IF(AK17=0,0,(AK17*((LOG(AK17))/LOG(2))))","v":0},null,{"$f":"N17","v":12121},{"$f":"COUNTIF(L132:L162,AN17)","v":0},{"$f":"AO17/(AQ4-AO25)","v":0},{"$f":"IF(AP17=0,0,(AP17*((LOG(AP17))/LOG(2))))","v":0},null,{"$f":"N17","v":12121},{"$f":"COUNTIF(L163:L193,AS17)","v":0},{"$f":"AT17/(AV4-AT25)","v":0},{"$f":"IF(AU17=0,0,(AU17*((LOG(AU17))/LOG(2))))","v":0}]
[12,1512,13,1517,13,1521,14,1525,13,1530,1,11111,null,12122,{"$f":"COUNTIF($L$7:$L$500,N18)","v":0},{"$f":"O18/$Q$4","v":0},{"$f":"IF(P18=0,0,(P18*((LOG(P18))/LOG(2))))","v":0},null,null,{"$f":"N18","v":12122},{"$f":"COUNTIF(L7:L37,T18)","v":0},{"$f":"U18/(W4-U25)","v":0},{"$f":"IF(V18=0,0,(V18*((LOG(V18))/LOG(2))))","v":0},null,{"$f":"N18","v":12122},{"$f":"COUNTIF(L38:L68,Y18)","v":0},{"$f":"Z18/(AB4-Z25)","v":0},{"$f":"IF(AA18=0,0,(AA18*((LOG(AA18))/LOG(2))))","v":0},null,{"$f":"N18","v":12122},{"$f":"COUNTIF(L69:L100,AD18)","v":0},{"$f":"AE18/(AG4-AE25)","v":0},{"$f":"IF(AF18=0,0,(AF18*((LOG(AF18))/LOG(2))))","v":0},null,{"$f":"N18","v":12122},{"$f":"COUNTIF(L101:L131,AI18)","v":0},{"$f":"AJ18/(AL4-AJ25)","v":0},{"$f":"IF(AK18=0,0,(AK18*((LOG(AK18))/LOG(2))))","v":0},null,{"$f":"N18","v":12122},{"$f":"COUNTIF(L132:L162,AN18)","v":0},{"$f":"AO18/(AQ4-AO25)","v":0},{"$f":"IF(AP18=0,0,(AP18*((LOG(AP18))/LOG(2))))","v":0},null,{"$f":"N18","v":12122},{"$f":"COUNTIF(L163:L193,AS18)","v":0},{"$f":"AT18/(AV4-AT25)","v":0},{"$f":"IF(AU18=0,0,(AU18*((LOG(AU18))/LOG(2))))","v":0}]
[12,1640,13,1645,13,1649,14,1653,13,1659,1,11111,null,12211,{"$f":"COUNTIF($L$7:$L$500,N19)","v":0},{"$f":"O19/$Q$4","v":0},{"$f":"IF(P19=0,0,(P19*((LOG(P19))/LOG(2))))","v":0},null,null,{"$f":"N19","v":12211},{"$f":"COUNTIF(L7:L37,T19)","v":0},{"$f":"U19/(W4-U25)","v":0},{"$f":"IF(V19=0,0,(V19*((LOG(V19))/LOG(2))))","v":0},null,{"$f":"N19","v":12211},{"$f":"COUNTIF(L38:L68,Y19)","v":0},{"$f":"Z19/(AB4-Z25)","v":0},{"$f":"IF(AA19=0,0,(AA19*((LOG(AA19))/LOG(2))))","v":0},null,{"$f":"N19","v":12211},{"$f":"COUNTIF(L69:L100,AD19)","v":0},{"$f":"AE19/(AG4-AE25)","v":0},{"$f":"IF(AF19=0,0,(AF19*((LOG(AF19))/LOG(2))))","v":0},null,{"$f":"N19","v":12211},{"$f":"COUNTIF(L101:L131,AI19)","v":0},{"$f":"AJ19/(AL4-AJ25)","v":0},{"$f":"IF(AK19=0,0,(AK19*((LOG(AK19))/LOG(2))))","v":0},null,{"$f":"N19","v":12211},{"$f":"COUNTIF(L132:L162,AN19)","v":0},{"$f":"AO19/(AQ4-AO25)","v":0},{"$f":"IF(AP19=0,0,(AP19*((LOG(AP19))/LOG(2))))","v":0},null,{"$f":"N19","v":12211},{"$f":"COUNTIF(L163:L193,AS19)","v":0},{"$f":"AT19/(AV4-AT25)","v":0},{"$f":"IF(AU19=0,0,(AU19*((LOG(AU19))/LOG(2))))","v":0}]
[12,1769,13,1773,13,1777,14,1781,13,1786,0,11111,null,12212,{"$f":"COUNTIF($L$7:$L$500,N20)","v":0},{"$f":"O20/$Q$4","v":0},{"$f":"IF(P20=0,0,(P20*((LOG(P20))/LOG(2))))","v":0},null,null,{"$f":"N20","v":12212},{"$f":"COUNTIF(L7:L37,T20)","v":0},{"$f":"U20/(W4-U25)","v":0},{"$f":"IF(V20=0,0,(V20*((LOG(V20))/LOG(2))))","v":0},null,{"$f":"N20","v":12212},{"$f":"COUNTIF(L38:L68,Y20)","v":0},{"$f":"Z20/(AB4-Z25)","v":0},{"$f":"IF(AA20=0,0,(AA20*((LOG(AA20))/LOG(2))))","v":0},null,{"$f":"N20","v":12212},{"$f":"COUNTIF(L69:L100,AD20)","v":0},{"$f":"AE20/(AG4-AE25)","v":0},{"$f":"IF(AF20=0,0,(AF20*((LOG(AF20))/LOG(2))))","v":0},null,{"$f":"N20","v":12212},{"$f":"COUNTIF(L101:L131,AI20)","v":0},{"$f":"AJ20/(AL4-AJ25)","v":0},{"$f":"IF(AK20=0,0,(AK20*((LOG(AK20))/LOG(2))))","v":0},null,{"$f":"N20","v":12212},{"$f":"COUNTIF(L132:L162,AN20)","v":0},{"$f":"AO20/(AQ4-AO25)","v":0},{"$f":"IF(AP20=0,0,(AP20*((LOG(AP20))/LOG(2))))","v":0},null,{"$f":"N20","v":12212},{"$f":"COUNTIF(L163:L193,AS20)","v":0},{"$f":"AT20/(AV4-AT25)","v":0},{"$f":"IF(AU20=0,0,(AU20*((LOG(AU20))/LOG(2))))","v":0}]
[12,1889,13,1894,13,1898,14,1902,13,1921,0,11111,null,12221,{"$f":"COUNTIF($L$7:$L$500,N21)","v":0},{"$f":"O21/$Q$4","v":0},{"$f":"IF(P21=0,0,(P21*((LOG(P21))/LOG(2))))","v":0},null,null,{"$f":"N21","v":12221},{"$f":"COUNTIF(L7:L37,T21)","v":0},{"$f":"U21/(W4-U25)","v":0},{"$f":"IF(V21=0,0,(V21*((LOG(V21))/LOG(2))))","v":0},null,{"$f":"N21","v":12221},{"$f":"COUNTIF(L38:L68,Y21)","v":0},{"$f":"Z21/(AB4-Z25)","v":0},{"$f":"IF(AA21=0,0,(AA21*((LOG(AA21))/LOG(2))))","v":0},null,{"$f":"N21","v":12221},{"$f":"COUNTIF(L69:L100,AD21)","v":0},{"$f":"AE21/(AG4-AE25)","v":0},{"$f":"IF(AF21=0,0,(AF21*((LOG(AF21))/LOG(2))))","v":0},null,{"$f":"N21","v":12221},{"$f":"COUNTIF(L101:L131,AI21)","v":0},{"$f":"AJ21/(AL4-AJ25)","v":0},{"$f":"IF(AK21=0,0,(AK21*((LOG(AK21))/LOG(2))))","v":0},null,{"$f":"N21","v":12221},{"$f":"COUNTIF(L132:L162,AN21)","v":0},{"$f":"AO21/(AQ4-AO25)","v":0},{"$f":"IF(AP21=0,0,(AP21*((LOG(AP21))/LOG(2))))","v":0},null,{"$f":"N21","v":12221},{"$f":"COUNTIF(L163:L193,AS21)","v":0},{"$f":"AT21/(AV4-AT25)","v":0},{"$f":"IF(AU21=0,0,(AU21*((LOG(AU21))/LOG(2))))","v":0}]
[12,2022,13,2027,13,2031,14,2040,13,2059,0,11111,null,12222,{"$f":"COUNTIF($L$7:$L$500,N22)","v":0},{"$f":"O22/$Q$4","v":0},{"$f":"IF(P22=0,0,(P22*((LOG(P22))/LOG(2))))","v":0},null,null,{"$f":"N22","v":12222},{"$f":"COUNTIF(L7:L37,T22)","v":0},{"$f":"U22/(W4-U25)","v":0},{"$f":"IF(V22=0,0,(V22*((LOG(V22))/LOG(2))))","v":0},null,{"$f":"N22","v":12222},{"$f":"COUNTIF(L38:L68,Y22)","v":0},{"$f":"Z22/(AB4-Z25)","v":0},{"$f":"IF(AA22=0,0,(AA22*((LOG(AA22))/LOG(2))))","v":0},null,{"$f":"N22","v":12222},{"$f":"COUNTIF(L69:L100,AD22)","v":0},{"$f":"AE22/(AG4-AE25)","v":0},{"$f":"IF(AF22=0,0,(AF22*((LOG(AF22))/LOG(2))))","v":0},null,{"$f":"N22","v":12222},{"$f":"COUNTIF(L101:L131,AI22)","v":0},{"$f":"AJ22/(AL4-AJ25)","v":0},{"$f":"IF(AK22=0,0,(AK22*((LOG(AK22))/LOG(2))))","v":0},null,{"$f":"N22","v":12222},{"$f":"COUNTIF(L132:L162,AN22)","v":0},{"$f":"AO22/(AQ4-AO25)","v":0},{"$f":"IF(AP22=0,0,(AP22*((LOG(AP22))/LOG(2))))","v":0},null,{"$f":"N22","v":12222},{"$f":"COUNTIF(L163:L193,AS22)","v":0},{"$f":"AT22/(AV4-AT25)","v":0},{"$f":"IF(AU22=0,0,(AU22*((LOG(AU22))/LOG(2))))","v":0}]
[12,2161,13,2166,13,2170,14,2174,13,2187,0,11111,null,21111,{"$f":"COUNTIF($L$7:$L$500,N23)","v":1},{"$f":"O23/$Q$4","v":5.3475935828877002E-3},{"$f":"IF(P23=0,0,(P23*((LOG(P23))/LOG(2))))","v":-4.0357724384425864E-2},null,null,{"$f":"N23","v":21111},{"$f":"COUNTIF(L7:L37,T23)","v":1},{"$f":"U23/(W4-U25)","v":3.2258064516129031E-2},{"$f":"IF(V23=0,0,(V23*((LOG(V23))/LOG(2))))","v":-0.15981278420602821},null,{"$f":"N23","v":21111},{"$f":"COUNTIF(L38:L68,Y23)","v":0},{"$f":"Z23/(AB4-Z25)","v":0},{"$f":"IF(AA23=0,0,(AA23*((LOG(AA23))/LOG(2))))","v":0},null,{"$f":"N23","v":21111},{"$f":"COUNTIF(L69:L100,AD23)","v":0},{"$f":"AE23/(AG4-AE25)","v":0},{"$f":"IF(AF23=0,0,(AF23*((LOG(AF23))/LOG(2))))","v":0},null,{"$f":"N23","v":21111},{"$f":"COUNTIF(L101:L131,AI23)","v":0},{"$f":"AJ23/(AL4-AJ25)","v":0},{"$f":"IF(AK23=0,0,(AK23*((LOG(AK23))/LOG(2))))","v":0},null,{"$f":"N23","v":21111},{"$f":"COUNTIF(L132:L162,AN23)","v":0},{"$f":"AO23/(AQ4-AO25)","v":0},{"$f":"IF(AP23=0,0,(AP23*((LOG(AP23))/LOG(2))))","v":0},null,{"$f":"N23","v":21111},{"$f":"COUNTIF(L163:L193,AS23)","v":0},{"$f":"AT23/(AV4-AT25)","v":0},{"$f":"IF(AU23=0,0,(AU23*((LOG(AU23))/LOG(2))))","v":0}]
[12,2291,13,2296,13,2304,14,2309,13,2318,0,11111,null,21112,{"$f":"COUNTIF($L$7:$L$500,N24)","v":0},{"$f":"O24/$Q$4","v":0},{"$f":"IF(P24=0,0,(P24*((LOG(P24))/LOG(2))))","v":0},null,null,{"$f":"N24","v":21112},{"$f":"COUNTIF(L7:L37,T24)","v":0},{"$f":"U24/(W4-U25)","v":0},{"$f":"IF(V24=0,0,(V24*((LOG(V24))/LOG(2))))","v":0},null,{"$f":"N24","v":21112},{"$f":"COUNTIF(L38:L68,Y24)","v":0},{"$f":"Z24/(AB4-Z25)","v":0},{"$f":"IF(AA24=0,0,(AA24*((LOG(AA24))/LOG(2))))","v":0},null,{"$f":"N24","v":21112},{"$f":"COUNTIF(L69:L100,AD24)","v":0},{"$f":"AE24/(AG4-AE25)","v":0},{"$f":"IF(AF24=0,0,(AF24*((LOG(AF24))/LOG(2))))","v":0},null,{"$f":"N24","v":21112},{"$f":"COUNTIF(L101:L131,AI24)","v":0},{"$f":"AJ24/(AL4-AJ25)","v":0},{"$f":"IF(AK24=0,0,(AK24*((LOG(AK24))/LOG(2))))","v":0},null,{"$f":"N24","v":21112},{"$f":"COUNTIF(L132:L162,AN24)","v":0},{"$f":"AO24/(AQ4-AO25)","v":0},{"$f":"IF(AP24=0,0,(AP24*((LOG(AP24))/LOG(2))))","v":0},null,{"$f":"N24","v":21112},{"$f":"COUNTIF(L163:L193,AS24)","v":0},{"$f":"AT24/(AV4-AT25)","v":0},{"$f":"IF(AU24=0,0,(AU24*((LOG(AU24))/LOG(2))))","v":0}]
[12,2423,13,2430,13,2435,14,2441,13,2445,0,11111,null,21121,{"$f":"COUNTIF($L$7:$L$500,N25)","v":0},{"$f":"O25/$Q$4","v":0},{"$f":"IF(P25=0,0,(P25*((LOG(P25))/LOG(2))))","v":0},null,null,{"$f":"N25","v":21121},{"$f":"COUNTIF(L7:L37,T25)","v":0},null,null,null,{"$f":"N25","v":21121},{"$f":"COUNTIF(L38:L68,Y25)","v":0},null,null,null,{"$f":"N25","v":21121},{"$f":"COUNTIF(L69:L100,AD25)","v":0},null,null,null,{"$f":"N25","v":21121},{"$f":"COUNTIF(L101:L131,AI25)","v":0},null,null,null,{"$f":"N25","v":21121},{"$f":"COUNTIF(L132:L162,AN25)","v":0},null,null,null,{"$f":"N25","v":21121},{"$f":"COUNTIF(L163:L193,AS25)","v":0}]
[12,2555,13,2563,13,2568,14,2579,13,2583,0,11111,null,21122,{"$f":"COUNTIF($L$7:$L$500,N26)","v":0},{"$f":"O26/$Q$4","v":0},{"$f":"IF(P26=0,0,(P26*((LOG(P26))/LOG(2))))","v":0},null,null,{"$f":"N26","v":21122},{"$f":"COUNTIF(L7:L37,T26)","v":0},{"$f":"U26/(W4-U25)","v":0},{"$f":"IF(V26=0,0,(V26*((LOG(V26))/LOG(2))))","v":0},null,{"$f":"N26","v":21122},{"$f":"COUNTIF(L38:L68,Y26)","v":0},{"$f":"Z26/(AB4-Z25)","v":0},{"$f":"IF(AA26=0,0,(AA26*((LOG(AA26))/LOG(2))))","v":0},null,{"$f":"N26","v":21122},{"$f":"COUNTIF(L69:L100,AD26)","v":0},{"$f":"AE26/(AG4-AE25)","v":0},{"$f":"IF(AF26=0,0,(AF26*((LOG(AF26))/LOG(2))))","v":0},null,{"$f":"N26","v":21122},{"$f":"COUNTIF(L101:L131,AI26)","v":0},{"$f":"AJ26/(AL4-AJ25)","v":0},{"$f":"IF(AK26=0,0,(AK26*((LOG(AK26))/LOG(2))))","v":0},null,{"$f":"N26","v":21122},{"$f":"COUNTIF(L132:L162,AN26)","v":0},{"$f":"AO26/(AQ4-AO25)","v":0},{"$f":"IF(AP26=0,0,(AP26*((LOG(AP26))/LOG(2))))","v":0},null,{"$f":"N26","v":21122},{"$f":"COUNTIF(L163:L193,AS26)","v":0},{"$f":"AT26/(AV4-AT25)","v":0},{"$f":"IF(AU26=0,0,(AU26*((LOG(AU26))/LOG(2))))","v":0}]
[12,2691,13,2695,13,2699,14,2704,13,2709,1,11111,null,21211,{"$f":"COUNTIF($L$7:$L$500,N27)","v":0},{"$f":"O27/$Q$4","v":0},{"$f":"IF(P27=0,0,(P27*((LOG(P27))/LOG(2))))","v":0},null,null,{"$f":"N27","v":21211},{"$f":"COUNTIF(L7:L37,T27)","v":0},{"$f":"U27/(W4-U25)","v":0},{"$f":"IF(V27=0,0,(V27*((LOG(V27))/LOG(2))))","v":0},null,{"$f":"N27","v":21211},{"$f":"COUNTIF(L38:L68,Y27)","v":0},{"$f":"Z27/(AB4-Z25)","v":0},{"$f":"IF(AA27=0,0,(AA27*((LOG(AA27))/LOG(2))))","v":0},null,{"$f":"N27","v":21211},{"$f":"COUNTIF(L69:L100,AD27)","v":0},{"$f":"AE27/(AG4-AE25)","v":0},{"$f":"IF(AF27=0,0,(AF27*((LOG(AF27))/LOG(2))))","v":0},null,{"$f":"N27","v":21211},{"$f":"COUNTIF(L101:L131,AI27)","v":0},{"$f":"AJ27/(AL4-AJ25)","v":0},{"$f":"IF(AK27=0,0,(AK27*((LOG(AK27))/LOG(2))))","v":0},null,{"$f":"N27","v":21211},{"$f":"COUNTIF(L132:L162,AN27)","v":0},{"$f":"AO27/(AQ4-AO25)","v":0},{"$f":"IF(AP27=0,0,(AP27*((LOG(AP27))/LOG(2))))","v":0},null,{"$f":"N27","v":21211},{"$f":"COUNTIF(L163:L193,AS27)","v":0},{"$f":"AT27/(AV4-AT25)","v":0},{"$f":"IF(AU27=0,0,(AU27*((LOG(AU27))/LOG(2))))","v":0}]
[12,2807,13,2816,13,2822,14,2826,13,2830,1,11111,null,21212,{"$f":"COUNTIF($L$7:$L$500,N28)","v":0},{"$f":"O28/$Q$4","v":0},{"$f":"IF(P28=0,0,(P28*((LOG(P28))/LOG(2))))","v":0},null,null,{"$f":"N28","v":21212},{"$f":"COUNTIF(L7:L37,T28)","v":0},{"$f":"U28/(W4-U25)","v":0},{"$f":"IF(V28=0,0,(V28*((LOG(V28))/LOG(2))))","v":0},null,{"$f":"N28","v":21212},{"$f":"COUNTIF(L38:L68,Y28)","v":0},{"$f":"Z28/(AB4-Z25)","v":0},{"$f":"IF(AA28=0,0,(AA28*((LOG(AA28))/LOG(2))))","v":0},null,{"$f":"N28","v":21212},{"$f":"COUNTIF(L69:L100,AD28)","v":0},{"$f":"AE28/(AG4-AE25)","v":0},{"$f":"IF(AF28=0,0,(AF28*((LOG(AF28))/LOG(2))))","v":0},null,{"$f":"N28","v":21212},{"$f":"COUNTIF(L101:L131,AI28)","v":0},{"$f":"AJ28/(AL4-AJ25)","v":0},{"$f":"IF(AK28=0,0,(AK28*((LOG(AK28))/LOG(2))))","v":0},null,{"$f":"N28","v":21212},{"$f":"COUNTIF(L132:L162,AN28)","v":0},{"$f":"AO28/(AQ4-AO25)","v":0},{"$f":"IF(AP28=0,0,(AP28*((LOG(AP28))/LOG(2))))","v":0},null,{"$f":"N28","v":21212},{"$f":"COUNTIF(L163:L193,AS28)","v":0},{"$f":"AT28/(AV4-AT25)","v":0},{"$f":"IF(AU28=0,0,(AU28*((LOG(AU28))/LOG(2))))","v":0}]
[12,2934,13,2939,13,2943,14,2948,13,2952,0,11111,null,21221,{"$f":"COUNTIF($L$7:$L$500,N29)","v":0},{"$f":"O29/$Q$4","v":0},{"$f":"IF(P29=0,0,(P29*((LOG(P29))/LOG(2))))","v":0},null,null,{"$f":"N29","v":21221},{"$f":"COUNTIF(L7:L37,T29)","v":0},{"$f":"U29/(W4-U25)","v":0},{"$f":"IF(V29=0,0,(V29*((LOG(V29))/LOG(2))))","v":0},null,{"$f":"N29","v":21221},{"$f":"COUNTIF(L38:L68,Y29)","v":0},{"$f":"Z29/(AB4-Z25)","v":0},{"$f":"IF(AA29=0,0,(AA29*((LOG(AA29))/LOG(2))))","v":0},null,{"$f":"N29","v":21221},{"$f":"COUNTIF(L69:L100,AD29)","v":0},{"$f":"AE29/(AG4-AE25)","v":0},{"$f":"IF(AF29=0,0,(AF29*((LOG(AF29))/LOG(2))))","v":0},null,{"$f":"N29","v":21221},{"$f":"COUNTIF(L101:L131,AI29)","v":0},{"$f":"AJ29/(AL4-AJ25)","v":0},{"$f":"IF(AK29=0,0,(AK29*((LOG(AK29))/LOG(2))))","v":0},null,{"$f":"N29","v":21221},{"$f":"COUNTIF(L132:L162,AN29)","v":0},{"$f":"AO29/(AQ4-AO25)","v":0},{"$f":"IF(AP29=0,0,(AP29*((LOG(AP29))/LOG(2))))","v":0},null,{"$f":"N29","v":21221},{"$f":"COUNTIF(L163:L193,AS29)","v":0},{"$f":"AT29/(AV4-AT25)","v":0},{"$f":"IF(AU29=0,0,(AU29*((LOG(AU29))/LOG(2))))","v":0}]
[12,3054,13,3058,13,3063,14,3067,13,3072,1,11111,null,21222,{"$f":"COUNTIF($L$7:$L$500,N30)","v":0},{"$f":"O30/$Q$4","v":0},{"$f":"IF(P30=0,0,(P30*((LOG(P30))/LOG(2))))","v":0},null,null,{"$f":"N30","v":21222},{"$f":"COUNTIF(L7:L37,T30)","v":0},{"$f":"U30/(W4-U25)","v":0},{"$f":"IF(V30=0,0,(V30*((LOG(V30))/LOG(2))))","v":0},null,{"$f":"N30","v":21222},{"$f":"COUNTIF(L38:L68,Y30)","v":0},{"$f":"Z30/(AB4-Z25)","v":0},{"$f":"IF(AA30=0,0,(AA30*((LOG(AA30))/LOG(2))))","v":0},null,{"$f":"N30","v":21222},{"$f":"COUNTIF(L69:L100,AD30)","v":0},{"$f":"AE30/(AG4-AE25)","v":0},{"$f":"IF(AF30=0,0,(AF30*((LOG(AF30))/LOG(2))))","v":0},null,{"$f":"N30","v":21222},{"$f":"COUNTIF(L101:L131,AI30)","v":0},{"$f":"AJ30/(AL4-AJ25)","v":0},{"$f":"IF(AK30=0,0,(AK30*((LOG(AK30))/LOG(2))))","v":0},null,{"$f":"N30","v":21222},{"$f":"COUNTIF(L132:L162,AN30)","v":0},{"$f":"AO30/(AQ4-AO25)","v":0},{"$f":"IF(AP30=0,0,(AP30*((LOG(AP30))/LOG(2))))","v":0},null,{"$f":"N30","v":21222},{"$f":"COUNTIF(L163:L193,AS30)","v":0},{"$f":"AT30/(AV4-AT25)","v":0},{"$f":"IF(AU30=0,0,(AU30*((LOG(AU30))/LOG(2))))","v":0}]
[12,3184,13,3189,13,3194,14,3198,13,3203,0,11111,null,22111,{"$f":"COUNTIF($L$7:$L$500,N31)","v":0},{"$f":"O31/$Q$4","v":0},{"$f":"IF(P31=0,0,(P31*((LOG(P31))/LOG(2))))","v":0},null,null,{"$f":"N31","v":22111},{"$f":"COUNTIF(L7:L37,T31)","v":0},{"$f":"U31/(W4-U25)","v":0},{"$f":"IF(V31=0,0,(V31*((LOG(V31))/LOG(2))))","v":0},null,{"$f":"N31","v":22111},{"$f":"COUNTIF(L38:L68,Y31)","v":0},{"$f":"Z31/(AB4-Z25)","v":0},{"$f":"IF(AA31=0,0,(AA31*((LOG(AA31))/LOG(2))))","v":0},null,{"$f":"N31","v":22111},{"$f":"COUNTIF(L69:L100,AD31)","v":0},{"$f":"AE31/(AG4-AE25)","v":0},{"$f":"IF(AF31=0,0,(AF31*((LOG(AF31))/LOG(2))))","v":0},null,{"$f":"N31","v":22111},{"$f":"COUNTIF(L101:L131,AI31)","v":0},{"$f":"AJ31/(AL4-AJ25)","v":0},{"$f":"IF(AK31=0,0,(AK31*((LOG(AK31))/LOG(2))))","v":0},null,{"$f":"N31","v":22111},{"$f":"COUNTIF(L132:L162,AN31)","v":0},{"$f":"AO31/(AQ4-AO25)","v":0},{"$f":"IF(AP31=0,0,(AP31*((LOG(AP31))/LOG(2))))","v":0},null,{"$f":"N31","v":22111},{"$f":"COUNTIF(L163:L193,AS31)","v":0},{"$f":"AT31/(AV4-AT25)","v":0},{"$f":"IF(AU31=0,0,(AU31*((LOG(AU31))/LOG(2))))","v":0}]
[12,3303,13,3308,13,3312,14,3316,13,3320,0,11111,null,22112,{"$f":"COUNTIF($L$7:$L$500,N32)","v":0},{"$f":"O32/$Q$4","v":0},{"$f":"IF(P32=0,0,(P32*((LOG(P32))/LOG(2))))","v":0},null,null,{"$f":"N32","v":22112},{"$f":"COUNTIF(L7:L37,T32)","v":0},{"$f":"U32/(W4-U25)","v":0},{"$f":"IF(V32=0,0,(V32*((LOG(V32))/LOG(2))))","v":0},null,{"$f":"N32","v":22112},{"$f":"COUNTIF(L38:L68,Y32)","v":0},{"$f":"Z32/(AB4-Z25)","v":0},{"$f":"IF(AA32=0,0,(AA32*((LOG(AA32))/LOG(2))))","v":0},null,{"$f":"N32","v":22112},{"$f":"COUNTIF(L69:L100,AD32)","v":0},{"$f":"AE32/(AG4-AE25)","v":0},{"$f":"IF(AF32=0,0,(AF32*((LOG(AF32))/LOG(2))))","v":0},null,{"$f":"N32","v":22112},{"$f":"COUNTIF(L101:L131,AI32)","v":0},{"$f":"AJ32/(AL4-AJ25)","v":0},{"$f":"IF(AK32=0,0,(AK32*((LOG(AK32))/LOG(2))))","v":0},null,{"$f":"N32","v":22112},{"$f":"COUNTIF(L132:L162,AN32)","v":0},{"$f":"AO32/(AQ4-AO25)","v":0},{"$f":"IF(AP32=0,0,(AP32*((LOG(AP32))/LOG(2))))","v":0},null,{"$f":"N32","v":22112},{"$f":"COUNTIF(L163:L193,AS32)","v":0},{"$f":"AT32/(AV4-AT25)","v":0},{"$f":"IF(AU32=0,0,(AU32*((LOG(AU32))/LOG(2))))","v":0}]
[12,3425,13,3434,13,3438,14,3442,13,3448,0,11111,null,22121,{"$f":"COUNTIF($L$7:$L$500,N33)","v":0},{"$f":"O33/$Q$4","v":0},{"$f":"IF(P33=0,0,(P33*((LOG(P33))/LOG(2))))","v":0},null,null,{"$f":"N33","v":22121},{"$f":"COUNTIF(L7:L37,T33)","v":0},{"$f":"U33/(W4-U25)","v":0},{"$f":"IF(V33=0,0,(V33*((LOG(V33))/LOG(2))))","v":0},null,{"$f":"N33","v":22121},{"$f":"COUNTIF(L38:L68,Y33)","v":0},{"$f":"Z33/(AB4-Z25)","v":0},{"$f":"IF(AA33=0,0,(AA33*((LOG(AA33))/LOG(2))))","v":0},null,{"$f":"N33","v":22121},{"$f":"COUNTIF(L69:L100,AD33)","v":0},{"$f":"AE33/(AG4-AE25)","v":0},{"$f":"IF(AF33=0,0,(AF33*((LOG(AF33))/LOG(2))))","v":0},null,{"$f":"N33","v":22121},{"$f":"COUNTIF(L101:L131,AI33)","v":0},{"$f":"AJ33/(AL4-AJ25)","v":0},{"$f":"IF(AK33=0,0,(AK33*((LOG(AK33))/LOG(2))))","v":0},null,{"$f":"N33","v":22121},{"$f":"COUNTIF(L132:L162,AN33)","v":0},{"$f":"AO33/(AQ4-AO25)","v":0},{"$f":"IF(AP33=0,0,(AP33*((LOG(AP33))/LOG(2))))","v":0},null,{"$f":"N33","v":22121},{"$f":"COUNTIF(L163:L193,AS33)","v":0},{"$f":"AT33/(AV4-AT25)","v":0},{"$f":"IF(AU33=0,0,(AU33*((LOG(AU33))/LOG(2))))","v":0}]
[12,3552,13,3556,13,3560,14,3570,13,3578,0,11111,null,22122,{"$f":"COUNTIF($L$7:$L$500,N34)","v":0},{"$f":"O34/$Q$4","v":0},{"$f":"IF(P34=0,0,(P34*((LOG(P34))/LOG(2))))","v":0},null,null,{"$f":"N34","v":22122},{"$f":"COUNTIF(L7:L37,T34)","v":0},{"$f":"U34/(W4-U25)","v":0},{"$f":"IF(V34=0,0,(V34*((LOG(V34))/LOG(2))))","v":0},null,{"$f":"N34","v":22122},{"$f":"COUNTIF(L38:L68,Y34)","v":0},{"$f":"Z34/(AB4-Z25)","v":0},{"$f":"IF(AA34=0,0,(AA34*((LOG(AA34))/LOG(2))))","v":0},null,{"$f":"N34","v":22122},{"$f":"COUNTIF(L69:L100,AD34)","v":0},{"$f":"AE34/(AG4-AE25)","v":0},{"$f":"IF(AF34=0,0,(AF34*((LOG(AF34))/LOG(2))))","v":0},null,{"$f":"N34","v":22122},{"$f":"COUNTIF(L101:L131,AI34)","v":0},{"$f":"AJ34/(AL4-AJ25)","v":0},{"$f":"IF(AK34=0,0,(AK34*((LOG(AK34))/LOG(2))))","v":0},null,{"$f":"N34","v":22122},{"$f":"COUNTIF(L132:L162,AN34)","v":0},{"$f":"AO34/(AQ4-AO25)","v":0},{"$f":"IF(AP34=0,0,(AP34*((LOG(AP34))/LOG(2))))","v":0},null,{"$f":"N34","v":22122},{"$f":"COUNTIF(L163:L193,AS34)","v":0},{"$f":"AT34/(AV4-AT25)","v":0},{"$f":"IF(AU34=0,0,(AU34*((LOG(AU34))/LOG(2))))","v":0}]
[12,3679,13,3684,13,3688,14,3692,13,3697,0,11111,null,22211,{"$f":"COUNTIF($L$7:$L$500,N35)","v":0},{"$f":"O35/$Q$4","v":0},{"$f":"IF(P35=0,0,(P35*((LOG(P35))/LOG(2))))","v":0},null,null,{"$f":"N35","v":22211},{"$f":"COUNTIF(L7:L37,T35)","v":0},{"$f":"U35/(W4-U25)","v":0},{"$f":"IF(V35=0,0,(V35*((LOG(V35))/LOG(2))))","v":0},null,{"$f":"N35","v":22211},{"$f":"COUNTIF(L38:L68,Y35)","v":0},{"$f":"Z35/(AB4-Z25)","v":0},{"$f":"IF(AA35=0,0,(AA35*((LOG(AA35))/LOG(2))))","v":0},null,{"$f":"N35","v":22211},{"$f":"COUNTIF(L69:L100,AD35)","v":0},{"$f":"AE35/(AG4-AE25)","v":0},{"$f":"IF(AF35=0,0,(AF35*((LOG(AF35))/LOG(2))))","v":0},null,{"$f":"N35","v":22211},{"$f":"COUNTIF(L101:L131,AI35)","v":0},{"$f":"AJ35/(AL4-AJ25)","v":0},{"$f":"IF(AK35=0,0,(AK35*((LOG(AK35))/LOG(2))))","v":0},null,{"$f":"N35","v":22211},{"$f":"COUNTIF(L132:L162,AN35)","v":0},{"$f":"AO35/(AQ4-AO25)","v":0},{"$f":"IF(AP35=0,0,(AP35*((LOG(AP35))/LOG(2))))","v":0},null,{"$f":"N35","v":22211},{"$f":"COUNTIF(L163:L193,AS35)","v":0},{"$f":"AT35/(AV4-AT25)","v":0},{"$f":"IF(AU35=0,0,(AU35*((LOG(AU35))/LOG(2))))","v":0}]
[12,3797,13,3801,13,3805,14,3810,13,3820,0,11111,null,22212,{"$f":"COUNTIF($L$7:$L$500,N36)","v":0},{"$f":"O36/$Q$4","v":0},{"$f":"IF(P36=0,0,(P36*((LOG(P36))/LOG(2))))","v":0},null,null,{"$f":"N36","v":22212},{"$f":"COUNTIF(L7:L37,T36)","v":0},{"$f":"U36/(W4-U25)","v":0},{"$f":"IF(V36=0,0,(V36*((LOG(V36))/LOG(2))))","v":0},null,{"$f":"N36","v":22212},{"$f":"COUNTIF(L38:L68,Y36)","v":0},{"$f":"Z36/(AB4-Z25)","v":0},{"$f":"IF(AA36=0,0,(AA36*((LOG(AA36))/LOG(2))))","v":0},null,{"$f":"N36","v":22212},{"$f":"COUNTIF(L69:L100,AD36)","v":0},{"$f":"AE36/(AG4-AE25)","v":0},{"$f":"IF(AF36=0,0,(AF36*((LOG(AF36))/LOG(2))))","v":0},null,{"$f":"N36","v":22212},{"$f":"COUNTIF(L101:L131,AI36)","v":0},{"$f":"AJ36/(AL4-AJ25)","v":0},{"$f":"IF(AK36=0,0,(AK36*((LOG(AK36))/LOG(2))))","v":0},null,{"$f":"N36","v":22212},{"$f":"COUNTIF(L132:L162,AN36)","v":0},{"$f":"AO36/(AQ4-AO25)","v":0},{"$f":"IF(AP36=0,0,(AP36*((LOG(AP36))/LOG(2))))","v":0},null,{"$f":"N36","v":22212},{"$f":"COUNTIF(L163:L193,AS36)","v":0},{"$f":"AT36/(AV4-AT25)","v":0},{"$f":"IF(AU36=0,0,(AU36*((LOG(AU36))/LOG(2))))","v":0}]
[12,3927,13,3931,13,3935,14,3940,13,3945,0,11111,null,22221,{"$f":"COUNTIF($L$7:$L$500,N37)","v":0},{"$f":"O37/$Q$4","v":0},{"$f":"IF(P37=0,0,(P37*((LOG(P37))/LOG(2))))","v":0},null,null,{"$f":"N37","v":22221},{"$f":"COUNTIF(L7:L37,T37)","v":0},{"$f":"U37/(W4-U25)","v":0},{"$f":"IF(V37=0,0,(V37*((LOG(V37))/LOG(2))))","v":0},null,{"$f":"N37","v":22221},{"$f":"COUNTIF(L38:L68,Y37)","v":0},{"$f":"Z37/(AB4-Z25)","v":0},{"$f":"IF(AA37=0,0,(AA37*((LOG(AA37))/LOG(2))))","v":0},null,{"$f":"N37","v":22221},{"$f":"COUNTIF(L69:L100,AD37)","v":0},{"$f":"AE37/(AG4-AE25)","v":0},{"$f":"IF(AF37=0,0,(AF37*((LOG(AF37))/LOG(2))))","v":0},null,{"$f":"N37","v":22221},{"$f":"COUNTIF(L101:L131,AI37)","v":0},{"$f":"AJ37/(AL4-AJ25)","v":0},{"$f":"IF(AK37=0,0,(AK37*((LOG(AK37))/LOG(2))))","v":0},null,{"$f":"N37","v":22221},{"$f":"COUNTIF(L132:L162,AN37)","v":0},{"$f":"AO37/(AQ4-AO25)","v":0},{"$f":"IF(AP37=0,0,(AP37*((LOG(AP37))/LOG(2))))","v":0},null,{"$f":"N37","v":22221},{"$f":"COUNTIF(L163:L193,AS37)","v":0},{"$f":"AT37/(AV4-AT25)","v":0},{"$f":"IF(AU37=0,0,(AU37*((LOG(AU37))/LOG(2))))","v":0}]
[12,4050,13,4054,13,4058,14,4063,13,4069,1,11111,null,22222,{"$f":"COUNTIF($L$7:$L$500,N38)","v":14},{"$f":"O38/$Q$4","v":7.4866310160427801E-2},{"$f":"IF(P38=0,0,(P38*((LOG(P38))/LOG(2))))","v":-0.27996552689636611},null,null,{"$f":"N38","v":22222},{"$f":"COUNTIF(L7:L37,T38)","v":1},{"$f":"U38/(W4-U25)","v":3.2258064516129031E-2},{"$f":"IF(V38=0,0,(V38*((LOG(V38))/LOG(2))))","v":-0.15981278420602821},null,{"$f":"N38","v":22222},{"$f":"COUNTIF(L38:L68,Y38)","v":1},{"$f":"Z38/(AB4-Z25)","v":3.2258064516129031E-2},{"$f":"IF(AA38=0,0,(AA38*((LOG(AA38))/LOG(2))))","v":-0.15981278420602821},null,{"$f":"N38","v":22222},{"$f":"COUNTIF(L69:L100,AD38)","v":3},{"$f":"AE38/(AG4-AE25)","v":9.375E-2},{"$f":"IF(AF38=0,0,(AF38*((LOG(AF38))/LOG(2))))","v":-0.32015976555739156},null,{"$f":"N38","v":22222},{"$f":"COUNTIF(L101:L131,AI38)","v":6},{"$f":"AJ38/(AL4-AJ25)","v":0.19354838709677419},{"$f":"IF(AK38=0,0,(AK38*((LOG(AK38))/LOG(2))))","v":-0.45856138251594558},null,{"$f":"N38","v":22222},{"$f":"COUNTIF(L132:L162,AN38)","v":1},{"$f":"AO38/(AQ4-AO25)","v":3.2258064516129031E-2},{"$f":"IF(AP38=0,0,(AP38*((LOG(AP38))/LOG(2))))","v":-0.15981278420602821},null,{"$f":"N38","v":22222},{"$f":"COUNTIF(L163:L193,AS38)","v":2},{"$f":"AT38/(AV4-AT25)","v":6.4516129032258063E-2},{"$f":"IF(AU38=0,0,(AU38*((LOG(AU38))/LOG(2))))","v":-0.25510943937979835}]
[12,4164,13,4169,13,4174,14,4178,13,4183,0,11111,null,null,null,{"$f":"SUM(P7:P38)","v":1},{"$f":"-SUM(Q7:Q38)","v":0.43127677690599336},null,null,null,null,{"$f":"SUM(V7:V38)","v":0.99999999999999989},{"$f":"-SUM(W7:W38)","v":0.40963344397721102},null,null,null,{"$f":"SUM(AA7:AA38)","v":1},{"$f":"-SUM(AB7:AB38)","v":0.20559250818508301},null,null,null,{"$f":"SUM(AF7:AF38)","v":1},{"$f":"-SUM(AG7:AG38)","v":0.44886448872302931},null,null,null,{"$f":"SUM(AK7:AK38)","v":1},{"$f":"-SUM(AL7:AL38)","v":0.7088356733321961},null,null,null,{"$f":"SUM(AP7:AP38)","v":1},{"$f":"-SUM(AQ7:AQ38)","v":0.20559250818508301},null,null,null,{"$f":"SUM(AU7:AU38)","v":1},{"$f":"-SUM(AV7:AV38)","v":0.3451173149449529}]
[12,4296,13,4300,13,4305,14,4314,13,4319,0,11111,null,null,null,"U=",{"$f":"Q39/(LOG(Q4)/LOG(2))","v":5.7146257867824284E-2},null,null,null,null,"U1=",{"$f":"W39/(LOG(W4)/LOG(2))","v":8.2684136500279823E-2},null,null,null,"U2=",{"$f":"AB39/(LOG(AB4)/LOG(2))","v":4.1498659985281898E-2},null,null,null,"U3=",{"$f":"AG39/(LOG(AG4)/LOG(2))","v":8.9772897744605867E-2},null,null,null,"U4=",{"$f":"AL39/(LOG(AL4)/LOG(2))","v":0.14307783319891151},null,null,null,"U5=",{"$f":"AQ39/(LOG(AQ4)/LOG(2))","v":4.1498659985281898E-2},null,null,null,"U6=",{"$f":"AV39/(LOG(AV4)/LOG(2))","v":6.9661614785305623E-2}]
[12,4424,13,4429,13,4433,14,4442,13,4446,0,11111]
[12,4550,13,4559,13,4564,14,4569,13,4585,0,11111]
[12,4695,13,4704,13,4708,14,4712,13,4718,0,11111,null,"Total Target Seq"]
[12,4823,13,4828,13,4832,14,4840,13,4848,1,11111,null,{"$f":"COUNTIF(L7:L193,G3)","v":0},null,31,31,32,31,31,31]
[12,4945,13,4953,13,4958,14,4962,13,4980,0,11111,null,null,null,"% of reinforcement given in 6 equal intervals based on number of trials "]
[12,5085,13,5089,13,5093,14,5098,13,5102,0,11111,null,null,null,"%_1","%_2","%_3","%_4","%_5","%_6"]
[12,5209,13,5218,13,5222,14,5236,13,5246,0,11111,null,null,"target sequence",{"$f":"$G$3","v":21121},{"$f":"$G$3","v":21121},{"$f":"$G$3","v":21121},{"$f":"$G$3","v":21121},{"$f":"$G$3","v":21121},{"$f":"$G$3","v":21121}]
[12,5363,13,5371,13,5376,14,5382,13,5408,0,11111,null,null,"total reinforcement",{"$f":"U25","v":0},{"$f":"Z25","v":0},{"$f":"AE25","v":0},{"$f":"AJ25","v":0},{"$f":"AO25","v":0},{"$f":"AT25","v":0}]
[12,5509,13,5514,13,5518,14,5522,13,5527,0,11111,null,null,"% target"]
[12,5628,13,5633,13,5637,14,5641,13,5645,0,11111,null,null,"CCRF"]
[12,5747,13,5753,13,5762,14,5767,13,5772,0,11111,null,null,"% CCRf"]
[12,5873,13,5877,13,5881,14,5886,13,5891,0,11111,null,null,"average response rate",{"$f":"J37/P44","v":127.25806451612904},{"$f":"(J68-J37)/Q44","v":129.19354838709677},{"$f":"(J100-J68)/R44","v":130.0625},{"$f":"(J131-J100)/S44","v":128.25806451612902},{"$f":"(J162-J131)/T44","v":126.54838709677419},{"$f":"(J193-J162)/U44","v":127.2258064516129}]
[12,5991,13,5996,13,6000,14,6004,13,6009,1,11111]
[12,6108,13,6112,13,6116,14,6121,13,6126,0,11111]
[12,6229,13,6233,13,6237,14,6241,13,6256,0,11111]
[12,6365,13,6373,13,6381,14,6391,13,6396,0,11111]
[12,6501,13,6506,13,6510,14,6518,13,6524,0,11111]
[12,6634,13,6643,13,6651,14,6662,13,6671,0,11111]
[21,6784,22,6789,24,6794,23,6798,24,6803,1,22222]
[12,6909,13,6914,13,6917,14,6921,13,6926,0,11111]
[12,7026,13,7030,13,7034,14,7039,13,7043,0,11111]
[12,7166,13,7176,13,7181,14,7186,13,7198,0,11111]
[12,7304,13,7308,13,7313,14,7321,13,7328,0,11111]
[12,7436,13,7441,13,7446,14,7450,13,7455,0,11111]
[12,7559,13,7563,13,7567,14,7571,13,7576,0,11111]
[12,7679,13,7684,13,7688,14,7693,13,7698,0,11111]
[12,7803,13,7808,13,7812,14,7820,13,7826,0,11111]
[12,7932,13,7936,13,7940,14,7945,13,7950,0,11111]
[12,8050,13,8054,13,8058,14,8062,13,8070,0,11111]
[12,8177,13,8181,13,8185,14,8199,13,8206,1,11111]
[12,8309,13,8317,13,8322,14,8326,13,8331,0,11111]
[12,8431,13,8435,13,8439,14,8443,13,8447,0,11111]
[12,8554,13,8558,13,8562,14,8594,13,8600,0,11111]
[12,8705,13,8710,13,8714,14,8718,13,8723,0,11111]
[21,8864,22,8869,24,8876,23,8880,24,8885,0,22222]
[12,8987,13,8999,13,9003,14,9013,13,9019,0,11111]
[12,9127,13,9131,13,9135,14,9140,13,9153,0,11111]
[12,9257,13,9260,13,9265,14,9269,13,9278,0,11111]
[12,9397,13,9401,13,9406,14,9411,13,9425,0,11111]
[12,9535,13,9539,13,9544,14,9549,13,9567,0,11111]
[12,9668,13,9672,13,9676,14,9680,13,9685,1,11111]
[12,9781,13,9786,13,9790,14,9794,13,9806,0,11111]
[12,9916,13,9920,13,9924,14,9928,13,9934,0,11111]
[12,10040,13,10045,13,10049,14,10054,13,10059,0,11111]
[12,10164,13,10168,13,10172,14,10176,13,10182,0,11111]
[12,10287,13,10295,13,10299,14,10312,13,10322,0,11111]
[12,10424,13,10428,13,10433,14,10437,13,10442,1,11111]
[12,10540,13,10548,13,10552,14,10557,13,10562,0,11111]
[21,10665,22,10670,24,10675,23,10680,24,10688,1,22222]
[12,10789,13,10793,13,10797,14,10810,13,10816,0,11111]
[12,10917,13,10921,13,10925,14,10929,13,10934,0,11111]
[12,11037,13,11041,13,11046,14,11050,13,11064,1,11111]
[12,11159,13,11165,13,11169,14,11174,13,11179,0,11111]
[12,11291,13,11295,13,11299,14,11304,13,11309,0,11111]
[12,11415,13,11420,13,11424,14,11433,13,11441,1,11111]
[12,11560,13,11572,13,11591,14,11596,13,11615,0,11111]
[12,11725,13,11730,13,11734,14,11738,13,11744,0,11111]
[12,11844,13,11848,13,11852,14,11856,13,11861,0,11111]
[21,11970,22,11975,24,11980,23,11985,24,11991,1,22222]
[12,12093,13,12098,13,12102,14,12107,13,12112,0,11111]
[12,12214,13,12218,13,12223,14,12227,13,12231,0,11111]
[12,12333,13,12337,13,12341,14,12345,13,12350,0,11111]
[21,12460,22,12465,24,12471,23,12476,24,12484,1,22222]
[12,12596,13,12601,13,12605,14,12609,13,12618,0,11111]
[12,12732,13,12737,13,12742,14,12751,13,12757,0,11111]
[21,12884,22,12889,24,12894,23,12898,24,12905,0,22222]
[12,13010,13,13014,13,13018,14,13023,13,13032,1,11111]
[21,13139,22,13144,24,13152,23,13156,24,13164,0,22222]
[12,13263,13,13268,13,13272,14,13276,13,13280,0,11111]
[12,13379,13,13388,13,13392,14,13400,13,13405,0,11111]
[12,13512,13,13520,13,13524,14,13529,13,13534,0,11111]
[12,13640,13,13643,13,13651,14,13660,13,13671,1,11111]
[12,13776,13,13781,13,13787,14,13792,13,13802,0,11111]
[21,13904,22,13912,24,13917,23,13922,24,13927,0,22222]
[21,14036,22,14041,24,14046,23,14054,24,14061,0,22222]
[12,14161,13,14166,13,14170,14,14174,13,14178,0,11111]
[21,14290,22,14294,24,14300,23,14305,24,14313,0,22222]
[12,14421,13,14430,13,14439,14,14445,13,14450,1,11111]
[12,14558,13,14563,13,14567,14,14573,13,14592,0,11111]
[12,14701,13,14706,13,14709,14,14714,13,14722,0,11111]
[12,14824,13,14828,13,14833,14,14839,13,14844,0,11111]
[12,14945,13,14949,13,14953,14,14957,13,14962,0,11111]
[12,15064,13,15068,13,15072,14,15077,13,15083,0,11111]
[12,15196,13,15201,13,15204,14,15208,13,15213,0,11111]
[12,15314,13,15318,13,15322,14,15326,13,15331,0,11111]
[12,15436,13,15441,13,15445,14,15451,13,15456,0,11111]
[12,15563,13,15567,13,15572,14,15578,13,15588,1,11111]
[12,15690,13,15694,13,15699,14,15704,13,15708,1,11111]
[12,15808,13,15813,13,15817,14,15822,13,15831,0,11111]
[12,15942,13,15947,13,15952,14,15956,13,15961,0,11111]
[12,16064,13,16069,13,16073,14,16078,13,16088,0,11111]
[12,16189,13,16195,13,16199,14,16203,13,16208,0,11111]
[12,16315,13,16319,13,16323,14,16332,13,16337,0,11111]
[12,16437,13,16442,13,16446,14,16451,13,16456,1,11111]
[12,16560,13,16565,13,16574,14,16578,13,16583,0,11111]
[12,16684,13,16689,13,16693,14,16698,13,16702,0,11111]
[12,16804,13,16808,13,16812,14,16816,13,16824,0,11111]
[12,16931,13,16935,13,16940,14,16945,13,16955,0,11111]
[12,17057,13,17061,13,17066,14,17070,13,17078,0,11111]
[12,17182,13,17187,13,17191,14,17196,13,17202,1,11111]
[12,17309,13,17317,13,17322,14,17328,13,17349,0,11111]
[12,17451,13,17456,13,17461,14,17465,13,17469,0,11111]
[12,17575,13,17588,13,17598,14,17608,13,17613,0,11111]
[12,17728,13,17733,13,17738,14,17743,13,17752,0,11111]
[12,17855,13,17860,13,17864,14,17875,13,17881,0,11111]
[12,17987,13,17992,13,17996,14,18001,13,18005,0,11111]
[12,18107,13,18112,13,18116,14,18121,13,18125,0,11111]
[12,18229,13,18233,13,18237,14,18242,13,18251,0,11111]
[12,18351,13,18355,13,18359,14,18368,13,18373,0,11111]
[12,18475,13,18480,13,18484,14,18488,13,18493,0,11111]
[12,18593,13,18597,13,18602,14,18606,13,18612,1,11111]
[12,18717,13,18723,13,18728,14,18733,13,18739,0,11111]
[12,18859,13,18865,13,18869,14,18879,13,18884,0,11111]
[21,18998,22,19004,24,19012,23,19017,24,19024,0,22222]
[12,19128,13,19132,13,19137,14,19141,13,19147,0,11111]
[12,19247,13,19253,13,19260,14,19264,13,19270,0,11111]
[12,19372,13,19377,13,19381,14,19385,13,19390,0,11111]
[12,19507,13,19511,13,19516,14,19520,13,19526,0,11111]
[12,19627,13,19631,13,19635,14,19640,13,19645,0,11111]
[12,19747,13,19752,13,19756,14,19761,13,19766,0,11111]
[12,19871,13,19876,13,19880,14,19885,13,19892,0,11111]
[12,19996,13,20000,13,20003,14,20008,13,20011,0,11111]
[12,20111,13,20116,13,20123,14,20126,13,20131,1,11111]
[12,20235,13,20240,13,20244,14,20248,13,20262,0,11111]
[12,20373,13,20378,13,20388,14,20394,13,20405,0,11111]
[12,20511,13,20515,13,20520,14,20525,13,20531,0,11111]
[12,20633,13,20637,13,20642,14,20647,13,20652,1,11111]
[12,20764,13,20769,13,20774,14,20779,13,20785,0,11111]
[12,20893,13,20897,13,20902,14,20907,13,20911,1,11111]
[12,21014,13,21021,13,21025,14,21030,13,21035,1,11111]
[12,21134,13,21139,13,21144,14,21150,13,21155,0,11111]
[12,21270,13,21280,13,21284,14,21289,13,21293,0,11111]
[12,21397,13,21401,13,21405,14,21410,13,21418,0,11111]
[12,21520,13,21524,13,21530,14,21537,13,21546,0,11111]
[12,21646,13,21650,13,21655,14,21659,13,21663,0,11111]
[21,21766,22,21771,24,21775,23,21780,24,21788,0,22222]
[12,21890,13,21895,13,21900,14,21906,13,21911,1,11111]
[12,22011,13,22015,13,22020,14,22024,13,22038,0,11111]
[12,22147,13,22152,13,22159,14,22163,13,22168,0,11111]
[21,22274,22,22279,24,22283,23,22289,24,22293,0,22222]
[12,22399,13,22404,13,22408,14,22414,13,22420,0,11111]
[12,22526,13,22531,13,22535,14,22540,13,22545,1,11111]
[12,22651,13,22655,13,22659,14,22664,13,22671,1,11111]
[12,22775,13,22779,13,22783,14,22788,13,22793,0,11111]
[12,22892,13,22898,13,22902,14,22906,13,22928,0,11111]
[12,23032,13,23037,13,23042,14,23046,13,23051,0,11111]
[12,23151,13,23155,13,23159,14,23163,13,23167,0,11111]
[12,23269,13,23289,13,23299,14,23304,13,23311,0,11111]
[12,23407,13,23412,13,23416,14,23420,13,23424,1,11111]
[12,23527,13,23537,13,23542,14,23553,13,23572,0,11111]
[12,23684,13,23690,13,23695,14,23704,13,23718,0,11111]
[12,23824,13,23828,13,23832,14,23836,13,23841,0,11111]
[12,23938,13,23943,13,23947,14,23951,13,23955,null,11111]